{"text_format":"1","workbook":"xlsx","n_sheets":33,"sheets":["Sample Report","Summary","Start","!MA0294T.AYL","!MA0394T.AYL","!MA04A5T.AYL","!MA05A0T.AYL","!MA0685T.AYL","!MA0791T.AYL","!MA08A5T.AYL","!MA0992T.AYL","!MA10A3T.AYL","!MA11B0T.AYL","!MA1291T.AYL","!MA13A3T.AYL","!MA14A0T.AYL","!MA15A4T.AYL","!MA1692T.AYL","!MA17B1T.AYL","!MA18A3T.AYL","!MA1994T.AYL","!MA2092T.AYL","!MA2194T.AYL","!MA22B0T.AYL","!MA23B1T.AYL","!MA24A4T.AYL","!MA25A3T.AYL","!MA26A5T.AYL","!MA27A2T.AYL","!MA28A3T.AYL","!MA29A4T.AYL","!MA30A0T.AYL","!MA31A2T.AYL"],"not_rendered":{"charts":0,"images":0,"macros":1,"external_links":0,"defined_names":0,"comments":0,"pivot_tables":0},"unopened":[],"bounds":{"document_bytes":16777216,"sheet_cells":100000,"rows_first":2000,"rows_last":500,"rows_between":2000,"halvings":0,"cell_chars":16384,"cell_head_chars":4096},"cells_cut":0,"cells_raw":0,"read":"whole","date_system":"1900"}

{"sheet":"Sample Report","index":0,"n_rows":12,"n_cols":11,"rows_kept":12,"cut":false,"hidden":true,"merged":[[7,0,7,6]]}
[]
["Date"]
["Hen"]
["Program"]
["Start at 999999"]
["Sequence component 1","Time 1","Seqeunce Component 2","Time 2","Seqeunce Component 3","Time 3","Correct   0 = No 1=Yes",null,null,"Seqeunce","Time"]
[12,7,12,42,13,18,"if 77 new line,                                  if 31 or 41 = yes new line on 77, ",null,null,"=string of Seqeunce compponent 1, 2 & 3","=time 3"]
["This continues until ther is a 1 on its own to indicate start of summary data"]
[null,null,null,null,null,null,null,null,null,"10-19 =1"]
["Summary Data ",null,null,null,null,null,null,null,null,"20-29 =2"]
["Correct","Incorrect","Rft","total","Av Correct","Av Incorrect","Percent correct","Time",null,"in this example the seqeunce would be 111"]
[40,33,40,73,23.95,15,54,806]

{"sheet":"Summary","index":1,"n_rows":32,"n_cols":24,"rows_kept":32,"cut":false,"hidden":false,"merged":[]}
[]
["Day","Date","Average Response Rate","Target %","RF for non correct sequence","U Value",null,null,null,null,"Block 1","Block 2","Block 3","Block 4","Block 5","Block 6"]
[1,{"$f":"'!MA0294T.AYL'!B2:C2","v":"<date>"},{"$f":"('!MA0294T.AYL'!F198/60)/'!MA0294T.AYL'!Q3","v":2.0758680555555555},{"$f":"'!MA0294T.AYL'!N20/'!MA0294T.AYL'!Q3","v":8.3333333333333329E-2},{"$f":"SUM('!MA0294T.AYL'!L20:Q20)/'!MA0294T.AYL'!Q3","v":1.5729166666666667},{"$f":"'!MA0294T.AYL'!Q16","v":0.30688594197711422},null,null,null,"Average Response Rate",{"$f":"AVERAGE(C3:C7)","v":2.1089648673265158},{"$f":"AVERAGE(C8:C12)","v":1.919264101097395},{"$f":"AVERAGE(C13:C17)","v":2.3777977909420223},{"$f":"AVERAGE(C18:C22)","v":2.8641687593076126},{"$f":"AVERAGE(C23:C27)","v":2.9401752075065239},{"$f":"AVERAGE(C28:C32)","v":2.2845089694792646}]
[2,{"$f":"'!MA0394T.AYL'!B2:C2","v":"<date>"},{"$f":"('!MA0394T.AYL'!F196/60)/'!MA0394T.AYL'!Q3","v":2.1037719298245614},{"$f":"'!MA0394T.AYL'!N20/'!MA0394T.AYL'!Q3","v":0.17894736842105263},{"$f":"SUM('!MA0394T.AYL'!L20:Q20)/'!MA0394T.AYL'!Q3","v":1.6210526315789473},{"$f":"'!MA0394T.AYL'!Q16","v":0.29020938633271182},null,null,null,"Target %",{"$f":"AVERAGE(D3:D7)","v":0.12693404634581101},{"$f":"AVERAGE(D8:D12)","v":0.20768199757101705},{"$f":"AVERAGE(D13:D17)","v":0.1918318993526173},{"$f":"AVERAGE(D18:D22)","v":0.28154952127686228},{"$f":"AVERAGE(D23:D27)","v":0.30824655449803368},{"$f":"AVERAGE(D28:D32)","v":0.46718625434669991}]
[3,{"$f":"'!MA04A5T.AYL'!B2:C2","v":"<date>"},{"$f":"('!MA04A5T.AYL'!F196/60)/'!MA04A5T.AYL'!Q3","v":2.1035087719298247},{"$f":"'!MA04A5T.AYL'!N20/'!MA04A5T.AYL'!Q3","v":0.12105263157894737},{"$f":"SUM('!MA04A5T.AYL'!L20:Q20)/'!MA04A5T.AYL'!Q3","v":1.0368421052631578},{"$f":"'!MA04A5T.AYL'!Q16","v":0.29776274862326874},null,null,null,"CCRF",{"$f":"AVERAGE(E3:E7)","v":1.4910820667980111},{"$f":"AVERAGE(E8:E12)","v":1.8401543623750087},{"$f":"AVERAGE(E13:E17)","v":1.5350786927076403},{"$f":"AVERAGE(E18:E22)","v":2.2092066338564309},{"$f":"AVERAGE(E23:E27)","v":2.3218588016686419},{"$f":"AVERAGE(E28:E32)","v":3.3614447484420125}]
[4,{"$f":"'!MA05A0T.AYL'!B2:C2","v":"<date>"},{"$f":"('!MA05A0T.AYL'!F193/60)/'!MA05A0T.AYL'!Q3","v":2.1303030303030304},{"$f":"'!MA05A0T.AYL'!N20/'!MA05A0T.AYL'!Q3","v":0.15508021390374332},{"$f":"SUM('!MA05A0T.AYL'!L20:Q20)/'!MA05A0T.AYL'!Q3","v":1.6684491978609626},{"$f":"'!MA05A0T.AYL'!Q16","v":0.26296311415561779},null,null,null,"U Value",{"$f":"AVERAGE(F3:F7)","v":0.27739326371752393},{"$f":"AVERAGE(F8:F12)","v":0.29092133365800421},{"$f":"AVERAGE(F13:F17)","v":0.2965210196002126},{"$f":"AVERAGE(F18:F22)","v":0.26106379099371307},{"$f":"AVERAGE(F23:F27)","v":0.25245059508528156},{"$f":"AVERAGE(F28:F32)","v":0.241478872263863}]
[5,{"$f":"'!MA0685T.AYL'!B2:C2","v":"<date>"},{"$f":"('!MA0685T.AYL'!F193/60)/'!MA0685T.AYL'!Q3","v":2.1313725490196078},{"$f":"'!MA0685T.AYL'!N20/'!MA0685T.AYL'!Q3","v":9.6256684491978606E-2},{"$f":"SUM('!MA0685T.AYL'!L20:Q20)/'!MA0685T.AYL'!Q3","v":1.5561497326203209},{"$f":"'!MA0685T.AYL'!Q16","v":0.22914512749890709}]
[6,{"$f":"'!MA0791T.AYL'!B2:C2","v":"<date>"},{"$f":"('!MA0791T.AYL'!F196/60)/'!MA0791T.AYL'!Q3","v":2.1040350877192981},{"$f":"'!MA0791T.AYL'!N20/'!MA0791T.AYL'!Q3","v":0.15263157894736842},{"$f":"SUM('!MA0791T.AYL'!L20:Q20)/'!MA0791T.AYL'!Q3","v":1.5947368421052632},{"$f":"'!MA0791T.AYL'!Q16","v":0.29426036694547791}]
[7,{"$f":"'!MA08A5T.AYL'!B2:C2","v":"<date>"},{"$f":"('!MA08A5T.AYL'!F260/60)/'!MA08A5T.AYL'!Q3","v":0},{"$f":"'!MA08A5T.AYL'!N20/'!MA08A5T.AYL'!Q3","v":7.874015748031496E-2},{"$f":"SUM('!MA08A5T.AYL'!L20:Q20)/'!MA08A5T.AYL'!Q3","v":1.2480314960629921},{"$f":"'!MA08A5T.AYL'!Q16","v":0.32618149152216186},{"$f":"K3","v":2.1089648673265158},{"$f":"L3","v":1.919264101097395},2.3777977909420223,2.8641687593076126,2.9401752075065239,2.2845089694792646,{"$f":"K4","v":0.12693404634581101},{"$f":"L4","v":0.20768199757101705},0.1918318993526173,0.28154952127686228,0.30824655449803368,0.46718625434669991,{"$f":"K6","v":0.27739326371752393},{"$f":"L6","v":0.29092133365800421},0.2965210196002126,0.26106379099371307,0.25245059508528156,0.241478872263863]
[8,{"$f":"'!MA0992T.AYL'!B2:C2","v":"<date>"},{"$f":"('!MA0992T.AYL'!F170/60)/'!MA0992T.AYL'!Q3","v":2.3971544715447153},{"$f":"'!MA0992T.AYL'!N20/'!MA0992T.AYL'!Q3","v":0.24390243902439024},{"$f":"SUM('!MA0992T.AYL'!L20:Q20)/'!MA0992T.AYL'!Q3","v":1.9268292682926829},{"$f":"'!MA0992T.AYL'!Q16","v":0.26540883083216155}]
[9,{"$f":"'!MA10A3T.AYL'!B2:C2","v":"<date>"},{"$f":"('!MA10A3T.AYL'!F133/60)/'!MA10A3T.AYL'!Q3","v":2.1816272965879264},{"$f":"'!MA10A3T.AYL'!N20/'!MA10A3T.AYL'!Q3","v":0.31496062992125984},{"$f":"SUM('!MA10A3T.AYL'!L20:Q20)/'!MA10A3T.AYL'!Q3","v":2.3070866141732282},{"$f":"'!MA10A3T.AYL'!Q16","v":0.27860160386789151}]
[10,{"$f":"'!MA11B0T.AYL'!B2:C2","v":"<date>"},{"$f":"('!MA11B0T.AYL'!F143/60)/'!MA11B0T.AYL'!Q3","v":2.9135036496350364},{"$f":"'!MA11B0T.AYL'!N20/'!MA11B0T.AYL'!Q3","v":0.24817518248175183},{"$f":"SUM('!MA11B0T.AYL'!L20:Q20)/'!MA11B0T.AYL'!Q3","v":2.1240875912408761},{"$f":"'!MA11B0T.AYL'!Q16","v":0.29015437512232817}]
[11,{"$f":"'!MA1291T.AYL'!B2:C2","v":"<date>"},{"$f":"('!MA1291T.AYL'!F177/60)/'!MA1291T.AYL'!Q3","v":2.3366471734892786},{"$f":"'!MA1291T.AYL'!N20/'!MA1291T.AYL'!Q3","v":0.14035087719298245},{"$f":"SUM('!MA1291T.AYL'!L20:Q20)/'!MA1291T.AYL'!Q3","v":1.1871345029239766},{"$f":"'!MA1291T.AYL'!Q16","v":0.3299566635075688}]
[12,{"$f":"'!MA13A3T.AYL'!B2:C2","v":"<date>"},{"$f":"('!MA13A3T.AYL'!F163/60)/'!MA13A3T.AYL'!Q3","v":2.2419320594479832},{"$f":"'!MA13A3T.AYL'!N20/'!MA13A3T.AYL'!Q3","v":0.25477707006369427},{"$f":"SUM('!MA13A3T.AYL'!L20:Q20)/'!MA13A3T.AYL'!Q3","v":1.9936305732484076},{"$f":"'!MA13A3T.AYL'!Q16","v":0.37179347954321768}]
[13,{"$f":"'!MA14A0T.AYL'!B2:C2","v":"<date>"},{"$f":"('!MA14A0T.AYL'!F185/60)/'!MA14A0T.AYL'!Q3","v":2.2310986964618249},{"$f":"'!MA14A0T.AYL'!N20/'!MA14A0T.AYL'!Q3","v":8.9385474860335198E-2},{"$f":"SUM('!MA14A0T.AYL'!L20:Q20)/'!MA14A0T.AYL'!Q3","v":1.0446927374301676},{"$f":"'!MA14A0T.AYL'!Q16","v":0.2531918092320114}]
[14,{"$f":"'!MA15A4T.AYL'!B2:C2","v":"<date>"},{"$f":"('!MA15A4T.AYL'!F117/60)/'!MA15A4T.AYL'!Q3","v":2.8015015015015012},{"$f":"'!MA15A4T.AYL'!N20/'!MA15A4T.AYL'!Q3","v":0.36036036036036034},{"$f":"SUM('!MA15A4T.AYL'!L20:Q20)/'!MA15A4T.AYL'!Q3","v":1.7927927927927927},{"$f":"'!MA15A4T.AYL'!Q16","v":0.25069820377329843}]
[15,{"$f":"'!MA1692T.AYL'!B2:C2","v":"<date>"},{"$f":"('!MA1692T.AYL'!F181/60)/'!MA1692T.AYL'!Q3","v":2.2778095238095237},{"$f":"'!MA1692T.AYL'!N20/'!MA1692T.AYL'!Q3","v":0.11428571428571428},{"$f":"SUM('!MA1692T.AYL'!L20:Q20)/'!MA1692T.AYL'!Q3","v":1.6571428571428573},{"$f":"'!MA1692T.AYL'!Q16","v":0.27696494194496662}]
[16,{"$f":"'!MA17B1T.AYL'!B2:C2","v":"<date>"},{"$f":"('!MA17B1T.AYL'!F148/60)/'!MA17B1T.AYL'!Q3","v":2.6252347417840376},{"$f":"'!MA17B1T.AYL'!N20/'!MA17B1T.AYL'!Q3","v":0.28169014084507044},{"$f":"SUM('!MA17B1T.AYL'!L20:Q20)/'!MA17B1T.AYL'!Q3","v":2.0985915492957745},{"$f":"'!MA17B1T.AYL'!Q16","v":0.28438328482899439}]
[17,{"$f":"'!MA18A3T.AYL'!B2:C2","v":"<date>"},{"$f":"('!MA18A3T.AYL'!F161/60)/'!MA18A3T.AYL'!Q3","v":2.5780645161290323},{"$f":"'!MA18A3T.AYL'!N20/'!MA18A3T.AYL'!Q3","v":0.22580645161290322},{"$f":"SUM('!MA18A3T.AYL'!L20:Q20)/'!MA18A3T.AYL'!Q3","v":1.2774193548387096},{"$f":"'!MA18A3T.AYL'!Q16","v":0.23922217654917063}]
[18,{"$f":"'!MA1994T.AYL'!B2:C2","v":"<date>"},{"$f":"('!MA1994T.AYL'!F97/60)/'!MA1994T.AYL'!Q3","v":4.0309782608695652},{"$f":"'!MA1994T.AYL'!N20/'!MA1994T.AYL'!Q3","v":0.31521739130434784},{"$f":"SUM('!MA1994T.AYL'!L20:Q20)/'!MA1994T.AYL'!Q3","v":3.0652173913043477},{"$f":"'!MA1994T.AYL'!Q16","v":0.26190221042017414}]
[19,{"$f":"'!MA2092T.AYL'!B2:C2","v":"<date>"},{"$f":"('!MA2092T.AYL'!F133/60)/'!MA2092T.AYL'!Q3","v":2.1692913385826773},{"$f":"'!MA2092T.AYL'!N20/'!MA2092T.AYL'!Q3","v":0.31496062992125984},{"$f":"SUM('!MA2092T.AYL'!L20:Q20)/'!MA2092T.AYL'!Q3","v":2.3858267716535435},{"$f":"'!MA2092T.AYL'!Q16","v":0.24980393585109892}]
[20,{"$f":"'!MA2194T.AYL'!B2:C2","v":"<date>"},{"$f":"('!MA2194T.AYL'!F143/60)/'!MA2194T.AYL'!Q3","v":2.9172749391727497},{"$f":"'!MA2194T.AYL'!N20/'!MA2194T.AYL'!Q3","v":0.27007299270072993},{"$f":"SUM('!MA2194T.AYL'!L20:Q20)/'!MA2194T.AYL'!Q3","v":2.218978102189781},{"$f":"'!MA2194T.AYL'!Q16","v":0.2700073473191274}]
[21,{"$f":"'!MA22B0T.AYL'!B2:C2","v":"<date>"},{"$f":"('!MA22B0T.AYL'!F133/60)/'!MA22B0T.AYL'!Q3","v":2.3308398950131233},{"$f":"'!MA22B0T.AYL'!N20/'!MA22B0T.AYL'!Q3","v":0.31496062992125984},{"$f":"SUM('!MA22B0T.AYL'!L20:Q20)/'!MA22B0T.AYL'!Q3","v":2.3070866141732282},{"$f":"'!MA22B0T.AYL'!Q16","v":0.25504818380302519}]
[22,{"$f":"'!MA23B1T.AYL'!B2:C2","v":"<date>"},{"$f":"('!MA23B1T.AYL'!F139/60)/'!MA23B1T.AYL'!Q3","v":2.6278195488721803},{"$f":"'!MA23B1T.AYL'!N20/'!MA23B1T.AYL'!Q3","v":0.3007518796992481},{"$f":"SUM('!MA23B1T.AYL'!L20:Q20)/'!MA23B1T.AYL'!Q3","v":1.4736842105263157},{"$f":"'!MA23B1T.AYL'!Q16","v":0.24875242169168138}]
[23,{"$f":"'!MA24A4T.AYL'!B2:C2","v":"<date>"},{"$f":"('!MA24A4T.AYL'!F138/60)/'!MA24A4T.AYL'!Q3","v":2.5537878787878792},{"$f":"'!MA24A4T.AYL'!N20/'!MA24A4T.AYL'!Q3","v":0.30303030303030304},{"$f":"SUM('!MA24A4T.AYL'!L20:Q20)/'!MA24A4T.AYL'!Q3","v":2.2348484848484849},{"$f":"'!MA24A4T.AYL'!Q16","v":0.24475408618828004}]
[24,{"$f":"'!MA25A3T.AYL'!B2:C2","v":"<date>"},{"$f":"('!MA25A3T.AYL'!F89/60)/'!MA25A3T.AYL'!Q3","v":4.653012048192771},{"$f":"'!MA25A3T.AYL'!N20/'!MA25A3T.AYL'!Q3","v":0.28915662650602408},{"$f":"SUM('!MA25A3T.AYL'!L20:Q20)/'!MA25A3T.AYL'!Q3","v":3.1686746987951806},{"$f":"'!MA25A3T.AYL'!Q16","v":0.29363708607265454}]
[25,{"$f":"'!MA26A5T.AYL'!B2:C2","v":"<date>"},{"$f":"('!MA26A5T.AYL'!F126/60)/'!MA26A5T.AYL'!Q3","v":2.5354166666666669},{"$f":"'!MA26A5T.AYL'!N20/'!MA26A5T.AYL'!Q3","v":0.33333333333333331},{"$f":"SUM('!MA26A5T.AYL'!L20:Q20)/'!MA26A5T.AYL'!Q3","v":2.4249999999999998},{"$f":"'!MA26A5T.AYL'!Q16","v":0.22006119767076665}]
[26,{"$f":"'!MA27A2T.AYL'!B2:C2","v":"<date>"},{"$f":"('!MA27A2T.AYL'!F104/60)/'!MA27A2T.AYL'!Q3","v":2.2819727891156463},{"$f":"'!MA27A2T.AYL'!N20/'!MA27A2T.AYL'!Q3","v":0.40816326530612246},{"$f":"SUM('!MA27A2T.AYL'!L20:Q20)/'!MA27A2T.AYL'!Q3","v":3},{"$f":"'!MA27A2T.AYL'!Q16","v":0.22781106373791551}]
[27,{"$f":"'!MA28A3T.AYL'!B2:C2","v":"<date>"},{"$f":"('!MA28A3T.AYL'!F118/60)/'!MA28A3T.AYL'!Q3","v":2.263095238095238},{"$f":"'!MA28A3T.AYL'!N20/'!MA28A3T.AYL'!Q3","v":0.35714285714285715},{"$f":"SUM('!MA28A3T.AYL'!L20:Q20)/'!MA28A3T.AYL'!Q3","v":2.6607142857142856},{"$f":"'!MA28A3T.AYL'!Q16","v":0.24241765360460571}]
[28,{"$f":"'!MA29A4T.AYL'!B2:C2","v":"<date>"},{"$f":"('!MA29A4T.AYL'!F92/60)/'!MA29A4T.AYL'!Q3","v":2.2422480620155039},{"$f":"'!MA29A4T.AYL'!N20/'!MA29A4T.AYL'!Q3","v":0.46511627906976744},{"$f":"SUM('!MA29A4T.AYL'!L20:Q20)/'!MA29A4T.AYL'!Q3","v":3.3720930232558142},{"$f":"'!MA29A4T.AYL'!Q16","v":0.25766629349265896}]
[29,{"$f":"'!MA30A0T.AYL'!B2:C2","v":"<date>"},{"$f":"('!MA30A0T.AYL'!F69/60)/'!MA30A0T.AYL'!Q3","v":2.3277777777777779},{"$f":"'!MA30A0T.AYL'!N20/'!MA30A0T.AYL'!Q3","v":0.63492063492063489},{"$f":"SUM('!MA30A0T.AYL'!L20:Q20)/'!MA30A0T.AYL'!Q3","v":4.4920634920634921},{"$f":"'!MA30A0T.AYL'!Q16","v":0.24011156050683161}]
[30,{"$f":"'!MA31A2T.AYL'!B2:C2","v":"<date>"},{"$f":"('!MA31A2T.AYL'!F91/60)/'!MA31A2T.AYL'!Q3","v":2.3074509803921566},{"$f":"'!MA31A2T.AYL'!N20/'!MA31A2T.AYL'!Q3","v":0.47058823529411764},{"$f":"SUM('!MA31A2T.AYL'!L20:Q20)/'!MA31A2T.AYL'!Q3","v":3.2823529411764705},{"$f":"'!MA31A2T.AYL'!Q16","v":0.23938778997730309}]

{"sheet":"Start","index":2,"n_rows":36,"n_cols":10,"rows_kept":36,"cut":false,"hidden":false,"merged":[]}
[null,null,null,null,null,"Use Folder 51",null,"Auto Clean Up",null,"Correct sequence"]
[null,null,null,null,null,false,null,true,null,221]
[]
["Working with Folder",null,null,null,null,null,"Process All/Or Pick A number: ALL or an integer"]
["F:\\Possum Chapter\\Raw Data\\Taylor\\New Phase RRL Con\\",null,null,null,null,null,"ALL"]
["Filenames:"]
["!MA2092T.AYL",null,null,null,null,null,"Paint Cells"]
["!MA2194T.AYL",null,null,null,null,null,false]
["!MA22B0T.AYL"]
["!MA23B1T.AYL"]
["!MA24A4T.AYL"]
["!MA25A3T.AYL"]
["!MA26A5T.AYL"]
["!MA27A2T.AYL"]
["!MA28A3T.AYL"]
["!MA29A4T.AYL"]
["!MA30A0T.AYL"]
["!MA31A2T.AYL"]
["!MA0294T.AYL"]
["!MA0394T.AYL"]
["!MA04A5T.AYL"]
["!MA05A0T.AYL"]
["!MA0685T.AYL"]
["!MA0791T.AYL"]
["!MA08A5T.AYL"]
["!MA0992T.AYL"]
["!MA10A3T.AYL"]
["!MA11B0T.AYL"]
["!MA1291T.AYL"]
["!MA13A3T.AYL"]
["!MA14A0T.AYL"]
["!MA15A4T.AYL"]
["!MA1692T.AYL"]
["!MA17B1T.AYL"]
["!MA18A3T.AYL"]
["!MA1994T.AYL"]

{"sheet":"!MA0294T.AYL","index":3,"n_rows":198,"n_cols":48,"rows_kept":198,"cut":false,"hidden":false,"merged":[[4,39,4,42],[5,39,5,40],[4,44,4,47],[5,44,5,45],[4,24,4,27],[5,24,5,25],[4,29,4,32],[5,29,5,30],[4,34,4,37],[5,34,5,35],[1,1,1,2],[5,13,5,14],[18,13,18,14],[19,13,19,14],[4,19,4,22],[5,19,5,20]]}
["Report for:!MA0294T.AYL"]
["Date:","<date>"]
["Hen:","<hen>",null,null,null,"Correct Sequence",{"$f":"Start!J2","v":221},null,null,null,null,null,null,null,null,"Total Sequences in Data",{"$f":"4994-COUNTBLANK(L7:L5000)","v":192},null,null,null,null,"Total Sequences in Block Data",{"$f":"COUNTA(L7:L38)","v":32},null,null,null,"Total Sequences in Block Data",{"$f":"COUNTA(L39:L70)","v":32},null,null,null,"Total Sequences in Block Data",{"$f":"COUNTA(L71:L102)","v":32},null,null,null,"Total Sequences in Block Data",{"$f":"COUNTA(L103:L134)","v":32},null,null,null,"Total Sequences in Block Data",{"$f":"COUNTA(L135:L166)","v":32},null,null,null,"Total Sequences in Block Data",{"$f":"COUNTA(L167:L198)","v":32}]
[null,null,null,null,null,null,null,null,null,null,null,null,null,null,null,"Total Sequences in Summary",{"$f":"SUM(O7:O14)","v":192},null,null,null,null,"Total Sequences in Block Summary",{"$f":"SUM(U7:U14)","v":32},null,null,null,"Total Sequences in Block Summary",{"$f":"SUM(Z7:Z14)","v":32},null,null,null,"Total Sequences in Block Summary",{"$f":"SUM(AE7:AE14)","v":32},null,null,null,"Total Sequences in Block Summary",{"$f":"SUM(AJ7:AJ14)","v":32},null,null,null,"Total Sequences in Block Summary",{"$f":"SUM(AO7:AO14)","v":32},null,null,null,"Total Sequences in Block Summary",{"$f":"SUM(AT7:AT14)","v":32}]
[null,null,null,null,null,null,null,null,null,null,null,null,null,null,null,null,null,null,null,"Block 1",null,null,null,null,"Block 2",null,null,null,null,"Block 3",null,null,null,null,"Block 4",null,null,null,null,"Block 5",null,null,null,null,"Block 6"]
["Sequence\nComponent\n1","Time\n1","Sequence\nComponent\n2","Time\n2","Sequence\nComponent\n3","Time\n3","Sequence\nComponent\n4","Time\n4","Sequence\nComponent\n5","Time\n5","Correct?\n0=No 1=Yes","Sequence",null,"Frequency",null,"Relative Frequency","Variability",null,null,"Frequency",null,"Relative Frequency","Variability",null,"Frequency",null,"Relative Frequency","Variability",null,"Frequency",null,"Relative Frequency","Variability",null,"Frequency",null,"Relative Frequency","Variability",null,"Frequency",null,"Relative Frequency","Variability",null,"Frequency",null,"Relative Frequency","Variability"]
[21,14,21,19,22,33,null,null,null,null,0,222,null,111,{"$f":"COUNTIF($L$7:$L$500,N7)","v":44},{"$f":"O7/$Q$4","v":0.22916666666666666},{"$f":"IF(P7=0,0,(P7*((LOG(P7))/LOG(2))))","v":-0.4871008271442176},null,null,{"$f":"N7","v":111},{"$f":"COUNTIF(L7:L38,T7)","v":1},{"$f":"U7/(W4-U13)","v":3.125E-2},{"$f":"IF(V7=0,0,(V7*((LOG(V7))/LOG(2))))","v":-0.15625},null,{"$f":"N7","v":111},{"$f":"COUNTIF(L39:L70,Y7)","v":9},{"$f":"Z7/(AB4-Z13)","v":0.31034482758620691},{"$f":"IF(AA7=0,0,(AA7*((LOG(AA7))/LOG(2))))","v":-0.52387944631611505},null,{"$f":"N7","v":111},{"$f":"COUNTIF(L71:L102,AD7)","v":10},{"$f":"AE7/(AG4-AE13)","v":0.33333333333333331},{"$f":"IF(AF7=0,0,(AF7*((LOG(AF7))/LOG(2))))","v":-0.52832083357371862},null,{"$f":"N7","v":111},{"$f":"COUNTIF(L103:L134,AI7)","v":8},{"$f":"AJ7/(AL4-AJ13)","v":0.26666666666666666},{"$f":"IF(AK7=0,0,(AK7*((LOG(AK7))/LOG(2))))","v":-0.50850415882893829},null,{"$f":"N7","v":111},{"$f":"COUNTIF(L135:L166,AN7)","v":6},{"$f":"AO7/(AQ4-AO13)","v":0.22222222222222221},{"$f":"IF(AP7=0,0,(AP7*((LOG(AP7))/LOG(2))))","v":-0.48220555587606945},null,{"$f":"N7","v":111},{"$f":"COUNTIF(L167:L198,AS7)","v":10},{"$f":"AT7/(AV4-AT13)","v":0.35714285714285715},{"$f":"IF(AU7=0,0,(AU7*((LOG(AU7))/LOG(2))))","v":-0.53050958113222924}]
[12,130,23,140,24,144,null,null,null,null,0,122,null,112,{"$f":"COUNTIF($L$7:$L$500,N8)","v":3},{"$f":"O8/$Q$4","v":1.5625E-2},{"$f":"IF(P8=0,0,(P8*((LOG(P8))/LOG(2))))","v":-9.375E-2},null,null,{"$f":"N8","v":112},{"$f":"COUNTIF(L7:L38,T8)","v":1},{"$f":"U8/(W4-U13)","v":3.125E-2},{"$f":"IF(V8=0,0,(V8*((LOG(V8))/LOG(2))))","v":-0.15625},null,{"$f":"N8","v":112},{"$f":"COUNTIF(L39:L70,Y8)","v":0},{"$f":"Z8/(AB4-Z13)","v":0},{"$f":"IF(AA8=0,0,(AA8*((LOG(AA8))/LOG(2))))","v":0},null,{"$f":"N8","v":112},{"$f":"COUNTIF(L71:L102,AD8)","v":0},{"$f":"AE8/(AG4-AE13)","v":0},{"$f":"IF(AF8=0,0,(AF8*((LOG(AF8))/LOG(2))))","v":0},null,{"$f":"N8","v":112},{"$f":"COUNTIF(L103:L134,AI8)","v":1},{"$f":"AJ8/(AL4-AJ13)","v":3.3333333333333333E-2},{"$f":"IF(AK8=0,0,(AK8*((LOG(AK8))/LOG(2))))","v":-0.16356301985361729},null,{"$f":"N8","v":112},{"$f":"COUNTIF(L135:L166,AN8)","v":1},{"$f":"AO8/(AQ4-AO13)","v":3.7037037037037035E-2},{"$f":"IF(AP8=0,0,(AP8*((LOG(AP8))/LOG(2))))","v":-0.1761069445245729},null,{"$f":"N8","v":112},{"$f":"COUNTIF(L167:L198,AS8)","v":0},{"$f":"AT8/(AV4-AT13)","v":0},{"$f":"IF(AU8=0,0,(AU8*((LOG(AU8))/LOG(2))))","v":0}]
[21,255,21,258,22,262,null,null,null,null,0,222,null,121,{"$f":"COUNTIF($L$7:$L$500,N9)","v":3},{"$f":"O9/$Q$4","v":1.5625E-2},{"$f":"IF(P9=0,0,(P9*((LOG(P9))/LOG(2))))","v":-9.375E-2},null,null,{"$f":"N9","v":121},{"$f":"COUNTIF(L7:L38,T9)","v":1},{"$f":"U9/(W4-U13)","v":3.125E-2},{"$f":"IF(V9=0,0,(V9*((LOG(V9))/LOG(2))))","v":-0.15625},null,{"$f":"N9","v":121},{"$f":"COUNTIF(L39:L70,Y9)","v":0},{"$f":"Z9/(AB4-Z13)","v":0},{"$f":"IF(AA9=0,0,(AA9*((LOG(AA9))/LOG(2))))","v":0},null,{"$f":"N9","v":121},{"$f":"COUNTIF(L71:L102,AD9)","v":1},{"$f":"AE9/(AG4-AE13)","v":3.3333333333333333E-2},{"$f":"IF(AF9=0,0,(AF9*((LOG(AF9))/LOG(2))))","v":-0.16356301985361729},null,{"$f":"N9","v":121},{"$f":"COUNTIF(L103:L134,AI9)","v":0},{"$f":"AJ9/(AL4-AJ13)","v":0},{"$f":"IF(AK9=0,0,(AK9*((LOG(AK9))/LOG(2))))","v":0},null,{"$f":"N9","v":121},{"$f":"COUNTIF(L135:L166,AN9)","v":0},{"$f":"AO9/(AQ4-AO13)","v":0},{"$f":"IF(AP9=0,0,(AP9*((LOG(AP9))/LOG(2))))","v":0},null,{"$f":"N9","v":121},{"$f":"COUNTIF(L167:L198,AS9)","v":1},{"$f":"AT9/(AV4-AT13)","v":3.5714285714285712E-2},{"$f":"IF(AU9=0,0,(AU9*((LOG(AU9))/LOG(2))))","v":-0.17169124721634299}]
[21,365,21,373,22,376,null,null,null,null,0,222,null,122,{"$f":"COUNTIF($L$7:$L$500,N10)","v":5},{"$f":"O10/$Q$4","v":2.6041666666666668E-2},{"$f":"IF(P10=0,0,(P10*((LOG(P10))/LOG(2))))","v":-0.13705818765192171},null,null,{"$f":"N10","v":122},{"$f":"COUNTIF(L7:L38,T10)","v":3},{"$f":"U10/(W4-U13)","v":9.375E-2},{"$f":"IF(V10=0,0,(V10*((LOG(V10))/LOG(2))))","v":-0.32015976555739156},null,{"$f":"N10","v":122},{"$f":"COUNTIF(L39:L70,Y10)","v":1},{"$f":"Z10/(AB4-Z13)","v":3.4482758620689655E-2},{"$f":"IF(AA10=0,0,(AA10*((LOG(AA10))/LOG(2))))","v":-0.16751658603888178},null,{"$f":"N10","v":122},{"$f":"COUNTIF(L71:L102,AD10)","v":0},{"$f":"AE10/(AG4-AE13)","v":0},{"$f":"IF(AF10=0,0,(AF10*((LOG(AF10))/LOG(2))))","v":0},null,{"$f":"N10","v":122},{"$f":"COUNTIF(L103:L134,AI10)","v":0},{"$f":"AJ10/(AL4-AJ13)","v":0},{"$f":"IF(AK10=0,0,(AK10*((LOG(AK10))/LOG(2))))","v":0},null,{"$f":"N10","v":122},{"$f":"COUNTIF(L135:L166,AN10)","v":0},{"$f":"AO10/(AQ4-AO13)","v":0},{"$f":"IF(AP10=0,0,(AP10*((LOG(AP10))/LOG(2))))","v":0},null,{"$f":"N10","v":122},{"$f":"COUNTIF(L167:L198,AS10)","v":1},{"$f":"AT10/(AV4-AT13)","v":3.5714285714285712E-2},{"$f":"IF(AU10=0,0,(AU10*((LOG(AU10))/LOG(2))))","v":-0.17169124721634299}]
[12,475,23,489,24,493,null,null,null,null,0,122,null,211,{"$f":"COUNTIF($L$7:$L$500,N11)","v":70},{"$f":"O11/$Q$4","v":0.36458333333333331},{"$f":"IF(P11=0,0,(P11*((LOG(P11))/LOG(2))))","v":-0.5307164784600692},null,null,{"$f":"N11","v":211},{"$f":"COUNTIF(L7:L38,T11)","v":1},{"$f":"U11/(W4-U13)","v":3.125E-2},{"$f":"IF(V11=0,0,(V11*((LOG(V11))/LOG(2))))","v":-0.15625},null,{"$f":"N11","v":211},{"$f":"COUNTIF(L39:L70,Y11)","v":5},{"$f":"Z11/(AB4-Z13)","v":0.17241379310344829},{"$f":"IF(AA11=0,0,(AA11*((LOG(AA11))/LOG(2))))","v":-0.43725050004141547},null,{"$f":"N11","v":211},{"$f":"COUNTIF(L71:L102,AD11)","v":13},{"$f":"AE11/(AG4-AE13)","v":0.43333333333333335},{"$f":"IF(AF11=0,0,(AF11*((LOG(AF11))/LOG(2))))","v":-0.52279538023588479},null,{"$f":"N11","v":211},{"$f":"COUNTIF(L103:L134,AI11)","v":19},{"$f":"AJ11/(AL4-AJ13)","v":0.6333333333333333},{"$f":"IF(AK11=0,0,(AK11*((LOG(AK11))/LOG(2))))","v":-0.41734328537112425},null,{"$f":"N11","v":211},{"$f":"COUNTIF(L135:L166,AN11)","v":17},{"$f":"AO11/(AQ4-AO13)","v":0.62962962962962965},{"$f":"IF(AP11=0,0,(AP11*((LOG(AP11))/LOG(2))))","v":-0.42023034205641457},null,{"$f":"N11","v":211},{"$f":"COUNTIF(L167:L198,AS11)","v":15},{"$f":"AT11/(AV4-AT13)","v":0.5357142857142857},{"$f":"IF(AU11=0,0,(AU11*((LOG(AU11))/LOG(2))))","v":-0.48239160345486726}]
[21,600,21,602,22,608,null,null,null,null,0,222,null,212,{"$f":"COUNTIF($L$7:$L$500,N12)","v":9},{"$f":"O12/$Q$4","v":4.6875E-2},{"$f":"IF(P12=0,0,(P12*((LOG(P12))/LOG(2))))","v":-0.20695488277869581},null,null,{"$f":"N12","v":212},{"$f":"COUNTIF(L7:L38,T12)","v":3},{"$f":"U12/(W4-U13)","v":9.375E-2},{"$f":"IF(V12=0,0,(V12*((LOG(V12))/LOG(2))))","v":-0.32015976555739156},null,{"$f":"N12","v":212},{"$f":"COUNTIF(L39:L70,Y12)","v":2},{"$f":"Z12/(AB4-Z13)","v":6.8965517241379309E-2},{"$f":"IF(AA12=0,0,(AA12*((LOG(AA12))/LOG(2))))","v":-0.26606765483638428},null,{"$f":"N12","v":212},{"$f":"COUNTIF(L71:L102,AD12)","v":2},{"$f":"AE12/(AG4-AE13)","v":6.6666666666666666E-2},{"$f":"IF(AF12=0,0,(AF12*((LOG(AF12))/LOG(2))))","v":-0.26045937304056793},null,{"$f":"N12","v":212},{"$f":"COUNTIF(L103:L134,AI12)","v":1},{"$f":"AJ12/(AL4-AJ13)","v":3.3333333333333333E-2},{"$f":"IF(AK12=0,0,(AK12*((LOG(AK12))/LOG(2))))","v":-0.16356301985361729},null,{"$f":"N12","v":212},{"$f":"COUNTIF(L135:L166,AN12)","v":1},{"$f":"AO12/(AQ4-AO13)","v":3.7037037037037035E-2},{"$f":"IF(AP12=0,0,(AP12*((LOG(AP12))/LOG(2))))","v":-0.1761069445245729},null,{"$f":"N12","v":212},{"$f":"COUNTIF(L167:L198,AS12)","v":0},{"$f":"AT12/(AV4-AT13)","v":0},{"$f":"IF(AU12=0,0,(AU12*((LOG(AU12))/LOG(2))))","v":0}]
[21,705,21,717,22,720,null,null,null,null,0,222,null,221,{"$f":"COUNTIF($L$7:$L$500,N13)","v":16},{"$f":"O13/$Q$4","v":8.3333333333333329E-2},{"$f":"IF(P13=0,0,(P13*((LOG(P13))/LOG(2))))","v":-0.29874687506009634},null,null,{"$f":"N13","v":221},{"$f":"COUNTIF(L7:L38,T13)","v":0},null,null,null,{"$f":"N13","v":221},{"$f":"COUNTIF(L39:L70,Y13)","v":3},null,null,null,{"$f":"N13","v":221},{"$f":"COUNTIF(L71:L102,AD13)","v":2},null,null,null,{"$f":"N13","v":221},{"$f":"COUNTIF(L103:L134,AI13)","v":2},null,null,null,{"$f":"N13","v":221},{"$f":"COUNTIF(L135:L166,AN13)","v":5},null,null,null,{"$f":"N13","v":221},{"$f":"COUNTIF(L167:L198,AS13)","v":4}]
[21,817,21,833,22,841,null,null,null,null,0,222,null,222,{"$f":"COUNTIF($L$7:$L$500,N14)","v":42},{"$f":"O14/$Q$4","v":0.21875},{"$f":"IF(P14=0,0,(P14*((LOG(P14))/LOG(2))))","v":-0.47964111079989907},null,null,{"$f":"N14","v":222},{"$f":"COUNTIF(L7:L38,T14)","v":22},{"$f":"U14/(W4-U13)","v":0.6875},{"$f":"IF(V14=0,0,(V14*((LOG(V14))/LOG(2))))","v":-0.3716407621868581},null,{"$f":"N14","v":222},{"$f":"COUNTIF(L39:L70,Y14)","v":12},{"$f":"Z14/(AB4-Z13)","v":0.41379310344827586},{"$f":"IF(AA14=0,0,(AA14*((LOG(AA14))/LOG(2))))","v":-0.5267662735474824},null,{"$f":"N14","v":222},{"$f":"COUNTIF(L71:L102,AD14)","v":4},{"$f":"AE14/(AG4-AE13)","v":0.13333333333333333},{"$f":"IF(AF14=0,0,(AF14*((LOG(AF14))/LOG(2))))","v":-0.3875854127478025},null,{"$f":"N14","v":222},{"$f":"COUNTIF(L103:L134,AI14)","v":1},{"$f":"AJ14/(AL4-AJ13)","v":3.3333333333333333E-2},{"$f":"IF(AK14=0,0,(AK14*((LOG(AK14))/LOG(2))))","v":-0.16356301985361729},null,{"$f":"N14","v":222},{"$f":"COUNTIF(L135:L166,AN14)","v":2},{"$f":"AO14/(AQ4-AO13)","v":7.407407407407407E-2},{"$f":"IF(AP14=0,0,(AP14*((LOG(AP14))/LOG(2))))","v":-0.27813981497507173},null,{"$f":"N14","v":222},{"$f":"COUNTIF(L167:L198,AS14)","v":1},{"$f":"AT14/(AV4-AT13)","v":3.5714285714285712E-2},{"$f":"IF(AU14=0,0,(AU14*((LOG(AU14))/LOG(2))))","v":-0.17169124721634299}]
[21,940,21,951,22,954,null,null,null,null,0,222,null,null,null,{"$f":"SUM(P7:P14)","v":1},{"$f":"-SUM(Q7:Q14)","v":2.3277183618948998},null,null,null,null,{"$f":"SUM(V7:V14)","v":1},{"$f":"-SUM(W7:W14)","v":1.6369602933016412},null,null,null,{"$f":"SUM(AA7:AA14)","v":1},{"$f":"-SUM(AB7:AB14)","v":1.9214804607802791},null,null,null,{"$f":"SUM(AF7:AF14)","v":1},{"$f":"-SUM(AG7:AG14)","v":1.8627240194515911},null,null,null,{"$f":"SUM(AK7:AK14)","v":1},{"$f":"-SUM(AL7:AL14)","v":1.4165365037609146},null,null,null,{"$f":"SUM(AP7:AP14)","v":0.99999999999999989},{"$f":"-SUM(AQ7:AQ14)","v":1.5327896019567016},null,null,null,{"$f":"SUM(AU7:AU14)","v":0.99999999999999989},{"$f":"-SUM(AV7:AV14)","v":1.5279749262361255}]
[21,1063,21,1065,22,1070,null,null,null,null,0,222,null,null,null,"U=",{"$f":"Q15/(LOG(Q4)/LOG(2))","v":0.30688594197711422},null,null,null,null,"U1=",{"$f":"W15/(LOG(W4)/LOG(2))","v":0.32739205866032822},null,null,null,"U2=",{"$f":"AB15/(LOG(AB4)/LOG(2))","v":0.38429609215605581},null,null,null,"U3=",{"$f":"AG15/(LOG(AG4)/LOG(2))","v":0.37254480389031819},null,null,null,"U4=",{"$f":"AL15/(LOG(AL4)/LOG(2))","v":0.28330730075218291},null,null,null,"U5=",{"$f":"AQ15/(LOG(AQ4)/LOG(2))","v":0.30655792039134033},null,null,null,"U6=",{"$f":"AV15/(LOG(AV4)/LOG(2))","v":0.30559498524722511}]
[12,1167,14,1170,24,1181,null,null,null,null,0,112]
[21,1294,21,1297,22,1303,null,null,null,null,0,222]
[21,1401,21,1416,22,1420,null,null,null,null,0,222,null,"Total Target Seq"]
[21,1518,21,1529,22,1548,null,null,null,null,0,222,null,{"$f":"COUNTIF(L7:L198,G3)","v":16},null,32,32,32,32,32,32]
[21,1646,21,1649,22,1662,null,null,null,null,0,222,null,null,null,"% of reinforcement given in 6 equal intervals based on number of trials "]
[21,1790,21,1793,22,1805,null,null,null,null,0,222,null,null,null,"%_1","%_2","%_3","%_4","%_5","%_6"]
[21,1916,21,1919,22,1924,null,null,null,null,0,222,null,null,"target sequence",{"$f":"$G$3","v":221},{"$f":"$G$3","v":221},{"$f":"$G$3","v":221},{"$f":"$G$3","v":221},{"$f":"$G$3","v":221},{"$f":"$G$3","v":221}]
[21,2021,12,2030,24,2036,null,null,null,null,0,212,null,null,"total reinforcement",{"$f":"U13","v":0},{"$f":"Z13","v":3},{"$f":"AE13","v":2},{"$f":"AJ13","v":2},{"$f":"AO13","v":5},{"$f":"AT13","v":4}]
[12,2143,23,2148,24,2156,null,null,null,null,0,122,null,null,"% target"]
[21,2255,12,2266,13,2268,null,null,null,null,0,211,null,null,"CCRF"]
[12,2381,14,2385,13,2388,null,null,null,null,0,111,null,null,"% CCRf"]
[21,2498,21,2515,22,2522,null,null,null,null,0,222,null,null,"average response rate",{"$f":"F38/P20","v":117.75},{"$f":"(F70-F38)/Q20","v":123.75},{"$f":"(F102-F70)/R20","v":128.09375},{"$f":"(F134-F102)/S20","v":118.78125},{"$f":"(F166-F134)/T20","v":126.4375},{"$f":"(F198-F166)/U20","v":132.5}]
[21,2619,12,2631,24,2635,null,null,null,null,0,212]
[12,2737,23,2745,13,2760,null,null,null,null,0,121]
[21,2862,12,2871,24,2878,null,null,null,null,0,212]
[21,2978,21,2992,22,2996,null,null,null,null,0,222]
[21,3094,21,3117,22,3122,null,null,null,null,0,222]
[21,3222,21,3228,22,3241,null,null,null,null,0,222]
[21,3342,21,3363,22,3368,null,null,null,null,0,222]
[21,3483,21,3500,22,3515,null,null,null,null,0,222]
[21,3613,21,3628,22,3632,null,null,null,null,0,222]
[21,3735,21,3751,22,3768,null,null,null,null,0,222]
[21,3865,21,3883,22,3892,null,null,null,null,0,222]
[21,3999,12,4009,24,4016,null,null,null,null,0,212]
[21,4115,12,4127,24,4133,null,null,null,null,0,212]
[21,4237,12,4250,13,4254,null,null,null,null,0,211]
[21,4352,21,4364,22,4379,null,null,null,null,0,222]
[21,4476,21,4479,11,4488,null,null,null,null,0,221]
[21,4675,21,4678,22,4681,null,null,null,null,0,222]
[12,4778,14,4787,13,4791,null,null,null,null,0,111]
[12,4894,23,4900,24,4904,null,null,null,null,0,122]
[12,5005,14,5008,13,5012,null,null,null,null,0,111]
[21,5109,21,5112,11,5120,null,null,null,null,0,221]
[21,5320,21,5324,22,5328,null,null,null,null,0,222]
[21,5426,21,5437,22,5450,null,null,null,null,0,222]
[21,5549,21,5560,22,5569,null,null,null,null,0,222]
[12,5666,14,5670,13,5674,null,null,null,null,0,111]
[12,5769,14,5772,13,5776,null,null,null,null,0,111]
[21,5875,21,5889,22,5903,null,null,null,null,0,222]
[21,6021,21,6024,22,6029,null,null,null,null,0,222]
[21,6125,12,6133,13,6137,null,null,null,null,0,211]
[12,6240,14,6245,13,6249,null,null,null,null,0,111]
[21,6345,12,6354,13,6358,null,null,null,null,0,211]
[12,6455,14,6459,13,6461,null,null,null,null,0,111]
[21,6558,21,6576,22,6580,null,null,null,null,0,222]
[21,6683,12,6691,13,6695,null,null,null,null,0,211]
[21,6792,21,6796,11,6812,null,null,null,null,0,221]
[21,7035,21,7039,22,7044,null,null,null,null,0,222]
[21,7136,12,7149,13,7154,null,null,null,null,0,211]
[12,7254,14,7257,13,7261,null,null,null,null,0,111]
[21,7359,21,7373,22,7379,null,null,null,null,0,222]
[12,7479,14,7487,13,7493,null,null,null,null,0,111]
[21,7598,21,7612,22,7618,null,null,null,null,0,222]
[12,7718,14,7724,13,7728,null,null,null,null,0,111]
[21,7840,21,7855,22,7859,null,null,null,null,0,222]
[12,7968,14,7975,13,7982,null,null,null,null,0,111]
[21,8081,12,8089,13,8093,null,null,null,null,0,211]
[21,8184,21,8194,22,8196,null,null,null,null,0,222]
[12,8294,14,8307,13,8313,null,null,null,null,0,111]
[12,8415,14,8424,13,8427,null,null,null,null,0,111]
[21,8519,21,8525,11,8533,null,null,null,null,0,221]
[12,8683,14,8686,13,8689,null,null,null,null,0,111]
[21,8793,12,8801,13,8804,null,null,null,null,0,211]
[21,8897,12,8901,13,8905,null,null,null,null,0,211]
[12,9003,14,9006,13,9010,null,null,null,null,0,111]
[12,9115,14,9119,13,9123,null,null,null,null,0,111]
[21,9221,12,9231,24,9238,null,null,null,null,0,212]
[21,9333,21,9337,11,9346,null,null,null,null,0,221]
[21,9897,21,9908,22,9911,null,null,null,null,0,222]
[12,10007,14,10013,13,10019,null,null,null,null,0,111]
[12,10137,14,10143,13,10149,null,null,null,null,0,111]
[12,10252,14,10260,13,10266,null,null,null,null,0,111]
[21,10359,12,10368,24,10377,null,null,null,null,0,212]
[21,10477,12,10486,13,10491,null,null,null,null,0,211]
[21,10589,12,10600,13,10606,null,null,null,null,0,211]
[21,10701,12,10709,13,10714,null,null,null,null,0,211]
[21,10812,12,10820,13,10823,null,null,null,null,0,211]
[21,10921,12,10928,13,10930,null,null,null,null,0,211]
[21,11026,12,11035,13,11038,null,null,null,null,0,211]
[12,11144,14,11148,13,11154,null,null,null,null,0,111]
[21,11251,12,11266,13,11269,null,null,null,null,0,211]
[21,11370,21,11384,22,11388,null,null,null,null,0,222]
[21,11483,12,11490,13,11497,null,null,null,null,0,211]
[12,11598,23,11603,13,11607,null,null,null,null,0,121]
[21,11703,12,11711,13,11715,null,null,null,null,0,211]
[21,11813,12,11822,13,11827,null,null,null,null,0,211]
[21,11926,12,11935,13,11941,null,null,null,null,0,211]
[21,12107,12,12118,13,12121,null,null,null,null,0,211]
[21,12218,12,12229,13,12238,null,null,null,null,0,211]
[21,12335,12,12344,13,12347,null,null,null,null,0,211]
[12,12460,14,12463,13,12467,null,null,null,null,0,111]
[12,12570,14,12574,13,12580,null,null,null,null,0,111]
[21,12683,12,12707,13,12713,null,null,null,null,0,211]
[21,12808,12,12816,13,12820,null,null,null,null,0,211]
[21,12933,12,12944,24,12952,null,null,null,null,0,212]
[21,13054,12,13065,13,13068,null,null,null,null,0,211]
[21,13166,12,13177,13,13185,null,null,null,null,0,211]
[21,13302,21,13317,22,13320,null,null,null,null,0,222]
[12,13422,14,13430,13,13436,null,null,null,null,0,111]
[21,13535,12,13547,13,13551,null,null,null,null,0,211]
[21,13648,21,13650,11,13667,null,null,null,null,0,221]
[12,13794,14,13797,13,13800,null,null,null,null,0,111]
[21,13895,12,13904,13,13907,null,null,null,null,0,211]
[21,14006,12,14016,13,14019,null,null,null,null,0,211]
[12,14122,14,14125,13,14130,null,null,null,null,0,111]
[21,14227,12,14236,13,14240,null,null,null,null,0,211]
[12,14342,14,14346,13,14351,null,null,null,null,0,111]
[21,14449,12,14459,13,14463,null,null,null,null,0,211]
[21,14562,12,14570,13,14574,null,null,null,null,0,211]
[21,14667,12,14678,13,14683,null,null,null,null,0,211]
[21,14791,12,14802,13,14805,null,null,null,null,0,211]
[21,14901,12,14915,13,14919,null,null,null,null,0,211]
[21,15015,12,15022,13,15026,null,null,null,null,0,211]
[21,15124,12,15134,13,15138,null,null,null,null,0,211]
[21,15237,21,15239,11,15247,null,null,null,null,0,221]
[12,15407,14,15411,13,15415,null,null,null,null,0,111]
[12,15514,14,15516,24,15519,null,null,null,null,0,112]
[12,15621,14,15626,13,15628,null,null,null,null,0,111]
[21,15724,12,15731,13,15736,null,null,null,null,0,211]
[21,15832,12,15846,13,15850,null,null,null,null,0,211]
[21,15945,12,15953,13,15956,null,null,null,null,0,211]
[21,16074,12,16092,13,16098,null,null,null,null,0,211]
[21,16193,21,16195,11,16203,null,null,null,null,0,221]
[21,16378,21,16382,11,16396,null,null,null,null,0,221]
[21,16527,12,16544,13,16547,null,null,null,null,0,211]
[12,16650,14,16655,13,16657,null,null,null,null,0,111]
[21,16755,21,16768,22,16780,null,null,null,null,0,222]
[21,16874,12,16883,13,16887,null,null,null,null,0,211]
[21,16986,12,17003,13,17006,null,null,null,null,0,211]
[21,17105,12,17114,13,17123,null,null,null,null,0,211]
[21,17218,12,17227,13,17231,null,null,null,null,0,211]
[21,17329,12,17346,13,17351,null,null,null,null,0,211]
[21,17446,12,17458,13,17464,null,null,null,null,0,211]
[21,17560,12,17572,13,17578,null,null,null,null,0,211]
[21,17675,21,17678,11,17689,null,null,null,null,0,221]
[21,17906,21,17910,11,17920,null,null,null,null,0,221]
[21,18148,21,18161,22,18164,null,null,null,null,0,222]
[12,18267,14,18273,13,18275,null,null,null,null,0,111]
[12,18388,14,18395,13,18398,null,null,null,null,0,111]
[12,18504,14,18509,13,18515,null,null,null,null,0,111]
[12,18613,14,18616,24,18618,null,null,null,null,0,112]
[21,18715,12,18732,13,18737,null,null,null,null,0,211]
[21,18838,12,18845,13,18849,null,null,null,null,0,211]
[21,18947,12,18955,13,18960,null,null,null,null,0,211]
[12,19068,14,19071,13,19076,null,null,null,null,0,111]
[21,19183,12,19193,13,19197,null,null,null,null,0,211]
[21,19295,12,19302,13,19309,null,null,null,null,0,211]
[21,19406,21,19407,11,19419,null,null,null,null,0,221]
[21,19544,12,19563,24,19564,null,null,null,null,0,212]
[12,19667,14,19670,13,19674,null,null,null,null,0,111]
[21,19772,12,19785,13,19788,null,null,null,null,0,211]
[21,19884,12,19895,13,19901,null,null,null,null,0,211]
[21,19998,12,20006,13,20009,null,null,null,null,0,211]
[21,20145,12,20156,13,20158,null,null,null,null,0,211]
[12,20264,14,20268,13,20272,null,null,null,null,0,111]
[12,20372,23,20382,24,20386,null,null,null,null,0,122]
[21,20483,12,20490,13,20501,null,null,null,null,0,211]
[21,20595,12,20606,13,20611,null,null,null,null,0,211]
[21,20705,21,20707,11,20714,null,null,null,null,0,221]
[12,20881,14,20884,13,20888,null,null,null,null,0,111]
[12,20996,14,21000,13,21003,null,null,null,null,0,111]
[21,21100,12,21107,13,21115,null,null,null,null,0,211]
[21,21211,12,21227,13,21234,null,null,null,null,0,211]
[21,21379,21,21409,11,21420,null,null,null,null,0,221]
[12,21627,14,21630,13,21634,null,null,null,null,0,111]
[12,21742,14,21749,13,21755,null,null,null,null,0,111]
[21,21852,21,21866,22,21882,null,null,null,null,0,222]
[12,21990,14,21995,13,21998,null,null,null,null,0,111]
[12,22104,14,22109,13,22115,null,null,null,null,0,111]
[21,22207,12,22216,13,22219,null,null,null,null,0,211]
[21,22318,12,22329,13,22335,null,null,null,null,0,211]
[21,22431,12,22445,13,22449,null,null,null,null,0,211]
[21,22547,12,22554,13,22562,null,null,null,null,0,211]
[21,22657,12,22669,13,22676,null,null,null,null,0,211]
[21,22771,12,22783,13,22787,null,null,null,null,0,211]
[21,22888,12,22900,13,22903,null,null,null,null,0,211]
[21,23002,21,23004,11,23021,null,null,null,null,0,221]
[12,23347,14,23350,13,23353,null,null,null,null,0,111]
[12,23450,23,23455,13,23460,null,null,null,null,0,121]
[12,23567,14,23572,13,23577,null,null,null,null,0,111]
[21,23671,21,23675,11,23684,null,null,null,null,0,221]
[12,23904,14,23909,13,23914,null,null,null,null,null,111]

{"sheet":"!MA0394T.AYL","index":4,"n_rows":196,"n_cols":48,"rows_kept":196,"cut":false,"hidden":false,"merged":[[4,39,4,42],[5,39,5,40],[4,44,4,47],[5,44,5,45],[4,24,4,27],[5,24,5,25],[4,29,4,32],[5,29,5,30],[4,34,4,37],[5,34,5,35],[1,1,1,2],[5,13,5,14],[18,13,18,14],[19,13,19,14],[4,19,4,22],[5,19,5,20]]}
["Report for:!MA0394T.AYL"]
["Date:","<date>"]
["Hen:","<hen>",null,null,null,"Correct Sequence",{"$f":"Start!J2","v":221},null,null,null,null,null,null,null,null,"Total Sequences in Data",{"$f":"4994-COUNTBLANK(L7:L5000)","v":190},null,null,null,null,"Total Sequences in Block Data",{"$f":"COUNTA(L7:L38)","v":32},null,null,null,"Total Sequences in Block Data",{"$f":"COUNTA(L39:L69)","v":31},null,null,null,"Total Sequences in Block Data",{"$f":"COUNTA(L70:L101)","v":32},null,null,null,"Total Sequences in Block Data",{"$f":"COUNTA(L102:L133)","v":32},null,null,null,"Total Sequences in Block Data",{"$f":"COUNTA(L134:L164)","v":31},null,null,null,"Total Sequences in Block Data",{"$f":"COUNTA(L165:L196)","v":32}]
[null,null,null,null,null,null,null,null,null,null,null,null,null,null,null,"Total Sequences in Summary",{"$f":"SUM(O7:O14)","v":190},null,null,null,null,"Total Sequences in Block Summary",{"$f":"SUM(U7:U14)","v":32},null,null,null,"Total Sequences in Block Summary",{"$f":"SUM(Z7:Z14)","v":31},null,null,null,"Total Sequences in Block Summary",{"$f":"SUM(AE7:AE14)","v":32},null,null,null,"Total Sequences in Block Summary",{"$f":"SUM(AJ7:AJ14)","v":32},null,null,null,"Total Sequences in Block Summary",{"$f":"SUM(AO7:AO14)","v":31},null,null,null,"Total Sequences in Block Summary",{"$f":"SUM(AT7:AT14)","v":32}]
[null,null,null,null,null,null,null,null,null,null,null,null,null,null,null,null,null,null,null,"Block 1",null,null,null,null,"Block 2",null,null,null,null,"Block 3",null,null,null,null,"Block 4",null,null,null,null,"Block 5",null,null,null,null,"Block 6"]
["Sequence\nComponent\n1","Time\n1","Sequence\nComponent\n2","Time\n2","Sequence\nComponent\n3","Time\n3","Sequence\nComponent\n4","Time\n4","Sequence\nComponent\n5","Time\n5","Correct?\n0=No 1=Yes","Sequence",null,"Frequency",null,"Relative Frequency","Variability",null,null,"Frequency",null,"Relative Frequency","Variability",null,"Frequency",null,"Relative Frequency","Variability",null,"Frequency",null,"Relative Frequency","Variability",null,"Frequency",null,"Relative Frequency","Variability",null,"Frequency",null,"Relative Frequency","Variability",null,"Frequency",null,"Relative Frequency","Variability"]
[12,14,23,20,24,37,null,null,null,null,0,122,null,111,{"$f":"COUNTIF($L$7:$L$500,N7)","v":23},{"$f":"O7/$Q$4","v":0.12105263157894737},{"$f":"IF(P7=0,0,(P7*((LOG(P7))/LOG(2))))","v":-0.3687618631700027},null,null,{"$f":"N7","v":111},{"$f":"COUNTIF(L7:L38,T7)","v":3},{"$f":"U7/(W4-U13)","v":0.1111111111111111},{"$f":"IF(V7=0,0,(V7*((LOG(V7))/LOG(2))))","v":-0.3522138890491458},null,{"$f":"N7","v":111},{"$f":"COUNTIF(L39:L69,Y7)","v":3},{"$f":"Z7/(AB4-Z13)","v":0.12},{"$f":"IF(AA7=0,0,(AA7*((LOG(AA7))/LOG(2))))","v":-0.36706724268642821},null,{"$f":"N7","v":111},{"$f":"COUNTIF(L70:L101,AD7)","v":3},{"$f":"AE7/(AG4-AE13)","v":0.11538461538461539},{"$f":"IF(AF7=0,0,(AF7*((LOG(AF7))/LOG(2))))","v":-0.35947814047153104},null,{"$f":"N7","v":111},{"$f":"COUNTIF(L102:L133,AI7)","v":1},{"$f":"AJ7/(AL4-AJ13)","v":3.8461538461538464E-2},{"$f":"IF(AK7=0,0,(AK7*((LOG(AK7))/LOG(2))))","v":-0.18078614300542661},null,{"$f":"N7","v":111},{"$f":"COUNTIF(L134:L164,AN7)","v":4},{"$f":"AO7/(AQ4-AO13)","v":0.16666666666666666},{"$f":"IF(AP7=0,0,(AP7*((LOG(AP7))/LOG(2))))","v":-0.43082708345352599},null,{"$f":"N7","v":111},{"$f":"COUNTIF(L165:L196,AS7)","v":9},{"$f":"AT7/(AV4-AT13)","v":0.32142857142857145},{"$f":"IF(AU7=0,0,(AU7*((LOG(AU7))/LOG(2))))","v":-0.5263167601977724}]
[21,133,12,141,13,145,null,null,null,null,0,211,null,112,{"$f":"COUNTIF($L$7:$L$500,N8)","v":3},{"$f":"O8/$Q$4","v":1.5789473684210527E-2},{"$f":"IF(P8=0,0,(P8*((LOG(P8))/LOG(2))))","v":-9.4498312225417769E-2},null,null,{"$f":"N8","v":112},{"$f":"COUNTIF(L7:L38,T8)","v":0},{"$f":"U8/(W4-U13)","v":0},{"$f":"IF(V8=0,0,(V8*((LOG(V8))/LOG(2))))","v":0},null,{"$f":"N8","v":112},{"$f":"COUNTIF(L39:L69,Y8)","v":0},{"$f":"Z8/(AB4-Z13)","v":0},{"$f":"IF(AA8=0,0,(AA8*((LOG(AA8))/LOG(2))))","v":0},null,{"$f":"N8","v":112},{"$f":"COUNTIF(L70:L101,AD8)","v":0},{"$f":"AE8/(AG4-AE13)","v":0},{"$f":"IF(AF8=0,0,(AF8*((LOG(AF8))/LOG(2))))","v":0},null,{"$f":"N8","v":112},{"$f":"COUNTIF(L102:L133,AI8)","v":1},{"$f":"AJ8/(AL4-AJ13)","v":3.8461538461538464E-2},{"$f":"IF(AK8=0,0,(AK8*((LOG(AK8))/LOG(2))))","v":-0.18078614300542661},null,{"$f":"N8","v":112},{"$f":"COUNTIF(L134:L164,AN8)","v":1},{"$f":"AO8/(AQ4-AO13)","v":4.1666666666666664E-2},{"$f":"IF(AP8=0,0,(AP8*((LOG(AP8))/LOG(2))))","v":-0.19104010419671485},null,{"$f":"N8","v":112},{"$f":"COUNTIF(L165:L196,AS8)","v":1},{"$f":"AT8/(AV4-AT13)","v":3.5714285714285712E-2},{"$f":"IF(AU8=0,0,(AU8*((LOG(AU8))/LOG(2))))","v":-0.17169124721634299}]
[21,243,12,254,13,257,null,null,null,null,0,211,null,121,{"$f":"COUNTIF($L$7:$L$500,N9)","v":5},{"$f":"O9/$Q$4","v":2.6315789473684209E-2},{"$f":"IF(P9=0,0,(P9*((LOG(P9))/LOG(2))))","v":-0.13810335561693646},null,null,{"$f":"N9","v":121},{"$f":"COUNTIF(L7:L38,T9)","v":0},{"$f":"U9/(W4-U13)","v":0},{"$f":"IF(V9=0,0,(V9*((LOG(V9))/LOG(2))))","v":0},null,{"$f":"N9","v":121},{"$f":"COUNTIF(L39:L69,Y9)","v":0},{"$f":"Z9/(AB4-Z13)","v":0},{"$f":"IF(AA9=0,0,(AA9*((LOG(AA9))/LOG(2))))","v":0},null,{"$f":"N9","v":121},{"$f":"COUNTIF(L70:L101,AD9)","v":2},{"$f":"AE9/(AG4-AE13)","v":7.6923076923076927E-2},{"$f":"IF(AF9=0,0,(AF9*((LOG(AF9))/LOG(2))))","v":-0.28464920908777636},null,{"$f":"N9","v":121},{"$f":"COUNTIF(L102:L133,AI9)","v":3},{"$f":"AJ9/(AL4-AJ13)","v":0.11538461538461539},{"$f":"IF(AK9=0,0,(AK9*((LOG(AK9))/LOG(2))))","v":-0.35947814047153104},null,{"$f":"N9","v":121},{"$f":"COUNTIF(L134:L164,AN9)","v":0},{"$f":"AO9/(AQ4-AO13)","v":0},{"$f":"IF(AP9=0,0,(AP9*((LOG(AP9))/LOG(2))))","v":0},null,{"$f":"N9","v":121},{"$f":"COUNTIF(L165:L196,AS9)","v":0},{"$f":"AT9/(AV4-AT13)","v":0},{"$f":"IF(AU9=0,0,(AU9*((LOG(AU9))/LOG(2))))","v":0}]
[21,354,12,361,13,365,null,null,null,null,0,211,null,122,{"$f":"COUNTIF($L$7:$L$500,N10)","v":3},{"$f":"O10/$Q$4","v":1.5789473684210527E-2},{"$f":"IF(P10=0,0,(P10*((LOG(P10))/LOG(2))))","v":-9.4498312225417769E-2},null,null,{"$f":"N10","v":122},{"$f":"COUNTIF(L7:L38,T10)","v":3},{"$f":"U10/(W4-U13)","v":0.1111111111111111},{"$f":"IF(V10=0,0,(V10*((LOG(V10))/LOG(2))))","v":-0.3522138890491458},null,{"$f":"N10","v":122},{"$f":"COUNTIF(L39:L69,Y10)","v":0},{"$f":"Z10/(AB4-Z13)","v":0},{"$f":"IF(AA10=0,0,(AA10*((LOG(AA10))/LOG(2))))","v":0},null,{"$f":"N10","v":122},{"$f":"COUNTIF(L70:L101,AD10)","v":0},{"$f":"AE10/(AG4-AE13)","v":0},{"$f":"IF(AF10=0,0,(AF10*((LOG(AF10))/LOG(2))))","v":0},null,{"$f":"N10","v":122},{"$f":"COUNTIF(L102:L133,AI10)","v":0},{"$f":"AJ10/(AL4-AJ13)","v":0},{"$f":"IF(AK10=0,0,(AK10*((LOG(AK10))/LOG(2))))","v":0},null,{"$f":"N10","v":122},{"$f":"COUNTIF(L134:L164,AN10)","v":0},{"$f":"AO10/(AQ4-AO13)","v":0},{"$f":"IF(AP10=0,0,(AP10*((LOG(AP10))/LOG(2))))","v":0},null,{"$f":"N10","v":122},{"$f":"COUNTIF(L165:L196,AS10)","v":0},{"$f":"AT10/(AV4-AT13)","v":0},{"$f":"IF(AU10=0,0,(AU10*((LOG(AU10))/LOG(2))))","v":0}]
[21,461,21,462,11,474,null,null,null,null,0,221,null,211,{"$f":"COUNTIF($L$7:$L$500,N11)","v":94},{"$f":"O11/$Q$4","v":0.49473684210526314},{"$f":"IF(P11=0,0,(P11*((LOG(P11))/LOG(2))))","v":-0.50228986908111151},null,null,{"$f":"N11","v":211},{"$f":"COUNTIF(L7:L38,T11)","v":15},{"$f":"U11/(W4-U13)","v":0.55555555555555558},{"$f":"IF(V11=0,0,(V11*((LOG(V11))/LOG(2))))","v":-0.4711093925305278},null,{"$f":"N11","v":211},{"$f":"COUNTIF(L39:L69,Y11)","v":15},{"$f":"Z11/(AB4-Z13)","v":0.6},{"$f":"IF(AA11=0,0,(AA11*((LOG(AA11))/LOG(2))))","v":-0.44217935649972373},null,{"$f":"N11","v":211},{"$f":"COUNTIF(L70:L101,AD11)","v":16},{"$f":"AE11/(AG4-AE13)","v":0.61538461538461542},{"$f":"IF(AF11=0,0,(AF11*((LOG(AF11))/LOG(2))))","v":-0.43103982654836437},null,{"$f":"N11","v":211},{"$f":"COUNTIF(L102:L133,AI11)","v":19},{"$f":"AJ11/(AL4-AJ13)","v":0.73076923076923073},{"$f":"IF(AK11=0,0,(AK11*((LOG(AK11))/LOG(2))))","v":-0.33068199574048568},null,{"$f":"N11","v":211},{"$f":"COUNTIF(L134:L164,AN11)","v":14},{"$f":"AO11/(AQ4-AO13)","v":0.58333333333333337},{"$f":"IF(AP11=0,0,(AP11*((LOG(AP11))/LOG(2))))","v":-0.45360442088707198},null,{"$f":"N11","v":211},{"$f":"COUNTIF(L165:L196,AS11)","v":15},{"$f":"AT11/(AV4-AT13)","v":0.5357142857142857},{"$f":"IF(AU11=0,0,(AU11*((LOG(AU11))/LOG(2))))","v":-0.48239160345486726}]
[21,623,12,635,13,638,null,null,null,null,0,211,null,212,{"$f":"COUNTIF($L$7:$L$500,N12)","v":14},{"$f":"O12/$Q$4","v":7.3684210526315783E-2},{"$f":"IF(P12=0,0,(P12*((LOG(P12))/LOG(2))))","v":-0.27723689267277268},null,null,{"$f":"N12","v":212},{"$f":"COUNTIF(L7:L38,T12)","v":2},{"$f":"U12/(W4-U13)","v":7.407407407407407E-2},{"$f":"IF(V12=0,0,(V12*((LOG(V12))/LOG(2))))","v":-0.27813981497507173},null,{"$f":"N12","v":212},{"$f":"COUNTIF(L39:L69,Y12)","v":2},{"$f":"Z12/(AB4-Z13)","v":0.08},{"$f":"IF(AA12=0,0,(AA12*((LOG(AA12))/LOG(2))))","v":-0.29150849518197797},null,{"$f":"N12","v":212},{"$f":"COUNTIF(L70:L101,AD12)","v":3},{"$f":"AE12/(AG4-AE13)","v":0.11538461538461539},{"$f":"IF(AF12=0,0,(AF12*((LOG(AF12))/LOG(2))))","v":-0.35947814047153104},null,{"$f":"N12","v":212},{"$f":"COUNTIF(L102:L133,AI12)","v":2},{"$f":"AJ12/(AL4-AJ13)","v":7.6923076923076927E-2},{"$f":"IF(AK12=0,0,(AK12*((LOG(AK12))/LOG(2))))","v":-0.28464920908777636},null,{"$f":"N12","v":212},{"$f":"COUNTIF(L134:L164,AN12)","v":3},{"$f":"AO12/(AQ4-AO13)","v":0.125},{"$f":"IF(AP12=0,0,(AP12*((LOG(AP12))/LOG(2))))","v":-0.375},null,{"$f":"N12","v":212},{"$f":"COUNTIF(L165:L196,AS12)","v":2},{"$f":"AT12/(AV4-AT13)","v":7.1428571428571425E-2},{"$f":"IF(AU12=0,0,(AU12*((LOG(AU12))/LOG(2))))","v":-0.27195392300411453}]
[21,734,21,739,11,750,null,null,null,null,0,221,null,221,{"$f":"COUNTIF($L$7:$L$500,N13)","v":34},{"$f":"O13/$Q$4","v":0.17894736842105263},{"$f":"IF(P13=0,0,(P13*((LOG(P13))/LOG(2))))","v":-0.44421765305652988},null,null,{"$f":"N13","v":221},{"$f":"COUNTIF(L7:L38,T13)","v":5},null,null,null,{"$f":"N13","v":221},{"$f":"COUNTIF(L39:L69,Y13)","v":6},null,null,null,{"$f":"N13","v":221},{"$f":"COUNTIF(L70:L101,AD13)","v":6},null,null,null,{"$f":"N13","v":221},{"$f":"COUNTIF(L102:L133,AI13)","v":6},null,null,null,{"$f":"N13","v":221},{"$f":"COUNTIF(L134:L164,AN13)","v":7},null,null,null,{"$f":"N13","v":221},{"$f":"COUNTIF(L165:L196,AS13)","v":4}]
[21,847,21,850,22,861,null,null,null,null,0,222,null,222,{"$f":"COUNTIF($L$7:$L$500,N14)","v":14},{"$f":"O14/$Q$4","v":7.3684210526315783E-2},{"$f":"IF(P14=0,0,(P14*((LOG(P14))/LOG(2))))","v":-0.27723689267277268},null,null,{"$f":"N14","v":222},{"$f":"COUNTIF(L7:L38,T14)","v":4},{"$f":"U14/(W4-U13)","v":0.14814814814814814},{"$f":"IF(V14=0,0,(V14*((LOG(V14))/LOG(2))))","v":-0.40813148180199532},null,{"$f":"N14","v":222},{"$f":"COUNTIF(L39:L69,Y14)","v":5},{"$f":"Z14/(AB4-Z13)","v":0.2},{"$f":"IF(AA14=0,0,(AA14*((LOG(AA14))/LOG(2))))","v":-0.46438561897747244},null,{"$f":"N14","v":222},{"$f":"COUNTIF(L70:L101,AD14)","v":2},{"$f":"AE14/(AG4-AE13)","v":7.6923076923076927E-2},{"$f":"IF(AF14=0,0,(AF14*((LOG(AF14))/LOG(2))))","v":-0.28464920908777636},null,{"$f":"N14","v":222},{"$f":"COUNTIF(L102:L133,AI14)","v":0},{"$f":"AJ14/(AL4-AJ13)","v":0},{"$f":"IF(AK14=0,0,(AK14*((LOG(AK14))/LOG(2))))","v":0},null,{"$f":"N14","v":222},{"$f":"COUNTIF(L134:L164,AN14)","v":2},{"$f":"AO14/(AQ4-AO13)","v":8.3333333333333329E-2},{"$f":"IF(AP14=0,0,(AP14*((LOG(AP14))/LOG(2))))","v":-0.29874687506009634},null,{"$f":"N14","v":222},{"$f":"COUNTIF(L165:L196,AS14)","v":1},{"$f":"AT14/(AV4-AT13)","v":3.5714285714285712E-2},{"$f":"IF(AU14=0,0,(AU14*((LOG(AU14))/LOG(2))))","v":-0.17169124721634299}]
[21,957,12,962,13,971,null,null,null,null,0,211,null,null,null,{"$f":"SUM(P7:P14)","v":1},{"$f":"-SUM(Q7:Q14)","v":2.1968431507209614},null,null,null,null,{"$f":"SUM(V7:V14)","v":1},{"$f":"-SUM(W7:W14)","v":1.8618084674058863},null,null,null,{"$f":"SUM(AA7:AA14)","v":1},{"$f":"-SUM(AB7:AB14)","v":1.5651407133456023},null,null,null,{"$f":"SUM(AF7:AF14)","v":1},{"$f":"-SUM(AG7:AG14)","v":1.7192945256669792},null,null,null,{"$f":"SUM(AK7:AK14)","v":1},{"$f":"-SUM(AL7:AL14)","v":1.3363816313106462},null,null,null,{"$f":"SUM(AP7:AP14)","v":1},{"$f":"-SUM(AQ7:AQ14)","v":1.7492184835974092},null,null,null,{"$f":"SUM(AU7:AU14)","v":0.99999999999999989},{"$f":"-SUM(AV7:AV14)","v":1.6240447810894403}]
[21,1067,12,1077,24,1085,null,null,null,null,0,212,null,null,null,"U=",{"$f":"Q15/(LOG(Q4)/LOG(2))","v":0.29020938633271182},null,null,null,null,"U1=",{"$f":"W15/(LOG(W4)/LOG(2))","v":0.37236169348117726},null,null,null,"U2=",{"$f":"AB15/(LOG(AB4)/LOG(2))","v":0.31592222336126602},null,null,null,"U3=",{"$f":"AG15/(LOG(AG4)/LOG(2))","v":0.34385890513339584},null,null,null,"U4=",{"$f":"AL15/(LOG(AL4)/LOG(2))","v":0.26727632626212927},null,null,null,"U5=",{"$f":"AQ15/(LOG(AQ4)/LOG(2))","v":0.35307815314666285},null,null,null,"U6=",{"$f":"AV15/(LOG(AV4)/LOG(2))","v":0.32480895621788808}]
[21,1193,12,1203,13,1207,null,null,null,null,0,211]
[21,1306,12,1316,24,1322,null,null,null,null,0,212]
[21,1419,21,1432,22,1434,null,null,null,null,0,222,null,"Total Target Seq"]
[21,1532,12,1544,13,1549,null,null,null,null,0,211,null,{"$f":"COUNTIF(L7:L196,G3)","v":34},null,32,31,32,32,31,32]
[12,1651,23,1660,24,1663,null,null,null,null,0,122,null,null,null,"% of reinforcement given in 6 equal intervals based on number of trials "]
[21,1762,12,1776,13,1782,null,null,null,null,0,211,null,null,null,"%_1","%_2","%_3","%_4","%_5","%_6"]
[21,1876,21,1888,22,1909,null,null,null,null,0,222,null,null,"target sequence",{"$f":"$G$3","v":221},{"$f":"$G$3","v":221},{"$f":"$G$3","v":221},{"$f":"$G$3","v":221},{"$f":"$G$3","v":221},{"$f":"$G$3","v":221}]
[12,2016,23,2024,24,2035,null,null,null,null,0,122,null,null,"total reinforcement",{"$f":"U13","v":5},{"$f":"Z13","v":6},{"$f":"AE13","v":6},{"$f":"AJ13","v":6},{"$f":"AO13","v":7},{"$f":"AT13","v":4}]
[21,2134,12,2144,13,2147,null,null,null,null,0,211,null,null,"% target"]
[21,2250,12,2262,13,2265,null,null,null,null,0,211,null,null,"CCRF"]
[12,2372,14,2377,13,2380,null,null,null,null,0,111,null,null,"% CCRf"]
[12,2488,14,2493,13,2498,null,null,null,null,0,111,null,null,"average response rate",{"$f":"F38/P20","v":115.3125},{"$f":"(F69-F38)/Q20","v":120.74193548387096},{"$f":"(F101-F69)/R20","v":124.8125},{"$f":"(F133-F101)/S20","v":118.1875},{"$f":"(F164-F133)/T20","v":135.54838709677421},{"$f":"(F196-F164)/U20","v":142.875}]
[21,2598,21,2600,11,2613,null,null,null,null,0,221]
[21,2716,21,2719,11,2737,null,null,null,null,0,221]
[21,2851,12,2861,13,2865,null,null,null,null,0,211]
[12,2983,14,2988,13,2994,null,null,null,null,0,111]
[21,3093,21,3113,22,3123,null,null,null,null,0,222]
[21,3220,12,3234,13,3239,null,null,null,null,0,211]
[21,3333,12,3343,13,3347,null,null,null,null,0,211]
[21,3444,21,3446,11,3453,null,null,null,null,0,221]
[21,3562,12,3572,13,3578,null,null,null,null,0,211]
[21,3675,12,3687,13,3690,null,null,null,null,0,211]
[21,3786,12,3803,13,3806,null,null,null,null,0,211]
[21,3898,12,3917,13,3920,null,null,null,null,0,211]
[12,4023,14,4032,13,4037,null,null,null,null,0,111]
[21,4132,12,4145,13,4152,null,null,null,null,0,211]
[21,4252,12,4272,13,4275,null,null,null,null,0,211]
[21,4373,21,4376,11,4386,null,null,null,null,0,221]
[12,4545,14,4551,13,4556,null,null,null,null,0,111]
[21,4651,12,4670,13,4676,null,null,null,null,0,211]
[21,4775,12,4791,13,4797,null,null,null,null,0,211]
[21,4895,12,4914,13,4918,null,null,null,null,0,211]
[21,5014,12,5032,13,5034,null,null,null,null,0,211]
[21,5131,21,5134,11,5150,null,null,null,null,0,221]
[21,5253,12,5267,13,5270,null,null,null,null,0,211]
[21,5366,12,5381,13,5385,null,null,null,null,0,211]
[21,5482,12,5489,24,5496,null,null,null,null,0,212]
[21,5590,21,5594,22,5595,null,null,null,null,0,222]
[21,5688,21,5693,22,5698,null,null,null,null,0,222]
[21,5795,12,5803,13,5806,null,null,null,null,0,211]
[21,5906,21,5923,22,5943,null,null,null,null,0,222]
[21,6039,21,6041,11,6051,null,null,null,null,0,221]
[21,6187,21,6193,22,6200,null,null,null,null,0,222]
[21,6297,21,6298,11,6308,null,null,null,null,0,221]
[12,6458,14,6461,13,6465,null,null,null,null,0,111]
[21,6560,12,6577,13,6580,null,null,null,null,0,211]
[21,6675,12,6686,13,6690,null,null,null,null,0,211]
[21,6787,21,6788,22,6794,null,null,null,null,0,222]
[21,6892,12,6905,13,6917,null,null,null,null,0,211]
[21,7014,21,7016,11,7029,null,null,null,null,0,221]
[21,7144,21,7148,11,7165,null,null,null,null,0,221]
[21,7305,12,7320,13,7325,null,null,null,null,0,211]
[21,7420,12,7427,24,7433,null,null,null,null,0,212]
[21,7527,12,7537,13,7543,null,null,null,null,0,211]
[21,7645,12,7654,13,7658,null,null,null,null,0,211]
[21,7756,21,7762,11,7775,null,null,null,null,0,221]
[21,7956,12,7975,13,7981,null,null,null,null,0,211]
[21,8078,12,8094,13,8100,null,null,null,null,0,211]
[21,8199,21,8203,11,8218,null,null,null,null,0,221]
[12,8362,23,8366,13,8372,null,null,null,null,0,121]
[21,8469,12,8486,13,8489,null,null,null,null,0,211]
[12,8591,14,8594,13,8596,null,null,null,null,0,111]
[21,8694,12,8703,13,8709,null,null,null,null,0,211]
[21,8801,12,8816,13,8819,null,null,null,null,0,211]
[21,8914,12,8925,13,8929,null,null,null,null,0,211]
[21,9028,21,9031,11,9037,null,null,null,null,0,221]
[12,9174,23,9177,13,9182,null,null,null,null,0,121]
[21,9278,12,9286,13,9290,null,null,null,null,0,211]
[21,9387,12,9398,13,9401,null,null,null,null,0,211]
[21,9496,21,9506,22,9509,null,null,null,null,0,222]
[21,9604,12,9611,24,9620,null,null,null,null,0,212]
[21,9720,12,9729,13,9733,null,null,null,null,0,211]
[21,9832,12,9840,13,9847,null,null,null,null,0,211]
[21,9945,12,9962,24,9966,null,null,null,null,0,212]
[21,10062,12,10074,13,10077,null,null,null,null,0,211]
[21,10176,12,10184,13,10188,null,null,null,null,0,211]
[12,10290,14,10295,13,10297,null,null,null,null,0,111]
[21,10389,21,10392,11,10402,null,null,null,null,0,221]
[12,10536,14,10540,13,10544,null,null,null,null,0,111]
[21,10641,21,10645,11,10660,null,null,null,null,0,221]
[21,10853,12,10865,13,10868,null,null,null,null,0,211]
[21,10964,21,10967,22,10981,null,null,null,null,0,222]
[21,11077,12,11086,13,11090,null,null,null,null,0,211]
[21,11184,21,11188,11,11204,null,null,null,null,0,221]
[21,11407,12,11424,24,11427,null,null,null,null,0,212]
[21,11535,12,11547,13,11551,null,null,null,null,0,211]
[21,11645,12,11655,13,11659,null,null,null,null,0,211]
[21,11759,12,11770,13,11773,null,null,null,null,0,211]
[21,11865,12,11876,13,11880,null,null,null,null,0,211]
[21,11977,12,11984,13,11988,null,null,null,null,0,211]
[21,12085,12,12105,24,12108,null,null,null,null,0,212]
[21,12201,12,12209,24,12217,null,null,null,null,0,212]
[21,12315,21,12317,11,12330,null,null,null,null,0,221]
[21,12490,12,12499,13,12502,null,null,null,null,0,211]
[21,12599,12,12610,13,12614,null,null,null,null,0,211]
[12,12722,23,12728,13,12735,null,null,null,null,0,121]
[21,12832,12,12842,13,12846,null,null,null,null,0,211]
[21,12944,21,12946,11,12958,null,null,null,null,0,221]
[12,13115,14,13118,13,13121,null,null,null,null,0,111]
[21,13217,12,13225,13,13228,null,null,null,null,0,211]
[21,13324,12,13333,13,13337,null,null,null,null,0,211]
[21,13435,12,13442,13,13447,null,null,null,null,0,211]
[21,13542,21,13555,11,13560,null,null,null,null,0,221]
[12,13670,23,13674,13,13679,null,null,null,null,0,121]
[21,13774,12,13784,13,13787,null,null,null,null,0,211]
[21,13886,12,13897,13,13903,null,null,null,null,0,211]
[21,13998,12,14009,13,14015,null,null,null,null,0,211]
[21,14113,12,14122,13,14125,null,null,null,null,0,211]
[21,14225,12,14235,13,14241,null,null,null,null,0,211]
[21,14340,12,14351,13,14354,null,null,null,null,0,211]
[21,14449,21,14451,11,14461,null,null,null,null,0,221]
[12,14581,23,14584,13,14586,null,null,null,null,0,121]
[12,14686,14,14693,24,14697,null,null,null,null,0,112]
[21,14789,12,14801,13,14804,null,null,null,null,0,211]
[21,14901,12,14914,13,14918,null,null,null,null,0,211]
[21,15016,21,15018,11,15026,null,null,null,null,0,221]
[21,15191,21,15206,11,15209,null,null,null,null,0,221]
[21,15341,12,15362,13,15366,null,null,null,null,0,211]
[21,15463,12,15475,13,15481,null,null,null,null,0,211]
[21,15579,12,15591,13,15594,null,null,null,null,0,211]
[12,15704,14,15709,13,15715,null,null,null,null,0,111]
[21,15812,21,15814,11,15821,null,null,null,null,0,221]
[12,15935,14,15938,24,15940,null,null,null,null,0,112]
[21,16038,12,16053,13,16059,null,null,null,null,0,211]
[21,16158,12,16165,13,16169,null,null,null,null,0,211]
[21,16269,21,16279,22,16283,null,null,null,null,0,222]
[21,16381,12,16392,13,16395,null,null,null,null,0,211]
[21,16493,12,16506,24,16509,null,null,null,null,0,212]
[21,16604,12,16618,13,16621,null,null,null,null,0,211]
[12,16726,14,16730,13,16736,null,null,null,null,0,111]
[21,16834,21,16836,11,16843,null,null,null,null,0,221]
[21,16982,12,16995,24,16997,null,null,null,null,0,212]
[21,17095,12,17108,13,17111,null,null,null,null,0,211]
[21,17205,21,17209,11,17225,null,null,null,null,0,221]
[21,17371,12,17387,24,17390,null,null,null,null,0,212]
[21,17483,21,17485,22,17489,null,null,null,null,0,222]
[21,17619,21,17624,11,17638,null,null,null,null,0,221]
[12,17788,14,17790,13,17794,null,null,null,null,0,111]
[21,17892,12,17904,13,17907,null,null,null,null,0,211]
[21,18004,21,18006,11,18021,null,null,null,null,0,221]
[21,18234,21,18236,11,18243,null,null,null,null,0,221]
[21,18363,12,18377,13,18382,null,null,null,null,0,211]
[12,18483,14,18488,13,18492,null,null,null,null,0,111]
[21,18591,21,18596,11,18601,null,null,null,null,0,221]
[21,19058,12,19071,13,19082,null,null,null,null,0,211]
[21,19178,12,19185,13,19188,null,null,null,null,0,211]
[21,19287,12,19295,13,19298,null,null,null,null,0,211]
[21,19398,12,19406,13,19411,null,null,null,null,0,211]
[21,19508,21,19511,11,19519,null,null,null,null,0,221]
[12,19640,14,19642,13,19645,null,null,null,null,0,111]
[21,19744,12,19760,24,19764,null,null,null,null,0,212]
[12,19868,14,19874,13,19879,null,null,null,null,0,111]
[21,19975,21,19977,11,19993,null,null,null,null,0,221]
[12,20096,14,20100,13,20106,null,null,null,null,0,111]
[12,20208,14,20212,13,20215,null,null,null,null,0,111]
[21,20314,21,20319,11,20325,null,null,null,null,0,221]
[12,21340,14,21344,13,21350,null,null,null,null,0,111]
[12,21537,14,21541,13,21546,null,null,null,null,0,111]
[12,21649,14,21653,13,21658,null,null,null,null,0,111]
[12,21766,14,21771,24,21775,null,null,null,null,0,112]
[21,21873,12,21885,13,21888,null,null,null,null,0,211]
[21,21983,12,21991,13,21995,null,null,null,null,0,211]
[21,22095,12,22100,13,22103,null,null,null,null,0,211]
[21,22199,12,22212,13,22217,null,null,null,null,0,211]
[21,22314,12,22323,13,22329,null,null,null,null,0,211]
[21,22426,12,22434,13,22437,null,null,null,null,0,211]
[21,22536,12,22544,13,22547,null,null,null,null,0,211]
[21,22647,12,22654,13,22659,null,null,null,null,0,211]
[21,22757,12,22767,13,22769,null,null,null,null,0,211]
[21,22865,12,22872,13,22875,null,null,null,null,0,211]
[21,22974,12,22983,13,22986,null,null,null,null,0,211]
[21,23084,12,23097,13,23099,null,null,null,null,0,211]
[21,23197,12,23210,24,23214,null,null,null,null,0,212]
[12,23318,14,23320,13,23323,null,null,null,null,0,111]
[12,23430,14,23433,13,23436,null,null,null,null,0,111]
[21,23536,12,23547,13,23552,null,null,null,null,0,211]
[21,23648,21,23650,22,23652,null,null,null,null,0,222]
[21,23748,12,23757,13,23762,null,null,null,null,0,211]
[21,23858,12,23866,13,23872,null,null,null,null,0,211]
[21,23970,21,23971,11,23983,null,null,null,null,1,221]

{"sheet":"!MA04A5T.AYL","index":5,"n_rows":196,"n_cols":48,"rows_kept":196,"cut":false,"hidden":false,"merged":[[4,39,4,42],[5,39,5,40],[4,44,4,47],[5,44,5,45],[4,24,4,27],[5,24,5,25],[4,29,4,32],[5,29,5,30],[4,34,4,37],[5,34,5,35],[1,1,1,2],[5,13,5,14],[18,13,18,14],[19,13,19,14],[4,19,4,22],[5,19,5,20]]}
["Report for:!MA04A5T.AYL"]
["Date:","<date>"]
["Hen:","<hen>",null,null,null,"Correct Sequence",{"$f":"Start!J2","v":221},null,null,null,null,null,null,null,null,"Total Sequences in Data",{"$f":"4994-COUNTBLANK(L7:L5000)","v":190},null,null,null,null,"Total Sequences in Block Data",{"$f":"COUNTA(L7:L38)","v":32},null,null,null,"Total Sequences in Block Data",{"$f":"COUNTA(L39:L69)","v":31},null,null,null,"Total Sequences in Block Data",{"$f":"COUNTA(L70:L101)","v":32},null,null,null,"Total Sequences in Block Data",{"$f":"COUNTA(L102:L133)","v":32},null,null,null,"Total Sequences in Block Data",{"$f":"COUNTA(L134:L164)","v":31},null,null,null,"Total Sequences in Block Data",{"$f":"COUNTA(L165:L196)","v":32}]
[null,null,null,null,null,null,null,null,null,null,null,null,null,null,null,"Total Sequences in Summary",{"$f":"SUM(O7:O14)","v":190},null,null,null,null,"Total Sequences in Block Summary",{"$f":"SUM(U7:U14)","v":32},null,null,null,"Total Sequences in Block Summary",{"$f":"SUM(Z7:Z14)","v":31},null,null,null,"Total Sequences in Block Summary",{"$f":"SUM(AE7:AE14)","v":32},null,null,null,"Total Sequences in Block Summary",{"$f":"SUM(AJ7:AJ14)","v":32},null,null,null,"Total Sequences in Block Summary",{"$f":"SUM(AO7:AO14)","v":31},null,null,null,"Total Sequences in Block Summary",{"$f":"SUM(AT7:AT14)","v":32}]
[null,null,null,null,null,null,null,null,null,null,null,null,null,null,null,null,null,null,null,"Block 1",null,null,null,null,"Block 2",null,null,null,null,"Block 3",null,null,null,null,"Block 4",null,null,null,null,"Block 5",null,null,null,null,"Block 6"]
["Sequence\nComponent\n1","Time\n1","Sequence\nComponent\n2","Time\n2","Sequence\nComponent\n3","Time\n3","Sequence\nComponent\n4","Time\n4","Sequence\nComponent\n5","Time\n5","Correct?\n0=No 1=Yes","Sequence",null,"Frequency",null,"Relative Frequency","Variability",null,null,"Frequency",null,"Relative Frequency","Variability",null,"Frequency",null,"Relative Frequency","Variability",null,"Frequency",null,"Relative Frequency","Variability",null,"Frequency",null,"Relative Frequency","Variability",null,"Frequency",null,"Relative Frequency","Variability",null,"Frequency",null,"Relative Frequency","Variability"]
[12,16,14,19,13,25,null,null,null,null,0,111,null,111,{"$f":"COUNTIF($L$7:$L$500,N7)","v":50},{"$f":"O7/$Q$4","v":0.26315789473684209},{"$f":"IF(P7=0,0,(P7*((LOG(P7))/LOG(2))))","v":-0.50684195225163764},null,null,{"$f":"N7","v":111},{"$f":"COUNTIF(L7:L38,T7)","v":12},{"$f":"U7/(W4-U13)","v":0.4},{"$f":"IF(V7=0,0,(V7*((LOG(V7))/LOG(2))))","v":-0.52877123795494496},null,{"$f":"N7","v":111},{"$f":"COUNTIF(L39:L69,Y7)","v":11},{"$f":"Z7/(AB4-Z13)","v":0.39285714285714285},{"$f":"IF(AA7=0,0,(AA7*((LOG(AA7))/LOG(2))))","v":-0.52954129777226344},null,{"$f":"N7","v":111},{"$f":"COUNTIF(L70:L101,AD7)","v":3},{"$f":"AE7/(AG4-AE13)","v":0.12},{"$f":"IF(AF7=0,0,(AF7*((LOG(AF7))/LOG(2))))","v":-0.36706724268642821},null,{"$f":"N7","v":111},{"$f":"COUNTIF(L102:L133,AI7)","v":7},{"$f":"AJ7/(AL4-AJ13)","v":0.25925925925925924},{"$f":"IF(AK7=0,0,(AK7*((LOG(AK7))/LOG(2))))","v":-0.5049158541015204},null,{"$f":"N7","v":111},{"$f":"COUNTIF(L134:L164,AN7)","v":9},{"$f":"AO7/(AQ4-AO13)","v":0.33333333333333331},{"$f":"IF(AP7=0,0,(AP7*((LOG(AP7))/LOG(2))))","v":-0.52832083357371862},null,{"$f":"N7","v":111},{"$f":"COUNTIF(L165:L196,AS7)","v":8},{"$f":"AT7/(AV4-AT13)","v":0.26666666666666666},{"$f":"IF(AU7=0,0,(AU7*((LOG(AU7))/LOG(2))))","v":-0.50850415882893829}]
[12,129,14,131,13,134,null,null,null,null,0,111,null,112,{"$f":"COUNTIF($L$7:$L$500,N8)","v":10},{"$f":"O8/$Q$4","v":5.2631578947368418E-2},{"$f":"IF(P8=0,0,(P8*((LOG(P8))/LOG(2))))","v":-0.22357513228650452},null,null,{"$f":"N8","v":112},{"$f":"COUNTIF(L7:L38,T8)","v":1},{"$f":"U8/(W4-U13)","v":3.3333333333333333E-2},{"$f":"IF(V8=0,0,(V8*((LOG(V8))/LOG(2))))","v":-0.16356301985361729},null,{"$f":"N8","v":112},{"$f":"COUNTIF(L39:L69,Y8)","v":3},{"$f":"Z8/(AB4-Z13)","v":0.10714285714285714},{"$f":"IF(AA8=0,0,(AA8*((LOG(AA8))/LOG(2))))","v":-0.34525633085747659},null,{"$f":"N8","v":112},{"$f":"COUNTIF(L70:L101,AD8)","v":0},{"$f":"AE8/(AG4-AE13)","v":0},{"$f":"IF(AF8=0,0,(AF8*((LOG(AF8))/LOG(2))))","v":0},null,{"$f":"N8","v":112},{"$f":"COUNTIF(L102:L133,AI8)","v":0},{"$f":"AJ8/(AL4-AJ13)","v":0},{"$f":"IF(AK8=0,0,(AK8*((LOG(AK8))/LOG(2))))","v":0},null,{"$f":"N8","v":112},{"$f":"COUNTIF(L134:L164,AN8)","v":1},{"$f":"AO8/(AQ4-AO13)","v":3.7037037037037035E-2},{"$f":"IF(AP8=0,0,(AP8*((LOG(AP8))/LOG(2))))","v":-0.1761069445245729},null,{"$f":"N8","v":112},{"$f":"COUNTIF(L165:L196,AS8)","v":5},{"$f":"AT8/(AV4-AT13)","v":0.16666666666666666},{"$f":"IF(AU8=0,0,(AU8*((LOG(AU8))/LOG(2))))","v":-0.43082708345352599}]
[12,235,14,240,13,244,null,null,null,null,0,111,null,121,{"$f":"COUNTIF($L$7:$L$500,N9)","v":7},{"$f":"O9/$Q$4","v":3.6842105263157891E-2},{"$f":"IF(P9=0,0,(P9*((LOG(P9))/LOG(2))))","v":-0.17546055159954424},null,null,{"$f":"N9","v":121},{"$f":"COUNTIF(L7:L38,T9)","v":0},{"$f":"U9/(W4-U13)","v":0},{"$f":"IF(V9=0,0,(V9*((LOG(V9))/LOG(2))))","v":0},null,{"$f":"N9","v":121},{"$f":"COUNTIF(L39:L69,Y9)","v":0},{"$f":"Z9/(AB4-Z13)","v":0},{"$f":"IF(AA9=0,0,(AA9*((LOG(AA9))/LOG(2))))","v":0},null,{"$f":"N9","v":121},{"$f":"COUNTIF(L70:L101,AD9)","v":0},{"$f":"AE9/(AG4-AE13)","v":0},{"$f":"IF(AF9=0,0,(AF9*((LOG(AF9))/LOG(2))))","v":0},null,{"$f":"N9","v":121},{"$f":"COUNTIF(L102:L133,AI9)","v":3},{"$f":"AJ9/(AL4-AJ13)","v":0.1111111111111111},{"$f":"IF(AK9=0,0,(AK9*((LOG(AK9))/LOG(2))))","v":-0.3522138890491458},null,{"$f":"N9","v":121},{"$f":"COUNTIF(L134:L164,AN9)","v":1},{"$f":"AO9/(AQ4-AO13)","v":3.7037037037037035E-2},{"$f":"IF(AP9=0,0,(AP9*((LOG(AP9))/LOG(2))))","v":-0.1761069445245729},null,{"$f":"N9","v":121},{"$f":"COUNTIF(L165:L196,AS9)","v":3},{"$f":"AT9/(AV4-AT13)","v":0.1},{"$f":"IF(AU9=0,0,(AU9*((LOG(AU9))/LOG(2))))","v":-0.33219280948873625}]
[12,356,14,360,13,364,null,null,null,null,0,111,null,122,{"$f":"COUNTIF($L$7:$L$500,N10)","v":3},{"$f":"O10/$Q$4","v":1.5789473684210527E-2},{"$f":"IF(P10=0,0,(P10*((LOG(P10))/LOG(2))))","v":-9.4498312225417769E-2},null,null,{"$f":"N10","v":122},{"$f":"COUNTIF(L7:L38,T10)","v":0},{"$f":"U10/(W4-U13)","v":0},{"$f":"IF(V10=0,0,(V10*((LOG(V10))/LOG(2))))","v":0},null,{"$f":"N10","v":122},{"$f":"COUNTIF(L39:L69,Y10)","v":0},{"$f":"Z10/(AB4-Z13)","v":0},{"$f":"IF(AA10=0,0,(AA10*((LOG(AA10))/LOG(2))))","v":0},null,{"$f":"N10","v":122},{"$f":"COUNTIF(L70:L101,AD10)","v":0},{"$f":"AE10/(AG4-AE13)","v":0},{"$f":"IF(AF10=0,0,(AF10*((LOG(AF10))/LOG(2))))","v":0},null,{"$f":"N10","v":122},{"$f":"COUNTIF(L102:L133,AI10)","v":0},{"$f":"AJ10/(AL4-AJ13)","v":0},{"$f":"IF(AK10=0,0,(AK10*((LOG(AK10))/LOG(2))))","v":0},null,{"$f":"N10","v":122},{"$f":"COUNTIF(L134:L164,AN10)","v":0},{"$f":"AO10/(AQ4-AO13)","v":0},{"$f":"IF(AP10=0,0,(AP10*((LOG(AP10))/LOG(2))))","v":0},null,{"$f":"N10","v":122},{"$f":"COUNTIF(L165:L196,AS10)","v":3},{"$f":"AT10/(AV4-AT13)","v":0.1},{"$f":"IF(AU10=0,0,(AU10*((LOG(AU10))/LOG(2))))","v":-0.33219280948873625}]
[12,468,14,472,13,475,null,null,null,null,0,111,null,211,{"$f":"COUNTIF($L$7:$L$500,N11)","v":82},{"$f":"O11/$Q$4","v":0.43157894736842106},{"$f":"IF(P11=0,0,(P11*((LOG(P11))/LOG(2))))","v":-0.52320471318134132},null,null,{"$f":"N11","v":211},{"$f":"COUNTIF(L7:L38,T11)","v":15},{"$f":"U11/(W4-U13)","v":0.5},{"$f":"IF(V11=0,0,(V11*((LOG(V11))/LOG(2))))","v":-0.5},null,{"$f":"N11","v":211},{"$f":"COUNTIF(L39:L69,Y11)","v":13},{"$f":"Z11/(AB4-Z13)","v":0.4642857142857143},{"$f":"IF(AA11=0,0,(AA11*((LOG(AA11))/LOG(2))))","v":-0.51392491610409474},null,{"$f":"N11","v":211},{"$f":"COUNTIF(L70:L101,AD11)","v":13},{"$f":"AE11/(AG4-AE13)","v":0.52},{"$f":"IF(AF11=0,0,(AF11*((LOG(AF11))/LOG(2))))","v":-0.49057656524948895},null,{"$f":"N11","v":211},{"$f":"COUNTIF(L102:L133,AI11)","v":15},{"$f":"AJ11/(AL4-AJ13)","v":0.55555555555555558},{"$f":"IF(AK11=0,0,(AK11*((LOG(AK11))/LOG(2))))","v":-0.4711093925305278},null,{"$f":"N11","v":211},{"$f":"COUNTIF(L134:L164,AN11)","v":15},{"$f":"AO11/(AQ4-AO13)","v":0.55555555555555558},{"$f":"IF(AP11=0,0,(AP11*((LOG(AP11))/LOG(2))))","v":-0.4711093925305278},null,{"$f":"N11","v":211},{"$f":"COUNTIF(L165:L196,AS11)","v":11},{"$f":"AT11/(AV4-AT13)","v":0.36666666666666664},{"$f":"IF(AU11=0,0,(AU11*((LOG(AU11))/LOG(2))))","v":-0.53073495822278116}]
[12,580,14,584,13,588,null,null,null,null,0,111,null,212,{"$f":"COUNTIF($L$7:$L$500,N12)","v":10},{"$f":"O12/$Q$4","v":5.2631578947368418E-2},{"$f":"IF(P12=0,0,(P12*((LOG(P12))/LOG(2))))","v":-0.22357513228650452},null,null,{"$f":"N12","v":212},{"$f":"COUNTIF(L7:L38,T12)","v":2},{"$f":"U12/(W4-U13)","v":6.6666666666666666E-2},{"$f":"IF(V12=0,0,(V12*((LOG(V12))/LOG(2))))","v":-0.26045937304056793},null,{"$f":"N12","v":212},{"$f":"COUNTIF(L39:L69,Y12)","v":0},{"$f":"Z12/(AB4-Z13)","v":0},{"$f":"IF(AA12=0,0,(AA12*((LOG(AA12))/LOG(2))))","v":0},null,{"$f":"N12","v":212},{"$f":"COUNTIF(L70:L101,AD12)","v":6},{"$f":"AE12/(AG4-AE13)","v":0.24},{"$f":"IF(AF12=0,0,(AF12*((LOG(AF12))/LOG(2))))","v":-0.49413448537285637},null,{"$f":"N12","v":212},{"$f":"COUNTIF(L102:L133,AI12)","v":1},{"$f":"AJ12/(AL4-AJ13)","v":3.7037037037037035E-2},{"$f":"IF(AK12=0,0,(AK12*((LOG(AK12))/LOG(2))))","v":-0.1761069445245729},null,{"$f":"N12","v":212},{"$f":"COUNTIF(L134:L164,AN12)","v":1},{"$f":"AO12/(AQ4-AO13)","v":3.7037037037037035E-2},{"$f":"IF(AP12=0,0,(AP12*((LOG(AP12))/LOG(2))))","v":-0.1761069445245729},null,{"$f":"N12","v":212},{"$f":"COUNTIF(L165:L196,AS12)","v":0},{"$f":"AT12/(AV4-AT13)","v":0},{"$f":"IF(AU12=0,0,(AU12*((LOG(AU12))/LOG(2))))","v":0}]
[21,682,12,692,13,695,null,null,null,null,0,211,null,221,{"$f":"COUNTIF($L$7:$L$500,N13)","v":23},{"$f":"O13/$Q$4","v":0.12105263157894737},{"$f":"IF(P13=0,0,(P13*((LOG(P13))/LOG(2))))","v":-0.3687618631700027},null,null,{"$f":"N13","v":221},{"$f":"COUNTIF(L7:L38,T13)","v":2},null,null,null,{"$f":"N13","v":221},{"$f":"COUNTIF(L39:L69,Y13)","v":3},null,null,null,{"$f":"N13","v":221},{"$f":"COUNTIF(L70:L101,AD13)","v":7},null,null,null,{"$f":"N13","v":221},{"$f":"COUNTIF(L102:L133,AI13)","v":5},null,null,null,{"$f":"N13","v":221},{"$f":"COUNTIF(L134:L164,AN13)","v":4},null,null,null,{"$f":"N13","v":221},{"$f":"COUNTIF(L165:L196,AS13)","v":2}]
[21,791,12,801,13,809,null,null,null,null,0,211,null,222,{"$f":"COUNTIF($L$7:$L$500,N14)","v":5},{"$f":"O14/$Q$4","v":2.6315789473684209E-2},{"$f":"IF(P14=0,0,(P14*((LOG(P14))/LOG(2))))","v":-0.13810335561693646},null,null,{"$f":"N14","v":222},{"$f":"COUNTIF(L7:L38,T14)","v":0},{"$f":"U14/(W4-U13)","v":0},{"$f":"IF(V14=0,0,(V14*((LOG(V14))/LOG(2))))","v":0},null,{"$f":"N14","v":222},{"$f":"COUNTIF(L39:L69,Y14)","v":1},{"$f":"Z14/(AB4-Z13)","v":3.5714285714285712E-2},{"$f":"IF(AA14=0,0,(AA14*((LOG(AA14))/LOG(2))))","v":-0.17169124721634299},null,{"$f":"N14","v":222},{"$f":"COUNTIF(L70:L101,AD14)","v":3},{"$f":"AE14/(AG4-AE13)","v":0.12},{"$f":"IF(AF14=0,0,(AF14*((LOG(AF14))/LOG(2))))","v":-0.36706724268642821},null,{"$f":"N14","v":222},{"$f":"COUNTIF(L102:L133,AI14)","v":1},{"$f":"AJ14/(AL4-AJ13)","v":3.7037037037037035E-2},{"$f":"IF(AK14=0,0,(AK14*((LOG(AK14))/LOG(2))))","v":-0.1761069445245729},null,{"$f":"N14","v":222},{"$f":"COUNTIF(L134:L164,AN14)","v":0},{"$f":"AO14/(AQ4-AO13)","v":0},{"$f":"IF(AP14=0,0,(AP14*((LOG(AP14))/LOG(2))))","v":0},null,{"$f":"N14","v":222},{"$f":"COUNTIF(L165:L196,AS14)","v":0},{"$f":"AT14/(AV4-AT13)","v":0},{"$f":"IF(AU14=0,0,(AU14*((LOG(AU14))/LOG(2))))","v":0}]
[21,903,12,912,13,920,null,null,null,null,0,211,null,null,null,{"$f":"SUM(P7:P14)","v":1},{"$f":"-SUM(Q7:Q14)","v":2.2540210126178892},null,null,null,null,{"$f":"SUM(V7:V14)","v":1},{"$f":"-SUM(W7:W14)","v":1.4527936308491303},null,null,null,{"$f":"SUM(AA7:AA14)","v":1},{"$f":"-SUM(AB7:AB14)","v":1.5604137919501779},null,null,null,{"$f":"SUM(AF7:AF14)","v":1},{"$f":"-SUM(AG7:AG14)","v":1.718845535995202},null,null,null,{"$f":"SUM(AK7:AK14)","v":1},{"$f":"-SUM(AL7:AL14)","v":1.6804530247303398},null,null,null,{"$f":"SUM(AP7:AP14)","v":1},{"$f":"-SUM(AQ7:AQ14)","v":1.5277510596779651},null,null,null,{"$f":"SUM(AU7:AU14)","v":1},{"$f":"-SUM(AV7:AV14)","v":2.134451819482718}]
[21,1015,12,1021,13,1026,null,null,null,null,0,211,null,null,null,"U=",{"$f":"Q15/(LOG(Q4)/LOG(2))","v":0.29776274862326874},null,null,null,null,"U1=",{"$f":"W15/(LOG(W4)/LOG(2))","v":0.29055872616982603},null,null,null,"U2=",{"$f":"AB15/(LOG(AB4)/LOG(2))","v":0.31496809859525421},null,null,null,"U3=",{"$f":"AG15/(LOG(AG4)/LOG(2))","v":0.34376910719904041},null,null,null,"U4=",{"$f":"AL15/(LOG(AL4)/LOG(2))","v":0.33609060494606796},null,null,null,"U5=",{"$f":"AQ15/(LOG(AQ4)/LOG(2))","v":0.30837515592083237},null,null,null,"U6=",{"$f":"AV15/(LOG(AV4)/LOG(2))","v":0.42689036389654361}]
[12,1128,14,1131,13,1136,null,null,null,null,0,111]
[21,1235,12,1243,13,1251,null,null,null,null,0,211]
[21,1351,12,1359,13,1362,null,null,null,null,0,211,null,"Total Target Seq"]
[12,1464,14,1467,13,1470,null,null,null,null,0,111,null,{"$f":"COUNTIF(L7:L196,G3)","v":23},null,32,31,32,32,31,32]
[21,1567,12,1584,24,1588,null,null,null,null,0,212,null,null,null,"% of reinforcement given in 6 equal intervals based on number of trials "]
[12,1689,14,1693,13,1696,null,null,null,null,0,111,null,null,null,"%_1","%_2","%_3","%_4","%_5","%_6"]
[21,1794,12,1807,13,1812,null,null,null,null,0,211,null,null,"target sequence",{"$f":"$G$3","v":221},{"$f":"$G$3","v":221},{"$f":"$G$3","v":221},{"$f":"$G$3","v":221},{"$f":"$G$3","v":221},{"$f":"$G$3","v":221}]
[21,1911,12,1922,13,1927,null,null,null,null,0,211,null,null,"total reinforcement",{"$f":"U13","v":2},{"$f":"Z13","v":3},{"$f":"AE13","v":7},{"$f":"AJ13","v":5},{"$f":"AO13","v":4},{"$f":"AT13","v":2}]
[21,2024,12,2042,13,2047,null,null,null,null,0,211,null,null,"% target"]
[12,2148,14,2158,24,2161,null,null,null,null,0,112,null,null,"CCRF"]
[21,2256,21,2258,11,2274,null,null,null,null,0,221,null,null,"% CCRf"]
[12,2488,14,2495,13,2500,null,null,null,null,0,111,null,null,"average response rate",{"$f":"F38/P20","v":113.6875},{"$f":"(F69-F38)/Q20","v":142.48387096774192},{"$f":"(F101-F69)/R20","v":128.15625},{"$f":"(F133-F101)/S20","v":121.625},{"$f":"(F164-F133)/T20","v":121.7741935483871},{"$f":"(F196-F164)/U20","v":129.90625}]
[21,2596,12,2607,13,2610,null,null,null,null,0,211]
[21,2708,12,2725,13,2730,null,null,null,null,0,211]
[21,2824,12,2833,13,2837,null,null,null,null,0,211]
[12,2941,14,2945,13,2948,null,null,null,null,0,111]
[12,3049,14,3053,13,3056,null,null,null,null,0,111]
[21,3151,12,3171,24,3175,null,null,null,null,0,212]
[21,3271,12,3280,13,3284,null,null,null,null,0,211]
[21,3378,12,3386,13,3392,null,null,null,null,0,211]
[21,3510,12,3519,13,3525,null,null,null,null,0,211]
[21,3622,21,3624,11,3638,null,null,null,null,0,221]
[12,3840,14,3845,24,3847,null,null,null,null,0,112]
[21,3943,12,3952,13,3958,null,null,null,null,0,211]
[21,4053,21,4066,22,4078,null,null,null,null,0,222]
[21,4172,12,4190,13,4196,null,null,null,null,0,211]
[12,4296,14,4299,24,4304,null,null,null,null,0,112]
[21,4400,12,4410,13,4416,null,null,null,null,0,211]
[21,4517,21,4520,11,4530,null,null,null,null,0,221]
[12,5339,14,5343,13,5347,null,null,null,null,0,111]
[12,5448,14,5452,13,5455,null,null,null,null,0,111]
[12,5571,14,5573,13,5579,null,null,null,null,0,111]
[21,5679,12,5689,13,5695,null,null,null,null,0,211]
[12,5795,14,5802,13,5812,null,null,null,null,0,111]
[21,5907,12,5918,13,5920,null,null,null,null,0,211]
[21,6018,12,6033,13,6038,null,null,null,null,0,211]
[12,6143,14,6148,13,6151,null,null,null,null,0,111]
[21,6248,12,6256,13,6263,null,null,null,null,0,211]
[12,6366,14,6370,13,6372,null,null,null,null,0,111]
[21,6469,21,6472,11,6485,null,null,null,null,0,221]
[12,6643,14,6649,13,6654,null,null,null,null,0,111]
[21,6751,12,6762,13,6766,null,null,null,null,0,211]
[21,6863,12,6880,13,6883,null,null,null,null,0,211]
[21,6978,21,6981,11,6993,null,null,null,null,0,221]
[12,7124,14,7127,13,7132,null,null,null,null,0,111]
[21,7228,12,7241,13,7247,null,null,null,null,0,211]
[21,7344,12,7360,13,7362,null,null,null,null,0,211]
[12,7484,14,7488,13,7490,null,null,null,null,0,111]
[21,7585,12,7596,13,7601,null,null,null,null,0,211]
[12,7704,14,7710,24,7714,null,null,null,null,0,112]
[12,7813,14,7819,13,7825,null,null,null,null,0,111]
[21,7923,12,7936,13,7940,null,null,null,null,0,211]
[12,8043,14,8050,13,8055,null,null,null,null,0,111]
[21,8151,21,8153,11,8165,null,null,null,null,0,221]
[21,8332,12,8346,13,8352,null,null,null,null,0,211]
[21,8447,12,8460,13,8463,null,null,null,null,0,211]
[21,8562,12,8570,13,8573,null,null,null,null,0,211]
[21,8669,12,8684,24,8688,null,null,null,null,0,212]
[21,8783,12,8797,13,8801,null,null,null,null,0,211]
[21,8895,21,8898,22,8902,null,null,null,null,0,222]
[21,8998,21,9000,11,9012,null,null,null,null,0,221]
[12,9218,14,9224,13,9230,null,null,null,null,0,111]
[21,9326,12,9346,13,9351,null,null,null,null,0,211]
[21,9449,21,9451,22,9453,null,null,null,null,0,222]
[21,9546,21,9548,11,9563,null,null,null,null,0,221]
[21,9721,12,9728,13,9734,null,null,null,null,0,211]
[21,9826,12,9840,13,9847,null,null,null,null,0,211]
[21,9940,12,9949,13,9955,null,null,null,null,0,211]
[21,10052,12,10064,24,10068,null,null,null,null,0,212]
[21,10169,21,10172,11,10184,null,null,null,null,0,221]
[21,10284,12,10299,24,10303,null,null,null,null,0,212]
[21,10395,21,10404,11,10409,null,null,null,null,0,221]
[21,10600,12,10614,13,10620,null,null,null,null,0,211]
[12,10725,14,10731,13,10737,null,null,null,null,0,111]
[21,10840,21,10843,22,10850,null,null,null,null,0,222]
[21,10942,12,10962,24,10967,null,null,null,null,0,212]
[21,11064,12,11071,13,11076,null,null,null,null,0,211]
[21,11172,12,11179,13,11185,null,null,null,null,0,211]
[21,11283,12,11294,24,11299,null,null,null,null,0,212]
[21,11396,12,11411,24,11418,null,null,null,null,0,212]
[21,11511,12,11518,13,11525,null,null,null,null,0,211]
[21,11621,21,11623,11,11630,null,null,null,null,0,221]
[21,11810,12,11818,13,11824,null,null,null,null,0,211]
[21,11921,21,11923,11,11936,null,null,null,null,0,221]
[12,12147,14,12150,13,12156,null,null,null,null,0,111]
[21,12258,12,12261,13,12266,null,null,null,null,0,211]
[21,12362,12,12375,13,12377,null,null,null,null,0,211]
[21,12473,12,12482,13,12485,null,null,null,null,0,211]
[21,12582,12,12595,24,12605,null,null,null,null,0,212]
[21,12703,12,12712,13,12715,null,null,null,null,0,211]
[12,12816,14,12819,13,12830,null,null,null,null,0,111]
[21,12929,12,12939,13,12942,null,null,null,null,0,211]
[21,13039,12,13049,13,13055,null,null,null,null,0,211]
[21,13150,12,13160,13,13166,null,null,null,null,0,211]
[21,13262,21,13264,11,13272,null,null,null,null,0,221]
[21,13438,12,13449,13,13452,null,null,null,null,0,211]
[21,13549,21,13554,11,13561,null,null,null,null,0,221]
[21,13716,12,13724,13,13727,null,null,null,null,0,211]
[12,13828,14,13831,13,13839,null,null,null,null,0,111]
[21,13936,21,13940,22,13944,null,null,null,null,0,222]
[12,14044,23,14048,13,14054,null,null,null,null,0,121]
[21,14147,21,14155,11,14162,null,null,null,null,0,221]
[12,14383,23,14387,13,14394,null,null,null,null,0,121]
[21,14488,12,14496,13,14502,null,null,null,null,0,211]
[21,14596,12,14607,13,14612,null,null,null,null,0,211]
[12,14712,14,14715,13,14721,null,null,null,null,0,111]
[21,14815,12,14824,13,14832,null,null,null,null,0,211]
[21,14926,12,14934,13,14937,null,null,null,null,0,211]
[12,15038,14,15042,13,15048,null,null,null,null,0,111]
[21,15145,12,15156,13,15162,null,null,null,null,0,211]
[21,15259,12,15267,13,15272,null,null,null,null,0,211]
[12,15415,14,15420,13,15426,null,null,null,null,0,111]
[12,15531,23,15533,13,15538,null,null,null,null,0,121]
[21,15634,21,15635,11,15642,null,null,null,null,0,221]
[12,15812,14,15817,13,15829,null,null,null,null,0,111]
[12,15930,14,15932,13,15939,null,null,null,null,0,111]
[21,16036,21,16037,11,16048,null,null,null,null,0,221]
[12,16203,14,16206,13,16212,null,null,null,null,0,111]
[21,16307,12,16315,13,16318,null,null,null,null,0,211]
[21,16416,12,16424,13,16427,null,null,null,null,0,211]
[12,16533,14,16539,13,16545,null,null,null,null,0,111]
[21,16642,12,16650,13,16654,null,null,null,null,0,211]
[21,16746,12,16759,13,16766,null,null,null,null,0,211]
[21,16886,21,16888,11,16894,null,null,null,null,0,221]
[21,17113,12,17121,13,17127,null,null,null,null,0,211]
[12,17231,14,17235,13,17242,null,null,null,null,0,111]
[21,17336,12,17345,13,17347,null,null,null,null,0,211]
[21,17443,12,17451,13,17457,null,null,null,null,0,211]
[21,17554,21,17556,11,17564,null,null,null,null,0,221]
[21,17707,12,17715,13,17720,null,null,null,null,0,211]
[21,17818,12,17828,13,17834,null,null,null,null,0,211]
[21,17932,12,17938,24,17941,null,null,null,null,0,212]
[12,18038,14,18041,13,18044,null,null,null,null,0,111]
[21,18141,12,18150,13,18153,null,null,null,null,0,211]
[12,18254,14,18260,24,18264,null,null,null,null,0,112]
[12,18361,14,18364,13,18369,null,null,null,null,0,111]
[12,18470,14,18473,13,18479,null,null,null,null,0,111]
[21,18573,12,18582,13,18586,null,null,null,null,0,211]
[12,18694,14,18699,13,18706,null,null,null,null,0,111]
[12,18811,14,18816,13,18821,null,null,null,null,0,111]
[21,18916,21,18920,11,18931,null,null,null,null,0,221]
[21,19076,12,19087,13,19089,null,null,null,null,0,211]
[12,19204,23,19207,13,19210,null,null,null,null,0,121]
[21,19303,12,19314,13,19319,null,null,null,null,0,211]
[21,19414,12,19426,13,19431,null,null,null,null,0,211]
[21,19528,12,19541,13,19544,null,null,null,null,0,211]
[21,19637,21,19641,11,19648,null,null,null,null,0,221]
[12,19815,14,19817,13,19823,null,null,null,null,0,111]
[12,19925,14,19930,13,19932,null,null,null,null,0,111]
[21,20029,12,20039,13,20045,null,null,null,null,0,211]
[12,20147,23,20151,13,20162,null,null,null,null,0,121]
[12,20267,14,20271,24,20275,null,null,null,null,0,112]
[12,20399,14,20404,24,20408,null,null,null,null,0,112]
[21,20507,12,20517,13,20524,null,null,null,null,0,211]
[12,20636,23,20643,24,20649,null,null,null,null,0,122]
[12,20755,14,20763,24,20770,null,null,null,null,0,112]
[12,20871,14,20875,13,20879,null,null,null,null,0,111]
[12,20983,23,20990,24,20999,null,null,null,null,0,122]
[21,21118,12,21127,13,21137,null,null,null,null,0,211]
[12,21240,14,21245,13,21250,null,null,null,null,0,111]
[21,21377,12,21387,13,21393,null,null,null,null,0,211]
[12,21493,14,21497,24,21500,null,null,null,null,0,112]
[12,21600,23,21605,24,21615,null,null,null,null,0,122]
[12,21718,14,21721,13,21726,null,null,null,null,0,111]
[12,21831,14,21835,13,21840,null,null,null,null,0,111]
[21,21937,12,21952,13,21956,null,null,null,null,0,211]
[21,22051,12,22064,13,22069,null,null,null,null,0,211]
[21,22167,12,22176,13,22183,null,null,null,null,0,211]
[21,22277,21,22284,11,22288,null,null,null,null,0,221]
[12,22495,14,22498,13,22504,null,null,null,null,0,111]
[21,22658,12,22668,13,22671,null,null,null,null,0,211]
[12,22769,14,22774,24,22776,null,null,null,null,0,112]
[12,22914,14,22917,13,22920,null,null,null,null,0,111]
[12,23129,23,23132,13,23135,null,null,null,null,0,121]
[21,23233,12,23241,13,23247,null,null,null,null,0,211]
[12,23360,23,23366,13,23373,null,null,null,null,0,121]
[21,23468,12,23474,13,23478,null,null,null,null,0,211]
[21,23604,12,23618,13,23622,null,null,null,null,0,211]
[12,23725,14,23729,13,23734,null,null,null,null,0,111]
[21,23944,21,23977,11,23980,null,null,null,null,1,221]

{"sheet":"!MA05A0T.AYL","index":6,"n_rows":193,"n_cols":48,"rows_kept":193,"cut":false,"hidden":false,"merged":[[4,39,4,42],[5,39,5,40],[4,44,4,47],[5,44,5,45],[4,24,4,27],[5,24,5,25],[4,29,4,32],[5,29,5,30],[4,34,4,37],[5,34,5,35],[1,1,1,2],[5,13,5,14],[18,13,18,14],[19,13,19,14],[4,19,4,22],[5,19,5,20]]}
["Report for:!MA05A0T.AYL"]
["Date:","<date>"]
["Hen:","<hen>",null,null,null,"Correct Sequence",{"$f":"Start!J2","v":221},null,null,null,null,null,null,null,null,"Total Sequences in Data",{"$f":"4994-COUNTBLANK(L7:L5000)","v":187},null,null,null,null,"Total Sequences in Block Data",{"$f":"COUNTA(L7:L37)","v":31},null,null,null,"Total Sequences in Block Data",{"$f":"COUNTA(L38:L68)","v":31},null,null,null,"Total Sequences in Block Data",{"$f":"COUNTA(L69:L100)","v":32},null,null,null,"Total Sequences in Block Data",{"$f":"COUNTA(L101:L131)","v":31},null,null,null,"Total Sequences in Block Data",{"$f":"COUNTA(L132:L162)","v":31},null,null,null,"Total Sequences in Block Data",{"$f":"COUNTA(L163:L193)","v":31}]
[null,null,null,null,null,null,null,null,null,null,null,null,null,null,null,"Total Sequences in Summary",{"$f":"SUM(O7:O14)","v":187},null,null,null,null,"Total Sequences in Block Summary",{"$f":"SUM(U7:U14)","v":31},null,null,null,"Total Sequences in Block Summary",{"$f":"SUM(Z7:Z14)","v":31},null,null,null,"Total Sequences in Block Summary",{"$f":"SUM(AE7:AE14)","v":32},null,null,null,"Total Sequences in Block Summary",{"$f":"SUM(AJ7:AJ14)","v":31},null,null,null,"Total Sequences in Block Summary",{"$f":"SUM(AO7:AO14)","v":31},null,null,null,"Total Sequences in Block Summary",{"$f":"SUM(AT7:AT14)","v":31}]
[null,null,null,null,null,null,null,null,null,null,null,null,null,null,null,null,null,null,null,"Block 1",null,null,null,null,"Block 2",null,null,null,null,"Block 3",null,null,null,null,"Block 4",null,null,null,null,"Block 5",null,null,null,null,"Block 6"]
["Sequence\nComponent\n1","Time\n1","Sequence\nComponent\n2","Time\n2","Sequence\nComponent\n3","Time\n3","Sequence\nComponent\n4","Time\n4","Sequence\nComponent\n5","Time\n5","Correct?\n0=No 1=Yes","Sequence",null,"Frequency",null,"Relative Frequency","Variability",null,null,"Frequency",null,"Relative Frequency","Variability",null,"Frequency",null,"Relative Frequency","Variability",null,"Frequency",null,"Relative Frequency","Variability",null,"Frequency",null,"Relative Frequency","Variability",null,"Frequency",null,"Relative Frequency","Variability",null,"Frequency",null,"Relative Frequency","Variability"]
[12,9,23,20,24,23,null,null,null,null,0,122,null,111,{"$f":"COUNTIF($L$7:$L$500,N7)","v":29},{"$f":"O7/$Q$4","v":0.15508021390374332},{"$f":"IF(P7=0,0,(P7*((LOG(P7))/LOG(2))))","v":-0.41699727528364638},null,null,{"$f":"N7","v":111},{"$f":"COUNTIF(L7:L37,T7)","v":7},{"$f":"U7/(W4-U13)","v":0.25925925925925924},{"$f":"IF(V7=0,0,(V7*((LOG(V7))/LOG(2))))","v":-0.5049158541015204},null,{"$f":"N7","v":111},{"$f":"COUNTIF(L38:L68,Y7)","v":4},{"$f":"Z7/(AB4-Z13)","v":0.14814814814814814},{"$f":"IF(AA7=0,0,(AA7*((LOG(AA7))/LOG(2))))","v":-0.40813148180199532},null,{"$f":"N7","v":111},{"$f":"COUNTIF(L69:L100,AD7)","v":5},{"$f":"AE7/(AG4-AE13)","v":0.19230769230769232},{"$f":"IF(AF7=0,0,(AF7*((LOG(AF7))/LOG(2))))","v":-0.45740608139494804},null,{"$f":"N7","v":111},{"$f":"COUNTIF(L101:L131,AI7)","v":4},{"$f":"AJ7/(AL4-AJ13)","v":0.16},{"$f":"IF(AK7=0,0,(AK7*((LOG(AK7))/LOG(2))))","v":-0.42301699036395596},null,{"$f":"N7","v":111},{"$f":"COUNTIF(L132:L162,AN7)","v":4},{"$f":"AO7/(AQ4-AO13)","v":0.14814814814814814},{"$f":"IF(AP7=0,0,(AP7*((LOG(AP7))/LOG(2))))","v":-0.40813148180199532},null,{"$f":"N7","v":111},{"$f":"COUNTIF(L163:L193,AS7)","v":5},{"$f":"AT7/(AV4-AT13)","v":0.19230769230769232},{"$f":"IF(AU7=0,0,(AU7*((LOG(AU7))/LOG(2))))","v":-0.45740608139494804}]
[12,129,14,133,13,136,null,null,null,null,0,111,null,112,{"$f":"COUNTIF($L$7:$L$500,N8)","v":3},{"$f":"O8/$Q$4","v":1.6042780748663103E-2},{"$f":"IF(P8=0,0,(P8*((LOG(P8))/LOG(2))))","v":-9.5645967259355313E-2},null,null,{"$f":"N8","v":112},{"$f":"COUNTIF(L7:L37,T8)","v":2},{"$f":"U8/(W4-U13)","v":7.407407407407407E-2},{"$f":"IF(V8=0,0,(V8*((LOG(V8))/LOG(2))))","v":-0.27813981497507173},null,{"$f":"N8","v":112},{"$f":"COUNTIF(L38:L68,Y8)","v":1},{"$f":"Z8/(AB4-Z13)","v":3.7037037037037035E-2},{"$f":"IF(AA8=0,0,(AA8*((LOG(AA8))/LOG(2))))","v":-0.1761069445245729},null,{"$f":"N8","v":112},{"$f":"COUNTIF(L69:L100,AD8)","v":0},{"$f":"AE8/(AG4-AE13)","v":0},{"$f":"IF(AF8=0,0,(AF8*((LOG(AF8))/LOG(2))))","v":0},null,{"$f":"N8","v":112},{"$f":"COUNTIF(L101:L131,AI8)","v":0},{"$f":"AJ8/(AL4-AJ13)","v":0},{"$f":"IF(AK8=0,0,(AK8*((LOG(AK8))/LOG(2))))","v":0},null,{"$f":"N8","v":112},{"$f":"COUNTIF(L132:L162,AN8)","v":0},{"$f":"AO8/(AQ4-AO13)","v":0},{"$f":"IF(AP8=0,0,(AP8*((LOG(AP8))/LOG(2))))","v":0},null,{"$f":"N8","v":112},{"$f":"COUNTIF(L163:L193,AS8)","v":0},{"$f":"AT8/(AV4-AT13)","v":0},{"$f":"IF(AU8=0,0,(AU8*((LOG(AU8))/LOG(2))))","v":0}]
[12,242,14,247,13,253,null,null,null,null,0,111,null,121,{"$f":"COUNTIF($L$7:$L$500,N9)","v":4},{"$f":"O9/$Q$4","v":2.1390374331550801E-2},{"$f":"IF(P9=0,0,(P9*((LOG(P9))/LOG(2))))","v":-0.11865014887460185},null,null,{"$f":"N9","v":121},{"$f":"COUNTIF(L7:L37,T9)","v":0},{"$f":"U9/(W4-U13)","v":0},{"$f":"IF(V9=0,0,(V9*((LOG(V9))/LOG(2))))","v":0},null,{"$f":"N9","v":121},{"$f":"COUNTIF(L38:L68,Y9)","v":1},{"$f":"Z9/(AB4-Z13)","v":3.7037037037037035E-2},{"$f":"IF(AA9=0,0,(AA9*((LOG(AA9))/LOG(2))))","v":-0.1761069445245729},null,{"$f":"N9","v":121},{"$f":"COUNTIF(L69:L100,AD9)","v":1},{"$f":"AE9/(AG4-AE13)","v":3.8461538461538464E-2},{"$f":"IF(AF9=0,0,(AF9*((LOG(AF9))/LOG(2))))","v":-0.18078614300542661},null,{"$f":"N9","v":121},{"$f":"COUNTIF(L101:L131,AI9)","v":2},{"$f":"AJ9/(AL4-AJ13)","v":0.08},{"$f":"IF(AK9=0,0,(AK9*((LOG(AK9))/LOG(2))))","v":-0.29150849518197797},null,{"$f":"N9","v":121},{"$f":"COUNTIF(L132:L162,AN9)","v":0},{"$f":"AO9/(AQ4-AO13)","v":0},{"$f":"IF(AP9=0,0,(AP9*((LOG(AP9))/LOG(2))))","v":0},null,{"$f":"N9","v":121},{"$f":"COUNTIF(L163:L193,AS9)","v":0},{"$f":"AT9/(AV4-AT13)","v":0},{"$f":"IF(AU9=0,0,(AU9*((LOG(AU9))/LOG(2))))","v":0}]
[21,350,12,361,13,365,null,null,null,null,0,211,null,122,{"$f":"COUNTIF($L$7:$L$500,N10)","v":3},{"$f":"O10/$Q$4","v":1.6042780748663103E-2},{"$f":"IF(P10=0,0,(P10*((LOG(P10))/LOG(2))))","v":-9.5645967259355313E-2},null,null,{"$f":"N10","v":122},{"$f":"COUNTIF(L7:L37,T10)","v":2},{"$f":"U10/(W4-U13)","v":7.407407407407407E-2},{"$f":"IF(V10=0,0,(V10*((LOG(V10))/LOG(2))))","v":-0.27813981497507173},null,{"$f":"N10","v":122},{"$f":"COUNTIF(L38:L68,Y10)","v":0},{"$f":"Z10/(AB4-Z13)","v":0},{"$f":"IF(AA10=0,0,(AA10*((LOG(AA10))/LOG(2))))","v":0},null,{"$f":"N10","v":122},{"$f":"COUNTIF(L69:L100,AD10)","v":1},{"$f":"AE10/(AG4-AE13)","v":3.8461538461538464E-2},{"$f":"IF(AF10=0,0,(AF10*((LOG(AF10))/LOG(2))))","v":-0.18078614300542661},null,{"$f":"N10","v":122},{"$f":"COUNTIF(L101:L131,AI10)","v":0},{"$f":"AJ10/(AL4-AJ13)","v":0},{"$f":"IF(AK10=0,0,(AK10*((LOG(AK10))/LOG(2))))","v":0},null,{"$f":"N10","v":122},{"$f":"COUNTIF(L132:L162,AN10)","v":0},{"$f":"AO10/(AQ4-AO13)","v":0},{"$f":"IF(AP10=0,0,(AP10*((LOG(AP10))/LOG(2))))","v":0},null,{"$f":"N10","v":122},{"$f":"COUNTIF(L163:L193,AS10)","v":0},{"$f":"AT10/(AV4-AT13)","v":0},{"$f":"IF(AU10=0,0,(AU10*((LOG(AU10))/LOG(2))))","v":0}]
[21,460,12,468,13,471,null,null,null,null,0,211,null,211,{"$f":"COUNTIF($L$7:$L$500,N11)","v":104},{"$f":"O11/$Q$4","v":0.55614973262032086},{"$f":"IF(P11=0,0,(P11*((LOG(P11))/LOG(2))))","v":-0.47075557829754344},null,null,{"$f":"N11","v":211},{"$f":"COUNTIF(L7:L37,T11)","v":16},{"$f":"U11/(W4-U13)","v":0.59259259259259256},{"$f":"IF(V11=0,0,(V11*((LOG(V11))/LOG(2))))","v":-0.44734074202279617},null,{"$f":"N11","v":211},{"$f":"COUNTIF(L38:L68,Y11)","v":20},{"$f":"Z11/(AB4-Z13)","v":0.7407407407407407},{"$f":"IF(AA11=0,0,(AA11*((LOG(AA11))/LOG(2))))","v":-0.32071067205637499},null,{"$f":"N11","v":211},{"$f":"COUNTIF(L69:L100,AD11)","v":16},{"$f":"AE11/(AG4-AE13)","v":0.61538461538461542},{"$f":"IF(AF11=0,0,(AF11*((LOG(AF11))/LOG(2))))","v":-0.43103982654836437},null,{"$f":"N11","v":211},{"$f":"COUNTIF(L101:L131,AI11)","v":16},{"$f":"AJ11/(AL4-AJ13)","v":0.64},{"$f":"IF(AK11=0,0,(AK11*((LOG(AK11))/LOG(2))))","v":-0.41206796145582375},null,{"$f":"N11","v":211},{"$f":"COUNTIF(L132:L162,AN11)","v":18},{"$f":"AO11/(AQ4-AO13)","v":0.66666666666666663},{"$f":"IF(AP11=0,0,(AP11*((LOG(AP11))/LOG(2))))","v":-0.38997500048077083},null,{"$f":"N11","v":211},{"$f":"COUNTIF(L163:L193,AS11)","v":18},{"$f":"AT11/(AV4-AT13)","v":0.69230769230769229},{"$f":"IF(AU11=0,0,(AU11*((LOG(AU11))/LOG(2))))","v":-0.36727941925300139}]
[12,575,14,578,13,581,null,null,null,null,0,111,null,212,{"$f":"COUNTIF($L$7:$L$500,N12)","v":9},{"$f":"O12/$Q$4","v":4.8128342245989303E-2},{"$f":"IF(P12=0,0,(P12*((LOG(P12))/LOG(2))))","v":-0.21065628409629902},null,null,{"$f":"N12","v":212},{"$f":"COUNTIF(L7:L37,T12)","v":0},{"$f":"U12/(W4-U13)","v":0},{"$f":"IF(V12=0,0,(V12*((LOG(V12))/LOG(2))))","v":0},null,{"$f":"N12","v":212},{"$f":"COUNTIF(L38:L68,Y12)","v":0},{"$f":"Z12/(AB4-Z13)","v":0},{"$f":"IF(AA12=0,0,(AA12*((LOG(AA12))/LOG(2))))","v":0},null,{"$f":"N12","v":212},{"$f":"COUNTIF(L69:L100,AD12)","v":1},{"$f":"AE12/(AG4-AE13)","v":3.8461538461538464E-2},{"$f":"IF(AF12=0,0,(AF12*((LOG(AF12))/LOG(2))))","v":-0.18078614300542661},null,{"$f":"N12","v":212},{"$f":"COUNTIF(L101:L131,AI12)","v":3},{"$f":"AJ12/(AL4-AJ13)","v":0.12},{"$f":"IF(AK12=0,0,(AK12*((LOG(AK12))/LOG(2))))","v":-0.36706724268642821},null,{"$f":"N12","v":212},{"$f":"COUNTIF(L132:L162,AN12)","v":4},{"$f":"AO12/(AQ4-AO13)","v":0.14814814814814814},{"$f":"IF(AP12=0,0,(AP12*((LOG(AP12))/LOG(2))))","v":-0.40813148180199532},null,{"$f":"N12","v":212},{"$f":"COUNTIF(L163:L193,AS12)","v":1},{"$f":"AT12/(AV4-AT13)","v":3.8461538461538464E-2},{"$f":"IF(AU12=0,0,(AU12*((LOG(AU12))/LOG(2))))","v":-0.18078614300542661}]
[21,676,12,685,13,689,null,null,null,null,0,211,null,221,{"$f":"COUNTIF($L$7:$L$500,N13)","v":29},{"$f":"O13/$Q$4","v":0.15508021390374332},{"$f":"IF(P13=0,0,(P13*((LOG(P13))/LOG(2))))","v":-0.41699727528364638},null,null,{"$f":"N13","v":221},{"$f":"COUNTIF(L7:L37,T13)","v":4},null,null,null,{"$f":"N13","v":221},{"$f":"COUNTIF(L38:L68,Y13)","v":4},null,null,null,{"$f":"N13","v":221},{"$f":"COUNTIF(L69:L100,AD13)","v":6},null,null,null,{"$f":"N13","v":221},{"$f":"COUNTIF(L101:L131,AI13)","v":6},null,null,null,{"$f":"N13","v":221},{"$f":"COUNTIF(L132:L162,AN13)","v":4},null,null,null,{"$f":"N13","v":221},{"$f":"COUNTIF(L163:L193,AS13)","v":5}]
[12,791,14,796,13,800,null,null,null,null,0,111,null,222,{"$f":"COUNTIF($L$7:$L$500,N14)","v":6},{"$f":"O14/$Q$4","v":3.2085561497326207E-2},{"$f":"IF(P14=0,0,(P14*((LOG(P14))/LOG(2))))","v":-0.15920637302138441},null,null,{"$f":"N14","v":222},{"$f":"COUNTIF(L7:L37,T14)","v":0},{"$f":"U14/(W4-U13)","v":0},{"$f":"IF(V14=0,0,(V14*((LOG(V14))/LOG(2))))","v":0},null,{"$f":"N14","v":222},{"$f":"COUNTIF(L38:L68,Y14)","v":1},{"$f":"Z14/(AB4-Z13)","v":3.7037037037037035E-2},{"$f":"IF(AA14=0,0,(AA14*((LOG(AA14))/LOG(2))))","v":-0.1761069445245729},null,{"$f":"N14","v":222},{"$f":"COUNTIF(L69:L100,AD14)","v":2},{"$f":"AE14/(AG4-AE13)","v":7.6923076923076927E-2},{"$f":"IF(AF14=0,0,(AF14*((LOG(AF14))/LOG(2))))","v":-0.28464920908777636},null,{"$f":"N14","v":222},{"$f":"COUNTIF(L101:L131,AI14)","v":0},{"$f":"AJ14/(AL4-AJ13)","v":0},{"$f":"IF(AK14=0,0,(AK14*((LOG(AK14))/LOG(2))))","v":0},null,{"$f":"N14","v":222},{"$f":"COUNTIF(L132:L162,AN14)","v":1},{"$f":"AO14/(AQ4-AO13)","v":3.7037037037037035E-2},{"$f":"IF(AP14=0,0,(AP14*((LOG(AP14))/LOG(2))))","v":-0.1761069445245729},null,{"$f":"N14","v":222},{"$f":"COUNTIF(L163:L193,AS14)","v":2},{"$f":"AT14/(AV4-AT13)","v":7.6923076923076927E-2},{"$f":"IF(AU14=0,0,(AU14*((LOG(AU14))/LOG(2))))","v":-0.28464920908777636}]
[21,897,12,910,13,917,null,null,null,null,0,211,null,null,null,{"$f":"SUM(P7:P14)","v":1},{"$f":"-SUM(Q7:Q14)","v":1.9845548693758321},null,null,null,null,{"$f":"SUM(V7:V14)","v":1},{"$f":"-SUM(W7:W14)","v":1.5085362260744601},null,null,null,{"$f":"SUM(AA7:AA14)","v":1},{"$f":"-SUM(AB7:AB14)","v":1.2571629874320889},null,null,null,{"$f":"SUM(AF7:AF14)","v":1},{"$f":"-SUM(AG7:AG14)","v":1.7154535460473683},null,null,null,{"$f":"SUM(AK7:AK14)","v":1},{"$f":"-SUM(AL7:AL14)","v":1.4936606896881859},null,null,null,{"$f":"SUM(AP7:AP14)","v":1},{"$f":"-SUM(AQ7:AQ14)","v":1.3823449086093345},null,null,null,{"$f":"SUM(AU7:AU14)","v":1},{"$f":"-SUM(AV7:AV14)","v":1.2901208527411523}]
[12,1021,14,1025,13,1028,null,null,null,null,0,111,null,null,null,"U=",{"$f":"Q15/(LOG(Q4)/LOG(2))","v":0.26296311415561779},null,null,null,null,"U1=",{"$f":"W15/(LOG(W4)/LOG(2))","v":0.30449665930913788},null,null,null,"U2=",{"$f":"AB15/(LOG(AB4)/LOG(2))","v":0.25375720069799101},null,null,null,"U3=",{"$f":"AG15/(LOG(AG4)/LOG(2))","v":0.34309070920947365},null,null,null,"U4=",{"$f":"AL15/(LOG(AL4)/LOG(2))","v":0.30149404587714962},null,null,null,"U5=",{"$f":"AQ15/(LOG(AQ4)/LOG(2))","v":0.2790250571442105},null,null,null,"U6=",{"$f":"AV15/(LOG(AV4)/LOG(2))","v":0.26040971570632138}]
[21,1127,12,1135,13,1138,null,null,null,null,0,211]
[21,1232,12,1243,13,1253,null,null,null,null,0,211]
[21,1349,12,1360,13,1363,null,null,null,null,0,211,null,"Total Target Seq"]
[21,1456,21,1463,11,1478,null,null,null,null,0,221,null,{"$f":"COUNTIF(L7:L193,G3)","v":29},null,31,31,32,31,31,31]
[12,1646,14,1651,24,1655,null,null,null,null,0,112,null,null,null,"% of reinforcement given in 6 equal intervals based on number of trials "]
[21,1748,12,1756,13,1760,null,null,null,null,0,211,null,null,null,"%_1","%_2","%_3","%_4","%_5","%_6"]
[21,1875,12,1884,13,1889,null,null,null,null,0,211,null,null,"target sequence",{"$f":"$G$3","v":221},{"$f":"$G$3","v":221},{"$f":"$G$3","v":221},{"$f":"$G$3","v":221},{"$f":"$G$3","v":221},{"$f":"$G$3","v":221}]
[12,1989,23,1997,24,1999,null,null,null,null,0,122,null,null,"total reinforcement",{"$f":"U13","v":4},{"$f":"Z13","v":4},{"$f":"AE13","v":6},{"$f":"AJ13","v":6},{"$f":"AO13","v":4},{"$f":"AT13","v":5}]
[21,2095,21,2096,11,2113,null,null,null,null,0,221,null,null,"% target"]
[12,2255,14,2260,24,2264,null,null,null,null,0,112,null,null,"CCRF"]
[12,2366,14,2369,13,2372,null,null,null,null,0,111,null,null,"% CCRf"]
[21,2468,12,2476,13,2479,null,null,null,null,0,211,null,null,"average response rate",{"$f":"F37/P20","v":114.25806451612904},{"$f":"(F68-F37)/Q20","v":129.19354838709677},{"$f":"(F100-F68)/R20","v":131.53125},{"$f":"(F131-F100)/S20","v":131.90322580645162},{"$f":"(F162-F131)/T20","v":126.48387096774194},{"$f":"(F193-F162)/U20","v":133.41935483870967}]
[21,2576,21,2579,11,2594,null,null,null,null,0,221]
[21,2748,12,2757,13,2760,null,null,null,null,0,211]
[21,2854,12,2862,13,2866,null,null,null,null,0,211]
[21,2965,12,2979,13,2985,null,null,null,null,0,211]
[21,3083,12,3096,13,3102,null,null,null,null,0,211]
[21,3199,12,3208,13,3213,null,null,null,null,0,211]
[12,3315,14,3318,13,3321,null,null,null,null,0,111]
[21,3415,12,3426,13,3431,null,null,null,null,0,211]
[21,3528,21,3530,11,3542,null,null,null,null,0,221]
[12,3684,14,3689,13,3694,null,null,null,null,0,111]
[21,3786,12,3796,13,3799,null,null,null,null,0,211]
[21,3895,12,3906,13,3909,null,null,null,null,0,211]
[12,4008,14,4011,13,4016,null,null,null,null,0,111]
[21,4111,12,4122,13,4127,null,null,null,null,0,211]
[21,4223,12,4233,13,4236,null,null,null,null,0,211]
[21,4332,12,4340,13,4342,null,null,null,null,0,211]
[21,4473,12,4487,13,4492,null,null,null,null,0,211]
[21,4589,12,4601,13,4604,null,null,null,null,0,211]
[21,4701,21,4705,11,4719,null,null,null,null,0,221]
[12,5004,23,5009,13,5015,null,null,null,null,0,121]
[21,5137,12,5145,13,5148,null,null,null,null,0,211]
[21,5245,12,5255,13,5260,null,null,null,null,0,211]
[21,5357,12,5368,13,5371,null,null,null,null,0,211]
[21,5468,12,5484,13,5486,null,null,null,null,0,211]
[21,5581,21,5585,11,5597,null,null,null,null,0,221]
[12,5820,14,5824,13,5829,null,null,null,null,0,111]
[21,5926,12,5936,13,5939,null,null,null,null,0,211]
[21,6038,12,6051,13,6054,null,null,null,null,0,211]
[21,6151,21,6153,22,6160,null,null,null,null,0,222]
[21,6254,12,6265,13,6268,null,null,null,null,0,211]
[21,6364,21,6367,11,6382,null,null,null,null,0,221]
[12,6534,14,6539,13,6544,null,null,null,null,0,111]
[21,6641,12,6653,13,6660,null,null,null,null,0,211]
[21,6757,12,6767,13,6773,null,null,null,null,0,211]
[21,6869,21,6872,11,6886,null,null,null,null,0,221]
[21,7075,12,7086,13,7090,null,null,null,null,0,211]
[21,7186,12,7200,13,7210,null,null,null,null,0,211]
[21,7304,12,7321,13,7328,null,null,null,null,0,211]
[12,7429,14,7433,24,7440,null,null,null,null,0,112]
[21,7535,12,7544,13,7547,null,null,null,null,0,211]
[21,7639,12,7653,13,7658,null,null,null,null,0,211]
[21,7756,12,7765,13,7771,null,null,null,null,0,211]
[21,7867,12,7878,13,7881,null,null,null,null,0,211]
[21,7978,21,7981,11,7994,null,null,null,null,0,221]
[21,8338,12,8352,13,8357,null,null,null,null,0,211]
[21,8451,21,8459,22,8461,null,null,null,null,0,222]
[21,8554,12,8566,13,8568,null,null,null,null,0,211]
[21,8663,21,8666,11,8673,null,null,null,null,0,221]
[21,8768,12,8783,13,8794,null,null,null,null,0,211]
[21,8888,12,8898,13,8901,null,null,null,null,0,211]
[21,8998,12,9008,13,9011,null,null,null,null,0,211]
[12,9114,14,9119,13,9124,null,null,null,null,0,111]
[12,9227,14,9231,13,9237,null,null,null,null,0,111]
[21,9332,12,9340,13,9347,null,null,null,null,0,211]
[21,9439,12,9448,13,9451,null,null,null,null,0,211]
[21,9547,21,9550,11,9557,null,null,null,null,0,221]
[21,9743,12,9752,13,9755,null,null,null,null,0,211]
[21,9851,12,9862,13,9865,null,null,null,null,0,211]
[21,9957,21,9961,11,9969,null,null,null,null,0,221]
[21,10073,12,10090,24,10092,null,null,null,null,0,212]
[21,10188,12,10202,13,10206,null,null,null,null,0,211]
[21,10304,12,10311,13,10314,null,null,null,null,0,211]
[21,10408,12,10416,13,10420,null,null,null,null,0,211]
[12,10523,14,10526,13,10533,null,null,null,null,0,111]
[21,10630,21,10634,11,10645,null,null,null,null,0,221]
[12,11052,23,11054,13,11056,null,null,null,null,0,121]
[21,11150,21,11154,22,11156,null,null,null,null,0,222]
[21,11249,21,11253,11,11260,null,null,null,null,0,221]
[12,11408,14,11410,13,11412,null,null,null,null,0,111]
[12,11517,23,11525,24,11539,null,null,null,null,0,122]
[12,11641,14,11644,13,11647,null,null,null,null,0,111]
[21,11743,12,11751,13,11756,null,null,null,null,0,211]
[21,11852,12,11864,13,11867,null,null,null,null,0,211]
[21,11962,21,11964,11,11974,null,null,null,null,0,221]
[21,12102,12,12110,13,12116,null,null,null,null,0,211]
[21,12212,12,12219,13,12224,null,null,null,null,0,211]
[12,12326,14,12329,13,12334,null,null,null,null,0,111]
[21,12431,21,12434,11,12448,null,null,null,null,0,221]
[21,12565,12,12581,13,12587,null,null,null,null,0,211]
[21,12679,21,12682,11,12693,null,null,null,null,0,221]
[12,12835,23,12838,13,12844,null,null,null,null,0,121]
[12,12948,14,12951,13,12958,null,null,null,null,0,111]
[21,13057,12,13067,13,13073,null,null,null,null,0,211]
[21,13166,12,13174,13,13178,null,null,null,null,0,211]
[21,13274,12,13286,13,13291,null,null,null,null,0,211]
[21,13388,12,13396,13,13401,null,null,null,null,0,211]
[21,13497,12,13509,24,13518,null,null,null,null,0,212]
[12,13625,14,13629,13,13635,null,null,null,null,0,111]
[21,13733,12,13745,24,13749,null,null,null,null,0,212]
[21,13844,12,13852,13,13858,null,null,null,null,0,211]
[21,13950,12,13958,13,13961,null,null,null,null,0,211]
[21,14056,21,14058,11,14065,null,null,null,null,0,221]
[21,14379,12,14390,13,14395,null,null,null,null,0,211]
[12,14501,23,14504,13,14507,null,null,null,null,0,121]
[21,14603,21,14606,11,14617,null,null,null,null,0,221]
[12,14857,14,14862,13,14868,null,null,null,null,0,111]
[21,14965,12,14976,13,14981,null,null,null,null,0,211]
[21,15077,12,15089,13,15096,null,null,null,null,0,211]
[21,15193,12,15204,24,15208,null,null,null,null,0,212]
[21,15302,12,15309,13,15312,null,null,null,null,0,211]
[21,15408,21,15410,11,15426,null,null,null,null,0,221]
[21,15711,12,15724,13,15736,null,null,null,null,0,211]
[21,15833,12,15841,13,15845,null,null,null,null,0,211]
[21,15945,12,15958,24,15962,null,null,null,null,0,212]
[21,16057,12,16071,13,16077,null,null,null,null,0,211]
[21,16173,21,16175,11,16183,null,null,null,null,0,221]
[12,16495,14,16501,13,16507,null,null,null,null,0,111]
[21,16604,12,16613,13,16616,null,null,null,null,0,211]
[21,16709,21,16713,11,16724,null,null,null,null,0,221]
[21,16900,12,16915,13,16923,null,null,null,null,0,211]
[21,17019,12,17031,13,17036,null,null,null,null,0,211]
[21,17129,12,17143,13,17150,null,null,null,null,0,211]
[21,17245,12,17251,13,17257,null,null,null,null,0,211]
[21,17348,21,17353,11,17366,null,null,null,null,0,221]
[21,17495,12,17509,13,17515,null,null,null,null,0,211]
[21,17613,12,17620,13,17622,null,null,null,null,0,211]
[12,17733,14,17738,13,17745,null,null,null,null,0,111]
[21,17839,12,17849,13,17851,null,null,null,null,0,211]
[21,17947,12,17960,24,17971,null,null,null,null,0,212]
[21,18068,12,18080,13,18091,null,null,null,null,0,211]
[21,18185,21,18187,11,18202,null,null,null,null,0,221]
[12,18390,14,18395,13,18401,null,null,null,null,0,111]
[12,18506,14,18512,13,18519,null,null,null,null,0,111]
[21,18616,12,18627,24,18633,null,null,null,null,0,212]
[21,18730,21,18733,22,18736,null,null,null,null,0,222]
[21,18830,12,18840,13,18845,null,null,null,null,0,211]
[21,18942,12,18955,13,18962,null,null,null,null,0,211]
[21,19060,12,19070,13,19082,null,null,null,null,0,211]
[21,19179,12,19193,13,19200,null,null,null,null,0,211]
[21,19296,12,19305,13,19307,null,null,null,null,0,211]
[21,19403,12,19411,13,19417,null,null,null,null,0,211]
[21,19513,12,19528,24,19530,null,null,null,null,0,212]
[21,19629,12,19639,13,19651,null,null,null,null,0,211]
[21,19748,12,19760,13,19766,null,null,null,null,0,211]
[21,19865,21,19881,22,19884,null,null,null,null,0,222]
[21,19981,21,19986,11,20002,null,null,null,null,0,221]
[21,20337,12,20349,13,20354,null,null,null,null,0,211]
[21,20450,21,20452,11,20469,null,null,null,null,0,221]
[21,20762,12,20776,13,20781,null,null,null,null,0,211]
[21,20876,12,20886,13,20891,null,null,null,null,0,211]
[21,20987,12,20996,13,20999,null,null,null,null,0,211]
[21,21096,12,21115,13,21121,null,null,null,null,0,211]
[21,21219,21,21222,22,21225,null,null,null,null,0,222]
[12,21326,14,21331,13,21343,null,null,null,null,0,111]
[21,21474,21,21476,11,21487,null,null,null,null,0,221]
[21,21604,12,21613,13,21618,null,null,null,null,0,211]
[12,21717,14,21722,13,21727,null,null,null,null,0,111]
[21,21823,21,21825,11,21837,null,null,null,null,0,221]
[21,21986,12,22000,13,22006,null,null,null,null,0,211]
[21,22102,21,22104,11,22116,null,null,null,null,0,221]
[12,22274,14,22277,13,22283,null,null,null,null,0,111]
[21,22379,12,22394,13,22399,null,null,null,null,0,211]
[21,22495,12,22507,13,22513,null,null,null,null,0,211]
[21,22605,12,22613,13,22620,null,null,null,null,0,211]
[21,22713,12,22721,13,22724,null,null,null,null,0,211]
[21,22820,12,22833,13,22846,null,null,null,null,0,211]
[21,22942,12,22957,13,22968,null,null,null,null,0,211]
[21,23064,12,23078,13,23096,null,null,null,null,0,211]
[21,23193,12,23205,13,23211,null,null,null,null,0,211]
[21,23309,12,23326,24,23330,null,null,null,null,0,212]
[12,23431,14,23434,13,23437,null,null,null,null,0,111]
[21,23534,12,23546,13,23553,null,null,null,null,0,211]
[21,23646,12,23657,13,23669,null,null,null,null,0,211]
[12,23771,14,23774,13,23780,null,null,null,null,0,111]
[21,23877,12,23891,13,23902,null,null,null,null,0,211]

{"sheet":"!MA0685T.AYL","index":7,"n_rows":193,"n_cols":48,"rows_kept":193,"cut":false,"hidden":false,"merged":[[4,39,4,42],[5,39,5,40],[4,44,4,47],[5,44,5,45],[4,24,4,27],[5,24,5,25],[4,29,4,32],[5,29,5,30],[4,34,4,37],[5,34,5,35],[1,1,1,2],[5,13,5,14],[18,13,18,14],[19,13,19,14],[4,19,4,22],[5,19,5,20]]}
["Report for:!MA0685T.AYL"]
["Date:","<date>"]
["Hen:","<hen>",null,null,null,"Correct Sequence",{"$f":"Start!J2","v":221},null,null,null,null,null,null,null,null,"Total Sequences in Data",{"$f":"4994-COUNTBLANK(L7:L5000)","v":187},null,null,null,null,"Total Sequences in Block Data",{"$f":"COUNTA(L7:L37)","v":31},null,null,null,"Total Sequences in Block Data",{"$f":"COUNTA(L38:L68)","v":31},null,null,null,"Total Sequences in Block Data",{"$f":"COUNTA(L69:L100)","v":32},null,null,null,"Total Sequences in Block Data",{"$f":"COUNTA(L101:L131)","v":31},null,null,null,"Total Sequences in Block Data",{"$f":"COUNTA(L132:L162)","v":31},null,null,null,"Total Sequences in Block Data",{"$f":"COUNTA(L163:L193)","v":31}]
[null,null,null,null,null,null,null,null,null,null,null,null,null,null,null,"Total Sequences in Summary",{"$f":"SUM(O7:O14)","v":187},null,null,null,null,"Total Sequences in Block Summary",{"$f":"SUM(U7:U14)","v":31},null,null,null,"Total Sequences in Block Summary",{"$f":"SUM(Z7:Z14)","v":31},null,null,null,"Total Sequences in Block Summary",{"$f":"SUM(AE7:AE14)","v":32},null,null,null,"Total Sequences in Block Summary",{"$f":"SUM(AJ7:AJ14)","v":31},null,null,null,"Total Sequences in Block Summary",{"$f":"SUM(AO7:AO14)","v":31},null,null,null,"Total Sequences in Block Summary",{"$f":"SUM(AT7:AT14)","v":31}]
[null,null,null,null,null,null,null,null,null,null,null,null,null,null,null,null,null,null,null,"Block 1",null,null,null,null,"Block 2",null,null,null,null,"Block 3",null,null,null,null,"Block 4",null,null,null,null,"Block 5",null,null,null,null,"Block 6"]
["Sequence\nComponent\n1","Time\n1","Sequence\nComponent\n2","Time\n2","Sequence\nComponent\n3","Time\n3","Sequence\nComponent\n4","Time\n4","Sequence\nComponent\n5","Time\n5","Correct?\n0=No 1=Yes","Sequence",null,"Frequency",null,"Relative Frequency","Variability",null,null,"Frequency",null,"Relative Frequency","Variability",null,"Frequency",null,"Relative Frequency","Variability",null,"Frequency",null,"Relative Frequency","Variability",null,"Frequency",null,"Relative Frequency","Variability",null,"Frequency",null,"Relative Frequency","Variability",null,"Frequency",null,"Relative Frequency","Variability"]
[21,8,12,19,13,27,null,null,null,null,0,211,null,111,{"$f":"COUNTIF($L$7:$L$500,N7)","v":35},{"$f":"O7/$Q$4","v":0.18716577540106952},{"$f":"IF(P7=0,0,(P7*((LOG(P7))/LOG(2))))","v":-0.45249412033686337},null,null,{"$f":"N7","v":111},{"$f":"COUNTIF(L7:L37,T7)","v":6},{"$f":"U7/(W4-U13)","v":0.2},{"$f":"IF(V7=0,0,(V7*((LOG(V7))/LOG(2))))","v":-0.46438561897747244},null,{"$f":"N7","v":111},{"$f":"COUNTIF(L38:L68,Y7)","v":2},{"$f":"Z7/(AB4-Z13)","v":7.6923076923076927E-2},{"$f":"IF(AA7=0,0,(AA7*((LOG(AA7))/LOG(2))))","v":-0.28464920908777636},null,{"$f":"N7","v":111},{"$f":"COUNTIF(L69:L100,AD7)","v":9},{"$f":"AE7/(AG4-AE13)","v":0.33333333333333331},{"$f":"IF(AF7=0,0,(AF7*((LOG(AF7))/LOG(2))))","v":-0.52832083357371862},null,{"$f":"N7","v":111},{"$f":"COUNTIF(L101:L131,AI7)","v":6},{"$f":"AJ7/(AL4-AJ13)","v":0.20689655172413793},{"$f":"IF(AK7=0,0,(AK7*((LOG(AK7))/LOG(2))))","v":-0.4702796884978791},null,{"$f":"N7","v":111},{"$f":"COUNTIF(L132:L162,AN7)","v":5},{"$f":"AO7/(AQ4-AO13)","v":0.17241379310344829},{"$f":"IF(AP7=0,0,(AP7*((LOG(AP7))/LOG(2))))","v":-0.43725050004141547},null,{"$f":"N7","v":111},{"$f":"COUNTIF(L163:L193,AS7)","v":7},{"$f":"AT7/(AV4-AT13)","v":0.25},{"$f":"IF(AU7=0,0,(AU7*((LOG(AU7))/LOG(2))))","v":-0.5}]
[21,136,21,140,22,147,null,null,null,null,0,222,null,112,{"$f":"COUNTIF($L$7:$L$500,N8)","v":6},{"$f":"O8/$Q$4","v":3.2085561497326207E-2},{"$f":"IF(P8=0,0,(P8*((LOG(P8))/LOG(2))))","v":-0.15920637302138441},null,null,{"$f":"N8","v":112},{"$f":"COUNTIF(L7:L37,T8)","v":0},{"$f":"U8/(W4-U13)","v":0},{"$f":"IF(V8=0,0,(V8*((LOG(V8))/LOG(2))))","v":0},null,{"$f":"N8","v":112},{"$f":"COUNTIF(L38:L68,Y8)","v":1},{"$f":"Z8/(AB4-Z13)","v":3.8461538461538464E-2},{"$f":"IF(AA8=0,0,(AA8*((LOG(AA8))/LOG(2))))","v":-0.18078614300542661},null,{"$f":"N8","v":112},{"$f":"COUNTIF(L69:L100,AD8)","v":1},{"$f":"AE8/(AG4-AE13)","v":3.7037037037037035E-2},{"$f":"IF(AF8=0,0,(AF8*((LOG(AF8))/LOG(2))))","v":-0.1761069445245729},null,{"$f":"N8","v":112},{"$f":"COUNTIF(L101:L131,AI8)","v":1},{"$f":"AJ8/(AL4-AJ13)","v":3.4482758620689655E-2},{"$f":"IF(AK8=0,0,(AK8*((LOG(AK8))/LOG(2))))","v":-0.16751658603888178},null,{"$f":"N8","v":112},{"$f":"COUNTIF(L132:L162,AN8)","v":1},{"$f":"AO8/(AQ4-AO13)","v":3.4482758620689655E-2},{"$f":"IF(AP8=0,0,(AP8*((LOG(AP8))/LOG(2))))","v":-0.16751658603888178},null,{"$f":"N8","v":112},{"$f":"COUNTIF(L163:L193,AS8)","v":2},{"$f":"AT8/(AV4-AT13)","v":7.1428571428571425E-2},{"$f":"IF(AU8=0,0,(AU8*((LOG(AU8))/LOG(2))))","v":-0.27195392300411453}]
[12,269,14,275,13,281,null,null,null,null,0,111,null,121,{"$f":"COUNTIF($L$7:$L$500,N9)","v":2},{"$f":"O9/$Q$4","v":1.06951871657754E-2},{"$f":"IF(P9=0,0,(P9*((LOG(P9))/LOG(2))))","v":-7.0020261603076325E-2},null,null,{"$f":"N9","v":121},{"$f":"COUNTIF(L7:L37,T9)","v":1},{"$f":"U9/(W4-U13)","v":3.3333333333333333E-2},{"$f":"IF(V9=0,0,(V9*((LOG(V9))/LOG(2))))","v":-0.16356301985361729},null,{"$f":"N9","v":121},{"$f":"COUNTIF(L38:L68,Y9)","v":0},{"$f":"Z9/(AB4-Z13)","v":0},{"$f":"IF(AA9=0,0,(AA9*((LOG(AA9))/LOG(2))))","v":0},null,{"$f":"N9","v":121},{"$f":"COUNTIF(L69:L100,AD9)","v":0},{"$f":"AE9/(AG4-AE13)","v":0},{"$f":"IF(AF9=0,0,(AF9*((LOG(AF9))/LOG(2))))","v":0},null,{"$f":"N9","v":121},{"$f":"COUNTIF(L101:L131,AI9)","v":0},{"$f":"AJ9/(AL4-AJ13)","v":0},{"$f":"IF(AK9=0,0,(AK9*((LOG(AK9))/LOG(2))))","v":0},null,{"$f":"N9","v":121},{"$f":"COUNTIF(L132:L162,AN9)","v":0},{"$f":"AO9/(AQ4-AO13)","v":0},{"$f":"IF(AP9=0,0,(AP9*((LOG(AP9))/LOG(2))))","v":0},null,{"$f":"N9","v":121},{"$f":"COUNTIF(L163:L193,AS9)","v":1},{"$f":"AT9/(AV4-AT13)","v":3.5714285714285712E-2},{"$f":"IF(AU9=0,0,(AU9*((LOG(AU9))/LOG(2))))","v":-0.17169124721634299}]
[21,378,12,391,13,397,null,null,null,null,0,211,null,122,{"$f":"COUNTIF($L$7:$L$500,N10)","v":1},{"$f":"O10/$Q$4","v":5.3475935828877002E-3},{"$f":"IF(P10=0,0,(P10*((LOG(P10))/LOG(2))))","v":-4.0357724384425864E-2},null,null,{"$f":"N10","v":122},{"$f":"COUNTIF(L7:L37,T10)","v":0},{"$f":"U10/(W4-U13)","v":0},{"$f":"IF(V10=0,0,(V10*((LOG(V10))/LOG(2))))","v":0},null,{"$f":"N10","v":122},{"$f":"COUNTIF(L38:L68,Y10)","v":0},{"$f":"Z10/(AB4-Z13)","v":0},{"$f":"IF(AA10=0,0,(AA10*((LOG(AA10))/LOG(2))))","v":0},null,{"$f":"N10","v":122},{"$f":"COUNTIF(L69:L100,AD10)","v":0},{"$f":"AE10/(AG4-AE13)","v":0},{"$f":"IF(AF10=0,0,(AF10*((LOG(AF10))/LOG(2))))","v":0},null,{"$f":"N10","v":122},{"$f":"COUNTIF(L101:L131,AI10)","v":0},{"$f":"AJ10/(AL4-AJ13)","v":0},{"$f":"IF(AK10=0,0,(AK10*((LOG(AK10))/LOG(2))))","v":0},null,{"$f":"N10","v":122},{"$f":"COUNTIF(L132:L162,AN10)","v":0},{"$f":"AO10/(AQ4-AO13)","v":0},{"$f":"IF(AP10=0,0,(AP10*((LOG(AP10))/LOG(2))))","v":0},null,{"$f":"N10","v":122},{"$f":"COUNTIF(L163:L193,AS10)","v":1},{"$f":"AT10/(AV4-AT13)","v":3.5714285714285712E-2},{"$f":"IF(AU10=0,0,(AU10*((LOG(AU10))/LOG(2))))","v":-0.17169124721634299}]
[21,494,12,509,13,514,null,null,null,null,0,211,null,211,{"$f":"COUNTIF($L$7:$L$500,N11)","v":116},{"$f":"O11/$Q$4","v":0.6203208556149733},{"$f":"IF(P11=0,0,(P11*((LOG(P11))/LOG(2))))","v":-0.42734738990463894},null,null,{"$f":"N11","v":211},{"$f":"COUNTIF(L7:L37,T11)","v":21},{"$f":"U11/(W4-U13)","v":0.7},{"$f":"IF(V11=0,0,(V11*((LOG(V11))/LOG(2))))","v":-0.36020122098083079},null,{"$f":"N11","v":211},{"$f":"COUNTIF(L38:L68,Y11)","v":22},{"$f":"Z11/(AB4-Z13)","v":0.84615384615384615},{"$f":"IF(AA11=0,0,(AA11*((LOG(AA11))/LOG(2))))","v":-0.20392993034936494},null,{"$f":"N11","v":211},{"$f":"COUNTIF(L69:L100,AD11)","v":14},{"$f":"AE11/(AG4-AE13)","v":0.51851851851851849},{"$f":"IF(AF11=0,0,(AF11*((LOG(AF11))/LOG(2))))","v":-0.49131318968452231},null,{"$f":"N11","v":211},{"$f":"COUNTIF(L101:L131,AI11)","v":22},{"$f":"AJ11/(AL4-AJ13)","v":0.75862068965517238},{"$f":"IF(AK11=0,0,(AK11*((LOG(AK11))/LOG(2))))","v":-0.30234780285469132},null,{"$f":"N11","v":211},{"$f":"COUNTIF(L132:L162,AN11)","v":22},{"$f":"AO11/(AQ4-AO13)","v":0.75862068965517238},{"$f":"IF(AP11=0,0,(AP11*((LOG(AP11))/LOG(2))))","v":-0.30234780285469132},null,{"$f":"N11","v":211},{"$f":"COUNTIF(L163:L193,AS11)","v":15},{"$f":"AT11/(AV4-AT13)","v":0.5357142857142857},{"$f":"IF(AU11=0,0,(AU11*((LOG(AU11))/LOG(2))))","v":-0.48239160345486726}]
[21,611,12,619,13,623,null,null,null,null,0,211,null,212,{"$f":"COUNTIF($L$7:$L$500,N12)","v":3},{"$f":"O12/$Q$4","v":1.6042780748663103E-2},{"$f":"IF(P12=0,0,(P12*((LOG(P12))/LOG(2))))","v":-9.5645967259355313E-2},null,null,{"$f":"N12","v":212},{"$f":"COUNTIF(L7:L37,T12)","v":1},{"$f":"U12/(W4-U13)","v":3.3333333333333333E-2},{"$f":"IF(V12=0,0,(V12*((LOG(V12))/LOG(2))))","v":-0.16356301985361729},null,{"$f":"N12","v":212},{"$f":"COUNTIF(L38:L68,Y12)","v":0},{"$f":"Z12/(AB4-Z13)","v":0},{"$f":"IF(AA12=0,0,(AA12*((LOG(AA12))/LOG(2))))","v":0},null,{"$f":"N12","v":212},{"$f":"COUNTIF(L69:L100,AD12)","v":1},{"$f":"AE12/(AG4-AE13)","v":3.7037037037037035E-2},{"$f":"IF(AF12=0,0,(AF12*((LOG(AF12))/LOG(2))))","v":-0.1761069445245729},null,{"$f":"N12","v":212},{"$f":"COUNTIF(L101:L131,AI12)","v":0},{"$f":"AJ12/(AL4-AJ13)","v":0},{"$f":"IF(AK12=0,0,(AK12*((LOG(AK12))/LOG(2))))","v":0},null,{"$f":"N12","v":212},{"$f":"COUNTIF(L132:L162,AN12)","v":1},{"$f":"AO12/(AQ4-AO13)","v":3.4482758620689655E-2},{"$f":"IF(AP12=0,0,(AP12*((LOG(AP12))/LOG(2))))","v":-0.16751658603888178},null,{"$f":"N12","v":212},{"$f":"COUNTIF(L163:L193,AS12)","v":0},{"$f":"AT12/(AV4-AT13)","v":0},{"$f":"IF(AU12=0,0,(AU12*((LOG(AU12))/LOG(2))))","v":0}]
[21,735,12,745,13,750,null,null,null,null,0,211,null,221,{"$f":"COUNTIF($L$7:$L$500,N13)","v":18},{"$f":"O13/$Q$4","v":9.6256684491978606E-2},{"$f":"IF(P13=0,0,(P13*((LOG(P13))/LOG(2))))","v":-0.3250558837006195},null,null,{"$f":"N13","v":221},{"$f":"COUNTIF(L7:L37,T13)","v":1},null,null,null,{"$f":"N13","v":221},{"$f":"COUNTIF(L38:L68,Y13)","v":5},null,null,null,{"$f":"N13","v":221},{"$f":"COUNTIF(L69:L100,AD13)","v":5},null,null,null,{"$f":"N13","v":221},{"$f":"COUNTIF(L101:L131,AI13)","v":2},null,null,null,{"$f":"N13","v":221},{"$f":"COUNTIF(L132:L162,AN13)","v":2},null,null,null,{"$f":"N13","v":221},{"$f":"COUNTIF(L163:L193,AS13)","v":3}]
[12,1020,14,1025,13,1032,null,null,null,null,0,111,null,222,{"$f":"COUNTIF($L$7:$L$500,N14)","v":6},{"$f":"O14/$Q$4","v":3.2085561497326207E-2},{"$f":"IF(P14=0,0,(P14*((LOG(P14))/LOG(2))))","v":-0.15920637302138441},null,null,{"$f":"N14","v":222},{"$f":"COUNTIF(L7:L37,T14)","v":1},{"$f":"U14/(W4-U13)","v":3.3333333333333333E-2},{"$f":"IF(V14=0,0,(V14*((LOG(V14))/LOG(2))))","v":-0.16356301985361729},null,{"$f":"N14","v":222},{"$f":"COUNTIF(L38:L68,Y14)","v":1},{"$f":"Z14/(AB4-Z13)","v":3.8461538461538464E-2},{"$f":"IF(AA14=0,0,(AA14*((LOG(AA14))/LOG(2))))","v":-0.18078614300542661},null,{"$f":"N14","v":222},{"$f":"COUNTIF(L69:L100,AD14)","v":2},{"$f":"AE14/(AG4-AE13)","v":7.407407407407407E-2},{"$f":"IF(AF14=0,0,(AF14*((LOG(AF14))/LOG(2))))","v":-0.27813981497507173},null,{"$f":"N14","v":222},{"$f":"COUNTIF(L101:L131,AI14)","v":0},{"$f":"AJ14/(AL4-AJ13)","v":0},{"$f":"IF(AK14=0,0,(AK14*((LOG(AK14))/LOG(2))))","v":0},null,{"$f":"N14","v":222},{"$f":"COUNTIF(L132:L162,AN14)","v":0},{"$f":"AO14/(AQ4-AO13)","v":0},{"$f":"IF(AP14=0,0,(AP14*((LOG(AP14))/LOG(2))))","v":0},null,{"$f":"N14","v":222},{"$f":"COUNTIF(L163:L193,AS14)","v":2},{"$f":"AT14/(AV4-AT13)","v":7.1428571428571425E-2},{"$f":"IF(AU14=0,0,(AU14*((LOG(AU14))/LOG(2))))","v":-0.27195392300411453}]
[12,1428,14,1431,13,1434,null,null,null,null,0,111,null,null,null,{"$f":"SUM(P7:P14)","v":0.99999999999999989},{"$f":"-SUM(Q7:Q14)","v":1.729334093231748},null,null,null,null,{"$f":"SUM(V7:V14)","v":1},{"$f":"-SUM(W7:W14)","v":1.3152758995191551},null,null,null,{"$f":"SUM(AA7:AA14)","v":1},{"$f":"-SUM(AB7:AB14)","v":0.85015142544799449},null,null,null,{"$f":"SUM(AF7:AF14)","v":0.99999999999999989},{"$f":"-SUM(AG7:AG14)","v":1.6499877272824583},null,null,null,{"$f":"SUM(AK7:AK14)","v":1},{"$f":"-SUM(AL7:AL14)","v":0.94014407739145223},null,null,null,{"$f":"SUM(AP7:AP14)","v":0.99999999999999989},{"$f":"-SUM(AQ7:AQ14)","v":1.0746314749738703},null,null,null,{"$f":"SUM(AU7:AU14)","v":0.99999999999999989},{"$f":"-SUM(AV7:AV14)","v":1.8696819438957824}]
[21,1535,12,1548,13,1551,null,null,null,null,0,211,null,null,null,"U=",{"$f":"Q15/(LOG(Q4)/LOG(2))","v":0.22914512749890709},null,null,null,null,"U1=",{"$f":"W15/(LOG(W4)/LOG(2))","v":0.2654872389213912},null,null,null,"U2=",{"$f":"AB15/(LOG(AB4)/LOG(2))","v":0.17160228868314786},null,null,null,"U3=",{"$f":"AG15/(LOG(AG4)/LOG(2))","v":0.32999754545649168},null,null,null,"U4=",{"$f":"AL15/(LOG(AL4)/LOG(2))","v":0.18976722327703563},null,null,null,"U5=",{"$f":"AQ15/(LOG(AQ4)/LOG(2))","v":0.21691338163585044},null,null,null,"U6=",{"$f":"AV15/(LOG(AV4)/LOG(2))","v":0.37739359257440858}]
[21,1647,12,1659,13,1664,null,null,null,null,0,211]
[21,1760,12,1775,13,1781,null,null,null,null,0,211]
[21,1880,12,1892,13,1897,null,null,null,null,0,211,null,"Total Target Seq"]
[21,1999,12,2019,13,2024,null,null,null,null,0,211,null,{"$f":"COUNTIF(L7:L193,G3)","v":18},null,31,31,32,31,31,31]
[12,2141,23,2143,13,2146,null,null,null,null,0,121,null,null,null,"% of reinforcement given in 6 equal intervals based on number of trials "]
[21,2243,12,2252,13,2255,null,null,null,null,0,211,null,null,null,"%_1","%_2","%_3","%_4","%_5","%_6"]
[21,2393,12,2404,24,2409,null,null,null,null,0,212,null,null,"target sequence",{"$f":"$G$3","v":221},{"$f":"$G$3","v":221},{"$f":"$G$3","v":221},{"$f":"$G$3","v":221},{"$f":"$G$3","v":221},{"$f":"$G$3","v":221}]
[21,2505,12,2515,13,2521,null,null,null,null,0,211,null,null,"total reinforcement",{"$f":"U13","v":1},{"$f":"Z13","v":5},{"$f":"AE13","v":5},{"$f":"AJ13","v":2},{"$f":"AO13","v":2},{"$f":"AT13","v":3}]
[21,2617,12,2627,13,2632,null,null,null,null,0,211,null,null,"% target"]
[21,2734,12,2748,13,2759,null,null,null,null,0,211,null,null,"CCRF"]
[21,2855,12,2865,13,2870,null,null,null,null,0,211,null,null,"% CCRf"]
[21,2966,21,2969,11,2980,null,null,null,null,0,221,null,null,"average response rate",{"$f":"F37/P20","v":141.67741935483872},{"$f":"(F68-F37)/Q20","v":122.6774193548387},{"$f":"(F100-F68)/R20","v":123.84375},{"$f":"(F131-F100)/S20","v":113.96774193548387},{"$f":"(F162-F131)/T20","v":125.96774193548387},{"$f":"(F193-F162)/U20","v":139.29032258064515}]
[12,3479,14,3483,13,3487,null,null,null,null,0,111]
[21,3583,12,3591,13,3594,null,null,null,null,0,211]
[21,3694,12,3702,13,3707,null,null,null,null,0,211]
[12,3809,14,3815,13,3821,null,null,null,null,0,111]
[21,3919,12,3926,13,3929,null,null,null,null,0,211]
[21,4028,12,4039,13,4044,null,null,null,null,0,211]
[12,4149,14,4152,13,4157,null,null,null,null,0,111]
[21,4253,12,4266,13,4273,null,null,null,null,0,211]
[21,4370,12,4387,13,4392,null,null,null,null,0,211]
[21,4490,12,4498,13,4502,null,null,null,null,0,211]
[21,4599,12,4607,13,4611,null,null,null,null,0,211]
[21,4707,12,4718,13,4721,null,null,null,null,0,211]
[21,4817,12,4828,13,4833,null,null,null,null,0,211]
[21,4930,12,4936,13,4938,null,null,null,null,0,211]
[21,5036,21,5038,11,5061,null,null,null,null,0,221]
[21,5198,12,5211,13,5216,null,null,null,null,0,211]
[21,5310,12,5320,13,5322,null,null,null,null,0,211]
[21,5419,12,5427,13,5431,null,null,null,null,0,211]
[12,5539,14,5544,13,5551,null,null,null,null,0,111]
[21,5676,21,5680,22,5691,null,null,null,null,0,222]
[21,5783,12,5790,13,5795,null,null,null,null,0,211]
[21,5891,12,5899,13,5903,null,null,null,null,0,211]
[21,5998,12,6010,13,6013,null,null,null,null,0,211]
[21,6108,12,6120,13,6126,null,null,null,null,0,211]
[21,6225,12,6240,13,6242,null,null,null,null,0,211]
[21,6338,12,6350,13,6355,null,null,null,null,0,211]
[21,6452,12,6463,13,6468,null,null,null,null,0,211]
[21,6566,12,6574,13,6578,null,null,null,null,0,211]
[21,6676,12,6688,13,6693,null,null,null,null,0,211]
[21,6790,12,6799,13,6802,null,null,null,null,0,211]
[21,6898,21,6900,11,6907,null,null,null,null,0,221]
[12,7127,14,7129,13,7135,null,null,null,null,0,111]
[21,7273,21,7275,11,7288,null,null,null,null,0,221]
[21,7410,12,7420,13,7423,null,null,null,null,0,211]
[21,7519,12,7531,13,7536,null,null,null,null,0,211]
[21,7631,12,7644,13,7649,null,null,null,null,0,211]
[21,7756,21,7758,11,7770,null,null,null,null,0,221]
[21,7918,12,7929,13,7934,null,null,null,null,0,211]
[21,8026,21,8030,11,8043,null,null,null,null,0,221]
[12,8189,14,8192,24,8195,null,null,null,null,0,112]
[21,8291,21,8293,11,8304,null,null,null,null,0,221]
[12,8532,14,8537,24,8541,null,null,null,null,0,112]
[21,8639,21,8645,11,8654,null,null,null,null,0,221]
[21,8854,12,8864,13,8869,null,null,null,null,0,211]
[21,8965,12,8977,13,8981,null,null,null,null,0,211]
[21,9077,21,9094,22,9097,null,null,null,null,0,222]
[12,9197,14,9202,13,9204,null,null,null,null,0,111]
[21,9299,21,9301,11,9313,null,null,null,null,0,221]
[21,9451,12,9462,13,9467,null,null,null,null,0,211]
[12,9574,14,9579,13,9585,null,null,null,null,0,111]
[21,9682,12,9694,13,9699,null,null,null,null,0,211]
[21,9796,12,9809,13,9813,null,null,null,null,0,211]
[21,9910,12,9922,13,9927,null,null,null,null,0,211]
[21,10023,12,10031,13,10034,null,null,null,null,0,211]
[12,10142,14,10148,13,10155,null,null,null,null,0,111]
[12,10255,14,10262,13,10266,null,null,null,null,0,111]
[21,10362,21,10368,11,10369,null,null,null,null,0,221]
[12,10476,14,10479,13,10481,null,null,null,null,0,111]
[12,10575,14,10578,13,10583,null,null,null,null,0,111]
[21,10680,12,10694,24,10705,null,null,null,null,0,212]
[12,10807,14,10810,13,10814,null,null,null,null,0,111]
[21,10911,12,10922,13,10927,null,null,null,null,0,211]
[12,11029,14,11031,13,11034,null,null,null,null,0,111]
[21,11131,12,11141,13,11143,null,null,null,null,0,211]
[21,11240,12,11252,13,11263,null,null,null,null,0,211]
[21,11359,12,11372,13,11377,null,null,null,null,0,211]
[21,11530,21,11534,22,11540,null,null,null,null,0,222]
[21,11636,12,11647,13,11653,null,null,null,null,0,211]
[21,11745,21,11749,11,11760,null,null,null,null,0,221]
[21,11925,12,11933,13,11940,null,null,null,null,0,211]
[12,12043,14,12046,13,12051,null,null,null,null,0,111]
[21,12146,12,12154,13,12158,null,null,null,null,0,211]
[21,12254,12,12260,13,12264,null,null,null,null,0,211]
[12,12365,14,12369,13,12377,null,null,null,null,0,111]
[12,12478,14,12481,13,12487,null,null,null,null,0,111]
[21,12583,12,12591,13,12593,null,null,null,null,0,211]
[21,12691,12,12702,13,12707,null,null,null,null,0,211]
[21,12805,12,12813,13,12816,null,null,null,null,0,211]
[21,12911,12,12919,13,12924,null,null,null,null,0,211]
[21,13018,12,13027,13,13030,null,null,null,null,0,211]
[21,13129,12,13138,13,13141,null,null,null,null,0,211]
[21,13238,12,13249,13,13259,null,null,null,null,0,211]
[21,13355,12,13363,13,13366,null,null,null,null,0,211]
[21,13471,12,13485,13,13490,null,null,null,null,0,211]
[12,13600,14,13610,13,13622,null,null,null,null,0,111]
[21,13714,12,13725,13,13729,null,null,null,null,0,211]
[21,13827,12,13834,13,13846,null,null,null,null,0,211]
[21,13944,12,13954,13,13960,null,null,null,null,0,211]
[21,14056,21,14058,11,14065,null,null,null,null,0,221]
[12,14220,14,14225,13,14231,null,null,null,null,0,111]
[21,14327,12,14339,13,14344,null,null,null,null,0,211]
[21,14440,12,14452,13,14457,null,null,null,null,0,211]
[21,14552,12,14559,13,14564,null,null,null,null,0,211]
[12,14667,14,14672,13,14677,null,null,null,null,0,111]
[21,14773,12,14780,13,14783,null,null,null,null,0,211]
[12,14890,14,14896,13,14902,null,null,null,null,0,111]
[21,14996,12,15005,13,15008,null,null,null,null,0,211]
[21,15107,12,15117,13,15123,null,null,null,null,0,211]
[21,15218,12,15230,13,15235,null,null,null,null,0,211]
[21,15330,21,15332,11,15340,null,null,null,null,0,221]
[12,15461,14,15467,24,15471,null,null,null,null,0,112]
[21,15567,12,15574,13,15577,null,null,null,null,0,211]
[21,15673,12,15685,13,15691,null,null,null,null,0,211]
[21,15788,12,15799,13,15805,null,null,null,null,0,211]
[21,15902,12,15917,13,15922,null,null,null,null,0,211]
[21,16017,12,16027,13,16031,null,null,null,null,0,211]
[21,16129,12,16135,13,16138,null,null,null,null,0,211]
[21,16234,12,16245,13,16249,null,null,null,null,0,211]
[21,16347,12,16354,13,16357,null,null,null,null,0,211]
[21,16455,12,16468,13,16472,null,null,null,null,0,211]
[21,16570,12,16584,24,16587,null,null,null,null,0,212]
[21,16684,12,16691,13,16695,null,null,null,null,0,211]
[21,16791,12,16798,13,16803,null,null,null,null,0,211]
[12,16988,14,16991,13,16998,null,null,null,null,0,111]
[21,17095,12,17101,13,17108,null,null,null,null,0,211]
[21,17203,12,17209,13,17215,null,null,null,null,0,211]
[12,17343,14,17347,13,17352,null,null,null,null,0,111]
[21,17448,12,17458,13,17465,null,null,null,null,0,211]
[21,17562,12,17578,13,17584,null,null,null,null,0,211]
[21,17680,12,17689,13,17692,null,null,null,null,0,211]
[12,17800,14,17806,13,17813,null,null,null,null,0,111]
[21,17911,12,17921,13,17928,null,null,null,null,0,211]
[21,18022,12,18033,13,18038,null,null,null,null,0,211]
[21,18136,21,18139,11,18156,null,null,null,null,0,221]
[12,18355,14,18365,13,18372,null,null,null,null,0,111]
[12,18478,14,18481,13,18486,null,null,null,null,0,111]
[21,18585,12,18596,13,18600,null,null,null,null,0,211]
[21,18697,12,18709,13,18714,null,null,null,null,0,211]
[21,18808,21,18810,11,18817,null,null,null,null,0,221]
[21,19119,12,19128,13,19133,null,null,null,null,0,211]
[21,19234,12,19244,13,19250,null,null,null,null,0,211]
[12,19357,14,19362,24,19367,null,null,null,null,0,112]
[21,19464,12,19476,13,19481,null,null,null,null,0,211]
[21,19580,12,19591,13,19596,null,null,null,null,0,211]
[21,19690,21,19694,11,19704,null,null,null,null,0,221]
[12,19897,23,19904,13,19910,null,null,null,null,0,121]
[21,20009,12,20018,13,20024,null,null,null,null,0,211]
[21,20117,21,20120,11,20128,null,null,null,null,0,221]
[12,20313,14,20317,24,20320,null,null,null,null,0,112]
[21,20417,12,20423,13,20432,null,null,null,null,0,211]
[21,20529,12,20540,13,20544,null,null,null,null,0,211]
[12,20649,14,20652,13,20655,null,null,null,null,0,111]
[21,20751,12,20761,13,20771,null,null,null,null,0,211]
[12,20879,14,20884,24,20889,null,null,null,null,0,112]
[21,21045,12,21055,13,21059,null,null,null,null,0,211]
[21,21153,21,21155,11,21165,null,null,null,null,0,221]
[12,21459,14,21470,13,21475,null,null,null,null,0,111]
[12,21586,14,21588,13,21595,null,null,null,null,0,111]
[21,21707,21,21712,22,21718,null,null,null,null,0,222]
[21,21813,12,21823,13,21828,null,null,null,null,0,211]
[21,21925,12,21933,13,21940,null,null,null,null,0,211]
[21,22037,12,22044,13,22047,null,null,null,null,0,211]
[21,22143,12,22152,13,22155,null,null,null,null,0,211]
[21,22253,12,22264,13,22270,null,null,null,null,0,211]
[21,22365,12,22377,13,22383,null,null,null,null,0,211]
[12,22483,14,22486,13,22495,null,null,null,null,0,111]
[21,22592,12,22601,13,22604,null,null,null,null,0,211]
[21,22700,12,22711,13,22717,null,null,null,null,0,211]
[21,23224,21,23229,22,23235,null,null,null,null,0,222]
[12,23337,14,23341,13,23344,null,null,null,null,0,111]
[12,23447,23,23456,24,23471,null,null,null,null,0,122]
[12,23573,14,23578,13,23583,null,null,null,null,0,111]
[21,23675,12,23684,13,23687,null,null,null,null,0,211]
[21,23785,12,23795,13,23800,null,null,null,null,0,211]
[12,23903,14,23907,13,23914,null,null,null,null,null,111]

{"sheet":"!MA0791T.AYL","index":8,"n_rows":196,"n_cols":48,"rows_kept":196,"cut":false,"hidden":false,"merged":[[4,39,4,42],[5,39,5,40],[4,44,4,47],[5,44,5,45],[4,24,4,27],[5,24,5,25],[4,29,4,32],[5,29,5,30],[4,34,4,37],[5,34,5,35],[1,1,1,2],[5,13,5,14],[18,13,18,14],[19,13,19,14],[4,19,4,22],[5,19,5,20]]}
["Report for:!MA0791T.AYL"]
["Date:","<date>"]
["Hen:","<hen>",null,null,null,"Correct Sequence",{"$f":"Start!J2","v":221},null,null,null,null,null,null,null,null,"Total Sequences in Data",{"$f":"4994-COUNTBLANK(L7:L5000)","v":190},null,null,null,null,"Total Sequences in Block Data",{"$f":"COUNTA(L7:L38)","v":32},null,null,null,"Total Sequences in Block Data",{"$f":"COUNTA(L39:L69)","v":31},null,null,null,"Total Sequences in Block Data",{"$f":"COUNTA(L70:L101)","v":32},null,null,null,"Total Sequences in Block Data",{"$f":"COUNTA(L102:L133)","v":32},null,null,null,"Total Sequences in Block Data",{"$f":"COUNTA(L134:L164)","v":31},null,null,null,"Total Sequences in Block Data",{"$f":"COUNTA(L165:L196)","v":32}]
[null,null,null,null,null,null,null,null,null,null,null,null,null,null,null,"Total Sequences in Summary",{"$f":"SUM(O7:O14)","v":190},null,null,null,null,"Total Sequences in Block Summary",{"$f":"SUM(U7:U14)","v":32},null,null,null,"Total Sequences in Block Summary",{"$f":"SUM(Z7:Z14)","v":31},null,null,null,"Total Sequences in Block Summary",{"$f":"SUM(AE7:AE14)","v":32},null,null,null,"Total Sequences in Block Summary",{"$f":"SUM(AJ7:AJ14)","v":32},null,null,null,"Total Sequences in Block Summary",{"$f":"SUM(AO7:AO14)","v":31},null,null,null,"Total Sequences in Block Summary",{"$f":"SUM(AT7:AT14)","v":32}]
[null,null,null,null,null,null,null,null,null,null,null,null,null,null,null,null,null,null,null,"Block 1",null,null,null,null,"Block 2",null,null,null,null,"Block 3",null,null,null,null,"Block 4",null,null,null,null,"Block 5",null,null,null,null,"Block 6"]
["Sequence\nComponent\n1","Time\n1","Sequence\nComponent\n2","Time\n2","Sequence\nComponent\n3","Time\n3","Sequence\nComponent\n4","Time\n4","Sequence\nComponent\n5","Time\n5","Correct?\n0=No 1=Yes","Sequence",null,"Frequency",null,"Relative Frequency","Variability",null,null,"Frequency",null,"Relative Frequency","Variability",null,"Frequency",null,"Relative Frequency","Variability",null,"Frequency",null,"Relative Frequency","Variability",null,"Frequency",null,"Relative Frequency","Variability",null,"Frequency",null,"Relative Frequency","Variability",null,"Frequency",null,"Relative Frequency","Variability"]
[21,5,12,19,13,22,null,null,null,null,0,211,null,111,{"$f":"COUNTIF($L$7:$L$500,N7)","v":19},{"$f":"O7/$Q$4","v":0.1},{"$f":"IF(P7=0,0,(P7*((LOG(P7))/LOG(2))))","v":-0.33219280948873625},null,null,{"$f":"N7","v":111},{"$f":"COUNTIF(L7:L38,T7)","v":9},{"$f":"U7/(W4-U13)","v":0.32142857142857145},{"$f":"IF(V7=0,0,(V7*((LOG(V7))/LOG(2))))","v":-0.5263167601977724},null,{"$f":"N7","v":111},{"$f":"COUNTIF(L39:L69,Y7)","v":3},{"$f":"Z7/(AB4-Z13)","v":0.12},{"$f":"IF(AA7=0,0,(AA7*((LOG(AA7))/LOG(2))))","v":-0.36706724268642821},null,{"$f":"N7","v":111},{"$f":"COUNTIF(L70:L101,AD7)","v":1},{"$f":"AE7/(AG4-AE13)","v":3.8461538461538464E-2},{"$f":"IF(AF7=0,0,(AF7*((LOG(AF7))/LOG(2))))","v":-0.18078614300542661},null,{"$f":"N7","v":111},{"$f":"COUNTIF(L102:L133,AI7)","v":0},{"$f":"AJ7/(AL4-AJ13)","v":0},{"$f":"IF(AK7=0,0,(AK7*((LOG(AK7))/LOG(2))))","v":0},null,{"$f":"N7","v":111},{"$f":"COUNTIF(L134:L164,AN7)","v":3},{"$f":"AO7/(AQ4-AO13)","v":0.1111111111111111},{"$f":"IF(AP7=0,0,(AP7*((LOG(AP7))/LOG(2))))","v":-0.3522138890491458},null,{"$f":"N7","v":111},{"$f":"COUNTIF(L165:L196,AS7)","v":3},{"$f":"AT7/(AV4-AT13)","v":0.10714285714285714},{"$f":"IF(AU7=0,0,(AU7*((LOG(AU7))/LOG(2))))","v":-0.34525633085747659}]
[12,128,14,132,13,139,null,null,null,null,0,111,null,112,{"$f":"COUNTIF($L$7:$L$500,N8)","v":12},{"$f":"O8/$Q$4","v":6.3157894736842107E-2},{"$f":"IF(P8=0,0,(P8*((LOG(P8))/LOG(2))))","v":-0.25167745942798686},null,null,{"$f":"N8","v":112},{"$f":"COUNTIF(L7:L38,T8)","v":2},{"$f":"U8/(W4-U13)","v":7.1428571428571425E-2},{"$f":"IF(V8=0,0,(V8*((LOG(V8))/LOG(2))))","v":-0.27195392300411453},null,{"$f":"N8","v":112},{"$f":"COUNTIF(L39:L69,Y8)","v":0},{"$f":"Z8/(AB4-Z13)","v":0},{"$f":"IF(AA8=0,0,(AA8*((LOG(AA8))/LOG(2))))","v":0},null,{"$f":"N8","v":112},{"$f":"COUNTIF(L70:L101,AD8)","v":1},{"$f":"AE8/(AG4-AE13)","v":3.8461538461538464E-2},{"$f":"IF(AF8=0,0,(AF8*((LOG(AF8))/LOG(2))))","v":-0.18078614300542661},null,{"$f":"N8","v":112},{"$f":"COUNTIF(L102:L133,AI8)","v":4},{"$f":"AJ8/(AL4-AJ13)","v":0.14814814814814814},{"$f":"IF(AK8=0,0,(AK8*((LOG(AK8))/LOG(2))))","v":-0.40813148180199532},null,{"$f":"N8","v":112},{"$f":"COUNTIF(L134:L164,AN8)","v":2},{"$f":"AO8/(AQ4-AO13)","v":7.407407407407407E-2},{"$f":"IF(AP8=0,0,(AP8*((LOG(AP8))/LOG(2))))","v":-0.27813981497507173},null,{"$f":"N8","v":112},{"$f":"COUNTIF(L165:L196,AS8)","v":3},{"$f":"AT8/(AV4-AT13)","v":0.10714285714285714},{"$f":"IF(AU8=0,0,(AU8*((LOG(AU8))/LOG(2))))","v":-0.34525633085747659}]
[12,346,23,348,13,351,null,null,null,null,0,121,null,121,{"$f":"COUNTIF($L$7:$L$500,N9)","v":2},{"$f":"O9/$Q$4","v":1.0526315789473684E-2},{"$f":"IF(P9=0,0,(P9*((LOG(P9))/LOG(2))))","v":-6.9156374824536293E-2},null,null,{"$f":"N9","v":121},{"$f":"COUNTIF(L7:L38,T9)","v":1},{"$f":"U9/(W4-U13)","v":3.5714285714285712E-2},{"$f":"IF(V9=0,0,(V9*((LOG(V9))/LOG(2))))","v":-0.17169124721634299},null,{"$f":"N9","v":121},{"$f":"COUNTIF(L39:L69,Y9)","v":1},{"$f":"Z9/(AB4-Z13)","v":0.04},{"$f":"IF(AA9=0,0,(AA9*((LOG(AA9))/LOG(2))))","v":-0.18575424759098899},null,{"$f":"N9","v":121},{"$f":"COUNTIF(L70:L101,AD9)","v":0},{"$f":"AE9/(AG4-AE13)","v":0},{"$f":"IF(AF9=0,0,(AF9*((LOG(AF9))/LOG(2))))","v":0},null,{"$f":"N9","v":121},{"$f":"COUNTIF(L102:L133,AI9)","v":0},{"$f":"AJ9/(AL4-AJ13)","v":0},{"$f":"IF(AK9=0,0,(AK9*((LOG(AK9))/LOG(2))))","v":0},null,{"$f":"N9","v":121},{"$f":"COUNTIF(L134:L164,AN9)","v":0},{"$f":"AO9/(AQ4-AO13)","v":0},{"$f":"IF(AP9=0,0,(AP9*((LOG(AP9))/LOG(2))))","v":0},null,{"$f":"N9","v":121},{"$f":"COUNTIF(L165:L196,AS9)","v":0},{"$f":"AT9/(AV4-AT13)","v":0},{"$f":"IF(AU9=0,0,(AU9*((LOG(AU9))/LOG(2))))","v":0}]
[12,456,14,461,13,468,null,null,null,null,0,111,null,122,{"$f":"COUNTIF($L$7:$L$500,N10)","v":4},{"$f":"O10/$Q$4","v":2.1052631578947368E-2},{"$f":"IF(P10=0,0,(P10*((LOG(P10))/LOG(2))))","v":-0.11726011807012522},null,null,{"$f":"N10","v":122},{"$f":"COUNTIF(L7:L38,T10)","v":0},{"$f":"U10/(W4-U13)","v":0},{"$f":"IF(V10=0,0,(V10*((LOG(V10))/LOG(2))))","v":0},null,{"$f":"N10","v":122},{"$f":"COUNTIF(L39:L69,Y10)","v":1},{"$f":"Z10/(AB4-Z13)","v":0.04},{"$f":"IF(AA10=0,0,(AA10*((LOG(AA10))/LOG(2))))","v":-0.18575424759098899},null,{"$f":"N10","v":122},{"$f":"COUNTIF(L70:L101,AD10)","v":0},{"$f":"AE10/(AG4-AE13)","v":0},{"$f":"IF(AF10=0,0,(AF10*((LOG(AF10))/LOG(2))))","v":0},null,{"$f":"N10","v":122},{"$f":"COUNTIF(L102:L133,AI10)","v":1},{"$f":"AJ10/(AL4-AJ13)","v":3.7037037037037035E-2},{"$f":"IF(AK10=0,0,(AK10*((LOG(AK10))/LOG(2))))","v":-0.1761069445245729},null,{"$f":"N10","v":122},{"$f":"COUNTIF(L134:L164,AN10)","v":0},{"$f":"AO10/(AQ4-AO13)","v":0},{"$f":"IF(AP10=0,0,(AP10*((LOG(AP10))/LOG(2))))","v":0},null,{"$f":"N10","v":122},{"$f":"COUNTIF(L165:L196,AS10)","v":2},{"$f":"AT10/(AV4-AT13)","v":7.1428571428571425E-2},{"$f":"IF(AU10=0,0,(AU10*((LOG(AU10))/LOG(2))))","v":-0.27195392300411453}]
[12,572,14,576,13,581,null,null,null,null,0,111,null,211,{"$f":"COUNTIF($L$7:$L$500,N11)","v":96},{"$f":"O11/$Q$4","v":0.50526315789473686},{"$f":"IF(P11=0,0,(P11*((LOG(P11))/LOG(2))))","v":-0.4976302017396842},null,null,{"$f":"N11","v":211},{"$f":"COUNTIF(L7:L38,T11)","v":14},{"$f":"U11/(W4-U13)","v":0.5},{"$f":"IF(V11=0,0,(V11*((LOG(V11))/LOG(2))))","v":-0.5},null,{"$f":"N11","v":211},{"$f":"COUNTIF(L39:L69,Y11)","v":17},{"$f":"Z11/(AB4-Z13)","v":0.68},{"$f":"IF(AA11=0,0,(AA11*((LOG(AA11))/LOG(2))))","v":-0.378347476996582},null,{"$f":"N11","v":211},{"$f":"COUNTIF(L70:L101,AD11)","v":22},{"$f":"AE11/(AG4-AE13)","v":0.84615384615384615},{"$f":"IF(AF11=0,0,(AF11*((LOG(AF11))/LOG(2))))","v":-0.20392993034936494},null,{"$f":"N11","v":211},{"$f":"COUNTIF(L102:L133,AI11)","v":18},{"$f":"AJ11/(AL4-AJ13)","v":0.66666666666666663},{"$f":"IF(AK11=0,0,(AK11*((LOG(AK11))/LOG(2))))","v":-0.38997500048077083},null,{"$f":"N11","v":211},{"$f":"COUNTIF(L134:L164,AN11)","v":15},{"$f":"AO11/(AQ4-AO13)","v":0.55555555555555558},{"$f":"IF(AP11=0,0,(AP11*((LOG(AP11))/LOG(2))))","v":-0.4711093925305278},null,{"$f":"N11","v":211},{"$f":"COUNTIF(L165:L196,AS11)","v":10},{"$f":"AT11/(AV4-AT13)","v":0.35714285714285715},{"$f":"IF(AU11=0,0,(AU11*((LOG(AU11))/LOG(2))))","v":-0.53050958113222924}]
[21,680,12,692,13,697,null,null,null,null,0,211,null,212,{"$f":"COUNTIF($L$7:$L$500,N12)","v":18},{"$f":"O12/$Q$4","v":9.4736842105263161E-2},{"$f":"IF(P12=0,0,(P12*((LOG(P12))/LOG(2))))","v":-0.32209868907366018},null,null,{"$f":"N12","v":212},{"$f":"COUNTIF(L7:L38,T12)","v":0},{"$f":"U12/(W4-U13)","v":0},{"$f":"IF(V12=0,0,(V12*((LOG(V12))/LOG(2))))","v":0},null,{"$f":"N12","v":212},{"$f":"COUNTIF(L39:L69,Y12)","v":0},{"$f":"Z12/(AB4-Z13)","v":0},{"$f":"IF(AA12=0,0,(AA12*((LOG(AA12))/LOG(2))))","v":0},null,{"$f":"N12","v":212},{"$f":"COUNTIF(L70:L101,AD12)","v":1},{"$f":"AE12/(AG4-AE13)","v":3.8461538461538464E-2},{"$f":"IF(AF12=0,0,(AF12*((LOG(AF12))/LOG(2))))","v":-0.18078614300542661},null,{"$f":"N12","v":212},{"$f":"COUNTIF(L102:L133,AI12)","v":2},{"$f":"AJ12/(AL4-AJ13)","v":7.407407407407407E-2},{"$f":"IF(AK12=0,0,(AK12*((LOG(AK12))/LOG(2))))","v":-0.27813981497507173},null,{"$f":"N12","v":212},{"$f":"COUNTIF(L134:L164,AN12)","v":5},{"$f":"AO12/(AQ4-AO13)","v":0.18518518518518517},{"$f":"IF(AP12=0,0,(AP12*((LOG(AP12))/LOG(2))))","v":-0.45054803838446406},null,{"$f":"N12","v":212},{"$f":"COUNTIF(L165:L196,AS12)","v":10},{"$f":"AT12/(AV4-AT13)","v":0.35714285714285715},{"$f":"IF(AU12=0,0,(AU12*((LOG(AU12))/LOG(2))))","v":-0.53050958113222924}]
[12,805,14,815,13,821,null,null,null,null,0,111,null,221,{"$f":"COUNTIF($L$7:$L$500,N13)","v":29},{"$f":"O13/$Q$4","v":0.15263157894736842},{"$f":"IF(P13=0,0,(P13*((LOG(P13))/LOG(2))))","v":-0.41391770412051526},null,null,{"$f":"N13","v":221},{"$f":"COUNTIF(L7:L38,T13)","v":4},null,null,null,{"$f":"N13","v":221},{"$f":"COUNTIF(L39:L69,Y13)","v":6},null,null,null,{"$f":"N13","v":221},{"$f":"COUNTIF(L70:L101,AD13)","v":6},null,null,null,{"$f":"N13","v":221},{"$f":"COUNTIF(L102:L133,AI13)","v":5},null,null,null,{"$f":"N13","v":221},{"$f":"COUNTIF(L134:L164,AN13)","v":4},null,null,null,{"$f":"N13","v":221},{"$f":"COUNTIF(L165:L196,AS13)","v":4}]
[12,930,14,936,13,942,null,null,null,null,0,111,null,222,{"$f":"COUNTIF($L$7:$L$500,N14)","v":10},{"$f":"O14/$Q$4","v":5.2631578947368418E-2},{"$f":"IF(P14=0,0,(P14*((LOG(P14))/LOG(2))))","v":-0.22357513228650452},null,null,{"$f":"N14","v":222},{"$f":"COUNTIF(L7:L38,T14)","v":2},{"$f":"U14/(W4-U13)","v":7.1428571428571425E-2},{"$f":"IF(V14=0,0,(V14*((LOG(V14))/LOG(2))))","v":-0.27195392300411453},null,{"$f":"N14","v":222},{"$f":"COUNTIF(L39:L69,Y14)","v":3},{"$f":"Z14/(AB4-Z13)","v":0.12},{"$f":"IF(AA14=0,0,(AA14*((LOG(AA14))/LOG(2))))","v":-0.36706724268642821},null,{"$f":"N14","v":222},{"$f":"COUNTIF(L70:L101,AD14)","v":1},{"$f":"AE14/(AG4-AE13)","v":3.8461538461538464E-2},{"$f":"IF(AF14=0,0,(AF14*((LOG(AF14))/LOG(2))))","v":-0.18078614300542661},null,{"$f":"N14","v":222},{"$f":"COUNTIF(L102:L133,AI14)","v":2},{"$f":"AJ14/(AL4-AJ13)","v":7.407407407407407E-2},{"$f":"IF(AK14=0,0,(AK14*((LOG(AK14))/LOG(2))))","v":-0.27813981497507173},null,{"$f":"N14","v":222},{"$f":"COUNTIF(L134:L164,AN14)","v":2},{"$f":"AO14/(AQ4-AO13)","v":7.407407407407407E-2},{"$f":"IF(AP14=0,0,(AP14*((LOG(AP14))/LOG(2))))","v":-0.27813981497507173},null,{"$f":"N14","v":222},{"$f":"COUNTIF(L165:L196,AS14)","v":0},{"$f":"AT14/(AV4-AT13)","v":0},{"$f":"IF(AU14=0,0,(AU14*((LOG(AU14))/LOG(2))))","v":0}]
[21,1042,12,1050,13,1053,null,null,null,null,0,211,null,null,null,{"$f":"SUM(P7:P14)","v":1},{"$f":"-SUM(Q7:Q14)","v":2.2275084890317487},null,null,null,null,{"$f":"SUM(V7:V14)","v":1},{"$f":"-SUM(W7:W14)","v":1.7419158534223445},null,null,null,{"$f":"SUM(AA7:AA14)","v":1},{"$f":"-SUM(AB7:AB14)","v":1.4839904575514167},null,null,null,{"$f":"SUM(AF7:AF14)","v":1},{"$f":"-SUM(AG7:AG14)","v":0.92707450237107136},null,null,null,{"$f":"SUM(AK7:AK14)","v":1},{"$f":"-SUM(AL7:AL14)","v":1.5304930567574826},null,null,null,{"$f":"SUM(AP7:AP14)","v":0.99999999999999989},{"$f":"-SUM(AQ7:AQ14)","v":1.8301509499142812},null,null,null,{"$f":"SUM(AU7:AU14)","v":1},{"$f":"-SUM(AV7:AV14)","v":2.0234857469835261}]
[21,1148,21,1150,22,1152,null,null,null,null,0,222,null,null,null,"U=",{"$f":"Q15/(LOG(Q4)/LOG(2))","v":0.29426036694547791},null,null,null,null,"U1=",{"$f":"W15/(LOG(W4)/LOG(2))","v":0.34838317068446889},null,null,null,"U2=",{"$f":"AB15/(LOG(AB4)/LOG(2))","v":0.29954211835330591},null,null,null,"U3=",{"$f":"AG15/(LOG(AG4)/LOG(2))","v":0.18541490047421427},null,null,null,"U4=",{"$f":"AL15/(LOG(AL4)/LOG(2))","v":0.30609861135149652},null,null,null,"U5=",{"$f":"AQ15/(LOG(AQ4)/LOG(2))","v":0.36941429754756006},null,null,null,"U6=",{"$f":"AV15/(LOG(AV4)/LOG(2))","v":0.4046971493967052}]
[12,1264,14,1270,13,1275,null,null,null,null,0,111]
[12,1382,14,1391,24,1400,null,null,null,null,0,112]
[12,1522,14,1536,13,1540,null,null,null,null,0,111,null,"Total Target Seq"]
[21,1636,12,1647,13,1652,null,null,null,null,0,211,null,{"$f":"COUNTIF(L7:L196,G3)","v":29},null,32,31,32,32,31,32]
[21,1752,12,1767,13,1772,null,null,null,null,0,211,null,null,null,"% of reinforcement given in 6 equal intervals based on number of trials "]
[21,1868,12,1880,13,1883,null,null,null,null,0,211,null,null,null,"%_1","%_2","%_3","%_4","%_5","%_6"]
[21,1980,21,1983,11,1995,null,null,null,null,0,221,null,null,"target sequence",{"$f":"$G$3","v":221},{"$f":"$G$3","v":221},{"$f":"$G$3","v":221},{"$f":"$G$3","v":221},{"$f":"$G$3","v":221},{"$f":"$G$3","v":221}]
[12,2127,14,2131,13,2136,null,null,null,null,0,111,null,null,"total reinforcement",{"$f":"U13","v":4},{"$f":"Z13","v":6},{"$f":"AE13","v":6},{"$f":"AJ13","v":5},{"$f":"AO13","v":4},{"$f":"AT13","v":4}]
[21,2233,21,2235,11,2248,null,null,null,null,0,221,null,null,"% target"]
[12,2382,14,2387,13,2392,null,null,null,null,0,111,null,null,"CCRF"]
[21,2489,12,2500,13,2505,null,null,null,null,0,211,null,null,"% CCRf"]
[21,2604,12,2612,13,2620,null,null,null,null,0,211,null,null,"average response rate",{"$f":"F38/P20","v":119.46875},{"$f":"(F69-F38)/Q20","v":131.74193548387098},{"$f":"(F101-F69)/R20","v":123.625},{"$f":"(F133-F101)/S20","v":115.65625},{"$f":"(F164-F133)/T20","v":132.70967741935485},{"$f":"(F196-F164)/U20","v":134.625}]
[21,2716,12,2724,13,2727,null,null,null,null,0,211]
[21,2823,21,2840,22,2860,null,null,null,null,0,222]
[21,2956,21,2959,11,2971,null,null,null,null,0,221]
[21,3064,21,3068,11,3076,null,null,null,null,0,221]
[21,3171,12,3184,13,3187,null,null,null,null,0,211]
[21,3284,12,3292,13,3296,null,null,null,null,0,211]
[12,3459,14,3464,24,3468,null,null,null,null,0,112]
[21,3589,12,3599,13,3604,null,null,null,null,0,211]
[21,3701,12,3708,13,3711,null,null,null,null,0,211]
[21,3806,12,3817,13,3823,null,null,null,null,0,211]
[21,3921,12,3938,13,3943,null,null,null,null,0,211]
[21,4224,21,4228,22,4231,null,null,null,null,0,222]
[12,4341,14,4346,13,4352,null,null,null,null,0,111]
[21,4449,12,4458,13,4464,null,null,null,null,0,211]
[12,4577,14,4582,13,4588,null,null,null,null,0,111]
[21,4683,12,4693,13,4702,null,null,null,null,0,211]
[21,4795,21,4799,22,4801,null,null,null,null,0,222]
[21,4900,12,4909,13,4912,null,null,null,null,0,211]
[21,5009,12,5018,13,5025,null,null,null,null,0,211]
[21,5117,21,5122,11,5134,null,null,null,null,0,221]
[21,5403,12,5411,13,5416,null,null,null,null,0,211]
[21,5521,12,5536,13,5541,null,null,null,null,0,211]
[21,5637,21,5640,11,5647,null,null,null,null,0,221]
[21,5780,12,5789,13,5794,null,null,null,null,0,211]
[21,5890,12,5897,13,5900,null,null,null,null,0,211]
[21,5995,21,6006,22,6010,null,null,null,null,0,222]
[21,6107,12,6116,13,6121,null,null,null,null,0,211]
[21,6218,12,6230,13,6234,null,null,null,null,0,211]
[21,6326,21,6331,11,6343,null,null,null,null,0,221]
[12,6455,23,6462,24,6476,null,null,null,null,0,122]
[21,6572,21,6574,11,6587,null,null,null,null,0,221]
[12,6879,14,6885,13,6890,null,null,null,null,0,111]
[12,7003,23,7007,13,7014,null,null,null,null,0,121]
[21,7111,12,7122,13,7128,null,null,null,null,0,211]
[21,7223,21,7227,11,7239,null,null,null,null,0,221]
[21,7342,12,7353,13,7355,null,null,null,null,0,211]
[21,7452,12,7460,13,7463,null,null,null,null,0,211]
[21,7558,12,7567,13,7570,null,null,null,null,0,211]
[21,7664,12,7675,13,7677,null,null,null,null,0,211]
[21,7772,12,7786,13,7797,null,null,null,null,0,211]
[21,7892,21,7896,11,7907,null,null,null,null,0,221]
[21,8076,12,8087,13,8102,null,null,null,null,0,211]
[21,8199,12,8210,13,8215,null,null,null,null,0,211]
[21,8308,21,8311,11,8319,null,null,null,null,0,221]
[21,8492,12,8510,13,8515,null,null,null,null,0,211]
[21,8607,21,8609,11,8616,null,null,null,null,0,221]
[21,8745,21,8748,11,8759,null,null,null,null,0,221]
[21,8872,12,8879,13,8885,null,null,null,null,0,211]
[21,8981,12,8989,13,8994,null,null,null,null,0,211]
[21,9089,21,9092,11,9098,null,null,null,null,0,221]
[21,9234,12,9241,13,9247,null,null,null,null,0,211]
[12,9347,14,9352,13,9357,null,null,null,null,0,111]
[21,9455,21,9462,22,9466,null,null,null,null,0,222]
[21,9563,12,9571,13,9574,null,null,null,null,0,211]
[21,9670,12,9682,13,9688,null,null,null,null,0,211]
[21,9783,12,9792,13,9798,null,null,null,null,0,211]
[21,9892,12,9906,13,9912,null,null,null,null,0,211]
[21,10007,12,10016,13,10019,null,null,null,null,0,211]
[21,10115,12,10122,13,10127,null,null,null,null,0,211]
[21,10222,21,10226,11,10233,null,null,null,null,0,221]
[21,10486,12,10494,13,10499,null,null,null,null,0,211]
[21,10592,12,10602,13,10607,null,null,null,null,0,211]
[21,10704,12,10714,13,10717,null,null,null,null,0,211]
[21,10813,12,10821,13,10826,null,null,null,null,0,211]
[12,10927,14,10933,24,10937,null,null,null,null,0,112]
[21,11032,12,11043,13,11047,null,null,null,null,0,211]
[21,11144,12,11152,13,11159,null,null,null,null,0,211]
[21,11259,12,11267,13,11272,null,null,null,null,0,211]
[21,11367,12,11381,13,11386,null,null,null,null,0,211]
[21,11487,12,11501,24,11505,null,null,null,null,0,212]
[21,11600,21,11602,11,11612,null,null,null,null,0,221]
[21,11740,12,11749,13,11752,null,null,null,null,0,211]
[21,11844,12,11856,13,11863,null,null,null,null,0,211]
[21,11959,12,11971,13,11976,null,null,null,null,0,211]
[21,12072,21,12074,11,12083,null,null,null,null,0,221]
[21,12234,12,12242,13,12245,null,null,null,null,0,211]
[12,12343,23,12349,24,12355,null,null,null,null,0,122]
[21,12453,12,12461,13,12464,null,null,null,null,0,211]
[21,12560,12,12569,13,12575,null,null,null,null,0,211]
[21,12672,12,12678,13,12683,null,null,null,null,0,211]
[21,12780,21,12781,22,12785,null,null,null,null,0,222]
[21,12877,21,12884,11,12891,null,null,null,null,0,221]
[21,13007,21,13012,11,13021,null,null,null,null,0,221]
[12,13211,14,13216,24,13218,null,null,null,null,0,112]
[21,13312,12,13321,13,13324,null,null,null,null,0,211]
[21,13420,12,13430,13,13437,null,null,null,null,0,211]
[21,13532,12,13544,13,13550,null,null,null,null,0,211]
[21,13648,12,13660,13,13665,null,null,null,null,0,211]
[21,13759,21,13761,11,13769,null,null,null,null,0,221]
[21,13871,12,13878,13,13881,null,null,null,null,0,211]
[21,13980,12,13993,24,13997,null,null,null,null,0,212]
[21,14094,21,14096,11,14103,null,null,null,null,0,221]
[21,14194,12,14205,13,14210,null,null,null,null,0,211]
[12,14315,14,14322,24,14328,null,null,null,null,0,112]
[12,14430,14,14436,24,14440,null,null,null,null,0,112]
[21,14534,12,14547,13,14553,null,null,null,null,0,211]
[21,14650,12,14660,13,14666,null,null,null,null,0,211]
[21,14760,12,14772,13,14778,null,null,null,null,0,211]
[12,14878,14,14885,24,14908,null,null,null,null,0,112]
[21,15003,12,15012,13,15020,null,null,null,null,0,211]
[21,15116,12,15128,13,15135,null,null,null,null,0,211]
[21,15227,12,15237,13,15243,null,null,null,null,0,211]
[21,15340,12,15350,24,15355,null,null,null,null,0,212]
[21,15451,21,15454,22,15460,null,null,null,null,0,222]
[21,15553,12,15561,13,15564,null,null,null,null,0,211]
[21,15660,21,15664,11,15677,null,null,null,null,0,221]
[21,15791,21,15793,11,15803,null,null,null,null,0,221]
[12,16236,14,16242,24,16246,null,null,null,null,0,112]
[21,16345,12,16352,13,16355,null,null,null,null,0,211]
[21,16452,12,16464,24,16469,null,null,null,null,0,212]
[21,16563,12,16570,13,16573,null,null,null,null,0,211]
[21,16671,12,16678,13,16684,null,null,null,null,0,211]
[21,16778,12,16787,24,16796,null,null,null,null,0,212]
[21,16894,12,16900,13,16906,null,null,null,null,0,211]
[21,17001,12,17014,24,17028,null,null,null,null,0,212]
[21,17120,12,17133,13,17139,null,null,null,null,0,211]
[21,17233,12,17243,24,17247,null,null,null,null,0,212]
[21,17344,12,17352,13,17358,null,null,null,null,0,211]
[21,17454,12,17467,24,17480,null,null,null,null,0,212]
[12,17581,14,17585,24,17589,null,null,null,null,0,112]
[21,17684,12,17696,13,17703,null,null,null,null,0,211]
[21,17795,21,17801,11,17816,null,null,null,null,0,221]
[12,18049,14,18055,13,18061,null,null,null,null,0,111]
[21,18157,21,18159,22,18161,null,null,null,null,0,222]
[21,18257,12,18272,13,18277,null,null,null,null,0,211]
[12,18381,14,18384,13,18392,null,null,null,null,0,111]
[12,18491,14,18496,13,18502,null,null,null,null,0,111]
[21,18598,12,18609,13,18616,null,null,null,null,0,211]
[21,18712,12,18725,13,18732,null,null,null,null,0,211]
[21,18829,12,18840,13,18846,null,null,null,null,0,211]
[21,18944,12,18958,13,18965,null,null,null,null,0,211]
[21,19060,12,19074,13,19083,null,null,null,null,0,211]
[21,19181,12,19190,13,19197,null,null,null,null,0,211]
[21,19295,21,19303,22,19313,null,null,null,null,0,222]
[21,19408,21,19410,11,19420,null,null,null,null,0,221]
[21,19661,12,19672,13,19678,null,null,null,null,0,211]
[21,19775,12,19786,13,19792,null,null,null,null,0,211]
[21,19888,21,19891,11,19903,null,null,null,null,0,221]
[12,20125,23,20133,24,20145,null,null,null,null,0,122]
[12,20247,14,20253,24,20256,null,null,null,null,0,112]
[21,20351,12,20361,24,20387,null,null,null,null,0,212]
[12,20491,14,20496,24,20501,null,null,null,null,0,112]
[21,20594,12,20608,24,20613,null,null,null,null,0,212]
[21,20708,21,20710,11,20720,null,null,null,null,0,221]
[12,21058,14,21063,13,21069,null,null,null,null,0,111]
[21,21166,12,21177,13,21182,null,null,null,null,0,211]
[21,21279,12,21294,24,21298,null,null,null,null,0,212]
[21,21394,12,21408,24,21420,null,null,null,null,0,212]
[12,21525,14,21531,13,21539,null,null,null,null,0,111]
[21,21631,21,21634,11,21645,null,null,null,null,0,221]
[21,21765,12,21777,13,21782,null,null,null,null,0,211]
[21,21878,12,21890,13,21893,null,null,null,null,0,211]
[12,22000,14,22003,24,22015,null,null,null,null,0,112]
[21,22112,12,22125,24,22137,null,null,null,null,0,212]
[21,22231,12,22244,24,22248,null,null,null,null,0,212]
[21,22343,12,22349,13,22354,null,null,null,null,0,211]
[21,22449,12,22459,13,22467,null,null,null,null,0,211]
[21,22560,12,22572,24,22583,null,null,null,null,0,212]
[21,22678,21,22680,11,22691,null,null,null,null,0,221]
[12,22997,14,23003,13,23008,null,null,null,null,0,111]
[21,23156,12,23169,13,23174,null,null,null,null,0,211]
[21,23270,12,23282,13,23287,null,null,null,null,0,211]
[21,23382,12,23392,24,23404,null,null,null,null,0,212]
[21,23502,12,23518,24,23526,null,null,null,null,0,212]
[12,23622,23,23629,24,23632,null,null,null,null,0,122]
[21,23730,12,23743,13,23750,null,null,null,null,0,211]
[21,23842,12,23854,24,23865,null,null,null,null,0,212]
[21,23962,12,23973,13,23986,null,null,null,null,null,211]

{"sheet":"!MA08A5T.AYL","index":9,"n_rows":260,"n_cols":48,"rows_kept":260,"cut":false,"hidden":false,"merged":[[4,39,4,42],[5,39,5,40],[4,44,4,47],[5,44,5,45],[4,24,4,27],[5,24,5,25],[4,29,4,32],[5,29,5,30],[4,34,4,37],[5,34,5,35],[1,1,1,2],[5,13,5,14],[18,13,18,14],[19,13,19,14],[4,19,4,22],[5,19,5,20]]}
["Report for:!MA08A5T.AYL"]
["Date:","<date>"]
["Hen:","<hen>",null,null,null,"Correct Sequence",{"$f":"Start!J2","v":221},null,null,null,null,null,null,null,null,"Total Sequences in Data",{"$f":"4994-COUNTBLANK(L7:L5000)","v":254},null,null,null,null,"Total Sequences in Block Data",{"$f":"COUNTA(L7:L48)","v":42},null,null,null,"Total Sequences in Block Data",{"$f":"COUNTA(L49:L91)","v":43},null,null,null,"Total Sequences in Block Data",{"$f":"COUNTA(L92:L133)","v":42},null,null,null,"Total Sequences in Block Data",{"$f":"COUNTA(L134:L175)","v":42},null,null,null,"Total Sequences in Block Data",{"$f":"COUNTA(L176:L218)","v":43},null,null,null,"Total Sequences in Block Data",{"$f":"COUNTA(L219:L260)","v":42}]
[null,null,null,null,null,null,null,null,null,null,null,null,null,null,null,"Total Sequences in Summary",{"$f":"SUM(O7:O14)","v":254},null,null,null,null,"Total Sequences in Block Summary",{"$f":"SUM(U7:U14)","v":42},null,null,null,"Total Sequences in Block Summary",{"$f":"SUM(Z7:Z14)","v":43},null,null,null,"Total Sequences in Block Summary",{"$f":"SUM(AE7:AE14)","v":42},null,null,null,"Total Sequences in Block Summary",{"$f":"SUM(AJ7:AJ14)","v":42},null,null,null,"Total Sequences in Block Summary",{"$f":"SUM(AO7:AO14)","v":43},null,null,null,"Total Sequences in Block Summary",{"$f":"SUM(AT7:AT14)","v":42}]
[null,null,null,null,null,null,null,null,null,null,null,null,null,null,null,null,null,null,null,"Block 1",null,null,null,null,"Block 2",null,null,null,null,"Block 3",null,null,null,null,"Block 4",null,null,null,null,"Block 5",null,null,null,null,"Block 6"]
["Sequence\nComponent\n1","Time\n1","Sequence\nComponent\n2","Time\n2","Sequence\nComponent\n3","Time\n3","Sequence\nComponent\n4","Time\n4","Sequence\nComponent\n5","Time\n5","Correct?\n0=No 1=Yes","Sequence",null,"Frequency",null,"Relative Frequency","Variability",null,null,"Frequency",null,"Relative Frequency","Variability",null,"Frequency",null,"Relative Frequency","Variability",null,"Frequency",null,"Relative Frequency","Variability",null,"Frequency",null,"Relative Frequency","Variability",null,"Frequency",null,"Relative Frequency","Variability",null,"Frequency",null,"Relative Frequency","Variability"]
[12,0,14,0,24,0,null,null,null,null,0,112,null,111,{"$f":"COUNTIF($L$7:$L$500,N7)","v":49},{"$f":"O7/$Q$4","v":0.19291338582677164},{"$f":"IF(P7=0,0,(P7*((LOG(P7))/LOG(2))))","v":-0.45797152476453118},null,null,{"$f":"N7","v":111},{"$f":"COUNTIF(L7:L48,T7)","v":6},{"$f":"U7/(W4-U13)","v":0.15},{"$f":"IF(V7=0,0,(V7*((LOG(V7))/LOG(2))))","v":-0.41054483912493089},null,{"$f":"N7","v":111},{"$f":"COUNTIF(L49:L91,Y7)","v":13},{"$f":"Z7/(AB4-Z13)","v":0.33333333333333331},{"$f":"IF(AA7=0,0,(AA7*((LOG(AA7))/LOG(2))))","v":-0.52832083357371862},null,{"$f":"N7","v":111},{"$f":"COUNTIF(L92:L133,AD7)","v":14},{"$f":"AE7/(AG4-AE13)","v":0.4},{"$f":"IF(AF7=0,0,(AF7*((LOG(AF7))/LOG(2))))","v":-0.52877123795494496},null,{"$f":"N7","v":111},{"$f":"COUNTIF(L134:L175,AI7)","v":9},{"$f":"AJ7/(AL4-AJ13)","v":0.22500000000000001},{"$f":"IF(AK7=0,0,(AK7*((LOG(AK7))/LOG(2))))","v":-0.48420069602513627},null,{"$f":"N7","v":111},{"$f":"COUNTIF(L176:L218,AN7)","v":6},{"$f":"AO7/(AQ4-AO13)","v":0.15384615384615385},{"$f":"IF(AP7=0,0,(AP7*((LOG(AP7))/LOG(2))))","v":-0.4154522643293988},null,{"$f":"N7","v":111},{"$f":"COUNTIF(L219:L260,AS7)","v":1},{"$f":"AT7/(AV4-AT13)","v":2.4390243902439025E-2},{"$f":"IF(AU7=0,0,(AU7*((LOG(AU7))/LOG(2))))","v":-0.13067200011263619}]
[12,0,23,0,24,0,null,null,null,null,0,122,null,112,{"$f":"COUNTIF($L$7:$L$500,N8)","v":15},{"$f":"O8/$Q$4","v":5.905511811023622E-2},{"$f":"IF(P8=0,0,(P8*((LOG(P8))/LOG(2))))","v":-0.24105083215533352},null,null,{"$f":"N8","v":112},{"$f":"COUNTIF(L7:L48,T8)","v":3},{"$f":"U8/(W4-U13)","v":7.4999999999999997E-2},{"$f":"IF(V8=0,0,(V8*((LOG(V8))/LOG(2))))","v":-0.28027241956246546},null,{"$f":"N8","v":112},{"$f":"COUNTIF(L49:L91,Y8)","v":6},{"$f":"Z8/(AB4-Z13)","v":0.15384615384615385},{"$f":"IF(AA8=0,0,(AA8*((LOG(AA8))/LOG(2))))","v":-0.4154522643293988},null,{"$f":"N8","v":112},{"$f":"COUNTIF(L92:L133,AD8)","v":4},{"$f":"AE8/(AG4-AE13)","v":0.11428571428571428},{"$f":"IF(AF8=0,0,(AF8*((LOG(AF8))/LOG(2))))","v":-0.35763234479371042},null,{"$f":"N8","v":112},{"$f":"COUNTIF(L134:L175,AI8)","v":2},{"$f":"AJ8/(AL4-AJ13)","v":0.05},{"$f":"IF(AK8=0,0,(AK8*((LOG(AK8))/LOG(2))))","v":-0.21609640474436814},null,{"$f":"N8","v":112},{"$f":"COUNTIF(L176:L218,AN8)","v":0},{"$f":"AO8/(AQ4-AO13)","v":0},{"$f":"IF(AP8=0,0,(AP8*((LOG(AP8))/LOG(2))))","v":0},null,{"$f":"N8","v":112},{"$f":"COUNTIF(L219:L260,AS8)","v":0},{"$f":"AT8/(AV4-AT13)","v":0},{"$f":"IF(AU8=0,0,(AU8*((LOG(AU8))/LOG(2))))","v":0}]
[21,0,12,0,13,0,null,null,null,null,0,211,null,121,{"$f":"COUNTIF($L$7:$L$500,N9)","v":17},{"$f":"O9/$Q$4","v":6.6929133858267723E-2},{"$f":"IF(P9=0,0,(P9*((LOG(P9))/LOG(2))))","v":-0.26110539910972858},null,null,{"$f":"N9","v":121},{"$f":"COUNTIF(L7:L48,T9)","v":6},{"$f":"U9/(W4-U13)","v":0.15},{"$f":"IF(V9=0,0,(V9*((LOG(V9))/LOG(2))))","v":-0.41054483912493089},null,{"$f":"N9","v":121},{"$f":"COUNTIF(L49:L91,Y9)","v":2},{"$f":"Z9/(AB4-Z13)","v":5.128205128205128E-2},{"$f":"IF(AA9=0,0,(AA9*((LOG(AA9))/LOG(2))))","v":-0.21976421635191018},null,{"$f":"N9","v":121},{"$f":"COUNTIF(L92:L133,AD9)","v":6},{"$f":"AE9/(AG4-AE13)","v":0.17142857142857143},{"$f":"IF(AF9=0,0,(AF9*((LOG(AF9))/LOG(2))))","v":-0.43616923135265318},null,{"$f":"N9","v":121},{"$f":"COUNTIF(L134:L175,AI9)","v":2},{"$f":"AJ9/(AL4-AJ13)","v":0.05},{"$f":"IF(AK9=0,0,(AK9*((LOG(AK9))/LOG(2))))","v":-0.21609640474436814},null,{"$f":"N9","v":121},{"$f":"COUNTIF(L176:L218,AN9)","v":0},{"$f":"AO9/(AQ4-AO13)","v":0},{"$f":"IF(AP9=0,0,(AP9*((LOG(AP9))/LOG(2))))","v":0},null,{"$f":"N9","v":121},{"$f":"COUNTIF(L219:L260,AS9)","v":1},{"$f":"AT9/(AV4-AT13)","v":2.4390243902439025E-2},{"$f":"IF(AU9=0,0,(AU9*((LOG(AU9))/LOG(2))))","v":-0.13067200011263619}]
[21,0,21,0,22,0,null,null,null,null,0,222,null,122,{"$f":"COUNTIF($L$7:$L$500,N10)","v":15},{"$f":"O10/$Q$4","v":5.905511811023622E-2},{"$f":"IF(P10=0,0,(P10*((LOG(P10))/LOG(2))))","v":-0.24105083215533352},null,null,{"$f":"N10","v":122},{"$f":"COUNTIF(L7:L48,T10)","v":4},{"$f":"U10/(W4-U13)","v":0.1},{"$f":"IF(V10=0,0,(V10*((LOG(V10))/LOG(2))))","v":-0.33219280948873625},null,{"$f":"N10","v":122},{"$f":"COUNTIF(L49:L91,Y10)","v":5},{"$f":"Z10/(AB4-Z13)","v":0.12820512820512819},{"$f":"IF(AA10=0,0,(AA10*((LOG(AA10))/LOG(2))))","v":-0.37993257999678021},null,{"$f":"N10","v":122},{"$f":"COUNTIF(L92:L133,AD10)","v":1},{"$f":"AE10/(AG4-AE13)","v":2.8571428571428571E-2},{"$f":"IF(AF10=0,0,(AF10*((LOG(AF10))/LOG(2))))","v":-0.14655094334128474},null,{"$f":"N10","v":122},{"$f":"COUNTIF(L134:L175,AI10)","v":1},{"$f":"AJ10/(AL4-AJ13)","v":2.5000000000000001E-2},{"$f":"IF(AK10=0,0,(AK10*((LOG(AK10))/LOG(2))))","v":-0.13304820237218404},null,{"$f":"N10","v":122},{"$f":"COUNTIF(L176:L218,AN10)","v":3},{"$f":"AO10/(AQ4-AO13)","v":7.6923076923076927E-2},{"$f":"IF(AP10=0,0,(AP10*((LOG(AP10))/LOG(2))))","v":-0.28464920908777636},null,{"$f":"N10","v":122},{"$f":"COUNTIF(L219:L260,AS10)","v":1},{"$f":"AT10/(AV4-AT13)","v":2.4390243902439025E-2},{"$f":"IF(AU10=0,0,(AU10*((LOG(AU10))/LOG(2))))","v":-0.13067200011263619}]
[21,0,21,0,22,0,null,null,null,null,0,222,null,211,{"$f":"COUNTIF($L$7:$L$500,N11)","v":19},{"$f":"O11/$Q$4","v":7.4803149606299218E-2},{"$f":"IF(P11=0,0,(P11*((LOG(P11))/LOG(2))))","v":-0.27982041847733474},null,null,{"$f":"N11","v":211},{"$f":"COUNTIF(L7:L48,T11)","v":7},{"$f":"U11/(W4-U13)","v":0.17499999999999999},{"$f":"IF(V11=0,0,(V11*((LOG(V11))/LOG(2))))","v":-0.44005030524520772},null,{"$f":"N11","v":211},{"$f":"COUNTIF(L49:L91,Y11)","v":6},{"$f":"Z11/(AB4-Z13)","v":0.15384615384615385},{"$f":"IF(AA11=0,0,(AA11*((LOG(AA11))/LOG(2))))","v":-0.4154522643293988},null,{"$f":"N11","v":211},{"$f":"COUNTIF(L92:L133,AD11)","v":4},{"$f":"AE11/(AG4-AE13)","v":0.11428571428571428},{"$f":"IF(AF11=0,0,(AF11*((LOG(AF11))/LOG(2))))","v":-0.35763234479371042},null,{"$f":"N11","v":211},{"$f":"COUNTIF(L134:L175,AI11)","v":2},{"$f":"AJ11/(AL4-AJ13)","v":0.05},{"$f":"IF(AK11=0,0,(AK11*((LOG(AK11))/LOG(2))))","v":-0.21609640474436814},null,{"$f":"N11","v":211},{"$f":"COUNTIF(L176:L218,AN11)","v":0},{"$f":"AO11/(AQ4-AO13)","v":0},{"$f":"IF(AP11=0,0,(AP11*((LOG(AP11))/LOG(2))))","v":0},null,{"$f":"N11","v":211},{"$f":"COUNTIF(L219:L260,AS11)","v":0},{"$f":"AT11/(AV4-AT13)","v":0},{"$f":"IF(AU11=0,0,(AU11*((LOG(AU11))/LOG(2))))","v":0}]
[21,0,21,0,22,0,null,null,null,null,0,222,null,212,{"$f":"COUNTIF($L$7:$L$500,N12)","v":22},{"$f":"O12/$Q$4","v":8.6614173228346455E-2},{"$f":"IF(P12=0,0,(P12*((LOG(P12))/LOG(2))))","v":-0.30568333661010672},null,null,{"$f":"N12","v":212},{"$f":"COUNTIF(L7:L48,T12)","v":9},{"$f":"U12/(W4-U13)","v":0.22500000000000001},{"$f":"IF(V12=0,0,(V12*((LOG(V12))/LOG(2))))","v":-0.48420069602513627},null,{"$f":"N12","v":212},{"$f":"COUNTIF(L49:L91,Y12)","v":3},{"$f":"Z12/(AB4-Z13)","v":7.6923076923076927E-2},{"$f":"IF(AA12=0,0,(AA12*((LOG(AA12))/LOG(2))))","v":-0.28464920908777636},null,{"$f":"N12","v":212},{"$f":"COUNTIF(L92:L133,AD12)","v":0},{"$f":"AE12/(AG4-AE13)","v":0},{"$f":"IF(AF12=0,0,(AF12*((LOG(AF12))/LOG(2))))","v":0},null,{"$f":"N12","v":212},{"$f":"COUNTIF(L134:L175,AI12)","v":8},{"$f":"AJ12/(AL4-AJ13)","v":0.2},{"$f":"IF(AK12=0,0,(AK12*((LOG(AK12))/LOG(2))))","v":-0.46438561897747244},null,{"$f":"N12","v":212},{"$f":"COUNTIF(L176:L218,AN12)","v":2},{"$f":"AO12/(AQ4-AO13)","v":5.128205128205128E-2},{"$f":"IF(AP12=0,0,(AP12*((LOG(AP12))/LOG(2))))","v":-0.21976421635191018},null,{"$f":"N12","v":212},{"$f":"COUNTIF(L219:L260,AS12)","v":0},{"$f":"AT12/(AV4-AT13)","v":0},{"$f":"IF(AU12=0,0,(AU12*((LOG(AU12))/LOG(2))))","v":0}]
[21,0,12,0,24,0,null,null,null,null,0,212,null,221,{"$f":"COUNTIF($L$7:$L$500,N13)","v":20},{"$f":"O13/$Q$4","v":7.874015748031496E-2},{"$f":"IF(P13=0,0,(P13*((LOG(P13))/LOG(2))))","v":-0.28872099148699237},null,null,{"$f":"N13","v":221},{"$f":"COUNTIF(L7:L48,T13)","v":2},null,null,null,{"$f":"N13","v":221},{"$f":"COUNTIF(L49:L91,Y13)","v":4},null,null,null,{"$f":"N13","v":221},{"$f":"COUNTIF(L92:L133,AD13)","v":7},null,null,null,{"$f":"N13","v":221},{"$f":"COUNTIF(L134:L175,AI13)","v":2},null,null,null,{"$f":"N13","v":221},{"$f":"COUNTIF(L176:L218,AN13)","v":4},null,null,null,{"$f":"N13","v":221},{"$f":"COUNTIF(L219:L260,AS13)","v":1}]
[12,0,23,0,24,0,null,null,null,null,0,122,null,222,{"$f":"COUNTIF($L$7:$L$500,N14)","v":97},{"$f":"O14/$Q$4","v":0.38188976377952755},{"$f":"IF(P14=0,0,(P14*((LOG(P14))/LOG(2))))","v":-0.53035775167223898},null,null,{"$f":"N14","v":222},{"$f":"COUNTIF(L7:L48,T14)","v":5},{"$f":"U14/(W4-U13)","v":0.125},{"$f":"IF(V14=0,0,(V14*((LOG(V14))/LOG(2))))","v":-0.375},null,{"$f":"N14","v":222},{"$f":"COUNTIF(L49:L91,Y14)","v":4},{"$f":"Z14/(AB4-Z13)","v":0.10256410256410256},{"$f":"IF(AA14=0,0,(AA14*((LOG(AA14))/LOG(2))))","v":-0.33696433013971777},null,{"$f":"N14","v":222},{"$f":"COUNTIF(L92:L133,AD14)","v":6},{"$f":"AE14/(AG4-AE13)","v":0.17142857142857143},{"$f":"IF(AF14=0,0,(AF14*((LOG(AF14))/LOG(2))))","v":-0.43616923135265318},null,{"$f":"N14","v":222},{"$f":"COUNTIF(L134:L175,AI14)","v":16},{"$f":"AJ14/(AL4-AJ13)","v":0.4},{"$f":"IF(AK14=0,0,(AK14*((LOG(AK14))/LOG(2))))","v":-0.52877123795494496},null,{"$f":"N14","v":222},{"$f":"COUNTIF(L176:L218,AN14)","v":28},{"$f":"AO14/(AQ4-AO13)","v":0.71794871794871795},{"$f":"IF(AP14=0,0,(AP14*((LOG(AP14))/LOG(2))))","v":-0.34321344385974456},null,{"$f":"N14","v":222},{"$f":"COUNTIF(L219:L260,AS14)","v":38},{"$f":"AT14/(AV4-AT13)","v":0.92682926829268297},{"$f":"IF(AU14=0,0,(AU14*((LOG(AU14))/LOG(2))))","v":-0.10160318694221779}]
[21,0,21,0,11,0,null,null,null,null,0,221,null,null,null,{"$f":"SUM(P7:P14)","v":0.99999999999999989},{"$f":"-SUM(Q7:Q14)","v":2.6057610864315994},null,null,null,null,{"$f":"SUM(V7:V14)","v":0.99999999999999989},{"$f":"-SUM(W7:W14)","v":2.7328059085714074},null,null,null,{"$f":"SUM(AA7:AA14)","v":0.99999999999999989},{"$f":"-SUM(AB7:AB14)","v":2.5805356978087004},null,null,null,{"$f":"SUM(AF7:AF14)","v":1},{"$f":"-SUM(AG7:AG14)","v":2.262925333588957},null,null,null,{"$f":"SUM(AK7:AK14)","v":1},{"$f":"-SUM(AL7:AL14)","v":2.2586949695628418},null,null,null,{"$f":"SUM(AP7:AP14)","v":1},{"$f":"-SUM(AQ7:AQ14)","v":1.2630791336288298},null,null,null,{"$f":"SUM(AU7:AU14)","v":1},{"$f":"-SUM(AV7:AV14)","v":0.49361918728012633}]
[12,0,14,0,13,0,null,null,null,null,0,111,null,null,null,"U=",{"$f":"Q15/(LOG(Q4)/LOG(2))","v":0.32618149152216186},null,null,null,null,"U1=",{"$f":"W15/(LOG(W4)/LOG(2))","v":0.5067961869283174},null,null,null,"U2=",{"$f":"AB15/(LOG(AB4)/LOG(2))","v":0.47556391264774767},null,null,null,"U3=",{"$f":"AG15/(LOG(AG4)/LOG(2))","v":0.41965729317596995},null,null,null,"U4=",{"$f":"AL15/(LOG(AL4)/LOG(2))","v":0.41887277629863534},null,null,null,"U5=",{"$f":"AQ15/(LOG(AQ4)/LOG(2))","v":0.23277137971093578},null,null,null,"U6=",{"$f":"AV15/(LOG(AV4)/LOG(2))","v":9.1541196220187512E-2}]
[21,0,12,0,24,0,null,null,null,null,0,212]
[21,0,21,0,22,0,null,null,null,null,0,222]
[12,0,14,0,13,0,null,null,null,null,0,111,null,"Total Target Seq"]
[21,0,12,0,24,0,null,null,null,null,0,212,null,{"$f":"COUNTIF(L7:L260,G3)","v":20},null,42,43,42,42,43,42]
[21,0,21,0,22,0,null,null,null,null,0,222,null,null,null,"% of reinforcement given in 6 equal intervals based on number of trials "]
[21,0,12,0,13,0,null,null,null,null,0,211,null,null,null,"%_1","%_2","%_3","%_4","%_5","%_6"]
[21,0,12,0,24,0,null,null,null,null,0,212,null,null,"target sequence",{"$f":"$G$3","v":221},{"$f":"$G$3","v":221},{"$f":"$G$3","v":221},{"$f":"$G$3","v":221},{"$f":"$G$3","v":221},{"$f":"$G$3","v":221}]
[21,0,12,0,13,0,null,null,null,null,0,211,null,null,"total reinforcement",{"$f":"U13","v":2},{"$f":"Z13","v":4},{"$f":"AE13","v":7},{"$f":"AJ13","v":2},{"$f":"AO13","v":4},{"$f":"AT13","v":1}]
[12,0,23,0,13,0,null,null,null,null,0,121,null,null,"% target"]
[12,0,23,0,13,0,null,null,null,null,0,121,null,null,"CCRF"]
[12,0,23,0,13,0,null,null,null,null,0,121,null,null,"% CCRf"]
[21,0,12,0,13,0,null,null,null,null,0,211,null,null,"average response rate",{"$f":"F48/P20","v":0},{"$f":"(F91-F48)/Q20","v":0},{"$f":"(F133-F91)/R20","v":0},{"$f":"(F175-F133)/S20","v":0},{"$f":"(F218-F175)/T20","v":0},{"$f":"(F260-F218)/U20","v":0}]
[12,0,14,0,13,0,null,null,null,null,0,111]
[21,0,12,0,24,0,null,null,null,null,0,212]
[21,0,12,0,24,0,null,null,null,null,0,212]
[21,0,12,0,13,0,null,null,null,null,0,211]
[12,0,23,0,13,0,null,null,null,null,0,121]
[12,0,14,0,13,0,null,null,null,null,0,111]
[21,0,12,0,24,0,null,null,null,null,0,212]
[12,0,14,0,24,0,null,null,null,null,0,112]
[12,0,23,0,13,0,null,null,null,null,0,121]
[21,0,21,0,11,0,null,null,null,null,0,221]
[12,0,14,0,13,0,null,null,null,null,0,111]
[12,0,14,0,13,0,null,null,null,null,0,111]
[12,0,23,0,24,0,null,null,null,null,0,122]
[12,0,23,0,13,0,null,null,null,null,0,121]
[21,0,12,0,13,0,null,null,null,null,0,211]
[12,0,23,0,24,0,null,null,null,null,0,122]
[21,0,12,0,24,0,null,null,null,null,0,212]
[12,0,14,0,24,0,null,null,null,null,0,112]
[21,0,12,0,24,0,null,null,null,null,0,212]
[21,0,12,0,13,0,null,null,null,null,0,211]
[21,0,21,0,11,0,null,null,null,null,0,221]
[12,0,14,0,13,0,null,null,null,null,0,111]
[12,0,14,0,13,0,null,null,null,null,0,111]
[12,0,14,0,13,0,null,null,null,null,0,111]
[12,0,14,0,13,0,null,null,null,null,0,111]
[12,0,14,0,13,0,null,null,null,null,0,111]
[12,0,23,0,24,0,null,null,null,null,0,122]
[12,0,14,0,24,0,null,null,null,null,0,112]
[12,0,23,0,13,0,null,null,null,null,0,121]
[21,0,12,0,13,0,null,null,null,null,0,211]
[12,0,23,0,24,0,null,null,null,null,0,122]
[21,0,12,0,13,0,null,null,null,null,0,211]
[21,0,21,0,22,0,null,null,null,null,0,222]
[21,0,12,0,24,0,null,null,null,null,0,212]
[12,0,14,0,13,0,null,null,null,null,0,111]
[21,0,12,0,13,0,null,null,null,null,0,211]
[21,0,12,0,13,0,null,null,null,null,0,211]
[21,0,21,0,11,0,null,null,null,null,0,221]
[12,0,14,0,13,0,null,null,null,null,0,111]
[12,0,23,0,24,0,null,null,null,null,0,122]
[12,0,23,0,24,0,null,null,null,null,0,122]
[12,0,14,0,24,0,null,null,null,null,0,112]
[12,0,14,0,13,0,null,null,null,null,0,111]
[12,0,14,0,24,0,null,null,null,null,0,112]
[21,0,12,0,13,0,null,null,null,null,0,211]
[21,0,21,0,11,0,null,null,null,null,0,221]
[12,0,14,0,13,0,null,null,null,null,0,111]
[12,0,14,0,24,0,null,null,null,null,0,112]
[21,0,21,0,22,0,null,null,null,null,0,222]
[12,0,14,0,24,0,null,null,null,null,0,112]
[21,0,12,0,24,0,null,null,null,null,0,212]
[21,0,21,0,22,0,null,null,null,null,0,222]
[12,0,23,0,24,0,null,null,null,null,0,122]
[21,0,21,0,22,0,null,null,null,null,0,222]
[12,0,14,0,24,0,null,null,null,null,0,112]
[21,0,12,0,24,0,null,null,null,null,0,212]
[12,0,23,0,13,0,null,null,null,null,0,121]
[21,0,12,0,13,0,null,null,null,null,0,211]
[21,0,21,0,11,0,null,null,null,null,0,221]
[12,0,14,0,13,0,null,null,null,null,0,111]
[12,0,14,0,13,0,null,null,null,null,0,111]
[12,0,14,0,13,0,null,null,null,null,0,111]
[12,0,14,0,13,0,null,null,null,null,0,111]
[12,0,14,0,13,0,null,null,null,null,0,111]
[12,0,14,0,13,0,null,null,null,null,0,111]
[12,0,14,0,13,0,null,null,null,null,0,111]
[12,0,14,0,13,0,null,null,null,null,0,111]
[12,0,14,0,24,0,null,null,null,null,0,112]
[21,0,21,0,22,0,null,null,null,null,0,222]
[21,0,21,0,22,0,null,null,null,null,0,222]
[12,0,14,0,13,0,null,null,null,null,0,111]
[21,0,21,0,22,0,null,null,null,null,0,222]
[21,0,21,0,11,0,null,null,null,null,0,221]
[12,0,23,0,13,0,null,null,null,null,0,121]
[21,0,12,0,13,0,null,null,null,null,0,211]
[12,0,23,0,13,0,null,null,null,null,0,121]
[21,0,12,0,13,0,null,null,null,null,0,211]
[21,0,21,0,22,0,null,null,null,null,0,222]
[21,0,12,0,13,0,null,null,null,null,0,211]
[12,0,23,0,13,0,null,null,null,null,0,121]
[21,0,21,0,22,0,null,null,null,null,0,222]
[21,0,21,0,11,0,null,null,null,null,0,221]
[12,0,14,0,13,0,null,null,null,null,0,111]
[12,0,14,0,13,0,null,null,null,null,0,111]
[12,0,14,0,24,0,null,null,null,null,0,112]
[21,0,21,0,11,0,null,null,null,null,0,221]
[12,0,14,0,13,0,null,null,null,null,0,111]
[12,0,14,0,13,0,null,null,null,null,0,111]
[21,0,12,0,13,0,null,null,null,null,0,211]
[12,0,14,0,13,0,null,null,null,null,0,111]
[12,0,23,0,13,0,null,null,null,null,0,121]
[12,0,23,0,13,0,null,null,null,null,0,121]
[12,0,14,0,24,0,null,null,null,null,0,112]
[12,0,23,0,13,0,null,null,null,null,0,121]
[21,0,21,0,11,0,null,null,null,null,0,221]
[12,0,14,0,13,0,null,null,null,null,0,111]
[12,0,14,0,13,0,null,null,null,null,0,111]
[12,0,14,0,24,0,null,null,null,null,0,112]
[21,0,21,0,11,0,null,null,null,null,0,221]
[12,0,14,0,13,0,null,null,null,null,0,111]
[21,0,21,0,11,0,null,null,null,null,0,221]
[12,0,23,0,24,0,null,null,null,null,0,122]
[21,0,21,0,22,0,null,null,null,null,0,222]
[21,0,21,0,11,0,null,null,null,null,0,221]
[12,0,14,0,13,0,null,null,null,null,0,111]
[12,0,14,0,13,0,null,null,null,null,0,111]
[12,0,14,0,13,0,null,null,null,null,0,111]
[12,0,14,0,24,0,null,null,null,null,0,112]
[21,0,21,0,22,0,null,null,null,null,0,222]
[21,0,21,0,22,0,null,null,null,null,0,222]
[21,0,21,0,22,0,null,null,null,null,0,222]
[21,0,12,0,24,0,null,null,null,null,0,212]
[21,0,21,0,11,0,null,null,null,null,0,221]
[12,0,14,0,13,0,null,null,null,null,0,111]
[12,0,14,0,13,0,null,null,null,null,0,111]
[12,0,14,0,13,0,null,null,null,null,0,111]
[12,0,14,0,13,0,null,null,null,null,0,111]
[12,0,14,0,24,0,null,null,null,null,0,112]
[21,0,12,0,24,0,null,null,null,null,0,212]
[21,0,21,0,22,0,null,null,null,null,0,222]
[21,0,21,0,22,0,null,null,null,null,0,222]
[12,0,23,0,13,0,null,null,null,null,0,121]
[21,0,12,0,24,0,null,null,null,null,0,212]
[21,0,12,0,24,0,null,null,null,null,0,212]
[21,0,12,0,24,0,null,null,null,null,0,212]
[21,0,21,0,22,0,null,null,null,null,0,222]
[21,0,12,0,13,0,null,null,null,null,0,211]
[21,0,21,0,22,0,null,null,null,null,0,222]
[21,0,21,0,11,0,null,null,null,null,0,221]
[12,0,14,0,13,0,null,null,null,null,0,111]
[12,0,14,0,13,0,null,null,null,null,0,111]
[12,0,14,0,13,0,null,null,null,null,0,111]
[21,0,21,0,22,0,null,null,null,null,0,222]
[21,0,21,0,22,0,null,null,null,null,0,222]
[21,0,21,0,22,0,null,null,null,null,0,222]
[21,0,21,0,22,0,null,null,null,null,0,222]
[21,0,12,0,24,0,null,null,null,null,0,212]
[21,0,21,0,22,0,null,null,null,null,0,222]
[12,0,23,0,24,0,null,null,null,null,0,122]
[21,0,21,0,22,0,null,null,null,null,0,222]
[12,0,23,0,13,0,null,null,null,null,0,121]
[21,0,21,0,22,0,null,null,null,null,0,222]
[21,0,21,0,22,0,null,null,null,null,0,222]
[21,0,21,0,22,0,null,null,null,null,0,222]
[21,0,12,0,24,0,null,null,null,null,0,212]
[21,0,12,0,24,0,null,null,null,null,0,212]
[21,0,12,0,13,0,null,null,null,null,0,211]
[21,0,21,0,22,0,null,null,null,null,0,222]
[21,0,21,0,11,0,null,null,null,null,0,221]
[12,0,23,0,24,0,null,null,null,null,0,122]
[21,0,12,0,24,0,null,null,null,null,0,212]
[21,0,21,0,11,0,null,null,null,null,0,221]
[12,0,14,0,13,0,null,null,null,null,0,111]
[12,0,14,0,13,0,null,null,null,null,0,111]
[12,0,14,0,13,0,null,null,null,null,0,111]
[12,0,14,0,13,0,null,null,null,null,0,111]
[21,0,21,0,11,0,null,null,null,null,0,221]
[12,0,14,0,13,0,null,null,null,null,0,111]
[12,0,23,0,24,0,null,null,null,null,0,122]
[21,0,21,0,22,0,null,null,null,null,0,222]
[21,0,12,0,24,0,null,null,null,null,0,212]
[21,0,21,0,11,0,null,null,null,null,0,221]
[12,0,14,0,13,0,null,null,null,null,0,111]
[12,0,23,0,24,0,null,null,null,null,0,122]
[21,0,21,0,22,0,null,null,null,null,0,222]
[21,0,21,0,22,0,null,null,null,null,0,222]
[21,0,21,0,22,0,null,null,null,null,0,222]
[21,0,21,0,22,0,null,null,null,null,0,222]
[21,0,21,0,22,0,null,null,null,null,0,222]
[21,0,21,0,22,0,null,null,null,null,0,222]
[21,0,21,0,22,0,null,null,null,null,0,222]
[21,0,21,0,22,0,null,null,null,null,0,222]
[21,0,21,0,22,0,null,null,null,null,0,222]
[21,0,21,0,22,0,null,null,null,null,0,222]
[21,0,21,0,22,0,null,null,null,null,0,222]
[21,0,21,0,22,0,null,null,null,null,0,222]
[21,0,21,0,22,0,null,null,null,null,0,222]
[21,0,21,0,22,0,null,null,null,null,0,222]
[21,0,21,0,22,0,null,null,null,null,0,222]
[21,0,21,0,22,0,null,null,null,null,0,222]
[21,0,21,0,22,0,null,null,null,null,0,222]
[21,0,21,0,22,0,null,null,null,null,0,222]
[21,0,21,0,22,0,null,null,null,null,0,222]
[21,0,21,0,22,0,null,null,null,null,0,222]
[21,0,21,0,22,0,null,null,null,null,0,222]
[21,0,21,0,22,0,null,null,null,null,0,222]
[21,0,21,0,22,0,null,null,null,null,0,222]
[21,0,21,0,22,0,null,null,null,null,0,222]
[21,0,21,0,22,0,null,null,null,null,0,222]
[21,0,21,0,22,0,null,null,null,null,0,222]
[21,0,21,0,22,0,null,null,null,null,0,222]
[21,0,21,0,22,0,null,null,null,null,0,222]
[21,0,21,0,22,0,null,null,null,null,0,222]
[21,0,21,0,22,0,null,null,null,null,0,222]
[21,0,21,0,22,0,null,null,null,null,0,222]
[21,0,21,0,22,0,null,null,null,null,0,222]
[21,0,21,0,22,0,null,null,null,null,0,222]
[21,0,21,0,22,0,null,null,null,null,0,222]
[21,0,21,0,22,0,null,null,null,null,0,222]
[21,0,21,0,22,0,null,null,null,null,0,222]
[21,0,21,0,22,0,null,null,null,null,0,222]
[21,0,21,0,22,0,null,null,null,null,0,222]
[21,0,21,0,22,0,null,null,null,null,0,222]
[21,0,21,0,22,0,null,null,null,null,0,222]
[21,0,21,0,22,0,null,null,null,null,0,222]
[21,0,21,0,22,0,null,null,null,null,0,222]
[21,0,21,0,22,0,null,null,null,null,0,222]
[12,0,23,0,13,0,null,null,null,null,0,121]
[21,0,21,0,22,0,null,null,null,null,0,222]
[21,0,21,0,22,0,null,null,null,null,0,222]
[21,0,21,0,22,0,null,null,null,null,0,222]
[21,0,21,0,22,0,null,null,null,null,0,222]
[21,0,21,0,11,0,null,null,null,null,0,221]
[12,0,23,0,24,0,null,null,null,null,0,122]
[21,0,21,0,22,0,null,null,null,null,0,222]
[21,0,21,0,22,0,null,null,null,null,0,222]
[21,0,21,0,22,0,null,null,null,null,0,222]
[21,0,21,0,22,0,null,null,null,null,0,222]
[21,0,21,0,22,0,null,null,null,null,0,222]
[21,0,21,0,22,0,null,null,null,null,0,222]
[12,0,14,0,13,0,null,null,null,null,0,111]
[21,0,21,0,22,0,null,null,null,null,0,222]
[21,0,21,0,22,0,null,null,null,null,0,222]
[21,0,21,0,22,0,null,null,null,null,0,222]
[21,0,21,0,22,0,null,null,null,null,0,222]
[21,0,21,0,22,0,null,null,null,null,0,222]
[21,0,21,0,22,0,null,null,null,null,0,222]
[21,0,21,0,22,0,null,null,null,null,0,222]
[21,0,21,0,22,0,null,null,null,null,0,222]
[21,0,21,0,22,0,null,null,null,null,0,222]
[21,0,21,0,22,0,null,null,null,null,0,222]
[21,0,21,0,22,0,null,null,null,null,0,222]

{"sheet":"!MA0992T.AYL","index":10,"n_rows":170,"n_cols":48,"rows_kept":170,"cut":false,"hidden":false,"merged":[[4,39,4,42],[5,39,5,40],[4,44,4,47],[5,44,5,45],[4,24,4,27],[5,24,5,25],[4,29,4,32],[5,29,5,30],[4,34,4,37],[5,34,5,35],[1,1,1,2],[5,13,5,14],[18,13,18,14],[19,13,19,14],[4,19,4,22],[5,19,5,20]]}
["Report for:!MA0992T.AYL"]
["Date:","<date>"]
["Hen:","<hen>",null,null,null,"Correct Sequence",{"$f":"Start!J2","v":221},null,null,null,null,null,null,null,null,"Total Sequences in Data",{"$f":"4994-COUNTBLANK(L7:L5000)","v":164},null,null,null,null,"Total Sequences in Block Data",{"$f":"COUNTA(L7:L33)","v":27},null,null,null,"Total Sequences in Block Data",{"$f":"COUNTA(L34:L61)","v":28},null,null,null,"Total Sequences in Block Data",{"$f":"COUNTA(L62:L88)","v":27},null,null,null,"Total Sequences in Block Data",{"$f":"COUNTA(L89:L115)","v":27},null,null,null,"Total Sequences in Block Data",{"$f":"COUNTA(L116:L143)","v":28},null,null,null,"Total Sequences in Block Data",{"$f":"COUNTA(L144:L170)","v":27}]
[null,null,null,null,null,null,null,null,null,null,null,null,null,null,null,"Total Sequences in Summary",{"$f":"SUM(O7:O14)","v":164},null,null,null,null,"Total Sequences in Block Summary",{"$f":"SUM(U7:U14)","v":27},null,null,null,"Total Sequences in Block Summary",{"$f":"SUM(Z7:Z14)","v":28},null,null,null,"Total Sequences in Block Summary",{"$f":"SUM(AE7:AE14)","v":27},null,null,null,"Total Sequences in Block Summary",{"$f":"SUM(AJ7:AJ14)","v":27},null,null,null,"Total Sequences in Block Summary",{"$f":"SUM(AO7:AO14)","v":28},null,null,null,"Total Sequences in Block Summary",{"$f":"SUM(AT7:AT14)","v":27}]
[null,null,null,null,null,null,null,null,null,null,null,null,null,null,null,null,null,null,null,"Block 1",null,null,null,null,"Block 2",null,null,null,null,"Block 3",null,null,null,null,"Block 4",null,null,null,null,"Block 5",null,null,null,null,"Block 6"]
["Sequence\nComponent\n1","Time\n1","Sequence\nComponent\n2","Time\n2","Sequence\nComponent\n3","Time\n3","Sequence\nComponent\n4","Time\n4","Sequence\nComponent\n5","Time\n5","Correct?\n0=No 1=Yes","Sequence",null,"Frequency",null,"Relative Frequency","Variability",null,null,"Frequency",null,"Relative Frequency","Variability",null,"Frequency",null,"Relative Frequency","Variability",null,"Frequency",null,"Relative Frequency","Variability",null,"Frequency",null,"Relative Frequency","Variability",null,"Frequency",null,"Relative Frequency","Variability",null,"Frequency",null,"Relative Frequency","Variability"]
[21,17,12,29,24,34,null,null,null,null,0,212,null,111,{"$f":"COUNTIF($L$7:$L$500,N7)","v":1},{"$f":"O7/$Q$4","v":6.0975609756097563E-3},{"$f":"IF(P7=0,0,(P7*((LOG(P7))/LOG(2))))","v":-4.4863121979378563E-2},null,null,{"$f":"N7","v":111},{"$f":"COUNTIF(L7:L33,T7)","v":0},{"$f":"U7/(W4-U13)","v":0},{"$f":"IF(V7=0,0,(V7*((LOG(V7))/LOG(2))))","v":0},null,{"$f":"N7","v":111},{"$f":"COUNTIF(L34:L61,Y7)","v":0},{"$f":"Z7/(AB4-Z13)","v":0},{"$f":"IF(AA7=0,0,(AA7*((LOG(AA7))/LOG(2))))","v":0},null,{"$f":"N7","v":111},{"$f":"COUNTIF(L62:L88,AD7)","v":0},{"$f":"AE7/(AG4-AE13)","v":0},{"$f":"IF(AF7=0,0,(AF7*((LOG(AF7))/LOG(2))))","v":0},null,{"$f":"N7","v":111},{"$f":"COUNTIF(L89:L115,AI7)","v":0},{"$f":"AJ7/(AL4-AJ13)","v":0},{"$f":"IF(AK7=0,0,(AK7*((LOG(AK7))/LOG(2))))","v":0},null,{"$f":"N7","v":111},{"$f":"COUNTIF(L116:L143,AN7)","v":0},{"$f":"AO7/(AQ4-AO13)","v":0},{"$f":"IF(AP7=0,0,(AP7*((LOG(AP7))/LOG(2))))","v":0},null,{"$f":"N7","v":111},{"$f":"COUNTIF(L144:L170,AS7)","v":1},{"$f":"AT7/(AV4-AT13)","v":4.7619047619047616E-2},{"$f":"IF(AU7=0,0,(AU7*((LOG(AU7))/LOG(2))))","v":-0.20915797251327431}]
[21,130,21,146,22,149,null,null,null,null,0,222,null,112,{"$f":"COUNTIF($L$7:$L$500,N8)","v":3},{"$f":"O8/$Q$4","v":1.8292682926829267E-2},{"$f":"IF(P8=0,0,(P8*((LOG(P8))/LOG(2))))","v":-0.10559614946152916},null,null,{"$f":"N8","v":112},{"$f":"COUNTIF(L7:L33,T8)","v":0},{"$f":"U8/(W4-U13)","v":0},{"$f":"IF(V8=0,0,(V8*((LOG(V8))/LOG(2))))","v":0},null,{"$f":"N8","v":112},{"$f":"COUNTIF(L34:L61,Y8)","v":0},{"$f":"Z8/(AB4-Z13)","v":0},{"$f":"IF(AA8=0,0,(AA8*((LOG(AA8))/LOG(2))))","v":0},null,{"$f":"N8","v":112},{"$f":"COUNTIF(L62:L88,AD8)","v":1},{"$f":"AE8/(AG4-AE13)","v":4.7619047619047616E-2},{"$f":"IF(AF8=0,0,(AF8*((LOG(AF8))/LOG(2))))","v":-0.20915797251327431},null,{"$f":"N8","v":112},{"$f":"COUNTIF(L89:L115,AI8)","v":1},{"$f":"AJ8/(AL4-AJ13)","v":4.3478260869565216E-2},{"$f":"IF(AK8=0,0,(AK8*((LOG(AK8))/LOG(2))))","v":-0.19667660678508753},null,{"$f":"N8","v":112},{"$f":"COUNTIF(L116:L143,AN8)","v":1},{"$f":"AO8/(AQ4-AO13)","v":5.2631578947368418E-2},{"$f":"IF(AP8=0,0,(AP8*((LOG(AP8))/LOG(2))))","v":-0.22357513228650452},null,{"$f":"N8","v":112},{"$f":"COUNTIF(L144:L170,AS8)","v":0},{"$f":"AT8/(AV4-AT13)","v":0},{"$f":"IF(AU8=0,0,(AU8*((LOG(AU8))/LOG(2))))","v":0}]
[21,276,21,295,22,298,null,null,null,null,0,222,null,121,{"$f":"COUNTIF($L$7:$L$500,N9)","v":0},{"$f":"O9/$Q$4","v":0},{"$f":"IF(P9=0,0,(P9*((LOG(P9))/LOG(2))))","v":0},null,null,{"$f":"N9","v":121},{"$f":"COUNTIF(L7:L33,T9)","v":0},{"$f":"U9/(W4-U13)","v":0},{"$f":"IF(V9=0,0,(V9*((LOG(V9))/LOG(2))))","v":0},null,{"$f":"N9","v":121},{"$f":"COUNTIF(L34:L61,Y9)","v":0},{"$f":"Z9/(AB4-Z13)","v":0},{"$f":"IF(AA9=0,0,(AA9*((LOG(AA9))/LOG(2))))","v":0},null,{"$f":"N9","v":121},{"$f":"COUNTIF(L62:L88,AD9)","v":0},{"$f":"AE9/(AG4-AE13)","v":0},{"$f":"IF(AF9=0,0,(AF9*((LOG(AF9))/LOG(2))))","v":0},null,{"$f":"N9","v":121},{"$f":"COUNTIF(L89:L115,AI9)","v":0},{"$f":"AJ9/(AL4-AJ13)","v":0},{"$f":"IF(AK9=0,0,(AK9*((LOG(AK9))/LOG(2))))","v":0},null,{"$f":"N9","v":121},{"$f":"COUNTIF(L116:L143,AN9)","v":0},{"$f":"AO9/(AQ4-AO13)","v":0},{"$f":"IF(AP9=0,0,(AP9*((LOG(AP9))/LOG(2))))","v":0},null,{"$f":"N9","v":121},{"$f":"COUNTIF(L144:L170,AS9)","v":0},{"$f":"AT9/(AV4-AT13)","v":0},{"$f":"IF(AU9=0,0,(AU9*((LOG(AU9))/LOG(2))))","v":0}]
[21,395,12,402,24,408,null,null,null,null,0,212,null,122,{"$f":"COUNTIF($L$7:$L$500,N10)","v":1},{"$f":"O10/$Q$4","v":6.0975609756097563E-3},{"$f":"IF(P10=0,0,(P10*((LOG(P10))/LOG(2))))","v":-4.4863121979378563E-2},null,null,{"$f":"N10","v":122},{"$f":"COUNTIF(L7:L33,T10)","v":0},{"$f":"U10/(W4-U13)","v":0},{"$f":"IF(V10=0,0,(V10*((LOG(V10))/LOG(2))))","v":0},null,{"$f":"N10","v":122},{"$f":"COUNTIF(L34:L61,Y10)","v":1},{"$f":"Z10/(AB4-Z13)","v":4.5454545454545456E-2},{"$f":"IF(AA10=0,0,(AA10*((LOG(AA10))/LOG(2))))","v":-0.20270143721078623},null,{"$f":"N10","v":122},{"$f":"COUNTIF(L62:L88,AD10)","v":0},{"$f":"AE10/(AG4-AE13)","v":0},{"$f":"IF(AF10=0,0,(AF10*((LOG(AF10))/LOG(2))))","v":0},null,{"$f":"N10","v":122},{"$f":"COUNTIF(L89:L115,AI10)","v":0},{"$f":"AJ10/(AL4-AJ13)","v":0},{"$f":"IF(AK10=0,0,(AK10*((LOG(AK10))/LOG(2))))","v":0},null,{"$f":"N10","v":122},{"$f":"COUNTIF(L116:L143,AN10)","v":0},{"$f":"AO10/(AQ4-AO13)","v":0},{"$f":"IF(AP10=0,0,(AP10*((LOG(AP10))/LOG(2))))","v":0},null,{"$f":"N10","v":122},{"$f":"COUNTIF(L144:L170,AS10)","v":0},{"$f":"AT10/(AV4-AT13)","v":0},{"$f":"IF(AU10=0,0,(AU10*((LOG(AU10))/LOG(2))))","v":0}]
[21,504,21,506,22,522,null,null,null,null,0,222,null,211,{"$f":"COUNTIF($L$7:$L$500,N11)","v":77},{"$f":"O11/$Q$4","v":0.46951219512195119},{"$f":"IF(P11=0,0,(P11*((LOG(P11))/LOG(2))))","v":-0.51212768732978686},null,null,{"$f":"N11","v":211},{"$f":"COUNTIF(L7:L33,T11)","v":10},{"$f":"U11/(W4-U13)","v":0.55555555555555558},{"$f":"IF(V11=0,0,(V11*((LOG(V11))/LOG(2))))","v":-0.4711093925305278},null,{"$f":"N11","v":211},{"$f":"COUNTIF(L34:L61,Y11)","v":16},{"$f":"Z11/(AB4-Z13)","v":0.72727272727272729},{"$f":"IF(AA11=0,0,(AA11*((LOG(AA11))/LOG(2))))","v":-0.33413208628167068},null,{"$f":"N11","v":211},{"$f":"COUNTIF(L62:L88,AD11)","v":16},{"$f":"AE11/(AG4-AE13)","v":0.76190476190476186},{"$f":"IF(AF11=0,0,(AF11*((LOG(AF11))/LOG(2))))","v":-0.29890851259334122},null,{"$f":"N11","v":211},{"$f":"COUNTIF(L89:L115,AI11)","v":9},{"$f":"AJ11/(AL4-AJ13)","v":0.39130434782608697},{"$f":"IF(AK11=0,0,(AK11*((LOG(AK11))/LOG(2))))","v":-0.5296840257187958},null,{"$f":"N11","v":211},{"$f":"COUNTIF(L116:L143,AN11)","v":12},{"$f":"AO11/(AQ4-AO13)","v":0.63157894736842102},{"$f":"IF(AP11=0,0,(AP11*((LOG(AP11))/LOG(2))))","v":-0.41871474487732385},null,{"$f":"N11","v":211},{"$f":"COUNTIF(L144:L170,AS11)","v":14},{"$f":"AT11/(AV4-AT13)","v":0.66666666666666663},{"$f":"IF(AU11=0,0,(AU11*((LOG(AU11))/LOG(2))))","v":-0.38997500048077083}]
[21,619,12,630,13,635,null,null,null,null,0,211,null,212,{"$f":"COUNTIF($L$7:$L$500,N12)","v":26},{"$f":"O12/$Q$4","v":0.15853658536585366},{"$f":"IF(P12=0,0,(P12*((LOG(P12))/LOG(2))))","v":-0.42124950883171813},null,null,{"$f":"N12","v":212},{"$f":"COUNTIF(L7:L33,T12)","v":5},{"$f":"U12/(W4-U13)","v":0.27777777777777779},{"$f":"IF(V12=0,0,(V12*((LOG(V12))/LOG(2))))","v":-0.51333247404304172},null,{"$f":"N12","v":212},{"$f":"COUNTIF(L34:L61,Y12)","v":1},{"$f":"Z12/(AB4-Z13)","v":4.5454545454545456E-2},{"$f":"IF(AA12=0,0,(AA12*((LOG(AA12))/LOG(2))))","v":-0.20270143721078623},null,{"$f":"N12","v":212},{"$f":"COUNTIF(L62:L88,AD12)","v":2},{"$f":"AE12/(AG4-AE13)","v":9.5238095238095233E-2},{"$f":"IF(AF12=0,0,(AF12*((LOG(AF12))/LOG(2))))","v":-0.32307784978845333},null,{"$f":"N12","v":212},{"$f":"COUNTIF(L89:L115,AI12)","v":10},{"$f":"AJ12/(AL4-AJ13)","v":0.43478260869565216},{"$f":"IF(AK12=0,0,(AK12*((LOG(AK12))/LOG(2))))","v":-0.52244950485636987},null,{"$f":"N12","v":212},{"$f":"COUNTIF(L116:L143,AN12)","v":5},{"$f":"AO12/(AQ4-AO13)","v":0.26315789473684209},{"$f":"IF(AP12=0,0,(AP12*((LOG(AP12))/LOG(2))))","v":-0.50684195225163764},null,{"$f":"N12","v":212},{"$f":"COUNTIF(L144:L170,AS12)","v":3},{"$f":"AT12/(AV4-AT13)","v":0.14285714285714285},{"$f":"IF(AU12=0,0,(AU12*((LOG(AU12))/LOG(2))))","v":-0.40105070315108626}]
[21,730,12,742,24,753,null,null,null,null,0,212,null,221,{"$f":"COUNTIF($L$7:$L$500,N13)","v":40},{"$f":"O13/$Q$4","v":0.24390243902439024},{"$f":"IF(P13=0,0,(P13*((LOG(P13))/LOG(2))))","v":-0.49649363651968809},null,null,{"$f":"N13","v":221},{"$f":"COUNTIF(L7:L33,T13)","v":9},null,null,null,{"$f":"N13","v":221},{"$f":"COUNTIF(L34:L61,Y13)","v":6},null,null,null,{"$f":"N13","v":221},{"$f":"COUNTIF(L62:L88,AD13)","v":6},null,null,null,{"$f":"N13","v":221},{"$f":"COUNTIF(L89:L115,AI13)","v":4},null,null,null,{"$f":"N13","v":221},{"$f":"COUNTIF(L116:L143,AN13)","v":9},null,null,null,{"$f":"N13","v":221},{"$f":"COUNTIF(L144:L170,AS13)","v":6}]
[21,850,12,859,13,868,null,null,null,null,0,211,null,222,{"$f":"COUNTIF($L$7:$L$500,N14)","v":16},{"$f":"O14/$Q$4","v":9.7560975609756101E-2},{"$f":"IF(P14=0,0,(P14*((LOG(P14))/LOG(2))))","v":-0.32756604923103255},null,null,{"$f":"N14","v":222},{"$f":"COUNTIF(L7:L33,T14)","v":3},{"$f":"U14/(W4-U13)","v":0.16666666666666666},{"$f":"IF(V14=0,0,(V14*((LOG(V14))/LOG(2))))","v":-0.43082708345352599},null,{"$f":"N14","v":222},{"$f":"COUNTIF(L34:L61,Y14)","v":4},{"$f":"Z14/(AB4-Z13)","v":0.18181818181818182},{"$f":"IF(AA14=0,0,(AA14*((LOG(AA14))/LOG(2))))","v":-0.44716938520678134},null,{"$f":"N14","v":222},{"$f":"COUNTIF(L62:L88,AD14)","v":2},{"$f":"AE14/(AG4-AE13)","v":9.5238095238095233E-2},{"$f":"IF(AF14=0,0,(AF14*((LOG(AF14))/LOG(2))))","v":-0.32307784978845333},null,{"$f":"N14","v":222},{"$f":"COUNTIF(L89:L115,AI14)","v":3},{"$f":"AJ14/(AL4-AJ13)","v":0.13043478260869565},{"$f":"IF(AK14=0,0,(AK14*((LOG(AK14))/LOG(2))))","v":-0.3832955811307639},null,{"$f":"N14","v":222},{"$f":"COUNTIF(L116:L143,AN14)","v":1},{"$f":"AO14/(AQ4-AO13)","v":5.2631578947368418E-2},{"$f":"IF(AP14=0,0,(AP14*((LOG(AP14))/LOG(2))))","v":-0.22357513228650452},null,{"$f":"N14","v":222},{"$f":"COUNTIF(L144:L170,AS14)","v":3},{"$f":"AT14/(AV4-AT13)","v":0.14285714285714285},{"$f":"IF(AU14=0,0,(AU14*((LOG(AU14))/LOG(2))))","v":-0.40105070315108626}]
[21,968,21,971,11,982,null,null,null,null,0,221,null,null,null,{"$f":"SUM(P7:P14)","v":1},{"$f":"-SUM(Q7:Q14)","v":1.952759275332512},null,null,null,null,{"$f":"SUM(V7:V14)","v":1},{"$f":"-SUM(W7:W14)","v":1.4152689500270954},null,null,null,{"$f":"SUM(AA7:AA14)","v":1},{"$f":"-SUM(AB7:AB14)","v":1.1867043459100246},null,null,null,{"$f":"SUM(AF7:AF14)","v":1},{"$f":"-SUM(AG7:AG14)","v":1.1542221846835221},null,null,null,{"$f":"SUM(AK7:AK14)","v":1},{"$f":"-SUM(AL7:AL14)","v":1.632105718491017},null,null,null,{"$f":"SUM(AP7:AP14)","v":0.99999999999999978},{"$f":"-SUM(AQ7:AQ14)","v":1.3727069617019705},null,null,null,{"$f":"SUM(AU7:AU14)","v":0.99999999999999978},{"$f":"-SUM(AV7:AV14)","v":1.4012343792962176}]
[21,1112,21,1116,11,1124,null,null,null,null,0,221,null,null,null,"U=",{"$f":"Q15/(LOG(Q4)/LOG(2))","v":0.26540883083216155},null,null,null,null,"U1=",{"$f":"W15/(LOG(W4)/LOG(2))","v":0.29764509662597688},null,null,null,"U2=",{"$f":"AB15/(LOG(AB4)/LOG(2))","v":0.2468518270754391},null,null,null,"U3=",{"$f":"AG15/(LOG(AG4)/LOG(2))","v":0.24274437284969463},null,null,null,"U4=",{"$f":"AL15/(LOG(AL4)/LOG(2))","v":0.34324801959003465},null,null,null,"U5=",{"$f":"AQ15/(LOG(AQ4)/LOG(2))","v":0.28554308636617909},null,null,null,"U6=",{"$f":"AV15/(LOG(AV4)/LOG(2))","v":0.2946934872084056}]
[21,1217,12,1227,13,1231,null,null,null,null,0,211]
[21,1324,21,1326,11,1340,null,null,null,null,0,221]
[21,1432,21,1436,11,1451,null,null,null,null,0,221,null,"Total Target Seq"]
[21,1580,21,1583,11,1592,null,null,null,null,0,221,null,{"$f":"COUNTIF(L7:L170,G3)","v":40},null,27,28,27,27,28,27]
[21,1684,12,1698,13,1703,null,null,null,null,0,211,null,null,null,"% of reinforcement given in 6 equal intervals based on number of trials "]
[21,1801,12,1810,13,1816,null,null,null,null,0,211,null,null,null,"%_1","%_2","%_3","%_4","%_5","%_6"]
[21,1910,12,1918,13,1923,null,null,null,null,0,211,null,null,"target sequence",{"$f":"$G$3","v":221},{"$f":"$G$3","v":221},{"$f":"$G$3","v":221},{"$f":"$G$3","v":221},{"$f":"$G$3","v":221},{"$f":"$G$3","v":221}]
[21,2022,12,2030,13,2032,null,null,null,null,0,211,null,null,"total reinforcement",{"$f":"U13","v":9},{"$f":"Z13","v":6},{"$f":"AE13","v":6},{"$f":"AJ13","v":4},{"$f":"AO13","v":9},{"$f":"AT13","v":6}]
[21,2127,12,2134,13,2140,null,null,null,null,0,211,null,null,"% target"]
[21,2236,12,2244,13,2247,null,null,null,null,0,211,null,null,"CCRF"]
[21,2342,12,2352,24,2362,null,null,null,null,0,212,null,null,"% CCRf"]
[21,2459,21,2462,11,2472,null,null,null,null,0,221,null,null,"average response rate",{"$f":"F33/P20","v":116.11111111111111},{"$f":"(F61-F33)/Q20","v":122.60714285714286},{"$f":"(F88-F61)/R20","v":123.66666666666667},{"$f":"(F115-F88)/S20","v":135.2962962962963},{"$f":"(F143-F115)/T20","v":147.78571428571428},{"$f":"(F170-F143)/U20","v":218.14814814814815}]
[21,2666,12,2678,13,2680,null,null,null,null,0,211]
[21,2775,21,2777,11,2786,null,null,null,null,0,221]
[21,2907,12,2922,24,2927,null,null,null,null,0,212]
[21,3020,21,3025,11,3035,null,null,null,null,0,221]
[21,3123,21,3126,11,3135,null,null,null,null,0,221]
[21,3324,12,3332,13,3338,null,null,null,null,0,211]
[21,3435,12,3446,13,3453,null,null,null,null,0,211]
[21,3549,21,3552,11,3560,null,null,null,null,0,221]
[21,3662,21,3667,22,3670,null,null,null,null,0,222]
[21,3764,12,3773,13,3778,null,null,null,null,0,211]
[21,3874,21,3877,11,3888,null,null,null,null,0,221]
[21,4035,12,4047,24,4051,null,null,null,null,0,212]
[21,4149,12,4156,13,4162,null,null,null,null,0,211]
[21,4260,12,4267,13,4274,null,null,null,null,0,211]
[21,4369,12,4377,13,4384,null,null,null,null,0,211]
[21,4480,21,4482,11,4497,null,null,null,null,0,221]
[21,4671,12,4682,13,4687,null,null,null,null,0,211]
[21,4780,12,4789,13,4793,null,null,null,null,0,211]
[21,4889,12,4897,13,4902,null,null,null,null,0,211]
[21,4999,12,5007,13,5013,null,null,null,null,0,211]
[21,5110,12,5120,13,5126,null,null,null,null,0,211]
[21,5223,12,5233,13,5236,null,null,null,null,0,211]
[21,5331,12,5339,13,5344,null,null,null,null,0,211]
[21,5443,12,5450,13,5455,null,null,null,null,0,211]
[21,5551,21,5553,11,5564,null,null,null,null,0,221]
[21,5701,21,5709,22,5712,null,null,null,null,0,222]
[12,5811,23,5817,24,5821,null,null,null,null,0,122]
[21,5916,12,5923,13,5926,null,null,null,null,0,211]
[21,6021,21,6025,11,6032,null,null,null,null,0,221]
[21,6190,21,6193,22,6198,null,null,null,null,0,222]
[21,6294,21,6296,11,6307,null,null,null,null,0,221]
[21,6441,21,6452,22,6463,null,null,null,null,0,222]
[21,6557,12,6563,13,6568,null,null,null,null,0,211]
[21,6662,21,6665,11,6671,null,null,null,null,0,221]
[21,6852,12,6861,13,6865,null,null,null,null,0,211]
[21,6959,12,6966,13,6971,null,null,null,null,0,211]
[21,7066,12,7072,13,7079,null,null,null,null,0,211]
[21,7175,12,7185,13,7191,null,null,null,null,0,211]
[21,7288,12,7295,13,7300,null,null,null,null,0,211]
[21,7395,12,7403,13,7409,null,null,null,null,0,211]
[21,7505,21,7507,11,7514,null,null,null,null,0,221]
[21,7637,21,7640,22,7645,null,null,null,null,0,222]
[12,7747,14,7752,24,7757,null,null,null,null,0,112]
[21,7860,21,7862,22,7871,null,null,null,null,0,222]
[21,7969,12,7981,24,7985,null,null,null,null,0,212]
[21,8080,21,8082,11,8089,null,null,null,null,0,221]
[21,8309,12,8321,13,8326,null,null,null,null,0,211]
[21,8423,12,8431,13,8437,null,null,null,null,0,211]
[21,8533,12,8546,13,8555,null,null,null,null,0,211]
[21,8651,12,8660,13,8666,null,null,null,null,0,211]
[21,8761,21,8765,11,8772,null,null,null,null,0,221]
[21,8913,12,8922,13,8925,null,null,null,null,0,211]
[21,9056,21,9060,11,9072,null,null,null,null,0,221]
[21,9184,12,9200,13,9205,null,null,null,null,0,211]
[21,9301,12,9309,13,9315,null,null,null,null,0,211]
[21,9410,12,9421,24,9431,null,null,null,null,0,212]
[21,9525,12,9532,13,9537,null,null,null,null,0,211]
[21,9632,12,9642,13,9644,null,null,null,null,0,211]
[21,9738,21,9741,11,9747,null,null,null,null,0,221]
[21,9893,12,9902,13,9907,null,null,null,null,0,211]
[21,10003,12,10013,13,10020,null,null,null,null,0,211]
[21,10116,12,10124,24,10137,null,null,null,null,0,212]
[21,10233,12,10242,24,10254,null,null,null,null,0,212]
[21,10349,12,10358,13,10365,null,null,null,null,0,211]
[21,10459,21,10463,11,10469,null,null,null,null,0,221]
[21,10672,12,10679,13,10687,null,null,null,null,0,211]
[21,10782,12,10793,13,10798,null,null,null,null,0,211]
[21,10906,12,10914,13,10917,null,null,null,null,0,211]
[21,11014,12,11022,13,11028,null,null,null,null,0,211]
[21,11123,12,11132,13,11141,null,null,null,null,0,211]
[21,11239,12,11250,24,11255,null,null,null,null,0,212]
[21,11351,21,11353,11,11361,null,null,null,null,0,221]
[21,11875,21,11880,22,11891,null,null,null,null,0,222]
[21,11989,12,11999,24,12018,null,null,null,null,0,212]
[21,12122,21,12129,22,12136,null,null,null,null,0,222]
[21,12229,21,12233,11,12240,null,null,null,null,0,221]
[21,12394,21,12398,22,12403,null,null,null,null,0,222]
[21,12498,12,12510,24,12524,null,null,null,null,0,212]
[21,12615,12,12624,24,12633,null,null,null,null,0,212]
[21,12725,21,12730,11,12738,null,null,null,null,0,221]
[21,12879,12,12887,13,12889,null,null,null,null,0,211]
[21,12984,12,12991,24,13001,null,null,null,null,0,212]
[21,13095,12,13103,24,13113,null,null,null,null,0,212]
[21,13209,12,13217,24,13227,null,null,null,null,0,212]
[12,13325,14,13328,24,13330,null,null,null,null,0,112]
[21,13426,12,13433,24,13443,null,null,null,null,0,212]
[21,13540,12,13553,13,13560,null,null,null,null,0,211]
[21,13655,12,13668,24,13679,null,null,null,null,0,212]
[21,13771,21,13775,11,13783,null,null,null,null,0,221]
[12,13937,14,13943,24,13945,null,null,null,null,0,112]
[21,14041,21,14044,11,14050,null,null,null,null,0,221]
[21,14190,12,14209,13,14215,null,null,null,null,0,211]
[21,14310,12,14327,24,14334,null,null,null,null,0,212]
[21,14426,21,14430,11,14437,null,null,null,null,0,221]
[21,14565,12,14576,24,14580,null,null,null,null,0,212]
[21,14675,21,14677,11,14685,null,null,null,null,0,221]
[21,14849,12,14858,13,14863,null,null,null,null,0,211]
[21,14958,12,14967,13,14973,null,null,null,null,0,211]
[21,15070,12,15085,24,15098,null,null,null,null,0,212]
[21,15191,21,15193,11,15204,null,null,null,null,0,221]
[21,15415,12,15426,13,15430,null,null,null,null,0,211]
[21,15526,21,15531,11,15539,null,null,null,null,0,221]
[21,15737,12,15744,13,15747,null,null,null,null,0,211]
[21,15845,12,15851,13,15857,null,null,null,null,0,211]
[21,15955,12,15966,13,15973,null,null,null,null,0,211]
[21,16069,12,16083,24,16088,null,null,null,null,0,212]
[21,16183,21,16187,11,16197,null,null,null,null,0,221]
[21,16352,12,16363,13,16369,null,null,null,null,0,211]
[21,16466,21,16470,11,16478,null,null,null,null,0,221]
[21,16976,12,16990,13,17001,null,null,null,null,0,211]
[21,17097,12,17106,13,17112,null,null,null,null,0,211]
[21,17206,12,17217,13,17225,null,null,null,null,0,211]
[21,17317,21,17321,11,17346,null,null,null,null,0,221]
[21,17580,12,17590,13,17600,null,null,null,null,0,211]
[21,17691,21,17695,22,17698,null,null,null,null,0,222]
[21,17793,12,17806,13,17818,null,null,null,null,0,211]
[21,17915,12,17924,24,17941,null,null,null,null,0,212]
[21,18038,12,18047,13,18057,null,null,null,null,0,211]
[21,18152,12,18165,13,18174,null,null,null,null,0,211]
[21,18266,21,18269,11,18277,null,null,null,null,0,221]
[12,18411,14,18415,13,18425,null,null,null,null,0,111]
[21,18522,12,18530,13,18538,null,null,null,null,0,211]
[21,18635,12,18642,13,18647,null,null,null,null,0,211]
[21,18743,12,18753,24,18766,null,null,null,null,0,212]
[21,18860,12,18870,13,18872,null,null,null,null,0,211]
[21,18969,12,18981,13,18989,null,null,null,null,0,211]
[21,19081,12,19092,13,19100,null,null,null,null,0,211]
[21,19196,21,19200,11,19210,null,null,null,null,0,221]
[21,19404,12,19416,13,19422,null,null,null,null,0,211]
[21,19516,21,19520,11,19528,null,null,null,null,0,221]
[21,20033,21,20037,11,20046,null,null,null,null,0,221]
[21,21401,12,21414,13,21421,null,null,null,null,0,211]
[21,21525,21,21529,22,21541,null,null,null,null,0,222]
[21,21637,12,21646,13,21656,null,null,null,null,0,211]
[21,21753,21,21758,11,21766,null,null,null,null,0,221]
[21,22902,21,22905,22,22913,null,null,null,null,0,222]
[21,23011,12,23019,13,23024,null,null,null,null,0,211]
[21,23118,12,23129,13,23141,null,null,null,null,0,211]
[21,23237,12,23246,13,23254,null,null,null,null,0,211]
[21,23351,21,23355,22,23360,null,null,null,null,0,222]
[21,23454,12,23463,24,23481,null,null,null,null,0,212]
[21,23574,21,23577,11,23588,null,null,null,null,1,221]

{"sheet":"!MA10A3T.AYL","index":11,"n_rows":133,"n_cols":48,"rows_kept":133,"cut":false,"hidden":false,"merged":[[4,39,4,42],[5,39,5,40],[4,44,4,47],[5,44,5,45],[4,24,4,27],[5,24,5,25],[4,29,4,32],[5,29,5,30],[4,34,4,37],[5,34,5,35],[1,1,1,2],[5,13,5,14],[18,13,18,14],[19,13,19,14],[4,19,4,22],[5,19,5,20]]}
["Report for:!MA10A3T.AYL"]
["Date:","<date>"]
["Hen:","<hen>",null,null,null,"Correct Sequence",{"$f":"Start!J2","v":221},null,null,null,null,null,null,null,null,"Total Sequences in Data",{"$f":"4994-COUNTBLANK(L7:L5000)","v":127},null,null,null,null,"Total Sequences in Block Data",{"$f":"COUNTA(L7:L27)","v":21},null,null,null,"Total Sequences in Block Data",{"$f":"COUNTA(L28:L48)","v":21},null,null,null,"Total Sequences in Block Data",{"$f":"COUNTA(L49:L70)","v":22},null,null,null,"Total Sequences in Block Data",{"$f":"COUNTA(L71:L91)","v":21},null,null,null,"Total Sequences in Block Data",{"$f":"COUNTA(L92:L112)","v":21},null,null,null,"Total Sequences in Block Data",{"$f":"COUNTA(L113:L133)","v":21}]
[null,null,null,null,null,null,null,null,null,null,null,null,null,null,null,"Total Sequences in Summary",{"$f":"SUM(O7:O14)","v":127},null,null,null,null,"Total Sequences in Block Summary",{"$f":"SUM(U7:U14)","v":21},null,null,null,"Total Sequences in Block Summary",{"$f":"SUM(Z7:Z14)","v":21},null,null,null,"Total Sequences in Block Summary",{"$f":"SUM(AE7:AE14)","v":22},null,null,null,"Total Sequences in Block Summary",{"$f":"SUM(AJ7:AJ14)","v":21},null,null,null,"Total Sequences in Block Summary",{"$f":"SUM(AO7:AO14)","v":21},null,null,null,"Total Sequences in Block Summary",{"$f":"SUM(AT7:AT14)","v":21}]
[null,null,null,null,null,null,null,null,null,null,null,null,null,null,null,null,null,null,null,"Block 1",null,null,null,null,"Block 2",null,null,null,null,"Block 3",null,null,null,null,"Block 4",null,null,null,null,"Block 5",null,null,null,null,"Block 6"]
["Sequence\nComponent\n1","Time\n1","Sequence\nComponent\n2","Time\n2","Sequence\nComponent\n3","Time\n3","Sequence\nComponent\n4","Time\n4","Sequence\nComponent\n5","Time\n5","Correct?\n0=No 1=Yes","Sequence",null,"Frequency",null,"Relative Frequency","Variability",null,null,"Frequency",null,"Relative Frequency","Variability",null,"Frequency",null,"Relative Frequency","Variability",null,"Frequency",null,"Relative Frequency","Variability",null,"Frequency",null,"Relative Frequency","Variability",null,"Frequency",null,"Relative Frequency","Variability",null,"Frequency",null,"Relative Frequency","Variability"]
[12,7,14,12,13,14,null,null,null,null,0,111,null,111,{"$f":"COUNTIF($L$7:$L$500,N7)","v":5},{"$f":"O7/$Q$4","v":3.937007874015748E-2},{"$f":"IF(P7=0,0,(P7*((LOG(P7))/LOG(2))))","v":-0.18373057448365368},null,null,{"$f":"N7","v":111},{"$f":"COUNTIF(L7:L27,T7)","v":2},{"$f":"U7/(W4-U13)","v":0.11764705882352941},{"$f":"IF(V7=0,0,(V7*((LOG(V7))/LOG(2))))","v":-0.36323092250003997},null,{"$f":"N7","v":111},{"$f":"COUNTIF(L28:L48,Y7)","v":1},{"$f":"Z7/(AB4-Z13)","v":6.6666666666666666E-2},{"$f":"IF(AA7=0,0,(AA7*((LOG(AA7))/LOG(2))))","v":-0.26045937304056793},null,{"$f":"N7","v":111},{"$f":"COUNTIF(L49:L70,AD7)","v":0},{"$f":"AE7/(AG4-AE13)","v":0},{"$f":"IF(AF7=0,0,(AF7*((LOG(AF7))/LOG(2))))","v":0},null,{"$f":"N7","v":111},{"$f":"COUNTIF(L71:L91,AI7)","v":1},{"$f":"AJ7/(AL4-AJ13)","v":7.1428571428571425E-2},{"$f":"IF(AK7=0,0,(AK7*((LOG(AK7))/LOG(2))))","v":-0.27195392300411453},null,{"$f":"N7","v":111},{"$f":"COUNTIF(L92:L112,AN7)","v":0},{"$f":"AO7/(AQ4-AO13)","v":0},{"$f":"IF(AP7=0,0,(AP7*((LOG(AP7))/LOG(2))))","v":0},null,{"$f":"N7","v":111},{"$f":"COUNTIF(L113:L133,AS7)","v":1},{"$f":"AT7/(AV4-AT13)","v":6.25E-2},{"$f":"IF(AU7=0,0,(AU7*((LOG(AU7))/LOG(2))))","v":-0.25}]
[21,112,12,119,13,126,null,null,null,null,0,211,null,112,{"$f":"COUNTIF($L$7:$L$500,N8)","v":0},{"$f":"O8/$Q$4","v":0},{"$f":"IF(P8=0,0,(P8*((LOG(P8))/LOG(2))))","v":0},null,null,{"$f":"N8","v":112},{"$f":"COUNTIF(L7:L27,T8)","v":0},{"$f":"U8/(W4-U13)","v":0},{"$f":"IF(V8=0,0,(V8*((LOG(V8))/LOG(2))))","v":0},null,{"$f":"N8","v":112},{"$f":"COUNTIF(L28:L48,Y8)","v":0},{"$f":"Z8/(AB4-Z13)","v":0},{"$f":"IF(AA8=0,0,(AA8*((LOG(AA8))/LOG(2))))","v":0},null,{"$f":"N8","v":112},{"$f":"COUNTIF(L49:L70,AD8)","v":0},{"$f":"AE8/(AG4-AE13)","v":0},{"$f":"IF(AF8=0,0,(AF8*((LOG(AF8))/LOG(2))))","v":0},null,{"$f":"N8","v":112},{"$f":"COUNTIF(L71:L91,AI8)","v":0},{"$f":"AJ8/(AL4-AJ13)","v":0},{"$f":"IF(AK8=0,0,(AK8*((LOG(AK8))/LOG(2))))","v":0},null,{"$f":"N8","v":112},{"$f":"COUNTIF(L92:L112,AN8)","v":0},{"$f":"AO8/(AQ4-AO13)","v":0},{"$f":"IF(AP8=0,0,(AP8*((LOG(AP8))/LOG(2))))","v":0},null,{"$f":"N8","v":112},{"$f":"COUNTIF(L113:L133,AS8)","v":0},{"$f":"AT8/(AV4-AT13)","v":0},{"$f":"IF(AU8=0,0,(AU8*((LOG(AU8))/LOG(2))))","v":0}]
[21,222,12,231,13,239,null,null,null,null,0,211,null,121,{"$f":"COUNTIF($L$7:$L$500,N9)","v":0},{"$f":"O9/$Q$4","v":0},{"$f":"IF(P9=0,0,(P9*((LOG(P9))/LOG(2))))","v":0},null,null,{"$f":"N9","v":121},{"$f":"COUNTIF(L7:L27,T9)","v":0},{"$f":"U9/(W4-U13)","v":0},{"$f":"IF(V9=0,0,(V9*((LOG(V9))/LOG(2))))","v":0},null,{"$f":"N9","v":121},{"$f":"COUNTIF(L28:L48,Y9)","v":0},{"$f":"Z9/(AB4-Z13)","v":0},{"$f":"IF(AA9=0,0,(AA9*((LOG(AA9))/LOG(2))))","v":0},null,{"$f":"N9","v":121},{"$f":"COUNTIF(L49:L70,AD9)","v":0},{"$f":"AE9/(AG4-AE13)","v":0},{"$f":"IF(AF9=0,0,(AF9*((LOG(AF9))/LOG(2))))","v":0},null,{"$f":"N9","v":121},{"$f":"COUNTIF(L71:L91,AI9)","v":0},{"$f":"AJ9/(AL4-AJ13)","v":0},{"$f":"IF(AK9=0,0,(AK9*((LOG(AK9))/LOG(2))))","v":0},null,{"$f":"N9","v":121},{"$f":"COUNTIF(L92:L112,AN9)","v":0},{"$f":"AO9/(AQ4-AO13)","v":0},{"$f":"IF(AP9=0,0,(AP9*((LOG(AP9))/LOG(2))))","v":0},null,{"$f":"N9","v":121},{"$f":"COUNTIF(L113:L133,AS9)","v":0},{"$f":"AT9/(AV4-AT13)","v":0},{"$f":"IF(AU9=0,0,(AU9*((LOG(AU9))/LOG(2))))","v":0}]
[21,332,21,336,11,350,null,null,null,null,0,221,null,122,{"$f":"COUNTIF($L$7:$L$500,N10)","v":2},{"$f":"O10/$Q$4","v":1.5748031496062992E-2},{"$f":"IF(P10=0,0,(P10*((LOG(P10))/LOG(2))))","v":-9.4309995067278204E-2},null,null,{"$f":"N10","v":122},{"$f":"COUNTIF(L7:L27,T10)","v":1},{"$f":"U10/(W4-U13)","v":5.8823529411764705E-2},{"$f":"IF(V10=0,0,(V10*((LOG(V10))/LOG(2))))","v":-0.24043899066178465},null,{"$f":"N10","v":122},{"$f":"COUNTIF(L28:L48,Y10)","v":1},{"$f":"Z10/(AB4-Z13)","v":6.6666666666666666E-2},{"$f":"IF(AA10=0,0,(AA10*((LOG(AA10))/LOG(2))))","v":-0.26045937304056793},null,{"$f":"N10","v":122},{"$f":"COUNTIF(L49:L70,AD10)","v":0},{"$f":"AE10/(AG4-AE13)","v":0},{"$f":"IF(AF10=0,0,(AF10*((LOG(AF10))/LOG(2))))","v":0},null,{"$f":"N10","v":122},{"$f":"COUNTIF(L71:L91,AI10)","v":0},{"$f":"AJ10/(AL4-AJ13)","v":0},{"$f":"IF(AK10=0,0,(AK10*((LOG(AK10))/LOG(2))))","v":0},null,{"$f":"N10","v":122},{"$f":"COUNTIF(L92:L112,AN10)","v":0},{"$f":"AO10/(AQ4-AO13)","v":0},{"$f":"IF(AP10=0,0,(AP10*((LOG(AP10))/LOG(2))))","v":0},null,{"$f":"N10","v":122},{"$f":"COUNTIF(L113:L133,AS10)","v":0},{"$f":"AT10/(AV4-AT13)","v":0},{"$f":"IF(AU10=0,0,(AU10*((LOG(AU10))/LOG(2))))","v":0}]
[21,486,21,491,11,505,null,null,null,null,0,221,null,211,{"$f":"COUNTIF($L$7:$L$500,N11)","v":57},{"$f":"O11/$Q$4","v":0.44881889763779526},{"$f":"IF(P11=0,0,(P11*((LOG(P11))/LOG(2))))","v":-0.51874249085530055},null,null,{"$f":"N11","v":211},{"$f":"COUNTIF(L7:L27,T11)","v":10},{"$f":"U11/(W4-U13)","v":0.58823529411764708},{"$f":"IF(V11=0,0,(V11*((LOG(V11))/LOG(2))))","v":-0.45031455668410414},null,{"$f":"N11","v":211},{"$f":"COUNTIF(L28:L48,Y11)","v":10},{"$f":"Z11/(AB4-Z13)","v":0.66666666666666663},{"$f":"IF(AA11=0,0,(AA11*((LOG(AA11))/LOG(2))))","v":-0.38997500048077083},null,{"$f":"N11","v":211},{"$f":"COUNTIF(L49:L70,AD11)","v":6},{"$f":"AE11/(AG4-AE13)","v":0.5},{"$f":"IF(AF11=0,0,(AF11*((LOG(AF11))/LOG(2))))","v":-0.5},null,{"$f":"N11","v":211},{"$f":"COUNTIF(L71:L91,AI11)","v":11},{"$f":"AJ11/(AL4-AJ13)","v":0.7857142857142857},{"$f":"IF(AK11=0,0,(AK11*((LOG(AK11))/LOG(2))))","v":-0.27336830983024107},null,{"$f":"N11","v":211},{"$f":"COUNTIF(L92:L112,AN11)","v":10},{"$f":"AO11/(AQ4-AO13)","v":0.76923076923076927},{"$f":"IF(AP11=0,0,(AP11*((LOG(AP11))/LOG(2))))","v":-0.29116278711825366},null,{"$f":"N11","v":211},{"$f":"COUNTIF(L113:L133,AS11)","v":10},{"$f":"AT11/(AV4-AT13)","v":0.625},{"$f":"IF(AU11=0,0,(AU11*((LOG(AU11))/LOG(2))))","v":-0.42379494069539858}]
[21,638,12,646,13,651,null,null,null,null,0,211,null,212,{"$f":"COUNTIF($L$7:$L$500,N12)","v":13},{"$f":"O12/$Q$4","v":0.10236220472440945},{"$f":"IF(P12=0,0,(P12*((LOG(P12))/LOG(2))))","v":-0.3365920046630233},null,null,{"$f":"N12","v":212},{"$f":"COUNTIF(L7:L27,T12)","v":2},{"$f":"U12/(W4-U13)","v":0.11764705882352941},{"$f":"IF(V12=0,0,(V12*((LOG(V12))/LOG(2))))","v":-0.36323092250003997},null,{"$f":"N12","v":212},{"$f":"COUNTIF(L28:L48,Y12)","v":2},{"$f":"Z12/(AB4-Z13)","v":0.13333333333333333},{"$f":"IF(AA12=0,0,(AA12*((LOG(AA12))/LOG(2))))","v":-0.3875854127478025},null,{"$f":"N12","v":212},{"$f":"COUNTIF(L49:L70,AD12)","v":3},{"$f":"AE12/(AG4-AE13)","v":0.25},{"$f":"IF(AF12=0,0,(AF12*((LOG(AF12))/LOG(2))))","v":-0.5},null,{"$f":"N12","v":212},{"$f":"COUNTIF(L71:L91,AI12)","v":2},{"$f":"AJ12/(AL4-AJ13)","v":0.14285714285714285},{"$f":"IF(AK12=0,0,(AK12*((LOG(AK12))/LOG(2))))","v":-0.40105070315108626},null,{"$f":"N12","v":212},{"$f":"COUNTIF(L92:L112,AN12)","v":2},{"$f":"AO12/(AQ4-AO13)","v":0.15384615384615385},{"$f":"IF(AP12=0,0,(AP12*((LOG(AP12))/LOG(2))))","v":-0.4154522643293988},null,{"$f":"N12","v":212},{"$f":"COUNTIF(L113:L133,AS12)","v":2},{"$f":"AT12/(AV4-AT13)","v":0.125},{"$f":"IF(AU12=0,0,(AU12*((LOG(AU12))/LOG(2))))","v":-0.375}]
[21,754,21,758,22,760,null,null,null,null,0,222,null,221,{"$f":"COUNTIF($L$7:$L$500,N13)","v":40},{"$f":"O13/$Q$4","v":0.31496062992125984},{"$f":"IF(P13=0,0,(P13*((LOG(P13))/LOG(2))))","v":-0.52496270610545004},null,null,{"$f":"N13","v":221},{"$f":"COUNTIF(L7:L27,T13)","v":4},null,null,null,{"$f":"N13","v":221},{"$f":"COUNTIF(L28:L48,Y13)","v":6},null,null,null,{"$f":"N13","v":221},{"$f":"COUNTIF(L49:L70,AD13)","v":10},null,null,null,{"$f":"N13","v":221},{"$f":"COUNTIF(L71:L91,AI13)","v":7},null,null,null,{"$f":"N13","v":221},{"$f":"COUNTIF(L92:L112,AN13)","v":8},null,null,null,{"$f":"N13","v":221},{"$f":"COUNTIF(L113:L133,AS13)","v":5}]
[21,855,12,864,13,871,null,null,null,null,0,211,null,222,{"$f":"COUNTIF($L$7:$L$500,N14)","v":10},{"$f":"O14/$Q$4","v":7.874015748031496E-2},{"$f":"IF(P14=0,0,(P14*((LOG(P14))/LOG(2))))","v":-0.28872099148699237},null,null,{"$f":"N14","v":222},{"$f":"COUNTIF(L7:L27,T14)","v":2},{"$f":"U14/(W4-U13)","v":0.11764705882352941},{"$f":"IF(V14=0,0,(V14*((LOG(V14))/LOG(2))))","v":-0.36323092250003997},null,{"$f":"N14","v":222},{"$f":"COUNTIF(L28:L48,Y14)","v":1},{"$f":"Z14/(AB4-Z13)","v":6.6666666666666666E-2},{"$f":"IF(AA14=0,0,(AA14*((LOG(AA14))/LOG(2))))","v":-0.26045937304056793},null,{"$f":"N14","v":222},{"$f":"COUNTIF(L49:L70,AD14)","v":3},{"$f":"AE14/(AG4-AE13)","v":0.25},{"$f":"IF(AF14=0,0,(AF14*((LOG(AF14))/LOG(2))))","v":-0.5},null,{"$f":"N14","v":222},{"$f":"COUNTIF(L71:L91,AI14)","v":0},{"$f":"AJ14/(AL4-AJ13)","v":0},{"$f":"IF(AK14=0,0,(AK14*((LOG(AK14))/LOG(2))))","v":0},null,{"$f":"N14","v":222},{"$f":"COUNTIF(L92:L112,AN14)","v":1},{"$f":"AO14/(AQ4-AO13)","v":7.6923076923076927E-2},{"$f":"IF(AP14=0,0,(AP14*((LOG(AP14))/LOG(2))))","v":-0.28464920908777636},null,{"$f":"N14","v":222},{"$f":"COUNTIF(L113:L133,AS14)","v":3},{"$f":"AT14/(AV4-AT13)","v":0.1875},{"$f":"IF(AU14=0,0,(AU14*((LOG(AU14))/LOG(2))))","v":-0.45281953111478312}]
[21,968,12,977,13,983,null,null,null,null,0,211,null,null,null,{"$f":"SUM(P7:P14)","v":1},{"$f":"-SUM(Q7:Q14)","v":1.9470587626616982},null,null,null,null,{"$f":"SUM(V7:V14)","v":1},{"$f":"-SUM(W7:W14)","v":1.7804463148460088},null,null,null,{"$f":"SUM(AA7:AA14)","v":0.99999999999999989},{"$f":"-SUM(AB7:AB14)","v":1.5589385323502771},null,null,null,{"$f":"SUM(AF7:AF14)","v":1},{"$f":"-SUM(AG7:AG14)","v":1.5},null,null,null,{"$f":"SUM(AK7:AK14)","v":1},{"$f":"-SUM(AL7:AL14)","v":0.94637293598544192},null,null,null,{"$f":"SUM(AP7:AP14)","v":1},{"$f":"-SUM(AQ7:AQ14)","v":0.99126426053542882},null,null,null,{"$f":"SUM(AU7:AU14)","v":1},{"$f":"-SUM(AV7:AV14)","v":1.5016144718101816}]
[21,1090,12,1104,24,1110,null,null,null,null,0,212,null,null,null,"U=",{"$f":"Q15/(LOG(Q4)/LOG(2))","v":0.27860160386789151},null,null,null,null,"U1=",{"$f":"W15/(LOG(W4)/LOG(2))","v":0.40535465529256426},null,null,null,"U2=",{"$f":"AB15/(LOG(AB4)/LOG(2))","v":0.35492392336345047},null,null,null,"U3=",{"$f":"AG15/(LOG(AG4)/LOG(2))","v":0.33636573632636313},null,null,null,"U4=",{"$f":"AL15/(LOG(AL4)/LOG(2))","v":0.21546096169587112},null,null,null,"U5=",{"$f":"AQ15/(LOG(AQ4)/LOG(2))","v":0.22568138072050226},null,null,null,"U6=",{"$f":"AV15/(LOG(AV4)/LOG(2))","v":0.34187294024396775}]
[21,1205,21,1210,11,1217,null,null,null,null,0,221]
[12,1415,14,1425,13,1431,null,null,null,null,0,111]
[12,1538,23,1550,24,1554,null,null,null,null,0,122,null,"Total Target Seq"]
[21,1651,12,1664,13,1673,null,null,null,null,0,211,null,{"$f":"COUNTIF(L7:L133,G3)","v":40},null,21,21,22,21,21,21]
[21,1769,12,1778,13,1786,null,null,null,null,0,211,null,null,null,"% of reinforcement given in 6 equal intervals based on number of trials "]
[21,1877,12,1885,13,1893,null,null,null,null,0,211,null,null,null,"%_1","%_2","%_3","%_4","%_5","%_6"]
[21,1988,21,1991,22,1994,null,null,null,null,0,222,null,null,"target sequence",{"$f":"$G$3","v":221},{"$f":"$G$3","v":221},{"$f":"$G$3","v":221},{"$f":"$G$3","v":221},{"$f":"$G$3","v":221},{"$f":"$G$3","v":221}]
[21,2105,21,2110,11,2118,null,null,null,null,0,221,null,null,"total reinforcement",{"$f":"U13","v":4},{"$f":"Z13","v":6},{"$f":"AE13","v":10},{"$f":"AJ13","v":7},{"$f":"AO13","v":8},{"$f":"AT13","v":5}]
[21,2361,12,2377,13,2383,null,null,null,null,0,211,null,null,"% target"]
[21,2478,12,2493,24,2507,null,null,null,null,0,212,null,null,"CCRF"]
[21,2603,12,2612,13,2619,null,null,null,null,0,211,null,null,"% CCRf"]
[21,2715,12,2725,13,2738,null,null,null,null,0,211,null,null,"average response rate",{"$f":"F27/P20","v":124.71428571428571},{"$f":"(F48-F27)/Q20","v":137.47619047619048},{"$f":"(F70-F48)/R20","v":130.04545454545453},{"$f":"(F91-F70)/S20","v":124.95238095238095},{"$f":"(F112-F91)/T20","v":135.33333333333334},{"$f":"(F133-F112)/U20","v":132.9047619047619}]
[21,2834,12,2845,13,2854,null,null,null,null,0,211]
[21,2950,21,2956,22,2960,null,null,null,null,0,222]
[21,3057,12,3070,24,3082,null,null,null,null,0,212]
[21,3177,21,3180,11,3191,null,null,null,null,0,221]
[21,3306,12,3315,13,3322,null,null,null,null,0,211]
[21,3420,12,3429,13,3435,null,null,null,null,0,211]
[21,3530,21,3532,11,3541,null,null,null,null,0,221]
[21,3707,12,3715,13,3721,null,null,null,null,0,211]
[21,3817,12,3830,13,3834,null,null,null,null,0,211]
[21,3930,21,3935,11,3944,null,null,null,null,0,221]
[21,4151,12,4159,13,4166,null,null,null,null,0,211]
[21,4262,21,4264,11,4276,null,null,null,null,0,221]
[21,4502,12,4511,13,4519,null,null,null,null,0,211]
[12,4628,23,4636,24,4639,null,null,null,null,0,122]
[21,4734,21,4737,11,4744,null,null,null,null,0,221]
[21,4939,12,4946,13,4952,null,null,null,null,0,211]
[21,5049,21,5052,11,5059,null,null,null,null,0,221]
[12,5267,14,5272,13,5278,null,null,null,null,0,111]
[21,5376,12,5389,24,5393,null,null,null,null,0,212]
[21,5487,12,5499,13,5506,null,null,null,null,0,211]
[21,5599,21,5603,11,5615,null,null,null,null,0,221]
[21,5809,12,5817,13,5826,null,null,null,null,0,211]
[21,5923,12,5933,13,5946,null,null,null,null,0,211]
[21,6048,21,6052,22,6057,null,null,null,null,0,222]
[21,6154,21,6159,11,6165,null,null,null,null,0,221]
[21,6329,21,6332,11,6344,null,null,null,null,0,221]
[21,6511,21,6515,11,6526,null,null,null,null,0,221]
[21,6658,12,6667,13,6672,null,null,null,null,0,211]
[21,6768,21,6771,11,6779,null,null,null,null,0,221]
[21,6898,21,6901,11,6911,null,null,null,null,0,221]
[21,7004,12,7014,13,7017,null,null,null,null,0,211]
[21,7114,21,7117,11,7127,null,null,null,null,0,221]
[21,7263,21,7266,11,7279,null,null,null,null,0,221]
[21,7374,12,7384,13,7388,null,null,null,null,0,211]
[21,7492,21,7499,22,7505,null,null,null,null,0,222]
[21,7600,12,7613,24,7624,null,null,null,null,0,212]
[21,7718,21,7721,22,7722,null,null,null,null,0,222]
[21,7816,12,7824,13,7833,null,null,null,null,0,211]
[21,7928,12,7940,24,7953,null,null,null,null,0,212]
[21,8058,21,8060,11,8066,null,null,null,null,0,221]
[21,8182,21,8187,11,8197,null,null,null,null,0,221]
[21,8351,12,8363,24,8367,null,null,null,null,0,212]
[21,8465,21,8471,11,8479,null,null,null,null,0,221]
[21,8585,21,8590,11,8602,null,null,null,null,0,221]
[12,8790,14,8796,13,8801,null,null,null,null,0,111]
[21,8900,12,8907,13,8915,null,null,null,null,0,211]
[21,9010,12,9015,13,9020,null,null,null,null,0,211]
[21,9116,21,9120,11,9132,null,null,null,null,0,221]
[21,9233,12,9242,13,9251,null,null,null,null,0,211]
[21,9351,12,9359,13,9367,null,null,null,null,0,211]
[21,9462,12,9473,24,9484,null,null,null,null,0,212]
[21,9579,12,9586,13,9594,null,null,null,null,0,211]
[21,9691,12,9705,13,9714,null,null,null,null,0,211]
[21,9808,21,9812,11,9818,null,null,null,null,0,221]
[21,9975,12,9984,13,9989,null,null,null,null,0,211]
[21,10084,12,10096,13,10106,null,null,null,null,0,211]
[21,10202,21,10208,11,10219,null,null,null,null,0,221]
[21,10335,12,10345,13,10352,null,null,null,null,0,211]
[21,10445,21,10448,11,10457,null,null,null,null,0,221]
[21,10607,12,10615,13,10622,null,null,null,null,0,211]
[21,10717,21,10721,11,10732,null,null,null,null,0,221]
[21,10841,12,10854,13,10869,null,null,null,null,0,211]
[21,10966,12,10979,24,10991,null,null,null,null,0,212]
[21,11085,12,11097,24,11108,null,null,null,null,0,212]
[21,11203,12,11212,13,11220,null,null,null,null,0,211]
[21,11315,12,11329,13,11347,null,null,null,null,0,211]
[21,11443,21,11448,11,11456,null,null,null,null,0,221]
[21,11612,12,11620,24,11631,null,null,null,null,0,212]
[21,11731,12,11739,13,11747,null,null,null,null,0,211]
[21,11841,21,11843,11,11851,null,null,null,null,0,221]
[21,12012,12,12021,13,12038,null,null,null,null,0,211]
[21,12135,21,12137,11,12144,null,null,null,null,0,221]
[21,12381,12,12389,13,12395,null,null,null,null,0,211]
[21,12492,21,12496,11,12505,null,null,null,null,0,221]
[21,12654,21,12657,11,12664,null,null,null,null,0,221]
[21,12756,12,12763,13,12768,null,null,null,null,0,211]
[21,12863,21,12875,22,12884,null,null,null,null,0,222]
[21,12979,21,12982,11,12988,null,null,null,null,0,221]
[21,13124,12,13135,13,13143,null,null,null,null,0,211]
[21,13237,21,13244,11,13251,null,null,null,null,0,221]
[21,13404,12,13412,13,13419,null,null,null,null,0,211]
[21,13513,21,13520,11,13532,null,null,null,null,0,221]
[21,13669,12,13678,13,13684,null,null,null,null,0,211]
[21,13815,12,13823,13,13833,null,null,null,null,0,211]
[21,13930,12,13939,24,13950,null,null,null,null,0,212]
[21,14055,12,14064,24,14077,null,null,null,null,0,212]
[21,14174,21,14181,11,14193,null,null,null,null,0,221]
[21,14324,12,14333,13,14338,null,null,null,null,0,211]
[21,14433,12,14447,13,14464,null,null,null,null,0,211]
[21,14560,12,14574,13,14589,null,null,null,null,0,211]
[21,14685,12,14695,13,14705,null,null,null,null,0,211]
[21,14801,21,14806,11,14816,null,null,null,null,0,221]
[21,14990,12,15000,13,15009,null,null,null,null,0,211]
[21,15108,12,15118,13,15126,null,null,null,null,0,211]
[21,15220,21,15225,11,15235,null,null,null,null,0,221]
[21,15494,12,15509,13,15514,null,null,null,null,0,211]
[12,15662,14,15664,13,15672,null,null,null,null,0,111]
[21,15766,21,15769,22,15772,null,null,null,null,0,222]
[21,15868,12,15875,13,15884,null,null,null,null,0,211]
[21,15980,21,15986,11,15996,null,null,null,null,0,221]
[21,16178,12,16188,13,16190,null,null,null,null,0,211]
[21,16284,12,16298,13,16310,null,null,null,null,0,211]
[21,16406,21,16413,22,16416,null,null,null,null,0,222]
[21,16511,21,16514,22,16515,null,null,null,null,0,222]
[21,16612,21,16617,11,16624,null,null,null,null,1,221]

{"sheet":"!MA11B0T.AYL","index":12,"n_rows":143,"n_cols":48,"rows_kept":143,"cut":false,"hidden":false,"merged":[[4,39,4,42],[5,39,5,40],[4,44,4,47],[5,44,5,45],[4,24,4,27],[5,24,5,25],[4,29,4,32],[5,29,5,30],[4,34,4,37],[5,34,5,35],[1,1,1,2],[5,13,5,14],[18,13,18,14],[19,13,19,14],[4,19,4,22],[5,19,5,20]]}
["Report for:!MA11B0T.AYL"]
["Date:","<date>"]
["Hen:","<hen>",null,null,null,"Correct Sequence",{"$f":"Start!J2","v":221},null,null,null,null,null,null,null,null,"Total Sequences in Data",{"$f":"4994-COUNTBLANK(L7:L5000)","v":137},null,null,null,null,"Total Sequences in Block Data",{"$f":"COUNTA(L7:L29)","v":23},null,null,null,"Total Sequences in Block Data",{"$f":"COUNTA(L30:L52)","v":23},null,null,null,"Total Sequences in Block Data",{"$f":"COUNTA(L53:L74)","v":22},null,null,null,"Total Sequences in Block Data",{"$f":"COUNTA(L75:L97)","v":23},null,null,null,"Total Sequences in Block Data",{"$f":"COUNTA(L98:L120)","v":23},null,null,null,"Total Sequences in Block Data",{"$f":"COUNTA(L121:L143)","v":23}]
[null,null,null,null,null,null,null,null,null,null,null,null,null,null,null,"Total Sequences in Summary",{"$f":"SUM(O7:O14)","v":137},null,null,null,null,"Total Sequences in Block Summary",{"$f":"SUM(U7:U14)","v":23},null,null,null,"Total Sequences in Block Summary",{"$f":"SUM(Z7:Z14)","v":23},null,null,null,"Total Sequences in Block Summary",{"$f":"SUM(AE7:AE14)","v":22},null,null,null,"Total Sequences in Block Summary",{"$f":"SUM(AJ7:AJ14)","v":23},null,null,null,"Total Sequences in Block Summary",{"$f":"SUM(AO7:AO14)","v":23},null,null,null,"Total Sequences in Block Summary",{"$f":"SUM(AT7:AT14)","v":23}]
[null,null,null,null,null,null,null,null,null,null,null,null,null,null,null,null,null,null,null,"Block 1",null,null,null,null,"Block 2",null,null,null,null,"Block 3",null,null,null,null,"Block 4",null,null,null,null,"Block 5",null,null,null,null,"Block 6"]
["Sequence\nComponent\n1","Time\n1","Sequence\nComponent\n2","Time\n2","Sequence\nComponent\n3","Time\n3","Sequence\nComponent\n4","Time\n4","Sequence\nComponent\n5","Time\n5","Correct?\n0=No 1=Yes","Sequence",null,"Frequency",null,"Relative Frequency","Variability",null,null,"Frequency",null,"Relative Frequency","Variability",null,"Frequency",null,"Relative Frequency","Variability",null,"Frequency",null,"Relative Frequency","Variability",null,"Frequency",null,"Relative Frequency","Variability",null,"Frequency",null,"Relative Frequency","Variability",null,"Frequency",null,"Relative Frequency","Variability"]
[21,2,12,10,13,13,null,null,null,null,0,211,null,111,{"$f":"COUNTIF($L$7:$L$500,N7)","v":6},{"$f":"O7/$Q$4","v":4.3795620437956206E-2},{"$f":"IF(P7=0,0,(P7*((LOG(P7))/LOG(2))))","v":-0.19765268243384104},null,null,{"$f":"N7","v":111},{"$f":"COUNTIF(L7:L29,T7)","v":0},{"$f":"U7/(W4-U13)","v":0},{"$f":"IF(V7=0,0,(V7*((LOG(V7))/LOG(2))))","v":0},null,{"$f":"N7","v":111},{"$f":"COUNTIF(L30:L52,Y7)","v":0},{"$f":"Z7/(AB4-Z13)","v":0},{"$f":"IF(AA7=0,0,(AA7*((LOG(AA7))/LOG(2))))","v":0},null,{"$f":"N7","v":111},{"$f":"COUNTIF(L53:L74,AD7)","v":0},{"$f":"AE7/(AG4-AE13)","v":0},{"$f":"IF(AF7=0,0,(AF7*((LOG(AF7))/LOG(2))))","v":0},null,{"$f":"N7","v":111},{"$f":"COUNTIF(L75:L97,AI7)","v":2},{"$f":"AJ7/(AL4-AJ13)","v":0.16666666666666666},{"$f":"IF(AK7=0,0,(AK7*((LOG(AK7))/LOG(2))))","v":-0.43082708345352599},null,{"$f":"N7","v":111},{"$f":"COUNTIF(L98:L120,AN7)","v":1},{"$f":"AO7/(AQ4-AO13)","v":4.7619047619047616E-2},{"$f":"IF(AP7=0,0,(AP7*((LOG(AP7))/LOG(2))))","v":-0.20915797251327431},null,{"$f":"N7","v":111},{"$f":"COUNTIF(L121:L143,AS7)","v":3},{"$f":"AT7/(AV4-AT13)","v":0.16666666666666666},{"$f":"IF(AU7=0,0,(AU7*((LOG(AU7))/LOG(2))))","v":-0.43082708345352599}]
[21,105,12,123,13,129,null,null,null,null,0,211,null,112,{"$f":"COUNTIF($L$7:$L$500,N8)","v":3},{"$f":"O8/$Q$4","v":2.1897810218978103E-2},{"$f":"IF(P8=0,0,(P8*((LOG(P8))/LOG(2))))","v":-0.12072415143589862},null,null,{"$f":"N8","v":112},{"$f":"COUNTIF(L7:L29,T8)","v":0},{"$f":"U8/(W4-U13)","v":0},{"$f":"IF(V8=0,0,(V8*((LOG(V8))/LOG(2))))","v":0},null,{"$f":"N8","v":112},{"$f":"COUNTIF(L30:L52,Y8)","v":1},{"$f":"Z8/(AB4-Z13)","v":5.2631578947368418E-2},{"$f":"IF(AA8=0,0,(AA8*((LOG(AA8))/LOG(2))))","v":-0.22357513228650452},null,{"$f":"N8","v":112},{"$f":"COUNTIF(L53:L74,AD8)","v":2},{"$f":"AE8/(AG4-AE13)","v":0.14285714285714285},{"$f":"IF(AF8=0,0,(AF8*((LOG(AF8))/LOG(2))))","v":-0.40105070315108626},null,{"$f":"N8","v":112},{"$f":"COUNTIF(L75:L97,AI8)","v":0},{"$f":"AJ8/(AL4-AJ13)","v":0},{"$f":"IF(AK8=0,0,(AK8*((LOG(AK8))/LOG(2))))","v":0},null,{"$f":"N8","v":112},{"$f":"COUNTIF(L98:L120,AN8)","v":0},{"$f":"AO8/(AQ4-AO13)","v":0},{"$f":"IF(AP8=0,0,(AP8*((LOG(AP8))/LOG(2))))","v":0},null,{"$f":"N8","v":112},{"$f":"COUNTIF(L121:L143,AS8)","v":0},{"$f":"AT8/(AV4-AT13)","v":0},{"$f":"IF(AU8=0,0,(AU8*((LOG(AU8))/LOG(2))))","v":0}]
[21,227,12,236,24,249,null,null,null,null,0,212,null,121,{"$f":"COUNTIF($L$7:$L$500,N9)","v":2},{"$f":"O9/$Q$4","v":1.4598540145985401E-2},{"$f":"IF(P9=0,0,(P9*((LOG(P9))/LOG(2))))","v":-8.9022366174606238E-2},null,null,{"$f":"N9","v":121},{"$f":"COUNTIF(L7:L29,T9)","v":1},{"$f":"U9/(W4-U13)","v":5.2631578947368418E-2},{"$f":"IF(V9=0,0,(V9*((LOG(V9))/LOG(2))))","v":-0.22357513228650452},null,{"$f":"N9","v":121},{"$f":"COUNTIF(L30:L52,Y9)","v":0},{"$f":"Z9/(AB4-Z13)","v":0},{"$f":"IF(AA9=0,0,(AA9*((LOG(AA9))/LOG(2))))","v":0},null,{"$f":"N9","v":121},{"$f":"COUNTIF(L53:L74,AD9)","v":1},{"$f":"AE9/(AG4-AE13)","v":7.1428571428571425E-2},{"$f":"IF(AF9=0,0,(AF9*((LOG(AF9))/LOG(2))))","v":-0.27195392300411453},null,{"$f":"N9","v":121},{"$f":"COUNTIF(L75:L97,AI9)","v":0},{"$f":"AJ9/(AL4-AJ13)","v":0},{"$f":"IF(AK9=0,0,(AK9*((LOG(AK9))/LOG(2))))","v":0},null,{"$f":"N9","v":121},{"$f":"COUNTIF(L98:L120,AN9)","v":0},{"$f":"AO9/(AQ4-AO13)","v":0},{"$f":"IF(AP9=0,0,(AP9*((LOG(AP9))/LOG(2))))","v":0},null,{"$f":"N9","v":121},{"$f":"COUNTIF(L121:L143,AS9)","v":0},{"$f":"AT9/(AV4-AT13)","v":0},{"$f":"IF(AU9=0,0,(AU9*((LOG(AU9))/LOG(2))))","v":0}]
[12,364,23,377,24,383,null,null,null,null,0,122,null,122,{"$f":"COUNTIF($L$7:$L$500,N10)","v":2},{"$f":"O10/$Q$4","v":1.4598540145985401E-2},{"$f":"IF(P10=0,0,(P10*((LOG(P10))/LOG(2))))","v":-8.9022366174606238E-2},null,null,{"$f":"N10","v":122},{"$f":"COUNTIF(L7:L29,T10)","v":1},{"$f":"U10/(W4-U13)","v":5.2631578947368418E-2},{"$f":"IF(V10=0,0,(V10*((LOG(V10))/LOG(2))))","v":-0.22357513228650452},null,{"$f":"N10","v":122},{"$f":"COUNTIF(L30:L52,Y10)","v":1},{"$f":"Z10/(AB4-Z13)","v":5.2631578947368418E-2},{"$f":"IF(AA10=0,0,(AA10*((LOG(AA10))/LOG(2))))","v":-0.22357513228650452},null,{"$f":"N10","v":122},{"$f":"COUNTIF(L53:L74,AD10)","v":0},{"$f":"AE10/(AG4-AE13)","v":0},{"$f":"IF(AF10=0,0,(AF10*((LOG(AF10))/LOG(2))))","v":0},null,{"$f":"N10","v":122},{"$f":"COUNTIF(L75:L97,AI10)","v":0},{"$f":"AJ10/(AL4-AJ13)","v":0},{"$f":"IF(AK10=0,0,(AK10*((LOG(AK10))/LOG(2))))","v":0},null,{"$f":"N10","v":122},{"$f":"COUNTIF(L98:L120,AN10)","v":0},{"$f":"AO10/(AQ4-AO13)","v":0},{"$f":"IF(AP10=0,0,(AP10*((LOG(AP10))/LOG(2))))","v":0},null,{"$f":"N10","v":122},{"$f":"COUNTIF(L121:L143,AS10)","v":0},{"$f":"AT10/(AV4-AT13)","v":0},{"$f":"IF(AU10=0,0,(AU10*((LOG(AU10))/LOG(2))))","v":0}]
[21,479,12,489,13,497,null,null,null,null,0,211,null,211,{"$f":"COUNTIF($L$7:$L$500,N11)","v":69},{"$f":"O11/$Q$4","v":0.5036496350364964},{"$f":"IF(P11=0,0,(P11*((LOG(P11))/LOG(2))))","v":-0.49836515479257432},null,null,{"$f":"N11","v":211},{"$f":"COUNTIF(L7:L29,T11)","v":7},{"$f":"U11/(W4-U13)","v":0.36842105263157893},{"$f":"IF(V11=0,0,(V11*((LOG(V11))/LOG(2))))","v":-0.53073727051062469},null,{"$f":"N11","v":211},{"$f":"COUNTIF(L30:L52,Y11)","v":14},{"$f":"Z11/(AB4-Z13)","v":0.73684210526315785},{"$f":"IF(AA11=0,0,(AA11*((LOG(AA11))/LOG(2))))","v":-0.32463243575809159},null,{"$f":"N11","v":211},{"$f":"COUNTIF(L53:L74,AD11)","v":9},{"$f":"AE11/(AG4-AE13)","v":0.6428571428571429},{"$f":"IF(AF11=0,0,(AF11*((LOG(AF11))/LOG(2))))","v":-0.40977637753840174},null,{"$f":"N11","v":211},{"$f":"COUNTIF(L75:L97,AI11)","v":9},{"$f":"AJ11/(AL4-AJ13)","v":0.75},{"$f":"IF(AK11=0,0,(AK11*((LOG(AK11))/LOG(2))))","v":-0.31127812445913283},null,{"$f":"N11","v":211},{"$f":"COUNTIF(L98:L120,AN11)","v":15},{"$f":"AO11/(AQ4-AO13)","v":0.7142857142857143},{"$f":"IF(AP11=0,0,(AP11*((LOG(AP11))/LOG(2))))","v":-0.34673344797874411},null,{"$f":"N11","v":211},{"$f":"COUNTIF(L121:L143,AS11)","v":15},{"$f":"AT11/(AV4-AT13)","v":0.83333333333333337},{"$f":"IF(AU11=0,0,(AU11*((LOG(AU11))/LOG(2))))","v":-0.21919533819482812}]
[21,590,21,594,11,603,null,null,null,null,0,221,null,212,{"$f":"COUNTIF($L$7:$L$500,N12)","v":12},{"$f":"O12/$Q$4","v":8.7591240875912413E-2},{"$f":"IF(P12=0,0,(P12*((LOG(P12))/LOG(2))))","v":-0.30771412399176973},null,null,{"$f":"N12","v":212},{"$f":"COUNTIF(L7:L29,T12)","v":7},{"$f":"U12/(W4-U13)","v":0.36842105263157893},{"$f":"IF(V12=0,0,(V12*((LOG(V12))/LOG(2))))","v":-0.53073727051062469},null,{"$f":"N12","v":212},{"$f":"COUNTIF(L30:L52,Y12)","v":0},{"$f":"Z12/(AB4-Z13)","v":0},{"$f":"IF(AA12=0,0,(AA12*((LOG(AA12))/LOG(2))))","v":0},null,{"$f":"N12","v":212},{"$f":"COUNTIF(L53:L74,AD12)","v":2},{"$f":"AE12/(AG4-AE13)","v":0.14285714285714285},{"$f":"IF(AF12=0,0,(AF12*((LOG(AF12))/LOG(2))))","v":-0.40105070315108626},null,{"$f":"N12","v":212},{"$f":"COUNTIF(L75:L97,AI12)","v":0},{"$f":"AJ12/(AL4-AJ13)","v":0},{"$f":"IF(AK12=0,0,(AK12*((LOG(AK12))/LOG(2))))","v":0},null,{"$f":"N12","v":212},{"$f":"COUNTIF(L98:L120,AN12)","v":3},{"$f":"AO12/(AQ4-AO13)","v":0.14285714285714285},{"$f":"IF(AP12=0,0,(AP12*((LOG(AP12))/LOG(2))))","v":-0.40105070315108626},null,{"$f":"N12","v":212},{"$f":"COUNTIF(L121:L143,AS12)","v":0},{"$f":"AT12/(AV4-AT13)","v":0},{"$f":"IF(AU12=0,0,(AU12*((LOG(AU12))/LOG(2))))","v":0}]
[21,761,21,764,11,775,null,null,null,null,0,221,null,221,{"$f":"COUNTIF($L$7:$L$500,N13)","v":34},{"$f":"O13/$Q$4","v":0.24817518248175183},{"$f":"IF(P13=0,0,(P13*((LOG(P13))/LOG(2))))","v":-0.4989733884536231},null,null,{"$f":"N13","v":221},{"$f":"COUNTIF(L7:L29,T13)","v":4},null,null,null,{"$f":"N13","v":221},{"$f":"COUNTIF(L30:L52,Y13)","v":4},null,null,null,{"$f":"N13","v":221},{"$f":"COUNTIF(L53:L74,AD13)","v":8},null,null,null,{"$f":"N13","v":221},{"$f":"COUNTIF(L75:L97,AI13)","v":11},null,null,null,{"$f":"N13","v":221},{"$f":"COUNTIF(L98:L120,AN13)","v":2},null,null,null,{"$f":"N13","v":221},{"$f":"COUNTIF(L121:L143,AS13)","v":5}]
[21,913,12,926,13,932,null,null,null,null,0,211,null,222,{"$f":"COUNTIF($L$7:$L$500,N14)","v":9},{"$f":"O14/$Q$4","v":6.569343065693431E-2},{"$f":"IF(P14=0,0,(P14*((LOG(P14))/LOG(2))))","v":-0.2580508301727294},null,null,{"$f":"N14","v":222},{"$f":"COUNTIF(L7:L29,T14)","v":3},{"$f":"U14/(W4-U13)","v":0.15789473684210525},{"$f":"IF(V14=0,0,(V14*((LOG(V14))/LOG(2))))","v":-0.42046815990354147},null,{"$f":"N14","v":222},{"$f":"COUNTIF(L30:L52,Y14)","v":3},{"$f":"Z14/(AB4-Z13)","v":0.15789473684210525},{"$f":"IF(AA14=0,0,(AA14*((LOG(AA14))/LOG(2))))","v":-0.42046815990354147},null,{"$f":"N14","v":222},{"$f":"COUNTIF(L53:L74,AD14)","v":0},{"$f":"AE14/(AG4-AE13)","v":0},{"$f":"IF(AF14=0,0,(AF14*((LOG(AF14))/LOG(2))))","v":0},null,{"$f":"N14","v":222},{"$f":"COUNTIF(L75:L97,AI14)","v":1},{"$f":"AJ14/(AL4-AJ13)","v":8.3333333333333329E-2},{"$f":"IF(AK14=0,0,(AK14*((LOG(AK14))/LOG(2))))","v":-0.29874687506009634},null,{"$f":"N14","v":222},{"$f":"COUNTIF(L98:L120,AN14)","v":2},{"$f":"AO14/(AQ4-AO13)","v":9.5238095238095233E-2},{"$f":"IF(AP14=0,0,(AP14*((LOG(AP14))/LOG(2))))","v":-0.32307784978845333},null,{"$f":"N14","v":222},{"$f":"COUNTIF(L121:L143,AS14)","v":0},{"$f":"AT14/(AV4-AT13)","v":0},{"$f":"IF(AU14=0,0,(AU14*((LOG(AU14))/LOG(2))))","v":0}]
[21,1033,12,1047,24,1057,null,null,null,null,0,212,null,null,null,{"$f":"SUM(P7:P14)","v":1},{"$f":"-SUM(Q7:Q14)","v":2.0595250636296489},null,null,null,null,{"$f":"SUM(V7:V14)","v":1},{"$f":"-SUM(W7:W14)","v":1.9290929654978002},null,null,null,{"$f":"SUM(AA7:AA14)","v":1},{"$f":"-SUM(AB7:AB14)","v":1.1922508602346422},null,null,null,{"$f":"SUM(AF7:AF14)","v":1},{"$f":"-SUM(AG7:AG14)","v":1.4838317068446889},null,null,null,{"$f":"SUM(AK7:AK14)","v":1},{"$f":"-SUM(AL7:AL14)","v":1.0408520829727552},null,null,null,{"$f":"SUM(AP7:AP14)","v":0.99999999999999989},{"$f":"-SUM(AQ7:AQ14)","v":1.280019973431558},null,null,null,{"$f":"SUM(AU7:AU14)","v":1},{"$f":"-SUM(AV7:AV14)","v":0.65002242164835411}]
[21,1150,12,1158,24,1174,null,null,null,null,0,212,null,null,null,"U=",{"$f":"Q15/(LOG(Q4)/LOG(2))","v":0.29015437512232817},null,null,null,null,"U1=",{"$f":"W15/(LOG(W4)/LOG(2))","v":0.4264544145161448},null,null,null,"U2=",{"$f":"AB15/(LOG(AB4)/LOG(2))","v":0.26356461386324731},null,null,null,"U3=",{"$f":"AG15/(LOG(AG4)/LOG(2))","v":0.33274009643814534},null,null,null,"U4=",{"$f":"AL15/(LOG(AL4)/LOG(2))","v":0.23009568412765136},null,null,null,"U5=",{"$f":"AQ15/(LOG(AQ4)/LOG(2))","v":0.2829672691268485},null,null,null,"U6=",{"$f":"AV15/(LOG(AV4)/LOG(2))","v":0.14369703078300483}]
[21,1269,12,1277,24,1290,null,null,null,null,0,212]
[21,1384,12,1398,24,1467,null,null,null,null,0,212]
[21,1560,21,1561,11,1569,null,null,null,null,0,221,null,"Total Target Seq"]
[21,1755,12,1768,13,1811,null,null,null,null,0,211,null,{"$f":"COUNTIF(L7:L143,G3)","v":34},null,23,23,22,23,23,23]
[21,1905,21,1908,22,1911,null,null,null,null,0,222,null,null,null,"% of reinforcement given in 6 equal intervals based on number of trials "]
[21,2011,21,2014,22,2018,null,null,null,null,0,222,null,null,null,"%_1","%_2","%_3","%_4","%_5","%_6"]
[21,2117,12,2125,24,2179,null,null,null,null,0,212,null,null,"target sequence",{"$f":"$G$3","v":221},{"$f":"$G$3","v":221},{"$f":"$G$3","v":221},{"$f":"$G$3","v":221},{"$f":"$G$3","v":221},{"$f":"$G$3","v":221}]
[21,2275,21,2306,22,2311,null,null,null,null,0,222,null,null,"total reinforcement",{"$f":"U13","v":4},{"$f":"Z13","v":4},{"$f":"AE13","v":8},{"$f":"AJ13","v":11},{"$f":"AO13","v":2},{"$f":"AT13","v":5}]
[21,2405,12,2414,13,2428,null,null,null,null,0,211,null,null,"% target"]
[21,2525,21,2527,11,2540,null,null,null,null,0,221,null,null,"CCRF"]
[21,2758,12,2770,13,2785,null,null,null,null,0,211,null,null,"% CCRf"]
[21,2881,12,2890,24,2902,null,null,null,null,0,212,null,null,"average response rate",{"$f":"F29/P20","v":132.60869565217391},{"$f":"(F52-F29)/Q20","v":155.47826086956522},{"$f":"(F74-F52)/R20","v":199.04545454545453},{"$f":"(F97-F74)/S20","v":147.95652173913044},{"$f":"(F120-F97)/T20","v":178.65217391304347},{"$f":"(F143-F120)/U20","v":236.17391304347825}]
[12,3009,23,3042,13,3050,null,null,null,null,0,121]
[21,3144,12,3157,13,3188,null,null,null,null,0,211]
[21,3282,21,3285,11,3294,null,null,null,null,0,221]
[21,3733,12,3746,13,3762,null,null,null,null,0,211]
[21,3870,12,3880,13,3886,null,null,null,null,0,211]
[12,3988,23,4003,24,4009,null,null,null,null,0,122]
[21,4111,12,4118,13,4123,null,null,null,null,0,211]
[21,4216,12,4224,13,4246,null,null,null,null,0,211]
[21,4339,21,4342,11,4350,null,null,null,null,0,221]
[21,4613,12,4619,13,4625,null,null,null,null,0,211]
[12,4728,14,4730,24,4742,null,null,null,null,0,112]
[21,4849,12,4859,13,4864,null,null,null,null,0,211]
[21,4961,12,4970,13,4989,null,null,null,null,0,211]
[21,5084,12,5092,13,5104,null,null,null,null,0,211]
[21,5210,12,5218,13,5224,null,null,null,null,0,211]
[21,5322,12,5332,13,5351,null,null,null,null,0,211]
[21,5447,21,5453,11,5455,null,null,null,null,0,221]
[21,5934,12,5941,13,5945,null,null,null,null,0,211]
[21,6039,21,6043,22,6045,null,null,null,null,0,222]
[21,6141,21,6145,22,6147,null,null,null,null,0,222]
[21,6240,21,6244,22,6246,null,null,null,null,0,222]
[21,6342,12,6352,13,6366,null,null,null,null,0,211]
[21,6462,21,6467,11,6477,null,null,null,null,0,221]
[21,6607,12,6617,13,6626,null,null,null,null,0,211]
[12,6738,14,6745,24,6750,null,null,null,null,0,112]
[21,6847,12,6856,24,6877,null,null,null,null,0,212]
[21,6971,21,6973,11,6981,null,null,null,null,0,221]
[21,7149,21,7152,11,7159,null,null,null,null,0,221]
[21,7345,12,7353,13,7358,null,null,null,null,0,211]
[21,7451,21,7456,11,7464,null,null,null,null,0,221]
[21,7667,12,7680,13,7686,null,null,null,null,0,211]
[21,7784,12,7792,24,7859,null,null,null,null,0,212]
[21,7952,21,7962,11,7971,null,null,null,null,0,221]
[21,8252,21,8254,11,8264,null,null,null,null,0,221]
[21,8413,12,8423,13,8428,null,null,null,null,0,211]
[21,8525,12,8535,13,8546,null,null,null,null,0,211]
[21,8641,21,8645,11,8654,null,null,null,null,0,221]
[21,9591,12,9603,13,9610,null,null,null,null,0,211]
[12,9717,14,9724,24,9729,null,null,null,null,0,112]
[21,9850,12,9858,13,9865,null,null,null,null,0,211]
[21,9959,21,9962,11,9970,null,null,null,null,0,221]
[12,10557,23,10558,13,10563,null,null,null,null,0,121]
[21,10658,12,10666,13,10677,null,null,null,null,0,211]
[21,10771,12,10781,13,10791,null,null,null,null,0,211]
[21,10886,12,10893,13,10901,null,null,null,null,0,211]
[21,10995,21,10997,11,11005,null,null,null,null,0,221]
[21,11096,12,11104,13,11110,null,null,null,null,0,211]
[12,11211,14,11221,13,11229,null,null,null,null,0,111]
[21,11324,21,11326,11,11332,null,null,null,null,0,221]
[21,11480,12,11491,13,11496,null,null,null,null,0,211]
[21,11593,21,11596,11,11603,null,null,null,null,0,221]
[21,11800,12,11808,13,11811,null,null,null,null,0,211]
[21,11909,21,11912,11,11919,null,null,null,null,0,221]
[21,12036,21,12037,11,12046,null,null,null,null,0,221]
[21,12211,12,12219,13,12225,null,null,null,null,0,211]
[12,12328,14,12336,13,12345,null,null,null,null,0,111]
[21,12441,12,12449,13,12456,null,null,null,null,0,211]
[21,12550,12,12559,13,12575,null,null,null,null,0,211]
[21,12669,21,12671,11,12678,null,null,null,null,0,221]
[21,13342,12,13351,13,13358,null,null,null,null,0,211]
[21,13455,21,13459,11,13465,null,null,null,null,0,221]
[21,13561,12,13568,13,13574,null,null,null,null,0,211]
[21,13670,21,13674,11,13681,null,null,null,null,0,221]
[21,13779,12,13794,13,13797,null,null,null,null,0,211]
[21,13890,21,13894,11,13903,null,null,null,null,0,221]
[21,14011,21,14018,11,14025,null,null,null,null,0,221]
[21,14176,21,14184,22,14186,null,null,null,null,0,222]
[21,14278,21,14284,11,14296,null,null,null,null,0,221]
[21,14393,21,14398,11,14408,null,null,null,null,0,221]
[21,14569,12,14578,13,14585,null,null,null,null,0,211]
[21,14680,21,14685,11,14693,null,null,null,null,0,221]
[21,14894,12,14905,24,14962,null,null,null,null,0,212]
[21,15058,12,15071,24,15136,null,null,null,null,0,212]
[21,15231,12,15249,13,15258,null,null,null,null,0,211]
[21,15352,12,15362,13,15373,null,null,null,null,0,211]
[21,15469,12,15481,13,15544,null,null,null,null,0,211]
[21,15641,12,15650,13,15668,null,null,null,null,0,211]
[21,15764,12,15773,13,15794,null,null,null,null,0,211]
[21,15888,12,15895,13,15905,null,null,null,null,0,211]
[21,16000,12,16013,13,16034,null,null,null,null,0,211]
[21,16131,12,16139,13,16149,null,null,null,null,0,211]
[21,16244,21,16246,22,16250,null,null,null,null,0,222]
[21,16342,12,16352,13,16358,null,null,null,null,0,211]
[21,16450,21,16452,11,16460,null,null,null,null,0,221]
[21,17446,12,17456,13,17466,null,null,null,null,0,211]
[21,17561,12,17573,13,17590,null,null,null,null,0,211]
[21,17775,12,17788,13,17793,null,null,null,null,0,211]
[21,17889,12,17901,13,17910,null,null,null,null,0,211]
[21,18007,12,18020,24,18114,null,null,null,null,0,212]
[21,18210,12,18219,13,18243,null,null,null,null,0,211]
[12,18397,14,18403,13,18409,null,null,null,null,0,111]
[21,18511,21,18514,22,18517,null,null,null,null,0,222]
[21,18609,21,18613,11,18623,null,null,null,null,0,221]
[21,19741,12,19751,13,19757,null,null,null,null,0,211]
[21,19854,12,19864,13,19882,null,null,null,null,0,211]
[21,19978,12,19987,13,20007,null,null,null,null,0,211]
[21,20164,21,20166,11,20177,null,null,null,null,0,221]
[21,20951,21,20954,11,20961,null,null,null,null,0,221]
[21,21891,12,21899,13,21909,null,null,null,null,0,211]
[21,22007,12,22018,13,22028,null,null,null,null,0,211]
[12,22148,14,22151,13,22157,null,null,null,null,0,111]
[21,22254,12,22266,13,22284,null,null,null,null,0,211]
[21,22381,12,22389,13,22403,null,null,null,null,0,211]
[21,22496,12,22507,13,22515,null,null,null,null,0,211]
[21,22610,12,22620,13,22629,null,null,null,null,0,211]
[21,22724,12,22732,13,22797,null,null,null,null,0,211]
[21,22893,12,22900,13,22920,null,null,null,null,0,211]
[21,23012,21,23016,11,23028,null,null,null,null,0,221]
[12,23133,14,23165,13,23170,null,null,null,null,0,111]
[21,23264,12,23273,13,23297,null,null,null,null,0,211]
[21,23393,12,23404,13,23413,null,null,null,null,0,211]
[12,23517,14,23520,13,23525,null,null,null,null,0,111]
[21,23620,21,23625,11,23636,null,null,null,null,0,221]
[21,23815,12,23825,13,23831,null,null,null,null,0,211]
[21,23926,12,23938,13,23949,null,null,null,null,null,211]

{"sheet":"!MA1291T.AYL","index":13,"n_rows":177,"n_cols":48,"rows_kept":177,"cut":false,"hidden":false,"merged":[[4,39,4,42],[5,39,5,40],[4,44,4,47],[5,44,5,45],[4,24,4,27],[5,24,5,25],[4,29,4,32],[5,29,5,30],[4,34,4,37],[5,34,5,35],[1,1,1,2],[5,13,5,14],[18,13,18,14],[19,13,19,14],[4,19,4,22],[5,19,5,20]]}
["Report for:!MA1291T.AYL"]
["Date:","<date>"]
["Hen:","<hen>",null,null,null,"Correct Sequence",{"$f":"Start!J2","v":221},null,null,null,null,null,null,null,null,"Total Sequences in Data",{"$f":"4994-COUNTBLANK(L7:L5000)","v":171},null,null,null,null,"Total Sequences in Block Data",{"$f":"COUNTA(L7:L35)","v":29},null,null,null,"Total Sequences in Block Data",{"$f":"COUNTA(L36:L63)","v":28},null,null,null,"Total Sequences in Block Data",{"$f":"COUNTA(L64:L92)","v":29},null,null,null,"Total Sequences in Block Data",{"$f":"COUNTA(L93:L120)","v":28},null,null,null,"Total Sequences in Block Data",{"$f":"COUNTA(L121:L149)","v":29},null,null,null,"Total Sequences in Block Data",{"$f":"COUNTA(L150:L177)","v":28}]
[null,null,null,null,null,null,null,null,null,null,null,null,null,null,null,"Total Sequences in Summary",{"$f":"SUM(O7:O14)","v":171},null,null,null,null,"Total Sequences in Block Summary",{"$f":"SUM(U7:U14)","v":29},null,null,null,"Total Sequences in Block Summary",{"$f":"SUM(Z7:Z14)","v":28},null,null,null,"Total Sequences in Block Summary",{"$f":"SUM(AE7:AE14)","v":29},null,null,null,"Total Sequences in Block Summary",{"$f":"SUM(AJ7:AJ14)","v":28},null,null,null,"Total Sequences in Block Summary",{"$f":"SUM(AO7:AO14)","v":29},null,null,null,"Total Sequences in Block Summary",{"$f":"SUM(AT7:AT14)","v":28}]
[null,null,null,null,null,null,null,null,null,null,null,null,null,null,null,null,null,null,null,"Block 1",null,null,null,null,"Block 2",null,null,null,null,"Block 3",null,null,null,null,"Block 4",null,null,null,null,"Block 5",null,null,null,null,"Block 6"]
["Sequence\nComponent\n1","Time\n1","Sequence\nComponent\n2","Time\n2","Sequence\nComponent\n3","Time\n3","Sequence\nComponent\n4","Time\n4","Sequence\nComponent\n5","Time\n5","Correct?\n0=No 1=Yes","Sequence",null,"Frequency",null,"Relative Frequency","Variability",null,null,"Frequency",null,"Relative Frequency","Variability",null,"Frequency",null,"Relative Frequency","Variability",null,"Frequency",null,"Relative Frequency","Variability",null,"Frequency",null,"Relative Frequency","Variability",null,"Frequency",null,"Relative Frequency","Variability",null,"Frequency",null,"Relative Frequency","Variability"]
[21,13,21,35,22,58,null,null,null,null,0,222,null,111,{"$f":"COUNTIF($L$7:$L$500,N7)","v":12},{"$f":"O7/$Q$4","v":7.0175438596491224E-2},{"$f":"IF(P7=0,0,(P7*((LOG(P7))/LOG(2))))","v":-0.26897473783612219},null,null,{"$f":"N7","v":111},{"$f":"COUNTIF(L7:L35,T7)","v":2},{"$f":"U7/(W4-U13)","v":7.407407407407407E-2},{"$f":"IF(V7=0,0,(V7*((LOG(V7))/LOG(2))))","v":-0.27813981497507173},null,{"$f":"N7","v":111},{"$f":"COUNTIF(L36:L63,Y7)","v":3},{"$f":"Z7/(AB4-Z13)","v":0.13043478260869565},{"$f":"IF(AA7=0,0,(AA7*((LOG(AA7))/LOG(2))))","v":-0.3832955811307639},null,{"$f":"N7","v":111},{"$f":"COUNTIF(L64:L92,AD7)","v":4},{"$f":"AE7/(AG4-AE13)","v":0.16666666666666666},{"$f":"IF(AF7=0,0,(AF7*((LOG(AF7))/LOG(2))))","v":-0.43082708345352599},null,{"$f":"N7","v":111},{"$f":"COUNTIF(L93:L120,AI7)","v":1},{"$f":"AJ7/(AL4-AJ13)","v":0.05},{"$f":"IF(AK7=0,0,(AK7*((LOG(AK7))/LOG(2))))","v":-0.21609640474436814},null,{"$f":"N7","v":111},{"$f":"COUNTIF(L121:L149,AN7)","v":1},{"$f":"AO7/(AQ4-AO13)","v":3.8461538461538464E-2},{"$f":"IF(AP7=0,0,(AP7*((LOG(AP7))/LOG(2))))","v":-0.18078614300542661},null,{"$f":"N7","v":111},{"$f":"COUNTIF(L150:L177,AS7)","v":1},{"$f":"AT7/(AV4-AT13)","v":3.7037037037037035E-2},{"$f":"IF(AU7=0,0,(AU7*((LOG(AU7))/LOG(2))))","v":-0.1761069445245729}]
[21,166,21,210,22,215,null,null,null,null,0,222,null,112,{"$f":"COUNTIF($L$7:$L$500,N8)","v":8},{"$f":"O8/$Q$4","v":4.6783625730994149E-2},{"$f":"IF(P8=0,0,(P8*((LOG(P8))/LOG(2))))","v":-0.20668315859115313},null,null,{"$f":"N8","v":112},{"$f":"COUNTIF(L7:L35,T8)","v":2},{"$f":"U8/(W4-U13)","v":7.407407407407407E-2},{"$f":"IF(V8=0,0,(V8*((LOG(V8))/LOG(2))))","v":-0.27813981497507173},null,{"$f":"N8","v":112},{"$f":"COUNTIF(L36:L63,Y8)","v":2},{"$f":"Z8/(AB4-Z13)","v":8.6956521739130432E-2},{"$f":"IF(AA8=0,0,(AA8*((LOG(AA8))/LOG(2))))","v":-0.30639669183104457},null,{"$f":"N8","v":112},{"$f":"COUNTIF(L64:L92,AD8)","v":2},{"$f":"AE8/(AG4-AE13)","v":8.3333333333333329E-2},{"$f":"IF(AF8=0,0,(AF8*((LOG(AF8))/LOG(2))))","v":-0.29874687506009634},null,{"$f":"N8","v":112},{"$f":"COUNTIF(L93:L120,AI8)","v":0},{"$f":"AJ8/(AL4-AJ13)","v":0},{"$f":"IF(AK8=0,0,(AK8*((LOG(AK8))/LOG(2))))","v":0},null,{"$f":"N8","v":112},{"$f":"COUNTIF(L121:L149,AN8)","v":2},{"$f":"AO8/(AQ4-AO13)","v":7.6923076923076927E-2},{"$f":"IF(AP8=0,0,(AP8*((LOG(AP8))/LOG(2))))","v":-0.28464920908777636},null,{"$f":"N8","v":112},{"$f":"COUNTIF(L150:L177,AS8)","v":0},{"$f":"AT8/(AV4-AT13)","v":0},{"$f":"IF(AU8=0,0,(AU8*((LOG(AU8))/LOG(2))))","v":0}]
[12,317,23,320,24,356,null,null,null,null,0,122,null,121,{"$f":"COUNTIF($L$7:$L$500,N9)","v":11},{"$f":"O9/$Q$4","v":6.4327485380116955E-2},{"$f":"IF(P9=0,0,(P9*((LOG(P9))/LOG(2))))","v":-0.25463526233178135},null,null,{"$f":"N9","v":121},{"$f":"COUNTIF(L7:L35,T9)","v":4},{"$f":"U9/(W4-U13)","v":0.14814814814814814},{"$f":"IF(V9=0,0,(V9*((LOG(V9))/LOG(2))))","v":-0.40813148180199532},null,{"$f":"N9","v":121},{"$f":"COUNTIF(L36:L63,Y9)","v":3},{"$f":"Z9/(AB4-Z13)","v":0.13043478260869565},{"$f":"IF(AA9=0,0,(AA9*((LOG(AA9))/LOG(2))))","v":-0.3832955811307639},null,{"$f":"N9","v":121},{"$f":"COUNTIF(L64:L92,AD9)","v":2},{"$f":"AE9/(AG4-AE13)","v":8.3333333333333329E-2},{"$f":"IF(AF9=0,0,(AF9*((LOG(AF9))/LOG(2))))","v":-0.29874687506009634},null,{"$f":"N9","v":121},{"$f":"COUNTIF(L93:L120,AI9)","v":2},{"$f":"AJ9/(AL4-AJ13)","v":0.1},{"$f":"IF(AK9=0,0,(AK9*((LOG(AK9))/LOG(2))))","v":-0.33219280948873625},null,{"$f":"N9","v":121},{"$f":"COUNTIF(L121:L149,AN9)","v":0},{"$f":"AO9/(AQ4-AO13)","v":0},{"$f":"IF(AP9=0,0,(AP9*((LOG(AP9))/LOG(2))))","v":0},null,{"$f":"N9","v":121},{"$f":"COUNTIF(L150:L177,AS9)","v":0},{"$f":"AT9/(AV4-AT13)","v":0},{"$f":"IF(AU9=0,0,(AU9*((LOG(AU9))/LOG(2))))","v":0}]
[21,449,21,452,22,460,null,null,null,null,0,222,null,122,{"$f":"COUNTIF($L$7:$L$500,N10)","v":10},{"$f":"O10/$Q$4","v":5.8479532163742687E-2},{"$f":"IF(P10=0,0,(P10*((LOG(P10))/LOG(2))))","v":-0.23952774385956346},null,null,{"$f":"N10","v":122},{"$f":"COUNTIF(L7:L35,T10)","v":2},{"$f":"U10/(W4-U13)","v":7.407407407407407E-2},{"$f":"IF(V10=0,0,(V10*((LOG(V10))/LOG(2))))","v":-0.27813981497507173},null,{"$f":"N10","v":122},{"$f":"COUNTIF(L36:L63,Y10)","v":1},{"$f":"Z10/(AB4-Z13)","v":4.3478260869565216E-2},{"$f":"IF(AA10=0,0,(AA10*((LOG(AA10))/LOG(2))))","v":-0.19667660678508753},null,{"$f":"N10","v":122},{"$f":"COUNTIF(L64:L92,AD10)","v":1},{"$f":"AE10/(AG4-AE13)","v":4.1666666666666664E-2},{"$f":"IF(AF10=0,0,(AF10*((LOG(AF10))/LOG(2))))","v":-0.19104010419671485},null,{"$f":"N10","v":122},{"$f":"COUNTIF(L93:L120,AI10)","v":4},{"$f":"AJ10/(AL4-AJ13)","v":0.2},{"$f":"IF(AK10=0,0,(AK10*((LOG(AK10))/LOG(2))))","v":-0.46438561897747244},null,{"$f":"N10","v":122},{"$f":"COUNTIF(L121:L149,AN10)","v":0},{"$f":"AO10/(AQ4-AO13)","v":0},{"$f":"IF(AP10=0,0,(AP10*((LOG(AP10))/LOG(2))))","v":0},null,{"$f":"N10","v":122},{"$f":"COUNTIF(L150:L177,AS10)","v":2},{"$f":"AT10/(AV4-AT13)","v":7.407407407407407E-2},{"$f":"IF(AU10=0,0,(AU10*((LOG(AU10))/LOG(2))))","v":-0.27813981497507173}]
[21,555,12,585,24,586,null,null,null,null,0,212,null,211,{"$f":"COUNTIF($L$7:$L$500,N11)","v":9},{"$f":"O11/$Q$4","v":5.2631578947368418E-2},{"$f":"IF(P11=0,0,(P11*((LOG(P11))/LOG(2))))","v":-0.22357513228650452},null,null,{"$f":"N11","v":211},{"$f":"COUNTIF(L7:L35,T11)","v":5},{"$f":"U11/(W4-U13)","v":0.18518518518518517},{"$f":"IF(V11=0,0,(V11*((LOG(V11))/LOG(2))))","v":-0.45054803838446406},null,{"$f":"N11","v":211},{"$f":"COUNTIF(L36:L63,Y11)","v":2},{"$f":"Z11/(AB4-Z13)","v":8.6956521739130432E-2},{"$f":"IF(AA11=0,0,(AA11*((LOG(AA11))/LOG(2))))","v":-0.30639669183104457},null,{"$f":"N11","v":211},{"$f":"COUNTIF(L64:L92,AD11)","v":1},{"$f":"AE11/(AG4-AE13)","v":4.1666666666666664E-2},{"$f":"IF(AF11=0,0,(AF11*((LOG(AF11))/LOG(2))))","v":-0.19104010419671485},null,{"$f":"N11","v":211},{"$f":"COUNTIF(L93:L120,AI11)","v":1},{"$f":"AJ11/(AL4-AJ13)","v":0.05},{"$f":"IF(AK11=0,0,(AK11*((LOG(AK11))/LOG(2))))","v":-0.21609640474436814},null,{"$f":"N11","v":211},{"$f":"COUNTIF(L121:L149,AN11)","v":0},{"$f":"AO11/(AQ4-AO13)","v":0},{"$f":"IF(AP11=0,0,(AP11*((LOG(AP11))/LOG(2))))","v":0},null,{"$f":"N11","v":211},{"$f":"COUNTIF(L150:L177,AS11)","v":0},{"$f":"AT11/(AV4-AT13)","v":0},{"$f":"IF(AU11=0,0,(AU11*((LOG(AU11))/LOG(2))))","v":0}]
[21,683,12,696,13,699,null,null,null,null,0,211,null,212,{"$f":"COUNTIF($L$7:$L$500,N12)","v":18},{"$f":"O12/$Q$4","v":0.10526315789473684},{"$f":"IF(P12=0,0,(P12*((LOG(P12))/LOG(2))))","v":-0.34188710667827216},null,null,{"$f":"N12","v":212},{"$f":"COUNTIF(L7:L35,T12)","v":3},{"$f":"U12/(W4-U13)","v":0.1111111111111111},{"$f":"IF(V12=0,0,(V12*((LOG(V12))/LOG(2))))","v":-0.3522138890491458},null,{"$f":"N12","v":212},{"$f":"COUNTIF(L36:L63,Y12)","v":5},{"$f":"Z12/(AB4-Z13)","v":0.21739130434782608},{"$f":"IF(AA12=0,0,(AA12*((LOG(AA12))/LOG(2))))","v":-0.47861605677601093},null,{"$f":"N12","v":212},{"$f":"COUNTIF(L64:L92,AD12)","v":6},{"$f":"AE12/(AG4-AE13)","v":0.25},{"$f":"IF(AF12=0,0,(AF12*((LOG(AF12))/LOG(2))))","v":-0.5},null,{"$f":"N12","v":212},{"$f":"COUNTIF(L93:L120,AI12)","v":3},{"$f":"AJ12/(AL4-AJ13)","v":0.15},{"$f":"IF(AK12=0,0,(AK12*((LOG(AK12))/LOG(2))))","v":-0.41054483912493089},null,{"$f":"N12","v":212},{"$f":"COUNTIF(L121:L149,AN12)","v":1},{"$f":"AO12/(AQ4-AO13)","v":3.8461538461538464E-2},{"$f":"IF(AP12=0,0,(AP12*((LOG(AP12))/LOG(2))))","v":-0.18078614300542661},null,{"$f":"N12","v":212},{"$f":"COUNTIF(L150:L177,AS12)","v":0},{"$f":"AT12/(AV4-AT13)","v":0},{"$f":"IF(AU12=0,0,(AU12*((LOG(AU12))/LOG(2))))","v":0}]
[21,794,21,797,22,828,null,null,null,null,0,222,null,221,{"$f":"COUNTIF($L$7:$L$500,N13)","v":24},{"$f":"O13/$Q$4","v":0.14035087719298245},{"$f":"IF(P13=0,0,(P13*((LOG(P13))/LOG(2))))","v":-0.39759859847926199},null,null,{"$f":"N13","v":221},{"$f":"COUNTIF(L7:L35,T13)","v":2},null,null,null,{"$f":"N13","v":221},{"$f":"COUNTIF(L36:L63,Y13)","v":5},null,null,null,{"$f":"N13","v":221},{"$f":"COUNTIF(L64:L92,AD13)","v":5},null,null,null,{"$f":"N13","v":221},{"$f":"COUNTIF(L93:L120,AI13)","v":8},null,null,null,{"$f":"N13","v":221},{"$f":"COUNTIF(L121:L149,AN13)","v":3},null,null,null,{"$f":"N13","v":221},{"$f":"COUNTIF(L150:L177,AS13)","v":1}]
[12,923,14,933,24,946,null,null,null,null,0,112,null,222,{"$f":"COUNTIF($L$7:$L$500,N14)","v":79},{"$f":"O14/$Q$4","v":0.46198830409356723},{"$f":"IF(P14=0,0,(P14*((LOG(P14))/LOG(2))))","v":-0.51468812614032045},null,null,{"$f":"N14","v":222},{"$f":"COUNTIF(L7:L35,T14)","v":9},{"$f":"U14/(W4-U13)","v":0.33333333333333331},{"$f":"IF(V14=0,0,(V14*((LOG(V14))/LOG(2))))","v":-0.52832083357371862},null,{"$f":"N14","v":222},{"$f":"COUNTIF(L36:L63,Y14)","v":7},{"$f":"Z14/(AB4-Z13)","v":0.30434782608695654},{"$f":"IF(AA14=0,0,(AA14*((LOG(AA14))/LOG(2))))","v":-0.52232387991286355},null,{"$f":"N14","v":222},{"$f":"COUNTIF(L64:L92,AD14)","v":8},{"$f":"AE14/(AG4-AE13)","v":0.33333333333333331},{"$f":"IF(AF14=0,0,(AF14*((LOG(AF14))/LOG(2))))","v":-0.52832083357371862},null,{"$f":"N14","v":222},{"$f":"COUNTIF(L93:L120,AI14)","v":9},{"$f":"AJ14/(AL4-AJ13)","v":0.45},{"$f":"IF(AK14=0,0,(AK14*((LOG(AK14))/LOG(2))))","v":-0.51840139205027258},null,{"$f":"N14","v":222},{"$f":"COUNTIF(L121:L149,AN14)","v":22},{"$f":"AO14/(AQ4-AO13)","v":0.84615384615384615},{"$f":"IF(AP14=0,0,(AP14*((LOG(AP14))/LOG(2))))","v":-0.20392993034936494},null,{"$f":"N14","v":222},{"$f":"COUNTIF(L150:L177,AS14)","v":24},{"$f":"AT14/(AV4-AT13)","v":0.88888888888888884},{"$f":"IF(AU14=0,0,(AU14*((LOG(AU14))/LOG(2))))","v":-0.15104444572649992}]
[21,1040,21,1044,11,1068,null,null,null,null,0,221,null,null,null,{"$f":"SUM(P7:P14)","v":1},{"$f":"-SUM(Q7:Q14)","v":2.4475698662029792},null,null,null,null,{"$f":"SUM(V7:V14)","v":1},{"$f":"-SUM(W7:W14)","v":2.5736336877345387},null,null,null,{"$f":"SUM(AA7:AA14)","v":1},{"$f":"-SUM(AB7:AB14)","v":2.5770010893975792},null,null,null,{"$f":"SUM(AF7:AF14)","v":1},{"$f":"-SUM(AG7:AG14)","v":2.4387218755408671},null,null,null,{"$f":"SUM(AK7:AK14)","v":1},{"$f":"-SUM(AL7:AL14)","v":2.1577174691301484},null,null,null,{"$f":"SUM(AP7:AP14)","v":1},{"$f":"-SUM(AQ7:AQ14)","v":0.85015142544799449},null,null,null,{"$f":"SUM(AU7:AU14)","v":1},{"$f":"-SUM(AV7:AV14)","v":0.60529120522614455}]
[12,1238,23,1263,13,1268,null,null,null,null,0,121,null,null,null,"U=",{"$f":"Q15/(LOG(Q4)/LOG(2))","v":0.3299566635075688},null,null,null,null,"U1=",{"$f":"W15/(LOG(W4)/LOG(2))","v":0.52977434253362166},null,null,null,"U2=",{"$f":"AB15/(LOG(AB4)/LOG(2))","v":0.53605384482296403},null,null,null,"U3=",{"$f":"AG15/(LOG(AG4)/LOG(2))","v":0.50200317333205735},null,null,null,"U4=",{"$f":"AL15/(LOG(AL4)/LOG(2))","v":0.44883673124068407},null,null,null,"U5=",{"$f":"AQ15/(LOG(AQ4)/LOG(2))","v":0.17500097804019288},null,null,null,"U6=",{"$f":"AV15/(LOG(AV4)/LOG(2))","v":0.125909406532246}]
[21,1363,12,1366,13,1370,null,null,null,null,0,211]
[12,1464,14,1471,13,1495,null,null,null,null,0,111]
[21,1590,21,1609,22,1629,null,null,null,null,0,222,null,"Total Target Seq"]
[12,1722,23,1724,24,1727,null,null,null,null,0,122,null,{"$f":"COUNTIF(L7:L177,G3)","v":24},null,29,28,29,28,29,28]
[21,1822,21,1853,22,1859,null,null,null,null,0,222,null,null,null,"% of reinforcement given in 6 equal intervals based on number of trials "]
[21,1956,12,1961,24,1994,null,null,null,null,0,212,null,null,null,"%_1","%_2","%_3","%_4","%_5","%_6"]
[12,2091,23,2093,13,2125,null,null,null,null,0,121,null,null,"target sequence",{"$f":"$G$3","v":221},{"$f":"$G$3","v":221},{"$f":"$G$3","v":221},{"$f":"$G$3","v":221},{"$f":"$G$3","v":221},{"$f":"$G$3","v":221}]
[21,2218,12,2228,13,2230,null,null,null,null,0,211,null,null,"total reinforcement",{"$f":"U13","v":2},{"$f":"Z13","v":5},{"$f":"AE13","v":5},{"$f":"AJ13","v":8},{"$f":"AO13","v":3},{"$f":"AT13","v":1}]
[21,2328,12,2338,13,2345,null,null,null,null,0,211,null,null,"% target"]
[12,2441,23,2444,13,2463,null,null,null,null,0,121,null,null,"CCRF"]
[21,2558,21,2579,22,2608,null,null,null,null,0,222,null,null,"% CCRf"]
[12,2704,23,2706,13,2714,null,null,null,null,0,121,null,null,"average response rate",{"$f":"F35/P20","v":127.79310344827586},{"$f":"(F63-F35)/Q20","v":143.67857142857142},{"$f":"(F92-F63)/R20","v":141.82758620689654},{"$f":"(F120-F92)/S20","v":144.32142857142858},{"$f":"(F149-F120)/T20","v":147.41379310344828},{"$f":"(F177-F149)/U20","v":136.28571428571428}]
[21,2806,21,2810,11,2819,null,null,null,null,0,221]
[12,2966,14,2984,13,3013,null,null,null,null,0,111]
[21,3114,12,3133,13,3139,null,null,null,null,0,211]
[21,3237,12,3251,24,3284,null,null,null,null,0,212]
[21,3381,21,3419,22,3449,null,null,null,null,0,222]
[21,3547,21,3576,22,3582,null,null,null,null,0,222]
[12,3686,14,3688,24,3706,null,null,null,null,0,112]
[21,3800,21,3802,22,3836,null,null,null,null,0,222]
[21,3932,21,3935,22,3968,null,null,null,null,0,222]
[21,4064,12,4069,24,4090,null,null,null,null,0,212]
[21,4186,21,4212,22,4217,null,null,null,null,0,222]
[21,4314,12,4336,24,4340,null,null,null,null,0,212]
[12,4432,14,4469,24,4488,null,null,null,null,0,112]
[12,4584,23,4587,13,4604,null,null,null,null,0,121]
[21,4701,12,4709,13,4722,null,null,null,null,0,211]
[21,4820,21,4822,22,4851,null,null,null,null,0,222]
[21,4947,12,4968,24,4975,null,null,null,null,0,212]
[21,5072,12,5091,24,5098,null,null,null,null,0,212]
[21,5204,12,5208,24,5239,null,null,null,null,0,212]
[12,5332,23,5335,24,5352,null,null,null,null,0,122]
[21,5448,21,5450,22,5499,null,null,null,null,0,222]
[21,5594,21,5608,22,5614,null,null,null,null,0,222]
[21,5710,21,5713,22,5736,null,null,null,null,0,222]
[21,5831,21,5835,11,5863,null,null,null,null,0,221]
[12,6054,14,6060,13,6062,null,null,null,null,0,111]
[21,6157,21,6159,11,6170,null,null,null,null,0,221]
[12,6415,23,6489,13,6493,null,null,null,null,0,121]
[21,6597,12,6616,13,6624,null,null,null,null,0,211]
[21,6720,21,6739,11,6742,null,null,null,null,0,221]
[12,6849,14,6856,24,6859,null,null,null,null,0,112]
[21,6954,21,6957,11,6977,null,null,null,null,0,221]
[12,7067,14,7107,13,7114,null,null,null,null,0,111]
[21,7218,21,7221,11,7259,null,null,null,null,0,221]
[12,7400,14,7406,13,7480,null,null,null,null,0,111]
[12,7583,23,7677,13,7729,null,null,null,null,0,121]
[21,7823,21,7828,11,7834,null,null,null,null,0,221]
[12,7927,14,7975,24,7995,null,null,null,null,0,112]
[12,8091,23,8094,13,8129,null,null,null,null,0,121]
[21,8223,21,8226,22,8227,null,null,null,null,0,222]
[12,8321,23,8325,13,8336,null,null,null,null,0,121]
[21,8433,12,8469,24,8472,null,null,null,null,0,212]
[21,8569,12,8585,24,8597,null,null,null,null,0,212]
[21,8692,12,8710,24,8740,null,null,null,null,0,212]
[21,8836,21,8839,11,8856,null,null,null,null,0,221]
[12,8975,14,8979,13,8981,null,null,null,null,0,111]
[12,9095,14,9174,24,9180,null,null,null,null,0,112]
[21,9271,12,9275,24,9279,null,null,null,null,0,212]
[21,9374,21,9422,22,9429,null,null,null,null,0,222]
[12,9522,23,9525,24,9527,null,null,null,null,0,122]
[21,9623,21,9625,11,9632,null,null,null,null,0,221]
[12,9728,14,9802,13,9807,null,null,null,null,0,111]
[12,9921,14,10072,13,10077,null,null,null,null,0,111]
[21,10201,21,10206,22,10213,null,null,null,null,0,222]
[21,10309,12,10333,24,10340,null,null,null,null,0,212]
[21,10434,21,10436,22,10473,null,null,null,null,0,222]
[21,10568,21,10572,11,10602,null,null,null,null,0,221]
[12,10719,14,10726,13,10822,null,null,null,null,0,111]
[21,10927,21,10933,11,10935,null,null,null,null,0,221]
[21,11080,12,11088,13,11132,null,null,null,null,0,211]
[21,11227,21,11230,22,11271,null,null,null,null,0,222]
[21,11367,12,11375,24,11418,null,null,null,null,0,212]
[21,11512,21,11515,22,11574,null,null,null,null,0,222]
[21,11671,21,11674,22,11710,null,null,null,null,0,222]
[21,11806,21,11809,22,11842,null,null,null,null,0,222]
[12,11935,23,11939,13,11964,null,null,null,null,0,121]
[21,12059,21,12119,11,12128,null,null,null,null,0,221]
[12,12258,23,12355,24,12358,null,null,null,null,0,122]
[21,12452,21,12455,22,12457,null,null,null,null,0,222]
[21,12552,21,12556,11,12588,null,null,null,null,0,221]
[21,12794,21,12796,11,12814,null,null,null,null,0,221]
[12,12969,23,12993,13,13030,null,null,null,null,0,121]
[21,13123,21,13126,11,13155,null,null,null,null,0,221]
[21,13334,21,13340,22,13342,null,null,null,null,0,222]
[21,13437,12,13477,13,13483,null,null,null,null,0,211]
[21,13578,21,13581,22,13631,null,null,null,null,0,222]
[21,13728,21,13746,11,13749,null,null,null,null,0,221]
[21,13853,12,13894,24,13913,null,null,null,null,0,212]
[12,14004,23,14007,24,14046,null,null,null,null,0,122]
[21,14141,21,14143,22,14159,null,null,null,null,0,222]
[21,14256,21,14258,22,14280,null,null,null,null,0,222]
[21,14373,21,14375,11,14394,null,null,null,null,0,221]
[12,14503,14,14505,13,14546,null,null,null,null,0,111]
[12,14639,23,14649,24,14653,null,null,null,null,0,122]
[21,14748,21,14749,11,14775,null,null,null,null,0,221]
[21,14912,21,14914,22,14919,null,null,null,null,0,222]
[21,15017,21,15033,22,15043,null,null,null,null,0,222]
[21,15139,12,15193,24,15197,null,null,null,null,0,212]
[21,15291,21,15294,22,15338,null,null,null,null,0,222]
[21,15436,12,15450,24,15482,null,null,null,null,0,212]
[21,15574,21,15576,22,15602,null,null,null,null,0,222]
[21,15697,21,15700,11,15706,null,null,null,null,0,221]
[12,15874,23,15880,24,15883,null,null,null,null,0,122]
[21,15980,21,16037,22,16041,null,null,null,null,0,222]
[21,16133,21,16135,22,16161,null,null,null,null,0,222]
[21,16257,21,16260,22,16277,null,null,null,null,0,222]
[21,16373,12,16400,24,16446,null,null,null,null,0,212]
[21,16541,21,16544,22,16581,null,null,null,null,0,222]
[21,16673,21,16676,22,16679,null,null,null,null,0,222]
[21,16772,21,16776,22,16804,null,null,null,null,0,222]
[21,16909,21,16914,22,16919,null,null,null,null,0,222]
[21,17015,21,17059,22,17065,null,null,null,null,0,222]
[21,17161,21,17186,22,17196,null,null,null,null,0,222]
[21,17293,21,17298,11,17300,null,null,null,null,0,221]
[12,17427,14,17469,24,17542,null,null,null,null,0,112]
[21,17636,21,17642,22,17666,null,null,null,null,0,222]
[21,17761,21,17763,11,17782,null,null,null,null,0,221]
[12,17976,14,17982,24,17994,null,null,null,null,0,112]
[21,18091,21,18126,22,18134,null,null,null,null,0,222]
[21,18228,21,18234,22,18270,null,null,null,null,0,222]
[21,18366,21,18409,22,18413,null,null,null,null,0,222]
[21,18505,21,18510,22,18512,null,null,null,null,0,222]
[21,18610,21,18625,22,18637,null,null,null,null,0,222]
[21,18733,21,18737,22,18767,null,null,null,null,0,222]
[21,18862,21,18867,22,18903,null,null,null,null,0,222]
[21,19000,21,19005,22,19009,null,null,null,null,0,222]
[21,19103,21,19107,22,19133,null,null,null,null,0,222]
[21,19227,21,19232,22,19265,null,null,null,null,0,222]
[21,19361,21,19392,22,19405,null,null,null,null,0,222]
[21,19501,21,19503,22,19536,null,null,null,null,0,222]
[21,19628,21,19632,11,19663,null,null,null,null,0,221]
[12,19937,14,19951,13,20158,null,null,null,null,0,111]
[21,20264,21,20267,22,20317,null,null,null,null,0,222]
[12,20424,23,20430,24,20439,null,null,null,null,0,122]
[21,20531,21,20533,22,20536,null,null,null,null,0,222]
[21,20647,21,20652,11,20663,null,null,null,null,0,221]
[12,20788,14,21042,13,21064,null,null,null,null,0,111]
[21,21182,21,21197,22,21202,null,null,null,null,0,222]
[21,21303,21,21316,22,21322,null,null,null,null,0,222]
[12,21439,23,21442,24,21445,null,null,null,null,0,122]
[21,21542,21,21545,22,21566,null,null,null,null,0,222]
[21,21664,21,21683,22,21699,null,null,null,null,0,222]
[21,21794,21,21799,22,21803,null,null,null,null,0,222]
[21,21898,21,21902,22,21931,null,null,null,null,0,222]
[21,22044,21,22054,22,22076,null,null,null,null,0,222]
[21,22172,21,22192,22,22212,null,null,null,null,0,222]
[21,22315,21,22318,22,22341,null,null,null,null,0,222]
[21,22439,21,22458,22,22464,null,null,null,null,0,222]
[21,22566,21,22570,22,22572,null,null,null,null,0,222]
[21,22668,21,22673,22,22688,null,null,null,null,0,222]
[21,22784,21,22787,22,22819,null,null,null,null,0,222]
[21,22914,21,22955,22,22965,null,null,null,null,0,222]
[21,23059,21,23063,22,23094,null,null,null,null,0,222]
[21,23190,21,23220,22,23238,null,null,null,null,0,222]
[21,23338,21,23364,22,23366,null,null,null,null,0,222]
[21,23464,21,23484,22,23489,null,null,null,null,0,222]
[21,23586,21,23592,22,23609,null,null,null,null,0,222]
[21,23705,21,23708,22,23728,null,null,null,null,0,222]
[21,23823,21,23826,22,23851,null,null,null,null,0,222]
[21,23963,21,23967,22,23974,null,null,null,null,null,222]

{"sheet":"!MA13A3T.AYL","index":14,"n_rows":163,"n_cols":48,"rows_kept":163,"cut":false,"hidden":false,"merged":[[4,39,4,42],[5,39,5,40],[4,44,4,47],[5,44,5,45],[4,24,4,27],[5,24,5,25],[4,29,4,32],[5,29,5,30],[4,34,4,37],[5,34,5,35],[1,1,1,2],[5,13,5,14],[18,13,18,14],[19,13,19,14],[4,19,4,22],[5,19,5,20]]}
["Report for:!MA13A3T.AYL"]
["Date:","<date>"]
["Hen:","<hen>",null,null,null,"Correct Sequence",{"$f":"Start!J2","v":221},null,null,null,null,null,null,null,null,"Total Sequences in Data",{"$f":"4994-COUNTBLANK(L7:L5000)","v":157},null,null,null,null,"Total Sequences in Block Data",{"$f":"COUNTA(L7:L32)","v":26},null,null,null,"Total Sequences in Block Data",{"$f":"COUNTA(L33:L58)","v":26},null,null,null,"Total Sequences in Block Data",{"$f":"COUNTA(L59:L85)","v":27},null,null,null,"Total Sequences in Block Data",{"$f":"COUNTA(L86:L111)","v":26},null,null,null,"Total Sequences in Block Data",{"$f":"COUNTA(L112:L137)","v":26},null,null,null,"Total Sequences in Block Data",{"$f":"COUNTA(L138:L163)","v":26}]
[null,null,null,null,null,null,null,null,null,null,null,null,null,null,null,"Total Sequences in Summary",{"$f":"SUM(O7:O14)","v":157},null,null,null,null,"Total Sequences in Block Summary",{"$f":"SUM(U7:U14)","v":26},null,null,null,"Total Sequences in Block Summary",{"$f":"SUM(Z7:Z14)","v":26},null,null,null,"Total Sequences in Block Summary",{"$f":"SUM(AE7:AE14)","v":27},null,null,null,"Total Sequences in Block Summary",{"$f":"SUM(AJ7:AJ14)","v":26},null,null,null,"Total Sequences in Block Summary",{"$f":"SUM(AO7:AO14)","v":26},null,null,null,"Total Sequences in Block Summary",{"$f":"SUM(AT7:AT14)","v":26}]
[null,null,null,null,null,null,null,null,null,null,null,null,null,null,null,null,null,null,null,"Block 1",null,null,null,null,"Block 2",null,null,null,null,"Block 3",null,null,null,null,"Block 4",null,null,null,null,"Block 5",null,null,null,null,"Block 6"]
["Sequence\nComponent\n1","Time\n1","Sequence\nComponent\n2","Time\n2","Sequence\nComponent\n3","Time\n3","Sequence\nComponent\n4","Time\n4","Sequence\nComponent\n5","Time\n5","Correct?\n0=No 1=Yes","Sequence",null,"Frequency",null,"Relative Frequency","Variability",null,null,"Frequency",null,"Relative Frequency","Variability",null,"Frequency",null,"Relative Frequency","Variability",null,"Frequency",null,"Relative Frequency","Variability",null,"Frequency",null,"Relative Frequency","Variability",null,"Frequency",null,"Relative Frequency","Variability",null,"Frequency",null,"Relative Frequency","Variability"]
[12,8,23,17,24,28,null,null,null,null,0,122,null,111,{"$f":"COUNTIF($L$7:$L$500,N7)","v":27},{"$f":"O7/$Q$4","v":0.17197452229299362},{"$f":"IF(P7=0,0,(P7*((LOG(P7))/LOG(2))))","v":-0.43676941185770873},null,null,{"$f":"N7","v":111},{"$f":"COUNTIF(L7:L32,T7)","v":5},{"$f":"U7/(W4-U13)","v":0.22727272727272727},{"$f":"IF(V7=0,0,(V7*((LOG(V7))/LOG(2))))","v":-0.48579625539771243},null,{"$f":"N7","v":111},{"$f":"COUNTIF(L33:L58,Y7)","v":8},{"$f":"Z7/(AB4-Z13)","v":0.42105263157894735},{"$f":"IF(AA7=0,0,(AA7*((LOG(AA7))/LOG(2))))","v":-0.52544316355519383},null,{"$f":"N7","v":111},{"$f":"COUNTIF(L59:L85,AD7)","v":6},{"$f":"AE7/(AG4-AE13)","v":0.25},{"$f":"IF(AF7=0,0,(AF7*((LOG(AF7))/LOG(2))))","v":-0.5},null,{"$f":"N7","v":111},{"$f":"COUNTIF(L86:L111,AI7)","v":5},{"$f":"AJ7/(AL4-AJ13)","v":0.29411764705882354},{"$f":"IF(AK7=0,0,(AK7*((LOG(AK7))/LOG(2))))","v":-0.51927492540087561},null,{"$f":"N7","v":111},{"$f":"COUNTIF(L112:L137,AN7)","v":0},{"$f":"AO7/(AQ4-AO13)","v":0},{"$f":"IF(AP7=0,0,(AP7*((LOG(AP7))/LOG(2))))","v":0},null,{"$f":"N7","v":111},{"$f":"COUNTIF(L138:L163,AS7)","v":3},{"$f":"AT7/(AV4-AT13)","v":0.16666666666666666},{"$f":"IF(AU7=0,0,(AU7*((LOG(AU7))/LOG(2))))","v":-0.43082708345352599}]
[21,124,21,128,11,141,null,null,null,null,0,221,null,112,{"$f":"COUNTIF($L$7:$L$500,N8)","v":6},{"$f":"O8/$Q$4","v":3.8216560509554139E-2},{"$f":"IF(P8=0,0,(P8*((LOG(P8))/LOG(2))))","v":-0.17998693942052754},null,null,{"$f":"N8","v":112},{"$f":"COUNTIF(L7:L32,T8)","v":3},{"$f":"U8/(W4-U13)","v":0.13636363636363635},{"$f":"IF(V8=0,0,(V8*((LOG(V8))/LOG(2))))","v":-0.39197306153401923},null,{"$f":"N8","v":112},{"$f":"COUNTIF(L33:L58,Y8)","v":1},{"$f":"Z8/(AB4-Z13)","v":5.2631578947368418E-2},{"$f":"IF(AA8=0,0,(AA8*((LOG(AA8))/LOG(2))))","v":-0.22357513228650452},null,{"$f":"N8","v":112},{"$f":"COUNTIF(L59:L85,AD8)","v":0},{"$f":"AE8/(AG4-AE13)","v":0},{"$f":"IF(AF8=0,0,(AF8*((LOG(AF8))/LOG(2))))","v":0},null,{"$f":"N8","v":112},{"$f":"COUNTIF(L86:L111,AI8)","v":0},{"$f":"AJ8/(AL4-AJ13)","v":0},{"$f":"IF(AK8=0,0,(AK8*((LOG(AK8))/LOG(2))))","v":0},null,{"$f":"N8","v":112},{"$f":"COUNTIF(L112:L137,AN8)","v":0},{"$f":"AO8/(AQ4-AO13)","v":0},{"$f":"IF(AP8=0,0,(AP8*((LOG(AP8))/LOG(2))))","v":0},null,{"$f":"N8","v":112},{"$f":"COUNTIF(L138:L163,AS8)","v":2},{"$f":"AT8/(AV4-AT13)","v":0.1111111111111111},{"$f":"IF(AU8=0,0,(AU8*((LOG(AU8))/LOG(2))))","v":-0.3522138890491458}]
[12,233,14,239,13,244,null,null,null,null,0,111,null,121,{"$f":"COUNTIF($L$7:$L$500,N9)","v":11},{"$f":"O9/$Q$4","v":7.0063694267515922E-2},{"$f":"IF(P9=0,0,(P9*((LOG(P9))/LOG(2))))","v":-0.26870751868023968},null,null,{"$f":"N9","v":121},{"$f":"COUNTIF(L7:L32,T9)","v":5},{"$f":"U9/(W4-U13)","v":0.22727272727272727},{"$f":"IF(V9=0,0,(V9*((LOG(V9))/LOG(2))))","v":-0.48579625539771243},null,{"$f":"N9","v":121},{"$f":"COUNTIF(L33:L58,Y9)","v":3},{"$f":"Z9/(AB4-Z13)","v":0.15789473684210525},{"$f":"IF(AA9=0,0,(AA9*((LOG(AA9))/LOG(2))))","v":-0.42046815990354147},null,{"$f":"N9","v":121},{"$f":"COUNTIF(L59:L85,AD9)","v":2},{"$f":"AE9/(AG4-AE13)","v":8.3333333333333329E-2},{"$f":"IF(AF9=0,0,(AF9*((LOG(AF9))/LOG(2))))","v":-0.29874687506009634},null,{"$f":"N9","v":121},{"$f":"COUNTIF(L86:L111,AI9)","v":1},{"$f":"AJ9/(AL4-AJ13)","v":5.8823529411764705E-2},{"$f":"IF(AK9=0,0,(AK9*((LOG(AK9))/LOG(2))))","v":-0.24043899066178465},null,{"$f":"N9","v":121},{"$f":"COUNTIF(L112:L137,AN9)","v":0},{"$f":"AO9/(AQ4-AO13)","v":0},{"$f":"IF(AP9=0,0,(AP9*((LOG(AP9))/LOG(2))))","v":0},null,{"$f":"N9","v":121},{"$f":"COUNTIF(L138:L163,AS9)","v":0},{"$f":"AT9/(AV4-AT13)","v":0},{"$f":"IF(AU9=0,0,(AU9*((LOG(AU9))/LOG(2))))","v":0}]
[12,340,14,344,13,351,null,null,null,null,0,111,null,122,{"$f":"COUNTIF($L$7:$L$500,N10)","v":10},{"$f":"O10/$Q$4","v":6.3694267515923567E-2},{"$f":"IF(P10=0,0,(P10*((LOG(P10))/LOG(2))))","v":-0.25303774866269202},null,null,{"$f":"N10","v":122},{"$f":"COUNTIF(L7:L32,T10)","v":2},{"$f":"U10/(W4-U13)","v":9.0909090909090912E-2},{"$f":"IF(V10=0,0,(V10*((LOG(V10))/LOG(2))))","v":-0.31449378351248153},null,{"$f":"N10","v":122},{"$f":"COUNTIF(L33:L58,Y10)","v":1},{"$f":"Z10/(AB4-Z13)","v":5.2631578947368418E-2},{"$f":"IF(AA10=0,0,(AA10*((LOG(AA10))/LOG(2))))","v":-0.22357513228650452},null,{"$f":"N10","v":122},{"$f":"COUNTIF(L59:L85,AD10)","v":6},{"$f":"AE10/(AG4-AE13)","v":0.25},{"$f":"IF(AF10=0,0,(AF10*((LOG(AF10))/LOG(2))))","v":-0.5},null,{"$f":"N10","v":122},{"$f":"COUNTIF(L86:L111,AI10)","v":0},{"$f":"AJ10/(AL4-AJ13)","v":0},{"$f":"IF(AK10=0,0,(AK10*((LOG(AK10))/LOG(2))))","v":0},null,{"$f":"N10","v":122},{"$f":"COUNTIF(L112:L137,AN10)","v":1},{"$f":"AO10/(AQ4-AO13)","v":5.8823529411764705E-2},{"$f":"IF(AP10=0,0,(AP10*((LOG(AP10))/LOG(2))))","v":-0.24043899066178465},null,{"$f":"N10","v":122},{"$f":"COUNTIF(L138:L163,AS10)","v":0},{"$f":"AT10/(AV4-AT13)","v":0},{"$f":"IF(AU10=0,0,(AU10*((LOG(AU10))/LOG(2))))","v":0}]
[12,460,23,462,13,464,null,null,null,null,0,121,null,211,{"$f":"COUNTIF($L$7:$L$500,N11)","v":35},{"$f":"O11/$Q$4","v":0.22292993630573249},{"$f":"IF(P11=0,0,(P11*((LOG(P11))/LOG(2))))","v":-0.48271860266326833},null,null,{"$f":"N11","v":211},{"$f":"COUNTIF(L7:L32,T11)","v":2},{"$f":"U11/(W4-U13)","v":9.0909090909090912E-2},{"$f":"IF(V11=0,0,(V11*((LOG(V11))/LOG(2))))","v":-0.31449378351248153},null,{"$f":"N11","v":211},{"$f":"COUNTIF(L33:L58,Y11)","v":2},{"$f":"Z11/(AB4-Z13)","v":0.10526315789473684},{"$f":"IF(AA11=0,0,(AA11*((LOG(AA11))/LOG(2))))","v":-0.34188710667827216},null,{"$f":"N11","v":211},{"$f":"COUNTIF(L59:L85,AD11)","v":2},{"$f":"AE11/(AG4-AE13)","v":8.3333333333333329E-2},{"$f":"IF(AF11=0,0,(AF11*((LOG(AF11))/LOG(2))))","v":-0.29874687506009634},null,{"$f":"N11","v":211},{"$f":"COUNTIF(L86:L111,AI11)","v":7},{"$f":"AJ11/(AL4-AJ13)","v":0.41176470588235292},{"$f":"IF(AK11=0,0,(AK11*((LOG(AK11))/LOG(2))))","v":-0.52710326084406744},null,{"$f":"N11","v":211},{"$f":"COUNTIF(L112:L137,AN11)","v":12},{"$f":"AO11/(AQ4-AO13)","v":0.70588235294117652},{"$f":"IF(AP11=0,0,(AP11*((LOG(AP11))/LOG(2))))","v":-0.35470612272648222},null,{"$f":"N11","v":211},{"$f":"COUNTIF(L138:L163,AS11)","v":10},{"$f":"AT11/(AV4-AT13)","v":0.55555555555555558},{"$f":"IF(AU11=0,0,(AU11*((LOG(AU11))/LOG(2))))","v":-0.4711093925305278}]
[12,566,14,573,13,575,null,null,null,null,0,111,null,212,{"$f":"COUNTIF($L$7:$L$500,N12)","v":7},{"$f":"O12/$Q$4","v":4.4585987261146494E-2},{"$f":"IF(P12=0,0,(P12*((LOG(P12))/LOG(2))))","v":-0.20006917699259971},null,null,{"$f":"N12","v":212},{"$f":"COUNTIF(L7:L32,T12)","v":1},{"$f":"U12/(W4-U13)","v":4.5454545454545456E-2},{"$f":"IF(V12=0,0,(V12*((LOG(V12))/LOG(2))))","v":-0.20270143721078623},null,{"$f":"N12","v":212},{"$f":"COUNTIF(L33:L58,Y12)","v":0},{"$f":"Z12/(AB4-Z13)","v":0},{"$f":"IF(AA12=0,0,(AA12*((LOG(AA12))/LOG(2))))","v":0},null,{"$f":"N12","v":212},{"$f":"COUNTIF(L59:L85,AD12)","v":4},{"$f":"AE12/(AG4-AE13)","v":0.16666666666666666},{"$f":"IF(AF12=0,0,(AF12*((LOG(AF12))/LOG(2))))","v":-0.43082708345352599},null,{"$f":"N12","v":212},{"$f":"COUNTIF(L86:L111,AI12)","v":0},{"$f":"AJ12/(AL4-AJ13)","v":0},{"$f":"IF(AK12=0,0,(AK12*((LOG(AK12))/LOG(2))))","v":0},null,{"$f":"N12","v":212},{"$f":"COUNTIF(L112:L137,AN12)","v":1},{"$f":"AO12/(AQ4-AO13)","v":5.8823529411764705E-2},{"$f":"IF(AP12=0,0,(AP12*((LOG(AP12))/LOG(2))))","v":-0.24043899066178465},null,{"$f":"N12","v":212},{"$f":"COUNTIF(L138:L163,AS12)","v":1},{"$f":"AT12/(AV4-AT13)","v":5.5555555555555552E-2},{"$f":"IF(AU12=0,0,(AU12*((LOG(AU12))/LOG(2))))","v":-0.23166250008012845}]
[12,668,23,670,13,681,null,null,null,null,0,121,null,221,{"$f":"COUNTIF($L$7:$L$500,N13)","v":40},{"$f":"O13/$Q$4","v":0.25477707006369427},{"$f":"IF(P13=0,0,(P13*((LOG(P13))/LOG(2))))","v":-0.50259685452337954},null,null,{"$f":"N13","v":221},{"$f":"COUNTIF(L7:L32,T13)","v":4},null,null,null,{"$f":"N13","v":221},{"$f":"COUNTIF(L33:L58,Y13)","v":7},null,null,null,{"$f":"N13","v":221},{"$f":"COUNTIF(L59:L85,AD13)","v":3},null,null,null,{"$f":"N13","v":221},{"$f":"COUNTIF(L86:L111,AI13)","v":9},null,null,null,{"$f":"N13","v":221},{"$f":"COUNTIF(L112:L137,AN13)","v":9},null,null,null,{"$f":"N13","v":221},{"$f":"COUNTIF(L138:L163,AS13)","v":8}]
[21,774,12,778,13,783,null,null,null,null,0,211,null,222,{"$f":"COUNTIF($L$7:$L$500,N14)","v":21},{"$f":"O14/$Q$4","v":0.13375796178343949},{"$f":"IF(P14=0,0,(P14*((LOG(P14))/LOG(2))))","v":-0.38820617737815416},null,null,{"$f":"N14","v":222},{"$f":"COUNTIF(L7:L32,T14)","v":4},{"$f":"U14/(W4-U13)","v":0.18181818181818182},{"$f":"IF(V14=0,0,(V14*((LOG(V14))/LOG(2))))","v":-0.44716938520678134},null,{"$f":"N14","v":222},{"$f":"COUNTIF(L33:L58,Y14)","v":4},{"$f":"Z14/(AB4-Z13)","v":0.21052631578947367},{"$f":"IF(AA14=0,0,(AA14*((LOG(AA14))/LOG(2))))","v":-0.47324789756707064},null,{"$f":"N14","v":222},{"$f":"COUNTIF(L59:L85,AD14)","v":4},{"$f":"AE14/(AG4-AE13)","v":0.16666666666666666},{"$f":"IF(AF14=0,0,(AF14*((LOG(AF14))/LOG(2))))","v":-0.43082708345352599},null,{"$f":"N14","v":222},{"$f":"COUNTIF(L86:L111,AI14)","v":4},{"$f":"AJ14/(AL4-AJ13)","v":0.23529411764705882},{"$f":"IF(AK14=0,0,(AK14*((LOG(AK14))/LOG(2))))","v":-0.49116772735302094},null,{"$f":"N14","v":222},{"$f":"COUNTIF(L112:L137,AN14)","v":3},{"$f":"AO14/(AQ4-AO13)","v":0.17647058823529413},{"$f":"IF(AP14=0,0,(AP14*((LOG(AP14))/LOG(2))))","v":-0.44161770715220888},null,{"$f":"N14","v":222},{"$f":"COUNTIF(L138:L163,AS14)","v":2},{"$f":"AT14/(AV4-AT13)","v":0.1111111111111111},{"$f":"IF(AU14=0,0,(AU14*((LOG(AU14))/LOG(2))))","v":-0.3522138890491458}]
[21,875,21,879,11,886,null,null,null,null,0,221,null,null,null,{"$f":"SUM(P7:P14)","v":1},{"$f":"-SUM(Q7:Q14)","v":2.7120924301785698},null,null,null,null,{"$f":"SUM(V7:V14)","v":1},{"$f":"-SUM(W7:W14)","v":2.6424239617719745},null,null,null,{"$f":"SUM(AA7:AA14)","v":0.99999999999999989},{"$f":"-SUM(AB7:AB14)","v":2.208196592277087},null,null,null,{"$f":"SUM(AF7:AF14)","v":0.99999999999999989},{"$f":"-SUM(AG7:AG14)","v":2.459147917027245},null,null,null,{"$f":"SUM(AK7:AK14)","v":1},{"$f":"-SUM(AL7:AL14)","v":1.7779849042597484},null,null,null,{"$f":"SUM(AP7:AP14)","v":1},{"$f":"-SUM(AQ7:AQ14)","v":1.2772018112022603},null,null,null,{"$f":"SUM(AU7:AU14)","v":1},{"$f":"-SUM(AV7:AV14)","v":1.8380267541624737}]
[12,989,14,997,24,1014,null,null,null,null,0,112,null,null,null,"U=",{"$f":"Q15/(LOG(Q4)/LOG(2))","v":0.37179347954321768},null,null,null,null,"U1=",{"$f":"W15/(LOG(W4)/LOG(2))","v":0.56216526968183056},null,null,null,"U2=",{"$f":"AB15/(LOG(AB4)/LOG(2))","v":0.46978511047693522},null,null,null,"U3=",{"$f":"AG15/(LOG(AG4)/LOG(2))","v":0.51718319642858757},null,null,null,"U4=",{"$f":"AL15/(LOG(AL4)/LOG(2))","v":0.37825927165871576},null,null,null,"U5=",{"$f":"AQ15/(LOG(AQ4)/LOG(2))","v":0.27171964492448852},null,null,null,"U6=",{"$f":"AV15/(LOG(AV4)/LOG(2))","v":0.39103293827356395}]
[12,1110,23,1112,13,1121,null,null,null,null,0,121]
[21,1217,21,1220,22,1244,null,null,null,null,0,222]
[21,1339,21,1342,22,1366,null,null,null,null,0,222,null,"Total Target Seq"]
[21,1463,21,1467,11,1495,null,null,null,null,0,221,null,{"$f":"COUNTIF(L7:L163,G3)","v":40},null,26,26,27,26,26,26]
[12,1587,14,1592,24,1620,null,null,null,null,0,112,null,null,null,"% of reinforcement given in 6 equal intervals based on number of trials "]
[12,1729,23,1740,13,1755,null,null,null,null,0,121,null,null,null,"%_1","%_2","%_3","%_4","%_5","%_6"]
[12,1849,14,1852,13,1860,null,null,null,null,0,111,null,null,"target sequence",{"$f":"$G$3","v":221},{"$f":"$G$3","v":221},{"$f":"$G$3","v":221},{"$f":"$G$3","v":221},{"$f":"$G$3","v":221},{"$f":"$G$3","v":221}]
[12,1953,23,1958,24,1983,null,null,null,null,0,122,null,null,"total reinforcement",{"$f":"U13","v":4},{"$f":"Z13","v":7},{"$f":"AE13","v":3},{"$f":"AJ13","v":9},{"$f":"AO13","v":9},{"$f":"AT13","v":8}]
[12,2078,14,2101,24,2108,null,null,null,null,0,112,null,null,"% target"]
[21,2203,12,2205,24,2238,null,null,null,null,0,212,null,null,"CCRF"]
[12,2332,23,2335,13,2350,null,null,null,null,0,121,null,null,"% CCRf"]
[21,2446,21,2448,11,2473,null,null,null,null,0,221,null,null,"average response rate",{"$f":"F32/P20","v":114.57692307692308},{"$f":"(F58-F32)/Q20","v":134.92307692307693},{"$f":"(F85-F58)/R20","v":121.14814814814815},{"$f":"(F111-F85)/S20","v":140.73076923076923},{"$f":"(F137-F111)/T20","v":131.61538461538461},{"$f":"(F163-F137)/U20","v":164.61538461538461}]
[12,2569,14,2593,13,2595,null,null,null,null,0,111]
[21,2698,21,2701,22,2705,null,null,null,null,0,222]
[21,2797,21,2805,22,2851,null,null,null,null,0,222]
[21,2945,12,2963,13,2979,null,null,null,null,0,211]
[21,3075,21,3077,22,3094,null,null,null,null,0,222]
[21,3190,21,3193,11,3204,null,null,null,null,0,221]
[12,3309,14,3346,13,3350,null,null,null,null,0,111]
[12,3443,23,3478,13,3500,null,null,null,null,0,121]
[12,3598,23,3603,13,3614,null,null,null,null,0,121]
[21,3708,21,3711,11,3728,null,null,null,null,0,221]
[12,3843,14,3860,13,3874,null,null,null,null,0,111]
[21,4020,12,4022,13,4041,null,null,null,null,0,211]
[21,4135,21,4167,22,4196,null,null,null,null,0,222]
[21,4291,12,4299,13,4309,null,null,null,null,0,211]
[21,4404,21,4407,11,4409,null,null,null,null,0,221]
[12,4504,14,4522,13,4529,null,null,null,null,0,111]
[12,4629,14,4700,13,4718,null,null,null,null,0,111]
[12,4838,14,4852,13,4875,null,null,null,null,0,111]
[21,4972,21,4974,11,5002,null,null,null,null,0,221]
[12,5099,14,5118,13,5125,null,null,null,null,0,111]
[12,5223,23,5233,24,5237,null,null,null,null,0,122]
[21,5336,21,5339,11,5361,null,null,null,null,0,221]
[12,5452,14,5490,13,5551,null,null,null,null,0,111]
[12,5650,14,5653,24,5669,null,null,null,null,0,112]
[12,5763,23,5766,13,5768,null,null,null,null,0,121]
[21,5863,21,5925,22,5928,null,null,null,null,0,222]
[21,6025,21,6027,22,6054,null,null,null,null,0,222]
[21,6149,21,6182,11,6186,null,null,null,null,0,221]
[12,6321,14,6333,13,6361,null,null,null,null,0,111]
[21,6456,21,6459,11,6487,null,null,null,null,0,221]
[12,6587,14,6605,13,6609,null,null,null,null,0,111]
[12,6739,14,6743,13,6750,null,null,null,null,0,111]
[12,6844,23,6866,24,6869,null,null,null,null,0,122]
[12,6963,14,6978,13,6986,null,null,null,null,0,111]
[21,7078,12,7080,24,7081,null,null,null,null,0,212]
[12,7174,23,7178,24,7182,null,null,null,null,0,122]
[21,7278,12,7301,24,7325,null,null,null,null,0,212]
[21,7422,21,7449,22,7454,null,null,null,null,0,222]
[21,7552,21,7556,22,7593,null,null,null,null,0,222]
[21,7685,21,7689,11,7693,null,null,null,null,0,221]
[12,7782,14,7790,13,7803,null,null,null,null,0,111]
[21,7901,21,7903,11,7917,null,null,null,null,0,221]
[12,8005,14,8013,13,8022,null,null,null,null,0,111]
[12,8124,23,8155,13,8163,null,null,null,null,0,121]
[21,8260,12,8283,24,8298,null,null,null,null,0,212]
[21,8395,21,8419,11,8425,null,null,null,null,0,221]
[12,8512,14,8528,13,8563,null,null,null,null,0,111]
[12,8657,23,8712,24,8727,null,null,null,null,0,122]
[12,8820,23,8822,24,8827,null,null,null,null,0,122]
[12,8924,23,8939,24,8944,null,null,null,null,0,122]
[21,9041,12,9044,24,9046,null,null,null,null,0,212]
[21,9142,21,9173,22,9178,null,null,null,null,0,222]
[12,9273,23,9279,24,9306,null,null,null,null,0,122]
[21,9403,12,9410,13,9413,null,null,null,null,0,211]
[12,9508,23,9512,13,9519,null,null,null,null,0,121]
[21,9611,12,9616,13,9623,null,null,null,null,0,211]
[21,9720,21,9723,22,9758,null,null,null,null,0,222]
[21,9850,21,9857,11,9859,null,null,null,null,0,221]
[12,9962,14,9970,13,9988,null,null,null,null,0,111]
[12,10083,14,10098,13,10103,null,null,null,null,0,111]
[12,10195,14,10199,13,10205,null,null,null,null,0,111]
[12,10298,23,10311,13,10347,null,null,null,null,0,121]
[12,10472,14,10479,13,10487,null,null,null,null,0,111]
[21,10579,21,10584,11,10598,null,null,null,null,0,221]
[21,10777,21,10786,11,10796,null,null,null,null,0,221]
[21,10918,12,10928,13,10935,null,null,null,null,0,211]
[21,11027,21,11031,11,11047,null,null,null,null,0,221]
[21,11157,21,11170,22,11175,null,null,null,null,0,222]
[21,11271,12,11281,13,11288,null,null,null,null,0,211]
[21,11380,21,11384,22,11386,null,null,null,null,0,222]
[21,11480,21,11484,22,11501,null,null,null,null,0,222]
[21,11595,21,11596,11,11607,null,null,null,null,0,221]
[12,11710,14,11717,13,11726,null,null,null,null,0,111]
[21,11821,21,11824,11,11836,null,null,null,null,0,221]
[21,12175,12,12188,13,12195,null,null,null,null,0,211]
[21,12293,21,12297,11,12309,null,null,null,null,0,221]
[21,12510,12,12521,13,12523,null,null,null,null,0,211]
[21,12618,12,12629,13,12635,null,null,null,null,0,211]
[21,12729,12,12738,13,12745,null,null,null,null,0,211]
[21,12840,21,12845,11,12855,null,null,null,null,0,221]
[21,12954,21,12957,11,12967,null,null,null,null,0,221]
[21,13295,12,13304,13,13306,null,null,null,null,0,211]
[21,13404,21,13413,22,13417,null,null,null,null,0,222]
[21,13510,21,13514,11,13522,null,null,null,null,0,221]
[21,13665,12,13673,13,13676,null,null,null,null,0,211]
[21,13770,12,13780,13,13789,null,null,null,null,0,211]
[21,13884,21,13887,11,13894,null,null,null,null,0,221]
[21,14072,21,14076,22,14081,null,null,null,null,0,222]
[21,14177,21,14179,11,14187,null,null,null,null,0,221]
[21,14371,12,14382,13,14384,null,null,null,null,0,211]
[21,14478,12,14488,13,14495,null,null,null,null,0,211]
[21,14591,12,14602,13,14609,null,null,null,null,0,211]
[21,14704,21,14711,22,14720,null,null,null,null,0,222]
[21,14813,12,14821,13,14830,null,null,null,null,0,211]
[21,14926,12,14936,13,14942,null,null,null,null,0,211]
[21,15042,12,15050,24,15059,null,null,null,null,0,212]
[21,15153,12,15163,13,15170,null,null,null,null,0,211]
[21,15265,21,15269,11,15276,null,null,null,null,0,221]
[21,15415,21,15417,11,15427,null,null,null,null,0,221]
[21,15605,12,15614,13,15620,null,null,null,null,0,211]
[21,15714,21,15719,11,15726,null,null,null,null,0,221]
[21,15819,21,15826,22,15830,null,null,null,null,0,222]
[21,15928,12,15937,13,15940,null,null,null,null,0,211]
[21,16034,21,16038,11,16045,null,null,null,null,0,221]
[21,16251,12,16262,13,16267,null,null,null,null,0,211]
[21,16363,21,16366,11,16377,null,null,null,null,0,221]
[21,16496,21,16502,11,16510,null,null,null,null,0,221]
[21,16715,12,16723,13,16729,null,null,null,null,0,211]
[12,16831,23,16835,24,16839,null,null,null,null,0,122]
[21,16938,21,16940,11,16948,null,null,null,null,0,221]
[21,17246,12,17255,13,17261,null,null,null,null,0,211]
[12,17364,14,17384,13,17394,null,null,null,null,0,111]
[21,17491,12,17503,13,17511,null,null,null,null,0,211]
[21,17604,21,17607,11,17618,null,null,null,null,0,221]
[12,17792,14,17800,24,17815,null,null,null,null,0,112]
[21,17910,12,17921,13,17930,null,null,null,null,0,211]
[21,18026,21,18029,11,18043,null,null,null,null,0,221]
[21,18238,12,18245,13,18250,null,null,null,null,0,211]
[21,18343,21,18346,22,18352,null,null,null,null,0,222]
[21,18448,12,18462,13,18469,null,null,null,null,0,211]
[21,18562,21,18565,11,18587,null,null,null,null,0,221]
[12,18914,14,18920,13,18928,null,null,null,null,0,111]
[21,19022,12,19030,13,19039,null,null,null,null,0,211]
[21,19135,12,19147,13,19156,null,null,null,null,0,211]
[12,19276,14,19279,24,19281,null,null,null,null,0,112]
[21,19375,21,19379,11,19391,null,null,null,null,0,221]
[12,20062,14,20065,13,20071,null,null,null,null,0,111]
[21,20165,12,20178,13,20186,null,null,null,null,0,211]
[21,20279,12,20290,13,20313,null,null,null,null,0,211]
[21,20409,21,20413,11,20420,null,null,null,null,0,221]
[21,20599,12,20619,13,20629,null,null,null,null,0,211]
[21,20724,21,20730,11,20740,null,null,null,null,0,221]
[21,20886,21,20889,22,20896,null,null,null,null,0,222]
[21,20993,12,21000,24,21009,null,null,null,null,0,212]
[21,21105,21,21111,11,21119,null,null,null,null,1,221]

{"sheet":"!MA14A0T.AYL","index":15,"n_rows":185,"n_cols":48,"rows_kept":185,"cut":false,"hidden":false,"merged":[[4,39,4,42],[5,39,5,40],[4,44,4,47],[5,44,5,45],[4,24,4,27],[5,24,5,25],[4,29,4,32],[5,29,5,30],[4,34,4,37],[5,34,5,35],[1,1,1,2],[5,13,5,14],[18,13,18,14],[19,13,19,14],[4,19,4,22],[5,19,5,20]]}
["Report for:!MA14A0T.AYL"]
["Date:","<date>"]
["Hen:","<hen>",null,null,null,"Correct Sequence",{"$f":"Start!J2","v":221},null,null,null,null,null,null,null,null,"Total Sequences in Data",{"$f":"4994-COUNTBLANK(L7:L5000)","v":179},null,null,null,null,"Total Sequences in Block Data",{"$f":"COUNTA(L7:L36)","v":30},null,null,null,"Total Sequences in Block Data",{"$f":"COUNTA(L37:L66)","v":30},null,null,null,"Total Sequences in Block Data",{"$f":"COUNTA(L67:L95)","v":29},null,null,null,"Total Sequences in Block Data",{"$f":"COUNTA(L96:L125)","v":30},null,null,null,"Total Sequences in Block Data",{"$f":"COUNTA(L126:L155)","v":30},null,null,null,"Total Sequences in Block Data",{"$f":"COUNTA(L156:L185)","v":30}]
[null,null,null,null,null,null,null,null,null,null,null,null,null,null,null,"Total Sequences in Summary",{"$f":"SUM(O7:O14)","v":179},null,null,null,null,"Total Sequences in Block Summary",{"$f":"SUM(U7:U14)","v":30},null,null,null,"Total Sequences in Block Summary",{"$f":"SUM(Z7:Z14)","v":30},null,null,null,"Total Sequences in Block Summary",{"$f":"SUM(AE7:AE14)","v":29},null,null,null,"Total Sequences in Block Summary",{"$f":"SUM(AJ7:AJ14)","v":30},null,null,null,"Total Sequences in Block Summary",{"$f":"SUM(AO7:AO14)","v":30},null,null,null,"Total Sequences in Block Summary",{"$f":"SUM(AT7:AT14)","v":30}]
[null,null,null,null,null,null,null,null,null,null,null,null,null,null,null,null,null,null,null,"Block 1",null,null,null,null,"Block 2",null,null,null,null,"Block 3",null,null,null,null,"Block 4",null,null,null,null,"Block 5",null,null,null,null,"Block 6"]
["Sequence\nComponent\n1","Time\n1","Sequence\nComponent\n2","Time\n2","Sequence\nComponent\n3","Time\n3","Sequence\nComponent\n4","Time\n4","Sequence\nComponent\n5","Time\n5","Correct?\n0=No 1=Yes","Sequence",null,"Frequency",null,"Relative Frequency","Variability",null,null,"Frequency",null,"Relative Frequency","Variability",null,"Frequency",null,"Relative Frequency","Variability",null,"Frequency",null,"Relative Frequency","Variability",null,"Frequency",null,"Relative Frequency","Variability",null,"Frequency",null,"Relative Frequency","Variability",null,"Frequency",null,"Relative Frequency","Variability"]
[12,5,14,9,24,15,null,null,null,null,0,112,null,111,{"$f":"COUNTIF($L$7:$L$500,N7)","v":17},{"$f":"O7/$Q$4","v":9.4972067039106142E-2},{"$f":"IF(P7=0,0,(P7*((LOG(P7))/LOG(2))))","v":-0.32255865872757866},null,null,{"$f":"N7","v":111},{"$f":"COUNTIF(L7:L36,T7)","v":3},{"$f":"U7/(W4-U13)","v":0.10714285714285714},{"$f":"IF(V7=0,0,(V7*((LOG(V7))/LOG(2))))","v":-0.34525633085747659},null,{"$f":"N7","v":111},{"$f":"COUNTIF(L37:L66,Y7)","v":0},{"$f":"Z7/(AB4-Z13)","v":0},{"$f":"IF(AA7=0,0,(AA7*((LOG(AA7))/LOG(2))))","v":0},null,{"$f":"N7","v":111},{"$f":"COUNTIF(L67:L95,AD7)","v":1},{"$f":"AE7/(AG4-AE13)","v":3.5714285714285712E-2},{"$f":"IF(AF7=0,0,(AF7*((LOG(AF7))/LOG(2))))","v":-0.17169124721634299},null,{"$f":"N7","v":111},{"$f":"COUNTIF(L96:L125,AI7)","v":9},{"$f":"AJ7/(AL4-AJ13)","v":0.33333333333333331},{"$f":"IF(AK7=0,0,(AK7*((LOG(AK7))/LOG(2))))","v":-0.52832083357371862},null,{"$f":"N7","v":111},{"$f":"COUNTIF(L126:L155,AN7)","v":1},{"$f":"AO7/(AQ4-AO13)","v":3.7037037037037035E-2},{"$f":"IF(AP7=0,0,(AP7*((LOG(AP7))/LOG(2))))","v":-0.1761069445245729},null,{"$f":"N7","v":111},{"$f":"COUNTIF(L156:L185,AS7)","v":3},{"$f":"AT7/(AV4-AT13)","v":0.12},{"$f":"IF(AU7=0,0,(AU7*((LOG(AU7))/LOG(2))))","v":-0.36706724268642821}]
[12,119,14,126,13,130,null,null,null,null,0,111,null,112,{"$f":"COUNTIF($L$7:$L$500,N8)","v":6},{"$f":"O8/$Q$4","v":3.3519553072625698E-2},{"$f":"IF(P8=0,0,(P8*((LOG(P8))/LOG(2))))","v":-0.16420737239809274},null,null,{"$f":"N8","v":112},{"$f":"COUNTIF(L7:L36,T8)","v":1},{"$f":"U8/(W4-U13)","v":3.5714285714285712E-2},{"$f":"IF(V8=0,0,(V8*((LOG(V8))/LOG(2))))","v":-0.17169124721634299},null,{"$f":"N8","v":112},{"$f":"COUNTIF(L37:L66,Y8)","v":1},{"$f":"Z8/(AB4-Z13)","v":3.5714285714285712E-2},{"$f":"IF(AA8=0,0,(AA8*((LOG(AA8))/LOG(2))))","v":-0.17169124721634299},null,{"$f":"N8","v":112},{"$f":"COUNTIF(L67:L95,AD8)","v":0},{"$f":"AE8/(AG4-AE13)","v":0},{"$f":"IF(AF8=0,0,(AF8*((LOG(AF8))/LOG(2))))","v":0},null,{"$f":"N8","v":112},{"$f":"COUNTIF(L96:L125,AI8)","v":2},{"$f":"AJ8/(AL4-AJ13)","v":7.407407407407407E-2},{"$f":"IF(AK8=0,0,(AK8*((LOG(AK8))/LOG(2))))","v":-0.27813981497507173},null,{"$f":"N8","v":112},{"$f":"COUNTIF(L126:L155,AN8)","v":0},{"$f":"AO8/(AQ4-AO13)","v":0},{"$f":"IF(AP8=0,0,(AP8*((LOG(AP8))/LOG(2))))","v":0},null,{"$f":"N8","v":112},{"$f":"COUNTIF(L156:L185,AS8)","v":2},{"$f":"AT8/(AV4-AT13)","v":0.08},{"$f":"IF(AU8=0,0,(AU8*((LOG(AU8))/LOG(2))))","v":-0.29150849518197797}]
[21,223,21,278,22,283,null,null,null,null,0,222,null,121,{"$f":"COUNTIF($L$7:$L$500,N9)","v":4},{"$f":"O9/$Q$4","v":2.23463687150838E-2},{"$f":"IF(P9=0,0,(P9*((LOG(P9))/LOG(2))))","v":-0.12254336932434093},null,null,{"$f":"N9","v":121},{"$f":"COUNTIF(L7:L36,T9)","v":0},{"$f":"U9/(W4-U13)","v":0},{"$f":"IF(V9=0,0,(V9*((LOG(V9))/LOG(2))))","v":0},null,{"$f":"N9","v":121},{"$f":"COUNTIF(L37:L66,Y9)","v":1},{"$f":"Z9/(AB4-Z13)","v":3.5714285714285712E-2},{"$f":"IF(AA9=0,0,(AA9*((LOG(AA9))/LOG(2))))","v":-0.17169124721634299},null,{"$f":"N9","v":121},{"$f":"COUNTIF(L67:L95,AD9)","v":1},{"$f":"AE9/(AG4-AE13)","v":3.5714285714285712E-2},{"$f":"IF(AF9=0,0,(AF9*((LOG(AF9))/LOG(2))))","v":-0.17169124721634299},null,{"$f":"N9","v":121},{"$f":"COUNTIF(L96:L125,AI9)","v":1},{"$f":"AJ9/(AL4-AJ13)","v":3.7037037037037035E-2},{"$f":"IF(AK9=0,0,(AK9*((LOG(AK9))/LOG(2))))","v":-0.1761069445245729},null,{"$f":"N9","v":121},{"$f":"COUNTIF(L126:L155,AN9)","v":1},{"$f":"AO9/(AQ4-AO13)","v":3.7037037037037035E-2},{"$f":"IF(AP9=0,0,(AP9*((LOG(AP9))/LOG(2))))","v":-0.1761069445245729},null,{"$f":"N9","v":121},{"$f":"COUNTIF(L156:L185,AS9)","v":0},{"$f":"AT9/(AV4-AT13)","v":0},{"$f":"IF(AU9=0,0,(AU9*((LOG(AU9))/LOG(2))))","v":0}]
[21,379,12,384,13,401,null,null,null,null,0,211,null,122,{"$f":"COUNTIF($L$7:$L$500,N10)","v":7},{"$f":"O10/$Q$4","v":3.9106145251396648E-2},{"$f":"IF(P10=0,0,(P10*((LOG(P10))/LOG(2))))","v":-0.18287835746618195},null,null,{"$f":"N10","v":122},{"$f":"COUNTIF(L7:L36,T10)","v":0},{"$f":"U10/(W4-U13)","v":0},{"$f":"IF(V10=0,0,(V10*((LOG(V10))/LOG(2))))","v":0},null,{"$f":"N10","v":122},{"$f":"COUNTIF(L37:L66,Y10)","v":0},{"$f":"Z10/(AB4-Z13)","v":0},{"$f":"IF(AA10=0,0,(AA10*((LOG(AA10))/LOG(2))))","v":0},null,{"$f":"N10","v":122},{"$f":"COUNTIF(L67:L95,AD10)","v":1},{"$f":"AE10/(AG4-AE13)","v":3.5714285714285712E-2},{"$f":"IF(AF10=0,0,(AF10*((LOG(AF10))/LOG(2))))","v":-0.17169124721634299},null,{"$f":"N10","v":122},{"$f":"COUNTIF(L96:L125,AI10)","v":3},{"$f":"AJ10/(AL4-AJ13)","v":0.1111111111111111},{"$f":"IF(AK10=0,0,(AK10*((LOG(AK10))/LOG(2))))","v":-0.3522138890491458},null,{"$f":"N10","v":122},{"$f":"COUNTIF(L126:L155,AN10)","v":1},{"$f":"AO10/(AQ4-AO13)","v":3.7037037037037035E-2},{"$f":"IF(AP10=0,0,(AP10*((LOG(AP10))/LOG(2))))","v":-0.1761069445245729},null,{"$f":"N10","v":122},{"$f":"COUNTIF(L156:L185,AS10)","v":2},{"$f":"AT10/(AV4-AT13)","v":0.08},{"$f":"IF(AU10=0,0,(AU10*((LOG(AU10))/LOG(2))))","v":-0.29150849518197797}]
[21,493,21,519,22,523,null,null,null,null,0,222,null,211,{"$f":"COUNTIF($L$7:$L$500,N11)","v":5},{"$f":"O11/$Q$4","v":2.7932960893854747E-2},{"$f":"IF(P11=0,0,(P11*((LOG(P11))/LOG(2))))","v":-0.14418680677030429},null,null,{"$f":"N11","v":211},{"$f":"COUNTIF(L7:L36,T11)","v":3},{"$f":"U11/(W4-U13)","v":0.10714285714285714},{"$f":"IF(V11=0,0,(V11*((LOG(V11))/LOG(2))))","v":-0.34525633085747659},null,{"$f":"N11","v":211},{"$f":"COUNTIF(L37:L66,Y11)","v":0},{"$f":"Z11/(AB4-Z13)","v":0},{"$f":"IF(AA11=0,0,(AA11*((LOG(AA11))/LOG(2))))","v":0},null,{"$f":"N11","v":211},{"$f":"COUNTIF(L67:L95,AD11)","v":0},{"$f":"AE11/(AG4-AE13)","v":0},{"$f":"IF(AF11=0,0,(AF11*((LOG(AF11))/LOG(2))))","v":0},null,{"$f":"N11","v":211},{"$f":"COUNTIF(L96:L125,AI11)","v":0},{"$f":"AJ11/(AL4-AJ13)","v":0},{"$f":"IF(AK11=0,0,(AK11*((LOG(AK11))/LOG(2))))","v":0},null,{"$f":"N11","v":211},{"$f":"COUNTIF(L126:L155,AN11)","v":0},{"$f":"AO11/(AQ4-AO13)","v":0},{"$f":"IF(AP11=0,0,(AP11*((LOG(AP11))/LOG(2))))","v":0},null,{"$f":"N11","v":211},{"$f":"COUNTIF(L156:L185,AS11)","v":2},{"$f":"AT11/(AV4-AT13)","v":0.08},{"$f":"IF(AU11=0,0,(AU11*((LOG(AU11))/LOG(2))))","v":-0.29150849518197797}]
[21,618,21,660,22,693,null,null,null,null,0,222,null,212,{"$f":"COUNTIF($L$7:$L$500,N12)","v":10},{"$f":"O12/$Q$4","v":5.5865921787709494E-2},{"$f":"IF(P12=0,0,(P12*((LOG(P12))/LOG(2))))","v":-0.23250769175289909},null,null,{"$f":"N12","v":212},{"$f":"COUNTIF(L7:L36,T12)","v":2},{"$f":"U12/(W4-U13)","v":7.1428571428571425E-2},{"$f":"IF(V12=0,0,(V12*((LOG(V12))/LOG(2))))","v":-0.27195392300411453},null,{"$f":"N12","v":212},{"$f":"COUNTIF(L37:L66,Y12)","v":1},{"$f":"Z12/(AB4-Z13)","v":3.5714285714285712E-2},{"$f":"IF(AA12=0,0,(AA12*((LOG(AA12))/LOG(2))))","v":-0.17169124721634299},null,{"$f":"N12","v":212},{"$f":"COUNTIF(L67:L95,AD12)","v":1},{"$f":"AE12/(AG4-AE13)","v":3.5714285714285712E-2},{"$f":"IF(AF12=0,0,(AF12*((LOG(AF12))/LOG(2))))","v":-0.17169124721634299},null,{"$f":"N12","v":212},{"$f":"COUNTIF(L96:L125,AI12)","v":0},{"$f":"AJ12/(AL4-AJ13)","v":0},{"$f":"IF(AK12=0,0,(AK12*((LOG(AK12))/LOG(2))))","v":0},null,{"$f":"N12","v":212},{"$f":"COUNTIF(L126:L155,AN12)","v":2},{"$f":"AO12/(AQ4-AO13)","v":7.407407407407407E-2},{"$f":"IF(AP12=0,0,(AP12*((LOG(AP12))/LOG(2))))","v":-0.27813981497507173},null,{"$f":"N12","v":212},{"$f":"COUNTIF(L156:L185,AS12)","v":4},{"$f":"AT12/(AV4-AT13)","v":0.16},{"$f":"IF(AU12=0,0,(AU12*((LOG(AU12))/LOG(2))))","v":-0.42301699036395596}]
[21,790,12,806,24,807,null,null,null,null,0,212,null,221,{"$f":"COUNTIF($L$7:$L$500,N13)","v":16},{"$f":"O13/$Q$4","v":8.9385474860335198E-2},{"$f":"IF(P13=0,0,(P13*((LOG(P13))/LOG(2))))","v":-0.31140252757669329},null,null,{"$f":"N13","v":221},{"$f":"COUNTIF(L7:L36,T13)","v":2},null,null,null,{"$f":"N13","v":221},{"$f":"COUNTIF(L37:L66,Y13)","v":2},null,null,null,{"$f":"N13","v":221},{"$f":"COUNTIF(L67:L95,AD13)","v":1},null,null,null,{"$f":"N13","v":221},{"$f":"COUNTIF(L96:L125,AI13)","v":3},null,null,null,{"$f":"N13","v":221},{"$f":"COUNTIF(L126:L155,AN13)","v":3},null,null,null,{"$f":"N13","v":221},{"$f":"COUNTIF(L156:L185,AS13)","v":5}]
[21,904,12,907,13,911,null,null,null,null,0,211,null,222,{"$f":"COUNTIF($L$7:$L$500,N14)","v":114},{"$f":"O14/$Q$4","v":0.63687150837988826},{"$f":"IF(P14=0,0,(P14*((LOG(P14))/LOG(2))))","v":-0.41455607258851773},null,null,{"$f":"N14","v":222},{"$f":"COUNTIF(L7:L36,T14)","v":19},{"$f":"U14/(W4-U13)","v":0.6785714285714286},{"$f":"IF(V14=0,0,(V14*((LOG(V14))/LOG(2))))","v":-0.37961145584522688},null,{"$f":"N14","v":222},{"$f":"COUNTIF(L37:L66,Y14)","v":25},{"$f":"Z14/(AB4-Z13)","v":0.8928571428571429},{"$f":"IF(AA14=0,0,(AA14*((LOG(AA14))/LOG(2))))","v":-0.14598101096685656},null,{"$f":"N14","v":222},{"$f":"COUNTIF(L67:L95,AD14)","v":24},{"$f":"AE14/(AG4-AE13)","v":0.8571428571428571},{"$f":"IF(AF14=0,0,(AF14*((LOG(AF14))/LOG(2))))","v":-0.19062207543124113},null,{"$f":"N14","v":222},{"$f":"COUNTIF(L96:L125,AI14)","v":12},{"$f":"AJ14/(AL4-AJ13)","v":0.44444444444444442},{"$f":"IF(AK14=0,0,(AK14*((LOG(AK14))/LOG(2))))","v":-0.51996666730769447},null,{"$f":"N14","v":222},{"$f":"COUNTIF(L126:L155,AN14)","v":22},{"$f":"AO14/(AQ4-AO13)","v":0.81481481481481477},{"$f":"IF(AP14=0,0,(AP14*((LOG(AP14))/LOG(2))))","v":-0.24074183102132479},null,{"$f":"N14","v":222},{"$f":"COUNTIF(L156:L185,AS14)","v":12},{"$f":"AT14/(AV4-AT13)","v":0.48},{"$f":"IF(AU14=0,0,(AU14*((LOG(AU14))/LOG(2))))","v":-0.50826897074571287}]
[21,1007,21,1071,22,1076,null,null,null,null,0,222,null,null,null,{"$f":"SUM(P7:P14)","v":1},{"$f":"-SUM(Q7:Q14)","v":1.8948408566046087},null,null,null,null,{"$f":"SUM(V7:V14)","v":1},{"$f":"-SUM(W7:W14)","v":1.5137692877806375},null,null,null,{"$f":"SUM(AA7:AA14)","v":1},{"$f":"-SUM(AB7:AB14)","v":0.66105475261588553},null,null,null,{"$f":"SUM(AF7:AF14)","v":1},{"$f":"-SUM(AG7:AG14)","v":0.87738706429661306},null,null,null,{"$f":"SUM(AK7:AK14)","v":1},{"$f":"-SUM(AL7:AL14)","v":1.8547481494302036},null,null,null,{"$f":"SUM(AP7:AP14)","v":1},{"$f":"-SUM(AQ7:AQ14)","v":1.0472024795701151},null,null,null,{"$f":"SUM(AU7:AU14)","v":1},{"$f":"-SUM(AV7:AV14)","v":2.1728786893420313}]
[21,1185,21,1189,22,1194,null,null,null,null,0,222,null,null,null,"U=",{"$f":"Q15/(LOG(Q4)/LOG(2))","v":0.2531918092320114},null,null,null,null,"U1=",{"$f":"W15/(LOG(W4)/LOG(2))","v":0.30849868328741703},null,null,null,"U2=",{"$f":"AB15/(LOG(AB4)/LOG(2))","v":0.13471968443875731},null,null,null,"U3=",{"$f":"AG15/(LOG(AG4)/LOG(2))","v":0.18060734802721734},null,null,null,"U4=",{"$f":"AL15/(LOG(AL4)/LOG(2))","v":0.37798848645415756},null,null,null,"U5=",{"$f":"AQ15/(LOG(AQ4)/LOG(2))","v":0.21341467863728644},null,null,null,"U6=",{"$f":"AV15/(LOG(AV4)/LOG(2))","v":0.44282191481641664}]
[21,1290,21,1293,22,1326,null,null,null,null,0,222]
[12,1421,14,1444,13,1447,null,null,null,null,0,111]
[21,1540,21,1543,11,1550,null,null,null,null,0,221,null,"Total Target Seq"]
[12,1668,14,1753,13,1775,null,null,null,null,0,111,null,{"$f":"COUNTIF(L7:L185,G3)","v":16},null,30,30,29,30,30,30]
[21,1866,21,1870,22,1896,null,null,null,null,0,222,null,null,null,"% of reinforcement given in 6 equal intervals based on number of trials "]
[21,1992,12,1997,24,2020,null,null,null,null,0,212,null,null,null,"%_1","%_2","%_3","%_4","%_5","%_6"]
[21,2147,21,2152,22,2159,null,null,null,null,0,222,null,null,"target sequence",{"$f":"$G$3","v":221},{"$f":"$G$3","v":221},{"$f":"$G$3","v":221},{"$f":"$G$3","v":221},{"$f":"$G$3","v":221},{"$f":"$G$3","v":221}]
[21,2255,12,2266,13,2268,null,null,null,null,0,211,null,null,"total reinforcement",{"$f":"U13","v":2},{"$f":"Z13","v":2},{"$f":"AE13","v":1},{"$f":"AJ13","v":3},{"$f":"AO13","v":3},{"$f":"AT13","v":5}]
[21,2365,21,2369,11,2394,null,null,null,null,0,221,null,null,"% target"]
[21,2539,21,2593,22,2604,null,null,null,null,0,222,null,null,"CCRF"]
[21,2700,21,2705,22,2746,null,null,null,null,0,222,null,null,"% CCRf"]
[21,2843,21,2866,22,2868,null,null,null,null,0,222,null,null,"average response rate",{"$f":"F36/P20","v":128.80000000000001},{"$f":"(F66-F36)/Q20","v":147.1},{"$f":"(F95-F66)/R20","v":127.58620689655173},{"$f":"(F125-F95)/S20","v":147.13333333333333},{"$f":"(F155-F125)/T20","v":118.1},{"$f":"(F185-F155)/U20","v":134.26666666666668}]
[21,2962,21,2968,22,3001,null,null,null,null,0,222]
[21,3096,21,3098,22,3124,null,null,null,null,0,222]
[21,3219,21,3222,22,3260,null,null,null,null,0,222]
[21,3356,21,3358,22,3362,null,null,null,null,0,222]
[21,3457,21,3462,22,3502,null,null,null,null,0,222]
[21,3598,21,3601,22,3620,null,null,null,null,0,222]
[21,3718,21,3722,22,3738,null,null,null,null,0,222]
[21,3834,21,3861,22,3864,null,null,null,null,0,222]
[21,3960,12,3965,24,3996,null,null,null,null,0,212]
[21,4114,21,4118,22,4124,null,null,null,null,0,222]
[21,4217,21,4220,22,4223,null,null,null,null,0,222]
[21,4320,21,4336,22,4339,null,null,null,null,0,222]
[12,4430,23,4433,13,4441,null,null,null,null,0,121]
[21,4533,21,4537,22,4539,null,null,null,null,0,222]
[21,4635,21,4669,22,4678,null,null,null,null,0,222]
[21,4782,21,4803,22,4807,null,null,null,null,0,222]
[21,4903,21,4937,22,4945,null,null,null,null,0,222]
[21,5041,21,5045,22,5049,null,null,null,null,0,222]
[21,5145,21,5151,22,5187,null,null,null,null,0,222]
[21,5297,21,5316,22,5319,null,null,null,null,0,222]
[21,5416,21,5418,22,5420,null,null,null,null,0,222]
[21,5514,21,5538,22,5555,null,null,null,null,0,222]
[21,5650,21,5655,22,5662,null,null,null,null,0,222]
[21,5755,21,5760,22,5785,null,null,null,null,0,222]
[21,5876,21,5879,11,5897,null,null,null,null,0,221]
[12,6114,14,6123,24,6429,null,null,null,null,0,112]
[21,6528,21,6548,22,6553,null,null,null,null,0,222]
[21,6651,21,6655,22,6668,null,null,null,null,0,222]
[21,6763,21,6768,22,6793,null,null,null,null,0,222]
[21,6889,21,6891,22,6907,null,null,null,null,0,222]
[21,7004,21,7008,22,7028,null,null,null,null,0,222]
[21,7123,21,7126,22,7129,null,null,null,null,0,222]
[21,7225,21,7229,22,7252,null,null,null,null,0,222]
[21,7347,21,7351,11,7366,null,null,null,null,0,221]
[21,7837,21,7849,22,7877,null,null,null,null,0,222]
[21,7975,21,7978,22,7999,null,null,null,null,0,222]
[21,8096,21,8116,22,8142,null,null,null,null,0,222]
[21,8239,21,8243,22,8277,null,null,null,null,0,222]
[21,8373,21,8405,22,8411,null,null,null,null,0,222]
[21,8507,21,8513,22,8548,null,null,null,null,0,222]
[21,8645,21,8679,22,8683,null,null,null,null,0,222]
[21,8780,21,8815,22,8817,null,null,null,null,0,222]
[21,8914,21,8931,22,8940,null,null,null,null,0,222]
[21,9037,21,9081,22,9084,null,null,null,null,0,222]
[21,9181,21,9186,22,9212,null,null,null,null,0,222]
[21,9308,21,9313,22,9340,null,null,null,null,0,222]
[21,9437,21,9441,22,9467,null,null,null,null,0,222]
[21,9563,21,9567,22,9590,null,null,null,null,0,222]
[21,9685,21,9687,22,9690,null,null,null,null,0,222]
[21,9784,21,9790,22,9797,null,null,null,null,0,222]
[21,9891,21,9902,22,9928,null,null,null,null,0,222]
[12,10023,23,10025,24,10029,null,null,null,null,0,122]
[21,10122,21,10125,22,10160,null,null,null,null,0,222]
[21,10253,21,10277,22,10294,null,null,null,null,0,222]
[21,10390,21,10396,22,10400,null,null,null,null,0,222]
[12,10494,23,10496,13,10501,null,null,null,null,0,121]
[21,10598,21,10603,22,10611,null,null,null,null,0,222]
[21,10707,21,10710,22,10751,null,null,null,null,0,222]
[21,10845,21,10850,22,10875,null,null,null,null,0,222]
[21,10971,21,10996,22,11013,null,null,null,null,0,222]
[21,11109,21,11112,22,11134,null,null,null,null,0,222]
[21,11231,21,11233,22,11266,null,null,null,null,0,222]
[21,11362,21,11382,22,11396,null,null,null,null,0,222]
[21,11492,21,11497,22,11526,null,null,null,null,0,222]
[21,11622,12,11630,24,11641,null,null,null,null,0,212]
[21,11765,21,11768,11,11786,null,null,null,null,0,221]
[12,11962,14,11968,13,11977,null,null,null,null,0,111]
[21,12070,21,12074,22,12089,null,null,null,null,0,222]
[21,12185,21,12191,22,12210,null,null,null,null,0,222]
[21,12321,21,12324,22,12329,null,null,null,null,0,222]
[21,12426,21,12455,11,12461,null,null,null,null,0,221]
[12,12624,14,12652,13,12683,null,null,null,null,0,111]
[12,12935,14,12940,13,12949,null,null,null,null,0,111]
[12,13061,14,13065,24,13108,null,null,null,null,0,112]
[21,13201,21,13204,22,13208,null,null,null,null,0,222]
[21,13319,21,13323,22,13333,null,null,null,null,0,222]
[21,13429,21,13434,22,13453,null,null,null,null,0,222]
[21,13573,21,13596,11,13614,null,null,null,null,0,221]
[12,13722,14,13778,13,13781,null,null,null,null,0,111]
[12,13896,14,13905,13,13963,null,null,null,null,0,111]
[12,14055,14,14059,24,14063,null,null,null,null,0,112]
[21,14160,21,14181,11,14184,null,null,null,null,0,221]
[12,14292,14,14297,13,14312,null,null,null,null,0,111]
[12,14419,14,14483,13,14488,null,null,null,null,0,111]
[12,14582,14,14604,13,14616,null,null,null,null,0,111]
[12,14723,14,14755,13,14805,null,null,null,null,0,111]
[12,14944,14,14950,13,14955,null,null,null,null,0,111]
[12,15234,23,15271,13,15302,null,null,null,null,0,121]
[21,15399,21,15419,22,15424,null,null,null,null,0,222]
[21,15523,21,15553,22,15561,null,null,null,null,0,222]
[21,15655,21,15674,22,15678,null,null,null,null,0,222]
[21,15777,21,15801,22,15806,null,null,null,null,0,222]
[12,15898,23,15901,24,15917,null,null,null,null,0,122]
[21,16013,21,16033,22,16049,null,null,null,null,0,222]
[21,16141,21,16147,22,16161,null,null,null,null,0,222]
[12,16254,23,16259,24,16266,null,null,null,null,0,122]
[12,16367,23,16373,24,16391,null,null,null,null,0,122]
[21,16487,21,16491,22,16495,null,null,null,null,0,222]
[12,16590,23,16593,13,16611,null,null,null,null,0,121]
[21,16705,21,16710,22,16723,null,null,null,null,0,222]
[21,16817,21,16842,11,16853,null,null,null,null,0,221]
[21,16997,21,17001,22,17033,null,null,null,null,0,222]
[21,17129,21,17134,22,17157,null,null,null,null,0,222]
[21,17254,21,17257,22,17274,null,null,null,null,0,222]
[21,17370,21,17373,22,17388,null,null,null,null,0,222]
[21,17484,21,17491,22,17508,null,null,null,null,0,222]
[21,17605,21,17609,22,17623,null,null,null,null,0,222]
[21,17717,21,17719,22,17738,null,null,null,null,0,222]
[21,17833,21,17865,22,17878,null,null,null,null,0,222]
[21,17972,21,17989,22,18012,null,null,null,null,0,222]
[21,18109,21,18112,22,18132,null,null,null,null,0,222]
[21,18224,21,18229,22,18242,null,null,null,null,0,222]
[21,18339,21,18361,22,18366,null,null,null,null,0,222]
[21,18463,21,18465,22,18469,null,null,null,null,0,222]
[21,18562,21,18566,22,18568,null,null,null,null,0,222]
[21,18662,12,18678,24,18682,null,null,null,null,0,212]
[12,18775,23,18779,24,18783,null,null,null,null,0,122]
[21,18881,21,18901,22,18915,null,null,null,null,0,222]
[21,19017,21,19037,22,19041,null,null,null,null,0,222]
[21,19137,21,19156,22,19176,null,null,null,null,0,222]
[21,19270,21,19284,22,19289,null,null,null,null,0,222]
[21,19383,21,19387,22,19401,null,null,null,null,0,222]
[21,19497,21,19500,11,19502,null,null,null,null,0,221]
[12,19594,14,19610,13,19622,null,null,null,null,0,111]
[21,19722,21,19724,22,19725,null,null,null,null,0,222]
[21,19823,12,19825,24,19830,null,null,null,null,0,212]
[21,19927,21,19930,11,19934,null,null,null,null,0,221]
[12,20060,14,20124,24,20188,null,null,null,null,0,112]
[21,20294,21,20297,22,20301,null,null,null,null,0,222]
[21,20396,12,20401,24,20403,null,null,null,null,0,212]
[21,20501,21,20530,22,20545,null,null,null,null,0,222]
[21,20641,12,20657,24,20664,null,null,null,null,0,212]
[21,20760,21,20765,11,20772,null,null,null,null,0,221]
[12,20869,14,20877,13,20932,null,null,null,null,0,111]
[12,21033,23,21035,24,21038,null,null,null,null,0,122]
[21,21135,21,21153,22,21167,null,null,null,null,0,222]
[21,21263,21,21269,22,21275,null,null,null,null,0,222]
[21,21369,21,21371,11,21375,null,null,null,null,0,221]
[12,21465,14,21479,13,21489,null,null,null,null,0,111]
[12,21585,14,21597,24,21609,null,null,null,null,0,112]
[21,21706,21,21712,22,21735,null,null,null,null,0,222]
[21,21827,12,21832,13,21849,null,null,null,null,0,211]
[21,21946,12,21953,24,21969,null,null,null,null,0,212]
[12,22062,23,22067,24,22090,null,null,null,null,0,122]
[21,22184,21,22187,22,22211,null,null,null,null,0,222]
[21,22310,12,22334,24,22341,null,null,null,null,0,212]
[21,22437,21,22440,11,22447,null,null,null,null,0,221]
[21,22709,21,22715,22,22731,null,null,null,null,0,222]
[21,22828,21,22847,22,22852,null,null,null,null,0,222]
[21,22949,21,22969,22,22983,null,null,null,null,0,222]
[21,23080,12,23089,13,23099,null,null,null,null,0,211]
[21,23197,21,23219,22,23222,null,null,null,null,0,222]
[21,23318,21,23322,11,23327,null,null,null,null,0,221]
[21,23553,21,23556,22,23588,null,null,null,null,0,222]
[21,23710,21,23714,22,23727,null,null,null,null,0,222]
[21,23821,21,23827,11,23847,null,null,null,null,0,221]
[12,23936,14,23955,13,23962,null,null,null,null,null,111]

{"sheet":"!MA15A4T.AYL","index":16,"n_rows":117,"n_cols":48,"rows_kept":117,"cut":false,"hidden":false,"merged":[[4,39,4,42],[5,39,5,40],[4,44,4,47],[5,44,5,45],[4,24,4,27],[5,24,5,25],[4,29,4,32],[5,29,5,30],[4,34,4,37],[5,34,5,35],[1,1,1,2],[5,13,5,14],[18,13,18,14],[19,13,19,14],[4,19,4,22],[5,19,5,20]]}
["Report for:!MA15A4T.AYL"]
["Date:","<date>"]
["Hen:","<hen>",null,null,null,"Correct Sequence",{"$f":"Start!J2","v":221},null,null,null,null,null,null,null,null,"Total Sequences in Data",{"$f":"4994-COUNTBLANK(L7:L5000)","v":111},null,null,null,null,"Total Sequences in Block Data",{"$f":"COUNTA(L7:L25)","v":19},null,null,null,"Total Sequences in Block Data",{"$f":"COUNTA(L26:L43)","v":18},null,null,null,"Total Sequences in Block Data",{"$f":"COUNTA(L44:L62)","v":19},null,null,null,"Total Sequences in Block Data",{"$f":"COUNTA(L63:L80)","v":18},null,null,null,"Total Sequences in Block Data",{"$f":"COUNTA(L81:L99)","v":19},null,null,null,"Total Sequences in Block Data",{"$f":"COUNTA(L100:L117)","v":18}]
[null,null,null,null,null,null,null,null,null,null,null,null,null,null,null,"Total Sequences in Summary",{"$f":"SUM(O7:O14)","v":111},null,null,null,null,"Total Sequences in Block Summary",{"$f":"SUM(U7:U14)","v":19},null,null,null,"Total Sequences in Block Summary",{"$f":"SUM(Z7:Z14)","v":18},null,null,null,"Total Sequences in Block Summary",{"$f":"SUM(AE7:AE14)","v":19},null,null,null,"Total Sequences in Block Summary",{"$f":"SUM(AJ7:AJ14)","v":18},null,null,null,"Total Sequences in Block Summary",{"$f":"SUM(AO7:AO14)","v":19},null,null,null,"Total Sequences in Block Summary",{"$f":"SUM(AT7:AT14)","v":18}]
[null,null,null,null,null,null,null,null,null,null,null,null,null,null,null,null,null,null,null,"Block 1",null,null,null,null,"Block 2",null,null,null,null,"Block 3",null,null,null,null,"Block 4",null,null,null,null,"Block 5",null,null,null,null,"Block 6"]
["Sequence\nComponent\n1","Time\n1","Sequence\nComponent\n2","Time\n2","Sequence\nComponent\n3","Time\n3","Sequence\nComponent\n4","Time\n4","Sequence\nComponent\n5","Time\n5","Correct?\n0=No 1=Yes","Sequence",null,"Frequency",null,"Relative Frequency","Variability",null,null,"Frequency",null,"Relative Frequency","Variability",null,"Frequency",null,"Relative Frequency","Variability",null,"Frequency",null,"Relative Frequency","Variability",null,"Frequency",null,"Relative Frequency","Variability",null,"Frequency",null,"Relative Frequency","Variability",null,"Frequency",null,"Relative Frequency","Variability"]
[12,14,23,19,24,24,null,null,null,null,0,122,null,111,{"$f":"COUNTIF($L$7:$L$500,N7)","v":2},{"$f":"O7/$Q$4","v":1.8018018018018018E-2},{"$f":"IF(P7=0,0,(P7*((LOG(P7))/LOG(2))))","v":-0.10440388948378569},null,null,{"$f":"N7","v":111},{"$f":"COUNTIF(L7:L25,T7)","v":0},{"$f":"U7/(W4-U13)","v":0},{"$f":"IF(V7=0,0,(V7*((LOG(V7))/LOG(2))))","v":0},null,{"$f":"N7","v":111},{"$f":"COUNTIF(L26:L43,Y7)","v":1},{"$f":"Z7/(AB4-Z13)","v":8.3333333333333329E-2},{"$f":"IF(AA7=0,0,(AA7*((LOG(AA7))/LOG(2))))","v":-0.29874687506009634},null,{"$f":"N7","v":111},{"$f":"COUNTIF(L44:L62,AD7)","v":0},{"$f":"AE7/(AG4-AE13)","v":0},{"$f":"IF(AF7=0,0,(AF7*((LOG(AF7))/LOG(2))))","v":0},null,{"$f":"N7","v":111},{"$f":"COUNTIF(L63:L80,AI7)","v":1},{"$f":"AJ7/(AL4-AJ13)","v":7.6923076923076927E-2},{"$f":"IF(AK7=0,0,(AK7*((LOG(AK7))/LOG(2))))","v":-0.28464920908777636},null,{"$f":"N7","v":111},{"$f":"COUNTIF(L81:L99,AN7)","v":0},{"$f":"AO7/(AQ4-AO13)","v":0},{"$f":"IF(AP7=0,0,(AP7*((LOG(AP7))/LOG(2))))","v":0},null,{"$f":"N7","v":111},{"$f":"COUNTIF(L100:L117,AS7)","v":0},{"$f":"AT7/(AV4-AT13)","v":0},{"$f":"IF(AU7=0,0,(AU7*((LOG(AU7))/LOG(2))))","v":0}]
[21,120,21,123,11,132,null,null,null,null,0,221,null,112,{"$f":"COUNTIF($L$7:$L$500,N8)","v":0},{"$f":"O8/$Q$4","v":0},{"$f":"IF(P8=0,0,(P8*((LOG(P8))/LOG(2))))","v":0},null,null,{"$f":"N8","v":112},{"$f":"COUNTIF(L7:L25,T8)","v":0},{"$f":"U8/(W4-U13)","v":0},{"$f":"IF(V8=0,0,(V8*((LOG(V8))/LOG(2))))","v":0},null,{"$f":"N8","v":112},{"$f":"COUNTIF(L26:L43,Y8)","v":0},{"$f":"Z8/(AB4-Z13)","v":0},{"$f":"IF(AA8=0,0,(AA8*((LOG(AA8))/LOG(2))))","v":0},null,{"$f":"N8","v":112},{"$f":"COUNTIF(L44:L62,AD8)","v":0},{"$f":"AE8/(AG4-AE13)","v":0},{"$f":"IF(AF8=0,0,(AF8*((LOG(AF8))/LOG(2))))","v":0},null,{"$f":"N8","v":112},{"$f":"COUNTIF(L63:L80,AI8)","v":0},{"$f":"AJ8/(AL4-AJ13)","v":0},{"$f":"IF(AK8=0,0,(AK8*((LOG(AK8))/LOG(2))))","v":0},null,{"$f":"N8","v":112},{"$f":"COUNTIF(L81:L99,AN8)","v":0},{"$f":"AO8/(AQ4-AO13)","v":0},{"$f":"IF(AP8=0,0,(AP8*((LOG(AP8))/LOG(2))))","v":0},null,{"$f":"N8","v":112},{"$f":"COUNTIF(L100:L117,AS8)","v":0},{"$f":"AT8/(AV4-AT13)","v":0},{"$f":"IF(AU8=0,0,(AU8*((LOG(AU8))/LOG(2))))","v":0}]
[21,386,12,398,13,410,null,null,null,null,0,211,null,121,{"$f":"COUNTIF($L$7:$L$500,N9)","v":3},{"$f":"O9/$Q$4","v":2.7027027027027029E-2},{"$f":"IF(P9=0,0,(P9*((LOG(P9))/LOG(2))))","v":-0.14079603690889056},null,null,{"$f":"N9","v":121},{"$f":"COUNTIF(L7:L25,T9)","v":0},{"$f":"U9/(W4-U13)","v":0},{"$f":"IF(V9=0,0,(V9*((LOG(V9))/LOG(2))))","v":0},null,{"$f":"N9","v":121},{"$f":"COUNTIF(L26:L43,Y9)","v":1},{"$f":"Z9/(AB4-Z13)","v":8.3333333333333329E-2},{"$f":"IF(AA9=0,0,(AA9*((LOG(AA9))/LOG(2))))","v":-0.29874687506009634},null,{"$f":"N9","v":121},{"$f":"COUNTIF(L44:L62,AD9)","v":1},{"$f":"AE9/(AG4-AE13)","v":0.1},{"$f":"IF(AF9=0,0,(AF9*((LOG(AF9))/LOG(2))))","v":-0.33219280948873625},null,{"$f":"N9","v":121},{"$f":"COUNTIF(L63:L80,AI9)","v":0},{"$f":"AJ9/(AL4-AJ13)","v":0},{"$f":"IF(AK9=0,0,(AK9*((LOG(AK9))/LOG(2))))","v":0},null,{"$f":"N9","v":121},{"$f":"COUNTIF(L81:L99,AN9)","v":1},{"$f":"AO9/(AQ4-AO13)","v":7.6923076923076927E-2},{"$f":"IF(AP9=0,0,(AP9*((LOG(AP9))/LOG(2))))","v":-0.28464920908777636},null,{"$f":"N9","v":121},{"$f":"COUNTIF(L100:L117,AS9)","v":0},{"$f":"AT9/(AV4-AT13)","v":0},{"$f":"IF(AU9=0,0,(AU9*((LOG(AU9))/LOG(2))))","v":0}]
[21,506,21,508,22,514,null,null,null,null,0,222,null,122,{"$f":"COUNTIF($L$7:$L$500,N10)","v":3},{"$f":"O10/$Q$4","v":2.7027027027027029E-2},{"$f":"IF(P10=0,0,(P10*((LOG(P10))/LOG(2))))","v":-0.14079603690889056},null,null,{"$f":"N10","v":122},{"$f":"COUNTIF(L7:L25,T10)","v":2},{"$f":"U10/(W4-U13)","v":0.18181818181818182},{"$f":"IF(V10=0,0,(V10*((LOG(V10))/LOG(2))))","v":-0.44716938520678134},null,{"$f":"N10","v":122},{"$f":"COUNTIF(L26:L43,Y10)","v":0},{"$f":"Z10/(AB4-Z13)","v":0},{"$f":"IF(AA10=0,0,(AA10*((LOG(AA10))/LOG(2))))","v":0},null,{"$f":"N10","v":122},{"$f":"COUNTIF(L44:L62,AD10)","v":0},{"$f":"AE10/(AG4-AE13)","v":0},{"$f":"IF(AF10=0,0,(AF10*((LOG(AF10))/LOG(2))))","v":0},null,{"$f":"N10","v":122},{"$f":"COUNTIF(L63:L80,AI10)","v":0},{"$f":"AJ10/(AL4-AJ13)","v":0},{"$f":"IF(AK10=0,0,(AK10*((LOG(AK10))/LOG(2))))","v":0},null,{"$f":"N10","v":122},{"$f":"COUNTIF(L81:L99,AN10)","v":0},{"$f":"AO10/(AQ4-AO13)","v":0},{"$f":"IF(AP10=0,0,(AP10*((LOG(AP10))/LOG(2))))","v":0},null,{"$f":"N10","v":122},{"$f":"COUNTIF(L100:L117,AS10)","v":1},{"$f":"AT10/(AV4-AT13)","v":8.3333333333333329E-2},{"$f":"IF(AU10=0,0,(AU10*((LOG(AU10))/LOG(2))))","v":-0.29874687506009634}]
[21,611,12,622,24,630,null,null,null,null,0,212,null,211,{"$f":"COUNTIF($L$7:$L$500,N11)","v":56},{"$f":"O11/$Q$4","v":0.50450450450450446},{"$f":"IF(P11=0,0,(P11*((LOG(P11))/LOG(2))))","v":-0.497976692616037},null,null,{"$f":"N11","v":211},{"$f":"COUNTIF(L7:L25,T11)","v":7},{"$f":"U11/(W4-U13)","v":0.63636363636363635},{"$f":"IF(V11=0,0,(V11*((LOG(V11))/LOG(2))))","v":-0.41495789782344106},null,{"$f":"N11","v":211},{"$f":"COUNTIF(L26:L43,Y11)","v":9},{"$f":"Z11/(AB4-Z13)","v":0.75},{"$f":"IF(AA11=0,0,(AA11*((LOG(AA11))/LOG(2))))","v":-0.31127812445913283},null,{"$f":"N11","v":211},{"$f":"COUNTIF(L44:L62,AD11)","v":8},{"$f":"AE11/(AG4-AE13)","v":0.8},{"$f":"IF(AF11=0,0,(AF11*((LOG(AF11))/LOG(2))))","v":-0.25754247590988982},null,{"$f":"N11","v":211},{"$f":"COUNTIF(L63:L80,AI11)","v":10},{"$f":"AJ11/(AL4-AJ13)","v":0.76923076923076927},{"$f":"IF(AK11=0,0,(AK11*((LOG(AK11))/LOG(2))))","v":-0.29116278711825366},null,{"$f":"N11","v":211},{"$f":"COUNTIF(L81:L99,AN11)","v":11},{"$f":"AO11/(AQ4-AO13)","v":0.84615384615384615},{"$f":"IF(AP11=0,0,(AP11*((LOG(AP11))/LOG(2))))","v":-0.20392993034936494},null,{"$f":"N11","v":211},{"$f":"COUNTIF(L100:L117,AS11)","v":11},{"$f":"AT11/(AV4-AT13)","v":0.91666666666666663},{"$f":"IF(AU11=0,0,(AU11*((LOG(AU11))/LOG(2))))","v":-0.1150699752435374}]
[21,726,21,730,11,741,null,null,null,null,0,221,null,212,{"$f":"COUNTIF($L$7:$L$500,N12)","v":1},{"$f":"O12/$Q$4","v":9.0090090090090089E-3},{"$f":"IF(P12=0,0,(P12*((LOG(P12))/LOG(2))))","v":-6.121095375090186E-2},null,null,{"$f":"N12","v":212},{"$f":"COUNTIF(L7:L25,T12)","v":1},{"$f":"U12/(W4-U13)","v":9.0909090909090912E-2},{"$f":"IF(V12=0,0,(V12*((LOG(V12))/LOG(2))))","v":-0.31449378351248153},null,{"$f":"N12","v":212},{"$f":"COUNTIF(L26:L43,Y12)","v":0},{"$f":"Z12/(AB4-Z13)","v":0},{"$f":"IF(AA12=0,0,(AA12*((LOG(AA12))/LOG(2))))","v":0},null,{"$f":"N12","v":212},{"$f":"COUNTIF(L44:L62,AD12)","v":0},{"$f":"AE12/(AG4-AE13)","v":0},{"$f":"IF(AF12=0,0,(AF12*((LOG(AF12))/LOG(2))))","v":0},null,{"$f":"N12","v":212},{"$f":"COUNTIF(L63:L80,AI12)","v":0},{"$f":"AJ12/(AL4-AJ13)","v":0},{"$f":"IF(AK12=0,0,(AK12*((LOG(AK12))/LOG(2))))","v":0},null,{"$f":"N12","v":212},{"$f":"COUNTIF(L81:L99,AN12)","v":0},{"$f":"AO12/(AQ4-AO13)","v":0},{"$f":"IF(AP12=0,0,(AP12*((LOG(AP12))/LOG(2))))","v":0},null,{"$f":"N12","v":212},{"$f":"COUNTIF(L100:L117,AS12)","v":0},{"$f":"AT12/(AV4-AT13)","v":0},{"$f":"IF(AU12=0,0,(AU12*((LOG(AU12))/LOG(2))))","v":0}]
[21,901,12,912,13,920,null,null,null,null,0,211,null,221,{"$f":"COUNTIF($L$7:$L$500,N13)","v":40},{"$f":"O13/$Q$4","v":0.36036036036036034},{"$f":"IF(P13=0,0,(P13*((LOG(P13))/LOG(2))))","v":-0.53062622395053827},null,null,{"$f":"N13","v":221},{"$f":"COUNTIF(L7:L25,T13)","v":8},null,null,null,{"$f":"N13","v":221},{"$f":"COUNTIF(L26:L43,Y13)","v":6},null,null,null,{"$f":"N13","v":221},{"$f":"COUNTIF(L44:L62,AD13)","v":9},null,null,null,{"$f":"N13","v":221},{"$f":"COUNTIF(L63:L80,AI13)","v":5},null,null,null,{"$f":"N13","v":221},{"$f":"COUNTIF(L81:L99,AN13)","v":6},null,null,null,{"$f":"N13","v":221},{"$f":"COUNTIF(L100:L117,AS13)","v":6}]
[21,1017,21,1020,11,1031,null,null,null,null,0,221,null,222,{"$f":"COUNTIF($L$7:$L$500,N14)","v":6},{"$f":"O14/$Q$4","v":5.4054054054054057E-2},{"$f":"IF(P14=0,0,(P14*((LOG(P14))/LOG(2))))","v":-0.22753801976372701},null,null,{"$f":"N14","v":222},{"$f":"COUNTIF(L7:L25,T14)","v":1},{"$f":"U14/(W4-U13)","v":9.0909090909090912E-2},{"$f":"IF(V14=0,0,(V14*((LOG(V14))/LOG(2))))","v":-0.31449378351248153},null,{"$f":"N14","v":222},{"$f":"COUNTIF(L26:L43,Y14)","v":1},{"$f":"Z14/(AB4-Z13)","v":8.3333333333333329E-2},{"$f":"IF(AA14=0,0,(AA14*((LOG(AA14))/LOG(2))))","v":-0.29874687506009634},null,{"$f":"N14","v":222},{"$f":"COUNTIF(L44:L62,AD14)","v":1},{"$f":"AE14/(AG4-AE13)","v":0.1},{"$f":"IF(AF14=0,0,(AF14*((LOG(AF14))/LOG(2))))","v":-0.33219280948873625},null,{"$f":"N14","v":222},{"$f":"COUNTIF(L63:L80,AI14)","v":2},{"$f":"AJ14/(AL4-AJ13)","v":0.15384615384615385},{"$f":"IF(AK14=0,0,(AK14*((LOG(AK14))/LOG(2))))","v":-0.4154522643293988},null,{"$f":"N14","v":222},{"$f":"COUNTIF(L81:L99,AN14)","v":1},{"$f":"AO14/(AQ4-AO13)","v":7.6923076923076927E-2},{"$f":"IF(AP14=0,0,(AP14*((LOG(AP14))/LOG(2))))","v":-0.28464920908777636},null,{"$f":"N14","v":222},{"$f":"COUNTIF(L100:L117,AS14)","v":0},{"$f":"AT14/(AV4-AT13)","v":0},{"$f":"IF(AU14=0,0,(AU14*((LOG(AU14))/LOG(2))))","v":0}]
[21,1230,12,1241,13,1245,null,null,null,null,0,211,null,null,null,{"$f":"SUM(P7:P14)","v":1},{"$f":"-SUM(Q7:Q14)","v":1.7033478533827711},null,null,null,null,{"$f":"SUM(V7:V14)","v":1},{"$f":"-SUM(W7:W14)","v":1.4911148500551854},null,null,null,{"$f":"SUM(AA7:AA14)","v":1},{"$f":"-SUM(AB7:AB14)","v":1.207518749639422},null,null,null,{"$f":"SUM(AF7:AF14)","v":1},{"$f":"-SUM(AG7:AG14)","v":0.92192809488736227},null,null,null,{"$f":"SUM(AK7:AK14)","v":1},{"$f":"-SUM(AL7:AL14)","v":0.99126426053542871},null,null,null,{"$f":"SUM(AP7:AP14)","v":1},{"$f":"-SUM(AQ7:AQ14)","v":0.77322834852491762},null,null,null,{"$f":"SUM(AU7:AU14)","v":1},{"$f":"-SUM(AV7:AV14)","v":0.41381685030363374}]
[21,1339,21,1342,11,1351,null,null,null,null,0,221,null,null,null,"U=",{"$f":"Q15/(LOG(Q4)/LOG(2))","v":0.25069820377329843},null,null,null,null,"U1=",{"$f":"W15/(LOG(W4)/LOG(2))","v":0.35102172655634895},null,null,null,"U2=",{"$f":"AB15/(LOG(AB4)/LOG(2))","v":0.28957804977829577},null,null,null,"U3=",{"$f":"AG15/(LOG(AG4)/LOG(2))","v":0.21703009101960891},null,null,null,"U4=",{"$f":"AL15/(LOG(AL4)/LOG(2))","v":0.23771752733983606},null,null,null,"U5=",{"$f":"AQ15/(LOG(AQ4)/LOG(2))","v":0.18202484531053109},null,null,null,"U6=",{"$f":"AV15/(LOG(AV4)/LOG(2))","v":9.9238439578769627E-2}]
[21,1552,21,1554,11,1563,null,null,null,null,0,221]
[21,2010,12,2021,13,2028,null,null,null,null,0,211]
[21,2123,21,2126,11,2134,null,null,null,null,0,221,null,"Total Target Seq"]
[12,2285,23,2292,24,2296,null,null,null,null,0,122,null,{"$f":"COUNTIF(L7:L117,G3)","v":40},null,19,18,19,18,19,18]
[21,2393,12,2401,13,2407,null,null,null,null,0,211,null,null,null,"% of reinforcement given in 6 equal intervals based on number of trials "]
[21,2503,21,2507,11,2514,null,null,null,null,0,221,null,null,null,"%_1","%_2","%_3","%_4","%_5","%_6"]
[21,2698,21,2700,11,2709,null,null,null,null,0,221,null,null,"target sequence",{"$f":"$G$3","v":221},{"$f":"$G$3","v":221},{"$f":"$G$3","v":221},{"$f":"$G$3","v":221},{"$f":"$G$3","v":221},{"$f":"$G$3","v":221}]
[21,2845,12,2856,13,2863,null,null,null,null,0,211,null,null,"total reinforcement",{"$f":"U13","v":8},{"$f":"Z13","v":6},{"$f":"AE13","v":9},{"$f":"AJ13","v":5},{"$f":"AO13","v":6},{"$f":"AT13","v":6}]
[21,2962,12,2971,13,2975,null,null,null,null,0,211,null,null,"% target"]
[21,3071,21,3074,11,3081,null,null,null,null,0,221,null,null,"CCRF"]
[12,3543,23,3552,13,3554,null,null,null,null,0,121,null,null,"% CCRf"]
[21,3650,12,3661,13,3668,null,null,null,null,0,211,null,null,"average response rate",{"$f":"F25/P20","v":156.57894736842104},{"$f":"(F43-F25)/Q20","v":142.61111111111111},{"$f":"(F62-F43)/R20","v":164.78947368421052},{"$f":"(F80-F62)/S20","v":125.88888888888889},{"$f":"(F99-F80)/T20","v":242.57894736842104},{"$f":"(F117-F99)/U20","v":172.77777777777777}]
[21,3764,12,3772,13,3781,null,null,null,null,0,211]
[21,3877,12,3885,13,3892,null,null,null,null,0,211]
[21,3988,21,3991,11,3999,null,null,null,null,0,221]
[21,4093,12,4104,13,4112,null,null,null,null,0,211]
[21,4209,12,4222,13,4230,null,null,null,null,0,211]
[21,4325,21,4330,22,4333,null,null,null,null,0,222]
[21,4429,12,4437,13,4440,null,null,null,null,0,211]
[21,4534,12,4543,13,4550,null,null,null,null,0,211]
[21,4645,21,4649,11,4660,null,null,null,null,0,221]
[12,4814,14,4823,13,4829,null,null,null,null,0,111]
[21,4921,21,4924,11,4937,null,null,null,null,0,221]
[21,5030,21,5033,11,5042,null,null,null,null,0,221]
[21,5298,12,5312,13,5320,null,null,null,null,0,211]
[21,5416,12,5425,13,5432,null,null,null,null,0,211]
[21,5528,21,5532,11,5542,null,null,null,null,0,221]
[21,5723,12,5733,13,5739,null,null,null,null,0,211]
[21,5833,12,5842,13,5848,null,null,null,null,0,211]
[21,5944,21,5949,11,5955,null,null,null,null,0,221]
[21,6115,21,6118,11,6127,null,null,null,null,0,221]
[21,6291,12,6301,13,6313,null,null,null,null,0,211]
[21,6410,21,6413,11,6420,null,null,null,null,0,221]
[12,6644,23,6939,13,6953,null,null,null,null,0,121]
[21,7057,12,7067,13,7074,null,null,null,null,0,211]
[21,7169,21,7175,11,7182,null,null,null,null,0,221]
[21,7276,21,7279,11,7287,null,null,null,null,0,221]
[21,7592,12,7602,13,7605,null,null,null,null,0,211]
[21,7697,21,7700,11,7713,null,null,null,null,0,221]
[21,7814,21,7817,11,7825,null,null,null,null,0,221]
[21,7981,12,7989,13,7990,null,null,null,null,0,211]
[21,8086,12,8102,13,8115,null,null,null,null,0,211]
[21,8212,21,8214,11,8224,null,null,null,null,0,221]
[21,8314,12,8324,13,8329,null,null,null,null,0,211]
[21,8422,21,8426,11,8436,null,null,null,null,0,221]
[21,8649,21,8665,22,8673,null,null,null,null,0,222]
[21,8769,12,8777,13,8783,null,null,null,null,0,211]
[21,8879,21,8883,11,8891,null,null,null,null,0,221]
[21,9020,12,9033,13,9035,null,null,null,null,0,211]
[21,9131,12,9146,13,9154,null,null,null,null,0,211]
[21,9250,12,9263,13,9271,null,null,null,null,0,211]
[21,9363,21,9365,11,9378,null,null,null,null,0,221]
[21,9506,12,9515,13,9521,null,null,null,null,0,211]
[21,9617,12,9628,13,9636,null,null,null,null,0,211]
[21,9733,21,9737,11,9744,null,null,null,null,0,221]
[12,9843,14,9846,13,9853,null,null,null,null,0,111]
[21,9983,21,9985,22,9988,null,null,null,null,0,222]
[21,10084,21,10088,11,10095,null,null,null,null,0,221]
[21,10357,12,10365,13,10369,null,null,null,null,0,211]
[21,10463,21,10465,11,10477,null,null,null,null,0,221]
[21,10577,12,10586,13,10594,null,null,null,null,0,211]
[21,10690,12,10702,13,10711,null,null,null,null,0,211]
[21,10802,21,10806,22,10809,null,null,null,null,0,222]
[21,10905,12,10915,13,10939,null,null,null,null,0,211]
[21,11035,21,11039,11,11046,null,null,null,null,0,221]
[21,11567,12,11580,13,11582,null,null,null,null,0,211]
[21,11678,21,11682,11,11690,null,null,null,null,0,221]
[21,11786,21,11791,22,11794,null,null,null,null,0,222]
[21,11890,12,11899,13,11903,null,null,null,null,0,211]
[21,11998,12,12009,13,12015,null,null,null,null,0,211]
[21,12110,12,12120,13,12128,null,null,null,null,0,211]
[21,12223,21,12227,11,12234,null,null,null,null,0,221]
[21,13452,12,13459,13,13470,null,null,null,null,0,211]
[21,13564,21,13566,11,13577,null,null,null,null,0,221]
[21,14412,12,14420,13,14426,null,null,null,null,0,211]
[21,14523,12,14532,13,14537,null,null,null,null,0,211]
[21,14633,12,14644,13,14650,null,null,null,null,0,211]
[21,14745,21,14749,11,14756,null,null,null,null,0,221]
[21,14856,12,14868,13,14875,null,null,null,null,0,211]
[21,14970,21,14971,11,14983,null,null,null,null,0,221]
[21,15278,12,15286,13,15299,null,null,null,null,0,211]
[12,15423,23,15426,13,15429,null,null,null,null,0,121]
[21,15525,12,15541,13,15548,null,null,null,null,0,211]
[21,15642,21,15645,11,15656,null,null,null,null,0,221]
[21,15792,21,15794,11,15804,null,null,null,null,0,221]
[21,15991,12,15999,13,16001,null,null,null,null,0,211]
[21,16116,12,16124,13,16128,null,null,null,null,0,211]
[21,16223,12,16232,13,16239,null,null,null,null,0,211]
[21,16334,12,16343,13,16352,null,null,null,null,0,211]
[21,16447,12,16457,13,16467,null,null,null,null,0,211]
[21,16561,12,16574,13,16581,null,null,null,null,0,211]
[21,16678,21,16682,11,16690,null,null,null,null,0,221]
[21,16876,12,16883,13,16886,null,null,null,null,0,211]
[21,16982,12,16994,13,17002,null,null,null,null,0,211]
[21,17097,21,17101,11,17112,null,null,null,null,0,221]
[21,17486,12,17497,13,17507,null,null,null,null,0,211]
[21,17610,12,17622,13,17627,null,null,null,null,0,211]
[21,17722,12,17732,13,17735,null,null,null,null,0,211]
[21,17831,21,17837,11,17848,null,null,null,null,0,221]
[12,18539,23,18550,24,18554,null,null,null,null,0,122]
[21,18649,21,18652,11,18658,null,null,null,null,1,221]

{"sheet":"!MA1692T.AYL","index":17,"n_rows":181,"n_cols":48,"rows_kept":181,"cut":false,"hidden":false,"merged":[[4,39,4,42],[5,39,5,40],[4,44,4,47],[5,44,5,45],[4,24,4,27],[5,24,5,25],[4,29,4,32],[5,29,5,30],[4,34,4,37],[5,34,5,35],[1,1,1,2],[5,13,5,14],[18,13,18,14],[19,13,19,14],[4,19,4,22],[5,19,5,20]]}
["Report for:!MA1692T.AYL"]
["Date:","<date>"]
["Hen:","<hen>",null,null,null,"Correct Sequence",{"$f":"Start!J2","v":221},null,null,null,null,null,null,null,null,"Total Sequences in Data",{"$f":"4994-COUNTBLANK(L7:L5000)","v":175},null,null,null,null,"Total Sequences in Block Data",{"$f":"COUNTA(L7:L35)","v":29},null,null,null,"Total Sequences in Block Data",{"$f":"COUNTA(L36:L64)","v":29},null,null,null,"Total Sequences in Block Data",{"$f":"COUNTA(L65:L94)","v":30},null,null,null,"Total Sequences in Block Data",{"$f":"COUNTA(L95:L123)","v":29},null,null,null,"Total Sequences in Block Data",{"$f":"COUNTA(L124:L152)","v":29},null,null,null,"Total Sequences in Block Data",{"$f":"COUNTA(L153:L181)","v":29}]
[null,null,null,null,null,null,null,null,null,null,null,null,null,null,null,"Total Sequences in Summary",{"$f":"SUM(O7:O14)","v":175},null,null,null,null,"Total Sequences in Block Summary",{"$f":"SUM(U7:U14)","v":29},null,null,null,"Total Sequences in Block Summary",{"$f":"SUM(Z7:Z14)","v":29},null,null,null,"Total Sequences in Block Summary",{"$f":"SUM(AE7:AE14)","v":30},null,null,null,"Total Sequences in Block Summary",{"$f":"SUM(AJ7:AJ14)","v":29},null,null,null,"Total Sequences in Block Summary",{"$f":"SUM(AO7:AO14)","v":29},null,null,null,"Total Sequences in Block Summary",{"$f":"SUM(AT7:AT14)","v":29}]
[null,null,null,null,null,null,null,null,null,null,null,null,null,null,null,null,null,null,null,"Block 1",null,null,null,null,"Block 2",null,null,null,null,"Block 3",null,null,null,null,"Block 4",null,null,null,null,"Block 5",null,null,null,null,"Block 6"]
["Sequence\nComponent\n1","Time\n1","Sequence\nComponent\n2","Time\n2","Sequence\nComponent\n3","Time\n3","Sequence\nComponent\n4","Time\n4","Sequence\nComponent\n5","Time\n5","Correct?\n0=No 1=Yes","Sequence",null,"Frequency",null,"Relative Frequency","Variability",null,null,"Frequency",null,"Relative Frequency","Variability",null,"Frequency",null,"Relative Frequency","Variability",null,"Frequency",null,"Relative Frequency","Variability",null,"Frequency",null,"Relative Frequency","Variability",null,"Frequency",null,"Relative Frequency","Variability",null,"Frequency",null,"Relative Frequency","Variability"]
[21,33,21,38,22,46,null,null,null,null,0,222,null,111,{"$f":"COUNTIF($L$7:$L$500,N7)","v":20},{"$f":"O7/$Q$4","v":0.11428571428571428},{"$f":"IF(P7=0,0,(P7*((LOG(P7))/LOG(2))))","v":-0.35763234479371042},null,null,{"$f":"N7","v":111},{"$f":"COUNTIF(L7:L35,T7)","v":8},{"$f":"U7/(W4-U13)","v":0.32},{"$f":"IF(V7=0,0,(V7*((LOG(V7))/LOG(2))))","v":-0.52603398072791185},null,{"$f":"N7","v":111},{"$f":"COUNTIF(L36:L64,Y7)","v":3},{"$f":"Z7/(AB4-Z13)","v":0.10714285714285714},{"$f":"IF(AA7=0,0,(AA7*((LOG(AA7))/LOG(2))))","v":-0.34525633085747659},null,{"$f":"N7","v":111},{"$f":"COUNTIF(L65:L94,AD7)","v":3},{"$f":"AE7/(AG4-AE13)","v":0.1111111111111111},{"$f":"IF(AF7=0,0,(AF7*((LOG(AF7))/LOG(2))))","v":-0.3522138890491458},null,{"$f":"N7","v":111},{"$f":"COUNTIF(L95:L123,AI7)","v":3},{"$f":"AJ7/(AL4-AJ13)","v":0.13043478260869565},{"$f":"IF(AK7=0,0,(AK7*((LOG(AK7))/LOG(2))))","v":-0.3832955811307639},null,{"$f":"N7","v":111},{"$f":"COUNTIF(L124:L152,AN7)","v":1},{"$f":"AO7/(AQ4-AO13)","v":0.04},{"$f":"IF(AP7=0,0,(AP7*((LOG(AP7))/LOG(2))))","v":-0.18575424759098899},null,{"$f":"N7","v":111},{"$f":"COUNTIF(L153:L181,AS7)","v":2},{"$f":"AT7/(AV4-AT13)","v":7.407407407407407E-2},{"$f":"IF(AU7=0,0,(AU7*((LOG(AU7))/LOG(2))))","v":-0.27813981497507173}]
[21,143,21,167,22,171,null,null,null,null,0,222,null,112,{"$f":"COUNTIF($L$7:$L$500,N8)","v":2},{"$f":"O8/$Q$4","v":1.1428571428571429E-2},{"$f":"IF(P8=0,0,(P8*((LOG(P8))/LOG(2))))","v":-7.3728126992369469E-2},null,null,{"$f":"N8","v":112},{"$f":"COUNTIF(L7:L35,T8)","v":0},{"$f":"U8/(W4-U13)","v":0},{"$f":"IF(V8=0,0,(V8*((LOG(V8))/LOG(2))))","v":0},null,{"$f":"N8","v":112},{"$f":"COUNTIF(L36:L64,Y8)","v":0},{"$f":"Z8/(AB4-Z13)","v":0},{"$f":"IF(AA8=0,0,(AA8*((LOG(AA8))/LOG(2))))","v":0},null,{"$f":"N8","v":112},{"$f":"COUNTIF(L65:L94,AD8)","v":1},{"$f":"AE8/(AG4-AE13)","v":3.7037037037037035E-2},{"$f":"IF(AF8=0,0,(AF8*((LOG(AF8))/LOG(2))))","v":-0.1761069445245729},null,{"$f":"N8","v":112},{"$f":"COUNTIF(L95:L123,AI8)","v":0},{"$f":"AJ8/(AL4-AJ13)","v":0},{"$f":"IF(AK8=0,0,(AK8*((LOG(AK8))/LOG(2))))","v":0},null,{"$f":"N8","v":112},{"$f":"COUNTIF(L124:L152,AN8)","v":1},{"$f":"AO8/(AQ4-AO13)","v":0.04},{"$f":"IF(AP8=0,0,(AP8*((LOG(AP8))/LOG(2))))","v":-0.18575424759098899},null,{"$f":"N8","v":112},{"$f":"COUNTIF(L153:L181,AS8)","v":0},{"$f":"AT8/(AV4-AT13)","v":0},{"$f":"IF(AU8=0,0,(AU8*((LOG(AU8))/LOG(2))))","v":0}]
[21,266,12,271,24,285,null,null,null,null,0,212,null,121,{"$f":"COUNTIF($L$7:$L$500,N9)","v":2},{"$f":"O9/$Q$4","v":1.1428571428571429E-2},{"$f":"IF(P9=0,0,(P9*((LOG(P9))/LOG(2))))","v":-7.3728126992369469E-2},null,null,{"$f":"N9","v":121},{"$f":"COUNTIF(L7:L35,T9)","v":0},{"$f":"U9/(W4-U13)","v":0},{"$f":"IF(V9=0,0,(V9*((LOG(V9))/LOG(2))))","v":0},null,{"$f":"N9","v":121},{"$f":"COUNTIF(L36:L64,Y9)","v":1},{"$f":"Z9/(AB4-Z13)","v":3.5714285714285712E-2},{"$f":"IF(AA9=0,0,(AA9*((LOG(AA9))/LOG(2))))","v":-0.17169124721634299},null,{"$f":"N9","v":121},{"$f":"COUNTIF(L65:L94,AD9)","v":0},{"$f":"AE9/(AG4-AE13)","v":0},{"$f":"IF(AF9=0,0,(AF9*((LOG(AF9))/LOG(2))))","v":0},null,{"$f":"N9","v":121},{"$f":"COUNTIF(L95:L123,AI9)","v":0},{"$f":"AJ9/(AL4-AJ13)","v":0},{"$f":"IF(AK9=0,0,(AK9*((LOG(AK9))/LOG(2))))","v":0},null,{"$f":"N9","v":121},{"$f":"COUNTIF(L124:L152,AN9)","v":1},{"$f":"AO9/(AQ4-AO13)","v":0.04},{"$f":"IF(AP9=0,0,(AP9*((LOG(AP9))/LOG(2))))","v":-0.18575424759098899},null,{"$f":"N9","v":121},{"$f":"COUNTIF(L153:L181,AS9)","v":0},{"$f":"AT9/(AV4-AT13)","v":0},{"$f":"IF(AU9=0,0,(AU9*((LOG(AU9))/LOG(2))))","v":0}]
[21,381,21,396,22,401,null,null,null,null,0,222,null,122,{"$f":"COUNTIF($L$7:$L$500,N10)","v":7},{"$f":"O10/$Q$4","v":0.04},{"$f":"IF(P10=0,0,(P10*((LOG(P10))/LOG(2))))","v":-0.18575424759098899},null,null,{"$f":"N10","v":122},{"$f":"COUNTIF(L7:L35,T10)","v":0},{"$f":"U10/(W4-U13)","v":0},{"$f":"IF(V10=0,0,(V10*((LOG(V10))/LOG(2))))","v":0},null,{"$f":"N10","v":122},{"$f":"COUNTIF(L36:L64,Y10)","v":1},{"$f":"Z10/(AB4-Z13)","v":3.5714285714285712E-2},{"$f":"IF(AA10=0,0,(AA10*((LOG(AA10))/LOG(2))))","v":-0.17169124721634299},null,{"$f":"N10","v":122},{"$f":"COUNTIF(L65:L94,AD10)","v":0},{"$f":"AE10/(AG4-AE13)","v":0},{"$f":"IF(AF10=0,0,(AF10*((LOG(AF10))/LOG(2))))","v":0},null,{"$f":"N10","v":122},{"$f":"COUNTIF(L95:L123,AI10)","v":2},{"$f":"AJ10/(AL4-AJ13)","v":8.6956521739130432E-2},{"$f":"IF(AK10=0,0,(AK10*((LOG(AK10))/LOG(2))))","v":-0.30639669183104457},null,{"$f":"N10","v":122},{"$f":"COUNTIF(L124:L152,AN10)","v":2},{"$f":"AO10/(AQ4-AO13)","v":0.08},{"$f":"IF(AP10=0,0,(AP10*((LOG(AP10))/LOG(2))))","v":-0.29150849518197797},null,{"$f":"N10","v":122},{"$f":"COUNTIF(L153:L181,AS10)","v":2},{"$f":"AT10/(AV4-AT13)","v":7.407407407407407E-2},{"$f":"IF(AU10=0,0,(AU10*((LOG(AU10))/LOG(2))))","v":-0.27813981497507173}]
[21,495,12,502,24,512,null,null,null,null,0,212,null,211,{"$f":"COUNTIF($L$7:$L$500,N11)","v":7},{"$f":"O11/$Q$4","v":0.04},{"$f":"IF(P11=0,0,(P11*((LOG(P11))/LOG(2))))","v":-0.18575424759098899},null,null,{"$f":"N11","v":211},{"$f":"COUNTIF(L7:L35,T11)","v":0},{"$f":"U11/(W4-U13)","v":0},{"$f":"IF(V11=0,0,(V11*((LOG(V11))/LOG(2))))","v":0},null,{"$f":"N11","v":211},{"$f":"COUNTIF(L36:L64,Y11)","v":1},{"$f":"Z11/(AB4-Z13)","v":3.5714285714285712E-2},{"$f":"IF(AA11=0,0,(AA11*((LOG(AA11))/LOG(2))))","v":-0.17169124721634299},null,{"$f":"N11","v":211},{"$f":"COUNTIF(L65:L94,AD11)","v":1},{"$f":"AE11/(AG4-AE13)","v":3.7037037037037035E-2},{"$f":"IF(AF11=0,0,(AF11*((LOG(AF11))/LOG(2))))","v":-0.1761069445245729},null,{"$f":"N11","v":211},{"$f":"COUNTIF(L95:L123,AI11)","v":1},{"$f":"AJ11/(AL4-AJ13)","v":4.3478260869565216E-2},{"$f":"IF(AK11=0,0,(AK11*((LOG(AK11))/LOG(2))))","v":-0.19667660678508753},null,{"$f":"N11","v":211},{"$f":"COUNTIF(L124:L152,AN11)","v":2},{"$f":"AO11/(AQ4-AO13)","v":0.08},{"$f":"IF(AP11=0,0,(AP11*((LOG(AP11))/LOG(2))))","v":-0.29150849518197797},null,{"$f":"N11","v":211},{"$f":"COUNTIF(L153:L181,AS11)","v":2},{"$f":"AT11/(AV4-AT13)","v":7.407407407407407E-2},{"$f":"IF(AU11=0,0,(AU11*((LOG(AU11))/LOG(2))))","v":-0.27813981497507173}]
[21,606,21,628,22,632,null,null,null,null,0,222,null,212,{"$f":"COUNTIF($L$7:$L$500,N12)","v":20},{"$f":"O12/$Q$4","v":0.11428571428571428},{"$f":"IF(P12=0,0,(P12*((LOG(P12))/LOG(2))))","v":-0.35763234479371042},null,null,{"$f":"N12","v":212},{"$f":"COUNTIF(L7:L35,T12)","v":5},{"$f":"U12/(W4-U13)","v":0.2},{"$f":"IF(V12=0,0,(V12*((LOG(V12))/LOG(2))))","v":-0.46438561897747244},null,{"$f":"N12","v":212},{"$f":"COUNTIF(L36:L64,Y12)","v":1},{"$f":"Z12/(AB4-Z13)","v":3.5714285714285712E-2},{"$f":"IF(AA12=0,0,(AA12*((LOG(AA12))/LOG(2))))","v":-0.17169124721634299},null,{"$f":"N12","v":212},{"$f":"COUNTIF(L65:L94,AD12)","v":3},{"$f":"AE12/(AG4-AE13)","v":0.1111111111111111},{"$f":"IF(AF12=0,0,(AF12*((LOG(AF12))/LOG(2))))","v":-0.3522138890491458},null,{"$f":"N12","v":212},{"$f":"COUNTIF(L95:L123,AI12)","v":3},{"$f":"AJ12/(AL4-AJ13)","v":0.13043478260869565},{"$f":"IF(AK12=0,0,(AK12*((LOG(AK12))/LOG(2))))","v":-0.3832955811307639},null,{"$f":"N12","v":212},{"$f":"COUNTIF(L124:L152,AN12)","v":4},{"$f":"AO12/(AQ4-AO13)","v":0.16},{"$f":"IF(AP12=0,0,(AP12*((LOG(AP12))/LOG(2))))","v":-0.42301699036395596},null,{"$f":"N12","v":212},{"$f":"COUNTIF(L153:L181,AS12)","v":4},{"$f":"AT12/(AV4-AT13)","v":0.14814814814814814},{"$f":"IF(AU12=0,0,(AU12*((LOG(AU12))/LOG(2))))","v":-0.40813148180199532}]
[21,729,12,732,24,752,null,null,null,null,0,212,null,221,{"$f":"COUNTIF($L$7:$L$500,N13)","v":20},{"$f":"O13/$Q$4","v":0.11428571428571428},{"$f":"IF(P13=0,0,(P13*((LOG(P13))/LOG(2))))","v":-0.35763234479371042},null,null,{"$f":"N13","v":221},{"$f":"COUNTIF(L7:L35,T13)","v":4},null,null,null,{"$f":"N13","v":221},{"$f":"COUNTIF(L36:L64,Y13)","v":1},null,null,null,{"$f":"N13","v":221},{"$f":"COUNTIF(L65:L94,AD13)","v":3},null,null,null,{"$f":"N13","v":221},{"$f":"COUNTIF(L95:L123,AI13)","v":6},null,null,null,{"$f":"N13","v":221},{"$f":"COUNTIF(L124:L152,AN13)","v":4},null,null,null,{"$f":"N13","v":221},{"$f":"COUNTIF(L153:L181,AS13)","v":2}]
[21,848,21,864,22,867,null,null,null,null,0,222,null,222,{"$f":"COUNTIF($L$7:$L$500,N14)","v":97},{"$f":"O14/$Q$4","v":0.55428571428571427},{"$f":"IF(P14=0,0,(P14*((LOG(P14))/LOG(2))))","v":-0.47186246946048294},null,null,{"$f":"N14","v":222},{"$f":"COUNTIF(L7:L35,T14)","v":12},{"$f":"U14/(W4-U13)","v":0.48},{"$f":"IF(V14=0,0,(V14*((LOG(V14))/LOG(2))))","v":-0.50826897074571287},null,{"$f":"N14","v":222},{"$f":"COUNTIF(L36:L64,Y14)","v":21},{"$f":"Z14/(AB4-Z13)","v":0.75},{"$f":"IF(AA14=0,0,(AA14*((LOG(AA14))/LOG(2))))","v":-0.31127812445913283},null,{"$f":"N14","v":222},{"$f":"COUNTIF(L65:L94,AD14)","v":19},{"$f":"AE14/(AG4-AE13)","v":0.70370370370370372},{"$f":"IF(AF14=0,0,(AF14*((LOG(AF14))/LOG(2))))","v":-0.35674962169176955},null,{"$f":"N14","v":222},{"$f":"COUNTIF(L95:L123,AI14)","v":14},{"$f":"AJ14/(AL4-AJ13)","v":0.60869565217391308},{"$f":"IF(AK14=0,0,(AK14*((LOG(AK14))/LOG(2))))","v":-0.43595210765181397},null,{"$f":"N14","v":222},{"$f":"COUNTIF(L124:L152,AN14)","v":14},{"$f":"AO14/(AQ4-AO13)","v":0.56000000000000005},{"$f":"IF(AP14=0,0,(AP14*((LOG(AP14))/LOG(2))))","v":-0.46844070992158748},null,{"$f":"N14","v":222},{"$f":"COUNTIF(L153:L181,AS14)","v":17},{"$f":"AT14/(AV4-AT13)","v":0.62962962962962965},{"$f":"IF(AU14=0,0,(AU14*((LOG(AU14))/LOG(2))))","v":-0.42023034205641457}]
[21,962,21,999,22,1003,null,null,null,null,0,222,null,null,null,{"$f":"SUM(P7:P14)","v":1},{"$f":"-SUM(Q7:Q14)","v":2.0637242530083313},null,null,null,null,{"$f":"SUM(V7:V14)","v":1},{"$f":"-SUM(W7:W14)","v":1.498688570451097},null,null,null,{"$f":"SUM(AA7:AA14)","v":1},{"$f":"-SUM(AB7:AB14)","v":1.3432994441819814},null,null,null,{"$f":"SUM(AF7:AF14)","v":1},{"$f":"-SUM(AG7:AG14)","v":1.4133912888392071},null,null,null,{"$f":"SUM(AK7:AK14)","v":1},{"$f":"-SUM(AL7:AL14)","v":1.705616568529474},null,null,null,{"$f":"SUM(AP7:AP14)","v":1},{"$f":"-SUM(AQ7:AQ14)","v":2.0317374334224665},null,null,null,{"$f":"SUM(AU7:AU14)","v":1},{"$f":"-SUM(AV7:AV14)","v":1.6627812687836252}]
[21,1099,21,1125,22,1127,null,null,null,null,0,222,null,null,null,"U=",{"$f":"Q15/(LOG(Q4)/LOG(2))","v":0.27696494194496662},null,null,null,null,"U1=",{"$f":"W15/(LOG(W4)/LOG(2))","v":0.30850029507201499},null,null,null,"U2=",{"$f":"AB15/(LOG(AB4)/LOG(2))","v":0.27651393563072307},null,null,null,"U3=",{"$f":"AG15/(LOG(AG4)/LOG(2))","v":0.28804214426629743},null,null,null,"U4=",{"$f":"AL15/(LOG(AL4)/LOG(2))","v":0.35109576802382775},null,null,null,"U5=",{"$f":"AQ15/(LOG(AQ4)/LOG(2))","v":0.4182267150613076},null,null,null,"U6=",{"$f":"AV15/(LOG(AV4)/LOG(2))","v":0.34227825725365157}]
[21,1223,21,1285,22,1289,null,null,null,null,0,222]
[21,1385,21,1406,22,1411,null,null,null,null,0,222]
[21,1508,21,1511,11,1520,null,null,null,null,0,221,null,"Total Target Seq"]
[21,1649,12,1665,24,1669,null,null,null,null,0,212,null,{"$f":"COUNTIF(L7:L181,G3)","v":20},null,29,29,30,29,29,29]
[21,1765,21,1769,11,1782,null,null,null,null,0,221,null,null,null,"% of reinforcement given in 6 equal intervals based on number of trials "]
[12,1906,14,1909,13,1926,null,null,null,null,0,111,null,null,null,"%_1","%_2","%_3","%_4","%_5","%_6"]
[12,2041,14,2097,13,2267,null,null,null,null,0,111,null,null,"target sequence",{"$f":"$G$3","v":221},{"$f":"$G$3","v":221},{"$f":"$G$3","v":221},{"$f":"$G$3","v":221},{"$f":"$G$3","v":221},{"$f":"$G$3","v":221}]
[12,2379,14,2465,13,2486,null,null,null,null,0,111,null,null,"total reinforcement",{"$f":"U13","v":4},{"$f":"Z13","v":1},{"$f":"AE13","v":3},{"$f":"AJ13","v":6},{"$f":"AO13","v":4},{"$f":"AT13","v":2}]
[12,2736,14,2819,13,2903,null,null,null,null,0,111,null,null,"% target"]
[12,3005,14,3061,13,3070,null,null,null,null,0,111,null,null,"CCRF"]
[12,3173,14,3176,13,3182,null,null,null,null,0,111,null,null,"% CCRf"]
[21,3278,12,3301,24,3310,null,null,null,null,0,212,null,null,"average response rate",{"$f":"F35/P20","v":147.06896551724137},{"$f":"(F64-F35)/Q20","v":130},{"$f":"(F94-F64)/R20","v":130.43333333333334},{"$f":"(F123-F94)/S20","v":149.48275862068965},{"$f":"(F152-F123)/T20","v":133.68965517241378},{"$f":"(F181-F152)/U20","v":129.55172413793105}]
[21,3406,21,3409,22,3436,null,null,null,null,0,222]
[21,3528,21,3533,22,3542,null,null,null,null,0,222]
[21,3637,21,3652,11,3655,null,null,null,null,0,221]
[12,3772,14,3878,13,3888,null,null,null,null,0,111]
[12,3993,14,4005,13,4026,null,null,null,null,0,111]
[21,4137,21,4142,22,4149,null,null,null,null,0,222]
[21,4243,21,4247,11,4265,null,null,null,null,0,221]
[21,4358,12,4378,24,4399,null,null,null,null,0,212]
[21,4494,21,4496,22,4500,null,null,null,null,0,222]
[21,4595,21,4602,22,4635,null,null,null,null,0,222]
[21,4731,21,4766,22,4771,null,null,null,null,0,222]
[21,4867,21,4870,22,4887,null,null,null,null,0,222]
[21,4986,21,4991,22,5021,null,null,null,null,0,222]
[21,5115,21,5136,22,5139,null,null,null,null,0,222]
[21,5233,21,5237,22,5262,null,null,null,null,0,222]
[21,5358,21,5363,22,5388,null,null,null,null,0,222]
[21,5482,21,5498,22,5504,null,null,null,null,0,222]
[12,5596,23,5600,24,5604,null,null,null,null,0,122]
[21,5696,21,5700,22,5705,null,null,null,null,0,222]
[21,5800,21,5802,22,5818,null,null,null,null,0,222]
[21,5910,21,5914,11,5930,null,null,null,null,0,221]
[12,6045,14,6050,13,6091,null,null,null,null,0,111]
[12,6198,14,6207,13,6231,null,null,null,null,0,111]
[12,6348,14,6396,13,6433,null,null,null,null,0,111]
[12,6571,23,6593,13,6633,null,null,null,null,0,121]
[21,6729,21,6732,22,6766,null,null,null,null,0,222]
[21,6862,21,6889,22,6893,null,null,null,null,0,222]
[21,6992,12,7001,13,7010,null,null,null,null,0,211]
[21,7107,21,7111,22,7159,null,null,null,null,0,222]
[21,7257,21,7284,22,7288,null,null,null,null,0,222]
[21,7384,21,7409,22,7412,null,null,null,null,0,222]
[21,7508,21,7536,22,7548,null,null,null,null,0,222]
[21,7641,21,7645,22,7660,null,null,null,null,0,222]
[21,7759,21,7786,22,7805,null,null,null,null,0,222]
[21,7900,21,7916,22,7919,null,null,null,null,0,222]
[21,8015,21,8018,22,8035,null,null,null,null,0,222]
[21,8131,12,8150,24,8152,null,null,null,null,0,212]
[21,8249,21,8268,22,8281,null,null,null,null,0,222]
[21,8376,21,8379,22,8414,null,null,null,null,0,222]
[21,8511,21,8535,22,8553,null,null,null,null,0,222]
[21,8648,21,8666,22,8681,null,null,null,null,0,222]
[21,8777,21,8780,22,8792,null,null,null,null,0,222]
[21,8888,21,8915,22,8936,null,null,null,null,0,222]
[21,9033,21,9064,22,9067,null,null,null,null,0,222]
[21,9163,21,9183,22,9194,null,null,null,null,0,222]
[21,9291,21,9312,22,9316,null,null,null,null,0,222]
[21,9411,21,9414,22,9417,null,null,null,null,0,222]
[21,9513,21,9540,11,9545,null,null,null,null,0,221]
[12,9696,14,9702,13,9730,null,null,null,null,0,111]
[21,9827,12,9836,24,9851,null,null,null,null,0,212]
[21,9948,21,9951,11,9971,null,null,null,null,0,221]
[12,10063,14,10131,24,10174,null,null,null,null,0,112]
[21,10269,21,10286,22,10306,null,null,null,null,0,222]
[21,10407,12,10426,24,10440,null,null,null,null,0,212]
[21,10563,21,10585,11,10593,null,null,null,null,0,221]
[12,10685,14,10691,13,10693,null,null,null,null,0,111]
[21,10842,21,10846,22,10865,null,null,null,null,0,222]
[21,10962,21,10980,22,10987,null,null,null,null,0,222]
[21,11081,21,11083,22,11102,null,null,null,null,0,222]
[12,11209,14,11214,13,11218,null,null,null,null,0,111]
[21,11315,21,11318,22,11339,null,null,null,null,0,222]
[21,11431,12,11452,13,11456,null,null,null,null,0,211]
[21,11550,21,11567,22,11569,null,null,null,null,0,222]
[21,11667,21,11695,22,11701,null,null,null,null,0,222]
[21,11796,21,11821,22,11832,null,null,null,null,0,222]
[21,11927,21,11929,22,11948,null,null,null,null,0,222]
[21,12044,21,12048,11,12054,null,null,null,null,0,221]
[12,12262,14,12267,13,12273,null,null,null,null,0,111]
[21,12367,21,12371,22,12405,null,null,null,null,0,222]
[21,12498,21,12500,22,12524,null,null,null,null,0,222]
[21,12622,21,12636,22,12640,null,null,null,null,0,222]
[21,12736,21,12755,11,12758,null,null,null,null,0,221]
[21,13070,21,13101,22,13107,null,null,null,null,0,222]
[21,13203,21,13220,22,13235,null,null,null,null,0,222]
[21,13330,21,13333,11,13339,null,null,null,null,0,221]
[12,13612,23,13776,24,13779,null,null,null,null,0,122]
[21,13874,21,13880,22,13908,null,null,null,null,0,222]
[21,14002,21,14006,11,14017,null,null,null,null,0,221]
[21,14110,12,14122,24,14126,null,null,null,null,0,212]
[21,14224,21,14252,22,14256,null,null,null,null,0,222]
[21,14351,21,14368,22,14371,null,null,null,null,0,222]
[21,14468,21,14498,22,14502,null,null,null,null,0,222]
[21,14598,12,14615,24,14621,null,null,null,null,0,212]
[21,14713,21,14717,11,14730,null,null,null,null,0,221]
[12,14953,14,14955,13,14962,null,null,null,null,0,111]
[12,15079,14,15176,13,15184,null,null,null,null,0,111]
[21,15281,12,15285,13,15293,null,null,null,null,0,211]
[21,15387,21,15423,22,15426,null,null,null,null,0,222]
[12,15518,23,15522,24,15547,null,null,null,null,0,122]
[21,15639,21,15660,22,15663,null,null,null,null,0,222]
[21,15759,21,15765,22,15784,null,null,null,null,0,222]
[21,15880,21,15884,11,15896,null,null,null,null,0,221]
[21,15996,21,16035,22,16045,null,null,null,null,0,222]
[21,16141,12,16157,24,16167,null,null,null,null,0,212]
[21,16262,21,16263,22,16283,null,null,null,null,0,222]
[21,16375,21,16384,22,16385,null,null,null,null,0,222]
[21,16480,21,16485,22,16504,null,null,null,null,0,222]
[21,16601,21,16617,22,16633,null,null,null,null,0,222]
[21,16728,21,16742,22,16753,null,null,null,null,0,222]
[21,16849,12,16876,24,16879,null,null,null,null,0,212]
[21,16974,21,16977,22,17004,null,null,null,null,0,222]
[21,17100,21,17103,22,17125,null,null,null,null,0,222]
[21,17222,21,17240,22,17257,null,null,null,null,0,222]
[21,17353,21,17375,11,17382,null,null,null,null,0,221]
[12,17478,14,17491,13,17520,null,null,null,null,0,111]
[21,17676,21,17711,11,17724,null,null,null,null,0,221]
[12,17873,14,17993,24,17994,null,null,null,null,0,112]
[21,18088,21,18117,11,18130,null,null,null,null,0,221]
[12,18268,23,18350,24,18353,null,null,null,null,0,122]
[21,18447,12,18452,24,18465,null,null,null,null,0,212]
[21,18561,21,18564,22,18586,null,null,null,null,0,222]
[21,18678,21,18702,22,18718,null,null,null,null,0,222]
[21,18817,21,18832,11,18838,null,null,null,null,0,221]
[21,18946,12,18952,24,18959,null,null,null,null,0,212]
[21,19056,21,19076,22,19106,null,null,null,null,0,222]
[21,19203,21,19206,22,19224,null,null,null,null,0,222]
[21,19319,21,19321,22,19341,null,null,null,null,0,222]
[21,19438,12,19453,13,19456,null,null,null,null,0,211]
[12,19549,23,19553,24,19572,null,null,null,null,0,122]
[21,19667,21,19670,22,19684,null,null,null,null,0,222]
[21,19779,12,19787,13,19798,null,null,null,null,0,211]
[12,19892,23,19900,13,19917,null,null,null,null,0,121]
[21,20013,21,20031,22,20047,null,null,null,null,0,222]
[21,20140,12,20158,24,20160,null,null,null,null,0,212]
[21,20257,21,20274,22,20277,null,null,null,null,0,222]
[21,20372,21,20376,22,20380,null,null,null,null,0,222]
[21,20477,21,20499,22,20502,null,null,null,null,0,222]
[21,20599,21,20618,22,20633,null,null,null,null,0,222]
[21,20730,12,20733,13,20754,null,null,null,null,0,211]
[21,20850,21,20851,22,20875,null,null,null,null,0,222]
[21,20971,12,20973,13,21001,null,null,null,null,0,211]
[21,21108,21,21129,22,21152,null,null,null,null,0,222]
[21,21246,21,21248,22,21250,null,null,null,null,0,222]
[21,21346,21,21352,22,21371,null,null,null,null,0,222]
[21,21465,21,21470,22,21487,null,null,null,null,0,222]
[21,21582,12,21592,24,21608,null,null,null,null,0,212]
[12,21700,23,21703,24,21706,null,null,null,null,0,122]
[21,21798,21,21802,11,21818,null,null,null,null,0,221]
[12,21916,14,22021,13,22166,null,null,null,null,0,111]
[21,22272,21,22276,22,22279,null,null,null,null,0,222]
[21,22374,21,22394,22,22415,null,null,null,null,0,222]
[21,22508,21,22510,22,22533,null,null,null,null,0,222]
[21,22627,21,22646,22,22649,null,null,null,null,0,222]
[21,22741,21,22744,11,22757,null,null,null,null,0,221]
[12,22848,14,22875,13,22955,null,null,null,null,0,111]
[12,23049,23,23052,24,23055,null,null,null,null,0,122]
[21,23147,21,23151,22,23169,null,null,null,null,0,222]
[21,23268,12,23297,24,23303,null,null,null,null,0,212]
[21,23399,21,23426,22,23441,null,null,null,null,0,222]
[21,23535,21,23541,22,23569,null,null,null,null,0,222]
[21,23666,12,23682,24,23689,null,null,null,null,0,212]
[21,23784,21,23786,22,23803,null,null,null,null,0,222]
[21,23899,12,23906,24,23917,null,null,null,null,null,212]

{"sheet":"!MA17B1T.AYL","index":18,"n_rows":148,"n_cols":48,"rows_kept":148,"cut":false,"hidden":false,"merged":[[4,39,4,42],[5,39,5,40],[4,44,4,47],[5,44,5,45],[4,24,4,27],[5,24,5,25],[4,29,4,32],[5,29,5,30],[4,34,4,37],[5,34,5,35],[1,1,1,2],[5,13,5,14],[18,13,18,14],[19,13,19,14],[4,19,4,22],[5,19,5,20]]}
["Report for:!MA17B1T.AYL"]
["Date:","<date>"]
["Hen:","<hen>",null,null,null,"Correct Sequence",{"$f":"Start!J2","v":221},null,null,null,null,null,null,null,null,"Total Sequences in Data",{"$f":"4994-COUNTBLANK(L7:L5000)","v":142},null,null,null,null,"Total Sequences in Block Data",{"$f":"COUNTA(L7:L30)","v":24},null,null,null,"Total Sequences in Block Data",{"$f":"COUNTA(L31:L53)","v":23},null,null,null,"Total Sequences in Block Data",{"$f":"COUNTA(L54:L77)","v":24},null,null,null,"Total Sequences in Block Data",{"$f":"COUNTA(L78:L101)","v":24},null,null,null,"Total Sequences in Block Data",{"$f":"COUNTA(L102:L124)","v":23},null,null,null,"Total Sequences in Block Data",{"$f":"COUNTA(L125:L148)","v":24}]
[null,null,null,null,null,null,null,null,null,null,null,null,null,null,null,"Total Sequences in Summary",{"$f":"SUM(O7:O14)","v":142},null,null,null,null,"Total Sequences in Block Summary",{"$f":"SUM(U7:U14)","v":24},null,null,null,"Total Sequences in Block Summary",{"$f":"SUM(Z7:Z14)","v":23},null,null,null,"Total Sequences in Block Summary",{"$f":"SUM(AE7:AE14)","v":24},null,null,null,"Total Sequences in Block Summary",{"$f":"SUM(AJ7:AJ14)","v":24},null,null,null,"Total Sequences in Block Summary",{"$f":"SUM(AO7:AO14)","v":23},null,null,null,"Total Sequences in Block Summary",{"$f":"SUM(AT7:AT14)","v":24}]
[null,null,null,null,null,null,null,null,null,null,null,null,null,null,null,null,null,null,null,"Block 1",null,null,null,null,"Block 2",null,null,null,null,"Block 3",null,null,null,null,"Block 4",null,null,null,null,"Block 5",null,null,null,null,"Block 6"]
["Sequence\nComponent\n1","Time\n1","Sequence\nComponent\n2","Time\n2","Sequence\nComponent\n3","Time\n3","Sequence\nComponent\n4","Time\n4","Sequence\nComponent\n5","Time\n5","Correct?\n0=No 1=Yes","Sequence",null,"Frequency",null,"Relative Frequency","Variability",null,null,"Frequency",null,"Relative Frequency","Variability",null,"Frequency",null,"Relative Frequency","Variability",null,"Frequency",null,"Relative Frequency","Variability",null,"Frequency",null,"Relative Frequency","Variability",null,"Frequency",null,"Relative Frequency","Variability",null,"Frequency",null,"Relative Frequency","Variability"]
[12,84,23,95,24,97,null,null,null,null,0,122,null,111,{"$f":"COUNTIF($L$7:$L$500,N7)","v":4},{"$f":"O7/$Q$4","v":2.8169014084507043E-2},{"$f":"IF(P7=0,0,(P7*((LOG(P7))/LOG(2))))","v":-0.14506329914097693},null,null,{"$f":"N7","v":111},{"$f":"COUNTIF(L7:L30,T7)","v":1},{"$f":"U7/(W4-U13)","v":0.05},{"$f":"IF(V7=0,0,(V7*((LOG(V7))/LOG(2))))","v":-0.21609640474436814},null,{"$f":"N7","v":111},{"$f":"COUNTIF(L31:L53,Y7)","v":1},{"$f":"Z7/(AB4-Z13)","v":6.25E-2},{"$f":"IF(AA7=0,0,(AA7*((LOG(AA7))/LOG(2))))","v":-0.25},null,{"$f":"N7","v":111},{"$f":"COUNTIF(L54:L77,AD7)","v":1},{"$f":"AE7/(AG4-AE13)","v":5.8823529411764705E-2},{"$f":"IF(AF7=0,0,(AF7*((LOG(AF7))/LOG(2))))","v":-0.24043899066178465},null,{"$f":"N7","v":111},{"$f":"COUNTIF(L78:L101,AI7)","v":1},{"$f":"AJ7/(AL4-AJ13)","v":5.5555555555555552E-2},{"$f":"IF(AK7=0,0,(AK7*((LOG(AK7))/LOG(2))))","v":-0.23166250008012845},null,{"$f":"N7","v":111},{"$f":"COUNTIF(L102:L124,AN7)","v":0},{"$f":"AO7/(AQ4-AO13)","v":0},{"$f":"IF(AP7=0,0,(AP7*((LOG(AP7))/LOG(2))))","v":0},null,{"$f":"N7","v":111},{"$f":"COUNTIF(L125:L148,AS7)","v":0},{"$f":"AT7/(AV4-AT13)","v":0},{"$f":"IF(AU7=0,0,(AU7*((LOG(AU7))/LOG(2))))","v":0}]
[21,194,21,214,22,218,null,null,null,null,0,222,null,112,{"$f":"COUNTIF($L$7:$L$500,N8)","v":8},{"$f":"O8/$Q$4","v":5.6338028169014086E-2},{"$f":"IF(P8=0,0,(P8*((LOG(P8))/LOG(2))))","v":-0.23378857011293985},null,null,{"$f":"N8","v":112},{"$f":"COUNTIF(L7:L30,T8)","v":0},{"$f":"U8/(W4-U13)","v":0},{"$f":"IF(V8=0,0,(V8*((LOG(V8))/LOG(2))))","v":0},null,{"$f":"N8","v":112},{"$f":"COUNTIF(L31:L53,Y8)","v":2},{"$f":"Z8/(AB4-Z13)","v":0.125},{"$f":"IF(AA8=0,0,(AA8*((LOG(AA8))/LOG(2))))","v":-0.375},null,{"$f":"N8","v":112},{"$f":"COUNTIF(L54:L77,AD8)","v":2},{"$f":"AE8/(AG4-AE13)","v":0.11764705882352941},{"$f":"IF(AF8=0,0,(AF8*((LOG(AF8))/LOG(2))))","v":-0.36323092250003997},null,{"$f":"N8","v":112},{"$f":"COUNTIF(L78:L101,AI8)","v":2},{"$f":"AJ8/(AL4-AJ13)","v":0.1111111111111111},{"$f":"IF(AK8=0,0,(AK8*((LOG(AK8))/LOG(2))))","v":-0.3522138890491458},null,{"$f":"N8","v":112},{"$f":"COUNTIF(L102:L124,AN8)","v":1},{"$f":"AO8/(AQ4-AO13)","v":7.1428571428571425E-2},{"$f":"IF(AP8=0,0,(AP8*((LOG(AP8))/LOG(2))))","v":-0.27195392300411453},null,{"$f":"N8","v":112},{"$f":"COUNTIF(L125:L148,AS8)","v":1},{"$f":"AT8/(AV4-AT13)","v":5.8823529411764705E-2},{"$f":"IF(AU8=0,0,(AU8*((LOG(AU8))/LOG(2))))","v":-0.24043899066178465}]
[21,349,21,363,22,366,null,null,null,null,0,222,null,121,{"$f":"COUNTIF($L$7:$L$500,N9)","v":0},{"$f":"O9/$Q$4","v":0},{"$f":"IF(P9=0,0,(P9*((LOG(P9))/LOG(2))))","v":0},null,null,{"$f":"N9","v":121},{"$f":"COUNTIF(L7:L30,T9)","v":0},{"$f":"U9/(W4-U13)","v":0},{"$f":"IF(V9=0,0,(V9*((LOG(V9))/LOG(2))))","v":0},null,{"$f":"N9","v":121},{"$f":"COUNTIF(L31:L53,Y9)","v":0},{"$f":"Z9/(AB4-Z13)","v":0},{"$f":"IF(AA9=0,0,(AA9*((LOG(AA9))/LOG(2))))","v":0},null,{"$f":"N9","v":121},{"$f":"COUNTIF(L54:L77,AD9)","v":0},{"$f":"AE9/(AG4-AE13)","v":0},{"$f":"IF(AF9=0,0,(AF9*((LOG(AF9))/LOG(2))))","v":0},null,{"$f":"N9","v":121},{"$f":"COUNTIF(L78:L101,AI9)","v":0},{"$f":"AJ9/(AL4-AJ13)","v":0},{"$f":"IF(AK9=0,0,(AK9*((LOG(AK9))/LOG(2))))","v":0},null,{"$f":"N9","v":121},{"$f":"COUNTIF(L102:L124,AN9)","v":0},{"$f":"AO9/(AQ4-AO13)","v":0},{"$f":"IF(AP9=0,0,(AP9*((LOG(AP9))/LOG(2))))","v":0},null,{"$f":"N9","v":121},{"$f":"COUNTIF(L125:L148,AS9)","v":0},{"$f":"AT9/(AV4-AT13)","v":0},{"$f":"IF(AU9=0,0,(AU9*((LOG(AU9))/LOG(2))))","v":0}]
[12,470,23,511,24,514,null,null,null,null,0,122,null,122,{"$f":"COUNTIF($L$7:$L$500,N10)","v":5},{"$f":"O10/$Q$4","v":3.5211267605633804E-2},{"$f":"IF(P10=0,0,(P10*((LOG(P10))/LOG(2))))","v":-0.16999362762737041},null,null,{"$f":"N10","v":122},{"$f":"COUNTIF(L7:L30,T10)","v":2},{"$f":"U10/(W4-U13)","v":0.1},{"$f":"IF(V10=0,0,(V10*((LOG(V10))/LOG(2))))","v":-0.33219280948873625},null,{"$f":"N10","v":122},{"$f":"COUNTIF(L31:L53,Y10)","v":1},{"$f":"Z10/(AB4-Z13)","v":6.25E-2},{"$f":"IF(AA10=0,0,(AA10*((LOG(AA10))/LOG(2))))","v":-0.25},null,{"$f":"N10","v":122},{"$f":"COUNTIF(L54:L77,AD10)","v":1},{"$f":"AE10/(AG4-AE13)","v":5.8823529411764705E-2},{"$f":"IF(AF10=0,0,(AF10*((LOG(AF10))/LOG(2))))","v":-0.24043899066178465},null,{"$f":"N10","v":122},{"$f":"COUNTIF(L78:L101,AI10)","v":0},{"$f":"AJ10/(AL4-AJ13)","v":0},{"$f":"IF(AK10=0,0,(AK10*((LOG(AK10))/LOG(2))))","v":0},null,{"$f":"N10","v":122},{"$f":"COUNTIF(L102:L124,AN10)","v":0},{"$f":"AO10/(AQ4-AO13)","v":0},{"$f":"IF(AP10=0,0,(AP10*((LOG(AP10))/LOG(2))))","v":0},null,{"$f":"N10","v":122},{"$f":"COUNTIF(L125:L148,AS10)","v":1},{"$f":"AT10/(AV4-AT13)","v":5.8823529411764705E-2},{"$f":"IF(AU10=0,0,(AU10*((LOG(AU10))/LOG(2))))","v":-0.24043899066178465}]
[21,610,12,619,24,627,null,null,null,null,0,212,null,211,{"$f":"COUNTIF($L$7:$L$500,N11)","v":68},{"$f":"O11/$Q$4","v":0.47887323943661969},{"$f":"IF(P11=0,0,(P11*((LOG(P11))/LOG(2))))","v":-0.50869951353024867},null,null,{"$f":"N11","v":211},{"$f":"COUNTIF(L7:L30,T11)","v":11},{"$f":"U11/(W4-U13)","v":0.55000000000000004},{"$f":"IF(V11=0,0,(V11*((LOG(V11))/LOG(2))))","v":-0.47437306193753576},null,{"$f":"N11","v":211},{"$f":"COUNTIF(L31:L53,Y11)","v":10},{"$f":"Z11/(AB4-Z13)","v":0.625},{"$f":"IF(AA11=0,0,(AA11*((LOG(AA11))/LOG(2))))","v":-0.42379494069539858},null,{"$f":"N11","v":211},{"$f":"COUNTIF(L54:L77,AD11)","v":12},{"$f":"AE11/(AG4-AE13)","v":0.70588235294117652},{"$f":"IF(AF11=0,0,(AF11*((LOG(AF11))/LOG(2))))","v":-0.35470612272648222},null,{"$f":"N11","v":211},{"$f":"COUNTIF(L78:L101,AI11)","v":13},{"$f":"AJ11/(AL4-AJ13)","v":0.72222222222222221},{"$f":"IF(AK11=0,0,(AK11*((LOG(AK11))/LOG(2))))","v":-0.33907270460643685},null,{"$f":"N11","v":211},{"$f":"COUNTIF(L102:L124,AN11)","v":11},{"$f":"AO11/(AQ4-AO13)","v":0.7857142857142857},{"$f":"IF(AP11=0,0,(AP11*((LOG(AP11))/LOG(2))))","v":-0.27336830983024107},null,{"$f":"N11","v":211},{"$f":"COUNTIF(L125:L148,AS11)","v":11},{"$f":"AT11/(AV4-AT13)","v":0.6470588235294118},{"$f":"IF(AU11=0,0,(AU11*((LOG(AU11))/LOG(2))))","v":-0.40637314404373309}]
[21,723,12,733,13,739,null,null,null,null,0,211,null,212,{"$f":"COUNTIF($L$7:$L$500,N12)","v":4},{"$f":"O12/$Q$4","v":2.8169014084507043E-2},{"$f":"IF(P12=0,0,(P12*((LOG(P12))/LOG(2))))","v":-0.14506329914097693},null,null,{"$f":"N12","v":212},{"$f":"COUNTIF(L7:L30,T12)","v":1},{"$f":"U12/(W4-U13)","v":0.05},{"$f":"IF(V12=0,0,(V12*((LOG(V12))/LOG(2))))","v":-0.21609640474436814},null,{"$f":"N12","v":212},{"$f":"COUNTIF(L31:L53,Y12)","v":1},{"$f":"Z12/(AB4-Z13)","v":6.25E-2},{"$f":"IF(AA12=0,0,(AA12*((LOG(AA12))/LOG(2))))","v":-0.25},null,{"$f":"N12","v":212},{"$f":"COUNTIF(L54:L77,AD12)","v":0},{"$f":"AE12/(AG4-AE13)","v":0},{"$f":"IF(AF12=0,0,(AF12*((LOG(AF12))/LOG(2))))","v":0},null,{"$f":"N12","v":212},{"$f":"COUNTIF(L78:L101,AI12)","v":0},{"$f":"AJ12/(AL4-AJ13)","v":0},{"$f":"IF(AK12=0,0,(AK12*((LOG(AK12))/LOG(2))))","v":0},null,{"$f":"N12","v":212},{"$f":"COUNTIF(L102:L124,AN12)","v":1},{"$f":"AO12/(AQ4-AO13)","v":7.1428571428571425E-2},{"$f":"IF(AP12=0,0,(AP12*((LOG(AP12))/LOG(2))))","v":-0.27195392300411453},null,{"$f":"N12","v":212},{"$f":"COUNTIF(L125:L148,AS12)","v":1},{"$f":"AT12/(AV4-AT13)","v":5.8823529411764705E-2},{"$f":"IF(AU12=0,0,(AU12*((LOG(AU12))/LOG(2))))","v":-0.24043899066178465}]
[21,836,21,853,22,856,null,null,null,null,0,222,null,221,{"$f":"COUNTIF($L$7:$L$500,N13)","v":40},{"$f":"O13/$Q$4","v":0.28169014084507044},{"$f":"IF(P13=0,0,(P13*((LOG(P13))/LOG(2))))","v":-0.51487859848375206},null,null,{"$f":"N13","v":221},{"$f":"COUNTIF(L7:L30,T13)","v":4},null,null,null,{"$f":"N13","v":221},{"$f":"COUNTIF(L31:L53,Y13)","v":7},null,null,null,{"$f":"N13","v":221},{"$f":"COUNTIF(L54:L77,AD13)","v":7},null,null,null,{"$f":"N13","v":221},{"$f":"COUNTIF(L78:L101,AI13)","v":6},null,null,null,{"$f":"N13","v":221},{"$f":"COUNTIF(L102:L124,AN13)","v":9},null,null,null,{"$f":"N13","v":221},{"$f":"COUNTIF(L125:L148,AS13)","v":7}]
[21,953,21,955,11,966,null,null,null,null,0,221,null,222,{"$f":"COUNTIF($L$7:$L$500,N14)","v":13},{"$f":"O14/$Q$4","v":9.154929577464789E-2},{"$f":"IF(P14=0,0,(P14*((LOG(P14))/LOG(2))))","v":-0.31578166350511738},null,null,{"$f":"N14","v":222},{"$f":"COUNTIF(L7:L30,T14)","v":5},{"$f":"U14/(W4-U13)","v":0.25},{"$f":"IF(V14=0,0,(V14*((LOG(V14))/LOG(2))))","v":-0.5},null,{"$f":"N14","v":222},{"$f":"COUNTIF(L31:L53,Y14)","v":1},{"$f":"Z14/(AB4-Z13)","v":6.25E-2},{"$f":"IF(AA14=0,0,(AA14*((LOG(AA14))/LOG(2))))","v":-0.25},null,{"$f":"N14","v":222},{"$f":"COUNTIF(L54:L77,AD14)","v":1},{"$f":"AE14/(AG4-AE13)","v":5.8823529411764705E-2},{"$f":"IF(AF14=0,0,(AF14*((LOG(AF14))/LOG(2))))","v":-0.24043899066178465},null,{"$f":"N14","v":222},{"$f":"COUNTIF(L78:L101,AI14)","v":2},{"$f":"AJ14/(AL4-AJ13)","v":0.1111111111111111},{"$f":"IF(AK14=0,0,(AK14*((LOG(AK14))/LOG(2))))","v":-0.3522138890491458},null,{"$f":"N14","v":222},{"$f":"COUNTIF(L102:L124,AN14)","v":1},{"$f":"AO14/(AQ4-AO13)","v":7.1428571428571425E-2},{"$f":"IF(AP14=0,0,(AP14*((LOG(AP14))/LOG(2))))","v":-0.27195392300411453},null,{"$f":"N14","v":222},{"$f":"COUNTIF(L125:L148,AS14)","v":3},{"$f":"AT14/(AV4-AT13)","v":0.17647058823529413},{"$f":"IF(AU14=0,0,(AU14*((LOG(AU14))/LOG(2))))","v":-0.44161770715220888}]
[12,1121,14,1129,13,1137,null,null,null,null,0,111,null,null,null,{"$f":"SUM(P7:P14)","v":0.99999999999999989},{"$f":"-SUM(Q7:Q14)","v":2.0332685715413819},null,null,null,null,{"$f":"SUM(V7:V14)","v":1},{"$f":"-SUM(W7:W14)","v":1.7387586809150082},null,null,null,{"$f":"SUM(AA7:AA14)","v":1},{"$f":"-SUM(AB7:AB14)","v":1.7987949406953985},null,null,null,{"$f":"SUM(AF7:AF14)","v":1},{"$f":"-SUM(AG7:AG14)","v":1.439254017211876},null,null,null,{"$f":"SUM(AK7:AK14)","v":1},{"$f":"-SUM(AL7:AL14)","v":1.2751629827848567},null,null,null,{"$f":"SUM(AP7:AP14)","v":0.99999999999999989},{"$f":"-SUM(AQ7:AQ14)","v":1.0892300788425848},null,null,null,{"$f":"SUM(AU7:AU14)","v":1},{"$f":"-SUM(AV7:AV14)","v":1.569307823181296}]
[21,1232,21,1238,11,1247,null,null,null,null,0,221,null,null,null,"U=",{"$f":"Q15/(LOG(Q4)/LOG(2))","v":0.28438328482899439},null,null,null,null,"U1=",{"$f":"W15/(LOG(W4)/LOG(2))","v":0.37923073103466465},null,null,null,"U2=",{"$f":"AB15/(LOG(AB4)/LOG(2))","v":0.39765011691435476},null,null,null,"U3=",{"$f":"AG15/(LOG(AG4)/LOG(2))","v":0.31390747841132827},null,null,null,"U4=",{"$f":"AL15/(LOG(AL4)/LOG(2))","v":0.27811851952644973},null,null,null,"U5=",{"$f":"AQ15/(LOG(AQ4)/LOG(2))","v":0.24079035269631149},null,null,null,"U6=",{"$f":"AV15/(LOG(AV4)/LOG(2))","v":0.34227277168231235}]
[21,1434,12,1448,13,1453,null,null,null,null,0,211]
[21,1548,12,1561,13,1567,null,null,null,null,0,211]
[21,1662,21,1666,11,1676,null,null,null,null,0,221,null,"Total Target Seq"]
[21,1786,12,1796,13,1806,null,null,null,null,0,211,null,{"$f":"COUNTIF(L7:L148,G3)","v":40},null,24,23,24,24,23,24]
[21,1902,12,1914,13,1922,null,null,null,null,0,211,null,null,null,"% of reinforcement given in 6 equal intervals based on number of trials "]
[21,2018,12,2030,13,2036,null,null,null,null,0,211,null,null,null,"%_1","%_2","%_3","%_4","%_5","%_6"]
[21,2135,12,2144,13,2150,null,null,null,null,0,211,null,null,"target sequence",{"$f":"$G$3","v":221},{"$f":"$G$3","v":221},{"$f":"$G$3","v":221},{"$f":"$G$3","v":221},{"$f":"$G$3","v":221},{"$f":"$G$3","v":221}]
[21,2247,21,2249,11,2257,null,null,null,null,0,221,null,null,"total reinforcement",{"$f":"U13","v":4},{"$f":"Z13","v":7},{"$f":"AE13","v":7},{"$f":"AJ13","v":6},{"$f":"AO13","v":9},{"$f":"AT13","v":7}]
[21,2456,12,2463,13,2469,null,null,null,null,0,211,null,null,"% target"]
[21,2560,21,2562,22,2565,null,null,null,null,0,222,null,null,"CCRF"]
[21,2662,21,2668,22,2672,null,null,null,null,0,222,null,null,"% CCRf"]
[21,2769,12,2778,13,2781,null,null,null,null,0,211,null,null,"average response rate",{"$f":"F30/P20","v":125.25},{"$f":"(F53-F30)/Q20","v":208.43478260869566},{"$f":"(F77-F53)/R20","v":167.95833333333334},{"$f":"(F101-F77)/S20","v":147.79166666666666},{"$f":"(F124-F101)/T20","v":156.34782608695653},{"$f":"(F148-F124)/U20","v":141.375}]
[21,2878,12,2886,13,2893,null,null,null,null,0,211]
[21,2989,12,2999,13,3006,null,null,null,null,0,211]
[21,3102,12,3112,13,3115,null,null,null,null,0,211]
[21,3211,21,3214,11,3226,null,null,null,null,0,221]
[12,4365,14,4372,24,4378,null,null,null,null,0,112]
[12,4486,14,4497,24,4518,null,null,null,null,0,112]
[21,4617,12,4627,13,4633,null,null,null,null,0,211]
[21,4732,12,4739,13,4747,null,null,null,null,0,211]
[21,4843,12,4851,13,4859,null,null,null,null,0,211]
[21,4955,12,4965,13,4972,null,null,null,null,0,211]
[21,5067,21,5070,11,5082,null,null,null,null,0,221]
[21,5174,12,5181,13,5191,null,null,null,null,0,211]
[21,5287,21,5292,11,5300,null,null,null,null,0,221]
[12,5893,23,5899,24,5902,null,null,null,null,0,122]
[21,5995,21,5998,11,6006,null,null,null,null,0,221]
[21,6121,12,6128,13,6131,null,null,null,null,0,211]
[21,6226,21,6228,11,6235,null,null,null,null,0,221]
[12,6518,14,6522,13,6537,null,null,null,null,0,111]
[21,6632,12,6646,13,6660,null,null,null,null,0,211]
[21,6758,12,6771,13,6787,null,null,null,null,0,211]
[21,6884,12,6897,24,6914,null,null,null,null,0,212]
[21,7008,12,7017,13,7027,null,null,null,null,0,211]
[21,7119,21,7123,11,7133,null,null,null,null,0,221]
[21,7679,21,7686,22,7692,null,null,null,null,0,222]
[21,7786,21,7788,11,7800,null,null,null,null,0,221]
[21,7914,12,7924,13,7933,null,null,null,null,0,211]
[21,8030,12,8038,13,8049,null,null,null,null,0,211]
[21,8143,12,8154,13,8165,null,null,null,null,0,211]
[21,8260,12,8269,13,8277,null,null,null,null,0,211]
[21,8371,12,8380,13,8387,null,null,null,null,0,211]
[21,8486,21,8499,22,8502,null,null,null,null,0,222]
[21,8597,21,8601,11,8608,null,null,null,null,0,221]
[12,8753,23,8763,24,8770,null,null,null,null,0,122]
[21,8865,21,8867,11,8876,null,null,null,null,0,221]
[12,9058,14,9066,24,9071,null,null,null,null,0,112]
[21,9165,21,9167,11,9179,null,null,null,null,0,221]
[12,9344,14,9358,24,9363,null,null,null,null,0,112]
[21,9458,21,9462,11,9472,null,null,null,null,0,221]
[21,9653,12,9664,13,9668,null,null,null,null,0,211]
[21,9763,12,9778,13,9786,null,null,null,null,0,211]
[21,9890,12,9899,13,9906,null,null,null,null,0,211]
[21,10008,12,10020,13,10024,null,null,null,null,0,211]
[21,10118,12,10135,13,10141,null,null,null,null,0,211]
[21,10236,12,10246,13,10255,null,null,null,null,0,211]
[21,10347,21,10350,11,10359,null,null,null,null,0,221]
[21,11412,12,11418,13,11425,null,null,null,null,0,211]
[21,11519,21,11521,11,11529,null,null,null,null,0,221]
[12,11706,14,11712,13,11718,null,null,null,null,0,111]
[21,11814,21,11819,11,11831,null,null,null,null,0,221]
[12,11937,14,11947,13,11956,null,null,null,null,0,111]
[21,12052,12,12063,13,12069,null,null,null,null,0,211]
[21,12165,12,12179,13,12188,null,null,null,null,0,211]
[21,12284,12,12294,13,12297,null,null,null,null,0,211]
[21,12394,12,12407,13,12418,null,null,null,null,0,211]
[21,12514,21,12518,11,12528,null,null,null,null,0,221]
[12,12791,14,12796,24,12803,null,null,null,null,0,112]
[21,12898,12,12911,13,12920,null,null,null,null,0,211]
[21,13015,21,13035,22,13050,null,null,null,null,0,222]
[21,13147,21,13151,11,13162,null,null,null,null,0,221]
[21,13256,12,13266,13,13272,null,null,null,null,0,211]
[21,13368,12,13379,13,13386,null,null,null,null,0,211]
[21,13482,21,13487,11,13498,null,null,null,null,0,221]
[12,13766,14,13769,24,13779,null,null,null,null,0,112]
[21,13871,21,13873,11,13885,null,null,null,null,0,221]
[21,14165,12,14175,13,14183,null,null,null,null,0,211]
[21,14280,12,14295,13,14303,null,null,null,null,0,211]
[21,14400,21,14405,11,14417,null,null,null,null,0,221]
[21,14593,12,14602,13,14610,null,null,null,null,0,211]
[21,14709,12,14717,13,14726,null,null,null,null,0,211]
[21,14823,12,14835,13,14843,null,null,null,null,0,211]
[21,14939,12,14952,13,14963,null,null,null,null,0,211]
[21,15059,21,15063,11,15072,null,null,null,null,0,221]
[21,15367,21,15372,22,15378,null,null,null,null,0,222]
[21,15474,12,15488,13,15497,null,null,null,null,0,211]
[21,15591,21,15596,11,15608,null,null,null,null,0,221]
[21,15838,12,15847,13,15852,null,null,null,null,0,211]
[21,15950,12,15962,13,15969,null,null,null,null,0,211]
[21,16064,12,16078,13,16088,null,null,null,null,0,211]
[21,16182,21,16186,22,16191,null,null,null,null,0,222]
[21,16286,12,16299,13,16309,null,null,null,null,0,211]
[21,16403,21,16407,11,16415,null,null,null,null,0,221]
[12,16635,14,16648,24,16663,null,null,null,null,0,112]
[21,16759,21,16764,11,16773,null,null,null,null,0,221]
[21,16993,12,17005,13,17012,null,null,null,null,0,211]
[21,17109,12,17124,13,17132,null,null,null,null,0,211]
[21,17223,21,17228,11,17242,null,null,null,null,0,221]
[21,17459,12,17469,13,17474,null,null,null,null,0,211]
[21,17570,21,17574,11,17584,null,null,null,null,0,221]
[21,17744,12,17754,13,17758,null,null,null,null,0,211]
[21,17855,21,17860,11,17868,null,null,null,null,0,221]
[21,18111,12,18121,13,18125,null,null,null,null,0,211]
[21,18218,21,18224,11,18235,null,null,null,null,0,221]
[21,18392,21,18394,11,18405,null,null,null,null,0,221]
[21,18601,12,18613,24,18625,null,null,null,null,0,212]
[21,18717,21,18720,11,18734,null,null,null,null,0,221]
[21,18951,12,18965,13,18974,null,null,null,null,0,211]
[21,19071,21,19074,11,19087,null,null,null,null,0,221]
[21,19222,12,19233,13,19244,null,null,null,null,0,211]
[21,19340,12,19353,24,19365,null,null,null,null,0,212]
[21,19461,12,19472,13,19482,null,null,null,null,0,211]
[21,19579,21,19583,22,19597,null,null,null,null,0,222]
[21,19692,12,19703,13,19708,null,null,null,null,0,211]
[21,19800,12,19812,13,19817,null,null,null,null,0,211]
[21,19909,21,19911,22,19915,null,null,null,null,0,222]
[12,20011,23,20018,24,20023,null,null,null,null,0,122]
[21,20119,12,20128,13,20137,null,null,null,null,0,211]
[21,20230,21,20234,11,20242,null,null,null,null,0,221]
[12,20444,14,20449,24,20459,null,null,null,null,0,112]
[21,20556,12,20575,13,20589,null,null,null,null,0,211]
[21,20683,21,20686,11,20699,null,null,null,null,0,221]
[21,20840,12,20852,13,20858,null,null,null,null,0,211]
[21,20954,21,20958,22,20963,null,null,null,null,0,222]
[21,21058,12,21075,13,21087,null,null,null,null,0,211]
[21,21182,21,21186,11,21197,null,null,null,null,0,221]
[21,21487,12,21498,13,21512,null,null,null,null,0,211]
[21,21609,21,21611,11,21623,null,null,null,null,0,221]
[21,21910,12,21925,13,21932,null,null,null,null,0,211]
[21,22026,21,22028,11,22041,null,null,null,null,0,221]
[21,22245,12,22256,13,22262,null,null,null,null,0,211]
[21,22356,21,22359,11,22367,null,null,null,null,1,221]

{"sheet":"!MA18A3T.AYL","index":19,"n_rows":161,"n_cols":48,"rows_kept":161,"cut":false,"hidden":false,"merged":[[4,39,4,42],[5,39,5,40],[4,44,4,47],[5,44,5,45],[4,24,4,27],[5,24,5,25],[4,29,4,32],[5,29,5,30],[4,34,4,37],[5,34,5,35],[1,1,1,2],[5,13,5,14],[18,13,18,14],[19,13,19,14],[4,19,4,22],[5,19,5,20]]}
["Report for:!MA18A3T.AYL"]
["Date:","<date>"]
["Hen:","<hen>",null,null,null,"Correct Sequence",{"$f":"Start!J2","v":221},null,null,null,null,null,null,null,null,"Total Sequences in Data",{"$f":"4994-COUNTBLANK(L7:L5000)","v":155},null,null,null,null,"Total Sequences in Block Data",{"$f":"COUNTA(L7:L32)","v":26},null,null,null,"Total Sequences in Block Data",{"$f":"COUNTA(L33:L58)","v":26},null,null,null,"Total Sequences in Block Data",{"$f":"COUNTA(L59:L83)","v":25},null,null,null,"Total Sequences in Block Data",{"$f":"COUNTA(L84:L109)","v":26},null,null,null,"Total Sequences in Block Data",{"$f":"COUNTA(L110:L135)","v":26},null,null,null,"Total Sequences in Block Data",{"$f":"COUNTA(L136:L161)","v":26}]
[null,null,null,null,null,null,null,null,null,null,null,null,null,null,null,"Total Sequences in Summary",{"$f":"SUM(O7:O14)","v":155},null,null,null,null,"Total Sequences in Block Summary",{"$f":"SUM(U7:U14)","v":26},null,null,null,"Total Sequences in Block Summary",{"$f":"SUM(Z7:Z14)","v":26},null,null,null,"Total Sequences in Block Summary",{"$f":"SUM(AE7:AE14)","v":25},null,null,null,"Total Sequences in Block Summary",{"$f":"SUM(AJ7:AJ14)","v":26},null,null,null,"Total Sequences in Block Summary",{"$f":"SUM(AO7:AO14)","v":26},null,null,null,"Total Sequences in Block Summary",{"$f":"SUM(AT7:AT14)","v":26}]
[null,null,null,null,null,null,null,null,null,null,null,null,null,null,null,null,null,null,null,"Block 1",null,null,null,null,"Block 2",null,null,null,null,"Block 3",null,null,null,null,"Block 4",null,null,null,null,"Block 5",null,null,null,null,"Block 6"]
["Sequence\nComponent\n1","Time\n1","Sequence\nComponent\n2","Time\n2","Sequence\nComponent\n3","Time\n3","Sequence\nComponent\n4","Time\n4","Sequence\nComponent\n5","Time\n5","Correct?\n0=No 1=Yes","Sequence",null,"Frequency",null,"Relative Frequency","Variability",null,null,"Frequency",null,"Relative Frequency","Variability",null,"Frequency",null,"Relative Frequency","Variability",null,"Frequency",null,"Relative Frequency","Variability",null,"Frequency",null,"Relative Frequency","Variability",null,"Frequency",null,"Relative Frequency","Variability",null,"Frequency",null,"Relative Frequency","Variability"]
[12,11,14,18,13,24,null,null,null,null,0,111,null,111,{"$f":"COUNTIF($L$7:$L$500,N7)","v":8},{"$f":"O7/$Q$4","v":5.1612903225806452E-2},{"$f":"IF(P7=0,0,(P7*((LOG(P7))/LOG(2))))","v":-0.2207031951109284},null,null,{"$f":"N7","v":111},{"$f":"COUNTIF(L7:L32,T7)","v":4},{"$f":"U7/(W4-U13)","v":0.21052631578947367},{"$f":"IF(V7=0,0,(V7*((LOG(V7))/LOG(2))))","v":-0.47324789756707064},null,{"$f":"N7","v":111},{"$f":"COUNTIF(L33:L58,Y7)","v":1},{"$f":"Z7/(AB4-Z13)","v":4.7619047619047616E-2},{"$f":"IF(AA7=0,0,(AA7*((LOG(AA7))/LOG(2))))","v":-0.20915797251327431},null,{"$f":"N7","v":111},{"$f":"COUNTIF(L59:L83,AD7)","v":1},{"$f":"AE7/(AG4-AE13)","v":5.5555555555555552E-2},{"$f":"IF(AF7=0,0,(AF7*((LOG(AF7))/LOG(2))))","v":-0.23166250008012845},null,{"$f":"N7","v":111},{"$f":"COUNTIF(L84:L109,AI7)","v":1},{"$f":"AJ7/(AL4-AJ13)","v":4.7619047619047616E-2},{"$f":"IF(AK7=0,0,(AK7*((LOG(AK7))/LOG(2))))","v":-0.20915797251327431},null,{"$f":"N7","v":111},{"$f":"COUNTIF(L110:L135,AN7)","v":1},{"$f":"AO7/(AQ4-AO13)","v":4.7619047619047616E-2},{"$f":"IF(AP7=0,0,(AP7*((LOG(AP7))/LOG(2))))","v":-0.20915797251327431},null,{"$f":"N7","v":111},{"$f":"COUNTIF(L136:L161,AS7)","v":0},{"$f":"AT7/(AV4-AT13)","v":0},{"$f":"IF(AU7=0,0,(AU7*((LOG(AU7))/LOG(2))))","v":0}]
[21,123,12,130,13,136,null,null,null,null,0,211,null,112,{"$f":"COUNTIF($L$7:$L$500,N8)","v":1},{"$f":"O8/$Q$4","v":6.4516129032258064E-3},{"$f":"IF(P8=0,0,(P8*((LOG(P8))/LOG(2))))","v":-4.694273809854347E-2},null,null,{"$f":"N8","v":112},{"$f":"COUNTIF(L7:L32,T8)","v":1},{"$f":"U8/(W4-U13)","v":5.2631578947368418E-2},{"$f":"IF(V8=0,0,(V8*((LOG(V8))/LOG(2))))","v":-0.22357513228650452},null,{"$f":"N8","v":112},{"$f":"COUNTIF(L33:L58,Y8)","v":0},{"$f":"Z8/(AB4-Z13)","v":0},{"$f":"IF(AA8=0,0,(AA8*((LOG(AA8))/LOG(2))))","v":0},null,{"$f":"N8","v":112},{"$f":"COUNTIF(L59:L83,AD8)","v":0},{"$f":"AE8/(AG4-AE13)","v":0},{"$f":"IF(AF8=0,0,(AF8*((LOG(AF8))/LOG(2))))","v":0},null,{"$f":"N8","v":112},{"$f":"COUNTIF(L84:L109,AI8)","v":0},{"$f":"AJ8/(AL4-AJ13)","v":0},{"$f":"IF(AK8=0,0,(AK8*((LOG(AK8))/LOG(2))))","v":0},null,{"$f":"N8","v":112},{"$f":"COUNTIF(L110:L135,AN8)","v":0},{"$f":"AO8/(AQ4-AO13)","v":0},{"$f":"IF(AP8=0,0,(AP8*((LOG(AP8))/LOG(2))))","v":0},null,{"$f":"N8","v":112},{"$f":"COUNTIF(L136:L161,AS8)","v":0},{"$f":"AT8/(AV4-AT13)","v":0},{"$f":"IF(AU8=0,0,(AU8*((LOG(AU8))/LOG(2))))","v":0}]
[21,231,12,244,13,253,null,null,null,null,0,211,null,121,{"$f":"COUNTIF($L$7:$L$500,N9)","v":0},{"$f":"O9/$Q$4","v":0},{"$f":"IF(P9=0,0,(P9*((LOG(P9))/LOG(2))))","v":0},null,null,{"$f":"N9","v":121},{"$f":"COUNTIF(L7:L32,T9)","v":0},{"$f":"U9/(W4-U13)","v":0},{"$f":"IF(V9=0,0,(V9*((LOG(V9))/LOG(2))))","v":0},null,{"$f":"N9","v":121},{"$f":"COUNTIF(L33:L58,Y9)","v":0},{"$f":"Z9/(AB4-Z13)","v":0},{"$f":"IF(AA9=0,0,(AA9*((LOG(AA9))/LOG(2))))","v":0},null,{"$f":"N9","v":121},{"$f":"COUNTIF(L59:L83,AD9)","v":0},{"$f":"AE9/(AG4-AE13)","v":0},{"$f":"IF(AF9=0,0,(AF9*((LOG(AF9))/LOG(2))))","v":0},null,{"$f":"N9","v":121},{"$f":"COUNTIF(L84:L109,AI9)","v":0},{"$f":"AJ9/(AL4-AJ13)","v":0},{"$f":"IF(AK9=0,0,(AK9*((LOG(AK9))/LOG(2))))","v":0},null,{"$f":"N9","v":121},{"$f":"COUNTIF(L110:L135,AN9)","v":0},{"$f":"AO9/(AQ4-AO13)","v":0},{"$f":"IF(AP9=0,0,(AP9*((LOG(AP9))/LOG(2))))","v":0},null,{"$f":"N9","v":121},{"$f":"COUNTIF(L136:L161,AS9)","v":0},{"$f":"AT9/(AV4-AT13)","v":0},{"$f":"IF(AU9=0,0,(AU9*((LOG(AU9))/LOG(2))))","v":0}]
[21,345,21,349,11,363,null,null,null,null,0,221,null,122,{"$f":"COUNTIF($L$7:$L$500,N10)","v":1},{"$f":"O10/$Q$4","v":6.4516129032258064E-3},{"$f":"IF(P10=0,0,(P10*((LOG(P10))/LOG(2))))","v":-4.694273809854347E-2},null,null,{"$f":"N10","v":122},{"$f":"COUNTIF(L7:L32,T10)","v":0},{"$f":"U10/(W4-U13)","v":0},{"$f":"IF(V10=0,0,(V10*((LOG(V10))/LOG(2))))","v":0},null,{"$f":"N10","v":122},{"$f":"COUNTIF(L33:L58,Y10)","v":0},{"$f":"Z10/(AB4-Z13)","v":0},{"$f":"IF(AA10=0,0,(AA10*((LOG(AA10))/LOG(2))))","v":0},null,{"$f":"N10","v":122},{"$f":"COUNTIF(L59:L83,AD10)","v":1},{"$f":"AE10/(AG4-AE13)","v":5.5555555555555552E-2},{"$f":"IF(AF10=0,0,(AF10*((LOG(AF10))/LOG(2))))","v":-0.23166250008012845},null,{"$f":"N10","v":122},{"$f":"COUNTIF(L84:L109,AI10)","v":0},{"$f":"AJ10/(AL4-AJ13)","v":0},{"$f":"IF(AK10=0,0,(AK10*((LOG(AK10))/LOG(2))))","v":0},null,{"$f":"N10","v":122},{"$f":"COUNTIF(L110:L135,AN10)","v":0},{"$f":"AO10/(AQ4-AO13)","v":0},{"$f":"IF(AP10=0,0,(AP10*((LOG(AP10))/LOG(2))))","v":0},null,{"$f":"N10","v":122},{"$f":"COUNTIF(L136:L161,AS10)","v":0},{"$f":"AT10/(AV4-AT13)","v":0},{"$f":"IF(AU10=0,0,(AU10*((LOG(AU10))/LOG(2))))","v":0}]
[21,670,21,675,11,685,null,null,null,null,0,221,null,211,{"$f":"COUNTIF($L$7:$L$500,N11)","v":90},{"$f":"O11/$Q$4","v":0.58064516129032262},{"$f":"IF(P11=0,0,(P11*((LOG(P11))/LOG(2))))","v":-0.45538334067748809},null,null,{"$f":"N11","v":211},{"$f":"COUNTIF(L7:L32,T11)","v":11},{"$f":"U11/(W4-U13)","v":0.57894736842105265},{"$f":"IF(V11=0,0,(V11*((LOG(V11))/LOG(2))))","v":-0.45649762330890375},null,{"$f":"N11","v":211},{"$f":"COUNTIF(L33:L58,Y11)","v":17},{"$f":"Z11/(AB4-Z13)","v":0.80952380952380953},{"$f":"IF(AA11=0,0,(AA11*((LOG(AA11))/LOG(2))))","v":-0.24678704218967404},null,{"$f":"N11","v":211},{"$f":"COUNTIF(L59:L83,AD11)","v":14},{"$f":"AE11/(AG4-AE13)","v":0.77777777777777779},{"$f":"IF(AF11=0,0,(AF11*((LOG(AF11))/LOG(2))))","v":-0.28199895063255082},null,{"$f":"N11","v":211},{"$f":"COUNTIF(L84:L109,AI11)","v":14},{"$f":"AJ11/(AL4-AJ13)","v":0.66666666666666663},{"$f":"IF(AK11=0,0,(AK11*((LOG(AK11))/LOG(2))))","v":-0.38997500048077083},null,{"$f":"N11","v":211},{"$f":"COUNTIF(L110:L135,AN11)","v":16},{"$f":"AO11/(AQ4-AO13)","v":0.76190476190476186},{"$f":"IF(AP11=0,0,(AP11*((LOG(AP11))/LOG(2))))","v":-0.29890851259334122},null,{"$f":"N11","v":211},{"$f":"COUNTIF(L136:L161,AS11)","v":18},{"$f":"AT11/(AV4-AT13)","v":0.9},{"$f":"IF(AU11=0,0,(AU11*((LOG(AU11))/LOG(2))))","v":-0.13680278410054494}]
[12,876,14,880,13,886,null,null,null,null,0,111,null,212,{"$f":"COUNTIF($L$7:$L$500,N12)","v":5},{"$f":"O12/$Q$4","v":3.2258064516129031E-2},{"$f":"IF(P12=0,0,(P12*((LOG(P12))/LOG(2))))","v":-0.15981278420602821},null,null,{"$f":"N12","v":212},{"$f":"COUNTIF(L7:L32,T12)","v":2},{"$f":"U12/(W4-U13)","v":0.10526315789473684},{"$f":"IF(V12=0,0,(V12*((LOG(V12))/LOG(2))))","v":-0.34188710667827216},null,{"$f":"N12","v":212},{"$f":"COUNTIF(L33:L58,Y12)","v":2},{"$f":"Z12/(AB4-Z13)","v":9.5238095238095233E-2},{"$f":"IF(AA12=0,0,(AA12*((LOG(AA12))/LOG(2))))","v":-0.32307784978845333},null,{"$f":"N12","v":212},{"$f":"COUNTIF(L59:L83,AD12)","v":0},{"$f":"AE12/(AG4-AE13)","v":0},{"$f":"IF(AF12=0,0,(AF12*((LOG(AF12))/LOG(2))))","v":0},null,{"$f":"N12","v":212},{"$f":"COUNTIF(L84:L109,AI12)","v":1},{"$f":"AJ12/(AL4-AJ13)","v":4.7619047619047616E-2},{"$f":"IF(AK12=0,0,(AK12*((LOG(AK12))/LOG(2))))","v":-0.20915797251327431},null,{"$f":"N12","v":212},{"$f":"COUNTIF(L110:L135,AN12)","v":0},{"$f":"AO12/(AQ4-AO13)","v":0},{"$f":"IF(AP12=0,0,(AP12*((LOG(AP12))/LOG(2))))","v":0},null,{"$f":"N12","v":212},{"$f":"COUNTIF(L136:L161,AS12)","v":0},{"$f":"AT12/(AV4-AT13)","v":0},{"$f":"IF(AU12=0,0,(AU12*((LOG(AU12))/LOG(2))))","v":0}]
[21,982,12,990,13,998,null,null,null,null,0,211,null,221,{"$f":"COUNTIF($L$7:$L$500,N13)","v":35},{"$f":"O13/$Q$4","v":0.22580645161290322},{"$f":"IF(P13=0,0,(P13*((LOG(P13))/LOG(2))))","v":-0.48477063607435156},null,null,{"$f":"N13","v":221},{"$f":"COUNTIF(L7:L32,T13)","v":7},null,null,null,{"$f":"N13","v":221},{"$f":"COUNTIF(L33:L58,Y13)","v":5},null,null,null,{"$f":"N13","v":221},{"$f":"COUNTIF(L59:L83,AD13)","v":7},null,null,null,{"$f":"N13","v":221},{"$f":"COUNTIF(L84:L109,AI13)","v":5},null,null,null,{"$f":"N13","v":221},{"$f":"COUNTIF(L110:L135,AN13)","v":5},null,null,null,{"$f":"N13","v":221},{"$f":"COUNTIF(L136:L161,AS13)","v":6}]
[21,1096,12,1108,13,1116,null,null,null,null,0,211,null,222,{"$f":"COUNTIF($L$7:$L$500,N14)","v":15},{"$f":"O14/$Q$4","v":9.6774193548387094E-2},{"$f":"IF(P14=0,0,(P14*((LOG(P14))/LOG(2))))","v":-0.32605488480635986},null,null,{"$f":"N14","v":222},{"$f":"COUNTIF(L7:L32,T14)","v":1},{"$f":"U14/(W4-U13)","v":5.2631578947368418E-2},{"$f":"IF(V14=0,0,(V14*((LOG(V14))/LOG(2))))","v":-0.22357513228650452},null,{"$f":"N14","v":222},{"$f":"COUNTIF(L33:L58,Y14)","v":1},{"$f":"Z14/(AB4-Z13)","v":4.7619047619047616E-2},{"$f":"IF(AA14=0,0,(AA14*((LOG(AA14))/LOG(2))))","v":-0.20915797251327431},null,{"$f":"N14","v":222},{"$f":"COUNTIF(L59:L83,AD14)","v":2},{"$f":"AE14/(AG4-AE13)","v":0.1111111111111111},{"$f":"IF(AF14=0,0,(AF14*((LOG(AF14))/LOG(2))))","v":-0.3522138890491458},null,{"$f":"N14","v":222},{"$f":"COUNTIF(L84:L109,AI14)","v":5},{"$f":"AJ14/(AL4-AJ13)","v":0.23809523809523808},{"$f":"IF(AK14=0,0,(AK14*((LOG(AK14))/LOG(2))))","v":-0.49294983997414238},null,{"$f":"N14","v":222},{"$f":"COUNTIF(L110:L135,AN14)","v":4},{"$f":"AO14/(AQ4-AO13)","v":0.19047619047619047},{"$f":"IF(AP14=0,0,(AP14*((LOG(AP14))/LOG(2))))","v":-0.4556795091007162},null,{"$f":"N14","v":222},{"$f":"COUNTIF(L136:L161,AS14)","v":2},{"$f":"AT14/(AV4-AT13)","v":0.1},{"$f":"IF(AU14=0,0,(AU14*((LOG(AU14))/LOG(2))))","v":-0.33219280948873625}]
[21,1213,12,1226,24,1250,null,null,null,null,0,212,null,null,null,{"$f":"SUM(P7:P14)","v":1},{"$f":"-SUM(Q7:Q14)","v":1.7406103170722429},null,null,null,null,{"$f":"SUM(V7:V14)","v":1},{"$f":"-SUM(W7:W14)","v":1.7187828921272554},null,null,null,{"$f":"SUM(AA7:AA14)","v":1},{"$f":"-SUM(AB7:AB14)","v":0.98818083700467596},null,null,null,{"$f":"SUM(AF7:AF14)","v":1},{"$f":"-SUM(AG7:AG14)","v":1.0975378398419535},null,null,null,{"$f":"SUM(AK7:AK14)","v":1},{"$f":"-SUM(AL7:AL14)","v":1.3012407854814618},null,null,null,{"$f":"SUM(AP7:AP14)","v":1},{"$f":"-SUM(AQ7:AQ14)","v":0.96374599420733176},null,null,null,{"$f":"SUM(AU7:AU14)","v":1},{"$f":"-SUM(AV7:AV14)","v":0.46899559358928122}]
[21,1344,21,1346,11,1359,null,null,null,null,0,221,null,null,null,"U=",{"$f":"Q15/(LOG(Q4)/LOG(2))","v":0.23922217654917063},null,null,null,null,"U1=",{"$f":"W15/(LOG(W4)/LOG(2))","v":0.36566427721510952},null,null,null,"U2=",{"$f":"AB15/(LOG(AB4)/LOG(2))","v":0.21023157326980405},null,null,null,"U3=",{"$f":"AG15/(LOG(AG4)/LOG(2))","v":0.23634190960921969},null,null,null,"U4=",{"$f":"AL15/(LOG(AL4)/LOG(2))","v":0.27683384183385945},null,null,null,"U5=",{"$f":"AQ15/(LOG(AQ4)/LOG(2))","v":0.20503315689547225},null,null,null,"U6=",{"$f":"AV15/(LOG(AV4)/LOG(2))","v":9.9776961670036579E-2}]
[21,1571,21,1575,22,1581,null,null,null,null,0,222]
[21,1675,12,1690,13,1701,null,null,null,null,0,211]
[21,1794,21,1796,11,1809,null,null,null,null,0,221,null,"Total Target Seq"]
[12,2068,14,2074,13,2083,null,null,null,null,0,111,null,{"$f":"COUNTIF(L7:L161,G3)","v":35},null,26,26,25,26,26,26]
[21,2178,12,2188,13,2196,null,null,null,null,0,211,null,null,null,"% of reinforcement given in 6 equal intervals based on number of trials "]
[21,2292,12,2301,13,2311,null,null,null,null,0,211,null,null,null,"%_1","%_2","%_3","%_4","%_5","%_6"]
[21,2408,12,2416,13,2429,null,null,null,null,0,211,null,null,"target sequence",{"$f":"$G$3","v":221},{"$f":"$G$3","v":221},{"$f":"$G$3","v":221},{"$f":"$G$3","v":221},{"$f":"$G$3","v":221},{"$f":"$G$3","v":221}]
[21,2527,12,2541,24,2556,null,null,null,null,0,212,null,null,"total reinforcement",{"$f":"U13","v":7},{"$f":"Z13","v":5},{"$f":"AE13","v":7},{"$f":"AJ13","v":5},{"$f":"AO13","v":5},{"$f":"AT13","v":6}]
[21,2651,12,2663,13,2675,null,null,null,null,0,211,null,null,"% target"]
[21,2770,12,2779,13,2788,null,null,null,null,0,211,null,null,"CCRF"]
[21,2881,21,2885,11,2895,null,null,null,null,0,221,null,null,"% CCRf"]
[12,3154,14,3160,13,3169,null,null,null,null,0,111,null,null,"average response rate",{"$f":"F32/P20","v":139.73076923076923},{"$f":"(F58-F32)/Q20","v":145.03846153846155},{"$f":"(F83-F58)/R20","v":156.6},{"$f":"(F109-F83)/S20","v":146.53846153846155},{"$f":"(F135-F109)/T20","v":142.65384615384616},{"$f":"(F161-F135)/U20","v":197.61538461538461}]
[21,3265,21,3268,11,3275,null,null,null,null,0,221]
[12,3376,14,3386,24,3400,null,null,null,null,0,112]
[21,3496,12,3506,13,3522,null,null,null,null,0,211]
[21,3619,21,3626,11,3633,null,null,null,null,0,221]
[21,3898,12,3907,13,3922,null,null,null,null,0,211]
[21,4020,21,4022,11,4034,null,null,null,null,0,221]
[12,4286,14,4289,13,4295,null,null,null,null,0,111]
[21,4408,12,4420,24,4432,null,null,null,null,0,212]
[21,4528,12,4541,13,4551,null,null,null,null,0,211]
[21,4647,12,4663,24,4686,null,null,null,null,0,212]
[21,4782,12,4791,13,4807,null,null,null,null,0,211]
[21,4903,12,4917,13,4928,null,null,null,null,0,211]
[21,5022,21,5024,11,5036,null,null,null,null,0,221]
[21,5199,12,5208,13,5211,null,null,null,null,0,211]
[21,5304,21,5307,22,5309,null,null,null,null,0,222]
[21,5406,21,5411,11,5421,null,null,null,null,0,221]
[21,5757,12,5765,13,5768,null,null,null,null,0,211]
[21,5862,21,5865,11,5878,null,null,null,null,0,221]
[21,6051,12,6063,13,6068,null,null,null,null,0,211]
[21,6168,21,6171,11,6183,null,null,null,null,0,221]
[21,6342,12,6351,13,6357,null,null,null,null,0,211]
[21,6453,12,6462,13,6471,null,null,null,null,0,211]
[21,6568,12,6577,13,6590,null,null,null,null,0,211]
[21,6685,12,6698,13,6709,null,null,null,null,0,211]
[21,6804,12,6814,13,6821,null,null,null,null,0,211]
[21,6913,12,6924,13,6933,null,null,null,null,0,211]
[21,7027,12,7038,13,7052,null,null,null,null,0,211]
[21,7149,12,7159,13,7168,null,null,null,null,0,211]
[21,7265,12,7273,13,7292,null,null,null,null,0,211]
[21,7385,12,7394,13,7404,null,null,null,null,0,211]
[21,7500,21,7505,11,7519,null,null,null,null,0,221]
[21,7774,12,7783,13,7788,null,null,null,null,0,211]
[21,7884,12,7895,13,7900,null,null,null,null,0,211]
[21,7996,12,8008,13,8015,null,null,null,null,0,211]
[21,8109,21,8114,11,8121,null,null,null,null,0,221]
[21,8299,12,8308,13,8311,null,null,null,null,0,211]
[21,8405,12,8417,13,8426,null,null,null,null,0,211]
[21,8521,12,8535,13,8542,null,null,null,null,0,211]
[21,8636,21,8639,11,8650,null,null,null,null,0,221]
[21,8865,12,8876,13,8882,null,null,null,null,0,211]
[21,8975,12,8992,13,9000,null,null,null,null,0,211]
[21,9096,21,9099,11,9110,null,null,null,null,0,221]
[21,9571,12,9583,13,9587,null,null,null,null,0,211]
[21,9681,21,9688,22,9695,null,null,null,null,0,222]
[21,9793,12,9801,13,9805,null,null,null,null,0,211]
[21,9903,12,9913,13,9927,null,null,null,null,0,211]
[21,10023,12,10032,13,10039,null,null,null,null,0,211]
[21,10133,21,10137,11,10148,null,null,null,null,0,221]
[12,10400,23,10415,24,10419,null,null,null,null,0,122]
[21,10511,21,10514,22,10518,null,null,null,null,0,222]
[21,10613,21,10618,11,10626,null,null,null,null,0,221]
[21,10848,12,10858,13,10864,null,null,null,null,0,211]
[21,10958,12,10968,13,10982,null,null,null,null,0,211]
[21,11075,21,11079,11,11092,null,null,null,null,0,221]
[12,11310,14,11313,13,11319,null,null,null,null,0,111]
[21,11415,21,11421,22,11425,null,null,null,null,0,222]
[21,11522,21,11525,11,11536,null,null,null,null,0,221]
[21,11722,12,11732,13,11734,null,null,null,null,0,211]
[21,11829,12,11840,13,11856,null,null,null,null,0,211]
[21,11952,12,11954,13,11961,null,null,null,null,0,211]
[21,12058,12,12071,13,12078,null,null,null,null,0,211]
[21,12176,12,12187,13,12189,null,null,null,null,0,211]
[21,12287,12,12296,13,12300,null,null,null,null,0,211]
[21,12396,21,12408,22,12416,null,null,null,null,0,222]
[21,12513,21,12519,11,12528,null,null,null,null,0,221]
[21,12763,12,12772,13,12779,null,null,null,null,0,211]
[21,12873,12,12885,13,12892,null,null,null,null,0,211]
[21,12989,12,13001,13,13012,null,null,null,null,0,211]
[21,13108,12,13122,24,13126,null,null,null,null,0,212]
[21,13223,12,13232,13,13236,null,null,null,null,0,211]
[21,13330,21,13345,22,13350,null,null,null,null,0,222]
[21,13444,21,13450,11,13458,null,null,null,null,0,221]
[21,13716,12,13724,13,13727,null,null,null,null,0,211]
[21,13862,21,13878,22,13885,null,null,null,null,0,222]
[21,13977,21,13982,11,13992,null,null,null,null,0,221]
[12,14393,14,14398,13,14418,null,null,null,null,0,111]
[21,14522,21,14526,22,14529,null,null,null,null,0,222]
[21,14624,12,14641,13,14651,null,null,null,null,0,211]
[21,14746,21,14750,11,14760,null,null,null,null,0,221]
[21,14984,12,14991,13,15004,null,null,null,null,0,211]
[21,15114,12,15124,13,15129,null,null,null,null,0,211]
[21,15222,21,15233,22,15238,null,null,null,null,0,222]
[21,15335,21,15339,11,15346,null,null,null,null,0,221]
[12,15575,14,15582,13,15589,null,null,null,null,0,111]
[21,15683,21,15685,22,15688,null,null,null,null,0,222]
[21,15780,21,15782,22,15785,null,null,null,null,0,222]
[21,15878,21,15881,11,15890,null,null,null,null,0,221]
[21,16132,12,16142,13,16148,null,null,null,null,0,211]
[21,16243,12,16254,13,16262,null,null,null,null,0,211]
[21,16358,12,16370,13,16380,null,null,null,null,0,211]
[21,16477,12,16486,13,16489,null,null,null,null,0,211]
[21,16585,12,16596,13,16603,null,null,null,null,0,211]
[21,16700,21,16704,11,16713,null,null,null,null,0,221]
[21,17103,12,17116,13,17121,null,null,null,null,0,211]
[21,17217,12,17231,13,17241,null,null,null,null,0,211]
[21,17338,21,17344,11,17352,null,null,null,null,0,221]
[21,17584,12,17591,13,17600,null,null,null,null,0,211]
[21,17696,12,17706,13,17711,null,null,null,null,0,211]
[21,17809,12,17823,13,17831,null,null,null,null,0,211]
[21,17922,21,17925,22,17927,null,null,null,null,0,222]
[21,18024,12,18035,13,18044,null,null,null,null,0,211]
[21,18139,12,18150,13,18159,null,null,null,null,0,211]
[21,18253,12,18263,13,18271,null,null,null,null,0,211]
[21,18369,12,18378,13,18384,null,null,null,null,0,211]
[21,18478,12,18489,13,18491,null,null,null,null,0,211]
[21,18587,21,18596,11,18605,null,null,null,null,0,221]
[21,18828,12,18835,13,18838,null,null,null,null,0,211]
[21,18931,21,18938,11,18947,null,null,null,null,0,221]
[21,19238,12,19250,13,19255,null,null,null,null,0,211]
[21,19352,12,19361,13,19367,null,null,null,null,0,211]
[21,19461,21,19465,22,19473,null,null,null,null,0,222]
[21,19565,12,19574,13,19580,null,null,null,null,0,211]
[21,19676,12,19690,13,19705,null,null,null,null,0,211]
[21,19802,12,19815,13,19823,null,null,null,null,0,211]
[21,19922,12,19933,13,19941,null,null,null,null,0,211]
[21,20037,12,20049,13,20055,null,null,null,null,0,211]
[21,20149,12,20159,13,20167,null,null,null,null,0,211]
[21,20259,12,20270,13,20280,null,null,null,null,0,211]
[21,20373,21,20374,22,20379,null,null,null,null,0,222]
[21,20472,12,20487,13,20496,null,null,null,null,0,211]
[21,20592,21,20596,11,20603,null,null,null,null,0,221]
[21,21422,21,21426,11,21436,null,null,null,null,0,221]
[21,21928,12,21940,13,21946,null,null,null,null,0,211]
[21,22051,21,22053,11,22061,null,null,null,null,0,221]
[21,22947,12,22955,13,22965,null,null,null,null,0,211]
[21,23073,12,23084,13,23091,null,null,null,null,0,211]
[21,23188,21,23192,11,23203,null,null,null,null,0,221]
[21,23392,12,23403,13,23410,null,null,null,null,0,211]
[21,23508,12,23515,13,23517,null,null,null,null,0,211]
[21,23613,12,23624,13,23630,null,null,null,null,0,211]
[21,23726,12,23739,13,23751,null,null,null,null,0,211]
[21,23848,12,23858,13,23863,null,null,null,null,0,211]
[21,23960,21,23968,11,23976,null,null,null,null,1,221]

{"sheet":"!MA1994T.AYL","index":20,"n_rows":98,"n_cols":48,"rows_kept":98,"cut":false,"hidden":false,"merged":[[4,39,4,42],[5,39,5,40],[4,44,4,47],[5,44,5,45],[4,24,4,27],[5,24,5,25],[4,29,4,32],[5,29,5,30],[4,34,4,37],[5,34,5,35],[1,1,1,2],[5,13,5,14],[18,13,18,14],[19,13,19,14],[4,19,4,22],[5,19,5,20]]}
["Report for:!MA1994T.AYL"]
["Date:","<date>"]
["Hen:","<hen>",null,null,null,"Correct Sequence",{"$f":"Start!J2","v":221},null,null,null,null,null,null,null,null,"Total Sequences in Data",{"$f":"4994-COUNTBLANK(L7:L5000)","v":92},null,null,null,null,"Total Sequences in Block Data",{"$f":"COUNTA(L7:L21)","v":15},null,null,null,"Total Sequences in Block Data",{"$f":"COUNTA(L22:L37)","v":16},null,null,null,"Total Sequences in Block Data",{"$f":"COUNTA(L38:L52)","v":15},null,null,null,"Total Sequences in Block Data",{"$f":"COUNTA(L53:L67)","v":15},null,null,null,"Total Sequences in Block Data",{"$f":"COUNTA(L68:L83)","v":16},null,null,null,"Total Sequences in Block Data",{"$f":"COUNTA(L84:L98)","v":15}]
[null,null,null,null,null,null,null,null,null,null,null,null,null,null,null,"Total Sequences in Summary",{"$f":"SUM(O7:O14)","v":91},null,null,null,null,"Total Sequences in Block Summary",{"$f":"SUM(U7:U14)","v":15},null,null,null,"Total Sequences in Block Summary",{"$f":"SUM(Z7:Z14)","v":16},null,null,null,"Total Sequences in Block Summary",{"$f":"SUM(AE7:AE14)","v":15},null,null,null,"Total Sequences in Block Summary",{"$f":"SUM(AJ7:AJ14)","v":15},null,null,null,"Total Sequences in Block Summary",{"$f":"SUM(AO7:AO14)","v":16},null,null,null,"Total Sequences in Block Summary",{"$f":"SUM(AT7:AT14)","v":14}]
[null,null,null,null,null,null,null,null,null,null,null,null,null,null,null,null,null,null,null,"Block 1",null,null,null,null,"Block 2",null,null,null,null,"Block 3",null,null,null,null,"Block 4",null,null,null,null,"Block 5",null,null,null,null,"Block 6"]
["Sequence\nComponent\n1","Time\n1","Sequence\nComponent\n2","Time\n2","Sequence\nComponent\n3","Time\n3","Sequence\nComponent\n4","Time\n4","Sequence\nComponent\n5","Time\n5","Correct?\n0=No 1=Yes","Sequence",null,"Frequency",null,"Relative Frequency","Variability",null,null,"Frequency",null,"Relative Frequency","Variability",null,"Frequency",null,"Relative Frequency","Variability",null,"Frequency",null,"Relative Frequency","Variability",null,"Frequency",null,"Relative Frequency","Variability",null,"Frequency",null,"Relative Frequency","Variability",null,"Frequency",null,"Relative Frequency","Variability"]
[12,4,14,9,24,21,null,null,null,null,0,112,null,111,{"$f":"COUNTIF($L$7:$L$500,N7)","v":6},{"$f":"O7/$Q$4","v":6.5934065934065936E-2},{"$f":"IF(P7=0,0,(P7*((LOG(P7))/LOG(2))))","v":-0.25864827293258508},null,null,{"$f":"N7","v":111},{"$f":"COUNTIF(L7:L21,T7)","v":2},{"$f":"U7/(W4-U13)","v":0.22222222222222221},{"$f":"IF(V7=0,0,(V7*((LOG(V7))/LOG(2))))","v":-0.48220555587606945},null,{"$f":"N7","v":111},{"$f":"COUNTIF(L22:L37,Y7)","v":1},{"$f":"Z7/(AB4-Z13)","v":9.0909090909090912E-2},{"$f":"IF(AA7=0,0,(AA7*((LOG(AA7))/LOG(2))))","v":-0.31449378351248153},null,{"$f":"N7","v":111},{"$f":"COUNTIF(L38:L52,AD7)","v":0},{"$f":"AE7/(AG4-AE13)","v":0},{"$f":"IF(AF7=0,0,(AF7*((LOG(AF7))/LOG(2))))","v":0},null,{"$f":"N7","v":111},{"$f":"COUNTIF(L53:L67,AI7)","v":1},{"$f":"AJ7/(AL4-AJ13)","v":0.1},{"$f":"IF(AK7=0,0,(AK7*((LOG(AK7))/LOG(2))))","v":-0.33219280948873625},null,{"$f":"N7","v":111},{"$f":"COUNTIF(L68:L83,AN7)","v":2},{"$f":"AO7/(AQ4-AO13)","v":0.16666666666666666},{"$f":"IF(AP7=0,0,(AP7*((LOG(AP7))/LOG(2))))","v":-0.43082708345352599},null,{"$f":"N7","v":111},{"$f":"COUNTIF(L84:L98,AS7)","v":0},{"$f":"AT7/(AV4-AT13)","v":0},{"$f":"IF(AU7=0,0,(AU7*((LOG(AU7))/LOG(2))))","v":0}]
[12,121,14,129,13,136,null,null,null,null,0,111,null,112,{"$f":"COUNTIF($L$7:$L$500,N8)","v":1},{"$f":"O8/$Q$4","v":1.098901098901099E-2},{"$f":"IF(P8=0,0,(P8*((LOG(P8))/LOG(2))))","v":-7.1514226815370299E-2},null,null,{"$f":"N8","v":112},{"$f":"COUNTIF(L7:L21,T8)","v":1},{"$f":"U8/(W4-U13)","v":0.1111111111111111},{"$f":"IF(V8=0,0,(V8*((LOG(V8))/LOG(2))))","v":-0.3522138890491458},null,{"$f":"N8","v":112},{"$f":"COUNTIF(L22:L37,Y8)","v":0},{"$f":"Z8/(AB4-Z13)","v":0},{"$f":"IF(AA8=0,0,(AA8*((LOG(AA8))/LOG(2))))","v":0},null,{"$f":"N8","v":112},{"$f":"COUNTIF(L38:L52,AD8)","v":0},{"$f":"AE8/(AG4-AE13)","v":0},{"$f":"IF(AF8=0,0,(AF8*((LOG(AF8))/LOG(2))))","v":0},null,{"$f":"N8","v":112},{"$f":"COUNTIF(L53:L67,AI8)","v":0},{"$f":"AJ8/(AL4-AJ13)","v":0},{"$f":"IF(AK8=0,0,(AK8*((LOG(AK8))/LOG(2))))","v":0},null,{"$f":"N8","v":112},{"$f":"COUNTIF(L68:L83,AN8)","v":0},{"$f":"AO8/(AQ4-AO13)","v":0},{"$f":"IF(AP8=0,0,(AP8*((LOG(AP8))/LOG(2))))","v":0},null,{"$f":"N8","v":112},{"$f":"COUNTIF(L84:L98,AS8)","v":0},{"$f":"AT8/(AV4-AT13)","v":0},{"$f":"IF(AU8=0,0,(AU8*((LOG(AU8))/LOG(2))))","v":0}]
[21,235,21,237,11,248,null,null,null,null,0,221,null,121,{"$f":"COUNTIF($L$7:$L$500,N9)","v":0},{"$f":"O9/$Q$4","v":0},{"$f":"IF(P9=0,0,(P9*((LOG(P9))/LOG(2))))","v":0},null,null,{"$f":"N9","v":121},{"$f":"COUNTIF(L7:L21,T9)","v":0},{"$f":"U9/(W4-U13)","v":0},{"$f":"IF(V9=0,0,(V9*((LOG(V9))/LOG(2))))","v":0},null,{"$f":"N9","v":121},{"$f":"COUNTIF(L22:L37,Y9)","v":0},{"$f":"Z9/(AB4-Z13)","v":0},{"$f":"IF(AA9=0,0,(AA9*((LOG(AA9))/LOG(2))))","v":0},null,{"$f":"N9","v":121},{"$f":"COUNTIF(L38:L52,AD9)","v":0},{"$f":"AE9/(AG4-AE13)","v":0},{"$f":"IF(AF9=0,0,(AF9*((LOG(AF9))/LOG(2))))","v":0},null,{"$f":"N9","v":121},{"$f":"COUNTIF(L53:L67,AI9)","v":0},{"$f":"AJ9/(AL4-AJ13)","v":0},{"$f":"IF(AK9=0,0,(AK9*((LOG(AK9))/LOG(2))))","v":0},null,{"$f":"N9","v":121},{"$f":"COUNTIF(L68:L83,AN9)","v":0},{"$f":"AO9/(AQ4-AO13)","v":0},{"$f":"IF(AP9=0,0,(AP9*((LOG(AP9))/LOG(2))))","v":0},null,{"$f":"N9","v":121},{"$f":"COUNTIF(L84:L98,AS9)","v":0},{"$f":"AT9/(AV4-AT13)","v":0},{"$f":"IF(AU9=0,0,(AU9*((LOG(AU9))/LOG(2))))","v":0}]
[12,401,14,407,13,412,null,null,null,null,0,111,null,122,{"$f":"COUNTIF($L$7:$L$500,N10)","v":0},{"$f":"O10/$Q$4","v":0},{"$f":"IF(P10=0,0,(P10*((LOG(P10))/LOG(2))))","v":0},null,null,{"$f":"N10","v":122},{"$f":"COUNTIF(L7:L21,T10)","v":0},{"$f":"U10/(W4-U13)","v":0},{"$f":"IF(V10=0,0,(V10*((LOG(V10))/LOG(2))))","v":0},null,{"$f":"N10","v":122},{"$f":"COUNTIF(L22:L37,Y10)","v":0},{"$f":"Z10/(AB4-Z13)","v":0},{"$f":"IF(AA10=0,0,(AA10*((LOG(AA10))/LOG(2))))","v":0},null,{"$f":"N10","v":122},{"$f":"COUNTIF(L38:L52,AD10)","v":0},{"$f":"AE10/(AG4-AE13)","v":0},{"$f":"IF(AF10=0,0,(AF10*((LOG(AF10))/LOG(2))))","v":0},null,{"$f":"N10","v":122},{"$f":"COUNTIF(L53:L67,AI10)","v":0},{"$f":"AJ10/(AL4-AJ13)","v":0},{"$f":"IF(AK10=0,0,(AK10*((LOG(AK10))/LOG(2))))","v":0},null,{"$f":"N10","v":122},{"$f":"COUNTIF(L68:L83,AN10)","v":0},{"$f":"AO10/(AQ4-AO13)","v":0},{"$f":"IF(AP10=0,0,(AP10*((LOG(AP10))/LOG(2))))","v":0},null,{"$f":"N10","v":122},{"$f":"COUNTIF(L84:L98,AS10)","v":0},{"$f":"AT10/(AV4-AT13)","v":0},{"$f":"IF(AU10=0,0,(AU10*((LOG(AU10))/LOG(2))))","v":0}]
[21,507,21,509,11,529,null,null,null,null,0,221,null,211,{"$f":"COUNTIF($L$7:$L$500,N11)","v":47},{"$f":"O11/$Q$4","v":0.51648351648351654},{"$f":"IF(P11=0,0,(P11*((LOG(P11))/LOG(2))))","v":-0.49231507758779958},null,null,{"$f":"N11","v":211},{"$f":"COUNTIF(L7:L21,T11)","v":5},{"$f":"U11/(W4-U13)","v":0.55555555555555558},{"$f":"IF(V11=0,0,(V11*((LOG(V11))/LOG(2))))","v":-0.4711093925305278},null,{"$f":"N11","v":211},{"$f":"COUNTIF(L22:L37,Y11)","v":9},{"$f":"Z11/(AB4-Z13)","v":0.81818181818181823},{"$f":"IF(AA11=0,0,(AA11*((LOG(AA11))/LOG(2))))","v":-0.23686905043226034},null,{"$f":"N11","v":211},{"$f":"COUNTIF(L38:L52,AD11)","v":11},{"$f":"AE11/(AG4-AE13)","v":1},{"$f":"IF(AF11=0,0,(AF11*((LOG(AF11))/LOG(2))))","v":0},null,{"$f":"N11","v":211},{"$f":"COUNTIF(L53:L67,AI11)","v":7},{"$f":"AJ11/(AL4-AJ13)","v":0.7},{"$f":"IF(AK11=0,0,(AK11*((LOG(AK11))/LOG(2))))","v":-0.36020122098083079},null,{"$f":"N11","v":211},{"$f":"COUNTIF(L68:L83,AN11)","v":8},{"$f":"AO11/(AQ4-AO13)","v":0.66666666666666663},{"$f":"IF(AP11=0,0,(AP11*((LOG(AP11))/LOG(2))))","v":-0.38997500048077083},null,{"$f":"N11","v":211},{"$f":"COUNTIF(L84:L98,AS11)","v":7},{"$f":"AT11/(AV4-AT13)","v":0.77777777777777779},{"$f":"IF(AU11=0,0,(AU11*((LOG(AU11))/LOG(2))))","v":-0.28199895063255082}]
[21,647,12,656,13,665,null,null,null,null,0,211,null,212,{"$f":"COUNTIF($L$7:$L$500,N12)","v":1},{"$f":"O12/$Q$4","v":1.098901098901099E-2},{"$f":"IF(P12=0,0,(P12*((LOG(P12))/LOG(2))))","v":-7.1514226815370299E-2},null,null,{"$f":"N12","v":212},{"$f":"COUNTIF(L7:L21,T12)","v":0},{"$f":"U12/(W4-U13)","v":0},{"$f":"IF(V12=0,0,(V12*((LOG(V12))/LOG(2))))","v":0},null,{"$f":"N12","v":212},{"$f":"COUNTIF(L22:L37,Y12)","v":0},{"$f":"Z12/(AB4-Z13)","v":0},{"$f":"IF(AA12=0,0,(AA12*((LOG(AA12))/LOG(2))))","v":0},null,{"$f":"N12","v":212},{"$f":"COUNTIF(L38:L52,AD12)","v":0},{"$f":"AE12/(AG4-AE13)","v":0},{"$f":"IF(AF12=0,0,(AF12*((LOG(AF12))/LOG(2))))","v":0},null,{"$f":"N12","v":212},{"$f":"COUNTIF(L53:L67,AI12)","v":1},{"$f":"AJ12/(AL4-AJ13)","v":0.1},{"$f":"IF(AK12=0,0,(AK12*((LOG(AK12))/LOG(2))))","v":-0.33219280948873625},null,{"$f":"N12","v":212},{"$f":"COUNTIF(L68:L83,AN12)","v":0},{"$f":"AO12/(AQ4-AO13)","v":0},{"$f":"IF(AP12=0,0,(AP12*((LOG(AP12))/LOG(2))))","v":0},null,{"$f":"N12","v":212},{"$f":"COUNTIF(L84:L98,AS12)","v":0},{"$f":"AT12/(AV4-AT13)","v":0},{"$f":"IF(AU12=0,0,(AU12*((LOG(AU12))/LOG(2))))","v":0}]
[21,762,21,764,11,778,null,null,null,null,0,221,null,221,{"$f":"COUNTIF($L$7:$L$500,N13)","v":29},{"$f":"O13/$Q$4","v":0.31868131868131866},{"$f":"IF(P13=0,0,(P13*((LOG(P13))/LOG(2))))","v":-0.52576478798969895},null,null,{"$f":"N13","v":221},{"$f":"COUNTIF(L7:L21,T13)","v":6},null,null,null,{"$f":"N13","v":221},{"$f":"COUNTIF(L22:L37,Y13)","v":5},null,null,null,{"$f":"N13","v":221},{"$f":"COUNTIF(L38:L52,AD13)","v":4},null,null,null,{"$f":"N13","v":221},{"$f":"COUNTIF(L53:L67,AI13)","v":5},null,null,null,{"$f":"N13","v":221},{"$f":"COUNTIF(L68:L83,AN13)","v":4},null,null,null,{"$f":"N13","v":221},{"$f":"COUNTIF(L84:L98,AS13)","v":5}]
[21,915,12,924,13,927,null,null,null,null,0,211,null,222,{"$f":"COUNTIF($L$7:$L$500,N14)","v":7},{"$f":"O14/$Q$4","v":7.6923076923076927E-2},{"$f":"IF(P14=0,0,(P14*((LOG(P14))/LOG(2))))","v":-0.28464920908777636},null,null,{"$f":"N14","v":222},{"$f":"COUNTIF(L7:L21,T14)","v":1},{"$f":"U14/(W4-U13)","v":0.1111111111111111},{"$f":"IF(V14=0,0,(V14*((LOG(V14))/LOG(2))))","v":-0.3522138890491458},null,{"$f":"N14","v":222},{"$f":"COUNTIF(L22:L37,Y14)","v":1},{"$f":"Z14/(AB4-Z13)","v":9.0909090909090912E-2},{"$f":"IF(AA14=0,0,(AA14*((LOG(AA14))/LOG(2))))","v":-0.31449378351248153},null,{"$f":"N14","v":222},{"$f":"COUNTIF(L38:L52,AD14)","v":0},{"$f":"AE14/(AG4-AE13)","v":0},{"$f":"IF(AF14=0,0,(AF14*((LOG(AF14))/LOG(2))))","v":0},null,{"$f":"N14","v":222},{"$f":"COUNTIF(L53:L67,AI14)","v":1},{"$f":"AJ14/(AL4-AJ13)","v":0.1},{"$f":"IF(AK14=0,0,(AK14*((LOG(AK14))/LOG(2))))","v":-0.33219280948873625},null,{"$f":"N14","v":222},{"$f":"COUNTIF(L68:L83,AN14)","v":2},{"$f":"AO14/(AQ4-AO13)","v":0.16666666666666666},{"$f":"IF(AP14=0,0,(AP14*((LOG(AP14))/LOG(2))))","v":-0.43082708345352599},null,{"$f":"N14","v":222},{"$f":"COUNTIF(L84:L98,AS14)","v":2},{"$f":"AT14/(AV4-AT13)","v":0.22222222222222221},{"$f":"IF(AU14=0,0,(AU14*((LOG(AU14))/LOG(2))))","v":-0.48220555587606945}]
[21,1025,12,1040,13,1048,null,null,null,null,0,211,null,null,null,{"$f":"SUM(P7:P14)","v":1},{"$f":"-SUM(Q7:Q14)","v":1.7044058012286005},null,null,null,null,{"$f":"SUM(V7:V14)","v":1},{"$f":"-SUM(W7:W14)","v":1.6577427265048887},null,null,null,{"$f":"SUM(AA7:AA14)","v":1},{"$f":"-SUM(AB7:AB14)","v":0.86585661745722331},null,null,null,{"$f":"SUM(AF7:AF14)","v":1},{"$f":"-SUM(AG7:AG14)","v":0},null,null,null,{"$f":"SUM(AK7:AK14)","v":0.99999999999999989},{"$f":"-SUM(AL7:AL14)","v":1.3567796494470397},null,null,null,{"$f":"SUM(AP7:AP14)","v":0.99999999999999989},{"$f":"-SUM(AQ7:AQ14)","v":1.2516291673878228},null,null,null,{"$f":"SUM(AU7:AU14)","v":1},{"$f":"-SUM(AV7:AV14)","v":0.76420450650862026}]
[21,1139,21,1144,11,1154,null,null,null,null,0,221,null,null,null,"U=",{"$f":"Q15/(LOG(Q4)/LOG(2))","v":0.26190221042017414},null,null,null,null,"U1=",{"$f":"W15/(LOG(W4)/LOG(2))","v":0.42431255391902944},null,null,null,"U2=",{"$f":"AB15/(LOG(AB4)/LOG(2))","v":0.21646415436430583},null,null,null,"U3=",{"$f":"AG15/(LOG(AG4)/LOG(2))","v":0},null,null,null,"U4=",{"$f":"AL15/(LOG(AL4)/LOG(2))","v":0.3472786391746181},null,null,null,"U5=",{"$f":"AQ15/(LOG(AQ4)/LOG(2))","v":0.3129072918469557},null,null,null,"U6=",{"$f":"AV15/(LOG(AV4)/LOG(2))","v":0.20071795830781708}]
[21,1387,21,1390,11,1402,null,null,null,null,0,221]
[21,1550,21,1553,11,1563,null,null,null,null,0,221]
[21,1721,12,1730,13,1735,null,null,null,null,0,211,null,"Total Target Seq"]
[21,1829,21,1832,22,1836,null,null,null,null,0,222,null,{"$f":"COUNTIF(L7:L98,G3)","v":29},null,15,16,15,15,16,15]
[21,1931,12,1940,13,1948,null,null,null,null,0,211,null,null,null,"% of reinforcement given in 6 equal intervals based on number of trials "]
[12,2052,14,2055,13,2062,null,null,null,null,0,111,null,null,null,"%_1","%_2","%_3","%_4","%_5","%_6"]
[21,2157,21,2159,11,2176,null,null,null,null,0,221,null,null,"target sequence",{"$f":"$G$3","v":221},{"$f":"$G$3","v":221},{"$f":"$G$3","v":221},{"$f":"$G$3","v":221},{"$f":"$G$3","v":221},{"$f":"$G$3","v":221}]
[21,2418,12,2429,13,2432,null,null,null,null,0,211,null,null,"total reinforcement",{"$f":"U13","v":6},{"$f":"Z13","v":5},{"$f":"AE13","v":4},{"$f":"AJ13","v":5},{"$f":"AO13","v":4},{"$f":"AT13","v":5}]
[21,2530,21,2536,11,2546,null,null,null,null,0,221,null,null,"% target"]
[21,2760,12,2779,13,2786,null,null,null,null,0,211,null,null,"CCRF"]
[21,2883,12,2895,13,2903,null,null,null,null,0,211,null,null,"% CCRf"]
[21,3000,21,3002,11,3014,null,null,null,null,0,221,null,null,"average response rate",{"$f":"F21/P20","v":129.86666666666667},{"$f":"(F37-F21)/Q20","v":147.0625},{"$f":"(F52-F37)/R20","v":153.53333333333333},{"$f":"(F67-F52)/S20","v":464.66666666666669},{"$f":"(F83-F67)/T20","v":329.5},{"$f":"(F98-F83)/U20","v":-1256.4000000000001}]
[21,3219,21,3221,11,3229,null,null,null,null,0,221]
[21,3421,12,3433,13,3439,null,null,null,null,0,211]
[21,3536,12,3548,13,3555,null,null,null,null,0,211]
[21,3651,12,3664,13,3673,null,null,null,null,0,211]
[21,3771,12,3781,13,3783,null,null,null,null,0,211]
[21,3875,21,3882,22,3885,null,null,null,null,0,222]
[21,3982,21,3986,11,3992,null,null,null,null,0,221]
[21,4175,12,4186,13,4193,null,null,null,null,0,211]
[21,4288,12,4299,13,4301,null,null,null,null,0,211]
[21,4398,12,4409,13,4412,null,null,null,null,0,211]
[21,4509,12,4523,13,4538,null,null,null,null,0,211]
[21,4632,12,4642,13,4651,null,null,null,null,0,211]
[21,4746,21,4748,11,4761,null,null,null,null,0,221]
[21,4960,12,4976,13,4988,null,null,null,null,0,211]
[21,5085,21,5094,11,5104,null,null,null,null,0,221]
[21,5275,12,5283,13,5289,null,null,null,null,0,211]
[21,5432,12,5444,13,5449,null,null,null,null,0,211]
[21,5545,21,5548,11,5558,null,null,null,null,0,221]
[21,5833,12,5851,13,5856,null,null,null,null,0,211]
[21,5949,12,5967,13,5975,null,null,null,null,0,211]
[21,6072,12,6091,13,6098,null,null,null,null,0,211]
[21,6194,21,6198,11,6209,null,null,null,null,0,221]
[21,6465,12,6479,13,6482,null,null,null,null,0,211]
[21,6578,12,6597,13,6604,null,null,null,null,0,211]
[21,6701,12,6711,13,6714,null,null,null,null,0,211]
[21,6824,21,6826,22,6829,null,null,null,null,0,222]
[21,6923,21,6926,11,6937,null,null,null,null,0,221]
[12,7811,14,7813,13,7822,null,null,null,null,0,111]
[21,7917,21,7923,11,7953,null,null,null,null,0,221]
[21,8823,12,8838,13,8844,null,null,null,null,0,211]
[21,8941,12,8956,13,8961,null,null,null,null,0,211]
[21,9058,21,9064,11,9080,null,null,null,null,0,221]
[21,9168,12,9172,24,9180,null,null,null,null,0,212]
[21,9276,21,9280,11,9290,null,null,null,null,0,221]
[21,9749,12,9767,13,9774,null,null,null,null,0,211]
[21,9871,12,9879,13,9882,null,null,null,null,0,211]
[21,9979,12,9991,13,9996,null,null,null,null,0,211]
[21,10101,21,10103,11,10111,null,null,null,null,0,221]
[21,13555,12,13568,13,13574,null,null,null,null,0,211]
[21,13670,12,13689,13,13697,null,null,null,null,0,211]
[21,13791,21,13796,11,13812,null,null,null,null,0,221]
[21,13905,21,13909,11,13924,null,null,null,null,0,221]
[12,14124,14,14129,13,14134,null,null,null,null,0,111]
[21,14230,12,14244,13,14252,null,null,null,null,0,211]
[21,14354,21,14356,11,14366,null,null,null,null,0,221]
[12,17636,14,17645,13,17657,null,null,null,null,0,111]
[21,17758,12,17770,13,17776,null,null,null,null,0,211]
[21,17899,12,17910,13,17916,null,null,null,null,0,211]
[21,18026,21,18041,22,18045,null,null,null,null,0,222]
[21,18142,12,18162,13,18169,null,null,null,null,0,211]
[21,18265,12,18279,13,18287,null,null,null,null,0,211]
[21,18385,21,18390,11,18399,null,null,null,null,0,221]
[21,18549,12,18561,13,18565,null,null,null,null,0,211]
[21,18662,12,18678,13,18685,null,null,null,null,0,211]
[21,18823,21,18842,22,18846,null,null,null,null,0,222]
[21,18942,21,18945,11,18958,null,null,null,null,0,221]
[21,19277,12,19295,13,19302,null,null,null,null,0,211]
[21,19448,21,19462,22,19467,null,null,null,null,0,222]
[21,19566,21,19570,11,19587,null,null,null,null,0,221]
[21,20937,21,20941,22,20948,null,null,null,null,0,222]
[21,21066,12,21082,13,21089,null,null,null,null,0,211]
[21,21184,21,21188,11,21204,null,null,null,null,0,221]
[21,21429,12,21442,13,21447,null,null,null,null,0,211]
[21,21543,12,21555,13,21563,null,null,null,null,0,211]
[21,21665,12,21678,13,21686,null,null,null,null,0,211]
[21,21781,12,21800,13,21808,null,null,null,null,0,211]
[21,21908,21,21912,11,21923,null,null,null,null,0,221]
[21,22125,12,22138,13,22144,null,null,null,null,0,211]
[21,22237,21,22239,11,22251,null,null,null,null,0,221]
[12,22447,null,null,null,null,null,null,null,null,null,1]

{"sheet":"!MA2092T.AYL","index":21,"n_rows":133,"n_cols":48,"rows_kept":133,"cut":false,"hidden":false,"merged":[[4,39,4,42],[5,39,5,40],[4,44,4,47],[5,44,5,45],[4,24,4,27],[5,24,5,25],[4,29,4,32],[5,29,5,30],[4,34,4,37],[5,34,5,35],[1,1,1,2],[5,13,5,14],[18,13,18,14],[19,13,19,14],[4,19,4,22],[5,19,5,20]]}
["Report for:!MA2092T.AYL"]
["Date:","<date>"]
["Hen:","<hen>",null,null,null,"Correct Sequence",{"$f":"Start!J2","v":221},null,null,null,null,null,null,null,null,"Total Sequences in Data",{"$f":"4994-COUNTBLANK(L7:L5000)","v":127},null,null,null,null,"Total Sequences in Block Data",{"$f":"COUNTA(L7:L27)","v":21},null,null,null,"Total Sequences in Block Data",{"$f":"COUNTA(L28:L48)","v":21},null,null,null,"Total Sequences in Block Data",{"$f":"COUNTA(L49:L70)","v":22},null,null,null,"Total Sequences in Block Data",{"$f":"COUNTA(L71:L91)","v":21},null,null,null,"Total Sequences in Block Data",{"$f":"COUNTA(L92:L112)","v":21},null,null,null,"Total Sequences in Block Data",{"$f":"COUNTA(L113:L133)","v":21}]
[null,null,null,null,null,null,null,null,null,null,null,null,null,null,null,"Total Sequences in Summary",{"$f":"SUM(O7:O14)","v":127},null,null,null,null,"Total Sequences in Block Summary",{"$f":"SUM(U7:U14)","v":21},null,null,null,"Total Sequences in Block Summary",{"$f":"SUM(Z7:Z14)","v":21},null,null,null,"Total Sequences in Block Summary",{"$f":"SUM(AE7:AE14)","v":22},null,null,null,"Total Sequences in Block Summary",{"$f":"SUM(AJ7:AJ14)","v":21},null,null,null,"Total Sequences in Block Summary",{"$f":"SUM(AO7:AO14)","v":21},null,null,null,"Total Sequences in Block Summary",{"$f":"SUM(AT7:AT14)","v":21}]
[null,null,null,null,null,null,null,null,null,null,null,null,null,null,null,null,null,null,null,"Block 1",null,null,null,null,"Block 2",null,null,null,null,"Block 3",null,null,null,null,"Block 4",null,null,null,null,"Block 5",null,null,null,null,"Block 6"]
["Sequence\nComponent\n1","Time\n1","Sequence\nComponent\n2","Time\n2","Sequence\nComponent\n3","Time\n3","Sequence\nComponent\n4","Time\n4","Sequence\nComponent\n5","Time\n5","Correct?\n0=No 1=Yes","Sequence",null,"Frequency",null,"Relative Frequency","Variability",null,null,"Frequency",null,"Relative Frequency","Variability",null,"Frequency",null,"Relative Frequency","Variability",null,"Frequency",null,"Relative Frequency","Variability",null,"Frequency",null,"Relative Frequency","Variability",null,"Frequency",null,"Relative Frequency","Variability",null,"Frequency",null,"Relative Frequency","Variability"]
[12,7,14,11,24,25,null,null,null,null,0,112,null,111,{"$f":"COUNTIF($L$7:$L$500,N7)","v":0},{"$f":"O7/$Q$4","v":0},{"$f":"IF(P7=0,0,(P7*((LOG(P7))/LOG(2))))","v":0},null,null,{"$f":"N7","v":111},{"$f":"COUNTIF(L7:L27,T7)","v":0},{"$f":"U7/(W4-U13)","v":0},{"$f":"IF(V7=0,0,(V7*((LOG(V7))/LOG(2))))","v":0},null,{"$f":"N7","v":111},{"$f":"COUNTIF(L28:L48,Y7)","v":0},{"$f":"Z7/(AB4-Z13)","v":0},{"$f":"IF(AA7=0,0,(AA7*((LOG(AA7))/LOG(2))))","v":0},null,{"$f":"N7","v":111},{"$f":"COUNTIF(L49:L70,AD7)","v":0},{"$f":"AE7/(AG4-AE13)","v":0},{"$f":"IF(AF7=0,0,(AF7*((LOG(AF7))/LOG(2))))","v":0},null,{"$f":"N7","v":111},{"$f":"COUNTIF(L71:L91,AI7)","v":0},{"$f":"AJ7/(AL4-AJ13)","v":0},{"$f":"IF(AK7=0,0,(AK7*((LOG(AK7))/LOG(2))))","v":0},null,{"$f":"N7","v":111},{"$f":"COUNTIF(L92:L112,AN7)","v":0},{"$f":"AO7/(AQ4-AO13)","v":0},{"$f":"IF(AP7=0,0,(AP7*((LOG(AP7))/LOG(2))))","v":0},null,{"$f":"N7","v":111},{"$f":"COUNTIF(L113:L133,AS7)","v":0},{"$f":"AT7/(AV4-AT13)","v":0},{"$f":"IF(AU7=0,0,(AU7*((LOG(AU7))/LOG(2))))","v":0}]
[12,131,14,138,24,153,null,null,null,null,0,112,null,112,{"$f":"COUNTIF($L$7:$L$500,N8)","v":6},{"$f":"O8/$Q$4","v":4.7244094488188976E-2},{"$f":"IF(P8=0,0,(P8*((LOG(P8))/LOG(2))))","v":-0.20804986705752801},null,null,{"$f":"N8","v":112},{"$f":"COUNTIF(L7:L27,T8)","v":3},{"$f":"U8/(W4-U13)","v":0.25},{"$f":"IF(V8=0,0,(V8*((LOG(V8))/LOG(2))))","v":-0.5},null,{"$f":"N8","v":112},{"$f":"COUNTIF(L28:L48,Y8)","v":3},{"$f":"Z8/(AB4-Z13)","v":0.17647058823529413},{"$f":"IF(AA8=0,0,(AA8*((LOG(AA8))/LOG(2))))","v":-0.44161770715220888},null,{"$f":"N8","v":112},{"$f":"COUNTIF(L49:L70,AD8)","v":0},{"$f":"AE8/(AG4-AE13)","v":0},{"$f":"IF(AF8=0,0,(AF8*((LOG(AF8))/LOG(2))))","v":0},null,{"$f":"N8","v":112},{"$f":"COUNTIF(L71:L91,AI8)","v":0},{"$f":"AJ8/(AL4-AJ13)","v":0},{"$f":"IF(AK8=0,0,(AK8*((LOG(AK8))/LOG(2))))","v":0},null,{"$f":"N8","v":112},{"$f":"COUNTIF(L92:L112,AN8)","v":0},{"$f":"AO8/(AQ4-AO13)","v":0},{"$f":"IF(AP8=0,0,(AP8*((LOG(AP8))/LOG(2))))","v":0},null,{"$f":"N8","v":112},{"$f":"COUNTIF(L113:L133,AS8)","v":0},{"$f":"AT8/(AV4-AT13)","v":0},{"$f":"IF(AU8=0,0,(AU8*((LOG(AU8))/LOG(2))))","v":0}]
[21,250,21,266,22,270,null,null,null,null,0,222,null,121,{"$f":"COUNTIF($L$7:$L$500,N9)","v":2},{"$f":"O9/$Q$4","v":1.5748031496062992E-2},{"$f":"IF(P9=0,0,(P9*((LOG(P9))/LOG(2))))","v":-9.4309995067278204E-2},null,null,{"$f":"N9","v":121},{"$f":"COUNTIF(L7:L27,T9)","v":0},{"$f":"U9/(W4-U13)","v":0},{"$f":"IF(V9=0,0,(V9*((LOG(V9))/LOG(2))))","v":0},null,{"$f":"N9","v":121},{"$f":"COUNTIF(L28:L48,Y9)","v":0},{"$f":"Z9/(AB4-Z13)","v":0},{"$f":"IF(AA9=0,0,(AA9*((LOG(AA9))/LOG(2))))","v":0},null,{"$f":"N9","v":121},{"$f":"COUNTIF(L49:L70,AD9)","v":1},{"$f":"AE9/(AG4-AE13)","v":7.6923076923076927E-2},{"$f":"IF(AF9=0,0,(AF9*((LOG(AF9))/LOG(2))))","v":-0.28464920908777636},null,{"$f":"N9","v":121},{"$f":"COUNTIF(L71:L91,AI9)","v":1},{"$f":"AJ9/(AL4-AJ13)","v":7.6923076923076927E-2},{"$f":"IF(AK9=0,0,(AK9*((LOG(AK9))/LOG(2))))","v":-0.28464920908777636},null,{"$f":"N9","v":121},{"$f":"COUNTIF(L92:L112,AN9)","v":0},{"$f":"AO9/(AQ4-AO13)","v":0},{"$f":"IF(AP9=0,0,(AP9*((LOG(AP9))/LOG(2))))","v":0},null,{"$f":"N9","v":121},{"$f":"COUNTIF(L113:L133,AS9)","v":0},{"$f":"AT9/(AV4-AT13)","v":0},{"$f":"IF(AU9=0,0,(AU9*((LOG(AU9))/LOG(2))))","v":0}]
[21,366,12,376,13,382,null,null,null,null,0,211,null,122,{"$f":"COUNTIF($L$7:$L$500,N10)","v":0},{"$f":"O10/$Q$4","v":0},{"$f":"IF(P10=0,0,(P10*((LOG(P10))/LOG(2))))","v":0},null,null,{"$f":"N10","v":122},{"$f":"COUNTIF(L7:L27,T10)","v":0},{"$f":"U10/(W4-U13)","v":0},{"$f":"IF(V10=0,0,(V10*((LOG(V10))/LOG(2))))","v":0},null,{"$f":"N10","v":122},{"$f":"COUNTIF(L28:L48,Y10)","v":0},{"$f":"Z10/(AB4-Z13)","v":0},{"$f":"IF(AA10=0,0,(AA10*((LOG(AA10))/LOG(2))))","v":0},null,{"$f":"N10","v":122},{"$f":"COUNTIF(L49:L70,AD10)","v":0},{"$f":"AE10/(AG4-AE13)","v":0},{"$f":"IF(AF10=0,0,(AF10*((LOG(AF10))/LOG(2))))","v":0},null,{"$f":"N10","v":122},{"$f":"COUNTIF(L71:L91,AI10)","v":0},{"$f":"AJ10/(AL4-AJ13)","v":0},{"$f":"IF(AK10=0,0,(AK10*((LOG(AK10))/LOG(2))))","v":0},null,{"$f":"N10","v":122},{"$f":"COUNTIF(L92:L112,AN10)","v":0},{"$f":"AO10/(AQ4-AO13)","v":0},{"$f":"IF(AP10=0,0,(AP10*((LOG(AP10))/LOG(2))))","v":0},null,{"$f":"N10","v":122},{"$f":"COUNTIF(L113:L133,AS10)","v":0},{"$f":"AT10/(AV4-AT13)","v":0},{"$f":"IF(AU10=0,0,(AU10*((LOG(AU10))/LOG(2))))","v":0}]
[21,478,21,480,11,489,null,null,null,null,0,221,null,211,{"$f":"COUNTIF($L$7:$L$500,N11)","v":66},{"$f":"O11/$Q$4","v":0.51968503937007871},{"$f":"IF(P11=0,0,(P11*((LOG(P11))/LOG(2))))","v":-0.49073368070318912},null,null,{"$f":"N11","v":211},{"$f":"COUNTIF(L7:L27,T11)","v":8},{"$f":"U11/(W4-U13)","v":0.66666666666666663},{"$f":"IF(V11=0,0,(V11*((LOG(V11))/LOG(2))))","v":-0.38997500048077083},null,{"$f":"N11","v":211},{"$f":"COUNTIF(L28:L48,Y11)","v":14},{"$f":"Z11/(AB4-Z13)","v":0.82352941176470584},{"$f":"IF(AA11=0,0,(AA11*((LOG(AA11))/LOG(2))))","v":-0.2306771099234291},null,{"$f":"N11","v":211},{"$f":"COUNTIF(L49:L70,AD11)","v":12},{"$f":"AE11/(AG4-AE13)","v":0.92307692307692313},{"$f":"IF(AF11=0,0,(AF11*((LOG(AF11))/LOG(2))))","v":-0.10659435454147929},null,{"$f":"N11","v":211},{"$f":"COUNTIF(L71:L91,AI11)","v":10},{"$f":"AJ11/(AL4-AJ13)","v":0.76923076923076927},{"$f":"IF(AK11=0,0,(AK11*((LOG(AK11))/LOG(2))))","v":-0.29116278711825366},null,{"$f":"N11","v":211},{"$f":"COUNTIF(L92:L112,AN11)","v":10},{"$f":"AO11/(AQ4-AO13)","v":0.625},{"$f":"IF(AP11=0,0,(AP11*((LOG(AP11))/LOG(2))))","v":-0.42379494069539858},null,{"$f":"N11","v":211},{"$f":"COUNTIF(L113:L133,AS11)","v":12},{"$f":"AT11/(AV4-AT13)","v":0.75},{"$f":"IF(AU11=0,0,(AU11*((LOG(AU11))/LOG(2))))","v":-0.31127812445913283}]
[21,669,12,677,13,680,null,null,null,null,0,211,null,212,{"$f":"COUNTIF($L$7:$L$500,N12)","v":9},{"$f":"O12/$Q$4","v":7.0866141732283464E-2},{"$f":"IF(P12=0,0,(P12*((LOG(P12))/LOG(2))))","v":-0.27062076510211563},null,null,{"$f":"N12","v":212},{"$f":"COUNTIF(L7:L27,T12)","v":0},{"$f":"U12/(W4-U13)","v":0},{"$f":"IF(V12=0,0,(V12*((LOG(V12))/LOG(2))))","v":0},null,{"$f":"N12","v":212},{"$f":"COUNTIF(L28:L48,Y12)","v":0},{"$f":"Z12/(AB4-Z13)","v":0},{"$f":"IF(AA12=0,0,(AA12*((LOG(AA12))/LOG(2))))","v":0},null,{"$f":"N12","v":212},{"$f":"COUNTIF(L49:L70,AD12)","v":0},{"$f":"AE12/(AG4-AE13)","v":0},{"$f":"IF(AF12=0,0,(AF12*((LOG(AF12))/LOG(2))))","v":0},null,{"$f":"N12","v":212},{"$f":"COUNTIF(L71:L91,AI12)","v":1},{"$f":"AJ12/(AL4-AJ13)","v":7.6923076923076927E-2},{"$f":"IF(AK12=0,0,(AK12*((LOG(AK12))/LOG(2))))","v":-0.28464920908777636},null,{"$f":"N12","v":212},{"$f":"COUNTIF(L92:L112,AN12)","v":5},{"$f":"AO12/(AQ4-AO13)","v":0.3125},{"$f":"IF(AP12=0,0,(AP12*((LOG(AP12))/LOG(2))))","v":-0.52439747034769923},null,{"$f":"N12","v":212},{"$f":"COUNTIF(L113:L133,AS12)","v":3},{"$f":"AT12/(AV4-AT13)","v":0.1875},{"$f":"IF(AU12=0,0,(AU12*((LOG(AU12))/LOG(2))))","v":-0.45281953111478312}]
[21,775,12,788,13,795,null,null,null,null,0,211,null,221,{"$f":"COUNTIF($L$7:$L$500,N13)","v":40},{"$f":"O13/$Q$4","v":0.31496062992125984},{"$f":"IF(P13=0,0,(P13*((LOG(P13))/LOG(2))))","v":-0.52496270610545004},null,null,{"$f":"N13","v":221},{"$f":"COUNTIF(L7:L27,T13)","v":9},null,null,null,{"$f":"N13","v":221},{"$f":"COUNTIF(L28:L48,Y13)","v":4},null,null,null,{"$f":"N13","v":221},{"$f":"COUNTIF(L49:L70,AD13)","v":9},null,null,null,{"$f":"N13","v":221},{"$f":"COUNTIF(L71:L91,AI13)","v":8},null,null,null,{"$f":"N13","v":221},{"$f":"COUNTIF(L92:L112,AN13)","v":5},null,null,null,{"$f":"N13","v":221},{"$f":"COUNTIF(L113:L133,AS13)","v":5}]
[21,890,21,894,11,903,null,null,null,null,0,221,null,222,{"$f":"COUNTIF($L$7:$L$500,N14)","v":4},{"$f":"O14/$Q$4","v":3.1496062992125984E-2},{"$f":"IF(P14=0,0,(P14*((LOG(P14))/LOG(2))))","v":-0.15712392714243043},null,null,{"$f":"N14","v":222},{"$f":"COUNTIF(L7:L27,T14)","v":1},{"$f":"U14/(W4-U13)","v":8.3333333333333329E-2},{"$f":"IF(V14=0,0,(V14*((LOG(V14))/LOG(2))))","v":-0.29874687506009634},null,{"$f":"N14","v":222},{"$f":"COUNTIF(L28:L48,Y14)","v":0},{"$f":"Z14/(AB4-Z13)","v":0},{"$f":"IF(AA14=0,0,(AA14*((LOG(AA14))/LOG(2))))","v":0},null,{"$f":"N14","v":222},{"$f":"COUNTIF(L49:L70,AD14)","v":0},{"$f":"AE14/(AG4-AE13)","v":0},{"$f":"IF(AF14=0,0,(AF14*((LOG(AF14))/LOG(2))))","v":0},null,{"$f":"N14","v":222},{"$f":"COUNTIF(L71:L91,AI14)","v":1},{"$f":"AJ14/(AL4-AJ13)","v":7.6923076923076927E-2},{"$f":"IF(AK14=0,0,(AK14*((LOG(AK14))/LOG(2))))","v":-0.28464920908777636},null,{"$f":"N14","v":222},{"$f":"COUNTIF(L92:L112,AN14)","v":1},{"$f":"AO14/(AQ4-AO13)","v":6.25E-2},{"$f":"IF(AP14=0,0,(AP14*((LOG(AP14))/LOG(2))))","v":-0.25},null,{"$f":"N14","v":222},{"$f":"COUNTIF(L113:L133,AS14)","v":1},{"$f":"AT14/(AV4-AT13)","v":6.25E-2},{"$f":"IF(AU14=0,0,(AU14*((LOG(AU14))/LOG(2))))","v":-0.25}]
[21,1205,12,1213,13,1221,null,null,null,null,0,211,null,null,null,{"$f":"SUM(P7:P14)","v":1},{"$f":"-SUM(Q7:Q14)","v":1.7458009411779913},null,null,null,null,{"$f":"SUM(V7:V14)","v":1},{"$f":"-SUM(W7:W14)","v":1.1887218755408671},null,null,null,{"$f":"SUM(AA7:AA14)","v":1},{"$f":"-SUM(AB7:AB14)","v":0.67229481707563798},null,null,null,{"$f":"SUM(AF7:AF14)","v":1},{"$f":"-SUM(AG7:AG14)","v":0.39124356362925566},null,null,null,{"$f":"SUM(AK7:AK14)","v":1},{"$f":"-SUM(AL7:AL14)","v":1.1451104143815827},null,null,null,{"$f":"SUM(AP7:AP14)","v":1},{"$f":"-SUM(AQ7:AQ14)","v":1.1981924110430979},null,null,null,{"$f":"SUM(AU7:AU14)","v":1},{"$f":"-SUM(AV7:AV14)","v":1.0140976555739161}]
[21,1318,21,1321,11,1328,null,null,null,null,0,221,null,null,null,"U=",{"$f":"Q15/(LOG(Q4)/LOG(2))","v":0.24980393585109892},null,null,null,null,"U1=",{"$f":"W15/(LOG(W4)/LOG(2))","v":0.27063660503589759},null,null,null,"U2=",{"$f":"AB15/(LOG(AB4)/LOG(2))","v":0.15306152820128302},null,null,null,"U3=",{"$f":"AG15/(LOG(AG4)/LOG(2))","v":8.7733952908736604E-2},null,null,null,"U4=",{"$f":"AL15/(LOG(AL4)/LOG(2))","v":0.26070757282772583},null,null,null,"U5=",{"$f":"AQ15/(LOG(AQ4)/LOG(2))","v":0.2727927642089838},null,null,null,"U6=",{"$f":"AV15/(LOG(AV4)/LOG(2))","v":0.23087986544751044}]
[21,1489,12,1498,13,1507,null,null,null,null,0,211]
[21,1604,21,1606,11,1613,null,null,null,null,0,221]
[21,1722,12,1731,13,1741,null,null,null,null,0,211,null,"Total Target Seq"]
[21,1837,21,1841,11,1850,null,null,null,null,0,221,null,{"$f":"COUNTIF(L7:L133,G3)","v":40},null,21,21,22,21,21,21]
[21,2018,12,2026,13,2032,null,null,null,null,0,211,null,null,null,"% of reinforcement given in 6 equal intervals based on number of trials "]
[21,2127,21,2132,11,2138,null,null,null,null,0,221,null,null,null,"%_1","%_2","%_3","%_4","%_5","%_6"]
[21,2273,12,2282,13,2288,null,null,null,null,0,211,null,null,"target sequence",{"$f":"$G$3","v":221},{"$f":"$G$3","v":221},{"$f":"$G$3","v":221},{"$f":"$G$3","v":221},{"$f":"$G$3","v":221},{"$f":"$G$3","v":221}]
[21,2384,21,2386,11,2393,null,null,null,null,0,221,null,null,"total reinforcement",{"$f":"U13","v":9},{"$f":"Z13","v":4},{"$f":"AE13","v":9},{"$f":"AJ13","v":8},{"$f":"AO13","v":5},{"$f":"AT13","v":5}]
[21,2524,21,2526,11,2533,null,null,null,null,0,221,null,null,"% target"]
[12,2695,14,2701,24,2714,null,null,null,null,0,112,null,null,"CCRF"]
[21,2808,21,2811,11,2817,null,null,null,null,0,221,null,null,"% CCRf"]
[21,2967,12,2975,13,2983,null,null,null,null,0,211,null,null,"average response rate",{"$f":"F27/P20","v":134.14285714285714},{"$f":"(F48-F27)/Q20","v":121.61904761904762},{"$f":"(F70-F48)/R20","v":130.68181818181819},{"$f":"(F91-F70)/S20","v":118.76190476190476},{"$f":"(F112-F91)/T20","v":145.28571428571428},{"$f":"(F133-F112)/U20","v":130.42857142857142}]
[21,3080,12,3087,13,3096,null,null,null,null,0,211]
[21,3193,12,3202,13,3211,null,null,null,null,0,211]
[21,3305,12,3314,13,3322,null,null,null,null,0,211]
[21,3417,12,3427,13,3434,null,null,null,null,0,211]
[21,3529,21,3531,11,3541,null,null,null,null,0,221]
[21,3664,12,3673,13,3679,null,null,null,null,0,211]
[21,3770,12,3779,13,3784,null,null,null,null,0,211]
[21,3879,12,3888,13,3895,null,null,null,null,0,211]
[12,3997,14,4004,24,4013,null,null,null,null,0,112]
[12,4141,14,4146,24,4155,null,null,null,null,0,112]
[12,4258,14,4261,24,4272,null,null,null,null,0,112]
[21,4366,21,4369,11,4376,null,null,null,null,0,221]
[21,4548,12,4555,13,4560,null,null,null,null,0,211]
[21,4656,12,4665,13,4671,null,null,null,null,0,211]
[21,4764,21,4767,11,4776,null,null,null,null,0,221]
[21,4913,12,4921,13,4928,null,null,null,null,0,211]
[21,5023,21,5025,11,5035,null,null,null,null,0,221]
[21,5138,12,5147,13,5154,null,null,null,null,0,211]
[21,5248,12,5256,13,5262,null,null,null,null,0,211]
[21,5359,12,5366,13,5371,null,null,null,null,0,211]
[21,5465,21,5467,11,5477,null,null,null,null,0,221]
[21,5635,12,5643,13,5646,null,null,null,null,0,211]
[21,5740,21,5743,11,5750,null,null,null,null,0,221]
[21,5971,12,5979,13,5982,null,null,null,null,0,211]
[21,6076,12,6086,13,6089,null,null,null,null,0,211]
[21,6188,21,6192,11,6199,null,null,null,null,0,221]
[21,6353,12,6364,13,6370,null,null,null,null,0,211]
[21,6465,12,6474,13,6479,null,null,null,null,0,211]
[21,6572,21,6577,11,6587,null,null,null,null,0,221]
[12,6695,23,6702,13,6714,null,null,null,null,0,121]
[21,6806,12,6814,13,6821,null,null,null,null,0,211]
[21,6916,21,6919,11,6926,null,null,null,null,0,221]
[21,7063,12,7070,13,7076,null,null,null,null,0,211]
[21,7172,12,7185,13,7192,null,null,null,null,0,211]
[21,7289,21,7292,11,7300,null,null,null,null,0,221]
[21,7445,12,7455,13,7460,null,null,null,null,0,211]
[21,7554,21,7558,11,7567,null,null,null,null,0,221]
[21,7744,12,7753,13,7755,null,null,null,null,0,211]
[21,7848,21,7853,11,7860,null,null,null,null,0,221]
[21,7972,12,7981,13,7990,null,null,null,null,0,211]
[21,8084,21,8088,11,8094,null,null,null,null,0,221]
[21,8228,12,8240,13,8246,null,null,null,null,0,211]
[21,8340,21,8345,11,8350,null,null,null,null,0,221]
[21,8490,21,8494,11,8501,null,null,null,null,0,221]
[21,8595,12,8603,13,8609,null,null,null,null,0,211]
[21,8705,12,8715,13,8722,null,null,null,null,0,211]
[21,8819,21,8825,11,8832,null,null,null,null,0,221]
[21,8974,12,8982,13,8987,null,null,null,null,0,211]
[21,9083,21,9088,11,9095,null,null,null,null,0,221]
[12,9186,23,9208,13,9220,null,null,null,null,0,121]
[21,9316,12,9324,13,9330,null,null,null,null,0,211]
[21,9423,21,9426,11,9435,null,null,null,null,0,221]
[21,9550,12,9561,13,9565,null,null,null,null,0,211]
[21,9661,21,9664,11,9670,null,null,null,null,0,221]
[21,9790,21,9793,11,9800,null,null,null,null,0,221]
[21,9914,12,9926,13,9932,null,null,null,null,0,211]
[21,10024,12,10038,13,10046,null,null,null,null,0,211]
[21,10140,12,10151,13,10156,null,null,null,null,0,211]
[21,10250,21,10255,11,10262,null,null,null,null,0,221]
[21,10396,12,10406,13,10412,null,null,null,null,0,211]
[21,10507,12,10514,13,10522,null,null,null,null,0,211]
[21,10616,12,10626,24,10641,null,null,null,null,0,212]
[21,10734,21,10738,22,10740,null,null,null,null,0,222]
[21,10838,12,10847,13,10862,null,null,null,null,0,211]
[21,10958,12,10968,24,10987,null,null,null,null,0,212]
[21,11083,12,11096,24,11108,null,null,null,null,0,212]
[21,11203,12,11214,24,11224,null,null,null,null,0,212]
[21,11320,12,11327,13,11335,null,null,null,null,0,211]
[21,11432,21,11437,11,11446,null,null,null,null,0,221]
[21,11762,12,11768,13,11772,null,null,null,null,0,211]
[21,11872,12,11882,13,11887,null,null,null,null,0,211]
[21,11984,12,12000,13,12009,null,null,null,null,0,211]
[21,12106,12,12117,24,12127,null,null,null,null,0,212]
[21,12223,21,12230,11,12239,null,null,null,null,0,221]
[21,12472,12,12479,13,12488,null,null,null,null,0,211]
[21,12585,12,12598,13,12607,null,null,null,null,0,211]
[21,12699,21,12704,11,12718,null,null,null,null,0,221]
[21,12963,12,12971,13,12978,null,null,null,null,0,211]
[21,13071,12,13080,13,13088,null,null,null,null,0,211]
[21,13187,12,13205,13,13219,null,null,null,null,0,211]
[21,13313,21,13316,22,13322,null,null,null,null,0,222]
[21,13416,21,13419,11,13430,null,null,null,null,0,221]
[21,13629,21,13631,11,13639,null,null,null,null,0,221]
[21,13764,12,13778,24,13791,null,null,null,null,0,212]
[21,13888,12,13898,13,13907,null,null,null,null,0,211]
[21,14003,12,14020,24,14039,null,null,null,null,0,212]
[21,14131,21,14135,22,14137,null,null,null,null,0,222]
[21,14234,12,14246,13,14257,null,null,null,null,0,211]
[21,14356,12,14365,24,14382,null,null,null,null,0,212]
[21,14478,12,14488,13,14495,null,null,null,null,0,211]
[21,14591,12,14603,24,14620,null,null,null,null,0,212]
[21,14716,12,14729,13,14738,null,null,null,null,0,211]
[21,14841,21,14844,11,14859,null,null,null,null,0,221]
[21,15029,12,15038,13,15044,null,null,null,null,0,211]
[21,15138,12,15152,13,15161,null,null,null,null,0,211]
[21,15256,21,15261,11,15271,null,null,null,null,0,221]
[21,15424,12,15433,13,15438,null,null,null,null,0,211]
[21,15532,12,15543,13,15550,null,null,null,null,0,211]
[21,15647,21,15651,11,15659,null,null,null,null,0,221]
[21,15798,12,15806,13,15813,null,null,null,null,0,211]
[21,15909,12,15923,13,15931,null,null,null,null,0,211]
[21,16028,12,16038,13,16045,null,null,null,null,0,211]
[21,16139,21,16141,11,16154,null,null,null,null,0,221]
[21,16407,12,16420,13,16422,null,null,null,null,0,211]
[21,16516,21,16521,11,16530,null,null,null,null,1,221]

{"sheet":"!MA2194T.AYL","index":22,"n_rows":143,"n_cols":48,"rows_kept":143,"cut":false,"hidden":false,"merged":[[4,39,4,42],[5,39,5,40],[4,44,4,47],[5,44,5,45],[4,24,4,27],[5,24,5,25],[4,29,4,32],[5,29,5,30],[4,34,4,37],[5,34,5,35],[1,1,1,2],[5,13,5,14],[18,13,18,14],[19,13,19,14],[4,19,4,22],[5,19,5,20]]}
["Report for:!MA2194T.AYL"]
["Date:","<date>"]
["Hen:","<hen>",null,null,null,"Correct Sequence",{"$f":"Start!J2","v":221},null,null,null,null,null,null,null,null,"Total Sequences in Data",{"$f":"4994-COUNTBLANK(L7:L5000)","v":137},null,null,null,null,"Total Sequences in Block Data",{"$f":"COUNTA(L7:L29)","v":23},null,null,null,"Total Sequences in Block Data",{"$f":"COUNTA(L30:L52)","v":23},null,null,null,"Total Sequences in Block Data",{"$f":"COUNTA(L53:L74)","v":22},null,null,null,"Total Sequences in Block Data",{"$f":"COUNTA(L75:L97)","v":23},null,null,null,"Total Sequences in Block Data",{"$f":"COUNTA(L98:L120)","v":23},null,null,null,"Total Sequences in Block Data",{"$f":"COUNTA(L121:L143)","v":23}]
[null,null,null,null,null,null,null,null,null,null,null,null,null,null,null,"Total Sequences in Summary",{"$f":"SUM(O7:O14)","v":137},null,null,null,null,"Total Sequences in Block Summary",{"$f":"SUM(U7:U14)","v":23},null,null,null,"Total Sequences in Block Summary",{"$f":"SUM(Z7:Z14)","v":23},null,null,null,"Total Sequences in Block Summary",{"$f":"SUM(AE7:AE14)","v":22},null,null,null,"Total Sequences in Block Summary",{"$f":"SUM(AJ7:AJ14)","v":23},null,null,null,"Total Sequences in Block Summary",{"$f":"SUM(AO7:AO14)","v":23},null,null,null,"Total Sequences in Block Summary",{"$f":"SUM(AT7:AT14)","v":23}]
[null,null,null,null,null,null,null,null,null,null,null,null,null,null,null,null,null,null,null,"Block 1",null,null,null,null,"Block 2",null,null,null,null,"Block 3",null,null,null,null,"Block 4",null,null,null,null,"Block 5",null,null,null,null,"Block 6"]
["Sequence\nComponent\n1","Time\n1","Sequence\nComponent\n2","Time\n2","Sequence\nComponent\n3","Time\n3","Sequence\nComponent\n4","Time\n4","Sequence\nComponent\n5","Time\n5","Correct?\n0=No 1=Yes","Sequence",null,"Frequency",null,"Relative Frequency","Variability",null,null,"Frequency",null,"Relative Frequency","Variability",null,"Frequency",null,"Relative Frequency","Variability",null,"Frequency",null,"Relative Frequency","Variability",null,"Frequency",null,"Relative Frequency","Variability",null,"Frequency",null,"Relative Frequency","Variability",null,"Frequency",null,"Relative Frequency","Variability"]
[12,15,14,20,24,32,null,null,null,null,0,112,null,111,{"$f":"COUNTIF($L$7:$L$500,N7)","v":5},{"$f":"O7/$Q$4","v":3.6496350364963501E-2},{"$f":"IF(P7=0,0,(P7*((LOG(P7))/LOG(2))))","v":-0.17431036452821766},null,null,{"$f":"N7","v":111},{"$f":"COUNTIF(L7:L29,T7)","v":1},{"$f":"U7/(W4-U13)","v":5.2631578947368418E-2},{"$f":"IF(V7=0,0,(V7*((LOG(V7))/LOG(2))))","v":-0.22357513228650452},null,{"$f":"N7","v":111},{"$f":"COUNTIF(L30:L52,Y7)","v":1},{"$f":"Z7/(AB4-Z13)","v":5.8823529411764705E-2},{"$f":"IF(AA7=0,0,(AA7*((LOG(AA7))/LOG(2))))","v":-0.24043899066178465},null,{"$f":"N7","v":111},{"$f":"COUNTIF(L53:L74,AD7)","v":0},{"$f":"AE7/(AG4-AE13)","v":0},{"$f":"IF(AF7=0,0,(AF7*((LOG(AF7))/LOG(2))))","v":0},null,{"$f":"N7","v":111},{"$f":"COUNTIF(L75:L97,AI7)","v":1},{"$f":"AJ7/(AL4-AJ13)","v":6.6666666666666666E-2},{"$f":"IF(AK7=0,0,(AK7*((LOG(AK7))/LOG(2))))","v":-0.26045937304056793},null,{"$f":"N7","v":111},{"$f":"COUNTIF(L98:L120,AN7)","v":1},{"$f":"AO7/(AQ4-AO13)","v":8.3333333333333329E-2},{"$f":"IF(AP7=0,0,(AP7*((LOG(AP7))/LOG(2))))","v":-0.29874687506009634},null,{"$f":"N7","v":111},{"$f":"COUNTIF(L121:L143,AS7)","v":1},{"$f":"AT7/(AV4-AT13)","v":0.05},{"$f":"IF(AU7=0,0,(AU7*((LOG(AU7))/LOG(2))))","v":-0.21609640474436814}]
[21,129,12,140,13,148,null,null,null,null,0,211,null,112,{"$f":"COUNTIF($L$7:$L$500,N8)","v":5},{"$f":"O8/$Q$4","v":3.6496350364963501E-2},{"$f":"IF(P8=0,0,(P8*((LOG(P8))/LOG(2))))","v":-0.17431036452821766},null,null,{"$f":"N8","v":112},{"$f":"COUNTIF(L7:L29,T8)","v":2},{"$f":"U8/(W4-U13)","v":0.10526315789473684},{"$f":"IF(V8=0,0,(V8*((LOG(V8))/LOG(2))))","v":-0.34188710667827216},null,{"$f":"N8","v":112},{"$f":"COUNTIF(L30:L52,Y8)","v":0},{"$f":"Z8/(AB4-Z13)","v":0},{"$f":"IF(AA8=0,0,(AA8*((LOG(AA8))/LOG(2))))","v":0},null,{"$f":"N8","v":112},{"$f":"COUNTIF(L53:L74,AD8)","v":0},{"$f":"AE8/(AG4-AE13)","v":0},{"$f":"IF(AF8=0,0,(AF8*((LOG(AF8))/LOG(2))))","v":0},null,{"$f":"N8","v":112},{"$f":"COUNTIF(L75:L97,AI8)","v":0},{"$f":"AJ8/(AL4-AJ13)","v":0},{"$f":"IF(AK8=0,0,(AK8*((LOG(AK8))/LOG(2))))","v":0},null,{"$f":"N8","v":112},{"$f":"COUNTIF(L98:L120,AN8)","v":2},{"$f":"AO8/(AQ4-AO13)","v":0.16666666666666666},{"$f":"IF(AP8=0,0,(AP8*((LOG(AP8))/LOG(2))))","v":-0.43082708345352599},null,{"$f":"N8","v":112},{"$f":"COUNTIF(L121:L143,AS8)","v":1},{"$f":"AT8/(AV4-AT13)","v":0.05},{"$f":"IF(AU8=0,0,(AU8*((LOG(AU8))/LOG(2))))","v":-0.21609640474436814}]
[21,245,12,254,13,260,null,null,null,null,0,211,null,121,{"$f":"COUNTIF($L$7:$L$500,N9)","v":1},{"$f":"O9/$Q$4","v":7.2992700729927005E-3},{"$f":"IF(P9=0,0,(P9*((LOG(P9))/LOG(2))))","v":-5.1810453160295811E-2},null,null,{"$f":"N9","v":121},{"$f":"COUNTIF(L7:L29,T9)","v":1},{"$f":"U9/(W4-U13)","v":5.2631578947368418E-2},{"$f":"IF(V9=0,0,(V9*((LOG(V9))/LOG(2))))","v":-0.22357513228650452},null,{"$f":"N9","v":121},{"$f":"COUNTIF(L30:L52,Y9)","v":0},{"$f":"Z9/(AB4-Z13)","v":0},{"$f":"IF(AA9=0,0,(AA9*((LOG(AA9))/LOG(2))))","v":0},null,{"$f":"N9","v":121},{"$f":"COUNTIF(L53:L74,AD9)","v":0},{"$f":"AE9/(AG4-AE13)","v":0},{"$f":"IF(AF9=0,0,(AF9*((LOG(AF9))/LOG(2))))","v":0},null,{"$f":"N9","v":121},{"$f":"COUNTIF(L75:L97,AI9)","v":0},{"$f":"AJ9/(AL4-AJ13)","v":0},{"$f":"IF(AK9=0,0,(AK9*((LOG(AK9))/LOG(2))))","v":0},null,{"$f":"N9","v":121},{"$f":"COUNTIF(L98:L120,AN9)","v":0},{"$f":"AO9/(AQ4-AO13)","v":0},{"$f":"IF(AP9=0,0,(AP9*((LOG(AP9))/LOG(2))))","v":0},null,{"$f":"N9","v":121},{"$f":"COUNTIF(L121:L143,AS9)","v":0},{"$f":"AT9/(AV4-AT13)","v":0},{"$f":"IF(AU9=0,0,(AU9*((LOG(AU9))/LOG(2))))","v":0}]
[21,357,12,365,13,371,null,null,null,null,0,211,null,122,{"$f":"COUNTIF($L$7:$L$500,N10)","v":1},{"$f":"O10/$Q$4","v":7.2992700729927005E-3},{"$f":"IF(P10=0,0,(P10*((LOG(P10))/LOG(2))))","v":-5.1810453160295811E-2},null,null,{"$f":"N10","v":122},{"$f":"COUNTIF(L7:L29,T10)","v":0},{"$f":"U10/(W4-U13)","v":0},{"$f":"IF(V10=0,0,(V10*((LOG(V10))/LOG(2))))","v":0},null,{"$f":"N10","v":122},{"$f":"COUNTIF(L30:L52,Y10)","v":0},{"$f":"Z10/(AB4-Z13)","v":0},{"$f":"IF(AA10=0,0,(AA10*((LOG(AA10))/LOG(2))))","v":0},null,{"$f":"N10","v":122},{"$f":"COUNTIF(L53:L74,AD10)","v":0},{"$f":"AE10/(AG4-AE13)","v":0},{"$f":"IF(AF10=0,0,(AF10*((LOG(AF10))/LOG(2))))","v":0},null,{"$f":"N10","v":122},{"$f":"COUNTIF(L75:L97,AI10)","v":0},{"$f":"AJ10/(AL4-AJ13)","v":0},{"$f":"IF(AK10=0,0,(AK10*((LOG(AK10))/LOG(2))))","v":0},null,{"$f":"N10","v":122},{"$f":"COUNTIF(L98:L120,AN10)","v":0},{"$f":"AO10/(AQ4-AO13)","v":0},{"$f":"IF(AP10=0,0,(AP10*((LOG(AP10))/LOG(2))))","v":0},null,{"$f":"N10","v":122},{"$f":"COUNTIF(L121:L143,AS10)","v":1},{"$f":"AT10/(AV4-AT13)","v":0.05},{"$f":"IF(AU10=0,0,(AU10*((LOG(AU10))/LOG(2))))","v":-0.21609640474436814}]
[21,466,12,478,13,480,null,null,null,null,0,211,null,211,{"$f":"COUNTIF($L$7:$L$500,N11)","v":72},{"$f":"O11/$Q$4","v":0.52554744525547448},{"$f":"IF(P11=0,0,(P11*((LOG(P11))/LOG(2))))","v":-0.48776430561541184},null,null,{"$f":"N11","v":211},{"$f":"COUNTIF(L7:L29,T11)","v":14},{"$f":"U11/(W4-U13)","v":0.73684210526315785},{"$f":"IF(V11=0,0,(V11*((LOG(V11))/LOG(2))))","v":-0.32463243575809159},null,{"$f":"N11","v":211},{"$f":"COUNTIF(L30:L52,Y11)","v":15},{"$f":"Z11/(AB4-Z13)","v":0.88235294117647056},{"$f":"IF(AA11=0,0,(AA11*((LOG(AA11))/LOG(2))))","v":-0.1593284520369008},null,{"$f":"N11","v":211},{"$f":"COUNTIF(L53:L74,AD11)","v":13},{"$f":"AE11/(AG4-AE13)","v":0.76470588235294112},{"$f":"IF(AF11=0,0,(AF11*((LOG(AF11))/LOG(2))))","v":-0.29595885884824796},null,{"$f":"N11","v":211},{"$f":"COUNTIF(L75:L97,AI11)","v":12},{"$f":"AJ11/(AL4-AJ13)","v":0.8},{"$f":"IF(AK11=0,0,(AK11*((LOG(AK11))/LOG(2))))","v":-0.25754247590988982},null,{"$f":"N11","v":211},{"$f":"COUNTIF(L98:L120,AN11)","v":6},{"$f":"AO11/(AQ4-AO13)","v":0.5},{"$f":"IF(AP11=0,0,(AP11*((LOG(AP11))/LOG(2))))","v":-0.5},null,{"$f":"N11","v":211},{"$f":"COUNTIF(L121:L143,AS11)","v":12},{"$f":"AT11/(AV4-AT13)","v":0.6},{"$f":"IF(AU11=0,0,(AU11*((LOG(AU11))/LOG(2))))","v":-0.44217935649972373}]
[21,576,12,585,13,589,null,null,null,null,0,211,null,212,{"$f":"COUNTIF($L$7:$L$500,N12)","v":5},{"$f":"O12/$Q$4","v":3.6496350364963501E-2},{"$f":"IF(P12=0,0,(P12*((LOG(P12))/LOG(2))))","v":-0.17431036452821766},null,null,{"$f":"N12","v":212},{"$f":"COUNTIF(L7:L29,T12)","v":0},{"$f":"U12/(W4-U13)","v":0},{"$f":"IF(V12=0,0,(V12*((LOG(V12))/LOG(2))))","v":0},null,{"$f":"N12","v":212},{"$f":"COUNTIF(L30:L52,Y12)","v":0},{"$f":"Z12/(AB4-Z13)","v":0},{"$f":"IF(AA12=0,0,(AA12*((LOG(AA12))/LOG(2))))","v":0},null,{"$f":"N12","v":212},{"$f":"COUNTIF(L53:L74,AD12)","v":0},{"$f":"AE12/(AG4-AE13)","v":0},{"$f":"IF(AF12=0,0,(AF12*((LOG(AF12))/LOG(2))))","v":0},null,{"$f":"N12","v":212},{"$f":"COUNTIF(L75:L97,AI12)","v":1},{"$f":"AJ12/(AL4-AJ13)","v":6.6666666666666666E-2},{"$f":"IF(AK12=0,0,(AK12*((LOG(AK12))/LOG(2))))","v":-0.26045937304056793},null,{"$f":"N12","v":212},{"$f":"COUNTIF(L98:L120,AN12)","v":3},{"$f":"AO12/(AQ4-AO13)","v":0.25},{"$f":"IF(AP12=0,0,(AP12*((LOG(AP12))/LOG(2))))","v":-0.5},null,{"$f":"N12","v":212},{"$f":"COUNTIF(L121:L143,AS12)","v":1},{"$f":"AT12/(AV4-AT13)","v":0.05},{"$f":"IF(AU12=0,0,(AU12*((LOG(AU12))/LOG(2))))","v":-0.21609640474436814}]
[21,684,12,698,13,706,null,null,null,null,0,211,null,221,{"$f":"COUNTIF($L$7:$L$500,N13)","v":37},{"$f":"O13/$Q$4","v":0.27007299270072993},{"$f":"IF(P13=0,0,(P13*((LOG(P13))/LOG(2))))","v":-0.51005410614064495},null,null,{"$f":"N13","v":221},{"$f":"COUNTIF(L7:L29,T13)","v":4},null,null,null,{"$f":"N13","v":221},{"$f":"COUNTIF(L30:L52,Y13)","v":6},null,null,null,{"$f":"N13","v":221},{"$f":"COUNTIF(L53:L74,AD13)","v":5},null,null,null,{"$f":"N13","v":221},{"$f":"COUNTIF(L75:L97,AI13)","v":8},null,null,null,{"$f":"N13","v":221},{"$f":"COUNTIF(L98:L120,AN13)","v":11},null,null,null,{"$f":"N13","v":221},{"$f":"COUNTIF(L121:L143,AS13)","v":3}]
[21,802,12,815,13,821,null,null,null,null,0,211,null,222,{"$f":"COUNTIF($L$7:$L$500,N14)","v":11},{"$f":"O14/$Q$4","v":8.0291970802919707E-2},{"$f":"IF(P14=0,0,(P14*((LOG(P14))/LOG(2))))","v":-0.29215040224493083},null,null,{"$f":"N14","v":222},{"$f":"COUNTIF(L7:L29,T14)","v":1},{"$f":"U14/(W4-U13)","v":5.2631578947368418E-2},{"$f":"IF(V14=0,0,(V14*((LOG(V14))/LOG(2))))","v":-0.22357513228650452},null,{"$f":"N14","v":222},{"$f":"COUNTIF(L30:L52,Y14)","v":1},{"$f":"Z14/(AB4-Z13)","v":5.8823529411764705E-2},{"$f":"IF(AA14=0,0,(AA14*((LOG(AA14))/LOG(2))))","v":-0.24043899066178465},null,{"$f":"N14","v":222},{"$f":"COUNTIF(L53:L74,AD14)","v":4},{"$f":"AE14/(AG4-AE13)","v":0.23529411764705882},{"$f":"IF(AF14=0,0,(AF14*((LOG(AF14))/LOG(2))))","v":-0.49116772735302094},null,{"$f":"N14","v":222},{"$f":"COUNTIF(L75:L97,AI14)","v":1},{"$f":"AJ14/(AL4-AJ13)","v":6.6666666666666666E-2},{"$f":"IF(AK14=0,0,(AK14*((LOG(AK14))/LOG(2))))","v":-0.26045937304056793},null,{"$f":"N14","v":222},{"$f":"COUNTIF(L98:L120,AN14)","v":0},{"$f":"AO14/(AQ4-AO13)","v":0},{"$f":"IF(AP14=0,0,(AP14*((LOG(AP14))/LOG(2))))","v":0},null,{"$f":"N14","v":222},{"$f":"COUNTIF(L121:L143,AS14)","v":4},{"$f":"AT14/(AV4-AT13)","v":0.2},{"$f":"IF(AU14=0,0,(AU14*((LOG(AU14))/LOG(2))))","v":-0.46438561897747244}]
[21,916,21,918,11,928,null,null,null,null,0,221,null,null,null,{"$f":"SUM(P7:P14)","v":1},{"$f":"-SUM(Q7:Q14)","v":1.9165208139062322},null,null,null,null,{"$f":"SUM(V7:V14)","v":1},{"$f":"-SUM(W7:W14)","v":1.3372449392958772},null,null,null,{"$f":"SUM(AA7:AA14)","v":1},{"$f":"-SUM(AB7:AB14)","v":0.64020643336047012},null,null,null,{"$f":"SUM(AF7:AF14)","v":1},{"$f":"-SUM(AG7:AG14)","v":0.78712658620126885},null,null,null,{"$f":"SUM(AK7:AK14)","v":1},{"$f":"-SUM(AL7:AL14)","v":1.0389205950315936},null,null,null,{"$f":"SUM(AP7:AP14)","v":1},{"$f":"-SUM(AQ7:AQ14)","v":1.7295739585136223},null,null,null,{"$f":"SUM(AU7:AU14)","v":1},{"$f":"-SUM(AV7:AV14)","v":1.7709505944546686}]
[12,1156,23,1163,13,1175,null,null,null,null,0,121,null,null,null,"U=",{"$f":"Q15/(LOG(Q4)/LOG(2))","v":0.2700073473191274},null,null,null,null,"U1=",{"$f":"W15/(LOG(W4)/LOG(2))","v":0.29561769072385907},null,null,null,"U2=",{"$f":"AB15/(LOG(AB4)/LOG(2))","v":0.14152706198778572},null,null,null,"U3=",{"$f":"AG15/(LOG(AG4)/LOG(2))","v":0.17650827583309758},null,null,null,"U4=",{"$f":"AL15/(LOG(AL4)/LOG(2))","v":0.22966870026848804},null,null,null,"U5=",{"$f":"AQ15/(LOG(AQ4)/LOG(2))","v":0.38234779921555773},null,null,null,"U6=",{"$f":"AV15/(LOG(AV4)/LOG(2))","v":0.39149471404572672}]
[21,1273,12,1282,13,1287,null,null,null,null,0,211]
[21,1384,12,1395,13,1400,null,null,null,null,0,211]
[21,1495,12,1511,13,1519,null,null,null,null,0,211,null,"Total Target Seq"]
[21,1615,21,1618,11,1628,null,null,null,null,0,221,null,{"$f":"COUNTIF(L7:L143,G3)","v":37},null,23,23,22,23,23,23]
[12,1756,14,1766,13,1774,null,null,null,null,0,111,null,null,null,"% of reinforcement given in 6 equal intervals based on number of trials "]
[21,1869,21,1874,11,1881,null,null,null,null,0,221,null,null,null,"%_1","%_2","%_3","%_4","%_5","%_6"]
[21,2010,12,2022,13,2027,null,null,null,null,0,211,null,null,"target sequence",{"$f":"$G$3","v":221},{"$f":"$G$3","v":221},{"$f":"$G$3","v":221},{"$f":"$G$3","v":221},{"$f":"$G$3","v":221},{"$f":"$G$3","v":221}]
[21,2122,21,2127,11,2134,null,null,null,null,0,221,null,null,"total reinforcement",{"$f":"U13","v":4},{"$f":"Z13","v":6},{"$f":"AE13","v":5},{"$f":"AJ13","v":8},{"$f":"AO13","v":11},{"$f":"AT13","v":3}]
[21,2400,12,2409,13,2419,null,null,null,null,0,211,null,null,"% target"]
[21,2515,12,2528,13,2537,null,null,null,null,0,211,null,null,"CCRF"]
[21,2634,12,2643,13,2652,null,null,null,null,0,211,null,null,"% CCRf"]
[12,2758,14,2764,24,2775,null,null,null,null,0,112,null,null,"average response rate",{"$f":"F29/P20","v":125.26086956521739},{"$f":"(F52-F29)/Q20","v":126.73913043478261},{"$f":"(F74-F52)/R20","v":137.63636363636363},{"$f":"(F97-F74)/S20","v":204},{"$f":"(F120-F97)/T20","v":300.91304347826087},{"$f":"(F143-F120)/U20","v":154.04347826086956}]
[21,2871,21,2879,22,2881,null,null,null,null,0,222]
[21,2976,12,2986,13,2993,null,null,null,null,0,211]
[21,3089,12,3099,13,3116,null,null,null,null,0,211]
[21,3211,21,3214,11,3222,null,null,null,null,0,221]
[21,3404,12,3411,13,3416,null,null,null,null,0,211]
[21,3509,12,3520,13,3527,null,null,null,null,0,211]
[21,3623,12,3638,13,3647,null,null,null,null,0,211]
[21,3744,12,3755,13,3761,null,null,null,null,0,211]
[21,3858,12,3867,13,3875,null,null,null,null,0,211]
[21,3971,21,3977,11,3986,null,null,null,null,0,221]
[21,4144,12,4153,13,4157,null,null,null,null,0,211]
[21,4253,12,4262,13,4271,null,null,null,null,0,211]
[21,4365,21,4367,22,4369,null,null,null,null,0,222]
[21,4463,12,4473,13,4480,null,null,null,null,0,211]
[21,4576,12,4584,13,4592,null,null,null,null,0,211]
[21,4686,21,4690,11,4697,null,null,null,null,0,221]
[21,4843,12,4849,13,4851,null,null,null,null,0,211]
[21,4945,21,4949,11,4956,null,null,null,null,0,221]
[21,5134,21,5137,11,5144,null,null,null,null,0,221]
[12,5307,14,5309,13,5316,null,null,null,null,0,111]
[21,5411,12,5421,13,5429,null,null,null,null,0,211]
[21,5525,21,5529,11,5537,null,null,null,null,0,221]
[21,5666,12,5677,13,5682,null,null,null,null,0,211]
[21,5779,12,5787,13,5796,null,null,null,null,0,211]
[21,5891,21,5896,11,5903,null,null,null,null,0,221]
[21,6108,12,6118,13,6123,null,null,null,null,0,211]
[21,6220,21,6224,11,6230,null,null,null,null,0,221]
[21,6499,12,6508,13,6521,null,null,null,null,0,211]
[21,6614,12,6626,13,6634,null,null,null,null,0,211]
[21,6726,21,6729,11,6740,null,null,null,null,0,221]
[21,6874,12,6883,13,6889,null,null,null,null,0,211]
[21,6983,12,6995,13,7007,null,null,null,null,0,211]
[21,7099,21,7103,22,7109,null,null,null,null,0,222]
[21,7202,12,7211,13,7219,null,null,null,null,0,211]
[21,7311,21,7313,22,7323,null,null,null,null,0,222]
[21,7427,21,7430,22,7434,null,null,null,null,0,222]
[21,7526,12,7536,13,7552,null,null,null,null,0,211]
[21,7644,21,7648,11,7656,null,null,null,null,0,221]
[21,8013,12,8022,13,8029,null,null,null,null,0,211]
[21,8125,12,8136,13,8144,null,null,null,null,0,211]
[21,8237,21,8245,22,8248,null,null,null,null,0,222]
[21,8344,12,8355,13,8367,null,null,null,null,0,211]
[21,8460,12,8473,13,8481,null,null,null,null,0,211]
[21,8577,12,8593,13,8603,null,null,null,null,0,211]
[21,8698,12,8710,13,8717,null,null,null,null,0,211]
[21,8811,21,8816,11,8824,null,null,null,null,0,221]
[21,9146,21,9149,11,9156,null,null,null,null,0,221]
[21,9453,12,9462,13,9470,null,null,null,null,0,211]
[21,9566,21,9569,11,9576,null,null,null,null,0,221]
[21,9812,12,9820,13,9828,null,null,null,null,0,211]
[21,9920,21,9924,11,9935,null,null,null,null,0,221]
[21,10166,21,10168,11,10177,null,null,null,null,0,221]
[21,10294,12,10304,13,10312,null,null,null,null,0,211]
[21,10405,12,10416,13,10425,null,null,null,null,0,211]
[21,10522,21,10525,11,10533,null,null,null,null,0,221]
[21,10666,12,10678,13,10681,null,null,null,null,0,211]
[21,10777,12,10793,13,10806,null,null,null,null,0,211]
[21,10902,21,10905,11,10913,null,null,null,null,0,221]
[21,11071,12,11080,13,11086,null,null,null,null,0,211]
[21,11181,12,11192,13,11201,null,null,null,null,0,211]
[21,11298,21,11303,11,11314,null,null,null,null,0,221]
[21,11690,12,11701,13,11707,null,null,null,null,0,211]
[21,11804,12,11812,24,11825,null,null,null,null,0,212]
[21,11920,21,11923,11,11929,null,null,null,null,0,221]
[12,13046,14,13050,13,13057,null,null,null,null,0,111]
[21,13151,12,13161,13,13176,null,null,null,null,0,211]
[21,13272,12,13282,13,13293,null,null,null,null,0,211]
[21,13387,21,13392,22,13395,null,null,null,null,0,222]
[21,13491,12,13502,13,13516,null,null,null,null,0,211]
[21,13613,12,13625,24,13645,null,null,null,null,0,212]
[21,13741,21,13744,11,13751,null,null,null,null,0,221]
[21,15953,12,15962,13,15968,null,null,null,null,0,211]
[21,16065,21,16071,11,16099,null,null,null,null,0,221]
[12,16942,14,16947,13,16955,null,null,null,null,0,111]
[21,17048,21,17052,11,17060,null,null,null,null,0,221]
[21,17159,12,17172,24,17184,null,null,null,null,0,212]
[12,17291,14,17317,24,17330,null,null,null,null,0,112]
[21,17426,21,17431,11,17442,null,null,null,null,0,221]
[21,18283,12,18294,13,18299,null,null,null,null,0,211]
[21,18395,12,18425,13,18431,null,null,null,null,0,211]
[21,18524,21,18526,11,18535,null,null,null,null,0,221]
[21,18646,12,18662,24,18667,null,null,null,null,0,212]
[21,18767,21,18771,11,18777,null,null,null,null,0,221]
[12,19015,14,19028,24,19032,null,null,null,null,0,112]
[21,19124,21,19127,11,19143,null,null,null,null,0,221]
[21,19421,12,19437,13,19445,null,null,null,null,0,211]
[21,19542,21,19547,11,19555,null,null,null,null,0,221]
[21,19827,21,19830,11,19841,null,null,null,null,0,221]
[21,20006,12,20014,13,20020,null,null,null,null,0,211]
[21,20117,21,20121,11,20131,null,null,null,null,0,221]
[21,20317,12,20326,13,20332,null,null,null,null,0,211]
[21,20426,21,20428,11,20437,null,null,null,null,0,221]
[21,20726,12,20740,13,20746,null,null,null,null,0,211]
[21,20839,21,20842,11,20850,null,null,null,null,0,221]
[21,21178,12,21187,13,21189,null,null,null,null,0,211]
[21,21300,12,21310,13,21318,null,null,null,null,0,211]
[21,21415,21,21418,22,21422,null,null,null,null,0,222]
[12,21530,23,21538,24,21544,null,null,null,null,0,122]
[21,21637,21,21640,11,21648,null,null,null,null,0,221]
[12,21901,14,21908,13,21915,null,null,null,null,0,111]
[21,22011,21,22021,22,22024,null,null,null,null,0,222]
[21,22118,12,22130,13,22143,null,null,null,null,0,211]
[21,22235,21,22238,22,22241,null,null,null,null,0,222]
[21,22334,12,22346,13,22356,null,null,null,null,0,211]
[21,22453,12,22463,13,22471,null,null,null,null,0,211]
[21,22568,12,22594,13,22601,null,null,null,null,0,211]
[21,22697,12,22706,13,22716,null,null,null,null,0,211]
[21,22809,21,22813,22,22817,null,null,null,null,0,222]
[21,22913,12,22925,13,22935,null,null,null,null,0,211]
[12,23039,14,23046,24,23054,null,null,null,null,0,112]
[21,23147,21,23149,11,23158,null,null,null,null,0,221]
[21,23604,12,23612,13,23615,null,null,null,null,0,211]
[21,23712,12,23722,13,23733,null,null,null,null,0,211]
[21,23829,12,23843,24,23861,null,null,null,null,0,212]
[21,23960,12,23972,13,23980,null,null,null,null,null,211]

{"sheet":"!MA22B0T.AYL","index":23,"n_rows":133,"n_cols":48,"rows_kept":133,"cut":false,"hidden":false,"merged":[[4,39,4,42],[5,39,5,40],[4,44,4,47],[5,44,5,45],[4,24,4,27],[5,24,5,25],[4,29,4,32],[5,29,5,30],[4,34,4,37],[5,34,5,35],[1,1,1,2],[5,13,5,14],[18,13,18,14],[19,13,19,14],[4,19,4,22],[5,19,5,20]]}
["Report for:!MA22B0T.AYL"]
["Date:","<date>"]
["Hen:","<hen>",null,null,null,"Correct Sequence",{"$f":"Start!J2","v":221},null,null,null,null,null,null,null,null,"Total Sequences in Data",{"$f":"4994-COUNTBLANK(L7:L5000)","v":127},null,null,null,null,"Total Sequences in Block Data",{"$f":"COUNTA(L7:L27)","v":21},null,null,null,"Total Sequences in Block Data",{"$f":"COUNTA(L28:L48)","v":21},null,null,null,"Total Sequences in Block Data",{"$f":"COUNTA(L49:L70)","v":22},null,null,null,"Total Sequences in Block Data",{"$f":"COUNTA(L71:L91)","v":21},null,null,null,"Total Sequences in Block Data",{"$f":"COUNTA(L92:L112)","v":21},null,null,null,"Total Sequences in Block Data",{"$f":"COUNTA(L113:L133)","v":21}]
[null,null,null,null,null,null,null,null,null,null,null,null,null,null,null,"Total Sequences in Summary",{"$f":"SUM(O7:O14)","v":127},null,null,null,null,"Total Sequences in Block Summary",{"$f":"SUM(U7:U14)","v":21},null,null,null,"Total Sequences in Block Summary",{"$f":"SUM(Z7:Z14)","v":21},null,null,null,"Total Sequences in Block Summary",{"$f":"SUM(AE7:AE14)","v":22},null,null,null,"Total Sequences in Block Summary",{"$f":"SUM(AJ7:AJ14)","v":21},null,null,null,"Total Sequences in Block Summary",{"$f":"SUM(AO7:AO14)","v":21},null,null,null,"Total Sequences in Block Summary",{"$f":"SUM(AT7:AT14)","v":21}]
[null,null,null,null,null,null,null,null,null,null,null,null,null,null,null,null,null,null,null,"Block 1",null,null,null,null,"Block 2",null,null,null,null,"Block 3",null,null,null,null,"Block 4",null,null,null,null,"Block 5",null,null,null,null,"Block 6"]
["Sequence\nComponent\n1","Time\n1","Sequence\nComponent\n2","Time\n2","Sequence\nComponent\n3","Time\n3","Sequence\nComponent\n4","Time\n4","Sequence\nComponent\n5","Time\n5","Correct?\n0=No 1=Yes","Sequence",null,"Frequency",null,"Relative Frequency","Variability",null,null,"Frequency",null,"Relative Frequency","Variability",null,"Frequency",null,"Relative Frequency","Variability",null,"Frequency",null,"Relative Frequency","Variability",null,"Frequency",null,"Relative Frequency","Variability",null,"Frequency",null,"Relative Frequency","Variability",null,"Frequency",null,"Relative Frequency","Variability"]
[12,8,23,10,13,12,null,null,null,null,0,121,null,111,{"$f":"COUNTIF($L$7:$L$500,N7)","v":2},{"$f":"O7/$Q$4","v":1.5748031496062992E-2},{"$f":"IF(P7=0,0,(P7*((LOG(P7))/LOG(2))))","v":-9.4309995067278204E-2},null,null,{"$f":"N7","v":111},{"$f":"COUNTIF(L7:L27,T7)","v":0},{"$f":"U7/(W4-U13)","v":0},{"$f":"IF(V7=0,0,(V7*((LOG(V7))/LOG(2))))","v":0},null,{"$f":"N7","v":111},{"$f":"COUNTIF(L28:L48,Y7)","v":1},{"$f":"Z7/(AB4-Z13)","v":6.6666666666666666E-2},{"$f":"IF(AA7=0,0,(AA7*((LOG(AA7))/LOG(2))))","v":-0.26045937304056793},null,{"$f":"N7","v":111},{"$f":"COUNTIF(L49:L70,AD7)","v":1},{"$f":"AE7/(AG4-AE13)","v":6.6666666666666666E-2},{"$f":"IF(AF7=0,0,(AF7*((LOG(AF7))/LOG(2))))","v":-0.26045937304056793},null,{"$f":"N7","v":111},{"$f":"COUNTIF(L71:L91,AI7)","v":0},{"$f":"AJ7/(AL4-AJ13)","v":0},{"$f":"IF(AK7=0,0,(AK7*((LOG(AK7))/LOG(2))))","v":0},null,{"$f":"N7","v":111},{"$f":"COUNTIF(L92:L112,AN7)","v":0},{"$f":"AO7/(AQ4-AO13)","v":0},{"$f":"IF(AP7=0,0,(AP7*((LOG(AP7))/LOG(2))))","v":0},null,{"$f":"N7","v":111},{"$f":"COUNTIF(L113:L133,AS7)","v":0},{"$f":"AT7/(AV4-AT13)","v":0},{"$f":"IF(AU7=0,0,(AU7*((LOG(AU7))/LOG(2))))","v":0}]
[21,105,12,116,13,124,null,null,null,null,0,211,null,112,{"$f":"COUNTIF($L$7:$L$500,N8)","v":3},{"$f":"O8/$Q$4","v":2.3622047244094488E-2},{"$f":"IF(P8=0,0,(P8*((LOG(P8))/LOG(2))))","v":-0.12764698077285849},null,null,{"$f":"N8","v":112},{"$f":"COUNTIF(L7:L27,T8)","v":0},{"$f":"U8/(W4-U13)","v":0},{"$f":"IF(V8=0,0,(V8*((LOG(V8))/LOG(2))))","v":0},null,{"$f":"N8","v":112},{"$f":"COUNTIF(L28:L48,Y8)","v":1},{"$f":"Z8/(AB4-Z13)","v":6.6666666666666666E-2},{"$f":"IF(AA8=0,0,(AA8*((LOG(AA8))/LOG(2))))","v":-0.26045937304056793},null,{"$f":"N8","v":112},{"$f":"COUNTIF(L49:L70,AD8)","v":0},{"$f":"AE8/(AG4-AE13)","v":0},{"$f":"IF(AF8=0,0,(AF8*((LOG(AF8))/LOG(2))))","v":0},null,{"$f":"N8","v":112},{"$f":"COUNTIF(L71:L91,AI8)","v":0},{"$f":"AJ8/(AL4-AJ13)","v":0},{"$f":"IF(AK8=0,0,(AK8*((LOG(AK8))/LOG(2))))","v":0},null,{"$f":"N8","v":112},{"$f":"COUNTIF(L92:L112,AN8)","v":1},{"$f":"AO8/(AQ4-AO13)","v":6.6666666666666666E-2},{"$f":"IF(AP8=0,0,(AP8*((LOG(AP8))/LOG(2))))","v":-0.26045937304056793},null,{"$f":"N8","v":112},{"$f":"COUNTIF(L113:L133,AS8)","v":1},{"$f":"AT8/(AV4-AT13)","v":7.6923076923076927E-2},{"$f":"IF(AU8=0,0,(AU8*((LOG(AU8))/LOG(2))))","v":-0.28464920908777636}]
[21,235,21,239,11,246,null,null,null,null,0,221,null,121,{"$f":"COUNTIF($L$7:$L$500,N9)","v":1},{"$f":"O9/$Q$4","v":7.874015748031496E-3},{"$f":"IF(P9=0,0,(P9*((LOG(P9))/LOG(2))))","v":-5.5029013281670591E-2},null,null,{"$f":"N9","v":121},{"$f":"COUNTIF(L7:L27,T9)","v":1},{"$f":"U9/(W4-U13)","v":6.6666666666666666E-2},{"$f":"IF(V9=0,0,(V9*((LOG(V9))/LOG(2))))","v":-0.26045937304056793},null,{"$f":"N9","v":121},{"$f":"COUNTIF(L28:L48,Y9)","v":0},{"$f":"Z9/(AB4-Z13)","v":0},{"$f":"IF(AA9=0,0,(AA9*((LOG(AA9))/LOG(2))))","v":0},null,{"$f":"N9","v":121},{"$f":"COUNTIF(L49:L70,AD9)","v":0},{"$f":"AE9/(AG4-AE13)","v":0},{"$f":"IF(AF9=0,0,(AF9*((LOG(AF9))/LOG(2))))","v":0},null,{"$f":"N9","v":121},{"$f":"COUNTIF(L71:L91,AI9)","v":0},{"$f":"AJ9/(AL4-AJ13)","v":0},{"$f":"IF(AK9=0,0,(AK9*((LOG(AK9))/LOG(2))))","v":0},null,{"$f":"N9","v":121},{"$f":"COUNTIF(L92:L112,AN9)","v":0},{"$f":"AO9/(AQ4-AO13)","v":0},{"$f":"IF(AP9=0,0,(AP9*((LOG(AP9))/LOG(2))))","v":0},null,{"$f":"N9","v":121},{"$f":"COUNTIF(L113:L133,AS9)","v":0},{"$f":"AT9/(AV4-AT13)","v":0},{"$f":"IF(AU9=0,0,(AU9*((LOG(AU9))/LOG(2))))","v":0}]
[21,513,12,520,13,525,null,null,null,null,0,211,null,122,{"$f":"COUNTIF($L$7:$L$500,N10)","v":1},{"$f":"O10/$Q$4","v":7.874015748031496E-3},{"$f":"IF(P10=0,0,(P10*((LOG(P10))/LOG(2))))","v":-5.5029013281670591E-2},null,null,{"$f":"N10","v":122},{"$f":"COUNTIF(L7:L27,T10)","v":0},{"$f":"U10/(W4-U13)","v":0},{"$f":"IF(V10=0,0,(V10*((LOG(V10))/LOG(2))))","v":0},null,{"$f":"N10","v":122},{"$f":"COUNTIF(L28:L48,Y10)","v":0},{"$f":"Z10/(AB4-Z13)","v":0},{"$f":"IF(AA10=0,0,(AA10*((LOG(AA10))/LOG(2))))","v":0},null,{"$f":"N10","v":122},{"$f":"COUNTIF(L49:L70,AD10)","v":1},{"$f":"AE10/(AG4-AE13)","v":6.6666666666666666E-2},{"$f":"IF(AF10=0,0,(AF10*((LOG(AF10))/LOG(2))))","v":-0.26045937304056793},null,{"$f":"N10","v":122},{"$f":"COUNTIF(L71:L91,AI10)","v":0},{"$f":"AJ10/(AL4-AJ13)","v":0},{"$f":"IF(AK10=0,0,(AK10*((LOG(AK10))/LOG(2))))","v":0},null,{"$f":"N10","v":122},{"$f":"COUNTIF(L92:L112,AN10)","v":0},{"$f":"AO10/(AQ4-AO13)","v":0},{"$f":"IF(AP10=0,0,(AP10*((LOG(AP10))/LOG(2))))","v":0},null,{"$f":"N10","v":122},{"$f":"COUNTIF(L113:L133,AS10)","v":0},{"$f":"AT10/(AV4-AT13)","v":0},{"$f":"IF(AU10=0,0,(AU10*((LOG(AU10))/LOG(2))))","v":0}]
[21,620,12,630,13,637,null,null,null,null,0,211,null,211,{"$f":"COUNTIF($L$7:$L$500,N11)","v":65},{"$f":"O11/$Q$4","v":0.51181102362204722},{"$f":"IF(P11=0,0,(P11*((LOG(P11))/LOG(2))))","v":-0.49457162829402551},null,null,{"$f":"N11","v":211},{"$f":"COUNTIF(L7:L27,T11)","v":13},{"$f":"U11/(W4-U13)","v":0.8666666666666667},{"$f":"IF(V11=0,0,(V11*((LOG(V11))/LOG(2))))","v":-0.17892409380510282},null,{"$f":"N11","v":211},{"$f":"COUNTIF(L28:L48,Y11)","v":13},{"$f":"Z11/(AB4-Z13)","v":0.8666666666666667},{"$f":"IF(AA11=0,0,(AA11*((LOG(AA11))/LOG(2))))","v":-0.17892409380510282},null,{"$f":"N11","v":211},{"$f":"COUNTIF(L49:L70,AD11)","v":8},{"$f":"AE11/(AG4-AE13)","v":0.53333333333333333},{"$f":"IF(AF11=0,0,(AF11*((LOG(AF11))/LOG(2))))","v":-0.4836749843245432},null,{"$f":"N11","v":211},{"$f":"COUNTIF(L71:L91,AI11)","v":12},{"$f":"AJ11/(AL4-AJ13)","v":0.8571428571428571},{"$f":"IF(AK11=0,0,(AK11*((LOG(AK11))/LOG(2))))","v":-0.19062207543124113},null,{"$f":"N11","v":211},{"$f":"COUNTIF(L92:L112,AN11)","v":10},{"$f":"AO11/(AQ4-AO13)","v":0.66666666666666663},{"$f":"IF(AP11=0,0,(AP11*((LOG(AP11))/LOG(2))))","v":-0.38997500048077083},null,{"$f":"N11","v":211},{"$f":"COUNTIF(L113:L133,AS11)","v":9},{"$f":"AT11/(AV4-AT13)","v":0.69230769230769229},{"$f":"IF(AU11=0,0,(AU11*((LOG(AU11))/LOG(2))))","v":-0.36727941925300139}]
[21,735,12,745,13,755,null,null,null,null,0,211,null,212,{"$f":"COUNTIF($L$7:$L$500,N12)","v":13},{"$f":"O12/$Q$4","v":0.10236220472440945},{"$f":"IF(P12=0,0,(P12*((LOG(P12))/LOG(2))))","v":-0.3365920046630233},null,null,{"$f":"N12","v":212},{"$f":"COUNTIF(L7:L27,T12)","v":1},{"$f":"U12/(W4-U13)","v":6.6666666666666666E-2},{"$f":"IF(V12=0,0,(V12*((LOG(V12))/LOG(2))))","v":-0.26045937304056793},null,{"$f":"N12","v":212},{"$f":"COUNTIF(L28:L48,Y12)","v":0},{"$f":"Z12/(AB4-Z13)","v":0},{"$f":"IF(AA12=0,0,(AA12*((LOG(AA12))/LOG(2))))","v":0},null,{"$f":"N12","v":212},{"$f":"COUNTIF(L49:L70,AD12)","v":5},{"$f":"AE12/(AG4-AE13)","v":0.33333333333333331},{"$f":"IF(AF12=0,0,(AF12*((LOG(AF12))/LOG(2))))","v":-0.52832083357371862},null,{"$f":"N12","v":212},{"$f":"COUNTIF(L71:L91,AI12)","v":2},{"$f":"AJ12/(AL4-AJ13)","v":0.14285714285714285},{"$f":"IF(AK12=0,0,(AK12*((LOG(AK12))/LOG(2))))","v":-0.40105070315108626},null,{"$f":"N12","v":212},{"$f":"COUNTIF(L92:L112,AN12)","v":2},{"$f":"AO12/(AQ4-AO13)","v":0.13333333333333333},{"$f":"IF(AP12=0,0,(AP12*((LOG(AP12))/LOG(2))))","v":-0.3875854127478025},null,{"$f":"N12","v":212},{"$f":"COUNTIF(L113:L133,AS12)","v":3},{"$f":"AT12/(AV4-AT13)","v":0.23076923076923078},{"$f":"IF(AU12=0,0,(AU12*((LOG(AU12))/LOG(2))))","v":-0.48818705017383146}]
[21,852,21,856,11,864,null,null,null,null,0,221,null,221,{"$f":"COUNTIF($L$7:$L$500,N13)","v":40},{"$f":"O13/$Q$4","v":0.31496062992125984},{"$f":"IF(P13=0,0,(P13*((LOG(P13))/LOG(2))))","v":-0.52496270610545004},null,null,{"$f":"N13","v":221},{"$f":"COUNTIF(L7:L27,T13)","v":6},null,null,null,{"$f":"N13","v":221},{"$f":"COUNTIF(L28:L48,Y13)","v":6},null,null,null,{"$f":"N13","v":221},{"$f":"COUNTIF(L49:L70,AD13)","v":7},null,null,null,{"$f":"N13","v":221},{"$f":"COUNTIF(L71:L91,AI13)","v":7},null,null,null,{"$f":"N13","v":221},{"$f":"COUNTIF(L92:L112,AN13)","v":6},null,null,null,{"$f":"N13","v":221},{"$f":"COUNTIF(L113:L133,AS13)","v":8}]
[21,1021,12,1030,13,1036,null,null,null,null,0,211,null,222,{"$f":"COUNTIF($L$7:$L$500,N14)","v":2},{"$f":"O14/$Q$4","v":1.5748031496062992E-2},{"$f":"IF(P14=0,0,(P14*((LOG(P14))/LOG(2))))","v":-9.4309995067278204E-2},null,null,{"$f":"N14","v":222},{"$f":"COUNTIF(L7:L27,T14)","v":0},{"$f":"U14/(W4-U13)","v":0},{"$f":"IF(V14=0,0,(V14*((LOG(V14))/LOG(2))))","v":0},null,{"$f":"N14","v":222},{"$f":"COUNTIF(L28:L48,Y14)","v":0},{"$f":"Z14/(AB4-Z13)","v":0},{"$f":"IF(AA14=0,0,(AA14*((LOG(AA14))/LOG(2))))","v":0},null,{"$f":"N14","v":222},{"$f":"COUNTIF(L49:L70,AD14)","v":0},{"$f":"AE14/(AG4-AE13)","v":0},{"$f":"IF(AF14=0,0,(AF14*((LOG(AF14))/LOG(2))))","v":0},null,{"$f":"N14","v":222},{"$f":"COUNTIF(L71:L91,AI14)","v":0},{"$f":"AJ14/(AL4-AJ13)","v":0},{"$f":"IF(AK14=0,0,(AK14*((LOG(AK14))/LOG(2))))","v":0},null,{"$f":"N14","v":222},{"$f":"COUNTIF(L92:L112,AN14)","v":2},{"$f":"AO14/(AQ4-AO13)","v":0.13333333333333333},{"$f":"IF(AP14=0,0,(AP14*((LOG(AP14))/LOG(2))))","v":-0.3875854127478025},null,{"$f":"N14","v":222},{"$f":"COUNTIF(L113:L133,AS14)","v":0},{"$f":"AT14/(AV4-AT13)","v":0},{"$f":"IF(AU14=0,0,(AU14*((LOG(AU14))/LOG(2))))","v":0}]
[21,1130,21,1131,11,1139,null,null,null,null,0,221,null,null,null,{"$f":"SUM(P7:P14)","v":1},{"$f":"-SUM(Q7:Q14)","v":1.7824513365332548},null,null,null,null,{"$f":"SUM(V7:V14)","v":1},{"$f":"-SUM(W7:W14)","v":0.69984283988623863},null,null,null,{"$f":"SUM(AA7:AA14)","v":1},{"$f":"-SUM(AB7:AB14)","v":0.69984283988623863},null,null,null,{"$f":"SUM(AF7:AF14)","v":1},{"$f":"-SUM(AG7:AG14)","v":1.5329145639793977},null,null,null,{"$f":"SUM(AK7:AK14)","v":1},{"$f":"-SUM(AL7:AL14)","v":0.59167277858232736},null,null,null,{"$f":"SUM(AP7:AP14)","v":0.99999999999999989},{"$f":"-SUM(AQ7:AQ14)","v":1.4256051990169436},null,null,null,{"$f":"SUM(AU7:AU14)","v":1},{"$f":"-SUM(AV7:AV14)","v":1.1401156785146092}]
[21,1353,21,1356,11,1364,null,null,null,null,0,221,null,null,null,"U=",{"$f":"Q15/(LOG(Q4)/LOG(2))","v":0.25504818380302519},null,null,null,null,"U1=",{"$f":"W15/(LOG(W4)/LOG(2))","v":0.15933339340568178},null,null,null,"U2=",{"$f":"AB15/(LOG(AB4)/LOG(2))","v":0.15933339340568178},null,null,null,"U3=",{"$f":"AG15/(LOG(AG4)/LOG(2))","v":0.34374662402555733},null,null,null,"U4=",{"$f":"AL15/(LOG(AL4)/LOG(2))","v":0.13470628864705567},null,null,null,"U5=",{"$f":"AQ15/(LOG(AQ4)/LOG(2))","v":0.32456789020385668},null,null,null,"U6=",{"$f":"AV15/(LOG(AV4)/LOG(2))","v":0.25957042007071635}]
[21,1461,12,1471,13,1473,null,null,null,null,0,211]
[21,1571,12,1578,13,1588,null,null,null,null,0,211]
[21,1682,21,1685,11,1695,null,null,null,null,0,221,null,"Total Target Seq"]
[21,1858,12,1866,13,1872,null,null,null,null,0,211,null,{"$f":"COUNTIF(L7:L133,G3)","v":40},null,21,21,22,21,21,21]
[21,1969,12,1983,13,1996,null,null,null,null,0,211,null,null,null,"% of reinforcement given in 6 equal intervals based on number of trials "]
[21,2092,12,2101,13,2110,null,null,null,null,0,211,null,null,null,"%_1","%_2","%_3","%_4","%_5","%_6"]
[21,2208,12,2222,13,2231,null,null,null,null,0,211,null,null,"target sequence",{"$f":"$G$3","v":221},{"$f":"$G$3","v":221},{"$f":"$G$3","v":221},{"$f":"$G$3","v":221},{"$f":"$G$3","v":221},{"$f":"$G$3","v":221}]
[21,2326,12,2341,13,2351,null,null,null,null,0,211,null,null,"total reinforcement",{"$f":"U13","v":6},{"$f":"Z13","v":6},{"$f":"AE13","v":7},{"$f":"AJ13","v":7},{"$f":"AO13","v":6},{"$f":"AT13","v":8}]
[21,2445,21,2451,11,2458,null,null,null,null,0,221,null,null,"% target"]
[21,3059,12,3068,13,3074,null,null,null,null,0,211,null,null,"CCRF"]
[21,3166,12,3178,24,3190,null,null,null,null,0,212,null,null,"% CCRf"]
[21,3286,12,3292,13,3302,null,null,null,null,0,211,null,null,"average response rate",{"$f":"F27/P20","v":151.9047619047619},{"$f":"(F48-F27)/Q20","v":149.71428571428572},{"$f":"(F70-F48)/R20","v":134.40909090909091},{"$f":"(F91-F70)/S20","v":145.66666666666666},{"$f":"(F112-F91)/T20","v":124.9047619047619},{"$f":"(F133-F112)/U20","v":132.76190476190476}]
[21,3398,12,3407,13,3419,null,null,null,null,0,211]
[21,3514,12,3530,13,3545,null,null,null,null,0,211]
[21,3638,21,3642,11,3656,null,null,null,null,0,221]
[21,4055,12,4065,13,4072,null,null,null,null,0,211]
[21,4167,12,4176,13,4186,null,null,null,null,0,211]
[21,4285,21,4288,11,4295,null,null,null,null,0,221]
[12,4519,14,4531,13,4538,null,null,null,null,0,111]
[21,4630,21,4633,11,4646,null,null,null,null,0,221]
[21,4928,12,4936,13,4943,null,null,null,null,0,211]
[21,5035,21,5039,11,5045,null,null,null,null,0,221]
[21,5181,12,5189,13,5193,null,null,null,null,0,211]
[12,5291,14,5299,24,5303,null,null,null,null,0,112]
[21,5398,12,5411,13,5424,null,null,null,null,0,211]
[21,5519,12,5529,13,5534,null,null,null,null,0,211]
[21,5630,12,5644,13,5656,null,null,null,null,0,211]
[21,5752,12,5761,13,5773,null,null,null,null,0,211]
[21,5867,21,5873,11,5879,null,null,null,null,0,221]
[21,6095,12,6104,13,6110,null,null,null,null,0,211]
[21,6206,12,6217,13,6225,null,null,null,null,0,211]
[21,6322,21,6327,11,6334,null,null,null,null,0,221]
[12,6449,14,6461,13,6466,null,null,null,null,0,111]
[21,6562,12,6572,13,6581,null,null,null,null,0,211]
[21,6677,12,6687,13,6695,null,null,null,null,0,211]
[21,6793,12,6799,13,6806,null,null,null,null,0,211]
[21,6901,12,6909,24,6922,null,null,null,null,0,212]
[21,7017,12,7026,24,7037,null,null,null,null,0,212]
[21,7132,12,7144,24,7155,null,null,null,null,0,212]
[21,7247,21,7251,11,7259,null,null,null,null,0,221]
[21,7514,12,7523,13,7529,null,null,null,null,0,211]
[12,7633,23,7640,24,7643,null,null,null,null,0,122]
[21,7739,21,7743,11,7750,null,null,null,null,0,221]
[21,7860,12,7870,13,7878,null,null,null,null,0,211]
[21,7973,21,7976,11,7982,null,null,null,null,0,221]
[21,8182,21,8185,11,8192,null,null,null,null,0,221]
[21,8378,12,8386,24,8396,null,null,null,null,0,212]
[21,8493,21,8495,11,8504,null,null,null,null,0,221]
[21,8647,12,8659,24,8663,null,null,null,null,0,212]
[21,8757,12,8765,13,8780,null,null,null,null,0,211]
[21,8877,12,8885,13,8891,null,null,null,null,0,211]
[21,8985,21,8987,11,8995,null,null,null,null,0,221]
[21,9155,21,9157,11,9166,null,null,null,null,0,221]
[21,9276,12,9287,13,9291,null,null,null,null,0,211]
[21,9385,12,9394,13,9403,null,null,null,null,0,211]
[21,9499,21,9503,11,9516,null,null,null,null,0,221]
[21,9675,12,9687,24,9699,null,null,null,null,0,212]
[21,9791,21,9793,11,9801,null,null,null,null,0,221]
[21,9969,12,9979,13,9986,null,null,null,null,0,211]
[21,10079,12,10089,13,10098,null,null,null,null,0,211]
[21,10192,12,10201,13,10210,null,null,null,null,0,211]
[21,10304,12,10315,13,10324,null,null,null,null,0,211]
[21,10419,12,10429,13,10437,null,null,null,null,0,211]
[21,10531,21,10533,11,10541,null,null,null,null,0,221]
[21,10711,12,10722,13,10727,null,null,null,null,0,211]
[21,10843,21,10847,11,10853,null,null,null,null,0,221]
[21,11044,12,11053,13,11056,null,null,null,null,0,211]
[21,11153,12,11165,24,11183,null,null,null,null,0,212]
[21,11277,21,11282,11,11290,null,null,null,null,0,221]
[21,11534,12,11544,13,11549,null,null,null,null,0,211]
[21,11645,21,11648,11,11656,null,null,null,null,0,221]
[21,11833,12,11843,13,11845,null,null,null,null,0,211]
[21,11940,21,11943,11,11951,null,null,null,null,0,221]
[21,12216,12,12225,13,12227,null,null,null,null,0,211]
[21,12323,12,12338,13,12350,null,null,null,null,0,211]
[21,12445,21,12448,11,12455,null,null,null,null,0,221]
[21,12613,12,12622,24,12630,null,null,null,null,0,212]
[21,12726,12,12735,13,12744,null,null,null,null,0,211]
[21,12838,21,12840,11,12848,null,null,null,null,0,221]
[21,12983,21,12987,11,12994,null,null,null,null,0,221]
[21,13130,12,13141,13,13150,null,null,null,null,0,211]
[21,13246,12,13254,13,13263,null,null,null,null,0,211]
[21,13357,21,13361,11,13372,null,null,null,null,0,221]
[21,13511,12,13519,13,13526,null,null,null,null,0,211]
[21,13622,12,13644,13,13651,null,null,null,null,0,211]
[21,13746,12,13757,13,13764,null,null,null,null,0,211]
[21,13858,21,13862,22,13864,null,null,null,null,0,222]
[21,13960,12,13970,13,13977,null,null,null,null,0,211]
[21,14071,12,14085,13,14095,null,null,null,null,0,211]
[21,14189,21,14193,11,14199,null,null,null,null,0,221]
[12,14327,14,14342,24,14348,null,null,null,null,0,112]
[21,14441,12,14450,13,14458,null,null,null,null,0,211]
[21,14552,12,14560,24,14571,null,null,null,null,0,212]
[21,14667,21,14681,22,14697,null,null,null,null,0,222]
[21,14792,21,14796,11,14801,null,null,null,null,0,221]
[21,14953,12,14960,13,14973,null,null,null,null,0,211]
[21,15069,12,15082,13,15092,null,null,null,null,0,211]
[21,15185,21,15188,11,15195,null,null,null,null,0,221]
[21,15353,12,15366,24,15370,null,null,null,null,0,212]
[21,15466,12,15476,13,15483,null,null,null,null,0,211]
[21,15579,12,15596,13,15605,null,null,null,null,0,211]
[21,15698,12,15707,24,15718,null,null,null,null,0,212]
[21,15812,21,15816,11,15835,null,null,null,null,0,221]
[21,15990,21,15993,11,16001,null,null,null,null,0,221]
[21,16160,12,16168,13,16175,null,null,null,null,0,211]
[21,16322,12,16334,24,16345,null,null,null,null,0,212]
[21,16438,21,16441,11,16456,null,null,null,null,0,221]
[21,16586,12,16596,13,16604,null,null,null,null,0,211]
[21,16699,12,16717,13,16723,null,null,null,null,0,211]
[21,16819,12,16834,13,16843,null,null,null,null,0,211]
[21,16968,21,16971,11,16981,null,null,null,null,0,221]
[21,17089,12,17099,13,17103,null,null,null,null,0,211]
[21,17196,21,17199,11,17208,null,null,null,null,0,221]
[21,17355,12,17364,13,17371,null,null,null,null,0,211]
[21,17467,21,17471,11,17477,null,null,null,null,0,221]
[12,17636,14,17642,24,17653,null,null,null,null,0,112]
[21,17749,21,17754,11,17761,null,null,null,null,1,221]

{"sheet":"!MA23B1T.AYL","index":24,"n_rows":139,"n_cols":48,"rows_kept":139,"cut":false,"hidden":false,"merged":[[4,39,4,42],[5,39,5,40],[4,44,4,47],[5,44,5,45],[4,24,4,27],[5,24,5,25],[4,29,4,32],[5,29,5,30],[4,34,4,37],[5,34,5,35],[1,1,1,2],[5,13,5,14],[18,13,18,14],[19,13,19,14],[4,19,4,22],[5,19,5,20]]}
["Report for:!MA23B1T.AYL"]
["Date:","<date>"]
["Hen:","<hen>",null,null,null,"Correct Sequence",{"$f":"Start!J2","v":221},null,null,null,null,null,null,null,null,"Total Sequences in Data",{"$f":"4994-COUNTBLANK(L7:L5000)","v":133},null,null,null,null,"Total Sequences in Block Data",{"$f":"COUNTA(L7:L28)","v":22},null,null,null,"Total Sequences in Block Data",{"$f":"COUNTA(L29:L50)","v":22},null,null,null,"Total Sequences in Block Data",{"$f":"COUNTA(L51:L73)","v":23},null,null,null,"Total Sequences in Block Data",{"$f":"COUNTA(L74:L95)","v":22},null,null,null,"Total Sequences in Block Data",{"$f":"COUNTA(L96:L117)","v":22},null,null,null,"Total Sequences in Block Data",{"$f":"COUNTA(L118:L139)","v":22}]
[null,null,null,null,null,null,null,null,null,null,null,null,null,null,null,"Total Sequences in Summary",{"$f":"SUM(O7:O14)","v":133},null,null,null,null,"Total Sequences in Block Summary",{"$f":"SUM(U7:U14)","v":22},null,null,null,"Total Sequences in Block Summary",{"$f":"SUM(Z7:Z14)","v":22},null,null,null,"Total Sequences in Block Summary",{"$f":"SUM(AE7:AE14)","v":23},null,null,null,"Total Sequences in Block Summary",{"$f":"SUM(AJ7:AJ14)","v":22},null,null,null,"Total Sequences in Block Summary",{"$f":"SUM(AO7:AO14)","v":22},null,null,null,"Total Sequences in Block Summary",{"$f":"SUM(AT7:AT14)","v":22}]
[null,null,null,null,null,null,null,null,null,null,null,null,null,null,null,null,null,null,null,"Block 1",null,null,null,null,"Block 2",null,null,null,null,"Block 3",null,null,null,null,"Block 4",null,null,null,null,"Block 5",null,null,null,null,"Block 6"]
["Sequence\nComponent\n1","Time\n1","Sequence\nComponent\n2","Time\n2","Sequence\nComponent\n3","Time\n3","Sequence\nComponent\n4","Time\n4","Sequence\nComponent\n5","Time\n5","Correct?\n0=No 1=Yes","Sequence",null,"Frequency",null,"Relative Frequency","Variability",null,null,"Frequency",null,"Relative Frequency","Variability",null,"Frequency",null,"Relative Frequency","Variability",null,"Frequency",null,"Relative Frequency","Variability",null,"Frequency",null,"Relative Frequency","Variability",null,"Frequency",null,"Relative Frequency","Variability",null,"Frequency",null,"Relative Frequency","Variability"]
[12,30,14,34,13,40,null,null,null,null,0,111,null,111,{"$f":"COUNTIF($L$7:$L$500,N7)","v":6},{"$f":"O7/$Q$4","v":4.5112781954887216E-2},{"$f":"IF(P7=0,0,(P7*((LOG(P7))/LOG(2))))","v":-0.20166856848631731},null,null,{"$f":"N7","v":111},{"$f":"COUNTIF(L7:L28,T7)","v":2},{"$f":"U7/(W4-U13)","v":0.125},{"$f":"IF(V7=0,0,(V7*((LOG(V7))/LOG(2))))","v":-0.375},null,{"$f":"N7","v":111},{"$f":"COUNTIF(L29:L50,Y7)","v":3},{"$f":"Z7/(AB4-Z13)","v":0.2},{"$f":"IF(AA7=0,0,(AA7*((LOG(AA7))/LOG(2))))","v":-0.46438561897747244},null,{"$f":"N7","v":111},{"$f":"COUNTIF(L51:L73,AD7)","v":1},{"$f":"AE7/(AG4-AE13)","v":5.8823529411764705E-2},{"$f":"IF(AF7=0,0,(AF7*((LOG(AF7))/LOG(2))))","v":-0.24043899066178465},null,{"$f":"N7","v":111},{"$f":"COUNTIF(L74:L95,AI7)","v":0},{"$f":"AJ7/(AL4-AJ13)","v":0},{"$f":"IF(AK7=0,0,(AK7*((LOG(AK7))/LOG(2))))","v":0},null,{"$f":"N7","v":111},{"$f":"COUNTIF(L96:L117,AN7)","v":0},{"$f":"AO7/(AQ4-AO13)","v":0},{"$f":"IF(AP7=0,0,(AP7*((LOG(AP7))/LOG(2))))","v":0},null,{"$f":"N7","v":111},{"$f":"COUNTIF(L118:L139,AS7)","v":0},{"$f":"AT7/(AV4-AT13)","v":0},{"$f":"IF(AU7=0,0,(AU7*((LOG(AU7))/LOG(2))))","v":0}]
[21,137,12,146,13,153,null,null,null,null,0,211,null,112,{"$f":"COUNTIF($L$7:$L$500,N8)","v":3},{"$f":"O8/$Q$4","v":2.2556390977443608E-2},{"$f":"IF(P8=0,0,(P8*((LOG(P8))/LOG(2))))","v":-0.12339067522060226},null,null,{"$f":"N8","v":112},{"$f":"COUNTIF(L7:L28,T8)","v":2},{"$f":"U8/(W4-U13)","v":0.125},{"$f":"IF(V8=0,0,(V8*((LOG(V8))/LOG(2))))","v":-0.375},null,{"$f":"N8","v":112},{"$f":"COUNTIF(L29:L50,Y8)","v":0},{"$f":"Z8/(AB4-Z13)","v":0},{"$f":"IF(AA8=0,0,(AA8*((LOG(AA8))/LOG(2))))","v":0},null,{"$f":"N8","v":112},{"$f":"COUNTIF(L51:L73,AD8)","v":1},{"$f":"AE8/(AG4-AE13)","v":5.8823529411764705E-2},{"$f":"IF(AF8=0,0,(AF8*((LOG(AF8))/LOG(2))))","v":-0.24043899066178465},null,{"$f":"N8","v":112},{"$f":"COUNTIF(L74:L95,AI8)","v":0},{"$f":"AJ8/(AL4-AJ13)","v":0},{"$f":"IF(AK8=0,0,(AK8*((LOG(AK8))/LOG(2))))","v":0},null,{"$f":"N8","v":112},{"$f":"COUNTIF(L96:L117,AN8)","v":0},{"$f":"AO8/(AQ4-AO13)","v":0},{"$f":"IF(AP8=0,0,(AP8*((LOG(AP8))/LOG(2))))","v":0},null,{"$f":"N8","v":112},{"$f":"COUNTIF(L118:L139,AS8)","v":0},{"$f":"AT8/(AV4-AT13)","v":0},{"$f":"IF(AU8=0,0,(AU8*((LOG(AU8))/LOG(2))))","v":0}]
[21,250,21,252,11,261,null,null,null,null,0,221,null,121,{"$f":"COUNTIF($L$7:$L$500,N9)","v":0},{"$f":"O9/$Q$4","v":0},{"$f":"IF(P9=0,0,(P9*((LOG(P9))/LOG(2))))","v":0},null,null,{"$f":"N9","v":121},{"$f":"COUNTIF(L7:L28,T9)","v":0},{"$f":"U9/(W4-U13)","v":0},{"$f":"IF(V9=0,0,(V9*((LOG(V9))/LOG(2))))","v":0},null,{"$f":"N9","v":121},{"$f":"COUNTIF(L29:L50,Y9)","v":0},{"$f":"Z9/(AB4-Z13)","v":0},{"$f":"IF(AA9=0,0,(AA9*((LOG(AA9))/LOG(2))))","v":0},null,{"$f":"N9","v":121},{"$f":"COUNTIF(L51:L73,AD9)","v":0},{"$f":"AE9/(AG4-AE13)","v":0},{"$f":"IF(AF9=0,0,(AF9*((LOG(AF9))/LOG(2))))","v":0},null,{"$f":"N9","v":121},{"$f":"COUNTIF(L74:L95,AI9)","v":0},{"$f":"AJ9/(AL4-AJ13)","v":0},{"$f":"IF(AK9=0,0,(AK9*((LOG(AK9))/LOG(2))))","v":0},null,{"$f":"N9","v":121},{"$f":"COUNTIF(L96:L117,AN9)","v":0},{"$f":"AO9/(AQ4-AO13)","v":0},{"$f":"IF(AP9=0,0,(AP9*((LOG(AP9))/LOG(2))))","v":0},null,{"$f":"N9","v":121},{"$f":"COUNTIF(L118:L139,AS9)","v":0},{"$f":"AT9/(AV4-AT13)","v":0},{"$f":"IF(AU9=0,0,(AU9*((LOG(AU9))/LOG(2))))","v":0}]
[12,608,14,615,13,622,null,null,null,null,0,111,null,122,{"$f":"COUNTIF($L$7:$L$500,N10)","v":0},{"$f":"O10/$Q$4","v":0},{"$f":"IF(P10=0,0,(P10*((LOG(P10))/LOG(2))))","v":0},null,null,{"$f":"N10","v":122},{"$f":"COUNTIF(L7:L28,T10)","v":0},{"$f":"U10/(W4-U13)","v":0},{"$f":"IF(V10=0,0,(V10*((LOG(V10))/LOG(2))))","v":0},null,{"$f":"N10","v":122},{"$f":"COUNTIF(L29:L50,Y10)","v":0},{"$f":"Z10/(AB4-Z13)","v":0},{"$f":"IF(AA10=0,0,(AA10*((LOG(AA10))/LOG(2))))","v":0},null,{"$f":"N10","v":122},{"$f":"COUNTIF(L51:L73,AD10)","v":0},{"$f":"AE10/(AG4-AE13)","v":0},{"$f":"IF(AF10=0,0,(AF10*((LOG(AF10))/LOG(2))))","v":0},null,{"$f":"N10","v":122},{"$f":"COUNTIF(L74:L95,AI10)","v":0},{"$f":"AJ10/(AL4-AJ13)","v":0},{"$f":"IF(AK10=0,0,(AK10*((LOG(AK10))/LOG(2))))","v":0},null,{"$f":"N10","v":122},{"$f":"COUNTIF(L96:L117,AN10)","v":0},{"$f":"AO10/(AQ4-AO13)","v":0},{"$f":"IF(AP10=0,0,(AP10*((LOG(AP10))/LOG(2))))","v":0},null,{"$f":"N10","v":122},{"$f":"COUNTIF(L118:L139,AS10)","v":0},{"$f":"AT10/(AV4-AT13)","v":0},{"$f":"IF(AU10=0,0,(AU10*((LOG(AU10))/LOG(2))))","v":0}]
[12,728,14,734,24,747,null,null,null,null,0,112,null,211,{"$f":"COUNTIF($L$7:$L$500,N11)","v":71},{"$f":"O11/$Q$4","v":0.53383458646616544},{"$f":"IF(P11=0,0,(P11*((LOG(P11))/LOG(2))))","v":-0.48340607094550403},null,null,{"$f":"N11","v":211},{"$f":"COUNTIF(L7:L28,T11)","v":11},{"$f":"U11/(W4-U13)","v":0.6875},{"$f":"IF(V11=0,0,(V11*((LOG(V11))/LOG(2))))","v":-0.3716407621868581},null,{"$f":"N11","v":211},{"$f":"COUNTIF(L29:L50,Y11)","v":11},{"$f":"Z11/(AB4-Z13)","v":0.73333333333333328},{"$f":"IF(AA11=0,0,(AA11*((LOG(AA11))/LOG(2))))","v":-0.32813658311222899},null,{"$f":"N11","v":211},{"$f":"COUNTIF(L51:L73,AD11)","v":10},{"$f":"AE11/(AG4-AE13)","v":0.58823529411764708},{"$f":"IF(AF11=0,0,(AF11*((LOG(AF11))/LOG(2))))","v":-0.45031455668410414},null,{"$f":"N11","v":211},{"$f":"COUNTIF(L74:L95,AI11)","v":12},{"$f":"AJ11/(AL4-AJ13)","v":0.92307692307692313},{"$f":"IF(AK11=0,0,(AK11*((LOG(AK11))/LOG(2))))","v":-0.10659435454147929},null,{"$f":"N11","v":211},{"$f":"COUNTIF(L96:L117,AN11)","v":14},{"$f":"AO11/(AQ4-AO13)","v":0.93333333333333335},{"$f":"IF(AP11=0,0,(AP11*((LOG(AP11))/LOG(2))))","v":-9.2899961980853443E-2},null,{"$f":"N11","v":211},{"$f":"COUNTIF(L118:L139,AS11)","v":13},{"$f":"AT11/(AV4-AT13)","v":0.76470588235294112},{"$f":"IF(AU11=0,0,(AU11*((LOG(AU11))/LOG(2))))","v":-0.29595885884824796}]
[21,846,12,855,13,863,null,null,null,null,0,211,null,212,{"$f":"COUNTIF($L$7:$L$500,N12)","v":7},{"$f":"O12/$Q$4","v":5.2631578947368418E-2},{"$f":"IF(P12=0,0,(P12*((LOG(P12))/LOG(2))))","v":-0.22357513228650452},null,null,{"$f":"N12","v":212},{"$f":"COUNTIF(L7:L28,T12)","v":1},{"$f":"U12/(W4-U13)","v":6.25E-2},{"$f":"IF(V12=0,0,(V12*((LOG(V12))/LOG(2))))","v":-0.25},null,{"$f":"N12","v":212},{"$f":"COUNTIF(L29:L50,Y12)","v":1},{"$f":"Z12/(AB4-Z13)","v":6.6666666666666666E-2},{"$f":"IF(AA12=0,0,(AA12*((LOG(AA12))/LOG(2))))","v":-0.26045937304056793},null,{"$f":"N12","v":212},{"$f":"COUNTIF(L51:L73,AD12)","v":3},{"$f":"AE12/(AG4-AE13)","v":0.17647058823529413},{"$f":"IF(AF12=0,0,(AF12*((LOG(AF12))/LOG(2))))","v":-0.44161770715220888},null,{"$f":"N12","v":212},{"$f":"COUNTIF(L74:L95,AI12)","v":0},{"$f":"AJ12/(AL4-AJ13)","v":0},{"$f":"IF(AK12=0,0,(AK12*((LOG(AK12))/LOG(2))))","v":0},null,{"$f":"N12","v":212},{"$f":"COUNTIF(L96:L117,AN12)","v":1},{"$f":"AO12/(AQ4-AO13)","v":6.6666666666666666E-2},{"$f":"IF(AP12=0,0,(AP12*((LOG(AP12))/LOG(2))))","v":-0.26045937304056793},null,{"$f":"N12","v":212},{"$f":"COUNTIF(L118:L139,AS12)","v":1},{"$f":"AT12/(AV4-AT13)","v":5.8823529411764705E-2},{"$f":"IF(AU12=0,0,(AU12*((LOG(AU12))/LOG(2))))","v":-0.24043899066178465}]
[21,957,21,960,11,969,null,null,null,null,0,221,null,221,{"$f":"COUNTIF($L$7:$L$500,N13)","v":40},{"$f":"O13/$Q$4","v":0.3007518796992481},{"$f":"IF(P13=0,0,(P13*((LOG(P13))/LOG(2))))","v":-0.52130957612445927},null,null,{"$f":"N13","v":221},{"$f":"COUNTIF(L7:L28,T13)","v":6},null,null,null,{"$f":"N13","v":221},{"$f":"COUNTIF(L29:L50,Y13)","v":7},null,null,null,{"$f":"N13","v":221},{"$f":"COUNTIF(L51:L73,AD13)","v":6},null,null,null,{"$f":"N13","v":221},{"$f":"COUNTIF(L74:L95,AI13)","v":9},null,null,null,{"$f":"N13","v":221},{"$f":"COUNTIF(L96:L117,AN13)","v":7},null,null,null,{"$f":"N13","v":221},{"$f":"COUNTIF(L118:L139,AS13)","v":5}]
[21,1229,12,1238,13,1243,null,null,null,null,0,211,null,222,{"$f":"COUNTIF($L$7:$L$500,N14)","v":6},{"$f":"O14/$Q$4","v":4.5112781954887216E-2},{"$f":"IF(P14=0,0,(P14*((LOG(P14))/LOG(2))))","v":-0.20166856848631731},null,null,{"$f":"N14","v":222},{"$f":"COUNTIF(L7:L28,T14)","v":0},{"$f":"U14/(W4-U13)","v":0},{"$f":"IF(V14=0,0,(V14*((LOG(V14))/LOG(2))))","v":0},null,{"$f":"N14","v":222},{"$f":"COUNTIF(L29:L50,Y14)","v":0},{"$f":"Z14/(AB4-Z13)","v":0},{"$f":"IF(AA14=0,0,(AA14*((LOG(AA14))/LOG(2))))","v":0},null,{"$f":"N14","v":222},{"$f":"COUNTIF(L51:L73,AD14)","v":2},{"$f":"AE14/(AG4-AE13)","v":0.11764705882352941},{"$f":"IF(AF14=0,0,(AF14*((LOG(AF14))/LOG(2))))","v":-0.36323092250003997},null,{"$f":"N14","v":222},{"$f":"COUNTIF(L74:L95,AI14)","v":1},{"$f":"AJ14/(AL4-AJ13)","v":7.6923076923076927E-2},{"$f":"IF(AK14=0,0,(AK14*((LOG(AK14))/LOG(2))))","v":-0.28464920908777636},null,{"$f":"N14","v":222},{"$f":"COUNTIF(L96:L117,AN14)","v":0},{"$f":"AO14/(AQ4-AO13)","v":0},{"$f":"IF(AP14=0,0,(AP14*((LOG(AP14))/LOG(2))))","v":0},null,{"$f":"N14","v":222},{"$f":"COUNTIF(L118:L139,AS14)","v":3},{"$f":"AT14/(AV4-AT13)","v":0.17647058823529413},{"$f":"IF(AU14=0,0,(AU14*((LOG(AU14))/LOG(2))))","v":-0.44161770715220888}]
[21,1337,21,1341,11,1354,null,null,null,null,0,221,null,null,null,{"$f":"SUM(P7:P14)","v":0.99999999999999989},{"$f":"-SUM(Q7:Q14)","v":1.7550185915497047},null,null,null,null,{"$f":"SUM(V7:V14)","v":1},{"$f":"-SUM(W7:W14)","v":1.371640762186858},null,null,null,{"$f":"SUM(AA7:AA14)","v":1},{"$f":"-SUM(AB7:AB14)","v":1.0529815751302694},null,null,null,{"$f":"SUM(AF7:AF14)","v":1},{"$f":"-SUM(AG7:AG14)","v":1.7360411676599221},null,null,null,{"$f":"SUM(AK7:AK14)","v":1},{"$f":"-SUM(AL7:AL14)","v":0.39124356362925566},null,null,null,{"$f":"SUM(AP7:AP14)","v":1},{"$f":"-SUM(AQ7:AQ14)","v":0.35335933502142136},null,null,null,{"$f":"SUM(AU7:AU14)","v":1},{"$f":"-SUM(AV7:AV14)","v":0.97801555666224149}]
[21,1545,12,1553,13,1558,null,null,null,null,0,211,null,null,null,"U=",{"$f":"Q15/(LOG(Q4)/LOG(2))","v":0.24875242169168138},null,null,null,null,"U1=",{"$f":"W15/(LOG(W4)/LOG(2))","v":0.30758196996549098},null,null,null,"U2=",{"$f":"AB15/(LOG(AB4)/LOG(2))","v":0.23612461523785783},null,null,null,"U3=",{"$f":"AG15/(LOG(AG4)/LOG(2))","v":0.38377747105582954},null,null,null,"U4=",{"$f":"AL15/(LOG(AL4)/LOG(2))","v":8.7733952908736604E-2},null,null,null,"U5=",{"$f":"AQ15/(LOG(AQ4)/LOG(2))","v":7.9238648608182957E-2},null,null,null,"U6=",{"$f":"AV15/(LOG(AV4)/LOG(2))","v":0.21931394857022188}]
[21,1654,12,1666,13,1675,null,null,null,null,0,211]
[21,1771,21,1774,11,1787,null,null,null,null,0,221]
[21,2037,12,2047,13,2055,null,null,null,null,0,211,null,"Total Target Seq"]
[12,2160,14,2168,24,2182,null,null,null,null,0,112,null,{"$f":"COUNTIF(L7:L139,G3)","v":40},null,22,22,23,22,22,22]
[21,2277,21,2280,11,2302,null,null,null,null,0,221,null,null,null,"% of reinforcement given in 6 equal intervals based on number of trials "]
[21,2492,12,2502,13,2508,null,null,null,null,0,211,null,null,null,"%_1","%_2","%_3","%_4","%_5","%_6"]
[21,2606,12,2615,24,2627,null,null,null,null,0,212,null,null,"target sequence",{"$f":"$G$3","v":221},{"$f":"$G$3","v":221},{"$f":"$G$3","v":221},{"$f":"$G$3","v":221},{"$f":"$G$3","v":221},{"$f":"$G$3","v":221}]
[21,2726,12,2740,13,2748,null,null,null,null,0,211,null,null,"total reinforcement",{"$f":"U13","v":6},{"$f":"Z13","v":7},{"$f":"AE13","v":6},{"$f":"AJ13","v":9},{"$f":"AO13","v":7},{"$f":"AT13","v":5}]
[21,2843,12,2852,13,2862,null,null,null,null,0,211,null,null,"% target"]
[21,2959,12,2966,13,2971,null,null,null,null,0,211,null,null,"CCRF"]
[21,3067,12,3080,13,3088,null,null,null,null,0,211,null,null,"% CCRf"]
[21,3181,21,3182,11,3196,null,null,null,null,0,221,null,null,"average response rate",{"$f":"F28/P20","v":145.27272727272728},{"$f":"(F50-F28)/Q20","v":205.45454545454547},{"$f":"(F73-F50)/R20","v":175.56521739130434},{"$f":"(F95-F73)/S20","v":145.59090909090909},{"$f":"(F117-F95)/T20","v":136.63636363636363},{"$f":"(F139-F117)/U20","v":136.68181818181819}]
[21,3595,12,3603,13,3606,null,null,null,null,0,211]
[21,3698,21,3702,11,3710,null,null,null,null,0,221]
[12,4110,14,4115,13,4122,null,null,null,null,0,111]
[21,4218,12,4226,13,4231,null,null,null,null,0,211]
[21,4327,12,4337,13,4345,null,null,null,null,0,211]
[21,4439,12,4450,13,4459,null,null,null,null,0,211]
[21,4555,21,4557,11,4569,null,null,null,null,0,221]
[21,4993,12,5001,13,5007,null,null,null,null,0,211]
[21,5102,12,5110,13,5119,null,null,null,null,0,211]
[21,5216,12,5229,13,5239,null,null,null,null,0,211]
[21,5331,21,5335,11,5342,null,null,null,null,0,221]
[12,5615,14,5621,13,5628,null,null,null,null,0,111]
[21,5722,12,5738,24,5750,null,null,null,null,0,212]
[21,5844,21,5849,11,5859,null,null,null,null,0,221]
[21,6041,12,6051,13,6054,null,null,null,null,0,211]
[21,6151,12,6175,13,6182,null,null,null,null,0,211]
[21,6277,21,6280,11,6290,null,null,null,null,0,221]
[12,6652,14,6656,13,6663,null,null,null,null,0,111]
[21,6758,21,6769,11,6771,null,null,null,null,0,221]
[21,7139,12,7149,13,7154,null,null,null,null,0,211]
[21,7253,21,7257,11,7279,null,null,null,null,0,221]
[21,7692,12,7704,13,7716,null,null,null,null,0,211]
[21,7813,21,7816,11,7828,null,null,null,null,0,221]
[21,8092,12,8101,13,8110,null,null,null,null,0,211]
[21,8206,12,8215,13,8227,null,null,null,null,0,211]
[21,8329,21,8345,22,8348,null,null,null,null,0,222]
[21,8443,21,8448,11,8455,null,null,null,null,0,221]
[12,8576,14,8585,13,8592,null,null,null,null,0,111]
[21,8687,12,8697,13,8706,null,null,null,null,0,211]
[21,8799,21,8804,11,8813,null,null,null,null,0,221]
[12,9001,14,9007,24,9009,null,null,null,null,0,112]
[21,9106,12,9119,24,9130,null,null,null,null,0,212]
[21,9225,12,9233,13,9242,null,null,null,null,0,211]
[21,9336,12,9344,13,9352,null,null,null,null,0,211]
[21,9448,12,9458,24,9468,null,null,null,null,0,212]
[21,9560,21,9562,22,9565,null,null,null,null,0,222]
[21,9663,12,9685,24,9689,null,null,null,null,0,212]
[21,9784,21,9787,11,9794,null,null,null,null,0,221]
[21,10403,12,10414,13,10420,null,null,null,null,0,211]
[21,10514,12,10528,13,10535,null,null,null,null,0,211]
[21,10628,21,10629,11,10642,null,null,null,null,0,221]
[21,10989,12,10995,13,10998,null,null,null,null,0,211]
[21,11093,21,11095,11,11104,null,null,null,null,0,221]
[21,11606,12,11618,13,11623,null,null,null,null,0,211]
[21,11719,12,11730,13,11754,null,null,null,null,0,211]
[21,11850,12,11878,13,11885,null,null,null,null,0,211]
[21,11983,21,11984,11,11992,null,null,null,null,0,221]
[21,12254,12,12264,13,12267,null,null,null,null,0,211]
[21,12362,12,12374,13,12383,null,null,null,null,0,211]
[21,12477,21,12482,11,12502,null,null,null,null,0,221]
[21,12795,12,12807,13,12829,null,null,null,null,0,211]
[21,12921,21,12923,22,12926,null,null,null,null,0,222]
[21,13022,21,13050,11,13059,null,null,null,null,0,221]
[21,13177,21,13179,11,13190,null,null,null,null,0,221]
[21,13344,12,13364,13,13371,null,null,null,null,0,211]
[21,13467,12,13478,13,13487,null,null,null,null,0,211]
[21,13583,21,13588,11,13614,null,null,null,null,0,221]
[21,13759,12,13770,13,13775,null,null,null,null,0,211]
[21,13869,12,13883,13,13891,null,null,null,null,0,211]
[21,13987,21,13993,11,14000,null,null,null,null,0,221]
[21,14157,12,14166,13,14173,null,null,null,null,0,211]
[21,14267,21,14271,11,14278,null,null,null,null,0,221]
[21,14453,12,14466,13,14471,null,null,null,null,0,211]
[21,14566,21,14570,11,14585,null,null,null,null,0,221]
[21,14714,12,14726,13,14728,null,null,null,null,0,211]
[21,14824,12,14834,13,14848,null,null,null,null,0,211]
[21,14942,21,14946,11,14957,null,null,null,null,0,221]
[21,15050,12,15066,13,15073,null,null,null,null,0,211]
[21,15170,21,15174,11,15181,null,null,null,null,0,221]
[21,15345,21,15346,11,15354,null,null,null,null,0,221]
[21,15545,21,15548,11,15568,null,null,null,null,0,221]
[21,15681,21,15683,11,15696,null,null,null,null,0,221]
[21,15872,12,15883,13,15887,null,null,null,null,0,211]
[21,15986,12,15995,13,16003,null,null,null,null,0,211]
[21,16097,12,16107,13,16114,null,null,null,null,0,211]
[21,16208,21,16211,11,16234,null,null,null,null,0,221]
[21,16383,12,16392,13,16400,null,null,null,null,0,211]
[21,16497,12,16511,13,16518,null,null,null,null,0,211]
[21,16614,12,16622,13,16631,null,null,null,null,0,211]
[21,16726,21,16729,11,16737,null,null,null,null,0,221]
[21,16969,12,16988,13,17004,null,null,null,null,0,211]
[21,17098,21,17101,11,17113,null,null,null,null,0,221]
[21,17234,12,17245,13,17248,null,null,null,null,0,211]
[21,17344,12,17357,13,17379,null,null,null,null,0,211]
[21,17475,12,17489,13,17499,null,null,null,null,0,211]
[21,17593,12,17602,24,17620,null,null,null,null,0,212]
[21,17716,12,17728,13,17735,null,null,null,null,0,211]
[21,17828,12,17837,13,17849,null,null,null,null,0,211]
[21,17945,12,17955,13,17963,null,null,null,null,0,211]
[21,18059,12,18072,13,18078,null,null,null,null,0,211]
[21,18175,12,18188,13,18194,null,null,null,null,0,211]
[21,18289,12,18303,24,18314,null,null,null,null,0,212]
[21,18406,21,18409,22,18412,null,null,null,null,0,222]
[21,18508,21,18514,11,18523,null,null,null,null,0,221]
[21,18839,12,18851,13,18858,null,null,null,null,0,211]
[21,18951,21,18955,11,18966,null,null,null,null,0,221]
[21,19087,12,19094,13,19099,null,null,null,null,0,211]
[21,19194,12,19201,13,19208,null,null,null,null,0,211]
[21,19307,12,19327,13,19334,null,null,null,null,0,211]
[21,19429,12,19439,13,19447,null,null,null,null,0,211]
[21,19540,21,19544,22,19546,null,null,null,null,0,222]
[21,19642,12,19658,13,19665,null,null,null,null,0,211]
[21,19761,12,19782,13,19790,null,null,null,null,0,211]
[21,19883,21,19897,22,19900,null,null,null,null,0,222]
[21,19994,12,20007,13,20013,null,null,null,null,0,211]
[21,20107,12,20120,13,20127,null,null,null,null,0,211]
[21,20221,21,20226,11,20235,null,null,null,null,0,221]
[21,20574,12,20584,13,20589,null,null,null,null,0,211]
[21,20684,21,20688,11,20699,null,null,null,null,0,221]
[21,20839,12,20848,13,20853,null,null,null,null,0,211]
[21,20948,21,20952,11,20970,null,null,null,null,1,221]

{"sheet":"!MA24A4T.AYL","index":25,"n_rows":138,"n_cols":48,"rows_kept":138,"cut":false,"hidden":false,"merged":[[4,39,4,42],[5,39,5,40],[4,44,4,47],[5,44,5,45],[4,24,4,27],[5,24,5,25],[4,29,4,32],[5,29,5,30],[4,34,4,37],[5,34,5,35],[1,1,1,2],[5,13,5,14],[18,13,18,14],[19,13,19,14],[4,19,4,22],[5,19,5,20]]}
["Report for:!MA24A4T.AYL"]
["Date:","<date>"]
["Hen:","<hen>",null,null,null,"Correct Sequence",{"$f":"Start!J2","v":221},null,null,null,null,null,null,null,null,"Total Sequences in Data",{"$f":"4994-COUNTBLANK(L7:L5000)","v":132},null,null,null,null,"Total Sequences in Block Data",{"$f":"COUNTA(L7:L28)","v":22},null,null,null,"Total Sequences in Block Data",{"$f":"COUNTA(L29:L50)","v":22},null,null,null,"Total Sequences in Block Data",{"$f":"COUNTA(L51:L72)","v":22},null,null,null,"Total Sequences in Block Data",{"$f":"COUNTA(L73:L94)","v":22},null,null,null,"Total Sequences in Block Data",{"$f":"COUNTA(L95:L116)","v":22},null,null,null,"Total Sequences in Block Data",{"$f":"COUNTA(L117:L138)","v":22}]
[null,null,null,null,null,null,null,null,null,null,null,null,null,null,null,"Total Sequences in Summary",{"$f":"SUM(O7:O14)","v":132},null,null,null,null,"Total Sequences in Block Summary",{"$f":"SUM(U7:U14)","v":22},null,null,null,"Total Sequences in Block Summary",{"$f":"SUM(Z7:Z14)","v":22},null,null,null,"Total Sequences in Block Summary",{"$f":"SUM(AE7:AE14)","v":22},null,null,null,"Total Sequences in Block Summary",{"$f":"SUM(AJ7:AJ14)","v":22},null,null,null,"Total Sequences in Block Summary",{"$f":"SUM(AO7:AO14)","v":22},null,null,null,"Total Sequences in Block Summary",{"$f":"SUM(AT7:AT14)","v":22}]
[null,null,null,null,null,null,null,null,null,null,null,null,null,null,null,null,null,null,null,"Block 1",null,null,null,null,"Block 2",null,null,null,null,"Block 3",null,null,null,null,"Block 4",null,null,null,null,"Block 5",null,null,null,null,"Block 6"]
["Sequence\nComponent\n1","Time\n1","Sequence\nComponent\n2","Time\n2","Sequence\nComponent\n3","Time\n3","Sequence\nComponent\n4","Time\n4","Sequence\nComponent\n5","Time\n5","Correct?\n0=No 1=Yes","Sequence",null,"Frequency",null,"Relative Frequency","Variability",null,null,"Frequency",null,"Relative Frequency","Variability",null,"Frequency",null,"Relative Frequency","Variability",null,"Frequency",null,"Relative Frequency","Variability",null,"Frequency",null,"Relative Frequency","Variability",null,"Frequency",null,"Relative Frequency","Variability",null,"Frequency",null,"Relative Frequency","Variability"]
[12,15,23,22,24,24,null,null,null,null,0,122,null,111,{"$f":"COUNTIF($L$7:$L$500,N7)","v":4},{"$f":"O7/$Q$4","v":3.0303030303030304E-2},{"$f":"IF(P7=0,0,(P7*((LOG(P7))/LOG(2))))","v":-0.15286042785934709},null,null,{"$f":"N7","v":111},{"$f":"COUNTIF(L7:L28,T7)","v":1},{"$f":"U7/(W4-U13)","v":5.5555555555555552E-2},{"$f":"IF(V7=0,0,(V7*((LOG(V7))/LOG(2))))","v":-0.23166250008012845},null,{"$f":"N7","v":111},{"$f":"COUNTIF(L29:L50,Y7)","v":1},{"$f":"Z7/(AB4-Z13)","v":5.8823529411764705E-2},{"$f":"IF(AA7=0,0,(AA7*((LOG(AA7))/LOG(2))))","v":-0.24043899066178465},null,{"$f":"N7","v":111},{"$f":"COUNTIF(L51:L72,AD7)","v":0},{"$f":"AE7/(AG4-AE13)","v":0},{"$f":"IF(AF7=0,0,(AF7*((LOG(AF7))/LOG(2))))","v":0},null,{"$f":"N7","v":111},{"$f":"COUNTIF(L73:L94,AI7)","v":0},{"$f":"AJ7/(AL4-AJ13)","v":0},{"$f":"IF(AK7=0,0,(AK7*((LOG(AK7))/LOG(2))))","v":0},null,{"$f":"N7","v":111},{"$f":"COUNTIF(L95:L116,AN7)","v":2},{"$f":"AO7/(AQ4-AO13)","v":0.16666666666666666},{"$f":"IF(AP7=0,0,(AP7*((LOG(AP7))/LOG(2))))","v":-0.43082708345352599},null,{"$f":"N7","v":111},{"$f":"COUNTIF(L117:L138,AS7)","v":0},{"$f":"AT7/(AV4-AT13)","v":0},{"$f":"IF(AU7=0,0,(AU7*((LOG(AU7))/LOG(2))))","v":0}]
[21,116,21,121,11,132,null,null,null,null,0,221,null,112,{"$f":"COUNTIF($L$7:$L$500,N8)","v":2},{"$f":"O8/$Q$4","v":1.5151515151515152E-2},{"$f":"IF(P8=0,0,(P8*((LOG(P8))/LOG(2))))","v":-9.1581729081188695E-2},null,null,{"$f":"N8","v":112},{"$f":"COUNTIF(L7:L28,T8)","v":2},{"$f":"U8/(W4-U13)","v":0.1111111111111111},{"$f":"IF(V8=0,0,(V8*((LOG(V8))/LOG(2))))","v":-0.3522138890491458},null,{"$f":"N8","v":112},{"$f":"COUNTIF(L29:L50,Y8)","v":0},{"$f":"Z8/(AB4-Z13)","v":0},{"$f":"IF(AA8=0,0,(AA8*((LOG(AA8))/LOG(2))))","v":0},null,{"$f":"N8","v":112},{"$f":"COUNTIF(L51:L72,AD8)","v":0},{"$f":"AE8/(AG4-AE13)","v":0},{"$f":"IF(AF8=0,0,(AF8*((LOG(AF8))/LOG(2))))","v":0},null,{"$f":"N8","v":112},{"$f":"COUNTIF(L73:L94,AI8)","v":0},{"$f":"AJ8/(AL4-AJ13)","v":0},{"$f":"IF(AK8=0,0,(AK8*((LOG(AK8))/LOG(2))))","v":0},null,{"$f":"N8","v":112},{"$f":"COUNTIF(L95:L116,AN8)","v":0},{"$f":"AO8/(AQ4-AO13)","v":0},{"$f":"IF(AP8=0,0,(AP8*((LOG(AP8))/LOG(2))))","v":0},null,{"$f":"N8","v":112},{"$f":"COUNTIF(L117:L138,AS8)","v":0},{"$f":"AT8/(AV4-AT13)","v":0},{"$f":"IF(AU8=0,0,(AU8*((LOG(AU8))/LOG(2))))","v":0}]
[21,289,12,298,13,301,null,null,null,null,0,211,null,121,{"$f":"COUNTIF($L$7:$L$500,N9)","v":0},{"$f":"O9/$Q$4","v":0},{"$f":"IF(P9=0,0,(P9*((LOG(P9))/LOG(2))))","v":0},null,null,{"$f":"N9","v":121},{"$f":"COUNTIF(L7:L28,T9)","v":0},{"$f":"U9/(W4-U13)","v":0},{"$f":"IF(V9=0,0,(V9*((LOG(V9))/LOG(2))))","v":0},null,{"$f":"N9","v":121},{"$f":"COUNTIF(L29:L50,Y9)","v":0},{"$f":"Z9/(AB4-Z13)","v":0},{"$f":"IF(AA9=0,0,(AA9*((LOG(AA9))/LOG(2))))","v":0},null,{"$f":"N9","v":121},{"$f":"COUNTIF(L51:L72,AD9)","v":0},{"$f":"AE9/(AG4-AE13)","v":0},{"$f":"IF(AF9=0,0,(AF9*((LOG(AF9))/LOG(2))))","v":0},null,{"$f":"N9","v":121},{"$f":"COUNTIF(L73:L94,AI9)","v":0},{"$f":"AJ9/(AL4-AJ13)","v":0},{"$f":"IF(AK9=0,0,(AK9*((LOG(AK9))/LOG(2))))","v":0},null,{"$f":"N9","v":121},{"$f":"COUNTIF(L95:L116,AN9)","v":0},{"$f":"AO9/(AQ4-AO13)","v":0},{"$f":"IF(AP9=0,0,(AP9*((LOG(AP9))/LOG(2))))","v":0},null,{"$f":"N9","v":121},{"$f":"COUNTIF(L117:L138,AS9)","v":0},{"$f":"AT9/(AV4-AT13)","v":0},{"$f":"IF(AU9=0,0,(AU9*((LOG(AU9))/LOG(2))))","v":0}]
[21,397,12,406,13,414,null,null,null,null,0,211,null,122,{"$f":"COUNTIF($L$7:$L$500,N10)","v":1},{"$f":"O10/$Q$4","v":7.575757575757576E-3},{"$f":"IF(P10=0,0,(P10*((LOG(P10))/LOG(2))))","v":-5.3366622116351931E-2},null,null,{"$f":"N10","v":122},{"$f":"COUNTIF(L7:L28,T10)","v":1},{"$f":"U10/(W4-U13)","v":5.5555555555555552E-2},{"$f":"IF(V10=0,0,(V10*((LOG(V10))/LOG(2))))","v":-0.23166250008012845},null,{"$f":"N10","v":122},{"$f":"COUNTIF(L29:L50,Y10)","v":0},{"$f":"Z10/(AB4-Z13)","v":0},{"$f":"IF(AA10=0,0,(AA10*((LOG(AA10))/LOG(2))))","v":0},null,{"$f":"N10","v":122},{"$f":"COUNTIF(L51:L72,AD10)","v":0},{"$f":"AE10/(AG4-AE13)","v":0},{"$f":"IF(AF10=0,0,(AF10*((LOG(AF10))/LOG(2))))","v":0},null,{"$f":"N10","v":122},{"$f":"COUNTIF(L73:L94,AI10)","v":0},{"$f":"AJ10/(AL4-AJ13)","v":0},{"$f":"IF(AK10=0,0,(AK10*((LOG(AK10))/LOG(2))))","v":0},null,{"$f":"N10","v":122},{"$f":"COUNTIF(L95:L116,AN10)","v":0},{"$f":"AO10/(AQ4-AO13)","v":0},{"$f":"IF(AP10=0,0,(AP10*((LOG(AP10))/LOG(2))))","v":0},null,{"$f":"N10","v":122},{"$f":"COUNTIF(L117:L138,AS10)","v":0},{"$f":"AT10/(AV4-AT13)","v":0},{"$f":"IF(AU10=0,0,(AU10*((LOG(AU10))/LOG(2))))","v":0}]
[21,511,12,525,13,533,null,null,null,null,0,211,null,211,{"$f":"COUNTIF($L$7:$L$500,N11)","v":72},{"$f":"O11/$Q$4","v":0.54545454545454541},{"$f":"IF(P11=0,0,(P11*((LOG(P11))/LOG(2))))","v":-0.47698315522698609},null,null,{"$f":"N11","v":211},{"$f":"COUNTIF(L7:L28,T11)","v":14},{"$f":"U11/(W4-U13)","v":0.77777777777777779},{"$f":"IF(V11=0,0,(V11*((LOG(V11))/LOG(2))))","v":-0.28199895063255082},null,{"$f":"N11","v":211},{"$f":"COUNTIF(L29:L50,Y11)","v":13},{"$f":"Z11/(AB4-Z13)","v":0.76470588235294112},{"$f":"IF(AA11=0,0,(AA11*((LOG(AA11))/LOG(2))))","v":-0.29595885884824796},null,{"$f":"N11","v":211},{"$f":"COUNTIF(L51:L72,AD11)","v":16},{"$f":"AE11/(AG4-AE13)","v":1},{"$f":"IF(AF11=0,0,(AF11*((LOG(AF11))/LOG(2))))","v":0},null,{"$f":"N11","v":211},{"$f":"COUNTIF(L73:L94,AI11)","v":13},{"$f":"AJ11/(AL4-AJ13)","v":0.8125},{"$f":"IF(AK11=0,0,(AK11*((LOG(AK11))/LOG(2))))","v":-0.24339272901036266},null,{"$f":"N11","v":211},{"$f":"COUNTIF(L95:L116,AN11)","v":7},{"$f":"AO11/(AQ4-AO13)","v":0.58333333333333337},{"$f":"IF(AP11=0,0,(AP11*((LOG(AP11))/LOG(2))))","v":-0.45360442088707198},null,{"$f":"N11","v":211},{"$f":"COUNTIF(L117:L138,AS11)","v":9},{"$f":"AT11/(AV4-AT13)","v":0.69230769230769229},{"$f":"IF(AU11=0,0,(AU11*((LOG(AU11))/LOG(2))))","v":-0.36727941925300139}]
[21,625,21,630,11,642,null,null,null,null,0,221,null,212,{"$f":"COUNTIF($L$7:$L$500,N12)","v":7},{"$f":"O12/$Q$4","v":5.3030303030303032E-2},{"$f":"IF(P12=0,0,(P12*((LOG(P12))/LOG(2))))","v":-0.22469147258413597},null,null,{"$f":"N12","v":212},{"$f":"COUNTIF(L7:L28,T12)","v":0},{"$f":"U12/(W4-U13)","v":0},{"$f":"IF(V12=0,0,(V12*((LOG(V12))/LOG(2))))","v":0},null,{"$f":"N12","v":212},{"$f":"COUNTIF(L29:L50,Y12)","v":1},{"$f":"Z12/(AB4-Z13)","v":5.8823529411764705E-2},{"$f":"IF(AA12=0,0,(AA12*((LOG(AA12))/LOG(2))))","v":-0.24043899066178465},null,{"$f":"N12","v":212},{"$f":"COUNTIF(L51:L72,AD12)","v":0},{"$f":"AE12/(AG4-AE13)","v":0},{"$f":"IF(AF12=0,0,(AF12*((LOG(AF12))/LOG(2))))","v":0},null,{"$f":"N12","v":212},{"$f":"COUNTIF(L73:L94,AI12)","v":2},{"$f":"AJ12/(AL4-AJ13)","v":0.125},{"$f":"IF(AK12=0,0,(AK12*((LOG(AK12))/LOG(2))))","v":-0.375},null,{"$f":"N12","v":212},{"$f":"COUNTIF(L95:L116,AN12)","v":2},{"$f":"AO12/(AQ4-AO13)","v":0.16666666666666666},{"$f":"IF(AP12=0,0,(AP12*((LOG(AP12))/LOG(2))))","v":-0.43082708345352599},null,{"$f":"N12","v":212},{"$f":"COUNTIF(L117:L138,AS12)","v":2},{"$f":"AT12/(AV4-AT13)","v":0.15384615384615385},{"$f":"IF(AU12=0,0,(AU12*((LOG(AU12))/LOG(2))))","v":-0.4154522643293988}]
[12,834,14,839,13,845,null,null,null,null,0,111,null,221,{"$f":"COUNTIF($L$7:$L$500,N13)","v":40},{"$f":"O13/$Q$4","v":0.30303030303030304},{"$f":"IF(P13=0,0,(P13*((LOG(P13))/LOG(2))))","v":-0.52195940135487617},null,null,{"$f":"N13","v":221},{"$f":"COUNTIF(L7:L28,T13)","v":4},null,null,null,{"$f":"N13","v":221},{"$f":"COUNTIF(L29:L50,Y13)","v":5},null,null,null,{"$f":"N13","v":221},{"$f":"COUNTIF(L51:L72,AD13)","v":6},null,null,null,{"$f":"N13","v":221},{"$f":"COUNTIF(L73:L94,AI13)","v":6},null,null,null,{"$f":"N13","v":221},{"$f":"COUNTIF(L95:L116,AN13)","v":10},null,null,null,{"$f":"N13","v":221},{"$f":"COUNTIF(L117:L138,AS13)","v":9}]
[21,940,12,949,13,956,null,null,null,null,0,211,null,222,{"$f":"COUNTIF($L$7:$L$500,N14)","v":6},{"$f":"O14/$Q$4","v":4.5454545454545456E-2},{"$f":"IF(P14=0,0,(P14*((LOG(P14))/LOG(2))))","v":-0.20270143721078623},null,null,{"$f":"N14","v":222},{"$f":"COUNTIF(L7:L28,T14)","v":0},{"$f":"U14/(W4-U13)","v":0},{"$f":"IF(V14=0,0,(V14*((LOG(V14))/LOG(2))))","v":0},null,{"$f":"N14","v":222},{"$f":"COUNTIF(L29:L50,Y14)","v":2},{"$f":"Z14/(AB4-Z13)","v":0.11764705882352941},{"$f":"IF(AA14=0,0,(AA14*((LOG(AA14))/LOG(2))))","v":-0.36323092250003997},null,{"$f":"N14","v":222},{"$f":"COUNTIF(L51:L72,AD14)","v":0},{"$f":"AE14/(AG4-AE13)","v":0},{"$f":"IF(AF14=0,0,(AF14*((LOG(AF14))/LOG(2))))","v":0},null,{"$f":"N14","v":222},{"$f":"COUNTIF(L73:L94,AI14)","v":1},{"$f":"AJ14/(AL4-AJ13)","v":6.25E-2},{"$f":"IF(AK14=0,0,(AK14*((LOG(AK14))/LOG(2))))","v":-0.25},null,{"$f":"N14","v":222},{"$f":"COUNTIF(L95:L116,AN14)","v":1},{"$f":"AO14/(AQ4-AO13)","v":8.3333333333333329E-2},{"$f":"IF(AP14=0,0,(AP14*((LOG(AP14))/LOG(2))))","v":-0.29874687506009634},null,{"$f":"N14","v":222},{"$f":"COUNTIF(L117:L138,AS14)","v":2},{"$f":"AT14/(AV4-AT13)","v":0.15384615384615385},{"$f":"IF(AU14=0,0,(AU14*((LOG(AU14))/LOG(2))))","v":-0.4154522643293988}]
[21,1052,12,1061,13,1070,null,null,null,null,0,211,null,null,null,{"$f":"SUM(P7:P14)","v":0.99999999999999978},{"$f":"-SUM(Q7:Q14)","v":1.7241442454336722},null,null,null,null,{"$f":"SUM(V7:V14)","v":1},{"$f":"-SUM(W7:W14)","v":1.0975378398419535},null,null,null,{"$f":"SUM(AA7:AA14)","v":1},{"$f":"-SUM(AB7:AB14)","v":1.1400677626718572},null,null,null,{"$f":"SUM(AF7:AF14)","v":1},{"$f":"-SUM(AG7:AG14)","v":0},null,null,null,{"$f":"SUM(AK7:AK14)","v":1},{"$f":"-SUM(AL7:AL14)","v":0.86839272901036269},null,null,null,{"$f":"SUM(AP7:AP14)","v":1},{"$f":"-SUM(AQ7:AQ14)","v":1.6140054628542202},null,null,null,{"$f":"SUM(AU7:AU14)","v":1},{"$f":"-SUM(AV7:AV14)","v":1.1981839479117991}]
[12,1175,14,1182,24,1199,null,null,null,null,0,112,null,null,null,"U=",{"$f":"Q15/(LOG(Q4)/LOG(2))","v":0.24475408618828004},null,null,null,null,"U1=",{"$f":"W15/(LOG(W4)/LOG(2))","v":0.24611608242965649},null,null,null,"U2=",{"$f":"AB15/(LOG(AB4)/LOG(2))","v":0.25565315496871244},null,null,null,"U3=",{"$f":"AG15/(LOG(AG4)/LOG(2))","v":0},null,null,null,"U4=",{"$f":"AL15/(LOG(AL4)/LOG(2))","v":0.19473170647602039},null,null,null,"U5=",{"$f":"AQ15/(LOG(AQ4)/LOG(2))","v":0.36193075729848823},null,null,null,"U6=",{"$f":"AV15/(LOG(AV4)/LOG(2))","v":0.26868535059585402}]
[21,1296,12,1311,13,1319,null,null,null,null,0,211]
[21,1415,12,1425,13,1438,null,null,null,null,0,211]
[21,1532,12,1541,13,1550,null,null,null,null,0,211,null,"Total Target Seq"]
[21,1647,12,1660,13,1668,null,null,null,null,0,211,null,{"$f":"COUNTIF(L7:L138,G3)","v":40},null,22,22,22,22,22,22]
[21,1769,12,1777,13,1785,null,null,null,null,0,211,null,null,null,"% of reinforcement given in 6 equal intervals based on number of trials "]
[21,1879,12,1891,13,1899,null,null,null,null,0,211,null,null,null,"%_1","%_2","%_3","%_4","%_5","%_6"]
[21,1995,21,1998,11,2008,null,null,null,null,0,221,null,null,"target sequence",{"$f":"$G$3","v":221},{"$f":"$G$3","v":221},{"$f":"$G$3","v":221},{"$f":"$G$3","v":221},{"$f":"$G$3","v":221},{"$f":"$G$3","v":221}]
[12,2167,14,2173,24,2176,null,null,null,null,0,112,null,null,"total reinforcement",{"$f":"U13","v":4},{"$f":"Z13","v":5},{"$f":"AE13","v":6},{"$f":"AJ13","v":6},{"$f":"AO13","v":10},{"$f":"AT13","v":9}]
[21,2272,12,2282,13,2293,null,null,null,null,0,211,null,null,"% target"]
[21,2392,12,2403,13,2406,null,null,null,null,0,211,null,null,"CCRF"]
[21,2501,21,2503,11,2511,null,null,null,null,0,221,null,null,"% CCRf"]
[21,2743,12,2753,13,2758,null,null,null,null,0,211,null,null,"average response rate",{"$f":"F28/P20","v":125.36363636363636},{"$f":"(F50-F28)/Q20","v":134.86363636363637},{"$f":"(F72-F50)/R20","v":156},{"$f":"(F94-F72)/S20","v":173.95454545454547},{"$f":"(F116-F94)/T20","v":165.72727272727272},{"$f":"(F138-F116)/U20","v":163.45454545454547}]
[21,2856,12,2868,13,2877,null,null,null,null,0,211]
[21,2973,21,2978,11,2985,null,null,null,null,0,221]
[21,3146,12,3155,13,3160,null,null,null,null,0,211]
[21,3257,12,3266,13,3280,null,null,null,null,0,211]
[21,3375,12,3384,13,3393,null,null,null,null,0,211]
[21,3491,12,3500,13,3510,null,null,null,null,0,211]
[21,3609,12,3618,13,3628,null,null,null,null,0,211]
[21,3725,12,3735,13,3744,null,null,null,null,0,211]
[21,3838,12,3854,24,3858,null,null,null,null,0,212]
[21,3955,21,3961,11,3968,null,null,null,null,0,221]
[21,4171,12,4182,13,4184,null,null,null,null,0,211]
[21,4276,21,4281,22,4287,null,null,null,null,0,222]
[21,4380,21,4382,11,4391,null,null,null,null,0,221]
[21,4573,12,4584,13,4592,null,null,null,null,0,211]
[21,4688,12,4699,13,4707,null,null,null,null,0,211]
[21,4801,12,4812,13,4817,null,null,null,null,0,211]
[21,4909,21,4914,11,4922,null,null,null,null,0,221]
[12,5278,14,5283,13,5290,null,null,null,null,0,111]
[21,5384,21,5388,22,5390,null,null,null,null,0,222]
[21,5487,12,5497,13,5504,null,null,null,null,0,211]
[21,5600,12,5610,13,5618,null,null,null,null,0,211]
[21,5715,21,5718,11,5725,null,null,null,null,0,221]
[21,6016,12,6025,13,6031,null,null,null,null,0,211]
[21,6125,12,6134,13,6146,null,null,null,null,0,211]
[21,6241,21,6243,11,6251,null,null,null,null,0,221]
[21,6474,12,6482,13,6486,null,null,null,null,0,211]
[21,6583,21,6588,11,6594,null,null,null,null,0,221]
[21,6803,12,6813,13,6818,null,null,null,null,0,211]
[21,6912,12,6922,13,6932,null,null,null,null,0,211]
[21,7028,21,7032,11,7040,null,null,null,null,0,221]
[21,7239,12,7250,13,7253,null,null,null,null,0,211]
[21,7350,12,7362,13,7372,null,null,null,null,0,211]
[21,7464,21,7468,11,7477,null,null,null,null,0,221]
[21,7699,12,7708,13,7714,null,null,null,null,0,211]
[21,7810,12,7821,13,7828,null,null,null,null,0,211]
[21,7924,12,7934,13,7943,null,null,null,null,0,211]
[21,8040,12,8054,13,8062,null,null,null,null,0,211]
[21,8158,12,8167,13,8180,null,null,null,null,0,211]
[21,8275,12,8284,13,8291,null,null,null,null,0,211]
[21,8386,21,8388,11,8396,null,null,null,null,0,221]
[21,8803,12,8814,13,8819,null,null,null,null,0,211]
[21,8913,12,8925,13,8932,null,null,null,null,0,211]
[21,9025,12,9037,13,9046,null,null,null,null,0,211]
[21,9144,21,9149,11,9157,null,null,null,null,0,221]
[21,9656,21,9659,11,9670,null,null,null,null,0,221]
[21,9818,12,9829,13,9835,null,null,null,null,0,211]
[21,9933,12,9942,13,9948,null,null,null,null,0,211]
[21,10044,12,10054,13,10061,null,null,null,null,0,211]
[21,10155,21,10159,11,10170,null,null,null,null,0,221]
[21,10319,12,10333,13,10342,null,null,null,null,0,211]
[21,10438,12,10452,13,10460,null,null,null,null,0,211]
[21,10553,21,10560,11,10573,null,null,null,null,0,221]
[21,10777,12,10785,13,10790,null,null,null,null,0,211]
[21,10887,21,10891,11,10899,null,null,null,null,0,221]
[21,11181,12,11191,13,11201,null,null,null,null,0,211]
[21,11298,12,11307,24,11324,null,null,null,null,0,212]
[21,11419,12,11437,13,11444,null,null,null,null,0,211]
[21,11542,21,11547,11,11555,null,null,null,null,0,221]
[21,11760,12,11769,13,11778,null,null,null,null,0,211]
[21,11874,12,11887,24,11899,null,null,null,null,0,212]
[21,11996,21,11999,22,12001,null,null,null,null,0,222]
[21,12096,12,12107,13,12119,null,null,null,null,0,211]
[21,12215,21,12220,11,12233,null,null,null,null,0,221]
[21,12711,12,12721,13,12726,null,null,null,null,0,211]
[21,12825,12,12834,13,12842,null,null,null,null,0,211]
[21,12938,12,12971,13,12984,null,null,null,null,0,211]
[21,13080,21,13082,11,13090,null,null,null,null,0,221]
[12,13304,14,13313,13,13318,null,null,null,null,0,111]
[21,13412,12,13435,13,13452,null,null,null,null,0,211]
[21,13549,21,13553,11,13560,null,null,null,null,0,221]
[21,13755,12,13763,13,13780,null,null,null,null,0,211]
[21,13878,12,13889,13,13901,null,null,null,null,0,211]
[21,13999,21,14005,11,14014,null,null,null,null,0,221]
[21,14211,12,14221,13,14225,null,null,null,null,0,211]
[21,14323,12,14360,13,14366,null,null,null,null,0,211]
[21,14460,21,14465,11,14476,null,null,null,null,0,221]
[21,14791,21,14813,11,14815,null,null,null,null,0,221]
[21,15128,21,15131,11,15139,null,null,null,null,0,221]
[21,15245,12,15260,24,15266,null,null,null,null,0,212]
[21,15359,21,15364,11,15380,null,null,null,null,0,221]
[21,15538,21,15541,11,15551,null,null,null,null,0,221]
[21,15726,21,15728,11,15741,null,null,null,null,0,221]
[12,15909,14,15915,13,15922,null,null,null,null,0,111]
[21,16017,21,16024,11,16030,null,null,null,null,0,221]
[21,16211,21,16238,22,16244,null,null,null,null,0,222]
[21,16360,12,16370,13,16376,null,null,null,null,0,211]
[21,16472,12,16493,13,16502,null,null,null,null,0,211]
[21,16597,12,16627,24,16630,null,null,null,null,0,212]
[21,16727,21,16733,11,16755,null,null,null,null,0,221]
[21,16976,12,16989,13,16995,null,null,null,null,0,211]
[21,17088,12,17113,13,17120,null,null,null,null,0,211]
[21,17260,12,17269,24,17280,null,null,null,null,0,212]
[21,17378,21,17384,22,17387,null,null,null,null,0,222]
[21,17483,21,17487,11,17498,null,null,null,null,0,221]
[21,17772,21,17774,11,17802,null,null,null,null,0,221]
[21,18035,12,18043,13,18047,null,null,null,null,0,211]
[21,18141,21,18143,11,18154,null,null,null,null,0,221]
[21,18370,12,18379,13,18382,null,null,null,null,0,211]
[21,18480,12,18514,13,18522,null,null,null,null,0,211]
[21,18619,21,18623,11,18645,null,null,null,null,0,221]
[21,18783,12,18793,13,18815,null,null,null,null,0,211]
[21,18909,21,18914,22,18917,null,null,null,null,0,222]
[21,19011,21,19014,11,19022,null,null,null,null,0,221]
[21,19365,12,19377,24,19382,null,null,null,null,0,212]
[21,19489,12,19499,13,19504,null,null,null,null,0,211]
[21,19613,21,19619,11,19631,null,null,null,null,0,221]
[21,19796,12,19805,13,19809,null,null,null,null,0,211]
[21,19903,21,19906,11,19920,null,null,null,null,0,221]
[21,20084,12,20095,13,20100,null,null,null,null,0,211]
[21,20199,21,20202,11,20226,null,null,null,null,1,221]

{"sheet":"!MA25A3T.AYL","index":26,"n_rows":89,"n_cols":48,"rows_kept":89,"cut":false,"hidden":false,"merged":[[4,39,4,42],[5,39,5,40],[4,44,4,47],[5,44,5,45],[4,24,4,27],[5,24,5,25],[4,29,4,32],[5,29,5,30],[4,34,4,37],[5,34,5,35],[1,1,1,2],[5,13,5,14],[18,13,18,14],[19,13,19,14],[4,19,4,22],[5,19,5,20]]}
["Report for:!MA25A3T.AYL"]
["Date:","<date>"]
["Hen:","<hen>",null,null,null,"Correct Sequence",{"$f":"Start!J2","v":221},null,null,null,null,null,null,null,null,"Total Sequences in Data",{"$f":"4994-COUNTBLANK(L7:L5000)","v":83},null,null,null,null,"Total Sequences in Block Data",{"$f":"COUNTA(L7:L20)","v":14},null,null,null,"Total Sequences in Block Data",{"$f":"COUNTA(L21:L34)","v":14},null,null,null,"Total Sequences in Block Data",{"$f":"COUNTA(L35:L47)","v":13},null,null,null,"Total Sequences in Block Data",{"$f":"COUNTA(L48:L61)","v":14},null,null,null,"Total Sequences in Block Data",{"$f":"COUNTA(L62:L75)","v":14},null,null,null,"Total Sequences in Block Data",{"$f":"COUNTA(L76:L89)","v":14}]
[null,null,null,null,null,null,null,null,null,null,null,null,null,null,null,"Total Sequences in Summary",{"$f":"SUM(O7:O14)","v":83},null,null,null,null,"Total Sequences in Block Summary",{"$f":"SUM(U7:U14)","v":14},null,null,null,"Total Sequences in Block Summary",{"$f":"SUM(Z7:Z14)","v":14},null,null,null,"Total Sequences in Block Summary",{"$f":"SUM(AE7:AE14)","v":13},null,null,null,"Total Sequences in Block Summary",{"$f":"SUM(AJ7:AJ14)","v":14},null,null,null,"Total Sequences in Block Summary",{"$f":"SUM(AO7:AO14)","v":14},null,null,null,"Total Sequences in Block Summary",{"$f":"SUM(AT7:AT14)","v":14}]
[null,null,null,null,null,null,null,null,null,null,null,null,null,null,null,null,null,null,null,"Block 1",null,null,null,null,"Block 2",null,null,null,null,"Block 3",null,null,null,null,"Block 4",null,null,null,null,"Block 5",null,null,null,null,"Block 6"]
["Sequence\nComponent\n1","Time\n1","Sequence\nComponent\n2","Time\n2","Sequence\nComponent\n3","Time\n3","Sequence\nComponent\n4","Time\n4","Sequence\nComponent\n5","Time\n5","Correct?\n0=No 1=Yes","Sequence",null,"Frequency",null,"Relative Frequency","Variability",null,null,"Frequency",null,"Relative Frequency","Variability",null,"Frequency",null,"Relative Frequency","Variability",null,"Frequency",null,"Relative Frequency","Variability",null,"Frequency",null,"Relative Frequency","Variability",null,"Frequency",null,"Relative Frequency","Variability",null,"Frequency",null,"Relative Frequency","Variability"]
[21,5,12,14,13,20,null,null,null,null,0,211,null,111,{"$f":"COUNTIF($L$7:$L$500,N7)","v":7},{"$f":"O7/$Q$4","v":8.4337349397590355E-2},{"$f":"IF(P7=0,0,(P7*((LOG(P7))/LOG(2))))","v":-0.30088905500030411},null,null,{"$f":"N7","v":111},{"$f":"COUNTIF(L7:L20,T7)","v":1},{"$f":"U7/(W4-U13)","v":0.1111111111111111},{"$f":"IF(V7=0,0,(V7*((LOG(V7))/LOG(2))))","v":-0.3522138890491458},null,{"$f":"N7","v":111},{"$f":"COUNTIF(L21:L34,Y7)","v":0},{"$f":"Z7/(AB4-Z13)","v":0},{"$f":"IF(AA7=0,0,(AA7*((LOG(AA7))/LOG(2))))","v":0},null,{"$f":"N7","v":111},{"$f":"COUNTIF(L35:L47,AD7)","v":1},{"$f":"AE7/(AG4-AE13)","v":9.0909090909090912E-2},{"$f":"IF(AF7=0,0,(AF7*((LOG(AF7))/LOG(2))))","v":-0.31449378351248153},null,{"$f":"N7","v":111},{"$f":"COUNTIF(L48:L61,AI7)","v":2},{"$f":"AJ7/(AL4-AJ13)","v":0.25},{"$f":"IF(AK7=0,0,(AK7*((LOG(AK7))/LOG(2))))","v":-0.5},null,{"$f":"N7","v":111},{"$f":"COUNTIF(L62:L75,AN7)","v":1},{"$f":"AO7/(AQ4-AO13)","v":0.1},{"$f":"IF(AP7=0,0,(AP7*((LOG(AP7))/LOG(2))))","v":-0.33219280948873625},null,{"$f":"N7","v":111},{"$f":"COUNTIF(L76:L89,AS7)","v":2},{"$f":"AT7/(AV4-AT13)","v":0.18181818181818182},{"$f":"IF(AU7=0,0,(AU7*((LOG(AU7))/LOG(2))))","v":-0.44716938520678134}]
[21,112,21,119,11,133,null,null,null,null,0,221,null,112,{"$f":"COUNTIF($L$7:$L$500,N8)","v":1},{"$f":"O8/$Q$4","v":1.2048192771084338E-2},{"$f":"IF(P8=0,0,(P8*((LOG(P8))/LOG(2))))","v":-7.6807703992131618E-2},null,null,{"$f":"N8","v":112},{"$f":"COUNTIF(L7:L20,T8)","v":0},{"$f":"U8/(W4-U13)","v":0},{"$f":"IF(V8=0,0,(V8*((LOG(V8))/LOG(2))))","v":0},null,{"$f":"N8","v":112},{"$f":"COUNTIF(L21:L34,Y8)","v":0},{"$f":"Z8/(AB4-Z13)","v":0},{"$f":"IF(AA8=0,0,(AA8*((LOG(AA8))/LOG(2))))","v":0},null,{"$f":"N8","v":112},{"$f":"COUNTIF(L35:L47,AD8)","v":0},{"$f":"AE8/(AG4-AE13)","v":0},{"$f":"IF(AF8=0,0,(AF8*((LOG(AF8))/LOG(2))))","v":0},null,{"$f":"N8","v":112},{"$f":"COUNTIF(L48:L61,AI8)","v":0},{"$f":"AJ8/(AL4-AJ13)","v":0},{"$f":"IF(AK8=0,0,(AK8*((LOG(AK8))/LOG(2))))","v":0},null,{"$f":"N8","v":112},{"$f":"COUNTIF(L62:L75,AN8)","v":0},{"$f":"AO8/(AQ4-AO13)","v":0},{"$f":"IF(AP8=0,0,(AP8*((LOG(AP8))/LOG(2))))","v":0},null,{"$f":"N8","v":112},{"$f":"COUNTIF(L76:L89,AS8)","v":1},{"$f":"AT8/(AV4-AT13)","v":9.0909090909090912E-2},{"$f":"IF(AU8=0,0,(AU8*((LOG(AU8))/LOG(2))))","v":-0.31449378351248153}]
[21,302,12,313,13,318,null,null,null,null,0,211,null,121,{"$f":"COUNTIF($L$7:$L$500,N9)","v":0},{"$f":"O9/$Q$4","v":0},{"$f":"IF(P9=0,0,(P9*((LOG(P9))/LOG(2))))","v":0},null,null,{"$f":"N9","v":121},{"$f":"COUNTIF(L7:L20,T9)","v":0},{"$f":"U9/(W4-U13)","v":0},{"$f":"IF(V9=0,0,(V9*((LOG(V9))/LOG(2))))","v":0},null,{"$f":"N9","v":121},{"$f":"COUNTIF(L21:L34,Y9)","v":0},{"$f":"Z9/(AB4-Z13)","v":0},{"$f":"IF(AA9=0,0,(AA9*((LOG(AA9))/LOG(2))))","v":0},null,{"$f":"N9","v":121},{"$f":"COUNTIF(L35:L47,AD9)","v":0},{"$f":"AE9/(AG4-AE13)","v":0},{"$f":"IF(AF9=0,0,(AF9*((LOG(AF9))/LOG(2))))","v":0},null,{"$f":"N9","v":121},{"$f":"COUNTIF(L48:L61,AI9)","v":0},{"$f":"AJ9/(AL4-AJ13)","v":0},{"$f":"IF(AK9=0,0,(AK9*((LOG(AK9))/LOG(2))))","v":0},null,{"$f":"N9","v":121},{"$f":"COUNTIF(L62:L75,AN9)","v":0},{"$f":"AO9/(AQ4-AO13)","v":0},{"$f":"IF(AP9=0,0,(AP9*((LOG(AP9))/LOG(2))))","v":0},null,{"$f":"N9","v":121},{"$f":"COUNTIF(L76:L89,AS9)","v":0},{"$f":"AT9/(AV4-AT13)","v":0},{"$f":"IF(AU9=0,0,(AU9*((LOG(AU9))/LOG(2))))","v":0}]
[21,414,21,417,11,425,null,null,null,null,0,221,null,122,{"$f":"COUNTIF($L$7:$L$500,N10)","v":0},{"$f":"O10/$Q$4","v":0},{"$f":"IF(P10=0,0,(P10*((LOG(P10))/LOG(2))))","v":0},null,null,{"$f":"N10","v":122},{"$f":"COUNTIF(L7:L20,T10)","v":0},{"$f":"U10/(W4-U13)","v":0},{"$f":"IF(V10=0,0,(V10*((LOG(V10))/LOG(2))))","v":0},null,{"$f":"N10","v":122},{"$f":"COUNTIF(L21:L34,Y10)","v":0},{"$f":"Z10/(AB4-Z13)","v":0},{"$f":"IF(AA10=0,0,(AA10*((LOG(AA10))/LOG(2))))","v":0},null,{"$f":"N10","v":122},{"$f":"COUNTIF(L35:L47,AD10)","v":0},{"$f":"AE10/(AG4-AE13)","v":0},{"$f":"IF(AF10=0,0,(AF10*((LOG(AF10))/LOG(2))))","v":0},null,{"$f":"N10","v":122},{"$f":"COUNTIF(L48:L61,AI10)","v":0},{"$f":"AJ10/(AL4-AJ13)","v":0},{"$f":"IF(AK10=0,0,(AK10*((LOG(AK10))/LOG(2))))","v":0},null,{"$f":"N10","v":122},{"$f":"COUNTIF(L62:L75,AN10)","v":0},{"$f":"AO10/(AQ4-AO13)","v":0},{"$f":"IF(AP10=0,0,(AP10*((LOG(AP10))/LOG(2))))","v":0},null,{"$f":"N10","v":122},{"$f":"COUNTIF(L76:L89,AS10)","v":0},{"$f":"AT10/(AV4-AT13)","v":0},{"$f":"IF(AU10=0,0,(AU10*((LOG(AU10))/LOG(2))))","v":0}]
[21,600,12,607,13,618,null,null,null,null,0,211,null,211,{"$f":"COUNTIF($L$7:$L$500,N11)","v":41},{"$f":"O11/$Q$4","v":0.49397590361445781},{"$f":"IF(P11=0,0,(P11*((LOG(P11))/LOG(2))))","v":-0.50261427103472878},null,null,{"$f":"N11","v":211},{"$f":"COUNTIF(L7:L20,T11)","v":8},{"$f":"U11/(W4-U13)","v":0.88888888888888884},{"$f":"IF(V11=0,0,(V11*((LOG(V11))/LOG(2))))","v":-0.15104444572649992},null,{"$f":"N11","v":211},{"$f":"COUNTIF(L21:L34,Y11)","v":9},{"$f":"Z11/(AB4-Z13)","v":0.9},{"$f":"IF(AA11=0,0,(AA11*((LOG(AA11))/LOG(2))))","v":-0.13680278410054494},null,{"$f":"N11","v":211},{"$f":"COUNTIF(L35:L47,AD11)","v":5},{"$f":"AE11/(AG4-AE13)","v":0.45454545454545453},{"$f":"IF(AF11=0,0,(AF11*((LOG(AF11))/LOG(2))))","v":-0.51704705624997038},null,{"$f":"N11","v":211},{"$f":"COUNTIF(L48:L61,AI11)","v":4},{"$f":"AJ11/(AL4-AJ13)","v":0.5},{"$f":"IF(AK11=0,0,(AK11*((LOG(AK11))/LOG(2))))","v":-0.5},null,{"$f":"N11","v":211},{"$f":"COUNTIF(L62:L75,AN11)","v":8},{"$f":"AO11/(AQ4-AO13)","v":0.8},{"$f":"IF(AP11=0,0,(AP11*((LOG(AP11))/LOG(2))))","v":-0.25754247590988982},null,{"$f":"N11","v":211},{"$f":"COUNTIF(L76:L89,AS11)","v":7},{"$f":"AT11/(AV4-AT13)","v":0.63636363636363635},{"$f":"IF(AU11=0,0,(AU11*((LOG(AU11))/LOG(2))))","v":-0.41495789782344106}]
[21,714,12,724,13,734,null,null,null,null,0,211,null,212,{"$f":"COUNTIF($L$7:$L$500,N12)","v":3},{"$f":"O12/$Q$4","v":3.614457831325301E-2},{"$f":"IF(P12=0,0,(P12*((LOG(P12))/LOG(2))))","v":-0.17313531074550972},null,null,{"$f":"N12","v":212},{"$f":"COUNTIF(L7:L20,T12)","v":0},{"$f":"U12/(W4-U13)","v":0},{"$f":"IF(V12=0,0,(V12*((LOG(V12))/LOG(2))))","v":0},null,{"$f":"N12","v":212},{"$f":"COUNTIF(L21:L34,Y12)","v":0},{"$f":"Z12/(AB4-Z13)","v":0},{"$f":"IF(AA12=0,0,(AA12*((LOG(AA12))/LOG(2))))","v":0},null,{"$f":"N12","v":212},{"$f":"COUNTIF(L35:L47,AD12)","v":2},{"$f":"AE12/(AG4-AE13)","v":0.18181818181818182},{"$f":"IF(AF12=0,0,(AF12*((LOG(AF12))/LOG(2))))","v":-0.44716938520678134},null,{"$f":"N12","v":212},{"$f":"COUNTIF(L48:L61,AI12)","v":0},{"$f":"AJ12/(AL4-AJ13)","v":0},{"$f":"IF(AK12=0,0,(AK12*((LOG(AK12))/LOG(2))))","v":0},null,{"$f":"N12","v":212},{"$f":"COUNTIF(L62:L75,AN12)","v":1},{"$f":"AO12/(AQ4-AO13)","v":0.1},{"$f":"IF(AP12=0,0,(AP12*((LOG(AP12))/LOG(2))))","v":-0.33219280948873625},null,{"$f":"N12","v":212},{"$f":"COUNTIF(L76:L89,AS12)","v":0},{"$f":"AT12/(AV4-AT13)","v":0},{"$f":"IF(AU12=0,0,(AU12*((LOG(AU12))/LOG(2))))","v":0}]
[21,830,21,833,11,841,null,null,null,null,0,221,null,221,{"$f":"COUNTIF($L$7:$L$500,N13)","v":24},{"$f":"O13/$Q$4","v":0.28915662650602408},{"$f":"IF(P13=0,0,(P13*((LOG(P13))/LOG(2))))","v":-0.51761260644600537},null,null,{"$f":"N13","v":221},{"$f":"COUNTIF(L7:L20,T13)","v":5},null,null,null,{"$f":"N13","v":221},{"$f":"COUNTIF(L21:L34,Y13)","v":4},null,null,null,{"$f":"N13","v":221},{"$f":"COUNTIF(L35:L47,AD13)","v":2},null,null,null,{"$f":"N13","v":221},{"$f":"COUNTIF(L48:L61,AI13)","v":6},null,null,null,{"$f":"N13","v":221},{"$f":"COUNTIF(L62:L75,AN13)","v":4},null,null,null,{"$f":"N13","v":221},{"$f":"COUNTIF(L76:L89,AS13)","v":3}]
[12,1005,14,1009,13,1015,null,null,null,null,0,111,null,222,{"$f":"COUNTIF($L$7:$L$500,N14)","v":7},{"$f":"O14/$Q$4","v":8.4337349397590355E-2},{"$f":"IF(P14=0,0,(P14*((LOG(P14))/LOG(2))))","v":-0.30088905500030411},null,null,{"$f":"N14","v":222},{"$f":"COUNTIF(L7:L20,T14)","v":0},{"$f":"U14/(W4-U13)","v":0},{"$f":"IF(V14=0,0,(V14*((LOG(V14))/LOG(2))))","v":0},null,{"$f":"N14","v":222},{"$f":"COUNTIF(L21:L34,Y14)","v":1},{"$f":"Z14/(AB4-Z13)","v":0.1},{"$f":"IF(AA14=0,0,(AA14*((LOG(AA14))/LOG(2))))","v":-0.33219280948873625},null,{"$f":"N14","v":222},{"$f":"COUNTIF(L35:L47,AD14)","v":3},{"$f":"AE14/(AG4-AE13)","v":0.27272727272727271},{"$f":"IF(AF14=0,0,(AF14*((LOG(AF14))/LOG(2))))","v":-0.51121885034076575},null,{"$f":"N14","v":222},{"$f":"COUNTIF(L48:L61,AI14)","v":2},{"$f":"AJ14/(AL4-AJ13)","v":0.25},{"$f":"IF(AK14=0,0,(AK14*((LOG(AK14))/LOG(2))))","v":-0.5},null,{"$f":"N14","v":222},{"$f":"COUNTIF(L62:L75,AN14)","v":0},{"$f":"AO14/(AQ4-AO13)","v":0},{"$f":"IF(AP14=0,0,(AP14*((LOG(AP14))/LOG(2))))","v":0},null,{"$f":"N14","v":222},{"$f":"COUNTIF(L76:L89,AS14)","v":1},{"$f":"AT14/(AV4-AT13)","v":9.0909090909090912E-2},{"$f":"IF(AU14=0,0,(AU14*((LOG(AU14))/LOG(2))))","v":-0.31449378351248153}]
[21,1112,12,1133,13,1139,null,null,null,null,0,211,null,null,null,{"$f":"SUM(P7:P14)","v":1},{"$f":"-SUM(Q7:Q14)","v":1.8719480022189836},null,null,null,null,{"$f":"SUM(V7:V14)","v":1},{"$f":"-SUM(W7:W14)","v":0.50325833477564574},null,null,null,{"$f":"SUM(AA7:AA14)","v":1},{"$f":"-SUM(AB7:AB14)","v":0.46899559358928122},null,null,null,{"$f":"SUM(AF7:AF14)","v":1},{"$f":"-SUM(AG7:AG14)","v":1.789929075309999},null,null,null,{"$f":"SUM(AK7:AK14)","v":1},{"$f":"-SUM(AL7:AL14)","v":1.5},null,null,null,{"$f":"SUM(AP7:AP14)","v":1},{"$f":"-SUM(AQ7:AQ14)","v":0.92192809488736227},null,null,null,{"$f":"SUM(AU7:AU14)","v":1},{"$f":"-SUM(AV7:AV14)","v":1.4911148500551854}]
[21,1234,21,1237,11,1255,null,null,null,null,0,221,null,null,null,"U=",{"$f":"Q15/(LOG(Q4)/LOG(2))","v":0.29363708607265454},null,null,null,null,"U1=",{"$f":"W15/(LOG(W4)/LOG(2))","v":0.13218056763241565},null,null,null,"U2=",{"$f":"AB15/(LOG(AB4)/LOG(2))","v":0.12318147459071732},null,null,null,"U3=",{"$f":"AG15/(LOG(AG4)/LOG(2))","v":0.48370712986757314},null,null,null,"U4=",{"$f":"AL15/(LOG(AL4)/LOG(2))","v":0.39397430255579036},null,null,null,"U5=",{"$f":"AQ15/(LOG(AQ4)/LOG(2))","v":0.24214398545989138},null,null,null,"U6=",{"$f":"AV15/(LOG(AV4)/LOG(2))","v":0.39164062205404904}]
[21,1418,12,1427,13,1432,null,null,null,null,0,211]
[21,1528,12,1543,13,1553,null,null,null,null,0,211]
[21,1650,21,1652,11,1668,null,null,null,null,0,221,null,"Total Target Seq"]
[21,1764,12,1777,13,1782,null,null,null,null,0,211,null,{"$f":"COUNTIF(L7:L89,G3)","v":24},null,14,14,13,14,14,14]
[21,1878,12,1887,13,1900,null,null,null,null,0,211,null,null,null,"% of reinforcement given in 6 equal intervals based on number of trials "]
[21,1992,21,1996,22,1997,null,null,null,null,0,222,null,null,null,"%_1","%_2","%_3","%_4","%_5","%_6"]
[21,2094,12,2115,13,2121,null,null,null,null,0,211,null,null,"target sequence",{"$f":"$G$3","v":221},{"$f":"$G$3","v":221},{"$f":"$G$3","v":221},{"$f":"$G$3","v":221},{"$f":"$G$3","v":221},{"$f":"$G$3","v":221}]
[21,2215,12,2226,13,2234,null,null,null,null,0,211,null,null,"total reinforcement",{"$f":"U13","v":5},{"$f":"Z13","v":4},{"$f":"AE13","v":2},{"$f":"AJ13","v":6},{"$f":"AO13","v":4},{"$f":"AT13","v":3}]
[21,2333,12,2343,13,2356,null,null,null,null,0,211,null,null,"% target"]
[21,2452,21,2456,11,2466,null,null,null,null,0,221,null,null,"CCRF"]
[21,2665,12,2674,13,2677,null,null,null,null,0,211,null,null,"% CCRf"]
[21,2771,12,2782,13,2792,null,null,null,null,0,211,null,null,"average response rate",{"$f":"F20/P20","v":127.28571428571429},{"$f":"(F34-F20)/Q20","v":141.07142857142858},{"$f":"(F47-F34)/R20","v":233.69230769230768},{"$f":"(F61-F47)/S20","v":399.35714285714283},{"$f":"(F75-F61)/T20","v":343.35714285714283},{"$f":"(F89-F75)/U20","v":427.07142857142856}]
[21,2889,12,2902,13,2913,null,null,null,null,0,211]
[21,3009,21,3012,11,3027,null,null,null,null,0,221]
[21,3229,21,3231,11,3241,null,null,null,null,0,221]
[21,3368,12,3378,13,3388,null,null,null,null,0,211]
[21,3488,21,3492,11,3501,null,null,null,null,0,221]
[21,3738,12,3746,13,3757,null,null,null,null,0,211]
[21,3852,12,3871,13,3880,null,null,null,null,0,211]
[21,3977,12,3986,13,3998,null,null,null,null,0,211]
[21,4090,21,4093,22,4096,null,null,null,null,0,222]
[21,4191,12,4209,13,4217,null,null,null,null,0,211]
[21,4313,12,4334,24,4339,null,null,null,null,0,212]
[21,4435,21,4438,11,4457,null,null,null,null,0,221]
[21,4707,12,4719,24,4723,null,null,null,null,0,212]
[21,4820,21,4840,22,4848,null,null,null,null,0,222]
[21,4942,12,4955,13,4964,null,null,null,null,0,211]
[21,5061,21,5071,22,5073,null,null,null,null,0,222]
[21,5168,12,5180,13,5190,null,null,null,null,0,211]
[21,5283,21,5285,11,5294,null,null,null,null,0,221]
[12,6786,14,6790,13,6795,null,null,null,null,0,111]
[21,6891,12,6912,13,6918,null,null,null,null,0,211]
[21,7013,21,7018,11,7036,null,null,null,null,0,221]
[21,7132,21,7144,11,7156,null,null,null,null,0,221]
[21,8023,21,8025,11,8032,null,null,null,null,0,221]
[21,9027,12,9036,13,9048,null,null,null,null,0,211]
[21,9144,21,9161,22,9164,null,null,null,null,0,222]
[21,9261,21,9263,11,9271,null,null,null,null,0,221]
[12,10298,14,10304,13,10307,null,null,null,null,0,111]
[21,10404,12,10425,13,10432,null,null,null,null,0,211]
[21,10530,12,10549,13,10562,null,null,null,null,0,211]
[21,10656,21,10660,22,10665,null,null,null,null,0,222]
[21,10761,21,10765,11,10777,null,null,null,null,0,221]
[21,10895,21,10898,11,10906,null,null,null,null,0,221]
[12,12370,14,12375,13,12386,null,null,null,null,0,111]
[21,12489,12,12499,13,12502,null,null,null,null,0,211]
[21,12600,12,12608,13,12615,null,null,null,null,0,211]
[21,12712,12,12728,13,12738,null,null,null,null,0,211]
[21,12834,12,12860,24,12865,null,null,null,null,0,212]
[21,12962,12,12982,13,12990,null,null,null,null,0,211]
[21,13085,21,13089,11,13098,null,null,null,null,0,221]
[21,13885,12,13893,13,13902,null,null,null,null,0,211]
[21,13995,21,13998,11,14020,null,null,null,null,0,221]
[21,15406,12,15419,13,15431,null,null,null,null,0,211]
[21,15528,21,15535,11,15542,null,null,null,null,0,221]
[12,16809,14,16816,13,16829,null,null,null,null,0,111]
[21,16930,12,16940,13,16949,null,null,null,null,0,211]
[21,17046,12,17058,13,17071,null,null,null,null,0,211]
[21,17168,21,17173,11,17193,null,null,null,null,0,221]
[21,18914,12,18926,13,18933,null,null,null,null,0,211]
[21,19027,21,19029,11,19038,null,null,null,null,0,221]
[12,20536,14,20542,13,20551,null,null,null,null,0,111]
[12,20678,14,20684,13,20690,null,null,null,null,0,111]
[21,20785,12,20809,13,20822,null,null,null,null,0,211]
[21,20916,21,20920,11,20926,null,null,null,null,0,221]
[21,22322,12,22335,13,22353,null,null,null,null,0,211]
[21,22449,12,22472,13,22485,null,null,null,null,0,211]
[21,22580,12,22598,13,22608,null,null,null,null,0,211]
[21,22700,21,22703,22,22708,null,null,null,null,0,222]
[21,22807,12,22815,13,22822,null,null,null,null,0,211]
[12,22920,14,22923,24,22932,null,null,null,null,0,112]
[21,23028,12,23043,13,23050,null,null,null,null,0,211]
[21,23142,21,23148,11,23172,null,null,null,null,0,221]

{"sheet":"!MA26A5T.AYL","index":27,"n_rows":126,"n_cols":48,"rows_kept":126,"cut":false,"hidden":false,"merged":[[4,39,4,42],[5,39,5,40],[4,44,4,47],[5,44,5,45],[4,24,4,27],[5,24,5,25],[4,29,4,32],[5,29,5,30],[4,34,4,37],[5,34,5,35],[1,1,1,2],[5,13,5,14],[18,13,18,14],[19,13,19,14],[4,19,4,22],[5,19,5,20]]}
["Report for:!MA26A5T.AYL"]
["Date:","<date>"]
["Hen:","<hen>",null,null,null,"Correct Sequence",{"$f":"Start!J2","v":221},null,null,null,null,null,null,null,null,"Total Sequences in Data",{"$f":"4994-COUNTBLANK(L7:L5000)","v":120},null,null,null,null,"Total Sequences in Block Data",{"$f":"COUNTA(L7:L26)","v":20},null,null,null,"Total Sequences in Block Data",{"$f":"COUNTA(L27:L46)","v":20},null,null,null,"Total Sequences in Block Data",{"$f":"COUNTA(L47:L66)","v":20},null,null,null,"Total Sequences in Block Data",{"$f":"COUNTA(L67:L86)","v":20},null,null,null,"Total Sequences in Block Data",{"$f":"COUNTA(L87:L106)","v":20},null,null,null,"Total Sequences in Block Data",{"$f":"COUNTA(L107:L126)","v":20}]
[null,null,null,null,null,null,null,null,null,null,null,null,null,null,null,"Total Sequences in Summary",{"$f":"SUM(O7:O14)","v":120},null,null,null,null,"Total Sequences in Block Summary",{"$f":"SUM(U7:U14)","v":20},null,null,null,"Total Sequences in Block Summary",{"$f":"SUM(Z7:Z14)","v":20},null,null,null,"Total Sequences in Block Summary",{"$f":"SUM(AE7:AE14)","v":20},null,null,null,"Total Sequences in Block Summary",{"$f":"SUM(AJ7:AJ14)","v":20},null,null,null,"Total Sequences in Block Summary",{"$f":"SUM(AO7:AO14)","v":20},null,null,null,"Total Sequences in Block Summary",{"$f":"SUM(AT7:AT14)","v":20}]
[null,null,null,null,null,null,null,null,null,null,null,null,null,null,null,null,null,null,null,"Block 1",null,null,null,null,"Block 2",null,null,null,null,"Block 3",null,null,null,null,"Block 4",null,null,null,null,"Block 5",null,null,null,null,"Block 6"]
["Sequence\nComponent\n1","Time\n1","Sequence\nComponent\n2","Time\n2","Sequence\nComponent\n3","Time\n3","Sequence\nComponent\n4","Time\n4","Sequence\nComponent\n5","Time\n5","Correct?\n0=No 1=Yes","Sequence",null,"Frequency",null,"Relative Frequency","Variability",null,null,"Frequency",null,"Relative Frequency","Variability",null,"Frequency",null,"Relative Frequency","Variability",null,"Frequency",null,"Relative Frequency","Variability",null,"Frequency",null,"Relative Frequency","Variability",null,"Frequency",null,"Relative Frequency","Variability",null,"Frequency",null,"Relative Frequency","Variability"]
[12,7,23,9,13,12,null,null,null,null,0,121,null,111,{"$f":"COUNTIF($L$7:$L$500,N7)","v":5},{"$f":"O7/$Q$4","v":4.1666666666666664E-2},{"$f":"IF(P7=0,0,(P7*((LOG(P7))/LOG(2))))","v":-0.19104010419671485},null,null,{"$f":"N7","v":111},{"$f":"COUNTIF(L7:L26,T7)","v":1},{"$f":"U7/(W4-U13)","v":6.6666666666666666E-2},{"$f":"IF(V7=0,0,(V7*((LOG(V7))/LOG(2))))","v":-0.26045937304056793},null,{"$f":"N7","v":111},{"$f":"COUNTIF(L27:L46,Y7)","v":0},{"$f":"Z7/(AB4-Z13)","v":0},{"$f":"IF(AA7=0,0,(AA7*((LOG(AA7))/LOG(2))))","v":0},null,{"$f":"N7","v":111},{"$f":"COUNTIF(L47:L66,AD7)","v":1},{"$f":"AE7/(AG4-AE13)","v":7.6923076923076927E-2},{"$f":"IF(AF7=0,0,(AF7*((LOG(AF7))/LOG(2))))","v":-0.28464920908777636},null,{"$f":"N7","v":111},{"$f":"COUNTIF(L67:L86,AI7)","v":1},{"$f":"AJ7/(AL4-AJ13)","v":7.1428571428571425E-2},{"$f":"IF(AK7=0,0,(AK7*((LOG(AK7))/LOG(2))))","v":-0.27195392300411453},null,{"$f":"N7","v":111},{"$f":"COUNTIF(L87:L106,AN7)","v":2},{"$f":"AO7/(AQ4-AO13)","v":0.16666666666666666},{"$f":"IF(AP7=0,0,(AP7*((LOG(AP7))/LOG(2))))","v":-0.43082708345352599},null,{"$f":"N7","v":111},{"$f":"COUNTIF(L107:L126,AS7)","v":0},{"$f":"AT7/(AV4-AT13)","v":0},{"$f":"IF(AU7=0,0,(AU7*((LOG(AU7))/LOG(2))))","v":0}]
[21,110,12,122,13,130,null,null,null,null,0,211,null,112,{"$f":"COUNTIF($L$7:$L$500,N8)","v":0},{"$f":"O8/$Q$4","v":0},{"$f":"IF(P8=0,0,(P8*((LOG(P8))/LOG(2))))","v":0},null,null,{"$f":"N8","v":112},{"$f":"COUNTIF(L7:L26,T8)","v":0},{"$f":"U8/(W4-U13)","v":0},{"$f":"IF(V8=0,0,(V8*((LOG(V8))/LOG(2))))","v":0},null,{"$f":"N8","v":112},{"$f":"COUNTIF(L27:L46,Y8)","v":0},{"$f":"Z8/(AB4-Z13)","v":0},{"$f":"IF(AA8=0,0,(AA8*((LOG(AA8))/LOG(2))))","v":0},null,{"$f":"N8","v":112},{"$f":"COUNTIF(L47:L66,AD8)","v":0},{"$f":"AE8/(AG4-AE13)","v":0},{"$f":"IF(AF8=0,0,(AF8*((LOG(AF8))/LOG(2))))","v":0},null,{"$f":"N8","v":112},{"$f":"COUNTIF(L67:L86,AI8)","v":0},{"$f":"AJ8/(AL4-AJ13)","v":0},{"$f":"IF(AK8=0,0,(AK8*((LOG(AK8))/LOG(2))))","v":0},null,{"$f":"N8","v":112},{"$f":"COUNTIF(L87:L106,AN8)","v":0},{"$f":"AO8/(AQ4-AO13)","v":0},{"$f":"IF(AP8=0,0,(AP8*((LOG(AP8))/LOG(2))))","v":0},null,{"$f":"N8","v":112},{"$f":"COUNTIF(L107:L126,AS8)","v":0},{"$f":"AT8/(AV4-AT13)","v":0},{"$f":"IF(AU8=0,0,(AU8*((LOG(AU8))/LOG(2))))","v":0}]
[21,252,21,256,11,264,null,null,null,null,0,221,null,121,{"$f":"COUNTIF($L$7:$L$500,N9)","v":1},{"$f":"O9/$Q$4","v":8.3333333333333332E-3},{"$f":"IF(P9=0,0,(P9*((LOG(P9))/LOG(2))))","v":-5.7557421630070979E-2},null,null,{"$f":"N9","v":121},{"$f":"COUNTIF(L7:L26,T9)","v":1},{"$f":"U9/(W4-U13)","v":6.6666666666666666E-2},{"$f":"IF(V9=0,0,(V9*((LOG(V9))/LOG(2))))","v":-0.26045937304056793},null,{"$f":"N9","v":121},{"$f":"COUNTIF(L27:L46,Y9)","v":0},{"$f":"Z9/(AB4-Z13)","v":0},{"$f":"IF(AA9=0,0,(AA9*((LOG(AA9))/LOG(2))))","v":0},null,{"$f":"N9","v":121},{"$f":"COUNTIF(L47:L66,AD9)","v":0},{"$f":"AE9/(AG4-AE13)","v":0},{"$f":"IF(AF9=0,0,(AF9*((LOG(AF9))/LOG(2))))","v":0},null,{"$f":"N9","v":121},{"$f":"COUNTIF(L67:L86,AI9)","v":0},{"$f":"AJ9/(AL4-AJ13)","v":0},{"$f":"IF(AK9=0,0,(AK9*((LOG(AK9))/LOG(2))))","v":0},null,{"$f":"N9","v":121},{"$f":"COUNTIF(L87:L106,AN9)","v":0},{"$f":"AO9/(AQ4-AO13)","v":0},{"$f":"IF(AP9=0,0,(AP9*((LOG(AP9))/LOG(2))))","v":0},null,{"$f":"N9","v":121},{"$f":"COUNTIF(L107:L126,AS9)","v":0},{"$f":"AT9/(AV4-AT13)","v":0},{"$f":"IF(AU9=0,0,(AU9*((LOG(AU9))/LOG(2))))","v":0}]
[12,1182,14,1189,13,1195,null,null,null,null,0,111,null,122,{"$f":"COUNTIF($L$7:$L$500,N10)","v":1},{"$f":"O10/$Q$4","v":8.3333333333333332E-3},{"$f":"IF(P10=0,0,(P10*((LOG(P10))/LOG(2))))","v":-5.7557421630070979E-2},null,null,{"$f":"N10","v":122},{"$f":"COUNTIF(L7:L26,T10)","v":0},{"$f":"U10/(W4-U13)","v":0},{"$f":"IF(V10=0,0,(V10*((LOG(V10))/LOG(2))))","v":0},null,{"$f":"N10","v":122},{"$f":"COUNTIF(L27:L46,Y10)","v":0},{"$f":"Z10/(AB4-Z13)","v":0},{"$f":"IF(AA10=0,0,(AA10*((LOG(AA10))/LOG(2))))","v":0},null,{"$f":"N10","v":122},{"$f":"COUNTIF(L47:L66,AD10)","v":0},{"$f":"AE10/(AG4-AE13)","v":0},{"$f":"IF(AF10=0,0,(AF10*((LOG(AF10))/LOG(2))))","v":0},null,{"$f":"N10","v":122},{"$f":"COUNTIF(L67:L86,AI10)","v":0},{"$f":"AJ10/(AL4-AJ13)","v":0},{"$f":"IF(AK10=0,0,(AK10*((LOG(AK10))/LOG(2))))","v":0},null,{"$f":"N10","v":122},{"$f":"COUNTIF(L87:L106,AN10)","v":0},{"$f":"AO10/(AQ4-AO13)","v":0},{"$f":"IF(AP10=0,0,(AP10*((LOG(AP10))/LOG(2))))","v":0},null,{"$f":"N10","v":122},{"$f":"COUNTIF(L107:L126,AS10)","v":1},{"$f":"AT10/(AV4-AT13)","v":9.0909090909090912E-2},{"$f":"IF(AU10=0,0,(AU10*((LOG(AU10))/LOG(2))))","v":-0.31449378351248153}]
[21,1297,12,1306,13,1315,null,null,null,null,0,211,null,211,{"$f":"COUNTIF($L$7:$L$500,N11)","v":68},{"$f":"O11/$Q$4","v":0.56666666666666665},{"$f":"IF(P11=0,0,(P11*((LOG(P11))/LOG(2))))","v":-0.46434239413630152},null,null,{"$f":"N11","v":211},{"$f":"COUNTIF(L7:L26,T11)","v":13},{"$f":"U11/(W4-U13)","v":0.8666666666666667},{"$f":"IF(V11=0,0,(V11*((LOG(V11))/LOG(2))))","v":-0.17892409380510282},null,{"$f":"N11","v":211},{"$f":"COUNTIF(L27:L46,Y11)","v":14},{"$f":"Z11/(AB4-Z13)","v":0.93333333333333335},{"$f":"IF(AA11=0,0,(AA11*((LOG(AA11))/LOG(2))))","v":-9.2899961980853443E-2},null,{"$f":"N11","v":211},{"$f":"COUNTIF(L47:L66,AD11)","v":11},{"$f":"AE11/(AG4-AE13)","v":0.84615384615384615},{"$f":"IF(AF11=0,0,(AF11*((LOG(AF11))/LOG(2))))","v":-0.20392993034936494},null,{"$f":"N11","v":211},{"$f":"COUNTIF(L67:L86,AI11)","v":12},{"$f":"AJ11/(AL4-AJ13)","v":0.8571428571428571},{"$f":"IF(AK11=0,0,(AK11*((LOG(AK11))/LOG(2))))","v":-0.19062207543124113},null,{"$f":"N11","v":211},{"$f":"COUNTIF(L87:L106,AN11)","v":9},{"$f":"AO11/(AQ4-AO13)","v":0.75},{"$f":"IF(AP11=0,0,(AP11*((LOG(AP11))/LOG(2))))","v":-0.31127812445913283},null,{"$f":"N11","v":211},{"$f":"COUNTIF(L107:L126,AS11)","v":9},{"$f":"AT11/(AV4-AT13)","v":0.81818181818181823},{"$f":"IF(AU11=0,0,(AU11*((LOG(AU11))/LOG(2))))","v":-0.23686905043226034}]
[21,1410,12,1422,13,1429,null,null,null,null,0,211,null,212,{"$f":"COUNTIF($L$7:$L$500,N12)","v":1},{"$f":"O12/$Q$4","v":8.3333333333333332E-3},{"$f":"IF(P12=0,0,(P12*((LOG(P12))/LOG(2))))","v":-5.7557421630070979E-2},null,null,{"$f":"N12","v":212},{"$f":"COUNTIF(L7:L26,T12)","v":0},{"$f":"U12/(W4-U13)","v":0},{"$f":"IF(V12=0,0,(V12*((LOG(V12))/LOG(2))))","v":0},null,{"$f":"N12","v":212},{"$f":"COUNTIF(L27:L46,Y12)","v":1},{"$f":"Z12/(AB4-Z13)","v":6.6666666666666666E-2},{"$f":"IF(AA12=0,0,(AA12*((LOG(AA12))/LOG(2))))","v":-0.26045937304056793},null,{"$f":"N12","v":212},{"$f":"COUNTIF(L47:L66,AD12)","v":0},{"$f":"AE12/(AG4-AE13)","v":0},{"$f":"IF(AF12=0,0,(AF12*((LOG(AF12))/LOG(2))))","v":0},null,{"$f":"N12","v":212},{"$f":"COUNTIF(L67:L86,AI12)","v":0},{"$f":"AJ12/(AL4-AJ13)","v":0},{"$f":"IF(AK12=0,0,(AK12*((LOG(AK12))/LOG(2))))","v":0},null,{"$f":"N12","v":212},{"$f":"COUNTIF(L87:L106,AN12)","v":0},{"$f":"AO12/(AQ4-AO13)","v":0},{"$f":"IF(AP12=0,0,(AP12*((LOG(AP12))/LOG(2))))","v":0},null,{"$f":"N12","v":212},{"$f":"COUNTIF(L107:L126,AS12)","v":0},{"$f":"AT12/(AV4-AT13)","v":0},{"$f":"IF(AU12=0,0,(AU12*((LOG(AU12))/LOG(2))))","v":0}]
[21,1525,12,1540,13,1547,null,null,null,null,0,211,null,221,{"$f":"COUNTIF($L$7:$L$500,N13)","v":40},{"$f":"O13/$Q$4","v":0.33333333333333331},{"$f":"IF(P13=0,0,(P13*((LOG(P13))/LOG(2))))","v":-0.52832083357371862},null,null,{"$f":"N13","v":221},{"$f":"COUNTIF(L7:L26,T13)","v":5},null,null,null,{"$f":"N13","v":221},{"$f":"COUNTIF(L27:L46,Y13)","v":5},null,null,null,{"$f":"N13","v":221},{"$f":"COUNTIF(L47:L66,AD13)","v":7},null,null,null,{"$f":"N13","v":221},{"$f":"COUNTIF(L67:L86,AI13)","v":6},null,null,null,{"$f":"N13","v":221},{"$f":"COUNTIF(L87:L106,AN13)","v":8},null,null,null,{"$f":"N13","v":221},{"$f":"COUNTIF(L107:L126,AS13)","v":9}]
[21,1644,12,1656,13,1664,null,null,null,null,0,211,null,222,{"$f":"COUNTIF($L$7:$L$500,N14)","v":4},{"$f":"O14/$Q$4","v":3.3333333333333333E-2},{"$f":"IF(P14=0,0,(P14*((LOG(P14))/LOG(2))))","v":-0.16356301985361729},null,null,{"$f":"N14","v":222},{"$f":"COUNTIF(L7:L26,T14)","v":0},{"$f":"U14/(W4-U13)","v":0},{"$f":"IF(V14=0,0,(V14*((LOG(V14))/LOG(2))))","v":0},null,{"$f":"N14","v":222},{"$f":"COUNTIF(L27:L46,Y14)","v":0},{"$f":"Z14/(AB4-Z13)","v":0},{"$f":"IF(AA14=0,0,(AA14*((LOG(AA14))/LOG(2))))","v":0},null,{"$f":"N14","v":222},{"$f":"COUNTIF(L47:L66,AD14)","v":1},{"$f":"AE14/(AG4-AE13)","v":7.6923076923076927E-2},{"$f":"IF(AF14=0,0,(AF14*((LOG(AF14))/LOG(2))))","v":-0.28464920908777636},null,{"$f":"N14","v":222},{"$f":"COUNTIF(L67:L86,AI14)","v":1},{"$f":"AJ14/(AL4-AJ13)","v":7.1428571428571425E-2},{"$f":"IF(AK14=0,0,(AK14*((LOG(AK14))/LOG(2))))","v":-0.27195392300411453},null,{"$f":"N14","v":222},{"$f":"COUNTIF(L87:L106,AN14)","v":1},{"$f":"AO14/(AQ4-AO13)","v":8.3333333333333329E-2},{"$f":"IF(AP14=0,0,(AP14*((LOG(AP14))/LOG(2))))","v":-0.29874687506009634},null,{"$f":"N14","v":222},{"$f":"COUNTIF(L107:L126,AS14)","v":1},{"$f":"AT14/(AV4-AT13)","v":9.0909090909090912E-2},{"$f":"IF(AU14=0,0,(AU14*((LOG(AU14))/LOG(2))))","v":-0.31449378351248153}]
[21,1758,12,1774,13,1784,null,null,null,null,0,211,null,null,null,{"$f":"SUM(P7:P14)","v":0.99999999999999989},{"$f":"-SUM(Q7:Q14)","v":1.5199386166505653},null,null,null,null,{"$f":"SUM(V7:V14)","v":1},{"$f":"-SUM(W7:W14)","v":0.69984283988623863},null,null,null,{"$f":"SUM(AA7:AA14)","v":1},{"$f":"-SUM(AB7:AB14)","v":0.35335933502142136},null,null,null,{"$f":"SUM(AF7:AF14)","v":1},{"$f":"-SUM(AG7:AG14)","v":0.77322834852491762},null,null,null,{"$f":"SUM(AK7:AK14)","v":0.99999999999999989},{"$f":"-SUM(AL7:AL14)","v":0.73452992143947027},null,null,null,{"$f":"SUM(AP7:AP14)","v":1},{"$f":"-SUM(AQ7:AQ14)","v":1.0408520829727552},null,null,null,{"$f":"SUM(AU7:AU14)","v":1},{"$f":"-SUM(AV7:AV14)","v":0.86585661745722331}]
[21,1884,12,1893,13,1902,null,null,null,null,0,211,null,null,null,"U=",{"$f":"Q15/(LOG(Q4)/LOG(2))","v":0.22006119767076665},null,null,null,null,"U1=",{"$f":"W15/(LOG(W4)/LOG(2))","v":0.16192838578552932},null,null,null,"U2=",{"$f":"AB15/(LOG(AB4)/LOG(2))","v":8.1759651540577183E-2},null,null,null,"U3=",{"$f":"AG15/(LOG(AG4)/LOG(2))","v":0.17890819364616695},null,null,null,"U4=",{"$f":"AL15/(LOG(AL4)/LOG(2))","v":0.1699542207350429},null,null,null,"U5=",{"$f":"AQ15/(LOG(AQ4)/LOG(2))","v":0.24083049512184948},null,null,null,"U6=",{"$f":"AV15/(LOG(AV4)/LOG(2))","v":0.20034035699980546}]
[21,1997,21,2001,11,2018,null,null,null,null,0,221]
[21,2573,12,2579,13,2585,null,null,null,null,0,211]
[21,2681,12,2699,13,2708,null,null,null,null,0,211,null,"Total Target Seq"]
[21,2805,12,2816,13,2833,null,null,null,null,0,211,null,{"$f":"COUNTIF(L7:L126,G3)","v":40},null,20,20,20,20,20,20]
[21,2932,21,2935,11,2942,null,null,null,null,0,221,null,null,null,"% of reinforcement given in 6 equal intervals based on number of trials "]
[21,3034,12,3043,13,3048,null,null,null,null,0,211,null,null,null,"%_1","%_2","%_3","%_4","%_5","%_6"]
[21,3141,21,3145,11,3153,null,null,null,null,0,221,null,null,"target sequence",{"$f":"$G$3","v":221},{"$f":"$G$3","v":221},{"$f":"$G$3","v":221},{"$f":"$G$3","v":221},{"$f":"$G$3","v":221},{"$f":"$G$3","v":221}]
[21,3350,21,3352,11,3360,null,null,null,null,0,221,null,null,"total reinforcement",{"$f":"U13","v":5},{"$f":"Z13","v":5},{"$f":"AE13","v":7},{"$f":"AJ13","v":6},{"$f":"AO13","v":8},{"$f":"AT13","v":9}]
[21,3490,12,3499,13,3505,null,null,null,null,0,211,null,null,"% target"]
[21,3601,12,3613,13,3621,null,null,null,null,0,211,null,null,"CCRF"]
[21,3718,12,3725,13,3737,null,null,null,null,0,211,null,null,"% CCRf"]
[21,3829,21,3833,11,3855,null,null,null,null,0,221,null,null,"average response rate",{"$f":"F26/P20","v":181.05},{"$f":"(F46-F26)/Q20","v":138.65},{"$f":"(F66-F46)/R20","v":137.15},{"$f":"(F86-F66)/S20","v":144.9},{"$f":"(F106-F86)/T20","v":159.05000000000001},{"$f":"(F126-F106)/U20","v":151.94999999999999}]
[21,4097,12,4104,13,4110,null,null,null,null,0,211]
[21,4207,12,4225,13,4232,null,null,null,null,0,211]
[21,4326,12,4334,13,4343,null,null,null,null,0,211]
[21,4443,12,4451,13,4459,null,null,null,null,0,211]
[21,4554,12,4563,13,4569,null,null,null,null,0,211]
[21,4665,12,4677,13,4685,null,null,null,null,0,211]
[21,4782,12,4804,13,4811,null,null,null,null,0,211]
[21,4907,12,4918,24,4929,null,null,null,null,0,212]
[21,5024,21,5028,11,5046,null,null,null,null,0,221]
[21,5226,12,5235,13,5240,null,null,null,null,0,211]
[21,5338,12,5346,13,5354,null,null,null,null,0,211]
[21,5449,21,5452,11,5463,null,null,null,null,0,221]
[21,5681,21,5685,11,5693,null,null,null,null,0,221]
[21,5864,21,5870,11,5878,null,null,null,null,0,221]
[21,6019,12,6028,13,6034,null,null,null,null,0,211]
[21,6130,12,6143,13,6155,null,null,null,null,0,211]
[21,6251,12,6265,13,6276,null,null,null,null,0,211]
[21,6373,12,6385,13,6394,null,null,null,null,0,211]
[21,6490,21,6495,11,6502,null,null,null,null,0,221]
[21,6666,12,6674,13,6681,null,null,null,null,0,211]
[21,6776,21,6778,11,6786,null,null,null,null,0,221]
[12,6974,14,6983,13,6990,null,null,null,null,0,111]
[21,7097,12,7109,13,7112,null,null,null,null,0,211]
[21,7206,21,7210,11,7224,null,null,null,null,0,221]
[21,7423,12,7445,13,7455,null,null,null,null,0,211]
[21,7550,21,7552,11,7563,null,null,null,null,0,221]
[21,7665,12,7677,13,7687,null,null,null,null,0,211]
[21,7785,12,7794,13,7803,null,null,null,null,0,211]
[21,7900,21,7905,11,7913,null,null,null,null,0,221]
[21,8106,12,8115,13,8121,null,null,null,null,0,211]
[21,8217,21,8221,22,8231,null,null,null,null,0,222]
[21,8345,12,8354,13,8360,null,null,null,null,0,211]
[21,8455,12,8464,13,8475,null,null,null,null,0,211]
[21,8570,12,8582,13,8591,null,null,null,null,0,211]
[21,8683,21,8685,11,8693,null,null,null,null,0,221]
[21,8823,12,8831,13,8838,null,null,null,null,0,211]
[21,8934,21,8937,11,8950,null,null,null,null,0,221]
[21,9124,12,9132,13,9137,null,null,null,null,0,211]
[21,9233,21,9235,11,9242,null,null,null,null,0,221]
[21,9425,12,9435,13,9441,null,null,null,null,0,211]
[21,9535,12,9544,13,9553,null,null,null,null,0,211]
[21,9652,12,9662,13,9675,null,null,null,null,0,211]
[21,9769,21,9773,22,9776,null,null,null,null,0,222]
[21,9871,21,9878,11,9893,null,null,null,null,0,221]
[21,10097,21,10102,11,10116,null,null,null,null,0,221]
[12,10278,14,10281,13,10284,null,null,null,null,0,111]
[21,10383,12,10397,13,10403,null,null,null,null,0,211]
[21,10503,12,10512,13,10519,null,null,null,null,0,211]
[21,10617,12,10628,13,10636,null,null,null,null,0,211]
[21,10732,12,10743,13,10750,null,null,null,null,0,211]
[21,10846,12,10859,13,10870,null,null,null,null,0,211]
[21,10997,12,11006,13,11011,null,null,null,null,0,211]
[21,11105,21,11108,11,11116,null,null,null,null,0,221]
[21,11336,12,11345,13,11351,null,null,null,null,0,211]
[21,11444,21,11447,11,11454,null,null,null,null,0,221]
[21,11777,12,11790,13,11795,null,null,null,null,0,211]
[21,11913,12,11921,13,11927,null,null,null,null,0,211]
[21,12023,21,12027,11,12035,null,null,null,null,0,221]
[12,12316,14,12327,13,12333,null,null,null,null,0,111]
[21,12426,21,12429,11,12440,null,null,null,null,0,221]
[21,12607,12,12620,13,12626,null,null,null,null,0,211]
[21,12724,12,12732,13,12738,null,null,null,null,0,211]
[12,12846,14,12856,13,12862,null,null,null,null,0,111]
[21,12961,12,12969,13,12981,null,null,null,null,0,211]
[21,13075,21,13081,22,13084,null,null,null,null,0,222]
[21,13182,21,13185,11,13193,null,null,null,null,0,221]
[21,13371,12,13379,13,13382,null,null,null,null,0,211]
[21,13476,21,13479,11,13489,null,null,null,null,0,221]
[21,13648,12,13658,13,13661,null,null,null,null,0,211]
[21,13759,12,13776,13,13783,null,null,null,null,0,211]
[21,13880,12,13890,13,13898,null,null,null,null,0,211]
[21,13994,21,13999,11,14009,null,null,null,null,0,221]
[21,14132,21,14134,11,14142,null,null,null,null,0,221]
[21,14382,21,14386,11,14396,null,null,null,null,0,221]
[21,14593,21,14596,11,14603,null,null,null,null,0,221]
[21,14812,12,14819,13,14825,null,null,null,null,0,211]
[21,14929,21,14933,11,14941,null,null,null,null,0,221]
[21,15205,12,15212,13,15216,null,null,null,null,0,211]
[21,15319,12,15329,13,15334,null,null,null,null,0,211]
[21,15430,12,15454,13,15460,null,null,null,null,0,211]
[21,15556,21,15559,11,15566,null,null,null,null,0,221]
[21,15810,12,15820,13,15829,null,null,null,null,0,211]
[21,15927,21,15929,11,15937,null,null,null,null,0,221]
[21,16072,12,16084,13,16094,null,null,null,null,0,211]
[21,16191,21,16200,11,16208,null,null,null,null,0,221]
[21,16439,12,16448,13,16453,null,null,null,null,0,211]
[21,16553,21,16559,11,16574,null,null,null,null,0,221]
[21,16821,21,16824,11,16835,null,null,null,null,0,221]
[21,17034,12,17045,13,17048,null,null,null,null,0,211]
[21,17141,21,17149,11,17163,null,null,null,null,0,221]
[21,17375,12,17385,13,17395,null,null,null,null,0,211]
[21,17510,21,17513,22,17515,null,null,null,null,0,222]
[21,17610,12,17624,13,17632,null,null,null,null,0,211]
[21,17728,21,17738,11,17748,null,null,null,null,0,221]
[21,17892,12,17902,13,17907,null,null,null,null,0,211]
[21,18004,21,18011,11,18031,null,null,null,null,0,221]
[12,18127,23,18137,24,18140,null,null,null,null,0,122]
[21,18237,21,18244,11,18255,null,null,null,null,1,221]

{"sheet":"!MA27A2T.AYL","index":28,"n_rows":104,"n_cols":48,"rows_kept":104,"cut":false,"hidden":false,"merged":[[4,39,4,42],[5,39,5,40],[4,44,4,47],[5,44,5,45],[4,24,4,27],[5,24,5,25],[4,29,4,32],[5,29,5,30],[4,34,4,37],[5,34,5,35],[1,1,1,2],[5,13,5,14],[18,13,18,14],[19,13,19,14],[4,19,4,22],[5,19,5,20]]}
["Report for:!MA27A2T.AYL"]
["Date:","<date>"]
["Hen:","<hen>",null,null,null,"Correct Sequence",{"$f":"Start!J2","v":221},null,null,null,null,null,null,null,null,"Total Sequences in Data",{"$f":"4994-COUNTBLANK(L7:L5000)","v":98},null,null,null,null,"Total Sequences in Block Data",{"$f":"COUNTA(L7:L22)","v":16},null,null,null,"Total Sequences in Block Data",{"$f":"COUNTA(L23:L39)","v":17},null,null,null,"Total Sequences in Block Data",{"$f":"COUNTA(L40:L55)","v":16},null,null,null,"Total Sequences in Block Data",{"$f":"COUNTA(L56:L71)","v":16},null,null,null,"Total Sequences in Block Data",{"$f":"COUNTA(L72:L88)","v":17},null,null,null,"Total Sequences in Block Data",{"$f":"COUNTA(L89:L104)","v":16}]
[null,null,null,null,null,null,null,null,null,null,null,null,null,null,null,"Total Sequences in Summary",{"$f":"SUM(O7:O14)","v":98},null,null,null,null,"Total Sequences in Block Summary",{"$f":"SUM(U7:U14)","v":16},null,null,null,"Total Sequences in Block Summary",{"$f":"SUM(Z7:Z14)","v":17},null,null,null,"Total Sequences in Block Summary",{"$f":"SUM(AE7:AE14)","v":16},null,null,null,"Total Sequences in Block Summary",{"$f":"SUM(AJ7:AJ14)","v":16},null,null,null,"Total Sequences in Block Summary",{"$f":"SUM(AO7:AO14)","v":17},null,null,null,"Total Sequences in Block Summary",{"$f":"SUM(AT7:AT14)","v":16}]
[null,null,null,null,null,null,null,null,null,null,null,null,null,null,null,null,null,null,null,"Block 1",null,null,null,null,"Block 2",null,null,null,null,"Block 3",null,null,null,null,"Block 4",null,null,null,null,"Block 5",null,null,null,null,"Block 6"]
["Sequence\nComponent\n1","Time\n1","Sequence\nComponent\n2","Time\n2","Sequence\nComponent\n3","Time\n3","Sequence\nComponent\n4","Time\n4","Sequence\nComponent\n5","Time\n5","Correct?\n0=No 1=Yes","Sequence",null,"Frequency",null,"Relative Frequency","Variability",null,null,"Frequency",null,"Relative Frequency","Variability",null,"Frequency",null,"Relative Frequency","Variability",null,"Frequency",null,"Relative Frequency","Variability",null,"Frequency",null,"Relative Frequency","Variability",null,"Frequency",null,"Relative Frequency","Variability",null,"Frequency",null,"Relative Frequency","Variability"]
[21,61,12,70,13,75,null,null,null,null,0,211,null,111,{"$f":"COUNTIF($L$7:$L$500,N7)","v":1},{"$f":"O7/$Q$4","v":1.020408163265306E-2},{"$f":"IF(P7=0,0,(P7*((LOG(P7))/LOG(2))))","v":-6.7497039225665384E-2},null,null,{"$f":"N7","v":111},{"$f":"COUNTIF(L7:L22,T7)","v":1},{"$f":"U7/(W4-U13)","v":9.0909090909090912E-2},{"$f":"IF(V7=0,0,(V7*((LOG(V7))/LOG(2))))","v":-0.31449378351248153},null,{"$f":"N7","v":111},{"$f":"COUNTIF(L23:L39,Y7)","v":0},{"$f":"Z7/(AB4-Z13)","v":0},{"$f":"IF(AA7=0,0,(AA7*((LOG(AA7))/LOG(2))))","v":0},null,{"$f":"N7","v":111},{"$f":"COUNTIF(L40:L55,AD7)","v":0},{"$f":"AE7/(AG4-AE13)","v":0},{"$f":"IF(AF7=0,0,(AF7*((LOG(AF7))/LOG(2))))","v":0},null,{"$f":"N7","v":111},{"$f":"COUNTIF(L56:L71,AI7)","v":0},{"$f":"AJ7/(AL4-AJ13)","v":0},{"$f":"IF(AK7=0,0,(AK7*((LOG(AK7))/LOG(2))))","v":0},null,{"$f":"N7","v":111},{"$f":"COUNTIF(L72:L88,AN7)","v":0},{"$f":"AO7/(AQ4-AO13)","v":0},{"$f":"IF(AP7=0,0,(AP7*((LOG(AP7))/LOG(2))))","v":0},null,{"$f":"N7","v":111},{"$f":"COUNTIF(L89:L104,AS7)","v":0},{"$f":"AT7/(AV4-AT13)","v":0},{"$f":"IF(AU7=0,0,(AU7*((LOG(AU7))/LOG(2))))","v":0}]
[21,171,21,174,11,187,null,null,null,null,0,221,null,112,{"$f":"COUNTIF($L$7:$L$500,N8)","v":0},{"$f":"O8/$Q$4","v":0},{"$f":"IF(P8=0,0,(P8*((LOG(P8))/LOG(2))))","v":0},null,null,{"$f":"N8","v":112},{"$f":"COUNTIF(L7:L22,T8)","v":0},{"$f":"U8/(W4-U13)","v":0},{"$f":"IF(V8=0,0,(V8*((LOG(V8))/LOG(2))))","v":0},null,{"$f":"N8","v":112},{"$f":"COUNTIF(L23:L39,Y8)","v":0},{"$f":"Z8/(AB4-Z13)","v":0},{"$f":"IF(AA8=0,0,(AA8*((LOG(AA8))/LOG(2))))","v":0},null,{"$f":"N8","v":112},{"$f":"COUNTIF(L40:L55,AD8)","v":0},{"$f":"AE8/(AG4-AE13)","v":0},{"$f":"IF(AF8=0,0,(AF8*((LOG(AF8))/LOG(2))))","v":0},null,{"$f":"N8","v":112},{"$f":"COUNTIF(L56:L71,AI8)","v":0},{"$f":"AJ8/(AL4-AJ13)","v":0},{"$f":"IF(AK8=0,0,(AK8*((LOG(AK8))/LOG(2))))","v":0},null,{"$f":"N8","v":112},{"$f":"COUNTIF(L72:L88,AN8)","v":0},{"$f":"AO8/(AQ4-AO13)","v":0},{"$f":"IF(AP8=0,0,(AP8*((LOG(AP8))/LOG(2))))","v":0},null,{"$f":"N8","v":112},{"$f":"COUNTIF(L89:L104,AS8)","v":0},{"$f":"AT8/(AV4-AT13)","v":0},{"$f":"IF(AU8=0,0,(AU8*((LOG(AU8))/LOG(2))))","v":0}]
[12,385,14,391,13,397,null,null,null,null,0,111,null,121,{"$f":"COUNTIF($L$7:$L$500,N9)","v":0},{"$f":"O9/$Q$4","v":0},{"$f":"IF(P9=0,0,(P9*((LOG(P9))/LOG(2))))","v":0},null,null,{"$f":"N9","v":121},{"$f":"COUNTIF(L7:L22,T9)","v":0},{"$f":"U9/(W4-U13)","v":0},{"$f":"IF(V9=0,0,(V9*((LOG(V9))/LOG(2))))","v":0},null,{"$f":"N9","v":121},{"$f":"COUNTIF(L23:L39,Y9)","v":0},{"$f":"Z9/(AB4-Z13)","v":0},{"$f":"IF(AA9=0,0,(AA9*((LOG(AA9))/LOG(2))))","v":0},null,{"$f":"N9","v":121},{"$f":"COUNTIF(L40:L55,AD9)","v":0},{"$f":"AE9/(AG4-AE13)","v":0},{"$f":"IF(AF9=0,0,(AF9*((LOG(AF9))/LOG(2))))","v":0},null,{"$f":"N9","v":121},{"$f":"COUNTIF(L56:L71,AI9)","v":0},{"$f":"AJ9/(AL4-AJ13)","v":0},{"$f":"IF(AK9=0,0,(AK9*((LOG(AK9))/LOG(2))))","v":0},null,{"$f":"N9","v":121},{"$f":"COUNTIF(L72:L88,AN9)","v":0},{"$f":"AO9/(AQ4-AO13)","v":0},{"$f":"IF(AP9=0,0,(AP9*((LOG(AP9))/LOG(2))))","v":0},null,{"$f":"N9","v":121},{"$f":"COUNTIF(L89:L104,AS9)","v":0},{"$f":"AT9/(AV4-AT13)","v":0},{"$f":"IF(AU9=0,0,(AU9*((LOG(AU9))/LOG(2))))","v":0}]
[21,494,12,505,13,512,null,null,null,null,0,211,null,122,{"$f":"COUNTIF($L$7:$L$500,N10)","v":0},{"$f":"O10/$Q$4","v":0},{"$f":"IF(P10=0,0,(P10*((LOG(P10))/LOG(2))))","v":0},null,null,{"$f":"N10","v":122},{"$f":"COUNTIF(L7:L22,T10)","v":0},{"$f":"U10/(W4-U13)","v":0},{"$f":"IF(V10=0,0,(V10*((LOG(V10))/LOG(2))))","v":0},null,{"$f":"N10","v":122},{"$f":"COUNTIF(L23:L39,Y10)","v":0},{"$f":"Z10/(AB4-Z13)","v":0},{"$f":"IF(AA10=0,0,(AA10*((LOG(AA10))/LOG(2))))","v":0},null,{"$f":"N10","v":122},{"$f":"COUNTIF(L40:L55,AD10)","v":0},{"$f":"AE10/(AG4-AE13)","v":0},{"$f":"IF(AF10=0,0,(AF10*((LOG(AF10))/LOG(2))))","v":0},null,{"$f":"N10","v":122},{"$f":"COUNTIF(L56:L71,AI10)","v":0},{"$f":"AJ10/(AL4-AJ13)","v":0},{"$f":"IF(AK10=0,0,(AK10*((LOG(AK10))/LOG(2))))","v":0},null,{"$f":"N10","v":122},{"$f":"COUNTIF(L72:L88,AN10)","v":0},{"$f":"AO10/(AQ4-AO13)","v":0},{"$f":"IF(AP10=0,0,(AP10*((LOG(AP10))/LOG(2))))","v":0},null,{"$f":"N10","v":122},{"$f":"COUNTIF(L89:L104,AS10)","v":0},{"$f":"AT10/(AV4-AT13)","v":0},{"$f":"IF(AU10=0,0,(AU10*((LOG(AU10))/LOG(2))))","v":0}]
[21,609,12,623,13,628,null,null,null,null,0,211,null,211,{"$f":"COUNTIF($L$7:$L$500,N11)","v":48},{"$f":"O11/$Q$4","v":0.48979591836734693},{"$f":"IF(P11=0,0,(P11*((LOG(P11))/LOG(2))))","v":-0.50436604574402544},null,null,{"$f":"N11","v":211},{"$f":"COUNTIF(L7:L22,T11)","v":9},{"$f":"U11/(W4-U13)","v":0.81818181818181823},{"$f":"IF(V11=0,0,(V11*((LOG(V11))/LOG(2))))","v":-0.23686905043226034},null,{"$f":"N11","v":211},{"$f":"COUNTIF(L23:L39,Y11)","v":7},{"$f":"Z11/(AB4-Z13)","v":0.875},{"$f":"IF(AA11=0,0,(AA11*((LOG(AA11))/LOG(2))))","v":-0.1685644431995964},null,{"$f":"N11","v":211},{"$f":"COUNTIF(L40:L55,AD11)","v":6},{"$f":"AE11/(AG4-AE13)","v":0.66666666666666663},{"$f":"IF(AF11=0,0,(AF11*((LOG(AF11))/LOG(2))))","v":-0.38997500048077083},null,{"$f":"N11","v":211},{"$f":"COUNTIF(L56:L71,AI11)","v":11},{"$f":"AJ11/(AL4-AJ13)","v":1},{"$f":"IF(AK11=0,0,(AK11*((LOG(AK11))/LOG(2))))","v":0},null,{"$f":"N11","v":211},{"$f":"COUNTIF(L72:L88,AN11)","v":6},{"$f":"AO11/(AQ4-AO13)","v":0.75},{"$f":"IF(AP11=0,0,(AP11*((LOG(AP11))/LOG(2))))","v":-0.31127812445913283},null,{"$f":"N11","v":211},{"$f":"COUNTIF(L89:L104,AS11)","v":9},{"$f":"AT11/(AV4-AT13)","v":0.81818181818181823},{"$f":"IF(AU11=0,0,(AU11*((LOG(AU11))/LOG(2))))","v":-0.23686905043226034}]
[21,721,21,724,11,732,null,null,null,null,0,221,null,212,{"$f":"COUNTIF($L$7:$L$500,N12)","v":5},{"$f":"O12/$Q$4","v":5.1020408163265307E-2},{"$f":"IF(P12=0,0,(P12*((LOG(P12))/LOG(2))))","v":-0.21901947700142071},null,null,{"$f":"N12","v":212},{"$f":"COUNTIF(L7:L22,T12)","v":1},{"$f":"U12/(W4-U13)","v":9.0909090909090912E-2},{"$f":"IF(V12=0,0,(V12*((LOG(V12))/LOG(2))))","v":-0.31449378351248153},null,{"$f":"N12","v":212},{"$f":"COUNTIF(L23:L39,Y12)","v":1},{"$f":"Z12/(AB4-Z13)","v":0.125},{"$f":"IF(AA12=0,0,(AA12*((LOG(AA12))/LOG(2))))","v":-0.375},null,{"$f":"N12","v":212},{"$f":"COUNTIF(L40:L55,AD12)","v":3},{"$f":"AE12/(AG4-AE13)","v":0.33333333333333331},{"$f":"IF(AF12=0,0,(AF12*((LOG(AF12))/LOG(2))))","v":-0.52832083357371862},null,{"$f":"N12","v":212},{"$f":"COUNTIF(L56:L71,AI12)","v":0},{"$f":"AJ12/(AL4-AJ13)","v":0},{"$f":"IF(AK12=0,0,(AK12*((LOG(AK12))/LOG(2))))","v":0},null,{"$f":"N12","v":212},{"$f":"COUNTIF(L72:L88,AN12)","v":0},{"$f":"AO12/(AQ4-AO13)","v":0},{"$f":"IF(AP12=0,0,(AP12*((LOG(AP12))/LOG(2))))","v":0},null,{"$f":"N12","v":212},{"$f":"COUNTIF(L89:L104,AS12)","v":0},{"$f":"AT12/(AV4-AT13)","v":0},{"$f":"IF(AU12=0,0,(AU12*((LOG(AU12))/LOG(2))))","v":0}]
[21,936,21,939,11,947,null,null,null,null,0,221,null,221,{"$f":"COUNTIF($L$7:$L$500,N13)","v":40},{"$f":"O13/$Q$4","v":0.40816326530612246},{"$f":"IF(P13=0,0,(P13*((LOG(P13))/LOG(2))))","v":-0.52766602009299834},null,null,{"$f":"N13","v":221},{"$f":"COUNTIF(L7:L22,T13)","v":5},null,null,null,{"$f":"N13","v":221},{"$f":"COUNTIF(L23:L39,Y13)","v":9},null,null,null,{"$f":"N13","v":221},{"$f":"COUNTIF(L40:L55,AD13)","v":7},null,null,null,{"$f":"N13","v":221},{"$f":"COUNTIF(L56:L71,AI13)","v":5},null,null,null,{"$f":"N13","v":221},{"$f":"COUNTIF(L72:L88,AN13)","v":9},null,null,null,{"$f":"N13","v":221},{"$f":"COUNTIF(L89:L104,AS13)","v":5}]
[21,1100,21,1104,11,1113,null,null,null,null,0,221,null,222,{"$f":"COUNTIF($L$7:$L$500,N14)","v":4},{"$f":"O14/$Q$4","v":4.0816326530612242E-2},{"$f":"IF(P14=0,0,(P14*((LOG(P14))/LOG(2))))","v":-0.18835550384143707},null,null,{"$f":"N14","v":222},{"$f":"COUNTIF(L7:L22,T14)","v":0},{"$f":"U14/(W4-U13)","v":0},{"$f":"IF(V14=0,0,(V14*((LOG(V14))/LOG(2))))","v":0},null,{"$f":"N14","v":222},{"$f":"COUNTIF(L23:L39,Y14)","v":0},{"$f":"Z14/(AB4-Z13)","v":0},{"$f":"IF(AA14=0,0,(AA14*((LOG(AA14))/LOG(2))))","v":0},null,{"$f":"N14","v":222},{"$f":"COUNTIF(L40:L55,AD14)","v":0},{"$f":"AE14/(AG4-AE13)","v":0},{"$f":"IF(AF14=0,0,(AF14*((LOG(AF14))/LOG(2))))","v":0},null,{"$f":"N14","v":222},{"$f":"COUNTIF(L56:L71,AI14)","v":0},{"$f":"AJ14/(AL4-AJ13)","v":0},{"$f":"IF(AK14=0,0,(AK14*((LOG(AK14))/LOG(2))))","v":0},null,{"$f":"N14","v":222},{"$f":"COUNTIF(L72:L88,AN14)","v":2},{"$f":"AO14/(AQ4-AO13)","v":0.25},{"$f":"IF(AP14=0,0,(AP14*((LOG(AP14))/LOG(2))))","v":-0.5},null,{"$f":"N14","v":222},{"$f":"COUNTIF(L89:L104,AS14)","v":2},{"$f":"AT14/(AV4-AT13)","v":0.18181818181818182},{"$f":"IF(AU14=0,0,(AU14*((LOG(AU14))/LOG(2))))","v":-0.44716938520678134}]
[21,1206,12,1221,13,1227,null,null,null,null,0,211,null,null,null,{"$f":"SUM(P7:P14)","v":1},{"$f":"-SUM(Q7:Q14)","v":1.5069040859055469},null,null,null,null,{"$f":"SUM(V7:V14)","v":1},{"$f":"-SUM(W7:W14)","v":0.86585661745722331},null,null,null,{"$f":"SUM(AA7:AA14)","v":1},{"$f":"-SUM(AB7:AB14)","v":0.5435644431995964},null,null,null,{"$f":"SUM(AF7:AF14)","v":1},{"$f":"-SUM(AG7:AG14)","v":0.91829583405448945},null,null,null,{"$f":"SUM(AK7:AK14)","v":1},{"$f":"-SUM(AL7:AL14)","v":0},null,null,null,{"$f":"SUM(AP7:AP14)","v":1},{"$f":"-SUM(AQ7:AQ14)","v":0.81127812445913283},null,null,null,{"$f":"SUM(AU7:AU14)","v":1},{"$f":"-SUM(AV7:AV14)","v":0.68403843563904165}]
[21,1323,12,1332,13,1344,null,null,null,null,0,211,null,null,null,"U=",{"$f":"Q15/(LOG(Q4)/LOG(2))","v":0.22781106373791551},null,null,null,null,"U1=",{"$f":"W15/(LOG(W4)/LOG(2))","v":0.21646415436430583},null,null,null,"U2=",{"$f":"AB15/(LOG(AB4)/LOG(2))","v":0.13298333570497295},null,null,null,"U3=",{"$f":"AG15/(LOG(AG4)/LOG(2))","v":0.22957395851362236},null,null,null,"U4=",{"$f":"AL15/(LOG(AL4)/LOG(2))","v":0},null,null,null,"U5=",{"$f":"AQ15/(LOG(AQ4)/LOG(2))","v":0.1984796329575845},null,null,null,"U6=",{"$f":"AV15/(LOG(AV4)/LOG(2))","v":0.17100960890976041}]
[21,1440,12,1449,13,1457,null,null,null,null,0,211]
[21,1552,12,1565,13,1571,null,null,null,null,0,211]
[21,1670,12,1683,24,1701,null,null,null,null,0,212,null,"Total Target Seq"]
[21,1797,21,1802,11,1813,null,null,null,null,0,221,null,{"$f":"COUNTIF(L7:L104,G3)","v":40},null,16,17,16,16,17,16]
[21,1948,12,1955,13,1961,null,null,null,null,0,211,null,null,null,"% of reinforcement given in 6 equal intervals based on number of trials "]
[21,2056,12,2065,13,2076,null,null,null,null,0,211,null,null,null,"%_1","%_2","%_3","%_4","%_5","%_6"]
[21,2168,21,2175,11,2184,null,null,null,null,0,221,null,null,"target sequence",{"$f":"$G$3","v":221},{"$f":"$G$3","v":221},{"$f":"$G$3","v":221},{"$f":"$G$3","v":221},{"$f":"$G$3","v":221},{"$f":"$G$3","v":221}]
[21,2368,21,2371,11,2380,null,null,null,null,0,221,null,null,"total reinforcement",{"$f":"U13","v":5},{"$f":"Z13","v":9},{"$f":"AE13","v":7},{"$f":"AJ13","v":5},{"$f":"AO13","v":9},{"$f":"AT13","v":5}]
[21,2542,21,2545,11,2553,null,null,null,null,0,221,null,null,"% target"]
[21,2659,21,2666,11,2676,null,null,null,null,0,221,null,null,"CCRF"]
[21,2823,12,2833,13,2838,null,null,null,null,0,211,null,null,"% CCRf"]
[21,2935,12,2953,24,2958,null,null,null,null,0,212,null,null,"average response rate",{"$f":"F22/P20","v":129.75},{"$f":"(F39-F22)/Q20","v":138.29411764705881},{"$f":"(F55-F39)/R20","v":138.125},{"$f":"(F71-F55)/S20","v":132.875},{"$f":"(F88-F71)/T20","v":146.23529411764707},{"$f":"(F104-F88)/U20","v":135.5625}]
[21,3052,21,3059,11,3066,null,null,null,null,0,221]
[21,3178,12,3190,13,3198,null,null,null,null,0,211]
[21,3294,12,3302,13,3309,null,null,null,null,0,211]
[21,3401,21,3410,11,3421,null,null,null,null,0,221]
[21,3683,21,3687,11,3696,null,null,null,null,0,221]
[21,3802,12,3818,13,3827,null,null,null,null,0,211]
[21,3925,21,3927,11,3935,null,null,null,null,0,221]
[21,4067,12,4077,13,4084,null,null,null,null,0,211]
[21,4176,21,4178,11,4186,null,null,null,null,0,221]
[21,4295,12,4303,13,4310,null,null,null,null,0,211]
[21,4406,12,4417,13,4427,null,null,null,null,0,211]
[21,4521,21,4527,11,4534,null,null,null,null,0,221]
[21,4810,12,4819,24,4829,null,null,null,null,0,212]
[21,4927,12,4934,13,4945,null,null,null,null,0,211]
[21,5040,12,5049,24,5065,null,null,null,null,0,212]
[21,5160,21,5165,11,5179,null,null,null,null,0,221]
[21,5306,21,5311,11,5320,null,null,null,null,0,221]
[21,5489,21,5492,11,5500,null,null,null,null,0,221]
[21,5613,21,5616,11,5625,null,null,null,null,0,221]
[21,5740,12,5750,13,5756,null,null,null,null,0,211]
[21,5856,12,5865,24,5884,null,null,null,null,0,212]
[21,5982,12,5996,13,6002,null,null,null,null,0,211]
[21,6098,12,6106,13,6114,null,null,null,null,0,211]
[21,6211,12,6226,13,6237,null,null,null,null,0,211]
[21,6334,12,6345,13,6358,null,null,null,null,0,211]
[21,6451,21,6456,11,6468,null,null,null,null,0,221]
[21,6624,21,6626,11,6637,null,null,null,null,0,221]
[21,6830,12,6838,13,6845,null,null,null,null,0,211]
[21,6940,12,6950,13,6957,null,null,null,null,0,211]
[21,7051,21,7054,11,7063,null,null,null,null,0,221]
[21,7171,12,7180,13,7189,null,null,null,null,0,211]
[21,7285,12,7302,13,7310,null,null,null,null,0,211]
[21,7407,12,7421,13,7428,null,null,null,null,0,211]
[21,7524,21,7529,11,7537,null,null,null,null,0,221]
[21,7716,12,7726,13,7728,null,null,null,null,0,211]
[21,7823,21,7825,11,7834,null,null,null,null,0,221]
[21,7998,12,8008,13,8013,null,null,null,null,0,211]
[21,8110,12,8125,13,8135,null,null,null,null,0,211]
[21,8227,12,8235,13,8243,null,null,null,null,0,211]
[21,8340,21,8345,11,8355,null,null,null,null,0,221]
[21,8481,12,8493,13,8505,null,null,null,null,0,211]
[21,8641,12,8651,13,8656,null,null,null,null,0,211]
[21,8750,21,8755,11,8763,null,null,null,null,0,221]
[21,9002,21,9007,11,9018,null,null,null,null,0,221]
[21,9163,12,9174,13,9179,null,null,null,null,0,211]
[21,9277,21,9283,11,9305,null,null,null,null,0,221]
[21,9488,12,9503,13,9510,null,null,null,null,0,211]
[21,9610,21,9614,11,9622,null,null,null,null,0,221]
[21,9790,12,9804,13,9813,null,null,null,null,0,211]
[21,9910,21,9917,11,9931,null,null,null,null,0,221]
[21,10058,21,10062,11,10070,null,null,null,null,0,221]
[21,10163,21,10166,11,10177,null,null,null,null,0,221]
[21,10349,12,10359,13,10364,null,null,null,null,0,211]
[21,10461,21,10466,11,10485,null,null,null,null,0,221]
[21,10595,12,10610,13,10626,null,null,null,null,0,211]
[21,10723,21,10729,11,10737,null,null,null,null,0,221]
[21,10907,21,10909,11,10918,null,null,null,null,0,221]
[21,11032,21,11035,22,11041,null,null,null,null,0,222]
[21,11139,12,11147,13,11150,null,null,null,null,0,211]
[21,11242,21,11244,22,11249,null,null,null,null,0,222]
[21,11341,21,11346,22,11349,null,null,null,null,0,222]
[21,11448,12,11462,13,11471,null,null,null,null,0,211]
[21,11568,21,11572,11,11580,null,null,null,null,0,221]
[21,11674,21,11677,11,11685,null,null,null,null,0,221]
[21,11891,12,11899,13,11907,null,null,null,null,0,211]
[21,12003,21,12007,22,12011,null,null,null,null,0,222]
[21,12119,12,12127,13,12133,null,null,null,null,0,211]
[21,12229,21,12234,11,12249,null,null,null,null,0,221]
[21,12414,12,12423,13,12437,null,null,null,null,0,211]
[21,12532,12,12549,13,12557,null,null,null,null,0,211]
[21,12652,12,12668,13,12676,null,null,null,null,0,211]
[21,12770,12,12782,13,12790,null,null,null,null,0,211]
[21,12884,21,12888,11,12897,null,null,null,null,0,221]
[21,13167,12,13178,13,13190,null,null,null,null,0,211]
[21,13286,12,13298,13,13305,null,null,null,null,0,211]
[21,13399,21,13406,11,13418,null,null,null,null,1,221]

{"sheet":"!MA28A3T.AYL","index":29,"n_rows":118,"n_cols":48,"rows_kept":118,"cut":false,"hidden":false,"merged":[[4,39,4,42],[5,39,5,40],[4,44,4,47],[5,44,5,45],[4,24,4,27],[5,24,5,25],[4,29,4,32],[5,29,5,30],[4,34,4,37],[5,34,5,35],[1,1,1,2],[5,13,5,14],[18,13,18,14],[19,13,19,14],[4,19,4,22],[5,19,5,20]]}
["Report for:!MA28A3T.AYL"]
["Date:","<date>"]
["Hen:","<hen>",null,null,null,"Correct Sequence",{"$f":"Start!J2","v":221},null,null,null,null,null,null,null,null,"Total Sequences in Data",{"$f":"4994-COUNTBLANK(L7:L5000)","v":112},null,null,null,null,"Total Sequences in Block Data",{"$f":"COUNTA(L7:L25)","v":19},null,null,null,"Total Sequences in Block Data",{"$f":"COUNTA(L26:L43)","v":18},null,null,null,"Total Sequences in Block Data",{"$f":"COUNTA(L44:L62)","v":19},null,null,null,"Total Sequences in Block Data",{"$f":"COUNTA(L63:L81)","v":19},null,null,null,"Total Sequences in Block Data",{"$f":"COUNTA(L82:L99)","v":18},null,null,null,"Total Sequences in Block Data",{"$f":"COUNTA(L100:L118)","v":19}]
[null,null,null,null,null,null,null,null,null,null,null,null,null,null,null,"Total Sequences in Summary",{"$f":"SUM(O7:O14)","v":112},null,null,null,null,"Total Sequences in Block Summary",{"$f":"SUM(U7:U14)","v":19},null,null,null,"Total Sequences in Block Summary",{"$f":"SUM(Z7:Z14)","v":18},null,null,null,"Total Sequences in Block Summary",{"$f":"SUM(AE7:AE14)","v":19},null,null,null,"Total Sequences in Block Summary",{"$f":"SUM(AJ7:AJ14)","v":19},null,null,null,"Total Sequences in Block Summary",{"$f":"SUM(AO7:AO14)","v":18},null,null,null,"Total Sequences in Block Summary",{"$f":"SUM(AT7:AT14)","v":19}]
[null,null,null,null,null,null,null,null,null,null,null,null,null,null,null,null,null,null,null,"Block 1",null,null,null,null,"Block 2",null,null,null,null,"Block 3",null,null,null,null,"Block 4",null,null,null,null,"Block 5",null,null,null,null,"Block 6"]
["Sequence\nComponent\n1","Time\n1","Sequence\nComponent\n2","Time\n2","Sequence\nComponent\n3","Time\n3","Sequence\nComponent\n4","Time\n4","Sequence\nComponent\n5","Time\n5","Correct?\n0=No 1=Yes","Sequence",null,"Frequency",null,"Relative Frequency","Variability",null,null,"Frequency",null,"Relative Frequency","Variability",null,"Frequency",null,"Relative Frequency","Variability",null,"Frequency",null,"Relative Frequency","Variability",null,"Frequency",null,"Relative Frequency","Variability",null,"Frequency",null,"Relative Frequency","Variability",null,"Frequency",null,"Relative Frequency","Variability"]
[12,14,14,19,13,25,null,null,null,null,0,111,null,111,{"$f":"COUNTIF($L$7:$L$500,N7)","v":1},{"$f":"O7/$Q$4","v":8.9285714285714281E-3},{"$f":"IF(P7=0,0,(P7*((LOG(P7))/LOG(2))))","v":-6.0779954661228604E-2},null,null,{"$f":"N7","v":111},{"$f":"COUNTIF(L7:L25,T7)","v":1},{"$f":"U7/(W4-U13)","v":8.3333333333333329E-2},{"$f":"IF(V7=0,0,(V7*((LOG(V7))/LOG(2))))","v":-0.29874687506009634},null,{"$f":"N7","v":111},{"$f":"COUNTIF(L26:L43,Y7)","v":0},{"$f":"Z7/(AB4-Z13)","v":0},{"$f":"IF(AA7=0,0,(AA7*((LOG(AA7))/LOG(2))))","v":0},null,{"$f":"N7","v":111},{"$f":"COUNTIF(L44:L62,AD7)","v":0},{"$f":"AE7/(AG4-AE13)","v":0},{"$f":"IF(AF7=0,0,(AF7*((LOG(AF7))/LOG(2))))","v":0},null,{"$f":"N7","v":111},{"$f":"COUNTIF(L63:L81,AI7)","v":0},{"$f":"AJ7/(AL4-AJ13)","v":0},{"$f":"IF(AK7=0,0,(AK7*((LOG(AK7))/LOG(2))))","v":0},null,{"$f":"N7","v":111},{"$f":"COUNTIF(L82:L99,AN7)","v":0},{"$f":"AO7/(AQ4-AO13)","v":0},{"$f":"IF(AP7=0,0,(AP7*((LOG(AP7))/LOG(2))))","v":0},null,{"$f":"N7","v":111},{"$f":"COUNTIF(L100:L118,AS7)","v":0},{"$f":"AT7/(AV4-AT13)","v":0},{"$f":"IF(AU7=0,0,(AU7*((LOG(AU7))/LOG(2))))","v":0}]
[21,120,12,130,13,137,null,null,null,null,0,211,null,112,{"$f":"COUNTIF($L$7:$L$500,N8)","v":1},{"$f":"O8/$Q$4","v":8.9285714285714281E-3},{"$f":"IF(P8=0,0,(P8*((LOG(P8))/LOG(2))))","v":-6.0779954661228604E-2},null,null,{"$f":"N8","v":112},{"$f":"COUNTIF(L7:L25,T8)","v":0},{"$f":"U8/(W4-U13)","v":0},{"$f":"IF(V8=0,0,(V8*((LOG(V8))/LOG(2))))","v":0},null,{"$f":"N8","v":112},{"$f":"COUNTIF(L26:L43,Y8)","v":0},{"$f":"Z8/(AB4-Z13)","v":0},{"$f":"IF(AA8=0,0,(AA8*((LOG(AA8))/LOG(2))))","v":0},null,{"$f":"N8","v":112},{"$f":"COUNTIF(L44:L62,AD8)","v":0},{"$f":"AE8/(AG4-AE13)","v":0},{"$f":"IF(AF8=0,0,(AF8*((LOG(AF8))/LOG(2))))","v":0},null,{"$f":"N8","v":112},{"$f":"COUNTIF(L63:L81,AI8)","v":0},{"$f":"AJ8/(AL4-AJ13)","v":0},{"$f":"IF(AK8=0,0,(AK8*((LOG(AK8))/LOG(2))))","v":0},null,{"$f":"N8","v":112},{"$f":"COUNTIF(L82:L99,AN8)","v":1},{"$f":"AO8/(AQ4-AO13)","v":0.1},{"$f":"IF(AP8=0,0,(AP8*((LOG(AP8))/LOG(2))))","v":-0.33219280948873625},null,{"$f":"N8","v":112},{"$f":"COUNTIF(L100:L118,AS8)","v":0},{"$f":"AT8/(AV4-AT13)","v":0},{"$f":"IF(AU8=0,0,(AU8*((LOG(AU8))/LOG(2))))","v":0}]
[21,231,21,235,22,240,null,null,null,null,0,222,null,121,{"$f":"COUNTIF($L$7:$L$500,N9)","v":0},{"$f":"O9/$Q$4","v":0},{"$f":"IF(P9=0,0,(P9*((LOG(P9))/LOG(2))))","v":0},null,null,{"$f":"N9","v":121},{"$f":"COUNTIF(L7:L25,T9)","v":0},{"$f":"U9/(W4-U13)","v":0},{"$f":"IF(V9=0,0,(V9*((LOG(V9))/LOG(2))))","v":0},null,{"$f":"N9","v":121},{"$f":"COUNTIF(L26:L43,Y9)","v":0},{"$f":"Z9/(AB4-Z13)","v":0},{"$f":"IF(AA9=0,0,(AA9*((LOG(AA9))/LOG(2))))","v":0},null,{"$f":"N9","v":121},{"$f":"COUNTIF(L44:L62,AD9)","v":0},{"$f":"AE9/(AG4-AE13)","v":0},{"$f":"IF(AF9=0,0,(AF9*((LOG(AF9))/LOG(2))))","v":0},null,{"$f":"N9","v":121},{"$f":"COUNTIF(L63:L81,AI9)","v":0},{"$f":"AJ9/(AL4-AJ13)","v":0},{"$f":"IF(AK9=0,0,(AK9*((LOG(AK9))/LOG(2))))","v":0},null,{"$f":"N9","v":121},{"$f":"COUNTIF(L82:L99,AN9)","v":0},{"$f":"AO9/(AQ4-AO13)","v":0},{"$f":"IF(AP9=0,0,(AP9*((LOG(AP9))/LOG(2))))","v":0},null,{"$f":"N9","v":121},{"$f":"COUNTIF(L100:L118,AS9)","v":0},{"$f":"AT9/(AV4-AT13)","v":0},{"$f":"IF(AU9=0,0,(AU9*((LOG(AU9))/LOG(2))))","v":0}]
[21,340,21,342,11,349,null,null,null,null,0,221,null,122,{"$f":"COUNTIF($L$7:$L$500,N10)","v":0},{"$f":"O10/$Q$4","v":0},{"$f":"IF(P10=0,0,(P10*((LOG(P10))/LOG(2))))","v":0},null,null,{"$f":"N10","v":122},{"$f":"COUNTIF(L7:L25,T10)","v":0},{"$f":"U10/(W4-U13)","v":0},{"$f":"IF(V10=0,0,(V10*((LOG(V10))/LOG(2))))","v":0},null,{"$f":"N10","v":122},{"$f":"COUNTIF(L26:L43,Y10)","v":0},{"$f":"Z10/(AB4-Z13)","v":0},{"$f":"IF(AA10=0,0,(AA10*((LOG(AA10))/LOG(2))))","v":0},null,{"$f":"N10","v":122},{"$f":"COUNTIF(L44:L62,AD10)","v":0},{"$f":"AE10/(AG4-AE13)","v":0},{"$f":"IF(AF10=0,0,(AF10*((LOG(AF10))/LOG(2))))","v":0},null,{"$f":"N10","v":122},{"$f":"COUNTIF(L63:L81,AI10)","v":0},{"$f":"AJ10/(AL4-AJ13)","v":0},{"$f":"IF(AK10=0,0,(AK10*((LOG(AK10))/LOG(2))))","v":0},null,{"$f":"N10","v":122},{"$f":"COUNTIF(L82:L99,AN10)","v":0},{"$f":"AO10/(AQ4-AO13)","v":0},{"$f":"IF(AP10=0,0,(AP10*((LOG(AP10))/LOG(2))))","v":0},null,{"$f":"N10","v":122},{"$f":"COUNTIF(L100:L118,AS10)","v":0},{"$f":"AT10/(AV4-AT13)","v":0},{"$f":"IF(AU10=0,0,(AU10*((LOG(AU10))/LOG(2))))","v":0}]
[21,526,12,533,13,542,null,null,null,null,0,211,null,211,{"$f":"COUNTIF($L$7:$L$500,N11)","v":56},{"$f":"O11/$Q$4","v":0.5},{"$f":"IF(P11=0,0,(P11*((LOG(P11))/LOG(2))))","v":-0.5},null,null,{"$f":"N11","v":211},{"$f":"COUNTIF(L7:L25,T11)","v":9},{"$f":"U11/(W4-U13)","v":0.75},{"$f":"IF(V11=0,0,(V11*((LOG(V11))/LOG(2))))","v":-0.31127812445913283},null,{"$f":"N11","v":211},{"$f":"COUNTIF(L26:L43,Y11)","v":11},{"$f":"Z11/(AB4-Z13)","v":0.91666666666666663},{"$f":"IF(AA11=0,0,(AA11*((LOG(AA11))/LOG(2))))","v":-0.1150699752435374},null,{"$f":"N11","v":211},{"$f":"COUNTIF(L44:L62,AD11)","v":12},{"$f":"AE11/(AG4-AE13)","v":0.8571428571428571},{"$f":"IF(AF11=0,0,(AF11*((LOG(AF11))/LOG(2))))","v":-0.19062207543124113},null,{"$f":"N11","v":211},{"$f":"COUNTIF(L63:L81,AI11)","v":9},{"$f":"AJ11/(AL4-AJ13)","v":0.6},{"$f":"IF(AK11=0,0,(AK11*((LOG(AK11))/LOG(2))))","v":-0.44217935649972373},null,{"$f":"N11","v":211},{"$f":"COUNTIF(L82:L99,AN11)","v":8},{"$f":"AO11/(AQ4-AO13)","v":0.8},{"$f":"IF(AP11=0,0,(AP11*((LOG(AP11))/LOG(2))))","v":-0.25754247590988982},null,{"$f":"N11","v":211},{"$f":"COUNTIF(L100:L118,AS11)","v":7},{"$f":"AT11/(AV4-AT13)","v":0.77777777777777779},{"$f":"IF(AU11=0,0,(AU11*((LOG(AU11))/LOG(2))))","v":-0.28199895063255082}]
[21,639,12,653,13,654,null,null,null,null,0,211,null,212,{"$f":"COUNTIF($L$7:$L$500,N12)","v":6},{"$f":"O12/$Q$4","v":5.3571428571428568E-2},{"$f":"IF(P12=0,0,(P12*((LOG(P12))/LOG(2))))","v":-0.22619959400016687},null,null,{"$f":"N12","v":212},{"$f":"COUNTIF(L7:L25,T12)","v":0},{"$f":"U12/(W4-U13)","v":0},{"$f":"IF(V12=0,0,(V12*((LOG(V12))/LOG(2))))","v":0},null,{"$f":"N12","v":212},{"$f":"COUNTIF(L26:L43,Y12)","v":0},{"$f":"Z12/(AB4-Z13)","v":0},{"$f":"IF(AA12=0,0,(AA12*((LOG(AA12))/LOG(2))))","v":0},null,{"$f":"N12","v":212},{"$f":"COUNTIF(L44:L62,AD12)","v":2},{"$f":"AE12/(AG4-AE13)","v":0.14285714285714285},{"$f":"IF(AF12=0,0,(AF12*((LOG(AF12))/LOG(2))))","v":-0.40105070315108626},null,{"$f":"N12","v":212},{"$f":"COUNTIF(L63:L81,AI12)","v":2},{"$f":"AJ12/(AL4-AJ13)","v":0.13333333333333333},{"$f":"IF(AK12=0,0,(AK12*((LOG(AK12))/LOG(2))))","v":-0.3875854127478025},null,{"$f":"N12","v":212},{"$f":"COUNTIF(L82:L99,AN12)","v":1},{"$f":"AO12/(AQ4-AO13)","v":0.1},{"$f":"IF(AP12=0,0,(AP12*((LOG(AP12))/LOG(2))))","v":-0.33219280948873625},null,{"$f":"N12","v":212},{"$f":"COUNTIF(L100:L118,AS12)","v":1},{"$f":"AT12/(AV4-AT13)","v":0.1111111111111111},{"$f":"IF(AU12=0,0,(AU12*((LOG(AU12))/LOG(2))))","v":-0.3522138890491458}]
[21,749,21,751,22,754,null,null,null,null,0,222,null,221,{"$f":"COUNTIF($L$7:$L$500,N13)","v":40},{"$f":"O13/$Q$4","v":0.35714285714285715},{"$f":"IF(P13=0,0,(P13*((LOG(P13))/LOG(2))))","v":-0.53050958113222924},null,null,{"$f":"N13","v":221},{"$f":"COUNTIF(L7:L25,T13)","v":7},null,null,null,{"$f":"N13","v":221},{"$f":"COUNTIF(L26:L43,Y13)","v":6},null,null,null,{"$f":"N13","v":221},{"$f":"COUNTIF(L44:L62,AD13)","v":5},null,null,null,{"$f":"N13","v":221},{"$f":"COUNTIF(L63:L81,AI13)","v":4},null,null,null,{"$f":"N13","v":221},{"$f":"COUNTIF(L82:L99,AN13)","v":8},null,null,null,{"$f":"N13","v":221},{"$f":"COUNTIF(L100:L118,AS13)","v":10}]
[21,850,12,859,13,877,null,null,null,null,0,211,null,222,{"$f":"COUNTIF($L$7:$L$500,N14)","v":8},{"$f":"O14/$Q$4","v":7.1428571428571425E-2},{"$f":"IF(P14=0,0,(P14*((LOG(P14))/LOG(2))))","v":-0.27195392300411453},null,null,{"$f":"N14","v":222},{"$f":"COUNTIF(L7:L25,T14)","v":2},{"$f":"U14/(W4-U13)","v":0.16666666666666666},{"$f":"IF(V14=0,0,(V14*((LOG(V14))/LOG(2))))","v":-0.43082708345352599},null,{"$f":"N14","v":222},{"$f":"COUNTIF(L26:L43,Y14)","v":1},{"$f":"Z14/(AB4-Z13)","v":8.3333333333333329E-2},{"$f":"IF(AA14=0,0,(AA14*((LOG(AA14))/LOG(2))))","v":-0.29874687506009634},null,{"$f":"N14","v":222},{"$f":"COUNTIF(L44:L62,AD14)","v":0},{"$f":"AE14/(AG4-AE13)","v":0},{"$f":"IF(AF14=0,0,(AF14*((LOG(AF14))/LOG(2))))","v":0},null,{"$f":"N14","v":222},{"$f":"COUNTIF(L63:L81,AI14)","v":4},{"$f":"AJ14/(AL4-AJ13)","v":0.26666666666666666},{"$f":"IF(AK14=0,0,(AK14*((LOG(AK14))/LOG(2))))","v":-0.50850415882893829},null,{"$f":"N14","v":222},{"$f":"COUNTIF(L82:L99,AN14)","v":0},{"$f":"AO14/(AQ4-AO13)","v":0},{"$f":"IF(AP14=0,0,(AP14*((LOG(AP14))/LOG(2))))","v":0},null,{"$f":"N14","v":222},{"$f":"COUNTIF(L100:L118,AS14)","v":1},{"$f":"AT14/(AV4-AT13)","v":0.1111111111111111},{"$f":"IF(AU14=0,0,(AU14*((LOG(AU14))/LOG(2))))","v":-0.3522138890491458}]
[21,970,21,973,11,981,null,null,null,null,0,221,null,null,null,{"$f":"SUM(P7:P14)","v":1},{"$f":"-SUM(Q7:Q14)","v":1.6502230074589679},null,null,null,null,{"$f":"SUM(V7:V14)","v":1},{"$f":"-SUM(W7:W14)","v":1.0408520829727552},null,null,null,{"$f":"SUM(AA7:AA14)","v":1},{"$f":"-SUM(AB7:AB14)","v":0.41381685030363374},null,null,null,{"$f":"SUM(AF7:AF14)","v":1},{"$f":"-SUM(AG7:AG14)","v":0.59167277858232736},null,null,null,{"$f":"SUM(AK7:AK14)","v":1},{"$f":"-SUM(AL7:AL14)","v":1.3382689280764646},null,null,null,{"$f":"SUM(AP7:AP14)","v":1},{"$f":"-SUM(AQ7:AQ14)","v":0.92192809488736227},null,null,null,{"$f":"SUM(AU7:AU14)","v":1},{"$f":"-SUM(AV7:AV14)","v":0.98642672873084236}]
[21,1082,21,1086,11,1094,null,null,null,null,0,221,null,null,null,"U=",{"$f":"Q15/(LOG(Q4)/LOG(2))","v":0.24241765360460571},null,null,null,null,"U1=",{"$f":"W15/(LOG(W4)/LOG(2))","v":0.24502585782801831},null,null,null,"U2=",{"$f":"AB15/(LOG(AB4)/LOG(2))","v":9.9238439578769627E-2},null,null,null,"U3=",{"$f":"AG15/(LOG(AG4)/LOG(2))","v":0.13928504587468524},null,null,null,"U4=",{"$f":"AL15/(LOG(AL4)/LOG(2))","v":0.31504043415081628},null,null,null,"U5=",{"$f":"AQ15/(LOG(AQ4)/LOG(2))","v":0.22108985043339668},null,null,null,"U6=",{"$f":"AV15/(LOG(AV4)/LOG(2))","v":0.23221364432633523}]
[21,1188,12,1198,13,1205,null,null,null,null,0,211]
[21,1301,12,1313,13,1321,null,null,null,null,0,211]
[21,1417,12,1429,13,1441,null,null,null,null,0,211,null,"Total Target Seq"]
[21,1539,21,1541,11,1550,null,null,null,null,0,221,null,{"$f":"COUNTIF(L7:L118,G3)","v":40},null,19,18,19,19,18,19]
[21,1728,21,1731,11,1739,null,null,null,null,0,221,null,null,null,"% of reinforcement given in 6 equal intervals based on number of trials "]
[21,1891,12,1900,13,1903,null,null,null,null,0,211,null,null,null,"%_1","%_2","%_3","%_4","%_5","%_6"]
[21,1997,21,1999,11,2013,null,null,null,null,0,221,null,null,"target sequence",{"$f":"$G$3","v":221},{"$f":"$G$3","v":221},{"$f":"$G$3","v":221},{"$f":"$G$3","v":221},{"$f":"$G$3","v":221},{"$f":"$G$3","v":221}]
[21,2114,21,2117,11,2127,null,null,null,null,0,221,null,null,"total reinforcement",{"$f":"U13","v":7},{"$f":"Z13","v":6},{"$f":"AE13","v":5},{"$f":"AJ13","v":4},{"$f":"AO13","v":8},{"$f":"AT13","v":10}]
[21,2280,12,2292,13,2295,null,null,null,null,0,211,null,null,"% target"]
[21,2391,12,2399,13,2409,null,null,null,null,0,211,null,null,"CCRF"]
[21,2502,12,2512,13,2522,null,null,null,null,0,211,null,null,"% CCRf"]
[21,2618,12,2627,13,2635,null,null,null,null,0,211,null,null,"average response rate",{"$f":"F25/P20","v":120.78947368421052},{"$f":"(F43-F25)/Q20","v":131.05555555555554},{"$f":"(F62-F43)/R20","v":127.31578947368421},{"$f":"(F81-F62)/S20","v":134.84210526315789},{"$f":"(F99-F81)/T20","v":150.72222222222223},{"$f":"(F118-F99)/U20","v":150.52631578947367}]
[21,2735,12,2745,13,2753,null,null,null,null,0,211]
[21,2850,12,2865,13,2873,null,null,null,null,0,211]
[21,2969,12,2978,13,2988,null,null,null,null,0,211]
[21,3082,21,3084,11,3095,null,null,null,null,0,221]
[21,3223,12,3236,13,3242,null,null,null,null,0,211]
[21,3336,12,3346,13,3354,null,null,null,null,0,211]
[21,3446,21,3451,11,3458,null,null,null,null,0,221]
[21,3618,12,3629,13,3638,null,null,null,null,0,211]
[21,3733,21,3737,11,3747,null,null,null,null,0,221]
[21,3939,21,3942,11,3951,null,null,null,null,0,221]
[21,4114,12,4123,13,4126,null,null,null,null,0,211]
[21,4225,21,4229,22,4235,null,null,null,null,0,222]
[21,4330,21,4332,11,4348,null,null,null,null,0,221]
[21,4478,21,4480,11,4488,null,null,null,null,0,221]
[21,4635,12,4646,13,4654,null,null,null,null,0,211]
[21,4749,12,4756,13,4764,null,null,null,null,0,211]
[21,4861,21,4866,11,4874,null,null,null,null,0,221]
[21,5007,12,5016,13,5022,null,null,null,null,0,211]
[21,5119,12,5130,13,5141,null,null,null,null,0,211]
[21,5236,12,5246,13,5253,null,null,null,null,0,211]
[21,5347,21,5350,11,5357,null,null,null,null,0,221]
[21,5504,12,5521,13,5527,null,null,null,null,0,211]
[21,5624,12,5637,13,5643,null,null,null,null,0,211]
[21,5737,21,5740,11,5750,null,null,null,null,0,221]
[21,5928,21,5931,11,5939,null,null,null,null,0,221]
[21,6033,12,6047,13,6056,null,null,null,null,0,211]
[21,6155,12,6179,13,6186,null,null,null,null,0,211]
[21,6283,12,6292,24,6314,null,null,null,null,0,212]
[21,6410,12,6423,13,6434,null,null,null,null,0,211]
[21,6531,12,6541,24,6556,null,null,null,null,0,212]
[21,6652,12,6661,13,6675,null,null,null,null,0,211]
[21,6772,21,6774,11,6791,null,null,null,null,0,221]
[21,6944,12,6952,13,6956,null,null,null,null,0,211]
[21,7050,12,7068,13,7073,null,null,null,null,0,211]
[21,7168,12,7183,13,7194,null,null,null,null,0,211]
[21,7290,12,7306,13,7314,null,null,null,null,0,211]
[21,7409,12,7419,13,7427,null,null,null,null,0,211]
[21,7524,12,7538,13,7544,null,null,null,null,0,211]
[21,7643,12,7656,13,7664,null,null,null,null,0,211]
[21,7762,12,7770,24,7798,null,null,null,null,0,212]
[21,7894,21,7900,11,7917,null,null,null,null,0,221]
[21,8023,12,8040,13,8064,null,null,null,null,0,211]
[21,8162,21,8166,11,8176,null,null,null,null,0,221]
[21,8289,21,8293,11,8302,null,null,null,null,0,221]
[21,8622,21,8625,11,8639,null,null,null,null,0,221]
[21,8851,12,8864,13,8872,null,null,null,null,0,211]
[21,8968,21,8970,22,8973,null,null,null,null,0,222]
[21,9072,12,9083,13,9092,null,null,null,null,0,211]
[21,9187,21,9191,22,9193,null,null,null,null,0,222]
[21,9291,12,9306,24,9317,null,null,null,null,0,212]
[21,9413,12,9425,13,9433,null,null,null,null,0,211]
[21,9527,21,9530,22,9532,null,null,null,null,0,222]
[21,9627,21,9633,22,9635,null,null,null,null,0,222]
[21,9730,21,9734,11,9741,null,null,null,null,0,221]
[21,9905,21,9910,11,9918,null,null,null,null,0,221]
[21,10177,21,10179,11,10187,null,null,null,null,0,221]
[21,10377,12,10390,13,10404,null,null,null,null,0,211]
[21,10498,12,10509,13,10522,null,null,null,null,0,211]
[21,10621,12,10632,13,10640,null,null,null,null,0,211]
[21,10735,21,10740,11,10751,null,null,null,null,0,221]
[21,10891,21,10897,11,10905,null,null,null,null,0,221]
[21,11009,12,11021,13,11033,null,null,null,null,0,211]
[21,11130,12,11152,13,11160,null,null,null,null,0,211]
[21,11258,12,11275,13,11286,null,null,null,null,0,211]
[21,11387,12,11402,13,11408,null,null,null,null,0,211]
[21,11504,21,11509,11,11522,null,null,null,null,0,221]
[12,11660,14,11663,24,11679,null,null,null,null,0,112]
[21,11773,21,11775,11,11797,null,null,null,null,0,221]
[21,11934,12,11945,24,11954,null,null,null,null,0,212]
[21,12046,21,12051,11,12059,null,null,null,null,0,221]
[21,12326,12,12336,13,12348,null,null,null,null,0,211]
[21,12501,12,12509,13,12521,null,null,null,null,0,211]
[21,12613,21,12619,11,12634,null,null,null,null,0,221]
[21,12832,12,12851,24,12855,null,null,null,null,0,212]
[21,12947,21,12952,11,12962,null,null,null,null,0,221]
[21,13139,12,13147,13,13158,null,null,null,null,0,211]
[21,13255,21,13258,11,13270,null,null,null,null,0,221]
[21,13404,12,13415,13,13423,null,null,null,null,0,211]
[21,13517,21,13520,22,13541,null,null,null,null,0,222]
[21,13690,21,13693,11,13701,null,null,null,null,0,221]
[21,13881,12,13894,13,13904,null,null,null,null,0,211]
[21,13996,21,13999,11,14010,null,null,null,null,0,221]
[21,14185,12,14201,13,14216,null,null,null,null,0,211]
[21,14313,12,14323,13,14333,null,null,null,null,0,211]
[21,14430,21,14436,11,14443,null,null,null,null,0,221]
[21,14626,21,14628,11,14637,null,null,null,null,0,221]
[21,14732,21,14734,11,14743,null,null,null,null,0,221]
[21,14901,12,14911,13,14918,null,null,null,null,0,211]
[21,15013,21,15018,11,15040,null,null,null,null,0,221]
[21,15197,21,15200,11,15208,null,null,null,null,1,221]

{"sheet":"!MA29A4T.AYL","index":30,"n_rows":92,"n_cols":48,"rows_kept":92,"cut":false,"hidden":false,"merged":[[4,39,4,42],[5,39,5,40],[4,44,4,47],[5,44,5,45],[4,24,4,27],[5,24,5,25],[4,29,4,32],[5,29,5,30],[4,34,4,37],[5,34,5,35],[1,1,1,2],[5,13,5,14],[18,13,18,14],[19,13,19,14],[4,19,4,22],[5,19,5,20]]}
["Report for:!MA29A4T.AYL"]
["Date:","<date>"]
["Hen:","<hen>",null,null,null,"Correct Sequence",{"$f":"Start!J2","v":221},null,null,null,null,null,null,null,null,"Total Sequences in Data",{"$f":"4994-COUNTBLANK(L7:L5000)","v":86},null,null,null,null,"Total Sequences in Block Data",{"$f":"COUNTA(L7:L20)","v":14},null,null,null,"Total Sequences in Block Data",{"$f":"COUNTA(L21:L35)","v":15},null,null,null,"Total Sequences in Block Data",{"$f":"COUNTA(L36:L49)","v":14},null,null,null,"Total Sequences in Block Data",{"$f":"COUNTA(L50:L63)","v":14},null,null,null,"Total Sequences in Block Data",{"$f":"COUNTA(L64:L78)","v":15},null,null,null,"Total Sequences in Block Data",{"$f":"COUNTA(L79:L92)","v":14}]
[null,null,null,null,null,null,null,null,null,null,null,null,null,null,null,"Total Sequences in Summary",{"$f":"SUM(O7:O14)","v":86},null,null,null,null,"Total Sequences in Block Summary",{"$f":"SUM(U7:U14)","v":14},null,null,null,"Total Sequences in Block Summary",{"$f":"SUM(Z7:Z14)","v":15},null,null,null,"Total Sequences in Block Summary",{"$f":"SUM(AE7:AE14)","v":14},null,null,null,"Total Sequences in Block Summary",{"$f":"SUM(AJ7:AJ14)","v":14},null,null,null,"Total Sequences in Block Summary",{"$f":"SUM(AO7:AO14)","v":15},null,null,null,"Total Sequences in Block Summary",{"$f":"SUM(AT7:AT14)","v":14}]
[null,null,null,null,null,null,null,null,null,null,null,null,null,null,null,null,null,null,null,"Block 1",null,null,null,null,"Block 2",null,null,null,null,"Block 3",null,null,null,null,"Block 4",null,null,null,null,"Block 5",null,null,null,null,"Block 6"]
["Sequence\nComponent\n1","Time\n1","Sequence\nComponent\n2","Time\n2","Sequence\nComponent\n3","Time\n3","Sequence\nComponent\n4","Time\n4","Sequence\nComponent\n5","Time\n5","Correct?\n0=No 1=Yes","Sequence",null,"Frequency",null,"Relative Frequency","Variability",null,null,"Frequency",null,"Relative Frequency","Variability",null,"Frequency",null,"Relative Frequency","Variability",null,"Frequency",null,"Relative Frequency","Variability",null,"Frequency",null,"Relative Frequency","Variability",null,"Frequency",null,"Relative Frequency","Variability",null,"Frequency",null,"Relative Frequency","Variability"]
[21,10,12,22,13,24,null,null,null,null,0,211,null,111,{"$f":"COUNTIF($L$7:$L$500,N7)","v":1},{"$f":"O7/$Q$4","v":1.1627906976744186E-2},{"$f":"IF(P7=0,0,(P7*((LOG(P7))/LOG(2))))","v":-7.4724008775605782E-2},null,null,{"$f":"N7","v":111},{"$f":"COUNTIF(L7:L20,T7)","v":1},{"$f":"U7/(W4-U13)","v":0.1111111111111111},{"$f":"IF(V7=0,0,(V7*((LOG(V7))/LOG(2))))","v":-0.3522138890491458},null,{"$f":"N7","v":111},{"$f":"COUNTIF(L21:L35,Y7)","v":0},{"$f":"Z7/(AB4-Z13)","v":0},{"$f":"IF(AA7=0,0,(AA7*((LOG(AA7))/LOG(2))))","v":0},null,{"$f":"N7","v":111},{"$f":"COUNTIF(L36:L49,AD7)","v":0},{"$f":"AE7/(AG4-AE13)","v":0},{"$f":"IF(AF7=0,0,(AF7*((LOG(AF7))/LOG(2))))","v":0},null,{"$f":"N7","v":111},{"$f":"COUNTIF(L50:L63,AI7)","v":0},{"$f":"AJ7/(AL4-AJ13)","v":0},{"$f":"IF(AK7=0,0,(AK7*((LOG(AK7))/LOG(2))))","v":0},null,{"$f":"N7","v":111},{"$f":"COUNTIF(L64:L78,AN7)","v":0},{"$f":"AO7/(AQ4-AO13)","v":0},{"$f":"IF(AP7=0,0,(AP7*((LOG(AP7))/LOG(2))))","v":0},null,{"$f":"N7","v":111},{"$f":"COUNTIF(L79:L92,AS7)","v":0},{"$f":"AT7/(AV4-AT13)","v":0},{"$f":"IF(AU7=0,0,(AU7*((LOG(AU7))/LOG(2))))","v":0}]
[21,121,12,132,13,140,null,null,null,null,0,211,null,112,{"$f":"COUNTIF($L$7:$L$500,N8)","v":0},{"$f":"O8/$Q$4","v":0},{"$f":"IF(P8=0,0,(P8*((LOG(P8))/LOG(2))))","v":0},null,null,{"$f":"N8","v":112},{"$f":"COUNTIF(L7:L20,T8)","v":0},{"$f":"U8/(W4-U13)","v":0},{"$f":"IF(V8=0,0,(V8*((LOG(V8))/LOG(2))))","v":0},null,{"$f":"N8","v":112},{"$f":"COUNTIF(L21:L35,Y8)","v":0},{"$f":"Z8/(AB4-Z13)","v":0},{"$f":"IF(AA8=0,0,(AA8*((LOG(AA8))/LOG(2))))","v":0},null,{"$f":"N8","v":112},{"$f":"COUNTIF(L36:L49,AD8)","v":0},{"$f":"AE8/(AG4-AE13)","v":0},{"$f":"IF(AF8=0,0,(AF8*((LOG(AF8))/LOG(2))))","v":0},null,{"$f":"N8","v":112},{"$f":"COUNTIF(L50:L63,AI8)","v":0},{"$f":"AJ8/(AL4-AJ13)","v":0},{"$f":"IF(AK8=0,0,(AK8*((LOG(AK8))/LOG(2))))","v":0},null,{"$f":"N8","v":112},{"$f":"COUNTIF(L64:L78,AN8)","v":0},{"$f":"AO8/(AQ4-AO13)","v":0},{"$f":"IF(AP8=0,0,(AP8*((LOG(AP8))/LOG(2))))","v":0},null,{"$f":"N8","v":112},{"$f":"COUNTIF(L79:L92,AS8)","v":0},{"$f":"AT8/(AV4-AT13)","v":0},{"$f":"IF(AU8=0,0,(AU8*((LOG(AU8))/LOG(2))))","v":0}]
[21,237,12,244,13,250,null,null,null,null,0,211,null,121,{"$f":"COUNTIF($L$7:$L$500,N9)","v":1},{"$f":"O9/$Q$4","v":1.1627906976744186E-2},{"$f":"IF(P9=0,0,(P9*((LOG(P9))/LOG(2))))","v":-7.4724008775605782E-2},null,null,{"$f":"N9","v":121},{"$f":"COUNTIF(L7:L20,T9)","v":0},{"$f":"U9/(W4-U13)","v":0},{"$f":"IF(V9=0,0,(V9*((LOG(V9))/LOG(2))))","v":0},null,{"$f":"N9","v":121},{"$f":"COUNTIF(L21:L35,Y9)","v":1},{"$f":"Z9/(AB4-Z13)","v":0.14285714285714285},{"$f":"IF(AA9=0,0,(AA9*((LOG(AA9))/LOG(2))))","v":-0.40105070315108626},null,{"$f":"N9","v":121},{"$f":"COUNTIF(L36:L49,AD9)","v":0},{"$f":"AE9/(AG4-AE13)","v":0},{"$f":"IF(AF9=0,0,(AF9*((LOG(AF9))/LOG(2))))","v":0},null,{"$f":"N9","v":121},{"$f":"COUNTIF(L50:L63,AI9)","v":0},{"$f":"AJ9/(AL4-AJ13)","v":0},{"$f":"IF(AK9=0,0,(AK9*((LOG(AK9))/LOG(2))))","v":0},null,{"$f":"N9","v":121},{"$f":"COUNTIF(L64:L78,AN9)","v":0},{"$f":"AO9/(AQ4-AO13)","v":0},{"$f":"IF(AP9=0,0,(AP9*((LOG(AP9))/LOG(2))))","v":0},null,{"$f":"N9","v":121},{"$f":"COUNTIF(L79:L92,AS9)","v":0},{"$f":"AT9/(AV4-AT13)","v":0},{"$f":"IF(AU9=0,0,(AU9*((LOG(AU9))/LOG(2))))","v":0}]
[21,347,21,350,11,359,null,null,null,null,0,221,null,122,{"$f":"COUNTIF($L$7:$L$500,N10)","v":0},{"$f":"O10/$Q$4","v":0},{"$f":"IF(P10=0,0,(P10*((LOG(P10))/LOG(2))))","v":0},null,null,{"$f":"N10","v":122},{"$f":"COUNTIF(L7:L20,T10)","v":0},{"$f":"U10/(W4-U13)","v":0},{"$f":"IF(V10=0,0,(V10*((LOG(V10))/LOG(2))))","v":0},null,{"$f":"N10","v":122},{"$f":"COUNTIF(L21:L35,Y10)","v":0},{"$f":"Z10/(AB4-Z13)","v":0},{"$f":"IF(AA10=0,0,(AA10*((LOG(AA10))/LOG(2))))","v":0},null,{"$f":"N10","v":122},{"$f":"COUNTIF(L36:L49,AD10)","v":0},{"$f":"AE10/(AG4-AE13)","v":0},{"$f":"IF(AF10=0,0,(AF10*((LOG(AF10))/LOG(2))))","v":0},null,{"$f":"N10","v":122},{"$f":"COUNTIF(L50:L63,AI10)","v":0},{"$f":"AJ10/(AL4-AJ13)","v":0},{"$f":"IF(AK10=0,0,(AK10*((LOG(AK10))/LOG(2))))","v":0},null,{"$f":"N10","v":122},{"$f":"COUNTIF(L64:L78,AN10)","v":0},{"$f":"AO10/(AQ4-AO13)","v":0},{"$f":"IF(AP10=0,0,(AP10*((LOG(AP10))/LOG(2))))","v":0},null,{"$f":"N10","v":122},{"$f":"COUNTIF(L79:L92,AS10)","v":0},{"$f":"AT10/(AV4-AT13)","v":0},{"$f":"IF(AU10=0,0,(AU10*((LOG(AU10))/LOG(2))))","v":0}]
[21,550,12,558,13,568,null,null,null,null,0,211,null,211,{"$f":"COUNTIF($L$7:$L$500,N11)","v":34},{"$f":"O11/$Q$4","v":0.39534883720930231},{"$f":"IF(P11=0,0,(P11*((LOG(P11))/LOG(2))))","v":-0.52929377973674174},null,null,{"$f":"N11","v":211},{"$f":"COUNTIF(L7:L20,T11)","v":6},{"$f":"U11/(W4-U13)","v":0.66666666666666663},{"$f":"IF(V11=0,0,(V11*((LOG(V11))/LOG(2))))","v":-0.38997500048077083},null,{"$f":"N11","v":211},{"$f":"COUNTIF(L21:L35,Y11)","v":4},{"$f":"Z11/(AB4-Z13)","v":0.5714285714285714},{"$f":"IF(AA11=0,0,(AA11*((LOG(AA11))/LOG(2))))","v":-0.46134566974720237},null,{"$f":"N11","v":211},{"$f":"COUNTIF(L36:L49,AD11)","v":6},{"$f":"AE11/(AG4-AE13)","v":0.8571428571428571},{"$f":"IF(AF11=0,0,(AF11*((LOG(AF11))/LOG(2))))","v":-0.19062207543124113},null,{"$f":"N11","v":211},{"$f":"COUNTIF(L50:L63,AI11)","v":5},{"$f":"AJ11/(AL4-AJ13)","v":0.55555555555555558},{"$f":"IF(AK11=0,0,(AK11*((LOG(AK11))/LOG(2))))","v":-0.4711093925305278},null,{"$f":"N11","v":211},{"$f":"COUNTIF(L64:L78,AN11)","v":6},{"$f":"AO11/(AQ4-AO13)","v":0.8571428571428571},{"$f":"IF(AP11=0,0,(AP11*((LOG(AP11))/LOG(2))))","v":-0.19062207543124113},null,{"$f":"N11","v":211},{"$f":"COUNTIF(L79:L92,AS11)","v":7},{"$f":"AT11/(AV4-AT13)","v":1},{"$f":"IF(AU11=0,0,(AU11*((LOG(AU11))/LOG(2))))","v":0}]
[21,664,12,675,13,686,null,null,null,null,0,211,null,212,{"$f":"COUNTIF($L$7:$L$500,N12)","v":3},{"$f":"O12/$Q$4","v":3.4883720930232558E-2},{"$f":"IF(P12=0,0,(P12*((LOG(P12))/LOG(2))))","v":-0.16888263676677703},null,null,{"$f":"N12","v":212},{"$f":"COUNTIF(L7:L20,T12)","v":0},{"$f":"U12/(W4-U13)","v":0},{"$f":"IF(V12=0,0,(V12*((LOG(V12))/LOG(2))))","v":0},null,{"$f":"N12","v":212},{"$f":"COUNTIF(L21:L35,Y12)","v":1},{"$f":"Z12/(AB4-Z13)","v":0.14285714285714285},{"$f":"IF(AA12=0,0,(AA12*((LOG(AA12))/LOG(2))))","v":-0.40105070315108626},null,{"$f":"N12","v":212},{"$f":"COUNTIF(L36:L49,AD12)","v":0},{"$f":"AE12/(AG4-AE13)","v":0},{"$f":"IF(AF12=0,0,(AF12*((LOG(AF12))/LOG(2))))","v":0},null,{"$f":"N12","v":212},{"$f":"COUNTIF(L50:L63,AI12)","v":2},{"$f":"AJ12/(AL4-AJ13)","v":0.22222222222222221},{"$f":"IF(AK12=0,0,(AK12*((LOG(AK12))/LOG(2))))","v":-0.48220555587606945},null,{"$f":"N12","v":212},{"$f":"COUNTIF(L64:L78,AN12)","v":0},{"$f":"AO12/(AQ4-AO13)","v":0},{"$f":"IF(AP12=0,0,(AP12*((LOG(AP12))/LOG(2))))","v":0},null,{"$f":"N12","v":212},{"$f":"COUNTIF(L79:L92,AS12)","v":0},{"$f":"AT12/(AV4-AT13)","v":0},{"$f":"IF(AU12=0,0,(AU12*((LOG(AU12))/LOG(2))))","v":0}]
[21,781,12,793,13,800,null,null,null,null,0,211,null,221,{"$f":"COUNTIF($L$7:$L$500,N13)","v":40},{"$f":"O13/$Q$4","v":0.46511627906976744},{"$f":"IF(P13=0,0,(P13*((LOG(P13))/LOG(2))))","v":-0.5136449580533653},null,null,{"$f":"N13","v":221},{"$f":"COUNTIF(L7:L20,T13)","v":5},null,null,null,{"$f":"N13","v":221},{"$f":"COUNTIF(L21:L35,Y13)","v":8},null,null,null,{"$f":"N13","v":221},{"$f":"COUNTIF(L36:L49,AD13)","v":7},null,null,null,{"$f":"N13","v":221},{"$f":"COUNTIF(L50:L63,AI13)","v":5},null,null,null,{"$f":"N13","v":221},{"$f":"COUNTIF(L64:L78,AN13)","v":8},null,null,null,{"$f":"N13","v":221},{"$f":"COUNTIF(L79:L92,AS13)","v":7}]
[21,897,21,899,22,902,null,null,null,null,0,222,null,222,{"$f":"COUNTIF($L$7:$L$500,N14)","v":7},{"$f":"O14/$Q$4","v":8.1395348837209308E-2},{"$f":"IF(P14=0,0,(P14*((LOG(P14))/LOG(2))))","v":-0.29456242823850531},null,null,{"$f":"N14","v":222},{"$f":"COUNTIF(L7:L20,T14)","v":2},{"$f":"U14/(W4-U13)","v":0.22222222222222221},{"$f":"IF(V14=0,0,(V14*((LOG(V14))/LOG(2))))","v":-0.48220555587606945},null,{"$f":"N14","v":222},{"$f":"COUNTIF(L21:L35,Y14)","v":1},{"$f":"Z14/(AB4-Z13)","v":0.14285714285714285},{"$f":"IF(AA14=0,0,(AA14*((LOG(AA14))/LOG(2))))","v":-0.40105070315108626},null,{"$f":"N14","v":222},{"$f":"COUNTIF(L36:L49,AD14)","v":1},{"$f":"AE14/(AG4-AE13)","v":0.14285714285714285},{"$f":"IF(AF14=0,0,(AF14*((LOG(AF14))/LOG(2))))","v":-0.40105070315108626},null,{"$f":"N14","v":222},{"$f":"COUNTIF(L50:L63,AI14)","v":2},{"$f":"AJ14/(AL4-AJ13)","v":0.22222222222222221},{"$f":"IF(AK14=0,0,(AK14*((LOG(AK14))/LOG(2))))","v":-0.48220555587606945},null,{"$f":"N14","v":222},{"$f":"COUNTIF(L64:L78,AN14)","v":1},{"$f":"AO14/(AQ4-AO13)","v":0.14285714285714285},{"$f":"IF(AP14=0,0,(AP14*((LOG(AP14))/LOG(2))))","v":-0.40105070315108626},null,{"$f":"N14","v":222},{"$f":"COUNTIF(L79:L92,AS14)","v":0},{"$f":"AT14/(AV4-AT13)","v":0},{"$f":"IF(AU14=0,0,(AU14*((LOG(AU14))/LOG(2))))","v":0}]
[21,998,21,1000,11,1008,null,null,null,null,0,221,null,null,null,{"$f":"SUM(P7:P14)","v":1},{"$f":"-SUM(Q7:Q14)","v":1.6558318203466009},null,null,null,null,{"$f":"SUM(V7:V14)","v":0.99999999999999989},{"$f":"-SUM(W7:W14)","v":1.2243944454059861},null,null,null,{"$f":"SUM(AA7:AA14)","v":0.99999999999999978},{"$f":"-SUM(AB7:AB14)","v":1.6644977792004614},null,null,null,{"$f":"SUM(AF7:AF14)","v":1},{"$f":"-SUM(AG7:AG14)","v":0.59167277858232736},null,null,null,{"$f":"SUM(AK7:AK14)","v":1},{"$f":"-SUM(AL7:AL14)","v":1.4355205042826666},null,null,null,{"$f":"SUM(AP7:AP14)","v":1},{"$f":"-SUM(AQ7:AQ14)","v":0.59167277858232736},null,null,null,{"$f":"SUM(AU7:AU14)","v":1},{"$f":"-SUM(AV7:AV14)","v":0}]
[12,1142,14,1149,13,1154,null,null,null,null,0,111,null,null,null,"U=",{"$f":"Q15/(LOG(Q4)/LOG(2))","v":0.25766629349265896},null,null,null,null,"U1=",{"$f":"W15/(LOG(W4)/LOG(2))","v":0.32158663178800473},null,null,null,"U2=",{"$f":"AB15/(LOG(AB4)/LOG(2))","v":0.42604156386447445},null,null,null,"U3=",{"$f":"AG15/(LOG(AG4)/LOG(2))","v":0.15540258018881267},null,null,null,"U4=",{"$f":"AL15/(LOG(AL4)/LOG(2))","v":0.37703879298620002},null,null,null,"U5=",{"$f":"AQ15/(LOG(AQ4)/LOG(2))","v":0.15144339573966781},null,null,null,"U6=",{"$f":"AV15/(LOG(AV4)/LOG(2))","v":0}]
[21,1247,21,1250,22,1273,null,null,null,null,0,222]
[21,1366,21,1370,11,1386,null,null,null,null,0,221]
[21,1481,21,1484,11,1491,null,null,null,null,0,221,null,"Total Target Seq"]
[21,1581,21,1583,11,1592,null,null,null,null,0,221,null,{"$f":"COUNTIF(L7:L92,G3)","v":40},null,14,15,14,14,15,14]
[21,1683,21,1686,11,1693,null,null,null,null,0,221,null,null,null,"% of reinforcement given in 6 equal intervals based on number of trials "]
[12,1787,23,1793,13,1795,null,null,null,null,0,121,null,null,null,"%_1","%_2","%_3","%_4","%_5","%_6"]
[21,1892,12,1901,13,1909,null,null,null,null,0,211,null,null,"target sequence",{"$f":"$G$3","v":221},{"$f":"$G$3","v":221},{"$f":"$G$3","v":221},{"$f":"$G$3","v":221},{"$f":"$G$3","v":221},{"$f":"$G$3","v":221}]
[21,2005,21,2006,11,2020,null,null,null,null,0,221,null,null,"total reinforcement",{"$f":"U13","v":5},{"$f":"Z13","v":8},{"$f":"AE13","v":7},{"$f":"AJ13","v":5},{"$f":"AO13","v":8},{"$f":"AT13","v":7}]
[21,2134,21,2138,11,2146,null,null,null,null,0,221,null,null,"% target"]
[21,2269,12,2278,24,2296,null,null,null,null,0,212,null,null,"CCRF"]
[21,2391,12,2403,13,2411,null,null,null,null,0,211,null,null,"% CCRf"]
[21,2503,21,2505,22,2508,null,null,null,null,0,222,null,null,"average response rate",{"$f":"F20/P20","v":113.71428571428571},{"$f":"(F35-F20)/Q20","v":116},{"$f":"(F49-F35)/R20","v":118.07142857142857},{"$f":"(F63-F49)/S20","v":127.14285714285714},{"$f":"(F78-F63)/T20","v":158.93333333333334},{"$f":"(F92-F78)/U20","v":172.92857142857142}]
[21,2603,21,2612,11,2626,null,null,null,null,0,221]
[21,2744,12,2752,13,2758,null,null,null,null,0,211]
[21,2852,12,2866,13,2877,null,null,null,null,0,211]
[21,2973,21,2976,11,2985,null,null,null,null,0,221]
[21,3079,21,3082,11,3090,null,null,null,null,0,221]
[21,3211,21,3217,11,3223,null,null,null,null,0,221]
[21,3319,21,3322,11,3332,null,null,null,null,0,221]
[21,3450,12,3458,13,3466,null,null,null,null,0,211]
[21,3565,12,3577,13,3589,null,null,null,null,0,211]
[21,3686,21,3688,11,3701,null,null,null,null,0,221]
[21,3867,21,3869,11,3876,null,null,null,null,0,221]
[21,3966,12,3974,13,3980,null,null,null,null,0,211]
[21,4073,21,4077,11,4087,null,null,null,null,0,221]
[21,4181,21,4182,11,4193,null,null,null,null,0,221]
[21,4298,12,4311,13,4319,null,null,null,null,0,211]
[21,4414,21,4420,11,4438,null,null,null,null,0,221]
[21,4528,21,4532,11,4538,null,null,null,null,0,221]
[21,4632,21,4633,22,4636,null,null,null,null,0,222]
[21,4735,12,4747,13,4757,null,null,null,null,0,211]
[21,4855,12,4868,13,4875,null,null,null,null,0,211]
[21,4972,21,4977,11,4985,null,null,null,null,0,221]
[21,5077,12,5100,24,5105,null,null,null,null,0,212]
[21,5199,12,5214,13,5222,null,null,null,null,0,211]
[21,5316,21,5318,11,5327,null,null,null,null,0,221]
[21,5460,12,5471,13,5478,null,null,null,null,0,211]
[21,5573,12,5588,13,5595,null,null,null,null,0,211]
[21,5691,21,5696,11,5714,null,null,null,null,0,221]
[21,5839,21,5840,22,5843,null,null,null,null,0,222]
[21,5938,12,5949,13,5962,null,null,null,null,0,211]
[21,6059,21,6064,22,6065,null,null,null,null,0,222]
[21,6162,21,6166,11,6188,null,null,null,null,0,221]
[21,6372,21,6393,11,6408,null,null,null,null,0,221]
[21,6512,21,6516,11,6525,null,null,null,null,0,221]
[21,6623,12,6639,24,6645,null,null,null,null,0,212]
[21,6742,12,6757,13,6765,null,null,null,null,0,211]
[21,6860,12,6875,13,6884,null,null,null,null,0,211]
[21,6984,21,6987,11,7007,null,null,null,null,0,221]
[21,7139,12,7152,13,7166,null,null,null,null,0,211]
[21,7260,21,7264,11,7272,null,null,null,null,0,221]
[21,7440,21,7443,11,7466,null,null,null,null,0,221]
[21,7608,12,7622,13,7636,null,null,null,null,0,211]
[21,7734,21,7737,11,7748,null,null,null,null,0,221]
[21,7839,12,7855,13,7866,null,null,null,null,0,211]
[21,7963,21,7968,11,7984,null,null,null,null,0,221]
[21,8165,21,8168,11,8177,null,null,null,null,0,221]
[21,8354,12,8366,13,8383,null,null,null,null,0,211]
[21,8482,21,8484,11,8494,null,null,null,null,0,221]
[21,8911,12,8920,13,8926,null,null,null,null,0,211]
[21,9023,21,9028,22,9030,null,null,null,null,0,222]
[21,9126,21,9129,11,9149,null,null,null,null,0,221]
[21,9598,12,9612,13,9623,null,null,null,null,0,211]
[21,9721,21,9724,11,9740,null,null,null,null,0,221]
[21,9969,12,9980,13,9997,null,null,null,null,0,211]
[21,10091,21,10096,11,10104,null,null,null,null,0,221]
[21,10209,12,10221,13,10231,null,null,null,null,0,211]
[21,10327,21,10331,11,10353,null,null,null,null,0,221]
[21,10568,12,10578,13,10585,null,null,null,null,0,211]
[21,10681,21,10683,11,10694,null,null,null,null,0,221]
[21,10871,12,10885,13,10893,null,null,null,null,0,211]
[21,10988,21,10992,11,11001,null,null,null,null,0,221]
[21,11183,21,11186,11,11199,null,null,null,null,0,221]
[21,11305,12,11319,13,11339,null,null,null,null,0,211]
[21,11434,12,11448,13,11462,null,null,null,null,0,211]
[21,11557,21,11561,11,11570,null,null,null,null,1,221]

{"sheet":"!MA30A0T.AYL","index":31,"n_rows":69,"n_cols":48,"rows_kept":69,"cut":false,"hidden":false,"merged":[[4,39,4,42],[5,39,5,40],[4,44,4,47],[5,44,5,45],[4,24,4,27],[5,24,5,25],[4,29,4,32],[5,29,5,30],[4,34,4,37],[5,34,5,35],[1,1,1,2],[5,13,5,14],[18,13,18,14],[19,13,19,14],[4,19,4,22],[5,19,5,20]]}
["Report for:!MA30A0T.AYL"]
["Date:","<date>"]
["Hen:","<hen>",null,null,null,"Correct Sequence",{"$f":"Start!J2","v":221},null,null,null,null,null,null,null,null,"Total Sequences in Data",{"$f":"4994-COUNTBLANK(L7:L5000)","v":63},null,null,null,null,"Total Sequences in Block Data",{"$f":"COUNTA(L7:L17)","v":11},null,null,null,"Total Sequences in Block Data",{"$f":"COUNTA(L18:L27)","v":10},null,null,null,"Total Sequences in Block Data",{"$f":"COUNTA(L28:L38)","v":11},null,null,null,"Total Sequences in Block Data",{"$f":"COUNTA(L39:L48)","v":10},null,null,null,"Total Sequences in Block Data",{"$f":"COUNTA(L49:L59)","v":11},null,null,null,"Total Sequences in Block Data",{"$f":"COUNTA(L60:L69)","v":10}]
[null,null,null,null,null,null,null,null,null,null,null,null,null,null,null,"Total Sequences in Summary",{"$f":"SUM(O7:O14)","v":63},null,null,null,null,"Total Sequences in Block Summary",{"$f":"SUM(U7:U14)","v":11},null,null,null,"Total Sequences in Block Summary",{"$f":"SUM(Z7:Z14)","v":10},null,null,null,"Total Sequences in Block Summary",{"$f":"SUM(AE7:AE14)","v":11},null,null,null,"Total Sequences in Block Summary",{"$f":"SUM(AJ7:AJ14)","v":10},null,null,null,"Total Sequences in Block Summary",{"$f":"SUM(AO7:AO14)","v":11},null,null,null,"Total Sequences in Block Summary",{"$f":"SUM(AT7:AT14)","v":10}]
[null,null,null,null,null,null,null,null,null,null,null,null,null,null,null,null,null,null,null,"Block 1",null,null,null,null,"Block 2",null,null,null,null,"Block 3",null,null,null,null,"Block 4",null,null,null,null,"Block 5",null,null,null,null,"Block 6"]
["Sequence\nComponent\n1","Time\n1","Sequence\nComponent\n2","Time\n2","Sequence\nComponent\n3","Time\n3","Sequence\nComponent\n4","Time\n4","Sequence\nComponent\n5","Time\n5","Correct?\n0=No 1=Yes","Sequence",null,"Frequency",null,"Relative Frequency","Variability",null,null,"Frequency",null,"Relative Frequency","Variability",null,"Frequency",null,"Relative Frequency","Variability",null,"Frequency",null,"Relative Frequency","Variability",null,"Frequency",null,"Relative Frequency","Variability",null,"Frequency",null,"Relative Frequency","Variability",null,"Frequency",null,"Relative Frequency","Variability"]
[21,9,21,12,22,52,null,null,null,null,0,222,null,111,{"$f":"COUNTIF($L$7:$L$500,N7)","v":0},{"$f":"O7/$Q$4","v":0},{"$f":"IF(P7=0,0,(P7*((LOG(P7))/LOG(2))))","v":0},null,null,{"$f":"N7","v":111},{"$f":"COUNTIF(L7:L17,T7)","v":0},{"$f":"U7/(W4-U13)","v":0},{"$f":"IF(V7=0,0,(V7*((LOG(V7))/LOG(2))))","v":0},null,{"$f":"N7","v":111},{"$f":"COUNTIF(L18:L27,Y7)","v":0},{"$f":"Z7/(AB4-Z13)","v":0},{"$f":"IF(AA7=0,0,(AA7*((LOG(AA7))/LOG(2))))","v":0},null,{"$f":"N7","v":111},{"$f":"COUNTIF(L28:L38,AD7)","v":0},{"$f":"AE7/(AG4-AE13)","v":0},{"$f":"IF(AF7=0,0,(AF7*((LOG(AF7))/LOG(2))))","v":0},null,{"$f":"N7","v":111},{"$f":"COUNTIF(L39:L48,AI7)","v":0},{"$f":"AJ7/(AL4-AJ13)","v":0},{"$f":"IF(AK7=0,0,(AK7*((LOG(AK7))/LOG(2))))","v":0},null,{"$f":"N7","v":111},{"$f":"COUNTIF(L49:L59,AN7)","v":0},{"$f":"AO7/(AQ4-AO13)","v":0},{"$f":"IF(AP7=0,0,(AP7*((LOG(AP7))/LOG(2))))","v":0},null,{"$f":"N7","v":111},{"$f":"COUNTIF(L60:L69,AS7)","v":0},{"$f":"AT7/(AV4-AT13)","v":0},{"$f":"IF(AU7=0,0,(AU7*((LOG(AU7))/LOG(2))))","v":0}]
[21,152,21,180,22,217,null,null,null,null,0,222,null,112,{"$f":"COUNTIF($L$7:$L$500,N8)","v":0},{"$f":"O8/$Q$4","v":0},{"$f":"IF(P8=0,0,(P8*((LOG(P8))/LOG(2))))","v":0},null,null,{"$f":"N8","v":112},{"$f":"COUNTIF(L7:L17,T8)","v":0},{"$f":"U8/(W4-U13)","v":0},{"$f":"IF(V8=0,0,(V8*((LOG(V8))/LOG(2))))","v":0},null,{"$f":"N8","v":112},{"$f":"COUNTIF(L18:L27,Y8)","v":0},{"$f":"Z8/(AB4-Z13)","v":0},{"$f":"IF(AA8=0,0,(AA8*((LOG(AA8))/LOG(2))))","v":0},null,{"$f":"N8","v":112},{"$f":"COUNTIF(L28:L38,AD8)","v":0},{"$f":"AE8/(AG4-AE13)","v":0},{"$f":"IF(AF8=0,0,(AF8*((LOG(AF8))/LOG(2))))","v":0},null,{"$f":"N8","v":112},{"$f":"COUNTIF(L39:L48,AI8)","v":0},{"$f":"AJ8/(AL4-AJ13)","v":0},{"$f":"IF(AK8=0,0,(AK8*((LOG(AK8))/LOG(2))))","v":0},null,{"$f":"N8","v":112},{"$f":"COUNTIF(L49:L59,AN8)","v":0},{"$f":"AO8/(AQ4-AO13)","v":0},{"$f":"IF(AP8=0,0,(AP8*((LOG(AP8))/LOG(2))))","v":0},null,{"$f":"N8","v":112},{"$f":"COUNTIF(L60:L69,AS8)","v":0},{"$f":"AT8/(AV4-AT13)","v":0},{"$f":"IF(AU8=0,0,(AU8*((LOG(AU8))/LOG(2))))","v":0}]
[21,317,21,321,22,340,null,null,null,null,0,222,null,121,{"$f":"COUNTIF($L$7:$L$500,N9)","v":0},{"$f":"O9/$Q$4","v":0},{"$f":"IF(P9=0,0,(P9*((LOG(P9))/LOG(2))))","v":0},null,null,{"$f":"N9","v":121},{"$f":"COUNTIF(L7:L17,T9)","v":0},{"$f":"U9/(W4-U13)","v":0},{"$f":"IF(V9=0,0,(V9*((LOG(V9))/LOG(2))))","v":0},null,{"$f":"N9","v":121},{"$f":"COUNTIF(L18:L27,Y9)","v":0},{"$f":"Z9/(AB4-Z13)","v":0},{"$f":"IF(AA9=0,0,(AA9*((LOG(AA9))/LOG(2))))","v":0},null,{"$f":"N9","v":121},{"$f":"COUNTIF(L28:L38,AD9)","v":0},{"$f":"AE9/(AG4-AE13)","v":0},{"$f":"IF(AF9=0,0,(AF9*((LOG(AF9))/LOG(2))))","v":0},null,{"$f":"N9","v":121},{"$f":"COUNTIF(L39:L48,AI9)","v":0},{"$f":"AJ9/(AL4-AJ13)","v":0},{"$f":"IF(AK9=0,0,(AK9*((LOG(AK9))/LOG(2))))","v":0},null,{"$f":"N9","v":121},{"$f":"COUNTIF(L49:L59,AN9)","v":0},{"$f":"AO9/(AQ4-AO13)","v":0},{"$f":"IF(AP9=0,0,(AP9*((LOG(AP9))/LOG(2))))","v":0},null,{"$f":"N9","v":121},{"$f":"COUNTIF(L60:L69,AS9)","v":0},{"$f":"AT9/(AV4-AT13)","v":0},{"$f":"IF(AU9=0,0,(AU9*((LOG(AU9))/LOG(2))))","v":0}]
[21,491,21,498,22,520,null,null,null,null,0,222,null,122,{"$f":"COUNTIF($L$7:$L$500,N10)","v":0},{"$f":"O10/$Q$4","v":0},{"$f":"IF(P10=0,0,(P10*((LOG(P10))/LOG(2))))","v":0},null,null,{"$f":"N10","v":122},{"$f":"COUNTIF(L7:L17,T10)","v":0},{"$f":"U10/(W4-U13)","v":0},{"$f":"IF(V10=0,0,(V10*((LOG(V10))/LOG(2))))","v":0},null,{"$f":"N10","v":122},{"$f":"COUNTIF(L18:L27,Y10)","v":0},{"$f":"Z10/(AB4-Z13)","v":0},{"$f":"IF(AA10=0,0,(AA10*((LOG(AA10))/LOG(2))))","v":0},null,{"$f":"N10","v":122},{"$f":"COUNTIF(L28:L38,AD10)","v":0},{"$f":"AE10/(AG4-AE13)","v":0},{"$f":"IF(AF10=0,0,(AF10*((LOG(AF10))/LOG(2))))","v":0},null,{"$f":"N10","v":122},{"$f":"COUNTIF(L39:L48,AI10)","v":0},{"$f":"AJ10/(AL4-AJ13)","v":0},{"$f":"IF(AK10=0,0,(AK10*((LOG(AK10))/LOG(2))))","v":0},null,{"$f":"N10","v":122},{"$f":"COUNTIF(L49:L59,AN10)","v":0},{"$f":"AO10/(AQ4-AO13)","v":0},{"$f":"IF(AP10=0,0,(AP10*((LOG(AP10))/LOG(2))))","v":0},null,{"$f":"N10","v":122},{"$f":"COUNTIF(L60:L69,AS10)","v":0},{"$f":"AT10/(AV4-AT13)","v":0},{"$f":"IF(AU10=0,0,(AU10*((LOG(AU10))/LOG(2))))","v":0}]
[21,617,21,619,11,635,null,null,null,null,0,221,null,211,{"$f":"COUNTIF($L$7:$L$500,N11)","v":11},{"$f":"O11/$Q$4","v":0.17460317460317459},{"$f":"IF(P11=0,0,(P11*((LOG(P11))/LOG(2))))","v":-0.43962430719823503},null,null,{"$f":"N11","v":211},{"$f":"COUNTIF(L7:L17,T11)","v":2},{"$f":"U11/(W4-U13)","v":0.33333333333333331},{"$f":"IF(V11=0,0,(V11*((LOG(V11))/LOG(2))))","v":-0.52832083357371862},null,{"$f":"N11","v":211},{"$f":"COUNTIF(L18:L27,Y11)","v":0},{"$f":"Z11/(AB4-Z13)","v":0},{"$f":"IF(AA11=0,0,(AA11*((LOG(AA11))/LOG(2))))","v":0},null,{"$f":"N11","v":211},{"$f":"COUNTIF(L28:L38,AD11)","v":0},{"$f":"AE11/(AG4-AE13)","v":0},{"$f":"IF(AF11=0,0,(AF11*((LOG(AF11))/LOG(2))))","v":0},null,{"$f":"N11","v":211},{"$f":"COUNTIF(L39:L48,AI11)","v":1},{"$f":"AJ11/(AL4-AJ13)","v":0.25},{"$f":"IF(AK11=0,0,(AK11*((LOG(AK11))/LOG(2))))","v":-0.5},null,{"$f":"N11","v":211},{"$f":"COUNTIF(L49:L59,AN11)","v":4},{"$f":"AO11/(AQ4-AO13)","v":0.8},{"$f":"IF(AP11=0,0,(AP11*((LOG(AP11))/LOG(2))))","v":-0.25754247590988982},null,{"$f":"N11","v":211},{"$f":"COUNTIF(L60:L69,AS11)","v":4},{"$f":"AT11/(AV4-AT13)","v":1},{"$f":"IF(AU11=0,0,(AU11*((LOG(AU11))/LOG(2))))","v":0}]
[21,942,21,944,11,957,null,null,null,null,0,221,null,212,{"$f":"COUNTIF($L$7:$L$500,N12)","v":2},{"$f":"O12/$Q$4","v":3.1746031746031744E-2},{"$f":"IF(P12=0,0,(P12*((LOG(P12))/LOG(2))))","v":-0.15800888646031477},null,null,{"$f":"N12","v":212},{"$f":"COUNTIF(L7:L17,T12)","v":0},{"$f":"U12/(W4-U13)","v":0},{"$f":"IF(V12=0,0,(V12*((LOG(V12))/LOG(2))))","v":0},null,{"$f":"N12","v":212},{"$f":"COUNTIF(L18:L27,Y12)","v":0},{"$f":"Z12/(AB4-Z13)","v":0},{"$f":"IF(AA12=0,0,(AA12*((LOG(AA12))/LOG(2))))","v":0},null,{"$f":"N12","v":212},{"$f":"COUNTIF(L28:L38,AD12)","v":1},{"$f":"AE12/(AG4-AE13)","v":1},{"$f":"IF(AF12=0,0,(AF12*((LOG(AF12))/LOG(2))))","v":0},null,{"$f":"N12","v":212},{"$f":"COUNTIF(L39:L48,AI12)","v":1},{"$f":"AJ12/(AL4-AJ13)","v":0.25},{"$f":"IF(AK12=0,0,(AK12*((LOG(AK12))/LOG(2))))","v":-0.5},null,{"$f":"N12","v":212},{"$f":"COUNTIF(L49:L59,AN12)","v":0},{"$f":"AO12/(AQ4-AO13)","v":0},{"$f":"IF(AP12=0,0,(AP12*((LOG(AP12))/LOG(2))))","v":0},null,{"$f":"N12","v":212},{"$f":"COUNTIF(L60:L69,AS12)","v":0},{"$f":"AT12/(AV4-AT13)","v":0},{"$f":"IF(AU12=0,0,(AU12*((LOG(AU12))/LOG(2))))","v":0}]
[21,1099,21,1103,11,1112,null,null,null,null,0,221,null,221,{"$f":"COUNTIF($L$7:$L$500,N13)","v":40},{"$f":"O13/$Q$4","v":0.63492063492063489},{"$f":"IF(P13=0,0,(P13*((LOG(P13))/LOG(2))))","v":-0.41609639911908203},null,null,{"$f":"N13","v":221},{"$f":"COUNTIF(L7:L17,T13)","v":5},null,null,null,{"$f":"N13","v":221},{"$f":"COUNTIF(L18:L27,Y13)","v":7},null,null,null,{"$f":"N13","v":221},{"$f":"COUNTIF(L28:L38,AD13)","v":10},null,null,null,{"$f":"N13","v":221},{"$f":"COUNTIF(L39:L48,AI13)","v":6},null,null,null,{"$f":"N13","v":221},{"$f":"COUNTIF(L49:L59,AN13)","v":6},null,null,null,{"$f":"N13","v":221},{"$f":"COUNTIF(L60:L69,AS13)","v":6}]
[21,1212,12,1230,13,1243,null,null,null,null,0,211,null,222,{"$f":"COUNTIF($L$7:$L$500,N14)","v":10},{"$f":"O14/$Q$4","v":0.15873015873015872},{"$f":"IF(P14=0,0,(P14*((LOG(P14))/LOG(2))))","v":-0.42148441724008795},null,null,{"$f":"N14","v":222},{"$f":"COUNTIF(L7:L17,T14)","v":4},{"$f":"U14/(W4-U13)","v":0.66666666666666663},{"$f":"IF(V14=0,0,(V14*((LOG(V14))/LOG(2))))","v":-0.38997500048077083},null,{"$f":"N14","v":222},{"$f":"COUNTIF(L18:L27,Y14)","v":3},{"$f":"Z14/(AB4-Z13)","v":1},{"$f":"IF(AA14=0,0,(AA14*((LOG(AA14))/LOG(2))))","v":0},null,{"$f":"N14","v":222},{"$f":"COUNTIF(L28:L38,AD14)","v":0},{"$f":"AE14/(AG4-AE13)","v":0},{"$f":"IF(AF14=0,0,(AF14*((LOG(AF14))/LOG(2))))","v":0},null,{"$f":"N14","v":222},{"$f":"COUNTIF(L39:L48,AI14)","v":2},{"$f":"AJ14/(AL4-AJ13)","v":0.5},{"$f":"IF(AK14=0,0,(AK14*((LOG(AK14))/LOG(2))))","v":-0.5},null,{"$f":"N14","v":222},{"$f":"COUNTIF(L49:L59,AN14)","v":1},{"$f":"AO14/(AQ4-AO13)","v":0.2},{"$f":"IF(AP14=0,0,(AP14*((LOG(AP14))/LOG(2))))","v":-0.46438561897747244},null,{"$f":"N14","v":222},{"$f":"COUNTIF(L60:L69,AS14)","v":0},{"$f":"AT14/(AV4-AT13)","v":0},{"$f":"IF(AU14=0,0,(AU14*((LOG(AU14))/LOG(2))))","v":0}]
[21,1340,21,1344,11,1354,null,null,null,null,0,221,null,null,null,{"$f":"SUM(P7:P14)","v":0.99999999999999989},{"$f":"-SUM(Q7:Q14)","v":1.43521401001772},null,null,null,null,{"$f":"SUM(V7:V14)","v":1},{"$f":"-SUM(W7:W14)","v":0.91829583405448945},null,null,null,{"$f":"SUM(AA7:AA14)","v":1},{"$f":"-SUM(AB7:AB14)","v":0},null,null,null,{"$f":"SUM(AF7:AF14)","v":1},{"$f":"-SUM(AG7:AG14)","v":0},null,null,null,{"$f":"SUM(AK7:AK14)","v":1},{"$f":"-SUM(AL7:AL14)","v":1.5},null,null,null,{"$f":"SUM(AP7:AP14)","v":1},{"$f":"-SUM(AQ7:AQ14)","v":0.72192809488736231},null,null,null,{"$f":"SUM(AU7:AU14)","v":1},{"$f":"-SUM(AV7:AV14)","v":0}]
[21,1566,12,1581,13,1583,null,null,null,null,0,211,null,null,null,"U=",{"$f":"Q15/(LOG(Q4)/LOG(2))","v":0.24011156050683161},null,null,null,null,"U1=",{"$f":"W15/(LOG(W4)/LOG(2))","v":0.26544702577940094},null,null,null,"U2=",{"$f":"AB15/(LOG(AB4)/LOG(2))","v":0},null,null,null,"U3=",{"$f":"AG15/(LOG(AG4)/LOG(2))","v":0},null,null,null,"U4=",{"$f":"AL15/(LOG(AL4)/LOG(2))","v":0.45154499349597182},null,null,null,"U5=",{"$f":"AQ15/(LOG(AQ4)/LOG(2))","v":0.20868401936261902},null,null,null,"U6=",{"$f":"AV15/(LOG(AV4)/LOG(2))","v":0}]
[21,1679,21,1682,11,1695,null,null,null,null,0,221]
[21,1811,21,1814,11,1822,null,null,null,null,0,221]
[21,1917,21,1923,11,1950,null,null,null,null,0,221,null,"Total Target Seq"]
[21,2044,21,2060,22,2064,null,null,null,null,0,222,null,{"$f":"COUNTIF(L7:L69,G3)","v":40},null,11,10,11,10,11,10]
[21,2167,21,2170,11,2179,null,null,null,null,0,221,null,null,null,"% of reinforcement given in 6 equal intervals based on number of trials "]
[21,2271,21,2274,22,2278,null,null,null,null,0,222,null,null,null,"%_1","%_2","%_3","%_4","%_5","%_6"]
[21,2372,21,2375,22,2379,null,null,null,null,0,222,null,null,"target sequence",{"$f":"$G$3","v":221},{"$f":"$G$3","v":221},{"$f":"$G$3","v":221},{"$f":"$G$3","v":221},{"$f":"$G$3","v":221},{"$f":"$G$3","v":221}]
[21,2480,21,2483,11,2529,null,null,null,null,0,221,null,null,"total reinforcement",{"$f":"U13","v":5},{"$f":"Z13","v":7},{"$f":"AE13","v":10},{"$f":"AJ13","v":6},{"$f":"AO13","v":6},{"$f":"AT13","v":6}]
[21,2733,21,2736,11,2749,null,null,null,null,0,221,null,null,"% target"]
[21,2841,21,2843,11,2854,null,null,null,null,0,221,null,null,"CCRF"]
[21,3030,21,3033,11,3059,null,null,null,null,0,221,null,null,"% CCRf"]
[21,3158,21,3161,11,3175,null,null,null,null,0,221,null,null,"average response rate",{"$f":"F17/P20","v":154.09090909090909},{"$f":"(F27-F17)/Q20","v":136.4},{"$f":"(F38-F27)/R20","v":154},{"$f":"(F48-F38)/S20","v":130.4},{"$f":"(F59-F48)/T20","v":133.27272727272728},{"$f":"(F69-F59)/U20","v":127.6}]
[21,3269,21,3273,11,3296,null,null,null,null,0,221]
[21,3483,21,3485,11,3502,null,null,null,null,0,221]
[21,3634,21,3637,11,3646,null,null,null,null,0,221]
[21,3804,21,3807,11,3856,null,null,null,null,0,221]
[21,3971,21,3974,11,3983,null,null,null,null,0,221]
[21,4160,21,4163,11,4187,null,null,null,null,0,221]
[21,4323,12,4357,24,4372,null,null,null,null,0,212]
[21,4469,21,4475,11,4484,null,null,null,null,0,221]
[21,4576,21,4579,11,4588,null,null,null,null,0,221]
[21,4742,21,4745,11,4753,null,null,null,null,0,221]
[21,4859,21,4865,11,4886,null,null,null,null,0,221]
[21,5015,12,5028,24,5052,null,null,null,null,0,212]
[21,5148,21,5153,22,5157,null,null,null,null,0,222]
[21,5251,21,5255,22,5258,null,null,null,null,0,222]
[21,5356,21,5359,11,5371,null,null,null,null,0,221]
[21,5528,21,5532,11,5542,null,null,null,null,0,221]
[21,5676,12,5686,13,5710,null,null,null,null,0,211]
[21,5802,21,5808,11,5816,null,null,null,null,0,221]
[21,5939,21,5941,11,5951,null,null,null,null,0,221]
[21,6044,21,6047,11,6057,null,null,null,null,0,221]
[21,6179,21,6183,11,6192,null,null,null,null,0,221]
[21,6313,12,6326,13,6338,null,null,null,null,0,211]
[21,6435,12,6453,13,6461,null,null,null,null,0,211]
[21,6557,21,6560,22,6563,null,null,null,null,0,222]
[21,6661,21,6664,11,6677,null,null,null,null,0,221]
[21,6769,21,6772,11,6786,null,null,null,null,0,221]
[21,7005,21,7008,11,7017,null,null,null,null,0,221]
[21,7108,12,7129,13,7131,null,null,null,null,0,211]
[21,7225,21,7230,11,7237,null,null,null,null,0,221]
[21,7330,21,7334,11,7342,null,null,null,null,0,221]
[21,7495,12,7507,13,7523,null,null,null,null,0,211]
[21,7618,21,7620,11,7632,null,null,null,null,0,221]
[21,7767,12,7776,13,7791,null,null,null,null,0,211]
[21,7888,21,7892,11,7910,null,null,null,null,0,221]
[21,8043,12,8060,13,8074,null,null,null,null,0,211]
[21,8170,21,8176,11,8186,null,null,null,null,0,221]
[21,8299,21,8305,11,8313,null,null,null,null,0,221]
[21,8429,12,8441,13,8454,null,null,null,null,0,211]
[21,8551,21,8553,11,8562,null,null,null,null,0,221]
[21,8667,12,8679,13,8692,null,null,null,null,0,211]
[21,8785,21,8791,11,8799,null,null,null,null,1,221]

{"sheet":"!MA31A2T.AYL","index":32,"n_rows":91,"n_cols":48,"rows_kept":91,"cut":false,"hidden":false,"merged":[[4,39,4,42],[5,39,5,40],[4,44,4,47],[5,44,5,45],[4,24,4,27],[5,24,5,25],[4,29,4,32],[5,29,5,30],[4,34,4,37],[5,34,5,35],[1,1,1,2],[5,13,5,14],[18,13,18,14],[19,13,19,14],[4,19,4,22],[5,19,5,20]]}
["Report for:!MA31A2T.AYL"]
["Date:","<date>"]
["Hen:","<hen>",null,null,null,"Correct Sequence",{"$f":"Start!J2","v":221},null,null,null,null,null,null,null,null,"Total Sequences in Data",{"$f":"4994-COUNTBLANK(L7:L5000)","v":85},null,null,null,null,"Total Sequences in Block Data",{"$f":"COUNTA(L7:L20)","v":14},null,null,null,"Total Sequences in Block Data",{"$f":"COUNTA(L21:L34)","v":14},null,null,null,"Total Sequences in Block Data",{"$f":"COUNTA(L35:L49)","v":15},null,null,null,"Total Sequences in Block Data",{"$f":"COUNTA(L50:L63)","v":14},null,null,null,"Total Sequences in Block Data",{"$f":"COUNTA(L64:L77)","v":14},null,null,null,"Total Sequences in Block Data",{"$f":"COUNTA(L78:L91)","v":14}]
[null,null,null,null,null,null,null,null,null,null,null,null,null,null,null,"Total Sequences in Summary",{"$f":"SUM(O7:O14)","v":85},null,null,null,null,"Total Sequences in Block Summary",{"$f":"SUM(U7:U14)","v":14},null,null,null,"Total Sequences in Block Summary",{"$f":"SUM(Z7:Z14)","v":14},null,null,null,"Total Sequences in Block Summary",{"$f":"SUM(AE7:AE14)","v":15},null,null,null,"Total Sequences in Block Summary",{"$f":"SUM(AJ7:AJ14)","v":14},null,null,null,"Total Sequences in Block Summary",{"$f":"SUM(AO7:AO14)","v":14},null,null,null,"Total Sequences in Block Summary",{"$f":"SUM(AT7:AT14)","v":14}]
[null,null,null,null,null,null,null,null,null,null,null,null,null,null,null,null,null,null,null,"Block 1",null,null,null,null,"Block 2",null,null,null,null,"Block 3",null,null,null,null,"Block 4",null,null,null,null,"Block 5",null,null,null,null,"Block 6"]
["Sequence\nComponent\n1","Time\n1","Sequence\nComponent\n2","Time\n2","Sequence\nComponent\n3","Time\n3","Sequence\nComponent\n4","Time\n4","Sequence\nComponent\n5","Time\n5","Correct?\n0=No 1=Yes","Sequence",null,"Frequency",null,"Relative Frequency","Variability",null,null,"Frequency",null,"Relative Frequency","Variability",null,"Frequency",null,"Relative Frequency","Variability",null,"Frequency",null,"Relative Frequency","Variability",null,"Frequency",null,"Relative Frequency","Variability",null,"Frequency",null,"Relative Frequency","Variability",null,"Frequency",null,"Relative Frequency","Variability"]
[21,10,12,16,13,20,null,null,null,null,0,211,null,111,{"$f":"COUNTIF($L$7:$L$500,N7)","v":1},{"$f":"O7/$Q$4","v":1.1764705882352941E-2},{"$f":"IF(P7=0,0,(P7*((LOG(P7))/LOG(2))))","v":-7.5404599248678844E-2},null,null,{"$f":"N7","v":111},{"$f":"COUNTIF(L7:L20,T7)","v":0},{"$f":"U7/(W4-U13)","v":0},{"$f":"IF(V7=0,0,(V7*((LOG(V7))/LOG(2))))","v":0},null,{"$f":"N7","v":111},{"$f":"COUNTIF(L21:L34,Y7)","v":0},{"$f":"Z7/(AB4-Z13)","v":0},{"$f":"IF(AA7=0,0,(AA7*((LOG(AA7))/LOG(2))))","v":0},null,{"$f":"N7","v":111},{"$f":"COUNTIF(L35:L49,AD7)","v":0},{"$f":"AE7/(AG4-AE13)","v":0},{"$f":"IF(AF7=0,0,(AF7*((LOG(AF7))/LOG(2))))","v":0},null,{"$f":"N7","v":111},{"$f":"COUNTIF(L50:L63,AI7)","v":1},{"$f":"AJ7/(AL4-AJ13)","v":0.1111111111111111},{"$f":"IF(AK7=0,0,(AK7*((LOG(AK7))/LOG(2))))","v":-0.3522138890491458},null,{"$f":"N7","v":111},{"$f":"COUNTIF(L64:L77,AN7)","v":0},{"$f":"AO7/(AQ4-AO13)","v":0},{"$f":"IF(AP7=0,0,(AP7*((LOG(AP7))/LOG(2))))","v":0},null,{"$f":"N7","v":111},{"$f":"COUNTIF(L78:L91,AS7)","v":0},{"$f":"AT7/(AV4-AT13)","v":0},{"$f":"IF(AU7=0,0,(AU7*((LOG(AU7))/LOG(2))))","v":0}]
[21,122,21,124,11,133,null,null,null,null,0,221,null,112,{"$f":"COUNTIF($L$7:$L$500,N8)","v":0},{"$f":"O8/$Q$4","v":0},{"$f":"IF(P8=0,0,(P8*((LOG(P8))/LOG(2))))","v":0},null,null,{"$f":"N8","v":112},{"$f":"COUNTIF(L7:L20,T8)","v":0},{"$f":"U8/(W4-U13)","v":0},{"$f":"IF(V8=0,0,(V8*((LOG(V8))/LOG(2))))","v":0},null,{"$f":"N8","v":112},{"$f":"COUNTIF(L21:L34,Y8)","v":0},{"$f":"Z8/(AB4-Z13)","v":0},{"$f":"IF(AA8=0,0,(AA8*((LOG(AA8))/LOG(2))))","v":0},null,{"$f":"N8","v":112},{"$f":"COUNTIF(L35:L49,AD8)","v":0},{"$f":"AE8/(AG4-AE13)","v":0},{"$f":"IF(AF8=0,0,(AF8*((LOG(AF8))/LOG(2))))","v":0},null,{"$f":"N8","v":112},{"$f":"COUNTIF(L50:L63,AI8)","v":0},{"$f":"AJ8/(AL4-AJ13)","v":0},{"$f":"IF(AK8=0,0,(AK8*((LOG(AK8))/LOG(2))))","v":0},null,{"$f":"N8","v":112},{"$f":"COUNTIF(L64:L77,AN8)","v":0},{"$f":"AO8/(AQ4-AO13)","v":0},{"$f":"IF(AP8=0,0,(AP8*((LOG(AP8))/LOG(2))))","v":0},null,{"$f":"N8","v":112},{"$f":"COUNTIF(L78:L91,AS8)","v":0},{"$f":"AT8/(AV4-AT13)","v":0},{"$f":"IF(AU8=0,0,(AU8*((LOG(AU8))/LOG(2))))","v":0}]
[21,246,21,249,11,257,null,null,null,null,0,221,null,121,{"$f":"COUNTIF($L$7:$L$500,N9)","v":0},{"$f":"O9/$Q$4","v":0},{"$f":"IF(P9=0,0,(P9*((LOG(P9))/LOG(2))))","v":0},null,null,{"$f":"N9","v":121},{"$f":"COUNTIF(L7:L20,T9)","v":0},{"$f":"U9/(W4-U13)","v":0},{"$f":"IF(V9=0,0,(V9*((LOG(V9))/LOG(2))))","v":0},null,{"$f":"N9","v":121},{"$f":"COUNTIF(L21:L34,Y9)","v":0},{"$f":"Z9/(AB4-Z13)","v":0},{"$f":"IF(AA9=0,0,(AA9*((LOG(AA9))/LOG(2))))","v":0},null,{"$f":"N9","v":121},{"$f":"COUNTIF(L35:L49,AD9)","v":0},{"$f":"AE9/(AG4-AE13)","v":0},{"$f":"IF(AF9=0,0,(AF9*((LOG(AF9))/LOG(2))))","v":0},null,{"$f":"N9","v":121},{"$f":"COUNTIF(L50:L63,AI9)","v":0},{"$f":"AJ9/(AL4-AJ13)","v":0},{"$f":"IF(AK9=0,0,(AK9*((LOG(AK9))/LOG(2))))","v":0},null,{"$f":"N9","v":121},{"$f":"COUNTIF(L64:L77,AN9)","v":0},{"$f":"AO9/(AQ4-AO13)","v":0},{"$f":"IF(AP9=0,0,(AP9*((LOG(AP9))/LOG(2))))","v":0},null,{"$f":"N9","v":121},{"$f":"COUNTIF(L78:L91,AS9)","v":0},{"$f":"AT9/(AV4-AT13)","v":0},{"$f":"IF(AU9=0,0,(AU9*((LOG(AU9))/LOG(2))))","v":0}]
[21,350,12,362,13,370,null,null,null,null,0,211,null,122,{"$f":"COUNTIF($L$7:$L$500,N10)","v":0},{"$f":"O10/$Q$4","v":0},{"$f":"IF(P10=0,0,(P10*((LOG(P10))/LOG(2))))","v":0},null,null,{"$f":"N10","v":122},{"$f":"COUNTIF(L7:L20,T10)","v":0},{"$f":"U10/(W4-U13)","v":0},{"$f":"IF(V10=0,0,(V10*((LOG(V10))/LOG(2))))","v":0},null,{"$f":"N10","v":122},{"$f":"COUNTIF(L21:L34,Y10)","v":0},{"$f":"Z10/(AB4-Z13)","v":0},{"$f":"IF(AA10=0,0,(AA10*((LOG(AA10))/LOG(2))))","v":0},null,{"$f":"N10","v":122},{"$f":"COUNTIF(L35:L49,AD10)","v":0},{"$f":"AE10/(AG4-AE13)","v":0},{"$f":"IF(AF10=0,0,(AF10*((LOG(AF10))/LOG(2))))","v":0},null,{"$f":"N10","v":122},{"$f":"COUNTIF(L50:L63,AI10)","v":0},{"$f":"AJ10/(AL4-AJ13)","v":0},{"$f":"IF(AK10=0,0,(AK10*((LOG(AK10))/LOG(2))))","v":0},null,{"$f":"N10","v":122},{"$f":"COUNTIF(L64:L77,AN10)","v":0},{"$f":"AO10/(AQ4-AO13)","v":0},{"$f":"IF(AP10=0,0,(AP10*((LOG(AP10))/LOG(2))))","v":0},null,{"$f":"N10","v":122},{"$f":"COUNTIF(L78:L91,AS10)","v":0},{"$f":"AT10/(AV4-AT13)","v":0},{"$f":"IF(AU10=0,0,(AU10*((LOG(AU10))/LOG(2))))","v":0}]
[21,467,21,469,22,471,null,null,null,null,0,222,null,211,{"$f":"COUNTIF($L$7:$L$500,N11)","v":34},{"$f":"O11/$Q$4","v":0.4},{"$f":"IF(P11=0,0,(P11*((LOG(P11))/LOG(2))))","v":-0.52877123795494496},null,null,{"$f":"N11","v":211},{"$f":"COUNTIF(L7:L20,T11)","v":5},{"$f":"U11/(W4-U13)","v":0.625},{"$f":"IF(V11=0,0,(V11*((LOG(V11))/LOG(2))))","v":-0.42379494069539858},null,{"$f":"N11","v":211},{"$f":"COUNTIF(L21:L34,Y11)","v":6},{"$f":"Z11/(AB4-Z13)","v":0.8571428571428571},{"$f":"IF(AA11=0,0,(AA11*((LOG(AA11))/LOG(2))))","v":-0.19062207543124113},null,{"$f":"N11","v":211},{"$f":"COUNTIF(L35:L49,AD11)","v":7},{"$f":"AE11/(AG4-AE13)","v":0.875},{"$f":"IF(AF11=0,0,(AF11*((LOG(AF11))/LOG(2))))","v":-0.1685644431995964},null,{"$f":"N11","v":211},{"$f":"COUNTIF(L50:L63,AI11)","v":5},{"$f":"AJ11/(AL4-AJ13)","v":0.55555555555555558},{"$f":"IF(AK11=0,0,(AK11*((LOG(AK11))/LOG(2))))","v":-0.4711093925305278},null,{"$f":"N11","v":211},{"$f":"COUNTIF(L64:L77,AN11)","v":6},{"$f":"AO11/(AQ4-AO13)","v":0.8571428571428571},{"$f":"IF(AP11=0,0,(AP11*((LOG(AP11))/LOG(2))))","v":-0.19062207543124113},null,{"$f":"N11","v":211},{"$f":"COUNTIF(L78:L91,AS11)","v":5},{"$f":"AT11/(AV4-AT13)","v":0.83333333333333337},{"$f":"IF(AU11=0,0,(AU11*((LOG(AU11))/LOG(2))))","v":-0.21919533819482812}]
[21,566,21,569,11,578,null,null,null,null,0,221,null,212,{"$f":"COUNTIF($L$7:$L$500,N12)","v":1},{"$f":"O12/$Q$4","v":1.1764705882352941E-2},{"$f":"IF(P12=0,0,(P12*((LOG(P12))/LOG(2))))","v":-7.5404599248678844E-2},null,null,{"$f":"N12","v":212},{"$f":"COUNTIF(L7:L20,T12)","v":1},{"$f":"U12/(W4-U13)","v":0.125},{"$f":"IF(V12=0,0,(V12*((LOG(V12))/LOG(2))))","v":-0.375},null,{"$f":"N12","v":212},{"$f":"COUNTIF(L21:L34,Y12)","v":0},{"$f":"Z12/(AB4-Z13)","v":0},{"$f":"IF(AA12=0,0,(AA12*((LOG(AA12))/LOG(2))))","v":0},null,{"$f":"N12","v":212},{"$f":"COUNTIF(L35:L49,AD12)","v":0},{"$f":"AE12/(AG4-AE13)","v":0},{"$f":"IF(AF12=0,0,(AF12*((LOG(AF12))/LOG(2))))","v":0},null,{"$f":"N12","v":212},{"$f":"COUNTIF(L50:L63,AI12)","v":0},{"$f":"AJ12/(AL4-AJ13)","v":0},{"$f":"IF(AK12=0,0,(AK12*((LOG(AK12))/LOG(2))))","v":0},null,{"$f":"N12","v":212},{"$f":"COUNTIF(L64:L77,AN12)","v":0},{"$f":"AO12/(AQ4-AO13)","v":0},{"$f":"IF(AP12=0,0,(AP12*((LOG(AP12))/LOG(2))))","v":0},null,{"$f":"N12","v":212},{"$f":"COUNTIF(L78:L91,AS12)","v":0},{"$f":"AT12/(AV4-AT13)","v":0},{"$f":"IF(AU12=0,0,(AU12*((LOG(AU12))/LOG(2))))","v":0}]
[21,754,12,764,24,781,null,null,null,null,0,212,null,221,{"$f":"COUNTIF($L$7:$L$500,N13)","v":40},{"$f":"O13/$Q$4","v":0.47058823529411764},{"$f":"IF(P13=0,0,(P13*((LOG(P13))/LOG(2))))","v":-0.51174721941192436},null,null,{"$f":"N13","v":221},{"$f":"COUNTIF(L7:L20,T13)","v":6},null,null,null,{"$f":"N13","v":221},{"$f":"COUNTIF(L21:L34,Y13)","v":7},null,null,null,{"$f":"N13","v":221},{"$f":"COUNTIF(L35:L49,AD13)","v":7},null,null,null,{"$f":"N13","v":221},{"$f":"COUNTIF(L50:L63,AI13)","v":5},null,null,null,{"$f":"N13","v":221},{"$f":"COUNTIF(L64:L77,AN13)","v":7},null,null,null,{"$f":"N13","v":221},{"$f":"COUNTIF(L78:L91,AS13)","v":8}]
[21,931,21,934,11,941,null,null,null,null,0,221,null,222,{"$f":"COUNTIF($L$7:$L$500,N14)","v":9},{"$f":"O14/$Q$4","v":0.10588235294117647},{"$f":"IF(P14=0,0,(P14*((LOG(P14))/LOG(2))))","v":-0.34300227543833534},null,null,{"$f":"N14","v":222},{"$f":"COUNTIF(L7:L20,T14)","v":2},{"$f":"U14/(W4-U13)","v":0.25},{"$f":"IF(V14=0,0,(V14*((LOG(V14))/LOG(2))))","v":-0.5},null,{"$f":"N14","v":222},{"$f":"COUNTIF(L21:L34,Y14)","v":1},{"$f":"Z14/(AB4-Z13)","v":0.14285714285714285},{"$f":"IF(AA14=0,0,(AA14*((LOG(AA14))/LOG(2))))","v":-0.40105070315108626},null,{"$f":"N14","v":222},{"$f":"COUNTIF(L35:L49,AD14)","v":1},{"$f":"AE14/(AG4-AE13)","v":0.125},{"$f":"IF(AF14=0,0,(AF14*((LOG(AF14))/LOG(2))))","v":-0.375},null,{"$f":"N14","v":222},{"$f":"COUNTIF(L50:L63,AI14)","v":3},{"$f":"AJ14/(AL4-AJ13)","v":0.33333333333333331},{"$f":"IF(AK14=0,0,(AK14*((LOG(AK14))/LOG(2))))","v":-0.52832083357371862},null,{"$f":"N14","v":222},{"$f":"COUNTIF(L64:L77,AN14)","v":1},{"$f":"AO14/(AQ4-AO13)","v":0.14285714285714285},{"$f":"IF(AP14=0,0,(AP14*((LOG(AP14))/LOG(2))))","v":-0.40105070315108626},null,{"$f":"N14","v":222},{"$f":"COUNTIF(L78:L91,AS14)","v":1},{"$f":"AT14/(AV4-AT13)","v":0.16666666666666666},{"$f":"IF(AU14=0,0,(AU14*((LOG(AU14))/LOG(2))))","v":-0.43082708345352599}]
[21,1053,12,1062,13,1070,null,null,null,null,0,211,null,null,null,{"$f":"SUM(P7:P14)","v":1},{"$f":"-SUM(Q7:Q14)","v":1.5343299313025622},null,null,null,null,{"$f":"SUM(V7:V14)","v":1},{"$f":"-SUM(W7:W14)","v":1.2987949406953985},null,null,null,{"$f":"SUM(AA7:AA14)","v":1},{"$f":"-SUM(AB7:AB14)","v":0.59167277858232736},null,null,null,{"$f":"SUM(AF7:AF14)","v":1},{"$f":"-SUM(AG7:AG14)","v":0.5435644431995964},null,null,null,{"$f":"SUM(AK7:AK14)","v":1},{"$f":"-SUM(AL7:AL14)","v":1.3516441151533922},null,null,null,{"$f":"SUM(AP7:AP14)","v":1},{"$f":"-SUM(AQ7:AQ14)","v":0.59167277858232736},null,null,null,{"$f":"SUM(AU7:AU14)","v":1},{"$f":"-SUM(AV7:AV14)","v":0.65002242164835411}]
[21,1166,12,1184,13,1195,null,null,null,null,0,211,null,null,null,"U=",{"$f":"Q15/(LOG(Q4)/LOG(2))","v":0.23938778997730309},null,null,null,null,"U1=",{"$f":"W15/(LOG(W4)/LOG(2))","v":0.34112788728230581},null,null,null,"U2=",{"$f":"AB15/(LOG(AB4)/LOG(2))","v":0.15540258018881267},null,null,null,"U3=",{"$f":"AG15/(LOG(AG4)/LOG(2))","v":0.13912968123821584},null,null,null,"U4=",{"$f":"AL15/(LOG(AL4)/LOG(2))","v":0.35500869838079741},null,null,null,"U5=",{"$f":"AQ15/(LOG(AQ4)/LOG(2))","v":0.15540258018881267},null,null,null,"U6=",{"$f":"AV15/(LOG(AV4)/LOG(2))","v":0.17072808680969079}]
[21,1292,21,1295,22,1297,null,null,null,null,0,222]
[21,1395,21,1397,11,1405,null,null,null,null,0,221]
[21,1497,21,1499,11,1507,null,null,null,null,0,221,null,"Total Target Seq"]
[21,1601,12,1613,13,1628,null,null,null,null,0,211,null,{"$f":"COUNTIF(L7:L91,G3)","v":40},null,14,14,15,14,14,14]
[21,1725,21,1729,11,1748,null,null,null,null,0,221,null,null,null,"% of reinforcement given in 6 equal intervals based on number of trials "]
[21,1877,12,1888,13,1894,null,null,null,null,0,211,null,null,null,"%_1","%_2","%_3","%_4","%_5","%_6"]
[21,1991,21,1995,11,2003,null,null,null,null,0,221,null,null,"target sequence",{"$f":"$G$3","v":221},{"$f":"$G$3","v":221},{"$f":"$G$3","v":221},{"$f":"$G$3","v":221},{"$f":"$G$3","v":221},{"$f":"$G$3","v":221}]
[21,2165,21,2171,11,2181,null,null,null,null,0,221,null,null,"total reinforcement",{"$f":"U13","v":6},{"$f":"Z13","v":7},{"$f":"AE13","v":7},{"$f":"AJ13","v":5},{"$f":"AO13","v":7},{"$f":"AT13","v":8}]
[21,2286,21,2289,11,2301,null,null,null,null,0,221,null,null,"% target"]
[21,2392,12,2403,13,2424,null,null,null,null,0,211,null,null,"CCRF"]
[21,2519,21,2521,11,2535,null,null,null,null,0,221,null,null,"% CCRf"]
[21,2664,12,2672,13,2681,null,null,null,null,0,211,null,null,"average response rate",{"$f":"F20/P20","v":116.28571428571429},{"$f":"(F34-F20)/Q20","v":133.57142857142858},{"$f":"(F49-F34)/R20","v":151.4},{"$f":"(F63-F49)/S20","v":156.64285714285714},{"$f":"(F77-F63)/T20","v":135.5},{"$f":"(F91-F77)/U20","v":136.35714285714286}]
[21,2778,21,2780,22,2783,null,null,null,null,0,222]
[21,2877,21,2879,11,2889,null,null,null,null,0,221]
[21,3048,12,3057,13,3067,null,null,null,null,0,211]
[21,3164,12,3175,13,3184,null,null,null,null,0,211]
[21,3279,21,3281,11,3290,null,null,null,null,0,221]
[21,3483,12,3496,13,3498,null,null,null,null,0,211]
[21,3591,21,3594,11,3602,null,null,null,null,0,221]
[21,3693,21,3697,22,3701,null,null,null,null,0,222]
[21,3806,21,3808,11,3816,null,null,null,null,0,221]
[21,3945,12,3954,13,3966,null,null,null,null,0,211]
[21,4061,12,4074,13,4083,null,null,null,null,0,211]
[21,4179,12,4222,13,4232,null,null,null,null,0,211]
[21,4330,21,4333,11,4376,null,null,null,null,0,221]
[21,4469,21,4472,11,4518,null,null,null,null,0,221]
[21,4703,21,4709,11,4718,null,null,null,null,0,221]
[21,5008,12,5027,13,5033,null,null,null,null,0,211]
[21,5129,21,5133,11,5144,null,null,null,null,0,221]
[21,5295,12,5307,13,5315,null,null,null,null,0,211]
[21,5411,12,5424,13,5430,null,null,null,null,0,211]
[21,5528,21,5532,11,5550,null,null,null,null,0,221]
[21,5743,12,5754,13,5769,null,null,null,null,0,211]
[21,5868,21,5870,22,5872,null,null,null,null,0,222]
[21,5968,21,5973,22,5975,null,null,null,null,0,222]
[12,6079,14,6088,13,6091,null,null,null,null,0,111]
[21,6191,21,6196,11,6210,null,null,null,null,0,221]
[21,6371,12,6382,13,6390,null,null,null,null,0,211]
[21,6487,21,6489,11,6503,null,null,null,null,0,221]
[21,6807,12,6821,13,6831,null,null,null,null,0,211]
[21,6929,21,6931,11,6941,null,null,null,null,0,221]
[21,7161,12,7172,13,7180,null,null,null,null,0,211]
[21,7277,12,7291,13,7300,null,null,null,null,0,211]
[21,7394,21,7400,22,7404,null,null,null,null,0,222]
[21,7497,21,7503,11,7518,null,null,null,null,0,221]
[21,7697,21,7699,11,7708,null,null,null,null,0,221]
[21,7927,12,7950,13,7962,null,null,null,null,0,211]
[21,8059,21,8063,11,8075,null,null,null,null,0,221]
[21,8263,21,8266,11,8280,null,null,null,null,0,221]
[21,8437,12,8447,13,8454,null,null,null,null,0,211]
[21,8568,21,8572,11,8582,null,null,null,null,0,221]
[21,8712,21,8716,11,8724,null,null,null,null,0,221]
[21,8888,12,8903,13,8911,null,null,null,null,0,211]
[21,9019,21,9022,11,9030,null,null,null,null,0,221]
[21,9143,21,9146,11,9154,null,null,null,null,0,221]
[21,9246,12,9255,13,9258,null,null,null,null,0,211]
[21,9358,12,9375,13,9383,null,null,null,null,0,211]
[21,9481,12,9493,13,9501,null,null,null,null,0,211]
[21,9596,21,9599,11,9610,null,null,null,null,0,221]
[21,9731,12,9742,13,9753,null,null,null,null,0,211]
[21,9850,21,9856,22,9859,null,null,null,null,0,222]
[21,9955,21,9961,11,9970,null,null,null,null,0,221]
[21,10083,12,10094,13,10102,null,null,null,null,0,211]
[21,10197,12,10216,13,10221,null,null,null,null,0,211]
[21,10317,21,10322,11,10331,null,null,null,null,0,221]
[21,10454,12,10465,13,10486,null,null,null,null,0,211]
[21,10584,21,10588,11,10598,null,null,null,null,0,221]
[21,10766,21,10771,11,10780,null,null,null,null,0,221]
[21,10887,21,10891,11,10899,null,null,null,null,0,221]
[21,11031,21,11033,11,11046,null,null,null,null,0,221]
[21,11225,12,11241,13,11247,null,null,null,null,0,211]
[21,11347,21,11349,22,11352,null,null,null,null,0,222]
[21,11447,21,11450,11,11462,null,null,null,null,0,221]
[21,11625,12,11635,13,11647,null,null,null,null,0,211]
[21,11745,21,11749,11,11768,null,null,null,null,1,221]