{"text_format":"1","workbook":"xlsx","n_sheets":33,"sheets":["Sample Report","Summary","Start","!N20192T.AYL","!N202B0T.AYL","!N20385T.AYL","!N204A1T.AYL","!N20592T.AYL","!N206A3T.AYL","!N207A1T.AYL","!N20893T.AYL","!N20994T.AYL","!N21094T.AYL","!N211A5T.AYL","!N212A0T.AYL","!N213A3T.AYL","!N21491T.AYL","!N21592T.AYL","!N216A1T.AYL","!N21793T.AYL","!N218A1T.AYL","!N219A4T.AYL","!N22094T.AYL","!N221A1T.AYL","!N222A1T.AYL","!N22395T.AYL","!N22490T.AYL","!N225A0T.AYL","!N22684T.AYL","!N227A3T.AYL","!N30194T.AYL","!N30295T.AYL","!N30494T.AYL"],"not_rendered":{"charts":0,"images":0,"macros":1,"external_links":0,"defined_names":0,"comments":0,"pivot_tables":0},"unopened":[],"bounds":{"document_bytes":16777216,"sheet_cells":100000,"rows_first":2000,"rows_last":500,"rows_between":2000,"halvings":0,"cell_chars":16384,"cell_head_chars":4096},"cells_cut":0,"cells_raw":0,"read":"whole","date_system":"1900"}

{"sheet":"Sample Report","index":0,"n_rows":12,"n_cols":11,"rows_kept":12,"cut":false,"hidden":true,"merged":[[7,0,7,6]]}
[]
["Date"]
["Hen"]
["Program"]
["Start at 999999"]
["Sequence component 1","Time 1","Seqeunce Component 2","Time 2","Seqeunce Component 3","Time 3","Correct   0 = No 1=Yes",null,null,"Seqeunce","Time"]
[12,7,12,42,13,18,"if 77 new line,                                  if 31 or 41 = yes new line on 77, ",null,null,"=string of Seqeunce compponent 1, 2 & 3","=time 3"]
["This continues until ther is a 1 on its own to indicate start of summary data"]
[null,null,null,null,null,null,null,null,null,"10-19 =1"]
["Summary Data ",null,null,null,null,null,null,null,null,"20-29 =2"]
["Correct","Incorrect","Rft","total","Av Correct","Av Incorrect","Percent correct","Time",null,"in this example the seqeunce would be 111"]
[40,33,40,73,23.95,15,54,806]

{"sheet":"Summary","index":1,"n_rows":32,"n_cols":24,"rows_kept":32,"cut":false,"hidden":false,"merged":[]}
[]
["Day","Date","Average Response Rate","Target %","RF for non correct sequence","U Value",null,null,null,null,"Block 1","Block 2","Block 3","Block 4","Block 5","Block 6"]
[1,{"$f":"'!N20192T.AYL'!B2:C2","v":"<date>"},{"$f":"('!N20192T.AYL'!F181/60)/'!N20192T.AYL'!Q3","v":2.1428571428571428},{"$f":"'!N20192T.AYL'!N20/'!N20192T.AYL'!Q3","v":6.8571428571428575E-2},{"$f":"SUM('!N20192T.AYL'!L20:Q20)/'!N20192T.AYL'!Q3","v":1.04},{"$f":"'!N20192T.AYL'!Q16","v":0.19336808729912044},null,null,null,"Average Response Rate",{"$f":"AVERAGE(C3:C7)","v":2.3316361362687159},{"$f":"AVERAGE(C8:C12)","v":3.2643331066764061},{"$f":"AVERAGE(C13:C17)","v":2.4311037952417265},{"$f":"AVERAGE(C18:C22)","v":2.0407841391157295},{"$f":"AVERAGE(C23:C27)","v":1.9718847652464835},{"$f":"AVERAGE(C28:C32)","v":1.5581748464149374}]
[2,{"$f":"'!N202B0T.AYL'!B2:C2","v":"<date>"},{"$f":"('!N202B0T.AYL'!F143/60)/'!N202B0T.AYL'!Q3","v":2.91338199513382},{"$f":"'!N202B0T.AYL'!N20/'!N202B0T.AYL'!Q3","v":5.1094890510948905E-2},{"$f":"SUM('!N202B0T.AYL'!L20:Q20)/'!N202B0T.AYL'!Q3","v":1.197080291970803},{"$f":"'!N202B0T.AYL'!Q16","v":0.15182723710275497},null,null,null,"Target %",{"$f":"AVERAGE(D3:D7)","v":0.12686315480318552},{"$f":"AVERAGE(D8:D12)","v":0.21734096419074894},{"$f":"AVERAGE(D13:D17)","v":0.5582541699783079},{"$f":"AVERAGE(D18:D22)","v":0.64225318859807623},{"$f":"AVERAGE(D23:D27)","v":0.43848586131175199},{"$f":"AVERAGE(D28:D32)","v":0.57768501524463145}]
[3,{"$f":"'!N20385T.AYL'!B2:C2","v":"<date>"},{"$f":"('!N20385T.AYL'!F180/60)/'!N20385T.AYL'!Q3","v":2.0794061302681994},{"$f":"'!N20385T.AYL'!N20/'!N20385T.AYL'!Q3","v":0.10344827586206896},{"$f":"SUM('!N20385T.AYL'!L20:Q20)/'!N20385T.AYL'!Q3","v":1.0747126436781609},{"$f":"'!N20385T.AYL'!Q16","v":0.11543030102934101},null,null,null,"CCRF",{"$f":"AVERAGE(E3:E7)","v":1.2263723429637401},{"$f":"AVERAGE(E8:E12)","v":1.9157993142872836},{"$f":"AVERAGE(E13:E17)","v":3.655727962624514},{"$f":"AVERAGE(E18:E22)","v":4.6707747742405861},{"$f":"AVERAGE(E23:E27)","v":2.1581955225301495},{"$f":"AVERAGE(E28:E32)","v":3.8311633908154183}]
[4,{"$f":"'!N204A1T.AYL'!B2:C2","v":"<date>"},{"$f":"('!N204A1T.AYL'!F144/60)/'!N204A1T.AYL'!Q3","v":2.1678743961352658},{"$f":"'!N204A1T.AYL'!N20/'!N204A1T.AYL'!Q3","v":0.17391304347826086},{"$f":"SUM('!N204A1T.AYL'!L20:Q20)/'!N204A1T.AYL'!Q3","v":1.3115942028985508},{"$f":"'!N204A1T.AYL'!Q16","v":0.19166279449486759},null,null,null,"U Value",{"$f":"AVERAGE(F3:F7)","v":0.16071980026061816},{"$f":"AVERAGE(F8:F12)","v":0.25797608667728616},{"$f":"AVERAGE(F13:F17)","v":0.23164911352528961},{"$f":"AVERAGE(F18:F22)","v":0.20124631667444531},{"$f":"AVERAGE(F23:F27)","v":0.17390620110469318},{"$f":"AVERAGE(F28:F32)","v":0.18835277869313846}]
[5,{"$f":"'!N20592T.AYL'!B2:C2","v":"<date>"},{"$f":"('!N20592T.AYL'!F124/60)/'!N20592T.AYL'!Q3","v":2.3546610169491529},{"$f":"'!N20592T.AYL'!N20/'!N20592T.AYL'!Q3","v":0.23728813559322035},{"$f":"SUM('!N20592T.AYL'!L20:Q20)/'!N20592T.AYL'!Q3","v":1.5084745762711864},{"$f":"'!N20592T.AYL'!Q16","v":0.15131058137700684}]
[6,{"$f":"'!N206A3T.AYL'!B2:C2","v":"<date>"},{"$f":"('!N206A3T.AYL'!F129/60)/'!N206A3T.AYL'!Q3","v":2.8915989159891602},{"$f":"'!N206A3T.AYL'!N20/'!N206A3T.AYL'!Q3","v":0.15447154471544716},{"$f":"SUM('!N206A3T.AYL'!L20:Q20)/'!N206A3T.AYL'!Q3","v":1.3902439024390243},{"$f":"'!N206A3T.AYL'!Q16","v":0.10847651935450511}]
[7,{"$f":"'!N207A1T.AYL'!B2:C2","v":"<date>"},{"$f":"('!N207A1T.AYL'!F98/60)/'!N207A1T.AYL'!Q3","v":3.4170289855072467},{"$f":"'!N207A1T.AYL'!N20/'!N207A1T.AYL'!Q3","v":0.25},{"$f":"SUM('!N207A1T.AYL'!L20:Q20)/'!N207A1T.AYL'!Q3","v":1.7934782608695652},{"$f":"'!N207A1T.AYL'!Q16","v":0.21011243818347652},{"$f":"K3","v":2.3316361362687159},{"$f":"L3","v":3.2643331066764061},2.4311037952417265,2.0407841391157295,1.9718847652464835,1.5581748464149374,{"$f":"K4","v":0.12686315480318552},{"$f":"L4","v":0.21734096419074894},0.5582541699783079,0.64225318859807623,0.43848586131175199,0.57768501524463145,{"$f":"K6","v":0.16071980026061816},{"$f":"L6","v":0.25797608667728616},0.23164911352528961,0.20124631667444531,0.17390620110469318,0.18835277869313846]
[8,{"$f":"'!N20893T.AYL'!B2:C2","v":"<date>"},{"$f":"('!N20893T.AYL'!F97/60)/'!N20893T.AYL'!Q3","v":4.3255434782608697},{"$f":"'!N20893T.AYL'!N20/'!N20893T.AYL'!Q3","v":0.15217391304347827},{"$f":"SUM('!N20893T.AYL'!L20:Q20)/'!N20893T.AYL'!Q3","v":1.6956521739130435},{"$f":"'!N20893T.AYL'!Q16","v":0.15919083998354674}]
[9,{"$f":"'!N20994T.AYL'!B2:C2","v":"<date>"},{"$f":"('!N20994T.AYL'!F115/60)/'!N20994T.AYL'!Q3","v":2.4998470948012232},{"$f":"'!N20994T.AYL'!N20/'!N20994T.AYL'!Q3","v":0.24770642201834864},{"$f":"SUM('!N20994T.AYL'!L20:Q20)/'!N20994T.AYL'!Q3","v":1.6055045871559632},{"$f":"'!N20994T.AYL'!Q16","v":0.4104141315084332}]
[10,{"$f":"'!N21094T.AYL'!B2:C2","v":"<date>"},{"$f":"('!N21094T.AYL'!F91/60)/'!N21094T.AYL'!Q3","v":3.1876470588235293},{"$f":"'!N21094T.AYL'!N20/'!N21094T.AYL'!Q3","v":0.28235294117647058},{"$f":"SUM('!N21094T.AYL'!L20:Q20)/'!N21094T.AYL'!Q3","v":3.0941176470588236},{"$f":"'!N21094T.AYL'!Q16","v":0.40168650435646919}]
[11,{"$f":"'!N211A5T.AYL'!B2:C2","v":"<date>"},{"$f":"('!N211A5T.AYL'!F80/60)/'!N211A5T.AYL'!Q3","v":3.7909909909909913},{"$f":"'!N211A5T.AYL'!N20/'!N211A5T.AYL'!Q3","v":0.36486486486486486},{"$f":"SUM('!N211A5T.AYL'!L20:Q20)/'!N211A5T.AYL'!Q3","v":2.2027027027027026},{"$f":"'!N211A5T.AYL'!Q16","v":0.23556162987510337}]
[12,{"$f":"'!N212A0T.AYL'!B2:C2","v":"<date>"},{"$f":"('!N212A0T.AYL'!F80/60)/'!N212A0T.AYL'!Q3","v":1.84481981981982},{"$f":"'!N212A0T.AYL'!N20/'!N212A0T.AYL'!Q3","v":0.51351351351351349},{"$f":"SUM('!N212A0T.AYL'!L20:Q20)/'!N212A0T.AYL'!Q3","v":2.3513513513513513},{"$f":"'!N212A0T.AYL'!Q16","v":0.20038823484102183}]
[13,{"$f":"'!N213A3T.AYL'!B2:C2","v":"<date>"},{"$f":"('!N213A3T.AYL'!F61/60)/'!N213A3T.AYL'!Q3","v":2.831818181818182},{"$f":"'!N213A3T.AYL'!N20/'!N213A3T.AYL'!Q3","v":0.65454545454545454},{"$f":"SUM('!N213A3T.AYL'!L20:Q20)/'!N213A3T.AYL'!Q3","v":4.8181818181818183},{"$f":"'!N213A3T.AYL'!Q16","v":0.26355466074521589}]
[14,{"$f":"'!N21491T.AYL'!B2:C2","v":"<date>"},{"$f":"('!N21491T.AYL'!F64/60)/'!N21491T.AYL'!Q3","v":1.7974137931034482},{"$f":"'!N21491T.AYL'!N20/'!N21491T.AYL'!Q3","v":0.65517241379310343},{"$f":"SUM('!N21491T.AYL'!L20:Q20)/'!N21491T.AYL'!Q3","v":4.6206896551724137},{"$f":"'!N21491T.AYL'!Q16","v":0.22200494324144376}]
[15,{"$f":"'!N21592T.AYL'!B2:C2","v":"<date>"},{"$f":"('!N21592T.AYL'!F69/60)/'!N21592T.AYL'!Q3","v":1.8904761904761904},{"$f":"'!N21592T.AYL'!N20/'!N21592T.AYL'!Q3","v":0.60317460317460314},{"$f":"SUM('!N21592T.AYL'!L20:Q20)/'!N21592T.AYL'!Q3","v":4.2857142857142856},{"$f":"'!N21592T.AYL'!Q16","v":0.23673609892366332}]
[16,{"$f":"'!N216A1T.AYL'!B2:C2","v":"<date>"},{"$f":"('!N216A1T.AYL'!F59/60)/'!N216A1T.AYL'!Q3","v":2.0647798742138366},{"$f":"'!N216A1T.AYL'!N20/'!N216A1T.AYL'!Q3","v":0.71698113207547165},{"$f":"SUM('!N216A1T.AYL'!L20:Q20)/'!N216A1T.AYL'!Q3","v":5.2264150943396226},{"$f":"'!N216A1T.AYL'!Q16","v":0.19803505277379119}]
[17,{"$f":"'!N21793T.AYL'!B2:C2","v":"<date>"},{"$f":"('!N21793T.AYL'!F67/60)/'!N21793T.AYL'!Q3","v":2.1177595628415302},{"$f":"'!N21793T.AYL'!N20/'!N21793T.AYL'!Q3","v":0.57377049180327866},{"$f":"SUM('!N21793T.AYL'!L20:Q20)/'!N21793T.AYL'!Q3","v":4.360655737704918},{"$f":"'!N21793T.AYL'!Q16","v":0.23779885168201703}]
[18,{"$f":"'!N218A1T.AYL'!B2:C2","v":"<date>"},{"$f":"('!N218A1T.AYL'!F64/60)/'!N218A1T.AYL'!Q3","v":2.1876436781609199},{"$f":"'!N218A1T.AYL'!N20/'!N218A1T.AYL'!Q3","v":0.65517241379310343},{"$f":"SUM('!N218A1T.AYL'!L20:Q20)/'!N218A1T.AYL'!Q3","v":4.6206896551724137},{"$f":"'!N218A1T.AYL'!Q16","v":0.17550777277839635}]
[19,{"$f":"'!N219A4T.AYL'!B2:C2","v":"<date>"},{"$f":"('!N219A4T.AYL'!F64/60)/'!N219A4T.AYL'!Q3","v":1.9071839080459769},{"$f":"'!N219A4T.AYL'!N20/'!N219A4T.AYL'!Q3","v":0.65517241379310343},{"$f":"SUM('!N219A4T.AYL'!L20:Q20)/'!N219A4T.AYL'!Q3","v":4.6206896551724137},{"$f":"'!N219A4T.AYL'!Q16","v":0.2026553940052564}]
[20,{"$f":"'!N22094T.AYL'!B2:C2","v":"<date>"},{"$f":"('!N22094T.AYL'!F65/60)/'!N22094T.AYL'!Q3","v":1.9265536723163843},{"$f":"'!N22094T.AYL'!N20/'!N22094T.AYL'!Q3","v":0.61016949152542377},{"$f":"SUM('!N22094T.AYL'!L20:Q20)/'!N22094T.AYL'!Q3","v":4.5254237288135597},{"$f":"'!N22094T.AYL'!Q16","v":0.19223451213276566}]
[21,{"$f":"'!N221A1T.AYL'!B2:C2","v":"<date>"},{"$f":"('!N221A1T.AYL'!F86/60)/'!N221A1T.AYL'!Q3","v":1.9300000000000002},{"$f":"'!N221A1T.AYL'!N20/'!N221A1T.AYL'!Q3","v":0.4375},{"$f":"SUM('!N221A1T.AYL'!L20:Q20)/'!N221A1T.AYL'!Q3","v":2.1625000000000001},{"$f":"'!N221A1T.AYL'!Q16","v":0.18783257519147789}]
[22,{"$f":"'!N222A1T.AYL'!B2:C2","v":"<date>"},{"$f":"('!N222A1T.AYL'!F91/60)/'!N222A1T.AYL'!Q3","v":2.0545098039215683},{"$f":"'!N222A1T.AYL'!N20/'!N222A1T.AYL'!Q3","v":0.37647058823529411},{"$f":"SUM('!N222A1T.AYL'!L20:Q20)/'!N222A1T.AYL'!Q3","v":2.0117647058823529},{"$f":"'!N222A1T.AYL'!Q16","v":0.1716314996189825}]
[23,{"$f":"'!N22395T.AYL'!B2:C2","v":"<date>"},{"$f":"('!N22395T.AYL'!F79/60)/'!N22395T.AYL'!Q3","v":1.9981735159817353},{"$f":"'!N22395T.AYL'!N20/'!N22395T.AYL'!Q3","v":0.50684931506849318},{"$f":"SUM('!N22395T.AYL'!L20:Q20)/'!N22395T.AYL'!Q3","v":2.3561643835616439},{"$f":"'!N22395T.AYL'!Q16","v":0.16153359818405658}]
[24,{"$f":"'!N22490T.AYL'!B2:C2","v":"<date>"},{"$f":"('!N22490T.AYL'!F85/60)/'!N22490T.AYL'!Q3","v":2.0225738396624471},{"$f":"'!N22490T.AYL'!N20/'!N22490T.AYL'!Q3","v":0.44303797468354428},{"$f":"SUM('!N22490T.AYL'!L20:Q20)/'!N22490T.AYL'!Q3","v":2.1772151898734178},{"$f":"'!N22490T.AYL'!Q16","v":0.19440642191536919}]
[25,{"$f":"'!N225A0T.AYL'!B2:C2","v":"<date>"},{"$f":"('!N225A0T.AYL'!F90/60)/'!N225A0T.AYL'!Q3","v":1.8541666666666667},{"$f":"'!N225A0T.AYL'!N20/'!N225A0T.AYL'!Q3","v":0.42857142857142855},{"$f":"SUM('!N225A0T.AYL'!L20:Q20)/'!N225A0T.AYL'!Q3","v":2.0833333333333335},{"$f":"'!N225A0T.AYL'!Q16","v":0.15412691061357991}]
[26,{"$f":"'!N22684T.AYL'!B2:C2","v":"<date>"},{"$f":"('!N22684T.AYL'!F83/60)/'!N22684T.AYL'!Q3","v":0},{"$f":"'!N22684T.AYL'!N20/'!N22684T.AYL'!Q3","v":0.50649350649350644},{"$f":"SUM('!N22684T.AYL'!L20:Q20)/'!N22684T.AYL'!Q3","v":3.5844155844155843},{"$f":"'!N22684T.AYL'!Q16","v":0.19093048146653657}]
[27,{"$f":"'!N227A3T.AYL'!B2:C2","v":"<date>"},{"$f":"('!N227A3T.AYL'!F71/60)/'!N227A3T.AYL'!Q3","v":1.8951282051282052},{"$f":"'!N227A3T.AYL'!N20/'!N227A3T.AYL'!Q3","v":0.55384615384615388},{"$f":"SUM('!N227A3T.AYL'!L20:Q20)/'!N227A3T.AYL'!Q3","v":2.6},{"$f":"'!N227A3T.AYL'!Q16","v":0.19147757560728587}]
[28,{"$f":"'!N30194T.AYL'!B2:C2","v":"<date>"},{"$f":"('!N30194T.AYL'!F67/60)/'!N30194T.AYL'!Q3","v":1.9464480874316941},{"$f":"'!N30194T.AYL'!N20/'!N30194T.AYL'!Q3","v":0.62295081967213117},{"$f":"SUM('!N30194T.AYL'!L20:Q20)/'!N30194T.AYL'!Q3","v":4.4098360655737707},{"$f":"'!N30194T.AYL'!Q16","v":0.17758618049873071}]
[29,{"$f":"'!N30295T.AYL'!B2:C2","v":"<date>"},{"$f":"('!N30295T.AYL'!F65/60)/'!N30295T.AYL'!Q3","v":1.8706214689265535},{"$f":"'!N30295T.AYL'!N20/'!N30295T.AYL'!Q3","v":0.66101694915254239},{"$f":"SUM('!N30295T.AYL'!L20:Q20)/'!N30295T.AYL'!Q3","v":4.5762711864406782},{"$f":"'!N30295T.AYL'!Q16","v":0.18407096546909416}]
[30,{"$f":"'!N30494T.AYL'!B2:C2","v":"<date>"},{"$f":"('!N30494T.AYL'!F74/60)/'!N30494T.AYL'!Q3","v":2.0786764705882352},{"$f":"'!N30494T.AYL'!N20/'!N30494T.AYL'!Q3","v":0.54411764705882348},{"$f":"SUM('!N30494T.AYL'!L20:Q20)/'!N30494T.AYL'!Q3","v":3.9852941176470589},{"$f":"'!N30494T.AYL'!Q16","v":0.19769869042404506}]

{"sheet":"Start","index":2,"n_rows":36,"n_cols":10,"rows_kept":36,"cut":false,"hidden":false,"merged":[]}
[null,null,null,null,null,"Use Folder 51",null,"Auto Clean Up",null,"Correct sequence"]
[null,null,null,null,null,false,null,true,null,211]
[]
["Working with Folder",null,null,null,null,null,"Process All/Or Pick A number: ALL or an integer"]
["F:\\Possum Chapter\\Raw Data\\Taylor\\repeat phase 1 ANY\\",null,null,null,null,null,"ALL"]
["Filenames:"]
["!N216A1T.AYL",null,null,null,null,null,"Paint Cells"]
["!N21793T.AYL",null,null,null,null,null,false]
["!N218A1T.AYL"]
["!N219A4T.AYL"]
["!N22094T.AYL"]
["!N221A1T.AYL"]
["!N222A1T.AYL"]
["!N22395T.AYL"]
["!N22490T.AYL"]
["!N225A0T.AYL"]
["!N22684T.AYL"]
["!N227A3T.AYL"]
["!N30194T.AYL"]
["!N30295T.AYL"]
["!N30494T.AYL"]
["!N20192T.AYL"]
["!N202B0T.AYL"]
["!N20385T.AYL"]
["!N204A1T.AYL"]
["!N20592T.AYL"]
["!N206A3T.AYL"]
["!N207A1T.AYL"]
["!N20893T.AYL"]
["!N20994T.AYL"]
["!N21094T.AYL"]
["!N211A5T.AYL"]
["!N212A0T.AYL"]
["!N213A3T.AYL"]
["!N21491T.AYL"]
["!N21592T.AYL"]

{"sheet":"!N20192T.AYL","index":3,"n_rows":181,"n_cols":48,"rows_kept":181,"cut":false,"hidden":false,"merged":[[1,1,1,2],[5,13,5,14],[18,13,18,14],[19,13,19,14],[4,19,4,22],[5,19,5,20],[4,39,4,42],[5,39,5,40],[4,44,4,47],[5,44,5,45],[4,24,4,27],[5,24,5,25],[4,29,4,32],[5,29,5,30],[4,34,4,37],[5,34,5,35]]}
["Report for:!N20192T.AYL"]
["Date:","<date>"]
["Hen:","<hen>",null,null,null,"Correct Sequence",{"$f":"Start!J2","v":211},null,null,null,null,null,null,null,null,"Total Sequences in Data",{"$f":"4994-COUNTBLANK(L7:L5000)","v":175},null,null,null,null,"Total Sequences in Block Data",{"$f":"COUNTA(L7:L35)","v":29},null,null,null,"Total Sequences in Block Data",{"$f":"COUNTA(L36:L64)","v":29},null,null,null,"Total Sequences in Block Data",{"$f":"COUNTA(L65:L94)","v":30},null,null,null,"Total Sequences in Block Data",{"$f":"COUNTA(L95:L123)","v":29},null,null,null,"Total Sequences in Block Data",{"$f":"COUNTA(L124:L152)","v":29},null,null,null,"Total Sequences in Block Data",{"$f":"COUNTA(L153:L181)","v":29}]
[null,null,null,null,null,null,null,null,null,null,null,null,null,null,null,"Total Sequences in Summary",{"$f":"SUM(O7:O14)","v":175},null,null,null,null,"Total Sequences in Block Summary",{"$f":"SUM(U7:U14)","v":29},null,null,null,"Total Sequences in Block Summary",{"$f":"SUM(Z7:Z14)","v":29},null,null,null,"Total Sequences in Block Summary",{"$f":"SUM(AE7:AE14)","v":30},null,null,null,"Total Sequences in Block Summary",{"$f":"SUM(AJ7:AJ14)","v":29},null,null,null,"Total Sequences in Block Summary",{"$f":"SUM(AO7:AO14)","v":29},null,null,null,"Total Sequences in Block Summary",{"$f":"SUM(AT7:AT14)","v":29}]
[null,null,null,null,null,null,null,null,null,null,null,null,null,null,null,null,null,null,null,"Block 1",null,null,null,null,"Block 2",null,null,null,null,"Block 3",null,null,null,null,"Block 4",null,null,null,null,"Block 5",null,null,null,null,"Block 6"]
["Sequence\nComponent\n1","Time\n1","Sequence\nComponent\n2","Time\n2","Sequence\nComponent\n3","Time\n3","Sequence\nComponent\n4","Time\n4","Sequence\nComponent\n5","Time\n5","Correct?\n0=No 1=Yes","Sequence",null,"Frequency",null,"Relative Frequency","Variability",null,null,"Frequency",null,"Relative Frequency","Variability",null,"Frequency",null,"Relative Frequency","Variability",null,"Frequency",null,"Relative Frequency","Variability",null,"Frequency",null,"Relative Frequency","Variability",null,"Frequency",null,"Relative Frequency","Variability",null,"Frequency",null,"Relative Frequency","Variability"]
[12,9,13,12,24,29,null,null,null,null,0,112,null,111,{"$f":"COUNTIF($L$7:$L$500,N7)","v":109},{"$f":"O7/$Q$4","v":0.62285714285714289},{"$f":"IF(P7=0,0,(P7*((LOG(P7))/LOG(2))))","v":-0.42542811308022205},null,null,{"$f":"N7","v":111},{"$f":"COUNTIF(L7:L35,T7)","v":14},{"$f":"U7/(W4-U11)","v":0.51851851851851849},{"$f":"IF(V7=0,0,(V7*((LOG(V7))/LOG(2))))","v":-0.49131318968452231},null,{"$f":"N7","v":111},{"$f":"COUNTIF(L36:L64,Y7)","v":13},{"$f":"Z7/(AB4-Z11)","v":0.5},{"$f":"IF(AA7=0,0,(AA7*((LOG(AA7))/LOG(2))))","v":-0.5},null,{"$f":"N7","v":111},{"$f":"COUNTIF(L65:L94,AD7)","v":18},{"$f":"AE7/(AG4-AE11)","v":0.62068965517241381},{"$f":"IF(AF7=0,0,(AF7*((LOG(AF7))/LOG(2))))","v":-0.4270692374598164},null,{"$f":"N7","v":111},{"$f":"COUNTIF(L95:L123,AI7)","v":18},{"$f":"AJ7/(AL4-AJ11)","v":0.6428571428571429},{"$f":"IF(AK7=0,0,(AK7*((LOG(AK7))/LOG(2))))","v":-0.40977637753840174},null,{"$f":"N7","v":111},{"$f":"COUNTIF(L124:L152,AN7)","v":24},{"$f":"AO7/(AQ4-AO11)","v":0.88888888888888884},{"$f":"IF(AP7=0,0,(AP7*((LOG(AP7))/LOG(2))))","v":-0.15104444572649992},null,{"$f":"N7","v":111},{"$f":"COUNTIF(L153:L181,AS7)","v":22},{"$f":"AT7/(AV4-AT11)","v":0.84615384615384615},{"$f":"IF(AU7=0,0,(AU7*((LOG(AU7))/LOG(2))))","v":-0.20392993034936494}]
[12,125,13,130,13,134,null,null,null,null,0,111,null,112,47,0.26857142857142857,-0.50937854987011721,null,null,112,{"$f":"COUNTIF(L7:L35,T8)","v":10},{"$f":"U8/(W4-U11)","v":0.37037037037037035},{"$f":"IF(V8=0,0,(V8*((LOG(V8))/LOG(2))))","v":-0.53072570639855787},null,112,{"$f":"COUNTIF(L36:L64,Y8)","v":13},{"$f":"Z8/(AB4-Z11)","v":0.5},{"$f":"IF(AA8=0,0,(AA8*((LOG(AA8))/LOG(2))))","v":-0.5},null,112,{"$f":"COUNTIF(L65:L94,AD8)","v":9},{"$f":"AE8/(AG4-AE11)","v":0.31034482758620691},{"$f":"IF(AF8=0,0,(AF8*((LOG(AF8))/LOG(2))))","v":-0.52387944631611505},null,112,{"$f":"COUNTIF(L95:L123,AI8)","v":8},{"$f":"AJ8/(AL4-AJ11)","v":0.2857142857142857},{"$f":"IF(AK8=0,0,(AK8*((LOG(AK8))/LOG(2))))","v":-0.51638712058788683},null,112,{"$f":"COUNTIF(L124:L152,AN8)","v":3},{"$f":"AO8/(AQ4-AO11)","v":0.1111111111111111},{"$f":"IF(AP8=0,0,(AP8*((LOG(AP8))/LOG(2))))","v":-0.3522138890491458},null,112,{"$f":"COUNTIF(L153:L181,AS8)","v":4},{"$f":"AT8/(AV4-AT11)","v":0.15384615384615385},{"$f":"IF(AU8=0,0,(AU8*((LOG(AU8))/LOG(2))))","v":-0.4154522643293988}]
[12,233,13,237,24,259,null,null,null,null,0,112,null,121,2,1.1428571428571429E-2,-7.3728126992369469E-2,null,null,121,{"$f":"COUNTIF(L7:L35,T9)","v":1},{"$f":"U9/(W4-U11)","v":3.7037037037037035E-2},{"$f":"IF(V9=0,0,(V9*((LOG(V9))/LOG(2))))","v":-0.1761069445245729},null,121,{"$f":"COUNTIF(L36:L64,Y9)","v":0},{"$f":"Z9/(AB4-Z11)","v":0},{"$f":"IF(AA9=0,0,(AA9*((LOG(AA9))/LOG(2))))","v":0},null,121,{"$f":"COUNTIF(L65:L94,AD9)","v":1},{"$f":"AE9/(AG4-AE11)","v":3.4482758620689655E-2},{"$f":"IF(AF9=0,0,(AF9*((LOG(AF9))/LOG(2))))","v":-0.16751658603888178},null,121,{"$f":"COUNTIF(L95:L123,AI9)","v":0},{"$f":"AJ9/(AL4-AJ11)","v":0},{"$f":"IF(AK9=0,0,(AK9*((LOG(AK9))/LOG(2))))","v":0},null,121,{"$f":"COUNTIF(L124:L152,AN9)","v":0},{"$f":"AO9/(AQ4-AO11)","v":0},{"$f":"IF(AP9=0,0,(AP9*((LOG(AP9))/LOG(2))))","v":0},null,121,{"$f":"COUNTIF(L153:L181,AS9)","v":0},{"$f":"AT9/(AV4-AT11)","v":0},{"$f":"IF(AU9=0,0,(AU9*((LOG(AU9))/LOG(2))))","v":0}]
[12,357,13,361,13,365,null,null,null,null,0,111,null,122,4,2.2857142857142857E-2,-0.12459911112759608,null,null,122,{"$f":"COUNTIF(L7:L35,T10)","v":2},{"$f":"U10/(W4-U11)","v":7.407407407407407E-2},{"$f":"IF(V10=0,0,(V10*((LOG(V10))/LOG(2))))","v":-0.27813981497507173},null,122,{"$f":"COUNTIF(L36:L64,Y10)","v":0},{"$f":"Z10/(AB4-Z11)","v":0},{"$f":"IF(AA10=0,0,(AA10*((LOG(AA10))/LOG(2))))","v":0},null,122,{"$f":"COUNTIF(L65:L94,AD10)","v":1},{"$f":"AE10/(AG4-AE11)","v":3.4482758620689655E-2},{"$f":"IF(AF10=0,0,(AF10*((LOG(AF10))/LOG(2))))","v":-0.16751658603888178},null,122,{"$f":"COUNTIF(L95:L123,AI10)","v":1},{"$f":"AJ10/(AL4-AJ11)","v":3.5714285714285712E-2},{"$f":"IF(AK10=0,0,(AK10*((LOG(AK10))/LOG(2))))","v":-0.17169124721634299},null,122,{"$f":"COUNTIF(L124:L152,AN10)","v":0},{"$f":"AO10/(AQ4-AO11)","v":0},{"$f":"IF(AP10=0,0,(AP10*((LOG(AP10))/LOG(2))))","v":0},null,122,{"$f":"COUNTIF(L153:L181,AS10)","v":0},{"$f":"AT10/(AV4-AT11)","v":0},{"$f":"IF(AU10=0,0,(AU10*((LOG(AU10))/LOG(2))))","v":0}]
[12,464,13,468,13,471,null,null,null,null,0,111,null,211,12,6.8571428571428575E-2,-0.26511419047619472,null,null,211,{"$f":"COUNTIF(L7:L35,T11)","v":2},null,null,null,211,{"$f":"COUNTIF(L36:L64,Y11)","v":3},null,null,null,211,{"$f":"COUNTIF(L65:L94,AD11)","v":1},null,null,null,211,{"$f":"COUNTIF(L95:L123,AI11)","v":1},null,null,null,211,{"$f":"COUNTIF(L124:L152,AN11)","v":2},null,null,null,211,{"$f":"COUNTIF(L153:L181,AS11)","v":3}]
[12,573,13,576,13,582,null,null,null,null,0,111,null,212,1,5.7142857142857143E-3,-4.2578349210470448E-2,null,null,212,{"$f":"COUNTIF(L7:L35,T12)","v":0},{"$f":"U12/(W4-U11)","v":0},{"$f":"IF(V12=0,0,(V12*((LOG(V12))/LOG(2))))","v":0},null,212,{"$f":"COUNTIF(L36:L64,Y12)","v":0},{"$f":"Z12/(AB4-Z11)","v":0},{"$f":"IF(AA12=0,0,(AA12*((LOG(AA12))/LOG(2))))","v":0},null,212,{"$f":"COUNTIF(L65:L94,AD12)","v":0},{"$f":"AE12/(AG4-AE11)","v":0},{"$f":"IF(AF12=0,0,(AF12*((LOG(AF12))/LOG(2))))","v":0},null,212,{"$f":"COUNTIF(L95:L123,AI12)","v":1},{"$f":"AJ12/(AL4-AJ11)","v":3.5714285714285712E-2},{"$f":"IF(AK12=0,0,(AK12*((LOG(AK12))/LOG(2))))","v":-0.17169124721634299},null,212,{"$f":"COUNTIF(L124:L152,AN12)","v":0},{"$f":"AO12/(AQ4-AO11)","v":0},{"$f":"IF(AP12=0,0,(AP12*((LOG(AP12))/LOG(2))))","v":0},null,212,{"$f":"COUNTIF(L153:L181,AS12)","v":0},{"$f":"AT12/(AV4-AT11)","v":0},{"$f":"IF(AU12=0,0,(AU12*((LOG(AU12))/LOG(2))))","v":0}]
[12,682,13,684,13,687,null,null,null,null,0,111,null,221,0,0,0,null,null,221,{"$f":"COUNTIF(L7:L35,T13)","v":0},{"$f":"U13/(W4-U11)","v":0},{"$f":"IF(V13=0,0,(V13*((LOG(V13))/LOG(2))))","v":0},null,221,{"$f":"COUNTIF(L36:L64,Y13)","v":0},{"$f":"Z13/(AB4-Z11)","v":0},{"$f":"IF(AA13=0,0,(AA13*((LOG(AA13))/LOG(2))))","v":0},null,221,{"$f":"COUNTIF(L65:L94,AD13)","v":0},{"$f":"AE13/(AG4-AE11)","v":0},{"$f":"IF(AF13=0,0,(AF13*((LOG(AF13))/LOG(2))))","v":0},null,221,{"$f":"COUNTIF(L95:L123,AI13)","v":0},{"$f":"AJ13/(AL4-AJ11)","v":0},{"$f":"IF(AK13=0,0,(AK13*((LOG(AK13))/LOG(2))))","v":0},null,221,{"$f":"COUNTIF(L124:L152,AN13)","v":0},{"$f":"AO13/(AQ4-AO11)","v":0},{"$f":"IF(AP13=0,0,(AP13*((LOG(AP13))/LOG(2))))","v":0},null,221,{"$f":"COUNTIF(L153:L181,AS13)","v":0},{"$f":"AT13/(AV4-AT11)","v":0},{"$f":"IF(AU13=0,0,(AU13*((LOG(AU13))/LOG(2))))","v":0}]
[12,785,13,788,13,792,null,null,null,null,0,111,null,222,0,0,0,null,null,222,{"$f":"COUNTIF(L7:L35,T14)","v":0},{"$f":"U14/(W4-U11)","v":0},{"$f":"IF(V14=0,0,(V14*((LOG(V14))/LOG(2))))","v":0},null,222,{"$f":"COUNTIF(L36:L64,Y14)","v":0},{"$f":"Z14/(AB4-Z11)","v":0},{"$f":"IF(AA14=0,0,(AA14*((LOG(AA14))/LOG(2))))","v":0},null,222,{"$f":"COUNTIF(L65:L94,AD14)","v":0},{"$f":"AE14/(AG4-AE11)","v":0},{"$f":"IF(AF14=0,0,(AF14*((LOG(AF14))/LOG(2))))","v":0},null,222,{"$f":"COUNTIF(L95:L123,AI14)","v":0},{"$f":"AJ14/(AL4-AJ11)","v":0},{"$f":"IF(AK14=0,0,(AK14*((LOG(AK14))/LOG(2))))","v":0},null,222,{"$f":"COUNTIF(L124:L152,AN14)","v":0},{"$f":"AO14/(AQ4-AO11)","v":0},{"$f":"IF(AP14=0,0,(AP14*((LOG(AP14))/LOG(2))))","v":0},null,222,{"$f":"COUNTIF(L153:L181,AS14)","v":0},{"$f":"AT14/(AV4-AT11)","v":0},{"$f":"IF(AU14=0,0,(AU14*((LOG(AU14))/LOG(2))))","v":0}]
[12,890,13,893,13,899,null,null,null,null,0,111,null,null,null,{"$f":"SUM(P7:P14)","v":1.0000000000000002},{"$f":"-SUM(Q7:Q14)","v":1.4408264407569702},null,null,null,null,{"$f":"SUM(V7:V14)","v":0.99999999999999989},{"$f":"-SUM(W7:W14)","v":1.4762856555827248},null,null,null,{"$f":"SUM(AA7:AA14)","v":1},{"$f":"-SUM(AB7:AB14)","v":1},null,null,null,{"$f":"SUM(AF7:AF14)","v":1},{"$f":"-SUM(AG7:AG14)","v":1.2859818558536951},null,null,null,{"$f":"SUM(AK7:AK14)","v":1},{"$f":"-SUM(AL7:AL14)","v":1.2695459925589745},null,null,null,{"$f":"SUM(AP7:AP14)","v":1},{"$f":"-SUM(AQ7:AQ14)","v":0.50325833477564574},null,null,null,{"$f":"SUM(AU7:AU14)","v":1},{"$f":"-SUM(AV7:AV14)","v":0.61938219467876376}]
[12,997,13,999,13,1003,null,null,null,null,0,111,null,null,null,"U=",{"$f":"Q15/(LOG(Q4)/LOG(2))","v":0.19336808729912044},null,null,null,null,"U1=",{"$f":"W15/(LOG(W4)/LOG(2))","v":0.30388872600847983},null,null,null,"U2=",{"$f":"AB15/(LOG(AB4)/LOG(2))","v":0.20584683246043448},null,null,null,"U3=",{"$f":"AG15/(LOG(AG4)/LOG(2))","v":0.26207673287124034},null,null,null,"U4=",{"$f":"AL15/(LOG(AL4)/LOG(2))","v":0.26133202123110322},null,null,null,"U5=",{"$f":"AQ15/(LOG(AQ4)/LOG(2))","v":0.10359413412287959},null,null,null,"U6=",{"$f":"AV15/(LOG(AV4)/LOG(2))","v":0.1274978628570157}]
[21,1097,11,1104,11,1111,null,null,null,null,0,211]
[12,1251,24,1280,24,1303,null,null,null,null,0,122]
[12,1403,13,1409,13,1415,null,null,null,null,0,111,null,"Total Target Seq"]
[12,1515,13,1519,24,1527,null,null,null,null,0,112,null,{"$f":"COUNTIF(L7:L181,G3)","v":12},null,29,29,30,29,29,29]
[12,1629,13,1633,24,1639,null,null,null,null,0,112,null,null,null,"% of reinforcement given in 6 equal intervals based on number of trials "]
[12,1738,13,1742,24,1749,null,null,null,null,0,112,null,null,null,"%_1","%_2","%_3","%_4","%_5","%_6"]
[12,1957,13,1966,24,1976,null,null,null,null,0,112,null,null,"target sequence",{"$f":"$G$3","v":211},211,211,211,211,211]
[12,2115,13,2121,13,2124,null,null,null,null,0,111,null,null,"total reinforcement",{"$f":"U11","v":2},{"$f":"Z11","v":3},{"$f":"AE11","v":1},{"$f":"AJ11","v":1},{"$f":"AO11","v":2},{"$f":"AT11","v":3}]
[12,2224,13,2229,24,2263,null,null,null,null,0,112,null,null,"% target"]
[12,2360,13,2364,13,2370,null,null,null,null,0,111,null,null,"CCRF"]
[12,2468,24,2493,24,2503,null,null,null,null,0,122,null,null,"% CCRf"]
[12,2603,24,2618,13,2634,null,null,null,null,0,121,null,null,"average response rate",{"$f":"F35/P20","v":118.65517241379311},{"$f":"(F64-F35)/Q20","v":132.20689655172413},{"$f":"(F94-F64)/R20","v":125.73333333333333},{"$f":"(F123-F94)/S20","v":155.68965517241378},{"$f":"(F152-F123)/T20","v":121.89655172413794},{"$f":"(F181-F152)/U20","v":117.34482758620689}]
[12,2728,13,2731,13,2752,null,null,null,null,0,111]
[12,2851,13,2854,24,2864,null,null,null,null,0,112]
[12,2963,13,2965,24,2973,null,null,null,null,0,112]
[21,3065,11,3071,11,3074,null,null,null,null,0,211]
[12,3192,13,3197,13,3201,null,null,null,null,0,111]
[12,3303,13,3309,13,3316,null,null,null,null,0,111]
[12,3416,13,3419,24,3441,null,null,null,null,0,112]
[12,3541,13,3544,13,3548,null,null,null,null,0,111]
[12,3646,13,3649,13,3654,null,null,null,null,0,111]
[12,3753,13,3757,24,3777,null,null,null,null,0,112]
[21,3871,11,3876,11,3879,null,null,null,null,0,211]
[12,3975,13,3986,13,3996,null,null,null,null,0,111]
[12,4097,13,4100,24,4136,null,null,null,null,0,112]
[21,4230,11,4234,11,4238,null,null,null,null,0,211]
[12,4331,13,4335,13,4338,null,null,null,null,0,111]
[12,4437,13,4442,24,4458,null,null,null,null,0,112]
[12,4557,13,4560,24,4568,null,null,null,null,0,112]
[12,4664,13,4667,13,4671,null,null,null,null,0,111]
[12,4768,13,4770,24,4777,null,null,null,null,0,112]
[12,4875,13,4879,24,4890,null,null,null,null,0,112]
[12,4990,13,4992,13,4998,null,null,null,null,0,111]
[12,5162,13,5165,13,5169,null,null,null,null,0,111]
[12,5266,13,5268,13,5271,null,null,null,null,0,111]
[12,5369,13,5371,13,5374,null,null,null,null,0,111]
[12,5473,13,5477,24,5484,null,null,null,null,0,112]
[12,5948,13,6012,13,6020,null,null,null,null,0,111]
[12,6118,13,6124,24,6144,null,null,null,null,0,112]
[21,6238,11,6242,11,6245,null,null,null,null,0,211]
[12,6408,13,6419,13,6437,null,null,null,null,0,111]
[12,6544,13,6548,13,6555,null,null,null,null,0,111]
[12,6653,13,6657,24,6664,null,null,null,null,0,112]
[12,6782,13,6792,24,6805,null,null,null,null,0,112]
[12,6903,13,6906,24,6946,null,null,null,null,0,112]
[12,7043,13,7047,24,7056,null,null,null,null,0,112]
[12,7154,13,7157,13,7161,null,null,null,null,0,111]
[12,7261,13,7266,24,7275,null,null,null,null,0,112]
[12,7373,13,7376,13,7379,null,null,null,null,0,111]
[12,7477,13,7482,24,7506,null,null,null,null,0,112]
[12,7626,13,7629,13,7637,null,null,null,null,0,111]
[12,7737,13,7741,13,7745,null,null,null,null,0,111]
[12,7842,13,7845,13,7849,null,null,null,null,0,111]
[12,7947,13,7949,13,7953,null,null,null,null,0,111]
[12,8051,13,8053,13,8057,null,null,null,null,0,111]
[12,8155,13,8162,13,8168,null,null,null,null,0,111]
[12,8273,13,8278,13,8283,null,null,null,null,0,111]
[12,8381,13,8387,24,8394,null,null,null,null,0,112]
[12,8494,13,8499,24,8505,null,null,null,null,0,112]
[12,8719,13,8723,13,8730,null,null,null,null,0,111]
[12,8829,13,8832,24,8843,null,null,null,null,0,112]
[12,8936,13,8939,13,8943,null,null,null,null,0,111]
[12,9042,13,9046,24,9052,null,null,null,null,0,112]
[12,9150,24,9160,24,9168,null,null,null,null,0,122]
[12,9267,13,9270,24,9299,null,null,null,null,0,112]
[21,9393,11,9397,11,9403,null,null,null,null,0,211]
[12,9671,13,9675,13,9682,null,null,null,null,0,111]
[12,9801,13,9810,13,9820,null,null,null,null,0,111]
[12,9916,24,9927,13,9936,null,null,null,null,0,121]
[12,10033,13,10036,13,10047,null,null,null,null,0,111]
[12,10157,13,10160,13,10165,null,null,null,null,0,111]
[12,10262,13,10265,24,10276,null,null,null,null,0,112]
[12,10374,13,10377,13,10380,null,null,null,null,0,111]
[12,10480,13,10485,13,10488,null,null,null,null,0,111]
[12,10585,13,10588,13,10591,null,null,null,null,0,111]
[12,10690,13,10694,24,10702,null,null,null,null,0,112]
[12,10930,13,10933,13,10937,null,null,null,null,0,111]
[12,11034,13,11039,24,11047,null,null,null,null,0,112]
[12,11147,13,11151,24,11165,null,null,null,null,0,112]
[12,11263,13,11269,13,11273,null,null,null,null,0,111]
[12,11371,13,11375,24,11384,null,null,null,null,0,112]
[12,11481,13,11485,13,11488,null,null,null,null,0,111]
[12,11587,13,11589,13,11593,null,null,null,null,0,111]
[21,11691,11,11695,22,11703,null,null,null,null,0,212]
[12,11798,13,11804,24,11817,null,null,null,null,0,112]
[12,11944,13,11948,24,11955,null,null,null,null,0,112]
[12,12053,13,12056,24,12064,null,null,null,null,0,112]
[12,12162,13,12166,13,12169,null,null,null,null,0,111]
[12,12266,13,12271,13,12277,null,null,null,null,0,111]
[21,12407,11,12416,11,12422,null,null,null,null,0,211]
[12,12513,13,12516,13,12519,null,null,null,null,0,111]
[12,12619,13,12624,13,12628,null,null,null,null,0,111]
[12,12725,13,12728,13,12731,null,null,null,null,0,111]
[12,12831,13,12834,24,12845,null,null,null,null,0,112]
[12,12944,13,12948,24,12955,null,null,null,null,0,112]
[12,13053,13,13056,24,13064,null,null,null,null,0,112]
[12,13918,13,13921,13,13925,null,null,null,null,0,111]
[12,14030,13,14033,13,14036,null,null,null,null,0,111]
[12,14142,24,14151,24,14166,null,null,null,null,0,122]
[12,14262,13,14268,13,14272,null,null,null,null,0,111]
[12,14615,13,14621,13,14625,null,null,null,null,0,111]
[12,14724,13,14736,13,14740,null,null,null,null,0,111]
[12,15131,13,15136,13,15139,null,null,null,null,0,111]
[12,15236,13,15239,13,15242,null,null,null,null,0,111]
[12,15341,13,15343,13,15346,null,null,null,null,0,111]
[12,15446,13,15449,13,15452,null,null,null,null,0,111]
[12,15552,13,15557,13,15562,null,null,null,null,0,111]
[12,15662,13,15668,13,15674,null,null,null,null,0,111]
[12,15766,13,15769,13,15773,null,null,null,null,0,111]
[12,15870,13,15885,13,15890,null,null,null,null,0,111]
[12,15988,13,15992,13,15995,null,null,null,null,0,111]
[12,16094,13,16098,24,16106,null,null,null,null,0,112]
[12,16206,13,16210,13,16213,null,null,null,null,0,111]
[12,16312,13,16316,24,16324,null,null,null,null,0,112]
[12,16422,13,16425,13,16428,null,null,null,null,0,111]
[21,16523,11,16526,11,16528,null,null,null,null,0,211]
[12,16672,13,16678,13,16695,null,null,null,null,0,111]
[12,16794,13,16797,13,16801,null,null,null,null,0,111]
[12,16900,13,16903,13,16906,null,null,null,null,0,111]
[12,17004,13,17007,13,17011,null,null,null,null,0,111]
[12,17109,13,17114,13,17120,null,null,null,null,0,111]
[12,17219,13,17223,13,17226,null,null,null,null,0,111]
[12,17320,13,17326,13,17335,null,null,null,null,0,111]
[12,17433,13,17439,13,17443,null,null,null,null,0,111]
[12,17618,13,17622,13,17628,null,null,null,null,0,111]
[12,17941,13,17943,13,17957,null,null,null,null,0,111]
[12,18056,13,18059,13,18064,null,null,null,null,0,111]
[12,18158,13,18163,13,18169,null,null,null,null,0,111]
[12,18287,13,18291,13,18300,null,null,null,null,0,111]
[12,18397,13,18400,13,18404,null,null,null,null,0,111]
[21,18496,11,18502,11,18506,null,null,null,null,0,211]
[12,18635,13,18639,13,18645,null,null,null,null,0,111]
[12,18765,13,18769,24,18776,null,null,null,null,0,112]
[12,18871,13,18877,13,18882,null,null,null,null,0,111]
[12,18977,13,18981,13,18984,null,null,null,null,0,111]
[12,19081,13,19086,13,19097,null,null,null,null,0,111]
[12,19196,13,19200,13,19204,null,null,null,null,0,111]
[12,19305,13,19309,13,19313,null,null,null,null,0,111]
[12,19411,13,19415,24,19422,null,null,null,null,0,112]
[12,19521,13,19526,13,19529,null,null,null,null,0,111]
[12,19652,13,19655,13,19663,null,null,null,null,0,111]
[12,19785,13,19789,13,19805,null,null,null,null,0,111]
[12,19926,13,19934,13,19940,null,null,null,null,0,111]
[12,20040,13,20044,13,20047,null,null,null,null,0,111]
[12,20145,13,20149,24,20156,null,null,null,null,0,112]
[12,20254,13,20257,13,20261,null,null,null,null,0,111]
[12,20359,13,20365,13,20370,null,null,null,null,0,111]
[12,20556,13,20562,13,20568,null,null,null,null,0,111]
[12,20667,13,20669,13,20673,null,null,null,null,0,111]
[12,20849,13,20856,13,20863,null,null,null,null,0,111]
[12,20963,13,20965,13,20968,null,null,null,null,0,111]
[12,21093,13,21098,24,21102,null,null,null,null,0,112]
[21,21206,11,21214,11,21219,null,null,null,null,0,211]
[12,21322,13,21325,13,21331,null,null,null,null,0,111]
[12,21428,13,21431,13,21434,null,null,null,null,0,111]
[12,21531,13,21534,13,21538,null,null,null,null,0,111]
[12,21637,13,21640,13,21649,null,null,null,null,0,111]
[12,21747,13,21751,13,21756,null,null,null,null,0,111]
[12,21854,13,21856,13,21860,null,null,null,null,0,111]
[12,21957,13,21963,13,21969,null,null,null,null,0,111]
[21,22062,11,22067,11,22069,null,null,null,null,0,211]
[12,22167,13,22170,13,22183,null,null,null,null,0,111]
[12,22281,13,22285,24,22293,null,null,null,null,0,112]
[12,22390,13,22395,13,22400,null,null,null,null,0,111]
[21,22494,11,22498,11,22500,null,null,null,null,1,211]

{"sheet":"!N202B0T.AYL","index":4,"n_rows":143,"n_cols":48,"rows_kept":143,"cut":false,"hidden":false,"merged":[[1,1,1,2],[5,13,5,14],[18,13,18,14],[19,13,19,14],[4,19,4,22],[5,19,5,20],[4,39,4,42],[5,39,5,40],[4,44,4,47],[5,44,5,45],[4,24,4,27],[5,24,5,25],[4,29,4,32],[5,29,5,30],[4,34,4,37],[5,34,5,35]]}
["Report for:!N202B0T.AYL"]
["Date:","<date>"]
["Hen:","<hen>",null,null,null,"Correct Sequence",{"$f":"Start!J2","v":211},null,null,null,null,null,null,null,null,"Total Sequences in Data",{"$f":"4994-COUNTBLANK(L7:L5000)","v":137},null,null,null,null,"Total Sequences in Block Data",{"$f":"COUNTA(L7:L29)","v":23},null,null,null,"Total Sequences in Block Data",{"$f":"COUNTA(L30:L52)","v":23},null,null,null,"Total Sequences in Block Data",{"$f":"COUNTA(L53:L74)","v":22},null,null,null,"Total Sequences in Block Data",{"$f":"COUNTA(L75:L97)","v":23},null,null,null,"Total Sequences in Block Data",{"$f":"COUNTA(L98:L120)","v":23},null,null,null,"Total Sequences in Block Data",{"$f":"COUNTA(L121:L143)","v":23}]
[null,null,null,null,null,null,null,null,null,null,null,null,null,null,null,"Total Sequences in Summary",{"$f":"SUM(O7:O14)","v":137},null,null,null,null,"Total Sequences in Block Summary",{"$f":"SUM(U7:U14)","v":23},null,null,null,"Total Sequences in Block Summary",{"$f":"SUM(Z7:Z14)","v":23},null,null,null,"Total Sequences in Block Summary",{"$f":"SUM(AE7:AE14)","v":22},null,null,null,"Total Sequences in Block Summary",{"$f":"SUM(AJ7:AJ14)","v":23},null,null,null,"Total Sequences in Block Summary",{"$f":"SUM(AO7:AO14)","v":23},null,null,null,"Total Sequences in Block Summary",{"$f":"SUM(AT7:AT14)","v":23}]
[null,null,null,null,null,null,null,null,null,null,null,null,null,null,null,null,null,null,null,"Block 1",null,null,null,null,"Block 2",null,null,null,null,"Block 3",null,null,null,null,"Block 4",null,null,null,null,"Block 5",null,null,null,null,"Block 6"]
["Sequence\nComponent\n1","Time\n1","Sequence\nComponent\n2","Time\n2","Sequence\nComponent\n3","Time\n3","Sequence\nComponent\n4","Time\n4","Sequence\nComponent\n5","Time\n5","Correct?\n0=No 1=Yes","Sequence",null,"Frequency",null,"Relative Frequency","Variability",null,null,"Frequency",null,"Relative Frequency","Variability",null,"Frequency",null,"Relative Frequency","Variability",null,"Frequency",null,"Relative Frequency","Variability",null,"Frequency",null,"Relative Frequency","Variability",null,"Frequency",null,"Relative Frequency","Variability",null,"Frequency",null,"Relative Frequency","Variability"]
[12,15,13,19,13,26,null,null,null,null,0,111,null,111,{"$f":"COUNTIF($L$7:$L$500,N7)","v":108},{"$f":"O7/$Q$4","v":0.78832116788321172},{"$f":"IF(P7=0,0,(P7*((LOG(P7))/LOG(2))))","v":-0.27050813668673196},null,null,{"$f":"N7","v":111},{"$f":"COUNTIF(L7:L29,T7)","v":12},{"$f":"U7/(W4-U11)","v":0.6},{"$f":"IF(V7=0,0,(V7*((LOG(V7))/LOG(2))))","v":-0.44217935649972373},null,{"$f":"N7","v":111},{"$f":"COUNTIF(L30:L52,Y7)","v":15},{"$f":"Z7/(AB4-Z11)","v":0.7142857142857143},{"$f":"IF(AA7=0,0,(AA7*((LOG(AA7))/LOG(2))))","v":-0.34673344797874411},null,{"$f":"N7","v":111},{"$f":"COUNTIF(L53:L74,AD7)","v":18},{"$f":"AE7/(AG4-AE11)","v":0.81818181818181823},{"$f":"IF(AF7=0,0,(AF7*((LOG(AF7))/LOG(2))))","v":-0.23686905043226034},null,{"$f":"N7","v":111},{"$f":"COUNTIF(L75:L97,AI7)","v":20},{"$f":"AJ7/(AL4-AJ11)","v":0.86956521739130432},{"$f":"IF(AK7=0,0,(AK7*((LOG(AK7))/LOG(2))))","v":-0.17533379232143528},null,{"$f":"N7","v":111},{"$f":"COUNTIF(L98:L120,AN7)","v":22},{"$f":"AO7/(AQ4-AO11)","v":1},{"$f":"IF(AP7=0,0,(AP7*((LOG(AP7))/LOG(2))))","v":0},null,{"$f":"N7","v":111},{"$f":"COUNTIF(L121:L143,AS7)","v":21},{"$f":"AT7/(AV4-AT11)","v":0.95454545454545459},{"$f":"IF(AU7=0,0,(AU7*((LOG(AU7))/LOG(2))))","v":-6.4063550592239782E-2}]
[12,124,13,127,13,131,null,null,null,null,0,111,null,112,16,0.11678832116788321,-0.3618139658932002,null,null,112,{"$f":"COUNTIF(L7:L29,T8)","v":7},{"$f":"U8/(W4-U11)","v":0.35},{"$f":"IF(V8=0,0,(V8*((LOG(V8))/LOG(2))))","v":-0.53010061049041535},null,112,{"$f":"COUNTIF(L30:L52,Y8)","v":5},{"$f":"Z8/(AB4-Z11)","v":0.23809523809523808},{"$f":"IF(AA8=0,0,(AA8*((LOG(AA8))/LOG(2))))","v":-0.49294983997414238},null,112,{"$f":"COUNTIF(L53:L74,AD8)","v":3},{"$f":"AE8/(AG4-AE11)","v":0.13636363636363635},{"$f":"IF(AF8=0,0,(AF8*((LOG(AF8))/LOG(2))))","v":-0.39197306153401923},null,112,{"$f":"COUNTIF(L75:L97,AI8)","v":1},{"$f":"AJ8/(AL4-AJ11)","v":4.3478260869565216E-2},{"$f":"IF(AK8=0,0,(AK8*((LOG(AK8))/LOG(2))))","v":-0.19667660678508753},null,112,{"$f":"COUNTIF(L98:L120,AN8)","v":0},{"$f":"AO8/(AQ4-AO11)","v":0},{"$f":"IF(AP8=0,0,(AP8*((LOG(AP8))/LOG(2))))","v":0},null,112,{"$f":"COUNTIF(L121:L143,AS8)","v":0},{"$f":"AT8/(AV4-AT11)","v":0},{"$f":"IF(AU8=0,0,(AU8*((LOG(AU8))/LOG(2))))","v":0}]
[12,226,24,234,13,237,null,null,null,null,0,121,null,121,5,3.6496350364963501E-2,-0.17431036452821766,null,null,121,{"$f":"COUNTIF(L7:L29,T9)","v":1},{"$f":"U9/(W4-U11)","v":0.05},{"$f":"IF(V9=0,0,(V9*((LOG(V9))/LOG(2))))","v":-0.21609640474436814},null,121,{"$f":"COUNTIF(L30:L52,Y9)","v":0},{"$f":"Z9/(AB4-Z11)","v":0},{"$f":"IF(AA9=0,0,(AA9*((LOG(AA9))/LOG(2))))","v":0},null,121,{"$f":"COUNTIF(L53:L74,AD9)","v":1},{"$f":"AE9/(AG4-AE11)","v":4.5454545454545456E-2},{"$f":"IF(AF9=0,0,(AF9*((LOG(AF9))/LOG(2))))","v":-0.20270143721078623},null,121,{"$f":"COUNTIF(L75:L97,AI9)","v":2},{"$f":"AJ9/(AL4-AJ11)","v":8.6956521739130432E-2},{"$f":"IF(AK9=0,0,(AK9*((LOG(AK9))/LOG(2))))","v":-0.30639669183104457},null,121,{"$f":"COUNTIF(L98:L120,AN9)","v":0},{"$f":"AO9/(AQ4-AO11)","v":0},{"$f":"IF(AP9=0,0,(AP9*((LOG(AP9))/LOG(2))))","v":0},null,121,{"$f":"COUNTIF(L121:L143,AS9)","v":1},{"$f":"AT9/(AV4-AT11)","v":4.5454545454545456E-2},{"$f":"IF(AU9=0,0,(AU9*((LOG(AU9))/LOG(2))))","v":-0.20270143721078623}]
[12,337,13,340,13,346,null,null,null,null,0,111,null,122,1,7.2992700729927005E-3,-5.1810453160295811E-2,null,null,122,{"$f":"COUNTIF(L7:L29,T10)","v":0},{"$f":"U10/(W4-U11)","v":0},{"$f":"IF(V10=0,0,(V10*((LOG(V10))/LOG(2))))","v":0},null,122,{"$f":"COUNTIF(L30:L52,Y10)","v":1},{"$f":"Z10/(AB4-Z11)","v":4.7619047619047616E-2},{"$f":"IF(AA10=0,0,(AA10*((LOG(AA10))/LOG(2))))","v":-0.20915797251327431},null,122,{"$f":"COUNTIF(L53:L74,AD10)","v":0},{"$f":"AE10/(AG4-AE11)","v":0},{"$f":"IF(AF10=0,0,(AF10*((LOG(AF10))/LOG(2))))","v":0},null,122,{"$f":"COUNTIF(L75:L97,AI10)","v":0},{"$f":"AJ10/(AL4-AJ11)","v":0},{"$f":"IF(AK10=0,0,(AK10*((LOG(AK10))/LOG(2))))","v":0},null,122,{"$f":"COUNTIF(L98:L120,AN10)","v":0},{"$f":"AO10/(AQ4-AO11)","v":0},{"$f":"IF(AP10=0,0,(AP10*((LOG(AP10))/LOG(2))))","v":0},null,122,{"$f":"COUNTIF(L121:L143,AS10)","v":0},{"$f":"AT10/(AV4-AT11)","v":0},{"$f":"IF(AU10=0,0,(AU10*((LOG(AU10))/LOG(2))))","v":0}]
[12,446,13,448,13,453,null,null,null,null,0,111,null,211,7,5.1094890510948905E-2,-0.21923167975416394,null,null,211,{"$f":"COUNTIF(L7:L29,T11)","v":3},null,null,null,211,{"$f":"COUNTIF(L30:L52,Y11)","v":2},null,null,null,211,{"$f":"COUNTIF(L53:L74,AD11)","v":0},null,null,null,211,{"$f":"COUNTIF(L75:L97,AI11)","v":0},null,null,null,211,{"$f":"COUNTIF(L98:L120,AN11)","v":1},null,null,null,211,{"$f":"COUNTIF(L121:L143,AS11)","v":1}]
[12,550,13,557,13,563,null,null,null,null,0,111,null,212,0,0,0,null,null,212,{"$f":"COUNTIF(L7:L29,T12)","v":0},{"$f":"U12/(W4-U11)","v":0},{"$f":"IF(V12=0,0,(V12*((LOG(V12))/LOG(2))))","v":0},null,212,{"$f":"COUNTIF(L30:L52,Y12)","v":0},{"$f":"Z12/(AB4-Z11)","v":0},{"$f":"IF(AA12=0,0,(AA12*((LOG(AA12))/LOG(2))))","v":0},null,212,{"$f":"COUNTIF(L53:L74,AD12)","v":0},{"$f":"AE12/(AG4-AE11)","v":0},{"$f":"IF(AF12=0,0,(AF12*((LOG(AF12))/LOG(2))))","v":0},null,212,{"$f":"COUNTIF(L75:L97,AI12)","v":0},{"$f":"AJ12/(AL4-AJ11)","v":0},{"$f":"IF(AK12=0,0,(AK12*((LOG(AK12))/LOG(2))))","v":0},null,212,{"$f":"COUNTIF(L98:L120,AN12)","v":0},{"$f":"AO12/(AQ4-AO11)","v":0},{"$f":"IF(AP12=0,0,(AP12*((LOG(AP12))/LOG(2))))","v":0},null,212,{"$f":"COUNTIF(L121:L143,AS12)","v":0},{"$f":"AT12/(AV4-AT11)","v":0},{"$f":"IF(AU12=0,0,(AU12*((LOG(AU12))/LOG(2))))","v":0}]
[12,663,13,669,13,674,null,null,null,null,0,111,null,221,0,0,0,null,null,221,{"$f":"COUNTIF(L7:L29,T13)","v":0},{"$f":"U13/(W4-U11)","v":0},{"$f":"IF(V13=0,0,(V13*((LOG(V13))/LOG(2))))","v":0},null,221,{"$f":"COUNTIF(L30:L52,Y13)","v":0},{"$f":"Z13/(AB4-Z11)","v":0},{"$f":"IF(AA13=0,0,(AA13*((LOG(AA13))/LOG(2))))","v":0},null,221,{"$f":"COUNTIF(L53:L74,AD13)","v":0},{"$f":"AE13/(AG4-AE11)","v":0},{"$f":"IF(AF13=0,0,(AF13*((LOG(AF13))/LOG(2))))","v":0},null,221,{"$f":"COUNTIF(L75:L97,AI13)","v":0},{"$f":"AJ13/(AL4-AJ11)","v":0},{"$f":"IF(AK13=0,0,(AK13*((LOG(AK13))/LOG(2))))","v":0},null,221,{"$f":"COUNTIF(L98:L120,AN13)","v":0},{"$f":"AO13/(AQ4-AO11)","v":0},{"$f":"IF(AP13=0,0,(AP13*((LOG(AP13))/LOG(2))))","v":0},null,221,{"$f":"COUNTIF(L121:L143,AS13)","v":0},{"$f":"AT13/(AV4-AT11)","v":0},{"$f":"IF(AU13=0,0,(AU13*((LOG(AU13))/LOG(2))))","v":0}]
[12,769,13,772,13,775,null,null,null,null,0,111,null,222,0,0,0,null,null,222,{"$f":"COUNTIF(L7:L29,T14)","v":0},{"$f":"U14/(W4-U11)","v":0},{"$f":"IF(V14=0,0,(V14*((LOG(V14))/LOG(2))))","v":0},null,222,{"$f":"COUNTIF(L30:L52,Y14)","v":0},{"$f":"Z14/(AB4-Z11)","v":0},{"$f":"IF(AA14=0,0,(AA14*((LOG(AA14))/LOG(2))))","v":0},null,222,{"$f":"COUNTIF(L53:L74,AD14)","v":0},{"$f":"AE14/(AG4-AE11)","v":0},{"$f":"IF(AF14=0,0,(AF14*((LOG(AF14))/LOG(2))))","v":0},null,222,{"$f":"COUNTIF(L75:L97,AI14)","v":0},{"$f":"AJ14/(AL4-AJ11)","v":0},{"$f":"IF(AK14=0,0,(AK14*((LOG(AK14))/LOG(2))))","v":0},null,222,{"$f":"COUNTIF(L98:L120,AN14)","v":0},{"$f":"AO14/(AQ4-AO11)","v":0},{"$f":"IF(AP14=0,0,(AP14*((LOG(AP14))/LOG(2))))","v":0},null,222,{"$f":"COUNTIF(L121:L143,AS14)","v":0},{"$f":"AT14/(AV4-AT11)","v":0},{"$f":"IF(AU14=0,0,(AU14*((LOG(AU14))/LOG(2))))","v":0}]
[12,873,13,876,24,890,null,null,null,null,0,112,null,null,null,{"$f":"SUM(P7:P14)","v":1},{"$f":"-SUM(Q7:Q14)","v":1.0776746000226096},null,null,null,null,{"$f":"SUM(V7:V14)","v":1},{"$f":"-SUM(W7:W14)","v":1.1883763717345073},null,null,null,{"$f":"SUM(AA7:AA14)","v":1},{"$f":"-SUM(AB7:AB14)","v":1.0488412604661608},null,null,null,{"$f":"SUM(AF7:AF14)","v":1},{"$f":"-SUM(AG7:AG14)","v":0.83154354917706585},null,null,null,{"$f":"SUM(AK7:AK14)","v":1},{"$f":"-SUM(AL7:AL14)","v":0.67840709093756735},null,null,null,{"$f":"SUM(AP7:AP14)","v":1},{"$f":"-SUM(AQ7:AQ14)","v":0},null,null,null,{"$f":"SUM(AU7:AU14)","v":1},{"$f":"-SUM(AV7:AV14)","v":0.26676498780302604}]
[12,987,13,994,13,1005,null,null,null,null,0,111,null,null,null,"U=",{"$f":"Q15/(LOG(Q4)/LOG(2))","v":0.15182723710275497},null,null,null,null,"U1=",{"$f":"W15/(LOG(W4)/LOG(2))","v":0.26270810111117876},null,null,null,"U2=",{"$f":"AB15/(LOG(AB4)/LOG(2))","v":0.23186180948881904},null,null,null,"U3=",{"$f":"AG15/(LOG(AG4)/LOG(2))","v":0.18646850547092075},null,null,null,"U4=",{"$f":"AL15/(LOG(AL4)/LOG(2))","v":0.14997188002016545},null,null,null,"U5=",{"$f":"AQ15/(LOG(AQ4)/LOG(2))","v":0},null,null,null,"U6=",{"$f":"AV15/(LOG(AV4)/LOG(2))","v":5.8972329857410237E-2}]
[12,1108,13,1110,24,1118,null,null,null,null,0,112]
[12,1225,13,1234,13,1240,null,null,null,null,0,111]
[12,1339,13,1342,24,1349,null,null,null,null,0,112,null,"Total Target Seq"]
[12,1447,13,1453,13,1459,null,null,null,null,0,111,null,{"$f":"COUNTIF(L7:L143,G3)","v":7},null,23,23,22,23,23,23]
[21,1553,11,1560,11,1562,null,null,null,null,0,211,null,null,null,"% of reinforcement given in 6 equal intervals based on number of trials "]
[12,1653,13,1668,13,1675,null,null,null,null,0,111,null,null,null,"%_1","%_2","%_3","%_4","%_5","%_6"]
[12,1780,13,1783,24,1788,null,null,null,null,0,112,null,null,"target sequence",{"$f":"$G$3","v":211},211,211,211,211,211]
[12,1888,13,1891,24,1898,null,null,null,null,0,112,null,null,"total reinforcement",{"$f":"U11","v":3},{"$f":"Z11","v":2},{"$f":"AE11","v":0},{"$f":"AJ11","v":0},{"$f":"AO11","v":1},{"$f":"AT11","v":1}]
[12,1993,13,1995,13,2001,null,null,null,null,0,111,null,null,"% target"]
[21,2095,11,2100,11,2105,null,null,null,null,0,211,null,null,"CCRF"]
[12,2199,13,2202,24,2215,null,null,null,null,0,112,null,null,"% CCRf"]
[12,2314,13,2318,24,2324,null,null,null,null,0,112,null,null,"average response rate",{"$f":"F29/P20","v":105.43478260869566},{"$f":"(F52-F29)/Q20","v":131.82608695652175},{"$f":"(F74-F52)/R20","v":305.04545454545456},{"$f":"(F97-F74)/S20","v":185.7391304347826},{"$f":"(F120-F97)/T20","v":148.43478260869566},{"$f":"(F143-F120)/U20","v":178}]
[21,2420,11,2422,11,2425,null,null,null,null,0,211]
[12,2520,13,2523,13,2529,null,null,null,null,0,111]
[12,2628,13,2632,24,2652,null,null,null,null,0,112]
[12,2751,13,2753,13,2759,null,null,null,null,0,111]
[21,2852,11,2858,11,2861,null,null,null,null,0,211]
[12,2955,13,2965,13,2974,null,null,null,null,0,111]
[12,3074,13,3077,13,3079,null,null,null,null,0,111]
[12,3178,13,3180,24,3188,null,null,null,null,0,112]
[12,3336,13,3339,24,3343,null,null,null,null,0,112]
[12,3442,13,3447,24,3453,null,null,null,null,0,112]
[12,3552,13,3556,24,3563,null,null,null,null,0,112]
[12,3660,13,3663,13,3670,null,null,null,null,0,111]
[12,3772,13,3775,13,3779,null,null,null,null,0,111]
[12,3879,24,3892,24,3898,null,null,null,null,0,122]
[12,3997,13,3999,13,4003,null,null,null,null,0,111]
[12,4171,13,4175,13,4183,null,null,null,null,0,111]
[12,4282,13,4286,13,4293,null,null,null,null,0,111]
[21,4386,11,4392,11,4397,null,null,null,null,0,211]
[12,4875,13,4877,13,4885,null,null,null,null,0,111]
[12,4984,13,4990,13,4997,null,null,null,null,0,111]
[12,5110,13,5114,13,5119,null,null,null,null,0,111]
[12,5218,13,5226,13,5232,null,null,null,null,0,111]
[12,5332,13,5337,13,5344,null,null,null,null,0,111]
[12,5444,13,5449,13,5457,null,null,null,null,0,111]
[12,5555,13,5560,13,5566,null,null,null,null,0,111]
[12,5662,13,5670,13,5676,null,null,null,null,0,111]
[12,5774,13,5777,24,5791,null,null,null,null,0,112]
[12,5889,13,5893,13,5900,null,null,null,null,0,111]
[12,6143,13,6150,13,6157,null,null,null,null,0,111]
[12,6257,13,6261,13,6266,null,null,null,null,0,111]
[12,6364,13,6368,13,6374,null,null,null,null,0,111]
[12,6473,13,6483,13,6489,null,null,null,null,0,111]
[12,6592,13,6601,13,6609,null,null,null,null,0,111]
[12,7154,13,7158,13,7164,null,null,null,null,0,111]
[12,7270,13,7276,13,7282,null,null,null,null,0,111]
[12,7382,13,7386,13,7392,null,null,null,null,0,111]
[12,7490,13,7493,24,7514,null,null,null,null,0,112]
[12,8004,13,8013,24,8017,null,null,null,null,0,112]
[12,8777,13,8783,13,8787,null,null,null,null,0,111]
[12,9584,13,9588,13,9593,null,null,null,null,0,111]
[12,10415,13,10419,13,10435,null,null,null,null,0,111]
[12,10873,13,10879,13,10885,null,null,null,null,0,111]
[12,10984,13,10992,13,10999,null,null,null,null,0,111]
[12,11099,13,11103,13,11108,null,null,null,null,0,111]
[12,11205,13,11216,13,11222,null,null,null,null,0,111]
[12,12152,24,12156,13,12168,null,null,null,null,0,121]
[12,12873,13,12881,13,12889,null,null,null,null,0,111]
[12,13595,24,13598,13,13600,null,null,null,null,0,121]
[12,14247,13,14262,13,14268,null,null,null,null,0,111]
[12,14363,13,14365,13,14371,null,null,null,null,0,111]
[12,14469,13,14472,13,14482,null,null,null,null,0,111]
[12,14578,13,14582,13,14585,null,null,null,null,0,111]
[12,14683,13,14686,13,14690,null,null,null,null,0,111]
[12,14779,13,14784,13,14788,null,null,null,null,0,111]
[12,14887,13,14890,13,14894,null,null,null,null,0,111]
[12,14994,13,15001,13,15007,null,null,null,null,0,111]
[12,15105,13,15108,13,15113,null,null,null,null,0,111]
[12,15211,13,15217,13,15222,null,null,null,null,0,111]
[12,15322,13,15326,13,15330,null,null,null,null,0,111]
[12,15431,13,15434,13,15437,null,null,null,null,0,111]
[12,15560,24,15568,13,15574,null,null,null,null,0,121]
[12,15671,13,15674,13,15678,null,null,null,null,0,111]
[12,15777,13,15779,13,15784,null,null,null,null,0,111]
[12,15884,13,15891,13,15897,null,null,null,null,0,111]
[12,15997,13,16000,13,16007,null,null,null,null,0,111]
[12,16105,13,16109,13,16114,null,null,null,null,0,111]
[12,16213,13,16220,13,16226,null,null,null,null,0,111]
[12,16319,13,16324,13,16329,null,null,null,null,0,111]
[12,16426,13,16429,24,16440,null,null,null,null,0,112]
[12,16538,13,16543,13,16546,null,null,null,null,0,111]
[12,17117,13,17136,13,17146,null,null,null,null,0,111]
[12,17271,13,17286,13,17297,null,null,null,null,0,111]
[12,17419,13,17425,13,17437,null,null,null,null,0,111]
[12,17536,13,17539,13,17543,null,null,null,null,0,111]
[12,17653,13,17656,13,17661,null,null,null,null,0,111]
[12,17761,13,17773,13,17783,null,null,null,null,0,111]
[12,17882,13,17886,13,17890,null,null,null,null,0,111]
[12,17986,13,17991,13,17996,null,null,null,null,0,111]
[12,18094,13,18098,13,18107,null,null,null,null,0,111]
[12,18207,13,18211,13,18216,null,null,null,null,0,111]
[12,18314,13,18318,13,18322,null,null,null,null,0,111]
[12,18461,13,18466,13,18472,null,null,null,null,0,111]
[12,18570,13,18573,13,18577,null,null,null,null,0,111]
[12,18681,13,18685,13,18690,null,null,null,null,0,111]
[12,18789,13,18793,13,18796,null,null,null,null,0,111]
[12,18893,13,18897,13,18900,null,null,null,null,0,111]
[21,18998,11,19000,11,19002,null,null,null,null,0,211]
[12,19401,13,19413,13,19424,null,null,null,null,0,111]
[12,19523,13,19527,13,19533,null,null,null,null,0,111]
[12,19632,13,19635,13,19639,null,null,null,null,0,111]
[12,19740,13,19743,13,19746,null,null,null,null,0,111]
[12,19844,13,19848,13,19854,null,null,null,null,0,111]
[12,19955,13,19959,13,19963,null,null,null,null,0,111]
[12,20063,13,20069,13,20075,null,null,null,null,0,111]
[12,20175,13,20178,13,20185,null,null,null,null,0,111]
[12,20284,13,20287,13,20292,null,null,null,null,0,111]
[12,20426,24,20432,13,20438,null,null,null,null,0,121]
[21,21497,11,21499,11,21502,null,null,null,null,0,211]
[12,21742,13,21744,13,21746,null,null,null,null,0,111]
[12,21847,13,21852,13,21859,null,null,null,null,0,111]
[12,21959,13,21964,13,21970,null,null,null,null,0,111]
[12,22167,13,22170,13,22176,null,null,null,null,0,111]
[12,22283,13,22286,13,22291,null,null,null,null,0,111]
[12,22390,13,22393,13,22397,null,null,null,null,0,111]
[12,22496,13,22500,13,22506,null,null,null,null,0,111]
[12,22606,13,22610,13,22617,null,null,null,null,0,111]
[12,22951,13,22957,13,22964,null,null,null,null,0,111]
[12,23081,13,23085,13,23091,null,null,null,null,0,111]
[12,23192,13,23196,13,23200,null,null,null,null,0,111]
[12,23299,13,23301,13,23308,null,null,null,null,0,111]
[12,23415,13,23418,13,23424,null,null,null,null,0,111]
[12,23523,13,23527,13,23530,null,null,null,null,0,111]
[12,23711,13,23722,13,23728,null,null,null,null,0,111]
[12,23827,13,23831,13,23834,null,null,null,null,0,111]
[12,23932,13,23935,13,23948,null,null,null,null,null,111]

{"sheet":"!N20385T.AYL","index":5,"n_rows":180,"n_cols":48,"rows_kept":180,"cut":false,"hidden":false,"merged":[[1,1,1,2],[5,13,5,14],[18,13,18,14],[19,13,19,14],[4,19,4,22],[5,19,5,20],[4,39,4,42],[5,39,5,40],[4,44,4,47],[5,44,5,45],[4,24,4,27],[5,24,5,25],[4,29,4,32],[5,29,5,30],[4,34,4,37],[5,34,5,35]]}
["Report for:!N20385T.AYL"]
["Date:","<date>"]
["Hen:","<hen>",null,null,null,"Correct Sequence",{"$f":"Start!J2","v":211},null,null,null,null,null,null,null,null,"Total Sequences in Data",{"$f":"4994-COUNTBLANK(L7:L5000)","v":174},null,null,null,null,"Total Sequences in Block Data",{"$f":"COUNTA(L7:L35)","v":29},null,null,null,"Total Sequences in Block Data",{"$f":"COUNTA(L36:L64)","v":29},null,null,null,"Total Sequences in Block Data",{"$f":"COUNTA(L65:L93)","v":29},null,null,null,"Total Sequences in Block Data",{"$f":"COUNTA(L94:L122)","v":29},null,null,null,"Total Sequences in Block Data",{"$f":"COUNTA(L123:L151)","v":29},null,null,null,"Total Sequences in Block Data",{"$f":"COUNTA(L152:L180)","v":29}]
[null,null,null,null,null,null,null,null,null,null,null,null,null,null,null,"Total Sequences in Summary",{"$f":"SUM(O7:O14)","v":174},null,null,null,null,"Total Sequences in Block Summary",{"$f":"SUM(U7:U14)","v":29},null,null,null,"Total Sequences in Block Summary",{"$f":"SUM(Z7:Z14)","v":29},null,null,null,"Total Sequences in Block Summary",{"$f":"SUM(AE7:AE14)","v":29},null,null,null,"Total Sequences in Block Summary",{"$f":"SUM(AJ7:AJ14)","v":29},null,null,null,"Total Sequences in Block Summary",{"$f":"SUM(AO7:AO14)","v":29},null,null,null,"Total Sequences in Block Summary",{"$f":"SUM(AT7:AT14)","v":29}]
[null,null,null,null,null,null,null,null,null,null,null,null,null,null,null,null,null,null,null,"Block 1",null,null,null,null,"Block 2",null,null,null,null,"Block 3",null,null,null,null,"Block 4",null,null,null,null,"Block 5",null,null,null,null,"Block 6"]
["Sequence\nComponent\n1","Time\n1","Sequence\nComponent\n2","Time\n2","Sequence\nComponent\n3","Time\n3","Sequence\nComponent\n4","Time\n4","Sequence\nComponent\n5","Time\n5","Correct?\n0=No 1=Yes","Sequence",null,"Frequency",null,"Relative Frequency","Variability",null,null,"Frequency",null,"Relative Frequency","Variability",null,"Frequency",null,"Relative Frequency","Variability",null,"Frequency",null,"Relative Frequency","Variability",null,"Frequency",null,"Relative Frequency","Variability",null,"Frequency",null,"Relative Frequency","Variability",null,"Frequency",null,"Relative Frequency","Variability"]
[12,9,13,13,13,19,null,null,null,null,0,111,null,111,{"$f":"COUNTIF($L$7:$L$500,N7)","v":144},{"$f":"O7/$Q$4","v":0.82758620689655171},{"$f":"IF(P7=0,0,(P7*((LOG(P7))/LOG(2))))","v":-0.2259463401984132},null,null,{"$f":"N7","v":111},{"$f":"COUNTIF(L7:L35,T7)","v":23},{"$f":"U7/(W4-U11)","v":0.88461538461538458},{"$f":"IF(V7=0,0,(V7*((LOG(V7))/LOG(2))))","v":-0.15646878953591634},null,{"$f":"N7","v":111},{"$f":"COUNTIF(L36:L64,Y7)","v":21},{"$f":"Z7/(AB4-Z11)","v":0.84},{"$f":"IF(AA7=0,0,(AA7*((LOG(AA7))/LOG(2))))","v":-0.21129256427661014},null,{"$f":"N7","v":111},{"$f":"COUNTIF(L65:L93,AD7)","v":25},{"$f":"AE7/(AG4-AE11)","v":0.96153846153846156},{"$f":"IF(AF7=0,0,(AF7*((LOG(AF7))/LOG(2))))","v":-5.4407238813814832E-2},null,{"$f":"N7","v":111},{"$f":"COUNTIF(L94:L122,AI7)","v":24},{"$f":"AJ7/(AL4-AJ11)","v":1},{"$f":"IF(AK7=0,0,(AK7*((LOG(AK7))/LOG(2))))","v":0},null,{"$f":"N7","v":111},{"$f":"COUNTIF(L123:L151,AN7)","v":24},{"$f":"AO7/(AQ4-AO11)","v":0.88888888888888884},{"$f":"IF(AP7=0,0,(AP7*((LOG(AP7))/LOG(2))))","v":-0.15104444572649992},null,{"$f":"N7","v":111},{"$f":"COUNTIF(L152:L180,AS7)","v":27},{"$f":"AT7/(AV4-AT11)","v":0.9642857142857143},{"$f":"IF(AU7=0,0,(AU7*((LOG(AU7))/LOG(2))))","v":-5.0593583469344984E-2}]
[12,119,13,123,13,130,null,null,null,null,0,111,null,112,11,6.3218390804597707E-2,-0.25183121062830888,null,null,112,{"$f":"COUNTIF(L7:L35,T8)","v":3},{"$f":"U8/(W4-U11)","v":0.11538461538461539},{"$f":"IF(V8=0,0,(V8*((LOG(V8))/LOG(2))))","v":-0.35947814047153104},null,112,{"$f":"COUNTIF(L36:L64,Y8)","v":4},{"$f":"Z8/(AB4-Z11)","v":0.16},{"$f":"IF(AA8=0,0,(AA8*((LOG(AA8))/LOG(2))))","v":-0.42301699036395596},null,112,{"$f":"COUNTIF(L65:L93,AD8)","v":1},{"$f":"AE8/(AG4-AE11)","v":3.8461538461538464E-2},{"$f":"IF(AF8=0,0,(AF8*((LOG(AF8))/LOG(2))))","v":-0.18078614300542661},null,112,{"$f":"COUNTIF(L94:L122,AI8)","v":0},{"$f":"AJ8/(AL4-AJ11)","v":0},{"$f":"IF(AK8=0,0,(AK8*((LOG(AK8))/LOG(2))))","v":0},null,112,{"$f":"COUNTIF(L123:L151,AN8)","v":2},{"$f":"AO8/(AQ4-AO11)","v":7.407407407407407E-2},{"$f":"IF(AP8=0,0,(AP8*((LOG(AP8))/LOG(2))))","v":-0.27813981497507173},null,112,{"$f":"COUNTIF(L152:L180,AS8)","v":1},{"$f":"AT8/(AV4-AT11)","v":3.5714285714285712E-2},{"$f":"IF(AU8=0,0,(AU8*((LOG(AU8))/LOG(2))))","v":-0.17169124721634299}]
[12,230,13,232,13,236,null,null,null,null,0,111,null,121,0,0,0,null,null,121,{"$f":"COUNTIF(L7:L35,T9)","v":0},{"$f":"U9/(W4-U11)","v":0},{"$f":"IF(V9=0,0,(V9*((LOG(V9))/LOG(2))))","v":0},null,121,{"$f":"COUNTIF(L36:L64,Y9)","v":0},{"$f":"Z9/(AB4-Z11)","v":0},{"$f":"IF(AA9=0,0,(AA9*((LOG(AA9))/LOG(2))))","v":0},null,121,{"$f":"COUNTIF(L65:L93,AD9)","v":0},{"$f":"AE9/(AG4-AE11)","v":0},{"$f":"IF(AF9=0,0,(AF9*((LOG(AF9))/LOG(2))))","v":0},null,121,{"$f":"COUNTIF(L94:L122,AI9)","v":0},{"$f":"AJ9/(AL4-AJ11)","v":0},{"$f":"IF(AK9=0,0,(AK9*((LOG(AK9))/LOG(2))))","v":0},null,121,{"$f":"COUNTIF(L123:L151,AN9)","v":0},{"$f":"AO9/(AQ4-AO11)","v":0},{"$f":"IF(AP9=0,0,(AP9*((LOG(AP9))/LOG(2))))","v":0},null,121,{"$f":"COUNTIF(L152:L180,AS9)","v":0},{"$f":"AT9/(AV4-AT11)","v":0},{"$f":"IF(AU9=0,0,(AU9*((LOG(AU9))/LOG(2))))","v":0}]
[12,337,13,340,13,346,null,null,null,null,0,111,null,122,1,5.7471264367816091E-3,-4.2775537332463962E-2,null,null,122,{"$f":"COUNTIF(L7:L35,T10)","v":0},{"$f":"U10/(W4-U11)","v":0},{"$f":"IF(V10=0,0,(V10*((LOG(V10))/LOG(2))))","v":0},null,122,{"$f":"COUNTIF(L36:L64,Y10)","v":0},{"$f":"Z10/(AB4-Z11)","v":0},{"$f":"IF(AA10=0,0,(AA10*((LOG(AA10))/LOG(2))))","v":0},null,122,{"$f":"COUNTIF(L65:L93,AD10)","v":0},{"$f":"AE10/(AG4-AE11)","v":0},{"$f":"IF(AF10=0,0,(AF10*((LOG(AF10))/LOG(2))))","v":0},null,122,{"$f":"COUNTIF(L94:L122,AI10)","v":0},{"$f":"AJ10/(AL4-AJ11)","v":0},{"$f":"IF(AK10=0,0,(AK10*((LOG(AK10))/LOG(2))))","v":0},null,122,{"$f":"COUNTIF(L123:L151,AN10)","v":1},{"$f":"AO10/(AQ4-AO11)","v":3.7037037037037035E-2},{"$f":"IF(AP10=0,0,(AP10*((LOG(AP10))/LOG(2))))","v":-0.1761069445245729},null,122,{"$f":"COUNTIF(L152:L180,AS10)","v":0},{"$f":"AT10/(AV4-AT11)","v":0},{"$f":"IF(AU10=0,0,(AU10*((LOG(AU10))/LOG(2))))","v":0}]
[21,444,11,449,11,452,null,null,null,null,0,211,null,211,18,0.10344827586206896,-0.33858812011100858,null,null,211,{"$f":"COUNTIF(L7:L35,T11)","v":3},null,null,null,211,{"$f":"COUNTIF(L36:L64,Y11)","v":4},null,null,null,211,{"$f":"COUNTIF(L65:L93,AD11)","v":3},null,null,null,211,{"$f":"COUNTIF(L94:L122,AI11)","v":5},null,null,null,211,{"$f":"COUNTIF(L123:L151,AN11)","v":2},null,null,null,211,{"$f":"COUNTIF(L152:L180,AS11)","v":1}]
[12,554,13,558,24,568,null,null,null,null,0,112,null,212,0,0,0,null,null,212,{"$f":"COUNTIF(L7:L35,T12)","v":0},{"$f":"U12/(W4-U11)","v":0},{"$f":"IF(V12=0,0,(V12*((LOG(V12))/LOG(2))))","v":0},null,212,{"$f":"COUNTIF(L36:L64,Y12)","v":0},{"$f":"Z12/(AB4-Z11)","v":0},{"$f":"IF(AA12=0,0,(AA12*((LOG(AA12))/LOG(2))))","v":0},null,212,{"$f":"COUNTIF(L65:L93,AD12)","v":0},{"$f":"AE12/(AG4-AE11)","v":0},{"$f":"IF(AF12=0,0,(AF12*((LOG(AF12))/LOG(2))))","v":0},null,212,{"$f":"COUNTIF(L94:L122,AI12)","v":0},{"$f":"AJ12/(AL4-AJ11)","v":0},{"$f":"IF(AK12=0,0,(AK12*((LOG(AK12))/LOG(2))))","v":0},null,212,{"$f":"COUNTIF(L123:L151,AN12)","v":0},{"$f":"AO12/(AQ4-AO11)","v":0},{"$f":"IF(AP12=0,0,(AP12*((LOG(AP12))/LOG(2))))","v":0},null,212,{"$f":"COUNTIF(L152:L180,AS12)","v":0},{"$f":"AT12/(AV4-AT11)","v":0},{"$f":"IF(AU12=0,0,(AU12*((LOG(AU12))/LOG(2))))","v":0}]
[12,669,13,674,13,676,null,null,null,null,0,111,null,221,0,0,0,null,null,221,{"$f":"COUNTIF(L7:L35,T13)","v":0},{"$f":"U13/(W4-U11)","v":0},{"$f":"IF(V13=0,0,(V13*((LOG(V13))/LOG(2))))","v":0},null,221,{"$f":"COUNTIF(L36:L64,Y13)","v":0},{"$f":"Z13/(AB4-Z11)","v":0},{"$f":"IF(AA13=0,0,(AA13*((LOG(AA13))/LOG(2))))","v":0},null,221,{"$f":"COUNTIF(L65:L93,AD13)","v":0},{"$f":"AE13/(AG4-AE11)","v":0},{"$f":"IF(AF13=0,0,(AF13*((LOG(AF13))/LOG(2))))","v":0},null,221,{"$f":"COUNTIF(L94:L122,AI13)","v":0},{"$f":"AJ13/(AL4-AJ11)","v":0},{"$f":"IF(AK13=0,0,(AK13*((LOG(AK13))/LOG(2))))","v":0},null,221,{"$f":"COUNTIF(L123:L151,AN13)","v":0},{"$f":"AO13/(AQ4-AO11)","v":0},{"$f":"IF(AP13=0,0,(AP13*((LOG(AP13))/LOG(2))))","v":0},null,221,{"$f":"COUNTIF(L152:L180,AS13)","v":0},{"$f":"AT13/(AV4-AT11)","v":0},{"$f":"IF(AU13=0,0,(AU13*((LOG(AU13))/LOG(2))))","v":0}]
[12,777,13,781,13,787,null,null,null,null,0,111,null,222,0,0,0,null,null,222,{"$f":"COUNTIF(L7:L35,T14)","v":0},{"$f":"U14/(W4-U11)","v":0},{"$f":"IF(V14=0,0,(V14*((LOG(V14))/LOG(2))))","v":0},null,222,{"$f":"COUNTIF(L36:L64,Y14)","v":0},{"$f":"Z14/(AB4-Z11)","v":0},{"$f":"IF(AA14=0,0,(AA14*((LOG(AA14))/LOG(2))))","v":0},null,222,{"$f":"COUNTIF(L65:L93,AD14)","v":0},{"$f":"AE14/(AG4-AE11)","v":0},{"$f":"IF(AF14=0,0,(AF14*((LOG(AF14))/LOG(2))))","v":0},null,222,{"$f":"COUNTIF(L94:L122,AI14)","v":0},{"$f":"AJ14/(AL4-AJ11)","v":0},{"$f":"IF(AK14=0,0,(AK14*((LOG(AK14))/LOG(2))))","v":0},null,222,{"$f":"COUNTIF(L123:L151,AN14)","v":0},{"$f":"AO14/(AQ4-AO11)","v":0},{"$f":"IF(AP14=0,0,(AP14*((LOG(AP14))/LOG(2))))","v":0},null,222,{"$f":"COUNTIF(L152:L180,AS14)","v":0},{"$f":"AT14/(AV4-AT11)","v":0},{"$f":"IF(AU14=0,0,(AU14*((LOG(AU14))/LOG(2))))","v":0}]
[12,884,13,888,13,892,null,null,null,null,0,111,null,null,null,{"$f":"SUM(P7:P14)","v":1},{"$f":"-SUM(Q7:Q14)","v":0.85914120827019458},null,null,null,null,{"$f":"SUM(V7:V14)","v":1},{"$f":"-SUM(W7:W14)","v":0.5159469300074474},null,null,null,{"$f":"SUM(AA7:AA14)","v":1},{"$f":"-SUM(AB7:AB14)","v":0.63430955464056615},null,null,null,{"$f":"SUM(AF7:AF14)","v":1},{"$f":"-SUM(AG7:AG14)","v":0.23519338181924143},null,null,null,{"$f":"SUM(AK7:AK14)","v":1},{"$f":"-SUM(AL7:AL14)","v":0},null,null,null,{"$f":"SUM(AP7:AP14)","v":1},{"$f":"-SUM(AQ7:AQ14)","v":0.60529120522614455},null,null,null,{"$f":"SUM(AU7:AU14)","v":1},{"$f":"-SUM(AV7:AV14)","v":0.22228483068568797}]
[12,993,13,1001,13,1007,null,null,null,null,0,111,null,null,null,"U=",{"$f":"Q15/(LOG(Q4)/LOG(2))","v":0.11543030102934101},null,null,null,null,"U1=",{"$f":"W15/(LOG(W4)/LOG(2))","v":0.10620604125971854},null,null,null,"U2=",{"$f":"AB15/(LOG(AB4)/LOG(2))","v":0.13057061262214942},null,null,null,"U3=",{"$f":"AG15/(LOG(AG4)/LOG(2))","v":4.8413812663148384E-2},null,null,null,"U4=",{"$f":"AL15/(LOG(AL4)/LOG(2))","v":0},null,null,null,"U5=",{"$f":"AQ15/(LOG(AQ4)/LOG(2))","v":0.12459727731196063},null,null,null,"U6=",{"$f":"AV15/(LOG(AV4)/LOG(2))","v":4.575662830065285E-2}]
[12,1099,13,1103,13,1112,null,null,null,null,0,111]
[12,1219,13,1221,24,1235,null,null,null,null,0,112]
[12,1334,13,1337,13,1341,null,null,null,null,0,111,null,"Total Target Seq"]
[12,1442,13,1446,13,1451,null,null,null,null,0,111,null,{"$f":"COUNTIF(L7:L180,G3)","v":18},null,29,29,29,29,29,29]
[12,1552,13,1560,13,1564,null,null,null,null,0,111,null,null,null,"% of reinforcement given in 6 equal intervals based on number of trials "]
[12,1674,13,1679,13,1685,null,null,null,null,0,111,null,null,null,"%_1","%_2","%_3","%_4","%_5","%_6"]
[12,1783,13,1786,13,1791,null,null,null,null,0,111,null,null,"target sequence",{"$f":"$G$3","v":211},211,211,211,211,211]
[12,1892,13,1895,13,1900,null,null,null,null,0,111,null,null,"total reinforcement",{"$f":"U11","v":3},{"$f":"Z11","v":4},{"$f":"AE11","v":3},{"$f":"AJ11","v":5},{"$f":"AO11","v":2},{"$f":"AT11","v":1}]
[21,1994,11,2000,11,2003,null,null,null,null,0,211,null,null,"% target"]
[12,2156,13,2159,13,2162,null,null,null,null,0,111,null,null,"CCRF"]
[12,2261,13,2264,13,2270,null,null,null,null,0,111,null,null,"% CCRf"]
[12,2370,13,2374,24,2383,null,null,null,null,0,112,null,null,"average response rate",{"$f":"F35/P20","v":108.82758620689656},{"$f":"(F64-F35)/Q20","v":119.31034482758621},{"$f":"(F93-F64)/R20","v":144.86206896551724},{"$f":"(F122-F93)/S20","v":117.41379310344827},{"$f":"(F151-F122)/T20","v":121.34482758620689},{"$f":"(F180-F151)/U20","v":136.82758620689654}]
[12,2481,13,2484,13,2491,null,null,null,null,0,111]
[21,2585,11,2591,11,2593,null,null,null,null,0,211]
[12,2701,13,2704,13,2710,null,null,null,null,0,111]
[12,2811,13,2816,13,2823,null,null,null,null,0,111]
[12,2923,13,2927,13,2931,null,null,null,null,0,111]
[12,3028,13,3040,13,3047,null,null,null,null,0,111]
[12,3144,13,3147,13,3156,null,null,null,null,0,111]
[12,3255,13,3258,24,3274,null,null,null,null,0,112]
[12,3372,13,3374,13,3378,null,null,null,null,0,111]
[12,3479,13,3482,13,3488,null,null,null,null,0,111]
[12,3586,13,3590,13,3594,null,null,null,null,0,111]
[21,3688,11,3693,11,3697,null,null,null,null,0,211]
[12,3797,13,3804,24,3809,null,null,null,null,0,112]
[12,3907,13,3910,13,3916,null,null,null,null,0,111]
[21,4009,11,4015,11,4020,null,null,null,null,0,211]
[12,4114,13,4117,13,4122,null,null,null,null,0,111]
[12,4220,13,4224,13,4230,null,null,null,null,0,111]
[12,4329,13,4333,13,4341,null,null,null,null,0,111]
[12,4443,13,4449,13,4461,null,null,null,null,0,111]
[12,4560,13,4565,13,4571,null,null,null,null,0,111]
[12,4663,13,4669,13,4674,null,null,null,null,0,111]
[12,4774,13,4778,24,4787,null,null,null,null,0,112]
[12,4886,13,4890,24,4902,null,null,null,null,0,112]
[12,5004,13,5008,13,5011,null,null,null,null,0,111]
[12,5109,13,5113,13,5119,null,null,null,null,0,111]
[12,5217,13,5221,13,5227,null,null,null,null,0,111]
[12,5325,13,5334,13,5339,null,null,null,null,0,111]
[12,5668,13,5671,13,5677,null,null,null,null,0,111]
[12,5776,13,5778,13,5782,null,null,null,null,0,111]
[12,5893,13,5896,13,5903,null,null,null,null,0,111]
[21,5997,11,6003,11,6008,null,null,null,null,0,211]
[12,6150,13,6159,13,6166,null,null,null,null,0,111]
[12,6265,13,6268,13,6277,null,null,null,null,0,111]
[21,6373,11,6377,11,6381,null,null,null,null,0,211]
[12,6501,13,6506,13,6510,null,null,null,null,0,111]
[12,6609,13,6612,13,6616,null,null,null,null,0,111]
[12,6716,13,6724,13,6731,null,null,null,null,0,111]
[12,6830,13,6833,13,6838,null,null,null,null,0,111]
[12,6936,13,6938,13,6942,null,null,null,null,0,111]
[12,7041,13,7045,13,7048,null,null,null,null,0,111]
[12,7147,13,7152,13,7159,null,null,null,null,0,111]
[12,7259,13,7262,13,7265,null,null,null,null,0,111]
[12,7363,13,7367,13,7372,null,null,null,null,0,111]
[12,7484,13,7490,13,7497,null,null,null,null,0,111]
[12,7596,13,7602,13,7612,null,null,null,null,0,111]
[12,7712,13,7718,13,7723,null,null,null,null,0,111]
[21,8025,11,8026,11,8033,null,null,null,null,0,211]
[12,8143,13,8149,13,8155,null,null,null,null,0,111]
[21,8280,11,8284,11,8289,null,null,null,null,0,211]
[12,8699,13,8703,13,8714,null,null,null,null,0,111]
[12,8812,13,8815,13,8819,null,null,null,null,0,111]
[12,8918,13,8921,13,8926,null,null,null,null,0,111]
[12,9025,13,9028,13,9032,null,null,null,null,0,111]
[12,9132,13,9134,13,9139,null,null,null,null,0,111]
[12,9238,13,9242,13,9246,null,null,null,null,0,111]
[12,9344,13,9347,13,9350,null,null,null,null,0,111]
[12,9455,13,9460,13,9465,null,null,null,null,0,111]
[12,9563,13,9567,24,9574,null,null,null,null,0,112]
[12,9673,13,9676,13,9681,null,null,null,null,0,111]
[21,9773,11,9780,11,9783,null,null,null,null,0,211]
[12,10355,13,10359,13,10363,null,null,null,null,0,111]
[12,10458,13,10461,13,10463,null,null,null,null,0,111]
[12,10576,13,10581,13,10587,null,null,null,null,0,111]
[12,10688,13,10691,13,10695,null,null,null,null,0,111]
[12,10807,13,10811,13,10817,null,null,null,null,0,111]
[12,10916,13,10920,13,10924,null,null,null,null,0,111]
[12,11022,13,11025,13,11029,null,null,null,null,0,111]
[12,11124,13,11126,13,11132,null,null,null,null,0,111]
[21,11231,11,11239,11,11244,null,null,null,null,0,211]
[12,11349,13,11355,13,11360,null,null,null,null,0,111]
[12,11456,13,11459,13,11462,null,null,null,null,0,111]
[12,11561,13,11564,13,11570,null,null,null,null,0,111]
[12,11692,13,11696,13,11702,null,null,null,null,0,111]
[12,11843,13,11848,13,11853,null,null,null,null,0,111]
[12,11953,13,11956,13,11960,null,null,null,null,0,111]
[12,12059,13,12062,13,12066,null,null,null,null,0,111]
[12,12164,13,12167,13,12171,null,null,null,null,0,111]
[12,12272,13,12276,13,12281,null,null,null,null,0,111]
[12,12380,13,12387,13,12393,null,null,null,null,0,111]
[12,12491,13,12495,13,12498,null,null,null,null,0,111]
[12,12597,13,12600,13,12604,null,null,null,null,0,111]
[12,12724,13,12730,13,12738,null,null,null,null,0,111]
[12,12834,13,12837,13,12840,null,null,null,null,0,111]
[12,12941,13,12944,13,12951,null,null,null,null,0,111]
[12,13050,13,13057,13,13066,null,null,null,null,0,111]
[21,13159,11,13166,11,13169,null,null,null,null,0,211]
[21,13343,11,13356,11,13361,null,null,null,null,0,211]
[12,13541,13,13545,13,13551,null,null,null,null,0,111]
[21,13644,11,13651,11,13657,null,null,null,null,0,211]
[12,13773,13,13780,13,13786,null,null,null,null,0,111]
[12,13885,13,13889,13,13892,null,null,null,null,0,111]
[12,13991,13,13994,13,13998,null,null,null,null,0,111]
[21,14090,11,14097,11,14099,null,null,null,null,0,211]
[12,14206,13,14212,13,14222,null,null,null,null,0,111]
[12,14320,13,14325,13,14335,null,null,null,null,0,111]
[12,14472,13,14477,13,14488,null,null,null,null,0,111]
[12,14590,13,14593,13,14599,null,null,null,null,0,111]
[12,14908,13,14912,13,14917,null,null,null,null,0,111]
[12,15008,13,15011,13,15015,null,null,null,null,0,111]
[21,15108,11,15114,11,15117,null,null,null,null,0,211]
[12,15232,13,15236,13,15240,null,null,null,null,0,111]
[12,15341,13,15344,13,15347,null,null,null,null,0,111]
[12,15448,13,15453,13,15460,null,null,null,null,0,111]
[12,15559,13,15561,13,15566,null,null,null,null,0,111]
[12,15665,13,15670,13,15675,null,null,null,null,0,111]
[12,15774,13,15776,13,15781,null,null,null,null,0,111]
[12,15874,13,15878,13,15888,null,null,null,null,0,111]
[12,15986,13,15991,13,15996,null,null,null,null,0,111]
[12,16095,13,16100,13,16105,null,null,null,null,0,111]
[12,16203,13,16208,13,16213,null,null,null,null,0,111]
[12,16312,13,16317,24,16327,null,null,null,null,0,112]
[12,16503,13,16506,13,16511,null,null,null,null,0,111]
[12,16610,13,16614,13,16616,null,null,null,null,0,111]
[12,16717,13,16720,13,16724,null,null,null,null,0,111]
[12,16822,13,16830,13,16836,null,null,null,null,0,111]
[12,16936,13,16938,13,16943,null,null,null,null,0,111]
[12,17050,13,17053,13,17062,null,null,null,null,0,111]
[12,17160,13,17163,13,17168,null,null,null,null,0,111]
[12,17267,13,17271,13,17276,null,null,null,null,0,111]
[12,17378,13,17383,24,17391,null,null,null,null,0,112]
[12,17495,24,17504,24,17510,null,null,null,null,0,122]
[21,17607,11,17613,11,17616,null,null,null,null,0,211]
[12,17725,13,17727,13,17741,null,null,null,null,0,111]
[12,17838,13,17843,13,17852,null,null,null,null,0,111]
[12,17952,13,17955,13,17959,null,null,null,null,0,111]
[12,18058,13,18061,13,18063,null,null,null,null,0,111]
[12,18162,13,18166,13,18171,null,null,null,null,0,111]
[12,18270,13,18273,13,18278,null,null,null,null,0,111]
[12,18378,13,18386,13,18392,null,null,null,null,0,111]
[12,18491,13,18497,13,18503,null,null,null,null,0,111]
[12,18604,13,18609,13,18615,null,null,null,null,0,111]
[12,18787,13,18789,13,18796,null,null,null,null,0,111]
[12,18897,13,18901,13,18907,null,null,null,null,0,111]
[12,19006,13,19009,13,19014,null,null,null,null,0,111]
[12,19145,13,19149,13,19154,null,null,null,null,0,111]
[12,19850,13,19855,13,19862,null,null,null,null,0,111]
[12,19956,13,19960,13,19967,null,null,null,null,0,111]
[12,20061,13,20065,13,20077,null,null,null,null,0,111]
[12,20177,13,20180,13,20186,null,null,null,null,0,111]
[12,20287,13,20291,13,20297,null,null,null,null,0,111]
[12,20412,13,20415,13,20426,null,null,null,null,0,111]
[12,20528,13,20532,24,20539,null,null,null,null,0,112]
[12,20639,13,20641,13,20646,null,null,null,null,0,111]
[12,20746,13,20754,13,20761,null,null,null,null,0,111]
[12,20863,13,20867,13,20873,null,null,null,null,0,111]
[12,20995,13,20997,13,21001,null,null,null,null,0,111]
[12,21101,13,21103,13,21110,null,null,null,null,0,111]
[12,21234,13,21238,13,21244,null,null,null,null,0,111]
[12,21344,13,21347,13,21376,null,null,null,null,0,111]
[12,21477,13,21483,13,21489,null,null,null,null,0,111]
[12,21589,13,21592,13,21596,null,null,null,null,0,111]
[21,21691,11,21697,11,21709,null,null,null,null,1,211]

{"sheet":"!N204A1T.AYL","index":6,"n_rows":144,"n_cols":48,"rows_kept":144,"cut":false,"hidden":false,"merged":[[1,1,1,2],[5,13,5,14],[18,13,18,14],[19,13,19,14],[4,19,4,22],[5,19,5,20],[4,39,4,42],[5,39,5,40],[4,44,4,47],[5,44,5,45],[4,24,4,27],[5,24,5,25],[4,29,4,32],[5,29,5,30],[4,34,4,37],[5,34,5,35]]}
["Report for:!N204A1T.AYL"]
["Date:","<date>"]
["Hen:","<hen>",null,null,null,"Correct Sequence",{"$f":"Start!J2","v":211},null,null,null,null,null,null,null,null,"Total Sequences in Data",{"$f":"4994-COUNTBLANK(L7:L5000)","v":138},null,null,null,null,"Total Sequences in Block Data",{"$f":"COUNTA(L7:L29)","v":23},null,null,null,"Total Sequences in Block Data",{"$f":"COUNTA(L30:L52)","v":23},null,null,null,"Total Sequences in Block Data",{"$f":"COUNTA(L53:L75)","v":23},null,null,null,"Total Sequences in Block Data",{"$f":"COUNTA(L76:L98)","v":23},null,null,null,"Total Sequences in Block Data",{"$f":"COUNTA(L99:L121)","v":23},null,null,null,"Total Sequences in Block Data",{"$f":"COUNTA(L122:L144)","v":23}]
[null,null,null,null,null,null,null,null,null,null,null,null,null,null,null,"Total Sequences in Summary",{"$f":"SUM(O7:O14)","v":138},null,null,null,null,"Total Sequences in Block Summary",{"$f":"SUM(U7:U14)","v":23},null,null,null,"Total Sequences in Block Summary",{"$f":"SUM(Z7:Z14)","v":23},null,null,null,"Total Sequences in Block Summary",{"$f":"SUM(AE7:AE14)","v":23},null,null,null,"Total Sequences in Block Summary",{"$f":"SUM(AJ7:AJ14)","v":23},null,null,null,"Total Sequences in Block Summary",{"$f":"SUM(AO7:AO14)","v":23},null,null,null,"Total Sequences in Block Summary",{"$f":"SUM(AT7:AT14)","v":23}]
[null,null,null,null,null,null,null,null,null,null,null,null,null,null,null,null,null,null,null,"Block 1",null,null,null,null,"Block 2",null,null,null,null,"Block 3",null,null,null,null,"Block 4",null,null,null,null,"Block 5",null,null,null,null,"Block 6"]
["Sequence\nComponent\n1","Time\n1","Sequence\nComponent\n2","Time\n2","Sequence\nComponent\n3","Time\n3","Sequence\nComponent\n4","Time\n4","Sequence\nComponent\n5","Time\n5","Correct?\n0=No 1=Yes","Sequence",null,"Frequency",null,"Relative Frequency","Variability",null,null,"Frequency",null,"Relative Frequency","Variability",null,"Frequency",null,"Relative Frequency","Variability",null,"Frequency",null,"Relative Frequency","Variability",null,"Frequency",null,"Relative Frequency","Variability",null,"Frequency",null,"Relative Frequency","Variability",null,"Frequency",null,"Relative Frequency","Variability"]
[12,11,13,16,13,19,null,null,null,null,0,111,null,111,{"$f":"COUNTIF($L$7:$L$500,N7)","v":97},{"$f":"O7/$Q$4","v":0.70289855072463769},{"$f":"IF(P7=0,0,(P7*((LOG(P7))/LOG(2))))","v":-0.35750236677776093},null,null,{"$f":"N7","v":111},{"$f":"COUNTIF(L7:L29,T7)","v":15},{"$f":"U7/(W4-U11)","v":0.75},{"$f":"IF(V7=0,0,(V7*((LOG(V7))/LOG(2))))","v":-0.31127812445913283},null,{"$f":"N7","v":111},{"$f":"COUNTIF(L30:L52,Y7)","v":17},{"$f":"Z7/(AB4-Z11)","v":0.80952380952380953},{"$f":"IF(AA7=0,0,(AA7*((LOG(AA7))/LOG(2))))","v":-0.24678704218967404},null,{"$f":"N7","v":111},{"$f":"COUNTIF(L53:L75,AD7)","v":18},{"$f":"AE7/(AG4-AE11)","v":0.9},{"$f":"IF(AF7=0,0,(AF7*((LOG(AF7))/LOG(2))))","v":-0.13680278410054494},null,{"$f":"N7","v":111},{"$f":"COUNTIF(L76:L98,AI7)","v":19},{"$f":"AJ7/(AL4-AJ11)","v":0.95},{"$f":"IF(AK7=0,0,(AK7*((LOG(AK7))/LOG(2))))","v":-7.0300552371588068E-2},null,{"$f":"N7","v":111},{"$f":"COUNTIF(L99:L121,AN7)","v":15},{"$f":"AO7/(AQ4-AO11)","v":0.9375},{"$f":"IF(AP7=0,0,(AP7*((LOG(AP7))/LOG(2))))","v":-8.729006661701387E-2},null,{"$f":"N7","v":111},{"$f":"COUNTIF(L122:L144,AS7)","v":13},{"$f":"AT7/(AV4-AT11)","v":0.76470588235294112},{"$f":"IF(AU7=0,0,(AU7*((LOG(AU7))/LOG(2))))","v":-0.29595885884824796}]
[12,117,13,120,13,125,null,null,null,null,0,111,null,112,10,7.2463768115942032E-2,-0.2743910407167251,null,null,112,{"$f":"COUNTIF(L7:L29,T8)","v":2},{"$f":"U8/(W4-U11)","v":0.1},{"$f":"IF(V8=0,0,(V8*((LOG(V8))/LOG(2))))","v":-0.33219280948873625},null,112,{"$f":"COUNTIF(L30:L52,Y8)","v":4},{"$f":"Z8/(AB4-Z11)","v":0.19047619047619047},{"$f":"IF(AA8=0,0,(AA8*((LOG(AA8))/LOG(2))))","v":-0.4556795091007162},null,112,{"$f":"COUNTIF(L53:L75,AD8)","v":1},{"$f":"AE8/(AG4-AE11)","v":0.05},{"$f":"IF(AF8=0,0,(AF8*((LOG(AF8))/LOG(2))))","v":-0.21609640474436814},null,112,{"$f":"COUNTIF(L76:L98,AI8)","v":1},{"$f":"AJ8/(AL4-AJ11)","v":0.05},{"$f":"IF(AK8=0,0,(AK8*((LOG(AK8))/LOG(2))))","v":-0.21609640474436814},null,112,{"$f":"COUNTIF(L99:L121,AN8)","v":0},{"$f":"AO8/(AQ4-AO11)","v":0},{"$f":"IF(AP8=0,0,(AP8*((LOG(AP8))/LOG(2))))","v":0},null,112,{"$f":"COUNTIF(L122:L144,AS8)","v":2},{"$f":"AT8/(AV4-AT11)","v":0.11764705882352941},{"$f":"IF(AU8=0,0,(AU8*((LOG(AU8))/LOG(2))))","v":-0.36323092250003997}]
[12,224,13,229,13,233,null,null,null,null,0,111,null,121,3,2.1739130434782608E-2,-0.12007743382732637,null,null,121,{"$f":"COUNTIF(L7:L29,T9)","v":2},{"$f":"U9/(W4-U11)","v":0.1},{"$f":"IF(V9=0,0,(V9*((LOG(V9))/LOG(2))))","v":-0.33219280948873625},null,121,{"$f":"COUNTIF(L30:L52,Y9)","v":0},{"$f":"Z9/(AB4-Z11)","v":0},{"$f":"IF(AA9=0,0,(AA9*((LOG(AA9))/LOG(2))))","v":0},null,121,{"$f":"COUNTIF(L53:L75,AD9)","v":1},{"$f":"AE9/(AG4-AE11)","v":0.05},{"$f":"IF(AF9=0,0,(AF9*((LOG(AF9))/LOG(2))))","v":-0.21609640474436814},null,121,{"$f":"COUNTIF(L76:L98,AI9)","v":0},{"$f":"AJ9/(AL4-AJ11)","v":0},{"$f":"IF(AK9=0,0,(AK9*((LOG(AK9))/LOG(2))))","v":0},null,121,{"$f":"COUNTIF(L99:L121,AN9)","v":0},{"$f":"AO9/(AQ4-AO11)","v":0},{"$f":"IF(AP9=0,0,(AP9*((LOG(AP9))/LOG(2))))","v":0},null,121,{"$f":"COUNTIF(L122:L144,AS9)","v":0},{"$f":"AT9/(AV4-AT11)","v":0},{"$f":"IF(AU9=0,0,(AU9*((LOG(AU9))/LOG(2))))","v":0}]
[21,327,11,332,11,335,null,null,null,null,0,211,null,122,0,0,0,null,null,122,{"$f":"COUNTIF(L7:L29,T10)","v":0},{"$f":"U10/(W4-U11)","v":0},{"$f":"IF(V10=0,0,(V10*((LOG(V10))/LOG(2))))","v":0},null,122,{"$f":"COUNTIF(L30:L52,Y10)","v":0},{"$f":"Z10/(AB4-Z11)","v":0},{"$f":"IF(AA10=0,0,(AA10*((LOG(AA10))/LOG(2))))","v":0},null,122,{"$f":"COUNTIF(L53:L75,AD10)","v":0},{"$f":"AE10/(AG4-AE11)","v":0},{"$f":"IF(AF10=0,0,(AF10*((LOG(AF10))/LOG(2))))","v":0},null,122,{"$f":"COUNTIF(L76:L98,AI10)","v":0},{"$f":"AJ10/(AL4-AJ11)","v":0},{"$f":"IF(AK10=0,0,(AK10*((LOG(AK10))/LOG(2))))","v":0},null,122,{"$f":"COUNTIF(L99:L121,AN10)","v":0},{"$f":"AO10/(AQ4-AO11)","v":0},{"$f":"IF(AP10=0,0,(AP10*((LOG(AP10))/LOG(2))))","v":0},null,122,{"$f":"COUNTIF(L122:L144,AS10)","v":0},{"$f":"AT10/(AV4-AT11)","v":0},{"$f":"IF(AU10=0,0,(AU10*((LOG(AU10))/LOG(2))))","v":0}]
[12,434,13,437,13,443,null,null,null,null,0,111,null,211,24,0.17391304347826086,-0.43888034018382832,null,null,211,{"$f":"COUNTIF(L7:L29,T11)","v":3},null,null,null,211,{"$f":"COUNTIF(L30:L52,Y11)","v":2},null,null,null,211,{"$f":"COUNTIF(L53:L75,AD11)","v":3},null,null,null,211,{"$f":"COUNTIF(L76:L98,AI11)","v":3},null,null,null,211,{"$f":"COUNTIF(L99:L121,AN11)","v":7},null,null,null,211,{"$f":"COUNTIF(L122:L144,AS11)","v":6}]
[21,539,11,542,11,545,null,null,null,null,0,211,null,212,1,7.246376811594203E-3,-5.1511046788247604E-2,null,null,212,{"$f":"COUNTIF(L7:L29,T12)","v":0},{"$f":"U12/(W4-U11)","v":0},{"$f":"IF(V12=0,0,(V12*((LOG(V12))/LOG(2))))","v":0},null,212,{"$f":"COUNTIF(L30:L52,Y12)","v":0},{"$f":"Z12/(AB4-Z11)","v":0},{"$f":"IF(AA12=0,0,(AA12*((LOG(AA12))/LOG(2))))","v":0},null,212,{"$f":"COUNTIF(L53:L75,AD12)","v":0},{"$f":"AE12/(AG4-AE11)","v":0},{"$f":"IF(AF12=0,0,(AF12*((LOG(AF12))/LOG(2))))","v":0},null,212,{"$f":"COUNTIF(L76:L98,AI12)","v":0},{"$f":"AJ12/(AL4-AJ11)","v":0},{"$f":"IF(AK12=0,0,(AK12*((LOG(AK12))/LOG(2))))","v":0},null,212,{"$f":"COUNTIF(L99:L121,AN12)","v":0},{"$f":"AO12/(AQ4-AO11)","v":0},{"$f":"IF(AP12=0,0,(AP12*((LOG(AP12))/LOG(2))))","v":0},null,212,{"$f":"COUNTIF(L122:L144,AS12)","v":1},{"$f":"AT12/(AV4-AT11)","v":5.8823529411764705E-2},{"$f":"IF(AU12=0,0,(AU12*((LOG(AU12))/LOG(2))))","v":-0.24043899066178465}]
[12,696,24,711,13,722,null,null,null,null,0,121,null,221,3,2.1739130434782608E-2,-0.12007743382732637,null,null,221,{"$f":"COUNTIF(L7:L29,T13)","v":1},{"$f":"U13/(W4-U11)","v":0.05},{"$f":"IF(V13=0,0,(V13*((LOG(V13))/LOG(2))))","v":-0.21609640474436814},null,221,{"$f":"COUNTIF(L30:L52,Y13)","v":0},{"$f":"Z13/(AB4-Z11)","v":0},{"$f":"IF(AA13=0,0,(AA13*((LOG(AA13))/LOG(2))))","v":0},null,221,{"$f":"COUNTIF(L53:L75,AD13)","v":0},{"$f":"AE13/(AG4-AE11)","v":0},{"$f":"IF(AF13=0,0,(AF13*((LOG(AF13))/LOG(2))))","v":0},null,221,{"$f":"COUNTIF(L76:L98,AI13)","v":0},{"$f":"AJ13/(AL4-AJ11)","v":0},{"$f":"IF(AK13=0,0,(AK13*((LOG(AK13))/LOG(2))))","v":0},null,221,{"$f":"COUNTIF(L99:L121,AN13)","v":1},{"$f":"AO13/(AQ4-AO11)","v":6.25E-2},{"$f":"IF(AP13=0,0,(AP13*((LOG(AP13))/LOG(2))))","v":-0.25},null,221,{"$f":"COUNTIF(L122:L144,AS13)","v":1},{"$f":"AT13/(AV4-AT11)","v":5.8823529411764705E-2},{"$f":"IF(AU13=0,0,(AU13*((LOG(AU13))/LOG(2))))","v":-0.24043899066178465}]
[12,821,13,825,13,830,null,null,null,null,0,111,null,222,0,0,0,null,null,222,{"$f":"COUNTIF(L7:L29,T14)","v":0},{"$f":"U14/(W4-U11)","v":0},{"$f":"IF(V14=0,0,(V14*((LOG(V14))/LOG(2))))","v":0},null,222,{"$f":"COUNTIF(L30:L52,Y14)","v":0},{"$f":"Z14/(AB4-Z11)","v":0},{"$f":"IF(AA14=0,0,(AA14*((LOG(AA14))/LOG(2))))","v":0},null,222,{"$f":"COUNTIF(L53:L75,AD14)","v":0},{"$f":"AE14/(AG4-AE11)","v":0},{"$f":"IF(AF14=0,0,(AF14*((LOG(AF14))/LOG(2))))","v":0},null,222,{"$f":"COUNTIF(L76:L98,AI14)","v":0},{"$f":"AJ14/(AL4-AJ11)","v":0},{"$f":"IF(AK14=0,0,(AK14*((LOG(AK14))/LOG(2))))","v":0},null,222,{"$f":"COUNTIF(L99:L121,AN14)","v":0},{"$f":"AO14/(AQ4-AO11)","v":0},{"$f":"IF(AP14=0,0,(AP14*((LOG(AP14))/LOG(2))))","v":0},null,222,{"$f":"COUNTIF(L122:L144,AS14)","v":0},{"$f":"AT14/(AV4-AT11)","v":0},{"$f":"IF(AU14=0,0,(AU14*((LOG(AU14))/LOG(2))))","v":0}]
[12,930,13,936,13,944,null,null,null,null,0,111,null,null,null,{"$f":"SUM(P7:P14)","v":1},{"$f":"-SUM(Q7:Q14)","v":1.3624396621212145},null,null,null,null,{"$f":"SUM(V7:V14)","v":1},{"$f":"-SUM(W7:W14)","v":1.1917601481809734},null,null,null,{"$f":"SUM(AA7:AA14)","v":1},{"$f":"-SUM(AB7:AB14)","v":0.70246655129039026},null,null,null,{"$f":"SUM(AF7:AF14)","v":1},{"$f":"-SUM(AG7:AG14)","v":0.5689955935892812},null,null,null,{"$f":"SUM(AK7:AK14)","v":1},{"$f":"-SUM(AL7:AL14)","v":0.2863969571159562},null,null,null,{"$f":"SUM(AP7:AP14)","v":1},{"$f":"-SUM(AQ7:AQ14)","v":0.33729006661701388},null,null,null,{"$f":"SUM(AU7:AU14)","v":1},{"$f":"-SUM(AV7:AV14)","v":1.1400677626718572}]
[12,1043,24,1046,13,1048,null,null,null,null,0,121,null,null,null,"U=",{"$f":"Q15/(LOG(Q4)/LOG(2))","v":0.19166279449486759},null,null,null,null,"U1=",{"$f":"W15/(LOG(W4)/LOG(2))","v":0.26345613473586144},null,null,null,"U2=",{"$f":"AB15/(LOG(AB4)/LOG(2))","v":0.1552905781139558},null,null,null,"U3=",{"$f":"AG15/(LOG(AG4)/LOG(2))","v":0.1257848569593262},null,null,null,"U4=",{"$f":"AL15/(LOG(AL4)/LOG(2))","v":6.331226584229116E-2},null,null,null,"U5=",{"$f":"AQ15/(LOG(AQ4)/LOG(2))","v":7.4562937325393583E-2},null,null,null,"U6=",{"$f":"AV15/(LOG(AV4)/LOG(2))","v":0.25202877151827568}]
[21,1165,22,1170,13,1184,null,null,null,null,0,221]
[12,1284,13,1288,13,1295,null,null,null,null,0,111]
[12,1394,13,1397,13,1406,null,null,null,null,0,111,null,"Total Target Seq"]
[12,1505,13,1508,13,1514,null,null,null,null,0,111,null,{"$f":"COUNTIF(L7:L144,G3)","v":24},null,23,23,23,23,23,23]
[21,1610,11,1613,11,1617,null,null,null,null,0,211,null,null,null,"% of reinforcement given in 6 equal intervals based on number of trials "]
[12,1748,13,1757,13,1763,null,null,null,null,0,111,null,null,null,"%_1","%_2","%_3","%_4","%_5","%_6"]
[12,1862,13,1875,13,1884,null,null,null,null,0,111,null,null,"target sequence",{"$f":"$G$3","v":211},211,211,211,211,211]
[12,1984,13,1988,13,1997,null,null,null,null,0,111,null,null,"total reinforcement",{"$f":"U11","v":3},{"$f":"Z11","v":2},{"$f":"AE11","v":3},{"$f":"AJ11","v":3},{"$f":"AO11","v":7},{"$f":"AT11","v":6}]
[12,2092,13,2096,13,2107,null,null,null,null,0,111,null,null,"% target"]
[12,2206,13,2212,13,2218,null,null,null,null,0,111,null,null,"CCRF"]
[12,2319,13,2322,24,2330,null,null,null,null,0,112,null,null,"% CCRf"]
[12,2422,13,2425,13,2431,null,null,null,null,0,111,null,null,"average response rate",{"$f":"F29/P20","v":110.69565217391305},{"$f":"(F52-F29)/Q20","v":144.78260869565219},{"$f":"(F75-F52)/R20","v":142.34782608695653},{"$f":"(F98-F75)/S20","v":137.2608695652174},{"$f":"(F121-F98)/T20","v":118.91304347826087},{"$f":"(F144-F121)/U20","v":126.43478260869566}]
[12,2529,13,2533,24,2546,null,null,null,null,0,112]
[12,2646,13,2650,24,2660,null,null,null,null,0,112]
[12,2758,13,2762,24,2768,null,null,null,null,0,112]
[12,2867,13,2870,13,2877,null,null,null,null,0,111]
[12,2974,13,2981,13,2988,null,null,null,null,0,111]
[12,3081,13,3084,13,3086,null,null,null,null,0,111]
[12,3185,13,3189,13,3195,null,null,null,null,0,111]
[12,3293,13,3300,13,3306,null,null,null,null,0,111]
[12,3405,13,3408,13,3416,null,null,null,null,0,111]
[12,3513,13,3516,13,3520,null,null,null,null,0,111]
[21,3613,11,3619,11,3624,null,null,null,null,0,211]
[12,4166,13,4171,13,4182,null,null,null,null,0,111]
[12,4309,13,4313,13,4318,null,null,null,null,0,111]
[12,4418,13,4421,13,4426,null,null,null,null,0,111]
[12,4524,13,4529,24,4544,null,null,null,null,0,112]
[12,4641,13,4646,13,4651,null,null,null,null,0,111]
[12,4749,13,4756,13,4763,null,null,null,null,0,111]
[21,4856,11,4863,11,4866,null,null,null,null,0,211]
[12,5130,13,5136,13,5146,null,null,null,null,0,111]
[12,5246,13,5251,13,5260,null,null,null,null,0,111]
[12,5359,13,5363,24,5374,null,null,null,null,0,112]
[12,5473,13,5476,13,5481,null,null,null,null,0,111]
[12,5579,13,5582,13,5586,null,null,null,null,0,111]
[12,5866,13,5870,13,5876,null,null,null,null,0,111]
[12,5974,13,5978,13,5982,null,null,null,null,0,111]
[12,6081,13,6084,13,6089,null,null,null,null,0,111]
[21,6188,11,6192,11,6195,null,null,null,null,0,211]
[12,6368,13,6378,13,6390,null,null,null,null,0,111]
[12,6489,13,6492,13,6499,null,null,null,null,0,111]
[12,6598,13,6600,13,6609,null,null,null,null,0,111]
[21,6703,11,6709,11,6714,null,null,null,null,0,211]
[12,6989,13,6992,13,6998,null,null,null,null,0,111]
[12,7118,13,7120,13,7124,null,null,null,null,0,111]
[12,7222,13,7226,13,7232,null,null,null,null,0,111]
[12,7333,13,7336,24,7359,null,null,null,null,0,112]
[12,7461,13,7465,13,7472,null,null,null,null,0,111]
[21,7566,11,7571,11,7573,null,null,null,null,0,211]
[12,7750,13,7764,13,7775,null,null,null,null,0,111]
[12,7874,13,7878,13,7885,null,null,null,null,0,111]
[12,7983,24,7985,13,7990,null,null,null,null,0,121]
[12,8145,13,8147,13,8160,null,null,null,null,0,111]
[12,8424,13,8429,13,8437,null,null,null,null,0,111]
[12,8537,13,8542,13,8550,null,null,null,null,0,111]
[12,8648,13,8651,13,8655,null,null,null,null,0,111]
[12,8754,13,8758,13,8764,null,null,null,null,0,111]
[12,9027,13,9037,13,9047,null,null,null,null,0,111]
[12,9143,13,9146,13,9150,null,null,null,null,0,111]
[12,9249,13,9255,13,9262,null,null,null,null,0,111]
[12,9361,13,9368,13,9376,null,null,null,null,0,111]
[12,9471,13,9473,13,9479,null,null,null,null,0,111]
[12,9582,13,9588,13,9596,null,null,null,null,0,111]
[12,9696,13,9702,13,9709,null,null,null,null,0,111]
[12,9808,13,9812,13,9818,null,null,null,null,0,111]
[12,9916,13,9920,13,9927,null,null,null,null,0,111]
[12,10057,13,10063,13,10069,null,null,null,null,0,111]
[12,10170,13,10175,13,10183,null,null,null,null,0,111]
[12,10282,13,10287,13,10295,null,null,null,null,0,111]
[12,10394,13,10399,13,10405,null,null,null,null,0,111]
[21,10498,11,10507,11,10511,null,null,null,null,0,211]
[12,10606,13,10610,24,10613,null,null,null,null,0,112]
[12,10710,13,10714,13,10721,null,null,null,null,0,111]
[21,10815,11,10822,11,10827,null,null,null,null,0,211]
[12,11263,13,11267,13,11277,null,null,null,null,0,111]
[12,11377,13,11385,13,11393,null,null,null,null,0,111]
[21,11485,11,11493,11,11499,null,null,null,null,0,211]
[12,11836,13,11841,13,11847,null,null,null,null,0,111]
[12,11946,13,11952,13,11964,null,null,null,null,0,111]
[12,12064,13,12073,13,12085,null,null,null,null,0,111]
[12,12184,13,12187,13,12193,null,null,null,null,0,111]
[12,12291,13,12294,13,12307,null,null,null,null,0,111]
[21,12400,11,12410,11,12427,null,null,null,null,0,211]
[12,12694,13,12698,13,12705,null,null,null,null,0,111]
[21,12797,11,12807,11,12812,null,null,null,null,0,211]
[12,12909,13,12916,13,12924,null,null,null,null,0,111]
[12,13023,13,13028,13,13039,null,null,null,null,0,111]
[12,13143,13,13146,13,13153,null,null,null,null,0,111]
[12,13247,13,13259,13,13267,null,null,null,null,0,111]
[21,13359,22,13362,13,13369,null,null,null,null,0,221]
[12,13468,13,13472,13,13485,null,null,null,null,0,111]
[12,13588,13,13595,13,13610,null,null,null,null,0,111]
[21,13703,11,13711,11,13723,null,null,null,null,0,211]
[21,13819,11,13828,11,13841,null,null,null,null,0,211]
[12,13940,13,13946,13,13952,null,null,null,null,0,111]
[21,14046,11,14048,11,14053,null,null,null,null,0,211]
[12,14146,13,14153,13,14160,null,null,null,null,0,111]
[12,14251,13,14255,13,14260,null,null,null,null,0,111]
[12,14372,13,14376,13,14379,null,null,null,null,0,111]
[21,14473,11,14478,11,14481,null,null,null,null,0,211]
[12,14582,13,14585,13,14591,null,null,null,null,0,111]
[12,14692,13,14701,13,14713,null,null,null,null,0,111]
[12,14812,13,14819,13,14837,null,null,null,null,0,111]
[21,14932,11,14937,11,14941,null,null,null,null,0,211]
[12,15033,13,15035,13,15042,null,null,null,null,0,111]
[21,15136,22,15138,13,15145,null,null,null,null,0,221]
[12,15245,13,15251,13,15257,null,null,null,null,0,111]
[12,15357,13,15362,13,15371,null,null,null,null,0,111]
[21,15466,11,15472,22,15485,null,null,null,null,0,212]
[12,15590,13,15593,13,15600,null,null,null,null,0,111]
[21,15694,11,15700,11,15705,null,null,null,null,0,211]
[12,16150,13,16153,13,16158,null,null,null,null,0,111]
[12,16263,13,16269,13,16280,null,null,null,null,0,111]
[12,16375,13,16378,13,16388,null,null,null,null,0,111]
[12,16485,13,16488,13,16494,null,null,null,null,0,111]
[21,16592,11,16598,11,16607,null,null,null,null,0,211]
[12,16715,13,16718,24,16719,null,null,null,null,0,112]
[12,16818,13,16823,13,16834,null,null,null,null,0,111]
[21,16928,11,16935,11,16939,null,null,null,null,0,211]
[12,17038,13,17042,13,17054,null,null,null,null,0,111]
[12,17154,13,17158,13,17164,null,null,null,null,0,111]
[12,17263,13,17286,13,17293,null,null,null,null,0,111]
[12,17393,13,17399,24,17415,null,null,null,null,0,112]
[21,17509,11,17515,11,17521,null,null,null,null,0,211]
[12,17611,13,17617,13,17623,null,null,null,null,0,111]
[21,17717,11,17726,11,17736,null,null,null,null,0,211]
[12,17826,13,17834,13,17840,null,null,null,null,0,111]
[21,17933,11,17943,11,17950,null,null,null,null,1,211]

{"sheet":"!N20592T.AYL","index":7,"n_rows":124,"n_cols":48,"rows_kept":124,"cut":false,"hidden":false,"merged":[[1,1,1,2],[5,13,5,14],[18,13,18,14],[19,13,19,14],[4,19,4,22],[5,19,5,20],[4,39,4,42],[5,39,5,40],[4,44,4,47],[5,44,5,45],[4,24,4,27],[5,24,5,25],[4,29,4,32],[5,29,5,30],[4,34,4,37],[5,34,5,35]]}
["Report for:!N20592T.AYL"]
["Date:","<date>"]
["Hen:","<hen>",null,null,null,"Correct Sequence",{"$f":"Start!J2","v":211},null,null,null,null,null,null,null,null,"Total Sequences in Data",{"$f":"4994-COUNTBLANK(L7:L5000)","v":118},null,null,null,null,"Total Sequences in Block Data",{"$f":"COUNTA(L7:L26)","v":20},null,null,null,"Total Sequences in Block Data",{"$f":"COUNTA(L27:L45)","v":19},null,null,null,"Total Sequences in Block Data",{"$f":"COUNTA(L46:L65)","v":20},null,null,null,"Total Sequences in Block Data",{"$f":"COUNTA(L66:L85)","v":20},null,null,null,"Total Sequences in Block Data",{"$f":"COUNTA(L86:L104)","v":19},null,null,null,"Total Sequences in Block Data",{"$f":"COUNTA(L105:L124)","v":20}]
[null,null,null,null,null,null,null,null,null,null,null,null,null,null,null,"Total Sequences in Summary",{"$f":"SUM(O7:O14)","v":118},null,null,null,null,"Total Sequences in Block Summary",{"$f":"SUM(U7:U14)","v":20},null,null,null,"Total Sequences in Block Summary",{"$f":"SUM(Z7:Z14)","v":19},null,null,null,"Total Sequences in Block Summary",{"$f":"SUM(AE7:AE14)","v":20},null,null,null,"Total Sequences in Block Summary",{"$f":"SUM(AJ7:AJ14)","v":20},null,null,null,"Total Sequences in Block Summary",{"$f":"SUM(AO7:AO14)","v":19},null,null,null,"Total Sequences in Block Summary",{"$f":"SUM(AT7:AT14)","v":20}]
[null,null,null,null,null,null,null,null,null,null,null,null,null,null,null,null,null,null,null,"Block 1",null,null,null,null,"Block 2",null,null,null,null,"Block 3",null,null,null,null,"Block 4",null,null,null,null,"Block 5",null,null,null,null,"Block 6"]
["Sequence\nComponent\n1","Time\n1","Sequence\nComponent\n2","Time\n2","Sequence\nComponent\n3","Time\n3","Sequence\nComponent\n4","Time\n4","Sequence\nComponent\n5","Time\n5","Correct?\n0=No 1=Yes","Sequence",null,"Frequency",null,"Relative Frequency","Variability",null,null,"Frequency",null,"Relative Frequency","Variability",null,"Frequency",null,"Relative Frequency","Variability",null,"Frequency",null,"Relative Frequency","Variability",null,"Frequency",null,"Relative Frequency","Variability",null,"Frequency",null,"Relative Frequency","Variability",null,"Frequency",null,"Relative Frequency","Variability"]
[12,7,13,14,13,28,null,null,null,null,0,111,null,111,{"$f":"COUNTIF($L$7:$L$500,N7)","v":86},{"$f":"O7/$Q$4","v":0.72881355932203384},{"$f":"IF(P7=0,0,(P7*((LOG(P7))/LOG(2))))","v":-0.33261468932828758},null,null,{"$f":"N7","v":111},{"$f":"COUNTIF(L7:L26,T7)","v":15},{"$f":"U7/(W4-U11)","v":0.9375},{"$f":"IF(V7=0,0,(V7*((LOG(V7))/LOG(2))))","v":-8.729006661701387E-2},null,{"$f":"N7","v":111},{"$f":"COUNTIF(L27:L45,Y7)","v":12},{"$f":"Z7/(AB4-Z11)","v":0.92307692307692313},{"$f":"IF(AA7=0,0,(AA7*((LOG(AA7))/LOG(2))))","v":-0.10659435454147929},null,{"$f":"N7","v":111},{"$f":"COUNTIF(L46:L65,AD7)","v":17},{"$f":"AE7/(AG4-AE11)","v":1},{"$f":"IF(AF7=0,0,(AF7*((LOG(AF7))/LOG(2))))","v":0},null,{"$f":"N7","v":111},{"$f":"COUNTIF(L66:L85,AI7)","v":15},{"$f":"AJ7/(AL4-AJ11)","v":1},{"$f":"IF(AK7=0,0,(AK7*((LOG(AK7))/LOG(2))))","v":0},null,{"$f":"N7","v":111},{"$f":"COUNTIF(L86:L104,AN7)","v":16},{"$f":"AO7/(AQ4-AO11)","v":1},{"$f":"IF(AP7=0,0,(AP7*((LOG(AP7))/LOG(2))))","v":0},null,{"$f":"N7","v":111},{"$f":"COUNTIF(L105:L124,AS7)","v":11},{"$f":"AT7/(AV4-AT11)","v":0.84615384615384615},{"$f":"IF(AU7=0,0,(AU7*((LOG(AU7))/LOG(2))))","v":-0.20392993034936494}]
[12,128,13,132,13,141,null,null,null,null,0,111,null,112,1,8.4745762711864406E-3,-5.8327483469168148E-2,null,null,112,{"$f":"COUNTIF(L7:L26,T8)","v":0},{"$f":"U8/(W4-U11)","v":0},{"$f":"IF(V8=0,0,(V8*((LOG(V8))/LOG(2))))","v":0},null,112,{"$f":"COUNTIF(L27:L45,Y8)","v":0},{"$f":"Z8/(AB4-Z11)","v":0},{"$f":"IF(AA8=0,0,(AA8*((LOG(AA8))/LOG(2))))","v":0},null,112,{"$f":"COUNTIF(L46:L65,AD8)","v":0},{"$f":"AE8/(AG4-AE11)","v":0},{"$f":"IF(AF8=0,0,(AF8*((LOG(AF8))/LOG(2))))","v":0},null,112,{"$f":"COUNTIF(L66:L85,AI8)","v":0},{"$f":"AJ8/(AL4-AJ11)","v":0},{"$f":"IF(AK8=0,0,(AK8*((LOG(AK8))/LOG(2))))","v":0},null,112,{"$f":"COUNTIF(L86:L104,AN8)","v":0},{"$f":"AO8/(AQ4-AO11)","v":0},{"$f":"IF(AP8=0,0,(AP8*((LOG(AP8))/LOG(2))))","v":0},null,112,{"$f":"COUNTIF(L105:L124,AS8)","v":1},{"$f":"AT8/(AV4-AT11)","v":7.6923076923076927E-2},{"$f":"IF(AU8=0,0,(AU8*((LOG(AU8))/LOG(2))))","v":-0.28464920908777636}]
[21,234,11,242,11,246,null,null,null,null,0,211,null,121,0,0,0,null,null,121,{"$f":"COUNTIF(L7:L26,T9)","v":0},{"$f":"U9/(W4-U11)","v":0},{"$f":"IF(V9=0,0,(V9*((LOG(V9))/LOG(2))))","v":0},null,121,{"$f":"COUNTIF(L27:L45,Y9)","v":0},{"$f":"Z9/(AB4-Z11)","v":0},{"$f":"IF(AA9=0,0,(AA9*((LOG(AA9))/LOG(2))))","v":0},null,121,{"$f":"COUNTIF(L46:L65,AD9)","v":0},{"$f":"AE9/(AG4-AE11)","v":0},{"$f":"IF(AF9=0,0,(AF9*((LOG(AF9))/LOG(2))))","v":0},null,121,{"$f":"COUNTIF(L66:L85,AI9)","v":0},{"$f":"AJ9/(AL4-AJ11)","v":0},{"$f":"IF(AK9=0,0,(AK9*((LOG(AK9))/LOG(2))))","v":0},null,121,{"$f":"COUNTIF(L86:L104,AN9)","v":0},{"$f":"AO9/(AQ4-AO11)","v":0},{"$f":"IF(AP9=0,0,(AP9*((LOG(AP9))/LOG(2))))","v":0},null,121,{"$f":"COUNTIF(L105:L124,AS9)","v":0},{"$f":"AT9/(AV4-AT11)","v":0},{"$f":"IF(AU9=0,0,(AU9*((LOG(AU9))/LOG(2))))","v":0}]
[12,531,13,535,13,541,null,null,null,null,0,111,null,122,1,8.4745762711864406E-3,-5.8327483469168148E-2,null,null,122,{"$f":"COUNTIF(L7:L26,T10)","v":1},{"$f":"U10/(W4-U11)","v":6.25E-2},{"$f":"IF(V10=0,0,(V10*((LOG(V10))/LOG(2))))","v":-0.25},null,122,{"$f":"COUNTIF(L27:L45,Y10)","v":0},{"$f":"Z10/(AB4-Z11)","v":0},{"$f":"IF(AA10=0,0,(AA10*((LOG(AA10))/LOG(2))))","v":0},null,122,{"$f":"COUNTIF(L46:L65,AD10)","v":0},{"$f":"AE10/(AG4-AE11)","v":0},{"$f":"IF(AF10=0,0,(AF10*((LOG(AF10))/LOG(2))))","v":0},null,122,{"$f":"COUNTIF(L66:L85,AI10)","v":0},{"$f":"AJ10/(AL4-AJ11)","v":0},{"$f":"IF(AK10=0,0,(AK10*((LOG(AK10))/LOG(2))))","v":0},null,122,{"$f":"COUNTIF(L86:L104,AN10)","v":0},{"$f":"AO10/(AQ4-AO11)","v":0},{"$f":"IF(AP10=0,0,(AP10*((LOG(AP10))/LOG(2))))","v":0},null,122,{"$f":"COUNTIF(L105:L124,AS10)","v":0},{"$f":"AT10/(AV4-AT11)","v":0},{"$f":"IF(AU10=0,0,(AU10*((LOG(AU10))/LOG(2))))","v":0}]
[12,635,13,640,13,646,null,null,null,null,0,111,null,211,28,0.23728813559322035,-0.49244125054676813,null,null,211,{"$f":"COUNTIF(L7:L26,T11)","v":4},null,null,null,211,{"$f":"COUNTIF(L27:L45,Y11)","v":6},null,null,null,211,{"$f":"COUNTIF(L46:L65,AD11)","v":3},null,null,null,211,{"$f":"COUNTIF(L66:L85,AI11)","v":5},null,null,null,211,{"$f":"COUNTIF(L86:L104,AN11)","v":3},null,null,null,211,{"$f":"COUNTIF(L105:L124,AS11)","v":7}]
[12,835,13,838,13,844,null,null,null,null,0,111,null,212,0,0,0,null,null,212,{"$f":"COUNTIF(L7:L26,T12)","v":0},{"$f":"U12/(W4-U11)","v":0},{"$f":"IF(V12=0,0,(V12*((LOG(V12))/LOG(2))))","v":0},null,212,{"$f":"COUNTIF(L27:L45,Y12)","v":0},{"$f":"Z12/(AB4-Z11)","v":0},{"$f":"IF(AA12=0,0,(AA12*((LOG(AA12))/LOG(2))))","v":0},null,212,{"$f":"COUNTIF(L46:L65,AD12)","v":0},{"$f":"AE12/(AG4-AE11)","v":0},{"$f":"IF(AF12=0,0,(AF12*((LOG(AF12))/LOG(2))))","v":0},null,212,{"$f":"COUNTIF(L66:L85,AI12)","v":0},{"$f":"AJ12/(AL4-AJ11)","v":0},{"$f":"IF(AK12=0,0,(AK12*((LOG(AK12))/LOG(2))))","v":0},null,212,{"$f":"COUNTIF(L86:L104,AN12)","v":0},{"$f":"AO12/(AQ4-AO11)","v":0},{"$f":"IF(AP12=0,0,(AP12*((LOG(AP12))/LOG(2))))","v":0},null,212,{"$f":"COUNTIF(L105:L124,AS12)","v":0},{"$f":"AT12/(AV4-AT11)","v":0},{"$f":"IF(AU12=0,0,(AU12*((LOG(AU12))/LOG(2))))","v":0}]
[21,938,11,943,11,947,null,null,null,null,0,211,null,221,2,1.6949152542372881E-2,-9.9705814395963419E-2,null,null,221,{"$f":"COUNTIF(L7:L26,T13)","v":0},{"$f":"U13/(W4-U11)","v":0},{"$f":"IF(V13=0,0,(V13*((LOG(V13))/LOG(2))))","v":0},null,221,{"$f":"COUNTIF(L27:L45,Y13)","v":1},{"$f":"Z13/(AB4-Z11)","v":7.6923076923076927E-2},{"$f":"IF(AA13=0,0,(AA13*((LOG(AA13))/LOG(2))))","v":-0.28464920908777636},null,221,{"$f":"COUNTIF(L46:L65,AD13)","v":0},{"$f":"AE13/(AG4-AE11)","v":0},{"$f":"IF(AF13=0,0,(AF13*((LOG(AF13))/LOG(2))))","v":0},null,221,{"$f":"COUNTIF(L66:L85,AI13)","v":0},{"$f":"AJ13/(AL4-AJ11)","v":0},{"$f":"IF(AK13=0,0,(AK13*((LOG(AK13))/LOG(2))))","v":0},null,221,{"$f":"COUNTIF(L86:L104,AN13)","v":0},{"$f":"AO13/(AQ4-AO11)","v":0},{"$f":"IF(AP13=0,0,(AP13*((LOG(AP13))/LOG(2))))","v":0},null,221,{"$f":"COUNTIF(L105:L124,AS13)","v":1},{"$f":"AT13/(AV4-AT11)","v":7.6923076923076927E-2},{"$f":"IF(AU13=0,0,(AU13*((LOG(AU13))/LOG(2))))","v":-0.28464920908777636}]
[12,1190,13,1196,13,1202,null,null,null,null,0,111,null,222,0,0,0,null,null,222,{"$f":"COUNTIF(L7:L26,T14)","v":0},{"$f":"U14/(W4-U11)","v":0},{"$f":"IF(V14=0,0,(V14*((LOG(V14))/LOG(2))))","v":0},null,222,{"$f":"COUNTIF(L27:L45,Y14)","v":0},{"$f":"Z14/(AB4-Z11)","v":0},{"$f":"IF(AA14=0,0,(AA14*((LOG(AA14))/LOG(2))))","v":0},null,222,{"$f":"COUNTIF(L46:L65,AD14)","v":0},{"$f":"AE14/(AG4-AE11)","v":0},{"$f":"IF(AF14=0,0,(AF14*((LOG(AF14))/LOG(2))))","v":0},null,222,{"$f":"COUNTIF(L66:L85,AI14)","v":0},{"$f":"AJ14/(AL4-AJ11)","v":0},{"$f":"IF(AK14=0,0,(AK14*((LOG(AK14))/LOG(2))))","v":0},null,222,{"$f":"COUNTIF(L86:L104,AN14)","v":0},{"$f":"AO14/(AQ4-AO11)","v":0},{"$f":"IF(AP14=0,0,(AP14*((LOG(AP14))/LOG(2))))","v":0},null,222,{"$f":"COUNTIF(L105:L124,AS14)","v":0},{"$f":"AT14/(AV4-AT11)","v":0},{"$f":"IF(AU14=0,0,(AU14*((LOG(AU14))/LOG(2))))","v":0}]
[12,1303,13,1309,13,1317,null,null,null,null,0,111,null,null,null,{"$f":"SUM(P7:P14)","v":0.99999999999999989},{"$f":"-SUM(Q7:Q14)","v":1.0414167212093555},null,null,null,null,{"$f":"SUM(V7:V14)","v":1},{"$f":"-SUM(W7:W14)","v":0.33729006661701388},null,null,null,{"$f":"SUM(AA7:AA14)","v":1},{"$f":"-SUM(AB7:AB14)","v":0.39124356362925566},null,null,null,{"$f":"SUM(AF7:AF14)","v":1},{"$f":"-SUM(AG7:AG14)","v":0},null,null,null,{"$f":"SUM(AK7:AK14)","v":1},{"$f":"-SUM(AL7:AL14)","v":0},null,null,null,{"$f":"SUM(AP7:AP14)","v":1},{"$f":"-SUM(AQ7:AQ14)","v":0},null,null,null,{"$f":"SUM(AU7:AU14)","v":1},{"$f":"-SUM(AV7:AV14)","v":0.77322834852491762}]
[12,1417,13,1421,13,1427,null,null,null,null,0,111,null,null,null,"U=",{"$f":"Q15/(LOG(Q4)/LOG(2))","v":0.15131058137700684},null,null,null,null,"U1=",{"$f":"W15/(LOG(W4)/LOG(2))","v":7.8041572930380804E-2},null,null,null,"U2=",{"$f":"AB15/(LOG(AB4)/LOG(2))","v":9.2102222175654266E-2},null,null,null,"U3=",{"$f":"AG15/(LOG(AG4)/LOG(2))","v":0},null,null,null,"U4=",{"$f":"AL15/(LOG(AL4)/LOG(2))","v":0},null,null,null,"U5=",{"$f":"AQ15/(LOG(AQ4)/LOG(2))","v":0},null,null,null,"U6=",{"$f":"AV15/(LOG(AV4)/LOG(2))","v":0.17890819364616695}]
[12,1526,13,1528,13,1534,null,null,null,null,0,111]
[21,1628,11,1634,11,1639,null,null,null,null,0,211]
[12,1738,13,1755,13,1762,null,null,null,null,0,111,null,"Total Target Seq"]
[12,1861,13,1867,13,1874,null,null,null,null,0,111,null,{"$f":"COUNTIF(L7:L124,G3)","v":28},null,20,19,20,20,19,20]
[12,1974,13,1979,13,1986,null,null,null,null,0,111,null,null,null,"% of reinforcement given in 6 equal intervals based on number of trials "]
[21,2080,11,2087,11,2094,null,null,null,null,0,211,null,null,null,"%_1","%_2","%_3","%_4","%_5","%_6"]
[12,2224,13,2235,13,2241,null,null,null,null,0,111,null,null,"target sequence",{"$f":"$G$3","v":211},211,211,211,211,211]
[12,2341,13,2353,13,2366,null,null,null,null,0,111,null,null,"total reinforcement",{"$f":"U11","v":4},{"$f":"Z11","v":6},{"$f":"AE11","v":3},{"$f":"AJ11","v":5},{"$f":"AO11","v":3},{"$f":"AT11","v":7}]
[12,2464,24,2476,24,2482,null,null,null,null,0,122,null,null,"% target"]
[12,2584,13,2591,13,2598,null,null,null,null,0,111,null,null,"CCRF"]
[21,2691,11,2695,11,2699,null,null,null,null,0,211,null,null,"% CCRf"]
[12,2872,13,2881,13,2893,null,null,null,null,0,111,null,null,"average response rate",{"$f":"F26/P20","v":129.9},{"$f":"(F45-F26)/Q20","v":119.68421052631579},{"$f":"(F65-F45)/R20","v":118.05},{"$f":"(F85-F65)/S20","v":137.9},{"$f":"(F104-F85)/T20","v":227.05263157894737},{"$f":"(F124-F104)/U20","v":118.3}]
[21,2985,11,2995,11,3005,null,null,null,null,0,211]
[21,3104,22,3107,13,3116,null,null,null,null,0,221]
[21,3212,11,3218,11,3225,null,null,null,null,0,211]
[12,3410,13,3419,13,3428,null,null,null,null,0,111]
[21,3526,11,3534,11,3540,null,null,null,null,0,211]
[12,3635,13,3640,13,3647,null,null,null,null,0,111]
[21,3740,11,3747,11,3752,null,null,null,null,0,211]
[12,3844,13,3849,13,3858,null,null,null,null,0,111]
[21,3952,11,3957,11,3962,null,null,null,null,0,211]
[12,4058,13,4066,13,4073,null,null,null,null,0,111]
[12,4173,13,4177,13,4183,null,null,null,null,0,111]
[12,4283,13,4288,13,4296,null,null,null,null,0,111]
[12,4398,13,4403,13,4410,null,null,null,null,0,111]
[12,4510,13,4514,13,4528,null,null,null,null,0,111]
[12,4628,13,4634,13,4642,null,null,null,null,0,111]
[12,4740,13,4744,13,4750,null,null,null,null,0,111]
[12,4850,13,4859,13,4872,null,null,null,null,0,111]
[12,4971,13,4975,13,4980,null,null,null,null,0,111]
[12,5078,13,5082,13,5092,null,null,null,null,0,111]
[12,5194,13,5202,13,5211,null,null,null,null,0,111]
[12,5313,13,5318,13,5329,null,null,null,null,0,111]
[12,5429,13,5437,13,5449,null,null,null,null,0,111]
[12,5567,13,5575,13,5581,null,null,null,null,0,111]
[12,5682,13,5694,13,5702,null,null,null,null,0,111]
[21,5800,11,5806,11,5818,null,null,null,null,0,211]
[12,5966,13,5972,13,5979,null,null,null,null,0,111]
[12,6084,13,6090,13,6100,null,null,null,null,0,111]
[12,6203,13,6213,13,6221,null,null,null,null,0,111]
[12,6322,13,6327,13,6333,null,null,null,null,0,111]
[12,6439,13,6451,13,6465,null,null,null,null,0,111]
[12,6567,13,6571,13,6578,null,null,null,null,0,111]
[21,6673,11,6679,11,6686,null,null,null,null,0,211]
[12,6789,13,6792,13,6804,null,null,null,null,0,111]
[12,6903,13,6907,13,6914,null,null,null,null,0,111]
[21,7009,11,7017,11,7021,null,null,null,null,0,211]
[12,7117,13,7119,13,7131,null,null,null,null,0,111]
[12,7225,13,7229,13,7233,null,null,null,null,0,111]
[12,7334,13,7352,13,7359,null,null,null,null,0,111]
[12,7454,13,7460,13,7467,null,null,null,null,0,111]
[12,7568,13,7572,13,7578,null,null,null,null,0,111]
[12,7680,13,7685,13,7695,null,null,null,null,0,111]
[12,7798,13,7806,13,7820,null,null,null,null,0,111]
[12,7919,13,7924,13,7935,null,null,null,null,0,111]
[21,8030,11,8047,11,8049,null,null,null,null,0,211]
[12,8591,13,8598,13,8600,null,null,null,null,0,111]
[12,8693,13,8700,13,8706,null,null,null,null,0,111]
[12,8805,13,8811,13,8823,null,null,null,null,0,111]
[12,8923,13,8932,13,8937,null,null,null,null,0,111]
[21,9031,11,9040,11,9053,null,null,null,null,0,211]
[12,9172,13,9175,13,9181,null,null,null,null,0,111]
[21,9276,11,9285,11,9298,null,null,null,null,0,211]
[12,9432,13,9442,13,9448,null,null,null,null,0,111]
[21,9544,11,9550,11,9555,null,null,null,null,0,211]
[12,9651,13,9656,13,9661,null,null,null,null,0,111]
[12,9762,13,9770,13,9783,null,null,null,null,0,111]
[21,9877,11,9882,11,9886,null,null,null,null,0,211]
[12,9982,13,9985,13,9991,null,null,null,null,0,111]
[12,10091,13,10095,13,10103,null,null,null,null,0,111]
[12,10518,13,10536,13,10544,null,null,null,null,0,111]
[12,10644,13,10647,13,10654,null,null,null,null,0,111]
[21,10750,11,10757,11,10765,null,null,null,null,0,211]
[12,10891,13,10894,13,10900,null,null,null,null,0,111]
[12,11000,13,11008,13,11017,null,null,null,null,0,111]
[12,11116,13,11121,13,11127,null,null,null,null,0,111]
[12,11228,13,11245,13,11258,null,null,null,null,0,111]
[12,11362,13,11368,13,11377,null,null,null,null,0,111]
[12,11475,13,11482,13,11489,null,null,null,null,0,111]
[21,11581,11,11588,11,11599,null,null,null,null,0,211]
[12,11971,13,11973,13,11983,null,null,null,null,0,111]
[12,12850,13,12856,13,12861,null,null,null,null,0,111]
[12,12956,13,12973,13,12991,null,null,null,null,0,111]
[12,13594,13,13603,13,13610,null,null,null,null,0,111]
[12,13703,13,13710,13,13716,null,null,null,null,0,111]
[12,13824,13,13831,13,13838,null,null,null,null,0,111]
[21,13934,11,13943,11,13954,null,null,null,null,0,211]
[12,14292,13,14296,13,14305,null,null,null,null,0,111]
[12,14402,13,14406,13,14411,null,null,null,null,0,111]
[12,14514,13,14519,13,14526,null,null,null,null,0,111]
[21,14623,11,14631,11,14638,null,null,null,null,0,211]
[12,14807,13,14816,13,14827,null,null,null,null,0,111]
[12,14933,13,14942,13,14954,null,null,null,null,0,111]
[21,15052,22,15056,13,15064,null,null,null,null,0,221]
[12,15166,13,15168,13,15178,null,null,null,null,0,111]
[21,15274,11,15281,11,15287,null,null,null,null,0,211]
[12,15391,13,15401,13,15408,null,null,null,null,0,111]
[21,15506,11,15512,11,15535,null,null,null,null,0,211]
[12,15632,13,15638,13,15645,null,null,null,null,0,111]
[21,15739,11,15750,11,15757,null,null,null,null,0,211]
[12,15863,13,15867,13,15874,null,null,null,null,0,111]
[21,15971,11,15977,11,15982,null,null,null,null,0,211]
[12,16077,13,16083,24,16086,null,null,null,null,0,112]
[21,16183,11,16190,11,16202,null,null,null,null,0,211]
[12,16304,13,16312,13,16319,null,null,null,null,0,111]
[12,16424,13,16430,13,16437,null,null,null,null,0,111]
[12,16551,13,16554,13,16560,null,null,null,null,0,111]
[21,16656,11,16667,11,16671,null,null,null,null,1,211]

{"sheet":"!N206A3T.AYL","index":8,"n_rows":129,"n_cols":48,"rows_kept":129,"cut":false,"hidden":false,"merged":[[1,1,1,2],[5,13,5,14],[18,13,18,14],[19,13,19,14],[4,19,4,22],[5,19,5,20],[4,39,4,42],[5,39,5,40],[4,44,4,47],[5,44,5,45],[4,24,4,27],[5,24,5,25],[4,29,4,32],[5,29,5,30],[4,34,4,37],[5,34,5,35]]}
["Report for:!N206A3T.AYL"]
["Date:","<date>"]
["Hen:","<hen>",null,null,null,"Correct Sequence",{"$f":"Start!J2","v":211},null,null,null,null,null,null,null,null,"Total Sequences in Data",{"$f":"4994-COUNTBLANK(L7:L5000)","v":123},null,null,null,null,"Total Sequences in Block Data",{"$f":"COUNTA(L7:L27)","v":21},null,null,null,"Total Sequences in Block Data",{"$f":"COUNTA(L28:L47)","v":20},null,null,null,"Total Sequences in Block Data",{"$f":"COUNTA(L48:L68)","v":21},null,null,null,"Total Sequences in Block Data",{"$f":"COUNTA(L69:L88)","v":20},null,null,null,"Total Sequences in Block Data",{"$f":"COUNTA(L89:L109)","v":21},null,null,null,"Total Sequences in Block Data",{"$f":"COUNTA(L110:L129)","v":20}]
[null,null,null,null,null,null,null,null,null,null,null,null,null,null,null,"Total Sequences in Summary",{"$f":"SUM(O7:O14)","v":123},null,null,null,null,"Total Sequences in Block Summary",{"$f":"SUM(U7:U14)","v":21},null,null,null,"Total Sequences in Block Summary",{"$f":"SUM(Z7:Z14)","v":20},null,null,null,"Total Sequences in Block Summary",{"$f":"SUM(AE7:AE14)","v":21},null,null,null,"Total Sequences in Block Summary",{"$f":"SUM(AJ7:AJ14)","v":20},null,null,null,"Total Sequences in Block Summary",{"$f":"SUM(AO7:AO14)","v":21},null,null,null,"Total Sequences in Block Summary",{"$f":"SUM(AT7:AT14)","v":20}]
[null,null,null,null,null,null,null,null,null,null,null,null,null,null,null,null,null,null,null,"Block 1",null,null,null,null,"Block 2",null,null,null,null,"Block 3",null,null,null,null,"Block 4",null,null,null,null,"Block 5",null,null,null,null,"Block 6"]
["Sequence\nComponent\n1","Time\n1","Sequence\nComponent\n2","Time\n2","Sequence\nComponent\n3","Time\n3","Sequence\nComponent\n4","Time\n4","Sequence\nComponent\n5","Time\n5","Correct?\n0=No 1=Yes","Sequence",null,"Frequency",null,"Relative Frequency","Variability",null,null,"Frequency",null,"Relative Frequency","Variability",null,"Frequency",null,"Relative Frequency","Variability",null,"Frequency",null,"Relative Frequency","Variability",null,"Frequency",null,"Relative Frequency","Variability",null,"Frequency",null,"Relative Frequency","Variability",null,"Frequency",null,"Relative Frequency","Variability"]
[12,8,13,13,13,22,null,null,null,null,0,111,null,111,{"$f":"COUNTIF($L$7:$L$500,N7)","v":102},{"$f":"O7/$Q$4","v":0.82926829268292679},{"$f":"IF(P7=0,0,(P7*((LOG(P7))/LOG(2))))","v":-0.22397637937812945},null,null,{"$f":"N7","v":111},{"$f":"COUNTIF(L7:L27,T7)","v":17},{"$f":"U7/(W4-U11)","v":0.94444444444444442},{"$f":"IF(V7=0,0,(V7*((LOG(V7))/LOG(2))))","v":-7.7880929070196711E-2},null,{"$f":"N7","v":111},{"$f":"COUNTIF(L28:L47,Y7)","v":17},{"$f":"Z7/(AB4-Z11)","v":1},{"$f":"IF(AA7=0,0,(AA7*((LOG(AA7))/LOG(2))))","v":0},null,{"$f":"N7","v":111},{"$f":"COUNTIF(L48:L68,AD7)","v":19},{"$f":"AE7/(AG4-AE11)","v":1},{"$f":"IF(AF7=0,0,(AF7*((LOG(AF7))/LOG(2))))","v":0},null,{"$f":"N7","v":111},{"$f":"COUNTIF(L69:L88,AI7)","v":19},{"$f":"AJ7/(AL4-AJ11)","v":0.95},{"$f":"IF(AK7=0,0,(AK7*((LOG(AK7))/LOG(2))))","v":-7.0300552371588068E-2},null,{"$f":"N7","v":111},{"$f":"COUNTIF(L89:L109,AN7)","v":18},{"$f":"AO7/(AQ4-AO11)","v":1},{"$f":"IF(AP7=0,0,(AP7*((LOG(AP7))/LOG(2))))","v":0},null,{"$f":"N7","v":111},{"$f":"COUNTIF(L110:L129,AS7)","v":12},{"$f":"AT7/(AV4-AT11)","v":1},{"$f":"IF(AU7=0,0,(AU7*((LOG(AU7))/LOG(2))))","v":0}]
[12,122,13,127,13,139,null,null,null,null,0,111,null,112,1,8.130081300813009E-3,-5.6443207360481633E-2,null,null,112,{"$f":"COUNTIF(L7:L27,T8)","v":0},{"$f":"U8/(W4-U11)","v":0},{"$f":"IF(V8=0,0,(V8*((LOG(V8))/LOG(2))))","v":0},null,112,{"$f":"COUNTIF(L28:L47,Y8)","v":0},{"$f":"Z8/(AB4-Z11)","v":0},{"$f":"IF(AA8=0,0,(AA8*((LOG(AA8))/LOG(2))))","v":0},null,112,{"$f":"COUNTIF(L48:L68,AD8)","v":0},{"$f":"AE8/(AG4-AE11)","v":0},{"$f":"IF(AF8=0,0,(AF8*((LOG(AF8))/LOG(2))))","v":0},null,112,{"$f":"COUNTIF(L69:L88,AI8)","v":1},{"$f":"AJ8/(AL4-AJ11)","v":0.05},{"$f":"IF(AK8=0,0,(AK8*((LOG(AK8))/LOG(2))))","v":-0.21609640474436814},null,112,{"$f":"COUNTIF(L89:L109,AN8)","v":0},{"$f":"AO8/(AQ4-AO11)","v":0},{"$f":"IF(AP8=0,0,(AP8*((LOG(AP8))/LOG(2))))","v":0},null,112,{"$f":"COUNTIF(L110:L129,AS8)","v":0},{"$f":"AT8/(AV4-AT11)","v":0},{"$f":"IF(AU8=0,0,(AU8*((LOG(AU8))/LOG(2))))","v":0}]
[21,236,22,239,13,261,null,null,null,null,0,221,null,121,0,0,0,null,null,121,{"$f":"COUNTIF(L7:L27,T9)","v":0},{"$f":"U9/(W4-U11)","v":0},{"$f":"IF(V9=0,0,(V9*((LOG(V9))/LOG(2))))","v":0},null,121,{"$f":"COUNTIF(L28:L47,Y9)","v":0},{"$f":"Z9/(AB4-Z11)","v":0},{"$f":"IF(AA9=0,0,(AA9*((LOG(AA9))/LOG(2))))","v":0},null,121,{"$f":"COUNTIF(L48:L68,AD9)","v":0},{"$f":"AE9/(AG4-AE11)","v":0},{"$f":"IF(AF9=0,0,(AF9*((LOG(AF9))/LOG(2))))","v":0},null,121,{"$f":"COUNTIF(L69:L88,AI9)","v":0},{"$f":"AJ9/(AL4-AJ11)","v":0},{"$f":"IF(AK9=0,0,(AK9*((LOG(AK9))/LOG(2))))","v":0},null,121,{"$f":"COUNTIF(L89:L109,AN9)","v":0},{"$f":"AO9/(AQ4-AO11)","v":0},{"$f":"IF(AP9=0,0,(AP9*((LOG(AP9))/LOG(2))))","v":0},null,121,{"$f":"COUNTIF(L110:L129,AS9)","v":0},{"$f":"AT9/(AV4-AT11)","v":0},{"$f":"IF(AU9=0,0,(AU9*((LOG(AU9))/LOG(2))))","v":0}]
[12,355,13,358,13,366,null,null,null,null,0,111,null,122,0,0,0,null,null,122,{"$f":"COUNTIF(L7:L27,T10)","v":0},{"$f":"U10/(W4-U11)","v":0},{"$f":"IF(V10=0,0,(V10*((LOG(V10))/LOG(2))))","v":0},null,122,{"$f":"COUNTIF(L28:L47,Y10)","v":0},{"$f":"Z10/(AB4-Z11)","v":0},{"$f":"IF(AA10=0,0,(AA10*((LOG(AA10))/LOG(2))))","v":0},null,122,{"$f":"COUNTIF(L48:L68,AD10)","v":0},{"$f":"AE10/(AG4-AE11)","v":0},{"$f":"IF(AF10=0,0,(AF10*((LOG(AF10))/LOG(2))))","v":0},null,122,{"$f":"COUNTIF(L69:L88,AI10)","v":0},{"$f":"AJ10/(AL4-AJ11)","v":0},{"$f":"IF(AK10=0,0,(AK10*((LOG(AK10))/LOG(2))))","v":0},null,122,{"$f":"COUNTIF(L89:L109,AN10)","v":0},{"$f":"AO10/(AQ4-AO11)","v":0},{"$f":"IF(AP10=0,0,(AP10*((LOG(AP10))/LOG(2))))","v":0},null,122,{"$f":"COUNTIF(L110:L129,AS10)","v":0},{"$f":"AT10/(AV4-AT11)","v":0},{"$f":"IF(AU10=0,0,(AU10*((LOG(AU10))/LOG(2))))","v":0}]
[12,476,13,480,13,483,null,null,null,null,0,111,null,211,19,0.15447154471544716,-0.41623701500827182,null,null,211,{"$f":"COUNTIF(L7:L27,T11)","v":3},null,null,null,211,{"$f":"COUNTIF(L28:L47,Y11)","v":3},null,null,null,211,{"$f":"COUNTIF(L48:L68,AD11)","v":2},null,null,null,211,{"$f":"COUNTIF(L69:L88,AI11)","v":0},null,null,null,211,{"$f":"COUNTIF(L89:L109,AN11)","v":3},null,null,null,211,{"$f":"COUNTIF(L110:L129,AS11)","v":8}]
[21,574,11,582,11,588,null,null,null,null,0,211,null,212,0,0,0,null,null,212,{"$f":"COUNTIF(L7:L27,T12)","v":0},{"$f":"U12/(W4-U11)","v":0},{"$f":"IF(V12=0,0,(V12*((LOG(V12))/LOG(2))))","v":0},null,212,{"$f":"COUNTIF(L28:L47,Y12)","v":0},{"$f":"Z12/(AB4-Z11)","v":0},{"$f":"IF(AA12=0,0,(AA12*((LOG(AA12))/LOG(2))))","v":0},null,212,{"$f":"COUNTIF(L48:L68,AD12)","v":0},{"$f":"AE12/(AG4-AE11)","v":0},{"$f":"IF(AF12=0,0,(AF12*((LOG(AF12))/LOG(2))))","v":0},null,212,{"$f":"COUNTIF(L69:L88,AI12)","v":0},{"$f":"AJ12/(AL4-AJ11)","v":0},{"$f":"IF(AK12=0,0,(AK12*((LOG(AK12))/LOG(2))))","v":0},null,212,{"$f":"COUNTIF(L89:L109,AN12)","v":0},{"$f":"AO12/(AQ4-AO11)","v":0},{"$f":"IF(AP12=0,0,(AP12*((LOG(AP12))/LOG(2))))","v":0},null,212,{"$f":"COUNTIF(L110:L129,AS12)","v":0},{"$f":"AT12/(AV4-AT11)","v":0},{"$f":"IF(AU12=0,0,(AU12*((LOG(AU12))/LOG(2))))","v":0}]
[12,719,13,724,13,730,null,null,null,null,0,111,null,221,1,8.130081300813009E-3,-5.6443207360481633E-2,null,null,221,{"$f":"COUNTIF(L7:L27,T13)","v":1},{"$f":"U13/(W4-U11)","v":5.5555555555555552E-2},{"$f":"IF(V13=0,0,(V13*((LOG(V13))/LOG(2))))","v":-0.23166250008012845},null,221,{"$f":"COUNTIF(L28:L47,Y13)","v":0},{"$f":"Z13/(AB4-Z11)","v":0},{"$f":"IF(AA13=0,0,(AA13*((LOG(AA13))/LOG(2))))","v":0},null,221,{"$f":"COUNTIF(L48:L68,AD13)","v":0},{"$f":"AE13/(AG4-AE11)","v":0},{"$f":"IF(AF13=0,0,(AF13*((LOG(AF13))/LOG(2))))","v":0},null,221,{"$f":"COUNTIF(L69:L88,AI13)","v":0},{"$f":"AJ13/(AL4-AJ11)","v":0},{"$f":"IF(AK13=0,0,(AK13*((LOG(AK13))/LOG(2))))","v":0},null,221,{"$f":"COUNTIF(L89:L109,AN13)","v":0},{"$f":"AO13/(AQ4-AO11)","v":0},{"$f":"IF(AP13=0,0,(AP13*((LOG(AP13))/LOG(2))))","v":0},null,221,{"$f":"COUNTIF(L110:L129,AS13)","v":0},{"$f":"AT13/(AV4-AT11)","v":0},{"$f":"IF(AU13=0,0,(AU13*((LOG(AU13))/LOG(2))))","v":0}]
[12,835,13,842,13,855,null,null,null,null,0,111,null,222,0,0,0,null,null,222,{"$f":"COUNTIF(L7:L27,T14)","v":0},{"$f":"U14/(W4-U11)","v":0},{"$f":"IF(V14=0,0,(V14*((LOG(V14))/LOG(2))))","v":0},null,222,{"$f":"COUNTIF(L28:L47,Y14)","v":0},{"$f":"Z14/(AB4-Z11)","v":0},{"$f":"IF(AA14=0,0,(AA14*((LOG(AA14))/LOG(2))))","v":0},null,222,{"$f":"COUNTIF(L48:L68,AD14)","v":0},{"$f":"AE14/(AG4-AE11)","v":0},{"$f":"IF(AF14=0,0,(AF14*((LOG(AF14))/LOG(2))))","v":0},null,222,{"$f":"COUNTIF(L69:L88,AI14)","v":0},{"$f":"AJ14/(AL4-AJ11)","v":0},{"$f":"IF(AK14=0,0,(AK14*((LOG(AK14))/LOG(2))))","v":0},null,222,{"$f":"COUNTIF(L89:L109,AN14)","v":0},{"$f":"AO14/(AQ4-AO11)","v":0},{"$f":"IF(AP14=0,0,(AP14*((LOG(AP14))/LOG(2))))","v":0},null,222,{"$f":"COUNTIF(L110:L129,AS14)","v":0},{"$f":"AT14/(AV4-AT11)","v":0},{"$f":"IF(AU14=0,0,(AU14*((LOG(AU14))/LOG(2))))","v":0}]
[12,954,13,956,13,962,null,null,null,null,0,111,null,null,null,{"$f":"SUM(P7:P14)","v":1},{"$f":"-SUM(Q7:Q14)","v":0.75309980910736452},null,null,null,null,{"$f":"SUM(V7:V14)","v":1},{"$f":"-SUM(W7:W14)","v":0.30954342915032518},null,null,null,{"$f":"SUM(AA7:AA14)","v":1},{"$f":"-SUM(AB7:AB14)","v":0},null,null,null,{"$f":"SUM(AF7:AF14)","v":1},{"$f":"-SUM(AG7:AG14)","v":0},null,null,null,{"$f":"SUM(AK7:AK14)","v":1},{"$f":"-SUM(AL7:AL14)","v":0.2863969571159562},null,null,null,{"$f":"SUM(AP7:AP14)","v":1},{"$f":"-SUM(AQ7:AQ14)","v":0},null,null,null,{"$f":"SUM(AU7:AU14)","v":1},{"$f":"-SUM(AV7:AV14)","v":0}]
[12,1297,13,1303,13,1311,null,null,null,null,0,111,null,null,null,"U=",{"$f":"Q15/(LOG(Q4)/LOG(2))","v":0.10847651935450511},null,null,null,null,"U1=",{"$f":"W15/(LOG(W4)/LOG(2))","v":7.0473829497162174E-2},null,null,null,"U2=",{"$f":"AB15/(LOG(AB4)/LOG(2))","v":0},null,null,null,"U3=",{"$f":"AG15/(LOG(AG4)/LOG(2))","v":0},null,null,null,"U4=",{"$f":"AL15/(LOG(AL4)/LOG(2))","v":6.6266016191882118E-2},null,null,null,"U5=",{"$f":"AQ15/(LOG(AQ4)/LOG(2))","v":0},null,null,null,"U6=",{"$f":"AV15/(LOG(AV4)/LOG(2))","v":0}]
[12,1502,13,1504,13,1506,null,null,null,null,0,111]
[12,1605,13,1614,13,1620,null,null,null,null,0,111]
[12,1758,13,1764,13,1770,null,null,null,null,0,111,null,"Total Target Seq"]
[12,1871,13,1877,13,1888,null,null,null,null,0,111,null,{"$f":"COUNTIF(L7:L129,G3)","v":19},null,21,20,21,20,21,20]
[12,1987,13,1991,13,2002,null,null,null,null,0,111,null,null,null,"% of reinforcement given in 6 equal intervals based on number of trials "]
[12,2101,13,2107,13,2113,null,null,null,null,0,111,null,null,null,"%_1","%_2","%_3","%_4","%_5","%_6"]
[12,2212,13,2216,13,2221,null,null,null,null,0,111,null,null,"target sequence",{"$f":"$G$3","v":211},211,211,211,211,211]
[21,2315,11,2318,11,2322,null,null,null,null,0,211,null,null,"total reinforcement",{"$f":"U11","v":3},{"$f":"Z11","v":3},{"$f":"AE11","v":2},{"$f":"AJ11","v":0},{"$f":"AO11","v":3},{"$f":"AT11","v":8}]
[12,2418,13,2427,13,2434,null,null,null,null,0,111,null,null,"% target"]
[12,2534,13,2540,13,2547,null,null,null,null,0,111,null,null,"CCRF"]
[21,2645,11,2649,11,2653,null,null,null,null,0,211,null,null,"% CCRf"]
[12,2825,13,2827,13,2838,null,null,null,null,0,111,null,null,"average response rate",{"$f":"F27/P20","v":126.33333333333333},{"$f":"(F47-F27)/Q20","v":188.2},{"$f":"(F68-F47)/R20","v":118.57142857142857},{"$f":"(F88-F68)/S20","v":235.95},{"$f":"(F109-F88)/T20","v":175.71428571428572},{"$f":"(F129-F109)/U20","v":201.2}]
[12,2937,13,2944,13,2957,null,null,null,null,0,111]
[12,3060,13,3065,13,3071,null,null,null,null,0,111]
[12,3170,13,3174,13,3180,null,null,null,null,0,111]
[12,3280,13,3283,13,3295,null,null,null,null,0,111]
[12,3394,13,3398,13,3402,null,null,null,null,0,111]
[12,3499,13,3507,13,3514,null,null,null,null,0,111]
[21,3610,11,3612,11,3615,null,null,null,null,0,211]
[12,3732,13,3739,13,3744,null,null,null,null,0,111]
[12,3842,13,3845,13,3847,null,null,null,null,0,111]
[12,3947,13,3951,13,3961,null,null,null,null,0,111]
[21,4057,11,4062,11,4067,null,null,null,null,0,211]
[12,5051,13,5056,13,5067,null,null,null,null,0,111]
[12,5209,13,5211,13,5216,null,null,null,null,0,111]
[12,5322,13,5325,13,5330,null,null,null,null,0,111]
[12,5428,13,5430,13,5434,null,null,null,null,0,111]
[12,5534,13,5537,13,5548,null,null,null,null,0,111]
[12,6024,13,6027,13,6033,null,null,null,null,0,111]
[12,6299,13,6306,13,6312,null,null,null,null,0,111]
[21,6404,11,6411,11,6417,null,null,null,null,0,211]
[12,6642,13,6649,13,6659,null,null,null,null,0,111]
[12,6758,13,6760,13,6765,null,null,null,null,0,111]
[21,6858,11,6864,11,6868,null,null,null,null,0,211]
[12,6960,13,6965,13,6970,null,null,null,null,0,111]
[12,7069,13,7073,13,7080,null,null,null,null,0,111]
[12,7178,13,7182,13,7188,null,null,null,null,0,111]
[21,7285,11,7293,11,7316,null,null,null,null,0,211]
[12,7429,13,7437,13,7442,null,null,null,null,0,111]
[12,7540,13,7546,13,7552,null,null,null,null,0,111]
[12,7651,13,7657,13,7663,null,null,null,null,0,111]
[12,7762,13,7766,13,7772,null,null,null,null,0,111]
[12,7874,13,7889,13,7901,null,null,null,null,0,111]
[12,8002,13,8003,13,8012,null,null,null,null,0,111]
[12,8111,13,8114,13,8125,null,null,null,null,0,111]
[12,8224,13,8231,13,8242,null,null,null,null,0,111]
[12,8341,13,8345,13,8348,null,null,null,null,0,111]
[12,8450,13,8455,13,8467,null,null,null,null,0,111]
[12,8564,13,8568,13,8584,null,null,null,null,0,111]
[12,8682,13,8685,13,8689,null,null,null,null,0,111]
[12,8789,13,8791,13,8795,null,null,null,null,0,111]
[12,8893,13,8897,13,8907,null,null,null,null,0,111]
[12,9333,13,9339,13,9345,null,null,null,null,0,111]
[12,9442,13,9446,13,9454,null,null,null,null,0,111]
[12,9553,13,9558,13,9575,null,null,null,null,0,111]
[12,9674,13,9678,13,9685,null,null,null,null,0,111]
[12,10279,13,10291,13,10299,null,null,null,null,0,111]
[12,10400,13,10406,13,10412,null,null,null,null,0,111]
[12,10511,13,10514,13,10520,null,null,null,null,0,111]
[12,10618,13,10621,13,10625,null,null,null,null,0,111]
[12,10724,13,10728,13,10739,null,null,null,null,0,111]
[12,10840,13,10851,13,10868,null,null,null,null,0,111]
[12,10959,13,10964,13,10967,null,null,null,null,0,111]
[12,11066,13,11071,13,11081,null,null,null,null,0,111]
[12,11183,13,11188,13,11197,null,null,null,null,0,111]
[12,11840,13,11843,24,11845,null,null,null,null,0,112]
[12,12312,13,12318,13,12329,null,null,null,null,0,111]
[12,13092,13,13098,13,13104,null,null,null,null,0,111]
[12,13257,13,13263,13,13270,null,null,null,null,0,111]
[12,13377,13,13386,13,13399,null,null,null,null,0,111]
[12,13498,13,13502,13,13509,null,null,null,null,0,111]
[12,13608,13,13612,13,13626,null,null,null,null,0,111]
[12,14805,13,14809,13,14817,null,null,null,null,0,111]
[12,14932,13,14939,13,14948,null,null,null,null,0,111]
[12,15045,13,15049,13,15053,null,null,null,null,0,111]
[12,15157,13,15161,13,15167,null,null,null,null,0,111]
[12,15266,13,15270,13,15275,null,null,null,null,0,111]
[21,15368,11,15374,11,15381,null,null,null,null,0,211]
[12,15483,13,15487,13,15493,null,null,null,null,0,111]
[21,15589,11,15597,11,15601,null,null,null,null,0,211]
[12,15864,13,15871,13,15883,null,null,null,null,0,111]
[12,15982,13,15989,13,16001,null,null,null,null,0,111]
[12,16111,13,16115,13,16119,null,null,null,null,0,111]
[12,16218,13,16226,13,16237,null,null,null,null,0,111]
[12,16340,13,16343,13,16358,null,null,null,null,0,111]
[12,16484,13,16490,13,16496,null,null,null,null,0,111]
[12,16598,13,16605,13,16612,null,null,null,null,0,111]
[12,16712,13,16716,13,16726,null,null,null,null,0,111]
[12,16825,13,16830,13,16840,null,null,null,null,0,111]
[12,16939,13,16942,13,16947,null,null,null,null,0,111]
[21,17042,11,17047,11,17055,null,null,null,null,0,211]
[12,17158,13,17165,13,17170,null,null,null,null,0,111]
[12,17307,13,17310,13,17316,null,null,null,null,0,111]
[12,17416,13,17420,13,17426,null,null,null,null,0,111]
[12,17528,13,17532,13,17543,null,null,null,null,0,111]
[21,17638,11,17644,11,17649,null,null,null,null,0,211]
[12,17744,13,17750,13,17755,null,null,null,null,0,111]
[12,18142,13,18148,13,18158,null,null,null,null,0,111]
[21,18253,11,18260,11,18264,null,null,null,null,0,211]
[12,18374,13,18379,13,18391,null,null,null,null,0,111]
[21,18486,11,18496,11,18501,null,null,null,null,0,211]
[21,18602,11,18610,11,18613,null,null,null,null,0,211]
[12,19437,13,19442,13,19450,null,null,null,null,0,111]
[12,19548,13,19552,13,19555,null,null,null,null,0,111]
[12,19667,13,19672,13,19679,null,null,null,null,0,111]
[21,19773,11,19780,11,19783,null,null,null,null,0,211]
[12,20080,13,20085,13,20089,null,null,null,null,0,111]
[21,20182,11,20188,11,20193,null,null,null,null,0,211]
[12,20510,13,20517,13,20527,null,null,null,null,0,111]
[12,20650,13,20653,13,20658,null,null,null,null,0,111]
[21,20753,11,20761,11,20767,null,null,null,null,0,211]
[12,21221,13,21227,13,21233,null,null,null,null,0,111]
[21,21327,11,21334,11,21340,null,null,null,null,1,211]

{"sheet":"!N207A1T.AYL","index":9,"n_rows":98,"n_cols":48,"rows_kept":98,"cut":false,"hidden":false,"merged":[[1,1,1,2],[5,13,5,14],[18,13,18,14],[19,13,19,14],[4,19,4,22],[5,19,5,20],[4,39,4,42],[5,39,5,40],[4,44,4,47],[5,44,5,45],[4,24,4,27],[5,24,5,25],[4,29,4,32],[5,29,5,30],[4,34,4,37],[5,34,5,35]]}
["Report for:!N207A1T.AYL"]
["Date:","<date>"]
["Hen:","<hen>",null,null,null,"Correct Sequence",{"$f":"Start!J2","v":211},null,null,null,null,null,null,null,null,"Total Sequences in Data",{"$f":"4994-COUNTBLANK(L7:L5000)","v":92},null,null,null,null,"Total Sequences in Block Data",{"$f":"COUNTA(L7:L21)","v":15},null,null,null,"Total Sequences in Block Data",{"$f":"COUNTA(L22:L37)","v":16},null,null,null,"Total Sequences in Block Data",{"$f":"COUNTA(L38:L52)","v":15},null,null,null,"Total Sequences in Block Data",{"$f":"COUNTA(L53:L67)","v":15},null,null,null,"Total Sequences in Block Data",{"$f":"COUNTA(L68:L83)","v":16},null,null,null,"Total Sequences in Block Data",{"$f":"COUNTA(L84:L98)","v":15}]
[null,null,null,null,null,null,null,null,null,null,null,null,null,null,null,"Total Sequences in Summary",{"$f":"SUM(O7:O14)","v":92},null,null,null,null,"Total Sequences in Block Summary",{"$f":"SUM(U7:U14)","v":15},null,null,null,"Total Sequences in Block Summary",{"$f":"SUM(Z7:Z14)","v":16},null,null,null,"Total Sequences in Block Summary",{"$f":"SUM(AE7:AE14)","v":15},null,null,null,"Total Sequences in Block Summary",{"$f":"SUM(AJ7:AJ14)","v":15},null,null,null,"Total Sequences in Block Summary",{"$f":"SUM(AO7:AO14)","v":16},null,null,null,"Total Sequences in Block Summary",{"$f":"SUM(AT7:AT14)","v":15}]
[null,null,null,null,null,null,null,null,null,null,null,null,null,null,null,null,null,null,null,"Block 1",null,null,null,null,"Block 2",null,null,null,null,"Block 3",null,null,null,null,"Block 4",null,null,null,null,"Block 5",null,null,null,null,"Block 6"]
["Sequence\nComponent\n1","Time\n1","Sequence\nComponent\n2","Time\n2","Sequence\nComponent\n3","Time\n3","Sequence\nComponent\n4","Time\n4","Sequence\nComponent\n5","Time\n5","Correct?\n0=No 1=Yes","Sequence",null,"Frequency",null,"Relative Frequency","Variability",null,null,"Frequency",null,"Relative Frequency","Variability",null,"Frequency",null,"Relative Frequency","Variability",null,"Frequency",null,"Relative Frequency","Variability",null,"Frequency",null,"Relative Frequency","Variability",null,"Frequency",null,"Relative Frequency","Variability",null,"Frequency",null,"Relative Frequency","Variability"]
[12,96,13,102,13,109,null,null,null,null,0,111,null,111,{"$f":"COUNTIF($L$7:$L$500,N7)","v":60},{"$f":"O7/$Q$4","v":0.65217391304347827},{"$f":"IF(P7=0,0,(P7*((LOG(P7))/LOG(2))))","v":-0.40217697420553983},null,null,{"$f":"N7","v":111},{"$f":"COUNTIF(L7:L21,T7)","v":14},{"$f":"U7/(W4-U11)","v":1},{"$f":"IF(V7=0,0,(V7*((LOG(V7))/LOG(2))))","v":0},null,{"$f":"N7","v":111},{"$f":"COUNTIF(L22:L37,Y7)","v":10},{"$f":"Z7/(AB4-Z11)","v":0.90909090909090906},{"$f":"IF(AA7=0,0,(AA7*((LOG(AA7))/LOG(2))))","v":-0.12500320340903179},null,{"$f":"N7","v":111},{"$f":"COUNTIF(L38:L52,AD7)","v":10},{"$f":"AE7/(AG4-AE11)","v":1},{"$f":"IF(AF7=0,0,(AF7*((LOG(AF7))/LOG(2))))","v":0},null,{"$f":"N7","v":111},{"$f":"COUNTIF(L53:L67,AI7)","v":5},{"$f":"AJ7/(AL4-AJ11)","v":0.55555555555555558},{"$f":"IF(AK7=0,0,(AK7*((LOG(AK7))/LOG(2))))","v":-0.4711093925305278},null,{"$f":"N7","v":111},{"$f":"COUNTIF(L68:L83,AN7)","v":11},{"$f":"AO7/(AQ4-AO11)","v":0.7857142857142857},{"$f":"IF(AP7=0,0,(AP7*((LOG(AP7))/LOG(2))))","v":-0.27336830983024107},null,{"$f":"N7","v":111},{"$f":"COUNTIF(L84:L98,AS7)","v":10},{"$f":"AT7/(AV4-AT11)","v":0.90909090909090906},{"$f":"IF(AU7=0,0,(AU7*((LOG(AU7))/LOG(2))))","v":-0.12500320340903179}]
[12,374,13,380,13,390,null,null,null,null,0,111,null,112,5,5.434782608695652E-2,-0.22834966636791579,null,null,112,{"$f":"COUNTIF(L7:L21,T8)","v":0},{"$f":"U8/(W4-U11)","v":0},{"$f":"IF(V8=0,0,(V8*((LOG(V8))/LOG(2))))","v":0},null,112,{"$f":"COUNTIF(L22:L37,Y8)","v":1},{"$f":"Z8/(AB4-Z11)","v":9.0909090909090912E-2},{"$f":"IF(AA8=0,0,(AA8*((LOG(AA8))/LOG(2))))","v":-0.31449378351248153},null,112,{"$f":"COUNTIF(L38:L52,AD8)","v":0},{"$f":"AE8/(AG4-AE11)","v":0},{"$f":"IF(AF8=0,0,(AF8*((LOG(AF8))/LOG(2))))","v":0},null,112,{"$f":"COUNTIF(L53:L67,AI8)","v":1},{"$f":"AJ8/(AL4-AJ11)","v":0.1111111111111111},{"$f":"IF(AK8=0,0,(AK8*((LOG(AK8))/LOG(2))))","v":-0.3522138890491458},null,112,{"$f":"COUNTIF(L68:L83,AN8)","v":3},{"$f":"AO8/(AQ4-AO11)","v":0.21428571428571427},{"$f":"IF(AP8=0,0,(AP8*((LOG(AP8))/LOG(2))))","v":-0.47622694742923877},null,112,{"$f":"COUNTIF(L84:L98,AS8)","v":0},{"$f":"AT8/(AV4-AT11)","v":0},{"$f":"IF(AU8=0,0,(AU8*((LOG(AU8))/LOG(2))))","v":0}]
[12,494,13,502,13,512,null,null,null,null,0,111,null,121,2,2.1739130434782608E-2,-0.12007743382732637,null,null,121,{"$f":"COUNTIF(L7:L21,T9)","v":0},{"$f":"U9/(W4-U11)","v":0},{"$f":"IF(V9=0,0,(V9*((LOG(V9))/LOG(2))))","v":0},null,121,{"$f":"COUNTIF(L22:L37,Y9)","v":0},{"$f":"Z9/(AB4-Z11)","v":0},{"$f":"IF(AA9=0,0,(AA9*((LOG(AA9))/LOG(2))))","v":0},null,121,{"$f":"COUNTIF(L38:L52,AD9)","v":0},{"$f":"AE9/(AG4-AE11)","v":0},{"$f":"IF(AF9=0,0,(AF9*((LOG(AF9))/LOG(2))))","v":0},null,121,{"$f":"COUNTIF(L53:L67,AI9)","v":2},{"$f":"AJ9/(AL4-AJ11)","v":0.22222222222222221},{"$f":"IF(AK9=0,0,(AK9*((LOG(AK9))/LOG(2))))","v":-0.48220555587606945},null,121,{"$f":"COUNTIF(L68:L83,AN9)","v":0},{"$f":"AO9/(AQ4-AO11)","v":0},{"$f":"IF(AP9=0,0,(AP9*((LOG(AP9))/LOG(2))))","v":0},null,121,{"$f":"COUNTIF(L84:L98,AS9)","v":0},{"$f":"AT9/(AV4-AT11)","v":0},{"$f":"IF(AU9=0,0,(AU9*((LOG(AU9))/LOG(2))))","v":0}]
[12,613,13,617,13,627,null,null,null,null,0,111,null,122,0,0,0,null,null,122,{"$f":"COUNTIF(L7:L21,T10)","v":0},{"$f":"U10/(W4-U11)","v":0},{"$f":"IF(V10=0,0,(V10*((LOG(V10))/LOG(2))))","v":0},null,122,{"$f":"COUNTIF(L22:L37,Y10)","v":0},{"$f":"Z10/(AB4-Z11)","v":0},{"$f":"IF(AA10=0,0,(AA10*((LOG(AA10))/LOG(2))))","v":0},null,122,{"$f":"COUNTIF(L38:L52,AD10)","v":0},{"$f":"AE10/(AG4-AE11)","v":0},{"$f":"IF(AF10=0,0,(AF10*((LOG(AF10))/LOG(2))))","v":0},null,122,{"$f":"COUNTIF(L53:L67,AI10)","v":0},{"$f":"AJ10/(AL4-AJ11)","v":0},{"$f":"IF(AK10=0,0,(AK10*((LOG(AK10))/LOG(2))))","v":0},null,122,{"$f":"COUNTIF(L68:L83,AN10)","v":0},{"$f":"AO10/(AQ4-AO11)","v":0},{"$f":"IF(AP10=0,0,(AP10*((LOG(AP10))/LOG(2))))","v":0},null,122,{"$f":"COUNTIF(L84:L98,AS10)","v":0},{"$f":"AT10/(AV4-AT11)","v":0},{"$f":"IF(AU10=0,0,(AU10*((LOG(AU10))/LOG(2))))","v":0}]
[12,727,13,729,13,733,null,null,null,null,0,111,null,211,23,0.25,-0.5,null,null,211,{"$f":"COUNTIF(L7:L21,T11)","v":1},null,null,null,211,{"$f":"COUNTIF(L22:L37,Y11)","v":5},null,null,null,211,{"$f":"COUNTIF(L38:L52,AD11)","v":5},null,null,null,211,{"$f":"COUNTIF(L53:L67,AI11)","v":6},null,null,null,211,{"$f":"COUNTIF(L68:L83,AN11)","v":2},null,null,null,211,{"$f":"COUNTIF(L84:L98,AS11)","v":4}]
[12,832,13,836,13,844,null,null,null,null,0,111,null,212,0,0,0,null,null,212,{"$f":"COUNTIF(L7:L21,T12)","v":0},{"$f":"U12/(W4-U11)","v":0},{"$f":"IF(V12=0,0,(V12*((LOG(V12))/LOG(2))))","v":0},null,212,{"$f":"COUNTIF(L22:L37,Y12)","v":0},{"$f":"Z12/(AB4-Z11)","v":0},{"$f":"IF(AA12=0,0,(AA12*((LOG(AA12))/LOG(2))))","v":0},null,212,{"$f":"COUNTIF(L38:L52,AD12)","v":0},{"$f":"AE12/(AG4-AE11)","v":0},{"$f":"IF(AF12=0,0,(AF12*((LOG(AF12))/LOG(2))))","v":0},null,212,{"$f":"COUNTIF(L53:L67,AI12)","v":0},{"$f":"AJ12/(AL4-AJ11)","v":0},{"$f":"IF(AK12=0,0,(AK12*((LOG(AK12))/LOG(2))))","v":0},null,212,{"$f":"COUNTIF(L68:L83,AN12)","v":0},{"$f":"AO12/(AQ4-AO11)","v":0},{"$f":"IF(AP12=0,0,(AP12*((LOG(AP12))/LOG(2))))","v":0},null,212,{"$f":"COUNTIF(L84:L98,AS12)","v":0},{"$f":"AT12/(AV4-AT11)","v":0},{"$f":"IF(AU12=0,0,(AU12*((LOG(AU12))/LOG(2))))","v":0}]
[12,1010,13,1015,13,1021,null,null,null,null,0,111,null,221,2,2.1739130434782608E-2,-0.12007743382732637,null,null,221,{"$f":"COUNTIF(L7:L21,T13)","v":0},{"$f":"U13/(W4-U11)","v":0},{"$f":"IF(V13=0,0,(V13*((LOG(V13))/LOG(2))))","v":0},null,221,{"$f":"COUNTIF(L22:L37,Y13)","v":0},{"$f":"Z13/(AB4-Z11)","v":0},{"$f":"IF(AA13=0,0,(AA13*((LOG(AA13))/LOG(2))))","v":0},null,221,{"$f":"COUNTIF(L38:L52,AD13)","v":0},{"$f":"AE13/(AG4-AE11)","v":0},{"$f":"IF(AF13=0,0,(AF13*((LOG(AF13))/LOG(2))))","v":0},null,221,{"$f":"COUNTIF(L53:L67,AI13)","v":1},{"$f":"AJ13/(AL4-AJ11)","v":0.1111111111111111},{"$f":"IF(AK13=0,0,(AK13*((LOG(AK13))/LOG(2))))","v":-0.3522138890491458},null,221,{"$f":"COUNTIF(L68:L83,AN13)","v":0},{"$f":"AO13/(AQ4-AO11)","v":0},{"$f":"IF(AP13=0,0,(AP13*((LOG(AP13))/LOG(2))))","v":0},null,221,{"$f":"COUNTIF(L84:L98,AS13)","v":1},{"$f":"AT13/(AV4-AT11)","v":9.0909090909090912E-2},{"$f":"IF(AU13=0,0,(AU13*((LOG(AU13))/LOG(2))))","v":-0.31449378351248153}]
[12,1142,13,1146,13,1153,null,null,null,null,0,111,null,222,0,0,0,null,null,222,{"$f":"COUNTIF(L7:L21,T14)","v":0},{"$f":"U14/(W4-U11)","v":0},{"$f":"IF(V14=0,0,(V14*((LOG(V14))/LOG(2))))","v":0},null,222,{"$f":"COUNTIF(L22:L37,Y14)","v":0},{"$f":"Z14/(AB4-Z11)","v":0},{"$f":"IF(AA14=0,0,(AA14*((LOG(AA14))/LOG(2))))","v":0},null,222,{"$f":"COUNTIF(L38:L52,AD14)","v":0},{"$f":"AE14/(AG4-AE11)","v":0},{"$f":"IF(AF14=0,0,(AF14*((LOG(AF14))/LOG(2))))","v":0},null,222,{"$f":"COUNTIF(L53:L67,AI14)","v":0},{"$f":"AJ14/(AL4-AJ11)","v":0},{"$f":"IF(AK14=0,0,(AK14*((LOG(AK14))/LOG(2))))","v":0},null,222,{"$f":"COUNTIF(L68:L83,AN14)","v":0},{"$f":"AO14/(AQ4-AO11)","v":0},{"$f":"IF(AP14=0,0,(AP14*((LOG(AP14))/LOG(2))))","v":0},null,222,{"$f":"COUNTIF(L84:L98,AS14)","v":0},{"$f":"AT14/(AV4-AT11)","v":0},{"$f":"IF(AU14=0,0,(AU14*((LOG(AU14))/LOG(2))))","v":0}]
[12,1252,13,1256,13,1262,null,null,null,null,0,111,null,null,null,{"$f":"SUM(P7:P14)","v":1},{"$f":"-SUM(Q7:Q14)","v":1.3706815082281083},null,null,null,null,{"$f":"SUM(V7:V14)","v":1},{"$f":"-SUM(W7:W14)","v":0},null,null,null,{"$f":"SUM(AA7:AA14)","v":1},{"$f":"-SUM(AB7:AB14)","v":0.43949698692151329},null,null,null,{"$f":"SUM(AF7:AF14)","v":1},{"$f":"-SUM(AG7:AG14)","v":0},null,null,null,{"$f":"SUM(AK7:AK14)","v":1},{"$f":"-SUM(AL7:AL14)","v":1.6577427265048887},null,null,null,{"$f":"SUM(AP7:AP14)","v":1},{"$f":"-SUM(AQ7:AQ14)","v":0.74959525725947984},null,null,null,{"$f":"SUM(AU7:AU14)","v":1},{"$f":"-SUM(AV7:AV14)","v":0.43949698692151329}]
[21,1362,11,1367,11,1372,null,null,null,null,0,211,null,null,null,"U=",{"$f":"Q15/(LOG(Q4)/LOG(2))","v":0.21011243818347652},null,null,null,null,"U1=",{"$f":"W15/(LOG(W4)/LOG(2))","v":0},null,null,null,"U2=",{"$f":"AB15/(LOG(AB4)/LOG(2))","v":0.10987424673037832},null,null,null,"U3=",{"$f":"AG15/(LOG(AG4)/LOG(2))","v":0},null,null,null,"U4=",{"$f":"AL15/(LOG(AL4)/LOG(2))","v":0.42431255391902944},null,null,null,"U5=",{"$f":"AQ15/(LOG(AQ4)/LOG(2))","v":0.18739881431486996},null,null,null,"U6=",{"$f":"AV15/(LOG(AV4)/LOG(2))","v":0.11249278068229585}]
[12,1467,13,1474,13,1483,null,null,null,null,0,111]
[12,1584,13,1588,13,1600,null,null,null,null,0,111]
[12,1704,13,1711,13,1718,null,null,null,null,0,111,null,"Total Target Seq"]
[12,1819,13,1825,13,1833,null,null,null,null,0,111,null,{"$f":"COUNTIF(L7:L98,G3)","v":23},null,15,16,15,15,16,15]
[12,1932,13,1937,13,1949,null,null,null,null,0,111,null,null,null,"% of reinforcement given in 6 equal intervals based on number of trials "]
[12,2048,13,2051,13,2059,null,null,null,null,0,111,null,null,null,"%_1","%_2","%_3","%_4","%_5","%_6"]
[21,2155,11,2166,11,2173,null,null,null,null,0,211,null,null,"target sequence",{"$f":"$G$3","v":211},211,211,211,211,211]
[21,2497,11,2512,11,2518,null,null,null,null,0,211,null,null,"total reinforcement",{"$f":"U11","v":1},{"$f":"Z11","v":5},{"$f":"AE11","v":5},{"$f":"AJ11","v":6},{"$f":"AO11","v":2},{"$f":"AT11","v":4}]
[12,2672,13,2675,13,2682,null,null,null,null,0,111,null,null,"% target"]
[12,2782,13,2785,13,2796,null,null,null,null,0,111,null,null,"CCRF"]
[21,2891,11,2900,11,2904,null,null,null,null,0,211,null,null,"% CCRf"]
[12,3006,13,3011,24,3015,null,null,null,null,0,112,null,null,"average response rate",{"$f":"F21/P20","v":129.93333333333334},{"$f":"(F37-F21)/Q20","v":163.5625},{"$f":"(F52-F37)/R20","v":118.6},{"$f":"(F67-F52)/S20","v":299},{"$f":"(F83-F67)/T20","v":333.25},{"$f":"(F98-F83)/U20","v":180}]
[21,3116,11,3125,11,3136,null,null,null,null,0,211]
[12,3379,13,3385,13,3392,null,null,null,null,0,111]
[12,3493,13,3499,13,3510,null,null,null,null,0,111]
[12,3611,13,3615,13,3626,null,null,null,null,0,111]
[12,3811,13,3814,13,3817,null,null,null,null,0,111]
[12,3918,13,3921,13,3926,null,null,null,null,0,111]
[21,4025,11,4032,11,4036,null,null,null,null,0,211]
[12,4396,13,4407,13,4413,null,null,null,null,0,111]
[12,4554,13,4560,13,4566,null,null,null,null,0,111]
[12,4737,13,4739,13,4745,null,null,null,null,0,111]
[21,4841,11,4848,11,4854,null,null,null,null,0,211]
[12,4965,13,4971,13,4977,null,null,null,null,0,111]
[12,5077,13,5085,13,5088,null,null,null,null,0,111]
[12,5188,13,5193,13,5204,null,null,null,null,0,111]
[12,5304,13,5306,13,5310,null,null,null,null,0,111]
[21,5404,11,5410,11,5414,null,null,null,null,0,211]
[12,5513,13,5523,13,5529,null,null,null,null,0,111]
[21,5626,11,5632,11,5641,null,null,null,null,0,211]
[12,5780,13,5787,13,5792,null,null,null,null,0,111]
[12,5890,13,5894,13,5900,null,null,null,null,0,111]
[12,6000,13,6004,13,6016,null,null,null,null,0,111]
[21,6112,11,6124,11,6134,null,null,null,null,0,211]
[21,6225,11,6236,11,6242,null,null,null,null,0,211]
[12,6336,13,6339,13,6345,null,null,null,null,0,111]
[21,6444,11,6450,11,6455,null,null,null,null,0,211]
[12,6550,13,6554,13,6565,null,null,null,null,0,111]
[21,6661,11,6668,11,6679,null,null,null,null,0,211]
[12,7095,13,7100,13,7108,null,null,null,null,0,111]
[12,7204,13,7210,13,7219,null,null,null,null,0,111]
[21,7317,11,7326,11,7331,null,null,null,null,0,211]
[21,7426,11,7438,11,7450,null,null,null,null,0,211]
[21,7556,11,7569,11,7575,null,null,null,null,0,211]
[12,7992,13,7998,13,8011,null,null,null,null,0,111]
[21,8111,22,8115,13,8124,null,null,null,null,0,221]
[21,8220,11,8228,11,8262,null,null,null,null,0,211]
[12,8825,24,8827,13,8840,null,null,null,null,0,121]
[12,9523,13,9528,24,9530,null,null,null,null,0,112]
[12,10532,24,10543,13,10570,null,null,null,null,0,121]
[12,10807,13,10812,13,10830,null,null,null,null,0,111]
[12,10930,13,10934,13,10945,null,null,null,null,0,111]
[21,11042,11,11049,11,11053,null,null,null,null,0,211]
[12,11884,13,11893,13,11899,null,null,null,null,0,111]
[12,12846,13,12852,13,12858,null,null,null,null,0,111]
[12,13720,13,13724,13,13726,null,null,null,null,0,111]
[12,13822,13,13824,13,13828,null,null,null,null,0,111]
[21,13923,11,13935,11,13940,null,null,null,null,0,211]
[12,14607,13,14611,13,14615,null,null,null,null,0,111]
[12,14816,13,14822,24,14828,null,null,null,null,0,112]
[12,14953,13,14960,24,14968,null,null,null,null,0,112]
[12,15272,13,15278,13,15288,null,null,null,null,0,111]
[12,15484,13,15485,13,15489,null,null,null,null,0,111]
[12,15588,13,15593,13,15604,null,null,null,null,0,111]
[12,15924,13,15928,13,15937,null,null,null,null,0,111]
[12,16036,13,16039,24,16047,null,null,null,null,0,112]
[12,16147,13,16151,13,16162,null,null,null,null,0,111]
[21,16267,11,16275,11,16279,null,null,null,null,0,211]
[12,16433,13,16442,13,16451,null,null,null,null,0,111]
[12,16637,13,16639,13,16644,null,null,null,null,0,111]
[12,16743,13,16748,13,16758,null,null,null,null,0,111]
[12,17697,13,17701,13,17707,null,null,null,null,0,111]
[12,17875,13,17880,13,17889,null,null,null,null,0,111]
[12,17987,13,17991,13,17999,null,null,null,null,0,111]
[12,18101,13,18104,13,18111,null,null,null,null,0,111]
[12,18211,13,18215,13,18217,null,null,null,null,0,111]
[12,18316,13,18320,13,18324,null,null,null,null,0,111]
[21,18420,11,18426,11,18430,null,null,null,null,0,211]
[12,18521,13,18526,13,18531,null,null,null,null,0,111]
[21,18628,22,18630,13,18637,null,null,null,null,0,221]
[21,18733,11,18739,11,18749,null,null,null,null,0,211]
[21,18847,11,18854,11,18862,null,null,null,null,1,211]

{"sheet":"!N20893T.AYL","index":10,"n_rows":98,"n_cols":48,"rows_kept":98,"cut":false,"hidden":false,"merged":[[1,1,1,2],[5,13,5,14],[18,13,18,14],[19,13,19,14],[4,19,4,22],[5,19,5,20],[4,39,4,42],[5,39,5,40],[4,44,4,47],[5,44,5,45],[4,24,4,27],[5,24,5,25],[4,29,4,32],[5,29,5,30],[4,34,4,37],[5,34,5,35]]}
["Report for:!N20893T.AYL"]
["Date:","<date>"]
["Hen:","<hen>",null,null,null,"Correct Sequence",{"$f":"Start!J2","v":211},null,null,null,null,null,null,null,null,"Total Sequences in Data",{"$f":"4994-COUNTBLANK(L7:L5000)","v":92},null,null,null,null,"Total Sequences in Block Data",{"$f":"COUNTA(L7:L21)","v":15},null,null,null,"Total Sequences in Block Data",{"$f":"COUNTA(L22:L37)","v":16},null,null,null,"Total Sequences in Block Data",{"$f":"COUNTA(L38:L52)","v":15},null,null,null,"Total Sequences in Block Data",{"$f":"COUNTA(L53:L67)","v":15},null,null,null,"Total Sequences in Block Data",{"$f":"COUNTA(L68:L83)","v":16},null,null,null,"Total Sequences in Block Data",{"$f":"COUNTA(L84:L98)","v":15}]
[null,null,null,null,null,null,null,null,null,null,null,null,null,null,null,"Total Sequences in Summary",{"$f":"SUM(O7:O14)","v":91},null,null,null,null,"Total Sequences in Block Summary",{"$f":"SUM(U7:U14)","v":15},null,null,null,"Total Sequences in Block Summary",{"$f":"SUM(Z7:Z14)","v":16},null,null,null,"Total Sequences in Block Summary",{"$f":"SUM(AE7:AE14)","v":15},null,null,null,"Total Sequences in Block Summary",{"$f":"SUM(AJ7:AJ14)","v":15},null,null,null,"Total Sequences in Block Summary",{"$f":"SUM(AO7:AO14)","v":16},null,null,null,"Total Sequences in Block Summary",{"$f":"SUM(AT7:AT14)","v":14}]
[null,null,null,null,null,null,null,null,null,null,null,null,null,null,null,null,null,null,null,"Block 1",null,null,null,null,"Block 2",null,null,null,null,"Block 3",null,null,null,null,"Block 4",null,null,null,null,"Block 5",null,null,null,null,"Block 6"]
["Sequence\nComponent\n1","Time\n1","Sequence\nComponent\n2","Time\n2","Sequence\nComponent\n3","Time\n3","Sequence\nComponent\n4","Time\n4","Sequence\nComponent\n5","Time\n5","Correct?\n0=No 1=Yes","Sequence",null,"Frequency",null,"Relative Frequency","Variability",null,null,"Frequency",null,"Relative Frequency","Variability",null,"Frequency",null,"Relative Frequency","Variability",null,"Frequency",null,"Relative Frequency","Variability",null,"Frequency",null,"Relative Frequency","Variability",null,"Frequency",null,"Relative Frequency","Variability",null,"Frequency",null,"Relative Frequency","Variability"]
[12,5,13,9,13,14,null,null,null,null,0,111,null,111,{"$f":"COUNTIF($L$7:$L$500,N7)","v":71},{"$f":"O7/$Q$4","v":0.78021978021978022},{"$f":"IF(P7=0,0,(P7*((LOG(P7))/LOG(2))))","v":-0.27935575790412098},null,null,{"$f":"N7","v":111},{"$f":"COUNTIF(L7:L21,T7)","v":14},{"$f":"U7/(W4-U11)","v":1},{"$f":"IF(V7=0,0,(V7*((LOG(V7))/LOG(2))))","v":0},null,{"$f":"N7","v":111},{"$f":"COUNTIF(L22:L37,Y7)","v":12},{"$f":"Z7/(AB4-Z11)","v":0.8571428571428571},{"$f":"IF(AA7=0,0,(AA7*((LOG(AA7))/LOG(2))))","v":-0.19062207543124113},null,{"$f":"N7","v":111},{"$f":"COUNTIF(L38:L52,AD7)","v":9},{"$f":"AE7/(AG4-AE11)","v":0.81818181818181823},{"$f":"IF(AF7=0,0,(AF7*((LOG(AF7))/LOG(2))))","v":-0.23686905043226034},null,{"$f":"N7","v":111},{"$f":"COUNTIF(L53:L67,AI7)","v":12},{"$f":"AJ7/(AL4-AJ11)","v":0.92307692307692313},{"$f":"IF(AK7=0,0,(AK7*((LOG(AK7))/LOG(2))))","v":-0.10659435454147929},null,{"$f":"N7","v":111},{"$f":"COUNTIF(L68:L83,AN7)","v":11},{"$f":"AO7/(AQ4-AO11)","v":0.91666666666666663},{"$f":"IF(AP7=0,0,(AP7*((LOG(AP7))/LOG(2))))","v":-0.1150699752435374},null,{"$f":"N7","v":111},{"$f":"COUNTIF(L84:L98,AS7)","v":13},{"$f":"AT7/(AV4-AT11)","v":1},{"$f":"IF(AU7=0,0,(AU7*((LOG(AU7))/LOG(2))))","v":0}]
[12,112,13,114,13,118,null,null,null,null,0,111,null,112,4,4.3956043956043959E-2,-0.19814481934939326,null,null,112,{"$f":"COUNTIF(L7:L21,T8)","v":0},{"$f":"U8/(W4-U11)","v":0},{"$f":"IF(V8=0,0,(V8*((LOG(V8))/LOG(2))))","v":0},null,112,{"$f":"COUNTIF(L22:L37,Y8)","v":1},{"$f":"Z8/(AB4-Z11)","v":7.1428571428571425E-2},{"$f":"IF(AA8=0,0,(AA8*((LOG(AA8))/LOG(2))))","v":-0.27195392300411453},null,112,{"$f":"COUNTIF(L38:L52,AD8)","v":2},{"$f":"AE8/(AG4-AE11)","v":0.18181818181818182},{"$f":"IF(AF8=0,0,(AF8*((LOG(AF8))/LOG(2))))","v":-0.44716938520678134},null,112,{"$f":"COUNTIF(L53:L67,AI8)","v":0},{"$f":"AJ8/(AL4-AJ11)","v":0},{"$f":"IF(AK8=0,0,(AK8*((LOG(AK8))/LOG(2))))","v":0},null,112,{"$f":"COUNTIF(L68:L83,AN8)","v":1},{"$f":"AO8/(AQ4-AO11)","v":8.3333333333333329E-2},{"$f":"IF(AP8=0,0,(AP8*((LOG(AP8))/LOG(2))))","v":-0.29874687506009634},null,112,{"$f":"COUNTIF(L84:L98,AS8)","v":0},{"$f":"AT8/(AV4-AT11)","v":0},{"$f":"IF(AU8=0,0,(AU8*((LOG(AU8))/LOG(2))))","v":0}]
[12,217,13,219,13,232,null,null,null,null,0,111,null,121,1,1.098901098901099E-2,-7.1514226815370299E-2,null,null,121,{"$f":"COUNTIF(L7:L21,T9)","v":0},{"$f":"U9/(W4-U11)","v":0},{"$f":"IF(V9=0,0,(V9*((LOG(V9))/LOG(2))))","v":0},null,121,{"$f":"COUNTIF(L22:L37,Y9)","v":1},{"$f":"Z9/(AB4-Z11)","v":7.1428571428571425E-2},{"$f":"IF(AA9=0,0,(AA9*((LOG(AA9))/LOG(2))))","v":-0.27195392300411453},null,121,{"$f":"COUNTIF(L38:L52,AD9)","v":0},{"$f":"AE9/(AG4-AE11)","v":0},{"$f":"IF(AF9=0,0,(AF9*((LOG(AF9))/LOG(2))))","v":0},null,121,{"$f":"COUNTIF(L53:L67,AI9)","v":0},{"$f":"AJ9/(AL4-AJ11)","v":0},{"$f":"IF(AK9=0,0,(AK9*((LOG(AK9))/LOG(2))))","v":0},null,121,{"$f":"COUNTIF(L68:L83,AN9)","v":0},{"$f":"AO9/(AQ4-AO11)","v":0},{"$f":"IF(AP9=0,0,(AP9*((LOG(AP9))/LOG(2))))","v":0},null,121,{"$f":"COUNTIF(L84:L98,AS9)","v":0},{"$f":"AT9/(AV4-AT11)","v":0},{"$f":"IF(AU9=0,0,(AU9*((LOG(AU9))/LOG(2))))","v":0}]
[12,334,13,341,13,348,null,null,null,null,0,111,null,122,0,0,0,null,null,122,{"$f":"COUNTIF(L7:L21,T10)","v":0},{"$f":"U10/(W4-U11)","v":0},{"$f":"IF(V10=0,0,(V10*((LOG(V10))/LOG(2))))","v":0},null,122,{"$f":"COUNTIF(L22:L37,Y10)","v":0},{"$f":"Z10/(AB4-Z11)","v":0},{"$f":"IF(AA10=0,0,(AA10*((LOG(AA10))/LOG(2))))","v":0},null,122,{"$f":"COUNTIF(L38:L52,AD10)","v":0},{"$f":"AE10/(AG4-AE11)","v":0},{"$f":"IF(AF10=0,0,(AF10*((LOG(AF10))/LOG(2))))","v":0},null,122,{"$f":"COUNTIF(L53:L67,AI10)","v":0},{"$f":"AJ10/(AL4-AJ11)","v":0},{"$f":"IF(AK10=0,0,(AK10*((LOG(AK10))/LOG(2))))","v":0},null,122,{"$f":"COUNTIF(L68:L83,AN10)","v":0},{"$f":"AO10/(AQ4-AO11)","v":0},{"$f":"IF(AP10=0,0,(AP10*((LOG(AP10))/LOG(2))))","v":0},null,122,{"$f":"COUNTIF(L84:L98,AS10)","v":0},{"$f":"AT10/(AV4-AT11)","v":0},{"$f":"IF(AU10=0,0,(AU10*((LOG(AU10))/LOG(2))))","v":0}]
[12,449,13,462,13,469,null,null,null,null,0,111,null,211,14,0.15384615384615385,-0.4154522643293988,null,null,211,{"$f":"COUNTIF(L7:L21,T11)","v":1},null,null,null,211,{"$f":"COUNTIF(L22:L37,Y11)","v":2},null,null,null,211,{"$f":"COUNTIF(L38:L52,AD11)","v":4},null,null,null,211,{"$f":"COUNTIF(L53:L67,AI11)","v":2},null,null,null,211,{"$f":"COUNTIF(L68:L83,AN11)","v":4},null,null,null,211,{"$f":"COUNTIF(L84:L98,AS11)","v":1}]
[12,707,13,711,13,713,null,null,null,null,0,111,null,212,0,0,0,null,null,212,{"$f":"COUNTIF(L7:L21,T12)","v":0},{"$f":"U12/(W4-U11)","v":0},{"$f":"IF(V12=0,0,(V12*((LOG(V12))/LOG(2))))","v":0},null,212,{"$f":"COUNTIF(L22:L37,Y12)","v":0},{"$f":"Z12/(AB4-Z11)","v":0},{"$f":"IF(AA12=0,0,(AA12*((LOG(AA12))/LOG(2))))","v":0},null,212,{"$f":"COUNTIF(L38:L52,AD12)","v":0},{"$f":"AE12/(AG4-AE11)","v":0},{"$f":"IF(AF12=0,0,(AF12*((LOG(AF12))/LOG(2))))","v":0},null,212,{"$f":"COUNTIF(L53:L67,AI12)","v":0},{"$f":"AJ12/(AL4-AJ11)","v":0},{"$f":"IF(AK12=0,0,(AK12*((LOG(AK12))/LOG(2))))","v":0},null,212,{"$f":"COUNTIF(L68:L83,AN12)","v":0},{"$f":"AO12/(AQ4-AO11)","v":0},{"$f":"IF(AP12=0,0,(AP12*((LOG(AP12))/LOG(2))))","v":0},null,212,{"$f":"COUNTIF(L84:L98,AS12)","v":0},{"$f":"AT12/(AV4-AT11)","v":0},{"$f":"IF(AU12=0,0,(AU12*((LOG(AU12))/LOG(2))))","v":0}]
[12,823,13,829,13,836,null,null,null,null,0,111,null,221,1,1.098901098901099E-2,-7.1514226815370299E-2,null,null,221,{"$f":"COUNTIF(L7:L21,T13)","v":0},{"$f":"U13/(W4-U11)","v":0},{"$f":"IF(V13=0,0,(V13*((LOG(V13))/LOG(2))))","v":0},null,221,{"$f":"COUNTIF(L22:L37,Y13)","v":0},{"$f":"Z13/(AB4-Z11)","v":0},{"$f":"IF(AA13=0,0,(AA13*((LOG(AA13))/LOG(2))))","v":0},null,221,{"$f":"COUNTIF(L38:L52,AD13)","v":0},{"$f":"AE13/(AG4-AE11)","v":0},{"$f":"IF(AF13=0,0,(AF13*((LOG(AF13))/LOG(2))))","v":0},null,221,{"$f":"COUNTIF(L53:L67,AI13)","v":1},{"$f":"AJ13/(AL4-AJ11)","v":7.6923076923076927E-2},{"$f":"IF(AK13=0,0,(AK13*((LOG(AK13))/LOG(2))))","v":-0.28464920908777636},null,221,{"$f":"COUNTIF(L68:L83,AN13)","v":0},{"$f":"AO13/(AQ4-AO11)","v":0},{"$f":"IF(AP13=0,0,(AP13*((LOG(AP13))/LOG(2))))","v":0},null,221,{"$f":"COUNTIF(L84:L98,AS13)","v":0},{"$f":"AT13/(AV4-AT11)","v":0},{"$f":"IF(AU13=0,0,(AU13*((LOG(AU13))/LOG(2))))","v":0}]
[12,936,13,945,13,953,null,null,null,null,0,111,null,222,0,0,0,null,null,222,{"$f":"COUNTIF(L7:L21,T14)","v":0},{"$f":"U14/(W4-U11)","v":0},{"$f":"IF(V14=0,0,(V14*((LOG(V14))/LOG(2))))","v":0},null,222,{"$f":"COUNTIF(L22:L37,Y14)","v":0},{"$f":"Z14/(AB4-Z11)","v":0},{"$f":"IF(AA14=0,0,(AA14*((LOG(AA14))/LOG(2))))","v":0},null,222,{"$f":"COUNTIF(L38:L52,AD14)","v":0},{"$f":"AE14/(AG4-AE11)","v":0},{"$f":"IF(AF14=0,0,(AF14*((LOG(AF14))/LOG(2))))","v":0},null,222,{"$f":"COUNTIF(L53:L67,AI14)","v":0},{"$f":"AJ14/(AL4-AJ11)","v":0},{"$f":"IF(AK14=0,0,(AK14*((LOG(AK14))/LOG(2))))","v":0},null,222,{"$f":"COUNTIF(L68:L83,AN14)","v":0},{"$f":"AO14/(AQ4-AO11)","v":0},{"$f":"IF(AP14=0,0,(AP14*((LOG(AP14))/LOG(2))))","v":0},null,222,{"$f":"COUNTIF(L84:L98,AS14)","v":0},{"$f":"AT14/(AV4-AT11)","v":0},{"$f":"IF(AU14=0,0,(AU14*((LOG(AU14))/LOG(2))))","v":0}]
[12,1053,13,1061,13,1069,null,null,null,null,0,111,null,null,null,{"$f":"SUM(P7:P14)","v":0.99999999999999989},{"$f":"-SUM(Q7:Q14)","v":1.0359812952136538},null,null,null,null,{"$f":"SUM(V7:V14)","v":1},{"$f":"-SUM(W7:W14)","v":0},null,null,null,{"$f":"SUM(AA7:AA14)","v":0.99999999999999989},{"$f":"-SUM(AB7:AB14)","v":0.73452992143947027},null,null,null,{"$f":"SUM(AF7:AF14)","v":1},{"$f":"-SUM(AG7:AG14)","v":0.68403843563904165},null,null,null,{"$f":"SUM(AK7:AK14)","v":1},{"$f":"-SUM(AL7:AL14)","v":0.39124356362925566},null,null,null,{"$f":"SUM(AP7:AP14)","v":1},{"$f":"-SUM(AQ7:AQ14)","v":0.41381685030363374},null,null,null,{"$f":"SUM(AU7:AU14)","v":1},{"$f":"-SUM(AV7:AV14)","v":0}]
[21,1174,11,1181,11,1189,null,null,null,null,0,211,null,null,null,"U=",{"$f":"Q15/(LOG(Q4)/LOG(2))","v":0.15919083998354674},null,null,null,null,"U1=",{"$f":"W15/(LOG(W4)/LOG(2))","v":0},null,null,null,"U2=",{"$f":"AB15/(LOG(AB4)/LOG(2))","v":0.18363248035986757},null,null,null,"U3=",{"$f":"AG15/(LOG(AG4)/LOG(2))","v":0.1750851268801652},null,null,null,"U4=",{"$f":"AL15/(LOG(AL4)/LOG(2))","v":0.10014192976609765},null,null,null,"U5=",{"$f":"AQ15/(LOG(AQ4)/LOG(2))","v":0.10345421257590844},null,null,null,"U6=",{"$f":"AV15/(LOG(AV4)/LOG(2))","v":0}]
[12,1396,13,1405,13,1412,null,null,null,null,0,111]
[12,1532,13,1537,13,1542,null,null,null,null,0,111]
[12,1646,13,1651,13,1657,null,null,null,null,0,111,null,"Total Target Seq"]
[12,1756,13,1760,13,1767,null,null,null,null,0,111,null,{"$f":"COUNTIF(L7:L98,G3)","v":14},null,15,16,15,15,16,15]
[12,1868,13,1874,13,1881,null,null,null,null,0,111,null,null,null,"% of reinforcement given in 6 equal intervals based on number of trials "]
[12,1981,13,1989,13,2010,null,null,null,null,0,111,null,null,null,"%_1","%_2","%_3","%_4","%_5","%_6"]
[12,2109,13,2111,13,2116,null,null,null,null,0,111,null,null,"target sequence",{"$f":"$G$3","v":211},211,211,211,211,211]
[12,2215,13,2223,13,2233,null,null,null,null,0,111,null,null,"total reinforcement",{"$f":"U11","v":1},{"$f":"Z11","v":2},{"$f":"AE11","v":4},{"$f":"AJ11","v":2},{"$f":"AO11","v":4},{"$f":"AT11","v":1}]
[12,2333,13,2338,13,2344,null,null,null,null,0,111,null,null,"% target"]
[21,2443,11,2452,11,2461,null,null,null,null,0,211,null,null,"CCRF"]
[21,2624,11,2634,11,2637,null,null,null,null,0,211,null,null,"% CCRf"]
[12,3514,13,3519,24,3522,null,null,null,null,0,112,null,null,"average response rate",{"$f":"F21/P20","v":125.4},{"$f":"(F37-F21)/Q20","v":312.0625},{"$f":"(F52-F37)/R20","v":360.66666666666669},{"$f":"(F67-F52)/S20","v":143.53333333333333},{"$f":"(F83-F67)/T20","v":446.8125},{"$f":"(F98-F83)/U20","v":-1439.0666666666666}]
[12,3621,13,3624,13,3629,null,null,null,null,0,111]
[12,4177,13,4180,13,4187,null,null,null,null,0,111]
[12,4283,13,4286,13,4290,null,null,null,null,0,111]
[12,4545,13,4551,13,4557,null,null,null,null,0,111]
[12,5203,13,5206,13,5212,null,null,null,null,0,111]
[12,5554,13,5561,13,5567,null,null,null,null,0,111]
[12,5992,24,5995,13,5997,null,null,null,null,0,121]
[12,6755,13,6762,13,6770,null,null,null,null,0,111]
[12,6865,13,6869,13,6874,null,null,null,null,0,111]
[21,6969,11,6976,11,6984,null,null,null,null,0,211]
[12,7089,13,7094,13,7100,null,null,null,null,0,111]
[21,7194,11,7200,11,7209,null,null,null,null,0,211]
[12,8386,13,8390,24,8393,null,null,null,null,0,112]
[12,8784,13,8795,13,8801,null,null,null,null,0,111]
[12,8902,13,8908,13,8914,null,null,null,null,0,111]
[21,9006,11,9012,11,9019,null,null,null,null,0,211]
[12,9786,13,9792,13,9799,null,null,null,null,0,111]
[12,10565,13,10579,13,10586,null,null,null,null,0,111]
[12,11012,13,11014,24,11018,null,null,null,null,0,112]
[12,11303,13,11306,13,11309,null,null,null,null,0,111]
[12,11407,13,11412,13,11418,null,null,null,null,0,111]
[21,11512,11,11514,11,11518,null,null,null,null,0,211]
[12,11898,13,11902,13,11908,null,null,null,null,0,111]
[12,12270,13,12274,13,12284,null,null,null,null,0,111]
[12,12389,13,12395,13,12403,null,null,null,null,0,111]
[12,12503,13,12507,13,12510,null,null,null,null,0,111]
[21,12606,11,12613,11,12620,null,null,null,null,0,211]
[12,12718,13,12727,13,12741,null,null,null,null,0,111]
[12,12840,13,12845,13,12852,null,null,null,null,0,111]
[21,12948,22,12952,13,12961,null,null,null,null,0,221]
[12,13060,13,13068,13,13075,null,null,null,null,0,111]
[12,13174,13,13181,13,13189,null,null,null,null,0,111]
[12,13689,13,13693,13,13699,null,null,null,null,0,111]
[12,13802,13,13806,13,13810,null,null,null,null,0,111]
[12,13954,13,13977,13,13998,null,null,null,null,0,111]
[12,14099,13,14103,13,14111,null,null,null,null,0,111]
[12,14213,13,14217,13,14230,null,null,null,null,0,111]
[21,14326,11,14332,11,14335,null,null,null,null,0,211]
[12,14428,13,14432,13,14437,null,null,null,null,0,111]
[12,14531,13,14536,13,14542,null,null,null,null,0,111]
[21,14638,11,14644,11,14652,null,null,null,null,0,211]
[12,14756,13,14763,13,14766,null,null,null,null,0,111]
[12,14867,13,14880,13,14889,null,null,null,null,0,111]
[21,14984,11,14992,11,14998,null,null,null,null,0,211]
[12,15103,13,15109,13,15125,null,null,null,null,0,111]
[12,15224,13,15227,13,15239,null,null,null,null,0,111]
[12,15338,13,15342,13,15351,null,null,null,null,0,111]
[21,15446,11,15452,11,15462,null,null,null,null,0,211]
[12,16465,13,16470,13,16472,null,null,null,null,0,111]
[12,17088,13,17099,13,17104,null,null,null,null,0,111]
[12,18037,13,18061,24,18073,null,null,null,null,0,112]
[12,20854,13,20857,13,20860,null,null,null,null,0,111]
[12,20969,13,20975,13,20994,null,null,null,null,0,111]
[21,21096,11,21104,11,21109,null,null,null,null,0,211]
[12,21566,13,21573,13,21586,null,null,null,null,0,111]
[12,21684,13,21687,13,21693,null,null,null,null,0,111]
[12,21801,13,21804,13,21814,null,null,null,null,0,111]
[12,21913,13,21917,13,21926,null,null,null,null,0,111]
[12,22028,13,22032,13,22043,null,null,null,null,0,111]
[12,22839,13,22842,13,22847,null,null,null,null,0,111]
[12,22974,13,22978,13,22980,null,null,null,null,0,111]
[12,23079,13,23084,13,23093,null,null,null,null,0,111]
[12,23196,13,23206,13,23214,null,null,null,null,0,111]
[12,23313,13,23317,13,23326,null,null,null,null,0,111]
[12,23417,13,23421,13,23424,null,null,null,null,0,111]
[12,23532,13,23539,13,23545,null,null,null,null,0,111]
[21,23641,11,23648,11,23654,null,null,null,null,0,211]
[12,23743,13,23751,13,23759,null,null,null,null,0,111]
[12,23859,13,23865,13,23877,null,null,null,null,0,111]
[21,23974,11,23980,null,null,null,null,null,null,null,21]

{"sheet":"!N20994T.AYL","index":11,"n_rows":115,"n_cols":48,"rows_kept":115,"cut":false,"hidden":false,"merged":[[1,1,1,2],[5,13,5,14],[18,13,18,14],[19,13,19,14],[4,19,4,22],[5,19,5,20],[4,39,4,42],[5,39,5,40],[4,44,4,47],[5,44,5,45],[4,24,4,27],[5,24,5,25],[4,29,4,32],[5,29,5,30],[4,34,4,37],[5,34,5,35]]}
["Report for:!N20994T.AYL"]
["Date:","<date>"]
["Hen:","<hen>",null,null,null,"Correct Sequence",{"$f":"Start!J2","v":211},null,null,null,null,null,null,null,null,"Total Sequences in Data",{"$f":"4994-COUNTBLANK(L7:L5000)","v":109},null,null,null,null,"Total Sequences in Block Data",{"$f":"COUNTA(L7:L24)","v":18},null,null,null,"Total Sequences in Block Data",{"$f":"COUNTA(L25:L42)","v":18},null,null,null,"Total Sequences in Block Data",{"$f":"COUNTA(L43:L61)","v":19},null,null,null,"Total Sequences in Block Data",{"$f":"COUNTA(L62:L79)","v":18},null,null,null,"Total Sequences in Block Data",{"$f":"COUNTA(L80:L97)","v":18},null,null,null,"Total Sequences in Block Data",{"$f":"COUNTA(L98:L115)","v":18}]
[null,null,null,null,null,null,null,null,null,null,null,null,null,null,null,"Total Sequences in Summary",{"$f":"SUM(O7:O14)","v":109},null,null,null,null,"Total Sequences in Block Summary",{"$f":"SUM(U7:U14)","v":18},null,null,null,"Total Sequences in Block Summary",{"$f":"SUM(Z7:Z14)","v":18},null,null,null,"Total Sequences in Block Summary",{"$f":"SUM(AE7:AE14)","v":19},null,null,null,"Total Sequences in Block Summary",{"$f":"SUM(AJ7:AJ14)","v":18},null,null,null,"Total Sequences in Block Summary",{"$f":"SUM(AO7:AO14)","v":18},null,null,null,"Total Sequences in Block Summary",{"$f":"SUM(AT7:AT14)","v":18}]
[null,null,null,null,null,null,null,null,null,null,null,null,null,null,null,null,null,null,null,"Block 1",null,null,null,null,"Block 2",null,null,null,null,"Block 3",null,null,null,null,"Block 4",null,null,null,null,"Block 5",null,null,null,null,"Block 6"]
["Sequence\nComponent\n1","Time\n1","Sequence\nComponent\n2","Time\n2","Sequence\nComponent\n3","Time\n3","Sequence\nComponent\n4","Time\n4","Sequence\nComponent\n5","Time\n5","Correct?\n0=No 1=Yes","Sequence",null,"Frequency",null,"Relative Frequency","Variability",null,null,"Frequency",null,"Relative Frequency","Variability",null,"Frequency",null,"Relative Frequency","Variability",null,"Frequency",null,"Relative Frequency","Variability",null,"Frequency",null,"Relative Frequency","Variability",null,"Frequency",null,"Relative Frequency","Variability",null,"Frequency",null,"Relative Frequency","Variability"]
[12,19,24,71,13,75,null,null,null,null,0,121,null,111,{"$f":"COUNTIF($L$7:$L$500,N7)","v":18},{"$f":"O7/$Q$4","v":0.16513761467889909},{"$f":"IF(P7=0,0,(P7*((LOG(P7))/LOG(2))))","v":-0.42907034697268853},null,null,{"$f":"N7","v":111},{"$f":"COUNTIF(L7:L24,T7)","v":6},{"$f":"U7/(W4-U11)","v":0.33333333333333331},{"$f":"IF(V7=0,0,(V7*((LOG(V7))/LOG(2))))","v":-0.52832083357371862},null,{"$f":"N7","v":111},{"$f":"COUNTIF(L25:L42,Y7)","v":4},{"$f":"Z7/(AB4-Z11)","v":0.22222222222222221},{"$f":"IF(AA7=0,0,(AA7*((LOG(AA7))/LOG(2))))","v":-0.48220555587606945},null,{"$f":"N7","v":111},{"$f":"COUNTIF(L43:L61,AD7)","v":2},{"$f":"AE7/(AG4-AE11)","v":0.13333333333333333},{"$f":"IF(AF7=0,0,(AF7*((LOG(AF7))/LOG(2))))","v":-0.3875854127478025},null,{"$f":"N7","v":111},{"$f":"COUNTIF(L62:L79,AI7)","v":3},{"$f":"AJ7/(AL4-AJ11)","v":0.33333333333333331},{"$f":"IF(AK7=0,0,(AK7*((LOG(AK7))/LOG(2))))","v":-0.52832083357371862},null,{"$f":"N7","v":111},{"$f":"COUNTIF(L80:L97,AN7)","v":1},{"$f":"AO7/(AQ4-AO11)","v":0.1},{"$f":"IF(AP7=0,0,(AP7*((LOG(AP7))/LOG(2))))","v":-0.33219280948873625},null,{"$f":"N7","v":111},{"$f":"COUNTIF(L98:L115,AS7)","v":2},{"$f":"AT7/(AV4-AT11)","v":0.16666666666666666},{"$f":"IF(AU7=0,0,(AU7*((LOG(AU7))/LOG(2))))","v":-0.43082708345352599}]
[12,226,13,237,13,250,null,null,null,null,0,111,null,112,8,7.3394495412844041E-2,-0.27656398713959096,null,null,112,{"$f":"COUNTIF(L7:L24,T8)","v":2},{"$f":"U8/(W4-U11)","v":0.1111111111111111},{"$f":"IF(V8=0,0,(V8*((LOG(V8))/LOG(2))))","v":-0.3522138890491458},null,112,{"$f":"COUNTIF(L25:L42,Y8)","v":1},{"$f":"Z8/(AB4-Z11)","v":5.5555555555555552E-2},{"$f":"IF(AA8=0,0,(AA8*((LOG(AA8))/LOG(2))))","v":-0.23166250008012845},null,112,{"$f":"COUNTIF(L43:L61,AD8)","v":2},{"$f":"AE8/(AG4-AE11)","v":0.13333333333333333},{"$f":"IF(AF8=0,0,(AF8*((LOG(AF8))/LOG(2))))","v":-0.3875854127478025},null,112,{"$f":"COUNTIF(L62:L79,AI8)","v":2},{"$f":"AJ8/(AL4-AJ11)","v":0.22222222222222221},{"$f":"IF(AK8=0,0,(AK8*((LOG(AK8))/LOG(2))))","v":-0.48220555587606945},null,112,{"$f":"COUNTIF(L80:L97,AN8)","v":0},{"$f":"AO8/(AQ4-AO11)","v":0},{"$f":"IF(AP8=0,0,(AP8*((LOG(AP8))/LOG(2))))","v":0},null,112,{"$f":"COUNTIF(L98:L115,AS8)","v":1},{"$f":"AT8/(AV4-AT11)","v":8.3333333333333329E-2},{"$f":"IF(AU8=0,0,(AU8*((LOG(AU8))/LOG(2))))","v":-0.29874687506009634}]
[12,369,13,379,13,478,null,null,null,null,0,111,null,121,3,2.7522935779816515E-2,-0.14265748139603038,null,null,121,{"$f":"COUNTIF(L7:L24,T9)","v":1},{"$f":"U9/(W4-U11)","v":5.5555555555555552E-2},{"$f":"IF(V9=0,0,(V9*((LOG(V9))/LOG(2))))","v":-0.23166250008012845},null,121,{"$f":"COUNTIF(L25:L42,Y9)","v":0},{"$f":"Z9/(AB4-Z11)","v":0},{"$f":"IF(AA9=0,0,(AA9*((LOG(AA9))/LOG(2))))","v":0},null,121,{"$f":"COUNTIF(L43:L61,AD9)","v":1},{"$f":"AE9/(AG4-AE11)","v":6.6666666666666666E-2},{"$f":"IF(AF9=0,0,(AF9*((LOG(AF9))/LOG(2))))","v":-0.26045937304056793},null,121,{"$f":"COUNTIF(L62:L79,AI9)","v":1},{"$f":"AJ9/(AL4-AJ11)","v":0.1111111111111111},{"$f":"IF(AK9=0,0,(AK9*((LOG(AK9))/LOG(2))))","v":-0.3522138890491458},null,121,{"$f":"COUNTIF(L80:L97,AN9)","v":0},{"$f":"AO9/(AQ4-AO11)","v":0},{"$f":"IF(AP9=0,0,(AP9*((LOG(AP9))/LOG(2))))","v":0},null,121,{"$f":"COUNTIF(L98:L115,AS9)","v":0},{"$f":"AT9/(AV4-AT11)","v":0},{"$f":"IF(AU9=0,0,(AU9*((LOG(AU9))/LOG(2))))","v":0}]
[12,578,13,582,13,593,null,null,null,null,0,111,null,122,10,9.1743119266055051E-2,-0.31617029632014348,null,null,122,{"$f":"COUNTIF(L7:L24,T10)","v":2},{"$f":"U10/(W4-U11)","v":0.1111111111111111},{"$f":"IF(V10=0,0,(V10*((LOG(V10))/LOG(2))))","v":-0.3522138890491458},null,122,{"$f":"COUNTIF(L25:L42,Y10)","v":5},{"$f":"Z10/(AB4-Z11)","v":0.27777777777777779},{"$f":"IF(AA10=0,0,(AA10*((LOG(AA10))/LOG(2))))","v":-0.51333247404304172},null,122,{"$f":"COUNTIF(L43:L61,AD10)","v":1},{"$f":"AE10/(AG4-AE11)","v":6.6666666666666666E-2},{"$f":"IF(AF10=0,0,(AF10*((LOG(AF10))/LOG(2))))","v":-0.26045937304056793},null,122,{"$f":"COUNTIF(L62:L79,AI10)","v":0},{"$f":"AJ10/(AL4-AJ11)","v":0},{"$f":"IF(AK10=0,0,(AK10*((LOG(AK10))/LOG(2))))","v":0},null,122,{"$f":"COUNTIF(L80:L97,AN10)","v":0},{"$f":"AO10/(AQ4-AO11)","v":0},{"$f":"IF(AP10=0,0,(AP10*((LOG(AP10))/LOG(2))))","v":0},null,122,{"$f":"COUNTIF(L98:L115,AS10)","v":2},{"$f":"AT10/(AV4-AT11)","v":0.16666666666666666},{"$f":"IF(AU10=0,0,(AU10*((LOG(AU10))/LOG(2))))","v":-0.43082708345352599}]
[12,685,13,687,24,691,null,null,null,null,0,112,null,211,27,0.24770642201834864,-0.49870655239048955,null,null,211,{"$f":"COUNTIF(L7:L24,T11)","v":0},null,null,null,211,{"$f":"COUNTIF(L25:L42,Y11)","v":0},null,null,null,211,{"$f":"COUNTIF(L43:L61,AD11)","v":4},null,null,null,211,{"$f":"COUNTIF(L62:L79,AI11)","v":9},null,null,null,211,{"$f":"COUNTIF(L80:L97,AN11)","v":8},null,null,null,211,{"$f":"COUNTIF(L98:L115,AS11)","v":6}]
[12,795,13,807,13,810,null,null,null,null,0,111,null,212,8,7.3394495412844041E-2,-0.27656398713959096,null,null,212,{"$f":"COUNTIF(L7:L24,T12)","v":0},{"$f":"U12/(W4-U11)","v":0},{"$f":"IF(V12=0,0,(V12*((LOG(V12))/LOG(2))))","v":0},null,212,{"$f":"COUNTIF(L25:L42,Y12)","v":3},{"$f":"Z12/(AB4-Z11)","v":0.16666666666666666},{"$f":"IF(AA12=0,0,(AA12*((LOG(AA12))/LOG(2))))","v":-0.43082708345352599},null,212,{"$f":"COUNTIF(L43:L61,AD12)","v":2},{"$f":"AE12/(AG4-AE11)","v":0.13333333333333333},{"$f":"IF(AF12=0,0,(AF12*((LOG(AF12))/LOG(2))))","v":-0.3875854127478025},null,212,{"$f":"COUNTIF(L62:L79,AI12)","v":0},{"$f":"AJ12/(AL4-AJ11)","v":0},{"$f":"IF(AK12=0,0,(AK12*((LOG(AK12))/LOG(2))))","v":0},null,212,{"$f":"COUNTIF(L80:L97,AN12)","v":0},{"$f":"AO12/(AQ4-AO11)","v":0},{"$f":"IF(AP12=0,0,(AP12*((LOG(AP12))/LOG(2))))","v":0},null,212,{"$f":"COUNTIF(L98:L115,AS12)","v":3},{"$f":"AT12/(AV4-AT11)","v":0.25},{"$f":"IF(AU12=0,0,(AU12*((LOG(AU12))/LOG(2))))","v":-0.5}]
[12,914,13,941,13,954,null,null,null,null,0,111,null,221,14,0.12844036697247707,-0.38029001502816984,null,null,221,{"$f":"COUNTIF(L7:L24,T13)","v":1},{"$f":"U13/(W4-U11)","v":5.5555555555555552E-2},{"$f":"IF(V13=0,0,(V13*((LOG(V13))/LOG(2))))","v":-0.23166250008012845},null,221,{"$f":"COUNTIF(L25:L42,Y13)","v":0},{"$f":"Z13/(AB4-Z11)","v":0},{"$f":"IF(AA13=0,0,(AA13*((LOG(AA13))/LOG(2))))","v":0},null,221,{"$f":"COUNTIF(L43:L61,AD13)","v":0},{"$f":"AE13/(AG4-AE11)","v":0},{"$f":"IF(AF13=0,0,(AF13*((LOG(AF13))/LOG(2))))","v":0},null,221,{"$f":"COUNTIF(L62:L79,AI13)","v":2},{"$f":"AJ13/(AL4-AJ11)","v":0.22222222222222221},{"$f":"IF(AK13=0,0,(AK13*((LOG(AK13))/LOG(2))))","v":-0.48220555587606945},null,221,{"$f":"COUNTIF(L80:L97,AN13)","v":8},{"$f":"AO13/(AQ4-AO11)","v":0.8},{"$f":"IF(AP13=0,0,(AP13*((LOG(AP13))/LOG(2))))","v":-0.25754247590988982},null,221,{"$f":"COUNTIF(L98:L115,AS13)","v":3},{"$f":"AT13/(AV4-AT11)","v":0.25},{"$f":"IF(AU13=0,0,(AU13*((LOG(AU13))/LOG(2))))","v":-0.5}]
[21,1090,22,1094,24,1097,null,null,null,null,0,222,null,222,21,0.19266055045871561,-0.45773582515561001,null,null,222,{"$f":"COUNTIF(L7:L24,T14)","v":6},{"$f":"U14/(W4-U11)","v":0.33333333333333331},{"$f":"IF(V14=0,0,(V14*((LOG(V14))/LOG(2))))","v":-0.52832083357371862},null,222,{"$f":"COUNTIF(L25:L42,Y14)","v":5},{"$f":"Z14/(AB4-Z11)","v":0.27777777777777779},{"$f":"IF(AA14=0,0,(AA14*((LOG(AA14))/LOG(2))))","v":-0.51333247404304172},null,222,{"$f":"COUNTIF(L43:L61,AD14)","v":7},{"$f":"AE14/(AG4-AE11)","v":0.46666666666666667},{"$f":"IF(AF14=0,0,(AF14*((LOG(AF14))/LOG(2))))","v":-0.51311664765709342},null,222,{"$f":"COUNTIF(L62:L79,AI14)","v":1},{"$f":"AJ14/(AL4-AJ11)","v":0.1111111111111111},{"$f":"IF(AK14=0,0,(AK14*((LOG(AK14))/LOG(2))))","v":-0.3522138890491458},null,222,{"$f":"COUNTIF(L80:L97,AN14)","v":1},{"$f":"AO14/(AQ4-AO11)","v":0.1},{"$f":"IF(AP14=0,0,(AP14*((LOG(AP14))/LOG(2))))","v":-0.33219280948873625},null,222,{"$f":"COUNTIF(L98:L115,AS14)","v":1},{"$f":"AT14/(AV4-AT11)","v":8.3333333333333329E-2},{"$f":"IF(AU14=0,0,(AU14*((LOG(AU14))/LOG(2))))","v":-0.29874687506009634}]
[21,1191,22,1240,24,1247,null,null,null,null,0,222,null,null,null,{"$f":"SUM(P7:P14)","v":1},{"$f":"-SUM(Q7:Q14)","v":2.7777584915423139},null,null,null,null,{"$f":"SUM(V7:V14)","v":1},{"$f":"-SUM(W7:W14)","v":2.2243944454059856},null,null,null,{"$f":"SUM(AA7:AA14)","v":1},{"$f":"-SUM(AB7:AB14)","v":2.171360087495807},null,null,null,{"$f":"SUM(AF7:AF14)","v":1},{"$f":"-SUM(AG7:AG14)","v":2.196791631981637},null,null,null,{"$f":"SUM(AK7:AK14)","v":1},{"$f":"-SUM(AL7:AL14)","v":2.1971597234241491},null,null,null,{"$f":"SUM(AP7:AP14)","v":1},{"$f":"-SUM(AQ7:AQ14)","v":0.92192809488736227},null,null,null,{"$f":"SUM(AU7:AU14)","v":1},{"$f":"-SUM(AV7:AV14)","v":2.4591479170272446}]
[21,1374,22,1379,24,1386,null,null,null,null,0,222,null,null,null,"U=",{"$f":"Q15/(LOG(Q4)/LOG(2))","v":0.4104141315084332},null,null,null,null,"U1=",{"$f":"W15/(LOG(W4)/LOG(2))","v":0.53343751857326027},null,null,null,"U2=",{"$f":"AB15/(LOG(AB4)/LOG(2))","v":0.52071921838996316},null,null,null,"U3=",{"$f":"AG15/(LOG(AG4)/LOG(2))","v":0.51714433097772106},null,null,null,"U4=",{"$f":"AL15/(LOG(AL4)/LOG(2))","v":0.52690629271849876},null,null,null,"U5=",{"$f":"AQ15/(LOG(AQ4)/LOG(2))","v":0.22108985043339668},null,null,null,"U6=",{"$f":"AV15/(LOG(AV4)/LOG(2))","v":0.58973432763818623}]
[21,1479,22,1507,24,1512,null,null,null,null,0,222]
[21,1643,22,1654,13,1658,null,null,null,null,0,221]
[21,1778,22,1784,24,1790,null,null,null,null,0,222,null,"Total Target Seq"]
[12,1895,13,1912,24,1918,null,null,null,null,0,112,null,{"$f":"COUNTIF(L7:L115,G3)","v":27},null,18,18,19,18,18,18]
[12,2028,24,2039,24,2048,null,null,null,null,0,122,null,null,null,"% of reinforcement given in 6 equal intervals based on number of trials "]
[21,2181,22,2185,24,2190,null,null,null,null,0,222,null,null,null,"%_1","%_2","%_3","%_4","%_5","%_6"]
[12,2348,13,2816,13,2929,null,null,null,null,0,111,null,null,"target sequence",{"$f":"$G$3","v":211},211,211,211,211,211]
[12,3025,24,3115,24,3123,null,null,null,null,0,122,null,null,"total reinforcement",{"$f":"U11","v":0},{"$f":"Z11","v":0},{"$f":"AE11","v":4},{"$f":"AJ11","v":9},{"$f":"AO11","v":8},{"$f":"AT11","v":6}]
[12,3224,13,3237,24,3246,null,null,null,null,0,112,null,null,"% target"]
[21,3340,11,3355,22,3370,null,null,null,null,0,212,null,null,"CCRF"]
[12,3464,24,3482,24,3491,null,null,null,null,0,122,null,null,"% CCRf"]
[21,3609,22,3613,24,3619,null,null,null,null,0,222,null,null,"average response rate",{"$f":"F24/P20","v":173.5},{"$f":"(F42-F24)/Q20","v":170.33333333333334},{"$f":"(F61-F42)/R20","v":154.26315789473685},{"$f":"(F79-F61)/S20","v":134.38888888888889},{"$f":"(F97-F79)/T20","v":138.05555555555554},{"$f":"(F115-F97)/U20","v":129.16666666666666}]
[21,3752,22,3761,24,3767,null,null,null,null,0,222]
[12,3860,24,3896,24,3905,null,null,null,null,0,122]
[21,4026,22,4034,24,4041,null,null,null,null,0,222]
[12,4144,13,4170,13,4198,null,null,null,null,0,111]
[21,4323,22,4330,24,4358,null,null,null,null,0,222]
[12,4507,13,4548,13,4592,null,null,null,null,0,111]
[12,4722,13,4768,13,4822,null,null,null,null,0,111]
[12,5065,13,5236,13,5442,null,null,null,null,0,111]
[21,5559,11,5561,22,5564,null,null,null,null,0,212]
[12,5664,24,5667,24,5672,null,null,null,null,0,122]
[21,5786,11,5799,22,5813,null,null,null,null,0,212]
[12,5906,24,5928,24,5931,null,null,null,null,0,122]
[12,6039,24,6050,24,6054,null,null,null,null,0,122]
[21,6178,22,6183,24,6189,null,null,null,null,0,222]
[21,6284,22,6308,24,6313,null,null,null,null,0,222]
[21,6409,22,6439,24,6448,null,null,null,null,0,222]
[21,6563,22,6569,24,6594,null,null,null,null,0,222]
[12,6816,13,6841,13,6903,null,null,null,null,0,111]
[12,7453,24,7459,13,7469,null,null,null,null,0,121]
[12,7589,24,7601,24,7605,null,null,null,null,0,122]
[21,7698,11,7704,22,7718,null,null,null,null,0,212]
[21,7829,22,7834,24,7840,null,null,null,null,0,222]
[12,7943,13,7950,24,7955,null,null,null,null,0,112]
[12,8058,13,8063,13,8070,null,null,null,null,0,111]
[21,8168,11,8174,11,8184,null,null,null,null,0,211]
[21,8302,22,8322,24,8326,null,null,null,null,0,222]
[21,8422,11,8430,11,8436,null,null,null,null,0,211]
[21,8530,11,8538,22,8550,null,null,null,null,0,212]
[21,8654,22,8659,24,8665,null,null,null,null,0,222]
[12,8764,13,8766,24,8775,null,null,null,null,0,112]
[21,8871,11,8878,11,8884,null,null,null,null,0,211]
[21,8974,11,8980,11,8985,null,null,null,null,0,211]
[21,9111,22,9115,24,9120,null,null,null,null,0,222]
[12,9221,13,9229,13,9237,null,null,null,null,0,111]
[21,9332,11,9340,11,9347,null,null,null,null,0,211]
[12,9469,13,9474,24,9482,null,null,null,null,0,112]
[21,9591,22,9594,13,9605,null,null,null,null,0,221]
[21,9701,11,9708,11,9717,null,null,null,null,0,211]
[12,9812,13,9815,13,9822,null,null,null,null,0,111]
[21,9919,11,9927,11,9935,null,null,null,null,0,211]
[21,10214,22,10223,24,10229,null,null,null,null,0,222]
[12,10331,24,10334,13,10339,null,null,null,null,0,121]
[21,10436,11,10442,11,10447,null,null,null,null,0,211]
[21,10538,11,10548,11,10561,null,null,null,null,0,211]
[21,10658,11,10667,11,10674,null,null,null,null,0,211]
[21,10780,11,10795,11,10802,null,null,null,null,0,211]
[12,10897,13,10904,24,10916,null,null,null,null,0,112]
[21,11013,11,11019,11,11026,null,null,null,null,0,211]
[21,11127,22,11134,13,11142,null,null,null,null,0,221]
[21,11238,11,11245,11,11254,null,null,null,null,0,211]
[12,11529,13,11532,13,11539,null,null,null,null,0,111]
[21,11633,22,11636,13,11644,null,null,null,null,0,221]
[21,11736,22,11739,13,11745,null,null,null,null,0,221]
[12,11847,13,11859,13,11870,null,null,null,null,0,111]
[21,11966,11,11972,11,11979,null,null,null,null,0,211]
[21,12070,11,12077,11,12090,null,null,null,null,0,211]
[21,12182,11,12194,11,12200,null,null,null,null,0,211]
[21,12693,22,12696,24,12699,null,null,null,null,0,222]
[21,12793,11,12800,11,12810,null,null,null,null,0,211]
[21,12898,22,12905,13,12915,null,null,null,null,0,221]
[21,13012,11,13021,11,13033,null,null,null,null,0,211]
[21,13165,22,13174,13,13182,null,null,null,null,0,221]
[21,13278,11,13284,11,13299,null,null,null,null,0,211]
[21,13392,11,13401,11,13409,null,null,null,null,0,211]
[21,13575,22,13579,13,13594,null,null,null,null,0,221]
[21,13691,22,13694,13,13704,null,null,null,null,0,221]
[21,13798,22,13800,13,13807,null,null,null,null,0,221]
[21,13900,22,13903,13,13909,null,null,null,null,0,221]
[21,14006,11,14012,11,14024,null,null,null,null,0,211]
[21,14115,11,14125,11,14138,null,null,null,null,0,211]
[21,14229,11,14236,11,14249,null,null,null,null,0,211]
[21,14343,22,14346,13,14365,null,null,null,null,0,221]
[21,14536,22,14541,13,14553,null,null,null,null,0,221]
[21,14651,11,14659,22,14693,null,null,null,null,0,212]
[21,14791,11,14810,11,14813,null,null,null,null,0,211]
[21,14903,11,14912,11,14918,null,null,null,null,0,211]
[21,15133,22,15136,13,15147,null,null,null,null,0,221]
[12,15245,13,15251,13,15260,null,null,null,null,0,111]
[12,15363,13,15392,24,15412,null,null,null,null,0,112]
[21,15543,11,15551,11,15556,null,null,null,null,0,211]
[21,15647,22,15649,24,15650,null,null,null,null,0,222]
[12,15753,13,15762,13,15768,null,null,null,null,0,111]
[21,15878,11,15887,22,15915,null,null,null,null,0,212]
[12,16008,24,16021,24,16025,null,null,null,null,0,122]
[21,16122,11,16128,22,16129,null,null,null,null,0,212]
[12,16227,24,16233,24,16242,null,null,null,null,0,122]
[21,16335,11,16343,11,16349,null,null,null,null,1,211]

{"sheet":"!N21094T.AYL","index":12,"n_rows":91,"n_cols":48,"rows_kept":91,"cut":false,"hidden":false,"merged":[[1,1,1,2],[5,13,5,14],[18,13,18,14],[19,13,19,14],[4,19,4,22],[5,19,5,20],[4,39,4,42],[5,39,5,40],[4,44,4,47],[5,44,5,45],[4,24,4,27],[5,24,5,25],[4,29,4,32],[5,29,5,30],[4,34,4,37],[5,34,5,35]]}
["Report for:!N21094T.AYL"]
["Date:","<date>"]
["Hen:","<hen>",null,null,null,"Correct Sequence",{"$f":"Start!J2","v":211},null,null,null,null,null,null,null,null,"Total Sequences in Data",{"$f":"4994-COUNTBLANK(L7:L5000)","v":85},null,null,null,null,"Total Sequences in Block Data",{"$f":"COUNTA(L7:L20)","v":14},null,null,null,"Total Sequences in Block Data",{"$f":"COUNTA(L21:L34)","v":14},null,null,null,"Total Sequences in Block Data",{"$f":"COUNTA(L35:L49)","v":15},null,null,null,"Total Sequences in Block Data",{"$f":"COUNTA(L50:L63)","v":14},null,null,null,"Total Sequences in Block Data",{"$f":"COUNTA(L64:L77)","v":14},null,null,null,"Total Sequences in Block Data",{"$f":"COUNTA(L78:L91)","v":14}]
[null,null,null,null,null,null,null,null,null,null,null,null,null,null,null,"Total Sequences in Summary",{"$f":"SUM(O7:O14)","v":85},null,null,null,null,"Total Sequences in Block Summary",{"$f":"SUM(U7:U14)","v":14},null,null,null,"Total Sequences in Block Summary",{"$f":"SUM(Z7:Z14)","v":14},null,null,null,"Total Sequences in Block Summary",{"$f":"SUM(AE7:AE14)","v":15},null,null,null,"Total Sequences in Block Summary",{"$f":"SUM(AJ7:AJ14)","v":14},null,null,null,"Total Sequences in Block Summary",{"$f":"SUM(AO7:AO14)","v":14},null,null,null,"Total Sequences in Block Summary",{"$f":"SUM(AT7:AT14)","v":14}]
[null,null,null,null,null,null,null,null,null,null,null,null,null,null,null,null,null,null,null,"Block 1",null,null,null,null,"Block 2",null,null,null,null,"Block 3",null,null,null,null,"Block 4",null,null,null,null,"Block 5",null,null,null,null,"Block 6"]
["Sequence\nComponent\n1","Time\n1","Sequence\nComponent\n2","Time\n2","Sequence\nComponent\n3","Time\n3","Sequence\nComponent\n4","Time\n4","Sequence\nComponent\n5","Time\n5","Correct?\n0=No 1=Yes","Sequence",null,"Frequency",null,"Relative Frequency","Variability",null,null,"Frequency",null,"Relative Frequency","Variability",null,"Frequency",null,"Relative Frequency","Variability",null,"Frequency",null,"Relative Frequency","Variability",null,"Frequency",null,"Relative Frequency","Variability",null,"Frequency",null,"Relative Frequency","Variability",null,"Frequency",null,"Relative Frequency","Variability"]
[12,5,13,8,13,12,null,null,null,null,0,111,null,111,{"$f":"COUNTIF($L$7:$L$500,N7)","v":24},{"$f":"O7/$Q$4","v":0.28235294117647058},{"$f":"IF(P7=0,0,(P7*((LOG(P7))/LOG(2))))","v":-0.51513273470584819},null,null,{"$f":"N7","v":111},{"$f":"COUNTIF(L7:L20,T7)","v":3},{"$f":"U7/(W4-U11)","v":0.375},{"$f":"IF(V7=0,0,(V7*((LOG(V7))/LOG(2))))","v":-0.53063906222956647},null,{"$f":"N7","v":111},{"$f":"COUNTIF(L21:L34,Y7)","v":3},{"$f":"Z7/(AB4-Z11)","v":0.6},{"$f":"IF(AA7=0,0,(AA7*((LOG(AA7))/LOG(2))))","v":-0.44217935649972373},null,{"$f":"N7","v":111},{"$f":"COUNTIF(L35:L49,AD7)","v":4},{"$f":"AE7/(AG4-AE11)","v":0.33333333333333331},{"$f":"IF(AF7=0,0,(AF7*((LOG(AF7))/LOG(2))))","v":-0.52832083357371862},null,{"$f":"N7","v":111},{"$f":"COUNTIF(L50:L63,AI7)","v":1},{"$f":"AJ7/(AL4-AJ11)","v":7.6923076923076927E-2},{"$f":"IF(AK7=0,0,(AK7*((LOG(AK7))/LOG(2))))","v":-0.28464920908777636},null,{"$f":"N7","v":111},{"$f":"COUNTIF(L64:L77,AN7)","v":8},{"$f":"AO7/(AQ4-AO11)","v":0.5714285714285714},{"$f":"IF(AP7=0,0,(AP7*((LOG(AP7))/LOG(2))))","v":-0.46134566974720237},null,{"$f":"N7","v":111},{"$f":"COUNTIF(L78:L91,AS7)","v":5},{"$f":"AT7/(AV4-AT11)","v":0.55555555555555558},{"$f":"IF(AU7=0,0,(AU7*((LOG(AU7))/LOG(2))))","v":-0.4711093925305278}]
[12,110,13,114,13,120,null,null,null,null,0,111,null,112,3,3.5294117647058823E-2,-0.17027394477940749,null,null,112,{"$f":"COUNTIF(L7:L20,T8)","v":0},{"$f":"U8/(W4-U11)","v":0},{"$f":"IF(V8=0,0,(V8*((LOG(V8))/LOG(2))))","v":0},null,112,{"$f":"COUNTIF(L21:L34,Y8)","v":0},{"$f":"Z8/(AB4-Z11)","v":0},{"$f":"IF(AA8=0,0,(AA8*((LOG(AA8))/LOG(2))))","v":0},null,112,{"$f":"COUNTIF(L35:L49,AD8)","v":1},{"$f":"AE8/(AG4-AE11)","v":8.3333333333333329E-2},{"$f":"IF(AF8=0,0,(AF8*((LOG(AF8))/LOG(2))))","v":-0.29874687506009634},null,112,{"$f":"COUNTIF(L50:L63,AI8)","v":0},{"$f":"AJ8/(AL4-AJ11)","v":0},{"$f":"IF(AK8=0,0,(AK8*((LOG(AK8))/LOG(2))))","v":0},null,112,{"$f":"COUNTIF(L64:L77,AN8)","v":1},{"$f":"AO8/(AQ4-AO11)","v":7.1428571428571425E-2},{"$f":"IF(AP8=0,0,(AP8*((LOG(AP8))/LOG(2))))","v":-0.27195392300411453},null,112,{"$f":"COUNTIF(L78:L91,AS8)","v":1},{"$f":"AT8/(AV4-AT11)","v":0.1111111111111111},{"$f":"IF(AU8=0,0,(AU8*((LOG(AU8))/LOG(2))))","v":-0.3522138890491458}]
[12,216,13,231,13,238,null,null,null,null,0,111,null,121,3,3.5294117647058823E-2,-0.17027394477940749,null,null,121,{"$f":"COUNTIF(L7:L20,T9)","v":0},{"$f":"U9/(W4-U11)","v":0},{"$f":"IF(V9=0,0,(V9*((LOG(V9))/LOG(2))))","v":0},null,121,{"$f":"COUNTIF(L21:L34,Y9)","v":0},{"$f":"Z9/(AB4-Z11)","v":0},{"$f":"IF(AA9=0,0,(AA9*((LOG(AA9))/LOG(2))))","v":0},null,121,{"$f":"COUNTIF(L35:L49,AD9)","v":1},{"$f":"AE9/(AG4-AE11)","v":8.3333333333333329E-2},{"$f":"IF(AF9=0,0,(AF9*((LOG(AF9))/LOG(2))))","v":-0.29874687506009634},null,121,{"$f":"COUNTIF(L50:L63,AI9)","v":2},{"$f":"AJ9/(AL4-AJ11)","v":0.15384615384615385},{"$f":"IF(AK9=0,0,(AK9*((LOG(AK9))/LOG(2))))","v":-0.4154522643293988},null,121,{"$f":"COUNTIF(L64:L77,AN9)","v":0},{"$f":"AO9/(AQ4-AO11)","v":0},{"$f":"IF(AP9=0,0,(AP9*((LOG(AP9))/LOG(2))))","v":0},null,121,{"$f":"COUNTIF(L78:L91,AS9)","v":0},{"$f":"AT9/(AV4-AT11)","v":0},{"$f":"IF(AU9=0,0,(AU9*((LOG(AU9))/LOG(2))))","v":0}]
[21,332,22,334,13,342,null,null,null,null,0,221,null,122,6,7.0588235294117646E-2,-0.26995965426469731,null,null,122,{"$f":"COUNTIF(L7:L20,T10)","v":0},{"$f":"U10/(W4-U11)","v":0},{"$f":"IF(V10=0,0,(V10*((LOG(V10))/LOG(2))))","v":0},null,122,{"$f":"COUNTIF(L21:L34,Y10)","v":0},{"$f":"Z10/(AB4-Z11)","v":0},{"$f":"IF(AA10=0,0,(AA10*((LOG(AA10))/LOG(2))))","v":0},null,122,{"$f":"COUNTIF(L35:L49,AD10)","v":1},{"$f":"AE10/(AG4-AE11)","v":8.3333333333333329E-2},{"$f":"IF(AF10=0,0,(AF10*((LOG(AF10))/LOG(2))))","v":-0.29874687506009634},null,122,{"$f":"COUNTIF(L50:L63,AI10)","v":2},{"$f":"AJ10/(AL4-AJ11)","v":0.15384615384615385},{"$f":"IF(AK10=0,0,(AK10*((LOG(AK10))/LOG(2))))","v":-0.4154522643293988},null,122,{"$f":"COUNTIF(L64:L77,AN10)","v":1},{"$f":"AO10/(AQ4-AO11)","v":7.1428571428571425E-2},{"$f":"IF(AP10=0,0,(AP10*((LOG(AP10))/LOG(2))))","v":-0.27195392300411453},null,122,{"$f":"COUNTIF(L78:L91,AS10)","v":2},{"$f":"AT10/(AV4-AT11)","v":0.22222222222222221},{"$f":"IF(AU10=0,0,(AU10*((LOG(AU10))/LOG(2))))","v":-0.48220555587606945}]
[21,439,11,445,11,450,null,null,null,null,0,211,null,211,24,0.28235294117647058,-0.51513273470584819,null,null,211,{"$f":"COUNTIF(L7:L20,T11)","v":6},null,null,null,211,{"$f":"COUNTIF(L21:L34,Y11)","v":9},null,null,null,211,{"$f":"COUNTIF(L35:L49,AD11)","v":3},null,null,null,211,{"$f":"COUNTIF(L50:L63,AI11)","v":1},null,null,null,211,{"$f":"COUNTIF(L64:L77,AN11)","v":0},null,null,null,211,{"$f":"COUNTIF(L78:L91,AS11)","v":5}]
[21,541,11,550,11,558,null,null,null,null,0,211,null,212,3,3.5294117647058823E-2,-0.17027394477940749,null,null,212,{"$f":"COUNTIF(L7:L20,T12)","v":0},{"$f":"U12/(W4-U11)","v":0},{"$f":"IF(V12=0,0,(V12*((LOG(V12))/LOG(2))))","v":0},null,212,{"$f":"COUNTIF(L21:L34,Y12)","v":0},{"$f":"Z12/(AB4-Z11)","v":0},{"$f":"IF(AA12=0,0,(AA12*((LOG(AA12))/LOG(2))))","v":0},null,212,{"$f":"COUNTIF(L35:L49,AD12)","v":0},{"$f":"AE12/(AG4-AE11)","v":0},{"$f":"IF(AF12=0,0,(AF12*((LOG(AF12))/LOG(2))))","v":0},null,212,{"$f":"COUNTIF(L50:L63,AI12)","v":2},{"$f":"AJ12/(AL4-AJ11)","v":0.15384615384615385},{"$f":"IF(AK12=0,0,(AK12*((LOG(AK12))/LOG(2))))","v":-0.4154522643293988},null,212,{"$f":"COUNTIF(L64:L77,AN12)","v":1},{"$f":"AO12/(AQ4-AO11)","v":7.1428571428571425E-2},{"$f":"IF(AP12=0,0,(AP12*((LOG(AP12))/LOG(2))))","v":-0.27195392300411453},null,212,{"$f":"COUNTIF(L78:L91,AS12)","v":0},{"$f":"AT12/(AV4-AT11)","v":0},{"$f":"IF(AU12=0,0,(AU12*((LOG(AU12))/LOG(2))))","v":0}]
[21,651,22,653,13,660,null,null,null,null,0,221,null,221,11,0.12941176470588237,-0.38175944108828763,null,null,221,{"$f":"COUNTIF(L7:L20,T13)","v":5},{"$f":"U13/(W4-U11)","v":0.625},{"$f":"IF(V13=0,0,(V13*((LOG(V13))/LOG(2))))","v":-0.42379494069539858},null,221,{"$f":"COUNTIF(L21:L34,Y13)","v":2},{"$f":"Z13/(AB4-Z11)","v":0.4},{"$f":"IF(AA13=0,0,(AA13*((LOG(AA13))/LOG(2))))","v":-0.52877123795494496},null,221,{"$f":"COUNTIF(L35:L49,AD13)","v":0},{"$f":"AE13/(AG4-AE11)","v":0},{"$f":"IF(AF13=0,0,(AF13*((LOG(AF13))/LOG(2))))","v":0},null,221,{"$f":"COUNTIF(L50:L63,AI13)","v":2},{"$f":"AJ13/(AL4-AJ11)","v":0.15384615384615385},{"$f":"IF(AK13=0,0,(AK13*((LOG(AK13))/LOG(2))))","v":-0.4154522643293988},null,221,{"$f":"COUNTIF(L64:L77,AN13)","v":1},{"$f":"AO13/(AQ4-AO11)","v":7.1428571428571425E-2},{"$f":"IF(AP13=0,0,(AP13*((LOG(AP13))/LOG(2))))","v":-0.27195392300411453},null,221,{"$f":"COUNTIF(L78:L91,AS13)","v":1},{"$f":"AT13/(AV4-AT11)","v":0.1111111111111111},{"$f":"IF(AU13=0,0,(AU13*((LOG(AU13))/LOG(2))))","v":-0.3522138890491458}]
[21,756,11,764,11,770,null,null,null,null,0,211,null,222,11,0.12941176470588237,-0.38175944108828763,null,null,222,{"$f":"COUNTIF(L7:L20,T14)","v":0},{"$f":"U14/(W4-U11)","v":0},{"$f":"IF(V14=0,0,(V14*((LOG(V14))/LOG(2))))","v":0},null,222,{"$f":"COUNTIF(L21:L34,Y14)","v":0},{"$f":"Z14/(AB4-Z11)","v":0},{"$f":"IF(AA14=0,0,(AA14*((LOG(AA14))/LOG(2))))","v":0},null,222,{"$f":"COUNTIF(L35:L49,AD14)","v":5},{"$f":"AE14/(AG4-AE11)","v":0.41666666666666669},{"$f":"IF(AF14=0,0,(AF14*((LOG(AF14))/LOG(2))))","v":-0.52626433576408083},null,222,{"$f":"COUNTIF(L50:L63,AI14)","v":4},{"$f":"AJ14/(AL4-AJ11)","v":0.30769230769230771},{"$f":"IF(AK14=0,0,(AK14*((LOG(AK14))/LOG(2))))","v":-0.52321222096648989},null,222,{"$f":"COUNTIF(L64:L77,AN14)","v":2},{"$f":"AO14/(AQ4-AO11)","v":0.14285714285714285},{"$f":"IF(AP14=0,0,(AP14*((LOG(AP14))/LOG(2))))","v":-0.40105070315108626},null,222,{"$f":"COUNTIF(L78:L91,AS14)","v":0},{"$f":"AT14/(AV4-AT11)","v":0},{"$f":"IF(AU14=0,0,(AU14*((LOG(AU14))/LOG(2))))","v":0}]
[21,860,22,864,13,871,null,null,null,null,0,221,null,null,null,{"$f":"SUM(P7:P14)","v":0.99999999999999989},{"$f":"-SUM(Q7:Q14)","v":2.5745658401911911},null,null,null,null,{"$f":"SUM(V7:V14)","v":1},{"$f":"-SUM(W7:W14)","v":0.95443400292496505},null,null,null,{"$f":"SUM(AA7:AA14)","v":1},{"$f":"-SUM(AB7:AB14)","v":0.97095059445466869},null,null,null,{"$f":"SUM(AF7:AF14)","v":1},{"$f":"-SUM(AG7:AG14)","v":1.9508257945180885},null,null,null,{"$f":"SUM(AK7:AK14)","v":1},{"$f":"-SUM(AL7:AL14)","v":2.4696704873718613},null,null,null,{"$f":"SUM(AP7:AP14)","v":0.99999999999999978},{"$f":"-SUM(AQ7:AQ14)","v":1.950212064914747},null,null,null,{"$f":"SUM(AU7:AU14)","v":1},{"$f":"-SUM(AV7:AV14)","v":1.6577427265048887}]
[21,966,22,969,13,975,null,null,null,null,0,221,null,null,null,"U=",{"$f":"Q15/(LOG(Q4)/LOG(2))","v":0.40168650435646919},null,null,null,null,"U1=",{"$f":"W15/(LOG(W4)/LOG(2))","v":0.25068164709192953},null,null,null,"U2=",{"$f":"AB15/(LOG(AB4)/LOG(2))","v":0.25501972217760543},null,null,null,"U3=",{"$f":"AG15/(LOG(AG4)/LOG(2))","v":0.49932951711288887},null,null,null,"U4=",{"$f":"AL15/(LOG(AL4)/LOG(2))","v":0.64865780520329863},null,null,null,"U5=",{"$f":"AQ15/(LOG(AQ4)/LOG(2))","v":0.51222229207378345},null,null,null,"U6=",{"$f":"AV15/(LOG(AV4)/LOG(2))","v":0.43540535632779859}]
[21,1070,11,1077,11,1094,null,null,null,null,0,211]
[21,1353,22,1356,13,1364,null,null,null,null,0,221]
[21,1462,11,1468,11,1473,null,null,null,null,0,211,null,"Total Target Seq"]
[21,1568,11,1577,11,1583,null,null,null,null,0,211,null,{"$f":"COUNTIF(L7:L91,G3)","v":24},null,14,14,15,14,14,14]
[21,1690,11,1701,11,1708,null,null,null,null,0,211,null,null,null,"% of reinforcement given in 6 equal intervals based on number of trials "]
[21,1811,11,1819,11,1832,null,null,null,null,0,211,null,null,null,"%_1","%_2","%_3","%_4","%_5","%_6"]
[21,1920,11,1932,11,1940,null,null,null,null,0,211,null,null,"target sequence",{"$f":"$G$3","v":211},211,211,211,211,211]
[12,2041,13,2051,13,2064,null,null,null,null,0,111,null,null,"total reinforcement",{"$f":"U11","v":6},{"$f":"Z11","v":9},{"$f":"AE11","v":3},{"$f":"AJ11","v":1},{"$f":"AO11","v":0},{"$f":"AT11","v":5}]
[21,2161,11,2166,11,2182,null,null,null,null,0,211,null,null,"% target"]
[21,2275,11,2284,11,2294,null,null,null,null,0,211,null,null,"CCRF"]
[21,2399,22,2403,13,2411,null,null,null,null,0,221,null,null,"% CCRf"]
[21,2503,11,2511,11,2527,null,null,null,null,0,211,null,null,"average response rate",{"$f":"F20/P20","v":113.07142857142857},{"$f":"(F34-F20)/Q20","v":161.21428571428572},{"$f":"(F49-F34)/R20","v":218.06666666666666},{"$f":"(F63-F49)/S20","v":140.92857142857142},{"$f":"(F77-F63)/T20","v":305.5},{"$f":"(F91-F77)/U20","v":206.85714285714286}]
[21,2682,11,2711,11,2726,null,null,null,null,0,211]
[21,2946,11,2962,11,2983,null,null,null,null,0,211]
[12,3215,13,3231,13,3238,null,null,null,null,0,111]
[21,3334,11,3341,11,3349,null,null,null,null,0,211]
[21,3573,22,3576,13,3586,null,null,null,null,0,221]
[12,3826,13,3833,13,3840,null,null,null,null,0,111]
[21,3949,11,3959,11,3987,null,null,null,null,0,211]
[21,4243,11,4255,11,4262,null,null,null,null,0,211]
[12,4355,13,4358,13,4363,null,null,null,null,0,111]
[21,4536,11,4544,11,4554,null,null,null,null,0,211]
[12,5472,13,5478,13,5496,null,null,null,null,0,111]
[12,5609,13,5670,13,5671,null,null,null,null,0,111]
[12,5765,24,5767,13,5778,null,null,null,null,0,121]
[21,5874,22,5924,24,5930,null,null,null,null,0,222]
[21,6063,22,6067,24,6096,null,null,null,null,0,222]
[21,6232,22,6275,24,6280,null,null,null,null,0,222]
[12,6412,13,6426,24,6439,null,null,null,null,0,112]
[12,6659,13,6673,13,6693,null,null,null,null,0,111]
[21,6806,22,6811,24,6814,null,null,null,null,0,222]
[12,6927,24,6956,24,6961,null,null,null,null,0,122]
[21,7077,22,7105,24,7111,null,null,null,null,0,222]
[12,7212,24,7232,24,7256,null,null,null,null,0,122]
[21,7350,11,7399,11,7403,null,null,null,null,0,211]
[12,7508,24,7522,13,7524,null,null,null,null,0,121]
[21,7622,22,7645,24,7650,null,null,null,null,0,222]
[21,7745,22,7766,24,7789,null,null,null,null,0,222]
[12,7883,24,7889,13,7901,null,null,null,null,0,121]
[21,7994,22,8021,13,8023,null,null,null,null,0,221]
[21,8117,11,8136,22,8155,null,null,null,null,0,212]
[21,8273,22,8294,24,8297,null,null,null,null,0,222]
[21,8407,11,8434,22,8461,null,null,null,null,0,212]
[12,8562,24,8571,24,8579,null,null,null,null,0,122]
[21,8678,22,8703,24,8707,null,null,null,null,0,222]
[21,8834,22,8838,13,8855,null,null,null,null,0,221]
[12,8966,13,8984,13,9084,null,null,null,null,0,111]
[12,9206,13,9209,13,9218,null,null,null,null,0,111]
[12,9449,13,9634,24,9799,null,null,null,null,0,112]
[12,10064,13,10203,13,10451,null,null,null,null,0,111]
[12,10727,13,10821,13,10859,null,null,null,null,0,111]
[12,11054,13,11192,13,11262,null,null,null,null,0,111]
[12,11569,13,11659,13,11671,null,null,null,null,0,111]
[12,11784,24,11786,24,11831,null,null,null,null,0,122]
[21,11966,11,11984,22,11988,null,null,null,null,0,212]
[21,12095,22,12101,13,12112,null,null,null,null,0,221]
[21,12206,22,12232,24,12236,null,null,null,null,0,222]
[21,12335,22,12393,24,12399,null,null,null,null,0,222]
[12,12503,13,12639,13,12718,null,null,null,null,0,111]
[12,12846,13,13129,13,13224,null,null,null,null,0,111]
[12,13324,13,13343,13,13361,null,null,null,null,0,111]
[12,13522,13,13542,13,13546,null,null,null,null,0,111]
[12,13729,13,13836,13,13897,null,null,null,null,0,111]
[12,14043,13,14066,13,14088,null,null,null,null,0,111]
[12,14294,24,14527,24,14548,null,null,null,null,0,122]
[12,14641,24,14656,24,14660,null,null,null,null,0,122]
[12,14761,13,14779,24,14809,null,null,null,null,0,112]
[12,14907,13,14918,13,14936,null,null,null,null,0,111]
[21,15030,22,15055,13,15069,null,null,null,null,0,221]
[21,15164,11,15174,11,15182,null,null,null,null,0,211]
[21,15495,11,15503,11,15523,null,null,null,null,0,211]
[21,15701,11,15710,11,15717,null,null,null,null,0,211]
[12,16003,13,16009,13,16020,null,null,null,null,0,111]
[21,16118,11,16126,11,16133,null,null,null,null,0,211]
[21,16223,11,16242,11,16257,null,null,null,null,1,211]

{"sheet":"!N211A5T.AYL","index":13,"n_rows":80,"n_cols":48,"rows_kept":80,"cut":false,"hidden":false,"merged":[[1,1,1,2],[5,13,5,14],[18,13,18,14],[19,13,19,14],[4,19,4,22],[5,19,5,20],[4,39,4,42],[5,39,5,40],[4,44,4,47],[5,44,5,45],[4,24,4,27],[5,24,5,25],[4,29,4,32],[5,29,5,30],[4,34,4,37],[5,34,5,35]]}
["Report for:!N211A5T.AYL"]
["Date:","<date>"]
["Hen:","<hen>",null,null,null,"Correct Sequence",{"$f":"Start!J2","v":211},null,null,null,null,null,null,null,null,"Total Sequences in Data",{"$f":"4994-COUNTBLANK(L7:L5000)","v":74},null,null,null,null,"Total Sequences in Block Data",{"$f":"COUNTA(L7:L18)","v":12},null,null,null,"Total Sequences in Block Data",{"$f":"COUNTA(L19:L31)","v":13},null,null,null,"Total Sequences in Block Data",{"$f":"COUNTA(L32:L43)","v":12},null,null,null,"Total Sequences in Block Data",{"$f":"COUNTA(L44:L55)","v":12},null,null,null,"Total Sequences in Block Data",{"$f":"COUNTA(L56:L68)","v":13},null,null,null,"Total Sequences in Block Data",{"$f":"COUNTA(L69:L80)","v":12}]
[null,null,null,null,null,null,null,null,null,null,null,null,null,null,null,"Total Sequences in Summary",{"$f":"SUM(O7:O14)","v":74},null,null,null,null,"Total Sequences in Block Summary",{"$f":"SUM(U7:U14)","v":12},null,null,null,"Total Sequences in Block Summary",{"$f":"SUM(Z7:Z14)","v":13},null,null,null,"Total Sequences in Block Summary",{"$f":"SUM(AE7:AE14)","v":12},null,null,null,"Total Sequences in Block Summary",{"$f":"SUM(AJ7:AJ14)","v":12},null,null,null,"Total Sequences in Block Summary",{"$f":"SUM(AO7:AO14)","v":13},null,null,null,"Total Sequences in Block Summary",{"$f":"SUM(AT7:AT14)","v":12}]
[null,null,null,null,null,null,null,null,null,null,null,null,null,null,null,null,null,null,null,"Block 1",null,null,null,null,"Block 2",null,null,null,null,"Block 3",null,null,null,null,"Block 4",null,null,null,null,"Block 5",null,null,null,null,"Block 6"]
["Sequence\nComponent\n1","Time\n1","Sequence\nComponent\n2","Time\n2","Sequence\nComponent\n3","Time\n3","Sequence\nComponent\n4","Time\n4","Sequence\nComponent\n5","Time\n5","Correct?\n0=No 1=Yes","Sequence",null,"Frequency",null,"Relative Frequency","Variability",null,null,"Frequency",null,"Relative Frequency","Variability",null,"Frequency",null,"Relative Frequency","Variability",null,"Frequency",null,"Relative Frequency","Variability",null,"Frequency",null,"Relative Frequency","Variability",null,"Frequency",null,"Relative Frequency","Variability",null,"Frequency",null,"Relative Frequency","Variability"]
[12,11,13,15,13,22,null,null,null,null,0,111,null,111,{"$f":"COUNTIF($L$7:$L$500,N7)","v":40},{"$f":"O7/$Q$4","v":0.54054054054054057},{"$f":"IF(P7=0,0,(P7*((LOG(P7))/LOG(2))))","v":-0.47974338959004725},null,null,{"$f":"N7","v":111},{"$f":"COUNTIF(L7:L18,T7)","v":8},{"$f":"U7/(W4-U11)","v":0.88888888888888884},{"$f":"IF(V7=0,0,(V7*((LOG(V7))/LOG(2))))","v":-0.15104444572649992},null,{"$f":"N7","v":111},{"$f":"COUNTIF(L19:L31,Y7)","v":8},{"$f":"Z7/(AB4-Z11)","v":1},{"$f":"IF(AA7=0,0,(AA7*((LOG(AA7))/LOG(2))))","v":0},null,{"$f":"N7","v":111},{"$f":"COUNTIF(L32:L43,AD7)","v":6},{"$f":"AE7/(AG4-AE11)","v":0.66666666666666663},{"$f":"IF(AF7=0,0,(AF7*((LOG(AF7))/LOG(2))))","v":-0.38997500048077083},null,{"$f":"N7","v":111},{"$f":"COUNTIF(L44:L55,AI7)","v":2},{"$f":"AJ7/(AL4-AJ11)","v":0.66666666666666663},{"$f":"IF(AK7=0,0,(AK7*((LOG(AK7))/LOG(2))))","v":-0.38997500048077083},null,{"$f":"N7","v":111},{"$f":"COUNTIF(L56:L68,AN7)","v":7},{"$f":"AO7/(AQ4-AO11)","v":0.77777777777777779},{"$f":"IF(AP7=0,0,(AP7*((LOG(AP7))/LOG(2))))","v":-0.28199895063255082},null,{"$f":"N7","v":111},{"$f":"COUNTIF(L69:L80,AS7)","v":9},{"$f":"AT7/(AV4-AT11)","v":1},{"$f":"IF(AU7=0,0,(AU7*((LOG(AU7))/LOG(2))))","v":0}]
[21,116,11,124,11,127,null,null,null,null,0,211,null,112,4,5.4054054054054057E-2,-0.22753801976372701,null,null,112,{"$f":"COUNTIF(L7:L18,T8)","v":0},{"$f":"U8/(W4-U11)","v":0},{"$f":"IF(V8=0,0,(V8*((LOG(V8))/LOG(2))))","v":0},null,112,{"$f":"COUNTIF(L19:L31,Y8)","v":0},{"$f":"Z8/(AB4-Z11)","v":0},{"$f":"IF(AA8=0,0,(AA8*((LOG(AA8))/LOG(2))))","v":0},null,112,{"$f":"COUNTIF(L32:L43,AD8)","v":3},{"$f":"AE8/(AG4-AE11)","v":0.33333333333333331},{"$f":"IF(AF8=0,0,(AF8*((LOG(AF8))/LOG(2))))","v":-0.52832083357371862},null,112,{"$f":"COUNTIF(L44:L55,AI8)","v":0},{"$f":"AJ8/(AL4-AJ11)","v":0},{"$f":"IF(AK8=0,0,(AK8*((LOG(AK8))/LOG(2))))","v":0},null,112,{"$f":"COUNTIF(L56:L68,AN8)","v":1},{"$f":"AO8/(AQ4-AO11)","v":0.1111111111111111},{"$f":"IF(AP8=0,0,(AP8*((LOG(AP8))/LOG(2))))","v":-0.3522138890491458},null,112,{"$f":"COUNTIF(L69:L80,AS8)","v":0},{"$f":"AT8/(AV4-AT11)","v":0},{"$f":"IF(AU8=0,0,(AU8*((LOG(AU8))/LOG(2))))","v":0}]
[12,382,13,393,13,400,null,null,null,null,0,111,null,121,2,2.7027027027027029E-2,-0.14079603690889056,null,null,121,{"$f":"COUNTIF(L7:L18,T9)","v":1},{"$f":"U9/(W4-U11)","v":0.1111111111111111},{"$f":"IF(V9=0,0,(V9*((LOG(V9))/LOG(2))))","v":-0.3522138890491458},null,121,{"$f":"COUNTIF(L19:L31,Y9)","v":0},{"$f":"Z9/(AB4-Z11)","v":0},{"$f":"IF(AA9=0,0,(AA9*((LOG(AA9))/LOG(2))))","v":0},null,121,{"$f":"COUNTIF(L32:L43,AD9)","v":0},{"$f":"AE9/(AG4-AE11)","v":0},{"$f":"IF(AF9=0,0,(AF9*((LOG(AF9))/LOG(2))))","v":0},null,121,{"$f":"COUNTIF(L44:L55,AI9)","v":0},{"$f":"AJ9/(AL4-AJ11)","v":0},{"$f":"IF(AK9=0,0,(AK9*((LOG(AK9))/LOG(2))))","v":0},null,121,{"$f":"COUNTIF(L56:L68,AN9)","v":1},{"$f":"AO9/(AQ4-AO11)","v":0.1111111111111111},{"$f":"IF(AP9=0,0,(AP9*((LOG(AP9))/LOG(2))))","v":-0.3522138890491458},null,121,{"$f":"COUNTIF(L69:L80,AS9)","v":0},{"$f":"AT9/(AV4-AT11)","v":0},{"$f":"IF(AU9=0,0,(AU9*((LOG(AU9))/LOG(2))))","v":0}]
[12,519,13,522,13,533,null,null,null,null,0,111,null,122,0,0,0,null,null,122,{"$f":"COUNTIF(L7:L18,T10)","v":0},{"$f":"U10/(W4-U11)","v":0},{"$f":"IF(V10=0,0,(V10*((LOG(V10))/LOG(2))))","v":0},null,122,{"$f":"COUNTIF(L19:L31,Y10)","v":0},{"$f":"Z10/(AB4-Z11)","v":0},{"$f":"IF(AA10=0,0,(AA10*((LOG(AA10))/LOG(2))))","v":0},null,122,{"$f":"COUNTIF(L32:L43,AD10)","v":0},{"$f":"AE10/(AG4-AE11)","v":0},{"$f":"IF(AF10=0,0,(AF10*((LOG(AF10))/LOG(2))))","v":0},null,122,{"$f":"COUNTIF(L44:L55,AI10)","v":0},{"$f":"AJ10/(AL4-AJ11)","v":0},{"$f":"IF(AK10=0,0,(AK10*((LOG(AK10))/LOG(2))))","v":0},null,122,{"$f":"COUNTIF(L56:L68,AN10)","v":0},{"$f":"AO10/(AQ4-AO11)","v":0},{"$f":"IF(AP10=0,0,(AP10*((LOG(AP10))/LOG(2))))","v":0},null,122,{"$f":"COUNTIF(L69:L80,AS10)","v":0},{"$f":"AT10/(AV4-AT11)","v":0},{"$f":"IF(AU10=0,0,(AU10*((LOG(AU10))/LOG(2))))","v":0}]
[12,649,13,658,13,665,null,null,null,null,0,111,null,211,27,0.36486486486486486,-0.53071997721037822,null,null,211,{"$f":"COUNTIF(L7:L18,T11)","v":3},null,null,null,211,{"$f":"COUNTIF(L19:L31,Y11)","v":5},null,null,null,211,{"$f":"COUNTIF(L32:L43,AD11)","v":3},null,null,null,211,{"$f":"COUNTIF(L44:L55,AI11)","v":9},null,null,null,211,{"$f":"COUNTIF(L56:L68,AN11)","v":4},null,null,null,211,{"$f":"COUNTIF(L69:L80,AS11)","v":3}]
[12,768,13,772,13,783,null,null,null,null,0,111,null,212,0,0,0,null,null,212,{"$f":"COUNTIF(L7:L18,T12)","v":0},{"$f":"U12/(W4-U11)","v":0},{"$f":"IF(V12=0,0,(V12*((LOG(V12))/LOG(2))))","v":0},null,212,{"$f":"COUNTIF(L19:L31,Y12)","v":0},{"$f":"Z12/(AB4-Z11)","v":0},{"$f":"IF(AA12=0,0,(AA12*((LOG(AA12))/LOG(2))))","v":0},null,212,{"$f":"COUNTIF(L32:L43,AD12)","v":0},{"$f":"AE12/(AG4-AE11)","v":0},{"$f":"IF(AF12=0,0,(AF12*((LOG(AF12))/LOG(2))))","v":0},null,212,{"$f":"COUNTIF(L44:L55,AI12)","v":0},{"$f":"AJ12/(AL4-AJ11)","v":0},{"$f":"IF(AK12=0,0,(AK12*((LOG(AK12))/LOG(2))))","v":0},null,212,{"$f":"COUNTIF(L56:L68,AN12)","v":0},{"$f":"AO12/(AQ4-AO11)","v":0},{"$f":"IF(AP12=0,0,(AP12*((LOG(AP12))/LOG(2))))","v":0},null,212,{"$f":"COUNTIF(L69:L80,AS12)","v":0},{"$f":"AT12/(AV4-AT11)","v":0},{"$f":"IF(AU12=0,0,(AU12*((LOG(AU12))/LOG(2))))","v":0}]
[21,876,11,881,11,884,null,null,null,null,0,211,null,221,1,1.3513513513513514E-2,-8.3911531967958794E-2,null,null,221,{"$f":"COUNTIF(L7:L18,T13)","v":0},{"$f":"U13/(W4-U11)","v":0},{"$f":"IF(V13=0,0,(V13*((LOG(V13))/LOG(2))))","v":0},null,221,{"$f":"COUNTIF(L19:L31,Y13)","v":0},{"$f":"Z13/(AB4-Z11)","v":0},{"$f":"IF(AA13=0,0,(AA13*((LOG(AA13))/LOG(2))))","v":0},null,221,{"$f":"COUNTIF(L32:L43,AD13)","v":0},{"$f":"AE13/(AG4-AE11)","v":0},{"$f":"IF(AF13=0,0,(AF13*((LOG(AF13))/LOG(2))))","v":0},null,221,{"$f":"COUNTIF(L44:L55,AI13)","v":1},{"$f":"AJ13/(AL4-AJ11)","v":0.33333333333333331},{"$f":"IF(AK13=0,0,(AK13*((LOG(AK13))/LOG(2))))","v":-0.52832083357371862},null,221,{"$f":"COUNTIF(L56:L68,AN13)","v":0},{"$f":"AO13/(AQ4-AO11)","v":0},{"$f":"IF(AP13=0,0,(AP13*((LOG(AP13))/LOG(2))))","v":0},null,221,{"$f":"COUNTIF(L69:L80,AS13)","v":0},{"$f":"AT13/(AV4-AT11)","v":0},{"$f":"IF(AU13=0,0,(AU13*((LOG(AU13))/LOG(2))))","v":0}]
[12,2073,13,2085,13,2091,null,null,null,null,0,111,null,222,0,0,0,null,null,222,{"$f":"COUNTIF(L7:L18,T14)","v":0},{"$f":"U14/(W4-U11)","v":0},{"$f":"IF(V14=0,0,(V14*((LOG(V14))/LOG(2))))","v":0},null,222,{"$f":"COUNTIF(L19:L31,Y14)","v":0},{"$f":"Z14/(AB4-Z11)","v":0},{"$f":"IF(AA14=0,0,(AA14*((LOG(AA14))/LOG(2))))","v":0},null,222,{"$f":"COUNTIF(L32:L43,AD14)","v":0},{"$f":"AE14/(AG4-AE11)","v":0},{"$f":"IF(AF14=0,0,(AF14*((LOG(AF14))/LOG(2))))","v":0},null,222,{"$f":"COUNTIF(L44:L55,AI14)","v":0},{"$f":"AJ14/(AL4-AJ11)","v":0},{"$f":"IF(AK14=0,0,(AK14*((LOG(AK14))/LOG(2))))","v":0},null,222,{"$f":"COUNTIF(L56:L68,AN14)","v":0},{"$f":"AO14/(AQ4-AO11)","v":0},{"$f":"IF(AP14=0,0,(AP14*((LOG(AP14))/LOG(2))))","v":0},null,222,{"$f":"COUNTIF(L69:L80,AS14)","v":0},{"$f":"AT14/(AV4-AT11)","v":0},{"$f":"IF(AU14=0,0,(AU14*((LOG(AU14))/LOG(2))))","v":0}]
[12,2899,24,2902,13,2904,null,null,null,null,0,121,null,null,null,{"$f":"SUM(P7:P14)","v":1.0000000000000002},{"$f":"-SUM(Q7:Q14)","v":1.4627089554410018},null,null,null,null,{"$f":"SUM(V7:V14)","v":1},{"$f":"-SUM(W7:W14)","v":0.50325833477564574},null,null,null,{"$f":"SUM(AA7:AA14)","v":1},{"$f":"-SUM(AB7:AB14)","v":0},null,null,null,{"$f":"SUM(AF7:AF14)","v":1},{"$f":"-SUM(AG7:AG14)","v":0.91829583405448945},null,null,null,{"$f":"SUM(AK7:AK14)","v":1},{"$f":"-SUM(AL7:AL14)","v":0.91829583405448945},null,null,null,{"$f":"SUM(AP7:AP14)","v":1},{"$f":"-SUM(AQ7:AQ14)","v":0.98642672873084236},null,null,null,{"$f":"SUM(AU7:AU14)","v":1},{"$f":"-SUM(AV7:AV14)","v":0}]
[12,3001,13,3011,13,3019,null,null,null,null,0,111,null,null,null,"U=",{"$f":"Q15/(LOG(Q4)/LOG(2))","v":0.23556162987510337},null,null,null,null,"U1=",{"$f":"W15/(LOG(W4)/LOG(2))","v":0.14038036232580103},null,null,null,"U2=",{"$f":"AB15/(LOG(AB4)/LOG(2))","v":0},null,null,null,"U3=",{"$f":"AG15/(LOG(AG4)/LOG(2))","v":0.2561521449303204},null,null,null,"U4=",{"$f":"AL15/(LOG(AL4)/LOG(2))","v":0.2561521449303204},null,null,null,"U5=",{"$f":"AQ15/(LOG(AQ4)/LOG(2))","v":0.26657013865000123},null,null,null,"U6=",{"$f":"AV15/(LOG(AV4)/LOG(2))","v":0}]
[21,3113,11,3119,11,3124,null,null,null,null,0,211]
[12,3628,13,3646,13,3652,null,null,null,null,0,111]
[12,3750,13,3766,13,3777,null,null,null,null,0,111,null,"Total Target Seq"]
[12,3878,13,3885,13,3894,null,null,null,null,0,111,null,{"$f":"COUNTIF(L7:L80,G3)","v":27},null,12,13,12,12,13,12]
[12,3994,13,3998,13,4003,null,null,null,null,0,111,null,null,null,"% of reinforcement given in 6 equal intervals based on number of trials "]
[21,4098,11,4104,11,4115,null,null,null,null,0,211,null,null,null,"%_1","%_2","%_3","%_4","%_5","%_6"]
[12,4899,13,4909,13,4918,null,null,null,null,0,111,null,null,"target sequence",{"$f":"$G$3","v":211},211,211,211,211,211]
[21,5013,11,5020,11,5027,null,null,null,null,0,211,null,null,"total reinforcement",{"$f":"U11","v":3},{"$f":"Z11","v":5},{"$f":"AE11","v":3},{"$f":"AJ11","v":9},{"$f":"AO11","v":4},{"$f":"AT11","v":3}]
[12,5622,13,5637,13,5645,null,null,null,null,0,111,null,null,"% target"]
[12,5745,13,5755,13,5766,null,null,null,null,0,111,null,null,"CCRF"]
[12,5868,13,5873,13,5885,null,null,null,null,0,111,null,null,"% CCRf"]
[21,5985,11,5991,11,5998,null,null,null,null,0,211,null,null,"average response rate",{"$f":"F18/P20","v":304.33333333333331},{"$f":"(F31-F18)/Q20","v":208.15384615384616},{"$f":"(F43-F31)/R20","v":348.75},{"$f":"(F55-F43)/S20","v":146.41666666666666},{"$f":"(F68-F55)/T20","v":134.61538461538461},{"$f":"(F80-F68)/U20","v":231.83333333333334}]
[12,6094,13,6108,13,6128,null,null,null,null,0,111]
[21,6225,11,6230,11,6241,null,null,null,null,0,211]
[21,6331,11,6339,11,6358,null,null,null,null,0,211]
[21,6460,11,6478,11,6496,null,null,null,null,0,211]
[12,7612,13,7618,24,7620,null,null,null,null,0,112]
[12,8210,13,8216,24,8228,null,null,null,null,0,112]
[12,8662,13,8667,24,8672,null,null,null,null,0,112]
[21,8770,11,8778,11,8793,null,null,null,null,0,211]
[12,9544,13,9562,13,9570,null,null,null,null,0,111]
[12,9910,13,9916,13,9929,null,null,null,null,0,111]
[12,10032,13,10044,13,10054,null,null,null,null,0,111]
[12,10154,13,10158,13,10161,null,null,null,null,0,111]
[12,10274,13,10286,13,10294,null,null,null,null,0,111]
[12,10393,13,10397,13,10429,null,null,null,null,0,111]
[21,10523,11,10531,11,10543,null,null,null,null,0,211]
[12,10703,13,10709,13,10714,null,null,null,null,0,111]
[21,10808,11,10819,11,10829,null,null,null,null,0,211]
[21,10923,11,10932,11,10947,null,null,null,null,0,211]
[21,11045,22,11050,13,11059,null,null,null,null,0,221]
[21,11155,11,11164,11,11176,null,null,null,null,0,211]
[21,11280,11,11290,11,11303,null,null,null,null,0,211]
[12,11620,13,11626,13,11639,null,null,null,null,0,111]
[21,11765,11,11773,11,11777,null,null,null,null,0,211]
[21,11883,11,11893,11,11899,null,null,null,null,0,211]
[21,12050,11,12058,11,12070,null,null,null,null,0,211]
[21,12177,11,12186,11,12192,null,null,null,null,0,211]
[21,12286,11,12294,11,12300,null,null,null,null,0,211]
[12,12393,13,12395,13,12407,null,null,null,null,0,111]
[21,12501,11,12508,11,12513,null,null,null,null,0,211]
[12,12610,13,12614,13,12618,null,null,null,null,0,111]
[12,12720,13,12725,13,12732,null,null,null,null,0,111]
[21,12829,11,12835,11,12853,null,null,null,null,0,211]
[21,12945,11,12952,11,12960,null,null,null,null,0,211]
[12,13325,13,13329,13,13339,null,null,null,null,0,111]
[21,13436,11,13441,11,13446,null,null,null,null,0,211]
[12,13542,13,13547,13,13552,null,null,null,null,0,111]
[12,13661,13,13667,24,13674,null,null,null,null,0,112]
[12,13806,24,13815,13,13826,null,null,null,null,0,121]
[12,13926,13,13931,13,13941,null,null,null,null,0,111]
[12,14040,13,14044,13,14050,null,null,null,null,0,111]
[12,14150,13,14155,13,14164,null,null,null,null,0,111]
[12,14288,13,14310,13,14316,null,null,null,null,0,111]
[12,14421,13,14427,13,14442,null,null,null,null,0,111]
[12,14541,13,14545,13,14555,null,null,null,null,0,111]
[12,14656,13,14660,13,14671,null,null,null,null,0,111]
[12,14771,13,14775,13,14785,null,null,null,null,0,111]
[21,14880,11,14884,11,14889,null,null,null,null,0,211]
[21,14999,11,15006,11,15010,null,null,null,null,0,211]
[21,15120,11,15129,11,15134,null,null,null,null,0,211]
[12,15579,13,15589,13,15604,null,null,null,null,0,111]
[12,16222,13,16228,13,16236,null,null,null,null,0,111]
[12,16822,13,16825,13,16832,null,null,null,null,1,111]

{"sheet":"!N212A0T.AYL","index":14,"n_rows":80,"n_cols":48,"rows_kept":80,"cut":false,"hidden":false,"merged":[[1,1,1,2],[5,13,5,14],[18,13,18,14],[19,13,19,14],[4,19,4,22],[5,19,5,20],[4,39,4,42],[5,39,5,40],[4,44,4,47],[5,44,5,45],[4,24,4,27],[5,24,5,25],[4,29,4,32],[5,29,5,30],[4,34,4,37],[5,34,5,35]]}
["Report for:!N212A0T.AYL"]
["Date:","<date>"]
["Hen:","<hen>",null,null,null,"Correct Sequence",{"$f":"Start!J2","v":211},null,null,null,null,null,null,null,null,"Total Sequences in Data",{"$f":"4994-COUNTBLANK(L7:L5000)","v":74},null,null,null,null,"Total Sequences in Block Data",{"$f":"COUNTA(L7:L18)","v":12},null,null,null,"Total Sequences in Block Data",{"$f":"COUNTA(L19:L31)","v":13},null,null,null,"Total Sequences in Block Data",{"$f":"COUNTA(L32:L43)","v":12},null,null,null,"Total Sequences in Block Data",{"$f":"COUNTA(L44:L55)","v":12},null,null,null,"Total Sequences in Block Data",{"$f":"COUNTA(L56:L68)","v":13},null,null,null,"Total Sequences in Block Data",{"$f":"COUNTA(L69:L80)","v":12}]
[null,null,null,null,null,null,null,null,null,null,null,null,null,null,null,"Total Sequences in Summary",{"$f":"SUM(O7:O14)","v":74},null,null,null,null,"Total Sequences in Block Summary",{"$f":"SUM(U7:U14)","v":12},null,null,null,"Total Sequences in Block Summary",{"$f":"SUM(Z7:Z14)","v":13},null,null,null,"Total Sequences in Block Summary",{"$f":"SUM(AE7:AE14)","v":12},null,null,null,"Total Sequences in Block Summary",{"$f":"SUM(AJ7:AJ14)","v":12},null,null,null,"Total Sequences in Block Summary",{"$f":"SUM(AO7:AO14)","v":13},null,null,null,"Total Sequences in Block Summary",{"$f":"SUM(AT7:AT14)","v":12}]
[null,null,null,null,null,null,null,null,null,null,null,null,null,null,null,null,null,null,null,"Block 1",null,null,null,null,"Block 2",null,null,null,null,"Block 3",null,null,null,null,"Block 4",null,null,null,null,"Block 5",null,null,null,null,"Block 6"]
["Sequence\nComponent\n1","Time\n1","Sequence\nComponent\n2","Time\n2","Sequence\nComponent\n3","Time\n3","Sequence\nComponent\n4","Time\n4","Sequence\nComponent\n5","Time\n5","Correct?\n0=No 1=Yes","Sequence",null,"Frequency",null,"Relative Frequency","Variability",null,null,"Frequency",null,"Relative Frequency","Variability",null,"Frequency",null,"Relative Frequency","Variability",null,"Frequency",null,"Relative Frequency","Variability",null,"Frequency",null,"Relative Frequency","Variability",null,"Frequency",null,"Relative Frequency","Variability",null,"Frequency",null,"Relative Frequency","Variability"]
[12,6,13,13,13,23,null,null,null,null,0,111,null,111,{"$f":"COUNTIF($L$7:$L$500,N7)","v":32},{"$f":"O7/$Q$4","v":0.43243243243243246},{"$f":"IF(P7=0,0,(P7*((LOG(P7))/LOG(2))))","v":-0.52300686081251879},null,null,{"$f":"N7","v":111},{"$f":"COUNTIF(L7:L18,T7)","v":10},{"$f":"U7/(W4-U11)","v":1},{"$f":"IF(V7=0,0,(V7*((LOG(V7))/LOG(2))))","v":0},null,{"$f":"N7","v":111},{"$f":"COUNTIF(L19:L31,Y7)","v":9},{"$f":"Z7/(AB4-Z11)","v":1},{"$f":"IF(AA7=0,0,(AA7*((LOG(AA7))/LOG(2))))","v":0},null,{"$f":"N7","v":111},{"$f":"COUNTIF(L32:L43,AD7)","v":4},{"$f":"AE7/(AG4-AE11)","v":1},{"$f":"IF(AF7=0,0,(AF7*((LOG(AF7))/LOG(2))))","v":0},null,{"$f":"N7","v":111},{"$f":"COUNTIF(L44:L55,AI7)","v":2},{"$f":"AJ7/(AL4-AJ11)","v":0.66666666666666663},{"$f":"IF(AK7=0,0,(AK7*((LOG(AK7))/LOG(2))))","v":-0.38997500048077083},null,{"$f":"N7","v":111},{"$f":"COUNTIF(L56:L68,AN7)","v":4},{"$f":"AO7/(AQ4-AO11)","v":0.8},{"$f":"IF(AP7=0,0,(AP7*((LOG(AP7))/LOG(2))))","v":-0.25754247590988982},null,{"$f":"N7","v":111},{"$f":"COUNTIF(L69:L80,AS7)","v":3},{"$f":"AT7/(AV4-AT11)","v":0.6},{"$f":"IF(AU7=0,0,(AU7*((LOG(AU7))/LOG(2))))","v":-0.44217935649972373}]
[12,123,13,127,13,131,null,null,null,null,0,111,null,112,0,0,0,null,null,112,{"$f":"COUNTIF(L7:L18,T8)","v":0},{"$f":"U8/(W4-U11)","v":0},{"$f":"IF(V8=0,0,(V8*((LOG(V8))/LOG(2))))","v":0},null,112,{"$f":"COUNTIF(L19:L31,Y8)","v":0},{"$f":"Z8/(AB4-Z11)","v":0},{"$f":"IF(AA8=0,0,(AA8*((LOG(AA8))/LOG(2))))","v":0},null,112,{"$f":"COUNTIF(L32:L43,AD8)","v":0},{"$f":"AE8/(AG4-AE11)","v":0},{"$f":"IF(AF8=0,0,(AF8*((LOG(AF8))/LOG(2))))","v":0},null,112,{"$f":"COUNTIF(L44:L55,AI8)","v":0},{"$f":"AJ8/(AL4-AJ11)","v":0},{"$f":"IF(AK8=0,0,(AK8*((LOG(AK8))/LOG(2))))","v":0},null,112,{"$f":"COUNTIF(L56:L68,AN8)","v":0},{"$f":"AO8/(AQ4-AO11)","v":0},{"$f":"IF(AP8=0,0,(AP8*((LOG(AP8))/LOG(2))))","v":0},null,112,{"$f":"COUNTIF(L69:L80,AS8)","v":0},{"$f":"AT8/(AV4-AT11)","v":0},{"$f":"IF(AU8=0,0,(AU8*((LOG(AU8))/LOG(2))))","v":0}]
[21,228,11,234,11,239,null,null,null,null,0,211,null,121,0,0,0,null,null,121,{"$f":"COUNTIF(L7:L18,T9)","v":0},{"$f":"U9/(W4-U11)","v":0},{"$f":"IF(V9=0,0,(V9*((LOG(V9))/LOG(2))))","v":0},null,121,{"$f":"COUNTIF(L19:L31,Y9)","v":0},{"$f":"Z9/(AB4-Z11)","v":0},{"$f":"IF(AA9=0,0,(AA9*((LOG(AA9))/LOG(2))))","v":0},null,121,{"$f":"COUNTIF(L32:L43,AD9)","v":0},{"$f":"AE9/(AG4-AE11)","v":0},{"$f":"IF(AF9=0,0,(AF9*((LOG(AF9))/LOG(2))))","v":0},null,121,{"$f":"COUNTIF(L44:L55,AI9)","v":0},{"$f":"AJ9/(AL4-AJ11)","v":0},{"$f":"IF(AK9=0,0,(AK9*((LOG(AK9))/LOG(2))))","v":0},null,121,{"$f":"COUNTIF(L56:L68,AN9)","v":0},{"$f":"AO9/(AQ4-AO11)","v":0},{"$f":"IF(AP9=0,0,(AP9*((LOG(AP9))/LOG(2))))","v":0},null,121,{"$f":"COUNTIF(L69:L80,AS9)","v":0},{"$f":"AT9/(AV4-AT11)","v":0},{"$f":"IF(AU9=0,0,(AU9*((LOG(AU9))/LOG(2))))","v":0}]
[12,439,13,442,13,448,null,null,null,null,0,111,null,122,0,0,0,null,null,122,{"$f":"COUNTIF(L7:L18,T10)","v":0},{"$f":"U10/(W4-U11)","v":0},{"$f":"IF(V10=0,0,(V10*((LOG(V10))/LOG(2))))","v":0},null,122,{"$f":"COUNTIF(L19:L31,Y10)","v":0},{"$f":"Z10/(AB4-Z11)","v":0},{"$f":"IF(AA10=0,0,(AA10*((LOG(AA10))/LOG(2))))","v":0},null,122,{"$f":"COUNTIF(L32:L43,AD10)","v":0},{"$f":"AE10/(AG4-AE11)","v":0},{"$f":"IF(AF10=0,0,(AF10*((LOG(AF10))/LOG(2))))","v":0},null,122,{"$f":"COUNTIF(L44:L55,AI10)","v":0},{"$f":"AJ10/(AL4-AJ11)","v":0},{"$f":"IF(AK10=0,0,(AK10*((LOG(AK10))/LOG(2))))","v":0},null,122,{"$f":"COUNTIF(L56:L68,AN10)","v":0},{"$f":"AO10/(AQ4-AO11)","v":0},{"$f":"IF(AP10=0,0,(AP10*((LOG(AP10))/LOG(2))))","v":0},null,122,{"$f":"COUNTIF(L69:L80,AS10)","v":0},{"$f":"AT10/(AV4-AT11)","v":0},{"$f":"IF(AU10=0,0,(AU10*((LOG(AU10))/LOG(2))))","v":0}]
[12,551,13,559,13,567,null,null,null,null,0,111,null,211,38,0.51351351351351349,-0.49375651868978165,null,null,211,{"$f":"COUNTIF(L7:L18,T11)","v":2},null,null,null,211,{"$f":"COUNTIF(L19:L31,Y11)","v":4},null,null,null,211,{"$f":"COUNTIF(L32:L43,AD11)","v":8},null,null,null,211,{"$f":"COUNTIF(L44:L55,AI11)","v":9},null,null,null,211,{"$f":"COUNTIF(L56:L68,AN11)","v":8},null,null,null,211,{"$f":"COUNTIF(L69:L80,AS11)","v":7}]
[12,667,13,673,13,679,null,null,null,null,0,111,null,212,0,0,0,null,null,212,{"$f":"COUNTIF(L7:L18,T12)","v":0},{"$f":"U12/(W4-U11)","v":0},{"$f":"IF(V12=0,0,(V12*((LOG(V12))/LOG(2))))","v":0},null,212,{"$f":"COUNTIF(L19:L31,Y12)","v":0},{"$f":"Z12/(AB4-Z11)","v":0},{"$f":"IF(AA12=0,0,(AA12*((LOG(AA12))/LOG(2))))","v":0},null,212,{"$f":"COUNTIF(L32:L43,AD12)","v":0},{"$f":"AE12/(AG4-AE11)","v":0},{"$f":"IF(AF12=0,0,(AF12*((LOG(AF12))/LOG(2))))","v":0},null,212,{"$f":"COUNTIF(L44:L55,AI12)","v":0},{"$f":"AJ12/(AL4-AJ11)","v":0},{"$f":"IF(AK12=0,0,(AK12*((LOG(AK12))/LOG(2))))","v":0},null,212,{"$f":"COUNTIF(L56:L68,AN12)","v":0},{"$f":"AO12/(AQ4-AO11)","v":0},{"$f":"IF(AP12=0,0,(AP12*((LOG(AP12))/LOG(2))))","v":0},null,212,{"$f":"COUNTIF(L69:L80,AS12)","v":0},{"$f":"AT12/(AV4-AT11)","v":0},{"$f":"IF(AU12=0,0,(AU12*((LOG(AU12))/LOG(2))))","v":0}]
[12,782,13,792,13,801,null,null,null,null,0,111,null,221,4,5.4054054054054057E-2,-0.22753801976372701,null,null,221,{"$f":"COUNTIF(L7:L18,T13)","v":0},{"$f":"U13/(W4-U11)","v":0},{"$f":"IF(V13=0,0,(V13*((LOG(V13))/LOG(2))))","v":0},null,221,{"$f":"COUNTIF(L19:L31,Y13)","v":0},{"$f":"Z13/(AB4-Z11)","v":0},{"$f":"IF(AA13=0,0,(AA13*((LOG(AA13))/LOG(2))))","v":0},null,221,{"$f":"COUNTIF(L32:L43,AD13)","v":0},{"$f":"AE13/(AG4-AE11)","v":0},{"$f":"IF(AF13=0,0,(AF13*((LOG(AF13))/LOG(2))))","v":0},null,221,{"$f":"COUNTIF(L44:L55,AI13)","v":1},{"$f":"AJ13/(AL4-AJ11)","v":0.33333333333333331},{"$f":"IF(AK13=0,0,(AK13*((LOG(AK13))/LOG(2))))","v":-0.52832083357371862},null,221,{"$f":"COUNTIF(L56:L68,AN13)","v":1},{"$f":"AO13/(AQ4-AO11)","v":0.2},{"$f":"IF(AP13=0,0,(AP13*((LOG(AP13))/LOG(2))))","v":-0.46438561897747244},null,221,{"$f":"COUNTIF(L69:L80,AS13)","v":2},{"$f":"AT13/(AV4-AT11)","v":0.4},{"$f":"IF(AU13=0,0,(AU13*((LOG(AU13))/LOG(2))))","v":-0.52877123795494496}]
[12,903,13,907,13,917,null,null,null,null,0,111,null,222,0,0,0,null,null,222,{"$f":"COUNTIF(L7:L18,T14)","v":0},{"$f":"U14/(W4-U11)","v":0},{"$f":"IF(V14=0,0,(V14*((LOG(V14))/LOG(2))))","v":0},null,222,{"$f":"COUNTIF(L19:L31,Y14)","v":0},{"$f":"Z14/(AB4-Z11)","v":0},{"$f":"IF(AA14=0,0,(AA14*((LOG(AA14))/LOG(2))))","v":0},null,222,{"$f":"COUNTIF(L32:L43,AD14)","v":0},{"$f":"AE14/(AG4-AE11)","v":0},{"$f":"IF(AF14=0,0,(AF14*((LOG(AF14))/LOG(2))))","v":0},null,222,{"$f":"COUNTIF(L44:L55,AI14)","v":0},{"$f":"AJ14/(AL4-AJ11)","v":0},{"$f":"IF(AK14=0,0,(AK14*((LOG(AK14))/LOG(2))))","v":0},null,222,{"$f":"COUNTIF(L56:L68,AN14)","v":0},{"$f":"AO14/(AQ4-AO11)","v":0},{"$f":"IF(AP14=0,0,(AP14*((LOG(AP14))/LOG(2))))","v":0},null,222,{"$f":"COUNTIF(L69:L80,AS14)","v":0},{"$f":"AT14/(AV4-AT11)","v":0},{"$f":"IF(AU14=0,0,(AU14*((LOG(AU14))/LOG(2))))","v":0}]
[21,1011,11,1017,11,1022,null,null,null,null,0,211,null,null,null,{"$f":"SUM(P7:P14)","v":1},{"$f":"-SUM(Q7:Q14)","v":1.2443013992660275},null,null,null,null,{"$f":"SUM(V7:V14)","v":1},{"$f":"-SUM(W7:W14)","v":0},null,null,null,{"$f":"SUM(AA7:AA14)","v":1},{"$f":"-SUM(AB7:AB14)","v":0},null,null,null,{"$f":"SUM(AF7:AF14)","v":1},{"$f":"-SUM(AG7:AG14)","v":0},null,null,null,{"$f":"SUM(AK7:AK14)","v":1},{"$f":"-SUM(AL7:AL14)","v":0.91829583405448945},null,null,null,{"$f":"SUM(AP7:AP14)","v":1},{"$f":"-SUM(AQ7:AQ14)","v":0.72192809488736231},null,null,null,{"$f":"SUM(AU7:AU14)","v":1},{"$f":"-SUM(AV7:AV14)","v":0.97095059445466869}]
[12,1118,13,1125,13,1135,null,null,null,null,0,111,null,null,null,"U=",{"$f":"Q15/(LOG(Q4)/LOG(2))","v":0.20038823484102183},null,null,null,null,"U1=",{"$f":"W15/(LOG(W4)/LOG(2))","v":0},null,null,null,"U2=",{"$f":"AB15/(LOG(AB4)/LOG(2))","v":0},null,null,null,"U3=",{"$f":"AG15/(LOG(AG4)/LOG(2))","v":0},null,null,null,"U4=",{"$f":"AL15/(LOG(AL4)/LOG(2))","v":0.2561521449303204},null,null,null,"U5=",{"$f":"AQ15/(LOG(AQ4)/LOG(2))","v":0.19509251599159175},null,null,null,"U6=",{"$f":"AV15/(LOG(AV4)/LOG(2))","v":0.27083981889890085}]
[12,1232,13,1236,13,1247,null,null,null,null,0,111]
[12,1347,13,1351,13,1357,null,null,null,null,0,111]
[12,1455,13,1459,13,1463,null,null,null,null,0,111,null,"Total Target Seq"]
[12,1561,13,1568,13,1574,null,null,null,null,0,111,null,{"$f":"COUNTIF(L7:L80,G3)","v":38},null,12,13,12,12,13,12]
[12,1674,13,1677,13,1681,null,null,null,null,0,111,null,null,null,"% of reinforcement given in 6 equal intervals based on number of trials "]
[12,1784,13,1790,13,1801,null,null,null,null,0,111,null,null,null,"%_1","%_2","%_3","%_4","%_5","%_6"]
[12,1902,13,1910,13,1918,null,null,null,null,0,111,null,null,"target sequence",{"$f":"$G$3","v":211},211,211,211,211,211]
[12,2019,13,2023,13,2029,null,null,null,null,0,111,null,null,"total reinforcement",{"$f":"U11","v":2},{"$f":"Z11","v":4},{"$f":"AE11","v":8},{"$f":"AJ11","v":9},{"$f":"AO11","v":8},{"$f":"AT11","v":7}]
[21,2123,11,2130,11,2140,null,null,null,null,0,211,null,null,"% target"]
[12,2236,13,2240,13,2249,null,null,null,null,0,111,null,null,"CCRF"]
[21,2346,11,2351,11,2356,null,null,null,null,0,211,null,null,"% CCRf"]
[21,2447,11,2453,11,2461,null,null,null,null,0,211,null,null,"average response rate",{"$f":"F18/P20","v":113.08333333333333},{"$f":"(F31-F18)/Q20","v":109.76923076923077},{"$f":"(F43-F31)/R20","v":108.5},{"$f":"(F55-F43)/S20","v":118},{"$f":"(F68-F55)/T20","v":109.46153846153847},{"$f":"(F80-F68)/U20","v":105.5}]
[12,2555,13,2560,13,2569,null,null,null,null,0,111]
[21,2661,11,2668,11,2671,null,null,null,null,0,211]
[12,2768,13,2773,13,2784,null,null,null,null,0,111]
[21,2881,11,2887,11,2891,null,null,null,null,0,211]
[21,2980,11,2989,11,2994,null,null,null,null,0,211]
[21,3086,11,3094,11,3101,null,null,null,null,0,211]
[21,3189,11,3194,11,3199,null,null,null,null,0,211]
[21,3290,11,3296,11,3310,null,null,null,null,0,211]
[12,3405,13,3411,13,3420,null,null,null,null,0,111]
[12,3538,13,3541,13,3546,null,null,null,null,0,111]
[21,3642,11,3648,11,3654,null,null,null,null,0,211]
[12,3750,13,3754,13,3757,null,null,null,null,0,111]
[21,3855,11,3865,11,3873,null,null,null,null,0,211]
[21,3964,11,3971,11,3977,null,null,null,null,0,211]
[12,4071,13,4075,13,4086,null,null,null,null,0,111]
[21,4182,11,4190,11,4195,null,null,null,null,0,211]
[21,4284,11,4290,11,4296,null,null,null,null,0,211]
[21,4387,11,4393,11,4403,null,null,null,null,0,211]
[21,4493,11,4499,11,4504,null,null,null,null,0,211]
[21,4595,11,4604,11,4610,null,null,null,null,0,211]
[21,4699,11,4706,11,4717,null,null,null,null,0,211]
[21,4833,22,4838,13,4845,null,null,null,null,0,221]
[21,4942,11,4950,11,4960,null,null,null,null,0,211]
[12,5055,13,5061,13,5070,null,null,null,null,0,111]
[21,5266,11,5276,11,5282,null,null,null,null,0,211]
[12,5379,13,5383,13,5386,null,null,null,null,0,111]
[21,5484,11,5491,11,5502,null,null,null,null,0,211]
[21,5592,11,5599,11,5607,null,null,null,null,0,211]
[21,5700,11,5708,11,5718,null,null,null,null,0,211]
[12,5813,13,5816,13,5828,null,null,null,null,0,111]
[12,5929,13,5934,13,5944,null,null,null,null,0,111]
[21,6039,11,6048,11,6052,null,null,null,null,0,211]
[21,6143,11,6153,11,6163,null,null,null,null,0,211]
[21,6254,22,6255,13,6268,null,null,null,null,0,221]
[21,6366,11,6374,11,6379,null,null,null,null,0,211]
[21,6470,11,6478,11,6486,null,null,null,null,0,211]
[21,6577,11,6585,11,6594,null,null,null,null,0,211]
[21,6686,11,6694,11,6709,null,null,null,null,0,211]
[12,6805,13,6811,13,6816,null,null,null,null,0,111]
[12,6918,13,6921,13,6925,null,null,null,null,0,111]
[21,7019,11,7027,11,7033,null,null,null,null,0,211]
[21,7122,11,7129,11,7133,null,null,null,null,0,211]
[21,7222,11,7229,11,7235,null,null,null,null,0,211]
[21,7324,11,7329,11,7332,null,null,null,null,0,211]
[21,7423,11,7432,11,7437,null,null,null,null,0,211]
[12,7528,13,7531,13,7535,null,null,null,null,0,111]
[12,7634,13,7637,13,7641,null,null,null,null,0,111]
[21,7735,22,7738,13,7744,null,null,null,null,0,221]
[21,7840,11,7848,11,7852,null,null,null,null,0,211]
[21,7957,22,7962,13,7971,null,null,null,null,0,221]
[12,8070,13,8074,13,8081,null,null,null,null,0,111]
[21,8179,11,8186,11,8191,null,null,null,null,1,211]

{"sheet":"!N213A3T.AYL","index":15,"n_rows":61,"n_cols":48,"rows_kept":61,"cut":false,"hidden":false,"merged":[[1,1,1,2],[5,13,5,14],[18,13,18,14],[19,13,19,14],[4,19,4,22],[5,19,5,20],[4,39,4,42],[5,39,5,40],[4,44,4,47],[5,44,5,45],[4,24,4,27],[5,24,5,25],[4,29,4,32],[5,29,5,30],[4,34,4,37],[5,34,5,35]]}
["Report for:!N213A3T.AYL"]
["Date:","<date>"]
["Hen:","<hen>",null,null,null,"Correct Sequence",{"$f":"Start!J2","v":211},null,null,null,null,null,null,null,null,"Total Sequences in Data",{"$f":"4994-COUNTBLANK(L7:L5000)","v":55},null,null,null,null,"Total Sequences in Block Data",{"$f":"COUNTA(L7:L15)","v":9},null,null,null,"Total Sequences in Block Data",{"$f":"COUNTA(L16:L24)","v":9},null,null,null,"Total Sequences in Block Data",{"$f":"COUNTA(L25:L34)","v":10},null,null,null,"Total Sequences in Block Data",{"$f":"COUNTA(L35:L43)","v":9},null,null,null,"Total Sequences in Block Data",{"$f":"COUNTA(L44:L52)","v":9},null,null,null,"Total Sequences in Block Data",{"$f":"COUNTA(L53:L61)","v":9}]
[null,null,null,null,null,null,null,null,null,null,null,null,null,null,null,"Total Sequences in Summary",{"$f":"SUM(O7:O14)","v":55},null,null,null,null,"Total Sequences in Block Summary",{"$f":"SUM(U7:U14)","v":9},null,null,null,"Total Sequences in Block Summary",{"$f":"SUM(Z7:Z14)","v":9},null,null,null,"Total Sequences in Block Summary",{"$f":"SUM(AE7:AE14)","v":10},null,null,null,"Total Sequences in Block Summary",{"$f":"SUM(AJ7:AJ14)","v":9},null,null,null,"Total Sequences in Block Summary",{"$f":"SUM(AO7:AO14)","v":9},null,null,null,"Total Sequences in Block Summary",{"$f":"SUM(AT7:AT14)","v":9}]
[null,null,null,null,null,null,null,null,null,null,null,null,null,null,null,null,null,null,null,"Block 1",null,null,null,null,"Block 2",null,null,null,null,"Block 3",null,null,null,null,"Block 4",null,null,null,null,"Block 5",null,null,null,null,"Block 6"]
["Sequence\nComponent\n1","Time\n1","Sequence\nComponent\n2","Time\n2","Sequence\nComponent\n3","Time\n3","Sequence\nComponent\n4","Time\n4","Sequence\nComponent\n5","Time\n5","Correct?\n0=No 1=Yes","Sequence",null,"Frequency",null,"Relative Frequency","Variability",null,null,"Frequency",null,"Relative Frequency","Variability",null,"Frequency",null,"Relative Frequency","Variability",null,"Frequency",null,"Relative Frequency","Variability",null,"Frequency",null,"Relative Frequency","Variability",null,"Frequency",null,"Relative Frequency","Variability",null,"Frequency",null,"Relative Frequency","Variability"]
[12,82,24,95,13,105,null,null,null,null,0,121,null,111,{"$f":"COUNTIF($L$7:$L$500,N7)","v":11},{"$f":"O7/$Q$4","v":0.2},{"$f":"IF(P7=0,0,(P7*((LOG(P7))/LOG(2))))","v":-0.46438561897747244},null,null,{"$f":"N7","v":111},{"$f":"COUNTIF(L7:L15,T7)","v":3},{"$f":"U7/(W4-U11)","v":0.42857142857142855},{"$f":"IF(V7=0,0,(V7*((LOG(V7))/LOG(2))))","v":-0.52388246628704915},null,{"$f":"N7","v":111},{"$f":"COUNTIF(L16:L24,Y7)","v":1},{"$f":"Z7/(AB4-Z11)","v":0.5},{"$f":"IF(AA7=0,0,(AA7*((LOG(AA7))/LOG(2))))","v":-0.5},null,{"$f":"N7","v":111},{"$f":"COUNTIF(L25:L34,AD7)","v":3},{"$f":"AE7/(AG4-AE11)","v":0.75},{"$f":"IF(AF7=0,0,(AF7*((LOG(AF7))/LOG(2))))","v":-0.31127812445913283},null,{"$f":"N7","v":111},{"$f":"COUNTIF(L35:L43,AI7)","v":0},{"$f":"AJ7/(AL4-AJ11)","v":0},{"$f":"IF(AK7=0,0,(AK7*((LOG(AK7))/LOG(2))))","v":0},null,{"$f":"N7","v":111},{"$f":"COUNTIF(L44:L52,AN7)","v":4},{"$f":"AO7/(AQ4-AO11)","v":1},{"$f":"IF(AP7=0,0,(AP7*((LOG(AP7))/LOG(2))))","v":0},null,{"$f":"N7","v":111},{"$f":"COUNTIF(L53:L61,AS7)","v":0},{"$f":"AT7/(AV4-AT11)","v":0},{"$f":"IF(AU7=0,0,(AU7*((LOG(AU7))/LOG(2))))","v":0}]
[12,211,13,220,24,234,null,null,null,null,0,112,null,112,2,3.6363636363636362E-2,-0.17386762594635127,null,null,112,{"$f":"COUNTIF(L7:L15,T8)","v":2},{"$f":"U8/(W4-U11)","v":0.2857142857142857},{"$f":"IF(V8=0,0,(V8*((LOG(V8))/LOG(2))))","v":-0.51638712058788683},null,112,{"$f":"COUNTIF(L16:L24,Y8)","v":0},{"$f":"Z8/(AB4-Z11)","v":0},{"$f":"IF(AA8=0,0,(AA8*((LOG(AA8))/LOG(2))))","v":0},null,112,{"$f":"COUNTIF(L25:L34,AD8)","v":0},{"$f":"AE8/(AG4-AE11)","v":0},{"$f":"IF(AF8=0,0,(AF8*((LOG(AF8))/LOG(2))))","v":0},null,112,{"$f":"COUNTIF(L35:L43,AI8)","v":0},{"$f":"AJ8/(AL4-AJ11)","v":0},{"$f":"IF(AK8=0,0,(AK8*((LOG(AK8))/LOG(2))))","v":0},null,112,{"$f":"COUNTIF(L44:L52,AN8)","v":0},{"$f":"AO8/(AQ4-AO11)","v":0},{"$f":"IF(AP8=0,0,(AP8*((LOG(AP8))/LOG(2))))","v":0},null,112,{"$f":"COUNTIF(L53:L61,AS8)","v":0},{"$f":"AT8/(AV4-AT11)","v":0},{"$f":"IF(AU8=0,0,(AU8*((LOG(AU8))/LOG(2))))","v":0}]
[12,350,13,359,24,373,null,null,null,null,0,112,null,121,1,1.8181818181818181E-2,-0.10511563115499381,null,null,121,{"$f":"COUNTIF(L7:L15,T9)","v":1},{"$f":"U9/(W4-U11)","v":0.14285714285714285},{"$f":"IF(V9=0,0,(V9*((LOG(V9))/LOG(2))))","v":-0.40105070315108626},null,121,{"$f":"COUNTIF(L16:L24,Y9)","v":0},{"$f":"Z9/(AB4-Z11)","v":0},{"$f":"IF(AA9=0,0,(AA9*((LOG(AA9))/LOG(2))))","v":0},null,121,{"$f":"COUNTIF(L25:L34,AD9)","v":0},{"$f":"AE9/(AG4-AE11)","v":0},{"$f":"IF(AF9=0,0,(AF9*((LOG(AF9))/LOG(2))))","v":0},null,121,{"$f":"COUNTIF(L35:L43,AI9)","v":0},{"$f":"AJ9/(AL4-AJ11)","v":0},{"$f":"IF(AK9=0,0,(AK9*((LOG(AK9))/LOG(2))))","v":0},null,121,{"$f":"COUNTIF(L44:L52,AN9)","v":0},{"$f":"AO9/(AQ4-AO11)","v":0},{"$f":"IF(AP9=0,0,(AP9*((LOG(AP9))/LOG(2))))","v":0},null,121,{"$f":"COUNTIF(L53:L61,AS9)","v":0},{"$f":"AT9/(AV4-AT11)","v":0},{"$f":"IF(AU9=0,0,(AU9*((LOG(AU9))/LOG(2))))","v":0}]
[12,510,24,517,24,528,null,null,null,null,0,122,null,122,1,1.8181818181818181E-2,-0.10511563115499381,null,null,122,{"$f":"COUNTIF(L7:L15,T10)","v":1},{"$f":"U10/(W4-U11)","v":0.14285714285714285},{"$f":"IF(V10=0,0,(V10*((LOG(V10))/LOG(2))))","v":-0.40105070315108626},null,122,{"$f":"COUNTIF(L16:L24,Y10)","v":0},{"$f":"Z10/(AB4-Z11)","v":0},{"$f":"IF(AA10=0,0,(AA10*((LOG(AA10))/LOG(2))))","v":0},null,122,{"$f":"COUNTIF(L25:L34,AD10)","v":0},{"$f":"AE10/(AG4-AE11)","v":0},{"$f":"IF(AF10=0,0,(AF10*((LOG(AF10))/LOG(2))))","v":0},null,122,{"$f":"COUNTIF(L35:L43,AI10)","v":0},{"$f":"AJ10/(AL4-AJ11)","v":0},{"$f":"IF(AK10=0,0,(AK10*((LOG(AK10))/LOG(2))))","v":0},null,122,{"$f":"COUNTIF(L44:L52,AN10)","v":0},{"$f":"AO10/(AQ4-AO11)","v":0},{"$f":"IF(AP10=0,0,(AP10*((LOG(AP10))/LOG(2))))","v":0},null,122,{"$f":"COUNTIF(L53:L61,AS10)","v":0},{"$f":"AT10/(AV4-AT11)","v":0},{"$f":"IF(AU10=0,0,(AU10*((LOG(AU10))/LOG(2))))","v":0}]
[12,690,13,693,13,697,null,null,null,null,0,111,null,211,36,0.65454545454545454,-0.40021181154480912,null,null,211,{"$f":"COUNTIF(L7:L15,T11)","v":2},null,null,null,211,{"$f":"COUNTIF(L16:L24,Y11)","v":7},null,null,null,211,{"$f":"COUNTIF(L25:L34,AD11)","v":6},null,null,null,211,{"$f":"COUNTIF(L35:L43,AI11)","v":8},null,null,null,211,{"$f":"COUNTIF(L44:L52,AN11)","v":5},null,null,null,211,{"$f":"COUNTIF(L53:L61,AS11)","v":8}]
[12,797,13,801,13,807,null,null,null,null,0,111,null,212,0,0,0,null,null,212,{"$f":"COUNTIF(L7:L15,T12)","v":0},{"$f":"U12/(W4-U11)","v":0},{"$f":"IF(V12=0,0,(V12*((LOG(V12))/LOG(2))))","v":0},null,212,{"$f":"COUNTIF(L16:L24,Y12)","v":0},{"$f":"Z12/(AB4-Z11)","v":0},{"$f":"IF(AA12=0,0,(AA12*((LOG(AA12))/LOG(2))))","v":0},null,212,{"$f":"COUNTIF(L25:L34,AD12)","v":0},{"$f":"AE12/(AG4-AE11)","v":0},{"$f":"IF(AF12=0,0,(AF12*((LOG(AF12))/LOG(2))))","v":0},null,212,{"$f":"COUNTIF(L35:L43,AI12)","v":0},{"$f":"AJ12/(AL4-AJ11)","v":0},{"$f":"IF(AK12=0,0,(AK12*((LOG(AK12))/LOG(2))))","v":0},null,212,{"$f":"COUNTIF(L44:L52,AN12)","v":0},{"$f":"AO12/(AQ4-AO11)","v":0},{"$f":"IF(AP12=0,0,(AP12*((LOG(AP12))/LOG(2))))","v":0},null,212,{"$f":"COUNTIF(L53:L61,AS12)","v":0},{"$f":"AT12/(AV4-AT11)","v":0},{"$f":"IF(AU12=0,0,(AU12*((LOG(AU12))/LOG(2))))","v":0}]
[12,908,13,912,13,915,null,null,null,null,0,111,null,221,4,7.2727272727272724E-2,-0.27500797916542979,null,null,221,{"$f":"COUNTIF(L7:L15,T13)","v":0},{"$f":"U13/(W4-U11)","v":0},{"$f":"IF(V13=0,0,(V13*((LOG(V13))/LOG(2))))","v":0},null,221,{"$f":"COUNTIF(L16:L24,Y13)","v":1},{"$f":"Z13/(AB4-Z11)","v":0.5},{"$f":"IF(AA13=0,0,(AA13*((LOG(AA13))/LOG(2))))","v":-0.5},null,221,{"$f":"COUNTIF(L25:L34,AD13)","v":1},{"$f":"AE13/(AG4-AE11)","v":0.25},{"$f":"IF(AF13=0,0,(AF13*((LOG(AF13))/LOG(2))))","v":-0.5},null,221,{"$f":"COUNTIF(L35:L43,AI13)","v":1},{"$f":"AJ13/(AL4-AJ11)","v":1},{"$f":"IF(AK13=0,0,(AK13*((LOG(AK13))/LOG(2))))","v":0},null,221,{"$f":"COUNTIF(L44:L52,AN13)","v":0},{"$f":"AO13/(AQ4-AO11)","v":0},{"$f":"IF(AP13=0,0,(AP13*((LOG(AP13))/LOG(2))))","v":0},null,221,{"$f":"COUNTIF(L53:L61,AS13)","v":1},{"$f":"AT13/(AV4-AT11)","v":1},{"$f":"IF(AU13=0,0,(AU13*((LOG(AU13))/LOG(2))))","v":0}]
[21,1013,11,1019,11,1028,null,null,null,null,0,211,null,222,0,0,0,null,null,222,{"$f":"COUNTIF(L7:L15,T14)","v":0},{"$f":"U14/(W4-U11)","v":0},{"$f":"IF(V14=0,0,(V14*((LOG(V14))/LOG(2))))","v":0},null,222,{"$f":"COUNTIF(L16:L24,Y14)","v":0},{"$f":"Z14/(AB4-Z11)","v":0},{"$f":"IF(AA14=0,0,(AA14*((LOG(AA14))/LOG(2))))","v":0},null,222,{"$f":"COUNTIF(L25:L34,AD14)","v":0},{"$f":"AE14/(AG4-AE11)","v":0},{"$f":"IF(AF14=0,0,(AF14*((LOG(AF14))/LOG(2))))","v":0},null,222,{"$f":"COUNTIF(L35:L43,AI14)","v":0},{"$f":"AJ14/(AL4-AJ11)","v":0},{"$f":"IF(AK14=0,0,(AK14*((LOG(AK14))/LOG(2))))","v":0},null,222,{"$f":"COUNTIF(L44:L52,AN14)","v":0},{"$f":"AO14/(AQ4-AO11)","v":0},{"$f":"IF(AP14=0,0,(AP14*((LOG(AP14))/LOG(2))))","v":0},null,222,{"$f":"COUNTIF(L53:L61,AS14)","v":0},{"$f":"AT14/(AV4-AT11)","v":0},{"$f":"IF(AU14=0,0,(AU14*((LOG(AU14))/LOG(2))))","v":0}]
[21,1125,11,1133,11,1139,null,null,null,null,0,211,null,null,null,{"$f":"SUM(P7:P14)","v":1},{"$f":"-SUM(Q7:Q14)","v":1.5237042979440503},null,null,null,null,{"$f":"SUM(V7:V14)","v":0.99999999999999978},{"$f":"-SUM(W7:W14)","v":1.8423709931771088},null,null,null,{"$f":"SUM(AA7:AA14)","v":1},{"$f":"-SUM(AB7:AB14)","v":1},null,null,null,{"$f":"SUM(AF7:AF14)","v":1},{"$f":"-SUM(AG7:AG14)","v":0.81127812445913283},null,null,null,{"$f":"SUM(AK7:AK14)","v":1},{"$f":"-SUM(AL7:AL14)","v":0},null,null,null,{"$f":"SUM(AP7:AP14)","v":1},{"$f":"-SUM(AQ7:AQ14)","v":0},null,null,null,{"$f":"SUM(AU7:AU14)","v":1},{"$f":"-SUM(AV7:AV14)","v":0}]
[21,1324,11,1333,11,1340,null,null,null,null,0,211,null,null,null,"U=",{"$f":"Q15/(LOG(Q4)/LOG(2))","v":0.26355466074521589},null,null,null,null,"U1=",{"$f":"W15/(LOG(W4)/LOG(2))","v":0.58120333835621729},null,null,null,"U2=",{"$f":"AB15/(LOG(AB4)/LOG(2))","v":0.31546487678572877},null,null,null,"U3=",{"$f":"AG15/(LOG(AG4)/LOG(2))","v":0.24421905028821556},null,null,null,"U4=",{"$f":"AL15/(LOG(AL4)/LOG(2))","v":0},null,null,null,"U5=",{"$f":"AQ15/(LOG(AQ4)/LOG(2))","v":0},null,null,null,"U6=",{"$f":"AV15/(LOG(AV4)/LOG(2))","v":0}]
[21,1434,11,1444,11,1446,null,null,null,null,0,211]
[21,1551,22,1554,13,1571,null,null,null,null,0,221]
[12,1669,13,1673,13,1677,null,null,null,null,0,111,null,"Total Target Seq"]
[21,1771,11,1778,11,1784,null,null,null,null,0,211,null,{"$f":"COUNTIF(L7:L61,G3)","v":36},null,9,9,10,9,9,9]
[21,1899,11,1907,11,1910,null,null,null,null,0,211,null,null,null,"% of reinforcement given in 6 equal intervals based on number of trials "]
[21,2049,11,2059,11,2065,null,null,null,null,0,211,null,null,null,"%_1","%_2","%_3","%_4","%_5","%_6"]
[21,2155,11,2162,11,2167,null,null,null,null,0,211,null,null,"target sequence",{"$f":"$G$3","v":211},211,211,211,211,211]
[21,2261,11,2272,11,2278,null,null,null,null,0,211,null,null,"total reinforcement",{"$f":"U11","v":2},{"$f":"Z11","v":7},{"$f":"AE11","v":6},{"$f":"AJ11","v":8},{"$f":"AO11","v":5},{"$f":"AT11","v":8}]
[21,2370,11,2379,11,2384,null,null,null,null,0,211,null,null,"% target"]
[12,2484,13,2489,13,2498,null,null,null,null,0,111,null,null,"CCRF"]
[12,2604,13,2625,13,2643,null,null,null,null,0,111,null,null,"% CCRf"]
[21,2739,11,2746,11,2753,null,null,null,null,0,211,null,null,"average response rate",{"$f":"F15/P20","v":126.55555555555556},{"$f":"(F24-F15)/Q20","v":126.55555555555556},{"$f":"(F34-F24)/R20","v":110.4},{"$f":"(F43-F34)/S20","v":147},{"$f":"(F52-F43)/T20","v":374.22222222222223},{"$f":"(F61-F52)/U20","v":141.33333333333334}]
[12,2850,13,2855,13,2861,null,null,null,null,0,111]
[21,2955,22,2957,13,2964,null,null,null,null,0,221]
[21,3061,11,3068,11,3073,null,null,null,null,0,211]
[21,3163,11,3171,11,3175,null,null,null,null,0,211]
[21,3263,11,3271,11,3276,null,null,null,null,0,211]
[21,3371,11,3380,11,3382,null,null,null,null,0,211]
[21,3500,11,3510,11,3516,null,null,null,null,0,211]
[21,3651,11,3661,11,3666,null,null,null,null,0,211]
[21,3759,22,3760,13,3769,null,null,null,null,0,221]
[21,3867,11,3874,11,3882,null,null,null,null,0,211]
[21,3975,11,3986,11,3994,null,null,null,null,0,211]
[21,4088,11,4109,11,4123,null,null,null,null,0,211]
[21,4261,11,4277,11,4284,null,null,null,null,0,211]
[21,4376,11,4386,11,4391,null,null,null,null,0,211]
[21,4689,11,4701,11,4705,null,null,null,null,0,211]
[21,4980,11,4990,11,4996,null,null,null,null,0,211]
[12,6128,13,6133,13,6139,null,null,null,null,0,111]
[21,6233,11,6241,11,6248,null,null,null,null,0,211]
[12,6839,13,6845,13,6853,null,null,null,null,0,111]
[12,7236,13,7243,13,7249,null,null,null,null,0,111]
[12,7351,13,7356,13,7367,null,null,null,null,0,111]
[21,7464,11,7470,11,7476,null,null,null,null,0,211]
[21,7878,11,7891,11,7896,null,null,null,null,0,211]
[21,8059,11,8068,11,8073,null,null,null,null,0,211]
[21,8164,11,8174,11,8196,null,null,null,null,0,211]
[21,8314,11,8324,11,8331,null,null,null,null,0,211]
[21,8525,11,8535,11,8551,null,null,null,null,0,211]
[21,8648,11,8656,11,8662,null,null,null,null,0,211]
[21,8842,22,8848,13,8857,null,null,null,null,0,221]
[21,8953,11,8960,11,8968,null,null,null,null,0,211]
[21,9062,11,9078,11,9090,null,null,null,null,0,211]
[21,9183,11,9192,11,9197,null,null,null,null,0,211]
[21,9327,11,9337,11,9345,null,null,null,null,1,211]

{"sheet":"!N21491T.AYL","index":16,"n_rows":64,"n_cols":48,"rows_kept":64,"cut":false,"hidden":false,"merged":[[1,1,1,2],[5,13,5,14],[18,13,18,14],[19,13,19,14],[4,19,4,22],[5,19,5,20],[4,39,4,42],[5,39,5,40],[4,44,4,47],[5,44,5,45],[4,24,4,27],[5,24,5,25],[4,29,4,32],[5,29,5,30],[4,34,4,37],[5,34,5,35]]}
["Report for:!N21491T.AYL"]
["Date:","<date>"]
["Hen:","<hen>",null,null,null,"Correct Sequence",{"$f":"Start!J2","v":211},null,null,null,null,null,null,null,null,"Total Sequences in Data",{"$f":"4994-COUNTBLANK(L7:L5000)","v":58},null,null,null,null,"Total Sequences in Block Data",{"$f":"COUNTA(L7:L16)","v":10},null,null,null,"Total Sequences in Block Data",{"$f":"COUNTA(L17:L25)","v":9},null,null,null,"Total Sequences in Block Data",{"$f":"COUNTA(L26:L35)","v":10},null,null,null,"Total Sequences in Block Data",{"$f":"COUNTA(L36:L45)","v":10},null,null,null,"Total Sequences in Block Data",{"$f":"COUNTA(L46:L54)","v":9},null,null,null,"Total Sequences in Block Data",{"$f":"COUNTA(L55:L64)","v":10}]
[null,null,null,null,null,null,null,null,null,null,null,null,null,null,null,"Total Sequences in Summary",{"$f":"SUM(O7:O14)","v":58},null,null,null,null,"Total Sequences in Block Summary",{"$f":"SUM(U7:U14)","v":10},null,null,null,"Total Sequences in Block Summary",{"$f":"SUM(Z7:Z14)","v":9},null,null,null,"Total Sequences in Block Summary",{"$f":"SUM(AE7:AE14)","v":10},null,null,null,"Total Sequences in Block Summary",{"$f":"SUM(AJ7:AJ14)","v":10},null,null,null,"Total Sequences in Block Summary",{"$f":"SUM(AO7:AO14)","v":9},null,null,null,"Total Sequences in Block Summary",{"$f":"SUM(AT7:AT14)","v":10}]
[null,null,null,null,null,null,null,null,null,null,null,null,null,null,null,null,null,null,null,"Block 1",null,null,null,null,"Block 2",null,null,null,null,"Block 3",null,null,null,null,"Block 4",null,null,null,null,"Block 5",null,null,null,null,"Block 6"]
["Sequence\nComponent\n1","Time\n1","Sequence\nComponent\n2","Time\n2","Sequence\nComponent\n3","Time\n3","Sequence\nComponent\n4","Time\n4","Sequence\nComponent\n5","Time\n5","Correct?\n0=No 1=Yes","Sequence",null,"Frequency",null,"Relative Frequency","Variability",null,null,"Frequency",null,"Relative Frequency","Variability",null,"Frequency",null,"Relative Frequency","Variability",null,"Frequency",null,"Relative Frequency","Variability",null,"Frequency",null,"Relative Frequency","Variability",null,"Frequency",null,"Relative Frequency","Variability",null,"Frequency",null,"Relative Frequency","Variability"]
[12,6,13,10,13,13,null,null,null,null,0,111,null,111,{"$f":"COUNTIF($L$7:$L$500,N7)","v":14},{"$f":"O7/$Q$4","v":0.2413793103448276},{"$f":"IF(P7=0,0,(P7*((LOG(P7))/LOG(2))))","v":-0.49497870729275095},null,null,{"$f":"N7","v":111},{"$f":"COUNTIF(L7:L16,T7)","v":5},{"$f":"U7/(W4-U11)","v":0.83333333333333337},{"$f":"IF(V7=0,0,(V7*((LOG(V7))/LOG(2))))","v":-0.21919533819482812},null,{"$f":"N7","v":111},{"$f":"COUNTIF(L17:L25,Y7)","v":2},{"$f":"Z7/(AB4-Z11)","v":0.66666666666666663},{"$f":"IF(AA7=0,0,(AA7*((LOG(AA7))/LOG(2))))","v":-0.38997500048077083},null,{"$f":"N7","v":111},{"$f":"COUNTIF(L26:L35,AD7)","v":3},{"$f":"AE7/(AG4-AE11)","v":0.75},{"$f":"IF(AF7=0,0,(AF7*((LOG(AF7))/LOG(2))))","v":-0.31127812445913283},null,{"$f":"N7","v":111},{"$f":"COUNTIF(L36:L45,AI7)","v":2},{"$f":"AJ7/(AL4-AJ11)","v":1},{"$f":"IF(AK7=0,0,(AK7*((LOG(AK7))/LOG(2))))","v":0},null,{"$f":"N7","v":111},{"$f":"COUNTIF(L46:L54,AN7)","v":0},{"$f":"AO7/(AQ4-AO11)","v":0},{"$f":"IF(AP7=0,0,(AP7*((LOG(AP7))/LOG(2))))","v":0},null,{"$f":"N7","v":111},{"$f":"COUNTIF(L55:L64,AS7)","v":2},{"$f":"AT7/(AV4-AT11)","v":1},{"$f":"IF(AU7=0,0,(AU7*((LOG(AU7))/LOG(2))))","v":0}]
[12,110,13,117,13,123,null,null,null,null,0,111,null,112,0,0,0,null,null,112,{"$f":"COUNTIF(L7:L16,T8)","v":0},{"$f":"U8/(W4-U11)","v":0},{"$f":"IF(V8=0,0,(V8*((LOG(V8))/LOG(2))))","v":0},null,112,{"$f":"COUNTIF(L17:L25,Y8)","v":0},{"$f":"Z8/(AB4-Z11)","v":0},{"$f":"IF(AA8=0,0,(AA8*((LOG(AA8))/LOG(2))))","v":0},null,112,{"$f":"COUNTIF(L26:L35,AD8)","v":0},{"$f":"AE8/(AG4-AE11)","v":0},{"$f":"IF(AF8=0,0,(AF8*((LOG(AF8))/LOG(2))))","v":0},null,112,{"$f":"COUNTIF(L36:L45,AI8)","v":0},{"$f":"AJ8/(AL4-AJ11)","v":0},{"$f":"IF(AK8=0,0,(AK8*((LOG(AK8))/LOG(2))))","v":0},null,112,{"$f":"COUNTIF(L46:L54,AN8)","v":0},{"$f":"AO8/(AQ4-AO11)","v":0},{"$f":"IF(AP8=0,0,(AP8*((LOG(AP8))/LOG(2))))","v":0},null,112,{"$f":"COUNTIF(L55:L64,AS8)","v":0},{"$f":"AT8/(AV4-AT11)","v":0},{"$f":"IF(AU8=0,0,(AU8*((LOG(AU8))/LOG(2))))","v":0}]
[12,226,13,230,13,237,null,null,null,null,0,111,null,121,0,0,0,null,null,121,{"$f":"COUNTIF(L7:L16,T9)","v":0},{"$f":"U9/(W4-U11)","v":0},{"$f":"IF(V9=0,0,(V9*((LOG(V9))/LOG(2))))","v":0},null,121,{"$f":"COUNTIF(L17:L25,Y9)","v":0},{"$f":"Z9/(AB4-Z11)","v":0},{"$f":"IF(AA9=0,0,(AA9*((LOG(AA9))/LOG(2))))","v":0},null,121,{"$f":"COUNTIF(L26:L35,AD9)","v":0},{"$f":"AE9/(AG4-AE11)","v":0},{"$f":"IF(AF9=0,0,(AF9*((LOG(AF9))/LOG(2))))","v":0},null,121,{"$f":"COUNTIF(L36:L45,AI9)","v":0},{"$f":"AJ9/(AL4-AJ11)","v":0},{"$f":"IF(AK9=0,0,(AK9*((LOG(AK9))/LOG(2))))","v":0},null,121,{"$f":"COUNTIF(L46:L54,AN9)","v":0},{"$f":"AO9/(AQ4-AO11)","v":0},{"$f":"IF(AP9=0,0,(AP9*((LOG(AP9))/LOG(2))))","v":0},null,121,{"$f":"COUNTIF(L55:L64,AS9)","v":0},{"$f":"AT9/(AV4-AT11)","v":0},{"$f":"IF(AU9=0,0,(AU9*((LOG(AU9))/LOG(2))))","v":0}]
[21,334,11,341,11,344,null,null,null,null,0,211,null,122,0,0,0,null,null,122,{"$f":"COUNTIF(L7:L16,T10)","v":0},{"$f":"U10/(W4-U11)","v":0},{"$f":"IF(V10=0,0,(V10*((LOG(V10))/LOG(2))))","v":0},null,122,{"$f":"COUNTIF(L17:L25,Y10)","v":0},{"$f":"Z10/(AB4-Z11)","v":0},{"$f":"IF(AA10=0,0,(AA10*((LOG(AA10))/LOG(2))))","v":0},null,122,{"$f":"COUNTIF(L26:L35,AD10)","v":0},{"$f":"AE10/(AG4-AE11)","v":0},{"$f":"IF(AF10=0,0,(AF10*((LOG(AF10))/LOG(2))))","v":0},null,122,{"$f":"COUNTIF(L36:L45,AI10)","v":0},{"$f":"AJ10/(AL4-AJ11)","v":0},{"$f":"IF(AK10=0,0,(AK10*((LOG(AK10))/LOG(2))))","v":0},null,122,{"$f":"COUNTIF(L46:L54,AN10)","v":0},{"$f":"AO10/(AQ4-AO11)","v":0},{"$f":"IF(AP10=0,0,(AP10*((LOG(AP10))/LOG(2))))","v":0},null,122,{"$f":"COUNTIF(L55:L64,AS10)","v":0},{"$f":"AT10/(AV4-AT11)","v":0},{"$f":"IF(AU10=0,0,(AU10*((LOG(AU10))/LOG(2))))","v":0}]
[12,473,13,485,13,492,null,null,null,null,0,111,null,211,38,0.65517241379310343,-0.39969021213778433,null,null,211,{"$f":"COUNTIF(L7:L16,T11)","v":4},null,null,null,211,{"$f":"COUNTIF(L17:L25,Y11)","v":6},null,null,null,211,{"$f":"COUNTIF(L26:L35,AD11)","v":6},null,null,null,211,{"$f":"COUNTIF(L36:L45,AI11)","v":8},null,null,null,211,{"$f":"COUNTIF(L46:L54,AN11)","v":6},null,null,null,211,{"$f":"COUNTIF(L55:L64,AS11)","v":8}]
[21,590,11,598,11,604,null,null,null,null,0,211,null,212,0,0,0,null,null,212,{"$f":"COUNTIF(L7:L16,T12)","v":0},{"$f":"U12/(W4-U11)","v":0},{"$f":"IF(V12=0,0,(V12*((LOG(V12))/LOG(2))))","v":0},null,212,{"$f":"COUNTIF(L17:L25,Y12)","v":0},{"$f":"Z12/(AB4-Z11)","v":0},{"$f":"IF(AA12=0,0,(AA12*((LOG(AA12))/LOG(2))))","v":0},null,212,{"$f":"COUNTIF(L26:L35,AD12)","v":0},{"$f":"AE12/(AG4-AE11)","v":0},{"$f":"IF(AF12=0,0,(AF12*((LOG(AF12))/LOG(2))))","v":0},null,212,{"$f":"COUNTIF(L36:L45,AI12)","v":0},{"$f":"AJ12/(AL4-AJ11)","v":0},{"$f":"IF(AK12=0,0,(AK12*((LOG(AK12))/LOG(2))))","v":0},null,212,{"$f":"COUNTIF(L46:L54,AN12)","v":0},{"$f":"AO12/(AQ4-AO11)","v":0},{"$f":"IF(AP12=0,0,(AP12*((LOG(AP12))/LOG(2))))","v":0},null,212,{"$f":"COUNTIF(L55:L64,AS12)","v":0},{"$f":"AT12/(AV4-AT11)","v":0},{"$f":"IF(AU12=0,0,(AU12*((LOG(AU12))/LOG(2))))","v":0}]
[21,695,11,701,11,717,null,null,null,null,0,211,null,221,5,8.6206896551724144E-2,-0.30483214657243185,null,null,221,{"$f":"COUNTIF(L7:L16,T13)","v":0},{"$f":"U13/(W4-U11)","v":0},{"$f":"IF(V13=0,0,(V13*((LOG(V13))/LOG(2))))","v":0},null,221,{"$f":"COUNTIF(L17:L25,Y13)","v":1},{"$f":"Z13/(AB4-Z11)","v":0.33333333333333331},{"$f":"IF(AA13=0,0,(AA13*((LOG(AA13))/LOG(2))))","v":-0.52832083357371862},null,221,{"$f":"COUNTIF(L26:L35,AD13)","v":1},{"$f":"AE13/(AG4-AE11)","v":0.25},{"$f":"IF(AF13=0,0,(AF13*((LOG(AF13))/LOG(2))))","v":-0.5},null,221,{"$f":"COUNTIF(L36:L45,AI13)","v":0},{"$f":"AJ13/(AL4-AJ11)","v":0},{"$f":"IF(AK13=0,0,(AK13*((LOG(AK13))/LOG(2))))","v":0},null,221,{"$f":"COUNTIF(L46:L54,AN13)","v":3},{"$f":"AO13/(AQ4-AO11)","v":1},{"$f":"IF(AP13=0,0,(AP13*((LOG(AP13))/LOG(2))))","v":0},null,221,{"$f":"COUNTIF(L55:L64,AS13)","v":0},{"$f":"AT13/(AV4-AT11)","v":0},{"$f":"IF(AU13=0,0,(AU13*((LOG(AU13))/LOG(2))))","v":0}]
[12,819,13,828,13,833,null,null,null,null,0,111,null,222,1,1.7241379310344827E-2,-0.10099967232978573,null,null,222,{"$f":"COUNTIF(L7:L16,T14)","v":1},{"$f":"U14/(W4-U11)","v":0.16666666666666666},{"$f":"IF(V14=0,0,(V14*((LOG(V14))/LOG(2))))","v":-0.43082708345352599},null,222,{"$f":"COUNTIF(L17:L25,Y14)","v":0},{"$f":"Z14/(AB4-Z11)","v":0},{"$f":"IF(AA14=0,0,(AA14*((LOG(AA14))/LOG(2))))","v":0},null,222,{"$f":"COUNTIF(L26:L35,AD14)","v":0},{"$f":"AE14/(AG4-AE11)","v":0},{"$f":"IF(AF14=0,0,(AF14*((LOG(AF14))/LOG(2))))","v":0},null,222,{"$f":"COUNTIF(L36:L45,AI14)","v":0},{"$f":"AJ14/(AL4-AJ11)","v":0},{"$f":"IF(AK14=0,0,(AK14*((LOG(AK14))/LOG(2))))","v":0},null,222,{"$f":"COUNTIF(L46:L54,AN14)","v":0},{"$f":"AO14/(AQ4-AO11)","v":0},{"$f":"IF(AP14=0,0,(AP14*((LOG(AP14))/LOG(2))))","v":0},null,222,{"$f":"COUNTIF(L55:L64,AS14)","v":0},{"$f":"AT14/(AV4-AT11)","v":0},{"$f":"IF(AU14=0,0,(AU14*((LOG(AU14))/LOG(2))))","v":0}]
[21,930,22,932,24,937,null,null,null,null,0,222,null,null,null,{"$f":"SUM(P7:P14)","v":1},{"$f":"-SUM(Q7:Q14)","v":1.3005007383327529},null,null,null,null,{"$f":"SUM(V7:V14)","v":1},{"$f":"-SUM(W7:W14)","v":0.65002242164835411},null,null,null,{"$f":"SUM(AA7:AA14)","v":1},{"$f":"-SUM(AB7:AB14)","v":0.91829583405448945},null,null,null,{"$f":"SUM(AF7:AF14)","v":1},{"$f":"-SUM(AG7:AG14)","v":0.81127812445913283},null,null,null,{"$f":"SUM(AK7:AK14)","v":1},{"$f":"-SUM(AL7:AL14)","v":0},null,null,null,{"$f":"SUM(AP7:AP14)","v":1},{"$f":"-SUM(AQ7:AQ14)","v":0},null,null,null,{"$f":"SUM(AU7:AU14)","v":1},{"$f":"-SUM(AV7:AV14)","v":0}]
[21,1032,11,1037,11,1042,null,null,null,null,0,211,null,null,null,"U=",{"$f":"Q15/(LOG(Q4)/LOG(2))","v":0.22200494324144376},null,null,null,null,"U1=",{"$f":"W15/(LOG(W4)/LOG(2))","v":0.1956762467702946},null,null,null,"U2=",{"$f":"AB15/(LOG(AB4)/LOG(2))","v":0.28969008214284753},null,null,null,"U3=",{"$f":"AG15/(LOG(AG4)/LOG(2))","v":0.24421905028821556},null,null,null,"U4=",{"$f":"AL15/(LOG(AL4)/LOG(2))","v":0},null,null,null,"U5=",{"$f":"AQ15/(LOG(AQ4)/LOG(2))","v":0},null,null,null,"U6=",{"$f":"AV15/(LOG(AV4)/LOG(2))","v":0}]
[12,1140,13,1145,13,1151,null,null,null,null,0,111]
[21,1246,11,1256,11,1267,null,null,null,null,0,211]
[21,1359,11,1370,11,1377,null,null,null,null,0,211,null,"Total Target Seq"]
[21,1471,11,1478,11,1485,null,null,null,null,0,211,null,{"$f":"COUNTIF(L7:L64,G3)","v":38},null,10,9,10,10,9,10]
[21,1577,11,1585,11,1589,null,null,null,null,0,211,null,null,null,"% of reinforcement given in 6 equal intervals based on number of trials "]
[21,1680,11,1691,11,1710,null,null,null,null,0,211,null,null,null,"%_1","%_2","%_3","%_4","%_5","%_6"]
[21,1798,22,1808,13,1810,null,null,null,null,0,221,null,null,"target sequence",{"$f":"$G$3","v":211},211,211,211,211,211]
[12,1907,13,1913,13,1920,null,null,null,null,0,111,null,null,"total reinforcement",{"$f":"U11","v":4},{"$f":"Z11","v":6},{"$f":"AE11","v":6},{"$f":"AJ11","v":8},{"$f":"AO11","v":6},{"$f":"AT11","v":8}]
[21,2014,11,2019,11,2026,null,null,null,null,0,211,null,null,"% target"]
[12,2122,13,2125,13,2133,null,null,null,null,0,111,null,null,"CCRF"]
[12,2234,13,2238,13,2246,null,null,null,null,0,111,null,null,"% CCRf"]
[21,2343,11,2348,11,2356,null,null,null,null,0,211,null,null,"average response rate",{"$f":"F16/P20","v":104.2},{"$f":"(F25-F16)/Q20","v":109.33333333333333},{"$f":"(F35-F25)/R20","v":107},{"$f":"(F45-F35)/S20","v":110.1},{"$f":"(F54-F45)/T20","v":106.55555555555556},{"$f":"(F64-F54)/U20","v":109.9}]
[21,2445,11,2453,11,2458,null,null,null,null,0,211]
[21,2548,11,2554,11,2557,null,null,null,null,0,211]
[12,2657,13,2659,13,2665,null,null,null,null,0,111]
[21,2770,11,2779,11,2783,null,null,null,null,0,211]
[21,2874,11,2881,11,2888,null,null,null,null,0,211]
[21,2980,11,2988,11,2993,null,null,null,null,0,211]
[21,3085,22,3088,13,3096,null,null,null,null,0,221]
[12,3198,13,3202,13,3207,null,null,null,null,0,111]
[21,3304,11,3309,11,3314,null,null,null,null,0,211]
[21,3406,11,3416,11,3421,null,null,null,null,0,211]
[21,3511,11,3520,11,3527,null,null,null,null,0,211]
[21,3622,11,3632,11,3636,null,null,null,null,0,211]
[21,3731,11,3740,11,3743,null,null,null,null,0,211]
[21,3844,11,3852,11,3854,null,null,null,null,0,211]
[12,3951,13,3956,13,3962,null,null,null,null,0,111]
[21,4057,11,4066,11,4070,null,null,null,null,0,211]
[21,4179,11,4191,11,4197,null,null,null,null,0,211]
[21,4289,11,4298,11,4301,null,null,null,null,0,211]
[21,4394,22,4396,13,4404,null,null,null,null,0,221]
[21,4501,11,4509,11,4512,null,null,null,null,0,211]
[21,4607,11,4616,11,4622,null,null,null,null,0,211]
[21,4715,11,4724,11,4746,null,null,null,null,0,211]
[21,4838,11,4846,11,4850,null,null,null,null,0,211]
[21,4943,22,4945,13,4951,null,null,null,null,0,221]
[21,5044,22,5046,13,5051,null,null,null,null,0,221]
[21,5143,11,5153,11,5156,null,null,null,null,0,211]
[21,5247,11,5258,11,5265,null,null,null,null,0,211]
[21,5356,11,5365,11,5369,null,null,null,null,0,211]
[21,5461,11,5469,11,5473,null,null,null,null,0,211]
[21,5564,11,5576,11,5583,null,null,null,null,0,211]
[12,5684,13,5689,13,5709,null,null,null,null,0,111]
[21,5806,11,5814,11,5821,null,null,null,null,0,211]
[12,5925,13,5930,13,5937,null,null,null,null,0,111]
[21,6035,11,6041,11,6049,null,null,null,null,0,211]
[21,6141,11,6149,11,6154,null,null,null,null,0,211]
[21,6243,11,6253,11,6255,null,null,null,null,1,211]

{"sheet":"!N21592T.AYL","index":17,"n_rows":69,"n_cols":48,"rows_kept":69,"cut":false,"hidden":false,"merged":[[1,1,1,2],[5,13,5,14],[18,13,18,14],[19,13,19,14],[4,19,4,22],[5,19,5,20],[4,39,4,42],[5,39,5,40],[4,44,4,47],[5,44,5,45],[4,24,4,27],[5,24,5,25],[4,29,4,32],[5,29,5,30],[4,34,4,37],[5,34,5,35]]}
["Report for:!N21592T.AYL"]
["Date:","<date>"]
["Hen:","<hen>",null,null,null,"Correct Sequence",{"$f":"Start!J2","v":211},null,null,null,null,null,null,null,null,"Total Sequences in Data",{"$f":"4994-COUNTBLANK(L7:L5000)","v":63},null,null,null,null,"Total Sequences in Block Data",{"$f":"COUNTA(L7:L17)","v":11},null,null,null,"Total Sequences in Block Data",{"$f":"COUNTA(L18:L27)","v":10},null,null,null,"Total Sequences in Block Data",{"$f":"COUNTA(L28:L38)","v":11},null,null,null,"Total Sequences in Block Data",{"$f":"COUNTA(L39:L48)","v":10},null,null,null,"Total Sequences in Block Data",{"$f":"COUNTA(L49:L59)","v":11},null,null,null,"Total Sequences in Block Data",{"$f":"COUNTA(L60:L69)","v":10}]
[null,null,null,null,null,null,null,null,null,null,null,null,null,null,null,"Total Sequences in Summary",{"$f":"SUM(O7:O14)","v":63},null,null,null,null,"Total Sequences in Block Summary",{"$f":"SUM(U7:U14)","v":11},null,null,null,"Total Sequences in Block Summary",{"$f":"SUM(Z7:Z14)","v":10},null,null,null,"Total Sequences in Block Summary",{"$f":"SUM(AE7:AE14)","v":11},null,null,null,"Total Sequences in Block Summary",{"$f":"SUM(AJ7:AJ14)","v":10},null,null,null,"Total Sequences in Block Summary",{"$f":"SUM(AO7:AO14)","v":11},null,null,null,"Total Sequences in Block Summary",{"$f":"SUM(AT7:AT14)","v":10}]
[null,null,null,null,null,null,null,null,null,null,null,null,null,null,null,null,null,null,null,"Block 1",null,null,null,null,"Block 2",null,null,null,null,"Block 3",null,null,null,null,"Block 4",null,null,null,null,"Block 5",null,null,null,null,"Block 6"]
["Sequence\nComponent\n1","Time\n1","Sequence\nComponent\n2","Time\n2","Sequence\nComponent\n3","Time\n3","Sequence\nComponent\n4","Time\n4","Sequence\nComponent\n5","Time\n5","Correct?\n0=No 1=Yes","Sequence",null,"Frequency",null,"Relative Frequency","Variability",null,null,"Frequency",null,"Relative Frequency","Variability",null,"Frequency",null,"Relative Frequency","Variability",null,"Frequency",null,"Relative Frequency","Variability",null,"Frequency",null,"Relative Frequency","Variability",null,"Frequency",null,"Relative Frequency","Variability",null,"Frequency",null,"Relative Frequency","Variability"]
[12,7,13,12,13,19,null,null,null,null,0,111,null,111,{"$f":"COUNTIF($L$7:$L$500,N7)","v":16},{"$f":"O7/$Q$4","v":0.25396825396825395},{"$f":"IF(P7=0,0,(P7*((LOG(P7))/LOG(2))))","v":-0.50216632977775666},null,null,{"$f":"N7","v":111},{"$f":"COUNTIF(L7:L17,T7)","v":5},{"$f":"U7/(W4-U11)","v":0.7142857142857143},{"$f":"IF(V7=0,0,(V7*((LOG(V7))/LOG(2))))","v":-0.34673344797874411},null,{"$f":"N7","v":111},{"$f":"COUNTIF(L18:L27,Y7)","v":3},{"$f":"Z7/(AB4-Z11)","v":0.75},{"$f":"IF(AA7=0,0,(AA7*((LOG(AA7))/LOG(2))))","v":-0.31127812445913283},null,{"$f":"N7","v":111},{"$f":"COUNTIF(L28:L38,AD7)","v":3},{"$f":"AE7/(AG4-AE11)","v":0.75},{"$f":"IF(AF7=0,0,(AF7*((LOG(AF7))/LOG(2))))","v":-0.31127812445913283},null,{"$f":"N7","v":111},{"$f":"COUNTIF(L39:L48,AI7)","v":2},{"$f":"AJ7/(AL4-AJ11)","v":0.66666666666666663},{"$f":"IF(AK7=0,0,(AK7*((LOG(AK7))/LOG(2))))","v":-0.38997500048077083},null,{"$f":"N7","v":111},{"$f":"COUNTIF(L49:L59,AN7)","v":3},{"$f":"AO7/(AQ4-AO11)","v":0.75},{"$f":"IF(AP7=0,0,(AP7*((LOG(AP7))/LOG(2))))","v":-0.31127812445913283},null,{"$f":"N7","v":111},{"$f":"COUNTIF(L60:L69,AS7)","v":0},{"$f":"AT7/(AV4-AT11)","v":0},{"$f":"IF(AU7=0,0,(AU7*((LOG(AU7))/LOG(2))))","v":0}]
[12,118,13,120,13,123,null,null,null,null,0,111,null,112,0,0,0,null,null,112,{"$f":"COUNTIF(L7:L17,T8)","v":0},{"$f":"U8/(W4-U11)","v":0},{"$f":"IF(V8=0,0,(V8*((LOG(V8))/LOG(2))))","v":0},null,112,{"$f":"COUNTIF(L18:L27,Y8)","v":0},{"$f":"Z8/(AB4-Z11)","v":0},{"$f":"IF(AA8=0,0,(AA8*((LOG(AA8))/LOG(2))))","v":0},null,112,{"$f":"COUNTIF(L28:L38,AD8)","v":0},{"$f":"AE8/(AG4-AE11)","v":0},{"$f":"IF(AF8=0,0,(AF8*((LOG(AF8))/LOG(2))))","v":0},null,112,{"$f":"COUNTIF(L39:L48,AI8)","v":0},{"$f":"AJ8/(AL4-AJ11)","v":0},{"$f":"IF(AK8=0,0,(AK8*((LOG(AK8))/LOG(2))))","v":0},null,112,{"$f":"COUNTIF(L49:L59,AN8)","v":0},{"$f":"AO8/(AQ4-AO11)","v":0},{"$f":"IF(AP8=0,0,(AP8*((LOG(AP8))/LOG(2))))","v":0},null,112,{"$f":"COUNTIF(L60:L69,AS8)","v":0},{"$f":"AT8/(AV4-AT11)","v":0},{"$f":"IF(AU8=0,0,(AU8*((LOG(AU8))/LOG(2))))","v":0}]
[12,225,13,228,13,245,null,null,null,null,0,111,null,121,1,1.5873015873015872E-2,-9.4877459103173273E-2,null,null,121,{"$f":"COUNTIF(L7:L17,T9)","v":0},{"$f":"U9/(W4-U11)","v":0},{"$f":"IF(V9=0,0,(V9*((LOG(V9))/LOG(2))))","v":0},null,121,{"$f":"COUNTIF(L18:L27,Y9)","v":1},{"$f":"Z9/(AB4-Z11)","v":0.25},{"$f":"IF(AA9=0,0,(AA9*((LOG(AA9))/LOG(2))))","v":-0.5},null,121,{"$f":"COUNTIF(L28:L38,AD9)","v":0},{"$f":"AE9/(AG4-AE11)","v":0},{"$f":"IF(AF9=0,0,(AF9*((LOG(AF9))/LOG(2))))","v":0},null,121,{"$f":"COUNTIF(L39:L48,AI9)","v":0},{"$f":"AJ9/(AL4-AJ11)","v":0},{"$f":"IF(AK9=0,0,(AK9*((LOG(AK9))/LOG(2))))","v":0},null,121,{"$f":"COUNTIF(L49:L59,AN9)","v":0},{"$f":"AO9/(AQ4-AO11)","v":0},{"$f":"IF(AP9=0,0,(AP9*((LOG(AP9))/LOG(2))))","v":0},null,121,{"$f":"COUNTIF(L60:L69,AS9)","v":0},{"$f":"AT9/(AV4-AT11)","v":0},{"$f":"IF(AU9=0,0,(AU9*((LOG(AU9))/LOG(2))))","v":0}]
[12,345,13,350,13,353,null,null,null,null,0,111,null,122,0,0,0,null,null,122,{"$f":"COUNTIF(L7:L17,T10)","v":0},{"$f":"U10/(W4-U11)","v":0},{"$f":"IF(V10=0,0,(V10*((LOG(V10))/LOG(2))))","v":0},null,122,{"$f":"COUNTIF(L18:L27,Y10)","v":0},{"$f":"Z10/(AB4-Z11)","v":0},{"$f":"IF(AA10=0,0,(AA10*((LOG(AA10))/LOG(2))))","v":0},null,122,{"$f":"COUNTIF(L28:L38,AD10)","v":0},{"$f":"AE10/(AG4-AE11)","v":0},{"$f":"IF(AF10=0,0,(AF10*((LOG(AF10))/LOG(2))))","v":0},null,122,{"$f":"COUNTIF(L39:L48,AI10)","v":0},{"$f":"AJ10/(AL4-AJ11)","v":0},{"$f":"IF(AK10=0,0,(AK10*((LOG(AK10))/LOG(2))))","v":0},null,122,{"$f":"COUNTIF(L49:L59,AN10)","v":0},{"$f":"AO10/(AQ4-AO11)","v":0},{"$f":"IF(AP10=0,0,(AP10*((LOG(AP10))/LOG(2))))","v":0},null,122,{"$f":"COUNTIF(L60:L69,AS10)","v":0},{"$f":"AT10/(AV4-AT11)","v":0},{"$f":"IF(AU10=0,0,(AU10*((LOG(AU10))/LOG(2))))","v":0}]
[21,449,11,456,11,467,null,null,null,null,0,211,null,211,38,0.60317460317460314,-0.43992685051016789,null,null,211,{"$f":"COUNTIF(L7:L17,T11)","v":4},null,null,null,211,{"$f":"COUNTIF(L18:L27,Y11)","v":6},null,null,null,211,{"$f":"COUNTIF(L28:L38,AD11)","v":7},null,null,null,211,{"$f":"COUNTIF(L39:L48,AI11)","v":7},null,null,null,211,{"$f":"COUNTIF(L49:L59,AN11)","v":7},null,null,null,211,{"$f":"COUNTIF(L60:L69,AS11)","v":7}]
[12,588,13,593,13,603,null,null,null,null,0,111,null,212,0,0,0,null,null,212,{"$f":"COUNTIF(L7:L17,T12)","v":0},{"$f":"U12/(W4-U11)","v":0},{"$f":"IF(V12=0,0,(V12*((LOG(V12))/LOG(2))))","v":0},null,212,{"$f":"COUNTIF(L18:L27,Y12)","v":0},{"$f":"Z12/(AB4-Z11)","v":0},{"$f":"IF(AA12=0,0,(AA12*((LOG(AA12))/LOG(2))))","v":0},null,212,{"$f":"COUNTIF(L28:L38,AD12)","v":0},{"$f":"AE12/(AG4-AE11)","v":0},{"$f":"IF(AF12=0,0,(AF12*((LOG(AF12))/LOG(2))))","v":0},null,212,{"$f":"COUNTIF(L39:L48,AI12)","v":0},{"$f":"AJ12/(AL4-AJ11)","v":0},{"$f":"IF(AK12=0,0,(AK12*((LOG(AK12))/LOG(2))))","v":0},null,212,{"$f":"COUNTIF(L49:L59,AN12)","v":0},{"$f":"AO12/(AQ4-AO11)","v":0},{"$f":"IF(AP12=0,0,(AP12*((LOG(AP12))/LOG(2))))","v":0},null,212,{"$f":"COUNTIF(L60:L69,AS12)","v":0},{"$f":"AT12/(AV4-AT11)","v":0},{"$f":"IF(AU12=0,0,(AU12*((LOG(AU12))/LOG(2))))","v":0}]
[21,699,22,703,13,708,null,null,null,null,0,221,null,221,8,0.12698412698412698,-0.37806729187300525,null,null,221,{"$f":"COUNTIF(L7:L17,T13)","v":2},{"$f":"U13/(W4-U11)","v":0.2857142857142857},{"$f":"IF(V13=0,0,(V13*((LOG(V13))/LOG(2))))","v":-0.51638712058788683},null,221,{"$f":"COUNTIF(L18:L27,Y13)","v":0},{"$f":"Z13/(AB4-Z11)","v":0},{"$f":"IF(AA13=0,0,(AA13*((LOG(AA13))/LOG(2))))","v":0},null,221,{"$f":"COUNTIF(L28:L38,AD13)","v":1},{"$f":"AE13/(AG4-AE11)","v":0.25},{"$f":"IF(AF13=0,0,(AF13*((LOG(AF13))/LOG(2))))","v":-0.5},null,221,{"$f":"COUNTIF(L39:L48,AI13)","v":1},{"$f":"AJ13/(AL4-AJ11)","v":0.33333333333333331},{"$f":"IF(AK13=0,0,(AK13*((LOG(AK13))/LOG(2))))","v":-0.52832083357371862},null,221,{"$f":"COUNTIF(L49:L59,AN13)","v":1},{"$f":"AO13/(AQ4-AO11)","v":0.25},{"$f":"IF(AP13=0,0,(AP13*((LOG(AP13))/LOG(2))))","v":-0.5},null,221,{"$f":"COUNTIF(L60:L69,AS13)","v":3},{"$f":"AT13/(AV4-AT11)","v":1},{"$f":"IF(AU13=0,0,(AU13*((LOG(AU13))/LOG(2))))","v":0}]
[21,800,22,804,13,818,null,null,null,null,0,221,null,222,0,0,0,null,null,222,{"$f":"COUNTIF(L7:L17,T14)","v":0},{"$f":"U14/(W4-U11)","v":0},{"$f":"IF(V14=0,0,(V14*((LOG(V14))/LOG(2))))","v":0},null,222,{"$f":"COUNTIF(L18:L27,Y14)","v":0},{"$f":"Z14/(AB4-Z11)","v":0},{"$f":"IF(AA14=0,0,(AA14*((LOG(AA14))/LOG(2))))","v":0},null,222,{"$f":"COUNTIF(L28:L38,AD14)","v":0},{"$f":"AE14/(AG4-AE11)","v":0},{"$f":"IF(AF14=0,0,(AF14*((LOG(AF14))/LOG(2))))","v":0},null,222,{"$f":"COUNTIF(L39:L48,AI14)","v":0},{"$f":"AJ14/(AL4-AJ11)","v":0},{"$f":"IF(AK14=0,0,(AK14*((LOG(AK14))/LOG(2))))","v":0},null,222,{"$f":"COUNTIF(L49:L59,AN14)","v":0},{"$f":"AO14/(AQ4-AO11)","v":0},{"$f":"IF(AP14=0,0,(AP14*((LOG(AP14))/LOG(2))))","v":0},null,222,{"$f":"COUNTIF(L60:L69,AS14)","v":0},{"$f":"AT14/(AV4-AT11)","v":0},{"$f":"IF(AU14=0,0,(AU14*((LOG(AU14))/LOG(2))))","v":0}]
[21,913,11,920,11,926,null,null,null,null,0,211,null,null,null,{"$f":"SUM(P7:P14)","v":1},{"$f":"-SUM(Q7:Q14)","v":1.415037931264103},null,null,null,null,{"$f":"SUM(V7:V14)","v":1},{"$f":"-SUM(W7:W14)","v":0.863120568566631},null,null,null,{"$f":"SUM(AA7:AA14)","v":1},{"$f":"-SUM(AB7:AB14)","v":0.81127812445913283},null,null,null,{"$f":"SUM(AF7:AF14)","v":1},{"$f":"-SUM(AG7:AG14)","v":0.81127812445913283},null,null,null,{"$f":"SUM(AK7:AK14)","v":1},{"$f":"-SUM(AL7:AL14)","v":0.91829583405448945},null,null,null,{"$f":"SUM(AP7:AP14)","v":1},{"$f":"-SUM(AQ7:AQ14)","v":0.81127812445913283},null,null,null,{"$f":"SUM(AU7:AU14)","v":1},{"$f":"-SUM(AV7:AV14)","v":0}]
[21,1021,11,1031,11,1035,null,null,null,null,0,211,null,null,null,"U=",{"$f":"Q15/(LOG(Q4)/LOG(2))","v":0.23673609892366332},null,null,null,null,"U1=",{"$f":"W15/(LOG(W4)/LOG(2))","v":0.24949779724410978},null,null,null,"U2=",{"$f":"AB15/(LOG(AB4)/LOG(2))","v":0.24421905028821556},null,null,null,"U3=",{"$f":"AG15/(LOG(AG4)/LOG(2))","v":0.23451197014228101},null,null,null,"U4=",{"$f":"AL15/(LOG(AL4)/LOG(2))","v":0.27643459094367495},null,null,null,"U5=",{"$f":"AQ15/(LOG(AQ4)/LOG(2))","v":0.23451197014228101},null,null,null,"U6=",{"$f":"AV15/(LOG(AV4)/LOG(2))","v":0}]
[21,1129,11,1140,11,1147,null,null,null,null,0,211]
[12,1246,13,1249,13,1255,null,null,null,null,0,111]
[12,1359,13,1363,13,1373,null,null,null,null,0,111,null,"Total Target Seq"]
[21,1466,11,1473,11,1477,null,null,null,null,0,211,null,{"$f":"COUNTIF(L7:L69,G3)","v":38},null,11,10,11,10,11,10]
[12,1666,24,1677,13,1689,null,null,null,null,0,121,null,null,null,"% of reinforcement given in 6 equal intervals based on number of trials "]
[21,1784,11,1790,11,1805,null,null,null,null,0,211,null,null,null,"%_1","%_2","%_3","%_4","%_5","%_6"]
[21,1899,11,1912,11,1918,null,null,null,null,0,211,null,null,"target sequence",{"$f":"$G$3","v":211},211,211,211,211,211]
[21,2013,11,2023,11,2026,null,null,null,null,0,211,null,null,"total reinforcement",{"$f":"U11","v":4},{"$f":"Z11","v":6},{"$f":"AE11","v":7},{"$f":"AJ11","v":7},{"$f":"AO11","v":7},{"$f":"AT11","v":7}]
[21,2118,11,2125,11,2131,null,null,null,null,0,211,null,null,"% target"]
[21,2223,11,2233,11,2246,null,null,null,null,0,211,null,null,"CCRF"]
[12,2349,13,2354,13,2361,null,null,null,null,0,111,null,null,"% CCRf"]
[12,2464,13,2472,13,2479,null,null,null,null,0,111,null,null,"average response rate",{"$f":"F17/P20","v":104.27272727272727},{"$f":"(F27-F17)/Q20","v":121.4},{"$f":"(F38-F27)/R20","v":111},{"$f":"(F48-F38)/S20","v":119},{"$f":"(F59-F48)/T20","v":112.27272727272727},{"$f":"(F69-F59)/U20","v":113.9}]
[12,2582,13,2586,13,2596,null,null,null,null,0,111]
[21,2691,11,2700,11,2704,null,null,null,null,0,211]
[21,2795,11,2809,11,2815,null,null,null,null,0,211]
[12,2917,13,2924,13,2932,null,null,null,null,0,111]
[21,3026,22,3029,13,3035,null,null,null,null,0,221]
[21,3125,11,3132,11,3137,null,null,null,null,0,211]
[21,3229,11,3242,11,3246,null,null,null,null,0,211]
[21,3341,11,3350,11,3354,null,null,null,null,0,211]
[21,3445,11,3455,11,3462,null,null,null,null,0,211]
[21,3570,11,3578,11,3582,null,null,null,null,0,211]
[12,3677,13,3681,13,3685,null,null,null,null,0,111]
[21,3780,11,3787,11,3791,null,null,null,null,0,211]
[21,3883,22,3886,13,3893,null,null,null,null,0,221]
[21,3987,11,3996,11,4005,null,null,null,null,0,211]
[21,4101,11,4109,11,4115,null,null,null,null,0,211]
[21,4206,11,4215,11,4219,null,null,null,null,0,211]
[21,4435,11,4443,11,4446,null,null,null,null,0,211]
[21,4539,11,4549,11,4552,null,null,null,null,0,211]
[12,4648,13,4652,13,4658,null,null,null,null,0,111]
[21,4756,11,4764,11,4772,null,null,null,null,0,211]
[21,4870,11,4881,11,4887,null,null,null,null,0,211]
[21,4979,11,4990,11,4997,null,null,null,null,0,211]
[21,5087,11,5099,11,5105,null,null,null,null,0,211]
[21,5204,11,5213,11,5218,null,null,null,null,0,211]
[12,5314,13,5318,13,5323,null,null,null,null,0,111]
[21,5418,11,5425,11,5429,null,null,null,null,0,211]
[21,5530,22,5533,13,5546,null,null,null,null,0,221]
[12,5654,13,5658,13,5662,null,null,null,null,0,111]
[21,5758,11,5766,11,5779,null,null,null,null,0,211]
[21,5873,11,5881,11,5887,null,null,null,null,0,211]
[12,5988,13,5995,13,6007,null,null,null,null,0,111]
[21,6101,11,6109,11,6117,null,null,null,null,0,211]
[21,6217,22,6221,13,6229,null,null,null,null,0,221]
[21,6325,11,6333,11,6355,null,null,null,null,0,211]
[21,6459,22,6462,13,6478,null,null,null,null,0,221]
[21,6575,11,6585,11,6591,null,null,null,null,0,211]
[21,6690,11,6700,11,6707,null,null,null,null,0,211]
[21,6800,22,6803,13,6813,null,null,null,null,0,221]
[21,6913,11,6920,11,6923,null,null,null,null,0,211]
[21,7016,11,7029,11,7037,null,null,null,null,0,211]
[21,7125,11,7140,11,7146,null,null,null,null,1,211]

{"sheet":"!N216A1T.AYL","index":18,"n_rows":59,"n_cols":48,"rows_kept":59,"cut":false,"hidden":false,"merged":[[1,1,1,2],[5,13,5,14],[18,13,18,14],[19,13,19,14],[4,19,4,22],[5,19,5,20],[4,39,4,42],[5,39,5,40],[4,44,4,47],[5,44,5,45],[4,24,4,27],[5,24,5,25],[4,29,4,32],[5,29,5,30],[4,34,4,37],[5,34,5,35]]}
["Report for:!N216A1T.AYL"]
["Date:","<date>"]
["Hen:","<hen>",null,null,null,"Correct Sequence",{"$f":"Start!J2","v":211},null,null,null,null,null,null,null,null,"Total Sequences in Data",{"$f":"4994-COUNTBLANK(L7:L5000)","v":53},null,null,null,null,"Total Sequences in Block Data",{"$f":"COUNTA(L7:L15)","v":9},null,null,null,"Total Sequences in Block Data",{"$f":"COUNTA(L16:L24)","v":9},null,null,null,"Total Sequences in Block Data",{"$f":"COUNTA(L25:L32)","v":8},null,null,null,"Total Sequences in Block Data",{"$f":"COUNTA(L33:L41)","v":9},null,null,null,"Total Sequences in Block Data",{"$f":"COUNTA(L42:L50)","v":9},null,null,null,"Total Sequences in Block Data",{"$f":"COUNTA(L51:L59)","v":9}]
[null,null,null,null,null,null,null,null,null,null,null,null,null,null,null,"Total Sequences in Summary",{"$f":"SUM(O7:O14)","v":53},null,null,null,null,"Total Sequences in Block Summary",{"$f":"SUM(U7:U14)","v":9},null,null,null,"Total Sequences in Block Summary",{"$f":"SUM(Z7:Z14)","v":9},null,null,null,"Total Sequences in Block Summary",{"$f":"SUM(AE7:AE14)","v":8},null,null,null,"Total Sequences in Block Summary",{"$f":"SUM(AJ7:AJ14)","v":9},null,null,null,"Total Sequences in Block Summary",{"$f":"SUM(AO7:AO14)","v":9},null,null,null,"Total Sequences in Block Summary",{"$f":"SUM(AT7:AT14)","v":9}]
[null,null,null,null,null,null,null,null,null,null,null,null,null,null,null,null,null,null,null,"Block 1",null,null,null,null,"Block 2",null,null,null,null,"Block 3",null,null,null,null,"Block 4",null,null,null,null,"Block 5",null,null,null,null,"Block 6"]
["Sequence\nComponent\n1","Time\n1","Sequence\nComponent\n2","Time\n2","Sequence\nComponent\n3","Time\n3","Sequence\nComponent\n4","Time\n4","Sequence\nComponent\n5","Time\n5","Correct?\n0=No 1=Yes","Sequence",null,"Frequency",null,"Relative Frequency","Variability",null,null,"Frequency",null,"Relative Frequency","Variability",null,"Frequency",null,"Relative Frequency","Variability",null,"Frequency",null,"Relative Frequency","Variability",null,"Frequency",null,"Relative Frequency","Variability",null,"Frequency",null,"Relative Frequency","Variability",null,"Frequency",null,"Relative Frequency","Variability"]
[12,13,13,18,13,24,null,null,null,null,0,111,null,111,{"$f":"COUNTIF($L$7:$L$500,N7)","v":9},{"$f":"O7/$Q$4","v":0.16981132075471697},{"$f":"IF(P7=0,0,(P7*((LOG(P7))/LOG(2))))","v":-0.43437658637901844},null,null,{"$f":"N7","v":111},{"$f":"COUNTIF(L7:L15,T7)","v":1},{"$f":"U7/(W4-U11)","v":0.5},{"$f":"IF(V7=0,0,(V7*((LOG(V7))/LOG(2))))","v":-0.5},null,{"$f":"N7","v":111},{"$f":"COUNTIF(L16:L24,Y7)","v":2},{"$f":"Z7/(AB4-Z11)","v":0.66666666666666663},{"$f":"IF(AA7=0,0,(AA7*((LOG(AA7))/LOG(2))))","v":-0.38997500048077083},null,{"$f":"N7","v":111},{"$f":"COUNTIF(L25:L32,AD7)","v":2},{"$f":"AE7/(AG4-AE11)","v":1},{"$f":"IF(AF7=0,0,(AF7*((LOG(AF7))/LOG(2))))","v":0},null,{"$f":"N7","v":111},{"$f":"COUNTIF(L33:L41,AI7)","v":2},{"$f":"AJ7/(AL4-AJ11)","v":0.66666666666666663},{"$f":"IF(AK7=0,0,(AK7*((LOG(AK7))/LOG(2))))","v":-0.38997500048077083},null,{"$f":"N7","v":111},{"$f":"COUNTIF(L42:L50,AN7)","v":1},{"$f":"AO7/(AQ4-AO11)","v":1},{"$f":"IF(AP7=0,0,(AP7*((LOG(AP7))/LOG(2))))","v":0},null,{"$f":"N7","v":111},{"$f":"COUNTIF(L51:L59,AS7)","v":1},{"$f":"AT7/(AV4-AT11)","v":0.25},{"$f":"IF(AU7=0,0,(AU7*((LOG(AU7))/LOG(2))))","v":-0.5}]
[21,118,11,126,11,130,null,null,null,null,0,211,null,112,0,0,0,null,null,112,{"$f":"COUNTIF(L7:L15,T8)","v":0},{"$f":"U8/(W4-U11)","v":0},{"$f":"IF(V8=0,0,(V8*((LOG(V8))/LOG(2))))","v":0},null,112,{"$f":"COUNTIF(L16:L24,Y8)","v":0},{"$f":"Z8/(AB4-Z11)","v":0},{"$f":"IF(AA8=0,0,(AA8*((LOG(AA8))/LOG(2))))","v":0},null,112,{"$f":"COUNTIF(L25:L32,AD8)","v":0},{"$f":"AE8/(AG4-AE11)","v":0},{"$f":"IF(AF8=0,0,(AF8*((LOG(AF8))/LOG(2))))","v":0},null,112,{"$f":"COUNTIF(L33:L41,AI8)","v":0},{"$f":"AJ8/(AL4-AJ11)","v":0},{"$f":"IF(AK8=0,0,(AK8*((LOG(AK8))/LOG(2))))","v":0},null,112,{"$f":"COUNTIF(L42:L50,AN8)","v":0},{"$f":"AO8/(AQ4-AO11)","v":0},{"$f":"IF(AP8=0,0,(AP8*((LOG(AP8))/LOG(2))))","v":0},null,112,{"$f":"COUNTIF(L51:L59,AS8)","v":0},{"$f":"AT8/(AV4-AT11)","v":0},{"$f":"IF(AU8=0,0,(AU8*((LOG(AU8))/LOG(2))))","v":0}]
[21,230,11,237,11,240,null,null,null,null,0,211,null,121,0,0,0,null,null,121,{"$f":"COUNTIF(L7:L15,T9)","v":0},{"$f":"U9/(W4-U11)","v":0},{"$f":"IF(V9=0,0,(V9*((LOG(V9))/LOG(2))))","v":0},null,121,{"$f":"COUNTIF(L16:L24,Y9)","v":0},{"$f":"Z9/(AB4-Z11)","v":0},{"$f":"IF(AA9=0,0,(AA9*((LOG(AA9))/LOG(2))))","v":0},null,121,{"$f":"COUNTIF(L25:L32,AD9)","v":0},{"$f":"AE9/(AG4-AE11)","v":0},{"$f":"IF(AF9=0,0,(AF9*((LOG(AF9))/LOG(2))))","v":0},null,121,{"$f":"COUNTIF(L33:L41,AI9)","v":0},{"$f":"AJ9/(AL4-AJ11)","v":0},{"$f":"IF(AK9=0,0,(AK9*((LOG(AK9))/LOG(2))))","v":0},null,121,{"$f":"COUNTIF(L42:L50,AN9)","v":0},{"$f":"AO9/(AQ4-AO11)","v":0},{"$f":"IF(AP9=0,0,(AP9*((LOG(AP9))/LOG(2))))","v":0},null,121,{"$f":"COUNTIF(L51:L59,AS9)","v":0},{"$f":"AT9/(AV4-AT11)","v":0},{"$f":"IF(AU9=0,0,(AU9*((LOG(AU9))/LOG(2))))","v":0}]
[21,333,11,342,11,347,null,null,null,null,0,211,null,122,0,0,0,null,null,122,{"$f":"COUNTIF(L7:L15,T10)","v":0},{"$f":"U10/(W4-U11)","v":0},{"$f":"IF(V10=0,0,(V10*((LOG(V10))/LOG(2))))","v":0},null,122,{"$f":"COUNTIF(L16:L24,Y10)","v":0},{"$f":"Z10/(AB4-Z11)","v":0},{"$f":"IF(AA10=0,0,(AA10*((LOG(AA10))/LOG(2))))","v":0},null,122,{"$f":"COUNTIF(L25:L32,AD10)","v":0},{"$f":"AE10/(AG4-AE11)","v":0},{"$f":"IF(AF10=0,0,(AF10*((LOG(AF10))/LOG(2))))","v":0},null,122,{"$f":"COUNTIF(L33:L41,AI10)","v":0},{"$f":"AJ10/(AL4-AJ11)","v":0},{"$f":"IF(AK10=0,0,(AK10*((LOG(AK10))/LOG(2))))","v":0},null,122,{"$f":"COUNTIF(L42:L50,AN10)","v":0},{"$f":"AO10/(AQ4-AO11)","v":0},{"$f":"IF(AP10=0,0,(AP10*((LOG(AP10))/LOG(2))))","v":0},null,122,{"$f":"COUNTIF(L51:L59,AS10)","v":0},{"$f":"AT10/(AV4-AT11)","v":0},{"$f":"IF(AU10=0,0,(AU10*((LOG(AU10))/LOG(2))))","v":0}]
[21,449,11,457,11,462,null,null,null,null,0,211,null,211,38,0.71698113207547165,-0.34414588231217591,null,null,211,{"$f":"COUNTIF(L7:L15,T11)","v":7},null,null,null,211,{"$f":"COUNTIF(L16:L24,Y11)","v":6},null,null,null,211,{"$f":"COUNTIF(L25:L32,AD11)","v":6},null,null,null,211,{"$f":"COUNTIF(L33:L41,AI11)","v":6},null,null,null,211,{"$f":"COUNTIF(L42:L50,AN11)","v":8},null,null,null,211,{"$f":"COUNTIF(L51:L59,AS11)","v":5}]
[21,555,11,563,11,569,null,null,null,null,0,211,null,212,0,0,0,null,null,212,{"$f":"COUNTIF(L7:L15,T12)","v":0},{"$f":"U12/(W4-U11)","v":0},{"$f":"IF(V12=0,0,(V12*((LOG(V12))/LOG(2))))","v":0},null,212,{"$f":"COUNTIF(L16:L24,Y12)","v":0},{"$f":"Z12/(AB4-Z11)","v":0},{"$f":"IF(AA12=0,0,(AA12*((LOG(AA12))/LOG(2))))","v":0},null,212,{"$f":"COUNTIF(L25:L32,AD12)","v":0},{"$f":"AE12/(AG4-AE11)","v":0},{"$f":"IF(AF12=0,0,(AF12*((LOG(AF12))/LOG(2))))","v":0},null,212,{"$f":"COUNTIF(L33:L41,AI12)","v":0},{"$f":"AJ12/(AL4-AJ11)","v":0},{"$f":"IF(AK12=0,0,(AK12*((LOG(AK12))/LOG(2))))","v":0},null,212,{"$f":"COUNTIF(L42:L50,AN12)","v":0},{"$f":"AO12/(AQ4-AO11)","v":0},{"$f":"IF(AP12=0,0,(AP12*((LOG(AP12))/LOG(2))))","v":0},null,212,{"$f":"COUNTIF(L51:L59,AS12)","v":0},{"$f":"AT12/(AV4-AT11)","v":0},{"$f":"IF(AU12=0,0,(AU12*((LOG(AU12))/LOG(2))))","v":0}]
[21,663,11,674,11,681,null,null,null,null,0,211,null,221,6,0.11320754716981132,-0.35580656081230677,null,null,221,{"$f":"COUNTIF(L7:L15,T13)","v":1},{"$f":"U13/(W4-U11)","v":0.5},{"$f":"IF(V13=0,0,(V13*((LOG(V13))/LOG(2))))","v":-0.5},null,221,{"$f":"COUNTIF(L16:L24,Y13)","v":1},{"$f":"Z13/(AB4-Z11)","v":0.33333333333333331},{"$f":"IF(AA13=0,0,(AA13*((LOG(AA13))/LOG(2))))","v":-0.52832083357371862},null,221,{"$f":"COUNTIF(L25:L32,AD13)","v":0},{"$f":"AE13/(AG4-AE11)","v":0},{"$f":"IF(AF13=0,0,(AF13*((LOG(AF13))/LOG(2))))","v":0},null,221,{"$f":"COUNTIF(L33:L41,AI13)","v":1},{"$f":"AJ13/(AL4-AJ11)","v":0.33333333333333331},{"$f":"IF(AK13=0,0,(AK13*((LOG(AK13))/LOG(2))))","v":-0.52832083357371862},null,221,{"$f":"COUNTIF(L42:L50,AN13)","v":0},{"$f":"AO13/(AQ4-AO11)","v":0},{"$f":"IF(AP13=0,0,(AP13*((LOG(AP13))/LOG(2))))","v":0},null,221,{"$f":"COUNTIF(L51:L59,AS13)","v":3},{"$f":"AT13/(AV4-AT11)","v":0.75},{"$f":"IF(AU13=0,0,(AU13*((LOG(AU13))/LOG(2))))","v":-0.31127812445913283}]
[21,776,11,790,11,809,null,null,null,null,0,211,null,222,0,0,0,null,null,222,{"$f":"COUNTIF(L7:L15,T14)","v":0},{"$f":"U14/(W4-U11)","v":0},{"$f":"IF(V14=0,0,(V14*((LOG(V14))/LOG(2))))","v":0},null,222,{"$f":"COUNTIF(L16:L24,Y14)","v":0},{"$f":"Z14/(AB4-Z11)","v":0},{"$f":"IF(AA14=0,0,(AA14*((LOG(AA14))/LOG(2))))","v":0},null,222,{"$f":"COUNTIF(L25:L32,AD14)","v":0},{"$f":"AE14/(AG4-AE11)","v":0},{"$f":"IF(AF14=0,0,(AF14*((LOG(AF14))/LOG(2))))","v":0},null,222,{"$f":"COUNTIF(L33:L41,AI14)","v":0},{"$f":"AJ14/(AL4-AJ11)","v":0},{"$f":"IF(AK14=0,0,(AK14*((LOG(AK14))/LOG(2))))","v":0},null,222,{"$f":"COUNTIF(L42:L50,AN14)","v":0},{"$f":"AO14/(AQ4-AO11)","v":0},{"$f":"IF(AP14=0,0,(AP14*((LOG(AP14))/LOG(2))))","v":0},null,222,{"$f":"COUNTIF(L51:L59,AS14)","v":0},{"$f":"AT14/(AV4-AT11)","v":0},{"$f":"IF(AU14=0,0,(AU14*((LOG(AU14))/LOG(2))))","v":0}]
[21,899,22,902,13,911,null,null,null,null,0,221,null,null,null,{"$f":"SUM(P7:P14)","v":0.99999999999999989},{"$f":"-SUM(Q7:Q14)","v":1.1343290295035011},null,null,null,null,{"$f":"SUM(V7:V14)","v":1},{"$f":"-SUM(W7:W14)","v":1},null,null,null,{"$f":"SUM(AA7:AA14)","v":1},{"$f":"-SUM(AB7:AB14)","v":0.91829583405448945},null,null,null,{"$f":"SUM(AF7:AF14)","v":1},{"$f":"-SUM(AG7:AG14)","v":0},null,null,null,{"$f":"SUM(AK7:AK14)","v":1},{"$f":"-SUM(AL7:AL14)","v":0.91829583405448945},null,null,null,{"$f":"SUM(AP7:AP14)","v":1},{"$f":"-SUM(AQ7:AQ14)","v":0},null,null,null,{"$f":"SUM(AU7:AU14)","v":1},{"$f":"-SUM(AV7:AV14)","v":0.81127812445913283}]
[21,1049,11,1056,11,1063,null,null,null,null,0,211,null,null,null,"U=",{"$f":"Q15/(LOG(Q4)/LOG(2))","v":0.19803505277379119},null,null,null,null,"U1=",{"$f":"W15/(LOG(W4)/LOG(2))","v":0.31546487678572877},null,null,null,"U2=",{"$f":"AB15/(LOG(AB4)/LOG(2))","v":0.28969008214284753},null,null,null,"U3=",{"$f":"AG15/(LOG(AG4)/LOG(2))","v":0},null,null,null,"U4=",{"$f":"AL15/(LOG(AL4)/LOG(2))","v":0.28969008214284753},null,null,null,"U5=",{"$f":"AQ15/(LOG(AQ4)/LOG(2))","v":0},null,null,null,"U6=",{"$f":"AV15/(LOG(AV4)/LOG(2))","v":0.25592975357145742}]
[12,1160,13,1167,13,1176,null,null,null,null,0,111]
[21,1292,11,1305,11,1310,null,null,null,null,0,211]
[12,1440,13,1443,13,1449,null,null,null,null,0,111,null,"Total Target Seq"]
[21,1543,22,1549,13,1556,null,null,null,null,0,221,null,{"$f":"COUNTIF(L7:L59,G3)","v":38},null,9,9,8,9,9,9]
[21,1654,11,1659,11,1674,null,null,null,null,0,211,null,null,null,"% of reinforcement given in 6 equal intervals based on number of trials "]
[21,1801,11,1811,11,1814,null,null,null,null,0,211,null,null,null,"%_1","%_2","%_3","%_4","%_5","%_6"]
[21,1906,11,1914,11,1919,null,null,null,null,0,211,null,null,"target sequence",{"$f":"$G$3","v":211},211,211,211,211,211]
[21,2025,11,2037,11,2044,null,null,null,null,0,211,null,null,"total reinforcement",{"$f":"U11","v":7},{"$f":"Z11","v":6},{"$f":"AE11","v":6},{"$f":"AJ11","v":6},{"$f":"AO11","v":8},{"$f":"AT11","v":5}]
[12,2297,13,2302,13,2308,null,null,null,null,0,111,null,null,"% target"]
[12,2410,13,2414,13,2420,null,null,null,null,0,111,null,null,"CCRF"]
[21,2517,11,2523,11,2533,null,null,null,null,0,211,null,null,"% CCRf"]
[21,2628,11,2636,11,2642,null,null,null,null,0,211,null,null,"average response rate",{"$f":"F15/P20","v":101.22222222222223},{"$f":"(F24-F15)/Q20","v":125.88888888888889},{"$f":"(F32-F24)/R20","v":139.75},{"$f":"(F41-F32)/S20","v":113.88888888888889},{"$f":"(F50-F41)/T20","v":149.33333333333334},{"$f":"(F59-F50)/U20","v":115}]
[21,2787,11,2797,11,2808,null,null,null,null,0,211]
[21,2928,11,2937,11,2942,null,null,null,null,0,211]
[21,3032,11,3043,11,3047,null,null,null,null,0,211]
[21,3139,11,3149,11,3162,null,null,null,null,0,211]
[12,3266,13,3278,13,3285,null,null,null,null,0,111]
[21,3380,11,3387,11,3391,null,null,null,null,0,211]
[21,3483,11,3490,11,3496,null,null,null,null,0,211]
[21,3588,11,3594,11,3598,null,null,null,null,0,211]
[12,3696,13,3701,13,3706,null,null,null,null,0,111]
[21,3802,11,3808,11,3823,null,null,null,null,0,211]
[21,3962,11,3970,11,3975,null,null,null,null,0,211]
[21,4063,11,4074,11,4079,null,null,null,null,0,211]
[21,4172,22,4176,13,4187,null,null,null,null,0,221]
[21,4306,11,4321,11,4329,null,null,null,null,0,211]
[21,4448,11,4456,11,4459,null,null,null,null,0,211]
[21,4550,11,4557,11,4561,null,null,null,null,0,211]
[21,4655,11,4666,11,4678,null,null,null,null,0,211]
[21,5070,11,5077,11,5080,null,null,null,null,0,211]
[12,5174,13,5177,13,5184,null,null,null,null,0,111]
[21,5281,11,5289,11,5296,null,null,null,null,0,211]
[21,5390,11,5402,11,5409,null,null,null,null,0,211]
[21,5516,11,5526,11,5531,null,null,null,null,0,211]
[21,5624,11,5634,11,5646,null,null,null,null,0,211]
[21,5735,22,5737,13,5744,null,null,null,null,0,221]
[21,5841,11,5848,11,5852,null,null,null,null,0,211]
[21,5955,11,5972,11,5979,null,null,null,null,0,211]
[12,6111,13,6118,13,6125,null,null,null,null,0,111]
[21,6218,11,6226,11,6228,null,null,null,null,0,211]
[21,6328,22,6333,13,6348,null,null,null,null,0,221]
[21,6441,22,6445,13,6454,null,null,null,null,0,221]
[21,6550,11,6557,11,6566,null,null,null,null,1,211]

{"sheet":"!N21793T.AYL","index":19,"n_rows":67,"n_cols":48,"rows_kept":67,"cut":false,"hidden":false,"merged":[[1,1,1,2],[5,13,5,14],[18,13,18,14],[19,13,19,14],[4,19,4,22],[5,19,5,20],[4,39,4,42],[5,39,5,40],[4,44,4,47],[5,44,5,45],[4,24,4,27],[5,24,5,25],[4,29,4,32],[5,29,5,30],[4,34,4,37],[5,34,5,35]]}
["Report for:!N21793T.AYL"]
["Date:","<date>"]
["Hen:","<hen>",null,null,null,"Correct Sequence",{"$f":"Start!J2","v":211},null,null,null,null,null,null,null,null,"Total Sequences in Data",{"$f":"4994-COUNTBLANK(L7:L5000)","v":61},null,null,null,null,"Total Sequences in Block Data",{"$f":"COUNTA(L7:L16)","v":10},null,null,null,"Total Sequences in Block Data",{"$f":"COUNTA(L17:L26)","v":10},null,null,null,"Total Sequences in Block Data",{"$f":"COUNTA(L27:L37)","v":11},null,null,null,"Total Sequences in Block Data",{"$f":"COUNTA(L38:L47)","v":10},null,null,null,"Total Sequences in Block Data",{"$f":"COUNTA(L48:L57)","v":10},null,null,null,"Total Sequences in Block Data",{"$f":"COUNTA(L58:L67)","v":10}]
[null,null,null,null,null,null,null,null,null,null,null,null,null,null,null,"Total Sequences in Summary",{"$f":"SUM(O7:O14)","v":61},null,null,null,null,"Total Sequences in Block Summary",{"$f":"SUM(U7:U14)","v":10},null,null,null,"Total Sequences in Block Summary",{"$f":"SUM(Z7:Z14)","v":10},null,null,null,"Total Sequences in Block Summary",{"$f":"SUM(AE7:AE14)","v":11},null,null,null,"Total Sequences in Block Summary",{"$f":"SUM(AJ7:AJ14)","v":10},null,null,null,"Total Sequences in Block Summary",{"$f":"SUM(AO7:AO14)","v":10},null,null,null,"Total Sequences in Block Summary",{"$f":"SUM(AT7:AT14)","v":10}]
[null,null,null,null,null,null,null,null,null,null,null,null,null,null,null,null,null,null,null,"Block 1",null,null,null,null,"Block 2",null,null,null,null,"Block 3",null,null,null,null,"Block 4",null,null,null,null,"Block 5",null,null,null,null,"Block 6"]
["Sequence\nComponent\n1","Time\n1","Sequence\nComponent\n2","Time\n2","Sequence\nComponent\n3","Time\n3","Sequence\nComponent\n4","Time\n4","Sequence\nComponent\n5","Time\n5","Correct?\n0=No 1=Yes","Sequence",null,"Frequency",null,"Relative Frequency","Variability",null,null,"Frequency",null,"Relative Frequency","Variability",null,"Frequency",null,"Relative Frequency","Variability",null,"Frequency",null,"Relative Frequency","Variability",null,"Frequency",null,"Relative Frequency","Variability",null,"Frequency",null,"Relative Frequency","Variability",null,"Frequency",null,"Relative Frequency","Variability"]
[12,8,13,14,13,20,null,null,null,null,0,111,null,111,{"$f":"COUNTIF($L$7:$L$500,N7)","v":19},{"$f":"O7/$Q$4","v":0.31147540983606559},{"$f":"IF(P7=0,0,(P7*((LOG(P7))/LOG(2))))","v":-0.52415387964371662},null,null,{"$f":"N7","v":111},{"$f":"COUNTIF(L7:L16,T7)","v":5},{"$f":"U7/(W4-U11)","v":0.83333333333333337},{"$f":"IF(V7=0,0,(V7*((LOG(V7))/LOG(2))))","v":-0.21919533819482812},null,{"$f":"N7","v":111},{"$f":"COUNTIF(L17:L26,Y7)","v":3},{"$f":"Z7/(AB4-Z11)","v":0.75},{"$f":"IF(AA7=0,0,(AA7*((LOG(AA7))/LOG(2))))","v":-0.31127812445913283},null,{"$f":"N7","v":111},{"$f":"COUNTIF(L27:L37,AD7)","v":3},{"$f":"AE7/(AG4-AE11)","v":0.75},{"$f":"IF(AF7=0,0,(AF7*((LOG(AF7))/LOG(2))))","v":-0.31127812445913283},null,{"$f":"N7","v":111},{"$f":"COUNTIF(L38:L47,AI7)","v":3},{"$f":"AJ7/(AL4-AJ11)","v":0.75},{"$f":"IF(AK7=0,0,(AK7*((LOG(AK7))/LOG(2))))","v":-0.31127812445913283},null,{"$f":"N7","v":111},{"$f":"COUNTIF(L48:L57,AN7)","v":2},{"$f":"AO7/(AQ4-AO11)","v":1},{"$f":"IF(AP7=0,0,(AP7*((LOG(AP7))/LOG(2))))","v":0},null,{"$f":"N7","v":111},{"$f":"COUNTIF(L58:L67,AS7)","v":3},{"$f":"AT7/(AV4-AT11)","v":0.5},{"$f":"IF(AU7=0,0,(AU7*((LOG(AU7))/LOG(2))))","v":-0.5}]
[12,122,13,131,13,139,null,null,null,null,0,111,null,112,0,0,0,null,null,112,{"$f":"COUNTIF(L7:L16,T8)","v":0},{"$f":"U8/(W4-U11)","v":0},{"$f":"IF(V8=0,0,(V8*((LOG(V8))/LOG(2))))","v":0},null,112,{"$f":"COUNTIF(L17:L26,Y8)","v":0},{"$f":"Z8/(AB4-Z11)","v":0},{"$f":"IF(AA8=0,0,(AA8*((LOG(AA8))/LOG(2))))","v":0},null,112,{"$f":"COUNTIF(L27:L37,AD8)","v":0},{"$f":"AE8/(AG4-AE11)","v":0},{"$f":"IF(AF8=0,0,(AF8*((LOG(AF8))/LOG(2))))","v":0},null,112,{"$f":"COUNTIF(L38:L47,AI8)","v":0},{"$f":"AJ8/(AL4-AJ11)","v":0},{"$f":"IF(AK8=0,0,(AK8*((LOG(AK8))/LOG(2))))","v":0},null,112,{"$f":"COUNTIF(L48:L57,AN8)","v":0},{"$f":"AO8/(AQ4-AO11)","v":0},{"$f":"IF(AP8=0,0,(AP8*((LOG(AP8))/LOG(2))))","v":0},null,112,{"$f":"COUNTIF(L58:L67,AS8)","v":0},{"$f":"AT8/(AV4-AT11)","v":0},{"$f":"IF(AU8=0,0,(AU8*((LOG(AU8))/LOG(2))))","v":0}]
[12,243,13,247,13,261,null,null,null,null,0,111,null,121,0,0,0,null,null,121,{"$f":"COUNTIF(L7:L16,T9)","v":0},{"$f":"U9/(W4-U11)","v":0},{"$f":"IF(V9=0,0,(V9*((LOG(V9))/LOG(2))))","v":0},null,121,{"$f":"COUNTIF(L17:L26,Y9)","v":0},{"$f":"Z9/(AB4-Z11)","v":0},{"$f":"IF(AA9=0,0,(AA9*((LOG(AA9))/LOG(2))))","v":0},null,121,{"$f":"COUNTIF(L27:L37,AD9)","v":0},{"$f":"AE9/(AG4-AE11)","v":0},{"$f":"IF(AF9=0,0,(AF9*((LOG(AF9))/LOG(2))))","v":0},null,121,{"$f":"COUNTIF(L38:L47,AI9)","v":0},{"$f":"AJ9/(AL4-AJ11)","v":0},{"$f":"IF(AK9=0,0,(AK9*((LOG(AK9))/LOG(2))))","v":0},null,121,{"$f":"COUNTIF(L48:L57,AN9)","v":0},{"$f":"AO9/(AQ4-AO11)","v":0},{"$f":"IF(AP9=0,0,(AP9*((LOG(AP9))/LOG(2))))","v":0},null,121,{"$f":"COUNTIF(L58:L67,AS9)","v":0},{"$f":"AT9/(AV4-AT11)","v":0},{"$f":"IF(AU9=0,0,(AU9*((LOG(AU9))/LOG(2))))","v":0}]
[12,365,13,369,13,375,null,null,null,null,0,111,null,122,0,0,0,null,null,122,{"$f":"COUNTIF(L7:L16,T10)","v":0},{"$f":"U10/(W4-U11)","v":0},{"$f":"IF(V10=0,0,(V10*((LOG(V10))/LOG(2))))","v":0},null,122,{"$f":"COUNTIF(L17:L26,Y10)","v":0},{"$f":"Z10/(AB4-Z11)","v":0},{"$f":"IF(AA10=0,0,(AA10*((LOG(AA10))/LOG(2))))","v":0},null,122,{"$f":"COUNTIF(L27:L37,AD10)","v":0},{"$f":"AE10/(AG4-AE11)","v":0},{"$f":"IF(AF10=0,0,(AF10*((LOG(AF10))/LOG(2))))","v":0},null,122,{"$f":"COUNTIF(L38:L47,AI10)","v":0},{"$f":"AJ10/(AL4-AJ11)","v":0},{"$f":"IF(AK10=0,0,(AK10*((LOG(AK10))/LOG(2))))","v":0},null,122,{"$f":"COUNTIF(L48:L57,AN10)","v":0},{"$f":"AO10/(AQ4-AO11)","v":0},{"$f":"IF(AP10=0,0,(AP10*((LOG(AP10))/LOG(2))))","v":0},null,122,{"$f":"COUNTIF(L58:L67,AS10)","v":0},{"$f":"AT10/(AV4-AT11)","v":0},{"$f":"IF(AU10=0,0,(AU10*((LOG(AU10))/LOG(2))))","v":0}]
[12,480,13,489,13,496,null,null,null,null,0,111,null,211,35,0.57377049180327866,-0.45985083969880647,null,null,211,{"$f":"COUNTIF(L7:L16,T11)","v":4},null,null,null,211,{"$f":"COUNTIF(L17:L26,Y11)","v":6},null,null,null,211,{"$f":"COUNTIF(L27:L37,AD11)","v":7},null,null,null,211,{"$f":"COUNTIF(L38:L47,AI11)","v":6},null,null,null,211,{"$f":"COUNTIF(L48:L57,AN11)","v":8},null,null,null,211,{"$f":"COUNTIF(L58:L67,AS11)","v":4}]
[21,590,22,593,13,600,null,null,null,null,0,221,null,212,0,0,0,null,null,212,{"$f":"COUNTIF(L7:L16,T12)","v":0},{"$f":"U12/(W4-U11)","v":0},{"$f":"IF(V12=0,0,(V12*((LOG(V12))/LOG(2))))","v":0},null,212,{"$f":"COUNTIF(L17:L26,Y12)","v":0},{"$f":"Z12/(AB4-Z11)","v":0},{"$f":"IF(AA12=0,0,(AA12*((LOG(AA12))/LOG(2))))","v":0},null,212,{"$f":"COUNTIF(L27:L37,AD12)","v":0},{"$f":"AE12/(AG4-AE11)","v":0},{"$f":"IF(AF12=0,0,(AF12*((LOG(AF12))/LOG(2))))","v":0},null,212,{"$f":"COUNTIF(L38:L47,AI12)","v":0},{"$f":"AJ12/(AL4-AJ11)","v":0},{"$f":"IF(AK12=0,0,(AK12*((LOG(AK12))/LOG(2))))","v":0},null,212,{"$f":"COUNTIF(L48:L57,AN12)","v":0},{"$f":"AO12/(AQ4-AO11)","v":0},{"$f":"IF(AP12=0,0,(AP12*((LOG(AP12))/LOG(2))))","v":0},null,212,{"$f":"COUNTIF(L58:L67,AS12)","v":0},{"$f":"AT12/(AV4-AT11)","v":0},{"$f":"IF(AU12=0,0,(AU12*((LOG(AU12))/LOG(2))))","v":0}]
[21,697,11,705,11,711,null,null,null,null,0,211,null,221,6,9.8360655737704916E-2,-0.32909260690246528,null,null,221,{"$f":"COUNTIF(L7:L16,T13)","v":1},{"$f":"U13/(W4-U11)","v":0.16666666666666666},{"$f":"IF(V13=0,0,(V13*((LOG(V13))/LOG(2))))","v":-0.43082708345352599},null,221,{"$f":"COUNTIF(L17:L26,Y13)","v":1},{"$f":"Z13/(AB4-Z11)","v":0.25},{"$f":"IF(AA13=0,0,(AA13*((LOG(AA13))/LOG(2))))","v":-0.5},null,221,{"$f":"COUNTIF(L27:L37,AD13)","v":1},{"$f":"AE13/(AG4-AE11)","v":0.25},{"$f":"IF(AF13=0,0,(AF13*((LOG(AF13))/LOG(2))))","v":-0.5},null,221,{"$f":"COUNTIF(L38:L47,AI13)","v":0},{"$f":"AJ13/(AL4-AJ11)","v":0},{"$f":"IF(AK13=0,0,(AK13*((LOG(AK13))/LOG(2))))","v":0},null,221,{"$f":"COUNTIF(L48:L57,AN13)","v":0},{"$f":"AO13/(AQ4-AO11)","v":0},{"$f":"IF(AP13=0,0,(AP13*((LOG(AP13))/LOG(2))))","v":0},null,221,{"$f":"COUNTIF(L58:L67,AS13)","v":3},{"$f":"AT13/(AV4-AT11)","v":0.5},{"$f":"IF(AU13=0,0,(AU13*((LOG(AU13))/LOG(2))))","v":-0.5}]
[21,810,11,820,11,826,null,null,null,null,0,211,null,222,1,1.6393442622950821E-2,-9.7225202255129275E-2,null,null,222,{"$f":"COUNTIF(L7:L16,T14)","v":0},{"$f":"U14/(W4-U11)","v":0},{"$f":"IF(V14=0,0,(V14*((LOG(V14))/LOG(2))))","v":0},null,222,{"$f":"COUNTIF(L17:L26,Y14)","v":0},{"$f":"Z14/(AB4-Z11)","v":0},{"$f":"IF(AA14=0,0,(AA14*((LOG(AA14))/LOG(2))))","v":0},null,222,{"$f":"COUNTIF(L27:L37,AD14)","v":0},{"$f":"AE14/(AG4-AE11)","v":0},{"$f":"IF(AF14=0,0,(AF14*((LOG(AF14))/LOG(2))))","v":0},null,222,{"$f":"COUNTIF(L38:L47,AI14)","v":1},{"$f":"AJ14/(AL4-AJ11)","v":0.25},{"$f":"IF(AK14=0,0,(AK14*((LOG(AK14))/LOG(2))))","v":-0.5},null,222,{"$f":"COUNTIF(L48:L57,AN14)","v":0},{"$f":"AO14/(AQ4-AO11)","v":0},{"$f":"IF(AP14=0,0,(AP14*((LOG(AP14))/LOG(2))))","v":0},null,222,{"$f":"COUNTIF(L58:L67,AS14)","v":0},{"$f":"AT14/(AV4-AT11)","v":0},{"$f":"IF(AU14=0,0,(AU14*((LOG(AU14))/LOG(2))))","v":0}]
[21,921,11,930,11,940,null,null,null,null,0,211,null,null,null,{"$f":"SUM(P7:P14)","v":1},{"$f":"-SUM(Q7:Q14)","v":1.4103225285001175},null,null,null,null,{"$f":"SUM(V7:V14)","v":1},{"$f":"-SUM(W7:W14)","v":0.65002242164835411},null,null,null,{"$f":"SUM(AA7:AA14)","v":1},{"$f":"-SUM(AB7:AB14)","v":0.81127812445913283},null,null,null,{"$f":"SUM(AF7:AF14)","v":1},{"$f":"-SUM(AG7:AG14)","v":0.81127812445913283},null,null,null,{"$f":"SUM(AK7:AK14)","v":1},{"$f":"-SUM(AL7:AL14)","v":0.81127812445913283},null,null,null,{"$f":"SUM(AP7:AP14)","v":1},{"$f":"-SUM(AQ7:AQ14)","v":0},null,null,null,{"$f":"SUM(AU7:AU14)","v":1},{"$f":"-SUM(AV7:AV14)","v":1}]
[21,1036,11,1044,11,1048,null,null,null,null,0,211,null,null,null,"U=",{"$f":"Q15/(LOG(Q4)/LOG(2))","v":0.23779885168201703},null,null,null,null,"U1=",{"$f":"W15/(LOG(W4)/LOG(2))","v":0.1956762467702946},null,null,null,"U2=",{"$f":"AB15/(LOG(AB4)/LOG(2))","v":0.24421905028821556},null,null,null,"U3=",{"$f":"AG15/(LOG(AG4)/LOG(2))","v":0.23451197014228101},null,null,null,"U4=",{"$f":"AL15/(LOG(AL4)/LOG(2))","v":0.24421905028821556},null,null,null,"U5=",{"$f":"AQ15/(LOG(AQ4)/LOG(2))","v":0},null,null,null,"U6=",{"$f":"AV15/(LOG(AV4)/LOG(2))","v":0.3010299956639812}]
[21,1142,11,1157,11,1169,null,null,null,null,0,211]
[21,1312,11,1325,11,1331,null,null,null,null,0,211]
[21,1422,22,1425,13,1432,null,null,null,null,0,221,null,"Total Target Seq"]
[21,1528,11,1537,11,1542,null,null,null,null,0,211,null,{"$f":"COUNTIF(L7:L67,G3)","v":35},null,10,10,11,10,10,10]
[21,1633,11,1642,11,1647,null,null,null,null,0,211,null,null,null,"% of reinforcement given in 6 equal intervals based on number of trials "]
[12,1750,13,1768,13,1792,null,null,null,null,0,111,null,null,null,"%_1","%_2","%_3","%_4","%_5","%_6"]
[12,1891,13,1895,13,1898,null,null,null,null,0,111,null,null,"target sequence",{"$f":"$G$3","v":211},211,211,211,211,211]
[12,2001,13,2007,13,2016,null,null,null,null,0,111,null,null,"total reinforcement",{"$f":"U11","v":4},{"$f":"Z11","v":6},{"$f":"AE11","v":7},{"$f":"AJ11","v":6},{"$f":"AO11","v":8},{"$f":"AT11","v":4}]
[21,2107,11,2113,11,2117,null,null,null,null,0,211,null,null,"% target"]
[21,2209,11,2218,11,2225,null,null,null,null,0,211,null,null,"CCRF"]
[21,2317,11,2325,11,2328,null,null,null,null,0,211,null,null,"% CCRf"]
[21,2419,11,2433,11,2450,null,null,null,null,0,211,null,null,"average response rate",{"$f":"F16/P20","v":104.8},{"$f":"(F26-F16)/Q20","v":117.7},{"$f":"(F37-F26)/R20","v":119},{"$f":"(F47-F37)/S20","v":130.1},{"$f":"(F57-F47)/T20","v":152.6},{"$f":"(F67-F57)/U20","v":139}]
[12,2556,13,2563,13,2570,null,null,null,null,0,111]
[21,2730,11,2737,11,2740,null,null,null,null,0,211]
[21,2834,11,2842,11,2865,null,null,null,null,0,211]
[21,2956,11,2966,11,2972,null,null,null,null,0,211]
[21,3064,11,3072,11,3076,null,null,null,null,0,211]
[12,3194,13,3206,13,3213,null,null,null,null,0,111]
[12,3315,13,3319,13,3327,null,null,null,null,0,111]
[21,3419,22,3421,13,3427,null,null,null,null,0,221]
[21,3522,11,3528,11,3534,null,null,null,null,0,211]
[12,3635,13,3642,13,3654,null,null,null,null,0,111]
[21,3768,22,3773,24,3777,null,null,null,null,0,222]
[21,3871,11,3879,11,3884,null,null,null,null,0,211]
[12,3981,13,3983,13,3990,null,null,null,null,0,111]
[12,4091,13,4097,13,4106,null,null,null,null,0,111]
[21,4203,11,4214,11,4229,null,null,null,null,0,211]
[21,4322,11,4329,11,4334,null,null,null,null,0,211]
[21,4572,11,4578,11,4587,null,null,null,null,0,211]
[21,4679,11,4689,11,4699,null,null,null,null,0,211]
[21,4816,11,4827,11,4835,null,null,null,null,0,211]
[21,4926,11,4935,11,4939,null,null,null,null,0,211]
[21,5052,11,5062,11,5075,null,null,null,null,0,211]
[21,5168,11,5179,11,5207,null,null,null,null,0,211]
[21,5327,11,5339,11,5347,null,null,null,null,0,211]
[21,5460,11,5468,11,5473,null,null,null,null,0,211]
[12,5838,13,5848,13,5857,null,null,null,null,0,111]
[21,5953,11,5960,11,5964,null,null,null,null,0,211]
[21,6057,11,6066,11,6068,null,null,null,null,0,211]
[21,6159,11,6167,11,6172,null,null,null,null,0,211]
[12,6344,13,6353,13,6361,null,null,null,null,0,111]
[21,6458,22,6460,13,6479,null,null,null,null,0,221]
[21,6576,11,6591,11,6595,null,null,null,null,0,211]
[12,6693,13,6700,13,6714,null,null,null,null,0,111]
[21,6809,11,6816,11,6820,null,null,null,null,0,211]
[12,6919,13,6928,13,6944,null,null,null,null,0,111]
[21,7041,22,7043,13,7049,null,null,null,null,0,221]
[21,7142,22,7144,13,7151,null,null,null,null,0,221]
[12,7249,13,7254,13,7267,null,null,null,null,0,111]
[21,7364,11,7374,11,7392,null,null,null,null,0,211]
[21,7731,11,7740,11,7751,null,null,null,null,1,211]

{"sheet":"!N218A1T.AYL","index":20,"n_rows":64,"n_cols":48,"rows_kept":64,"cut":false,"hidden":false,"merged":[[1,1,1,2],[5,13,5,14],[18,13,18,14],[19,13,19,14],[4,19,4,22],[5,19,5,20],[4,39,4,42],[5,39,5,40],[4,44,4,47],[5,44,5,45],[4,24,4,27],[5,24,5,25],[4,29,4,32],[5,29,5,30],[4,34,4,37],[5,34,5,35]]}
["Report for:!N218A1T.AYL"]
["Date:","<date>"]
["Hen:","<hen>",null,null,null,"Correct Sequence",{"$f":"Start!J2","v":211},null,null,null,null,null,null,null,null,"Total Sequences in Data",{"$f":"4994-COUNTBLANK(L7:L5000)","v":58},null,null,null,null,"Total Sequences in Block Data",{"$f":"COUNTA(L7:L16)","v":10},null,null,null,"Total Sequences in Block Data",{"$f":"COUNTA(L17:L25)","v":9},null,null,null,"Total Sequences in Block Data",{"$f":"COUNTA(L26:L35)","v":10},null,null,null,"Total Sequences in Block Data",{"$f":"COUNTA(L36:L45)","v":10},null,null,null,"Total Sequences in Block Data",{"$f":"COUNTA(L46:L54)","v":9},null,null,null,"Total Sequences in Block Data",{"$f":"COUNTA(L55:L64)","v":10}]
[null,null,null,null,null,null,null,null,null,null,null,null,null,null,null,"Total Sequences in Summary",{"$f":"SUM(O7:O14)","v":58},null,null,null,null,"Total Sequences in Block Summary",{"$f":"SUM(U7:U14)","v":10},null,null,null,"Total Sequences in Block Summary",{"$f":"SUM(Z7:Z14)","v":9},null,null,null,"Total Sequences in Block Summary",{"$f":"SUM(AE7:AE14)","v":10},null,null,null,"Total Sequences in Block Summary",{"$f":"SUM(AJ7:AJ14)","v":10},null,null,null,"Total Sequences in Block Summary",{"$f":"SUM(AO7:AO14)","v":9},null,null,null,"Total Sequences in Block Summary",{"$f":"SUM(AT7:AT14)","v":10}]
[null,null,null,null,null,null,null,null,null,null,null,null,null,null,null,null,null,null,null,"Block 1",null,null,null,null,"Block 2",null,null,null,null,"Block 3",null,null,null,null,"Block 4",null,null,null,null,"Block 5",null,null,null,null,"Block 6"]
["Sequence\nComponent\n1","Time\n1","Sequence\nComponent\n2","Time\n2","Sequence\nComponent\n3","Time\n3","Sequence\nComponent\n4","Time\n4","Sequence\nComponent\n5","Time\n5","Correct?\n0=No 1=Yes","Sequence",null,"Frequency",null,"Relative Frequency","Variability",null,null,"Frequency",null,"Relative Frequency","Variability",null,"Frequency",null,"Relative Frequency","Variability",null,"Frequency",null,"Relative Frequency","Variability",null,"Frequency",null,"Relative Frequency","Variability",null,"Frequency",null,"Relative Frequency","Variability",null,"Frequency",null,"Relative Frequency","Variability"]
[12,7,13,11,13,16,null,null,null,null,0,111,null,111,{"$f":"COUNTIF($L$7:$L$500,N7)","v":19},{"$f":"O7/$Q$4","v":0.32758620689655171},{"$f":"IF(P7=0,0,(P7*((LOG(P7))/LOG(2))))","v":-0.52743131296544388},null,null,{"$f":"N7","v":111},{"$f":"COUNTIF(L7:L16,T7)","v":7},{"$f":"U7/(W4-U11)","v":1},{"$f":"IF(V7=0,0,(V7*((LOG(V7))/LOG(2))))","v":0},null,{"$f":"N7","v":111},{"$f":"COUNTIF(L17:L25,Y7)","v":2},{"$f":"Z7/(AB4-Z11)","v":1},{"$f":"IF(AA7=0,0,(AA7*((LOG(AA7))/LOG(2))))","v":0},null,{"$f":"N7","v":111},{"$f":"COUNTIF(L26:L35,AD7)","v":3},{"$f":"AE7/(AG4-AE11)","v":0.75},{"$f":"IF(AF7=0,0,(AF7*((LOG(AF7))/LOG(2))))","v":-0.31127812445913283},null,{"$f":"N7","v":111},{"$f":"COUNTIF(L36:L45,AI7)","v":3},{"$f":"AJ7/(AL4-AJ11)","v":1},{"$f":"IF(AK7=0,0,(AK7*((LOG(AK7))/LOG(2))))","v":0},null,{"$f":"N7","v":111},{"$f":"COUNTIF(L46:L54,AN7)","v":3},{"$f":"AO7/(AQ4-AO11)","v":1},{"$f":"IF(AP7=0,0,(AP7*((LOG(AP7))/LOG(2))))","v":0},null,{"$f":"N7","v":111},{"$f":"COUNTIF(L55:L64,AS7)","v":1},{"$f":"AT7/(AV4-AT11)","v":1},{"$f":"IF(AU7=0,0,(AU7*((LOG(AU7))/LOG(2))))","v":0}]
[21,111,11,118,11,122,null,null,null,null,0,211,null,112,0,0,0,null,null,112,{"$f":"COUNTIF(L7:L16,T8)","v":0},{"$f":"U8/(W4-U11)","v":0},{"$f":"IF(V8=0,0,(V8*((LOG(V8))/LOG(2))))","v":0},null,112,{"$f":"COUNTIF(L17:L25,Y8)","v":0},{"$f":"Z8/(AB4-Z11)","v":0},{"$f":"IF(AA8=0,0,(AA8*((LOG(AA8))/LOG(2))))","v":0},null,112,{"$f":"COUNTIF(L26:L35,AD8)","v":0},{"$f":"AE8/(AG4-AE11)","v":0},{"$f":"IF(AF8=0,0,(AF8*((LOG(AF8))/LOG(2))))","v":0},null,112,{"$f":"COUNTIF(L36:L45,AI8)","v":0},{"$f":"AJ8/(AL4-AJ11)","v":0},{"$f":"IF(AK8=0,0,(AK8*((LOG(AK8))/LOG(2))))","v":0},null,112,{"$f":"COUNTIF(L46:L54,AN8)","v":0},{"$f":"AO8/(AQ4-AO11)","v":0},{"$f":"IF(AP8=0,0,(AP8*((LOG(AP8))/LOG(2))))","v":0},null,112,{"$f":"COUNTIF(L55:L64,AS8)","v":0},{"$f":"AT8/(AV4-AT11)","v":0},{"$f":"IF(AU8=0,0,(AU8*((LOG(AU8))/LOG(2))))","v":0}]
[12,253,13,267,13,274,null,null,null,null,0,111,null,121,0,0,0,null,null,121,{"$f":"COUNTIF(L7:L16,T9)","v":0},{"$f":"U9/(W4-U11)","v":0},{"$f":"IF(V9=0,0,(V9*((LOG(V9))/LOG(2))))","v":0},null,121,{"$f":"COUNTIF(L17:L25,Y9)","v":0},{"$f":"Z9/(AB4-Z11)","v":0},{"$f":"IF(AA9=0,0,(AA9*((LOG(AA9))/LOG(2))))","v":0},null,121,{"$f":"COUNTIF(L26:L35,AD9)","v":0},{"$f":"AE9/(AG4-AE11)","v":0},{"$f":"IF(AF9=0,0,(AF9*((LOG(AF9))/LOG(2))))","v":0},null,121,{"$f":"COUNTIF(L36:L45,AI9)","v":0},{"$f":"AJ9/(AL4-AJ11)","v":0},{"$f":"IF(AK9=0,0,(AK9*((LOG(AK9))/LOG(2))))","v":0},null,121,{"$f":"COUNTIF(L46:L54,AN9)","v":0},{"$f":"AO9/(AQ4-AO11)","v":0},{"$f":"IF(AP9=0,0,(AP9*((LOG(AP9))/LOG(2))))","v":0},null,121,{"$f":"COUNTIF(L55:L64,AS9)","v":0},{"$f":"AT9/(AV4-AT11)","v":0},{"$f":"IF(AU9=0,0,(AU9*((LOG(AU9))/LOG(2))))","v":0}]
[12,533,13,541,13,549,null,null,null,null,0,111,null,122,0,0,0,null,null,122,{"$f":"COUNTIF(L7:L16,T10)","v":0},{"$f":"U10/(W4-U11)","v":0},{"$f":"IF(V10=0,0,(V10*((LOG(V10))/LOG(2))))","v":0},null,122,{"$f":"COUNTIF(L17:L25,Y10)","v":0},{"$f":"Z10/(AB4-Z11)","v":0},{"$f":"IF(AA10=0,0,(AA10*((LOG(AA10))/LOG(2))))","v":0},null,122,{"$f":"COUNTIF(L26:L35,AD10)","v":0},{"$f":"AE10/(AG4-AE11)","v":0},{"$f":"IF(AF10=0,0,(AF10*((LOG(AF10))/LOG(2))))","v":0},null,122,{"$f":"COUNTIF(L36:L45,AI10)","v":0},{"$f":"AJ10/(AL4-AJ11)","v":0},{"$f":"IF(AK10=0,0,(AK10*((LOG(AK10))/LOG(2))))","v":0},null,122,{"$f":"COUNTIF(L46:L54,AN10)","v":0},{"$f":"AO10/(AQ4-AO11)","v":0},{"$f":"IF(AP10=0,0,(AP10*((LOG(AP10))/LOG(2))))","v":0},null,122,{"$f":"COUNTIF(L55:L64,AS10)","v":0},{"$f":"AT10/(AV4-AT11)","v":0},{"$f":"IF(AU10=0,0,(AU10*((LOG(AU10))/LOG(2))))","v":0}]
[12,651,13,656,13,667,null,null,null,null,0,111,null,211,38,0.65517241379310343,-0.39969021213778433,null,null,211,{"$f":"COUNTIF(L7:L16,T11)","v":3},null,null,null,211,{"$f":"COUNTIF(L17:L25,Y11)","v":7},null,null,null,211,{"$f":"COUNTIF(L26:L35,AD11)","v":6},null,null,null,211,{"$f":"COUNTIF(L36:L45,AI11)","v":7},null,null,null,211,{"$f":"COUNTIF(L46:L54,AN11)","v":6},null,null,null,211,{"$f":"COUNTIF(L55:L64,AS11)","v":9}]
[21,763,11,768,11,772,null,null,null,null,0,211,null,212,0,0,0,null,null,212,{"$f":"COUNTIF(L7:L16,T12)","v":0},{"$f":"U12/(W4-U11)","v":0},{"$f":"IF(V12=0,0,(V12*((LOG(V12))/LOG(2))))","v":0},null,212,{"$f":"COUNTIF(L17:L25,Y12)","v":0},{"$f":"Z12/(AB4-Z11)","v":0},{"$f":"IF(AA12=0,0,(AA12*((LOG(AA12))/LOG(2))))","v":0},null,212,{"$f":"COUNTIF(L26:L35,AD12)","v":0},{"$f":"AE12/(AG4-AE11)","v":0},{"$f":"IF(AF12=0,0,(AF12*((LOG(AF12))/LOG(2))))","v":0},null,212,{"$f":"COUNTIF(L36:L45,AI12)","v":0},{"$f":"AJ12/(AL4-AJ11)","v":0},{"$f":"IF(AK12=0,0,(AK12*((LOG(AK12))/LOG(2))))","v":0},null,212,{"$f":"COUNTIF(L46:L54,AN12)","v":0},{"$f":"AO12/(AQ4-AO11)","v":0},{"$f":"IF(AP12=0,0,(AP12*((LOG(AP12))/LOG(2))))","v":0},null,212,{"$f":"COUNTIF(L55:L64,AS12)","v":0},{"$f":"AT12/(AV4-AT11)","v":0},{"$f":"IF(AU12=0,0,(AU12*((LOG(AU12))/LOG(2))))","v":0}]
[12,1246,13,1249,13,1259,null,null,null,null,0,111,null,221,1,1.7241379310344827E-2,-0.10099967232978573,null,null,221,{"$f":"COUNTIF(L7:L16,T13)","v":0},{"$f":"U13/(W4-U11)","v":0},{"$f":"IF(V13=0,0,(V13*((LOG(V13))/LOG(2))))","v":0},null,221,{"$f":"COUNTIF(L17:L25,Y13)","v":0},{"$f":"Z13/(AB4-Z11)","v":0},{"$f":"IF(AA13=0,0,(AA13*((LOG(AA13))/LOG(2))))","v":0},null,221,{"$f":"COUNTIF(L26:L35,AD13)","v":1},{"$f":"AE13/(AG4-AE11)","v":0.25},{"$f":"IF(AF13=0,0,(AF13*((LOG(AF13))/LOG(2))))","v":-0.5},null,221,{"$f":"COUNTIF(L36:L45,AI13)","v":0},{"$f":"AJ13/(AL4-AJ11)","v":0},{"$f":"IF(AK13=0,0,(AK13*((LOG(AK13))/LOG(2))))","v":0},null,221,{"$f":"COUNTIF(L46:L54,AN13)","v":0},{"$f":"AO13/(AQ4-AO11)","v":0},{"$f":"IF(AP13=0,0,(AP13*((LOG(AP13))/LOG(2))))","v":0},null,221,{"$f":"COUNTIF(L55:L64,AS13)","v":0},{"$f":"AT13/(AV4-AT11)","v":0},{"$f":"IF(AU13=0,0,(AU13*((LOG(AU13))/LOG(2))))","v":0}]
[12,1483,13,1485,13,1497,null,null,null,null,0,111,null,222,0,0,0,null,null,222,{"$f":"COUNTIF(L7:L16,T14)","v":0},{"$f":"U14/(W4-U11)","v":0},{"$f":"IF(V14=0,0,(V14*((LOG(V14))/LOG(2))))","v":0},null,222,{"$f":"COUNTIF(L17:L25,Y14)","v":0},{"$f":"Z14/(AB4-Z11)","v":0},{"$f":"IF(AA14=0,0,(AA14*((LOG(AA14))/LOG(2))))","v":0},null,222,{"$f":"COUNTIF(L26:L35,AD14)","v":0},{"$f":"AE14/(AG4-AE11)","v":0},{"$f":"IF(AF14=0,0,(AF14*((LOG(AF14))/LOG(2))))","v":0},null,222,{"$f":"COUNTIF(L36:L45,AI14)","v":0},{"$f":"AJ14/(AL4-AJ11)","v":0},{"$f":"IF(AK14=0,0,(AK14*((LOG(AK14))/LOG(2))))","v":0},null,222,{"$f":"COUNTIF(L46:L54,AN14)","v":0},{"$f":"AO14/(AQ4-AO11)","v":0},{"$f":"IF(AP14=0,0,(AP14*((LOG(AP14))/LOG(2))))","v":0},null,222,{"$f":"COUNTIF(L55:L64,AS14)","v":0},{"$f":"AT14/(AV4-AT11)","v":0},{"$f":"IF(AU14=0,0,(AU14*((LOG(AU14))/LOG(2))))","v":0}]
[12,1598,13,1612,13,1624,null,null,null,null,0,111,null,null,null,{"$f":"SUM(P7:P14)","v":1},{"$f":"-SUM(Q7:Q14)","v":1.028121197433014},null,null,null,null,{"$f":"SUM(V7:V14)","v":1},{"$f":"-SUM(W7:W14)","v":0},null,null,null,{"$f":"SUM(AA7:AA14)","v":1},{"$f":"-SUM(AB7:AB14)","v":0},null,null,null,{"$f":"SUM(AF7:AF14)","v":1},{"$f":"-SUM(AG7:AG14)","v":0.81127812445913283},null,null,null,{"$f":"SUM(AK7:AK14)","v":1},{"$f":"-SUM(AL7:AL14)","v":0},null,null,null,{"$f":"SUM(AP7:AP14)","v":1},{"$f":"-SUM(AQ7:AQ14)","v":0},null,null,null,{"$f":"SUM(AU7:AU14)","v":1},{"$f":"-SUM(AV7:AV14)","v":0}]
[21,1721,11,1728,11,1732,null,null,null,null,0,211,null,null,null,"U=",{"$f":"Q15/(LOG(Q4)/LOG(2))","v":0.17550777277839635},null,null,null,null,"U1=",{"$f":"W15/(LOG(W4)/LOG(2))","v":0},null,null,null,"U2=",{"$f":"AB15/(LOG(AB4)/LOG(2))","v":0},null,null,null,"U3=",{"$f":"AG15/(LOG(AG4)/LOG(2))","v":0.24421905028821556},null,null,null,"U4=",{"$f":"AL15/(LOG(AL4)/LOG(2))","v":0},null,null,null,"U5=",{"$f":"AQ15/(LOG(AQ4)/LOG(2))","v":0},null,null,null,"U6=",{"$f":"AV15/(LOG(AV4)/LOG(2))","v":0}]
[12,1893,13,1901,13,1909,null,null,null,null,0,111]
[21,2007,11,2009,11,2012,null,null,null,null,0,211]
[21,2145,11,2154,11,2170,null,null,null,null,0,211,null,"Total Target Seq"]
[21,2270,11,2281,11,2288,null,null,null,null,0,211,null,{"$f":"COUNTIF(L7:L64,G3)","v":38},null,10,9,10,10,9,10]
[21,2379,11,2387,11,2391,null,null,null,null,0,211,null,null,null,"% of reinforcement given in 6 equal intervals based on number of trials "]
[12,2488,13,2503,13,2512,null,null,null,null,0,111,null,null,null,"%_1","%_2","%_3","%_4","%_5","%_6"]
[21,2608,11,2615,11,2621,null,null,null,null,0,211,null,null,"target sequence",{"$f":"$G$3","v":211},211,211,211,211,211]
[21,2895,11,2904,11,2919,null,null,null,null,0,211,null,null,"total reinforcement",{"$f":"U11","v":3},{"$f":"Z11","v":7},{"$f":"AE11","v":6},{"$f":"AJ11","v":7},{"$f":"AO11","v":6},{"$f":"AT11","v":9}]
[21,3009,11,3019,11,3038,null,null,null,null,0,211,null,null,"% target"]
[21,3140,11,3148,11,3160,null,null,null,null,0,211,null,null,"CCRF"]
[12,3312,13,3315,13,3323,null,null,null,null,0,111,null,null,"% CCRf"]
[21,3419,11,3426,11,3434,null,null,null,null,0,211,null,null,"average response rate",{"$f":"F16/P20","v":173.2},{"$f":"(F25-F16)/Q20","v":145.11111111111111},{"$f":"(F35-F25)/R20","v":119.1},{"$f":"(F45-F35)/S20","v":109.1},{"$f":"(F54-F45)/T20","v":112.44444444444444},{"$f":"(F64-F54)/U20","v":128.1}]
[21,3526,11,3534,11,3547,null,null,null,null,0,211]
[21,3640,11,3646,11,3661,null,null,null,null,0,211]
[21,3749,22,3754,13,3762,null,null,null,null,0,221]
[21,3857,11,3864,11,3877,null,null,null,null,0,211]
[12,3975,13,3979,13,3993,null,null,null,null,0,111]
[21,4090,11,4096,11,4112,null,null,null,null,0,211]
[12,4210,13,4221,13,4229,null,null,null,null,0,111]
[21,4322,11,4331,11,4336,null,null,null,null,0,211]
[21,4431,11,4439,11,4445,null,null,null,null,0,211]
[21,4534,11,4541,11,4548,null,null,null,null,0,211]
[21,4639,11,4646,11,4650,null,null,null,null,0,211]
[21,4744,11,4753,11,4760,null,null,null,null,0,211]
[21,4853,11,4861,11,4873,null,null,null,null,0,211]
[21,4967,11,4976,11,4982,null,null,null,null,0,211]
[12,5078,13,5081,13,5088,null,null,null,null,0,111]
[12,5192,13,5196,13,5208,null,null,null,null,0,111]
[12,5309,13,5313,13,5320,null,null,null,null,0,111]
[21,5417,11,5423,11,5427,null,null,null,null,0,211]
[12,5524,13,5535,13,5542,null,null,null,null,0,111]
[12,5643,13,5647,13,5650,null,null,null,null,0,111]
[12,5753,13,5755,13,5765,null,null,null,null,0,111]
[21,5862,11,5871,11,5878,null,null,null,null,0,211]
[21,5970,11,5978,11,5982,null,null,null,null,0,211]
[21,6076,11,6085,11,6096,null,null,null,null,0,211]
[21,6189,11,6202,11,6209,null,null,null,null,0,211]
[21,6319,11,6329,11,6332,null,null,null,null,0,211]
[21,6428,11,6437,11,6441,null,null,null,null,0,211]
[12,6615,13,6618,13,6635,null,null,null,null,0,111]
[21,6730,11,6737,11,6745,null,null,null,null,0,211]
[21,6858,11,6869,11,6872,null,null,null,null,0,211]
[21,6966,11,6977,11,6980,null,null,null,null,0,211]
[21,7073,11,7082,11,7085,null,null,null,null,0,211]
[21,7181,11,7195,11,7202,null,null,null,null,0,211]
[21,7308,11,7319,11,7322,null,null,null,null,0,211]
[21,7414,11,7424,11,7434,null,null,null,null,0,211]
[21,7594,11,7604,11,7613,null,null,null,null,1,211]

{"sheet":"!N219A4T.AYL","index":21,"n_rows":64,"n_cols":48,"rows_kept":64,"cut":false,"hidden":false,"merged":[[1,1,1,2],[5,13,5,14],[18,13,18,14],[19,13,19,14],[4,19,4,22],[5,19,5,20],[4,39,4,42],[5,39,5,40],[4,44,4,47],[5,44,5,45],[4,24,4,27],[5,24,5,25],[4,29,4,32],[5,29,5,30],[4,34,4,37],[5,34,5,35]]}
["Report for:!N219A4T.AYL"]
["Date:","<date>"]
["Hen:","<hen>",null,null,null,"Correct Sequence",{"$f":"Start!J2","v":211},null,null,null,null,null,null,null,null,"Total Sequences in Data",{"$f":"4994-COUNTBLANK(L7:L5000)","v":58},null,null,null,null,"Total Sequences in Block Data",{"$f":"COUNTA(L7:L16)","v":10},null,null,null,"Total Sequences in Block Data",{"$f":"COUNTA(L17:L25)","v":9},null,null,null,"Total Sequences in Block Data",{"$f":"COUNTA(L26:L35)","v":10},null,null,null,"Total Sequences in Block Data",{"$f":"COUNTA(L36:L45)","v":10},null,null,null,"Total Sequences in Block Data",{"$f":"COUNTA(L46:L54)","v":9},null,null,null,"Total Sequences in Block Data",{"$f":"COUNTA(L55:L64)","v":10}]
[null,null,null,null,null,null,null,null,null,null,null,null,null,null,null,"Total Sequences in Summary",{"$f":"SUM(O7:O14)","v":58},null,null,null,null,"Total Sequences in Block Summary",{"$f":"SUM(U7:U14)","v":10},null,null,null,"Total Sequences in Block Summary",{"$f":"SUM(Z7:Z14)","v":9},null,null,null,"Total Sequences in Block Summary",{"$f":"SUM(AE7:AE14)","v":10},null,null,null,"Total Sequences in Block Summary",{"$f":"SUM(AJ7:AJ14)","v":10},null,null,null,"Total Sequences in Block Summary",{"$f":"SUM(AO7:AO14)","v":9},null,null,null,"Total Sequences in Block Summary",{"$f":"SUM(AT7:AT14)","v":10}]
[null,null,null,null,null,null,null,null,null,null,null,null,null,null,null,null,null,null,null,"Block 1",null,null,null,null,"Block 2",null,null,null,null,"Block 3",null,null,null,null,"Block 4",null,null,null,null,"Block 5",null,null,null,null,"Block 6"]
["Sequence\nComponent\n1","Time\n1","Sequence\nComponent\n2","Time\n2","Sequence\nComponent\n3","Time\n3","Sequence\nComponent\n4","Time\n4","Sequence\nComponent\n5","Time\n5","Correct?\n0=No 1=Yes","Sequence",null,"Frequency",null,"Relative Frequency","Variability",null,null,"Frequency",null,"Relative Frequency","Variability",null,"Frequency",null,"Relative Frequency","Variability",null,"Frequency",null,"Relative Frequency","Variability",null,"Frequency",null,"Relative Frequency","Variability",null,"Frequency",null,"Relative Frequency","Variability",null,"Frequency",null,"Relative Frequency","Variability"]
[12,4,13,9,13,15,null,null,null,null,0,111,null,111,{"$f":"COUNTIF($L$7:$L$500,N7)","v":17},{"$f":"O7/$Q$4","v":0.29310344827586204},{"$f":"IF(P7=0,0,(P7*((LOG(P7))/LOG(2))))","v":-0.5189449761364302},null,null,{"$f":"N7","v":111},{"$f":"COUNTIF(L7:L16,T7)","v":7},{"$f":"U7/(W4-U11)","v":1},{"$f":"IF(V7=0,0,(V7*((LOG(V7))/LOG(2))))","v":0},null,{"$f":"N7","v":111},{"$f":"COUNTIF(L17:L25,Y7)","v":1},{"$f":"Z7/(AB4-Z11)","v":0.5},{"$f":"IF(AA7=0,0,(AA7*((LOG(AA7))/LOG(2))))","v":-0.5},null,{"$f":"N7","v":111},{"$f":"COUNTIF(L26:L35,AD7)","v":2},{"$f":"AE7/(AG4-AE11)","v":1},{"$f":"IF(AF7=0,0,(AF7*((LOG(AF7))/LOG(2))))","v":0},null,{"$f":"N7","v":111},{"$f":"COUNTIF(L36:L45,AI7)","v":2},{"$f":"AJ7/(AL4-AJ11)","v":1},{"$f":"IF(AK7=0,0,(AK7*((LOG(AK7))/LOG(2))))","v":0},null,{"$f":"N7","v":111},{"$f":"COUNTIF(L46:L54,AN7)","v":1},{"$f":"AO7/(AQ4-AO11)","v":0.5},{"$f":"IF(AP7=0,0,(AP7*((LOG(AP7))/LOG(2))))","v":-0.5},null,{"$f":"N7","v":111},{"$f":"COUNTIF(L55:L64,AS7)","v":4},{"$f":"AT7/(AV4-AT11)","v":0.8},{"$f":"IF(AU7=0,0,(AU7*((LOG(AU7))/LOG(2))))","v":-0.25754247590988982}]
[12,113,13,116,13,120,null,null,null,null,0,111,null,112,0,0,0,null,null,112,{"$f":"COUNTIF(L7:L16,T8)","v":0},{"$f":"U8/(W4-U11)","v":0},{"$f":"IF(V8=0,0,(V8*((LOG(V8))/LOG(2))))","v":0},null,112,{"$f":"COUNTIF(L17:L25,Y8)","v":0},{"$f":"Z8/(AB4-Z11)","v":0},{"$f":"IF(AA8=0,0,(AA8*((LOG(AA8))/LOG(2))))","v":0},null,112,{"$f":"COUNTIF(L26:L35,AD8)","v":0},{"$f":"AE8/(AG4-AE11)","v":0},{"$f":"IF(AF8=0,0,(AF8*((LOG(AF8))/LOG(2))))","v":0},null,112,{"$f":"COUNTIF(L36:L45,AI8)","v":0},{"$f":"AJ8/(AL4-AJ11)","v":0},{"$f":"IF(AK8=0,0,(AK8*((LOG(AK8))/LOG(2))))","v":0},null,112,{"$f":"COUNTIF(L46:L54,AN8)","v":0},{"$f":"AO8/(AQ4-AO11)","v":0},{"$f":"IF(AP8=0,0,(AP8*((LOG(AP8))/LOG(2))))","v":0},null,112,{"$f":"COUNTIF(L55:L64,AS8)","v":0},{"$f":"AT8/(AV4-AT11)","v":0},{"$f":"IF(AU8=0,0,(AU8*((LOG(AU8))/LOG(2))))","v":0}]
[21,210,11,216,11,221,null,null,null,null,0,211,null,121,0,0,0,null,null,121,{"$f":"COUNTIF(L7:L16,T9)","v":0},{"$f":"U9/(W4-U11)","v":0},{"$f":"IF(V9=0,0,(V9*((LOG(V9))/LOG(2))))","v":0},null,121,{"$f":"COUNTIF(L17:L25,Y9)","v":0},{"$f":"Z9/(AB4-Z11)","v":0},{"$f":"IF(AA9=0,0,(AA9*((LOG(AA9))/LOG(2))))","v":0},null,121,{"$f":"COUNTIF(L26:L35,AD9)","v":0},{"$f":"AE9/(AG4-AE11)","v":0},{"$f":"IF(AF9=0,0,(AF9*((LOG(AF9))/LOG(2))))","v":0},null,121,{"$f":"COUNTIF(L36:L45,AI9)","v":0},{"$f":"AJ9/(AL4-AJ11)","v":0},{"$f":"IF(AK9=0,0,(AK9*((LOG(AK9))/LOG(2))))","v":0},null,121,{"$f":"COUNTIF(L46:L54,AN9)","v":0},{"$f":"AO9/(AQ4-AO11)","v":0},{"$f":"IF(AP9=0,0,(AP9*((LOG(AP9))/LOG(2))))","v":0},null,121,{"$f":"COUNTIF(L55:L64,AS9)","v":0},{"$f":"AT9/(AV4-AT11)","v":0},{"$f":"IF(AU9=0,0,(AU9*((LOG(AU9))/LOG(2))))","v":0}]
[12,365,13,371,13,378,null,null,null,null,0,111,null,122,0,0,0,null,null,122,{"$f":"COUNTIF(L7:L16,T10)","v":0},{"$f":"U10/(W4-U11)","v":0},{"$f":"IF(V10=0,0,(V10*((LOG(V10))/LOG(2))))","v":0},null,122,{"$f":"COUNTIF(L17:L25,Y10)","v":0},{"$f":"Z10/(AB4-Z11)","v":0},{"$f":"IF(AA10=0,0,(AA10*((LOG(AA10))/LOG(2))))","v":0},null,122,{"$f":"COUNTIF(L26:L35,AD10)","v":0},{"$f":"AE10/(AG4-AE11)","v":0},{"$f":"IF(AF10=0,0,(AF10*((LOG(AF10))/LOG(2))))","v":0},null,122,{"$f":"COUNTIF(L36:L45,AI10)","v":0},{"$f":"AJ10/(AL4-AJ11)","v":0},{"$f":"IF(AK10=0,0,(AK10*((LOG(AK10))/LOG(2))))","v":0},null,122,{"$f":"COUNTIF(L46:L54,AN10)","v":0},{"$f":"AO10/(AQ4-AO11)","v":0},{"$f":"IF(AP10=0,0,(AP10*((LOG(AP10))/LOG(2))))","v":0},null,122,{"$f":"COUNTIF(L55:L64,AS10)","v":0},{"$f":"AT10/(AV4-AT11)","v":0},{"$f":"IF(AU10=0,0,(AU10*((LOG(AU10))/LOG(2))))","v":0}]
[21,470,11,476,11,479,null,null,null,null,0,211,null,211,38,0.65517241379310343,-0.39969021213778433,null,null,211,{"$f":"COUNTIF(L7:L16,T11)","v":3},null,null,null,211,{"$f":"COUNTIF(L17:L25,Y11)","v":7},null,null,null,211,{"$f":"COUNTIF(L26:L35,AD11)","v":8},null,null,null,211,{"$f":"COUNTIF(L36:L45,AI11)","v":8},null,null,null,211,{"$f":"COUNTIF(L46:L54,AN11)","v":7},null,null,null,211,{"$f":"COUNTIF(L55:L64,AS11)","v":5}]
[12,787,13,791,13,798,null,null,null,null,0,111,null,212,1,1.7241379310344827E-2,-0.10099967232978573,null,null,212,{"$f":"COUNTIF(L7:L16,T12)","v":0},{"$f":"U12/(W4-U11)","v":0},{"$f":"IF(V12=0,0,(V12*((LOG(V12))/LOG(2))))","v":0},null,212,{"$f":"COUNTIF(L17:L25,Y12)","v":0},{"$f":"Z12/(AB4-Z11)","v":0},{"$f":"IF(AA12=0,0,(AA12*((LOG(AA12))/LOG(2))))","v":0},null,212,{"$f":"COUNTIF(L26:L35,AD12)","v":0},{"$f":"AE12/(AG4-AE11)","v":0},{"$f":"IF(AF12=0,0,(AF12*((LOG(AF12))/LOG(2))))","v":0},null,212,{"$f":"COUNTIF(L36:L45,AI12)","v":0},{"$f":"AJ12/(AL4-AJ11)","v":0},{"$f":"IF(AK12=0,0,(AK12*((LOG(AK12))/LOG(2))))","v":0},null,212,{"$f":"COUNTIF(L46:L54,AN12)","v":0},{"$f":"AO12/(AQ4-AO11)","v":0},{"$f":"IF(AP12=0,0,(AP12*((LOG(AP12))/LOG(2))))","v":0},null,212,{"$f":"COUNTIF(L55:L64,AS12)","v":1},{"$f":"AT12/(AV4-AT11)","v":0.2},{"$f":"IF(AU12=0,0,(AU12*((LOG(AU12))/LOG(2))))","v":-0.46438561897747244}]
[12,899,13,903,13,911,null,null,null,null,0,111,null,221,2,3.4482758620689655E-2,-0.16751658603888178,null,null,221,{"$f":"COUNTIF(L7:L16,T13)","v":0},{"$f":"U13/(W4-U11)","v":0},{"$f":"IF(V13=0,0,(V13*((LOG(V13))/LOG(2))))","v":0},null,221,{"$f":"COUNTIF(L17:L25,Y13)","v":1},{"$f":"Z13/(AB4-Z11)","v":0.5},{"$f":"IF(AA13=0,0,(AA13*((LOG(AA13))/LOG(2))))","v":-0.5},null,221,{"$f":"COUNTIF(L26:L35,AD13)","v":0},{"$f":"AE13/(AG4-AE11)","v":0},{"$f":"IF(AF13=0,0,(AF13*((LOG(AF13))/LOG(2))))","v":0},null,221,{"$f":"COUNTIF(L36:L45,AI13)","v":0},{"$f":"AJ13/(AL4-AJ11)","v":0},{"$f":"IF(AK13=0,0,(AK13*((LOG(AK13))/LOG(2))))","v":0},null,221,{"$f":"COUNTIF(L46:L54,AN13)","v":1},{"$f":"AO13/(AQ4-AO11)","v":0.5},{"$f":"IF(AP13=0,0,(AP13*((LOG(AP13))/LOG(2))))","v":-0.5},null,221,{"$f":"COUNTIF(L55:L64,AS13)","v":0},{"$f":"AT13/(AV4-AT11)","v":0},{"$f":"IF(AU13=0,0,(AU13*((LOG(AU13))/LOG(2))))","v":0}]
[12,1013,13,1017,13,1026,null,null,null,null,0,111,null,222,0,0,0,null,null,222,{"$f":"COUNTIF(L7:L16,T14)","v":0},{"$f":"U14/(W4-U11)","v":0},{"$f":"IF(V14=0,0,(V14*((LOG(V14))/LOG(2))))","v":0},null,222,{"$f":"COUNTIF(L17:L25,Y14)","v":0},{"$f":"Z14/(AB4-Z11)","v":0},{"$f":"IF(AA14=0,0,(AA14*((LOG(AA14))/LOG(2))))","v":0},null,222,{"$f":"COUNTIF(L26:L35,AD14)","v":0},{"$f":"AE14/(AG4-AE11)","v":0},{"$f":"IF(AF14=0,0,(AF14*((LOG(AF14))/LOG(2))))","v":0},null,222,{"$f":"COUNTIF(L36:L45,AI14)","v":0},{"$f":"AJ14/(AL4-AJ11)","v":0},{"$f":"IF(AK14=0,0,(AK14*((LOG(AK14))/LOG(2))))","v":0},null,222,{"$f":"COUNTIF(L46:L54,AN14)","v":0},{"$f":"AO14/(AQ4-AO11)","v":0},{"$f":"IF(AP14=0,0,(AP14*((LOG(AP14))/LOG(2))))","v":0},null,222,{"$f":"COUNTIF(L55:L64,AS14)","v":0},{"$f":"AT14/(AV4-AT11)","v":0},{"$f":"IF(AU14=0,0,(AU14*((LOG(AU14))/LOG(2))))","v":0}]
[12,1129,13,1135,13,1145,null,null,null,null,0,111,null,null,null,{"$f":"SUM(P7:P14)","v":1},{"$f":"-SUM(Q7:Q14)","v":1.1871514466428821},null,null,null,null,{"$f":"SUM(V7:V14)","v":1},{"$f":"-SUM(W7:W14)","v":0},null,null,null,{"$f":"SUM(AA7:AA14)","v":1},{"$f":"-SUM(AB7:AB14)","v":1},null,null,null,{"$f":"SUM(AF7:AF14)","v":1},{"$f":"-SUM(AG7:AG14)","v":0},null,null,null,{"$f":"SUM(AK7:AK14)","v":1},{"$f":"-SUM(AL7:AL14)","v":0},null,null,null,{"$f":"SUM(AP7:AP14)","v":1},{"$f":"-SUM(AQ7:AQ14)","v":1},null,null,null,{"$f":"SUM(AU7:AU14)","v":1},{"$f":"-SUM(AV7:AV14)","v":0.72192809488736231}]
[21,1240,11,1248,11,1253,null,null,null,null,0,211,null,null,null,"U=",{"$f":"Q15/(LOG(Q4)/LOG(2))","v":0.2026553940052564},null,null,null,null,"U1=",{"$f":"W15/(LOG(W4)/LOG(2))","v":0},null,null,null,"U2=",{"$f":"AB15/(LOG(AB4)/LOG(2))","v":0.31546487678572877},null,null,null,"U3=",{"$f":"AG15/(LOG(AG4)/LOG(2))","v":0},null,null,null,"U4=",{"$f":"AL15/(LOG(AL4)/LOG(2))","v":0},null,null,null,"U5=",{"$f":"AQ15/(LOG(AQ4)/LOG(2))","v":0.31546487678572877},null,null,null,"U6=",{"$f":"AV15/(LOG(AV4)/LOG(2))","v":0.21732201127364889}]
[12,1354,13,1358,13,1366,null,null,null,null,0,111]
[21,1461,22,1464,13,1470,null,null,null,null,0,221]
[21,1566,11,1572,11,1584,null,null,null,null,0,211,null,"Total Target Seq"]
[21,1683,11,1690,11,1693,null,null,null,null,0,211,null,{"$f":"COUNTIF(L7:L64,G3)","v":38},null,10,9,10,10,9,10]
[21,1782,11,1793,11,1804,null,null,null,null,0,211,null,null,null,"% of reinforcement given in 6 equal intervals based on number of trials "]
[21,1896,11,1904,11,1907,null,null,null,null,0,211,null,null,null,"%_1","%_2","%_3","%_4","%_5","%_6"]
[21,2000,11,2006,11,2023,null,null,null,null,0,211,null,null,"target sequence",{"$f":"$G$3","v":211},211,211,211,211,211]
[21,2113,11,2122,11,2139,null,null,null,null,0,211,null,null,"total reinforcement",{"$f":"U11","v":3},{"$f":"Z11","v":7},{"$f":"AE11","v":8},{"$f":"AJ11","v":8},{"$f":"AO11","v":7},{"$f":"AT11","v":5}]
[21,2231,11,2239,11,2258,null,null,null,null,0,211,null,null,"% target"]
[21,2350,11,2358,11,2364,null,null,null,null,0,211,null,null,"CCRF"]
[21,2455,11,2463,11,2484,null,null,null,null,0,211,null,null,"% CCRf"]
[21,2580,11,2591,11,2598,null,null,null,null,0,211,null,null,"average response rate",{"$f":"F16/P20","v":125.3},{"$f":"(F25-F16)/Q20","v":111.66666666666667},{"$f":"(F35-F25)/R20","v":111.1},{"$f":"(F45-F35)/S20","v":111.5},{"$f":"(F54-F45)/T20","v":110},{"$f":"(F64-F54)/U20","v":116.3}]
[21,2691,11,2702,11,2707,null,null,null,null,0,211]
[12,2804,13,2816,13,2822,null,null,null,null,0,111]
[12,2922,13,2932,13,2940,null,null,null,null,0,111]
[21,3035,11,3041,11,3049,null,null,null,null,0,211]
[21,3144,11,3152,11,3158,null,null,null,null,0,211]
[21,3252,11,3258,11,3267,null,null,null,null,0,211]
[21,3358,11,3366,11,3369,null,null,null,null,0,211]
[21,3463,11,3473,11,3483,null,null,null,null,0,211]
[21,3575,11,3583,11,3593,null,null,null,null,0,211]
[21,3689,11,3698,11,3706,null,null,null,null,0,211]
[12,3810,13,3816,13,3825,null,null,null,null,0,111]
[21,3921,11,3928,11,3932,null,null,null,null,0,211]
[21,4021,11,4028,11,4038,null,null,null,null,0,211]
[21,4129,11,4135,11,4142,null,null,null,null,0,211]
[12,4241,13,4246,13,4263,null,null,null,null,0,111]
[21,4359,11,4367,11,4375,null,null,null,null,0,211]
[21,4465,11,4471,11,4484,null,null,null,null,0,211]
[21,4578,11,4586,11,4590,null,null,null,null,0,211]
[21,4687,11,4702,11,4714,null,null,null,null,0,211]
[21,4806,11,4815,11,4823,null,null,null,null,0,211]
[21,4916,22,4920,13,4928,null,null,null,null,0,221]
[21,5027,11,5033,11,5036,null,null,null,null,0,211]
[21,5130,11,5137,11,5144,null,null,null,null,0,211]
[21,5237,11,5244,11,5253,null,null,null,null,0,211]
[12,5351,13,5355,13,5369,null,null,null,null,0,111]
[21,5464,11,5471,11,5474,null,null,null,null,0,211]
[12,5575,13,5579,13,5587,null,null,null,null,0,111]
[21,5684,11,5691,22,5727,null,null,null,null,0,212]
[12,5821,13,5826,13,5829,null,null,null,null,0,111]
[21,5926,11,5932,11,5936,null,null,null,null,0,211]
[12,6047,13,6050,13,6057,null,null,null,null,0,111]
[12,6169,13,6173,13,6180,null,null,null,null,0,111]
[21,6277,11,6285,11,6291,null,null,null,null,0,211]
[21,6386,11,6396,11,6399,null,null,null,null,0,211]
[21,6503,11,6510,11,6520,null,null,null,null,0,211]
[21,6615,11,6623,11,6637,null,null,null,null,1,211]

{"sheet":"!N22094T.AYL","index":22,"n_rows":65,"n_cols":48,"rows_kept":65,"cut":false,"hidden":false,"merged":[[1,1,1,2],[5,13,5,14],[18,13,18,14],[19,13,19,14],[4,19,4,22],[5,19,5,20],[4,39,4,42],[5,39,5,40],[4,44,4,47],[5,44,5,45],[4,24,4,27],[5,24,5,25],[4,29,4,32],[5,29,5,30],[4,34,4,37],[5,34,5,35]]}
["Report for:!N22094T.AYL"]
["Date:","<date>"]
["Hen:","<hen>",null,null,null,"Correct Sequence",{"$f":"Start!J2","v":211},null,null,null,null,null,null,null,null,"Total Sequences in Data",{"$f":"4994-COUNTBLANK(L7:L5000)","v":59},null,null,null,null,"Total Sequences in Block Data",{"$f":"COUNTA(L7:L16)","v":10},null,null,null,"Total Sequences in Block Data",{"$f":"COUNTA(L17:L26)","v":10},null,null,null,"Total Sequences in Block Data",{"$f":"COUNTA(L27:L35)","v":9},null,null,null,"Total Sequences in Block Data",{"$f":"COUNTA(L36:L45)","v":10},null,null,null,"Total Sequences in Block Data",{"$f":"COUNTA(L46:L55)","v":10},null,null,null,"Total Sequences in Block Data",{"$f":"COUNTA(L56:L65)","v":10}]
[null,null,null,null,null,null,null,null,null,null,null,null,null,null,null,"Total Sequences in Summary",{"$f":"SUM(O7:O14)","v":59},null,null,null,null,"Total Sequences in Block Summary",{"$f":"SUM(U7:U14)","v":10},null,null,null,"Total Sequences in Block Summary",{"$f":"SUM(Z7:Z14)","v":10},null,null,null,"Total Sequences in Block Summary",{"$f":"SUM(AE7:AE14)","v":9},null,null,null,"Total Sequences in Block Summary",{"$f":"SUM(AJ7:AJ14)","v":10},null,null,null,"Total Sequences in Block Summary",{"$f":"SUM(AO7:AO14)","v":10},null,null,null,"Total Sequences in Block Summary",{"$f":"SUM(AT7:AT14)","v":10}]
[null,null,null,null,null,null,null,null,null,null,null,null,null,null,null,null,null,null,null,"Block 1",null,null,null,null,"Block 2",null,null,null,null,"Block 3",null,null,null,null,"Block 4",null,null,null,null,"Block 5",null,null,null,null,"Block 6"]
["Sequence\nComponent\n1","Time\n1","Sequence\nComponent\n2","Time\n2","Sequence\nComponent\n3","Time\n3","Sequence\nComponent\n4","Time\n4","Sequence\nComponent\n5","Time\n5","Correct?\n0=No 1=Yes","Sequence",null,"Frequency",null,"Relative Frequency","Variability",null,null,"Frequency",null,"Relative Frequency","Variability",null,"Frequency",null,"Relative Frequency","Variability",null,"Frequency",null,"Relative Frequency","Variability",null,"Frequency",null,"Relative Frequency","Variability",null,"Frequency",null,"Relative Frequency","Variability",null,"Frequency",null,"Relative Frequency","Variability"]
[12,9,13,12,13,19,null,null,null,null,0,111,null,111,{"$f":"COUNTIF($L$7:$L$500,N7)","v":21},{"$f":"O7/$Q$4","v":0.3559322033898305},{"$f":"IF(P7=0,0,(P7*((LOG(P7))/LOG(2))))","v":-0.53045488403804575},null,null,{"$f":"N7","v":111},{"$f":"COUNTIF(L7:L16,T7)","v":5},{"$f":"U7/(W4-U11)","v":1},{"$f":"IF(V7=0,0,(V7*((LOG(V7))/LOG(2))))","v":0},null,{"$f":"N7","v":111},{"$f":"COUNTIF(L17:L26,Y7)","v":6},{"$f":"Z7/(AB4-Z11)","v":1},{"$f":"IF(AA7=0,0,(AA7*((LOG(AA7))/LOG(2))))","v":0},null,{"$f":"N7","v":111},{"$f":"COUNTIF(L27:L35,AD7)","v":3},{"$f":"AE7/(AG4-AE11)","v":1},{"$f":"IF(AF7=0,0,(AF7*((LOG(AF7))/LOG(2))))","v":0},null,{"$f":"N7","v":111},{"$f":"COUNTIF(L36:L45,AI7)","v":3},{"$f":"AJ7/(AL4-AJ11)","v":1},{"$f":"IF(AK7=0,0,(AK7*((LOG(AK7))/LOG(2))))","v":0},null,{"$f":"N7","v":111},{"$f":"COUNTIF(L46:L55,AN7)","v":3},{"$f":"AO7/(AQ4-AO11)","v":1},{"$f":"IF(AP7=0,0,(AP7*((LOG(AP7))/LOG(2))))","v":0},null,{"$f":"N7","v":111},{"$f":"COUNTIF(L56:L65,AS7)","v":1},{"$f":"AT7/(AV4-AT11)","v":0.33333333333333331},{"$f":"IF(AU7=0,0,(AU7*((LOG(AU7))/LOG(2))))","v":-0.52832083357371862}]
[12,118,13,121,13,125,null,null,null,null,0,111,null,112,0,0,0,null,null,112,{"$f":"COUNTIF(L7:L16,T8)","v":0},{"$f":"U8/(W4-U11)","v":0},{"$f":"IF(V8=0,0,(V8*((LOG(V8))/LOG(2))))","v":0},null,112,{"$f":"COUNTIF(L17:L26,Y8)","v":0},{"$f":"Z8/(AB4-Z11)","v":0},{"$f":"IF(AA8=0,0,(AA8*((LOG(AA8))/LOG(2))))","v":0},null,112,{"$f":"COUNTIF(L27:L35,AD8)","v":0},{"$f":"AE8/(AG4-AE11)","v":0},{"$f":"IF(AF8=0,0,(AF8*((LOG(AF8))/LOG(2))))","v":0},null,112,{"$f":"COUNTIF(L36:L45,AI8)","v":0},{"$f":"AJ8/(AL4-AJ11)","v":0},{"$f":"IF(AK8=0,0,(AK8*((LOG(AK8))/LOG(2))))","v":0},null,112,{"$f":"COUNTIF(L46:L55,AN8)","v":0},{"$f":"AO8/(AQ4-AO11)","v":0},{"$f":"IF(AP8=0,0,(AP8*((LOG(AP8))/LOG(2))))","v":0},null,112,{"$f":"COUNTIF(L56:L65,AS8)","v":0},{"$f":"AT8/(AV4-AT11)","v":0},{"$f":"IF(AU8=0,0,(AU8*((LOG(AU8))/LOG(2))))","v":0}]
[12,227,13,232,13,241,null,null,null,null,0,111,null,121,0,0,0,null,null,121,{"$f":"COUNTIF(L7:L16,T9)","v":0},{"$f":"U9/(W4-U11)","v":0},{"$f":"IF(V9=0,0,(V9*((LOG(V9))/LOG(2))))","v":0},null,121,{"$f":"COUNTIF(L17:L26,Y9)","v":0},{"$f":"Z9/(AB4-Z11)","v":0},{"$f":"IF(AA9=0,0,(AA9*((LOG(AA9))/LOG(2))))","v":0},null,121,{"$f":"COUNTIF(L27:L35,AD9)","v":0},{"$f":"AE9/(AG4-AE11)","v":0},{"$f":"IF(AF9=0,0,(AF9*((LOG(AF9))/LOG(2))))","v":0},null,121,{"$f":"COUNTIF(L36:L45,AI9)","v":0},{"$f":"AJ9/(AL4-AJ11)","v":0},{"$f":"IF(AK9=0,0,(AK9*((LOG(AK9))/LOG(2))))","v":0},null,121,{"$f":"COUNTIF(L46:L55,AN9)","v":0},{"$f":"AO9/(AQ4-AO11)","v":0},{"$f":"IF(AP9=0,0,(AP9*((LOG(AP9))/LOG(2))))","v":0},null,121,{"$f":"COUNTIF(L56:L65,AS9)","v":0},{"$f":"AT9/(AV4-AT11)","v":0},{"$f":"IF(AU9=0,0,(AU9*((LOG(AU9))/LOG(2))))","v":0}]
[21,334,11,339,11,345,null,null,null,null,0,211,null,122,0,0,0,null,null,122,{"$f":"COUNTIF(L7:L16,T10)","v":0},{"$f":"U10/(W4-U11)","v":0},{"$f":"IF(V10=0,0,(V10*((LOG(V10))/LOG(2))))","v":0},null,122,{"$f":"COUNTIF(L17:L26,Y10)","v":0},{"$f":"Z10/(AB4-Z11)","v":0},{"$f":"IF(AA10=0,0,(AA10*((LOG(AA10))/LOG(2))))","v":0},null,122,{"$f":"COUNTIF(L27:L35,AD10)","v":0},{"$f":"AE10/(AG4-AE11)","v":0},{"$f":"IF(AF10=0,0,(AF10*((LOG(AF10))/LOG(2))))","v":0},null,122,{"$f":"COUNTIF(L36:L45,AI10)","v":0},{"$f":"AJ10/(AL4-AJ11)","v":0},{"$f":"IF(AK10=0,0,(AK10*((LOG(AK10))/LOG(2))))","v":0},null,122,{"$f":"COUNTIF(L46:L55,AN10)","v":0},{"$f":"AO10/(AQ4-AO11)","v":0},{"$f":"IF(AP10=0,0,(AP10*((LOG(AP10))/LOG(2))))","v":0},null,122,{"$f":"COUNTIF(L56:L65,AS10)","v":0},{"$f":"AT10/(AV4-AT11)","v":0},{"$f":"IF(AU10=0,0,(AU10*((LOG(AU10))/LOG(2))))","v":0}]
[12,468,13,475,13,481,null,null,null,null,0,111,null,211,36,0.61016949152542377,-0.43487880890005154,null,null,211,{"$f":"COUNTIF(L7:L16,T11)","v":5},null,null,null,211,{"$f":"COUNTIF(L17:L26,Y11)","v":4},null,null,null,211,{"$f":"COUNTIF(L27:L35,AD11)","v":6},null,null,null,211,{"$f":"COUNTIF(L36:L45,AI11)","v":7},null,null,null,211,{"$f":"COUNTIF(L46:L55,AN11)","v":7},null,null,null,211,{"$f":"COUNTIF(L56:L65,AS11)","v":7}]
[21,574,11,583,11,591,null,null,null,null,0,211,null,212,0,0,0,null,null,212,{"$f":"COUNTIF(L7:L16,T12)","v":0},{"$f":"U12/(W4-U11)","v":0},{"$f":"IF(V12=0,0,(V12*((LOG(V12))/LOG(2))))","v":0},null,212,{"$f":"COUNTIF(L17:L26,Y12)","v":0},{"$f":"Z12/(AB4-Z11)","v":0},{"$f":"IF(AA12=0,0,(AA12*((LOG(AA12))/LOG(2))))","v":0},null,212,{"$f":"COUNTIF(L27:L35,AD12)","v":0},{"$f":"AE12/(AG4-AE11)","v":0},{"$f":"IF(AF12=0,0,(AF12*((LOG(AF12))/LOG(2))))","v":0},null,212,{"$f":"COUNTIF(L36:L45,AI12)","v":0},{"$f":"AJ12/(AL4-AJ11)","v":0},{"$f":"IF(AK12=0,0,(AK12*((LOG(AK12))/LOG(2))))","v":0},null,212,{"$f":"COUNTIF(L46:L55,AN12)","v":0},{"$f":"AO12/(AQ4-AO11)","v":0},{"$f":"IF(AP12=0,0,(AP12*((LOG(AP12))/LOG(2))))","v":0},null,212,{"$f":"COUNTIF(L56:L65,AS12)","v":0},{"$f":"AT12/(AV4-AT11)","v":0},{"$f":"IF(AU12=0,0,(AU12*((LOG(AU12))/LOG(2))))","v":0}]
[12,699,13,711,13,719,null,null,null,null,0,111,null,221,2,3.3898305084745763E-2,-0.16551332370718108,null,null,221,{"$f":"COUNTIF(L7:L16,T13)","v":0},{"$f":"U13/(W4-U11)","v":0},{"$f":"IF(V13=0,0,(V13*((LOG(V13))/LOG(2))))","v":0},null,221,{"$f":"COUNTIF(L17:L26,Y13)","v":0},{"$f":"Z13/(AB4-Z11)","v":0},{"$f":"IF(AA13=0,0,(AA13*((LOG(AA13))/LOG(2))))","v":0},null,221,{"$f":"COUNTIF(L27:L35,AD13)","v":0},{"$f":"AE13/(AG4-AE11)","v":0},{"$f":"IF(AF13=0,0,(AF13*((LOG(AF13))/LOG(2))))","v":0},null,221,{"$f":"COUNTIF(L36:L45,AI13)","v":0},{"$f":"AJ13/(AL4-AJ11)","v":0},{"$f":"IF(AK13=0,0,(AK13*((LOG(AK13))/LOG(2))))","v":0},null,221,{"$f":"COUNTIF(L46:L55,AN13)","v":0},{"$f":"AO13/(AQ4-AO11)","v":0},{"$f":"IF(AP13=0,0,(AP13*((LOG(AP13))/LOG(2))))","v":0},null,221,{"$f":"COUNTIF(L56:L65,AS13)","v":2},{"$f":"AT13/(AV4-AT11)","v":0.66666666666666663},{"$f":"IF(AU13=0,0,(AU13*((LOG(AU13))/LOG(2))))","v":-0.38997500048077083}]
[21,812,11,821,11,826,null,null,null,null,0,211,null,222,0,0,0,null,null,222,{"$f":"COUNTIF(L7:L16,T14)","v":0},{"$f":"U14/(W4-U11)","v":0},{"$f":"IF(V14=0,0,(V14*((LOG(V14))/LOG(2))))","v":0},null,222,{"$f":"COUNTIF(L17:L26,Y14)","v":0},{"$f":"Z14/(AB4-Z11)","v":0},{"$f":"IF(AA14=0,0,(AA14*((LOG(AA14))/LOG(2))))","v":0},null,222,{"$f":"COUNTIF(L27:L35,AD14)","v":0},{"$f":"AE14/(AG4-AE11)","v":0},{"$f":"IF(AF14=0,0,(AF14*((LOG(AF14))/LOG(2))))","v":0},null,222,{"$f":"COUNTIF(L36:L45,AI14)","v":0},{"$f":"AJ14/(AL4-AJ11)","v":0},{"$f":"IF(AK14=0,0,(AK14*((LOG(AK14))/LOG(2))))","v":0},null,222,{"$f":"COUNTIF(L46:L55,AN14)","v":0},{"$f":"AO14/(AQ4-AO11)","v":0},{"$f":"IF(AP14=0,0,(AP14*((LOG(AP14))/LOG(2))))","v":0},null,222,{"$f":"COUNTIF(L56:L65,AS14)","v":0},{"$f":"AT14/(AV4-AT11)","v":0},{"$f":"IF(AU14=0,0,(AU14*((LOG(AU14))/LOG(2))))","v":0}]
[21,914,11,921,11,924,null,null,null,null,0,211,null,null,null,{"$f":"SUM(P7:P14)","v":1},{"$f":"-SUM(Q7:Q14)","v":1.1308470166452784},null,null,null,null,{"$f":"SUM(V7:V14)","v":1},{"$f":"-SUM(W7:W14)","v":0},null,null,null,{"$f":"SUM(AA7:AA14)","v":1},{"$f":"-SUM(AB7:AB14)","v":0},null,null,null,{"$f":"SUM(AF7:AF14)","v":1},{"$f":"-SUM(AG7:AG14)","v":0},null,null,null,{"$f":"SUM(AK7:AK14)","v":1},{"$f":"-SUM(AL7:AL14)","v":0},null,null,null,{"$f":"SUM(AP7:AP14)","v":1},{"$f":"-SUM(AQ7:AQ14)","v":0},null,null,null,{"$f":"SUM(AU7:AU14)","v":1},{"$f":"-SUM(AV7:AV14)","v":0.91829583405448945}]
[21,1084,11,1090,11,1095,null,null,null,null,0,211,null,null,null,"U=",{"$f":"Q15/(LOG(Q4)/LOG(2))","v":0.19223451213276566},null,null,null,null,"U1=",{"$f":"W15/(LOG(W4)/LOG(2))","v":0},null,null,null,"U2=",{"$f":"AB15/(LOG(AB4)/LOG(2))","v":0},null,null,null,"U3=",{"$f":"AG15/(LOG(AG4)/LOG(2))","v":0},null,null,null,"U4=",{"$f":"AL15/(LOG(AL4)/LOG(2))","v":0},null,null,null,"U5=",{"$f":"AQ15/(LOG(AQ4)/LOG(2))","v":0},null,null,null,"U6=",{"$f":"AV15/(LOG(AV4)/LOG(2))","v":0.27643459094367495}]
[21,1188,11,1194,11,1212,null,null,null,null,0,211]
[21,1305,11,1313,11,1317,null,null,null,null,0,211]
[12,1417,13,1421,13,1431,null,null,null,null,0,111,null,"Total Target Seq"]
[21,1524,11,1531,11,1535,null,null,null,null,0,211,null,{"$f":"COUNTIF(L7:L65,G3)","v":36},null,10,10,9,10,10,10]
[12,1637,13,1647,13,1656,null,null,null,null,0,111,null,null,null,"% of reinforcement given in 6 equal intervals based on number of trials "]
[21,1755,11,1757,11,1761,null,null,null,null,0,211,null,null,null,"%_1","%_2","%_3","%_4","%_5","%_6"]
[12,1858,13,1867,13,1874,null,null,null,null,0,111,null,null,"target sequence",{"$f":"$G$3","v":211},211,211,211,211,211]
[12,1975,13,1983,13,1994,null,null,null,null,0,111,null,null,"total reinforcement",{"$f":"U11","v":5},{"$f":"Z11","v":4},{"$f":"AE11","v":6},{"$f":"AJ11","v":7},{"$f":"AO11","v":7},{"$f":"AT11","v":7}]
[12,2094,13,2100,13,2106,null,null,null,null,0,111,null,null,"% target"]
[12,2206,13,2209,13,2215,null,null,null,null,0,111,null,null,"CCRF"]
[12,2319,13,2325,13,2336,null,null,null,null,0,111,null,null,"% CCRf"]
[21,2426,11,2433,11,2435,null,null,null,null,0,211,null,null,"average response rate",{"$f":"F16/P20","v":109.5},{"$f":"(F26-F16)/Q20","v":112},{"$f":"(F35-F26)/R20","v":110.33333333333333},{"$f":"(F45-F35)/S20","v":111.5},{"$f":"(F55-F45)/T20","v":139.4},{"$f":"(F65-F55)/U20","v":110.3}]
[21,2530,11,2537,11,2543,null,null,null,null,0,211]
[21,2635,11,2641,11,2651,null,null,null,null,0,211]
[12,2750,13,2768,13,2777,null,null,null,null,0,111]
[21,2874,11,2879,11,2893,null,null,null,null,0,211]
[21,2984,11,2992,11,2997,null,null,null,null,0,211]
[12,3094,13,3097,13,3104,null,null,null,null,0,111]
[21,3200,11,3205,11,3208,null,null,null,null,0,211]
[21,3299,11,3306,11,3318,null,null,null,null,0,211]
[12,3415,13,3425,13,3431,null,null,null,null,0,111]
[12,3536,13,3543,13,3548,null,null,null,null,0,111]
[21,3642,11,3648,11,3651,null,null,null,null,0,211]
[12,3749,13,3751,13,3762,null,null,null,null,0,111]
[21,3857,11,3864,11,3876,null,null,null,null,0,211]
[21,3969,11,3977,11,3987,null,null,null,null,0,211]
[21,4078,11,4086,11,4094,null,null,null,null,0,211]
[21,4187,11,4196,11,4208,null,null,null,null,0,211]
[21,4301,11,4309,11,4323,null,null,null,null,0,211]
[21,4418,11,4427,11,4435,null,null,null,null,0,211]
[21,4528,11,4536,11,4544,null,null,null,null,0,211]
[21,4636,11,4647,11,4655,null,null,null,null,0,211]
[12,5006,13,5014,13,5017,null,null,null,null,0,111]
[21,5113,11,5119,11,5129,null,null,null,null,0,211]
[12,5229,13,5234,13,5242,null,null,null,null,0,111]
[21,5333,11,5340,11,5343,null,null,null,null,0,211]
[21,5480,11,5487,11,5492,null,null,null,null,0,211]
[12,5590,13,5594,13,5604,null,null,null,null,0,111]
[21,5700,11,5706,11,5717,null,null,null,null,0,211]
[21,5812,11,5820,11,5825,null,null,null,null,0,211]
[21,5934,11,5942,11,5946,null,null,null,null,0,211]
[12,6047,13,6050,13,6056,null,null,null,null,0,111]
[21,6149,11,6156,11,6173,null,null,null,null,0,211]
[21,6266,11,6275,11,6282,null,null,null,null,0,211]
[21,6375,11,6385,11,6388,null,null,null,null,0,211]
[21,6489,11,6498,11,6506,null,null,null,null,0,211]
[21,6593,22,6604,13,6611,null,null,null,null,0,221]
[21,6707,22,6711,13,6714,null,null,null,null,0,221]
[21,6810,11,6815,11,6820,null,null,null,null,1,211]

{"sheet":"!N221A1T.AYL","index":23,"n_rows":86,"n_cols":48,"rows_kept":86,"cut":false,"hidden":false,"merged":[[1,1,1,2],[5,13,5,14],[18,13,18,14],[19,13,19,14],[4,19,4,22],[5,19,5,20],[4,39,4,42],[5,39,5,40],[4,44,4,47],[5,44,5,45],[4,24,4,27],[5,24,5,25],[4,29,4,32],[5,29,5,30],[4,34,4,37],[5,34,5,35]]}
["Report for:!N221A1T.AYL"]
["Date:","<date>"]
["Hen:","<hen>",null,null,null,"Correct Sequence",{"$f":"Start!J2","v":211},null,null,null,null,null,null,null,null,"Total Sequences in Data",{"$f":"4994-COUNTBLANK(L7:L5000)","v":80},null,null,null,null,"Total Sequences in Block Data",{"$f":"COUNTA(L7:L19)","v":13},null,null,null,"Total Sequences in Block Data",{"$f":"COUNTA(L20:L33)","v":14},null,null,null,"Total Sequences in Block Data",{"$f":"COUNTA(L34:L46)","v":13},null,null,null,"Total Sequences in Block Data",{"$f":"COUNTA(L47:L59)","v":13},null,null,null,"Total Sequences in Block Data",{"$f":"COUNTA(L60:L73)","v":14},null,null,null,"Total Sequences in Block Data",{"$f":"COUNTA(L74:L86)","v":13}]
[null,null,null,null,null,null,null,null,null,null,null,null,null,null,null,"Total Sequences in Summary",{"$f":"SUM(O7:O14)","v":80},null,null,null,null,"Total Sequences in Block Summary",{"$f":"SUM(U7:U14)","v":13},null,null,null,"Total Sequences in Block Summary",{"$f":"SUM(Z7:Z14)","v":14},null,null,null,"Total Sequences in Block Summary",{"$f":"SUM(AE7:AE14)","v":13},null,null,null,"Total Sequences in Block Summary",{"$f":"SUM(AJ7:AJ14)","v":13},null,null,null,"Total Sequences in Block Summary",{"$f":"SUM(AO7:AO14)","v":14},null,null,null,"Total Sequences in Block Summary",{"$f":"SUM(AT7:AT14)","v":13}]
[null,null,null,null,null,null,null,null,null,null,null,null,null,null,null,null,null,null,null,"Block 1",null,null,null,null,"Block 2",null,null,null,null,"Block 3",null,null,null,null,"Block 4",null,null,null,null,"Block 5",null,null,null,null,"Block 6"]
["Sequence\nComponent\n1","Time\n1","Sequence\nComponent\n2","Time\n2","Sequence\nComponent\n3","Time\n3","Sequence\nComponent\n4","Time\n4","Sequence\nComponent\n5","Time\n5","Correct?\n0=No 1=Yes","Sequence",null,"Frequency",null,"Relative Frequency","Variability",null,null,"Frequency",null,"Relative Frequency","Variability",null,"Frequency",null,"Relative Frequency","Variability",null,"Frequency",null,"Relative Frequency","Variability",null,"Frequency",null,"Relative Frequency","Variability",null,"Frequency",null,"Relative Frequency","Variability",null,"Frequency",null,"Relative Frequency","Variability"]
[12,7,13,10,13,14,null,null,null,null,0,111,null,111,{"$f":"COUNTIF($L$7:$L$500,N7)","v":42},{"$f":"O7/$Q$4","v":0.52500000000000002},{"$f":"IF(P7=0,0,(P7*((LOG(P7))/LOG(2))))","v":-0.48804560285701604},null,null,{"$f":"N7","v":111},{"$f":"COUNTIF(L7:L19,T7)","v":7},{"$f":"U7/(W4-U11)","v":0.875},{"$f":"IF(V7=0,0,(V7*((LOG(V7))/LOG(2))))","v":-0.1685644431995964},null,{"$f":"N7","v":111},{"$f":"COUNTIF(L20:L33,Y7)","v":5},{"$f":"Z7/(AB4-Z11)","v":1},{"$f":"IF(AA7=0,0,(AA7*((LOG(AA7))/LOG(2))))","v":0},null,{"$f":"N7","v":111},{"$f":"COUNTIF(L34:L46,AD7)","v":5},{"$f":"AE7/(AG4-AE11)","v":1},{"$f":"IF(AF7=0,0,(AF7*((LOG(AF7))/LOG(2))))","v":0},null,{"$f":"N7","v":111},{"$f":"COUNTIF(L47:L59,AI7)","v":9},{"$f":"AJ7/(AL4-AJ11)","v":0.9},{"$f":"IF(AK7=0,0,(AK7*((LOG(AK7))/LOG(2))))","v":-0.13680278410054494},null,{"$f":"N7","v":111},{"$f":"COUNTIF(L60:L73,AN7)","v":9},{"$f":"AO7/(AQ4-AO11)","v":0.9},{"$f":"IF(AP7=0,0,(AP7*((LOG(AP7))/LOG(2))))","v":-0.13680278410054494},null,{"$f":"N7","v":111},{"$f":"COUNTIF(L74:L86,AS7)","v":7},{"$f":"AT7/(AV4-AT11)","v":1},{"$f":"IF(AU7=0,0,(AU7*((LOG(AU7))/LOG(2))))","v":0}]
[12,115,13,119,13,129,null,null,null,null,0,111,null,112,0,0,0,null,null,112,{"$f":"COUNTIF(L7:L19,T8)","v":0},{"$f":"U8/(W4-U11)","v":0},{"$f":"IF(V8=0,0,(V8*((LOG(V8))/LOG(2))))","v":0},null,112,{"$f":"COUNTIF(L20:L33,Y8)","v":0},{"$f":"Z8/(AB4-Z11)","v":0},{"$f":"IF(AA8=0,0,(AA8*((LOG(AA8))/LOG(2))))","v":0},null,112,{"$f":"COUNTIF(L34:L46,AD8)","v":0},{"$f":"AE8/(AG4-AE11)","v":0},{"$f":"IF(AF8=0,0,(AF8*((LOG(AF8))/LOG(2))))","v":0},null,112,{"$f":"COUNTIF(L47:L59,AI8)","v":0},{"$f":"AJ8/(AL4-AJ11)","v":0},{"$f":"IF(AK8=0,0,(AK8*((LOG(AK8))/LOG(2))))","v":0},null,112,{"$f":"COUNTIF(L60:L73,AN8)","v":0},{"$f":"AO8/(AQ4-AO11)","v":0},{"$f":"IF(AP8=0,0,(AP8*((LOG(AP8))/LOG(2))))","v":0},null,112,{"$f":"COUNTIF(L74:L86,AS8)","v":0},{"$f":"AT8/(AV4-AT11)","v":0},{"$f":"IF(AU8=0,0,(AU8*((LOG(AU8))/LOG(2))))","v":0}]
[21,221,11,233,11,241,null,null,null,null,0,211,null,121,0,0,0,null,null,121,{"$f":"COUNTIF(L7:L19,T9)","v":0},{"$f":"U9/(W4-U11)","v":0},{"$f":"IF(V9=0,0,(V9*((LOG(V9))/LOG(2))))","v":0},null,121,{"$f":"COUNTIF(L20:L33,Y9)","v":0},{"$f":"Z9/(AB4-Z11)","v":0},{"$f":"IF(AA9=0,0,(AA9*((LOG(AA9))/LOG(2))))","v":0},null,121,{"$f":"COUNTIF(L34:L46,AD9)","v":0},{"$f":"AE9/(AG4-AE11)","v":0},{"$f":"IF(AF9=0,0,(AF9*((LOG(AF9))/LOG(2))))","v":0},null,121,{"$f":"COUNTIF(L47:L59,AI9)","v":0},{"$f":"AJ9/(AL4-AJ11)","v":0},{"$f":"IF(AK9=0,0,(AK9*((LOG(AK9))/LOG(2))))","v":0},null,121,{"$f":"COUNTIF(L60:L73,AN9)","v":0},{"$f":"AO9/(AQ4-AO11)","v":0},{"$f":"IF(AP9=0,0,(AP9*((LOG(AP9))/LOG(2))))","v":0},null,121,{"$f":"COUNTIF(L74:L86,AS9)","v":0},{"$f":"AT9/(AV4-AT11)","v":0},{"$f":"IF(AU9=0,0,(AU9*((LOG(AU9))/LOG(2))))","v":0}]
[12,359,13,367,13,373,null,null,null,null,0,111,null,122,0,0,0,null,null,122,{"$f":"COUNTIF(L7:L19,T10)","v":0},{"$f":"U10/(W4-U11)","v":0},{"$f":"IF(V10=0,0,(V10*((LOG(V10))/LOG(2))))","v":0},null,122,{"$f":"COUNTIF(L20:L33,Y10)","v":0},{"$f":"Z10/(AB4-Z11)","v":0},{"$f":"IF(AA10=0,0,(AA10*((LOG(AA10))/LOG(2))))","v":0},null,122,{"$f":"COUNTIF(L34:L46,AD10)","v":0},{"$f":"AE10/(AG4-AE11)","v":0},{"$f":"IF(AF10=0,0,(AF10*((LOG(AF10))/LOG(2))))","v":0},null,122,{"$f":"COUNTIF(L47:L59,AI10)","v":0},{"$f":"AJ10/(AL4-AJ11)","v":0},{"$f":"IF(AK10=0,0,(AK10*((LOG(AK10))/LOG(2))))","v":0},null,122,{"$f":"COUNTIF(L60:L73,AN10)","v":0},{"$f":"AO10/(AQ4-AO11)","v":0},{"$f":"IF(AP10=0,0,(AP10*((LOG(AP10))/LOG(2))))","v":0},null,122,{"$f":"COUNTIF(L74:L86,AS10)","v":0},{"$f":"AT10/(AV4-AT11)","v":0},{"$f":"IF(AU10=0,0,(AU10*((LOG(AU10))/LOG(2))))","v":0}]
[12,474,13,478,13,484,null,null,null,null,0,111,null,211,35,0.4375,-0.52178222159979815,null,null,211,{"$f":"COUNTIF(L7:L19,T11)","v":5},null,null,null,211,{"$f":"COUNTIF(L20:L33,Y11)","v":9},null,null,null,211,{"$f":"COUNTIF(L34:L46,AD11)","v":8},null,null,null,211,{"$f":"COUNTIF(L47:L59,AI11)","v":3},null,null,null,211,{"$f":"COUNTIF(L60:L73,AN11)","v":4},null,null,null,211,{"$f":"COUNTIF(L74:L86,AS11)","v":6}]
[21,576,11,581,11,587,null,null,null,null,0,211,null,212,0,0,0,null,null,212,{"$f":"COUNTIF(L7:L19,T12)","v":0},{"$f":"U12/(W4-U11)","v":0},{"$f":"IF(V12=0,0,(V12*((LOG(V12))/LOG(2))))","v":0},null,212,{"$f":"COUNTIF(L20:L33,Y12)","v":0},{"$f":"Z12/(AB4-Z11)","v":0},{"$f":"IF(AA12=0,0,(AA12*((LOG(AA12))/LOG(2))))","v":0},null,212,{"$f":"COUNTIF(L34:L46,AD12)","v":0},{"$f":"AE12/(AG4-AE11)","v":0},{"$f":"IF(AF12=0,0,(AF12*((LOG(AF12))/LOG(2))))","v":0},null,212,{"$f":"COUNTIF(L47:L59,AI12)","v":0},{"$f":"AJ12/(AL4-AJ11)","v":0},{"$f":"IF(AK12=0,0,(AK12*((LOG(AK12))/LOG(2))))","v":0},null,212,{"$f":"COUNTIF(L60:L73,AN12)","v":0},{"$f":"AO12/(AQ4-AO11)","v":0},{"$f":"IF(AP12=0,0,(AP12*((LOG(AP12))/LOG(2))))","v":0},null,212,{"$f":"COUNTIF(L74:L86,AS12)","v":0},{"$f":"AT12/(AV4-AT11)","v":0},{"$f":"IF(AU12=0,0,(AU12*((LOG(AU12))/LOG(2))))","v":0}]
[21,679,22,682,13,688,null,null,null,null,0,221,null,221,3,3.7499999999999999E-2,-0.17763620978123273,null,null,221,{"$f":"COUNTIF(L7:L19,T13)","v":1},{"$f":"U13/(W4-U11)","v":0.125},{"$f":"IF(V13=0,0,(V13*((LOG(V13))/LOG(2))))","v":-0.375},null,221,{"$f":"COUNTIF(L20:L33,Y13)","v":0},{"$f":"Z13/(AB4-Z11)","v":0},{"$f":"IF(AA13=0,0,(AA13*((LOG(AA13))/LOG(2))))","v":0},null,221,{"$f":"COUNTIF(L34:L46,AD13)","v":0},{"$f":"AE13/(AG4-AE11)","v":0},{"$f":"IF(AF13=0,0,(AF13*((LOG(AF13))/LOG(2))))","v":0},null,221,{"$f":"COUNTIF(L47:L59,AI13)","v":1},{"$f":"AJ13/(AL4-AJ11)","v":0.1},{"$f":"IF(AK13=0,0,(AK13*((LOG(AK13))/LOG(2))))","v":-0.33219280948873625},null,221,{"$f":"COUNTIF(L60:L73,AN13)","v":1},{"$f":"AO13/(AQ4-AO11)","v":0.1},{"$f":"IF(AP13=0,0,(AP13*((LOG(AP13))/LOG(2))))","v":-0.33219280948873625},null,221,{"$f":"COUNTIF(L74:L86,AS13)","v":0},{"$f":"AT13/(AV4-AT11)","v":0},{"$f":"IF(AU13=0,0,(AU13*((LOG(AU13))/LOG(2))))","v":0}]
[21,781,11,788,11,795,null,null,null,null,0,211,null,222,0,0,0,null,null,222,{"$f":"COUNTIF(L7:L19,T14)","v":0},{"$f":"U14/(W4-U11)","v":0},{"$f":"IF(V14=0,0,(V14*((LOG(V14))/LOG(2))))","v":0},null,222,{"$f":"COUNTIF(L20:L33,Y14)","v":0},{"$f":"Z14/(AB4-Z11)","v":0},{"$f":"IF(AA14=0,0,(AA14*((LOG(AA14))/LOG(2))))","v":0},null,222,{"$f":"COUNTIF(L34:L46,AD14)","v":0},{"$f":"AE14/(AG4-AE11)","v":0},{"$f":"IF(AF14=0,0,(AF14*((LOG(AF14))/LOG(2))))","v":0},null,222,{"$f":"COUNTIF(L47:L59,AI14)","v":0},{"$f":"AJ14/(AL4-AJ11)","v":0},{"$f":"IF(AK14=0,0,(AK14*((LOG(AK14))/LOG(2))))","v":0},null,222,{"$f":"COUNTIF(L60:L73,AN14)","v":0},{"$f":"AO14/(AQ4-AO11)","v":0},{"$f":"IF(AP14=0,0,(AP14*((LOG(AP14))/LOG(2))))","v":0},null,222,{"$f":"COUNTIF(L74:L86,AS14)","v":0},{"$f":"AT14/(AV4-AT11)","v":0},{"$f":"IF(AU14=0,0,(AU14*((LOG(AU14))/LOG(2))))","v":0}]
[21,988,11,994,11,1001,null,null,null,null,0,211,null,null,null,{"$f":"SUM(P7:P14)","v":1},{"$f":"-SUM(Q7:Q14)","v":1.1874640342380469},null,null,null,null,{"$f":"SUM(V7:V14)","v":1},{"$f":"-SUM(W7:W14)","v":0.5435644431995964},null,null,null,{"$f":"SUM(AA7:AA14)","v":1},{"$f":"-SUM(AB7:AB14)","v":0},null,null,null,{"$f":"SUM(AF7:AF14)","v":1},{"$f":"-SUM(AG7:AG14)","v":0},null,null,null,{"$f":"SUM(AK7:AK14)","v":1},{"$f":"-SUM(AL7:AL14)","v":0.46899559358928122},null,null,null,{"$f":"SUM(AP7:AP14)","v":1},{"$f":"-SUM(AQ7:AQ14)","v":0.46899559358928122},null,null,null,{"$f":"SUM(AU7:AU14)","v":1},{"$f":"-SUM(AV7:AV14)","v":0}]
[12,1101,13,1108,13,1118,null,null,null,null,0,111,null,null,null,"U=",{"$f":"Q15/(LOG(Q4)/LOG(2))","v":0.18783257519147789},null,null,null,null,"U1=",{"$f":"W15/(LOG(W4)/LOG(2))","v":0.14689185194257259},null,null,null,"U2=",{"$f":"AB15/(LOG(AB4)/LOG(2))","v":0},null,null,null,"U3=",{"$f":"AG15/(LOG(AG4)/LOG(2))","v":0},null,null,null,"U4=",{"$f":"AL15/(LOG(AL4)/LOG(2))","v":0.12674050364611267},null,null,null,"U5=",{"$f":"AQ15/(LOG(AQ4)/LOG(2))","v":0.12318147459071732},null,null,null,"U6=",{"$f":"AV15/(LOG(AV4)/LOG(2))","v":0}]
[12,1221,13,1227,13,1235,null,null,null,null,0,111]
[21,1333,11,1339,11,1345,null,null,null,null,0,211]
[12,1446,13,1458,13,1464,null,null,null,null,0,111,null,"Total Target Seq"]
[12,1564,13,1568,13,1577,null,null,null,null,0,111,null,{"$f":"COUNTIF(L7:L86,G3)","v":35},null,13,14,13,13,14,13]
[12,1680,13,1686,13,1697,null,null,null,null,0,111,null,null,null,"% of reinforcement given in 6 equal intervals based on number of trials "]
[21,1792,11,1798,11,1801,null,null,null,null,0,211,null,null,null,"%_1","%_2","%_3","%_4","%_5","%_6"]
[12,1901,13,1907,13,1913,null,null,null,null,0,111,null,null,"target sequence",{"$f":"$G$3","v":211},211,211,211,211,211]
[12,2018,13,2020,13,2029,null,null,null,null,0,111,null,null,"total reinforcement",{"$f":"U11","v":5},{"$f":"Z11","v":9},{"$f":"AE11","v":8},{"$f":"AJ11","v":3},{"$f":"AO11","v":4},{"$f":"AT11","v":6}]
[21,2125,11,2132,11,2139,null,null,null,null,0,211,null,null,"% target"]
[21,2233,11,2240,11,2249,null,null,null,null,0,211,null,null,"CCRF"]
[12,2349,13,2354,13,2361,null,null,null,null,0,111,null,null,"% CCRf"]
[21,2459,11,2465,11,2471,null,null,null,null,0,211,null,null,"average response rate",{"$f":"F19/P20","v":112.61538461538461},{"$f":"(F33-F19)/Q20","v":112.42857142857143},{"$f":"(F46-F33)/R20","v":110.92307692307692},{"$f":"(F59-F46)/S20","v":111.61538461538461},{"$f":"(F73-F59)/T20","v":125},{"$f":"(F86-F73)/U20","v":121.76923076923077}]
[21,2565,11,2587,11,2596,null,null,null,null,0,211]
[21,2688,11,2695,11,2705,null,null,null,null,0,211]
[21,2799,11,2811,11,2817,null,null,null,null,0,211]
[21,2909,11,2917,11,2922,null,null,null,null,0,211]
[21,3025,11,3033,11,3038,null,null,null,null,0,211]
[12,3138,13,3142,13,3154,null,null,null,null,0,111]
[21,3249,11,3255,11,3259,null,null,null,null,0,211]
[21,3348,11,3356,11,3359,null,null,null,null,0,211]
[21,3450,11,3458,11,3463,null,null,null,null,0,211]
[12,3562,13,3571,13,3578,null,null,null,null,0,111]
[21,3673,11,3680,11,3692,null,null,null,null,0,211]
[12,3789,13,3793,13,3798,null,null,null,null,0,111]
[12,3908,13,3917,13,3927,null,null,null,null,0,111]
[21,4033,11,4040,11,4050,null,null,null,null,0,211]
[21,4142,11,4150,11,4154,null,null,null,null,0,211]
[12,4250,13,4254,13,4260,null,null,null,null,0,111]
[21,4356,11,4362,11,4376,null,null,null,null,0,211]
[21,4465,11,4476,11,4480,null,null,null,null,0,211]
[21,4568,11,4575,11,4579,null,null,null,null,0,211]
[12,4679,13,4683,13,4690,null,null,null,null,0,111]
[12,4792,13,4800,13,4807,null,null,null,null,0,111]
[12,4909,13,4925,13,4934,null,null,null,null,0,111]
[12,5034,13,5038,13,5047,null,null,null,null,0,111]
[21,5140,11,5149,11,5153,null,null,null,null,0,211]
[21,5244,11,5252,11,5255,null,null,null,null,0,211]
[12,5354,13,5362,13,5373,null,null,null,null,0,111]
[12,5470,13,5473,13,5482,null,null,null,null,0,111]
[21,5574,22,5577,13,5583,null,null,null,null,0,221]
[12,5684,13,5693,13,5702,null,null,null,null,0,111]
[12,5805,13,5808,13,5819,null,null,null,null,0,111]
[12,5921,13,5925,13,5931,null,null,null,null,0,111]
[12,6027,13,6043,13,6055,null,null,null,null,0,111]
[12,6173,13,6180,13,6190,null,null,null,null,0,111]
[12,6292,13,6297,13,6310,null,null,null,null,0,111]
[12,6412,13,6416,13,6425,null,null,null,null,0,111]
[12,6527,13,6532,13,6543,null,null,null,null,0,111]
[12,6649,13,6667,13,6675,null,null,null,null,0,111]
[21,6768,22,6771,13,6774,null,null,null,null,0,221]
[21,6868,11,6874,11,6878,null,null,null,null,0,211]
[12,6987,13,6992,13,6998,null,null,null,null,0,111]
[12,7100,13,7109,13,7115,null,null,null,null,0,111]
[21,7211,11,7214,11,7217,null,null,null,null,0,211]
[12,7314,13,7338,13,7344,null,null,null,null,0,111]
[21,7440,11,7445,11,7451,null,null,null,null,0,211]
[21,7661,11,7673,11,7681,null,null,null,null,0,211]
[12,7786,13,7793,13,7801,null,null,null,null,0,111]
[21,7897,11,7905,11,7913,null,null,null,null,0,211]
[21,8012,11,8022,11,8027,null,null,null,null,0,211]
[12,8128,13,8131,13,8138,null,null,null,null,0,111]
[21,8233,11,8240,11,8243,null,null,null,null,0,211]
[21,8418,11,8429,11,8439,null,null,null,null,0,211]
[12,8569,13,8573,13,8579,null,null,null,null,0,111]
[12,8686,13,8694,13,8700,null,null,null,null,0,111]
[12,8803,13,8806,13,8817,null,null,null,null,0,111]
[12,8922,13,8925,13,8935,null,null,null,null,0,111]
[21,9030,11,9036,11,9041,null,null,null,null,0,211]
[12,9144,13,9147,13,9158,null,null,null,null,0,111]
[21,9254,11,9260,11,9264,null,null,null,null,1,211]

{"sheet":"!N222A1T.AYL","index":24,"n_rows":91,"n_cols":48,"rows_kept":91,"cut":false,"hidden":false,"merged":[[1,1,1,2],[5,13,5,14],[18,13,18,14],[19,13,19,14],[4,19,4,22],[5,19,5,20],[4,39,4,42],[5,39,5,40],[4,44,4,47],[5,44,5,45],[4,24,4,27],[5,24,5,25],[4,29,4,32],[5,29,5,30],[4,34,4,37],[5,34,5,35]]}
["Report for:!N222A1T.AYL"]
["Date:","<date>"]
["Hen:","<hen>",null,null,null,"Correct Sequence",{"$f":"Start!J2","v":211},null,null,null,null,null,null,null,null,"Total Sequences in Data",{"$f":"4994-COUNTBLANK(L7:L5000)","v":85},null,null,null,null,"Total Sequences in Block Data",{"$f":"COUNTA(L7:L20)","v":14},null,null,null,"Total Sequences in Block Data",{"$f":"COUNTA(L21:L34)","v":14},null,null,null,"Total Sequences in Block Data",{"$f":"COUNTA(L35:L49)","v":15},null,null,null,"Total Sequences in Block Data",{"$f":"COUNTA(L50:L63)","v":14},null,null,null,"Total Sequences in Block Data",{"$f":"COUNTA(L64:L77)","v":14},null,null,null,"Total Sequences in Block Data",{"$f":"COUNTA(L78:L91)","v":14}]
[null,null,null,null,null,null,null,null,null,null,null,null,null,null,null,"Total Sequences in Summary",{"$f":"SUM(O7:O14)","v":85},null,null,null,null,"Total Sequences in Block Summary",{"$f":"SUM(U7:U14)","v":14},null,null,null,"Total Sequences in Block Summary",{"$f":"SUM(Z7:Z14)","v":14},null,null,null,"Total Sequences in Block Summary",{"$f":"SUM(AE7:AE14)","v":15},null,null,null,"Total Sequences in Block Summary",{"$f":"SUM(AJ7:AJ14)","v":14},null,null,null,"Total Sequences in Block Summary",{"$f":"SUM(AO7:AO14)","v":14},null,null,null,"Total Sequences in Block Summary",{"$f":"SUM(AT7:AT14)","v":14}]
[null,null,null,null,null,null,null,null,null,null,null,null,null,null,null,null,null,null,null,"Block 1",null,null,null,null,"Block 2",null,null,null,null,"Block 3",null,null,null,null,"Block 4",null,null,null,null,"Block 5",null,null,null,null,"Block 6"]
["Sequence\nComponent\n1","Time\n1","Sequence\nComponent\n2","Time\n2","Sequence\nComponent\n3","Time\n3","Sequence\nComponent\n4","Time\n4","Sequence\nComponent\n5","Time\n5","Correct?\n0=No 1=Yes","Sequence",null,"Frequency",null,"Relative Frequency","Variability",null,null,"Frequency",null,"Relative Frequency","Variability",null,"Frequency",null,"Relative Frequency","Variability",null,"Frequency",null,"Relative Frequency","Variability",null,"Frequency",null,"Relative Frequency","Variability",null,"Frequency",null,"Relative Frequency","Variability",null,"Frequency",null,"Relative Frequency","Variability"]
[12,7,13,14,13,16,null,null,null,null,0,111,null,111,{"$f":"COUNTIF($L$7:$L$500,N7)","v":51},{"$f":"O7/$Q$4","v":0.6},{"$f":"IF(P7=0,0,(P7*((LOG(P7))/LOG(2))))","v":-0.44217935649972373},null,null,{"$f":"N7","v":111},{"$f":"COUNTIF(L7:L20,T7)","v":11},{"$f":"U7/(W4-U11)","v":1},{"$f":"IF(V7=0,0,(V7*((LOG(V7))/LOG(2))))","v":0},null,{"$f":"N7","v":111},{"$f":"COUNTIF(L21:L34,Y7)","v":10},{"$f":"Z7/(AB4-Z11)","v":0.90909090909090906},{"$f":"IF(AA7=0,0,(AA7*((LOG(AA7))/LOG(2))))","v":-0.12500320340903179},null,{"$f":"N7","v":111},{"$f":"COUNTIF(L35:L49,AD7)","v":6},{"$f":"AE7/(AG4-AE11)","v":1},{"$f":"IF(AF7=0,0,(AF7*((LOG(AF7))/LOG(2))))","v":0},null,{"$f":"N7","v":111},{"$f":"COUNTIF(L50:L63,AI7)","v":8},{"$f":"AJ7/(AL4-AJ11)","v":1},{"$f":"IF(AK7=0,0,(AK7*((LOG(AK7))/LOG(2))))","v":0},null,{"$f":"N7","v":111},{"$f":"COUNTIF(L64:L77,AN7)","v":7},{"$f":"AO7/(AQ4-AO11)","v":1},{"$f":"IF(AP7=0,0,(AP7*((LOG(AP7))/LOG(2))))","v":0},null,{"$f":"N7","v":111},{"$f":"COUNTIF(L78:L91,AS7)","v":9},{"$f":"AT7/(AV4-AT11)","v":0.9},{"$f":"IF(AU7=0,0,(AU7*((LOG(AU7))/LOG(2))))","v":-0.13680278410054494}]
[21,109,11,116,11,120,null,null,null,null,0,211,null,112,0,0,0,null,null,112,{"$f":"COUNTIF(L7:L20,T8)","v":0},{"$f":"U8/(W4-U11)","v":0},{"$f":"IF(V8=0,0,(V8*((LOG(V8))/LOG(2))))","v":0},null,112,{"$f":"COUNTIF(L21:L34,Y8)","v":0},{"$f":"Z8/(AB4-Z11)","v":0},{"$f":"IF(AA8=0,0,(AA8*((LOG(AA8))/LOG(2))))","v":0},null,112,{"$f":"COUNTIF(L35:L49,AD8)","v":0},{"$f":"AE8/(AG4-AE11)","v":0},{"$f":"IF(AF8=0,0,(AF8*((LOG(AF8))/LOG(2))))","v":0},null,112,{"$f":"COUNTIF(L50:L63,AI8)","v":0},{"$f":"AJ8/(AL4-AJ11)","v":0},{"$f":"IF(AK8=0,0,(AK8*((LOG(AK8))/LOG(2))))","v":0},null,112,{"$f":"COUNTIF(L64:L77,AN8)","v":0},{"$f":"AO8/(AQ4-AO11)","v":0},{"$f":"IF(AP8=0,0,(AP8*((LOG(AP8))/LOG(2))))","v":0},null,112,{"$f":"COUNTIF(L78:L91,AS8)","v":0},{"$f":"AT8/(AV4-AT11)","v":0},{"$f":"IF(AU8=0,0,(AU8*((LOG(AU8))/LOG(2))))","v":0}]
[12,233,13,236,13,242,null,null,null,null,0,111,null,121,0,0,0,null,null,121,{"$f":"COUNTIF(L7:L20,T9)","v":0},{"$f":"U9/(W4-U11)","v":0},{"$f":"IF(V9=0,0,(V9*((LOG(V9))/LOG(2))))","v":0},null,121,{"$f":"COUNTIF(L21:L34,Y9)","v":0},{"$f":"Z9/(AB4-Z11)","v":0},{"$f":"IF(AA9=0,0,(AA9*((LOG(AA9))/LOG(2))))","v":0},null,121,{"$f":"COUNTIF(L35:L49,AD9)","v":0},{"$f":"AE9/(AG4-AE11)","v":0},{"$f":"IF(AF9=0,0,(AF9*((LOG(AF9))/LOG(2))))","v":0},null,121,{"$f":"COUNTIF(L50:L63,AI9)","v":0},{"$f":"AJ9/(AL4-AJ11)","v":0},{"$f":"IF(AK9=0,0,(AK9*((LOG(AK9))/LOG(2))))","v":0},null,121,{"$f":"COUNTIF(L64:L77,AN9)","v":0},{"$f":"AO9/(AQ4-AO11)","v":0},{"$f":"IF(AP9=0,0,(AP9*((LOG(AP9))/LOG(2))))","v":0},null,121,{"$f":"COUNTIF(L78:L91,AS9)","v":0},{"$f":"AT9/(AV4-AT11)","v":0},{"$f":"IF(AU9=0,0,(AU9*((LOG(AU9))/LOG(2))))","v":0}]
[12,340,13,344,13,355,null,null,null,null,0,111,null,122,0,0,0,null,null,122,{"$f":"COUNTIF(L7:L20,T10)","v":0},{"$f":"U10/(W4-U11)","v":0},{"$f":"IF(V10=0,0,(V10*((LOG(V10))/LOG(2))))","v":0},null,122,{"$f":"COUNTIF(L21:L34,Y10)","v":0},{"$f":"Z10/(AB4-Z11)","v":0},{"$f":"IF(AA10=0,0,(AA10*((LOG(AA10))/LOG(2))))","v":0},null,122,{"$f":"COUNTIF(L35:L49,AD10)","v":0},{"$f":"AE10/(AG4-AE11)","v":0},{"$f":"IF(AF10=0,0,(AF10*((LOG(AF10))/LOG(2))))","v":0},null,122,{"$f":"COUNTIF(L50:L63,AI10)","v":0},{"$f":"AJ10/(AL4-AJ11)","v":0},{"$f":"IF(AK10=0,0,(AK10*((LOG(AK10))/LOG(2))))","v":0},null,122,{"$f":"COUNTIF(L64:L77,AN10)","v":0},{"$f":"AO10/(AQ4-AO11)","v":0},{"$f":"IF(AP10=0,0,(AP10*((LOG(AP10))/LOG(2))))","v":0},null,122,{"$f":"COUNTIF(L78:L91,AS10)","v":0},{"$f":"AT10/(AV4-AT11)","v":0},{"$f":"IF(AU10=0,0,(AU10*((LOG(AU10))/LOG(2))))","v":0}]
[12,604,13,607,13,609,null,null,null,null,0,111,null,211,32,0.37647058823529411,-0.53059423478125245,null,null,211,{"$f":"COUNTIF(L7:L20,T11)","v":3},null,null,null,211,{"$f":"COUNTIF(L21:L34,Y11)","v":3},null,null,null,211,{"$f":"COUNTIF(L35:L49,AD11)","v":9},null,null,null,211,{"$f":"COUNTIF(L50:L63,AI11)","v":6},null,null,null,211,{"$f":"COUNTIF(L64:L77,AN11)","v":7},null,null,null,211,{"$f":"COUNTIF(L78:L91,AS11)","v":4}]
[12,709,13,712,13,722,null,null,null,null,0,111,null,212,0,0,0,null,null,212,{"$f":"COUNTIF(L7:L20,T12)","v":0},{"$f":"U12/(W4-U11)","v":0},{"$f":"IF(V12=0,0,(V12*((LOG(V12))/LOG(2))))","v":0},null,212,{"$f":"COUNTIF(L21:L34,Y12)","v":0},{"$f":"Z12/(AB4-Z11)","v":0},{"$f":"IF(AA12=0,0,(AA12*((LOG(AA12))/LOG(2))))","v":0},null,212,{"$f":"COUNTIF(L35:L49,AD12)","v":0},{"$f":"AE12/(AG4-AE11)","v":0},{"$f":"IF(AF12=0,0,(AF12*((LOG(AF12))/LOG(2))))","v":0},null,212,{"$f":"COUNTIF(L50:L63,AI12)","v":0},{"$f":"AJ12/(AL4-AJ11)","v":0},{"$f":"IF(AK12=0,0,(AK12*((LOG(AK12))/LOG(2))))","v":0},null,212,{"$f":"COUNTIF(L64:L77,AN12)","v":0},{"$f":"AO12/(AQ4-AO11)","v":0},{"$f":"IF(AP12=0,0,(AP12*((LOG(AP12))/LOG(2))))","v":0},null,212,{"$f":"COUNTIF(L78:L91,AS12)","v":0},{"$f":"AT12/(AV4-AT11)","v":0},{"$f":"IF(AU12=0,0,(AU12*((LOG(AU12))/LOG(2))))","v":0}]
[12,821,13,825,13,832,null,null,null,null,0,111,null,221,2,2.3529411764705882E-2,-0.12727978673265181,null,null,221,{"$f":"COUNTIF(L7:L20,T13)","v":0},{"$f":"U13/(W4-U11)","v":0},{"$f":"IF(V13=0,0,(V13*((LOG(V13))/LOG(2))))","v":0},null,221,{"$f":"COUNTIF(L21:L34,Y13)","v":1},{"$f":"Z13/(AB4-Z11)","v":9.0909090909090912E-2},{"$f":"IF(AA13=0,0,(AA13*((LOG(AA13))/LOG(2))))","v":-0.31449378351248153},null,221,{"$f":"COUNTIF(L35:L49,AD13)","v":0},{"$f":"AE13/(AG4-AE11)","v":0},{"$f":"IF(AF13=0,0,(AF13*((LOG(AF13))/LOG(2))))","v":0},null,221,{"$f":"COUNTIF(L50:L63,AI13)","v":0},{"$f":"AJ13/(AL4-AJ11)","v":0},{"$f":"IF(AK13=0,0,(AK13*((LOG(AK13))/LOG(2))))","v":0},null,221,{"$f":"COUNTIF(L64:L77,AN13)","v":0},{"$f":"AO13/(AQ4-AO11)","v":0},{"$f":"IF(AP13=0,0,(AP13*((LOG(AP13))/LOG(2))))","v":0},null,221,{"$f":"COUNTIF(L78:L91,AS13)","v":1},{"$f":"AT13/(AV4-AT11)","v":0.1},{"$f":"IF(AU13=0,0,(AU13*((LOG(AU13))/LOG(2))))","v":-0.33219280948873625}]
[12,1165,13,1170,13,1176,null,null,null,null,0,111,null,222,0,0,0,null,null,222,{"$f":"COUNTIF(L7:L20,T14)","v":0},{"$f":"U14/(W4-U11)","v":0},{"$f":"IF(V14=0,0,(V14*((LOG(V14))/LOG(2))))","v":0},null,222,{"$f":"COUNTIF(L21:L34,Y14)","v":0},{"$f":"Z14/(AB4-Z11)","v":0},{"$f":"IF(AA14=0,0,(AA14*((LOG(AA14))/LOG(2))))","v":0},null,222,{"$f":"COUNTIF(L35:L49,AD14)","v":0},{"$f":"AE14/(AG4-AE11)","v":0},{"$f":"IF(AF14=0,0,(AF14*((LOG(AF14))/LOG(2))))","v":0},null,222,{"$f":"COUNTIF(L50:L63,AI14)","v":0},{"$f":"AJ14/(AL4-AJ11)","v":0},{"$f":"IF(AK14=0,0,(AK14*((LOG(AK14))/LOG(2))))","v":0},null,222,{"$f":"COUNTIF(L64:L77,AN14)","v":0},{"$f":"AO14/(AQ4-AO11)","v":0},{"$f":"IF(AP14=0,0,(AP14*((LOG(AP14))/LOG(2))))","v":0},null,222,{"$f":"COUNTIF(L78:L91,AS14)","v":0},{"$f":"AT14/(AV4-AT11)","v":0},{"$f":"IF(AU14=0,0,(AU14*((LOG(AU14))/LOG(2))))","v":0}]
[21,1270,11,1277,11,1280,null,null,null,null,0,211,null,null,null,{"$f":"SUM(P7:P14)","v":1},{"$f":"-SUM(Q7:Q14)","v":1.1000533780136279},null,null,null,null,{"$f":"SUM(V7:V14)","v":1},{"$f":"-SUM(W7:W14)","v":0},null,null,null,{"$f":"SUM(AA7:AA14)","v":1},{"$f":"-SUM(AB7:AB14)","v":0.43949698692151329},null,null,null,{"$f":"SUM(AF7:AF14)","v":1},{"$f":"-SUM(AG7:AG14)","v":0},null,null,null,{"$f":"SUM(AK7:AK14)","v":1},{"$f":"-SUM(AL7:AL14)","v":0},null,null,null,{"$f":"SUM(AP7:AP14)","v":1},{"$f":"-SUM(AQ7:AQ14)","v":0},null,null,null,{"$f":"SUM(AU7:AU14)","v":1},{"$f":"-SUM(AV7:AV14)","v":0.46899559358928122}]
[12,1378,13,1389,13,1395,null,null,null,null,0,111,null,null,null,"U=",{"$f":"Q15/(LOG(Q4)/LOG(2))","v":0.1716314996189825},null,null,null,null,"U1=",{"$f":"W15/(LOG(W4)/LOG(2))","v":0},null,null,null,"U2=",{"$f":"AB15/(LOG(AB4)/LOG(2))","v":0.11543367926518301},null,null,null,"U3=",{"$f":"AG15/(LOG(AG4)/LOG(2))","v":0},null,null,null,"U4=",{"$f":"AL15/(LOG(AL4)/LOG(2))","v":0},null,null,null,"U5=",{"$f":"AQ15/(LOG(AQ4)/LOG(2))","v":0},null,null,null,"U6=",{"$f":"AV15/(LOG(AV4)/LOG(2))","v":0.12318147459071732}]
[12,1493,13,1497,13,1502,null,null,null,null,0,111]
[21,1595,11,1599,11,1602,null,null,null,null,0,211]
[12,1701,13,1705,13,1713,null,null,null,null,0,111,null,"Total Target Seq"]
[12,1813,13,1824,13,1834,null,null,null,null,0,111,null,{"$f":"COUNTIF(L7:L91,G3)","v":32},null,14,14,15,14,14,14]
[12,1932,13,1935,13,1944,null,null,null,null,0,111,null,null,null,"% of reinforcement given in 6 equal intervals based on number of trials "]
[12,2042,13,2046,13,2052,null,null,null,null,0,111,null,null,null,"%_1","%_2","%_3","%_4","%_5","%_6"]
[12,2152,13,2156,13,2164,null,null,null,null,0,111,null,null,"target sequence",{"$f":"$G$3","v":211},211,211,211,211,211]
[21,2260,11,2266,11,2270,null,null,null,null,0,211,null,null,"total reinforcement",{"$f":"U11","v":3},{"$f":"Z11","v":3},{"$f":"AE11","v":9},{"$f":"AJ11","v":6},{"$f":"AO11","v":7},{"$f":"AT11","v":4}]
[12,2367,13,2373,13,2384,null,null,null,null,0,111,null,null,"% target"]
[12,2486,13,2494,13,2508,null,null,null,null,0,111,null,null,"CCRF"]
[21,2605,11,2611,11,2620,null,null,null,null,0,211,null,null,"% CCRf"]
[12,2718,13,2731,13,2737,null,null,null,null,0,111,null,null,"average response rate",{"$f":"F20/P20","v":131},{"$f":"(F34-F20)/Q20","v":113.64285714285714},{"$f":"(F49-F34)/R20","v":135.93333333333334},{"$f":"(F63-F49)/S20","v":115.07142857142857},{"$f":"(F77-F63)/T20","v":121.35714285714286},{"$f":"(F91-F77)/U20","v":121.71428571428571}]
[12,2838,13,2842,13,2848,null,null,null,null,0,111]
[12,2971,13,2979,13,2985,null,null,null,null,0,111]
[21,3084,11,3090,11,3094,null,null,null,null,0,211]
[12,3195,13,3199,13,3206,null,null,null,null,0,111]
[12,3309,13,3313,13,3322,null,null,null,null,0,111]
[21,3420,22,3424,13,3425,null,null,null,null,0,221]
[12,3524,13,3529,13,3537,null,null,null,null,0,111]
[21,3632,11,3639,11,3650,null,null,null,null,0,211]
[12,3752,13,3758,13,3773,null,null,null,null,0,111]
[12,3878,13,3886,13,3896,null,null,null,null,0,111]
[12,3992,13,3999,13,4009,null,null,null,null,0,111]
[21,4105,11,4112,11,4117,null,null,null,null,0,211]
[12,4215,13,4221,13,4230,null,null,null,null,0,111]
[21,4326,11,4332,11,4336,null,null,null,null,0,211]
[21,4435,11,4444,11,4450,null,null,null,null,0,211]
[21,4563,11,4571,11,4578,null,null,null,null,0,211]
[21,4670,11,4677,11,4680,null,null,null,null,0,211]
[21,4785,11,4793,11,4796,null,null,null,null,0,211]
[21,4891,11,4899,11,4908,null,null,null,null,0,211]
[12,5346,13,5351,13,5357,null,null,null,null,0,111]
[21,5451,11,5459,11,5464,null,null,null,null,0,211]
[21,5564,11,5575,11,5583,null,null,null,null,0,211]
[12,5718,13,5725,13,5735,null,null,null,null,0,111]
[21,5829,11,5835,11,5839,null,null,null,null,0,211]
[21,5932,11,5938,11,5943,null,null,null,null,0,211]
[12,6044,13,6048,13,6055,null,null,null,null,0,111]
[12,6158,13,6170,13,6179,null,null,null,null,0,111]
[12,6279,13,6283,13,6290,null,null,null,null,0,111]
[21,6389,11,6399,11,6406,null,null,null,null,0,211]
[12,6504,13,6510,13,6517,null,null,null,null,0,111]
[12,6618,13,6622,13,6633,null,null,null,null,0,111]
[21,6729,11,6735,11,6740,null,null,null,null,0,211]
[12,6836,13,6842,13,6850,null,null,null,null,0,111]
[21,6943,11,6949,11,6957,null,null,null,null,0,211]
[12,7058,13,7069,13,7075,null,null,null,null,0,111]
[21,7173,11,7180,11,7189,null,null,null,null,0,211]
[21,7284,11,7291,11,7293,null,null,null,null,0,211]
[21,7405,11,7411,11,7416,null,null,null,null,0,211]
[12,7516,13,7526,13,7532,null,null,null,null,0,111]
[12,7667,13,7670,13,7675,null,null,null,null,0,111]
[21,7779,11,7786,11,7791,null,null,null,null,0,211]
[12,7955,13,7958,13,7964,null,null,null,null,0,111]
[21,8060,11,8067,11,8078,null,null,null,null,0,211]
[21,8207,11,8214,11,8218,null,null,null,null,0,211]
[12,8317,13,8320,13,8325,null,null,null,null,0,111]
[21,8419,11,8425,11,8428,null,null,null,null,0,211]
[12,8539,13,8542,13,8548,null,null,null,null,0,111]
[12,8651,13,8654,13,8663,null,null,null,null,0,111]
[12,8762,13,8768,13,8774,null,null,null,null,0,111]
[12,8870,13,8875,13,8889,null,null,null,null,0,111]
[21,8988,11,8993,11,9007,null,null,null,null,0,211]
[21,9135,11,9143,11,9146,null,null,null,null,0,211]
[12,9263,13,9265,13,9275,null,null,null,null,0,111]
[12,9378,13,9383,13,9393,null,null,null,null,0,111]
[12,9505,13,9508,13,9511,null,null,null,null,0,111]
[12,9615,13,9633,13,9645,null,null,null,null,0,111]
[21,9746,11,9756,11,9765,null,null,null,null,0,211]
[12,9895,13,9900,13,9909,null,null,null,null,0,111]
[12,10015,13,10017,13,10028,null,null,null,null,0,111]
[12,10132,13,10137,13,10147,null,null,null,null,0,111]
[21,10242,22,10244,13,10250,null,null,null,null,0,221]
[12,10352,13,10355,13,10369,null,null,null,null,0,111]
[21,10464,11,10471,11,10478,null,null,null,null,1,211]

{"sheet":"!N22395T.AYL","index":25,"n_rows":79,"n_cols":48,"rows_kept":79,"cut":false,"hidden":false,"merged":[[1,1,1,2],[5,13,5,14],[18,13,18,14],[19,13,19,14],[4,19,4,22],[5,19,5,20],[4,39,4,42],[5,39,5,40],[4,44,4,47],[5,44,5,45],[4,24,4,27],[5,24,5,25],[4,29,4,32],[5,29,5,30],[4,34,4,37],[5,34,5,35]]}
["Report for:!N22395T.AYL"]
["Date:","<date>"]
["Hen:","<hen>",null,null,null,"Correct Sequence",{"$f":"Start!J2","v":211},null,null,null,null,null,null,null,null,"Total Sequences in Data",{"$f":"4994-COUNTBLANK(L7:L5000)","v":73},null,null,null,null,"Total Sequences in Block Data",{"$f":"COUNTA(L7:L18)","v":12},null,null,null,"Total Sequences in Block Data",{"$f":"COUNTA(L19:L30)","v":12},null,null,null,"Total Sequences in Block Data",{"$f":"COUNTA(L31:L43)","v":13},null,null,null,"Total Sequences in Block Data",{"$f":"COUNTA(L44:L55)","v":12},null,null,null,"Total Sequences in Block Data",{"$f":"COUNTA(L56:L67)","v":12},null,null,null,"Total Sequences in Block Data",{"$f":"COUNTA(L68:L79)","v":12}]
[null,null,null,null,null,null,null,null,null,null,null,null,null,null,null,"Total Sequences in Summary",{"$f":"SUM(O7:O14)","v":73},null,null,null,null,"Total Sequences in Block Summary",{"$f":"SUM(U7:U14)","v":12},null,null,null,"Total Sequences in Block Summary",{"$f":"SUM(Z7:Z14)","v":12},null,null,null,"Total Sequences in Block Summary",{"$f":"SUM(AE7:AE14)","v":13},null,null,null,"Total Sequences in Block Summary",{"$f":"SUM(AJ7:AJ14)","v":12},null,null,null,"Total Sequences in Block Summary",{"$f":"SUM(AO7:AO14)","v":12},null,null,null,"Total Sequences in Block Summary",{"$f":"SUM(AT7:AT14)","v":12}]
[null,null,null,null,null,null,null,null,null,null,null,null,null,null,null,null,null,null,null,"Block 1",null,null,null,null,"Block 2",null,null,null,null,"Block 3",null,null,null,null,"Block 4",null,null,null,null,"Block 5",null,null,null,null,"Block 6"]
["Sequence\nComponent\n1","Time\n1","Sequence\nComponent\n2","Time\n2","Sequence\nComponent\n3","Time\n3","Sequence\nComponent\n4","Time\n4","Sequence\nComponent\n5","Time\n5","Correct?\n0=No 1=Yes","Sequence",null,"Frequency",null,"Relative Frequency","Variability",null,null,"Frequency",null,"Relative Frequency","Variability",null,"Frequency",null,"Relative Frequency","Variability",null,"Frequency",null,"Relative Frequency","Variability",null,"Frequency",null,"Relative Frequency","Variability",null,"Frequency",null,"Relative Frequency","Variability",null,"Frequency",null,"Relative Frequency","Variability"]
[12,7,13,11,13,17,null,null,null,null,0,111,null,111,{"$f":"COUNTIF($L$7:$L$500,N7)","v":36},{"$f":"O7/$Q$4","v":0.49315068493150682},{"$f":"IF(P7=0,0,(P7*((LOG(P7))/LOG(2))))","v":-0.50296416531174493},null,null,{"$f":"N7","v":111},{"$f":"COUNTIF(L7:L18,T7)","v":8},{"$f":"U7/(W4-U11)","v":1},{"$f":"IF(V7=0,0,(V7*((LOG(V7))/LOG(2))))","v":0},null,{"$f":"N7","v":111},{"$f":"COUNTIF(L19:L30,Y7)","v":6},{"$f":"Z7/(AB4-Z11)","v":1},{"$f":"IF(AA7=0,0,(AA7*((LOG(AA7))/LOG(2))))","v":0},null,{"$f":"N7","v":111},{"$f":"COUNTIF(L31:L43,AD7)","v":6},{"$f":"AE7/(AG4-AE11)","v":1},{"$f":"IF(AF7=0,0,(AF7*((LOG(AF7))/LOG(2))))","v":0},null,{"$f":"N7","v":111},{"$f":"COUNTIF(L44:L55,AI7)","v":6},{"$f":"AJ7/(AL4-AJ11)","v":1},{"$f":"IF(AK7=0,0,(AK7*((LOG(AK7))/LOG(2))))","v":0},null,{"$f":"N7","v":111},{"$f":"COUNTIF(L56:L67,AN7)","v":3},{"$f":"AO7/(AQ4-AO11)","v":1},{"$f":"IF(AP7=0,0,(AP7*((LOG(AP7))/LOG(2))))","v":0},null,{"$f":"N7","v":111},{"$f":"COUNTIF(L68:L79,AS7)","v":7},{"$f":"AT7/(AV4-AT11)","v":1},{"$f":"IF(AU7=0,0,(AU7*((LOG(AU7))/LOG(2))))","v":0}]
[12,115,13,118,13,122,null,null,null,null,0,111,null,112,0,0,0,null,null,112,{"$f":"COUNTIF(L7:L18,T8)","v":0},{"$f":"U8/(W4-U11)","v":0},{"$f":"IF(V8=0,0,(V8*((LOG(V8))/LOG(2))))","v":0},null,112,{"$f":"COUNTIF(L19:L30,Y8)","v":0},{"$f":"Z8/(AB4-Z11)","v":0},{"$f":"IF(AA8=0,0,(AA8*((LOG(AA8))/LOG(2))))","v":0},null,112,{"$f":"COUNTIF(L31:L43,AD8)","v":0},{"$f":"AE8/(AG4-AE11)","v":0},{"$f":"IF(AF8=0,0,(AF8*((LOG(AF8))/LOG(2))))","v":0},null,112,{"$f":"COUNTIF(L44:L55,AI8)","v":0},{"$f":"AJ8/(AL4-AJ11)","v":0},{"$f":"IF(AK8=0,0,(AK8*((LOG(AK8))/LOG(2))))","v":0},null,112,{"$f":"COUNTIF(L56:L67,AN8)","v":0},{"$f":"AO8/(AQ4-AO11)","v":0},{"$f":"IF(AP8=0,0,(AP8*((LOG(AP8))/LOG(2))))","v":0},null,112,{"$f":"COUNTIF(L68:L79,AS8)","v":0},{"$f":"AT8/(AV4-AT11)","v":0},{"$f":"IF(AU8=0,0,(AU8*((LOG(AU8))/LOG(2))))","v":0}]
[12,220,13,223,13,233,null,null,null,null,0,111,null,121,0,0,0,null,null,121,{"$f":"COUNTIF(L7:L18,T9)","v":0},{"$f":"U9/(W4-U11)","v":0},{"$f":"IF(V9=0,0,(V9*((LOG(V9))/LOG(2))))","v":0},null,121,{"$f":"COUNTIF(L19:L30,Y9)","v":0},{"$f":"Z9/(AB4-Z11)","v":0},{"$f":"IF(AA9=0,0,(AA9*((LOG(AA9))/LOG(2))))","v":0},null,121,{"$f":"COUNTIF(L31:L43,AD9)","v":0},{"$f":"AE9/(AG4-AE11)","v":0},{"$f":"IF(AF9=0,0,(AF9*((LOG(AF9))/LOG(2))))","v":0},null,121,{"$f":"COUNTIF(L44:L55,AI9)","v":0},{"$f":"AJ9/(AL4-AJ11)","v":0},{"$f":"IF(AK9=0,0,(AK9*((LOG(AK9))/LOG(2))))","v":0},null,121,{"$f":"COUNTIF(L56:L67,AN9)","v":0},{"$f":"AO9/(AQ4-AO11)","v":0},{"$f":"IF(AP9=0,0,(AP9*((LOG(AP9))/LOG(2))))","v":0},null,121,{"$f":"COUNTIF(L68:L79,AS9)","v":0},{"$f":"AT9/(AV4-AT11)","v":0},{"$f":"IF(AU9=0,0,(AU9*((LOG(AU9))/LOG(2))))","v":0}]
[12,332,13,334,13,336,null,null,null,null,0,111,null,122,0,0,0,null,null,122,{"$f":"COUNTIF(L7:L18,T10)","v":0},{"$f":"U10/(W4-U11)","v":0},{"$f":"IF(V10=0,0,(V10*((LOG(V10))/LOG(2))))","v":0},null,122,{"$f":"COUNTIF(L19:L30,Y10)","v":0},{"$f":"Z10/(AB4-Z11)","v":0},{"$f":"IF(AA10=0,0,(AA10*((LOG(AA10))/LOG(2))))","v":0},null,122,{"$f":"COUNTIF(L31:L43,AD10)","v":0},{"$f":"AE10/(AG4-AE11)","v":0},{"$f":"IF(AF10=0,0,(AF10*((LOG(AF10))/LOG(2))))","v":0},null,122,{"$f":"COUNTIF(L44:L55,AI10)","v":0},{"$f":"AJ10/(AL4-AJ11)","v":0},{"$f":"IF(AK10=0,0,(AK10*((LOG(AK10))/LOG(2))))","v":0},null,122,{"$f":"COUNTIF(L56:L67,AN10)","v":0},{"$f":"AO10/(AQ4-AO11)","v":0},{"$f":"IF(AP10=0,0,(AP10*((LOG(AP10))/LOG(2))))","v":0},null,122,{"$f":"COUNTIF(L68:L79,AS10)","v":0},{"$f":"AT10/(AV4-AT11)","v":0},{"$f":"IF(AU10=0,0,(AU10*((LOG(AU10))/LOG(2))))","v":0}]
[21,430,11,436,11,439,null,null,null,null,0,211,null,211,37,0.50684931506849318,-0.49690046781218489,null,null,211,{"$f":"COUNTIF(L7:L18,T11)","v":4},null,null,null,211,{"$f":"COUNTIF(L19:L30,Y11)","v":6},null,null,null,211,{"$f":"COUNTIF(L31:L43,AD11)","v":7},null,null,null,211,{"$f":"COUNTIF(L44:L55,AI11)","v":6},null,null,null,211,{"$f":"COUNTIF(L56:L67,AN11)","v":9},null,null,null,211,{"$f":"COUNTIF(L68:L79,AS11)","v":5}]
[12,593,13,600,13,607,null,null,null,null,0,111,null,212,0,0,0,null,null,212,{"$f":"COUNTIF(L7:L18,T12)","v":0},{"$f":"U12/(W4-U11)","v":0},{"$f":"IF(V12=0,0,(V12*((LOG(V12))/LOG(2))))","v":0},null,212,{"$f":"COUNTIF(L19:L30,Y12)","v":0},{"$f":"Z12/(AB4-Z11)","v":0},{"$f":"IF(AA12=0,0,(AA12*((LOG(AA12))/LOG(2))))","v":0},null,212,{"$f":"COUNTIF(L31:L43,AD12)","v":0},{"$f":"AE12/(AG4-AE11)","v":0},{"$f":"IF(AF12=0,0,(AF12*((LOG(AF12))/LOG(2))))","v":0},null,212,{"$f":"COUNTIF(L44:L55,AI12)","v":0},{"$f":"AJ12/(AL4-AJ11)","v":0},{"$f":"IF(AK12=0,0,(AK12*((LOG(AK12))/LOG(2))))","v":0},null,212,{"$f":"COUNTIF(L56:L67,AN12)","v":0},{"$f":"AO12/(AQ4-AO11)","v":0},{"$f":"IF(AP12=0,0,(AP12*((LOG(AP12))/LOG(2))))","v":0},null,212,{"$f":"COUNTIF(L68:L79,AS12)","v":0},{"$f":"AT12/(AV4-AT11)","v":0},{"$f":"IF(AU12=0,0,(AU12*((LOG(AU12))/LOG(2))))","v":0}]
[12,708,13,713,13,720,null,null,null,null,0,111,null,221,0,0,0,null,null,221,{"$f":"COUNTIF(L7:L18,T13)","v":0},{"$f":"U13/(W4-U11)","v":0},{"$f":"IF(V13=0,0,(V13*((LOG(V13))/LOG(2))))","v":0},null,221,{"$f":"COUNTIF(L19:L30,Y13)","v":0},{"$f":"Z13/(AB4-Z11)","v":0},{"$f":"IF(AA13=0,0,(AA13*((LOG(AA13))/LOG(2))))","v":0},null,221,{"$f":"COUNTIF(L31:L43,AD13)","v":0},{"$f":"AE13/(AG4-AE11)","v":0},{"$f":"IF(AF13=0,0,(AF13*((LOG(AF13))/LOG(2))))","v":0},null,221,{"$f":"COUNTIF(L44:L55,AI13)","v":0},{"$f":"AJ13/(AL4-AJ11)","v":0},{"$f":"IF(AK13=0,0,(AK13*((LOG(AK13))/LOG(2))))","v":0},null,221,{"$f":"COUNTIF(L56:L67,AN13)","v":0},{"$f":"AO13/(AQ4-AO11)","v":0},{"$f":"IF(AP13=0,0,(AP13*((LOG(AP13))/LOG(2))))","v":0},null,221,{"$f":"COUNTIF(L68:L79,AS13)","v":0},{"$f":"AT13/(AV4-AT11)","v":0},{"$f":"IF(AU13=0,0,(AU13*((LOG(AU13))/LOG(2))))","v":0}]
[12,830,13,836,13,838,null,null,null,null,0,111,null,222,0,0,0,null,null,222,{"$f":"COUNTIF(L7:L18,T14)","v":0},{"$f":"U14/(W4-U11)","v":0},{"$f":"IF(V14=0,0,(V14*((LOG(V14))/LOG(2))))","v":0},null,222,{"$f":"COUNTIF(L19:L30,Y14)","v":0},{"$f":"Z14/(AB4-Z11)","v":0},{"$f":"IF(AA14=0,0,(AA14*((LOG(AA14))/LOG(2))))","v":0},null,222,{"$f":"COUNTIF(L31:L43,AD14)","v":0},{"$f":"AE14/(AG4-AE11)","v":0},{"$f":"IF(AF14=0,0,(AF14*((LOG(AF14))/LOG(2))))","v":0},null,222,{"$f":"COUNTIF(L44:L55,AI14)","v":0},{"$f":"AJ14/(AL4-AJ11)","v":0},{"$f":"IF(AK14=0,0,(AK14*((LOG(AK14))/LOG(2))))","v":0},null,222,{"$f":"COUNTIF(L56:L67,AN14)","v":0},{"$f":"AO14/(AQ4-AO11)","v":0},{"$f":"IF(AP14=0,0,(AP14*((LOG(AP14))/LOG(2))))","v":0},null,222,{"$f":"COUNTIF(L68:L79,AS14)","v":0},{"$f":"AT14/(AV4-AT11)","v":0},{"$f":"IF(AU14=0,0,(AU14*((LOG(AU14))/LOG(2))))","v":0}]
[21,933,11,939,11,945,null,null,null,null,0,211,null,null,null,{"$f":"SUM(P7:P14)","v":1},{"$f":"-SUM(Q7:Q14)","v":0.99986463312392981},null,null,null,null,{"$f":"SUM(V7:V14)","v":1},{"$f":"-SUM(W7:W14)","v":0},null,null,null,{"$f":"SUM(AA7:AA14)","v":1},{"$f":"-SUM(AB7:AB14)","v":0},null,null,null,{"$f":"SUM(AF7:AF14)","v":1},{"$f":"-SUM(AG7:AG14)","v":0},null,null,null,{"$f":"SUM(AK7:AK14)","v":1},{"$f":"-SUM(AL7:AL14)","v":0},null,null,null,{"$f":"SUM(AP7:AP14)","v":1},{"$f":"-SUM(AQ7:AQ14)","v":0},null,null,null,{"$f":"SUM(AU7:AU14)","v":1},{"$f":"-SUM(AV7:AV14)","v":0}]
[12,1048,13,1060,13,1066,null,null,null,null,0,111,null,null,null,"U=",{"$f":"Q15/(LOG(Q4)/LOG(2))","v":0.16153359818405658},null,null,null,null,"U1=",{"$f":"W15/(LOG(W4)/LOG(2))","v":0},null,null,null,"U2=",{"$f":"AB15/(LOG(AB4)/LOG(2))","v":0},null,null,null,"U3=",{"$f":"AG15/(LOG(AG4)/LOG(2))","v":0},null,null,null,"U4=",{"$f":"AL15/(LOG(AL4)/LOG(2))","v":0},null,null,null,"U5=",{"$f":"AQ15/(LOG(AQ4)/LOG(2))","v":0},null,null,null,"U6=",{"$f":"AV15/(LOG(AV4)/LOG(2))","v":0}]
[21,1159,11,1170,11,1182,null,null,null,null,0,211]
[21,1275,11,1281,11,1286,null,null,null,null,0,211]
[21,1378,11,1384,11,1389,null,null,null,null,0,211,null,"Total Target Seq"]
[12,1490,13,1494,13,1503,null,null,null,null,0,111,null,{"$f":"COUNTIF(L7:L79,G3)","v":37},null,12,12,13,12,12,12]
[12,1604,13,1611,13,1618,null,null,null,null,0,111,null,null,null,"% of reinforcement given in 6 equal intervals based on number of trials "]
[21,1715,11,1722,11,1731,null,null,null,null,0,211,null,null,null,"%_1","%_2","%_3","%_4","%_5","%_6"]
[12,1848,13,1854,13,1860,null,null,null,null,0,111,null,null,"target sequence",{"$f":"$G$3","v":211},211,211,211,211,211]
[21,1956,11,1961,11,1968,null,null,null,null,0,211,null,null,"total reinforcement",{"$f":"U11","v":4},{"$f":"Z11","v":6},{"$f":"AE11","v":7},{"$f":"AJ11","v":6},{"$f":"AO11","v":9},{"$f":"AT11","v":5}]
[12,2069,13,2076,13,2082,null,null,null,null,0,111,null,null,"% target"]
[21,2178,11,2184,11,2189,null,null,null,null,0,211,null,null,"CCRF"]
[12,2286,13,2293,13,2300,null,null,null,null,0,111,null,null,"% CCRf"]
[21,2396,11,2401,11,2409,null,null,null,null,0,211,null,null,"average response rate",{"$f":"F18/P20","v":107.16666666666667},{"$f":"(F30-F18)/Q20","v":112.41666666666667},{"$f":"(F43-F30)/R20","v":115.30769230769231},{"$f":"(F55-F43)/S20","v":122.16666666666667},{"$f":"(F67-F55)/T20","v":125.33333333333333},{"$f":"(F79-F67)/U20","v":137.33333333333334}]
[12,2508,13,2514,13,2520,null,null,null,null,0,111]
[21,2618,11,2622,11,2635,null,null,null,null,0,211]
[21,2772,11,2781,11,2783,null,null,null,null,0,211]
[12,2883,13,2889,13,2898,null,null,null,null,0,111]
[21,2994,11,3000,11,3010,null,null,null,null,0,211]
[21,3107,11,3114,11,3122,null,null,null,null,0,211]
[12,3220,13,3224,13,3231,null,null,null,null,0,111]
[21,3327,11,3336,11,3338,null,null,null,null,0,211]
[12,3472,13,3477,13,3483,null,null,null,null,0,111]
[12,3584,13,3590,13,3600,null,null,null,null,0,111]
[12,3700,13,3704,13,3711,null,null,null,null,0,111]
[21,3809,11,3811,11,3814,null,null,null,null,0,211]
[12,3910,13,3916,13,3922,null,null,null,null,0,111]
[21,4018,11,4023,11,4027,null,null,null,null,0,211]
[21,4122,11,4130,11,4134,null,null,null,null,0,211]
[12,4287,13,4290,13,4296,null,null,null,null,0,111]
[21,4393,11,4401,11,4405,null,null,null,null,0,211]
[12,4502,13,4509,13,4512,null,null,null,null,0,111]
[21,4602,11,4610,11,4613,null,null,null,null,0,211]
[12,4712,13,4719,13,4721,null,null,null,null,0,111]
[21,4815,11,4822,11,4829,null,null,null,null,0,211]
[21,4935,11,4941,11,4944,null,null,null,null,0,211]
[21,5071,11,5078,11,5082,null,null,null,null,0,211]
[12,5215,13,5219,13,5228,null,null,null,null,0,111]
[12,5324,13,5330,13,5333,null,null,null,null,0,111]
[21,5428,11,5435,11,5446,null,null,null,null,0,211]
[12,5590,13,5594,13,5600,null,null,null,null,0,111]
[21,5699,11,5705,11,5709,null,null,null,null,0,211]
[12,5812,13,5819,13,5827,null,null,null,null,0,111]
[21,5923,11,5929,11,5935,null,null,null,null,0,211]
[21,6052,11,6059,11,6066,null,null,null,null,0,211]
[21,6159,11,6166,11,6184,null,null,null,null,0,211]
[12,6328,13,6331,13,6338,null,null,null,null,0,111]
[21,6434,11,6443,11,6449,null,null,null,null,0,211]
[12,6615,13,6618,13,6625,null,null,null,null,0,111]
[21,6723,11,6729,11,6736,null,null,null,null,0,211]
[21,6855,11,6863,11,6869,null,null,null,null,0,211]
[21,6981,11,6991,11,6995,null,null,null,null,0,211]
[21,7091,11,7100,11,7104,null,null,null,null,0,211]
[12,7244,13,7247,13,7253,null,null,null,null,0,111]
[21,7352,11,7358,11,7364,null,null,null,null,0,211]
[12,7472,13,7479,13,7486,null,null,null,null,0,111]
[21,7582,11,7590,11,7594,null,null,null,null,0,211]
[12,7696,13,7701,13,7709,null,null,null,null,0,111]
[12,7812,13,7823,13,7831,null,null,null,null,0,111]
[12,7936,13,7941,13,7945,null,null,null,null,0,111]
[21,8042,11,8047,11,8052,null,null,null,null,0,211]
[21,8152,11,8161,11,8169,null,null,null,null,0,211]
[12,8512,13,8520,13,8526,null,null,null,null,0,111]
[12,8635,13,8641,13,8647,null,null,null,null,0,111]
[21,8742,11,8748,11,8752,null,null,null,null,1,211]

{"sheet":"!N22490T.AYL","index":26,"n_rows":85,"n_cols":48,"rows_kept":85,"cut":false,"hidden":false,"merged":[[1,1,1,2],[5,13,5,14],[18,13,18,14],[19,13,19,14],[4,19,4,22],[5,19,5,20],[4,39,4,42],[5,39,5,40],[4,44,4,47],[5,44,5,45],[4,24,4,27],[5,24,5,25],[4,29,4,32],[5,29,5,30],[4,34,4,37],[5,34,5,35]]}
["Report for:!N22490T.AYL"]
["Date:","<date>"]
["Hen:","<hen>",null,null,null,"Correct Sequence",{"$f":"Start!J2","v":211},null,null,null,null,null,null,null,null,"Total Sequences in Data",{"$f":"4994-COUNTBLANK(L7:L5000)","v":79},null,null,null,null,"Total Sequences in Block Data",{"$f":"COUNTA(L7:L19)","v":13},null,null,null,"Total Sequences in Block Data",{"$f":"COUNTA(L20:L32)","v":13},null,null,null,"Total Sequences in Block Data",{"$f":"COUNTA(L33:L46)","v":14},null,null,null,"Total Sequences in Block Data",{"$f":"COUNTA(L47:L59)","v":13},null,null,null,"Total Sequences in Block Data",{"$f":"COUNTA(L60:L72)","v":13},null,null,null,"Total Sequences in Block Data",{"$f":"COUNTA(L73:L85)","v":13}]
[null,null,null,null,null,null,null,null,null,null,null,null,null,null,null,"Total Sequences in Summary",{"$f":"SUM(O7:O14)","v":79},null,null,null,null,"Total Sequences in Block Summary",{"$f":"SUM(U7:U14)","v":13},null,null,null,"Total Sequences in Block Summary",{"$f":"SUM(Z7:Z14)","v":13},null,null,null,"Total Sequences in Block Summary",{"$f":"SUM(AE7:AE14)","v":14},null,null,null,"Total Sequences in Block Summary",{"$f":"SUM(AJ7:AJ14)","v":13},null,null,null,"Total Sequences in Block Summary",{"$f":"SUM(AO7:AO14)","v":13},null,null,null,"Total Sequences in Block Summary",{"$f":"SUM(AT7:AT14)","v":13}]
[null,null,null,null,null,null,null,null,null,null,null,null,null,null,null,null,null,null,null,"Block 1",null,null,null,null,"Block 2",null,null,null,null,"Block 3",null,null,null,null,"Block 4",null,null,null,null,"Block 5",null,null,null,null,"Block 6"]
["Sequence\nComponent\n1","Time\n1","Sequence\nComponent\n2","Time\n2","Sequence\nComponent\n3","Time\n3","Sequence\nComponent\n4","Time\n4","Sequence\nComponent\n5","Time\n5","Correct?\n0=No 1=Yes","Sequence",null,"Frequency",null,"Relative Frequency","Variability",null,null,"Frequency",null,"Relative Frequency","Variability",null,"Frequency",null,"Relative Frequency","Variability",null,"Frequency",null,"Relative Frequency","Variability",null,"Frequency",null,"Relative Frequency","Variability",null,"Frequency",null,"Relative Frequency","Variability",null,"Frequency",null,"Relative Frequency","Variability"]
[12,6,24,25,24,32,null,null,null,null,0,122,null,111,{"$f":"COUNTIF($L$7:$L$500,N7)","v":41},{"$f":"O7/$Q$4","v":0.51898734177215189},{"$f":"IF(P7=0,0,(P7*((LOG(P7))/LOG(2))))","v":-0.49108074032809856},null,null,{"$f":"N7","v":111},{"$f":"COUNTIF(L7:L19,T7)","v":7},{"$f":"U7/(W4-U11)","v":0.875},{"$f":"IF(V7=0,0,(V7*((LOG(V7))/LOG(2))))","v":-0.1685644431995964},null,{"$f":"N7","v":111},{"$f":"COUNTIF(L20:L32,Y7)","v":11},{"$f":"Z7/(AB4-Z11)","v":1},{"$f":"IF(AA7=0,0,(AA7*((LOG(AA7))/LOG(2))))","v":0},null,{"$f":"N7","v":111},{"$f":"COUNTIF(L33:L46,AD7)","v":7},{"$f":"AE7/(AG4-AE11)","v":1},{"$f":"IF(AF7=0,0,(AF7*((LOG(AF7))/LOG(2))))","v":0},null,{"$f":"N7","v":111},{"$f":"COUNTIF(L47:L59,AI7)","v":6},{"$f":"AJ7/(AL4-AJ11)","v":1},{"$f":"IF(AK7=0,0,(AK7*((LOG(AK7))/LOG(2))))","v":0},null,{"$f":"N7","v":111},{"$f":"COUNTIF(L60:L72,AN7)","v":4},{"$f":"AO7/(AQ4-AO11)","v":0.8},{"$f":"IF(AP7=0,0,(AP7*((LOG(AP7))/LOG(2))))","v":-0.25754247590988982},null,{"$f":"N7","v":111},{"$f":"COUNTIF(L73:L85,AS7)","v":6},{"$f":"AT7/(AV4-AT11)","v":0.8571428571428571},{"$f":"IF(AU7=0,0,(AU7*((LOG(AU7))/LOG(2))))","v":-0.19062207543124113}]
[21,129,11,131,11,135,null,null,null,null,0,211,null,112,0,0,0,null,null,112,{"$f":"COUNTIF(L7:L19,T8)","v":0},{"$f":"U8/(W4-U11)","v":0},{"$f":"IF(V8=0,0,(V8*((LOG(V8))/LOG(2))))","v":0},null,112,{"$f":"COUNTIF(L20:L32,Y8)","v":0},{"$f":"Z8/(AB4-Z11)","v":0},{"$f":"IF(AA8=0,0,(AA8*((LOG(AA8))/LOG(2))))","v":0},null,112,{"$f":"COUNTIF(L33:L46,AD8)","v":0},{"$f":"AE8/(AG4-AE11)","v":0},{"$f":"IF(AF8=0,0,(AF8*((LOG(AF8))/LOG(2))))","v":0},null,112,{"$f":"COUNTIF(L47:L59,AI8)","v":0},{"$f":"AJ8/(AL4-AJ11)","v":0},{"$f":"IF(AK8=0,0,(AK8*((LOG(AK8))/LOG(2))))","v":0},null,112,{"$f":"COUNTIF(L60:L72,AN8)","v":0},{"$f":"AO8/(AQ4-AO11)","v":0},{"$f":"IF(AP8=0,0,(AP8*((LOG(AP8))/LOG(2))))","v":0},null,112,{"$f":"COUNTIF(L73:L85,AS8)","v":0},{"$f":"AT8/(AV4-AT11)","v":0},{"$f":"IF(AU8=0,0,(AU8*((LOG(AU8))/LOG(2))))","v":0}]
[12,233,13,237,13,244,null,null,null,null,0,111,null,121,0,0,0,null,null,121,{"$f":"COUNTIF(L7:L19,T9)","v":0},{"$f":"U9/(W4-U11)","v":0},{"$f":"IF(V9=0,0,(V9*((LOG(V9))/LOG(2))))","v":0},null,121,{"$f":"COUNTIF(L20:L32,Y9)","v":0},{"$f":"Z9/(AB4-Z11)","v":0},{"$f":"IF(AA9=0,0,(AA9*((LOG(AA9))/LOG(2))))","v":0},null,121,{"$f":"COUNTIF(L33:L46,AD9)","v":0},{"$f":"AE9/(AG4-AE11)","v":0},{"$f":"IF(AF9=0,0,(AF9*((LOG(AF9))/LOG(2))))","v":0},null,121,{"$f":"COUNTIF(L47:L59,AI9)","v":0},{"$f":"AJ9/(AL4-AJ11)","v":0},{"$f":"IF(AK9=0,0,(AK9*((LOG(AK9))/LOG(2))))","v":0},null,121,{"$f":"COUNTIF(L60:L72,AN9)","v":0},{"$f":"AO9/(AQ4-AO11)","v":0},{"$f":"IF(AP9=0,0,(AP9*((LOG(AP9))/LOG(2))))","v":0},null,121,{"$f":"COUNTIF(L73:L85,AS9)","v":0},{"$f":"AT9/(AV4-AT11)","v":0},{"$f":"IF(AU9=0,0,(AU9*((LOG(AU9))/LOG(2))))","v":0}]
[12,343,13,345,13,354,null,null,null,null,0,111,null,122,1,1.2658227848101266E-2,-7.9794693014900039E-2,null,null,122,{"$f":"COUNTIF(L7:L19,T10)","v":1},{"$f":"U10/(W4-U11)","v":0.125},{"$f":"IF(V10=0,0,(V10*((LOG(V10))/LOG(2))))","v":-0.375},null,122,{"$f":"COUNTIF(L20:L32,Y10)","v":0},{"$f":"Z10/(AB4-Z11)","v":0},{"$f":"IF(AA10=0,0,(AA10*((LOG(AA10))/LOG(2))))","v":0},null,122,{"$f":"COUNTIF(L33:L46,AD10)","v":0},{"$f":"AE10/(AG4-AE11)","v":0},{"$f":"IF(AF10=0,0,(AF10*((LOG(AF10))/LOG(2))))","v":0},null,122,{"$f":"COUNTIF(L47:L59,AI10)","v":0},{"$f":"AJ10/(AL4-AJ11)","v":0},{"$f":"IF(AK10=0,0,(AK10*((LOG(AK10))/LOG(2))))","v":0},null,122,{"$f":"COUNTIF(L60:L72,AN10)","v":0},{"$f":"AO10/(AQ4-AO11)","v":0},{"$f":"IF(AP10=0,0,(AP10*((LOG(AP10))/LOG(2))))","v":0},null,122,{"$f":"COUNTIF(L73:L85,AS10)","v":0},{"$f":"AT10/(AV4-AT11)","v":0},{"$f":"IF(AU10=0,0,(AU10*((LOG(AU10))/LOG(2))))","v":0}]
[12,455,13,463,13,469,null,null,null,null,0,111,null,211,35,0.44303797468354428,-0.52034709611550345,null,null,211,{"$f":"COUNTIF(L7:L19,T11)","v":5},null,null,null,211,{"$f":"COUNTIF(L20:L32,Y11)","v":2},null,null,null,211,{"$f":"COUNTIF(L33:L46,AD11)","v":7},null,null,null,211,{"$f":"COUNTIF(L47:L59,AI11)","v":7},null,null,null,211,{"$f":"COUNTIF(L60:L72,AN11)","v":8},null,null,null,211,{"$f":"COUNTIF(L73:L85,AS11)","v":6}]
[12,568,13,572,13,579,null,null,null,null,0,111,null,212,0,0,0,null,null,212,{"$f":"COUNTIF(L7:L19,T12)","v":0},{"$f":"U12/(W4-U11)","v":0},{"$f":"IF(V12=0,0,(V12*((LOG(V12))/LOG(2))))","v":0},null,212,{"$f":"COUNTIF(L20:L32,Y12)","v":0},{"$f":"Z12/(AB4-Z11)","v":0},{"$f":"IF(AA12=0,0,(AA12*((LOG(AA12))/LOG(2))))","v":0},null,212,{"$f":"COUNTIF(L33:L46,AD12)","v":0},{"$f":"AE12/(AG4-AE11)","v":0},{"$f":"IF(AF12=0,0,(AF12*((LOG(AF12))/LOG(2))))","v":0},null,212,{"$f":"COUNTIF(L47:L59,AI12)","v":0},{"$f":"AJ12/(AL4-AJ11)","v":0},{"$f":"IF(AK12=0,0,(AK12*((LOG(AK12))/LOG(2))))","v":0},null,212,{"$f":"COUNTIF(L60:L72,AN12)","v":0},{"$f":"AO12/(AQ4-AO11)","v":0},{"$f":"IF(AP12=0,0,(AP12*((LOG(AP12))/LOG(2))))","v":0},null,212,{"$f":"COUNTIF(L73:L85,AS12)","v":0},{"$f":"AT12/(AV4-AT11)","v":0},{"$f":"IF(AU12=0,0,(AU12*((LOG(AU12))/LOG(2))))","v":0}]
[21,673,11,678,11,682,null,null,null,null,0,211,null,221,2,2.5316455696202531E-2,-0.13427293033359755,null,null,221,{"$f":"COUNTIF(L7:L19,T13)","v":0},{"$f":"U13/(W4-U11)","v":0},{"$f":"IF(V13=0,0,(V13*((LOG(V13))/LOG(2))))","v":0},null,221,{"$f":"COUNTIF(L20:L32,Y13)","v":0},{"$f":"Z13/(AB4-Z11)","v":0},{"$f":"IF(AA13=0,0,(AA13*((LOG(AA13))/LOG(2))))","v":0},null,221,{"$f":"COUNTIF(L33:L46,AD13)","v":0},{"$f":"AE13/(AG4-AE11)","v":0},{"$f":"IF(AF13=0,0,(AF13*((LOG(AF13))/LOG(2))))","v":0},null,221,{"$f":"COUNTIF(L47:L59,AI13)","v":0},{"$f":"AJ13/(AL4-AJ11)","v":0},{"$f":"IF(AK13=0,0,(AK13*((LOG(AK13))/LOG(2))))","v":0},null,221,{"$f":"COUNTIF(L60:L72,AN13)","v":1},{"$f":"AO13/(AQ4-AO11)","v":0.2},{"$f":"IF(AP13=0,0,(AP13*((LOG(AP13))/LOG(2))))","v":-0.46438561897747244},null,221,{"$f":"COUNTIF(L73:L85,AS13)","v":1},{"$f":"AT13/(AV4-AT11)","v":0.14285714285714285},{"$f":"IF(AU13=0,0,(AU13*((LOG(AU13))/LOG(2))))","v":-0.40105070315108626}]
[12,782,13,788,13,793,null,null,null,null,0,111,null,222,0,0,0,null,null,222,{"$f":"COUNTIF(L7:L19,T14)","v":0},{"$f":"U14/(W4-U11)","v":0},{"$f":"IF(V14=0,0,(V14*((LOG(V14))/LOG(2))))","v":0},null,222,{"$f":"COUNTIF(L20:L32,Y14)","v":0},{"$f":"Z14/(AB4-Z11)","v":0},{"$f":"IF(AA14=0,0,(AA14*((LOG(AA14))/LOG(2))))","v":0},null,222,{"$f":"COUNTIF(L33:L46,AD14)","v":0},{"$f":"AE14/(AG4-AE11)","v":0},{"$f":"IF(AF14=0,0,(AF14*((LOG(AF14))/LOG(2))))","v":0},null,222,{"$f":"COUNTIF(L47:L59,AI14)","v":0},{"$f":"AJ14/(AL4-AJ11)","v":0},{"$f":"IF(AK14=0,0,(AK14*((LOG(AK14))/LOG(2))))","v":0},null,222,{"$f":"COUNTIF(L60:L72,AN14)","v":0},{"$f":"AO14/(AQ4-AO11)","v":0},{"$f":"IF(AP14=0,0,(AP14*((LOG(AP14))/LOG(2))))","v":0},null,222,{"$f":"COUNTIF(L73:L85,AS14)","v":0},{"$f":"AT14/(AV4-AT11)","v":0},{"$f":"IF(AU14=0,0,(AU14*((LOG(AU14))/LOG(2))))","v":0}]
[21,888,11,893,11,897,null,null,null,null,0,211,null,null,null,{"$f":"SUM(P7:P14)","v":0.99999999999999989},{"$f":"-SUM(Q7:Q14)","v":1.2254954597920995},null,null,null,null,{"$f":"SUM(V7:V14)","v":1},{"$f":"-SUM(W7:W14)","v":0.5435644431995964},null,null,null,{"$f":"SUM(AA7:AA14)","v":1},{"$f":"-SUM(AB7:AB14)","v":0},null,null,null,{"$f":"SUM(AF7:AF14)","v":1},{"$f":"-SUM(AG7:AG14)","v":0},null,null,null,{"$f":"SUM(AK7:AK14)","v":1},{"$f":"-SUM(AL7:AL14)","v":0},null,null,null,{"$f":"SUM(AP7:AP14)","v":1},{"$f":"-SUM(AQ7:AQ14)","v":0.72192809488736231},null,null,null,{"$f":"SUM(AU7:AU14)","v":1},{"$f":"-SUM(AV7:AV14)","v":0.59167277858232736}]
[21,990,11,997,11,1000,null,null,null,null,0,211,null,null,null,"U=",{"$f":"Q15/(LOG(Q4)/LOG(2))","v":0.19440642191536919},null,null,null,null,"U1=",{"$f":"W15/(LOG(W4)/LOG(2))","v":0.14689185194257259},null,null,null,"U2=",{"$f":"AB15/(LOG(AB4)/LOG(2))","v":0},null,null,null,"U3=",{"$f":"AG15/(LOG(AG4)/LOG(2))","v":0},null,null,null,"U4=",{"$f":"AL15/(LOG(AL4)/LOG(2))","v":0},null,null,null,"U5=",{"$f":"AQ15/(LOG(AQ4)/LOG(2))","v":0.19509251599159175},null,null,null,"U6=",{"$f":"AV15/(LOG(AV4)/LOG(2))","v":0.15989255970897234}]
[12,1098,13,1103,13,1109,null,null,null,null,0,111]
[12,1208,13,1210,13,1216,null,null,null,null,0,111]
[21,1310,11,1317,11,1326,null,null,null,null,0,211,null,"Total Target Seq"]
[12,1425,13,1429,13,1435,null,null,null,null,0,111,null,{"$f":"COUNTIF(L7:L85,G3)","v":35},null,13,13,14,13,13,13]
[12,1533,13,1537,13,1545,null,null,null,null,0,111,null,null,null,"% of reinforcement given in 6 equal intervals based on number of trials "]
[12,1644,13,1648,13,1656,null,null,null,null,0,111,null,null,null,"%_1","%_2","%_3","%_4","%_5","%_6"]
[12,1757,13,1761,13,1770,null,null,null,null,0,111,null,null,"target sequence",{"$f":"$G$3","v":211},211,211,211,211,211]
[21,1867,11,1871,11,1874,null,null,null,null,0,211,null,null,"total reinforcement",{"$f":"U11","v":5},{"$f":"Z11","v":2},{"$f":"AE11","v":7},{"$f":"AJ11","v":7},{"$f":"AO11","v":8},{"$f":"AT11","v":6}]
[12,1970,13,1976,13,1983,null,null,null,null,0,111,null,null,"% target"]
[12,2085,13,2088,13,2096,null,null,null,null,0,111,null,null,"CCRF"]
[12,2198,13,2203,13,2212,null,null,null,null,0,111,null,null,"% CCRf"]
[12,2311,13,2315,13,2321,null,null,null,null,0,111,null,null,"average response rate",{"$f":"F19/P20","v":102},{"$f":"(F32-F19)/Q20","v":111.23076923076923},{"$f":"(F46-F32)/R20","v":111.35714285714286},{"$f":"(F59-F46)/S20","v":129},{"$f":"(F72-F59)/T20","v":127.07692307692308},{"$f":"(F85-F72)/U20","v":148.23076923076923}]
[21,2416,11,2421,11,2425,null,null,null,null,0,211]
[12,2531,13,2537,13,2543,null,null,null,null,0,111]
[12,2644,13,2647,13,2659,null,null,null,null,0,111]
[12,2760,13,2763,13,2772,null,null,null,null,0,111]
[21,2893,11,2901,11,2905,null,null,null,null,0,211]
[21,2996,11,3005,11,3008,null,null,null,null,0,211]
[12,3112,13,3115,13,3121,null,null,null,null,0,111]
[12,3222,13,3225,13,3234,null,null,null,null,0,111]
[21,3330,11,3338,11,3342,null,null,null,null,0,211]
[12,3442,13,3445,13,3452,null,null,null,null,0,111]
[12,3553,13,3556,13,3563,null,null,null,null,0,111]
[21,3658,11,3664,11,3671,null,null,null,null,0,211]
[12,3775,13,3779,13,3785,null,null,null,null,0,111]
[21,3879,11,3886,11,3889,null,null,null,null,0,211]
[21,3981,11,3990,11,3996,null,null,null,null,0,211]
[12,4096,13,4099,13,4105,null,null,null,null,0,111]
[21,4201,11,4208,11,4211,null,null,null,null,0,211]
[12,4317,13,4325,13,4331,null,null,null,null,0,111]
[21,4427,11,4433,11,4435,null,null,null,null,0,211]
[12,4542,13,4547,13,4554,null,null,null,null,0,111]
[12,4656,13,4659,13,4667,null,null,null,null,0,111]
[21,4762,11,4770,11,4775,null,null,null,null,0,211]
[21,4868,11,4877,11,4883,null,null,null,null,0,211]
[12,5003,13,5009,13,5015,null,null,null,null,0,111]
[21,5113,11,5120,11,5123,null,null,null,null,0,211]
[21,5217,11,5227,11,5232,null,null,null,null,0,211]
[21,5324,11,5332,11,5336,null,null,null,null,0,211]
[12,5516,13,5518,13,5525,null,null,null,null,0,111]
[21,5618,11,5629,11,5634,null,null,null,null,0,211]
[12,5736,13,5741,13,5748,null,null,null,null,0,111]
[12,5999,13,6003,13,6008,null,null,null,null,0,111]
[12,6109,13,6114,13,6121,null,null,null,null,0,111]
[21,6217,22,6220,13,6225,null,null,null,null,0,221]
[21,6320,11,6328,11,6331,null,null,null,null,0,211]
[12,6520,13,6523,13,6526,null,null,null,null,0,111]
[21,6621,11,6628,11,6631,null,null,null,null,0,211]
[21,6825,11,6833,11,6836,null,null,null,null,0,211]
[12,6949,13,6951,13,6958,null,null,null,null,0,111]
[21,7054,11,7060,11,7067,null,null,null,null,0,211]
[21,7176,11,7183,11,7186,null,null,null,null,0,211]
[12,7316,13,7319,13,7322,null,null,null,null,0,111]
[21,7419,11,7435,11,7447,null,null,null,null,0,211]
[21,7543,11,7550,11,7555,null,null,null,null,0,211]
[21,7648,11,7656,11,7660,null,null,null,null,0,211]
[21,7787,11,7794,11,7802,null,null,null,null,0,211]
[12,7924,13,7930,13,7935,null,null,null,null,0,111]
[21,8032,11,8038,11,8044,null,null,null,null,0,211]
[12,8223,13,8227,13,8233,null,null,null,null,0,111]
[21,8329,11,8337,11,8342,null,null,null,null,0,211]
[12,8449,13,8452,13,8460,null,null,null,null,0,111]
[21,8551,22,8556,13,8563,null,null,null,null,0,221]
[21,8657,11,8665,11,8669,null,null,null,null,0,211]
[12,8789,13,8792,13,8797,null,null,null,null,0,111]
[12,9129,13,9133,13,9139,null,null,null,null,0,111]
[21,9236,11,9242,11,9245,null,null,null,null,0,211]
[12,9467,13,9473,13,9479,null,null,null,null,0,111]
[21,9575,11,9581,11,9587,null,null,null,null,1,211]

{"sheet":"!N225A0T.AYL","index":27,"n_rows":90,"n_cols":48,"rows_kept":90,"cut":false,"hidden":false,"merged":[[1,1,1,2],[5,13,5,14],[18,13,18,14],[19,13,19,14],[4,19,4,22],[5,19,5,20],[4,39,4,42],[5,39,5,40],[4,44,4,47],[5,44,5,45],[4,24,4,27],[5,24,5,25],[4,29,4,32],[5,29,5,30],[4,34,4,37],[5,34,5,35]]}
["Report for:!N225A0T.AYL"]
["Date:","<date>"]
["Hen:","<hen>",null,null,null,"Correct Sequence",{"$f":"Start!J2","v":211},null,null,null,null,null,null,null,null,"Total Sequences in Data",{"$f":"4994-COUNTBLANK(L7:L5000)","v":84},null,null,null,null,"Total Sequences in Block Data",{"$f":"COUNTA(L7:L20)","v":14},null,null,null,"Total Sequences in Block Data",{"$f":"COUNTA(L21:L34)","v":14},null,null,null,"Total Sequences in Block Data",{"$f":"COUNTA(L35:L48)","v":14},null,null,null,"Total Sequences in Block Data",{"$f":"COUNTA(L49:L62)","v":14},null,null,null,"Total Sequences in Block Data",{"$f":"COUNTA(L63:L76)","v":14},null,null,null,"Total Sequences in Block Data",{"$f":"COUNTA(L77:L90)","v":14}]
[null,null,null,null,null,null,null,null,null,null,null,null,null,null,null,"Total Sequences in Summary",{"$f":"SUM(O7:O14)","v":84},null,null,null,null,"Total Sequences in Block Summary",{"$f":"SUM(U7:U14)","v":14},null,null,null,"Total Sequences in Block Summary",{"$f":"SUM(Z7:Z14)","v":14},null,null,null,"Total Sequences in Block Summary",{"$f":"SUM(AE7:AE14)","v":14},null,null,null,"Total Sequences in Block Summary",{"$f":"SUM(AJ7:AJ14)","v":14},null,null,null,"Total Sequences in Block Summary",{"$f":"SUM(AO7:AO14)","v":14},null,null,null,"Total Sequences in Block Summary",{"$f":"SUM(AT7:AT14)","v":14}]
[null,null,null,null,null,null,null,null,null,null,null,null,null,null,null,null,null,null,null,"Block 1",null,null,null,null,"Block 2",null,null,null,null,"Block 3",null,null,null,null,"Block 4",null,null,null,null,"Block 5",null,null,null,null,"Block 6"]
["Sequence\nComponent\n1","Time\n1","Sequence\nComponent\n2","Time\n2","Sequence\nComponent\n3","Time\n3","Sequence\nComponent\n4","Time\n4","Sequence\nComponent\n5","Time\n5","Correct?\n0=No 1=Yes","Sequence",null,"Frequency",null,"Relative Frequency","Variability",null,null,"Frequency",null,"Relative Frequency","Variability",null,"Frequency",null,"Relative Frequency","Variability",null,"Frequency",null,"Relative Frequency","Variability",null,"Frequency",null,"Relative Frequency","Variability",null,"Frequency",null,"Relative Frequency","Variability",null,"Frequency",null,"Relative Frequency","Variability"]
[12,33,13,36,13,42,null,null,null,null,0,111,null,111,{"$f":"COUNTIF($L$7:$L$500,N7)","v":48},{"$f":"O7/$Q$4","v":0.5714285714285714},{"$f":"IF(P7=0,0,(P7*((LOG(P7))/LOG(2))))","v":-0.46134566974720237},null,null,{"$f":"N7","v":111},{"$f":"COUNTIF(L7:L20,T7)","v":12},{"$f":"U7/(W4-U11)","v":1},{"$f":"IF(V7=0,0,(V7*((LOG(V7))/LOG(2))))","v":0},null,{"$f":"N7","v":111},{"$f":"COUNTIF(L21:L34,Y7)","v":11},{"$f":"Z7/(AB4-Z11)","v":1},{"$f":"IF(AA7=0,0,(AA7*((LOG(AA7))/LOG(2))))","v":0},null,{"$f":"N7","v":111},{"$f":"COUNTIF(L35:L48,AD7)","v":7},{"$f":"AE7/(AG4-AE11)","v":1},{"$f":"IF(AF7=0,0,(AF7*((LOG(AF7))/LOG(2))))","v":0},null,{"$f":"N7","v":111},{"$f":"COUNTIF(L49:L62,AI7)","v":5},{"$f":"AJ7/(AL4-AJ11)","v":1},{"$f":"IF(AK7=0,0,(AK7*((LOG(AK7))/LOG(2))))","v":0},null,{"$f":"N7","v":111},{"$f":"COUNTIF(L63:L76,AN7)","v":8},{"$f":"AO7/(AQ4-AO11)","v":1},{"$f":"IF(AP7=0,0,(AP7*((LOG(AP7))/LOG(2))))","v":0},null,{"$f":"N7","v":111},{"$f":"COUNTIF(L77:L90,AS7)","v":5},{"$f":"AT7/(AV4-AT11)","v":1},{"$f":"IF(AU7=0,0,(AU7*((LOG(AU7))/LOG(2))))","v":0}]
[12,141,13,144,13,151,null,null,null,null,0,111,null,112,0,0,0,null,null,112,{"$f":"COUNTIF(L7:L20,T8)","v":0},{"$f":"U8/(W4-U11)","v":0},{"$f":"IF(V8=0,0,(V8*((LOG(V8))/LOG(2))))","v":0},null,112,{"$f":"COUNTIF(L21:L34,Y8)","v":0},{"$f":"Z8/(AB4-Z11)","v":0},{"$f":"IF(AA8=0,0,(AA8*((LOG(AA8))/LOG(2))))","v":0},null,112,{"$f":"COUNTIF(L35:L48,AD8)","v":0},{"$f":"AE8/(AG4-AE11)","v":0},{"$f":"IF(AF8=0,0,(AF8*((LOG(AF8))/LOG(2))))","v":0},null,112,{"$f":"COUNTIF(L49:L62,AI8)","v":0},{"$f":"AJ8/(AL4-AJ11)","v":0},{"$f":"IF(AK8=0,0,(AK8*((LOG(AK8))/LOG(2))))","v":0},null,112,{"$f":"COUNTIF(L63:L76,AN8)","v":0},{"$f":"AO8/(AQ4-AO11)","v":0},{"$f":"IF(AP8=0,0,(AP8*((LOG(AP8))/LOG(2))))","v":0},null,112,{"$f":"COUNTIF(L77:L90,AS8)","v":0},{"$f":"AT8/(AV4-AT11)","v":0},{"$f":"IF(AU8=0,0,(AU8*((LOG(AU8))/LOG(2))))","v":0}]
[12,249,13,254,13,260,null,null,null,null,0,111,null,121,0,0,0,null,null,121,{"$f":"COUNTIF(L7:L20,T9)","v":0},{"$f":"U9/(W4-U11)","v":0},{"$f":"IF(V9=0,0,(V9*((LOG(V9))/LOG(2))))","v":0},null,121,{"$f":"COUNTIF(L21:L34,Y9)","v":0},{"$f":"Z9/(AB4-Z11)","v":0},{"$f":"IF(AA9=0,0,(AA9*((LOG(AA9))/LOG(2))))","v":0},null,121,{"$f":"COUNTIF(L35:L48,AD9)","v":0},{"$f":"AE9/(AG4-AE11)","v":0},{"$f":"IF(AF9=0,0,(AF9*((LOG(AF9))/LOG(2))))","v":0},null,121,{"$f":"COUNTIF(L49:L62,AI9)","v":0},{"$f":"AJ9/(AL4-AJ11)","v":0},{"$f":"IF(AK9=0,0,(AK9*((LOG(AK9))/LOG(2))))","v":0},null,121,{"$f":"COUNTIF(L63:L76,AN9)","v":0},{"$f":"AO9/(AQ4-AO11)","v":0},{"$f":"IF(AP9=0,0,(AP9*((LOG(AP9))/LOG(2))))","v":0},null,121,{"$f":"COUNTIF(L77:L90,AS9)","v":0},{"$f":"AT9/(AV4-AT11)","v":0},{"$f":"IF(AU9=0,0,(AU9*((LOG(AU9))/LOG(2))))","v":0}]
[21,353,11,358,11,362,null,null,null,null,0,211,null,122,0,0,0,null,null,122,{"$f":"COUNTIF(L7:L20,T10)","v":0},{"$f":"U10/(W4-U11)","v":0},{"$f":"IF(V10=0,0,(V10*((LOG(V10))/LOG(2))))","v":0},null,122,{"$f":"COUNTIF(L21:L34,Y10)","v":0},{"$f":"Z10/(AB4-Z11)","v":0},{"$f":"IF(AA10=0,0,(AA10*((LOG(AA10))/LOG(2))))","v":0},null,122,{"$f":"COUNTIF(L35:L48,AD10)","v":0},{"$f":"AE10/(AG4-AE11)","v":0},{"$f":"IF(AF10=0,0,(AF10*((LOG(AF10))/LOG(2))))","v":0},null,122,{"$f":"COUNTIF(L49:L62,AI10)","v":0},{"$f":"AJ10/(AL4-AJ11)","v":0},{"$f":"IF(AK10=0,0,(AK10*((LOG(AK10))/LOG(2))))","v":0},null,122,{"$f":"COUNTIF(L63:L76,AN10)","v":0},{"$f":"AO10/(AQ4-AO11)","v":0},{"$f":"IF(AP10=0,0,(AP10*((LOG(AP10))/LOG(2))))","v":0},null,122,{"$f":"COUNTIF(L77:L90,AS10)","v":0},{"$f":"AT10/(AV4-AT11)","v":0},{"$f":"IF(AU10=0,0,(AU10*((LOG(AU10))/LOG(2))))","v":0}]
[12,485,13,490,13,501,null,null,null,null,0,111,null,211,36,0.42857142857142855,-0.52388246628704915,null,null,211,{"$f":"COUNTIF(L7:L20,T11)","v":2},null,null,null,211,{"$f":"COUNTIF(L21:L34,Y11)","v":3},null,null,null,211,{"$f":"COUNTIF(L35:L48,AD11)","v":7},null,null,null,211,{"$f":"COUNTIF(L49:L62,AI11)","v":9},null,null,null,211,{"$f":"COUNTIF(L63:L76,AN11)","v":6},null,null,null,211,{"$f":"COUNTIF(L77:L90,AS11)","v":9}]
[12,600,13,602,13,605,null,null,null,null,0,111,null,212,0,0,0,null,null,212,{"$f":"COUNTIF(L7:L20,T12)","v":0},{"$f":"U12/(W4-U11)","v":0},{"$f":"IF(V12=0,0,(V12*((LOG(V12))/LOG(2))))","v":0},null,212,{"$f":"COUNTIF(L21:L34,Y12)","v":0},{"$f":"Z12/(AB4-Z11)","v":0},{"$f":"IF(AA12=0,0,(AA12*((LOG(AA12))/LOG(2))))","v":0},null,212,{"$f":"COUNTIF(L35:L48,AD12)","v":0},{"$f":"AE12/(AG4-AE11)","v":0},{"$f":"IF(AF12=0,0,(AF12*((LOG(AF12))/LOG(2))))","v":0},null,212,{"$f":"COUNTIF(L49:L62,AI12)","v":0},{"$f":"AJ12/(AL4-AJ11)","v":0},{"$f":"IF(AK12=0,0,(AK12*((LOG(AK12))/LOG(2))))","v":0},null,212,{"$f":"COUNTIF(L63:L76,AN12)","v":0},{"$f":"AO12/(AQ4-AO11)","v":0},{"$f":"IF(AP12=0,0,(AP12*((LOG(AP12))/LOG(2))))","v":0},null,212,{"$f":"COUNTIF(L77:L90,AS12)","v":0},{"$f":"AT12/(AV4-AT11)","v":0},{"$f":"IF(AU12=0,0,(AU12*((LOG(AU12))/LOG(2))))","v":0}]
[12,738,13,741,13,746,null,null,null,null,0,111,null,221,0,0,0,null,null,221,{"$f":"COUNTIF(L7:L20,T13)","v":0},{"$f":"U13/(W4-U11)","v":0},{"$f":"IF(V13=0,0,(V13*((LOG(V13))/LOG(2))))","v":0},null,221,{"$f":"COUNTIF(L21:L34,Y13)","v":0},{"$f":"Z13/(AB4-Z11)","v":0},{"$f":"IF(AA13=0,0,(AA13*((LOG(AA13))/LOG(2))))","v":0},null,221,{"$f":"COUNTIF(L35:L48,AD13)","v":0},{"$f":"AE13/(AG4-AE11)","v":0},{"$f":"IF(AF13=0,0,(AF13*((LOG(AF13))/LOG(2))))","v":0},null,221,{"$f":"COUNTIF(L49:L62,AI13)","v":0},{"$f":"AJ13/(AL4-AJ11)","v":0},{"$f":"IF(AK13=0,0,(AK13*((LOG(AK13))/LOG(2))))","v":0},null,221,{"$f":"COUNTIF(L63:L76,AN13)","v":0},{"$f":"AO13/(AQ4-AO11)","v":0},{"$f":"IF(AP13=0,0,(AP13*((LOG(AP13))/LOG(2))))","v":0},null,221,{"$f":"COUNTIF(L77:L90,AS13)","v":0},{"$f":"AT13/(AV4-AT11)","v":0},{"$f":"IF(AU13=0,0,(AU13*((LOG(AU13))/LOG(2))))","v":0}]
[12,862,13,865,13,871,null,null,null,null,0,111,null,222,0,0,0,null,null,222,{"$f":"COUNTIF(L7:L20,T14)","v":0},{"$f":"U14/(W4-U11)","v":0},{"$f":"IF(V14=0,0,(V14*((LOG(V14))/LOG(2))))","v":0},null,222,{"$f":"COUNTIF(L21:L34,Y14)","v":0},{"$f":"Z14/(AB4-Z11)","v":0},{"$f":"IF(AA14=0,0,(AA14*((LOG(AA14))/LOG(2))))","v":0},null,222,{"$f":"COUNTIF(L35:L48,AD14)","v":0},{"$f":"AE14/(AG4-AE11)","v":0},{"$f":"IF(AF14=0,0,(AF14*((LOG(AF14))/LOG(2))))","v":0},null,222,{"$f":"COUNTIF(L49:L62,AI14)","v":0},{"$f":"AJ14/(AL4-AJ11)","v":0},{"$f":"IF(AK14=0,0,(AK14*((LOG(AK14))/LOG(2))))","v":0},null,222,{"$f":"COUNTIF(L63:L76,AN14)","v":0},{"$f":"AO14/(AQ4-AO11)","v":0},{"$f":"IF(AP14=0,0,(AP14*((LOG(AP14))/LOG(2))))","v":0},null,222,{"$f":"COUNTIF(L77:L90,AS14)","v":0},{"$f":"AT14/(AV4-AT11)","v":0},{"$f":"IF(AU14=0,0,(AU14*((LOG(AU14))/LOG(2))))","v":0}]
[12,969,13,972,13,977,null,null,null,null,0,111,null,null,null,{"$f":"SUM(P7:P14)","v":1},{"$f":"-SUM(Q7:Q14)","v":0.98522813603425152},null,null,null,null,{"$f":"SUM(V7:V14)","v":1},{"$f":"-SUM(W7:W14)","v":0},null,null,null,{"$f":"SUM(AA7:AA14)","v":1},{"$f":"-SUM(AB7:AB14)","v":0},null,null,null,{"$f":"SUM(AF7:AF14)","v":1},{"$f":"-SUM(AG7:AG14)","v":0},null,null,null,{"$f":"SUM(AK7:AK14)","v":1},{"$f":"-SUM(AL7:AL14)","v":0},null,null,null,{"$f":"SUM(AP7:AP14)","v":1},{"$f":"-SUM(AQ7:AQ14)","v":0},null,null,null,{"$f":"SUM(AU7:AU14)","v":1},{"$f":"-SUM(AV7:AV14)","v":0}]
[21,1071,11,1076,11,1079,null,null,null,null,0,211,null,null,null,"U=",{"$f":"Q15/(LOG(Q4)/LOG(2))","v":0.15412691061357991},null,null,null,null,"U1=",{"$f":"W15/(LOG(W4)/LOG(2))","v":0},null,null,null,"U2=",{"$f":"AB15/(LOG(AB4)/LOG(2))","v":0},null,null,null,"U3=",{"$f":"AG15/(LOG(AG4)/LOG(2))","v":0},null,null,null,"U4=",{"$f":"AL15/(LOG(AL4)/LOG(2))","v":0},null,null,null,"U5=",{"$f":"AQ15/(LOG(AQ4)/LOG(2))","v":0},null,null,null,"U6=",{"$f":"AV15/(LOG(AV4)/LOG(2))","v":0}]
[12,1197,13,1201,13,1207,null,null,null,null,0,111]
[12,1314,13,1318,13,1321,null,null,null,null,0,111]
[12,1423,13,1426,13,1433,null,null,null,null,0,111,null,"Total Target Seq"]
[12,1535,13,1544,13,1553,null,null,null,null,0,111,null,{"$f":"COUNTIF(L7:L90,G3)","v":36},null,14,14,14,14,14,14]
[12,1652,13,1656,13,1660,null,null,null,null,0,111,null,null,null,"% of reinforcement given in 6 equal intervals based on number of trials "]
[12,1762,13,1770,13,1776,null,null,null,null,0,111,null,null,null,"%_1","%_2","%_3","%_4","%_5","%_6"]
[12,1874,13,1877,13,1880,null,null,null,null,0,111,null,null,"target sequence",{"$f":"$G$3","v":211},211,211,211,211,211]
[12,1979,13,1984,13,1990,null,null,null,null,0,111,null,null,"total reinforcement",{"$f":"U11","v":2},{"$f":"Z11","v":3},{"$f":"AE11","v":7},{"$f":"AJ11","v":9},{"$f":"AO11","v":6},{"$f":"AT11","v":9}]
[12,2091,13,2094,13,2104,null,null,null,null,0,111,null,null,"% target"]
[12,2206,13,2209,13,2216,null,null,null,null,0,111,null,null,"CCRF"]
[12,2316,13,2319,13,2327,null,null,null,null,0,111,null,null,"% CCRf"]
[12,2427,13,2431,13,2439,null,null,null,null,0,111,null,null,"average response rate",{"$f":"F20/P20","v":110.92857142857143},{"$f":"(F34-F20)/Q20","v":110.14285714285714},{"$f":"(F48-F34)/R20","v":114.92857142857143},{"$f":"(F62-F48)/S20","v":108.5},{"$f":"(F76-F62)/T20","v":110.71428571428571},{"$f":"(F90-F76)/U20","v":112.28571428571429}]
[21,2536,11,2540,11,2549,null,null,null,null,0,211]
[12,2648,13,2657,13,2663,null,null,null,null,0,111]
[21,2761,11,2766,11,2770,null,null,null,null,0,211]
[12,2863,13,2865,13,2872,null,null,null,null,0,111]
[12,2972,13,2976,13,2982,null,null,null,null,0,111]
[21,3076,11,3087,11,3095,null,null,null,null,0,211]
[12,3200,13,3205,13,3215,null,null,null,null,0,111]
[21,3312,11,3318,11,3332,null,null,null,null,0,211]
[12,3433,13,3438,13,3444,null,null,null,null,0,111]
[21,3541,11,3547,11,3550,null,null,null,null,0,211]
[21,3719,11,3728,11,3734,null,null,null,null,0,211]
[21,3821,11,3830,11,3832,null,null,null,null,0,211]
[12,3927,13,3931,13,3937,null,null,null,null,0,111]
[21,4032,11,4043,11,4051,null,null,null,null,0,211]
[12,4147,13,4152,13,4155,null,null,null,null,0,111]
[21,4252,11,4257,11,4261,null,null,null,null,0,211]
[12,4361,13,4371,13,4381,null,null,null,null,0,111]
[21,4475,11,4483,11,4489,null,null,null,null,0,211]
[12,4584,13,4589,13,4595,null,null,null,null,0,111]
[12,4694,13,4698,13,4704,null,null,null,null,0,111]
[21,4800,11,4805,11,4809,null,null,null,null,0,211]
[12,4908,13,4912,13,4922,null,null,null,null,0,111]
[21,5016,11,5023,11,5030,null,null,null,null,0,211]
[21,5122,11,5131,11,5135,null,null,null,null,0,211]
[12,5236,13,5239,13,5245,null,null,null,null,0,111]
[12,5344,13,5349,13,5353,null,null,null,null,0,111]
[21,5445,11,5451,11,5457,null,null,null,null,0,211]
[12,5557,13,5561,13,5567,null,null,null,null,0,111]
[21,5663,11,5670,11,5673,null,null,null,null,0,211]
[21,5765,11,5772,11,5775,null,null,null,null,0,211]
[21,5869,11,5876,11,5883,null,null,null,null,0,211]
[21,5977,11,5987,11,5999,null,null,null,null,0,211]
[12,6100,13,6104,13,6110,null,null,null,null,0,111]
[21,6206,11,6212,11,6223,null,null,null,null,0,211]
[12,6326,13,6335,13,6343,null,null,null,null,0,111]
[12,6445,13,6447,13,6453,null,null,null,null,0,111]
[21,6548,11,6554,11,6558,null,null,null,null,0,211]
[21,6651,11,6657,11,6660,null,null,null,null,0,211]
[12,6759,13,6764,13,6774,null,null,null,null,0,111]
[21,6868,11,6878,11,6888,null,null,null,null,0,211]
[12,6987,13,6991,13,7002,null,null,null,null,0,111]
[21,7100,11,7107,11,7114,null,null,null,null,0,211]
[12,7213,13,7217,13,7223,null,null,null,null,0,111]
[12,7321,13,7324,13,7328,null,null,null,null,0,111]
[21,7424,11,7429,11,7432,null,null,null,null,0,211]
[21,7526,11,7535,11,7538,null,null,null,null,0,211]
[12,7638,13,7647,13,7660,null,null,null,null,0,111]
[12,7761,13,7766,13,7773,null,null,null,null,0,111]
[12,7877,13,7882,13,7889,null,null,null,null,0,111]
[12,7989,13,7992,13,7997,null,null,null,null,0,111]
[21,8093,11,8099,11,8107,null,null,null,null,0,211]
[12,8207,13,8213,13,8219,null,null,null,null,0,111]
[12,8322,13,8329,13,8337,null,null,null,null,0,111]
[21,8434,11,8441,11,8445,null,null,null,null,0,211]
[12,8550,13,8556,13,8562,null,null,null,null,0,111]
[21,8660,11,8668,11,8676,null,null,null,null,0,211]
[21,8795,11,8806,11,8812,null,null,null,null,0,211]
[21,8906,11,8913,11,8922,null,null,null,null,0,211]
[21,9015,11,9022,11,9026,null,null,null,null,0,211]
[21,9118,11,9125,11,9129,null,null,null,null,0,211]
[21,9222,11,9231,11,9239,null,null,null,null,0,211]
[21,9334,11,9342,11,9345,null,null,null,null,1,211]

{"sheet":"!N22684T.AYL","index":28,"n_rows":83,"n_cols":48,"rows_kept":83,"cut":false,"hidden":false,"merged":[[1,1,1,2],[5,13,5,14],[18,13,18,14],[19,13,19,14],[4,19,4,22],[5,19,5,20],[4,39,4,42],[5,39,5,40],[4,44,4,47],[5,44,5,45],[4,24,4,27],[5,24,5,25],[4,29,4,32],[5,29,5,30],[4,34,4,37],[5,34,5,35]]}
["Report for:!N22684T.AYL"]
["Date:","<date>"]
["Hen:","<hen>",null,null,null,"Correct Sequence",{"$f":"Start!J2","v":211},null,null,null,null,null,null,null,null,"Total Sequences in Data",{"$f":"4994-COUNTBLANK(L7:L5000)","v":77},null,null,null,null,"Total Sequences in Block Data",{"$f":"COUNTA(L7:L19)","v":13},null,null,null,"Total Sequences in Block Data",{"$f":"COUNTA(L20:L32)","v":13},null,null,null,"Total Sequences in Block Data",{"$f":"COUNTA(L33:L44)","v":12},null,null,null,"Total Sequences in Block Data",{"$f":"COUNTA(L45:L57)","v":13},null,null,null,"Total Sequences in Block Data",{"$f":"COUNTA(L58:L70)","v":13},null,null,null,"Total Sequences in Block Data",{"$f":"COUNTA(L71:L83)","v":13}]
[null,null,null,null,null,null,null,null,null,null,null,null,null,null,null,"Total Sequences in Summary",{"$f":"SUM(O7:O14)","v":77},null,null,null,null,"Total Sequences in Block Summary",{"$f":"SUM(U7:U14)","v":13},null,null,null,"Total Sequences in Block Summary",{"$f":"SUM(Z7:Z14)","v":13},null,null,null,"Total Sequences in Block Summary",{"$f":"SUM(AE7:AE14)","v":12},null,null,null,"Total Sequences in Block Summary",{"$f":"SUM(AJ7:AJ14)","v":13},null,null,null,"Total Sequences in Block Summary",{"$f":"SUM(AO7:AO14)","v":13},null,null,null,"Total Sequences in Block Summary",{"$f":"SUM(AT7:AT14)","v":13}]
[null,null,null,null,null,null,null,null,null,null,null,null,null,null,null,null,null,null,null,"Block 1",null,null,null,null,"Block 2",null,null,null,null,"Block 3",null,null,null,null,"Block 4",null,null,null,null,"Block 5",null,null,null,null,"Block 6"]
["Sequence\nComponent\n1","Time\n1","Sequence\nComponent\n2","Time\n2","Sequence\nComponent\n3","Time\n3","Sequence\nComponent\n4","Time\n4","Sequence\nComponent\n5","Time\n5","Correct?\n0=No 1=Yes","Sequence",null,"Frequency",null,"Relative Frequency","Variability",null,null,"Frequency",null,"Relative Frequency","Variability",null,"Frequency",null,"Relative Frequency","Variability",null,"Frequency",null,"Relative Frequency","Variability",null,"Frequency",null,"Relative Frequency","Variability",null,"Frequency",null,"Relative Frequency","Variability",null,"Frequency",null,"Relative Frequency","Variability"]
[12,0,13,0,13,0,null,null,null,null,0,111,null,111,{"$f":"COUNTIF($L$7:$L$500,N7)","v":35},{"$f":"O7/$Q$4","v":0.45454545454545453},{"$f":"IF(P7=0,0,(P7*((LOG(P7))/LOG(2))))","v":-0.51704705624997038},null,null,{"$f":"N7","v":111},{"$f":"COUNTIF(L7:L19,T7)","v":11},{"$f":"U7/(W4-U11)","v":0.91666666666666663},{"$f":"IF(V7=0,0,(V7*((LOG(V7))/LOG(2))))","v":-0.1150699752435374},null,{"$f":"N7","v":111},{"$f":"COUNTIF(L20:L32,Y7)","v":7},{"$f":"Z7/(AB4-Z11)","v":1},{"$f":"IF(AA7=0,0,(AA7*((LOG(AA7))/LOG(2))))","v":0},null,{"$f":"N7","v":111},{"$f":"COUNTIF(L33:L44,AD7)","v":4},{"$f":"AE7/(AG4-AE11)","v":0.8},{"$f":"IF(AF7=0,0,(AF7*((LOG(AF7))/LOG(2))))","v":-0.25754247590988982},null,{"$f":"N7","v":111},{"$f":"COUNTIF(L45:L57,AI7)","v":4},{"$f":"AJ7/(AL4-AJ11)","v":1},{"$f":"IF(AK7=0,0,(AK7*((LOG(AK7))/LOG(2))))","v":0},null,{"$f":"N7","v":111},{"$f":"COUNTIF(L58:L70,AN7)","v":5},{"$f":"AO7/(AQ4-AO11)","v":0.83333333333333337},{"$f":"IF(AP7=0,0,(AP7*((LOG(AP7))/LOG(2))))","v":-0.21919533819482812},null,{"$f":"N7","v":111},{"$f":"COUNTIF(L71:L83,AS7)","v":4},{"$f":"AT7/(AV4-AT11)","v":1},{"$f":"IF(AU7=0,0,(AU7*((LOG(AU7))/LOG(2))))","v":0}]
[12,0,13,0,13,0,null,null,null,null,0,111,null,112,0,0,0,null,null,112,{"$f":"COUNTIF(L7:L19,T8)","v":0},{"$f":"U8/(W4-U11)","v":0},{"$f":"IF(V8=0,0,(V8*((LOG(V8))/LOG(2))))","v":0},null,112,{"$f":"COUNTIF(L20:L32,Y8)","v":0},{"$f":"Z8/(AB4-Z11)","v":0},{"$f":"IF(AA8=0,0,(AA8*((LOG(AA8))/LOG(2))))","v":0},null,112,{"$f":"COUNTIF(L33:L44,AD8)","v":0},{"$f":"AE8/(AG4-AE11)","v":0},{"$f":"IF(AF8=0,0,(AF8*((LOG(AF8))/LOG(2))))","v":0},null,112,{"$f":"COUNTIF(L45:L57,AI8)","v":0},{"$f":"AJ8/(AL4-AJ11)","v":0},{"$f":"IF(AK8=0,0,(AK8*((LOG(AK8))/LOG(2))))","v":0},null,112,{"$f":"COUNTIF(L58:L70,AN8)","v":0},{"$f":"AO8/(AQ4-AO11)","v":0},{"$f":"IF(AP8=0,0,(AP8*((LOG(AP8))/LOG(2))))","v":0},null,112,{"$f":"COUNTIF(L71:L83,AS8)","v":0},{"$f":"AT8/(AV4-AT11)","v":0},{"$f":"IF(AU8=0,0,(AU8*((LOG(AU8))/LOG(2))))","v":0}]
[12,0,13,0,13,0,null,null,null,null,0,111,null,121,0,0,0,null,null,121,{"$f":"COUNTIF(L7:L19,T9)","v":0},{"$f":"U9/(W4-U11)","v":0},{"$f":"IF(V9=0,0,(V9*((LOG(V9))/LOG(2))))","v":0},null,121,{"$f":"COUNTIF(L20:L32,Y9)","v":0},{"$f":"Z9/(AB4-Z11)","v":0},{"$f":"IF(AA9=0,0,(AA9*((LOG(AA9))/LOG(2))))","v":0},null,121,{"$f":"COUNTIF(L33:L44,AD9)","v":0},{"$f":"AE9/(AG4-AE11)","v":0},{"$f":"IF(AF9=0,0,(AF9*((LOG(AF9))/LOG(2))))","v":0},null,121,{"$f":"COUNTIF(L45:L57,AI9)","v":0},{"$f":"AJ9/(AL4-AJ11)","v":0},{"$f":"IF(AK9=0,0,(AK9*((LOG(AK9))/LOG(2))))","v":0},null,121,{"$f":"COUNTIF(L58:L70,AN9)","v":0},{"$f":"AO9/(AQ4-AO11)","v":0},{"$f":"IF(AP9=0,0,(AP9*((LOG(AP9))/LOG(2))))","v":0},null,121,{"$f":"COUNTIF(L71:L83,AS9)","v":0},{"$f":"AT9/(AV4-AT11)","v":0},{"$f":"IF(AU9=0,0,(AU9*((LOG(AU9))/LOG(2))))","v":0}]
[21,0,11,0,11,0,null,null,null,null,0,211,null,122,0,0,0,null,null,122,{"$f":"COUNTIF(L7:L19,T10)","v":0},{"$f":"U10/(W4-U11)","v":0},{"$f":"IF(V10=0,0,(V10*((LOG(V10))/LOG(2))))","v":0},null,122,{"$f":"COUNTIF(L20:L32,Y10)","v":0},{"$f":"Z10/(AB4-Z11)","v":0},{"$f":"IF(AA10=0,0,(AA10*((LOG(AA10))/LOG(2))))","v":0},null,122,{"$f":"COUNTIF(L33:L44,AD10)","v":0},{"$f":"AE10/(AG4-AE11)","v":0},{"$f":"IF(AF10=0,0,(AF10*((LOG(AF10))/LOG(2))))","v":0},null,122,{"$f":"COUNTIF(L45:L57,AI10)","v":0},{"$f":"AJ10/(AL4-AJ11)","v":0},{"$f":"IF(AK10=0,0,(AK10*((LOG(AK10))/LOG(2))))","v":0},null,122,{"$f":"COUNTIF(L58:L70,AN10)","v":0},{"$f":"AO10/(AQ4-AO11)","v":0},{"$f":"IF(AP10=0,0,(AP10*((LOG(AP10))/LOG(2))))","v":0},null,122,{"$f":"COUNTIF(L71:L83,AS10)","v":0},{"$f":"AT10/(AV4-AT11)","v":0},{"$f":"IF(AU10=0,0,(AU10*((LOG(AU10))/LOG(2))))","v":0}]
[12,0,13,0,13,0,null,null,null,null,0,111,null,211,39,0.50649350649350644,-0.49706478638277229,null,null,211,{"$f":"COUNTIF(L7:L19,T11)","v":1},null,null,null,211,{"$f":"COUNTIF(L20:L32,Y11)","v":6},null,null,null,211,{"$f":"COUNTIF(L33:L44,AD11)","v":7},null,null,null,211,{"$f":"COUNTIF(L45:L57,AI11)","v":9},null,null,null,211,{"$f":"COUNTIF(L58:L70,AN11)","v":7},null,null,null,211,{"$f":"COUNTIF(L71:L83,AS11)","v":9}]
[12,0,13,0,13,0,null,null,null,null,0,111,null,212,0,0,0,null,null,212,{"$f":"COUNTIF(L7:L19,T12)","v":0},{"$f":"U12/(W4-U11)","v":0},{"$f":"IF(V12=0,0,(V12*((LOG(V12))/LOG(2))))","v":0},null,212,{"$f":"COUNTIF(L20:L32,Y12)","v":0},{"$f":"Z12/(AB4-Z11)","v":0},{"$f":"IF(AA12=0,0,(AA12*((LOG(AA12))/LOG(2))))","v":0},null,212,{"$f":"COUNTIF(L33:L44,AD12)","v":0},{"$f":"AE12/(AG4-AE11)","v":0},{"$f":"IF(AF12=0,0,(AF12*((LOG(AF12))/LOG(2))))","v":0},null,212,{"$f":"COUNTIF(L45:L57,AI12)","v":0},{"$f":"AJ12/(AL4-AJ11)","v":0},{"$f":"IF(AK12=0,0,(AK12*((LOG(AK12))/LOG(2))))","v":0},null,212,{"$f":"COUNTIF(L58:L70,AN12)","v":0},{"$f":"AO12/(AQ4-AO11)","v":0},{"$f":"IF(AP12=0,0,(AP12*((LOG(AP12))/LOG(2))))","v":0},null,212,{"$f":"COUNTIF(L71:L83,AS12)","v":0},{"$f":"AT12/(AV4-AT11)","v":0},{"$f":"IF(AU12=0,0,(AU12*((LOG(AU12))/LOG(2))))","v":0}]
[12,0,13,0,13,0,null,null,null,null,0,111,null,221,3,3.896103896103896E-2,-0.18240872883014592,null,null,221,{"$f":"COUNTIF(L7:L19,T13)","v":1},{"$f":"U13/(W4-U11)","v":8.3333333333333329E-2},{"$f":"IF(V13=0,0,(V13*((LOG(V13))/LOG(2))))","v":-0.29874687506009634},null,221,{"$f":"COUNTIF(L20:L32,Y13)","v":0},{"$f":"Z13/(AB4-Z11)","v":0},{"$f":"IF(AA13=0,0,(AA13*((LOG(AA13))/LOG(2))))","v":0},null,221,{"$f":"COUNTIF(L33:L44,AD13)","v":1},{"$f":"AE13/(AG4-AE11)","v":0.2},{"$f":"IF(AF13=0,0,(AF13*((LOG(AF13))/LOG(2))))","v":-0.46438561897747244},null,221,{"$f":"COUNTIF(L45:L57,AI13)","v":0},{"$f":"AJ13/(AL4-AJ11)","v":0},{"$f":"IF(AK13=0,0,(AK13*((LOG(AK13))/LOG(2))))","v":0},null,221,{"$f":"COUNTIF(L58:L70,AN13)","v":1},{"$f":"AO13/(AQ4-AO11)","v":0.16666666666666666},{"$f":"IF(AP13=0,0,(AP13*((LOG(AP13))/LOG(2))))","v":-0.43082708345352599},null,221,{"$f":"COUNTIF(L71:L83,AS13)","v":0},{"$f":"AT13/(AV4-AT11)","v":0},{"$f":"IF(AU13=0,0,(AU13*((LOG(AU13))/LOG(2))))","v":0}]
[12,0,13,0,13,0,null,null,null,null,0,111,null,222,0,0,0,null,null,222,{"$f":"COUNTIF(L7:L19,T14)","v":0},{"$f":"U14/(W4-U11)","v":0},{"$f":"IF(V14=0,0,(V14*((LOG(V14))/LOG(2))))","v":0},null,222,{"$f":"COUNTIF(L20:L32,Y14)","v":0},{"$f":"Z14/(AB4-Z11)","v":0},{"$f":"IF(AA14=0,0,(AA14*((LOG(AA14))/LOG(2))))","v":0},null,222,{"$f":"COUNTIF(L33:L44,AD14)","v":0},{"$f":"AE14/(AG4-AE11)","v":0},{"$f":"IF(AF14=0,0,(AF14*((LOG(AF14))/LOG(2))))","v":0},null,222,{"$f":"COUNTIF(L45:L57,AI14)","v":0},{"$f":"AJ14/(AL4-AJ11)","v":0},{"$f":"IF(AK14=0,0,(AK14*((LOG(AK14))/LOG(2))))","v":0},null,222,{"$f":"COUNTIF(L58:L70,AN14)","v":0},{"$f":"AO14/(AQ4-AO11)","v":0},{"$f":"IF(AP14=0,0,(AP14*((LOG(AP14))/LOG(2))))","v":0},null,222,{"$f":"COUNTIF(L71:L83,AS14)","v":0},{"$f":"AT14/(AV4-AT11)","v":0},{"$f":"IF(AU14=0,0,(AU14*((LOG(AU14))/LOG(2))))","v":0}]
[12,0,13,0,13,0,null,null,null,null,0,111,null,null,null,{"$f":"SUM(P7:P14)","v":0.99999999999999989},{"$f":"-SUM(Q7:Q14)","v":1.1965205714628886},null,null,null,null,{"$f":"SUM(V7:V14)","v":1},{"$f":"-SUM(W7:W14)","v":0.41381685030363374},null,null,null,{"$f":"SUM(AA7:AA14)","v":1},{"$f":"-SUM(AB7:AB14)","v":0},null,null,null,{"$f":"SUM(AF7:AF14)","v":1},{"$f":"-SUM(AG7:AG14)","v":0.72192809488736231},null,null,null,{"$f":"SUM(AK7:AK14)","v":1},{"$f":"-SUM(AL7:AL14)","v":0},null,null,null,{"$f":"SUM(AP7:AP14)","v":1},{"$f":"-SUM(AQ7:AQ14)","v":0.65002242164835411},null,null,null,{"$f":"SUM(AU7:AU14)","v":1},{"$f":"-SUM(AV7:AV14)","v":0}]
[12,0,13,0,13,0,null,null,null,null,0,111,null,null,null,"U=",{"$f":"Q15/(LOG(Q4)/LOG(2))","v":0.19093048146653657},null,null,null,null,"U1=",{"$f":"W15/(LOG(W4)/LOG(2))","v":0.11182910189698043},null,null,null,"U2=",{"$f":"AB15/(LOG(AB4)/LOG(2))","v":0},null,null,null,"U3=",{"$f":"AG15/(LOG(AG4)/LOG(2))","v":0.20137674933618921},null,null,null,"U4=",{"$f":"AL15/(LOG(AL4)/LOG(2))","v":0},null,null,null,"U5=",{"$f":"AQ15/(LOG(AQ4)/LOG(2))","v":0.17566085956262825},null,null,null,"U6=",{"$f":"AV15/(LOG(AV4)/LOG(2))","v":0}]
[21,0,22,0,13,0,null,null,null,null,0,221]
[12,0,13,0,13,0,null,null,null,null,0,111]
[12,0,13,0,13,0,null,null,null,null,0,111,null,"Total Target Seq"]
[21,0,11,0,11,0,null,null,null,null,0,211,null,{"$f":"COUNTIF(L7:L83,G3)","v":39},null,13,13,12,13,13,13]
[12,0,13,0,13,0,null,null,null,null,0,111,null,null,null,"% of reinforcement given in 6 equal intervals based on number of trials "]
[12,0,13,0,13,0,null,null,null,null,0,111,null,null,null,"%_1","%_2","%_3","%_4","%_5","%_6"]
[21,0,11,0,11,0,null,null,null,null,0,211,null,null,"target sequence",{"$f":"$G$3","v":211},211,211,211,211,211]
[12,0,13,0,13,0,null,null,null,null,0,111,null,null,"total reinforcement",{"$f":"U11","v":1},{"$f":"Z11","v":6},{"$f":"AE11","v":7},{"$f":"AJ11","v":9},{"$f":"AO11","v":7},{"$f":"AT11","v":9}]
[21,0,11,0,11,0,null,null,null,null,0,211,null,null,"% target"]
[21,0,11,0,11,0,null,null,null,null,0,211,null,null,"CCRF"]
[12,0,13,0,13,0,null,null,null,null,0,111,null,null,"% CCRf"]
[21,0,11,0,11,0,null,null,null,null,0,211,null,null,"average response rate",{"$f":"F19/P20","v":0},{"$f":"(F32-F19)/Q20","v":0},{"$f":"(F44-F32)/R20","v":0},{"$f":"(F57-F44)/S20","v":0},{"$f":"(F70-F57)/T20","v":0},{"$f":"(F83-F70)/U20","v":0}]
[12,0,13,0,13,0,null,null,null,null,0,111]
[21,0,11,0,11,0,null,null,null,null,0,211]
[12,0,13,0,13,0,null,null,null,null,0,111]
[12,0,13,0,13,0,null,null,null,null,0,111]
[12,0,13,0,13,0,null,null,null,null,0,111]
[21,0,11,0,11,0,null,null,null,null,0,211]
[12,0,13,0,13,0,null,null,null,null,0,111]
[21,0,11,0,11,0,null,null,null,null,0,211]
[21,0,11,0,11,0,null,null,null,null,0,211]
[12,0,13,0,13,0,null,null,null,null,0,111]
[21,0,11,0,11,0,null,null,null,null,0,211]
[21,0,11,0,11,0,null,null,null,null,0,211]
[21,0,11,0,11,0,null,null,null,null,0,211]
[12,0,13,0,13,0,null,null,null,null,0,111]
[21,0,11,0,11,0,null,null,null,null,0,211]
[21,0,22,0,13,0,null,null,null,null,0,221]
[21,0,11,0,11,0,null,null,null,null,0,211]
[12,0,13,0,13,0,null,null,null,null,0,111]
[21,0,11,0,11,0,null,null,null,null,0,211]
[21,0,11,0,11,0,null,null,null,null,0,211]
[12,0,13,0,13,0,null,null,null,null,0,111]
[21,0,11,0,11,0,null,null,null,null,0,211]
[21,0,11,0,11,0,null,null,null,null,0,211]
[12,0,13,0,13,0,null,null,null,null,0,111]
[12,0,13,0,13,0,null,null,null,null,0,111]
[21,0,11,0,11,0,null,null,null,null,0,211]
[21,0,11,0,11,0,null,null,null,null,0,211]
[21,0,11,0,11,0,null,null,null,null,0,211]
[21,0,11,0,11,0,null,null,null,null,0,211]
[21,0,11,0,11,0,null,null,null,null,0,211]
[21,0,11,0,11,0,null,null,null,null,0,211]
[21,0,11,0,11,0,null,null,null,null,0,211]
[21,0,11,0,11,0,null,null,null,null,0,211]
[12,0,13,0,13,0,null,null,null,null,0,111]
[21,0,22,0,13,0,null,null,null,null,0,221]
[12,0,13,0,13,0,null,null,null,null,0,111]
[12,0,13,0,13,0,null,null,null,null,0,111]
[21,0,11,0,11,0,null,null,null,null,0,211]
[12,0,13,0,13,0,null,null,null,null,0,111]
[21,0,11,0,11,0,null,null,null,null,0,211]
[12,0,13,0,13,0,null,null,null,null,0,111]
[21,0,11,0,11,0,null,null,null,null,0,211]
[12,0,13,0,13,0,null,null,null,null,0,111]
[21,0,11,0,11,0,null,null,null,null,0,211]
[12,0,13,0,13,0,null,null,null,null,0,111]
[21,0,11,0,11,0,null,null,null,null,0,211]
[12,0,13,0,13,0,null,null,null,null,0,111]
[21,0,11,0,11,0,null,null,null,null,0,211]
[21,0,11,0,11,0,null,null,null,null,0,211]
[12,0,13,0,13,0,null,null,null,null,0,111]
[21,0,11,0,11,0,null,null,null,null,0,211]
[21,0,11,0,11,0,null,null,null,null,0,211]
[21,0,11,0,11,0,null,null,null,null,0,211]
[21,0,11,0,11,0,null,null,null,null,0,211]
[21,0,11,0,11,0,null,null,null,null,1,211]

{"sheet":"!N227A3T.AYL","index":29,"n_rows":71,"n_cols":48,"rows_kept":71,"cut":false,"hidden":false,"merged":[[1,1,1,2],[5,13,5,14],[18,13,18,14],[19,13,19,14],[4,19,4,22],[5,19,5,20],[4,39,4,42],[5,39,5,40],[4,44,4,47],[5,44,5,45],[4,24,4,27],[5,24,5,25],[4,29,4,32],[5,29,5,30],[4,34,4,37],[5,34,5,35]]}
["Report for:!N227A3T.AYL"]
["Date:","<date>"]
["Hen:","<hen>",null,null,null,"Correct Sequence",{"$f":"Start!J2","v":211},null,null,null,null,null,null,null,null,"Total Sequences in Data",{"$f":"4994-COUNTBLANK(L7:L5000)","v":65},null,null,null,null,"Total Sequences in Block Data",{"$f":"COUNTA(L7:L17)","v":11},null,null,null,"Total Sequences in Block Data",{"$f":"COUNTA(L18:L28)","v":11},null,null,null,"Total Sequences in Block Data",{"$f":"COUNTA(L29:L38)","v":10},null,null,null,"Total Sequences in Block Data",{"$f":"COUNTA(L39:L49)","v":11},null,null,null,"Total Sequences in Block Data",{"$f":"COUNTA(L50:L60)","v":11},null,null,null,"Total Sequences in Block Data",{"$f":"COUNTA(L61:L71)","v":11}]
[null,null,null,null,null,null,null,null,null,null,null,null,null,null,null,"Total Sequences in Summary",{"$f":"SUM(O7:O14)","v":65},null,null,null,null,"Total Sequences in Block Summary",{"$f":"SUM(U7:U14)","v":11},null,null,null,"Total Sequences in Block Summary",{"$f":"SUM(Z7:Z14)","v":11},null,null,null,"Total Sequences in Block Summary",{"$f":"SUM(AE7:AE14)","v":10},null,null,null,"Total Sequences in Block Summary",{"$f":"SUM(AJ7:AJ14)","v":11},null,null,null,"Total Sequences in Block Summary",{"$f":"SUM(AO7:AO14)","v":11},null,null,null,"Total Sequences in Block Summary",{"$f":"SUM(AT7:AT14)","v":11}]
[null,null,null,null,null,null,null,null,null,null,null,null,null,null,null,null,null,null,null,"Block 1",null,null,null,null,"Block 2",null,null,null,null,"Block 3",null,null,null,null,"Block 4",null,null,null,null,"Block 5",null,null,null,null,"Block 6"]
["Sequence\nComponent\n1","Time\n1","Sequence\nComponent\n2","Time\n2","Sequence\nComponent\n3","Time\n3","Sequence\nComponent\n4","Time\n4","Sequence\nComponent\n5","Time\n5","Correct?\n0=No 1=Yes","Sequence",null,"Frequency",null,"Relative Frequency","Variability",null,null,"Frequency",null,"Relative Frequency","Variability",null,"Frequency",null,"Relative Frequency","Variability",null,"Frequency",null,"Relative Frequency","Variability",null,"Frequency",null,"Relative Frequency","Variability",null,"Frequency",null,"Relative Frequency","Variability",null,"Frequency",null,"Relative Frequency","Variability"]
[21,38,11,51,11,54,null,null,null,null,0,211,null,111,{"$f":"COUNTIF($L$7:$L$500,N7)","v":27},{"$f":"O7/$Q$4","v":0.41538461538461541},{"$f":"IF(P7=0,0,(P7*((LOG(P7))/LOG(2))))","v":-0.52649182143622486},null,null,{"$f":"N7","v":111},{"$f":"COUNTIF(L7:L17,T7)","v":5},{"$f":"U7/(W4-U11)","v":1},{"$f":"IF(V7=0,0,(V7*((LOG(V7))/LOG(2))))","v":0},null,{"$f":"N7","v":111},{"$f":"COUNTIF(L18:L28,Y7)","v":6},{"$f":"Z7/(AB4-Z11)","v":1},{"$f":"IF(AA7=0,0,(AA7*((LOG(AA7))/LOG(2))))","v":0},null,{"$f":"N7","v":111},{"$f":"COUNTIF(L29:L38,AD7)","v":4},{"$f":"AE7/(AG4-AE11)","v":1},{"$f":"IF(AF7=0,0,(AF7*((LOG(AF7))/LOG(2))))","v":0},null,{"$f":"N7","v":111},{"$f":"COUNTIF(L39:L49,AI7)","v":3},{"$f":"AJ7/(AL4-AJ11)","v":1},{"$f":"IF(AK7=0,0,(AK7*((LOG(AK7))/LOG(2))))","v":0},null,{"$f":"N7","v":111},{"$f":"COUNTIF(L50:L60,AN7)","v":5},{"$f":"AO7/(AQ4-AO11)","v":1},{"$f":"IF(AP7=0,0,(AP7*((LOG(AP7))/LOG(2))))","v":0},null,{"$f":"N7","v":111},{"$f":"COUNTIF(L61:L71,AS7)","v":4},{"$f":"AT7/(AV4-AT11)","v":0.66666666666666663},{"$f":"IF(AU7=0,0,(AU7*((LOG(AU7))/LOG(2))))","v":-0.38997500048077083}]
[12,154,13,159,13,164,null,null,null,null,0,111,null,112,0,0,0,null,null,112,{"$f":"COUNTIF(L7:L17,T8)","v":0},{"$f":"U8/(W4-U11)","v":0},{"$f":"IF(V8=0,0,(V8*((LOG(V8))/LOG(2))))","v":0},null,112,{"$f":"COUNTIF(L18:L28,Y8)","v":0},{"$f":"Z8/(AB4-Z11)","v":0},{"$f":"IF(AA8=0,0,(AA8*((LOG(AA8))/LOG(2))))","v":0},null,112,{"$f":"COUNTIF(L29:L38,AD8)","v":0},{"$f":"AE8/(AG4-AE11)","v":0},{"$f":"IF(AF8=0,0,(AF8*((LOG(AF8))/LOG(2))))","v":0},null,112,{"$f":"COUNTIF(L39:L49,AI8)","v":0},{"$f":"AJ8/(AL4-AJ11)","v":0},{"$f":"IF(AK8=0,0,(AK8*((LOG(AK8))/LOG(2))))","v":0},null,112,{"$f":"COUNTIF(L50:L60,AN8)","v":0},{"$f":"AO8/(AQ4-AO11)","v":0},{"$f":"IF(AP8=0,0,(AP8*((LOG(AP8))/LOG(2))))","v":0},null,112,{"$f":"COUNTIF(L61:L71,AS8)","v":0},{"$f":"AT8/(AV4-AT11)","v":0},{"$f":"IF(AU8=0,0,(AU8*((LOG(AU8))/LOG(2))))","v":0}]
[12,262,13,265,13,268,null,null,null,null,0,111,null,121,0,0,0,null,null,121,{"$f":"COUNTIF(L7:L17,T9)","v":0},{"$f":"U9/(W4-U11)","v":0},{"$f":"IF(V9=0,0,(V9*((LOG(V9))/LOG(2))))","v":0},null,121,{"$f":"COUNTIF(L18:L28,Y9)","v":0},{"$f":"Z9/(AB4-Z11)","v":0},{"$f":"IF(AA9=0,0,(AA9*((LOG(AA9))/LOG(2))))","v":0},null,121,{"$f":"COUNTIF(L29:L38,AD9)","v":0},{"$f":"AE9/(AG4-AE11)","v":0},{"$f":"IF(AF9=0,0,(AF9*((LOG(AF9))/LOG(2))))","v":0},null,121,{"$f":"COUNTIF(L39:L49,AI9)","v":0},{"$f":"AJ9/(AL4-AJ11)","v":0},{"$f":"IF(AK9=0,0,(AK9*((LOG(AK9))/LOG(2))))","v":0},null,121,{"$f":"COUNTIF(L50:L60,AN9)","v":0},{"$f":"AO9/(AQ4-AO11)","v":0},{"$f":"IF(AP9=0,0,(AP9*((LOG(AP9))/LOG(2))))","v":0},null,121,{"$f":"COUNTIF(L61:L71,AS9)","v":0},{"$f":"AT9/(AV4-AT11)","v":0},{"$f":"IF(AU9=0,0,(AU9*((LOG(AU9))/LOG(2))))","v":0}]
[21,365,11,372,11,375,null,null,null,null,0,211,null,122,0,0,0,null,null,122,{"$f":"COUNTIF(L7:L17,T10)","v":0},{"$f":"U10/(W4-U11)","v":0},{"$f":"IF(V10=0,0,(V10*((LOG(V10))/LOG(2))))","v":0},null,122,{"$f":"COUNTIF(L18:L28,Y10)","v":0},{"$f":"Z10/(AB4-Z11)","v":0},{"$f":"IF(AA10=0,0,(AA10*((LOG(AA10))/LOG(2))))","v":0},null,122,{"$f":"COUNTIF(L29:L38,AD10)","v":0},{"$f":"AE10/(AG4-AE11)","v":0},{"$f":"IF(AF10=0,0,(AF10*((LOG(AF10))/LOG(2))))","v":0},null,122,{"$f":"COUNTIF(L39:L49,AI10)","v":0},{"$f":"AJ10/(AL4-AJ11)","v":0},{"$f":"IF(AK10=0,0,(AK10*((LOG(AK10))/LOG(2))))","v":0},null,122,{"$f":"COUNTIF(L50:L60,AN10)","v":0},{"$f":"AO10/(AQ4-AO11)","v":0},{"$f":"IF(AP10=0,0,(AP10*((LOG(AP10))/LOG(2))))","v":0},null,122,{"$f":"COUNTIF(L61:L71,AS10)","v":0},{"$f":"AT10/(AV4-AT11)","v":0},{"$f":"IF(AU10=0,0,(AU10*((LOG(AU10))/LOG(2))))","v":0}]
[12,531,13,534,13,545,null,null,null,null,0,111,null,211,36,0.55384615384615388,-0.47212217257078642,null,null,211,{"$f":"COUNTIF(L7:L17,T11)","v":6},null,null,null,211,{"$f":"COUNTIF(L18:L28,Y11)","v":5},null,null,null,211,{"$f":"COUNTIF(L29:L38,AD11)","v":6},null,null,null,211,{"$f":"COUNTIF(L39:L49,AI11)","v":8},null,null,null,211,{"$f":"COUNTIF(L50:L60,AN11)","v":6},null,null,null,211,{"$f":"COUNTIF(L61:L71,AS11)","v":5}]
[21,641,11,647,11,651,null,null,null,null,0,211,null,212,0,0,0,null,null,212,{"$f":"COUNTIF(L7:L17,T12)","v":0},{"$f":"U12/(W4-U11)","v":0},{"$f":"IF(V12=0,0,(V12*((LOG(V12))/LOG(2))))","v":0},null,212,{"$f":"COUNTIF(L18:L28,Y12)","v":0},{"$f":"Z12/(AB4-Z11)","v":0},{"$f":"IF(AA12=0,0,(AA12*((LOG(AA12))/LOG(2))))","v":0},null,212,{"$f":"COUNTIF(L29:L38,AD12)","v":0},{"$f":"AE12/(AG4-AE11)","v":0},{"$f":"IF(AF12=0,0,(AF12*((LOG(AF12))/LOG(2))))","v":0},null,212,{"$f":"COUNTIF(L39:L49,AI12)","v":0},{"$f":"AJ12/(AL4-AJ11)","v":0},{"$f":"IF(AK12=0,0,(AK12*((LOG(AK12))/LOG(2))))","v":0},null,212,{"$f":"COUNTIF(L50:L60,AN12)","v":0},{"$f":"AO12/(AQ4-AO11)","v":0},{"$f":"IF(AP12=0,0,(AP12*((LOG(AP12))/LOG(2))))","v":0},null,212,{"$f":"COUNTIF(L61:L71,AS12)","v":0},{"$f":"AT12/(AV4-AT11)","v":0},{"$f":"IF(AU12=0,0,(AU12*((LOG(AU12))/LOG(2))))","v":0}]
[21,746,11,755,11,758,null,null,null,null,0,211,null,221,2,3.0769230769230771E-2,-0.15453439424702936,null,null,221,{"$f":"COUNTIF(L7:L17,T13)","v":0},{"$f":"U13/(W4-U11)","v":0},{"$f":"IF(V13=0,0,(V13*((LOG(V13))/LOG(2))))","v":0},null,221,{"$f":"COUNTIF(L18:L28,Y13)","v":0},{"$f":"Z13/(AB4-Z11)","v":0},{"$f":"IF(AA13=0,0,(AA13*((LOG(AA13))/LOG(2))))","v":0},null,221,{"$f":"COUNTIF(L29:L38,AD13)","v":0},{"$f":"AE13/(AG4-AE11)","v":0},{"$f":"IF(AF13=0,0,(AF13*((LOG(AF13))/LOG(2))))","v":0},null,221,{"$f":"COUNTIF(L39:L49,AI13)","v":0},{"$f":"AJ13/(AL4-AJ11)","v":0},{"$f":"IF(AK13=0,0,(AK13*((LOG(AK13))/LOG(2))))","v":0},null,221,{"$f":"COUNTIF(L50:L60,AN13)","v":0},{"$f":"AO13/(AQ4-AO11)","v":0},{"$f":"IF(AP13=0,0,(AP13*((LOG(AP13))/LOG(2))))","v":0},null,221,{"$f":"COUNTIF(L61:L71,AS13)","v":2},{"$f":"AT13/(AV4-AT11)","v":0.33333333333333331},{"$f":"IF(AU13=0,0,(AU13*((LOG(AU13))/LOG(2))))","v":-0.52832083357371862}]
[21,870,11,880,11,886,null,null,null,null,0,211,null,222,0,0,0,null,null,222,{"$f":"COUNTIF(L7:L17,T14)","v":0},{"$f":"U14/(W4-U11)","v":0},{"$f":"IF(V14=0,0,(V14*((LOG(V14))/LOG(2))))","v":0},null,222,{"$f":"COUNTIF(L18:L28,Y14)","v":0},{"$f":"Z14/(AB4-Z11)","v":0},{"$f":"IF(AA14=0,0,(AA14*((LOG(AA14))/LOG(2))))","v":0},null,222,{"$f":"COUNTIF(L29:L38,AD14)","v":0},{"$f":"AE14/(AG4-AE11)","v":0},{"$f":"IF(AF14=0,0,(AF14*((LOG(AF14))/LOG(2))))","v":0},null,222,{"$f":"COUNTIF(L39:L49,AI14)","v":0},{"$f":"AJ14/(AL4-AJ11)","v":0},{"$f":"IF(AK14=0,0,(AK14*((LOG(AK14))/LOG(2))))","v":0},null,222,{"$f":"COUNTIF(L50:L60,AN14)","v":0},{"$f":"AO14/(AQ4-AO11)","v":0},{"$f":"IF(AP14=0,0,(AP14*((LOG(AP14))/LOG(2))))","v":0},null,222,{"$f":"COUNTIF(L61:L71,AS14)","v":0},{"$f":"AT14/(AV4-AT11)","v":0},{"$f":"IF(AU14=0,0,(AU14*((LOG(AU14))/LOG(2))))","v":0}]
[12,993,13,1001,13,1007,null,null,null,null,0,111,null,null,null,{"$f":"SUM(P7:P14)","v":1},{"$f":"-SUM(Q7:Q14)","v":1.1531483882540408},null,null,null,null,{"$f":"SUM(V7:V14)","v":1},{"$f":"-SUM(W7:W14)","v":0},null,null,null,{"$f":"SUM(AA7:AA14)","v":1},{"$f":"-SUM(AB7:AB14)","v":0},null,null,null,{"$f":"SUM(AF7:AF14)","v":1},{"$f":"-SUM(AG7:AG14)","v":0},null,null,null,{"$f":"SUM(AK7:AK14)","v":1},{"$f":"-SUM(AL7:AL14)","v":0},null,null,null,{"$f":"SUM(AP7:AP14)","v":1},{"$f":"-SUM(AQ7:AQ14)","v":0},null,null,null,{"$f":"SUM(AU7:AU14)","v":1},{"$f":"-SUM(AV7:AV14)","v":0.91829583405448945}]
[21,1104,11,1110,11,1119,null,null,null,null,0,211,null,null,null,"U=",{"$f":"Q15/(LOG(Q4)/LOG(2))","v":0.19147757560728587},null,null,null,null,"U1=",{"$f":"W15/(LOG(W4)/LOG(2))","v":0},null,null,null,"U2=",{"$f":"AB15/(LOG(AB4)/LOG(2))","v":0},null,null,null,"U3=",{"$f":"AG15/(LOG(AG4)/LOG(2))","v":0},null,null,null,"U4=",{"$f":"AL15/(LOG(AL4)/LOG(2))","v":0},null,null,null,"U5=",{"$f":"AQ15/(LOG(AQ4)/LOG(2))","v":0},null,null,null,"U6=",{"$f":"AV15/(LOG(AV4)/LOG(2))","v":0.26544702577940094}]
[12,1239,13,1242,13,1255,null,null,null,null,0,111]
[21,1356,11,1364,11,1366,null,null,null,null,0,211]
[21,1457,11,1466,11,1469,null,null,null,null,0,211,null,"Total Target Seq"]
[12,1582,13,1599,13,1605,null,null,null,null,0,111,null,{"$f":"COUNTIF(L7:L71,G3)","v":36},null,11,11,10,11,11,11]
[12,1704,13,1707,13,1710,null,null,null,null,0,111,null,null,null,"% of reinforcement given in 6 equal intervals based on number of trials "]
[12,1810,13,1818,13,1825,null,null,null,null,0,111,null,null,null,"%_1","%_2","%_3","%_4","%_5","%_6"]
[12,1921,13,1926,13,1934,null,null,null,null,0,111,null,null,"target sequence",{"$f":"$G$3","v":211},211,211,211,211,211]
[12,2037,13,2042,13,2049,null,null,null,null,0,111,null,null,"total reinforcement",{"$f":"U11","v":6},{"$f":"Z11","v":5},{"$f":"AE11","v":6},{"$f":"AJ11","v":8},{"$f":"AO11","v":6},{"$f":"AT11","v":5}]
[21,2146,11,2153,11,2159,null,null,null,null,0,211,null,null,"% target"]
[21,2251,11,2258,11,2261,null,null,null,null,0,211,null,null,"CCRF"]
[12,2357,13,2363,13,2374,null,null,null,null,0,111,null,null,"% CCRf"]
[21,2466,11,2473,11,2477,null,null,null,null,0,211,null,null,"average response rate",{"$f":"F17/P20","v":114.09090909090909},{"$f":"(F28-F17)/Q20","v":111.09090909090909},{"$f":"(F38-F28)/R20","v":117.7},{"$f":"(F49-F38)/S20","v":109.27272727272727},{"$f":"(F60-F49)/T20","v":114.90909090909091},{"$f":"(F71-F60)/U20","v":115.54545454545455}]
[21,2570,11,2576,11,2584,null,null,null,null,0,211]
[12,2719,13,2722,13,2728,null,null,null,null,0,111]
[21,2820,11,2828,11,2834,null,null,null,null,0,211]
[12,2936,13,2942,13,2950,null,null,null,null,0,111]
[12,3053,13,3058,13,3065,null,null,null,null,0,111]
[21,3162,11,3168,11,3175,null,null,null,null,0,211]
[12,3277,13,3284,13,3290,null,null,null,null,0,111]
[21,3384,11,3391,11,3396,null,null,null,null,0,211]
[21,3539,11,3546,11,3551,null,null,null,null,0,211]
[21,3643,11,3650,11,3654,null,null,null,null,0,211]
[21,3751,11,3760,11,3766,null,null,null,null,0,211]
[21,3862,11,3869,11,3873,null,null,null,null,0,211]
[21,3969,11,3975,11,3978,null,null,null,null,0,211]
[12,4083,13,4089,13,4098,null,null,null,null,0,111]
[21,4193,11,4200,11,4212,null,null,null,null,0,211]
[21,4307,11,4313,11,4318,null,null,null,null,0,211]
[12,4414,13,4419,13,4425,null,null,null,null,0,111]
[21,4519,11,4525,11,4528,null,null,null,null,0,211]
[21,4620,11,4627,11,4630,null,null,null,null,0,211]
[12,4740,13,4743,13,4749,null,null,null,null,0,111]
[21,4846,11,4852,11,4856,null,null,null,null,0,211]
[12,4959,13,4965,13,4978,null,null,null,null,0,111]
[21,5071,11,5078,11,5085,null,null,null,null,0,211]
[12,5188,13,5194,13,5200,null,null,null,null,0,111]
[12,5305,13,5308,13,5315,null,null,null,null,0,111]
[21,5410,11,5416,11,5419,null,null,null,null,0,211]
[21,5511,11,5519,11,5525,null,null,null,null,0,211]
[21,5618,11,5627,11,5633,null,null,null,null,0,211]
[12,5743,13,5746,13,5753,null,null,null,null,0,111]
[21,5848,11,5855,11,5864,null,null,null,null,0,211]
[21,5957,11,5965,11,5969,null,null,null,null,0,211]
[12,6110,13,6114,13,6120,null,null,null,null,0,111]
[21,6215,22,6218,13,6224,null,null,null,null,0,221]
[21,6320,11,6327,11,6331,null,null,null,null,0,211]
[12,6435,13,6438,13,6444,null,null,null,null,0,111]
[21,6540,11,6546,11,6557,null,null,null,null,0,211]
[21,6687,11,6698,11,6704,null,null,null,null,0,211]
[12,6806,13,6812,13,6820,null,null,null,null,0,111]
[21,6926,11,6932,11,6936,null,null,null,null,0,211]
[12,7044,13,7050,13,7055,null,null,null,null,0,111]
[12,7159,13,7162,13,7174,null,null,null,null,0,111]
[21,7271,22,7273,13,7279,null,null,null,null,0,221]
[21,7376,11,7384,11,7391,null,null,null,null,1,211]

{"sheet":"!N30194T.AYL","index":30,"n_rows":67,"n_cols":48,"rows_kept":67,"cut":false,"hidden":false,"merged":[[1,1,1,2],[5,13,5,14],[18,13,18,14],[19,13,19,14],[4,19,4,22],[5,19,5,20],[4,39,4,42],[5,39,5,40],[4,44,4,47],[5,44,5,45],[4,24,4,27],[5,24,5,25],[4,29,4,32],[5,29,5,30],[4,34,4,37],[5,34,5,35]]}
["Report for:!N30194T.AYL"]
["Date:","<date>"]
["Hen:","<hen>",null,null,null,"Correct Sequence",{"$f":"Start!J2","v":211},null,null,null,null,null,null,null,null,"Total Sequences in Data",{"$f":"4994-COUNTBLANK(L7:L5000)","v":61},null,null,null,null,"Total Sequences in Block Data",{"$f":"COUNTA(L7:L16)","v":10},null,null,null,"Total Sequences in Block Data",{"$f":"COUNTA(L17:L26)","v":10},null,null,null,"Total Sequences in Block Data",{"$f":"COUNTA(L27:L37)","v":11},null,null,null,"Total Sequences in Block Data",{"$f":"COUNTA(L38:L47)","v":10},null,null,null,"Total Sequences in Block Data",{"$f":"COUNTA(L48:L57)","v":10},null,null,null,"Total Sequences in Block Data",{"$f":"COUNTA(L58:L67)","v":10}]
[null,null,null,null,null,null,null,null,null,null,null,null,null,null,null,"Total Sequences in Summary",{"$f":"SUM(O7:O14)","v":61},null,null,null,null,"Total Sequences in Block Summary",{"$f":"SUM(U7:U14)","v":10},null,null,null,"Total Sequences in Block Summary",{"$f":"SUM(Z7:Z14)","v":10},null,null,null,"Total Sequences in Block Summary",{"$f":"SUM(AE7:AE14)","v":11},null,null,null,"Total Sequences in Block Summary",{"$f":"SUM(AJ7:AJ14)","v":10},null,null,null,"Total Sequences in Block Summary",{"$f":"SUM(AO7:AO14)","v":10},null,null,null,"Total Sequences in Block Summary",{"$f":"SUM(AT7:AT14)","v":10}]
[null,null,null,null,null,null,null,null,null,null,null,null,null,null,null,null,null,null,null,"Block 1",null,null,null,null,"Block 2",null,null,null,null,"Block 3",null,null,null,null,"Block 4",null,null,null,null,"Block 5",null,null,null,null,"Block 6"]
["Sequence\nComponent\n1","Time\n1","Sequence\nComponent\n2","Time\n2","Sequence\nComponent\n3","Time\n3","Sequence\nComponent\n4","Time\n4","Sequence\nComponent\n5","Time\n5","Correct?\n0=No 1=Yes","Sequence",null,"Frequency",null,"Relative Frequency","Variability",null,null,"Frequency",null,"Relative Frequency","Variability",null,"Frequency",null,"Relative Frequency","Variability",null,"Frequency",null,"Relative Frequency","Variability",null,"Frequency",null,"Relative Frequency","Variability",null,"Frequency",null,"Relative Frequency","Variability",null,"Frequency",null,"Relative Frequency","Variability"]
[12,13,13,16,13,22,null,null,null,null,0,111,null,111,{"$f":"COUNTIF($L$7:$L$500,N7)","v":22},{"$f":"O7/$Q$4","v":0.36065573770491804},{"$f":"IF(P7=0,0,(P7*((LOG(P7))/LOG(2))))","v":-0.53063484944857309},null,null,{"$f":"N7","v":111},{"$f":"COUNTIF(L7:L16,T7)","v":4},{"$f":"U7/(W4-U11)","v":1},{"$f":"IF(V7=0,0,(V7*((LOG(V7))/LOG(2))))","v":0},null,{"$f":"N7","v":111},{"$f":"COUNTIF(L17:L26,Y7)","v":4},{"$f":"Z7/(AB4-Z11)","v":1},{"$f":"IF(AA7=0,0,(AA7*((LOG(AA7))/LOG(2))))","v":0},null,{"$f":"N7","v":111},{"$f":"COUNTIF(L27:L37,AD7)","v":5},{"$f":"AE7/(AG4-AE11)","v":1},{"$f":"IF(AF7=0,0,(AF7*((LOG(AF7))/LOG(2))))","v":0},null,{"$f":"N7","v":111},{"$f":"COUNTIF(L38:L47,AI7)","v":3},{"$f":"AJ7/(AL4-AJ11)","v":1},{"$f":"IF(AK7=0,0,(AK7*((LOG(AK7))/LOG(2))))","v":0},null,{"$f":"N7","v":111},{"$f":"COUNTIF(L48:L57,AN7)","v":3},{"$f":"AO7/(AQ4-AO11)","v":1},{"$f":"IF(AP7=0,0,(AP7*((LOG(AP7))/LOG(2))))","v":0},null,{"$f":"N7","v":111},{"$f":"COUNTIF(L58:L67,AS7)","v":3},{"$f":"AT7/(AV4-AT11)","v":0.75},{"$f":"IF(AU7=0,0,(AU7*((LOG(AU7))/LOG(2))))","v":-0.31127812445913283}]
[12,124,13,125,13,131,null,null,null,null,0,111,null,112,0,0,0,null,null,112,{"$f":"COUNTIF(L7:L16,T8)","v":0},{"$f":"U8/(W4-U11)","v":0},{"$f":"IF(V8=0,0,(V8*((LOG(V8))/LOG(2))))","v":0},null,112,{"$f":"COUNTIF(L17:L26,Y8)","v":0},{"$f":"Z8/(AB4-Z11)","v":0},{"$f":"IF(AA8=0,0,(AA8*((LOG(AA8))/LOG(2))))","v":0},null,112,{"$f":"COUNTIF(L27:L37,AD8)","v":0},{"$f":"AE8/(AG4-AE11)","v":0},{"$f":"IF(AF8=0,0,(AF8*((LOG(AF8))/LOG(2))))","v":0},null,112,{"$f":"COUNTIF(L38:L47,AI8)","v":0},{"$f":"AJ8/(AL4-AJ11)","v":0},{"$f":"IF(AK8=0,0,(AK8*((LOG(AK8))/LOG(2))))","v":0},null,112,{"$f":"COUNTIF(L48:L57,AN8)","v":0},{"$f":"AO8/(AQ4-AO11)","v":0},{"$f":"IF(AP8=0,0,(AP8*((LOG(AP8))/LOG(2))))","v":0},null,112,{"$f":"COUNTIF(L58:L67,AS8)","v":0},{"$f":"AT8/(AV4-AT11)","v":0},{"$f":"IF(AU8=0,0,(AU8*((LOG(AU8))/LOG(2))))","v":0}]
[12,230,13,232,13,237,null,null,null,null,0,111,null,121,0,0,0,null,null,121,{"$f":"COUNTIF(L7:L16,T9)","v":0},{"$f":"U9/(W4-U11)","v":0},{"$f":"IF(V9=0,0,(V9*((LOG(V9))/LOG(2))))","v":0},null,121,{"$f":"COUNTIF(L17:L26,Y9)","v":0},{"$f":"Z9/(AB4-Z11)","v":0},{"$f":"IF(AA9=0,0,(AA9*((LOG(AA9))/LOG(2))))","v":0},null,121,{"$f":"COUNTIF(L27:L37,AD9)","v":0},{"$f":"AE9/(AG4-AE11)","v":0},{"$f":"IF(AF9=0,0,(AF9*((LOG(AF9))/LOG(2))))","v":0},null,121,{"$f":"COUNTIF(L38:L47,AI9)","v":0},{"$f":"AJ9/(AL4-AJ11)","v":0},{"$f":"IF(AK9=0,0,(AK9*((LOG(AK9))/LOG(2))))","v":0},null,121,{"$f":"COUNTIF(L48:L57,AN9)","v":0},{"$f":"AO9/(AQ4-AO11)","v":0},{"$f":"IF(AP9=0,0,(AP9*((LOG(AP9))/LOG(2))))","v":0},null,121,{"$f":"COUNTIF(L58:L67,AS9)","v":0},{"$f":"AT9/(AV4-AT11)","v":0},{"$f":"IF(AU9=0,0,(AU9*((LOG(AU9))/LOG(2))))","v":0}]
[21,335,11,342,11,347,null,null,null,null,0,211,null,122,0,0,0,null,null,122,{"$f":"COUNTIF(L7:L16,T10)","v":0},{"$f":"U10/(W4-U11)","v":0},{"$f":"IF(V10=0,0,(V10*((LOG(V10))/LOG(2))))","v":0},null,122,{"$f":"COUNTIF(L17:L26,Y10)","v":0},{"$f":"Z10/(AB4-Z11)","v":0},{"$f":"IF(AA10=0,0,(AA10*((LOG(AA10))/LOG(2))))","v":0},null,122,{"$f":"COUNTIF(L27:L37,AD10)","v":0},{"$f":"AE10/(AG4-AE11)","v":0},{"$f":"IF(AF10=0,0,(AF10*((LOG(AF10))/LOG(2))))","v":0},null,122,{"$f":"COUNTIF(L38:L47,AI10)","v":0},{"$f":"AJ10/(AL4-AJ11)","v":0},{"$f":"IF(AK10=0,0,(AK10*((LOG(AK10))/LOG(2))))","v":0},null,122,{"$f":"COUNTIF(L48:L57,AN10)","v":0},{"$f":"AO10/(AQ4-AO11)","v":0},{"$f":"IF(AP10=0,0,(AP10*((LOG(AP10))/LOG(2))))","v":0},null,122,{"$f":"COUNTIF(L58:L67,AS10)","v":0},{"$f":"AT10/(AV4-AT11)","v":0},{"$f":"IF(AU10=0,0,(AU10*((LOG(AU10))/LOG(2))))","v":0}]
[12,564,13,569,13,575,null,null,null,null,0,111,null,211,38,0.62295081967213117,-0.42535693961530208,null,null,211,{"$f":"COUNTIF(L7:L16,T11)","v":6},null,null,null,211,{"$f":"COUNTIF(L17:L26,Y11)","v":6},null,null,null,211,{"$f":"COUNTIF(L27:L37,AD11)","v":6},null,null,null,211,{"$f":"COUNTIF(L38:L47,AI11)","v":7},null,null,null,211,{"$f":"COUNTIF(L48:L57,AN11)","v":7},null,null,null,211,{"$f":"COUNTIF(L58:L67,AS11)","v":6}]
[21,673,11,679,11,685,null,null,null,null,0,211,null,212,0,0,0,null,null,212,{"$f":"COUNTIF(L7:L16,T12)","v":0},{"$f":"U12/(W4-U11)","v":0},{"$f":"IF(V12=0,0,(V12*((LOG(V12))/LOG(2))))","v":0},null,212,{"$f":"COUNTIF(L17:L26,Y12)","v":0},{"$f":"Z12/(AB4-Z11)","v":0},{"$f":"IF(AA12=0,0,(AA12*((LOG(AA12))/LOG(2))))","v":0},null,212,{"$f":"COUNTIF(L27:L37,AD12)","v":0},{"$f":"AE12/(AG4-AE11)","v":0},{"$f":"IF(AF12=0,0,(AF12*((LOG(AF12))/LOG(2))))","v":0},null,212,{"$f":"COUNTIF(L38:L47,AI12)","v":0},{"$f":"AJ12/(AL4-AJ11)","v":0},{"$f":"IF(AK12=0,0,(AK12*((LOG(AK12))/LOG(2))))","v":0},null,212,{"$f":"COUNTIF(L48:L57,AN12)","v":0},{"$f":"AO12/(AQ4-AO11)","v":0},{"$f":"IF(AP12=0,0,(AP12*((LOG(AP12))/LOG(2))))","v":0},null,212,{"$f":"COUNTIF(L58:L67,AS12)","v":0},{"$f":"AT12/(AV4-AT11)","v":0},{"$f":"IF(AU12=0,0,(AU12*((LOG(AU12))/LOG(2))))","v":0}]
[21,815,11,824,11,827,null,null,null,null,0,211,null,221,1,1.6393442622950821E-2,-9.7225202255129275E-2,null,null,221,{"$f":"COUNTIF(L7:L16,T13)","v":0},{"$f":"U13/(W4-U11)","v":0},{"$f":"IF(V13=0,0,(V13*((LOG(V13))/LOG(2))))","v":0},null,221,{"$f":"COUNTIF(L17:L26,Y13)","v":0},{"$f":"Z13/(AB4-Z11)","v":0},{"$f":"IF(AA13=0,0,(AA13*((LOG(AA13))/LOG(2))))","v":0},null,221,{"$f":"COUNTIF(L27:L37,AD13)","v":0},{"$f":"AE13/(AG4-AE11)","v":0},{"$f":"IF(AF13=0,0,(AF13*((LOG(AF13))/LOG(2))))","v":0},null,221,{"$f":"COUNTIF(L38:L47,AI13)","v":0},{"$f":"AJ13/(AL4-AJ11)","v":0},{"$f":"IF(AK13=0,0,(AK13*((LOG(AK13))/LOG(2))))","v":0},null,221,{"$f":"COUNTIF(L48:L57,AN13)","v":0},{"$f":"AO13/(AQ4-AO11)","v":0},{"$f":"IF(AP13=0,0,(AP13*((LOG(AP13))/LOG(2))))","v":0},null,221,{"$f":"COUNTIF(L58:L67,AS13)","v":1},{"$f":"AT13/(AV4-AT11)","v":0.25},{"$f":"IF(AU13=0,0,(AU13*((LOG(AU13))/LOG(2))))","v":-0.5}]
[21,929,11,936,11,940,null,null,null,null,0,211,null,222,0,0,0,null,null,222,{"$f":"COUNTIF(L7:L16,T14)","v":0},{"$f":"U14/(W4-U11)","v":0},{"$f":"IF(V14=0,0,(V14*((LOG(V14))/LOG(2))))","v":0},null,222,{"$f":"COUNTIF(L17:L26,Y14)","v":0},{"$f":"Z14/(AB4-Z11)","v":0},{"$f":"IF(AA14=0,0,(AA14*((LOG(AA14))/LOG(2))))","v":0},null,222,{"$f":"COUNTIF(L27:L37,AD14)","v":0},{"$f":"AE14/(AG4-AE11)","v":0},{"$f":"IF(AF14=0,0,(AF14*((LOG(AF14))/LOG(2))))","v":0},null,222,{"$f":"COUNTIF(L38:L47,AI14)","v":0},{"$f":"AJ14/(AL4-AJ11)","v":0},{"$f":"IF(AK14=0,0,(AK14*((LOG(AK14))/LOG(2))))","v":0},null,222,{"$f":"COUNTIF(L48:L57,AN14)","v":0},{"$f":"AO14/(AQ4-AO11)","v":0},{"$f":"IF(AP14=0,0,(AP14*((LOG(AP14))/LOG(2))))","v":0},null,222,{"$f":"COUNTIF(L58:L67,AS14)","v":0},{"$f":"AT14/(AV4-AT11)","v":0},{"$f":"IF(AU14=0,0,(AU14*((LOG(AU14))/LOG(2))))","v":0}]
[21,1027,11,1041,11,1047,null,null,null,null,0,211,null,null,null,{"$f":"SUM(P7:P14)","v":1},{"$f":"-SUM(Q7:Q14)","v":1.0532169913190044},null,null,null,null,{"$f":"SUM(V7:V14)","v":1},{"$f":"-SUM(W7:W14)","v":0},null,null,null,{"$f":"SUM(AA7:AA14)","v":1},{"$f":"-SUM(AB7:AB14)","v":0},null,null,null,{"$f":"SUM(AF7:AF14)","v":1},{"$f":"-SUM(AG7:AG14)","v":0},null,null,null,{"$f":"SUM(AK7:AK14)","v":1},{"$f":"-SUM(AL7:AL14)","v":0},null,null,null,{"$f":"SUM(AP7:AP14)","v":1},{"$f":"-SUM(AQ7:AQ14)","v":0},null,null,null,{"$f":"SUM(AU7:AU14)","v":1},{"$f":"-SUM(AV7:AV14)","v":0.81127812445913283}]
[21,1155,11,1163,11,1165,null,null,null,null,0,211,null,null,null,"U=",{"$f":"Q15/(LOG(Q4)/LOG(2))","v":0.17758618049873071},null,null,null,null,"U1=",{"$f":"W15/(LOG(W4)/LOG(2))","v":0},null,null,null,"U2=",{"$f":"AB15/(LOG(AB4)/LOG(2))","v":0},null,null,null,"U3=",{"$f":"AG15/(LOG(AG4)/LOG(2))","v":0},null,null,null,"U4=",{"$f":"AL15/(LOG(AL4)/LOG(2))","v":0},null,null,null,"U5=",{"$f":"AQ15/(LOG(AQ4)/LOG(2))","v":0},null,null,null,"U6=",{"$f":"AV15/(LOG(AV4)/LOG(2))","v":0.24421905028821556}]
[21,1258,11,1267,11,1273,null,null,null,null,0,211]
[12,1384,13,1389,13,1395,null,null,null,null,0,111]
[12,1566,13,1569,13,1579,null,null,null,null,0,111,null,"Total Target Seq"]
[21,1675,11,1682,11,1690,null,null,null,null,0,211,null,{"$f":"COUNTIF(L7:L67,G3)","v":38},null,10,10,11,10,10,10]
[12,1795,13,1801,13,1809,null,null,null,null,0,111,null,null,null,"% of reinforcement given in 6 equal intervals based on number of trials "]
[21,1902,11,1909,11,1917,null,null,null,null,0,211,null,null,null,"%_1","%_2","%_3","%_4","%_5","%_6"]
[21,2010,11,2016,11,2020,null,null,null,null,0,211,null,null,"target sequence",{"$f":"$G$3","v":211},211,211,211,211,211]
[21,2118,11,2126,11,2130,null,null,null,null,0,211,null,null,"total reinforcement",{"$f":"U11","v":6},{"$f":"Z11","v":6},{"$f":"AE11","v":6},{"$f":"AJ11","v":7},{"$f":"AO11","v":7},{"$f":"AT11","v":6}]
[21,2223,11,2232,11,2235,null,null,null,null,0,211,null,null,"% target"]
[12,2339,13,2342,13,2349,null,null,null,null,0,111,null,null,"CCRF"]
[21,2444,11,2451,11,2454,null,null,null,null,0,211,null,null,"% CCRf"]
[21,2546,11,2555,11,2560,null,null,null,null,0,211,null,null,"average response rate",{"$f":"F16/P20","v":116.5},{"$f":"(F26-F16)/Q20","v":118.4},{"$f":"(F37-F26)/R20","v":113.36363636363636},{"$f":"(F47-F37)/S20","v":111.4},{"$f":"(F57-F47)/T20","v":117},{"$f":"(F67-F57)/U20","v":124.4}]
[12,2661,13,2664,13,2667,null,null,null,null,0,111]
[21,2764,11,2771,11,2777,null,null,null,null,0,211]
[21,2881,11,2890,11,2893,null,null,null,null,0,211]
[12,3023,13,3028,13,3036,null,null,null,null,0,111]
[12,3141,13,3145,13,3154,null,null,null,null,0,111]
[12,3256,13,3261,13,3266,null,null,null,null,0,111]
[21,3362,11,3367,11,3372,null,null,null,null,0,211]
[21,3462,11,3469,11,3474,null,null,null,null,0,211]
[12,3581,13,3590,13,3596,null,null,null,null,0,111]
[21,3691,11,3699,11,3702,null,null,null,null,0,211]
[21,3790,11,3797,11,3800,null,null,null,null,0,211]
[12,3903,13,3914,13,3921,null,null,null,null,0,111]
[21,4013,11,4021,11,4025,null,null,null,null,0,211]
[21,4118,11,4124,11,4132,null,null,null,null,0,211]
[21,4222,11,4230,11,4235,null,null,null,null,0,211]
[21,4336,11,4344,11,4348,null,null,null,null,0,211]
[21,4448,11,4457,11,4460,null,null,null,null,0,211]
[12,4586,13,4591,13,4599,null,null,null,null,0,111]
[12,4704,13,4708,13,4710,null,null,null,null,0,111]
[21,4806,11,4813,11,4817,null,null,null,null,0,211]
[21,4913,11,4924,11,4930,null,null,null,null,0,211]
[12,5025,13,5032,13,5038,null,null,null,null,0,111]
[12,5153,13,5158,13,5165,null,null,null,null,0,111]
[21,5261,11,5267,11,5271,null,null,null,null,0,211]
[12,5381,13,5384,13,5390,null,null,null,null,0,111]
[21,5484,11,5493,11,5495,null,null,null,null,0,211]
[21,5642,11,5659,11,5665,null,null,null,null,0,211]
[21,5761,11,5769,11,5772,null,null,null,null,0,211]
[21,5868,11,5877,11,5880,null,null,null,null,0,211]
[12,6021,13,6022,13,6029,null,null,null,null,0,111]
[21,6127,11,6134,11,6138,null,null,null,null,0,211]
[21,6260,11,6268,11,6272,null,null,null,null,0,211]
[12,6404,13,6411,13,6419,null,null,null,null,0,111]
[21,6512,22,6519,13,6531,null,null,null,null,0,221]
[21,6667,11,6676,11,6681,null,null,null,null,0,211]
[12,6788,13,6792,13,6800,null,null,null,null,0,111]
[21,6898,11,6905,11,6908,null,null,null,null,0,211]
[21,7002,11,7009,11,7013,null,null,null,null,0,211]
[21,7109,11,7118,11,7124,null,null,null,null,1,211]

{"sheet":"!N30295T.AYL","index":31,"n_rows":65,"n_cols":48,"rows_kept":65,"cut":false,"hidden":false,"merged":[[1,1,1,2],[5,13,5,14],[18,13,18,14],[19,13,19,14],[4,19,4,22],[5,19,5,20],[4,39,4,42],[5,39,5,40],[4,44,4,47],[5,44,5,45],[4,24,4,27],[5,24,5,25],[4,29,4,32],[5,29,5,30],[4,34,4,37],[5,34,5,35]]}
["Report for:!N30295T.AYL"]
["Date:","<date>"]
["Hen:","<hen>",null,null,null,"Correct Sequence",{"$f":"Start!J2","v":211},null,null,null,null,null,null,null,null,"Total Sequences in Data",{"$f":"4994-COUNTBLANK(L7:L5000)","v":59},null,null,null,null,"Total Sequences in Block Data",{"$f":"COUNTA(L7:L16)","v":10},null,null,null,"Total Sequences in Block Data",{"$f":"COUNTA(L17:L26)","v":10},null,null,null,"Total Sequences in Block Data",{"$f":"COUNTA(L27:L35)","v":9},null,null,null,"Total Sequences in Block Data",{"$f":"COUNTA(L36:L45)","v":10},null,null,null,"Total Sequences in Block Data",{"$f":"COUNTA(L46:L55)","v":10},null,null,null,"Total Sequences in Block Data",{"$f":"COUNTA(L56:L65)","v":10}]
[null,null,null,null,null,null,null,null,null,null,null,null,null,null,null,"Total Sequences in Summary",{"$f":"SUM(O7:O14)","v":59},null,null,null,null,"Total Sequences in Block Summary",{"$f":"SUM(U7:U14)","v":10},null,null,null,"Total Sequences in Block Summary",{"$f":"SUM(Z7:Z14)","v":10},null,null,null,"Total Sequences in Block Summary",{"$f":"SUM(AE7:AE14)","v":9},null,null,null,"Total Sequences in Block Summary",{"$f":"SUM(AJ7:AJ14)","v":10},null,null,null,"Total Sequences in Block Summary",{"$f":"SUM(AO7:AO14)","v":10},null,null,null,"Total Sequences in Block Summary",{"$f":"SUM(AT7:AT14)","v":10}]
[null,null,null,null,null,null,null,null,null,null,null,null,null,null,null,null,null,null,null,"Block 1",null,null,null,null,"Block 2",null,null,null,null,"Block 3",null,null,null,null,"Block 4",null,null,null,null,"Block 5",null,null,null,null,"Block 6"]
["Sequence\nComponent\n1","Time\n1","Sequence\nComponent\n2","Time\n2","Sequence\nComponent\n3","Time\n3","Sequence\nComponent\n4","Time\n4","Sequence\nComponent\n5","Time\n5","Correct?\n0=No 1=Yes","Sequence",null,"Frequency",null,"Relative Frequency","Variability",null,null,"Frequency",null,"Relative Frequency","Variability",null,"Frequency",null,"Relative Frequency","Variability",null,"Frequency",null,"Relative Frequency","Variability",null,"Frequency",null,"Relative Frequency","Variability",null,"Frequency",null,"Relative Frequency","Variability",null,"Frequency",null,"Relative Frequency","Variability"]
[12,5,13,9,13,15,null,null,null,null,0,111,null,111,{"$f":"COUNTIF($L$7:$L$500,N7)","v":18},{"$f":"O7/$Q$4","v":0.30508474576271188},{"$f":"IF(P7=0,0,(P7*((LOG(P7))/LOG(2))))","v":-0.52252415021273757},null,null,{"$f":"N7","v":111},{"$f":"COUNTIF(L7:L16,T7)","v":4},{"$f":"U7/(W4-U11)","v":0.8},{"$f":"IF(V7=0,0,(V7*((LOG(V7))/LOG(2))))","v":-0.25754247590988982},null,{"$f":"N7","v":111},{"$f":"COUNTIF(L17:L26,Y7)","v":3},{"$f":"Z7/(AB4-Z11)","v":1},{"$f":"IF(AA7=0,0,(AA7*((LOG(AA7))/LOG(2))))","v":0},null,{"$f":"N7","v":111},{"$f":"COUNTIF(L27:L35,AD7)","v":3},{"$f":"AE7/(AG4-AE11)","v":1},{"$f":"IF(AF7=0,0,(AF7*((LOG(AF7))/LOG(2))))","v":0},null,{"$f":"N7","v":111},{"$f":"COUNTIF(L36:L45,AI7)","v":3},{"$f":"AJ7/(AL4-AJ11)","v":1},{"$f":"IF(AK7=0,0,(AK7*((LOG(AK7))/LOG(2))))","v":0},null,{"$f":"N7","v":111},{"$f":"COUNTIF(L46:L55,AN7)","v":3},{"$f":"AO7/(AQ4-AO11)","v":0.75},{"$f":"IF(AP7=0,0,(AP7*((LOG(AP7))/LOG(2))))","v":-0.31127812445913283},null,{"$f":"N7","v":111},{"$f":"COUNTIF(L56:L65,AS7)","v":2},{"$f":"AT7/(AV4-AT11)","v":1},{"$f":"IF(AU7=0,0,(AU7*((LOG(AU7))/LOG(2))))","v":0}]
[12,118,13,122,13,131,null,null,null,null,0,111,null,112,0,0,0,null,null,112,{"$f":"COUNTIF(L7:L16,T8)","v":0},{"$f":"U8/(W4-U11)","v":0},{"$f":"IF(V8=0,0,(V8*((LOG(V8))/LOG(2))))","v":0},null,112,{"$f":"COUNTIF(L17:L26,Y8)","v":0},{"$f":"Z8/(AB4-Z11)","v":0},{"$f":"IF(AA8=0,0,(AA8*((LOG(AA8))/LOG(2))))","v":0},null,112,{"$f":"COUNTIF(L27:L35,AD8)","v":0},{"$f":"AE8/(AG4-AE11)","v":0},{"$f":"IF(AF8=0,0,(AF8*((LOG(AF8))/LOG(2))))","v":0},null,112,{"$f":"COUNTIF(L36:L45,AI8)","v":0},{"$f":"AJ8/(AL4-AJ11)","v":0},{"$f":"IF(AK8=0,0,(AK8*((LOG(AK8))/LOG(2))))","v":0},null,112,{"$f":"COUNTIF(L46:L55,AN8)","v":0},{"$f":"AO8/(AQ4-AO11)","v":0},{"$f":"IF(AP8=0,0,(AP8*((LOG(AP8))/LOG(2))))","v":0},null,112,{"$f":"COUNTIF(L56:L65,AS8)","v":0},{"$f":"AT8/(AV4-AT11)","v":0},{"$f":"IF(AU8=0,0,(AU8*((LOG(AU8))/LOG(2))))","v":0}]
[12,233,13,248,13,254,null,null,null,null,0,111,null,121,0,0,0,null,null,121,{"$f":"COUNTIF(L7:L16,T9)","v":0},{"$f":"U9/(W4-U11)","v":0},{"$f":"IF(V9=0,0,(V9*((LOG(V9))/LOG(2))))","v":0},null,121,{"$f":"COUNTIF(L17:L26,Y9)","v":0},{"$f":"Z9/(AB4-Z11)","v":0},{"$f":"IF(AA9=0,0,(AA9*((LOG(AA9))/LOG(2))))","v":0},null,121,{"$f":"COUNTIF(L27:L35,AD9)","v":0},{"$f":"AE9/(AG4-AE11)","v":0},{"$f":"IF(AF9=0,0,(AF9*((LOG(AF9))/LOG(2))))","v":0},null,121,{"$f":"COUNTIF(L36:L45,AI9)","v":0},{"$f":"AJ9/(AL4-AJ11)","v":0},{"$f":"IF(AK9=0,0,(AK9*((LOG(AK9))/LOG(2))))","v":0},null,121,{"$f":"COUNTIF(L46:L55,AN9)","v":0},{"$f":"AO9/(AQ4-AO11)","v":0},{"$f":"IF(AP9=0,0,(AP9*((LOG(AP9))/LOG(2))))","v":0},null,121,{"$f":"COUNTIF(L56:L65,AS9)","v":0},{"$f":"AT9/(AV4-AT11)","v":0},{"$f":"IF(AU9=0,0,(AU9*((LOG(AU9))/LOG(2))))","v":0}]
[21,348,11,355,11,361,null,null,null,null,0,211,null,122,0,0,0,null,null,122,{"$f":"COUNTIF(L7:L16,T10)","v":0},{"$f":"U10/(W4-U11)","v":0},{"$f":"IF(V10=0,0,(V10*((LOG(V10))/LOG(2))))","v":0},null,122,{"$f":"COUNTIF(L17:L26,Y10)","v":0},{"$f":"Z10/(AB4-Z11)","v":0},{"$f":"IF(AA10=0,0,(AA10*((LOG(AA10))/LOG(2))))","v":0},null,122,{"$f":"COUNTIF(L27:L35,AD10)","v":0},{"$f":"AE10/(AG4-AE11)","v":0},{"$f":"IF(AF10=0,0,(AF10*((LOG(AF10))/LOG(2))))","v":0},null,122,{"$f":"COUNTIF(L36:L45,AI10)","v":0},{"$f":"AJ10/(AL4-AJ11)","v":0},{"$f":"IF(AK10=0,0,(AK10*((LOG(AK10))/LOG(2))))","v":0},null,122,{"$f":"COUNTIF(L46:L55,AN10)","v":0},{"$f":"AO10/(AQ4-AO11)","v":0},{"$f":"IF(AP10=0,0,(AP10*((LOG(AP10))/LOG(2))))","v":0},null,122,{"$f":"COUNTIF(L56:L65,AS10)","v":0},{"$f":"AT10/(AV4-AT11)","v":0},{"$f":"IF(AU10=0,0,(AU10*((LOG(AU10))/LOG(2))))","v":0}]
[12,463,13,466,13,475,null,null,null,null,0,111,null,211,39,0.66101694915254239,-0.39478631168617156,null,null,211,{"$f":"COUNTIF(L7:L16,T11)","v":5},null,null,null,211,{"$f":"COUNTIF(L17:L26,Y11)","v":7},null,null,null,211,{"$f":"COUNTIF(L27:L35,AD11)","v":6},null,null,null,211,{"$f":"COUNTIF(L36:L45,AI11)","v":7},null,null,null,211,{"$f":"COUNTIF(L46:L55,AN11)","v":6},null,null,null,211,{"$f":"COUNTIF(L56:L65,AS11)","v":8}]
[21,570,11,579,11,584,null,null,null,null,0,211,null,212,0,0,0,null,null,212,{"$f":"COUNTIF(L7:L16,T12)","v":0},{"$f":"U12/(W4-U11)","v":0},{"$f":"IF(V12=0,0,(V12*((LOG(V12))/LOG(2))))","v":0},null,212,{"$f":"COUNTIF(L17:L26,Y12)","v":0},{"$f":"Z12/(AB4-Z11)","v":0},{"$f":"IF(AA12=0,0,(AA12*((LOG(AA12))/LOG(2))))","v":0},null,212,{"$f":"COUNTIF(L27:L35,AD12)","v":0},{"$f":"AE12/(AG4-AE11)","v":0},{"$f":"IF(AF12=0,0,(AF12*((LOG(AF12))/LOG(2))))","v":0},null,212,{"$f":"COUNTIF(L36:L45,AI12)","v":0},{"$f":"AJ12/(AL4-AJ11)","v":0},{"$f":"IF(AK12=0,0,(AK12*((LOG(AK12))/LOG(2))))","v":0},null,212,{"$f":"COUNTIF(L46:L55,AN12)","v":0},{"$f":"AO12/(AQ4-AO11)","v":0},{"$f":"IF(AP12=0,0,(AP12*((LOG(AP12))/LOG(2))))","v":0},null,212,{"$f":"COUNTIF(L56:L65,AS12)","v":0},{"$f":"AT12/(AV4-AT11)","v":0},{"$f":"IF(AU12=0,0,(AU12*((LOG(AU12))/LOG(2))))","v":0}]
[21,676,22,679,13,687,null,null,null,null,0,221,null,221,2,3.3898305084745763E-2,-0.16551332370718108,null,null,221,{"$f":"COUNTIF(L7:L16,T13)","v":1},{"$f":"U13/(W4-U11)","v":0.2},{"$f":"IF(V13=0,0,(V13*((LOG(V13))/LOG(2))))","v":-0.46438561897747244},null,221,{"$f":"COUNTIF(L17:L26,Y13)","v":0},{"$f":"Z13/(AB4-Z11)","v":0},{"$f":"IF(AA13=0,0,(AA13*((LOG(AA13))/LOG(2))))","v":0},null,221,{"$f":"COUNTIF(L27:L35,AD13)","v":0},{"$f":"AE13/(AG4-AE11)","v":0},{"$f":"IF(AF13=0,0,(AF13*((LOG(AF13))/LOG(2))))","v":0},null,221,{"$f":"COUNTIF(L36:L45,AI13)","v":0},{"$f":"AJ13/(AL4-AJ11)","v":0},{"$f":"IF(AK13=0,0,(AK13*((LOG(AK13))/LOG(2))))","v":0},null,221,{"$f":"COUNTIF(L46:L55,AN13)","v":1},{"$f":"AO13/(AQ4-AO11)","v":0.25},{"$f":"IF(AP13=0,0,(AP13*((LOG(AP13))/LOG(2))))","v":-0.5},null,221,{"$f":"COUNTIF(L56:L65,AS13)","v":0},{"$f":"AT13/(AV4-AT11)","v":0},{"$f":"IF(AU13=0,0,(AU13*((LOG(AU13))/LOG(2))))","v":0}]
[21,777,11,785,11,789,null,null,null,null,0,211,null,222,0,0,0,null,null,222,{"$f":"COUNTIF(L7:L16,T14)","v":0},{"$f":"U14/(W4-U11)","v":0},{"$f":"IF(V14=0,0,(V14*((LOG(V14))/LOG(2))))","v":0},null,222,{"$f":"COUNTIF(L17:L26,Y14)","v":0},{"$f":"Z14/(AB4-Z11)","v":0},{"$f":"IF(AA14=0,0,(AA14*((LOG(AA14))/LOG(2))))","v":0},null,222,{"$f":"COUNTIF(L27:L35,AD14)","v":0},{"$f":"AE14/(AG4-AE11)","v":0},{"$f":"IF(AF14=0,0,(AF14*((LOG(AF14))/LOG(2))))","v":0},null,222,{"$f":"COUNTIF(L36:L45,AI14)","v":0},{"$f":"AJ14/(AL4-AJ11)","v":0},{"$f":"IF(AK14=0,0,(AK14*((LOG(AK14))/LOG(2))))","v":0},null,222,{"$f":"COUNTIF(L46:L55,AN14)","v":0},{"$f":"AO14/(AQ4-AO11)","v":0},{"$f":"IF(AP14=0,0,(AP14*((LOG(AP14))/LOG(2))))","v":0},null,222,{"$f":"COUNTIF(L56:L65,AS14)","v":0},{"$f":"AT14/(AV4-AT11)","v":0},{"$f":"IF(AU14=0,0,(AU14*((LOG(AU14))/LOG(2))))","v":0}]
[21,881,11,889,11,901,null,null,null,null,0,211,null,null,null,{"$f":"SUM(P7:P14)","v":1},{"$f":"-SUM(Q7:Q14)","v":1.0828237856060903},null,null,null,null,{"$f":"SUM(V7:V14)","v":1},{"$f":"-SUM(W7:W14)","v":0.72192809488736231},null,null,null,{"$f":"SUM(AA7:AA14)","v":1},{"$f":"-SUM(AB7:AB14)","v":0},null,null,null,{"$f":"SUM(AF7:AF14)","v":1},{"$f":"-SUM(AG7:AG14)","v":0},null,null,null,{"$f":"SUM(AK7:AK14)","v":1},{"$f":"-SUM(AL7:AL14)","v":0},null,null,null,{"$f":"SUM(AP7:AP14)","v":1},{"$f":"-SUM(AQ7:AQ14)","v":0.81127812445913283},null,null,null,{"$f":"SUM(AU7:AU14)","v":1},{"$f":"-SUM(AV7:AV14)","v":0}]
[21,994,11,1001,11,1007,null,null,null,null,0,211,null,null,null,"U=",{"$f":"Q15/(LOG(Q4)/LOG(2))","v":0.18407096546909416},null,null,null,null,"U1=",{"$f":"W15/(LOG(W4)/LOG(2))","v":0.21732201127364889},null,null,null,"U2=",{"$f":"AB15/(LOG(AB4)/LOG(2))","v":0},null,null,null,"U3=",{"$f":"AG15/(LOG(AG4)/LOG(2))","v":0},null,null,null,"U4=",{"$f":"AL15/(LOG(AL4)/LOG(2))","v":0},null,null,null,"U5=",{"$f":"AQ15/(LOG(AQ4)/LOG(2))","v":0.24421905028821556},null,null,null,"U6=",{"$f":"AV15/(LOG(AV4)/LOG(2))","v":0}]
[21,1100,11,1108,11,1119,null,null,null,null,0,211]
[12,1216,13,1222,13,1233,null,null,null,null,0,111]
[21,1329,11,1336,11,1340,null,null,null,null,0,211,null,"Total Target Seq"]
[21,1446,11,1454,11,1457,null,null,null,null,0,211,null,{"$f":"COUNTIF(L7:L65,G3)","v":39},null,10,10,9,10,10,10]
[21,1557,11,1565,11,1570,null,null,null,null,0,211,null,null,null,"% of reinforcement given in 6 equal intervals based on number of trials "]
[12,1674,13,1679,13,1691,null,null,null,null,0,111,null,null,null,"%_1","%_2","%_3","%_4","%_5","%_6"]
[21,1787,11,1794,11,1797,null,null,null,null,0,211,null,null,"target sequence",{"$f":"$G$3","v":211},211,211,211,211,211]
[12,1904,13,1912,13,1919,null,null,null,null,0,111,null,null,"total reinforcement",{"$f":"U11","v":5},{"$f":"Z11","v":7},{"$f":"AE11","v":6},{"$f":"AJ11","v":7},{"$f":"AO11","v":6},{"$f":"AT11","v":8}]
[21,2025,11,2031,11,2034,null,null,null,null,0,211,null,null,"% target"]
[21,2130,11,2138,11,2142,null,null,null,null,0,211,null,null,"CCRF"]
[12,2244,13,2254,13,2262,null,null,null,null,0,111,null,null,"% CCRf"]
[21,2357,11,2365,11,2375,null,null,null,null,0,211,null,null,"average response rate",{"$f":"F16/P20","v":100.7},{"$f":"(F26-F16)/Q20","v":113.5},{"$f":"(F35-F26)/R20","v":113.88888888888889},{"$f":"(F45-F35)/S20","v":117.6},{"$f":"(F55-F45)/T20","v":114.3},{"$f":"(F65-F55)/U20","v":113.6}]
[21,2468,11,2476,11,2489,null,null,null,null,0,211]
[21,2583,11,2592,11,2598,null,null,null,null,0,211]
[12,2691,13,2695,13,2699,null,null,null,null,0,111]
[21,2794,11,2802,11,2806,null,null,null,null,0,211]
[21,2907,11,2923,11,2928,null,null,null,null,0,211]
[21,3042,11,3050,11,3052,null,null,null,null,0,211]
[12,3152,13,3155,13,3167,null,null,null,null,0,111]
[12,3271,13,3277,13,3281,null,null,null,null,0,111]
[21,3377,11,3383,11,3389,null,null,null,null,0,211]
[21,3500,11,3507,11,3510,null,null,null,null,0,211]
[21,3606,11,3613,11,3616,null,null,null,null,0,211]
[21,3710,11,3718,11,3721,null,null,null,null,0,211]
[12,3885,13,3890,13,3899,null,null,null,null,0,111]
[21,3996,11,4004,11,4008,null,null,null,null,0,211]
[12,4123,13,4127,13,4132,null,null,null,null,0,111]
[21,4227,11,4233,11,4238,null,null,null,null,0,211]
[21,4333,11,4339,11,4343,null,null,null,null,0,211]
[12,4447,13,4454,13,4461,null,null,null,null,0,111]
[21,4558,11,4565,11,4568,null,null,null,null,0,211]
[21,4667,11,4675,11,4680,null,null,null,null,0,211]
[12,4802,13,4805,13,4813,null,null,null,null,0,111]
[21,4907,11,4913,11,4917,null,null,null,null,0,211]
[21,5012,11,5019,11,5023,null,null,null,null,0,211]
[12,5141,13,5149,13,5156,null,null,null,null,0,111]
[21,5249,22,5252,13,5258,null,null,null,null,0,221]
[21,5354,11,5360,11,5364,null,null,null,null,0,211]
[21,5470,11,5479,11,5486,null,null,null,null,0,211]
[21,5587,11,5597,11,5605,null,null,null,null,0,211]
[21,5697,11,5708,11,5725,null,null,null,null,0,211]
[12,5826,13,5832,13,5837,null,null,null,null,0,111]
[21,5935,11,5943,11,5951,null,null,null,null,0,211]
[21,6046,11,6053,11,6057,null,null,null,null,0,211]
[21,6161,11,6169,11,6171,null,null,null,null,0,211]
[21,6265,11,6275,11,6282,null,null,null,null,0,211]
[21,6378,11,6388,11,6395,null,null,null,null,0,211]
[12,6501,13,6506,13,6518,null,null,null,null,0,111]
[21,6612,11,6619,11,6622,null,null,null,null,1,211]

{"sheet":"!N30494T.AYL","index":32,"n_rows":74,"n_cols":48,"rows_kept":74,"cut":false,"hidden":false,"merged":[[1,1,1,2],[5,13,5,14],[18,13,18,14],[19,13,19,14],[4,19,4,22],[5,19,5,20],[4,39,4,42],[5,39,5,40],[4,44,4,47],[5,44,5,45],[4,24,4,27],[5,24,5,25],[4,29,4,32],[5,29,5,30],[4,34,4,37],[5,34,5,35]]}
["Report for:!N30494T.AYL"]
["Date:","<date>"]
["Hen:","<hen>",null,null,null,"Correct Sequence",{"$f":"Start!J2","v":211},null,null,null,null,null,null,null,null,"Total Sequences in Data",{"$f":"4994-COUNTBLANK(L7:L5000)","v":68},null,null,null,null,"Total Sequences in Block Data",{"$f":"COUNTA(L7:L17)","v":11},null,null,null,"Total Sequences in Block Data",{"$f":"COUNTA(L18:L29)","v":12},null,null,null,"Total Sequences in Block Data",{"$f":"COUNTA(L30:L40)","v":11},null,null,null,"Total Sequences in Block Data",{"$f":"COUNTA(L41:L51)","v":11},null,null,null,"Total Sequences in Block Data",{"$f":"COUNTA(L52:L63)","v":12},null,null,null,"Total Sequences in Block Data",{"$f":"COUNTA(L64:L74)","v":11}]
[null,null,null,null,null,null,null,null,null,null,null,null,null,null,null,"Total Sequences in Summary",{"$f":"SUM(O7:O14)","v":68},null,null,null,null,"Total Sequences in Block Summary",{"$f":"SUM(U7:U14)","v":11},null,null,null,"Total Sequences in Block Summary",{"$f":"SUM(Z7:Z14)","v":12},null,null,null,"Total Sequences in Block Summary",{"$f":"SUM(AE7:AE14)","v":11},null,null,null,"Total Sequences in Block Summary",{"$f":"SUM(AJ7:AJ14)","v":11},null,null,null,"Total Sequences in Block Summary",{"$f":"SUM(AO7:AO14)","v":12},null,null,null,"Total Sequences in Block Summary",{"$f":"SUM(AT7:AT14)","v":11}]
[null,null,null,null,null,null,null,null,null,null,null,null,null,null,null,null,null,null,null,"Block 1",null,null,null,null,"Block 2",null,null,null,null,"Block 3",null,null,null,null,"Block 4",null,null,null,null,"Block 5",null,null,null,null,"Block 6"]
["Sequence\nComponent\n1","Time\n1","Sequence\nComponent\n2","Time\n2","Sequence\nComponent\n3","Time\n3","Sequence\nComponent\n4","Time\n4","Sequence\nComponent\n5","Time\n5","Correct?\n0=No 1=Yes","Sequence",null,"Frequency",null,"Relative Frequency","Variability",null,null,"Frequency",null,"Relative Frequency","Variability",null,"Frequency",null,"Relative Frequency","Variability",null,"Frequency",null,"Relative Frequency","Variability",null,"Frequency",null,"Relative Frequency","Variability",null,"Frequency",null,"Relative Frequency","Variability",null,"Frequency",null,"Relative Frequency","Variability"]
[12,14,13,17,13,24,null,null,null,null,0,111,null,111,{"$f":"COUNTIF($L$7:$L$500,N7)","v":28},{"$f":"O7/$Q$4","v":0.41176470588235292},{"$f":"IF(P7=0,0,(P7*((LOG(P7))/LOG(2))))","v":-0.52710326084406744},null,null,{"$f":"N7","v":111},{"$f":"COUNTIF(L7:L17,T7)","v":9},{"$f":"U7/(W4-U11)","v":1},{"$f":"IF(V7=0,0,(V7*((LOG(V7))/LOG(2))))","v":0},null,{"$f":"N7","v":111},{"$f":"COUNTIF(L18:L29,Y7)","v":4},{"$f":"Z7/(AB4-Z11)","v":0.8},{"$f":"IF(AA7=0,0,(AA7*((LOG(AA7))/LOG(2))))","v":-0.25754247590988982},null,{"$f":"N7","v":111},{"$f":"COUNTIF(L30:L40,AD7)","v":6},{"$f":"AE7/(AG4-AE11)","v":1},{"$f":"IF(AF7=0,0,(AF7*((LOG(AF7))/LOG(2))))","v":0},null,{"$f":"N7","v":111},{"$f":"COUNTIF(L41:L51,AI7)","v":4},{"$f":"AJ7/(AL4-AJ11)","v":0.8},{"$f":"IF(AK7=0,0,(AK7*((LOG(AK7))/LOG(2))))","v":-0.25754247590988982},null,{"$f":"N7","v":111},{"$f":"COUNTIF(L52:L63,AN7)","v":4},{"$f":"AO7/(AQ4-AO11)","v":0.8},{"$f":"IF(AP7=0,0,(AP7*((LOG(AP7))/LOG(2))))","v":-0.25754247590988982},null,{"$f":"N7","v":111},{"$f":"COUNTIF(L64:L74,AS7)","v":1},{"$f":"AT7/(AV4-AT11)","v":1},{"$f":"IF(AU7=0,0,(AU7*((LOG(AU7))/LOG(2))))","v":0}]
[12,126,13,130,13,138,null,null,null,null,0,111,null,112,0,0,0,null,null,112,{"$f":"COUNTIF(L7:L17,T8)","v":0},{"$f":"U8/(W4-U11)","v":0},{"$f":"IF(V8=0,0,(V8*((LOG(V8))/LOG(2))))","v":0},null,112,{"$f":"COUNTIF(L18:L29,Y8)","v":0},{"$f":"Z8/(AB4-Z11)","v":0},{"$f":"IF(AA8=0,0,(AA8*((LOG(AA8))/LOG(2))))","v":0},null,112,{"$f":"COUNTIF(L30:L40,AD8)","v":0},{"$f":"AE8/(AG4-AE11)","v":0},{"$f":"IF(AF8=0,0,(AF8*((LOG(AF8))/LOG(2))))","v":0},null,112,{"$f":"COUNTIF(L41:L51,AI8)","v":0},{"$f":"AJ8/(AL4-AJ11)","v":0},{"$f":"IF(AK8=0,0,(AK8*((LOG(AK8))/LOG(2))))","v":0},null,112,{"$f":"COUNTIF(L52:L63,AN8)","v":0},{"$f":"AO8/(AQ4-AO11)","v":0},{"$f":"IF(AP8=0,0,(AP8*((LOG(AP8))/LOG(2))))","v":0},null,112,{"$f":"COUNTIF(L64:L74,AS8)","v":0},{"$f":"AT8/(AV4-AT11)","v":0},{"$f":"IF(AU8=0,0,(AU8*((LOG(AU8))/LOG(2))))","v":0}]
[21,233,11,240,11,243,null,null,null,null,0,211,null,121,0,0,0,null,null,121,{"$f":"COUNTIF(L7:L17,T9)","v":0},{"$f":"U9/(W4-U11)","v":0},{"$f":"IF(V9=0,0,(V9*((LOG(V9))/LOG(2))))","v":0},null,121,{"$f":"COUNTIF(L18:L29,Y9)","v":0},{"$f":"Z9/(AB4-Z11)","v":0},{"$f":"IF(AA9=0,0,(AA9*((LOG(AA9))/LOG(2))))","v":0},null,121,{"$f":"COUNTIF(L30:L40,AD9)","v":0},{"$f":"AE9/(AG4-AE11)","v":0},{"$f":"IF(AF9=0,0,(AF9*((LOG(AF9))/LOG(2))))","v":0},null,121,{"$f":"COUNTIF(L41:L51,AI9)","v":0},{"$f":"AJ9/(AL4-AJ11)","v":0},{"$f":"IF(AK9=0,0,(AK9*((LOG(AK9))/LOG(2))))","v":0},null,121,{"$f":"COUNTIF(L52:L63,AN9)","v":0},{"$f":"AO9/(AQ4-AO11)","v":0},{"$f":"IF(AP9=0,0,(AP9*((LOG(AP9))/LOG(2))))","v":0},null,121,{"$f":"COUNTIF(L64:L74,AS9)","v":0},{"$f":"AT9/(AV4-AT11)","v":0},{"$f":"IF(AU9=0,0,(AU9*((LOG(AU9))/LOG(2))))","v":0}]
[12,362,13,367,13,374,null,null,null,null,0,111,null,122,0,0,0,null,null,122,{"$f":"COUNTIF(L7:L17,T10)","v":0},{"$f":"U10/(W4-U11)","v":0},{"$f":"IF(V10=0,0,(V10*((LOG(V10))/LOG(2))))","v":0},null,122,{"$f":"COUNTIF(L18:L29,Y10)","v":0},{"$f":"Z10/(AB4-Z11)","v":0},{"$f":"IF(AA10=0,0,(AA10*((LOG(AA10))/LOG(2))))","v":0},null,122,{"$f":"COUNTIF(L30:L40,AD10)","v":0},{"$f":"AE10/(AG4-AE11)","v":0},{"$f":"IF(AF10=0,0,(AF10*((LOG(AF10))/LOG(2))))","v":0},null,122,{"$f":"COUNTIF(L41:L51,AI10)","v":0},{"$f":"AJ10/(AL4-AJ11)","v":0},{"$f":"IF(AK10=0,0,(AK10*((LOG(AK10))/LOG(2))))","v":0},null,122,{"$f":"COUNTIF(L52:L63,AN10)","v":0},{"$f":"AO10/(AQ4-AO11)","v":0},{"$f":"IF(AP10=0,0,(AP10*((LOG(AP10))/LOG(2))))","v":0},null,122,{"$f":"COUNTIF(L64:L74,AS10)","v":0},{"$f":"AT10/(AV4-AT11)","v":0},{"$f":"IF(AU10=0,0,(AU10*((LOG(AU10))/LOG(2))))","v":0}]
[12,509,13,511,13,517,null,null,null,null,0,111,null,211,37,0.54411764705882348,-0.47774044997046206,null,null,211,{"$f":"COUNTIF(L7:L17,T11)","v":2},null,null,null,211,{"$f":"COUNTIF(L18:L29,Y11)","v":7},null,null,null,211,{"$f":"COUNTIF(L30:L40,AD11)","v":5},null,null,null,211,{"$f":"COUNTIF(L41:L51,AI11)","v":6},null,null,null,211,{"$f":"COUNTIF(L52:L63,AN11)","v":7},null,null,null,211,{"$f":"COUNTIF(L64:L74,AS11)","v":10}]
[12,621,13,623,13,632,null,null,null,null,0,111,null,212,0,0,0,null,null,212,{"$f":"COUNTIF(L7:L17,T12)","v":0},{"$f":"U12/(W4-U11)","v":0},{"$f":"IF(V12=0,0,(V12*((LOG(V12))/LOG(2))))","v":0},null,212,{"$f":"COUNTIF(L18:L29,Y12)","v":0},{"$f":"Z12/(AB4-Z11)","v":0},{"$f":"IF(AA12=0,0,(AA12*((LOG(AA12))/LOG(2))))","v":0},null,212,{"$f":"COUNTIF(L30:L40,AD12)","v":0},{"$f":"AE12/(AG4-AE11)","v":0},{"$f":"IF(AF12=0,0,(AF12*((LOG(AF12))/LOG(2))))","v":0},null,212,{"$f":"COUNTIF(L41:L51,AI12)","v":0},{"$f":"AJ12/(AL4-AJ11)","v":0},{"$f":"IF(AK12=0,0,(AK12*((LOG(AK12))/LOG(2))))","v":0},null,212,{"$f":"COUNTIF(L52:L63,AN12)","v":0},{"$f":"AO12/(AQ4-AO11)","v":0},{"$f":"IF(AP12=0,0,(AP12*((LOG(AP12))/LOG(2))))","v":0},null,212,{"$f":"COUNTIF(L64:L74,AS12)","v":0},{"$f":"AT12/(AV4-AT11)","v":0},{"$f":"IF(AU12=0,0,(AU12*((LOG(AU12))/LOG(2))))","v":0}]
[12,735,13,738,13,748,null,null,null,null,0,111,null,221,3,4.4117647058823532E-2,-0.19863972090569926,null,null,221,{"$f":"COUNTIF(L7:L17,T13)","v":0},{"$f":"U13/(W4-U11)","v":0},{"$f":"IF(V13=0,0,(V13*((LOG(V13))/LOG(2))))","v":0},null,221,{"$f":"COUNTIF(L18:L29,Y13)","v":1},{"$f":"Z13/(AB4-Z11)","v":0.2},{"$f":"IF(AA13=0,0,(AA13*((LOG(AA13))/LOG(2))))","v":-0.46438561897747244},null,221,{"$f":"COUNTIF(L30:L40,AD13)","v":0},{"$f":"AE13/(AG4-AE11)","v":0},{"$f":"IF(AF13=0,0,(AF13*((LOG(AF13))/LOG(2))))","v":0},null,221,{"$f":"COUNTIF(L41:L51,AI13)","v":1},{"$f":"AJ13/(AL4-AJ11)","v":0.2},{"$f":"IF(AK13=0,0,(AK13*((LOG(AK13))/LOG(2))))","v":-0.46438561897747244},null,221,{"$f":"COUNTIF(L52:L63,AN13)","v":1},{"$f":"AO13/(AQ4-AO11)","v":0.2},{"$f":"IF(AP13=0,0,(AP13*((LOG(AP13))/LOG(2))))","v":-0.46438561897747244},null,221,{"$f":"COUNTIF(L64:L74,AS13)","v":0},{"$f":"AT13/(AV4-AT11)","v":0},{"$f":"IF(AU13=0,0,(AU13*((LOG(AU13))/LOG(2))))","v":0}]
[12,853,13,856,13,884,null,null,null,null,0,111,null,222,0,0,0,null,null,222,{"$f":"COUNTIF(L7:L17,T14)","v":0},{"$f":"U14/(W4-U11)","v":0},{"$f":"IF(V14=0,0,(V14*((LOG(V14))/LOG(2))))","v":0},null,222,{"$f":"COUNTIF(L18:L29,Y14)","v":0},{"$f":"Z14/(AB4-Z11)","v":0},{"$f":"IF(AA14=0,0,(AA14*((LOG(AA14))/LOG(2))))","v":0},null,222,{"$f":"COUNTIF(L30:L40,AD14)","v":0},{"$f":"AE14/(AG4-AE11)","v":0},{"$f":"IF(AF14=0,0,(AF14*((LOG(AF14))/LOG(2))))","v":0},null,222,{"$f":"COUNTIF(L41:L51,AI14)","v":0},{"$f":"AJ14/(AL4-AJ11)","v":0},{"$f":"IF(AK14=0,0,(AK14*((LOG(AK14))/LOG(2))))","v":0},null,222,{"$f":"COUNTIF(L52:L63,AN14)","v":0},{"$f":"AO14/(AQ4-AO11)","v":0},{"$f":"IF(AP14=0,0,(AP14*((LOG(AP14))/LOG(2))))","v":0},null,222,{"$f":"COUNTIF(L64:L74,AS14)","v":0},{"$f":"AT14/(AV4-AT11)","v":0},{"$f":"IF(AU14=0,0,(AU14*((LOG(AU14))/LOG(2))))","v":0}]
[12,986,13,990,13,1002,null,null,null,null,0,111,null,null,null,{"$f":"SUM(P7:P14)","v":0.99999999999999989},{"$f":"-SUM(Q7:Q14)","v":1.2034834317202288},null,null,null,null,{"$f":"SUM(V7:V14)","v":1},{"$f":"-SUM(W7:W14)","v":0},null,null,null,{"$f":"SUM(AA7:AA14)","v":1},{"$f":"-SUM(AB7:AB14)","v":0.72192809488736231},null,null,null,{"$f":"SUM(AF7:AF14)","v":1},{"$f":"-SUM(AG7:AG14)","v":0},null,null,null,{"$f":"SUM(AK7:AK14)","v":1},{"$f":"-SUM(AL7:AL14)","v":0.72192809488736231},null,null,null,{"$f":"SUM(AP7:AP14)","v":1},{"$f":"-SUM(AQ7:AQ14)","v":0.72192809488736231},null,null,null,{"$f":"SUM(AU7:AU14)","v":1},{"$f":"-SUM(AV7:AV14)","v":0}]
[21,1097,11,1103,11,1106,null,null,null,null,0,211,null,null,null,"U=",{"$f":"Q15/(LOG(Q4)/LOG(2))","v":0.19769869042404506},null,null,null,null,"U1=",{"$f":"W15/(LOG(W4)/LOG(2))","v":0},null,null,null,"U2=",{"$f":"AB15/(LOG(AB4)/LOG(2))","v":0.20137674933618921},null,null,null,"U3=",{"$f":"AG15/(LOG(AG4)/LOG(2))","v":0},null,null,null,"U4=",{"$f":"AL15/(LOG(AL4)/LOG(2))","v":0.20868401936261902},null,null,null,"U5=",{"$f":"AQ15/(LOG(AQ4)/LOG(2))","v":0.20137674933618921},null,null,null,"U6=",{"$f":"AV15/(LOG(AV4)/LOG(2))","v":0}]
[12,1241,13,1251,13,1258,null,null,null,null,0,111]
[12,1360,13,1369,13,1379,null,null,null,null,0,111]
[21,1475,22,1477,13,1484,null,null,null,null,0,221,null,"Total Target Seq"]
[21,1584,11,1592,11,1595,null,null,null,null,0,211,null,{"$f":"COUNTIF(L7:L74,G3)","v":37},null,11,12,11,11,12,11]
[12,1730,13,1736,13,1742,null,null,null,null,0,111,null,null,null,"% of reinforcement given in 6 equal intervals based on number of trials "]
[12,1849,13,1852,13,1855,null,null,null,null,0,111,null,null,null,"%_1","%_2","%_3","%_4","%_5","%_6"]
[21,1950,11,1956,11,1959,null,null,null,null,0,211,null,null,"target sequence",{"$f":"$G$3","v":211},211,211,211,211,211]
[21,2058,11,2068,11,2076,null,null,null,null,0,211,null,null,"total reinforcement",{"$f":"U11","v":2},{"$f":"Z11","v":7},{"$f":"AE11","v":5},{"$f":"AJ11","v":6},{"$f":"AO11","v":7},{"$f":"AT11","v":10}]
[21,2190,11,2197,11,2201,null,null,null,null,0,211,null,null,"% target"]
[12,2327,13,2330,13,2337,null,null,null,null,0,111,null,null,"CCRF"]
[21,2431,11,2437,11,2441,null,null,null,null,0,211,null,null,"% CCRf"]
[21,2541,11,2549,11,2552,null,null,null,null,0,211,null,null,"average response rate",{"$f":"F17/P20","v":114.36363636363636},{"$f":"(F29-F17)/Q20","v":118.83333333333333},{"$f":"(F40-F29)/R20","v":116.90909090909091},{"$f":"(F51-F40)/S20","v":136.36363636363637},{"$f":"(F63-F51)/T20","v":122.91666666666667},{"$f":"(F74-F63)/U20","v":139.63636363636363}]
[21,2664,11,2674,11,2684,null,null,null,null,0,211]
[21,2783,11,2790,11,2794,null,null,null,null,0,211]
[12,2899,13,2915,13,2925,null,null,null,null,0,111]
[12,3033,13,3038,13,3046,null,null,null,null,0,111]
[12,3152,13,3155,13,3165,null,null,null,null,0,111]
[12,3268,13,3271,13,3284,null,null,null,null,0,111]
[21,3391,11,3400,11,3404,null,null,null,null,0,211]
[12,3505,13,3510,13,3525,null,null,null,null,0,111]
[21,3621,11,3628,11,3640,null,null,null,null,0,211]
[21,3738,11,3745,11,3748,null,null,null,null,0,211]
[21,3841,11,3848,11,3852,null,null,null,null,0,211]
[12,3957,13,3960,13,3970,null,null,null,null,0,111]
[21,4066,22,4068,13,4074,null,null,null,null,0,221]
[21,4171,11,4179,11,4187,null,null,null,null,0,211]
[21,4294,11,4303,11,4310,null,null,null,null,0,211]
[12,4469,13,4471,13,4477,null,null,null,null,0,111]
[21,4574,11,4582,11,4586,null,null,null,null,0,211]
[21,4724,11,4739,11,4744,null,null,null,null,0,211]
[21,4875,11,4883,11,4886,null,null,null,null,0,211]
[12,5105,13,5113,13,5120,null,null,null,null,0,111]
[21,5213,11,5221,11,5227,null,null,null,null,0,211]
[12,5336,13,5339,13,5346,null,null,null,null,0,111]
[12,5457,13,5465,13,5470,null,null,null,null,0,111]
[12,5572,13,5575,13,5583,null,null,null,null,0,111]
[12,5684,13,5688,13,5696,null,null,null,null,0,111]
[21,5792,11,5800,11,5809,null,null,null,null,0,211]
[21,5932,11,5941,11,5944,null,null,null,null,0,211]
[21,6043,11,6053,11,6063,null,null,null,null,0,211]
[21,6190,11,6201,11,6206,null,null,null,null,0,211]
[12,6334,13,6340,13,6343,null,null,null,null,0,111]
[21,6440,11,6448,11,6465,null,null,null,null,0,211]
[21,6575,11,6590,11,6596,null,null,null,null,0,211]
[12,6703,13,6706,13,6713,null,null,null,null,0,111]
[21,6832,22,6834,13,6841,null,null,null,null,0,221]
[21,6933,11,6941,11,6945,null,null,null,null,0,211]
[21,7064,11,7075,11,7082,null,null,null,null,0,211]
[12,7208,13,7216,13,7222,null,null,null,null,0,111]
[21,7319,11,7327,11,7336,null,null,null,null,0,211]
[21,7491,11,7504,11,7510,null,null,null,null,0,211]
[21,7604,11,7613,11,7619,null,null,null,null,0,211]
[21,7772,11,7780,11,7789,null,null,null,null,0,211]
[21,7913,11,7928,11,7934,null,null,null,null,0,211]
[21,8030,11,8041,11,8045,null,null,null,null,0,211]
[21,8146,11,8156,11,8164,null,null,null,null,0,211]
[21,8305,11,8316,11,8327,null,null,null,null,0,211]
[21,8462,11,8477,11,8481,null,null,null,null,1,211]