{"text_format":"1","workbook":"xlsx","n_sheets":40,"sheets":["Sample Report","Summary","Start","!MB0895I.sha","!MB0990I.sha","!MB10A2I.sha","!MB11B1I.sha","!MB12A2I.sha","!MB1391I.sha","!MB14A5I.sha","!MB15A0I.sha","!MB1691I.sha","!MB1780I.sha","!MB1893I.sha","!MB19A3I.sha","!MB2091I.sha","!MB21A4I.sha","!MB2392I.sha","!MB24A3I.sha","!MB25A3I.sha","!MB26A2I.sha","!MB2792I.sha","!MB28A0I.sha","!MB2991I.sha","!MB3090I.sha","!MC01A2I.sha","!MC02A1I.sha","!MC0395I.sha","!MC0491I.sha","!MC05A0I.sha","!MC05C1I.sha","!MC06A4I.sha","!MC0790I.sha","!MC0892I.sha","!MC09A2I.sha","!MC1094I.sha","!MC1195I.sha","!MC1293I.sha","!MC1392I.sha","!MC14A1I.sha"],"not_rendered":{"charts":0,"images":0,"macros":1,"external_links":0,"defined_names":0,"comments":0,"pivot_tables":0},"unopened":[],"bounds":{"document_bytes":16777216,"sheet_cells":100000,"rows_first":2000,"rows_last":500,"rows_between":2000,"halvings":0,"cell_chars":16384,"cell_head_chars":4096},"cells_cut":0,"cells_raw":0,"read":"whole","date_system":"1900"}

{"sheet":"Sample Report","index":0,"n_rows":12,"n_cols":11,"rows_kept":12,"cut":false,"hidden":true,"merged":[[7,0,7,6]]}
[]
["Date"]
["Hen"]
["Program"]
["Start at 999999"]
["Sequence component 1","Time 1","Seqeunce Component 2","Time 2","Seqeunce Component 3","Time 3","Correct   0 = No 1=Yes",null,null,"Seqeunce","Time"]
[12,7,12,42,13,18,"if 77 new line,                                  if 31 or 41 = yes new line on 77, ",null,null,"=string of Seqeunce compponent 1, 2 & 3","=time 3"]
["This continues until ther is a 1 on its own to indicate start of summary data"]
[null,null,null,null,null,null,null,null,null,"10-19 =1"]
["Summary Data ",null,null,null,null,null,null,null,null,"20-29 =2"]
["Correct","Incorrect","Rft","total","Av Correct","Av Incorrect","Percent correct","Time",null,"in this example the seqeunce would be 111"]
[40,33,40,73,23.95,15,54,806]

{"sheet":"Summary","index":1,"n_rows":39,"n_cols":24,"rows_kept":39,"cut":false,"hidden":false,"merged":[]}
[]
["Day","Date","Average Response Rate","Target %","RF for non correct sequence","U Value",null,null,null,null,"Block 1","Block 2","Block 3","Block 4","Block 5","Block 6"]
[1,{"$f":"'!MB0895I.sha'!B2:C2","v":"<date>"},{"$f":"('!MB0895I.sha'!F187/60)/'!MB0895I.sha'!Q3","v":2.133609576427256},{"$f":"'!MB0895I.sha'!N20/'!MB0895I.sha'!Q3","v":7.7348066298342538E-2},{"$f":"SUM('!MB0895I.sha'!L20:Q20)/'!MB0895I.sha'!Q3","v":1.6298342541436464},{"$f":"'!MB0895I.sha'!Q16","v":0.33310666558623725},null,null,null,"Average Response Rate",{"$f":"AVERAGE(C3:C7)","v":2.2629831494909807},{"$f":"AVERAGE(C8:C12)","v":2.2068057652985433},{"$f":"AVERAGE(C13:C17)","v":2.2045244448804318},{"$f":"AVERAGE(C18:C22)","v":3.7452267138801796},{"$f":"AVERAGE(C23:C27)","v":3.4803139276011614},{"$f":"AVERAGE(C28:C31)","v":2.3415042374709691}]
[2,{"$f":"'!MB0990I.sha'!B2:C2","v":"<date>"},{"$f":"('!MB0990I.sha'!F173/60)/'!MB0990I.sha'!Q3","v":2.3897205588822352},{"$f":"'!MB0990I.sha'!N20/'!MB0990I.sha'!Q3","v":0.1437125748502994},{"$f":"SUM('!MB0990I.sha'!L20:Q20)/'!MB0990I.sha'!Q3","v":1.2095808383233533},{"$f":"'!MB0990I.sha'!Q16","v":0.35053775750519595},null,null,null,"Target %",{"$f":"AVERAGE(D3:D7)","v":0.15897488416083011},{"$f":"AVERAGE(D8:D12)","v":0.33477436429117102},{"$f":"AVERAGE(D13:D17)","v":0.3453419488281001},{"$f":"AVERAGE(D18:D22)","v":0.35727873886289729},{"$f":"AVERAGE(D23:D27)","v":0.40383210170444206},{"$f":"AVERAGE(D28:D31)","v":0.43550744476698089}]
[3,{"$f":"'!MB10A2I.sha'!B2:C2","v":"<date>"},{"$f":"('!MB10A2I.sha'!F187/60)/'!MB10A2I.sha'!Q3","v":2.2082872928176793},{"$f":"'!MB10A2I.sha'!N20/'!MB10A2I.sha'!Q3","v":0.15469613259668508},{"$f":"SUM('!MB10A2I.sha'!L20:Q20)/'!MB10A2I.sha'!Q3","v":1.7127071823204421},{"$f":"'!MB10A2I.sha'!Q16","v":0.36791576313577129},null,null,null,"CCRF",{"$f":"AVERAGE(E3:E7)","v":1.7178474241451636},{"$f":"AVERAGE(E8:E12)","v":2.0001707842227803},{"$f":"AVERAGE(E13:E17)","v":1.8890044886674175},{"$f":"AVERAGE(E18:E22)","v":2.357838025560798},{"$f":"AVERAGE(E23:E27)","v":2.7648729521069946},{"$f":"AVERAGE(E28:E31)","v":2.4312456821645974}]
[4,{"$f":"'!MB11B1I.sha'!B2:C2","v":"<date>"},{"$f":"('!MB11B1I.sha'!F174/60)/'!MB11B1I.sha'!Q3","v":2.3803571428571426},{"$f":"'!MB11B1I.sha'!N20/'!MB11B1I.sha'!Q3","v":0.125},{"$f":"SUM('!MB11B1I.sha'!L20:Q20)/'!MB11B1I.sha'!Q3","v":1.7797619047619047},{"$f":"'!MB11B1I.sha'!Q16","v":0.33886604671905801},null,null,null,"U Value",{"$f":"AVERAGE(F3:F7)","v":0.34723002906968264},{"$f":"AVERAGE(F8:F12)","v":0.32106728851506389},{"$f":"AVERAGE(F13:F17)","v":0.26572458185703679},{"$f":"AVERAGE(F18:F22)","v":0.32050964253465308},{"$f":"AVERAGE(F23:F27)","v":0.34086362144086058},{"$f":"AVERAGE(F28:F31)","v":0.30165095795299546}]
[5,{"$f":"'!MB12A2I.sha'!B2:C2","v":"<date>"},{"$f":"('!MB12A2I.sha'!F142/60)/'!MB12A2I.sha'!Q3","v":2.2029411764705884},{"$f":"'!MB12A2I.sha'!N20/'!MB12A2I.sha'!Q3","v":0.29411764705882354},{"$f":"SUM('!MB12A2I.sha'!L20:Q20)/'!MB12A2I.sha'!Q3","v":2.2573529411764706},{"$f":"'!MB12A2I.sha'!Q16","v":0.34572391240215078}]
[6,{"$f":"'!MB1391I.sha'!B2:C2","v":"<date>"},{"$f":"('!MB1391I.sha'!F134/60)/'!MB1391I.sha'!Q3","v":2.2139322916666666},{"$f":"'!MB1391I.sha'!N20/'!MB1391I.sha'!Q3","v":0.3125},{"$f":"SUM('!MB1391I.sha'!L20:Q20)/'!MB1391I.sha'!Q3","v":2.3046875},{"$f":"'!MB1391I.sha'!Q16","v":0.35512058100907079}]
[7,{"$f":"'!MB14A5I.sha'!B2:C2","v":"<date>"},{"$f":"('!MB14A5I.sha'!F142/60)/'!MB14A5I.sha'!Q3","v":2.238725490196078},{"$f":"'!MB14A5I.sha'!N20/'!MB14A5I.sha'!Q3","v":0.29411764705882354},{"$f":"SUM('!MB14A5I.sha'!L20:Q20)/'!MB14A5I.sha'!Q3","v":1.4411764705882353},{"$f":"'!MB14A5I.sha'!Q16","v":0.35799449025867935},{"$f":"K3","v":2.2629831494909807},{"$f":"L3","v":2.2068057652985433},2.2045244448804318,3.7452267138801796,3.4803139276011614,2.3415042374709691,{"$f":"K4","v":0.15897488416083011},{"$f":"L4","v":0.33477436429117102},0.3453419488281001,0.35727873886289729,0.40383210170444206,0.43550744476698089,{"$f":"K6","v":0.34723002906968264},{"$f":"L6","v":0.32106728851506389},0.26572458185703679,0.32050964253465308,0.34086362144086058,0.30165095795299546]
[8,{"$f":"'!MB15A0I.sha'!B2:C2","v":"<date>"},{"$f":"('!MB15A0I.sha'!F171/60)/'!MB15A0I.sha'!Q3","v":2.1462626262626263},{"$f":"'!MB15A0I.sha'!N20/'!MB15A0I.sha'!Q3","v":0.24242424242424243},{"$f":"SUM('!MB15A0I.sha'!L20:Q20)/'!MB15A0I.sha'!Q3","v":1.3151515151515152},{"$f":"'!MB15A0I.sha'!Q16","v":0.30138159448131385}]
[9,{"$f":"'!MB1691I.sha'!B2:C2","v":"<date>"},{"$f":"('!MB1691I.sha'!F104/60)/'!MB1691I.sha'!Q3","v":2.1647959183673469},{"$f":"'!MB1691I.sha'!N20/'!MB1691I.sha'!Q3","v":0.40816326530612246},{"$f":"SUM('!MB1691I.sha'!L20:Q20)/'!MB1691I.sha'!Q3","v":1.8877551020408163},{"$f":"'!MB1691I.sha'!Q16","v":0.28265788308789602}]
[10,{"$f":"'!MB1780I.sha'!B2:C2","v":"<date>"},{"$f":"('!MB1780I.sha'!F102/60)/'!MB1780I.sha'!Q3","v":2.2703124999999997},{"$f":"'!MB1780I.sha'!N20/'!MB1780I.sha'!Q3","v":0.41666666666666669},{"$f":"SUM('!MB1780I.sha'!L20:Q20)/'!MB1780I.sha'!Q3","v":3.0520833333333335},{"$f":"'!MB1780I.sha'!Q16","v":0.30818189373835936}]
[11,{"$f":"'!MB1893I.sha'!B2:C2","v":"<date>"},{"$f":"('!MB1893I.sha'!F129/60)/'!MB1893I.sha'!Q3","v":2.1559620596205962},{"$f":"'!MB1893I.sha'!N20/'!MB1893I.sha'!Q3","v":0.32520325203252032},{"$f":"SUM('!MB1893I.sha'!L20:Q20)/'!MB1893I.sha'!Q3","v":1.5691056910569106},{"$f":"'!MB1893I.sha'!Q16","v":0.23007837730168704}]
[12,{"$f":"'!MB19A3I.sha'!B2:C2","v":"<date>"},{"$f":"('!MB19A3I.sha'!F121/60)/'!MB19A3I.sha'!Q3","v":2.1904347826086958},{"$f":"'!MB19A3I.sha'!N20/'!MB19A3I.sha'!Q3","v":0.34782608695652173},{"$f":"SUM('!MB19A3I.sha'!L20:Q20)/'!MB19A3I.sha'!Q3","v":2.6086956521739131},{"$f":"'!MB19A3I.sha'!Q16","v":0.27899399699801436}]
[13,{"$f":"'!MB2091I.sha'!B2:C2","v":"<date>"},{"$f":"('!MB2091I.sha'!F123/60)/'!MB2091I.sha'!Q3","v":2.1575498575498577},{"$f":"'!MB2091I.sha'!N20/'!MB2091I.sha'!Q3","v":0.34188034188034189},{"$f":"SUM('!MB2091I.sha'!L20:Q20)/'!MB2091I.sha'!Q3","v":1.7179487179487178},{"$f":"'!MB2091I.sha'!Q16","v":0.26893944770207928}]
[14,{"$f":"'!MB21A4I.sha'!B2:C2","v":"<date>"},{"$f":"('!MB21A4I.sha'!F115/60)/'!MB21A4I.sha'!Q3","v":2.1428134556574925},{"$f":"'!MB21A4I.sha'!N20/'!MB21A4I.sha'!Q3","v":0.3669724770642202},{"$f":"SUM('!MB21A4I.sha'!L20:Q20)/'!MB21A4I.sha'!Q3","v":1.8165137614678899},{"$f":"'!MB21A4I.sha'!Q16","v":0.26970270825357978}]
[15,{"$f":"'!MB2392I.sha'!B2:C2","v":"<date>"},{"$f":"('!MB2392I.sha'!F122/60)/'!MB2392I.sha'!Q3","v":2.3758620689655174},{"$f":"'!MB2392I.sha'!N20/'!MB2392I.sha'!Q3","v":0.34482758620689657},{"$f":"SUM('!MB2392I.sha'!L20:Q20)/'!MB2392I.sha'!Q3","v":1.7327586206896552},{"$f":"'!MB2392I.sha'!Q16","v":0.28090837902982352}]
[16,{"$f":"'!MB24A3I.sha'!B2:C2","v":"<date>"},{"$f":"('!MB24A3I.sha'!F105/60)/'!MB24A3I.sha'!Q3","v":2.305050505050505},{"$f":"'!MB24A3I.sha'!N20/'!MB24A3I.sha'!Q3","v":0.40404040404040403},{"$f":"SUM('!MB24A3I.sha'!L20:Q20)/'!MB24A3I.sha'!Q3","v":1.9595959595959596},{"$f":"'!MB24A3I.sha'!Q16","v":0.30608313407557874}]
[17,{"$f":"'!MB25A3I.sha'!B2:C2","v":"<date>"},{"$f":"('!MB25A3I.sha'!F97/60)/'!MB25A3I.sha'!Q3","v":2.588827838827839},{"$f":"'!MB25A3I.sha'!N20/'!MB25A3I.sha'!Q3","v":0.43956043956043955},{"$f":"SUM('!MB25A3I.sha'!L20:Q20)/'!MB25A3I.sha'!Q3","v":2.098901098901099},{"$f":"'!MB25A3I.sha'!Q16","v":0.30823169983078297}]
[18,{"$f":"'!MB26A2I.sha'!B2:C2","v":"<date>"},{"$f":"('!MB26A2I.sha'!F107/60)/'!MB26A2I.sha'!Q3","v":2.33003300330033},{"$f":"'!MB26A2I.sha'!N20/'!MB26A2I.sha'!Q3","v":0.39603960396039606},{"$f":"SUM('!MB26A2I.sha'!L20:Q20)/'!MB26A2I.sha'!Q3","v":2.9306930693069306},{"$f":"'!MB26A2I.sha'!Q16","v":0.29251975260260465}]
[19,{"$f":"'!MB2792I.sha'!B2:C2","v":"<date>"},{"$f":"('!MB2792I.sha'!F76/60)/'!MB2792I.sha'!Q3","v":5.4466666666666663},{"$f":"'!MB2792I.sha'!N20/'!MB2792I.sha'!Q3","v":0.22857142857142856},{"$f":"SUM('!MB2792I.sha'!L20:Q20)/'!MB2792I.sha'!Q3","v":2.2999999999999998},{"$f":"'!MB2792I.sha'!Q16","v":0.33146244321656204}]
[20,{"$f":"'!MB28A0I.sha'!B2:C2","v":"<date>"},{"$f":"('!MB28A0I.sha'!F72/60)/'!MB28A0I.sha'!Q3","v":6.0555555555555562},{"$f":"'!MB28A0I.sha'!N20/'!MB28A0I.sha'!Q3","v":0.31818181818181818},{"$f":"SUM('!MB28A0I.sha'!L20:Q20)/'!MB28A0I.sha'!Q3","v":2.5},{"$f":"'!MB28A0I.sha'!Q16","v":0.36425118294773678}]
[21,{"$f":"'!MB2991I.sha'!B2:C2","v":"<date>"},{"$f":"('!MB2991I.sha'!F105/60)/'!MB2991I.sha'!Q3","v":2.3323232323232324},{"$f":"'!MB2991I.sha'!N20/'!MB2991I.sha'!Q3","v":0.40404040404040403},{"$f":"SUM('!MB2991I.sha'!L20:Q20)/'!MB2991I.sha'!Q3","v":1.8686868686868687},{"$f":"'!MB2991I.sha'!Q16","v":0.29984542938091646}]
[22,{"$f":"'!MB3090I.sha'!B2:C2","v":"<date>"},{"$f":"('!MB3090I.sha'!F50/60)/'!MB3090I.sha'!Q3","v":8.4541666666666675},{"$f":"'!MB3090I.sha'!N20/'!MB3090I.sha'!Q3","v":0.27272727272727271},{"$f":"SUM('!MB3090I.sha'!L20:Q20)/'!MB3090I.sha'!Q3","v":5.6363636363636367},{"$f":"'!MB3090I.sha'!Q16","v":0.46428386404834721}]
[23,{"$f":"'!MC01A2I.sha'!B2:C2","v":"<date>"},{"$f":"('!MC01A2I.sha'!F105/60)/'!MC01A2I.sha'!Q3","v":2.1052188552188551},{"$f":"'!MC01A2I.sha'!N20/'!MC01A2I.sha'!Q3","v":0.40404040404040403},{"$f":"SUM('!MC01A2I.sha'!L20:Q20)/'!MC01A2I.sha'!Q3","v":1.8686868686868687},{"$f":"'!MC01A2I.sha'!Q16","v":0.30965005146170388}]
[24,{"$f":"'!MC02A1I.sha'!B2:C2","v":"<date>"},{"$f":"('!MC02A1I.sha'!F84/60)/'!MC02A1I.sha'!Q3","v":2.233974358974359},{"$f":"'!MC02A1I.sha'!N20/'!MC02A1I.sha'!Q3","v":0.51282051282051277},{"$f":"SUM('!MC02A1I.sha'!L20:Q20)/'!MC02A1I.sha'!Q3","v":2.3974358974358974},{"$f":"'!MC02A1I.sha'!Q16","v":0.31112466476764511}]
[25,{"$f":"'!MC0395I.sha'!B2:C2","v":"<date>"},{"$f":"('!MC0395I.sha'!F100/60)/'!MC0395I.sha'!Q3","v":2.2758865248226949},{"$f":"'!MC0395I.sha'!N20/'!MC0395I.sha'!Q3","v":0.42553191489361702},{"$f":"SUM('!MC0395I.sha'!L20:Q20)/'!MC0395I.sha'!Q3","v":2.0531914893617023},{"$f":"'!MC0395I.sha'!Q16","v":0.31941409754569061}]
[26,{"$f":"'!MC0491I.sha'!B2:C2","v":"<date>"},{"$f":"('!MC0491I.sha'!F131/60)/'!MC0491I.sha'!Q3","v":2.2933333333333334},{"$f":"'!MC0491I.sha'!N20/'!MC0491I.sha'!Q3","v":0.32},{"$f":"SUM('!MC0491I.sha'!L20:Q20)/'!MC0491I.sha'!Q3","v":1.6319999999999999},{"$f":"'!MC0491I.sha'!Q16","v":0.28676497976504345}]
[27,{"$f":"'!MC05A0I.sha'!B2:C2","v":"<date>"},{"$f":"('!MC05A0I.sha'!F108/60)/'!MC05A0I.sha'!Q3","v":2.4668300653594772},{"$f":"'!MC05A0I.sha'!N20/'!MC05A0I.sha'!Q3","v":0.39215686274509803},{"$f":"SUM('!MC05A0I.sha'!L20:Q20)/'!MC05A0I.sha'!Q3","v":1.911764705882353},{"$f":"'!MC05A0I.sha'!Q16","v":0.31389365391823543}]
[28,{"$f":"'!MC05C1I.sha'!B2:C2","v":"<date>"},{"$f":"('!MC06A4I.sha'!F79/60)/'!MC06A4I.sha'!Q3","v":2.1219178082191781},{"$f":"'!MC06A4I.sha'!N20/'!MC06A4I.sha'!Q3","v":0.54794520547945202},{"$f":"SUM('!MC06A4I.sha'!L20:Q20)/'!MC06A4I.sha'!Q3","v":3.904109589041096},{"$f":"'!MC06A4I.sha'!Q16","v":0.27635800570883068}]
[29,{"$f":"'!MC06A4I.sha'!B2:C2","v":"<date>"},{"$f":"('!MC0790I.sha'!F89/60)/'!MC0790I.sha'!Q3","v":2.4839357429718874},{"$f":"'!MC0790I.sha'!N20/'!MC0790I.sha'!Q3","v":0.48192771084337349},{"$f":"SUM('!MC0790I.sha'!L20:Q20)/'!MC0790I.sha'!Q3","v":2.2771084337349397},{"$f":"'!MC0790I.sha'!Q16","v":0.32958719241987244}]
[30,{"$f":"'!MC0790I.sha'!B2:C2","v":"<date>"},{"$f":"('!MC0892I.sha'!F101/60)/'!MC0892I.sha'!Q3","v":2.4624561403508771},{"$f":"'!MC0892I.sha'!N20/'!MC0892I.sha'!Q3","v":0.42105263157894735},{"$f":"SUM('!MC0892I.sha'!L20:Q20)/'!MC0892I.sha'!Q3","v":2.0421052631578949},{"$f":"'!MC0892I.sha'!Q16","v":0.31999024846873431}]
[null,{"$f":"'!MC0892I.sha'!B2:C2","v":"<date>"},{"$f":"('!MC09A2I.sha'!F112/60)/'!MC09A2I.sha'!Q3","v":2.4572327044025153},{"$f":"'!MC09A2I.sha'!N20/'!MC09A2I.sha'!Q3","v":0.37735849056603776},{"$f":"SUM('!MC09A2I.sha'!L20:Q20)/'!MC09A2I.sha'!Q3","v":1.7641509433962264},{"$f":"'!MC09A2I.sha'!Q16","v":0.31700222274082673}]
[null,{"$f":"'!MC09A2I.sha'!B2:C2","v":"<date>"},{"$f":"('!MC1094I.sha'!F90/60)/'!MC1094I.sha'!Q3","v":2.3904761904761904},{"$f":"'!MC1094I.sha'!N20/'!MC1094I.sha'!Q3","v":0.47619047619047616},{"$f":"SUM('!MC1094I.sha'!L20:Q20)/'!MC1094I.sha'!Q3","v":2.2619047619047619},{"$f":"'!MC1094I.sha'!Q16","v":0.31603629863110638}]
[null,{"$f":"'!MC1094I.sha'!B2:C2","v":"<date>"},{"$f":"('!MC1195I.sha'!F85/60)/'!MC1195I.sha'!Q3","v":2.5341772151898732},{"$f":"'!MC1195I.sha'!N20/'!MC1195I.sha'!Q3","v":0.50632911392405067},{"$f":"SUM('!MC1195I.sha'!L20:Q20)/'!MC1195I.sha'!Q3","v":2.2531645569620253},{"$f":"'!MC1195I.sha'!Q16","v":0.28723641502960012}]
[null,{"$f":"'!MC1195I.sha'!B2:C2","v":"<date>"},{"$f":"('!MC1293I.sha'!F95/60)/'!MC1293I.sha'!Q3","v":2.2938202247191013},{"$f":"'!MC1293I.sha'!N20/'!MC1293I.sha'!Q3","v":0.449438202247191},{"$f":"SUM('!MC1293I.sha'!L20:Q20)/'!MC1293I.sha'!Q3","v":2.1573033707865168},{"$f":"'!MC1293I.sha'!Q16","v":0.28428338765672151}]
[null,{"$f":"'!MC1293I.sha'!B2:C2","v":"<date>"},{"$f":"('!MC1392I.sha'!F102/60)/'!MC1392I.sha'!Q3","v":2.2859374999999997},{"$f":"'!MC1392I.sha'!N20/'!MC1392I.sha'!Q3","v":0.41666666666666669},{"$f":"SUM('!MC1392I.sha'!L20:Q20)/'!MC1392I.sha'!Q3","v":1.9166666666666667},{"$f":"'!MC1392I.sha'!Q16","v":0.29907603164989099}]
[null,{"$f":"'!MC1392I.sha'!B2:C2","v":"<date>"},{"$f":"('!MC14A1I.sha'!F91/60)/'!MC14A1I.sha'!Q3","v":2.4076470588235295},{"$f":"'!MC14A1I.sha'!N20/'!MC14A1I.sha'!Q3","v":0.47058823529411764},{"$f":"SUM('!MC14A1I.sha'!L20:Q20)/'!MC14A1I.sha'!Q3","v":2.1176470588235294},{"$f":"'!MC14A1I.sha'!Q16","v":0.2787743180768909}]
[null,{"$f":"'!MC14A1I.sha'!B2:C2","v":"<date>"}]

{"sheet":"Start","index":2,"n_rows":43,"n_cols":10,"rows_kept":43,"cut":false,"hidden":false,"merged":[]}
[null,null,null,null,null,"Use Folder 51",null,"Auto Clean Up",null,"Correct sequence"]
[null,null,null,null,null,false,null,true,null,112]
[]
["Working with Folder",null,null,null,null,null,"Process All/Or Pick A number: ALL or an integer"]
["F:\\Possum Chapter\\Raw Data\\Ishan\\New LLR\\",null,null,null,null,null,"ALL"]
["Filenames:"]
["!MC14A1I.sha",null,null,null,null,null,"Paint Cells"]
["!MB0895I.sha",null,null,null,null,null,false]
["!MB0990I.sha"]
["!MB10A2I.sha"]
["!MB11B1I.sha"]
["!MB12A2I.sha"]
["!MB1391I.sha"]
["!MB14A5I.sha"]
["!MB15A0I.sha"]
["!MB1691I.sha"]
["!MB1780I.sha"]
["!MB1893I.sha"]
["!MB19A3I.sha"]
["!MB2091I.sha"]
["!MB21A4I.sha"]
["!MB2392I.sha"]
["!MB24A3I.sha"]
["!MB25A3I.sha"]
["!MB26A2I.sha"]
["!MB2792I.sha"]
["!MB28A0I.sha"]
["!MB2991I.sha"]
["!MB3090I.sha"]
["!MC01A2I.sha"]
["!MC02A1I.sha"]
["!MC0395I.sha"]
["!MC0491I.sha"]
["!MC05A0I.sha"]
["!MC05C1I.sha"]
["!MC06A4I.sha"]
["!MC0790I.sha"]
["!MC0892I.sha"]
["!MC09A2I.sha"]
["!MC1094I.sha"]
["!MC1195I.sha"]
["!MC1293I.sha"]
["!MC1392I.sha"]

{"sheet":"!MB0895I.sha","index":3,"n_rows":187,"n_cols":48,"rows_kept":187,"cut":false,"hidden":false,"merged":[[4,39,4,42],[5,39,5,40],[4,44,4,47],[5,44,5,45],[4,24,4,27],[5,24,5,25],[4,29,4,32],[5,29,5,30],[4,34,4,37],[5,34,5,35],[1,1,1,2],[5,13,5,14],[18,13,18,14],[19,13,19,14],[4,19,4,22],[5,19,5,20]]}
["Report for:!MB0895I.sha"]
["Date:","<date>"]
["Hen:","<hen>",null,null,null,"Correct Sequence",{"$f":"Start!J2","v":112},null,null,null,null,null,null,null,null,"Total Sequences in Data",{"$f":"4994-COUNTBLANK(L7:L5000)","v":181},null,null,null,null,"Total Sequences in Block Data",{"$f":"COUNTA(L7:L36)","v":30},null,null,null,"Total Sequences in Block Data",{"$f":"COUNTA(L37:L66)","v":30},null,null,null,"Total Sequences in Block Data",{"$f":"COUNTA(L67:L97)","v":31},null,null,null,"Total Sequences in Block Data",{"$f":"COUNTA(L98:L127)","v":30},null,null,null,"Total Sequences in Block Data",{"$f":"COUNTA(L128:L157)","v":30},null,null,null,"Total Sequences in Block Data",{"$f":"COUNTA(L158:L187)","v":30}]
[null,null,null,null,null,null,null,null,null,null,null,null,null,null,null,"Total Sequences in Summary",{"$f":"SUM(O7:O14)","v":181},null,null,null,null,"Total Sequences in Block Summary",{"$f":"SUM(U7:U14)","v":30},null,null,null,"Total Sequences in Block Summary",{"$f":"SUM(Z7:Z14)","v":30},null,null,null,"Total Sequences in Block Summary",{"$f":"SUM(AE7:AE14)","v":31},null,null,null,"Total Sequences in Block Summary",{"$f":"SUM(AJ7:AJ14)","v":30},null,null,null,"Total Sequences in Block Summary",{"$f":"SUM(AO7:AO14)","v":30},null,null,null,"Total Sequences in Block Summary",{"$f":"SUM(AT7:AT14)","v":30}]
[null,null,null,null,null,null,null,null,null,null,null,null,null,null,null,null,null,null,null,"Block 1",null,null,null,null,"Block 2",null,null,null,null,"Block 3",null,null,null,null,"Block 4",null,null,null,null,"Block 5",null,null,null,null,"Block 6"]
["Sequence\nComponent\n1","Time\n1","Sequence\nComponent\n2","Time\n2","Sequence\nComponent\n3","Time\n3","Sequence\nComponent\n4","Time\n4","Sequence\nComponent\n5","Time\n5","Correct?\n0=No 1=Yes","Sequence",null,"Frequency",null,"Relative Frequency","Variability",null,null,"Frequency",null,"Relative Frequency","Variability",null,"Frequency",null,"Relative Frequency","Variability",null,"Frequency",null,"Relative Frequency","Variability",null,"Frequency",null,"Relative Frequency","Variability",null,"Frequency",null,"Relative Frequency","Variability",null,"Frequency",null,"Relative Frequency","Variability"]
[11,16,11,38,21,51,null,null,null,null,0,112,null,111,{"$f":"COUNTIF($L$7:$L$500,N7)","v":3},{"$f":"O7/$Q$4","v":1.6574585635359115E-2},{"$f":"IF(P7=0,0,(P7*((LOG(P7))/LOG(2))))","v":-9.8036741210420705E-2},null,null,{"$f":"N7","v":111},{"$f":"COUNTIF(L7:L36,T7)","v":0},{"$f":"U7/(W4-U8)","v":0},{"$f":"IF(V7=0,0,(V7*((LOG(V7))/LOG(2))))","v":0},null,{"$f":"N7","v":111},{"$f":"COUNTIF(L37:L66,Y7)","v":1},{"$f":"Z7/(AB4-Z8)","v":3.5714285714285712E-2},{"$f":"IF(AA7=0,0,(AA7*((LOG(AA7))/LOG(2))))","v":-0.17169124721634299},null,{"$f":"N7","v":111},{"$f":"COUNTIF(L67:L97,AD7)","v":1},{"$f":"AE7/(AG4-AE8)","v":3.5714285714285712E-2},{"$f":"IF(AF7=0,0,(AF7*((LOG(AF7))/LOG(2))))","v":-0.17169124721634299},null,{"$f":"N7","v":111},{"$f":"COUNTIF(L98:L127,AI7)","v":1},{"$f":"AJ7/(AL4-AJ8)","v":3.5714285714285712E-2},{"$f":"IF(AK7=0,0,(AK7*((LOG(AK7))/LOG(2))))","v":-0.17169124721634299},null,{"$f":"N7","v":111},{"$f":"COUNTIF(L128:L157,AN7)","v":0},{"$f":"AO7/(AQ4-AO8)","v":0},{"$f":"IF(AP7=0,0,(AP7*((LOG(AP7))/LOG(2))))","v":0},null,{"$f":"N7","v":111},{"$f":"COUNTIF(L158:L187,AS7)","v":0},{"$f":"AT7/(AV4-AT8)","v":0},{"$f":"IF(AU7=0,0,(AU7*((LOG(AU7))/LOG(2))))","v":0}]
[22,180,24,185,23,196,null,null,null,null,0,222,null,112,{"$f":"COUNTIF($L$7:$L$500,N8)","v":14},{"$f":"O8/$Q$4","v":7.7348066298342538E-2},{"$f":"IF(P8=0,0,(P8*((LOG(P8))/LOG(2))))","v":-0.28560703596883102},null,null,{"$f":"N8","v":112},{"$f":"COUNTIF(L7:L36,T8)","v":2},null,null,null,{"$f":"N8","v":112},{"$f":"COUNTIF(L37:L66,Y8)","v":2},null,null,null,{"$f":"N8","v":112},{"$f":"COUNTIF(L67:L97,AD8)","v":3},null,null,null,{"$f":"N8","v":112},{"$f":"COUNTIF(L98:L127,AI8)","v":2},null,null,null,{"$f":"N8","v":112},{"$f":"COUNTIF(L128:L157,AN8)","v":2},null,null,null,{"$f":"N8","v":112},{"$f":"COUNTIF(L158:L187,AS8)","v":3}]
[11,292,22,301,23,308,null,null,null,null,0,122,null,121,{"$f":"COUNTIF($L$7:$L$500,N9)","v":1},{"$f":"O9/$Q$4","v":5.5248618784530384E-3},{"$f":"IF(P9=0,0,(P9*((LOG(P9))/LOG(2))))","v":-4.1435612635818811E-2},null,null,{"$f":"N9","v":121},{"$f":"COUNTIF(L7:L36,T9)","v":1},{"$f":"U9/(W4-U8)","v":3.5714285714285712E-2},{"$f":"IF(V9=0,0,(V9*((LOG(V9))/LOG(2))))","v":-0.17169124721634299},null,{"$f":"N9","v":121},{"$f":"COUNTIF(L37:L66,Y9)","v":0},{"$f":"Z9/(AB4-Z8)","v":0},{"$f":"IF(AA9=0,0,(AA9*((LOG(AA9))/LOG(2))))","v":0},null,{"$f":"N9","v":121},{"$f":"COUNTIF(L67:L97,AD9)","v":0},{"$f":"AE9/(AG4-AE8)","v":0},{"$f":"IF(AF9=0,0,(AF9*((LOG(AF9))/LOG(2))))","v":0},null,{"$f":"N9","v":121},{"$f":"COUNTIF(L98:L127,AI9)","v":0},{"$f":"AJ9/(AL4-AJ8)","v":0},{"$f":"IF(AK9=0,0,(AK9*((LOG(AK9))/LOG(2))))","v":0},null,{"$f":"N9","v":121},{"$f":"COUNTIF(L128:L157,AN9)","v":0},{"$f":"AO9/(AQ4-AO8)","v":0},{"$f":"IF(AP9=0,0,(AP9*((LOG(AP9))/LOG(2))))","v":0},null,{"$f":"N9","v":121},{"$f":"COUNTIF(L158:L187,AS9)","v":0},{"$f":"AT9/(AV4-AT8)","v":0},{"$f":"IF(AU9=0,0,(AU9*((LOG(AU9))/LOG(2))))","v":0}]
[11,403,22,416,23,423,null,null,null,null,0,122,null,122,{"$f":"COUNTIF($L$7:$L$500,N10)","v":58},{"$f":"O10/$Q$4","v":0.32044198895027626},{"$f":"IF(P10=0,0,(P10*((LOG(P10))/LOG(2))))","v":-0.52612245156589355},null,null,{"$f":"N10","v":122},{"$f":"COUNTIF(L7:L36,T10)","v":11},{"$f":"U10/(W4-U8)","v":0.39285714285714285},{"$f":"IF(V10=0,0,(V10*((LOG(V10))/LOG(2))))","v":-0.52954129777226344},null,{"$f":"N10","v":122},{"$f":"COUNTIF(L37:L66,Y10)","v":7},{"$f":"Z10/(AB4-Z8)","v":0.25},{"$f":"IF(AA10=0,0,(AA10*((LOG(AA10))/LOG(2))))","v":-0.5},null,{"$f":"N10","v":122},{"$f":"COUNTIF(L67:L97,AD10)","v":8},{"$f":"AE10/(AG4-AE8)","v":0.2857142857142857},{"$f":"IF(AF10=0,0,(AF10*((LOG(AF10))/LOG(2))))","v":-0.51638712058788683},null,{"$f":"N10","v":122},{"$f":"COUNTIF(L98:L127,AI10)","v":11},{"$f":"AJ10/(AL4-AJ8)","v":0.39285714285714285},{"$f":"IF(AK10=0,0,(AK10*((LOG(AK10))/LOG(2))))","v":-0.52954129777226344},null,{"$f":"N10","v":122},{"$f":"COUNTIF(L128:L157,AN10)","v":5},{"$f":"AO10/(AQ4-AO8)","v":0.17857142857142858},{"$f":"IF(AP10=0,0,(AP10*((LOG(AP10))/LOG(2))))","v":-0.44382621913754317},null,{"$f":"N10","v":122},{"$f":"COUNTIF(L158:L187,AS10)","v":16},{"$f":"AT10/(AV4-AT8)","v":0.59259259259259256},{"$f":"IF(AU10=0,0,(AU10*((LOG(AU10))/LOG(2))))","v":-0.44734074202279617}]
[22,541,24,548,23,555,null,null,null,null,0,222,null,211,{"$f":"COUNTIF($L$7:$L$500,N11)","v":15},{"$f":"O11/$Q$4","v":8.2872928176795577E-2},{"$f":"IF(P11=0,0,(P11*((LOG(P11))/LOG(2))))","v":-0.29775872581281931},null,null,{"$f":"N11","v":211},{"$f":"COUNTIF(L7:L36,T11)","v":0},{"$f":"U11/(W4-U8)","v":0},{"$f":"IF(V11=0,0,(V11*((LOG(V11))/LOG(2))))","v":0},null,{"$f":"N11","v":211},{"$f":"COUNTIF(L37:L66,Y11)","v":6},{"$f":"Z11/(AB4-Z8)","v":0.21428571428571427},{"$f":"IF(AA11=0,0,(AA11*((LOG(AA11))/LOG(2))))","v":-0.47622694742923877},null,{"$f":"N11","v":211},{"$f":"COUNTIF(L67:L97,AD11)","v":7},{"$f":"AE11/(AG4-AE8)","v":0.25},{"$f":"IF(AF11=0,0,(AF11*((LOG(AF11))/LOG(2))))","v":-0.5},null,{"$f":"N11","v":211},{"$f":"COUNTIF(L98:L127,AI11)","v":1},{"$f":"AJ11/(AL4-AJ8)","v":3.5714285714285712E-2},{"$f":"IF(AK11=0,0,(AK11*((LOG(AK11))/LOG(2))))","v":-0.17169124721634299},null,{"$f":"N11","v":211},{"$f":"COUNTIF(L128:L157,AN11)","v":0},{"$f":"AO11/(AQ4-AO8)","v":0},{"$f":"IF(AP11=0,0,(AP11*((LOG(AP11))/LOG(2))))","v":0},null,{"$f":"N11","v":211},{"$f":"COUNTIF(L158:L187,AS11)","v":1},{"$f":"AT11/(AV4-AT8)","v":3.7037037037037035E-2},{"$f":"IF(AU11=0,0,(AU11*((LOG(AU11))/LOG(2))))","v":-0.1761069445245729}]
[11,658,22,669,23,676,null,null,null,null,0,122,null,212,{"$f":"COUNTIF($L$7:$L$500,N12)","v":26},{"$f":"O12/$Q$4","v":0.143646408839779},{"$f":"IF(P12=0,0,(P12*((LOG(P12))/LOG(2))))","v":-0.40212464305245826},null,null,{"$f":"N12","v":212},{"$f":"COUNTIF(L7:L36,T12)","v":2},{"$f":"U12/(W4-U8)","v":7.1428571428571425E-2},{"$f":"IF(V12=0,0,(V12*((LOG(V12))/LOG(2))))","v":-0.27195392300411453},null,{"$f":"N12","v":212},{"$f":"COUNTIF(L37:L66,Y12)","v":3},{"$f":"Z12/(AB4-Z8)","v":0.10714285714285714},{"$f":"IF(AA12=0,0,(AA12*((LOG(AA12))/LOG(2))))","v":-0.34525633085747659},null,{"$f":"N12","v":212},{"$f":"COUNTIF(L67:L97,AD12)","v":4},{"$f":"AE12/(AG4-AE8)","v":0.14285714285714285},{"$f":"IF(AF12=0,0,(AF12*((LOG(AF12))/LOG(2))))","v":-0.40105070315108626},null,{"$f":"N12","v":212},{"$f":"COUNTIF(L98:L127,AI12)","v":7},{"$f":"AJ12/(AL4-AJ8)","v":0.25},{"$f":"IF(AK12=0,0,(AK12*((LOG(AK12))/LOG(2))))","v":-0.5},null,{"$f":"N12","v":212},{"$f":"COUNTIF(L128:L157,AN12)","v":8},{"$f":"AO12/(AQ4-AO8)","v":0.2857142857142857},{"$f":"IF(AP12=0,0,(AP12*((LOG(AP12))/LOG(2))))","v":-0.51638712058788683},null,{"$f":"N12","v":212},{"$f":"COUNTIF(L158:L187,AS12)","v":2},{"$f":"AT12/(AV4-AT8)","v":7.407407407407407E-2},{"$f":"IF(AU12=0,0,(AU12*((LOG(AU12))/LOG(2))))","v":-0.27813981497507173}]
[11,770,22,787,14,800,null,null,null,null,0,121,null,221,{"$f":"COUNTIF($L$7:$L$500,N13)","v":20},{"$f":"O13/$Q$4","v":0.11049723756906077},{"$f":"IF(P13=0,0,(P13*((LOG(P13))/LOG(2))))","v":-0.35115113725920916},null,null,{"$f":"N13","v":221},{"$f":"COUNTIF(L7:L36,T13)","v":5},{"$f":"U13/(W4-U8)","v":0.17857142857142858},{"$f":"IF(V13=0,0,(V13*((LOG(V13))/LOG(2))))","v":-0.44382621913754317},null,{"$f":"N13","v":221},{"$f":"COUNTIF(L37:L66,Y13)","v":3},{"$f":"Z13/(AB4-Z8)","v":0.10714285714285714},{"$f":"IF(AA13=0,0,(AA13*((LOG(AA13))/LOG(2))))","v":-0.34525633085747659},null,{"$f":"N13","v":221},{"$f":"COUNTIF(L67:L97,AD13)","v":5},{"$f":"AE13/(AG4-AE8)","v":0.17857142857142858},{"$f":"IF(AF13=0,0,(AF13*((LOG(AF13))/LOG(2))))","v":-0.44382621913754317},null,{"$f":"N13","v":221},{"$f":"COUNTIF(L98:L127,AI13)","v":3},{"$f":"AJ13/(AL4-AJ8)","v":0.10714285714285714},{"$f":"IF(AK13=0,0,(AK13*((LOG(AK13))/LOG(2))))","v":-0.34525633085747659},null,{"$f":"N13","v":221},{"$f":"COUNTIF(L128:L157,AN13)","v":1},{"$f":"AO13/(AQ4-AO8)","v":3.5714285714285712E-2},{"$f":"IF(AP13=0,0,(AP13*((LOG(AP13))/LOG(2))))","v":-0.17169124721634299},null,{"$f":"N13","v":221},{"$f":"COUNTIF(L158:L187,AS13)","v":3},{"$f":"AT13/(AV4-AT8)","v":0.1111111111111111},{"$f":"IF(AU13=0,0,(AU13*((LOG(AU13))/LOG(2))))","v":-0.3522138890491458}]
[22,906,24,920,14,933,null,null,null,null,0,221,null,222,{"$f":"COUNTIF($L$7:$L$500,N14)","v":44},{"$f":"O14/$Q$4","v":0.24309392265193369},{"$f":"IF(P14=0,0,(P14*((LOG(P14))/LOG(2))))","v":-0.49601230835149152},null,null,{"$f":"N14","v":222},{"$f":"COUNTIF(L7:L36,T14)","v":9},{"$f":"U14/(W4-U8)","v":0.32142857142857145},{"$f":"IF(V14=0,0,(V14*((LOG(V14))/LOG(2))))","v":-0.5263167601977724},null,{"$f":"N14","v":222},{"$f":"COUNTIF(L37:L66,Y14)","v":8},{"$f":"Z14/(AB4-Z8)","v":0.2857142857142857},{"$f":"IF(AA14=0,0,(AA14*((LOG(AA14))/LOG(2))))","v":-0.51638712058788683},null,{"$f":"N14","v":222},{"$f":"COUNTIF(L67:L97,AD14)","v":3},{"$f":"AE14/(AG4-AE8)","v":0.10714285714285714},{"$f":"IF(AF14=0,0,(AF14*((LOG(AF14))/LOG(2))))","v":-0.34525633085747659},null,{"$f":"N14","v":222},{"$f":"COUNTIF(L98:L127,AI14)","v":5},{"$f":"AJ14/(AL4-AJ8)","v":0.17857142857142858},{"$f":"IF(AK14=0,0,(AK14*((LOG(AK14))/LOG(2))))","v":-0.44382621913754317},null,{"$f":"N14","v":222},{"$f":"COUNTIF(L128:L157,AN14)","v":14},{"$f":"AO14/(AQ4-AO8)","v":0.5},{"$f":"IF(AP14=0,0,(AP14*((LOG(AP14))/LOG(2))))","v":-0.5},null,{"$f":"N14","v":222},{"$f":"COUNTIF(L158:L187,AS14)","v":5},{"$f":"AT14/(AV4-AT8)","v":0.18518518518518517},{"$f":"IF(AU14=0,0,(AU14*((LOG(AU14))/LOG(2))))","v":-0.45054803838446406}]
[22,1029,24,1040,23,1072,null,null,null,null,0,222,null,null,null,{"$f":"SUM(P7:P14)","v":1},{"$f":"-SUM(Q7:Q14)","v":2.4982486558569423},null,null,null,null,{"$f":"SUM(V7:V14)","v":1},{"$f":"-SUM(W7:W14)","v":1.9433294473280363},null,null,null,{"$f":"SUM(AA7:AA14)","v":0.99999999999999989},{"$f":"-SUM(AB7:AB14)","v":2.3548179769484214},null,null,null,{"$f":"SUM(AF7:AF14)","v":0.99999999999999989},{"$f":"-SUM(AG7:AG14)","v":2.3782116209503359},null,null,null,{"$f":"SUM(AK7:AK14)","v":0.99999999999999989},{"$f":"-SUM(AL7:AL14)","v":2.1620063421999691},null,null,null,{"$f":"SUM(AP7:AP14)","v":1},{"$f":"-SUM(AQ7:AQ14)","v":1.631904586941773},null,null,null,{"$f":"SUM(AU7:AU14)","v":0.99999999999999978},{"$f":"-SUM(AV7:AV14)","v":1.7043494289560506}]
[11,1171,22,1179,23,1188,null,null,null,null,0,122,null,null,null,"U=",{"$f":"Q15/(LOG(Q4)/LOG(2))","v":0.33310666558623725},null,null,null,null,"U1=",{"$f":"W15/(LOG(W4)/LOG(2))","v":0.39604091623058452},null,null,null,"U2=",{"$f":"AB15/(LOG(AB4)/LOG(2))","v":0.47990024050177404},null,null,null,"U3=",{"$f":"AG15/(LOG(AG4)/LOG(2))","v":0.4800398433877604},null,null,null,"U4=",{"$f":"AL15/(LOG(AL4)/LOG(2))","v":0.44060618431861576},null,null,null,"U5=",{"$f":"AQ15/(LOG(AQ4)/LOG(2))","v":0.33257407214301166},null,null,null,"U6=",{"$f":"AV15/(LOG(AV4)/LOG(2))","v":0.34733797213277567}]
[22,1304,24,1324,23,1331,null,null,null,null,0,222]
[11,1426,22,1441,23,1450,null,null,null,null,0,122]
[22,1542,24,1550,14,1562,null,null,null,null,0,221,null,"Total Target Seq"]
[22,1659,24,1669,14,1681,null,null,null,null,0,221,null,{"$f":"COUNTIF(L7:L187,G3)","v":14},null,30,30,31,30,30,30]
[22,1779,13,1789,23,1800,null,null,null,null,0,212,null,null,null,"% of reinforcement given in 6 equal intervals based on number of trials "]
[22,1905,13,1916,23,1925,null,null,null,null,0,212,null,null,null,"%_1","%_2","%_3","%_4","%_5","%_6"]
[11,2021,22,2030,23,2039,null,null,null,null,0,122,null,null,"target sequence",{"$f":"$G$3","v":112},{"$f":"$G$3","v":112},{"$f":"$G$3","v":112},{"$f":"$G$3","v":112},{"$f":"$G$3","v":112},{"$f":"$G$3","v":112}]
[11,2133,22,2141,23,2149,null,null,null,null,0,122,null,null,"total reinforcement",{"$f":"U8","v":2},{"$f":"Z8","v":2},{"$f":"AE8","v":3},{"$f":"AJ8","v":2},{"$f":"AO8","v":2},{"$f":"AT8","v":3}]
[22,2246,24,2268,23,2272,null,null,null,null,0,222,null,null,"% target"]
[11,2389,22,2400,23,2406,null,null,null,null,0,122,null,null,"CCRF"]
[22,2507,24,2528,23,2536,null,null,null,null,0,222,null,null,"% CCRf"]
[22,2646,24,2653,23,2659,null,null,null,null,0,222,null,null,"average response rate",{"$f":"F36/P20","v":124.3},{"$f":"(F66-F36)/Q20","v":127.2},{"$f":"(F97-F66)/R20","v":128.90322580645162},{"$f":"(F127-F97)/S20","v":129.1},{"$f":"(F157-F127)/T20","v":129.30000000000001},{"$f":"(F187-F157)/U20","v":129.26666666666668}]
[11,2762,22,2773,23,2780,null,null,null,null,0,122]
[22,2896,24,2904,23,2910,null,null,null,null,0,222]
[22,3007,24,3016,14,3031,null,null,null,null,0,221]
[22,3127,24,3137,23,3148,null,null,null,null,0,222]
[11,3243,22,3253,23,3258,null,null,null,null,0,122]
[11,3356,22,3368,23,3373,null,null,null,null,0,122]
[11,3468,11,3470,21,3479,null,null,null,null,0,112]
[22,3713,24,3718,14,3729,null,null,null,null,0,221]
[22,3847,24,3853,23,3861,null,null,null,null,0,222]
[11,3958,22,3971,23,3978,null,null,null,null,0,122]
[11,4086,22,4097,23,4101,null,null,null,null,0,122]
[22,4194,13,4212,14,4218,null,null,null,null,0,211]
[22,4318,13,4342,23,4366,null,null,null,null,0,212]
[11,4472,22,4491,23,4499,null,null,null,null,0,122]
[11,4594,22,4605,23,4611,null,null,null,null,0,122]
[11,4715,22,4726,23,4733,null,null,null,null,0,122]
[22,4828,13,4844,23,4857,null,null,null,null,0,212]
[22,4955,13,4964,14,4969,null,null,null,null,0,211]
[22,5066,13,5077,14,5079,null,null,null,null,0,211]
[22,5197,24,5205,14,5222,null,null,null,null,0,221]
[22,5313,13,5329,23,5342,null,null,null,null,0,212]
[11,5437,11,5442,21,5456,null,null,null,null,0,112]
[22,5725,24,5738,23,5743,null,null,null,null,0,222]
[22,5842,13,5854,14,5859,null,null,null,null,0,211]
[22,5969,24,5976,23,5984,null,null,null,null,0,222]
[22,6098,24,6106,14,6123,null,null,null,null,0,221]
[22,6216,24,6224,14,6235,null,null,null,null,0,221]
[22,6334,24,6352,23,6364,null,null,null,null,0,222]
[11,6469,11,6473,12,6478,null,null,null,null,0,111]
[22,6572,24,6575,23,6587,null,null,null,null,0,222]
[22,6685,24,6690,23,6696,null,null,null,null,0,222]
[22,6790,13,6802,14,6806,null,null,null,null,0,211]
[11,6897,22,6906,23,6910,null,null,null,null,0,122]
[22,7003,13,7020,14,7024,null,null,null,null,0,211]
[22,7121,24,7131,23,7140,null,null,null,null,0,222]
[11,7234,11,7242,21,7252,null,null,null,null,0,112]
[22,7410,24,7418,23,7423,null,null,null,null,0,222]
[11,7520,22,7536,23,7545,null,null,null,null,0,122]
[11,7638,11,7642,21,7652,null,null,null,null,0,112]
[22,7831,24,7835,14,7850,null,null,null,null,0,221]
[11,7956,22,7977,23,7986,null,null,null,null,0,122]
[11,8085,11,8090,21,8103,null,null,null,null,0,112]
[22,8252,24,8257,23,8262,null,null,null,null,0,222]
[22,8355,13,8371,23,8386,null,null,null,null,0,212]
[22,8512,24,8523,14,8538,null,null,null,null,0,221]
[22,8630,24,8633,14,8644,null,null,null,null,0,221]
[22,8757,24,8763,23,8771,null,null,null,null,0,222]
[22,8893,13,8902,14,8951,null,null,null,null,0,211]
[22,9052,24,9057,14,9072,null,null,null,null,0,221]
[22,9199,13,9211,14,9216,null,null,null,null,0,211]
[11,9312,22,9327,23,9338,null,null,null,null,0,122]
[22,9444,24,9448,23,9454,null,null,null,null,0,222]
[22,9549,13,9561,23,9576,null,null,null,null,0,212]
[11,9674,22,9689,23,9695,null,null,null,null,0,122]
[22,9787,13,9799,14,9803,null,null,null,null,0,211]
[11,9899,11,9901,12,9906,null,null,null,null,0,111]
[22,9997,13,10016,23,10027,null,null,null,null,0,212]
[11,10124,22,10133,23,10139,null,null,null,null,0,122]
[11,10232,22,10249,23,10257,null,null,null,null,0,122]
[11,10352,22,10361,23,10366,null,null,null,null,0,122]
[22,10462,13,10472,14,10477,null,null,null,null,0,211]
[22,10569,13,10582,14,10588,null,null,null,null,0,211]
[11,10686,11,10691,21,10703,null,null,null,null,0,112]
[22,10937,24,10941,14,10956,null,null,null,null,0,221]
[11,11059,22,11068,23,11075,null,null,null,null,0,122]
[22,11172,13,11183,14,11187,null,null,null,null,0,211]
[22,11280,13,11294,23,11312,null,null,null,null,0,212]
[22,11409,13,11423,14,11427,null,null,null,null,0,211]
[11,11522,22,11533,23,11541,null,null,null,null,0,122]
[11,11669,22,11678,23,11686,null,null,null,null,0,122]
[11,11812,22,11821,23,11826,null,null,null,null,0,122]
[11,11918,11,11923,21,11935,null,null,null,null,0,112]
[22,12128,24,12132,23,12138,null,null,null,null,0,222]
[11,12244,11,12265,12,12272,null,null,null,null,0,111]
[11,12364,22,12373,23,12377,null,null,null,null,0,122]
[11,12504,22,12511,23,12516,null,null,null,null,0,122]
[11,12625,22,12635,23,12641,null,null,null,null,0,122]
[11,12748,22,12760,23,12769,null,null,null,null,0,122]
[11,12861,22,12869,23,12873,null,null,null,null,0,122]
[22,12992,24,12999,14,13011,null,null,null,null,0,221]
[22,13112,24,13117,23,13123,null,null,null,null,0,222]
[22,13224,13,13241,23,13255,null,null,null,null,0,212]
[22,13353,13,13364,14,13369,null,null,null,null,0,211]
[22,13471,24,13477,23,13486,null,null,null,null,0,222]
[22,13581,13,13597,23,13620,null,null,null,null,0,212]
[11,13720,11,13726,21,13741,null,null,null,null,0,112]
[22,13940,24,13948,14,13959,null,null,null,null,0,221]
[22,14055,13,14072,23,14089,null,null,null,null,0,212]
[22,14190,13,14200,23,14210,null,null,null,null,0,212]
[22,14305,13,14316,23,14326,null,null,null,null,0,212]
[11,14426,22,14435,23,14439,null,null,null,null,0,122]
[22,14534,13,14548,23,14561,null,null,null,null,0,212]
[22,14660,13,14670,23,14680,null,null,null,null,0,212]
[22,14793,24,14800,23,14808,null,null,null,null,0,222]
[11,14935,22,14948,23,14954,null,null,null,null,0,122]
[11,15049,22,15059,23,15064,null,null,null,null,0,122]
[22,15157,24,15166,14,15177,null,null,null,null,0,221]
[11,15270,22,15280,23,15284,null,null,null,null,0,122]
[22,15402,24,15409,23,15414,null,null,null,null,0,222]
[22,15510,13,15524,23,15543,null,null,null,null,0,212]
[22,15641,13,15651,23,15664,null,null,null,null,0,212]
[22,15768,24,15773,23,15780,null,null,null,null,0,222]
[22,15879,24,15884,23,15890,null,null,null,null,0,222]
[22,15986,13,16001,23,16017,null,null,null,null,0,212]
[22,16113,24,16122,14,16138,null,null,null,null,0,221]
[11,16245,22,16252,23,16262,null,null,null,null,0,122]
[22,16373,24,16378,23,16386,null,null,null,null,0,222]
[11,16492,22,16500,23,16507,null,null,null,null,0,122]
[22,16609,24,16614,23,16624,null,null,null,null,0,222]
[11,16793,22,16801,23,16807,null,null,null,null,0,122]
[11,16910,22,16920,23,16928,null,null,null,null,0,122]
[22,17030,24,17038,23,17047,null,null,null,null,0,222]
[11,17150,11,17153,21,17163,null,null,null,null,0,112]
[22,17327,24,17330,23,17336,null,null,null,null,0,222]
[22,17427,13,17440,23,17455,null,null,null,null,0,212]
[22,17565,24,17583,23,17596,null,null,null,null,0,222]
[22,17688,13,17701,23,17710,null,null,null,null,0,212]
[22,17820,24,17825,23,17832,null,null,null,null,0,222]
[22,17950,24,17955,23,17961,null,null,null,null,0,222]
[22,18059,13,18069,23,18081,null,null,null,null,0,212]
[22,18175,24,18180,23,18187,null,null,null,null,0,222]
[22,18301,24,18306,23,18312,null,null,null,null,0,222]
[22,18420,24,18424,23,18428,null,null,null,null,0,222]
[11,18522,11,18526,21,18536,null,null,null,null,0,112]
[22,18737,24,18741,23,18763,null,null,null,null,0,222]
[22,18870,13,18882,23,18906,null,null,null,null,0,212]
[22,19000,13,19017,23,19036,null,null,null,null,0,212]
[11,19146,22,19155,23,19164,null,null,null,null,0,122]
[22,19275,24,19283,23,19293,null,null,null,null,0,222]
[11,19387,11,19390,21,19400,null,null,null,null,0,112]
[22,19565,24,19569,23,19573,null,null,null,null,0,222]
[11,19688,22,19706,23,19715,null,null,null,null,0,122]
[11,19811,11,19815,21,19823,null,null,null,null,0,112]
[22,19973,24,19976,23,19982,null,null,null,null,0,222]
[11,20074,11,20077,21,20086,null,null,null,null,0,112]
[22,20283,24,20289,14,20308,null,null,null,null,0,221]
[11,20404,22,20414,23,20422,null,null,null,null,0,122]
[22,20539,13,20562,23,20581,null,null,null,null,0,212]
[11,20678,22,20686,23,20693,null,null,null,null,0,122]
[22,20792,24,20809,23,20815,null,null,null,null,0,222]
[22,20912,24,20932,23,20940,null,null,null,null,0,222]
[11,21045,22,21053,23,21065,null,null,null,null,0,122]
[11,21177,22,21187,23,21194,null,null,null,null,0,122]
[22,21290,24,21302,14,21315,null,null,null,null,0,221]
[11,21407,22,21421,23,21428,null,null,null,null,0,122]
[11,21542,22,21555,23,21562,null,null,null,null,0,122]
[11,21662,22,21674,23,21679,null,null,null,null,0,122]
[11,21785,22,21794,23,21806,null,null,null,null,0,122]
[22,21903,24,21919,14,21936,null,null,null,null,0,221]
[22,22045,24,22053,23,22060,null,null,null,null,0,222]
[11,22168,22,22181,23,22188,null,null,null,null,0,122]
[22,22288,13,22297,14,22302,null,null,null,null,0,211]
[11,22418,22,22427,23,22434,null,null,null,null,0,122]
[11,22530,22,22540,23,22544,null,null,null,null,0,122]
[11,22654,22,22682,23,22690,null,null,null,null,0,122]
[11,22786,22,22795,23,22800,null,null,null,null,0,122]
[11,22898,22,22908,23,22914,null,null,null,null,0,122]
[11,23008,22,23016,23,23023,null,null,null,null,0,122]
[22,23137,13,23157,23,23171,null,null,null,null,0,212]

{"sheet":"!MB0990I.sha","index":4,"n_rows":173,"n_cols":48,"rows_kept":173,"cut":false,"hidden":false,"merged":[[4,39,4,42],[5,39,5,40],[4,44,4,47],[5,44,5,45],[4,24,4,27],[5,24,5,25],[4,29,4,32],[5,29,5,30],[4,34,4,37],[5,34,5,35],[1,1,1,2],[5,13,5,14],[18,13,18,14],[19,13,19,14],[4,19,4,22],[5,19,5,20]]}
["Report for:!MB0990I.sha"]
["Date:","<date>"]
["Hen:","<hen>",null,null,null,"Correct Sequence",{"$f":"Start!J2","v":112},null,null,null,null,null,null,null,null,"Total Sequences in Data",{"$f":"4994-COUNTBLANK(L7:L5000)","v":167},null,null,null,null,"Total Sequences in Block Data",{"$f":"COUNTA(L7:L34)","v":28},null,null,null,"Total Sequences in Block Data",{"$f":"COUNTA(L35:L62)","v":28},null,null,null,"Total Sequences in Block Data",{"$f":"COUNTA(L63:L89)","v":27},null,null,null,"Total Sequences in Block Data",{"$f":"COUNTA(L90:L117)","v":28},null,null,null,"Total Sequences in Block Data",{"$f":"COUNTA(L118:L145)","v":28},null,null,null,"Total Sequences in Block Data",{"$f":"COUNTA(L146:L173)","v":28}]
[null,null,null,null,null,null,null,null,null,null,null,null,null,null,null,"Total Sequences in Summary",{"$f":"SUM(O7:O14)","v":167},null,null,null,null,"Total Sequences in Block Summary",{"$f":"SUM(U7:U14)","v":28},null,null,null,"Total Sequences in Block Summary",{"$f":"SUM(Z7:Z14)","v":28},null,null,null,"Total Sequences in Block Summary",{"$f":"SUM(AE7:AE14)","v":27},null,null,null,"Total Sequences in Block Summary",{"$f":"SUM(AJ7:AJ14)","v":28},null,null,null,"Total Sequences in Block Summary",{"$f":"SUM(AO7:AO14)","v":28},null,null,null,"Total Sequences in Block Summary",{"$f":"SUM(AT7:AT14)","v":28}]
[null,null,null,null,null,null,null,null,null,null,null,null,null,null,null,null,null,null,null,"Block 1",null,null,null,null,"Block 2",null,null,null,null,"Block 3",null,null,null,null,"Block 4",null,null,null,null,"Block 5",null,null,null,null,"Block 6"]
["Sequence\nComponent\n1","Time\n1","Sequence\nComponent\n2","Time\n2","Sequence\nComponent\n3","Time\n3","Sequence\nComponent\n4","Time\n4","Sequence\nComponent\n5","Time\n5","Correct?\n0=No 1=Yes","Sequence",null,"Frequency",null,"Relative Frequency","Variability",null,null,"Frequency",null,"Relative Frequency","Variability",null,"Frequency",null,"Relative Frequency","Variability",null,"Frequency",null,"Relative Frequency","Variability",null,"Frequency",null,"Relative Frequency","Variability",null,"Frequency",null,"Relative Frequency","Variability",null,"Frequency",null,"Relative Frequency","Variability"]
[22,132,24,140,23,160,null,null,null,null,0,222,null,111,{"$f":"COUNTIF($L$7:$L$500,N7)","v":5},{"$f":"O7/$Q$4","v":2.9940119760479042E-2},{"$f":"IF(P7=0,0,(P7*((LOG(P7))/LOG(2))))","v":-0.15155018555648772},null,null,{"$f":"N7","v":111},{"$f":"COUNTIF(L7:L34,T7)","v":1},{"$f":"U7/(W4-U8)","v":3.5714285714285712E-2},{"$f":"IF(V7=0,0,(V7*((LOG(V7))/LOG(2))))","v":-0.17169124721634299},null,{"$f":"N7","v":111},{"$f":"COUNTIF(L35:L62,Y7)","v":0},{"$f":"Z7/(AB4-Z8)","v":0},{"$f":"IF(AA7=0,0,(AA7*((LOG(AA7))/LOG(2))))","v":0},null,{"$f":"N7","v":111},{"$f":"COUNTIF(L63:L89,AD7)","v":2},{"$f":"AE7/(AG4-AE8)","v":9.0909090909090912E-2},{"$f":"IF(AF7=0,0,(AF7*((LOG(AF7))/LOG(2))))","v":-0.31449378351248153},null,{"$f":"N7","v":111},{"$f":"COUNTIF(L90:L117,AI7)","v":0},{"$f":"AJ7/(AL4-AJ8)","v":0},{"$f":"IF(AK7=0,0,(AK7*((LOG(AK7))/LOG(2))))","v":0},null,{"$f":"N7","v":111},{"$f":"COUNTIF(L118:L145,AN7)","v":1},{"$f":"AO7/(AQ4-AO8)","v":4.1666666666666664E-2},{"$f":"IF(AP7=0,0,(AP7*((LOG(AP7))/LOG(2))))","v":-0.19104010419671485},null,{"$f":"N7","v":111},{"$f":"COUNTIF(L146:L173,AS7)","v":1},{"$f":"AT7/(AV4-AT8)","v":4.5454545454545456E-2},{"$f":"IF(AU7=0,0,(AU7*((LOG(AU7))/LOG(2))))","v":-0.20270143721078623}]
[22,278,24,282,23,291,null,null,null,null,0,222,null,112,{"$f":"COUNTIF($L$7:$L$500,N8)","v":24},{"$f":"O8/$Q$4","v":0.1437125748502994},{"$f":"IF(P8=0,0,(P8*((LOG(P8))/LOG(2))))","v":-0.40221438923394914},null,null,{"$f":"N8","v":112},{"$f":"COUNTIF(L7:L34,T8)","v":0},null,null,null,{"$f":"N8","v":112},{"$f":"COUNTIF(L35:L62,Y8)","v":3},null,null,null,{"$f":"N8","v":112},{"$f":"COUNTIF(L63:L89,AD8)","v":5},null,null,null,{"$f":"N8","v":112},{"$f":"COUNTIF(L90:L117,AI8)","v":6},null,null,null,{"$f":"N8","v":112},{"$f":"COUNTIF(L118:L145,AN8)","v":4},null,null,null,{"$f":"N8","v":112},{"$f":"COUNTIF(L146:L173,AS8)","v":6}]
[22,433,24,443,14,458,null,null,null,null,0,221,null,121,{"$f":"COUNTIF($L$7:$L$500,N9)","v":4},{"$f":"O9/$Q$4","v":2.3952095808383235E-2},{"$f":"IF(P9=0,0,(P9*((LOG(P9))/LOG(2))))","v":-0.12895100101734258},null,null,{"$f":"N9","v":121},{"$f":"COUNTIF(L7:L34,T9)","v":3},{"$f":"U9/(W4-U8)","v":0.10714285714285714},{"$f":"IF(V9=0,0,(V9*((LOG(V9))/LOG(2))))","v":-0.34525633085747659},null,{"$f":"N9","v":121},{"$f":"COUNTIF(L35:L62,Y9)","v":0},{"$f":"Z9/(AB4-Z8)","v":0},{"$f":"IF(AA9=0,0,(AA9*((LOG(AA9))/LOG(2))))","v":0},null,{"$f":"N9","v":121},{"$f":"COUNTIF(L63:L89,AD9)","v":1},{"$f":"AE9/(AG4-AE8)","v":4.5454545454545456E-2},{"$f":"IF(AF9=0,0,(AF9*((LOG(AF9))/LOG(2))))","v":-0.20270143721078623},null,{"$f":"N9","v":121},{"$f":"COUNTIF(L90:L117,AI9)","v":0},{"$f":"AJ9/(AL4-AJ8)","v":0},{"$f":"IF(AK9=0,0,(AK9*((LOG(AK9))/LOG(2))))","v":0},null,{"$f":"N9","v":121},{"$f":"COUNTIF(L118:L145,AN9)","v":0},{"$f":"AO9/(AQ4-AO8)","v":0},{"$f":"IF(AP9=0,0,(AP9*((LOG(AP9))/LOG(2))))","v":0},null,{"$f":"N9","v":121},{"$f":"COUNTIF(L146:L173,AS9)","v":0},{"$f":"AT9/(AV4-AT8)","v":0},{"$f":"IF(AU9=0,0,(AU9*((LOG(AU9))/LOG(2))))","v":0}]
[22,571,13,585,23,597,null,null,null,null,0,212,null,122,{"$f":"COUNTIF($L$7:$L$500,N10)","v":42},{"$f":"O10/$Q$4","v":0.25149700598802394},{"$f":"IF(P10=0,0,(P10*((LOG(P10))/LOG(2))))","v":-0.50082783549222909},null,null,{"$f":"N10","v":122},{"$f":"COUNTIF(L7:L34,T10)","v":10},{"$f":"U10/(W4-U8)","v":0.35714285714285715},{"$f":"IF(V10=0,0,(V10*((LOG(V10))/LOG(2))))","v":-0.53050958113222924},null,{"$f":"N10","v":122},{"$f":"COUNTIF(L35:L62,Y10)","v":8},{"$f":"Z10/(AB4-Z8)","v":0.32},{"$f":"IF(AA10=0,0,(AA10*((LOG(AA10))/LOG(2))))","v":-0.52603398072791185},null,{"$f":"N10","v":122},{"$f":"COUNTIF(L63:L89,AD10)","v":5},{"$f":"AE10/(AG4-AE8)","v":0.22727272727272727},{"$f":"IF(AF10=0,0,(AF10*((LOG(AF10))/LOG(2))))","v":-0.48579625539771243},null,{"$f":"N10","v":122},{"$f":"COUNTIF(L90:L117,AI10)","v":4},{"$f":"AJ10/(AL4-AJ8)","v":0.18181818181818182},{"$f":"IF(AK10=0,0,(AK10*((LOG(AK10))/LOG(2))))","v":-0.44716938520678134},null,{"$f":"N10","v":122},{"$f":"COUNTIF(L118:L145,AN10)","v":8},{"$f":"AO10/(AQ4-AO8)","v":0.33333333333333331},{"$f":"IF(AP10=0,0,(AP10*((LOG(AP10))/LOG(2))))","v":-0.52832083357371862},null,{"$f":"N10","v":122},{"$f":"COUNTIF(L146:L173,AS10)","v":7},{"$f":"AT10/(AV4-AT8)","v":0.31818181818181818},{"$f":"IF(AU10=0,0,(AU10*((LOG(AU10))/LOG(2))))","v":-0.52566076709353871}]
[11,692,22,706,23,717,null,null,null,null,0,122,null,211,{"$f":"COUNTIF($L$7:$L$500,N11)","v":13},{"$f":"O11/$Q$4","v":7.7844311377245512E-2},{"$f":"IF(P11=0,0,(P11*((LOG(P11))/LOG(2))))","v":-0.28672119440915261},null,null,{"$f":"N11","v":211},{"$f":"COUNTIF(L7:L34,T11)","v":2},{"$f":"U11/(W4-U8)","v":7.1428571428571425E-2},{"$f":"IF(V11=0,0,(V11*((LOG(V11))/LOG(2))))","v":-0.27195392300411453},null,{"$f":"N11","v":211},{"$f":"COUNTIF(L35:L62,Y11)","v":2},{"$f":"Z11/(AB4-Z8)","v":0.08},{"$f":"IF(AA11=0,0,(AA11*((LOG(AA11))/LOG(2))))","v":-0.29150849518197797},null,{"$f":"N11","v":211},{"$f":"COUNTIF(L63:L89,AD11)","v":3},{"$f":"AE11/(AG4-AE8)","v":0.13636363636363635},{"$f":"IF(AF11=0,0,(AF11*((LOG(AF11))/LOG(2))))","v":-0.39197306153401923},null,{"$f":"N11","v":211},{"$f":"COUNTIF(L90:L117,AI11)","v":0},{"$f":"AJ11/(AL4-AJ8)","v":0},{"$f":"IF(AK11=0,0,(AK11*((LOG(AK11))/LOG(2))))","v":0},null,{"$f":"N11","v":211},{"$f":"COUNTIF(L118:L145,AN11)","v":2},{"$f":"AO11/(AQ4-AO8)","v":8.3333333333333329E-2},{"$f":"IF(AP11=0,0,(AP11*((LOG(AP11))/LOG(2))))","v":-0.29874687506009634},null,{"$f":"N11","v":211},{"$f":"COUNTIF(L146:L173,AS11)","v":4},{"$f":"AT11/(AV4-AT8)","v":0.18181818181818182},{"$f":"IF(AU11=0,0,(AU11*((LOG(AU11))/LOG(2))))","v":-0.44716938520678134}]
[11,851,22,864,14,885,null,null,null,null,0,121,null,212,{"$f":"COUNTIF($L$7:$L$500,N12)","v":29},{"$f":"O12/$Q$4","v":0.17365269461077845},{"$f":"IF(P12=0,0,(P12*((LOG(P12))/LOG(2))))","v":-0.43859865642543666},null,null,{"$f":"N12","v":212},{"$f":"COUNTIF(L7:L34,T12)","v":3},{"$f":"U12/(W4-U8)","v":0.10714285714285714},{"$f":"IF(V12=0,0,(V12*((LOG(V12))/LOG(2))))","v":-0.34525633085747659},null,{"$f":"N12","v":212},{"$f":"COUNTIF(L35:L62,Y12)","v":8},{"$f":"Z12/(AB4-Z8)","v":0.32},{"$f":"IF(AA12=0,0,(AA12*((LOG(AA12))/LOG(2))))","v":-0.52603398072791185},null,{"$f":"N12","v":212},{"$f":"COUNTIF(L63:L89,AD12)","v":2},{"$f":"AE12/(AG4-AE8)","v":9.0909090909090912E-2},{"$f":"IF(AF12=0,0,(AF12*((LOG(AF12))/LOG(2))))","v":-0.31449378351248153},null,{"$f":"N12","v":212},{"$f":"COUNTIF(L90:L117,AI12)","v":7},{"$f":"AJ12/(AL4-AJ8)","v":0.31818181818181818},{"$f":"IF(AK12=0,0,(AK12*((LOG(AK12))/LOG(2))))","v":-0.52566076709353871},null,{"$f":"N12","v":212},{"$f":"COUNTIF(L118:L145,AN12)","v":6},{"$f":"AO12/(AQ4-AO8)","v":0.25},{"$f":"IF(AP12=0,0,(AP12*((LOG(AP12))/LOG(2))))","v":-0.5},null,{"$f":"N12","v":212},{"$f":"COUNTIF(L146:L173,AS12)","v":3},{"$f":"AT12/(AV4-AT8)","v":0.13636363636363635},{"$f":"IF(AU12=0,0,(AU12*((LOG(AU12))/LOG(2))))","v":-0.39197306153401923}]
[22,984,24,1001,23,1014,null,null,null,null,0,222,null,221,{"$f":"COUNTIF($L$7:$L$500,N13)","v":6},{"$f":"O13/$Q$4","v":3.5928143712574849E-2},{"$f":"IF(P13=0,0,(P13*((LOG(P13))/LOG(2))))","v":-0.17240988473363697},null,null,{"$f":"N13","v":221},{"$f":"COUNTIF(L7:L34,T13)","v":1},{"$f":"U13/(W4-U8)","v":3.5714285714285712E-2},{"$f":"IF(V13=0,0,(V13*((LOG(V13))/LOG(2))))","v":-0.17169124721634299},null,{"$f":"N13","v":221},{"$f":"COUNTIF(L35:L62,Y13)","v":2},{"$f":"Z13/(AB4-Z8)","v":0.08},{"$f":"IF(AA13=0,0,(AA13*((LOG(AA13))/LOG(2))))","v":-0.29150849518197797},null,{"$f":"N13","v":221},{"$f":"COUNTIF(L63:L89,AD13)","v":0},{"$f":"AE13/(AG4-AE8)","v":0},{"$f":"IF(AF13=0,0,(AF13*((LOG(AF13))/LOG(2))))","v":0},null,{"$f":"N13","v":221},{"$f":"COUNTIF(L90:L117,AI13)","v":3},{"$f":"AJ13/(AL4-AJ8)","v":0.13636363636363635},{"$f":"IF(AK13=0,0,(AK13*((LOG(AK13))/LOG(2))))","v":-0.39197306153401923},null,{"$f":"N13","v":221},{"$f":"COUNTIF(L118:L145,AN13)","v":0},{"$f":"AO13/(AQ4-AO8)","v":0},{"$f":"IF(AP13=0,0,(AP13*((LOG(AP13))/LOG(2))))","v":0},null,{"$f":"N13","v":221},{"$f":"COUNTIF(L146:L173,AS13)","v":0},{"$f":"AT13/(AV4-AT8)","v":0},{"$f":"IF(AU13=0,0,(AU13*((LOG(AU13))/LOG(2))))","v":0}]
[22,1113,24,1120,23,1133,null,null,null,null,0,222,null,222,{"$f":"COUNTIF($L$7:$L$500,N14)","v":44},{"$f":"O14/$Q$4","v":0.26347305389221559},{"$f":"IF(P14=0,0,(P14*((LOG(P14))/LOG(2))))","v":-0.50699399789710908},null,null,{"$f":"N14","v":222},{"$f":"COUNTIF(L7:L34,T14)","v":8},{"$f":"U14/(W4-U8)","v":0.2857142857142857},{"$f":"IF(V14=0,0,(V14*((LOG(V14))/LOG(2))))","v":-0.51638712058788683},null,{"$f":"N14","v":222},{"$f":"COUNTIF(L35:L62,Y14)","v":5},{"$f":"Z14/(AB4-Z8)","v":0.2},{"$f":"IF(AA14=0,0,(AA14*((LOG(AA14))/LOG(2))))","v":-0.46438561897747244},null,{"$f":"N14","v":222},{"$f":"COUNTIF(L63:L89,AD14)","v":9},{"$f":"AE14/(AG4-AE8)","v":0.40909090909090912},{"$f":"IF(AF14=0,0,(AF14*((LOG(AF14))/LOG(2))))","v":-0.52752543430703935},null,{"$f":"N14","v":222},{"$f":"COUNTIF(L90:L117,AI14)","v":8},{"$f":"AJ14/(AL4-AJ8)","v":0.36363636363636365},{"$f":"IF(AK14=0,0,(AK14*((LOG(AK14))/LOG(2))))","v":-0.53070240677719893},null,{"$f":"N14","v":222},{"$f":"COUNTIF(L118:L145,AN14)","v":7},{"$f":"AO14/(AQ4-AO8)","v":0.29166666666666669},{"$f":"IF(AP14=0,0,(AP14*((LOG(AP14))/LOG(2))))","v":-0.51846887711020273},null,{"$f":"N14","v":222},{"$f":"COUNTIF(L146:L173,AS14)","v":7},{"$f":"AT14/(AV4-AT8)","v":0.31818181818181818},{"$f":"IF(AU14=0,0,(AU14*((LOG(AU14))/LOG(2))))","v":-0.52566076709353871}]
[11,1229,11,1233,12,1241,null,null,null,null,0,111,null,null,null,{"$f":"SUM(P7:P14)","v":1},{"$f":"-SUM(Q7:Q14)","v":2.5882671447653438},null,null,null,null,{"$f":"SUM(V7:V14)","v":0.99999999999999989},{"$f":"-SUM(W7:W14)","v":2.3527457808718699},null,null,null,{"$f":"SUM(AA7:AA14)","v":1},{"$f":"-SUM(AB7:AB14)","v":2.0994705707972523},null,null,null,{"$f":"SUM(AF7:AF14)","v":1},{"$f":"-SUM(AG7:AG14)","v":2.2369837554745202},null,null,null,{"$f":"SUM(AK7:AK14)","v":1},{"$f":"-SUM(AL7:AL14)","v":1.8955056206115382},null,null,null,{"$f":"SUM(AP7:AP14)","v":1},{"$f":"-SUM(AQ7:AQ14)","v":2.0365766899407327},null,null,null,{"$f":"SUM(AU7:AU14)","v":1},{"$f":"-SUM(AV7:AV14)","v":2.0931654181386641}]
[22,1433,24,1438,23,1445,null,null,null,null,0,222,null,null,null,"U=",{"$f":"Q15/(LOG(Q4)/LOG(2))","v":0.35053775750519595},null,null,null,null,"U1=",{"$f":"W15/(LOG(W4)/LOG(2))","v":0.48940546704316712},null,null,null,"U2=",{"$f":"AB15/(LOG(AB4)/LOG(2))","v":0.43672052611806211},null,null,null,"U3=",{"$f":"AG15/(LOG(AG4)/LOG(2))","v":0.47045986986163085},null,null,null,"U4=",{"$f":"AL15/(LOG(AL4)/LOG(2))","v":0.39429283906507151},null,null,null,"U5=",{"$f":"AQ15/(LOG(AQ4)/LOG(2))","v":0.42363768079537889},null,null,null,"U6=",{"$f":"AV15/(LOG(AV4)/LOG(2))","v":0.43540896232449694}]
[11,1553,22,1562,23,1567,null,null,null,null,0,122]
[11,1663,22,1676,14,1700,null,null,null,null,0,121]
[22,1796,13,1808,14,1813,null,null,null,null,0,211,null,"Total Target Seq"]
[11,1909,22,1926,23,1936,null,null,null,null,0,122,null,{"$f":"COUNTIF(L7:L173,G3)","v":24},null,28,28,27,28,28,28]
[11,2060,22,2072,23,2078,null,null,null,null,0,122,null,null,null,"% of reinforcement given in 6 equal intervals based on number of trials "]
[11,2190,22,2203,23,2209,null,null,null,null,0,122,null,null,null,"%_1","%_2","%_3","%_4","%_5","%_6"]
[11,2307,22,2317,23,2322,null,null,null,null,0,122,null,null,"target sequence",{"$f":"$G$3","v":112},{"$f":"$G$3","v":112},{"$f":"$G$3","v":112},{"$f":"$G$3","v":112},{"$f":"$G$3","v":112},{"$f":"$G$3","v":112}]
[11,2421,22,2434,23,2448,null,null,null,null,0,122,null,null,"total reinforcement",{"$f":"U8","v":0},{"$f":"Z8","v":3},{"$f":"AE8","v":5},{"$f":"AJ8","v":6},{"$f":"AO8","v":4},{"$f":"AT8","v":6}]
[22,2564,13,2582,23,2598,null,null,null,null,0,212,null,null,"% target"]
[22,2719,24,2727,23,2736,null,null,null,null,0,222,null,null,"CCRF"]
[22,2868,24,2873,23,2882,null,null,null,null,0,222,null,null,"% CCRf"]
[11,2998,22,3006,23,3014,null,null,null,null,0,122,null,null,"average response rate",{"$f":"F34/P20","v":135.39285714285714},{"$f":"(F62-F34)/Q20","v":139.42857142857142},{"$f":"(F89-F62)/R20","v":132.88888888888889},{"$f":"(F117-F89)/S20","v":130.32142857142858},{"$f":"(F145-F117)/T20","v":135.32142857142858},{"$f":"(F173-F145)/U20","v":186.57142857142858}]
[11,3132,22,3143,23,3147,null,null,null,null,0,122]
[11,3245,22,3253,14,3278,null,null,null,null,0,121]
[22,3377,13,3389,14,3394,null,null,null,null,0,211]
[22,3516,24,3534,23,3542,null,null,null,null,0,222]
[22,3638,13,3648,23,3661,null,null,null,null,0,212]
[11,3771,22,3784,23,3791,null,null,null,null,0,122]
[22,3915,24,3919,23,3926,null,null,null,null,0,222]
[22,4046,13,4071,23,4086,null,null,null,null,0,212]
[22,4186,13,4196,23,4203,null,null,null,null,0,212]
[22,4297,13,4310,14,4313,null,null,null,null,0,211]
[22,4408,13,4424,23,4436,null,null,null,null,0,212]
[22,4607,24,4636,23,4643,null,null,null,null,0,222]
[11,4742,22,4752,23,4757,null,null,null,null,0,122]
[22,4902,13,4916,23,4927,null,null,null,null,0,212]
[22,5023,13,5034,23,5045,null,null,null,null,0,212]
[11,5140,22,5150,23,5160,null,null,null,null,0,122]
[22,5267,13,5281,23,5293,null,null,null,null,0,212]
[22,5417,24,5431,14,5445,null,null,null,null,0,221]
[11,5547,22,5556,23,5562,null,null,null,null,0,122]
[11,5694,11,5700,21,5708,null,null,null,null,0,112]
[22,5974,24,5994,23,5999,null,null,null,null,0,222]
[11,6098,22,6107,23,6113,null,null,null,null,0,122]
[22,6214,13,6230,23,6239,null,null,null,null,0,212]
[22,6333,13,6346,23,6357,null,null,null,null,0,212]
[11,6462,22,6470,23,6475,null,null,null,null,0,122]
[22,6578,24,6589,14,6604,null,null,null,null,0,221]
[22,6723,24,6729,23,6737,null,null,null,null,0,222]
[11,6834,22,6842,23,6846,null,null,null,null,0,122]
[11,6952,22,6964,23,6970,null,null,null,null,0,122]
[22,7066,13,7078,14,7085,null,null,null,null,0,211]
[11,7187,11,7191,21,7203,null,null,null,null,0,112]
[22,7440,24,7470,23,7477,null,null,null,null,0,222]
[11,7576,22,7584,23,7589,null,null,null,null,0,122]
[11,7683,11,7686,21,7695,null,null,null,null,0,112]
[22,7856,24,7860,23,7879,null,null,null,null,0,222]
[11,7975,11,7978,21,7989,null,null,null,null,0,112]
[22,8161,24,8167,23,8174,null,null,null,null,0,222]
[22,8275,24,8279,23,8286,null,null,null,null,0,222]
[11,8381,11,8387,21,8399,null,null,null,null,0,112]
[22,8538,24,8543,23,8572,null,null,null,null,0,222]
[11,8664,11,8668,21,8679,null,null,null,null,0,112]
[22,8813,24,8818,23,8826,null,null,null,null,0,222]
[22,8918,13,8929,14,8934,null,null,null,null,0,211]
[22,9045,24,9052,23,9059,null,null,null,null,0,222]
[11,9152,11,9158,21,9176,null,null,null,null,0,112]
[22,9405,13,9426,14,9435,null,null,null,null,0,211]
[22,9531,13,9546,23,9561,null,null,null,null,0,212]
[22,9660,24,9665,23,9672,null,null,null,null,0,222]
[22,9765,13,9778,23,9796,null,null,null,null,0,212]
[11,9891,22,9910,23,9919,null,null,null,null,0,122]
[11,10013,11,10017,21,10026,null,null,null,null,0,112]
[22,10169,24,10175,23,10182,null,null,null,null,0,222]
[11,10274,11,10278,12,10283,null,null,null,null,0,111]
[11,10376,11,10380,12,10384,null,null,null,null,0,111]
[11,10494,22,10503,14,10517,null,null,null,null,0,121]
[11,10612,22,10621,23,10625,null,null,null,null,0,122]
[11,10719,22,10728,23,10733,null,null,null,null,0,122]
[22,10834,24,10839,23,10850,null,null,null,null,0,222]
[22,10946,13,10957,14,10964,null,null,null,null,0,211]
[11,11153,22,11163,23,11170,null,null,null,null,0,122]
[11,11263,22,11276,23,11283,null,null,null,null,0,122]
[11,11394,11,11403,21,11414,null,null,null,null,0,112]
[22,11538,24,11544,14,11559,null,null,null,null,0,221]
[22,11659,24,11662,23,11668,null,null,null,null,0,222]
[22,11765,24,11776,14,11792,null,null,null,null,0,221]
[22,11891,13,11904,23,11929,null,null,null,null,0,212]
[22,12024,13,12035,23,12050,null,null,null,null,0,212]
[22,12142,13,12155,23,12167,null,null,null,null,0,212]
[22,12268,13,12278,23,12294,null,null,null,null,0,212]
[22,12393,24,12396,14,12408,null,null,null,null,0,221]
[11,12504,22,12516,23,12523,null,null,null,null,0,122]
[11,12617,11,12620,21,12639,null,null,null,null,0,112]
[22,12798,24,12804,23,12810,null,null,null,null,0,222]
[22,12905,13,12919,23,12931,null,null,null,null,0,212]
[11,13027,22,13042,23,13048,null,null,null,null,0,122]
[11,13142,11,13147,21,13168,null,null,null,null,0,112]
[22,13315,24,13320,23,13325,null,null,null,null,0,222]
[22,13423,13,13434,23,13455,null,null,null,null,0,212]
[22,13550,13,13567,23,13588,null,null,null,null,0,212]
[22,13684,24,13689,23,13695,null,null,null,null,0,222]
[22,13795,24,13799,23,13806,null,null,null,null,0,222]
[11,13948,22,13964,23,13972,null,null,null,null,0,122]
[11,14067,22,14080,23,14087,null,null,null,null,0,122]
[11,14183,11,14187,21,14197,null,null,null,null,0,112]
[22,14338,24,14343,23,14346,null,null,null,null,0,222]
[11,14452,11,14456,21,14481,null,null,null,null,0,112]
[22,14638,24,14643,23,14650,null,null,null,null,0,222]
[11,14744,11,14750,21,14763,null,null,null,null,0,112]
[22,14899,24,14903,23,14932,null,null,null,null,0,222]
[22,15028,13,15038,23,15050,null,null,null,null,0,212]
[11,15144,11,15149,21,15172,null,null,null,null,0,112]
[22,15331,24,15337,23,15381,null,null,null,null,0,222]
[11,15479,22,15488,23,15493,null,null,null,null,0,122]
[11,15680,22,15688,23,15698,null,null,null,null,0,122]
[22,15795,13,15807,23,15831,null,null,null,null,0,212]
[22,15925,13,15935,14,15939,null,null,null,null,0,211]
[11,16049,22,16072,23,16083,null,null,null,null,0,122]
[11,16189,11,16193,12,16200,null,null,null,null,0,111]
[11,16295,22,16303,23,16314,null,null,null,null,0,122]
[11,16408,11,16411,21,16421,null,null,null,null,0,112]
[22,16552,24,16556,23,16562,null,null,null,null,0,222]
[11,16658,22,16668,23,16683,null,null,null,null,0,122]
[11,16788,22,16801,23,16808,null,null,null,null,0,122]
[22,16907,13,16918,23,16938,null,null,null,null,0,212]
[11,17033,22,17042,23,17047,null,null,null,null,0,122]
[11,17143,11,17148,21,17160,null,null,null,null,0,112]
[22,17293,24,17299,23,17304,null,null,null,null,0,222]
[22,17401,13,17415,14,17420,null,null,null,null,0,211]
[22,17518,13,17528,23,17538,null,null,null,null,0,212]
[11,17685,11,17689,21,17699,null,null,null,null,0,112]
[22,17888,24,17918,23,17933,null,null,null,null,0,222]
[22,18040,24,18045,23,18052,null,null,null,null,0,222]
[11,18160,22,18182,23,18196,null,null,null,null,0,122]
[22,18343,13,18354,23,18365,null,null,null,null,0,212]
[22,18470,24,18474,23,18479,null,null,null,null,0,222]
[22,18576,24,18583,23,18592,null,null,null,null,0,222]
[22,18688,13,18700,23,18721,null,null,null,null,0,212]
[22,18818,24,18849,23,18858,null,null,null,null,0,222]
[11,18952,11,18959,21,18981,null,null,null,null,0,112]
[22,19099,24,19105,23,19141,null,null,null,null,0,222]
[22,19236,24,19255,23,19262,null,null,null,null,0,222]
[22,19378,13,19395,14,19399,null,null,null,null,0,211]
[11,19491,11,19494,21,19507,null,null,null,null,0,112]
[22,19665,24,19668,23,19693,null,null,null,null,0,222]
[11,19794,22,19804,23,19809,null,null,null,null,0,122]
[11,19902,11,19907,21,19920,null,null,null,null,0,112]
[22,20065,24,20083,23,20087,null,null,null,null,0,222]
[22,20193,13,20202,23,20212,null,null,null,null,0,212]
[22,20309,13,20319,23,20337,null,null,null,null,0,212]
[11,20434,22,20449,23,20458,null,null,null,null,0,122]
[11,20554,11,20556,21,20569,null,null,null,null,0,112]
[22,20696,24,20701,23,20733,null,null,null,null,0,222]
[22,20834,13,20844,23,20860,null,null,null,null,0,212]
[11,20956,22,20965,23,20972,null,null,null,null,0,122]
[11,21067,11,21072,21,21084,null,null,null,null,0,112]
[22,21200,24,21205,23,21232,null,null,null,null,0,222]
[11,21328,22,21353,23,21363,null,null,null,null,0,122]
[22,21458,13,21472,14,21477,null,null,null,null,0,211]
[11,21580,22,21588,23,21593,null,null,null,null,0,122]
[11,21696,11,21705,12,21715,null,null,null,null,0,111]
[22,21813,13,21824,14,21827,null,null,null,null,0,211]
[22,21919,13,21928,14,21932,null,null,null,null,0,211]
[11,23654,22,23691,23,23698,null,null,null,null,0,122]
[11,23806,22,23822,23,23834,null,null,null,null,0,122]
[11,23929,11,23932,21,23945,null,null,null,null,1,112]

{"sheet":"!MB10A2I.sha","index":5,"n_rows":187,"n_cols":48,"rows_kept":187,"cut":false,"hidden":false,"merged":[[4,39,4,42],[5,39,5,40],[4,44,4,47],[5,44,5,45],[4,24,4,27],[5,24,5,25],[4,29,4,32],[5,29,5,30],[4,34,4,37],[5,34,5,35],[1,1,1,2],[5,13,5,14],[18,13,18,14],[19,13,19,14],[4,19,4,22],[5,19,5,20]]}
["Report for:!MB10A2I.sha"]
["Date:","<date>"]
["Hen:","<hen>",null,null,null,"Correct Sequence",{"$f":"Start!J2","v":112},null,null,null,null,null,null,null,null,"Total Sequences in Data",{"$f":"4994-COUNTBLANK(L7:L5000)","v":181},null,null,null,null,"Total Sequences in Block Data",{"$f":"COUNTA(L7:L36)","v":30},null,null,null,"Total Sequences in Block Data",{"$f":"COUNTA(L37:L66)","v":30},null,null,null,"Total Sequences in Block Data",{"$f":"COUNTA(L67:L97)","v":31},null,null,null,"Total Sequences in Block Data",{"$f":"COUNTA(L98:L127)","v":30},null,null,null,"Total Sequences in Block Data",{"$f":"COUNTA(L128:L157)","v":30},null,null,null,"Total Sequences in Block Data",{"$f":"COUNTA(L158:L187)","v":30}]
[null,null,null,null,null,null,null,null,null,null,null,null,null,null,null,"Total Sequences in Summary",{"$f":"SUM(O7:O14)","v":181},null,null,null,null,"Total Sequences in Block Summary",{"$f":"SUM(U7:U14)","v":30},null,null,null,"Total Sequences in Block Summary",{"$f":"SUM(Z7:Z14)","v":30},null,null,null,"Total Sequences in Block Summary",{"$f":"SUM(AE7:AE14)","v":31},null,null,null,"Total Sequences in Block Summary",{"$f":"SUM(AJ7:AJ14)","v":30},null,null,null,"Total Sequences in Block Summary",{"$f":"SUM(AO7:AO14)","v":30},null,null,null,"Total Sequences in Block Summary",{"$f":"SUM(AT7:AT14)","v":30}]
[null,null,null,null,null,null,null,null,null,null,null,null,null,null,null,null,null,null,null,"Block 1",null,null,null,null,"Block 2",null,null,null,null,"Block 3",null,null,null,null,"Block 4",null,null,null,null,"Block 5",null,null,null,null,"Block 6"]
["Sequence\nComponent\n1","Time\n1","Sequence\nComponent\n2","Time\n2","Sequence\nComponent\n3","Time\n3","Sequence\nComponent\n4","Time\n4","Sequence\nComponent\n5","Time\n5","Correct?\n0=No 1=Yes","Sequence",null,"Frequency",null,"Relative Frequency","Variability",null,null,"Frequency",null,"Relative Frequency","Variability",null,"Frequency",null,"Relative Frequency","Variability",null,"Frequency",null,"Relative Frequency","Variability",null,"Frequency",null,"Relative Frequency","Variability",null,"Frequency",null,"Relative Frequency","Variability",null,"Frequency",null,"Relative Frequency","Variability"]
[22,21,13,33,23,43,null,null,null,null,0,212,null,111,{"$f":"COUNTIF($L$7:$L$500,N7)","v":14},{"$f":"O7/$Q$4","v":7.7348066298342538E-2},{"$f":"IF(P7=0,0,(P7*((LOG(P7))/LOG(2))))","v":-0.28560703596883102},null,null,{"$f":"N7","v":111},{"$f":"COUNTIF(L7:L36,T7)","v":0},{"$f":"U7/(W4-U8)","v":0},{"$f":"IF(V7=0,0,(V7*((LOG(V7))/LOG(2))))","v":0},null,{"$f":"N7","v":111},{"$f":"COUNTIF(L37:L66,Y7)","v":2},{"$f":"Z7/(AB4-Z8)","v":7.6923076923076927E-2},{"$f":"IF(AA7=0,0,(AA7*((LOG(AA7))/LOG(2))))","v":-0.28464920908777636},null,{"$f":"N7","v":111},{"$f":"COUNTIF(L67:L97,AD7)","v":3},{"$f":"AE7/(AG4-AE8)","v":0.125},{"$f":"IF(AF7=0,0,(AF7*((LOG(AF7))/LOG(2))))","v":-0.375},null,{"$f":"N7","v":111},{"$f":"COUNTIF(L98:L127,AI7)","v":2},{"$f":"AJ7/(AL4-AJ8)","v":7.6923076923076927E-2},{"$f":"IF(AK7=0,0,(AK7*((LOG(AK7))/LOG(2))))","v":-0.28464920908777636},null,{"$f":"N7","v":111},{"$f":"COUNTIF(L128:L157,AN7)","v":3},{"$f":"AO7/(AQ4-AO8)","v":0.12},{"$f":"IF(AP7=0,0,(AP7*((LOG(AP7))/LOG(2))))","v":-0.36706724268642821},null,{"$f":"N7","v":111},{"$f":"COUNTIF(L158:L187,AS7)","v":4},{"$f":"AT7/(AV4-AT8)","v":0.14814814814814814},{"$f":"IF(AU7=0,0,(AU7*((LOG(AU7))/LOG(2))))","v":-0.40813148180199532}]
[11,191,22,200,23,205,null,null,null,null,0,122,null,112,{"$f":"COUNTIF($L$7:$L$500,N8)","v":28},{"$f":"O8/$Q$4","v":0.15469613259668508},{"$f":"IF(P8=0,0,(P8*((LOG(P8))/LOG(2))))","v":-0.41651793934097703},null,null,{"$f":"N8","v":112},{"$f":"COUNTIF(L7:L36,T8)","v":5},null,null,null,{"$f":"N8","v":112},{"$f":"COUNTIF(L37:L66,Y8)","v":4},null,null,null,{"$f":"N8","v":112},{"$f":"COUNTIF(L67:L97,AD8)","v":7},null,null,null,{"$f":"N8","v":112},{"$f":"COUNTIF(L98:L127,AI8)","v":4},null,null,null,{"$f":"N8","v":112},{"$f":"COUNTIF(L128:L157,AN8)","v":5},null,null,null,{"$f":"N8","v":112},{"$f":"COUNTIF(L158:L187,AS8)","v":3}]
[22,336,24,362,23,367,null,null,null,null,0,222,null,121,{"$f":"COUNTIF($L$7:$L$500,N9)","v":9},{"$f":"O9/$Q$4","v":4.9723756906077346E-2},{"$f":"IF(P9=0,0,(P9*((LOG(P9))/LOG(2))))","v":-0.21529993354015486},null,null,{"$f":"N9","v":121},{"$f":"COUNTIF(L7:L36,T9)","v":2},{"$f":"U9/(W4-U8)","v":0.08},{"$f":"IF(V9=0,0,(V9*((LOG(V9))/LOG(2))))","v":-0.29150849518197797},null,{"$f":"N9","v":121},{"$f":"COUNTIF(L37:L66,Y9)","v":2},{"$f":"Z9/(AB4-Z8)","v":7.6923076923076927E-2},{"$f":"IF(AA9=0,0,(AA9*((LOG(AA9))/LOG(2))))","v":-0.28464920908777636},null,{"$f":"N9","v":121},{"$f":"COUNTIF(L67:L97,AD9)","v":2},{"$f":"AE9/(AG4-AE8)","v":8.3333333333333329E-2},{"$f":"IF(AF9=0,0,(AF9*((LOG(AF9))/LOG(2))))","v":-0.29874687506009634},null,{"$f":"N9","v":121},{"$f":"COUNTIF(L98:L127,AI9)","v":0},{"$f":"AJ9/(AL4-AJ8)","v":0},{"$f":"IF(AK9=0,0,(AK9*((LOG(AK9))/LOG(2))))","v":0},null,{"$f":"N9","v":121},{"$f":"COUNTIF(L128:L157,AN9)","v":1},{"$f":"AO9/(AQ4-AO8)","v":0.04},{"$f":"IF(AP9=0,0,(AP9*((LOG(AP9))/LOG(2))))","v":-0.18575424759098899},null,{"$f":"N9","v":121},{"$f":"COUNTIF(L158:L187,AS9)","v":2},{"$f":"AT9/(AV4-AT8)","v":7.407407407407407E-2},{"$f":"IF(AU9=0,0,(AU9*((LOG(AU9))/LOG(2))))","v":-0.27813981497507173}]
[11,489,22,500,23,510,null,null,null,null,0,122,null,122,{"$f":"COUNTIF($L$7:$L$500,N10)","v":45},{"$f":"O10/$Q$4","v":0.24861878453038674},{"$f":"IF(P10=0,0,(P10*((LOG(P10))/LOG(2))))","v":-0.49922472698292192},null,null,{"$f":"N10","v":122},{"$f":"COUNTIF(L7:L36,T10)","v":8},{"$f":"U10/(W4-U8)","v":0.32},{"$f":"IF(V10=0,0,(V10*((LOG(V10))/LOG(2))))","v":-0.52603398072791185},null,{"$f":"N10","v":122},{"$f":"COUNTIF(L37:L66,Y10)","v":9},{"$f":"Z10/(AB4-Z8)","v":0.34615384615384615},{"$f":"IF(AA10=0,0,(AA10*((LOG(AA10))/LOG(2))))","v":-0.52979355578034681},null,{"$f":"N10","v":122},{"$f":"COUNTIF(L67:L97,AD10)","v":4},{"$f":"AE10/(AG4-AE8)","v":0.16666666666666666},{"$f":"IF(AF10=0,0,(AF10*((LOG(AF10))/LOG(2))))","v":-0.43082708345352599},null,{"$f":"N10","v":122},{"$f":"COUNTIF(L98:L127,AI10)","v":8},{"$f":"AJ10/(AL4-AJ8)","v":0.30769230769230771},{"$f":"IF(AK10=0,0,(AK10*((LOG(AK10))/LOG(2))))","v":-0.52321222096648989},null,{"$f":"N10","v":122},{"$f":"COUNTIF(L128:L157,AN10)","v":7},{"$f":"AO10/(AQ4-AO8)","v":0.28000000000000003},{"$f":"IF(AP10=0,0,(AP10*((LOG(AP10))/LOG(2))))","v":-0.51422035496079388},null,{"$f":"N10","v":122},{"$f":"COUNTIF(L158:L187,AS10)","v":9},{"$f":"AT10/(AV4-AT8)","v":0.33333333333333331},{"$f":"IF(AU10=0,0,(AU10*((LOG(AU10))/LOG(2))))","v":-0.52832083357371862}]
[11,605,22,617,23,622,null,null,null,null,0,122,null,211,{"$f":"COUNTIF($L$7:$L$500,N11)","v":12},{"$f":"O11/$Q$4","v":6.6298342541436461E-2},{"$f":"IF(P11=0,0,(P11*((LOG(P11))/LOG(2))))","v":-0.2595502797588099},null,null,{"$f":"N11","v":211},{"$f":"COUNTIF(L7:L36,T11)","v":0},{"$f":"U11/(W4-U8)","v":0},{"$f":"IF(V11=0,0,(V11*((LOG(V11))/LOG(2))))","v":0},null,{"$f":"N11","v":211},{"$f":"COUNTIF(L37:L66,Y11)","v":3},{"$f":"Z11/(AB4-Z8)","v":0.11538461538461539},{"$f":"IF(AA11=0,0,(AA11*((LOG(AA11))/LOG(2))))","v":-0.35947814047153104},null,{"$f":"N11","v":211},{"$f":"COUNTIF(L67:L97,AD11)","v":3},{"$f":"AE11/(AG4-AE8)","v":0.125},{"$f":"IF(AF11=0,0,(AF11*((LOG(AF11))/LOG(2))))","v":-0.375},null,{"$f":"N11","v":211},{"$f":"COUNTIF(L98:L127,AI11)","v":2},{"$f":"AJ11/(AL4-AJ8)","v":7.6923076923076927E-2},{"$f":"IF(AK11=0,0,(AK11*((LOG(AK11))/LOG(2))))","v":-0.28464920908777636},null,{"$f":"N11","v":211},{"$f":"COUNTIF(L128:L157,AN11)","v":4},{"$f":"AO11/(AQ4-AO8)","v":0.16},{"$f":"IF(AP11=0,0,(AP11*((LOG(AP11))/LOG(2))))","v":-0.42301699036395596},null,{"$f":"N11","v":211},{"$f":"COUNTIF(L158:L187,AS11)","v":0},{"$f":"AT11/(AV4-AT8)","v":0},{"$f":"IF(AU11=0,0,(AU11*((LOG(AU11))/LOG(2))))","v":0}]
[11,725,22,736,14,754,null,null,null,null,0,121,null,212,{"$f":"COUNTIF($L$7:$L$500,N12)","v":24},{"$f":"O12/$Q$4","v":0.13259668508287292},{"$f":"IF(P12=0,0,(P12*((LOG(P12))/LOG(2))))","v":-0.38650387443474682},null,null,{"$f":"N12","v":212},{"$f":"COUNTIF(L7:L36,T12)","v":4},{"$f":"U12/(W4-U8)","v":0.16},{"$f":"IF(V12=0,0,(V12*((LOG(V12))/LOG(2))))","v":-0.42301699036395596},null,{"$f":"N12","v":212},{"$f":"COUNTIF(L37:L66,Y12)","v":3},{"$f":"Z12/(AB4-Z8)","v":0.11538461538461539},{"$f":"IF(AA12=0,0,(AA12*((LOG(AA12))/LOG(2))))","v":-0.35947814047153104},null,{"$f":"N12","v":212},{"$f":"COUNTIF(L67:L97,AD12)","v":3},{"$f":"AE12/(AG4-AE8)","v":0.125},{"$f":"IF(AF12=0,0,(AF12*((LOG(AF12))/LOG(2))))","v":-0.375},null,{"$f":"N12","v":212},{"$f":"COUNTIF(L98:L127,AI12)","v":6},{"$f":"AJ12/(AL4-AJ8)","v":0.23076923076923078},{"$f":"IF(AK12=0,0,(AK12*((LOG(AK12))/LOG(2))))","v":-0.48818705017383146},null,{"$f":"N12","v":212},{"$f":"COUNTIF(L128:L157,AN12)","v":3},{"$f":"AO12/(AQ4-AO8)","v":0.12},{"$f":"IF(AP12=0,0,(AP12*((LOG(AP12))/LOG(2))))","v":-0.36706724268642821},null,{"$f":"N12","v":212},{"$f":"COUNTIF(L158:L187,AS12)","v":5},{"$f":"AT12/(AV4-AT8)","v":0.18518518518518517},{"$f":"IF(AU12=0,0,(AU12*((LOG(AU12))/LOG(2))))","v":-0.45054803838446406}]
[22,886,24,896,23,903,null,null,null,null,0,222,null,221,{"$f":"COUNTIF($L$7:$L$500,N13)","v":9},{"$f":"O13/$Q$4","v":4.9723756906077346E-2},{"$f":"IF(P13=0,0,(P13*((LOG(P13))/LOG(2))))","v":-0.21529993354015486},null,null,{"$f":"N13","v":221},{"$f":"COUNTIF(L7:L36,T13)","v":0},{"$f":"U13/(W4-U8)","v":0},{"$f":"IF(V13=0,0,(V13*((LOG(V13))/LOG(2))))","v":0},null,{"$f":"N13","v":221},{"$f":"COUNTIF(L37:L66,Y13)","v":1},{"$f":"Z13/(AB4-Z8)","v":3.8461538461538464E-2},{"$f":"IF(AA13=0,0,(AA13*((LOG(AA13))/LOG(2))))","v":-0.18078614300542661},null,{"$f":"N13","v":221},{"$f":"COUNTIF(L67:L97,AD13)","v":3},{"$f":"AE13/(AG4-AE8)","v":0.125},{"$f":"IF(AF13=0,0,(AF13*((LOG(AF13))/LOG(2))))","v":-0.375},null,{"$f":"N13","v":221},{"$f":"COUNTIF(L98:L127,AI13)","v":2},{"$f":"AJ13/(AL4-AJ8)","v":7.6923076923076927E-2},{"$f":"IF(AK13=0,0,(AK13*((LOG(AK13))/LOG(2))))","v":-0.28464920908777636},null,{"$f":"N13","v":221},{"$f":"COUNTIF(L128:L157,AN13)","v":1},{"$f":"AO13/(AQ4-AO8)","v":0.04},{"$f":"IF(AP13=0,0,(AP13*((LOG(AP13))/LOG(2))))","v":-0.18575424759098899},null,{"$f":"N13","v":221},{"$f":"COUNTIF(L158:L187,AS13)","v":2},{"$f":"AT13/(AV4-AT8)","v":7.407407407407407E-2},{"$f":"IF(AU13=0,0,(AU13*((LOG(AU13))/LOG(2))))","v":-0.27813981497507173}]
[22,1103,24,1113,23,1122,null,null,null,null,0,222,null,222,{"$f":"COUNTIF($L$7:$L$500,N14)","v":40},{"$f":"O14/$Q$4","v":0.22099447513812154},{"$f":"IF(P14=0,0,(P14*((LOG(P14))/LOG(2))))","v":-0.48130779938029677},null,null,{"$f":"N14","v":222},{"$f":"COUNTIF(L7:L36,T14)","v":11},{"$f":"U14/(W4-U8)","v":0.44},{"$f":"IF(V14=0,0,(V14*((LOG(V14))/LOG(2))))","v":-0.52114681130046814},null,{"$f":"N14","v":222},{"$f":"COUNTIF(L37:L66,Y14)","v":6},{"$f":"Z14/(AB4-Z8)","v":0.23076923076923078},{"$f":"IF(AA14=0,0,(AA14*((LOG(AA14))/LOG(2))))","v":-0.48818705017383146},null,{"$f":"N14","v":222},{"$f":"COUNTIF(L67:L97,AD14)","v":6},{"$f":"AE14/(AG4-AE8)","v":0.25},{"$f":"IF(AF14=0,0,(AF14*((LOG(AF14))/LOG(2))))","v":-0.5},null,{"$f":"N14","v":222},{"$f":"COUNTIF(L98:L127,AI14)","v":6},{"$f":"AJ14/(AL4-AJ8)","v":0.23076923076923078},{"$f":"IF(AK14=0,0,(AK14*((LOG(AK14))/LOG(2))))","v":-0.48818705017383146},null,{"$f":"N14","v":222},{"$f":"COUNTIF(L128:L157,AN14)","v":6},{"$f":"AO14/(AQ4-AO8)","v":0.24},{"$f":"IF(AP14=0,0,(AP14*((LOG(AP14))/LOG(2))))","v":-0.49413448537285637},null,{"$f":"N14","v":222},{"$f":"COUNTIF(L158:L187,AS14)","v":5},{"$f":"AT14/(AV4-AT8)","v":0.18518518518518517},{"$f":"IF(AU14=0,0,(AU14*((LOG(AU14))/LOG(2))))","v":-0.45054803838446406}]
[22,1239,24,1245,23,1249,null,null,null,null,0,222,null,null,null,{"$f":"SUM(P7:P14)","v":1},{"$f":"-SUM(Q7:Q14)","v":2.7593115229468932},null,null,null,null,{"$f":"SUM(V7:V14)","v":1},{"$f":"-SUM(W7:W14)","v":1.761706277574314},null,null,null,{"$f":"SUM(AA7:AA14)","v":1},{"$f":"-SUM(AB7:AB14)","v":2.4870214480782193},null,null,null,{"$f":"SUM(AF7:AF14)","v":1},{"$f":"-SUM(AG7:AG14)","v":2.7295739585136225},null,null,null,{"$f":"SUM(AK7:AK14)","v":1},{"$f":"-SUM(AL7:AL14)","v":2.353533948577482},null,null,null,{"$f":"SUM(AP7:AP14)","v":1},{"$f":"-SUM(AQ7:AQ14)","v":2.5370148112524404},null,null,null,{"$f":"SUM(AU7:AU14)","v":1},{"$f":"-SUM(AV7:AV14)","v":2.3938280220947856}]
[22,1363,13,1380,23,1397,null,null,null,null,0,212,null,null,null,"U=",{"$f":"Q15/(LOG(Q4)/LOG(2))","v":0.36791576313577129},null,null,null,null,"U1=",{"$f":"W15/(LOG(W4)/LOG(2))","v":0.3590270137978977},null,null,null,"U2=",{"$f":"AB15/(LOG(AB4)/LOG(2))","v":0.50684265312619958},null,null,null,"U3=",{"$f":"AG15/(LOG(AG4)/LOG(2))","v":0.55096201028426128},null,null,null,"U4=",{"$f":"AL15/(LOG(AL4)/LOG(2))","v":0.47963856187945292},null,null,null,"U5=",{"$f":"AQ15/(LOG(AQ4)/LOG(2))","v":0.51703105292850271},null,null,null,"U6=",{"$f":"AV15/(LOG(AV4)/LOG(2))","v":0.48785029448938011}]
[22,1495,24,1509,23,1545,null,null,null,null,0,222]
[11,1642,22,1650,14,1669,null,null,null,null,0,121]
[11,1783,22,1796,23,1802,null,null,null,null,0,122,null,"Total Target Seq"]
[22,1903,24,1912,23,1938,null,null,null,null,0,222,null,{"$f":"COUNTIF(L7:L187,G3)","v":28},null,30,30,31,30,30,30]
[11,2030,22,2038,23,2058,null,null,null,null,0,122,null,null,null,"% of reinforcement given in 6 equal intervals based on number of trials "]
[11,2175,22,2185,23,2189,null,null,null,null,0,122,null,null,null,"%_1","%_2","%_3","%_4","%_5","%_6"]
[11,2282,11,2288,21,2299,null,null,null,null,0,112,null,null,"target sequence",{"$f":"$G$3","v":112},{"$f":"$G$3","v":112},{"$f":"$G$3","v":112},{"$f":"$G$3","v":112},{"$f":"$G$3","v":112},{"$f":"$G$3","v":112}]
[22,2555,13,2568,23,2584,null,null,null,null,0,212,null,null,"total reinforcement",{"$f":"U8","v":5},{"$f":"Z8","v":4},{"$f":"AE8","v":7},{"$f":"AJ8","v":4},{"$f":"AO8","v":5},{"$f":"AT8","v":3}]
[22,2685,24,2695,23,2701,null,null,null,null,0,222,null,null,"% target"]
[22,2832,13,2848,23,2865,null,null,null,null,0,212,null,null,"CCRF"]
[11,2960,11,2965,21,2977,null,null,null,null,0,112,null,null,"% CCRf"]
[22,3179,24,3187,23,3201,null,null,null,null,0,222,null,null,"average response rate",{"$f":"F36/P20","v":144.16666666666666},{"$f":"(F66-F36)/Q20","v":129.33333333333334},{"$f":"(F97-F66)/R20","v":130.7741935483871},{"$f":"(F127-F97)/S20","v":133.86666666666667},{"$f":"(F157-F127)/T20","v":132.5},{"$f":"(F187-F157)/U20","v":124.4}]
[11,3297,11,3301,21,3310,null,null,null,null,0,112]
[22,3438,24,3443,23,3456,null,null,null,null,0,222]
[11,3552,22,3563,23,3568,null,null,null,null,0,122]
[11,3662,11,3668,21,3681,null,null,null,null,0,112]
[22,3916,24,3922,23,3927,null,null,null,null,0,222]
[11,4022,11,4030,21,4045,null,null,null,null,0,112]
[22,4181,24,4185,23,4212,null,null,null,null,0,222]
[11,4307,22,4317,23,4325,null,null,null,null,0,122]
[11,4418,11,4424,12,4432,null,null,null,null,0,111]
[11,4525,22,4537,14,4553,null,null,null,null,0,121]
[22,4650,13,4662,23,4675,null,null,null,null,0,212]
[11,4769,22,4782,23,4787,null,null,null,null,0,122]
[11,4883,22,4897,23,4902,null,null,null,null,0,122]
[22,5001,13,5015,14,5019,null,null,null,null,0,211]
[22,5145,24,5152,23,5159,null,null,null,null,0,222]
[11,5254,22,5271,23,5282,null,null,null,null,0,122]
[22,5400,13,5414,23,5424,null,null,null,null,0,212]
[11,5552,22,5564,23,5569,null,null,null,null,0,122]
[11,5673,11,5679,12,5685,null,null,null,null,0,111]
[22,5783,13,5792,23,5806,null,null,null,null,0,212]
[11,5898,22,5906,14,5922,null,null,null,null,0,121]
[11,6016,11,6020,21,6035,null,null,null,null,0,112]
[22,6183,24,6187,23,6192,null,null,null,null,0,222]
[22,6289,24,6312,23,6319,null,null,null,null,0,222]
[11,6414,11,6420,21,6436,null,null,null,null,0,112]
[22,6613,24,6629,23,6634,null,null,null,null,0,222]
[22,6725,13,6740,14,6745,null,null,null,null,0,211]
[22,6872,24,6877,23,6884,null,null,null,null,0,222]
[11,6995,22,7004,23,7008,null,null,null,null,0,122]
[11,7101,11,7106,21,7116,null,null,null,null,0,112]
[11,7254,22,7264,23,7270,null,null,null,null,0,122]
[11,7365,22,7375,23,7380,null,null,null,null,0,122]
[22,7477,13,7488,14,7492,null,null,null,null,0,211]
[11,7660,22,7669,23,7677,null,null,null,null,0,122]
[11,7774,22,7790,23,7799,null,null,null,null,0,122]
[22,7909,24,7925,23,7932,null,null,null,null,0,222]
[11,8029,11,8034,21,8045,null,null,null,null,0,112]
[22,8184,24,8191,14,8205,null,null,null,null,0,221]
[22,8303,13,8312,14,8317,null,null,null,null,0,211]
[11,8422,11,8425,21,8440,null,null,null,null,0,112]
[22,8612,24,8636,23,8644,null,null,null,null,0,222]
[22,8743,24,8747,23,8754,null,null,null,null,0,222]
[22,8873,13,8886,14,8921,null,null,null,null,0,211]
[11,9026,22,9034,23,9043,null,null,null,null,0,122]
[11,9138,11,9143,21,9167,null,null,null,null,0,112]
[22,9329,24,9338,23,9342,null,null,null,null,0,222]
[22,9438,13,9453,23,9469,null,null,null,null,0,212]
[11,9563,11,9565,21,9579,null,null,null,null,0,112]
[22,9677,24,9682,23,9687,null,null,null,null,0,222]
[11,9783,11,9788,21,9800,null,null,null,null,0,112]
[22,9975,24,9980,14,9990,null,null,null,null,0,221]
[11,10094,22,10106,14,10110,null,null,null,null,0,121]
[22,10205,13,10216,14,10218,null,null,null,null,0,211]
[11,10322,22,10344,23,10352,null,null,null,null,0,122]
[11,10447,22,10466,23,10473,null,null,null,null,0,122]
[11,10568,11,10578,21,10593,null,null,null,null,0,112]
[22,10715,24,10721,14,10736,null,null,null,null,0,221]
[11,10831,22,10840,14,10853,null,null,null,null,0,121]
[11,10950,11,10954,21,10973,null,null,null,null,0,112]
[22,11168,24,11189,23,11195,null,null,null,null,0,222]
[22,11292,13,11303,23,11315,null,null,null,null,0,212]
[22,11414,13,11423,23,11434,null,null,null,null,0,212]
[11,11527,11,11534,12,11543,null,null,null,null,0,111]
[11,11636,11,11639,12,11644,null,null,null,null,0,111]
[11,11740,22,11753,23,11762,null,null,null,null,0,122]
[22,11866,24,11871,14,11887,null,null,null,null,0,221]
[11,12005,11,12012,12,12019,null,null,null,null,0,111]
[22,12124,24,12134,23,12144,null,null,null,null,0,222]
[11,12239,11,12244,21,12259,null,null,null,null,0,112]
[11,12484,22,12492,23,12496,null,null,null,null,0,122]
[11,12591,11,12597,21,12610,null,null,null,null,0,112]
[22,12752,24,12756,23,12781,null,null,null,null,0,222]
[22,12879,13,12890,23,12909,null,null,null,null,0,212]
[11,13015,22,13023,23,13036,null,null,null,null,0,122]
[22,13132,13,13145,14,13149,null,null,null,null,0,211]
[11,13256,22,13264,23,13268,null,null,null,null,0,122]
[11,13373,11,13377,12,13383,null,null,null,null,0,111]
[22,13482,24,13488,23,13494,null,null,null,null,0,222]
[11,13591,11,13596,21,13614,null,null,null,null,0,112]
[11,13845,11,13850,12,13854,null,null,null,null,0,111]
[11,13948,11,13952,21,13962,null,null,null,null,0,112]
[22,14137,13,14159,23,14187,null,null,null,null,0,212]
[22,14283,13,14293,23,14318,null,null,null,null,0,212]
[22,14418,13,14428,23,14445,null,null,null,null,0,212]
[22,14542,24,14546,14,14556,null,null,null,null,0,221]
[11,14648,22,14656,23,14661,null,null,null,null,0,122]
[11,14757,11,14760,21,14772,null,null,null,null,0,112]
[22,14916,24,14922,14,14938,null,null,null,null,0,221]
[22,15037,24,15043,23,15050,null,null,null,null,0,222]
[11,15151,22,15164,23,15172,null,null,null,null,0,122]
[22,15287,13,15296,23,15308,null,null,null,null,0,212]
[22,15404,24,15409,23,15415,null,null,null,null,0,222]
[22,15554,13,15566,23,15579,null,null,null,null,0,212]
[22,15677,24,15687,23,15695,null,null,null,null,0,222]
[22,15790,24,15795,23,15802,null,null,null,null,0,222]
[11,15899,22,15913,23,15920,null,null,null,null,0,122]
[22,16015,13,16023,14,16029,null,null,null,null,0,211]
[11,16127,22,16138,23,16146,null,null,null,null,0,122]
[11,16252,22,16268,23,16275,null,null,null,null,0,122]
[11,16402,11,16408,21,16422,null,null,null,null,0,112]
[22,16618,13,16626,14,16631,null,null,null,null,0,211]
[22,16731,24,16736,23,16743,null,null,null,null,0,222]
[11,16845,22,16854,14,16868,null,null,null,null,0,121]
[11,16980,22,16991,23,16997,null,null,null,null,0,122]
[11,17094,11,17099,21,17109,null,null,null,null,0,112]
[22,17288,24,17293,23,17300,null,null,null,null,0,222]
[11,17395,11,17401,12,17407,null,null,null,null,0,111]
[11,17499,22,17509,23,17514,null,null,null,null,0,122]
[22,17609,24,17631,23,17640,null,null,null,null,0,222]
[22,17734,13,17749,23,17765,null,null,null,null,0,212]
[11,17859,22,17870,23,17875,null,null,null,null,0,122]
[22,17971,13,17981,23,17996,null,null,null,null,0,212]
[11,18091,11,18094,21,18119,null,null,null,null,0,112]
[22,18298,13,18308,14,18313,null,null,null,null,0,211]
[22,18410,13,18422,14,18426,null,null,null,null,0,211]
[22,18557,13,18567,23,18582,null,null,null,null,0,212]
[11,18688,22,18702,23,18709,null,null,null,null,0,122]
[22,18805,24,18824,14,18837,null,null,null,null,0,221]
[11,18939,22,18954,23,18961,null,null,null,null,0,122]
[11,19055,11,19061,21,19076,null,null,null,null,0,112]
[22,19201,24,19216,23,19221,null,null,null,null,0,222]
[11,19313,11,19321,12,19325,null,null,null,null,0,111]
[22,19508,24,19517,23,19523,null,null,null,null,0,222]
[22,19620,13,19630,14,19634,null,null,null,null,0,211]
[11,19729,22,19762,23,19773,null,null,null,null,0,122]
[11,19871,11,19876,12,19902,null,null,null,null,0,111]
[11,19995,11,19999,21,20010,null,null,null,null,0,112]
[22,20123,24,20128,23,20133,null,null,null,null,0,222]
[11,20231,22,20243,23,20250,null,null,null,null,0,122]
[22,20350,13,20359,23,20384,null,null,null,null,0,212]
[22,20483,24,20490,23,20498,null,null,null,null,0,222]
[22,20596,24,20600,23,20604,null,null,null,null,0,222]
[11,20700,22,20710,23,20717,null,null,null,null,0,122]
[22,20812,24,20820,14,20833,null,null,null,null,0,221]
[11,20934,11,20938,21,20951,null,null,null,null,0,112]
[22,21123,13,21138,23,21162,null,null,null,null,0,212]
[11,21256,11,21260,12,21267,null,null,null,null,0,111]
[22,21363,24,21367,23,21372,null,null,null,null,0,222]
[22,21469,13,21479,23,21506,null,null,null,null,0,212]
[11,21602,22,21611,23,21616,null,null,null,null,0,122]
[11,21708,22,21718,23,21724,null,null,null,null,0,122]
[11,21820,11,21824,12,21829,null,null,null,null,0,111]
[11,21924,22,21935,23,21941,null,null,null,null,0,122]
[11,22036,11,22040,21,22064,null,null,null,null,0,112]
[22,22231,24,22235,14,22245,null,null,null,null,0,221]
[11,22340,22,22353,23,22367,null,null,null,null,0,122]
[11,22459,11,22465,12,22473,null,null,null,null,0,111]
[11,22574,22,22584,23,22588,null,null,null,null,0,122]
[22,22685,13,22696,23,22711,null,null,null,null,0,212]
[22,22809,24,22815,23,22821,null,null,null,null,0,222]
[11,22916,22,22926,23,22932,null,null,null,null,0,122]
[11,23026,22,23039,14,23053,null,null,null,null,0,121]
[11,23145,11,23150,21,23163,null,null,null,null,0,112]
[22,23320,13,23337,23,23354,null,null,null,null,0,212]
[11,23447,22,23459,23,23464,null,null,null,null,0,122]
[11,23612,22,23625,14,23635,null,null,null,null,0,121]
[11,23729,11,23735,12,23741,null,null,null,null,0,111]
[22,23841,24,23845,23,23854,null,null,null,null,0,222]
[11,23957,22,23973,23,23982,null,null,null,null,null,122]

{"sheet":"!MB11B1I.sha","index":6,"n_rows":174,"n_cols":48,"rows_kept":174,"cut":false,"hidden":false,"merged":[[4,39,4,42],[5,39,5,40],[4,44,4,47],[5,44,5,45],[4,24,4,27],[5,24,5,25],[4,29,4,32],[5,29,5,30],[4,34,4,37],[5,34,5,35],[1,1,1,2],[5,13,5,14],[18,13,18,14],[19,13,19,14],[4,19,4,22],[5,19,5,20]]}
["Report for:!MB11B1I.sha"]
["Date:","<date>"]
["Hen:","<hen>",null,null,null,"Correct Sequence",{"$f":"Start!J2","v":112},null,null,null,null,null,null,null,null,"Total Sequences in Data",{"$f":"4994-COUNTBLANK(L7:L5000)","v":168},null,null,null,null,"Total Sequences in Block Data",{"$f":"COUNTA(L7:L34)","v":28},null,null,null,"Total Sequences in Block Data",{"$f":"COUNTA(L35:L62)","v":28},null,null,null,"Total Sequences in Block Data",{"$f":"COUNTA(L63:L90)","v":28},null,null,null,"Total Sequences in Block Data",{"$f":"COUNTA(L91:L118)","v":28},null,null,null,"Total Sequences in Block Data",{"$f":"COUNTA(L119:L146)","v":28},null,null,null,"Total Sequences in Block Data",{"$f":"COUNTA(L147:L174)","v":28}]
[null,null,null,null,null,null,null,null,null,null,null,null,null,null,null,"Total Sequences in Summary",{"$f":"SUM(O7:O14)","v":168},null,null,null,null,"Total Sequences in Block Summary",{"$f":"SUM(U7:U14)","v":28},null,null,null,"Total Sequences in Block Summary",{"$f":"SUM(Z7:Z14)","v":28},null,null,null,"Total Sequences in Block Summary",{"$f":"SUM(AE7:AE14)","v":28},null,null,null,"Total Sequences in Block Summary",{"$f":"SUM(AJ7:AJ14)","v":28},null,null,null,"Total Sequences in Block Summary",{"$f":"SUM(AO7:AO14)","v":28},null,null,null,"Total Sequences in Block Summary",{"$f":"SUM(AT7:AT14)","v":28}]
[null,null,null,null,null,null,null,null,null,null,null,null,null,null,null,null,null,null,null,"Block 1",null,null,null,null,"Block 2",null,null,null,null,"Block 3",null,null,null,null,"Block 4",null,null,null,null,"Block 5",null,null,null,null,"Block 6"]
["Sequence\nComponent\n1","Time\n1","Sequence\nComponent\n2","Time\n2","Sequence\nComponent\n3","Time\n3","Sequence\nComponent\n4","Time\n4","Sequence\nComponent\n5","Time\n5","Correct?\n0=No 1=Yes","Sequence",null,"Frequency",null,"Relative Frequency","Variability",null,null,"Frequency",null,"Relative Frequency","Variability",null,"Frequency",null,"Relative Frequency","Variability",null,"Frequency",null,"Relative Frequency","Variability",null,"Frequency",null,"Relative Frequency","Variability",null,"Frequency",null,"Relative Frequency","Variability",null,"Frequency",null,"Relative Frequency","Variability"]
[11,137,22,146,23,151,null,null,null,null,0,122,null,111,{"$f":"COUNTIF($L$7:$L$500,N7)","v":4},{"$f":"O7/$Q$4","v":2.3809523809523808E-2},{"$f":"IF(P7=0,0,(P7*((LOG(P7))/LOG(2))))","v":-0.12838851006616095},null,null,{"$f":"N7","v":111},{"$f":"COUNTIF(L7:L34,T7)","v":1},{"$f":"U7/(W4-U8)","v":0.04},{"$f":"IF(V7=0,0,(V7*((LOG(V7))/LOG(2))))","v":-0.18575424759098899},null,{"$f":"N7","v":111},{"$f":"COUNTIF(L35:L62,Y7)","v":0},{"$f":"Z7/(AB4-Z8)","v":0},{"$f":"IF(AA7=0,0,(AA7*((LOG(AA7))/LOG(2))))","v":0},null,{"$f":"N7","v":111},{"$f":"COUNTIF(L63:L90,AD7)","v":0},{"$f":"AE7/(AG4-AE8)","v":0},{"$f":"IF(AF7=0,0,(AF7*((LOG(AF7))/LOG(2))))","v":0},null,{"$f":"N7","v":111},{"$f":"COUNTIF(L91:L118,AI7)","v":2},{"$f":"AJ7/(AL4-AJ8)","v":0.08},{"$f":"IF(AK7=0,0,(AK7*((LOG(AK7))/LOG(2))))","v":-0.29150849518197797},null,{"$f":"N7","v":111},{"$f":"COUNTIF(L119:L146,AN7)","v":0},{"$f":"AO7/(AQ4-AO8)","v":0},{"$f":"IF(AP7=0,0,(AP7*((LOG(AP7))/LOG(2))))","v":0},null,{"$f":"N7","v":111},{"$f":"COUNTIF(L147:L174,AS7)","v":1},{"$f":"AT7/(AV4-AT8)","v":3.8461538461538464E-2},{"$f":"IF(AU7=0,0,(AU7*((LOG(AU7))/LOG(2))))","v":-0.18078614300542661}]
[11,243,11,245,21,255,null,null,null,null,0,112,null,112,{"$f":"COUNTIF($L$7:$L$500,N8)","v":21},{"$f":"O8/$Q$4","v":0.125},{"$f":"IF(P8=0,0,(P8*((LOG(P8))/LOG(2))))","v":-0.375},null,null,{"$f":"N8","v":112},{"$f":"COUNTIF(L7:L34,T8)","v":3},null,null,null,{"$f":"N8","v":112},{"$f":"COUNTIF(L35:L62,Y8)","v":4},null,null,null,{"$f":"N8","v":112},{"$f":"COUNTIF(L63:L90,AD8)","v":8},null,null,null,{"$f":"N8","v":112},{"$f":"COUNTIF(L91:L118,AI8)","v":3},null,null,null,{"$f":"N8","v":112},{"$f":"COUNTIF(L119:L146,AN8)","v":1},null,null,null,{"$f":"N8","v":112},{"$f":"COUNTIF(L147:L174,AS8)","v":2}]
[11,598,22,606,23,610,null,null,null,null,0,122,null,121,{"$f":"COUNTIF($L$7:$L$500,N9)","v":9},{"$f":"O9/$Q$4","v":5.3571428571428568E-2},{"$f":"IF(P9=0,0,(P9*((LOG(P9))/LOG(2))))","v":-0.22619959400016687},null,null,{"$f":"N9","v":121},{"$f":"COUNTIF(L7:L34,T9)","v":1},{"$f":"U9/(W4-U8)","v":0.04},{"$f":"IF(V9=0,0,(V9*((LOG(V9))/LOG(2))))","v":-0.18575424759098899},null,{"$f":"N9","v":121},{"$f":"COUNTIF(L35:L62,Y9)","v":3},{"$f":"Z9/(AB4-Z8)","v":0.125},{"$f":"IF(AA9=0,0,(AA9*((LOG(AA9))/LOG(2))))","v":-0.375},null,{"$f":"N9","v":121},{"$f":"COUNTIF(L63:L90,AD9)","v":0},{"$f":"AE9/(AG4-AE8)","v":0},{"$f":"IF(AF9=0,0,(AF9*((LOG(AF9))/LOG(2))))","v":0},null,{"$f":"N9","v":121},{"$f":"COUNTIF(L91:L118,AI9)","v":0},{"$f":"AJ9/(AL4-AJ8)","v":0},{"$f":"IF(AK9=0,0,(AK9*((LOG(AK9))/LOG(2))))","v":0},null,{"$f":"N9","v":121},{"$f":"COUNTIF(L119:L146,AN9)","v":3},{"$f":"AO9/(AQ4-AO8)","v":0.1111111111111111},{"$f":"IF(AP9=0,0,(AP9*((LOG(AP9))/LOG(2))))","v":-0.3522138890491458},null,{"$f":"N9","v":121},{"$f":"COUNTIF(L147:L174,AS9)","v":2},{"$f":"AT9/(AV4-AT8)","v":7.6923076923076927E-2},{"$f":"IF(AU9=0,0,(AU9*((LOG(AU9))/LOG(2))))","v":-0.28464920908777636}]
[11,707,22,716,23,721,null,null,null,null,0,122,null,122,{"$f":"COUNTIF($L$7:$L$500,N10)","v":56},{"$f":"O10/$Q$4","v":0.33333333333333331},{"$f":"IF(P10=0,0,(P10*((LOG(P10))/LOG(2))))","v":-0.52832083357371862},null,null,{"$f":"N10","v":122},{"$f":"COUNTIF(L7:L34,T10)","v":14},{"$f":"U10/(W4-U8)","v":0.56000000000000005},{"$f":"IF(V10=0,0,(V10*((LOG(V10))/LOG(2))))","v":-0.46844070992158748},null,{"$f":"N10","v":122},{"$f":"COUNTIF(L35:L62,Y10)","v":8},{"$f":"Z10/(AB4-Z8)","v":0.33333333333333331},{"$f":"IF(AA10=0,0,(AA10*((LOG(AA10))/LOG(2))))","v":-0.52832083357371862},null,{"$f":"N10","v":122},{"$f":"COUNTIF(L63:L90,AD10)","v":5},{"$f":"AE10/(AG4-AE8)","v":0.25},{"$f":"IF(AF10=0,0,(AF10*((LOG(AF10))/LOG(2))))","v":-0.5},null,{"$f":"N10","v":122},{"$f":"COUNTIF(L91:L118,AI10)","v":10},{"$f":"AJ10/(AL4-AJ8)","v":0.4},{"$f":"IF(AK10=0,0,(AK10*((LOG(AK10))/LOG(2))))","v":-0.52877123795494496},null,{"$f":"N10","v":122},{"$f":"COUNTIF(L119:L146,AN10)","v":10},{"$f":"AO10/(AQ4-AO8)","v":0.37037037037037035},{"$f":"IF(AP10=0,0,(AP10*((LOG(AP10))/LOG(2))))","v":-0.53072570639855787},null,{"$f":"N10","v":122},{"$f":"COUNTIF(L147:L174,AS10)","v":9},{"$f":"AT10/(AV4-AT8)","v":0.34615384615384615},{"$f":"IF(AU10=0,0,(AU10*((LOG(AU10))/LOG(2))))","v":-0.52979355578034681}]
[11,817,11,822,21,832,null,null,null,null,0,112,null,211,{"$f":"COUNTIF($L$7:$L$500,N11)","v":4},{"$f":"O11/$Q$4","v":2.3809523809523808E-2},{"$f":"IF(P11=0,0,(P11*((LOG(P11))/LOG(2))))","v":-0.12838851006616095},null,null,{"$f":"N11","v":211},{"$f":"COUNTIF(L7:L34,T11)","v":0},{"$f":"U11/(W4-U8)","v":0},{"$f":"IF(V11=0,0,(V11*((LOG(V11))/LOG(2))))","v":0},null,{"$f":"N11","v":211},{"$f":"COUNTIF(L35:L62,Y11)","v":1},{"$f":"Z11/(AB4-Z8)","v":4.1666666666666664E-2},{"$f":"IF(AA11=0,0,(AA11*((LOG(AA11))/LOG(2))))","v":-0.19104010419671485},null,{"$f":"N11","v":211},{"$f":"COUNTIF(L63:L90,AD11)","v":1},{"$f":"AE11/(AG4-AE8)","v":0.05},{"$f":"IF(AF11=0,0,(AF11*((LOG(AF11))/LOG(2))))","v":-0.21609640474436814},null,{"$f":"N11","v":211},{"$f":"COUNTIF(L91:L118,AI11)","v":1},{"$f":"AJ11/(AL4-AJ8)","v":0.04},{"$f":"IF(AK11=0,0,(AK11*((LOG(AK11))/LOG(2))))","v":-0.18575424759098899},null,{"$f":"N11","v":211},{"$f":"COUNTIF(L119:L146,AN11)","v":0},{"$f":"AO11/(AQ4-AO8)","v":0},{"$f":"IF(AP11=0,0,(AP11*((LOG(AP11))/LOG(2))))","v":0},null,{"$f":"N11","v":211},{"$f":"COUNTIF(L147:L174,AS11)","v":1},{"$f":"AT11/(AV4-AT8)","v":3.8461538461538464E-2},{"$f":"IF(AU11=0,0,(AU11*((LOG(AU11))/LOG(2))))","v":-0.18078614300542661}]
[11,1095,22,1103,23,1110,null,null,null,null,0,122,null,212,{"$f":"COUNTIF($L$7:$L$500,N12)","v":26},{"$f":"O12/$Q$4","v":0.15476190476190477},{"$f":"IF(P12=0,0,(P12*((LOG(P12))/LOG(2))))","v":-0.4166001209558296},null,null,{"$f":"N12","v":212},{"$f":"COUNTIF(L7:L34,T12)","v":2},{"$f":"U12/(W4-U8)","v":0.08},{"$f":"IF(V12=0,0,(V12*((LOG(V12))/LOG(2))))","v":-0.29150849518197797},null,{"$f":"N12","v":212},{"$f":"COUNTIF(L35:L62,Y12)","v":4},{"$f":"Z12/(AB4-Z8)","v":0.16666666666666666},{"$f":"IF(AA12=0,0,(AA12*((LOG(AA12))/LOG(2))))","v":-0.43082708345352599},null,{"$f":"N12","v":212},{"$f":"COUNTIF(L63:L90,AD12)","v":6},{"$f":"AE12/(AG4-AE8)","v":0.3},{"$f":"IF(AF12=0,0,(AF12*((LOG(AF12))/LOG(2))))","v":-0.52108967824986185},null,{"$f":"N12","v":212},{"$f":"COUNTIF(L91:L118,AI12)","v":4},{"$f":"AJ12/(AL4-AJ8)","v":0.16},{"$f":"IF(AK12=0,0,(AK12*((LOG(AK12))/LOG(2))))","v":-0.42301699036395596},null,{"$f":"N12","v":212},{"$f":"COUNTIF(L119:L146,AN12)","v":7},{"$f":"AO12/(AQ4-AO8)","v":0.25925925925925924},{"$f":"IF(AP12=0,0,(AP12*((LOG(AP12))/LOG(2))))","v":-0.5049158541015204},null,{"$f":"N12","v":212},{"$f":"COUNTIF(L147:L174,AS12)","v":3},{"$f":"AT12/(AV4-AT8)","v":0.11538461538461539},{"$f":"IF(AU12=0,0,(AU12*((LOG(AU12))/LOG(2))))","v":-0.35947814047153104}]
[11,1206,22,1215,23,1220,null,null,null,null,0,122,null,221,{"$f":"COUNTIF($L$7:$L$500,N13)","v":8},{"$f":"O13/$Q$4","v":4.7619047619047616E-2},{"$f":"IF(P13=0,0,(P13*((LOG(P13))/LOG(2))))","v":-0.20915797251327431},null,null,{"$f":"N13","v":221},{"$f":"COUNTIF(L7:L34,T13)","v":0},{"$f":"U13/(W4-U8)","v":0},{"$f":"IF(V13=0,0,(V13*((LOG(V13))/LOG(2))))","v":0},null,{"$f":"N13","v":221},{"$f":"COUNTIF(L35:L62,Y13)","v":1},{"$f":"Z13/(AB4-Z8)","v":4.1666666666666664E-2},{"$f":"IF(AA13=0,0,(AA13*((LOG(AA13))/LOG(2))))","v":-0.19104010419671485},null,{"$f":"N13","v":221},{"$f":"COUNTIF(L63:L90,AD13)","v":2},{"$f":"AE13/(AG4-AE8)","v":0.1},{"$f":"IF(AF13=0,0,(AF13*((LOG(AF13))/LOG(2))))","v":-0.33219280948873625},null,{"$f":"N13","v":221},{"$f":"COUNTIF(L91:L118,AI13)","v":2},{"$f":"AJ13/(AL4-AJ8)","v":0.08},{"$f":"IF(AK13=0,0,(AK13*((LOG(AK13))/LOG(2))))","v":-0.29150849518197797},null,{"$f":"N13","v":221},{"$f":"COUNTIF(L119:L146,AN13)","v":3},{"$f":"AO13/(AQ4-AO8)","v":0.1111111111111111},{"$f":"IF(AP13=0,0,(AP13*((LOG(AP13))/LOG(2))))","v":-0.3522138890491458},null,{"$f":"N13","v":221},{"$f":"COUNTIF(L147:L174,AS13)","v":0},{"$f":"AT13/(AV4-AT8)","v":0},{"$f":"IF(AU13=0,0,(AU13*((LOG(AU13))/LOG(2))))","v":0}]
[11,1382,22,1389,14,1400,null,null,null,null,0,121,null,222,{"$f":"COUNTIF($L$7:$L$500,N14)","v":40},{"$f":"O14/$Q$4","v":0.23809523809523808},{"$f":"IF(P14=0,0,(P14*((LOG(P14))/LOG(2))))","v":-0.49294983997414238},null,null,{"$f":"N14","v":222},{"$f":"COUNTIF(L7:L34,T14)","v":7},{"$f":"U14/(W4-U8)","v":0.28000000000000003},{"$f":"IF(V14=0,0,(V14*((LOG(V14))/LOG(2))))","v":-0.51422035496079388},null,{"$f":"N14","v":222},{"$f":"COUNTIF(L35:L62,Y14)","v":7},{"$f":"Z14/(AB4-Z8)","v":0.29166666666666669},{"$f":"IF(AA14=0,0,(AA14*((LOG(AA14))/LOG(2))))","v":-0.51846887711020273},null,{"$f":"N14","v":222},{"$f":"COUNTIF(L63:L90,AD14)","v":6},{"$f":"AE14/(AG4-AE8)","v":0.3},{"$f":"IF(AF14=0,0,(AF14*((LOG(AF14))/LOG(2))))","v":-0.52108967824986185},null,{"$f":"N14","v":222},{"$f":"COUNTIF(L91:L118,AI14)","v":6},{"$f":"AJ14/(AL4-AJ8)","v":0.24},{"$f":"IF(AK14=0,0,(AK14*((LOG(AK14))/LOG(2))))","v":-0.49413448537285637},null,{"$f":"N14","v":222},{"$f":"COUNTIF(L119:L146,AN14)","v":4},{"$f":"AO14/(AQ4-AO8)","v":0.14814814814814814},{"$f":"IF(AP14=0,0,(AP14*((LOG(AP14))/LOG(2))))","v":-0.40813148180199532},null,{"$f":"N14","v":222},{"$f":"COUNTIF(L147:L174,AS14)","v":10},{"$f":"AT14/(AV4-AT8)","v":0.38461538461538464},{"$f":"IF(AU14=0,0,(AU14*((LOG(AU14))/LOG(2))))","v":-0.53019677817451139}]
[22,1541,24,1552,23,1558,null,null,null,null,0,222,null,null,null,{"$f":"SUM(P7:P14)","v":1},{"$f":"-SUM(Q7:Q14)","v":2.5050053811494539},null,null,null,null,{"$f":"SUM(V7:V14)","v":1},{"$f":"-SUM(W7:W14)","v":1.6456780552463375},null,null,null,{"$f":"SUM(AA7:AA14)","v":1},{"$f":"-SUM(AB7:AB14)","v":2.234697002530877},null,null,null,{"$f":"SUM(AF7:AF14)","v":1},{"$f":"-SUM(AG7:AG14)","v":2.0904685707328281},null,null,null,{"$f":"SUM(AK7:AK14)","v":1},{"$f":"-SUM(AL7:AL14)","v":2.2146939516467024},null,null,null,{"$f":"SUM(AP7:AP14)","v":1},{"$f":"-SUM(AQ7:AQ14)","v":2.1482008204003651},null,null,null,{"$f":"SUM(AU7:AU14)","v":1},{"$f":"-SUM(AV7:AV14)","v":2.0656899695250188}]
[22,1657,24,1668,23,1673,null,null,null,null,0,222,null,null,null,"U=",{"$f":"Q15/(LOG(Q4)/LOG(2))","v":0.33886604671905801},null,null,null,null,"U1=",{"$f":"W15/(LOG(W4)/LOG(2))","v":0.34232505856712742},null,null,null,"U2=",{"$f":"AB15/(LOG(AB4)/LOG(2))","v":0.46484959791036207},null,null,null,"U3=",{"$f":"AG15/(LOG(AG4)/LOG(2))","v":0.43484797869637704},null,null,null,"U4=",{"$f":"AL15/(LOG(AL4)/LOG(2))","v":0.4606886713283877},null,null,null,"U5=",{"$f":"AQ15/(LOG(AQ4)/LOG(2))","v":0.44685712938392952},null,null,null,"U6=",{"$f":"AV15/(LOG(AV4)/LOG(2))","v":0.4296936679351479}]
[22,1771,13,1780,23,1793,null,null,null,null,0,212]
[11,1885,11,1892,21,1903,null,null,null,null,0,112]
[22,1993,24,2016,23,2023,null,null,null,null,0,222,null,"Total Target Seq"]
[22,2120,24,2140,23,2147,null,null,null,null,0,222,null,{"$f":"COUNTIF(L7:L174,G3)","v":21},null,28,28,28,28,28,28]
[22,2245,24,2250,23,2257,null,null,null,null,0,222,null,null,null,"% of reinforcement given in 6 equal intervals based on number of trials "]
[11,2350,11,2354,12,2361,null,null,null,null,0,111,null,null,null,"%_1","%_2","%_3","%_4","%_5","%_6"]
[11,2464,22,2473,23,2480,null,null,null,null,0,122,null,null,"target sequence",{"$f":"$G$3","v":112},{"$f":"$G$3","v":112},{"$f":"$G$3","v":112},{"$f":"$G$3","v":112},{"$f":"$G$3","v":112},{"$f":"$G$3","v":112}]
[11,2575,22,2592,23,2598,null,null,null,null,0,122,null,null,"total reinforcement",{"$f":"U8","v":3},{"$f":"Z8","v":4},{"$f":"AE8","v":8},{"$f":"AJ8","v":3},{"$f":"AO8","v":1},{"$f":"AT8","v":2}]
[11,2695,22,2704,23,2709,null,null,null,null,0,122,null,null,"% target"]
[11,2824,22,2833,23,2837,null,null,null,null,0,122,null,null,"CCRF"]
[11,2935,22,2950,23,2956,null,null,null,null,0,122,null,null,"% CCRf"]
[22,3052,24,3057,23,3064,null,null,null,null,0,222,null,null,"average response rate",{"$f":"F34/P20","v":134.07142857142858},{"$f":"(F62-F34)/Q20","v":180.75},{"$f":"(F90-F62)/R20","v":132.17857142857142},{"$f":"(F118-F90)/S20","v":121.89285714285714},{"$f":"(F146-F118)/T20","v":122.64285714285714},{"$f":"(F174-F146)/U20","v":165.39285714285714}]
[11,3161,22,3170,23,3181,null,null,null,null,0,122]
[11,3283,22,3293,23,3299,null,null,null,null,0,122]
[22,3393,13,3403,23,3417,null,null,null,null,0,212]
[22,3514,24,3518,23,3523,null,null,null,null,0,222]
[11,3619,22,3630,23,3636,null,null,null,null,0,122]
[11,3740,22,3749,23,3754,null,null,null,null,0,122]
[11,3857,22,3864,23,3869,null,null,null,null,0,122]
[11,3965,11,3970,21,3979,null,null,null,null,0,112]
[22,4122,13,4132,23,4139,null,null,null,null,0,212]
[11,4234,11,4238,21,4254,null,null,null,null,0,112]
[22,4475,24,4481,23,4488,null,null,null,null,0,222]
[22,4584,13,4594,23,4615,null,null,null,null,0,212]
[22,4781,24,4787,23,4794,null,null,null,null,0,222]
[11,4889,22,4905,23,4910,null,null,null,null,0,122]
[11,5011,22,5020,14,5029,null,null,null,null,0,121]
[11,5127,22,5138,23,5147,null,null,null,null,0,122]
[22,5244,13,5251,23,5260,null,null,null,null,0,212]
[11,5359,22,5370,23,5374,null,null,null,null,0,122]
[11,5473,22,5482,23,5492,null,null,null,null,0,122]
[11,5588,22,5599,14,5621,null,null,null,null,0,121]
[11,5716,22,5727,14,5741,null,null,null,null,0,121]
[22,7222,24,7230,23,7260,null,null,null,null,0,222]
[11,7357,11,7360,21,7370,null,null,null,null,0,112]
[11,7542,22,7555,23,7561,null,null,null,null,0,122]
[22,7668,13,7680,23,7690,null,null,null,null,0,212]
[22,7786,24,7793,23,7799,null,null,null,null,0,222]
[22,7914,24,7919,23,7925,null,null,null,null,0,222]
[11,8022,22,8034,23,8041,null,null,null,null,0,122]
[22,8153,24,8157,14,8173,null,null,null,null,0,221]
[22,8268,24,8289,23,8295,null,null,null,null,0,222]
[11,8398,11,8404,21,8413,null,null,null,null,0,112]
[22,8537,13,8548,14,8552,null,null,null,null,0,211]
[11,8692,22,8701,23,8710,null,null,null,null,0,122]
[22,8804,24,8811,23,8815,null,null,null,null,0,222]
[22,8909,13,8928,23,8943,null,null,null,null,0,212]
[11,9048,22,9057,23,9067,null,null,null,null,0,122]
[11,9159,22,9168,23,9173,null,null,null,null,0,122]
[11,9267,22,9277,23,9282,null,null,null,null,0,122]
[22,9397,13,9412,23,9430,null,null,null,null,0,212]
[11,9525,11,9528,21,9536,null,null,null,null,0,112]
[22,9709,24,9728,23,9734,null,null,null,null,0,222]
[11,9830,11,9835,21,9850,null,null,null,null,0,112]
[22,10005,24,10029,23,10033,null,null,null,null,0,222]
[11,10128,11,10132,21,10154,null,null,null,null,0,112]
[22,10282,13,10303,23,10322,null,null,null,null,0,212]
[11,10415,11,10422,21,10432,null,null,null,null,0,112]
[22,10563,24,10567,14,10583,null,null,null,null,0,221]
[11,10676,22,10693,23,10701,null,null,null,null,0,122]
[11,10802,11,10806,21,10815,null,null,null,null,0,112]
[22,10912,24,10942,23,10958,null,null,null,null,0,222]
[11,11052,11,11057,21,11071,null,null,null,null,0,112]
[22,11175,13,11190,23,11204,null,null,null,null,0,212]
[22,11367,13,11377,23,11386,null,null,null,null,0,212]
[22,11484,24,11490,23,11500,null,null,null,null,0,222]
[22,11599,24,11604,23,11612,null,null,null,null,0,222]
[11,11705,11,11711,21,11722,null,null,null,null,0,112]
[22,11898,13,11906,23,11928,null,null,null,null,0,212]
[22,12025,24,12029,14,12049,null,null,null,null,0,221]
[22,12163,24,12170,23,12178,null,null,null,null,0,222]
[22,12275,13,12288,14,12295,null,null,null,null,0,211]
[11,12390,22,12401,23,12407,null,null,null,null,0,122]
[11,12500,11,12502,21,12516,null,null,null,null,0,112]
[22,12627,24,12649,23,12653,null,null,null,null,0,222]
[22,12751,13,12762,23,12787,null,null,null,null,0,212]
[11,12883,22,12893,23,12900,null,null,null,null,0,122]
[11,12995,22,13004,23,13012,null,null,null,null,0,122]
[11,13104,11,13107,12,13108,null,null,null,null,0,111]
[11,13203,11,13207,12,13210,null,null,null,null,0,111]
[22,13309,13,13318,14,13325,null,null,null,null,0,211]
[22,13423,13,13430,23,13440,null,null,null,null,0,212]
[22,13537,24,13541,23,13546,null,null,null,null,0,222]
[11,13639,11,13645,21,13658,null,null,null,null,0,112]
[11,13819,22,13826,23,13834,null,null,null,null,0,122]
[22,13931,24,13936,23,13940,null,null,null,null,0,222]
[11,14038,22,14053,23,14062,null,null,null,null,0,122]
[11,14189,22,14201,23,14214,null,null,null,null,0,122]
[11,14309,22,14318,23,14323,null,null,null,null,0,122]
[22,14420,13,14433,23,14451,null,null,null,null,0,212]
[11,14547,22,14555,23,14563,null,null,null,null,0,122]
[22,14659,24,14663,23,14670,null,null,null,null,0,222]
[22,14765,24,14774,14,14789,null,null,null,null,0,221]
[11,14884,11,14887,21,14900,null,null,null,null,0,112]
[22,14991,24,14998,14,15007,null,null,null,null,0,221]
[11,15112,22,15136,23,15147,null,null,null,null,0,122]
[11,15246,11,15260,21,15267,null,null,null,null,0,112]
[22,15413,24,15437,23,15445,null,null,null,null,0,222]
[22,15543,13,15554,23,15578,null,null,null,null,0,212]
[11,15673,22,15682,23,15704,null,null,null,null,0,122]
[11,15799,22,15808,23,15813,null,null,null,null,0,122]
[22,15912,24,15921,23,15929,null,null,null,null,0,222]
[11,16022,11,16026,21,16043,null,null,null,null,0,112]
[22,16141,24,16155,23,16159,null,null,null,null,0,222]
[22,16261,13,16270,23,16296,null,null,null,null,0,212]
[11,16392,22,16400,23,16406,null,null,null,null,0,122]
[22,16502,24,16505,23,16511,null,null,null,null,0,222]
[11,16605,22,16613,14,16627,null,null,null,null,0,121]
[22,16724,24,16743,23,16753,null,null,null,null,0,222]
[11,16849,22,16856,23,16860,null,null,null,null,0,122]
[22,16957,13,16968,23,16980,null,null,null,null,0,212]
[22,17075,13,17084,23,17104,null,null,null,null,0,212]
[11,17292,22,17299,14,17310,null,null,null,null,0,121]
[22,17408,24,17413,14,17423,null,null,null,null,0,221]
[22,17521,13,17530,23,17548,null,null,null,null,0,212]
[22,17641,24,17646,14,17659,null,null,null,null,0,221]
[11,17759,22,17771,23,17779,null,null,null,null,0,122]
[11,17872,22,17881,23,17885,null,null,null,null,0,122]
[22,17979,13,17990,23,17999,null,null,null,null,0,212]
[11,18168,22,18175,23,18179,null,null,null,null,0,122]
[22,18273,13,18284,23,18299,null,null,null,null,0,212]
[11,18398,22,18409,23,18413,null,null,null,null,0,122]
[11,18506,22,18520,23,18526,null,null,null,null,0,122]
[11,18621,22,18631,23,18639,null,null,null,null,0,122]
[11,18744,22,18757,23,18765,null,null,null,null,0,122]
[11,18894,22,18901,14,18912,null,null,null,null,0,121]
[11,19007,22,19016,23,19022,null,null,null,null,0,122]
[22,19118,13,19125,23,19136,null,null,null,null,0,212]
[22,19235,24,19243,23,19247,null,null,null,null,0,222]
[22,19345,24,19348,14,19363,null,null,null,null,0,221]
[22,19465,24,19472,23,19478,null,null,null,null,0,222]
[22,19587,24,19609,23,19615,null,null,null,null,0,222]
[11,19711,22,19721,23,19727,null,null,null,null,0,122]
[11,19820,11,19826,21,19841,null,null,null,null,0,112]
[22,20087,24,20111,23,20118,null,null,null,null,0,222]
[22,20213,13,20220,23,20230,null,null,null,null,0,212]
[11,20322,22,20337,23,20342,null,null,null,null,0,122]
[11,20437,22,20446,23,20449,null,null,null,null,0,122]
[11,20554,22,20568,23,20574,null,null,null,null,0,122]
[11,20697,22,20704,23,20708,null,null,null,null,0,122]
[22,20920,13,20966,23,20972,null,null,null,null,0,212]
[22,21068,24,21074,23,21081,null,null,null,null,0,222]
[11,21303,22,21308,14,21320,null,null,null,null,0,121]
[22,21422,24,21427,23,21432,null,null,null,null,0,222]
[11,21534,22,21545,23,21551,null,null,null,null,0,122]
[22,21782,24,21785,23,21788,null,null,null,null,0,222]
[11,21882,11,21886,21,21894,null,null,null,null,0,112]
[11,22085,22,22092,23,22098,null,null,null,null,0,122]
[22,22193,24,22211,23,22217,null,null,null,null,0,222]
[11,22309,11,22314,12,22316,null,null,null,null,0,111]
[11,22735,22,22742,23,22745,null,null,null,null,0,122]
[22,22983,24,22988,23,22993,null,null,null,null,0,222]
[22,23091,24,23097,23,23102,null,null,null,null,0,222]
[11,23197,22,23206,23,23212,null,null,null,null,0,122]
[22,23306,13,23316,14,23321,null,null,null,null,0,211]
[22,23522,24,23528,23,23535,null,null,null,null,0,222]
[22,23629,13,23637,23,23646,null,null,null,null,0,212]
[11,23973,22,23984,14,23994,null,null,null,null,null,121]

{"sheet":"!MB12A2I.sha","index":7,"n_rows":142,"n_cols":48,"rows_kept":142,"cut":false,"hidden":false,"merged":[[4,39,4,42],[5,39,5,40],[4,44,4,47],[5,44,5,45],[4,24,4,27],[5,24,5,25],[4,29,4,32],[5,29,5,30],[4,34,4,37],[5,34,5,35],[1,1,1,2],[5,13,5,14],[18,13,18,14],[19,13,19,14],[4,19,4,22],[5,19,5,20]]}
["Report for:!MB12A2I.sha"]
["Date:","<date>"]
["Hen:","<hen>",null,null,null,"Correct Sequence",{"$f":"Start!J2","v":112},null,null,null,null,null,null,null,null,"Total Sequences in Data",{"$f":"4994-COUNTBLANK(L7:L5000)","v":136},null,null,null,null,"Total Sequences in Block Data",{"$f":"COUNTA(L7:L29)","v":23},null,null,null,"Total Sequences in Block Data",{"$f":"COUNTA(L30:L51)","v":22},null,null,null,"Total Sequences in Block Data",{"$f":"COUNTA(L52:L74)","v":23},null,null,null,"Total Sequences in Block Data",{"$f":"COUNTA(L75:L97)","v":23},null,null,null,"Total Sequences in Block Data",{"$f":"COUNTA(L98:L119)","v":22},null,null,null,"Total Sequences in Block Data",{"$f":"COUNTA(L120:L142)","v":23}]
[null,null,null,null,null,null,null,null,null,null,null,null,null,null,null,"Total Sequences in Summary",{"$f":"SUM(O7:O14)","v":136},null,null,null,null,"Total Sequences in Block Summary",{"$f":"SUM(U7:U14)","v":23},null,null,null,"Total Sequences in Block Summary",{"$f":"SUM(Z7:Z14)","v":22},null,null,null,"Total Sequences in Block Summary",{"$f":"SUM(AE7:AE14)","v":23},null,null,null,"Total Sequences in Block Summary",{"$f":"SUM(AJ7:AJ14)","v":23},null,null,null,"Total Sequences in Block Summary",{"$f":"SUM(AO7:AO14)","v":22},null,null,null,"Total Sequences in Block Summary",{"$f":"SUM(AT7:AT14)","v":23}]
[null,null,null,null,null,null,null,null,null,null,null,null,null,null,null,null,null,null,null,"Block 1",null,null,null,null,"Block 2",null,null,null,null,"Block 3",null,null,null,null,"Block 4",null,null,null,null,"Block 5",null,null,null,null,"Block 6"]
["Sequence\nComponent\n1","Time\n1","Sequence\nComponent\n2","Time\n2","Sequence\nComponent\n3","Time\n3","Sequence\nComponent\n4","Time\n4","Sequence\nComponent\n5","Time\n5","Correct?\n0=No 1=Yes","Sequence",null,"Frequency",null,"Relative Frequency","Variability",null,null,"Frequency",null,"Relative Frequency","Variability",null,"Frequency",null,"Relative Frequency","Variability",null,"Frequency",null,"Relative Frequency","Variability",null,"Frequency",null,"Relative Frequency","Variability",null,"Frequency",null,"Relative Frequency","Variability",null,"Frequency",null,"Relative Frequency","Variability"]
[11,16,22,27,23,32,null,null,null,null,0,122,null,111,{"$f":"COUNTIF($L$7:$L$500,N7)","v":10},{"$f":"O7/$Q$4","v":7.3529411764705885E-2},{"$f":"IF(P7=0,0,(P7*((LOG(P7))/LOG(2))))","v":-0.27687755487963067},null,null,{"$f":"N7","v":111},{"$f":"COUNTIF(L7:L29,T7)","v":0},{"$f":"U7/(W4-U8)","v":0},{"$f":"IF(V7=0,0,(V7*((LOG(V7))/LOG(2))))","v":0},null,{"$f":"N7","v":111},{"$f":"COUNTIF(L30:L51,Y7)","v":2},{"$f":"Z7/(AB4-Z8)","v":0.13333333333333333},{"$f":"IF(AA7=0,0,(AA7*((LOG(AA7))/LOG(2))))","v":-0.3875854127478025},null,{"$f":"N7","v":111},{"$f":"COUNTIF(L52:L74,AD7)","v":2},{"$f":"AE7/(AG4-AE8)","v":0.125},{"$f":"IF(AF7=0,0,(AF7*((LOG(AF7))/LOG(2))))","v":-0.375},null,{"$f":"N7","v":111},{"$f":"COUNTIF(L75:L97,AI7)","v":2},{"$f":"AJ7/(AL4-AJ8)","v":0.13333333333333333},{"$f":"IF(AK7=0,0,(AK7*((LOG(AK7))/LOG(2))))","v":-0.3875854127478025},null,{"$f":"N7","v":111},{"$f":"COUNTIF(L98:L119,AN7)","v":3},{"$f":"AO7/(AQ4-AO8)","v":0.2},{"$f":"IF(AP7=0,0,(AP7*((LOG(AP7))/LOG(2))))","v":-0.46438561897747244},null,{"$f":"N7","v":111},{"$f":"COUNTIF(L120:L142,AS7)","v":1},{"$f":"AT7/(AV4-AT8)","v":6.6666666666666666E-2},{"$f":"IF(AU7=0,0,(AU7*((LOG(AU7))/LOG(2))))","v":-0.26045937304056793}]
[11,132,22,140,23,144,null,null,null,null,0,122,null,112,{"$f":"COUNTIF($L$7:$L$500,N8)","v":40},{"$f":"O8/$Q$4","v":0.29411764705882354},{"$f":"IF(P8=0,0,(P8*((LOG(P8))/LOG(2))))","v":-0.51927492540087561},null,null,{"$f":"N8","v":112},{"$f":"COUNTIF(L7:L29,T8)","v":3},null,null,null,{"$f":"N8","v":112},{"$f":"COUNTIF(L30:L51,Y8)","v":7},null,null,null,{"$f":"N8","v":112},{"$f":"COUNTIF(L52:L74,AD8)","v":7},null,null,null,{"$f":"N8","v":112},{"$f":"COUNTIF(L75:L97,AI8)","v":8},null,null,null,{"$f":"N8","v":112},{"$f":"COUNTIF(L98:L119,AN8)","v":7},null,null,null,{"$f":"N8","v":112},{"$f":"COUNTIF(L120:L142,AS8)","v":8}]
[11,240,22,249,23,257,null,null,null,null,0,122,null,121,{"$f":"COUNTIF($L$7:$L$500,N9)","v":2},{"$f":"O9/$Q$4","v":1.4705882352941176E-2},{"$f":"IF(P9=0,0,(P9*((LOG(P9))/LOG(2))))","v":-8.9521512371328521E-2},null,null,{"$f":"N9","v":121},{"$f":"COUNTIF(L7:L29,T9)","v":1},{"$f":"U9/(W4-U8)","v":0.05},{"$f":"IF(V9=0,0,(V9*((LOG(V9))/LOG(2))))","v":-0.21609640474436814},null,{"$f":"N9","v":121},{"$f":"COUNTIF(L30:L51,Y9)","v":0},{"$f":"Z9/(AB4-Z8)","v":0},{"$f":"IF(AA9=0,0,(AA9*((LOG(AA9))/LOG(2))))","v":0},null,{"$f":"N9","v":121},{"$f":"COUNTIF(L52:L74,AD9)","v":0},{"$f":"AE9/(AG4-AE8)","v":0},{"$f":"IF(AF9=0,0,(AF9*((LOG(AF9))/LOG(2))))","v":0},null,{"$f":"N9","v":121},{"$f":"COUNTIF(L75:L97,AI9)","v":0},{"$f":"AJ9/(AL4-AJ8)","v":0},{"$f":"IF(AK9=0,0,(AK9*((LOG(AK9))/LOG(2))))","v":0},null,{"$f":"N9","v":121},{"$f":"COUNTIF(L98:L119,AN9)","v":0},{"$f":"AO9/(AQ4-AO8)","v":0},{"$f":"IF(AP9=0,0,(AP9*((LOG(AP9))/LOG(2))))","v":0},null,{"$f":"N9","v":121},{"$f":"COUNTIF(L120:L142,AS9)","v":1},{"$f":"AT9/(AV4-AT8)","v":6.6666666666666666E-2},{"$f":"IF(AU9=0,0,(AU9*((LOG(AU9))/LOG(2))))","v":-0.26045937304056793}]
[22,353,13,363,23,377,null,null,null,null,0,212,null,122,{"$f":"COUNTIF($L$7:$L$500,N10)","v":34},{"$f":"O10/$Q$4","v":0.25},{"$f":"IF(P10=0,0,(P10*((LOG(P10))/LOG(2))))","v":-0.5},null,null,{"$f":"N10","v":122},{"$f":"COUNTIF(L7:L29,T10)","v":8},{"$f":"U10/(W4-U8)","v":0.4},{"$f":"IF(V10=0,0,(V10*((LOG(V10))/LOG(2))))","v":-0.52877123795494496},null,{"$f":"N10","v":122},{"$f":"COUNTIF(L30:L51,Y10)","v":3},{"$f":"Z10/(AB4-Z8)","v":0.2},{"$f":"IF(AA10=0,0,(AA10*((LOG(AA10))/LOG(2))))","v":-0.46438561897747244},null,{"$f":"N10","v":122},{"$f":"COUNTIF(L52:L74,AD10)","v":8},{"$f":"AE10/(AG4-AE8)","v":0.5},{"$f":"IF(AF10=0,0,(AF10*((LOG(AF10))/LOG(2))))","v":-0.5},null,{"$f":"N10","v":122},{"$f":"COUNTIF(L75:L97,AI10)","v":4},{"$f":"AJ10/(AL4-AJ8)","v":0.26666666666666666},{"$f":"IF(AK10=0,0,(AK10*((LOG(AK10))/LOG(2))))","v":-0.50850415882893829},null,{"$f":"N10","v":122},{"$f":"COUNTIF(L98:L119,AN10)","v":4},{"$f":"AO10/(AQ4-AO8)","v":0.26666666666666666},{"$f":"IF(AP10=0,0,(AP10*((LOG(AP10))/LOG(2))))","v":-0.50850415882893829},null,{"$f":"N10","v":122},{"$f":"COUNTIF(L120:L142,AS10)","v":7},{"$f":"AT10/(AV4-AT8)","v":0.46666666666666667},{"$f":"IF(AU10=0,0,(AU10*((LOG(AU10))/LOG(2))))","v":-0.51311664765709342}]
[11,480,22,488,14,500,null,null,null,null,0,121,null,211,{"$f":"COUNTIF($L$7:$L$500,N11)","v":0},{"$f":"O11/$Q$4","v":0},{"$f":"IF(P11=0,0,(P11*((LOG(P11))/LOG(2))))","v":0},null,null,{"$f":"N11","v":211},{"$f":"COUNTIF(L7:L29,T11)","v":0},{"$f":"U11/(W4-U8)","v":0},{"$f":"IF(V11=0,0,(V11*((LOG(V11))/LOG(2))))","v":0},null,{"$f":"N11","v":211},{"$f":"COUNTIF(L30:L51,Y11)","v":0},{"$f":"Z11/(AB4-Z8)","v":0},{"$f":"IF(AA11=0,0,(AA11*((LOG(AA11))/LOG(2))))","v":0},null,{"$f":"N11","v":211},{"$f":"COUNTIF(L52:L74,AD11)","v":0},{"$f":"AE11/(AG4-AE8)","v":0},{"$f":"IF(AF11=0,0,(AF11*((LOG(AF11))/LOG(2))))","v":0},null,{"$f":"N11","v":211},{"$f":"COUNTIF(L75:L97,AI11)","v":0},{"$f":"AJ11/(AL4-AJ8)","v":0},{"$f":"IF(AK11=0,0,(AK11*((LOG(AK11))/LOG(2))))","v":0},null,{"$f":"N11","v":211},{"$f":"COUNTIF(L98:L119,AN11)","v":0},{"$f":"AO11/(AQ4-AO8)","v":0},{"$f":"IF(AP11=0,0,(AP11*((LOG(AP11))/LOG(2))))","v":0},null,{"$f":"N11","v":211},{"$f":"COUNTIF(L120:L142,AS11)","v":0},{"$f":"AT11/(AV4-AT8)","v":0},{"$f":"IF(AU11=0,0,(AU11*((LOG(AU11))/LOG(2))))","v":0}]
[11,604,11,609,21,617,null,null,null,null,0,112,null,212,{"$f":"COUNTIF($L$7:$L$500,N12)","v":17},{"$f":"O12/$Q$4","v":0.125},{"$f":"IF(P12=0,0,(P12*((LOG(P12))/LOG(2))))","v":-0.375},null,null,{"$f":"N12","v":212},{"$f":"COUNTIF(L7:L29,T12)","v":3},{"$f":"U12/(W4-U8)","v":0.15},{"$f":"IF(V12=0,0,(V12*((LOG(V12))/LOG(2))))","v":-0.41054483912493089},null,{"$f":"N12","v":212},{"$f":"COUNTIF(L30:L51,Y12)","v":3},{"$f":"Z12/(AB4-Z8)","v":0.2},{"$f":"IF(AA12=0,0,(AA12*((LOG(AA12))/LOG(2))))","v":-0.46438561897747244},null,{"$f":"N12","v":212},{"$f":"COUNTIF(L52:L74,AD12)","v":3},{"$f":"AE12/(AG4-AE8)","v":0.1875},{"$f":"IF(AF12=0,0,(AF12*((LOG(AF12))/LOG(2))))","v":-0.45281953111478312},null,{"$f":"N12","v":212},{"$f":"COUNTIF(L75:L97,AI12)","v":2},{"$f":"AJ12/(AL4-AJ8)","v":0.13333333333333333},{"$f":"IF(AK12=0,0,(AK12*((LOG(AK12))/LOG(2))))","v":-0.3875854127478025},null,{"$f":"N12","v":212},{"$f":"COUNTIF(L98:L119,AN12)","v":3},{"$f":"AO12/(AQ4-AO8)","v":0.2},{"$f":"IF(AP12=0,0,(AP12*((LOG(AP12))/LOG(2))))","v":-0.46438561897747244},null,{"$f":"N12","v":212},{"$f":"COUNTIF(L120:L142,AS12)","v":3},{"$f":"AT12/(AV4-AT8)","v":0.2},{"$f":"IF(AU12=0,0,(AU12*((LOG(AU12))/LOG(2))))","v":-0.46438561897747244}]
[22,763,24,780,23,784,null,null,null,null,0,222,null,221,{"$f":"COUNTIF($L$7:$L$500,N13)","v":8},{"$f":"O13/$Q$4","v":5.8823529411764705E-2},{"$f":"IF(P13=0,0,(P13*((LOG(P13))/LOG(2))))","v":-0.24043899066178465},null,null,{"$f":"N13","v":221},{"$f":"COUNTIF(L7:L29,T13)","v":1},{"$f":"U13/(W4-U8)","v":0.05},{"$f":"IF(V13=0,0,(V13*((LOG(V13))/LOG(2))))","v":-0.21609640474436814},null,{"$f":"N13","v":221},{"$f":"COUNTIF(L30:L51,Y13)","v":1},{"$f":"Z13/(AB4-Z8)","v":6.6666666666666666E-2},{"$f":"IF(AA13=0,0,(AA13*((LOG(AA13))/LOG(2))))","v":-0.26045937304056793},null,{"$f":"N13","v":221},{"$f":"COUNTIF(L52:L74,AD13)","v":1},{"$f":"AE13/(AG4-AE8)","v":6.25E-2},{"$f":"IF(AF13=0,0,(AF13*((LOG(AF13))/LOG(2))))","v":-0.25},null,{"$f":"N13","v":221},{"$f":"COUNTIF(L75:L97,AI13)","v":3},{"$f":"AJ13/(AL4-AJ8)","v":0.2},{"$f":"IF(AK13=0,0,(AK13*((LOG(AK13))/LOG(2))))","v":-0.46438561897747244},null,{"$f":"N13","v":221},{"$f":"COUNTIF(L98:L119,AN13)","v":1},{"$f":"AO13/(AQ4-AO8)","v":6.6666666666666666E-2},{"$f":"IF(AP13=0,0,(AP13*((LOG(AP13))/LOG(2))))","v":-0.26045937304056793},null,{"$f":"N13","v":221},{"$f":"COUNTIF(L120:L142,AS13)","v":1},{"$f":"AT13/(AV4-AT8)","v":6.6666666666666666E-2},{"$f":"IF(AU13=0,0,(AU13*((LOG(AU13))/LOG(2))))","v":-0.26045937304056793}]
[22,883,24,903,23,912,null,null,null,null,0,222,null,222,{"$f":"COUNTIF($L$7:$L$500,N14)","v":25},{"$f":"O14/$Q$4","v":0.18382352941176472},{"$f":"IF(P14=0,0,(P14*((LOG(P14))/LOG(2))))","v":-0.4491923991683115},null,null,{"$f":"N14","v":222},{"$f":"COUNTIF(L7:L29,T14)","v":7},{"$f":"U14/(W4-U8)","v":0.35},{"$f":"IF(V14=0,0,(V14*((LOG(V14))/LOG(2))))","v":-0.53010061049041535},null,{"$f":"N14","v":222},{"$f":"COUNTIF(L30:L51,Y14)","v":6},{"$f":"Z14/(AB4-Z8)","v":0.4},{"$f":"IF(AA14=0,0,(AA14*((LOG(AA14))/LOG(2))))","v":-0.52877123795494496},null,{"$f":"N14","v":222},{"$f":"COUNTIF(L52:L74,AD14)","v":2},{"$f":"AE14/(AG4-AE8)","v":0.125},{"$f":"IF(AF14=0,0,(AF14*((LOG(AF14))/LOG(2))))","v":-0.375},null,{"$f":"N14","v":222},{"$f":"COUNTIF(L75:L97,AI14)","v":4},{"$f":"AJ14/(AL4-AJ8)","v":0.26666666666666666},{"$f":"IF(AK14=0,0,(AK14*((LOG(AK14))/LOG(2))))","v":-0.50850415882893829},null,{"$f":"N14","v":222},{"$f":"COUNTIF(L98:L119,AN14)","v":4},{"$f":"AO14/(AQ4-AO8)","v":0.26666666666666666},{"$f":"IF(AP14=0,0,(AP14*((LOG(AP14))/LOG(2))))","v":-0.50850415882893829},null,{"$f":"N14","v":222},{"$f":"COUNTIF(L120:L142,AS14)","v":2},{"$f":"AT14/(AV4-AT8)","v":0.13333333333333333},{"$f":"IF(AU14=0,0,(AU14*((LOG(AU14))/LOG(2))))","v":-0.3875854127478025}]
[22,1016,13,1027,23,1037,null,null,null,null,0,212,null,null,null,{"$f":"SUM(P7:P14)","v":1},{"$f":"-SUM(Q7:Q14)","v":2.4503053824819307},null,null,null,null,{"$f":"SUM(V7:V14)","v":1},{"$f":"-SUM(W7:W14)","v":1.9016094970590274},null,null,null,{"$f":"SUM(AA7:AA14)","v":1},{"$f":"-SUM(AB7:AB14)","v":2.1055872616982603},null,null,null,{"$f":"SUM(AF7:AF14)","v":1},{"$f":"-SUM(AG7:AG14)","v":1.9528195311147831},null,null,null,{"$f":"SUM(AK7:AK14)","v":1},{"$f":"-SUM(AL7:AL14)","v":2.2565647621309539},null,null,null,{"$f":"SUM(AP7:AP14)","v":1},{"$f":"-SUM(AQ7:AQ14)","v":2.2062389286533897},null,null,null,{"$f":"SUM(AU7:AU14)","v":1},{"$f":"-SUM(AV7:AV14)","v":2.1464657985040723}]
[22,1148,24,1170,23,1176,null,null,null,null,0,222,null,null,null,"U=",{"$f":"Q15/(LOG(Q4)/LOG(2))","v":0.34572391240215078},null,null,null,null,"U1=",{"$f":"W15/(LOG(W4)/LOG(2))","v":0.42037878900117365},null,null,null,"U2=",{"$f":"AB15/(LOG(AB4)/LOG(2))","v":0.47216493978703067},null,null,null,"U3=",{"$f":"AG15/(LOG(AG4)/LOG(2))","v":0.43169952132521883},null,null,null,"U4=",{"$f":"AL15/(LOG(AL4)/LOG(2))","v":0.49884687864381561},null,null,null,"U5=",{"$f":"AQ15/(LOG(AQ4)/LOG(2))","v":0.49473545449892264},null,null,null,"U6=",{"$f":"AV15/(LOG(AV4)/LOG(2))","v":0.47450788103608749}]
[22,1289,24,1296,23,1303,null,null,null,null,0,222]
[11,1401,22,1411,23,1414,null,null,null,null,0,122]
[22,1513,24,1532,23,1537,null,null,null,null,0,222,null,"Total Target Seq"]
[22,1638,24,1649,23,1657,null,null,null,null,0,222,null,{"$f":"COUNTIF(L7:L142,G3)","v":40},null,23,22,23,23,22,23]
[11,1751,22,1764,23,1770,null,null,null,null,0,122,null,null,null,"% of reinforcement given in 6 equal intervals based on number of trials "]
[11,1883,22,1890,23,1900,null,null,null,null,0,122,null,null,null,"%_1","%_2","%_3","%_4","%_5","%_6"]
[11,1994,11,1997,21,2010,null,null,null,null,0,112,null,null,"target sequence",{"$f":"$G$3","v":112},{"$f":"$G$3","v":112},{"$f":"$G$3","v":112},{"$f":"$G$3","v":112},{"$f":"$G$3","v":112},{"$f":"$G$3","v":112}]
[22,2221,24,2226,14,2240,null,null,null,null,0,221,null,null,"total reinforcement",{"$f":"U8","v":3},{"$f":"Z8","v":7},{"$f":"AE8","v":7},{"$f":"AJ8","v":8},{"$f":"AO8","v":7},{"$f":"AT8","v":8}]
[22,2338,13,2348,23,2364,null,null,null,null,0,212,null,null,"% target"]
[11,2458,22,2470,23,2473,null,null,null,null,0,122,null,null,"CCRF"]
[11,2581,22,2588,23,2593,null,null,null,null,0,122,null,null,"% CCRf"]
[11,2684,11,2688,21,2698,null,null,null,null,0,112,null,null,"average response rate",{"$f":"F29/P20","v":126.26086956521739},{"$f":"(F51-F29)/Q20","v":130.90909090909091},{"$f":"(F74-F51)/R20","v":131.17391304347825},{"$f":"(F97-F74)/S20","v":130},{"$f":"(F119-F97)/T20","v":131.68181818181819},{"$f":"(F142-F119)/U20","v":142.95652173913044}]
[22,2882,24,2900,23,2904,null,null,null,null,0,222]
[11,2999,11,3004,21,3020,null,null,null,null,0,112]
[22,3144,24,3149,14,3159,null,null,null,null,0,221]
[22,3257,24,3260,23,3266,null,null,null,null,0,222]
[11,3362,22,3374,23,3384,null,null,null,null,0,122]
[22,3486,13,3493,23,3508,null,null,null,null,0,212]
[11,3603,11,3609,21,3618,null,null,null,null,0,112]
[22,3830,24,3846,23,3850,null,null,null,null,0,222]
[11,3960,22,3992,23,4002,null,null,null,null,0,122]
[11,4097,11,4101,21,4111,null,null,null,null,0,112]
[22,4246,24,4267,23,4278,null,null,null,null,0,222]
[11,4373,11,4379,21,4388,null,null,null,null,0,112]
[22,4540,24,4560,23,4565,null,null,null,null,0,222]
[22,4666,24,4672,23,4681,null,null,null,null,0,222]
[11,4776,11,4781,12,4787,null,null,null,null,0,111]
[22,4887,13,4895,23,4923,null,null,null,null,0,212]
[11,5017,11,5024,21,5040,null,null,null,null,0,112]
[22,5144,13,5152,23,5165,null,null,null,null,0,212]
[11,5259,11,5268,21,5294,null,null,null,null,0,112]
[22,5414,24,5431,23,5435,null,null,null,null,0,222]
[11,5529,11,5536,12,5543,null,null,null,null,0,111]
[11,5652,22,5661,23,5673,null,null,null,null,0,122]
[11,5765,11,5772,21,5784,null,null,null,null,0,112]
[22,5977,13,5985,23,6001,null,null,null,null,0,212]
[11,6103,22,6112,23,6127,null,null,null,null,0,122]
[11,6222,11,6228,21,6240,null,null,null,null,0,112]
[22,6337,24,6358,23,6364,null,null,null,null,0,222]
[11,6462,11,6468,12,6476,null,null,null,null,0,111]
[11,6569,11,6574,21,6587,null,null,null,null,0,112]
[22,6719,24,6724,14,6734,null,null,null,null,0,221]
[11,6829,11,6836,21,6861,null,null,null,null,0,112]
[22,6976,24,6993,23,6999,null,null,null,null,0,222]
[11,7104,22,7113,23,7119,null,null,null,null,0,122]
[11,7216,11,7223,21,7240,null,null,null,null,0,112]
[22,7378,13,7389,23,7405,null,null,null,null,0,212]
[11,7498,11,7502,12,7509,null,null,null,null,0,111]
[11,7614,22,7625,23,7639,null,null,null,null,0,122]
[11,7735,22,7746,23,7757,null,null,null,null,0,122]
[11,7859,11,7874,21,7885,null,null,null,null,0,112]
[11,8017,22,8031,23,8038,null,null,null,null,0,122]
[11,8134,22,8147,23,8151,null,null,null,null,0,122]
[11,8247,22,8258,23,8264,null,null,null,null,0,122]
[11,8356,11,8361,21,8371,null,null,null,null,0,112]
[11,8498,22,8506,23,8511,null,null,null,null,0,122]
[11,8607,11,8614,21,8625,null,null,null,null,0,112]
[22,8774,13,8788,23,8801,null,null,null,null,0,212]
[11,8896,11,8901,21,8913,null,null,null,null,0,112]
[11,9008,11,9011,21,9024,null,null,null,null,0,112]
[22,9233,24,9243,14,9256,null,null,null,null,0,221]
[11,9355,11,9362,12,9367,null,null,null,null,0,111]
[22,9464,13,9474,23,9501,null,null,null,null,0,212]
[11,9593,11,9597,12,9602,null,null,null,null,0,111]
[11,9703,22,9712,23,9732,null,null,null,null,0,122]
[11,9826,11,9831,21,9842,null,null,null,null,0,112]
[22,9941,24,9945,14,9954,null,null,null,null,0,221]
[11,10049,11,10052,21,10074,null,null,null,null,0,112]
[22,10175,24,10180,14,10189,null,null,null,null,0,221]
[11,10285,22,10337,23,10348,null,null,null,null,0,122]
[11,10444,22,10463,23,10475,null,null,null,null,0,122]
[22,10573,13,10585,23,10605,null,null,null,null,0,212]
[11,10706,22,10718,23,10735,null,null,null,null,0,122]
[11,10861,11,10866,21,10878,null,null,null,null,0,112]
[22,11003,24,11019,23,11023,null,null,null,null,0,222]
[11,11115,11,11118,21,11128,null,null,null,null,0,112]
[22,11274,24,11291,23,11302,null,null,null,null,0,222]
[11,11397,11,11401,21,11426,null,null,null,null,0,112]
[22,11519,24,11522,23,11539,null,null,null,null,0,222]
[22,11639,24,11644,23,11651,null,null,null,null,0,222]
[11,11780,11,11783,21,11791,null,null,null,null,0,112]
[11,11925,22,11937,23,11949,null,null,null,null,0,122]
[11,12043,11,12045,21,12065,null,null,null,null,0,112]
[22,12192,24,12224,23,12234,null,null,null,null,0,222]
[22,12333,24,12357,23,12366,null,null,null,null,0,222]
[22,12469,24,12481,23,12490,null,null,null,null,0,222]
[11,12583,11,12590,12,12594,null,null,null,null,0,111]
[11,12692,11,12699,21,12742,null,null,null,null,0,112]
[22,12862,13,12875,23,12890,null,null,null,null,0,212]
[22,12989,13,13000,23,13021,null,null,null,null,0,212]
[11,13119,11,13124,21,13152,null,null,null,null,0,112]
[22,13276,24,13281,14,13294,null,null,null,null,0,221]
[22,13394,24,13401,23,13411,null,null,null,null,0,222]
[11,13509,11,13513,12,13523,null,null,null,null,0,111]
[11,13616,11,13618,21,13631,null,null,null,null,0,112]
[11,13788,22,13797,23,13802,null,null,null,null,0,122]
[11,13900,11,13907,21,13924,null,null,null,null,0,112]
[11,14038,22,14057,23,14083,null,null,null,null,0,122]
[11,14183,22,14199,23,14209,null,null,null,null,0,122]
[11,14304,11,14309,21,14321,null,null,null,null,0,112]
[22,14439,13,14447,23,14461,null,null,null,null,0,212]
[11,14555,11,14560,12,14565,null,null,null,null,0,111]
[11,14660,11,14663,21,14688,null,null,null,null,0,112]
[22,14787,24,14792,14,14800,null,null,null,null,0,221]
[11,14896,22,14919,23,14935,null,null,null,null,0,122]
[11,15030,22,15041,14,15056,null,null,null,null,0,121]
[11,15149,11,15155,21,15167,null,null,null,null,0,112]
[22,15285,24,15294,23,15304,null,null,null,null,0,222]
[11,15399,11,15405,12,15411,null,null,null,null,0,111]
[11,15504,11,15508,21,15542,null,null,null,null,0,112]
[22,15732,13,15746,23,15778,null,null,null,null,0,212]
[11,15890,22,15920,23,15933,null,null,null,null,0,122]
[11,16030,11,16033,21,16070,null,null,null,null,0,112]
[11,16207,22,16214,23,16218,null,null,null,null,0,122]
[11,16324,22,16335,23,16342,null,null,null,null,0,122]
[11,16438,22,16458,23,16467,null,null,null,null,0,122]
[11,16582,11,16588,21,16598,null,null,null,null,0,112]
[22,16718,13,16729,23,16740,null,null,null,null,0,212]
[11,16845,22,16887,23,16899,null,null,null,null,0,122]
[11,16995,11,17005,21,17022,null,null,null,null,0,112]
[11,17178,22,17186,23,17192,null,null,null,null,0,122]
[11,17287,11,17293,21,17332,null,null,null,null,0,112]
[22,17507,13,17516,23,17525,null,null,null,null,0,212]
[11,17622,11,17627,21,17643,null,null,null,null,0,112]
[22,17804,24,17819,23,17826,null,null,null,null,0,222]
[11,17923,11,17930,21,17976,null,null,null,null,1,112]

{"sheet":"!MB1391I.sha","index":8,"n_rows":134,"n_cols":48,"rows_kept":134,"cut":false,"hidden":false,"merged":[[4,39,4,42],[5,39,5,40],[4,44,4,47],[5,44,5,45],[4,24,4,27],[5,24,5,25],[4,29,4,32],[5,29,5,30],[4,34,4,37],[5,34,5,35],[1,1,1,2],[5,13,5,14],[18,13,18,14],[19,13,19,14],[4,19,4,22],[5,19,5,20]]}
["Report for:!MB1391I.sha"]
["Date:","<date>"]
["Hen:","<hen>",null,null,null,"Correct Sequence",{"$f":"Start!J2","v":112},null,null,null,null,null,null,null,null,"Total Sequences in Data",{"$f":"4994-COUNTBLANK(L7:L5000)","v":128},null,null,null,null,"Total Sequences in Block Data",{"$f":"COUNTA(L7:L27)","v":21},null,null,null,"Total Sequences in Block Data",{"$f":"COUNTA(L28:L49)","v":22},null,null,null,"Total Sequences in Block Data",{"$f":"COUNTA(L50:L70)","v":21},null,null,null,"Total Sequences in Block Data",{"$f":"COUNTA(L71:L91)","v":21},null,null,null,"Total Sequences in Block Data",{"$f":"COUNTA(L92:L113)","v":22},null,null,null,"Total Sequences in Block Data",{"$f":"COUNTA(L114:L134)","v":21}]
[null,null,null,null,null,null,null,null,null,null,null,null,null,null,null,"Total Sequences in Summary",{"$f":"SUM(O7:O14)","v":128},null,null,null,null,"Total Sequences in Block Summary",{"$f":"SUM(U7:U14)","v":21},null,null,null,"Total Sequences in Block Summary",{"$f":"SUM(Z7:Z14)","v":22},null,null,null,"Total Sequences in Block Summary",{"$f":"SUM(AE7:AE14)","v":21},null,null,null,"Total Sequences in Block Summary",{"$f":"SUM(AJ7:AJ14)","v":21},null,null,null,"Total Sequences in Block Summary",{"$f":"SUM(AO7:AO14)","v":22},null,null,null,"Total Sequences in Block Summary",{"$f":"SUM(AT7:AT14)","v":21}]
[null,null,null,null,null,null,null,null,null,null,null,null,null,null,null,null,null,null,null,"Block 1",null,null,null,null,"Block 2",null,null,null,null,"Block 3",null,null,null,null,"Block 4",null,null,null,null,"Block 5",null,null,null,null,"Block 6"]
["Sequence\nComponent\n1","Time\n1","Sequence\nComponent\n2","Time\n2","Sequence\nComponent\n3","Time\n3","Sequence\nComponent\n4","Time\n4","Sequence\nComponent\n5","Time\n5","Correct?\n0=No 1=Yes","Sequence",null,"Frequency",null,"Relative Frequency","Variability",null,null,"Frequency",null,"Relative Frequency","Variability",null,"Frequency",null,"Relative Frequency","Variability",null,"Frequency",null,"Relative Frequency","Variability",null,"Frequency",null,"Relative Frequency","Variability",null,"Frequency",null,"Relative Frequency","Variability",null,"Frequency",null,"Relative Frequency","Variability"]
[22,61,24,80,23,85,null,null,null,null,0,222,null,111,{"$f":"COUNTIF($L$7:$L$500,N7)","v":10},{"$f":"O7/$Q$4","v":7.8125E-2},{"$f":"IF(P7=0,0,(P7*((LOG(P7))/LOG(2))))","v":-0.28734936758692481},null,null,{"$f":"N7","v":111},{"$f":"COUNTIF(L7:L27,T7)","v":2},{"$f":"U7/(W4-U8)","v":0.11764705882352941},{"$f":"IF(V7=0,0,(V7*((LOG(V7))/LOG(2))))","v":-0.36323092250003997},null,{"$f":"N7","v":111},{"$f":"COUNTIF(L28:L49,Y7)","v":3},{"$f":"Z7/(AB4-Z8)","v":0.16666666666666666},{"$f":"IF(AA7=0,0,(AA7*((LOG(AA7))/LOG(2))))","v":-0.43082708345352599},null,{"$f":"N7","v":111},{"$f":"COUNTIF(L50:L70,AD7)","v":4},{"$f":"AE7/(AG4-AE8)","v":0.2857142857142857},{"$f":"IF(AF7=0,0,(AF7*((LOG(AF7))/LOG(2))))","v":-0.51638712058788683},null,{"$f":"N7","v":111},{"$f":"COUNTIF(L71:L91,AI7)","v":0},{"$f":"AJ7/(AL4-AJ8)","v":0},{"$f":"IF(AK7=0,0,(AK7*((LOG(AK7))/LOG(2))))","v":0},null,{"$f":"N7","v":111},{"$f":"COUNTIF(L92:L113,AN7)","v":0},{"$f":"AO7/(AQ4-AO8)","v":0},{"$f":"IF(AP7=0,0,(AP7*((LOG(AP7))/LOG(2))))","v":0},null,{"$f":"N7","v":111},{"$f":"COUNTIF(L114:L134,AS7)","v":1},{"$f":"AT7/(AV4-AT8)","v":7.6923076923076927E-2},{"$f":"IF(AU7=0,0,(AU7*((LOG(AU7))/LOG(2))))","v":-0.28464920908777636}]
[11,177,11,182,21,193,null,null,null,null,0,112,null,112,{"$f":"COUNTIF($L$7:$L$500,N8)","v":40},{"$f":"O8/$Q$4","v":0.3125},{"$f":"IF(P8=0,0,(P8*((LOG(P8))/LOG(2))))","v":-0.52439747034769923},null,null,{"$f":"N8","v":112},{"$f":"COUNTIF(L7:L27,T8)","v":4},null,null,null,{"$f":"N8","v":112},{"$f":"COUNTIF(L28:L49,Y8)","v":4},null,null,null,{"$f":"N8","v":112},{"$f":"COUNTIF(L50:L70,AD8)","v":7},null,null,null,{"$f":"N8","v":112},{"$f":"COUNTIF(L71:L91,AI8)","v":8},null,null,null,{"$f":"N8","v":112},{"$f":"COUNTIF(L92:L113,AN8)","v":9},null,null,null,{"$f":"N8","v":112},{"$f":"COUNTIF(L114:L134,AS8)","v":8}]
[22,315,24,320,23,328,null,null,null,null,0,222,null,121,{"$f":"COUNTIF($L$7:$L$500,N9)","v":0},{"$f":"O9/$Q$4","v":0},{"$f":"IF(P9=0,0,(P9*((LOG(P9))/LOG(2))))","v":0},null,null,{"$f":"N9","v":121},{"$f":"COUNTIF(L7:L27,T9)","v":0},{"$f":"U9/(W4-U8)","v":0},{"$f":"IF(V9=0,0,(V9*((LOG(V9))/LOG(2))))","v":0},null,{"$f":"N9","v":121},{"$f":"COUNTIF(L28:L49,Y9)","v":0},{"$f":"Z9/(AB4-Z8)","v":0},{"$f":"IF(AA9=0,0,(AA9*((LOG(AA9))/LOG(2))))","v":0},null,{"$f":"N9","v":121},{"$f":"COUNTIF(L50:L70,AD9)","v":0},{"$f":"AE9/(AG4-AE8)","v":0},{"$f":"IF(AF9=0,0,(AF9*((LOG(AF9))/LOG(2))))","v":0},null,{"$f":"N9","v":121},{"$f":"COUNTIF(L71:L91,AI9)","v":0},{"$f":"AJ9/(AL4-AJ8)","v":0},{"$f":"IF(AK9=0,0,(AK9*((LOG(AK9))/LOG(2))))","v":0},null,{"$f":"N9","v":121},{"$f":"COUNTIF(L92:L113,AN9)","v":0},{"$f":"AO9/(AQ4-AO8)","v":0},{"$f":"IF(AP9=0,0,(AP9*((LOG(AP9))/LOG(2))))","v":0},null,{"$f":"N9","v":121},{"$f":"COUNTIF(L114:L134,AS9)","v":0},{"$f":"AT9/(AV4-AT8)","v":0},{"$f":"IF(AU9=0,0,(AU9*((LOG(AU9))/LOG(2))))","v":0}]
[22,431,13,455,23,481,null,null,null,null,0,212,null,122,{"$f":"COUNTIF($L$7:$L$500,N10)","v":24},{"$f":"O10/$Q$4","v":0.1875},{"$f":"IF(P10=0,0,(P10*((LOG(P10))/LOG(2))))","v":-0.45281953111478312},null,null,{"$f":"N10","v":122},{"$f":"COUNTIF(L7:L27,T10)","v":5},{"$f":"U10/(W4-U8)","v":0.29411764705882354},{"$f":"IF(V10=0,0,(V10*((LOG(V10))/LOG(2))))","v":-0.51927492540087561},null,{"$f":"N10","v":122},{"$f":"COUNTIF(L28:L49,Y10)","v":6},{"$f":"Z10/(AB4-Z8)","v":0.33333333333333331},{"$f":"IF(AA10=0,0,(AA10*((LOG(AA10))/LOG(2))))","v":-0.52832083357371862},null,{"$f":"N10","v":122},{"$f":"COUNTIF(L50:L70,AD10)","v":2},{"$f":"AE10/(AG4-AE8)","v":0.14285714285714285},{"$f":"IF(AF10=0,0,(AF10*((LOG(AF10))/LOG(2))))","v":-0.40105070315108626},null,{"$f":"N10","v":122},{"$f":"COUNTIF(L71:L91,AI10)","v":2},{"$f":"AJ10/(AL4-AJ8)","v":0.15384615384615385},{"$f":"IF(AK10=0,0,(AK10*((LOG(AK10))/LOG(2))))","v":-0.4154522643293988},null,{"$f":"N10","v":122},{"$f":"COUNTIF(L92:L113,AN10)","v":4},{"$f":"AO10/(AQ4-AO8)","v":0.30769230769230771},{"$f":"IF(AP10=0,0,(AP10*((LOG(AP10))/LOG(2))))","v":-0.52321222096648989},null,{"$f":"N10","v":122},{"$f":"COUNTIF(L114:L134,AS10)","v":5},{"$f":"AT10/(AV4-AT8)","v":0.38461538461538464},{"$f":"IF(AU10=0,0,(AU10*((LOG(AU10))/LOG(2))))","v":-0.53019677817451139}]
[22,595,24,618,23,630,null,null,null,null,0,222,null,211,{"$f":"COUNTIF($L$7:$L$500,N11)","v":3},{"$f":"O11/$Q$4","v":2.34375E-2},{"$f":"IF(P11=0,0,(P11*((LOG(P11))/LOG(2))))","v":-0.12691494138934789},null,null,{"$f":"N11","v":211},{"$f":"COUNTIF(L7:L27,T11)","v":0},{"$f":"U11/(W4-U8)","v":0},{"$f":"IF(V11=0,0,(V11*((LOG(V11))/LOG(2))))","v":0},null,{"$f":"N11","v":211},{"$f":"COUNTIF(L28:L49,Y11)","v":1},{"$f":"Z11/(AB4-Z8)","v":5.5555555555555552E-2},{"$f":"IF(AA11=0,0,(AA11*((LOG(AA11))/LOG(2))))","v":-0.23166250008012845},null,{"$f":"N11","v":211},{"$f":"COUNTIF(L50:L70,AD11)","v":1},{"$f":"AE11/(AG4-AE8)","v":7.1428571428571425E-2},{"$f":"IF(AF11=0,0,(AF11*((LOG(AF11))/LOG(2))))","v":-0.27195392300411453},null,{"$f":"N11","v":211},{"$f":"COUNTIF(L71:L91,AI11)","v":1},{"$f":"AJ11/(AL4-AJ8)","v":7.6923076923076927E-2},{"$f":"IF(AK11=0,0,(AK11*((LOG(AK11))/LOG(2))))","v":-0.28464920908777636},null,{"$f":"N11","v":211},{"$f":"COUNTIF(L92:L113,AN11)","v":0},{"$f":"AO11/(AQ4-AO8)","v":0},{"$f":"IF(AP11=0,0,(AP11*((LOG(AP11))/LOG(2))))","v":0},null,{"$f":"N11","v":211},{"$f":"COUNTIF(L114:L134,AS11)","v":0},{"$f":"AT11/(AV4-AT8)","v":0},{"$f":"IF(AU11=0,0,(AU11*((LOG(AU11))/LOG(2))))","v":0}]
[22,739,24,767,23,773,null,null,null,null,0,222,null,212,{"$f":"COUNTIF($L$7:$L$500,N12)","v":18},{"$f":"O12/$Q$4","v":0.140625},{"$f":"IF(P12=0,0,(P12*((LOG(P12))/LOG(2))))","v":-0.39797929667217485},null,null,{"$f":"N12","v":212},{"$f":"COUNTIF(L7:L27,T12)","v":3},{"$f":"U12/(W4-U8)","v":0.17647058823529413},{"$f":"IF(V12=0,0,(V12*((LOG(V12))/LOG(2))))","v":-0.44161770715220888},null,{"$f":"N12","v":212},{"$f":"COUNTIF(L28:L49,Y12)","v":2},{"$f":"Z12/(AB4-Z8)","v":0.1111111111111111},{"$f":"IF(AA12=0,0,(AA12*((LOG(AA12))/LOG(2))))","v":-0.3522138890491458},null,{"$f":"N12","v":212},{"$f":"COUNTIF(L50:L70,AD12)","v":5},{"$f":"AE12/(AG4-AE8)","v":0.35714285714285715},{"$f":"IF(AF12=0,0,(AF12*((LOG(AF12))/LOG(2))))","v":-0.53050958113222924},null,{"$f":"N12","v":212},{"$f":"COUNTIF(L71:L91,AI12)","v":2},{"$f":"AJ12/(AL4-AJ8)","v":0.15384615384615385},{"$f":"IF(AK12=0,0,(AK12*((LOG(AK12))/LOG(2))))","v":-0.4154522643293988},null,{"$f":"N12","v":212},{"$f":"COUNTIF(L92:L113,AN12)","v":5},{"$f":"AO12/(AQ4-AO8)","v":0.38461538461538464},{"$f":"IF(AP12=0,0,(AP12*((LOG(AP12))/LOG(2))))","v":-0.53019677817451139},null,{"$f":"N12","v":212},{"$f":"COUNTIF(L114:L134,AS12)","v":1},{"$f":"AT12/(AV4-AT8)","v":7.6923076923076927E-2},{"$f":"IF(AU12=0,0,(AU12*((LOG(AU12))/LOG(2))))","v":-0.28464920908777636}]
[11,869,22,878,23,885,null,null,null,null,0,122,null,221,{"$f":"COUNTIF($L$7:$L$500,N13)","v":7},{"$f":"O13/$Q$4","v":5.46875E-2},{"$f":"IF(P13=0,0,(P13*((LOG(P13))/LOG(2))))","v":-0.22928527769997481},null,null,{"$f":"N13","v":221},{"$f":"COUNTIF(L7:L27,T13)","v":2},{"$f":"U13/(W4-U8)","v":0.11764705882352941},{"$f":"IF(V13=0,0,(V13*((LOG(V13))/LOG(2))))","v":-0.36323092250003997},null,{"$f":"N13","v":221},{"$f":"COUNTIF(L28:L49,Y13)","v":1},{"$f":"Z13/(AB4-Z8)","v":5.5555555555555552E-2},{"$f":"IF(AA13=0,0,(AA13*((LOG(AA13))/LOG(2))))","v":-0.23166250008012845},null,{"$f":"N13","v":221},{"$f":"COUNTIF(L50:L70,AD13)","v":1},{"$f":"AE13/(AG4-AE8)","v":7.1428571428571425E-2},{"$f":"IF(AF13=0,0,(AF13*((LOG(AF13))/LOG(2))))","v":-0.27195392300411453},null,{"$f":"N13","v":221},{"$f":"COUNTIF(L71:L91,AI13)","v":2},{"$f":"AJ13/(AL4-AJ8)","v":0.15384615384615385},{"$f":"IF(AK13=0,0,(AK13*((LOG(AK13))/LOG(2))))","v":-0.4154522643293988},null,{"$f":"N13","v":221},{"$f":"COUNTIF(L92:L113,AN13)","v":0},{"$f":"AO13/(AQ4-AO8)","v":0},{"$f":"IF(AP13=0,0,(AP13*((LOG(AP13))/LOG(2))))","v":0},null,{"$f":"N13","v":221},{"$f":"COUNTIF(L114:L134,AS13)","v":1},{"$f":"AT13/(AV4-AT8)","v":7.6923076923076927E-2},{"$f":"IF(AU13=0,0,(AU13*((LOG(AU13))/LOG(2))))","v":-0.28464920908777636}]
[11,991,22,1002,23,1011,null,null,null,null,0,122,null,222,{"$f":"COUNTIF($L$7:$L$500,N14)","v":26},{"$f":"O14/$Q$4","v":0.203125},{"$f":"IF(P14=0,0,(P14*((LOG(P14))/LOG(2))))","v":-0.46709818225259064},null,null,{"$f":"N14","v":222},{"$f":"COUNTIF(L7:L27,T14)","v":5},{"$f":"U14/(W4-U8)","v":0.29411764705882354},{"$f":"IF(V14=0,0,(V14*((LOG(V14))/LOG(2))))","v":-0.51927492540087561},null,{"$f":"N14","v":222},{"$f":"COUNTIF(L28:L49,Y14)","v":5},{"$f":"Z14/(AB4-Z8)","v":0.27777777777777779},{"$f":"IF(AA14=0,0,(AA14*((LOG(AA14))/LOG(2))))","v":-0.51333247404304172},null,{"$f":"N14","v":222},{"$f":"COUNTIF(L50:L70,AD14)","v":1},{"$f":"AE14/(AG4-AE8)","v":7.1428571428571425E-2},{"$f":"IF(AF14=0,0,(AF14*((LOG(AF14))/LOG(2))))","v":-0.27195392300411453},null,{"$f":"N14","v":222},{"$f":"COUNTIF(L71:L91,AI14)","v":6},{"$f":"AJ14/(AL4-AJ8)","v":0.46153846153846156},{"$f":"IF(AK14=0,0,(AK14*((LOG(AK14))/LOG(2))))","v":-0.51483563880920125},null,{"$f":"N14","v":222},{"$f":"COUNTIF(L92:L113,AN14)","v":4},{"$f":"AO14/(AQ4-AO8)","v":0.30769230769230771},{"$f":"IF(AP14=0,0,(AP14*((LOG(AP14))/LOG(2))))","v":-0.52321222096648989},null,{"$f":"N14","v":222},{"$f":"COUNTIF(L114:L134,AS14)","v":5},{"$f":"AT14/(AV4-AT8)","v":0.38461538461538464},{"$f":"IF(AU14=0,0,(AU14*((LOG(AU14))/LOG(2))))","v":-0.53019677817451139}]
[11,1122,22,1133,23,1139,null,null,null,null,0,122,null,null,null,{"$f":"SUM(P7:P14)","v":1},{"$f":"-SUM(Q7:Q14)","v":2.4858440670634954},null,null,null,null,{"$f":"SUM(V7:V14)","v":1},{"$f":"-SUM(W7:W14)","v":2.2066294029540403},null,null,null,{"$f":"SUM(AA7:AA14)","v":1},{"$f":"-SUM(AB7:AB14)","v":2.288019280279689},null,null,null,{"$f":"SUM(AF7:AF14)","v":1},{"$f":"-SUM(AG7:AG14)","v":2.263809173883546},null,null,null,{"$f":"SUM(AK7:AK14)","v":1},{"$f":"-SUM(AL7:AL14)","v":2.0458416408851736},null,null,null,{"$f":"SUM(AP7:AP14)","v":1},{"$f":"-SUM(AQ7:AQ14)","v":1.5766212201074912},null,null,null,{"$f":"SUM(AU7:AU14)","v":1},{"$f":"-SUM(AV7:AV14)","v":1.9143411836123518}]
[11,1233,22,1245,23,1260,null,null,null,null,0,122,null,null,null,"U=",{"$f":"Q15/(LOG(Q4)/LOG(2))","v":0.35512058100907079},null,null,null,null,"U1=",{"$f":"W15/(LOG(W4)/LOG(2))","v":0.50238386495255527},null,null,null,"U2=",{"$f":"AB15/(LOG(AB4)/LOG(2))","v":0.51307419329346204},null,null,null,"U3=",{"$f":"AG15/(LOG(AG4)/LOG(2))","v":0.51540199762051053},null,null,null,"U4=",{"$f":"AL15/(LOG(AL4)/LOG(2))","v":0.46577727517490985},null,null,null,"U5=",{"$f":"AQ15/(LOG(AQ4)/LOG(2))","v":0.35354757173948353},null,null,null,"U6=",{"$f":"AV15/(LOG(AV4)/LOG(2))","v":0.43583853336384348}]
[11,1369,11,1375,21,1387,null,null,null,null,0,112]
[22,1612,24,1619,14,1628,null,null,null,null,0,221]
[11,1721,11,1726,21,1751,null,null,null,null,0,112,null,"Total Target Seq"]
[22,1922,13,1944,23,1968,null,null,null,null,0,212,null,{"$f":"COUNTIF(L7:L134,G3)","v":40},null,21,22,21,21,22,21]
[11,2064,11,2068,12,2073,null,null,null,null,0,111,null,null,null,"% of reinforcement given in 6 equal intervals based on number of trials "]
[22,2165,13,2184,23,2195,null,null,null,null,0,212,null,null,null,"%_1","%_2","%_3","%_4","%_5","%_6"]
[11,2287,11,2290,12,2296,null,null,null,null,0,111,null,null,"target sequence",{"$f":"$G$3","v":112},{"$f":"$G$3","v":112},{"$f":"$G$3","v":112},{"$f":"$G$3","v":112},{"$f":"$G$3","v":112},{"$f":"$G$3","v":112}]
[22,2391,24,2403,14,2413,null,null,null,null,0,221,null,null,"total reinforcement",{"$f":"U8","v":4},{"$f":"Z8","v":4},{"$f":"AE8","v":7},{"$f":"AJ8","v":8},{"$f":"AO8","v":9},{"$f":"AT8","v":8}]
[11,2507,11,2511,21,2522,null,null,null,null,0,112,null,null,"% target"]
[22,2685,24,2699,23,2713,null,null,null,null,0,222,null,null,"CCRF"]
[11,2810,22,2841,23,2853,null,null,null,null,0,122,null,null,"% CCRf"]
[11,2948,11,2971,21,2992,null,null,null,null,0,112,null,null,"average response rate",{"$f":"F27/P20","v":135.85714285714286},{"$f":"(F49-F27)/Q20","v":129.18181818181819},{"$f":"(F70-F49)/R20","v":138.71428571428572},{"$f":"(F91-F70)/S20","v":132.71428571428572},{"$f":"(F113-F91)/T20","v":135.77272727272728},{"$f":"(F134-F113)/U20","v":124.80952380952381}]
[22,3119,24,3141,23,3146,null,null,null,null,0,222]
[11,3240,11,3246,12,3254,null,null,null,null,0,111]
[22,3350,13,3361,23,3377,null,null,null,null,0,212]
[11,3472,22,3482,23,3486,null,null,null,null,0,122]
[22,3585,13,3594,23,3603,null,null,null,null,0,212]
[11,3698,11,3703,21,3716,null,null,null,null,0,112]
[22,3901,24,3917,14,3932,null,null,null,null,0,221]
[22,4031,24,4035,23,4048,null,null,null,null,0,222]
[11,4150,11,4156,21,4173,null,null,null,null,0,112]
[22,4340,24,4379,23,4401,null,null,null,null,0,222]
[11,4498,22,4507,23,4511,null,null,null,null,0,122]
[11,4618,22,4625,23,4630,null,null,null,null,0,122]
[11,4731,11,4736,12,4741,null,null,null,null,0,111]
[22,4837,13,4849,14,4852,null,null,null,null,0,211]
[11,4947,22,4958,23,4963,null,null,null,null,0,122]
[11,5063,11,5081,21,5090,null,null,null,null,0,112]
[22,5221,24,5239,23,5244,null,null,null,null,0,222]
[22,5344,24,5348,23,5355,null,null,null,null,0,222]
[11,5447,22,5456,23,5475,null,null,null,null,0,122]
[11,5568,11,5576,12,5579,null,null,null,null,0,111]
[11,5674,22,5688,23,5695,null,null,null,null,0,122]
[22,5794,13,5804,23,5819,null,null,null,null,0,212]
[22,5919,13,5927,23,5937,null,null,null,null,0,212]
[11,6035,11,6039,21,6053,null,null,null,null,0,112]
[11,6239,22,6249,23,6253,null,null,null,null,0,122]
[11,6349,11,6352,21,6376,null,null,null,null,0,112]
[22,6503,24,6509,14,6526,null,null,null,null,0,221]
[11,6619,11,6624,21,6634,null,null,null,null,0,112]
[22,6760,13,6770,14,6777,null,null,null,null,0,211]
[11,6872,11,6878,21,6896,null,null,null,null,0,112]
[22,7097,13,7105,23,7117,null,null,null,null,0,212]
[11,7213,11,7222,12,7230,null,null,null,null,0,111]
[11,7322,11,7325,12,7331,null,null,null,null,0,111]
[11,7422,11,7425,12,7427,null,null,null,null,0,111]
[11,7519,11,7524,21,7534,null,null,null,null,0,112]
[11,7810,22,7820,23,7825,null,null,null,null,0,122]
[22,7922,24,7926,23,7938,null,null,null,null,0,222]
[11,8034,11,8040,21,8082,null,null,null,null,0,112]
[22,8226,13,8234,23,8260,null,null,null,null,0,212]
[11,8354,11,8363,12,8367,null,null,null,null,0,111]
[22,8463,13,8473,23,8494,null,null,null,null,0,212]
[11,8588,11,8594,21,8608,null,null,null,null,0,112]
[22,8749,24,8753,23,8759,null,null,null,null,0,222]
[11,8854,11,8858,21,8877,null,null,null,null,0,112]
[22,8981,24,9006,23,9012,null,null,null,null,0,222]
[11,9105,22,9119,23,9123,null,null,null,null,0,122]
[22,9242,13,9252,14,9257,null,null,null,null,0,211]
[11,9349,11,9354,21,9425,null,null,null,null,0,112]
[22,9517,13,9525,23,9537,null,null,null,null,0,212]
[11,9632,22,9647,23,9661,null,null,null,null,0,122]
[22,9757,13,9765,23,9783,null,null,null,null,0,212]
[11,9885,11,9889,21,9899,null,null,null,null,0,112]
[22,10066,24,10076,14,10086,null,null,null,null,0,221]
[11,10179,11,10181,21,10215,null,null,null,null,0,112]
[22,10329,24,10334,23,10341,null,null,null,null,0,222]
[11,10435,11,10440,21,10450,null,null,null,null,0,112]
[22,10547,24,10552,14,10566,null,null,null,null,0,221]
[11,10666,11,10671,21,10683,null,null,null,null,0,112]
[22,10806,24,10812,23,10819,null,null,null,null,0,222]
[11,10919,11,10924,21,10946,null,null,null,null,0,112]
[22,11122,24,11126,23,11130,null,null,null,null,0,222]
[22,11243,24,11263,23,11273,null,null,null,null,0,222]
[11,11371,11,11374,21,11395,null,null,null,null,0,112]
[22,11565,24,11582,23,11588,null,null,null,null,0,222]
[11,11682,11,11688,21,11737,null,null,null,null,0,112]
[22,11857,24,11883,23,11887,null,null,null,null,0,222]
[22,11985,13,11992,23,12001,null,null,null,null,0,212]
[22,12099,24,12103,23,12108,null,null,null,null,0,222]
[11,12201,22,12211,23,12220,null,null,null,null,0,122]
[11,12323,22,12334,23,12339,null,null,null,null,0,122]
[11,12431,11,12438,21,12460,null,null,null,null,0,112]
[11,12593,22,12610,23,12619,null,null,null,null,0,122]
[11,12717,11,12721,21,12752,null,null,null,null,0,112]
[22,12906,13,12917,23,12951,null,null,null,null,0,212]
[11,13046,11,13055,21,13088,null,null,null,null,0,112]
[22,13243,24,13261,23,13265,null,null,null,null,0,222]
[22,13364,13,13374,23,13406,null,null,null,null,0,212]
[11,13501,11,13511,21,13523,null,null,null,null,0,112]
[11,13614,11,13619,21,13627,null,null,null,null,0,112]
[11,13769,22,13778,23,13784,null,null,null,null,0,122]
[11,13878,11,13880,21,13890,null,null,null,null,0,112]
[22,13993,13,14013,23,14028,null,null,null,null,0,212]
[11,14123,11,14128,21,14141,null,null,null,null,0,112]
[22,14249,13,14257,23,14265,null,null,null,null,0,212]
[11,14357,11,14362,21,14382,null,null,null,null,0,112]
[22,14489,24,14494,23,14510,null,null,null,null,0,222]
[11,14606,11,14609,12,14612,null,null,null,null,0,111]
[11,14704,11,14708,21,14718,null,null,null,null,0,112]
[11,14888,22,14894,23,14899,null,null,null,null,0,122]
[11,14993,11,14997,21,15021,null,null,null,null,0,112]
[22,15121,24,15145,23,15151,null,null,null,null,0,222]
[11,15257,22,15289,23,15301,null,null,null,null,0,122]
[11,15396,11,15399,21,15426,null,null,null,null,0,112]
[22,15518,24,15545,23,15550,null,null,null,null,0,222]
[11,15642,22,15651,23,15659,null,null,null,null,0,122]
[11,15752,22,15761,23,15765,null,null,null,null,0,122]
[22,15865,24,15872,14,15886,null,null,null,null,0,221]
[11,15980,11,15985,21,15995,null,null,null,null,0,112]
[11,16084,11,16089,21,16098,null,null,null,null,0,112]
[22,16209,24,16229,23,16234,null,null,null,null,0,222]
[11,16328,11,16331,21,16346,null,null,null,null,0,112]
[22,16450,13,16465,23,16474,null,null,null,null,0,212]
[11,16570,22,16612,23,16625,null,null,null,null,0,122]
[11,16719,11,16727,21,16740,null,null,null,null,0,112]
[22,16881,24,16886,23,16892,null,null,null,null,0,222]
[11,16983,11,16987,21,17003,null,null,null,null,1,112]

{"sheet":"!MB14A5I.sha","index":9,"n_rows":142,"n_cols":48,"rows_kept":142,"cut":false,"hidden":false,"merged":[[4,39,4,42],[5,39,5,40],[4,44,4,47],[5,44,5,45],[4,24,4,27],[5,24,5,25],[4,29,4,32],[5,29,5,30],[4,34,4,37],[5,34,5,35],[1,1,1,2],[5,13,5,14],[18,13,18,14],[19,13,19,14],[4,19,4,22],[5,19,5,20]]}
["Report for:!MB14A5I.sha"]
["Date:","<date>"]
["Hen:","<hen>",null,null,null,"Correct Sequence",{"$f":"Start!J2","v":112},null,null,null,null,null,null,null,null,"Total Sequences in Data",{"$f":"4994-COUNTBLANK(L7:L5000)","v":136},null,null,null,null,"Total Sequences in Block Data",{"$f":"COUNTA(L7:L29)","v":23},null,null,null,"Total Sequences in Block Data",{"$f":"COUNTA(L30:L51)","v":22},null,null,null,"Total Sequences in Block Data",{"$f":"COUNTA(L52:L74)","v":23},null,null,null,"Total Sequences in Block Data",{"$f":"COUNTA(L75:L97)","v":23},null,null,null,"Total Sequences in Block Data",{"$f":"COUNTA(L98:L119)","v":22},null,null,null,"Total Sequences in Block Data",{"$f":"COUNTA(L120:L142)","v":23}]
[null,null,null,null,null,null,null,null,null,null,null,null,null,null,null,"Total Sequences in Summary",{"$f":"SUM(O7:O14)","v":136},null,null,null,null,"Total Sequences in Block Summary",{"$f":"SUM(U7:U14)","v":23},null,null,null,"Total Sequences in Block Summary",{"$f":"SUM(Z7:Z14)","v":22},null,null,null,"Total Sequences in Block Summary",{"$f":"SUM(AE7:AE14)","v":23},null,null,null,"Total Sequences in Block Summary",{"$f":"SUM(AJ7:AJ14)","v":23},null,null,null,"Total Sequences in Block Summary",{"$f":"SUM(AO7:AO14)","v":22},null,null,null,"Total Sequences in Block Summary",{"$f":"SUM(AT7:AT14)","v":23}]
[null,null,null,null,null,null,null,null,null,null,null,null,null,null,null,null,null,null,null,"Block 1",null,null,null,null,"Block 2",null,null,null,null,"Block 3",null,null,null,null,"Block 4",null,null,null,null,"Block 5",null,null,null,null,"Block 6"]
["Sequence\nComponent\n1","Time\n1","Sequence\nComponent\n2","Time\n2","Sequence\nComponent\n3","Time\n3","Sequence\nComponent\n4","Time\n4","Sequence\nComponent\n5","Time\n5","Correct?\n0=No 1=Yes","Sequence",null,"Frequency",null,"Relative Frequency","Variability",null,null,"Frequency",null,"Relative Frequency","Variability",null,"Frequency",null,"Relative Frequency","Variability",null,"Frequency",null,"Relative Frequency","Variability",null,"Frequency",null,"Relative Frequency","Variability",null,"Frequency",null,"Relative Frequency","Variability",null,"Frequency",null,"Relative Frequency","Variability"]
[22,144,24,152,23,171,null,null,null,null,0,222,null,111,{"$f":"COUNTIF($L$7:$L$500,N7)","v":22},{"$f":"O7/$Q$4","v":0.16176470588235295},{"$f":"IF(P7=0,0,(P7*((LOG(P7))/LOG(2))))","v":-0.42512269777563921},null,null,{"$f":"N7","v":111},{"$f":"COUNTIF(L7:L29,T7)","v":3},{"$f":"U7/(W4-U8)","v":0.15789473684210525},{"$f":"IF(V7=0,0,(V7*((LOG(V7))/LOG(2))))","v":-0.42046815990354147},null,{"$f":"N7","v":111},{"$f":"COUNTIF(L30:L51,Y7)","v":2},{"$f":"Z7/(AB4-Z8)","v":0.15384615384615385},{"$f":"IF(AA7=0,0,(AA7*((LOG(AA7))/LOG(2))))","v":-0.4154522643293988},null,{"$f":"N7","v":111},{"$f":"COUNTIF(L52:L74,AD7)","v":4},{"$f":"AE7/(AG4-AE8)","v":0.22222222222222221},{"$f":"IF(AF7=0,0,(AF7*((LOG(AF7))/LOG(2))))","v":-0.48220555587606945},null,{"$f":"N7","v":111},{"$f":"COUNTIF(L75:L97,AI7)","v":4},{"$f":"AJ7/(AL4-AJ8)","v":0.26666666666666666},{"$f":"IF(AK7=0,0,(AK7*((LOG(AK7))/LOG(2))))","v":-0.50850415882893829},null,{"$f":"N7","v":111},{"$f":"COUNTIF(L98:L119,AN7)","v":3},{"$f":"AO7/(AQ4-AO8)","v":0.21428571428571427},{"$f":"IF(AP7=0,0,(AP7*((LOG(AP7))/LOG(2))))","v":-0.47622694742923877},null,{"$f":"N7","v":111},{"$f":"COUNTIF(L120:L142,AS7)","v":6},{"$f":"AT7/(AV4-AT8)","v":0.35294117647058826},{"$f":"IF(AU7=0,0,(AU7*((LOG(AU7))/LOG(2))))","v":-0.53029423783382934}]
[11,277,22,288,23,292,null,null,null,null,0,122,null,112,{"$f":"COUNTIF($L$7:$L$500,N8)","v":40},{"$f":"O8/$Q$4","v":0.29411764705882354},{"$f":"IF(P8=0,0,(P8*((LOG(P8))/LOG(2))))","v":-0.51927492540087561},null,null,{"$f":"N8","v":112},{"$f":"COUNTIF(L7:L29,T8)","v":4},null,null,null,{"$f":"N8","v":112},{"$f":"COUNTIF(L30:L51,Y8)","v":9},null,null,null,{"$f":"N8","v":112},{"$f":"COUNTIF(L52:L74,AD8)","v":5},null,null,null,{"$f":"N8","v":112},{"$f":"COUNTIF(L75:L97,AI8)","v":8},null,null,null,{"$f":"N8","v":112},{"$f":"COUNTIF(L98:L119,AN8)","v":8},null,null,null,{"$f":"N8","v":112},{"$f":"COUNTIF(L120:L142,AS8)","v":6}]
[11,388,22,401,23,406,null,null,null,null,0,122,null,121,{"$f":"COUNTIF($L$7:$L$500,N9)","v":2},{"$f":"O9/$Q$4","v":1.4705882352941176E-2},{"$f":"IF(P9=0,0,(P9*((LOG(P9))/LOG(2))))","v":-8.9521512371328521E-2},null,null,{"$f":"N9","v":121},{"$f":"COUNTIF(L7:L29,T9)","v":0},{"$f":"U9/(W4-U8)","v":0},{"$f":"IF(V9=0,0,(V9*((LOG(V9))/LOG(2))))","v":0},null,{"$f":"N9","v":121},{"$f":"COUNTIF(L30:L51,Y9)","v":1},{"$f":"Z9/(AB4-Z8)","v":7.6923076923076927E-2},{"$f":"IF(AA9=0,0,(AA9*((LOG(AA9))/LOG(2))))","v":-0.28464920908777636},null,{"$f":"N9","v":121},{"$f":"COUNTIF(L52:L74,AD9)","v":0},{"$f":"AE9/(AG4-AE8)","v":0},{"$f":"IF(AF9=0,0,(AF9*((LOG(AF9))/LOG(2))))","v":0},null,{"$f":"N9","v":121},{"$f":"COUNTIF(L75:L97,AI9)","v":1},{"$f":"AJ9/(AL4-AJ8)","v":6.6666666666666666E-2},{"$f":"IF(AK9=0,0,(AK9*((LOG(AK9))/LOG(2))))","v":-0.26045937304056793},null,{"$f":"N9","v":121},{"$f":"COUNTIF(L98:L119,AN9)","v":0},{"$f":"AO9/(AQ4-AO8)","v":0},{"$f":"IF(AP9=0,0,(AP9*((LOG(AP9))/LOG(2))))","v":0},null,{"$f":"N9","v":121},{"$f":"COUNTIF(L120:L142,AS9)","v":0},{"$f":"AT9/(AV4-AT8)","v":0},{"$f":"IF(AU9=0,0,(AU9*((LOG(AU9))/LOG(2))))","v":0}]
[11,504,22,513,23,518,null,null,null,null,0,122,null,122,{"$f":"COUNTIF($L$7:$L$500,N10)","v":28},{"$f":"O10/$Q$4","v":0.20588235294117646},{"$f":"IF(P10=0,0,(P10*((LOG(P10))/LOG(2))))","v":-0.46943398336321018},null,null,{"$f":"N10","v":122},{"$f":"COUNTIF(L7:L29,T10)","v":9},{"$f":"U10/(W4-U8)","v":0.47368421052631576},{"$f":"IF(V10=0,0,(V10*((LOG(V10))/LOG(2))))","v":-0.51063276884270825},null,{"$f":"N10","v":122},{"$f":"COUNTIF(L30:L51,Y10)","v":5},{"$f":"Z10/(AB4-Z8)","v":0.38461538461538464},{"$f":"IF(AA10=0,0,(AA10*((LOG(AA10))/LOG(2))))","v":-0.53019677817451139},null,{"$f":"N10","v":122},{"$f":"COUNTIF(L52:L74,AD10)","v":6},{"$f":"AE10/(AG4-AE8)","v":0.33333333333333331},{"$f":"IF(AF10=0,0,(AF10*((LOG(AF10))/LOG(2))))","v":-0.52832083357371862},null,{"$f":"N10","v":122},{"$f":"COUNTIF(L75:L97,AI10)","v":0},{"$f":"AJ10/(AL4-AJ8)","v":0},{"$f":"IF(AK10=0,0,(AK10*((LOG(AK10))/LOG(2))))","v":0},null,{"$f":"N10","v":122},{"$f":"COUNTIF(L98:L119,AN10)","v":4},{"$f":"AO10/(AQ4-AO8)","v":0.2857142857142857},{"$f":"IF(AP10=0,0,(AP10*((LOG(AP10))/LOG(2))))","v":-0.51638712058788683},null,{"$f":"N10","v":122},{"$f":"COUNTIF(L120:L142,AS10)","v":4},{"$f":"AT10/(AV4-AT8)","v":0.23529411764705882},{"$f":"IF(AU10=0,0,(AU10*((LOG(AU10))/LOG(2))))","v":-0.49116772735302094}]
[11,614,22,624,23,628,null,null,null,null,0,122,null,211,{"$f":"COUNTIF($L$7:$L$500,N11)","v":3},{"$f":"O11/$Q$4","v":2.2058823529411766E-2},{"$f":"IF(P11=0,0,(P11*((LOG(P11))/LOG(2))))","v":-0.1213786839822614},null,null,{"$f":"N11","v":211},{"$f":"COUNTIF(L7:L29,T11)","v":0},{"$f":"U11/(W4-U8)","v":0},{"$f":"IF(V11=0,0,(V11*((LOG(V11))/LOG(2))))","v":0},null,{"$f":"N11","v":211},{"$f":"COUNTIF(L30:L51,Y11)","v":0},{"$f":"Z11/(AB4-Z8)","v":0},{"$f":"IF(AA11=0,0,(AA11*((LOG(AA11))/LOG(2))))","v":0},null,{"$f":"N11","v":211},{"$f":"COUNTIF(L52:L74,AD11)","v":2},{"$f":"AE11/(AG4-AE8)","v":0.1111111111111111},{"$f":"IF(AF11=0,0,(AF11*((LOG(AF11))/LOG(2))))","v":-0.3522138890491458},null,{"$f":"N11","v":211},{"$f":"COUNTIF(L75:L97,AI11)","v":0},{"$f":"AJ11/(AL4-AJ8)","v":0},{"$f":"IF(AK11=0,0,(AK11*((LOG(AK11))/LOG(2))))","v":0},null,{"$f":"N11","v":211},{"$f":"COUNTIF(L98:L119,AN11)","v":0},{"$f":"AO11/(AQ4-AO8)","v":0},{"$f":"IF(AP11=0,0,(AP11*((LOG(AP11))/LOG(2))))","v":0},null,{"$f":"N11","v":211},{"$f":"COUNTIF(L120:L142,AS11)","v":1},{"$f":"AT11/(AV4-AT8)","v":5.8823529411764705E-2},{"$f":"IF(AU11=0,0,(AU11*((LOG(AU11))/LOG(2))))","v":-0.24043899066178465}]
[11,724,11,729,21,738,null,null,null,null,0,112,null,212,{"$f":"COUNTIF($L$7:$L$500,N12)","v":17},{"$f":"O12/$Q$4","v":0.125},{"$f":"IF(P12=0,0,(P12*((LOG(P12))/LOG(2))))","v":-0.375},null,null,{"$f":"N12","v":212},{"$f":"COUNTIF(L7:L29,T12)","v":1},{"$f":"U12/(W4-U8)","v":5.2631578947368418E-2},{"$f":"IF(V12=0,0,(V12*((LOG(V12))/LOG(2))))","v":-0.22357513228650452},null,{"$f":"N12","v":212},{"$f":"COUNTIF(L30:L51,Y12)","v":2},{"$f":"Z12/(AB4-Z8)","v":0.15384615384615385},{"$f":"IF(AA12=0,0,(AA12*((LOG(AA12))/LOG(2))))","v":-0.4154522643293988},null,{"$f":"N12","v":212},{"$f":"COUNTIF(L52:L74,AD12)","v":4},{"$f":"AE12/(AG4-AE8)","v":0.22222222222222221},{"$f":"IF(AF12=0,0,(AF12*((LOG(AF12))/LOG(2))))","v":-0.48220555587606945},null,{"$f":"N12","v":212},{"$f":"COUNTIF(L75:L97,AI12)","v":4},{"$f":"AJ12/(AL4-AJ8)","v":0.26666666666666666},{"$f":"IF(AK12=0,0,(AK12*((LOG(AK12))/LOG(2))))","v":-0.50850415882893829},null,{"$f":"N12","v":212},{"$f":"COUNTIF(L98:L119,AN12)","v":2},{"$f":"AO12/(AQ4-AO8)","v":0.14285714285714285},{"$f":"IF(AP12=0,0,(AP12*((LOG(AP12))/LOG(2))))","v":-0.40105070315108626},null,{"$f":"N12","v":212},{"$f":"COUNTIF(L120:L142,AS12)","v":4},{"$f":"AT12/(AV4-AT8)","v":0.23529411764705882},{"$f":"IF(AU12=0,0,(AU12*((LOG(AU12))/LOG(2))))","v":-0.49116772735302094}]
[22,882,24,902,23,906,null,null,null,null,0,222,null,221,{"$f":"COUNTIF($L$7:$L$500,N13)","v":3},{"$f":"O13/$Q$4","v":2.2058823529411766E-2},{"$f":"IF(P13=0,0,(P13*((LOG(P13))/LOG(2))))","v":-0.1213786839822614},null,null,{"$f":"N13","v":221},{"$f":"COUNTIF(L7:L29,T13)","v":0},{"$f":"U13/(W4-U8)","v":0},{"$f":"IF(V13=0,0,(V13*((LOG(V13))/LOG(2))))","v":0},null,{"$f":"N13","v":221},{"$f":"COUNTIF(L30:L51,Y13)","v":0},{"$f":"Z13/(AB4-Z8)","v":0},{"$f":"IF(AA13=0,0,(AA13*((LOG(AA13))/LOG(2))))","v":0},null,{"$f":"N13","v":221},{"$f":"COUNTIF(L52:L74,AD13)","v":0},{"$f":"AE13/(AG4-AE8)","v":0},{"$f":"IF(AF13=0,0,(AF13*((LOG(AF13))/LOG(2))))","v":0},null,{"$f":"N13","v":221},{"$f":"COUNTIF(L75:L97,AI13)","v":2},{"$f":"AJ13/(AL4-AJ8)","v":0.13333333333333333},{"$f":"IF(AK13=0,0,(AK13*((LOG(AK13))/LOG(2))))","v":-0.3875854127478025},null,{"$f":"N13","v":221},{"$f":"COUNTIF(L98:L119,AN13)","v":1},{"$f":"AO13/(AQ4-AO8)","v":7.1428571428571425E-2},{"$f":"IF(AP13=0,0,(AP13*((LOG(AP13))/LOG(2))))","v":-0.27195392300411453},null,{"$f":"N13","v":221},{"$f":"COUNTIF(L120:L142,AS13)","v":0},{"$f":"AT13/(AV4-AT8)","v":0},{"$f":"IF(AU13=0,0,(AU13*((LOG(AU13))/LOG(2))))","v":0}]
[11,1010,11,1015,21,1028,null,null,null,null,0,112,null,222,{"$f":"COUNTIF($L$7:$L$500,N14)","v":21},{"$f":"O14/$Q$4","v":0.15441176470588236},{"$f":"IF(P14=0,0,(P14*((LOG(P14))/LOG(2))))","v":-0.41616216020517027},null,null,{"$f":"N14","v":222},{"$f":"COUNTIF(L7:L29,T14)","v":6},{"$f":"U14/(W4-U8)","v":0.31578947368421051},{"$f":"IF(V14=0,0,(V14*((LOG(V14))/LOG(2))))","v":-0.52514684612287243},null,{"$f":"N14","v":222},{"$f":"COUNTIF(L30:L51,Y14)","v":3},{"$f":"Z14/(AB4-Z8)","v":0.23076923076923078},{"$f":"IF(AA14=0,0,(AA14*((LOG(AA14))/LOG(2))))","v":-0.48818705017383146},null,{"$f":"N14","v":222},{"$f":"COUNTIF(L52:L74,AD14)","v":2},{"$f":"AE14/(AG4-AE8)","v":0.1111111111111111},{"$f":"IF(AF14=0,0,(AF14*((LOG(AF14))/LOG(2))))","v":-0.3522138890491458},null,{"$f":"N14","v":222},{"$f":"COUNTIF(L75:L97,AI14)","v":4},{"$f":"AJ14/(AL4-AJ8)","v":0.26666666666666666},{"$f":"IF(AK14=0,0,(AK14*((LOG(AK14))/LOG(2))))","v":-0.50850415882893829},null,{"$f":"N14","v":222},{"$f":"COUNTIF(L98:L119,AN14)","v":4},{"$f":"AO14/(AQ4-AO8)","v":0.2857142857142857},{"$f":"IF(AP14=0,0,(AP14*((LOG(AP14))/LOG(2))))","v":-0.51638712058788683},null,{"$f":"N14","v":222},{"$f":"COUNTIF(L120:L142,AS14)","v":2},{"$f":"AT14/(AV4-AT8)","v":0.11764705882352941},{"$f":"IF(AU14=0,0,(AU14*((LOG(AU14))/LOG(2))))","v":-0.36323092250003997}]
[22,1409,24,1412,23,1416,null,null,null,null,0,222,null,null,null,{"$f":"SUM(P7:P14)","v":1},{"$f":"-SUM(Q7:Q14)","v":2.5372726470807465},null,null,null,null,{"$f":"SUM(V7:V14)","v":0.99999999999999989},{"$f":"-SUM(W7:W14)","v":1.6798229071556268},null,null,null,{"$f":"SUM(AA7:AA14)","v":1},{"$f":"-SUM(AB7:AB14)","v":2.1339375660949167},null,null,null,{"$f":"SUM(AF7:AF14)","v":1},{"$f":"-SUM(AG7:AG14)","v":2.1971597234241491},null,null,null,{"$f":"SUM(AK7:AK14)","v":1},{"$f":"-SUM(AL7:AL14)","v":2.1735572622751853},null,null,null,{"$f":"SUM(AP7:AP14)","v":0.99999999999999989},{"$f":"-SUM(AQ7:AQ14)","v":2.1820058147602133},null,null,null,{"$f":"SUM(AU7:AU14)","v":1},{"$f":"-SUM(AV7:AV14)","v":2.1162996057016961}]
[11,1509,22,1518,23,1528,null,null,null,null,0,122,null,null,null,"U=",{"$f":"Q15/(LOG(Q4)/LOG(2))","v":0.35799449025867935},null,null,null,null,"U1=",{"$f":"W15/(LOG(W4)/LOG(2))","v":0.37134959650687605},null,null,null,"U2=",{"$f":"AB15/(LOG(AB4)/LOG(2))","v":0.47852232046266924},null,null,null,"U3=",{"$f":"AG15/(LOG(AG4)/LOG(2))","v":0.48571451983368324},null,null,null,"U4=",{"$f":"AL15/(LOG(AL4)/LOG(2))","v":0.48049684814525634},null,null,null,"U5=",{"$f":"AQ15/(LOG(AQ4)/LOG(2))","v":0.48930132836681672},null,null,null,"U6=",{"$f":"AV15/(LOG(AV4)/LOG(2))","v":0.46783919978546729}]
[11,1622,11,1631,21,1641,null,null,null,null,0,112]
[22,1749,24,1766,23,1771,null,null,null,null,0,222]
[11,1863,11,1870,12,1872,null,null,null,null,0,111,null,"Total Target Seq"]
[11,1971,11,1978,12,1982,null,null,null,null,0,111,null,{"$f":"COUNTIF(L7:L142,G3)","v":40},null,23,22,23,23,22,23]
[22,2079,13,2090,23,2105,null,null,null,null,0,212,null,null,null,"% of reinforcement given in 6 equal intervals based on number of trials "]
[11,2210,22,2222,23,2228,null,null,null,null,0,122,null,null,null,"%_1","%_2","%_3","%_4","%_5","%_6"]
[22,2367,24,2372,23,2379,null,null,null,null,0,222,null,null,"target sequence",{"$f":"$G$3","v":112},{"$f":"$G$3","v":112},{"$f":"$G$3","v":112},{"$f":"$G$3","v":112},{"$f":"$G$3","v":112},{"$f":"$G$3","v":112}]
[11,2474,22,2486,23,2492,null,null,null,null,0,122,null,null,"total reinforcement",{"$f":"U8","v":4},{"$f":"Z8","v":9},{"$f":"AE8","v":5},{"$f":"AJ8","v":8},{"$f":"AO8","v":8},{"$f":"AT8","v":6}]
[11,2587,11,2593,21,2604,null,null,null,null,0,112,null,null,"% target"]
[11,2831,22,2841,23,2846,null,null,null,null,0,122,null,null,"CCRF"]
[11,2939,11,2943,12,2947,null,null,null,null,0,111,null,null,"% CCRf"]
[22,3045,24,3050,23,3056,null,null,null,null,0,222,null,null,"average response rate",{"$f":"F29/P20","v":137.65217391304347},{"$f":"(F51-F29)/Q20","v":134.72727272727272},{"$f":"(F74-F51)/R20","v":126.56521739130434},{"$f":"(F97-F74)/S20","v":138.78260869565219},{"$f":"(F119-F97)/T20","v":134.36363636363637},{"$f":"(F142-F119)/U20","v":133.86956521739131}]
[11,3151,22,3162,23,3166,null,null,null,null,0,122]
[11,3263,11,3274,21,3285,null,null,null,null,0,112]
[22,3451,24,3458,23,3481,null,null,null,null,0,222]
[11,3576,11,3585,21,3605,null,null,null,null,0,112]
[11,3756,22,3766,14,3785,null,null,null,null,0,121]
[11,3879,11,3883,21,3899,null,null,null,null,0,112]
[11,4052,22,4060,23,4065,null,null,null,null,0,122]
[11,4159,11,4162,12,4168,null,null,null,null,0,111]
[11,4260,11,4266,21,4284,null,null,null,null,0,112]
[11,4452,11,4453,21,4462,null,null,null,null,0,112]
[22,4608,24,4631,23,4636,null,null,null,null,0,222]
[11,4737,22,4746,23,4754,null,null,null,null,0,122]
[11,4849,11,4851,21,4871,null,null,null,null,0,112]
[22,4999,13,5011,23,5022,null,null,null,null,0,212]
[11,5114,11,5119,12,5124,null,null,null,null,0,111]
[11,5219,22,5229,23,5234,null,null,null,null,0,122]
[11,5328,11,5332,21,5344,null,null,null,null,0,112]
[11,5489,22,5502,23,5509,null,null,null,null,0,122]
[11,5604,11,5618,21,5629,null,null,null,null,0,112]
[22,5728,13,5742,23,5753,null,null,null,null,0,212]
[22,5889,24,5896,23,5902,null,null,null,null,0,222]
[11,6005,22,6013,23,6018,null,null,null,null,0,122]
[11,6113,11,6119,21,6130,null,null,null,null,0,112]
[22,6225,13,6232,14,6236,null,null,null,null,0,211]
[11,6330,11,6335,21,6346,null,null,null,null,0,112]
[11,6462,22,6473,23,6481,null,null,null,null,0,122]
[11,6575,22,6617,23,6632,null,null,null,null,0,122]
[11,6726,11,6729,21,6739,null,null,null,null,0,112]
[11,6937,11,6940,21,6949,null,null,null,null,0,112]
[11,7098,22,7106,23,7112,null,null,null,null,0,122]
[11,7209,22,7238,23,7248,null,null,null,null,0,122]
[11,7343,22,7356,23,7363,null,null,null,null,0,122]
[11,7455,11,7459,12,7465,null,null,null,null,0,111]
[22,7563,24,7567,23,7572,null,null,null,null,0,222]
[22,7671,13,7681,23,7701,null,null,null,null,0,212]
[11,7796,11,7801,21,7816,null,null,null,null,0,112]
[22,7916,13,7927,14,7932,null,null,null,null,0,211]
[11,8027,11,8038,21,8069,null,null,null,null,0,112]
[22,8209,24,8229,23,8235,null,null,null,null,0,222]
[11,8337,11,8342,12,8346,null,null,null,null,0,111]
[11,8442,22,8459,23,8466,null,null,null,null,0,122]
[11,8559,11,8561,12,8564,null,null,null,null,0,111]
[22,8659,13,8670,23,8681,null,null,null,null,0,212]
[11,8776,11,8781,12,8787,null,null,null,null,0,111]
[22,8884,13,8893,23,8908,null,null,null,null,0,212]
[22,9006,13,9018,23,9041,null,null,null,null,0,212]
[11,9138,11,9143,21,9153,null,null,null,null,0,112]
[11,9313,11,9317,21,9327,null,null,null,null,0,112]
[22,9498,24,9505,23,9512,null,null,null,null,0,222]
[11,9608,11,9613,21,9631,null,null,null,null,0,112]
[22,9751,24,9757,23,9773,null,null,null,null,0,222]
[11,9867,11,9870,21,9905,null,null,null,null,0,112]
[22,10033,24,10056,23,10062,null,null,null,null,0,222]
[11,10155,11,10158,12,10168,null,null,null,null,0,111]
[11,10262,11,10265,12,10269,null,null,null,null,0,111]
[22,10364,13,10377,23,10390,null,null,null,null,0,212]
[11,10482,11,10487,12,10491,null,null,null,null,0,111]
[11,10592,11,10597,21,10610,null,null,null,null,0,112]
[11,10827,11,10829,21,10839,null,null,null,null,0,112]
[22,10949,24,10956,14,10965,null,null,null,null,0,221]
[22,11061,24,11067,14,11080,null,null,null,null,0,221]
[11,11173,11,11177,21,11203,null,null,null,null,0,112]
[22,11316,13,11329,23,11341,null,null,null,null,0,212]
[11,11435,11,11437,21,11451,null,null,null,null,0,112]
[22,11588,13,11600,23,11616,null,null,null,null,0,212]
[22,11734,24,11744,23,11753,null,null,null,null,0,222]
[22,11850,13,11859,23,11869,null,null,null,null,0,212]
[11,12101,22,12114,14,12128,null,null,null,null,0,121]
[11,12223,11,12228,12,12233,null,null,null,null,0,111]
[11,12327,11,12331,21,12350,null,null,null,null,0,112]
[22,12503,13,12511,23,12551,null,null,null,null,0,212]
[11,12645,11,12651,21,12675,null,null,null,null,0,112]
[22,12776,24,12798,23,12804,null,null,null,null,0,222]
[11,12897,11,12902,12,12907,null,null,null,null,0,111]
[22,13019,24,13025,23,13032,null,null,null,null,0,222]
[11,13139,11,13144,21,13154,null,null,null,null,0,112]
[22,13283,24,13291,23,13327,null,null,null,null,0,222]
[11,13419,11,13424,21,13479,null,null,null,null,0,112]
[22,13681,24,13686,14,13696,null,null,null,null,0,221]
[11,13790,11,13797,21,13815,null,null,null,null,0,112]
[11,13933,22,13944,23,13951,null,null,null,null,0,122]
[11,14047,11,14052,21,14075,null,null,null,null,0,112]
[22,14216,24,14231,23,14236,null,null,null,null,0,222]
[11,14335,22,14388,23,14400,null,null,null,null,0,122]
[11,14493,11,14495,12,14499,null,null,null,null,0,111]
[11,14593,22,14603,23,14609,null,null,null,null,0,122]
[11,14704,11,14709,12,14716,null,null,null,null,0,111]
[11,14811,22,14821,23,14828,null,null,null,null,0,122]
[11,14936,11,14942,21,14969,null,null,null,null,0,112]
[22,15062,13,15070,23,15079,null,null,null,null,0,212]
[11,15173,11,15179,21,15189,null,null,null,null,0,112]
[22,15281,13,15294,14,15301,null,null,null,null,0,211]
[22,15401,13,15412,23,15483,null,null,null,null,0,212]
[11,15594,11,15599,12,15604,null,null,null,null,0,111]
[11,15698,22,15709,23,15713,null,null,null,null,0,122]
[11,15808,11,15814,12,15822,null,null,null,null,0,111]
[11,15949,11,15972,21,15985,null,null,null,null,0,112]
[11,16162,22,16171,23,16177,null,null,null,null,0,122]
[11,16271,11,16275,12,16281,null,null,null,null,0,111]
[11,16373,11,16378,12,16384,null,null,null,null,0,111]
[22,16487,13,16495,23,16526,null,null,null,null,0,212]
[11,16621,11,16627,12,16633,null,null,null,null,0,111]
[22,16731,13,16742,23,16751,null,null,null,null,0,212]
[11,16846,11,16850,12,16854,null,null,null,null,0,111]
[11,16963,22,16979,23,16987,null,null,null,null,0,122]
[11,17083,11,17090,21,17110,null,null,null,null,0,112]
[22,17205,13,17214,23,17227,null,null,null,null,0,212]
[11,17320,11,17325,21,17339,null,null,null,null,0,112]
[22,17461,24,17485,23,17494,null,null,null,null,0,222]
[11,17590,11,17596,21,17614,null,null,null,null,0,112]
[11,17757,22,17770,23,17777,null,null,null,null,0,122]
[11,17870,11,17877,21,17898,null,null,null,null,0,112]
[22,18116,24,18121,23,18133,null,null,null,null,0,222]
[11,18230,11,18237,21,18268,null,null,null,null,1,112]

{"sheet":"!MB15A0I.sha","index":10,"n_rows":171,"n_cols":48,"rows_kept":171,"cut":false,"hidden":false,"merged":[[4,39,4,42],[5,39,5,40],[4,44,4,47],[5,44,5,45],[4,24,4,27],[5,24,5,25],[4,29,4,32],[5,29,5,30],[4,34,4,37],[5,34,5,35],[1,1,1,2],[5,13,5,14],[18,13,18,14],[19,13,19,14],[4,19,4,22],[5,19,5,20]]}
["Report for:!MB15A0I.sha"]
["Date:","<date>"]
["Hen:","<hen>",null,null,null,"Correct Sequence",{"$f":"Start!J2","v":112},null,null,null,null,null,null,null,null,"Total Sequences in Data",{"$f":"4994-COUNTBLANK(L7:L5000)","v":165},null,null,null,null,"Total Sequences in Block Data",{"$f":"COUNTA(L7:L34)","v":28},null,null,null,"Total Sequences in Block Data",{"$f":"COUNTA(L35:L61)","v":27},null,null,null,"Total Sequences in Block Data",{"$f":"COUNTA(L62:L89)","v":28},null,null,null,"Total Sequences in Block Data",{"$f":"COUNTA(L90:L116)","v":27},null,null,null,"Total Sequences in Block Data",{"$f":"COUNTA(L117:L144)","v":28},null,null,null,"Total Sequences in Block Data",{"$f":"COUNTA(L145:L171)","v":27}]
[null,null,null,null,null,null,null,null,null,null,null,null,null,null,null,"Total Sequences in Summary",{"$f":"SUM(O7:O14)","v":165},null,null,null,null,"Total Sequences in Block Summary",{"$f":"SUM(U7:U14)","v":28},null,null,null,"Total Sequences in Block Summary",{"$f":"SUM(Z7:Z14)","v":27},null,null,null,"Total Sequences in Block Summary",{"$f":"SUM(AE7:AE14)","v":28},null,null,null,"Total Sequences in Block Summary",{"$f":"SUM(AJ7:AJ14)","v":27},null,null,null,"Total Sequences in Block Summary",{"$f":"SUM(AO7:AO14)","v":28},null,null,null,"Total Sequences in Block Summary",{"$f":"SUM(AT7:AT14)","v":27}]
[null,null,null,null,null,null,null,null,null,null,null,null,null,null,null,null,null,null,null,"Block 1",null,null,null,null,"Block 2",null,null,null,null,"Block 3",null,null,null,null,"Block 4",null,null,null,null,"Block 5",null,null,null,null,"Block 6"]
["Sequence\nComponent\n1","Time\n1","Sequence\nComponent\n2","Time\n2","Sequence\nComponent\n3","Time\n3","Sequence\nComponent\n4","Time\n4","Sequence\nComponent\n5","Time\n5","Correct?\n0=No 1=Yes","Sequence",null,"Frequency",null,"Relative Frequency","Variability",null,null,"Frequency",null,"Relative Frequency","Variability",null,"Frequency",null,"Relative Frequency","Variability",null,"Frequency",null,"Relative Frequency","Variability",null,"Frequency",null,"Relative Frequency","Variability",null,"Frequency",null,"Relative Frequency","Variability",null,"Frequency",null,"Relative Frequency","Variability"]
[22,20,13,33,23,44,null,null,null,null,0,212,null,111,{"$f":"COUNTIF($L$7:$L$500,N7)","v":26},{"$f":"O7/$Q$4","v":0.15757575757575756},{"$f":"IF(P7=0,0,(P7*((LOG(P7))/LOG(2))))","v":-0.42007845393165344},null,null,{"$f":"N7","v":111},{"$f":"COUNTIF(L7:L34,T7)","v":5},{"$f":"U7/(W4-U8)","v":0.19230769230769232},{"$f":"IF(V7=0,0,(V7*((LOG(V7))/LOG(2))))","v":-0.45740608139494804},null,{"$f":"N7","v":111},{"$f":"COUNTIF(L35:L61,Y7)","v":3},{"$f":"Z7/(AB4-Z8)","v":0.15789473684210525},{"$f":"IF(AA7=0,0,(AA7*((LOG(AA7))/LOG(2))))","v":-0.42046815990354147},null,{"$f":"N7","v":111},{"$f":"COUNTIF(L62:L89,AD7)","v":3},{"$f":"AE7/(AG4-AE8)","v":0.13636363636363635},{"$f":"IF(AF7=0,0,(AF7*((LOG(AF7))/LOG(2))))","v":-0.39197306153401923},null,{"$f":"N7","v":111},{"$f":"COUNTIF(L90:L116,AI7)","v":4},{"$f":"AJ7/(AL4-AJ8)","v":0.22222222222222221},{"$f":"IF(AK7=0,0,(AK7*((LOG(AK7))/LOG(2))))","v":-0.48220555587606945},null,{"$f":"N7","v":111},{"$f":"COUNTIF(L117:L144,AN7)","v":8},{"$f":"AO7/(AQ4-AO8)","v":0.36363636363636365},{"$f":"IF(AP7=0,0,(AP7*((LOG(AP7))/LOG(2))))","v":-0.53070240677719893},null,{"$f":"N7","v":111},{"$f":"COUNTIF(L145:L171,AS7)","v":3},{"$f":"AT7/(AV4-AT8)","v":0.16666666666666666},{"$f":"IF(AU7=0,0,(AU7*((LOG(AU7))/LOG(2))))","v":-0.43082708345352599}]
[11,138,22,148,23,153,null,null,null,null,0,122,null,112,{"$f":"COUNTIF($L$7:$L$500,N8)","v":40},{"$f":"O8/$Q$4","v":0.24242424242424243},{"$f":"IF(P8=0,0,(P8*((LOG(P8))/LOG(2))))","v":-0.49561069560204934},null,null,{"$f":"N8","v":112},{"$f":"COUNTIF(L7:L34,T8)","v":2},null,null,null,{"$f":"N8","v":112},{"$f":"COUNTIF(L35:L61,Y8)","v":8},null,null,null,{"$f":"N8","v":112},{"$f":"COUNTIF(L62:L89,AD8)","v":6},null,null,null,{"$f":"N8","v":112},{"$f":"COUNTIF(L90:L116,AI8)","v":9},null,null,null,{"$f":"N8","v":112},{"$f":"COUNTIF(L117:L144,AN8)","v":6},null,null,null,{"$f":"N8","v":112},{"$f":"COUNTIF(L145:L171,AS8)","v":9}]
[22,252,24,273,23,280,null,null,null,null,0,222,null,121,{"$f":"COUNTIF($L$7:$L$500,N9)","v":1},{"$f":"O9/$Q$4","v":6.0606060606060606E-3},{"$f":"IF(P9=0,0,(P9*((LOG(P9))/LOG(2))))","v":-4.4644377056035252E-2},null,null,{"$f":"N9","v":121},{"$f":"COUNTIF(L7:L34,T9)","v":0},{"$f":"U9/(W4-U8)","v":0},{"$f":"IF(V9=0,0,(V9*((LOG(V9))/LOG(2))))","v":0},null,{"$f":"N9","v":121},{"$f":"COUNTIF(L35:L61,Y9)","v":0},{"$f":"Z9/(AB4-Z8)","v":0},{"$f":"IF(AA9=0,0,(AA9*((LOG(AA9))/LOG(2))))","v":0},null,{"$f":"N9","v":121},{"$f":"COUNTIF(L62:L89,AD9)","v":1},{"$f":"AE9/(AG4-AE8)","v":4.5454545454545456E-2},{"$f":"IF(AF9=0,0,(AF9*((LOG(AF9))/LOG(2))))","v":-0.20270143721078623},null,{"$f":"N9","v":121},{"$f":"COUNTIF(L90:L116,AI9)","v":0},{"$f":"AJ9/(AL4-AJ8)","v":0},{"$f":"IF(AK9=0,0,(AK9*((LOG(AK9))/LOG(2))))","v":0},null,{"$f":"N9","v":121},{"$f":"COUNTIF(L117:L144,AN9)","v":0},{"$f":"AO9/(AQ4-AO8)","v":0},{"$f":"IF(AP9=0,0,(AP9*((LOG(AP9))/LOG(2))))","v":0},null,{"$f":"N9","v":121},{"$f":"COUNTIF(L145:L171,AS9)","v":0},{"$f":"AT9/(AV4-AT8)","v":0},{"$f":"IF(AU9=0,0,(AU9*((LOG(AU9))/LOG(2))))","v":0}]
[11,387,22,396,23,402,null,null,null,null,0,122,null,122,{"$f":"COUNTIF($L$7:$L$500,N10)","v":66},{"$f":"O10/$Q$4","v":0.4},{"$f":"IF(P10=0,0,(P10*((LOG(P10))/LOG(2))))","v":-0.52877123795494496},null,null,{"$f":"N10","v":122},{"$f":"COUNTIF(L7:L34,T10)","v":15},{"$f":"U10/(W4-U8)","v":0.57692307692307687},{"$f":"IF(V10=0,0,(V10*((LOG(V10))/LOG(2))))","v":-0.45781680146110021},null,{"$f":"N10","v":122},{"$f":"COUNTIF(L35:L61,Y10)","v":9},{"$f":"Z10/(AB4-Z8)","v":0.47368421052631576},{"$f":"IF(AA10=0,0,(AA10*((LOG(AA10))/LOG(2))))","v":-0.51063276884270825},null,{"$f":"N10","v":122},{"$f":"COUNTIF(L62:L89,AD10)","v":15},{"$f":"AE10/(AG4-AE8)","v":0.68181818181818177},{"$f":"IF(AF10=0,0,(AF10*((LOG(AF10))/LOG(2))))","v":-0.37673251570144006},null,{"$f":"N10","v":122},{"$f":"COUNTIF(L90:L116,AI10)","v":8},{"$f":"AJ10/(AL4-AJ8)","v":0.44444444444444442},{"$f":"IF(AK10=0,0,(AK10*((LOG(AK10))/LOG(2))))","v":-0.51996666730769447},null,{"$f":"N10","v":122},{"$f":"COUNTIF(L117:L144,AN10)","v":12},{"$f":"AO10/(AQ4-AO8)","v":0.54545454545454541},{"$f":"IF(AP10=0,0,(AP10*((LOG(AP10))/LOG(2))))","v":-0.47698315522698609},null,{"$f":"N10","v":122},{"$f":"COUNTIF(L145:L171,AS10)","v":7},{"$f":"AT10/(AV4-AT8)","v":0.3888888888888889},{"$f":"IF(AU10=0,0,(AU10*((LOG(AU10))/LOG(2))))","v":-0.52988836420516428}]
[11,497,22,510,23,515,null,null,null,null,0,122,null,211,{"$f":"COUNTIF($L$7:$L$500,N11)","v":1},{"$f":"O11/$Q$4","v":6.0606060606060606E-3},{"$f":"IF(P11=0,0,(P11*((LOG(P11))/LOG(2))))","v":-4.4644377056035252E-2},null,null,{"$f":"N11","v":211},{"$f":"COUNTIF(L7:L34,T11)","v":0},{"$f":"U11/(W4-U8)","v":0},{"$f":"IF(V11=0,0,(V11*((LOG(V11))/LOG(2))))","v":0},null,{"$f":"N11","v":211},{"$f":"COUNTIF(L35:L61,Y11)","v":0},{"$f":"Z11/(AB4-Z8)","v":0},{"$f":"IF(AA11=0,0,(AA11*((LOG(AA11))/LOG(2))))","v":0},null,{"$f":"N11","v":211},{"$f":"COUNTIF(L62:L89,AD11)","v":0},{"$f":"AE11/(AG4-AE8)","v":0},{"$f":"IF(AF11=0,0,(AF11*((LOG(AF11))/LOG(2))))","v":0},null,{"$f":"N11","v":211},{"$f":"COUNTIF(L90:L116,AI11)","v":0},{"$f":"AJ11/(AL4-AJ8)","v":0},{"$f":"IF(AK11=0,0,(AK11*((LOG(AK11))/LOG(2))))","v":0},null,{"$f":"N11","v":211},{"$f":"COUNTIF(L117:L144,AN11)","v":0},{"$f":"AO11/(AQ4-AO8)","v":0},{"$f":"IF(AP11=0,0,(AP11*((LOG(AP11))/LOG(2))))","v":0},null,{"$f":"N11","v":211},{"$f":"COUNTIF(L145:L171,AS11)","v":1},{"$f":"AT11/(AV4-AT8)","v":5.5555555555555552E-2},{"$f":"IF(AU11=0,0,(AU11*((LOG(AU11))/LOG(2))))","v":-0.23166250008012845}]
[11,616,22,627,23,633,null,null,null,null,0,122,null,212,{"$f":"COUNTIF($L$7:$L$500,N12)","v":11},{"$f":"O12/$Q$4","v":6.6666666666666666E-2},{"$f":"IF(P12=0,0,(P12*((LOG(P12))/LOG(2))))","v":-0.26045937304056793},null,null,{"$f":"N12","v":212},{"$f":"COUNTIF(L7:L34,T12)","v":3},{"$f":"U12/(W4-U8)","v":0.11538461538461539},{"$f":"IF(V12=0,0,(V12*((LOG(V12))/LOG(2))))","v":-0.35947814047153104},null,{"$f":"N12","v":212},{"$f":"COUNTIF(L35:L61,Y12)","v":3},{"$f":"Z12/(AB4-Z8)","v":0.15789473684210525},{"$f":"IF(AA12=0,0,(AA12*((LOG(AA12))/LOG(2))))","v":-0.42046815990354147},null,{"$f":"N12","v":212},{"$f":"COUNTIF(L62:L89,AD12)","v":0},{"$f":"AE12/(AG4-AE8)","v":0},{"$f":"IF(AF12=0,0,(AF12*((LOG(AF12))/LOG(2))))","v":0},null,{"$f":"N12","v":212},{"$f":"COUNTIF(L90:L116,AI12)","v":1},{"$f":"AJ12/(AL4-AJ8)","v":5.5555555555555552E-2},{"$f":"IF(AK12=0,0,(AK12*((LOG(AK12))/LOG(2))))","v":-0.23166250008012845},null,{"$f":"N12","v":212},{"$f":"COUNTIF(L117:L144,AN12)","v":2},{"$f":"AO12/(AQ4-AO8)","v":9.0909090909090912E-2},{"$f":"IF(AP12=0,0,(AP12*((LOG(AP12))/LOG(2))))","v":-0.31449378351248153},null,{"$f":"N12","v":212},{"$f":"COUNTIF(L145:L171,AS12)","v":2},{"$f":"AT12/(AV4-AT8)","v":0.1111111111111111},{"$f":"IF(AU12=0,0,(AU12*((LOG(AU12))/LOG(2))))","v":-0.3522138890491458}]
[11,724,11,727,12,732,null,null,null,null,0,111,null,221,{"$f":"COUNTIF($L$7:$L$500,N13)","v":2},{"$f":"O13/$Q$4","v":1.2121212121212121E-2},{"$f":"IF(P13=0,0,(P13*((LOG(P13))/LOG(2))))","v":-7.716754199085836E-2},null,null,{"$f":"N13","v":221},{"$f":"COUNTIF(L7:L34,T13)","v":0},{"$f":"U13/(W4-U8)","v":0},{"$f":"IF(V13=0,0,(V13*((LOG(V13))/LOG(2))))","v":0},null,{"$f":"N13","v":221},{"$f":"COUNTIF(L35:L61,Y13)","v":0},{"$f":"Z13/(AB4-Z8)","v":0},{"$f":"IF(AA13=0,0,(AA13*((LOG(AA13))/LOG(2))))","v":0},null,{"$f":"N13","v":221},{"$f":"COUNTIF(L62:L89,AD13)","v":1},{"$f":"AE13/(AG4-AE8)","v":4.5454545454545456E-2},{"$f":"IF(AF13=0,0,(AF13*((LOG(AF13))/LOG(2))))","v":-0.20270143721078623},null,{"$f":"N13","v":221},{"$f":"COUNTIF(L90:L116,AI13)","v":0},{"$f":"AJ13/(AL4-AJ8)","v":0},{"$f":"IF(AK13=0,0,(AK13*((LOG(AK13))/LOG(2))))","v":0},null,{"$f":"N13","v":221},{"$f":"COUNTIF(L117:L144,AN13)","v":0},{"$f":"AO13/(AQ4-AO8)","v":0},{"$f":"IF(AP13=0,0,(AP13*((LOG(AP13))/LOG(2))))","v":0},null,{"$f":"N13","v":221},{"$f":"COUNTIF(L145:L171,AS13)","v":1},{"$f":"AT13/(AV4-AT8)","v":5.5555555555555552E-2},{"$f":"IF(AU13=0,0,(AU13*((LOG(AU13))/LOG(2))))","v":-0.23166250008012845}]
[22,829,13,838,23,848,null,null,null,null,0,212,null,222,{"$f":"COUNTIF($L$7:$L$500,N14)","v":18},{"$f":"O14/$Q$4","v":0.10909090909090909},{"$f":"IF(P14=0,0,(P14*((LOG(P14))/LOG(2))))","v":-0.34869787776038219},null,null,{"$f":"N14","v":222},{"$f":"COUNTIF(L7:L34,T14)","v":3},{"$f":"U14/(W4-U8)","v":0.11538461538461539},{"$f":"IF(V14=0,0,(V14*((LOG(V14))/LOG(2))))","v":-0.35947814047153104},null,{"$f":"N14","v":222},{"$f":"COUNTIF(L35:L61,Y14)","v":4},{"$f":"Z14/(AB4-Z8)","v":0.21052631578947367},{"$f":"IF(AA14=0,0,(AA14*((LOG(AA14))/LOG(2))))","v":-0.47324789756707064},null,{"$f":"N14","v":222},{"$f":"COUNTIF(L62:L89,AD14)","v":2},{"$f":"AE14/(AG4-AE8)","v":9.0909090909090912E-2},{"$f":"IF(AF14=0,0,(AF14*((LOG(AF14))/LOG(2))))","v":-0.31449378351248153},null,{"$f":"N14","v":222},{"$f":"COUNTIF(L90:L116,AI14)","v":5},{"$f":"AJ14/(AL4-AJ8)","v":0.27777777777777779},{"$f":"IF(AK14=0,0,(AK14*((LOG(AK14))/LOG(2))))","v":-0.51333247404304172},null,{"$f":"N14","v":222},{"$f":"COUNTIF(L117:L144,AN14)","v":0},{"$f":"AO14/(AQ4-AO8)","v":0},{"$f":"IF(AP14=0,0,(AP14*((LOG(AP14))/LOG(2))))","v":0},null,{"$f":"N14","v":222},{"$f":"COUNTIF(L145:L171,AS14)","v":4},{"$f":"AT14/(AV4-AT8)","v":0.22222222222222221},{"$f":"IF(AU14=0,0,(AU14*((LOG(AU14))/LOG(2))))","v":-0.48220555587606945}]
[11,945,22,955,23,961,null,null,null,null,0,122,null,null,null,{"$f":"SUM(P7:P14)","v":1},{"$f":"-SUM(Q7:Q14)","v":2.2200739343925266},null,null,null,null,{"$f":"SUM(V7:V14)","v":1},{"$f":"-SUM(W7:W14)","v":1.6341791637991103},null,null,null,{"$f":"SUM(AA7:AA14)","v":1},{"$f":"-SUM(AB7:AB14)","v":1.8248169862168617},null,null,null,{"$f":"SUM(AF7:AF14)","v":0.99999999999999989},{"$f":"-SUM(AG7:AG14)","v":1.4886022351695132},null,null,null,{"$f":"SUM(AK7:AK14)","v":1},{"$f":"-SUM(AL7:AL14)","v":1.747167197306934},null,null,null,{"$f":"SUM(AP7:AP14)","v":1},{"$f":"-SUM(AQ7:AQ14)","v":1.3221793455166664},null,null,null,{"$f":"SUM(AU7:AU14)","v":1},{"$f":"-SUM(AV7:AV14)","v":2.2584598927441624}]
[11,1056,22,1066,23,1070,null,null,null,null,0,122,null,null,null,"U=",{"$f":"Q15/(LOG(Q4)/LOG(2))","v":0.30138159448131385},null,null,null,null,"U1=",{"$f":"W15/(LOG(W4)/LOG(2))","v":0.3399331212890066},null,null,null,"U2=",{"$f":"AB15/(LOG(AB4)/LOG(2))","v":0.38377711047560475},null,null,null,"U3=",{"$f":"AG15/(LOG(AG4)/LOG(2))","v":0.30965099504913901},null,null,null,"U4=",{"$f":"AL15/(LOG(AL4)/LOG(2))","v":0.36744658974833266},null,null,null,"U5=",{"$f":"AQ15/(LOG(AQ4)/LOG(2))","v":0.27503260461383999},null,null,null,"U6=",{"$f":"AV15/(LOG(AV4)/LOG(2))","v":0.4749765145266982}]
[11,1163,22,1174,23,1178,null,null,null,null,0,122]
[11,1273,11,1281,21,1295,null,null,null,null,0,112]
[22,1446,13,1458,23,1468,null,null,null,null,0,212,null,"Total Target Seq"]
[11,1565,22,1591,23,1610,null,null,null,null,0,122,null,{"$f":"COUNTIF(L7:L171,G3)","v":40},null,28,27,28,27,28,27]
[11,1714,22,1723,23,1726,null,null,null,null,0,122,null,null,null,"% of reinforcement given in 6 equal intervals based on number of trials "]
[11,1821,11,1826,12,1832,null,null,null,null,0,111,null,null,null,"%_1","%_2","%_3","%_4","%_5","%_6"]
[11,1926,22,1936,23,1941,null,null,null,null,0,122,null,null,"target sequence",{"$f":"$G$3","v":112},{"$f":"$G$3","v":112},{"$f":"$G$3","v":112},{"$f":"$G$3","v":112},{"$f":"$G$3","v":112},{"$f":"$G$3","v":112}]
[22,2079,24,2086,23,2092,null,null,null,null,0,222,null,null,"total reinforcement",{"$f":"U8","v":2},{"$f":"Z8","v":8},{"$f":"AE8","v":6},{"$f":"AJ8","v":9},{"$f":"AO8","v":6},{"$f":"AT8","v":9}]
[11,2184,11,2186,12,2191,null,null,null,null,0,111,null,null,"% target"]
[11,2286,22,2295,23,2300,null,null,null,null,0,122,null,null,"CCRF"]
[11,2395,22,2406,23,2417,null,null,null,null,0,122,null,null,"% CCRf"]
[11,2510,11,2511,12,2517,null,null,null,null,0,111,null,null,"average response rate",{"$f":"F34/P20","v":114.32142857142857},{"$f":"(F61-F34)/Q20","v":141.2962962962963},{"$f":"(F89-F61)/R20","v":123.57142857142857},{"$f":"(F116-F89)/S20","v":138.4814814814815},{"$f":"(F144-F116)/T20","v":122.42857142857143},{"$f":"(F171-F144)/U20","v":133.5185185185185}]
[11,2610,22,2623,23,2630,null,null,null,null,0,122]
[11,2725,11,2730,12,2736,null,null,null,null,0,111]
[22,2851,24,2858,23,2863,null,null,null,null,0,222]
[11,2958,22,2968,23,2972,null,null,null,null,0,122]
[11,3069,22,3080,23,3089,null,null,null,null,0,122]
[11,3186,11,3191,21,3201,null,null,null,null,0,112]
[22,3318,24,3323,23,3329,null,null,null,null,0,222]
[11,3425,11,3429,12,3435,null,null,null,null,0,111]
[11,3534,22,3541,23,3546,null,null,null,null,0,122]
[11,3641,22,3657,23,3670,null,null,null,null,0,122]
[11,3779,11,3783,21,3794,null,null,null,null,0,112]
[11,3958,11,3961,21,3978,null,null,null,null,0,112]
[22,4115,13,4124,23,4137,null,null,null,null,0,212]
[11,4232,22,4243,23,4251,null,null,null,null,0,122]
[11,4345,11,4348,12,4350,null,null,null,null,0,111]
[11,4443,11,4446,21,4455,null,null,null,null,0,112]
[22,4668,24,4674,23,4680,null,null,null,null,0,222]
[11,4780,11,4785,21,4815,null,null,null,null,0,112]
[22,4954,24,4972,23,4980,null,null,null,null,0,222]
[11,5075,11,5080,21,5094,null,null,null,null,0,112]
[22,5279,24,5286,23,5305,null,null,null,null,0,222]
[11,5400,11,5406,21,5434,null,null,null,null,0,112]
[22,5562,13,5581,23,5595,null,null,null,null,0,212]
[11,5688,11,5692,12,5697,null,null,null,null,0,111]
[22,5796,13,5805,23,5867,null,null,null,null,0,212]
[11,6017,22,6028,23,6035,null,null,null,null,0,122]
[11,6129,22,6140,23,6152,null,null,null,null,0,122]
[11,6248,22,6260,23,6268,null,null,null,null,0,122]
[11,6363,11,6371,21,6381,null,null,null,null,0,112]
[11,6509,22,6525,23,6530,null,null,null,null,0,122]
[11,6627,22,6644,23,6658,null,null,null,null,0,122]
[11,6752,11,6758,21,6776,null,null,null,null,0,112]
[11,7004,22,7011,23,7016,null,null,null,null,0,122]
[11,7110,11,7113,21,7132,null,null,null,null,0,112]
[11,7284,22,7297,23,7302,null,null,null,null,0,122]
[11,7399,22,7410,23,7422,null,null,null,null,0,122]
[11,7528,22,7540,23,7546,null,null,null,null,0,122]
[11,7641,22,7653,23,7659,null,null,null,null,0,122]
[11,7754,22,7766,23,7775,null,null,null,null,0,122]
[11,7871,11,7876,21,7887,null,null,null,null,0,112]
[11,8060,22,8069,23,8074,null,null,null,null,0,122]
[11,8170,22,8181,23,8199,null,null,null,null,0,122]
[11,8295,11,8301,21,8312,null,null,null,null,0,112]
[11,8407,22,8416,23,8420,null,null,null,null,0,122]
[22,8532,24,8536,23,8542,null,null,null,null,0,222]
[11,8636,22,8649,23,8659,null,null,null,null,0,122]
[11,8752,11,8757,21,8769,null,null,null,null,0,112]
[11,8896,22,8903,23,8910,null,null,null,null,0,122]
[11,9005,22,9030,23,9039,null,null,null,null,0,122]
[22,9142,24,9147,23,9155,null,null,null,null,0,222]
[11,9247,11,9250,12,9254,null,null,null,null,0,111]
[22,9360,24,9371,14,9382,null,null,null,null,0,221]
[11,9482,22,9490,23,9494,null,null,null,null,0,122]
[11,9590,22,9600,14,9618,null,null,null,null,0,121]
[11,9710,11,9714,21,9725,null,null,null,null,0,112]
[11,9900,22,9915,23,9926,null,null,null,null,0,122]
[11,10023,22,10040,23,10049,null,null,null,null,0,122]
[11,10143,11,10148,12,10154,null,null,null,null,0,111]
[11,10249,22,10259,23,10267,null,null,null,null,0,122]
[11,10359,11,10361,12,10366,null,null,null,null,0,111]
[11,10458,11,10465,21,10476,null,null,null,null,0,112]
[22,10632,24,10637,23,10648,null,null,null,null,0,222]
[11,10740,11,10747,21,10759,null,null,null,null,0,112]
[11,10930,22,10946,23,10953,null,null,null,null,0,122]
[11,11045,11,11047,12,11053,null,null,null,null,0,111]
[11,11144,11,11149,12,11155,null,null,null,null,0,111]
[11,11287,22,11296,23,11300,null,null,null,null,0,122]
[11,11395,11,11403,21,11411,null,null,null,null,0,112]
[11,11550,22,11559,23,11564,null,null,null,null,0,122]
[22,11684,24,11691,23,11704,null,null,null,null,0,222]
[22,11803,24,11823,23,11830,null,null,null,null,0,222]
[11,11928,22,11936,23,11943,null,null,null,null,0,122]
[11,12038,22,12048,23,12055,null,null,null,null,0,122]
[11,12149,11,12155,21,12164,null,null,null,null,0,112]
[22,12276,13,12291,23,12304,null,null,null,null,0,212]
[11,12396,11,12401,12,12407,null,null,null,null,0,111]
[11,12499,11,12501,21,12511,null,null,null,null,0,112]
[11,12726,11,12730,12,12735,null,null,null,null,0,111]
[11,12827,11,12832,21,12841,null,null,null,null,0,112]
[11,12959,11,12964,21,12978,null,null,null,null,0,112]
[22,13114,24,13138,23,13151,null,null,null,null,0,222]
[22,13252,24,13256,23,13263,null,null,null,null,0,222]
[11,13419,11,13424,21,13436,null,null,null,null,0,112]
[11,13547,11,13552,21,13566,null,null,null,null,0,112]
[11,13699,11,13703,21,13730,null,null,null,null,0,112]
[11,13955,22,13975,23,13982,null,null,null,null,0,122]
[11,14077,22,14091,23,14101,null,null,null,null,0,122]
[11,14199,22,14210,23,14215,null,null,null,null,0,122]
[11,14306,22,14314,23,14320,null,null,null,null,0,122]
[22,14416,13,14427,23,14444,null,null,null,null,0,212]
[11,14543,22,14554,23,14560,null,null,null,null,0,122]
[11,14655,22,14665,23,14669,null,null,null,null,0,122]
[22,14769,13,14784,23,14800,null,null,null,null,0,212]
[11,14898,22,14907,23,14916,null,null,null,null,0,122]
[11,15010,22,15020,23,15025,null,null,null,null,0,122]
[11,15120,11,15125,12,15130,null,null,null,null,0,111]
[11,15224,11,15229,21,15239,null,null,null,null,0,112]
[11,15372,11,15376,12,15382,null,null,null,null,0,111]
[11,15478,11,15482,21,15540,null,null,null,null,0,112]
[11,15803,22,15812,23,15818,null,null,null,null,0,122]
[11,15910,11,15919,21,15931,null,null,null,null,0,112]
[11,16024,22,16042,23,16052,null,null,null,null,0,122]
[11,16147,11,16152,12,16154,null,null,null,null,0,111]
[11,16247,22,16258,23,16265,null,null,null,null,0,122]
[11,16357,11,16361,12,16366,null,null,null,null,0,111]
[11,16462,22,16474,23,16486,null,null,null,null,0,122]
[11,16586,11,16591,12,16596,null,null,null,null,0,111]
[11,16688,11,16693,21,16702,null,null,null,null,0,112]
[11,16814,11,16815,12,16818,null,null,null,null,0,111]
[11,16910,11,16915,12,16919,null,null,null,null,0,111]
[11,17013,11,17016,21,17026,null,null,null,null,0,112]
[11,17148,22,17158,23,17170,null,null,null,null,0,122]
[11,17262,11,17269,12,17276,null,null,null,null,0,111]
[11,17370,22,17385,23,17393,null,null,null,null,0,122]
[11,17520,22,17528,23,17534,null,null,null,null,0,122]
[11,17629,11,17633,21,17643,null,null,null,null,0,112]
[22,17771,24,17779,23,17785,null,null,null,null,0,222]
[11,17881,22,17931,23,17944,null,null,null,null,0,122]
[11,18039,11,18044,12,18049,null,null,null,null,0,111]
[11,18141,11,18143,12,18148,null,null,null,null,0,111]
[11,18243,11,18245,12,18250,null,null,null,null,0,111]
[22,18344,24,18366,23,18374,null,null,null,null,0,222]
[11,18470,22,18487,23,18492,null,null,null,null,0,122]
[11,18588,11,18596,21,18606,null,null,null,null,0,112]
[11,18712,11,18716,21,18729,null,null,null,null,0,112]
[11,18926,22,18944,23,18958,null,null,null,null,0,122]
[11,19051,11,19057,21,19123,null,null,null,null,0,112]
[22,19233,24,19244,14,19254,null,null,null,null,0,221]
[11,19349,11,19354,21,19363,null,null,null,null,0,112]
[11,19473,22,19487,23,19494,null,null,null,null,0,122]
[11,19590,22,19638,23,19649,null,null,null,null,0,122]
[11,19744,11,19750,21,19774,null,null,null,null,0,112]
[22,19928,13,19941,23,19957,null,null,null,null,0,212]
[22,20057,24,20061,23,20097,null,null,null,null,0,222]
[11,20267,22,20275,23,20280,null,null,null,null,0,122]
[11,20378,11,20384,21,20407,null,null,null,null,0,112]
[22,20522,13,20530,14,20535,null,null,null,null,0,211]
[11,20631,22,20641,23,20651,null,null,null,null,0,122]
[11,20746,11,20752,21,20778,null,null,null,null,0,112]
[22,20874,13,20885,23,20894,null,null,null,null,0,212]
[11,20991,11,20996,21,21013,null,null,null,null,0,112]
[22,21108,24,21127,23,21137,null,null,null,null,0,222]
[11,21231,11,21237,21,21248,null,null,null,null,1,112]

{"sheet":"!MB1691I.sha","index":11,"n_rows":104,"n_cols":48,"rows_kept":104,"cut":false,"hidden":false,"merged":[[4,39,4,42],[5,39,5,40],[4,44,4,47],[5,44,5,45],[4,24,4,27],[5,24,5,25],[4,29,4,32],[5,29,5,30],[4,34,4,37],[5,34,5,35],[1,1,1,2],[5,13,5,14],[18,13,18,14],[19,13,19,14],[4,19,4,22],[5,19,5,20]]}
["Report for:!MB1691I.sha"]
["Date:","<date>"]
["Hen:","<hen>",null,null,null,"Correct Sequence",{"$f":"Start!J2","v":112},null,null,null,null,null,null,null,null,"Total Sequences in Data",{"$f":"4994-COUNTBLANK(L7:L5000)","v":98},null,null,null,null,"Total Sequences in Block Data",{"$f":"COUNTA(L7:L22)","v":16},null,null,null,"Total Sequences in Block Data",{"$f":"COUNTA(L23:L39)","v":17},null,null,null,"Total Sequences in Block Data",{"$f":"COUNTA(L40:L55)","v":16},null,null,null,"Total Sequences in Block Data",{"$f":"COUNTA(L56:L71)","v":16},null,null,null,"Total Sequences in Block Data",{"$f":"COUNTA(L72:L88)","v":17},null,null,null,"Total Sequences in Block Data",{"$f":"COUNTA(L89:L104)","v":16}]
[null,null,null,null,null,null,null,null,null,null,null,null,null,null,null,"Total Sequences in Summary",{"$f":"SUM(O7:O14)","v":98},null,null,null,null,"Total Sequences in Block Summary",{"$f":"SUM(U7:U14)","v":16},null,null,null,"Total Sequences in Block Summary",{"$f":"SUM(Z7:Z14)","v":17},null,null,null,"Total Sequences in Block Summary",{"$f":"SUM(AE7:AE14)","v":16},null,null,null,"Total Sequences in Block Summary",{"$f":"SUM(AJ7:AJ14)","v":16},null,null,null,"Total Sequences in Block Summary",{"$f":"SUM(AO7:AO14)","v":17},null,null,null,"Total Sequences in Block Summary",{"$f":"SUM(AT7:AT14)","v":16}]
[null,null,null,null,null,null,null,null,null,null,null,null,null,null,null,null,null,null,null,"Block 1",null,null,null,null,"Block 2",null,null,null,null,"Block 3",null,null,null,null,"Block 4",null,null,null,null,"Block 5",null,null,null,null,"Block 6"]
["Sequence\nComponent\n1","Time\n1","Sequence\nComponent\n2","Time\n2","Sequence\nComponent\n3","Time\n3","Sequence\nComponent\n4","Time\n4","Sequence\nComponent\n5","Time\n5","Correct?\n0=No 1=Yes","Sequence",null,"Frequency",null,"Relative Frequency","Variability",null,null,"Frequency",null,"Relative Frequency","Variability",null,"Frequency",null,"Relative Frequency","Variability",null,"Frequency",null,"Relative Frequency","Variability",null,"Frequency",null,"Relative Frequency","Variability",null,"Frequency",null,"Relative Frequency","Variability",null,"Frequency",null,"Relative Frequency","Variability"]
[22,18,24,24,14,37,null,null,null,null,0,221,null,111,{"$f":"COUNTIF($L$7:$L$500,N7)","v":12},{"$f":"O7/$Q$4","v":0.12244897959183673},{"$f":"IF(P7=0,0,(P7*((LOG(P7))/LOG(2))))","v":-0.3709894706196798},null,null,{"$f":"N7","v":111},{"$f":"COUNTIF(L7:L22,T7)","v":0},{"$f":"U7/(W4-U8)","v":0},{"$f":"IF(V7=0,0,(V7*((LOG(V7))/LOG(2))))","v":0},null,{"$f":"N7","v":111},{"$f":"COUNTIF(L23:L39,Y7)","v":2},{"$f":"Z7/(AB4-Z8)","v":0.2},{"$f":"IF(AA7=0,0,(AA7*((LOG(AA7))/LOG(2))))","v":-0.46438561897747244},null,{"$f":"N7","v":111},{"$f":"COUNTIF(L40:L55,AD7)","v":2},{"$f":"AE7/(AG4-AE8)","v":0.25},{"$f":"IF(AF7=0,0,(AF7*((LOG(AF7))/LOG(2))))","v":-0.5},null,{"$f":"N7","v":111},{"$f":"COUNTIF(L56:L71,AI7)","v":1},{"$f":"AJ7/(AL4-AJ8)","v":0.125},{"$f":"IF(AK7=0,0,(AK7*((LOG(AK7))/LOG(2))))","v":-0.375},null,{"$f":"N7","v":111},{"$f":"COUNTIF(L72:L88,AN7)","v":4},{"$f":"AO7/(AQ4-AO8)","v":0.36363636363636365},{"$f":"IF(AP7=0,0,(AP7*((LOG(AP7))/LOG(2))))","v":-0.53070240677719893},null,{"$f":"N7","v":111},{"$f":"COUNTIF(L89:L104,AS7)","v":3},{"$f":"AT7/(AV4-AT8)","v":0.3},{"$f":"IF(AU7=0,0,(AU7*((LOG(AU7))/LOG(2))))","v":-0.52108967824986185}]
[11,128,11,134,21,143,null,null,null,null,0,112,null,112,{"$f":"COUNTIF($L$7:$L$500,N8)","v":40},{"$f":"O8/$Q$4","v":0.40816326530612246},{"$f":"IF(P8=0,0,(P8*((LOG(P8))/LOG(2))))","v":-0.52766602009299834},null,null,{"$f":"N8","v":112},{"$f":"COUNTIF(L7:L22,T8)","v":5},null,null,null,{"$f":"N8","v":112},{"$f":"COUNTIF(L23:L39,Y8)","v":7},null,null,null,{"$f":"N8","v":112},{"$f":"COUNTIF(L40:L55,AD8)","v":8},null,null,null,{"$f":"N8","v":112},{"$f":"COUNTIF(L56:L71,AI8)","v":8},null,null,null,{"$f":"N8","v":112},{"$f":"COUNTIF(L72:L88,AN8)","v":6},null,null,null,{"$f":"N8","v":112},{"$f":"COUNTIF(L89:L104,AS8)","v":6}]
[22,393,13,407,23,419,null,null,null,null,0,212,null,121,{"$f":"COUNTIF($L$7:$L$500,N9)","v":0},{"$f":"O9/$Q$4","v":0},{"$f":"IF(P9=0,0,(P9*((LOG(P9))/LOG(2))))","v":0},null,null,{"$f":"N9","v":121},{"$f":"COUNTIF(L7:L22,T9)","v":0},{"$f":"U9/(W4-U8)","v":0},{"$f":"IF(V9=0,0,(V9*((LOG(V9))/LOG(2))))","v":0},null,{"$f":"N9","v":121},{"$f":"COUNTIF(L23:L39,Y9)","v":0},{"$f":"Z9/(AB4-Z8)","v":0},{"$f":"IF(AA9=0,0,(AA9*((LOG(AA9))/LOG(2))))","v":0},null,{"$f":"N9","v":121},{"$f":"COUNTIF(L40:L55,AD9)","v":0},{"$f":"AE9/(AG4-AE8)","v":0},{"$f":"IF(AF9=0,0,(AF9*((LOG(AF9))/LOG(2))))","v":0},null,{"$f":"N9","v":121},{"$f":"COUNTIF(L56:L71,AI9)","v":0},{"$f":"AJ9/(AL4-AJ8)","v":0},{"$f":"IF(AK9=0,0,(AK9*((LOG(AK9))/LOG(2))))","v":0},null,{"$f":"N9","v":121},{"$f":"COUNTIF(L72:L88,AN9)","v":0},{"$f":"AO9/(AQ4-AO8)","v":0},{"$f":"IF(AP9=0,0,(AP9*((LOG(AP9))/LOG(2))))","v":0},null,{"$f":"N9","v":121},{"$f":"COUNTIF(L89:L104,AS9)","v":0},{"$f":"AT9/(AV4-AT8)","v":0},{"$f":"IF(AU9=0,0,(AU9*((LOG(AU9))/LOG(2))))","v":0}]
[11,514,22,526,23,537,null,null,null,null,0,122,null,122,{"$f":"COUNTIF($L$7:$L$500,N10)","v":37},{"$f":"O10/$Q$4","v":0.37755102040816324},{"$f":"IF(P10=0,0,(P10*((LOG(P10))/LOG(2))))","v":-0.530556017387669},null,null,{"$f":"N10","v":122},{"$f":"COUNTIF(L7:L22,T10)","v":7},{"$f":"U10/(W4-U8)","v":0.63636363636363635},{"$f":"IF(V10=0,0,(V10*((LOG(V10))/LOG(2))))","v":-0.41495789782344106},null,{"$f":"N10","v":122},{"$f":"COUNTIF(L23:L39,Y10)","v":8},{"$f":"Z10/(AB4-Z8)","v":0.8},{"$f":"IF(AA10=0,0,(AA10*((LOG(AA10))/LOG(2))))","v":-0.25754247590988982},null,{"$f":"N10","v":122},{"$f":"COUNTIF(L40:L55,AD10)","v":5},{"$f":"AE10/(AG4-AE8)","v":0.625},{"$f":"IF(AF10=0,0,(AF10*((LOG(AF10))/LOG(2))))","v":-0.42379494069539858},null,{"$f":"N10","v":122},{"$f":"COUNTIF(L56:L71,AI10)","v":7},{"$f":"AJ10/(AL4-AJ8)","v":0.875},{"$f":"IF(AK10=0,0,(AK10*((LOG(AK10))/LOG(2))))","v":-0.1685644431995964},null,{"$f":"N10","v":122},{"$f":"COUNTIF(L72:L88,AN10)","v":5},{"$f":"AO10/(AQ4-AO8)","v":0.45454545454545453},{"$f":"IF(AP10=0,0,(AP10*((LOG(AP10))/LOG(2))))","v":-0.51704705624997038},null,{"$f":"N10","v":122},{"$f":"COUNTIF(L89:L104,AS10)","v":5},{"$f":"AT10/(AV4-AT8)","v":0.5},{"$f":"IF(AU10=0,0,(AU10*((LOG(AU10))/LOG(2))))","v":-0.5}]
[11,632,22,642,23,648,null,null,null,null,0,122,null,211,{"$f":"COUNTIF($L$7:$L$500,N11)","v":0},{"$f":"O11/$Q$4","v":0},{"$f":"IF(P11=0,0,(P11*((LOG(P11))/LOG(2))))","v":0},null,null,{"$f":"N11","v":211},{"$f":"COUNTIF(L7:L22,T11)","v":0},{"$f":"U11/(W4-U8)","v":0},{"$f":"IF(V11=0,0,(V11*((LOG(V11))/LOG(2))))","v":0},null,{"$f":"N11","v":211},{"$f":"COUNTIF(L23:L39,Y11)","v":0},{"$f":"Z11/(AB4-Z8)","v":0},{"$f":"IF(AA11=0,0,(AA11*((LOG(AA11))/LOG(2))))","v":0},null,{"$f":"N11","v":211},{"$f":"COUNTIF(L40:L55,AD11)","v":0},{"$f":"AE11/(AG4-AE8)","v":0},{"$f":"IF(AF11=0,0,(AF11*((LOG(AF11))/LOG(2))))","v":0},null,{"$f":"N11","v":211},{"$f":"COUNTIF(L56:L71,AI11)","v":0},{"$f":"AJ11/(AL4-AJ8)","v":0},{"$f":"IF(AK11=0,0,(AK11*((LOG(AK11))/LOG(2))))","v":0},null,{"$f":"N11","v":211},{"$f":"COUNTIF(L72:L88,AN11)","v":0},{"$f":"AO11/(AQ4-AO8)","v":0},{"$f":"IF(AP11=0,0,(AP11*((LOG(AP11))/LOG(2))))","v":0},null,{"$f":"N11","v":211},{"$f":"COUNTIF(L89:L104,AS11)","v":0},{"$f":"AT11/(AV4-AT8)","v":0},{"$f":"IF(AU11=0,0,(AU11*((LOG(AU11))/LOG(2))))","v":0}]
[11,745,22,755,23,764,null,null,null,null,0,122,null,212,{"$f":"COUNTIF($L$7:$L$500,N12)","v":3},{"$f":"O12/$Q$4","v":3.0612244897959183E-2},{"$f":"IF(P12=0,0,(P12*((LOG(P12))/LOG(2))))","v":-0.15397185745083833},null,null,{"$f":"N12","v":212},{"$f":"COUNTIF(L7:L22,T12)","v":1},{"$f":"U12/(W4-U8)","v":9.0909090909090912E-2},{"$f":"IF(V12=0,0,(V12*((LOG(V12))/LOG(2))))","v":-0.31449378351248153},null,{"$f":"N12","v":212},{"$f":"COUNTIF(L23:L39,Y12)","v":0},{"$f":"Z12/(AB4-Z8)","v":0},{"$f":"IF(AA12=0,0,(AA12*((LOG(AA12))/LOG(2))))","v":0},null,{"$f":"N12","v":212},{"$f":"COUNTIF(L40:L55,AD12)","v":0},{"$f":"AE12/(AG4-AE8)","v":0},{"$f":"IF(AF12=0,0,(AF12*((LOG(AF12))/LOG(2))))","v":0},null,{"$f":"N12","v":212},{"$f":"COUNTIF(L56:L71,AI12)","v":0},{"$f":"AJ12/(AL4-AJ8)","v":0},{"$f":"IF(AK12=0,0,(AK12*((LOG(AK12))/LOG(2))))","v":0},null,{"$f":"N12","v":212},{"$f":"COUNTIF(L72:L88,AN12)","v":2},{"$f":"AO12/(AQ4-AO8)","v":0.18181818181818182},{"$f":"IF(AP12=0,0,(AP12*((LOG(AP12))/LOG(2))))","v":-0.44716938520678134},null,{"$f":"N12","v":212},{"$f":"COUNTIF(L89:L104,AS12)","v":0},{"$f":"AT12/(AV4-AT8)","v":0},{"$f":"IF(AU12=0,0,(AU12*((LOG(AU12))/LOG(2))))","v":0}]
[11,860,22,869,23,876,null,null,null,null,0,122,null,221,{"$f":"COUNTIF($L$7:$L$500,N13)","v":1},{"$f":"O13/$Q$4","v":1.020408163265306E-2},{"$f":"IF(P13=0,0,(P13*((LOG(P13))/LOG(2))))","v":-6.7497039225665384E-2},null,null,{"$f":"N13","v":221},{"$f":"COUNTIF(L7:L22,T13)","v":1},{"$f":"U13/(W4-U8)","v":9.0909090909090912E-2},{"$f":"IF(V13=0,0,(V13*((LOG(V13))/LOG(2))))","v":-0.31449378351248153},null,{"$f":"N13","v":221},{"$f":"COUNTIF(L23:L39,Y13)","v":0},{"$f":"Z13/(AB4-Z8)","v":0},{"$f":"IF(AA13=0,0,(AA13*((LOG(AA13))/LOG(2))))","v":0},null,{"$f":"N13","v":221},{"$f":"COUNTIF(L40:L55,AD13)","v":0},{"$f":"AE13/(AG4-AE8)","v":0},{"$f":"IF(AF13=0,0,(AF13*((LOG(AF13))/LOG(2))))","v":0},null,{"$f":"N13","v":221},{"$f":"COUNTIF(L56:L71,AI13)","v":0},{"$f":"AJ13/(AL4-AJ8)","v":0},{"$f":"IF(AK13=0,0,(AK13*((LOG(AK13))/LOG(2))))","v":0},null,{"$f":"N13","v":221},{"$f":"COUNTIF(L72:L88,AN13)","v":0},{"$f":"AO13/(AQ4-AO8)","v":0},{"$f":"IF(AP13=0,0,(AP13*((LOG(AP13))/LOG(2))))","v":0},null,{"$f":"N13","v":221},{"$f":"COUNTIF(L89:L104,AS13)","v":0},{"$f":"AT13/(AV4-AT8)","v":0},{"$f":"IF(AU13=0,0,(AU13*((LOG(AU13))/LOG(2))))","v":0}]
[11,969,11,975,21,991,null,null,null,null,0,112,null,222,{"$f":"COUNTIF($L$7:$L$500,N14)","v":5},{"$f":"O14/$Q$4","v":5.1020408163265307E-2},{"$f":"IF(P14=0,0,(P14*((LOG(P14))/LOG(2))))","v":-0.21901947700142071},null,null,{"$f":"N14","v":222},{"$f":"COUNTIF(L7:L22,T14)","v":2},{"$f":"U14/(W4-U8)","v":0.18181818181818182},{"$f":"IF(V14=0,0,(V14*((LOG(V14))/LOG(2))))","v":-0.44716938520678134},null,{"$f":"N14","v":222},{"$f":"COUNTIF(L23:L39,Y14)","v":0},{"$f":"Z14/(AB4-Z8)","v":0},{"$f":"IF(AA14=0,0,(AA14*((LOG(AA14))/LOG(2))))","v":0},null,{"$f":"N14","v":222},{"$f":"COUNTIF(L40:L55,AD14)","v":1},{"$f":"AE14/(AG4-AE8)","v":0.125},{"$f":"IF(AF14=0,0,(AF14*((LOG(AF14))/LOG(2))))","v":-0.375},null,{"$f":"N14","v":222},{"$f":"COUNTIF(L56:L71,AI14)","v":0},{"$f":"AJ14/(AL4-AJ8)","v":0},{"$f":"IF(AK14=0,0,(AK14*((LOG(AK14))/LOG(2))))","v":0},null,{"$f":"N14","v":222},{"$f":"COUNTIF(L72:L88,AN14)","v":0},{"$f":"AO14/(AQ4-AO8)","v":0},{"$f":"IF(AP14=0,0,(AP14*((LOG(AP14))/LOG(2))))","v":0},null,{"$f":"N14","v":222},{"$f":"COUNTIF(L89:L104,AS14)","v":2},{"$f":"AT14/(AV4-AT8)","v":0.2},{"$f":"IF(AU14=0,0,(AU14*((LOG(AU14))/LOG(2))))","v":-0.46438561897747244}]
[11,1202,22,1210,23,1217,null,null,null,null,0,122,null,null,null,{"$f":"SUM(P7:P14)","v":1},{"$f":"-SUM(Q7:Q14)","v":1.8696998817782715},null,null,null,null,{"$f":"SUM(V7:V14)","v":1},{"$f":"-SUM(W7:W14)","v":1.4911148500551854},null,null,null,{"$f":"SUM(AA7:AA14)","v":1},{"$f":"-SUM(AB7:AB14)","v":0.72192809488736231},null,null,null,{"$f":"SUM(AF7:AF14)","v":1},{"$f":"-SUM(AG7:AG14)","v":1.2987949406953985},null,null,null,{"$f":"SUM(AK7:AK14)","v":1},{"$f":"-SUM(AL7:AL14)","v":0.5435644431995964},null,null,null,{"$f":"SUM(AP7:AP14)","v":1},{"$f":"-SUM(AQ7:AQ14)","v":1.4949188482339506},null,null,null,{"$f":"SUM(AU7:AU14)","v":1},{"$f":"-SUM(AV7:AV14)","v":1.4854752972273344}]
[11,1309,11,1316,21,1327,null,null,null,null,0,112,null,null,null,"U=",{"$f":"Q15/(LOG(Q4)/LOG(2))","v":0.28265788308789602},null,null,null,null,"U1=",{"$f":"W15/(LOG(W4)/LOG(2))","v":0.37277871251379635},null,null,null,"U2=",{"$f":"AB15/(LOG(AB4)/LOG(2))","v":0.17662009978457133},null,null,null,"U3=",{"$f":"AG15/(LOG(AG4)/LOG(2))","v":0.32469873517384962},null,null,null,"U4=",{"$f":"AL15/(LOG(AL4)/LOG(2))","v":0.1358911107998991},null,null,null,"U5=",{"$f":"AQ15/(LOG(AQ4)/LOG(2))","v":0.36573270664319013},null,null,null,"U6=",{"$f":"AV15/(LOG(AV4)/LOG(2))","v":0.3713688243068336}]
[22,1481,24,1500,23,1504,null,null,null,null,0,222]
[11,1601,22,1613,23,1628,null,null,null,null,0,122]
[11,1727,22,1736,23,1746,null,null,null,null,0,122,null,"Total Target Seq"]
[11,1840,11,1849,21,1874,null,null,null,null,0,112,null,{"$f":"COUNTIF(L7:L104,G3)","v":40},null,16,17,16,16,17,16]
[11,2035,11,2041,21,2050,null,null,null,null,0,112,null,null,null,"% of reinforcement given in 6 equal intervals based on number of trials "]
[22,2194,24,2202,23,2212,null,null,null,null,0,222,null,null,null,"%_1","%_2","%_3","%_4","%_5","%_6"]
[11,2304,11,2311,21,2328,null,null,null,null,0,112,null,null,"target sequence",{"$f":"$G$3","v":112},{"$f":"$G$3","v":112},{"$f":"$G$3","v":112},{"$f":"$G$3","v":112},{"$f":"$G$3","v":112},{"$f":"$G$3","v":112}]
[11,2452,11,2455,21,2465,null,null,null,null,0,112,null,null,"total reinforcement",{"$f":"U8","v":5},{"$f":"Z8","v":7},{"$f":"AE8","v":8},{"$f":"AJ8","v":8},{"$f":"AO8","v":6},{"$f":"AT8","v":6}]
[11,2575,11,2581,12,2588,null,null,null,null,0,111,null,null,"% target"]
[11,2686,22,2700,23,2714,null,null,null,null,0,122,null,null,"CCRF"]
[11,2815,22,2825,23,2835,null,null,null,null,0,122,null,null,"% CCRf"]
[11,2929,22,2941,23,2946,null,null,null,null,0,122,null,null,"average response rate",{"$f":"F22/P20","v":138.25},{"$f":"(F39-F22)/Q20","v":124.17647058823529},{"$f":"(F55-F39)/R20","v":126.4375},{"$f":"(F71-F55)/S20","v":138.5},{"$f":"(F88-F71)/T20","v":129.23529411764707},{"$f":"(F104-F88)/U20","v":123.125}]
[11,3061,22,3073,23,3079,null,null,null,null,0,122]
[11,3174,11,3178,21,3189,null,null,null,null,0,112]
[11,3298,11,3302,21,3313,null,null,null,null,0,112]
[11,3430,22,3452,23,3464,null,null,null,null,0,122]
[11,3558,11,3566,21,3577,null,null,null,null,0,112]
[11,3696,11,3701,12,3706,null,null,null,null,0,111]
[11,3798,11,3808,21,3836,null,null,null,null,0,112]
[11,3959,22,3971,23,3977,null,null,null,null,0,122]
[11,4072,22,4082,23,4095,null,null,null,null,0,122]
[11,4191,22,4202,23,4207,null,null,null,null,0,122]
[11,4309,11,4313,21,4323,null,null,null,null,0,112]
[11,4417,11,4430,21,4445,null,null,null,null,0,112]
[11,4558,11,4571,12,4577,null,null,null,null,0,111]
[22,4683,24,4698,23,4711,null,null,null,null,0,222]
[11,4806,11,4811,21,4832,null,null,null,null,0,112]
[11,4957,11,4963,21,4977,null,null,null,null,0,112]
[11,5092,22,5102,23,5113,null,null,null,null,0,122]
[11,5209,22,5219,23,5224,null,null,null,null,0,122]
[11,5319,22,5341,23,5346,null,null,null,null,0,122]
[11,5443,11,5449,21,5460,null,null,null,null,0,112]
[11,5575,11,5582,21,5594,null,null,null,null,0,112]
[11,5696,11,5702,12,5712,null,null,null,null,0,111]
[11,5806,22,5821,23,5834,null,null,null,null,0,122]
[11,5930,22,5940,23,5944,null,null,null,null,0,122]
[11,6037,11,6040,21,6052,null,null,null,null,0,112]
[11,6145,11,6152,21,6166,null,null,null,null,0,112]
[11,6323,11,6331,21,6346,null,null,null,null,0,112]
[11,6505,22,6514,23,6518,null,null,null,null,0,122]
[11,6611,22,6622,23,6630,null,null,null,null,0,122]
[11,6726,11,6729,12,6730,null,null,null,null,0,111]
[11,6826,22,6836,23,6843,null,null,null,null,0,122]
[11,6954,22,6963,23,6974,null,null,null,null,0,122]
[11,7069,11,7077,21,7087,null,null,null,null,0,112]
[11,7251,11,7256,21,7264,null,null,null,null,0,112]
[11,7415,11,7423,21,7436,null,null,null,null,0,112]
[11,7580,11,7587,21,7601,null,null,null,null,0,112]
[11,7729,11,7736,21,7746,null,null,null,null,0,112]
[11,7876,22,7896,23,7907,null,null,null,null,0,122]
[11,8002,22,8021,23,8031,null,null,null,null,0,122]
[11,8160,22,8168,23,8179,null,null,null,null,0,122]
[11,8274,11,8279,21,8290,null,null,null,null,0,112]
[11,8409,11,8415,21,8429,null,null,null,null,0,112]
[11,8522,11,8526,21,8562,null,null,null,null,0,112]
[11,8761,22,8772,23,8779,null,null,null,null,0,122]
[11,8874,11,8884,21,8898,null,null,null,null,0,112]
[11,9018,11,9024,21,9038,null,null,null,null,0,112]
[11,9162,22,9178,23,9187,null,null,null,null,0,122]
[11,9279,11,9282,12,9287,null,null,null,null,0,111]
[22,9383,13,9394,23,9405,null,null,null,null,0,212]
[11,9498,11,9503,12,9509,null,null,null,null,0,111]
[11,9604,22,9613,23,9624,null,null,null,null,0,122]
[11,9719,11,9721,21,9739,null,null,null,null,0,112]
[11,9884,11,9889,21,9898,null,null,null,null,0,112]
[11,10034,11,10039,21,10057,null,null,null,null,0,112]
[22,10156,13,10164,23,10181,null,null,null,null,0,212]
[11,10274,11,10278,12,10281,null,null,null,null,0,111]
[11,10375,22,10385,23,10388,null,null,null,null,0,122]
[11,10482,11,10486,12,10491,null,null,null,null,0,111]
[11,10591,11,10597,21,10609,null,null,null,null,0,112]
[11,10702,22,10738,23,10759,null,null,null,null,0,122]
[22,10866,24,10872,23,10881,null,null,null,null,0,222]
[11,10978,11,10984,21,10994,null,null,null,null,0,112]
[11,11086,11,11102,12,11110,null,null,null,null,0,111]
[11,11206,22,11219,23,11233,null,null,null,null,0,122]
[11,11360,11,11363,12,11367,null,null,null,null,0,111]
[22,11466,24,11474,23,11480,null,null,null,null,0,222]
[11,11583,11,11589,21,11601,null,null,null,null,0,112]
[11,11731,11,11736,21,11747,null,null,null,null,0,112]
[11,11865,22,11875,23,11882,null,null,null,null,0,122]
[11,11977,11,11983,21,11996,null,null,null,null,0,112]
[11,12105,22,12132,23,12150,null,null,null,null,0,122]
[11,12245,22,12261,23,12270,null,null,null,null,0,122]
[11,12365,11,12369,12,12375,null,null,null,null,0,111]
[11,12470,11,12476,21,12486,null,null,null,null,0,112]
[11,12581,22,12611,23,12621,null,null,null,null,0,122]
[11,12716,11,12719,21,12729,null,null,null,null,1,112]

{"sheet":"!MB1780I.sha","index":12,"n_rows":102,"n_cols":48,"rows_kept":102,"cut":false,"hidden":false,"merged":[[4,39,4,42],[5,39,5,40],[4,44,4,47],[5,44,5,45],[4,24,4,27],[5,24,5,25],[4,29,4,32],[5,29,5,30],[4,34,4,37],[5,34,5,35],[1,1,1,2],[5,13,5,14],[18,13,18,14],[19,13,19,14],[4,19,4,22],[5,19,5,20]]}
["Report for:!MB1780I.sha"]
["Date:","<date>"]
["Hen:","<hen>",null,null,null,"Correct Sequence",{"$f":"Start!J2","v":112},null,null,null,null,null,null,null,null,"Total Sequences in Data",{"$f":"4994-COUNTBLANK(L7:L5000)","v":96},null,null,null,null,"Total Sequences in Block Data",{"$f":"COUNTA(L7:L22)","v":16},null,null,null,"Total Sequences in Block Data",{"$f":"COUNTA(L23:L38)","v":16},null,null,null,"Total Sequences in Block Data",{"$f":"COUNTA(L39:L54)","v":16},null,null,null,"Total Sequences in Block Data",{"$f":"COUNTA(L55:L70)","v":16},null,null,null,"Total Sequences in Block Data",{"$f":"COUNTA(L71:L86)","v":16},null,null,null,"Total Sequences in Block Data",{"$f":"COUNTA(L87:L102)","v":16}]
[null,null,null,null,null,null,null,null,null,null,null,null,null,null,null,"Total Sequences in Summary",{"$f":"SUM(O7:O14)","v":96},null,null,null,null,"Total Sequences in Block Summary",{"$f":"SUM(U7:U14)","v":16},null,null,null,"Total Sequences in Block Summary",{"$f":"SUM(Z7:Z14)","v":16},null,null,null,"Total Sequences in Block Summary",{"$f":"SUM(AE7:AE14)","v":16},null,null,null,"Total Sequences in Block Summary",{"$f":"SUM(AJ7:AJ14)","v":16},null,null,null,"Total Sequences in Block Summary",{"$f":"SUM(AO7:AO14)","v":16},null,null,null,"Total Sequences in Block Summary",{"$f":"SUM(AT7:AT14)","v":16}]
[null,null,null,null,null,null,null,null,null,null,null,null,null,null,null,null,null,null,null,"Block 1",null,null,null,null,"Block 2",null,null,null,null,"Block 3",null,null,null,null,"Block 4",null,null,null,null,"Block 5",null,null,null,null,"Block 6"]
["Sequence\nComponent\n1","Time\n1","Sequence\nComponent\n2","Time\n2","Sequence\nComponent\n3","Time\n3","Sequence\nComponent\n4","Time\n4","Sequence\nComponent\n5","Time\n5","Correct?\n0=No 1=Yes","Sequence",null,"Frequency",null,"Relative Frequency","Variability",null,null,"Frequency",null,"Relative Frequency","Variability",null,"Frequency",null,"Relative Frequency","Variability",null,"Frequency",null,"Relative Frequency","Variability",null,"Frequency",null,"Relative Frequency","Variability",null,"Frequency",null,"Relative Frequency","Variability",null,"Frequency",null,"Relative Frequency","Variability"]
[11,56,22,69,23,82,null,null,null,null,0,122,null,111,{"$f":"COUNTIF($L$7:$L$500,N7)","v":11},{"$f":"O7/$Q$4","v":0.11458333333333333},{"$f":"IF(P7=0,0,(P7*((LOG(P7))/LOG(2))))","v":-0.35813374690544214},null,null,{"$f":"N7","v":111},{"$f":"COUNTIF(L7:L22,T7)","v":0},{"$f":"U7/(W4-U8)","v":0},{"$f":"IF(V7=0,0,(V7*((LOG(V7))/LOG(2))))","v":0},null,{"$f":"N7","v":111},{"$f":"COUNTIF(L23:L38,Y7)","v":3},{"$f":"Z7/(AB4-Z8)","v":0.23076923076923078},{"$f":"IF(AA7=0,0,(AA7*((LOG(AA7))/LOG(2))))","v":-0.48818705017383146},null,{"$f":"N7","v":111},{"$f":"COUNTIF(L39:L54,AD7)","v":1},{"$f":"AE7/(AG4-AE8)","v":0.125},{"$f":"IF(AF7=0,0,(AF7*((LOG(AF7))/LOG(2))))","v":-0.375},null,{"$f":"N7","v":111},{"$f":"COUNTIF(L55:L70,AI7)","v":3},{"$f":"AJ7/(AL4-AJ8)","v":0.5},{"$f":"IF(AK7=0,0,(AK7*((LOG(AK7))/LOG(2))))","v":-0.5},null,{"$f":"N7","v":111},{"$f":"COUNTIF(L71:L86,AN7)","v":2},{"$f":"AO7/(AQ4-AO8)","v":0.22222222222222221},{"$f":"IF(AP7=0,0,(AP7*((LOG(AP7))/LOG(2))))","v":-0.48220555587606945},null,{"$f":"N7","v":111},{"$f":"COUNTIF(L87:L102,AS7)","v":2},{"$f":"AT7/(AV4-AT8)","v":0.25},{"$f":"IF(AU7=0,0,(AU7*((LOG(AU7))/LOG(2))))","v":-0.5}]
[11,182,22,192,23,198,null,null,null,null,0,122,null,112,{"$f":"COUNTIF($L$7:$L$500,N8)","v":40},{"$f":"O8/$Q$4","v":0.41666666666666669},{"$f":"IF(P8=0,0,(P8*((LOG(P8))/LOG(2))))","v":-0.52626433576408083},null,null,{"$f":"N8","v":112},{"$f":"COUNTIF(L7:L22,T8)","v":4},null,null,null,{"$f":"N8","v":112},{"$f":"COUNTIF(L23:L38,Y8)","v":3},null,null,null,{"$f":"N8","v":112},{"$f":"COUNTIF(L39:L54,AD8)","v":8},null,null,null,{"$f":"N8","v":112},{"$f":"COUNTIF(L55:L70,AI8)","v":10},null,null,null,{"$f":"N8","v":112},{"$f":"COUNTIF(L71:L86,AN8)","v":7},null,null,null,{"$f":"N8","v":112},{"$f":"COUNTIF(L87:L102,AS8)","v":8}]
[11,291,11,297,21,314,null,null,null,null,0,112,null,121,{"$f":"COUNTIF($L$7:$L$500,N9)","v":1},{"$f":"O9/$Q$4","v":1.0416666666666666E-2},{"$f":"IF(P9=0,0,(P9*((LOG(P9))/LOG(2))))","v":-6.8593359382512042E-2},null,null,{"$f":"N9","v":121},{"$f":"COUNTIF(L7:L22,T9)","v":0},{"$f":"U9/(W4-U8)","v":0},{"$f":"IF(V9=0,0,(V9*((LOG(V9))/LOG(2))))","v":0},null,{"$f":"N9","v":121},{"$f":"COUNTIF(L23:L38,Y9)","v":0},{"$f":"Z9/(AB4-Z8)","v":0},{"$f":"IF(AA9=0,0,(AA9*((LOG(AA9))/LOG(2))))","v":0},null,{"$f":"N9","v":121},{"$f":"COUNTIF(L39:L54,AD9)","v":0},{"$f":"AE9/(AG4-AE8)","v":0},{"$f":"IF(AF9=0,0,(AF9*((LOG(AF9))/LOG(2))))","v":0},null,{"$f":"N9","v":121},{"$f":"COUNTIF(L55:L70,AI9)","v":1},{"$f":"AJ9/(AL4-AJ8)","v":0.16666666666666666},{"$f":"IF(AK9=0,0,(AK9*((LOG(AK9))/LOG(2))))","v":-0.43082708345352599},null,{"$f":"N9","v":121},{"$f":"COUNTIF(L71:L86,AN9)","v":0},{"$f":"AO9/(AQ4-AO8)","v":0},{"$f":"IF(AP9=0,0,(AP9*((LOG(AP9))/LOG(2))))","v":0},null,{"$f":"N9","v":121},{"$f":"COUNTIF(L87:L102,AS9)","v":0},{"$f":"AT9/(AV4-AT8)","v":0},{"$f":"IF(AU9=0,0,(AU9*((LOG(AU9))/LOG(2))))","v":0}]
[22,503,13,516,23,533,null,null,null,null,0,212,null,122,{"$f":"COUNTIF($L$7:$L$500,N10)","v":32},{"$f":"O10/$Q$4","v":0.33333333333333331},{"$f":"IF(P10=0,0,(P10*((LOG(P10))/LOG(2))))","v":-0.52832083357371862},null,null,{"$f":"N10","v":122},{"$f":"COUNTIF(L7:L22,T10)","v":5},{"$f":"U10/(W4-U8)","v":0.41666666666666669},{"$f":"IF(V10=0,0,(V10*((LOG(V10))/LOG(2))))","v":-0.52626433576408083},null,{"$f":"N10","v":122},{"$f":"COUNTIF(L23:L38,Y10)","v":8},{"$f":"Z10/(AB4-Z8)","v":0.61538461538461542},{"$f":"IF(AA10=0,0,(AA10*((LOG(AA10))/LOG(2))))","v":-0.43103982654836437},null,{"$f":"N10","v":122},{"$f":"COUNTIF(L39:L54,AD10)","v":7},{"$f":"AE10/(AG4-AE8)","v":0.875},{"$f":"IF(AF10=0,0,(AF10*((LOG(AF10))/LOG(2))))","v":-0.1685644431995964},null,{"$f":"N10","v":122},{"$f":"COUNTIF(L55:L70,AI10)","v":2},{"$f":"AJ10/(AL4-AJ8)","v":0.33333333333333331},{"$f":"IF(AK10=0,0,(AK10*((LOG(AK10))/LOG(2))))","v":-0.52832083357371862},null,{"$f":"N10","v":122},{"$f":"COUNTIF(L71:L86,AN10)","v":6},{"$f":"AO10/(AQ4-AO8)","v":0.66666666666666663},{"$f":"IF(AP10=0,0,(AP10*((LOG(AP10))/LOG(2))))","v":-0.38997500048077083},null,{"$f":"N10","v":122},{"$f":"COUNTIF(L87:L102,AS10)","v":4},{"$f":"AT10/(AV4-AT8)","v":0.5},{"$f":"IF(AU10=0,0,(AU10*((LOG(AU10))/LOG(2))))","v":-0.5}]
[11,629,11,636,21,648,null,null,null,null,0,112,null,211,{"$f":"COUNTIF($L$7:$L$500,N11)","v":0},{"$f":"O11/$Q$4","v":0},{"$f":"IF(P11=0,0,(P11*((LOG(P11))/LOG(2))))","v":0},null,null,{"$f":"N11","v":211},{"$f":"COUNTIF(L7:L22,T11)","v":0},{"$f":"U11/(W4-U8)","v":0},{"$f":"IF(V11=0,0,(V11*((LOG(V11))/LOG(2))))","v":0},null,{"$f":"N11","v":211},{"$f":"COUNTIF(L23:L38,Y11)","v":0},{"$f":"Z11/(AB4-Z8)","v":0},{"$f":"IF(AA11=0,0,(AA11*((LOG(AA11))/LOG(2))))","v":0},null,{"$f":"N11","v":211},{"$f":"COUNTIF(L39:L54,AD11)","v":0},{"$f":"AE11/(AG4-AE8)","v":0},{"$f":"IF(AF11=0,0,(AF11*((LOG(AF11))/LOG(2))))","v":0},null,{"$f":"N11","v":211},{"$f":"COUNTIF(L55:L70,AI11)","v":0},{"$f":"AJ11/(AL4-AJ8)","v":0},{"$f":"IF(AK11=0,0,(AK11*((LOG(AK11))/LOG(2))))","v":0},null,{"$f":"N11","v":211},{"$f":"COUNTIF(L71:L86,AN11)","v":0},{"$f":"AO11/(AQ4-AO8)","v":0},{"$f":"IF(AP11=0,0,(AP11*((LOG(AP11))/LOG(2))))","v":0},null,{"$f":"N11","v":211},{"$f":"COUNTIF(L87:L102,AS11)","v":0},{"$f":"AT11/(AV4-AT8)","v":0},{"$f":"IF(AU11=0,0,(AU11*((LOG(AU11))/LOG(2))))","v":0}]
[22,907,24,940,23,955,null,null,null,null,0,222,null,212,{"$f":"COUNTIF($L$7:$L$500,N12)","v":3},{"$f":"O12/$Q$4","v":3.125E-2},{"$f":"IF(P12=0,0,(P12*((LOG(P12))/LOG(2))))","v":-0.15625},null,null,{"$f":"N12","v":212},{"$f":"COUNTIF(L7:L22,T12)","v":1},{"$f":"U12/(W4-U8)","v":8.3333333333333329E-2},{"$f":"IF(V12=0,0,(V12*((LOG(V12))/LOG(2))))","v":-0.29874687506009634},null,{"$f":"N12","v":212},{"$f":"COUNTIF(L23:L38,Y12)","v":0},{"$f":"Z12/(AB4-Z8)","v":0},{"$f":"IF(AA12=0,0,(AA12*((LOG(AA12))/LOG(2))))","v":0},null,{"$f":"N12","v":212},{"$f":"COUNTIF(L39:L54,AD12)","v":0},{"$f":"AE12/(AG4-AE8)","v":0},{"$f":"IF(AF12=0,0,(AF12*((LOG(AF12))/LOG(2))))","v":0},null,{"$f":"N12","v":212},{"$f":"COUNTIF(L55:L70,AI12)","v":0},{"$f":"AJ12/(AL4-AJ8)","v":0},{"$f":"IF(AK12=0,0,(AK12*((LOG(AK12))/LOG(2))))","v":0},null,{"$f":"N12","v":212},{"$f":"COUNTIF(L71:L86,AN12)","v":1},{"$f":"AO12/(AQ4-AO8)","v":0.1111111111111111},{"$f":"IF(AP12=0,0,(AP12*((LOG(AP12))/LOG(2))))","v":-0.3522138890491458},null,{"$f":"N12","v":212},{"$f":"COUNTIF(L87:L102,AS12)","v":1},{"$f":"AT12/(AV4-AT8)","v":0.125},{"$f":"IF(AU12=0,0,(AU12*((LOG(AU12))/LOG(2))))","v":-0.375}]
[11,1047,11,1051,21,1067,null,null,null,null,0,112,null,221,{"$f":"COUNTIF($L$7:$L$500,N13)","v":2},{"$f":"O13/$Q$4","v":2.0833333333333332E-2},{"$f":"IF(P13=0,0,(P13*((LOG(P13))/LOG(2))))","v":-0.11635338543169074},null,null,{"$f":"N13","v":221},{"$f":"COUNTIF(L7:L22,T13)","v":2},{"$f":"U13/(W4-U8)","v":0.16666666666666666},{"$f":"IF(V13=0,0,(V13*((LOG(V13))/LOG(2))))","v":-0.43082708345352599},null,{"$f":"N13","v":221},{"$f":"COUNTIF(L23:L38,Y13)","v":0},{"$f":"Z13/(AB4-Z8)","v":0},{"$f":"IF(AA13=0,0,(AA13*((LOG(AA13))/LOG(2))))","v":0},null,{"$f":"N13","v":221},{"$f":"COUNTIF(L39:L54,AD13)","v":0},{"$f":"AE13/(AG4-AE8)","v":0},{"$f":"IF(AF13=0,0,(AF13*((LOG(AF13))/LOG(2))))","v":0},null,{"$f":"N13","v":221},{"$f":"COUNTIF(L55:L70,AI13)","v":0},{"$f":"AJ13/(AL4-AJ8)","v":0},{"$f":"IF(AK13=0,0,(AK13*((LOG(AK13))/LOG(2))))","v":0},null,{"$f":"N13","v":221},{"$f":"COUNTIF(L71:L86,AN13)","v":0},{"$f":"AO13/(AQ4-AO8)","v":0},{"$f":"IF(AP13=0,0,(AP13*((LOG(AP13))/LOG(2))))","v":0},null,{"$f":"N13","v":221},{"$f":"COUNTIF(L87:L102,AS13)","v":0},{"$f":"AT13/(AV4-AT8)","v":0},{"$f":"IF(AU13=0,0,(AU13*((LOG(AU13))/LOG(2))))","v":0}]
[22,1202,24,1210,14,1221,null,null,null,null,0,221,null,222,{"$f":"COUNTIF($L$7:$L$500,N14)","v":7},{"$f":"O14/$Q$4","v":7.2916666666666671E-2},{"$f":"IF(P14=0,0,(P14*((LOG(P14))/LOG(2))))","v":-0.27545055261088403},null,null,{"$f":"N14","v":222},{"$f":"COUNTIF(L7:L22,T14)","v":4},{"$f":"U14/(W4-U8)","v":0.33333333333333331},{"$f":"IF(V14=0,0,(V14*((LOG(V14))/LOG(2))))","v":-0.52832083357371862},null,{"$f":"N14","v":222},{"$f":"COUNTIF(L23:L38,Y14)","v":2},{"$f":"Z14/(AB4-Z8)","v":0.15384615384615385},{"$f":"IF(AA14=0,0,(AA14*((LOG(AA14))/LOG(2))))","v":-0.4154522643293988},null,{"$f":"N14","v":222},{"$f":"COUNTIF(L39:L54,AD14)","v":0},{"$f":"AE14/(AG4-AE8)","v":0},{"$f":"IF(AF14=0,0,(AF14*((LOG(AF14))/LOG(2))))","v":0},null,{"$f":"N14","v":222},{"$f":"COUNTIF(L55:L70,AI14)","v":0},{"$f":"AJ14/(AL4-AJ8)","v":0},{"$f":"IF(AK14=0,0,(AK14*((LOG(AK14))/LOG(2))))","v":0},null,{"$f":"N14","v":222},{"$f":"COUNTIF(L71:L86,AN14)","v":0},{"$f":"AO14/(AQ4-AO8)","v":0},{"$f":"IF(AP14=0,0,(AP14*((LOG(AP14))/LOG(2))))","v":0},null,{"$f":"N14","v":222},{"$f":"COUNTIF(L87:L102,AS14)","v":1},{"$f":"AT14/(AV4-AT8)","v":0.125},{"$f":"IF(AU14=0,0,(AU14*((LOG(AU14))/LOG(2))))","v":-0.375}]
[11,1324,22,1335,23,1342,null,null,null,null,0,122,null,null,null,{"$f":"SUM(P7:P14)","v":1},{"$f":"-SUM(Q7:Q14)","v":2.0293662136683284},null,null,null,null,{"$f":"SUM(V7:V14)","v":1},{"$f":"-SUM(W7:W14)","v":1.7841591278514217},null,null,null,{"$f":"SUM(AA7:AA14)","v":1},{"$f":"-SUM(AB7:AB14)","v":1.3346791410515946},null,null,null,{"$f":"SUM(AF7:AF14)","v":1},{"$f":"-SUM(AG7:AG14)","v":0.5435644431995964},null,null,null,{"$f":"SUM(AK7:AK14)","v":1},{"$f":"-SUM(AL7:AL14)","v":1.4591479170272446},null,null,null,{"$f":"SUM(AP7:AP14)","v":1},{"$f":"-SUM(AQ7:AQ14)","v":1.2243944454059861},null,null,null,{"$f":"SUM(AU7:AU14)","v":1},{"$f":"-SUM(AV7:AV14)","v":1.75}]
[22,1458,24,1468,23,1475,null,null,null,null,0,222,null,null,null,"U=",{"$f":"Q15/(LOG(Q4)/LOG(2))","v":0.30818189373835936},null,null,null,null,"U1=",{"$f":"W15/(LOG(W4)/LOG(2))","v":0.44603978196285543},null,null,null,"U2=",{"$f":"AB15/(LOG(AB4)/LOG(2))","v":0.33366978526289864},null,null,null,"U3=",{"$f":"AG15/(LOG(AG4)/LOG(2))","v":0.1358911107998991},null,null,null,"U4=",{"$f":"AL15/(LOG(AL4)/LOG(2))","v":0.36478697925681114},null,null,null,"U5=",{"$f":"AQ15/(LOG(AQ4)/LOG(2))","v":0.30609861135149652},null,null,null,"U6=",{"$f":"AV15/(LOG(AV4)/LOG(2))","v":0.4375}]
[22,1593,24,1602,23,1610,null,null,null,null,0,222]
[22,1721,24,1728,23,1737,null,null,null,null,0,222]
[11,1838,11,1844,21,1854,null,null,null,null,0,112,null,"Total Target Seq"]
[22,2063,24,2068,14,2082,null,null,null,null,0,221,null,{"$f":"COUNTIF(L7:L102,G3)","v":40},null,16,16,16,16,16,16]
[11,2178,22,2190,23,2195,null,null,null,null,0,122,null,null,null,"% of reinforcement given in 6 equal intervals based on number of trials "]
[11,2290,22,2306,23,2314,null,null,null,null,0,122,null,null,null,"%_1","%_2","%_3","%_4","%_5","%_6"]
[11,2411,11,2415,12,2420,null,null,null,null,0,111,null,null,"target sequence",{"$f":"$G$3","v":112},{"$f":"$G$3","v":112},{"$f":"$G$3","v":112},{"$f":"$G$3","v":112},{"$f":"$G$3","v":112},{"$f":"$G$3","v":112}]
[22,2535,24,2541,23,2546,null,null,null,null,0,222,null,null,"total reinforcement",{"$f":"U8","v":4},{"$f":"Z8","v":3},{"$f":"AE8","v":8},{"$f":"AJ8","v":10},{"$f":"AO8","v":7},{"$f":"AT8","v":8}]
[11,2641,11,2645,12,2652,null,null,null,null,0,111,null,null,"% target"]
[11,2747,11,2750,21,2762,null,null,null,null,0,112,null,null,"CCRF"]
[11,2972,22,2981,23,2991,null,null,null,null,0,122,null,null,"% CCRf"]
[11,3087,22,3100,23,3114,null,null,null,null,0,122,null,null,"average response rate",{"$f":"F22/P20","v":144.625},{"$f":"(F38-F22)/Q20","v":130},{"$f":"(F54-F38)/R20","v":146.5},{"$f":"(F70-F54)/S20","v":130.125},{"$f":"(F86-F70)/T20","v":137.9375},{"$f":"(F102-F86)/U20","v":128.125}]
[11,3208,11,3212,12,3217,null,null,null,null,0,111]
[11,3313,22,3323,23,3330,null,null,null,null,0,122]
[22,3448,24,3469,23,3476,null,null,null,null,0,222]
[11,3574,22,3587,23,3594,null,null,null,null,0,122]
[11,3689,22,3719,23,3732,null,null,null,null,0,122]
[11,3829,22,3839,23,3846,null,null,null,null,0,122]
[11,3941,11,3947,21,3979,null,null,null,null,0,112]
[11,4144,22,4153,23,4162,null,null,null,null,0,122]
[11,4259,22,4270,23,4283,null,null,null,null,0,122]
[11,4378,11,4384,21,4394,null,null,null,null,0,112]
[11,4579,11,4585,21,4604,null,null,null,null,0,112]
[11,4697,22,4713,23,4721,null,null,null,null,0,122]
[11,4815,22,4842,23,4852,null,null,null,null,0,122]
[11,4949,22,4963,23,4968,null,null,null,null,0,122]
[11,5069,22,5079,23,5083,null,null,null,null,0,122]
[11,5175,11,5180,21,5190,null,null,null,null,0,112]
[11,5334,11,5345,21,5368,null,null,null,null,0,112]
[11,5532,11,5538,21,5561,null,null,null,null,0,112]
[11,5737,11,5745,21,5754,null,null,null,null,0,112]
[11,5862,11,5868,21,5877,null,null,null,null,0,112]
[11,5978,22,5995,23,6005,null,null,null,null,0,122]
[11,6100,11,6110,21,6131,null,null,null,null,0,112]
[11,6348,22,6368,23,6381,null,null,null,null,0,122]
[11,6476,11,6481,21,6491,null,null,null,null,0,112]
[11,6611,11,6616,12,6622,null,null,null,null,0,111]
[11,6718,22,6728,23,6738,null,null,null,null,0,122]
[11,6831,11,6837,21,6851,null,null,null,null,0,112]
[11,7002,22,7023,23,7033,null,null,null,null,0,122]
[11,7129,11,7134,21,7145,null,null,null,null,0,112]
[11,7243,11,7248,21,7274,null,null,null,null,0,112]
[11,7437,22,7449,14,7464,null,null,null,null,0,121]
[11,7558,11,7563,12,7568,null,null,null,null,0,111]
[11,7663,22,7674,23,7679,null,null,null,null,0,122]
[11,7776,11,7783,21,7795,null,null,null,null,0,112]
[11,7896,11,7901,12,7907,null,null,null,null,0,111]
[11,8002,11,8010,21,8020,null,null,null,null,0,112]
[11,8113,11,8119,12,8125,null,null,null,null,0,111]
[11,8219,11,8228,21,8238,null,null,null,null,0,112]
[11,8353,11,8363,21,8387,null,null,null,null,0,112]
[11,8520,11,8526,21,8538,null,null,null,null,0,112]
[11,8633,11,8637,21,8648,null,null,null,null,0,112]
[11,8806,11,8810,21,8820,null,null,null,null,0,112]
[11,8929,11,8938,21,8958,null,null,null,null,0,112]
[11,9145,22,9181,23,9196,null,null,null,null,0,122]
[11,9290,11,9293,21,9304,null,null,null,null,0,112]
[11,9466,11,9473,12,9480,null,null,null,null,0,111]
[11,9572,11,9576,21,9585,null,null,null,null,0,112]
[11,9691,22,9714,23,9724,null,null,null,null,0,122]
[11,9822,11,9828,12,9836,null,null,null,null,0,111]
[11,9931,11,9935,21,9955,null,null,null,null,0,112]
[11,10046,11,10056,21,10075,null,null,null,null,0,112]
[11,10216,22,10224,23,10233,null,null,null,null,0,122]
[11,10339,22,10349,23,10362,null,null,null,null,0,122]
[11,10458,22,10468,23,10478,null,null,null,null,0,122]
[11,10576,11,10581,21,10604,null,null,null,null,0,112]
[11,10714,22,10726,23,10731,null,null,null,null,0,122]
[11,10826,11,10831,21,10861,null,null,null,null,0,112]
[22,10988,13,10996,23,11027,null,null,null,null,0,212]
[22,11147,13,11157,23,11170,null,null,null,null,0,212]
[11,11262,11,11265,21,11286,null,null,null,null,0,112]
[11,11381,22,11403,23,11412,null,null,null,null,0,122]
[11,11507,11,11510,21,11519,null,null,null,null,0,112]
[11,11609,11,11612,21,11626,null,null,null,null,0,112]
[11,11714,11,11716,12,11722,null,null,null,null,0,111]
[11,11816,11,11821,21,11830,null,null,null,null,0,112]
[11,11921,22,11948,23,11958,null,null,null,null,0,122]
[11,12050,11,12055,12,12060,null,null,null,null,0,111]
[11,12155,11,12160,21,12181,null,null,null,null,0,112]
[11,12285,11,12290,21,12316,null,null,null,null,0,112]
[11,12428,11,12434,21,12448,null,null,null,null,0,112]
[22,12702,24,12708,23,12717,null,null,null,null,0,222]
[11,12814,22,12837,23,12846,null,null,null,null,0,122]
[11,12952,22,12962,23,12971,null,null,null,null,0,122]
[11,13062,11,13067,21,13077,null,null,null,null,1,112]

{"sheet":"!MB1893I.sha","index":13,"n_rows":129,"n_cols":48,"rows_kept":129,"cut":false,"hidden":false,"merged":[[4,39,4,42],[5,39,5,40],[4,44,4,47],[5,44,5,45],[4,24,4,27],[5,24,5,25],[4,29,4,32],[5,29,5,30],[4,34,4,37],[5,34,5,35],[1,1,1,2],[5,13,5,14],[18,13,18,14],[19,13,19,14],[4,19,4,22],[5,19,5,20]]}
["Report for:!MB1893I.sha"]
["Date:","<date>"]
["Hen:","<hen>",null,null,null,"Correct Sequence",{"$f":"Start!J2","v":112},null,null,null,null,null,null,null,null,"Total Sequences in Data",{"$f":"4994-COUNTBLANK(L7:L5000)","v":123},null,null,null,null,"Total Sequences in Block Data",{"$f":"COUNTA(L7:L27)","v":21},null,null,null,"Total Sequences in Block Data",{"$f":"COUNTA(L28:L47)","v":20},null,null,null,"Total Sequences in Block Data",{"$f":"COUNTA(L48:L68)","v":21},null,null,null,"Total Sequences in Block Data",{"$f":"COUNTA(L69:L88)","v":20},null,null,null,"Total Sequences in Block Data",{"$f":"COUNTA(L89:L109)","v":21},null,null,null,"Total Sequences in Block Data",{"$f":"COUNTA(L110:L129)","v":20}]
[null,null,null,null,null,null,null,null,null,null,null,null,null,null,null,"Total Sequences in Summary",{"$f":"SUM(O7:O14)","v":123},null,null,null,null,"Total Sequences in Block Summary",{"$f":"SUM(U7:U14)","v":21},null,null,null,"Total Sequences in Block Summary",{"$f":"SUM(Z7:Z14)","v":20},null,null,null,"Total Sequences in Block Summary",{"$f":"SUM(AE7:AE14)","v":21},null,null,null,"Total Sequences in Block Summary",{"$f":"SUM(AJ7:AJ14)","v":20},null,null,null,"Total Sequences in Block Summary",{"$f":"SUM(AO7:AO14)","v":21},null,null,null,"Total Sequences in Block Summary",{"$f":"SUM(AT7:AT14)","v":20}]
[null,null,null,null,null,null,null,null,null,null,null,null,null,null,null,null,null,null,null,"Block 1",null,null,null,null,"Block 2",null,null,null,null,"Block 3",null,null,null,null,"Block 4",null,null,null,null,"Block 5",null,null,null,null,"Block 6"]
["Sequence\nComponent\n1","Time\n1","Sequence\nComponent\n2","Time\n2","Sequence\nComponent\n3","Time\n3","Sequence\nComponent\n4","Time\n4","Sequence\nComponent\n5","Time\n5","Correct?\n0=No 1=Yes","Sequence",null,"Frequency",null,"Relative Frequency","Variability",null,null,"Frequency",null,"Relative Frequency","Variability",null,"Frequency",null,"Relative Frequency","Variability",null,"Frequency",null,"Relative Frequency","Variability",null,"Frequency",null,"Relative Frequency","Variability",null,"Frequency",null,"Relative Frequency","Variability",null,"Frequency",null,"Relative Frequency","Variability"]
[22,107,24,112,23,118,null,null,null,null,0,222,null,111,{"$f":"COUNTIF($L$7:$L$500,N7)","v":8},{"$f":"O7/$Q$4","v":6.5040650406504072E-2},{"$f":"IF(P7=0,0,(P7*((LOG(P7))/LOG(2))))","v":-0.25642370766434081},null,null,{"$f":"N7","v":111},{"$f":"COUNTIF(L7:L27,T7)","v":1},{"$f":"U7/(W4-U8)","v":5.2631578947368418E-2},{"$f":"IF(V7=0,0,(V7*((LOG(V7))/LOG(2))))","v":-0.22357513228650452},null,{"$f":"N7","v":111},{"$f":"COUNTIF(L28:L47,Y7)","v":1},{"$f":"Z7/(AB4-Z8)","v":8.3333333333333329E-2},{"$f":"IF(AA7=0,0,(AA7*((LOG(AA7))/LOG(2))))","v":-0.29874687506009634},null,{"$f":"N7","v":111},{"$f":"COUNTIF(L48:L68,AD7)","v":0},{"$f":"AE7/(AG4-AE8)","v":0},{"$f":"IF(AF7=0,0,(AF7*((LOG(AF7))/LOG(2))))","v":0},null,{"$f":"N7","v":111},{"$f":"COUNTIF(L69:L88,AI7)","v":4},{"$f":"AJ7/(AL4-AJ8)","v":0.2857142857142857},{"$f":"IF(AK7=0,0,(AK7*((LOG(AK7))/LOG(2))))","v":-0.51638712058788683},null,{"$f":"N7","v":111},{"$f":"COUNTIF(L89:L109,AN7)","v":2},{"$f":"AO7/(AQ4-AO8)","v":0.13333333333333333},{"$f":"IF(AP7=0,0,(AP7*((LOG(AP7))/LOG(2))))","v":-0.3875854127478025},null,{"$f":"N7","v":111},{"$f":"COUNTIF(L110:L129,AS7)","v":0},{"$f":"AT7/(AV4-AT8)","v":0},{"$f":"IF(AU7=0,0,(AU7*((LOG(AU7))/LOG(2))))","v":0}]
[11,215,22,225,23,230,null,null,null,null,0,122,null,112,{"$f":"COUNTIF($L$7:$L$500,N8)","v":40},{"$f":"O8/$Q$4","v":0.32520325203252032},{"$f":"IF(P8=0,0,(P8*((LOG(P8))/LOG(2))))","v":-0.52701997087865937},null,null,{"$f":"N8","v":112},{"$f":"COUNTIF(L7:L27,T8)","v":2},null,null,null,{"$f":"N8","v":112},{"$f":"COUNTIF(L28:L47,Y8)","v":8},null,null,null,{"$f":"N8","v":112},{"$f":"COUNTIF(L48:L68,AD8)","v":7},null,null,null,{"$f":"N8","v":112},{"$f":"COUNTIF(L69:L88,AI8)","v":6},null,null,null,{"$f":"N8","v":112},{"$f":"COUNTIF(L89:L109,AN8)","v":6},null,null,null,{"$f":"N8","v":112},{"$f":"COUNTIF(L110:L129,AS8)","v":11}]
[11,325,22,334,23,338,null,null,null,null,0,122,null,121,{"$f":"COUNTIF($L$7:$L$500,N9)","v":2},{"$f":"O9/$Q$4","v":1.6260162601626018E-2},{"$f":"IF(P9=0,0,(P9*((LOG(P9))/LOG(2))))","v":-9.662625211933723E-2},null,null,{"$f":"N9","v":121},{"$f":"COUNTIF(L7:L27,T9)","v":1},{"$f":"U9/(W4-U8)","v":5.2631578947368418E-2},{"$f":"IF(V9=0,0,(V9*((LOG(V9))/LOG(2))))","v":-0.22357513228650452},null,{"$f":"N9","v":121},{"$f":"COUNTIF(L28:L47,Y9)","v":0},{"$f":"Z9/(AB4-Z8)","v":0},{"$f":"IF(AA9=0,0,(AA9*((LOG(AA9))/LOG(2))))","v":0},null,{"$f":"N9","v":121},{"$f":"COUNTIF(L48:L68,AD9)","v":0},{"$f":"AE9/(AG4-AE8)","v":0},{"$f":"IF(AF9=0,0,(AF9*((LOG(AF9))/LOG(2))))","v":0},null,{"$f":"N9","v":121},{"$f":"COUNTIF(L69:L88,AI9)","v":0},{"$f":"AJ9/(AL4-AJ8)","v":0},{"$f":"IF(AK9=0,0,(AK9*((LOG(AK9))/LOG(2))))","v":0},null,{"$f":"N9","v":121},{"$f":"COUNTIF(L89:L109,AN9)","v":0},{"$f":"AO9/(AQ4-AO8)","v":0},{"$f":"IF(AP9=0,0,(AP9*((LOG(AP9))/LOG(2))))","v":0},null,{"$f":"N9","v":121},{"$f":"COUNTIF(L110:L129,AS9)","v":1},{"$f":"AT9/(AV4-AT8)","v":0.1111111111111111},{"$f":"IF(AU9=0,0,(AU9*((LOG(AU9))/LOG(2))))","v":-0.3522138890491458}]
[11,433,22,440,14,452,null,null,null,null,0,121,null,122,{"$f":"COUNTIF($L$7:$L$500,N10)","v":66},{"$f":"O10/$Q$4","v":0.53658536585365857},{"$f":"IF(P10=0,0,(P10*((LOG(P10))/LOG(2))))","v":-0.48191825589212928},null,null,{"$f":"N10","v":122},{"$f":"COUNTIF(L7:L27,T10)","v":14},{"$f":"U10/(W4-U8)","v":0.73684210526315785},{"$f":"IF(V10=0,0,(V10*((LOG(V10))/LOG(2))))","v":-0.32463243575809159},null,{"$f":"N10","v":122},{"$f":"COUNTIF(L28:L47,Y10)","v":10},{"$f":"Z10/(AB4-Z8)","v":0.83333333333333337},{"$f":"IF(AA10=0,0,(AA10*((LOG(AA10))/LOG(2))))","v":-0.21919533819482812},null,{"$f":"N10","v":122},{"$f":"COUNTIF(L48:L68,AD10)","v":12},{"$f":"AE10/(AG4-AE8)","v":0.8571428571428571},{"$f":"IF(AF10=0,0,(AF10*((LOG(AF10))/LOG(2))))","v":-0.19062207543124113},null,{"$f":"N10","v":122},{"$f":"COUNTIF(L69:L88,AI10)","v":10},{"$f":"AJ10/(AL4-AJ8)","v":0.7142857142857143},{"$f":"IF(AK10=0,0,(AK10*((LOG(AK10))/LOG(2))))","v":-0.34673344797874411},null,{"$f":"N10","v":122},{"$f":"COUNTIF(L89:L109,AN10)","v":12},{"$f":"AO10/(AQ4-AO8)","v":0.8},{"$f":"IF(AP10=0,0,(AP10*((LOG(AP10))/LOG(2))))","v":-0.25754247590988982},null,{"$f":"N10","v":122},{"$f":"COUNTIF(L110:L129,AS10)","v":8},{"$f":"AT10/(AV4-AT8)","v":0.88888888888888884},{"$f":"IF(AU10=0,0,(AU10*((LOG(AU10))/LOG(2))))","v":-0.15104444572649992}]
[11,546,22,559,23,566,null,null,null,null,0,122,null,211,{"$f":"COUNTIF($L$7:$L$500,N11)","v":0},{"$f":"O11/$Q$4","v":0},{"$f":"IF(P11=0,0,(P11*((LOG(P11))/LOG(2))))","v":0},null,null,{"$f":"N11","v":211},{"$f":"COUNTIF(L7:L27,T11)","v":0},{"$f":"U11/(W4-U8)","v":0},{"$f":"IF(V11=0,0,(V11*((LOG(V11))/LOG(2))))","v":0},null,{"$f":"N11","v":211},{"$f":"COUNTIF(L28:L47,Y11)","v":0},{"$f":"Z11/(AB4-Z8)","v":0},{"$f":"IF(AA11=0,0,(AA11*((LOG(AA11))/LOG(2))))","v":0},null,{"$f":"N11","v":211},{"$f":"COUNTIF(L48:L68,AD11)","v":0},{"$f":"AE11/(AG4-AE8)","v":0},{"$f":"IF(AF11=0,0,(AF11*((LOG(AF11))/LOG(2))))","v":0},null,{"$f":"N11","v":211},{"$f":"COUNTIF(L69:L88,AI11)","v":0},{"$f":"AJ11/(AL4-AJ8)","v":0},{"$f":"IF(AK11=0,0,(AK11*((LOG(AK11))/LOG(2))))","v":0},null,{"$f":"N11","v":211},{"$f":"COUNTIF(L89:L109,AN11)","v":0},{"$f":"AO11/(AQ4-AO8)","v":0},{"$f":"IF(AP11=0,0,(AP11*((LOG(AP11))/LOG(2))))","v":0},null,{"$f":"N11","v":211},{"$f":"COUNTIF(L110:L129,AS11)","v":0},{"$f":"AT11/(AV4-AT8)","v":0},{"$f":"IF(AU11=0,0,(AU11*((LOG(AU11))/LOG(2))))","v":0}]
[22,712,24,720,23,726,null,null,null,null,0,222,null,212,{"$f":"COUNTIF($L$7:$L$500,N12)","v":0},{"$f":"O12/$Q$4","v":0},{"$f":"IF(P12=0,0,(P12*((LOG(P12))/LOG(2))))","v":0},null,null,{"$f":"N12","v":212},{"$f":"COUNTIF(L7:L27,T12)","v":0},{"$f":"U12/(W4-U8)","v":0},{"$f":"IF(V12=0,0,(V12*((LOG(V12))/LOG(2))))","v":0},null,{"$f":"N12","v":212},{"$f":"COUNTIF(L28:L47,Y12)","v":0},{"$f":"Z12/(AB4-Z8)","v":0},{"$f":"IF(AA12=0,0,(AA12*((LOG(AA12))/LOG(2))))","v":0},null,{"$f":"N12","v":212},{"$f":"COUNTIF(L48:L68,AD12)","v":0},{"$f":"AE12/(AG4-AE8)","v":0},{"$f":"IF(AF12=0,0,(AF12*((LOG(AF12))/LOG(2))))","v":0},null,{"$f":"N12","v":212},{"$f":"COUNTIF(L69:L88,AI12)","v":0},{"$f":"AJ12/(AL4-AJ8)","v":0},{"$f":"IF(AK12=0,0,(AK12*((LOG(AK12))/LOG(2))))","v":0},null,{"$f":"N12","v":212},{"$f":"COUNTIF(L89:L109,AN12)","v":0},{"$f":"AO12/(AQ4-AO8)","v":0},{"$f":"IF(AP12=0,0,(AP12*((LOG(AP12))/LOG(2))))","v":0},null,{"$f":"N12","v":212},{"$f":"COUNTIF(L110:L129,AS12)","v":0},{"$f":"AT12/(AV4-AT8)","v":0},{"$f":"IF(AU12=0,0,(AU12*((LOG(AU12))/LOG(2))))","v":0}]
[22,830,24,835,23,842,null,null,null,null,0,222,null,221,{"$f":"COUNTIF($L$7:$L$500,N13)","v":0},{"$f":"O13/$Q$4","v":0},{"$f":"IF(P13=0,0,(P13*((LOG(P13))/LOG(2))))","v":0},null,null,{"$f":"N13","v":221},{"$f":"COUNTIF(L7:L27,T13)","v":0},{"$f":"U13/(W4-U8)","v":0},{"$f":"IF(V13=0,0,(V13*((LOG(V13))/LOG(2))))","v":0},null,{"$f":"N13","v":221},{"$f":"COUNTIF(L28:L47,Y13)","v":0},{"$f":"Z13/(AB4-Z8)","v":0},{"$f":"IF(AA13=0,0,(AA13*((LOG(AA13))/LOG(2))))","v":0},null,{"$f":"N13","v":221},{"$f":"COUNTIF(L48:L68,AD13)","v":0},{"$f":"AE13/(AG4-AE8)","v":0},{"$f":"IF(AF13=0,0,(AF13*((LOG(AF13))/LOG(2))))","v":0},null,{"$f":"N13","v":221},{"$f":"COUNTIF(L69:L88,AI13)","v":0},{"$f":"AJ13/(AL4-AJ8)","v":0},{"$f":"IF(AK13=0,0,(AK13*((LOG(AK13))/LOG(2))))","v":0},null,{"$f":"N13","v":221},{"$f":"COUNTIF(L89:L109,AN13)","v":0},{"$f":"AO13/(AQ4-AO8)","v":0},{"$f":"IF(AP13=0,0,(AP13*((LOG(AP13))/LOG(2))))","v":0},null,{"$f":"N13","v":221},{"$f":"COUNTIF(L110:L129,AS13)","v":0},{"$f":"AT13/(AV4-AT8)","v":0},{"$f":"IF(AU13=0,0,(AU13*((LOG(AU13))/LOG(2))))","v":0}]
[11,940,22,957,23,973,null,null,null,null,0,122,null,222,{"$f":"COUNTIF($L$7:$L$500,N14)","v":7},{"$f":"O14/$Q$4","v":5.6910569105691054E-2},{"$f":"IF(P14=0,0,(P14*((LOG(P14))/LOG(2))))","v":-0.23533428522741018},null,null,{"$f":"N14","v":222},{"$f":"COUNTIF(L7:L27,T14)","v":3},{"$f":"U14/(W4-U8)","v":0.15789473684210525},{"$f":"IF(V14=0,0,(V14*((LOG(V14))/LOG(2))))","v":-0.42046815990354147},null,{"$f":"N14","v":222},{"$f":"COUNTIF(L28:L47,Y14)","v":1},{"$f":"Z14/(AB4-Z8)","v":8.3333333333333329E-2},{"$f":"IF(AA14=0,0,(AA14*((LOG(AA14))/LOG(2))))","v":-0.29874687506009634},null,{"$f":"N14","v":222},{"$f":"COUNTIF(L48:L68,AD14)","v":2},{"$f":"AE14/(AG4-AE8)","v":0.14285714285714285},{"$f":"IF(AF14=0,0,(AF14*((LOG(AF14))/LOG(2))))","v":-0.40105070315108626},null,{"$f":"N14","v":222},{"$f":"COUNTIF(L69:L88,AI14)","v":0},{"$f":"AJ14/(AL4-AJ8)","v":0},{"$f":"IF(AK14=0,0,(AK14*((LOG(AK14))/LOG(2))))","v":0},null,{"$f":"N14","v":222},{"$f":"COUNTIF(L89:L109,AN14)","v":1},{"$f":"AO14/(AQ4-AO8)","v":6.6666666666666666E-2},{"$f":"IF(AP14=0,0,(AP14*((LOG(AP14))/LOG(2))))","v":-0.26045937304056793},null,{"$f":"N14","v":222},{"$f":"COUNTIF(L110:L129,AS14)","v":0},{"$f":"AT14/(AV4-AT8)","v":0},{"$f":"IF(AU14=0,0,(AU14*((LOG(AU14))/LOG(2))))","v":0}]
[11,1066,11,1072,21,1086,null,null,null,null,0,112,null,null,null,{"$f":"SUM(P7:P14)","v":1},{"$f":"-SUM(Q7:Q14)","v":1.5973224717818768},null,null,null,null,{"$f":"SUM(V7:V14)","v":1},{"$f":"-SUM(W7:W14)","v":1.1922508602346422},null,null,null,{"$f":"SUM(AA7:AA14)","v":1},{"$f":"-SUM(AB7:AB14)","v":0.81668908831502085},null,null,null,{"$f":"SUM(AF7:AF14)","v":1},{"$f":"-SUM(AG7:AG14)","v":0.59167277858232736},null,null,null,{"$f":"SUM(AK7:AK14)","v":1},{"$f":"-SUM(AL7:AL14)","v":0.863120568566631},null,null,null,{"$f":"SUM(AP7:AP14)","v":1},{"$f":"-SUM(AQ7:AQ14)","v":0.90558726169826032},null,null,null,{"$f":"SUM(AU7:AU14)","v":1},{"$f":"-SUM(AV7:AV14)","v":0.50325833477564574}]
[11,1314,22,1323,23,1328,null,null,null,null,0,122,null,null,null,"U=",{"$f":"Q15/(LOG(Q4)/LOG(2))","v":0.23007837730168704},null,null,null,null,"U1=",{"$f":"W15/(LOG(W4)/LOG(2))","v":0.27144004985877712},null,null,null,"U2=",{"$f":"AB15/(LOG(AB4)/LOG(2))","v":0.18896406196140228},null,null,null,"U3=",{"$f":"AG15/(LOG(AG4)/LOG(2))","v":0.13470628864705567},null,null,null,"U4=",{"$f":"AL15/(LOG(AL4)/LOG(2))","v":0.19970729489638248},null,null,null,"U5=",{"$f":"AQ15/(LOG(AQ4)/LOG(2))","v":0.20617527708763556},null,null,null,"U6=",{"$f":"AV15/(LOG(AV4)/LOG(2))","v":0.11644301425814479}]
[11,1424,22,1448,23,1461,null,null,null,null,0,122]
[11,1557,22,1568,23,1574,null,null,null,null,0,122]
[11,1673,11,1676,12,1678,null,null,null,null,0,111,null,"Total Target Seq"]
[11,1777,11,1783,21,1796,null,null,null,null,0,112,null,{"$f":"COUNTIF(L7:L129,G3)","v":40},null,21,20,21,20,21,20]
[11,1932,22,1940,23,1944,null,null,null,null,0,122,null,null,null,"% of reinforcement given in 6 equal intervals based on number of trials "]
[11,2039,22,2057,23,2066,null,null,null,null,0,122,null,null,null,"%_1","%_2","%_3","%_4","%_5","%_6"]
[11,2164,22,2175,23,2183,null,null,null,null,0,122,null,null,"target sequence",{"$f":"$G$3","v":112},{"$f":"$G$3","v":112},{"$f":"$G$3","v":112},{"$f":"$G$3","v":112},{"$f":"$G$3","v":112},{"$f":"$G$3","v":112}]
[11,2279,22,2289,23,2294,null,null,null,null,0,122,null,null,"total reinforcement",{"$f":"U8","v":2},{"$f":"Z8","v":8},{"$f":"AE8","v":7},{"$f":"AJ8","v":6},{"$f":"AO8","v":6},{"$f":"AT8","v":11}]
[11,2390,22,2404,23,2434,null,null,null,null,0,122,null,null,"% target"]
[11,2527,22,2574,23,2590,null,null,null,null,0,122,null,null,"CCRF"]
[11,2689,22,2701,23,2706,null,null,null,null,0,122,null,null,"% CCRf"]
[11,2803,22,2814,23,2819,null,null,null,null,0,122,null,null,"average response rate",{"$f":"F27/P20","v":128.85714285714286},{"$f":"(F47-F27)/Q20","v":134.80000000000001},{"$f":"(F68-F47)/R20","v":130.71428571428572},{"$f":"(F88-F68)/S20","v":121.25},{"$f":"(F109-F88)/T20","v":126.76190476190476},{"$f":"(F129-F109)/U20","v":133.85}]
[22,2923,24,2928,23,2935,null,null,null,null,0,222]
[11,3032,22,3052,23,3061,null,null,null,null,0,122]
[11,3153,11,3155,21,3169,null,null,null,null,0,112]
[11,3355,11,3360,21,3370,null,null,null,null,0,112]
[11,3534,22,3583,23,3593,null,null,null,null,0,122]
[11,3687,11,3692,21,3702,null,null,null,null,0,112]
[11,3803,22,3849,23,3860,null,null,null,null,0,122]
[11,3952,11,3957,21,3967,null,null,null,null,0,112]
[11,4077,22,4090,23,4099,null,null,null,null,0,122]
[11,4191,11,4196,12,4202,null,null,null,null,0,111]
[11,4298,22,4316,23,4323,null,null,null,null,0,122]
[11,4420,22,4433,23,4438,null,null,null,null,0,122]
[11,4532,11,4540,21,4550,null,null,null,null,0,112]
[11,4666,22,4676,23,4687,null,null,null,null,0,122]
[11,4782,11,4786,21,4802,null,null,null,null,0,112]
[11,4931,11,4941,21,4980,null,null,null,null,0,112]
[11,5106,22,5122,23,5138,null,null,null,null,0,122]
[11,5233,11,5242,21,5278,null,null,null,null,0,112]
[11,5385,22,5397,23,5402,null,null,null,null,0,122]
[11,5494,11,5516,21,5529,null,null,null,null,0,112]
[11,5683,22,5693,23,5734,null,null,null,null,0,122]
[11,5837,22,5846,23,5850,null,null,null,null,0,122]
[11,5943,11,5948,21,5961,null,null,null,null,0,112]
[11,6058,11,6065,21,6076,null,null,null,null,0,112]
[11,6189,22,6207,23,6219,null,null,null,null,0,122]
[11,6312,11,6316,21,6333,null,null,null,null,0,112]
[11,6518,22,6528,23,6536,null,null,null,null,0,122]
[11,6631,22,6642,23,6650,null,null,null,null,0,122]
[11,6749,22,6761,23,6771,null,null,null,null,0,122]
[11,6876,22,6886,23,6894,null,null,null,null,0,122]
[22,6993,24,6998,23,7002,null,null,null,null,0,222]
[11,7100,22,7113,23,7124,null,null,null,null,0,122]
[22,7225,24,7235,23,7245,null,null,null,null,0,222]
[11,7344,11,7349,21,7360,null,null,null,null,0,112]
[11,7468,22,7478,23,7486,null,null,null,null,0,122]
[11,7580,11,7584,21,7595,null,null,null,null,0,112]
[11,7729,22,7740,23,7747,null,null,null,null,0,122]
[11,7843,22,7865,23,7877,null,null,null,null,0,122]
[11,7972,11,7976,21,7986,null,null,null,null,0,112]
[11,8128,22,8138,23,8147,null,null,null,null,0,122]
[11,8241,11,8246,12,8251,null,null,null,null,0,111]
[11,8346,22,8356,23,8367,null,null,null,null,0,122]
[11,8468,11,8473,12,8477,null,null,null,null,0,111]
[11,8576,22,8585,23,8591,null,null,null,null,0,122]
[11,8684,11,8688,21,8701,null,null,null,null,0,112]
[11,8823,11,8827,21,8837,null,null,null,null,0,112]
[11,8936,22,8945,23,8958,null,null,null,null,0,122]
[11,9053,11,9061,12,9065,null,null,null,null,0,111]
[11,9160,22,9174,23,9180,null,null,null,null,0,122]
[11,9276,11,9283,21,9291,null,null,null,null,0,112]
[11,9412,22,9421,23,9430,null,null,null,null,0,122]
[11,9522,11,9527,21,9548,null,null,null,null,0,112]
[11,9648,22,9662,23,9673,null,null,null,null,0,122]
[11,9768,11,9773,12,9778,null,null,null,null,0,111]
[11,9875,11,9882,21,9892,null,null,null,null,0,112]
[11,10030,22,10038,23,10049,null,null,null,null,0,122]
[11,10144,11,10149,21,10176,null,null,null,null,0,112]
[11,10301,22,10310,23,10318,null,null,null,null,0,122]
[11,10413,22,10440,23,10454,null,null,null,null,0,122]
[11,10546,22,10562,23,10572,null,null,null,null,0,122]
[11,10667,11,10671,21,10706,null,null,null,null,0,112]
[11,10798,22,10811,23,10832,null,null,null,null,0,122]
[11,10927,11,10934,21,10946,null,null,null,null,0,112]
[11,11055,22,11064,23,11070,null,null,null,null,0,122]
[11,11166,22,11178,23,11189,null,null,null,null,0,122]
[11,11283,22,11293,23,11300,null,null,null,null,0,122]
[11,11396,22,11405,23,11415,null,null,null,null,0,122]
[11,11510,11,11516,21,11526,null,null,null,null,0,112]
[11,11638,22,11652,23,11663,null,null,null,null,0,122]
[11,11756,11,11758,12,11764,null,null,null,null,0,111]
[11,11862,22,11878,23,11883,null,null,null,null,0,122]
[11,11978,11,11984,21,11993,null,null,null,null,0,112]
[11,12092,22,12145,23,12157,null,null,null,null,0,122]
[11,12257,22,12281,23,12301,null,null,null,null,0,122]
[11,12393,11,12397,21,12407,null,null,null,null,0,112]
[11,12624,22,12642,23,12653,null,null,null,null,0,122]
[22,12763,24,12772,23,12795,null,null,null,null,0,222]
[11,12890,22,12902,23,12912,null,null,null,null,0,122]
[11,13007,11,13011,12,13016,null,null,null,null,0,111]
[11,13111,22,13121,23,13127,null,null,null,null,0,122]
[11,13219,11,13223,21,13234,null,null,null,null,0,112]
[11,13388,11,13394,21,13410,null,null,null,null,0,112]
[11,13547,22,13557,23,13563,null,null,null,null,0,122]
[11,13659,11,13664,21,13685,null,null,null,null,0,112]
[11,13778,22,13810,23,13824,null,null,null,null,0,122]
[11,13916,11,13921,21,13931,null,null,null,null,0,112]
[11,14055,22,14076,23,14091,null,null,null,null,0,122]
[11,14187,11,14190,21,14203,null,null,null,null,0,112]
[11,14316,22,14329,14,14345,null,null,null,null,0,121]
[11,14441,11,14445,21,14462,null,null,null,null,0,112]
[11,14597,11,14601,21,14609,null,null,null,null,0,112]
[11,14714,22,14725,23,14752,null,null,null,null,0,122]
[11,14848,11,14853,21,14862,null,null,null,null,0,112]
[11,14964,11,14969,21,14994,null,null,null,null,0,112]
[11,15131,22,15141,23,15149,null,null,null,null,0,122]
[11,15250,22,15287,23,15300,null,null,null,null,0,122]
[11,15393,11,15399,21,15409,null,null,null,null,0,112]
[11,15521,22,15536,23,15544,null,null,null,null,0,122]
[11,15640,22,15666,23,15676,null,null,null,null,0,122]
[11,15772,11,15774,21,15784,null,null,null,null,0,112]
[11,15875,11,15882,21,15911,null,null,null,null,1,112]

{"sheet":"!MB19A3I.sha","index":14,"n_rows":121,"n_cols":48,"rows_kept":121,"cut":false,"hidden":false,"merged":[[4,39,4,42],[5,39,5,40],[4,44,4,47],[5,44,5,45],[4,24,4,27],[5,24,5,25],[4,29,4,32],[5,29,5,30],[4,34,4,37],[5,34,5,35],[1,1,1,2],[5,13,5,14],[18,13,18,14],[19,13,19,14],[4,19,4,22],[5,19,5,20]]}
["Report for:!MB19A3I.sha"]
["Date:","<date>"]
["Hen:","<hen>",null,null,null,"Correct Sequence",{"$f":"Start!J2","v":112},null,null,null,null,null,null,null,null,"Total Sequences in Data",{"$f":"4994-COUNTBLANK(L7:L5000)","v":115},null,null,null,null,"Total Sequences in Block Data",{"$f":"COUNTA(L7:L25)","v":19},null,null,null,"Total Sequences in Block Data",{"$f":"COUNTA(L26:L44)","v":19},null,null,null,"Total Sequences in Block Data",{"$f":"COUNTA(L45:L64)","v":20},null,null,null,"Total Sequences in Block Data",{"$f":"COUNTA(L65:L83)","v":19},null,null,null,"Total Sequences in Block Data",{"$f":"COUNTA(L84:L102)","v":19},null,null,null,"Total Sequences in Block Data",{"$f":"COUNTA(L103:L121)","v":19}]
[null,null,null,null,null,null,null,null,null,null,null,null,null,null,null,"Total Sequences in Summary",{"$f":"SUM(O7:O14)","v":115},null,null,null,null,"Total Sequences in Block Summary",{"$f":"SUM(U7:U14)","v":19},null,null,null,"Total Sequences in Block Summary",{"$f":"SUM(Z7:Z14)","v":19},null,null,null,"Total Sequences in Block Summary",{"$f":"SUM(AE7:AE14)","v":20},null,null,null,"Total Sequences in Block Summary",{"$f":"SUM(AJ7:AJ14)","v":19},null,null,null,"Total Sequences in Block Summary",{"$f":"SUM(AO7:AO14)","v":19},null,null,null,"Total Sequences in Block Summary",{"$f":"SUM(AT7:AT14)","v":19}]
[null,null,null,null,null,null,null,null,null,null,null,null,null,null,null,null,null,null,null,"Block 1",null,null,null,null,"Block 2",null,null,null,null,"Block 3",null,null,null,null,"Block 4",null,null,null,null,"Block 5",null,null,null,null,"Block 6"]
["Sequence\nComponent\n1","Time\n1","Sequence\nComponent\n2","Time\n2","Sequence\nComponent\n3","Time\n3","Sequence\nComponent\n4","Time\n4","Sequence\nComponent\n5","Time\n5","Correct?\n0=No 1=Yes","Sequence",null,"Frequency",null,"Relative Frequency","Variability",null,null,"Frequency",null,"Relative Frequency","Variability",null,"Frequency",null,"Relative Frequency","Variability",null,"Frequency",null,"Relative Frequency","Variability",null,"Frequency",null,"Relative Frequency","Variability",null,"Frequency",null,"Relative Frequency","Variability",null,"Frequency",null,"Relative Frequency","Variability"]
[22,159,24,164,23,174,null,null,null,null,0,222,null,111,{"$f":"COUNTIF($L$7:$L$500,N7)","v":12},{"$f":"O7/$Q$4","v":0.10434782608695652},{"$f":"IF(P7=0,0,(P7*((LOG(P7))/LOG(2))))","v":-0.34022896176242284},null,null,{"$f":"N7","v":111},{"$f":"COUNTIF(L7:L25,T7)","v":0},{"$f":"U7/(W4-U8)","v":0},{"$f":"IF(V7=0,0,(V7*((LOG(V7))/LOG(2))))","v":0},null,{"$f":"N7","v":111},{"$f":"COUNTIF(L26:L44,Y7)","v":0},{"$f":"Z7/(AB4-Z8)","v":0},{"$f":"IF(AA7=0,0,(AA7*((LOG(AA7))/LOG(2))))","v":0},null,{"$f":"N7","v":111},{"$f":"COUNTIF(L45:L64,AD7)","v":1},{"$f":"AE7/(AG4-AE8)","v":6.6666666666666666E-2},{"$f":"IF(AF7=0,0,(AF7*((LOG(AF7))/LOG(2))))","v":-0.26045937304056793},null,{"$f":"N7","v":111},{"$f":"COUNTIF(L65:L83,AI7)","v":6},{"$f":"AJ7/(AL4-AJ8)","v":0.5},{"$f":"IF(AK7=0,0,(AK7*((LOG(AK7))/LOG(2))))","v":-0.5},null,{"$f":"N7","v":111},{"$f":"COUNTIF(L84:L102,AN7)","v":3},{"$f":"AO7/(AQ4-AO8)","v":0.25},{"$f":"IF(AP7=0,0,(AP7*((LOG(AP7))/LOG(2))))","v":-0.5},null,{"$f":"N7","v":111},{"$f":"COUNTIF(L103:L121,AS7)","v":2},{"$f":"AT7/(AV4-AT8)","v":0.18181818181818182},{"$f":"IF(AU7=0,0,(AU7*((LOG(AU7))/LOG(2))))","v":-0.44716938520678134}]
[22,279,24,284,23,290,null,null,null,null,0,222,null,112,{"$f":"COUNTIF($L$7:$L$500,N8)","v":40},{"$f":"O8/$Q$4","v":0.34782608695652173},{"$f":"IF(P8=0,0,(P8*((LOG(P8))/LOG(2))))","v":-0.52993459341113491},null,null,{"$f":"N8","v":112},{"$f":"COUNTIF(L7:L25,T8)","v":2},null,null,null,{"$f":"N8","v":112},{"$f":"COUNTIF(L26:L44,Y8)","v":11},null,null,null,{"$f":"N8","v":112},{"$f":"COUNTIF(L45:L64,AD8)","v":5},null,null,null,{"$f":"N8","v":112},{"$f":"COUNTIF(L65:L83,AI8)","v":7},null,null,null,{"$f":"N8","v":112},{"$f":"COUNTIF(L84:L102,AN8)","v":7},null,null,null,{"$f":"N8","v":112},{"$f":"COUNTIF(L103:L121,AS8)","v":8}]
[11,383,11,387,21,398,null,null,null,null,0,112,null,121,{"$f":"COUNTIF($L$7:$L$500,N9)","v":2},{"$f":"O9/$Q$4","v":1.7391304347826087E-2},{"$f":"IF(P9=0,0,(P9*((LOG(P9))/LOG(2))))","v":-0.10166069653816305},null,null,{"$f":"N9","v":121},{"$f":"COUNTIF(L7:L25,T9)","v":0},{"$f":"U9/(W4-U8)","v":0},{"$f":"IF(V9=0,0,(V9*((LOG(V9))/LOG(2))))","v":0},null,{"$f":"N9","v":121},{"$f":"COUNTIF(L26:L44,Y9)","v":0},{"$f":"Z9/(AB4-Z8)","v":0},{"$f":"IF(AA9=0,0,(AA9*((LOG(AA9))/LOG(2))))","v":0},null,{"$f":"N9","v":121},{"$f":"COUNTIF(L45:L64,AD9)","v":1},{"$f":"AE9/(AG4-AE8)","v":6.6666666666666666E-2},{"$f":"IF(AF9=0,0,(AF9*((LOG(AF9))/LOG(2))))","v":-0.26045937304056793},null,{"$f":"N9","v":121},{"$f":"COUNTIF(L65:L83,AI9)","v":1},{"$f":"AJ9/(AL4-AJ8)","v":8.3333333333333329E-2},{"$f":"IF(AK9=0,0,(AK9*((LOG(AK9))/LOG(2))))","v":-0.29874687506009634},null,{"$f":"N9","v":121},{"$f":"COUNTIF(L84:L102,AN9)","v":0},{"$f":"AO9/(AQ4-AO8)","v":0},{"$f":"IF(AP9=0,0,(AP9*((LOG(AP9))/LOG(2))))","v":0},null,{"$f":"N9","v":121},{"$f":"COUNTIF(L103:L121,AS9)","v":0},{"$f":"AT9/(AV4-AT8)","v":0},{"$f":"IF(AU9=0,0,(AU9*((LOG(AU9))/LOG(2))))","v":0}]
[22,570,24,574,23,580,null,null,null,null,0,222,null,122,{"$f":"COUNTIF($L$7:$L$500,N10)","v":44},{"$f":"O10/$Q$4","v":0.38260869565217392},{"$f":"IF(P10=0,0,(P10*((LOG(P10))/LOG(2))))","v":-0.53031800888270808},null,null,{"$f":"N10","v":122},{"$f":"COUNTIF(L7:L25,T10)","v":7},{"$f":"U10/(W4-U8)","v":0.41176470588235292},{"$f":"IF(V10=0,0,(V10*((LOG(V10))/LOG(2))))","v":-0.52710326084406744},null,{"$f":"N10","v":122},{"$f":"COUNTIF(L26:L44,Y10)","v":7},{"$f":"Z10/(AB4-Z8)","v":0.875},{"$f":"IF(AA10=0,0,(AA10*((LOG(AA10))/LOG(2))))","v":-0.1685644431995964},null,{"$f":"N10","v":122},{"$f":"COUNTIF(L45:L64,AD10)","v":11},{"$f":"AE10/(AG4-AE8)","v":0.73333333333333328},{"$f":"IF(AF10=0,0,(AF10*((LOG(AF10))/LOG(2))))","v":-0.32813658311222899},null,{"$f":"N10","v":122},{"$f":"COUNTIF(L65:L83,AI10)","v":4},{"$f":"AJ10/(AL4-AJ8)","v":0.33333333333333331},{"$f":"IF(AK10=0,0,(AK10*((LOG(AK10))/LOG(2))))","v":-0.52832083357371862},null,{"$f":"N10","v":122},{"$f":"COUNTIF(L84:L102,AN10)","v":6},{"$f":"AO10/(AQ4-AO8)","v":0.5},{"$f":"IF(AP10=0,0,(AP10*((LOG(AP10))/LOG(2))))","v":-0.5},null,{"$f":"N10","v":122},{"$f":"COUNTIF(L103:L121,AS10)","v":9},{"$f":"AT10/(AV4-AT8)","v":0.81818181818181823},{"$f":"IF(AU10=0,0,(AU10*((LOG(AU10))/LOG(2))))","v":-0.23686905043226034}]
[22,687,24,695,23,702,null,null,null,null,0,222,null,211,{"$f":"COUNTIF($L$7:$L$500,N11)","v":0},{"$f":"O11/$Q$4","v":0},{"$f":"IF(P11=0,0,(P11*((LOG(P11))/LOG(2))))","v":0},null,null,{"$f":"N11","v":211},{"$f":"COUNTIF(L7:L25,T11)","v":0},{"$f":"U11/(W4-U8)","v":0},{"$f":"IF(V11=0,0,(V11*((LOG(V11))/LOG(2))))","v":0},null,{"$f":"N11","v":211},{"$f":"COUNTIF(L26:L44,Y11)","v":0},{"$f":"Z11/(AB4-Z8)","v":0},{"$f":"IF(AA11=0,0,(AA11*((LOG(AA11))/LOG(2))))","v":0},null,{"$f":"N11","v":211},{"$f":"COUNTIF(L45:L64,AD11)","v":0},{"$f":"AE11/(AG4-AE8)","v":0},{"$f":"IF(AF11=0,0,(AF11*((LOG(AF11))/LOG(2))))","v":0},null,{"$f":"N11","v":211},{"$f":"COUNTIF(L65:L83,AI11)","v":0},{"$f":"AJ11/(AL4-AJ8)","v":0},{"$f":"IF(AK11=0,0,(AK11*((LOG(AK11))/LOG(2))))","v":0},null,{"$f":"N11","v":211},{"$f":"COUNTIF(L84:L102,AN11)","v":0},{"$f":"AO11/(AQ4-AO8)","v":0},{"$f":"IF(AP11=0,0,(AP11*((LOG(AP11))/LOG(2))))","v":0},null,{"$f":"N11","v":211},{"$f":"COUNTIF(L103:L121,AS11)","v":0},{"$f":"AT11/(AV4-AT8)","v":0},{"$f":"IF(AU11=0,0,(AU11*((LOG(AU11))/LOG(2))))","v":0}]
[11,797,11,801,21,817,null,null,null,null,0,112,null,212,{"$f":"COUNTIF($L$7:$L$500,N12)","v":0},{"$f":"O12/$Q$4","v":0},{"$f":"IF(P12=0,0,(P12*((LOG(P12))/LOG(2))))","v":0},null,null,{"$f":"N12","v":212},{"$f":"COUNTIF(L7:L25,T12)","v":0},{"$f":"U12/(W4-U8)","v":0},{"$f":"IF(V12=0,0,(V12*((LOG(V12))/LOG(2))))","v":0},null,{"$f":"N12","v":212},{"$f":"COUNTIF(L26:L44,Y12)","v":0},{"$f":"Z12/(AB4-Z8)","v":0},{"$f":"IF(AA12=0,0,(AA12*((LOG(AA12))/LOG(2))))","v":0},null,{"$f":"N12","v":212},{"$f":"COUNTIF(L45:L64,AD12)","v":0},{"$f":"AE12/(AG4-AE8)","v":0},{"$f":"IF(AF12=0,0,(AF12*((LOG(AF12))/LOG(2))))","v":0},null,{"$f":"N12","v":212},{"$f":"COUNTIF(L65:L83,AI12)","v":0},{"$f":"AJ12/(AL4-AJ8)","v":0},{"$f":"IF(AK12=0,0,(AK12*((LOG(AK12))/LOG(2))))","v":0},null,{"$f":"N12","v":212},{"$f":"COUNTIF(L84:L102,AN12)","v":0},{"$f":"AO12/(AQ4-AO8)","v":0},{"$f":"IF(AP12=0,0,(AP12*((LOG(AP12))/LOG(2))))","v":0},null,{"$f":"N12","v":212},{"$f":"COUNTIF(L103:L121,AS12)","v":0},{"$f":"AT12/(AV4-AT8)","v":0},{"$f":"IF(AU12=0,0,(AU12*((LOG(AU12))/LOG(2))))","v":0}]
[22,997,24,1002,23,1009,null,null,null,null,0,222,null,221,{"$f":"COUNTIF($L$7:$L$500,N13)","v":0},{"$f":"O13/$Q$4","v":0},{"$f":"IF(P13=0,0,(P13*((LOG(P13))/LOG(2))))","v":0},null,null,{"$f":"N13","v":221},{"$f":"COUNTIF(L7:L25,T13)","v":0},{"$f":"U13/(W4-U8)","v":0},{"$f":"IF(V13=0,0,(V13*((LOG(V13))/LOG(2))))","v":0},null,{"$f":"N13","v":221},{"$f":"COUNTIF(L26:L44,Y13)","v":0},{"$f":"Z13/(AB4-Z8)","v":0},{"$f":"IF(AA13=0,0,(AA13*((LOG(AA13))/LOG(2))))","v":0},null,{"$f":"N13","v":221},{"$f":"COUNTIF(L45:L64,AD13)","v":0},{"$f":"AE13/(AG4-AE8)","v":0},{"$f":"IF(AF13=0,0,(AF13*((LOG(AF13))/LOG(2))))","v":0},null,{"$f":"N13","v":221},{"$f":"COUNTIF(L65:L83,AI13)","v":0},{"$f":"AJ13/(AL4-AJ8)","v":0},{"$f":"IF(AK13=0,0,(AK13*((LOG(AK13))/LOG(2))))","v":0},null,{"$f":"N13","v":221},{"$f":"COUNTIF(L84:L102,AN13)","v":0},{"$f":"AO13/(AQ4-AO8)","v":0},{"$f":"IF(AP13=0,0,(AP13*((LOG(AP13))/LOG(2))))","v":0},null,{"$f":"N13","v":221},{"$f":"COUNTIF(L103:L121,AS13)","v":0},{"$f":"AT13/(AV4-AT8)","v":0},{"$f":"IF(AU13=0,0,(AU13*((LOG(AU13))/LOG(2))))","v":0}]
[22,1110,24,1114,23,1119,null,null,null,null,0,222,null,222,{"$f":"COUNTIF($L$7:$L$500,N14)","v":17},{"$f":"O14/$Q$4","v":0.14782608695652175},{"$f":"IF(P14=0,0,(P14*((LOG(P14))/LOG(2))))","v":-0.40770837012868355},null,null,{"$f":"N14","v":222},{"$f":"COUNTIF(L7:L25,T14)","v":10},{"$f":"U14/(W4-U8)","v":0.58823529411764708},{"$f":"IF(V14=0,0,(V14*((LOG(V14))/LOG(2))))","v":-0.45031455668410414},null,{"$f":"N14","v":222},{"$f":"COUNTIF(L26:L44,Y14)","v":1},{"$f":"Z14/(AB4-Z8)","v":0.125},{"$f":"IF(AA14=0,0,(AA14*((LOG(AA14))/LOG(2))))","v":-0.375},null,{"$f":"N14","v":222},{"$f":"COUNTIF(L45:L64,AD14)","v":2},{"$f":"AE14/(AG4-AE8)","v":0.13333333333333333},{"$f":"IF(AF14=0,0,(AF14*((LOG(AF14))/LOG(2))))","v":-0.3875854127478025},null,{"$f":"N14","v":222},{"$f":"COUNTIF(L65:L83,AI14)","v":1},{"$f":"AJ14/(AL4-AJ8)","v":8.3333333333333329E-2},{"$f":"IF(AK14=0,0,(AK14*((LOG(AK14))/LOG(2))))","v":-0.29874687506009634},null,{"$f":"N14","v":222},{"$f":"COUNTIF(L84:L102,AN14)","v":3},{"$f":"AO14/(AQ4-AO8)","v":0.25},{"$f":"IF(AP14=0,0,(AP14*((LOG(AP14))/LOG(2))))","v":-0.5},null,{"$f":"N14","v":222},{"$f":"COUNTIF(L103:L121,AS14)","v":0},{"$f":"AT14/(AV4-AT8)","v":0},{"$f":"IF(AU14=0,0,(AU14*((LOG(AU14))/LOG(2))))","v":0}]
[22,1225,24,1230,23,1285,null,null,null,null,0,222,null,null,null,{"$f":"SUM(P7:P14)","v":1},{"$f":"-SUM(Q7:Q14)","v":1.9098506307231125},null,null,null,null,{"$f":"SUM(V7:V14)","v":1},{"$f":"-SUM(W7:W14)","v":0.97741781752817158},null,null,null,{"$f":"SUM(AA7:AA14)","v":1},{"$f":"-SUM(AB7:AB14)","v":0.5435644431995964},null,null,null,{"$f":"SUM(AF7:AF14)","v":0.99999999999999989},{"$f":"-SUM(AG7:AG14)","v":1.2366407419411674},null,null,null,{"$f":"SUM(AK7:AK14)","v":1},{"$f":"-SUM(AL7:AL14)","v":1.6258145836939113},null,null,null,{"$f":"SUM(AP7:AP14)","v":1},{"$f":"-SUM(AQ7:AQ14)","v":1.5},null,null,null,{"$f":"SUM(AU7:AU14)","v":1},{"$f":"-SUM(AV7:AV14)","v":0.68403843563904165}]
[11,1381,22,1389,23,1395,null,null,null,null,0,122,null,null,null,"U=",{"$f":"Q15/(LOG(Q4)/LOG(2))","v":0.27899399699801436},null,null,null,null,"U1=",{"$f":"W15/(LOG(W4)/LOG(2))","v":0.23009286632949799},null,null,null,"U2=",{"$f":"AB15/(LOG(AB4)/LOG(2))","v":0.12795991491835876},null,null,null,"U3=",{"$f":"AG15/(LOG(AG4)/LOG(2))","v":0.28613172519090613},null,null,null,"U4=",{"$f":"AL15/(LOG(AL4)/LOG(2))","v":0.38273124448301699},null,null,null,"U5=",{"$f":"AQ15/(LOG(AQ4)/LOG(2))","v":0.35311337004995735},null,null,null,"U6=",{"$f":"AV15/(LOG(AV4)/LOG(2))","v":0.16102874483480192}]
[11,1489,22,1502,23,1511,null,null,null,null,0,122]
[11,1605,22,1616,23,1622,null,null,null,null,0,122]
[22,1752,24,1776,23,1783,null,null,null,null,0,222,null,"Total Target Seq"]
[22,1884,24,1888,23,1895,null,null,null,null,0,222,null,{"$f":"COUNTIF(L7:L121,G3)","v":40},null,19,19,20,19,19,19]
[11,1987,22,2001,23,2010,null,null,null,null,0,122,null,null,null,"% of reinforcement given in 6 equal intervals based on number of trials "]
[22,2115,24,2122,23,2130,null,null,null,null,0,222,null,null,null,"%_1","%_2","%_3","%_4","%_5","%_6"]
[11,2228,22,2238,23,2243,null,null,null,null,0,122,null,null,"target sequence",{"$f":"$G$3","v":112},{"$f":"$G$3","v":112},{"$f":"$G$3","v":112},{"$f":"$G$3","v":112},{"$f":"$G$3","v":112},{"$f":"$G$3","v":112}]
[11,2342,22,2364,23,2371,null,null,null,null,0,122,null,null,"total reinforcement",{"$f":"U8","v":2},{"$f":"Z8","v":11},{"$f":"AE8","v":5},{"$f":"AJ8","v":7},{"$f":"AO8","v":7},{"$f":"AT8","v":8}]
[11,2465,22,2478,23,2482,null,null,null,null,0,122,null,null,"% target"]
[11,2578,11,2584,21,2594,null,null,null,null,0,112,null,null,"CCRF"]
[11,2756,11,2760,21,2776,null,null,null,null,0,112,null,null,"% CCRf"]
[22,2931,24,2934,23,2941,null,null,null,null,0,222,null,null,"average response rate",{"$f":"F25/P20","v":130.63157894736841},{"$f":"(F44-F25)/Q20","v":135.15789473684211},{"$f":"(F64-F44)/R20","v":136.25},{"$f":"(F83-F64)/S20","v":117.68421052631579},{"$f":"(F102-F83)/T20","v":135.47368421052633},{"$f":"(F121-F102)/U20","v":133.10526315789474}]
[11,3036,11,3046,21,3064,null,null,null,null,0,112]
[11,3207,11,3214,21,3224,null,null,null,null,0,112]
[11,3377,22,3391,23,3398,null,null,null,null,0,122]
[11,3493,22,3510,23,3519,null,null,null,null,0,122]
[11,3619,22,3632,23,3639,null,null,null,null,0,122]
[11,3731,11,3737,21,3766,null,null,null,null,0,112]
[11,3857,11,3861,21,3872,null,null,null,null,0,112]
[11,4031,11,4038,21,4052,null,null,null,null,0,112]
[11,4166,22,4182,23,4193,null,null,null,null,0,122]
[11,4289,22,4300,23,4311,null,null,null,null,0,122]
[11,4408,11,4413,21,4423,null,null,null,null,0,112]
[11,4515,11,4519,21,4534,null,null,null,null,0,112]
[11,4645,22,4654,23,4665,null,null,null,null,0,122]
[11,4760,22,4794,23,4809,null,null,null,null,0,122]
[11,4904,11,4909,21,4921,null,null,null,null,0,112]
[11,5015,11,5020,21,5050,null,null,null,null,0,112]
[11,5181,22,5197,23,5211,null,null,null,null,0,122]
[11,5305,22,5315,23,5322,null,null,null,null,0,122]
[11,5420,22,5428,23,5438,null,null,null,null,0,122]
[22,5590,24,5598,23,5609,null,null,null,null,0,222]
[11,5703,22,5716,23,5726,null,null,null,null,0,122]
[11,5826,11,5831,12,5840,null,null,null,null,0,111]
[11,5932,22,5942,23,5952,null,null,null,null,0,122]
[11,6046,11,6049,21,6058,null,null,null,null,0,112]
[11,6199,22,6226,23,6244,null,null,null,null,0,122]
[11,6339,22,6357,23,6369,null,null,null,null,0,122]
[11,6464,11,6467,21,6477,null,null,null,null,0,112]
[11,6574,11,6578,21,6614,null,null,null,null,0,112]
[11,6713,11,6722,21,6736,null,null,null,null,0,112]
[11,6869,22,6884,23,6888,null,null,null,null,0,122]
[11,6984,22,6993,14,7094,null,null,null,null,0,121]
[22,7236,24,7256,23,7267,null,null,null,null,0,222]
[11,7361,11,7366,21,7384,null,null,null,null,0,112]
[11,7489,22,7516,23,7531,null,null,null,null,0,122]
[11,7626,22,7651,23,7663,null,null,null,null,0,122]
[11,7759,22,7769,23,7775,null,null,null,null,0,122]
[11,7867,11,7872,21,7882,null,null,null,null,0,112]
[11,7972,11,7975,21,7988,null,null,null,null,0,112]
[11,8118,22,8131,23,8141,null,null,null,null,0,122]
[11,8237,11,8242,12,8248,null,null,null,null,0,111]
[11,8341,22,8351,23,8363,null,null,null,null,0,122]
[11,8457,11,8463,12,8467,null,null,null,null,0,111]
[11,8562,22,8572,23,8579,null,null,null,null,0,122]
[11,8675,11,8680,12,8686,null,null,null,null,0,111]
[11,8778,11,8782,21,8804,null,null,null,null,0,112]
[11,8895,11,8898,21,8926,null,null,null,null,0,112]
[11,9039,11,9044,21,9075,null,null,null,null,0,112]
[11,9210,11,9217,12,9223,null,null,null,null,0,111]
[11,9319,22,9331,23,9344,null,null,null,null,0,122]
[11,9440,11,9444,21,9454,null,null,null,null,0,112]
[11,9545,11,9551,12,9558,null,null,null,null,0,111]
[11,9653,11,9659,21,9669,null,null,null,null,0,112]
[11,9763,11,9766,12,9772,null,null,null,null,0,111]
[22,9876,24,9883,23,9892,null,null,null,null,0,222]
[11,9989,22,10000,14,10011,null,null,null,null,0,121]
[11,10124,11,10130,21,10139,null,null,null,null,0,112]
[11,10279,11,10282,12,10286,null,null,null,null,0,111]
[22,10389,24,10396,23,10454,null,null,null,null,0,222]
[11,10549,22,10563,23,10573,null,null,null,null,0,122]
[11,10664,11,10671,12,10677,null,null,null,null,0,111]
[11,10770,11,10772,12,10777,null,null,null,null,0,111]
[11,10869,11,10874,21,10885,null,null,null,null,0,112]
[11,10994,11,10997,21,11016,null,null,null,null,0,112]
[11,11166,11,11174,21,11205,null,null,null,null,0,112]
[22,11377,24,11384,23,11395,null,null,null,null,0,222]
[11,11491,22,11501,23,11510,null,null,null,null,0,122]
[11,11655,11,11661,21,11685,null,null,null,null,0,112]
[22,11861,24,11873,23,11882,null,null,null,null,0,222]
[11,11981,22,12007,23,12021,null,null,null,null,0,122]
[11,12117,22,12133,23,12142,null,null,null,null,0,122]
[11,12238,22,12248,23,12255,null,null,null,null,0,122]
[11,12349,22,12359,23,12366,null,null,null,null,0,122]
[11,12460,11,12465,21,12475,null,null,null,null,0,112]
[11,12567,11,12572,21,12585,null,null,null,null,0,112]
[11,12701,11,12707,21,12724,null,null,null,null,0,112]
[11,12823,22,12837,23,12846,null,null,null,null,0,122]
[11,12938,11,12942,21,12956,null,null,null,null,0,112]
[11,13066,11,13073,12,13121,null,null,null,null,0,111]
[11,13217,22,13227,23,13234,null,null,null,null,0,122]
[11,13326,22,13343,23,13350,null,null,null,null,0,122]
[11,13445,11,13451,12,13458,null,null,null,null,0,111]
[11,13562,22,13574,23,13582,null,null,null,null,0,122]
[11,13684,22,13697,23,13703,null,null,null,null,0,122]
[11,13798,22,13808,23,13814,null,null,null,null,0,122]
[11,13907,11,13915,21,13949,null,null,null,null,0,112]
[11,14089,22,14108,23,14120,null,null,null,null,0,122]
[11,14215,11,14220,21,14236,null,null,null,null,0,112]
[11,14360,22,14373,23,14381,null,null,null,null,0,122]
[11,14476,11,14483,21,14504,null,null,null,null,0,112]
[11,14623,11,14628,21,14645,null,null,null,null,0,112]
[11,14773,11,14779,21,14793,null,null,null,null,0,112]
[11,14936,22,14966,23,14984,null,null,null,null,0,122]
[11,15078,11,15084,21,15114,null,null,null,null,1,112]

{"sheet":"!MB2091I.sha","index":15,"n_rows":123,"n_cols":48,"rows_kept":123,"cut":false,"hidden":false,"merged":[[4,39,4,42],[5,39,5,40],[4,44,4,47],[5,44,5,45],[4,24,4,27],[5,24,5,25],[4,29,4,32],[5,29,5,30],[4,34,4,37],[5,34,5,35],[1,1,1,2],[5,13,5,14],[18,13,18,14],[19,13,19,14],[4,19,4,22],[5,19,5,20]]}
["Report for:!MB2091I.sha"]
["Date:","<date>"]
["Hen:","<hen>",null,null,null,"Correct Sequence",{"$f":"Start!J2","v":112},null,null,null,null,null,null,null,null,"Total Sequences in Data",{"$f":"4994-COUNTBLANK(L7:L5000)","v":117},null,null,null,null,"Total Sequences in Block Data",{"$f":"COUNTA(L7:L26)","v":20},null,null,null,"Total Sequences in Block Data",{"$f":"COUNTA(L27:L45)","v":19},null,null,null,"Total Sequences in Block Data",{"$f":"COUNTA(L46:L65)","v":20},null,null,null,"Total Sequences in Block Data",{"$f":"COUNTA(L66:L84)","v":19},null,null,null,"Total Sequences in Block Data",{"$f":"COUNTA(L85:L104)","v":20},null,null,null,"Total Sequences in Block Data",{"$f":"COUNTA(L105:L123)","v":19}]
[null,null,null,null,null,null,null,null,null,null,null,null,null,null,null,"Total Sequences in Summary",{"$f":"SUM(O7:O14)","v":117},null,null,null,null,"Total Sequences in Block Summary",{"$f":"SUM(U7:U14)","v":20},null,null,null,"Total Sequences in Block Summary",{"$f":"SUM(Z7:Z14)","v":19},null,null,null,"Total Sequences in Block Summary",{"$f":"SUM(AE7:AE14)","v":20},null,null,null,"Total Sequences in Block Summary",{"$f":"SUM(AJ7:AJ14)","v":19},null,null,null,"Total Sequences in Block Summary",{"$f":"SUM(AO7:AO14)","v":20},null,null,null,"Total Sequences in Block Summary",{"$f":"SUM(AT7:AT14)","v":19}]
[null,null,null,null,null,null,null,null,null,null,null,null,null,null,null,null,null,null,null,"Block 1",null,null,null,null,"Block 2",null,null,null,null,"Block 3",null,null,null,null,"Block 4",null,null,null,null,"Block 5",null,null,null,null,"Block 6"]
["Sequence\nComponent\n1","Time\n1","Sequence\nComponent\n2","Time\n2","Sequence\nComponent\n3","Time\n3","Sequence\nComponent\n4","Time\n4","Sequence\nComponent\n5","Time\n5","Correct?\n0=No 1=Yes","Sequence",null,"Frequency",null,"Relative Frequency","Variability",null,null,"Frequency",null,"Relative Frequency","Variability",null,"Frequency",null,"Relative Frequency","Variability",null,"Frequency",null,"Relative Frequency","Variability",null,"Frequency",null,"Relative Frequency","Variability",null,"Frequency",null,"Relative Frequency","Variability",null,"Frequency",null,"Relative Frequency","Variability"]
[22,24,24,30,23,50,null,null,null,null,0,222,null,111,{"$f":"COUNTIF($L$7:$L$500,N7)","v":10},{"$f":"O7/$Q$4","v":8.5470085470085472E-2},{"$f":"IF(P7=0,0,(P7*((LOG(P7))/LOG(2))))","v":-0.30328518159795231},null,null,{"$f":"N7","v":111},{"$f":"COUNTIF(L7:L26,T7)","v":2},{"$f":"U7/(W4-U8)","v":0.11764705882352941},{"$f":"IF(V7=0,0,(V7*((LOG(V7))/LOG(2))))","v":-0.36323092250003997},null,{"$f":"N7","v":111},{"$f":"COUNTIF(L27:L45,Y7)","v":1},{"$f":"Z7/(AB4-Z8)","v":0.1},{"$f":"IF(AA7=0,0,(AA7*((LOG(AA7))/LOG(2))))","v":-0.33219280948873625},null,{"$f":"N7","v":111},{"$f":"COUNTIF(L46:L65,AD7)","v":0},{"$f":"AE7/(AG4-AE8)","v":0},{"$f":"IF(AF7=0,0,(AF7*((LOG(AF7))/LOG(2))))","v":0},null,{"$f":"N7","v":111},{"$f":"COUNTIF(L66:L84,AI7)","v":2},{"$f":"AJ7/(AL4-AJ8)","v":0.16666666666666666},{"$f":"IF(AK7=0,0,(AK7*((LOG(AK7))/LOG(2))))","v":-0.43082708345352599},null,{"$f":"N7","v":111},{"$f":"COUNTIF(L85:L104,AN7)","v":3},{"$f":"AO7/(AQ4-AO8)","v":0.1875},{"$f":"IF(AP7=0,0,(AP7*((LOG(AP7))/LOG(2))))","v":-0.45281953111478312},null,{"$f":"N7","v":111},{"$f":"COUNTIF(L105:L123,AS7)","v":2},{"$f":"AT7/(AV4-AT8)","v":0.2857142857142857},{"$f":"IF(AU7=0,0,(AU7*((LOG(AU7))/LOG(2))))","v":-0.51638712058788683}]
[22,167,24,172,23,179,null,null,null,null,0,222,null,112,{"$f":"COUNTIF($L$7:$L$500,N8)","v":40},{"$f":"O8/$Q$4","v":0.34188034188034189},{"$f":"IF(P8=0,0,(P8*((LOG(P8))/LOG(2))))","v":-0.52938004263112548},null,null,{"$f":"N8","v":112},{"$f":"COUNTIF(L7:L26,T8)","v":3},null,null,null,{"$f":"N8","v":112},{"$f":"COUNTIF(L27:L45,Y8)","v":9},null,null,null,{"$f":"N8","v":112},{"$f":"COUNTIF(L46:L65,AD8)","v":5},null,null,null,{"$f":"N8","v":112},{"$f":"COUNTIF(L66:L84,AI8)","v":7},null,null,null,{"$f":"N8","v":112},{"$f":"COUNTIF(L85:L104,AN8)","v":4},null,null,null,{"$f":"N8","v":112},{"$f":"COUNTIF(L105:L123,AS8)","v":12}]
[11,271,22,289,23,296,null,null,null,null,0,122,null,121,{"$f":"COUNTIF($L$7:$L$500,N9)","v":3},{"$f":"O9/$Q$4","v":2.564102564102564E-2},{"$f":"IF(P9=0,0,(P9*((LOG(P9))/LOG(2))))","v":-0.13552313381698072},null,null,{"$f":"N9","v":121},{"$f":"COUNTIF(L7:L26,T9)","v":1},{"$f":"U9/(W4-U8)","v":5.8823529411764705E-2},{"$f":"IF(V9=0,0,(V9*((LOG(V9))/LOG(2))))","v":-0.24043899066178465},null,{"$f":"N9","v":121},{"$f":"COUNTIF(L27:L45,Y9)","v":0},{"$f":"Z9/(AB4-Z8)","v":0},{"$f":"IF(AA9=0,0,(AA9*((LOG(AA9))/LOG(2))))","v":0},null,{"$f":"N9","v":121},{"$f":"COUNTIF(L46:L65,AD9)","v":0},{"$f":"AE9/(AG4-AE8)","v":0},{"$f":"IF(AF9=0,0,(AF9*((LOG(AF9))/LOG(2))))","v":0},null,{"$f":"N9","v":121},{"$f":"COUNTIF(L66:L84,AI9)","v":0},{"$f":"AJ9/(AL4-AJ8)","v":0},{"$f":"IF(AK9=0,0,(AK9*((LOG(AK9))/LOG(2))))","v":0},null,{"$f":"N9","v":121},{"$f":"COUNTIF(L85:L104,AN9)","v":1},{"$f":"AO9/(AQ4-AO8)","v":6.25E-2},{"$f":"IF(AP9=0,0,(AP9*((LOG(AP9))/LOG(2))))","v":-0.25},null,{"$f":"N9","v":121},{"$f":"COUNTIF(L105:L123,AS9)","v":1},{"$f":"AT9/(AV4-AT8)","v":0.14285714285714285},{"$f":"IF(AU9=0,0,(AU9*((LOG(AU9))/LOG(2))))","v":-0.40105070315108626}]
[11,391,22,400,23,410,null,null,null,null,0,122,null,122,{"$f":"COUNTIF($L$7:$L$500,N10)","v":53},{"$f":"O10/$Q$4","v":0.45299145299145299},{"$f":"IF(P10=0,0,(P10*((LOG(P10))/LOG(2))))","v":-0.51751748757325544},null,null,{"$f":"N10","v":122},{"$f":"COUNTIF(L7:L26,T10)","v":9},{"$f":"U10/(W4-U8)","v":0.52941176470588236},{"$f":"IF(V10=0,0,(V10*((LOG(V10))/LOG(2))))","v":-0.48575532695719081},null,{"$f":"N10","v":122},{"$f":"COUNTIF(L27:L45,Y10)","v":9},{"$f":"Z10/(AB4-Z8)","v":0.9},{"$f":"IF(AA10=0,0,(AA10*((LOG(AA10))/LOG(2))))","v":-0.13680278410054494},null,{"$f":"N10","v":122},{"$f":"COUNTIF(L46:L65,AD10)","v":13},{"$f":"AE10/(AG4-AE8)","v":0.8666666666666667},{"$f":"IF(AF10=0,0,(AF10*((LOG(AF10))/LOG(2))))","v":-0.17892409380510282},null,{"$f":"N10","v":122},{"$f":"COUNTIF(L66:L84,AI10)","v":8},{"$f":"AJ10/(AL4-AJ8)","v":0.66666666666666663},{"$f":"IF(AK10=0,0,(AK10*((LOG(AK10))/LOG(2))))","v":-0.38997500048077083},null,{"$f":"N10","v":122},{"$f":"COUNTIF(L85:L104,AN10)","v":10},{"$f":"AO10/(AQ4-AO8)","v":0.625},{"$f":"IF(AP10=0,0,(AP10*((LOG(AP10))/LOG(2))))","v":-0.42379494069539858},null,{"$f":"N10","v":122},{"$f":"COUNTIF(L105:L123,AS10)","v":4},{"$f":"AT10/(AV4-AT8)","v":0.5714285714285714},{"$f":"IF(AU10=0,0,(AU10*((LOG(AU10))/LOG(2))))","v":-0.46134566974720237}]
[11,507,11,509,21,524,null,null,null,null,0,112,null,211,{"$f":"COUNTIF($L$7:$L$500,N11)","v":0},{"$f":"O11/$Q$4","v":0},{"$f":"IF(P11=0,0,(P11*((LOG(P11))/LOG(2))))","v":0},null,null,{"$f":"N11","v":211},{"$f":"COUNTIF(L7:L26,T11)","v":0},{"$f":"U11/(W4-U8)","v":0},{"$f":"IF(V11=0,0,(V11*((LOG(V11))/LOG(2))))","v":0},null,{"$f":"N11","v":211},{"$f":"COUNTIF(L27:L45,Y11)","v":0},{"$f":"Z11/(AB4-Z8)","v":0},{"$f":"IF(AA11=0,0,(AA11*((LOG(AA11))/LOG(2))))","v":0},null,{"$f":"N11","v":211},{"$f":"COUNTIF(L46:L65,AD11)","v":0},{"$f":"AE11/(AG4-AE8)","v":0},{"$f":"IF(AF11=0,0,(AF11*((LOG(AF11))/LOG(2))))","v":0},null,{"$f":"N11","v":211},{"$f":"COUNTIF(L66:L84,AI11)","v":0},{"$f":"AJ11/(AL4-AJ8)","v":0},{"$f":"IF(AK11=0,0,(AK11*((LOG(AK11))/LOG(2))))","v":0},null,{"$f":"N11","v":211},{"$f":"COUNTIF(L85:L104,AN11)","v":0},{"$f":"AO11/(AQ4-AO8)","v":0},{"$f":"IF(AP11=0,0,(AP11*((LOG(AP11))/LOG(2))))","v":0},null,{"$f":"N11","v":211},{"$f":"COUNTIF(L105:L123,AS11)","v":0},{"$f":"AT11/(AV4-AT8)","v":0},{"$f":"IF(AU11=0,0,(AU11*((LOG(AU11))/LOG(2))))","v":0}]
[11,689,22,703,14,720,null,null,null,null,0,121,null,212,{"$f":"COUNTIF($L$7:$L$500,N12)","v":1},{"$f":"O12/$Q$4","v":8.5470085470085479E-3},{"$f":"IF(P12=0,0,(P12*((LOG(P12))/LOG(2))))","v":-5.8721065979345344E-2},null,null,{"$f":"N12","v":212},{"$f":"COUNTIF(L7:L26,T12)","v":1},{"$f":"U12/(W4-U8)","v":5.8823529411764705E-2},{"$f":"IF(V12=0,0,(V12*((LOG(V12))/LOG(2))))","v":-0.24043899066178465},null,{"$f":"N12","v":212},{"$f":"COUNTIF(L27:L45,Y12)","v":0},{"$f":"Z12/(AB4-Z8)","v":0},{"$f":"IF(AA12=0,0,(AA12*((LOG(AA12))/LOG(2))))","v":0},null,{"$f":"N12","v":212},{"$f":"COUNTIF(L46:L65,AD12)","v":0},{"$f":"AE12/(AG4-AE8)","v":0},{"$f":"IF(AF12=0,0,(AF12*((LOG(AF12))/LOG(2))))","v":0},null,{"$f":"N12","v":212},{"$f":"COUNTIF(L66:L84,AI12)","v":0},{"$f":"AJ12/(AL4-AJ8)","v":0},{"$f":"IF(AK12=0,0,(AK12*((LOG(AK12))/LOG(2))))","v":0},null,{"$f":"N12","v":212},{"$f":"COUNTIF(L85:L104,AN12)","v":0},{"$f":"AO12/(AQ4-AO8)","v":0},{"$f":"IF(AP12=0,0,(AP12*((LOG(AP12))/LOG(2))))","v":0},null,{"$f":"N12","v":212},{"$f":"COUNTIF(L105:L123,AS12)","v":0},{"$f":"AT12/(AV4-AT8)","v":0},{"$f":"IF(AU12=0,0,(AU12*((LOG(AU12))/LOG(2))))","v":0}]
[11,815,11,821,21,839,null,null,null,null,0,112,null,221,{"$f":"COUNTIF($L$7:$L$500,N13)","v":0},{"$f":"O13/$Q$4","v":0},{"$f":"IF(P13=0,0,(P13*((LOG(P13))/LOG(2))))","v":0},null,null,{"$f":"N13","v":221},{"$f":"COUNTIF(L7:L26,T13)","v":0},{"$f":"U13/(W4-U8)","v":0},{"$f":"IF(V13=0,0,(V13*((LOG(V13))/LOG(2))))","v":0},null,{"$f":"N13","v":221},{"$f":"COUNTIF(L27:L45,Y13)","v":0},{"$f":"Z13/(AB4-Z8)","v":0},{"$f":"IF(AA13=0,0,(AA13*((LOG(AA13))/LOG(2))))","v":0},null,{"$f":"N13","v":221},{"$f":"COUNTIF(L46:L65,AD13)","v":0},{"$f":"AE13/(AG4-AE8)","v":0},{"$f":"IF(AF13=0,0,(AF13*((LOG(AF13))/LOG(2))))","v":0},null,{"$f":"N13","v":221},{"$f":"COUNTIF(L66:L84,AI13)","v":0},{"$f":"AJ13/(AL4-AJ8)","v":0},{"$f":"IF(AK13=0,0,(AK13*((LOG(AK13))/LOG(2))))","v":0},null,{"$f":"N13","v":221},{"$f":"COUNTIF(L85:L104,AN13)","v":0},{"$f":"AO13/(AQ4-AO8)","v":0},{"$f":"IF(AP13=0,0,(AP13*((LOG(AP13))/LOG(2))))","v":0},null,{"$f":"N13","v":221},{"$f":"COUNTIF(L105:L123,AS13)","v":0},{"$f":"AT13/(AV4-AT8)","v":0},{"$f":"IF(AU13=0,0,(AU13*((LOG(AU13))/LOG(2))))","v":0}]
[11,1037,22,1049,23,1069,null,null,null,null,0,122,null,222,{"$f":"COUNTIF($L$7:$L$500,N14)","v":10},{"$f":"O14/$Q$4","v":8.5470085470085472E-2},{"$f":"IF(P14=0,0,(P14*((LOG(P14))/LOG(2))))","v":-0.30328518159795231},null,null,{"$f":"N14","v":222},{"$f":"COUNTIF(L7:L26,T14)","v":4},{"$f":"U14/(W4-U8)","v":0.23529411764705882},{"$f":"IF(V14=0,0,(V14*((LOG(V14))/LOG(2))))","v":-0.49116772735302094},null,{"$f":"N14","v":222},{"$f":"COUNTIF(L27:L45,Y14)","v":0},{"$f":"Z14/(AB4-Z8)","v":0},{"$f":"IF(AA14=0,0,(AA14*((LOG(AA14))/LOG(2))))","v":0},null,{"$f":"N14","v":222},{"$f":"COUNTIF(L46:L65,AD14)","v":2},{"$f":"AE14/(AG4-AE8)","v":0.13333333333333333},{"$f":"IF(AF14=0,0,(AF14*((LOG(AF14))/LOG(2))))","v":-0.3875854127478025},null,{"$f":"N14","v":222},{"$f":"COUNTIF(L66:L84,AI14)","v":2},{"$f":"AJ14/(AL4-AJ8)","v":0.16666666666666666},{"$f":"IF(AK14=0,0,(AK14*((LOG(AK14))/LOG(2))))","v":-0.43082708345352599},null,{"$f":"N14","v":222},{"$f":"COUNTIF(L85:L104,AN14)","v":2},{"$f":"AO14/(AQ4-AO8)","v":0.125},{"$f":"IF(AP14=0,0,(AP14*((LOG(AP14))/LOG(2))))","v":-0.375},null,{"$f":"N14","v":222},{"$f":"COUNTIF(L105:L123,AS14)","v":0},{"$f":"AT14/(AV4-AT8)","v":0},{"$f":"IF(AU14=0,0,(AU14*((LOG(AU14))/LOG(2))))","v":0}]
[11,1165,22,1177,23,1185,null,null,null,null,0,122,null,null,null,{"$f":"SUM(P7:P14)","v":1},{"$f":"-SUM(Q7:Q14)","v":1.8477120931966116},null,null,null,null,{"$f":"SUM(V7:V14)","v":1},{"$f":"-SUM(W7:W14)","v":1.8210319581338208},null,null,null,{"$f":"SUM(AA7:AA14)","v":1},{"$f":"-SUM(AB7:AB14)","v":0.46899559358928122},null,null,null,{"$f":"SUM(AF7:AF14)","v":1},{"$f":"-SUM(AG7:AG14)","v":0.56650950655290533},null,null,null,{"$f":"SUM(AK7:AK14)","v":0.99999999999999989},{"$f":"-SUM(AL7:AL14)","v":1.2516291673878228},null,null,null,{"$f":"SUM(AP7:AP14)","v":1},{"$f":"-SUM(AQ7:AQ14)","v":1.5016144718101816},null,null,null,{"$f":"SUM(AU7:AU14)","v":1},{"$f":"-SUM(AV7:AV14)","v":1.3787834934861753}]
[22,1298,24,1303,23,1321,null,null,null,null,0,222,null,null,null,"U=",{"$f":"Q15/(LOG(Q4)/LOG(2))","v":0.26893944770207928},null,null,null,null,"U1=",{"$f":"W15/(LOG(W4)/LOG(2))","v":0.42134712057982082},null,null,null,"U2=",{"$f":"AB15/(LOG(AB4)/LOG(2))","v":0.11040574306059418},null,null,null,"U3=",{"$f":"AG15/(LOG(AG4)/LOG(2))","v":0.13107795736422811},null,null,null,"U4=",{"$f":"AL15/(LOG(AL4)/LOG(2))","v":0.29464466223275754},null,null,null,"U5=",{"$f":"AQ15/(LOG(AQ4)/LOG(2))","v":0.34744087334227536},null,null,null,"U6=",{"$f":"AV15/(LOG(AV4)/LOG(2))","v":0.32457792396943791}]
[11,1415,22,1426,23,1437,null,null,null,null,0,122]
[22,1570,13,1583,23,1593,null,null,null,null,0,212]
[11,1689,11,1693,12,1697,null,null,null,null,0,111,null,"Total Target Seq"]
[11,1793,22,1820,23,1844,null,null,null,null,0,122,null,{"$f":"COUNTIF(L7:L123,G3)","v":40},null,20,19,20,19,20,19]
[11,1937,22,1953,23,1963,null,null,null,null,0,122,null,null,null,"% of reinforcement given in 6 equal intervals based on number of trials "]
[11,2058,22,2078,23,2120,null,null,null,null,0,122,null,null,null,"%_1","%_2","%_3","%_4","%_5","%_6"]
[22,2307,24,2312,23,2322,null,null,null,null,0,222,null,null,"target sequence",{"$f":"$G$3","v":112},{"$f":"$G$3","v":112},{"$f":"$G$3","v":112},{"$f":"$G$3","v":112},{"$f":"$G$3","v":112},{"$f":"$G$3","v":112}]
[11,2414,22,2432,23,2439,null,null,null,null,0,122,null,null,"total reinforcement",{"$f":"U8","v":3},{"$f":"Z8","v":9},{"$f":"AE8","v":5},{"$f":"AJ8","v":7},{"$f":"AO8","v":4},{"$f":"AT8","v":12}]
[11,2541,11,2544,21,2554,null,null,null,null,0,112,null,null,"% target"]
[11,2734,11,2737,12,2742,null,null,null,null,0,111,null,null,"CCRF"]
[11,2836,22,2856,23,2865,null,null,null,null,0,122,null,null,"% CCRf"]
[11,2957,11,2959,21,2973,null,null,null,null,0,112,null,null,"average response rate",{"$f":"F26/P20","v":137.1},{"$f":"(F45-F26)/Q20","v":129.31578947368422},{"$f":"(F65-F45)/R20","v":128.4},{"$f":"(F84-F65)/S20","v":128.26315789473685},{"$f":"(F104-F84)/T20","v":117.65},{"$f":"(F123-F104)/U20","v":136.26315789473685}]
[11,3110,11,3114,21,3130,null,null,null,null,0,112]
[11,3274,22,3284,23,3290,null,null,null,null,0,122]
[11,3382,22,3396,23,3418,null,null,null,null,0,122]
[11,3510,11,3515,21,3529,null,null,null,null,0,112]
[11,3650,22,3669,23,3680,null,null,null,null,0,122]
[11,3779,22,3796,23,3805,null,null,null,null,0,122]
[11,3898,11,3905,21,3915,null,null,null,null,0,112]
[11,4015,22,4038,23,4044,null,null,null,null,0,122]
[11,4137,11,4139,21,4154,null,null,null,null,0,112]
[11,4268,22,4294,23,4313,null,null,null,null,0,122]
[11,4415,11,4420,21,4434,null,null,null,null,0,112]
[11,4560,11,4569,21,4578,null,null,null,null,0,112]
[11,4732,22,4744,23,4757,null,null,null,null,0,122]
[11,4853,22,4862,23,4871,null,null,null,null,0,122]
[11,4964,11,4968,12,4974,null,null,null,null,0,111]
[11,5066,11,5068,21,5080,null,null,null,null,0,112]
[11,5172,11,5175,21,5199,null,null,null,null,0,112]
[11,5321,11,5327,21,5343,null,null,null,null,0,112]
[11,5471,22,5504,23,5528,null,null,null,null,0,122]
[11,5627,11,5636,21,5650,null,null,null,null,0,112]
[11,5759,11,5764,21,5778,null,null,null,null,0,112]
[11,5890,22,5907,23,5923,null,null,null,null,0,122]
[11,6020,22,6036,23,6044,null,null,null,null,0,122]
[11,6138,22,6170,23,6190,null,null,null,null,0,122]
[22,6291,24,6295,23,6301,null,null,null,null,0,222]
[22,6404,24,6408,23,6418,null,null,null,null,0,222]
[11,6514,22,6525,23,6530,null,null,null,null,0,122]
[11,6626,22,6641,23,6645,null,null,null,null,0,122]
[11,6738,22,6747,23,6752,null,null,null,null,0,122]
[11,6845,11,6848,21,6859,null,null,null,null,0,112]
[11,6979,22,6994,23,7004,null,null,null,null,0,122]
[11,7100,22,7112,23,7121,null,null,null,null,0,122]
[11,7217,22,7226,23,7235,null,null,null,null,0,122]
[11,7327,22,7337,23,7341,null,null,null,null,0,122]
[11,7463,22,7476,23,7482,null,null,null,null,0,122]
[11,7577,11,7578,21,7588,null,null,null,null,0,112]
[11,7731,22,7753,23,7767,null,null,null,null,0,122]
[11,7861,11,7864,21,7880,null,null,null,null,0,112]
[11,7991,11,7994,21,8015,null,null,null,null,0,112]
[11,8114,11,8120,21,8160,null,null,null,null,0,112]
[11,8279,22,8304,23,8318,null,null,null,null,0,122]
[22,8421,24,8427,23,8439,null,null,null,null,0,222]
[11,8534,22,8552,23,8562,null,null,null,null,0,122]
[11,8654,11,8659,21,8669,null,null,null,null,0,112]
[11,8764,11,8771,21,8817,null,null,null,null,0,112]
[11,8945,11,8950,21,8971,null,null,null,null,0,112]
[22,9148,24,9160,23,9171,null,null,null,null,0,222]
[11,9265,11,9270,12,9275,null,null,null,null,0,111]
[11,9368,22,9386,23,9393,null,null,null,null,0,122]
[11,9488,22,9498,23,9506,null,null,null,null,0,122]
[11,9609,22,9620,23,9628,null,null,null,null,0,122]
[11,9721,11,9725,21,9735,null,null,null,null,0,112]
[11,9829,11,9833,12,9835,null,null,null,null,0,111]
[11,9930,22,9940,23,9952,null,null,null,null,0,122]
[11,10064,22,10081,23,10087,null,null,null,null,0,122]
[11,10181,22,10195,23,10204,null,null,null,null,0,122]
[11,10299,22,10312,23,10316,null,null,null,null,0,122]
[11,10412,11,10417,12,10423,null,null,null,null,0,111]
[11,10519,11,10523,21,10535,null,null,null,null,0,112]
[11,10655,11,10661,12,10665,null,null,null,null,0,111]
[11,10757,11,10761,21,10776,null,null,null,null,0,112]
[11,10897,11,10902,12,10907,null,null,null,null,0,111]
[11,10999,22,11016,23,11024,null,null,null,null,0,122]
[11,11119,22,11130,23,11138,null,null,null,null,0,122]
[11,11234,22,11244,23,11249,null,null,null,null,0,122]
[11,11345,22,11355,23,11361,null,null,null,null,0,122]
[11,11454,11,11461,21,11471,null,null,null,null,0,112]
[11,11576,11,11584,21,11609,null,null,null,null,0,112]
[11,11702,22,11720,14,11768,null,null,null,null,0,121]
[11,11862,22,11872,23,11880,null,null,null,null,0,122]
[22,11984,24,11989,23,11994,null,null,null,null,0,222]
[11,12087,22,12096,23,12101,null,null,null,null,0,122]
[22,12203,24,12207,23,12213,null,null,null,null,0,222]
[11,12313,22,12329,23,12342,null,null,null,null,0,122]
[11,12434,22,12443,23,12447,null,null,null,null,0,122]
[11,12542,22,12553,23,12557,null,null,null,null,0,122]
[11,12649,11,12652,21,12663,null,null,null,null,0,112]
[11,12778,11,12783,21,12807,null,null,null,null,0,112]
[11,12908,11,12911,21,12921,null,null,null,null,0,112]
[11,13066,11,13072,12,13074,null,null,null,null,0,111]
[11,13169,11,13178,21,13187,null,null,null,null,0,112]
[11,13309,11,13314,21,13333,null,null,null,null,0,112]
[11,13443,11,13449,21,13513,null,null,null,null,0,112]
[11,13627,11,13634,21,13650,null,null,null,null,0,112]
[11,13779,11,13786,21,13797,null,null,null,null,0,112]
[11,13890,11,13897,21,13917,null,null,null,null,0,112]
[11,14034,11,14040,21,14058,null,null,null,null,0,112]
[11,14224,11,14228,21,14250,null,null,null,null,0,112]
[11,14373,22,14400,14,14432,null,null,null,null,0,121]
[11,14540,22,14549,23,14559,null,null,null,null,0,122]
[11,14655,22,14670,23,14677,null,null,null,null,0,122]
[11,14769,22,14786,23,14816,null,null,null,null,0,122]
[11,14908,11,14913,12,14918,null,null,null,null,0,111]
[11,15014,22,15023,23,15037,null,null,null,null,0,122]
[11,15131,11,15137,21,15146,null,null,null,null,1,112]

{"sheet":"!MB21A4I.sha","index":16,"n_rows":115,"n_cols":48,"rows_kept":115,"cut":false,"hidden":false,"merged":[[4,39,4,42],[5,39,5,40],[4,44,4,47],[5,44,5,45],[4,24,4,27],[5,24,5,25],[4,29,4,32],[5,29,5,30],[4,34,4,37],[5,34,5,35],[1,1,1,2],[5,13,5,14],[18,13,18,14],[19,13,19,14],[4,19,4,22],[5,19,5,20]]}
["Report for:!MB21A4I.sha"]
["Date:","<date>"]
["Hen:","<hen>",null,null,null,"Correct Sequence",{"$f":"Start!J2","v":112},null,null,null,null,null,null,null,null,"Total Sequences in Data",{"$f":"4994-COUNTBLANK(L7:L5000)","v":109},null,null,null,null,"Total Sequences in Block Data",{"$f":"COUNTA(L7:L24)","v":18},null,null,null,"Total Sequences in Block Data",{"$f":"COUNTA(L25:L42)","v":18},null,null,null,"Total Sequences in Block Data",{"$f":"COUNTA(L43:L61)","v":19},null,null,null,"Total Sequences in Block Data",{"$f":"COUNTA(L62:L79)","v":18},null,null,null,"Total Sequences in Block Data",{"$f":"COUNTA(L80:L97)","v":18},null,null,null,"Total Sequences in Block Data",{"$f":"COUNTA(L98:L115)","v":18}]
[null,null,null,null,null,null,null,null,null,null,null,null,null,null,null,"Total Sequences in Summary",{"$f":"SUM(O7:O14)","v":109},null,null,null,null,"Total Sequences in Block Summary",{"$f":"SUM(U7:U14)","v":18},null,null,null,"Total Sequences in Block Summary",{"$f":"SUM(Z7:Z14)","v":18},null,null,null,"Total Sequences in Block Summary",{"$f":"SUM(AE7:AE14)","v":19},null,null,null,"Total Sequences in Block Summary",{"$f":"SUM(AJ7:AJ14)","v":18},null,null,null,"Total Sequences in Block Summary",{"$f":"SUM(AO7:AO14)","v":18},null,null,null,"Total Sequences in Block Summary",{"$f":"SUM(AT7:AT14)","v":18}]
[null,null,null,null,null,null,null,null,null,null,null,null,null,null,null,null,null,null,null,"Block 1",null,null,null,null,"Block 2",null,null,null,null,"Block 3",null,null,null,null,"Block 4",null,null,null,null,"Block 5",null,null,null,null,"Block 6"]
["Sequence\nComponent\n1","Time\n1","Sequence\nComponent\n2","Time\n2","Sequence\nComponent\n3","Time\n3","Sequence\nComponent\n4","Time\n4","Sequence\nComponent\n5","Time\n5","Correct?\n0=No 1=Yes","Sequence",null,"Frequency",null,"Relative Frequency","Variability",null,null,"Frequency",null,"Relative Frequency","Variability",null,"Frequency",null,"Relative Frequency","Variability",null,"Frequency",null,"Relative Frequency","Variability",null,"Frequency",null,"Relative Frequency","Variability",null,"Frequency",null,"Relative Frequency","Variability",null,"Frequency",null,"Relative Frequency","Variability"]
[11,71,22,77,23,82,null,null,null,null,0,122,null,111,{"$f":"COUNTIF($L$7:$L$500,N7)","v":27},{"$f":"O7/$Q$4","v":0.24770642201834864},{"$f":"IF(P7=0,0,(P7*((LOG(P7))/LOG(2))))","v":-0.49870655239048955},null,null,{"$f":"N7","v":111},{"$f":"COUNTIF(L7:L24,T7)","v":3},{"$f":"U7/(W4-U8)","v":0.23076923076923078},{"$f":"IF(V7=0,0,(V7*((LOG(V7))/LOG(2))))","v":-0.48818705017383146},null,{"$f":"N7","v":111},{"$f":"COUNTIF(L25:L42,Y7)","v":6},{"$f":"Z7/(AB4-Z8)","v":0.5},{"$f":"IF(AA7=0,0,(AA7*((LOG(AA7))/LOG(2))))","v":-0.5},null,{"$f":"N7","v":111},{"$f":"COUNTIF(L43:L61,AD7)","v":6},{"$f":"AE7/(AG4-AE8)","v":0.54545454545454541},{"$f":"IF(AF7=0,0,(AF7*((LOG(AF7))/LOG(2))))","v":-0.47698315522698609},null,{"$f":"N7","v":111},{"$f":"COUNTIF(L62:L79,AI7)","v":6},{"$f":"AJ7/(AL4-AJ8)","v":0.46153846153846156},{"$f":"IF(AK7=0,0,(AK7*((LOG(AK7))/LOG(2))))","v":-0.51483563880920125},null,{"$f":"N7","v":111},{"$f":"COUNTIF(L80:L97,AN7)","v":6},{"$f":"AO7/(AQ4-AO8)","v":0.4},{"$f":"IF(AP7=0,0,(AP7*((LOG(AP7))/LOG(2))))","v":-0.52877123795494496},null,{"$f":"N7","v":111},{"$f":"COUNTIF(L98:L115,AS7)","v":0},{"$f":"AT7/(AV4-AT8)","v":0},{"$f":"IF(AU7=0,0,(AU7*((LOG(AU7))/LOG(2))))","v":0}]
[11,212,22,219,23,223,null,null,null,null,0,122,null,112,{"$f":"COUNTIF($L$7:$L$500,N8)","v":40},{"$f":"O8/$Q$4","v":0.3669724770642202},{"$f":"IF(P8=0,0,(P8*((LOG(P8))/LOG(2))))","v":-0.53073623115213364},null,null,{"$f":"N8","v":112},{"$f":"COUNTIF(L7:L24,T8)","v":5},null,null,null,{"$f":"N8","v":112},{"$f":"COUNTIF(L25:L42,Y8)","v":6},null,null,null,{"$f":"N8","v":112},{"$f":"COUNTIF(L43:L61,AD8)","v":8},null,null,null,{"$f":"N8","v":112},{"$f":"COUNTIF(L62:L79,AI8)","v":5},null,null,null,{"$f":"N8","v":112},{"$f":"COUNTIF(L80:L97,AN8)","v":3},null,null,null,{"$f":"N8","v":112},{"$f":"COUNTIF(L98:L115,AS8)","v":13}]
[11,318,22,328,23,334,null,null,null,null,0,122,null,121,{"$f":"COUNTIF($L$7:$L$500,N9)","v":3},{"$f":"O9/$Q$4","v":2.7522935779816515E-2},{"$f":"IF(P9=0,0,(P9*((LOG(P9))/LOG(2))))","v":-0.14265748139603038},null,null,{"$f":"N9","v":121},{"$f":"COUNTIF(L7:L24,T9)","v":0},{"$f":"U9/(W4-U8)","v":0},{"$f":"IF(V9=0,0,(V9*((LOG(V9))/LOG(2))))","v":0},null,{"$f":"N9","v":121},{"$f":"COUNTIF(L25:L42,Y9)","v":1},{"$f":"Z9/(AB4-Z8)","v":8.3333333333333329E-2},{"$f":"IF(AA9=0,0,(AA9*((LOG(AA9))/LOG(2))))","v":-0.29874687506009634},null,{"$f":"N9","v":121},{"$f":"COUNTIF(L43:L61,AD9)","v":0},{"$f":"AE9/(AG4-AE8)","v":0},{"$f":"IF(AF9=0,0,(AF9*((LOG(AF9))/LOG(2))))","v":0},null,{"$f":"N9","v":121},{"$f":"COUNTIF(L62:L79,AI9)","v":0},{"$f":"AJ9/(AL4-AJ8)","v":0},{"$f":"IF(AK9=0,0,(AK9*((LOG(AK9))/LOG(2))))","v":0},null,{"$f":"N9","v":121},{"$f":"COUNTIF(L80:L97,AN9)","v":1},{"$f":"AO9/(AQ4-AO8)","v":6.6666666666666666E-2},{"$f":"IF(AP9=0,0,(AP9*((LOG(AP9))/LOG(2))))","v":-0.26045937304056793},null,{"$f":"N9","v":121},{"$f":"COUNTIF(L98:L115,AS9)","v":1},{"$f":"AT9/(AV4-AT8)","v":0.2},{"$f":"IF(AU9=0,0,(AU9*((LOG(AU9))/LOG(2))))","v":-0.46438561897747244}]
[11,426,22,438,23,443,null,null,null,null,0,122,null,122,{"$f":"COUNTIF($L$7:$L$500,N10)","v":37},{"$f":"O10/$Q$4","v":0.33944954128440369},{"$f":"IF(P10=0,0,(P10*((LOG(P10))/LOG(2))))","v":-0.52911050906857915},null,null,{"$f":"N10","v":122},{"$f":"COUNTIF(L7:L24,T10)","v":10},{"$f":"U10/(W4-U8)","v":0.76923076923076927},{"$f":"IF(V10=0,0,(V10*((LOG(V10))/LOG(2))))","v":-0.29116278711825366},null,{"$f":"N10","v":122},{"$f":"COUNTIF(L25:L42,Y10)","v":5},{"$f":"Z10/(AB4-Z8)","v":0.41666666666666669},{"$f":"IF(AA10=0,0,(AA10*((LOG(AA10))/LOG(2))))","v":-0.52626433576408083},null,{"$f":"N10","v":122},{"$f":"COUNTIF(L43:L61,AD10)","v":5},{"$f":"AE10/(AG4-AE8)","v":0.45454545454545453},{"$f":"IF(AF10=0,0,(AF10*((LOG(AF10))/LOG(2))))","v":-0.51704705624997038},null,{"$f":"N10","v":122},{"$f":"COUNTIF(L62:L79,AI10)","v":6},{"$f":"AJ10/(AL4-AJ8)","v":0.46153846153846156},{"$f":"IF(AK10=0,0,(AK10*((LOG(AK10))/LOG(2))))","v":-0.51483563880920125},null,{"$f":"N10","v":122},{"$f":"COUNTIF(L80:L97,AN10)","v":8},{"$f":"AO10/(AQ4-AO8)","v":0.53333333333333333},{"$f":"IF(AP10=0,0,(AP10*((LOG(AP10))/LOG(2))))","v":-0.4836749843245432},null,{"$f":"N10","v":122},{"$f":"COUNTIF(L98:L115,AS10)","v":3},{"$f":"AT10/(AV4-AT8)","v":0.6},{"$f":"IF(AU10=0,0,(AU10*((LOG(AU10))/LOG(2))))","v":-0.44217935649972373}]
[11,537,11,541,12,547,null,null,null,null,0,111,null,211,{"$f":"COUNTIF($L$7:$L$500,N11)","v":0},{"$f":"O11/$Q$4","v":0},{"$f":"IF(P11=0,0,(P11*((LOG(P11))/LOG(2))))","v":0},null,null,{"$f":"N11","v":211},{"$f":"COUNTIF(L7:L24,T11)","v":0},{"$f":"U11/(W4-U8)","v":0},{"$f":"IF(V11=0,0,(V11*((LOG(V11))/LOG(2))))","v":0},null,{"$f":"N11","v":211},{"$f":"COUNTIF(L25:L42,Y11)","v":0},{"$f":"Z11/(AB4-Z8)","v":0},{"$f":"IF(AA11=0,0,(AA11*((LOG(AA11))/LOG(2))))","v":0},null,{"$f":"N11","v":211},{"$f":"COUNTIF(L43:L61,AD11)","v":0},{"$f":"AE11/(AG4-AE8)","v":0},{"$f":"IF(AF11=0,0,(AF11*((LOG(AF11))/LOG(2))))","v":0},null,{"$f":"N11","v":211},{"$f":"COUNTIF(L62:L79,AI11)","v":0},{"$f":"AJ11/(AL4-AJ8)","v":0},{"$f":"IF(AK11=0,0,(AK11*((LOG(AK11))/LOG(2))))","v":0},null,{"$f":"N11","v":211},{"$f":"COUNTIF(L80:L97,AN11)","v":0},{"$f":"AO11/(AQ4-AO8)","v":0},{"$f":"IF(AP11=0,0,(AP11*((LOG(AP11))/LOG(2))))","v":0},null,{"$f":"N11","v":211},{"$f":"COUNTIF(L98:L115,AS11)","v":0},{"$f":"AT11/(AV4-AT8)","v":0},{"$f":"IF(AU11=0,0,(AU11*((LOG(AU11))/LOG(2))))","v":0}]
[11,646,22,655,23,659,null,null,null,null,0,122,null,212,{"$f":"COUNTIF($L$7:$L$500,N12)","v":1},{"$f":"O12/$Q$4","v":9.1743119266055051E-3},{"$f":"IF(P12=0,0,(P12*((LOG(P12))/LOG(2))))","v":-6.2093434172265385E-2},null,null,{"$f":"N12","v":212},{"$f":"COUNTIF(L7:L24,T12)","v":0},{"$f":"U12/(W4-U8)","v":0},{"$f":"IF(V12=0,0,(V12*((LOG(V12))/LOG(2))))","v":0},null,{"$f":"N12","v":212},{"$f":"COUNTIF(L25:L42,Y12)","v":0},{"$f":"Z12/(AB4-Z8)","v":0},{"$f":"IF(AA12=0,0,(AA12*((LOG(AA12))/LOG(2))))","v":0},null,{"$f":"N12","v":212},{"$f":"COUNTIF(L43:L61,AD12)","v":0},{"$f":"AE12/(AG4-AE8)","v":0},{"$f":"IF(AF12=0,0,(AF12*((LOG(AF12))/LOG(2))))","v":0},null,{"$f":"N12","v":212},{"$f":"COUNTIF(L62:L79,AI12)","v":1},{"$f":"AJ12/(AL4-AJ8)","v":7.6923076923076927E-2},{"$f":"IF(AK12=0,0,(AK12*((LOG(AK12))/LOG(2))))","v":-0.28464920908777636},null,{"$f":"N12","v":212},{"$f":"COUNTIF(L80:L97,AN12)","v":0},{"$f":"AO12/(AQ4-AO8)","v":0},{"$f":"IF(AP12=0,0,(AP12*((LOG(AP12))/LOG(2))))","v":0},null,{"$f":"N12","v":212},{"$f":"COUNTIF(L98:L115,AS12)","v":0},{"$f":"AT12/(AV4-AT8)","v":0},{"$f":"IF(AU12=0,0,(AU12*((LOG(AU12))/LOG(2))))","v":0}]
[11,754,22,763,23,774,null,null,null,null,0,122,null,221,{"$f":"COUNTIF($L$7:$L$500,N13)","v":0},{"$f":"O13/$Q$4","v":0},{"$f":"IF(P13=0,0,(P13*((LOG(P13))/LOG(2))))","v":0},null,null,{"$f":"N13","v":221},{"$f":"COUNTIF(L7:L24,T13)","v":0},{"$f":"U13/(W4-U8)","v":0},{"$f":"IF(V13=0,0,(V13*((LOG(V13))/LOG(2))))","v":0},null,{"$f":"N13","v":221},{"$f":"COUNTIF(L25:L42,Y13)","v":0},{"$f":"Z13/(AB4-Z8)","v":0},{"$f":"IF(AA13=0,0,(AA13*((LOG(AA13))/LOG(2))))","v":0},null,{"$f":"N13","v":221},{"$f":"COUNTIF(L43:L61,AD13)","v":0},{"$f":"AE13/(AG4-AE8)","v":0},{"$f":"IF(AF13=0,0,(AF13*((LOG(AF13))/LOG(2))))","v":0},null,{"$f":"N13","v":221},{"$f":"COUNTIF(L62:L79,AI13)","v":0},{"$f":"AJ13/(AL4-AJ8)","v":0},{"$f":"IF(AK13=0,0,(AK13*((LOG(AK13))/LOG(2))))","v":0},null,{"$f":"N13","v":221},{"$f":"COUNTIF(L80:L97,AN13)","v":0},{"$f":"AO13/(AQ4-AO8)","v":0},{"$f":"IF(AP13=0,0,(AP13*((LOG(AP13))/LOG(2))))","v":0},null,{"$f":"N13","v":221},{"$f":"COUNTIF(L98:L115,AS13)","v":0},{"$f":"AT13/(AV4-AT8)","v":0},{"$f":"IF(AU13=0,0,(AU13*((LOG(AU13))/LOG(2))))","v":0}]
[11,869,11,875,21,886,null,null,null,null,0,112,null,222,{"$f":"COUNTIF($L$7:$L$500,N14)","v":1},{"$f":"O14/$Q$4","v":9.1743119266055051E-3},{"$f":"IF(P14=0,0,(P14*((LOG(P14))/LOG(2))))","v":-6.2093434172265385E-2},null,null,{"$f":"N14","v":222},{"$f":"COUNTIF(L7:L24,T14)","v":0},{"$f":"U14/(W4-U8)","v":0},{"$f":"IF(V14=0,0,(V14*((LOG(V14))/LOG(2))))","v":0},null,{"$f":"N14","v":222},{"$f":"COUNTIF(L25:L42,Y14)","v":0},{"$f":"Z14/(AB4-Z8)","v":0},{"$f":"IF(AA14=0,0,(AA14*((LOG(AA14))/LOG(2))))","v":0},null,{"$f":"N14","v":222},{"$f":"COUNTIF(L43:L61,AD14)","v":0},{"$f":"AE14/(AG4-AE8)","v":0},{"$f":"IF(AF14=0,0,(AF14*((LOG(AF14))/LOG(2))))","v":0},null,{"$f":"N14","v":222},{"$f":"COUNTIF(L62:L79,AI14)","v":0},{"$f":"AJ14/(AL4-AJ8)","v":0},{"$f":"IF(AK14=0,0,(AK14*((LOG(AK14))/LOG(2))))","v":0},null,{"$f":"N14","v":222},{"$f":"COUNTIF(L80:L97,AN14)","v":0},{"$f":"AO14/(AQ4-AO8)","v":0},{"$f":"IF(AP14=0,0,(AP14*((LOG(AP14))/LOG(2))))","v":0},null,{"$f":"N14","v":222},{"$f":"COUNTIF(L98:L115,AS14)","v":1},{"$f":"AT14/(AV4-AT8)","v":0.2},{"$f":"IF(AU14=0,0,(AU14*((LOG(AU14))/LOG(2))))","v":-0.46438561897747244}]
[11,1048,22,1059,23,1067,null,null,null,null,0,122,null,null,null,{"$f":"SUM(P7:P14)","v":1},{"$f":"-SUM(Q7:Q14)","v":1.8253976423517635},null,null,null,null,{"$f":"SUM(V7:V14)","v":1},{"$f":"-SUM(W7:W14)","v":0.77934983729208507},null,null,null,{"$f":"SUM(AA7:AA14)","v":1},{"$f":"-SUM(AB7:AB14)","v":1.3250112108241772},null,null,null,{"$f":"SUM(AF7:AF14)","v":1},{"$f":"-SUM(AG7:AG14)","v":0.99403021147695647},null,null,null,{"$f":"SUM(AK7:AK14)","v":1},{"$f":"-SUM(AL7:AL14)","v":1.3143204867061788},null,null,null,{"$f":"SUM(AP7:AP14)","v":1},{"$f":"-SUM(AQ7:AQ14)","v":1.2729055953200561},null,null,null,{"$f":"SUM(AU7:AU14)","v":1},{"$f":"-SUM(AV7:AV14)","v":1.3709505944546687}]
[11,1161,11,1177,21,1186,null,null,null,null,0,112,null,null,null,"U=",{"$f":"Q15/(LOG(Q4)/LOG(2))","v":0.26970270825357978},null,null,null,null,"U1=",{"$f":"W15/(LOG(W4)/LOG(2))","v":0.18689780680048684},null,null,null,"U2=",{"$f":"AB15/(LOG(AB4)/LOG(2))","v":0.31775420669817239},null,null,null,"U3=",{"$f":"AG15/(LOG(AG4)/LOG(2))","v":0.23400357193739996},null,null,null,"U4=",{"$f":"AL15/(LOG(AL4)/LOG(2))","v":0.31519043777803579},null,null,null,"U5=",{"$f":"AQ15/(LOG(AQ4)/LOG(2))","v":0.30525863052207841},null,null,null,"U6=",{"$f":"AV15/(LOG(AV4)/LOG(2))","v":0.32877104359922021}]
[11,1336,11,1340,12,1344,null,null,null,null,0,111]
[11,1439,11,1445,21,1462,null,null,null,null,0,112]
[11,1606,11,1608,12,1613,null,null,null,null,0,111,null,"Total Target Seq"]
[11,1709,22,1719,23,1726,null,null,null,null,0,122,null,{"$f":"COUNTIF(L7:L115,G3)","v":40},null,18,18,19,18,18,18]
[11,1823,11,1828,21,1846,null,null,null,null,0,112,null,null,null,"% of reinforcement given in 6 equal intervals based on number of trials "]
[11,1959,11,1969,21,1978,null,null,null,null,0,112,null,null,null,"%_1","%_2","%_3","%_4","%_5","%_6"]
[11,2083,22,2106,23,2155,null,null,null,null,0,122,null,null,"target sequence",{"$f":"$G$3","v":112},{"$f":"$G$3","v":112},{"$f":"$G$3","v":112},{"$f":"$G$3","v":112},{"$f":"$G$3","v":112},{"$f":"$G$3","v":112}]
[11,2251,22,2278,23,2286,null,null,null,null,0,122,null,null,"total reinforcement",{"$f":"U8","v":5},{"$f":"Z8","v":6},{"$f":"AE8","v":8},{"$f":"AJ8","v":5},{"$f":"AO8","v":3},{"$f":"AT8","v":13}]
[11,2389,22,2398,23,2403,null,null,null,null,0,122,null,null,"% target"]
[11,2498,22,2510,23,2519,null,null,null,null,0,122,null,null,"CCRF"]
[11,2617,22,2627,23,2631,null,null,null,null,0,122,null,null,"% CCRf"]
[11,2724,11,2727,21,2749,null,null,null,null,0,112,null,null,"average response rate",{"$f":"F24/P20","v":127},{"$f":"(F42-F24)/Q20","v":120.61111111111111},{"$f":"(F61-F42)/R20","v":126.84210526315789},{"$f":"(F79-F61)/S20","v":119.94444444444444},{"$f":"(F97-F79)/T20","v":130.55555555555554},{"$f":"(F115-F97)/U20","v":146.55555555555554}]
[11,2848,11,2852,12,2856,null,null,null,null,0,111]
[11,2952,11,2957,12,2964,null,null,null,null,0,111]
[11,3064,22,3075,23,3079,null,null,null,null,0,122]
[11,3175,22,3184,23,3201,null,null,null,null,0,122]
[11,3348,22,3356,14,3370,null,null,null,null,0,121]
[11,3466,11,3471,21,3488,null,null,null,null,0,112]
[11,3604,11,3614,12,3622,null,null,null,null,0,111]
[11,3717,11,3721,21,3735,null,null,null,null,0,112]
[11,3846,11,3856,21,3876,null,null,null,null,0,112]
[11,3997,11,4003,12,4008,null,null,null,null,0,111]
[11,4100,11,4105,12,4111,null,null,null,null,0,111]
[11,4203,11,4208,21,4235,null,null,null,null,0,112]
[11,4331,11,4336,12,4344,null,null,null,null,0,111]
[11,4435,11,4441,21,4457,null,null,null,null,0,112]
[11,4586,22,4601,23,4611,null,null,null,null,0,122]
[11,4706,11,4711,21,4723,null,null,null,null,0,112]
[11,4820,11,4830,12,4836,null,null,null,null,0,111]
[11,4941,11,4945,12,4951,null,null,null,null,0,111]
[11,5048,22,5061,23,5099,null,null,null,null,0,122]
[11,5201,11,5206,12,5214,null,null,null,null,0,111]
[11,5309,22,5320,23,5329,null,null,null,null,0,122]
[11,5425,11,5428,21,5438,null,null,null,null,0,112]
[11,5534,11,5538,21,5554,null,null,null,null,0,112]
[11,5710,11,5716,12,5723,null,null,null,null,0,111]
[11,5819,11,5822,21,5845,null,null,null,null,0,112]
[11,5971,11,5976,21,5990,null,null,null,null,0,112]
[11,6112,22,6144,23,6173,null,null,null,null,0,122]
[11,6268,22,6280,23,6287,null,null,null,null,0,122]
[11,6382,11,6387,21,6402,null,null,null,null,0,112]
[11,6507,11,6513,12,6517,null,null,null,null,0,111]
[11,6614,11,6617,12,6625,null,null,null,null,0,111]
[11,6719,11,6726,21,6738,null,null,null,null,0,112]
[11,6829,11,6836,21,6867,null,null,null,null,0,112]
[11,6961,22,6975,23,6989,null,null,null,null,0,122]
[11,7082,11,7091,21,7105,null,null,null,null,0,112]
[11,7198,11,7205,21,7229,null,null,null,null,0,112]
[11,7331,22,7354,23,7391,null,null,null,null,0,122]
[11,7495,22,7503,23,7510,null,null,null,null,0,122]
[11,7605,11,7608,12,7613,null,null,null,null,0,111]
[11,7708,22,7718,23,7722,null,null,null,null,0,122]
[11,7814,11,7817,12,7823,null,null,null,null,0,111]
[11,7916,11,7920,12,7924,null,null,null,null,0,111]
[22,8021,13,8041,23,8051,null,null,null,null,0,212]
[11,8145,11,8149,12,8154,null,null,null,null,0,111]
[11,8247,11,8252,12,8257,null,null,null,null,0,111]
[11,8353,22,8365,23,8370,null,null,null,null,0,122]
[11,8462,11,8468,12,8473,null,null,null,null,0,111]
[11,8567,11,8570,21,8586,null,null,null,null,0,112]
[11,8677,11,8685,21,8697,null,null,null,null,0,112]
[11,8809,11,8818,21,8827,null,null,null,null,0,112]
[11,8978,22,9009,23,9026,null,null,null,null,0,122]
[11,9128,22,9144,23,9155,null,null,null,null,0,122]
[11,9251,11,9256,12,9263,null,null,null,null,0,111]
[11,9373,11,9379,21,9388,null,null,null,null,0,112]
[11,9480,22,9511,23,9572,null,null,null,null,0,122]
[11,9668,22,9680,14,9725,null,null,null,null,0,121]
[11,9821,22,9838,23,9870,null,null,null,null,0,122]
[11,9963,11,9968,12,9973,null,null,null,null,0,111]
[11,10068,22,10080,23,10084,null,null,null,null,0,122]
[11,10178,11,10182,12,10192,null,null,null,null,0,111]
[11,10288,22,10299,23,10306,null,null,null,null,0,122]
[11,10402,22,10416,23,10445,null,null,null,null,0,122]
[11,10549,11,10553,21,10588,null,null,null,null,0,112]
[11,10735,11,10739,12,10743,null,null,null,null,0,111]
[11,10837,11,10840,12,10843,null,null,null,null,0,111]
[11,10938,22,10953,23,10958,null,null,null,null,0,122]
[11,11123,11,11128,12,11133,null,null,null,null,0,111]
[11,11228,11,11236,21,11246,null,null,null,null,0,112]
[11,11346,22,11360,23,11376,null,null,null,null,0,122]
[11,11474,22,11496,14,11522,null,null,null,null,0,121]
[11,11619,11,11623,21,11633,null,null,null,null,0,112]
[11,11723,11,11728,21,11755,null,null,null,null,0,112]
[11,11913,22,11930,23,11945,null,null,null,null,0,122]
[11,12037,11,12039,21,12050,null,null,null,null,0,112]
[11,12142,11,12146,21,12162,null,null,null,null,0,112]
[11,12278,11,12283,21,12297,null,null,null,null,0,112]
[11,12394,11,12401,21,12425,null,null,null,null,0,112]
[11,12617,11,12624,21,12654,null,null,null,null,0,112]
[11,12760,22,12777,23,12793,null,null,null,null,0,122]
[11,12891,11,12897,21,12911,null,null,null,null,0,112]
[11,13021,22,13047,23,13090,null,null,null,null,0,122]
[11,13188,11,13192,21,13201,null,null,null,null,0,112]
[11,13316,11,13324,21,13345,null,null,null,null,0,112]
[22,13488,24,13503,23,13557,null,null,null,null,0,222]
[11,13653,11,13657,21,13688,null,null,null,null,0,112]
[11,13832,11,13843,21,13883,null,null,null,null,0,112]
[11,13996,11,14002,21,14014,null,null,null,null,1,112]

{"sheet":"!MB2392I.sha","index":17,"n_rows":122,"n_cols":48,"rows_kept":122,"cut":false,"hidden":false,"merged":[[4,39,4,42],[5,39,5,40],[4,44,4,47],[5,44,5,45],[4,24,4,27],[5,24,5,25],[4,29,4,32],[5,29,5,30],[4,34,4,37],[5,34,5,35],[1,1,1,2],[5,13,5,14],[18,13,18,14],[19,13,19,14],[4,19,4,22],[5,19,5,20]]}
["Report for:!MB2392I.sha"]
["Date:","<date>"]
["Hen:","<hen>",null,null,null,"Correct Sequence",{"$f":"Start!J2","v":112},null,null,null,null,null,null,null,null,"Total Sequences in Data",{"$f":"4994-COUNTBLANK(L7:L5000)","v":116},null,null,null,null,"Total Sequences in Block Data",{"$f":"COUNTA(L7:L25)","v":19},null,null,null,"Total Sequences in Block Data",{"$f":"COUNTA(L26:L45)","v":20},null,null,null,"Total Sequences in Block Data",{"$f":"COUNTA(L46:L64)","v":19},null,null,null,"Total Sequences in Block Data",{"$f":"COUNTA(L65:L83)","v":19},null,null,null,"Total Sequences in Block Data",{"$f":"COUNTA(L84:L103)","v":20},null,null,null,"Total Sequences in Block Data",{"$f":"COUNTA(L104:L122)","v":19}]
[null,null,null,null,null,null,null,null,null,null,null,null,null,null,null,"Total Sequences in Summary",{"$f":"SUM(O7:O14)","v":116},null,null,null,null,"Total Sequences in Block Summary",{"$f":"SUM(U7:U14)","v":19},null,null,null,"Total Sequences in Block Summary",{"$f":"SUM(Z7:Z14)","v":20},null,null,null,"Total Sequences in Block Summary",{"$f":"SUM(AE7:AE14)","v":19},null,null,null,"Total Sequences in Block Summary",{"$f":"SUM(AJ7:AJ14)","v":19},null,null,null,"Total Sequences in Block Summary",{"$f":"SUM(AO7:AO14)","v":20},null,null,null,"Total Sequences in Block Summary",{"$f":"SUM(AT7:AT14)","v":19}]
[null,null,null,null,null,null,null,null,null,null,null,null,null,null,null,null,null,null,null,"Block 1",null,null,null,null,"Block 2",null,null,null,null,"Block 3",null,null,null,null,"Block 4",null,null,null,null,"Block 5",null,null,null,null,"Block 6"]
["Sequence\nComponent\n1","Time\n1","Sequence\nComponent\n2","Time\n2","Sequence\nComponent\n3","Time\n3","Sequence\nComponent\n4","Time\n4","Sequence\nComponent\n5","Time\n5","Correct?\n0=No 1=Yes","Sequence",null,"Frequency",null,"Relative Frequency","Variability",null,null,"Frequency",null,"Relative Frequency","Variability",null,"Frequency",null,"Relative Frequency","Variability",null,"Frequency",null,"Relative Frequency","Variability",null,"Frequency",null,"Relative Frequency","Variability",null,"Frequency",null,"Relative Frequency","Variability",null,"Frequency",null,"Relative Frequency","Variability"]
[22,70,24,80,23,88,null,null,null,null,0,222,null,111,{"$f":"COUNTIF($L$7:$L$500,N7)","v":8},{"$f":"O7/$Q$4","v":6.8965517241379309E-2},{"$f":"IF(P7=0,0,(P7*((LOG(P7))/LOG(2))))","v":-0.26606765483638428},null,null,{"$f":"N7","v":111},{"$f":"COUNTIF(L7:L25,T7)","v":0},{"$f":"U7/(W4-U8)","v":0},{"$f":"IF(V7=0,0,(V7*((LOG(V7))/LOG(2))))","v":0},null,{"$f":"N7","v":111},{"$f":"COUNTIF(L26:L45,Y7)","v":0},{"$f":"Z7/(AB4-Z8)","v":0},{"$f":"IF(AA7=0,0,(AA7*((LOG(AA7))/LOG(2))))","v":0},null,{"$f":"N7","v":111},{"$f":"COUNTIF(L46:L64,AD7)","v":4},{"$f":"AE7/(AG4-AE8)","v":0.25},{"$f":"IF(AF7=0,0,(AF7*((LOG(AF7))/LOG(2))))","v":-0.5},null,{"$f":"N7","v":111},{"$f":"COUNTIF(L65:L83,AI7)","v":3},{"$f":"AJ7/(AL4-AJ8)","v":0.33333333333333331},{"$f":"IF(AK7=0,0,(AK7*((LOG(AK7))/LOG(2))))","v":-0.52832083357371862},null,{"$f":"N7","v":111},{"$f":"COUNTIF(L84:L103,AN7)","v":1},{"$f":"AO7/(AQ4-AO8)","v":7.6923076923076927E-2},{"$f":"IF(AP7=0,0,(AP7*((LOG(AP7))/LOG(2))))","v":-0.28464920908777636},null,{"$f":"N7","v":111},{"$f":"COUNTIF(L104:L122,AS7)","v":0},{"$f":"AT7/(AV4-AT8)","v":0},{"$f":"IF(AU7=0,0,(AU7*((LOG(AU7))/LOG(2))))","v":0}]
[11,184,11,190,21,204,null,null,null,null,0,112,null,112,{"$f":"COUNTIF($L$7:$L$500,N8)","v":40},{"$f":"O8/$Q$4","v":0.34482758620689657},{"$f":"IF(P8=0,0,(P8*((LOG(P8))/LOG(2))))","v":-0.52967341387593436},null,null,{"$f":"N8","v":112},{"$f":"COUNTIF(L7:L25,T8)","v":6},null,null,null,{"$f":"N8","v":112},{"$f":"COUNTIF(L26:L45,Y8)","v":5},null,null,null,{"$f":"N8","v":112},{"$f":"COUNTIF(L46:L64,AD8)","v":3},null,null,null,{"$f":"N8","v":112},{"$f":"COUNTIF(L65:L83,AI8)","v":10},null,null,null,{"$f":"N8","v":112},{"$f":"COUNTIF(L84:L103,AN8)","v":7},null,null,null,{"$f":"N8","v":112},{"$f":"COUNTIF(L104:L122,AS8)","v":9}]
[22,409,24,423,23,429,null,null,null,null,0,222,null,121,{"$f":"COUNTIF($L$7:$L$500,N9)","v":15},{"$f":"O9/$Q$4","v":0.12931034482758622},{"$f":"IF(P9=0,0,(P9*((LOG(P9))/LOG(2))))","v":-0.38160651717918798},null,null,{"$f":"N9","v":121},{"$f":"COUNTIF(L7:L25,T9)","v":2},{"$f":"U9/(W4-U8)","v":0.15384615384615385},{"$f":"IF(V9=0,0,(V9*((LOG(V9))/LOG(2))))","v":-0.4154522643293988},null,{"$f":"N9","v":121},{"$f":"COUNTIF(L26:L45,Y9)","v":4},{"$f":"Z9/(AB4-Z8)","v":0.26666666666666666},{"$f":"IF(AA9=0,0,(AA9*((LOG(AA9))/LOG(2))))","v":-0.50850415882893829},null,{"$f":"N9","v":121},{"$f":"COUNTIF(L46:L64,AD9)","v":1},{"$f":"AE9/(AG4-AE8)","v":6.25E-2},{"$f":"IF(AF9=0,0,(AF9*((LOG(AF9))/LOG(2))))","v":-0.25},null,{"$f":"N9","v":121},{"$f":"COUNTIF(L65:L83,AI9)","v":2},{"$f":"AJ9/(AL4-AJ8)","v":0.22222222222222221},{"$f":"IF(AK9=0,0,(AK9*((LOG(AK9))/LOG(2))))","v":-0.48220555587606945},null,{"$f":"N9","v":121},{"$f":"COUNTIF(L84:L103,AN9)","v":5},{"$f":"AO9/(AQ4-AO8)","v":0.38461538461538464},{"$f":"IF(AP9=0,0,(AP9*((LOG(AP9))/LOG(2))))","v":-0.53019677817451139},null,{"$f":"N9","v":121},{"$f":"COUNTIF(L104:L122,AS9)","v":1},{"$f":"AT9/(AV4-AT8)","v":0.1},{"$f":"IF(AU9=0,0,(AU9*((LOG(AU9))/LOG(2))))","v":-0.33219280948873625}]
[11,524,22,545,14,621,null,null,null,null,0,121,null,122,{"$f":"COUNTIF($L$7:$L$500,N10)","v":47},{"$f":"O10/$Q$4","v":0.40517241379310343},{"$f":"IF(P10=0,0,(P10*((LOG(P10))/LOG(2))))","v":-0.52809854088057706},null,null,{"$f":"N10","v":122},{"$f":"COUNTIF(L7:L25,T10)","v":8},{"$f":"U10/(W4-U8)","v":0.61538461538461542},{"$f":"IF(V10=0,0,(V10*((LOG(V10))/LOG(2))))","v":-0.43103982654836437},null,{"$f":"N10","v":122},{"$f":"COUNTIF(L26:L45,Y10)","v":11},{"$f":"Z10/(AB4-Z8)","v":0.73333333333333328},{"$f":"IF(AA10=0,0,(AA10*((LOG(AA10))/LOG(2))))","v":-0.32813658311222899},null,{"$f":"N10","v":122},{"$f":"COUNTIF(L46:L64,AD10)","v":11},{"$f":"AE10/(AG4-AE8)","v":0.6875},{"$f":"IF(AF10=0,0,(AF10*((LOG(AF10))/LOG(2))))","v":-0.3716407621868581},null,{"$f":"N10","v":122},{"$f":"COUNTIF(L65:L83,AI10)","v":3},{"$f":"AJ10/(AL4-AJ8)","v":0.33333333333333331},{"$f":"IF(AK10=0,0,(AK10*((LOG(AK10))/LOG(2))))","v":-0.52832083357371862},null,{"$f":"N10","v":122},{"$f":"COUNTIF(L84:L103,AN10)","v":5},{"$f":"AO10/(AQ4-AO8)","v":0.38461538461538464},{"$f":"IF(AP10=0,0,(AP10*((LOG(AP10))/LOG(2))))","v":-0.53019677817451139},null,{"$f":"N10","v":122},{"$f":"COUNTIF(L104:L122,AS10)","v":9},{"$f":"AT10/(AV4-AT8)","v":0.9},{"$f":"IF(AU10=0,0,(AU10*((LOG(AU10))/LOG(2))))","v":-0.13680278410054494}]
[22,726,24,731,23,744,null,null,null,null,0,222,null,211,{"$f":"COUNTIF($L$7:$L$500,N11)","v":0},{"$f":"O11/$Q$4","v":0},{"$f":"IF(P11=0,0,(P11*((LOG(P11))/LOG(2))))","v":0},null,null,{"$f":"N11","v":211},{"$f":"COUNTIF(L7:L25,T11)","v":0},{"$f":"U11/(W4-U8)","v":0},{"$f":"IF(V11=0,0,(V11*((LOG(V11))/LOG(2))))","v":0},null,{"$f":"N11","v":211},{"$f":"COUNTIF(L26:L45,Y11)","v":0},{"$f":"Z11/(AB4-Z8)","v":0},{"$f":"IF(AA11=0,0,(AA11*((LOG(AA11))/LOG(2))))","v":0},null,{"$f":"N11","v":211},{"$f":"COUNTIF(L46:L64,AD11)","v":0},{"$f":"AE11/(AG4-AE8)","v":0},{"$f":"IF(AF11=0,0,(AF11*((LOG(AF11))/LOG(2))))","v":0},null,{"$f":"N11","v":211},{"$f":"COUNTIF(L65:L83,AI11)","v":0},{"$f":"AJ11/(AL4-AJ8)","v":0},{"$f":"IF(AK11=0,0,(AK11*((LOG(AK11))/LOG(2))))","v":0},null,{"$f":"N11","v":211},{"$f":"COUNTIF(L84:L103,AN11)","v":0},{"$f":"AO11/(AQ4-AO8)","v":0},{"$f":"IF(AP11=0,0,(AP11*((LOG(AP11))/LOG(2))))","v":0},null,{"$f":"N11","v":211},{"$f":"COUNTIF(L104:L122,AS11)","v":0},{"$f":"AT11/(AV4-AT8)","v":0},{"$f":"IF(AU11=0,0,(AU11*((LOG(AU11))/LOG(2))))","v":0}]
[11,842,22,850,14,858,null,null,null,null,0,121,null,212,{"$f":"COUNTIF($L$7:$L$500,N12)","v":0},{"$f":"O12/$Q$4","v":0},{"$f":"IF(P12=0,0,(P12*((LOG(P12))/LOG(2))))","v":0},null,null,{"$f":"N12","v":212},{"$f":"COUNTIF(L7:L25,T12)","v":0},{"$f":"U12/(W4-U8)","v":0},{"$f":"IF(V12=0,0,(V12*((LOG(V12))/LOG(2))))","v":0},null,{"$f":"N12","v":212},{"$f":"COUNTIF(L26:L45,Y12)","v":0},{"$f":"Z12/(AB4-Z8)","v":0},{"$f":"IF(AA12=0,0,(AA12*((LOG(AA12))/LOG(2))))","v":0},null,{"$f":"N12","v":212},{"$f":"COUNTIF(L46:L64,AD12)","v":0},{"$f":"AE12/(AG4-AE8)","v":0},{"$f":"IF(AF12=0,0,(AF12*((LOG(AF12))/LOG(2))))","v":0},null,{"$f":"N12","v":212},{"$f":"COUNTIF(L65:L83,AI12)","v":0},{"$f":"AJ12/(AL4-AJ8)","v":0},{"$f":"IF(AK12=0,0,(AK12*((LOG(AK12))/LOG(2))))","v":0},null,{"$f":"N12","v":212},{"$f":"COUNTIF(L84:L103,AN12)","v":0},{"$f":"AO12/(AQ4-AO8)","v":0},{"$f":"IF(AP12=0,0,(AP12*((LOG(AP12))/LOG(2))))","v":0},null,{"$f":"N12","v":212},{"$f":"COUNTIF(L104:L122,AS12)","v":0},{"$f":"AT12/(AV4-AT8)","v":0},{"$f":"IF(AU12=0,0,(AU12*((LOG(AU12))/LOG(2))))","v":0}]
[11,953,22,969,23,983,null,null,null,null,0,122,null,221,{"$f":"COUNTIF($L$7:$L$500,N13)","v":0},{"$f":"O13/$Q$4","v":0},{"$f":"IF(P13=0,0,(P13*((LOG(P13))/LOG(2))))","v":0},null,null,{"$f":"N13","v":221},{"$f":"COUNTIF(L7:L25,T13)","v":0},{"$f":"U13/(W4-U8)","v":0},{"$f":"IF(V13=0,0,(V13*((LOG(V13))/LOG(2))))","v":0},null,{"$f":"N13","v":221},{"$f":"COUNTIF(L26:L45,Y13)","v":0},{"$f":"Z13/(AB4-Z8)","v":0},{"$f":"IF(AA13=0,0,(AA13*((LOG(AA13))/LOG(2))))","v":0},null,{"$f":"N13","v":221},{"$f":"COUNTIF(L46:L64,AD13)","v":0},{"$f":"AE13/(AG4-AE8)","v":0},{"$f":"IF(AF13=0,0,(AF13*((LOG(AF13))/LOG(2))))","v":0},null,{"$f":"N13","v":221},{"$f":"COUNTIF(L65:L83,AI13)","v":0},{"$f":"AJ13/(AL4-AJ8)","v":0},{"$f":"IF(AK13=0,0,(AK13*((LOG(AK13))/LOG(2))))","v":0},null,{"$f":"N13","v":221},{"$f":"COUNTIF(L84:L103,AN13)","v":0},{"$f":"AO13/(AQ4-AO8)","v":0},{"$f":"IF(AP13=0,0,(AP13*((LOG(AP13))/LOG(2))))","v":0},null,{"$f":"N13","v":221},{"$f":"COUNTIF(L104:L122,AS13)","v":0},{"$f":"AT13/(AV4-AT8)","v":0},{"$f":"IF(AU13=0,0,(AU13*((LOG(AU13))/LOG(2))))","v":0}]
[11,1077,22,1087,23,1092,null,null,null,null,0,122,null,222,{"$f":"COUNTIF($L$7:$L$500,N14)","v":6},{"$f":"O14/$Q$4","v":5.1724137931034482E-2},{"$f":"IF(P14=0,0,(P14*((LOG(P14))/LOG(2))))","v":-0.22101819798653879},null,null,{"$f":"N14","v":222},{"$f":"COUNTIF(L7:L25,T14)","v":3},{"$f":"U14/(W4-U8)","v":0.23076923076923078},{"$f":"IF(V14=0,0,(V14*((LOG(V14))/LOG(2))))","v":-0.48818705017383146},null,{"$f":"N14","v":222},{"$f":"COUNTIF(L26:L45,Y14)","v":0},{"$f":"Z14/(AB4-Z8)","v":0},{"$f":"IF(AA14=0,0,(AA14*((LOG(AA14))/LOG(2))))","v":0},null,{"$f":"N14","v":222},{"$f":"COUNTIF(L46:L64,AD14)","v":0},{"$f":"AE14/(AG4-AE8)","v":0},{"$f":"IF(AF14=0,0,(AF14*((LOG(AF14))/LOG(2))))","v":0},null,{"$f":"N14","v":222},{"$f":"COUNTIF(L65:L83,AI14)","v":1},{"$f":"AJ14/(AL4-AJ8)","v":0.1111111111111111},{"$f":"IF(AK14=0,0,(AK14*((LOG(AK14))/LOG(2))))","v":-0.3522138890491458},null,{"$f":"N14","v":222},{"$f":"COUNTIF(L84:L103,AN14)","v":2},{"$f":"AO14/(AQ4-AO8)","v":0.15384615384615385},{"$f":"IF(AP14=0,0,(AP14*((LOG(AP14))/LOG(2))))","v":-0.4154522643293988},null,{"$f":"N14","v":222},{"$f":"COUNTIF(L104:L122,AS14)","v":0},{"$f":"AT14/(AV4-AT8)","v":0},{"$f":"IF(AU14=0,0,(AU14*((LOG(AU14))/LOG(2))))","v":0}]
[11,1190,11,1212,21,1224,null,null,null,null,0,112,null,null,null,{"$f":"SUM(P7:P14)","v":1},{"$f":"-SUM(Q7:Q14)","v":1.9264643247586226},null,null,null,null,{"$f":"SUM(V7:V14)","v":1},{"$f":"-SUM(W7:W14)","v":1.3346791410515946},null,null,null,{"$f":"SUM(AA7:AA14)","v":1},{"$f":"-SUM(AB7:AB14)","v":0.83664074194116722},null,null,null,{"$f":"SUM(AF7:AF14)","v":1},{"$f":"-SUM(AG7:AG14)","v":1.121640762186858},null,null,null,{"$f":"SUM(AK7:AK14)","v":1},{"$f":"-SUM(AL7:AL14)","v":1.8910611120726524},null,null,null,{"$f":"SUM(AP7:AP14)","v":1},{"$f":"-SUM(AQ7:AQ14)","v":1.7604950297661979},null,null,null,{"$f":"SUM(AU7:AU14)","v":1},{"$f":"-SUM(AV7:AV14)","v":0.46899559358928122}]
[11,1399,11,1412,21,1422,null,null,null,null,0,112,null,null,null,"U=",{"$f":"Q15/(LOG(Q4)/LOG(2))","v":0.28090837902982352},null,null,null,null,"U1=",{"$f":"W15/(LOG(W4)/LOG(2))","v":0.31419536628807399},null,null,null,"U2=",{"$f":"AB15/(LOG(AB4)/LOG(2))","v":0.19358043992700244},null,null,null,"U3=",{"$f":"AG15/(LOG(AG4)/LOG(2))","v":0.26404423301413615},null,null,null,"U4=",{"$f":"AL15/(LOG(AL4)/LOG(2))","v":0.44517264150292962},null,null,null,"U5=",{"$f":"AQ15/(LOG(AQ4)/LOG(2))","v":0.40734019426393986},null,null,null,"U6=",{"$f":"AV15/(LOG(AV4)/LOG(2))","v":0.11040574306059418}]
[11,1534,22,1549,23,1558,null,null,null,null,0,122]
[11,1651,11,1655,21,1671,null,null,null,null,0,112]
[11,1859,22,1873,23,1883,null,null,null,null,0,122,null,"Total Target Seq"]
[11,1978,22,1993,23,1999,null,null,null,null,0,122,null,{"$f":"COUNTIF(L7:L122,G3)","v":40},null,19,20,19,19,20,19]
[11,2097,11,2102,21,2112,null,null,null,null,0,112,null,null,null,"% of reinforcement given in 6 equal intervals based on number of trials "]
[11,2210,11,2215,21,2225,null,null,null,null,0,112,null,null,null,"%_1","%_2","%_3","%_4","%_5","%_6"]
[11,2379,22,2397,23,2447,null,null,null,null,0,122,null,null,"target sequence",{"$f":"$G$3","v":112},{"$f":"$G$3","v":112},{"$f":"$G$3","v":112},{"$f":"$G$3","v":112},{"$f":"$G$3","v":112},{"$f":"$G$3","v":112}]
[11,2544,22,2556,23,2628,null,null,null,null,0,122,null,null,"total reinforcement",{"$f":"U8","v":6},{"$f":"Z8","v":5},{"$f":"AE8","v":3},{"$f":"AJ8","v":10},{"$f":"AO8","v":7},{"$f":"AT8","v":9}]
[11,2737,22,2746,23,2759,null,null,null,null,0,122,null,null,"% target"]
[11,2858,22,2872,14,2898,null,null,null,null,0,121,null,null,"CCRF"]
[11,2995,22,3006,23,3016,null,null,null,null,0,122,null,null,"% CCRf"]
[11,3115,22,3124,23,3131,null,null,null,null,0,122,null,null,"average response rate",{"$f":"F25/P20","v":145.21052631578948},{"$f":"(F45-F25)/Q20","v":133.5},{"$f":"(F64-F45)/R20","v":125.52631578947368},{"$f":"(F83-F64)/S20","v":141.21052631578948},{"$f":"(F103-F83)/T20","v":152.05000000000001},{"$f":"(F122-F103)/U20","v":157.78947368421052}]
[11,3228,22,3238,23,3243,null,null,null,null,0,122]
[11,3343,22,3352,23,3369,null,null,null,null,0,122]
[11,3464,22,3480,23,3484,null,null,null,null,0,122]
[11,3579,11,3584,21,3594,null,null,null,null,0,112]
[11,3726,22,3752,23,3770,null,null,null,null,0,122]
[11,3867,22,3882,23,3889,null,null,null,null,0,122]
[11,4015,22,4026,23,4038,null,null,null,null,0,122]
[11,4132,22,4145,23,4151,null,null,null,null,0,122]
[11,4250,11,4256,21,4266,null,null,null,null,0,112]
[11,4378,11,4382,21,4396,null,null,null,null,0,112]
[11,4524,11,4531,21,4557,null,null,null,null,0,112]
[11,4692,22,4714,14,4747,null,null,null,null,0,121]
[11,4843,22,4855,23,4863,null,null,null,null,0,122]
[11,4973,22,4984,23,4993,null,null,null,null,0,122]
[11,5088,22,5110,14,5187,null,null,null,null,0,121]
[11,5282,11,5288,21,5298,null,null,null,null,0,112]
[11,5394,22,5404,14,5429,null,null,null,null,0,121]
[11,5534,22,5544,23,5550,null,null,null,null,0,122]
[11,5645,11,5649,12,5653,null,null,null,null,0,111]
[11,5748,22,5763,23,5768,null,null,null,null,0,122]
[11,5865,22,5878,23,5883,null,null,null,null,0,122]
[11,5981,11,5984,21,5994,null,null,null,null,0,112]
[11,6086,22,6114,14,6180,null,null,null,null,0,121]
[11,6275,22,6291,23,6302,null,null,null,null,0,122]
[11,6402,22,6412,23,6419,null,null,null,null,0,122]
[11,6517,22,6527,23,6532,null,null,null,null,0,122]
[11,6629,22,6647,23,6656,null,null,null,null,0,122]
[11,6750,11,6758,21,6768,null,null,null,null,0,112]
[11,6894,11,6898,12,6901,null,null,null,null,0,111]
[11,6994,11,6999,12,7006,null,null,null,null,0,111]
[11,7101,22,7114,23,7119,null,null,null,null,0,122]
[11,7228,22,7244,23,7252,null,null,null,null,0,122]
[11,7391,22,7404,23,7416,null,null,null,null,0,122]
[11,7553,22,7563,23,7573,null,null,null,null,0,122]
[11,7667,11,7671,21,7686,null,null,null,null,0,112]
[11,7804,11,7808,12,7814,null,null,null,null,0,111]
[11,7907,11,7911,21,7925,null,null,null,null,0,112]
[11,8027,11,8034,12,8041,null,null,null,null,0,111]
[11,8133,11,8141,21,8150,null,null,null,null,0,112]
[11,8260,22,8274,23,8285,null,null,null,null,0,122]
[11,8426,11,8429,12,8434,null,null,null,null,0,111]
[11,8528,11,8533,21,8568,null,null,null,null,0,112]
[11,8663,11,8670,21,8680,null,null,null,null,0,112]
[11,8861,11,8866,21,8877,null,null,null,null,0,112]
[11,8972,11,8981,21,8992,null,null,null,null,0,112]
[11,9177,22,9200,14,9281,null,null,null,null,0,121]
[11,9373,11,9376,21,9385,null,null,null,null,0,112]
[11,9478,22,9495,14,9523,null,null,null,null,0,121]
[11,9616,22,9628,23,9667,null,null,null,null,0,122]
[11,9797,11,9804,21,9818,null,null,null,null,0,112]
[11,9940,11,9944,21,9981,null,null,null,null,0,112]
[11,10079,11,10083,12,10089,null,null,null,null,0,111]
[11,10185,22,10204,23,10251,null,null,null,null,0,122]
[22,10356,24,10360,23,10388,null,null,null,null,0,222]
[11,10482,11,10488,21,10497,null,null,null,null,0,112]
[11,10627,22,10655,23,10697,null,null,null,null,0,122]
[11,10790,11,10799,21,10817,null,null,null,null,0,112]
[11,10946,22,10970,14,10994,null,null,null,null,0,121]
[11,11086,11,11090,21,11100,null,null,null,null,0,112]
[11,11207,22,11245,14,11273,null,null,null,null,0,121]
[11,11366,22,11378,23,11385,null,null,null,null,0,122]
[11,11485,22,11498,23,11504,null,null,null,null,0,122]
[11,11599,22,11609,14,11696,null,null,null,null,0,121]
[11,11791,22,11818,14,11844,null,null,null,null,0,121]
[11,11940,11,11947,21,11961,null,null,null,null,0,112]
[11,12102,11,12105,12,12112,null,null,null,null,0,111]
[11,12204,11,12210,21,12230,null,null,null,null,0,112]
[11,12323,11,12329,21,12351,null,null,null,null,0,112]
[22,12509,24,12515,23,12598,null,null,null,null,0,222]
[11,12696,22,12712,23,12724,null,null,null,null,0,122]
[22,12850,24,12890,23,12897,null,null,null,null,0,222]
[11,12992,11,12998,21,13007,null,null,null,null,0,112]
[11,13105,11,13109,21,13122,null,null,null,null,0,112]
[11,13298,22,13326,23,13341,null,null,null,null,0,122]
[11,13439,22,13468,14,13538,null,null,null,null,0,121]
[11,13644,11,13647,21,13656,null,null,null,null,0,112]
[11,13788,11,13797,21,13819,null,null,null,null,0,112]
[11,14042,11,14049,21,14071,null,null,null,null,0,112]
[11,14180,22,14224,23,14238,null,null,null,null,0,122]
[11,14336,22,14350,23,14356,null,null,null,null,0,122]
[11,14451,11,14455,21,14489,null,null,null,null,0,112]
[11,14599,22,14609,23,14622,null,null,null,null,0,122]
[11,14726,22,14738,23,14746,null,null,null,null,0,122]
[11,14843,22,14858,14,14972,null,null,null,null,0,121]
[11,15066,11,15079,21,15096,null,null,null,null,0,112]
[11,15339,11,15346,21,15356,null,null,null,null,0,112]
[11,15507,22,15525,23,15548,null,null,null,null,0,122]
[11,15644,22,15658,23,15687,null,null,null,null,0,122]
[11,15784,22,15794,23,15799,null,null,null,null,0,122]
[11,15895,11,15901,21,15913,null,null,null,null,0,112]
[11,16041,22,16065,23,16113,null,null,null,null,0,122]
[11,16206,11,16215,21,16241,null,null,null,null,0,112]
[11,16387,22,16412,23,16419,null,null,null,null,0,122]
[11,16514,11,16519,21,16536,null,null,null,null,1,112]

{"sheet":"!MB24A3I.sha","index":18,"n_rows":105,"n_cols":48,"rows_kept":105,"cut":false,"hidden":false,"merged":[[4,39,4,42],[5,39,5,40],[4,44,4,47],[5,44,5,45],[4,24,4,27],[5,24,5,25],[4,29,4,32],[5,29,5,30],[4,34,4,37],[5,34,5,35],[1,1,1,2],[5,13,5,14],[18,13,18,14],[19,13,19,14],[4,19,4,22],[5,19,5,20]]}
["Report for:!MB24A3I.sha"]
["Date:","<date>"]
["Hen:","<hen>",null,null,null,"Correct Sequence",{"$f":"Start!J2","v":112},null,null,null,null,null,null,null,null,"Total Sequences in Data",{"$f":"4994-COUNTBLANK(L7:L5000)","v":99},null,null,null,null,"Total Sequences in Block Data",{"$f":"COUNTA(L7:L23)","v":17},null,null,null,"Total Sequences in Block Data",{"$f":"COUNTA(L24:L39)","v":16},null,null,null,"Total Sequences in Block Data",{"$f":"COUNTA(L40:L56)","v":17},null,null,null,"Total Sequences in Block Data",{"$f":"COUNTA(L57:L72)","v":16},null,null,null,"Total Sequences in Block Data",{"$f":"COUNTA(L73:L89)","v":17},null,null,null,"Total Sequences in Block Data",{"$f":"COUNTA(L90:L105)","v":16}]
[null,null,null,null,null,null,null,null,null,null,null,null,null,null,null,"Total Sequences in Summary",{"$f":"SUM(O7:O14)","v":99},null,null,null,null,"Total Sequences in Block Summary",{"$f":"SUM(U7:U14)","v":17},null,null,null,"Total Sequences in Block Summary",{"$f":"SUM(Z7:Z14)","v":16},null,null,null,"Total Sequences in Block Summary",{"$f":"SUM(AE7:AE14)","v":17},null,null,null,"Total Sequences in Block Summary",{"$f":"SUM(AJ7:AJ14)","v":16},null,null,null,"Total Sequences in Block Summary",{"$f":"SUM(AO7:AO14)","v":17},null,null,null,"Total Sequences in Block Summary",{"$f":"SUM(AT7:AT14)","v":16}]
[null,null,null,null,null,null,null,null,null,null,null,null,null,null,null,null,null,null,null,"Block 1",null,null,null,null,"Block 2",null,null,null,null,"Block 3",null,null,null,null,"Block 4",null,null,null,null,"Block 5",null,null,null,null,"Block 6"]
["Sequence\nComponent\n1","Time\n1","Sequence\nComponent\n2","Time\n2","Sequence\nComponent\n3","Time\n3","Sequence\nComponent\n4","Time\n4","Sequence\nComponent\n5","Time\n5","Correct?\n0=No 1=Yes","Sequence",null,"Frequency",null,"Relative Frequency","Variability",null,null,"Frequency",null,"Relative Frequency","Variability",null,"Frequency",null,"Relative Frequency","Variability",null,"Frequency",null,"Relative Frequency","Variability",null,"Frequency",null,"Relative Frequency","Variability",null,"Frequency",null,"Relative Frequency","Variability",null,"Frequency",null,"Relative Frequency","Variability"]
[22,24,24,30,23,36,null,null,null,null,0,222,null,111,{"$f":"COUNTIF($L$7:$L$500,N7)","v":13},{"$f":"O7/$Q$4","v":0.13131313131313133},{"$f":"IF(P7=0,0,(P7*((LOG(P7))/LOG(2))))","v":-0.38460524974950233},null,null,{"$f":"N7","v":111},{"$f":"COUNTIF(L7:L23,T7)","v":0},{"$f":"U7/(W4-U8)","v":0},{"$f":"IF(V7=0,0,(V7*((LOG(V7))/LOG(2))))","v":0},null,{"$f":"N7","v":111},{"$f":"COUNTIF(L24:L39,Y7)","v":1},{"$f":"Z7/(AB4-Z8)","v":9.0909090909090912E-2},{"$f":"IF(AA7=0,0,(AA7*((LOG(AA7))/LOG(2))))","v":-0.31449378351248153},null,{"$f":"N7","v":111},{"$f":"COUNTIF(L40:L56,AD7)","v":3},{"$f":"AE7/(AG4-AE8)","v":0.3},{"$f":"IF(AF7=0,0,(AF7*((LOG(AF7))/LOG(2))))","v":-0.52108967824986185},null,{"$f":"N7","v":111},{"$f":"COUNTIF(L57:L72,AI7)","v":3},{"$f":"AJ7/(AL4-AJ8)","v":0.3},{"$f":"IF(AK7=0,0,(AK7*((LOG(AK7))/LOG(2))))","v":-0.52108967824986185},null,{"$f":"N7","v":111},{"$f":"COUNTIF(L73:L89,AN7)","v":3},{"$f":"AO7/(AQ4-AO8)","v":0.375},{"$f":"IF(AP7=0,0,(AP7*((LOG(AP7))/LOG(2))))","v":-0.53063906222956647},null,{"$f":"N7","v":111},{"$f":"COUNTIF(L90:L105,AS7)","v":3},{"$f":"AT7/(AV4-AT8)","v":0.5},{"$f":"IF(AU7=0,0,(AU7*((LOG(AU7))/LOG(2))))","v":-0.5}]
[22,137,24,146,14,162,null,null,null,null,0,221,null,112,{"$f":"COUNTIF($L$7:$L$500,N8)","v":40},{"$f":"O8/$Q$4","v":0.40404040404040403},{"$f":"IF(P8=0,0,(P8*((LOG(P8))/LOG(2))))","v":-0.52825394957262517},null,null,{"$f":"N8","v":112},{"$f":"COUNTIF(L7:L23,T8)","v":3},null,null,null,{"$f":"N8","v":112},{"$f":"COUNTIF(L24:L39,Y8)","v":5},null,null,null,{"$f":"N8","v":112},{"$f":"COUNTIF(L40:L56,AD8)","v":7},null,null,null,{"$f":"N8","v":112},{"$f":"COUNTIF(L57:L72,AI8)","v":6},null,null,null,{"$f":"N8","v":112},{"$f":"COUNTIF(L73:L89,AN8)","v":9},null,null,null,{"$f":"N8","v":112},{"$f":"COUNTIF(L90:L105,AS8)","v":10}]
[11,261,22,271,23,277,null,null,null,null,0,122,null,121,{"$f":"COUNTIF($L$7:$L$500,N9)","v":5},{"$f":"O9/$Q$4","v":5.0505050505050504E-2},{"$f":"IF(P9=0,0,(P9*((LOG(P9))/LOG(2))))","v":-0.21754689521172968},null,null,{"$f":"N9","v":121},{"$f":"COUNTIF(L7:L23,T9)","v":2},{"$f":"U9/(W4-U8)","v":0.14285714285714285},{"$f":"IF(V9=0,0,(V9*((LOG(V9))/LOG(2))))","v":-0.40105070315108626},null,{"$f":"N9","v":121},{"$f":"COUNTIF(L24:L39,Y9)","v":1},{"$f":"Z9/(AB4-Z8)","v":9.0909090909090912E-2},{"$f":"IF(AA9=0,0,(AA9*((LOG(AA9))/LOG(2))))","v":-0.31449378351248153},null,{"$f":"N9","v":121},{"$f":"COUNTIF(L40:L56,AD9)","v":0},{"$f":"AE9/(AG4-AE8)","v":0},{"$f":"IF(AF9=0,0,(AF9*((LOG(AF9))/LOG(2))))","v":0},null,{"$f":"N9","v":121},{"$f":"COUNTIF(L57:L72,AI9)","v":0},{"$f":"AJ9/(AL4-AJ8)","v":0},{"$f":"IF(AK9=0,0,(AK9*((LOG(AK9))/LOG(2))))","v":0},null,{"$f":"N9","v":121},{"$f":"COUNTIF(L73:L89,AN9)","v":2},{"$f":"AO9/(AQ4-AO8)","v":0.25},{"$f":"IF(AP9=0,0,(AP9*((LOG(AP9))/LOG(2))))","v":-0.5},null,{"$f":"N9","v":121},{"$f":"COUNTIF(L90:L105,AS9)","v":0},{"$f":"AT9/(AV4-AT8)","v":0},{"$f":"IF(AU9=0,0,(AU9*((LOG(AU9))/LOG(2))))","v":0}]
[11,372,11,374,21,389,null,null,null,null,0,112,null,122,{"$f":"COUNTIF($L$7:$L$500,N10)","v":33},{"$f":"O10/$Q$4","v":0.33333333333333331},{"$f":"IF(P10=0,0,(P10*((LOG(P10))/LOG(2))))","v":-0.52832083357371862},null,null,{"$f":"N10","v":122},{"$f":"COUNTIF(L7:L23,T10)","v":9},{"$f":"U10/(W4-U8)","v":0.6428571428571429},{"$f":"IF(V10=0,0,(V10*((LOG(V10))/LOG(2))))","v":-0.40977637753840174},null,{"$f":"N10","v":122},{"$f":"COUNTIF(L24:L39,Y10)","v":7},{"$f":"Z10/(AB4-Z8)","v":0.63636363636363635},{"$f":"IF(AA10=0,0,(AA10*((LOG(AA10))/LOG(2))))","v":-0.41495789782344106},null,{"$f":"N10","v":122},{"$f":"COUNTIF(L40:L56,AD10)","v":4},{"$f":"AE10/(AG4-AE8)","v":0.4},{"$f":"IF(AF10=0,0,(AF10*((LOG(AF10))/LOG(2))))","v":-0.52877123795494496},null,{"$f":"N10","v":122},{"$f":"COUNTIF(L57:L72,AI10)","v":7},{"$f":"AJ10/(AL4-AJ8)","v":0.7},{"$f":"IF(AK10=0,0,(AK10*((LOG(AK10))/LOG(2))))","v":-0.36020122098083079},null,{"$f":"N10","v":122},{"$f":"COUNTIF(L73:L89,AN10)","v":3},{"$f":"AO10/(AQ4-AO8)","v":0.375},{"$f":"IF(AP10=0,0,(AP10*((LOG(AP10))/LOG(2))))","v":-0.53063906222956647},null,{"$f":"N10","v":122},{"$f":"COUNTIF(L90:L105,AS10)","v":3},{"$f":"AT10/(AV4-AT8)","v":0.5},{"$f":"IF(AU10=0,0,(AU10*((LOG(AU10))/LOG(2))))","v":-0.5}]
[11,519,22,535,14,568,null,null,null,null,0,121,null,211,{"$f":"COUNTIF($L$7:$L$500,N11)","v":0},{"$f":"O11/$Q$4","v":0},{"$f":"IF(P11=0,0,(P11*((LOG(P11))/LOG(2))))","v":0},null,null,{"$f":"N11","v":211},{"$f":"COUNTIF(L7:L23,T11)","v":0},{"$f":"U11/(W4-U8)","v":0},{"$f":"IF(V11=0,0,(V11*((LOG(V11))/LOG(2))))","v":0},null,{"$f":"N11","v":211},{"$f":"COUNTIF(L24:L39,Y11)","v":0},{"$f":"Z11/(AB4-Z8)","v":0},{"$f":"IF(AA11=0,0,(AA11*((LOG(AA11))/LOG(2))))","v":0},null,{"$f":"N11","v":211},{"$f":"COUNTIF(L40:L56,AD11)","v":0},{"$f":"AE11/(AG4-AE8)","v":0},{"$f":"IF(AF11=0,0,(AF11*((LOG(AF11))/LOG(2))))","v":0},null,{"$f":"N11","v":211},{"$f":"COUNTIF(L57:L72,AI11)","v":0},{"$f":"AJ11/(AL4-AJ8)","v":0},{"$f":"IF(AK11=0,0,(AK11*((LOG(AK11))/LOG(2))))","v":0},null,{"$f":"N11","v":211},{"$f":"COUNTIF(L73:L89,AN11)","v":0},{"$f":"AO11/(AQ4-AO8)","v":0},{"$f":"IF(AP11=0,0,(AP11*((LOG(AP11))/LOG(2))))","v":0},null,{"$f":"N11","v":211},{"$f":"COUNTIF(L90:L105,AS11)","v":0},{"$f":"AT11/(AV4-AT8)","v":0},{"$f":"IF(AU11=0,0,(AU11*((LOG(AU11))/LOG(2))))","v":0}]
[11,663,22,681,23,753,null,null,null,null,0,122,null,212,{"$f":"COUNTIF($L$7:$L$500,N12)","v":0},{"$f":"O12/$Q$4","v":0},{"$f":"IF(P12=0,0,(P12*((LOG(P12))/LOG(2))))","v":0},null,null,{"$f":"N12","v":212},{"$f":"COUNTIF(L7:L23,T12)","v":0},{"$f":"U12/(W4-U8)","v":0},{"$f":"IF(V12=0,0,(V12*((LOG(V12))/LOG(2))))","v":0},null,{"$f":"N12","v":212},{"$f":"COUNTIF(L24:L39,Y12)","v":0},{"$f":"Z12/(AB4-Z8)","v":0},{"$f":"IF(AA12=0,0,(AA12*((LOG(AA12))/LOG(2))))","v":0},null,{"$f":"N12","v":212},{"$f":"COUNTIF(L40:L56,AD12)","v":0},{"$f":"AE12/(AG4-AE8)","v":0},{"$f":"IF(AF12=0,0,(AF12*((LOG(AF12))/LOG(2))))","v":0},null,{"$f":"N12","v":212},{"$f":"COUNTIF(L57:L72,AI12)","v":0},{"$f":"AJ12/(AL4-AJ8)","v":0},{"$f":"IF(AK12=0,0,(AK12*((LOG(AK12))/LOG(2))))","v":0},null,{"$f":"N12","v":212},{"$f":"COUNTIF(L73:L89,AN12)","v":0},{"$f":"AO12/(AQ4-AO8)","v":0},{"$f":"IF(AP12=0,0,(AP12*((LOG(AP12))/LOG(2))))","v":0},null,{"$f":"N12","v":212},{"$f":"COUNTIF(L90:L105,AS12)","v":0},{"$f":"AT12/(AV4-AT8)","v":0},{"$f":"IF(AU12=0,0,(AU12*((LOG(AU12))/LOG(2))))","v":0}]
[11,849,22,870,23,876,null,null,null,null,0,122,null,221,{"$f":"COUNTIF($L$7:$L$500,N13)","v":3},{"$f":"O13/$Q$4","v":3.0303030303030304E-2},{"$f":"IF(P13=0,0,(P13*((LOG(P13))/LOG(2))))","v":-0.15286042785934709},null,null,{"$f":"N13","v":221},{"$f":"COUNTIF(L7:L23,T13)","v":2},{"$f":"U13/(W4-U8)","v":0.14285714285714285},{"$f":"IF(V13=0,0,(V13*((LOG(V13))/LOG(2))))","v":-0.40105070315108626},null,{"$f":"N13","v":221},{"$f":"COUNTIF(L24:L39,Y13)","v":0},{"$f":"Z13/(AB4-Z8)","v":0},{"$f":"IF(AA13=0,0,(AA13*((LOG(AA13))/LOG(2))))","v":0},null,{"$f":"N13","v":221},{"$f":"COUNTIF(L40:L56,AD13)","v":1},{"$f":"AE13/(AG4-AE8)","v":0.1},{"$f":"IF(AF13=0,0,(AF13*((LOG(AF13))/LOG(2))))","v":-0.33219280948873625},null,{"$f":"N13","v":221},{"$f":"COUNTIF(L57:L72,AI13)","v":0},{"$f":"AJ13/(AL4-AJ8)","v":0},{"$f":"IF(AK13=0,0,(AK13*((LOG(AK13))/LOG(2))))","v":0},null,{"$f":"N13","v":221},{"$f":"COUNTIF(L73:L89,AN13)","v":0},{"$f":"AO13/(AQ4-AO8)","v":0},{"$f":"IF(AP13=0,0,(AP13*((LOG(AP13))/LOG(2))))","v":0},null,{"$f":"N13","v":221},{"$f":"COUNTIF(L90:L105,AS13)","v":0},{"$f":"AT13/(AV4-AT8)","v":0},{"$f":"IF(AU13=0,0,(AU13*((LOG(AU13))/LOG(2))))","v":0}]
[11,970,11,977,21,985,null,null,null,null,0,112,null,222,{"$f":"COUNTIF($L$7:$L$500,N14)","v":5},{"$f":"O14/$Q$4","v":5.0505050505050504E-2},{"$f":"IF(P14=0,0,(P14*((LOG(P14))/LOG(2))))","v":-0.21754689521172968},null,null,{"$f":"N14","v":222},{"$f":"COUNTIF(L7:L23,T14)","v":1},{"$f":"U14/(W4-U8)","v":7.1428571428571425E-2},{"$f":"IF(V14=0,0,(V14*((LOG(V14))/LOG(2))))","v":-0.27195392300411453},null,{"$f":"N14","v":222},{"$f":"COUNTIF(L24:L39,Y14)","v":2},{"$f":"Z14/(AB4-Z8)","v":0.18181818181818182},{"$f":"IF(AA14=0,0,(AA14*((LOG(AA14))/LOG(2))))","v":-0.44716938520678134},null,{"$f":"N14","v":222},{"$f":"COUNTIF(L40:L56,AD14)","v":2},{"$f":"AE14/(AG4-AE8)","v":0.2},{"$f":"IF(AF14=0,0,(AF14*((LOG(AF14))/LOG(2))))","v":-0.46438561897747244},null,{"$f":"N14","v":222},{"$f":"COUNTIF(L57:L72,AI14)","v":0},{"$f":"AJ14/(AL4-AJ8)","v":0},{"$f":"IF(AK14=0,0,(AK14*((LOG(AK14))/LOG(2))))","v":0},null,{"$f":"N14","v":222},{"$f":"COUNTIF(L73:L89,AN14)","v":0},{"$f":"AO14/(AQ4-AO8)","v":0},{"$f":"IF(AP14=0,0,(AP14*((LOG(AP14))/LOG(2))))","v":0},null,{"$f":"N14","v":222},{"$f":"COUNTIF(L90:L105,AS14)","v":0},{"$f":"AT14/(AV4-AT8)","v":0},{"$f":"IF(AU14=0,0,(AU14*((LOG(AU14))/LOG(2))))","v":0}]
[22,1101,24,1110,14,1124,null,null,null,null,0,221,null,null,null,{"$f":"SUM(P7:P14)","v":0.99999999999999989},{"$f":"-SUM(Q7:Q14)","v":2.0291342511786525},null,null,null,null,{"$f":"SUM(V7:V14)","v":1},{"$f":"-SUM(W7:W14)","v":1.4838317068446887},null,null,null,{"$f":"SUM(AA7:AA14)","v":1},{"$f":"-SUM(AB7:AB14)","v":1.4911148500551854},null,null,null,{"$f":"SUM(AF7:AF14)","v":1},{"$f":"-SUM(AG7:AG14)","v":1.8464393446710157},null,null,null,{"$f":"SUM(AK7:AK14)","v":1},{"$f":"-SUM(AL7:AL14)","v":0.8812908992306927},null,null,null,{"$f":"SUM(AP7:AP14)","v":1},{"$f":"-SUM(AQ7:AQ14)","v":1.5612781244591329},null,null,null,{"$f":"SUM(AU7:AU14)","v":1},{"$f":"-SUM(AV7:AV14)","v":1}]
[11,1219,22,1232,23,1311,null,null,null,null,0,122,null,null,null,"U=",{"$f":"Q15/(LOG(Q4)/LOG(2))","v":0.30608313407557874},null,null,null,null,"U1=",{"$f":"W15/(LOG(W4)/LOG(2))","v":0.36302023149176577},null,null,null,"U2=",{"$f":"AB15/(LOG(AB4)/LOG(2))","v":0.37277871251379635},null,null,null,"U3=",{"$f":"AG15/(LOG(AG4)/LOG(2))","v":0.45173238666218601},null,null,null,"U4=",{"$f":"AL15/(LOG(AL4)/LOG(2))","v":0.22032272480767318},null,null,null,"U5=",{"$f":"AQ15/(LOG(AQ4)/LOG(2))","v":0.38196753954625406},null,null,null,"U6=",{"$f":"AV15/(LOG(AV4)/LOG(2))","v":0.25}]
[11,1406,22,1438,23,1491,null,null,null,null,0,122]
[11,1590,22,1610,23,1616,null,null,null,null,0,122]
[11,1712,11,1715,21,1738,null,null,null,null,0,112,null,"Total Target Seq"]
[11,1947,22,1970,14,2003,null,null,null,null,0,121,null,{"$f":"COUNTIF(L7:L105,G3)","v":40},null,17,16,17,16,17,16]
[11,2098,22,2109,23,2117,null,null,null,null,0,122,null,null,null,"% of reinforcement given in 6 equal intervals based on number of trials "]
[11,2216,22,2225,23,2231,null,null,null,null,0,122,null,null,null,"%_1","%_2","%_3","%_4","%_5","%_6"]
[11,2327,22,2341,23,2436,null,null,null,null,0,122,null,null,"target sequence",{"$f":"$G$3","v":112},{"$f":"$G$3","v":112},{"$f":"$G$3","v":112},{"$f":"$G$3","v":112},{"$f":"$G$3","v":112},{"$f":"$G$3","v":112}]
[11,2536,22,2566,23,2573,null,null,null,null,0,122,null,null,"total reinforcement",{"$f":"U8","v":3},{"$f":"Z8","v":5},{"$f":"AE8","v":7},{"$f":"AJ8","v":6},{"$f":"AO8","v":9},{"$f":"AT8","v":10}]
[11,2667,22,2680,23,2684,null,null,null,null,0,122,null,null,"% target"]
[11,2794,22,2803,14,2821,null,null,null,null,0,121,null,null,"CCRF"]
[11,2939,11,2952,21,2968,null,null,null,null,0,112,null,null,"% CCRf"]
[11,3086,11,3091,21,3106,null,null,null,null,0,112,null,null,"average response rate",{"$f":"F23/P20","v":143.29411764705881},{"$f":"(F39-F23)/Q20","v":140.5625},{"$f":"(F56-F39)/R20","v":134.23529411764707},{"$f":"(F72-F56)/S20","v":130.375},{"$f":"(F89-F72)/T20","v":142.94117647058823},{"$f":"(F105-F89)/U20","v":138.0625}]
[22,3284,24,3289,23,3293,null,null,null,null,0,222]
[11,3385,11,3390,21,3402,null,null,null,null,0,112]
[11,3521,22,3532,23,3540,null,null,null,null,0,122]
[11,3638,22,3648,23,3653,null,null,null,null,0,122]
[22,3761,24,3770,23,3779,null,null,null,null,0,222]
[11,3872,11,3876,12,3881,null,null,null,null,0,111]
[11,3977,22,3993,23,4011,null,null,null,null,0,122]
[11,4107,22,4127,23,4213,null,null,null,null,0,122]
[11,4307,11,4313,21,4330,null,null,null,null,0,112]
[11,4467,11,4474,21,4487,null,null,null,null,0,112]
[11,4670,22,4681,23,4685,null,null,null,null,0,122]
[22,4801,24,4805,23,4814,null,null,null,null,0,222]
[11,4915,22,4924,23,4929,null,null,null,null,0,122]
[22,5052,24,5057,23,5064,null,null,null,null,0,222]
[11,5156,11,5163,21,5173,null,null,null,null,0,112]
[11,5269,22,5279,23,5291,null,null,null,null,0,122]
[11,5388,11,5394,21,5403,null,null,null,null,0,112]
[11,5565,11,5569,12,5574,null,null,null,null,0,111]
[11,5669,11,5676,21,5707,null,null,null,null,0,112]
[11,5809,11,5814,12,5818,null,null,null,null,0,111]
[11,5913,11,5917,21,5939,null,null,null,null,0,112]
[22,6045,24,6049,14,6112,null,null,null,null,0,221]
[11,6207,11,6210,12,6215,null,null,null,null,0,111]
[11,6320,11,6326,21,6353,null,null,null,null,0,112]
[11,6508,22,6518,23,6523,null,null,null,null,0,122]
[11,6617,11,6624,21,6633,null,null,null,null,0,112]
[11,6736,11,6742,21,6759,null,null,null,null,0,112]
[11,6938,22,6952,23,6967,null,null,null,null,0,122]
[11,7062,11,7067,21,7092,null,null,null,null,0,112]
[11,7186,22,7207,23,7252,null,null,null,null,0,122]
[11,7346,22,7357,23,7364,null,null,null,null,0,122]
[11,7495,11,7500,12,7531,null,null,null,null,0,111]
[11,7628,22,7639,23,7647,null,null,null,null,0,122]
[11,7744,11,7749,12,7754,null,null,null,null,0,111]
[11,7848,11,7853,21,7867,null,null,null,null,0,112]
[11,7978,11,7982,21,7994,null,null,null,null,0,112]
[11,8136,22,8179,23,8262,null,null,null,null,0,122]
[11,8356,22,8370,23,8377,null,null,null,null,0,122]
[11,8473,22,8484,23,8489,null,null,null,null,0,122]
[11,8582,11,8583,12,8588,null,null,null,null,0,111]
[11,8685,22,8695,23,8700,null,null,null,null,0,122]
[11,8795,11,8800,21,8811,null,null,null,null,0,112]
[11,8910,11,8914,21,8926,null,null,null,null,0,112]
[11,9030,11,9036,21,9053,null,null,null,null,0,112]
[11,9164,11,9168,12,9173,null,null,null,null,0,111]
[11,9266,22,9282,23,9292,null,null,null,null,0,122]
[11,9390,11,9396,21,9410,null,null,null,null,0,112]
[11,9521,11,9529,21,9555,null,null,null,null,0,112]
[11,9725,11,9730,21,9749,null,null,null,null,0,112]
[11,9863,11,9868,21,9878,null,null,null,null,0,112]
[11,10004,11,10013,21,10037,null,null,null,null,0,112]
[11,10202,22,10212,23,10227,null,null,null,null,0,122]
[11,10325,22,10334,23,10341,null,null,null,null,0,122]
[11,10443,11,10450,21,10461,null,null,null,null,0,112]
[11,10570,22,10592,14,10634,null,null,null,null,0,121]
[11,10731,11,10733,21,10760,null,null,null,null,0,112]
[11,10877,11,10881,12,10888,null,null,null,null,0,111]
[11,10983,11,10988,21,11008,null,null,null,null,0,112]
[11,11138,11,11140,12,11146,null,null,null,null,0,111]
[11,11244,11,11252,21,11267,null,null,null,null,0,112]
[11,11375,22,11402,14,11483,null,null,null,null,0,121]
[11,11578,11,11584,21,11618,null,null,null,null,0,112]
[11,11775,22,11786,23,11791,null,null,null,null,0,122]
[11,11884,11,11889,21,11898,null,null,null,null,0,112]
[11,12040,11,12047,12,12053,null,null,null,null,0,111]
[11,12149,11,12159,21,12178,null,null,null,null,0,112]
[11,12271,11,12277,21,12290,null,null,null,null,0,112]
[11,12394,11,12400,21,12426,null,null,null,null,0,112]
[11,12562,22,12581,23,12593,null,null,null,null,0,122]
[11,12688,11,12696,21,12728,null,null,null,null,0,112]
[11,12856,11,12861,12,12866,null,null,null,null,0,111]
[11,12961,11,12967,21,12993,null,null,null,null,0,112]
[11,13120,11,13122,21,13145,null,null,null,null,0,112]
[11,13269,22,13293,23,13315,null,null,null,null,0,122]
[11,13410,11,13416,12,13425,null,null,null,null,0,111]
[11,13521,11,13528,21,13548,null,null,null,null,0,112]
[11,13669,11,13673,21,13692,null,null,null,null,1,112]

{"sheet":"!MB25A3I.sha","index":19,"n_rows":97,"n_cols":48,"rows_kept":97,"cut":false,"hidden":false,"merged":[[4,39,4,42],[5,39,5,40],[4,44,4,47],[5,44,5,45],[4,24,4,27],[5,24,5,25],[4,29,4,32],[5,29,5,30],[4,34,4,37],[5,34,5,35],[1,1,1,2],[5,13,5,14],[18,13,18,14],[19,13,19,14],[4,19,4,22],[5,19,5,20]]}
["Report for:!MB25A3I.sha"]
["Date:","<date>"]
["Hen:","<hen>",null,null,null,"Correct Sequence",{"$f":"Start!J2","v":112},null,null,null,null,null,null,null,null,"Total Sequences in Data",{"$f":"4994-COUNTBLANK(L7:L5000)","v":91},null,null,null,null,"Total Sequences in Block Data",{"$f":"COUNTA(L7:L21)","v":15},null,null,null,"Total Sequences in Block Data",{"$f":"COUNTA(L22:L36)","v":15},null,null,null,"Total Sequences in Block Data",{"$f":"COUNTA(L37:L52)","v":16},null,null,null,"Total Sequences in Block Data",{"$f":"COUNTA(L53:L67)","v":15},null,null,null,"Total Sequences in Block Data",{"$f":"COUNTA(L68:L82)","v":15},null,null,null,"Total Sequences in Block Data",{"$f":"COUNTA(L83:L97)","v":15}]
[null,null,null,null,null,null,null,null,null,null,null,null,null,null,null,"Total Sequences in Summary",{"$f":"SUM(O7:O14)","v":91},null,null,null,null,"Total Sequences in Block Summary",{"$f":"SUM(U7:U14)","v":15},null,null,null,"Total Sequences in Block Summary",{"$f":"SUM(Z7:Z14)","v":15},null,null,null,"Total Sequences in Block Summary",{"$f":"SUM(AE7:AE14)","v":16},null,null,null,"Total Sequences in Block Summary",{"$f":"SUM(AJ7:AJ14)","v":15},null,null,null,"Total Sequences in Block Summary",{"$f":"SUM(AO7:AO14)","v":15},null,null,null,"Total Sequences in Block Summary",{"$f":"SUM(AT7:AT14)","v":15}]
[null,null,null,null,null,null,null,null,null,null,null,null,null,null,null,null,null,null,null,"Block 1",null,null,null,null,"Block 2",null,null,null,null,"Block 3",null,null,null,null,"Block 4",null,null,null,null,"Block 5",null,null,null,null,"Block 6"]
["Sequence\nComponent\n1","Time\n1","Sequence\nComponent\n2","Time\n2","Sequence\nComponent\n3","Time\n3","Sequence\nComponent\n4","Time\n4","Sequence\nComponent\n5","Time\n5","Correct?\n0=No 1=Yes","Sequence",null,"Frequency",null,"Relative Frequency","Variability",null,null,"Frequency",null,"Relative Frequency","Variability",null,"Frequency",null,"Relative Frequency","Variability",null,"Frequency",null,"Relative Frequency","Variability",null,"Frequency",null,"Relative Frequency","Variability",null,"Frequency",null,"Relative Frequency","Variability",null,"Frequency",null,"Relative Frequency","Variability"]
[22,62,24,66,23,73,null,null,null,null,0,222,null,111,{"$f":"COUNTIF($L$7:$L$500,N7)","v":9},{"$f":"O7/$Q$4","v":9.8901098901098897E-2},{"$f":"IF(P7=0,0,(P7*((LOG(P7))/LOG(2))))","v":-0.33011897526162037},null,null,{"$f":"N7","v":111},{"$f":"COUNTIF(L7:L21,T7)","v":1},{"$f":"U7/(W4-U8)","v":9.0909090909090912E-2},{"$f":"IF(V7=0,0,(V7*((LOG(V7))/LOG(2))))","v":-0.31449378351248153},null,{"$f":"N7","v":111},{"$f":"COUNTIF(L22:L36,Y7)","v":1},{"$f":"Z7/(AB4-Z8)","v":0.1111111111111111},{"$f":"IF(AA7=0,0,(AA7*((LOG(AA7))/LOG(2))))","v":-0.3522138890491458},null,{"$f":"N7","v":111},{"$f":"COUNTIF(L37:L52,AD7)","v":3},{"$f":"AE7/(AG4-AE8)","v":0.3},{"$f":"IF(AF7=0,0,(AF7*((LOG(AF7))/LOG(2))))","v":-0.52108967824986185},null,{"$f":"N7","v":111},{"$f":"COUNTIF(L53:L67,AI7)","v":3},{"$f":"AJ7/(AL4-AJ8)","v":0.42857142857142855},{"$f":"IF(AK7=0,0,(AK7*((LOG(AK7))/LOG(2))))","v":-0.52388246628704915},null,{"$f":"N7","v":111},{"$f":"COUNTIF(L68:L82,AN7)","v":1},{"$f":"AO7/(AQ4-AO8)","v":0.14285714285714285},{"$f":"IF(AP7=0,0,(AP7*((LOG(AP7))/LOG(2))))","v":-0.40105070315108626},null,{"$f":"N7","v":111},{"$f":"COUNTIF(L83:L97,AS7)","v":0},{"$f":"AT7/(AV4-AT8)","v":0},{"$f":"IF(AU7=0,0,(AU7*((LOG(AU7))/LOG(2))))","v":0}]
[11,164,22,179,14,213,null,null,null,null,0,121,null,112,{"$f":"COUNTIF($L$7:$L$500,N8)","v":40},{"$f":"O8/$Q$4","v":0.43956043956043955},{"$f":"IF(P8=0,0,(P8*((LOG(P8))/LOG(2))))","v":-0.52126001991706983},null,null,{"$f":"N8","v":112},{"$f":"COUNTIF(L7:L21,T8)","v":4},null,null,null,{"$f":"N8","v":112},{"$f":"COUNTIF(L22:L36,Y8)","v":6},null,null,null,{"$f":"N8","v":112},{"$f":"COUNTIF(L37:L52,AD8)","v":6},null,null,null,{"$f":"N8","v":112},{"$f":"COUNTIF(L53:L67,AI8)","v":8},null,null,null,{"$f":"N8","v":112},{"$f":"COUNTIF(L68:L82,AN8)","v":8},null,null,null,{"$f":"N8","v":112},{"$f":"COUNTIF(L83:L97,AS8)","v":8}]
[11,308,22,318,23,324,null,null,null,null,0,122,null,121,{"$f":"COUNTIF($L$7:$L$500,N9)","v":11},{"$f":"O9/$Q$4","v":0.12087912087912088},{"$f":"IF(P9=0,0,(P9*((LOG(P9))/LOG(2))))","v":-0.36848344216676249},null,null,{"$f":"N9","v":121},{"$f":"COUNTIF(L7:L21,T9)","v":4},{"$f":"U9/(W4-U8)","v":0.36363636363636365},{"$f":"IF(V9=0,0,(V9*((LOG(V9))/LOG(2))))","v":-0.53070240677719893},null,{"$f":"N9","v":121},{"$f":"COUNTIF(L22:L36,Y9)","v":2},{"$f":"Z9/(AB4-Z8)","v":0.22222222222222221},{"$f":"IF(AA9=0,0,(AA9*((LOG(AA9))/LOG(2))))","v":-0.48220555587606945},null,{"$f":"N9","v":121},{"$f":"COUNTIF(L37:L52,AD9)","v":2},{"$f":"AE9/(AG4-AE8)","v":0.2},{"$f":"IF(AF9=0,0,(AF9*((LOG(AF9))/LOG(2))))","v":-0.46438561897747244},null,{"$f":"N9","v":121},{"$f":"COUNTIF(L53:L67,AI9)","v":2},{"$f":"AJ9/(AL4-AJ8)","v":0.2857142857142857},{"$f":"IF(AK9=0,0,(AK9*((LOG(AK9))/LOG(2))))","v":-0.51638712058788683},null,{"$f":"N9","v":121},{"$f":"COUNTIF(L68:L82,AN9)","v":1},{"$f":"AO9/(AQ4-AO8)","v":0.14285714285714285},{"$f":"IF(AP9=0,0,(AP9*((LOG(AP9))/LOG(2))))","v":-0.40105070315108626},null,{"$f":"N9","v":121},{"$f":"COUNTIF(L83:L97,AS9)","v":0},{"$f":"AT9/(AV4-AT8)","v":0},{"$f":"IF(AU9=0,0,(AU9*((LOG(AU9))/LOG(2))))","v":0}]
[11,417,11,421,21,430,null,null,null,null,0,112,null,122,{"$f":"COUNTIF($L$7:$L$500,N10)","v":26},{"$f":"O10/$Q$4","v":0.2857142857142857},{"$f":"IF(P10=0,0,(P10*((LOG(P10))/LOG(2))))","v":-0.51638712058788683},null,null,{"$f":"N10","v":122},{"$f":"COUNTIF(L7:L21,T10)","v":5},{"$f":"U10/(W4-U8)","v":0.45454545454545453},{"$f":"IF(V10=0,0,(V10*((LOG(V10))/LOG(2))))","v":-0.51704705624997038},null,{"$f":"N10","v":122},{"$f":"COUNTIF(L22:L36,Y10)","v":6},{"$f":"Z10/(AB4-Z8)","v":0.66666666666666663},{"$f":"IF(AA10=0,0,(AA10*((LOG(AA10))/LOG(2))))","v":-0.38997500048077083},null,{"$f":"N10","v":122},{"$f":"COUNTIF(L37:L52,AD10)","v":5},{"$f":"AE10/(AG4-AE8)","v":0.5},{"$f":"IF(AF10=0,0,(AF10*((LOG(AF10))/LOG(2))))","v":-0.5},null,{"$f":"N10","v":122},{"$f":"COUNTIF(L53:L67,AI10)","v":1},{"$f":"AJ10/(AL4-AJ8)","v":0.14285714285714285},{"$f":"IF(AK10=0,0,(AK10*((LOG(AK10))/LOG(2))))","v":-0.40105070315108626},null,{"$f":"N10","v":122},{"$f":"COUNTIF(L68:L82,AN10)","v":4},{"$f":"AO10/(AQ4-AO8)","v":0.5714285714285714},{"$f":"IF(AP10=0,0,(AP10*((LOG(AP10))/LOG(2))))","v":-0.46134566974720237},null,{"$f":"N10","v":122},{"$f":"COUNTIF(L83:L97,AS10)","v":5},{"$f":"AT10/(AV4-AT8)","v":0.7142857142857143},{"$f":"IF(AU10=0,0,(AU10*((LOG(AU10))/LOG(2))))","v":-0.34673344797874411}]
[11,529,22,545,23,587,null,null,null,null,0,122,null,211,{"$f":"COUNTIF($L$7:$L$500,N11)","v":0},{"$f":"O11/$Q$4","v":0},{"$f":"IF(P11=0,0,(P11*((LOG(P11))/LOG(2))))","v":0},null,null,{"$f":"N11","v":211},{"$f":"COUNTIF(L7:L21,T11)","v":0},{"$f":"U11/(W4-U8)","v":0},{"$f":"IF(V11=0,0,(V11*((LOG(V11))/LOG(2))))","v":0},null,{"$f":"N11","v":211},{"$f":"COUNTIF(L22:L36,Y11)","v":0},{"$f":"Z11/(AB4-Z8)","v":0},{"$f":"IF(AA11=0,0,(AA11*((LOG(AA11))/LOG(2))))","v":0},null,{"$f":"N11","v":211},{"$f":"COUNTIF(L37:L52,AD11)","v":0},{"$f":"AE11/(AG4-AE8)","v":0},{"$f":"IF(AF11=0,0,(AF11*((LOG(AF11))/LOG(2))))","v":0},null,{"$f":"N11","v":211},{"$f":"COUNTIF(L53:L67,AI11)","v":0},{"$f":"AJ11/(AL4-AJ8)","v":0},{"$f":"IF(AK11=0,0,(AK11*((LOG(AK11))/LOG(2))))","v":0},null,{"$f":"N11","v":211},{"$f":"COUNTIF(L68:L82,AN11)","v":0},{"$f":"AO11/(AQ4-AO8)","v":0},{"$f":"IF(AP11=0,0,(AP11*((LOG(AP11))/LOG(2))))","v":0},null,{"$f":"N11","v":211},{"$f":"COUNTIF(L83:L97,AS11)","v":0},{"$f":"AT11/(AV4-AT8)","v":0},{"$f":"IF(AU11=0,0,(AU11*((LOG(AU11))/LOG(2))))","v":0}]
[11,683,22,696,23,701,null,null,null,null,0,122,null,212,{"$f":"COUNTIF($L$7:$L$500,N12)","v":0},{"$f":"O12/$Q$4","v":0},{"$f":"IF(P12=0,0,(P12*((LOG(P12))/LOG(2))))","v":0},null,null,{"$f":"N12","v":212},{"$f":"COUNTIF(L7:L21,T12)","v":0},{"$f":"U12/(W4-U8)","v":0},{"$f":"IF(V12=0,0,(V12*((LOG(V12))/LOG(2))))","v":0},null,{"$f":"N12","v":212},{"$f":"COUNTIF(L22:L36,Y12)","v":0},{"$f":"Z12/(AB4-Z8)","v":0},{"$f":"IF(AA12=0,0,(AA12*((LOG(AA12))/LOG(2))))","v":0},null,{"$f":"N12","v":212},{"$f":"COUNTIF(L37:L52,AD12)","v":0},{"$f":"AE12/(AG4-AE8)","v":0},{"$f":"IF(AF12=0,0,(AF12*((LOG(AF12))/LOG(2))))","v":0},null,{"$f":"N12","v":212},{"$f":"COUNTIF(L53:L67,AI12)","v":0},{"$f":"AJ12/(AL4-AJ8)","v":0},{"$f":"IF(AK12=0,0,(AK12*((LOG(AK12))/LOG(2))))","v":0},null,{"$f":"N12","v":212},{"$f":"COUNTIF(L68:L82,AN12)","v":0},{"$f":"AO12/(AQ4-AO8)","v":0},{"$f":"IF(AP12=0,0,(AP12*((LOG(AP12))/LOG(2))))","v":0},null,{"$f":"N12","v":212},{"$f":"COUNTIF(L83:L97,AS12)","v":0},{"$f":"AT12/(AV4-AT8)","v":0},{"$f":"IF(AU12=0,0,(AU12*((LOG(AU12))/LOG(2))))","v":0}]
[11,800,22,811,23,832,null,null,null,null,0,122,null,221,{"$f":"COUNTIF($L$7:$L$500,N13)","v":1},{"$f":"O13/$Q$4","v":1.098901098901099E-2},{"$f":"IF(P13=0,0,(P13*((LOG(P13))/LOG(2))))","v":-7.1514226815370299E-2},null,null,{"$f":"N13","v":221},{"$f":"COUNTIF(L7:L21,T13)","v":0},{"$f":"U13/(W4-U8)","v":0},{"$f":"IF(V13=0,0,(V13*((LOG(V13))/LOG(2))))","v":0},null,{"$f":"N13","v":221},{"$f":"COUNTIF(L22:L36,Y13)","v":0},{"$f":"Z13/(AB4-Z8)","v":0},{"$f":"IF(AA13=0,0,(AA13*((LOG(AA13))/LOG(2))))","v":0},null,{"$f":"N13","v":221},{"$f":"COUNTIF(L37:L52,AD13)","v":0},{"$f":"AE13/(AG4-AE8)","v":0},{"$f":"IF(AF13=0,0,(AF13*((LOG(AF13))/LOG(2))))","v":0},null,{"$f":"N13","v":221},{"$f":"COUNTIF(L53:L67,AI13)","v":0},{"$f":"AJ13/(AL4-AJ8)","v":0},{"$f":"IF(AK13=0,0,(AK13*((LOG(AK13))/LOG(2))))","v":0},null,{"$f":"N13","v":221},{"$f":"COUNTIF(L68:L82,AN13)","v":1},{"$f":"AO13/(AQ4-AO8)","v":0.14285714285714285},{"$f":"IF(AP13=0,0,(AP13*((LOG(AP13))/LOG(2))))","v":-0.40105070315108626},null,{"$f":"N13","v":221},{"$f":"COUNTIF(L83:L97,AS13)","v":0},{"$f":"AT13/(AV4-AT8)","v":0},{"$f":"IF(AU13=0,0,(AU13*((LOG(AU13))/LOG(2))))","v":0}]
[11,928,11,949,21,961,null,null,null,null,0,112,null,222,{"$f":"COUNTIF($L$7:$L$500,N14)","v":4},{"$f":"O14/$Q$4","v":4.3956043956043959E-2},{"$f":"IF(P14=0,0,(P14*((LOG(P14))/LOG(2))))","v":-0.19814481934939326},null,null,{"$f":"N14","v":222},{"$f":"COUNTIF(L7:L21,T14)","v":1},{"$f":"U14/(W4-U8)","v":9.0909090909090912E-2},{"$f":"IF(V14=0,0,(V14*((LOG(V14))/LOG(2))))","v":-0.31449378351248153},null,{"$f":"N14","v":222},{"$f":"COUNTIF(L22:L36,Y14)","v":0},{"$f":"Z14/(AB4-Z8)","v":0},{"$f":"IF(AA14=0,0,(AA14*((LOG(AA14))/LOG(2))))","v":0},null,{"$f":"N14","v":222},{"$f":"COUNTIF(L37:L52,AD14)","v":0},{"$f":"AE14/(AG4-AE8)","v":0},{"$f":"IF(AF14=0,0,(AF14*((LOG(AF14))/LOG(2))))","v":0},null,{"$f":"N14","v":222},{"$f":"COUNTIF(L53:L67,AI14)","v":1},{"$f":"AJ14/(AL4-AJ8)","v":0.14285714285714285},{"$f":"IF(AK14=0,0,(AK14*((LOG(AK14))/LOG(2))))","v":-0.40105070315108626},null,{"$f":"N14","v":222},{"$f":"COUNTIF(L68:L82,AN14)","v":0},{"$f":"AO14/(AQ4-AO8)","v":0},{"$f":"IF(AP14=0,0,(AP14*((LOG(AP14))/LOG(2))))","v":0},null,{"$f":"N14","v":222},{"$f":"COUNTIF(L83:L97,AS14)","v":2},{"$f":"AT14/(AV4-AT8)","v":0.2857142857142857},{"$f":"IF(AU14=0,0,(AU14*((LOG(AU14))/LOG(2))))","v":-0.51638712058788683}]
[11,1104,11,1109,12,1112,null,null,null,null,0,111,null,null,null,{"$f":"SUM(P7:P14)","v":0.99999999999999989},{"$f":"-SUM(Q7:Q14)","v":2.0059086040981029},null,null,null,null,{"$f":"SUM(V7:V14)","v":1},{"$f":"-SUM(W7:W14)","v":1.6767370300521323},null,null,null,{"$f":"SUM(AA7:AA14)","v":1},{"$f":"-SUM(AB7:AB14)","v":1.2243944454059861},null,null,null,{"$f":"SUM(AF7:AF14)","v":1},{"$f":"-SUM(AG7:AG14)","v":1.4854752972273344},null,null,null,{"$f":"SUM(AK7:AK14)","v":0.99999999999999978},{"$f":"-SUM(AL7:AL14)","v":1.8423709931771088},null,null,null,{"$f":"SUM(AP7:AP14)","v":1},{"$f":"-SUM(AQ7:AQ14)","v":1.6644977792004614},null,null,null,{"$f":"SUM(AU7:AU14)","v":1},{"$f":"-SUM(AV7:AV14)","v":0.863120568566631}]
[11,1207,22,1232,14,1317,null,null,null,null,0,121,null,null,null,"U=",{"$f":"Q15/(LOG(Q4)/LOG(2))","v":0.30823169983078297},null,null,null,null,"U1=",{"$f":"W15/(LOG(W4)/LOG(2))","v":0.42917429833762},null,null,null,"U2=",{"$f":"AB15/(LOG(AB4)/LOG(2))","v":0.31339358383422566},null,null,null,"U3=",{"$f":"AG15/(LOG(AG4)/LOG(2))","v":0.3713688243068336},null,null,null,"U4=",{"$f":"AL15/(LOG(AL4)/LOG(2))","v":0.4715696403805108},null,null,null,"U5=",{"$f":"AQ15/(LOG(AQ4)/LOG(2))","v":0.42604156386447445},null,null,null,"U6=",{"$f":"AV15/(LOG(AV4)/LOG(2))","v":0.22092263590303979}]
[11,1411,11,1416,21,1429,null,null,null,null,0,112]
[11,1560,22,1572,23,1593,null,null,null,null,0,122]
[11,1690,11,1696,21,1705,null,null,null,null,0,112,null,"Total Target Seq"]
[11,1837,22,1857,14,1907,null,null,null,null,0,121,null,{"$f":"COUNTIF(L7:L97,G3)","v":40},null,15,15,16,15,15,15]
[11,2004,22,2018,14,2042,null,null,null,null,0,121,null,null,null,"% of reinforcement given in 6 equal intervals based on number of trials "]
[11,2305,22,2322,23,2333,null,null,null,null,0,122,null,null,null,"%_1","%_2","%_3","%_4","%_5","%_6"]
[11,2428,11,2433,21,2451,null,null,null,null,0,112,null,null,"target sequence",{"$f":"$G$3","v":112},{"$f":"$G$3","v":112},{"$f":"$G$3","v":112},{"$f":"$G$3","v":112},{"$f":"$G$3","v":112},{"$f":"$G$3","v":112}]
[11,2577,11,2582,21,2600,null,null,null,null,0,112,null,null,"total reinforcement",{"$f":"U8","v":4},{"$f":"Z8","v":6},{"$f":"AE8","v":6},{"$f":"AJ8","v":8},{"$f":"AO8","v":8},{"$f":"AT8","v":8}]
[11,2739,11,2746,21,2760,null,null,null,null,0,112,null,null,"% target"]
[11,2856,22,2871,14,3003,null,null,null,null,0,121,null,null,"CCRF"]
[11,3099,22,3108,23,3113,null,null,null,null,0,122,null,null,"% CCRf"]
[11,3253,22,3291,23,3298,null,null,null,null,0,122,null,null,"average response rate",{"$f":"F21/P20","v":136.13333333333333},{"$f":"(F36-F21)/Q20","v":164.66666666666666},{"$f":"(F52-F36)/R20","v":151.625},{"$f":"(F67-F52)/S20","v":157.26666666666668},{"$f":"(F82-F67)/T20","v":178},{"$f":"(F97-F82)/U20","v":144.53333333333333}]
[11,3396,22,3406,23,3411,null,null,null,null,0,122]
[11,3511,22,3524,23,3533,null,null,null,null,0,122]
[11,3636,22,3647,23,3654,null,null,null,null,0,122]
[11,3749,11,3754,21,3764,null,null,null,null,0,112]
[11,3930,11,3932,12,3939,null,null,null,null,0,111]
[11,4035,11,4041,21,4114,null,null,null,null,0,112]
[11,4229,11,4233,21,4256,null,null,null,null,0,112]
[11,4427,22,4441,14,4512,null,null,null,null,0,121]
[11,4604,22,4624,14,4699,null,null,null,null,0,121]
[11,4793,22,4808,14,4936,null,null,null,null,0,121]
[11,5030,11,5039,21,5050,null,null,null,null,0,112]
[11,5312,11,5333,21,5361,null,null,null,null,0,112]
[11,5520,11,5525,12,5531,null,null,null,null,0,111]
[11,5632,22,5641,23,5651,null,null,null,null,0,122]
[11,5747,11,5750,21,5760,null,null,null,null,0,112]
[11,5852,11,5856,12,5862,null,null,null,null,0,111]
[11,5959,22,5967,23,5975,null,null,null,null,0,122]
[11,6072,22,6087,23,6097,null,null,null,null,0,122]
[11,6192,11,6197,21,6207,null,null,null,null,0,112]
[11,6369,11,6375,12,6378,null,null,null,null,0,111]
[11,6473,11,6477,21,6490,null,null,null,null,0,112]
[11,6604,11,6613,21,6648,null,null,null,null,0,112]
[11,6781,22,6796,23,6826,null,null,null,null,0,122]
[11,6924,22,6933,23,6938,null,null,null,null,0,122]
[11,7033,11,7037,12,7042,null,null,null,null,0,111]
[22,7147,24,7153,23,7162,null,null,null,null,0,222]
[11,7258,11,7262,21,7278,null,null,null,null,0,112]
[11,7404,22,7421,14,7467,null,null,null,null,0,121]
[11,7564,11,7570,21,7580,null,null,null,null,0,112]
[11,7690,11,7697,21,7708,null,null,null,null,0,112]
[11,7917,22,7929,23,7946,null,null,null,null,0,122]
[11,8044,11,8056,21,8067,null,null,null,null,0,112]
[11,8164,11,8169,21,8190,null,null,null,null,0,112]
[11,8287,11,8291,12,8297,null,null,null,null,0,111]
[11,8390,11,8397,21,8407,null,null,null,null,0,112]
[11,8572,22,8586,14,8822,null,null,null,null,0,121]
[11,8918,11,8923,21,8939,null,null,null,null,0,112]
[11,9089,11,9096,21,9111,null,null,null,null,0,112]
[11,9285,11,9291,12,9297,null,null,null,null,0,111]
[11,9392,11,9397,21,9441,null,null,null,null,0,112]
[11,9581,11,9590,21,9605,null,null,null,null,0,112]
[11,9723,11,9730,21,9757,null,null,null,null,0,112]
[11,9975,11,9981,21,9991,null,null,null,null,0,112]
[11,10189,22,10208,23,10284,null,null,null,null,0,122]
[11,10378,11,10384,21,10393,null,null,null,null,0,112]
[11,10516,22,10542,23,10563,null,null,null,null,0,122]
[11,10660,11,10663,21,10682,null,null,null,null,0,112]
[22,10823,24,10840,14,10901,null,null,null,null,0,221]
[11,10997,22,11011,23,11165,null,null,null,null,0,122]
[11,11260,11,11263,21,11285,null,null,null,null,0,112]
[11,11435,22,11460,23,11541,null,null,null,null,0,122]
[11,11633,11,11637,12,11644,null,null,null,null,0,111]
[11,11741,11,11748,21,11762,null,null,null,null,0,112]
[11,11885,22,11907,14,11967,null,null,null,null,0,121]
[11,12062,11,12066,21,12076,null,null,null,null,0,112]
[22,12235,24,12308,23,12314,null,null,null,null,0,222]
[11,12407,11,12412,21,12423,null,null,null,null,0,112]
[11,12532,11,12537,21,12559,null,null,null,null,0,112]
[11,12702,11,12707,21,12729,null,null,null,null,0,112]
[11,12896,22,12921,23,12941,null,null,null,null,0,122]
[22,13049,24,13061,23,13070,null,null,null,null,0,222]
[11,13162,11,13165,21,13175,null,null,null,null,0,112]
[11,13317,22,13337,23,13354,null,null,null,null,0,122]
[11,13452,22,13463,23,13470,null,null,null,null,0,122]
[11,13565,11,13569,21,13579,null,null,null,null,0,112]
[11,13681,22,13707,23,13722,null,null,null,null,0,122]
[11,13849,22,13859,23,13892,null,null,null,null,0,122]
[11,13987,11,13991,21,14001,null,null,null,null,0,112]
[11,14103,11,14111,21,14135,null,null,null,null,1,112]

{"sheet":"!MB26A2I.sha","index":20,"n_rows":107,"n_cols":48,"rows_kept":107,"cut":false,"hidden":false,"merged":[[4,39,4,42],[5,39,5,40],[4,44,4,47],[5,44,5,45],[4,24,4,27],[5,24,5,25],[4,29,4,32],[5,29,5,30],[4,34,4,37],[5,34,5,35],[1,1,1,2],[5,13,5,14],[18,13,18,14],[19,13,19,14],[4,19,4,22],[5,19,5,20]]}
["Report for:!MB26A2I.sha"]
["Date:","<date>"]
["Hen:","<hen>",null,null,null,"Correct Sequence",{"$f":"Start!J2","v":112},null,null,null,null,null,null,null,null,"Total Sequences in Data",{"$f":"4994-COUNTBLANK(L7:L5000)","v":101},null,null,null,null,"Total Sequences in Block Data",{"$f":"COUNTA(L7:L23)","v":17},null,null,null,"Total Sequences in Block Data",{"$f":"COUNTA(L24:L40)","v":17},null,null,null,"Total Sequences in Block Data",{"$f":"COUNTA(L41:L56)","v":16},null,null,null,"Total Sequences in Block Data",{"$f":"COUNTA(L57:L73)","v":17},null,null,null,"Total Sequences in Block Data",{"$f":"COUNTA(L74:L90)","v":17},null,null,null,"Total Sequences in Block Data",{"$f":"COUNTA(L91:L107)","v":17}]
[null,null,null,null,null,null,null,null,null,null,null,null,null,null,null,"Total Sequences in Summary",{"$f":"SUM(O7:O14)","v":101},null,null,null,null,"Total Sequences in Block Summary",{"$f":"SUM(U7:U14)","v":17},null,null,null,"Total Sequences in Block Summary",{"$f":"SUM(Z7:Z14)","v":17},null,null,null,"Total Sequences in Block Summary",{"$f":"SUM(AE7:AE14)","v":16},null,null,null,"Total Sequences in Block Summary",{"$f":"SUM(AJ7:AJ14)","v":17},null,null,null,"Total Sequences in Block Summary",{"$f":"SUM(AO7:AO14)","v":17},null,null,null,"Total Sequences in Block Summary",{"$f":"SUM(AT7:AT14)","v":17}]
[null,null,null,null,null,null,null,null,null,null,null,null,null,null,null,null,null,null,null,"Block 1",null,null,null,null,"Block 2",null,null,null,null,"Block 3",null,null,null,null,"Block 4",null,null,null,null,"Block 5",null,null,null,null,"Block 6"]
["Sequence\nComponent\n1","Time\n1","Sequence\nComponent\n2","Time\n2","Sequence\nComponent\n3","Time\n3","Sequence\nComponent\n4","Time\n4","Sequence\nComponent\n5","Time\n5","Correct?\n0=No 1=Yes","Sequence",null,"Frequency",null,"Relative Frequency","Variability",null,null,"Frequency",null,"Relative Frequency","Variability",null,"Frequency",null,"Relative Frequency","Variability",null,"Frequency",null,"Relative Frequency","Variability",null,"Frequency",null,"Relative Frequency","Variability",null,"Frequency",null,"Relative Frequency","Variability",null,"Frequency",null,"Relative Frequency","Variability"]
[11,3,22,12,23,18,null,null,null,null,0,122,null,111,{"$f":"COUNTIF($L$7:$L$500,N7)","v":12},{"$f":"O7/$Q$4","v":0.11881188118811881},{"$f":"IF(P7=0,0,(P7*((LOG(P7))/LOG(2))))","v":-0.36513849291453132},null,null,{"$f":"N7","v":111},{"$f":"COUNTIF(L7:L23,T7)","v":1},{"$f":"U7/(W4-U8)","v":7.6923076923076927E-2},{"$f":"IF(V7=0,0,(V7*((LOG(V7))/LOG(2))))","v":-0.28464920908777636},null,{"$f":"N7","v":111},{"$f":"COUNTIF(L24:L40,Y7)","v":2},{"$f":"Z7/(AB4-Z8)","v":0.18181818181818182},{"$f":"IF(AA7=0,0,(AA7*((LOG(AA7))/LOG(2))))","v":-0.44716938520678134},null,{"$f":"N7","v":111},{"$f":"COUNTIF(L41:L56,AD7)","v":2},{"$f":"AE7/(AG4-AE8)","v":0.33333333333333331},{"$f":"IF(AF7=0,0,(AF7*((LOG(AF7))/LOG(2))))","v":-0.52832083357371862},null,{"$f":"N7","v":111},{"$f":"COUNTIF(L57:L73,AI7)","v":4},{"$f":"AJ7/(AL4-AJ8)","v":0.36363636363636365},{"$f":"IF(AK7=0,0,(AK7*((LOG(AK7))/LOG(2))))","v":-0.53070240677719893},null,{"$f":"N7","v":111},{"$f":"COUNTIF(L74:L90,AN7)","v":3},{"$f":"AO7/(AQ4-AO8)","v":0.27272727272727271},{"$f":"IF(AP7=0,0,(AP7*((LOG(AP7))/LOG(2))))","v":-0.51121885034076575},null,{"$f":"N7","v":111},{"$f":"COUNTIF(L91:L107,AS7)","v":0},{"$f":"AT7/(AV4-AT8)","v":0},{"$f":"IF(AU7=0,0,(AU7*((LOG(AU7))/LOG(2))))","v":0}]
[11,118,22,125,23,128,null,null,null,null,0,122,null,112,{"$f":"COUNTIF($L$7:$L$500,N8)","v":40},{"$f":"O8/$Q$4","v":0.39603960396039606},{"$f":"IF(P8=0,0,(P8*((LOG(P8))/LOG(2))))","v":-0.52922114370868611},null,null,{"$f":"N8","v":112},{"$f":"COUNTIF(L7:L23,T8)","v":4},null,null,null,{"$f":"N8","v":112},{"$f":"COUNTIF(L24:L40,Y8)","v":6},null,null,null,{"$f":"N8","v":112},{"$f":"COUNTIF(L41:L56,AD8)","v":10},null,null,null,{"$f":"N8","v":112},{"$f":"COUNTIF(L57:L73,AI8)","v":6},null,null,null,{"$f":"N8","v":112},{"$f":"COUNTIF(L74:L90,AN8)","v":6},null,null,null,{"$f":"N8","v":112},{"$f":"COUNTIF(L91:L107,AS8)","v":8}]
[11,223,22,239,23,246,null,null,null,null,0,122,null,121,{"$f":"COUNTIF($L$7:$L$500,N9)","v":5},{"$f":"O9/$Q$4","v":4.9504950495049507E-2},{"$f":"IF(P9=0,0,(P9*((LOG(P9))/LOG(2))))","v":-0.21466749444873426},null,null,{"$f":"N9","v":121},{"$f":"COUNTIF(L7:L23,T9)","v":0},{"$f":"U9/(W4-U8)","v":0},{"$f":"IF(V9=0,0,(V9*((LOG(V9))/LOG(2))))","v":0},null,{"$f":"N9","v":121},{"$f":"COUNTIF(L24:L40,Y9)","v":2},{"$f":"Z9/(AB4-Z8)","v":0.18181818181818182},{"$f":"IF(AA9=0,0,(AA9*((LOG(AA9))/LOG(2))))","v":-0.44716938520678134},null,{"$f":"N9","v":121},{"$f":"COUNTIF(L41:L56,AD9)","v":0},{"$f":"AE9/(AG4-AE8)","v":0},{"$f":"IF(AF9=0,0,(AF9*((LOG(AF9))/LOG(2))))","v":0},null,{"$f":"N9","v":121},{"$f":"COUNTIF(L57:L73,AI9)","v":2},{"$f":"AJ9/(AL4-AJ8)","v":0.18181818181818182},{"$f":"IF(AK9=0,0,(AK9*((LOG(AK9))/LOG(2))))","v":-0.44716938520678134},null,{"$f":"N9","v":121},{"$f":"COUNTIF(L74:L90,AN9)","v":0},{"$f":"AO9/(AQ4-AO8)","v":0},{"$f":"IF(AP9=0,0,(AP9*((LOG(AP9))/LOG(2))))","v":0},null,{"$f":"N9","v":121},{"$f":"COUNTIF(L91:L107,AS9)","v":1},{"$f":"AT9/(AV4-AT8)","v":0.1111111111111111},{"$f":"IF(AU9=0,0,(AU9*((LOG(AU9))/LOG(2))))","v":-0.3522138890491458}]
[11,338,11,341,12,347,null,null,null,null,0,111,null,122,{"$f":"COUNTIF($L$7:$L$500,N10)","v":37},{"$f":"O10/$Q$4","v":0.36633663366336633},{"$f":"IF(P10=0,0,(P10*((LOG(P10))/LOG(2))))","v":-0.53073317161926004},null,null,{"$f":"N10","v":122},{"$f":"COUNTIF(L7:L23,T10)","v":10},{"$f":"U10/(W4-U8)","v":0.76923076923076927},{"$f":"IF(V10=0,0,(V10*((LOG(V10))/LOG(2))))","v":-0.29116278711825366},null,{"$f":"N10","v":122},{"$f":"COUNTIF(L24:L40,Y10)","v":6},{"$f":"Z10/(AB4-Z8)","v":0.54545454545454541},{"$f":"IF(AA10=0,0,(AA10*((LOG(AA10))/LOG(2))))","v":-0.47698315522698609},null,{"$f":"N10","v":122},{"$f":"COUNTIF(L41:L56,AD10)","v":3},{"$f":"AE10/(AG4-AE8)","v":0.5},{"$f":"IF(AF10=0,0,(AF10*((LOG(AF10))/LOG(2))))","v":-0.5},null,{"$f":"N10","v":122},{"$f":"COUNTIF(L57:L73,AI10)","v":5},{"$f":"AJ10/(AL4-AJ8)","v":0.45454545454545453},{"$f":"IF(AK10=0,0,(AK10*((LOG(AK10))/LOG(2))))","v":-0.51704705624997038},null,{"$f":"N10","v":122},{"$f":"COUNTIF(L74:L90,AN10)","v":8},{"$f":"AO10/(AQ4-AO8)","v":0.72727272727272729},{"$f":"IF(AP10=0,0,(AP10*((LOG(AP10))/LOG(2))))","v":-0.33413208628167068},null,{"$f":"N10","v":122},{"$f":"COUNTIF(L91:L107,AS10)","v":5},{"$f":"AT10/(AV4-AT8)","v":0.55555555555555558},{"$f":"IF(AU10=0,0,(AU10*((LOG(AU10))/LOG(2))))","v":-0.4711093925305278}]
[11,441,22,454,23,539,null,null,null,null,0,122,null,211,{"$f":"COUNTIF($L$7:$L$500,N11)","v":0},{"$f":"O11/$Q$4","v":0},{"$f":"IF(P11=0,0,(P11*((LOG(P11))/LOG(2))))","v":0},null,null,{"$f":"N11","v":211},{"$f":"COUNTIF(L7:L23,T11)","v":0},{"$f":"U11/(W4-U8)","v":0},{"$f":"IF(V11=0,0,(V11*((LOG(V11))/LOG(2))))","v":0},null,{"$f":"N11","v":211},{"$f":"COUNTIF(L24:L40,Y11)","v":0},{"$f":"Z11/(AB4-Z8)","v":0},{"$f":"IF(AA11=0,0,(AA11*((LOG(AA11))/LOG(2))))","v":0},null,{"$f":"N11","v":211},{"$f":"COUNTIF(L41:L56,AD11)","v":0},{"$f":"AE11/(AG4-AE8)","v":0},{"$f":"IF(AF11=0,0,(AF11*((LOG(AF11))/LOG(2))))","v":0},null,{"$f":"N11","v":211},{"$f":"COUNTIF(L57:L73,AI11)","v":0},{"$f":"AJ11/(AL4-AJ8)","v":0},{"$f":"IF(AK11=0,0,(AK11*((LOG(AK11))/LOG(2))))","v":0},null,{"$f":"N11","v":211},{"$f":"COUNTIF(L74:L90,AN11)","v":0},{"$f":"AO11/(AQ4-AO8)","v":0},{"$f":"IF(AP11=0,0,(AP11*((LOG(AP11))/LOG(2))))","v":0},null,{"$f":"N11","v":211},{"$f":"COUNTIF(L91:L107,AS11)","v":0},{"$f":"AT11/(AV4-AT8)","v":0},{"$f":"IF(AU11=0,0,(AU11*((LOG(AU11))/LOG(2))))","v":0}]
[11,631,22,643,23,650,null,null,null,null,0,122,null,212,{"$f":"COUNTIF($L$7:$L$500,N12)","v":0},{"$f":"O12/$Q$4","v":0},{"$f":"IF(P12=0,0,(P12*((LOG(P12))/LOG(2))))","v":0},null,null,{"$f":"N12","v":212},{"$f":"COUNTIF(L7:L23,T12)","v":0},{"$f":"U12/(W4-U8)","v":0},{"$f":"IF(V12=0,0,(V12*((LOG(V12))/LOG(2))))","v":0},null,{"$f":"N12","v":212},{"$f":"COUNTIF(L24:L40,Y12)","v":0},{"$f":"Z12/(AB4-Z8)","v":0},{"$f":"IF(AA12=0,0,(AA12*((LOG(AA12))/LOG(2))))","v":0},null,{"$f":"N12","v":212},{"$f":"COUNTIF(L41:L56,AD12)","v":0},{"$f":"AE12/(AG4-AE8)","v":0},{"$f":"IF(AF12=0,0,(AF12*((LOG(AF12))/LOG(2))))","v":0},null,{"$f":"N12","v":212},{"$f":"COUNTIF(L57:L73,AI12)","v":0},{"$f":"AJ12/(AL4-AJ8)","v":0},{"$f":"IF(AK12=0,0,(AK12*((LOG(AK12))/LOG(2))))","v":0},null,{"$f":"N12","v":212},{"$f":"COUNTIF(L74:L90,AN12)","v":0},{"$f":"AO12/(AQ4-AO8)","v":0},{"$f":"IF(AP12=0,0,(AP12*((LOG(AP12))/LOG(2))))","v":0},null,{"$f":"N12","v":212},{"$f":"COUNTIF(L91:L107,AS12)","v":0},{"$f":"AT12/(AV4-AT8)","v":0},{"$f":"IF(AU12=0,0,(AU12*((LOG(AU12))/LOG(2))))","v":0}]
[11,761,22,771,23,782,null,null,null,null,0,122,null,221,{"$f":"COUNTIF($L$7:$L$500,N13)","v":1},{"$f":"O13/$Q$4","v":9.9009900990099011E-3},{"$f":"IF(P13=0,0,(P13*((LOG(P13))/LOG(2))))","v":-6.5922885967839545E-2},null,null,{"$f":"N13","v":221},{"$f":"COUNTIF(L7:L23,T13)","v":0},{"$f":"U13/(W4-U8)","v":0},{"$f":"IF(V13=0,0,(V13*((LOG(V13))/LOG(2))))","v":0},null,{"$f":"N13","v":221},{"$f":"COUNTIF(L24:L40,Y13)","v":1},{"$f":"Z13/(AB4-Z8)","v":9.0909090909090912E-2},{"$f":"IF(AA13=0,0,(AA13*((LOG(AA13))/LOG(2))))","v":-0.31449378351248153},null,{"$f":"N13","v":221},{"$f":"COUNTIF(L41:L56,AD13)","v":0},{"$f":"AE13/(AG4-AE8)","v":0},{"$f":"IF(AF13=0,0,(AF13*((LOG(AF13))/LOG(2))))","v":0},null,{"$f":"N13","v":221},{"$f":"COUNTIF(L57:L73,AI13)","v":0},{"$f":"AJ13/(AL4-AJ8)","v":0},{"$f":"IF(AK13=0,0,(AK13*((LOG(AK13))/LOG(2))))","v":0},null,{"$f":"N13","v":221},{"$f":"COUNTIF(L74:L90,AN13)","v":0},{"$f":"AO13/(AQ4-AO8)","v":0},{"$f":"IF(AP13=0,0,(AP13*((LOG(AP13))/LOG(2))))","v":0},null,{"$f":"N13","v":221},{"$f":"COUNTIF(L91:L107,AS13)","v":0},{"$f":"AT13/(AV4-AT8)","v":0},{"$f":"IF(AU13=0,0,(AU13*((LOG(AU13))/LOG(2))))","v":0}]
[11,877,11,883,21,898,null,null,null,null,0,112,null,222,{"$f":"COUNTIF($L$7:$L$500,N14)","v":6},{"$f":"O14/$Q$4","v":5.9405940594059403E-2},{"$f":"IF(P14=0,0,(P14*((LOG(P14))/LOG(2))))","v":-0.24197518705132506},null,null,{"$f":"N14","v":222},{"$f":"COUNTIF(L7:L23,T14)","v":2},{"$f":"U14/(W4-U8)","v":0.15384615384615385},{"$f":"IF(V14=0,0,(V14*((LOG(V14))/LOG(2))))","v":-0.4154522643293988},null,{"$f":"N14","v":222},{"$f":"COUNTIF(L24:L40,Y14)","v":0},{"$f":"Z14/(AB4-Z8)","v":0},{"$f":"IF(AA14=0,0,(AA14*((LOG(AA14))/LOG(2))))","v":0},null,{"$f":"N14","v":222},{"$f":"COUNTIF(L41:L56,AD14)","v":1},{"$f":"AE14/(AG4-AE8)","v":0.16666666666666666},{"$f":"IF(AF14=0,0,(AF14*((LOG(AF14))/LOG(2))))","v":-0.43082708345352599},null,{"$f":"N14","v":222},{"$f":"COUNTIF(L57:L73,AI14)","v":0},{"$f":"AJ14/(AL4-AJ8)","v":0},{"$f":"IF(AK14=0,0,(AK14*((LOG(AK14))/LOG(2))))","v":0},null,{"$f":"N14","v":222},{"$f":"COUNTIF(L74:L90,AN14)","v":0},{"$f":"AO14/(AQ4-AO8)","v":0},{"$f":"IF(AP14=0,0,(AP14*((LOG(AP14))/LOG(2))))","v":0},null,{"$f":"N14","v":222},{"$f":"COUNTIF(L91:L107,AS14)","v":3},{"$f":"AT14/(AV4-AT8)","v":0.33333333333333331},{"$f":"IF(AU14=0,0,(AU14*((LOG(AU14))/LOG(2))))","v":-0.52832083357371862}]
[11,1054,11,1057,21,1065,null,null,null,null,0,112,null,null,null,{"$f":"SUM(P7:P14)","v":1},{"$f":"-SUM(Q7:Q14)","v":1.9476583757103765},null,null,null,null,{"$f":"SUM(V7:V14)","v":1},{"$f":"-SUM(W7:W14)","v":0.99126426053542871},null,null,null,{"$f":"SUM(AA7:AA14)","v":1},{"$f":"-SUM(AB7:AB14)","v":1.6858157091530301},null,null,null,{"$f":"SUM(AF7:AF14)","v":0.99999999999999989},{"$f":"-SUM(AG7:AG14)","v":1.4591479170272446},null,null,null,{"$f":"SUM(AK7:AK14)","v":1},{"$f":"-SUM(AL7:AL14)","v":1.4949188482339508},null,null,null,{"$f":"SUM(AP7:AP14)","v":1},{"$f":"-SUM(AQ7:AQ14)","v":0.84535093662243643},null,null,null,{"$f":"SUM(AU7:AU14)","v":1},{"$f":"-SUM(AV7:AV14)","v":1.3516441151533922}]
[11,1274,22,1293,23,1404,null,null,null,null,0,122,null,null,null,"U=",{"$f":"Q15/(LOG(Q4)/LOG(2))","v":0.29251975260260465},null,null,null,null,"U1=",{"$f":"W15/(LOG(W4)/LOG(2))","v":0.24251333872241509},null,null,null,"U2=",{"$f":"AB15/(LOG(AB4)/LOG(2))","v":0.41243572715571053},null,null,null,"U3=",{"$f":"AG15/(LOG(AG4)/LOG(2))","v":0.36478697925681114},null,null,null,"U4=",{"$f":"AL15/(LOG(AL4)/LOG(2))","v":0.36573270664319019},null,null,null,"U5=",{"$f":"AQ15/(LOG(AQ4)/LOG(2))","v":0.20681556492482922},null,null,null,"U6=",{"$f":"AV15/(LOG(AV4)/LOG(2))","v":0.33068046552318736}]
[22,1507,24,1512,23,1526,null,null,null,null,0,222]
[11,1624,22,1637,23,1643,null,null,null,null,0,122]
[11,1738,22,1756,23,1764,null,null,null,null,0,122,null,"Total Target Seq"]
[22,1904,24,1908,23,1937,null,null,null,null,0,222,null,{"$f":"COUNTIF(L7:L107,G3)","v":40},null,17,17,16,17,17,17]
[11,2034,22,2044,23,2049,null,null,null,null,0,122,null,null,null,"% of reinforcement given in 6 equal intervals based on number of trials "]
[11,2145,11,2148,21,2161,null,null,null,null,0,112,null,null,null,"%_1","%_2","%_3","%_4","%_5","%_6"]
[11,2253,11,2260,21,2276,null,null,null,null,0,112,null,null,"target sequence",{"$f":"$G$3","v":112},{"$f":"$G$3","v":112},{"$f":"$G$3","v":112},{"$f":"$G$3","v":112},{"$f":"$G$3","v":112},{"$f":"$G$3","v":112}]
[11,2378,11,2384,21,2423,null,null,null,null,0,112,null,null,"total reinforcement",{"$f":"U8","v":4},{"$f":"Z8","v":6},{"$f":"AE8","v":10},{"$f":"AJ8","v":6},{"$f":"AO8","v":6},{"$f":"AT8","v":8}]
[11,2614,22,2631,14,2736,null,null,null,null,0,121,null,null,"% target"]
[11,2829,11,2832,21,2849,null,null,null,null,0,112,null,null,"CCRF"]
[11,2957,11,2962,12,2966,null,null,null,null,0,111,null,null,"% CCRf"]
[11,3062,11,3065,21,3075,null,null,null,null,0,112,null,null,"average response rate",{"$f":"F23/P20","v":133.88235294117646},{"$f":"(F40-F23)/Q20","v":146},{"$f":"(F56-F40)/R20","v":150.5},{"$f":"(F73-F56)/S20","v":139},{"$f":"(F90-F73)/T20","v":129.05882352941177},{"$f":"(F107-F90)/U20","v":141}]
[11,3171,22,3209,23,3236,null,null,null,null,0,122]
[22,3344,24,3349,14,3366,null,null,null,null,0,221]
[11,3461,11,3467,21,3477,null,null,null,null,0,112]
[11,3603,22,3621,23,3653,null,null,null,null,0,122]
[11,3748,22,3762,23,3781,null,null,null,null,0,122]
[11,3896,22,3906,23,3912,null,null,null,null,0,122]
[11,4007,11,4009,12,4016,null,null,null,null,0,111]
[11,4112,22,4128,23,4135,null,null,null,null,0,122]
[11,4232,22,4242,23,4251,null,null,null,null,0,122]
[11,4346,11,4351,21,4366,null,null,null,null,0,112]
[11,4466,11,4473,21,4505,null,null,null,null,0,112]
[11,4658,22,4668,14,4758,null,null,null,null,0,121]
[11,4854,11,4857,21,4869,null,null,null,null,0,112]
[11,5008,11,5015,12,5021,null,null,null,null,0,111]
[11,5117,11,5123,21,5132,null,null,null,null,0,112]
[11,5273,11,5277,12,5282,null,null,null,null,0,111]
[11,5377,22,5395,23,5405,null,null,null,null,0,122]
[11,5510,11,5514,21,5538,null,null,null,null,0,112]
[11,5635,11,5641,21,5671,null,null,null,null,0,112]
[11,5806,11,5808,21,5826,null,null,null,null,0,112]
[11,5978,11,5984,21,6028,null,null,null,null,0,112]
[11,6209,22,6239,23,6255,null,null,null,null,0,122]
[11,6365,11,6370,21,6381,null,null,null,null,0,112]
[11,6487,11,6493,21,6517,null,null,null,null,0,112]
[11,6683,11,6689,21,6700,null,null,null,null,0,112]
[11,6852,11,6859,21,6888,null,null,null,null,0,112]
[22,7027,24,7039,23,7049,null,null,null,null,0,222]
[11,7146,22,7157,23,7166,null,null,null,null,0,122]
[11,7261,22,7292,14,7406,null,null,null,null,0,121]
[11,7504,22,7514,23,7518,null,null,null,null,0,122]
[11,7612,11,7615,21,7644,null,null,null,null,0,112]
[11,7764,22,7784,23,7797,null,null,null,null,0,122]
[11,7891,11,7896,21,7906,null,null,null,null,0,112]
[11,8033,11,8036,21,8051,null,null,null,null,0,112]
[11,8164,22,8175,23,8200,null,null,null,null,0,122]
[11,8297,11,8302,12,8309,null,null,null,null,0,111]
[11,8405,11,8411,21,8421,null,null,null,null,0,112]
[11,8523,11,8531,21,8547,null,null,null,null,0,112]
[11,8659,22,8681,14,8773,null,null,null,null,0,121]
[11,8866,22,8888,23,8981,null,null,null,null,0,122]
[11,9084,22,9097,23,9106,null,null,null,null,0,122]
[11,9198,11,9201,12,9205,null,null,null,null,0,111]
[11,9302,11,9310,12,9317,null,null,null,null,0,111]
[11,9412,11,9416,12,9420,null,null,null,null,0,111]
[11,9515,11,9518,21,9529,null,null,null,null,0,112]
[11,9622,22,9644,23,9657,null,null,null,null,0,122]
[11,9752,11,9756,12,9762,null,null,null,null,0,111]
[11,9859,11,9863,12,9878,null,null,null,null,0,111]
[11,9973,22,9987,23,9995,null,null,null,null,0,122]
[11,10092,11,10098,21,10113,null,null,null,null,0,112]
[11,10204,11,10208,21,10232,null,null,null,null,0,112]
[11,10368,22,10382,23,10399,null,null,null,null,0,122]
[11,10499,22,10514,23,10521,null,null,null,null,0,122]
[11,10617,22,10646,23,10656,null,null,null,null,0,122]
[11,10778,11,10782,21,10798,null,null,null,null,0,112]
[11,10899,22,10908,23,10919,null,null,null,null,0,122]
[11,11013,11,11019,12,11026,null,null,null,null,0,111]
[11,11129,11,11137,21,11167,null,null,null,null,0,112]
[11,11258,22,11275,23,11290,null,null,null,null,0,122]
[11,11385,11,11390,21,11411,null,null,null,null,0,112]
[11,11535,11,11541,21,11564,null,null,null,null,0,112]
[11,11671,22,11704,23,11723,null,null,null,null,0,122]
[11,11817,11,11822,21,11832,null,null,null,null,0,112]
[11,11933,11,11937,21,11956,null,null,null,null,0,112]
[22,12144,24,12207,23,12239,null,null,null,null,0,222]
[11,12335,22,12361,23,12371,null,null,null,null,0,122]
[11,12469,11,12474,21,12484,null,null,null,null,0,112]
[11,12575,22,12592,23,12610,null,null,null,null,0,122]
[11,12704,22,12740,23,12757,null,null,null,null,0,122]
[11,12852,11,12860,21,12873,null,null,null,null,0,112]
[11,12993,22,13002,23,13045,null,null,null,null,0,122]
[11,13140,11,13145,21,13154,null,null,null,null,0,112]
[11,13254,22,13276,14,13310,null,null,null,null,0,121]
[11,13405,11,13408,21,13430,null,null,null,null,0,112]
[11,13548,22,13564,23,13576,null,null,null,null,0,122]
[11,13672,11,13682,21,13709,null,null,null,null,0,112]
[22,13862,24,13867,23,13890,null,null,null,null,0,222]
[22,13996,24,14002,23,14010,null,null,null,null,0,222]
[11,14106,11,14110,21,14120,null,null,null,null,1,112]

{"sheet":"!MB2792I.sha","index":21,"n_rows":76,"n_cols":48,"rows_kept":76,"cut":false,"hidden":false,"merged":[[4,39,4,42],[5,39,5,40],[4,44,4,47],[5,44,5,45],[4,24,4,27],[5,24,5,25],[4,29,4,32],[5,29,5,30],[4,34,4,37],[5,34,5,35],[1,1,1,2],[5,13,5,14],[18,13,18,14],[19,13,19,14],[4,19,4,22],[5,19,5,20]]}
["Report for:!MB2792I.sha"]
["Date:","<date>"]
["Hen:","<hen>",null,null,null,"Correct Sequence",{"$f":"Start!J2","v":112},null,null,null,null,null,null,null,null,"Total Sequences in Data",{"$f":"4994-COUNTBLANK(L7:L5000)","v":70},null,null,null,null,"Total Sequences in Block Data",{"$f":"COUNTA(L7:L18)","v":12},null,null,null,"Total Sequences in Block Data",{"$f":"COUNTA(L19:L29)","v":11},null,null,null,"Total Sequences in Block Data",{"$f":"COUNTA(L30:L41)","v":12},null,null,null,"Total Sequences in Block Data",{"$f":"COUNTA(L42:L53)","v":12},null,null,null,"Total Sequences in Block Data",{"$f":"COUNTA(L54:L64)","v":11},null,null,null,"Total Sequences in Block Data",{"$f":"COUNTA(L65:L76)","v":12}]
[null,null,null,null,null,null,null,null,null,null,null,null,null,null,null,"Total Sequences in Summary",{"$f":"SUM(O7:O14)","v":70},null,null,null,null,"Total Sequences in Block Summary",{"$f":"SUM(U7:U14)","v":12},null,null,null,"Total Sequences in Block Summary",{"$f":"SUM(Z7:Z14)","v":11},null,null,null,"Total Sequences in Block Summary",{"$f":"SUM(AE7:AE14)","v":12},null,null,null,"Total Sequences in Block Summary",{"$f":"SUM(AJ7:AJ14)","v":12},null,null,null,"Total Sequences in Block Summary",{"$f":"SUM(AO7:AO14)","v":11},null,null,null,"Total Sequences in Block Summary",{"$f":"SUM(AT7:AT14)","v":12}]
[null,null,null,null,null,null,null,null,null,null,null,null,null,null,null,null,null,null,null,"Block 1",null,null,null,null,"Block 2",null,null,null,null,"Block 3",null,null,null,null,"Block 4",null,null,null,null,"Block 5",null,null,null,null,"Block 6"]
["Sequence\nComponent\n1","Time\n1","Sequence\nComponent\n2","Time\n2","Sequence\nComponent\n3","Time\n3","Sequence\nComponent\n4","Time\n4","Sequence\nComponent\n5","Time\n5","Correct?\n0=No 1=Yes","Sequence",null,"Frequency",null,"Relative Frequency","Variability",null,null,"Frequency",null,"Relative Frequency","Variability",null,"Frequency",null,"Relative Frequency","Variability",null,"Frequency",null,"Relative Frequency","Variability",null,"Frequency",null,"Relative Frequency","Variability",null,"Frequency",null,"Relative Frequency","Variability",null,"Frequency",null,"Relative Frequency","Variability"]
[22,178,24,205,23,214,null,null,null,null,0,222,null,111,{"$f":"COUNTIF($L$7:$L$500,N7)","v":2},{"$f":"O7/$Q$4","v":2.8571428571428571E-2},{"$f":"IF(P7=0,0,(P7*((LOG(P7))/LOG(2))))","v":-0.14655094334128474},null,null,{"$f":"N7","v":111},{"$f":"COUNTIF(L7:L18,T7)","v":0},{"$f":"U7/(W4-U8)","v":0},{"$f":"IF(V7=0,0,(V7*((LOG(V7))/LOG(2))))","v":0},null,{"$f":"N7","v":111},{"$f":"COUNTIF(L19:L29,Y7)","v":0},{"$f":"Z7/(AB4-Z8)","v":0},{"$f":"IF(AA7=0,0,(AA7*((LOG(AA7))/LOG(2))))","v":0},null,{"$f":"N7","v":111},{"$f":"COUNTIF(L30:L41,AD7)","v":0},{"$f":"AE7/(AG4-AE8)","v":0},{"$f":"IF(AF7=0,0,(AF7*((LOG(AF7))/LOG(2))))","v":0},null,{"$f":"N7","v":111},{"$f":"COUNTIF(L42:L53,AI7)","v":1},{"$f":"AJ7/(AL4-AJ8)","v":0.1},{"$f":"IF(AK7=0,0,(AK7*((LOG(AK7))/LOG(2))))","v":-0.33219280948873625},null,{"$f":"N7","v":111},{"$f":"COUNTIF(L54:L64,AN7)","v":1},{"$f":"AO7/(AQ4-AO8)","v":0.1111111111111111},{"$f":"IF(AP7=0,0,(AP7*((LOG(AP7))/LOG(2))))","v":-0.3522138890491458},null,{"$f":"N7","v":111},{"$f":"COUNTIF(L65:L76,AS7)","v":0},{"$f":"AT7/(AV4-AT8)","v":0},{"$f":"IF(AU7=0,0,(AU7*((LOG(AU7))/LOG(2))))","v":0}]
[22,341,24,345,23,351,null,null,null,null,0,222,null,112,{"$f":"COUNTIF($L$7:$L$500,N8)","v":16},{"$f":"O8/$Q$4","v":0.22857142857142856},{"$f":"IF(P8=0,0,(P8*((LOG(P8))/LOG(2))))","v":-0.48669326101599231},null,null,{"$f":"N8","v":112},{"$f":"COUNTIF(L7:L18,T8)","v":2},null,null,null,{"$f":"N8","v":112},{"$f":"COUNTIF(L19:L29,Y8)","v":3},null,null,null,{"$f":"N8","v":112},{"$f":"COUNTIF(L30:L41,AD8)","v":3},null,null,null,{"$f":"N8","v":112},{"$f":"COUNTIF(L42:L53,AI8)","v":2},null,null,null,{"$f":"N8","v":112},{"$f":"COUNTIF(L54:L64,AN8)","v":2},null,null,null,{"$f":"N8","v":112},{"$f":"COUNTIF(L65:L76,AS8)","v":4}]
[11,446,22,461,23,467,null,null,null,null,0,122,null,121,{"$f":"COUNTIF($L$7:$L$500,N9)","v":3},{"$f":"O9/$Q$4","v":4.2857142857142858E-2},{"$f":"IF(P9=0,0,(P9*((LOG(P9))/LOG(2))))","v":-0.19475659355244901},null,null,{"$f":"N9","v":121},{"$f":"COUNTIF(L7:L18,T9)","v":0},{"$f":"U9/(W4-U8)","v":0},{"$f":"IF(V9=0,0,(V9*((LOG(V9))/LOG(2))))","v":0},null,{"$f":"N9","v":121},{"$f":"COUNTIF(L19:L29,Y9)","v":1},{"$f":"Z9/(AB4-Z8)","v":0.125},{"$f":"IF(AA9=0,0,(AA9*((LOG(AA9))/LOG(2))))","v":-0.375},null,{"$f":"N9","v":121},{"$f":"COUNTIF(L30:L41,AD9)","v":1},{"$f":"AE9/(AG4-AE8)","v":0.1111111111111111},{"$f":"IF(AF9=0,0,(AF9*((LOG(AF9))/LOG(2))))","v":-0.3522138890491458},null,{"$f":"N9","v":121},{"$f":"COUNTIF(L42:L53,AI9)","v":0},{"$f":"AJ9/(AL4-AJ8)","v":0},{"$f":"IF(AK9=0,0,(AK9*((LOG(AK9))/LOG(2))))","v":0},null,{"$f":"N9","v":121},{"$f":"COUNTIF(L54:L64,AN9)","v":1},{"$f":"AO9/(AQ4-AO8)","v":0.1111111111111111},{"$f":"IF(AP9=0,0,(AP9*((LOG(AP9))/LOG(2))))","v":-0.3522138890491458},null,{"$f":"N9","v":121},{"$f":"COUNTIF(L65:L76,AS9)","v":0},{"$f":"AT9/(AV4-AT8)","v":0},{"$f":"IF(AU9=0,0,(AU9*((LOG(AU9))/LOG(2))))","v":0}]
[11,562,11,567,21,577,null,null,null,null,0,112,null,122,{"$f":"COUNTIF($L$7:$L$500,N10)","v":23},{"$f":"O10/$Q$4","v":0.32857142857142857},{"$f":"IF(P10=0,0,(P10*((LOG(P10))/LOG(2))))","v":-0.52759406286318478},null,null,{"$f":"N10","v":122},{"$f":"COUNTIF(L7:L18,T10)","v":4},{"$f":"U10/(W4-U8)","v":0.4},{"$f":"IF(V10=0,0,(V10*((LOG(V10))/LOG(2))))","v":-0.52877123795494496},null,{"$f":"N10","v":122},{"$f":"COUNTIF(L19:L29,Y10)","v":2},{"$f":"Z10/(AB4-Z8)","v":0.25},{"$f":"IF(AA10=0,0,(AA10*((LOG(AA10))/LOG(2))))","v":-0.5},null,{"$f":"N10","v":122},{"$f":"COUNTIF(L30:L41,AD10)","v":4},{"$f":"AE10/(AG4-AE8)","v":0.44444444444444442},{"$f":"IF(AF10=0,0,(AF10*((LOG(AF10))/LOG(2))))","v":-0.51996666730769447},null,{"$f":"N10","v":122},{"$f":"COUNTIF(L42:L53,AI10)","v":5},{"$f":"AJ10/(AL4-AJ8)","v":0.5},{"$f":"IF(AK10=0,0,(AK10*((LOG(AK10))/LOG(2))))","v":-0.5},null,{"$f":"N10","v":122},{"$f":"COUNTIF(L54:L64,AN10)","v":4},{"$f":"AO10/(AQ4-AO8)","v":0.44444444444444442},{"$f":"IF(AP10=0,0,(AP10*((LOG(AP10))/LOG(2))))","v":-0.51996666730769447},null,{"$f":"N10","v":122},{"$f":"COUNTIF(L65:L76,AS10)","v":4},{"$f":"AT10/(AV4-AT8)","v":0.5},{"$f":"IF(AU10=0,0,(AU10*((LOG(AU10))/LOG(2))))","v":-0.5}]
[22,1642,24,1646,23,1663,null,null,null,null,0,222,null,211,{"$f":"COUNTIF($L$7:$L$500,N11)","v":0},{"$f":"O11/$Q$4","v":0},{"$f":"IF(P11=0,0,(P11*((LOG(P11))/LOG(2))))","v":0},null,null,{"$f":"N11","v":211},{"$f":"COUNTIF(L7:L18,T11)","v":0},{"$f":"U11/(W4-U8)","v":0},{"$f":"IF(V11=0,0,(V11*((LOG(V11))/LOG(2))))","v":0},null,{"$f":"N11","v":211},{"$f":"COUNTIF(L19:L29,Y11)","v":0},{"$f":"Z11/(AB4-Z8)","v":0},{"$f":"IF(AA11=0,0,(AA11*((LOG(AA11))/LOG(2))))","v":0},null,{"$f":"N11","v":211},{"$f":"COUNTIF(L30:L41,AD11)","v":0},{"$f":"AE11/(AG4-AE8)","v":0},{"$f":"IF(AF11=0,0,(AF11*((LOG(AF11))/LOG(2))))","v":0},null,{"$f":"N11","v":211},{"$f":"COUNTIF(L42:L53,AI11)","v":0},{"$f":"AJ11/(AL4-AJ8)","v":0},{"$f":"IF(AK11=0,0,(AK11*((LOG(AK11))/LOG(2))))","v":0},null,{"$f":"N11","v":211},{"$f":"COUNTIF(L54:L64,AN11)","v":0},{"$f":"AO11/(AQ4-AO8)","v":0},{"$f":"IF(AP11=0,0,(AP11*((LOG(AP11))/LOG(2))))","v":0},null,{"$f":"N11","v":211},{"$f":"COUNTIF(L65:L76,AS11)","v":0},{"$f":"AT11/(AV4-AT8)","v":0},{"$f":"IF(AU11=0,0,(AU11*((LOG(AU11))/LOG(2))))","v":0}]
[22,1767,24,1772,23,1778,null,null,null,null,0,222,null,212,{"$f":"COUNTIF($L$7:$L$500,N12)","v":0},{"$f":"O12/$Q$4","v":0},{"$f":"IF(P12=0,0,(P12*((LOG(P12))/LOG(2))))","v":0},null,null,{"$f":"N12","v":212},{"$f":"COUNTIF(L7:L18,T12)","v":0},{"$f":"U12/(W4-U8)","v":0},{"$f":"IF(V12=0,0,(V12*((LOG(V12))/LOG(2))))","v":0},null,{"$f":"N12","v":212},{"$f":"COUNTIF(L19:L29,Y12)","v":0},{"$f":"Z12/(AB4-Z8)","v":0},{"$f":"IF(AA12=0,0,(AA12*((LOG(AA12))/LOG(2))))","v":0},null,{"$f":"N12","v":212},{"$f":"COUNTIF(L30:L41,AD12)","v":0},{"$f":"AE12/(AG4-AE8)","v":0},{"$f":"IF(AF12=0,0,(AF12*((LOG(AF12))/LOG(2))))","v":0},null,{"$f":"N12","v":212},{"$f":"COUNTIF(L42:L53,AI12)","v":0},{"$f":"AJ12/(AL4-AJ8)","v":0},{"$f":"IF(AK12=0,0,(AK12*((LOG(AK12))/LOG(2))))","v":0},null,{"$f":"N12","v":212},{"$f":"COUNTIF(L54:L64,AN12)","v":0},{"$f":"AO12/(AQ4-AO8)","v":0},{"$f":"IF(AP12=0,0,(AP12*((LOG(AP12))/LOG(2))))","v":0},null,{"$f":"N12","v":212},{"$f":"COUNTIF(L65:L76,AS12)","v":0},{"$f":"AT12/(AV4-AT8)","v":0},{"$f":"IF(AU12=0,0,(AU12*((LOG(AU12))/LOG(2))))","v":0}]
[11,1873,22,1882,23,1885,null,null,null,null,0,122,null,221,{"$f":"COUNTIF($L$7:$L$500,N13)","v":2},{"$f":"O13/$Q$4","v":2.8571428571428571E-2},{"$f":"IF(P13=0,0,(P13*((LOG(P13))/LOG(2))))","v":-0.14655094334128474},null,null,{"$f":"N13","v":221},{"$f":"COUNTIF(L7:L18,T13)","v":0},{"$f":"U13/(W4-U8)","v":0},{"$f":"IF(V13=0,0,(V13*((LOG(V13))/LOG(2))))","v":0},null,{"$f":"N13","v":221},{"$f":"COUNTIF(L19:L29,Y13)","v":0},{"$f":"Z13/(AB4-Z8)","v":0},{"$f":"IF(AA13=0,0,(AA13*((LOG(AA13))/LOG(2))))","v":0},null,{"$f":"N13","v":221},{"$f":"COUNTIF(L30:L41,AD13)","v":0},{"$f":"AE13/(AG4-AE8)","v":0},{"$f":"IF(AF13=0,0,(AF13*((LOG(AF13))/LOG(2))))","v":0},null,{"$f":"N13","v":221},{"$f":"COUNTIF(L42:L53,AI13)","v":2},{"$f":"AJ13/(AL4-AJ8)","v":0.2},{"$f":"IF(AK13=0,0,(AK13*((LOG(AK13))/LOG(2))))","v":-0.46438561897747244},null,{"$f":"N13","v":221},{"$f":"COUNTIF(L54:L64,AN13)","v":0},{"$f":"AO13/(AQ4-AO8)","v":0},{"$f":"IF(AP13=0,0,(AP13*((LOG(AP13))/LOG(2))))","v":0},null,{"$f":"N13","v":221},{"$f":"COUNTIF(L65:L76,AS13)","v":0},{"$f":"AT13/(AV4-AT8)","v":0},{"$f":"IF(AU13=0,0,(AU13*((LOG(AU13))/LOG(2))))","v":0}]
[22,2010,24,2030,23,2034,null,null,null,null,0,222,null,222,{"$f":"COUNTIF($L$7:$L$500,N14)","v":24},{"$f":"O14/$Q$4","v":0.34285714285714286},{"$f":"IF(P14=0,0,(P14*((LOG(P14))/LOG(2))))","v":-0.52948131984816349},null,null,{"$f":"N14","v":222},{"$f":"COUNTIF(L7:L18,T14)","v":6},{"$f":"U14/(W4-U8)","v":0.6},{"$f":"IF(V14=0,0,(V14*((LOG(V14))/LOG(2))))","v":-0.44217935649972373},null,{"$f":"N14","v":222},{"$f":"COUNTIF(L19:L29,Y14)","v":5},{"$f":"Z14/(AB4-Z8)","v":0.625},{"$f":"IF(AA14=0,0,(AA14*((LOG(AA14))/LOG(2))))","v":-0.42379494069539858},null,{"$f":"N14","v":222},{"$f":"COUNTIF(L30:L41,AD14)","v":4},{"$f":"AE14/(AG4-AE8)","v":0.44444444444444442},{"$f":"IF(AF14=0,0,(AF14*((LOG(AF14))/LOG(2))))","v":-0.51996666730769447},null,{"$f":"N14","v":222},{"$f":"COUNTIF(L42:L53,AI14)","v":2},{"$f":"AJ14/(AL4-AJ8)","v":0.2},{"$f":"IF(AK14=0,0,(AK14*((LOG(AK14))/LOG(2))))","v":-0.46438561897747244},null,{"$f":"N14","v":222},{"$f":"COUNTIF(L54:L64,AN14)","v":3},{"$f":"AO14/(AQ4-AO8)","v":0.33333333333333331},{"$f":"IF(AP14=0,0,(AP14*((LOG(AP14))/LOG(2))))","v":-0.52832083357371862},null,{"$f":"N14","v":222},{"$f":"COUNTIF(L65:L76,AS14)","v":4},{"$f":"AT14/(AV4-AT8)","v":0.5},{"$f":"IF(AU14=0,0,(AU14*((LOG(AU14))/LOG(2))))","v":-0.5}]
[11,2129,22,2139,23,2144,null,null,null,null,0,122,null,null,null,{"$f":"SUM(P7:P14)","v":1},{"$f":"-SUM(Q7:Q14)","v":2.0316271239623589},null,null,null,null,{"$f":"SUM(V7:V14)","v":1},{"$f":"-SUM(W7:W14)","v":0.97095059445466869},null,null,null,{"$f":"SUM(AA7:AA14)","v":1},{"$f":"-SUM(AB7:AB14)","v":1.2987949406953985},null,null,null,{"$f":"SUM(AF7:AF14)","v":1},{"$f":"-SUM(AG7:AG14)","v":1.3921472236645349},null,null,null,{"$f":"SUM(AK7:AK14)","v":1},{"$f":"-SUM(AL7:AL14)","v":1.7609640474436812},null,null,null,{"$f":"SUM(AP7:AP14)","v":1},{"$f":"-SUM(AQ7:AQ14)","v":1.7527152789797047},null,null,null,{"$f":"SUM(AU7:AU14)","v":1},{"$f":"-SUM(AV7:AV14)","v":1}]
[11,2241,22,2249,23,2253,null,null,null,null,0,122,null,null,null,"U=",{"$f":"Q15/(LOG(Q4)/LOG(2))","v":0.33146244321656204},null,null,null,null,"U1=",{"$f":"W15/(LOG(W4)/LOG(2))","v":0.27083981889890085},null,null,null,"U2=",{"$f":"AB15/(LOG(AB4)/LOG(2))","v":0.37543593395466679},null,null,null,"U3=",{"$f":"AG15/(LOG(AG4)/LOG(2))","v":0.38832964734902764},null,null,null,"U4=",{"$f":"AL15/(LOG(AL4)/LOG(2))","v":0.49120849857967636},null,null,null,"U5=",{"$f":"AQ15/(LOG(AQ4)/LOG(2))","v":0.50664833770297668},null,null,null,"U6=",{"$f":"AV15/(LOG(AV4)/LOG(2))","v":0.27894294565112981}]
[11,2345,11,2351,21,2361,null,null,null,null,0,112]
[22,3589,24,3603,23,3610,null,null,null,null,0,222]
[22,3727,24,3742,23,3746,null,null,null,null,0,222,null,"Total Target Seq"]
[11,3840,22,3850,23,3855,null,null,null,null,0,122,null,{"$f":"COUNTIF(L7:L76,G3)","v":16},null,12,11,12,12,11,12]
[22,3966,24,3987,23,4000,null,null,null,null,0,222,null,null,null,"% of reinforcement given in 6 equal intervals based on number of trials "]
[11,4094,11,4099,21,4112,null,null,null,null,0,112,null,null,null,"%_1","%_2","%_3","%_4","%_5","%_6"]
[22,5192,24,5216,23,5223,null,null,null,null,0,222,null,null,"target sequence",{"$f":"$G$3","v":112},{"$f":"$G$3","v":112},{"$f":"$G$3","v":112},{"$f":"$G$3","v":112},{"$f":"$G$3","v":112},{"$f":"$G$3","v":112}]
[11,5318,11,5321,21,5330,null,null,null,null,0,112,null,null,"total reinforcement",{"$f":"U8","v":2},{"$f":"Z8","v":3},{"$f":"AE8","v":3},{"$f":"AJ8","v":2},{"$f":"AO8","v":2},{"$f":"AT8","v":4}]
[11,6003,22,6011,14,6036,null,null,null,null,0,121,null,null,"% target"]
[11,6128,11,6132,21,6144,null,null,null,null,0,112,null,null,"CCRF"]
[22,7059,24,7063,23,7067,null,null,null,null,0,222,null,null,"% CCRf"]
[22,7232,24,7244,23,7260,null,null,null,null,0,222,null,null,"average response rate",{"$f":"F18/P20","v":300.83333333333331},{"$f":"(F29-F18)/Q20","v":342},{"$f":"(F41-F29)/R20","v":489},{"$f":"(F53-F41)/S20","v":202.33333333333334},{"$f":"(F64-F53)/T20","v":247.18181818181819},{"$f":"(F76-F64)/U20","v":374.08333333333331}]
[11,7355,22,7364,23,7372,null,null,null,null,0,122]
[11,7481,22,7488,23,7494,null,null,null,null,0,122]
[11,7596,22,7605,23,7609,null,null,null,null,0,122]
[11,7702,22,7714,23,7720,null,null,null,null,0,122]
[11,7812,11,7815,21,7824,null,null,null,null,0,112]
[11,9983,22,9990,23,9994,null,null,null,null,0,122]
[11,10110,22,10117,14,10129,null,null,null,null,0,121]
[11,10230,11,10244,21,10253,null,null,null,null,0,112]
[22,10787,24,10792,23,10799,null,null,null,null,0,222]
[22,10919,24,10925,23,10931,null,null,null,null,0,222]
[22,11043,24,11132,23,11151,null,null,null,null,0,222]
[11,11245,11,11248,21,11256,null,null,null,null,0,112]
[22,12652,24,12684,23,13240,null,null,null,null,0,222]
[11,13337,22,13345,23,13350,null,null,null,null,0,122]
[11,13446,22,13456,23,13462,null,null,null,null,0,122]
[22,13598,24,13603,23,13610,null,null,null,null,0,222]
[11,13705,11,13725,21,13735,null,null,null,null,0,112]
[22,14238,24,14270,14,14345,null,null,null,null,0,221]
[11,14438,22,14452,23,14456,null,null,null,null,0,122]
[22,14772,24,14777,14,14790,null,null,null,null,0,221]
[11,14884,11,14887,21,14898,null,null,null,null,0,112]
[22,15272,24,15291,23,15296,null,null,null,null,0,222]
[11,15393,22,15403,23,15409,null,null,null,null,0,122]
[11,15504,22,15517,23,15527,null,null,null,null,0,122]
[11,15644,11,15651,12,15668,null,null,null,null,0,111]
[11,15760,11,15763,12,15766,null,null,null,null,0,111]
[11,15860,11,15863,21,15873,null,null,null,null,0,112]
[22,16766,24,16786,23,16790,null,null,null,null,0,222]
[22,16923,24,16933,23,16957,null,null,null,null,0,222]
[22,17062,24,17066,23,17073,null,null,null,null,0,222]
[11,17218,22,17228,23,17234,null,null,null,null,0,122]
[11,17326,22,17338,23,17344,null,null,null,null,0,122]
[11,17438,22,17449,23,17455,null,null,null,null,0,122]
[11,17566,22,17597,14,17609,null,null,null,null,0,121]
[11,17702,11,17709,21,17718,null,null,null,null,0,112]
[11,18349,22,18364,23,18387,null,null,null,null,0,122]
[11,18482,11,18486,21,18496,null,null,null,null,0,112]
[22,19579,24,19598,23,19603,null,null,null,null,0,222]
[11,19709,22,19721,23,19729,null,null,null,null,0,122]
[11,19827,22,19839,23,19844,null,null,null,null,0,122]
[11,19961,11,19967,21,19976,null,null,null,null,0,112]
[22,21211,24,21230,23,21234,null,null,null,null,0,222]
[11,21328,11,21330,21,21343,null,null,null,null,0,112]
[22,22340,24,22362,23,22367,null,null,null,null,0,222]
[11,22462,22,22471,23,22476,null,null,null,null,0,122]
[22,22625,24,22649,23,22655,null,null,null,null,0,222]
[11,22751,22,22760,23,22765,null,null,null,null,0,122]
[11,22862,11,22866,21,22876,null,null,null,null,0,112]

{"sheet":"!MB28A0I.sha","index":22,"n_rows":72,"n_cols":48,"rows_kept":72,"cut":false,"hidden":false,"merged":[[4,39,4,42],[5,39,5,40],[4,44,4,47],[5,44,5,45],[4,24,4,27],[5,24,5,25],[4,29,4,32],[5,29,5,30],[4,34,4,37],[5,34,5,35],[1,1,1,2],[5,13,5,14],[18,13,18,14],[19,13,19,14],[4,19,4,22],[5,19,5,20]]}
["Report for:!MB28A0I.sha"]
["Date:","<date>"]
["Hen:","<hen>",null,null,null,"Correct Sequence",{"$f":"Start!J2","v":112},null,null,null,null,null,null,null,null,"Total Sequences in Data",{"$f":"4994-COUNTBLANK(L7:L5000)","v":66},null,null,null,null,"Total Sequences in Block Data",{"$f":"COUNTA(L7:L17)","v":11},null,null,null,"Total Sequences in Block Data",{"$f":"COUNTA(L18:L28)","v":11},null,null,null,"Total Sequences in Block Data",{"$f":"COUNTA(L29:L39)","v":11},null,null,null,"Total Sequences in Block Data",{"$f":"COUNTA(L40:L50)","v":11},null,null,null,"Total Sequences in Block Data",{"$f":"COUNTA(L51:L61)","v":11},null,null,null,"Total Sequences in Block Data",{"$f":"COUNTA(L62:L72)","v":11}]
[null,null,null,null,null,null,null,null,null,null,null,null,null,null,null,"Total Sequences in Summary",{"$f":"SUM(O7:O14)","v":66},null,null,null,null,"Total Sequences in Block Summary",{"$f":"SUM(U7:U14)","v":11},null,null,null,"Total Sequences in Block Summary",{"$f":"SUM(Z7:Z14)","v":11},null,null,null,"Total Sequences in Block Summary",{"$f":"SUM(AE7:AE14)","v":11},null,null,null,"Total Sequences in Block Summary",{"$f":"SUM(AJ7:AJ14)","v":11},null,null,null,"Total Sequences in Block Summary",{"$f":"SUM(AO7:AO14)","v":11},null,null,null,"Total Sequences in Block Summary",{"$f":"SUM(AT7:AT14)","v":11}]
[null,null,null,null,null,null,null,null,null,null,null,null,null,null,null,null,null,null,null,"Block 1",null,null,null,null,"Block 2",null,null,null,null,"Block 3",null,null,null,null,"Block 4",null,null,null,null,"Block 5",null,null,null,null,"Block 6"]
["Sequence\nComponent\n1","Time\n1","Sequence\nComponent\n2","Time\n2","Sequence\nComponent\n3","Time\n3","Sequence\nComponent\n4","Time\n4","Sequence\nComponent\n5","Time\n5","Correct?\n0=No 1=Yes","Sequence",null,"Frequency",null,"Relative Frequency","Variability",null,null,"Frequency",null,"Relative Frequency","Variability",null,"Frequency",null,"Relative Frequency","Variability",null,"Frequency",null,"Relative Frequency","Variability",null,"Frequency",null,"Relative Frequency","Variability",null,"Frequency",null,"Relative Frequency","Variability",null,"Frequency",null,"Relative Frequency","Variability"]
[22,676,24,680,23,687,null,null,null,null,0,222,null,111,{"$f":"COUNTIF($L$7:$L$500,N7)","v":4},{"$f":"O7/$Q$4","v":6.0606060606060608E-2},{"$f":"IF(P7=0,0,(P7*((LOG(P7))/LOG(2))))","v":-0.24511479511263354},null,null,{"$f":"N7","v":111},{"$f":"COUNTIF(L7:L17,T7)","v":1},{"$f":"U7/(W4-U8)","v":0.1111111111111111},{"$f":"IF(V7=0,0,(V7*((LOG(V7))/LOG(2))))","v":-0.3522138890491458},null,{"$f":"N7","v":111},{"$f":"COUNTIF(L18:L28,Y7)","v":0},{"$f":"Z7/(AB4-Z8)","v":0},{"$f":"IF(AA7=0,0,(AA7*((LOG(AA7))/LOG(2))))","v":0},null,{"$f":"N7","v":111},{"$f":"COUNTIF(L29:L39,AD7)","v":1},{"$f":"AE7/(AG4-AE8)","v":0.125},{"$f":"IF(AF7=0,0,(AF7*((LOG(AF7))/LOG(2))))","v":-0.375},null,{"$f":"N7","v":111},{"$f":"COUNTIF(L40:L50,AI7)","v":1},{"$f":"AJ7/(AL4-AJ8)","v":0.14285714285714285},{"$f":"IF(AK7=0,0,(AK7*((LOG(AK7))/LOG(2))))","v":-0.40105070315108626},null,{"$f":"N7","v":111},{"$f":"COUNTIF(L51:L61,AN7)","v":1},{"$f":"AO7/(AQ4-AO8)","v":0.14285714285714285},{"$f":"IF(AP7=0,0,(AP7*((LOG(AP7))/LOG(2))))","v":-0.40105070315108626},null,{"$f":"N7","v":111},{"$f":"COUNTIF(L62:L72,AS7)","v":0},{"$f":"AT7/(AV4-AT8)","v":0},{"$f":"IF(AU7=0,0,(AU7*((LOG(AU7))/LOG(2))))","v":0}]
[22,1011,24,1030,23,1035,null,null,null,null,0,222,null,112,{"$f":"COUNTIF($L$7:$L$500,N8)","v":21},{"$f":"O8/$Q$4","v":0.31818181818181818},{"$f":"IF(P8=0,0,(P8*((LOG(P8))/LOG(2))))","v":-0.52566076709353871},null,null,{"$f":"N8","v":112},{"$f":"COUNTIF(L7:L17,T8)","v":2},null,null,null,{"$f":"N8","v":112},{"$f":"COUNTIF(L18:L28,Y8)","v":3},null,null,null,{"$f":"N8","v":112},{"$f":"COUNTIF(L29:L39,AD8)","v":3},null,null,null,{"$f":"N8","v":112},{"$f":"COUNTIF(L40:L50,AI8)","v":4},null,null,null,{"$f":"N8","v":112},{"$f":"COUNTIF(L51:L61,AN8)","v":4},null,null,null,{"$f":"N8","v":112},{"$f":"COUNTIF(L62:L72,AS8)","v":5}]
[11,1130,11,1133,21,1145,null,null,null,null,0,112,null,121,{"$f":"COUNTIF($L$7:$L$500,N9)","v":3},{"$f":"O9/$Q$4","v":4.5454545454545456E-2},{"$f":"IF(P9=0,0,(P9*((LOG(P9))/LOG(2))))","v":-0.20270143721078623},null,null,{"$f":"N9","v":121},{"$f":"COUNTIF(L7:L17,T9)","v":1},{"$f":"U9/(W4-U8)","v":0.1111111111111111},{"$f":"IF(V9=0,0,(V9*((LOG(V9))/LOG(2))))","v":-0.3522138890491458},null,{"$f":"N9","v":121},{"$f":"COUNTIF(L18:L28,Y9)","v":1},{"$f":"Z9/(AB4-Z8)","v":0.125},{"$f":"IF(AA9=0,0,(AA9*((LOG(AA9))/LOG(2))))","v":-0.375},null,{"$f":"N9","v":121},{"$f":"COUNTIF(L29:L39,AD9)","v":0},{"$f":"AE9/(AG4-AE8)","v":0},{"$f":"IF(AF9=0,0,(AF9*((LOG(AF9))/LOG(2))))","v":0},null,{"$f":"N9","v":121},{"$f":"COUNTIF(L40:L50,AI9)","v":1},{"$f":"AJ9/(AL4-AJ8)","v":0.14285714285714285},{"$f":"IF(AK9=0,0,(AK9*((LOG(AK9))/LOG(2))))","v":-0.40105070315108626},null,{"$f":"N9","v":121},{"$f":"COUNTIF(L51:L61,AN9)","v":0},{"$f":"AO9/(AQ4-AO8)","v":0},{"$f":"IF(AP9=0,0,(AP9*((LOG(AP9))/LOG(2))))","v":0},null,{"$f":"N9","v":121},{"$f":"COUNTIF(L62:L72,AS9)","v":0},{"$f":"AT9/(AV4-AT8)","v":0},{"$f":"IF(AU9=0,0,(AU9*((LOG(AU9))/LOG(2))))","v":0}]
[22,1474,24,1478,14,1489,null,null,null,null,0,221,null,122,{"$f":"COUNTIF($L$7:$L$500,N10)","v":25},{"$f":"O10/$Q$4","v":0.37878787878787878},{"$f":"IF(P10=0,0,(P10*((LOG(P10))/LOG(2))))","v":-0.53050679150898816},null,null,{"$f":"N10","v":122},{"$f":"COUNTIF(L7:L17,T10)","v":3},{"$f":"U10/(W4-U8)","v":0.33333333333333331},{"$f":"IF(V10=0,0,(V10*((LOG(V10))/LOG(2))))","v":-0.52832083357371862},null,{"$f":"N10","v":122},{"$f":"COUNTIF(L18:L28,Y10)","v":7},{"$f":"Z10/(AB4-Z8)","v":0.875},{"$f":"IF(AA10=0,0,(AA10*((LOG(AA10))/LOG(2))))","v":-0.1685644431995964},null,{"$f":"N10","v":122},{"$f":"COUNTIF(L29:L39,AD10)","v":6},{"$f":"AE10/(AG4-AE8)","v":0.75},{"$f":"IF(AF10=0,0,(AF10*((LOG(AF10))/LOG(2))))","v":-0.31127812445913283},null,{"$f":"N10","v":122},{"$f":"COUNTIF(L40:L50,AI10)","v":4},{"$f":"AJ10/(AL4-AJ8)","v":0.5714285714285714},{"$f":"IF(AK10=0,0,(AK10*((LOG(AK10))/LOG(2))))","v":-0.46134566974720237},null,{"$f":"N10","v":122},{"$f":"COUNTIF(L51:L61,AN10)","v":3},{"$f":"AO10/(AQ4-AO8)","v":0.42857142857142855},{"$f":"IF(AP10=0,0,(AP10*((LOG(AP10))/LOG(2))))","v":-0.52388246628704915},null,{"$f":"N10","v":122},{"$f":"COUNTIF(L62:L72,AS10)","v":2},{"$f":"AT10/(AV4-AT8)","v":0.33333333333333331},{"$f":"IF(AU10=0,0,(AU10*((LOG(AU10))/LOG(2))))","v":-0.52832083357371862}]
[11,1649,22,1657,23,1663,null,null,null,null,0,122,null,211,{"$f":"COUNTIF($L$7:$L$500,N11)","v":0},{"$f":"O11/$Q$4","v":0},{"$f":"IF(P11=0,0,(P11*((LOG(P11))/LOG(2))))","v":0},null,null,{"$f":"N11","v":211},{"$f":"COUNTIF(L7:L17,T11)","v":0},{"$f":"U11/(W4-U8)","v":0},{"$f":"IF(V11=0,0,(V11*((LOG(V11))/LOG(2))))","v":0},null,{"$f":"N11","v":211},{"$f":"COUNTIF(L18:L28,Y11)","v":0},{"$f":"Z11/(AB4-Z8)","v":0},{"$f":"IF(AA11=0,0,(AA11*((LOG(AA11))/LOG(2))))","v":0},null,{"$f":"N11","v":211},{"$f":"COUNTIF(L29:L39,AD11)","v":0},{"$f":"AE11/(AG4-AE8)","v":0},{"$f":"IF(AF11=0,0,(AF11*((LOG(AF11))/LOG(2))))","v":0},null,{"$f":"N11","v":211},{"$f":"COUNTIF(L40:L50,AI11)","v":0},{"$f":"AJ11/(AL4-AJ8)","v":0},{"$f":"IF(AK11=0,0,(AK11*((LOG(AK11))/LOG(2))))","v":0},null,{"$f":"N11","v":211},{"$f":"COUNTIF(L51:L61,AN11)","v":0},{"$f":"AO11/(AQ4-AO8)","v":0},{"$f":"IF(AP11=0,0,(AP11*((LOG(AP11))/LOG(2))))","v":0},null,{"$f":"N11","v":211},{"$f":"COUNTIF(L62:L72,AS11)","v":0},{"$f":"AT11/(AV4-AT8)","v":0},{"$f":"IF(AU11=0,0,(AU11*((LOG(AU11))/LOG(2))))","v":0}]
[11,1763,11,1771,21,1777,null,null,null,null,0,112,null,212,{"$f":"COUNTIF($L$7:$L$500,N12)","v":2},{"$f":"O12/$Q$4","v":3.0303030303030304E-2},{"$f":"IF(P12=0,0,(P12*((LOG(P12))/LOG(2))))","v":-0.15286042785934709},null,null,{"$f":"N12","v":212},{"$f":"COUNTIF(L7:L17,T12)","v":0},{"$f":"U12/(W4-U8)","v":0},{"$f":"IF(V12=0,0,(V12*((LOG(V12))/LOG(2))))","v":0},null,{"$f":"N12","v":212},{"$f":"COUNTIF(L18:L28,Y12)","v":0},{"$f":"Z12/(AB4-Z8)","v":0},{"$f":"IF(AA12=0,0,(AA12*((LOG(AA12))/LOG(2))))","v":0},null,{"$f":"N12","v":212},{"$f":"COUNTIF(L29:L39,AD12)","v":1},{"$f":"AE12/(AG4-AE8)","v":0.125},{"$f":"IF(AF12=0,0,(AF12*((LOG(AF12))/LOG(2))))","v":-0.375},null,{"$f":"N12","v":212},{"$f":"COUNTIF(L40:L50,AI12)","v":0},{"$f":"AJ12/(AL4-AJ8)","v":0},{"$f":"IF(AK12=0,0,(AK12*((LOG(AK12))/LOG(2))))","v":0},null,{"$f":"N12","v":212},{"$f":"COUNTIF(L51:L61,AN12)","v":1},{"$f":"AO12/(AQ4-AO8)","v":0.14285714285714285},{"$f":"IF(AP12=0,0,(AP12*((LOG(AP12))/LOG(2))))","v":-0.40105070315108626},null,{"$f":"N12","v":212},{"$f":"COUNTIF(L62:L72,AS12)","v":0},{"$f":"AT12/(AV4-AT8)","v":0},{"$f":"IF(AU12=0,0,(AU12*((LOG(AU12))/LOG(2))))","v":0}]
[11,2048,22,2056,14,2064,null,null,null,null,0,121,null,221,{"$f":"COUNTIF($L$7:$L$500,N13)","v":2},{"$f":"O13/$Q$4","v":3.0303030303030304E-2},{"$f":"IF(P13=0,0,(P13*((LOG(P13))/LOG(2))))","v":-0.15286042785934709},null,null,{"$f":"N13","v":221},{"$f":"COUNTIF(L7:L17,T13)","v":2},{"$f":"U13/(W4-U8)","v":0.22222222222222221},{"$f":"IF(V13=0,0,(V13*((LOG(V13))/LOG(2))))","v":-0.48220555587606945},null,{"$f":"N13","v":221},{"$f":"COUNTIF(L18:L28,Y13)","v":0},{"$f":"Z13/(AB4-Z8)","v":0},{"$f":"IF(AA13=0,0,(AA13*((LOG(AA13))/LOG(2))))","v":0},null,{"$f":"N13","v":221},{"$f":"COUNTIF(L29:L39,AD13)","v":0},{"$f":"AE13/(AG4-AE8)","v":0},{"$f":"IF(AF13=0,0,(AF13*((LOG(AF13))/LOG(2))))","v":0},null,{"$f":"N13","v":221},{"$f":"COUNTIF(L40:L50,AI13)","v":0},{"$f":"AJ13/(AL4-AJ8)","v":0},{"$f":"IF(AK13=0,0,(AK13*((LOG(AK13))/LOG(2))))","v":0},null,{"$f":"N13","v":221},{"$f":"COUNTIF(L51:L61,AN13)","v":0},{"$f":"AO13/(AQ4-AO8)","v":0},{"$f":"IF(AP13=0,0,(AP13*((LOG(AP13))/LOG(2))))","v":0},null,{"$f":"N13","v":221},{"$f":"COUNTIF(L62:L72,AS13)","v":0},{"$f":"AT13/(AV4-AT8)","v":0},{"$f":"IF(AU13=0,0,(AU13*((LOG(AU13))/LOG(2))))","v":0}]
[11,2161,11,2165,12,2168,null,null,null,null,0,111,null,222,{"$f":"COUNTIF($L$7:$L$500,N14)","v":9},{"$f":"O14/$Q$4","v":0.13636363636363635},{"$f":"IF(P14=0,0,(P14*((LOG(P14))/LOG(2))))","v":-0.39197306153401923},null,null,{"$f":"N14","v":222},{"$f":"COUNTIF(L7:L17,T14)","v":2},{"$f":"U14/(W4-U8)","v":0.22222222222222221},{"$f":"IF(V14=0,0,(V14*((LOG(V14))/LOG(2))))","v":-0.48220555587606945},null,{"$f":"N14","v":222},{"$f":"COUNTIF(L18:L28,Y14)","v":0},{"$f":"Z14/(AB4-Z8)","v":0},{"$f":"IF(AA14=0,0,(AA14*((LOG(AA14))/LOG(2))))","v":0},null,{"$f":"N14","v":222},{"$f":"COUNTIF(L29:L39,AD14)","v":0},{"$f":"AE14/(AG4-AE8)","v":0},{"$f":"IF(AF14=0,0,(AF14*((LOG(AF14))/LOG(2))))","v":0},null,{"$f":"N14","v":222},{"$f":"COUNTIF(L40:L50,AI14)","v":1},{"$f":"AJ14/(AL4-AJ8)","v":0.14285714285714285},{"$f":"IF(AK14=0,0,(AK14*((LOG(AK14))/LOG(2))))","v":-0.40105070315108626},null,{"$f":"N14","v":222},{"$f":"COUNTIF(L51:L61,AN14)","v":2},{"$f":"AO14/(AQ4-AO8)","v":0.2857142857142857},{"$f":"IF(AP14=0,0,(AP14*((LOG(AP14))/LOG(2))))","v":-0.51638712058788683},null,{"$f":"N14","v":222},{"$f":"COUNTIF(L62:L72,AS14)","v":4},{"$f":"AT14/(AV4-AT8)","v":0.66666666666666663},{"$f":"IF(AU14=0,0,(AU14*((LOG(AU14))/LOG(2))))","v":-0.38997500048077083}]
[22,2366,24,2372,14,2387,null,null,null,null,0,221,null,null,null,{"$f":"SUM(P7:P14)","v":0.99999999999999989},{"$f":"-SUM(Q7:Q14)","v":2.2016777081786603},null,null,null,null,{"$f":"SUM(V7:V14)","v":1},{"$f":"-SUM(W7:W14)","v":2.1971597234241491},null,null,null,{"$f":"SUM(AA7:AA14)","v":1},{"$f":"-SUM(AB7:AB14)","v":0.5435644431995964},null,null,null,{"$f":"SUM(AF7:AF14)","v":1},{"$f":"-SUM(AG7:AG14)","v":1.0612781244591329},null,null,null,{"$f":"SUM(AK7:AK14)","v":1},{"$f":"-SUM(AL7:AL14)","v":1.6644977792004614},null,null,null,{"$f":"SUM(AP7:AP14)","v":0.99999999999999989},{"$f":"-SUM(AQ7:AQ14)","v":1.8423709931771084},null,null,null,{"$f":"SUM(AU7:AU14)","v":1},{"$f":"-SUM(AV7:AV14)","v":0.91829583405448945}]
[11,2483,22,2494,23,2499,null,null,null,null,0,122,null,null,null,"U=",{"$f":"Q15/(LOG(Q4)/LOG(2))","v":0.36425118294773678},null,null,null,null,"U1=",{"$f":"W15/(LOG(W4)/LOG(2))","v":0.63512159384426015},null,null,null,"U2=",{"$f":"AB15/(LOG(AB4)/LOG(2))","v":0.15712536136607072},null,null,null,"U3=",{"$f":"AG15/(LOG(AG4)/LOG(2))","v":0.306778176721753},null,null,null,"U4=",{"$f":"AL15/(LOG(AL4)/LOG(2))","v":0.48114776145109134},null,null,null,"U5=",{"$f":"AQ15/(LOG(AQ4)/LOG(2))","v":0.53256465115585527},null,null,null,"U6=",{"$f":"AV15/(LOG(AV4)/LOG(2))","v":0.26544702577940094}]
[11,2593,22,2603,23,2607,null,null,null,null,0,122]
[11,2705,22,2729,23,2738,null,null,null,null,0,122]
[11,2838,11,2856,21,2867,null,null,null,null,0,112,null,"Total Target Seq"]
[11,3675,22,3686,23,3692,null,null,null,null,0,122,null,{"$f":"COUNTIF(L7:L72,G3)","v":21},null,11,11,11,11,11,11]
[11,3785,22,3802,23,3808,null,null,null,null,0,122,null,null,null,"% of reinforcement given in 6 equal intervals based on number of trials "]
[11,3902,22,3916,23,3922,null,null,null,null,0,122,null,null,null,"%_1","%_2","%_3","%_4","%_5","%_6"]
[11,4019,22,4034,14,4048,null,null,null,null,0,121,null,null,"target sequence",{"$f":"$G$3","v":112},{"$f":"$G$3","v":112},{"$f":"$G$3","v":112},{"$f":"$G$3","v":112},{"$f":"$G$3","v":112},{"$f":"$G$3","v":112}]
[11,4140,11,4145,21,4157,null,null,null,null,0,112,null,null,"total reinforcement",{"$f":"U8","v":2},{"$f":"Z8","v":3},{"$f":"AE8","v":3},{"$f":"AJ8","v":4},{"$f":"AO8","v":4},{"$f":"AT8","v":5}]
[11,5487,22,5496,23,5502,null,null,null,null,0,122,null,null,"% target"]
[11,5595,11,5598,21,5608,null,null,null,null,0,112,null,null,"CCRF"]
[11,6054,22,6062,23,6067,null,null,null,null,0,122,null,null,"% CCRf"]
[11,6161,22,6180,23,6192,null,null,null,null,0,122,null,null,"average response rate",{"$f":"F17/P20","v":237},{"$f":"(F28-F17)/Q20","v":325.90909090909093},{"$f":"(F39-F28)/R20","v":516.4545454545455},{"$f":"(F50-F39)/S20","v":425.54545454545456},{"$f":"(F61-F50)/T20","v":505.81818181818181},{"$f":"(F72-F61)/U20","v":169.27272727272728}]
[11,6290,11,6294,12,6299,null,null,null,null,0,111]
[11,6394,11,6399,21,6410,null,null,null,null,0,112]
[11,8442,22,8449,23,8453,null,null,null,null,0,122]
[11,8549,22,8562,23,8566,null,null,null,null,0,122]
[11,8662,22,8678,23,8685,null,null,null,null,0,122]
[11,8782,11,8790,21,8800,null,null,null,null,0,112]
[11,10636,22,10644,23,10649,null,null,null,null,0,122]
[11,10746,11,10747,21,10755,null,null,null,null,0,112]
[22,11597,13,11609,23,11622,null,null,null,null,0,212]
[11,11719,22,11745,23,11759,null,null,null,null,0,122]
[11,11852,22,11868,23,11873,null,null,null,null,0,122]
[11,11970,11,11974,21,11983,null,null,null,null,0,112]
[11,13469,22,13478,23,13488,null,null,null,null,0,122]
[11,13581,22,13597,23,13601,null,null,null,null,0,122]
[11,13694,11,13700,21,13709,null,null,null,null,0,112]
[11,14802,22,14816,23,14821,null,null,null,null,0,122]
[11,14917,22,14928,14,14970,null,null,null,null,0,121]
[11,15097,11,15100,12,15104,null,null,null,null,0,111]
[22,15221,24,15227,23,15261,null,null,null,null,0,222]
[11,15548,11,15568,21,15575,null,null,null,null,0,112]
[11,16417,22,16425,23,16429,null,null,null,null,0,122]
[11,16541,11,16543,21,16554,null,null,null,null,0,112]
[11,17578,11,17588,21,17603,null,null,null,null,0,112]
[22,18882,13,18895,23,18911,null,null,null,null,0,212]
[22,19018,24,19025,23,19033,null,null,null,null,0,222]
[11,19128,11,19133,21,19144,null,null,null,null,0,112]
[11,20430,22,20439,23,20445,null,null,null,null,0,122]
[11,20542,22,20556,23,20562,null,null,null,null,0,122]
[11,20656,11,20661,12,20666,null,null,null,null,0,111]
[11,20765,22,20784,23,20808,null,null,null,null,0,122]
[11,20903,11,20906,21,20916,null,null,null,null,0,112]
[22,21977,24,22003,23,22008,null,null,null,null,0,222]
[11,22101,11,22103,21,22118,null,null,null,null,0,112]
[22,22575,24,22579,23,22587,null,null,null,null,0,222]
[11,22681,11,22685,21,22694,null,null,null,null,0,112]
[22,22884,24,22907,23,22917,null,null,null,null,0,222]
[11,23013,11,23018,21,23031,null,null,null,null,0,112]
[22,23255,24,23259,23,23266,null,null,null,null,0,222]
[11,23359,22,23372,23,23381,null,null,null,null,0,122]
[11,23476,11,23481,21,23490,null,null,null,null,0,112]
[22,23618,24,23625,23,23629,null,null,null,null,0,222]
[11,23721,11,23725,21,23735,null,null,null,null,0,112]
[11,23839,11,23842,21,23851,null,null,null,null,0,112]
[11,23947,22,23970,23,23980,null,null,null,null,null,122]

{"sheet":"!MB2991I.sha","index":23,"n_rows":105,"n_cols":48,"rows_kept":105,"cut":false,"hidden":false,"merged":[[4,39,4,42],[5,39,5,40],[4,44,4,47],[5,44,5,45],[4,24,4,27],[5,24,5,25],[4,29,4,32],[5,29,5,30],[4,34,4,37],[5,34,5,35],[1,1,1,2],[5,13,5,14],[18,13,18,14],[19,13,19,14],[4,19,4,22],[5,19,5,20]]}
["Report for:!MB2991I.sha"]
["Date:","<date>"]
["Hen:","<hen>",null,null,null,"Correct Sequence",{"$f":"Start!J2","v":112},null,null,null,null,null,null,null,null,"Total Sequences in Data",{"$f":"4994-COUNTBLANK(L7:L5000)","v":99},null,null,null,null,"Total Sequences in Block Data",{"$f":"COUNTA(L7:L23)","v":17},null,null,null,"Total Sequences in Block Data",{"$f":"COUNTA(L24:L39)","v":16},null,null,null,"Total Sequences in Block Data",{"$f":"COUNTA(L40:L56)","v":17},null,null,null,"Total Sequences in Block Data",{"$f":"COUNTA(L57:L72)","v":16},null,null,null,"Total Sequences in Block Data",{"$f":"COUNTA(L73:L89)","v":17},null,null,null,"Total Sequences in Block Data",{"$f":"COUNTA(L90:L105)","v":16}]
[null,null,null,null,null,null,null,null,null,null,null,null,null,null,null,"Total Sequences in Summary",{"$f":"SUM(O7:O14)","v":99},null,null,null,null,"Total Sequences in Block Summary",{"$f":"SUM(U7:U14)","v":17},null,null,null,"Total Sequences in Block Summary",{"$f":"SUM(Z7:Z14)","v":16},null,null,null,"Total Sequences in Block Summary",{"$f":"SUM(AE7:AE14)","v":17},null,null,null,"Total Sequences in Block Summary",{"$f":"SUM(AJ7:AJ14)","v":16},null,null,null,"Total Sequences in Block Summary",{"$f":"SUM(AO7:AO14)","v":17},null,null,null,"Total Sequences in Block Summary",{"$f":"SUM(AT7:AT14)","v":16}]
[null,null,null,null,null,null,null,null,null,null,null,null,null,null,null,null,null,null,null,"Block 1",null,null,null,null,"Block 2",null,null,null,null,"Block 3",null,null,null,null,"Block 4",null,null,null,null,"Block 5",null,null,null,null,"Block 6"]
["Sequence\nComponent\n1","Time\n1","Sequence\nComponent\n2","Time\n2","Sequence\nComponent\n3","Time\n3","Sequence\nComponent\n4","Time\n4","Sequence\nComponent\n5","Time\n5","Correct?\n0=No 1=Yes","Sequence",null,"Frequency",null,"Relative Frequency","Variability",null,null,"Frequency",null,"Relative Frequency","Variability",null,"Frequency",null,"Relative Frequency","Variability",null,"Frequency",null,"Relative Frequency","Variability",null,"Frequency",null,"Relative Frequency","Variability",null,"Frequency",null,"Relative Frequency","Variability",null,"Frequency",null,"Relative Frequency","Variability"]
[22,7,13,16,23,25,null,null,null,null,0,212,null,111,{"$f":"COUNTIF($L$7:$L$500,N7)","v":18},{"$f":"O7/$Q$4","v":0.18181818181818182},{"$f":"IF(P7=0,0,(P7*((LOG(P7))/LOG(2))))","v":-0.44716938520678134},null,null,{"$f":"N7","v":111},{"$f":"COUNTIF(L7:L23,T7)","v":2},{"$f":"U7/(W4-U8)","v":0.15384615384615385},{"$f":"IF(V7=0,0,(V7*((LOG(V7))/LOG(2))))","v":-0.4154522643293988},null,{"$f":"N7","v":111},{"$f":"COUNTIF(L24:L39,Y7)","v":4},{"$f":"Z7/(AB4-Z8)","v":0.33333333333333331},{"$f":"IF(AA7=0,0,(AA7*((LOG(AA7))/LOG(2))))","v":-0.52832083357371862},null,{"$f":"N7","v":111},{"$f":"COUNTIF(L40:L56,AD7)","v":2},{"$f":"AE7/(AG4-AE8)","v":0.5},{"$f":"IF(AF7=0,0,(AF7*((LOG(AF7))/LOG(2))))","v":-0.5},null,{"$f":"N7","v":111},{"$f":"COUNTIF(L57:L72,AI7)","v":5},{"$f":"AJ7/(AL4-AJ8)","v":0.41666666666666669},{"$f":"IF(AK7=0,0,(AK7*((LOG(AK7))/LOG(2))))","v":-0.52626433576408083},null,{"$f":"N7","v":111},{"$f":"COUNTIF(L73:L89,AN7)","v":3},{"$f":"AO7/(AQ4-AO8)","v":0.3},{"$f":"IF(AP7=0,0,(AP7*((LOG(AP7))/LOG(2))))","v":-0.52108967824986185},null,{"$f":"N7","v":111},{"$f":"COUNTIF(L90:L105,AS7)","v":2},{"$f":"AT7/(AV4-AT8)","v":0.25},{"$f":"IF(AU7=0,0,(AU7*((LOG(AU7))/LOG(2))))","v":-0.5}]
[11,117,22,130,23,138,null,null,null,null,0,122,null,112,{"$f":"COUNTIF($L$7:$L$500,N8)","v":40},{"$f":"O8/$Q$4","v":0.40404040404040403},{"$f":"IF(P8=0,0,(P8*((LOG(P8))/LOG(2))))","v":-0.52825394957262517},null,null,{"$f":"N8","v":112},{"$f":"COUNTIF(L7:L23,T8)","v":4},null,null,null,{"$f":"N8","v":112},{"$f":"COUNTIF(L24:L39,Y8)","v":4},null,null,null,{"$f":"N8","v":112},{"$f":"COUNTIF(L40:L56,AD8)","v":13},null,null,null,{"$f":"N8","v":112},{"$f":"COUNTIF(L57:L72,AI8)","v":4},null,null,null,{"$f":"N8","v":112},{"$f":"COUNTIF(L73:L89,AN8)","v":7},null,null,null,{"$f":"N8","v":112},{"$f":"COUNTIF(L90:L105,AS8)","v":8}]
[22,284,24,288,23,298,null,null,null,null,0,222,null,121,{"$f":"COUNTIF($L$7:$L$500,N9)","v":4},{"$f":"O9/$Q$4","v":4.0404040404040407E-2},{"$f":"IF(P9=0,0,(P9*((LOG(P9))/LOG(2))))","v":-0.18704471192240849},null,null,{"$f":"N9","v":121},{"$f":"COUNTIF(L7:L23,T9)","v":0},{"$f":"U9/(W4-U8)","v":0},{"$f":"IF(V9=0,0,(V9*((LOG(V9))/LOG(2))))","v":0},null,{"$f":"N9","v":121},{"$f":"COUNTIF(L24:L39,Y9)","v":0},{"$f":"Z9/(AB4-Z8)","v":0},{"$f":"IF(AA9=0,0,(AA9*((LOG(AA9))/LOG(2))))","v":0},null,{"$f":"N9","v":121},{"$f":"COUNTIF(L40:L56,AD9)","v":0},{"$f":"AE9/(AG4-AE8)","v":0},{"$f":"IF(AF9=0,0,(AF9*((LOG(AF9))/LOG(2))))","v":0},null,{"$f":"N9","v":121},{"$f":"COUNTIF(L57:L72,AI9)","v":1},{"$f":"AJ9/(AL4-AJ8)","v":8.3333333333333329E-2},{"$f":"IF(AK9=0,0,(AK9*((LOG(AK9))/LOG(2))))","v":-0.29874687506009634},null,{"$f":"N9","v":121},{"$f":"COUNTIF(L73:L89,AN9)","v":2},{"$f":"AO9/(AQ4-AO8)","v":0.2},{"$f":"IF(AP9=0,0,(AP9*((LOG(AP9))/LOG(2))))","v":-0.46438561897747244},null,{"$f":"N9","v":121},{"$f":"COUNTIF(L90:L105,AS9)","v":1},{"$f":"AT9/(AV4-AT8)","v":0.125},{"$f":"IF(AU9=0,0,(AU9*((LOG(AU9))/LOG(2))))","v":-0.375}]
[11,394,22,409,23,418,null,null,null,null,0,122,null,122,{"$f":"COUNTIF($L$7:$L$500,N10)","v":31},{"$f":"O10/$Q$4","v":0.31313131313131315},{"$f":"IF(P10=0,0,(P10*((LOG(P10))/LOG(2))))","v":-0.52454514747954317},null,null,{"$f":"N10","v":122},{"$f":"COUNTIF(L7:L23,T10)","v":6},{"$f":"U10/(W4-U8)","v":0.46153846153846156},{"$f":"IF(V10=0,0,(V10*((LOG(V10))/LOG(2))))","v":-0.51483563880920125},null,{"$f":"N10","v":122},{"$f":"COUNTIF(L24:L39,Y10)","v":7},{"$f":"Z10/(AB4-Z8)","v":0.58333333333333337},{"$f":"IF(AA10=0,0,(AA10*((LOG(AA10))/LOG(2))))","v":-0.45360442088707198},null,{"$f":"N10","v":122},{"$f":"COUNTIF(L40:L56,AD10)","v":2},{"$f":"AE10/(AG4-AE8)","v":0.5},{"$f":"IF(AF10=0,0,(AF10*((LOG(AF10))/LOG(2))))","v":-0.5},null,{"$f":"N10","v":122},{"$f":"COUNTIF(L57:L72,AI10)","v":6},{"$f":"AJ10/(AL4-AJ8)","v":0.5},{"$f":"IF(AK10=0,0,(AK10*((LOG(AK10))/LOG(2))))","v":-0.5},null,{"$f":"N10","v":122},{"$f":"COUNTIF(L73:L89,AN10)","v":5},{"$f":"AO10/(AQ4-AO8)","v":0.5},{"$f":"IF(AP10=0,0,(AP10*((LOG(AP10))/LOG(2))))","v":-0.5},null,{"$f":"N10","v":122},{"$f":"COUNTIF(L90:L105,AS10)","v":5},{"$f":"AT10/(AV4-AT8)","v":0.625},{"$f":"IF(AU10=0,0,(AU10*((LOG(AU10))/LOG(2))))","v":-0.42379494069539858}]
[11,513,22,533,23,541,null,null,null,null,0,122,null,211,{"$f":"COUNTIF($L$7:$L$500,N11)","v":0},{"$f":"O11/$Q$4","v":0},{"$f":"IF(P11=0,0,(P11*((LOG(P11))/LOG(2))))","v":0},null,null,{"$f":"N11","v":211},{"$f":"COUNTIF(L7:L23,T11)","v":0},{"$f":"U11/(W4-U8)","v":0},{"$f":"IF(V11=0,0,(V11*((LOG(V11))/LOG(2))))","v":0},null,{"$f":"N11","v":211},{"$f":"COUNTIF(L24:L39,Y11)","v":0},{"$f":"Z11/(AB4-Z8)","v":0},{"$f":"IF(AA11=0,0,(AA11*((LOG(AA11))/LOG(2))))","v":0},null,{"$f":"N11","v":211},{"$f":"COUNTIF(L40:L56,AD11)","v":0},{"$f":"AE11/(AG4-AE8)","v":0},{"$f":"IF(AF11=0,0,(AF11*((LOG(AF11))/LOG(2))))","v":0},null,{"$f":"N11","v":211},{"$f":"COUNTIF(L57:L72,AI11)","v":0},{"$f":"AJ11/(AL4-AJ8)","v":0},{"$f":"IF(AK11=0,0,(AK11*((LOG(AK11))/LOG(2))))","v":0},null,{"$f":"N11","v":211},{"$f":"COUNTIF(L73:L89,AN11)","v":0},{"$f":"AO11/(AQ4-AO8)","v":0},{"$f":"IF(AP11=0,0,(AP11*((LOG(AP11))/LOG(2))))","v":0},null,{"$f":"N11","v":211},{"$f":"COUNTIF(L90:L105,AS11)","v":0},{"$f":"AT11/(AV4-AT8)","v":0},{"$f":"IF(AU11=0,0,(AU11*((LOG(AU11))/LOG(2))))","v":0}]
[11,633,11,637,21,649,null,null,null,null,0,112,null,212,{"$f":"COUNTIF($L$7:$L$500,N12)","v":2},{"$f":"O12/$Q$4","v":2.0202020202020204E-2},{"$f":"IF(P12=0,0,(P12*((LOG(P12))/LOG(2))))","v":-0.11372437616322445},null,null,{"$f":"N12","v":212},{"$f":"COUNTIF(L7:L23,T12)","v":2},{"$f":"U12/(W4-U8)","v":0.15384615384615385},{"$f":"IF(V12=0,0,(V12*((LOG(V12))/LOG(2))))","v":-0.4154522643293988},null,{"$f":"N12","v":212},{"$f":"COUNTIF(L24:L39,Y12)","v":0},{"$f":"Z12/(AB4-Z8)","v":0},{"$f":"IF(AA12=0,0,(AA12*((LOG(AA12))/LOG(2))))","v":0},null,{"$f":"N12","v":212},{"$f":"COUNTIF(L40:L56,AD12)","v":0},{"$f":"AE12/(AG4-AE8)","v":0},{"$f":"IF(AF12=0,0,(AF12*((LOG(AF12))/LOG(2))))","v":0},null,{"$f":"N12","v":212},{"$f":"COUNTIF(L57:L72,AI12)","v":0},{"$f":"AJ12/(AL4-AJ8)","v":0},{"$f":"IF(AK12=0,0,(AK12*((LOG(AK12))/LOG(2))))","v":0},null,{"$f":"N12","v":212},{"$f":"COUNTIF(L73:L89,AN12)","v":0},{"$f":"AO12/(AQ4-AO8)","v":0},{"$f":"IF(AP12=0,0,(AP12*((LOG(AP12))/LOG(2))))","v":0},null,{"$f":"N12","v":212},{"$f":"COUNTIF(L90:L105,AS12)","v":0},{"$f":"AT12/(AV4-AT8)","v":0},{"$f":"IF(AU12=0,0,(AU12*((LOG(AU12))/LOG(2))))","v":0}]
[22,829,13,840,23,856,null,null,null,null,0,212,null,221,{"$f":"COUNTIF($L$7:$L$500,N13)","v":0},{"$f":"O13/$Q$4","v":0},{"$f":"IF(P13=0,0,(P13*((LOG(P13))/LOG(2))))","v":0},null,null,{"$f":"N13","v":221},{"$f":"COUNTIF(L7:L23,T13)","v":0},{"$f":"U13/(W4-U8)","v":0},{"$f":"IF(V13=0,0,(V13*((LOG(V13))/LOG(2))))","v":0},null,{"$f":"N13","v":221},{"$f":"COUNTIF(L24:L39,Y13)","v":0},{"$f":"Z13/(AB4-Z8)","v":0},{"$f":"IF(AA13=0,0,(AA13*((LOG(AA13))/LOG(2))))","v":0},null,{"$f":"N13","v":221},{"$f":"COUNTIF(L40:L56,AD13)","v":0},{"$f":"AE13/(AG4-AE8)","v":0},{"$f":"IF(AF13=0,0,(AF13*((LOG(AF13))/LOG(2))))","v":0},null,{"$f":"N13","v":221},{"$f":"COUNTIF(L57:L72,AI13)","v":0},{"$f":"AJ13/(AL4-AJ8)","v":0},{"$f":"IF(AK13=0,0,(AK13*((LOG(AK13))/LOG(2))))","v":0},null,{"$f":"N13","v":221},{"$f":"COUNTIF(L73:L89,AN13)","v":0},{"$f":"AO13/(AQ4-AO8)","v":0},{"$f":"IF(AP13=0,0,(AP13*((LOG(AP13))/LOG(2))))","v":0},null,{"$f":"N13","v":221},{"$f":"COUNTIF(L90:L105,AS13)","v":0},{"$f":"AT13/(AV4-AT8)","v":0},{"$f":"IF(AU13=0,0,(AU13*((LOG(AU13))/LOG(2))))","v":0}]
[11,950,11,953,12,964,null,null,null,null,0,111,null,222,{"$f":"COUNTIF($L$7:$L$500,N14)","v":4},{"$f":"O14/$Q$4","v":4.0404040404040407E-2},{"$f":"IF(P14=0,0,(P14*((LOG(P14))/LOG(2))))","v":-0.18704471192240849},null,null,{"$f":"N14","v":222},{"$f":"COUNTIF(L7:L23,T14)","v":3},{"$f":"U14/(W4-U8)","v":0.23076923076923078},{"$f":"IF(V14=0,0,(V14*((LOG(V14))/LOG(2))))","v":-0.48818705017383146},null,{"$f":"N14","v":222},{"$f":"COUNTIF(L24:L39,Y14)","v":1},{"$f":"Z14/(AB4-Z8)","v":8.3333333333333329E-2},{"$f":"IF(AA14=0,0,(AA14*((LOG(AA14))/LOG(2))))","v":-0.29874687506009634},null,{"$f":"N14","v":222},{"$f":"COUNTIF(L40:L56,AD14)","v":0},{"$f":"AE14/(AG4-AE8)","v":0},{"$f":"IF(AF14=0,0,(AF14*((LOG(AF14))/LOG(2))))","v":0},null,{"$f":"N14","v":222},{"$f":"COUNTIF(L57:L72,AI14)","v":0},{"$f":"AJ14/(AL4-AJ8)","v":0},{"$f":"IF(AK14=0,0,(AK14*((LOG(AK14))/LOG(2))))","v":0},null,{"$f":"N14","v":222},{"$f":"COUNTIF(L73:L89,AN14)","v":0},{"$f":"AO14/(AQ4-AO8)","v":0},{"$f":"IF(AP14=0,0,(AP14*((LOG(AP14))/LOG(2))))","v":0},null,{"$f":"N14","v":222},{"$f":"COUNTIF(L90:L105,AS14)","v":0},{"$f":"AT14/(AV4-AT8)","v":0},{"$f":"IF(AU14=0,0,(AU14*((LOG(AU14))/LOG(2))))","v":0}]
[11,1060,11,1064,21,1083,null,null,null,null,0,112,null,null,null,{"$f":"SUM(P7:P14)","v":1},{"$f":"-SUM(Q7:Q14)","v":1.9877822822669915},null,null,null,null,{"$f":"SUM(V7:V14)","v":1},{"$f":"-SUM(W7:W14)","v":1.8339272176418302},null,null,null,{"$f":"SUM(AA7:AA14)","v":1},{"$f":"-SUM(AB7:AB14)","v":1.2806721295208869},null,null,null,{"$f":"SUM(AF7:AF14)","v":1},{"$f":"-SUM(AG7:AG14)","v":1},null,null,null,{"$f":"SUM(AK7:AK14)","v":1},{"$f":"-SUM(AL7:AL14)","v":1.3250112108241772},null,null,null,{"$f":"SUM(AP7:AP14)","v":1},{"$f":"-SUM(AQ7:AQ14)","v":1.4854752972273344},null,null,null,{"$f":"SUM(AU7:AU14)","v":1},{"$f":"-SUM(AV7:AV14)","v":1.2987949406953985}]
[11,1256,11,1262,21,1272,null,null,null,null,0,112,null,null,null,"U=",{"$f":"Q15/(LOG(Q4)/LOG(2))","v":0.29984542938091646},null,null,null,null,"U1=",{"$f":"W15/(LOG(W4)/LOG(2))","v":0.44867128800144368},null,null,null,"U2=",{"$f":"AB15/(LOG(AB4)/LOG(2))","v":0.32016803238022173},null,null,null,"U3=",{"$f":"AG15/(LOG(AG4)/LOG(2))","v":0.24465054211822604},null,null,null,"U4=",{"$f":"AL15/(LOG(AL4)/LOG(2))","v":0.33125280270604429},null,null,null,"U5=",{"$f":"AQ15/(LOG(AQ4)/LOG(2))","v":0.36342233676990032},null,null,null,"U6=",{"$f":"AV15/(LOG(AV4)/LOG(2))","v":0.32469873517384962}]
[22,1459,24,1466,23,1473,null,null,null,null,0,222]
[11,1567,22,1584,23,1591,null,null,null,null,0,122]
[11,1684,11,1688,12,1699,null,null,null,null,0,111,null,"Total Target Seq"]
[11,1798,11,1804,21,1814,null,null,null,null,0,112,null,{"$f":"COUNTIF(L7:L105,G3)","v":40},null,17,16,17,16,17,16]
[11,1907,22,1920,23,1928,null,null,null,null,0,122,null,null,null,"% of reinforcement given in 6 equal intervals based on number of trials "]
[22,2035,24,2056,23,2063,null,null,null,null,0,222,null,null,null,"%_1","%_2","%_3","%_4","%_5","%_6"]
[11,2159,22,2171,23,2281,null,null,null,null,0,122,null,null,"target sequence",{"$f":"$G$3","v":112},{"$f":"$G$3","v":112},{"$f":"$G$3","v":112},{"$f":"$G$3","v":112},{"$f":"$G$3","v":112},{"$f":"$G$3","v":112}]
[11,2379,11,2382,21,2391,null,null,null,null,0,112,null,null,"total reinforcement",{"$f":"U8","v":4},{"$f":"Z8","v":4},{"$f":"AE8","v":13},{"$f":"AJ8","v":4},{"$f":"AO8","v":7},{"$f":"AT8","v":8}]
[11,2499,22,2519,23,2536,null,null,null,null,0,122,null,null,"% target"]
[11,2629,11,2633,12,2636,null,null,null,null,0,111,null,null,"CCRF"]
[11,2732,11,2737,21,2747,null,null,null,null,0,112,null,null,"% CCRf"]
[11,2910,22,2920,23,2946,null,null,null,null,0,122,null,null,"average response rate",{"$f":"F23/P20","v":134.1764705882353},{"$f":"(F39-F23)/Q20","v":128.1875},{"$f":"(F56-F39)/R20","v":158.88235294117646},{"$f":"(F72-F56)/S20","v":141.0625},{"$f":"(F89-F72)/T20","v":146.76470588235293},{"$f":"(F105-F89)/U20","v":129.3125}]
[11,3041,22,3055,23,3065,null,null,null,null,0,122]
[11,3165,22,3181,23,3187,null,null,null,null,0,122]
[11,3284,11,3287,12,3291,null,null,null,null,0,111]
[22,3389,24,3408,23,3413,null,null,null,null,0,222]
[11,3508,22,3523,23,3532,null,null,null,null,0,122]
[11,3628,22,3638,23,3664,null,null,null,null,0,122]
[11,3798,22,3828,23,3865,null,null,null,null,0,122]
[11,3961,11,3965,21,3980,null,null,null,null,0,112]
[11,4098,11,4103,12,4110,null,null,null,null,0,111]
[11,4208,11,4212,12,4218,null,null,null,null,0,111]
[11,4314,11,4319,21,4332,null,null,null,null,0,112]
[11,4469,11,4472,12,4478,null,null,null,null,0,111]
[11,4575,11,4580,21,4590,null,null,null,null,0,112]
[11,4744,11,4750,21,4790,null,null,null,null,0,112]
[11,4948,11,4954,12,4960,null,null,null,null,0,111]
[11,5056,11,5059,21,5081,null,null,null,null,0,112]
[11,5209,11,5218,21,5237,null,null,null,null,0,112]
[11,5371,11,5376,21,5386,null,null,null,null,0,112]
[11,5584,11,5589,21,5602,null,null,null,null,0,112]
[11,5735,22,5766,23,5779,null,null,null,null,0,122]
[11,5973,11,5975,21,5986,null,null,null,null,0,112]
[11,6117,22,6147,23,6158,null,null,null,null,0,122]
[11,6256,11,6264,21,6285,null,null,null,null,0,112]
[11,6419,11,6423,21,6438,null,null,null,null,0,112]
[11,6538,11,6546,21,6565,null,null,null,null,0,112]
[11,6673,11,6678,21,6704,null,null,null,null,0,112]
[11,6825,11,6834,21,6854,null,null,null,null,0,112]
[11,7007,11,7014,21,7033,null,null,null,null,0,112]
[11,7162,11,7168,21,7179,null,null,null,null,0,112]
[11,7340,11,7345,12,7351,null,null,null,null,0,111]
[11,7449,22,7463,23,7472,null,null,null,null,0,122]
[11,7566,22,7594,23,7611,null,null,null,null,0,122]
[11,7732,11,7738,12,7740,null,null,null,null,0,111]
[11,7836,22,7850,14,8023,null,null,null,null,0,121]
[11,8118,11,8122,12,8129,null,null,null,null,0,111]
[11,8226,11,8231,21,8243,null,null,null,null,0,112]
[11,8400,22,8417,23,8431,null,null,null,null,0,122]
[11,8526,11,8530,12,8534,null,null,null,null,0,111]
[11,8629,11,8634,21,8644,null,null,null,null,0,112]
[11,8757,22,8780,23,8797,null,null,null,null,0,122]
[11,8895,11,8903,12,8911,null,null,null,null,0,111]
[11,9006,22,9035,23,9044,null,null,null,null,0,122]
[11,9143,22,9166,23,9175,null,null,null,null,0,122]
[11,9273,11,9279,21,9290,null,null,null,null,0,112]
[11,9384,11,9389,12,9394,null,null,null,null,0,111]
[11,9491,22,9513,23,9522,null,null,null,null,0,122]
[11,9617,11,9623,21,9634,null,null,null,null,0,112]
[11,9763,11,9770,21,9792,null,null,null,null,0,112]
[11,9927,11,9931,12,9937,null,null,null,null,0,111]
[11,10033,11,10041,21,10055,null,null,null,null,0,112]
[11,10233,22,10253,23,10260,null,null,null,null,0,122]
[11,10356,11,10368,21,10386,null,null,null,null,0,112]
[11,10497,22,10509,23,10519,null,null,null,null,0,122]
[11,10630,22,10640,23,10646,null,null,null,null,0,122]
[11,10741,22,10757,14,10913,null,null,null,null,0,121]
[11,11009,22,11023,23,11032,null,null,null,null,0,122]
[11,11129,11,11134,21,11150,null,null,null,null,0,112]
[11,11266,22,11280,14,11358,null,null,null,null,0,121]
[11,11452,11,11462,21,11481,null,null,null,null,0,112]
[11,11575,11,11581,21,11610,null,null,null,null,0,112]
[11,11779,11,11783,12,11785,null,null,null,null,0,111]
[11,11879,11,11885,12,11893,null,null,null,null,0,111]
[11,11990,22,12012,23,12024,null,null,null,null,0,122]
[11,12119,11,12125,21,12135,null,null,null,null,0,112]
[11,12244,11,12248,21,12273,null,null,null,null,0,112]
[11,12371,22,12400,23,12410,null,null,null,null,0,122]
[11,12507,11,12511,21,12527,null,null,null,null,0,112]
[11,12621,11,12630,21,12639,null,null,null,null,0,112]
[11,12743,11,12749,21,12759,null,null,null,null,0,112]
[11,12932,11,12938,12,12946,null,null,null,null,0,111]
[11,13043,11,13046,21,13065,null,null,null,null,0,112]
[11,13157,11,13164,21,13183,null,null,null,null,0,112]
[11,13315,22,13341,23,13360,null,null,null,null,0,122]
[11,13454,22,13471,23,13480,null,null,null,null,0,122]
[11,13576,22,13591,14,13619,null,null,null,null,0,121]
[11,13716,22,13735,23,13743,null,null,null,null,0,122]
[11,13838,11,13841,21,13854,null,null,null,null,1,112]

{"sheet":"!MB3090I.sha","index":24,"n_rows":50,"n_cols":48,"rows_kept":50,"cut":false,"hidden":false,"merged":[[4,39,4,42],[5,39,5,40],[4,44,4,47],[5,44,5,45],[4,24,4,27],[5,24,5,25],[4,29,4,32],[5,29,5,30],[4,34,4,37],[5,34,5,35],[1,1,1,2],[5,13,5,14],[18,13,18,14],[19,13,19,14],[4,19,4,22],[5,19,5,20]]}
["Report for:!MB3090I.sha"]
["Date:","<date>"]
["Hen:","<hen>",null,null,null,"Correct Sequence",{"$f":"Start!J2","v":112},null,null,null,null,null,null,null,null,"Total Sequences in Data",{"$f":"4994-COUNTBLANK(L7:L5000)","v":44},null,null,null,null,"Total Sequences in Block Data",{"$f":"COUNTA(L7:L13)","v":7},null,null,null,"Total Sequences in Block Data",{"$f":"COUNTA(L14:L21)","v":8},null,null,null,"Total Sequences in Block Data",{"$f":"COUNTA(L22:L28)","v":7},null,null,null,"Total Sequences in Block Data",{"$f":"COUNTA(L29:L35)","v":7},null,null,null,"Total Sequences in Block Data",{"$f":"COUNTA(L36:L43)","v":8},null,null,null,"Total Sequences in Block Data",{"$f":"COUNTA(L44:L50)","v":7}]
[null,null,null,null,null,null,null,null,null,null,null,null,null,null,null,"Total Sequences in Summary",{"$f":"SUM(O7:O14)","v":44},null,null,null,null,"Total Sequences in Block Summary",{"$f":"SUM(U7:U14)","v":7},null,null,null,"Total Sequences in Block Summary",{"$f":"SUM(Z7:Z14)","v":8},null,null,null,"Total Sequences in Block Summary",{"$f":"SUM(AE7:AE14)","v":7},null,null,null,"Total Sequences in Block Summary",{"$f":"SUM(AJ7:AJ14)","v":7},null,null,null,"Total Sequences in Block Summary",{"$f":"SUM(AO7:AO14)","v":8},null,null,null,"Total Sequences in Block Summary",{"$f":"SUM(AT7:AT14)","v":7}]
[null,null,null,null,null,null,null,null,null,null,null,null,null,null,null,null,null,null,null,"Block 1",null,null,null,null,"Block 2",null,null,null,null,"Block 3",null,null,null,null,"Block 4",null,null,null,null,"Block 5",null,null,null,null,"Block 6"]
["Sequence\nComponent\n1","Time\n1","Sequence\nComponent\n2","Time\n2","Sequence\nComponent\n3","Time\n3","Sequence\nComponent\n4","Time\n4","Sequence\nComponent\n5","Time\n5","Correct?\n0=No 1=Yes","Sequence",null,"Frequency",null,"Relative Frequency","Variability",null,null,"Frequency",null,"Relative Frequency","Variability",null,"Frequency",null,"Relative Frequency","Variability",null,"Frequency",null,"Relative Frequency","Variability",null,"Frequency",null,"Relative Frequency","Variability",null,"Frequency",null,"Relative Frequency","Variability",null,"Frequency",null,"Relative Frequency","Variability"]
[22,784,13,799,23,812,null,null,null,null,0,212,null,111,{"$f":"COUNTIF($L$7:$L$500,N7)","v":4},{"$f":"O7/$Q$4","v":9.0909090909090912E-2},{"$f":"IF(P7=0,0,(P7*((LOG(P7))/LOG(2))))","v":-0.31449378351248153},null,null,{"$f":"N7","v":111},{"$f":"COUNTIF(L7:L13,T7)","v":0},{"$f":"U7/(W4-U8)","v":0},{"$f":"IF(V7=0,0,(V7*((LOG(V7))/LOG(2))))","v":0},null,{"$f":"N7","v":111},{"$f":"COUNTIF(L14:L21,Y7)","v":0},{"$f":"Z7/(AB4-Z8)","v":0},{"$f":"IF(AA7=0,0,(AA7*((LOG(AA7))/LOG(2))))","v":0},null,{"$f":"N7","v":111},{"$f":"COUNTIF(L22:L28,AD7)","v":0},{"$f":"AE7/(AG4-AE8)","v":0},{"$f":"IF(AF7=0,0,(AF7*((LOG(AF7))/LOG(2))))","v":0},null,{"$f":"N7","v":111},{"$f":"COUNTIF(L29:L35,AI7)","v":1},{"$f":"AJ7/(AL4-AJ8)","v":0.2},{"$f":"IF(AK7=0,0,(AK7*((LOG(AK7))/LOG(2))))","v":-0.46438561897747244},null,{"$f":"N7","v":111},{"$f":"COUNTIF(L36:L43,AN7)","v":2},{"$f":"AO7/(AQ4-AO8)","v":0.2857142857142857},{"$f":"IF(AP7=0,0,(AP7*((LOG(AP7))/LOG(2))))","v":-0.51638712058788683},null,{"$f":"N7","v":111},{"$f":"COUNTIF(L44:L50,AS7)","v":1},{"$f":"AT7/(AV4-AT8)","v":0.25},{"$f":"IF(AU7=0,0,(AU7*((LOG(AU7))/LOG(2))))","v":-0.5}]
[11,935,22,943,23,972,null,null,null,null,0,122,null,112,{"$f":"COUNTIF($L$7:$L$500,N8)","v":12},{"$f":"O8/$Q$4","v":0.27272727272727271},{"$f":"IF(P8=0,0,(P8*((LOG(P8))/LOG(2))))","v":-0.51121885034076575},null,null,{"$f":"N8","v":112},{"$f":"COUNTIF(L7:L13,T8)","v":2},null,null,null,{"$f":"N8","v":112},{"$f":"COUNTIF(L14:L21,Y8)","v":1},null,null,null,{"$f":"N8","v":112},{"$f":"COUNTIF(L22:L28,AD8)","v":3},null,null,null,{"$f":"N8","v":112},{"$f":"COUNTIF(L29:L35,AI8)","v":2},null,null,null,{"$f":"N8","v":112},{"$f":"COUNTIF(L36:L43,AN8)","v":1},null,null,null,{"$f":"N8","v":112},{"$f":"COUNTIF(L44:L50,AS8)","v":3}]
[11,1068,22,1080,23,1087,null,null,null,null,0,122,null,121,{"$f":"COUNTIF($L$7:$L$500,N9)","v":4},{"$f":"O9/$Q$4","v":9.0909090909090912E-2},{"$f":"IF(P9=0,0,(P9*((LOG(P9))/LOG(2))))","v":-0.31449378351248153},null,null,{"$f":"N9","v":121},{"$f":"COUNTIF(L7:L13,T9)","v":1},{"$f":"U9/(W4-U8)","v":0.2},{"$f":"IF(V9=0,0,(V9*((LOG(V9))/LOG(2))))","v":-0.46438561897747244},null,{"$f":"N9","v":121},{"$f":"COUNTIF(L14:L21,Y9)","v":1},{"$f":"Z9/(AB4-Z8)","v":0.14285714285714285},{"$f":"IF(AA9=0,0,(AA9*((LOG(AA9))/LOG(2))))","v":-0.40105070315108626},null,{"$f":"N9","v":121},{"$f":"COUNTIF(L22:L28,AD9)","v":0},{"$f":"AE9/(AG4-AE8)","v":0},{"$f":"IF(AF9=0,0,(AF9*((LOG(AF9))/LOG(2))))","v":0},null,{"$f":"N9","v":121},{"$f":"COUNTIF(L29:L35,AI9)","v":0},{"$f":"AJ9/(AL4-AJ8)","v":0},{"$f":"IF(AK9=0,0,(AK9*((LOG(AK9))/LOG(2))))","v":0},null,{"$f":"N9","v":121},{"$f":"COUNTIF(L36:L43,AN9)","v":1},{"$f":"AO9/(AQ4-AO8)","v":0.14285714285714285},{"$f":"IF(AP9=0,0,(AP9*((LOG(AP9))/LOG(2))))","v":-0.40105070315108626},null,{"$f":"N9","v":121},{"$f":"COUNTIF(L44:L50,AS9)","v":1},{"$f":"AT9/(AV4-AT8)","v":0.25},{"$f":"IF(AU9=0,0,(AU9*((LOG(AU9))/LOG(2))))","v":-0.5}]
[11,1181,11,1187,21,1199,null,null,null,null,0,112,null,122,{"$f":"COUNTIF($L$7:$L$500,N10)","v":14},{"$f":"O10/$Q$4","v":0.31818181818181818},{"$f":"IF(P10=0,0,(P10*((LOG(P10))/LOG(2))))","v":-0.52566076709353871},null,null,{"$f":"N10","v":122},{"$f":"COUNTIF(L7:L13,T10)","v":2},{"$f":"U10/(W4-U8)","v":0.4},{"$f":"IF(V10=0,0,(V10*((LOG(V10))/LOG(2))))","v":-0.52877123795494496},null,{"$f":"N10","v":122},{"$f":"COUNTIF(L14:L21,Y10)","v":4},{"$f":"Z10/(AB4-Z8)","v":0.5714285714285714},{"$f":"IF(AA10=0,0,(AA10*((LOG(AA10))/LOG(2))))","v":-0.46134566974720237},null,{"$f":"N10","v":122},{"$f":"COUNTIF(L22:L28,AD10)","v":2},{"$f":"AE10/(AG4-AE8)","v":0.5},{"$f":"IF(AF10=0,0,(AF10*((LOG(AF10))/LOG(2))))","v":-0.5},null,{"$f":"N10","v":122},{"$f":"COUNTIF(L29:L35,AI10)","v":1},{"$f":"AJ10/(AL4-AJ8)","v":0.2},{"$f":"IF(AK10=0,0,(AK10*((LOG(AK10))/LOG(2))))","v":-0.46438561897747244},null,{"$f":"N10","v":122},{"$f":"COUNTIF(L36:L43,AN10)","v":4},{"$f":"AO10/(AQ4-AO8)","v":0.5714285714285714},{"$f":"IF(AP10=0,0,(AP10*((LOG(AP10))/LOG(2))))","v":-0.46134566974720237},null,{"$f":"N10","v":122},{"$f":"COUNTIF(L44:L50,AS10)","v":1},{"$f":"AT10/(AV4-AT8)","v":0.25},{"$f":"IF(AU10=0,0,(AU10*((LOG(AU10))/LOG(2))))","v":-0.5}]
[22,2638,24,2656,23,2660,null,null,null,null,0,222,null,211,{"$f":"COUNTIF($L$7:$L$500,N11)","v":1},{"$f":"O11/$Q$4","v":2.2727272727272728E-2},{"$f":"IF(P11=0,0,(P11*((LOG(P11))/LOG(2))))","v":-0.12407799133266585},null,null,{"$f":"N11","v":211},{"$f":"COUNTIF(L7:L13,T11)","v":0},{"$f":"U11/(W4-U8)","v":0},{"$f":"IF(V11=0,0,(V11*((LOG(V11))/LOG(2))))","v":0},null,{"$f":"N11","v":211},{"$f":"COUNTIF(L14:L21,Y11)","v":0},{"$f":"Z11/(AB4-Z8)","v":0},{"$f":"IF(AA11=0,0,(AA11*((LOG(AA11))/LOG(2))))","v":0},null,{"$f":"N11","v":211},{"$f":"COUNTIF(L22:L28,AD11)","v":0},{"$f":"AE11/(AG4-AE8)","v":0},{"$f":"IF(AF11=0,0,(AF11*((LOG(AF11))/LOG(2))))","v":0},null,{"$f":"N11","v":211},{"$f":"COUNTIF(L29:L35,AI11)","v":1},{"$f":"AJ11/(AL4-AJ8)","v":0.2},{"$f":"IF(AK11=0,0,(AK11*((LOG(AK11))/LOG(2))))","v":-0.46438561897747244},null,{"$f":"N11","v":211},{"$f":"COUNTIF(L36:L43,AN11)","v":0},{"$f":"AO11/(AQ4-AO8)","v":0},{"$f":"IF(AP11=0,0,(AP11*((LOG(AP11))/LOG(2))))","v":0},null,{"$f":"N11","v":211},{"$f":"COUNTIF(L44:L50,AS11)","v":0},{"$f":"AT11/(AV4-AT8)","v":0},{"$f":"IF(AU11=0,0,(AU11*((LOG(AU11))/LOG(2))))","v":0}]
[11,2756,22,2769,14,2824,null,null,null,null,0,121,null,212,{"$f":"COUNTIF($L$7:$L$500,N12)","v":1},{"$f":"O12/$Q$4","v":2.2727272727272728E-2},{"$f":"IF(P12=0,0,(P12*((LOG(P12))/LOG(2))))","v":-0.12407799133266585},null,null,{"$f":"N12","v":212},{"$f":"COUNTIF(L7:L13,T12)","v":1},{"$f":"U12/(W4-U8)","v":0.2},{"$f":"IF(V12=0,0,(V12*((LOG(V12))/LOG(2))))","v":-0.46438561897747244},null,{"$f":"N12","v":212},{"$f":"COUNTIF(L14:L21,Y12)","v":0},{"$f":"Z12/(AB4-Z8)","v":0},{"$f":"IF(AA12=0,0,(AA12*((LOG(AA12))/LOG(2))))","v":0},null,{"$f":"N12","v":212},{"$f":"COUNTIF(L22:L28,AD12)","v":0},{"$f":"AE12/(AG4-AE8)","v":0},{"$f":"IF(AF12=0,0,(AF12*((LOG(AF12))/LOG(2))))","v":0},null,{"$f":"N12","v":212},{"$f":"COUNTIF(L29:L35,AI12)","v":0},{"$f":"AJ12/(AL4-AJ8)","v":0},{"$f":"IF(AK12=0,0,(AK12*((LOG(AK12))/LOG(2))))","v":0},null,{"$f":"N12","v":212},{"$f":"COUNTIF(L36:L43,AN12)","v":0},{"$f":"AO12/(AQ4-AO8)","v":0},{"$f":"IF(AP12=0,0,(AP12*((LOG(AP12))/LOG(2))))","v":0},null,{"$f":"N12","v":212},{"$f":"COUNTIF(L44:L50,AS12)","v":0},{"$f":"AT12/(AV4-AT8)","v":0},{"$f":"IF(AU12=0,0,(AU12*((LOG(AU12))/LOG(2))))","v":0}]
[11,2919,11,2924,21,2935,null,null,null,null,0,112,null,221,{"$f":"COUNTIF($L$7:$L$500,N13)","v":3},{"$f":"O13/$Q$4","v":6.8181818181818177E-2},{"$f":"IF(P13=0,0,(P13*((LOG(P13))/LOG(2))))","v":-0.26416834894882779},null,null,{"$f":"N13","v":221},{"$f":"COUNTIF(L7:L13,T13)","v":0},{"$f":"U13/(W4-U8)","v":0},{"$f":"IF(V13=0,0,(V13*((LOG(V13))/LOG(2))))","v":0},null,{"$f":"N13","v":221},{"$f":"COUNTIF(L14:L21,Y13)","v":1},{"$f":"Z13/(AB4-Z8)","v":0.14285714285714285},{"$f":"IF(AA13=0,0,(AA13*((LOG(AA13))/LOG(2))))","v":-0.40105070315108626},null,{"$f":"N13","v":221},{"$f":"COUNTIF(L22:L28,AD13)","v":0},{"$f":"AE13/(AG4-AE8)","v":0},{"$f":"IF(AF13=0,0,(AF13*((LOG(AF13))/LOG(2))))","v":0},null,{"$f":"N13","v":221},{"$f":"COUNTIF(L29:L35,AI13)","v":1},{"$f":"AJ13/(AL4-AJ8)","v":0.2},{"$f":"IF(AK13=0,0,(AK13*((LOG(AK13))/LOG(2))))","v":-0.46438561897747244},null,{"$f":"N13","v":221},{"$f":"COUNTIF(L36:L43,AN13)","v":0},{"$f":"AO13/(AQ4-AO8)","v":0},{"$f":"IF(AP13=0,0,(AP13*((LOG(AP13))/LOG(2))))","v":0},null,{"$f":"N13","v":221},{"$f":"COUNTIF(L44:L50,AS13)","v":1},{"$f":"AT13/(AV4-AT8)","v":0.25},{"$f":"IF(AU13=0,0,(AU13*((LOG(AU13))/LOG(2))))","v":-0.5}]
[11,4249,22,4262,23,4268,null,null,null,null,0,122,null,222,{"$f":"COUNTIF($L$7:$L$500,N14)","v":5},{"$f":"O14/$Q$4","v":0.11363636363636363},{"$f":"IF(P14=0,0,(P14*((LOG(P14))/LOG(2))))","v":-0.35653449133521992},null,null,{"$f":"N14","v":222},{"$f":"COUNTIF(L7:L13,T14)","v":1},{"$f":"U14/(W4-U8)","v":0.2},{"$f":"IF(V14=0,0,(V14*((LOG(V14))/LOG(2))))","v":-0.46438561897747244},null,{"$f":"N14","v":222},{"$f":"COUNTIF(L14:L21,Y14)","v":1},{"$f":"Z14/(AB4-Z8)","v":0.14285714285714285},{"$f":"IF(AA14=0,0,(AA14*((LOG(AA14))/LOG(2))))","v":-0.40105070315108626},null,{"$f":"N14","v":222},{"$f":"COUNTIF(L22:L28,AD14)","v":2},{"$f":"AE14/(AG4-AE8)","v":0.5},{"$f":"IF(AF14=0,0,(AF14*((LOG(AF14))/LOG(2))))","v":-0.5},null,{"$f":"N14","v":222},{"$f":"COUNTIF(L29:L35,AI14)","v":1},{"$f":"AJ14/(AL4-AJ8)","v":0.2},{"$f":"IF(AK14=0,0,(AK14*((LOG(AK14))/LOG(2))))","v":-0.46438561897747244},null,{"$f":"N14","v":222},{"$f":"COUNTIF(L36:L43,AN14)","v":0},{"$f":"AO14/(AQ4-AO8)","v":0},{"$f":"IF(AP14=0,0,(AP14*((LOG(AP14))/LOG(2))))","v":0},null,{"$f":"N14","v":222},{"$f":"COUNTIF(L44:L50,AS14)","v":0},{"$f":"AT14/(AV4-AT8)","v":0},{"$f":"IF(AU14=0,0,(AU14*((LOG(AU14))/LOG(2))))","v":0}]
[11,4364,22,4372,23,4379,null,null,null,null,0,122,null,null,null,{"$f":"SUM(P7:P14)","v":0.99999999999999989},{"$f":"-SUM(Q7:Q14)","v":2.5347260074086471},null,null,null,null,{"$f":"SUM(V7:V14)","v":1},{"$f":"-SUM(W7:W14)","v":1.9219280948873623},null,null,null,{"$f":"SUM(AA7:AA14)","v":0.99999999999999978},{"$f":"-SUM(AB7:AB14)","v":1.6644977792004614},null,null,null,{"$f":"SUM(AF7:AF14)","v":1},{"$f":"-SUM(AG7:AG14)","v":1},null,null,null,{"$f":"SUM(AK7:AK14)","v":1},{"$f":"-SUM(AL7:AL14)","v":2.3219280948873622},null,null,null,{"$f":"SUM(AP7:AP14)","v":1},{"$f":"-SUM(AQ7:AQ14)","v":1.3787834934861753},null,null,null,{"$f":"SUM(AU7:AU14)","v":1},{"$f":"-SUM(AV7:AV14)","v":2}]
[11,4475,22,4490,23,4495,null,null,null,null,0,122,null,null,null,"U=",{"$f":"Q15/(LOG(Q4)/LOG(2))","v":0.46428386404834721},null,null,null,null,"U1=",{"$f":"W15/(LOG(W4)/LOG(2))","v":0.68460460050370719},null,null,null,"U2=",{"$f":"AB15/(LOG(AB4)/LOG(2))","v":0.55483259306682042},null,null,null,"U3=",{"$f":"AG15/(LOG(AG4)/LOG(2))","v":0.35620718710802218},null,null,null,"U4=",{"$f":"AL15/(LOG(AL4)/LOG(2))","v":0.82708747534691607},null,null,null,"U5=",{"$f":"AQ15/(LOG(AQ4)/LOG(2))","v":0.45959449782872513},null,null,null,"U6=",{"$f":"AV15/(LOG(AV4)/LOG(2))","v":0.71241437421604437}]
[11,4589,22,4601,14,4622,null,null,null,null,0,121]
[11,4716,22,4727,23,4753,null,null,null,null,0,122]
[11,4846,11,4850,21,4860,null,null,null,null,0,112,null,"Total Target Seq"]
[22,6354,24,6372,14,6436,null,null,null,null,0,221,null,{"$f":"COUNTIF(L7:L50,G3)","v":12},null,7,8,7,7,8,7]
[22,6555,24,6579,23,6584,null,null,null,null,0,222,null,null,null,"% of reinforcement given in 6 equal intervals based on number of trials "]
[11,6675,11,6680,21,6690,null,null,null,null,0,112,null,null,null,"%_1","%_2","%_3","%_4","%_5","%_6"]
[11,7804,11,7806,21,8335,null,null,null,null,0,112,null,null,"target sequence",{"$f":"$G$3","v":112},{"$f":"$G$3","v":112},{"$f":"$G$3","v":112},{"$f":"$G$3","v":112},{"$f":"$G$3","v":112},{"$f":"$G$3","v":112}]
[22,9401,24,9405,23,9438,null,null,null,null,0,222,null,null,"total reinforcement",{"$f":"U8","v":2},{"$f":"Z8","v":1},{"$f":"AE8","v":3},{"$f":"AJ8","v":2},{"$f":"AO8","v":1},{"$f":"AT8","v":3}]
[11,9535,22,9548,23,9555,null,null,null,null,0,122,null,null,"% target"]
[11,9650,22,9665,23,9671,null,null,null,null,0,122,null,null,"CCRF"]
[11,9762,11,9766,21,9776,null,null,null,null,0,112,null,null,"% CCRf"]
[22,10135,24,10139,23,10146,null,null,null,null,0,222,null,null,"average response rate",{"$f":"F13/P20","v":419.28571428571428},{"$f":"(F21-F13)/Q20","v":456.125},{"$f":"(F28-F21)/R20","v":508.85714285714283},{"$f":"(F35-F28)/S20","v":671},{"$f":"(F43-F35)/T20","v":367.75},{"$f":"(F50-F43)/U20","v":647.71428571428567}]
[11,10244,11,10248,21,10260,null,null,null,null,0,112]
[22,12509,24,12514,23,12522,null,null,null,null,0,222]
[11,12616,22,12628,23,12632,null,null,null,null,0,122]
[11,12726,11,12729,12,12734,null,null,null,null,0,111]
[11,12829,11,12836,21,12847,null,null,null,null,0,112]
[22,14641,24,14668,14,14694,null,null,null,null,0,221]
[22,14805,13,14838,14,14843,null,null,null,null,0,211]
[11,14938,22,14950,23,14957,null,null,null,null,0,122]
[11,15131,22,15138,14,15148,null,null,null,null,0,121]
[11,15246,11,15248,21,15258,null,null,null,null,0,112]
[11,17291,22,17299,23,17319,null,null,null,null,0,122]
[11,17412,22,17434,23,17443,null,null,null,null,0,122]
[11,17539,22,17553,23,17559,null,null,null,null,0,122]
[11,17676,11,17680,12,17684,null,null,null,null,0,111]
[11,17779,11,17782,12,17785,null,null,null,null,0,111]
[11,17881,11,17887,12,17894,null,null,null,null,0,111]
[11,17988,22,18001,14,18030,null,null,null,null,0,121]
[11,18125,11,18130,21,18148,null,null,null,null,0,112]
[11,20422,22,20433,23,20438,null,null,null,null,0,122]
[11,20539,11,20546,21,20556,null,null,null,null,0,112]
[22,22178,24,22183,14,22197,null,null,null,null,0,221]
[11,22294,11,22298,21,22319,null,null,null,null,0,112]

{"sheet":"!MC01A2I.sha","index":25,"n_rows":105,"n_cols":48,"rows_kept":105,"cut":false,"hidden":false,"merged":[[4,39,4,42],[5,39,5,40],[4,44,4,47],[5,44,5,45],[4,24,4,27],[5,24,5,25],[4,29,4,32],[5,29,5,30],[4,34,4,37],[5,34,5,35],[1,1,1,2],[5,13,5,14],[18,13,18,14],[19,13,19,14],[4,19,4,22],[5,19,5,20]]}
["Report for:!MC01A2I.sha"]
["Date:","<date>"]
["Hen:","<hen>",null,null,null,"Correct Sequence",{"$f":"Start!J2","v":112},null,null,null,null,null,null,null,null,"Total Sequences in Data",{"$f":"4994-COUNTBLANK(L7:L5000)","v":99},null,null,null,null,"Total Sequences in Block Data",{"$f":"COUNTA(L7:L23)","v":17},null,null,null,"Total Sequences in Block Data",{"$f":"COUNTA(L24:L39)","v":16},null,null,null,"Total Sequences in Block Data",{"$f":"COUNTA(L40:L56)","v":17},null,null,null,"Total Sequences in Block Data",{"$f":"COUNTA(L57:L72)","v":16},null,null,null,"Total Sequences in Block Data",{"$f":"COUNTA(L73:L89)","v":17},null,null,null,"Total Sequences in Block Data",{"$f":"COUNTA(L90:L105)","v":16}]
[null,null,null,null,null,null,null,null,null,null,null,null,null,null,null,"Total Sequences in Summary",{"$f":"SUM(O7:O14)","v":99},null,null,null,null,"Total Sequences in Block Summary",{"$f":"SUM(U7:U14)","v":17},null,null,null,"Total Sequences in Block Summary",{"$f":"SUM(Z7:Z14)","v":16},null,null,null,"Total Sequences in Block Summary",{"$f":"SUM(AE7:AE14)","v":17},null,null,null,"Total Sequences in Block Summary",{"$f":"SUM(AJ7:AJ14)","v":16},null,null,null,"Total Sequences in Block Summary",{"$f":"SUM(AO7:AO14)","v":17},null,null,null,"Total Sequences in Block Summary",{"$f":"SUM(AT7:AT14)","v":16}]
[null,null,null,null,null,null,null,null,null,null,null,null,null,null,null,null,null,null,null,"Block 1",null,null,null,null,"Block 2",null,null,null,null,"Block 3",null,null,null,null,"Block 4",null,null,null,null,"Block 5",null,null,null,null,"Block 6"]
["Sequence\nComponent\n1","Time\n1","Sequence\nComponent\n2","Time\n2","Sequence\nComponent\n3","Time\n3","Sequence\nComponent\n4","Time\n4","Sequence\nComponent\n5","Time\n5","Correct?\n0=No 1=Yes","Sequence",null,"Frequency",null,"Relative Frequency","Variability",null,null,"Frequency",null,"Relative Frequency","Variability",null,"Frequency",null,"Relative Frequency","Variability",null,"Frequency",null,"Relative Frequency","Variability",null,"Frequency",null,"Relative Frequency","Variability",null,"Frequency",null,"Relative Frequency","Variability",null,"Frequency",null,"Relative Frequency","Variability"]
[11,85,22,94,23,114,null,null,null,null,0,122,null,111,{"$f":"COUNTIF($L$7:$L$500,N7)","v":25},{"$f":"O7/$Q$4","v":0.25252525252525254},{"$f":"IF(P7=0,0,(P7*((LOG(P7))/LOG(2))))","v":-0.5013889975517386},null,null,{"$f":"N7","v":111},{"$f":"COUNTIF(L7:L23,T7)","v":1},{"$f":"U7/(W4-U8)","v":8.3333333333333329E-2},{"$f":"IF(V7=0,0,(V7*((LOG(V7))/LOG(2))))","v":-0.29874687506009634},null,{"$f":"N7","v":111},{"$f":"COUNTIF(L24:L39,Y7)","v":1},{"$f":"Z7/(AB4-Z8)","v":0.1111111111111111},{"$f":"IF(AA7=0,0,(AA7*((LOG(AA7))/LOG(2))))","v":-0.3522138890491458},null,{"$f":"N7","v":111},{"$f":"COUNTIF(L40:L56,AD7)","v":6},{"$f":"AE7/(AG4-AE8)","v":0.66666666666666663},{"$f":"IF(AF7=0,0,(AF7*((LOG(AF7))/LOG(2))))","v":-0.38997500048077083},null,{"$f":"N7","v":111},{"$f":"COUNTIF(L57:L72,AI7)","v":6},{"$f":"AJ7/(AL4-AJ8)","v":0.6},{"$f":"IF(AK7=0,0,(AK7*((LOG(AK7))/LOG(2))))","v":-0.44217935649972373},null,{"$f":"N7","v":111},{"$f":"COUNTIF(L73:L89,AN7)","v":8},{"$f":"AO7/(AQ4-AO8)","v":0.72727272727272729},{"$f":"IF(AP7=0,0,(AP7*((LOG(AP7))/LOG(2))))","v":-0.33413208628167068},null,{"$f":"N7","v":111},{"$f":"COUNTIF(L90:L105,AS7)","v":3},{"$f":"AT7/(AV4-AT8)","v":0.375},{"$f":"IF(AU7=0,0,(AU7*((LOG(AU7))/LOG(2))))","v":-0.53063906222956647}]
[22,234,24,238,14,253,null,null,null,null,0,221,null,112,{"$f":"COUNTIF($L$7:$L$500,N8)","v":40},{"$f":"O8/$Q$4","v":0.40404040404040403},{"$f":"IF(P8=0,0,(P8*((LOG(P8))/LOG(2))))","v":-0.52825394957262517},null,null,{"$f":"N8","v":112},{"$f":"COUNTIF(L7:L23,T8)","v":5},null,null,null,{"$f":"N8","v":112},{"$f":"COUNTIF(L24:L39,Y8)","v":7},null,null,null,{"$f":"N8","v":112},{"$f":"COUNTIF(L40:L56,AD8)","v":8},null,null,null,{"$f":"N8","v":112},{"$f":"COUNTIF(L57:L72,AI8)","v":6},null,null,null,{"$f":"N8","v":112},{"$f":"COUNTIF(L73:L89,AN8)","v":6},null,null,null,{"$f":"N8","v":112},{"$f":"COUNTIF(L90:L105,AS8)","v":8}]
[22,380,13,393,14,398,null,null,null,null,0,211,null,121,{"$f":"COUNTIF($L$7:$L$500,N9)","v":8},{"$f":"O9/$Q$4","v":8.0808080808080815E-2},{"$f":"IF(P9=0,0,(P9*((LOG(P9))/LOG(2))))","v":-0.2932813430367362},null,null,{"$f":"N9","v":121},{"$f":"COUNTIF(L7:L23,T9)","v":1},{"$f":"U9/(W4-U8)","v":8.3333333333333329E-2},{"$f":"IF(V9=0,0,(V9*((LOG(V9))/LOG(2))))","v":-0.29874687506009634},null,{"$f":"N9","v":121},{"$f":"COUNTIF(L24:L39,Y9)","v":3},{"$f":"Z9/(AB4-Z8)","v":0.33333333333333331},{"$f":"IF(AA9=0,0,(AA9*((LOG(AA9))/LOG(2))))","v":-0.52832083357371862},null,{"$f":"N9","v":121},{"$f":"COUNTIF(L40:L56,AD9)","v":0},{"$f":"AE9/(AG4-AE8)","v":0},{"$f":"IF(AF9=0,0,(AF9*((LOG(AF9))/LOG(2))))","v":0},null,{"$f":"N9","v":121},{"$f":"COUNTIF(L57:L72,AI9)","v":0},{"$f":"AJ9/(AL4-AJ8)","v":0},{"$f":"IF(AK9=0,0,(AK9*((LOG(AK9))/LOG(2))))","v":0},null,{"$f":"N9","v":121},{"$f":"COUNTIF(L73:L89,AN9)","v":2},{"$f":"AO9/(AQ4-AO8)","v":0.18181818181818182},{"$f":"IF(AP9=0,0,(AP9*((LOG(AP9))/LOG(2))))","v":-0.44716938520678134},null,{"$f":"N9","v":121},{"$f":"COUNTIF(L90:L105,AS9)","v":2},{"$f":"AT9/(AV4-AT8)","v":0.25},{"$f":"IF(AU9=0,0,(AU9*((LOG(AU9))/LOG(2))))","v":-0.5}]
[22,504,13,611,14,614,null,null,null,null,0,211,null,122,{"$f":"COUNTIF($L$7:$L$500,N10)","v":22},{"$f":"O10/$Q$4","v":0.22222222222222221},{"$f":"IF(P10=0,0,(P10*((LOG(P10))/LOG(2))))","v":-0.48220555587606945},null,null,{"$f":"N10","v":122},{"$f":"COUNTIF(L7:L23,T10)","v":6},{"$f":"U10/(W4-U8)","v":0.5},{"$f":"IF(V10=0,0,(V10*((LOG(V10))/LOG(2))))","v":-0.5},null,{"$f":"N10","v":122},{"$f":"COUNTIF(L24:L39,Y10)","v":5},{"$f":"Z10/(AB4-Z8)","v":0.55555555555555558},{"$f":"IF(AA10=0,0,(AA10*((LOG(AA10))/LOG(2))))","v":-0.4711093925305278},null,{"$f":"N10","v":122},{"$f":"COUNTIF(L40:L56,AD10)","v":3},{"$f":"AE10/(AG4-AE8)","v":0.33333333333333331},{"$f":"IF(AF10=0,0,(AF10*((LOG(AF10))/LOG(2))))","v":-0.52832083357371862},null,{"$f":"N10","v":122},{"$f":"COUNTIF(L57:L72,AI10)","v":4},{"$f":"AJ10/(AL4-AJ8)","v":0.4},{"$f":"IF(AK10=0,0,(AK10*((LOG(AK10))/LOG(2))))","v":-0.52877123795494496},null,{"$f":"N10","v":122},{"$f":"COUNTIF(L73:L89,AN10)","v":1},{"$f":"AO10/(AQ4-AO8)","v":9.0909090909090912E-2},{"$f":"IF(AP10=0,0,(AP10*((LOG(AP10))/LOG(2))))","v":-0.31449378351248153},null,{"$f":"N10","v":122},{"$f":"COUNTIF(L90:L105,AS10)","v":3},{"$f":"AT10/(AV4-AT8)","v":0.375},{"$f":"IF(AU10=0,0,(AU10*((LOG(AU10))/LOG(2))))","v":-0.53063906222956647}]
[22,710,13,723,23,733,null,null,null,null,0,212,null,211,{"$f":"COUNTIF($L$7:$L$500,N11)","v":2},{"$f":"O11/$Q$4","v":2.0202020202020204E-2},{"$f":"IF(P11=0,0,(P11*((LOG(P11))/LOG(2))))","v":-0.11372437616322445},null,null,{"$f":"N11","v":211},{"$f":"COUNTIF(L7:L23,T11)","v":2},{"$f":"U11/(W4-U8)","v":0.16666666666666666},{"$f":"IF(V11=0,0,(V11*((LOG(V11))/LOG(2))))","v":-0.43082708345352599},null,{"$f":"N11","v":211},{"$f":"COUNTIF(L24:L39,Y11)","v":0},{"$f":"Z11/(AB4-Z8)","v":0},{"$f":"IF(AA11=0,0,(AA11*((LOG(AA11))/LOG(2))))","v":0},null,{"$f":"N11","v":211},{"$f":"COUNTIF(L40:L56,AD11)","v":0},{"$f":"AE11/(AG4-AE8)","v":0},{"$f":"IF(AF11=0,0,(AF11*((LOG(AF11))/LOG(2))))","v":0},null,{"$f":"N11","v":211},{"$f":"COUNTIF(L57:L72,AI11)","v":0},{"$f":"AJ11/(AL4-AJ8)","v":0},{"$f":"IF(AK11=0,0,(AK11*((LOG(AK11))/LOG(2))))","v":0},null,{"$f":"N11","v":211},{"$f":"COUNTIF(L73:L89,AN11)","v":0},{"$f":"AO11/(AQ4-AO8)","v":0},{"$f":"IF(AP11=0,0,(AP11*((LOG(AP11))/LOG(2))))","v":0},null,{"$f":"N11","v":211},{"$f":"COUNTIF(L90:L105,AS11)","v":0},{"$f":"AT11/(AV4-AT8)","v":0},{"$f":"IF(AU11=0,0,(AU11*((LOG(AU11))/LOG(2))))","v":0}]
[11,834,22,851,23,856,null,null,null,null,0,122,null,212,{"$f":"COUNTIF($L$7:$L$500,N12)","v":1},{"$f":"O12/$Q$4","v":1.0101010101010102E-2},{"$f":"IF(P12=0,0,(P12*((LOG(P12))/LOG(2))))","v":-6.6963198182622322E-2},null,null,{"$f":"N12","v":212},{"$f":"COUNTIF(L7:L23,T12)","v":1},{"$f":"U12/(W4-U8)","v":8.3333333333333329E-2},{"$f":"IF(V12=0,0,(V12*((LOG(V12))/LOG(2))))","v":-0.29874687506009634},null,{"$f":"N12","v":212},{"$f":"COUNTIF(L24:L39,Y12)","v":0},{"$f":"Z12/(AB4-Z8)","v":0},{"$f":"IF(AA12=0,0,(AA12*((LOG(AA12))/LOG(2))))","v":0},null,{"$f":"N12","v":212},{"$f":"COUNTIF(L40:L56,AD12)","v":0},{"$f":"AE12/(AG4-AE8)","v":0},{"$f":"IF(AF12=0,0,(AF12*((LOG(AF12))/LOG(2))))","v":0},null,{"$f":"N12","v":212},{"$f":"COUNTIF(L57:L72,AI12)","v":0},{"$f":"AJ12/(AL4-AJ8)","v":0},{"$f":"IF(AK12=0,0,(AK12*((LOG(AK12))/LOG(2))))","v":0},null,{"$f":"N12","v":212},{"$f":"COUNTIF(L73:L89,AN12)","v":0},{"$f":"AO12/(AQ4-AO8)","v":0},{"$f":"IF(AP12=0,0,(AP12*((LOG(AP12))/LOG(2))))","v":0},null,{"$f":"N12","v":212},{"$f":"COUNTIF(L90:L105,AS12)","v":0},{"$f":"AT12/(AV4-AT8)","v":0},{"$f":"IF(AU12=0,0,(AU12*((LOG(AU12))/LOG(2))))","v":0}]
[11,951,22,967,23,980,null,null,null,null,0,122,null,221,{"$f":"COUNTIF($L$7:$L$500,N13)","v":1},{"$f":"O13/$Q$4","v":1.0101010101010102E-2},{"$f":"IF(P13=0,0,(P13*((LOG(P13))/LOG(2))))","v":-6.6963198182622322E-2},null,null,{"$f":"N13","v":221},{"$f":"COUNTIF(L7:L23,T13)","v":1},{"$f":"U13/(W4-U8)","v":8.3333333333333329E-2},{"$f":"IF(V13=0,0,(V13*((LOG(V13))/LOG(2))))","v":-0.29874687506009634},null,{"$f":"N13","v":221},{"$f":"COUNTIF(L24:L39,Y13)","v":0},{"$f":"Z13/(AB4-Z8)","v":0},{"$f":"IF(AA13=0,0,(AA13*((LOG(AA13))/LOG(2))))","v":0},null,{"$f":"N13","v":221},{"$f":"COUNTIF(L40:L56,AD13)","v":0},{"$f":"AE13/(AG4-AE8)","v":0},{"$f":"IF(AF13=0,0,(AF13*((LOG(AF13))/LOG(2))))","v":0},null,{"$f":"N13","v":221},{"$f":"COUNTIF(L57:L72,AI13)","v":0},{"$f":"AJ13/(AL4-AJ8)","v":0},{"$f":"IF(AK13=0,0,(AK13*((LOG(AK13))/LOG(2))))","v":0},null,{"$f":"N13","v":221},{"$f":"COUNTIF(L73:L89,AN13)","v":0},{"$f":"AO13/(AQ4-AO8)","v":0},{"$f":"IF(AP13=0,0,(AP13*((LOG(AP13))/LOG(2))))","v":0},null,{"$f":"N13","v":221},{"$f":"COUNTIF(L90:L105,AS13)","v":0},{"$f":"AT13/(AV4-AT8)","v":0},{"$f":"IF(AU13=0,0,(AU13*((LOG(AU13))/LOG(2))))","v":0}]
[11,1075,11,1077,12,1082,null,null,null,null,0,111,null,222,{"$f":"COUNTIF($L$7:$L$500,N14)","v":0},{"$f":"O14/$Q$4","v":0},{"$f":"IF(P14=0,0,(P14*((LOG(P14))/LOG(2))))","v":0},null,null,{"$f":"N14","v":222},{"$f":"COUNTIF(L7:L23,T14)","v":0},{"$f":"U14/(W4-U8)","v":0},{"$f":"IF(V14=0,0,(V14*((LOG(V14))/LOG(2))))","v":0},null,{"$f":"N14","v":222},{"$f":"COUNTIF(L24:L39,Y14)","v":0},{"$f":"Z14/(AB4-Z8)","v":0},{"$f":"IF(AA14=0,0,(AA14*((LOG(AA14))/LOG(2))))","v":0},null,{"$f":"N14","v":222},{"$f":"COUNTIF(L40:L56,AD14)","v":0},{"$f":"AE14/(AG4-AE8)","v":0},{"$f":"IF(AF14=0,0,(AF14*((LOG(AF14))/LOG(2))))","v":0},null,{"$f":"N14","v":222},{"$f":"COUNTIF(L57:L72,AI14)","v":0},{"$f":"AJ14/(AL4-AJ8)","v":0},{"$f":"IF(AK14=0,0,(AK14*((LOG(AK14))/LOG(2))))","v":0},null,{"$f":"N14","v":222},{"$f":"COUNTIF(L73:L89,AN14)","v":0},{"$f":"AO14/(AQ4-AO8)","v":0},{"$f":"IF(AP14=0,0,(AP14*((LOG(AP14))/LOG(2))))","v":0},null,{"$f":"N14","v":222},{"$f":"COUNTIF(L90:L105,AS14)","v":0},{"$f":"AT14/(AV4-AT8)","v":0},{"$f":"IF(AU14=0,0,(AU14*((LOG(AU14))/LOG(2))))","v":0}]
[11,1186,22,1194,14,1212,null,null,null,null,0,121,null,null,null,{"$f":"SUM(P7:P14)","v":0.99999999999999989},{"$f":"-SUM(Q7:Q14)","v":2.0527806185656385},null,null,null,null,{"$f":"SUM(V7:V14)","v":1},{"$f":"-SUM(W7:W14)","v":2.1258145836939111},null,null,null,{"$f":"SUM(AA7:AA14)","v":1},{"$f":"-SUM(AB7:AB14)","v":1.3516441151533922},null,null,null,{"$f":"SUM(AF7:AF14)","v":1},{"$f":"-SUM(AG7:AG14)","v":0.91829583405448945},null,null,null,{"$f":"SUM(AK7:AK14)","v":1},{"$f":"-SUM(AL7:AL14)","v":0.97095059445466869},null,null,null,{"$f":"SUM(AP7:AP14)","v":1},{"$f":"-SUM(AQ7:AQ14)","v":1.0957952550009336},null,null,null,{"$f":"SUM(AU7:AU14)","v":1},{"$f":"-SUM(AV7:AV14)","v":1.5612781244591329}]
[11,1306,22,1318,23,1325,null,null,null,null,0,122,null,null,null,"U=",{"$f":"Q15/(LOG(Q4)/LOG(2))","v":0.30965005146170388},null,null,null,null,"U1=",{"$f":"W15/(LOG(W4)/LOG(2))","v":0.52008169034354634},null,null,null,"U2=",{"$f":"AB15/(LOG(AB4)/LOG(2))","v":0.33791102878834806},null,null,null,"U3=",{"$f":"AG15/(LOG(AG4)/LOG(2))","v":0.2246615736263394},null,null,null,"U4=",{"$f":"AL15/(LOG(AL4)/LOG(2))","v":0.24273764861366717},null,null,null,"U5=",{"$f":"AQ15/(LOG(AQ4)/LOG(2))","v":0.26808690318655815},null,null,null,"U6=",{"$f":"AV15/(LOG(AV4)/LOG(2))","v":0.39031953111478324}]
[11,1420,11,1422,21,1437,null,null,null,null,0,112]
[11,1557,22,1568,23,1573,null,null,null,null,0,122]
[11,1667,22,1698,23,1760,null,null,null,null,0,122,null,"Total Target Seq"]
[11,1858,11,1865,21,1874,null,null,null,null,0,112,null,{"$f":"COUNTIF(L7:L105,G3)","v":40},null,17,16,17,16,17,16]
[11,1975,11,1980,21,1989,null,null,null,null,0,112,null,null,null,"% of reinforcement given in 6 equal intervals based on number of trials "]
[11,2148,11,2152,21,2163,null,null,null,null,0,112,null,null,null,"%_1","%_2","%_3","%_4","%_5","%_6"]
[11,2256,11,2260,21,2287,null,null,null,null,0,112,null,null,"target sequence",{"$f":"$G$3","v":112},{"$f":"$G$3","v":112},{"$f":"$G$3","v":112},{"$f":"$G$3","v":112},{"$f":"$G$3","v":112},{"$f":"$G$3","v":112}]
[11,2397,22,2411,23,2419,null,null,null,null,0,122,null,null,"total reinforcement",{"$f":"U8","v":5},{"$f":"Z8","v":7},{"$f":"AE8","v":8},{"$f":"AJ8","v":6},{"$f":"AO8","v":6},{"$f":"AT8","v":8}]
[11,2516,22,2532,14,2601,null,null,null,null,0,121,null,null,"% target"]
[11,2694,11,2702,21,2716,null,null,null,null,0,112,null,null,"CCRF"]
[11,2810,11,2816,21,2844,null,null,null,null,0,112,null,null,"% CCRf"]
[11,2939,11,2944,21,2959,null,null,null,null,0,112,null,null,"average response rate",{"$f":"F23/P20","v":134.52941176470588},{"$f":"(F39-F23)/Q20","v":139.5625},{"$f":"(F56-F39)/R20","v":121.17647058823529},{"$f":"(F72-F56)/S20","v":121.5625},{"$f":"(F89-F72)/T20","v":116.05882352941177},{"$f":"(F105-F89)/U20","v":125.4375}]
[11,3050,22,3068,23,3081,null,null,null,null,0,122]
[11,3177,22,3218,23,3233,null,null,null,null,0,122]
[11,3332,22,3346,23,3353,null,null,null,null,0,122]
[11,3448,22,3466,14,3596,null,null,null,null,0,121]
[11,3692,22,3770,23,3783,null,null,null,null,0,122]
[11,3880,11,3887,21,3902,null,null,null,null,0,112]
[11,3994,11,3997,21,4017,null,null,null,null,0,112]
[11,4108,22,4128,14,4161,null,null,null,null,0,121]
[11,4253,11,4271,12,4278,null,null,null,null,0,111]
[11,4384,11,4391,21,4407,null,null,null,null,0,112]
[11,4499,11,4503,21,4520,null,null,null,null,0,112]
[11,4616,11,4620,21,4638,null,null,null,null,0,112]
[11,4734,11,4739,21,4757,null,null,null,null,0,112]
[11,4853,11,4859,12,4865,null,null,null,null,0,111]
[11,4964,11,4969,21,4987,null,null,null,null,0,112]
[11,5076,11,5079,21,5102,null,null,null,null,0,112]
[11,5194,11,5201,12,5203,null,null,null,null,0,111]
[11,5297,11,5301,12,5307,null,null,null,null,0,111]
[11,5441,11,5444,21,5458,null,null,null,null,0,112]
[11,5552,22,5571,23,5616,null,null,null,null,0,122]
[11,5709,11,5712,12,5718,null,null,null,null,0,111]
[11,5813,11,5820,21,5836,null,null,null,null,0,112]
[11,5927,11,5930,21,5944,null,null,null,null,0,112]
[11,6036,11,6041,12,6046,null,null,null,null,0,111]
[11,6143,22,6155,23,6187,null,null,null,null,0,122]
[11,6282,11,6289,21,6300,null,null,null,null,0,112]
[11,6390,22,6419,23,6457,null,null,null,null,0,122]
[11,6569,11,6575,12,6580,null,null,null,null,0,111]
[11,6677,11,6682,21,6703,null,null,null,null,0,112]
[11,6792,11,6797,21,6825,null,null,null,null,0,112]
[11,6935,11,6938,12,6943,null,null,null,null,0,111]
[11,7041,11,7047,12,7054,null,null,null,null,0,111]
[11,7154,11,7159,21,7169,null,null,null,null,0,112]
[11,7260,22,7285,23,7303,null,null,null,null,0,122]
[11,7398,11,7401,12,7406,null,null,null,null,0,111]
[11,7502,22,7523,23,7535,null,null,null,null,0,122]
[11,7639,11,7644,21,7656,null,null,null,null,0,112]
[11,7744,11,7746,12,7753,null,null,null,null,0,111]
[11,7848,11,7856,12,7863,null,null,null,null,0,111]
[11,7957,22,7971,23,7987,null,null,null,null,0,122]
[11,8096,11,8099,21,8116,null,null,null,null,0,112]
[11,8247,11,8254,21,8267,null,null,null,null,0,112]
[11,8359,22,8378,23,8419,null,null,null,null,0,122]
[11,8514,11,8518,12,8525,null,null,null,null,0,111]
[11,8617,11,8619,12,8624,null,null,null,null,0,111]
[11,8719,11,8725,12,8732,null,null,null,null,0,111]
[11,8829,11,8832,21,8845,null,null,null,null,0,112]
[11,8937,11,8942,12,8948,null,null,null,null,0,111]
[11,9046,11,9052,12,9058,null,null,null,null,0,111]
[11,9158,11,9164,21,9174,null,null,null,null,0,112]
[11,9268,22,9285,14,9319,null,null,null,null,0,121]
[11,9412,11,9417,21,9437,null,null,null,null,0,112]
[11,9526,11,9530,12,9535,null,null,null,null,0,111]
[11,9631,11,9645,21,9656,null,null,null,null,0,112]
[11,9750,11,9755,21,9779,null,null,null,null,0,112]
[11,9872,22,9882,23,9896,null,null,null,null,0,122]
[11,10014,11,10018,12,10024,null,null,null,null,0,111]
[11,10120,11,10126,21,10141,null,null,null,null,0,112]
[11,10235,11,10243,12,10250,null,null,null,null,0,111]
[11,10347,22,10356,14,10373,null,null,null,null,0,121]
[11,10490,11,10495,12,10498,null,null,null,null,0,111]
[11,10595,22,10608,23,10614,null,null,null,null,0,122]
[11,10707,11,10711,21,10721,null,null,null,null,0,112]
[11,10808,11,10810,12,10816,null,null,null,null,0,111]
[11,10912,22,10929,23,10977,null,null,null,null,0,122]
[11,11071,11,11076,21,11087,null,null,null,null,0,112]
[11,11178,11,11184,21,11214,null,null,null,null,0,112]
[11,11306,22,11322,14,11394,null,null,null,null,0,121]
[11,11488,11,11497,21,11509,null,null,null,null,0,112]
[11,11600,11,11604,12,11611,null,null,null,null,0,111]
[11,11705,11,11709,21,11732,null,null,null,null,0,112]
[11,11819,11,11824,12,11830,null,null,null,null,0,111]
[11,11925,22,11941,23,11982,null,null,null,null,0,122]
[11,12081,11,12085,21,12102,null,null,null,null,0,112]
[11,12199,22,12214,14,12286,null,null,null,null,0,121]
[11,12384,11,12388,21,12399,null,null,null,null,0,112]
[11,12488,11,12490,21,12505,null,null,null,null,1,112]

{"sheet":"!MC02A1I.sha","index":26,"n_rows":84,"n_cols":48,"rows_kept":84,"cut":false,"hidden":false,"merged":[[4,39,4,42],[5,39,5,40],[4,44,4,47],[5,44,5,45],[4,24,4,27],[5,24,5,25],[4,29,4,32],[5,29,5,30],[4,34,4,37],[5,34,5,35],[1,1,1,2],[5,13,5,14],[18,13,18,14],[19,13,19,14],[4,19,4,22],[5,19,5,20]]}
["Report for:!MC02A1I.sha"]
["Date:","<date>"]
["Hen:","<hen>",null,null,null,"Correct Sequence",{"$f":"Start!J2","v":112},null,null,null,null,null,null,null,null,"Total Sequences in Data",{"$f":"4994-COUNTBLANK(L7:L5000)","v":78},null,null,null,null,"Total Sequences in Block Data",{"$f":"COUNTA(L7:L19)","v":13},null,null,null,"Total Sequences in Block Data",{"$f":"COUNTA(L20:L32)","v":13},null,null,null,"Total Sequences in Block Data",{"$f":"COUNTA(L33:L45)","v":13},null,null,null,"Total Sequences in Block Data",{"$f":"COUNTA(L46:L58)","v":13},null,null,null,"Total Sequences in Block Data",{"$f":"COUNTA(L59:L71)","v":13},null,null,null,"Total Sequences in Block Data",{"$f":"COUNTA(L72:L84)","v":13}]
[null,null,null,null,null,null,null,null,null,null,null,null,null,null,null,"Total Sequences in Summary",{"$f":"SUM(O7:O14)","v":78},null,null,null,null,"Total Sequences in Block Summary",{"$f":"SUM(U7:U14)","v":13},null,null,null,"Total Sequences in Block Summary",{"$f":"SUM(Z7:Z14)","v":13},null,null,null,"Total Sequences in Block Summary",{"$f":"SUM(AE7:AE14)","v":13},null,null,null,"Total Sequences in Block Summary",{"$f":"SUM(AJ7:AJ14)","v":13},null,null,null,"Total Sequences in Block Summary",{"$f":"SUM(AO7:AO14)","v":13},null,null,null,"Total Sequences in Block Summary",{"$f":"SUM(AT7:AT14)","v":13}]
[null,null,null,null,null,null,null,null,null,null,null,null,null,null,null,null,null,null,null,"Block 1",null,null,null,null,"Block 2",null,null,null,null,"Block 3",null,null,null,null,"Block 4",null,null,null,null,"Block 5",null,null,null,null,"Block 6"]
["Sequence\nComponent\n1","Time\n1","Sequence\nComponent\n2","Time\n2","Sequence\nComponent\n3","Time\n3","Sequence\nComponent\n4","Time\n4","Sequence\nComponent\n5","Time\n5","Correct?\n0=No 1=Yes","Sequence",null,"Frequency",null,"Relative Frequency","Variability",null,null,"Frequency",null,"Relative Frequency","Variability",null,"Frequency",null,"Relative Frequency","Variability",null,"Frequency",null,"Relative Frequency","Variability",null,"Frequency",null,"Relative Frequency","Variability",null,"Frequency",null,"Relative Frequency","Variability",null,"Frequency",null,"Relative Frequency","Variability"]
[22,16,13,26,14,32,null,null,null,null,0,211,null,111,{"$f":"COUNTIF($L$7:$L$500,N7)","v":14},{"$f":"O7/$Q$4","v":0.17948717948717949},{"$f":"IF(P7=0,0,(P7*((LOG(P7))/LOG(2))))","v":-0.4447777199392951},null,null,{"$f":"N7","v":111},{"$f":"COUNTIF(L7:L19,T7)","v":3},{"$f":"U7/(W4-U8)","v":0.375},{"$f":"IF(V7=0,0,(V7*((LOG(V7))/LOG(2))))","v":-0.53063906222956647},null,{"$f":"N7","v":111},{"$f":"COUNTIF(L20:L32,Y7)","v":2},{"$f":"Z7/(AB4-Z8)","v":0.33333333333333331},{"$f":"IF(AA7=0,0,(AA7*((LOG(AA7))/LOG(2))))","v":-0.52832083357371862},null,{"$f":"N7","v":111},{"$f":"COUNTIF(L33:L45,AD7)","v":1},{"$f":"AE7/(AG4-AE8)","v":0.2},{"$f":"IF(AF7=0,0,(AF7*((LOG(AF7))/LOG(2))))","v":-0.46438561897747244},null,{"$f":"N7","v":111},{"$f":"COUNTIF(L46:L58,AI7)","v":1},{"$f":"AJ7/(AL4-AJ8)","v":0.25},{"$f":"IF(AK7=0,0,(AK7*((LOG(AK7))/LOG(2))))","v":-0.5},null,{"$f":"N7","v":111},{"$f":"COUNTIF(L59:L71,AN7)","v":5},{"$f":"AO7/(AQ4-AO8)","v":0.5},{"$f":"IF(AP7=0,0,(AP7*((LOG(AP7))/LOG(2))))","v":-0.5},null,{"$f":"N7","v":111},{"$f":"COUNTIF(L72:L84,AS7)","v":2},{"$f":"AT7/(AV4-AT8)","v":0.4},{"$f":"IF(AU7=0,0,(AU7*((LOG(AU7))/LOG(2))))","v":-0.52877123795494496}]
[11,124,11,128,21,144,null,null,null,null,0,112,null,112,{"$f":"COUNTIF($L$7:$L$500,N8)","v":40},{"$f":"O8/$Q$4","v":0.51282051282051277},{"$f":"IF(P8=0,0,(P8*((LOG(P8))/LOG(2))))","v":-0.49408929434609544},null,null,{"$f":"N8","v":112},{"$f":"COUNTIF(L7:L19,T8)","v":5},null,null,null,{"$f":"N8","v":112},{"$f":"COUNTIF(L20:L32,Y8)","v":7},null,null,null,{"$f":"N8","v":112},{"$f":"COUNTIF(L33:L45,AD8)","v":8},null,null,null,{"$f":"N8","v":112},{"$f":"COUNTIF(L46:L58,AI8)","v":9},null,null,null,{"$f":"N8","v":112},{"$f":"COUNTIF(L59:L71,AN8)","v":3},null,null,null,{"$f":"N8","v":112},{"$f":"COUNTIF(L72:L84,AS8)","v":8}]
[11,237,11,246,21,258,null,null,null,null,0,112,null,121,{"$f":"COUNTIF($L$7:$L$500,N9)","v":12},{"$f":"O9/$Q$4","v":0.15384615384615385},{"$f":"IF(P9=0,0,(P9*((LOG(P9))/LOG(2))))","v":-0.4154522643293988},null,null,{"$f":"N9","v":121},{"$f":"COUNTIF(L7:L19,T9)","v":2},{"$f":"U9/(W4-U8)","v":0.25},{"$f":"IF(V9=0,0,(V9*((LOG(V9))/LOG(2))))","v":-0.5},null,{"$f":"N9","v":121},{"$f":"COUNTIF(L20:L32,Y9)","v":2},{"$f":"Z9/(AB4-Z8)","v":0.33333333333333331},{"$f":"IF(AA9=0,0,(AA9*((LOG(AA9))/LOG(2))))","v":-0.52832083357371862},null,{"$f":"N9","v":121},{"$f":"COUNTIF(L33:L45,AD9)","v":2},{"$f":"AE9/(AG4-AE8)","v":0.4},{"$f":"IF(AF9=0,0,(AF9*((LOG(AF9))/LOG(2))))","v":-0.52877123795494496},null,{"$f":"N9","v":121},{"$f":"COUNTIF(L46:L58,AI9)","v":2},{"$f":"AJ9/(AL4-AJ8)","v":0.5},{"$f":"IF(AK9=0,0,(AK9*((LOG(AK9))/LOG(2))))","v":-0.5},null,{"$f":"N9","v":121},{"$f":"COUNTIF(L59:L71,AN9)","v":2},{"$f":"AO9/(AQ4-AO8)","v":0.2},{"$f":"IF(AP9=0,0,(AP9*((LOG(AP9))/LOG(2))))","v":-0.46438561897747244},null,{"$f":"N9","v":121},{"$f":"COUNTIF(L72:L84,AS9)","v":2},{"$f":"AT9/(AV4-AT8)","v":0.4},{"$f":"IF(AU9=0,0,(AU9*((LOG(AU9))/LOG(2))))","v":-0.52877123795494496}]
[11,394,11,400,21,409,null,null,null,null,0,112,null,122,{"$f":"COUNTIF($L$7:$L$500,N10)","v":9},{"$f":"O10/$Q$4","v":0.11538461538461539},{"$f":"IF(P10=0,0,(P10*((LOG(P10))/LOG(2))))","v":-0.35947814047153104},null,null,{"$f":"N10","v":122},{"$f":"COUNTIF(L7:L19,T10)","v":2},{"$f":"U10/(W4-U8)","v":0.25},{"$f":"IF(V10=0,0,(V10*((LOG(V10))/LOG(2))))","v":-0.5},null,{"$f":"N10","v":122},{"$f":"COUNTIF(L20:L32,Y10)","v":1},{"$f":"Z10/(AB4-Z8)","v":0.16666666666666666},{"$f":"IF(AA10=0,0,(AA10*((LOG(AA10))/LOG(2))))","v":-0.43082708345352599},null,{"$f":"N10","v":122},{"$f":"COUNTIF(L33:L45,AD10)","v":1},{"$f":"AE10/(AG4-AE8)","v":0.2},{"$f":"IF(AF10=0,0,(AF10*((LOG(AF10))/LOG(2))))","v":-0.46438561897747244},null,{"$f":"N10","v":122},{"$f":"COUNTIF(L46:L58,AI10)","v":1},{"$f":"AJ10/(AL4-AJ8)","v":0.25},{"$f":"IF(AK10=0,0,(AK10*((LOG(AK10))/LOG(2))))","v":-0.5},null,{"$f":"N10","v":122},{"$f":"COUNTIF(L59:L71,AN10)","v":3},{"$f":"AO10/(AQ4-AO8)","v":0.3},{"$f":"IF(AP10=0,0,(AP10*((LOG(AP10))/LOG(2))))","v":-0.52108967824986185},null,{"$f":"N10","v":122},{"$f":"COUNTIF(L72:L84,AS10)","v":1},{"$f":"AT10/(AV4-AT8)","v":0.2},{"$f":"IF(AU10=0,0,(AU10*((LOG(AU10))/LOG(2))))","v":-0.46438561897747244}]
[11,501,11,506,21,515,null,null,null,null,0,112,null,211,{"$f":"COUNTIF($L$7:$L$500,N11)","v":1},{"$f":"O11/$Q$4","v":1.282051282051282E-2},{"$f":"IF(P11=0,0,(P11*((LOG(P11))/LOG(2))))","v":-8.0582079729003178E-2},null,null,{"$f":"N11","v":211},{"$f":"COUNTIF(L7:L19,T11)","v":1},{"$f":"U11/(W4-U8)","v":0.125},{"$f":"IF(V11=0,0,(V11*((LOG(V11))/LOG(2))))","v":-0.375},null,{"$f":"N11","v":211},{"$f":"COUNTIF(L20:L32,Y11)","v":0},{"$f":"Z11/(AB4-Z8)","v":0},{"$f":"IF(AA11=0,0,(AA11*((LOG(AA11))/LOG(2))))","v":0},null,{"$f":"N11","v":211},{"$f":"COUNTIF(L33:L45,AD11)","v":0},{"$f":"AE11/(AG4-AE8)","v":0},{"$f":"IF(AF11=0,0,(AF11*((LOG(AF11))/LOG(2))))","v":0},null,{"$f":"N11","v":211},{"$f":"COUNTIF(L46:L58,AI11)","v":0},{"$f":"AJ11/(AL4-AJ8)","v":0},{"$f":"IF(AK11=0,0,(AK11*((LOG(AK11))/LOG(2))))","v":0},null,{"$f":"N11","v":211},{"$f":"COUNTIF(L59:L71,AN11)","v":0},{"$f":"AO11/(AQ4-AO8)","v":0},{"$f":"IF(AP11=0,0,(AP11*((LOG(AP11))/LOG(2))))","v":0},null,{"$f":"N11","v":211},{"$f":"COUNTIF(L72:L84,AS11)","v":0},{"$f":"AT11/(AV4-AT8)","v":0},{"$f":"IF(AU11=0,0,(AU11*((LOG(AU11))/LOG(2))))","v":0}]
[11,608,11,618,12,625,null,null,null,null,0,111,null,212,{"$f":"COUNTIF($L$7:$L$500,N12)","v":1},{"$f":"O12/$Q$4","v":1.282051282051282E-2},{"$f":"IF(P12=0,0,(P12*((LOG(P12))/LOG(2))))","v":-8.0582079729003178E-2},null,null,{"$f":"N12","v":212},{"$f":"COUNTIF(L7:L19,T12)","v":0},{"$f":"U12/(W4-U8)","v":0},{"$f":"IF(V12=0,0,(V12*((LOG(V12))/LOG(2))))","v":0},null,{"$f":"N12","v":212},{"$f":"COUNTIF(L20:L32,Y12)","v":0},{"$f":"Z12/(AB4-Z8)","v":0},{"$f":"IF(AA12=0,0,(AA12*((LOG(AA12))/LOG(2))))","v":0},null,{"$f":"N12","v":212},{"$f":"COUNTIF(L33:L45,AD12)","v":1},{"$f":"AE12/(AG4-AE8)","v":0.2},{"$f":"IF(AF12=0,0,(AF12*((LOG(AF12))/LOG(2))))","v":-0.46438561897747244},null,{"$f":"N12","v":212},{"$f":"COUNTIF(L46:L58,AI12)","v":0},{"$f":"AJ12/(AL4-AJ8)","v":0},{"$f":"IF(AK12=0,0,(AK12*((LOG(AK12))/LOG(2))))","v":0},null,{"$f":"N12","v":212},{"$f":"COUNTIF(L59:L71,AN12)","v":0},{"$f":"AO12/(AQ4-AO8)","v":0},{"$f":"IF(AP12=0,0,(AP12*((LOG(AP12))/LOG(2))))","v":0},null,{"$f":"N12","v":212},{"$f":"COUNTIF(L72:L84,AS12)","v":0},{"$f":"AT12/(AV4-AT8)","v":0},{"$f":"IF(AU12=0,0,(AU12*((LOG(AU12))/LOG(2))))","v":0}]
[11,720,22,741,23,753,null,null,null,null,0,122,null,221,{"$f":"COUNTIF($L$7:$L$500,N13)","v":0},{"$f":"O13/$Q$4","v":0},{"$f":"IF(P13=0,0,(P13*((LOG(P13))/LOG(2))))","v":0},null,null,{"$f":"N13","v":221},{"$f":"COUNTIF(L7:L19,T13)","v":0},{"$f":"U13/(W4-U8)","v":0},{"$f":"IF(V13=0,0,(V13*((LOG(V13))/LOG(2))))","v":0},null,{"$f":"N13","v":221},{"$f":"COUNTIF(L20:L32,Y13)","v":0},{"$f":"Z13/(AB4-Z8)","v":0},{"$f":"IF(AA13=0,0,(AA13*((LOG(AA13))/LOG(2))))","v":0},null,{"$f":"N13","v":221},{"$f":"COUNTIF(L33:L45,AD13)","v":0},{"$f":"AE13/(AG4-AE8)","v":0},{"$f":"IF(AF13=0,0,(AF13*((LOG(AF13))/LOG(2))))","v":0},null,{"$f":"N13","v":221},{"$f":"COUNTIF(L46:L58,AI13)","v":0},{"$f":"AJ13/(AL4-AJ8)","v":0},{"$f":"IF(AK13=0,0,(AK13*((LOG(AK13))/LOG(2))))","v":0},null,{"$f":"N13","v":221},{"$f":"COUNTIF(L59:L71,AN13)","v":0},{"$f":"AO13/(AQ4-AO8)","v":0},{"$f":"IF(AP13=0,0,(AP13*((LOG(AP13))/LOG(2))))","v":0},null,{"$f":"N13","v":221},{"$f":"COUNTIF(L72:L84,AS13)","v":0},{"$f":"AT13/(AV4-AT8)","v":0},{"$f":"IF(AU13=0,0,(AU13*((LOG(AU13))/LOG(2))))","v":0}]
[11,879,22,889,23,893,null,null,null,null,0,122,null,222,{"$f":"COUNTIF($L$7:$L$500,N14)","v":1},{"$f":"O14/$Q$4","v":1.282051282051282E-2},{"$f":"IF(P14=0,0,(P14*((LOG(P14))/LOG(2))))","v":-8.0582079729003178E-2},null,null,{"$f":"N14","v":222},{"$f":"COUNTIF(L7:L19,T14)","v":0},{"$f":"U14/(W4-U8)","v":0},{"$f":"IF(V14=0,0,(V14*((LOG(V14))/LOG(2))))","v":0},null,{"$f":"N14","v":222},{"$f":"COUNTIF(L20:L32,Y14)","v":1},{"$f":"Z14/(AB4-Z8)","v":0.16666666666666666},{"$f":"IF(AA14=0,0,(AA14*((LOG(AA14))/LOG(2))))","v":-0.43082708345352599},null,{"$f":"N14","v":222},{"$f":"COUNTIF(L33:L45,AD14)","v":0},{"$f":"AE14/(AG4-AE8)","v":0},{"$f":"IF(AF14=0,0,(AF14*((LOG(AF14))/LOG(2))))","v":0},null,{"$f":"N14","v":222},{"$f":"COUNTIF(L46:L58,AI14)","v":0},{"$f":"AJ14/(AL4-AJ8)","v":0},{"$f":"IF(AK14=0,0,(AK14*((LOG(AK14))/LOG(2))))","v":0},null,{"$f":"N14","v":222},{"$f":"COUNTIF(L59:L71,AN14)","v":0},{"$f":"AO14/(AQ4-AO8)","v":0},{"$f":"IF(AP14=0,0,(AP14*((LOG(AP14))/LOG(2))))","v":0},null,{"$f":"N14","v":222},{"$f":"COUNTIF(L72:L84,AS14)","v":0},{"$f":"AT14/(AV4-AT8)","v":0},{"$f":"IF(AU14=0,0,(AU14*((LOG(AU14))/LOG(2))))","v":0}]
[11,987,11,992,12,997,null,null,null,null,0,111,null,null,null,{"$f":"SUM(P7:P14)","v":0.99999999999999989},{"$f":"-SUM(Q7:Q14)","v":1.9555436582733297},null,null,null,null,{"$f":"SUM(V7:V14)","v":1},{"$f":"-SUM(W7:W14)","v":1.9056390622295665},null,null,null,{"$f":"SUM(AA7:AA14)","v":0.99999999999999989},{"$f":"-SUM(AB7:AB14)","v":1.9182958340544891},null,null,null,{"$f":"SUM(AF7:AF14)","v":1},{"$f":"-SUM(AG7:AG14)","v":1.9219280948873623},null,null,null,{"$f":"SUM(AK7:AK14)","v":1},{"$f":"-SUM(AL7:AL14)","v":1.5},null,null,null,{"$f":"SUM(AP7:AP14)","v":1},{"$f":"-SUM(AQ7:AQ14)","v":1.4854752972273344},null,null,null,{"$f":"SUM(AU7:AU14)","v":1},{"$f":"-SUM(AV7:AV14)","v":1.5219280948873624}]
[11,1092,11,1097,21,1110,null,null,null,null,0,112,null,null,null,"U=",{"$f":"Q15/(LOG(Q4)/LOG(2))","v":0.31112466476764511},null,null,null,null,"U1=",{"$f":"W15/(LOG(W4)/LOG(2))","v":0.51497638318152639},null,null,null,"U2=",{"$f":"AB15/(LOG(AB4)/LOG(2))","v":0.51839672584050112},null,null,null,"U3=",{"$f":"AG15/(LOG(AG4)/LOG(2))","v":0.51937830130437546},null,null,null,"U4=",{"$f":"AL15/(LOG(AL4)/LOG(2))","v":0.40535723164097959},null,null,null,"U5=",{"$f":"AQ15/(LOG(AQ4)/LOG(2))","v":0.40143210277008906},null,null,null,"U6=",{"$f":"AV15/(LOG(AV4)/LOG(2))","v":0.41128303953344758}]
[11,1201,22,1217,14,1248,null,null,null,null,0,121]
[11,1341,11,1344,12,1347,null,null,null,null,0,111]
[11,1452,22,1465,14,1543,null,null,null,null,0,121,null,"Total Target Seq"]
[11,1639,22,1660,14,1752,null,null,null,null,0,121,null,{"$f":"COUNTIF(L7:L84,G3)","v":40},null,13,13,13,13,13,13]
[22,1860,24,1864,23,1871,null,null,null,null,0,222,null,null,null,"% of reinforcement given in 6 equal intervals based on number of trials "]
[11,1993,11,1998,21,2016,null,null,null,null,0,112,null,null,null,"%_1","%_2","%_3","%_4","%_5","%_6"]
[11,2113,11,2118,21,2127,null,null,null,null,0,112,null,null,"target sequence",{"$f":"$G$3","v":112},{"$f":"$G$3","v":112},{"$f":"$G$3","v":112},{"$f":"$G$3","v":112},{"$f":"$G$3","v":112},{"$f":"$G$3","v":112}]
[11,2220,11,2226,21,2235,null,null,null,null,0,112,null,null,"total reinforcement",{"$f":"U8","v":5},{"$f":"Z8","v":7},{"$f":"AE8","v":8},{"$f":"AJ8","v":9},{"$f":"AO8","v":3},{"$f":"AT8","v":8}]
[11,2326,11,2332,21,2342,null,null,null,null,0,112,null,null,"% target"]
[11,2436,22,2450,14,2506,null,null,null,null,0,121,null,null,"CCRF"]
[11,2600,11,2605,21,2618,null,null,null,null,0,112,null,null,"% CCRf"]
[11,2711,11,2713,12,2719,null,null,null,null,0,111,null,null,"average response rate",{"$f":"F19/P20","v":118.69230769230769},{"$f":"(F32-F19)/Q20","v":126.69230769230769},{"$f":"(F45-F32)/R20","v":150.92307692307693},{"$f":"(F58-F45)/S20","v":138.38461538461539},{"$f":"(F71-F58)/T20","v":140.69230769230768},{"$f":"(F84-F71)/U20","v":128.84615384615384}]
[11,2822,22,2833,23,2858,null,null,null,null,0,122]
[11,2956,11,2965,21,2977,null,null,null,null,0,112]
[11,3069,11,3076,21,3092,null,null,null,null,0,112]
[11,3182,11,3185,12,3190,null,null,null,null,0,111]
[11,3288,22,3309,14,3439,null,null,null,null,0,121]
[11,3533,11,3538,21,3550,null,null,null,null,0,112]
[11,3639,11,3643,12,3656,null,null,null,null,0,111]
[11,3752,11,3758,21,3768,null,null,null,null,0,112]
[11,3868,11,3874,21,3898,null,null,null,null,0,112]
[22,4003,13,4144,23,4155,null,null,null,null,0,212]
[11,4306,11,4315,21,4324,null,null,null,null,0,112]
[11,4453,11,4463,21,4474,null,null,null,null,0,112]
[11,4578,11,4584,21,4597,null,null,null,null,0,112]
[11,4690,11,4696,21,4715,null,null,null,null,0,112]
[11,4807,11,4814,21,4834,null,null,null,null,0,112]
[11,4928,22,4947,14,5036,null,null,null,null,0,121]
[11,5131,22,5144,23,5152,null,null,null,null,0,122]
[11,5350,11,5358,21,5372,null,null,null,null,0,112]
[11,5463,11,5467,21,5502,null,null,null,null,0,112]
[11,5595,11,5603,21,5612,null,null,null,null,0,112]
[11,5769,22,5790,14,5838,null,null,null,null,0,121]
[11,5933,11,5941,21,5954,null,null,null,null,0,112]
[11,6043,11,6047,21,6073,null,null,null,null,0,112]
[11,6178,11,6180,12,6194,null,null,null,null,0,111]
[11,6288,11,6290,21,6303,null,null,null,null,0,112]
[11,6395,11,6404,21,6415,null,null,null,null,0,112]
[11,6505,22,6527,14,6583,null,null,null,null,0,121]
[11,6678,22,6691,23,6699,null,null,null,null,0,122]
[11,6814,11,6821,21,6830,null,null,null,null,0,112]
[11,6920,11,6924,21,6951,null,null,null,null,0,112]
[11,7044,22,7069,23,7163,null,null,null,null,0,122]
[11,7258,11,7261,21,7278,null,null,null,null,0,112]
[11,7371,22,7396,14,7492,null,null,null,null,0,121]
[11,7660,11,7667,21,7674,null,null,null,null,0,112]
[11,7765,22,7777,23,7794,null,null,null,null,0,122]
[11,7888,11,7891,12,7895,null,null,null,null,0,111]
[11,8080,22,8092,23,8100,null,null,null,null,0,122]
[11,8194,22,8214,14,8223,null,null,null,null,0,121]
[11,8318,11,8320,12,8329,null,null,null,null,0,111]
[11,8423,11,8427,12,8446,null,null,null,null,0,111]
[11,8544,11,8547,12,8552,null,null,null,null,0,111]
[11,8644,11,8648,12,8652,null,null,null,null,0,111]
[11,8746,11,8755,21,8780,null,null,null,null,0,112]
[11,8871,11,8874,21,8903,null,null,null,null,0,112]
[11,8998,11,9001,21,9025,null,null,null,null,0,112]
[11,9116,11,9120,21,9136,null,null,null,null,0,112]
[11,9280,22,9306,14,9361,null,null,null,null,0,121]
[11,9508,11,9512,21,9526,null,null,null,null,0,112]
[11,9619,11,9621,12,9627,null,null,null,null,0,111]
[11,9723,22,9733,14,9746,null,null,null,null,0,121]
[11,9840,11,9846,21,9857,null,null,null,null,0,112]
[11,9948,22,9981,23,9990,null,null,null,null,0,122]
[11,10084,11,10091,12,10098,null,null,null,null,0,111]
[11,10194,11,10198,21,10207,null,null,null,null,0,112]
[11,10295,11,10300,21,10313,null,null,null,null,0,112]
[11,10424,11,10427,21,10455,null,null,null,null,1,112]

{"sheet":"!MC0395I.sha","index":27,"n_rows":100,"n_cols":48,"rows_kept":100,"cut":false,"hidden":false,"merged":[[4,39,4,42],[5,39,5,40],[4,44,4,47],[5,44,5,45],[4,24,4,27],[5,24,5,25],[4,29,4,32],[5,29,5,30],[4,34,4,37],[5,34,5,35],[1,1,1,2],[5,13,5,14],[18,13,18,14],[19,13,19,14],[4,19,4,22],[5,19,5,20]]}
["Report for:!MC0395I.sha"]
["Date:","<date>"]
["Hen:","<hen>",null,null,null,"Correct Sequence",{"$f":"Start!J2","v":112},null,null,null,null,null,null,null,null,"Total Sequences in Data",{"$f":"4994-COUNTBLANK(L7:L5000)","v":94},null,null,null,null,"Total Sequences in Block Data",{"$f":"COUNTA(L7:L22)","v":16},null,null,null,"Total Sequences in Block Data",{"$f":"COUNTA(L23:L37)","v":15},null,null,null,"Total Sequences in Block Data",{"$f":"COUNTA(L38:L53)","v":16},null,null,null,"Total Sequences in Block Data",{"$f":"COUNTA(L54:L69)","v":16},null,null,null,"Total Sequences in Block Data",{"$f":"COUNTA(L70:L84)","v":15},null,null,null,"Total Sequences in Block Data",{"$f":"COUNTA(L85:L100)","v":16}]
[null,null,null,null,null,null,null,null,null,null,null,null,null,null,null,"Total Sequences in Summary",{"$f":"SUM(O7:O14)","v":94},null,null,null,null,"Total Sequences in Block Summary",{"$f":"SUM(U7:U14)","v":16},null,null,null,"Total Sequences in Block Summary",{"$f":"SUM(Z7:Z14)","v":15},null,null,null,"Total Sequences in Block Summary",{"$f":"SUM(AE7:AE14)","v":16},null,null,null,"Total Sequences in Block Summary",{"$f":"SUM(AJ7:AJ14)","v":16},null,null,null,"Total Sequences in Block Summary",{"$f":"SUM(AO7:AO14)","v":15},null,null,null,"Total Sequences in Block Summary",{"$f":"SUM(AT7:AT14)","v":16}]
[null,null,null,null,null,null,null,null,null,null,null,null,null,null,null,null,null,null,null,"Block 1",null,null,null,null,"Block 2",null,null,null,null,"Block 3",null,null,null,null,"Block 4",null,null,null,null,"Block 5",null,null,null,null,"Block 6"]
["Sequence\nComponent\n1","Time\n1","Sequence\nComponent\n2","Time\n2","Sequence\nComponent\n3","Time\n3","Sequence\nComponent\n4","Time\n4","Sequence\nComponent\n5","Time\n5","Correct?\n0=No 1=Yes","Sequence",null,"Frequency",null,"Relative Frequency","Variability",null,null,"Frequency",null,"Relative Frequency","Variability",null,"Frequency",null,"Relative Frequency","Variability",null,"Frequency",null,"Relative Frequency","Variability",null,"Frequency",null,"Relative Frequency","Variability",null,"Frequency",null,"Relative Frequency","Variability",null,"Frequency",null,"Relative Frequency","Variability"]
[22,13,24,22,23,42,null,null,null,null,0,222,null,111,{"$f":"COUNTIF($L$7:$L$500,N7)","v":4},{"$f":"O7/$Q$4","v":4.2553191489361701E-2},{"$f":"IF(P7=0,0,(P7*((LOG(P7))/LOG(2))))","v":-0.19381229156075053},null,null,{"$f":"N7","v":111},{"$f":"COUNTIF(L7:L22,T7)","v":0},{"$f":"U7/(W4-U8)","v":0},{"$f":"IF(V7=0,0,(V7*((LOG(V7))/LOG(2))))","v":0},null,{"$f":"N7","v":111},{"$f":"COUNTIF(L23:L37,Y7)","v":2},{"$f":"Z7/(AB4-Z8)","v":0.2},{"$f":"IF(AA7=0,0,(AA7*((LOG(AA7))/LOG(2))))","v":-0.46438561897747244},null,{"$f":"N7","v":111},{"$f":"COUNTIF(L38:L53,AD7)","v":1},{"$f":"AE7/(AG4-AE8)","v":0.16666666666666666},{"$f":"IF(AF7=0,0,(AF7*((LOG(AF7))/LOG(2))))","v":-0.43082708345352599},null,{"$f":"N7","v":111},{"$f":"COUNTIF(L54:L69,AI7)","v":1},{"$f":"AJ7/(AL4-AJ8)","v":0.16666666666666666},{"$f":"IF(AK7=0,0,(AK7*((LOG(AK7))/LOG(2))))","v":-0.43082708345352599},null,{"$f":"N7","v":111},{"$f":"COUNTIF(L70:L84,AN7)","v":0},{"$f":"AO7/(AQ4-AO8)","v":0},{"$f":"IF(AP7=0,0,(AP7*((LOG(AP7))/LOG(2))))","v":0},null,{"$f":"N7","v":111},{"$f":"COUNTIF(L85:L100,AS7)","v":0},{"$f":"AT7/(AV4-AT8)","v":0},{"$f":"IF(AU7=0,0,(AU7*((LOG(AU7))/LOG(2))))","v":0}]
[22,153,24,157,14,177,null,null,null,null,0,221,null,112,{"$f":"COUNTIF($L$7:$L$500,N8)","v":40},{"$f":"O8/$Q$4","v":0.42553191489361702},{"$f":"IF(P8=0,0,(P8*((LOG(P8))/LOG(2))))","v":-0.52453649225118082},null,null,{"$f":"N8","v":112},{"$f":"COUNTIF(L7:L22,T8)","v":6},null,null,null,{"$f":"N8","v":112},{"$f":"COUNTIF(L23:L37,Y8)","v":5},null,null,null,{"$f":"N8","v":112},{"$f":"COUNTIF(L38:L53,AD8)","v":10},null,null,null,{"$f":"N8","v":112},{"$f":"COUNTIF(L54:L69,AI8)","v":10},null,null,null,{"$f":"N8","v":112},{"$f":"COUNTIF(L70:L84,AN8)","v":1},null,null,null,{"$f":"N8","v":112},{"$f":"COUNTIF(L85:L100,AS8)","v":8}]
[11,272,11,275,21,286,null,null,null,null,0,112,null,121,{"$f":"COUNTIF($L$7:$L$500,N9)","v":17},{"$f":"O9/$Q$4","v":0.18085106382978725},{"$f":"IF(P9=0,0,(P9*((LOG(P9))/LOG(2))))","v":-0.44618236358791558},null,null,{"$f":"N9","v":121},{"$f":"COUNTIF(L7:L22,T9)","v":2},{"$f":"U9/(W4-U8)","v":0.2},{"$f":"IF(V9=0,0,(V9*((LOG(V9))/LOG(2))))","v":-0.46438561897747244},null,{"$f":"N9","v":121},{"$f":"COUNTIF(L23:L37,Y9)","v":2},{"$f":"Z9/(AB4-Z8)","v":0.2},{"$f":"IF(AA9=0,0,(AA9*((LOG(AA9))/LOG(2))))","v":-0.46438561897747244},null,{"$f":"N9","v":121},{"$f":"COUNTIF(L38:L53,AD9)","v":1},{"$f":"AE9/(AG4-AE8)","v":0.16666666666666666},{"$f":"IF(AF9=0,0,(AF9*((LOG(AF9))/LOG(2))))","v":-0.43082708345352599},null,{"$f":"N9","v":121},{"$f":"COUNTIF(L54:L69,AI9)","v":4},{"$f":"AJ9/(AL4-AJ8)","v":0.66666666666666663},{"$f":"IF(AK9=0,0,(AK9*((LOG(AK9))/LOG(2))))","v":-0.38997500048077083},null,{"$f":"N9","v":121},{"$f":"COUNTIF(L70:L84,AN9)","v":7},{"$f":"AO9/(AQ4-AO8)","v":0.5},{"$f":"IF(AP9=0,0,(AP9*((LOG(AP9))/LOG(2))))","v":-0.5},null,{"$f":"N9","v":121},{"$f":"COUNTIF(L85:L100,AS9)","v":1},{"$f":"AT9/(AV4-AT8)","v":0.125},{"$f":"IF(AU9=0,0,(AU9*((LOG(AU9))/LOG(2))))","v":-0.375}]
[11,379,22,392,14,420,null,null,null,null,0,121,null,122,{"$f":"COUNTIF($L$7:$L$500,N10)","v":26},{"$f":"O10/$Q$4","v":0.27659574468085107},{"$f":"IF(P10=0,0,(P10*((LOG(P10))/LOG(2))))","v":-0.51284976033989549},null,null,{"$f":"N10","v":122},{"$f":"COUNTIF(L7:L22,T10)","v":4},{"$f":"U10/(W4-U8)","v":0.4},{"$f":"IF(V10=0,0,(V10*((LOG(V10))/LOG(2))))","v":-0.52877123795494496},null,{"$f":"N10","v":122},{"$f":"COUNTIF(L23:L37,Y10)","v":5},{"$f":"Z10/(AB4-Z8)","v":0.5},{"$f":"IF(AA10=0,0,(AA10*((LOG(AA10))/LOG(2))))","v":-0.5},null,{"$f":"N10","v":122},{"$f":"COUNTIF(L38:L53,AD10)","v":4},{"$f":"AE10/(AG4-AE8)","v":0.66666666666666663},{"$f":"IF(AF10=0,0,(AF10*((LOG(AF10))/LOG(2))))","v":-0.38997500048077083},null,{"$f":"N10","v":122},{"$f":"COUNTIF(L54:L69,AI10)","v":1},{"$f":"AJ10/(AL4-AJ8)","v":0.16666666666666666},{"$f":"IF(AK10=0,0,(AK10*((LOG(AK10))/LOG(2))))","v":-0.43082708345352599},null,{"$f":"N10","v":122},{"$f":"COUNTIF(L70:L84,AN10)","v":5},{"$f":"AO10/(AQ4-AO8)","v":0.35714285714285715},{"$f":"IF(AP10=0,0,(AP10*((LOG(AP10))/LOG(2))))","v":-0.53050958113222924},null,{"$f":"N10","v":122},{"$f":"COUNTIF(L85:L100,AS10)","v":7},{"$f":"AT10/(AV4-AT8)","v":0.875},{"$f":"IF(AU10=0,0,(AU10*((LOG(AU10))/LOG(2))))","v":-0.1685644431995964}]
[11,513,11,518,21,530,null,null,null,null,0,112,null,211,{"$f":"COUNTIF($L$7:$L$500,N11)","v":1},{"$f":"O11/$Q$4","v":1.0638297872340425E-2},{"$f":"IF(P11=0,0,(P11*((LOG(P11))/LOG(2))))","v":-6.9729668634868486E-2},null,null,{"$f":"N11","v":211},{"$f":"COUNTIF(L7:L22,T11)","v":1},{"$f":"U11/(W4-U8)","v":0.1},{"$f":"IF(V11=0,0,(V11*((LOG(V11))/LOG(2))))","v":-0.33219280948873625},null,{"$f":"N11","v":211},{"$f":"COUNTIF(L23:L37,Y11)","v":0},{"$f":"Z11/(AB4-Z8)","v":0},{"$f":"IF(AA11=0,0,(AA11*((LOG(AA11))/LOG(2))))","v":0},null,{"$f":"N11","v":211},{"$f":"COUNTIF(L38:L53,AD11)","v":0},{"$f":"AE11/(AG4-AE8)","v":0},{"$f":"IF(AF11=0,0,(AF11*((LOG(AF11))/LOG(2))))","v":0},null,{"$f":"N11","v":211},{"$f":"COUNTIF(L54:L69,AI11)","v":0},{"$f":"AJ11/(AL4-AJ8)","v":0},{"$f":"IF(AK11=0,0,(AK11*((LOG(AK11))/LOG(2))))","v":0},null,{"$f":"N11","v":211},{"$f":"COUNTIF(L70:L84,AN11)","v":0},{"$f":"AO11/(AQ4-AO8)","v":0},{"$f":"IF(AP11=0,0,(AP11*((LOG(AP11))/LOG(2))))","v":0},null,{"$f":"N11","v":211},{"$f":"COUNTIF(L85:L100,AS11)","v":0},{"$f":"AT11/(AV4-AT8)","v":0},{"$f":"IF(AU11=0,0,(AU11*((LOG(AU11))/LOG(2))))","v":0}]
[22,618,13,620,23,630,null,null,null,null,0,212,null,212,{"$f":"COUNTIF($L$7:$L$500,N12)","v":2},{"$f":"O12/$Q$4","v":2.1276595744680851E-2},{"$f":"IF(P12=0,0,(P12*((LOG(P12))/LOG(2))))","v":-0.11818274152505612},null,null,{"$f":"N12","v":212},{"$f":"COUNTIF(L7:L22,T12)","v":1},{"$f":"U12/(W4-U8)","v":0.1},{"$f":"IF(V12=0,0,(V12*((LOG(V12))/LOG(2))))","v":-0.33219280948873625},null,{"$f":"N12","v":212},{"$f":"COUNTIF(L23:L37,Y12)","v":1},{"$f":"Z12/(AB4-Z8)","v":0.1},{"$f":"IF(AA12=0,0,(AA12*((LOG(AA12))/LOG(2))))","v":-0.33219280948873625},null,{"$f":"N12","v":212},{"$f":"COUNTIF(L38:L53,AD12)","v":0},{"$f":"AE12/(AG4-AE8)","v":0},{"$f":"IF(AF12=0,0,(AF12*((LOG(AF12))/LOG(2))))","v":0},null,{"$f":"N12","v":212},{"$f":"COUNTIF(L54:L69,AI12)","v":0},{"$f":"AJ12/(AL4-AJ8)","v":0},{"$f":"IF(AK12=0,0,(AK12*((LOG(AK12))/LOG(2))))","v":0},null,{"$f":"N12","v":212},{"$f":"COUNTIF(L70:L84,AN12)","v":0},{"$f":"AO12/(AQ4-AO8)","v":0},{"$f":"IF(AP12=0,0,(AP12*((LOG(AP12))/LOG(2))))","v":0},null,{"$f":"N12","v":212},{"$f":"COUNTIF(L85:L100,AS12)","v":0},{"$f":"AT12/(AV4-AT8)","v":0},{"$f":"IF(AU12=0,0,(AU12*((LOG(AU12))/LOG(2))))","v":0}]
[22,728,13,741,14,745,null,null,null,null,0,211,null,221,{"$f":"COUNTIF($L$7:$L$500,N13)","v":1},{"$f":"O13/$Q$4","v":1.0638297872340425E-2},{"$f":"IF(P13=0,0,(P13*((LOG(P13))/LOG(2))))","v":-6.9729668634868486E-2},null,null,{"$f":"N13","v":221},{"$f":"COUNTIF(L7:L22,T13)","v":1},{"$f":"U13/(W4-U8)","v":0.1},{"$f":"IF(V13=0,0,(V13*((LOG(V13))/LOG(2))))","v":-0.33219280948873625},null,{"$f":"N13","v":221},{"$f":"COUNTIF(L23:L37,Y13)","v":0},{"$f":"Z13/(AB4-Z8)","v":0},{"$f":"IF(AA13=0,0,(AA13*((LOG(AA13))/LOG(2))))","v":0},null,{"$f":"N13","v":221},{"$f":"COUNTIF(L38:L53,AD13)","v":0},{"$f":"AE13/(AG4-AE8)","v":0},{"$f":"IF(AF13=0,0,(AF13*((LOG(AF13))/LOG(2))))","v":0},null,{"$f":"N13","v":221},{"$f":"COUNTIF(L54:L69,AI13)","v":0},{"$f":"AJ13/(AL4-AJ8)","v":0},{"$f":"IF(AK13=0,0,(AK13*((LOG(AK13))/LOG(2))))","v":0},null,{"$f":"N13","v":221},{"$f":"COUNTIF(L70:L84,AN13)","v":0},{"$f":"AO13/(AQ4-AO8)","v":0},{"$f":"IF(AP13=0,0,(AP13*((LOG(AP13))/LOG(2))))","v":0},null,{"$f":"N13","v":221},{"$f":"COUNTIF(L85:L100,AS13)","v":0},{"$f":"AT13/(AV4-AT8)","v":0},{"$f":"IF(AU13=0,0,(AU13*((LOG(AU13))/LOG(2))))","v":0}]
[11,839,11,844,21,860,null,null,null,null,0,112,null,222,{"$f":"COUNTIF($L$7:$L$500,N14)","v":3},{"$f":"O14/$Q$4","v":3.1914893617021274E-2},{"$f":"IF(P14=0,0,(P14*((LOG(P14))/LOG(2))))","v":-0.15860509630712172},null,null,{"$f":"N14","v":222},{"$f":"COUNTIF(L7:L22,T14)","v":1},{"$f":"U14/(W4-U8)","v":0.1},{"$f":"IF(V14=0,0,(V14*((LOG(V14))/LOG(2))))","v":-0.33219280948873625},null,{"$f":"N14","v":222},{"$f":"COUNTIF(L23:L37,Y14)","v":0},{"$f":"Z14/(AB4-Z8)","v":0},{"$f":"IF(AA14=0,0,(AA14*((LOG(AA14))/LOG(2))))","v":0},null,{"$f":"N14","v":222},{"$f":"COUNTIF(L38:L53,AD14)","v":0},{"$f":"AE14/(AG4-AE8)","v":0},{"$f":"IF(AF14=0,0,(AF14*((LOG(AF14))/LOG(2))))","v":0},null,{"$f":"N14","v":222},{"$f":"COUNTIF(L54:L69,AI14)","v":0},{"$f":"AJ14/(AL4-AJ8)","v":0},{"$f":"IF(AK14=0,0,(AK14*((LOG(AK14))/LOG(2))))","v":0},null,{"$f":"N14","v":222},{"$f":"COUNTIF(L70:L84,AN14)","v":2},{"$f":"AO14/(AQ4-AO8)","v":0.14285714285714285},{"$f":"IF(AP14=0,0,(AP14*((LOG(AP14))/LOG(2))))","v":-0.40105070315108626},null,{"$f":"N14","v":222},{"$f":"COUNTIF(L85:L100,AS14)","v":0},{"$f":"AT14/(AV4-AT8)","v":0},{"$f":"IF(AU14=0,0,(AU14*((LOG(AU14))/LOG(2))))","v":0}]
[11,953,22,965,23,973,null,null,null,null,0,122,null,null,null,{"$f":"SUM(P7:P14)","v":0.99999999999999989},{"$f":"-SUM(Q7:Q14)","v":2.0936280828416569},null,null,null,null,{"$f":"SUM(V7:V14)","v":1},{"$f":"-SUM(W7:W14)","v":2.3219280948873626},null,null,null,{"$f":"SUM(AA7:AA14)","v":1},{"$f":"-SUM(AB7:AB14)","v":1.7609640474436812},null,null,null,{"$f":"SUM(AF7:AF14)","v":1},{"$f":"-SUM(AG7:AG14)","v":1.2516291673878228},null,null,null,{"$f":"SUM(AK7:AK14)","v":0.99999999999999989},{"$f":"-SUM(AL7:AL14)","v":1.2516291673878228},null,null,null,{"$f":"SUM(AP7:AP14)","v":1},{"$f":"-SUM(AQ7:AQ14)","v":1.4315602842833157},null,null,null,{"$f":"SUM(AU7:AU14)","v":1},{"$f":"-SUM(AV7:AV14)","v":0.5435644431995964}]
[11,1068,22,1079,23,1085,null,null,null,null,0,122,null,null,null,"U=",{"$f":"Q15/(LOG(Q4)/LOG(2))","v":0.31941409754569061},null,null,null,null,"U1=",{"$f":"W15/(LOG(W4)/LOG(2))","v":0.58048202372184066},null,null,null,"U2=",{"$f":"AB15/(LOG(AB4)/LOG(2))","v":0.45073287934478284},null,null,null,"U3=",{"$f":"AG15/(LOG(AG4)/LOG(2))","v":0.3129072918469557},null,null,null,"U4=",{"$f":"AL15/(LOG(AL4)/LOG(2))","v":0.3129072918469557},null,null,null,"U5=",{"$f":"AQ15/(LOG(AQ4)/LOG(2))","v":0.36641934276133542},null,null,null,"U6=",{"$f":"AV15/(LOG(AV4)/LOG(2))","v":0.1358911107998991}]
[11,1181,22,1191,23,1201,null,null,null,null,0,122]
[11,1316,11,1320,21,1338,null,null,null,null,0,112]
[11,1427,22,1440,14,1505,null,null,null,null,0,121,null,"Total Target Seq"]
[11,1603,22,1615,23,1619,null,null,null,null,0,122,null,{"$f":"COUNTIF(L7:L100,G3)","v":40},null,16,15,16,16,15,16]
[11,1734,11,1738,21,1748,null,null,null,null,0,112,null,null,null,"% of reinforcement given in 6 equal intervals based on number of trials "]
[11,1867,11,1870,21,1880,null,null,null,null,0,112,null,null,null,"%_1","%_2","%_3","%_4","%_5","%_6"]
[11,1972,22,1986,23,1994,null,null,null,null,0,122,null,null,"target sequence",{"$f":"$G$3","v":112},{"$f":"$G$3","v":112},{"$f":"$G$3","v":112},{"$f":"$G$3","v":112},{"$f":"$G$3","v":112},{"$f":"$G$3","v":112}]
[11,2142,22,2163,23,2172,null,null,null,null,0,122,null,null,"total reinforcement",{"$f":"U8","v":6},{"$f":"Z8","v":5},{"$f":"AE8","v":10},{"$f":"AJ8","v":10},{"$f":"AO8","v":1},{"$f":"AT8","v":8}]
[11,2267,22,2281,14,2355,null,null,null,null,0,121,null,null,"% target"]
[11,2450,11,2453,12,2459,null,null,null,null,0,111,null,null,"CCRF"]
[11,2555,22,2572,23,2580,null,null,null,null,0,122,null,null,"% CCRf"]
[11,2676,11,2678,12,2680,null,null,null,null,0,111,null,null,"average response rate",{"$f":"F22/P20","v":117.5},{"$f":"(F37-F22)/Q20","v":137.93333333333334},{"$f":"(F53-F37)/R20","v":129.625},{"$f":"(F69-F53)/S20","v":135.0625},{"$f":"(F84-F69)/T20","v":160.6},{"$f":"(F100-F84)/U20","v":140.1875}]
[11,2781,22,2795,23,2819,null,null,null,null,0,122]
[11,2914,22,2930,23,2938,null,null,null,null,0,122]
[11,3034,11,3039,21,3049,null,null,null,null,0,112]
[11,3143,11,3145,21,3156,null,null,null,null,0,112]
[11,3268,11,3273,21,3291,null,null,null,null,0,112]
[11,3385,11,3390,21,3398,null,null,null,null,0,112]
[11,3490,11,3494,21,3513,null,null,null,null,0,112]
[11,3605,22,3618,14,3754,null,null,null,null,0,121]
[22,3860,13,3936,23,3949,null,null,null,null,0,212]
[11,4045,22,4056,23,4081,null,null,null,null,0,122]
[11,4178,22,4188,23,4193,null,null,null,null,0,122]
[11,4287,22,4306,23,4312,null,null,null,null,0,122]
[11,4407,11,4414,21,4427,null,null,null,null,0,112]
[11,4527,11,4532,21,4541,null,null,null,null,0,112]
[11,4631,11,4635,21,4646,null,null,null,null,0,112]
[11,4739,11,4740,12,4742,null,null,null,null,0,111]
[11,4838,11,4841,21,4856,null,null,null,null,0,112]
[11,4948,22,4971,14,5167,null,null,null,null,0,121]
[11,5261,11,5266,21,5287,null,null,null,null,0,112]
[11,5379,11,5382,21,5399,null,null,null,null,0,112]
[11,5491,11,5492,21,5534,null,null,null,null,0,112]
[11,5650,22,5664,23,5695,null,null,null,null,0,122]
[11,5789,11,5793,21,5812,null,null,null,null,0,112]
[11,5902,11,5906,21,5917,null,null,null,null,0,112]
[11,6007,11,6009,21,6023,null,null,null,null,0,112]
[11,6118,11,6123,12,6129,null,null,null,null,0,111]
[11,6225,22,6235,14,6279,null,null,null,null,0,121]
[11,6376,11,6378,21,6387,null,null,null,null,0,112]
[11,6478,11,6483,21,6500,null,null,null,null,0,112]
[11,6590,11,6594,21,6604,null,null,null,null,0,112]
[11,6697,11,6703,21,6718,null,null,null,null,0,112]
[11,6812,11,6814,21,6824,null,null,null,null,0,112]
[11,6931,11,6937,21,7001,null,null,null,null,0,112]
[11,7092,22,7105,14,7150,null,null,null,null,0,121]
[11,7262,22,7280,23,7332,null,null,null,null,0,122]
[11,7427,22,7450,14,7485,null,null,null,null,0,121]
[11,7580,11,7585,21,7594,null,null,null,null,0,112]
[11,7684,11,7689,21,7706,null,null,null,null,0,112]
[11,7802,11,7808,21,7830,null,null,null,null,0,112]
[11,7924,22,7939,14,8066,null,null,null,null,0,121]
[11,8161,11,8163,21,8184,null,null,null,null,0,112]
[11,8279,22,8297,14,8337,null,null,null,null,0,121]
[11,8435,22,8453,14,8483,null,null,null,null,0,121]
[11,8578,22,8594,14,8686,null,null,null,null,0,121]
[11,8780,22,8793,23,8807,null,null,null,null,0,122]
[22,8930,24,8937,23,8944,null,null,null,null,0,222]
[11,9041,22,9053,23,9066,null,null,null,null,0,122]
[11,9161,22,9177,14,9316,null,null,null,null,0,121]
[11,9411,22,9424,23,9430,null,null,null,null,0,122]
[11,9525,22,9547,14,9648,null,null,null,null,0,121]
[11,9744,22,9757,23,9764,null,null,null,null,0,122]
[22,9890,24,9896,23,9902,null,null,null,null,0,222]
[11,9997,11,10000,21,10014,null,null,null,null,0,112]
[11,10115,22,10130,14,10260,null,null,null,null,0,121]
[11,10354,22,10371,23,10376,null,null,null,null,0,122]
[11,10471,22,10483,14,10593,null,null,null,null,0,121]
[11,10687,11,10691,21,10702,null,null,null,null,0,112]
[11,10794,11,10799,21,10822,null,null,null,null,0,112]
[11,10914,11,10916,21,10937,null,null,null,null,0,112]
[11,11027,11,11029,21,11039,null,null,null,null,0,112]
[11,11130,22,11140,14,11286,null,null,null,null,0,121]
[11,11381,22,11406,23,11441,null,null,null,null,0,122]
[11,11535,22,11550,23,11594,null,null,null,null,0,122]
[11,11688,22,11705,23,11798,null,null,null,null,0,122]
[11,11895,11,11900,21,11910,null,null,null,null,0,112]
[11,11999,22,12020,23,12050,null,null,null,null,0,122]
[11,12144,11,12147,21,12163,null,null,null,null,0,112]
[11,12250,11,12254,21,12280,null,null,null,null,0,112]
[11,12374,22,12388,23,12425,null,null,null,null,0,122]
[11,12522,22,12530,23,12578,null,null,null,null,0,122]
[11,12701,22,12711,23,12727,null,null,null,null,0,122]
[11,12818,11,12821,21,12836,null,null,null,null,1,112]

{"sheet":"!MC0491I.sha","index":28,"n_rows":131,"n_cols":48,"rows_kept":131,"cut":false,"hidden":false,"merged":[[4,39,4,42],[5,39,5,40],[4,44,4,47],[5,44,5,45],[4,24,4,27],[5,24,5,25],[4,29,4,32],[5,29,5,30],[4,34,4,37],[5,34,5,35],[1,1,1,2],[5,13,5,14],[18,13,18,14],[19,13,19,14],[4,19,4,22],[5,19,5,20]]}
["Report for:!MC0491I.sha"]
["Date:","<date>"]
["Hen:","<hen>",null,null,null,"Correct Sequence",{"$f":"Start!J2","v":112},null,null,null,null,null,null,null,null,"Total Sequences in Data",{"$f":"4994-COUNTBLANK(L7:L5000)","v":125},null,null,null,null,"Total Sequences in Block Data",{"$f":"COUNTA(L7:L27)","v":21},null,null,null,"Total Sequences in Block Data",{"$f":"COUNTA(L28:L48)","v":21},null,null,null,"Total Sequences in Block Data",{"$f":"COUNTA(L49:L68)","v":20},null,null,null,"Total Sequences in Block Data",{"$f":"COUNTA(L69:L89)","v":21},null,null,null,"Total Sequences in Block Data",{"$f":"COUNTA(L90:L110)","v":21},null,null,null,"Total Sequences in Block Data",{"$f":"COUNTA(L111:L131)","v":21}]
[null,null,null,null,null,null,null,null,null,null,null,null,null,null,null,"Total Sequences in Summary",{"$f":"SUM(O7:O14)","v":125},null,null,null,null,"Total Sequences in Block Summary",{"$f":"SUM(U7:U14)","v":21},null,null,null,"Total Sequences in Block Summary",{"$f":"SUM(Z7:Z14)","v":21},null,null,null,"Total Sequences in Block Summary",{"$f":"SUM(AE7:AE14)","v":20},null,null,null,"Total Sequences in Block Summary",{"$f":"SUM(AJ7:AJ14)","v":21},null,null,null,"Total Sequences in Block Summary",{"$f":"SUM(AO7:AO14)","v":21},null,null,null,"Total Sequences in Block Summary",{"$f":"SUM(AT7:AT14)","v":21}]
[null,null,null,null,null,null,null,null,null,null,null,null,null,null,null,null,null,null,null,"Block 1",null,null,null,null,"Block 2",null,null,null,null,"Block 3",null,null,null,null,"Block 4",null,null,null,null,"Block 5",null,null,null,null,"Block 6"]
["Sequence\nComponent\n1","Time\n1","Sequence\nComponent\n2","Time\n2","Sequence\nComponent\n3","Time\n3","Sequence\nComponent\n4","Time\n4","Sequence\nComponent\n5","Time\n5","Correct?\n0=No 1=Yes","Sequence",null,"Frequency",null,"Relative Frequency","Variability",null,null,"Frequency",null,"Relative Frequency","Variability",null,"Frequency",null,"Relative Frequency","Variability",null,"Frequency",null,"Relative Frequency","Variability",null,"Frequency",null,"Relative Frequency","Variability",null,"Frequency",null,"Relative Frequency","Variability",null,"Frequency",null,"Relative Frequency","Variability"]
[22,42,24,49,14,60,null,null,null,null,0,221,null,111,{"$f":"COUNTIF($L$7:$L$500,N7)","v":6},{"$f":"O7/$Q$4","v":4.8000000000000001E-2},{"$f":"IF(P7=0,0,(P7*((LOG(P7))/LOG(2))))","v":-0.2102794456291647},null,null,{"$f":"N7","v":111},{"$f":"COUNTIF(L7:L27,T7)","v":0},{"$f":"U7/(W4-U8)","v":0},{"$f":"IF(V7=0,0,(V7*((LOG(V7))/LOG(2))))","v":0},null,{"$f":"N7","v":111},{"$f":"COUNTIF(L28:L48,Y7)","v":3},{"$f":"Z7/(AB4-Z8)","v":0.16666666666666666},{"$f":"IF(AA7=0,0,(AA7*((LOG(AA7))/LOG(2))))","v":-0.43082708345352599},null,{"$f":"N7","v":111},{"$f":"COUNTIF(L49:L68,AD7)","v":1},{"$f":"AE7/(AG4-AE8)","v":0.1},{"$f":"IF(AF7=0,0,(AF7*((LOG(AF7))/LOG(2))))","v":-0.33219280948873625},null,{"$f":"N7","v":111},{"$f":"COUNTIF(L69:L89,AI7)","v":1},{"$f":"AJ7/(AL4-AJ8)","v":7.1428571428571425E-2},{"$f":"IF(AK7=0,0,(AK7*((LOG(AK7))/LOG(2))))","v":-0.27195392300411453},null,{"$f":"N7","v":111},{"$f":"COUNTIF(L90:L110,AN7)","v":1},{"$f":"AO7/(AQ4-AO8)","v":7.1428571428571425E-2},{"$f":"IF(AP7=0,0,(AP7*((LOG(AP7))/LOG(2))))","v":-0.27195392300411453},null,{"$f":"N7","v":111},{"$f":"COUNTIF(L111:L131,AS7)","v":0},{"$f":"AT7/(AV4-AT8)","v":0},{"$f":"IF(AU7=0,0,(AU7*((LOG(AU7))/LOG(2))))","v":0}]
[11,157,11,160,21,171,null,null,null,null,0,112,null,112,{"$f":"COUNTIF($L$7:$L$500,N8)","v":40},{"$f":"O8/$Q$4","v":0.32},{"$f":"IF(P8=0,0,(P8*((LOG(P8))/LOG(2))))","v":-0.52603398072791185},null,null,{"$f":"N8","v":112},{"$f":"COUNTIF(L7:L27,T8)","v":6},null,null,null,{"$f":"N8","v":112},{"$f":"COUNTIF(L28:L48,Y8)","v":3},null,null,null,{"$f":"N8","v":112},{"$f":"COUNTIF(L49:L68,AD8)","v":10},null,null,null,{"$f":"N8","v":112},{"$f":"COUNTIF(L69:L89,AI8)","v":7},null,null,null,{"$f":"N8","v":112},{"$f":"COUNTIF(L90:L110,AN8)","v":7},null,null,null,{"$f":"N8","v":112},{"$f":"COUNTIF(L111:L131,AS8)","v":7}]
[22,283,13,294,23,314,null,null,null,null,0,212,null,121,{"$f":"COUNTIF($L$7:$L$500,N9)","v":19},{"$f":"O9/$Q$4","v":0.152},{"$f":"IF(P9=0,0,(P9*((LOG(P9))/LOG(2))))","v":-0.41311422922521224},null,null,{"$f":"N9","v":121},{"$f":"COUNTIF(L7:L27,T9)","v":3},{"$f":"U9/(W4-U8)","v":0.2},{"$f":"IF(V9=0,0,(V9*((LOG(V9))/LOG(2))))","v":-0.46438561897747244},null,{"$f":"N9","v":121},{"$f":"COUNTIF(L28:L48,Y9)","v":2},{"$f":"Z9/(AB4-Z8)","v":0.1111111111111111},{"$f":"IF(AA9=0,0,(AA9*((LOG(AA9))/LOG(2))))","v":-0.3522138890491458},null,{"$f":"N9","v":121},{"$f":"COUNTIF(L49:L68,AD9)","v":4},{"$f":"AE9/(AG4-AE8)","v":0.4},{"$f":"IF(AF9=0,0,(AF9*((LOG(AF9))/LOG(2))))","v":-0.52877123795494496},null,{"$f":"N9","v":121},{"$f":"COUNTIF(L69:L89,AI9)","v":2},{"$f":"AJ9/(AL4-AJ8)","v":0.14285714285714285},{"$f":"IF(AK9=0,0,(AK9*((LOG(AK9))/LOG(2))))","v":-0.40105070315108626},null,{"$f":"N9","v":121},{"$f":"COUNTIF(L90:L110,AN9)","v":3},{"$f":"AO9/(AQ4-AO8)","v":0.21428571428571427},{"$f":"IF(AP9=0,0,(AP9*((LOG(AP9))/LOG(2))))","v":-0.47622694742923877},null,{"$f":"N9","v":121},{"$f":"COUNTIF(L111:L131,AS9)","v":5},{"$f":"AT9/(AV4-AT8)","v":0.35714285714285715},{"$f":"IF(AU9=0,0,(AU9*((LOG(AU9))/LOG(2))))","v":-0.53050958113222924}]
[11,411,11,415,21,429,null,null,null,null,0,112,null,122,{"$f":"COUNTIF($L$7:$L$500,N10)","v":52},{"$f":"O10/$Q$4","v":0.41599999999999998},{"$f":"IF(P10=0,0,(P10*((LOG(P10))/LOG(2))))","v":-0.52638333967273387},null,null,{"$f":"N10","v":122},{"$f":"COUNTIF(L7:L27,T10)","v":9},{"$f":"U10/(W4-U8)","v":0.6},{"$f":"IF(V10=0,0,(V10*((LOG(V10))/LOG(2))))","v":-0.44217935649972373},null,{"$f":"N10","v":122},{"$f":"COUNTIF(L28:L48,Y10)","v":11},{"$f":"Z10/(AB4-Z8)","v":0.61111111111111116},{"$f":"IF(AA10=0,0,(AA10*((LOG(AA10))/LOG(2))))","v":-0.43419040060306474},null,{"$f":"N10","v":122},{"$f":"COUNTIF(L49:L68,AD10)","v":5},{"$f":"AE10/(AG4-AE8)","v":0.5},{"$f":"IF(AF10=0,0,(AF10*((LOG(AF10))/LOG(2))))","v":-0.5},null,{"$f":"N10","v":122},{"$f":"COUNTIF(L69:L89,AI10)","v":9},{"$f":"AJ10/(AL4-AJ8)","v":0.6428571428571429},{"$f":"IF(AK10=0,0,(AK10*((LOG(AK10))/LOG(2))))","v":-0.40977637753840174},null,{"$f":"N10","v":122},{"$f":"COUNTIF(L90:L110,AN10)","v":10},{"$f":"AO10/(AQ4-AO8)","v":0.7142857142857143},{"$f":"IF(AP10=0,0,(AP10*((LOG(AP10))/LOG(2))))","v":-0.34673344797874411},null,{"$f":"N10","v":122},{"$f":"COUNTIF(L111:L131,AS10)","v":8},{"$f":"AT10/(AV4-AT8)","v":0.5714285714285714},{"$f":"IF(AU10=0,0,(AU10*((LOG(AU10))/LOG(2))))","v":-0.46134566974720237}]
[11,561,22,571,14,609,null,null,null,null,0,121,null,211,{"$f":"COUNTIF($L$7:$L$500,N11)","v":0},{"$f":"O11/$Q$4","v":0},{"$f":"IF(P11=0,0,(P11*((LOG(P11))/LOG(2))))","v":0},null,null,{"$f":"N11","v":211},{"$f":"COUNTIF(L7:L27,T11)","v":0},{"$f":"U11/(W4-U8)","v":0},{"$f":"IF(V11=0,0,(V11*((LOG(V11))/LOG(2))))","v":0},null,{"$f":"N11","v":211},{"$f":"COUNTIF(L28:L48,Y11)","v":0},{"$f":"Z11/(AB4-Z8)","v":0},{"$f":"IF(AA11=0,0,(AA11*((LOG(AA11))/LOG(2))))","v":0},null,{"$f":"N11","v":211},{"$f":"COUNTIF(L49:L68,AD11)","v":0},{"$f":"AE11/(AG4-AE8)","v":0},{"$f":"IF(AF11=0,0,(AF11*((LOG(AF11))/LOG(2))))","v":0},null,{"$f":"N11","v":211},{"$f":"COUNTIF(L69:L89,AI11)","v":0},{"$f":"AJ11/(AL4-AJ8)","v":0},{"$f":"IF(AK11=0,0,(AK11*((LOG(AK11))/LOG(2))))","v":0},null,{"$f":"N11","v":211},{"$f":"COUNTIF(L90:L110,AN11)","v":0},{"$f":"AO11/(AQ4-AO8)","v":0},{"$f":"IF(AP11=0,0,(AP11*((LOG(AP11))/LOG(2))))","v":0},null,{"$f":"N11","v":211},{"$f":"COUNTIF(L111:L131,AS11)","v":0},{"$f":"AT11/(AV4-AT8)","v":0},{"$f":"IF(AU11=0,0,(AU11*((LOG(AU11))/LOG(2))))","v":0}]
[11,701,11,705,21,722,null,null,null,null,0,112,null,212,{"$f":"COUNTIF($L$7:$L$500,N12)","v":1},{"$f":"O12/$Q$4","v":8.0000000000000002E-3},{"$f":"IF(P12=0,0,(P12*((LOG(P12))/LOG(2))))","v":-5.5726274277296692E-2},null,null,{"$f":"N12","v":212},{"$f":"COUNTIF(L7:L27,T12)","v":1},{"$f":"U12/(W4-U8)","v":6.6666666666666666E-2},{"$f":"IF(V12=0,0,(V12*((LOG(V12))/LOG(2))))","v":-0.26045937304056793},null,{"$f":"N12","v":212},{"$f":"COUNTIF(L28:L48,Y12)","v":0},{"$f":"Z12/(AB4-Z8)","v":0},{"$f":"IF(AA12=0,0,(AA12*((LOG(AA12))/LOG(2))))","v":0},null,{"$f":"N12","v":212},{"$f":"COUNTIF(L49:L68,AD12)","v":0},{"$f":"AE12/(AG4-AE8)","v":0},{"$f":"IF(AF12=0,0,(AF12*((LOG(AF12))/LOG(2))))","v":0},null,{"$f":"N12","v":212},{"$f":"COUNTIF(L69:L89,AI12)","v":0},{"$f":"AJ12/(AL4-AJ8)","v":0},{"$f":"IF(AK12=0,0,(AK12*((LOG(AK12))/LOG(2))))","v":0},null,{"$f":"N12","v":212},{"$f":"COUNTIF(L90:L110,AN12)","v":0},{"$f":"AO12/(AQ4-AO8)","v":0},{"$f":"IF(AP12=0,0,(AP12*((LOG(AP12))/LOG(2))))","v":0},null,{"$f":"N12","v":212},{"$f":"COUNTIF(L111:L131,AS12)","v":0},{"$f":"AT12/(AV4-AT8)","v":0},{"$f":"IF(AU12=0,0,(AU12*((LOG(AU12))/LOG(2))))","v":0}]
[11,818,22,828,23,1031,null,null,null,null,0,122,null,221,{"$f":"COUNTIF($L$7:$L$500,N13)","v":1},{"$f":"O13/$Q$4","v":8.0000000000000002E-3},{"$f":"IF(P13=0,0,(P13*((LOG(P13))/LOG(2))))","v":-5.5726274277296692E-2},null,null,{"$f":"N13","v":221},{"$f":"COUNTIF(L7:L27,T13)","v":1},{"$f":"U13/(W4-U8)","v":6.6666666666666666E-2},{"$f":"IF(V13=0,0,(V13*((LOG(V13))/LOG(2))))","v":-0.26045937304056793},null,{"$f":"N13","v":221},{"$f":"COUNTIF(L28:L48,Y13)","v":0},{"$f":"Z13/(AB4-Z8)","v":0},{"$f":"IF(AA13=0,0,(AA13*((LOG(AA13))/LOG(2))))","v":0},null,{"$f":"N13","v":221},{"$f":"COUNTIF(L49:L68,AD13)","v":0},{"$f":"AE13/(AG4-AE8)","v":0},{"$f":"IF(AF13=0,0,(AF13*((LOG(AF13))/LOG(2))))","v":0},null,{"$f":"N13","v":221},{"$f":"COUNTIF(L69:L89,AI13)","v":0},{"$f":"AJ13/(AL4-AJ8)","v":0},{"$f":"IF(AK13=0,0,(AK13*((LOG(AK13))/LOG(2))))","v":0},null,{"$f":"N13","v":221},{"$f":"COUNTIF(L90:L110,AN13)","v":0},{"$f":"AO13/(AQ4-AO8)","v":0},{"$f":"IF(AP13=0,0,(AP13*((LOG(AP13))/LOG(2))))","v":0},null,{"$f":"N13","v":221},{"$f":"COUNTIF(L111:L131,AS13)","v":0},{"$f":"AT13/(AV4-AT8)","v":0},{"$f":"IF(AU13=0,0,(AU13*((LOG(AU13))/LOG(2))))","v":0}]
[11,1125,22,1143,14,1265,null,null,null,null,0,121,null,222,{"$f":"COUNTIF($L$7:$L$500,N14)","v":6},{"$f":"O14/$Q$4","v":4.8000000000000001E-2},{"$f":"IF(P14=0,0,(P14*((LOG(P14))/LOG(2))))","v":-0.2102794456291647},null,null,{"$f":"N14","v":222},{"$f":"COUNTIF(L7:L27,T14)","v":1},{"$f":"U14/(W4-U8)","v":6.6666666666666666E-2},{"$f":"IF(V14=0,0,(V14*((LOG(V14))/LOG(2))))","v":-0.26045937304056793},null,{"$f":"N14","v":222},{"$f":"COUNTIF(L28:L48,Y14)","v":2},{"$f":"Z14/(AB4-Z8)","v":0.1111111111111111},{"$f":"IF(AA14=0,0,(AA14*((LOG(AA14))/LOG(2))))","v":-0.3522138890491458},null,{"$f":"N14","v":222},{"$f":"COUNTIF(L49:L68,AD14)","v":0},{"$f":"AE14/(AG4-AE8)","v":0},{"$f":"IF(AF14=0,0,(AF14*((LOG(AF14))/LOG(2))))","v":0},null,{"$f":"N14","v":222},{"$f":"COUNTIF(L69:L89,AI14)","v":2},{"$f":"AJ14/(AL4-AJ8)","v":0.14285714285714285},{"$f":"IF(AK14=0,0,(AK14*((LOG(AK14))/LOG(2))))","v":-0.40105070315108626},null,{"$f":"N14","v":222},{"$f":"COUNTIF(L90:L110,AN14)","v":0},{"$f":"AO14/(AQ4-AO8)","v":0},{"$f":"IF(AP14=0,0,(AP14*((LOG(AP14))/LOG(2))))","v":0},null,{"$f":"N14","v":222},{"$f":"COUNTIF(L111:L131,AS14)","v":1},{"$f":"AT14/(AV4-AT8)","v":7.1428571428571425E-2},{"$f":"IF(AU14=0,0,(AU14*((LOG(AU14))/LOG(2))))","v":-0.27195392300411453}]
[22,1364,24,1368,23,1378,null,null,null,null,0,222,null,null,null,{"$f":"SUM(P7:P14)","v":1},{"$f":"-SUM(Q7:Q14)","v":1.9975429894387806},null,null,null,null,{"$f":"SUM(V7:V14)","v":1},{"$f":"-SUM(W7:W14)","v":1.6879430945989},null,null,null,{"$f":"SUM(AA7:AA14)","v":1},{"$f":"-SUM(AB7:AB14)","v":1.5694452621548822},null,null,null,{"$f":"SUM(AF7:AF14)","v":1},{"$f":"-SUM(AG7:AG14)","v":1.3609640474436813},null,null,null,{"$f":"SUM(AK7:AK14)","v":1},{"$f":"-SUM(AL7:AL14)","v":1.4838317068446889},null,null,null,{"$f":"SUM(AP7:AP14)","v":1},{"$f":"-SUM(AQ7:AQ14)","v":1.0949143184120973},null,null,null,{"$f":"SUM(AU7:AU14)","v":1},{"$f":"-SUM(AV7:AV14)","v":1.2638091738835462}]
[11,1540,22,1550,23,1580,null,null,null,null,0,122,null,null,null,"U=",{"$f":"Q15/(LOG(Q4)/LOG(2))","v":0.28676497976504345},null,null,null,null,"U1=",{"$f":"W15/(LOG(W4)/LOG(2))","v":0.38429442413363601},null,null,null,"U2=",{"$f":"AB15/(LOG(AB4)/LOG(2))","v":0.35731599315105661},null,null,null,"U3=",{"$f":"AG15/(LOG(AG4)/LOG(2))","v":0.31489742947219268},null,null,null,"U4=",{"$f":"AL15/(LOG(AL4)/LOG(2))","v":0.33782433372175452},null,null,null,"U5=",{"$f":"AQ15/(LOG(AQ4)/LOG(2))","v":0.24927941517473695},null,null,null,"U6=",{"$f":"AV15/(LOG(AV4)/LOG(2))","v":0.28773174892355763}]
[11,1675,22,1692,23,1698,null,null,null,null,0,122]
[11,1797,22,1814,23,1842,null,null,null,null,0,122]
[11,1936,11,1940,21,1952,null,null,null,null,0,112,null,"Total Target Seq"]
[11,2162,22,2191,23,2199,null,null,null,null,0,122,null,{"$f":"COUNTIF(L7:L131,G3)","v":40},null,21,21,20,21,21,21]
[11,2294,11,2300,21,2315,null,null,null,null,0,112,null,null,null,"% of reinforcement given in 6 equal intervals based on number of trials "]
[11,2410,22,2429,23,2581,null,null,null,null,0,122,null,null,null,"%_1","%_2","%_3","%_4","%_5","%_6"]
[11,2675,22,2689,23,2694,null,null,null,null,0,122,null,null,"target sequence",{"$f":"$G$3","v":112},{"$f":"$G$3","v":112},{"$f":"$G$3","v":112},{"$f":"$G$3","v":112},{"$f":"$G$3","v":112},{"$f":"$G$3","v":112}]
[11,2786,11,2789,21,2804,null,null,null,null,0,112,null,null,"total reinforcement",{"$f":"U8","v":6},{"$f":"Z8","v":3},{"$f":"AE8","v":10},{"$f":"AJ8","v":7},{"$f":"AO8","v":7},{"$f":"AT8","v":7}]
[11,2894,22,2910,14,2940,null,null,null,null,0,121,null,null,"% target"]
[11,3035,22,3053,23,3140,null,null,null,null,0,122,null,null,"CCRF"]
[11,3232,22,3244,23,3249,null,null,null,null,0,122,null,null,"% CCRf"]
[11,3343,11,3348,21,3358,null,null,null,null,0,112,null,null,"average response rate",{"$f":"F27/P20","v":154.71428571428572},{"$f":"(F48-F27)/Q20","v":122.57142857142857},{"$f":"(F68-F48)/R20","v":131.80000000000001},{"$f":"(F89-F68)/S20","v":134.04761904761904},{"$f":"(F110-F89)/T20","v":133.71428571428572},{"$f":"(F131-F110)/U20","v":148.47619047619048}]
[11,3450,11,3455,12,3459,null,null,null,null,0,111]
[11,3551,11,3554,12,3559,null,null,null,null,0,111]
[22,3670,24,3674,23,3686,null,null,null,null,0,222]
[11,3778,11,3780,21,3791,null,null,null,null,0,112]
[11,3882,22,3893,14,3926,null,null,null,null,0,121]
[11,4022,22,4034,23,4070,null,null,null,null,0,122]
[11,4163,22,4179,23,4186,null,null,null,null,0,122]
[11,4281,11,4284,12,4288,null,null,null,null,0,111]
[11,4383,22,4397,23,4407,null,null,null,null,0,122]
[11,4502,22,4517,23,4524,null,null,null,null,0,122]
[11,4622,22,4635,23,4648,null,null,null,null,0,122]
[11,4750,22,4764,23,4769,null,null,null,null,0,122]
[11,4863,22,4884,23,4890,null,null,null,null,0,122]
[11,4984,22,5002,23,5011,null,null,null,null,0,122]
[11,5105,22,5116,23,5122,null,null,null,null,0,122]
[11,5219,22,5228,23,5232,null,null,null,null,0,122]
[11,5329,22,5338,23,5343,null,null,null,null,0,122]
[11,5438,11,5443,21,5492,null,null,null,null,0,112]
[11,5611,22,5632,14,5670,null,null,null,null,0,121]
[22,5774,24,5796,23,5823,null,null,null,null,0,222]
[11,5921,22,5930,23,5939,null,null,null,null,0,122]
[11,6044,11,6047,21,6062,null,null,null,null,0,112]
[11,6154,22,6166,23,6179,null,null,null,null,0,122]
[11,6274,22,6289,14,6359,null,null,null,null,0,121]
[11,6453,22,6469,23,6475,null,null,null,null,0,122]
[11,6570,22,6584,23,6589,null,null,null,null,0,122]
[11,6686,22,6698,23,6730,null,null,null,null,0,122]
[11,6824,11,6829,21,6839,null,null,null,null,0,112]
[11,6932,11,6939,21,6954,null,null,null,null,0,112]
[11,7064,11,7066,21,7080,null,null,null,null,0,112]
[11,7191,11,7197,21,7217,null,null,null,null,0,112]
[11,7313,11,7318,21,7332,null,null,null,null,0,112]
[11,7425,11,7429,12,7435,null,null,null,null,0,111]
[11,7531,11,7537,21,7547,null,null,null,null,0,112]
[11,7638,11,7644,21,7654,null,null,null,null,0,112]
[11,7750,11,7757,21,7771,null,null,null,null,0,112]
[11,7866,22,7883,14,7934,null,null,null,null,0,121]
[11,8029,22,8043,14,8067,null,null,null,null,0,121]
[11,8164,11,8166,21,8181,null,null,null,null,0,112]
[11,8272,22,8285,14,8459,null,null,null,null,0,121]
[11,8551,11,8553,12,8558,null,null,null,null,0,111]
[11,8652,22,8665,23,8669,null,null,null,null,0,122]
[11,8765,11,8769,21,8779,null,null,null,null,0,112]
[11,8873,22,8888,23,8908,null,null,null,null,0,122]
[22,9022,24,9050,23,9066,null,null,null,null,0,222]
[11,9160,22,9174,23,9184,null,null,null,null,0,122]
[11,9284,22,9297,23,9306,null,null,null,null,0,122]
[11,9401,11,9404,21,9415,null,null,null,null,0,112]
[11,9505,22,9552,23,9567,null,null,null,null,0,122]
[11,9661,11,9664,21,9683,null,null,null,null,0,112]
[11,9774,11,9776,21,9785,null,null,null,null,0,112]
[11,9890,22,9917,14,10062,null,null,null,null,0,121]
[11,10156,22,10170,23,10179,null,null,null,null,0,122]
[22,10322,24,10329,23,10353,null,null,null,null,0,222]
[11,10445,11,10448,21,10461,null,null,null,null,0,112]
[11,10550,11,10555,21,10571,null,null,null,null,0,112]
[11,10667,22,10683,14,10796,null,null,null,null,0,121]
[11,10890,22,10900,23,10907,null,null,null,null,0,122]
[11,11004,11,11013,21,11026,null,null,null,null,0,112]
[11,11121,22,11131,23,11136,null,null,null,null,0,122]
[11,11240,22,11267,23,11274,null,null,null,null,0,122]
[11,11369,22,11381,23,11385,null,null,null,null,0,122]
[11,11542,11,11548,21,11558,null,null,null,null,0,112]
[11,11648,22,11665,23,11687,null,null,null,null,0,122]
[11,11780,11,11785,21,11801,null,null,null,null,0,112]
[11,11892,11,11897,21,11914,null,null,null,null,0,112]
[11,12009,22,12022,14,12114,null,null,null,null,0,121]
[11,12206,11,12210,21,12229,null,null,null,null,0,112]
[11,12321,11,12329,21,12338,null,null,null,null,0,112]
[11,12479,22,12539,23,12556,null,null,null,null,0,122]
[11,12650,22,12674,23,12687,null,null,null,null,0,122]
[11,12798,22,12806,23,12814,null,null,null,null,0,122]
[11,12932,22,12949,23,12979,null,null,null,null,0,122]
[11,13074,22,13086,23,13094,null,null,null,null,0,122]
[11,13187,11,13191,21,13202,null,null,null,null,0,112]
[11,13292,22,13319,14,13384,null,null,null,null,0,121]
[11,13475,22,13492,23,13497,null,null,null,null,0,122]
[11,13592,11,13599,12,13604,null,null,null,null,0,111]
[11,13698,22,13712,23,13721,null,null,null,null,0,122]
[11,13816,11,13822,21,13831,null,null,null,null,0,112]
[11,13921,22,13951,23,13958,null,null,null,null,0,122]
[11,14055,22,14067,14,14082,null,null,null,null,0,121]
[11,14177,22,14192,23,14202,null,null,null,null,0,122]
[22,14353,24,14381,23,14388,null,null,null,null,0,222]
[11,14483,11,14487,21,14497,null,null,null,null,0,112]
[11,14586,22,14602,14,14632,null,null,null,null,0,121]
[11,14724,11,14732,21,14740,null,null,null,null,0,112]
[11,14832,11,14872,21,14890,null,null,null,null,0,112]
[11,14981,11,14987,21,14996,null,null,null,null,0,112]
[11,15092,22,15106,23,15200,null,null,null,null,0,122]
[11,15294,22,15306,14,15328,null,null,null,null,0,121]
[11,15420,22,15441,14,15544,null,null,null,null,0,121]
[11,15639,22,15651,23,15684,null,null,null,null,0,122]
[11,15776,22,15794,23,15834,null,null,null,null,0,122]
[11,15929,22,15961,23,15974,null,null,null,null,0,122]
[11,16073,11,16079,21,16086,null,null,null,null,0,112]
[11,16209,22,16230,23,16248,null,null,null,null,0,122]
[11,16343,22,16355,23,16409,null,null,null,null,0,122]
[11,16501,11,16503,21,16519,null,null,null,null,0,112]
[11,16610,22,16625,14,16688,null,null,null,null,0,121]
[11,16781,22,16793,23,16874,null,null,null,null,0,122]
[11,16969,22,16983,14,17093,null,null,null,null,0,121]
[11,17187,11,17191,21,17200,null,null,null,null,1,112]

{"sheet":"!MC05A0I.sha","index":29,"n_rows":108,"n_cols":48,"rows_kept":108,"cut":false,"hidden":false,"merged":[[4,39,4,42],[5,39,5,40],[4,44,4,47],[5,44,5,45],[4,24,4,27],[5,24,5,25],[4,29,4,32],[5,29,5,30],[4,34,4,37],[5,34,5,35],[1,1,1,2],[5,13,5,14],[18,13,18,14],[19,13,19,14],[4,19,4,22],[5,19,5,20]]}
["Report for:!MC05A0I.sha"]
["Date:","<date>"]
["Hen:","<hen>",null,null,null,"Correct Sequence",{"$f":"Start!J2","v":112},null,null,null,null,null,null,null,null,"Total Sequences in Data",{"$f":"4994-COUNTBLANK(L7:L5000)","v":102},null,null,null,null,"Total Sequences in Block Data",{"$f":"COUNTA(L7:L23)","v":17},null,null,null,"Total Sequences in Block Data",{"$f":"COUNTA(L24:L40)","v":17},null,null,null,"Total Sequences in Block Data",{"$f":"COUNTA(L41:L57)","v":17},null,null,null,"Total Sequences in Block Data",{"$f":"COUNTA(L58:L74)","v":17},null,null,null,"Total Sequences in Block Data",{"$f":"COUNTA(L75:L91)","v":17},null,null,null,"Total Sequences in Block Data",{"$f":"COUNTA(L92:L108)","v":17}]
[null,null,null,null,null,null,null,null,null,null,null,null,null,null,null,"Total Sequences in Summary",{"$f":"SUM(O7:O14)","v":102},null,null,null,null,"Total Sequences in Block Summary",{"$f":"SUM(U7:U14)","v":17},null,null,null,"Total Sequences in Block Summary",{"$f":"SUM(Z7:Z14)","v":17},null,null,null,"Total Sequences in Block Summary",{"$f":"SUM(AE7:AE14)","v":17},null,null,null,"Total Sequences in Block Summary",{"$f":"SUM(AJ7:AJ14)","v":17},null,null,null,"Total Sequences in Block Summary",{"$f":"SUM(AO7:AO14)","v":17},null,null,null,"Total Sequences in Block Summary",{"$f":"SUM(AT7:AT14)","v":17}]
[null,null,null,null,null,null,null,null,null,null,null,null,null,null,null,null,null,null,null,"Block 1",null,null,null,null,"Block 2",null,null,null,null,"Block 3",null,null,null,null,"Block 4",null,null,null,null,"Block 5",null,null,null,null,"Block 6"]
["Sequence\nComponent\n1","Time\n1","Sequence\nComponent\n2","Time\n2","Sequence\nComponent\n3","Time\n3","Sequence\nComponent\n4","Time\n4","Sequence\nComponent\n5","Time\n5","Correct?\n0=No 1=Yes","Sequence",null,"Frequency",null,"Relative Frequency","Variability",null,null,"Frequency",null,"Relative Frequency","Variability",null,"Frequency",null,"Relative Frequency","Variability",null,"Frequency",null,"Relative Frequency","Variability",null,"Frequency",null,"Relative Frequency","Variability",null,"Frequency",null,"Relative Frequency","Variability",null,"Frequency",null,"Relative Frequency","Variability"]
[22,8,13,15,23,25,null,null,null,null,0,212,null,111,{"$f":"COUNTIF($L$7:$L$500,N7)","v":8},{"$f":"O7/$Q$4","v":7.8431372549019607E-2},{"$f":"IF(P7=0,0,(P7*((LOG(P7))/LOG(2))))","v":-0.2880333601546271},null,null,{"$f":"N7","v":111},{"$f":"COUNTIF(L7:L23,T7)","v":0},{"$f":"U7/(W4-U8)","v":0},{"$f":"IF(V7=0,0,(V7*((LOG(V7))/LOG(2))))","v":0},null,{"$f":"N7","v":111},{"$f":"COUNTIF(L24:L40,Y7)","v":1},{"$f":"Z7/(AB4-Z8)","v":0.1},{"$f":"IF(AA7=0,0,(AA7*((LOG(AA7))/LOG(2))))","v":-0.33219280948873625},null,{"$f":"N7","v":111},{"$f":"COUNTIF(L41:L57,AD7)","v":0},{"$f":"AE7/(AG4-AE8)","v":0},{"$f":"IF(AF7=0,0,(AF7*((LOG(AF7))/LOG(2))))","v":0},null,{"$f":"N7","v":111},{"$f":"COUNTIF(L58:L74,AI7)","v":3},{"$f":"AJ7/(AL4-AJ8)","v":0.27272727272727271},{"$f":"IF(AK7=0,0,(AK7*((LOG(AK7))/LOG(2))))","v":-0.51121885034076575},null,{"$f":"N7","v":111},{"$f":"COUNTIF(L75:L91,AN7)","v":3},{"$f":"AO7/(AQ4-AO8)","v":0.33333333333333331},{"$f":"IF(AP7=0,0,(AP7*((LOG(AP7))/LOG(2))))","v":-0.52832083357371862},null,{"$f":"N7","v":111},{"$f":"COUNTIF(L92:L108,AS7)","v":1},{"$f":"AT7/(AV4-AT8)","v":0.1},{"$f":"IF(AU7=0,0,(AU7*((LOG(AU7))/LOG(2))))","v":-0.33219280948873625}]
[11,118,11,123,21,132,null,null,null,null,0,112,null,112,{"$f":"COUNTIF($L$7:$L$500,N8)","v":40},{"$f":"O8/$Q$4","v":0.39215686274509803},{"$f":"IF(P8=0,0,(P8*((LOG(P8))/LOG(2))))","v":-0.52960676356240521},null,null,{"$f":"N8","v":112},{"$f":"COUNTIF(L7:L23,T8)","v":5},null,null,null,{"$f":"N8","v":112},{"$f":"COUNTIF(L24:L40,Y8)","v":7},null,null,null,{"$f":"N8","v":112},{"$f":"COUNTIF(L41:L57,AD8)","v":7},null,null,null,{"$f":"N8","v":112},{"$f":"COUNTIF(L58:L74,AI8)","v":6},null,null,null,{"$f":"N8","v":112},{"$f":"COUNTIF(L75:L91,AN8)","v":8},null,null,null,{"$f":"N8","v":112},{"$f":"COUNTIF(L92:L108,AS8)","v":7}]
[11,227,22,238,23,239,null,null,null,null,0,122,null,121,{"$f":"COUNTIF($L$7:$L$500,N9)","v":24},{"$f":"O9/$Q$4","v":0.23529411764705882},{"$f":"IF(P9=0,0,(P9*((LOG(P9))/LOG(2))))","v":-0.49116772735302094},null,null,{"$f":"N9","v":121},{"$f":"COUNTIF(L7:L23,T9)","v":4},{"$f":"U9/(W4-U8)","v":0.33333333333333331},{"$f":"IF(V9=0,0,(V9*((LOG(V9))/LOG(2))))","v":-0.52832083357371862},null,{"$f":"N9","v":121},{"$f":"COUNTIF(L24:L40,Y9)","v":6},{"$f":"Z9/(AB4-Z8)","v":0.6},{"$f":"IF(AA9=0,0,(AA9*((LOG(AA9))/LOG(2))))","v":-0.44217935649972373},null,{"$f":"N9","v":121},{"$f":"COUNTIF(L41:L57,AD9)","v":4},{"$f":"AE9/(AG4-AE8)","v":0.4},{"$f":"IF(AF9=0,0,(AF9*((LOG(AF9))/LOG(2))))","v":-0.52877123795494496},null,{"$f":"N9","v":121},{"$f":"COUNTIF(L58:L74,AI9)","v":3},{"$f":"AJ9/(AL4-AJ8)","v":0.27272727272727271},{"$f":"IF(AK9=0,0,(AK9*((LOG(AK9))/LOG(2))))","v":-0.51121885034076575},null,{"$f":"N9","v":121},{"$f":"COUNTIF(L75:L91,AN9)","v":2},{"$f":"AO9/(AQ4-AO8)","v":0.22222222222222221},{"$f":"IF(AP9=0,0,(AP9*((LOG(AP9))/LOG(2))))","v":-0.48220555587606945},null,{"$f":"N9","v":121},{"$f":"COUNTIF(L92:L108,AS9)","v":5},{"$f":"AT9/(AV4-AT8)","v":0.5},{"$f":"IF(AU9=0,0,(AU9*((LOG(AU9))/LOG(2))))","v":-0.5}]
[11,335,22,347,14,458,null,null,null,null,0,121,null,122,{"$f":"COUNTIF($L$7:$L$500,N10)","v":24},{"$f":"O10/$Q$4","v":0.23529411764705882},{"$f":"IF(P10=0,0,(P10*((LOG(P10))/LOG(2))))","v":-0.49116772735302094},null,null,{"$f":"N10","v":122},{"$f":"COUNTIF(L7:L23,T10)","v":7},{"$f":"U10/(W4-U8)","v":0.58333333333333337},{"$f":"IF(V10=0,0,(V10*((LOG(V10))/LOG(2))))","v":-0.45360442088707198},null,{"$f":"N10","v":122},{"$f":"COUNTIF(L24:L40,Y10)","v":3},{"$f":"Z10/(AB4-Z8)","v":0.3},{"$f":"IF(AA10=0,0,(AA10*((LOG(AA10))/LOG(2))))","v":-0.52108967824986185},null,{"$f":"N10","v":122},{"$f":"COUNTIF(L41:L57,AD10)","v":5},{"$f":"AE10/(AG4-AE8)","v":0.5},{"$f":"IF(AF10=0,0,(AF10*((LOG(AF10))/LOG(2))))","v":-0.5},null,{"$f":"N10","v":122},{"$f":"COUNTIF(L58:L74,AI10)","v":3},{"$f":"AJ10/(AL4-AJ8)","v":0.27272727272727271},{"$f":"IF(AK10=0,0,(AK10*((LOG(AK10))/LOG(2))))","v":-0.51121885034076575},null,{"$f":"N10","v":122},{"$f":"COUNTIF(L75:L91,AN10)","v":3},{"$f":"AO10/(AQ4-AO8)","v":0.33333333333333331},{"$f":"IF(AP10=0,0,(AP10*((LOG(AP10))/LOG(2))))","v":-0.52832083357371862},null,{"$f":"N10","v":122},{"$f":"COUNTIF(L92:L108,AS10)","v":3},{"$f":"AT10/(AV4-AT8)","v":0.3},{"$f":"IF(AU10=0,0,(AU10*((LOG(AU10))/LOG(2))))","v":-0.52108967824986185}]
[11,550,22,570,23,579,null,null,null,null,0,122,null,211,{"$f":"COUNTIF($L$7:$L$500,N11)","v":0},{"$f":"O11/$Q$4","v":0},{"$f":"IF(P11=0,0,(P11*((LOG(P11))/LOG(2))))","v":0},null,null,{"$f":"N11","v":211},{"$f":"COUNTIF(L7:L23,T11)","v":0},{"$f":"U11/(W4-U8)","v":0},{"$f":"IF(V11=0,0,(V11*((LOG(V11))/LOG(2))))","v":0},null,{"$f":"N11","v":211},{"$f":"COUNTIF(L24:L40,Y11)","v":0},{"$f":"Z11/(AB4-Z8)","v":0},{"$f":"IF(AA11=0,0,(AA11*((LOG(AA11))/LOG(2))))","v":0},null,{"$f":"N11","v":211},{"$f":"COUNTIF(L41:L57,AD11)","v":0},{"$f":"AE11/(AG4-AE8)","v":0},{"$f":"IF(AF11=0,0,(AF11*((LOG(AF11))/LOG(2))))","v":0},null,{"$f":"N11","v":211},{"$f":"COUNTIF(L58:L74,AI11)","v":0},{"$f":"AJ11/(AL4-AJ8)","v":0},{"$f":"IF(AK11=0,0,(AK11*((LOG(AK11))/LOG(2))))","v":0},null,{"$f":"N11","v":211},{"$f":"COUNTIF(L75:L91,AN11)","v":0},{"$f":"AO11/(AQ4-AO8)","v":0},{"$f":"IF(AP11=0,0,(AP11*((LOG(AP11))/LOG(2))))","v":0},null,{"$f":"N11","v":211},{"$f":"COUNTIF(L92:L108,AS11)","v":0},{"$f":"AT11/(AV4-AT8)","v":0},{"$f":"IF(AU11=0,0,(AU11*((LOG(AU11))/LOG(2))))","v":0}]
[11,771,22,785,23,792,null,null,null,null,0,122,null,212,{"$f":"COUNTIF($L$7:$L$500,N12)","v":2},{"$f":"O12/$Q$4","v":1.9607843137254902E-2},{"$f":"IF(P12=0,0,(P12*((LOG(P12))/LOG(2))))","v":-0.11122402631316657},null,null,{"$f":"N12","v":212},{"$f":"COUNTIF(L7:L23,T12)","v":1},{"$f":"U12/(W4-U8)","v":8.3333333333333329E-2},{"$f":"IF(V12=0,0,(V12*((LOG(V12))/LOG(2))))","v":-0.29874687506009634},null,{"$f":"N12","v":212},{"$f":"COUNTIF(L24:L40,Y12)","v":0},{"$f":"Z12/(AB4-Z8)","v":0},{"$f":"IF(AA12=0,0,(AA12*((LOG(AA12))/LOG(2))))","v":0},null,{"$f":"N12","v":212},{"$f":"COUNTIF(L41:L57,AD12)","v":0},{"$f":"AE12/(AG4-AE8)","v":0},{"$f":"IF(AF12=0,0,(AF12*((LOG(AF12))/LOG(2))))","v":0},null,{"$f":"N12","v":212},{"$f":"COUNTIF(L58:L74,AI12)","v":0},{"$f":"AJ12/(AL4-AJ8)","v":0},{"$f":"IF(AK12=0,0,(AK12*((LOG(AK12))/LOG(2))))","v":0},null,{"$f":"N12","v":212},{"$f":"COUNTIF(L75:L91,AN12)","v":1},{"$f":"AO12/(AQ4-AO8)","v":0.1111111111111111},{"$f":"IF(AP12=0,0,(AP12*((LOG(AP12))/LOG(2))))","v":-0.3522138890491458},null,{"$f":"N12","v":212},{"$f":"COUNTIF(L92:L108,AS12)","v":0},{"$f":"AT12/(AV4-AT8)","v":0},{"$f":"IF(AU12=0,0,(AU12*((LOG(AU12))/LOG(2))))","v":0}]
[11,888,22,904,14,985,null,null,null,null,0,121,null,221,{"$f":"COUNTIF($L$7:$L$500,N13)","v":0},{"$f":"O13/$Q$4","v":0},{"$f":"IF(P13=0,0,(P13*((LOG(P13))/LOG(2))))","v":0},null,null,{"$f":"N13","v":221},{"$f":"COUNTIF(L7:L23,T13)","v":0},{"$f":"U13/(W4-U8)","v":0},{"$f":"IF(V13=0,0,(V13*((LOG(V13))/LOG(2))))","v":0},null,{"$f":"N13","v":221},{"$f":"COUNTIF(L24:L40,Y13)","v":0},{"$f":"Z13/(AB4-Z8)","v":0},{"$f":"IF(AA13=0,0,(AA13*((LOG(AA13))/LOG(2))))","v":0},null,{"$f":"N13","v":221},{"$f":"COUNTIF(L41:L57,AD13)","v":0},{"$f":"AE13/(AG4-AE8)","v":0},{"$f":"IF(AF13=0,0,(AF13*((LOG(AF13))/LOG(2))))","v":0},null,{"$f":"N13","v":221},{"$f":"COUNTIF(L58:L74,AI13)","v":0},{"$f":"AJ13/(AL4-AJ8)","v":0},{"$f":"IF(AK13=0,0,(AK13*((LOG(AK13))/LOG(2))))","v":0},null,{"$f":"N13","v":221},{"$f":"COUNTIF(L75:L91,AN13)","v":0},{"$f":"AO13/(AQ4-AO8)","v":0},{"$f":"IF(AP13=0,0,(AP13*((LOG(AP13))/LOG(2))))","v":0},null,{"$f":"N13","v":221},{"$f":"COUNTIF(L92:L108,AS13)","v":0},{"$f":"AT13/(AV4-AT8)","v":0},{"$f":"IF(AU13=0,0,(AU13*((LOG(AU13))/LOG(2))))","v":0}]
[11,1080,22,1095,23,1181,null,null,null,null,0,122,null,222,{"$f":"COUNTIF($L$7:$L$500,N14)","v":4},{"$f":"O14/$Q$4","v":3.9215686274509803E-2},{"$f":"IF(P14=0,0,(P14*((LOG(P14))/LOG(2))))","v":-0.18323236635182338},null,null,{"$f":"N14","v":222},{"$f":"COUNTIF(L7:L23,T14)","v":0},{"$f":"U14/(W4-U8)","v":0},{"$f":"IF(V14=0,0,(V14*((LOG(V14))/LOG(2))))","v":0},null,{"$f":"N14","v":222},{"$f":"COUNTIF(L24:L40,Y14)","v":0},{"$f":"Z14/(AB4-Z8)","v":0},{"$f":"IF(AA14=0,0,(AA14*((LOG(AA14))/LOG(2))))","v":0},null,{"$f":"N14","v":222},{"$f":"COUNTIF(L41:L57,AD14)","v":1},{"$f":"AE14/(AG4-AE8)","v":0.1},{"$f":"IF(AF14=0,0,(AF14*((LOG(AF14))/LOG(2))))","v":-0.33219280948873625},null,{"$f":"N14","v":222},{"$f":"COUNTIF(L58:L74,AI14)","v":2},{"$f":"AJ14/(AL4-AJ8)","v":0.18181818181818182},{"$f":"IF(AK14=0,0,(AK14*((LOG(AK14))/LOG(2))))","v":-0.44716938520678134},null,{"$f":"N14","v":222},{"$f":"COUNTIF(L75:L91,AN14)","v":0},{"$f":"AO14/(AQ4-AO8)","v":0},{"$f":"IF(AP14=0,0,(AP14*((LOG(AP14))/LOG(2))))","v":0},null,{"$f":"N14","v":222},{"$f":"COUNTIF(L92:L108,AS14)","v":1},{"$f":"AT14/(AV4-AT8)","v":0.1},{"$f":"IF(AU14=0,0,(AU14*((LOG(AU14))/LOG(2))))","v":-0.33219280948873625}]
[11,1276,11,1279,21,1292,null,null,null,null,0,112,null,null,null,{"$f":"SUM(P7:P14)","v":1},{"$f":"-SUM(Q7:Q14)","v":2.0944319710880643},null,null,null,null,{"$f":"SUM(V7:V14)","v":1},{"$f":"-SUM(W7:W14)","v":1.2806721295208869},null,null,null,{"$f":"SUM(AA7:AA14)","v":1},{"$f":"-SUM(AB7:AB14)","v":1.2954618442383219},null,null,null,{"$f":"SUM(AF7:AF14)","v":1},{"$f":"-SUM(AG7:AG14)","v":1.3609640474436813},null,null,null,{"$f":"SUM(AK7:AK14)","v":1},{"$f":"-SUM(AL7:AL14)","v":1.9808259362290785},null,null,null,{"$f":"SUM(AP7:AP14)","v":1},{"$f":"-SUM(AQ7:AQ14)","v":1.8910611120726524},null,null,null,{"$f":"SUM(AU7:AU14)","v":0.99999999999999989},{"$f":"-SUM(AV7:AV14)","v":1.6854752972273344}]
[11,1387,11,1392,21,1412,null,null,null,null,0,112,null,null,null,"U=",{"$f":"Q15/(LOG(Q4)/LOG(2))","v":0.31389365391823543},null,null,null,null,"U1=",{"$f":"W15/(LOG(W4)/LOG(2))","v":0.31331713076298801},null,null,null,"U2=",{"$f":"AB15/(LOG(AB4)/LOG(2))","v":0.31693544248638239},null,null,null,"U3=",{"$f":"AG15/(LOG(AG4)/LOG(2))","v":0.33296059201051176},null,null,null,"U4=",{"$f":"AL15/(LOG(AL4)/LOG(2))","v":0.48461013914028672},null,null,null,"U5=",{"$f":"AQ15/(LOG(AQ4)/LOG(2))","v":0.46264912624726984},null,null,null,"U6=",{"$f":"AV15/(LOG(AV4)/LOG(2))","v":0.41235244519354552}]
[11,1619,11,1622,21,1636,null,null,null,null,0,112]
[11,1822,22,1834,14,1961,null,null,null,null,0,121]
[11,2056,11,2061,21,2074,null,null,null,null,0,112,null,"Total Target Seq"]
[11,2176,22,2195,14,2476,null,null,null,null,0,121,null,{"$f":"COUNTIF(L7:L108,G3)","v":40},null,17,17,17,17,17,17]
[11,2570,22,2582,23,2677,null,null,null,null,0,122,null,null,null,"% of reinforcement given in 6 equal intervals based on number of trials "]
[11,2771,22,2786,23,2794,null,null,null,null,0,122,null,null,null,"%_1","%_2","%_3","%_4","%_5","%_6"]
[11,2891,22,2902,23,2914,null,null,null,null,0,122,null,null,"target sequence",{"$f":"$G$3","v":112},{"$f":"$G$3","v":112},{"$f":"$G$3","v":112},{"$f":"$G$3","v":112},{"$f":"$G$3","v":112},{"$f":"$G$3","v":112}]
[11,3034,11,3039,21,3049,null,null,null,null,0,112,null,null,"total reinforcement",{"$f":"U8","v":5},{"$f":"Z8","v":7},{"$f":"AE8","v":7},{"$f":"AJ8","v":6},{"$f":"AO8","v":8},{"$f":"AT8","v":7}]
[11,3142,22,3154,14,3269,null,null,null,null,0,121,null,null,"% target"]
[11,3363,22,3379,23,3389,null,null,null,null,0,122,null,null,"CCRF"]
[11,3490,22,3498,23,3504,null,null,null,null,0,122,null,null,"% CCRf"]
[11,3647,11,3653,21,3664,null,null,null,null,0,112,null,null,"average response rate",{"$f":"F23/P20","v":171.41176470588235},{"$f":"(F40-F23)/Q20","v":158.8235294117647},{"$f":"(F57-F40)/R20","v":156.52941176470588},{"$f":"(F74-F57)/S20","v":127.23529411764706},{"$f":"(F91-F74)/T20","v":133.1764705882353},{"$f":"(F108-F91)/U20","v":140.88235294117646}]
[11,3754,11,3760,21,3770,null,null,null,null,0,112]
[11,3864,22,3877,14,3999,null,null,null,null,0,121]
[11,4094,22,4107,14,4223,null,null,null,null,0,121]
[11,4322,22,4341,14,4456,null,null,null,null,0,121]
[11,4548,11,4552,21,4567,null,null,null,null,0,112]
[11,4660,22,4671,14,4815,null,null,null,null,0,121]
[11,4910,11,4918,21,4929,null,null,null,null,0,112]
[11,5023,11,5027,12,5033,null,null,null,null,0,111]
[11,5128,11,5133,21,5144,null,null,null,null,0,112]
[11,5238,22,5257,23,5277,null,null,null,null,0,122]
[11,5370,22,5392,14,5505,null,null,null,null,0,121]
[11,5600,11,5603,21,5614,null,null,null,null,0,112]
[11,5745,22,5769,23,5871,null,null,null,null,0,122]
[11,5966,11,5973,21,5988,null,null,null,null,0,112]
[11,6078,11,6081,21,6094,null,null,null,null,0,112]
[11,6190,11,6196,21,6213,null,null,null,null,0,112]
[11,6306,22,6328,14,6503,null,null,null,null,0,121]
[11,6601,22,6615,23,6624,null,null,null,null,0,122]
[11,6738,11,6746,21,6755,null,null,null,null,0,112]
[11,6850,11,6855,21,6870,null,null,null,null,0,112]
[11,6967,11,6973,21,6987,null,null,null,null,0,112]
[11,7107,11,7111,21,7133,null,null,null,null,0,112]
[11,7230,22,7253,23,7270,null,null,null,null,0,122]
[11,7370,22,7379,14,7453,null,null,null,null,0,121]
[11,7552,22,7562,14,7660,null,null,null,null,0,121]
[11,7754,22,7769,14,7846,null,null,null,null,0,121]
[22,7945,24,7957,23,7981,null,null,null,null,0,222]
[11,8079,22,8101,23,8141,null,null,null,null,0,122]
[11,8251,22,8264,23,8275,null,null,null,null,0,122]
[11,8367,11,8369,21,8382,null,null,null,null,0,112]
[11,8469,11,8471,12,8487,null,null,null,null,0,111]
[11,8582,11,8588,21,8598,null,null,null,null,0,112]
[11,8693,11,8696,12,8703,null,null,null,null,0,111]
[11,8798,11,8802,21,8812,null,null,null,null,0,112]
[11,8902,11,8915,21,8925,null,null,null,null,0,112]
[11,9022,22,9047,14,9118,null,null,null,null,0,121]
[11,9212,11,9217,21,9229,null,null,null,null,0,112]
[11,9321,22,9339,14,9477,null,null,null,null,0,121]
[22,9575,24,9580,23,9585,null,null,null,null,0,222]
[22,9683,24,9688,23,9692,null,null,null,null,0,222]
[11,9786,22,9796,23,9806,null,null,null,null,0,122]
[11,9901,11,9907,21,9917,null,null,null,null,0,112]
[11,10013,11,10017,12,10022,null,null,null,null,0,111]
[11,10124,22,10137,23,10144,null,null,null,null,0,122]
[11,10239,22,10254,14,10322,null,null,null,null,0,121]
[11,10417,22,10433,23,10438,null,null,null,null,0,122]
[11,10586,11,10592,21,10605,null,null,null,null,0,112]
[22,10714,13,10807,23,10827,null,null,null,null,0,212]
[11,10983,22,10999,14,11023,null,null,null,null,0,121]
[11,11117,11,11121,21,11136,null,null,null,null,0,112]
[11,11223,11,11226,21,11237,null,null,null,null,0,112]
[11,11331,22,11355,23,11372,null,null,null,null,0,122]
[11,11466,11,11473,12,11482,null,null,null,null,0,111]
[11,11596,11,11605,21,11617,null,null,null,null,0,112]
[11,11709,11,11712,12,11718,null,null,null,null,0,111]
[11,11816,11,11822,21,11837,null,null,null,null,0,112]
[11,11924,11,11928,12,11933,null,null,null,null,0,111]
[11,12028,11,12032,21,12043,null,null,null,null,0,112]
[11,12135,22,12153,23,12164,null,null,null,null,0,122]
[11,12259,22,12278,14,12350,null,null,null,null,0,121]
[11,12458,22,12468,23,12474,null,null,null,null,0,122]
[11,12567,11,12574,21,12585,null,null,null,null,0,112]
[11,12682,11,12688,21,12702,null,null,null,null,0,112]
[11,12796,22,12823,14,12902,null,null,null,null,0,121]
[11,12998,22,13017,14,13119,null,null,null,null,0,121]
[11,13213,11,13227,21,13240,null,null,null,null,0,112]
[11,13352,11,13358,21,13373,null,null,null,null,0,112]
[11,13480,11,13486,21,13504,null,null,null,null,0,112]
[11,13601,22,13622,14,13719,null,null,null,null,0,121]
[11,13814,22,13837,14,13862,null,null,null,null,0,121]
[11,13957,11,13962,12,13967,null,null,null,null,0,111]
[11,14066,22,14077,23,14085,null,null,null,null,0,122]
[11,14195,11,14204,21,14217,null,null,null,null,0,112]
[11,14306,22,14330,23,14345,null,null,null,null,0,122]
[11,14440,11,14444,21,14457,null,null,null,null,0,112]
[11,14548,22,14565,14,14634,null,null,null,null,0,121]
[22,14733,24,14754,23,14762,null,null,null,null,0,222]
[11,14857,22,14870,23,14883,null,null,null,null,0,122]
[11,14977,11,14980,21,14990,null,null,null,null,0,112]
[11,15081,11,15088,21,15097,null,null,null,null,1,112]

{"sheet":"!MC05C1I.sha","index":30,"n_rows":28,"n_cols":48,"rows_kept":28,"cut":false,"hidden":false,"merged":[[4,39,4,42],[5,39,5,40],[4,44,4,47],[5,44,5,45],[4,24,4,27],[5,24,5,25],[4,29,4,32],[5,29,5,30],[4,34,4,37],[5,34,5,35],[1,1,1,2],[5,13,5,14],[18,13,18,14],[19,13,19,14],[4,19,4,22],[5,19,5,20]]}
["Report for:!MC05C1I.sha"]
["Date:","<date>"]
["Hen:","<hen>",null,null,null,"Correct Sequence",{"$f":"Start!J2","v":112},null,null,null,null,null,null,null,null,"Total Sequences in Data",{"$f":"4994-COUNTBLANK(L7:L5000)","v":0},null,null,null,null,"Total Sequences in Block Data",{"$f":"COUNTA(L6:L7)","v":1},null,null,null,"Total Sequences in Block Data",{"$f":"COUNTA(L6:L7)","v":1},null,null,null,"Total Sequences in Block Data",{"$f":"COUNTA(L6:L7)","v":1},null,null,null,"Total Sequences in Block Data",{"$f":"COUNTA(L6:L7)","v":1},null,null,null,"Total Sequences in Block Data",{"$f":"COUNTA(L6:L7)","v":1},null,null,null,"Total Sequences in Block Data",{"$f":"COUNTA(L6:L7)","v":1}]
[null,null,null,null,null,null,null,null,null,null,null,null,null,null,null,"Total Sequences in Summary",{"$f":"SUM(O7:O14)","v":0},null,null,null,null,"Total Sequences in Block Summary",{"$f":"SUM(U7:U14)","v":0},null,null,null,"Total Sequences in Block Summary",{"$f":"SUM(Z7:Z14)","v":0},null,null,null,"Total Sequences in Block Summary",{"$f":"SUM(AE7:AE14)","v":0},null,null,null,"Total Sequences in Block Summary",{"$f":"SUM(AJ7:AJ14)","v":0},null,null,null,"Total Sequences in Block Summary",{"$f":"SUM(AO7:AO14)","v":0},null,null,null,"Total Sequences in Block Summary",{"$f":"SUM(AT7:AT14)","v":0}]
[null,null,null,null,null,null,null,null,null,null,null,null,null,null,null,null,null,null,null,"Block 1",null,null,null,null,"Block 2",null,null,null,null,"Block 3",null,null,null,null,"Block 4",null,null,null,null,"Block 5",null,null,null,null,"Block 6"]
["Sequence\nComponent\n1","Time\n1","Sequence\nComponent\n2","Time\n2","Sequence\nComponent\n3","Time\n3","Sequence\nComponent\n4","Time\n4","Sequence\nComponent\n5","Time\n5","Correct?\n0=No 1=Yes","Sequence",null,"Frequency",null,"Relative Frequency","Variability",null,null,"Frequency",null,"Relative Frequency","Variability",null,"Frequency",null,"Relative Frequency","Variability",null,"Frequency",null,"Relative Frequency","Variability",null,"Frequency",null,"Relative Frequency","Variability",null,"Frequency",null,"Relative Frequency","Variability",null,"Frequency",null,"Relative Frequency","Variability"]
[null,null,null,null,null,null,null,null,null,null,null,null,null,111,{"$f":"COUNTIF($L$7:$L$500,N7)","v":0},{"$f":"O7/$Q$4","v":{"$error":"#DIV/0!"}},{"$f":"IF(P7=0,0,(P7*((LOG(P7))/LOG(2))))","v":{"$error":"#DIV/0!"}},null,null,{"$f":"N7","v":111},{"$f":"COUNTIF(L6:L7,T7)","v":0},{"$f":"U7/(W4-U8)","v":{"$error":"#DIV/0!"}},{"$f":"IF(V7=0,0,(V7*((LOG(V7))/LOG(2))))","v":{"$error":"#DIV/0!"}},null,{"$f":"N7","v":111},{"$f":"COUNTIF(L6:L7,Y7)","v":0},{"$f":"Z7/(AB4-Z8)","v":{"$error":"#DIV/0!"}},{"$f":"IF(AA7=0,0,(AA7*((LOG(AA7))/LOG(2))))","v":{"$error":"#DIV/0!"}},null,{"$f":"N7","v":111},{"$f":"COUNTIF(L6:L7,AD7)","v":0},{"$f":"AE7/(AG4-AE8)","v":{"$error":"#DIV/0!"}},{"$f":"IF(AF7=0,0,(AF7*((LOG(AF7))/LOG(2))))","v":{"$error":"#DIV/0!"}},null,{"$f":"N7","v":111},{"$f":"COUNTIF(L6:L7,AI7)","v":0},{"$f":"AJ7/(AL4-AJ8)","v":{"$error":"#DIV/0!"}},{"$f":"IF(AK7=0,0,(AK7*((LOG(AK7))/LOG(2))))","v":{"$error":"#DIV/0!"}},null,{"$f":"N7","v":111},{"$f":"COUNTIF(L6:L7,AN7)","v":0},{"$f":"AO7/(AQ4-AO8)","v":{"$error":"#DIV/0!"}},{"$f":"IF(AP7=0,0,(AP7*((LOG(AP7))/LOG(2))))","v":{"$error":"#DIV/0!"}},null,{"$f":"N7","v":111},{"$f":"COUNTIF(L6:L7,AS7)","v":0},{"$f":"AT7/(AV4-AT8)","v":{"$error":"#DIV/0!"}},{"$f":"IF(AU7=0,0,(AU7*((LOG(AU7))/LOG(2))))","v":{"$error":"#DIV/0!"}}]
[null,null,null,null,null,null,null,null,null,null,null,null,null,112,{"$f":"COUNTIF($L$7:$L$500,N8)","v":0},{"$f":"O8/$Q$4","v":{"$error":"#DIV/0!"}},{"$f":"IF(P8=0,0,(P8*((LOG(P8))/LOG(2))))","v":{"$error":"#DIV/0!"}},null,null,{"$f":"N8","v":112},{"$f":"COUNTIF(L6:L7,T8)","v":0},null,null,null,{"$f":"N8","v":112},{"$f":"COUNTIF(L6:L7,Y8)","v":0},null,null,null,{"$f":"N8","v":112},{"$f":"COUNTIF(L6:L7,AD8)","v":0},null,null,null,{"$f":"N8","v":112},{"$f":"COUNTIF(L6:L7,AI8)","v":0},null,null,null,{"$f":"N8","v":112},{"$f":"COUNTIF(L6:L7,AN8)","v":0},null,null,null,{"$f":"N8","v":112},{"$f":"COUNTIF(L6:L7,AS8)","v":0}]
[null,null,null,null,null,null,null,null,null,null,null,null,null,121,{"$f":"COUNTIF($L$7:$L$500,N9)","v":0},{"$f":"O9/$Q$4","v":{"$error":"#DIV/0!"}},{"$f":"IF(P9=0,0,(P9*((LOG(P9))/LOG(2))))","v":{"$error":"#DIV/0!"}},null,null,{"$f":"N9","v":121},{"$f":"COUNTIF(L6:L7,T9)","v":0},{"$f":"U9/(W4-U8)","v":{"$error":"#DIV/0!"}},{"$f":"IF(V9=0,0,(V9*((LOG(V9))/LOG(2))))","v":{"$error":"#DIV/0!"}},null,{"$f":"N9","v":121},{"$f":"COUNTIF(L6:L7,Y9)","v":0},{"$f":"Z9/(AB4-Z8)","v":{"$error":"#DIV/0!"}},{"$f":"IF(AA9=0,0,(AA9*((LOG(AA9))/LOG(2))))","v":{"$error":"#DIV/0!"}},null,{"$f":"N9","v":121},{"$f":"COUNTIF(L6:L7,AD9)","v":0},{"$f":"AE9/(AG4-AE8)","v":{"$error":"#DIV/0!"}},{"$f":"IF(AF9=0,0,(AF9*((LOG(AF9))/LOG(2))))","v":{"$error":"#DIV/0!"}},null,{"$f":"N9","v":121},{"$f":"COUNTIF(L6:L7,AI9)","v":0},{"$f":"AJ9/(AL4-AJ8)","v":{"$error":"#DIV/0!"}},{"$f":"IF(AK9=0,0,(AK9*((LOG(AK9))/LOG(2))))","v":{"$error":"#DIV/0!"}},null,{"$f":"N9","v":121},{"$f":"COUNTIF(L6:L7,AN9)","v":0},{"$f":"AO9/(AQ4-AO8)","v":{"$error":"#DIV/0!"}},{"$f":"IF(AP9=0,0,(AP9*((LOG(AP9))/LOG(2))))","v":{"$error":"#DIV/0!"}},null,{"$f":"N9","v":121},{"$f":"COUNTIF(L6:L7,AS9)","v":0},{"$f":"AT9/(AV4-AT8)","v":{"$error":"#DIV/0!"}},{"$f":"IF(AU9=0,0,(AU9*((LOG(AU9))/LOG(2))))","v":{"$error":"#DIV/0!"}}]
[null,null,null,null,null,null,null,null,null,null,null,null,null,122,{"$f":"COUNTIF($L$7:$L$500,N10)","v":0},{"$f":"O10/$Q$4","v":{"$error":"#DIV/0!"}},{"$f":"IF(P10=0,0,(P10*((LOG(P10))/LOG(2))))","v":{"$error":"#DIV/0!"}},null,null,{"$f":"N10","v":122},{"$f":"COUNTIF(L6:L7,T10)","v":0},{"$f":"U10/(W4-U8)","v":{"$error":"#DIV/0!"}},{"$f":"IF(V10=0,0,(V10*((LOG(V10))/LOG(2))))","v":{"$error":"#DIV/0!"}},null,{"$f":"N10","v":122},{"$f":"COUNTIF(L6:L7,Y10)","v":0},{"$f":"Z10/(AB4-Z8)","v":{"$error":"#DIV/0!"}},{"$f":"IF(AA10=0,0,(AA10*((LOG(AA10))/LOG(2))))","v":{"$error":"#DIV/0!"}},null,{"$f":"N10","v":122},{"$f":"COUNTIF(L6:L7,AD10)","v":0},{"$f":"AE10/(AG4-AE8)","v":{"$error":"#DIV/0!"}},{"$f":"IF(AF10=0,0,(AF10*((LOG(AF10))/LOG(2))))","v":{"$error":"#DIV/0!"}},null,{"$f":"N10","v":122},{"$f":"COUNTIF(L6:L7,AI10)","v":0},{"$f":"AJ10/(AL4-AJ8)","v":{"$error":"#DIV/0!"}},{"$f":"IF(AK10=0,0,(AK10*((LOG(AK10))/LOG(2))))","v":{"$error":"#DIV/0!"}},null,{"$f":"N10","v":122},{"$f":"COUNTIF(L6:L7,AN10)","v":0},{"$f":"AO10/(AQ4-AO8)","v":{"$error":"#DIV/0!"}},{"$f":"IF(AP10=0,0,(AP10*((LOG(AP10))/LOG(2))))","v":{"$error":"#DIV/0!"}},null,{"$f":"N10","v":122},{"$f":"COUNTIF(L6:L7,AS10)","v":0},{"$f":"AT10/(AV4-AT8)","v":{"$error":"#DIV/0!"}},{"$f":"IF(AU10=0,0,(AU10*((LOG(AU10))/LOG(2))))","v":{"$error":"#DIV/0!"}}]
[null,null,null,null,null,null,null,null,null,null,null,null,null,211,{"$f":"COUNTIF($L$7:$L$500,N11)","v":0},{"$f":"O11/$Q$4","v":{"$error":"#DIV/0!"}},{"$f":"IF(P11=0,0,(P11*((LOG(P11))/LOG(2))))","v":{"$error":"#DIV/0!"}},null,null,{"$f":"N11","v":211},{"$f":"COUNTIF(L6:L7,T11)","v":0},{"$f":"U11/(W4-U8)","v":{"$error":"#DIV/0!"}},{"$f":"IF(V11=0,0,(V11*((LOG(V11))/LOG(2))))","v":{"$error":"#DIV/0!"}},null,{"$f":"N11","v":211},{"$f":"COUNTIF(L6:L7,Y11)","v":0},{"$f":"Z11/(AB4-Z8)","v":{"$error":"#DIV/0!"}},{"$f":"IF(AA11=0,0,(AA11*((LOG(AA11))/LOG(2))))","v":{"$error":"#DIV/0!"}},null,{"$f":"N11","v":211},{"$f":"COUNTIF(L6:L7,AD11)","v":0},{"$f":"AE11/(AG4-AE8)","v":{"$error":"#DIV/0!"}},{"$f":"IF(AF11=0,0,(AF11*((LOG(AF11))/LOG(2))))","v":{"$error":"#DIV/0!"}},null,{"$f":"N11","v":211},{"$f":"COUNTIF(L6:L7,AI11)","v":0},{"$f":"AJ11/(AL4-AJ8)","v":{"$error":"#DIV/0!"}},{"$f":"IF(AK11=0,0,(AK11*((LOG(AK11))/LOG(2))))","v":{"$error":"#DIV/0!"}},null,{"$f":"N11","v":211},{"$f":"COUNTIF(L6:L7,AN11)","v":0},{"$f":"AO11/(AQ4-AO8)","v":{"$error":"#DIV/0!"}},{"$f":"IF(AP11=0,0,(AP11*((LOG(AP11))/LOG(2))))","v":{"$error":"#DIV/0!"}},null,{"$f":"N11","v":211},{"$f":"COUNTIF(L6:L7,AS11)","v":0},{"$f":"AT11/(AV4-AT8)","v":{"$error":"#DIV/0!"}},{"$f":"IF(AU11=0,0,(AU11*((LOG(AU11))/LOG(2))))","v":{"$error":"#DIV/0!"}}]
[null,null,null,null,null,null,null,null,null,null,null,null,null,212,{"$f":"COUNTIF($L$7:$L$500,N12)","v":0},{"$f":"O12/$Q$4","v":{"$error":"#DIV/0!"}},{"$f":"IF(P12=0,0,(P12*((LOG(P12))/LOG(2))))","v":{"$error":"#DIV/0!"}},null,null,{"$f":"N12","v":212},{"$f":"COUNTIF(L6:L7,T12)","v":0},{"$f":"U12/(W4-U8)","v":{"$error":"#DIV/0!"}},{"$f":"IF(V12=0,0,(V12*((LOG(V12))/LOG(2))))","v":{"$error":"#DIV/0!"}},null,{"$f":"N12","v":212},{"$f":"COUNTIF(L6:L7,Y12)","v":0},{"$f":"Z12/(AB4-Z8)","v":{"$error":"#DIV/0!"}},{"$f":"IF(AA12=0,0,(AA12*((LOG(AA12))/LOG(2))))","v":{"$error":"#DIV/0!"}},null,{"$f":"N12","v":212},{"$f":"COUNTIF(L6:L7,AD12)","v":0},{"$f":"AE12/(AG4-AE8)","v":{"$error":"#DIV/0!"}},{"$f":"IF(AF12=0,0,(AF12*((LOG(AF12))/LOG(2))))","v":{"$error":"#DIV/0!"}},null,{"$f":"N12","v":212},{"$f":"COUNTIF(L6:L7,AI12)","v":0},{"$f":"AJ12/(AL4-AJ8)","v":{"$error":"#DIV/0!"}},{"$f":"IF(AK12=0,0,(AK12*((LOG(AK12))/LOG(2))))","v":{"$error":"#DIV/0!"}},null,{"$f":"N12","v":212},{"$f":"COUNTIF(L6:L7,AN12)","v":0},{"$f":"AO12/(AQ4-AO8)","v":{"$error":"#DIV/0!"}},{"$f":"IF(AP12=0,0,(AP12*((LOG(AP12))/LOG(2))))","v":{"$error":"#DIV/0!"}},null,{"$f":"N12","v":212},{"$f":"COUNTIF(L6:L7,AS12)","v":0},{"$f":"AT12/(AV4-AT8)","v":{"$error":"#DIV/0!"}},{"$f":"IF(AU12=0,0,(AU12*((LOG(AU12))/LOG(2))))","v":{"$error":"#DIV/0!"}}]
[null,null,null,null,null,null,null,null,null,null,null,null,null,221,{"$f":"COUNTIF($L$7:$L$500,N13)","v":0},{"$f":"O13/$Q$4","v":{"$error":"#DIV/0!"}},{"$f":"IF(P13=0,0,(P13*((LOG(P13))/LOG(2))))","v":{"$error":"#DIV/0!"}},null,null,{"$f":"N13","v":221},{"$f":"COUNTIF(L6:L7,T13)","v":0},{"$f":"U13/(W4-U8)","v":{"$error":"#DIV/0!"}},{"$f":"IF(V13=0,0,(V13*((LOG(V13))/LOG(2))))","v":{"$error":"#DIV/0!"}},null,{"$f":"N13","v":221},{"$f":"COUNTIF(L6:L7,Y13)","v":0},{"$f":"Z13/(AB4-Z8)","v":{"$error":"#DIV/0!"}},{"$f":"IF(AA13=0,0,(AA13*((LOG(AA13))/LOG(2))))","v":{"$error":"#DIV/0!"}},null,{"$f":"N13","v":221},{"$f":"COUNTIF(L6:L7,AD13)","v":0},{"$f":"AE13/(AG4-AE8)","v":{"$error":"#DIV/0!"}},{"$f":"IF(AF13=0,0,(AF13*((LOG(AF13))/LOG(2))))","v":{"$error":"#DIV/0!"}},null,{"$f":"N13","v":221},{"$f":"COUNTIF(L6:L7,AI13)","v":0},{"$f":"AJ13/(AL4-AJ8)","v":{"$error":"#DIV/0!"}},{"$f":"IF(AK13=0,0,(AK13*((LOG(AK13))/LOG(2))))","v":{"$error":"#DIV/0!"}},null,{"$f":"N13","v":221},{"$f":"COUNTIF(L6:L7,AN13)","v":0},{"$f":"AO13/(AQ4-AO8)","v":{"$error":"#DIV/0!"}},{"$f":"IF(AP13=0,0,(AP13*((LOG(AP13))/LOG(2))))","v":{"$error":"#DIV/0!"}},null,{"$f":"N13","v":221},{"$f":"COUNTIF(L6:L7,AS13)","v":0},{"$f":"AT13/(AV4-AT8)","v":{"$error":"#DIV/0!"}},{"$f":"IF(AU13=0,0,(AU13*((LOG(AU13))/LOG(2))))","v":{"$error":"#DIV/0!"}}]
[null,null,null,null,null,null,null,null,null,null,null,null,null,222,{"$f":"COUNTIF($L$7:$L$500,N14)","v":0},{"$f":"O14/$Q$4","v":{"$error":"#DIV/0!"}},{"$f":"IF(P14=0,0,(P14*((LOG(P14))/LOG(2))))","v":{"$error":"#DIV/0!"}},null,null,{"$f":"N14","v":222},{"$f":"COUNTIF(L6:L7,T14)","v":0},{"$f":"U14/(W4-U8)","v":{"$error":"#DIV/0!"}},{"$f":"IF(V14=0,0,(V14*((LOG(V14))/LOG(2))))","v":{"$error":"#DIV/0!"}},null,{"$f":"N14","v":222},{"$f":"COUNTIF(L6:L7,Y14)","v":0},{"$f":"Z14/(AB4-Z8)","v":{"$error":"#DIV/0!"}},{"$f":"IF(AA14=0,0,(AA14*((LOG(AA14))/LOG(2))))","v":{"$error":"#DIV/0!"}},null,{"$f":"N14","v":222},{"$f":"COUNTIF(L6:L7,AD14)","v":0},{"$f":"AE14/(AG4-AE8)","v":{"$error":"#DIV/0!"}},{"$f":"IF(AF14=0,0,(AF14*((LOG(AF14))/LOG(2))))","v":{"$error":"#DIV/0!"}},null,{"$f":"N14","v":222},{"$f":"COUNTIF(L6:L7,AI14)","v":0},{"$f":"AJ14/(AL4-AJ8)","v":{"$error":"#DIV/0!"}},{"$f":"IF(AK14=0,0,(AK14*((LOG(AK14))/LOG(2))))","v":{"$error":"#DIV/0!"}},null,{"$f":"N14","v":222},{"$f":"COUNTIF(L6:L7,AN14)","v":0},{"$f":"AO14/(AQ4-AO8)","v":{"$error":"#DIV/0!"}},{"$f":"IF(AP14=0,0,(AP14*((LOG(AP14))/LOG(2))))","v":{"$error":"#DIV/0!"}},null,{"$f":"N14","v":222},{"$f":"COUNTIF(L6:L7,AS14)","v":0},{"$f":"AT14/(AV4-AT8)","v":{"$error":"#DIV/0!"}},{"$f":"IF(AU14=0,0,(AU14*((LOG(AU14))/LOG(2))))","v":{"$error":"#DIV/0!"}}]
[null,null,null,null,null,null,null,null,null,null,null,null,null,null,null,{"$f":"SUM(P7:P14)","v":{"$error":"#DIV/0!"}},{"$f":"-SUM(Q7:Q14)","v":{"$error":"#DIV/0!"}},null,null,null,null,{"$f":"SUM(V7:V14)","v":{"$error":"#DIV/0!"}},{"$f":"-SUM(W7:W14)","v":{"$error":"#DIV/0!"}},null,null,null,{"$f":"SUM(AA7:AA14)","v":{"$error":"#DIV/0!"}},{"$f":"-SUM(AB7:AB14)","v":{"$error":"#DIV/0!"}},null,null,null,{"$f":"SUM(AF7:AF14)","v":{"$error":"#DIV/0!"}},{"$f":"-SUM(AG7:AG14)","v":{"$error":"#DIV/0!"}},null,null,null,{"$f":"SUM(AK7:AK14)","v":{"$error":"#DIV/0!"}},{"$f":"-SUM(AL7:AL14)","v":{"$error":"#DIV/0!"}},null,null,null,{"$f":"SUM(AP7:AP14)","v":{"$error":"#DIV/0!"}},{"$f":"-SUM(AQ7:AQ14)","v":{"$error":"#DIV/0!"}},null,null,null,{"$f":"SUM(AU7:AU14)","v":{"$error":"#DIV/0!"}},{"$f":"-SUM(AV7:AV14)","v":{"$error":"#DIV/0!"}}]
[null,null,null,null,null,null,null,null,null,null,null,null,null,null,null,"U=",{"$f":"Q15/(LOG(Q4)/LOG(2))","v":{"$error":"#DIV/0!"}},null,null,null,null,"U1=",{"$f":"W15/(LOG(W4)/LOG(2))","v":{"$error":"#DIV/0!"}},null,null,null,"U2=",{"$f":"AB15/(LOG(AB4)/LOG(2))","v":{"$error":"#DIV/0!"}},null,null,null,"U3=",{"$f":"AG15/(LOG(AG4)/LOG(2))","v":{"$error":"#DIV/0!"}},null,null,null,"U4=",{"$f":"AL15/(LOG(AL4)/LOG(2))","v":{"$error":"#DIV/0!"}},null,null,null,"U5=",{"$f":"AQ15/(LOG(AQ4)/LOG(2))","v":{"$error":"#DIV/0!"}},null,null,null,"U6=",{"$f":"AV15/(LOG(AV4)/LOG(2))","v":{"$error":"#DIV/0!"}}]
[]
[]
[null,null,null,null,null,null,null,null,null,null,null,null,null,"Total Target Seq"]
[null,null,null,null,null,null,null,null,null,null,null,null,null,{"$f":"COUNTIF(L6:L7,G3)","v":0},null,0,0,0,0,0,0]
[null,null,null,null,null,null,null,null,null,null,null,null,null,null,null,"% of reinforcement given in 6 equal intervals based on number of trials "]
[null,null,null,null,null,null,null,null,null,null,null,null,null,null,null,"%_1","%_2","%_3","%_4","%_5","%_6"]
[null,null,null,null,null,null,null,null,null,null,null,null,null,null,"target sequence",{"$f":"$G$3","v":112},{"$f":"$G$3","v":112},{"$f":"$G$3","v":112},{"$f":"$G$3","v":112},{"$f":"$G$3","v":112},{"$f":"$G$3","v":112}]
[null,null,null,null,null,null,null,null,null,null,null,null,null,null,"total reinforcement",{"$f":"U8","v":0},{"$f":"Z8","v":0},{"$f":"AE8","v":0},{"$f":"AJ8","v":0},{"$f":"AO8","v":0},{"$f":"AT8","v":0}]
[null,null,null,null,null,null,null,null,null,null,null,null,null,null,"% target"]
[null,null,null,null,null,null,null,null,null,null,null,null,null,null,"CCRF"]
[null,null,null,null,null,null,null,null,null,null,null,null,null,null,"% CCRf"]
[null,null,null,null,null,null,null,null,null,null,null,null,null,null,"average response rate",{"$f":"F6/P20","v":{"$error":"#VALUE!"}},{"$f":"(F6-F6)/Q20","v":{"$error":"#VALUE!"}},{"$f":"(F6-F6)/R20","v":{"$error":"#VALUE!"}},{"$f":"(F6-F6)/S20","v":{"$error":"#VALUE!"}},{"$f":"(F6-F6)/T20","v":{"$error":"#VALUE!"}},{"$f":"(F6-F6)/U20","v":{"$error":"#VALUE!"}}]

{"sheet":"!MC06A4I.sha","index":31,"n_rows":79,"n_cols":48,"rows_kept":79,"cut":false,"hidden":false,"merged":[[4,39,4,42],[5,39,5,40],[4,44,4,47],[5,44,5,45],[4,24,4,27],[5,24,5,25],[4,29,4,32],[5,29,5,30],[4,34,4,37],[5,34,5,35],[1,1,1,2],[5,13,5,14],[18,13,18,14],[19,13,19,14],[4,19,4,22],[5,19,5,20]]}
["Report for:!MC06A4I.sha"]
["Date:","<date>"]
["Hen:","<hen>",null,null,null,"Correct Sequence",{"$f":"Start!J2","v":112},null,null,null,null,null,null,null,null,"Total Sequences in Data",{"$f":"4994-COUNTBLANK(L7:L5000)","v":73},null,null,null,null,"Total Sequences in Block Data",{"$f":"COUNTA(L7:L18)","v":12},null,null,null,"Total Sequences in Block Data",{"$f":"COUNTA(L19:L30)","v":12},null,null,null,"Total Sequences in Block Data",{"$f":"COUNTA(L31:L43)","v":13},null,null,null,"Total Sequences in Block Data",{"$f":"COUNTA(L44:L55)","v":12},null,null,null,"Total Sequences in Block Data",{"$f":"COUNTA(L56:L67)","v":12},null,null,null,"Total Sequences in Block Data",{"$f":"COUNTA(L68:L79)","v":12}]
[null,null,null,null,null,null,null,null,null,null,null,null,null,null,null,"Total Sequences in Summary",{"$f":"SUM(O7:O14)","v":73},null,null,null,null,"Total Sequences in Block Summary",{"$f":"SUM(U7:U14)","v":12},null,null,null,"Total Sequences in Block Summary",{"$f":"SUM(Z7:Z14)","v":12},null,null,null,"Total Sequences in Block Summary",{"$f":"SUM(AE7:AE14)","v":13},null,null,null,"Total Sequences in Block Summary",{"$f":"SUM(AJ7:AJ14)","v":12},null,null,null,"Total Sequences in Block Summary",{"$f":"SUM(AO7:AO14)","v":12},null,null,null,"Total Sequences in Block Summary",{"$f":"SUM(AT7:AT14)","v":12}]
[null,null,null,null,null,null,null,null,null,null,null,null,null,null,null,null,null,null,null,"Block 1",null,null,null,null,"Block 2",null,null,null,null,"Block 3",null,null,null,null,"Block 4",null,null,null,null,"Block 5",null,null,null,null,"Block 6"]
["Sequence\nComponent\n1","Time\n1","Sequence\nComponent\n2","Time\n2","Sequence\nComponent\n3","Time\n3","Sequence\nComponent\n4","Time\n4","Sequence\nComponent\n5","Time\n5","Correct?\n0=No 1=Yes","Sequence",null,"Frequency",null,"Relative Frequency","Variability",null,null,"Frequency",null,"Relative Frequency","Variability",null,"Frequency",null,"Relative Frequency","Variability",null,"Frequency",null,"Relative Frequency","Variability",null,"Frequency",null,"Relative Frequency","Variability",null,"Frequency",null,"Relative Frequency","Variability",null,"Frequency",null,"Relative Frequency","Variability"]
[22,32,24,53,23,98,null,null,null,null,0,222,null,111,{"$f":"COUNTIF($L$7:$L$500,N7)","v":16},{"$f":"O7/$Q$4","v":0.21917808219178081},{"$f":"IF(P7=0,0,(P7*((LOG(P7))/LOG(2))))","v":-0.47996154715178457},null,null,{"$f":"N7","v":111},{"$f":"COUNTIF(L7:L18,T7)","v":2},{"$f":"U7/(W4-U8)","v":0.4},{"$f":"IF(V7=0,0,(V7*((LOG(V7))/LOG(2))))","v":-0.52877123795494496},null,{"$f":"N7","v":111},{"$f":"COUNTIF(L19:L30,Y7)","v":3},{"$f":"Z7/(AB4-Z8)","v":0.6},{"$f":"IF(AA7=0,0,(AA7*((LOG(AA7))/LOG(2))))","v":-0.44217935649972373},null,{"$f":"N7","v":111},{"$f":"COUNTIF(L31:L43,AD7)","v":5},{"$f":"AE7/(AG4-AE8)","v":0.7142857142857143},{"$f":"IF(AF7=0,0,(AF7*((LOG(AF7))/LOG(2))))","v":-0.34673344797874411},null,{"$f":"N7","v":111},{"$f":"COUNTIF(L44:L55,AI7)","v":4},{"$f":"AJ7/(AL4-AJ8)","v":0.8},{"$f":"IF(AK7=0,0,(AK7*((LOG(AK7))/LOG(2))))","v":-0.25754247590988982},null,{"$f":"N7","v":111},{"$f":"COUNTIF(L56:L67,AN7)","v":1},{"$f":"AO7/(AQ4-AO8)","v":0.5},{"$f":"IF(AP7=0,0,(AP7*((LOG(AP7))/LOG(2))))","v":-0.5},null,{"$f":"N7","v":111},{"$f":"COUNTIF(L68:L79,AS7)","v":1},{"$f":"AT7/(AV4-AT8)","v":0.1111111111111111},{"$f":"IF(AU7=0,0,(AU7*((LOG(AU7))/LOG(2))))","v":-0.3522138890491458}]
[11,193,11,197,21,209,null,null,null,null,0,112,null,112,{"$f":"COUNTIF($L$7:$L$500,N8)","v":40},{"$f":"O8/$Q$4","v":0.54794520547945202},{"$f":"IF(P8=0,0,(P8*((LOG(P8))/LOG(2))))","v":-0.47555970629734517},null,null,{"$f":"N8","v":112},{"$f":"COUNTIF(L7:L18,T8)","v":7},null,null,null,{"$f":"N8","v":112},{"$f":"COUNTIF(L19:L30,Y8)","v":7},null,null,null,{"$f":"N8","v":112},{"$f":"COUNTIF(L31:L43,AD8)","v":6},null,null,null,{"$f":"N8","v":112},{"$f":"COUNTIF(L44:L55,AI8)","v":7},null,null,null,{"$f":"N8","v":112},{"$f":"COUNTIF(L56:L67,AN8)","v":10},null,null,null,{"$f":"N8","v":112},{"$f":"COUNTIF(L68:L79,AS8)","v":3}]
[11,303,22,311,23,318,null,null,null,null,0,122,null,121,{"$f":"COUNTIF($L$7:$L$500,N9)","v":1},{"$f":"O9/$Q$4","v":1.3698630136986301E-2},{"$f":"IF(P9=0,0,(P9*((LOG(P9))/LOG(2))))","v":-8.4792117244931728E-2},null,null,{"$f":"N9","v":121},{"$f":"COUNTIF(L7:L18,T9)","v":0},{"$f":"U9/(W4-U8)","v":0},{"$f":"IF(V9=0,0,(V9*((LOG(V9))/LOG(2))))","v":0},null,{"$f":"N9","v":121},{"$f":"COUNTIF(L19:L30,Y9)","v":0},{"$f":"Z9/(AB4-Z8)","v":0},{"$f":"IF(AA9=0,0,(AA9*((LOG(AA9))/LOG(2))))","v":0},null,{"$f":"N9","v":121},{"$f":"COUNTIF(L31:L43,AD9)","v":0},{"$f":"AE9/(AG4-AE8)","v":0},{"$f":"IF(AF9=0,0,(AF9*((LOG(AF9))/LOG(2))))","v":0},null,{"$f":"N9","v":121},{"$f":"COUNTIF(L44:L55,AI9)","v":0},{"$f":"AJ9/(AL4-AJ8)","v":0},{"$f":"IF(AK9=0,0,(AK9*((LOG(AK9))/LOG(2))))","v":0},null,{"$f":"N9","v":121},{"$f":"COUNTIF(L56:L67,AN9)","v":0},{"$f":"AO9/(AQ4-AO8)","v":0},{"$f":"IF(AP9=0,0,(AP9*((LOG(AP9))/LOG(2))))","v":0},null,{"$f":"N9","v":121},{"$f":"COUNTIF(L68:L79,AS9)","v":1},{"$f":"AT9/(AV4-AT8)","v":0.1111111111111111},{"$f":"IF(AU9=0,0,(AU9*((LOG(AU9))/LOG(2))))","v":-0.3522138890491458}]
[11,413,22,420,23,431,null,null,null,null,0,122,null,122,{"$f":"COUNTIF($L$7:$L$500,N10)","v":13},{"$f":"O10/$Q$4","v":0.17808219178082191},{"$f":"IF(P10=0,0,(P10*((LOG(P10))/LOG(2))))","v":-0.44331510862474005},null,null,{"$f":"N10","v":122},{"$f":"COUNTIF(L7:L18,T10)","v":2},{"$f":"U10/(W4-U8)","v":0.4},{"$f":"IF(V10=0,0,(V10*((LOG(V10))/LOG(2))))","v":-0.52877123795494496},null,{"$f":"N10","v":122},{"$f":"COUNTIF(L19:L30,Y10)","v":1},{"$f":"Z10/(AB4-Z8)","v":0.2},{"$f":"IF(AA10=0,0,(AA10*((LOG(AA10))/LOG(2))))","v":-0.46438561897747244},null,{"$f":"N10","v":122},{"$f":"COUNTIF(L31:L43,AD10)","v":2},{"$f":"AE10/(AG4-AE8)","v":0.2857142857142857},{"$f":"IF(AF10=0,0,(AF10*((LOG(AF10))/LOG(2))))","v":-0.51638712058788683},null,{"$f":"N10","v":122},{"$f":"COUNTIF(L44:L55,AI10)","v":1},{"$f":"AJ10/(AL4-AJ8)","v":0.2},{"$f":"IF(AK10=0,0,(AK10*((LOG(AK10))/LOG(2))))","v":-0.46438561897747244},null,{"$f":"N10","v":122},{"$f":"COUNTIF(L56:L67,AN10)","v":1},{"$f":"AO10/(AQ4-AO8)","v":0.5},{"$f":"IF(AP10=0,0,(AP10*((LOG(AP10))/LOG(2))))","v":-0.5},null,{"$f":"N10","v":122},{"$f":"COUNTIF(L68:L79,AS10)","v":6},{"$f":"AT10/(AV4-AT8)","v":0.66666666666666663},{"$f":"IF(AU10=0,0,(AU10*((LOG(AU10))/LOG(2))))","v":-0.38997500048077083}]
[11,578,11,586,21,595,null,null,null,null,0,112,null,211,{"$f":"COUNTIF($L$7:$L$500,N11)","v":0},{"$f":"O11/$Q$4","v":0},{"$f":"IF(P11=0,0,(P11*((LOG(P11))/LOG(2))))","v":0},null,null,{"$f":"N11","v":211},{"$f":"COUNTIF(L7:L18,T11)","v":0},{"$f":"U11/(W4-U8)","v":0},{"$f":"IF(V11=0,0,(V11*((LOG(V11))/LOG(2))))","v":0},null,{"$f":"N11","v":211},{"$f":"COUNTIF(L19:L30,Y11)","v":0},{"$f":"Z11/(AB4-Z8)","v":0},{"$f":"IF(AA11=0,0,(AA11*((LOG(AA11))/LOG(2))))","v":0},null,{"$f":"N11","v":211},{"$f":"COUNTIF(L31:L43,AD11)","v":0},{"$f":"AE11/(AG4-AE8)","v":0},{"$f":"IF(AF11=0,0,(AF11*((LOG(AF11))/LOG(2))))","v":0},null,{"$f":"N11","v":211},{"$f":"COUNTIF(L44:L55,AI11)","v":0},{"$f":"AJ11/(AL4-AJ8)","v":0},{"$f":"IF(AK11=0,0,(AK11*((LOG(AK11))/LOG(2))))","v":0},null,{"$f":"N11","v":211},{"$f":"COUNTIF(L56:L67,AN11)","v":0},{"$f":"AO11/(AQ4-AO8)","v":0},{"$f":"IF(AP11=0,0,(AP11*((LOG(AP11))/LOG(2))))","v":0},null,{"$f":"N11","v":211},{"$f":"COUNTIF(L68:L79,AS11)","v":0},{"$f":"AT11/(AV4-AT8)","v":0},{"$f":"IF(AU11=0,0,(AU11*((LOG(AU11))/LOG(2))))","v":0}]
[11,685,11,688,12,694,null,null,null,null,0,111,null,212,{"$f":"COUNTIF($L$7:$L$500,N12)","v":0},{"$f":"O12/$Q$4","v":0},{"$f":"IF(P12=0,0,(P12*((LOG(P12))/LOG(2))))","v":0},null,null,{"$f":"N12","v":212},{"$f":"COUNTIF(L7:L18,T12)","v":0},{"$f":"U12/(W4-U8)","v":0},{"$f":"IF(V12=0,0,(V12*((LOG(V12))/LOG(2))))","v":0},null,{"$f":"N12","v":212},{"$f":"COUNTIF(L19:L30,Y12)","v":0},{"$f":"Z12/(AB4-Z8)","v":0},{"$f":"IF(AA12=0,0,(AA12*((LOG(AA12))/LOG(2))))","v":0},null,{"$f":"N12","v":212},{"$f":"COUNTIF(L31:L43,AD12)","v":0},{"$f":"AE12/(AG4-AE8)","v":0},{"$f":"IF(AF12=0,0,(AF12*((LOG(AF12))/LOG(2))))","v":0},null,{"$f":"N12","v":212},{"$f":"COUNTIF(L44:L55,AI12)","v":0},{"$f":"AJ12/(AL4-AJ8)","v":0},{"$f":"IF(AK12=0,0,(AK12*((LOG(AK12))/LOG(2))))","v":0},null,{"$f":"N12","v":212},{"$f":"COUNTIF(L56:L67,AN12)","v":0},{"$f":"AO12/(AQ4-AO8)","v":0},{"$f":"IF(AP12=0,0,(AP12*((LOG(AP12))/LOG(2))))","v":0},null,{"$f":"N12","v":212},{"$f":"COUNTIF(L68:L79,AS12)","v":0},{"$f":"AT12/(AV4-AT8)","v":0},{"$f":"IF(AU12=0,0,(AU12*((LOG(AU12))/LOG(2))))","v":0}]
[11,790,11,795,21,806,null,null,null,null,0,112,null,221,{"$f":"COUNTIF($L$7:$L$500,N13)","v":1},{"$f":"O13/$Q$4","v":1.3698630136986301E-2},{"$f":"IF(P13=0,0,(P13*((LOG(P13))/LOG(2))))","v":-8.4792117244931728E-2},null,null,{"$f":"N13","v":221},{"$f":"COUNTIF(L7:L18,T13)","v":0},{"$f":"U13/(W4-U8)","v":0},{"$f":"IF(V13=0,0,(V13*((LOG(V13))/LOG(2))))","v":0},null,{"$f":"N13","v":221},{"$f":"COUNTIF(L19:L30,Y13)","v":1},{"$f":"Z13/(AB4-Z8)","v":0.2},{"$f":"IF(AA13=0,0,(AA13*((LOG(AA13))/LOG(2))))","v":-0.46438561897747244},null,{"$f":"N13","v":221},{"$f":"COUNTIF(L31:L43,AD13)","v":0},{"$f":"AE13/(AG4-AE8)","v":0},{"$f":"IF(AF13=0,0,(AF13*((LOG(AF13))/LOG(2))))","v":0},null,{"$f":"N13","v":221},{"$f":"COUNTIF(L44:L55,AI13)","v":0},{"$f":"AJ13/(AL4-AJ8)","v":0},{"$f":"IF(AK13=0,0,(AK13*((LOG(AK13))/LOG(2))))","v":0},null,{"$f":"N13","v":221},{"$f":"COUNTIF(L56:L67,AN13)","v":0},{"$f":"AO13/(AQ4-AO8)","v":0},{"$f":"IF(AP13=0,0,(AP13*((LOG(AP13))/LOG(2))))","v":0},null,{"$f":"N13","v":221},{"$f":"COUNTIF(L68:L79,AS13)","v":0},{"$f":"AT13/(AV4-AT8)","v":0},{"$f":"IF(AU13=0,0,(AU13*((LOG(AU13))/LOG(2))))","v":0}]
[11,899,11,903,21,926,null,null,null,null,0,112,null,222,{"$f":"COUNTIF($L$7:$L$500,N14)","v":2},{"$f":"O14/$Q$4","v":2.7397260273972601E-2},{"$f":"IF(P14=0,0,(P14*((LOG(P14))/LOG(2))))","v":-0.14218697421589085},null,null,{"$f":"N14","v":222},{"$f":"COUNTIF(L7:L18,T14)","v":1},{"$f":"U14/(W4-U8)","v":0.2},{"$f":"IF(V14=0,0,(V14*((LOG(V14))/LOG(2))))","v":-0.46438561897747244},null,{"$f":"N14","v":222},{"$f":"COUNTIF(L19:L30,Y14)","v":0},{"$f":"Z14/(AB4-Z8)","v":0},{"$f":"IF(AA14=0,0,(AA14*((LOG(AA14))/LOG(2))))","v":0},null,{"$f":"N14","v":222},{"$f":"COUNTIF(L31:L43,AD14)","v":0},{"$f":"AE14/(AG4-AE8)","v":0},{"$f":"IF(AF14=0,0,(AF14*((LOG(AF14))/LOG(2))))","v":0},null,{"$f":"N14","v":222},{"$f":"COUNTIF(L44:L55,AI14)","v":0},{"$f":"AJ14/(AL4-AJ8)","v":0},{"$f":"IF(AK14=0,0,(AK14*((LOG(AK14))/LOG(2))))","v":0},null,{"$f":"N14","v":222},{"$f":"COUNTIF(L56:L67,AN14)","v":0},{"$f":"AO14/(AQ4-AO8)","v":0},{"$f":"IF(AP14=0,0,(AP14*((LOG(AP14))/LOG(2))))","v":0},null,{"$f":"N14","v":222},{"$f":"COUNTIF(L68:L79,AS14)","v":1},{"$f":"AT14/(AV4-AT8)","v":0.1111111111111111},{"$f":"IF(AU14=0,0,(AU14*((LOG(AU14))/LOG(2))))","v":-0.3522138890491458}]
[11,1020,11,1022,12,1026,null,null,null,null,0,111,null,null,null,{"$f":"SUM(P7:P14)","v":1},{"$f":"-SUM(Q7:Q14)","v":1.710607570779624},null,null,null,null,{"$f":"SUM(V7:V14)","v":1},{"$f":"-SUM(W7:W14)","v":1.5219280948873624},null,null,null,{"$f":"SUM(AA7:AA14)","v":1},{"$f":"-SUM(AB7:AB14)","v":1.3709505944546687},null,null,null,{"$f":"SUM(AF7:AF14)","v":1},{"$f":"-SUM(AG7:AG14)","v":0.863120568566631},null,null,null,{"$f":"SUM(AK7:AK14)","v":1},{"$f":"-SUM(AL7:AL14)","v":0.72192809488736231},null,null,null,{"$f":"SUM(AP7:AP14)","v":1},{"$f":"-SUM(AQ7:AQ14)","v":1},null,null,null,{"$f":"SUM(AU7:AU14)","v":1},{"$f":"-SUM(AV7:AV14)","v":1.4466166676282082}]
[11,1121,11,1124,21,1142,null,null,null,null,0,112,null,null,null,"U=",{"$f":"Q15/(LOG(Q4)/LOG(2))","v":0.27635800570883068},null,null,null,null,"U1=",{"$f":"W15/(LOG(W4)/LOG(2))","v":0.42453110585709308},null,null,null,"U2=",{"$f":"AB15/(LOG(AB4)/LOG(2))","v":0.38241699715935279},null,null,null,"U3=",{"$f":"AG15/(LOG(AG4)/LOG(2))","v":0.23324810949770525},null,null,null,"U4=",{"$f":"AL15/(LOG(AL4)/LOG(2))","v":0.20137674933618921},null,null,null,"U5=",{"$f":"AQ15/(LOG(AQ4)/LOG(2))","v":0.27894294565112981},null,null,null,"U6=",{"$f":"AV15/(LOG(AV4)/LOG(2))","v":0.4035235144962338}]
[11,1232,11,1242,21,1253,null,null,null,null,0,112]
[11,1343,11,1352,21,1365,null,null,null,null,0,112]
[11,1455,11,1462,12,1469,null,null,null,null,0,111,null,"Total Target Seq"]
[22,1696,24,1704,14,1727,null,null,null,null,0,221,null,{"$f":"COUNTIF(L7:L79,G3)","v":40},null,12,12,13,12,12,12]
[11,1822,11,1825,21,1836,null,null,null,null,0,112,null,null,null,"% of reinforcement given in 6 equal intervals based on number of trials "]
[11,1927,11,1936,21,1947,null,null,null,null,0,112,null,null,null,"%_1","%_2","%_3","%_4","%_5","%_6"]
[11,2038,11,2041,21,2053,null,null,null,null,0,112,null,null,"target sequence",{"$f":"$G$3","v":112},{"$f":"$G$3","v":112},{"$f":"$G$3","v":112},{"$f":"$G$3","v":112},{"$f":"$G$3","v":112},{"$f":"$G$3","v":112}]
[11,2142,11,2147,21,2158,null,null,null,null,0,112,null,null,"total reinforcement",{"$f":"U8","v":7},{"$f":"Z8","v":7},{"$f":"AE8","v":6},{"$f":"AJ8","v":7},{"$f":"AO8","v":10},{"$f":"AT8","v":3}]
[11,2244,11,2248,12,2250,null,null,null,null,0,111,null,null,"% target"]
[11,2345,11,2348,21,2360,null,null,null,null,0,112,null,null,"CCRF"]
[11,2461,22,2475,23,2483,null,null,null,null,0,122,null,null,"% CCRf"]
[11,2577,11,2580,21,2594,null,null,null,null,0,112,null,null,"average response rate",{"$f":"F18/P20","v":113.75},{"$f":"(F30-F18)/Q20","v":121.25},{"$f":"(F43-F30)/R20","v":122.69230769230769},{"$f":"(F55-F43)/S20","v":109.16666666666667},{"$f":"(F67-F55)/T20","v":114.75},{"$f":"(F79-F67)/U20","v":182.66666666666666}]
[11,2685,11,2689,12,2695,null,null,null,null,0,111]
[11,2791,11,2797,21,2820,null,null,null,null,0,112]
[11,2911,11,2916,21,2933,null,null,null,null,0,112]
[11,3025,11,3030,21,3045,null,null,null,null,0,112]
[11,3147,22,3157,23,3163,null,null,null,null,0,122]
[11,3256,11,3259,12,3266,null,null,null,null,0,111]
[11,3418,11,3423,21,3438,null,null,null,null,0,112]
[11,3526,11,3531,12,3533,null,null,null,null,0,111]
[11,3628,11,3630,12,3634,null,null,null,null,0,111]
[11,3726,11,3729,12,3733,null,null,null,null,0,111]
[11,3826,11,3839,21,3854,null,null,null,null,0,112]
[11,3949,11,3954,12,3959,null,null,null,null,0,111]
[11,4053,11,4058,21,4071,null,null,null,null,0,112]
[11,4286,22,4297,23,4304,null,null,null,null,0,122]
[11,4395,11,4401,21,4415,null,null,null,null,0,112]
[11,4502,11,4505,12,4511,null,null,null,null,0,111]
[11,4606,11,4611,21,4621,null,null,null,null,0,112]
[11,4712,11,4717,21,4740,null,null,null,null,0,112]
[11,4829,11,4832,21,4848,null,null,null,null,0,112]
[11,4938,11,4942,21,4957,null,null,null,null,0,112]
[11,5048,11,5053,21,5067,null,null,null,null,0,112]
[11,5155,22,5166,23,5171,null,null,null,null,0,122]
[11,5268,11,5274,21,5285,null,null,null,null,0,112]
[11,5377,11,5383,21,5400,null,null,null,null,0,112]
[11,5490,11,5493,12,5496,null,null,null,null,0,111]
[11,5594,11,5598,12,5605,null,null,null,null,0,111]
[11,5715,11,5720,12,5725,null,null,null,null,0,111]
[11,5821,11,5825,21,5840,null,null,null,null,0,112]
[11,5929,11,5936,21,5946,null,null,null,null,0,112]
[11,6035,11,6038,12,6046,null,null,null,null,0,111]
[11,6150,11,6155,21,6163,null,null,null,null,0,112]
[11,6259,11,6264,21,6276,null,null,null,null,0,112]
[11,6366,11,6377,21,6391,null,null,null,null,0,112]
[11,6504,11,6511,21,6524,null,null,null,null,0,112]
[11,6615,11,6619,21,6636,null,null,null,null,0,112]
[11,6732,11,6737,21,6746,null,null,null,null,0,112]
[11,6840,11,6842,21,6852,null,null,null,null,0,112]
[11,6942,22,6958,23,6966,null,null,null,null,0,122]
[11,7083,11,7089,21,7102,null,null,null,null,0,112]
[11,7196,22,7209,23,7214,null,null,null,null,0,122]
[11,7308,11,7311,12,7314,null,null,null,null,0,111]
[11,7410,11,7416,21,7430,null,null,null,null,0,112]
[11,7521,22,7532,23,7539,null,null,null,null,0,122]
[11,7648,22,7661,23,7667,null,null,null,null,0,122]
[11,7774,22,7791,23,7809,null,null,null,null,0,122]
[11,7902,11,7909,21,7927,null,null,null,null,0,112]
[11,8019,22,8023,14,8037,null,null,null,null,0,121]
[22,8913,24,8916,23,8920,null,null,null,null,0,222]
[11,9045,22,9053,23,9059,null,null,null,null,0,122]
[11,9169,22,9178,23,9183,null,null,null,null,0,122]
[11,9277,11,9283,21,9294,null,null,null,null,1,112]

{"sheet":"!MC0790I.sha","index":32,"n_rows":89,"n_cols":48,"rows_kept":89,"cut":false,"hidden":false,"merged":[[4,39,4,42],[5,39,5,40],[4,44,4,47],[5,44,5,45],[4,24,4,27],[5,24,5,25],[4,29,4,32],[5,29,5,30],[4,34,4,37],[5,34,5,35],[1,1,1,2],[5,13,5,14],[18,13,18,14],[19,13,19,14],[4,19,4,22],[5,19,5,20]]}
["Report for:!MC0790I.sha"]
["Date:","<date>"]
["Hen:","<hen>",null,null,null,"Correct Sequence",{"$f":"Start!J2","v":112},null,null,null,null,null,null,null,null,"Total Sequences in Data",{"$f":"4994-COUNTBLANK(L7:L5000)","v":83},null,null,null,null,"Total Sequences in Block Data",{"$f":"COUNTA(L7:L20)","v":14},null,null,null,"Total Sequences in Block Data",{"$f":"COUNTA(L21:L34)","v":14},null,null,null,"Total Sequences in Block Data",{"$f":"COUNTA(L35:L47)","v":13},null,null,null,"Total Sequences in Block Data",{"$f":"COUNTA(L48:L61)","v":14},null,null,null,"Total Sequences in Block Data",{"$f":"COUNTA(L62:L75)","v":14},null,null,null,"Total Sequences in Block Data",{"$f":"COUNTA(L76:L89)","v":14}]
[null,null,null,null,null,null,null,null,null,null,null,null,null,null,null,"Total Sequences in Summary",{"$f":"SUM(O7:O14)","v":83},null,null,null,null,"Total Sequences in Block Summary",{"$f":"SUM(U7:U14)","v":14},null,null,null,"Total Sequences in Block Summary",{"$f":"SUM(Z7:Z14)","v":14},null,null,null,"Total Sequences in Block Summary",{"$f":"SUM(AE7:AE14)","v":13},null,null,null,"Total Sequences in Block Summary",{"$f":"SUM(AJ7:AJ14)","v":14},null,null,null,"Total Sequences in Block Summary",{"$f":"SUM(AO7:AO14)","v":14},null,null,null,"Total Sequences in Block Summary",{"$f":"SUM(AT7:AT14)","v":14}]
[null,null,null,null,null,null,null,null,null,null,null,null,null,null,null,null,null,null,null,"Block 1",null,null,null,null,"Block 2",null,null,null,null,"Block 3",null,null,null,null,"Block 4",null,null,null,null,"Block 5",null,null,null,null,"Block 6"]
["Sequence\nComponent\n1","Time\n1","Sequence\nComponent\n2","Time\n2","Sequence\nComponent\n3","Time\n3","Sequence\nComponent\n4","Time\n4","Sequence\nComponent\n5","Time\n5","Correct?\n0=No 1=Yes","Sequence",null,"Frequency",null,"Relative Frequency","Variability",null,null,"Frequency",null,"Relative Frequency","Variability",null,"Frequency",null,"Relative Frequency","Variability",null,"Frequency",null,"Relative Frequency","Variability",null,"Frequency",null,"Relative Frequency","Variability",null,"Frequency",null,"Relative Frequency","Variability",null,"Frequency",null,"Relative Frequency","Variability"]
[22,69,24,74,14,84,null,null,null,null,0,221,null,111,{"$f":"COUNTIF($L$7:$L$500,N7)","v":6},{"$f":"O7/$Q$4","v":7.2289156626506021E-2},{"$f":"IF(P7=0,0,(P7*((LOG(P7))/LOG(2))))","v":-0.27398146486451341},null,null,{"$f":"N7","v":111},{"$f":"COUNTIF(L7:L20,T7)","v":0},{"$f":"U7/(W4-U8)","v":0},{"$f":"IF(V7=0,0,(V7*((LOG(V7))/LOG(2))))","v":0},null,{"$f":"N7","v":111},{"$f":"COUNTIF(L21:L34,Y7)","v":1},{"$f":"Z7/(AB4-Z8)","v":0.14285714285714285},{"$f":"IF(AA7=0,0,(AA7*((LOG(AA7))/LOG(2))))","v":-0.40105070315108626},null,{"$f":"N7","v":111},{"$f":"COUNTIF(L35:L47,AD7)","v":0},{"$f":"AE7/(AG4-AE8)","v":0},{"$f":"IF(AF7=0,0,(AF7*((LOG(AF7))/LOG(2))))","v":0},null,{"$f":"N7","v":111},{"$f":"COUNTIF(L48:L61,AI7)","v":1},{"$f":"AJ7/(AL4-AJ8)","v":0.25},{"$f":"IF(AK7=0,0,(AK7*((LOG(AK7))/LOG(2))))","v":-0.5},null,{"$f":"N7","v":111},{"$f":"COUNTIF(L62:L75,AN7)","v":2},{"$f":"AO7/(AQ4-AO8)","v":0.25},{"$f":"IF(AP7=0,0,(AP7*((LOG(AP7))/LOG(2))))","v":-0.5},null,{"$f":"N7","v":111},{"$f":"COUNTIF(L76:L89,AS7)","v":2},{"$f":"AT7/(AV4-AT8)","v":0.2},{"$f":"IF(AU7=0,0,(AU7*((LOG(AU7))/LOG(2))))","v":-0.46438561897747244}]
[11,176,11,182,21,200,null,null,null,null,0,112,null,112,{"$f":"COUNTIF($L$7:$L$500,N8)","v":40},{"$f":"O8/$Q$4","v":0.48192771084337349},{"$f":"IF(P8=0,0,(P8*((LOG(P8))/LOG(2))))","v":-0.50752353564316255},null,null,{"$f":"N8","v":112},{"$f":"COUNTIF(L7:L20,T8)","v":7},null,null,null,{"$f":"N8","v":112},{"$f":"COUNTIF(L21:L34,Y8)","v":7},null,null,null,{"$f":"N8","v":112},{"$f":"COUNTIF(L35:L47,AD8)","v":6},null,null,null,{"$f":"N8","v":112},{"$f":"COUNTIF(L48:L61,AI8)","v":10},null,null,null,{"$f":"N8","v":112},{"$f":"COUNTIF(L62:L75,AN8)","v":6},null,null,null,{"$f":"N8","v":112},{"$f":"COUNTIF(L76:L89,AS8)","v":4}]
[22,401,24,407,14,416,null,null,null,null,0,221,null,121,{"$f":"COUNTIF($L$7:$L$500,N9)","v":17},{"$f":"O9/$Q$4","v":0.20481927710843373},{"$f":"IF(P9=0,0,(P9*((LOG(P9))/LOG(2))))","v":-0.46853978351375847},null,null,{"$f":"N9","v":121},{"$f":"COUNTIF(L7:L20,T9)","v":3},{"$f":"U9/(W4-U8)","v":0.42857142857142855},{"$f":"IF(V9=0,0,(V9*((LOG(V9))/LOG(2))))","v":-0.52388246628704915},null,{"$f":"N9","v":121},{"$f":"COUNTIF(L21:L34,Y9)","v":3},{"$f":"Z9/(AB4-Z8)","v":0.42857142857142855},{"$f":"IF(AA9=0,0,(AA9*((LOG(AA9))/LOG(2))))","v":-0.52388246628704915},null,{"$f":"N9","v":121},{"$f":"COUNTIF(L35:L47,AD9)","v":5},{"$f":"AE9/(AG4-AE8)","v":0.7142857142857143},{"$f":"IF(AF9=0,0,(AF9*((LOG(AF9))/LOG(2))))","v":-0.34673344797874411},null,{"$f":"N9","v":121},{"$f":"COUNTIF(L48:L61,AI9)","v":1},{"$f":"AJ9/(AL4-AJ8)","v":0.25},{"$f":"IF(AK9=0,0,(AK9*((LOG(AK9))/LOG(2))))","v":-0.5},null,{"$f":"N9","v":121},{"$f":"COUNTIF(L62:L75,AN9)","v":4},{"$f":"AO9/(AQ4-AO8)","v":0.5},{"$f":"IF(AP9=0,0,(AP9*((LOG(AP9))/LOG(2))))","v":-0.5},null,{"$f":"N9","v":121},{"$f":"COUNTIF(L76:L89,AS9)","v":1},{"$f":"AT9/(AV4-AT8)","v":0.1},{"$f":"IF(AU9=0,0,(AU9*((LOG(AU9))/LOG(2))))","v":-0.33219280948873625}]
[11,512,22,524,14,551,null,null,null,null,0,121,null,122,{"$f":"COUNTIF($L$7:$L$500,N10)","v":13},{"$f":"O10/$Q$4","v":0.15662650602409639},{"$f":"IF(P10=0,0,(P10*((LOG(P10))/LOG(2))))","v":-0.41891320809247978},null,null,{"$f":"N10","v":122},{"$f":"COUNTIF(L7:L20,T10)","v":0},{"$f":"U10/(W4-U8)","v":0},{"$f":"IF(V10=0,0,(V10*((LOG(V10))/LOG(2))))","v":0},null,{"$f":"N10","v":122},{"$f":"COUNTIF(L21:L34,Y10)","v":3},{"$f":"Z10/(AB4-Z8)","v":0.42857142857142855},{"$f":"IF(AA10=0,0,(AA10*((LOG(AA10))/LOG(2))))","v":-0.52388246628704915},null,{"$f":"N10","v":122},{"$f":"COUNTIF(L35:L47,AD10)","v":2},{"$f":"AE10/(AG4-AE8)","v":0.2857142857142857},{"$f":"IF(AF10=0,0,(AF10*((LOG(AF10))/LOG(2))))","v":-0.51638712058788683},null,{"$f":"N10","v":122},{"$f":"COUNTIF(L48:L61,AI10)","v":1},{"$f":"AJ10/(AL4-AJ8)","v":0.25},{"$f":"IF(AK10=0,0,(AK10*((LOG(AK10))/LOG(2))))","v":-0.5},null,{"$f":"N10","v":122},{"$f":"COUNTIF(L62:L75,AN10)","v":1},{"$f":"AO10/(AQ4-AO8)","v":0.125},{"$f":"IF(AP10=0,0,(AP10*((LOG(AP10))/LOG(2))))","v":-0.375},null,{"$f":"N10","v":122},{"$f":"COUNTIF(L76:L89,AS10)","v":6},{"$f":"AT10/(AV4-AT8)","v":0.6},{"$f":"IF(AU10=0,0,(AU10*((LOG(AU10))/LOG(2))))","v":-0.44217935649972373}]
[11,646,11,650,21,661,null,null,null,null,0,112,null,211,{"$f":"COUNTIF($L$7:$L$500,N11)","v":0},{"$f":"O11/$Q$4","v":0},{"$f":"IF(P11=0,0,(P11*((LOG(P11))/LOG(2))))","v":0},null,null,{"$f":"N11","v":211},{"$f":"COUNTIF(L7:L20,T11)","v":0},{"$f":"U11/(W4-U8)","v":0},{"$f":"IF(V11=0,0,(V11*((LOG(V11))/LOG(2))))","v":0},null,{"$f":"N11","v":211},{"$f":"COUNTIF(L21:L34,Y11)","v":0},{"$f":"Z11/(AB4-Z8)","v":0},{"$f":"IF(AA11=0,0,(AA11*((LOG(AA11))/LOG(2))))","v":0},null,{"$f":"N11","v":211},{"$f":"COUNTIF(L35:L47,AD11)","v":0},{"$f":"AE11/(AG4-AE8)","v":0},{"$f":"IF(AF11=0,0,(AF11*((LOG(AF11))/LOG(2))))","v":0},null,{"$f":"N11","v":211},{"$f":"COUNTIF(L48:L61,AI11)","v":0},{"$f":"AJ11/(AL4-AJ8)","v":0},{"$f":"IF(AK11=0,0,(AK11*((LOG(AK11))/LOG(2))))","v":0},null,{"$f":"N11","v":211},{"$f":"COUNTIF(L62:L75,AN11)","v":0},{"$f":"AO11/(AQ4-AO8)","v":0},{"$f":"IF(AP11=0,0,(AP11*((LOG(AP11))/LOG(2))))","v":0},null,{"$f":"N11","v":211},{"$f":"COUNTIF(L76:L89,AS11)","v":0},{"$f":"AT11/(AV4-AT8)","v":0},{"$f":"IF(AU11=0,0,(AU11*((LOG(AU11))/LOG(2))))","v":0}]
[11,814,22,823,14,894,null,null,null,null,0,121,null,212,{"$f":"COUNTIF($L$7:$L$500,N12)","v":2},{"$f":"O12/$Q$4","v":2.4096385542168676E-2},{"$f":"IF(P12=0,0,(P12*((LOG(P12))/LOG(2))))","v":-0.12951902244209457},null,null,{"$f":"N12","v":212},{"$f":"COUNTIF(L7:L20,T12)","v":0},{"$f":"U12/(W4-U8)","v":0},{"$f":"IF(V12=0,0,(V12*((LOG(V12))/LOG(2))))","v":0},null,{"$f":"N12","v":212},{"$f":"COUNTIF(L21:L34,Y12)","v":0},{"$f":"Z12/(AB4-Z8)","v":0},{"$f":"IF(AA12=0,0,(AA12*((LOG(AA12))/LOG(2))))","v":0},null,{"$f":"N12","v":212},{"$f":"COUNTIF(L35:L47,AD12)","v":0},{"$f":"AE12/(AG4-AE8)","v":0},{"$f":"IF(AF12=0,0,(AF12*((LOG(AF12))/LOG(2))))","v":0},null,{"$f":"N12","v":212},{"$f":"COUNTIF(L48:L61,AI12)","v":0},{"$f":"AJ12/(AL4-AJ8)","v":0},{"$f":"IF(AK12=0,0,(AK12*((LOG(AK12))/LOG(2))))","v":0},null,{"$f":"N12","v":212},{"$f":"COUNTIF(L62:L75,AN12)","v":1},{"$f":"AO12/(AQ4-AO8)","v":0.125},{"$f":"IF(AP12=0,0,(AP12*((LOG(AP12))/LOG(2))))","v":-0.375},null,{"$f":"N12","v":212},{"$f":"COUNTIF(L76:L89,AS12)","v":1},{"$f":"AT12/(AV4-AT8)","v":0.1},{"$f":"IF(AU12=0,0,(AU12*((LOG(AU12))/LOG(2))))","v":-0.33219280948873625}]
[22,995,24,1000,23,1026,null,null,null,null,0,222,null,221,{"$f":"COUNTIF($L$7:$L$500,N13)","v":3},{"$f":"O13/$Q$4","v":3.614457831325301E-2},{"$f":"IF(P13=0,0,(P13*((LOG(P13))/LOG(2))))","v":-0.17313531074550972},null,null,{"$f":"N13","v":221},{"$f":"COUNTIF(L7:L20,T13)","v":2},{"$f":"U13/(W4-U8)","v":0.2857142857142857},{"$f":"IF(V13=0,0,(V13*((LOG(V13))/LOG(2))))","v":-0.51638712058788683},null,{"$f":"N13","v":221},{"$f":"COUNTIF(L21:L34,Y13)","v":0},{"$f":"Z13/(AB4-Z8)","v":0},{"$f":"IF(AA13=0,0,(AA13*((LOG(AA13))/LOG(2))))","v":0},null,{"$f":"N13","v":221},{"$f":"COUNTIF(L35:L47,AD13)","v":0},{"$f":"AE13/(AG4-AE8)","v":0},{"$f":"IF(AF13=0,0,(AF13*((LOG(AF13))/LOG(2))))","v":0},null,{"$f":"N13","v":221},{"$f":"COUNTIF(L48:L61,AI13)","v":1},{"$f":"AJ13/(AL4-AJ8)","v":0.25},{"$f":"IF(AK13=0,0,(AK13*((LOG(AK13))/LOG(2))))","v":-0.5},null,{"$f":"N13","v":221},{"$f":"COUNTIF(L62:L75,AN13)","v":0},{"$f":"AO13/(AQ4-AO8)","v":0},{"$f":"IF(AP13=0,0,(AP13*((LOG(AP13))/LOG(2))))","v":0},null,{"$f":"N13","v":221},{"$f":"COUNTIF(L76:L89,AS13)","v":0},{"$f":"AT13/(AV4-AT8)","v":0},{"$f":"IF(AU13=0,0,(AU13*((LOG(AU13))/LOG(2))))","v":0}]
[11,1123,11,1128,21,1141,null,null,null,null,0,112,null,222,{"$f":"COUNTIF($L$7:$L$500,N14)","v":2},{"$f":"O14/$Q$4","v":2.4096385542168676E-2},{"$f":"IF(P14=0,0,(P14*((LOG(P14))/LOG(2))))","v":-0.12951902244209457},null,null,{"$f":"N14","v":222},{"$f":"COUNTIF(L7:L20,T14)","v":2},{"$f":"U14/(W4-U8)","v":0.2857142857142857},{"$f":"IF(V14=0,0,(V14*((LOG(V14))/LOG(2))))","v":-0.51638712058788683},null,{"$f":"N14","v":222},{"$f":"COUNTIF(L21:L34,Y14)","v":0},{"$f":"Z14/(AB4-Z8)","v":0},{"$f":"IF(AA14=0,0,(AA14*((LOG(AA14))/LOG(2))))","v":0},null,{"$f":"N14","v":222},{"$f":"COUNTIF(L35:L47,AD14)","v":0},{"$f":"AE14/(AG4-AE8)","v":0},{"$f":"IF(AF14=0,0,(AF14*((LOG(AF14))/LOG(2))))","v":0},null,{"$f":"N14","v":222},{"$f":"COUNTIF(L48:L61,AI14)","v":0},{"$f":"AJ14/(AL4-AJ8)","v":0},{"$f":"IF(AK14=0,0,(AK14*((LOG(AK14))/LOG(2))))","v":0},null,{"$f":"N14","v":222},{"$f":"COUNTIF(L62:L75,AN14)","v":0},{"$f":"AO14/(AQ4-AO8)","v":0},{"$f":"IF(AP14=0,0,(AP14*((LOG(AP14))/LOG(2))))","v":0},null,{"$f":"N14","v":222},{"$f":"COUNTIF(L76:L89,AS14)","v":0},{"$f":"AT14/(AV4-AT8)","v":0},{"$f":"IF(AU14=0,0,(AU14*((LOG(AU14))/LOG(2))))","v":0}]
[11,1248,11,1252,21,1267,null,null,null,null,0,112,null,null,null,{"$f":"SUM(P7:P14)","v":1},{"$f":"-SUM(Q7:Q14)","v":2.1011313477436131},null,null,null,null,{"$f":"SUM(V7:V14)","v":0.99999999999999989},{"$f":"-SUM(W7:W14)","v":1.5566567074628228},null,null,null,{"$f":"SUM(AA7:AA14)","v":1},{"$f":"-SUM(AB7:AB14)","v":1.4488156357251847},null,null,null,{"$f":"SUM(AF7:AF14)","v":1},{"$f":"-SUM(AG7:AG14)","v":0.863120568566631},null,null,null,{"$f":"SUM(AK7:AK14)","v":1},{"$f":"-SUM(AL7:AL14)","v":2},null,null,null,{"$f":"SUM(AP7:AP14)","v":1},{"$f":"-SUM(AQ7:AQ14)","v":1.75},null,null,null,{"$f":"SUM(AU7:AU14)","v":1},{"$f":"-SUM(AV7:AV14)","v":1.5709505944546687}]
[11,1380,11,1385,21,1401,null,null,null,null,0,112,null,null,null,"U=",{"$f":"Q15/(LOG(Q4)/LOG(2))","v":0.32958719241987244},null,null,null,null,"U1=",{"$f":"W15/(LOG(W4)/LOG(2))","v":0.40885516042763909},null,null,null,"U2=",{"$f":"AB15/(LOG(AB4)/LOG(2))","v":0.38053075307783579},null,null,null,"U3=",{"$f":"AG15/(LOG(AG4)/LOG(2))","v":0.23324810949770525},null,null,null,"U4=",{"$f":"AL15/(LOG(AL4)/LOG(2))","v":0.52529907007438714},null,null,null,"U5=",{"$f":"AQ15/(LOG(AQ4)/LOG(2))","v":0.45963668631508875},null,null,null,"U6=",{"$f":"AV15/(LOG(AV4)/LOG(2))","v":0.4126094431999216}]
[11,1555,11,1558,21,1571,null,null,null,null,0,112]
[11,1666,11,1671,21,1684,null,null,null,null,0,112]
[22,1795,24,1802,23,1812,null,null,null,null,0,222,null,"Total Target Seq"]
[11,1908,22,1920,14,2005,null,null,null,null,0,121,null,{"$f":"COUNTIF(L7:L89,G3)","v":40},null,14,14,13,14,14,14]
[11,2155,22,2165,23,2174,null,null,null,null,0,122,null,null,null,"% of reinforcement given in 6 equal intervals based on number of trials "]
[11,2270,11,2273,21,2288,null,null,null,null,0,112,null,null,null,"%_1","%_2","%_3","%_4","%_5","%_6"]
[11,2382,11,2387,21,2400,null,null,null,null,0,112,null,null,"target sequence",{"$f":"$G$3","v":112},{"$f":"$G$3","v":112},{"$f":"$G$3","v":112},{"$f":"$G$3","v":112},{"$f":"$G$3","v":112},{"$f":"$G$3","v":112}]
[11,2496,11,2500,21,2510,null,null,null,null,0,112,null,null,"total reinforcement",{"$f":"U8","v":7},{"$f":"Z8","v":7},{"$f":"AE8","v":6},{"$f":"AJ8","v":10},{"$f":"AO8","v":6},{"$f":"AT8","v":4}]
[11,2604,11,2617,21,2630,null,null,null,null,0,112,null,null,"% target"]
[11,2722,22,2747,23,2757,null,null,null,null,0,122,null,null,"CCRF"]
[11,2854,22,2864,14,2887,null,null,null,null,0,121,null,null,"% CCRf"]
[11,3012,22,3021,23,3026,null,null,null,null,0,122,null,null,"average response rate",{"$f":"F20/P20","v":143.21428571428572},{"$f":"(F34-F20)/Q20","v":131.5},{"$f":"(F47-F34)/R20","v":183.15384615384616},{"$f":"(F61-F47)/S20","v":140.57142857142858},{"$f":"(F75-F61)/T20","v":151.85714285714286},{"$f":"(F89-F75)/U20","v":146.35714285714286}]
[11,3119,11,3121,12,3126,null,null,null,null,0,111]
[11,3234,22,3247,14,3263,null,null,null,null,0,121]
[11,3368,22,3382,14,3469,null,null,null,null,0,121]
[11,3562,11,3566,21,3580,null,null,null,null,0,112]
[11,3696,11,3702,21,3712,null,null,null,null,0,112]
[11,3815,11,3825,21,3846,null,null,null,null,0,112]
[11,4007,22,4025,14,4083,null,null,null,null,0,121]
[11,4177,22,4195,23,4324,null,null,null,null,0,122]
[11,4417,22,4433,14,4581,null,null,null,null,0,121]
[11,4678,11,4684,21,4696,null,null,null,null,0,112]
[11,4791,22,4803,14,4981,null,null,null,null,0,121]
[11,5076,22,5088,14,5203,null,null,null,null,0,121]
[11,5302,22,5318,14,5398,null,null,null,null,0,121]
[11,5492,11,5497,21,5508,null,null,null,null,0,112]
[11,5676,11,5684,21,5706,null,null,null,null,0,112]
[11,5801,22,5832,23,5842,null,null,null,null,0,122]
[11,5941,11,5946,21,5959,null,null,null,null,0,112]
[11,6076,11,6082,21,6100,null,null,null,null,0,112]
[11,6201,11,6207,21,6227,null,null,null,null,0,112]
[11,6365,11,6370,21,6386,null,null,null,null,0,112]
[11,6495,11,6499,21,6516,null,null,null,null,0,112]
[11,6662,11,6666,21,6689,null,null,null,null,0,112]
[11,6814,22,6830,23,6840,null,null,null,null,0,122]
[11,6937,11,6941,21,6951,null,null,null,null,0,112]
[11,7058,11,7063,12,7069,null,null,null,null,0,111]
[11,7165,22,7183,14,7281,null,null,null,null,0,121]
[22,7381,24,7389,14,7403,null,null,null,null,0,221]
[11,7500,11,7507,21,7517,null,null,null,null,0,112]
[11,7609,11,7620,21,7634,null,null,null,null,0,112]
[11,7759,11,7767,21,7792,null,null,null,null,0,112]
[11,7893,11,7900,21,7914,null,null,null,null,0,112]
[11,8040,11,8049,21,8066,null,null,null,null,0,112]
[11,8161,11,8165,21,8195,null,null,null,null,0,112]
[11,8319,11,8324,12,8329,null,null,null,null,0,111]
[11,8426,22,8440,14,8458,null,null,null,null,0,121]
[11,8554,22,8570,14,8592,null,null,null,null,0,121]
[11,8686,11,8691,21,8705,null,null,null,null,0,112]
[11,8829,22,8846,23,8854,null,null,null,null,0,122]
[11,9005,11,9016,12,9104,null,null,null,null,0,111]
[11,9198,11,9203,21,9223,null,null,null,null,0,112]
[11,9319,11,9322,21,9337,null,null,null,null,0,112]
[11,9445,22,9470,14,9591,null,null,null,null,0,121]
[22,9691,13,9703,23,9714,null,null,null,null,0,212]
[11,9809,11,9817,21,9831,null,null,null,null,0,112]
[11,9927,11,9931,21,9948,null,null,null,null,0,112]
[11,10091,22,10110,14,10207,null,null,null,null,0,121]
[11,10301,11,10310,21,10321,null,null,null,null,0,112]
[11,10414,11,10419,21,10431,null,null,null,null,0,112]
[11,10534,22,10555,23,10583,null,null,null,null,0,122]
[11,10680,22,10695,23,10710,null,null,null,null,0,122]
[11,10824,22,10839,23,10849,null,null,null,null,0,122]
[11,10942,11,10948,21,10969,null,null,null,null,0,112]
[11,11108,22,11134,23,11158,null,null,null,null,0,122]
[11,11254,22,11276,14,11381,null,null,null,null,0,121]
[11,11474,11,11478,12,11483,null,null,null,null,0,111]
[11,11577,11,11580,21,11591,null,null,null,null,0,112]
[11,11801,22,11820,23,11834,null,null,null,null,0,122]
[11,11929,11,11931,12,11936,null,null,null,null,0,111]
[22,12048,13,12057,23,12070,null,null,null,null,0,212]
[11,12195,22,12210,23,12250,null,null,null,null,0,122]
[11,12353,11,12358,21,12370,null,null,null,null,1,112]

{"sheet":"!MC0892I.sha","index":33,"n_rows":101,"n_cols":48,"rows_kept":101,"cut":false,"hidden":false,"merged":[[4,39,4,42],[5,39,5,40],[4,44,4,47],[5,44,5,45],[4,24,4,27],[5,24,5,25],[4,29,4,32],[5,29,5,30],[4,34,4,37],[5,34,5,35],[1,1,1,2],[5,13,5,14],[18,13,18,14],[19,13,19,14],[4,19,4,22],[5,19,5,20]]}
["Report for:!MC0892I.sha"]
["Date:","<date>"]
["Hen:","<hen>",null,null,null,"Correct Sequence",{"$f":"Start!J2","v":112},null,null,null,null,null,null,null,null,"Total Sequences in Data",{"$f":"4994-COUNTBLANK(L7:L5000)","v":95},null,null,null,null,"Total Sequences in Block Data",{"$f":"COUNTA(L7:L22)","v":16},null,null,null,"Total Sequences in Block Data",{"$f":"COUNTA(L23:L38)","v":16},null,null,null,"Total Sequences in Block Data",{"$f":"COUNTA(L39:L53)","v":15},null,null,null,"Total Sequences in Block Data",{"$f":"COUNTA(L54:L69)","v":16},null,null,null,"Total Sequences in Block Data",{"$f":"COUNTA(L70:L85)","v":16},null,null,null,"Total Sequences in Block Data",{"$f":"COUNTA(L86:L101)","v":16}]
[null,null,null,null,null,null,null,null,null,null,null,null,null,null,null,"Total Sequences in Summary",{"$f":"SUM(O7:O14)","v":95},null,null,null,null,"Total Sequences in Block Summary",{"$f":"SUM(U7:U14)","v":16},null,null,null,"Total Sequences in Block Summary",{"$f":"SUM(Z7:Z14)","v":16},null,null,null,"Total Sequences in Block Summary",{"$f":"SUM(AE7:AE14)","v":15},null,null,null,"Total Sequences in Block Summary",{"$f":"SUM(AJ7:AJ14)","v":16},null,null,null,"Total Sequences in Block Summary",{"$f":"SUM(AO7:AO14)","v":16},null,null,null,"Total Sequences in Block Summary",{"$f":"SUM(AT7:AT14)","v":16}]
[null,null,null,null,null,null,null,null,null,null,null,null,null,null,null,null,null,null,null,"Block 1",null,null,null,null,"Block 2",null,null,null,null,"Block 3",null,null,null,null,"Block 4",null,null,null,null,"Block 5",null,null,null,null,"Block 6"]
["Sequence\nComponent\n1","Time\n1","Sequence\nComponent\n2","Time\n2","Sequence\nComponent\n3","Time\n3","Sequence\nComponent\n4","Time\n4","Sequence\nComponent\n5","Time\n5","Correct?\n0=No 1=Yes","Sequence",null,"Frequency",null,"Relative Frequency","Variability",null,null,"Frequency",null,"Relative Frequency","Variability",null,"Frequency",null,"Relative Frequency","Variability",null,"Frequency",null,"Relative Frequency","Variability",null,"Frequency",null,"Relative Frequency","Variability",null,"Frequency",null,"Relative Frequency","Variability",null,"Frequency",null,"Relative Frequency","Variability"]
[11,25,22,39,14,54,null,null,null,null,0,121,null,111,{"$f":"COUNTIF($L$7:$L$500,N7)","v":14},{"$f":"O7/$Q$4","v":0.14736842105263157},{"$f":"IF(P7=0,0,(P7*((LOG(P7))/LOG(2))))","v":-0.40710536429291377},null,null,{"$f":"N7","v":111},{"$f":"COUNTIF(L7:L22,T7)","v":4},{"$f":"U7/(W4-U8)","v":0.36363636363636365},{"$f":"IF(V7=0,0,(V7*((LOG(V7))/LOG(2))))","v":-0.53070240677719893},null,{"$f":"N7","v":111},{"$f":"COUNTIF(L23:L38,Y7)","v":2},{"$f":"Z7/(AB4-Z8)","v":0.16666666666666666},{"$f":"IF(AA7=0,0,(AA7*((LOG(AA7))/LOG(2))))","v":-0.43082708345352599},null,{"$f":"N7","v":111},{"$f":"COUNTIF(L39:L53,AD7)","v":2},{"$f":"AE7/(AG4-AE8)","v":0.2857142857142857},{"$f":"IF(AF7=0,0,(AF7*((LOG(AF7))/LOG(2))))","v":-0.51638712058788683},null,{"$f":"N7","v":111},{"$f":"COUNTIF(L54:L69,AI7)","v":2},{"$f":"AJ7/(AL4-AJ8)","v":0.33333333333333331},{"$f":"IF(AK7=0,0,(AK7*((LOG(AK7))/LOG(2))))","v":-0.52832083357371862},null,{"$f":"N7","v":111},{"$f":"COUNTIF(L70:L85,AN7)","v":0},{"$f":"AO7/(AQ4-AO8)","v":0},{"$f":"IF(AP7=0,0,(AP7*((LOG(AP7))/LOG(2))))","v":0},null,{"$f":"N7","v":111},{"$f":"COUNTIF(L86:L101,AS7)","v":4},{"$f":"AT7/(AV4-AT8)","v":0.33333333333333331},{"$f":"IF(AU7=0,0,(AU7*((LOG(AU7))/LOG(2))))","v":-0.52832083357371862}]
[11,147,11,153,21,159,null,null,null,null,0,112,null,112,{"$f":"COUNTIF($L$7:$L$500,N8)","v":40},{"$f":"O8/$Q$4","v":0.42105263157894735},{"$f":"IF(P8=0,0,(P8*((LOG(P8))/LOG(2))))","v":-0.52544316355519383},null,null,{"$f":"N8","v":112},{"$f":"COUNTIF(L7:L22,T8)","v":5},null,null,null,{"$f":"N8","v":112},{"$f":"COUNTIF(L23:L38,Y8)","v":4},null,null,null,{"$f":"N8","v":112},{"$f":"COUNTIF(L39:L53,AD8)","v":8},null,null,null,{"$f":"N8","v":112},{"$f":"COUNTIF(L54:L69,AI8)","v":10},null,null,null,{"$f":"N8","v":112},{"$f":"COUNTIF(L70:L85,AN8)","v":9},null,null,null,{"$f":"N8","v":112},{"$f":"COUNTIF(L86:L101,AS8)","v":4}]
[11,264,11,271,12,276,null,null,null,null,0,111,null,121,{"$f":"COUNTIF($L$7:$L$500,N9)","v":21},{"$f":"O9/$Q$4","v":0.22105263157894736},{"$f":"IF(P9=0,0,(P9*((LOG(P9))/LOG(2))))","v":-0.48135054627995721},null,null,{"$f":"N9","v":121},{"$f":"COUNTIF(L7:L22,T9)","v":2},{"$f":"U9/(W4-U8)","v":0.18181818181818182},{"$f":"IF(V9=0,0,(V9*((LOG(V9))/LOG(2))))","v":-0.44716938520678134},null,{"$f":"N9","v":121},{"$f":"COUNTIF(L23:L38,Y9)","v":9},{"$f":"Z9/(AB4-Z8)","v":0.75},{"$f":"IF(AA9=0,0,(AA9*((LOG(AA9))/LOG(2))))","v":-0.31127812445913283},null,{"$f":"N9","v":121},{"$f":"COUNTIF(L39:L53,AD9)","v":3},{"$f":"AE9/(AG4-AE8)","v":0.42857142857142855},{"$f":"IF(AF9=0,0,(AF9*((LOG(AF9))/LOG(2))))","v":-0.52388246628704915},null,{"$f":"N9","v":121},{"$f":"COUNTIF(L54:L69,AI9)","v":3},{"$f":"AJ9/(AL4-AJ8)","v":0.5},{"$f":"IF(AK9=0,0,(AK9*((LOG(AK9))/LOG(2))))","v":-0.5},null,{"$f":"N9","v":121},{"$f":"COUNTIF(L70:L85,AN9)","v":1},{"$f":"AO9/(AQ4-AO8)","v":0.14285714285714285},{"$f":"IF(AP9=0,0,(AP9*((LOG(AP9))/LOG(2))))","v":-0.40105070315108626},null,{"$f":"N9","v":121},{"$f":"COUNTIF(L86:L101,AS9)","v":3},{"$f":"AT9/(AV4-AT8)","v":0.25},{"$f":"IF(AU9=0,0,(AU9*((LOG(AU9))/LOG(2))))","v":-0.5}]
[11,376,22,390,14,516,null,null,null,null,0,121,null,122,{"$f":"COUNTIF($L$7:$L$500,N10)","v":16},{"$f":"O10/$Q$4","v":0.16842105263157894},{"$f":"IF(P10=0,0,(P10*((LOG(P10))/LOG(2))))","v":-0.43281778666626491},null,null,{"$f":"N10","v":122},{"$f":"COUNTIF(L7:L22,T10)","v":3},{"$f":"U10/(W4-U8)","v":0.27272727272727271},{"$f":"IF(V10=0,0,(V10*((LOG(V10))/LOG(2))))","v":-0.51121885034076575},null,{"$f":"N10","v":122},{"$f":"COUNTIF(L23:L38,Y10)","v":1},{"$f":"Z10/(AB4-Z8)","v":8.3333333333333329E-2},{"$f":"IF(AA10=0,0,(AA10*((LOG(AA10))/LOG(2))))","v":-0.29874687506009634},null,{"$f":"N10","v":122},{"$f":"COUNTIF(L39:L53,AD10)","v":2},{"$f":"AE10/(AG4-AE8)","v":0.2857142857142857},{"$f":"IF(AF10=0,0,(AF10*((LOG(AF10))/LOG(2))))","v":-0.51638712058788683},null,{"$f":"N10","v":122},{"$f":"COUNTIF(L54:L69,AI10)","v":1},{"$f":"AJ10/(AL4-AJ8)","v":0.16666666666666666},{"$f":"IF(AK10=0,0,(AK10*((LOG(AK10))/LOG(2))))","v":-0.43082708345352599},null,{"$f":"N10","v":122},{"$f":"COUNTIF(L70:L85,AN10)","v":4},{"$f":"AO10/(AQ4-AO8)","v":0.5714285714285714},{"$f":"IF(AP10=0,0,(AP10*((LOG(AP10))/LOG(2))))","v":-0.46134566974720237},null,{"$f":"N10","v":122},{"$f":"COUNTIF(L86:L101,AS10)","v":5},{"$f":"AT10/(AV4-AT8)","v":0.41666666666666669},{"$f":"IF(AU10=0,0,(AU10*((LOG(AU10))/LOG(2))))","v":-0.52626433576408083}]
[22,631,13,786,14,789,null,null,null,null,0,211,null,211,{"$f":"COUNTIF($L$7:$L$500,N11)","v":1},{"$f":"O11/$Q$4","v":1.0526315789473684E-2},{"$f":"IF(P11=0,0,(P11*((LOG(P11))/LOG(2))))","v":-6.9156374824536293E-2},null,null,{"$f":"N11","v":211},{"$f":"COUNTIF(L7:L22,T11)","v":1},{"$f":"U11/(W4-U8)","v":9.0909090909090912E-2},{"$f":"IF(V11=0,0,(V11*((LOG(V11))/LOG(2))))","v":-0.31449378351248153},null,{"$f":"N11","v":211},{"$f":"COUNTIF(L23:L38,Y11)","v":0},{"$f":"Z11/(AB4-Z8)","v":0},{"$f":"IF(AA11=0,0,(AA11*((LOG(AA11))/LOG(2))))","v":0},null,{"$f":"N11","v":211},{"$f":"COUNTIF(L39:L53,AD11)","v":0},{"$f":"AE11/(AG4-AE8)","v":0},{"$f":"IF(AF11=0,0,(AF11*((LOG(AF11))/LOG(2))))","v":0},null,{"$f":"N11","v":211},{"$f":"COUNTIF(L54:L69,AI11)","v":0},{"$f":"AJ11/(AL4-AJ8)","v":0},{"$f":"IF(AK11=0,0,(AK11*((LOG(AK11))/LOG(2))))","v":0},null,{"$f":"N11","v":211},{"$f":"COUNTIF(L70:L85,AN11)","v":0},{"$f":"AO11/(AQ4-AO8)","v":0},{"$f":"IF(AP11=0,0,(AP11*((LOG(AP11))/LOG(2))))","v":0},null,{"$f":"N11","v":211},{"$f":"COUNTIF(L86:L101,AS11)","v":0},{"$f":"AT11/(AV4-AT8)","v":0},{"$f":"IF(AU11=0,0,(AU11*((LOG(AU11))/LOG(2))))","v":0}]
[11,884,22,901,23,907,null,null,null,null,0,122,null,212,{"$f":"COUNTIF($L$7:$L$500,N12)","v":0},{"$f":"O12/$Q$4","v":0},{"$f":"IF(P12=0,0,(P12*((LOG(P12))/LOG(2))))","v":0},null,null,{"$f":"N12","v":212},{"$f":"COUNTIF(L7:L22,T12)","v":0},{"$f":"U12/(W4-U8)","v":0},{"$f":"IF(V12=0,0,(V12*((LOG(V12))/LOG(2))))","v":0},null,{"$f":"N12","v":212},{"$f":"COUNTIF(L23:L38,Y12)","v":0},{"$f":"Z12/(AB4-Z8)","v":0},{"$f":"IF(AA12=0,0,(AA12*((LOG(AA12))/LOG(2))))","v":0},null,{"$f":"N12","v":212},{"$f":"COUNTIF(L39:L53,AD12)","v":0},{"$f":"AE12/(AG4-AE8)","v":0},{"$f":"IF(AF12=0,0,(AF12*((LOG(AF12))/LOG(2))))","v":0},null,{"$f":"N12","v":212},{"$f":"COUNTIF(L54:L69,AI12)","v":0},{"$f":"AJ12/(AL4-AJ8)","v":0},{"$f":"IF(AK12=0,0,(AK12*((LOG(AK12))/LOG(2))))","v":0},null,{"$f":"N12","v":212},{"$f":"COUNTIF(L70:L85,AN12)","v":0},{"$f":"AO12/(AQ4-AO8)","v":0},{"$f":"IF(AP12=0,0,(AP12*((LOG(AP12))/LOG(2))))","v":0},null,{"$f":"N12","v":212},{"$f":"COUNTIF(L86:L101,AS12)","v":0},{"$f":"AT12/(AV4-AT8)","v":0},{"$f":"IF(AU12=0,0,(AU12*((LOG(AU12))/LOG(2))))","v":0}]
[11,1003,11,1006,21,1019,null,null,null,null,0,112,null,221,{"$f":"COUNTIF($L$7:$L$500,N13)","v":1},{"$f":"O13/$Q$4","v":1.0526315789473684E-2},{"$f":"IF(P13=0,0,(P13*((LOG(P13))/LOG(2))))","v":-6.9156374824536293E-2},null,null,{"$f":"N13","v":221},{"$f":"COUNTIF(L7:L22,T13)","v":0},{"$f":"U13/(W4-U8)","v":0},{"$f":"IF(V13=0,0,(V13*((LOG(V13))/LOG(2))))","v":0},null,{"$f":"N13","v":221},{"$f":"COUNTIF(L23:L38,Y13)","v":0},{"$f":"Z13/(AB4-Z8)","v":0},{"$f":"IF(AA13=0,0,(AA13*((LOG(AA13))/LOG(2))))","v":0},null,{"$f":"N13","v":221},{"$f":"COUNTIF(L39:L53,AD13)","v":0},{"$f":"AE13/(AG4-AE8)","v":0},{"$f":"IF(AF13=0,0,(AF13*((LOG(AF13))/LOG(2))))","v":0},null,{"$f":"N13","v":221},{"$f":"COUNTIF(L54:L69,AI13)","v":0},{"$f":"AJ13/(AL4-AJ8)","v":0},{"$f":"IF(AK13=0,0,(AK13*((LOG(AK13))/LOG(2))))","v":0},null,{"$f":"N13","v":221},{"$f":"COUNTIF(L70:L85,AN13)","v":1},{"$f":"AO13/(AQ4-AO8)","v":0.14285714285714285},{"$f":"IF(AP13=0,0,(AP13*((LOG(AP13))/LOG(2))))","v":-0.40105070315108626},null,{"$f":"N13","v":221},{"$f":"COUNTIF(L86:L101,AS13)","v":0},{"$f":"AT13/(AV4-AT8)","v":0},{"$f":"IF(AU13=0,0,(AU13*((LOG(AU13))/LOG(2))))","v":0}]
[11,1118,11,1125,12,1127,null,null,null,null,0,111,null,222,{"$f":"COUNTIF($L$7:$L$500,N14)","v":2},{"$f":"O14/$Q$4","v":2.1052631578947368E-2},{"$f":"IF(P14=0,0,(P14*((LOG(P14))/LOG(2))))","v":-0.11726011807012522},null,null,{"$f":"N14","v":222},{"$f":"COUNTIF(L7:L22,T14)","v":1},{"$f":"U14/(W4-U8)","v":9.0909090909090912E-2},{"$f":"IF(V14=0,0,(V14*((LOG(V14))/LOG(2))))","v":-0.31449378351248153},null,{"$f":"N14","v":222},{"$f":"COUNTIF(L23:L38,Y14)","v":0},{"$f":"Z14/(AB4-Z8)","v":0},{"$f":"IF(AA14=0,0,(AA14*((LOG(AA14))/LOG(2))))","v":0},null,{"$f":"N14","v":222},{"$f":"COUNTIF(L39:L53,AD14)","v":0},{"$f":"AE14/(AG4-AE8)","v":0},{"$f":"IF(AF14=0,0,(AF14*((LOG(AF14))/LOG(2))))","v":0},null,{"$f":"N14","v":222},{"$f":"COUNTIF(L54:L69,AI14)","v":0},{"$f":"AJ14/(AL4-AJ8)","v":0},{"$f":"IF(AK14=0,0,(AK14*((LOG(AK14))/LOG(2))))","v":0},null,{"$f":"N14","v":222},{"$f":"COUNTIF(L70:L85,AN14)","v":1},{"$f":"AO14/(AQ4-AO8)","v":0.14285714285714285},{"$f":"IF(AP14=0,0,(AP14*((LOG(AP14))/LOG(2))))","v":-0.40105070315108626},null,{"$f":"N14","v":222},{"$f":"COUNTIF(L86:L101,AS14)","v":0},{"$f":"AT14/(AV4-AT8)","v":0},{"$f":"IF(AU14=0,0,(AU14*((LOG(AU14))/LOG(2))))","v":0}]
[11,1225,22,1239,23,1246,null,null,null,null,0,122,null,null,null,{"$f":"SUM(P7:P14)","v":1},{"$f":"-SUM(Q7:Q14)","v":2.1022897285135276},null,null,null,null,{"$f":"SUM(V7:V14)","v":1},{"$f":"-SUM(W7:W14)","v":2.1180782093497093},null,null,null,{"$f":"SUM(AA7:AA14)","v":1},{"$f":"-SUM(AB7:AB14)","v":1.0408520829727552},null,null,null,{"$f":"SUM(AF7:AF14)","v":0.99999999999999989},{"$f":"-SUM(AG7:AG14)","v":1.5566567074628228},null,null,null,{"$f":"SUM(AK7:AK14)","v":0.99999999999999989},{"$f":"-SUM(AL7:AL14)","v":1.4591479170272446},null,null,null,{"$f":"SUM(AP7:AP14)","v":0.99999999999999978},{"$f":"-SUM(AQ7:AQ14)","v":1.6644977792004614},null,null,null,{"$f":"SUM(AU7:AU14)","v":1},{"$f":"-SUM(AV7:AV14)","v":1.5545851693377994}]
[22,1424,24,1429,23,1456,null,null,null,null,0,222,null,null,null,"U=",{"$f":"Q15/(LOG(Q4)/LOG(2))","v":0.31999024846873431},null,null,null,null,"U1=",{"$f":"W15/(LOG(W4)/LOG(2))","v":0.52951955233742731},null,null,null,"U2=",{"$f":"AB15/(LOG(AB4)/LOG(2))","v":0.26021302074318881},null,null,null,"U3=",{"$f":"AG15/(LOG(AG4)/LOG(2))","v":0.39843877614913487},null,null,null,"U4=",{"$f":"AL15/(LOG(AL4)/LOG(2))","v":0.36478697925681114},null,null,null,"U5=",{"$f":"AQ15/(LOG(AQ4)/LOG(2))","v":0.41612444480011535},null,null,null,"U6=",{"$f":"AV15/(LOG(AV4)/LOG(2))","v":0.38864629233444986}]
[11,1551,11,1557,21,1572,null,null,null,null,0,112]
[11,1696,11,1705,12,1708,null,null,null,null,0,111]
[11,1799,11,1802,12,1804,null,null,null,null,0,111,null,"Total Target Seq"]
[11,1900,22,1911,23,1918,null,null,null,null,0,122,null,{"$f":"COUNTIF(L7:L101,G3)","v":40},null,16,16,15,16,16,16]
[11,2013,11,2017,21,2031,null,null,null,null,0,112,null,null,null,"% of reinforcement given in 6 equal intervals based on number of trials "]
[11,2142,11,2149,21,2163,null,null,null,null,0,112,null,null,null,"%_1","%_2","%_3","%_4","%_5","%_6"]
[11,2254,22,2269,23,2284,null,null,null,null,0,122,null,null,"target sequence",{"$f":"$G$3","v":112},{"$f":"$G$3","v":112},{"$f":"$G$3","v":112},{"$f":"$G$3","v":112},{"$f":"$G$3","v":112},{"$f":"$G$3","v":112}]
[11,2381,22,2396,14,2425,null,null,null,null,0,121,null,null,"total reinforcement",{"$f":"U8","v":5},{"$f":"Z8","v":4},{"$f":"AE8","v":8},{"$f":"AJ8","v":10},{"$f":"AO8","v":9},{"$f":"AT8","v":4}]
[11,2517,11,2521,21,2532,null,null,null,null,0,112,null,null,"% target"]
[11,2661,22,2702,14,2798,null,null,null,null,0,121,null,null,"CCRF"]
[11,2892,22,2907,14,2926,null,null,null,null,0,121,null,null,"% CCRf"]
[11,3021,11,3024,21,3037,null,null,null,null,0,112,null,null,"average response rate",{"$f":"F22/P20","v":135.1875},{"$f":"(F38-F22)/Q20","v":160.75},{"$f":"(F53-F38)/R20","v":156.06666666666666},{"$f":"(F69-F53)/S20","v":159.1875},{"$f":"(F85-F69)/T20","v":148.6875},{"$f":"(F101-F85)/U20","v":127.125}]
[11,3140,22,3153,14,3241,null,null,null,null,0,121]
[11,3335,11,3340,21,3349,null,null,null,null,0,112]
[11,3441,22,3457,14,3544,null,null,null,null,0,121]
[11,3640,22,3690,14,3705,null,null,null,null,0,121]
[11,3801,11,3804,21,3820,null,null,null,null,0,112]
[11,3914,22,3948,14,4081,null,null,null,null,0,121]
[11,4176,22,4195,14,4302,null,null,null,null,0,121]
[11,4398,11,4401,12,4403,null,null,null,null,0,111]
[11,4499,22,4513,14,4635,null,null,null,null,0,121]
[11,4727,11,4729,12,4735,null,null,null,null,0,111]
[11,4829,22,4851,23,4890,null,null,null,null,0,122]
[11,4985,11,4995,21,5009,null,null,null,null,0,112]
[11,5145,11,5150,21,5160,null,null,null,null,0,112]
[11,5302,11,5309,21,5327,null,null,null,null,0,112]
[11,5441,11,5446,12,5455,null,null,null,null,0,111]
[11,5549,11,5553,21,5570,null,null,null,null,0,112]
[11,5663,11,5668,21,5684,null,null,null,null,0,112]
[11,5797,22,5838,14,6056,null,null,null,null,0,121]
[11,6150,22,6162,14,6176,null,null,null,null,0,121]
[11,6276,22,6297,14,6461,null,null,null,null,0,121]
[11,6554,11,6558,21,6578,null,null,null,null,0,112]
[11,6681,11,6692,21,6706,null,null,null,null,0,112]
[11,6812,11,6818,12,6826,null,null,null,null,0,111]
[11,6925,22,6947,23,6959,null,null,null,null,0,122]
[11,7062,11,7067,21,7076,null,null,null,null,0,112]
[11,7194,11,7198,12,7201,null,null,null,null,0,111]
[11,7295,11,7297,21,7307,null,null,null,null,0,112]
[11,7405,11,7409,12,7417,null,null,null,null,0,111]
[11,7516,11,7519,21,7533,null,null,null,null,0,112]
[11,7644,22,7659,14,7763,null,null,null,null,0,121]
[11,7858,11,7866,21,7886,null,null,null,null,0,112]
[11,7981,11,7986,21,7997,null,null,null,null,0,112]
[11,8142,11,8149,21,8164,null,null,null,null,0,112]
[11,8305,11,8311,21,8337,null,null,null,null,0,112]
[11,8435,11,8440,21,8458,null,null,null,null,0,112]
[11,8560,11,8571,21,8592,null,null,null,null,0,112]
[11,8696,22,8704,23,8715,null,null,null,null,0,122]
[11,8829,11,8906,21,9013,null,null,null,null,0,112]
[11,9108,11,9114,21,9128,null,null,null,null,0,112]
[11,9222,22,9235,14,9382,null,null,null,null,0,121]
[11,9475,22,9495,14,9623,null,null,null,null,0,121]
[11,9720,22,9731,23,9740,null,null,null,null,0,122]
[11,9832,11,9837,21,9851,null,null,null,null,0,112]
[11,9948,11,9954,21,9966,null,null,null,null,0,112]
[11,10064,11,10069,21,10086,null,null,null,null,0,112]
[11,10207,22,10227,23,10240,null,null,null,null,0,122]
[11,10339,11,10349,21,10358,null,null,null,null,0,112]
[11,10480,11,10484,21,10507,null,null,null,null,0,112]
[11,10666,11,10672,21,10686,null,null,null,null,0,112]
[22,10784,24,10789,23,10796,null,null,null,null,0,222]
[11,10890,11,10898,21,10917,null,null,null,null,0,112]
[11,11010,11,11015,21,11035,null,null,null,null,0,112]
[11,11196,22,11212,14,11422,null,null,null,null,0,121]
[22,11521,24,11528,14,11611,null,null,null,null,0,221]
[11,11704,22,11717,23,11745,null,null,null,null,0,122]
[11,11840,11,11847,21,11860,null,null,null,null,0,112]
[11,11966,22,11983,23,12002,null,null,null,null,0,122]
[11,12095,11,12099,12,12101,null,null,null,null,0,111]
[11,12196,11,12198,12,12202,null,null,null,null,0,111]
[11,12297,11,12301,21,12310,null,null,null,null,0,112]
[11,12400,22,12414,23,12424,null,null,null,null,0,122]
[11,12529,22,12537,23,12546,null,null,null,null,0,122]
[11,12640,11,12642,21,12651,null,null,null,null,0,112]
[11,12746,11,12750,12,12754,null,null,null,null,0,111]
[11,12849,22,12864,14,12880,null,null,null,null,0,121]
[11,12972,11,12976,12,12979,null,null,null,null,0,111]
[11,13094,11,13098,21,13111,null,null,null,null,0,112]
[11,13210,22,13222,14,13327,null,null,null,null,0,121]
[11,13421,22,13436,23,13447,null,null,null,null,0,122]
[11,13542,22,13561,14,13675,null,null,null,null,0,121]
[11,13771,22,13783,23,13791,null,null,null,null,0,122]
[11,13887,22,13905,23,13913,null,null,null,null,0,122]
[11,14009,11,14015,21,14036,null,null,null,null,1,112]

{"sheet":"!MC09A2I.sha","index":34,"n_rows":112,"n_cols":48,"rows_kept":112,"cut":false,"hidden":false,"merged":[[4,39,4,42],[5,39,5,40],[4,44,4,47],[5,44,5,45],[4,24,4,27],[5,24,5,25],[4,29,4,32],[5,29,5,30],[4,34,4,37],[5,34,5,35],[1,1,1,2],[5,13,5,14],[18,13,18,14],[19,13,19,14],[4,19,4,22],[5,19,5,20]]}
["Report for:!MC09A2I.sha"]
["Date:","<date>"]
["Hen:","<hen>",null,null,null,"Correct Sequence",{"$f":"Start!J2","v":112},null,null,null,null,null,null,null,null,"Total Sequences in Data",{"$f":"4994-COUNTBLANK(L7:L5000)","v":106},null,null,null,null,"Total Sequences in Block Data",{"$f":"COUNTA(L7:L24)","v":18},null,null,null,"Total Sequences in Block Data",{"$f":"COUNTA(L25:L41)","v":17},null,null,null,"Total Sequences in Block Data",{"$f":"COUNTA(L42:L59)","v":18},null,null,null,"Total Sequences in Block Data",{"$f":"COUNTA(L60:L77)","v":18},null,null,null,"Total Sequences in Block Data",{"$f":"COUNTA(L78:L94)","v":17},null,null,null,"Total Sequences in Block Data",{"$f":"COUNTA(L95:L112)","v":18}]
[null,null,null,null,null,null,null,null,null,null,null,null,null,null,null,"Total Sequences in Summary",{"$f":"SUM(O7:O14)","v":106},null,null,null,null,"Total Sequences in Block Summary",{"$f":"SUM(U7:U14)","v":18},null,null,null,"Total Sequences in Block Summary",{"$f":"SUM(Z7:Z14)","v":17},null,null,null,"Total Sequences in Block Summary",{"$f":"SUM(AE7:AE14)","v":18},null,null,null,"Total Sequences in Block Summary",{"$f":"SUM(AJ7:AJ14)","v":18},null,null,null,"Total Sequences in Block Summary",{"$f":"SUM(AO7:AO14)","v":17},null,null,null,"Total Sequences in Block Summary",{"$f":"SUM(AT7:AT14)","v":18}]
[null,null,null,null,null,null,null,null,null,null,null,null,null,null,null,null,null,null,null,"Block 1",null,null,null,null,"Block 2",null,null,null,null,"Block 3",null,null,null,null,"Block 4",null,null,null,null,"Block 5",null,null,null,null,"Block 6"]
["Sequence\nComponent\n1","Time\n1","Sequence\nComponent\n2","Time\n2","Sequence\nComponent\n3","Time\n3","Sequence\nComponent\n4","Time\n4","Sequence\nComponent\n5","Time\n5","Correct?\n0=No 1=Yes","Sequence",null,"Frequency",null,"Relative Frequency","Variability",null,null,"Frequency",null,"Relative Frequency","Variability",null,"Frequency",null,"Relative Frequency","Variability",null,"Frequency",null,"Relative Frequency","Variability",null,"Frequency",null,"Relative Frequency","Variability",null,"Frequency",null,"Relative Frequency","Variability",null,"Frequency",null,"Relative Frequency","Variability"]
[11,56,22,68,23,78,null,null,null,null,0,122,null,111,{"$f":"COUNTIF($L$7:$L$500,N7)","v":12},{"$f":"O7/$Q$4","v":0.11320754716981132},{"$f":"IF(P7=0,0,(P7*((LOG(P7))/LOG(2))))","v":-0.35580656081230677},null,null,{"$f":"N7","v":111},{"$f":"COUNTIF(L7:L24,T7)","v":3},{"$f":"U7/(W4-U8)","v":0.5},{"$f":"IF(V7=0,0,(V7*((LOG(V7))/LOG(2))))","v":-0.5},null,{"$f":"N7","v":111},{"$f":"COUNTIF(L25:L41,Y7)","v":3},{"$f":"Z7/(AB4-Z8)","v":0.3},{"$f":"IF(AA7=0,0,(AA7*((LOG(AA7))/LOG(2))))","v":-0.52108967824986185},null,{"$f":"N7","v":111},{"$f":"COUNTIF(L42:L59,AD7)","v":4},{"$f":"AE7/(AG4-AE8)","v":0.2857142857142857},{"$f":"IF(AF7=0,0,(AF7*((LOG(AF7))/LOG(2))))","v":-0.51638712058788683},null,{"$f":"N7","v":111},{"$f":"COUNTIF(L60:L77,AI7)","v":1},{"$f":"AJ7/(AL4-AJ8)","v":7.1428571428571425E-2},{"$f":"IF(AK7=0,0,(AK7*((LOG(AK7))/LOG(2))))","v":-0.27195392300411453},null,{"$f":"N7","v":111},{"$f":"COUNTIF(L78:L94,AN7)","v":0},{"$f":"AO7/(AQ4-AO8)","v":0},{"$f":"IF(AP7=0,0,(AP7*((LOG(AP7))/LOG(2))))","v":0},null,{"$f":"N7","v":111},{"$f":"COUNTIF(L95:L112,AS7)","v":1},{"$f":"AT7/(AV4-AT8)","v":9.0909090909090912E-2},{"$f":"IF(AU7=0,0,(AU7*((LOG(AU7))/LOG(2))))","v":-0.31449378351248153}]
[11,175,11,181,21,191,null,null,null,null,0,112,null,112,{"$f":"COUNTIF($L$7:$L$500,N8)","v":40},{"$f":"O8/$Q$4","v":0.37735849056603776},{"$f":"IF(P8=0,0,(P8*((LOG(P8))/LOG(2))))","v":-0.53056315459465531},null,null,{"$f":"N8","v":112},{"$f":"COUNTIF(L7:L24,T8)","v":12},null,null,null,{"$f":"N8","v":112},{"$f":"COUNTIF(L25:L41,Y8)","v":7},null,null,null,{"$f":"N8","v":112},{"$f":"COUNTIF(L42:L59,AD8)","v":4},null,null,null,{"$f":"N8","v":112},{"$f":"COUNTIF(L60:L77,AI8)","v":4},null,null,null,{"$f":"N8","v":112},{"$f":"COUNTIF(L78:L94,AN8)","v":6},null,null,null,{"$f":"N8","v":112},{"$f":"COUNTIF(L95:L112,AS8)","v":7}]
[11,396,11,402,21,413,null,null,null,null,0,112,null,121,{"$f":"COUNTIF($L$7:$L$500,N9)","v":16},{"$f":"O9/$Q$4","v":0.15094339622641509},{"$f":"IF(P9=0,0,(P9*((LOG(P9))/LOG(2))))","v":-0.41176157804727531},null,null,{"$f":"N9","v":121},{"$f":"COUNTIF(L7:L24,T9)","v":2},{"$f":"U9/(W4-U8)","v":0.33333333333333331},{"$f":"IF(V9=0,0,(V9*((LOG(V9))/LOG(2))))","v":-0.52832083357371862},null,{"$f":"N9","v":121},{"$f":"COUNTIF(L25:L41,Y9)","v":2},{"$f":"Z9/(AB4-Z8)","v":0.2},{"$f":"IF(AA9=0,0,(AA9*((LOG(AA9))/LOG(2))))","v":-0.46438561897747244},null,{"$f":"N9","v":121},{"$f":"COUNTIF(L42:L59,AD9)","v":3},{"$f":"AE9/(AG4-AE8)","v":0.21428571428571427},{"$f":"IF(AF9=0,0,(AF9*((LOG(AF9))/LOG(2))))","v":-0.47622694742923877},null,{"$f":"N9","v":121},{"$f":"COUNTIF(L60:L77,AI9)","v":3},{"$f":"AJ9/(AL4-AJ8)","v":0.21428571428571427},{"$f":"IF(AK9=0,0,(AK9*((LOG(AK9))/LOG(2))))","v":-0.47622694742923877},null,{"$f":"N9","v":121},{"$f":"COUNTIF(L78:L94,AN9)","v":3},{"$f":"AO9/(AQ4-AO8)","v":0.27272727272727271},{"$f":"IF(AP9=0,0,(AP9*((LOG(AP9))/LOG(2))))","v":-0.51121885034076575},null,{"$f":"N9","v":121},{"$f":"COUNTIF(L95:L112,AS9)","v":3},{"$f":"AT9/(AV4-AT8)","v":0.27272727272727271},{"$f":"IF(AU9=0,0,(AU9*((LOG(AU9))/LOG(2))))","v":-0.51121885034076575}]
[11,530,11,531,12,538,null,null,null,null,0,111,null,122,{"$f":"COUNTIF($L$7:$L$500,N10)","v":31},{"$f":"O10/$Q$4","v":0.29245283018867924},{"$f":"IF(P10=0,0,(P10*((LOG(P10))/LOG(2))))","v":-0.51873064593835883},null,null,{"$f":"N10","v":122},{"$f":"COUNTIF(L7:L24,T10)","v":1},{"$f":"U10/(W4-U8)","v":0.16666666666666666},{"$f":"IF(V10=0,0,(V10*((LOG(V10))/LOG(2))))","v":-0.43082708345352599},null,{"$f":"N10","v":122},{"$f":"COUNTIF(L25:L41,Y10)","v":4},{"$f":"Z10/(AB4-Z8)","v":0.4},{"$f":"IF(AA10=0,0,(AA10*((LOG(AA10))/LOG(2))))","v":-0.52877123795494496},null,{"$f":"N10","v":122},{"$f":"COUNTIF(L42:L59,AD10)","v":5},{"$f":"AE10/(AG4-AE8)","v":0.35714285714285715},{"$f":"IF(AF10=0,0,(AF10*((LOG(AF10))/LOG(2))))","v":-0.53050958113222924},null,{"$f":"N10","v":122},{"$f":"COUNTIF(L60:L77,AI10)","v":8},{"$f":"AJ10/(AL4-AJ8)","v":0.5714285714285714},{"$f":"IF(AK10=0,0,(AK10*((LOG(AK10))/LOG(2))))","v":-0.46134566974720237},null,{"$f":"N10","v":122},{"$f":"COUNTIF(L78:L94,AN10)","v":7},{"$f":"AO10/(AQ4-AO8)","v":0.63636363636363635},{"$f":"IF(AP10=0,0,(AP10*((LOG(AP10))/LOG(2))))","v":-0.41495789782344106},null,{"$f":"N10","v":122},{"$f":"COUNTIF(L95:L112,AS10)","v":6},{"$f":"AT10/(AV4-AT8)","v":0.54545454545454541},{"$f":"IF(AU10=0,0,(AU10*((LOG(AU10))/LOG(2))))","v":-0.47698315522698609}]
[11,630,11,637,21,655,null,null,null,null,0,112,null,211,{"$f":"COUNTIF($L$7:$L$500,N11)","v":0},{"$f":"O11/$Q$4","v":0},{"$f":"IF(P11=0,0,(P11*((LOG(P11))/LOG(2))))","v":0},null,null,{"$f":"N11","v":211},{"$f":"COUNTIF(L7:L24,T11)","v":0},{"$f":"U11/(W4-U8)","v":0},{"$f":"IF(V11=0,0,(V11*((LOG(V11))/LOG(2))))","v":0},null,{"$f":"N11","v":211},{"$f":"COUNTIF(L25:L41,Y11)","v":0},{"$f":"Z11/(AB4-Z8)","v":0},{"$f":"IF(AA11=0,0,(AA11*((LOG(AA11))/LOG(2))))","v":0},null,{"$f":"N11","v":211},{"$f":"COUNTIF(L42:L59,AD11)","v":0},{"$f":"AE11/(AG4-AE8)","v":0},{"$f":"IF(AF11=0,0,(AF11*((LOG(AF11))/LOG(2))))","v":0},null,{"$f":"N11","v":211},{"$f":"COUNTIF(L60:L77,AI11)","v":0},{"$f":"AJ11/(AL4-AJ8)","v":0},{"$f":"IF(AK11=0,0,(AK11*((LOG(AK11))/LOG(2))))","v":0},null,{"$f":"N11","v":211},{"$f":"COUNTIF(L78:L94,AN11)","v":0},{"$f":"AO11/(AQ4-AO8)","v":0},{"$f":"IF(AP11=0,0,(AP11*((LOG(AP11))/LOG(2))))","v":0},null,{"$f":"N11","v":211},{"$f":"COUNTIF(L95:L112,AS11)","v":0},{"$f":"AT11/(AV4-AT8)","v":0},{"$f":"IF(AU11=0,0,(AU11*((LOG(AU11))/LOG(2))))","v":0}]
[11,807,22,834,14,927,null,null,null,null,0,121,null,212,{"$f":"COUNTIF($L$7:$L$500,N12)","v":2},{"$f":"O12/$Q$4","v":1.8867924528301886E-2},{"$f":"IF(P12=0,0,(P12*((LOG(P12))/LOG(2))))","v":-0.10807397084081509},null,null,{"$f":"N12","v":212},{"$f":"COUNTIF(L7:L24,T12)","v":0},{"$f":"U12/(W4-U8)","v":0},{"$f":"IF(V12=0,0,(V12*((LOG(V12))/LOG(2))))","v":0},null,{"$f":"N12","v":212},{"$f":"COUNTIF(L25:L41,Y12)","v":0},{"$f":"Z12/(AB4-Z8)","v":0},{"$f":"IF(AA12=0,0,(AA12*((LOG(AA12))/LOG(2))))","v":0},null,{"$f":"N12","v":212},{"$f":"COUNTIF(L42:L59,AD12)","v":1},{"$f":"AE12/(AG4-AE8)","v":7.1428571428571425E-2},{"$f":"IF(AF12=0,0,(AF12*((LOG(AF12))/LOG(2))))","v":-0.27195392300411453},null,{"$f":"N12","v":212},{"$f":"COUNTIF(L60:L77,AI12)","v":0},{"$f":"AJ12/(AL4-AJ8)","v":0},{"$f":"IF(AK12=0,0,(AK12*((LOG(AK12))/LOG(2))))","v":0},null,{"$f":"N12","v":212},{"$f":"COUNTIF(L78:L94,AN12)","v":0},{"$f":"AO12/(AQ4-AO8)","v":0},{"$f":"IF(AP12=0,0,(AP12*((LOG(AP12))/LOG(2))))","v":0},null,{"$f":"N12","v":212},{"$f":"COUNTIF(L95:L112,AS12)","v":1},{"$f":"AT12/(AV4-AT8)","v":9.0909090909090912E-2},{"$f":"IF(AU12=0,0,(AU12*((LOG(AU12))/LOG(2))))","v":-0.31449378351248153}]
[11,1044,11,1050,21,1062,null,null,null,null,0,112,null,221,{"$f":"COUNTIF($L$7:$L$500,N13)","v":0},{"$f":"O13/$Q$4","v":0},{"$f":"IF(P13=0,0,(P13*((LOG(P13))/LOG(2))))","v":0},null,null,{"$f":"N13","v":221},{"$f":"COUNTIF(L7:L24,T13)","v":0},{"$f":"U13/(W4-U8)","v":0},{"$f":"IF(V13=0,0,(V13*((LOG(V13))/LOG(2))))","v":0},null,{"$f":"N13","v":221},{"$f":"COUNTIF(L25:L41,Y13)","v":0},{"$f":"Z13/(AB4-Z8)","v":0},{"$f":"IF(AA13=0,0,(AA13*((LOG(AA13))/LOG(2))))","v":0},null,{"$f":"N13","v":221},{"$f":"COUNTIF(L42:L59,AD13)","v":0},{"$f":"AE13/(AG4-AE8)","v":0},{"$f":"IF(AF13=0,0,(AF13*((LOG(AF13))/LOG(2))))","v":0},null,{"$f":"N13","v":221},{"$f":"COUNTIF(L60:L77,AI13)","v":0},{"$f":"AJ13/(AL4-AJ8)","v":0},{"$f":"IF(AK13=0,0,(AK13*((LOG(AK13))/LOG(2))))","v":0},null,{"$f":"N13","v":221},{"$f":"COUNTIF(L78:L94,AN13)","v":0},{"$f":"AO13/(AQ4-AO8)","v":0},{"$f":"IF(AP13=0,0,(AP13*((LOG(AP13))/LOG(2))))","v":0},null,{"$f":"N13","v":221},{"$f":"COUNTIF(L95:L112,AS13)","v":0},{"$f":"AT13/(AV4-AT8)","v":0},{"$f":"IF(AU13=0,0,(AU13*((LOG(AU13))/LOG(2))))","v":0}]
[11,1174,11,1177,12,1182,null,null,null,null,0,111,null,222,{"$f":"COUNTIF($L$7:$L$500,N14)","v":5},{"$f":"O14/$Q$4","v":4.716981132075472E-2},{"$f":"IF(P14=0,0,(P14*((LOG(P14))/LOG(2))))","v":-0.2078298282865961},null,null,{"$f":"N14","v":222},{"$f":"COUNTIF(L7:L24,T14)","v":0},{"$f":"U14/(W4-U8)","v":0},{"$f":"IF(V14=0,0,(V14*((LOG(V14))/LOG(2))))","v":0},null,{"$f":"N14","v":222},{"$f":"COUNTIF(L25:L41,Y14)","v":1},{"$f":"Z14/(AB4-Z8)","v":0.1},{"$f":"IF(AA14=0,0,(AA14*((LOG(AA14))/LOG(2))))","v":-0.33219280948873625},null,{"$f":"N14","v":222},{"$f":"COUNTIF(L42:L59,AD14)","v":1},{"$f":"AE14/(AG4-AE8)","v":7.1428571428571425E-2},{"$f":"IF(AF14=0,0,(AF14*((LOG(AF14))/LOG(2))))","v":-0.27195392300411453},null,{"$f":"N14","v":222},{"$f":"COUNTIF(L60:L77,AI14)","v":2},{"$f":"AJ14/(AL4-AJ8)","v":0.14285714285714285},{"$f":"IF(AK14=0,0,(AK14*((LOG(AK14))/LOG(2))))","v":-0.40105070315108626},null,{"$f":"N14","v":222},{"$f":"COUNTIF(L78:L94,AN14)","v":1},{"$f":"AO14/(AQ4-AO8)","v":9.0909090909090912E-2},{"$f":"IF(AP14=0,0,(AP14*((LOG(AP14))/LOG(2))))","v":-0.31449378351248153},null,{"$f":"N14","v":222},{"$f":"COUNTIF(L95:L112,AS14)","v":0},{"$f":"AT14/(AV4-AT8)","v":0},{"$f":"IF(AU14=0,0,(AU14*((LOG(AU14))/LOG(2))))","v":0}]
[11,1278,11,1280,21,1291,null,null,null,null,0,112,null,null,null,{"$f":"SUM(P7:P14)","v":0.99999999999999989},{"$f":"-SUM(Q7:Q14)","v":2.1327657385200078},null,null,null,null,{"$f":"SUM(V7:V14)","v":0.99999999999999989},{"$f":"-SUM(W7:W14)","v":1.4591479170272446},null,null,null,{"$f":"SUM(AA7:AA14)","v":1},{"$f":"-SUM(AB7:AB14)","v":1.8464393446710157},null,null,null,{"$f":"SUM(AF7:AF14)","v":1},{"$f":"-SUM(AG7:AG14)","v":2.0670314951575839},null,null,null,{"$f":"SUM(AK7:AK14)","v":1},{"$f":"-SUM(AL7:AL14)","v":1.6105772433316421},null,null,null,{"$f":"SUM(AP7:AP14)","v":1},{"$f":"-SUM(AQ7:AQ14)","v":1.2406705316766884},null,null,null,{"$f":"SUM(AU7:AU14)","v":1},{"$f":"-SUM(AV7:AV14)","v":1.6171895725927148}]
[11,1389,11,1394,21,1408,null,null,null,null,0,112,null,null,null,"U=",{"$f":"Q15/(LOG(Q4)/LOG(2))","v":0.31700222274082673},null,null,null,null,"U1=",{"$f":"W15/(LOG(W4)/LOG(2))","v":0.34992186107005474},null,null,null,"U2=",{"$f":"AB15/(LOG(AB4)/LOG(2))","v":0.45173238666218601},null,null,null,"U3=",{"$f":"AG15/(LOG(AG4)/LOG(2))","v":0.49569992132775287},null,null,null,"U4=",{"$f":"AL15/(LOG(AL4)/LOG(2))","v":0.38623650132186277},null,null,null,"U5=",{"$f":"AQ15/(LOG(AQ4)/LOG(2))","v":0.30353071816480953},null,null,null,"U6=",{"$f":"AV15/(LOG(AV4)/LOG(2))","v":0.3878222203117212}]
[11,1502,11,1509,21,1534,null,null,null,null,0,112]
[11,1670,11,1681,21,1705,null,null,null,null,0,112]
[11,1815,11,1819,12,1822,null,null,null,null,0,111,null,"Total Target Seq"]
[11,1916,11,1923,21,1940,null,null,null,null,0,112,null,{"$f":"COUNTIF(L7:L112,G3)","v":40},null,18,17,18,18,17,18]
[11,2032,11,2041,21,2056,null,null,null,null,0,112,null,null,null,"% of reinforcement given in 6 equal intervals based on number of trials "]
[11,2175,11,2181,21,2208,null,null,null,null,0,112,null,null,null,"%_1","%_2","%_3","%_4","%_5","%_6"]
[11,2300,11,2302,21,2317,null,null,null,null,0,112,null,null,"target sequence",{"$f":"$G$3","v":112},{"$f":"$G$3","v":112},{"$f":"$G$3","v":112},{"$f":"$G$3","v":112},{"$f":"$G$3","v":112},{"$f":"$G$3","v":112}]
[11,2421,22,2448,14,2579,null,null,null,null,0,121,null,null,"total reinforcement",{"$f":"U8","v":12},{"$f":"Z8","v":7},{"$f":"AE8","v":4},{"$f":"AJ8","v":4},{"$f":"AO8","v":6},{"$f":"AT8","v":7}]
[11,2674,22,2695,14,2982,null,null,null,null,0,121,null,null,"% target"]
[11,3076,11,3082,21,3112,null,null,null,null,0,112,null,null,"CCRF"]
[11,3213,22,3232,23,3251,null,null,null,null,0,122,null,null,"% CCRf"]
[11,3345,11,3350,21,3369,null,null,null,null,0,112,null,null,"average response rate",{"$f":"F24/P20","v":143.27777777777777},{"$f":"(F41-F24)/Q20","v":164.47058823529412},{"$f":"(F59-F41)/R20","v":153.83333333333334},{"$f":"(F77-F59)/S20","v":148.38888888888889},{"$f":"(F94-F77)/T20","v":143.58823529411765},{"$f":"(F112-F94)/U20","v":131.77777777777777}]
[11,3501,11,3506,21,3520,null,null,null,null,0,112]
[11,3612,22,3629,23,3641,null,null,null,null,0,122]
[11,3734,11,3740,21,3751,null,null,null,null,0,112]
[11,3844,22,3862,23,4057,null,null,null,null,0,122]
[11,4153,11,4160,12,4167,null,null,null,null,0,111]
[11,4262,11,4266,12,4270,null,null,null,null,0,111]
[11,4394,22,4409,23,4547,null,null,null,null,0,122]
[11,4639,11,4644,12,4648,null,null,null,null,0,111]
[11,4744,11,4749,21,4767,null,null,null,null,0,112]
[22,4887,24,4913,23,4922,null,null,null,null,0,222]
[11,5016,11,5020,21,5038,null,null,null,null,0,112]
[11,5137,22,5151,14,5249,null,null,null,null,0,121]
[11,5343,11,5347,21,5375,null,null,null,null,0,112]
[11,5503,22,5516,14,5605,null,null,null,null,0,121]
[11,5701,11,5703,12,5710,null,null,null,null,0,111]
[11,5804,11,5809,12,5813,null,null,null,null,0,111]
[11,5908,22,5927,23,5932,null,null,null,null,0,122]
[11,6030,22,6042,23,6076,null,null,null,null,0,122]
[11,6171,11,6174,12,6177,null,null,null,null,0,111]
[22,6272,24,6291,23,6295,null,null,null,null,0,222]
[11,6391,11,6392,21,6408,null,null,null,null,0,112]
[11,6515,22,6531,14,6713,null,null,null,null,0,121]
[11,6808,11,6811,12,6814,null,null,null,null,0,111]
[11,6909,11,6912,21,6939,null,null,null,null,0,112]
[22,7051,13,7186,23,7205,null,null,null,null,0,212]
[11,7300,22,7319,14,7568,null,null,null,null,0,121]
[11,7663,11,7665,21,7686,null,null,null,null,0,112]
[11,7778,22,7794,23,7806,null,null,null,null,0,122]
[11,7904,11,7907,21,7917,null,null,null,null,0,112]
[11,8009,22,8019,23,8024,null,null,null,null,0,122]
[11,8121,22,8134,23,8144,null,null,null,null,0,122]
[11,8241,22,8254,14,8377,null,null,null,null,0,121]
[11,8473,22,8489,23,8499,null,null,null,null,0,122]
[22,8605,24,8615,23,8639,null,null,null,null,0,222]
[11,8733,11,8738,21,8750,null,null,null,null,0,112]
[11,8854,22,8866,14,8936,null,null,null,null,0,121]
[11,9035,22,9047,23,9053,null,null,null,null,0,122]
[11,9150,11,9154,21,9164,null,null,null,null,0,112]
[11,9255,22,9269,23,9274,null,null,null,null,0,122]
[22,9385,24,9392,23,9399,null,null,null,null,0,222]
[11,9493,11,9498,21,9519,null,null,null,null,0,112]
[11,9611,22,9632,23,9945,null,null,null,null,0,122]
[11,10040,22,10056,23,10066,null,null,null,null,0,122]
[11,10161,11,10163,21,10178,null,null,null,null,0,112]
[11,10313,22,10330,23,10342,null,null,null,null,0,122]
[11,10439,22,10454,23,10468,null,null,null,null,0,122]
[11,10565,22,10579,14,10597,null,null,null,null,0,121]
[11,10690,11,10693,12,10697,null,null,null,null,0,111]
[11,10802,22,10811,23,10815,null,null,null,null,0,122]
[11,10911,11,10916,21,10930,null,null,null,null,0,112]
[11,11023,22,11043,14,11121,null,null,null,null,0,121]
[11,11215,22,11230,23,11234,null,null,null,null,0,122]
[11,11333,22,11343,23,11350,null,null,null,null,0,122]
[11,11444,22,11460,23,11464,null,null,null,null,0,122]
[11,11562,11,11568,21,11577,null,null,null,null,0,112]
[11,11695,22,11710,14,11794,null,null,null,null,0,121]
[11,11889,22,11908,23,11919,null,null,null,null,0,122]
[11,12017,22,12035,23,12043,null,null,null,null,0,122]
[11,12138,11,12146,21,12158,null,null,null,null,0,112]
[11,12249,11,12256,21,12265,null,null,null,null,0,112]
[11,12380,11,12388,21,12434,null,null,null,null,0,112]
[11,12568,11,12574,21,12592,null,null,null,null,0,112]
[11,12709,22,12719,23,12740,null,null,null,null,0,122]
[11,12837,22,12848,14,12954,null,null,null,null,0,121]
[11,13048,22,13065,23,13075,null,null,null,null,0,122]
[22,13216,24,13248,23,13256,null,null,null,null,0,222]
[11,13351,22,13369,23,13386,null,null,null,null,0,122]
[11,13505,22,13518,14,13534,null,null,null,null,0,121]
[11,13629,11,13633,12,13638,null,null,null,null,0,111]
[11,13732,22,13746,23,13752,null,null,null,null,0,122]
[11,13847,22,13861,23,13866,null,null,null,null,0,122]
[11,13961,22,13974,23,13981,null,null,null,null,0,122]
[11,14076,11,14083,21,14094,null,null,null,null,0,112]
[11,14201,11,14206,21,14215,null,null,null,null,0,112]
[11,14312,22,14335,14,14425,null,null,null,null,0,121]
[11,14523,11,14531,21,14544,null,null,null,null,0,112]
[22,14638,13,14649,23,14664,null,null,null,null,0,212]
[11,14759,11,14766,21,14777,null,null,null,null,0,112]
[11,14873,11,14878,21,14888,null,null,null,null,0,112]
[11,15016,22,15038,14,15139,null,null,null,null,0,121]
[11,15235,22,15244,23,15251,null,null,null,null,0,122]
[11,15353,11,15356,21,15367,null,null,null,null,0,112]
[11,15488,22,15498,23,15506,null,null,null,null,0,122]
[11,15605,11,15610,21,15628,null,null,null,null,1,112]

{"sheet":"!MC1094I.sha","index":35,"n_rows":90,"n_cols":48,"rows_kept":90,"cut":false,"hidden":false,"merged":[[4,39,4,42],[5,39,5,40],[4,44,4,47],[5,44,5,45],[4,24,4,27],[5,24,5,25],[4,29,4,32],[5,29,5,30],[4,34,4,37],[5,34,5,35],[1,1,1,2],[5,13,5,14],[18,13,18,14],[19,13,19,14],[4,19,4,22],[5,19,5,20]]}
["Report for:!MC1094I.sha"]
["Date:","<date>"]
["Hen:","<hen>",null,null,null,"Correct Sequence",{"$f":"Start!J2","v":112},null,null,null,null,null,null,null,null,"Total Sequences in Data",{"$f":"4994-COUNTBLANK(L7:L5000)","v":84},null,null,null,null,"Total Sequences in Block Data",{"$f":"COUNTA(L7:L20)","v":14},null,null,null,"Total Sequences in Block Data",{"$f":"COUNTA(L21:L34)","v":14},null,null,null,"Total Sequences in Block Data",{"$f":"COUNTA(L35:L48)","v":14},null,null,null,"Total Sequences in Block Data",{"$f":"COUNTA(L49:L62)","v":14},null,null,null,"Total Sequences in Block Data",{"$f":"COUNTA(L63:L76)","v":14},null,null,null,"Total Sequences in Block Data",{"$f":"COUNTA(L77:L90)","v":14}]
[null,null,null,null,null,null,null,null,null,null,null,null,null,null,null,"Total Sequences in Summary",{"$f":"SUM(O7:O14)","v":84},null,null,null,null,"Total Sequences in Block Summary",{"$f":"SUM(U7:U14)","v":14},null,null,null,"Total Sequences in Block Summary",{"$f":"SUM(Z7:Z14)","v":14},null,null,null,"Total Sequences in Block Summary",{"$f":"SUM(AE7:AE14)","v":14},null,null,null,"Total Sequences in Block Summary",{"$f":"SUM(AJ7:AJ14)","v":14},null,null,null,"Total Sequences in Block Summary",{"$f":"SUM(AO7:AO14)","v":14},null,null,null,"Total Sequences in Block Summary",{"$f":"SUM(AT7:AT14)","v":14}]
[null,null,null,null,null,null,null,null,null,null,null,null,null,null,null,null,null,null,null,"Block 1",null,null,null,null,"Block 2",null,null,null,null,"Block 3",null,null,null,null,"Block 4",null,null,null,null,"Block 5",null,null,null,null,"Block 6"]
["Sequence\nComponent\n1","Time\n1","Sequence\nComponent\n2","Time\n2","Sequence\nComponent\n3","Time\n3","Sequence\nComponent\n4","Time\n4","Sequence\nComponent\n5","Time\n5","Correct?\n0=No 1=Yes","Sequence",null,"Frequency",null,"Relative Frequency","Variability",null,null,"Frequency",null,"Relative Frequency","Variability",null,"Frequency",null,"Relative Frequency","Variability",null,"Frequency",null,"Relative Frequency","Variability",null,"Frequency",null,"Relative Frequency","Variability",null,"Frequency",null,"Relative Frequency","Variability",null,"Frequency",null,"Relative Frequency","Variability"]
[22,8,24,26,23,35,null,null,null,null,0,222,null,111,{"$f":"COUNTIF($L$7:$L$500,N7)","v":12},{"$f":"O7/$Q$4","v":0.14285714285714285},{"$f":"IF(P7=0,0,(P7*((LOG(P7))/LOG(2))))","v":-0.40105070315108626},null,null,{"$f":"N7","v":111},{"$f":"COUNTIF(L7:L20,T7)","v":0},{"$f":"U7/(W4-U8)","v":0},{"$f":"IF(V7=0,0,(V7*((LOG(V7))/LOG(2))))","v":0},null,{"$f":"N7","v":111},{"$f":"COUNTIF(L21:L34,Y7)","v":2},{"$f":"Z7/(AB4-Z8)","v":0.25},{"$f":"IF(AA7=0,0,(AA7*((LOG(AA7))/LOG(2))))","v":-0.5},null,{"$f":"N7","v":111},{"$f":"COUNTIF(L35:L48,AD7)","v":2},{"$f":"AE7/(AG4-AE8)","v":0.2857142857142857},{"$f":"IF(AF7=0,0,(AF7*((LOG(AF7))/LOG(2))))","v":-0.51638712058788683},null,{"$f":"N7","v":111},{"$f":"COUNTIF(L49:L62,AI7)","v":0},{"$f":"AJ7/(AL4-AJ8)","v":0},{"$f":"IF(AK7=0,0,(AK7*((LOG(AK7))/LOG(2))))","v":0},null,{"$f":"N7","v":111},{"$f":"COUNTIF(L63:L76,AN7)","v":5},{"$f":"AO7/(AQ4-AO8)","v":0.45454545454545453},{"$f":"IF(AP7=0,0,(AP7*((LOG(AP7))/LOG(2))))","v":-0.51704705624997038},null,{"$f":"N7","v":111},{"$f":"COUNTIF(L77:L90,AS7)","v":3},{"$f":"AT7/(AV4-AT8)","v":0.375},{"$f":"IF(AU7=0,0,(AU7*((LOG(AU7))/LOG(2))))","v":-0.53063906222956647}]
[11,131,22,150,14,167,null,null,null,null,0,121,null,112,{"$f":"COUNTIF($L$7:$L$500,N8)","v":40},{"$f":"O8/$Q$4","v":0.47619047619047616},{"$f":"IF(P8=0,0,(P8*((LOG(P8))/LOG(2))))","v":-0.50970920375780859},null,null,{"$f":"N8","v":112},{"$f":"COUNTIF(L7:L20,T8)","v":7},null,null,null,{"$f":"N8","v":112},{"$f":"COUNTIF(L21:L34,Y8)","v":6},null,null,null,{"$f":"N8","v":112},{"$f":"COUNTIF(L35:L48,AD8)","v":7},null,null,null,{"$f":"N8","v":112},{"$f":"COUNTIF(L49:L62,AI8)","v":11},null,null,null,{"$f":"N8","v":112},{"$f":"COUNTIF(L63:L76,AN8)","v":3},null,null,null,{"$f":"N8","v":112},{"$f":"COUNTIF(L77:L90,AS8)","v":6}]
[11,262,11,266,21,279,null,null,null,null,0,112,null,121,{"$f":"COUNTIF($L$7:$L$500,N9)","v":14},{"$f":"O9/$Q$4","v":0.16666666666666666},{"$f":"IF(P9=0,0,(P9*((LOG(P9))/LOG(2))))","v":-0.43082708345352599},null,null,{"$f":"N9","v":121},{"$f":"COUNTIF(L7:L20,T9)","v":2},{"$f":"U9/(W4-U8)","v":0.2857142857142857},{"$f":"IF(V9=0,0,(V9*((LOG(V9))/LOG(2))))","v":-0.51638712058788683},null,{"$f":"N9","v":121},{"$f":"COUNTIF(L21:L34,Y9)","v":2},{"$f":"Z9/(AB4-Z8)","v":0.25},{"$f":"IF(AA9=0,0,(AA9*((LOG(AA9))/LOG(2))))","v":-0.5},null,{"$f":"N9","v":121},{"$f":"COUNTIF(L35:L48,AD9)","v":4},{"$f":"AE9/(AG4-AE8)","v":0.5714285714285714},{"$f":"IF(AF9=0,0,(AF9*((LOG(AF9))/LOG(2))))","v":-0.46134566974720237},null,{"$f":"N9","v":121},{"$f":"COUNTIF(L49:L62,AI9)","v":1},{"$f":"AJ9/(AL4-AJ8)","v":0.33333333333333331},{"$f":"IF(AK9=0,0,(AK9*((LOG(AK9))/LOG(2))))","v":-0.52832083357371862},null,{"$f":"N9","v":121},{"$f":"COUNTIF(L63:L76,AN9)","v":3},{"$f":"AO9/(AQ4-AO8)","v":0.27272727272727271},{"$f":"IF(AP9=0,0,(AP9*((LOG(AP9))/LOG(2))))","v":-0.51121885034076575},null,{"$f":"N9","v":121},{"$f":"COUNTIF(L77:L90,AS9)","v":2},{"$f":"AT9/(AV4-AT8)","v":0.25},{"$f":"IF(AU9=0,0,(AU9*((LOG(AU9))/LOG(2))))","v":-0.5}]
[22,403,24,672,23,682,null,null,null,null,0,222,null,122,{"$f":"COUNTIF($L$7:$L$500,N10)","v":14},{"$f":"O10/$Q$4","v":0.16666666666666666},{"$f":"IF(P10=0,0,(P10*((LOG(P10))/LOG(2))))","v":-0.43082708345352599},null,null,{"$f":"N10","v":122},{"$f":"COUNTIF(L7:L20,T10)","v":3},{"$f":"U10/(W4-U8)","v":0.42857142857142855},{"$f":"IF(V10=0,0,(V10*((LOG(V10))/LOG(2))))","v":-0.52388246628704915},null,{"$f":"N10","v":122},{"$f":"COUNTIF(L21:L34,Y10)","v":4},{"$f":"Z10/(AB4-Z8)","v":0.5},{"$f":"IF(AA10=0,0,(AA10*((LOG(AA10))/LOG(2))))","v":-0.5},null,{"$f":"N10","v":122},{"$f":"COUNTIF(L35:L48,AD10)","v":1},{"$f":"AE10/(AG4-AE8)","v":0.14285714285714285},{"$f":"IF(AF10=0,0,(AF10*((LOG(AF10))/LOG(2))))","v":-0.40105070315108626},null,{"$f":"N10","v":122},{"$f":"COUNTIF(L49:L62,AI10)","v":2},{"$f":"AJ10/(AL4-AJ8)","v":0.66666666666666663},{"$f":"IF(AK10=0,0,(AK10*((LOG(AK10))/LOG(2))))","v":-0.38997500048077083},null,{"$f":"N10","v":122},{"$f":"COUNTIF(L63:L76,AN10)","v":2},{"$f":"AO10/(AQ4-AO8)","v":0.18181818181818182},{"$f":"IF(AP10=0,0,(AP10*((LOG(AP10))/LOG(2))))","v":-0.44716938520678134},null,{"$f":"N10","v":122},{"$f":"COUNTIF(L77:L90,AS10)","v":2},{"$f":"AT10/(AV4-AT8)","v":0.25},{"$f":"IF(AU10=0,0,(AU10*((LOG(AU10))/LOG(2))))","v":-0.5}]
[11,779,11,782,21,802,null,null,null,null,0,112,null,211,{"$f":"COUNTIF($L$7:$L$500,N11)","v":0},{"$f":"O11/$Q$4","v":0},{"$f":"IF(P11=0,0,(P11*((LOG(P11))/LOG(2))))","v":0},null,null,{"$f":"N11","v":211},{"$f":"COUNTIF(L7:L20,T11)","v":0},{"$f":"U11/(W4-U8)","v":0},{"$f":"IF(V11=0,0,(V11*((LOG(V11))/LOG(2))))","v":0},null,{"$f":"N11","v":211},{"$f":"COUNTIF(L21:L34,Y11)","v":0},{"$f":"Z11/(AB4-Z8)","v":0},{"$f":"IF(AA11=0,0,(AA11*((LOG(AA11))/LOG(2))))","v":0},null,{"$f":"N11","v":211},{"$f":"COUNTIF(L35:L48,AD11)","v":0},{"$f":"AE11/(AG4-AE8)","v":0},{"$f":"IF(AF11=0,0,(AF11*((LOG(AF11))/LOG(2))))","v":0},null,{"$f":"N11","v":211},{"$f":"COUNTIF(L49:L62,AI11)","v":0},{"$f":"AJ11/(AL4-AJ8)","v":0},{"$f":"IF(AK11=0,0,(AK11*((LOG(AK11))/LOG(2))))","v":0},null,{"$f":"N11","v":211},{"$f":"COUNTIF(L63:L76,AN11)","v":0},{"$f":"AO11/(AQ4-AO8)","v":0},{"$f":"IF(AP11=0,0,(AP11*((LOG(AP11))/LOG(2))))","v":0},null,{"$f":"N11","v":211},{"$f":"COUNTIF(L77:L90,AS11)","v":0},{"$f":"AT11/(AV4-AT8)","v":0},{"$f":"IF(AU11=0,0,(AU11*((LOG(AU11))/LOG(2))))","v":0}]
[11,898,22,913,14,1158,null,null,null,null,0,121,null,212,{"$f":"COUNTIF($L$7:$L$500,N12)","v":0},{"$f":"O12/$Q$4","v":0},{"$f":"IF(P12=0,0,(P12*((LOG(P12))/LOG(2))))","v":0},null,null,{"$f":"N12","v":212},{"$f":"COUNTIF(L7:L20,T12)","v":0},{"$f":"U12/(W4-U8)","v":0},{"$f":"IF(V12=0,0,(V12*((LOG(V12))/LOG(2))))","v":0},null,{"$f":"N12","v":212},{"$f":"COUNTIF(L21:L34,Y12)","v":0},{"$f":"Z12/(AB4-Z8)","v":0},{"$f":"IF(AA12=0,0,(AA12*((LOG(AA12))/LOG(2))))","v":0},null,{"$f":"N12","v":212},{"$f":"COUNTIF(L35:L48,AD12)","v":0},{"$f":"AE12/(AG4-AE8)","v":0},{"$f":"IF(AF12=0,0,(AF12*((LOG(AF12))/LOG(2))))","v":0},null,{"$f":"N12","v":212},{"$f":"COUNTIF(L49:L62,AI12)","v":0},{"$f":"AJ12/(AL4-AJ8)","v":0},{"$f":"IF(AK12=0,0,(AK12*((LOG(AK12))/LOG(2))))","v":0},null,{"$f":"N12","v":212},{"$f":"COUNTIF(L63:L76,AN12)","v":0},{"$f":"AO12/(AQ4-AO8)","v":0},{"$f":"IF(AP12=0,0,(AP12*((LOG(AP12))/LOG(2))))","v":0},null,{"$f":"N12","v":212},{"$f":"COUNTIF(L77:L90,AS12)","v":0},{"$f":"AT12/(AV4-AT8)","v":0},{"$f":"IF(AU12=0,0,(AU12*((LOG(AU12))/LOG(2))))","v":0}]
[11,1250,11,1252,21,1278,null,null,null,null,0,112,null,221,{"$f":"COUNTIF($L$7:$L$500,N13)","v":1},{"$f":"O13/$Q$4","v":1.1904761904761904E-2},{"$f":"IF(P13=0,0,(P13*((LOG(P13))/LOG(2))))","v":-7.6099016937842379E-2},null,null,{"$f":"N13","v":221},{"$f":"COUNTIF(L7:L20,T13)","v":0},{"$f":"U13/(W4-U8)","v":0},{"$f":"IF(V13=0,0,(V13*((LOG(V13))/LOG(2))))","v":0},null,{"$f":"N13","v":221},{"$f":"COUNTIF(L21:L34,Y13)","v":0},{"$f":"Z13/(AB4-Z8)","v":0},{"$f":"IF(AA13=0,0,(AA13*((LOG(AA13))/LOG(2))))","v":0},null,{"$f":"N13","v":221},{"$f":"COUNTIF(L35:L48,AD13)","v":0},{"$f":"AE13/(AG4-AE8)","v":0},{"$f":"IF(AF13=0,0,(AF13*((LOG(AF13))/LOG(2))))","v":0},null,{"$f":"N13","v":221},{"$f":"COUNTIF(L49:L62,AI13)","v":0},{"$f":"AJ13/(AL4-AJ8)","v":0},{"$f":"IF(AK13=0,0,(AK13*((LOG(AK13))/LOG(2))))","v":0},null,{"$f":"N13","v":221},{"$f":"COUNTIF(L63:L76,AN13)","v":1},{"$f":"AO13/(AQ4-AO8)","v":9.0909090909090912E-2},{"$f":"IF(AP13=0,0,(AP13*((LOG(AP13))/LOG(2))))","v":-0.31449378351248153},null,{"$f":"N13","v":221},{"$f":"COUNTIF(L77:L90,AS13)","v":0},{"$f":"AT13/(AV4-AT8)","v":0},{"$f":"IF(AU13=0,0,(AU13*((LOG(AU13))/LOG(2))))","v":0}]
[11,1397,22,1421,23,1569,null,null,null,null,0,122,null,222,{"$f":"COUNTIF($L$7:$L$500,N14)","v":3},{"$f":"O14/$Q$4","v":3.5714285714285712E-2},{"$f":"IF(P14=0,0,(P14*((LOG(P14))/LOG(2))))","v":-0.17169124721634299},null,null,{"$f":"N14","v":222},{"$f":"COUNTIF(L7:L20,T14)","v":2},{"$f":"U14/(W4-U8)","v":0.2857142857142857},{"$f":"IF(V14=0,0,(V14*((LOG(V14))/LOG(2))))","v":-0.51638712058788683},null,{"$f":"N14","v":222},{"$f":"COUNTIF(L21:L34,Y14)","v":0},{"$f":"Z14/(AB4-Z8)","v":0},{"$f":"IF(AA14=0,0,(AA14*((LOG(AA14))/LOG(2))))","v":0},null,{"$f":"N14","v":222},{"$f":"COUNTIF(L35:L48,AD14)","v":0},{"$f":"AE14/(AG4-AE8)","v":0},{"$f":"IF(AF14=0,0,(AF14*((LOG(AF14))/LOG(2))))","v":0},null,{"$f":"N14","v":222},{"$f":"COUNTIF(L49:L62,AI14)","v":0},{"$f":"AJ14/(AL4-AJ8)","v":0},{"$f":"IF(AK14=0,0,(AK14*((LOG(AK14))/LOG(2))))","v":0},null,{"$f":"N14","v":222},{"$f":"COUNTIF(L63:L76,AN14)","v":0},{"$f":"AO14/(AQ4-AO8)","v":0},{"$f":"IF(AP14=0,0,(AP14*((LOG(AP14))/LOG(2))))","v":0},null,{"$f":"N14","v":222},{"$f":"COUNTIF(L77:L90,AS14)","v":1},{"$f":"AT14/(AV4-AT8)","v":0.125},{"$f":"IF(AU14=0,0,(AU14*((LOG(AU14))/LOG(2))))","v":-0.375}]
[11,1665,22,1687,23,1696,null,null,null,null,0,122,null,null,null,{"$f":"SUM(P7:P14)","v":0.99999999999999989},{"$f":"-SUM(Q7:Q14)","v":2.0202043379701324},null,null,null,null,{"$f":"SUM(V7:V14)","v":0.99999999999999989},{"$f":"-SUM(W7:W14)","v":1.5566567074628228},null,null,null,{"$f":"SUM(AA7:AA14)","v":1},{"$f":"-SUM(AB7:AB14)","v":1.5},null,null,null,{"$f":"SUM(AF7:AF14)","v":1},{"$f":"-SUM(AG7:AG14)","v":1.3787834934861753},null,null,null,{"$f":"SUM(AK7:AK14)","v":1},{"$f":"-SUM(AL7:AL14)","v":0.91829583405448945},null,null,null,{"$f":"SUM(AP7:AP14)","v":1},{"$f":"-SUM(AQ7:AQ14)","v":1.7899290753099988},null,null,null,{"$f":"SUM(AU7:AU14)","v":1},{"$f":"-SUM(AV7:AV14)","v":1.9056390622295665}]
[11,1794,11,1799,21,1813,null,null,null,null,0,112,null,null,null,"U=",{"$f":"Q15/(LOG(Q4)/LOG(2))","v":0.31603629863110638},null,null,null,null,"U1=",{"$f":"W15/(LOG(W4)/LOG(2))","v":0.40885516042763909},null,null,null,"U2=",{"$f":"AB15/(LOG(AB4)/LOG(2))","v":0.39397430255579036},null,null,null,"U3=",{"$f":"AG15/(LOG(AG4)/LOG(2))","v":0.36213684348110137},null,null,null,"U4=",{"$f":"AL15/(LOG(AL4)/LOG(2))","v":0.24118997384100352},null,null,null,"U5=",{"$f":"AQ15/(LOG(AQ4)/LOG(2))","v":0.47012403937972502},null,null,null,"U6=",{"$f":"AV15/(LOG(AV4)/LOG(2))","v":0.5005152136433092}]
[11,1907,11,1915,21,1928,null,null,null,null,0,112]
[11,2024,11,2030,21,2053,null,null,null,null,0,112]
[11,2148,11,2154,21,2175,null,null,null,null,0,112,null,"Total Target Seq"]
[11,2282,22,2301,23,2310,null,null,null,null,0,122,null,{"$f":"COUNTIF(L7:L90,G3)","v":40},null,14,14,14,14,14,14]
[11,2422,11,2430,21,2439,null,null,null,null,0,112,null,null,null,"% of reinforcement given in 6 equal intervals based on number of trials "]
[11,2564,11,2570,21,2591,null,null,null,null,0,112,null,null,null,"%_1","%_2","%_3","%_4","%_5","%_6"]
[11,2690,22,2721,23,2743,null,null,null,null,0,122,null,null,"target sequence",{"$f":"$G$3","v":112},{"$f":"$G$3","v":112},{"$f":"$G$3","v":112},{"$f":"$G$3","v":112},{"$f":"$G$3","v":112},{"$f":"$G$3","v":112}]
[11,2838,11,2842,12,2848,null,null,null,null,0,111,null,null,"total reinforcement",{"$f":"U8","v":7},{"$f":"Z8","v":6},{"$f":"AE8","v":7},{"$f":"AJ8","v":11},{"$f":"AO8","v":3},{"$f":"AT8","v":6}]
[11,2942,11,2950,12,2953,null,null,null,null,0,111,null,null,"% target"]
[11,3049,11,3052,21,3070,null,null,null,null,0,112,null,null,"CCRF"]
[11,3164,11,3169,21,3182,null,null,null,null,0,112,null,null,"% CCRf"]
[11,3281,22,3296,14,3322,null,null,null,null,0,121,null,null,"average response rate",{"$f":"F20/P20","v":165},{"$f":"(F34-F20)/Q20","v":142},{"$f":"(F48-F34)/R20","v":153.14285714285714},{"$f":"(F62-F48)/S20","v":127.42857142857143},{"$f":"(F76-F62)/T20","v":131.92857142857142},{"$f":"(F90-F76)/U20","v":141.07142857142858}]
[11,3420,22,3441,14,3569,null,null,null,null,0,121]
[11,3664,11,3668,21,3680,null,null,null,null,0,112]
[11,3772,22,3794,23,3821,null,null,null,null,0,122]
[11,3916,22,3932,23,3939,null,null,null,null,0,122]
[11,4035,11,4039,21,4057,null,null,null,null,0,112]
[11,4155,22,4172,23,4298,null,null,null,null,0,122]
[11,4394,11,4401,12,4409,null,null,null,null,0,111]
[11,4506,11,4509,21,4525,null,null,null,null,0,112]
[11,4622,22,4642,14,4728,null,null,null,null,0,121]
[11,4825,11,4829,21,4845,null,null,null,null,0,112]
[11,4939,22,4956,14,5095,null,null,null,null,0,121]
[11,5187,11,5189,12,5191,null,null,null,null,0,111]
[11,5286,11,5295,21,5306,null,null,null,null,0,112]
[11,5413,22,5426,14,5563,null,null,null,null,0,121]
[11,5658,11,5662,21,5679,null,null,null,null,0,112]
[11,5773,11,5781,21,5796,null,null,null,null,0,112]
[11,5902,11,5915,21,5932,null,null,null,null,0,112]
[11,6039,22,6065,14,6215,null,null,null,null,0,121]
[11,6309,11,6315,21,6326,null,null,null,null,0,112]
[11,6416,22,6433,23,6442,null,null,null,null,0,122]
[11,6538,22,6558,23,6568,null,null,null,null,0,122]
[11,6665,11,6669,21,6686,null,null,null,null,0,112]
[11,6781,11,6788,21,6802,null,null,null,null,0,112]
[11,6894,11,6901,21,6913,null,null,null,null,0,112]
[11,7014,22,7042,23,7053,null,null,null,null,0,122]
[11,7149,11,7156,21,7173,null,null,null,null,0,112]
[11,7264,11,7277,21,7306,null,null,null,null,0,112]
[11,7409,11,7412,21,7429,null,null,null,null,0,112]
[11,7528,22,7549,14,7644,null,null,null,null,0,121]
[11,7738,11,7742,21,7754,null,null,null,null,0,112]
[11,7845,11,7854,21,7872,null,null,null,null,0,112]
[11,7964,11,7968,21,7983,null,null,null,null,0,112]
[11,8075,11,8079,21,8100,null,null,null,null,0,112]
[11,8194,11,8203,21,8226,null,null,null,null,0,112]
[22,8327,24,8332,14,8343,null,null,null,null,0,221]
[11,8441,11,8445,21,8456,null,null,null,null,0,112]
[11,8549,22,8593,23,8611,null,null,null,null,0,122]
[11,8706,22,8722,14,8802,null,null,null,null,0,121]
[11,8900,11,8902,21,8912,null,null,null,null,0,112]
[11,9007,22,9030,23,9044,null,null,null,null,0,122]
[11,9138,11,9141,12,9143,null,null,null,null,0,111]
[11,9238,22,9256,14,9368,null,null,null,null,0,121]
[11,9464,11,9466,12,9472,null,null,null,null,0,111]
[11,9565,11,9571,12,9577,null,null,null,null,0,111]
[11,9679,22,9700,14,9757,null,null,null,null,0,121]
[11,9853,11,9857,21,9871,null,null,null,null,0,112]
[11,9962,11,9964,12,9970,null,null,null,null,0,111]
[11,10066,11,10068,12,10073,null,null,null,null,0,111]
[11,10170,11,10175,21,10189,null,null,null,null,0,112]
[11,10281,22,10296,14,10322,null,null,null,null,0,121]
[11,10418,11,10425,21,10441,null,null,null,null,0,112]
[11,10551,11,10558,21,10599,null,null,null,null,0,112]
[11,10691,22,10714,23,10731,null,null,null,null,0,122]
[11,10830,22,10852,23,10989,null,null,null,null,0,122]
[11,11088,11,11093,12,11096,null,null,null,null,0,111]
[11,11192,11,11196,21,11214,null,null,null,null,0,112]
[11,11301,11,11304,12,11308,null,null,null,null,0,111]
[11,11403,11,11408,12,11416,null,null,null,null,0,111]
[11,11511,22,11534,14,11655,null,null,null,null,0,121]
[22,11754,24,11775,23,11782,null,null,null,null,0,222]
[11,11893,11,11897,21,11909,null,null,null,null,0,112]
[11,12013,11,12019,21,12048,null,null,null,null,1,112]

{"sheet":"!MC1195I.sha","index":36,"n_rows":85,"n_cols":48,"rows_kept":85,"cut":false,"hidden":false,"merged":[[4,39,4,42],[5,39,5,40],[4,44,4,47],[5,44,5,45],[4,24,4,27],[5,24,5,25],[4,29,4,32],[5,29,5,30],[4,34,4,37],[5,34,5,35],[1,1,1,2],[5,13,5,14],[18,13,18,14],[19,13,19,14],[4,19,4,22],[5,19,5,20]]}
["Report for:!MC1195I.sha"]
["Date:","<date>"]
["Hen:","<hen>",null,null,null,"Correct Sequence",{"$f":"Start!J2","v":112},null,null,null,null,null,null,null,null,"Total Sequences in Data",{"$f":"4994-COUNTBLANK(L7:L5000)","v":79},null,null,null,null,"Total Sequences in Block Data",{"$f":"COUNTA(L7:L19)","v":13},null,null,null,"Total Sequences in Block Data",{"$f":"COUNTA(L20:L32)","v":13},null,null,null,"Total Sequences in Block Data",{"$f":"COUNTA(L33:L46)","v":14},null,null,null,"Total Sequences in Block Data",{"$f":"COUNTA(L47:L59)","v":13},null,null,null,"Total Sequences in Block Data",{"$f":"COUNTA(L60:L72)","v":13},null,null,null,"Total Sequences in Block Data",{"$f":"COUNTA(L73:L85)","v":13}]
[null,null,null,null,null,null,null,null,null,null,null,null,null,null,null,"Total Sequences in Summary",{"$f":"SUM(O7:O14)","v":79},null,null,null,null,"Total Sequences in Block Summary",{"$f":"SUM(U7:U14)","v":13},null,null,null,"Total Sequences in Block Summary",{"$f":"SUM(Z7:Z14)","v":13},null,null,null,"Total Sequences in Block Summary",{"$f":"SUM(AE7:AE14)","v":14},null,null,null,"Total Sequences in Block Summary",{"$f":"SUM(AJ7:AJ14)","v":13},null,null,null,"Total Sequences in Block Summary",{"$f":"SUM(AO7:AO14)","v":13},null,null,null,"Total Sequences in Block Summary",{"$f":"SUM(AT7:AT14)","v":13}]
[null,null,null,null,null,null,null,null,null,null,null,null,null,null,null,null,null,null,null,"Block 1",null,null,null,null,"Block 2",null,null,null,null,"Block 3",null,null,null,null,"Block 4",null,null,null,null,"Block 5",null,null,null,null,"Block 6"]
["Sequence\nComponent\n1","Time\n1","Sequence\nComponent\n2","Time\n2","Sequence\nComponent\n3","Time\n3","Sequence\nComponent\n4","Time\n4","Sequence\nComponent\n5","Time\n5","Correct?\n0=No 1=Yes","Sequence",null,"Frequency",null,"Relative Frequency","Variability",null,null,"Frequency",null,"Relative Frequency","Variability",null,"Frequency",null,"Relative Frequency","Variability",null,"Frequency",null,"Relative Frequency","Variability",null,"Frequency",null,"Relative Frequency","Variability",null,"Frequency",null,"Relative Frequency","Variability",null,"Frequency",null,"Relative Frequency","Variability"]
[11,81,22,123,14,140,null,null,null,null,0,121,null,111,{"$f":"COUNTIF($L$7:$L$500,N7)","v":8},{"$f":"O7/$Q$4","v":0.10126582278481013},{"$f":"IF(P7=0,0,(P7*((LOG(P7))/LOG(2))))","v":-0.33456007576476993},null,null,{"$f":"N7","v":111},{"$f":"COUNTIF(L7:L19,T7)","v":1},{"$f":"U7/(W4-U8)","v":0.1111111111111111},{"$f":"IF(V7=0,0,(V7*((LOG(V7))/LOG(2))))","v":-0.3522138890491458},null,{"$f":"N7","v":111},{"$f":"COUNTIF(L20:L32,Y7)","v":0},{"$f":"Z7/(AB4-Z8)","v":0},{"$f":"IF(AA7=0,0,(AA7*((LOG(AA7))/LOG(2))))","v":0},null,{"$f":"N7","v":111},{"$f":"COUNTIF(L33:L46,AD7)","v":3},{"$f":"AE7/(AG4-AE8)","v":0.5},{"$f":"IF(AF7=0,0,(AF7*((LOG(AF7))/LOG(2))))","v":-0.5},null,{"$f":"N7","v":111},{"$f":"COUNTIF(L47:L59,AI7)","v":1},{"$f":"AJ7/(AL4-AJ8)","v":0.16666666666666666},{"$f":"IF(AK7=0,0,(AK7*((LOG(AK7))/LOG(2))))","v":-0.43082708345352599},null,{"$f":"N7","v":111},{"$f":"COUNTIF(L60:L72,AN7)","v":2},{"$f":"AO7/(AQ4-AO8)","v":0.22222222222222221},{"$f":"IF(AP7=0,0,(AP7*((LOG(AP7))/LOG(2))))","v":-0.48220555587606945},null,{"$f":"N7","v":111},{"$f":"COUNTIF(L73:L85,AS7)","v":1},{"$f":"AT7/(AV4-AT8)","v":0.2},{"$f":"IF(AU7=0,0,(AU7*((LOG(AU7))/LOG(2))))","v":-0.46438561897747244}]
[11,238,22,250,23,303,null,null,null,null,0,122,null,112,{"$f":"COUNTIF($L$7:$L$500,N8)","v":40},{"$f":"O8/$Q$4","v":0.50632911392405067},{"$f":"IF(P8=0,0,(P8*((LOG(P8))/LOG(2))))","v":-0.49714058394417238},null,null,{"$f":"N8","v":112},{"$f":"COUNTIF(L7:L19,T8)","v":4},null,null,null,{"$f":"N8","v":112},{"$f":"COUNTIF(L20:L32,Y8)","v":9},null,null,null,{"$f":"N8","v":112},{"$f":"COUNTIF(L33:L46,AD8)","v":8},null,null,null,{"$f":"N8","v":112},{"$f":"COUNTIF(L47:L59,AI8)","v":7},null,null,null,{"$f":"N8","v":112},{"$f":"COUNTIF(L60:L72,AN8)","v":4},null,null,null,{"$f":"N8","v":112},{"$f":"COUNTIF(L73:L85,AS8)","v":8}]
[11,396,11,398,12,405,null,null,null,null,0,111,null,121,{"$f":"COUNTIF($L$7:$L$500,N9)","v":12},{"$f":"O9/$Q$4","v":0.15189873417721519},{"$f":"IF(P9=0,0,(P9*((LOG(P9))/LOG(2))))","v":-0.41298505024647292},null,null,{"$f":"N9","v":121},{"$f":"COUNTIF(L7:L19,T9)","v":3},{"$f":"U9/(W4-U8)","v":0.33333333333333331},{"$f":"IF(V9=0,0,(V9*((LOG(V9))/LOG(2))))","v":-0.52832083357371862},null,{"$f":"N9","v":121},{"$f":"COUNTIF(L20:L32,Y9)","v":2},{"$f":"Z9/(AB4-Z8)","v":0.5},{"$f":"IF(AA9=0,0,(AA9*((LOG(AA9))/LOG(2))))","v":-0.5},null,{"$f":"N9","v":121},{"$f":"COUNTIF(L33:L46,AD9)","v":1},{"$f":"AE9/(AG4-AE8)","v":0.16666666666666666},{"$f":"IF(AF9=0,0,(AF9*((LOG(AF9))/LOG(2))))","v":-0.43082708345352599},null,{"$f":"N9","v":121},{"$f":"COUNTIF(L47:L59,AI9)","v":2},{"$f":"AJ9/(AL4-AJ8)","v":0.33333333333333331},{"$f":"IF(AK9=0,0,(AK9*((LOG(AK9))/LOG(2))))","v":-0.52832083357371862},null,{"$f":"N9","v":121},{"$f":"COUNTIF(L60:L72,AN9)","v":2},{"$f":"AO9/(AQ4-AO8)","v":0.22222222222222221},{"$f":"IF(AP9=0,0,(AP9*((LOG(AP9))/LOG(2))))","v":-0.48220555587606945},null,{"$f":"N9","v":121},{"$f":"COUNTIF(L73:L85,AS9)","v":2},{"$f":"AT9/(AV4-AT8)","v":0.4},{"$f":"IF(AU9=0,0,(AU9*((LOG(AU9))/LOG(2))))","v":-0.52877123795494496}]
[11,500,11,502,21,521,null,null,null,null,0,112,null,122,{"$f":"COUNTIF($L$7:$L$500,N10)","v":18},{"$f":"O10/$Q$4","v":0.22784810126582278},{"$f":"IF(P10=0,0,(P10*((LOG(P10))/LOG(2))))","v":-0.48619498026868641},null,null,{"$f":"N10","v":122},{"$f":"COUNTIF(L7:L19,T10)","v":5},{"$f":"U10/(W4-U8)","v":0.55555555555555558},{"$f":"IF(V10=0,0,(V10*((LOG(V10))/LOG(2))))","v":-0.4711093925305278},null,{"$f":"N10","v":122},{"$f":"COUNTIF(L20:L32,Y10)","v":2},{"$f":"Z10/(AB4-Z8)","v":0.5},{"$f":"IF(AA10=0,0,(AA10*((LOG(AA10))/LOG(2))))","v":-0.5},null,{"$f":"N10","v":122},{"$f":"COUNTIF(L33:L46,AD10)","v":2},{"$f":"AE10/(AG4-AE8)","v":0.33333333333333331},{"$f":"IF(AF10=0,0,(AF10*((LOG(AF10))/LOG(2))))","v":-0.52832083357371862},null,{"$f":"N10","v":122},{"$f":"COUNTIF(L47:L59,AI10)","v":3},{"$f":"AJ10/(AL4-AJ8)","v":0.5},{"$f":"IF(AK10=0,0,(AK10*((LOG(AK10))/LOG(2))))","v":-0.5},null,{"$f":"N10","v":122},{"$f":"COUNTIF(L60:L72,AN10)","v":4},{"$f":"AO10/(AQ4-AO8)","v":0.44444444444444442},{"$f":"IF(AP10=0,0,(AP10*((LOG(AP10))/LOG(2))))","v":-0.51996666730769447},null,{"$f":"N10","v":122},{"$f":"COUNTIF(L73:L85,AS10)","v":2},{"$f":"AT10/(AV4-AT8)","v":0.4},{"$f":"IF(AU10=0,0,(AU10*((LOG(AU10))/LOG(2))))","v":-0.52877123795494496}]
[11,645,22,661,23,756,null,null,null,null,0,122,null,211,{"$f":"COUNTIF($L$7:$L$500,N11)","v":0},{"$f":"O11/$Q$4","v":0},{"$f":"IF(P11=0,0,(P11*((LOG(P11))/LOG(2))))","v":0},null,null,{"$f":"N11","v":211},{"$f":"COUNTIF(L7:L19,T11)","v":0},{"$f":"U11/(W4-U8)","v":0},{"$f":"IF(V11=0,0,(V11*((LOG(V11))/LOG(2))))","v":0},null,{"$f":"N11","v":211},{"$f":"COUNTIF(L20:L32,Y11)","v":0},{"$f":"Z11/(AB4-Z8)","v":0},{"$f":"IF(AA11=0,0,(AA11*((LOG(AA11))/LOG(2))))","v":0},null,{"$f":"N11","v":211},{"$f":"COUNTIF(L33:L46,AD11)","v":0},{"$f":"AE11/(AG4-AE8)","v":0},{"$f":"IF(AF11=0,0,(AF11*((LOG(AF11))/LOG(2))))","v":0},null,{"$f":"N11","v":211},{"$f":"COUNTIF(L47:L59,AI11)","v":0},{"$f":"AJ11/(AL4-AJ8)","v":0},{"$f":"IF(AK11=0,0,(AK11*((LOG(AK11))/LOG(2))))","v":0},null,{"$f":"N11","v":211},{"$f":"COUNTIF(L60:L72,AN11)","v":0},{"$f":"AO11/(AQ4-AO8)","v":0},{"$f":"IF(AP11=0,0,(AP11*((LOG(AP11))/LOG(2))))","v":0},null,{"$f":"N11","v":211},{"$f":"COUNTIF(L73:L85,AS11)","v":0},{"$f":"AT11/(AV4-AT8)","v":0},{"$f":"IF(AU11=0,0,(AU11*((LOG(AU11))/LOG(2))))","v":0}]
[11,852,11,857,21,869,null,null,null,null,0,112,null,212,{"$f":"COUNTIF($L$7:$L$500,N12)","v":0},{"$f":"O12/$Q$4","v":0},{"$f":"IF(P12=0,0,(P12*((LOG(P12))/LOG(2))))","v":0},null,null,{"$f":"N12","v":212},{"$f":"COUNTIF(L7:L19,T12)","v":0},{"$f":"U12/(W4-U8)","v":0},{"$f":"IF(V12=0,0,(V12*((LOG(V12))/LOG(2))))","v":0},null,{"$f":"N12","v":212},{"$f":"COUNTIF(L20:L32,Y12)","v":0},{"$f":"Z12/(AB4-Z8)","v":0},{"$f":"IF(AA12=0,0,(AA12*((LOG(AA12))/LOG(2))))","v":0},null,{"$f":"N12","v":212},{"$f":"COUNTIF(L33:L46,AD12)","v":0},{"$f":"AE12/(AG4-AE8)","v":0},{"$f":"IF(AF12=0,0,(AF12*((LOG(AF12))/LOG(2))))","v":0},null,{"$f":"N12","v":212},{"$f":"COUNTIF(L47:L59,AI12)","v":0},{"$f":"AJ12/(AL4-AJ8)","v":0},{"$f":"IF(AK12=0,0,(AK12*((LOG(AK12))/LOG(2))))","v":0},null,{"$f":"N12","v":212},{"$f":"COUNTIF(L60:L72,AN12)","v":0},{"$f":"AO12/(AQ4-AO8)","v":0},{"$f":"IF(AP12=0,0,(AP12*((LOG(AP12))/LOG(2))))","v":0},null,{"$f":"N12","v":212},{"$f":"COUNTIF(L73:L85,AS12)","v":0},{"$f":"AT12/(AV4-AT8)","v":0},{"$f":"IF(AU12=0,0,(AU12*((LOG(AU12))/LOG(2))))","v":0}]
[11,997,22,1012,23,1023,null,null,null,null,0,122,null,221,{"$f":"COUNTIF($L$7:$L$500,N13)","v":0},{"$f":"O13/$Q$4","v":0},{"$f":"IF(P13=0,0,(P13*((LOG(P13))/LOG(2))))","v":0},null,null,{"$f":"N13","v":221},{"$f":"COUNTIF(L7:L19,T13)","v":0},{"$f":"U13/(W4-U8)","v":0},{"$f":"IF(V13=0,0,(V13*((LOG(V13))/LOG(2))))","v":0},null,{"$f":"N13","v":221},{"$f":"COUNTIF(L20:L32,Y13)","v":0},{"$f":"Z13/(AB4-Z8)","v":0},{"$f":"IF(AA13=0,0,(AA13*((LOG(AA13))/LOG(2))))","v":0},null,{"$f":"N13","v":221},{"$f":"COUNTIF(L33:L46,AD13)","v":0},{"$f":"AE13/(AG4-AE8)","v":0},{"$f":"IF(AF13=0,0,(AF13*((LOG(AF13))/LOG(2))))","v":0},null,{"$f":"N13","v":221},{"$f":"COUNTIF(L47:L59,AI13)","v":0},{"$f":"AJ13/(AL4-AJ8)","v":0},{"$f":"IF(AK13=0,0,(AK13*((LOG(AK13))/LOG(2))))","v":0},null,{"$f":"N13","v":221},{"$f":"COUNTIF(L60:L72,AN13)","v":0},{"$f":"AO13/(AQ4-AO8)","v":0},{"$f":"IF(AP13=0,0,(AP13*((LOG(AP13))/LOG(2))))","v":0},null,{"$f":"N13","v":221},{"$f":"COUNTIF(L73:L85,AS13)","v":0},{"$f":"AT13/(AV4-AT8)","v":0},{"$f":"IF(AU13=0,0,(AU13*((LOG(AU13))/LOG(2))))","v":0}]
[11,1119,11,1128,21,1141,null,null,null,null,0,112,null,222,{"$f":"COUNTIF($L$7:$L$500,N14)","v":1},{"$f":"O14/$Q$4","v":1.2658227848101266E-2},{"$f":"IF(P14=0,0,(P14*((LOG(P14))/LOG(2))))","v":-7.9794693014900039E-2},null,null,{"$f":"N14","v":222},{"$f":"COUNTIF(L7:L19,T14)","v":0},{"$f":"U14/(W4-U8)","v":0},{"$f":"IF(V14=0,0,(V14*((LOG(V14))/LOG(2))))","v":0},null,{"$f":"N14","v":222},{"$f":"COUNTIF(L20:L32,Y14)","v":0},{"$f":"Z14/(AB4-Z8)","v":0},{"$f":"IF(AA14=0,0,(AA14*((LOG(AA14))/LOG(2))))","v":0},null,{"$f":"N14","v":222},{"$f":"COUNTIF(L33:L46,AD14)","v":0},{"$f":"AE14/(AG4-AE8)","v":0},{"$f":"IF(AF14=0,0,(AF14*((LOG(AF14))/LOG(2))))","v":0},null,{"$f":"N14","v":222},{"$f":"COUNTIF(L47:L59,AI14)","v":0},{"$f":"AJ14/(AL4-AJ8)","v":0},{"$f":"IF(AK14=0,0,(AK14*((LOG(AK14))/LOG(2))))","v":0},null,{"$f":"N14","v":222},{"$f":"COUNTIF(L60:L72,AN14)","v":1},{"$f":"AO14/(AQ4-AO8)","v":0.1111111111111111},{"$f":"IF(AP14=0,0,(AP14*((LOG(AP14))/LOG(2))))","v":-0.3522138890491458},null,{"$f":"N14","v":222},{"$f":"COUNTIF(L73:L85,AS14)","v":0},{"$f":"AT14/(AV4-AT8)","v":0},{"$f":"IF(AU14=0,0,(AU14*((LOG(AU14))/LOG(2))))","v":0}]
[11,1245,11,1250,21,1266,null,null,null,null,0,112,null,null,null,{"$f":"SUM(P7:P14)","v":1},{"$f":"-SUM(Q7:Q14)","v":1.8106753832390017},null,null,null,null,{"$f":"SUM(V7:V14)","v":1},{"$f":"-SUM(W7:W14)","v":1.3516441151533922},null,null,null,{"$f":"SUM(AA7:AA14)","v":1},{"$f":"-SUM(AB7:AB14)","v":1},null,null,null,{"$f":"SUM(AF7:AF14)","v":1},{"$f":"-SUM(AG7:AG14)","v":1.4591479170272446},null,null,null,{"$f":"SUM(AK7:AK14)","v":1},{"$f":"-SUM(AL7:AL14)","v":1.4591479170272446},null,null,null,{"$f":"SUM(AP7:AP14)","v":1},{"$f":"-SUM(AQ7:AQ14)","v":1.8365916681089791},null,null,null,{"$f":"SUM(AU7:AU14)","v":1},{"$f":"-SUM(AV7:AV14)","v":1.5219280948873624}]
[11,1417,22,1434,14,1633,null,null,null,null,0,121,null,null,null,"U=",{"$f":"Q15/(LOG(Q4)/LOG(2))","v":0.28723641502960012},null,null,null,null,"U1=",{"$f":"W15/(LOG(W4)/LOG(2))","v":0.36526581112160034},null,null,null,"U2=",{"$f":"AB15/(LOG(AB4)/LOG(2))","v":0.27023815442731974},null,null,null,"U3=",{"$f":"AG15/(LOG(AG4)/LOG(2))","v":0.38324452195769532},null,null,null,"U4=",{"$f":"AL15/(LOG(AL4)/LOG(2))","v":0.39431744013391046},null,null,null,"U5=",{"$f":"AQ15/(LOG(AQ4)/LOG(2))","v":0.49631714282636308},null,null,null,"U6=",{"$f":"AV15/(LOG(AV4)/LOG(2))","v":0.41128303953344758}]
[11,1729,22,1747,23,1847,null,null,null,null,0,122]
[11,1944,22,1955,23,1961,null,null,null,null,0,122]
[11,2070,22,2082,14,2138,null,null,null,null,0,121,null,"Total Target Seq"]
[11,2233,11,2236,21,2249,null,null,null,null,0,112,null,{"$f":"COUNTIF(L7:L85,G3)","v":40},null,13,13,14,13,13,13]
[11,2358,11,2363,21,2381,null,null,null,null,0,112,null,null,null,"% of reinforcement given in 6 equal intervals based on number of trials "]
[11,2506,11,2514,21,2531,null,null,null,null,0,112,null,null,null,"%_1","%_2","%_3","%_4","%_5","%_6"]
[11,2753,22,2773,14,2874,null,null,null,null,0,121,null,null,"target sequence",{"$f":"$G$3","v":112},{"$f":"$G$3","v":112},{"$f":"$G$3","v":112},{"$f":"$G$3","v":112},{"$f":"$G$3","v":112},{"$f":"$G$3","v":112}]
[11,2970,11,2980,21,2990,null,null,null,null,0,112,null,null,"total reinforcement",{"$f":"U8","v":4},{"$f":"Z8","v":9},{"$f":"AE8","v":8},{"$f":"AJ8","v":7},{"$f":"AO8","v":4},{"$f":"AT8","v":8}]
[11,3088,11,3095,21,3104,null,null,null,null,0,112,null,null,"% target"]
[11,3219,11,3224,21,3259,null,null,null,null,0,112,null,null,"CCRF"]
[11,3354,22,3377,23,3387,null,null,null,null,0,122,null,null,"% CCRf"]
[11,3482,11,3484,21,3511,null,null,null,null,0,112,null,null,"average response rate",{"$f":"F19/P20","v":164.46153846153845},{"$f":"(F32-F19)/Q20","v":157.53846153846155},{"$f":"(F46-F32)/R20","v":147.5},{"$f":"(F59-F46)/S20","v":151},{"$f":"(F72-F59)/T20","v":150.61538461538461},{"$f":"(F85-F72)/U20","v":141.53846153846155}]
[11,3651,11,3660,21,3694,null,null,null,null,0,112]
[11,3790,22,3808,23,3818,null,null,null,null,0,122]
[11,3915,22,3931,14,4060,null,null,null,null,0,121]
[11,4156,11,4160,21,4186,null,null,null,null,0,112]
[11,4278,11,4378,21,4414,null,null,null,null,0,112]
[11,4509,22,4534,23,4553,null,null,null,null,0,122]
[11,4647,11,4650,12,4655,null,null,null,null,0,111]
[11,4827,22,4848,23,4916,null,null,null,null,0,122]
[11,5010,11,5013,12,5018,null,null,null,null,0,111]
[11,5113,11,5116,21,5137,null,null,null,null,0,112]
[11,5229,11,5231,21,5253,null,null,null,null,0,112]
[11,5350,11,5361,21,5405,null,null,null,null,0,112]
[11,5563,11,5571,21,5595,null,null,null,null,0,112]
[11,5697,22,5720,14,5747,null,null,null,null,0,121]
[11,5842,11,5847,21,5885,null,null,null,null,0,112]
[11,5979,11,5983,12,5988,null,null,null,null,0,111]
[11,6087,11,6092,21,6139,null,null,null,null,0,112]
[11,6231,11,6235,21,6251,null,null,null,null,0,112]
[11,6368,11,6378,21,6415,null,null,null,null,0,112]
[11,6552,22,6583,23,6597,null,null,null,null,0,122]
[11,6692,11,6697,12,6714,null,null,null,null,0,111]
[11,6809,11,6813,21,6823,null,null,null,null,0,112]
[11,6923,22,6957,14,7047,null,null,null,null,0,121]
[11,7140,11,7143,21,7154,null,null,null,null,0,112]
[11,7246,22,7260,14,7355,null,null,null,null,0,121]
[11,7450,11,7455,21,7469,null,null,null,null,0,112]
[11,7560,11,7567,21,7577,null,null,null,null,0,112]
[11,7683,11,7688,21,7700,null,null,null,null,0,112]
[11,7859,22,7909,23,7918,null,null,null,null,0,122]
[11,8013,11,8060,21,8075,null,null,null,null,0,112]
[11,8167,22,8192,23,8214,null,null,null,null,0,122]
[11,8306,11,8309,12,8311,null,null,null,null,0,111]
[11,8406,11,8408,12,8414,null,null,null,null,0,111]
[22,8512,24,8518,23,8527,null,null,null,null,0,222]
[11,8645,11,8653,21,8663,null,null,null,null,0,112]
[11,8754,11,8758,21,8911,null,null,null,null,0,112]
[11,9005,11,9010,21,9034,null,null,null,null,0,112]
[11,9206,22,9235,14,9310,null,null,null,null,0,121]
[11,9407,22,9423,23,9433,null,null,null,null,0,122]
[11,9534,22,9552,23,9563,null,null,null,null,0,122]
[11,9658,22,9678,14,9785,null,null,null,null,0,121]
[11,9880,22,9899,23,9907,null,null,null,null,0,122]
[11,10006,11,10013,21,10030,null,null,null,null,0,112]
[11,10122,22,10151,23,10172,null,null,null,null,0,122]
[11,10282,22,10300,23,10307,null,null,null,null,0,122]
[11,10403,11,10409,21,10427,null,null,null,null,0,112]
[11,10521,11,10607,21,10625,null,null,null,null,0,112]
[11,10716,22,10730,23,10748,null,null,null,null,0,122]
[11,10844,11,10846,21,10868,null,null,null,null,0,112]
[11,10964,22,10987,14,11052,null,null,null,null,0,121]
[11,11147,22,11160,14,11243,null,null,null,null,0,121]
[11,11340,11,11346,21,11364,null,null,null,null,0,112]
[11,11456,11,11461,21,11483,null,null,null,null,0,112]
[11,11598,11,11603,12,11606,null,null,null,null,0,111]
[11,11702,11,11708,21,11727,null,null,null,null,0,112]
[11,11840,11,11849,21,11862,null,null,null,null,0,112]
[11,11980,11,11987,21,12012,null,null,null,null,1,112]

{"sheet":"!MC1293I.sha","index":37,"n_rows":95,"n_cols":48,"rows_kept":95,"cut":false,"hidden":false,"merged":[[4,39,4,42],[5,39,5,40],[4,44,4,47],[5,44,5,45],[4,24,4,27],[5,24,5,25],[4,29,4,32],[5,29,5,30],[4,34,4,37],[5,34,5,35],[1,1,1,2],[5,13,5,14],[18,13,18,14],[19,13,19,14],[4,19,4,22],[5,19,5,20]]}
["Report for:!MC1293I.sha"]
["Date:","<date>"]
["Hen:","<hen>",null,null,null,"Correct Sequence",{"$f":"Start!J2","v":112},null,null,null,null,null,null,null,null,"Total Sequences in Data",{"$f":"4994-COUNTBLANK(L7:L5000)","v":89},null,null,null,null,"Total Sequences in Block Data",{"$f":"COUNTA(L7:L21)","v":15},null,null,null,"Total Sequences in Block Data",{"$f":"COUNTA(L22:L36)","v":15},null,null,null,"Total Sequences in Block Data",{"$f":"COUNTA(L37:L50)","v":14},null,null,null,"Total Sequences in Block Data",{"$f":"COUNTA(L51:L65)","v":15},null,null,null,"Total Sequences in Block Data",{"$f":"COUNTA(L66:L80)","v":15},null,null,null,"Total Sequences in Block Data",{"$f":"COUNTA(L81:L95)","v":15}]
[null,null,null,null,null,null,null,null,null,null,null,null,null,null,null,"Total Sequences in Summary",{"$f":"SUM(O7:O14)","v":89},null,null,null,null,"Total Sequences in Block Summary",{"$f":"SUM(U7:U14)","v":15},null,null,null,"Total Sequences in Block Summary",{"$f":"SUM(Z7:Z14)","v":15},null,null,null,"Total Sequences in Block Summary",{"$f":"SUM(AE7:AE14)","v":14},null,null,null,"Total Sequences in Block Summary",{"$f":"SUM(AJ7:AJ14)","v":15},null,null,null,"Total Sequences in Block Summary",{"$f":"SUM(AO7:AO14)","v":15},null,null,null,"Total Sequences in Block Summary",{"$f":"SUM(AT7:AT14)","v":15}]
[null,null,null,null,null,null,null,null,null,null,null,null,null,null,null,null,null,null,null,"Block 1",null,null,null,null,"Block 2",null,null,null,null,"Block 3",null,null,null,null,"Block 4",null,null,null,null,"Block 5",null,null,null,null,"Block 6"]
["Sequence\nComponent\n1","Time\n1","Sequence\nComponent\n2","Time\n2","Sequence\nComponent\n3","Time\n3","Sequence\nComponent\n4","Time\n4","Sequence\nComponent\n5","Time\n5","Correct?\n0=No 1=Yes","Sequence",null,"Frequency",null,"Relative Frequency","Variability",null,null,"Frequency",null,"Relative Frequency","Variability",null,"Frequency",null,"Relative Frequency","Variability",null,"Frequency",null,"Relative Frequency","Variability",null,"Frequency",null,"Relative Frequency","Variability",null,"Frequency",null,"Relative Frequency","Variability",null,"Frequency",null,"Relative Frequency","Variability"]
[22,6,24,23,23,29,null,null,null,null,0,222,null,111,{"$f":"COUNTIF($L$7:$L$500,N7)","v":9},{"$f":"O7/$Q$4","v":0.10112359550561797},{"$f":"IF(P7=0,0,(P7*((LOG(P7))/LOG(2))))","v":-0.33429523444625581},null,null,{"$f":"N7","v":111},{"$f":"COUNTIF(L7:L21,T7)","v":0},{"$f":"U7/(W4-U8)","v":0},{"$f":"IF(V7=0,0,(V7*((LOG(V7))/LOG(2))))","v":0},null,{"$f":"N7","v":111},{"$f":"COUNTIF(L22:L36,Y7)","v":1},{"$f":"Z7/(AB4-Z8)","v":0.16666666666666666},{"$f":"IF(AA7=0,0,(AA7*((LOG(AA7))/LOG(2))))","v":-0.43082708345352599},null,{"$f":"N7","v":111},{"$f":"COUNTIF(L37:L50,AD7)","v":4},{"$f":"AE7/(AG4-AE8)","v":0.44444444444444442},{"$f":"IF(AF7=0,0,(AF7*((LOG(AF7))/LOG(2))))","v":-0.51996666730769447},null,{"$f":"N7","v":111},{"$f":"COUNTIF(L51:L65,AI7)","v":0},{"$f":"AJ7/(AL4-AJ8)","v":0},{"$f":"IF(AK7=0,0,(AK7*((LOG(AK7))/LOG(2))))","v":0},null,{"$f":"N7","v":111},{"$f":"COUNTIF(L66:L80,AN7)","v":2},{"$f":"AO7/(AQ4-AO8)","v":0.16666666666666666},{"$f":"IF(AP7=0,0,(AP7*((LOG(AP7))/LOG(2))))","v":-0.43082708345352599},null,{"$f":"N7","v":111},{"$f":"COUNTIF(L81:L95,AS7)","v":2},{"$f":"AT7/(AV4-AT8)","v":0.25},{"$f":"IF(AU7=0,0,(AU7*((LOG(AU7))/LOG(2))))","v":-0.5}]
[11,126,22,139,23,146,null,null,null,null,0,122,null,112,{"$f":"COUNTIF($L$7:$L$500,N8)","v":40},{"$f":"O8/$Q$4","v":0.449438202247191},{"$f":"IF(P8=0,0,(P8*((LOG(P8))/LOG(2))))","v":-0.51856419599057768},null,null,{"$f":"N8","v":112},{"$f":"COUNTIF(L7:L21,T8)","v":7},null,null,null,{"$f":"N8","v":112},{"$f":"COUNTIF(L22:L36,Y8)","v":9},null,null,null,{"$f":"N8","v":112},{"$f":"COUNTIF(L37:L50,AD8)","v":5},null,null,null,{"$f":"N8","v":112},{"$f":"COUNTIF(L51:L65,AI8)","v":9},null,null,null,{"$f":"N8","v":112},{"$f":"COUNTIF(L66:L80,AN8)","v":3},null,null,null,{"$f":"N8","v":112},{"$f":"COUNTIF(L81:L95,AS8)","v":7}]
[11,246,22,256,23,268,null,null,null,null,0,122,null,121,{"$f":"COUNTIF($L$7:$L$500,N9)","v":6},{"$f":"O9/$Q$4","v":6.741573033707865E-2},{"$f":"IF(P9=0,0,(P9*((LOG(P9))/LOG(2))))","v":-0.26229916383675783},null,null,{"$f":"N9","v":121},{"$f":"COUNTIF(L7:L21,T9)","v":0},{"$f":"U9/(W4-U8)","v":0},{"$f":"IF(V9=0,0,(V9*((LOG(V9))/LOG(2))))","v":0},null,{"$f":"N9","v":121},{"$f":"COUNTIF(L22:L36,Y9)","v":2},{"$f":"Z9/(AB4-Z8)","v":0.33333333333333331},{"$f":"IF(AA9=0,0,(AA9*((LOG(AA9))/LOG(2))))","v":-0.52832083357371862},null,{"$f":"N9","v":121},{"$f":"COUNTIF(L37:L50,AD9)","v":1},{"$f":"AE9/(AG4-AE8)","v":0.1111111111111111},{"$f":"IF(AF9=0,0,(AF9*((LOG(AF9))/LOG(2))))","v":-0.3522138890491458},null,{"$f":"N9","v":121},{"$f":"COUNTIF(L51:L65,AI9)","v":1},{"$f":"AJ9/(AL4-AJ8)","v":0.16666666666666666},{"$f":"IF(AK9=0,0,(AK9*((LOG(AK9))/LOG(2))))","v":-0.43082708345352599},null,{"$f":"N9","v":121},{"$f":"COUNTIF(L66:L80,AN9)","v":0},{"$f":"AO9/(AQ4-AO8)","v":0},{"$f":"IF(AP9=0,0,(AP9*((LOG(AP9))/LOG(2))))","v":0},null,{"$f":"N9","v":121},{"$f":"COUNTIF(L81:L95,AS9)","v":2},{"$f":"AT9/(AV4-AT8)","v":0.25},{"$f":"IF(AU9=0,0,(AU9*((LOG(AU9))/LOG(2))))","v":-0.5}]
[11,362,22,376,23,471,null,null,null,null,0,122,null,122,{"$f":"COUNTIF($L$7:$L$500,N10)","v":31},{"$f":"O10/$Q$4","v":0.34831460674157305},{"$f":"IF(P10=0,0,(P10*((LOG(P10))/LOG(2))))","v":-0.5299736037973618},null,null,{"$f":"N10","v":122},{"$f":"COUNTIF(L7:L21,T10)","v":7},{"$f":"U10/(W4-U8)","v":0.875},{"$f":"IF(V10=0,0,(V10*((LOG(V10))/LOG(2))))","v":-0.1685644431995964},null,{"$f":"N10","v":122},{"$f":"COUNTIF(L22:L36,Y10)","v":3},{"$f":"Z10/(AB4-Z8)","v":0.5},{"$f":"IF(AA10=0,0,(AA10*((LOG(AA10))/LOG(2))))","v":-0.5},null,{"$f":"N10","v":122},{"$f":"COUNTIF(L37:L50,AD10)","v":3},{"$f":"AE10/(AG4-AE8)","v":0.33333333333333331},{"$f":"IF(AF10=0,0,(AF10*((LOG(AF10))/LOG(2))))","v":-0.52832083357371862},null,{"$f":"N10","v":122},{"$f":"COUNTIF(L51:L65,AI10)","v":5},{"$f":"AJ10/(AL4-AJ8)","v":0.83333333333333337},{"$f":"IF(AK10=0,0,(AK10*((LOG(AK10))/LOG(2))))","v":-0.21919533819482812},null,{"$f":"N10","v":122},{"$f":"COUNTIF(L66:L80,AN10)","v":9},{"$f":"AO10/(AQ4-AO8)","v":0.75},{"$f":"IF(AP10=0,0,(AP10*((LOG(AP10))/LOG(2))))","v":-0.31127812445913283},null,{"$f":"N10","v":122},{"$f":"COUNTIF(L81:L95,AS10)","v":4},{"$f":"AT10/(AV4-AT8)","v":0.5},{"$f":"IF(AU10=0,0,(AU10*((LOG(AU10))/LOG(2))))","v":-0.5}]
[11,565,22,583,23,591,null,null,null,null,0,122,null,211,{"$f":"COUNTIF($L$7:$L$500,N11)","v":0},{"$f":"O11/$Q$4","v":0},{"$f":"IF(P11=0,0,(P11*((LOG(P11))/LOG(2))))","v":0},null,null,{"$f":"N11","v":211},{"$f":"COUNTIF(L7:L21,T11)","v":0},{"$f":"U11/(W4-U8)","v":0},{"$f":"IF(V11=0,0,(V11*((LOG(V11))/LOG(2))))","v":0},null,{"$f":"N11","v":211},{"$f":"COUNTIF(L22:L36,Y11)","v":0},{"$f":"Z11/(AB4-Z8)","v":0},{"$f":"IF(AA11=0,0,(AA11*((LOG(AA11))/LOG(2))))","v":0},null,{"$f":"N11","v":211},{"$f":"COUNTIF(L37:L50,AD11)","v":0},{"$f":"AE11/(AG4-AE8)","v":0},{"$f":"IF(AF11=0,0,(AF11*((LOG(AF11))/LOG(2))))","v":0},null,{"$f":"N11","v":211},{"$f":"COUNTIF(L51:L65,AI11)","v":0},{"$f":"AJ11/(AL4-AJ8)","v":0},{"$f":"IF(AK11=0,0,(AK11*((LOG(AK11))/LOG(2))))","v":0},null,{"$f":"N11","v":211},{"$f":"COUNTIF(L66:L80,AN11)","v":0},{"$f":"AO11/(AQ4-AO8)","v":0},{"$f":"IF(AP11=0,0,(AP11*((LOG(AP11))/LOG(2))))","v":0},null,{"$f":"N11","v":211},{"$f":"COUNTIF(L81:L95,AS11)","v":0},{"$f":"AT11/(AV4-AT8)","v":0},{"$f":"IF(AU11=0,0,(AU11*((LOG(AU11))/LOG(2))))","v":0}]
[11,686,11,692,21,703,null,null,null,null,0,112,null,212,{"$f":"COUNTIF($L$7:$L$500,N12)","v":0},{"$f":"O12/$Q$4","v":0},{"$f":"IF(P12=0,0,(P12*((LOG(P12))/LOG(2))))","v":0},null,null,{"$f":"N12","v":212},{"$f":"COUNTIF(L7:L21,T12)","v":0},{"$f":"U12/(W4-U8)","v":0},{"$f":"IF(V12=0,0,(V12*((LOG(V12))/LOG(2))))","v":0},null,{"$f":"N12","v":212},{"$f":"COUNTIF(L22:L36,Y12)","v":0},{"$f":"Z12/(AB4-Z8)","v":0},{"$f":"IF(AA12=0,0,(AA12*((LOG(AA12))/LOG(2))))","v":0},null,{"$f":"N12","v":212},{"$f":"COUNTIF(L37:L50,AD12)","v":0},{"$f":"AE12/(AG4-AE8)","v":0},{"$f":"IF(AF12=0,0,(AF12*((LOG(AF12))/LOG(2))))","v":0},null,{"$f":"N12","v":212},{"$f":"COUNTIF(L51:L65,AI12)","v":0},{"$f":"AJ12/(AL4-AJ8)","v":0},{"$f":"IF(AK12=0,0,(AK12*((LOG(AK12))/LOG(2))))","v":0},null,{"$f":"N12","v":212},{"$f":"COUNTIF(L66:L80,AN12)","v":0},{"$f":"AO12/(AQ4-AO8)","v":0},{"$f":"IF(AP12=0,0,(AP12*((LOG(AP12))/LOG(2))))","v":0},null,{"$f":"N12","v":212},{"$f":"COUNTIF(L81:L95,AS12)","v":0},{"$f":"AT12/(AV4-AT8)","v":0},{"$f":"IF(AU12=0,0,(AU12*((LOG(AU12))/LOG(2))))","v":0}]
[11,798,11,805,21,820,null,null,null,null,0,112,null,221,{"$f":"COUNTIF($L$7:$L$500,N13)","v":1},{"$f":"O13/$Q$4","v":1.1235955056179775E-2},{"$f":"IF(P13=0,0,(P13*((LOG(P13))/LOG(2))))","v":-7.2761049786139301E-2},null,null,{"$f":"N13","v":221},{"$f":"COUNTIF(L7:L21,T13)","v":0},{"$f":"U13/(W4-U8)","v":0},{"$f":"IF(V13=0,0,(V13*((LOG(V13))/LOG(2))))","v":0},null,{"$f":"N13","v":221},{"$f":"COUNTIF(L22:L36,Y13)","v":0},{"$f":"Z13/(AB4-Z8)","v":0},{"$f":"IF(AA13=0,0,(AA13*((LOG(AA13))/LOG(2))))","v":0},null,{"$f":"N13","v":221},{"$f":"COUNTIF(L37:L50,AD13)","v":0},{"$f":"AE13/(AG4-AE8)","v":0},{"$f":"IF(AF13=0,0,(AF13*((LOG(AF13))/LOG(2))))","v":0},null,{"$f":"N13","v":221},{"$f":"COUNTIF(L51:L65,AI13)","v":0},{"$f":"AJ13/(AL4-AJ8)","v":0},{"$f":"IF(AK13=0,0,(AK13*((LOG(AK13))/LOG(2))))","v":0},null,{"$f":"N13","v":221},{"$f":"COUNTIF(L66:L80,AN13)","v":1},{"$f":"AO13/(AQ4-AO8)","v":8.3333333333333329E-2},{"$f":"IF(AP13=0,0,(AP13*((LOG(AP13))/LOG(2))))","v":-0.29874687506009634},null,{"$f":"N13","v":221},{"$f":"COUNTIF(L81:L95,AS13)","v":0},{"$f":"AT13/(AV4-AT8)","v":0},{"$f":"IF(AU13=0,0,(AU13*((LOG(AU13))/LOG(2))))","v":0}]
[11,921,11,930,21,960,null,null,null,null,0,112,null,222,{"$f":"COUNTIF($L$7:$L$500,N14)","v":2},{"$f":"O14/$Q$4","v":2.247191011235955E-2},{"$f":"IF(P14=0,0,(P14*((LOG(P14))/LOG(2))))","v":-0.12305018945991905},null,null,{"$f":"N14","v":222},{"$f":"COUNTIF(L7:L21,T14)","v":1},{"$f":"U14/(W4-U8)","v":0.125},{"$f":"IF(V14=0,0,(V14*((LOG(V14))/LOG(2))))","v":-0.375},null,{"$f":"N14","v":222},{"$f":"COUNTIF(L22:L36,Y14)","v":0},{"$f":"Z14/(AB4-Z8)","v":0},{"$f":"IF(AA14=0,0,(AA14*((LOG(AA14))/LOG(2))))","v":0},null,{"$f":"N14","v":222},{"$f":"COUNTIF(L37:L50,AD14)","v":1},{"$f":"AE14/(AG4-AE8)","v":0.1111111111111111},{"$f":"IF(AF14=0,0,(AF14*((LOG(AF14))/LOG(2))))","v":-0.3522138890491458},null,{"$f":"N14","v":222},{"$f":"COUNTIF(L51:L65,AI14)","v":0},{"$f":"AJ14/(AL4-AJ8)","v":0},{"$f":"IF(AK14=0,0,(AK14*((LOG(AK14))/LOG(2))))","v":0},null,{"$f":"N14","v":222},{"$f":"COUNTIF(L66:L80,AN14)","v":0},{"$f":"AO14/(AQ4-AO8)","v":0},{"$f":"IF(AP14=0,0,(AP14*((LOG(AP14))/LOG(2))))","v":0},null,{"$f":"N14","v":222},{"$f":"COUNTIF(L81:L95,AS14)","v":0},{"$f":"AT14/(AV4-AT8)","v":0},{"$f":"IF(AU14=0,0,(AU14*((LOG(AU14))/LOG(2))))","v":0}]
[11,1070,22,1089,23,1129,null,null,null,null,0,122,null,null,null,{"$f":"SUM(P7:P14)","v":1},{"$f":"-SUM(Q7:Q14)","v":1.8409434373170115},null,null,null,null,{"$f":"SUM(V7:V14)","v":1},{"$f":"-SUM(W7:W14)","v":0.5435644431995964},null,null,null,{"$f":"SUM(AA7:AA14)","v":1},{"$f":"-SUM(AB7:AB14)","v":1.4591479170272446},null,null,null,{"$f":"SUM(AF7:AF14)","v":1},{"$f":"-SUM(AG7:AG14)","v":1.7527152789797047},null,null,null,{"$f":"SUM(AK7:AK14)","v":1},{"$f":"-SUM(AL7:AL14)","v":0.65002242164835411},null,null,null,{"$f":"SUM(AP7:AP14)","v":1},{"$f":"-SUM(AQ7:AQ14)","v":1.0408520829727552},null,null,null,{"$f":"SUM(AU7:AU14)","v":1},{"$f":"-SUM(AV7:AV14)","v":1.5}]
[11,1226,22,1240,23,1248,null,null,null,null,0,122,null,null,null,"U=",{"$f":"Q15/(LOG(Q4)/LOG(2))","v":0.28428338765672151},null,null,null,null,"U1=",{"$f":"W15/(LOG(W4)/LOG(2))","v":0.13912968123821584},null,null,null,"U2=",{"$f":"AB15/(LOG(AB4)/LOG(2))","v":0.37348061874765004},null,null,null,"U3=",{"$f":"AG15/(LOG(AG4)/LOG(2))","v":0.46034985307660448},null,null,null,"U4=",{"$f":"AL15/(LOG(AL4)/LOG(2))","v":0.16637845512720575},null,null,null,"U5=",{"$f":"AQ15/(LOG(AQ4)/LOG(2))","v":0.26641444327688862},null,null,null,"U6=",{"$f":"AV15/(LOG(AV4)/LOG(2))","v":0.38393703721472322}]
[11,1343,11,1345,21,1359,null,null,null,null,0,112]
[11,1452,11,1458,21,1468,null,null,null,null,0,112]
[11,1630,11,1637,21,1648,null,null,null,null,0,112,null,"Total Target Seq"]
[11,1770,22,1794,23,1972,null,null,null,null,0,122,null,{"$f":"COUNTIF(L7:L95,G3)","v":40},null,15,15,14,15,15,15]
[11,2066,11,2073,21,2091,null,null,null,null,0,112,null,null,null,"% of reinforcement given in 6 equal intervals based on number of trials "]
[11,2193,11,2198,21,2216,null,null,null,null,0,112,null,null,null,"%_1","%_2","%_3","%_4","%_5","%_6"]
[11,2315,22,2349,23,2443,null,null,null,null,0,122,null,null,"target sequence",{"$f":"$G$3","v":112},{"$f":"$G$3","v":112},{"$f":"$G$3","v":112},{"$f":"$G$3","v":112},{"$f":"$G$3","v":112},{"$f":"$G$3","v":112}]
[11,2537,11,2542,21,2560,null,null,null,null,0,112,null,null,"total reinforcement",{"$f":"U8","v":7},{"$f":"Z8","v":9},{"$f":"AE8","v":5},{"$f":"AJ8","v":9},{"$f":"AO8","v":3},{"$f":"AT8","v":7}]
[11,2661,11,2668,21,2689,null,null,null,null,0,112,null,null,"% target"]
[11,2780,11,2788,21,2809,null,null,null,null,0,112,null,null,"CCRF"]
[11,2943,11,2953,21,2973,null,null,null,null,0,112,null,null,"% CCRf"]
[11,3070,22,3104,23,3230,null,null,null,null,0,122,null,null,"average response rate",{"$f":"F21/P20","v":139.4},{"$f":"(F36-F21)/Q20","v":158.86666666666667},{"$f":"(F50-F36)/R20","v":121.57142857142857},{"$f":"(F65-F50)/S20","v":134.93333333333334},{"$f":"(F80-F65)/T20","v":127.4},{"$f":"(F95-F80)/U20","v":142.53333333333333}]
[11,3325,11,3330,21,3348,null,null,null,null,0,112]
[11,3442,22,3463,14,3596,null,null,null,null,0,121]
[11,3691,22,3710,14,3809,null,null,null,null,0,121]
[11,3903,11,3909,21,3922,null,null,null,null,0,112]
[11,4018,22,4028,23,4147,null,null,null,null,0,122]
[11,4239,11,4242,12,4246,null,null,null,null,0,111]
[11,4340,11,4345,21,4361,null,null,null,null,0,112]
[11,4460,11,4465,21,4474,null,null,null,null,0,112]
[11,4583,11,4592,21,4607,null,null,null,null,0,112]
[11,4718,11,4728,21,4739,null,null,null,null,0,112]
[11,4832,22,4846,23,4855,null,null,null,null,0,122]
[22,4986,24,4994,23,5017,null,null,null,null,0,222]
[11,5112,11,5117,12,5120,null,null,null,null,0,111]
[11,5215,22,5231,23,5235,null,null,null,null,0,122]
[11,5330,11,5334,12,5337,null,null,null,null,0,111]
[11,5431,11,5437,21,5451,null,null,null,null,0,112]
[11,5543,11,5546,21,5563,null,null,null,null,0,112]
[11,5654,11,5659,21,5670,null,null,null,null,0,112]
[11,5768,22,5795,14,5826,null,null,null,null,0,121]
[11,5920,11,5923,12,5928,null,null,null,null,0,111]
[11,6023,11,6026,12,6034,null,null,null,null,0,111]
[11,6147,22,6166,23,6176,null,null,null,null,0,122]
[11,6275,22,6283,23,6288,null,null,null,null,0,122]
[11,6383,11,6387,21,6403,null,null,null,null,0,112]
[11,6495,11,6499,21,6510,null,null,null,null,0,112]
[11,6601,11,6606,21,6623,null,null,null,null,0,112]
[11,6714,11,6720,21,6738,null,null,null,null,0,112]
[11,6851,11,6856,21,6905,null,null,null,null,0,112]
[11,7001,22,7024,14,7128,null,null,null,null,0,121]
[11,7224,22,7241,23,7254,null,null,null,null,0,122]
[11,7349,11,7353,21,7365,null,null,null,null,0,112]
[11,7455,11,7462,21,7473,null,null,null,null,0,112]
[11,7567,22,7581,23,7592,null,null,null,null,0,122]
[11,7689,22,7713,23,7723,null,null,null,null,0,122]
[11,7818,11,7820,21,7833,null,null,null,null,0,112]
[11,7924,11,7929,21,7940,null,null,null,null,0,112]
[11,8038,22,8050,23,8200,null,null,null,null,0,122]
[11,8295,22,8318,23,8330,null,null,null,null,0,122]
[11,8434,22,8445,23,8450,null,null,null,null,0,122]
[11,8545,22,8563,23,8569,null,null,null,null,0,122]
[11,8664,11,8671,21,8681,null,null,null,null,0,112]
[11,8772,11,8776,21,8789,null,null,null,null,0,112]
[11,8879,22,8894,23,9003,null,null,null,null,0,122]
[22,9111,24,9119,14,9130,null,null,null,null,0,221]
[11,9224,11,9227,21,9238,null,null,null,null,0,112]
[11,9329,22,9340,23,9348,null,null,null,null,0,122]
[11,9470,22,9486,23,9495,null,null,null,null,0,122]
[11,9591,22,9608,23,9621,null,null,null,null,0,122]
[11,9714,11,9717,12,9723,null,null,null,null,0,111]
[11,9819,11,9824,12,9828,null,null,null,null,0,111]
[11,9923,22,9939,23,9945,null,null,null,null,0,122]
[11,10045,22,10054,23,10111,null,null,null,null,0,122]
[11,10207,22,10220,23,10228,null,null,null,null,0,122]
[11,10323,22,10342,14,10398,null,null,null,null,0,121]
[11,10494,11,10499,12,10501,null,null,null,null,0,111]
[11,10599,11,10601,21,10610,null,null,null,null,0,112]
[11,10719,11,10725,21,10738,null,null,null,null,0,112]
[11,10842,11,10848,21,10871,null,null,null,null,0,112]
[11,11034,22,11059,23,11071,null,null,null,null,0,122]
[11,11171,11,11176,21,11184,null,null,null,null,0,112]
[11,11280,22,11294,23,11300,null,null,null,null,0,122]
[11,11423,22,11442,14,11534,null,null,null,null,0,121]
[11,11628,11,11631,21,11660,null,null,null,null,0,112]
[11,11756,11,11765,21,11780,null,null,null,null,0,112]
[11,11888,22,11914,23,12025,null,null,null,null,0,122]
[11,12120,11,12122,12,12126,null,null,null,null,0,111]
[11,12221,11,12224,21,12249,null,null,null,null,1,112]

{"sheet":"!MC1392I.sha","index":38,"n_rows":102,"n_cols":48,"rows_kept":102,"cut":false,"hidden":false,"merged":[[4,39,4,42],[5,39,5,40],[4,44,4,47],[5,44,5,45],[4,24,4,27],[5,24,5,25],[4,29,4,32],[5,29,5,30],[4,34,4,37],[5,34,5,35],[1,1,1,2],[5,13,5,14],[18,13,18,14],[19,13,19,14],[4,19,4,22],[5,19,5,20]]}
["Report for:!MC1392I.sha"]
["Date:","<date>"]
["Hen:","<hen>",null,null,null,"Correct Sequence",{"$f":"Start!J2","v":112},null,null,null,null,null,null,null,null,"Total Sequences in Data",{"$f":"4994-COUNTBLANK(L7:L5000)","v":96},null,null,null,null,"Total Sequences in Block Data",{"$f":"COUNTA(L7:L22)","v":16},null,null,null,"Total Sequences in Block Data",{"$f":"COUNTA(L23:L38)","v":16},null,null,null,"Total Sequences in Block Data",{"$f":"COUNTA(L39:L54)","v":16},null,null,null,"Total Sequences in Block Data",{"$f":"COUNTA(L55:L70)","v":16},null,null,null,"Total Sequences in Block Data",{"$f":"COUNTA(L71:L86)","v":16},null,null,null,"Total Sequences in Block Data",{"$f":"COUNTA(L87:L102)","v":16}]
[null,null,null,null,null,null,null,null,null,null,null,null,null,null,null,"Total Sequences in Summary",{"$f":"SUM(O7:O14)","v":96},null,null,null,null,"Total Sequences in Block Summary",{"$f":"SUM(U7:U14)","v":16},null,null,null,"Total Sequences in Block Summary",{"$f":"SUM(Z7:Z14)","v":16},null,null,null,"Total Sequences in Block Summary",{"$f":"SUM(AE7:AE14)","v":16},null,null,null,"Total Sequences in Block Summary",{"$f":"SUM(AJ7:AJ14)","v":16},null,null,null,"Total Sequences in Block Summary",{"$f":"SUM(AO7:AO14)","v":16},null,null,null,"Total Sequences in Block Summary",{"$f":"SUM(AT7:AT14)","v":16}]
[null,null,null,null,null,null,null,null,null,null,null,null,null,null,null,null,null,null,null,"Block 1",null,null,null,null,"Block 2",null,null,null,null,"Block 3",null,null,null,null,"Block 4",null,null,null,null,"Block 5",null,null,null,null,"Block 6"]
["Sequence\nComponent\n1","Time\n1","Sequence\nComponent\n2","Time\n2","Sequence\nComponent\n3","Time\n3","Sequence\nComponent\n4","Time\n4","Sequence\nComponent\n5","Time\n5","Correct?\n0=No 1=Yes","Sequence",null,"Frequency",null,"Relative Frequency","Variability",null,null,"Frequency",null,"Relative Frequency","Variability",null,"Frequency",null,"Relative Frequency","Variability",null,"Frequency",null,"Relative Frequency","Variability",null,"Frequency",null,"Relative Frequency","Variability",null,"Frequency",null,"Relative Frequency","Variability",null,"Frequency",null,"Relative Frequency","Variability"]
[11,10,22,19,14,31,null,null,null,null,0,121,null,111,{"$f":"COUNTIF($L$7:$L$500,N7)","v":7},{"$f":"O7/$Q$4","v":7.2916666666666671E-2},{"$f":"IF(P7=0,0,(P7*((LOG(P7))/LOG(2))))","v":-0.27545055261088403},null,null,{"$f":"N7","v":111},{"$f":"COUNTIF(L7:L22,T7)","v":0},{"$f":"U7/(W4-U8)","v":0},{"$f":"IF(V7=0,0,(V7*((LOG(V7))/LOG(2))))","v":0},null,{"$f":"N7","v":111},{"$f":"COUNTIF(L23:L38,Y7)","v":1},{"$f":"Z7/(AB4-Z8)","v":0.1},{"$f":"IF(AA7=0,0,(AA7*((LOG(AA7))/LOG(2))))","v":-0.33219280948873625},null,{"$f":"N7","v":111},{"$f":"COUNTIF(L39:L54,AD7)","v":1},{"$f":"AE7/(AG4-AE8)","v":0.125},{"$f":"IF(AF7=0,0,(AF7*((LOG(AF7))/LOG(2))))","v":-0.375},null,{"$f":"N7","v":111},{"$f":"COUNTIF(L55:L70,AI7)","v":2},{"$f":"AJ7/(AL4-AJ8)","v":0.18181818181818182},{"$f":"IF(AK7=0,0,(AK7*((LOG(AK7))/LOG(2))))","v":-0.44716938520678134},null,{"$f":"N7","v":111},{"$f":"COUNTIF(L71:L86,AN7)","v":1},{"$f":"AO7/(AQ4-AO8)","v":0.125},{"$f":"IF(AP7=0,0,(AP7*((LOG(AP7))/LOG(2))))","v":-0.375},null,{"$f":"N7","v":111},{"$f":"COUNTIF(L87:L102,AS7)","v":2},{"$f":"AT7/(AV4-AT8)","v":0.18181818181818182},{"$f":"IF(AU7=0,0,(AU7*((LOG(AU7))/LOG(2))))","v":-0.44716938520678134}]
[11,127,22,139,23,147,null,null,null,null,0,122,null,112,{"$f":"COUNTIF($L$7:$L$500,N8)","v":40},{"$f":"O8/$Q$4","v":0.41666666666666669},{"$f":"IF(P8=0,0,(P8*((LOG(P8))/LOG(2))))","v":-0.52626433576408083},null,null,{"$f":"N8","v":112},{"$f":"COUNTIF(L7:L22,T8)","v":8},null,null,null,{"$f":"N8","v":112},{"$f":"COUNTIF(L23:L38,Y8)","v":6},null,null,null,{"$f":"N8","v":112},{"$f":"COUNTIF(L39:L54,AD8)","v":8},null,null,null,{"$f":"N8","v":112},{"$f":"COUNTIF(L55:L70,AI8)","v":5},null,null,null,{"$f":"N8","v":112},{"$f":"COUNTIF(L71:L86,AN8)","v":8},null,null,null,{"$f":"N8","v":112},{"$f":"COUNTIF(L87:L102,AS8)","v":5}]
[11,244,22,254,23,261,null,null,null,null,0,122,null,121,{"$f":"COUNTIF($L$7:$L$500,N9)","v":15},{"$f":"O9/$Q$4","v":0.15625},{"$f":"IF(P9=0,0,(P9*((LOG(P9))/LOG(2))))","v":-0.41844873517384967},null,null,{"$f":"N9","v":121},{"$f":"COUNTIF(L7:L22,T9)","v":3},{"$f":"U9/(W4-U8)","v":0.375},{"$f":"IF(V9=0,0,(V9*((LOG(V9))/LOG(2))))","v":-0.53063906222956647},null,{"$f":"N9","v":121},{"$f":"COUNTIF(L23:L38,Y9)","v":2},{"$f":"Z9/(AB4-Z8)","v":0.2},{"$f":"IF(AA9=0,0,(AA9*((LOG(AA9))/LOG(2))))","v":-0.46438561897747244},null,{"$f":"N9","v":121},{"$f":"COUNTIF(L39:L54,AD9)","v":2},{"$f":"AE9/(AG4-AE8)","v":0.25},{"$f":"IF(AF9=0,0,(AF9*((LOG(AF9))/LOG(2))))","v":-0.5},null,{"$f":"N9","v":121},{"$f":"COUNTIF(L55:L70,AI9)","v":3},{"$f":"AJ9/(AL4-AJ8)","v":0.27272727272727271},{"$f":"IF(AK9=0,0,(AK9*((LOG(AK9))/LOG(2))))","v":-0.51121885034076575},null,{"$f":"N9","v":121},{"$f":"COUNTIF(L71:L86,AN9)","v":4},{"$f":"AO9/(AQ4-AO8)","v":0.5},{"$f":"IF(AP9=0,0,(AP9*((LOG(AP9))/LOG(2))))","v":-0.5},null,{"$f":"N9","v":121},{"$f":"COUNTIF(L87:L102,AS9)","v":1},{"$f":"AT9/(AV4-AT8)","v":9.0909090909090912E-2},{"$f":"IF(AU9=0,0,(AU9*((LOG(AU9))/LOG(2))))","v":-0.31449378351248153}]
[11,355,11,360,21,377,null,null,null,null,0,112,null,122,{"$f":"COUNTIF($L$7:$L$500,N10)","v":30},{"$f":"O10/$Q$4","v":0.3125},{"$f":"IF(P10=0,0,(P10*((LOG(P10))/LOG(2))))","v":-0.52439747034769923},null,null,{"$f":"N10","v":122},{"$f":"COUNTIF(L7:L22,T10)","v":4},{"$f":"U10/(W4-U8)","v":0.5},{"$f":"IF(V10=0,0,(V10*((LOG(V10))/LOG(2))))","v":-0.5},null,{"$f":"N10","v":122},{"$f":"COUNTIF(L23:L38,Y10)","v":5},{"$f":"Z10/(AB4-Z8)","v":0.5},{"$f":"IF(AA10=0,0,(AA10*((LOG(AA10))/LOG(2))))","v":-0.5},null,{"$f":"N10","v":122},{"$f":"COUNTIF(L39:L54,AD10)","v":5},{"$f":"AE10/(AG4-AE8)","v":0.625},{"$f":"IF(AF10=0,0,(AF10*((LOG(AF10))/LOG(2))))","v":-0.42379494069539858},null,{"$f":"N10","v":122},{"$f":"COUNTIF(L55:L70,AI10)","v":6},{"$f":"AJ10/(AL4-AJ8)","v":0.54545454545454541},{"$f":"IF(AK10=0,0,(AK10*((LOG(AK10))/LOG(2))))","v":-0.47698315522698609},null,{"$f":"N10","v":122},{"$f":"COUNTIF(L71:L86,AN10)","v":3},{"$f":"AO10/(AQ4-AO8)","v":0.375},{"$f":"IF(AP10=0,0,(AP10*((LOG(AP10))/LOG(2))))","v":-0.53063906222956647},null,{"$f":"N10","v":122},{"$f":"COUNTIF(L87:L102,AS10)","v":7},{"$f":"AT10/(AV4-AT8)","v":0.63636363636363635},{"$f":"IF(AU10=0,0,(AU10*((LOG(AU10))/LOG(2))))","v":-0.41495789782344106}]
[11,504,11,516,21,526,null,null,null,null,0,112,null,211,{"$f":"COUNTIF($L$7:$L$500,N11)","v":0},{"$f":"O11/$Q$4","v":0},{"$f":"IF(P11=0,0,(P11*((LOG(P11))/LOG(2))))","v":0},null,null,{"$f":"N11","v":211},{"$f":"COUNTIF(L7:L22,T11)","v":0},{"$f":"U11/(W4-U8)","v":0},{"$f":"IF(V11=0,0,(V11*((LOG(V11))/LOG(2))))","v":0},null,{"$f":"N11","v":211},{"$f":"COUNTIF(L23:L38,Y11)","v":0},{"$f":"Z11/(AB4-Z8)","v":0},{"$f":"IF(AA11=0,0,(AA11*((LOG(AA11))/LOG(2))))","v":0},null,{"$f":"N11","v":211},{"$f":"COUNTIF(L39:L54,AD11)","v":0},{"$f":"AE11/(AG4-AE8)","v":0},{"$f":"IF(AF11=0,0,(AF11*((LOG(AF11))/LOG(2))))","v":0},null,{"$f":"N11","v":211},{"$f":"COUNTIF(L55:L70,AI11)","v":0},{"$f":"AJ11/(AL4-AJ8)","v":0},{"$f":"IF(AK11=0,0,(AK11*((LOG(AK11))/LOG(2))))","v":0},null,{"$f":"N11","v":211},{"$f":"COUNTIF(L71:L86,AN11)","v":0},{"$f":"AO11/(AQ4-AO8)","v":0},{"$f":"IF(AP11=0,0,(AP11*((LOG(AP11))/LOG(2))))","v":0},null,{"$f":"N11","v":211},{"$f":"COUNTIF(L87:L102,AS11)","v":0},{"$f":"AT11/(AV4-AT8)","v":0},{"$f":"IF(AU11=0,0,(AU11*((LOG(AU11))/LOG(2))))","v":0}]
[11,625,11,631,21,652,null,null,null,null,0,112,null,212,{"$f":"COUNTIF($L$7:$L$500,N12)","v":0},{"$f":"O12/$Q$4","v":0},{"$f":"IF(P12=0,0,(P12*((LOG(P12))/LOG(2))))","v":0},null,null,{"$f":"N12","v":212},{"$f":"COUNTIF(L7:L22,T12)","v":0},{"$f":"U12/(W4-U8)","v":0},{"$f":"IF(V12=0,0,(V12*((LOG(V12))/LOG(2))))","v":0},null,{"$f":"N12","v":212},{"$f":"COUNTIF(L23:L38,Y12)","v":0},{"$f":"Z12/(AB4-Z8)","v":0},{"$f":"IF(AA12=0,0,(AA12*((LOG(AA12))/LOG(2))))","v":0},null,{"$f":"N12","v":212},{"$f":"COUNTIF(L39:L54,AD12)","v":0},{"$f":"AE12/(AG4-AE8)","v":0},{"$f":"IF(AF12=0,0,(AF12*((LOG(AF12))/LOG(2))))","v":0},null,{"$f":"N12","v":212},{"$f":"COUNTIF(L55:L70,AI12)","v":0},{"$f":"AJ12/(AL4-AJ8)","v":0},{"$f":"IF(AK12=0,0,(AK12*((LOG(AK12))/LOG(2))))","v":0},null,{"$f":"N12","v":212},{"$f":"COUNTIF(L71:L86,AN12)","v":0},{"$f":"AO12/(AQ4-AO8)","v":0},{"$f":"IF(AP12=0,0,(AP12*((LOG(AP12))/LOG(2))))","v":0},null,{"$f":"N12","v":212},{"$f":"COUNTIF(L87:L102,AS12)","v":0},{"$f":"AT12/(AV4-AT8)","v":0},{"$f":"IF(AU12=0,0,(AU12*((LOG(AU12))/LOG(2))))","v":0}]
[11,754,22,778,14,873,null,null,null,null,0,121,null,221,{"$f":"COUNTIF($L$7:$L$500,N13)","v":3},{"$f":"O13/$Q$4","v":3.125E-2},{"$f":"IF(P13=0,0,(P13*((LOG(P13))/LOG(2))))","v":-0.15625},null,null,{"$f":"N13","v":221},{"$f":"COUNTIF(L7:L22,T13)","v":0},{"$f":"U13/(W4-U8)","v":0},{"$f":"IF(V13=0,0,(V13*((LOG(V13))/LOG(2))))","v":0},null,{"$f":"N13","v":221},{"$f":"COUNTIF(L23:L38,Y13)","v":2},{"$f":"Z13/(AB4-Z8)","v":0.2},{"$f":"IF(AA13=0,0,(AA13*((LOG(AA13))/LOG(2))))","v":-0.46438561897747244},null,{"$f":"N13","v":221},{"$f":"COUNTIF(L39:L54,AD13)","v":0},{"$f":"AE13/(AG4-AE8)","v":0},{"$f":"IF(AF13=0,0,(AF13*((LOG(AF13))/LOG(2))))","v":0},null,{"$f":"N13","v":221},{"$f":"COUNTIF(L55:L70,AI13)","v":0},{"$f":"AJ13/(AL4-AJ8)","v":0},{"$f":"IF(AK13=0,0,(AK13*((LOG(AK13))/LOG(2))))","v":0},null,{"$f":"N13","v":221},{"$f":"COUNTIF(L71:L86,AN13)","v":0},{"$f":"AO13/(AQ4-AO8)","v":0},{"$f":"IF(AP13=0,0,(AP13*((LOG(AP13))/LOG(2))))","v":0},null,{"$f":"N13","v":221},{"$f":"COUNTIF(L87:L102,AS13)","v":1},{"$f":"AT13/(AV4-AT8)","v":9.0909090909090912E-2},{"$f":"IF(AU13=0,0,(AU13*((LOG(AU13))/LOG(2))))","v":-0.31449378351248153}]
[22,1011,24,1023,23,1042,null,null,null,null,0,222,null,222,{"$f":"COUNTIF($L$7:$L$500,N14)","v":1},{"$f":"O14/$Q$4","v":1.0416666666666666E-2},{"$f":"IF(P14=0,0,(P14*((LOG(P14))/LOG(2))))","v":-6.8593359382512042E-2},null,null,{"$f":"N14","v":222},{"$f":"COUNTIF(L7:L22,T14)","v":1},{"$f":"U14/(W4-U8)","v":0.125},{"$f":"IF(V14=0,0,(V14*((LOG(V14))/LOG(2))))","v":-0.375},null,{"$f":"N14","v":222},{"$f":"COUNTIF(L23:L38,Y14)","v":0},{"$f":"Z14/(AB4-Z8)","v":0},{"$f":"IF(AA14=0,0,(AA14*((LOG(AA14))/LOG(2))))","v":0},null,{"$f":"N14","v":222},{"$f":"COUNTIF(L39:L54,AD14)","v":0},{"$f":"AE14/(AG4-AE8)","v":0},{"$f":"IF(AF14=0,0,(AF14*((LOG(AF14))/LOG(2))))","v":0},null,{"$f":"N14","v":222},{"$f":"COUNTIF(L55:L70,AI14)","v":0},{"$f":"AJ14/(AL4-AJ8)","v":0},{"$f":"IF(AK14=0,0,(AK14*((LOG(AK14))/LOG(2))))","v":0},null,{"$f":"N14","v":222},{"$f":"COUNTIF(L71:L86,AN14)","v":0},{"$f":"AO14/(AQ4-AO8)","v":0},{"$f":"IF(AP14=0,0,(AP14*((LOG(AP14))/LOG(2))))","v":0},null,{"$f":"N14","v":222},{"$f":"COUNTIF(L87:L102,AS14)","v":0},{"$f":"AT14/(AV4-AT8)","v":0},{"$f":"IF(AU14=0,0,(AU14*((LOG(AU14))/LOG(2))))","v":0}]
[11,1146,22,1164,14,1200,null,null,null,null,0,121,null,null,null,{"$f":"SUM(P7:P14)","v":1},{"$f":"-SUM(Q7:Q14)","v":1.9694044532790258},null,null,null,null,{"$f":"SUM(V7:V14)","v":1},{"$f":"-SUM(W7:W14)","v":1.4056390622295665},null,null,null,{"$f":"SUM(AA7:AA14)","v":1},{"$f":"-SUM(AB7:AB14)","v":1.7609640474436812},null,null,null,{"$f":"SUM(AF7:AF14)","v":1},{"$f":"-SUM(AG7:AG14)","v":1.2987949406953985},null,null,null,{"$f":"SUM(AK7:AK14)","v":1},{"$f":"-SUM(AL7:AL14)","v":1.4353713907745331},null,null,null,{"$f":"SUM(AP7:AP14)","v":1},{"$f":"-SUM(AQ7:AQ14)","v":1.4056390622295665},null,null,null,{"$f":"SUM(AU7:AU14)","v":1},{"$f":"-SUM(AV7:AV14)","v":1.4911148500551854}]
[11,1299,22,1316,23,1323,null,null,null,null,0,122,null,null,null,"U=",{"$f":"Q15/(LOG(Q4)/LOG(2))","v":0.29907603164989099},null,null,null,null,"U1=",{"$f":"W15/(LOG(W4)/LOG(2))","v":0.35140976555739162},null,null,null,"U2=",{"$f":"AB15/(LOG(AB4)/LOG(2))","v":0.44024101186092029},null,null,null,"U3=",{"$f":"AG15/(LOG(AG4)/LOG(2))","v":0.32469873517384962},null,null,null,"U4=",{"$f":"AL15/(LOG(AL4)/LOG(2))","v":0.35884284769363328},null,null,null,"U5=",{"$f":"AQ15/(LOG(AQ4)/LOG(2))","v":0.35140976555739162},null,null,null,"U6=",{"$f":"AV15/(LOG(AV4)/LOG(2))","v":0.37277871251379635}]
[11,1417,11,1420,21,1443,null,null,null,null,0,112]
[11,1535,11,1540,21,1550,null,null,null,null,0,112]
[11,1644,22,1656,23,1676,null,null,null,null,0,122,null,"Total Target Seq"]
[11,1773,11,1778,21,1788,null,null,null,null,0,112,null,{"$f":"COUNTIF(L7:L102,G3)","v":40},null,16,16,16,16,16,16]
[11,1880,11,1887,21,1899,null,null,null,null,0,112,null,null,null,"% of reinforcement given in 6 equal intervals based on number of trials "]
[11,1996,11,2003,21,2016,null,null,null,null,0,112,null,null,null,"%_1","%_2","%_3","%_4","%_5","%_6"]
[11,2109,11,2116,21,2126,null,null,null,null,0,112,null,null,"target sequence",{"$f":"$G$3","v":112},{"$f":"$G$3","v":112},{"$f":"$G$3","v":112},{"$f":"$G$3","v":112},{"$f":"$G$3","v":112},{"$f":"$G$3","v":112}]
[11,2223,11,2226,12,2235,null,null,null,null,0,111,null,null,"total reinforcement",{"$f":"U8","v":8},{"$f":"Z8","v":6},{"$f":"AE8","v":8},{"$f":"AJ8","v":5},{"$f":"AO8","v":8},{"$f":"AT8","v":5}]
[11,2331,11,2337,21,2348,null,null,null,null,0,112,null,null,"% target"]
[11,2440,22,2454,23,2461,null,null,null,null,0,122,null,null,"CCRF"]
[22,2606,24,2639,14,2656,null,null,null,null,0,221,null,null,"% CCRf"]
[11,2751,22,2785,14,2794,null,null,null,null,0,121,null,null,"average response rate",{"$f":"F22/P20","v":126},{"$f":"(F38-F22)/Q20","v":138.75},{"$f":"(F54-F38)/R20","v":129.0625},{"$f":"(F70-F54)/S20","v":145.125},{"$f":"(F86-F70)/T20","v":158.0625},{"$f":"(F102-F86)/U20","v":125.9375}]
[11,2888,22,2907,23,2966,null,null,null,null,0,122]
[11,3060,11,3063,21,3074,null,null,null,null,0,112]
[11,3183,11,3186,21,3197,null,null,null,null,0,112]
[11,3298,22,3325,23,3343,null,null,null,null,0,122]
[11,3437,11,3445,21,3461,null,null,null,null,0,112]
[11,3559,11,3565,21,3575,null,null,null,null,0,112]
[11,3673,22,3694,23,3707,null,null,null,null,0,122]
[11,3807,22,3823,23,3833,null,null,null,null,0,122]
[22,3941,24,3950,14,3993,null,null,null,null,0,221]
[11,4089,22,4105,14,4236,null,null,null,null,0,121]
[11,4328,22,4350,14,4428,null,null,null,null,0,121]
[11,4523,22,4537,23,4546,null,null,null,null,0,122]
[11,4646,22,4656,23,4664,null,null,null,null,0,122]
[11,4760,11,4764,21,4782,null,null,null,null,0,112]
[11,4872,11,4878,21,4895,null,null,null,null,0,112]
[11,4990,11,4998,21,5008,null,null,null,null,0,112]
[11,5119,11,5127,12,5134,null,null,null,null,0,111]
[11,5235,22,5248,23,5349,null,null,null,null,0,122]
[11,5444,22,5461,23,5470,null,null,null,null,0,122]
[11,5565,22,5577,14,5590,null,null,null,null,0,121]
[11,5685,11,5690,21,5704,null,null,null,null,0,112]
[11,5793,11,5798,21,5812,null,null,null,null,0,112]
[11,5907,11,5913,21,5927,null,null,null,null,0,112]
[11,6021,22,6043,23,6080,null,null,null,null,0,122]
[11,6175,11,6181,21,6194,null,null,null,null,0,112]
[11,6286,11,6291,21,6301,null,null,null,null,0,112]
[11,6396,11,6401,12,6405,null,null,null,null,0,111]
[11,6503,11,6506,21,6521,null,null,null,null,0,112]
[11,6621,22,6637,23,6647,null,null,null,null,0,122]
[11,6742,11,6745,21,6762,null,null,null,null,0,112]
[11,6862,11,6870,21,6893,null,null,null,null,0,112]
[11,7000,22,7012,23,7016,null,null,null,null,0,122]
[11,7114,22,7132,14,7309,null,null,null,null,0,121]
[11,7404,11,7411,21,7424,null,null,null,null,0,112]
[11,7515,22,7535,23,7544,null,null,null,null,0,122]
[11,7640,22,7651,14,7666,null,null,null,null,0,121]
[11,7766,22,7810,23,7823,null,null,null,null,0,122]
[11,7918,22,7936,23,8121,null,null,null,null,0,122]
[11,8213,11,8217,12,8221,null,null,null,null,0,111]
[11,8316,22,8340,23,8356,null,null,null,null,0,122]
[11,8451,22,8469,14,8516,null,null,null,null,0,121]
[11,8607,11,8611,21,8623,null,null,null,null,0,112]
[11,8714,11,8716,12,8721,null,null,null,null,0,111]
[11,8816,11,8820,21,8835,null,null,null,null,0,112]
[11,8935,22,8969,14,9065,null,null,null,null,0,121]
[11,9159,11,9174,21,9184,null,null,null,null,0,112]
[11,9275,22,9287,14,9448,null,null,null,null,0,121]
[11,9543,22,9558,23,9565,null,null,null,null,0,122]
[11,9661,11,9666,21,9676,null,null,null,null,0,112]
[11,9771,11,9775,21,9791,null,null,null,null,0,112]
[11,9897,11,9905,21,9928,null,null,null,null,0,112]
[11,10061,22,10098,23,10103,null,null,null,null,0,122]
[11,10205,22,10219,14,10378,null,null,null,null,0,121]
[11,10472,11,10477,21,10498,null,null,null,null,0,112]
[11,10590,22,10607,14,10697,null,null,null,null,0,121]
[11,10792,11,10798,21,10809,null,null,null,null,0,112]
[11,10907,11,10913,21,10923,null,null,null,null,0,112]
[11,11020,22,11060,23,11152,null,null,null,null,0,122]
[11,11246,11,11249,21,11268,null,null,null,null,0,112]
[11,11360,22,11371,23,11384,null,null,null,null,0,122]
[11,11479,22,11496,14,11605,null,null,null,null,0,121]
[11,11700,22,11721,23,11730,null,null,null,null,0,122]
[11,11826,22,11836,23,11845,null,null,null,null,0,122]
[11,11943,11,11950,21,11960,null,null,null,null,0,112]
[11,12050,22,12062,23,12071,null,null,null,null,0,122]
[22,12205,24,12210,14,12223,null,null,null,null,0,221]
[11,12319,22,12335,23,12342,null,null,null,null,0,122]
[11,12437,11,12440,12,12445,null,null,null,null,0,111]
[11,12539,22,12553,23,12582,null,null,null,null,0,122]
[11,12677,11,12681,21,12695,null,null,null,null,0,112]
[11,12788,11,12790,12,12796,null,null,null,null,0,111]
[11,12890,11,12896,21,12906,null,null,null,null,0,112]
[11,12998,22,13011,23,13044,null,null,null,null,0,122]
[11,13140,11,13147,21,13167,null,null,null,null,1,112]

{"sheet":"!MC14A1I.sha","index":39,"n_rows":91,"n_cols":48,"rows_kept":91,"cut":false,"hidden":false,"merged":[[4,39,4,42],[5,39,5,40],[4,44,4,47],[5,44,5,45],[4,24,4,27],[5,24,5,25],[4,29,4,32],[5,29,5,30],[4,34,4,37],[5,34,5,35],[1,1,1,2],[5,13,5,14],[18,13,18,14],[19,13,19,14],[4,19,4,22],[5,19,5,20]]}
["Report for:!MC14A1I.sha"]
["Date:","<date>"]
["Hen:","<hen>",null,null,null,"Correct Sequence",{"$f":"Start!J2","v":112},null,null,null,null,null,null,null,null,"Total Sequences in Data",{"$f":"4994-COUNTBLANK(L7:L5000)","v":85},null,null,null,null,"Total Sequences in Block Data",{"$f":"COUNTA(L7:L20)","v":14},null,null,null,"Total Sequences in Block Data",{"$f":"COUNTA(L21:L34)","v":14},null,null,null,"Total Sequences in Block Data",{"$f":"COUNTA(L35:L49)","v":15},null,null,null,"Total Sequences in Block Data",{"$f":"COUNTA(L50:L63)","v":14},null,null,null,"Total Sequences in Block Data",{"$f":"COUNTA(L64:L77)","v":14},null,null,null,"Total Sequences in Block Data",{"$f":"COUNTA(L78:L91)","v":14}]
[null,null,null,null,null,null,null,null,null,null,null,null,null,null,null,"Total Sequences in Summary",{"$f":"SUM(O7:O14)","v":85},null,null,null,null,"Total Sequences in Block Summary",{"$f":"SUM(U7:U14)","v":14},null,null,null,"Total Sequences in Block Summary",{"$f":"SUM(Z7:Z14)","v":14},null,null,null,"Total Sequences in Block Summary",{"$f":"SUM(AE7:AE14)","v":15},null,null,null,"Total Sequences in Block Summary",{"$f":"SUM(AJ7:AJ14)","v":14},null,null,null,"Total Sequences in Block Summary",{"$f":"SUM(AO7:AO14)","v":14},null,null,null,"Total Sequences in Block Summary",{"$f":"SUM(AT7:AT14)","v":14}]
[null,null,null,null,null,null,null,null,null,null,null,null,null,null,null,null,null,null,null,"Block 1",null,null,null,null,"Block 2",null,null,null,null,"Block 3",null,null,null,null,"Block 4",null,null,null,null,"Block 5",null,null,null,null,"Block 6"]
["Sequence\nComponent\n1","Time\n1","Sequence\nComponent\n2","Time\n2","Sequence\nComponent\n3","Time\n3","Sequence\nComponent\n4","Time\n4","Sequence\nComponent\n5","Time\n5","Correct?\n0=No 1=Yes","Sequence",null,"Frequency",null,"Relative Frequency","Variability",null,null,"Frequency",null,"Relative Frequency","Variability",null,"Frequency",null,"Relative Frequency","Variability",null,"Frequency",null,"Relative Frequency","Variability",null,"Frequency",null,"Relative Frequency","Variability",null,"Frequency",null,"Relative Frequency","Variability",null,"Frequency",null,"Relative Frequency","Variability"]
[11,14,22,21,23,26,null,null,null,null,0,122,null,111,{"$f":"COUNTIF($L$7:$L$500,N7)","v":5},{"$f":"O7/$Q$4","v":5.8823529411764705E-2},{"$f":"IF(P7=0,0,(P7*((LOG(P7))/LOG(2))))","v":-0.24043899066178465},null,null,{"$f":"N7","v":111},{"$f":"COUNTIF(L7:L20,T7)","v":0},{"$f":"U7/(W4-U8)","v":0},{"$f":"IF(V7=0,0,(V7*((LOG(V7))/LOG(2))))","v":0},null,{"$f":"N7","v":111},{"$f":"COUNTIF(L21:L34,Y7)","v":0},{"$f":"Z7/(AB4-Z8)","v":0},{"$f":"IF(AA7=0,0,(AA7*((LOG(AA7))/LOG(2))))","v":0},null,{"$f":"N7","v":111},{"$f":"COUNTIF(L35:L49,AD7)","v":4},{"$f":"AE7/(AG4-AE8)","v":0.4},{"$f":"IF(AF7=0,0,(AF7*((LOG(AF7))/LOG(2))))","v":-0.52877123795494496},null,{"$f":"N7","v":111},{"$f":"COUNTIF(L50:L63,AI7)","v":0},{"$f":"AJ7/(AL4-AJ8)","v":0},{"$f":"IF(AK7=0,0,(AK7*((LOG(AK7))/LOG(2))))","v":0},null,{"$f":"N7","v":111},{"$f":"COUNTIF(L64:L77,AN7)","v":1},{"$f":"AO7/(AQ4-AO8)","v":0.14285714285714285},{"$f":"IF(AP7=0,0,(AP7*((LOG(AP7))/LOG(2))))","v":-0.40105070315108626},null,{"$f":"N7","v":111},{"$f":"COUNTIF(L78:L91,AS7)","v":0},{"$f":"AT7/(AV4-AT8)","v":0},{"$f":"IF(AU7=0,0,(AU7*((LOG(AU7))/LOG(2))))","v":0}]
[11,119,22,136,23,145,null,null,null,null,0,122,null,112,{"$f":"COUNTIF($L$7:$L$500,N8)","v":40},{"$f":"O8/$Q$4","v":0.47058823529411764},{"$f":"IF(P8=0,0,(P8*((LOG(P8))/LOG(2))))","v":-0.51174721941192436},null,null,{"$f":"N8","v":112},{"$f":"COUNTIF(L7:L20,T8)","v":7},null,null,null,{"$f":"N8","v":112},{"$f":"COUNTIF(L21:L34,Y8)","v":9},null,null,null,{"$f":"N8","v":112},{"$f":"COUNTIF(L35:L49,AD8)","v":5},null,null,null,{"$f":"N8","v":112},{"$f":"COUNTIF(L50:L63,AI8)","v":6},null,null,null,{"$f":"N8","v":112},{"$f":"COUNTIF(L64:L77,AN8)","v":7},null,null,null,{"$f":"N8","v":112},{"$f":"COUNTIF(L78:L91,AS8)","v":6}]
[11,240,22,264,14,386,null,null,null,null,0,121,null,121,{"$f":"COUNTIF($L$7:$L$500,N9)","v":11},{"$f":"O9/$Q$4","v":0.12941176470588237},{"$f":"IF(P9=0,0,(P9*((LOG(P9))/LOG(2))))","v":-0.38175944108828763},null,null,{"$f":"N9","v":121},{"$f":"COUNTIF(L7:L20,T9)","v":2},{"$f":"U9/(W4-U8)","v":0.2857142857142857},{"$f":"IF(V9=0,0,(V9*((LOG(V9))/LOG(2))))","v":-0.51638712058788683},null,{"$f":"N9","v":121},{"$f":"COUNTIF(L21:L34,Y9)","v":2},{"$f":"Z9/(AB4-Z8)","v":0.4},{"$f":"IF(AA9=0,0,(AA9*((LOG(AA9))/LOG(2))))","v":-0.52877123795494496},null,{"$f":"N9","v":121},{"$f":"COUNTIF(L35:L49,AD9)","v":2},{"$f":"AE9/(AG4-AE8)","v":0.2},{"$f":"IF(AF9=0,0,(AF9*((LOG(AF9))/LOG(2))))","v":-0.46438561897747244},null,{"$f":"N9","v":121},{"$f":"COUNTIF(L50:L63,AI9)","v":3},{"$f":"AJ9/(AL4-AJ8)","v":0.375},{"$f":"IF(AK9=0,0,(AK9*((LOG(AK9))/LOG(2))))","v":-0.53063906222956647},null,{"$f":"N9","v":121},{"$f":"COUNTIF(L64:L77,AN9)","v":1},{"$f":"AO9/(AQ4-AO8)","v":0.14285714285714285},{"$f":"IF(AP9=0,0,(AP9*((LOG(AP9))/LOG(2))))","v":-0.40105070315108626},null,{"$f":"N9","v":121},{"$f":"COUNTIF(L78:L91,AS9)","v":1},{"$f":"AT9/(AV4-AT8)","v":0.125},{"$f":"IF(AU9=0,0,(AU9*((LOG(AU9))/LOG(2))))","v":-0.375}]
[11,481,22,506,23,514,null,null,null,null,0,122,null,122,{"$f":"COUNTIF($L$7:$L$500,N10)","v":27},{"$f":"O10/$Q$4","v":0.31764705882352939},{"$f":"IF(P10=0,0,(P10*((LOG(P10))/LOG(2))))","v":-0.52554814961534468},null,null,{"$f":"N10","v":122},{"$f":"COUNTIF(L7:L20,T10)","v":5},{"$f":"U10/(W4-U8)","v":0.7142857142857143},{"$f":"IF(V10=0,0,(V10*((LOG(V10))/LOG(2))))","v":-0.34673344797874411},null,{"$f":"N10","v":122},{"$f":"COUNTIF(L21:L34,Y10)","v":3},{"$f":"Z10/(AB4-Z8)","v":0.6},{"$f":"IF(AA10=0,0,(AA10*((LOG(AA10))/LOG(2))))","v":-0.44217935649972373},null,{"$f":"N10","v":122},{"$f":"COUNTIF(L35:L49,AD10)","v":4},{"$f":"AE10/(AG4-AE8)","v":0.4},{"$f":"IF(AF10=0,0,(AF10*((LOG(AF10))/LOG(2))))","v":-0.52877123795494496},null,{"$f":"N10","v":122},{"$f":"COUNTIF(L50:L63,AI10)","v":5},{"$f":"AJ10/(AL4-AJ8)","v":0.625},{"$f":"IF(AK10=0,0,(AK10*((LOG(AK10))/LOG(2))))","v":-0.42379494069539858},null,{"$f":"N10","v":122},{"$f":"COUNTIF(L64:L77,AN10)","v":5},{"$f":"AO10/(AQ4-AO8)","v":0.7142857142857143},{"$f":"IF(AP10=0,0,(AP10*((LOG(AP10))/LOG(2))))","v":-0.34673344797874411},null,{"$f":"N10","v":122},{"$f":"COUNTIF(L78:L91,AS10)","v":5},{"$f":"AT10/(AV4-AT8)","v":0.625},{"$f":"IF(AU10=0,0,(AU10*((LOG(AU10))/LOG(2))))","v":-0.42379494069539858}]
[11,612,22,628,14,647,null,null,null,null,0,121,null,211,{"$f":"COUNTIF($L$7:$L$500,N11)","v":0},{"$f":"O11/$Q$4","v":0},{"$f":"IF(P11=0,0,(P11*((LOG(P11))/LOG(2))))","v":0},null,null,{"$f":"N11","v":211},{"$f":"COUNTIF(L7:L20,T11)","v":0},{"$f":"U11/(W4-U8)","v":0},{"$f":"IF(V11=0,0,(V11*((LOG(V11))/LOG(2))))","v":0},null,{"$f":"N11","v":211},{"$f":"COUNTIF(L21:L34,Y11)","v":0},{"$f":"Z11/(AB4-Z8)","v":0},{"$f":"IF(AA11=0,0,(AA11*((LOG(AA11))/LOG(2))))","v":0},null,{"$f":"N11","v":211},{"$f":"COUNTIF(L35:L49,AD11)","v":0},{"$f":"AE11/(AG4-AE8)","v":0},{"$f":"IF(AF11=0,0,(AF11*((LOG(AF11))/LOG(2))))","v":0},null,{"$f":"N11","v":211},{"$f":"COUNTIF(L50:L63,AI11)","v":0},{"$f":"AJ11/(AL4-AJ8)","v":0},{"$f":"IF(AK11=0,0,(AK11*((LOG(AK11))/LOG(2))))","v":0},null,{"$f":"N11","v":211},{"$f":"COUNTIF(L64:L77,AN11)","v":0},{"$f":"AO11/(AQ4-AO8)","v":0},{"$f":"IF(AP11=0,0,(AP11*((LOG(AP11))/LOG(2))))","v":0},null,{"$f":"N11","v":211},{"$f":"COUNTIF(L78:L91,AS11)","v":0},{"$f":"AT11/(AV4-AT8)","v":0},{"$f":"IF(AU11=0,0,(AU11*((LOG(AU11))/LOG(2))))","v":0}]
[11,742,22,760,23,764,null,null,null,null,0,122,null,212,{"$f":"COUNTIF($L$7:$L$500,N12)","v":0},{"$f":"O12/$Q$4","v":0},{"$f":"IF(P12=0,0,(P12*((LOG(P12))/LOG(2))))","v":0},null,null,{"$f":"N12","v":212},{"$f":"COUNTIF(L7:L20,T12)","v":0},{"$f":"U12/(W4-U8)","v":0},{"$f":"IF(V12=0,0,(V12*((LOG(V12))/LOG(2))))","v":0},null,{"$f":"N12","v":212},{"$f":"COUNTIF(L21:L34,Y12)","v":0},{"$f":"Z12/(AB4-Z8)","v":0},{"$f":"IF(AA12=0,0,(AA12*((LOG(AA12))/LOG(2))))","v":0},null,{"$f":"N12","v":212},{"$f":"COUNTIF(L35:L49,AD12)","v":0},{"$f":"AE12/(AG4-AE8)","v":0},{"$f":"IF(AF12=0,0,(AF12*((LOG(AF12))/LOG(2))))","v":0},null,{"$f":"N12","v":212},{"$f":"COUNTIF(L50:L63,AI12)","v":0},{"$f":"AJ12/(AL4-AJ8)","v":0},{"$f":"IF(AK12=0,0,(AK12*((LOG(AK12))/LOG(2))))","v":0},null,{"$f":"N12","v":212},{"$f":"COUNTIF(L64:L77,AN12)","v":0},{"$f":"AO12/(AQ4-AO8)","v":0},{"$f":"IF(AP12=0,0,(AP12*((LOG(AP12))/LOG(2))))","v":0},null,{"$f":"N12","v":212},{"$f":"COUNTIF(L78:L91,AS12)","v":0},{"$f":"AT12/(AV4-AT8)","v":0},{"$f":"IF(AU12=0,0,(AU12*((LOG(AU12))/LOG(2))))","v":0}]
[11,859,22,881,23,886,null,null,null,null,0,122,null,221,{"$f":"COUNTIF($L$7:$L$500,N13)","v":0},{"$f":"O13/$Q$4","v":0},{"$f":"IF(P13=0,0,(P13*((LOG(P13))/LOG(2))))","v":0},null,null,{"$f":"N13","v":221},{"$f":"COUNTIF(L7:L20,T13)","v":0},{"$f":"U13/(W4-U8)","v":0},{"$f":"IF(V13=0,0,(V13*((LOG(V13))/LOG(2))))","v":0},null,{"$f":"N13","v":221},{"$f":"COUNTIF(L21:L34,Y13)","v":0},{"$f":"Z13/(AB4-Z8)","v":0},{"$f":"IF(AA13=0,0,(AA13*((LOG(AA13))/LOG(2))))","v":0},null,{"$f":"N13","v":221},{"$f":"COUNTIF(L35:L49,AD13)","v":0},{"$f":"AE13/(AG4-AE8)","v":0},{"$f":"IF(AF13=0,0,(AF13*((LOG(AF13))/LOG(2))))","v":0},null,{"$f":"N13","v":221},{"$f":"COUNTIF(L50:L63,AI13)","v":0},{"$f":"AJ13/(AL4-AJ8)","v":0},{"$f":"IF(AK13=0,0,(AK13*((LOG(AK13))/LOG(2))))","v":0},null,{"$f":"N13","v":221},{"$f":"COUNTIF(L64:L77,AN13)","v":0},{"$f":"AO13/(AQ4-AO8)","v":0},{"$f":"IF(AP13=0,0,(AP13*((LOG(AP13))/LOG(2))))","v":0},null,{"$f":"N13","v":221},{"$f":"COUNTIF(L78:L91,AS13)","v":0},{"$f":"AT13/(AV4-AT8)","v":0},{"$f":"IF(AU13=0,0,(AU13*((LOG(AU13))/LOG(2))))","v":0}]
[11,981,11,989,21,1005,null,null,null,null,0,112,null,222,{"$f":"COUNTIF($L$7:$L$500,N14)","v":2},{"$f":"O14/$Q$4","v":2.3529411764705882E-2},{"$f":"IF(P14=0,0,(P14*((LOG(P14))/LOG(2))))","v":-0.12727978673265181},null,null,{"$f":"N14","v":222},{"$f":"COUNTIF(L7:L20,T14)","v":0},{"$f":"U14/(W4-U8)","v":0},{"$f":"IF(V14=0,0,(V14*((LOG(V14))/LOG(2))))","v":0},null,{"$f":"N14","v":222},{"$f":"COUNTIF(L21:L34,Y14)","v":0},{"$f":"Z14/(AB4-Z8)","v":0},{"$f":"IF(AA14=0,0,(AA14*((LOG(AA14))/LOG(2))))","v":0},null,{"$f":"N14","v":222},{"$f":"COUNTIF(L35:L49,AD14)","v":0},{"$f":"AE14/(AG4-AE8)","v":0},{"$f":"IF(AF14=0,0,(AF14*((LOG(AF14))/LOG(2))))","v":0},null,{"$f":"N14","v":222},{"$f":"COUNTIF(L50:L63,AI14)","v":0},{"$f":"AJ14/(AL4-AJ8)","v":0},{"$f":"IF(AK14=0,0,(AK14*((LOG(AK14))/LOG(2))))","v":0},null,{"$f":"N14","v":222},{"$f":"COUNTIF(L64:L77,AN14)","v":0},{"$f":"AO14/(AQ4-AO8)","v":0},{"$f":"IF(AP14=0,0,(AP14*((LOG(AP14))/LOG(2))))","v":0},null,{"$f":"N14","v":222},{"$f":"COUNTIF(L78:L91,AS14)","v":2},{"$f":"AT14/(AV4-AT8)","v":0.25},{"$f":"IF(AU14=0,0,(AU14*((LOG(AU14))/LOG(2))))","v":-0.5}]
[11,1102,11,1108,21,1120,null,null,null,null,0,112,null,null,null,{"$f":"SUM(P7:P14)","v":1},{"$f":"-SUM(Q7:Q14)","v":1.786773587509993},null,null,null,null,{"$f":"SUM(V7:V14)","v":1},{"$f":"-SUM(W7:W14)","v":0.863120568566631},null,null,null,{"$f":"SUM(AA7:AA14)","v":1},{"$f":"-SUM(AB7:AB14)","v":0.97095059445466869},null,null,null,{"$f":"SUM(AF7:AF14)","v":1},{"$f":"-SUM(AG7:AG14)","v":1.5219280948873624},null,null,null,{"$f":"SUM(AK7:AK14)","v":1},{"$f":"-SUM(AL7:AL14)","v":0.95443400292496505},null,null,null,{"$f":"SUM(AP7:AP14)","v":1},{"$f":"-SUM(AQ7:AQ14)","v":1.1488348542809166},null,null,null,{"$f":"SUM(AU7:AU14)","v":1},{"$f":"-SUM(AV7:AV14)","v":1.2987949406953985}]
[11,1284,11,1290,21,1309,null,null,null,null,0,112,null,null,null,"U=",{"$f":"Q15/(LOG(Q4)/LOG(2))","v":0.2787743180768909},null,null,null,null,"U1=",{"$f":"W15/(LOG(W4)/LOG(2))","v":0.22669821601506379},null,null,null,"U2=",{"$f":"AB15/(LOG(AB4)/LOG(2))","v":0.25501972217760543},null,null,null,"U3=",{"$f":"AG15/(LOG(AG4)/LOG(2))","v":0.38954970906993469},null,null,null,"U4=",{"$f":"AL15/(LOG(AL4)/LOG(2))","v":0.25068164709192953},null,null,null,"U5=",{"$f":"AQ15/(LOG(AQ4)/LOG(2))","v":0.30174094031140475},null,null,null,"U6=",{"$f":"AV15/(LOG(AV4)/LOG(2))","v":0.34112788728230581}]
[11,1437,11,1445,21,1459,null,null,null,null,0,112]
[11,1563,11,1573,21,1598,null,null,null,null,0,112]
[11,1704,11,1709,21,1734,null,null,null,null,0,112,null,"Total Target Seq"]
[11,1880,11,1885,21,1904,null,null,null,null,0,112,null,{"$f":"COUNTIF(L7:L91,G3)","v":40},null,14,14,15,14,14,14]
[11,2033,11,2037,21,2069,null,null,null,null,0,112,null,null,null,"% of reinforcement given in 6 equal intervals based on number of trials "]
[11,2162,11,2168,21,2181,null,null,null,null,0,112,null,null,null,"%_1","%_2","%_3","%_4","%_5","%_6"]
[11,2297,22,2315,14,2417,null,null,null,null,0,121,null,null,"target sequence",{"$f":"$G$3","v":112},{"$f":"$G$3","v":112},{"$f":"$G$3","v":112},{"$f":"$G$3","v":112},{"$f":"$G$3","v":112},{"$f":"$G$3","v":112}]
[11,2517,22,2545,23,2669,null,null,null,null,0,122,null,null,"total reinforcement",{"$f":"U8","v":7},{"$f":"Z8","v":9},{"$f":"AE8","v":5},{"$f":"AJ8","v":6},{"$f":"AO8","v":7},{"$f":"AT8","v":6}]
[11,2765,11,2769,21,2787,null,null,null,null,0,112,null,null,"% target"]
[11,2880,11,2884,21,2894,null,null,null,null,0,112,null,null,"CCRF"]
[11,2988,22,3002,23,3017,null,null,null,null,0,122,null,null,"% CCRf"]
[11,3112,11,3116,21,3132,null,null,null,null,0,112,null,null,"average response rate",{"$f":"F20/P20","v":136},{"$f":"(F34-F20)/Q20","v":149.28571428571428},{"$f":"(F49-F34)/R20","v":142.46666666666667},{"$f":"(F63-F49)/S20","v":164},{"$f":"(F77-F63)/T20","v":142.07142857142858},{"$f":"(F91-F77)/U20","v":133.07142857142858}]
[11,3225,11,3231,21,3241,null,null,null,null,0,112]
[11,3442,11,3448,21,3461,null,null,null,null,0,112]
[11,3554,22,3565,23,3572,null,null,null,null,0,122]
[11,3669,22,3686,14,3770,null,null,null,null,0,121]
[11,3865,11,3870,21,3884,null,null,null,null,0,112]
[11,3976,11,3981,21,3994,null,null,null,null,0,112]
[11,4090,22,4104,23,4112,null,null,null,null,0,122]
[11,4258,11,4267,21,4276,null,null,null,null,0,112]
[11,4378,11,4389,21,4398,null,null,null,null,0,112]
[11,4491,22,4509,14,4602,null,null,null,null,0,121]
[11,4697,11,4699,12,4707,null,null,null,null,0,111]
[11,4801,11,4805,12,4810,null,null,null,null,0,111]
[11,4907,22,4918,23,5026,null,null,null,null,0,122]
[11,5122,11,5129,21,5139,null,null,null,null,0,112]
[11,5235,11,5241,21,5255,null,null,null,null,0,112]
[11,5351,22,5366,23,5486,null,null,null,null,0,122]
[11,5580,11,5587,21,5607,null,null,null,null,0,112]
[11,5697,22,5709,14,5811,null,null,null,null,0,121]
[11,5908,22,5921,23,5930,null,null,null,null,0,122]
[11,6026,11,6028,12,6030,null,null,null,null,0,111]
[11,6125,11,6128,12,6131,null,null,null,null,0,111]
[11,6225,22,6247,23,6260,null,null,null,null,0,122]
[11,6356,11,6362,21,6374,null,null,null,null,0,112]
[11,6464,22,6476,14,6605,null,null,null,null,0,121]
[11,6700,22,6716,23,6743,null,null,null,null,0,122]
[11,6838,11,6843,21,6856,null,null,null,null,0,112]
[11,6949,22,6965,14,7232,null,null,null,null,0,121]
[11,7328,22,7341,23,7347,null,null,null,null,0,122]
[11,7485,22,7495,14,7619,null,null,null,null,0,121]
[11,7717,22,7733,23,7737,null,null,null,null,0,122]
[11,7833,22,7847,23,7879,null,null,null,null,0,122]
[11,7973,11,7977,21,7989,null,null,null,null,0,112]
[11,8083,11,8088,21,8105,null,null,null,null,0,112]
[11,8231,11,8236,21,8256,null,null,null,null,0,112]
[11,8398,11,8407,21,8427,null,null,null,null,0,112]
[11,8535,22,8560,14,8663,null,null,null,null,0,121]
[11,8760,11,8766,21,8777,null,null,null,null,0,112]
[11,8868,22,8885,23,8985,null,null,null,null,0,122]
[11,9080,11,9089,21,9099,null,null,null,null,0,112]
[11,9192,22,9216,23,9227,null,null,null,null,0,122]
[11,9323,11,9324,21,9339,null,null,null,null,0,112]
[11,9435,11,9438,21,9448,null,null,null,null,0,112]
[11,9559,22,9601,23,9621,null,null,null,null,0,122]
[11,9717,22,9736,23,9774,null,null,null,null,0,122]
[11,9870,11,9874,12,9880,null,null,null,null,0,111]
[11,9974,11,9981,21,9993,null,null,null,null,0,112]
[11,10084,22,10097,23,10193,null,null,null,null,0,122]
[11,10288,11,10291,21,10306,null,null,null,null,0,112]
[11,10398,11,10402,21,10416,null,null,null,null,0,112]
[22,10514,24,10519,23,10546,null,null,null,null,0,222]
[11,10640,11,10645,21,10658,null,null,null,null,0,112]
[11,10750,22,10765,23,10770,null,null,null,null,0,122]
[11,10867,22,10891,23,10900,null,null,null,null,0,122]
[11,10995,11,11000,21,11010,null,null,null,null,0,112]
[11,11102,22,11114,14,11290,null,null,null,null,0,121]
[11,11387,11,11393,21,11408,null,null,null,null,0,112]
[22,11501,24,11506,23,11512,null,null,null,null,0,222]
[11,11608,11,11609,21,11634,null,null,null,null,0,112]
[11,11728,11,11735,21,11748,null,null,null,null,0,112]
[11,11859,22,11894,23,11933,null,null,null,null,0,122]
[11,12028,22,12044,23,12050,null,null,null,null,0,122]
[11,12147,22,12159,23,12169,null,null,null,null,0,122]
[11,12264,11,12269,21,12279,null,null,null,null,1,112]