{"text_format":"1","workbook":"xlsx","n_sheets":33,"sheets":["Sample Report","Summary","Start","!M310A2I.sha","!M311B3I.sha","!M312A3I.sha","!M313A5I.sha","!M314B4I.sha","!M315A4I.sha","!M316A5I.sha","!M317B2I.sha","!M318B0I.sha","!M319B0I.sha","!M320B0I.sha","!M321A3I.sha","!M322B2I.sha","!M323A0I.sha","!M324B5I.sha","!M325B1I.sha","!M326B4I.sha","!M327A5I.sha","!M328A5I.sha","!M32995I.sha","!M330A2I.sha","!M331A4I.sha","!M40195I.sha","!M402B3I.sha","!M40394I.sha","!M404A0I.sha","!M40592I.sha","!M410A3I.sha","!M411B2I.sha","!M412A4I.sha"],"not_rendered":{"charts":0,"images":0,"macros":1,"external_links":0,"defined_names":0,"comments":0,"pivot_tables":0},"unopened":[],"bounds":{"document_bytes":16777216,"sheet_cells":100000,"rows_first":2000,"rows_last":500,"rows_between":2000,"halvings":0,"cell_chars":16384,"cell_head_chars":4096},"cells_cut":0,"cells_raw":0,"read":"whole","date_system":"1900"}

{"sheet":"Sample Report","index":0,"n_rows":12,"n_cols":11,"rows_kept":12,"cut":false,"hidden":true,"merged":[[7,0,7,6]]}
[]
["Date"]
["Hen"]
["Program"]
["Start at 999999"]
["Sequence component 1","Time 1","Seqeunce Component 2","Time 2","Seqeunce Component 3","Time 3","Correct   0 = No 1=Yes",null,null,"Seqeunce","Time"]
[12,7,12,42,13,18,"if 77 new line,                                  if 31 or 41 = yes new line on 77, ",null,null,"=string of Seqeunce compponent 1, 2 & 3","=time 3"]
["This continues until ther is a 1 on its own to indicate start of summary data"]
[null,null,null,null,null,null,null,null,null,"10-19 =1"]
["Summary Data ",null,null,null,null,null,null,null,null,"20-29 =2"]
["Correct","Incorrect","Rft","total","Av Correct","Av Incorrect","Percent correct","Time",null,"in this example the seqeunce would be 111"]
[40,33,40,73,23.95,15,54,806]

{"sheet":"Summary","index":1,"n_rows":32,"n_cols":24,"rows_kept":32,"cut":false,"hidden":false,"merged":[]}
[]
["Day","Date","Average Response Rate","Target %","RF for non correct sequence","U Value",null,null,null,null,"Block 1","Block 2","Block 3","Block 4","Block 5","Block 6"]
[1,{"$f":"'!M310A2I.sha'!B2:C2","v":"<date>"},{"$f":"('!M310A2I.sha'!F69/60)/'!M310A2I.sha'!Q3","v":2.2904761904761908},{"$f":"'!M310A2I.sha'!N20/'!M310A2I.sha'!Q3","v":0.63492063492063489},{"$f":"SUM('!M310A2I.sha'!L20:Q20)/'!M310A2I.sha'!Q3","v":4.4761904761904763},{"$f":"'!M310A2I.sha'!Q16","v":0.30859598244005704},null,null,null,"Average Response Rate",{"$f":"AVERAGE(C3:C7)","v":3.4813472706155637},{"$f":"AVERAGE(C8:C12)","v":2.4873712737127369},{"$f":"AVERAGE(C13:C17)","v":2.8448648857917149},{"$f":"AVERAGE(C18:C22)","v":2.5414105691056905},{"$f":"AVERAGE(C23:C27)","v":2.5051666666666668},{"$f":"AVERAGE(C28:C32)","v":2.3778281068524971}]
[2,{"$f":"'!M311B3I.sha'!B2:C2","v":"<date>"},{"$f":"('!M311B3I.sha'!F47/60)/'!M311B3I.sha'!Q3","v":7.7105691056910564},{"$f":"'!M311B3I.sha'!N20/'!M311B3I.sha'!Q3","v":0.97560975609756095},{"$f":"SUM('!M311B3I.sha'!L20:Q20)/'!M311B3I.sha'!Q3","v":6.7317073170731705},{"$f":"'!M311B3I.sha'!Q16","v":3.0877354779509855E-2},null,null,null,"Target %",{"$f":"AVERAGE(D3:D7)","v":0.88626302412092439},{"$f":"AVERAGE(D8:D12)","v":0.97096399535423927},{"$f":"AVERAGE(D13:D17)","v":0.97584204413472708},{"$f":"AVERAGE(D18:D22)","v":0.98536585365853657},{"$f":"AVERAGE(D23:D27)","v":1},{"$f":"AVERAGE(D28:D32)","v":0.9855981416957027}]
[3,{"$f":"'!M312A3I.sha'!B2:C2","v":"<date>"},{"$f":"('!M312A3I.sha'!F52/60)/'!M312A3I.sha'!Q3","v":2.2666666666666666},{"$f":"'!M312A3I.sha'!N20/'!M312A3I.sha'!Q3","v":0.86956521739130432},{"$f":"SUM('!M312A3I.sha'!L20:Q20)/'!M312A3I.sha'!Q3","v":6.0217391304347823},{"$f":"'!M312A3I.sha'!Q16","v":0.13559239866627984},null,null,null,"CCRF",{"$f":"AVERAGE(E3:E7)","v":6.1386103115689536},{"$f":"AVERAGE(E8:E12)","v":6.699651567944251},{"$f":"AVERAGE(E13:E17)","v":6.7283101045296165},{"$f":"AVERAGE(E18:E22)","v":6.7890243902439025},{"$f":"AVERAGE(E23:E27)","v":6.875},{"$f":"AVERAGE(E28:E32)","v":6.7856271777003485}]
[4,{"$f":"'!M313A5I.sha'!B2:C2","v":"<date>"},{"$f":"('!M313A5I.sha'!F47/60)/'!M313A5I.sha'!Q3","v":2.6247967479674794},{"$f":"'!M313A5I.sha'!N20/'!M313A5I.sha'!Q3","v":0.97560975609756095},{"$f":"SUM('!M313A5I.sha'!L20:Q20)/'!M313A5I.sha'!Q3","v":6.7317073170731705},{"$f":"'!M313A5I.sha'!Q16","v":3.0877354779509855E-2},null,null,null,"U Value",{"$f":"AVERAGE(F3:F7)","v":0.10736408908897328},{"$f":"AVERAGE(F8:F12)","v":3.6712099464812444E-2},{"$f":"AVERAGE(F13:F17)","v":3.0536628508910472E-2},{"$f":"AVERAGE(F18:F22)","v":1.8526412867705913E-2},{"$f":"AVERAGE(F23:F27)","v":0},{"$f":"AVERAGE(F28:F32)","v":1.818568659710653E-2}]
[5,{"$f":"'!M314B4I.sha'!B2:C2","v":"<date>"},{"$f":"('!M314B4I.sha'!F47/60)/'!M314B4I.sha'!Q3","v":2.5142276422764227},{"$f":"'!M314B4I.sha'!N20/'!M314B4I.sha'!Q3","v":0.97560975609756095},{"$f":"SUM('!M314B4I.sha'!L20:Q20)/'!M314B4I.sha'!Q3","v":6.7317073170731705},{"$f":"'!M314B4I.sha'!Q16","v":3.0877354779509855E-2}]
[6,{"$f":"'!M315A4I.sha'!B2:C2","v":"<date>"},{"$f":"('!M315A4I.sha'!F47/60)/'!M315A4I.sha'!Q3","v":2.480081300813008},{"$f":"'!M315A4I.sha'!N20/'!M315A4I.sha'!Q3","v":0.97560975609756095},{"$f":"SUM('!M315A4I.sha'!L20:Q20)/'!M315A4I.sha'!Q3","v":6.7317073170731705},{"$f":"'!M315A4I.sha'!Q16","v":3.0877354779509855E-2}]
[7,{"$f":"'!M316A5I.sha'!B2:C2","v":"<date>"},{"$f":"('!M316A5I.sha'!F47/60)/'!M316A5I.sha'!Q3","v":2.4195121951219511},{"$f":"'!M316A5I.sha'!N20/'!M316A5I.sha'!Q3","v":0.97560975609756095},{"$f":"SUM('!M316A5I.sha'!L20:Q20)/'!M316A5I.sha'!Q3","v":6.7317073170731705},{"$f":"'!M316A5I.sha'!Q16","v":3.0877354779509855E-2},{"$f":"K3","v":3.4813472706155637},{"$f":"L3","v":2.4873712737127369},2.8448648857917149,2.5414105691056905,2.5051666666666668,2.3778281068524971,{"$f":"K4","v":0.88626302412092439},{"$f":"L4","v":0.97096399535423927},0.97584204413472708,0.98536585365853657,1,0.9855981416957027,{"$f":"K6","v":0.10736408908897328},{"$f":"L6","v":3.6712099464812444E-2},3.0536628508910472E-2,1.8526412867705913E-2,0,1.818568659710653E-2]
[8,{"$f":"'!M317B2I.sha'!B2:C2","v":"<date>"},{"$f":"('!M317B2I.sha'!F48/60)/'!M317B2I.sha'!Q3","v":2.4722222222222223},{"$f":"'!M317B2I.sha'!N20/'!M317B2I.sha'!Q3","v":0.95238095238095233},{"$f":"SUM('!M317B2I.sha'!L20:Q20)/'!M317B2I.sha'!Q3","v":6.5714285714285712},{"$f":"'!M317B2I.sha'!Q16","v":6.0051078206022804E-2}]
[9,{"$f":"'!M318B0I.sha'!B2:C2","v":"<date>"},{"$f":"('!M318B0I.sha'!F47/60)/'!M318B0I.sha'!Q3","v":2.46869918699187},{"$f":"'!M318B0I.sha'!N20/'!M318B0I.sha'!Q3","v":0.97560975609756095},{"$f":"SUM('!M318B0I.sha'!L20:Q20)/'!M318B0I.sha'!Q3","v":6.7317073170731705},{"$f":"'!M318B0I.sha'!Q16","v":3.0877354779509855E-2}]
[10,{"$f":"'!M319B0I.sha'!B2:C2","v":"<date>"},{"$f":"('!M319B0I.sha'!F47/60)/'!M319B0I.sha'!Q3","v":2.596341463414634},{"$f":"'!M319B0I.sha'!N20/'!M319B0I.sha'!Q3","v":0.97560975609756095},{"$f":"SUM('!M319B0I.sha'!L20:Q20)/'!M319B0I.sha'!Q3","v":6.7317073170731705},{"$f":"'!M319B0I.sha'!Q16","v":3.0877354779509855E-2}]
[11,{"$f":"'!M320B0I.sha'!B2:C2","v":"<date>"},{"$f":"('!M320B0I.sha'!F46/60)/'!M320B0I.sha'!Q3","v":2.4683333333333333},{"$f":"'!M320B0I.sha'!N20/'!M320B0I.sha'!Q3","v":1},{"$f":"SUM('!M320B0I.sha'!L20:Q20)/'!M320B0I.sha'!Q3","v":6.875},{"$f":"'!M320B0I.sha'!Q16","v":0}]
[12,{"$f":"'!M321A3I.sha'!B2:C2","v":"<date>"},{"$f":"('!M321A3I.sha'!F47/60)/'!M321A3I.sha'!Q3","v":2.7349593495934963},{"$f":"'!M321A3I.sha'!N20/'!M321A3I.sha'!Q3","v":0.97560975609756095},{"$f":"SUM('!M321A3I.sha'!L20:Q20)/'!M321A3I.sha'!Q3","v":6.7317073170731705},{"$f":"'!M321A3I.sha'!Q16","v":3.0877354779509855E-2}]
[13,{"$f":"'!M322B2I.sha'!B2:C2","v":"<date>"},{"$f":"('!M322B2I.sha'!F47/60)/'!M322B2I.sha'!Q3","v":2.4727642276422768},{"$f":"'!M322B2I.sha'!N20/'!M322B2I.sha'!Q3","v":0.97560975609756095},{"$f":"SUM('!M322B2I.sha'!L20:Q20)/'!M322B2I.sha'!Q3","v":6.7317073170731705},{"$f":"'!M322B2I.sha'!Q16","v":3.0877354779509855E-2}]
[14,{"$f":"'!M323A0I.sha'!B2:C2","v":"<date>"},{"$f":"('!M323A0I.sha'!F47/60)/'!M323A0I.sha'!Q3","v":2.2439024390243905},{"$f":"'!M323A0I.sha'!N20/'!M323A0I.sha'!Q3","v":0.97560975609756095},{"$f":"SUM('!M323A0I.sha'!L20:Q20)/'!M323A0I.sha'!Q3","v":6.7317073170731705},{"$f":"'!M323A0I.sha'!Q16","v":3.0877354779509855E-2}]
[15,{"$f":"'!M324B5I.sha'!B2:C2","v":"<date>"},{"$f":"('!M324B5I.sha'!F48/60)/'!M324B5I.sha'!Q3","v":4.3043650793650796},{"$f":"'!M324B5I.sha'!N20/'!M324B5I.sha'!Q3","v":0.95238095238095233},{"$f":"SUM('!M324B5I.sha'!L20:Q20)/'!M324B5I.sha'!Q3","v":6.5714285714285712},{"$f":"'!M324B5I.sha'!Q16","v":6.0051078206022804E-2}]
[16,{"$f":"'!M325B1I.sha'!B2:C2","v":"<date>"},{"$f":"('!M325B1I.sha'!F47/60)/'!M325B1I.sha'!Q3","v":2.4467479674796748},{"$f":"'!M325B1I.sha'!N20/'!M325B1I.sha'!Q3","v":0.97560975609756095},{"$f":"SUM('!M325B1I.sha'!L20:Q20)/'!M325B1I.sha'!Q3","v":6.7317073170731705},{"$f":"'!M325B1I.sha'!Q16","v":3.0877354779509855E-2}]
[17,{"$f":"'!M326B4I.sha'!B2:C2","v":"<date>"},{"$f":"('!M326B4I.sha'!F46/60)/'!M326B4I.sha'!Q3","v":2.7199999999999998},{"$f":"'!M326B4I.sha'!N20/'!M326B4I.sha'!Q3","v":1},{"$f":"SUM('!M326B4I.sha'!L20:Q20)/'!M326B4I.sha'!Q3","v":6.875},{"$f":"'!M326B4I.sha'!Q16","v":0}]
[18,{"$f":"'!M327A5I.sha'!B2:C2","v":"<date>"},{"$f":"('!M327A5I.sha'!F47/60)/'!M327A5I.sha'!Q3","v":2.4845528455284551},{"$f":"'!M327A5I.sha'!N20/'!M327A5I.sha'!Q3","v":0.97560975609756095},{"$f":"SUM('!M327A5I.sha'!L20:Q20)/'!M327A5I.sha'!Q3","v":6.7317073170731705},{"$f":"'!M327A5I.sha'!Q16","v":3.0877354779509855E-2}]
[19,{"$f":"'!M328A5I.sha'!B2:C2","v":"<date>"},{"$f":"('!M328A5I.sha'!F46/60)/'!M328A5I.sha'!Q3","v":2.5691666666666668},{"$f":"'!M328A5I.sha'!N20/'!M328A5I.sha'!Q3","v":1},{"$f":"SUM('!M328A5I.sha'!L20:Q20)/'!M328A5I.sha'!Q3","v":6.875},{"$f":"'!M328A5I.sha'!Q16","v":0}]
[20,{"$f":"'!M32995I.sha'!B2:C2","v":"<date>"},{"$f":"('!M32995I.sha'!F47/60)/'!M32995I.sha'!Q3","v":2.4865853658536587},{"$f":"'!M32995I.sha'!N20/'!M32995I.sha'!Q3","v":0.97560975609756095},{"$f":"SUM('!M32995I.sha'!L20:Q20)/'!M32995I.sha'!Q3","v":6.7317073170731705},{"$f":"'!M32995I.sha'!Q16","v":3.0877354779509855E-2}]
[21,{"$f":"'!M330A2I.sha'!B2:C2","v":"<date>"},{"$f":"('!M330A2I.sha'!F46/60)/'!M330A2I.sha'!Q3","v":2.4729166666666669},{"$f":"'!M330A2I.sha'!N20/'!M330A2I.sha'!Q3","v":1},{"$f":"SUM('!M330A2I.sha'!L20:Q20)/'!M330A2I.sha'!Q3","v":6.875},{"$f":"'!M330A2I.sha'!Q16","v":0}]
[22,{"$f":"'!M331A4I.sha'!B2:C2","v":"<date>"},{"$f":"('!M331A4I.sha'!F46/60)/'!M331A4I.sha'!Q3","v":2.6491666666666669},{"$f":"'!M331A4I.sha'!N20/'!M331A4I.sha'!Q3","v":1},{"$f":"SUM('!M331A4I.sha'!L20:Q20)/'!M331A4I.sha'!Q3","v":6.875},{"$f":"'!M331A4I.sha'!Q16","v":0}]
[23,{"$f":"'!M40195I.sha'!B2:C2","v":"<date>"},{"$f":"('!M40195I.sha'!F46/60)/'!M40195I.sha'!Q3","v":2.58},{"$f":"'!M40195I.sha'!N20/'!M40195I.sha'!Q3","v":1},{"$f":"SUM('!M40195I.sha'!L20:Q20)/'!M40195I.sha'!Q3","v":6.875},{"$f":"'!M40195I.sha'!Q16","v":0}]
[24,{"$f":"'!M402B3I.sha'!B2:C2","v":"<date>"},{"$f":"('!M402B3I.sha'!F46/60)/'!M402B3I.sha'!Q3","v":2.4670833333333335},{"$f":"'!M402B3I.sha'!N20/'!M402B3I.sha'!Q3","v":1},{"$f":"SUM('!M402B3I.sha'!L20:Q20)/'!M402B3I.sha'!Q3","v":6.875},{"$f":"'!M402B3I.sha'!Q16","v":0}]
[25,{"$f":"'!M40394I.sha'!B2:C2","v":"<date>"},{"$f":"('!M40394I.sha'!F46/60)/'!M40394I.sha'!Q3","v":2.3566666666666665},{"$f":"'!M40394I.sha'!N20/'!M40394I.sha'!Q3","v":1},{"$f":"SUM('!M40394I.sha'!L20:Q20)/'!M40394I.sha'!Q3","v":6.875},{"$f":"'!M40394I.sha'!Q16","v":0}]
[26,{"$f":"'!M404A0I.sha'!B2:C2","v":"<date>"},{"$f":"('!M404A0I.sha'!F48/60)/'!M404A0I.sha'!Q3","v":2.4285714285714284},{"$f":"'!M404A0I.sha'!N20/'!M404A0I.sha'!Q3","v":0.95238095238095233},{"$f":"SUM('!M404A0I.sha'!L20:Q20)/'!M404A0I.sha'!Q3","v":6.5714285714285712},{"$f":"'!M404A0I.sha'!Q16","v":6.0051078206022804E-2}]
[27,{"$f":"'!M40592I.sha'!B2:C2","v":"<date>"},{"$f":"('!M40592I.sha'!F47/60)/'!M40592I.sha'!Q3","v":2.4439024390243902},{"$f":"'!M40592I.sha'!N20/'!M40592I.sha'!Q3","v":0.97560975609756095},{"$f":"SUM('!M40592I.sha'!L20:Q20)/'!M40592I.sha'!Q3","v":6.7317073170731705},{"$f":"'!M40592I.sha'!Q16","v":3.0877354779509855E-2}]
[28,{"$f":"'!M410A3I.sha'!B2:C2","v":"<date>"},{"$f":"('!M410A3I.sha'!F46/60)/'!M410A3I.sha'!Q3","v":2.3654166666666665},{"$f":"'!M410A3I.sha'!N20/'!M410A3I.sha'!Q3","v":1},{"$f":"SUM('!M410A3I.sha'!L20:Q20)/'!M410A3I.sha'!Q3","v":6.875},{"$f":"'!M410A3I.sha'!Q16","v":0}]
[29,{"$f":"'!M411B2I.sha'!B2:C2","v":"<date>"},{"$f":"('!M411B2I.sha'!F46/60)/'!M411B2I.sha'!Q3","v":2.5637499999999998},{"$f":"'!M411B2I.sha'!N20/'!M411B2I.sha'!Q3","v":1},{"$f":"SUM('!M411B2I.sha'!L20:Q20)/'!M411B2I.sha'!Q3","v":6.875},{"$f":"'!M411B2I.sha'!Q16","v":0}]
[30,{"$f":"'!M412A4I.sha'!B2:C2","v":"<date>"},{"$f":"('!M412A4I.sha'!F46/60)/'!M412A4I.sha'!Q3","v":2.0874999999999999},{"$f":"'!M412A4I.sha'!N20/'!M412A4I.sha'!Q3","v":1},{"$f":"SUM('!M412A4I.sha'!L20:Q20)/'!M412A4I.sha'!Q3","v":6.875},{"$f":"'!M412A4I.sha'!Q16","v":0}]

{"sheet":"Start","index":2,"n_rows":36,"n_cols":10,"rows_kept":36,"cut":false,"hidden":false,"merged":[]}
[null,null,null,null,null,"Use Folder 51",null,"Auto Clean Up",null,"Correct sequence"]
[null,null,null,null,null,false,null,true,null,222]
[]
["Working with Folder",null,null,null,null,null,"Process All/Or Pick A number: ALL or an integer"]
["F:\\Possum Chapter\\Raw Data\\Ishan\\new phase RRR\\",null,null,null,null,null,"ALL"]
["Filenames:"]
["!M412A4I.sha",null,null,null,null,null,"Paint Cells"]
["!M310A2I.sha",null,null,null,null,null,false]
["!M311B3I.sha"]
["!M312A3I.sha"]
["!M313A5I.sha"]
["!M314B4I.sha"]
["!M315A4I.sha"]
["!M316A5I.sha"]
["!M317B2I.sha"]
["!M318B0I.sha"]
["!M319B0I.sha"]
["!M320B0I.sha"]
["!M321A3I.sha"]
["!M322B2I.sha"]
["!M323A0I.sha"]
["!M324B5I.sha"]
["!M325B1I.sha"]
["!M326B4I.sha"]
["!M327A5I.sha"]
["!M328A5I.sha"]
["!M32995I.sha"]
["!M330A2I.sha"]
["!M331A4I.sha"]
["!M40195I.sha"]
["!M402B3I.sha"]
["!M40394I.sha"]
["!M404A0I.sha"]
["!M40592I.sha"]
["!M410A3I.sha"]
["!M411B2I.sha"]

{"sheet":"!M310A2I.sha","index":3,"n_rows":69,"n_cols":48,"rows_kept":69,"cut":false,"hidden":false,"merged":[[4,39,4,42],[5,39,5,40],[4,44,4,47],[5,44,5,45],[4,24,4,27],[5,24,5,25],[4,29,4,32],[5,29,5,30],[4,34,4,37],[5,34,5,35],[1,1,1,2],[5,13,5,14],[18,13,18,14],[19,13,19,14],[4,19,4,22],[5,19,5,20]]}
["Report for:!M310A2I.sha"]
["Date:","<date>"]
["Hen:","<hen>",null,null,null,"Correct Sequence",{"$f":"Start!J2","v":222},null,null,null,null,null,null,null,null,"Total Sequences in Data",{"$f":"4994-COUNTBLANK(L7:L5000)","v":63},null,null,null,null,"Total Sequences in Block Data",{"$f":"COUNTA(L7:L17)","v":11},null,null,null,"Total Sequences in Block Data",{"$f":"COUNTA(L18:L27)","v":10},null,null,null,"Total Sequences in Block Data",{"$f":"COUNTA(L28:L38)","v":11},null,null,null,"Total Sequences in Block Data",{"$f":"COUNTA(L39:L48)","v":10},null,null,null,"Total Sequences in Block Data",{"$f":"COUNTA(L49:L59)","v":11},null,null,null,"Total Sequences in Block Data",{"$f":"COUNTA(L60:L69)","v":10}]
[null,null,null,null,null,null,null,null,null,null,null,null,null,null,null,"Total Sequences in Summary",{"$f":"SUM(O7:O14)","v":63},null,null,null,null,"Total Sequences in Block Summary",{"$f":"SUM(U7:U14)","v":11},null,null,null,"Total Sequences in Block Summary",{"$f":"SUM(Z7:Z14)","v":10},null,null,null,"Total Sequences in Block Summary",{"$f":"SUM(AE7:AE14)","v":11},null,null,null,"Total Sequences in Block Summary",{"$f":"SUM(AJ7:AJ14)","v":10},null,null,null,"Total Sequences in Block Summary",{"$f":"SUM(AO7:AO14)","v":11},null,null,null,"Total Sequences in Block Summary",{"$f":"SUM(AT7:AT14)","v":10}]
[null,null,null,null,null,null,null,null,null,null,null,null,null,null,null,null,null,null,null,"Block 1",null,null,null,null,"Block 2",null,null,null,null,"Block 3",null,null,null,null,"Block 4",null,null,null,null,"Block 5",null,null,null,null,"Block 6"]
["Sequence\nComponent\n1","Time\n1","Sequence\nComponent\n2","Time\n2","Sequence\nComponent\n3","Time\n3","Sequence\nComponent\n4","Time\n4","Sequence\nComponent\n5","Time\n5","Correct?\n0=No 1=Yes","Sequence",null,"Frequency",null,"Relative Frequency","Variability",null,null,"Frequency",null,"Relative Frequency","Variability",null,"Frequency",null,"Relative Frequency","Variability",null,"Frequency",null,"Relative Frequency","Variability",null,"Frequency",null,"Relative Frequency","Variability",null,"Frequency",null,"Relative Frequency","Variability",null,"Frequency",null,"Relative Frequency","Variability"]
[12,13,14,18,14,27,null,null,null,null,0,111,null,111,{"$f":"COUNTIF($L$7:$L$500,N7)","v":5},{"$f":"O7/$Q$4","v":7.9365079365079361E-2},{"$f":"IF(P7=0,0,(P7*((LOG(P7))/LOG(2))))","v":-0.29010728798512331},null,null,{"$f":"N7","v":111},{"$f":"COUNTIF(L7:L17,T7)","v":4},{"$f":"U7/(W4-U14)","v":0.44444444444444442},{"$f":"IF(V7=0,0,(V7*((LOG(V7))/LOG(2))))","v":-0.51996666730769447},null,{"$f":"N7","v":111},{"$f":"COUNTIF(L18:L27,Y7)","v":0},{"$f":"Z7/(AB4-Z14)","v":0},{"$f":"IF(AA7=0,0,(AA7*((LOG(AA7))/LOG(2))))","v":0},null,{"$f":"N7","v":111},{"$f":"COUNTIF(L28:L38,AD7)","v":0},{"$f":"AE7/(AG4-AE14)","v":0},{"$f":"IF(AF7=0,0,(AF7*((LOG(AF7))/LOG(2))))","v":0},null,{"$f":"N7","v":111},{"$f":"COUNTIF(L39:L48,AI7)","v":1},{"$f":"AJ7/(AL4-AJ14)","v":0.5},{"$f":"IF(AK7=0,0,(AK7*((LOG(AK7))/LOG(2))))","v":-0.5},null,{"$f":"N7","v":111},{"$f":"COUNTIF(L49:L59,AN7)","v":0},{"$f":"AO7/(AQ4-AO14)","v":{"$error":"#DIV/0!"}},{"$f":"IF(AP7=0,0,(AP7*((LOG(AP7))/LOG(2))))","v":{"$error":"#DIV/0!"}},null,{"$f":"N7","v":111},{"$f":"COUNTIF(L60:L69,AS7)","v":0},{"$f":"AT7/(AV4-AT14)","v":0},{"$f":"IF(AU7=0,0,(AU7*((LOG(AU7))/LOG(2))))","v":0}]
[12,125,23,137,23,142,null,null,null,null,0,122,null,112,{"$f":"COUNTIF($L$7:$L$500,N8)","v":2},{"$f":"O8/$Q$4","v":3.1746031746031744E-2},{"$f":"IF(P8=0,0,(P8*((LOG(P8))/LOG(2))))","v":-0.15800888646031477},null,null,{"$f":"N8","v":112},{"$f":"COUNTIF(L7:L17,T8)","v":1},{"$f":"U8/(W4-U14)","v":0.1111111111111111},{"$f":"IF(V8=0,0,(V8*((LOG(V8))/LOG(2))))","v":-0.3522138890491458},null,{"$f":"N8","v":112},{"$f":"COUNTIF(L18:L27,Y8)","v":1},{"$f":"Z8/(AB4-Z14)","v":0.2},{"$f":"IF(AA8=0,0,(AA8*((LOG(AA8))/LOG(2))))","v":-0.46438561897747244},null,{"$f":"N8","v":112},{"$f":"COUNTIF(L28:L38,AD8)","v":0},{"$f":"AE8/(AG4-AE14)","v":0},{"$f":"IF(AF8=0,0,(AF8*((LOG(AF8))/LOG(2))))","v":0},null,{"$f":"N8","v":112},{"$f":"COUNTIF(L39:L48,AI8)","v":0},{"$f":"AJ8/(AL4-AJ14)","v":0},{"$f":"IF(AK8=0,0,(AK8*((LOG(AK8))/LOG(2))))","v":0},null,{"$f":"N8","v":112},{"$f":"COUNTIF(L49:L59,AN8)","v":0},{"$f":"AO8/(AQ4-AO14)","v":{"$error":"#DIV/0!"}},{"$f":"IF(AP8=0,0,(AP8*((LOG(AP8))/LOG(2))))","v":{"$error":"#DIV/0!"}},null,{"$f":"N8","v":112},{"$f":"COUNTIF(L60:L69,AS8)","v":0},{"$f":"AT8/(AV4-AT14)","v":0},{"$f":"IF(AU8=0,0,(AU8*((LOG(AU8))/LOG(2))))","v":0}]
[12,240,14,244,14,251,null,null,null,null,0,111,null,121,{"$f":"COUNTIF($L$7:$L$500,N9)","v":0},{"$f":"O9/$Q$4","v":0},{"$f":"IF(P9=0,0,(P9*((LOG(P9))/LOG(2))))","v":0},null,null,{"$f":"N9","v":121},{"$f":"COUNTIF(L7:L17,T9)","v":0},{"$f":"U9/(W4-U14)","v":0},{"$f":"IF(V9=0,0,(V9*((LOG(V9))/LOG(2))))","v":0},null,{"$f":"N9","v":121},{"$f":"COUNTIF(L18:L27,Y9)","v":0},{"$f":"Z9/(AB4-Z14)","v":0},{"$f":"IF(AA9=0,0,(AA9*((LOG(AA9))/LOG(2))))","v":0},null,{"$f":"N9","v":121},{"$f":"COUNTIF(L28:L38,AD9)","v":0},{"$f":"AE9/(AG4-AE14)","v":0},{"$f":"IF(AF9=0,0,(AF9*((LOG(AF9))/LOG(2))))","v":0},null,{"$f":"N9","v":121},{"$f":"COUNTIF(L39:L48,AI9)","v":0},{"$f":"AJ9/(AL4-AJ14)","v":0},{"$f":"IF(AK9=0,0,(AK9*((LOG(AK9))/LOG(2))))","v":0},null,{"$f":"N9","v":121},{"$f":"COUNTIF(L49:L59,AN9)","v":0},{"$f":"AO9/(AQ4-AO14)","v":{"$error":"#DIV/0!"}},{"$f":"IF(AP9=0,0,(AP9*((LOG(AP9))/LOG(2))))","v":{"$error":"#DIV/0!"}},null,{"$f":"N9","v":121},{"$f":"COUNTIF(L60:L69,AS9)","v":0},{"$f":"AT9/(AV4-AT14)","v":0},{"$f":"IF(AU9=0,0,(AU9*((LOG(AU9))/LOG(2))))","v":0}]
[12,346,23,365,23,375,null,null,null,null,0,122,null,122,{"$f":"COUNTIF($L$7:$L$500,N10)","v":3},{"$f":"O10/$Q$4","v":4.7619047619047616E-2},{"$f":"IF(P10=0,0,(P10*((LOG(P10))/LOG(2))))","v":-0.20915797251327431},null,null,{"$f":"N10","v":122},{"$f":"COUNTIF(L7:L17,T10)","v":2},{"$f":"U10/(W4-U14)","v":0.22222222222222221},{"$f":"IF(V10=0,0,(V10*((LOG(V10))/LOG(2))))","v":-0.48220555587606945},null,{"$f":"N10","v":122},{"$f":"COUNTIF(L18:L27,Y10)","v":0},{"$f":"Z10/(AB4-Z14)","v":0},{"$f":"IF(AA10=0,0,(AA10*((LOG(AA10))/LOG(2))))","v":0},null,{"$f":"N10","v":122},{"$f":"COUNTIF(L28:L38,AD10)","v":1},{"$f":"AE10/(AG4-AE14)","v":0.16666666666666666},{"$f":"IF(AF10=0,0,(AF10*((LOG(AF10))/LOG(2))))","v":-0.43082708345352599},null,{"$f":"N10","v":122},{"$f":"COUNTIF(L39:L48,AI10)","v":0},{"$f":"AJ10/(AL4-AJ14)","v":0},{"$f":"IF(AK10=0,0,(AK10*((LOG(AK10))/LOG(2))))","v":0},null,{"$f":"N10","v":122},{"$f":"COUNTIF(L49:L59,AN10)","v":0},{"$f":"AO10/(AQ4-AO14)","v":{"$error":"#DIV/0!"}},{"$f":"IF(AP10=0,0,(AP10*((LOG(AP10))/LOG(2))))","v":{"$error":"#DIV/0!"}},null,{"$f":"N10","v":122},{"$f":"COUNTIF(L60:L69,AS10)","v":0},{"$f":"AT10/(AV4-AT14)","v":0},{"$f":"IF(AU10=0,0,(AU10*((LOG(AU10))/LOG(2))))","v":0}]
[12,471,14,477,14,485,null,null,null,null,0,111,null,211,{"$f":"COUNTIF($L$7:$L$500,N11)","v":6},{"$f":"O11/$Q$4","v":9.5238095238095233E-2},{"$f":"IF(P11=0,0,(P11*((LOG(P11))/LOG(2))))","v":-0.32307784978845333},null,null,{"$f":"N11","v":211},{"$f":"COUNTIF(L7:L17,T11)","v":2},{"$f":"U11/(W4-U14)","v":0.22222222222222221},{"$f":"IF(V11=0,0,(V11*((LOG(V11))/LOG(2))))","v":-0.48220555587606945},null,{"$f":"N11","v":211},{"$f":"COUNTIF(L18:L27,Y11)","v":2},{"$f":"Z11/(AB4-Z14)","v":0.4},{"$f":"IF(AA11=0,0,(AA11*((LOG(AA11))/LOG(2))))","v":-0.52877123795494496},null,{"$f":"N11","v":211},{"$f":"COUNTIF(L28:L38,AD11)","v":2},{"$f":"AE11/(AG4-AE14)","v":0.33333333333333331},{"$f":"IF(AF11=0,0,(AF11*((LOG(AF11))/LOG(2))))","v":-0.52832083357371862},null,{"$f":"N11","v":211},{"$f":"COUNTIF(L39:L48,AI11)","v":0},{"$f":"AJ11/(AL4-AJ14)","v":0},{"$f":"IF(AK11=0,0,(AK11*((LOG(AK11))/LOG(2))))","v":0},null,{"$f":"N11","v":211},{"$f":"COUNTIF(L49:L59,AN11)","v":0},{"$f":"AO11/(AQ4-AO14)","v":{"$error":"#DIV/0!"}},{"$f":"IF(AP11=0,0,(AP11*((LOG(AP11))/LOG(2))))","v":{"$error":"#DIV/0!"}},null,{"$f":"N11","v":211},{"$f":"COUNTIF(L60:L69,AS11)","v":0},{"$f":"AT11/(AV4-AT14)","v":0},{"$f":"IF(AU11=0,0,(AU11*((LOG(AU11))/LOG(2))))","v":0}]
[12,597,14,606,14,613,null,null,null,null,0,111,null,212,{"$f":"COUNTIF($L$7:$L$500,N12)","v":2},{"$f":"O12/$Q$4","v":3.1746031746031744E-2},{"$f":"IF(P12=0,0,(P12*((LOG(P12))/LOG(2))))","v":-0.15800888646031477},null,null,{"$f":"N12","v":212},{"$f":"COUNTIF(L7:L17,T12)","v":0},{"$f":"U12/(W4-U14)","v":0},{"$f":"IF(V12=0,0,(V12*((LOG(V12))/LOG(2))))","v":0},null,{"$f":"N12","v":212},{"$f":"COUNTIF(L18:L27,Y12)","v":1},{"$f":"Z12/(AB4-Z14)","v":0.2},{"$f":"IF(AA12=0,0,(AA12*((LOG(AA12))/LOG(2))))","v":-0.46438561897747244},null,{"$f":"N12","v":212},{"$f":"COUNTIF(L28:L38,AD12)","v":1},{"$f":"AE12/(AG4-AE14)","v":0.16666666666666666},{"$f":"IF(AF12=0,0,(AF12*((LOG(AF12))/LOG(2))))","v":-0.43082708345352599},null,{"$f":"N12","v":212},{"$f":"COUNTIF(L39:L48,AI12)","v":0},{"$f":"AJ12/(AL4-AJ14)","v":0},{"$f":"IF(AK12=0,0,(AK12*((LOG(AK12))/LOG(2))))","v":0},null,{"$f":"N12","v":212},{"$f":"COUNTIF(L49:L59,AN12)","v":0},{"$f":"AO12/(AQ4-AO14)","v":{"$error":"#DIV/0!"}},{"$f":"IF(AP12=0,0,(AP12*((LOG(AP12))/LOG(2))))","v":{"$error":"#DIV/0!"}},null,{"$f":"N12","v":212},{"$f":"COUNTIF(L60:L69,AS12)","v":0},{"$f":"AT12/(AV4-AT14)","v":0},{"$f":"IF(AU12=0,0,(AU12*((LOG(AU12))/LOG(2))))","v":0}]
[12,707,14,720,23,733,null,null,null,null,0,112,null,221,{"$f":"COUNTIF($L$7:$L$500,N13)","v":5},{"$f":"O13/$Q$4","v":7.9365079365079361E-2},{"$f":"IF(P13=0,0,(P13*((LOG(P13))/LOG(2))))","v":-0.29010728798512331},null,null,{"$f":"N13","v":221},{"$f":"COUNTIF(L7:L17,T13)","v":0},{"$f":"U13/(W4-U14)","v":0},{"$f":"IF(V13=0,0,(V13*((LOG(V13))/LOG(2))))","v":0},null,{"$f":"N13","v":221},{"$f":"COUNTIF(L18:L27,Y13)","v":1},{"$f":"Z13/(AB4-Z14)","v":0.2},{"$f":"IF(AA13=0,0,(AA13*((LOG(AA13))/LOG(2))))","v":-0.46438561897747244},null,{"$f":"N13","v":221},{"$f":"COUNTIF(L28:L38,AD13)","v":2},{"$f":"AE13/(AG4-AE14)","v":0.33333333333333331},{"$f":"IF(AF13=0,0,(AF13*((LOG(AF13))/LOG(2))))","v":-0.52832083357371862},null,{"$f":"N13","v":221},{"$f":"COUNTIF(L39:L48,AI13)","v":1},{"$f":"AJ13/(AL4-AJ14)","v":0.5},{"$f":"IF(AK13=0,0,(AK13*((LOG(AK13))/LOG(2))))","v":-0.5},null,{"$f":"N13","v":221},{"$f":"COUNTIF(L49:L59,AN13)","v":0},{"$f":"AO13/(AQ4-AO14)","v":{"$error":"#DIV/0!"}},{"$f":"IF(AP13=0,0,(AP13*((LOG(AP13))/LOG(2))))","v":{"$error":"#DIV/0!"}},null,{"$f":"N13","v":221},{"$f":"COUNTIF(L60:L69,AS13)","v":1},{"$f":"AT13/(AV4-AT14)","v":1},{"$f":"IF(AU13=0,0,(AU13*((LOG(AU13))/LOG(2))))","v":0}]
[21,833,21,838,21,843,null,null,null,null,0,222,null,222,{"$f":"COUNTIF($L$7:$L$500,N14)","v":40},{"$f":"O14/$Q$4","v":0.63492063492063489},{"$f":"IF(P14=0,0,(P14*((LOG(P14))/LOG(2))))","v":-0.41609639911908203},null,null,{"$f":"N14","v":222},{"$f":"COUNTIF(L7:L17,T14)","v":2},null,null,null,{"$f":"N14","v":222},{"$f":"COUNTIF(L18:L27,Y14)","v":5},null,null,null,{"$f":"N14","v":222},{"$f":"COUNTIF(L28:L38,AD14)","v":5},null,null,null,{"$f":"N14","v":222},{"$f":"COUNTIF(L39:L48,AI14)","v":8},null,null,null,{"$f":"N14","v":222},{"$f":"COUNTIF(L49:L59,AN14)","v":11},null,null,null,{"$f":"N14","v":222},{"$f":"COUNTIF(L60:L69,AS14)","v":9}]
[21,1153,12,1161,14,1165,null,null,null,null,0,211,null,null,null,{"$f":"SUM(P7:P14)","v":1},{"$f":"-SUM(Q7:Q14)","v":1.8445645703116857},null,null,null,null,{"$f":"SUM(V7:V14)","v":1},{"$f":"-SUM(W7:W14)","v":1.8365916681089791},null,null,null,{"$f":"SUM(AA7:AA14)","v":1},{"$f":"-SUM(AB7:AB14)","v":1.9219280948873623},null,null,null,{"$f":"SUM(AF7:AF14)","v":1},{"$f":"-SUM(AG7:AG14)","v":1.9182958340544891},null,null,null,{"$f":"SUM(AK7:AK14)","v":1},{"$f":"-SUM(AL7:AL14)","v":1},null,null,null,{"$f":"SUM(AP7:AP14)","v":{"$error":"#DIV/0!"}},{"$f":"-SUM(AQ7:AQ14)","v":{"$error":"#DIV/0!"}},null,null,null,{"$f":"SUM(AU7:AU14)","v":1},{"$f":"-SUM(AV7:AV14)","v":0}]
[21,1264,21,1269,21,1274,null,null,null,null,0,222,null,null,null,"U=",{"$f":"Q15/(LOG(Q4)/LOG(2))","v":0.30859598244005704},null,null,null,null,"U1=",{"$f":"W15/(LOG(W4)/LOG(2))","v":0.53089405155880187},null,null,null,"U2=",{"$f":"AB15/(LOG(AB4)/LOG(2))","v":0.57855800607042629},null,null,null,"U3=",{"$f":"AG15/(LOG(AG4)/LOG(2))","v":0.55451185209728859},null,null,null,"U4=",{"$f":"AL15/(LOG(AL4)/LOG(2))","v":0.3010299956639812},null,null,null,"U5=",{"$f":"AQ15/(LOG(AQ4)/LOG(2))","v":{"$error":"#DIV/0!"}},null,null,null,"U6=",{"$f":"AV15/(LOG(AV4)/LOG(2))","v":0}]
[21,1452,12,1462,14,1467,null,null,null,null,0,211]
[21,1575,12,1584,14,1588,null,null,null,null,0,211]
[21,1685,21,1694,21,1700,null,null,null,null,0,222,null,"Total Target Seq"]
[21,1866,21,1880,12,1899,null,null,null,null,0,221,null,{"$f":"COUNTIF(L7:L69,G3)","v":40},null,11,10,11,10,11,10]
[12,2015,14,2019,23,2036,null,null,null,null,0,112,null,null,null,"% of reinforcement given in 6 equal intervals based on number of trials "]
[21,2138,21,2141,21,2146,null,null,null,null,0,222,null,null,null,"%_1","%_2","%_3","%_4","%_5","%_6"]
[21,2298,21,2307,21,2318,null,null,null,null,0,222,null,null,"target sequence",{"$f":"$G$3","v":222},{"$f":"$G$3","v":222},{"$f":"$G$3","v":222},{"$f":"$G$3","v":222},{"$f":"$G$3","v":222},{"$f":"$G$3","v":222}]
[21,2472,21,2481,21,2491,null,null,null,null,0,222,null,null,"total reinforcement",{"$f":"U14","v":2},{"$f":"Z14","v":5},{"$f":"AE14","v":5},{"$f":"AJ14","v":8},{"$f":"AO14","v":11},{"$f":"AT14","v":9}]
[21,2636,12,2663,23,2737,null,null,null,null,0,212,null,null,"% target"]
[21,2837,21,2839,21,2845,null,null,null,null,0,222,null,null,"CCRF"]
[21,2961,12,2976,14,2982,null,null,null,null,0,211,null,null,"% CCRf"]
[21,3081,12,3092,23,3103,null,null,null,null,0,212,null,null,"average response rate",{"$f":"F17/P20","v":133.36363636363637},{"$f":"(F27-F17)/Q20","v":151.5},{"$f":"(F38-F27)/R20","v":134.45454545454547},{"$f":"(F48-F38)/S20","v":138.4},{"$f":"(F59-F48)/T20","v":135.18181818181819},{"$f":"(F69-F59)/U20","v":132.6}]
[21,3198,21,3207,21,3213,null,null,null,null,0,222]
[21,3325,12,3340,14,3349,null,null,null,null,0,211]
[21,3445,21,3448,12,3460,null,null,null,null,0,221]
[21,3556,21,3561,12,3572,null,null,null,null,0,221]
[12,3669,23,3683,23,3700,null,null,null,null,0,122]
[21,3797,21,3808,21,3816,null,null,null,null,0,222]
[21,3911,21,3922,21,3930,null,null,null,null,0,222]
[21,4095,21,4106,21,4124,null,null,null,null,0,222]
[21,4287,12,4323,14,4344,null,null,null,null,0,211]
[21,4451,21,4454,21,4461,null,null,null,null,0,222]
[21,4587,21,4594,12,4616,null,null,null,null,0,221]
[21,4713,21,4720,21,4728,null,null,null,null,0,222]
[21,4861,21,4870,21,4879,null,null,null,null,0,222]
[21,4993,21,4998,21,5004,null,null,null,null,0,222]
[21,5124,21,5130,21,5147,null,null,null,null,0,222]
[21,5274,21,5287,21,5302,null,null,null,null,0,222]
[21,5400,21,5416,21,5425,null,null,null,null,0,222]
[21,5575,21,5582,21,5589,null,null,null,null,0,222]
[21,5696,21,5714,21,5725,null,null,null,null,0,222]
[12,5833,14,5839,14,5845,null,null,null,null,0,111]
[21,5942,21,5945,21,5950,null,null,null,null,0,222]
[21,6053,21,6066,21,6080,null,null,null,null,0,222]
[21,6210,21,6217,21,6225,null,null,null,null,0,222]
[21,6336,21,6343,21,6355,null,null,null,null,0,222]
[21,6480,21,6486,21,6493,null,null,null,null,0,222]
[21,6646,21,6658,21,6667,null,null,null,null,0,222]
[21,6795,21,6806,21,6814,null,null,null,null,0,222]
[21,6906,21,6916,21,6923,null,null,null,null,0,222]
[21,7083,21,7088,21,7094,null,null,null,null,0,222]
[21,7204,21,7208,21,7220,null,null,null,null,0,222]
[21,7313,21,7320,21,7332,null,null,null,null,0,222]
[21,7419,21,7422,21,7432,null,null,null,null,0,222]
[21,7542,21,7548,21,7554,null,null,null,null,0,222]
[21,7681,21,7712,21,7724,null,null,null,null,0,222]
[21,7819,21,7831,21,7845,null,null,null,null,0,222]
[21,7956,21,7968,21,7977,null,null,null,null,0,222]
[21,8070,21,8076,21,8080,null,null,null,null,0,222]
[21,8186,21,8230,21,8256,null,null,null,null,0,222]
[21,8347,21,8354,12,8371,null,null,null,null,0,221]
[21,8471,21,8479,21,8484,null,null,null,null,0,222]
[21,8628,21,8647,21,8658,null,null,null,null,1,222]

{"sheet":"!M311B3I.sha","index":4,"n_rows":47,"n_cols":48,"rows_kept":47,"cut":false,"hidden":false,"merged":[[4,39,4,42],[5,39,5,40],[4,44,4,47],[5,44,5,45],[4,24,4,27],[5,24,5,25],[4,29,4,32],[5,29,5,30],[4,34,4,37],[5,34,5,35],[1,1,1,2],[5,13,5,14],[18,13,18,14],[19,13,19,14],[4,19,4,22],[5,19,5,20]]}
["Report for:!M311B3I.sha"]
["Date:","<date>"]
["Hen:","<hen>",null,null,null,"Correct Sequence",{"$f":"Start!J2","v":222},null,null,null,null,null,null,null,null,"Total Sequences in Data",{"$f":"4994-COUNTBLANK(L7:L5000)","v":41},null,null,null,null,"Total Sequences in Block Data",{"$f":"COUNTA(L7:L13)","v":7},null,null,null,"Total Sequences in Block Data",{"$f":"COUNTA(L14:L20)","v":7},null,null,null,"Total Sequences in Block Data",{"$f":"COUNTA(L21:L26)","v":6},null,null,null,"Total Sequences in Block Data",{"$f":"COUNTA(L27:L33)","v":7},null,null,null,"Total Sequences in Block Data",{"$f":"COUNTA(L34:L40)","v":7},null,null,null,"Total Sequences in Block Data",{"$f":"COUNTA(L41:L47)","v":7}]
[null,null,null,null,null,null,null,null,null,null,null,null,null,null,null,"Total Sequences in Summary",{"$f":"SUM(O7:O14)","v":41},null,null,null,null,"Total Sequences in Block Summary",{"$f":"SUM(U7:U14)","v":7},null,null,null,"Total Sequences in Block Summary",{"$f":"SUM(Z7:Z14)","v":7},null,null,null,"Total Sequences in Block Summary",{"$f":"SUM(AE7:AE14)","v":6},null,null,null,"Total Sequences in Block Summary",{"$f":"SUM(AJ7:AJ14)","v":7},null,null,null,"Total Sequences in Block Summary",{"$f":"SUM(AO7:AO14)","v":7},null,null,null,"Total Sequences in Block Summary",{"$f":"SUM(AT7:AT14)","v":7}]
[null,null,null,null,null,null,null,null,null,null,null,null,null,null,null,null,null,null,null,"Block 1",null,null,null,null,"Block 2",null,null,null,null,"Block 3",null,null,null,null,"Block 4",null,null,null,null,"Block 5",null,null,null,null,"Block 6"]
["Sequence\nComponent\n1","Time\n1","Sequence\nComponent\n2","Time\n2","Sequence\nComponent\n3","Time\n3","Sequence\nComponent\n4","Time\n4","Sequence\nComponent\n5","Time\n5","Correct?\n0=No 1=Yes","Sequence",null,"Frequency",null,"Relative Frequency","Variability",null,null,"Frequency",null,"Relative Frequency","Variability",null,"Frequency",null,"Relative Frequency","Variability",null,"Frequency",null,"Relative Frequency","Variability",null,"Frequency",null,"Relative Frequency","Variability",null,"Frequency",null,"Relative Frequency","Variability",null,"Frequency",null,"Relative Frequency","Variability"]
[12,13414,14,13416,14,13420,null,null,null,null,0,111,null,111,{"$f":"COUNTIF($L$7:$L$500,N7)","v":1},{"$f":"O7/$Q$4","v":2.4390243902439025E-2},{"$f":"IF(P7=0,0,(P7*((LOG(P7))/LOG(2))))","v":-0.13067200011263619},null,null,{"$f":"N7","v":111},{"$f":"COUNTIF(L7:L13,T7)","v":1},{"$f":"U7/(W4-U14)","v":1},{"$f":"IF(V7=0,0,(V7*((LOG(V7))/LOG(2))))","v":0},null,{"$f":"N7","v":111},{"$f":"COUNTIF(L14:L20,Y7)","v":0},{"$f":"Z7/(AB4-Z14)","v":{"$error":"#DIV/0!"}},{"$f":"IF(AA7=0,0,(AA7*((LOG(AA7))/LOG(2))))","v":{"$error":"#DIV/0!"}},null,{"$f":"N7","v":111},{"$f":"COUNTIF(L21:L26,AD7)","v":0},{"$f":"AE7/(AG4-AE14)","v":{"$error":"#DIV/0!"}},{"$f":"IF(AF7=0,0,(AF7*((LOG(AF7))/LOG(2))))","v":{"$error":"#DIV/0!"}},null,{"$f":"N7","v":111},{"$f":"COUNTIF(L27:L33,AI7)","v":0},{"$f":"AJ7/(AL4-AJ14)","v":{"$error":"#DIV/0!"}},{"$f":"IF(AK7=0,0,(AK7*((LOG(AK7))/LOG(2))))","v":{"$error":"#DIV/0!"}},null,{"$f":"N7","v":111},{"$f":"COUNTIF(L34:L40,AN7)","v":0},{"$f":"AO7/(AQ4-AO14)","v":{"$error":"#DIV/0!"}},{"$f":"IF(AP7=0,0,(AP7*((LOG(AP7))/LOG(2))))","v":{"$error":"#DIV/0!"}},null,{"$f":"N7","v":111},{"$f":"COUNTIF(L41:L47,AS7)","v":0},{"$f":"AT7/(AV4-AT14)","v":{"$error":"#DIV/0!"}},{"$f":"IF(AU7=0,0,(AU7*((LOG(AU7))/LOG(2))))","v":{"$error":"#DIV/0!"}}]
[21,13665,21,13670,21,13675,null,null,null,null,0,222,null,112,{"$f":"COUNTIF($L$7:$L$500,N8)","v":0},{"$f":"O8/$Q$4","v":0},{"$f":"IF(P8=0,0,(P8*((LOG(P8))/LOG(2))))","v":0},null,null,{"$f":"N8","v":112},{"$f":"COUNTIF(L7:L13,T8)","v":0},{"$f":"U8/(W4-U14)","v":0},{"$f":"IF(V8=0,0,(V8*((LOG(V8))/LOG(2))))","v":0},null,{"$f":"N8","v":112},{"$f":"COUNTIF(L14:L20,Y8)","v":0},{"$f":"Z8/(AB4-Z14)","v":{"$error":"#DIV/0!"}},{"$f":"IF(AA8=0,0,(AA8*((LOG(AA8))/LOG(2))))","v":{"$error":"#DIV/0!"}},null,{"$f":"N8","v":112},{"$f":"COUNTIF(L21:L26,AD8)","v":0},{"$f":"AE8/(AG4-AE14)","v":{"$error":"#DIV/0!"}},{"$f":"IF(AF8=0,0,(AF8*((LOG(AF8))/LOG(2))))","v":{"$error":"#DIV/0!"}},null,{"$f":"N8","v":112},{"$f":"COUNTIF(L27:L33,AI8)","v":0},{"$f":"AJ8/(AL4-AJ14)","v":{"$error":"#DIV/0!"}},{"$f":"IF(AK8=0,0,(AK8*((LOG(AK8))/LOG(2))))","v":{"$error":"#DIV/0!"}},null,{"$f":"N8","v":112},{"$f":"COUNTIF(L34:L40,AN8)","v":0},{"$f":"AO8/(AQ4-AO14)","v":{"$error":"#DIV/0!"}},{"$f":"IF(AP8=0,0,(AP8*((LOG(AP8))/LOG(2))))","v":{"$error":"#DIV/0!"}},null,{"$f":"N8","v":112},{"$f":"COUNTIF(L41:L47,AS8)","v":0},{"$f":"AT8/(AV4-AT14)","v":{"$error":"#DIV/0!"}},{"$f":"IF(AU8=0,0,(AU8*((LOG(AU8))/LOG(2))))","v":{"$error":"#DIV/0!"}}]
[21,13798,21,13802,21,13808,null,null,null,null,0,222,null,121,{"$f":"COUNTIF($L$7:$L$500,N9)","v":0},{"$f":"O9/$Q$4","v":0},{"$f":"IF(P9=0,0,(P9*((LOG(P9))/LOG(2))))","v":0},null,null,{"$f":"N9","v":121},{"$f":"COUNTIF(L7:L13,T9)","v":0},{"$f":"U9/(W4-U14)","v":0},{"$f":"IF(V9=0,0,(V9*((LOG(V9))/LOG(2))))","v":0},null,{"$f":"N9","v":121},{"$f":"COUNTIF(L14:L20,Y9)","v":0},{"$f":"Z9/(AB4-Z14)","v":{"$error":"#DIV/0!"}},{"$f":"IF(AA9=0,0,(AA9*((LOG(AA9))/LOG(2))))","v":{"$error":"#DIV/0!"}},null,{"$f":"N9","v":121},{"$f":"COUNTIF(L21:L26,AD9)","v":0},{"$f":"AE9/(AG4-AE14)","v":{"$error":"#DIV/0!"}},{"$f":"IF(AF9=0,0,(AF9*((LOG(AF9))/LOG(2))))","v":{"$error":"#DIV/0!"}},null,{"$f":"N9","v":121},{"$f":"COUNTIF(L27:L33,AI9)","v":0},{"$f":"AJ9/(AL4-AJ14)","v":{"$error":"#DIV/0!"}},{"$f":"IF(AK9=0,0,(AK9*((LOG(AK9))/LOG(2))))","v":{"$error":"#DIV/0!"}},null,{"$f":"N9","v":121},{"$f":"COUNTIF(L34:L40,AN9)","v":0},{"$f":"AO9/(AQ4-AO14)","v":{"$error":"#DIV/0!"}},{"$f":"IF(AP9=0,0,(AP9*((LOG(AP9))/LOG(2))))","v":{"$error":"#DIV/0!"}},null,{"$f":"N9","v":121},{"$f":"COUNTIF(L41:L47,AS9)","v":0},{"$f":"AT9/(AV4-AT14)","v":{"$error":"#DIV/0!"}},{"$f":"IF(AU9=0,0,(AU9*((LOG(AU9))/LOG(2))))","v":{"$error":"#DIV/0!"}}]
[21,13929,21,13938,21,13945,null,null,null,null,0,222,null,122,{"$f":"COUNTIF($L$7:$L$500,N10)","v":0},{"$f":"O10/$Q$4","v":0},{"$f":"IF(P10=0,0,(P10*((LOG(P10))/LOG(2))))","v":0},null,null,{"$f":"N10","v":122},{"$f":"COUNTIF(L7:L13,T10)","v":0},{"$f":"U10/(W4-U14)","v":0},{"$f":"IF(V10=0,0,(V10*((LOG(V10))/LOG(2))))","v":0},null,{"$f":"N10","v":122},{"$f":"COUNTIF(L14:L20,Y10)","v":0},{"$f":"Z10/(AB4-Z14)","v":{"$error":"#DIV/0!"}},{"$f":"IF(AA10=0,0,(AA10*((LOG(AA10))/LOG(2))))","v":{"$error":"#DIV/0!"}},null,{"$f":"N10","v":122},{"$f":"COUNTIF(L21:L26,AD10)","v":0},{"$f":"AE10/(AG4-AE14)","v":{"$error":"#DIV/0!"}},{"$f":"IF(AF10=0,0,(AF10*((LOG(AF10))/LOG(2))))","v":{"$error":"#DIV/0!"}},null,{"$f":"N10","v":122},{"$f":"COUNTIF(L27:L33,AI10)","v":0},{"$f":"AJ10/(AL4-AJ14)","v":{"$error":"#DIV/0!"}},{"$f":"IF(AK10=0,0,(AK10*((LOG(AK10))/LOG(2))))","v":{"$error":"#DIV/0!"}},null,{"$f":"N10","v":122},{"$f":"COUNTIF(L34:L40,AN10)","v":0},{"$f":"AO10/(AQ4-AO14)","v":{"$error":"#DIV/0!"}},{"$f":"IF(AP10=0,0,(AP10*((LOG(AP10))/LOG(2))))","v":{"$error":"#DIV/0!"}},null,{"$f":"N10","v":122},{"$f":"COUNTIF(L41:L47,AS10)","v":0},{"$f":"AT10/(AV4-AT14)","v":{"$error":"#DIV/0!"}},{"$f":"IF(AU10=0,0,(AU10*((LOG(AU10))/LOG(2))))","v":{"$error":"#DIV/0!"}}]
[21,14081,21,14086,21,14092,null,null,null,null,0,222,null,211,{"$f":"COUNTIF($L$7:$L$500,N11)","v":0},{"$f":"O11/$Q$4","v":0},{"$f":"IF(P11=0,0,(P11*((LOG(P11))/LOG(2))))","v":0},null,null,{"$f":"N11","v":211},{"$f":"COUNTIF(L7:L13,T11)","v":0},{"$f":"U11/(W4-U14)","v":0},{"$f":"IF(V11=0,0,(V11*((LOG(V11))/LOG(2))))","v":0},null,{"$f":"N11","v":211},{"$f":"COUNTIF(L14:L20,Y11)","v":0},{"$f":"Z11/(AB4-Z14)","v":{"$error":"#DIV/0!"}},{"$f":"IF(AA11=0,0,(AA11*((LOG(AA11))/LOG(2))))","v":{"$error":"#DIV/0!"}},null,{"$f":"N11","v":211},{"$f":"COUNTIF(L21:L26,AD11)","v":0},{"$f":"AE11/(AG4-AE14)","v":{"$error":"#DIV/0!"}},{"$f":"IF(AF11=0,0,(AF11*((LOG(AF11))/LOG(2))))","v":{"$error":"#DIV/0!"}},null,{"$f":"N11","v":211},{"$f":"COUNTIF(L27:L33,AI11)","v":0},{"$f":"AJ11/(AL4-AJ14)","v":{"$error":"#DIV/0!"}},{"$f":"IF(AK11=0,0,(AK11*((LOG(AK11))/LOG(2))))","v":{"$error":"#DIV/0!"}},null,{"$f":"N11","v":211},{"$f":"COUNTIF(L34:L40,AN11)","v":0},{"$f":"AO11/(AQ4-AO14)","v":{"$error":"#DIV/0!"}},{"$f":"IF(AP11=0,0,(AP11*((LOG(AP11))/LOG(2))))","v":{"$error":"#DIV/0!"}},null,{"$f":"N11","v":211},{"$f":"COUNTIF(L41:L47,AS11)","v":0},{"$f":"AT11/(AV4-AT14)","v":{"$error":"#DIV/0!"}},{"$f":"IF(AU11=0,0,(AU11*((LOG(AU11))/LOG(2))))","v":{"$error":"#DIV/0!"}}]
[21,14200,21,14210,21,14221,null,null,null,null,0,222,null,212,{"$f":"COUNTIF($L$7:$L$500,N12)","v":0},{"$f":"O12/$Q$4","v":0},{"$f":"IF(P12=0,0,(P12*((LOG(P12))/LOG(2))))","v":0},null,null,{"$f":"N12","v":212},{"$f":"COUNTIF(L7:L13,T12)","v":0},{"$f":"U12/(W4-U14)","v":0},{"$f":"IF(V12=0,0,(V12*((LOG(V12))/LOG(2))))","v":0},null,{"$f":"N12","v":212},{"$f":"COUNTIF(L14:L20,Y12)","v":0},{"$f":"Z12/(AB4-Z14)","v":{"$error":"#DIV/0!"}},{"$f":"IF(AA12=0,0,(AA12*((LOG(AA12))/LOG(2))))","v":{"$error":"#DIV/0!"}},null,{"$f":"N12","v":212},{"$f":"COUNTIF(L21:L26,AD12)","v":0},{"$f":"AE12/(AG4-AE14)","v":{"$error":"#DIV/0!"}},{"$f":"IF(AF12=0,0,(AF12*((LOG(AF12))/LOG(2))))","v":{"$error":"#DIV/0!"}},null,{"$f":"N12","v":212},{"$f":"COUNTIF(L27:L33,AI12)","v":0},{"$f":"AJ12/(AL4-AJ14)","v":{"$error":"#DIV/0!"}},{"$f":"IF(AK12=0,0,(AK12*((LOG(AK12))/LOG(2))))","v":{"$error":"#DIV/0!"}},null,{"$f":"N12","v":212},{"$f":"COUNTIF(L34:L40,AN12)","v":0},{"$f":"AO12/(AQ4-AO14)","v":{"$error":"#DIV/0!"}},{"$f":"IF(AP12=0,0,(AP12*((LOG(AP12))/LOG(2))))","v":{"$error":"#DIV/0!"}},null,{"$f":"N12","v":212},{"$f":"COUNTIF(L41:L47,AS12)","v":0},{"$f":"AT12/(AV4-AT14)","v":{"$error":"#DIV/0!"}},{"$f":"IF(AU12=0,0,(AU12*((LOG(AU12))/LOG(2))))","v":{"$error":"#DIV/0!"}}]
[21,14360,21,14367,21,14375,null,null,null,null,0,222,null,221,{"$f":"COUNTIF($L$7:$L$500,N13)","v":0},{"$f":"O13/$Q$4","v":0},{"$f":"IF(P13=0,0,(P13*((LOG(P13))/LOG(2))))","v":0},null,null,{"$f":"N13","v":221},{"$f":"COUNTIF(L7:L13,T13)","v":0},{"$f":"U13/(W4-U14)","v":0},{"$f":"IF(V13=0,0,(V13*((LOG(V13))/LOG(2))))","v":0},null,{"$f":"N13","v":221},{"$f":"COUNTIF(L14:L20,Y13)","v":0},{"$f":"Z13/(AB4-Z14)","v":{"$error":"#DIV/0!"}},{"$f":"IF(AA13=0,0,(AA13*((LOG(AA13))/LOG(2))))","v":{"$error":"#DIV/0!"}},null,{"$f":"N13","v":221},{"$f":"COUNTIF(L21:L26,AD13)","v":0},{"$f":"AE13/(AG4-AE14)","v":{"$error":"#DIV/0!"}},{"$f":"IF(AF13=0,0,(AF13*((LOG(AF13))/LOG(2))))","v":{"$error":"#DIV/0!"}},null,{"$f":"N13","v":221},{"$f":"COUNTIF(L27:L33,AI13)","v":0},{"$f":"AJ13/(AL4-AJ14)","v":{"$error":"#DIV/0!"}},{"$f":"IF(AK13=0,0,(AK13*((LOG(AK13))/LOG(2))))","v":{"$error":"#DIV/0!"}},null,{"$f":"N13","v":221},{"$f":"COUNTIF(L34:L40,AN13)","v":0},{"$f":"AO13/(AQ4-AO14)","v":{"$error":"#DIV/0!"}},{"$f":"IF(AP13=0,0,(AP13*((LOG(AP13))/LOG(2))))","v":{"$error":"#DIV/0!"}},null,{"$f":"N13","v":221},{"$f":"COUNTIF(L41:L47,AS13)","v":0},{"$f":"AT13/(AV4-AT14)","v":{"$error":"#DIV/0!"}},{"$f":"IF(AU13=0,0,(AU13*((LOG(AU13))/LOG(2))))","v":{"$error":"#DIV/0!"}}]
[21,14518,21,14529,21,14549,null,null,null,null,0,222,null,222,{"$f":"COUNTIF($L$7:$L$500,N14)","v":40},{"$f":"O14/$Q$4","v":0.97560975609756095},{"$f":"IF(P14=0,0,(P14*((LOG(P14))/LOG(2))))","v":-3.4755033883630611E-2},null,null,{"$f":"N14","v":222},{"$f":"COUNTIF(L7:L13,T14)","v":6},null,null,null,{"$f":"N14","v":222},{"$f":"COUNTIF(L14:L20,Y14)","v":7},null,null,null,{"$f":"N14","v":222},{"$f":"COUNTIF(L21:L26,AD14)","v":6},null,null,null,{"$f":"N14","v":222},{"$f":"COUNTIF(L27:L33,AI14)","v":7},null,null,null,{"$f":"N14","v":222},{"$f":"COUNTIF(L34:L40,AN14)","v":7},null,null,null,{"$f":"N14","v":222},{"$f":"COUNTIF(L41:L47,AS14)","v":7}]
[21,14640,21,14649,21,14656,null,null,null,null,0,222,null,null,null,{"$f":"SUM(P7:P14)","v":1},{"$f":"-SUM(Q7:Q14)","v":0.16542703399626679},null,null,null,null,{"$f":"SUM(V7:V14)","v":1},{"$f":"-SUM(W7:W14)","v":0},null,null,null,{"$f":"SUM(AA7:AA14)","v":{"$error":"#DIV/0!"}},{"$f":"-SUM(AB7:AB14)","v":{"$error":"#DIV/0!"}},null,null,null,{"$f":"SUM(AF7:AF14)","v":{"$error":"#DIV/0!"}},{"$f":"-SUM(AG7:AG14)","v":{"$error":"#DIV/0!"}},null,null,null,{"$f":"SUM(AK7:AK14)","v":{"$error":"#DIV/0!"}},{"$f":"-SUM(AL7:AL14)","v":{"$error":"#DIV/0!"}},null,null,null,{"$f":"SUM(AP7:AP14)","v":{"$error":"#DIV/0!"}},{"$f":"-SUM(AQ7:AQ14)","v":{"$error":"#DIV/0!"}},null,null,null,{"$f":"SUM(AU7:AU14)","v":{"$error":"#DIV/0!"}},{"$f":"-SUM(AV7:AV14)","v":{"$error":"#DIV/0!"}}]
[21,14755,21,14765,21,14776,null,null,null,null,0,222,null,null,null,"U=",{"$f":"Q15/(LOG(Q4)/LOG(2))","v":3.0877354779509855E-2},null,null,null,null,"U1=",{"$f":"W15/(LOG(W4)/LOG(2))","v":0},null,null,null,"U2=",{"$f":"AB15/(LOG(AB4)/LOG(2))","v":{"$error":"#DIV/0!"}},null,null,null,"U3=",{"$f":"AG15/(LOG(AG4)/LOG(2))","v":{"$error":"#DIV/0!"}},null,null,null,"U4=",{"$f":"AL15/(LOG(AL4)/LOG(2))","v":{"$error":"#DIV/0!"}},null,null,null,"U5=",{"$f":"AQ15/(LOG(AQ4)/LOG(2))","v":{"$error":"#DIV/0!"}},null,null,null,"U6=",{"$f":"AV15/(LOG(AV4)/LOG(2))","v":{"$error":"#DIV/0!"}}]
[21,14922,21,14928,21,14941,null,null,null,null,0,222]
[21,15037,21,15053,21,15063,null,null,null,null,0,222]
[21,15169,21,15176,21,15183,null,null,null,null,0,222,null,"Total Target Seq"]
[21,15297,21,15312,21,15347,null,null,null,null,0,222,null,{"$f":"COUNTIF(L7:L47,G3)","v":40},null,7,7,6,7,7,7]
[21,15464,21,15479,21,15488,null,null,null,null,0,222,null,null,null,"% of reinforcement given in 6 equal intervals based on number of trials "]
[21,15578,21,15582,21,15586,null,null,null,null,0,222,null,null,null,"%_1","%_2","%_3","%_4","%_5","%_6"]
[21,15676,21,15684,21,15694,null,null,null,null,0,222,null,null,"target sequence",{"$f":"$G$3","v":222},{"$f":"$G$3","v":222},{"$f":"$G$3","v":222},{"$f":"$G$3","v":222},{"$f":"$G$3","v":222},{"$f":"$G$3","v":222}]
[21,15785,21,15835,21,15855,null,null,null,null,0,222,null,null,"total reinforcement",{"$f":"U14","v":6},{"$f":"Z14","v":7},{"$f":"AE14","v":6},{"$f":"AJ14","v":7},{"$f":"AO14","v":7},{"$f":"AT14","v":7}]
[21,15948,21,15964,21,15972,null,null,null,null,0,222,null,null,"% target"]
[21,16084,21,16118,21,16128,null,null,null,null,0,222,null,null,"CCRF"]
[21,16222,21,16227,21,16235,null,null,null,null,0,222,null,null,"% CCRf"]
[21,16330,21,16342,21,16354,null,null,null,null,0,222,null,null,"average response rate",{"$f":"F13/P20","v":2053.5714285714284},{"$f":"(F20-F13)/Q20","v":138.85714285714286},{"$f":"(F26-F20)/R20","v":130.16666666666666},{"$f":"(F33-F26)/S20","v":122},{"$f":"(F40-F33)/T20","v":150},{"$f":"(F47-F40)/U20","v":133.71428571428572}]
[21,16474,21,16483,21,16501,null,null,null,null,0,222]
[21,16603,21,16610,21,16626,null,null,null,null,0,222]
[21,16718,21,16728,21,16744,null,null,null,null,0,222]
[21,16835,21,16838,21,16843,null,null,null,null,0,222]
[21,16961,21,16975,21,16982,null,null,null,null,0,222]
[21,17075,21,17090,21,17099,null,null,null,null,0,222]
[21,17203,21,17209,21,17219,null,null,null,null,0,222]
[21,17364,21,17372,21,17378,null,null,null,null,0,222]
[21,17567,21,17581,21,17604,null,null,null,null,0,222]
[21,17692,21,17699,21,17721,null,null,null,null,0,222]
[21,17845,21,17853,21,17870,null,null,null,null,0,222]
[21,18004,21,18011,21,18032,null,null,null,null,0,222]
[21,18137,21,18143,21,18151,null,null,null,null,0,222]
[21,18272,21,18281,21,18300,null,null,null,null,0,222]
[21,18392,21,18400,21,18406,null,null,null,null,0,222]
[21,18498,21,18505,21,18540,null,null,null,null,0,222]
[21,18632,21,18639,21,18646,null,null,null,null,0,222]
[21,18755,21,18797,21,18816,null,null,null,null,0,222]
[21,18940,21,18956,21,18968,null,null,null,null,1,222]

{"sheet":"!M312A3I.sha","index":5,"n_rows":52,"n_cols":48,"rows_kept":52,"cut":false,"hidden":false,"merged":[[4,39,4,42],[5,39,5,40],[4,44,4,47],[5,44,5,45],[4,24,4,27],[5,24,5,25],[4,29,4,32],[5,29,5,30],[4,34,4,37],[5,34,5,35],[1,1,1,2],[5,13,5,14],[18,13,18,14],[19,13,19,14],[4,19,4,22],[5,19,5,20]]}
["Report for:!M312A3I.sha"]
["Date:","<date>"]
["Hen:","<hen>",null,null,null,"Correct Sequence",{"$f":"Start!J2","v":222},null,null,null,null,null,null,null,null,"Total Sequences in Data",{"$f":"4994-COUNTBLANK(L7:L5000)","v":46},null,null,null,null,"Total Sequences in Block Data",{"$f":"COUNTA(L7:L14)","v":8},null,null,null,"Total Sequences in Block Data",{"$f":"COUNTA(L15:L21)","v":7},null,null,null,"Total Sequences in Block Data",{"$f":"COUNTA(L22:L29)","v":8},null,null,null,"Total Sequences in Block Data",{"$f":"COUNTA(L30:L37)","v":8},null,null,null,"Total Sequences in Block Data",{"$f":"COUNTA(L38:L44)","v":7},null,null,null,"Total Sequences in Block Data",{"$f":"COUNTA(L45:L52)","v":8}]
[null,null,null,null,null,null,null,null,null,null,null,null,null,null,null,"Total Sequences in Summary",{"$f":"SUM(O7:O14)","v":46},null,null,null,null,"Total Sequences in Block Summary",{"$f":"SUM(U7:U14)","v":8},null,null,null,"Total Sequences in Block Summary",{"$f":"SUM(Z7:Z14)","v":7},null,null,null,"Total Sequences in Block Summary",{"$f":"SUM(AE7:AE14)","v":8},null,null,null,"Total Sequences in Block Summary",{"$f":"SUM(AJ7:AJ14)","v":8},null,null,null,"Total Sequences in Block Summary",{"$f":"SUM(AO7:AO14)","v":7},null,null,null,"Total Sequences in Block Summary",{"$f":"SUM(AT7:AT14)","v":8}]
[null,null,null,null,null,null,null,null,null,null,null,null,null,null,null,null,null,null,null,"Block 1",null,null,null,null,"Block 2",null,null,null,null,"Block 3",null,null,null,null,"Block 4",null,null,null,null,"Block 5",null,null,null,null,"Block 6"]
["Sequence\nComponent\n1","Time\n1","Sequence\nComponent\n2","Time\n2","Sequence\nComponent\n3","Time\n3","Sequence\nComponent\n4","Time\n4","Sequence\nComponent\n5","Time\n5","Correct?\n0=No 1=Yes","Sequence",null,"Frequency",null,"Relative Frequency","Variability",null,null,"Frequency",null,"Relative Frequency","Variability",null,"Frequency",null,"Relative Frequency","Variability",null,"Frequency",null,"Relative Frequency","Variability",null,"Frequency",null,"Relative Frequency","Variability",null,"Frequency",null,"Relative Frequency","Variability",null,"Frequency",null,"Relative Frequency","Variability"]
[21,8,12,16,23,33,null,null,null,null,0,212,null,111,{"$f":"COUNTIF($L$7:$L$500,N7)","v":0},{"$f":"O7/$Q$4","v":0},{"$f":"IF(P7=0,0,(P7*((LOG(P7))/LOG(2))))","v":0},null,null,{"$f":"N7","v":111},{"$f":"COUNTIF(L7:L14,T7)","v":0},{"$f":"U7/(W4-U14)","v":0},{"$f":"IF(V7=0,0,(V7*((LOG(V7))/LOG(2))))","v":0},null,{"$f":"N7","v":111},{"$f":"COUNTIF(L15:L21,Y7)","v":0},{"$f":"Z7/(AB4-Z14)","v":{"$error":"#DIV/0!"}},{"$f":"IF(AA7=0,0,(AA7*((LOG(AA7))/LOG(2))))","v":{"$error":"#DIV/0!"}},null,{"$f":"N7","v":111},{"$f":"COUNTIF(L22:L29,AD7)","v":0},{"$f":"AE7/(AG4-AE14)","v":{"$error":"#DIV/0!"}},{"$f":"IF(AF7=0,0,(AF7*((LOG(AF7))/LOG(2))))","v":{"$error":"#DIV/0!"}},null,{"$f":"N7","v":111},{"$f":"COUNTIF(L30:L37,AI7)","v":0},{"$f":"AJ7/(AL4-AJ14)","v":{"$error":"#DIV/0!"}},{"$f":"IF(AK7=0,0,(AK7*((LOG(AK7))/LOG(2))))","v":{"$error":"#DIV/0!"}},null,{"$f":"N7","v":111},{"$f":"COUNTIF(L38:L44,AN7)","v":0},{"$f":"AO7/(AQ4-AO14)","v":{"$error":"#DIV/0!"}},{"$f":"IF(AP7=0,0,(AP7*((LOG(AP7))/LOG(2))))","v":{"$error":"#DIV/0!"}},null,{"$f":"N7","v":111},{"$f":"COUNTIF(L45:L52,AS7)","v":0},{"$f":"AT7/(AV4-AT14)","v":{"$error":"#DIV/0!"}},{"$f":"IF(AU7=0,0,(AU7*((LOG(AU7))/LOG(2))))","v":{"$error":"#DIV/0!"}}]
[12,134,23,149,23,157,null,null,null,null,0,122,null,112,{"$f":"COUNTIF($L$7:$L$500,N8)","v":0},{"$f":"O8/$Q$4","v":0},{"$f":"IF(P8=0,0,(P8*((LOG(P8))/LOG(2))))","v":0},null,null,{"$f":"N8","v":112},{"$f":"COUNTIF(L7:L14,T8)","v":0},{"$f":"U8/(W4-U14)","v":0},{"$f":"IF(V8=0,0,(V8*((LOG(V8))/LOG(2))))","v":0},null,{"$f":"N8","v":112},{"$f":"COUNTIF(L15:L21,Y8)","v":0},{"$f":"Z8/(AB4-Z14)","v":{"$error":"#DIV/0!"}},{"$f":"IF(AA8=0,0,(AA8*((LOG(AA8))/LOG(2))))","v":{"$error":"#DIV/0!"}},null,{"$f":"N8","v":112},{"$f":"COUNTIF(L22:L29,AD8)","v":0},{"$f":"AE8/(AG4-AE14)","v":{"$error":"#DIV/0!"}},{"$f":"IF(AF8=0,0,(AF8*((LOG(AF8))/LOG(2))))","v":{"$error":"#DIV/0!"}},null,{"$f":"N8","v":112},{"$f":"COUNTIF(L30:L37,AI8)","v":0},{"$f":"AJ8/(AL4-AJ14)","v":{"$error":"#DIV/0!"}},{"$f":"IF(AK8=0,0,(AK8*((LOG(AK8))/LOG(2))))","v":{"$error":"#DIV/0!"}},null,{"$f":"N8","v":112},{"$f":"COUNTIF(L38:L44,AN8)","v":0},{"$f":"AO8/(AQ4-AO14)","v":{"$error":"#DIV/0!"}},{"$f":"IF(AP8=0,0,(AP8*((LOG(AP8))/LOG(2))))","v":{"$error":"#DIV/0!"}},null,{"$f":"N8","v":112},{"$f":"COUNTIF(L45:L52,AS8)","v":0},{"$f":"AT8/(AV4-AT14)","v":{"$error":"#DIV/0!"}},{"$f":"IF(AU8=0,0,(AU8*((LOG(AU8))/LOG(2))))","v":{"$error":"#DIV/0!"}}]
[21,253,21,257,12,272,null,null,null,null,0,221,null,121,{"$f":"COUNTIF($L$7:$L$500,N9)","v":0},{"$f":"O9/$Q$4","v":0},{"$f":"IF(P9=0,0,(P9*((LOG(P9))/LOG(2))))","v":0},null,null,{"$f":"N9","v":121},{"$f":"COUNTIF(L7:L14,T9)","v":0},{"$f":"U9/(W4-U14)","v":0},{"$f":"IF(V9=0,0,(V9*((LOG(V9))/LOG(2))))","v":0},null,{"$f":"N9","v":121},{"$f":"COUNTIF(L15:L21,Y9)","v":0},{"$f":"Z9/(AB4-Z14)","v":{"$error":"#DIV/0!"}},{"$f":"IF(AA9=0,0,(AA9*((LOG(AA9))/LOG(2))))","v":{"$error":"#DIV/0!"}},null,{"$f":"N9","v":121},{"$f":"COUNTIF(L22:L29,AD9)","v":0},{"$f":"AE9/(AG4-AE14)","v":{"$error":"#DIV/0!"}},{"$f":"IF(AF9=0,0,(AF9*((LOG(AF9))/LOG(2))))","v":{"$error":"#DIV/0!"}},null,{"$f":"N9","v":121},{"$f":"COUNTIF(L30:L37,AI9)","v":0},{"$f":"AJ9/(AL4-AJ14)","v":{"$error":"#DIV/0!"}},{"$f":"IF(AK9=0,0,(AK9*((LOG(AK9))/LOG(2))))","v":{"$error":"#DIV/0!"}},null,{"$f":"N9","v":121},{"$f":"COUNTIF(L38:L44,AN9)","v":0},{"$f":"AO9/(AQ4-AO14)","v":{"$error":"#DIV/0!"}},{"$f":"IF(AP9=0,0,(AP9*((LOG(AP9))/LOG(2))))","v":{"$error":"#DIV/0!"}},null,{"$f":"N9","v":121},{"$f":"COUNTIF(L45:L52,AS9)","v":0},{"$f":"AT9/(AV4-AT14)","v":{"$error":"#DIV/0!"}},{"$f":"IF(AU9=0,0,(AU9*((LOG(AU9))/LOG(2))))","v":{"$error":"#DIV/0!"}}]
[12,371,23,383,23,387,null,null,null,null,0,122,null,122,{"$f":"COUNTIF($L$7:$L$500,N10)","v":2},{"$f":"O10/$Q$4","v":4.3478260869565216E-2},{"$f":"IF(P10=0,0,(P10*((LOG(P10))/LOG(2))))","v":-0.19667660678508753},null,null,{"$f":"N10","v":122},{"$f":"COUNTIF(L7:L14,T10)","v":2},{"$f":"U10/(W4-U14)","v":0.33333333333333331},{"$f":"IF(V10=0,0,(V10*((LOG(V10))/LOG(2))))","v":-0.52832083357371862},null,{"$f":"N10","v":122},{"$f":"COUNTIF(L15:L21,Y10)","v":0},{"$f":"Z10/(AB4-Z14)","v":{"$error":"#DIV/0!"}},{"$f":"IF(AA10=0,0,(AA10*((LOG(AA10))/LOG(2))))","v":{"$error":"#DIV/0!"}},null,{"$f":"N10","v":122},{"$f":"COUNTIF(L22:L29,AD10)","v":0},{"$f":"AE10/(AG4-AE14)","v":{"$error":"#DIV/0!"}},{"$f":"IF(AF10=0,0,(AF10*((LOG(AF10))/LOG(2))))","v":{"$error":"#DIV/0!"}},null,{"$f":"N10","v":122},{"$f":"COUNTIF(L30:L37,AI10)","v":0},{"$f":"AJ10/(AL4-AJ14)","v":{"$error":"#DIV/0!"}},{"$f":"IF(AK10=0,0,(AK10*((LOG(AK10))/LOG(2))))","v":{"$error":"#DIV/0!"}},null,{"$f":"N10","v":122},{"$f":"COUNTIF(L38:L44,AN10)","v":0},{"$f":"AO10/(AQ4-AO14)","v":{"$error":"#DIV/0!"}},{"$f":"IF(AP10=0,0,(AP10*((LOG(AP10))/LOG(2))))","v":{"$error":"#DIV/0!"}},null,{"$f":"N10","v":122},{"$f":"COUNTIF(L45:L52,AS10)","v":0},{"$f":"AT10/(AV4-AT14)","v":{"$error":"#DIV/0!"}},{"$f":"IF(AU10=0,0,(AU10*((LOG(AU10))/LOG(2))))","v":{"$error":"#DIV/0!"}}]
[21,486,21,495,12,505,null,null,null,null,0,221,null,211,{"$f":"COUNTIF($L$7:$L$500,N11)","v":0},{"$f":"O11/$Q$4","v":0},{"$f":"IF(P11=0,0,(P11*((LOG(P11))/LOG(2))))","v":0},null,null,{"$f":"N11","v":211},{"$f":"COUNTIF(L7:L14,T11)","v":0},{"$f":"U11/(W4-U14)","v":0},{"$f":"IF(V11=0,0,(V11*((LOG(V11))/LOG(2))))","v":0},null,{"$f":"N11","v":211},{"$f":"COUNTIF(L15:L21,Y11)","v":0},{"$f":"Z11/(AB4-Z14)","v":{"$error":"#DIV/0!"}},{"$f":"IF(AA11=0,0,(AA11*((LOG(AA11))/LOG(2))))","v":{"$error":"#DIV/0!"}},null,{"$f":"N11","v":211},{"$f":"COUNTIF(L22:L29,AD11)","v":0},{"$f":"AE11/(AG4-AE14)","v":{"$error":"#DIV/0!"}},{"$f":"IF(AF11=0,0,(AF11*((LOG(AF11))/LOG(2))))","v":{"$error":"#DIV/0!"}},null,{"$f":"N11","v":211},{"$f":"COUNTIF(L30:L37,AI11)","v":0},{"$f":"AJ11/(AL4-AJ14)","v":{"$error":"#DIV/0!"}},{"$f":"IF(AK11=0,0,(AK11*((LOG(AK11))/LOG(2))))","v":{"$error":"#DIV/0!"}},null,{"$f":"N11","v":211},{"$f":"COUNTIF(L38:L44,AN11)","v":0},{"$f":"AO11/(AQ4-AO14)","v":{"$error":"#DIV/0!"}},{"$f":"IF(AP11=0,0,(AP11*((LOG(AP11))/LOG(2))))","v":{"$error":"#DIV/0!"}},null,{"$f":"N11","v":211},{"$f":"COUNTIF(L45:L52,AS11)","v":0},{"$f":"AT11/(AV4-AT14)","v":{"$error":"#DIV/0!"}},{"$f":"IF(AU11=0,0,(AU11*((LOG(AU11))/LOG(2))))","v":{"$error":"#DIV/0!"}}]
[21,601,21,606,21,613,null,null,null,null,0,222,null,212,{"$f":"COUNTIF($L$7:$L$500,N12)","v":1},{"$f":"O12/$Q$4","v":2.1739130434782608E-2},{"$f":"IF(P12=0,0,(P12*((LOG(P12))/LOG(2))))","v":-0.12007743382732637},null,null,{"$f":"N12","v":212},{"$f":"COUNTIF(L7:L14,T12)","v":1},{"$f":"U12/(W4-U14)","v":0.16666666666666666},{"$f":"IF(V12=0,0,(V12*((LOG(V12))/LOG(2))))","v":-0.43082708345352599},null,{"$f":"N12","v":212},{"$f":"COUNTIF(L15:L21,Y12)","v":0},{"$f":"Z12/(AB4-Z14)","v":{"$error":"#DIV/0!"}},{"$f":"IF(AA12=0,0,(AA12*((LOG(AA12))/LOG(2))))","v":{"$error":"#DIV/0!"}},null,{"$f":"N12","v":212},{"$f":"COUNTIF(L22:L29,AD12)","v":0},{"$f":"AE12/(AG4-AE14)","v":{"$error":"#DIV/0!"}},{"$f":"IF(AF12=0,0,(AF12*((LOG(AF12))/LOG(2))))","v":{"$error":"#DIV/0!"}},null,{"$f":"N12","v":212},{"$f":"COUNTIF(L30:L37,AI12)","v":0},{"$f":"AJ12/(AL4-AJ14)","v":{"$error":"#DIV/0!"}},{"$f":"IF(AK12=0,0,(AK12*((LOG(AK12))/LOG(2))))","v":{"$error":"#DIV/0!"}},null,{"$f":"N12","v":212},{"$f":"COUNTIF(L38:L44,AN12)","v":0},{"$f":"AO12/(AQ4-AO14)","v":{"$error":"#DIV/0!"}},{"$f":"IF(AP12=0,0,(AP12*((LOG(AP12))/LOG(2))))","v":{"$error":"#DIV/0!"}},null,{"$f":"N12","v":212},{"$f":"COUNTIF(L45:L52,AS12)","v":0},{"$f":"AT12/(AV4-AT14)","v":{"$error":"#DIV/0!"}},{"$f":"IF(AU12=0,0,(AU12*((LOG(AU12))/LOG(2))))","v":{"$error":"#DIV/0!"}}]
[21,769,21,775,21,785,null,null,null,null,0,222,null,221,{"$f":"COUNTIF($L$7:$L$500,N13)","v":3},{"$f":"O13/$Q$4","v":6.5217391304347824E-2},{"$f":"IF(P13=0,0,(P13*((LOG(P13))/LOG(2))))","v":-0.25686518186972979},null,null,{"$f":"N13","v":221},{"$f":"COUNTIF(L7:L14,T13)","v":3},{"$f":"U13/(W4-U14)","v":0.5},{"$f":"IF(V13=0,0,(V13*((LOG(V13))/LOG(2))))","v":-0.5},null,{"$f":"N13","v":221},{"$f":"COUNTIF(L15:L21,Y13)","v":0},{"$f":"Z13/(AB4-Z14)","v":{"$error":"#DIV/0!"}},{"$f":"IF(AA13=0,0,(AA13*((LOG(AA13))/LOG(2))))","v":{"$error":"#DIV/0!"}},null,{"$f":"N13","v":221},{"$f":"COUNTIF(L22:L29,AD13)","v":0},{"$f":"AE13/(AG4-AE14)","v":{"$error":"#DIV/0!"}},{"$f":"IF(AF13=0,0,(AF13*((LOG(AF13))/LOG(2))))","v":{"$error":"#DIV/0!"}},null,{"$f":"N13","v":221},{"$f":"COUNTIF(L30:L37,AI13)","v":0},{"$f":"AJ13/(AL4-AJ14)","v":{"$error":"#DIV/0!"}},{"$f":"IF(AK13=0,0,(AK13*((LOG(AK13))/LOG(2))))","v":{"$error":"#DIV/0!"}},null,{"$f":"N13","v":221},{"$f":"COUNTIF(L38:L44,AN13)","v":0},{"$f":"AO13/(AQ4-AO14)","v":{"$error":"#DIV/0!"}},{"$f":"IF(AP13=0,0,(AP13*((LOG(AP13))/LOG(2))))","v":{"$error":"#DIV/0!"}},null,{"$f":"N13","v":221},{"$f":"COUNTIF(L45:L52,AS13)","v":0},{"$f":"AT13/(AV4-AT14)","v":{"$error":"#DIV/0!"}},{"$f":"IF(AU13=0,0,(AU13*((LOG(AU13))/LOG(2))))","v":{"$error":"#DIV/0!"}}]
[21,922,21,935,12,1012,null,null,null,null,0,221,null,222,{"$f":"COUNTIF($L$7:$L$500,N14)","v":40},{"$f":"O14/$Q$4","v":0.86956521739130432},{"$f":"IF(P14=0,0,(P14*((LOG(P14))/LOG(2))))","v":-0.17533379232143528},null,null,{"$f":"N14","v":222},{"$f":"COUNTIF(L7:L14,T14)","v":2},null,null,null,{"$f":"N14","v":222},{"$f":"COUNTIF(L15:L21,Y14)","v":7},null,null,null,{"$f":"N14","v":222},{"$f":"COUNTIF(L22:L29,AD14)","v":8},null,null,null,{"$f":"N14","v":222},{"$f":"COUNTIF(L30:L37,AI14)","v":8},null,null,null,{"$f":"N14","v":222},{"$f":"COUNTIF(L38:L44,AN14)","v":7},null,null,null,{"$f":"N14","v":222},{"$f":"COUNTIF(L45:L52,AS14)","v":8}]
[21,1108,21,1112,21,1118,null,null,null,null,0,222,null,null,null,{"$f":"SUM(P7:P14)","v":1},{"$f":"-SUM(Q7:Q14)","v":0.74895301480357901},null,null,null,null,{"$f":"SUM(V7:V14)","v":1},{"$f":"-SUM(W7:W14)","v":1.4591479170272446},null,null,null,{"$f":"SUM(AA7:AA14)","v":{"$error":"#DIV/0!"}},{"$f":"-SUM(AB7:AB14)","v":{"$error":"#DIV/0!"}},null,null,null,{"$f":"SUM(AF7:AF14)","v":{"$error":"#DIV/0!"}},{"$f":"-SUM(AG7:AG14)","v":{"$error":"#DIV/0!"}},null,null,null,{"$f":"SUM(AK7:AK14)","v":{"$error":"#DIV/0!"}},{"$f":"-SUM(AL7:AL14)","v":{"$error":"#DIV/0!"}},null,null,null,{"$f":"SUM(AP7:AP14)","v":{"$error":"#DIV/0!"}},{"$f":"-SUM(AQ7:AQ14)","v":{"$error":"#DIV/0!"}},null,null,null,{"$f":"SUM(AU7:AU14)","v":{"$error":"#DIV/0!"}},{"$f":"-SUM(AV7:AV14)","v":{"$error":"#DIV/0!"}}]
[21,1212,21,1218,21,1225,null,null,null,null,0,222,null,null,null,"U=",{"$f":"Q15/(LOG(Q4)/LOG(2))","v":0.13559239866627984},null,null,null,null,"U1=",{"$f":"W15/(LOG(W4)/LOG(2))","v":0.48638263900908152},null,null,null,"U2=",{"$f":"AB15/(LOG(AB4)/LOG(2))","v":{"$error":"#DIV/0!"}},null,null,null,"U3=",{"$f":"AG15/(LOG(AG4)/LOG(2))","v":{"$error":"#DIV/0!"}},null,null,null,"U4=",{"$f":"AL15/(LOG(AL4)/LOG(2))","v":{"$error":"#DIV/0!"}},null,null,null,"U5=",{"$f":"AQ15/(LOG(AQ4)/LOG(2))","v":{"$error":"#DIV/0!"}},null,null,null,"U6=",{"$f":"AV15/(LOG(AV4)/LOG(2))","v":{"$error":"#DIV/0!"}}]
[21,1333,21,1339,21,1345,null,null,null,null,0,222]
[21,1443,21,1454,21,1465,null,null,null,null,0,222]
[21,1564,21,1573,21,1586,null,null,null,null,0,222,null,"Total Target Seq"]
[21,1679,21,1724,21,1736,null,null,null,null,0,222,null,{"$f":"COUNTIF(L7:L52,G3)","v":40},null,8,7,8,8,7,8]
[21,1849,21,1859,21,1878,null,null,null,null,0,222,null,null,null,"% of reinforcement given in 6 equal intervals based on number of trials "]
[21,1979,21,1997,21,2005,null,null,null,null,0,222,null,null,null,"%_1","%_2","%_3","%_4","%_5","%_6"]
[21,2099,21,2115,21,2125,null,null,null,null,0,222,null,null,"target sequence",{"$f":"$G$3","v":222},{"$f":"$G$3","v":222},{"$f":"$G$3","v":222},{"$f":"$G$3","v":222},{"$f":"$G$3","v":222},{"$f":"$G$3","v":222}]
[21,2230,21,2235,21,2250,null,null,null,null,0,222,null,null,"total reinforcement",{"$f":"U14","v":2},{"$f":"Z14","v":7},{"$f":"AE14","v":8},{"$f":"AJ14","v":8},{"$f":"AO14","v":7},{"$f":"AT14","v":8}]
[21,2343,21,2356,21,2363,null,null,null,null,0,222,null,null,"% target"]
[21,2455,21,2468,21,2481,null,null,null,null,0,222,null,null,"CCRF"]
[21,2596,21,2607,21,2622,null,null,null,null,0,222,null,null,"% CCRf"]
[21,2728,21,2733,21,2783,null,null,null,null,0,222,null,null,"average response rate",{"$f":"F14/P20","v":126.5},{"$f":"(F21-F14)/Q20","v":123.71428571428571},{"$f":"(F29-F21)/R20","v":128.75},{"$f":"(F37-F29)/S20","v":143.875},{"$f":"(F44-F37)/T20","v":141.28571428571428},{"$f":"(F52-F44)/U20","v":151}]
[21,2893,21,2900,21,2908,null,null,null,null,0,222]
[21,3005,21,3015,21,3046,null,null,null,null,0,222]
[21,3145,21,3152,21,3161,null,null,null,null,0,222]
[21,3319,21,3326,21,3332,null,null,null,null,0,222]
[21,3477,21,3486,21,3500,null,null,null,null,0,222]
[21,3602,21,3610,21,3638,null,null,null,null,0,222]
[21,3773,21,3784,21,3793,null,null,null,null,0,222]
[21,3908,21,3915,21,3921,null,null,null,null,0,222]
[21,4015,21,4027,21,4059,null,null,null,null,0,222]
[21,4189,21,4198,21,4205,null,null,null,null,0,222]
[21,4297,21,4304,21,4310,null,null,null,null,0,222]
[21,4445,21,4451,21,4458,null,null,null,null,0,222]
[21,4584,21,4604,21,4619,null,null,null,null,0,222]
[21,4757,21,4782,21,4799,null,null,null,null,0,222]
[21,4898,21,4904,21,4913,null,null,null,null,0,222]
[21,5009,21,5014,21,5048,null,null,null,null,0,222]
[21,5221,21,5229,21,5242,null,null,null,null,0,222]
[21,5360,21,5364,21,5374,null,null,null,null,0,222]
[21,5531,21,5533,21,5539,null,null,null,null,0,222]
[21,5678,21,5684,21,5702,null,null,null,null,0,222]
[21,5796,21,5806,21,5835,null,null,null,null,0,222]
[21,5963,21,5970,21,5996,null,null,null,null,0,222]
[21,6100,21,6110,21,6115,null,null,null,null,0,222]
[21,6238,21,6244,21,6256,null,null,null,null,1,222]

{"sheet":"!M313A5I.sha","index":6,"n_rows":47,"n_cols":48,"rows_kept":47,"cut":false,"hidden":false,"merged":[[4,39,4,42],[5,39,5,40],[4,44,4,47],[5,44,5,45],[4,24,4,27],[5,24,5,25],[4,29,4,32],[5,29,5,30],[4,34,4,37],[5,34,5,35],[1,1,1,2],[5,13,5,14],[18,13,18,14],[19,13,19,14],[4,19,4,22],[5,19,5,20]]}
["Report for:!M313A5I.sha"]
["Date:","<date>"]
["Hen:","<hen>",null,null,null,"Correct Sequence",{"$f":"Start!J2","v":222},null,null,null,null,null,null,null,null,"Total Sequences in Data",{"$f":"4994-COUNTBLANK(L7:L5000)","v":41},null,null,null,null,"Total Sequences in Block Data",{"$f":"COUNTA(L7:L13)","v":7},null,null,null,"Total Sequences in Block Data",{"$f":"COUNTA(L14:L20)","v":7},null,null,null,"Total Sequences in Block Data",{"$f":"COUNTA(L21:L26)","v":6},null,null,null,"Total Sequences in Block Data",{"$f":"COUNTA(L27:L33)","v":7},null,null,null,"Total Sequences in Block Data",{"$f":"COUNTA(L34:L40)","v":7},null,null,null,"Total Sequences in Block Data",{"$f":"COUNTA(L41:L47)","v":7}]
[null,null,null,null,null,null,null,null,null,null,null,null,null,null,null,"Total Sequences in Summary",{"$f":"SUM(O7:O14)","v":41},null,null,null,null,"Total Sequences in Block Summary",{"$f":"SUM(U7:U14)","v":7},null,null,null,"Total Sequences in Block Summary",{"$f":"SUM(Z7:Z14)","v":7},null,null,null,"Total Sequences in Block Summary",{"$f":"SUM(AE7:AE14)","v":6},null,null,null,"Total Sequences in Block Summary",{"$f":"SUM(AJ7:AJ14)","v":7},null,null,null,"Total Sequences in Block Summary",{"$f":"SUM(AO7:AO14)","v":7},null,null,null,"Total Sequences in Block Summary",{"$f":"SUM(AT7:AT14)","v":7}]
[null,null,null,null,null,null,null,null,null,null,null,null,null,null,null,null,null,null,null,"Block 1",null,null,null,null,"Block 2",null,null,null,null,"Block 3",null,null,null,null,"Block 4",null,null,null,null,"Block 5",null,null,null,null,"Block 6"]
["Sequence\nComponent\n1","Time\n1","Sequence\nComponent\n2","Time\n2","Sequence\nComponent\n3","Time\n3","Sequence\nComponent\n4","Time\n4","Sequence\nComponent\n5","Time\n5","Correct?\n0=No 1=Yes","Sequence",null,"Frequency",null,"Relative Frequency","Variability",null,null,"Frequency",null,"Relative Frequency","Variability",null,"Frequency",null,"Relative Frequency","Variability",null,"Frequency",null,"Relative Frequency","Variability",null,"Frequency",null,"Relative Frequency","Variability",null,"Frequency",null,"Relative Frequency","Variability",null,"Frequency",null,"Relative Frequency","Variability"]
[21,25,21,30,21,34,null,null,null,null,0,222,null,111,{"$f":"COUNTIF($L$7:$L$500,N7)","v":0},{"$f":"O7/$Q$4","v":0},{"$f":"IF(P7=0,0,(P7*((LOG(P7))/LOG(2))))","v":0},null,null,{"$f":"N7","v":111},{"$f":"COUNTIF(L7:L13,T7)","v":0},{"$f":"U7/(W4-U14)","v":{"$error":"#DIV/0!"}},{"$f":"IF(V7=0,0,(V7*((LOG(V7))/LOG(2))))","v":{"$error":"#DIV/0!"}},null,{"$f":"N7","v":111},{"$f":"COUNTIF(L14:L20,Y7)","v":0},{"$f":"Z7/(AB4-Z14)","v":{"$error":"#DIV/0!"}},{"$f":"IF(AA7=0,0,(AA7*((LOG(AA7))/LOG(2))))","v":{"$error":"#DIV/0!"}},null,{"$f":"N7","v":111},{"$f":"COUNTIF(L21:L26,AD7)","v":0},{"$f":"AE7/(AG4-AE14)","v":0},{"$f":"IF(AF7=0,0,(AF7*((LOG(AF7))/LOG(2))))","v":0},null,{"$f":"N7","v":111},{"$f":"COUNTIF(L27:L33,AI7)","v":0},{"$f":"AJ7/(AL4-AJ14)","v":{"$error":"#DIV/0!"}},{"$f":"IF(AK7=0,0,(AK7*((LOG(AK7))/LOG(2))))","v":{"$error":"#DIV/0!"}},null,{"$f":"N7","v":111},{"$f":"COUNTIF(L34:L40,AN7)","v":0},{"$f":"AO7/(AQ4-AO14)","v":{"$error":"#DIV/0!"}},{"$f":"IF(AP7=0,0,(AP7*((LOG(AP7))/LOG(2))))","v":{"$error":"#DIV/0!"}},null,{"$f":"N7","v":111},{"$f":"COUNTIF(L41:L47,AS7)","v":0},{"$f":"AT7/(AV4-AT14)","v":{"$error":"#DIV/0!"}},{"$f":"IF(AU7=0,0,(AU7*((LOG(AU7))/LOG(2))))","v":{"$error":"#DIV/0!"}}]
[21,187,21,211,21,234,null,null,null,null,0,222,null,112,{"$f":"COUNTIF($L$7:$L$500,N8)","v":0},{"$f":"O8/$Q$4","v":0},{"$f":"IF(P8=0,0,(P8*((LOG(P8))/LOG(2))))","v":0},null,null,{"$f":"N8","v":112},{"$f":"COUNTIF(L7:L13,T8)","v":0},{"$f":"U8/(W4-U14)","v":{"$error":"#DIV/0!"}},{"$f":"IF(V8=0,0,(V8*((LOG(V8))/LOG(2))))","v":{"$error":"#DIV/0!"}},null,{"$f":"N8","v":112},{"$f":"COUNTIF(L14:L20,Y8)","v":0},{"$f":"Z8/(AB4-Z14)","v":{"$error":"#DIV/0!"}},{"$f":"IF(AA8=0,0,(AA8*((LOG(AA8))/LOG(2))))","v":{"$error":"#DIV/0!"}},null,{"$f":"N8","v":112},{"$f":"COUNTIF(L21:L26,AD8)","v":0},{"$f":"AE8/(AG4-AE14)","v":0},{"$f":"IF(AF8=0,0,(AF8*((LOG(AF8))/LOG(2))))","v":0},null,{"$f":"N8","v":112},{"$f":"COUNTIF(L27:L33,AI8)","v":0},{"$f":"AJ8/(AL4-AJ14)","v":{"$error":"#DIV/0!"}},{"$f":"IF(AK8=0,0,(AK8*((LOG(AK8))/LOG(2))))","v":{"$error":"#DIV/0!"}},null,{"$f":"N8","v":112},{"$f":"COUNTIF(L34:L40,AN8)","v":0},{"$f":"AO8/(AQ4-AO14)","v":{"$error":"#DIV/0!"}},{"$f":"IF(AP8=0,0,(AP8*((LOG(AP8))/LOG(2))))","v":{"$error":"#DIV/0!"}},null,{"$f":"N8","v":112},{"$f":"COUNTIF(L41:L47,AS8)","v":0},{"$f":"AT8/(AV4-AT14)","v":{"$error":"#DIV/0!"}},{"$f":"IF(AU8=0,0,(AU8*((LOG(AU8))/LOG(2))))","v":{"$error":"#DIV/0!"}}]
[21,369,21,378,21,387,null,null,null,null,0,222,null,121,{"$f":"COUNTIF($L$7:$L$500,N9)","v":0},{"$f":"O9/$Q$4","v":0},{"$f":"IF(P9=0,0,(P9*((LOG(P9))/LOG(2))))","v":0},null,null,{"$f":"N9","v":121},{"$f":"COUNTIF(L7:L13,T9)","v":0},{"$f":"U9/(W4-U14)","v":{"$error":"#DIV/0!"}},{"$f":"IF(V9=0,0,(V9*((LOG(V9))/LOG(2))))","v":{"$error":"#DIV/0!"}},null,{"$f":"N9","v":121},{"$f":"COUNTIF(L14:L20,Y9)","v":0},{"$f":"Z9/(AB4-Z14)","v":{"$error":"#DIV/0!"}},{"$f":"IF(AA9=0,0,(AA9*((LOG(AA9))/LOG(2))))","v":{"$error":"#DIV/0!"}},null,{"$f":"N9","v":121},{"$f":"COUNTIF(L21:L26,AD9)","v":0},{"$f":"AE9/(AG4-AE14)","v":0},{"$f":"IF(AF9=0,0,(AF9*((LOG(AF9))/LOG(2))))","v":0},null,{"$f":"N9","v":121},{"$f":"COUNTIF(L27:L33,AI9)","v":0},{"$f":"AJ9/(AL4-AJ14)","v":{"$error":"#DIV/0!"}},{"$f":"IF(AK9=0,0,(AK9*((LOG(AK9))/LOG(2))))","v":{"$error":"#DIV/0!"}},null,{"$f":"N9","v":121},{"$f":"COUNTIF(L34:L40,AN9)","v":0},{"$f":"AO9/(AQ4-AO14)","v":{"$error":"#DIV/0!"}},{"$f":"IF(AP9=0,0,(AP9*((LOG(AP9))/LOG(2))))","v":{"$error":"#DIV/0!"}},null,{"$f":"N9","v":121},{"$f":"COUNTIF(L41:L47,AS9)","v":0},{"$f":"AT9/(AV4-AT14)","v":{"$error":"#DIV/0!"}},{"$f":"IF(AU9=0,0,(AU9*((LOG(AU9))/LOG(2))))","v":{"$error":"#DIV/0!"}}]
[21,538,21,600,21,619,null,null,null,null,0,222,null,122,{"$f":"COUNTIF($L$7:$L$500,N10)","v":0},{"$f":"O10/$Q$4","v":0},{"$f":"IF(P10=0,0,(P10*((LOG(P10))/LOG(2))))","v":0},null,null,{"$f":"N10","v":122},{"$f":"COUNTIF(L7:L13,T10)","v":0},{"$f":"U10/(W4-U14)","v":{"$error":"#DIV/0!"}},{"$f":"IF(V10=0,0,(V10*((LOG(V10))/LOG(2))))","v":{"$error":"#DIV/0!"}},null,{"$f":"N10","v":122},{"$f":"COUNTIF(L14:L20,Y10)","v":0},{"$f":"Z10/(AB4-Z14)","v":{"$error":"#DIV/0!"}},{"$f":"IF(AA10=0,0,(AA10*((LOG(AA10))/LOG(2))))","v":{"$error":"#DIV/0!"}},null,{"$f":"N10","v":122},{"$f":"COUNTIF(L21:L26,AD10)","v":0},{"$f":"AE10/(AG4-AE14)","v":0},{"$f":"IF(AF10=0,0,(AF10*((LOG(AF10))/LOG(2))))","v":0},null,{"$f":"N10","v":122},{"$f":"COUNTIF(L27:L33,AI10)","v":0},{"$f":"AJ10/(AL4-AJ14)","v":{"$error":"#DIV/0!"}},{"$f":"IF(AK10=0,0,(AK10*((LOG(AK10))/LOG(2))))","v":{"$error":"#DIV/0!"}},null,{"$f":"N10","v":122},{"$f":"COUNTIF(L34:L40,AN10)","v":0},{"$f":"AO10/(AQ4-AO14)","v":{"$error":"#DIV/0!"}},{"$f":"IF(AP10=0,0,(AP10*((LOG(AP10))/LOG(2))))","v":{"$error":"#DIV/0!"}},null,{"$f":"N10","v":122},{"$f":"COUNTIF(L41:L47,AS10)","v":0},{"$f":"AT10/(AV4-AT14)","v":{"$error":"#DIV/0!"}},{"$f":"IF(AU10=0,0,(AU10*((LOG(AU10))/LOG(2))))","v":{"$error":"#DIV/0!"}}]
[21,727,21,734,21,768,null,null,null,null,0,222,null,211,{"$f":"COUNTIF($L$7:$L$500,N11)","v":0},{"$f":"O11/$Q$4","v":0},{"$f":"IF(P11=0,0,(P11*((LOG(P11))/LOG(2))))","v":0},null,null,{"$f":"N11","v":211},{"$f":"COUNTIF(L7:L13,T11)","v":0},{"$f":"U11/(W4-U14)","v":{"$error":"#DIV/0!"}},{"$f":"IF(V11=0,0,(V11*((LOG(V11))/LOG(2))))","v":{"$error":"#DIV/0!"}},null,{"$f":"N11","v":211},{"$f":"COUNTIF(L14:L20,Y11)","v":0},{"$f":"Z11/(AB4-Z14)","v":{"$error":"#DIV/0!"}},{"$f":"IF(AA11=0,0,(AA11*((LOG(AA11))/LOG(2))))","v":{"$error":"#DIV/0!"}},null,{"$f":"N11","v":211},{"$f":"COUNTIF(L21:L26,AD11)","v":0},{"$f":"AE11/(AG4-AE14)","v":0},{"$f":"IF(AF11=0,0,(AF11*((LOG(AF11))/LOG(2))))","v":0},null,{"$f":"N11","v":211},{"$f":"COUNTIF(L27:L33,AI11)","v":0},{"$f":"AJ11/(AL4-AJ14)","v":{"$error":"#DIV/0!"}},{"$f":"IF(AK11=0,0,(AK11*((LOG(AK11))/LOG(2))))","v":{"$error":"#DIV/0!"}},null,{"$f":"N11","v":211},{"$f":"COUNTIF(L34:L40,AN11)","v":0},{"$f":"AO11/(AQ4-AO14)","v":{"$error":"#DIV/0!"}},{"$f":"IF(AP11=0,0,(AP11*((LOG(AP11))/LOG(2))))","v":{"$error":"#DIV/0!"}},null,{"$f":"N11","v":211},{"$f":"COUNTIF(L41:L47,AS11)","v":0},{"$f":"AT11/(AV4-AT14)","v":{"$error":"#DIV/0!"}},{"$f":"IF(AU11=0,0,(AU11*((LOG(AU11))/LOG(2))))","v":{"$error":"#DIV/0!"}}]
[21,867,21,873,21,889,null,null,null,null,0,222,null,212,{"$f":"COUNTIF($L$7:$L$500,N12)","v":0},{"$f":"O12/$Q$4","v":0},{"$f":"IF(P12=0,0,(P12*((LOG(P12))/LOG(2))))","v":0},null,null,{"$f":"N12","v":212},{"$f":"COUNTIF(L7:L13,T12)","v":0},{"$f":"U12/(W4-U14)","v":{"$error":"#DIV/0!"}},{"$f":"IF(V12=0,0,(V12*((LOG(V12))/LOG(2))))","v":{"$error":"#DIV/0!"}},null,{"$f":"N12","v":212},{"$f":"COUNTIF(L14:L20,Y12)","v":0},{"$f":"Z12/(AB4-Z14)","v":{"$error":"#DIV/0!"}},{"$f":"IF(AA12=0,0,(AA12*((LOG(AA12))/LOG(2))))","v":{"$error":"#DIV/0!"}},null,{"$f":"N12","v":212},{"$f":"COUNTIF(L21:L26,AD12)","v":0},{"$f":"AE12/(AG4-AE14)","v":0},{"$f":"IF(AF12=0,0,(AF12*((LOG(AF12))/LOG(2))))","v":0},null,{"$f":"N12","v":212},{"$f":"COUNTIF(L27:L33,AI12)","v":0},{"$f":"AJ12/(AL4-AJ14)","v":{"$error":"#DIV/0!"}},{"$f":"IF(AK12=0,0,(AK12*((LOG(AK12))/LOG(2))))","v":{"$error":"#DIV/0!"}},null,{"$f":"N12","v":212},{"$f":"COUNTIF(L34:L40,AN12)","v":0},{"$f":"AO12/(AQ4-AO14)","v":{"$error":"#DIV/0!"}},{"$f":"IF(AP12=0,0,(AP12*((LOG(AP12))/LOG(2))))","v":{"$error":"#DIV/0!"}},null,{"$f":"N12","v":212},{"$f":"COUNTIF(L41:L47,AS12)","v":0},{"$f":"AT12/(AV4-AT14)","v":{"$error":"#DIV/0!"}},{"$f":"IF(AU12=0,0,(AU12*((LOG(AU12))/LOG(2))))","v":{"$error":"#DIV/0!"}}]
[21,1029,21,1035,21,1041,null,null,null,null,0,222,null,221,{"$f":"COUNTIF($L$7:$L$500,N13)","v":1},{"$f":"O13/$Q$4","v":2.4390243902439025E-2},{"$f":"IF(P13=0,0,(P13*((LOG(P13))/LOG(2))))","v":-0.13067200011263619},null,null,{"$f":"N13","v":221},{"$f":"COUNTIF(L7:L13,T13)","v":0},{"$f":"U13/(W4-U14)","v":{"$error":"#DIV/0!"}},{"$f":"IF(V13=0,0,(V13*((LOG(V13))/LOG(2))))","v":{"$error":"#DIV/0!"}},null,{"$f":"N13","v":221},{"$f":"COUNTIF(L14:L20,Y13)","v":0},{"$f":"Z13/(AB4-Z14)","v":{"$error":"#DIV/0!"}},{"$f":"IF(AA13=0,0,(AA13*((LOG(AA13))/LOG(2))))","v":{"$error":"#DIV/0!"}},null,{"$f":"N13","v":221},{"$f":"COUNTIF(L21:L26,AD13)","v":1},{"$f":"AE13/(AG4-AE14)","v":1},{"$f":"IF(AF13=0,0,(AF13*((LOG(AF13))/LOG(2))))","v":0},null,{"$f":"N13","v":221},{"$f":"COUNTIF(L27:L33,AI13)","v":0},{"$f":"AJ13/(AL4-AJ14)","v":{"$error":"#DIV/0!"}},{"$f":"IF(AK13=0,0,(AK13*((LOG(AK13))/LOG(2))))","v":{"$error":"#DIV/0!"}},null,{"$f":"N13","v":221},{"$f":"COUNTIF(L34:L40,AN13)","v":0},{"$f":"AO13/(AQ4-AO14)","v":{"$error":"#DIV/0!"}},{"$f":"IF(AP13=0,0,(AP13*((LOG(AP13))/LOG(2))))","v":{"$error":"#DIV/0!"}},null,{"$f":"N13","v":221},{"$f":"COUNTIF(L41:L47,AS13)","v":0},{"$f":"AT13/(AV4-AT14)","v":{"$error":"#DIV/0!"}},{"$f":"IF(AU13=0,0,(AU13*((LOG(AU13))/LOG(2))))","v":{"$error":"#DIV/0!"}}]
[21,1264,21,1279,21,1290,null,null,null,null,0,222,null,222,{"$f":"COUNTIF($L$7:$L$500,N14)","v":40},{"$f":"O14/$Q$4","v":0.97560975609756095},{"$f":"IF(P14=0,0,(P14*((LOG(P14))/LOG(2))))","v":-3.4755033883630611E-2},null,null,{"$f":"N14","v":222},{"$f":"COUNTIF(L7:L13,T14)","v":7},null,null,null,{"$f":"N14","v":222},{"$f":"COUNTIF(L14:L20,Y14)","v":7},null,null,null,{"$f":"N14","v":222},{"$f":"COUNTIF(L21:L26,AD14)","v":5},null,null,null,{"$f":"N14","v":222},{"$f":"COUNTIF(L27:L33,AI14)","v":7},null,null,null,{"$f":"N14","v":222},{"$f":"COUNTIF(L34:L40,AN14)","v":7},null,null,null,{"$f":"N14","v":222},{"$f":"COUNTIF(L41:L47,AS14)","v":7}]
[21,1499,21,1507,21,1513,null,null,null,null,0,222,null,null,null,{"$f":"SUM(P7:P14)","v":1},{"$f":"-SUM(Q7:Q14)","v":0.16542703399626679},null,null,null,null,{"$f":"SUM(V7:V14)","v":{"$error":"#DIV/0!"}},{"$f":"-SUM(W7:W14)","v":{"$error":"#DIV/0!"}},null,null,null,{"$f":"SUM(AA7:AA14)","v":{"$error":"#DIV/0!"}},{"$f":"-SUM(AB7:AB14)","v":{"$error":"#DIV/0!"}},null,null,null,{"$f":"SUM(AF7:AF14)","v":1},{"$f":"-SUM(AG7:AG14)","v":0},null,null,null,{"$f":"SUM(AK7:AK14)","v":{"$error":"#DIV/0!"}},{"$f":"-SUM(AL7:AL14)","v":{"$error":"#DIV/0!"}},null,null,null,{"$f":"SUM(AP7:AP14)","v":{"$error":"#DIV/0!"}},{"$f":"-SUM(AQ7:AQ14)","v":{"$error":"#DIV/0!"}},null,null,null,{"$f":"SUM(AU7:AU14)","v":{"$error":"#DIV/0!"}},{"$f":"-SUM(AV7:AV14)","v":{"$error":"#DIV/0!"}}]
[21,1604,21,1676,21,1686,null,null,null,null,0,222,null,null,null,"U=",{"$f":"Q15/(LOG(Q4)/LOG(2))","v":3.0877354779509855E-2},null,null,null,null,"U1=",{"$f":"W15/(LOG(W4)/LOG(2))","v":{"$error":"#DIV/0!"}},null,null,null,"U2=",{"$f":"AB15/(LOG(AB4)/LOG(2))","v":{"$error":"#DIV/0!"}},null,null,null,"U3=",{"$f":"AG15/(LOG(AG4)/LOG(2))","v":0},null,null,null,"U4=",{"$f":"AL15/(LOG(AL4)/LOG(2))","v":{"$error":"#DIV/0!"}},null,null,null,"U5=",{"$f":"AQ15/(LOG(AQ4)/LOG(2))","v":{"$error":"#DIV/0!"}},null,null,null,"U6=",{"$f":"AV15/(LOG(AV4)/LOG(2))","v":{"$error":"#DIV/0!"}}]
[21,1787,21,1824,21,1850,null,null,null,null,0,222]
[21,1957,21,1964,21,1984,null,null,null,null,0,222]
[21,2095,21,2121,21,2131,null,null,null,null,0,222,null,"Total Target Seq"]
[21,2223,21,2228,21,2239,null,null,null,null,0,222,null,{"$f":"COUNTIF(L7:L47,G3)","v":40},null,7,7,6,7,7,7]
[21,2345,21,2355,21,2410,null,null,null,null,0,222,null,null,null,"% of reinforcement given in 6 equal intervals based on number of trials "]
[21,2506,21,2520,21,2558,null,null,null,null,0,222,null,null,null,"%_1","%_2","%_3","%_4","%_5","%_6"]
[21,2652,21,2665,12,2726,null,null,null,null,0,221,null,null,"target sequence",{"$f":"$G$3","v":222},{"$f":"$G$3","v":222},{"$f":"$G$3","v":222},{"$f":"$G$3","v":222},{"$f":"$G$3","v":222},{"$f":"$G$3","v":222}]
[21,2825,21,2829,21,2835,null,null,null,null,0,222,null,null,"total reinforcement",{"$f":"U14","v":7},{"$f":"Z14","v":7},{"$f":"AE14","v":5},{"$f":"AJ14","v":7},{"$f":"AO14","v":7},{"$f":"AT14","v":7}]
[21,2967,21,2978,21,3020,null,null,null,null,0,222,null,null,"% target"]
[21,3117,21,3143,21,3159,null,null,null,null,0,222,null,null,"CCRF"]
[21,3252,21,3259,21,3273,null,null,null,null,0,222,null,null,"% CCRf"]
[21,3388,21,3420,21,3436,null,null,null,null,0,222,null,null,"average response rate",{"$f":"F13/P20","v":148.71428571428572},{"$f":"(F20-F13)/Q20","v":171.14285714285714},{"$f":"(F26-F20)/R20","v":153.33333333333334},{"$f":"(F33-F26)/S20","v":144.14285714285714},{"$f":"(F40-F33)/T20","v":151.71428571428572},{"$f":"(F47-F40)/U20","v":175.28571428571428}]
[21,3555,21,3563,21,3584,null,null,null,null,0,222]
[21,3682,21,3694,21,3724,null,null,null,null,0,222]
[21,3872,21,3883,21,3898,null,null,null,null,0,222]
[21,4031,21,4047,21,4053,null,null,null,null,0,222]
[21,4152,21,4158,21,4168,null,null,null,null,0,222]
[21,4275,21,4303,21,4326,null,null,null,null,0,222]
[21,4432,21,4438,21,4448,null,null,null,null,0,222]
[21,4578,21,4584,21,4593,null,null,null,null,0,222]
[21,4736,21,4775,21,4798,null,null,null,null,0,222]
[21,4892,21,4900,21,4906,null,null,null,null,0,222]
[21,5044,21,5056,21,5069,null,null,null,null,0,222]
[21,5210,21,5216,21,5230,null,null,null,null,0,222]
[21,5367,21,5374,21,5380,null,null,null,null,0,222]
[21,5521,21,5536,21,5584,null,null,null,null,0,222]
[21,5711,21,5737,21,5762,null,null,null,null,0,222]
[21,5868,21,5873,21,5883,null,null,null,null,0,222]
[21,6028,21,6068,21,6085,null,null,null,null,0,222]
[21,6197,21,6202,21,6232,null,null,null,null,0,222]
[21,6409,21,6415,21,6457,null,null,null,null,1,222]

{"sheet":"!M314B4I.sha","index":7,"n_rows":47,"n_cols":48,"rows_kept":47,"cut":false,"hidden":false,"merged":[[4,39,4,42],[5,39,5,40],[4,44,4,47],[5,44,5,45],[4,24,4,27],[5,24,5,25],[4,29,4,32],[5,29,5,30],[4,34,4,37],[5,34,5,35],[1,1,1,2],[5,13,5,14],[18,13,18,14],[19,13,19,14],[4,19,4,22],[5,19,5,20]]}
["Report for:!M314B4I.sha"]
["Date:","<date>"]
["Hen:","<hen>",null,null,null,"Correct Sequence",{"$f":"Start!J2","v":222},null,null,null,null,null,null,null,null,"Total Sequences in Data",{"$f":"4994-COUNTBLANK(L7:L5000)","v":41},null,null,null,null,"Total Sequences in Block Data",{"$f":"COUNTA(L7:L13)","v":7},null,null,null,"Total Sequences in Block Data",{"$f":"COUNTA(L14:L20)","v":7},null,null,null,"Total Sequences in Block Data",{"$f":"COUNTA(L21:L26)","v":6},null,null,null,"Total Sequences in Block Data",{"$f":"COUNTA(L27:L33)","v":7},null,null,null,"Total Sequences in Block Data",{"$f":"COUNTA(L34:L40)","v":7},null,null,null,"Total Sequences in Block Data",{"$f":"COUNTA(L41:L47)","v":7}]
[null,null,null,null,null,null,null,null,null,null,null,null,null,null,null,"Total Sequences in Summary",{"$f":"SUM(O7:O14)","v":41},null,null,null,null,"Total Sequences in Block Summary",{"$f":"SUM(U7:U14)","v":7},null,null,null,"Total Sequences in Block Summary",{"$f":"SUM(Z7:Z14)","v":7},null,null,null,"Total Sequences in Block Summary",{"$f":"SUM(AE7:AE14)","v":6},null,null,null,"Total Sequences in Block Summary",{"$f":"SUM(AJ7:AJ14)","v":7},null,null,null,"Total Sequences in Block Summary",{"$f":"SUM(AO7:AO14)","v":7},null,null,null,"Total Sequences in Block Summary",{"$f":"SUM(AT7:AT14)","v":7}]
[null,null,null,null,null,null,null,null,null,null,null,null,null,null,null,null,null,null,null,"Block 1",null,null,null,null,"Block 2",null,null,null,null,"Block 3",null,null,null,null,"Block 4",null,null,null,null,"Block 5",null,null,null,null,"Block 6"]
["Sequence\nComponent\n1","Time\n1","Sequence\nComponent\n2","Time\n2","Sequence\nComponent\n3","Time\n3","Sequence\nComponent\n4","Time\n4","Sequence\nComponent\n5","Time\n5","Correct?\n0=No 1=Yes","Sequence",null,"Frequency",null,"Relative Frequency","Variability",null,null,"Frequency",null,"Relative Frequency","Variability",null,"Frequency",null,"Relative Frequency","Variability",null,"Frequency",null,"Relative Frequency","Variability",null,"Frequency",null,"Relative Frequency","Variability",null,"Frequency",null,"Relative Frequency","Variability",null,"Frequency",null,"Relative Frequency","Variability"]
[12,27,23,39,23,41,null,null,null,null,0,122,null,111,{"$f":"COUNTIF($L$7:$L$500,N7)","v":0},{"$f":"O7/$Q$4","v":0},{"$f":"IF(P7=0,0,(P7*((LOG(P7))/LOG(2))))","v":0},null,null,{"$f":"N7","v":111},{"$f":"COUNTIF(L7:L13,T7)","v":0},{"$f":"U7/(W4-U14)","v":0},{"$f":"IF(V7=0,0,(V7*((LOG(V7))/LOG(2))))","v":0},null,{"$f":"N7","v":111},{"$f":"COUNTIF(L14:L20,Y7)","v":0},{"$f":"Z7/(AB4-Z14)","v":{"$error":"#DIV/0!"}},{"$f":"IF(AA7=0,0,(AA7*((LOG(AA7))/LOG(2))))","v":{"$error":"#DIV/0!"}},null,{"$f":"N7","v":111},{"$f":"COUNTIF(L21:L26,AD7)","v":0},{"$f":"AE7/(AG4-AE14)","v":{"$error":"#DIV/0!"}},{"$f":"IF(AF7=0,0,(AF7*((LOG(AF7))/LOG(2))))","v":{"$error":"#DIV/0!"}},null,{"$f":"N7","v":111},{"$f":"COUNTIF(L27:L33,AI7)","v":0},{"$f":"AJ7/(AL4-AJ14)","v":{"$error":"#DIV/0!"}},{"$f":"IF(AK7=0,0,(AK7*((LOG(AK7))/LOG(2))))","v":{"$error":"#DIV/0!"}},null,{"$f":"N7","v":111},{"$f":"COUNTIF(L34:L40,AN7)","v":0},{"$f":"AO7/(AQ4-AO14)","v":{"$error":"#DIV/0!"}},{"$f":"IF(AP7=0,0,(AP7*((LOG(AP7))/LOG(2))))","v":{"$error":"#DIV/0!"}},null,{"$f":"N7","v":111},{"$f":"COUNTIF(L41:L47,AS7)","v":0},{"$f":"AT7/(AV4-AT14)","v":{"$error":"#DIV/0!"}},{"$f":"IF(AU7=0,0,(AU7*((LOG(AU7))/LOG(2))))","v":{"$error":"#DIV/0!"}}]
[21,153,21,163,21,170,null,null,null,null,0,222,null,112,{"$f":"COUNTIF($L$7:$L$500,N8)","v":0},{"$f":"O8/$Q$4","v":0},{"$f":"IF(P8=0,0,(P8*((LOG(P8))/LOG(2))))","v":0},null,null,{"$f":"N8","v":112},{"$f":"COUNTIF(L7:L13,T8)","v":0},{"$f":"U8/(W4-U14)","v":0},{"$f":"IF(V8=0,0,(V8*((LOG(V8))/LOG(2))))","v":0},null,{"$f":"N8","v":112},{"$f":"COUNTIF(L14:L20,Y8)","v":0},{"$f":"Z8/(AB4-Z14)","v":{"$error":"#DIV/0!"}},{"$f":"IF(AA8=0,0,(AA8*((LOG(AA8))/LOG(2))))","v":{"$error":"#DIV/0!"}},null,{"$f":"N8","v":112},{"$f":"COUNTIF(L21:L26,AD8)","v":0},{"$f":"AE8/(AG4-AE14)","v":{"$error":"#DIV/0!"}},{"$f":"IF(AF8=0,0,(AF8*((LOG(AF8))/LOG(2))))","v":{"$error":"#DIV/0!"}},null,{"$f":"N8","v":112},{"$f":"COUNTIF(L27:L33,AI8)","v":0},{"$f":"AJ8/(AL4-AJ14)","v":{"$error":"#DIV/0!"}},{"$f":"IF(AK8=0,0,(AK8*((LOG(AK8))/LOG(2))))","v":{"$error":"#DIV/0!"}},null,{"$f":"N8","v":112},{"$f":"COUNTIF(L34:L40,AN8)","v":0},{"$f":"AO8/(AQ4-AO14)","v":{"$error":"#DIV/0!"}},{"$f":"IF(AP8=0,0,(AP8*((LOG(AP8))/LOG(2))))","v":{"$error":"#DIV/0!"}},null,{"$f":"N8","v":112},{"$f":"COUNTIF(L41:L47,AS8)","v":0},{"$f":"AT8/(AV4-AT14)","v":{"$error":"#DIV/0!"}},{"$f":"IF(AU8=0,0,(AU8*((LOG(AU8))/LOG(2))))","v":{"$error":"#DIV/0!"}}]
[21,358,21,373,21,420,null,null,null,null,0,222,null,121,{"$f":"COUNTIF($L$7:$L$500,N9)","v":0},{"$f":"O9/$Q$4","v":0},{"$f":"IF(P9=0,0,(P9*((LOG(P9))/LOG(2))))","v":0},null,null,{"$f":"N9","v":121},{"$f":"COUNTIF(L7:L13,T9)","v":0},{"$f":"U9/(W4-U14)","v":0},{"$f":"IF(V9=0,0,(V9*((LOG(V9))/LOG(2))))","v":0},null,{"$f":"N9","v":121},{"$f":"COUNTIF(L14:L20,Y9)","v":0},{"$f":"Z9/(AB4-Z14)","v":{"$error":"#DIV/0!"}},{"$f":"IF(AA9=0,0,(AA9*((LOG(AA9))/LOG(2))))","v":{"$error":"#DIV/0!"}},null,{"$f":"N9","v":121},{"$f":"COUNTIF(L21:L26,AD9)","v":0},{"$f":"AE9/(AG4-AE14)","v":{"$error":"#DIV/0!"}},{"$f":"IF(AF9=0,0,(AF9*((LOG(AF9))/LOG(2))))","v":{"$error":"#DIV/0!"}},null,{"$f":"N9","v":121},{"$f":"COUNTIF(L27:L33,AI9)","v":0},{"$f":"AJ9/(AL4-AJ14)","v":{"$error":"#DIV/0!"}},{"$f":"IF(AK9=0,0,(AK9*((LOG(AK9))/LOG(2))))","v":{"$error":"#DIV/0!"}},null,{"$f":"N9","v":121},{"$f":"COUNTIF(L34:L40,AN9)","v":0},{"$f":"AO9/(AQ4-AO14)","v":{"$error":"#DIV/0!"}},{"$f":"IF(AP9=0,0,(AP9*((LOG(AP9))/LOG(2))))","v":{"$error":"#DIV/0!"}},null,{"$f":"N9","v":121},{"$f":"COUNTIF(L41:L47,AS9)","v":0},{"$f":"AT9/(AV4-AT14)","v":{"$error":"#DIV/0!"}},{"$f":"IF(AU9=0,0,(AU9*((LOG(AU9))/LOG(2))))","v":{"$error":"#DIV/0!"}}]
[21,567,21,616,21,640,null,null,null,null,0,222,null,122,{"$f":"COUNTIF($L$7:$L$500,N10)","v":1},{"$f":"O10/$Q$4","v":2.4390243902439025E-2},{"$f":"IF(P10=0,0,(P10*((LOG(P10))/LOG(2))))","v":-0.13067200011263619},null,null,{"$f":"N10","v":122},{"$f":"COUNTIF(L7:L13,T10)","v":1},{"$f":"U10/(W4-U14)","v":1},{"$f":"IF(V10=0,0,(V10*((LOG(V10))/LOG(2))))","v":0},null,{"$f":"N10","v":122},{"$f":"COUNTIF(L14:L20,Y10)","v":0},{"$f":"Z10/(AB4-Z14)","v":{"$error":"#DIV/0!"}},{"$f":"IF(AA10=0,0,(AA10*((LOG(AA10))/LOG(2))))","v":{"$error":"#DIV/0!"}},null,{"$f":"N10","v":122},{"$f":"COUNTIF(L21:L26,AD10)","v":0},{"$f":"AE10/(AG4-AE14)","v":{"$error":"#DIV/0!"}},{"$f":"IF(AF10=0,0,(AF10*((LOG(AF10))/LOG(2))))","v":{"$error":"#DIV/0!"}},null,{"$f":"N10","v":122},{"$f":"COUNTIF(L27:L33,AI10)","v":0},{"$f":"AJ10/(AL4-AJ14)","v":{"$error":"#DIV/0!"}},{"$f":"IF(AK10=0,0,(AK10*((LOG(AK10))/LOG(2))))","v":{"$error":"#DIV/0!"}},null,{"$f":"N10","v":122},{"$f":"COUNTIF(L34:L40,AN10)","v":0},{"$f":"AO10/(AQ4-AO14)","v":{"$error":"#DIV/0!"}},{"$f":"IF(AP10=0,0,(AP10*((LOG(AP10))/LOG(2))))","v":{"$error":"#DIV/0!"}},null,{"$f":"N10","v":122},{"$f":"COUNTIF(L41:L47,AS10)","v":0},{"$f":"AT10/(AV4-AT14)","v":{"$error":"#DIV/0!"}},{"$f":"IF(AU10=0,0,(AU10*((LOG(AU10))/LOG(2))))","v":{"$error":"#DIV/0!"}}]
[21,773,21,778,21,813,null,null,null,null,0,222,null,211,{"$f":"COUNTIF($L$7:$L$500,N11)","v":0},{"$f":"O11/$Q$4","v":0},{"$f":"IF(P11=0,0,(P11*((LOG(P11))/LOG(2))))","v":0},null,null,{"$f":"N11","v":211},{"$f":"COUNTIF(L7:L13,T11)","v":0},{"$f":"U11/(W4-U14)","v":0},{"$f":"IF(V11=0,0,(V11*((LOG(V11))/LOG(2))))","v":0},null,{"$f":"N11","v":211},{"$f":"COUNTIF(L14:L20,Y11)","v":0},{"$f":"Z11/(AB4-Z14)","v":{"$error":"#DIV/0!"}},{"$f":"IF(AA11=0,0,(AA11*((LOG(AA11))/LOG(2))))","v":{"$error":"#DIV/0!"}},null,{"$f":"N11","v":211},{"$f":"COUNTIF(L21:L26,AD11)","v":0},{"$f":"AE11/(AG4-AE14)","v":{"$error":"#DIV/0!"}},{"$f":"IF(AF11=0,0,(AF11*((LOG(AF11))/LOG(2))))","v":{"$error":"#DIV/0!"}},null,{"$f":"N11","v":211},{"$f":"COUNTIF(L27:L33,AI11)","v":0},{"$f":"AJ11/(AL4-AJ14)","v":{"$error":"#DIV/0!"}},{"$f":"IF(AK11=0,0,(AK11*((LOG(AK11))/LOG(2))))","v":{"$error":"#DIV/0!"}},null,{"$f":"N11","v":211},{"$f":"COUNTIF(L34:L40,AN11)","v":0},{"$f":"AO11/(AQ4-AO14)","v":{"$error":"#DIV/0!"}},{"$f":"IF(AP11=0,0,(AP11*((LOG(AP11))/LOG(2))))","v":{"$error":"#DIV/0!"}},null,{"$f":"N11","v":211},{"$f":"COUNTIF(L41:L47,AS11)","v":0},{"$f":"AT11/(AV4-AT14)","v":{"$error":"#DIV/0!"}},{"$f":"IF(AU11=0,0,(AU11*((LOG(AU11))/LOG(2))))","v":{"$error":"#DIV/0!"}}]
[21,929,21,935,21,985,null,null,null,null,0,222,null,212,{"$f":"COUNTIF($L$7:$L$500,N12)","v":0},{"$f":"O12/$Q$4","v":0},{"$f":"IF(P12=0,0,(P12*((LOG(P12))/LOG(2))))","v":0},null,null,{"$f":"N12","v":212},{"$f":"COUNTIF(L7:L13,T12)","v":0},{"$f":"U12/(W4-U14)","v":0},{"$f":"IF(V12=0,0,(V12*((LOG(V12))/LOG(2))))","v":0},null,{"$f":"N12","v":212},{"$f":"COUNTIF(L14:L20,Y12)","v":0},{"$f":"Z12/(AB4-Z14)","v":{"$error":"#DIV/0!"}},{"$f":"IF(AA12=0,0,(AA12*((LOG(AA12))/LOG(2))))","v":{"$error":"#DIV/0!"}},null,{"$f":"N12","v":212},{"$f":"COUNTIF(L21:L26,AD12)","v":0},{"$f":"AE12/(AG4-AE14)","v":{"$error":"#DIV/0!"}},{"$f":"IF(AF12=0,0,(AF12*((LOG(AF12))/LOG(2))))","v":{"$error":"#DIV/0!"}},null,{"$f":"N12","v":212},{"$f":"COUNTIF(L27:L33,AI12)","v":0},{"$f":"AJ12/(AL4-AJ14)","v":{"$error":"#DIV/0!"}},{"$f":"IF(AK12=0,0,(AK12*((LOG(AK12))/LOG(2))))","v":{"$error":"#DIV/0!"}},null,{"$f":"N12","v":212},{"$f":"COUNTIF(L34:L40,AN12)","v":0},{"$f":"AO12/(AQ4-AO14)","v":{"$error":"#DIV/0!"}},{"$f":"IF(AP12=0,0,(AP12*((LOG(AP12))/LOG(2))))","v":{"$error":"#DIV/0!"}},null,{"$f":"N12","v":212},{"$f":"COUNTIF(L41:L47,AS12)","v":0},{"$f":"AT12/(AV4-AT14)","v":{"$error":"#DIV/0!"}},{"$f":"IF(AU12=0,0,(AU12*((LOG(AU12))/LOG(2))))","v":{"$error":"#DIV/0!"}}]
[21,1102,21,1125,21,1138,null,null,null,null,0,222,null,221,{"$f":"COUNTIF($L$7:$L$500,N13)","v":0},{"$f":"O13/$Q$4","v":0},{"$f":"IF(P13=0,0,(P13*((LOG(P13))/LOG(2))))","v":0},null,null,{"$f":"N13","v":221},{"$f":"COUNTIF(L7:L13,T13)","v":0},{"$f":"U13/(W4-U14)","v":0},{"$f":"IF(V13=0,0,(V13*((LOG(V13))/LOG(2))))","v":0},null,{"$f":"N13","v":221},{"$f":"COUNTIF(L14:L20,Y13)","v":0},{"$f":"Z13/(AB4-Z14)","v":{"$error":"#DIV/0!"}},{"$f":"IF(AA13=0,0,(AA13*((LOG(AA13))/LOG(2))))","v":{"$error":"#DIV/0!"}},null,{"$f":"N13","v":221},{"$f":"COUNTIF(L21:L26,AD13)","v":0},{"$f":"AE13/(AG4-AE14)","v":{"$error":"#DIV/0!"}},{"$f":"IF(AF13=0,0,(AF13*((LOG(AF13))/LOG(2))))","v":{"$error":"#DIV/0!"}},null,{"$f":"N13","v":221},{"$f":"COUNTIF(L27:L33,AI13)","v":0},{"$f":"AJ13/(AL4-AJ14)","v":{"$error":"#DIV/0!"}},{"$f":"IF(AK13=0,0,(AK13*((LOG(AK13))/LOG(2))))","v":{"$error":"#DIV/0!"}},null,{"$f":"N13","v":221},{"$f":"COUNTIF(L34:L40,AN13)","v":0},{"$f":"AO13/(AQ4-AO14)","v":{"$error":"#DIV/0!"}},{"$f":"IF(AP13=0,0,(AP13*((LOG(AP13))/LOG(2))))","v":{"$error":"#DIV/0!"}},null,{"$f":"N13","v":221},{"$f":"COUNTIF(L41:L47,AS13)","v":0},{"$f":"AT13/(AV4-AT14)","v":{"$error":"#DIV/0!"}},{"$f":"IF(AU13=0,0,(AU13*((LOG(AU13))/LOG(2))))","v":{"$error":"#DIV/0!"}}]
[21,1287,21,1298,21,1331,null,null,null,null,0,222,null,222,{"$f":"COUNTIF($L$7:$L$500,N14)","v":40},{"$f":"O14/$Q$4","v":0.97560975609756095},{"$f":"IF(P14=0,0,(P14*((LOG(P14))/LOG(2))))","v":-3.4755033883630611E-2},null,null,{"$f":"N14","v":222},{"$f":"COUNTIF(L7:L13,T14)","v":6},null,null,null,{"$f":"N14","v":222},{"$f":"COUNTIF(L14:L20,Y14)","v":7},null,null,null,{"$f":"N14","v":222},{"$f":"COUNTIF(L21:L26,AD14)","v":6},null,null,null,{"$f":"N14","v":222},{"$f":"COUNTIF(L27:L33,AI14)","v":7},null,null,null,{"$f":"N14","v":222},{"$f":"COUNTIF(L34:L40,AN14)","v":7},null,null,null,{"$f":"N14","v":222},{"$f":"COUNTIF(L41:L47,AS14)","v":7}]
[21,1447,21,1453,21,1459,null,null,null,null,0,222,null,null,null,{"$f":"SUM(P7:P14)","v":1},{"$f":"-SUM(Q7:Q14)","v":0.16542703399626679},null,null,null,null,{"$f":"SUM(V7:V14)","v":1},{"$f":"-SUM(W7:W14)","v":0},null,null,null,{"$f":"SUM(AA7:AA14)","v":{"$error":"#DIV/0!"}},{"$f":"-SUM(AB7:AB14)","v":{"$error":"#DIV/0!"}},null,null,null,{"$f":"SUM(AF7:AF14)","v":{"$error":"#DIV/0!"}},{"$f":"-SUM(AG7:AG14)","v":{"$error":"#DIV/0!"}},null,null,null,{"$f":"SUM(AK7:AK14)","v":{"$error":"#DIV/0!"}},{"$f":"-SUM(AL7:AL14)","v":{"$error":"#DIV/0!"}},null,null,null,{"$f":"SUM(AP7:AP14)","v":{"$error":"#DIV/0!"}},{"$f":"-SUM(AQ7:AQ14)","v":{"$error":"#DIV/0!"}},null,null,null,{"$f":"SUM(AU7:AU14)","v":{"$error":"#DIV/0!"}},{"$f":"-SUM(AV7:AV14)","v":{"$error":"#DIV/0!"}}]
[21,1566,21,1586,21,1595,null,null,null,null,0,222,null,null,null,"U=",{"$f":"Q15/(LOG(Q4)/LOG(2))","v":3.0877354779509855E-2},null,null,null,null,"U1=",{"$f":"W15/(LOG(W4)/LOG(2))","v":0},null,null,null,"U2=",{"$f":"AB15/(LOG(AB4)/LOG(2))","v":{"$error":"#DIV/0!"}},null,null,null,"U3=",{"$f":"AG15/(LOG(AG4)/LOG(2))","v":{"$error":"#DIV/0!"}},null,null,null,"U4=",{"$f":"AL15/(LOG(AL4)/LOG(2))","v":{"$error":"#DIV/0!"}},null,null,null,"U5=",{"$f":"AQ15/(LOG(AQ4)/LOG(2))","v":{"$error":"#DIV/0!"}},null,null,null,"U6=",{"$f":"AV15/(LOG(AV4)/LOG(2))","v":{"$error":"#DIV/0!"}}]
[21,1692,21,1698,21,1705,null,null,null,null,0,222]
[21,1856,21,1881,21,1896,null,null,null,null,0,222]
[21,2004,21,2021,21,2041,null,null,null,null,0,222,null,"Total Target Seq"]
[21,2139,21,2147,21,2154,null,null,null,null,0,222,null,{"$f":"COUNTIF(L7:L47,G3)","v":40},null,7,7,6,7,7,7]
[21,2249,21,2261,21,2270,null,null,null,null,0,222,null,null,null,"% of reinforcement given in 6 equal intervals based on number of trials "]
[21,2381,21,2422,21,2432,null,null,null,null,0,222,null,null,null,"%_1","%_2","%_3","%_4","%_5","%_6"]
[21,2562,21,2573,21,2609,null,null,null,null,0,222,null,null,"target sequence",{"$f":"$G$3","v":222},{"$f":"$G$3","v":222},{"$f":"$G$3","v":222},{"$f":"$G$3","v":222},{"$f":"$G$3","v":222},{"$f":"$G$3","v":222}]
[21,2702,21,2708,21,2735,null,null,null,null,0,222,null,null,"total reinforcement",{"$f":"U14","v":6},{"$f":"Z14","v":7},{"$f":"AE14","v":6},{"$f":"AJ14","v":7},{"$f":"AO14","v":7},{"$f":"AT14","v":7}]
[21,2858,21,2864,21,2871,null,null,null,null,0,222,null,null,"% target"]
[21,3040,21,3052,21,3064,null,null,null,null,0,222,null,null,"CCRF"]
[21,3157,21,3168,21,3180,null,null,null,null,0,222,null,null,"% CCRf"]
[21,3282,21,3288,21,3300,null,null,null,null,0,222,null,null,"average response rate",{"$f":"F13/P20","v":162.57142857142858},{"$f":"(F20-F13)/Q20","v":145.14285714285714},{"$f":"(F26-F20)/R20","v":151.66666666666666},{"$f":"(F33-F26)/S20","v":141.57142857142858},{"$f":"(F40-F33)/T20","v":143.57142857142858},{"$f":"(F47-F40)/U20","v":160.71428571428572}]
[21,3396,21,3432,21,3448,null,null,null,null,0,222]
[21,3597,21,3611,21,3649,null,null,null,null,0,222]
[21,3777,21,3783,21,3795,null,null,null,null,0,222]
[21,3891,21,3915,21,3930,null,null,null,null,0,222]
[21,4032,21,4044,21,4055,null,null,null,null,0,222]
[21,4219,21,4225,21,4231,null,null,null,null,0,222]
[21,4349,21,4353,21,4359,null,null,null,null,0,222]
[21,4452,21,4459,21,4466,null,null,null,null,0,222]
[21,4562,21,4567,21,4574,null,null,null,null,0,222]
[21,4760,21,4806,21,4845,null,null,null,null,0,222]
[21,4938,21,4945,21,4951,null,null,null,null,0,222]
[21,5043,21,5048,21,5060,null,null,null,null,0,222]
[21,5170,21,5175,21,5183,null,null,null,null,0,222]
[21,5291,21,5326,21,5340,null,null,null,null,0,222]
[21,5450,21,5510,21,5540,null,null,null,null,0,222]
[21,5637,21,5648,21,5670,null,null,null,null,0,222]
[21,5793,21,5801,21,5821,null,null,null,null,0,222]
[21,6028,21,6046,21,6054,null,null,null,null,0,222]
[21,6152,21,6175,21,6185,null,null,null,null,1,222]

{"sheet":"!M315A4I.sha","index":8,"n_rows":47,"n_cols":48,"rows_kept":47,"cut":false,"hidden":false,"merged":[[4,39,4,42],[5,39,5,40],[4,44,4,47],[5,44,5,45],[4,24,4,27],[5,24,5,25],[4,29,4,32],[5,29,5,30],[4,34,4,37],[5,34,5,35],[1,1,1,2],[5,13,5,14],[18,13,18,14],[19,13,19,14],[4,19,4,22],[5,19,5,20]]}
["Report for:!M315A4I.sha"]
["Date:","<date>"]
["Hen:","<hen>",null,null,null,"Correct Sequence",{"$f":"Start!J2","v":222},null,null,null,null,null,null,null,null,"Total Sequences in Data",{"$f":"4994-COUNTBLANK(L7:L5000)","v":41},null,null,null,null,"Total Sequences in Block Data",{"$f":"COUNTA(L7:L13)","v":7},null,null,null,"Total Sequences in Block Data",{"$f":"COUNTA(L14:L20)","v":7},null,null,null,"Total Sequences in Block Data",{"$f":"COUNTA(L21:L26)","v":6},null,null,null,"Total Sequences in Block Data",{"$f":"COUNTA(L27:L33)","v":7},null,null,null,"Total Sequences in Block Data",{"$f":"COUNTA(L34:L40)","v":7},null,null,null,"Total Sequences in Block Data",{"$f":"COUNTA(L41:L47)","v":7}]
[null,null,null,null,null,null,null,null,null,null,null,null,null,null,null,"Total Sequences in Summary",{"$f":"SUM(O7:O14)","v":41},null,null,null,null,"Total Sequences in Block Summary",{"$f":"SUM(U7:U14)","v":7},null,null,null,"Total Sequences in Block Summary",{"$f":"SUM(Z7:Z14)","v":7},null,null,null,"Total Sequences in Block Summary",{"$f":"SUM(AE7:AE14)","v":6},null,null,null,"Total Sequences in Block Summary",{"$f":"SUM(AJ7:AJ14)","v":7},null,null,null,"Total Sequences in Block Summary",{"$f":"SUM(AO7:AO14)","v":7},null,null,null,"Total Sequences in Block Summary",{"$f":"SUM(AT7:AT14)","v":7}]
[null,null,null,null,null,null,null,null,null,null,null,null,null,null,null,null,null,null,null,"Block 1",null,null,null,null,"Block 2",null,null,null,null,"Block 3",null,null,null,null,"Block 4",null,null,null,null,"Block 5",null,null,null,null,"Block 6"]
["Sequence\nComponent\n1","Time\n1","Sequence\nComponent\n2","Time\n2","Sequence\nComponent\n3","Time\n3","Sequence\nComponent\n4","Time\n4","Sequence\nComponent\n5","Time\n5","Correct?\n0=No 1=Yes","Sequence",null,"Frequency",null,"Relative Frequency","Variability",null,null,"Frequency",null,"Relative Frequency","Variability",null,"Frequency",null,"Relative Frequency","Variability",null,"Frequency",null,"Relative Frequency","Variability",null,"Frequency",null,"Relative Frequency","Variability",null,"Frequency",null,"Relative Frequency","Variability",null,"Frequency",null,"Relative Frequency","Variability"]
[21,8,12,19,23,42,null,null,null,null,0,212,null,111,{"$f":"COUNTIF($L$7:$L$500,N7)","v":0},{"$f":"O7/$Q$4","v":0},{"$f":"IF(P7=0,0,(P7*((LOG(P7))/LOG(2))))","v":0},null,null,{"$f":"N7","v":111},{"$f":"COUNTIF(L7:L13,T7)","v":0},{"$f":"U7/(W4-U14)","v":0},{"$f":"IF(V7=0,0,(V7*((LOG(V7))/LOG(2))))","v":0},null,{"$f":"N7","v":111},{"$f":"COUNTIF(L14:L20,Y7)","v":0},{"$f":"Z7/(AB4-Z14)","v":{"$error":"#DIV/0!"}},{"$f":"IF(AA7=0,0,(AA7*((LOG(AA7))/LOG(2))))","v":{"$error":"#DIV/0!"}},null,{"$f":"N7","v":111},{"$f":"COUNTIF(L21:L26,AD7)","v":0},{"$f":"AE7/(AG4-AE14)","v":{"$error":"#DIV/0!"}},{"$f":"IF(AF7=0,0,(AF7*((LOG(AF7))/LOG(2))))","v":{"$error":"#DIV/0!"}},null,{"$f":"N7","v":111},{"$f":"COUNTIF(L27:L33,AI7)","v":0},{"$f":"AJ7/(AL4-AJ14)","v":{"$error":"#DIV/0!"}},{"$f":"IF(AK7=0,0,(AK7*((LOG(AK7))/LOG(2))))","v":{"$error":"#DIV/0!"}},null,{"$f":"N7","v":111},{"$f":"COUNTIF(L34:L40,AN7)","v":0},{"$f":"AO7/(AQ4-AO14)","v":{"$error":"#DIV/0!"}},{"$f":"IF(AP7=0,0,(AP7*((LOG(AP7))/LOG(2))))","v":{"$error":"#DIV/0!"}},null,{"$f":"N7","v":111},{"$f":"COUNTIF(L41:L47,AS7)","v":0},{"$f":"AT7/(AV4-AT14)","v":{"$error":"#DIV/0!"}},{"$f":"IF(AU7=0,0,(AU7*((LOG(AU7))/LOG(2))))","v":{"$error":"#DIV/0!"}}]
[21,142,21,146,21,193,null,null,null,null,0,222,null,112,{"$f":"COUNTIF($L$7:$L$500,N8)","v":0},{"$f":"O8/$Q$4","v":0},{"$f":"IF(P8=0,0,(P8*((LOG(P8))/LOG(2))))","v":0},null,null,{"$f":"N8","v":112},{"$f":"COUNTIF(L7:L13,T8)","v":0},{"$f":"U8/(W4-U14)","v":0},{"$f":"IF(V8=0,0,(V8*((LOG(V8))/LOG(2))))","v":0},null,{"$f":"N8","v":112},{"$f":"COUNTIF(L14:L20,Y8)","v":0},{"$f":"Z8/(AB4-Z14)","v":{"$error":"#DIV/0!"}},{"$f":"IF(AA8=0,0,(AA8*((LOG(AA8))/LOG(2))))","v":{"$error":"#DIV/0!"}},null,{"$f":"N8","v":112},{"$f":"COUNTIF(L21:L26,AD8)","v":0},{"$f":"AE8/(AG4-AE14)","v":{"$error":"#DIV/0!"}},{"$f":"IF(AF8=0,0,(AF8*((LOG(AF8))/LOG(2))))","v":{"$error":"#DIV/0!"}},null,{"$f":"N8","v":112},{"$f":"COUNTIF(L27:L33,AI8)","v":0},{"$f":"AJ8/(AL4-AJ14)","v":{"$error":"#DIV/0!"}},{"$f":"IF(AK8=0,0,(AK8*((LOG(AK8))/LOG(2))))","v":{"$error":"#DIV/0!"}},null,{"$f":"N8","v":112},{"$f":"COUNTIF(L34:L40,AN8)","v":0},{"$f":"AO8/(AQ4-AO14)","v":{"$error":"#DIV/0!"}},{"$f":"IF(AP8=0,0,(AP8*((LOG(AP8))/LOG(2))))","v":{"$error":"#DIV/0!"}},null,{"$f":"N8","v":112},{"$f":"COUNTIF(L41:L47,AS8)","v":0},{"$f":"AT8/(AV4-AT14)","v":{"$error":"#DIV/0!"}},{"$f":"IF(AU8=0,0,(AU8*((LOG(AU8))/LOG(2))))","v":{"$error":"#DIV/0!"}}]
[21,312,21,357,21,372,null,null,null,null,0,222,null,121,{"$f":"COUNTIF($L$7:$L$500,N9)","v":0},{"$f":"O9/$Q$4","v":0},{"$f":"IF(P9=0,0,(P9*((LOG(P9))/LOG(2))))","v":0},null,null,{"$f":"N9","v":121},{"$f":"COUNTIF(L7:L13,T9)","v":0},{"$f":"U9/(W4-U14)","v":0},{"$f":"IF(V9=0,0,(V9*((LOG(V9))/LOG(2))))","v":0},null,{"$f":"N9","v":121},{"$f":"COUNTIF(L14:L20,Y9)","v":0},{"$f":"Z9/(AB4-Z14)","v":{"$error":"#DIV/0!"}},{"$f":"IF(AA9=0,0,(AA9*((LOG(AA9))/LOG(2))))","v":{"$error":"#DIV/0!"}},null,{"$f":"N9","v":121},{"$f":"COUNTIF(L21:L26,AD9)","v":0},{"$f":"AE9/(AG4-AE14)","v":{"$error":"#DIV/0!"}},{"$f":"IF(AF9=0,0,(AF9*((LOG(AF9))/LOG(2))))","v":{"$error":"#DIV/0!"}},null,{"$f":"N9","v":121},{"$f":"COUNTIF(L27:L33,AI9)","v":0},{"$f":"AJ9/(AL4-AJ14)","v":{"$error":"#DIV/0!"}},{"$f":"IF(AK9=0,0,(AK9*((LOG(AK9))/LOG(2))))","v":{"$error":"#DIV/0!"}},null,{"$f":"N9","v":121},{"$f":"COUNTIF(L34:L40,AN9)","v":0},{"$f":"AO9/(AQ4-AO14)","v":{"$error":"#DIV/0!"}},{"$f":"IF(AP9=0,0,(AP9*((LOG(AP9))/LOG(2))))","v":{"$error":"#DIV/0!"}},null,{"$f":"N9","v":121},{"$f":"COUNTIF(L41:L47,AS9)","v":0},{"$f":"AT9/(AV4-AT14)","v":{"$error":"#DIV/0!"}},{"$f":"IF(AU9=0,0,(AU9*((LOG(AU9))/LOG(2))))","v":{"$error":"#DIV/0!"}}]
[21,465,21,467,21,506,null,null,null,null,0,222,null,122,{"$f":"COUNTIF($L$7:$L$500,N10)","v":0},{"$f":"O10/$Q$4","v":0},{"$f":"IF(P10=0,0,(P10*((LOG(P10))/LOG(2))))","v":0},null,null,{"$f":"N10","v":122},{"$f":"COUNTIF(L7:L13,T10)","v":0},{"$f":"U10/(W4-U14)","v":0},{"$f":"IF(V10=0,0,(V10*((LOG(V10))/LOG(2))))","v":0},null,{"$f":"N10","v":122},{"$f":"COUNTIF(L14:L20,Y10)","v":0},{"$f":"Z10/(AB4-Z14)","v":{"$error":"#DIV/0!"}},{"$f":"IF(AA10=0,0,(AA10*((LOG(AA10))/LOG(2))))","v":{"$error":"#DIV/0!"}},null,{"$f":"N10","v":122},{"$f":"COUNTIF(L21:L26,AD10)","v":0},{"$f":"AE10/(AG4-AE14)","v":{"$error":"#DIV/0!"}},{"$f":"IF(AF10=0,0,(AF10*((LOG(AF10))/LOG(2))))","v":{"$error":"#DIV/0!"}},null,{"$f":"N10","v":122},{"$f":"COUNTIF(L27:L33,AI10)","v":0},{"$f":"AJ10/(AL4-AJ14)","v":{"$error":"#DIV/0!"}},{"$f":"IF(AK10=0,0,(AK10*((LOG(AK10))/LOG(2))))","v":{"$error":"#DIV/0!"}},null,{"$f":"N10","v":122},{"$f":"COUNTIF(L34:L40,AN10)","v":0},{"$f":"AO10/(AQ4-AO14)","v":{"$error":"#DIV/0!"}},{"$f":"IF(AP10=0,0,(AP10*((LOG(AP10))/LOG(2))))","v":{"$error":"#DIV/0!"}},null,{"$f":"N10","v":122},{"$f":"COUNTIF(L41:L47,AS10)","v":0},{"$f":"AT10/(AV4-AT14)","v":{"$error":"#DIV/0!"}},{"$f":"IF(AU10=0,0,(AU10*((LOG(AU10))/LOG(2))))","v":{"$error":"#DIV/0!"}}]
[21,628,21,682,21,693,null,null,null,null,0,222,null,211,{"$f":"COUNTIF($L$7:$L$500,N11)","v":0},{"$f":"O11/$Q$4","v":0},{"$f":"IF(P11=0,0,(P11*((LOG(P11))/LOG(2))))","v":0},null,null,{"$f":"N11","v":211},{"$f":"COUNTIF(L7:L13,T11)","v":0},{"$f":"U11/(W4-U14)","v":0},{"$f":"IF(V11=0,0,(V11*((LOG(V11))/LOG(2))))","v":0},null,{"$f":"N11","v":211},{"$f":"COUNTIF(L14:L20,Y11)","v":0},{"$f":"Z11/(AB4-Z14)","v":{"$error":"#DIV/0!"}},{"$f":"IF(AA11=0,0,(AA11*((LOG(AA11))/LOG(2))))","v":{"$error":"#DIV/0!"}},null,{"$f":"N11","v":211},{"$f":"COUNTIF(L21:L26,AD11)","v":0},{"$f":"AE11/(AG4-AE14)","v":{"$error":"#DIV/0!"}},{"$f":"IF(AF11=0,0,(AF11*((LOG(AF11))/LOG(2))))","v":{"$error":"#DIV/0!"}},null,{"$f":"N11","v":211},{"$f":"COUNTIF(L27:L33,AI11)","v":0},{"$f":"AJ11/(AL4-AJ14)","v":{"$error":"#DIV/0!"}},{"$f":"IF(AK11=0,0,(AK11*((LOG(AK11))/LOG(2))))","v":{"$error":"#DIV/0!"}},null,{"$f":"N11","v":211},{"$f":"COUNTIF(L34:L40,AN11)","v":0},{"$f":"AO11/(AQ4-AO14)","v":{"$error":"#DIV/0!"}},{"$f":"IF(AP11=0,0,(AP11*((LOG(AP11))/LOG(2))))","v":{"$error":"#DIV/0!"}},null,{"$f":"N11","v":211},{"$f":"COUNTIF(L41:L47,AS11)","v":0},{"$f":"AT11/(AV4-AT14)","v":{"$error":"#DIV/0!"}},{"$f":"IF(AU11=0,0,(AU11*((LOG(AU11))/LOG(2))))","v":{"$error":"#DIV/0!"}}]
[21,786,21,799,21,807,null,null,null,null,0,222,null,212,{"$f":"COUNTIF($L$7:$L$500,N12)","v":1},{"$f":"O12/$Q$4","v":2.4390243902439025E-2},{"$f":"IF(P12=0,0,(P12*((LOG(P12))/LOG(2))))","v":-0.13067200011263619},null,null,{"$f":"N12","v":212},{"$f":"COUNTIF(L7:L13,T12)","v":1},{"$f":"U12/(W4-U14)","v":1},{"$f":"IF(V12=0,0,(V12*((LOG(V12))/LOG(2))))","v":0},null,{"$f":"N12","v":212},{"$f":"COUNTIF(L14:L20,Y12)","v":0},{"$f":"Z12/(AB4-Z14)","v":{"$error":"#DIV/0!"}},{"$f":"IF(AA12=0,0,(AA12*((LOG(AA12))/LOG(2))))","v":{"$error":"#DIV/0!"}},null,{"$f":"N12","v":212},{"$f":"COUNTIF(L21:L26,AD12)","v":0},{"$f":"AE12/(AG4-AE14)","v":{"$error":"#DIV/0!"}},{"$f":"IF(AF12=0,0,(AF12*((LOG(AF12))/LOG(2))))","v":{"$error":"#DIV/0!"}},null,{"$f":"N12","v":212},{"$f":"COUNTIF(L27:L33,AI12)","v":0},{"$f":"AJ12/(AL4-AJ14)","v":{"$error":"#DIV/0!"}},{"$f":"IF(AK12=0,0,(AK12*((LOG(AK12))/LOG(2))))","v":{"$error":"#DIV/0!"}},null,{"$f":"N12","v":212},{"$f":"COUNTIF(L34:L40,AN12)","v":0},{"$f":"AO12/(AQ4-AO14)","v":{"$error":"#DIV/0!"}},{"$f":"IF(AP12=0,0,(AP12*((LOG(AP12))/LOG(2))))","v":{"$error":"#DIV/0!"}},null,{"$f":"N12","v":212},{"$f":"COUNTIF(L41:L47,AS12)","v":0},{"$f":"AT12/(AV4-AT14)","v":{"$error":"#DIV/0!"}},{"$f":"IF(AU12=0,0,(AU12*((LOG(AU12))/LOG(2))))","v":{"$error":"#DIV/0!"}}]
[21,912,21,930,21,939,null,null,null,null,0,222,null,221,{"$f":"COUNTIF($L$7:$L$500,N13)","v":0},{"$f":"O13/$Q$4","v":0},{"$f":"IF(P13=0,0,(P13*((LOG(P13))/LOG(2))))","v":0},null,null,{"$f":"N13","v":221},{"$f":"COUNTIF(L7:L13,T13)","v":0},{"$f":"U13/(W4-U14)","v":0},{"$f":"IF(V13=0,0,(V13*((LOG(V13))/LOG(2))))","v":0},null,{"$f":"N13","v":221},{"$f":"COUNTIF(L14:L20,Y13)","v":0},{"$f":"Z13/(AB4-Z14)","v":{"$error":"#DIV/0!"}},{"$f":"IF(AA13=0,0,(AA13*((LOG(AA13))/LOG(2))))","v":{"$error":"#DIV/0!"}},null,{"$f":"N13","v":221},{"$f":"COUNTIF(L21:L26,AD13)","v":0},{"$f":"AE13/(AG4-AE14)","v":{"$error":"#DIV/0!"}},{"$f":"IF(AF13=0,0,(AF13*((LOG(AF13))/LOG(2))))","v":{"$error":"#DIV/0!"}},null,{"$f":"N13","v":221},{"$f":"COUNTIF(L27:L33,AI13)","v":0},{"$f":"AJ13/(AL4-AJ14)","v":{"$error":"#DIV/0!"}},{"$f":"IF(AK13=0,0,(AK13*((LOG(AK13))/LOG(2))))","v":{"$error":"#DIV/0!"}},null,{"$f":"N13","v":221},{"$f":"COUNTIF(L34:L40,AN13)","v":0},{"$f":"AO13/(AQ4-AO14)","v":{"$error":"#DIV/0!"}},{"$f":"IF(AP13=0,0,(AP13*((LOG(AP13))/LOG(2))))","v":{"$error":"#DIV/0!"}},null,{"$f":"N13","v":221},{"$f":"COUNTIF(L41:L47,AS13)","v":0},{"$f":"AT13/(AV4-AT14)","v":{"$error":"#DIV/0!"}},{"$f":"IF(AU13=0,0,(AU13*((LOG(AU13))/LOG(2))))","v":{"$error":"#DIV/0!"}}]
[21,1048,21,1058,21,1067,null,null,null,null,0,222,null,222,{"$f":"COUNTIF($L$7:$L$500,N14)","v":40},{"$f":"O14/$Q$4","v":0.97560975609756095},{"$f":"IF(P14=0,0,(P14*((LOG(P14))/LOG(2))))","v":-3.4755033883630611E-2},null,null,{"$f":"N14","v":222},{"$f":"COUNTIF(L7:L13,T14)","v":6},null,null,null,{"$f":"N14","v":222},{"$f":"COUNTIF(L14:L20,Y14)","v":7},null,null,null,{"$f":"N14","v":222},{"$f":"COUNTIF(L21:L26,AD14)","v":6},null,null,null,{"$f":"N14","v":222},{"$f":"COUNTIF(L27:L33,AI14)","v":7},null,null,null,{"$f":"N14","v":222},{"$f":"COUNTIF(L34:L40,AN14)","v":7},null,null,null,{"$f":"N14","v":222},{"$f":"COUNTIF(L41:L47,AS14)","v":7}]
[21,1159,21,1173,21,1202,null,null,null,null,0,222,null,null,null,{"$f":"SUM(P7:P14)","v":1},{"$f":"-SUM(Q7:Q14)","v":0.16542703399626679},null,null,null,null,{"$f":"SUM(V7:V14)","v":1},{"$f":"-SUM(W7:W14)","v":0},null,null,null,{"$f":"SUM(AA7:AA14)","v":{"$error":"#DIV/0!"}},{"$f":"-SUM(AB7:AB14)","v":{"$error":"#DIV/0!"}},null,null,null,{"$f":"SUM(AF7:AF14)","v":{"$error":"#DIV/0!"}},{"$f":"-SUM(AG7:AG14)","v":{"$error":"#DIV/0!"}},null,null,null,{"$f":"SUM(AK7:AK14)","v":{"$error":"#DIV/0!"}},{"$f":"-SUM(AL7:AL14)","v":{"$error":"#DIV/0!"}},null,null,null,{"$f":"SUM(AP7:AP14)","v":{"$error":"#DIV/0!"}},{"$f":"-SUM(AQ7:AQ14)","v":{"$error":"#DIV/0!"}},null,null,null,{"$f":"SUM(AU7:AU14)","v":{"$error":"#DIV/0!"}},{"$f":"-SUM(AV7:AV14)","v":{"$error":"#DIV/0!"}}]
[21,1314,21,1317,21,1323,null,null,null,null,0,222,null,null,null,"U=",{"$f":"Q15/(LOG(Q4)/LOG(2))","v":3.0877354779509855E-2},null,null,null,null,"U1=",{"$f":"W15/(LOG(W4)/LOG(2))","v":0},null,null,null,"U2=",{"$f":"AB15/(LOG(AB4)/LOG(2))","v":{"$error":"#DIV/0!"}},null,null,null,"U3=",{"$f":"AG15/(LOG(AG4)/LOG(2))","v":{"$error":"#DIV/0!"}},null,null,null,"U4=",{"$f":"AL15/(LOG(AL4)/LOG(2))","v":{"$error":"#DIV/0!"}},null,null,null,"U5=",{"$f":"AQ15/(LOG(AQ4)/LOG(2))","v":{"$error":"#DIV/0!"}},null,null,null,"U6=",{"$f":"AV15/(LOG(AV4)/LOG(2))","v":{"$error":"#DIV/0!"}}]
[21,1422,21,1428,21,1452,null,null,null,null,0,222]
[21,1565,21,1586,21,1613,null,null,null,null,0,222]
[21,1740,21,1748,21,1753,null,null,null,null,0,222,null,"Total Target Seq"]
[21,1899,21,1911,21,1923,null,null,null,null,0,222,null,{"$f":"COUNTIF(L7:L47,G3)","v":40},null,7,7,6,7,7,7]
[21,2056,21,2061,21,2067,null,null,null,null,0,222,null,null,null,"% of reinforcement given in 6 equal intervals based on number of trials "]
[21,2171,21,2201,21,2219,null,null,null,null,0,222,null,null,null,"%_1","%_2","%_3","%_4","%_5","%_6"]
[21,2383,21,2390,21,2404,null,null,null,null,0,222,null,null,"target sequence",{"$f":"$G$3","v":222},{"$f":"$G$3","v":222},{"$f":"$G$3","v":222},{"$f":"$G$3","v":222},{"$f":"$G$3","v":222},{"$f":"$G$3","v":222}]
[21,2540,21,2548,21,2557,null,null,null,null,0,222,null,null,"total reinforcement",{"$f":"U14","v":6},{"$f":"Z14","v":7},{"$f":"AE14","v":6},{"$f":"AJ14","v":7},{"$f":"AO14","v":7},{"$f":"AT14","v":7}]
[21,2720,21,2740,21,2763,null,null,null,null,0,222,null,null,"% target"]
[21,2858,21,2863,21,2870,null,null,null,null,0,222,null,null,"CCRF"]
[21,2970,21,2977,21,2986,null,null,null,null,0,222,null,null,"% CCRf"]
[21,3136,21,3199,21,3210,null,null,null,null,0,222,null,null,"average response rate",{"$f":"F13/P20","v":134.14285714285714},{"$f":"(F20-F13)/Q20","v":140.57142857142858},{"$f":"(F26-F20)/R20","v":157.83333333333334},{"$f":"(F33-F26)/S20","v":148.85714285714286},{"$f":"(F40-F33)/T20","v":153.57142857142858},{"$f":"(F47-F40)/U20","v":159.14285714285714}]
[21,3304,21,3311,21,3319,null,null,null,null,0,222]
[21,3439,21,3444,21,3463,null,null,null,null,0,222]
[21,3556,21,3562,21,3570,null,null,null,null,0,222]
[21,3672,21,3718,21,3738,null,null,null,null,0,222]
[21,3862,21,3883,21,3912,null,null,null,null,0,222]
[21,4081,21,4086,21,4099,null,null,null,null,0,222]
[21,4195,21,4205,21,4221,null,null,null,null,0,222]
[21,4313,21,4319,21,4334,null,null,null,null,0,222]
[21,4462,21,4473,21,4494,null,null,null,null,0,222]
[21,4589,21,4595,21,4614,null,null,null,null,0,222]
[21,4819,21,4822,21,4838,null,null,null,null,0,222]
[21,4952,21,4976,21,4987,null,null,null,null,0,222]
[21,5089,21,5097,21,5114,null,null,null,null,0,222]
[21,5207,21,5219,21,5278,null,null,null,null,0,222]
[21,5407,21,5423,21,5440,null,null,null,null,0,222]
[21,5558,21,5605,21,5632,null,null,null,null,0,222]
[21,5766,21,5778,21,5786,null,null,null,null,0,222]
[21,5930,21,5936,21,5946,null,null,null,null,0,222]
[21,6071,21,6080,21,6101,null,null,null,null,1,222]

{"sheet":"!M316A5I.sha","index":9,"n_rows":47,"n_cols":48,"rows_kept":47,"cut":false,"hidden":false,"merged":[[4,39,4,42],[5,39,5,40],[4,44,4,47],[5,44,5,45],[4,24,4,27],[5,24,5,25],[4,29,4,32],[5,29,5,30],[4,34,4,37],[5,34,5,35],[1,1,1,2],[5,13,5,14],[18,13,18,14],[19,13,19,14],[4,19,4,22],[5,19,5,20]]}
["Report for:!M316A5I.sha"]
["Date:","<date>"]
["Hen:","<hen>",null,null,null,"Correct Sequence",{"$f":"Start!J2","v":222},null,null,null,null,null,null,null,null,"Total Sequences in Data",{"$f":"4994-COUNTBLANK(L7:L5000)","v":41},null,null,null,null,"Total Sequences in Block Data",{"$f":"COUNTA(L7:L13)","v":7},null,null,null,"Total Sequences in Block Data",{"$f":"COUNTA(L14:L20)","v":7},null,null,null,"Total Sequences in Block Data",{"$f":"COUNTA(L21:L26)","v":6},null,null,null,"Total Sequences in Block Data",{"$f":"COUNTA(L27:L33)","v":7},null,null,null,"Total Sequences in Block Data",{"$f":"COUNTA(L34:L40)","v":7},null,null,null,"Total Sequences in Block Data",{"$f":"COUNTA(L41:L47)","v":7}]
[null,null,null,null,null,null,null,null,null,null,null,null,null,null,null,"Total Sequences in Summary",{"$f":"SUM(O7:O14)","v":41},null,null,null,null,"Total Sequences in Block Summary",{"$f":"SUM(U7:U14)","v":7},null,null,null,"Total Sequences in Block Summary",{"$f":"SUM(Z7:Z14)","v":7},null,null,null,"Total Sequences in Block Summary",{"$f":"SUM(AE7:AE14)","v":6},null,null,null,"Total Sequences in Block Summary",{"$f":"SUM(AJ7:AJ14)","v":7},null,null,null,"Total Sequences in Block Summary",{"$f":"SUM(AO7:AO14)","v":7},null,null,null,"Total Sequences in Block Summary",{"$f":"SUM(AT7:AT14)","v":7}]
[null,null,null,null,null,null,null,null,null,null,null,null,null,null,null,null,null,null,null,"Block 1",null,null,null,null,"Block 2",null,null,null,null,"Block 3",null,null,null,null,"Block 4",null,null,null,null,"Block 5",null,null,null,null,"Block 6"]
["Sequence\nComponent\n1","Time\n1","Sequence\nComponent\n2","Time\n2","Sequence\nComponent\n3","Time\n3","Sequence\nComponent\n4","Time\n4","Sequence\nComponent\n5","Time\n5","Correct?\n0=No 1=Yes","Sequence",null,"Frequency",null,"Relative Frequency","Variability",null,null,"Frequency",null,"Relative Frequency","Variability",null,"Frequency",null,"Relative Frequency","Variability",null,"Frequency",null,"Relative Frequency","Variability",null,"Frequency",null,"Relative Frequency","Variability",null,"Frequency",null,"Relative Frequency","Variability",null,"Frequency",null,"Relative Frequency","Variability"]
[21,10,12,23,23,38,null,null,null,null,0,212,null,111,{"$f":"COUNTIF($L$7:$L$500,N7)","v":0},{"$f":"O7/$Q$4","v":0},{"$f":"IF(P7=0,0,(P7*((LOG(P7))/LOG(2))))","v":0},null,null,{"$f":"N7","v":111},{"$f":"COUNTIF(L7:L13,T7)","v":0},{"$f":"U7/(W4-U14)","v":0},{"$f":"IF(V7=0,0,(V7*((LOG(V7))/LOG(2))))","v":0},null,{"$f":"N7","v":111},{"$f":"COUNTIF(L14:L20,Y7)","v":0},{"$f":"Z7/(AB4-Z14)","v":{"$error":"#DIV/0!"}},{"$f":"IF(AA7=0,0,(AA7*((LOG(AA7))/LOG(2))))","v":{"$error":"#DIV/0!"}},null,{"$f":"N7","v":111},{"$f":"COUNTIF(L21:L26,AD7)","v":0},{"$f":"AE7/(AG4-AE14)","v":{"$error":"#DIV/0!"}},{"$f":"IF(AF7=0,0,(AF7*((LOG(AF7))/LOG(2))))","v":{"$error":"#DIV/0!"}},null,{"$f":"N7","v":111},{"$f":"COUNTIF(L27:L33,AI7)","v":0},{"$f":"AJ7/(AL4-AJ14)","v":{"$error":"#DIV/0!"}},{"$f":"IF(AK7=0,0,(AK7*((LOG(AK7))/LOG(2))))","v":{"$error":"#DIV/0!"}},null,{"$f":"N7","v":111},{"$f":"COUNTIF(L34:L40,AN7)","v":0},{"$f":"AO7/(AQ4-AO14)","v":{"$error":"#DIV/0!"}},{"$f":"IF(AP7=0,0,(AP7*((LOG(AP7))/LOG(2))))","v":{"$error":"#DIV/0!"}},null,{"$f":"N7","v":111},{"$f":"COUNTIF(L41:L47,AS7)","v":0},{"$f":"AT7/(AV4-AT14)","v":{"$error":"#DIV/0!"}},{"$f":"IF(AU7=0,0,(AU7*((LOG(AU7))/LOG(2))))","v":{"$error":"#DIV/0!"}}]
[21,133,21,141,21,149,null,null,null,null,0,222,null,112,{"$f":"COUNTIF($L$7:$L$500,N8)","v":0},{"$f":"O8/$Q$4","v":0},{"$f":"IF(P8=0,0,(P8*((LOG(P8))/LOG(2))))","v":0},null,null,{"$f":"N8","v":112},{"$f":"COUNTIF(L7:L13,T8)","v":0},{"$f":"U8/(W4-U14)","v":0},{"$f":"IF(V8=0,0,(V8*((LOG(V8))/LOG(2))))","v":0},null,{"$f":"N8","v":112},{"$f":"COUNTIF(L14:L20,Y8)","v":0},{"$f":"Z8/(AB4-Z14)","v":{"$error":"#DIV/0!"}},{"$f":"IF(AA8=0,0,(AA8*((LOG(AA8))/LOG(2))))","v":{"$error":"#DIV/0!"}},null,{"$f":"N8","v":112},{"$f":"COUNTIF(L21:L26,AD8)","v":0},{"$f":"AE8/(AG4-AE14)","v":{"$error":"#DIV/0!"}},{"$f":"IF(AF8=0,0,(AF8*((LOG(AF8))/LOG(2))))","v":{"$error":"#DIV/0!"}},null,{"$f":"N8","v":112},{"$f":"COUNTIF(L27:L33,AI8)","v":0},{"$f":"AJ8/(AL4-AJ14)","v":{"$error":"#DIV/0!"}},{"$f":"IF(AK8=0,0,(AK8*((LOG(AK8))/LOG(2))))","v":{"$error":"#DIV/0!"}},null,{"$f":"N8","v":112},{"$f":"COUNTIF(L34:L40,AN8)","v":0},{"$f":"AO8/(AQ4-AO14)","v":{"$error":"#DIV/0!"}},{"$f":"IF(AP8=0,0,(AP8*((LOG(AP8))/LOG(2))))","v":{"$error":"#DIV/0!"}},null,{"$f":"N8","v":112},{"$f":"COUNTIF(L41:L47,AS8)","v":0},{"$f":"AT8/(AV4-AT14)","v":{"$error":"#DIV/0!"}},{"$f":"IF(AU8=0,0,(AU8*((LOG(AU8))/LOG(2))))","v":{"$error":"#DIV/0!"}}]
[21,297,21,307,21,348,null,null,null,null,0,222,null,121,{"$f":"COUNTIF($L$7:$L$500,N9)","v":0},{"$f":"O9/$Q$4","v":0},{"$f":"IF(P9=0,0,(P9*((LOG(P9))/LOG(2))))","v":0},null,null,{"$f":"N9","v":121},{"$f":"COUNTIF(L7:L13,T9)","v":0},{"$f":"U9/(W4-U14)","v":0},{"$f":"IF(V9=0,0,(V9*((LOG(V9))/LOG(2))))","v":0},null,{"$f":"N9","v":121},{"$f":"COUNTIF(L14:L20,Y9)","v":0},{"$f":"Z9/(AB4-Z14)","v":{"$error":"#DIV/0!"}},{"$f":"IF(AA9=0,0,(AA9*((LOG(AA9))/LOG(2))))","v":{"$error":"#DIV/0!"}},null,{"$f":"N9","v":121},{"$f":"COUNTIF(L21:L26,AD9)","v":0},{"$f":"AE9/(AG4-AE14)","v":{"$error":"#DIV/0!"}},{"$f":"IF(AF9=0,0,(AF9*((LOG(AF9))/LOG(2))))","v":{"$error":"#DIV/0!"}},null,{"$f":"N9","v":121},{"$f":"COUNTIF(L27:L33,AI9)","v":0},{"$f":"AJ9/(AL4-AJ14)","v":{"$error":"#DIV/0!"}},{"$f":"IF(AK9=0,0,(AK9*((LOG(AK9))/LOG(2))))","v":{"$error":"#DIV/0!"}},null,{"$f":"N9","v":121},{"$f":"COUNTIF(L34:L40,AN9)","v":0},{"$f":"AO9/(AQ4-AO14)","v":{"$error":"#DIV/0!"}},{"$f":"IF(AP9=0,0,(AP9*((LOG(AP9))/LOG(2))))","v":{"$error":"#DIV/0!"}},null,{"$f":"N9","v":121},{"$f":"COUNTIF(L41:L47,AS9)","v":0},{"$f":"AT9/(AV4-AT14)","v":{"$error":"#DIV/0!"}},{"$f":"IF(AU9=0,0,(AU9*((LOG(AU9))/LOG(2))))","v":{"$error":"#DIV/0!"}}]
[21,448,21,483,21,504,null,null,null,null,0,222,null,122,{"$f":"COUNTIF($L$7:$L$500,N10)","v":0},{"$f":"O10/$Q$4","v":0},{"$f":"IF(P10=0,0,(P10*((LOG(P10))/LOG(2))))","v":0},null,null,{"$f":"N10","v":122},{"$f":"COUNTIF(L7:L13,T10)","v":0},{"$f":"U10/(W4-U14)","v":0},{"$f":"IF(V10=0,0,(V10*((LOG(V10))/LOG(2))))","v":0},null,{"$f":"N10","v":122},{"$f":"COUNTIF(L14:L20,Y10)","v":0},{"$f":"Z10/(AB4-Z14)","v":{"$error":"#DIV/0!"}},{"$f":"IF(AA10=0,0,(AA10*((LOG(AA10))/LOG(2))))","v":{"$error":"#DIV/0!"}},null,{"$f":"N10","v":122},{"$f":"COUNTIF(L21:L26,AD10)","v":0},{"$f":"AE10/(AG4-AE14)","v":{"$error":"#DIV/0!"}},{"$f":"IF(AF10=0,0,(AF10*((LOG(AF10))/LOG(2))))","v":{"$error":"#DIV/0!"}},null,{"$f":"N10","v":122},{"$f":"COUNTIF(L27:L33,AI10)","v":0},{"$f":"AJ10/(AL4-AJ14)","v":{"$error":"#DIV/0!"}},{"$f":"IF(AK10=0,0,(AK10*((LOG(AK10))/LOG(2))))","v":{"$error":"#DIV/0!"}},null,{"$f":"N10","v":122},{"$f":"COUNTIF(L34:L40,AN10)","v":0},{"$f":"AO10/(AQ4-AO14)","v":{"$error":"#DIV/0!"}},{"$f":"IF(AP10=0,0,(AP10*((LOG(AP10))/LOG(2))))","v":{"$error":"#DIV/0!"}},null,{"$f":"N10","v":122},{"$f":"COUNTIF(L41:L47,AS10)","v":0},{"$f":"AT10/(AV4-AT14)","v":{"$error":"#DIV/0!"}},{"$f":"IF(AU10=0,0,(AU10*((LOG(AU10))/LOG(2))))","v":{"$error":"#DIV/0!"}}]
[21,647,21,665,21,678,null,null,null,null,0,222,null,211,{"$f":"COUNTIF($L$7:$L$500,N11)","v":0},{"$f":"O11/$Q$4","v":0},{"$f":"IF(P11=0,0,(P11*((LOG(P11))/LOG(2))))","v":0},null,null,{"$f":"N11","v":211},{"$f":"COUNTIF(L7:L13,T11)","v":0},{"$f":"U11/(W4-U14)","v":0},{"$f":"IF(V11=0,0,(V11*((LOG(V11))/LOG(2))))","v":0},null,{"$f":"N11","v":211},{"$f":"COUNTIF(L14:L20,Y11)","v":0},{"$f":"Z11/(AB4-Z14)","v":{"$error":"#DIV/0!"}},{"$f":"IF(AA11=0,0,(AA11*((LOG(AA11))/LOG(2))))","v":{"$error":"#DIV/0!"}},null,{"$f":"N11","v":211},{"$f":"COUNTIF(L21:L26,AD11)","v":0},{"$f":"AE11/(AG4-AE14)","v":{"$error":"#DIV/0!"}},{"$f":"IF(AF11=0,0,(AF11*((LOG(AF11))/LOG(2))))","v":{"$error":"#DIV/0!"}},null,{"$f":"N11","v":211},{"$f":"COUNTIF(L27:L33,AI11)","v":0},{"$f":"AJ11/(AL4-AJ14)","v":{"$error":"#DIV/0!"}},{"$f":"IF(AK11=0,0,(AK11*((LOG(AK11))/LOG(2))))","v":{"$error":"#DIV/0!"}},null,{"$f":"N11","v":211},{"$f":"COUNTIF(L34:L40,AN11)","v":0},{"$f":"AO11/(AQ4-AO14)","v":{"$error":"#DIV/0!"}},{"$f":"IF(AP11=0,0,(AP11*((LOG(AP11))/LOG(2))))","v":{"$error":"#DIV/0!"}},null,{"$f":"N11","v":211},{"$f":"COUNTIF(L41:L47,AS11)","v":0},{"$f":"AT11/(AV4-AT14)","v":{"$error":"#DIV/0!"}},{"$f":"IF(AU11=0,0,(AU11*((LOG(AU11))/LOG(2))))","v":{"$error":"#DIV/0!"}}]
[21,800,21,811,21,821,null,null,null,null,0,222,null,212,{"$f":"COUNTIF($L$7:$L$500,N12)","v":1},{"$f":"O12/$Q$4","v":2.4390243902439025E-2},{"$f":"IF(P12=0,0,(P12*((LOG(P12))/LOG(2))))","v":-0.13067200011263619},null,null,{"$f":"N12","v":212},{"$f":"COUNTIF(L7:L13,T12)","v":1},{"$f":"U12/(W4-U14)","v":1},{"$f":"IF(V12=0,0,(V12*((LOG(V12))/LOG(2))))","v":0},null,{"$f":"N12","v":212},{"$f":"COUNTIF(L14:L20,Y12)","v":0},{"$f":"Z12/(AB4-Z14)","v":{"$error":"#DIV/0!"}},{"$f":"IF(AA12=0,0,(AA12*((LOG(AA12))/LOG(2))))","v":{"$error":"#DIV/0!"}},null,{"$f":"N12","v":212},{"$f":"COUNTIF(L21:L26,AD12)","v":0},{"$f":"AE12/(AG4-AE14)","v":{"$error":"#DIV/0!"}},{"$f":"IF(AF12=0,0,(AF12*((LOG(AF12))/LOG(2))))","v":{"$error":"#DIV/0!"}},null,{"$f":"N12","v":212},{"$f":"COUNTIF(L27:L33,AI12)","v":0},{"$f":"AJ12/(AL4-AJ14)","v":{"$error":"#DIV/0!"}},{"$f":"IF(AK12=0,0,(AK12*((LOG(AK12))/LOG(2))))","v":{"$error":"#DIV/0!"}},null,{"$f":"N12","v":212},{"$f":"COUNTIF(L34:L40,AN12)","v":0},{"$f":"AO12/(AQ4-AO14)","v":{"$error":"#DIV/0!"}},{"$f":"IF(AP12=0,0,(AP12*((LOG(AP12))/LOG(2))))","v":{"$error":"#DIV/0!"}},null,{"$f":"N12","v":212},{"$f":"COUNTIF(L41:L47,AS12)","v":0},{"$f":"AT12/(AV4-AT14)","v":{"$error":"#DIV/0!"}},{"$f":"IF(AU12=0,0,(AU12*((LOG(AU12))/LOG(2))))","v":{"$error":"#DIV/0!"}}]
[21,940,21,950,21,974,null,null,null,null,0,222,null,221,{"$f":"COUNTIF($L$7:$L$500,N13)","v":0},{"$f":"O13/$Q$4","v":0},{"$f":"IF(P13=0,0,(P13*((LOG(P13))/LOG(2))))","v":0},null,null,{"$f":"N13","v":221},{"$f":"COUNTIF(L7:L13,T13)","v":0},{"$f":"U13/(W4-U14)","v":0},{"$f":"IF(V13=0,0,(V13*((LOG(V13))/LOG(2))))","v":0},null,{"$f":"N13","v":221},{"$f":"COUNTIF(L14:L20,Y13)","v":0},{"$f":"Z13/(AB4-Z14)","v":{"$error":"#DIV/0!"}},{"$f":"IF(AA13=0,0,(AA13*((LOG(AA13))/LOG(2))))","v":{"$error":"#DIV/0!"}},null,{"$f":"N13","v":221},{"$f":"COUNTIF(L21:L26,AD13)","v":0},{"$f":"AE13/(AG4-AE14)","v":{"$error":"#DIV/0!"}},{"$f":"IF(AF13=0,0,(AF13*((LOG(AF13))/LOG(2))))","v":{"$error":"#DIV/0!"}},null,{"$f":"N13","v":221},{"$f":"COUNTIF(L27:L33,AI13)","v":0},{"$f":"AJ13/(AL4-AJ14)","v":{"$error":"#DIV/0!"}},{"$f":"IF(AK13=0,0,(AK13*((LOG(AK13))/LOG(2))))","v":{"$error":"#DIV/0!"}},null,{"$f":"N13","v":221},{"$f":"COUNTIF(L34:L40,AN13)","v":0},{"$f":"AO13/(AQ4-AO14)","v":{"$error":"#DIV/0!"}},{"$f":"IF(AP13=0,0,(AP13*((LOG(AP13))/LOG(2))))","v":{"$error":"#DIV/0!"}},null,{"$f":"N13","v":221},{"$f":"COUNTIF(L41:L47,AS13)","v":0},{"$f":"AT13/(AV4-AT14)","v":{"$error":"#DIV/0!"}},{"$f":"IF(AU13=0,0,(AU13*((LOG(AU13))/LOG(2))))","v":{"$error":"#DIV/0!"}}]
[21,1148,21,1158,21,1164,null,null,null,null,0,222,null,222,{"$f":"COUNTIF($L$7:$L$500,N14)","v":40},{"$f":"O14/$Q$4","v":0.97560975609756095},{"$f":"IF(P14=0,0,(P14*((LOG(P14))/LOG(2))))","v":-3.4755033883630611E-2},null,null,{"$f":"N14","v":222},{"$f":"COUNTIF(L7:L13,T14)","v":6},null,null,null,{"$f":"N14","v":222},{"$f":"COUNTIF(L14:L20,Y14)","v":7},null,null,null,{"$f":"N14","v":222},{"$f":"COUNTIF(L21:L26,AD14)","v":6},null,null,null,{"$f":"N14","v":222},{"$f":"COUNTIF(L27:L33,AI14)","v":7},null,null,null,{"$f":"N14","v":222},{"$f":"COUNTIF(L34:L40,AN14)","v":7},null,null,null,{"$f":"N14","v":222},{"$f":"COUNTIF(L41:L47,AS14)","v":7}]
[21,1262,21,1269,21,1287,null,null,null,null,0,222,null,null,null,{"$f":"SUM(P7:P14)","v":1},{"$f":"-SUM(Q7:Q14)","v":0.16542703399626679},null,null,null,null,{"$f":"SUM(V7:V14)","v":1},{"$f":"-SUM(W7:W14)","v":0},null,null,null,{"$f":"SUM(AA7:AA14)","v":{"$error":"#DIV/0!"}},{"$f":"-SUM(AB7:AB14)","v":{"$error":"#DIV/0!"}},null,null,null,{"$f":"SUM(AF7:AF14)","v":{"$error":"#DIV/0!"}},{"$f":"-SUM(AG7:AG14)","v":{"$error":"#DIV/0!"}},null,null,null,{"$f":"SUM(AK7:AK14)","v":{"$error":"#DIV/0!"}},{"$f":"-SUM(AL7:AL14)","v":{"$error":"#DIV/0!"}},null,null,null,{"$f":"SUM(AP7:AP14)","v":{"$error":"#DIV/0!"}},{"$f":"-SUM(AQ7:AQ14)","v":{"$error":"#DIV/0!"}},null,null,null,{"$f":"SUM(AU7:AU14)","v":{"$error":"#DIV/0!"}},{"$f":"-SUM(AV7:AV14)","v":{"$error":"#DIV/0!"}}]
[21,1390,21,1415,21,1425,null,null,null,null,0,222,null,null,null,"U=",{"$f":"Q15/(LOG(Q4)/LOG(2))","v":3.0877354779509855E-2},null,null,null,null,"U1=",{"$f":"W15/(LOG(W4)/LOG(2))","v":0},null,null,null,"U2=",{"$f":"AB15/(LOG(AB4)/LOG(2))","v":{"$error":"#DIV/0!"}},null,null,null,"U3=",{"$f":"AG15/(LOG(AG4)/LOG(2))","v":{"$error":"#DIV/0!"}},null,null,null,"U4=",{"$f":"AL15/(LOG(AL4)/LOG(2))","v":{"$error":"#DIV/0!"}},null,null,null,"U5=",{"$f":"AQ15/(LOG(AQ4)/LOG(2))","v":{"$error":"#DIV/0!"}},null,null,null,"U6=",{"$f":"AV15/(LOG(AV4)/LOG(2))","v":{"$error":"#DIV/0!"}}]
[21,1517,21,1522,21,1529,null,null,null,null,0,222]
[21,1634,21,1670,21,1689,null,null,null,null,0,222]
[21,1789,21,1795,21,1802,null,null,null,null,0,222,null,"Total Target Seq"]
[21,1918,21,1924,21,1957,null,null,null,null,0,222,null,{"$f":"COUNTIF(L7:L47,G3)","v":40},null,7,7,6,7,7,7]
[21,2065,21,2085,21,2095,null,null,null,null,0,222,null,null,null,"% of reinforcement given in 6 equal intervals based on number of trials "]
[21,2193,21,2199,21,2211,null,null,null,null,0,222,null,null,null,"%_1","%_2","%_3","%_4","%_5","%_6"]
[21,2321,21,2336,21,2350,null,null,null,null,0,222,null,null,"target sequence",{"$f":"$G$3","v":222},{"$f":"$G$3","v":222},{"$f":"$G$3","v":222},{"$f":"$G$3","v":222},{"$f":"$G$3","v":222},{"$f":"$G$3","v":222}]
[21,2463,21,2469,21,2475,null,null,null,null,0,222,null,null,"total reinforcement",{"$f":"U14","v":6},{"$f":"Z14","v":7},{"$f":"AE14","v":6},{"$f":"AJ14","v":7},{"$f":"AO14","v":7},{"$f":"AT14","v":7}]
[21,2579,21,2585,21,2591,null,null,null,null,0,222,null,null,"% target"]
[21,2694,21,2700,21,2747,null,null,null,null,0,222,null,null,"CCRF"]
[21,2842,21,2855,21,2866,null,null,null,null,0,222,null,null,"% CCRf"]
[21,3008,21,3013,21,3019,null,null,null,null,0,222,null,null,"average response rate",{"$f":"F13/P20","v":139.14285714285714},{"$f":"(F20-F13)/Q20","v":140.42857142857142},{"$f":"(F26-F20)/R20","v":131.66666666666666},{"$f":"(F33-F26)/S20","v":156},{"$f":"(F40-F33)/T20","v":135.57142857142858},{"$f":"(F47-F40)/U20","v":166.28571428571428}]
[21,3225,21,3230,21,3292,null,null,null,null,0,222]
[21,3401,21,3415,21,3425,null,null,null,null,0,222]
[21,3529,21,3535,21,3558,null,null,null,null,0,222]
[21,3665,21,3671,21,3697,null,null,null,null,0,222]
[21,3810,21,3819,21,3839,null,null,null,null,0,222]
[21,3955,21,3961,21,3967,null,null,null,null,0,222]
[21,4081,21,4106,21,4130,null,null,null,null,0,222]
[21,4238,21,4255,21,4264,null,null,null,null,0,222]
[21,4361,21,4371,21,4380,null,null,null,null,0,222]
[21,4495,21,4501,21,4507,null,null,null,null,0,222]
[21,4641,21,4664,21,4679,null,null,null,null,0,222]
[21,4771,21,4781,21,4788,null,null,null,null,0,222]
[21,4921,21,4927,21,4948,null,null,null,null,0,222]
[21,5061,21,5067,21,5073,null,null,null,null,0,222]
[21,5257,21,5273,21,5336,null,null,null,null,0,222]
[21,5439,21,5444,21,5450,null,null,null,null,0,222]
[21,5564,21,5572,21,5579,null,null,null,null,0,222]
[21,5727,21,5734,21,5763,null,null,null,null,0,222]
[21,5914,21,5929,21,5952,null,null,null,null,1,222]

{"sheet":"!M317B2I.sha","index":10,"n_rows":48,"n_cols":48,"rows_kept":48,"cut":false,"hidden":false,"merged":[[4,39,4,42],[5,39,5,40],[4,44,4,47],[5,44,5,45],[4,24,4,27],[5,24,5,25],[4,29,4,32],[5,29,5,30],[4,34,4,37],[5,34,5,35],[1,1,1,2],[5,13,5,14],[18,13,18,14],[19,13,19,14],[4,19,4,22],[5,19,5,20]]}
["Report for:!M317B2I.sha"]
["Date:","<date>"]
["Hen:","<hen>",null,null,null,"Correct Sequence",{"$f":"Start!J2","v":222},null,null,null,null,null,null,null,null,"Total Sequences in Data",{"$f":"4994-COUNTBLANK(L7:L5000)","v":42},null,null,null,null,"Total Sequences in Block Data",{"$f":"COUNTA(L7:L13)","v":7},null,null,null,"Total Sequences in Block Data",{"$f":"COUNTA(L14:L20)","v":7},null,null,null,"Total Sequences in Block Data",{"$f":"COUNTA(L21:L27)","v":7},null,null,null,"Total Sequences in Block Data",{"$f":"COUNTA(L28:L34)","v":7},null,null,null,"Total Sequences in Block Data",{"$f":"COUNTA(L35:L41)","v":7},null,null,null,"Total Sequences in Block Data",{"$f":"COUNTA(L42:L48)","v":7}]
[null,null,null,null,null,null,null,null,null,null,null,null,null,null,null,"Total Sequences in Summary",{"$f":"SUM(O7:O14)","v":42},null,null,null,null,"Total Sequences in Block Summary",{"$f":"SUM(U7:U14)","v":7},null,null,null,"Total Sequences in Block Summary",{"$f":"SUM(Z7:Z14)","v":7},null,null,null,"Total Sequences in Block Summary",{"$f":"SUM(AE7:AE14)","v":7},null,null,null,"Total Sequences in Block Summary",{"$f":"SUM(AJ7:AJ14)","v":7},null,null,null,"Total Sequences in Block Summary",{"$f":"SUM(AO7:AO14)","v":7},null,null,null,"Total Sequences in Block Summary",{"$f":"SUM(AT7:AT14)","v":7}]
[null,null,null,null,null,null,null,null,null,null,null,null,null,null,null,null,null,null,null,"Block 1",null,null,null,null,"Block 2",null,null,null,null,"Block 3",null,null,null,null,"Block 4",null,null,null,null,"Block 5",null,null,null,null,"Block 6"]
["Sequence\nComponent\n1","Time\n1","Sequence\nComponent\n2","Time\n2","Sequence\nComponent\n3","Time\n3","Sequence\nComponent\n4","Time\n4","Sequence\nComponent\n5","Time\n5","Correct?\n0=No 1=Yes","Sequence",null,"Frequency",null,"Relative Frequency","Variability",null,null,"Frequency",null,"Relative Frequency","Variability",null,"Frequency",null,"Relative Frequency","Variability",null,"Frequency",null,"Relative Frequency","Variability",null,"Frequency",null,"Relative Frequency","Variability",null,"Frequency",null,"Relative Frequency","Variability",null,"Frequency",null,"Relative Frequency","Variability"]
[21,7,21,9,21,13,null,null,null,null,0,222,null,111,{"$f":"COUNTIF($L$7:$L$500,N7)","v":0},{"$f":"O7/$Q$4","v":0},{"$f":"IF(P7=0,0,(P7*((LOG(P7))/LOG(2))))","v":0},null,null,{"$f":"N7","v":111},{"$f":"COUNTIF(L7:L13,T7)","v":0},{"$f":"U7/(W4-U14)","v":0},{"$f":"IF(V7=0,0,(V7*((LOG(V7))/LOG(2))))","v":0},null,{"$f":"N7","v":111},{"$f":"COUNTIF(L14:L20,Y7)","v":0},{"$f":"Z7/(AB4-Z14)","v":{"$error":"#DIV/0!"}},{"$f":"IF(AA7=0,0,(AA7*((LOG(AA7))/LOG(2))))","v":{"$error":"#DIV/0!"}},null,{"$f":"N7","v":111},{"$f":"COUNTIF(L21:L27,AD7)","v":0},{"$f":"AE7/(AG4-AE14)","v":{"$error":"#DIV/0!"}},{"$f":"IF(AF7=0,0,(AF7*((LOG(AF7))/LOG(2))))","v":{"$error":"#DIV/0!"}},null,{"$f":"N7","v":111},{"$f":"COUNTIF(L28:L34,AI7)","v":0},{"$f":"AJ7/(AL4-AJ14)","v":{"$error":"#DIV/0!"}},{"$f":"IF(AK7=0,0,(AK7*((LOG(AK7))/LOG(2))))","v":{"$error":"#DIV/0!"}},null,{"$f":"N7","v":111},{"$f":"COUNTIF(L35:L41,AN7)","v":0},{"$f":"AO7/(AQ4-AO14)","v":{"$error":"#DIV/0!"}},{"$f":"IF(AP7=0,0,(AP7*((LOG(AP7))/LOG(2))))","v":{"$error":"#DIV/0!"}},null,{"$f":"N7","v":111},{"$f":"COUNTIF(L42:L48,AS7)","v":0},{"$f":"AT7/(AV4-AT14)","v":{"$error":"#DIV/0!"}},{"$f":"IF(AU7=0,0,(AU7*((LOG(AU7))/LOG(2))))","v":{"$error":"#DIV/0!"}}]
[21,138,21,259,12,300,null,null,null,null,0,221,null,112,{"$f":"COUNTIF($L$7:$L$500,N8)","v":0},{"$f":"O8/$Q$4","v":0},{"$f":"IF(P8=0,0,(P8*((LOG(P8))/LOG(2))))","v":0},null,null,{"$f":"N8","v":112},{"$f":"COUNTIF(L7:L13,T8)","v":0},{"$f":"U8/(W4-U14)","v":0},{"$f":"IF(V8=0,0,(V8*((LOG(V8))/LOG(2))))","v":0},null,{"$f":"N8","v":112},{"$f":"COUNTIF(L14:L20,Y8)","v":0},{"$f":"Z8/(AB4-Z14)","v":{"$error":"#DIV/0!"}},{"$f":"IF(AA8=0,0,(AA8*((LOG(AA8))/LOG(2))))","v":{"$error":"#DIV/0!"}},null,{"$f":"N8","v":112},{"$f":"COUNTIF(L21:L27,AD8)","v":0},{"$f":"AE8/(AG4-AE14)","v":{"$error":"#DIV/0!"}},{"$f":"IF(AF8=0,0,(AF8*((LOG(AF8))/LOG(2))))","v":{"$error":"#DIV/0!"}},null,{"$f":"N8","v":112},{"$f":"COUNTIF(L28:L34,AI8)","v":0},{"$f":"AJ8/(AL4-AJ14)","v":{"$error":"#DIV/0!"}},{"$f":"IF(AK8=0,0,(AK8*((LOG(AK8))/LOG(2))))","v":{"$error":"#DIV/0!"}},null,{"$f":"N8","v":112},{"$f":"COUNTIF(L35:L41,AN8)","v":0},{"$f":"AO8/(AQ4-AO14)","v":{"$error":"#DIV/0!"}},{"$f":"IF(AP8=0,0,(AP8*((LOG(AP8))/LOG(2))))","v":{"$error":"#DIV/0!"}},null,{"$f":"N8","v":112},{"$f":"COUNTIF(L42:L48,AS8)","v":0},{"$f":"AT8/(AV4-AT14)","v":{"$error":"#DIV/0!"}},{"$f":"IF(AU8=0,0,(AU8*((LOG(AU8))/LOG(2))))","v":{"$error":"#DIV/0!"}}]
[21,396,12,408,23,420,null,null,null,null,0,212,null,121,{"$f":"COUNTIF($L$7:$L$500,N9)","v":0},{"$f":"O9/$Q$4","v":0},{"$f":"IF(P9=0,0,(P9*((LOG(P9))/LOG(2))))","v":0},null,null,{"$f":"N9","v":121},{"$f":"COUNTIF(L7:L13,T9)","v":0},{"$f":"U9/(W4-U14)","v":0},{"$f":"IF(V9=0,0,(V9*((LOG(V9))/LOG(2))))","v":0},null,{"$f":"N9","v":121},{"$f":"COUNTIF(L14:L20,Y9)","v":0},{"$f":"Z9/(AB4-Z14)","v":{"$error":"#DIV/0!"}},{"$f":"IF(AA9=0,0,(AA9*((LOG(AA9))/LOG(2))))","v":{"$error":"#DIV/0!"}},null,{"$f":"N9","v":121},{"$f":"COUNTIF(L21:L27,AD9)","v":0},{"$f":"AE9/(AG4-AE14)","v":{"$error":"#DIV/0!"}},{"$f":"IF(AF9=0,0,(AF9*((LOG(AF9))/LOG(2))))","v":{"$error":"#DIV/0!"}},null,{"$f":"N9","v":121},{"$f":"COUNTIF(L28:L34,AI9)","v":0},{"$f":"AJ9/(AL4-AJ14)","v":{"$error":"#DIV/0!"}},{"$f":"IF(AK9=0,0,(AK9*((LOG(AK9))/LOG(2))))","v":{"$error":"#DIV/0!"}},null,{"$f":"N9","v":121},{"$f":"COUNTIF(L35:L41,AN9)","v":0},{"$f":"AO9/(AQ4-AO14)","v":{"$error":"#DIV/0!"}},{"$f":"IF(AP9=0,0,(AP9*((LOG(AP9))/LOG(2))))","v":{"$error":"#DIV/0!"}},null,{"$f":"N9","v":121},{"$f":"COUNTIF(L42:L48,AS9)","v":0},{"$f":"AT9/(AV4-AT14)","v":{"$error":"#DIV/0!"}},{"$f":"IF(AU9=0,0,(AU9*((LOG(AU9))/LOG(2))))","v":{"$error":"#DIV/0!"}}]
[21,517,21,523,21,553,null,null,null,null,0,222,null,122,{"$f":"COUNTIF($L$7:$L$500,N10)","v":0},{"$f":"O10/$Q$4","v":0},{"$f":"IF(P10=0,0,(P10*((LOG(P10))/LOG(2))))","v":0},null,null,{"$f":"N10","v":122},{"$f":"COUNTIF(L7:L13,T10)","v":0},{"$f":"U10/(W4-U14)","v":0},{"$f":"IF(V10=0,0,(V10*((LOG(V10))/LOG(2))))","v":0},null,{"$f":"N10","v":122},{"$f":"COUNTIF(L14:L20,Y10)","v":0},{"$f":"Z10/(AB4-Z14)","v":{"$error":"#DIV/0!"}},{"$f":"IF(AA10=0,0,(AA10*((LOG(AA10))/LOG(2))))","v":{"$error":"#DIV/0!"}},null,{"$f":"N10","v":122},{"$f":"COUNTIF(L21:L27,AD10)","v":0},{"$f":"AE10/(AG4-AE14)","v":{"$error":"#DIV/0!"}},{"$f":"IF(AF10=0,0,(AF10*((LOG(AF10))/LOG(2))))","v":{"$error":"#DIV/0!"}},null,{"$f":"N10","v":122},{"$f":"COUNTIF(L28:L34,AI10)","v":0},{"$f":"AJ10/(AL4-AJ14)","v":{"$error":"#DIV/0!"}},{"$f":"IF(AK10=0,0,(AK10*((LOG(AK10))/LOG(2))))","v":{"$error":"#DIV/0!"}},null,{"$f":"N10","v":122},{"$f":"COUNTIF(L35:L41,AN10)","v":0},{"$f":"AO10/(AQ4-AO14)","v":{"$error":"#DIV/0!"}},{"$f":"IF(AP10=0,0,(AP10*((LOG(AP10))/LOG(2))))","v":{"$error":"#DIV/0!"}},null,{"$f":"N10","v":122},{"$f":"COUNTIF(L42:L48,AS10)","v":0},{"$f":"AT10/(AV4-AT14)","v":{"$error":"#DIV/0!"}},{"$f":"IF(AU10=0,0,(AU10*((LOG(AU10))/LOG(2))))","v":{"$error":"#DIV/0!"}}]
[21,663,21,700,21,711,null,null,null,null,0,222,null,211,{"$f":"COUNTIF($L$7:$L$500,N11)","v":0},{"$f":"O11/$Q$4","v":0},{"$f":"IF(P11=0,0,(P11*((LOG(P11))/LOG(2))))","v":0},null,null,{"$f":"N11","v":211},{"$f":"COUNTIF(L7:L13,T11)","v":0},{"$f":"U11/(W4-U14)","v":0},{"$f":"IF(V11=0,0,(V11*((LOG(V11))/LOG(2))))","v":0},null,{"$f":"N11","v":211},{"$f":"COUNTIF(L14:L20,Y11)","v":0},{"$f":"Z11/(AB4-Z14)","v":{"$error":"#DIV/0!"}},{"$f":"IF(AA11=0,0,(AA11*((LOG(AA11))/LOG(2))))","v":{"$error":"#DIV/0!"}},null,{"$f":"N11","v":211},{"$f":"COUNTIF(L21:L27,AD11)","v":0},{"$f":"AE11/(AG4-AE14)","v":{"$error":"#DIV/0!"}},{"$f":"IF(AF11=0,0,(AF11*((LOG(AF11))/LOG(2))))","v":{"$error":"#DIV/0!"}},null,{"$f":"N11","v":211},{"$f":"COUNTIF(L28:L34,AI11)","v":0},{"$f":"AJ11/(AL4-AJ14)","v":{"$error":"#DIV/0!"}},{"$f":"IF(AK11=0,0,(AK11*((LOG(AK11))/LOG(2))))","v":{"$error":"#DIV/0!"}},null,{"$f":"N11","v":211},{"$f":"COUNTIF(L35:L41,AN11)","v":0},{"$f":"AO11/(AQ4-AO14)","v":{"$error":"#DIV/0!"}},{"$f":"IF(AP11=0,0,(AP11*((LOG(AP11))/LOG(2))))","v":{"$error":"#DIV/0!"}},null,{"$f":"N11","v":211},{"$f":"COUNTIF(L42:L48,AS11)","v":0},{"$f":"AT11/(AV4-AT14)","v":{"$error":"#DIV/0!"}},{"$f":"IF(AU11=0,0,(AU11*((LOG(AU11))/LOG(2))))","v":{"$error":"#DIV/0!"}}]
[21,841,21,849,21,884,null,null,null,null,0,222,null,212,{"$f":"COUNTIF($L$7:$L$500,N12)","v":1},{"$f":"O12/$Q$4","v":2.3809523809523808E-2},{"$f":"IF(P12=0,0,(P12*((LOG(P12))/LOG(2))))","v":-0.12838851006616095},null,null,{"$f":"N12","v":212},{"$f":"COUNTIF(L7:L13,T12)","v":1},{"$f":"U12/(W4-U14)","v":0.5},{"$f":"IF(V12=0,0,(V12*((LOG(V12))/LOG(2))))","v":-0.5},null,{"$f":"N12","v":212},{"$f":"COUNTIF(L14:L20,Y12)","v":0},{"$f":"Z12/(AB4-Z14)","v":{"$error":"#DIV/0!"}},{"$f":"IF(AA12=0,0,(AA12*((LOG(AA12))/LOG(2))))","v":{"$error":"#DIV/0!"}},null,{"$f":"N12","v":212},{"$f":"COUNTIF(L21:L27,AD12)","v":0},{"$f":"AE12/(AG4-AE14)","v":{"$error":"#DIV/0!"}},{"$f":"IF(AF12=0,0,(AF12*((LOG(AF12))/LOG(2))))","v":{"$error":"#DIV/0!"}},null,{"$f":"N12","v":212},{"$f":"COUNTIF(L28:L34,AI12)","v":0},{"$f":"AJ12/(AL4-AJ14)","v":{"$error":"#DIV/0!"}},{"$f":"IF(AK12=0,0,(AK12*((LOG(AK12))/LOG(2))))","v":{"$error":"#DIV/0!"}},null,{"$f":"N12","v":212},{"$f":"COUNTIF(L35:L41,AN12)","v":0},{"$f":"AO12/(AQ4-AO14)","v":{"$error":"#DIV/0!"}},{"$f":"IF(AP12=0,0,(AP12*((LOG(AP12))/LOG(2))))","v":{"$error":"#DIV/0!"}},null,{"$f":"N12","v":212},{"$f":"COUNTIF(L42:L48,AS12)","v":0},{"$f":"AT12/(AV4-AT14)","v":{"$error":"#DIV/0!"}},{"$f":"IF(AU12=0,0,(AU12*((LOG(AU12))/LOG(2))))","v":{"$error":"#DIV/0!"}}]
[21,978,21,1066,21,1090,null,null,null,null,0,222,null,221,{"$f":"COUNTIF($L$7:$L$500,N13)","v":1},{"$f":"O13/$Q$4","v":2.3809523809523808E-2},{"$f":"IF(P13=0,0,(P13*((LOG(P13))/LOG(2))))","v":-0.12838851006616095},null,null,{"$f":"N13","v":221},{"$f":"COUNTIF(L7:L13,T13)","v":1},{"$f":"U13/(W4-U14)","v":0.5},{"$f":"IF(V13=0,0,(V13*((LOG(V13))/LOG(2))))","v":-0.5},null,{"$f":"N13","v":221},{"$f":"COUNTIF(L14:L20,Y13)","v":0},{"$f":"Z13/(AB4-Z14)","v":{"$error":"#DIV/0!"}},{"$f":"IF(AA13=0,0,(AA13*((LOG(AA13))/LOG(2))))","v":{"$error":"#DIV/0!"}},null,{"$f":"N13","v":221},{"$f":"COUNTIF(L21:L27,AD13)","v":0},{"$f":"AE13/(AG4-AE14)","v":{"$error":"#DIV/0!"}},{"$f":"IF(AF13=0,0,(AF13*((LOG(AF13))/LOG(2))))","v":{"$error":"#DIV/0!"}},null,{"$f":"N13","v":221},{"$f":"COUNTIF(L28:L34,AI13)","v":0},{"$f":"AJ13/(AL4-AJ14)","v":{"$error":"#DIV/0!"}},{"$f":"IF(AK13=0,0,(AK13*((LOG(AK13))/LOG(2))))","v":{"$error":"#DIV/0!"}},null,{"$f":"N13","v":221},{"$f":"COUNTIF(L35:L41,AN13)","v":0},{"$f":"AO13/(AQ4-AO14)","v":{"$error":"#DIV/0!"}},{"$f":"IF(AP13=0,0,(AP13*((LOG(AP13))/LOG(2))))","v":{"$error":"#DIV/0!"}},null,{"$f":"N13","v":221},{"$f":"COUNTIF(L42:L48,AS13)","v":0},{"$f":"AT13/(AV4-AT14)","v":{"$error":"#DIV/0!"}},{"$f":"IF(AU13=0,0,(AU13*((LOG(AU13))/LOG(2))))","v":{"$error":"#DIV/0!"}}]
[21,1183,21,1187,21,1227,null,null,null,null,0,222,null,222,{"$f":"COUNTIF($L$7:$L$500,N14)","v":40},{"$f":"O14/$Q$4","v":0.95238095238095233},{"$f":"IF(P14=0,0,(P14*((LOG(P14))/LOG(2))))","v":-6.7037455134664775E-2},null,null,{"$f":"N14","v":222},{"$f":"COUNTIF(L7:L13,T14)","v":5},null,null,null,{"$f":"N14","v":222},{"$f":"COUNTIF(L14:L20,Y14)","v":7},null,null,null,{"$f":"N14","v":222},{"$f":"COUNTIF(L21:L27,AD14)","v":7},null,null,null,{"$f":"N14","v":222},{"$f":"COUNTIF(L28:L34,AI14)","v":7},null,null,null,{"$f":"N14","v":222},{"$f":"COUNTIF(L35:L41,AN14)","v":7},null,null,null,{"$f":"N14","v":222},{"$f":"COUNTIF(L42:L48,AS14)","v":7}]
[21,1335,21,1350,21,1377,null,null,null,null,0,222,null,null,null,{"$f":"SUM(P7:P14)","v":1},{"$f":"-SUM(Q7:Q14)","v":0.3238144752669867},null,null,null,null,{"$f":"SUM(V7:V14)","v":1},{"$f":"-SUM(W7:W14)","v":1},null,null,null,{"$f":"SUM(AA7:AA14)","v":{"$error":"#DIV/0!"}},{"$f":"-SUM(AB7:AB14)","v":{"$error":"#DIV/0!"}},null,null,null,{"$f":"SUM(AF7:AF14)","v":{"$error":"#DIV/0!"}},{"$f":"-SUM(AG7:AG14)","v":{"$error":"#DIV/0!"}},null,null,null,{"$f":"SUM(AK7:AK14)","v":{"$error":"#DIV/0!"}},{"$f":"-SUM(AL7:AL14)","v":{"$error":"#DIV/0!"}},null,null,null,{"$f":"SUM(AP7:AP14)","v":{"$error":"#DIV/0!"}},{"$f":"-SUM(AQ7:AQ14)","v":{"$error":"#DIV/0!"}},null,null,null,{"$f":"SUM(AU7:AU14)","v":{"$error":"#DIV/0!"}},{"$f":"-SUM(AV7:AV14)","v":{"$error":"#DIV/0!"}}]
[21,1474,21,1481,21,1501,null,null,null,null,0,222,null,null,null,"U=",{"$f":"Q15/(LOG(Q4)/LOG(2))","v":6.0051078206022804E-2},null,null,null,null,"U1=",{"$f":"W15/(LOG(W4)/LOG(2))","v":0.35620718710802218},null,null,null,"U2=",{"$f":"AB15/(LOG(AB4)/LOG(2))","v":{"$error":"#DIV/0!"}},null,null,null,"U3=",{"$f":"AG15/(LOG(AG4)/LOG(2))","v":{"$error":"#DIV/0!"}},null,null,null,"U4=",{"$f":"AL15/(LOG(AL4)/LOG(2))","v":{"$error":"#DIV/0!"}},null,null,null,"U5=",{"$f":"AQ15/(LOG(AQ4)/LOG(2))","v":{"$error":"#DIV/0!"}},null,null,null,"U6=",{"$f":"AV15/(LOG(AV4)/LOG(2))","v":{"$error":"#DIV/0!"}}]
[21,1608,21,1614,21,1640,null,null,null,null,0,222]
[21,1742,21,1756,21,1828,null,null,null,null,0,222]
[21,1942,21,1950,21,1968,null,null,null,null,0,222,null,"Total Target Seq"]
[21,2096,21,2098,21,2109,null,null,null,null,0,222,null,{"$f":"COUNTIF(L7:L48,G3)","v":40},null,7,7,7,7,7,7]
[21,2203,21,2209,21,2224,null,null,null,null,0,222,null,null,null,"% of reinforcement given in 6 equal intervals based on number of trials "]
[21,2348,21,2355,21,2360,null,null,null,null,0,222,null,null,null,"%_1","%_2","%_3","%_4","%_5","%_6"]
[21,2481,21,2487,21,2515,null,null,null,null,0,222,null,null,"target sequence",{"$f":"$G$3","v":222},{"$f":"$G$3","v":222},{"$f":"$G$3","v":222},{"$f":"$G$3","v":222},{"$f":"$G$3","v":222},{"$f":"$G$3","v":222}]
[21,2623,21,2639,21,2649,null,null,null,null,0,222,null,null,"total reinforcement",{"$f":"U14","v":5},{"$f":"Z14","v":7},{"$f":"AE14","v":7},{"$f":"AJ14","v":7},{"$f":"AO14","v":7},{"$f":"AT14","v":7}]
[21,2785,21,2805,21,2822,null,null,null,null,0,222,null,null,"% target"]
[21,2934,21,2947,21,2975,null,null,null,null,0,222,null,null,"CCRF"]
[21,3072,21,3079,21,3089,null,null,null,null,0,222,null,null,"% CCRf"]
[21,3187,21,3196,21,3208,null,null,null,null,0,222,null,null,"average response rate",{"$f":"F13/P20","v":155.71428571428572},{"$f":"(F20-F13)/Q20","v":145.57142857142858},{"$f":"(F27-F20)/R20","v":140},{"$f":"(F34-F27)/S20","v":138.85714285714286},{"$f":"(F41-F34)/T20","v":149.14285714285714},{"$f":"(F48-F41)/U20","v":160.71428571428572}]
[21,3306,21,3312,21,3328,null,null,null,null,0,222]
[21,3425,21,3430,21,3438,null,null,null,null,0,222]
[21,3538,21,3549,21,3565,null,null,null,null,0,222]
[21,3660,21,3667,21,3679,null,null,null,null,0,222]
[21,3838,21,3871,21,3887,null,null,null,null,0,222]
[21,4034,21,4051,21,4061,null,null,null,null,0,222]
[21,4182,21,4189,21,4201,null,null,null,null,0,222]
[21,4297,21,4304,21,4337,null,null,null,null,0,222]
[21,4458,21,4474,21,4501,null,null,null,null,0,222]
[21,4613,21,4640,21,4672,null,null,null,null,0,222]
[21,4765,21,4769,21,4775,null,null,null,null,0,222]
[21,4903,21,4973,21,4990,null,null,null,null,0,222]
[21,5083,21,5088,21,5105,null,null,null,null,0,222]
[21,5205,21,5212,21,5221,null,null,null,null,0,222]
[21,5457,21,5464,21,5492,null,null,null,null,0,222]
[21,5620,21,5628,21,5633,null,null,null,null,0,222]
[21,5759,21,5766,21,5781,null,null,null,null,0,222]
[21,5881,21,5932,21,5955,null,null,null,null,0,222]
[21,6072,21,6082,21,6093,null,null,null,null,0,222]
[21,6187,21,6190,21,6230,null,null,null,null,1,222]

{"sheet":"!M318B0I.sha","index":11,"n_rows":47,"n_cols":48,"rows_kept":47,"cut":false,"hidden":false,"merged":[[4,39,4,42],[5,39,5,40],[4,44,4,47],[5,44,5,45],[4,24,4,27],[5,24,5,25],[4,29,4,32],[5,29,5,30],[4,34,4,37],[5,34,5,35],[1,1,1,2],[5,13,5,14],[18,13,18,14],[19,13,19,14],[4,19,4,22],[5,19,5,20]]}
["Report for:!M318B0I.sha"]
["Date:","<date>"]
["Hen:","<hen>",null,null,null,"Correct Sequence",{"$f":"Start!J2","v":222},null,null,null,null,null,null,null,null,"Total Sequences in Data",{"$f":"4994-COUNTBLANK(L7:L5000)","v":41},null,null,null,null,"Total Sequences in Block Data",{"$f":"COUNTA(L7:L13)","v":7},null,null,null,"Total Sequences in Block Data",{"$f":"COUNTA(L14:L20)","v":7},null,null,null,"Total Sequences in Block Data",{"$f":"COUNTA(L21:L26)","v":6},null,null,null,"Total Sequences in Block Data",{"$f":"COUNTA(L27:L33)","v":7},null,null,null,"Total Sequences in Block Data",{"$f":"COUNTA(L34:L40)","v":7},null,null,null,"Total Sequences in Block Data",{"$f":"COUNTA(L41:L47)","v":7}]
[null,null,null,null,null,null,null,null,null,null,null,null,null,null,null,"Total Sequences in Summary",{"$f":"SUM(O7:O14)","v":41},null,null,null,null,"Total Sequences in Block Summary",{"$f":"SUM(U7:U14)","v":7},null,null,null,"Total Sequences in Block Summary",{"$f":"SUM(Z7:Z14)","v":7},null,null,null,"Total Sequences in Block Summary",{"$f":"SUM(AE7:AE14)","v":6},null,null,null,"Total Sequences in Block Summary",{"$f":"SUM(AJ7:AJ14)","v":7},null,null,null,"Total Sequences in Block Summary",{"$f":"SUM(AO7:AO14)","v":7},null,null,null,"Total Sequences in Block Summary",{"$f":"SUM(AT7:AT14)","v":7}]
[null,null,null,null,null,null,null,null,null,null,null,null,null,null,null,null,null,null,null,"Block 1",null,null,null,null,"Block 2",null,null,null,null,"Block 3",null,null,null,null,"Block 4",null,null,null,null,"Block 5",null,null,null,null,"Block 6"]
["Sequence\nComponent\n1","Time\n1","Sequence\nComponent\n2","Time\n2","Sequence\nComponent\n3","Time\n3","Sequence\nComponent\n4","Time\n4","Sequence\nComponent\n5","Time\n5","Correct?\n0=No 1=Yes","Sequence",null,"Frequency",null,"Relative Frequency","Variability",null,null,"Frequency",null,"Relative Frequency","Variability",null,"Frequency",null,"Relative Frequency","Variability",null,"Frequency",null,"Relative Frequency","Variability",null,"Frequency",null,"Relative Frequency","Variability",null,"Frequency",null,"Relative Frequency","Variability",null,"Frequency",null,"Relative Frequency","Variability"]
[21,8,21,30,12,50,null,null,null,null,0,221,null,111,{"$f":"COUNTIF($L$7:$L$500,N7)","v":0},{"$f":"O7/$Q$4","v":0},{"$f":"IF(P7=0,0,(P7*((LOG(P7))/LOG(2))))","v":0},null,null,{"$f":"N7","v":111},{"$f":"COUNTIF(L7:L13,T7)","v":0},{"$f":"U7/(W4-U14)","v":0},{"$f":"IF(V7=0,0,(V7*((LOG(V7))/LOG(2))))","v":0},null,{"$f":"N7","v":111},{"$f":"COUNTIF(L14:L20,Y7)","v":0},{"$f":"Z7/(AB4-Z14)","v":{"$error":"#DIV/0!"}},{"$f":"IF(AA7=0,0,(AA7*((LOG(AA7))/LOG(2))))","v":{"$error":"#DIV/0!"}},null,{"$f":"N7","v":111},{"$f":"COUNTIF(L21:L26,AD7)","v":0},{"$f":"AE7/(AG4-AE14)","v":{"$error":"#DIV/0!"}},{"$f":"IF(AF7=0,0,(AF7*((LOG(AF7))/LOG(2))))","v":{"$error":"#DIV/0!"}},null,{"$f":"N7","v":111},{"$f":"COUNTIF(L27:L33,AI7)","v":0},{"$f":"AJ7/(AL4-AJ14)","v":{"$error":"#DIV/0!"}},{"$f":"IF(AK7=0,0,(AK7*((LOG(AK7))/LOG(2))))","v":{"$error":"#DIV/0!"}},null,{"$f":"N7","v":111},{"$f":"COUNTIF(L34:L40,AN7)","v":0},{"$f":"AO7/(AQ4-AO14)","v":{"$error":"#DIV/0!"}},{"$f":"IF(AP7=0,0,(AP7*((LOG(AP7))/LOG(2))))","v":{"$error":"#DIV/0!"}},null,{"$f":"N7","v":111},{"$f":"COUNTIF(L41:L47,AS7)","v":0},{"$f":"AT7/(AV4-AT14)","v":{"$error":"#DIV/0!"}},{"$f":"IF(AU7=0,0,(AU7*((LOG(AU7))/LOG(2))))","v":{"$error":"#DIV/0!"}}]
[21,149,21,154,21,176,null,null,null,null,0,222,null,112,{"$f":"COUNTIF($L$7:$L$500,N8)","v":0},{"$f":"O8/$Q$4","v":0},{"$f":"IF(P8=0,0,(P8*((LOG(P8))/LOG(2))))","v":0},null,null,{"$f":"N8","v":112},{"$f":"COUNTIF(L7:L13,T8)","v":0},{"$f":"U8/(W4-U14)","v":0},{"$f":"IF(V8=0,0,(V8*((LOG(V8))/LOG(2))))","v":0},null,{"$f":"N8","v":112},{"$f":"COUNTIF(L14:L20,Y8)","v":0},{"$f":"Z8/(AB4-Z14)","v":{"$error":"#DIV/0!"}},{"$f":"IF(AA8=0,0,(AA8*((LOG(AA8))/LOG(2))))","v":{"$error":"#DIV/0!"}},null,{"$f":"N8","v":112},{"$f":"COUNTIF(L21:L26,AD8)","v":0},{"$f":"AE8/(AG4-AE14)","v":{"$error":"#DIV/0!"}},{"$f":"IF(AF8=0,0,(AF8*((LOG(AF8))/LOG(2))))","v":{"$error":"#DIV/0!"}},null,{"$f":"N8","v":112},{"$f":"COUNTIF(L27:L33,AI8)","v":0},{"$f":"AJ8/(AL4-AJ14)","v":{"$error":"#DIV/0!"}},{"$f":"IF(AK8=0,0,(AK8*((LOG(AK8))/LOG(2))))","v":{"$error":"#DIV/0!"}},null,{"$f":"N8","v":112},{"$f":"COUNTIF(L34:L40,AN8)","v":0},{"$f":"AO8/(AQ4-AO14)","v":{"$error":"#DIV/0!"}},{"$f":"IF(AP8=0,0,(AP8*((LOG(AP8))/LOG(2))))","v":{"$error":"#DIV/0!"}},null,{"$f":"N8","v":112},{"$f":"COUNTIF(L41:L47,AS8)","v":0},{"$f":"AT8/(AV4-AT14)","v":{"$error":"#DIV/0!"}},{"$f":"IF(AU8=0,0,(AU8*((LOG(AU8))/LOG(2))))","v":{"$error":"#DIV/0!"}}]
[21,269,21,280,21,310,null,null,null,null,0,222,null,121,{"$f":"COUNTIF($L$7:$L$500,N9)","v":0},{"$f":"O9/$Q$4","v":0},{"$f":"IF(P9=0,0,(P9*((LOG(P9))/LOG(2))))","v":0},null,null,{"$f":"N9","v":121},{"$f":"COUNTIF(L7:L13,T9)","v":0},{"$f":"U9/(W4-U14)","v":0},{"$f":"IF(V9=0,0,(V9*((LOG(V9))/LOG(2))))","v":0},null,{"$f":"N9","v":121},{"$f":"COUNTIF(L14:L20,Y9)","v":0},{"$f":"Z9/(AB4-Z14)","v":{"$error":"#DIV/0!"}},{"$f":"IF(AA9=0,0,(AA9*((LOG(AA9))/LOG(2))))","v":{"$error":"#DIV/0!"}},null,{"$f":"N9","v":121},{"$f":"COUNTIF(L21:L26,AD9)","v":0},{"$f":"AE9/(AG4-AE14)","v":{"$error":"#DIV/0!"}},{"$f":"IF(AF9=0,0,(AF9*((LOG(AF9))/LOG(2))))","v":{"$error":"#DIV/0!"}},null,{"$f":"N9","v":121},{"$f":"COUNTIF(L27:L33,AI9)","v":0},{"$f":"AJ9/(AL4-AJ14)","v":{"$error":"#DIV/0!"}},{"$f":"IF(AK9=0,0,(AK9*((LOG(AK9))/LOG(2))))","v":{"$error":"#DIV/0!"}},null,{"$f":"N9","v":121},{"$f":"COUNTIF(L34:L40,AN9)","v":0},{"$f":"AO9/(AQ4-AO14)","v":{"$error":"#DIV/0!"}},{"$f":"IF(AP9=0,0,(AP9*((LOG(AP9))/LOG(2))))","v":{"$error":"#DIV/0!"}},null,{"$f":"N9","v":121},{"$f":"COUNTIF(L41:L47,AS9)","v":0},{"$f":"AT9/(AV4-AT14)","v":{"$error":"#DIV/0!"}},{"$f":"IF(AU9=0,0,(AU9*((LOG(AU9))/LOG(2))))","v":{"$error":"#DIV/0!"}}]
[21,446,21,452,21,463,null,null,null,null,0,222,null,122,{"$f":"COUNTIF($L$7:$L$500,N10)","v":0},{"$f":"O10/$Q$4","v":0},{"$f":"IF(P10=0,0,(P10*((LOG(P10))/LOG(2))))","v":0},null,null,{"$f":"N10","v":122},{"$f":"COUNTIF(L7:L13,T10)","v":0},{"$f":"U10/(W4-U14)","v":0},{"$f":"IF(V10=0,0,(V10*((LOG(V10))/LOG(2))))","v":0},null,{"$f":"N10","v":122},{"$f":"COUNTIF(L14:L20,Y10)","v":0},{"$f":"Z10/(AB4-Z14)","v":{"$error":"#DIV/0!"}},{"$f":"IF(AA10=0,0,(AA10*((LOG(AA10))/LOG(2))))","v":{"$error":"#DIV/0!"}},null,{"$f":"N10","v":122},{"$f":"COUNTIF(L21:L26,AD10)","v":0},{"$f":"AE10/(AG4-AE14)","v":{"$error":"#DIV/0!"}},{"$f":"IF(AF10=0,0,(AF10*((LOG(AF10))/LOG(2))))","v":{"$error":"#DIV/0!"}},null,{"$f":"N10","v":122},{"$f":"COUNTIF(L27:L33,AI10)","v":0},{"$f":"AJ10/(AL4-AJ14)","v":{"$error":"#DIV/0!"}},{"$f":"IF(AK10=0,0,(AK10*((LOG(AK10))/LOG(2))))","v":{"$error":"#DIV/0!"}},null,{"$f":"N10","v":122},{"$f":"COUNTIF(L34:L40,AN10)","v":0},{"$f":"AO10/(AQ4-AO14)","v":{"$error":"#DIV/0!"}},{"$f":"IF(AP10=0,0,(AP10*((LOG(AP10))/LOG(2))))","v":{"$error":"#DIV/0!"}},null,{"$f":"N10","v":122},{"$f":"COUNTIF(L41:L47,AS10)","v":0},{"$f":"AT10/(AV4-AT14)","v":{"$error":"#DIV/0!"}},{"$f":"IF(AU10=0,0,(AU10*((LOG(AU10))/LOG(2))))","v":{"$error":"#DIV/0!"}}]
[21,572,21,595,21,616,null,null,null,null,0,222,null,211,{"$f":"COUNTIF($L$7:$L$500,N11)","v":0},{"$f":"O11/$Q$4","v":0},{"$f":"IF(P11=0,0,(P11*((LOG(P11))/LOG(2))))","v":0},null,null,{"$f":"N11","v":211},{"$f":"COUNTIF(L7:L13,T11)","v":0},{"$f":"U11/(W4-U14)","v":0},{"$f":"IF(V11=0,0,(V11*((LOG(V11))/LOG(2))))","v":0},null,{"$f":"N11","v":211},{"$f":"COUNTIF(L14:L20,Y11)","v":0},{"$f":"Z11/(AB4-Z14)","v":{"$error":"#DIV/0!"}},{"$f":"IF(AA11=0,0,(AA11*((LOG(AA11))/LOG(2))))","v":{"$error":"#DIV/0!"}},null,{"$f":"N11","v":211},{"$f":"COUNTIF(L21:L26,AD11)","v":0},{"$f":"AE11/(AG4-AE14)","v":{"$error":"#DIV/0!"}},{"$f":"IF(AF11=0,0,(AF11*((LOG(AF11))/LOG(2))))","v":{"$error":"#DIV/0!"}},null,{"$f":"N11","v":211},{"$f":"COUNTIF(L27:L33,AI11)","v":0},{"$f":"AJ11/(AL4-AJ14)","v":{"$error":"#DIV/0!"}},{"$f":"IF(AK11=0,0,(AK11*((LOG(AK11))/LOG(2))))","v":{"$error":"#DIV/0!"}},null,{"$f":"N11","v":211},{"$f":"COUNTIF(L34:L40,AN11)","v":0},{"$f":"AO11/(AQ4-AO14)","v":{"$error":"#DIV/0!"}},{"$f":"IF(AP11=0,0,(AP11*((LOG(AP11))/LOG(2))))","v":{"$error":"#DIV/0!"}},null,{"$f":"N11","v":211},{"$f":"COUNTIF(L41:L47,AS11)","v":0},{"$f":"AT11/(AV4-AT14)","v":{"$error":"#DIV/0!"}},{"$f":"IF(AU11=0,0,(AU11*((LOG(AU11))/LOG(2))))","v":{"$error":"#DIV/0!"}}]
[21,713,21,738,21,766,null,null,null,null,0,222,null,212,{"$f":"COUNTIF($L$7:$L$500,N12)","v":0},{"$f":"O12/$Q$4","v":0},{"$f":"IF(P12=0,0,(P12*((LOG(P12))/LOG(2))))","v":0},null,null,{"$f":"N12","v":212},{"$f":"COUNTIF(L7:L13,T12)","v":0},{"$f":"U12/(W4-U14)","v":0},{"$f":"IF(V12=0,0,(V12*((LOG(V12))/LOG(2))))","v":0},null,{"$f":"N12","v":212},{"$f":"COUNTIF(L14:L20,Y12)","v":0},{"$f":"Z12/(AB4-Z14)","v":{"$error":"#DIV/0!"}},{"$f":"IF(AA12=0,0,(AA12*((LOG(AA12))/LOG(2))))","v":{"$error":"#DIV/0!"}},null,{"$f":"N12","v":212},{"$f":"COUNTIF(L21:L26,AD12)","v":0},{"$f":"AE12/(AG4-AE14)","v":{"$error":"#DIV/0!"}},{"$f":"IF(AF12=0,0,(AF12*((LOG(AF12))/LOG(2))))","v":{"$error":"#DIV/0!"}},null,{"$f":"N12","v":212},{"$f":"COUNTIF(L27:L33,AI12)","v":0},{"$f":"AJ12/(AL4-AJ14)","v":{"$error":"#DIV/0!"}},{"$f":"IF(AK12=0,0,(AK12*((LOG(AK12))/LOG(2))))","v":{"$error":"#DIV/0!"}},null,{"$f":"N12","v":212},{"$f":"COUNTIF(L34:L40,AN12)","v":0},{"$f":"AO12/(AQ4-AO14)","v":{"$error":"#DIV/0!"}},{"$f":"IF(AP12=0,0,(AP12*((LOG(AP12))/LOG(2))))","v":{"$error":"#DIV/0!"}},null,{"$f":"N12","v":212},{"$f":"COUNTIF(L41:L47,AS12)","v":0},{"$f":"AT12/(AV4-AT14)","v":{"$error":"#DIV/0!"}},{"$f":"IF(AU12=0,0,(AU12*((LOG(AU12))/LOG(2))))","v":{"$error":"#DIV/0!"}}]
[21,872,21,879,21,901,null,null,null,null,0,222,null,221,{"$f":"COUNTIF($L$7:$L$500,N13)","v":1},{"$f":"O13/$Q$4","v":2.4390243902439025E-2},{"$f":"IF(P13=0,0,(P13*((LOG(P13))/LOG(2))))","v":-0.13067200011263619},null,null,{"$f":"N13","v":221},{"$f":"COUNTIF(L7:L13,T13)","v":1},{"$f":"U13/(W4-U14)","v":1},{"$f":"IF(V13=0,0,(V13*((LOG(V13))/LOG(2))))","v":0},null,{"$f":"N13","v":221},{"$f":"COUNTIF(L14:L20,Y13)","v":0},{"$f":"Z13/(AB4-Z14)","v":{"$error":"#DIV/0!"}},{"$f":"IF(AA13=0,0,(AA13*((LOG(AA13))/LOG(2))))","v":{"$error":"#DIV/0!"}},null,{"$f":"N13","v":221},{"$f":"COUNTIF(L21:L26,AD13)","v":0},{"$f":"AE13/(AG4-AE14)","v":{"$error":"#DIV/0!"}},{"$f":"IF(AF13=0,0,(AF13*((LOG(AF13))/LOG(2))))","v":{"$error":"#DIV/0!"}},null,{"$f":"N13","v":221},{"$f":"COUNTIF(L27:L33,AI13)","v":0},{"$f":"AJ13/(AL4-AJ14)","v":{"$error":"#DIV/0!"}},{"$f":"IF(AK13=0,0,(AK13*((LOG(AK13))/LOG(2))))","v":{"$error":"#DIV/0!"}},null,{"$f":"N13","v":221},{"$f":"COUNTIF(L34:L40,AN13)","v":0},{"$f":"AO13/(AQ4-AO14)","v":{"$error":"#DIV/0!"}},{"$f":"IF(AP13=0,0,(AP13*((LOG(AP13))/LOG(2))))","v":{"$error":"#DIV/0!"}},null,{"$f":"N13","v":221},{"$f":"COUNTIF(L41:L47,AS13)","v":0},{"$f":"AT13/(AV4-AT14)","v":{"$error":"#DIV/0!"}},{"$f":"IF(AU13=0,0,(AU13*((LOG(AU13))/LOG(2))))","v":{"$error":"#DIV/0!"}}]
[21,1049,21,1059,21,1067,null,null,null,null,0,222,null,222,{"$f":"COUNTIF($L$7:$L$500,N14)","v":40},{"$f":"O14/$Q$4","v":0.97560975609756095},{"$f":"IF(P14=0,0,(P14*((LOG(P14))/LOG(2))))","v":-3.4755033883630611E-2},null,null,{"$f":"N14","v":222},{"$f":"COUNTIF(L7:L13,T14)","v":6},null,null,null,{"$f":"N14","v":222},{"$f":"COUNTIF(L14:L20,Y14)","v":7},null,null,null,{"$f":"N14","v":222},{"$f":"COUNTIF(L21:L26,AD14)","v":6},null,null,null,{"$f":"N14","v":222},{"$f":"COUNTIF(L27:L33,AI14)","v":7},null,null,null,{"$f":"N14","v":222},{"$f":"COUNTIF(L34:L40,AN14)","v":7},null,null,null,{"$f":"N14","v":222},{"$f":"COUNTIF(L41:L47,AS14)","v":7}]
[21,1209,21,1251,21,1284,null,null,null,null,0,222,null,null,null,{"$f":"SUM(P7:P14)","v":1},{"$f":"-SUM(Q7:Q14)","v":0.16542703399626679},null,null,null,null,{"$f":"SUM(V7:V14)","v":1},{"$f":"-SUM(W7:W14)","v":0},null,null,null,{"$f":"SUM(AA7:AA14)","v":{"$error":"#DIV/0!"}},{"$f":"-SUM(AB7:AB14)","v":{"$error":"#DIV/0!"}},null,null,null,{"$f":"SUM(AF7:AF14)","v":{"$error":"#DIV/0!"}},{"$f":"-SUM(AG7:AG14)","v":{"$error":"#DIV/0!"}},null,null,null,{"$f":"SUM(AK7:AK14)","v":{"$error":"#DIV/0!"}},{"$f":"-SUM(AL7:AL14)","v":{"$error":"#DIV/0!"}},null,null,null,{"$f":"SUM(AP7:AP14)","v":{"$error":"#DIV/0!"}},{"$f":"-SUM(AQ7:AQ14)","v":{"$error":"#DIV/0!"}},null,null,null,{"$f":"SUM(AU7:AU14)","v":{"$error":"#DIV/0!"}},{"$f":"-SUM(AV7:AV14)","v":{"$error":"#DIV/0!"}}]
[21,1381,21,1390,21,1417,null,null,null,null,0,222,null,null,null,"U=",{"$f":"Q15/(LOG(Q4)/LOG(2))","v":3.0877354779509855E-2},null,null,null,null,"U1=",{"$f":"W15/(LOG(W4)/LOG(2))","v":0},null,null,null,"U2=",{"$f":"AB15/(LOG(AB4)/LOG(2))","v":{"$error":"#DIV/0!"}},null,null,null,"U3=",{"$f":"AG15/(LOG(AG4)/LOG(2))","v":{"$error":"#DIV/0!"}},null,null,null,"U4=",{"$f":"AL15/(LOG(AL4)/LOG(2))","v":{"$error":"#DIV/0!"}},null,null,null,"U5=",{"$f":"AQ15/(LOG(AQ4)/LOG(2))","v":{"$error":"#DIV/0!"}},null,null,null,"U6=",{"$f":"AV15/(LOG(AV4)/LOG(2))","v":{"$error":"#DIV/0!"}}]
[21,1520,21,1526,21,1535,null,null,null,null,0,222]
[21,1638,21,1669,21,1686,null,null,null,null,0,222]
[21,1806,21,1814,21,1833,null,null,null,null,0,222,null,"Total Target Seq"]
[21,1962,21,1971,21,1996,null,null,null,null,0,222,null,{"$f":"COUNTIF(L7:L47,G3)","v":40},null,7,7,6,7,7,7]
[21,2089,21,2102,21,2151,null,null,null,null,0,222,null,null,null,"% of reinforcement given in 6 equal intervals based on number of trials "]
[21,2301,21,2330,21,2364,null,null,null,null,0,222,null,null,null,"%_1","%_2","%_3","%_4","%_5","%_6"]
[21,2458,21,2465,21,2471,null,null,null,null,0,222,null,null,"target sequence",{"$f":"$G$3","v":222},{"$f":"$G$3","v":222},{"$f":"$G$3","v":222},{"$f":"$G$3","v":222},{"$f":"$G$3","v":222},{"$f":"$G$3","v":222}]
[21,2588,21,2606,21,2619,null,null,null,null,0,222,null,null,"total reinforcement",{"$f":"U14","v":6},{"$f":"Z14","v":7},{"$f":"AE14","v":6},{"$f":"AJ14","v":7},{"$f":"AO14","v":7},{"$f":"AT14","v":7}]
[21,2713,21,2754,21,2775,null,null,null,null,0,222,null,null,"% target"]
[21,2869,21,2875,21,2883,null,null,null,null,0,222,null,null,"CCRF"]
[21,2977,21,2982,21,2990,null,null,null,null,0,222,null,null,"% CCRf"]
[21,3142,21,3214,21,3224,null,null,null,null,0,222,null,null,"average response rate",{"$f":"F13/P20","v":128.71428571428572},{"$f":"(F20-F13)/Q20","v":156.42857142857142},{"$f":"(F26-F20)/R20","v":147.83333333333334},{"$f":"(F33-F26)/S20","v":139},{"$f":"(F40-F33)/T20","v":149.14285714285714},{"$f":"(F47-F40)/U20","v":167.57142857142858}]
[21,3320,21,3325,21,3359,null,null,null,null,0,222]
[21,3476,21,3481,21,3493,null,null,null,null,0,222]
[21,3599,21,3603,21,3615,null,null,null,null,0,222]
[21,3708,21,3720,21,3738,null,null,null,null,0,222]
[21,3832,21,3841,21,3856,null,null,null,null,0,222]
[21,3954,21,3967,21,3994,null,null,null,null,0,222]
[21,4087,21,4093,21,4125,null,null,null,null,0,222]
[21,4221,21,4292,21,4307,null,null,null,null,0,222]
[21,4440,21,4446,21,4464,null,null,null,null,0,222]
[21,4581,21,4597,21,4628,null,null,null,null,0,222]
[21,4724,21,4747,21,4776,null,null,null,null,0,222]
[21,4871,21,4887,21,4900,null,null,null,null,0,222]
[21,5053,21,5062,21,5070,null,null,null,null,0,222]
[21,5213,21,5219,21,5257,null,null,null,null,0,222]
[21,5366,21,5415,21,5432,null,null,null,null,0,222]
[21,5527,21,5535,21,5577,null,null,null,null,0,222]
[21,5670,21,5679,21,5688,null,null,null,null,0,222]
[21,5897,21,5902,21,5909,null,null,null,null,0,222]
[21,6019,21,6043,21,6073,null,null,null,null,1,222]

{"sheet":"!M319B0I.sha","index":12,"n_rows":47,"n_cols":48,"rows_kept":47,"cut":false,"hidden":false,"merged":[[4,39,4,42],[5,39,5,40],[4,44,4,47],[5,44,5,45],[4,24,4,27],[5,24,5,25],[4,29,4,32],[5,29,5,30],[4,34,4,37],[5,34,5,35],[1,1,1,2],[5,13,5,14],[18,13,18,14],[19,13,19,14],[4,19,4,22],[5,19,5,20]]}
["Report for:!M319B0I.sha"]
["Date:","<date>"]
["Hen:","<hen>",null,null,null,"Correct Sequence",{"$f":"Start!J2","v":222},null,null,null,null,null,null,null,null,"Total Sequences in Data",{"$f":"4994-COUNTBLANK(L7:L5000)","v":41},null,null,null,null,"Total Sequences in Block Data",{"$f":"COUNTA(L7:L13)","v":7},null,null,null,"Total Sequences in Block Data",{"$f":"COUNTA(L14:L20)","v":7},null,null,null,"Total Sequences in Block Data",{"$f":"COUNTA(L21:L26)","v":6},null,null,null,"Total Sequences in Block Data",{"$f":"COUNTA(L27:L33)","v":7},null,null,null,"Total Sequences in Block Data",{"$f":"COUNTA(L34:L40)","v":7},null,null,null,"Total Sequences in Block Data",{"$f":"COUNTA(L41:L47)","v":7}]
[null,null,null,null,null,null,null,null,null,null,null,null,null,null,null,"Total Sequences in Summary",{"$f":"SUM(O7:O14)","v":41},null,null,null,null,"Total Sequences in Block Summary",{"$f":"SUM(U7:U14)","v":7},null,null,null,"Total Sequences in Block Summary",{"$f":"SUM(Z7:Z14)","v":7},null,null,null,"Total Sequences in Block Summary",{"$f":"SUM(AE7:AE14)","v":6},null,null,null,"Total Sequences in Block Summary",{"$f":"SUM(AJ7:AJ14)","v":7},null,null,null,"Total Sequences in Block Summary",{"$f":"SUM(AO7:AO14)","v":7},null,null,null,"Total Sequences in Block Summary",{"$f":"SUM(AT7:AT14)","v":7}]
[null,null,null,null,null,null,null,null,null,null,null,null,null,null,null,null,null,null,null,"Block 1",null,null,null,null,"Block 2",null,null,null,null,"Block 3",null,null,null,null,"Block 4",null,null,null,null,"Block 5",null,null,null,null,"Block 6"]
["Sequence\nComponent\n1","Time\n1","Sequence\nComponent\n2","Time\n2","Sequence\nComponent\n3","Time\n3","Sequence\nComponent\n4","Time\n4","Sequence\nComponent\n5","Time\n5","Correct?\n0=No 1=Yes","Sequence",null,"Frequency",null,"Relative Frequency","Variability",null,null,"Frequency",null,"Relative Frequency","Variability",null,"Frequency",null,"Relative Frequency","Variability",null,"Frequency",null,"Relative Frequency","Variability",null,"Frequency",null,"Relative Frequency","Variability",null,"Frequency",null,"Relative Frequency","Variability",null,"Frequency",null,"Relative Frequency","Variability"]
[12,32,23,45,23,62,null,null,null,null,0,122,null,111,{"$f":"COUNTIF($L$7:$L$500,N7)","v":0},{"$f":"O7/$Q$4","v":0},{"$f":"IF(P7=0,0,(P7*((LOG(P7))/LOG(2))))","v":0},null,null,{"$f":"N7","v":111},{"$f":"COUNTIF(L7:L13,T7)","v":0},{"$f":"U7/(W4-U14)","v":0},{"$f":"IF(V7=0,0,(V7*((LOG(V7))/LOG(2))))","v":0},null,{"$f":"N7","v":111},{"$f":"COUNTIF(L14:L20,Y7)","v":0},{"$f":"Z7/(AB4-Z14)","v":{"$error":"#DIV/0!"}},{"$f":"IF(AA7=0,0,(AA7*((LOG(AA7))/LOG(2))))","v":{"$error":"#DIV/0!"}},null,{"$f":"N7","v":111},{"$f":"COUNTIF(L21:L26,AD7)","v":0},{"$f":"AE7/(AG4-AE14)","v":{"$error":"#DIV/0!"}},{"$f":"IF(AF7=0,0,(AF7*((LOG(AF7))/LOG(2))))","v":{"$error":"#DIV/0!"}},null,{"$f":"N7","v":111},{"$f":"COUNTIF(L27:L33,AI7)","v":0},{"$f":"AJ7/(AL4-AJ14)","v":{"$error":"#DIV/0!"}},{"$f":"IF(AK7=0,0,(AK7*((LOG(AK7))/LOG(2))))","v":{"$error":"#DIV/0!"}},null,{"$f":"N7","v":111},{"$f":"COUNTIF(L34:L40,AN7)","v":0},{"$f":"AO7/(AQ4-AO14)","v":{"$error":"#DIV/0!"}},{"$f":"IF(AP7=0,0,(AP7*((LOG(AP7))/LOG(2))))","v":{"$error":"#DIV/0!"}},null,{"$f":"N7","v":111},{"$f":"COUNTIF(L41:L47,AS7)","v":0},{"$f":"AT7/(AV4-AT14)","v":{"$error":"#DIV/0!"}},{"$f":"IF(AU7=0,0,(AU7*((LOG(AU7))/LOG(2))))","v":{"$error":"#DIV/0!"}}]
[21,159,21,181,21,232,null,null,null,null,0,222,null,112,{"$f":"COUNTIF($L$7:$L$500,N8)","v":0},{"$f":"O8/$Q$4","v":0},{"$f":"IF(P8=0,0,(P8*((LOG(P8))/LOG(2))))","v":0},null,null,{"$f":"N8","v":112},{"$f":"COUNTIF(L7:L13,T8)","v":0},{"$f":"U8/(W4-U14)","v":0},{"$f":"IF(V8=0,0,(V8*((LOG(V8))/LOG(2))))","v":0},null,{"$f":"N8","v":112},{"$f":"COUNTIF(L14:L20,Y8)","v":0},{"$f":"Z8/(AB4-Z14)","v":{"$error":"#DIV/0!"}},{"$f":"IF(AA8=0,0,(AA8*((LOG(AA8))/LOG(2))))","v":{"$error":"#DIV/0!"}},null,{"$f":"N8","v":112},{"$f":"COUNTIF(L21:L26,AD8)","v":0},{"$f":"AE8/(AG4-AE14)","v":{"$error":"#DIV/0!"}},{"$f":"IF(AF8=0,0,(AF8*((LOG(AF8))/LOG(2))))","v":{"$error":"#DIV/0!"}},null,{"$f":"N8","v":112},{"$f":"COUNTIF(L27:L33,AI8)","v":0},{"$f":"AJ8/(AL4-AJ14)","v":{"$error":"#DIV/0!"}},{"$f":"IF(AK8=0,0,(AK8*((LOG(AK8))/LOG(2))))","v":{"$error":"#DIV/0!"}},null,{"$f":"N8","v":112},{"$f":"COUNTIF(L34:L40,AN8)","v":0},{"$f":"AO8/(AQ4-AO14)","v":{"$error":"#DIV/0!"}},{"$f":"IF(AP8=0,0,(AP8*((LOG(AP8))/LOG(2))))","v":{"$error":"#DIV/0!"}},null,{"$f":"N8","v":112},{"$f":"COUNTIF(L41:L47,AS8)","v":0},{"$f":"AT8/(AV4-AT14)","v":{"$error":"#DIV/0!"}},{"$f":"IF(AU8=0,0,(AU8*((LOG(AU8))/LOG(2))))","v":{"$error":"#DIV/0!"}}]
[21,325,21,341,21,361,null,null,null,null,0,222,null,121,{"$f":"COUNTIF($L$7:$L$500,N9)","v":0},{"$f":"O9/$Q$4","v":0},{"$f":"IF(P9=0,0,(P9*((LOG(P9))/LOG(2))))","v":0},null,null,{"$f":"N9","v":121},{"$f":"COUNTIF(L7:L13,T9)","v":0},{"$f":"U9/(W4-U14)","v":0},{"$f":"IF(V9=0,0,(V9*((LOG(V9))/LOG(2))))","v":0},null,{"$f":"N9","v":121},{"$f":"COUNTIF(L14:L20,Y9)","v":0},{"$f":"Z9/(AB4-Z14)","v":{"$error":"#DIV/0!"}},{"$f":"IF(AA9=0,0,(AA9*((LOG(AA9))/LOG(2))))","v":{"$error":"#DIV/0!"}},null,{"$f":"N9","v":121},{"$f":"COUNTIF(L21:L26,AD9)","v":0},{"$f":"AE9/(AG4-AE14)","v":{"$error":"#DIV/0!"}},{"$f":"IF(AF9=0,0,(AF9*((LOG(AF9))/LOG(2))))","v":{"$error":"#DIV/0!"}},null,{"$f":"N9","v":121},{"$f":"COUNTIF(L27:L33,AI9)","v":0},{"$f":"AJ9/(AL4-AJ14)","v":{"$error":"#DIV/0!"}},{"$f":"IF(AK9=0,0,(AK9*((LOG(AK9))/LOG(2))))","v":{"$error":"#DIV/0!"}},null,{"$f":"N9","v":121},{"$f":"COUNTIF(L34:L40,AN9)","v":0},{"$f":"AO9/(AQ4-AO14)","v":{"$error":"#DIV/0!"}},{"$f":"IF(AP9=0,0,(AP9*((LOG(AP9))/LOG(2))))","v":{"$error":"#DIV/0!"}},null,{"$f":"N9","v":121},{"$f":"COUNTIF(L41:L47,AS9)","v":0},{"$f":"AT9/(AV4-AT14)","v":{"$error":"#DIV/0!"}},{"$f":"IF(AU9=0,0,(AU9*((LOG(AU9))/LOG(2))))","v":{"$error":"#DIV/0!"}}]
[21,476,21,483,21,524,null,null,null,null,0,222,null,122,{"$f":"COUNTIF($L$7:$L$500,N10)","v":1},{"$f":"O10/$Q$4","v":2.4390243902439025E-2},{"$f":"IF(P10=0,0,(P10*((LOG(P10))/LOG(2))))","v":-0.13067200011263619},null,null,{"$f":"N10","v":122},{"$f":"COUNTIF(L7:L13,T10)","v":1},{"$f":"U10/(W4-U14)","v":1},{"$f":"IF(V10=0,0,(V10*((LOG(V10))/LOG(2))))","v":0},null,{"$f":"N10","v":122},{"$f":"COUNTIF(L14:L20,Y10)","v":0},{"$f":"Z10/(AB4-Z14)","v":{"$error":"#DIV/0!"}},{"$f":"IF(AA10=0,0,(AA10*((LOG(AA10))/LOG(2))))","v":{"$error":"#DIV/0!"}},null,{"$f":"N10","v":122},{"$f":"COUNTIF(L21:L26,AD10)","v":0},{"$f":"AE10/(AG4-AE14)","v":{"$error":"#DIV/0!"}},{"$f":"IF(AF10=0,0,(AF10*((LOG(AF10))/LOG(2))))","v":{"$error":"#DIV/0!"}},null,{"$f":"N10","v":122},{"$f":"COUNTIF(L27:L33,AI10)","v":0},{"$f":"AJ10/(AL4-AJ14)","v":{"$error":"#DIV/0!"}},{"$f":"IF(AK10=0,0,(AK10*((LOG(AK10))/LOG(2))))","v":{"$error":"#DIV/0!"}},null,{"$f":"N10","v":122},{"$f":"COUNTIF(L34:L40,AN10)","v":0},{"$f":"AO10/(AQ4-AO14)","v":{"$error":"#DIV/0!"}},{"$f":"IF(AP10=0,0,(AP10*((LOG(AP10))/LOG(2))))","v":{"$error":"#DIV/0!"}},null,{"$f":"N10","v":122},{"$f":"COUNTIF(L41:L47,AS10)","v":0},{"$f":"AT10/(AV4-AT14)","v":{"$error":"#DIV/0!"}},{"$f":"IF(AU10=0,0,(AU10*((LOG(AU10))/LOG(2))))","v":{"$error":"#DIV/0!"}}]
[21,655,21,689,21,718,null,null,null,null,0,222,null,211,{"$f":"COUNTIF($L$7:$L$500,N11)","v":0},{"$f":"O11/$Q$4","v":0},{"$f":"IF(P11=0,0,(P11*((LOG(P11))/LOG(2))))","v":0},null,null,{"$f":"N11","v":211},{"$f":"COUNTIF(L7:L13,T11)","v":0},{"$f":"U11/(W4-U14)","v":0},{"$f":"IF(V11=0,0,(V11*((LOG(V11))/LOG(2))))","v":0},null,{"$f":"N11","v":211},{"$f":"COUNTIF(L14:L20,Y11)","v":0},{"$f":"Z11/(AB4-Z14)","v":{"$error":"#DIV/0!"}},{"$f":"IF(AA11=0,0,(AA11*((LOG(AA11))/LOG(2))))","v":{"$error":"#DIV/0!"}},null,{"$f":"N11","v":211},{"$f":"COUNTIF(L21:L26,AD11)","v":0},{"$f":"AE11/(AG4-AE14)","v":{"$error":"#DIV/0!"}},{"$f":"IF(AF11=0,0,(AF11*((LOG(AF11))/LOG(2))))","v":{"$error":"#DIV/0!"}},null,{"$f":"N11","v":211},{"$f":"COUNTIF(L27:L33,AI11)","v":0},{"$f":"AJ11/(AL4-AJ14)","v":{"$error":"#DIV/0!"}},{"$f":"IF(AK11=0,0,(AK11*((LOG(AK11))/LOG(2))))","v":{"$error":"#DIV/0!"}},null,{"$f":"N11","v":211},{"$f":"COUNTIF(L34:L40,AN11)","v":0},{"$f":"AO11/(AQ4-AO14)","v":{"$error":"#DIV/0!"}},{"$f":"IF(AP11=0,0,(AP11*((LOG(AP11))/LOG(2))))","v":{"$error":"#DIV/0!"}},null,{"$f":"N11","v":211},{"$f":"COUNTIF(L41:L47,AS11)","v":0},{"$f":"AT11/(AV4-AT14)","v":{"$error":"#DIV/0!"}},{"$f":"IF(AU11=0,0,(AU11*((LOG(AU11))/LOG(2))))","v":{"$error":"#DIV/0!"}}]
[21,857,21,872,21,888,null,null,null,null,0,222,null,212,{"$f":"COUNTIF($L$7:$L$500,N12)","v":0},{"$f":"O12/$Q$4","v":0},{"$f":"IF(P12=0,0,(P12*((LOG(P12))/LOG(2))))","v":0},null,null,{"$f":"N12","v":212},{"$f":"COUNTIF(L7:L13,T12)","v":0},{"$f":"U12/(W4-U14)","v":0},{"$f":"IF(V12=0,0,(V12*((LOG(V12))/LOG(2))))","v":0},null,{"$f":"N12","v":212},{"$f":"COUNTIF(L14:L20,Y12)","v":0},{"$f":"Z12/(AB4-Z14)","v":{"$error":"#DIV/0!"}},{"$f":"IF(AA12=0,0,(AA12*((LOG(AA12))/LOG(2))))","v":{"$error":"#DIV/0!"}},null,{"$f":"N12","v":212},{"$f":"COUNTIF(L21:L26,AD12)","v":0},{"$f":"AE12/(AG4-AE14)","v":{"$error":"#DIV/0!"}},{"$f":"IF(AF12=0,0,(AF12*((LOG(AF12))/LOG(2))))","v":{"$error":"#DIV/0!"}},null,{"$f":"N12","v":212},{"$f":"COUNTIF(L27:L33,AI12)","v":0},{"$f":"AJ12/(AL4-AJ14)","v":{"$error":"#DIV/0!"}},{"$f":"IF(AK12=0,0,(AK12*((LOG(AK12))/LOG(2))))","v":{"$error":"#DIV/0!"}},null,{"$f":"N12","v":212},{"$f":"COUNTIF(L34:L40,AN12)","v":0},{"$f":"AO12/(AQ4-AO14)","v":{"$error":"#DIV/0!"}},{"$f":"IF(AP12=0,0,(AP12*((LOG(AP12))/LOG(2))))","v":{"$error":"#DIV/0!"}},null,{"$f":"N12","v":212},{"$f":"COUNTIF(L41:L47,AS12)","v":0},{"$f":"AT12/(AV4-AT14)","v":{"$error":"#DIV/0!"}},{"$f":"IF(AU12=0,0,(AU12*((LOG(AU12))/LOG(2))))","v":{"$error":"#DIV/0!"}}]
[21,1037,21,1044,21,1078,null,null,null,null,0,222,null,221,{"$f":"COUNTIF($L$7:$L$500,N13)","v":0},{"$f":"O13/$Q$4","v":0},{"$f":"IF(P13=0,0,(P13*((LOG(P13))/LOG(2))))","v":0},null,null,{"$f":"N13","v":221},{"$f":"COUNTIF(L7:L13,T13)","v":0},{"$f":"U13/(W4-U14)","v":0},{"$f":"IF(V13=0,0,(V13*((LOG(V13))/LOG(2))))","v":0},null,{"$f":"N13","v":221},{"$f":"COUNTIF(L14:L20,Y13)","v":0},{"$f":"Z13/(AB4-Z14)","v":{"$error":"#DIV/0!"}},{"$f":"IF(AA13=0,0,(AA13*((LOG(AA13))/LOG(2))))","v":{"$error":"#DIV/0!"}},null,{"$f":"N13","v":221},{"$f":"COUNTIF(L21:L26,AD13)","v":0},{"$f":"AE13/(AG4-AE14)","v":{"$error":"#DIV/0!"}},{"$f":"IF(AF13=0,0,(AF13*((LOG(AF13))/LOG(2))))","v":{"$error":"#DIV/0!"}},null,{"$f":"N13","v":221},{"$f":"COUNTIF(L27:L33,AI13)","v":0},{"$f":"AJ13/(AL4-AJ14)","v":{"$error":"#DIV/0!"}},{"$f":"IF(AK13=0,0,(AK13*((LOG(AK13))/LOG(2))))","v":{"$error":"#DIV/0!"}},null,{"$f":"N13","v":221},{"$f":"COUNTIF(L34:L40,AN13)","v":0},{"$f":"AO13/(AQ4-AO14)","v":{"$error":"#DIV/0!"}},{"$f":"IF(AP13=0,0,(AP13*((LOG(AP13))/LOG(2))))","v":{"$error":"#DIV/0!"}},null,{"$f":"N13","v":221},{"$f":"COUNTIF(L41:L47,AS13)","v":0},{"$f":"AT13/(AV4-AT14)","v":{"$error":"#DIV/0!"}},{"$f":"IF(AU13=0,0,(AU13*((LOG(AU13))/LOG(2))))","v":{"$error":"#DIV/0!"}}]
[21,1205,21,1216,21,1224,null,null,null,null,0,222,null,222,{"$f":"COUNTIF($L$7:$L$500,N14)","v":40},{"$f":"O14/$Q$4","v":0.97560975609756095},{"$f":"IF(P14=0,0,(P14*((LOG(P14))/LOG(2))))","v":-3.4755033883630611E-2},null,null,{"$f":"N14","v":222},{"$f":"COUNTIF(L7:L13,T14)","v":6},null,null,null,{"$f":"N14","v":222},{"$f":"COUNTIF(L14:L20,Y14)","v":7},null,null,null,{"$f":"N14","v":222},{"$f":"COUNTIF(L21:L26,AD14)","v":6},null,null,null,{"$f":"N14","v":222},{"$f":"COUNTIF(L27:L33,AI14)","v":7},null,null,null,{"$f":"N14","v":222},{"$f":"COUNTIF(L34:L40,AN14)","v":7},null,null,null,{"$f":"N14","v":222},{"$f":"COUNTIF(L41:L47,AS14)","v":7}]
[21,1321,21,1326,21,1334,null,null,null,null,0,222,null,null,null,{"$f":"SUM(P7:P14)","v":1},{"$f":"-SUM(Q7:Q14)","v":0.16542703399626679},null,null,null,null,{"$f":"SUM(V7:V14)","v":1},{"$f":"-SUM(W7:W14)","v":0},null,null,null,{"$f":"SUM(AA7:AA14)","v":{"$error":"#DIV/0!"}},{"$f":"-SUM(AB7:AB14)","v":{"$error":"#DIV/0!"}},null,null,null,{"$f":"SUM(AF7:AF14)","v":{"$error":"#DIV/0!"}},{"$f":"-SUM(AG7:AG14)","v":{"$error":"#DIV/0!"}},null,null,null,{"$f":"SUM(AK7:AK14)","v":{"$error":"#DIV/0!"}},{"$f":"-SUM(AL7:AL14)","v":{"$error":"#DIV/0!"}},null,null,null,{"$f":"SUM(AP7:AP14)","v":{"$error":"#DIV/0!"}},{"$f":"-SUM(AQ7:AQ14)","v":{"$error":"#DIV/0!"}},null,null,null,{"$f":"SUM(AU7:AU14)","v":{"$error":"#DIV/0!"}},{"$f":"-SUM(AV7:AV14)","v":{"$error":"#DIV/0!"}}]
[21,1441,21,1447,21,1462,null,null,null,null,0,222,null,null,null,"U=",{"$f":"Q15/(LOG(Q4)/LOG(2))","v":3.0877354779509855E-2},null,null,null,null,"U1=",{"$f":"W15/(LOG(W4)/LOG(2))","v":0},null,null,null,"U2=",{"$f":"AB15/(LOG(AB4)/LOG(2))","v":{"$error":"#DIV/0!"}},null,null,null,"U3=",{"$f":"AG15/(LOG(AG4)/LOG(2))","v":{"$error":"#DIV/0!"}},null,null,null,"U4=",{"$f":"AL15/(LOG(AL4)/LOG(2))","v":{"$error":"#DIV/0!"}},null,null,null,"U5=",{"$f":"AQ15/(LOG(AQ4)/LOG(2))","v":{"$error":"#DIV/0!"}},null,null,null,"U6=",{"$f":"AV15/(LOG(AV4)/LOG(2))","v":{"$error":"#DIV/0!"}}]
[21,1572,21,1578,21,1630,null,null,null,null,0,222]
[21,1762,21,1771,21,1800,null,null,null,null,0,222]
[21,1899,21,1924,21,1934,null,null,null,null,0,222,null,"Total Target Seq"]
[21,2042,21,2047,21,2057,null,null,null,null,0,222,null,{"$f":"COUNTIF(L7:L47,G3)","v":40},null,7,7,6,7,7,7]
[21,2184,21,2205,21,2228,null,null,null,null,0,222,null,null,null,"% of reinforcement given in 6 equal intervals based on number of trials "]
[21,2340,21,2346,21,2356,null,null,null,null,0,222,null,null,null,"%_1","%_2","%_3","%_4","%_5","%_6"]
[21,2507,21,2539,21,2548,null,null,null,null,0,222,null,null,"target sequence",{"$f":"$G$3","v":222},{"$f":"$G$3","v":222},{"$f":"$G$3","v":222},{"$f":"$G$3","v":222},{"$f":"$G$3","v":222},{"$f":"$G$3","v":222}]
[21,2668,21,2675,21,2697,null,null,null,null,0,222,null,null,"total reinforcement",{"$f":"U14","v":6},{"$f":"Z14","v":7},{"$f":"AE14","v":6},{"$f":"AJ14","v":7},{"$f":"AO14","v":7},{"$f":"AT14","v":7}]
[21,2793,21,2799,21,2831,null,null,null,null,0,222,null,null,"% target"]
[21,2976,21,2982,21,2991,null,null,null,null,0,222,null,null,"CCRF"]
[21,3095,21,3118,21,3141,null,null,null,null,0,222,null,null,"% CCRf"]
[21,3311,21,3319,21,3344,null,null,null,null,0,222,null,null,"average response rate",{"$f":"F13/P20","v":154},{"$f":"(F20-F13)/Q20","v":139.85714285714286},{"$f":"(F26-F20)/R20","v":155.66666666666666},{"$f":"(F33-F26)/S20","v":159},{"$f":"(F40-F33)/T20","v":158.57142857142858},{"$f":"(F47-F40)/U20","v":167.57142857142858}]
[21,3472,21,3477,21,3485,null,null,null,null,0,222]
[21,3631,21,3637,21,3653,null,null,null,null,0,222]
[21,3752,21,3823,21,3864,null,null,null,null,0,222]
[21,3969,21,3977,21,3987,null,null,null,null,0,222]
[21,4084,21,4093,21,4104,null,null,null,null,0,222]
[21,4226,21,4238,21,4248,null,null,null,null,0,222]
[21,4454,21,4465,21,4480,null,null,null,null,0,222]
[21,4572,21,4581,21,4590,null,null,null,null,0,222]
[21,4696,21,4701,21,4709,null,null,null,null,0,222]
[21,4808,21,4848,21,4890,null,null,null,null,0,222]
[21,5038,21,5044,21,5053,null,null,null,null,0,222]
[21,5159,21,5191,21,5214,null,null,null,null,0,222]
[21,5329,21,5338,21,5348,null,null,null,null,0,222]
[21,5449,21,5456,21,5466,null,null,null,null,0,222]
[21,5641,21,5697,21,5717,null,null,null,null,0,222]
[21,5829,21,5834,21,5847,null,null,null,null,0,222]
[21,5973,21,5978,21,6014,null,null,null,null,0,222]
[21,6171,21,6254,21,6272,null,null,null,null,0,222]
[21,6366,21,6372,21,6387,null,null,null,null,1,222]

{"sheet":"!M320B0I.sha","index":13,"n_rows":46,"n_cols":48,"rows_kept":46,"cut":false,"hidden":false,"merged":[[4,39,4,42],[5,39,5,40],[4,44,4,47],[5,44,5,45],[4,24,4,27],[5,24,5,25],[4,29,4,32],[5,29,5,30],[4,34,4,37],[5,34,5,35],[1,1,1,2],[5,13,5,14],[18,13,18,14],[19,13,19,14],[4,19,4,22],[5,19,5,20]]}
["Report for:!M320B0I.sha"]
["Date:","<date>"]
["Hen:","<hen>",null,null,null,"Correct Sequence",{"$f":"Start!J2","v":222},null,null,null,null,null,null,null,null,"Total Sequences in Data",{"$f":"4994-COUNTBLANK(L7:L5000)","v":40},null,null,null,null,"Total Sequences in Block Data",{"$f":"COUNTA(L7:L13)","v":7},null,null,null,"Total Sequences in Block Data",{"$f":"COUNTA(L14:L19)","v":6},null,null,null,"Total Sequences in Block Data",{"$f":"COUNTA(L20:L26)","v":7},null,null,null,"Total Sequences in Block Data",{"$f":"COUNTA(L27:L33)","v":7},null,null,null,"Total Sequences in Block Data",{"$f":"COUNTA(L34:L39)","v":6},null,null,null,"Total Sequences in Block Data",{"$f":"COUNTA(L40:L46)","v":7}]
[null,null,null,null,null,null,null,null,null,null,null,null,null,null,null,"Total Sequences in Summary",{"$f":"SUM(O7:O14)","v":40},null,null,null,null,"Total Sequences in Block Summary",{"$f":"SUM(U7:U14)","v":7},null,null,null,"Total Sequences in Block Summary",{"$f":"SUM(Z7:Z14)","v":6},null,null,null,"Total Sequences in Block Summary",{"$f":"SUM(AE7:AE14)","v":7},null,null,null,"Total Sequences in Block Summary",{"$f":"SUM(AJ7:AJ14)","v":7},null,null,null,"Total Sequences in Block Summary",{"$f":"SUM(AO7:AO14)","v":6},null,null,null,"Total Sequences in Block Summary",{"$f":"SUM(AT7:AT14)","v":7}]
[null,null,null,null,null,null,null,null,null,null,null,null,null,null,null,null,null,null,null,"Block 1",null,null,null,null,"Block 2",null,null,null,null,"Block 3",null,null,null,null,"Block 4",null,null,null,null,"Block 5",null,null,null,null,"Block 6"]
["Sequence\nComponent\n1","Time\n1","Sequence\nComponent\n2","Time\n2","Sequence\nComponent\n3","Time\n3","Sequence\nComponent\n4","Time\n4","Sequence\nComponent\n5","Time\n5","Correct?\n0=No 1=Yes","Sequence",null,"Frequency",null,"Relative Frequency","Variability",null,null,"Frequency",null,"Relative Frequency","Variability",null,"Frequency",null,"Relative Frequency","Variability",null,"Frequency",null,"Relative Frequency","Variability",null,"Frequency",null,"Relative Frequency","Variability",null,"Frequency",null,"Relative Frequency","Variability",null,"Frequency",null,"Relative Frequency","Variability"]
[21,83,21,90,21,97,null,null,null,null,0,222,null,111,{"$f":"COUNTIF($L$7:$L$500,N7)","v":0},{"$f":"O7/$Q$4","v":0},{"$f":"IF(P7=0,0,(P7*((LOG(P7))/LOG(2))))","v":0},null,null,{"$f":"N7","v":111},{"$f":"COUNTIF(L7:L13,T7)","v":0},{"$f":"U7/(W4-U14)","v":{"$error":"#DIV/0!"}},{"$f":"IF(V7=0,0,(V7*((LOG(V7))/LOG(2))))","v":{"$error":"#DIV/0!"}},null,{"$f":"N7","v":111},{"$f":"COUNTIF(L14:L19,Y7)","v":0},{"$f":"Z7/(AB4-Z14)","v":{"$error":"#DIV/0!"}},{"$f":"IF(AA7=0,0,(AA7*((LOG(AA7))/LOG(2))))","v":{"$error":"#DIV/0!"}},null,{"$f":"N7","v":111},{"$f":"COUNTIF(L20:L26,AD7)","v":0},{"$f":"AE7/(AG4-AE14)","v":{"$error":"#DIV/0!"}},{"$f":"IF(AF7=0,0,(AF7*((LOG(AF7))/LOG(2))))","v":{"$error":"#DIV/0!"}},null,{"$f":"N7","v":111},{"$f":"COUNTIF(L27:L33,AI7)","v":0},{"$f":"AJ7/(AL4-AJ14)","v":{"$error":"#DIV/0!"}},{"$f":"IF(AK7=0,0,(AK7*((LOG(AK7))/LOG(2))))","v":{"$error":"#DIV/0!"}},null,{"$f":"N7","v":111},{"$f":"COUNTIF(L34:L39,AN7)","v":0},{"$f":"AO7/(AQ4-AO14)","v":{"$error":"#DIV/0!"}},{"$f":"IF(AP7=0,0,(AP7*((LOG(AP7))/LOG(2))))","v":{"$error":"#DIV/0!"}},null,{"$f":"N7","v":111},{"$f":"COUNTIF(L40:L46,AS7)","v":0},{"$f":"AT7/(AV4-AT14)","v":{"$error":"#DIV/0!"}},{"$f":"IF(AU7=0,0,(AU7*((LOG(AU7))/LOG(2))))","v":{"$error":"#DIV/0!"}}]
[21,206,21,269,21,290,null,null,null,null,0,222,null,112,{"$f":"COUNTIF($L$7:$L$500,N8)","v":0},{"$f":"O8/$Q$4","v":0},{"$f":"IF(P8=0,0,(P8*((LOG(P8))/LOG(2))))","v":0},null,null,{"$f":"N8","v":112},{"$f":"COUNTIF(L7:L13,T8)","v":0},{"$f":"U8/(W4-U14)","v":{"$error":"#DIV/0!"}},{"$f":"IF(V8=0,0,(V8*((LOG(V8))/LOG(2))))","v":{"$error":"#DIV/0!"}},null,{"$f":"N8","v":112},{"$f":"COUNTIF(L14:L19,Y8)","v":0},{"$f":"Z8/(AB4-Z14)","v":{"$error":"#DIV/0!"}},{"$f":"IF(AA8=0,0,(AA8*((LOG(AA8))/LOG(2))))","v":{"$error":"#DIV/0!"}},null,{"$f":"N8","v":112},{"$f":"COUNTIF(L20:L26,AD8)","v":0},{"$f":"AE8/(AG4-AE14)","v":{"$error":"#DIV/0!"}},{"$f":"IF(AF8=0,0,(AF8*((LOG(AF8))/LOG(2))))","v":{"$error":"#DIV/0!"}},null,{"$f":"N8","v":112},{"$f":"COUNTIF(L27:L33,AI8)","v":0},{"$f":"AJ8/(AL4-AJ14)","v":{"$error":"#DIV/0!"}},{"$f":"IF(AK8=0,0,(AK8*((LOG(AK8))/LOG(2))))","v":{"$error":"#DIV/0!"}},null,{"$f":"N8","v":112},{"$f":"COUNTIF(L34:L39,AN8)","v":0},{"$f":"AO8/(AQ4-AO14)","v":{"$error":"#DIV/0!"}},{"$f":"IF(AP8=0,0,(AP8*((LOG(AP8))/LOG(2))))","v":{"$error":"#DIV/0!"}},null,{"$f":"N8","v":112},{"$f":"COUNTIF(L40:L46,AS8)","v":0},{"$f":"AT8/(AV4-AT14)","v":{"$error":"#DIV/0!"}},{"$f":"IF(AU8=0,0,(AU8*((LOG(AU8))/LOG(2))))","v":{"$error":"#DIV/0!"}}]
[21,390,21,395,21,403,null,null,null,null,0,222,null,121,{"$f":"COUNTIF($L$7:$L$500,N9)","v":0},{"$f":"O9/$Q$4","v":0},{"$f":"IF(P9=0,0,(P9*((LOG(P9))/LOG(2))))","v":0},null,null,{"$f":"N9","v":121},{"$f":"COUNTIF(L7:L13,T9)","v":0},{"$f":"U9/(W4-U14)","v":{"$error":"#DIV/0!"}},{"$f":"IF(V9=0,0,(V9*((LOG(V9))/LOG(2))))","v":{"$error":"#DIV/0!"}},null,{"$f":"N9","v":121},{"$f":"COUNTIF(L14:L19,Y9)","v":0},{"$f":"Z9/(AB4-Z14)","v":{"$error":"#DIV/0!"}},{"$f":"IF(AA9=0,0,(AA9*((LOG(AA9))/LOG(2))))","v":{"$error":"#DIV/0!"}},null,{"$f":"N9","v":121},{"$f":"COUNTIF(L20:L26,AD9)","v":0},{"$f":"AE9/(AG4-AE14)","v":{"$error":"#DIV/0!"}},{"$f":"IF(AF9=0,0,(AF9*((LOG(AF9))/LOG(2))))","v":{"$error":"#DIV/0!"}},null,{"$f":"N9","v":121},{"$f":"COUNTIF(L27:L33,AI9)","v":0},{"$f":"AJ9/(AL4-AJ14)","v":{"$error":"#DIV/0!"}},{"$f":"IF(AK9=0,0,(AK9*((LOG(AK9))/LOG(2))))","v":{"$error":"#DIV/0!"}},null,{"$f":"N9","v":121},{"$f":"COUNTIF(L34:L39,AN9)","v":0},{"$f":"AO9/(AQ4-AO14)","v":{"$error":"#DIV/0!"}},{"$f":"IF(AP9=0,0,(AP9*((LOG(AP9))/LOG(2))))","v":{"$error":"#DIV/0!"}},null,{"$f":"N9","v":121},{"$f":"COUNTIF(L40:L46,AS9)","v":0},{"$f":"AT9/(AV4-AT14)","v":{"$error":"#DIV/0!"}},{"$f":"IF(AU9=0,0,(AU9*((LOG(AU9))/LOG(2))))","v":{"$error":"#DIV/0!"}}]
[21,496,21,499,21,505,null,null,null,null,0,222,null,122,{"$f":"COUNTIF($L$7:$L$500,N10)","v":0},{"$f":"O10/$Q$4","v":0},{"$f":"IF(P10=0,0,(P10*((LOG(P10))/LOG(2))))","v":0},null,null,{"$f":"N10","v":122},{"$f":"COUNTIF(L7:L13,T10)","v":0},{"$f":"U10/(W4-U14)","v":{"$error":"#DIV/0!"}},{"$f":"IF(V10=0,0,(V10*((LOG(V10))/LOG(2))))","v":{"$error":"#DIV/0!"}},null,{"$f":"N10","v":122},{"$f":"COUNTIF(L14:L19,Y10)","v":0},{"$f":"Z10/(AB4-Z14)","v":{"$error":"#DIV/0!"}},{"$f":"IF(AA10=0,0,(AA10*((LOG(AA10))/LOG(2))))","v":{"$error":"#DIV/0!"}},null,{"$f":"N10","v":122},{"$f":"COUNTIF(L20:L26,AD10)","v":0},{"$f":"AE10/(AG4-AE14)","v":{"$error":"#DIV/0!"}},{"$f":"IF(AF10=0,0,(AF10*((LOG(AF10))/LOG(2))))","v":{"$error":"#DIV/0!"}},null,{"$f":"N10","v":122},{"$f":"COUNTIF(L27:L33,AI10)","v":0},{"$f":"AJ10/(AL4-AJ14)","v":{"$error":"#DIV/0!"}},{"$f":"IF(AK10=0,0,(AK10*((LOG(AK10))/LOG(2))))","v":{"$error":"#DIV/0!"}},null,{"$f":"N10","v":122},{"$f":"COUNTIF(L34:L39,AN10)","v":0},{"$f":"AO10/(AQ4-AO14)","v":{"$error":"#DIV/0!"}},{"$f":"IF(AP10=0,0,(AP10*((LOG(AP10))/LOG(2))))","v":{"$error":"#DIV/0!"}},null,{"$f":"N10","v":122},{"$f":"COUNTIF(L40:L46,AS10)","v":0},{"$f":"AT10/(AV4-AT14)","v":{"$error":"#DIV/0!"}},{"$f":"IF(AU10=0,0,(AU10*((LOG(AU10))/LOG(2))))","v":{"$error":"#DIV/0!"}}]
[21,604,21,611,21,620,null,null,null,null,0,222,null,211,{"$f":"COUNTIF($L$7:$L$500,N11)","v":0},{"$f":"O11/$Q$4","v":0},{"$f":"IF(P11=0,0,(P11*((LOG(P11))/LOG(2))))","v":0},null,null,{"$f":"N11","v":211},{"$f":"COUNTIF(L7:L13,T11)","v":0},{"$f":"U11/(W4-U14)","v":{"$error":"#DIV/0!"}},{"$f":"IF(V11=0,0,(V11*((LOG(V11))/LOG(2))))","v":{"$error":"#DIV/0!"}},null,{"$f":"N11","v":211},{"$f":"COUNTIF(L14:L19,Y11)","v":0},{"$f":"Z11/(AB4-Z14)","v":{"$error":"#DIV/0!"}},{"$f":"IF(AA11=0,0,(AA11*((LOG(AA11))/LOG(2))))","v":{"$error":"#DIV/0!"}},null,{"$f":"N11","v":211},{"$f":"COUNTIF(L20:L26,AD11)","v":0},{"$f":"AE11/(AG4-AE14)","v":{"$error":"#DIV/0!"}},{"$f":"IF(AF11=0,0,(AF11*((LOG(AF11))/LOG(2))))","v":{"$error":"#DIV/0!"}},null,{"$f":"N11","v":211},{"$f":"COUNTIF(L27:L33,AI11)","v":0},{"$f":"AJ11/(AL4-AJ14)","v":{"$error":"#DIV/0!"}},{"$f":"IF(AK11=0,0,(AK11*((LOG(AK11))/LOG(2))))","v":{"$error":"#DIV/0!"}},null,{"$f":"N11","v":211},{"$f":"COUNTIF(L34:L39,AN11)","v":0},{"$f":"AO11/(AQ4-AO14)","v":{"$error":"#DIV/0!"}},{"$f":"IF(AP11=0,0,(AP11*((LOG(AP11))/LOG(2))))","v":{"$error":"#DIV/0!"}},null,{"$f":"N11","v":211},{"$f":"COUNTIF(L40:L46,AS11)","v":0},{"$f":"AT11/(AV4-AT14)","v":{"$error":"#DIV/0!"}},{"$f":"IF(AU11=0,0,(AU11*((LOG(AU11))/LOG(2))))","v":{"$error":"#DIV/0!"}}]
[21,719,21,731,21,737,null,null,null,null,0,222,null,212,{"$f":"COUNTIF($L$7:$L$500,N12)","v":0},{"$f":"O12/$Q$4","v":0},{"$f":"IF(P12=0,0,(P12*((LOG(P12))/LOG(2))))","v":0},null,null,{"$f":"N12","v":212},{"$f":"COUNTIF(L7:L13,T12)","v":0},{"$f":"U12/(W4-U14)","v":{"$error":"#DIV/0!"}},{"$f":"IF(V12=0,0,(V12*((LOG(V12))/LOG(2))))","v":{"$error":"#DIV/0!"}},null,{"$f":"N12","v":212},{"$f":"COUNTIF(L14:L19,Y12)","v":0},{"$f":"Z12/(AB4-Z14)","v":{"$error":"#DIV/0!"}},{"$f":"IF(AA12=0,0,(AA12*((LOG(AA12))/LOG(2))))","v":{"$error":"#DIV/0!"}},null,{"$f":"N12","v":212},{"$f":"COUNTIF(L20:L26,AD12)","v":0},{"$f":"AE12/(AG4-AE14)","v":{"$error":"#DIV/0!"}},{"$f":"IF(AF12=0,0,(AF12*((LOG(AF12))/LOG(2))))","v":{"$error":"#DIV/0!"}},null,{"$f":"N12","v":212},{"$f":"COUNTIF(L27:L33,AI12)","v":0},{"$f":"AJ12/(AL4-AJ14)","v":{"$error":"#DIV/0!"}},{"$f":"IF(AK12=0,0,(AK12*((LOG(AK12))/LOG(2))))","v":{"$error":"#DIV/0!"}},null,{"$f":"N12","v":212},{"$f":"COUNTIF(L34:L39,AN12)","v":0},{"$f":"AO12/(AQ4-AO14)","v":{"$error":"#DIV/0!"}},{"$f":"IF(AP12=0,0,(AP12*((LOG(AP12))/LOG(2))))","v":{"$error":"#DIV/0!"}},null,{"$f":"N12","v":212},{"$f":"COUNTIF(L40:L46,AS12)","v":0},{"$f":"AT12/(AV4-AT14)","v":{"$error":"#DIV/0!"}},{"$f":"IF(AU12=0,0,(AU12*((LOG(AU12))/LOG(2))))","v":{"$error":"#DIV/0!"}}]
[21,865,21,888,21,935,null,null,null,null,0,222,null,221,{"$f":"COUNTIF($L$7:$L$500,N13)","v":0},{"$f":"O13/$Q$4","v":0},{"$f":"IF(P13=0,0,(P13*((LOG(P13))/LOG(2))))","v":0},null,null,{"$f":"N13","v":221},{"$f":"COUNTIF(L7:L13,T13)","v":0},{"$f":"U13/(W4-U14)","v":{"$error":"#DIV/0!"}},{"$f":"IF(V13=0,0,(V13*((LOG(V13))/LOG(2))))","v":{"$error":"#DIV/0!"}},null,{"$f":"N13","v":221},{"$f":"COUNTIF(L14:L19,Y13)","v":0},{"$f":"Z13/(AB4-Z14)","v":{"$error":"#DIV/0!"}},{"$f":"IF(AA13=0,0,(AA13*((LOG(AA13))/LOG(2))))","v":{"$error":"#DIV/0!"}},null,{"$f":"N13","v":221},{"$f":"COUNTIF(L20:L26,AD13)","v":0},{"$f":"AE13/(AG4-AE14)","v":{"$error":"#DIV/0!"}},{"$f":"IF(AF13=0,0,(AF13*((LOG(AF13))/LOG(2))))","v":{"$error":"#DIV/0!"}},null,{"$f":"N13","v":221},{"$f":"COUNTIF(L27:L33,AI13)","v":0},{"$f":"AJ13/(AL4-AJ14)","v":{"$error":"#DIV/0!"}},{"$f":"IF(AK13=0,0,(AK13*((LOG(AK13))/LOG(2))))","v":{"$error":"#DIV/0!"}},null,{"$f":"N13","v":221},{"$f":"COUNTIF(L34:L39,AN13)","v":0},{"$f":"AO13/(AQ4-AO14)","v":{"$error":"#DIV/0!"}},{"$f":"IF(AP13=0,0,(AP13*((LOG(AP13))/LOG(2))))","v":{"$error":"#DIV/0!"}},null,{"$f":"N13","v":221},{"$f":"COUNTIF(L40:L46,AS13)","v":0},{"$f":"AT13/(AV4-AT14)","v":{"$error":"#DIV/0!"}},{"$f":"IF(AU13=0,0,(AU13*((LOG(AU13))/LOG(2))))","v":{"$error":"#DIV/0!"}}]
[21,1030,21,1036,21,1049,null,null,null,null,0,222,null,222,{"$f":"COUNTIF($L$7:$L$500,N14)","v":40},{"$f":"O14/$Q$4","v":1},{"$f":"IF(P14=0,0,(P14*((LOG(P14))/LOG(2))))","v":0},null,null,{"$f":"N14","v":222},{"$f":"COUNTIF(L7:L13,T14)","v":7},null,null,null,{"$f":"N14","v":222},{"$f":"COUNTIF(L14:L19,Y14)","v":6},null,null,null,{"$f":"N14","v":222},{"$f":"COUNTIF(L20:L26,AD14)","v":7},null,null,null,{"$f":"N14","v":222},{"$f":"COUNTIF(L27:L33,AI14)","v":7},null,null,null,{"$f":"N14","v":222},{"$f":"COUNTIF(L34:L39,AN14)","v":6},null,null,null,{"$f":"N14","v":222},{"$f":"COUNTIF(L40:L46,AS14)","v":7}]
[21,1144,21,1152,21,1162,null,null,null,null,0,222,null,null,null,{"$f":"SUM(P7:P14)","v":1},{"$f":"-SUM(Q7:Q14)","v":0},null,null,null,null,{"$f":"SUM(V7:V14)","v":{"$error":"#DIV/0!"}},{"$f":"-SUM(W7:W14)","v":{"$error":"#DIV/0!"}},null,null,null,{"$f":"SUM(AA7:AA14)","v":{"$error":"#DIV/0!"}},{"$f":"-SUM(AB7:AB14)","v":{"$error":"#DIV/0!"}},null,null,null,{"$f":"SUM(AF7:AF14)","v":{"$error":"#DIV/0!"}},{"$f":"-SUM(AG7:AG14)","v":{"$error":"#DIV/0!"}},null,null,null,{"$f":"SUM(AK7:AK14)","v":{"$error":"#DIV/0!"}},{"$f":"-SUM(AL7:AL14)","v":{"$error":"#DIV/0!"}},null,null,null,{"$f":"SUM(AP7:AP14)","v":{"$error":"#DIV/0!"}},{"$f":"-SUM(AQ7:AQ14)","v":{"$error":"#DIV/0!"}},null,null,null,{"$f":"SUM(AU7:AU14)","v":{"$error":"#DIV/0!"}},{"$f":"-SUM(AV7:AV14)","v":{"$error":"#DIV/0!"}}]
[21,1282,21,1288,21,1342,null,null,null,null,0,222,null,null,null,"U=",{"$f":"Q15/(LOG(Q4)/LOG(2))","v":0},null,null,null,null,"U1=",{"$f":"W15/(LOG(W4)/LOG(2))","v":{"$error":"#DIV/0!"}},null,null,null,"U2=",{"$f":"AB15/(LOG(AB4)/LOG(2))","v":{"$error":"#DIV/0!"}},null,null,null,"U3=",{"$f":"AG15/(LOG(AG4)/LOG(2))","v":{"$error":"#DIV/0!"}},null,null,null,"U4=",{"$f":"AL15/(LOG(AL4)/LOG(2))","v":{"$error":"#DIV/0!"}},null,null,null,"U5=",{"$f":"AQ15/(LOG(AQ4)/LOG(2))","v":{"$error":"#DIV/0!"}},null,null,null,"U6=",{"$f":"AV15/(LOG(AV4)/LOG(2))","v":{"$error":"#DIV/0!"}}]
[21,1446,21,1453,21,1476,null,null,null,null,0,222]
[21,1607,21,1616,21,1626,null,null,null,null,0,222]
[21,1721,21,1760,21,1784,null,null,null,null,0,222,null,"Total Target Seq"]
[21,1900,21,1919,21,1932,null,null,null,null,0,222,null,{"$f":"COUNTIF(L7:L46,G3)","v":40},null,7,6,7,7,6,7]
[21,2088,21,2099,21,2108,null,null,null,null,0,222,null,null,null,"% of reinforcement given in 6 equal intervals based on number of trials "]
[21,2259,21,2281,21,2292,null,null,null,null,0,222,null,null,null,"%_1","%_2","%_3","%_4","%_5","%_6"]
[21,2385,21,2391,21,2400,null,null,null,null,0,222,null,null,"target sequence",{"$f":"$G$3","v":222},{"$f":"$G$3","v":222},{"$f":"$G$3","v":222},{"$f":"$G$3","v":222},{"$f":"$G$3","v":222},{"$f":"$G$3","v":222}]
[21,2499,21,2518,21,2539,null,null,null,null,0,222,null,null,"total reinforcement",{"$f":"U14","v":7},{"$f":"Z14","v":6},{"$f":"AE14","v":7},{"$f":"AJ14","v":7},{"$f":"AO14","v":6},{"$f":"AT14","v":7}]
[21,2634,21,2652,21,2663,null,null,null,null,0,222,null,null,"% target"]
[21,2768,21,2780,21,2790,null,null,null,null,0,222,null,null,"CCRF"]
[21,2905,21,2929,21,2959,null,null,null,null,0,222,null,null,"% CCRf"]
[21,3063,21,3070,21,3079,null,null,null,null,0,222,null,null,"average response rate",{"$f":"F13/P20","v":133.57142857142858},{"$f":"(F19-F13)/Q20","v":141.5},{"$f":"(F26-F19)/R20","v":143.71428571428572},{"$f":"(F33-F26)/S20","v":155.28571428571428},{"$f":"(F39-F33)/T20","v":158.83333333333334},{"$f":"(F46-F39)/U20","v":156.28571428571428}]
[21,3189,21,3206,21,3251,null,null,null,null,0,222]
[21,3387,21,3395,21,3408,null,null,null,null,0,222]
[21,3502,21,3507,21,3527,null,null,null,null,0,222]
[21,3679,21,3685,21,3747,null,null,null,null,0,222]
[21,3843,21,3849,21,3877,null,null,null,null,0,222]
[21,4017,21,4030,21,4046,null,null,null,null,0,222]
[21,4161,21,4169,21,4178,null,null,null,null,0,222]
[21,4286,21,4309,21,4359,null,null,null,null,0,222]
[21,4496,21,4510,21,4519,null,null,null,null,0,222]
[21,4620,21,4641,21,4656,null,null,null,null,0,222]
[21,4768,21,4778,21,4830,null,null,null,null,0,222]
[21,4964,21,4988,21,5036,null,null,null,null,0,222]
[21,5141,21,5146,21,5158,null,null,null,null,0,222]
[21,5276,21,5283,21,5301,null,null,null,null,0,222]
[21,5411,21,5464,21,5488,null,null,null,null,0,222]
[21,5603,21,5608,21,5618,null,null,null,null,0,222]
[21,5764,21,5775,21,5785,null,null,null,null,0,222]
[21,5876,21,5884,21,5924,null,null,null,null,1,222]

{"sheet":"!M321A3I.sha","index":14,"n_rows":47,"n_cols":48,"rows_kept":47,"cut":false,"hidden":false,"merged":[[4,39,4,42],[5,39,5,40],[4,44,4,47],[5,44,5,45],[4,24,4,27],[5,24,5,25],[4,29,4,32],[5,29,5,30],[4,34,4,37],[5,34,5,35],[1,1,1,2],[5,13,5,14],[18,13,18,14],[19,13,19,14],[4,19,4,22],[5,19,5,20]]}
["Report for:!M321A3I.sha"]
["Date:","<date>"]
["Hen:","<hen>",null,null,null,"Correct Sequence",{"$f":"Start!J2","v":222},null,null,null,null,null,null,null,null,"Total Sequences in Data",{"$f":"4994-COUNTBLANK(L7:L5000)","v":41},null,null,null,null,"Total Sequences in Block Data",{"$f":"COUNTA(L7:L13)","v":7},null,null,null,"Total Sequences in Block Data",{"$f":"COUNTA(L14:L20)","v":7},null,null,null,"Total Sequences in Block Data",{"$f":"COUNTA(L21:L26)","v":6},null,null,null,"Total Sequences in Block Data",{"$f":"COUNTA(L27:L33)","v":7},null,null,null,"Total Sequences in Block Data",{"$f":"COUNTA(L34:L40)","v":7},null,null,null,"Total Sequences in Block Data",{"$f":"COUNTA(L41:L47)","v":7}]
[null,null,null,null,null,null,null,null,null,null,null,null,null,null,null,"Total Sequences in Summary",{"$f":"SUM(O7:O14)","v":41},null,null,null,null,"Total Sequences in Block Summary",{"$f":"SUM(U7:U14)","v":7},null,null,null,"Total Sequences in Block Summary",{"$f":"SUM(Z7:Z14)","v":7},null,null,null,"Total Sequences in Block Summary",{"$f":"SUM(AE7:AE14)","v":6},null,null,null,"Total Sequences in Block Summary",{"$f":"SUM(AJ7:AJ14)","v":7},null,null,null,"Total Sequences in Block Summary",{"$f":"SUM(AO7:AO14)","v":7},null,null,null,"Total Sequences in Block Summary",{"$f":"SUM(AT7:AT14)","v":7}]
[null,null,null,null,null,null,null,null,null,null,null,null,null,null,null,null,null,null,null,"Block 1",null,null,null,null,"Block 2",null,null,null,null,"Block 3",null,null,null,null,"Block 4",null,null,null,null,"Block 5",null,null,null,null,"Block 6"]
["Sequence\nComponent\n1","Time\n1","Sequence\nComponent\n2","Time\n2","Sequence\nComponent\n3","Time\n3","Sequence\nComponent\n4","Time\n4","Sequence\nComponent\n5","Time\n5","Correct?\n0=No 1=Yes","Sequence",null,"Frequency",null,"Relative Frequency","Variability",null,null,"Frequency",null,"Relative Frequency","Variability",null,"Frequency",null,"Relative Frequency","Variability",null,"Frequency",null,"Relative Frequency","Variability",null,"Frequency",null,"Relative Frequency","Variability",null,"Frequency",null,"Relative Frequency","Variability",null,"Frequency",null,"Relative Frequency","Variability"]
[21,10,12,35,14,41,null,null,null,null,0,211,null,111,{"$f":"COUNTIF($L$7:$L$500,N7)","v":0},{"$f":"O7/$Q$4","v":0},{"$f":"IF(P7=0,0,(P7*((LOG(P7))/LOG(2))))","v":0},null,null,{"$f":"N7","v":111},{"$f":"COUNTIF(L7:L13,T7)","v":0},{"$f":"U7/(W4-U14)","v":0},{"$f":"IF(V7=0,0,(V7*((LOG(V7))/LOG(2))))","v":0},null,{"$f":"N7","v":111},{"$f":"COUNTIF(L14:L20,Y7)","v":0},{"$f":"Z7/(AB4-Z14)","v":{"$error":"#DIV/0!"}},{"$f":"IF(AA7=0,0,(AA7*((LOG(AA7))/LOG(2))))","v":{"$error":"#DIV/0!"}},null,{"$f":"N7","v":111},{"$f":"COUNTIF(L21:L26,AD7)","v":0},{"$f":"AE7/(AG4-AE14)","v":{"$error":"#DIV/0!"}},{"$f":"IF(AF7=0,0,(AF7*((LOG(AF7))/LOG(2))))","v":{"$error":"#DIV/0!"}},null,{"$f":"N7","v":111},{"$f":"COUNTIF(L27:L33,AI7)","v":0},{"$f":"AJ7/(AL4-AJ14)","v":{"$error":"#DIV/0!"}},{"$f":"IF(AK7=0,0,(AK7*((LOG(AK7))/LOG(2))))","v":{"$error":"#DIV/0!"}},null,{"$f":"N7","v":111},{"$f":"COUNTIF(L34:L40,AN7)","v":0},{"$f":"AO7/(AQ4-AO14)","v":{"$error":"#DIV/0!"}},{"$f":"IF(AP7=0,0,(AP7*((LOG(AP7))/LOG(2))))","v":{"$error":"#DIV/0!"}},null,{"$f":"N7","v":111},{"$f":"COUNTIF(L41:L47,AS7)","v":0},{"$f":"AT7/(AV4-AT14)","v":{"$error":"#DIV/0!"}},{"$f":"IF(AU7=0,0,(AU7*((LOG(AU7))/LOG(2))))","v":{"$error":"#DIV/0!"}}]
[21,138,21,148,21,164,null,null,null,null,0,222,null,112,{"$f":"COUNTIF($L$7:$L$500,N8)","v":0},{"$f":"O8/$Q$4","v":0},{"$f":"IF(P8=0,0,(P8*((LOG(P8))/LOG(2))))","v":0},null,null,{"$f":"N8","v":112},{"$f":"COUNTIF(L7:L13,T8)","v":0},{"$f":"U8/(W4-U14)","v":0},{"$f":"IF(V8=0,0,(V8*((LOG(V8))/LOG(2))))","v":0},null,{"$f":"N8","v":112},{"$f":"COUNTIF(L14:L20,Y8)","v":0},{"$f":"Z8/(AB4-Z14)","v":{"$error":"#DIV/0!"}},{"$f":"IF(AA8=0,0,(AA8*((LOG(AA8))/LOG(2))))","v":{"$error":"#DIV/0!"}},null,{"$f":"N8","v":112},{"$f":"COUNTIF(L21:L26,AD8)","v":0},{"$f":"AE8/(AG4-AE14)","v":{"$error":"#DIV/0!"}},{"$f":"IF(AF8=0,0,(AF8*((LOG(AF8))/LOG(2))))","v":{"$error":"#DIV/0!"}},null,{"$f":"N8","v":112},{"$f":"COUNTIF(L27:L33,AI8)","v":0},{"$f":"AJ8/(AL4-AJ14)","v":{"$error":"#DIV/0!"}},{"$f":"IF(AK8=0,0,(AK8*((LOG(AK8))/LOG(2))))","v":{"$error":"#DIV/0!"}},null,{"$f":"N8","v":112},{"$f":"COUNTIF(L34:L40,AN8)","v":0},{"$f":"AO8/(AQ4-AO14)","v":{"$error":"#DIV/0!"}},{"$f":"IF(AP8=0,0,(AP8*((LOG(AP8))/LOG(2))))","v":{"$error":"#DIV/0!"}},null,{"$f":"N8","v":112},{"$f":"COUNTIF(L41:L47,AS8)","v":0},{"$f":"AT8/(AV4-AT14)","v":{"$error":"#DIV/0!"}},{"$f":"IF(AU8=0,0,(AU8*((LOG(AU8))/LOG(2))))","v":{"$error":"#DIV/0!"}}]
[21,273,21,307,21,323,null,null,null,null,0,222,null,121,{"$f":"COUNTIF($L$7:$L$500,N9)","v":0},{"$f":"O9/$Q$4","v":0},{"$f":"IF(P9=0,0,(P9*((LOG(P9))/LOG(2))))","v":0},null,null,{"$f":"N9","v":121},{"$f":"COUNTIF(L7:L13,T9)","v":0},{"$f":"U9/(W4-U14)","v":0},{"$f":"IF(V9=0,0,(V9*((LOG(V9))/LOG(2))))","v":0},null,{"$f":"N9","v":121},{"$f":"COUNTIF(L14:L20,Y9)","v":0},{"$f":"Z9/(AB4-Z14)","v":{"$error":"#DIV/0!"}},{"$f":"IF(AA9=0,0,(AA9*((LOG(AA9))/LOG(2))))","v":{"$error":"#DIV/0!"}},null,{"$f":"N9","v":121},{"$f":"COUNTIF(L21:L26,AD9)","v":0},{"$f":"AE9/(AG4-AE14)","v":{"$error":"#DIV/0!"}},{"$f":"IF(AF9=0,0,(AF9*((LOG(AF9))/LOG(2))))","v":{"$error":"#DIV/0!"}},null,{"$f":"N9","v":121},{"$f":"COUNTIF(L27:L33,AI9)","v":0},{"$f":"AJ9/(AL4-AJ14)","v":{"$error":"#DIV/0!"}},{"$f":"IF(AK9=0,0,(AK9*((LOG(AK9))/LOG(2))))","v":{"$error":"#DIV/0!"}},null,{"$f":"N9","v":121},{"$f":"COUNTIF(L34:L40,AN9)","v":0},{"$f":"AO9/(AQ4-AO14)","v":{"$error":"#DIV/0!"}},{"$f":"IF(AP9=0,0,(AP9*((LOG(AP9))/LOG(2))))","v":{"$error":"#DIV/0!"}},null,{"$f":"N9","v":121},{"$f":"COUNTIF(L41:L47,AS9)","v":0},{"$f":"AT9/(AV4-AT14)","v":{"$error":"#DIV/0!"}},{"$f":"IF(AU9=0,0,(AU9*((LOG(AU9))/LOG(2))))","v":{"$error":"#DIV/0!"}}]
[21,529,21,545,21,556,null,null,null,null,0,222,null,122,{"$f":"COUNTIF($L$7:$L$500,N10)","v":0},{"$f":"O10/$Q$4","v":0},{"$f":"IF(P10=0,0,(P10*((LOG(P10))/LOG(2))))","v":0},null,null,{"$f":"N10","v":122},{"$f":"COUNTIF(L7:L13,T10)","v":0},{"$f":"U10/(W4-U14)","v":0},{"$f":"IF(V10=0,0,(V10*((LOG(V10))/LOG(2))))","v":0},null,{"$f":"N10","v":122},{"$f":"COUNTIF(L14:L20,Y10)","v":0},{"$f":"Z10/(AB4-Z14)","v":{"$error":"#DIV/0!"}},{"$f":"IF(AA10=0,0,(AA10*((LOG(AA10))/LOG(2))))","v":{"$error":"#DIV/0!"}},null,{"$f":"N10","v":122},{"$f":"COUNTIF(L21:L26,AD10)","v":0},{"$f":"AE10/(AG4-AE14)","v":{"$error":"#DIV/0!"}},{"$f":"IF(AF10=0,0,(AF10*((LOG(AF10))/LOG(2))))","v":{"$error":"#DIV/0!"}},null,{"$f":"N10","v":122},{"$f":"COUNTIF(L27:L33,AI10)","v":0},{"$f":"AJ10/(AL4-AJ14)","v":{"$error":"#DIV/0!"}},{"$f":"IF(AK10=0,0,(AK10*((LOG(AK10))/LOG(2))))","v":{"$error":"#DIV/0!"}},null,{"$f":"N10","v":122},{"$f":"COUNTIF(L34:L40,AN10)","v":0},{"$f":"AO10/(AQ4-AO14)","v":{"$error":"#DIV/0!"}},{"$f":"IF(AP10=0,0,(AP10*((LOG(AP10))/LOG(2))))","v":{"$error":"#DIV/0!"}},null,{"$f":"N10","v":122},{"$f":"COUNTIF(L41:L47,AS10)","v":0},{"$f":"AT10/(AV4-AT14)","v":{"$error":"#DIV/0!"}},{"$f":"IF(AU10=0,0,(AU10*((LOG(AU10))/LOG(2))))","v":{"$error":"#DIV/0!"}}]
[21,691,21,710,21,735,null,null,null,null,0,222,null,211,{"$f":"COUNTIF($L$7:$L$500,N11)","v":1},{"$f":"O11/$Q$4","v":2.4390243902439025E-2},{"$f":"IF(P11=0,0,(P11*((LOG(P11))/LOG(2))))","v":-0.13067200011263619},null,null,{"$f":"N11","v":211},{"$f":"COUNTIF(L7:L13,T11)","v":1},{"$f":"U11/(W4-U14)","v":1},{"$f":"IF(V11=0,0,(V11*((LOG(V11))/LOG(2))))","v":0},null,{"$f":"N11","v":211},{"$f":"COUNTIF(L14:L20,Y11)","v":0},{"$f":"Z11/(AB4-Z14)","v":{"$error":"#DIV/0!"}},{"$f":"IF(AA11=0,0,(AA11*((LOG(AA11))/LOG(2))))","v":{"$error":"#DIV/0!"}},null,{"$f":"N11","v":211},{"$f":"COUNTIF(L21:L26,AD11)","v":0},{"$f":"AE11/(AG4-AE14)","v":{"$error":"#DIV/0!"}},{"$f":"IF(AF11=0,0,(AF11*((LOG(AF11))/LOG(2))))","v":{"$error":"#DIV/0!"}},null,{"$f":"N11","v":211},{"$f":"COUNTIF(L27:L33,AI11)","v":0},{"$f":"AJ11/(AL4-AJ14)","v":{"$error":"#DIV/0!"}},{"$f":"IF(AK11=0,0,(AK11*((LOG(AK11))/LOG(2))))","v":{"$error":"#DIV/0!"}},null,{"$f":"N11","v":211},{"$f":"COUNTIF(L34:L40,AN11)","v":0},{"$f":"AO11/(AQ4-AO14)","v":{"$error":"#DIV/0!"}},{"$f":"IF(AP11=0,0,(AP11*((LOG(AP11))/LOG(2))))","v":{"$error":"#DIV/0!"}},null,{"$f":"N11","v":211},{"$f":"COUNTIF(L41:L47,AS11)","v":0},{"$f":"AT11/(AV4-AT14)","v":{"$error":"#DIV/0!"}},{"$f":"IF(AU11=0,0,(AU11*((LOG(AU11))/LOG(2))))","v":{"$error":"#DIV/0!"}}]
[21,856,21,873,21,886,null,null,null,null,0,222,null,212,{"$f":"COUNTIF($L$7:$L$500,N12)","v":0},{"$f":"O12/$Q$4","v":0},{"$f":"IF(P12=0,0,(P12*((LOG(P12))/LOG(2))))","v":0},null,null,{"$f":"N12","v":212},{"$f":"COUNTIF(L7:L13,T12)","v":0},{"$f":"U12/(W4-U14)","v":0},{"$f":"IF(V12=0,0,(V12*((LOG(V12))/LOG(2))))","v":0},null,{"$f":"N12","v":212},{"$f":"COUNTIF(L14:L20,Y12)","v":0},{"$f":"Z12/(AB4-Z14)","v":{"$error":"#DIV/0!"}},{"$f":"IF(AA12=0,0,(AA12*((LOG(AA12))/LOG(2))))","v":{"$error":"#DIV/0!"}},null,{"$f":"N12","v":212},{"$f":"COUNTIF(L21:L26,AD12)","v":0},{"$f":"AE12/(AG4-AE14)","v":{"$error":"#DIV/0!"}},{"$f":"IF(AF12=0,0,(AF12*((LOG(AF12))/LOG(2))))","v":{"$error":"#DIV/0!"}},null,{"$f":"N12","v":212},{"$f":"COUNTIF(L27:L33,AI12)","v":0},{"$f":"AJ12/(AL4-AJ14)","v":{"$error":"#DIV/0!"}},{"$f":"IF(AK12=0,0,(AK12*((LOG(AK12))/LOG(2))))","v":{"$error":"#DIV/0!"}},null,{"$f":"N12","v":212},{"$f":"COUNTIF(L34:L40,AN12)","v":0},{"$f":"AO12/(AQ4-AO14)","v":{"$error":"#DIV/0!"}},{"$f":"IF(AP12=0,0,(AP12*((LOG(AP12))/LOG(2))))","v":{"$error":"#DIV/0!"}},null,{"$f":"N12","v":212},{"$f":"COUNTIF(L41:L47,AS12)","v":0},{"$f":"AT12/(AV4-AT14)","v":{"$error":"#DIV/0!"}},{"$f":"IF(AU12=0,0,(AU12*((LOG(AU12))/LOG(2))))","v":{"$error":"#DIV/0!"}}]
[21,1019,21,1026,21,1032,null,null,null,null,0,222,null,221,{"$f":"COUNTIF($L$7:$L$500,N13)","v":0},{"$f":"O13/$Q$4","v":0},{"$f":"IF(P13=0,0,(P13*((LOG(P13))/LOG(2))))","v":0},null,null,{"$f":"N13","v":221},{"$f":"COUNTIF(L7:L13,T13)","v":0},{"$f":"U13/(W4-U14)","v":0},{"$f":"IF(V13=0,0,(V13*((LOG(V13))/LOG(2))))","v":0},null,{"$f":"N13","v":221},{"$f":"COUNTIF(L14:L20,Y13)","v":0},{"$f":"Z13/(AB4-Z14)","v":{"$error":"#DIV/0!"}},{"$f":"IF(AA13=0,0,(AA13*((LOG(AA13))/LOG(2))))","v":{"$error":"#DIV/0!"}},null,{"$f":"N13","v":221},{"$f":"COUNTIF(L21:L26,AD13)","v":0},{"$f":"AE13/(AG4-AE14)","v":{"$error":"#DIV/0!"}},{"$f":"IF(AF13=0,0,(AF13*((LOG(AF13))/LOG(2))))","v":{"$error":"#DIV/0!"}},null,{"$f":"N13","v":221},{"$f":"COUNTIF(L27:L33,AI13)","v":0},{"$f":"AJ13/(AL4-AJ14)","v":{"$error":"#DIV/0!"}},{"$f":"IF(AK13=0,0,(AK13*((LOG(AK13))/LOG(2))))","v":{"$error":"#DIV/0!"}},null,{"$f":"N13","v":221},{"$f":"COUNTIF(L34:L40,AN13)","v":0},{"$f":"AO13/(AQ4-AO14)","v":{"$error":"#DIV/0!"}},{"$f":"IF(AP13=0,0,(AP13*((LOG(AP13))/LOG(2))))","v":{"$error":"#DIV/0!"}},null,{"$f":"N13","v":221},{"$f":"COUNTIF(L41:L47,AS13)","v":0},{"$f":"AT13/(AV4-AT14)","v":{"$error":"#DIV/0!"}},{"$f":"IF(AU13=0,0,(AU13*((LOG(AU13))/LOG(2))))","v":{"$error":"#DIV/0!"}}]
[21,1150,21,1160,21,1179,null,null,null,null,0,222,null,222,{"$f":"COUNTIF($L$7:$L$500,N14)","v":40},{"$f":"O14/$Q$4","v":0.97560975609756095},{"$f":"IF(P14=0,0,(P14*((LOG(P14))/LOG(2))))","v":-3.4755033883630611E-2},null,null,{"$f":"N14","v":222},{"$f":"COUNTIF(L7:L13,T14)","v":6},null,null,null,{"$f":"N14","v":222},{"$f":"COUNTIF(L14:L20,Y14)","v":7},null,null,null,{"$f":"N14","v":222},{"$f":"COUNTIF(L21:L26,AD14)","v":6},null,null,null,{"$f":"N14","v":222},{"$f":"COUNTIF(L27:L33,AI14)","v":7},null,null,null,{"$f":"N14","v":222},{"$f":"COUNTIF(L34:L40,AN14)","v":7},null,null,null,{"$f":"N14","v":222},{"$f":"COUNTIF(L41:L47,AS14)","v":7}]
[21,1332,21,1345,21,1356,null,null,null,null,0,222,null,null,null,{"$f":"SUM(P7:P14)","v":1},{"$f":"-SUM(Q7:Q14)","v":0.16542703399626679},null,null,null,null,{"$f":"SUM(V7:V14)","v":1},{"$f":"-SUM(W7:W14)","v":0},null,null,null,{"$f":"SUM(AA7:AA14)","v":{"$error":"#DIV/0!"}},{"$f":"-SUM(AB7:AB14)","v":{"$error":"#DIV/0!"}},null,null,null,{"$f":"SUM(AF7:AF14)","v":{"$error":"#DIV/0!"}},{"$f":"-SUM(AG7:AG14)","v":{"$error":"#DIV/0!"}},null,null,null,{"$f":"SUM(AK7:AK14)","v":{"$error":"#DIV/0!"}},{"$f":"-SUM(AL7:AL14)","v":{"$error":"#DIV/0!"}},null,null,null,{"$f":"SUM(AP7:AP14)","v":{"$error":"#DIV/0!"}},{"$f":"-SUM(AQ7:AQ14)","v":{"$error":"#DIV/0!"}},null,null,null,{"$f":"SUM(AU7:AU14)","v":{"$error":"#DIV/0!"}},{"$f":"-SUM(AV7:AV14)","v":{"$error":"#DIV/0!"}}]
[21,1496,21,1506,21,1516,null,null,null,null,0,222,null,null,null,"U=",{"$f":"Q15/(LOG(Q4)/LOG(2))","v":3.0877354779509855E-2},null,null,null,null,"U1=",{"$f":"W15/(LOG(W4)/LOG(2))","v":0},null,null,null,"U2=",{"$f":"AB15/(LOG(AB4)/LOG(2))","v":{"$error":"#DIV/0!"}},null,null,null,"U3=",{"$f":"AG15/(LOG(AG4)/LOG(2))","v":{"$error":"#DIV/0!"}},null,null,null,"U4=",{"$f":"AL15/(LOG(AL4)/LOG(2))","v":{"$error":"#DIV/0!"}},null,null,null,"U5=",{"$f":"AQ15/(LOG(AQ4)/LOG(2))","v":{"$error":"#DIV/0!"}},null,null,null,"U6=",{"$f":"AV15/(LOG(AV4)/LOG(2))","v":{"$error":"#DIV/0!"}}]
[21,1708,21,1714,21,1737,null,null,null,null,0,222]
[21,1857,21,1863,21,1874,null,null,null,null,0,222]
[21,1997,21,2010,21,2026,null,null,null,null,0,222,null,"Total Target Seq"]
[21,2143,21,2162,21,2178,null,null,null,null,0,222,null,{"$f":"COUNTIF(L7:L47,G3)","v":40},null,7,7,6,7,7,7]
[21,2327,21,2344,21,2354,null,null,null,null,0,222,null,null,null,"% of reinforcement given in 6 equal intervals based on number of trials "]
[21,2531,21,2537,21,2568,null,null,null,null,0,222,null,null,null,"%_1","%_2","%_3","%_4","%_5","%_6"]
[21,2716,21,2737,21,2754,null,null,null,null,0,222,null,null,"target sequence",{"$f":"$G$3","v":222},{"$f":"$G$3","v":222},{"$f":"$G$3","v":222},{"$f":"$G$3","v":222},{"$f":"$G$3","v":222},{"$f":"$G$3","v":222}]
[21,2900,21,2957,21,2970,null,null,null,null,0,222,null,null,"total reinforcement",{"$f":"U14","v":6},{"$f":"Z14","v":7},{"$f":"AE14","v":6},{"$f":"AJ14","v":7},{"$f":"AO14","v":7},{"$f":"AT14","v":7}]
[21,3097,21,3108,21,3124,null,null,null,null,0,222,null,null,"% target"]
[21,3258,21,3268,21,3292,null,null,null,null,0,222,null,null,"CCRF"]
[21,3396,21,3413,21,3428,null,null,null,null,0,222,null,null,"% CCRf"]
[21,3551,21,3555,21,3561,null,null,null,null,0,222,null,null,"average response rate",{"$f":"F13/P20","v":147.42857142857142},{"$f":"(F20-F13)/Q20","v":163.71428571428572},{"$f":"(F26-F20)/R20","v":185.66666666666666},{"$f":"(F33-F26)/S20","v":154.14285714285714},{"$f":"(F40-F33)/T20","v":159.28571428571428},{"$f":"(F47-F40)/U20","v":177.42857142857142}]
[21,3683,21,3690,21,3703,null,null,null,null,0,222]
[21,3804,21,3854,21,3891,null,null,null,null,0,222]
[21,4026,21,4064,21,4101,null,null,null,null,0,222]
[21,4217,21,4223,21,4239,null,null,null,null,0,222]
[21,4333,21,4349,21,4371,null,null,null,null,0,222]
[21,4595,21,4602,21,4611,null,null,null,null,0,222]
[21,4705,21,4710,21,4715,null,null,null,null,0,222]
[21,4813,21,4825,21,4871,null,null,null,null,0,222]
[21,4994,21,5019,21,5030,null,null,null,null,0,222]
[21,5145,21,5151,21,5159,null,null,null,null,0,222]
[21,5285,21,5295,21,5305,null,null,null,null,0,222]
[21,5450,21,5470,21,5486,null,null,null,null,0,222]
[21,5625,21,5631,21,5653,null,null,null,null,0,222]
[21,5822,21,5833,21,5843,null,null,null,null,0,222]
[21,5992,21,6013,21,6024,null,null,null,null,0,222]
[21,6199,21,6204,21,6230,null,null,null,null,0,222]
[21,6339,21,6352,21,6371,null,null,null,null,0,222]
[21,6502,21,6509,21,6530,null,null,null,null,0,222]
[21,6694,21,6713,21,6728,null,null,null,null,1,222]

{"sheet":"!M322B2I.sha","index":15,"n_rows":47,"n_cols":48,"rows_kept":47,"cut":false,"hidden":false,"merged":[[4,39,4,42],[5,39,5,40],[4,44,4,47],[5,44,5,45],[4,24,4,27],[5,24,5,25],[4,29,4,32],[5,29,5,30],[4,34,4,37],[5,34,5,35],[1,1,1,2],[5,13,5,14],[18,13,18,14],[19,13,19,14],[4,19,4,22],[5,19,5,20]]}
["Report for:!M322B2I.sha"]
["Date:","<date>"]
["Hen:","<hen>",null,null,null,"Correct Sequence",{"$f":"Start!J2","v":222},null,null,null,null,null,null,null,null,"Total Sequences in Data",{"$f":"4994-COUNTBLANK(L7:L5000)","v":41},null,null,null,null,"Total Sequences in Block Data",{"$f":"COUNTA(L7:L13)","v":7},null,null,null,"Total Sequences in Block Data",{"$f":"COUNTA(L14:L20)","v":7},null,null,null,"Total Sequences in Block Data",{"$f":"COUNTA(L21:L26)","v":6},null,null,null,"Total Sequences in Block Data",{"$f":"COUNTA(L27:L33)","v":7},null,null,null,"Total Sequences in Block Data",{"$f":"COUNTA(L34:L40)","v":7},null,null,null,"Total Sequences in Block Data",{"$f":"COUNTA(L41:L47)","v":7}]
[null,null,null,null,null,null,null,null,null,null,null,null,null,null,null,"Total Sequences in Summary",{"$f":"SUM(O7:O14)","v":41},null,null,null,null,"Total Sequences in Block Summary",{"$f":"SUM(U7:U14)","v":7},null,null,null,"Total Sequences in Block Summary",{"$f":"SUM(Z7:Z14)","v":7},null,null,null,"Total Sequences in Block Summary",{"$f":"SUM(AE7:AE14)","v":6},null,null,null,"Total Sequences in Block Summary",{"$f":"SUM(AJ7:AJ14)","v":7},null,null,null,"Total Sequences in Block Summary",{"$f":"SUM(AO7:AO14)","v":7},null,null,null,"Total Sequences in Block Summary",{"$f":"SUM(AT7:AT14)","v":7}]
[null,null,null,null,null,null,null,null,null,null,null,null,null,null,null,null,null,null,null,"Block 1",null,null,null,null,"Block 2",null,null,null,null,"Block 3",null,null,null,null,"Block 4",null,null,null,null,"Block 5",null,null,null,null,"Block 6"]
["Sequence\nComponent\n1","Time\n1","Sequence\nComponent\n2","Time\n2","Sequence\nComponent\n3","Time\n3","Sequence\nComponent\n4","Time\n4","Sequence\nComponent\n5","Time\n5","Correct?\n0=No 1=Yes","Sequence",null,"Frequency",null,"Relative Frequency","Variability",null,null,"Frequency",null,"Relative Frequency","Variability",null,"Frequency",null,"Relative Frequency","Variability",null,"Frequency",null,"Relative Frequency","Variability",null,"Frequency",null,"Relative Frequency","Variability",null,"Frequency",null,"Relative Frequency","Variability",null,"Frequency",null,"Relative Frequency","Variability"]
[21,10,12,20,14,24,null,null,null,null,0,211,null,111,{"$f":"COUNTIF($L$7:$L$500,N7)","v":0},{"$f":"O7/$Q$4","v":0},{"$f":"IF(P7=0,0,(P7*((LOG(P7))/LOG(2))))","v":0},null,null,{"$f":"N7","v":111},{"$f":"COUNTIF(L7:L13,T7)","v":0},{"$f":"U7/(W4-U14)","v":0},{"$f":"IF(V7=0,0,(V7*((LOG(V7))/LOG(2))))","v":0},null,{"$f":"N7","v":111},{"$f":"COUNTIF(L14:L20,Y7)","v":0},{"$f":"Z7/(AB4-Z14)","v":{"$error":"#DIV/0!"}},{"$f":"IF(AA7=0,0,(AA7*((LOG(AA7))/LOG(2))))","v":{"$error":"#DIV/0!"}},null,{"$f":"N7","v":111},{"$f":"COUNTIF(L21:L26,AD7)","v":0},{"$f":"AE7/(AG4-AE14)","v":{"$error":"#DIV/0!"}},{"$f":"IF(AF7=0,0,(AF7*((LOG(AF7))/LOG(2))))","v":{"$error":"#DIV/0!"}},null,{"$f":"N7","v":111},{"$f":"COUNTIF(L27:L33,AI7)","v":0},{"$f":"AJ7/(AL4-AJ14)","v":{"$error":"#DIV/0!"}},{"$f":"IF(AK7=0,0,(AK7*((LOG(AK7))/LOG(2))))","v":{"$error":"#DIV/0!"}},null,{"$f":"N7","v":111},{"$f":"COUNTIF(L34:L40,AN7)","v":0},{"$f":"AO7/(AQ4-AO14)","v":{"$error":"#DIV/0!"}},{"$f":"IF(AP7=0,0,(AP7*((LOG(AP7))/LOG(2))))","v":{"$error":"#DIV/0!"}},null,{"$f":"N7","v":111},{"$f":"COUNTIF(L41:L47,AS7)","v":0},{"$f":"AT7/(AV4-AT14)","v":{"$error":"#DIV/0!"}},{"$f":"IF(AU7=0,0,(AU7*((LOG(AU7))/LOG(2))))","v":{"$error":"#DIV/0!"}}]
[21,122,21,129,21,145,null,null,null,null,0,222,null,112,{"$f":"COUNTIF($L$7:$L$500,N8)","v":0},{"$f":"O8/$Q$4","v":0},{"$f":"IF(P8=0,0,(P8*((LOG(P8))/LOG(2))))","v":0},null,null,{"$f":"N8","v":112},{"$f":"COUNTIF(L7:L13,T8)","v":0},{"$f":"U8/(W4-U14)","v":0},{"$f":"IF(V8=0,0,(V8*((LOG(V8))/LOG(2))))","v":0},null,{"$f":"N8","v":112},{"$f":"COUNTIF(L14:L20,Y8)","v":0},{"$f":"Z8/(AB4-Z14)","v":{"$error":"#DIV/0!"}},{"$f":"IF(AA8=0,0,(AA8*((LOG(AA8))/LOG(2))))","v":{"$error":"#DIV/0!"}},null,{"$f":"N8","v":112},{"$f":"COUNTIF(L21:L26,AD8)","v":0},{"$f":"AE8/(AG4-AE14)","v":{"$error":"#DIV/0!"}},{"$f":"IF(AF8=0,0,(AF8*((LOG(AF8))/LOG(2))))","v":{"$error":"#DIV/0!"}},null,{"$f":"N8","v":112},{"$f":"COUNTIF(L27:L33,AI8)","v":0},{"$f":"AJ8/(AL4-AJ14)","v":{"$error":"#DIV/0!"}},{"$f":"IF(AK8=0,0,(AK8*((LOG(AK8))/LOG(2))))","v":{"$error":"#DIV/0!"}},null,{"$f":"N8","v":112},{"$f":"COUNTIF(L34:L40,AN8)","v":0},{"$f":"AO8/(AQ4-AO14)","v":{"$error":"#DIV/0!"}},{"$f":"IF(AP8=0,0,(AP8*((LOG(AP8))/LOG(2))))","v":{"$error":"#DIV/0!"}},null,{"$f":"N8","v":112},{"$f":"COUNTIF(L41:L47,AS8)","v":0},{"$f":"AT8/(AV4-AT14)","v":{"$error":"#DIV/0!"}},{"$f":"IF(AU8=0,0,(AU8*((LOG(AU8))/LOG(2))))","v":{"$error":"#DIV/0!"}}]
[21,239,21,252,21,260,null,null,null,null,0,222,null,121,{"$f":"COUNTIF($L$7:$L$500,N9)","v":0},{"$f":"O9/$Q$4","v":0},{"$f":"IF(P9=0,0,(P9*((LOG(P9))/LOG(2))))","v":0},null,null,{"$f":"N9","v":121},{"$f":"COUNTIF(L7:L13,T9)","v":0},{"$f":"U9/(W4-U14)","v":0},{"$f":"IF(V9=0,0,(V9*((LOG(V9))/LOG(2))))","v":0},null,{"$f":"N9","v":121},{"$f":"COUNTIF(L14:L20,Y9)","v":0},{"$f":"Z9/(AB4-Z14)","v":{"$error":"#DIV/0!"}},{"$f":"IF(AA9=0,0,(AA9*((LOG(AA9))/LOG(2))))","v":{"$error":"#DIV/0!"}},null,{"$f":"N9","v":121},{"$f":"COUNTIF(L21:L26,AD9)","v":0},{"$f":"AE9/(AG4-AE14)","v":{"$error":"#DIV/0!"}},{"$f":"IF(AF9=0,0,(AF9*((LOG(AF9))/LOG(2))))","v":{"$error":"#DIV/0!"}},null,{"$f":"N9","v":121},{"$f":"COUNTIF(L27:L33,AI9)","v":0},{"$f":"AJ9/(AL4-AJ14)","v":{"$error":"#DIV/0!"}},{"$f":"IF(AK9=0,0,(AK9*((LOG(AK9))/LOG(2))))","v":{"$error":"#DIV/0!"}},null,{"$f":"N9","v":121},{"$f":"COUNTIF(L34:L40,AN9)","v":0},{"$f":"AO9/(AQ4-AO14)","v":{"$error":"#DIV/0!"}},{"$f":"IF(AP9=0,0,(AP9*((LOG(AP9))/LOG(2))))","v":{"$error":"#DIV/0!"}},null,{"$f":"N9","v":121},{"$f":"COUNTIF(L41:L47,AS9)","v":0},{"$f":"AT9/(AV4-AT14)","v":{"$error":"#DIV/0!"}},{"$f":"IF(AU9=0,0,(AU9*((LOG(AU9))/LOG(2))))","v":{"$error":"#DIV/0!"}}]
[21,354,21,358,21,376,null,null,null,null,0,222,null,122,{"$f":"COUNTIF($L$7:$L$500,N10)","v":0},{"$f":"O10/$Q$4","v":0},{"$f":"IF(P10=0,0,(P10*((LOG(P10))/LOG(2))))","v":0},null,null,{"$f":"N10","v":122},{"$f":"COUNTIF(L7:L13,T10)","v":0},{"$f":"U10/(W4-U14)","v":0},{"$f":"IF(V10=0,0,(V10*((LOG(V10))/LOG(2))))","v":0},null,{"$f":"N10","v":122},{"$f":"COUNTIF(L14:L20,Y10)","v":0},{"$f":"Z10/(AB4-Z14)","v":{"$error":"#DIV/0!"}},{"$f":"IF(AA10=0,0,(AA10*((LOG(AA10))/LOG(2))))","v":{"$error":"#DIV/0!"}},null,{"$f":"N10","v":122},{"$f":"COUNTIF(L21:L26,AD10)","v":0},{"$f":"AE10/(AG4-AE14)","v":{"$error":"#DIV/0!"}},{"$f":"IF(AF10=0,0,(AF10*((LOG(AF10))/LOG(2))))","v":{"$error":"#DIV/0!"}},null,{"$f":"N10","v":122},{"$f":"COUNTIF(L27:L33,AI10)","v":0},{"$f":"AJ10/(AL4-AJ14)","v":{"$error":"#DIV/0!"}},{"$f":"IF(AK10=0,0,(AK10*((LOG(AK10))/LOG(2))))","v":{"$error":"#DIV/0!"}},null,{"$f":"N10","v":122},{"$f":"COUNTIF(L34:L40,AN10)","v":0},{"$f":"AO10/(AQ4-AO14)","v":{"$error":"#DIV/0!"}},{"$f":"IF(AP10=0,0,(AP10*((LOG(AP10))/LOG(2))))","v":{"$error":"#DIV/0!"}},null,{"$f":"N10","v":122},{"$f":"COUNTIF(L41:L47,AS10)","v":0},{"$f":"AT10/(AV4-AT14)","v":{"$error":"#DIV/0!"}},{"$f":"IF(AU10=0,0,(AU10*((LOG(AU10))/LOG(2))))","v":{"$error":"#DIV/0!"}}]
[21,525,21,546,21,561,null,null,null,null,0,222,null,211,{"$f":"COUNTIF($L$7:$L$500,N11)","v":1},{"$f":"O11/$Q$4","v":2.4390243902439025E-2},{"$f":"IF(P11=0,0,(P11*((LOG(P11))/LOG(2))))","v":-0.13067200011263619},null,null,{"$f":"N11","v":211},{"$f":"COUNTIF(L7:L13,T11)","v":1},{"$f":"U11/(W4-U14)","v":1},{"$f":"IF(V11=0,0,(V11*((LOG(V11))/LOG(2))))","v":0},null,{"$f":"N11","v":211},{"$f":"COUNTIF(L14:L20,Y11)","v":0},{"$f":"Z11/(AB4-Z14)","v":{"$error":"#DIV/0!"}},{"$f":"IF(AA11=0,0,(AA11*((LOG(AA11))/LOG(2))))","v":{"$error":"#DIV/0!"}},null,{"$f":"N11","v":211},{"$f":"COUNTIF(L21:L26,AD11)","v":0},{"$f":"AE11/(AG4-AE14)","v":{"$error":"#DIV/0!"}},{"$f":"IF(AF11=0,0,(AF11*((LOG(AF11))/LOG(2))))","v":{"$error":"#DIV/0!"}},null,{"$f":"N11","v":211},{"$f":"COUNTIF(L27:L33,AI11)","v":0},{"$f":"AJ11/(AL4-AJ14)","v":{"$error":"#DIV/0!"}},{"$f":"IF(AK11=0,0,(AK11*((LOG(AK11))/LOG(2))))","v":{"$error":"#DIV/0!"}},null,{"$f":"N11","v":211},{"$f":"COUNTIF(L34:L40,AN11)","v":0},{"$f":"AO11/(AQ4-AO14)","v":{"$error":"#DIV/0!"}},{"$f":"IF(AP11=0,0,(AP11*((LOG(AP11))/LOG(2))))","v":{"$error":"#DIV/0!"}},null,{"$f":"N11","v":211},{"$f":"COUNTIF(L41:L47,AS11)","v":0},{"$f":"AT11/(AV4-AT14)","v":{"$error":"#DIV/0!"}},{"$f":"IF(AU11=0,0,(AU11*((LOG(AU11))/LOG(2))))","v":{"$error":"#DIV/0!"}}]
[21,678,21,718,21,757,null,null,null,null,0,222,null,212,{"$f":"COUNTIF($L$7:$L$500,N12)","v":0},{"$f":"O12/$Q$4","v":0},{"$f":"IF(P12=0,0,(P12*((LOG(P12))/LOG(2))))","v":0},null,null,{"$f":"N12","v":212},{"$f":"COUNTIF(L7:L13,T12)","v":0},{"$f":"U12/(W4-U14)","v":0},{"$f":"IF(V12=0,0,(V12*((LOG(V12))/LOG(2))))","v":0},null,{"$f":"N12","v":212},{"$f":"COUNTIF(L14:L20,Y12)","v":0},{"$f":"Z12/(AB4-Z14)","v":{"$error":"#DIV/0!"}},{"$f":"IF(AA12=0,0,(AA12*((LOG(AA12))/LOG(2))))","v":{"$error":"#DIV/0!"}},null,{"$f":"N12","v":212},{"$f":"COUNTIF(L21:L26,AD12)","v":0},{"$f":"AE12/(AG4-AE14)","v":{"$error":"#DIV/0!"}},{"$f":"IF(AF12=0,0,(AF12*((LOG(AF12))/LOG(2))))","v":{"$error":"#DIV/0!"}},null,{"$f":"N12","v":212},{"$f":"COUNTIF(L27:L33,AI12)","v":0},{"$f":"AJ12/(AL4-AJ14)","v":{"$error":"#DIV/0!"}},{"$f":"IF(AK12=0,0,(AK12*((LOG(AK12))/LOG(2))))","v":{"$error":"#DIV/0!"}},null,{"$f":"N12","v":212},{"$f":"COUNTIF(L34:L40,AN12)","v":0},{"$f":"AO12/(AQ4-AO14)","v":{"$error":"#DIV/0!"}},{"$f":"IF(AP12=0,0,(AP12*((LOG(AP12))/LOG(2))))","v":{"$error":"#DIV/0!"}},null,{"$f":"N12","v":212},{"$f":"COUNTIF(L41:L47,AS12)","v":0},{"$f":"AT12/(AV4-AT14)","v":{"$error":"#DIV/0!"}},{"$f":"IF(AU12=0,0,(AU12*((LOG(AU12))/LOG(2))))","v":{"$error":"#DIV/0!"}}]
[21,873,21,929,21,940,null,null,null,null,0,222,null,221,{"$f":"COUNTIF($L$7:$L$500,N13)","v":0},{"$f":"O13/$Q$4","v":0},{"$f":"IF(P13=0,0,(P13*((LOG(P13))/LOG(2))))","v":0},null,null,{"$f":"N13","v":221},{"$f":"COUNTIF(L7:L13,T13)","v":0},{"$f":"U13/(W4-U14)","v":0},{"$f":"IF(V13=0,0,(V13*((LOG(V13))/LOG(2))))","v":0},null,{"$f":"N13","v":221},{"$f":"COUNTIF(L14:L20,Y13)","v":0},{"$f":"Z13/(AB4-Z14)","v":{"$error":"#DIV/0!"}},{"$f":"IF(AA13=0,0,(AA13*((LOG(AA13))/LOG(2))))","v":{"$error":"#DIV/0!"}},null,{"$f":"N13","v":221},{"$f":"COUNTIF(L21:L26,AD13)","v":0},{"$f":"AE13/(AG4-AE14)","v":{"$error":"#DIV/0!"}},{"$f":"IF(AF13=0,0,(AF13*((LOG(AF13))/LOG(2))))","v":{"$error":"#DIV/0!"}},null,{"$f":"N13","v":221},{"$f":"COUNTIF(L27:L33,AI13)","v":0},{"$f":"AJ13/(AL4-AJ14)","v":{"$error":"#DIV/0!"}},{"$f":"IF(AK13=0,0,(AK13*((LOG(AK13))/LOG(2))))","v":{"$error":"#DIV/0!"}},null,{"$f":"N13","v":221},{"$f":"COUNTIF(L34:L40,AN13)","v":0},{"$f":"AO13/(AQ4-AO14)","v":{"$error":"#DIV/0!"}},{"$f":"IF(AP13=0,0,(AP13*((LOG(AP13))/LOG(2))))","v":{"$error":"#DIV/0!"}},null,{"$f":"N13","v":221},{"$f":"COUNTIF(L41:L47,AS13)","v":0},{"$f":"AT13/(AV4-AT14)","v":{"$error":"#DIV/0!"}},{"$f":"IF(AU13=0,0,(AU13*((LOG(AU13))/LOG(2))))","v":{"$error":"#DIV/0!"}}]
[21,1059,21,1065,21,1119,null,null,null,null,0,222,null,222,{"$f":"COUNTIF($L$7:$L$500,N14)","v":40},{"$f":"O14/$Q$4","v":0.97560975609756095},{"$f":"IF(P14=0,0,(P14*((LOG(P14))/LOG(2))))","v":-3.4755033883630611E-2},null,null,{"$f":"N14","v":222},{"$f":"COUNTIF(L7:L13,T14)","v":6},null,null,null,{"$f":"N14","v":222},{"$f":"COUNTIF(L14:L20,Y14)","v":7},null,null,null,{"$f":"N14","v":222},{"$f":"COUNTIF(L21:L26,AD14)","v":6},null,null,null,{"$f":"N14","v":222},{"$f":"COUNTIF(L27:L33,AI14)","v":7},null,null,null,{"$f":"N14","v":222},{"$f":"COUNTIF(L34:L40,AN14)","v":7},null,null,null,{"$f":"N14","v":222},{"$f":"COUNTIF(L41:L47,AS14)","v":7}]
[21,1238,21,1253,21,1259,null,null,null,null,0,222,null,null,null,{"$f":"SUM(P7:P14)","v":1},{"$f":"-SUM(Q7:Q14)","v":0.16542703399626679},null,null,null,null,{"$f":"SUM(V7:V14)","v":1},{"$f":"-SUM(W7:W14)","v":0},null,null,null,{"$f":"SUM(AA7:AA14)","v":{"$error":"#DIV/0!"}},{"$f":"-SUM(AB7:AB14)","v":{"$error":"#DIV/0!"}},null,null,null,{"$f":"SUM(AF7:AF14)","v":{"$error":"#DIV/0!"}},{"$f":"-SUM(AG7:AG14)","v":{"$error":"#DIV/0!"}},null,null,null,{"$f":"SUM(AK7:AK14)","v":{"$error":"#DIV/0!"}},{"$f":"-SUM(AL7:AL14)","v":{"$error":"#DIV/0!"}},null,null,null,{"$f":"SUM(AP7:AP14)","v":{"$error":"#DIV/0!"}},{"$f":"-SUM(AQ7:AQ14)","v":{"$error":"#DIV/0!"}},null,null,null,{"$f":"SUM(AU7:AU14)","v":{"$error":"#DIV/0!"}},{"$f":"-SUM(AV7:AV14)","v":{"$error":"#DIV/0!"}}]
[21,1381,21,1408,21,1430,null,null,null,null,0,222,null,null,null,"U=",{"$f":"Q15/(LOG(Q4)/LOG(2))","v":3.0877354779509855E-2},null,null,null,null,"U1=",{"$f":"W15/(LOG(W4)/LOG(2))","v":0},null,null,null,"U2=",{"$f":"AB15/(LOG(AB4)/LOG(2))","v":{"$error":"#DIV/0!"}},null,null,null,"U3=",{"$f":"AG15/(LOG(AG4)/LOG(2))","v":{"$error":"#DIV/0!"}},null,null,null,"U4=",{"$f":"AL15/(LOG(AL4)/LOG(2))","v":{"$error":"#DIV/0!"}},null,null,null,"U5=",{"$f":"AQ15/(LOG(AQ4)/LOG(2))","v":{"$error":"#DIV/0!"}},null,null,null,"U6=",{"$f":"AV15/(LOG(AV4)/LOG(2))","v":{"$error":"#DIV/0!"}}]
[21,1544,21,1549,21,1554,null,null,null,null,0,222]
[21,1656,21,1671,21,1687,null,null,null,null,0,222]
[21,1805,21,1810,21,1865,null,null,null,null,0,222,null,"Total Target Seq"]
[21,1957,21,1962,21,1967,null,null,null,null,0,222,null,{"$f":"COUNTIF(L7:L47,G3)","v":40},null,7,7,6,7,7,7]
[21,2062,21,2072,21,2082,null,null,null,null,0,222,null,null,null,"% of reinforcement given in 6 equal intervals based on number of trials "]
[21,2181,21,2198,21,2214,null,null,null,null,0,222,null,null,null,"%_1","%_2","%_3","%_4","%_5","%_6"]
[21,2310,21,2327,21,2361,null,null,null,null,0,222,null,null,"target sequence",{"$f":"$G$3","v":222},{"$f":"$G$3","v":222},{"$f":"$G$3","v":222},{"$f":"$G$3","v":222},{"$f":"$G$3","v":222},{"$f":"$G$3","v":222}]
[21,2479,21,2486,21,2494,null,null,null,null,0,222,null,null,"total reinforcement",{"$f":"U14","v":6},{"$f":"Z14","v":7},{"$f":"AE14","v":6},{"$f":"AJ14","v":7},{"$f":"AO14","v":7},{"$f":"AT14","v":7}]
[21,2609,21,2621,21,2655,null,null,null,null,0,222,null,null,"% target"]
[21,2797,21,2815,21,2871,null,null,null,null,0,222,null,null,"CCRF"]
[21,2984,21,2994,21,3011,null,null,null,null,0,222,null,null,"% CCRf"]
[21,3105,21,3115,21,3133,null,null,null,null,0,222,null,null,"average response rate",{"$f":"F13/P20","v":134.28571428571428},{"$f":"(F20-F13)/Q20","v":146.71428571428572},{"$f":"(F26-F20)/R20","v":150.66666666666666},{"$f":"(F33-F26)/S20","v":154.71428571428572},{"$f":"(F40-F33)/T20","v":140},{"$f":"(F47-F40)/U20","v":164.14285714285714}]
[21,3228,21,3245,21,3254,null,null,null,null,0,222]
[21,3348,21,3353,21,3363,null,null,null,null,0,222]
[21,3495,21,3501,21,3551,null,null,null,null,0,222]
[21,3734,21,3770,21,3785,null,null,null,null,0,222]
[21,3923,21,3929,21,3954,null,null,null,null,0,222]
[21,4081,21,4092,21,4108,null,null,null,null,0,222]
[21,4207,21,4239,21,4251,null,null,null,null,0,222]
[21,4349,21,4356,21,4364,null,null,null,null,0,222]
[21,4462,21,4491,21,4522,null,null,null,null,0,222]
[21,4644,21,4650,21,4660,null,null,null,null,0,222]
[21,4755,21,4759,21,4777,null,null,null,null,0,222]
[21,4914,21,4926,21,4934,null,null,null,null,0,222]
[21,5045,21,5052,21,5061,null,null,null,null,0,222]
[21,5303,21,5307,21,5355,null,null,null,null,0,222]
[21,5506,21,5517,21,5522,null,null,null,null,0,222]
[21,5647,21,5654,21,5678,null,null,null,null,0,222]
[21,5793,21,5802,21,5836,null,null,null,null,0,222]
[21,5944,21,5958,21,5973,null,null,null,null,0,222]
[21,6065,21,6070,21,6083,null,null,null,null,1,222]

{"sheet":"!M323A0I.sha","index":16,"n_rows":47,"n_cols":48,"rows_kept":47,"cut":false,"hidden":false,"merged":[[4,39,4,42],[5,39,5,40],[4,44,4,47],[5,44,5,45],[4,24,4,27],[5,24,5,25],[4,29,4,32],[5,29,5,30],[4,34,4,37],[5,34,5,35],[1,1,1,2],[5,13,5,14],[18,13,18,14],[19,13,19,14],[4,19,4,22],[5,19,5,20]]}
["Report for:!M323A0I.sha"]
["Date:","<date>"]
["Hen:","<hen>",null,null,null,"Correct Sequence",{"$f":"Start!J2","v":222},null,null,null,null,null,null,null,null,"Total Sequences in Data",{"$f":"4994-COUNTBLANK(L7:L5000)","v":41},null,null,null,null,"Total Sequences in Block Data",{"$f":"COUNTA(L7:L13)","v":7},null,null,null,"Total Sequences in Block Data",{"$f":"COUNTA(L14:L20)","v":7},null,null,null,"Total Sequences in Block Data",{"$f":"COUNTA(L21:L26)","v":6},null,null,null,"Total Sequences in Block Data",{"$f":"COUNTA(L27:L33)","v":7},null,null,null,"Total Sequences in Block Data",{"$f":"COUNTA(L34:L40)","v":7},null,null,null,"Total Sequences in Block Data",{"$f":"COUNTA(L41:L47)","v":7}]
[null,null,null,null,null,null,null,null,null,null,null,null,null,null,null,"Total Sequences in Summary",{"$f":"SUM(O7:O14)","v":41},null,null,null,null,"Total Sequences in Block Summary",{"$f":"SUM(U7:U14)","v":7},null,null,null,"Total Sequences in Block Summary",{"$f":"SUM(Z7:Z14)","v":7},null,null,null,"Total Sequences in Block Summary",{"$f":"SUM(AE7:AE14)","v":6},null,null,null,"Total Sequences in Block Summary",{"$f":"SUM(AJ7:AJ14)","v":7},null,null,null,"Total Sequences in Block Summary",{"$f":"SUM(AO7:AO14)","v":7},null,null,null,"Total Sequences in Block Summary",{"$f":"SUM(AT7:AT14)","v":7}]
[null,null,null,null,null,null,null,null,null,null,null,null,null,null,null,null,null,null,null,"Block 1",null,null,null,null,"Block 2",null,null,null,null,"Block 3",null,null,null,null,"Block 4",null,null,null,null,"Block 5",null,null,null,null,"Block 6"]
["Sequence\nComponent\n1","Time\n1","Sequence\nComponent\n2","Time\n2","Sequence\nComponent\n3","Time\n3","Sequence\nComponent\n4","Time\n4","Sequence\nComponent\n5","Time\n5","Correct?\n0=No 1=Yes","Sequence",null,"Frequency",null,"Relative Frequency","Variability",null,null,"Frequency",null,"Relative Frequency","Variability",null,"Frequency",null,"Relative Frequency","Variability",null,"Frequency",null,"Relative Frequency","Variability",null,"Frequency",null,"Relative Frequency","Variability",null,"Frequency",null,"Relative Frequency","Variability",null,"Frequency",null,"Relative Frequency","Variability"]
[12,54,23,67,23,72,null,null,null,null,0,122,null,111,{"$f":"COUNTIF($L$7:$L$500,N7)","v":0},{"$f":"O7/$Q$4","v":0},{"$f":"IF(P7=0,0,(P7*((LOG(P7))/LOG(2))))","v":0},null,null,{"$f":"N7","v":111},{"$f":"COUNTIF(L7:L13,T7)","v":0},{"$f":"U7/(W4-U14)","v":0},{"$f":"IF(V7=0,0,(V7*((LOG(V7))/LOG(2))))","v":0},null,{"$f":"N7","v":111},{"$f":"COUNTIF(L14:L20,Y7)","v":0},{"$f":"Z7/(AB4-Z14)","v":{"$error":"#DIV/0!"}},{"$f":"IF(AA7=0,0,(AA7*((LOG(AA7))/LOG(2))))","v":{"$error":"#DIV/0!"}},null,{"$f":"N7","v":111},{"$f":"COUNTIF(L21:L26,AD7)","v":0},{"$f":"AE7/(AG4-AE14)","v":{"$error":"#DIV/0!"}},{"$f":"IF(AF7=0,0,(AF7*((LOG(AF7))/LOG(2))))","v":{"$error":"#DIV/0!"}},null,{"$f":"N7","v":111},{"$f":"COUNTIF(L27:L33,AI7)","v":0},{"$f":"AJ7/(AL4-AJ14)","v":{"$error":"#DIV/0!"}},{"$f":"IF(AK7=0,0,(AK7*((LOG(AK7))/LOG(2))))","v":{"$error":"#DIV/0!"}},null,{"$f":"N7","v":111},{"$f":"COUNTIF(L34:L40,AN7)","v":0},{"$f":"AO7/(AQ4-AO14)","v":{"$error":"#DIV/0!"}},{"$f":"IF(AP7=0,0,(AP7*((LOG(AP7))/LOG(2))))","v":{"$error":"#DIV/0!"}},null,{"$f":"N7","v":111},{"$f":"COUNTIF(L41:L47,AS7)","v":0},{"$f":"AT7/(AV4-AT14)","v":{"$error":"#DIV/0!"}},{"$f":"IF(AU7=0,0,(AU7*((LOG(AU7))/LOG(2))))","v":{"$error":"#DIV/0!"}}]
[21,169,21,172,21,178,null,null,null,null,0,222,null,112,{"$f":"COUNTIF($L$7:$L$500,N8)","v":0},{"$f":"O8/$Q$4","v":0},{"$f":"IF(P8=0,0,(P8*((LOG(P8))/LOG(2))))","v":0},null,null,{"$f":"N8","v":112},{"$f":"COUNTIF(L7:L13,T8)","v":0},{"$f":"U8/(W4-U14)","v":0},{"$f":"IF(V8=0,0,(V8*((LOG(V8))/LOG(2))))","v":0},null,{"$f":"N8","v":112},{"$f":"COUNTIF(L14:L20,Y8)","v":0},{"$f":"Z8/(AB4-Z14)","v":{"$error":"#DIV/0!"}},{"$f":"IF(AA8=0,0,(AA8*((LOG(AA8))/LOG(2))))","v":{"$error":"#DIV/0!"}},null,{"$f":"N8","v":112},{"$f":"COUNTIF(L21:L26,AD8)","v":0},{"$f":"AE8/(AG4-AE14)","v":{"$error":"#DIV/0!"}},{"$f":"IF(AF8=0,0,(AF8*((LOG(AF8))/LOG(2))))","v":{"$error":"#DIV/0!"}},null,{"$f":"N8","v":112},{"$f":"COUNTIF(L27:L33,AI8)","v":0},{"$f":"AJ8/(AL4-AJ14)","v":{"$error":"#DIV/0!"}},{"$f":"IF(AK8=0,0,(AK8*((LOG(AK8))/LOG(2))))","v":{"$error":"#DIV/0!"}},null,{"$f":"N8","v":112},{"$f":"COUNTIF(L34:L40,AN8)","v":0},{"$f":"AO8/(AQ4-AO14)","v":{"$error":"#DIV/0!"}},{"$f":"IF(AP8=0,0,(AP8*((LOG(AP8))/LOG(2))))","v":{"$error":"#DIV/0!"}},null,{"$f":"N8","v":112},{"$f":"COUNTIF(L41:L47,AS8)","v":0},{"$f":"AT8/(AV4-AT14)","v":{"$error":"#DIV/0!"}},{"$f":"IF(AU8=0,0,(AU8*((LOG(AU8))/LOG(2))))","v":{"$error":"#DIV/0!"}}]
[21,272,21,276,21,300,null,null,null,null,0,222,null,121,{"$f":"COUNTIF($L$7:$L$500,N9)","v":0},{"$f":"O9/$Q$4","v":0},{"$f":"IF(P9=0,0,(P9*((LOG(P9))/LOG(2))))","v":0},null,null,{"$f":"N9","v":121},{"$f":"COUNTIF(L7:L13,T9)","v":0},{"$f":"U9/(W4-U14)","v":0},{"$f":"IF(V9=0,0,(V9*((LOG(V9))/LOG(2))))","v":0},null,{"$f":"N9","v":121},{"$f":"COUNTIF(L14:L20,Y9)","v":0},{"$f":"Z9/(AB4-Z14)","v":{"$error":"#DIV/0!"}},{"$f":"IF(AA9=0,0,(AA9*((LOG(AA9))/LOG(2))))","v":{"$error":"#DIV/0!"}},null,{"$f":"N9","v":121},{"$f":"COUNTIF(L21:L26,AD9)","v":0},{"$f":"AE9/(AG4-AE14)","v":{"$error":"#DIV/0!"}},{"$f":"IF(AF9=0,0,(AF9*((LOG(AF9))/LOG(2))))","v":{"$error":"#DIV/0!"}},null,{"$f":"N9","v":121},{"$f":"COUNTIF(L27:L33,AI9)","v":0},{"$f":"AJ9/(AL4-AJ14)","v":{"$error":"#DIV/0!"}},{"$f":"IF(AK9=0,0,(AK9*((LOG(AK9))/LOG(2))))","v":{"$error":"#DIV/0!"}},null,{"$f":"N9","v":121},{"$f":"COUNTIF(L34:L40,AN9)","v":0},{"$f":"AO9/(AQ4-AO14)","v":{"$error":"#DIV/0!"}},{"$f":"IF(AP9=0,0,(AP9*((LOG(AP9))/LOG(2))))","v":{"$error":"#DIV/0!"}},null,{"$f":"N9","v":121},{"$f":"COUNTIF(L41:L47,AS9)","v":0},{"$f":"AT9/(AV4-AT14)","v":{"$error":"#DIV/0!"}},{"$f":"IF(AU9=0,0,(AU9*((LOG(AU9))/LOG(2))))","v":{"$error":"#DIV/0!"}}]
[21,392,21,403,21,415,null,null,null,null,0,222,null,122,{"$f":"COUNTIF($L$7:$L$500,N10)","v":1},{"$f":"O10/$Q$4","v":2.4390243902439025E-2},{"$f":"IF(P10=0,0,(P10*((LOG(P10))/LOG(2))))","v":-0.13067200011263619},null,null,{"$f":"N10","v":122},{"$f":"COUNTIF(L7:L13,T10)","v":1},{"$f":"U10/(W4-U14)","v":1},{"$f":"IF(V10=0,0,(V10*((LOG(V10))/LOG(2))))","v":0},null,{"$f":"N10","v":122},{"$f":"COUNTIF(L14:L20,Y10)","v":0},{"$f":"Z10/(AB4-Z14)","v":{"$error":"#DIV/0!"}},{"$f":"IF(AA10=0,0,(AA10*((LOG(AA10))/LOG(2))))","v":{"$error":"#DIV/0!"}},null,{"$f":"N10","v":122},{"$f":"COUNTIF(L21:L26,AD10)","v":0},{"$f":"AE10/(AG4-AE14)","v":{"$error":"#DIV/0!"}},{"$f":"IF(AF10=0,0,(AF10*((LOG(AF10))/LOG(2))))","v":{"$error":"#DIV/0!"}},null,{"$f":"N10","v":122},{"$f":"COUNTIF(L27:L33,AI10)","v":0},{"$f":"AJ10/(AL4-AJ14)","v":{"$error":"#DIV/0!"}},{"$f":"IF(AK10=0,0,(AK10*((LOG(AK10))/LOG(2))))","v":{"$error":"#DIV/0!"}},null,{"$f":"N10","v":122},{"$f":"COUNTIF(L34:L40,AN10)","v":0},{"$f":"AO10/(AQ4-AO14)","v":{"$error":"#DIV/0!"}},{"$f":"IF(AP10=0,0,(AP10*((LOG(AP10))/LOG(2))))","v":{"$error":"#DIV/0!"}},null,{"$f":"N10","v":122},{"$f":"COUNTIF(L41:L47,AS10)","v":0},{"$f":"AT10/(AV4-AT14)","v":{"$error":"#DIV/0!"}},{"$f":"IF(AU10=0,0,(AU10*((LOG(AU10))/LOG(2))))","v":{"$error":"#DIV/0!"}}]
[21,508,21,519,21,529,null,null,null,null,0,222,null,211,{"$f":"COUNTIF($L$7:$L$500,N11)","v":0},{"$f":"O11/$Q$4","v":0},{"$f":"IF(P11=0,0,(P11*((LOG(P11))/LOG(2))))","v":0},null,null,{"$f":"N11","v":211},{"$f":"COUNTIF(L7:L13,T11)","v":0},{"$f":"U11/(W4-U14)","v":0},{"$f":"IF(V11=0,0,(V11*((LOG(V11))/LOG(2))))","v":0},null,{"$f":"N11","v":211},{"$f":"COUNTIF(L14:L20,Y11)","v":0},{"$f":"Z11/(AB4-Z14)","v":{"$error":"#DIV/0!"}},{"$f":"IF(AA11=0,0,(AA11*((LOG(AA11))/LOG(2))))","v":{"$error":"#DIV/0!"}},null,{"$f":"N11","v":211},{"$f":"COUNTIF(L21:L26,AD11)","v":0},{"$f":"AE11/(AG4-AE14)","v":{"$error":"#DIV/0!"}},{"$f":"IF(AF11=0,0,(AF11*((LOG(AF11))/LOG(2))))","v":{"$error":"#DIV/0!"}},null,{"$f":"N11","v":211},{"$f":"COUNTIF(L27:L33,AI11)","v":0},{"$f":"AJ11/(AL4-AJ14)","v":{"$error":"#DIV/0!"}},{"$f":"IF(AK11=0,0,(AK11*((LOG(AK11))/LOG(2))))","v":{"$error":"#DIV/0!"}},null,{"$f":"N11","v":211},{"$f":"COUNTIF(L34:L40,AN11)","v":0},{"$f":"AO11/(AQ4-AO14)","v":{"$error":"#DIV/0!"}},{"$f":"IF(AP11=0,0,(AP11*((LOG(AP11))/LOG(2))))","v":{"$error":"#DIV/0!"}},null,{"$f":"N11","v":211},{"$f":"COUNTIF(L41:L47,AS11)","v":0},{"$f":"AT11/(AV4-AT14)","v":{"$error":"#DIV/0!"}},{"$f":"IF(AU11=0,0,(AU11*((LOG(AU11))/LOG(2))))","v":{"$error":"#DIV/0!"}}]
[21,621,21,627,21,638,null,null,null,null,0,222,null,212,{"$f":"COUNTIF($L$7:$L$500,N12)","v":0},{"$f":"O12/$Q$4","v":0},{"$f":"IF(P12=0,0,(P12*((LOG(P12))/LOG(2))))","v":0},null,null,{"$f":"N12","v":212},{"$f":"COUNTIF(L7:L13,T12)","v":0},{"$f":"U12/(W4-U14)","v":0},{"$f":"IF(V12=0,0,(V12*((LOG(V12))/LOG(2))))","v":0},null,{"$f":"N12","v":212},{"$f":"COUNTIF(L14:L20,Y12)","v":0},{"$f":"Z12/(AB4-Z14)","v":{"$error":"#DIV/0!"}},{"$f":"IF(AA12=0,0,(AA12*((LOG(AA12))/LOG(2))))","v":{"$error":"#DIV/0!"}},null,{"$f":"N12","v":212},{"$f":"COUNTIF(L21:L26,AD12)","v":0},{"$f":"AE12/(AG4-AE14)","v":{"$error":"#DIV/0!"}},{"$f":"IF(AF12=0,0,(AF12*((LOG(AF12))/LOG(2))))","v":{"$error":"#DIV/0!"}},null,{"$f":"N12","v":212},{"$f":"COUNTIF(L27:L33,AI12)","v":0},{"$f":"AJ12/(AL4-AJ14)","v":{"$error":"#DIV/0!"}},{"$f":"IF(AK12=0,0,(AK12*((LOG(AK12))/LOG(2))))","v":{"$error":"#DIV/0!"}},null,{"$f":"N12","v":212},{"$f":"COUNTIF(L34:L40,AN12)","v":0},{"$f":"AO12/(AQ4-AO14)","v":{"$error":"#DIV/0!"}},{"$f":"IF(AP12=0,0,(AP12*((LOG(AP12))/LOG(2))))","v":{"$error":"#DIV/0!"}},null,{"$f":"N12","v":212},{"$f":"COUNTIF(L41:L47,AS12)","v":0},{"$f":"AT12/(AV4-AT14)","v":{"$error":"#DIV/0!"}},{"$f":"IF(AU12=0,0,(AU12*((LOG(AU12))/LOG(2))))","v":{"$error":"#DIV/0!"}}]
[21,729,21,804,21,832,null,null,null,null,0,222,null,221,{"$f":"COUNTIF($L$7:$L$500,N13)","v":0},{"$f":"O13/$Q$4","v":0},{"$f":"IF(P13=0,0,(P13*((LOG(P13))/LOG(2))))","v":0},null,null,{"$f":"N13","v":221},{"$f":"COUNTIF(L7:L13,T13)","v":0},{"$f":"U13/(W4-U14)","v":0},{"$f":"IF(V13=0,0,(V13*((LOG(V13))/LOG(2))))","v":0},null,{"$f":"N13","v":221},{"$f":"COUNTIF(L14:L20,Y13)","v":0},{"$f":"Z13/(AB4-Z14)","v":{"$error":"#DIV/0!"}},{"$f":"IF(AA13=0,0,(AA13*((LOG(AA13))/LOG(2))))","v":{"$error":"#DIV/0!"}},null,{"$f":"N13","v":221},{"$f":"COUNTIF(L21:L26,AD13)","v":0},{"$f":"AE13/(AG4-AE14)","v":{"$error":"#DIV/0!"}},{"$f":"IF(AF13=0,0,(AF13*((LOG(AF13))/LOG(2))))","v":{"$error":"#DIV/0!"}},null,{"$f":"N13","v":221},{"$f":"COUNTIF(L27:L33,AI13)","v":0},{"$f":"AJ13/(AL4-AJ14)","v":{"$error":"#DIV/0!"}},{"$f":"IF(AK13=0,0,(AK13*((LOG(AK13))/LOG(2))))","v":{"$error":"#DIV/0!"}},null,{"$f":"N13","v":221},{"$f":"COUNTIF(L34:L40,AN13)","v":0},{"$f":"AO13/(AQ4-AO14)","v":{"$error":"#DIV/0!"}},{"$f":"IF(AP13=0,0,(AP13*((LOG(AP13))/LOG(2))))","v":{"$error":"#DIV/0!"}},null,{"$f":"N13","v":221},{"$f":"COUNTIF(L41:L47,AS13)","v":0},{"$f":"AT13/(AV4-AT14)","v":{"$error":"#DIV/0!"}},{"$f":"IF(AU13=0,0,(AU13*((LOG(AU13))/LOG(2))))","v":{"$error":"#DIV/0!"}}]
[21,924,21,932,21,948,null,null,null,null,0,222,null,222,{"$f":"COUNTIF($L$7:$L$500,N14)","v":40},{"$f":"O14/$Q$4","v":0.97560975609756095},{"$f":"IF(P14=0,0,(P14*((LOG(P14))/LOG(2))))","v":-3.4755033883630611E-2},null,null,{"$f":"N14","v":222},{"$f":"COUNTIF(L7:L13,T14)","v":6},null,null,null,{"$f":"N14","v":222},{"$f":"COUNTIF(L14:L20,Y14)","v":7},null,null,null,{"$f":"N14","v":222},{"$f":"COUNTIF(L21:L26,AD14)","v":6},null,null,null,{"$f":"N14","v":222},{"$f":"COUNTIF(L27:L33,AI14)","v":7},null,null,null,{"$f":"N14","v":222},{"$f":"COUNTIF(L34:L40,AN14)","v":7},null,null,null,{"$f":"N14","v":222},{"$f":"COUNTIF(L41:L47,AS14)","v":7}]
[21,1042,21,1052,21,1059,null,null,null,null,0,222,null,null,null,{"$f":"SUM(P7:P14)","v":1},{"$f":"-SUM(Q7:Q14)","v":0.16542703399626679},null,null,null,null,{"$f":"SUM(V7:V14)","v":1},{"$f":"-SUM(W7:W14)","v":0},null,null,null,{"$f":"SUM(AA7:AA14)","v":{"$error":"#DIV/0!"}},{"$f":"-SUM(AB7:AB14)","v":{"$error":"#DIV/0!"}},null,null,null,{"$f":"SUM(AF7:AF14)","v":{"$error":"#DIV/0!"}},{"$f":"-SUM(AG7:AG14)","v":{"$error":"#DIV/0!"}},null,null,null,{"$f":"SUM(AK7:AK14)","v":{"$error":"#DIV/0!"}},{"$f":"-SUM(AL7:AL14)","v":{"$error":"#DIV/0!"}},null,null,null,{"$f":"SUM(AP7:AP14)","v":{"$error":"#DIV/0!"}},{"$f":"-SUM(AQ7:AQ14)","v":{"$error":"#DIV/0!"}},null,null,null,{"$f":"SUM(AU7:AU14)","v":{"$error":"#DIV/0!"}},{"$f":"-SUM(AV7:AV14)","v":{"$error":"#DIV/0!"}}]
[21,1154,21,1164,21,1173,null,null,null,null,0,222,null,null,null,"U=",{"$f":"Q15/(LOG(Q4)/LOG(2))","v":3.0877354779509855E-2},null,null,null,null,"U1=",{"$f":"W15/(LOG(W4)/LOG(2))","v":0},null,null,null,"U2=",{"$f":"AB15/(LOG(AB4)/LOG(2))","v":{"$error":"#DIV/0!"}},null,null,null,"U3=",{"$f":"AG15/(LOG(AG4)/LOG(2))","v":{"$error":"#DIV/0!"}},null,null,null,"U4=",{"$f":"AL15/(LOG(AL4)/LOG(2))","v":{"$error":"#DIV/0!"}},null,null,null,"U5=",{"$f":"AQ15/(LOG(AQ4)/LOG(2))","v":{"$error":"#DIV/0!"}},null,null,null,"U6=",{"$f":"AV15/(LOG(AV4)/LOG(2))","v":{"$error":"#DIV/0!"}}]
[21,1274,21,1310,21,1352,null,null,null,null,0,222]
[21,1444,21,1447,21,1473,null,null,null,null,0,222]
[21,1568,21,1579,21,1588,null,null,null,null,0,222,null,"Total Target Seq"]
[21,1683,21,1688,21,1695,null,null,null,null,0,222,null,{"$f":"COUNTIF(L7:L47,G3)","v":40},null,7,7,6,7,7,7]
[21,1795,21,1814,21,1824,null,null,null,null,0,222,null,null,null,"% of reinforcement given in 6 equal intervals based on number of trials "]
[21,1980,21,2005,21,2017,null,null,null,null,0,222,null,null,null,"%_1","%_2","%_3","%_4","%_5","%_6"]
[21,2113,21,2120,21,2132,null,null,null,null,0,222,null,null,"target sequence",{"$f":"$G$3","v":222},{"$f":"$G$3","v":222},{"$f":"$G$3","v":222},{"$f":"$G$3","v":222},{"$f":"$G$3","v":222},{"$f":"$G$3","v":222}]
[21,2224,21,2227,21,2234,null,null,null,null,0,222,null,null,"total reinforcement",{"$f":"U14","v":6},{"$f":"Z14","v":7},{"$f":"AE14","v":6},{"$f":"AJ14","v":7},{"$f":"AO14","v":7},{"$f":"AT14","v":7}]
[21,2349,21,2356,21,2363,null,null,null,null,0,222,null,null,"% target"]
[21,2456,21,2487,21,2518,null,null,null,null,0,222,null,null,"CCRF"]
[21,2611,21,2633,21,2644,null,null,null,null,0,222,null,null,"% CCRf"]
[21,2772,21,2779,21,2789,null,null,null,null,0,222,null,null,"average response rate",{"$f":"F13/P20","v":118.85714285714286},{"$f":"(F20-F13)/Q20","v":123.28571428571429},{"$f":"(F26-F20)/R20","v":137.16666666666666},{"$f":"(F33-F26)/S20","v":133.85714285714286},{"$f":"(F40-F33)/T20","v":148.57142857142858},{"$f":"(F47-F40)/U20","v":146.42857142857142}]
[21,2895,21,2900,21,2924,null,null,null,null,0,222]
[21,3015,21,3022,21,3036,null,null,null,null,0,222]
[21,3139,21,3154,21,3170,null,null,null,null,0,222]
[21,3274,21,3286,21,3309,null,null,null,null,0,222]
[21,3408,21,3415,21,3455,null,null,null,null,0,222]
[21,3587,21,3601,21,3608,null,null,null,null,0,222]
[21,3734,21,3740,21,3802,null,null,null,null,0,222]
[21,3895,21,3910,21,3920,null,null,null,null,0,222]
[21,4023,21,4048,21,4067,null,null,null,null,0,222]
[21,4167,21,4173,21,4181,null,null,null,null,0,222]
[21,4319,21,4349,21,4364,null,null,null,null,0,222]
[21,4458,21,4465,21,4495,null,null,null,null,0,222]
[21,4704,21,4717,21,4731,null,null,null,null,0,222]
[21,4822,21,4827,21,4832,null,null,null,null,0,222]
[21,4933,21,5018,21,5028,null,null,null,null,0,222]
[21,5131,21,5156,21,5166,null,null,null,null,0,222]
[21,5257,21,5259,21,5268,null,null,null,null,0,222]
[21,5364,21,5371,21,5388,null,null,null,null,0,222]
[21,5490,21,5504,21,5520,null,null,null,null,1,222]

{"sheet":"!M324B5I.sha","index":17,"n_rows":48,"n_cols":48,"rows_kept":48,"cut":false,"hidden":false,"merged":[[4,39,4,42],[5,39,5,40],[4,44,4,47],[5,44,5,45],[4,24,4,27],[5,24,5,25],[4,29,4,32],[5,29,5,30],[4,34,4,37],[5,34,5,35],[1,1,1,2],[5,13,5,14],[18,13,18,14],[19,13,19,14],[4,19,4,22],[5,19,5,20]]}
["Report for:!M324B5I.sha"]
["Date:","<date>"]
["Hen:","<hen>",null,null,null,"Correct Sequence",{"$f":"Start!J2","v":222},null,null,null,null,null,null,null,null,"Total Sequences in Data",{"$f":"4994-COUNTBLANK(L7:L5000)","v":42},null,null,null,null,"Total Sequences in Block Data",{"$f":"COUNTA(L7:L13)","v":7},null,null,null,"Total Sequences in Block Data",{"$f":"COUNTA(L14:L20)","v":7},null,null,null,"Total Sequences in Block Data",{"$f":"COUNTA(L21:L27)","v":7},null,null,null,"Total Sequences in Block Data",{"$f":"COUNTA(L28:L34)","v":7},null,null,null,"Total Sequences in Block Data",{"$f":"COUNTA(L35:L41)","v":7},null,null,null,"Total Sequences in Block Data",{"$f":"COUNTA(L42:L48)","v":7}]
[null,null,null,null,null,null,null,null,null,null,null,null,null,null,null,"Total Sequences in Summary",{"$f":"SUM(O7:O14)","v":42},null,null,null,null,"Total Sequences in Block Summary",{"$f":"SUM(U7:U14)","v":7},null,null,null,"Total Sequences in Block Summary",{"$f":"SUM(Z7:Z14)","v":7},null,null,null,"Total Sequences in Block Summary",{"$f":"SUM(AE7:AE14)","v":7},null,null,null,"Total Sequences in Block Summary",{"$f":"SUM(AJ7:AJ14)","v":7},null,null,null,"Total Sequences in Block Summary",{"$f":"SUM(AO7:AO14)","v":7},null,null,null,"Total Sequences in Block Summary",{"$f":"SUM(AT7:AT14)","v":7}]
[null,null,null,null,null,null,null,null,null,null,null,null,null,null,null,null,null,null,null,"Block 1",null,null,null,null,"Block 2",null,null,null,null,"Block 3",null,null,null,null,"Block 4",null,null,null,null,"Block 5",null,null,null,null,"Block 6"]
["Sequence\nComponent\n1","Time\n1","Sequence\nComponent\n2","Time\n2","Sequence\nComponent\n3","Time\n3","Sequence\nComponent\n4","Time\n4","Sequence\nComponent\n5","Time\n5","Correct?\n0=No 1=Yes","Sequence",null,"Frequency",null,"Relative Frequency","Variability",null,null,"Frequency",null,"Relative Frequency","Variability",null,"Frequency",null,"Relative Frequency","Variability",null,"Frequency",null,"Relative Frequency","Variability",null,"Frequency",null,"Relative Frequency","Variability",null,"Frequency",null,"Relative Frequency","Variability",null,"Frequency",null,"Relative Frequency","Variability"]
[12,76,14,101,23,117,null,null,null,null,0,112,null,111,{"$f":"COUNTIF($L$7:$L$500,N7)","v":0},{"$f":"O7/$Q$4","v":0},{"$f":"IF(P7=0,0,(P7*((LOG(P7))/LOG(2))))","v":0},null,null,{"$f":"N7","v":111},{"$f":"COUNTIF(L7:L13,T7)","v":0},{"$f":"U7/(W4-U14)","v":0},{"$f":"IF(V7=0,0,(V7*((LOG(V7))/LOG(2))))","v":0},null,{"$f":"N7","v":111},{"$f":"COUNTIF(L14:L20,Y7)","v":0},{"$f":"Z7/(AB4-Z14)","v":0},{"$f":"IF(AA7=0,0,(AA7*((LOG(AA7))/LOG(2))))","v":0},null,{"$f":"N7","v":111},{"$f":"COUNTIF(L21:L27,AD7)","v":0},{"$f":"AE7/(AG4-AE14)","v":{"$error":"#DIV/0!"}},{"$f":"IF(AF7=0,0,(AF7*((LOG(AF7))/LOG(2))))","v":{"$error":"#DIV/0!"}},null,{"$f":"N7","v":111},{"$f":"COUNTIF(L28:L34,AI7)","v":0},{"$f":"AJ7/(AL4-AJ14)","v":{"$error":"#DIV/0!"}},{"$f":"IF(AK7=0,0,(AK7*((LOG(AK7))/LOG(2))))","v":{"$error":"#DIV/0!"}},null,{"$f":"N7","v":111},{"$f":"COUNTIF(L35:L41,AN7)","v":0},{"$f":"AO7/(AQ4-AO14)","v":{"$error":"#DIV/0!"}},{"$f":"IF(AP7=0,0,(AP7*((LOG(AP7))/LOG(2))))","v":{"$error":"#DIV/0!"}},null,{"$f":"N7","v":111},{"$f":"COUNTIF(L42:L48,AS7)","v":0},{"$f":"AT7/(AV4-AT14)","v":{"$error":"#DIV/0!"}},{"$f":"IF(AU7=0,0,(AU7*((LOG(AU7))/LOG(2))))","v":{"$error":"#DIV/0!"}}]
[21,215,21,258,21,270,null,null,null,null,0,222,null,112,{"$f":"COUNTIF($L$7:$L$500,N8)","v":1},{"$f":"O8/$Q$4","v":2.3809523809523808E-2},{"$f":"IF(P8=0,0,(P8*((LOG(P8))/LOG(2))))","v":-0.12838851006616095},null,null,{"$f":"N8","v":112},{"$f":"COUNTIF(L7:L13,T8)","v":1},{"$f":"U8/(W4-U14)","v":1},{"$f":"IF(V8=0,0,(V8*((LOG(V8))/LOG(2))))","v":0},null,{"$f":"N8","v":112},{"$f":"COUNTIF(L14:L20,Y8)","v":0},{"$f":"Z8/(AB4-Z14)","v":0},{"$f":"IF(AA8=0,0,(AA8*((LOG(AA8))/LOG(2))))","v":0},null,{"$f":"N8","v":112},{"$f":"COUNTIF(L21:L27,AD8)","v":0},{"$f":"AE8/(AG4-AE14)","v":{"$error":"#DIV/0!"}},{"$f":"IF(AF8=0,0,(AF8*((LOG(AF8))/LOG(2))))","v":{"$error":"#DIV/0!"}},null,{"$f":"N8","v":112},{"$f":"COUNTIF(L28:L34,AI8)","v":0},{"$f":"AJ8/(AL4-AJ14)","v":{"$error":"#DIV/0!"}},{"$f":"IF(AK8=0,0,(AK8*((LOG(AK8))/LOG(2))))","v":{"$error":"#DIV/0!"}},null,{"$f":"N8","v":112},{"$f":"COUNTIF(L35:L41,AN8)","v":0},{"$f":"AO8/(AQ4-AO14)","v":{"$error":"#DIV/0!"}},{"$f":"IF(AP8=0,0,(AP8*((LOG(AP8))/LOG(2))))","v":{"$error":"#DIV/0!"}},null,{"$f":"N8","v":112},{"$f":"COUNTIF(L42:L48,AS8)","v":0},{"$f":"AT8/(AV4-AT14)","v":{"$error":"#DIV/0!"}},{"$f":"IF(AU8=0,0,(AU8*((LOG(AU8))/LOG(2))))","v":{"$error":"#DIV/0!"}}]
[21,362,21,367,21,411,null,null,null,null,0,222,null,121,{"$f":"COUNTIF($L$7:$L$500,N9)","v":0},{"$f":"O9/$Q$4","v":0},{"$f":"IF(P9=0,0,(P9*((LOG(P9))/LOG(2))))","v":0},null,null,{"$f":"N9","v":121},{"$f":"COUNTIF(L7:L13,T9)","v":0},{"$f":"U9/(W4-U14)","v":0},{"$f":"IF(V9=0,0,(V9*((LOG(V9))/LOG(2))))","v":0},null,{"$f":"N9","v":121},{"$f":"COUNTIF(L14:L20,Y9)","v":0},{"$f":"Z9/(AB4-Z14)","v":0},{"$f":"IF(AA9=0,0,(AA9*((LOG(AA9))/LOG(2))))","v":0},null,{"$f":"N9","v":121},{"$f":"COUNTIF(L21:L27,AD9)","v":0},{"$f":"AE9/(AG4-AE14)","v":{"$error":"#DIV/0!"}},{"$f":"IF(AF9=0,0,(AF9*((LOG(AF9))/LOG(2))))","v":{"$error":"#DIV/0!"}},null,{"$f":"N9","v":121},{"$f":"COUNTIF(L28:L34,AI9)","v":0},{"$f":"AJ9/(AL4-AJ14)","v":{"$error":"#DIV/0!"}},{"$f":"IF(AK9=0,0,(AK9*((LOG(AK9))/LOG(2))))","v":{"$error":"#DIV/0!"}},null,{"$f":"N9","v":121},{"$f":"COUNTIF(L35:L41,AN9)","v":0},{"$f":"AO9/(AQ4-AO14)","v":{"$error":"#DIV/0!"}},{"$f":"IF(AP9=0,0,(AP9*((LOG(AP9))/LOG(2))))","v":{"$error":"#DIV/0!"}},null,{"$f":"N9","v":121},{"$f":"COUNTIF(L42:L48,AS9)","v":0},{"$f":"AT9/(AV4-AT14)","v":{"$error":"#DIV/0!"}},{"$f":"IF(AU9=0,0,(AU9*((LOG(AU9))/LOG(2))))","v":{"$error":"#DIV/0!"}}]
[21,507,21,512,21,582,null,null,null,null,0,222,null,122,{"$f":"COUNTIF($L$7:$L$500,N10)","v":0},{"$f":"O10/$Q$4","v":0},{"$f":"IF(P10=0,0,(P10*((LOG(P10))/LOG(2))))","v":0},null,null,{"$f":"N10","v":122},{"$f":"COUNTIF(L7:L13,T10)","v":0},{"$f":"U10/(W4-U14)","v":0},{"$f":"IF(V10=0,0,(V10*((LOG(V10))/LOG(2))))","v":0},null,{"$f":"N10","v":122},{"$f":"COUNTIF(L14:L20,Y10)","v":0},{"$f":"Z10/(AB4-Z14)","v":0},{"$f":"IF(AA10=0,0,(AA10*((LOG(AA10))/LOG(2))))","v":0},null,{"$f":"N10","v":122},{"$f":"COUNTIF(L21:L27,AD10)","v":0},{"$f":"AE10/(AG4-AE14)","v":{"$error":"#DIV/0!"}},{"$f":"IF(AF10=0,0,(AF10*((LOG(AF10))/LOG(2))))","v":{"$error":"#DIV/0!"}},null,{"$f":"N10","v":122},{"$f":"COUNTIF(L28:L34,AI10)","v":0},{"$f":"AJ10/(AL4-AJ14)","v":{"$error":"#DIV/0!"}},{"$f":"IF(AK10=0,0,(AK10*((LOG(AK10))/LOG(2))))","v":{"$error":"#DIV/0!"}},null,{"$f":"N10","v":122},{"$f":"COUNTIF(L35:L41,AN10)","v":0},{"$f":"AO10/(AQ4-AO14)","v":{"$error":"#DIV/0!"}},{"$f":"IF(AP10=0,0,(AP10*((LOG(AP10))/LOG(2))))","v":{"$error":"#DIV/0!"}},null,{"$f":"N10","v":122},{"$f":"COUNTIF(L42:L48,AS10)","v":0},{"$f":"AT10/(AV4-AT14)","v":{"$error":"#DIV/0!"}},{"$f":"IF(AU10=0,0,(AU10*((LOG(AU10))/LOG(2))))","v":{"$error":"#DIV/0!"}}]
[21,674,21,680,21,687,null,null,null,null,0,222,null,211,{"$f":"COUNTIF($L$7:$L$500,N11)","v":0},{"$f":"O11/$Q$4","v":0},{"$f":"IF(P11=0,0,(P11*((LOG(P11))/LOG(2))))","v":0},null,null,{"$f":"N11","v":211},{"$f":"COUNTIF(L7:L13,T11)","v":0},{"$f":"U11/(W4-U14)","v":0},{"$f":"IF(V11=0,0,(V11*((LOG(V11))/LOG(2))))","v":0},null,{"$f":"N11","v":211},{"$f":"COUNTIF(L14:L20,Y11)","v":0},{"$f":"Z11/(AB4-Z14)","v":0},{"$f":"IF(AA11=0,0,(AA11*((LOG(AA11))/LOG(2))))","v":0},null,{"$f":"N11","v":211},{"$f":"COUNTIF(L21:L27,AD11)","v":0},{"$f":"AE11/(AG4-AE14)","v":{"$error":"#DIV/0!"}},{"$f":"IF(AF11=0,0,(AF11*((LOG(AF11))/LOG(2))))","v":{"$error":"#DIV/0!"}},null,{"$f":"N11","v":211},{"$f":"COUNTIF(L28:L34,AI11)","v":0},{"$f":"AJ11/(AL4-AJ14)","v":{"$error":"#DIV/0!"}},{"$f":"IF(AK11=0,0,(AK11*((LOG(AK11))/LOG(2))))","v":{"$error":"#DIV/0!"}},null,{"$f":"N11","v":211},{"$f":"COUNTIF(L35:L41,AN11)","v":0},{"$f":"AO11/(AQ4-AO14)","v":{"$error":"#DIV/0!"}},{"$f":"IF(AP11=0,0,(AP11*((LOG(AP11))/LOG(2))))","v":{"$error":"#DIV/0!"}},null,{"$f":"N11","v":211},{"$f":"COUNTIF(L42:L48,AS11)","v":0},{"$f":"AT11/(AV4-AT14)","v":{"$error":"#DIV/0!"}},{"$f":"IF(AU11=0,0,(AU11*((LOG(AU11))/LOG(2))))","v":{"$error":"#DIV/0!"}}]
[21,778,21,785,21,809,null,null,null,null,0,222,null,212,{"$f":"COUNTIF($L$7:$L$500,N12)","v":1},{"$f":"O12/$Q$4","v":2.3809523809523808E-2},{"$f":"IF(P12=0,0,(P12*((LOG(P12))/LOG(2))))","v":-0.12838851006616095},null,null,{"$f":"N12","v":212},{"$f":"COUNTIF(L7:L13,T12)","v":0},{"$f":"U12/(W4-U14)","v":0},{"$f":"IF(V12=0,0,(V12*((LOG(V12))/LOG(2))))","v":0},null,{"$f":"N12","v":212},{"$f":"COUNTIF(L14:L20,Y12)","v":1},{"$f":"Z12/(AB4-Z14)","v":1},{"$f":"IF(AA12=0,0,(AA12*((LOG(AA12))/LOG(2))))","v":0},null,{"$f":"N12","v":212},{"$f":"COUNTIF(L21:L27,AD12)","v":0},{"$f":"AE12/(AG4-AE14)","v":{"$error":"#DIV/0!"}},{"$f":"IF(AF12=0,0,(AF12*((LOG(AF12))/LOG(2))))","v":{"$error":"#DIV/0!"}},null,{"$f":"N12","v":212},{"$f":"COUNTIF(L28:L34,AI12)","v":0},{"$f":"AJ12/(AL4-AJ14)","v":{"$error":"#DIV/0!"}},{"$f":"IF(AK12=0,0,(AK12*((LOG(AK12))/LOG(2))))","v":{"$error":"#DIV/0!"}},null,{"$f":"N12","v":212},{"$f":"COUNTIF(L35:L41,AN12)","v":0},{"$f":"AO12/(AQ4-AO14)","v":{"$error":"#DIV/0!"}},{"$f":"IF(AP12=0,0,(AP12*((LOG(AP12))/LOG(2))))","v":{"$error":"#DIV/0!"}},null,{"$f":"N12","v":212},{"$f":"COUNTIF(L42:L48,AS12)","v":0},{"$f":"AT12/(AV4-AT14)","v":{"$error":"#DIV/0!"}},{"$f":"IF(AU12=0,0,(AU12*((LOG(AU12))/LOG(2))))","v":{"$error":"#DIV/0!"}}]
[21,933,21,951,21,1027,null,null,null,null,0,222,null,221,{"$f":"COUNTIF($L$7:$L$500,N13)","v":0},{"$f":"O13/$Q$4","v":0},{"$f":"IF(P13=0,0,(P13*((LOG(P13))/LOG(2))))","v":0},null,null,{"$f":"N13","v":221},{"$f":"COUNTIF(L7:L13,T13)","v":0},{"$f":"U13/(W4-U14)","v":0},{"$f":"IF(V13=0,0,(V13*((LOG(V13))/LOG(2))))","v":0},null,{"$f":"N13","v":221},{"$f":"COUNTIF(L14:L20,Y13)","v":0},{"$f":"Z13/(AB4-Z14)","v":0},{"$f":"IF(AA13=0,0,(AA13*((LOG(AA13))/LOG(2))))","v":0},null,{"$f":"N13","v":221},{"$f":"COUNTIF(L21:L27,AD13)","v":0},{"$f":"AE13/(AG4-AE14)","v":{"$error":"#DIV/0!"}},{"$f":"IF(AF13=0,0,(AF13*((LOG(AF13))/LOG(2))))","v":{"$error":"#DIV/0!"}},null,{"$f":"N13","v":221},{"$f":"COUNTIF(L28:L34,AI13)","v":0},{"$f":"AJ13/(AL4-AJ14)","v":{"$error":"#DIV/0!"}},{"$f":"IF(AK13=0,0,(AK13*((LOG(AK13))/LOG(2))))","v":{"$error":"#DIV/0!"}},null,{"$f":"N13","v":221},{"$f":"COUNTIF(L35:L41,AN13)","v":0},{"$f":"AO13/(AQ4-AO14)","v":{"$error":"#DIV/0!"}},{"$f":"IF(AP13=0,0,(AP13*((LOG(AP13))/LOG(2))))","v":{"$error":"#DIV/0!"}},null,{"$f":"N13","v":221},{"$f":"COUNTIF(L42:L48,AS13)","v":0},{"$f":"AT13/(AV4-AT14)","v":{"$error":"#DIV/0!"}},{"$f":"IF(AU13=0,0,(AU13*((LOG(AU13))/LOG(2))))","v":{"$error":"#DIV/0!"}}]
[21,1161,21,1178,21,1198,null,null,null,null,0,222,null,222,{"$f":"COUNTIF($L$7:$L$500,N14)","v":40},{"$f":"O14/$Q$4","v":0.95238095238095233},{"$f":"IF(P14=0,0,(P14*((LOG(P14))/LOG(2))))","v":-6.7037455134664775E-2},null,null,{"$f":"N14","v":222},{"$f":"COUNTIF(L7:L13,T14)","v":6},null,null,null,{"$f":"N14","v":222},{"$f":"COUNTIF(L14:L20,Y14)","v":6},null,null,null,{"$f":"N14","v":222},{"$f":"COUNTIF(L21:L27,AD14)","v":7},null,null,null,{"$f":"N14","v":222},{"$f":"COUNTIF(L28:L34,AI14)","v":7},null,null,null,{"$f":"N14","v":222},{"$f":"COUNTIF(L35:L41,AN14)","v":7},null,null,null,{"$f":"N14","v":222},{"$f":"COUNTIF(L42:L48,AS14)","v":7}]
[21,1393,21,1407,21,1455,null,null,null,null,0,222,null,null,null,{"$f":"SUM(P7:P14)","v":1},{"$f":"-SUM(Q7:Q14)","v":0.3238144752669867},null,null,null,null,{"$f":"SUM(V7:V14)","v":1},{"$f":"-SUM(W7:W14)","v":0},null,null,null,{"$f":"SUM(AA7:AA14)","v":1},{"$f":"-SUM(AB7:AB14)","v":0},null,null,null,{"$f":"SUM(AF7:AF14)","v":{"$error":"#DIV/0!"}},{"$f":"-SUM(AG7:AG14)","v":{"$error":"#DIV/0!"}},null,null,null,{"$f":"SUM(AK7:AK14)","v":{"$error":"#DIV/0!"}},{"$f":"-SUM(AL7:AL14)","v":{"$error":"#DIV/0!"}},null,null,null,{"$f":"SUM(AP7:AP14)","v":{"$error":"#DIV/0!"}},{"$f":"-SUM(AQ7:AQ14)","v":{"$error":"#DIV/0!"}},null,null,null,{"$f":"SUM(AU7:AU14)","v":{"$error":"#DIV/0!"}},{"$f":"-SUM(AV7:AV14)","v":{"$error":"#DIV/0!"}}]
[21,1560,21,1576,21,1612,null,null,null,null,0,222,null,null,null,"U=",{"$f":"Q15/(LOG(Q4)/LOG(2))","v":6.0051078206022804E-2},null,null,null,null,"U1=",{"$f":"W15/(LOG(W4)/LOG(2))","v":0},null,null,null,"U2=",{"$f":"AB15/(LOG(AB4)/LOG(2))","v":0},null,null,null,"U3=",{"$f":"AG15/(LOG(AG4)/LOG(2))","v":{"$error":"#DIV/0!"}},null,null,null,"U4=",{"$f":"AL15/(LOG(AL4)/LOG(2))","v":{"$error":"#DIV/0!"}},null,null,null,"U5=",{"$f":"AQ15/(LOG(AQ4)/LOG(2))","v":{"$error":"#DIV/0!"}},null,null,null,"U6=",{"$f":"AV15/(LOG(AV4)/LOG(2))","v":{"$error":"#DIV/0!"}}]
[21,1726,21,1733,21,1767,null,null,null,null,0,222]
[21,5404,12,5414,23,5422,null,null,null,null,0,212]
[21,5521,21,5525,21,5566,null,null,null,null,0,222,null,"Total Target Seq"]
[21,5687,21,5693,21,5700,null,null,null,null,0,222,null,{"$f":"COUNTIF(L7:L48,G3)","v":40},null,7,7,7,7,7,7]
[21,5825,21,5853,21,5868,null,null,null,null,0,222,null,null,null,"% of reinforcement given in 6 equal intervals based on number of trials "]
[21,6014,21,6040,21,6106,null,null,null,null,0,222,null,null,null,"%_1","%_2","%_3","%_4","%_5","%_6"]
[21,6212,21,6217,21,6224,null,null,null,null,0,222,null,null,"target sequence",{"$f":"$G$3","v":222},{"$f":"$G$3","v":222},{"$f":"$G$3","v":222},{"$f":"$G$3","v":222},{"$f":"$G$3","v":222},{"$f":"$G$3","v":222}]
[21,6387,21,6442,21,6486,null,null,null,null,0,222,null,null,"total reinforcement",{"$f":"U14","v":6},{"$f":"Z14","v":6},{"$f":"AE14","v":7},{"$f":"AJ14","v":7},{"$f":"AO14","v":7},{"$f":"AT14","v":7}]
[21,6593,21,6615,21,6625,null,null,null,null,0,222,null,null,"% target"]
[21,6745,21,6791,21,6832,null,null,null,null,0,222,null,null,"CCRF"]
[21,6936,21,6942,21,6951,null,null,null,null,0,222,null,null,"% CCRf"]
[21,7083,21,7090,21,7098,null,null,null,null,0,222,null,null,"average response rate",{"$f":"F13/P20","v":146.71428571428572},{"$f":"(F20-F13)/Q20","v":667.57142857142856},{"$f":"(F27-F20)/R20","v":178.71428571428572},{"$f":"(F34-F27)/S20","v":188.28571428571428},{"$f":"(F41-F34)/T20","v":183.57142857142858},{"$f":"(F48-F41)/U20","v":184.71428571428572}]
[21,7229,21,7231,21,7260,null,null,null,null,0,222]
[21,7358,21,7364,21,7424,null,null,null,null,0,222]
[21,7616,21,7658,21,7680,null,null,null,null,0,222]
[21,7950,21,7960,21,7975,null,null,null,null,0,222]
[21,8102,21,8118,21,8144,null,null,null,null,0,222]
[21,8245,21,8251,21,8269,null,null,null,null,0,222]
[21,8385,21,8391,21,8424,null,null,null,null,0,222]
[21,8564,21,8580,21,8612,null,null,null,null,0,222]
[21,8828,21,8866,21,8915,null,null,null,null,0,222]
[21,9063,21,9070,21,9083,null,null,null,null,0,222]
[21,9217,21,9221,21,9227,null,null,null,null,0,222]
[21,9343,21,9370,21,9380,null,null,null,null,0,222]
[21,9502,21,9516,21,9554,null,null,null,null,0,222]
[21,9676,21,9695,21,9702,null,null,null,null,0,222]
[21,9854,21,9876,21,9890,null,null,null,null,0,222]
[21,10117,21,10182,21,10225,null,null,null,null,0,222]
[21,10335,21,10339,21,10343,null,null,null,null,0,222]
[21,10448,21,10458,21,10473,null,null,null,null,0,222]
[21,10593,21,10610,21,10647,null,null,null,null,0,222]
[21,10741,21,10835,21,10847,null,null,null,null,1,222]

{"sheet":"!M325B1I.sha","index":18,"n_rows":47,"n_cols":48,"rows_kept":47,"cut":false,"hidden":false,"merged":[[4,39,4,42],[5,39,5,40],[4,44,4,47],[5,44,5,45],[4,24,4,27],[5,24,5,25],[4,29,4,32],[5,29,5,30],[4,34,4,37],[5,34,5,35],[1,1,1,2],[5,13,5,14],[18,13,18,14],[19,13,19,14],[4,19,4,22],[5,19,5,20]]}
["Report for:!M325B1I.sha"]
["Date:","<date>"]
["Hen:","<hen>",null,null,null,"Correct Sequence",{"$f":"Start!J2","v":222},null,null,null,null,null,null,null,null,"Total Sequences in Data",{"$f":"4994-COUNTBLANK(L7:L5000)","v":41},null,null,null,null,"Total Sequences in Block Data",{"$f":"COUNTA(L7:L13)","v":7},null,null,null,"Total Sequences in Block Data",{"$f":"COUNTA(L14:L20)","v":7},null,null,null,"Total Sequences in Block Data",{"$f":"COUNTA(L21:L26)","v":6},null,null,null,"Total Sequences in Block Data",{"$f":"COUNTA(L27:L33)","v":7},null,null,null,"Total Sequences in Block Data",{"$f":"COUNTA(L34:L40)","v":7},null,null,null,"Total Sequences in Block Data",{"$f":"COUNTA(L41:L47)","v":7}]
[null,null,null,null,null,null,null,null,null,null,null,null,null,null,null,"Total Sequences in Summary",{"$f":"SUM(O7:O14)","v":41},null,null,null,null,"Total Sequences in Block Summary",{"$f":"SUM(U7:U14)","v":7},null,null,null,"Total Sequences in Block Summary",{"$f":"SUM(Z7:Z14)","v":7},null,null,null,"Total Sequences in Block Summary",{"$f":"SUM(AE7:AE14)","v":6},null,null,null,"Total Sequences in Block Summary",{"$f":"SUM(AJ7:AJ14)","v":7},null,null,null,"Total Sequences in Block Summary",{"$f":"SUM(AO7:AO14)","v":7},null,null,null,"Total Sequences in Block Summary",{"$f":"SUM(AT7:AT14)","v":7}]
[null,null,null,null,null,null,null,null,null,null,null,null,null,null,null,null,null,null,null,"Block 1",null,null,null,null,"Block 2",null,null,null,null,"Block 3",null,null,null,null,"Block 4",null,null,null,null,"Block 5",null,null,null,null,"Block 6"]
["Sequence\nComponent\n1","Time\n1","Sequence\nComponent\n2","Time\n2","Sequence\nComponent\n3","Time\n3","Sequence\nComponent\n4","Time\n4","Sequence\nComponent\n5","Time\n5","Correct?\n0=No 1=Yes","Sequence",null,"Frequency",null,"Relative Frequency","Variability",null,null,"Frequency",null,"Relative Frequency","Variability",null,"Frequency",null,"Relative Frequency","Variability",null,"Frequency",null,"Relative Frequency","Variability",null,"Frequency",null,"Relative Frequency","Variability",null,"Frequency",null,"Relative Frequency","Variability",null,"Frequency",null,"Relative Frequency","Variability"]
[12,29,23,40,23,45,null,null,null,null,0,122,null,111,{"$f":"COUNTIF($L$7:$L$500,N7)","v":0},{"$f":"O7/$Q$4","v":0},{"$f":"IF(P7=0,0,(P7*((LOG(P7))/LOG(2))))","v":0},null,null,{"$f":"N7","v":111},{"$f":"COUNTIF(L7:L13,T7)","v":0},{"$f":"U7/(W4-U14)","v":0},{"$f":"IF(V7=0,0,(V7*((LOG(V7))/LOG(2))))","v":0},null,{"$f":"N7","v":111},{"$f":"COUNTIF(L14:L20,Y7)","v":0},{"$f":"Z7/(AB4-Z14)","v":{"$error":"#DIV/0!"}},{"$f":"IF(AA7=0,0,(AA7*((LOG(AA7))/LOG(2))))","v":{"$error":"#DIV/0!"}},null,{"$f":"N7","v":111},{"$f":"COUNTIF(L21:L26,AD7)","v":0},{"$f":"AE7/(AG4-AE14)","v":{"$error":"#DIV/0!"}},{"$f":"IF(AF7=0,0,(AF7*((LOG(AF7))/LOG(2))))","v":{"$error":"#DIV/0!"}},null,{"$f":"N7","v":111},{"$f":"COUNTIF(L27:L33,AI7)","v":0},{"$f":"AJ7/(AL4-AJ14)","v":{"$error":"#DIV/0!"}},{"$f":"IF(AK7=0,0,(AK7*((LOG(AK7))/LOG(2))))","v":{"$error":"#DIV/0!"}},null,{"$f":"N7","v":111},{"$f":"COUNTIF(L34:L40,AN7)","v":0},{"$f":"AO7/(AQ4-AO14)","v":{"$error":"#DIV/0!"}},{"$f":"IF(AP7=0,0,(AP7*((LOG(AP7))/LOG(2))))","v":{"$error":"#DIV/0!"}},null,{"$f":"N7","v":111},{"$f":"COUNTIF(L41:L47,AS7)","v":0},{"$f":"AT7/(AV4-AT14)","v":{"$error":"#DIV/0!"}},{"$f":"IF(AU7=0,0,(AU7*((LOG(AU7))/LOG(2))))","v":{"$error":"#DIV/0!"}}]
[21,143,21,194,21,220,null,null,null,null,0,222,null,112,{"$f":"COUNTIF($L$7:$L$500,N8)","v":0},{"$f":"O8/$Q$4","v":0},{"$f":"IF(P8=0,0,(P8*((LOG(P8))/LOG(2))))","v":0},null,null,{"$f":"N8","v":112},{"$f":"COUNTIF(L7:L13,T8)","v":0},{"$f":"U8/(W4-U14)","v":0},{"$f":"IF(V8=0,0,(V8*((LOG(V8))/LOG(2))))","v":0},null,{"$f":"N8","v":112},{"$f":"COUNTIF(L14:L20,Y8)","v":0},{"$f":"Z8/(AB4-Z14)","v":{"$error":"#DIV/0!"}},{"$f":"IF(AA8=0,0,(AA8*((LOG(AA8))/LOG(2))))","v":{"$error":"#DIV/0!"}},null,{"$f":"N8","v":112},{"$f":"COUNTIF(L21:L26,AD8)","v":0},{"$f":"AE8/(AG4-AE14)","v":{"$error":"#DIV/0!"}},{"$f":"IF(AF8=0,0,(AF8*((LOG(AF8))/LOG(2))))","v":{"$error":"#DIV/0!"}},null,{"$f":"N8","v":112},{"$f":"COUNTIF(L27:L33,AI8)","v":0},{"$f":"AJ8/(AL4-AJ14)","v":{"$error":"#DIV/0!"}},{"$f":"IF(AK8=0,0,(AK8*((LOG(AK8))/LOG(2))))","v":{"$error":"#DIV/0!"}},null,{"$f":"N8","v":112},{"$f":"COUNTIF(L34:L40,AN8)","v":0},{"$f":"AO8/(AQ4-AO14)","v":{"$error":"#DIV/0!"}},{"$f":"IF(AP8=0,0,(AP8*((LOG(AP8))/LOG(2))))","v":{"$error":"#DIV/0!"}},null,{"$f":"N8","v":112},{"$f":"COUNTIF(L41:L47,AS8)","v":0},{"$f":"AT8/(AV4-AT14)","v":{"$error":"#DIV/0!"}},{"$f":"IF(AU8=0,0,(AU8*((LOG(AU8))/LOG(2))))","v":{"$error":"#DIV/0!"}}]
[21,331,21,345,21,416,null,null,null,null,0,222,null,121,{"$f":"COUNTIF($L$7:$L$500,N9)","v":0},{"$f":"O9/$Q$4","v":0},{"$f":"IF(P9=0,0,(P9*((LOG(P9))/LOG(2))))","v":0},null,null,{"$f":"N9","v":121},{"$f":"COUNTIF(L7:L13,T9)","v":0},{"$f":"U9/(W4-U14)","v":0},{"$f":"IF(V9=0,0,(V9*((LOG(V9))/LOG(2))))","v":0},null,{"$f":"N9","v":121},{"$f":"COUNTIF(L14:L20,Y9)","v":0},{"$f":"Z9/(AB4-Z14)","v":{"$error":"#DIV/0!"}},{"$f":"IF(AA9=0,0,(AA9*((LOG(AA9))/LOG(2))))","v":{"$error":"#DIV/0!"}},null,{"$f":"N9","v":121},{"$f":"COUNTIF(L21:L26,AD9)","v":0},{"$f":"AE9/(AG4-AE14)","v":{"$error":"#DIV/0!"}},{"$f":"IF(AF9=0,0,(AF9*((LOG(AF9))/LOG(2))))","v":{"$error":"#DIV/0!"}},null,{"$f":"N9","v":121},{"$f":"COUNTIF(L27:L33,AI9)","v":0},{"$f":"AJ9/(AL4-AJ14)","v":{"$error":"#DIV/0!"}},{"$f":"IF(AK9=0,0,(AK9*((LOG(AK9))/LOG(2))))","v":{"$error":"#DIV/0!"}},null,{"$f":"N9","v":121},{"$f":"COUNTIF(L34:L40,AN9)","v":0},{"$f":"AO9/(AQ4-AO14)","v":{"$error":"#DIV/0!"}},{"$f":"IF(AP9=0,0,(AP9*((LOG(AP9))/LOG(2))))","v":{"$error":"#DIV/0!"}},null,{"$f":"N9","v":121},{"$f":"COUNTIF(L41:L47,AS9)","v":0},{"$f":"AT9/(AV4-AT14)","v":{"$error":"#DIV/0!"}},{"$f":"IF(AU9=0,0,(AU9*((LOG(AU9))/LOG(2))))","v":{"$error":"#DIV/0!"}}]
[21,509,21,516,21,523,null,null,null,null,0,222,null,122,{"$f":"COUNTIF($L$7:$L$500,N10)","v":1},{"$f":"O10/$Q$4","v":2.4390243902439025E-2},{"$f":"IF(P10=0,0,(P10*((LOG(P10))/LOG(2))))","v":-0.13067200011263619},null,null,{"$f":"N10","v":122},{"$f":"COUNTIF(L7:L13,T10)","v":1},{"$f":"U10/(W4-U14)","v":1},{"$f":"IF(V10=0,0,(V10*((LOG(V10))/LOG(2))))","v":0},null,{"$f":"N10","v":122},{"$f":"COUNTIF(L14:L20,Y10)","v":0},{"$f":"Z10/(AB4-Z14)","v":{"$error":"#DIV/0!"}},{"$f":"IF(AA10=0,0,(AA10*((LOG(AA10))/LOG(2))))","v":{"$error":"#DIV/0!"}},null,{"$f":"N10","v":122},{"$f":"COUNTIF(L21:L26,AD10)","v":0},{"$f":"AE10/(AG4-AE14)","v":{"$error":"#DIV/0!"}},{"$f":"IF(AF10=0,0,(AF10*((LOG(AF10))/LOG(2))))","v":{"$error":"#DIV/0!"}},null,{"$f":"N10","v":122},{"$f":"COUNTIF(L27:L33,AI10)","v":0},{"$f":"AJ10/(AL4-AJ14)","v":{"$error":"#DIV/0!"}},{"$f":"IF(AK10=0,0,(AK10*((LOG(AK10))/LOG(2))))","v":{"$error":"#DIV/0!"}},null,{"$f":"N10","v":122},{"$f":"COUNTIF(L34:L40,AN10)","v":0},{"$f":"AO10/(AQ4-AO14)","v":{"$error":"#DIV/0!"}},{"$f":"IF(AP10=0,0,(AP10*((LOG(AP10))/LOG(2))))","v":{"$error":"#DIV/0!"}},null,{"$f":"N10","v":122},{"$f":"COUNTIF(L41:L47,AS10)","v":0},{"$f":"AT10/(AV4-AT14)","v":{"$error":"#DIV/0!"}},{"$f":"IF(AU10=0,0,(AU10*((LOG(AU10))/LOG(2))))","v":{"$error":"#DIV/0!"}}]
[21,622,21,641,21,664,null,null,null,null,0,222,null,211,{"$f":"COUNTIF($L$7:$L$500,N11)","v":0},{"$f":"O11/$Q$4","v":0},{"$f":"IF(P11=0,0,(P11*((LOG(P11))/LOG(2))))","v":0},null,null,{"$f":"N11","v":211},{"$f":"COUNTIF(L7:L13,T11)","v":0},{"$f":"U11/(W4-U14)","v":0},{"$f":"IF(V11=0,0,(V11*((LOG(V11))/LOG(2))))","v":0},null,{"$f":"N11","v":211},{"$f":"COUNTIF(L14:L20,Y11)","v":0},{"$f":"Z11/(AB4-Z14)","v":{"$error":"#DIV/0!"}},{"$f":"IF(AA11=0,0,(AA11*((LOG(AA11))/LOG(2))))","v":{"$error":"#DIV/0!"}},null,{"$f":"N11","v":211},{"$f":"COUNTIF(L21:L26,AD11)","v":0},{"$f":"AE11/(AG4-AE14)","v":{"$error":"#DIV/0!"}},{"$f":"IF(AF11=0,0,(AF11*((LOG(AF11))/LOG(2))))","v":{"$error":"#DIV/0!"}},null,{"$f":"N11","v":211},{"$f":"COUNTIF(L27:L33,AI11)","v":0},{"$f":"AJ11/(AL4-AJ14)","v":{"$error":"#DIV/0!"}},{"$f":"IF(AK11=0,0,(AK11*((LOG(AK11))/LOG(2))))","v":{"$error":"#DIV/0!"}},null,{"$f":"N11","v":211},{"$f":"COUNTIF(L34:L40,AN11)","v":0},{"$f":"AO11/(AQ4-AO14)","v":{"$error":"#DIV/0!"}},{"$f":"IF(AP11=0,0,(AP11*((LOG(AP11))/LOG(2))))","v":{"$error":"#DIV/0!"}},null,{"$f":"N11","v":211},{"$f":"COUNTIF(L41:L47,AS11)","v":0},{"$f":"AT11/(AV4-AT14)","v":{"$error":"#DIV/0!"}},{"$f":"IF(AU11=0,0,(AU11*((LOG(AU11))/LOG(2))))","v":{"$error":"#DIV/0!"}}]
[21,773,21,789,21,833,null,null,null,null,0,222,null,212,{"$f":"COUNTIF($L$7:$L$500,N12)","v":0},{"$f":"O12/$Q$4","v":0},{"$f":"IF(P12=0,0,(P12*((LOG(P12))/LOG(2))))","v":0},null,null,{"$f":"N12","v":212},{"$f":"COUNTIF(L7:L13,T12)","v":0},{"$f":"U12/(W4-U14)","v":0},{"$f":"IF(V12=0,0,(V12*((LOG(V12))/LOG(2))))","v":0},null,{"$f":"N12","v":212},{"$f":"COUNTIF(L14:L20,Y12)","v":0},{"$f":"Z12/(AB4-Z14)","v":{"$error":"#DIV/0!"}},{"$f":"IF(AA12=0,0,(AA12*((LOG(AA12))/LOG(2))))","v":{"$error":"#DIV/0!"}},null,{"$f":"N12","v":212},{"$f":"COUNTIF(L21:L26,AD12)","v":0},{"$f":"AE12/(AG4-AE14)","v":{"$error":"#DIV/0!"}},{"$f":"IF(AF12=0,0,(AF12*((LOG(AF12))/LOG(2))))","v":{"$error":"#DIV/0!"}},null,{"$f":"N12","v":212},{"$f":"COUNTIF(L27:L33,AI12)","v":0},{"$f":"AJ12/(AL4-AJ14)","v":{"$error":"#DIV/0!"}},{"$f":"IF(AK12=0,0,(AK12*((LOG(AK12))/LOG(2))))","v":{"$error":"#DIV/0!"}},null,{"$f":"N12","v":212},{"$f":"COUNTIF(L34:L40,AN12)","v":0},{"$f":"AO12/(AQ4-AO14)","v":{"$error":"#DIV/0!"}},{"$f":"IF(AP12=0,0,(AP12*((LOG(AP12))/LOG(2))))","v":{"$error":"#DIV/0!"}},null,{"$f":"N12","v":212},{"$f":"COUNTIF(L41:L47,AS12)","v":0},{"$f":"AT12/(AV4-AT14)","v":{"$error":"#DIV/0!"}},{"$f":"IF(AU12=0,0,(AU12*((LOG(AU12))/LOG(2))))","v":{"$error":"#DIV/0!"}}]
[21,926,21,937,21,953,null,null,null,null,0,222,null,221,{"$f":"COUNTIF($L$7:$L$500,N13)","v":0},{"$f":"O13/$Q$4","v":0},{"$f":"IF(P13=0,0,(P13*((LOG(P13))/LOG(2))))","v":0},null,null,{"$f":"N13","v":221},{"$f":"COUNTIF(L7:L13,T13)","v":0},{"$f":"U13/(W4-U14)","v":0},{"$f":"IF(V13=0,0,(V13*((LOG(V13))/LOG(2))))","v":0},null,{"$f":"N13","v":221},{"$f":"COUNTIF(L14:L20,Y13)","v":0},{"$f":"Z13/(AB4-Z14)","v":{"$error":"#DIV/0!"}},{"$f":"IF(AA13=0,0,(AA13*((LOG(AA13))/LOG(2))))","v":{"$error":"#DIV/0!"}},null,{"$f":"N13","v":221},{"$f":"COUNTIF(L21:L26,AD13)","v":0},{"$f":"AE13/(AG4-AE14)","v":{"$error":"#DIV/0!"}},{"$f":"IF(AF13=0,0,(AF13*((LOG(AF13))/LOG(2))))","v":{"$error":"#DIV/0!"}},null,{"$f":"N13","v":221},{"$f":"COUNTIF(L27:L33,AI13)","v":0},{"$f":"AJ13/(AL4-AJ14)","v":{"$error":"#DIV/0!"}},{"$f":"IF(AK13=0,0,(AK13*((LOG(AK13))/LOG(2))))","v":{"$error":"#DIV/0!"}},null,{"$f":"N13","v":221},{"$f":"COUNTIF(L34:L40,AN13)","v":0},{"$f":"AO13/(AQ4-AO14)","v":{"$error":"#DIV/0!"}},{"$f":"IF(AP13=0,0,(AP13*((LOG(AP13))/LOG(2))))","v":{"$error":"#DIV/0!"}},null,{"$f":"N13","v":221},{"$f":"COUNTIF(L41:L47,AS13)","v":0},{"$f":"AT13/(AV4-AT14)","v":{"$error":"#DIV/0!"}},{"$f":"IF(AU13=0,0,(AU13*((LOG(AU13))/LOG(2))))","v":{"$error":"#DIV/0!"}}]
[21,1048,21,1054,21,1064,null,null,null,null,0,222,null,222,{"$f":"COUNTIF($L$7:$L$500,N14)","v":40},{"$f":"O14/$Q$4","v":0.97560975609756095},{"$f":"IF(P14=0,0,(P14*((LOG(P14))/LOG(2))))","v":-3.4755033883630611E-2},null,null,{"$f":"N14","v":222},{"$f":"COUNTIF(L7:L13,T14)","v":6},null,null,null,{"$f":"N14","v":222},{"$f":"COUNTIF(L14:L20,Y14)","v":7},null,null,null,{"$f":"N14","v":222},{"$f":"COUNTIF(L21:L26,AD14)","v":6},null,null,null,{"$f":"N14","v":222},{"$f":"COUNTIF(L27:L33,AI14)","v":7},null,null,null,{"$f":"N14","v":222},{"$f":"COUNTIF(L34:L40,AN14)","v":7},null,null,null,{"$f":"N14","v":222},{"$f":"COUNTIF(L41:L47,AS14)","v":7}]
[21,1159,21,1171,21,1188,null,null,null,null,0,222,null,null,null,{"$f":"SUM(P7:P14)","v":1},{"$f":"-SUM(Q7:Q14)","v":0.16542703399626679},null,null,null,null,{"$f":"SUM(V7:V14)","v":1},{"$f":"-SUM(W7:W14)","v":0},null,null,null,{"$f":"SUM(AA7:AA14)","v":{"$error":"#DIV/0!"}},{"$f":"-SUM(AB7:AB14)","v":{"$error":"#DIV/0!"}},null,null,null,{"$f":"SUM(AF7:AF14)","v":{"$error":"#DIV/0!"}},{"$f":"-SUM(AG7:AG14)","v":{"$error":"#DIV/0!"}},null,null,null,{"$f":"SUM(AK7:AK14)","v":{"$error":"#DIV/0!"}},{"$f":"-SUM(AL7:AL14)","v":{"$error":"#DIV/0!"}},null,null,null,{"$f":"SUM(AP7:AP14)","v":{"$error":"#DIV/0!"}},{"$f":"-SUM(AQ7:AQ14)","v":{"$error":"#DIV/0!"}},null,null,null,{"$f":"SUM(AU7:AU14)","v":{"$error":"#DIV/0!"}},{"$f":"-SUM(AV7:AV14)","v":{"$error":"#DIV/0!"}}]
[21,1376,21,1398,21,1415,null,null,null,null,0,222,null,null,null,"U=",{"$f":"Q15/(LOG(Q4)/LOG(2))","v":3.0877354779509855E-2},null,null,null,null,"U1=",{"$f":"W15/(LOG(W4)/LOG(2))","v":0},null,null,null,"U2=",{"$f":"AB15/(LOG(AB4)/LOG(2))","v":{"$error":"#DIV/0!"}},null,null,null,"U3=",{"$f":"AG15/(LOG(AG4)/LOG(2))","v":{"$error":"#DIV/0!"}},null,null,null,"U4=",{"$f":"AL15/(LOG(AL4)/LOG(2))","v":{"$error":"#DIV/0!"}},null,null,null,"U5=",{"$f":"AQ15/(LOG(AQ4)/LOG(2))","v":{"$error":"#DIV/0!"}},null,null,null,"U6=",{"$f":"AV15/(LOG(AV4)/LOG(2))","v":{"$error":"#DIV/0!"}}]
[21,1509,21,1518,21,1551,null,null,null,null,0,222]
[21,1646,21,1651,21,1659,null,null,null,null,0,222]
[21,1757,21,1764,21,1774,null,null,null,null,0,222,null,"Total Target Seq"]
[21,1946,21,1954,21,2010,null,null,null,null,0,222,null,{"$f":"COUNTIF(L7:L47,G3)","v":40},null,7,7,6,7,7,7]
[21,2105,21,2120,21,2169,null,null,null,null,0,222,null,null,null,"% of reinforcement given in 6 equal intervals based on number of trials "]
[21,2267,21,2284,21,2299,null,null,null,null,0,222,null,null,null,"%_1","%_2","%_3","%_4","%_5","%_6"]
[21,2393,21,2399,21,2407,null,null,null,null,0,222,null,null,"target sequence",{"$f":"$G$3","v":222},{"$f":"$G$3","v":222},{"$f":"$G$3","v":222},{"$f":"$G$3","v":222},{"$f":"$G$3","v":222},{"$f":"$G$3","v":222}]
[21,2513,21,2559,21,2610,null,null,null,null,0,222,null,null,"total reinforcement",{"$f":"U14","v":6},{"$f":"Z14","v":7},{"$f":"AE14","v":6},{"$f":"AJ14","v":7},{"$f":"AO14","v":7},{"$f":"AT14","v":7}]
[21,2718,21,2725,21,2741,null,null,null,null,0,222,null,null,"% target"]
[21,2838,21,2861,21,2877,null,null,null,null,0,222,null,null,"CCRF"]
[21,2973,21,2979,21,2990,null,null,null,null,0,222,null,null,"% CCRf"]
[21,3113,21,3149,21,3159,null,null,null,null,0,222,null,null,"average response rate",{"$f":"F13/P20","v":136.14285714285714},{"$f":"(F20-F13)/Q20","v":151},{"$f":"(F26-F20)/R20","v":144.5},{"$f":"(F33-F26)/S20","v":139.57142857142858},{"$f":"(F40-F33)/T20","v":153.14285714285714},{"$f":"(F47-F40)/U20","v":156.14285714285714}]
[21,3267,21,3273,21,3288,null,null,null,null,0,222]
[21,3401,21,3431,21,3459,null,null,null,null,0,222]
[21,3552,21,3558,21,3583,null,null,null,null,0,222]
[21,3684,21,3691,21,3698,null,null,null,null,0,222]
[21,3837,21,3845,21,3854,null,null,null,null,0,222]
[21,3956,21,3972,21,3995,null,null,null,null,0,222]
[21,4192,21,4212,21,4240,null,null,null,null,0,222]
[21,4337,21,4362,21,4395,null,null,null,null,0,222]
[21,4490,21,4495,21,4502,null,null,null,null,0,222]
[21,4602,21,4609,21,4662,null,null,null,null,0,222]
[21,4755,21,4762,21,4778,null,null,null,null,0,222]
[21,4870,21,4876,21,4926,null,null,null,null,0,222]
[21,5040,21,5051,21,5105,null,null,null,null,0,222]
[21,5210,21,5216,21,5246,null,null,null,null,0,222]
[21,5347,21,5354,21,5382,null,null,null,null,0,222]
[21,5524,21,5554,21,5587,null,null,null,null,0,222]
[21,5693,21,5700,21,5706,null,null,null,null,0,222]
[21,5821,21,5827,21,5881,null,null,null,null,0,222]
[21,5997,21,6008,21,6019,null,null,null,null,1,222]

{"sheet":"!M326B4I.sha","index":19,"n_rows":46,"n_cols":48,"rows_kept":46,"cut":false,"hidden":false,"merged":[[4,39,4,42],[5,39,5,40],[4,44,4,47],[5,44,5,45],[4,24,4,27],[5,24,5,25],[4,29,4,32],[5,29,5,30],[4,34,4,37],[5,34,5,35],[1,1,1,2],[5,13,5,14],[18,13,18,14],[19,13,19,14],[4,19,4,22],[5,19,5,20]]}
["Report for:!M326B4I.sha"]
["Date:","<date>"]
["Hen:","<hen>",null,null,null,"Correct Sequence",{"$f":"Start!J2","v":222},null,null,null,null,null,null,null,null,"Total Sequences in Data",{"$f":"4994-COUNTBLANK(L7:L5000)","v":40},null,null,null,null,"Total Sequences in Block Data",{"$f":"COUNTA(L7:L13)","v":7},null,null,null,"Total Sequences in Block Data",{"$f":"COUNTA(L14:L19)","v":6},null,null,null,"Total Sequences in Block Data",{"$f":"COUNTA(L20:L26)","v":7},null,null,null,"Total Sequences in Block Data",{"$f":"COUNTA(L27:L33)","v":7},null,null,null,"Total Sequences in Block Data",{"$f":"COUNTA(L34:L39)","v":6},null,null,null,"Total Sequences in Block Data",{"$f":"COUNTA(L40:L46)","v":7}]
[null,null,null,null,null,null,null,null,null,null,null,null,null,null,null,"Total Sequences in Summary",{"$f":"SUM(O7:O14)","v":40},null,null,null,null,"Total Sequences in Block Summary",{"$f":"SUM(U7:U14)","v":7},null,null,null,"Total Sequences in Block Summary",{"$f":"SUM(Z7:Z14)","v":6},null,null,null,"Total Sequences in Block Summary",{"$f":"SUM(AE7:AE14)","v":7},null,null,null,"Total Sequences in Block Summary",{"$f":"SUM(AJ7:AJ14)","v":7},null,null,null,"Total Sequences in Block Summary",{"$f":"SUM(AO7:AO14)","v":6},null,null,null,"Total Sequences in Block Summary",{"$f":"SUM(AT7:AT14)","v":7}]
[null,null,null,null,null,null,null,null,null,null,null,null,null,null,null,null,null,null,null,"Block 1",null,null,null,null,"Block 2",null,null,null,null,"Block 3",null,null,null,null,"Block 4",null,null,null,null,"Block 5",null,null,null,null,"Block 6"]
["Sequence\nComponent\n1","Time\n1","Sequence\nComponent\n2","Time\n2","Sequence\nComponent\n3","Time\n3","Sequence\nComponent\n4","Time\n4","Sequence\nComponent\n5","Time\n5","Correct?\n0=No 1=Yes","Sequence",null,"Frequency",null,"Relative Frequency","Variability",null,null,"Frequency",null,"Relative Frequency","Variability",null,"Frequency",null,"Relative Frequency","Variability",null,"Frequency",null,"Relative Frequency","Variability",null,"Frequency",null,"Relative Frequency","Variability",null,"Frequency",null,"Relative Frequency","Variability",null,"Frequency",null,"Relative Frequency","Variability"]
[21,42,21,128,21,164,null,null,null,null,0,222,null,111,{"$f":"COUNTIF($L$7:$L$500,N7)","v":0},{"$f":"O7/$Q$4","v":0},{"$f":"IF(P7=0,0,(P7*((LOG(P7))/LOG(2))))","v":0},null,null,{"$f":"N7","v":111},{"$f":"COUNTIF(L7:L13,T7)","v":0},{"$f":"U7/(W4-U14)","v":{"$error":"#DIV/0!"}},{"$f":"IF(V7=0,0,(V7*((LOG(V7))/LOG(2))))","v":{"$error":"#DIV/0!"}},null,{"$f":"N7","v":111},{"$f":"COUNTIF(L14:L19,Y7)","v":0},{"$f":"Z7/(AB4-Z14)","v":{"$error":"#DIV/0!"}},{"$f":"IF(AA7=0,0,(AA7*((LOG(AA7))/LOG(2))))","v":{"$error":"#DIV/0!"}},null,{"$f":"N7","v":111},{"$f":"COUNTIF(L20:L26,AD7)","v":0},{"$f":"AE7/(AG4-AE14)","v":{"$error":"#DIV/0!"}},{"$f":"IF(AF7=0,0,(AF7*((LOG(AF7))/LOG(2))))","v":{"$error":"#DIV/0!"}},null,{"$f":"N7","v":111},{"$f":"COUNTIF(L27:L33,AI7)","v":0},{"$f":"AJ7/(AL4-AJ14)","v":{"$error":"#DIV/0!"}},{"$f":"IF(AK7=0,0,(AK7*((LOG(AK7))/LOG(2))))","v":{"$error":"#DIV/0!"}},null,{"$f":"N7","v":111},{"$f":"COUNTIF(L34:L39,AN7)","v":0},{"$f":"AO7/(AQ4-AO14)","v":{"$error":"#DIV/0!"}},{"$f":"IF(AP7=0,0,(AP7*((LOG(AP7))/LOG(2))))","v":{"$error":"#DIV/0!"}},null,{"$f":"N7","v":111},{"$f":"COUNTIF(L40:L46,AS7)","v":0},{"$f":"AT7/(AV4-AT14)","v":{"$error":"#DIV/0!"}},{"$f":"IF(AU7=0,0,(AU7*((LOG(AU7))/LOG(2))))","v":{"$error":"#DIV/0!"}}]
[21,323,21,328,21,385,null,null,null,null,0,222,null,112,{"$f":"COUNTIF($L$7:$L$500,N8)","v":0},{"$f":"O8/$Q$4","v":0},{"$f":"IF(P8=0,0,(P8*((LOG(P8))/LOG(2))))","v":0},null,null,{"$f":"N8","v":112},{"$f":"COUNTIF(L7:L13,T8)","v":0},{"$f":"U8/(W4-U14)","v":{"$error":"#DIV/0!"}},{"$f":"IF(V8=0,0,(V8*((LOG(V8))/LOG(2))))","v":{"$error":"#DIV/0!"}},null,{"$f":"N8","v":112},{"$f":"COUNTIF(L14:L19,Y8)","v":0},{"$f":"Z8/(AB4-Z14)","v":{"$error":"#DIV/0!"}},{"$f":"IF(AA8=0,0,(AA8*((LOG(AA8))/LOG(2))))","v":{"$error":"#DIV/0!"}},null,{"$f":"N8","v":112},{"$f":"COUNTIF(L20:L26,AD8)","v":0},{"$f":"AE8/(AG4-AE14)","v":{"$error":"#DIV/0!"}},{"$f":"IF(AF8=0,0,(AF8*((LOG(AF8))/LOG(2))))","v":{"$error":"#DIV/0!"}},null,{"$f":"N8","v":112},{"$f":"COUNTIF(L27:L33,AI8)","v":0},{"$f":"AJ8/(AL4-AJ14)","v":{"$error":"#DIV/0!"}},{"$f":"IF(AK8=0,0,(AK8*((LOG(AK8))/LOG(2))))","v":{"$error":"#DIV/0!"}},null,{"$f":"N8","v":112},{"$f":"COUNTIF(L34:L39,AN8)","v":0},{"$f":"AO8/(AQ4-AO14)","v":{"$error":"#DIV/0!"}},{"$f":"IF(AP8=0,0,(AP8*((LOG(AP8))/LOG(2))))","v":{"$error":"#DIV/0!"}},null,{"$f":"N8","v":112},{"$f":"COUNTIF(L40:L46,AS8)","v":0},{"$f":"AT8/(AV4-AT14)","v":{"$error":"#DIV/0!"}},{"$f":"IF(AU8=0,0,(AU8*((LOG(AU8))/LOG(2))))","v":{"$error":"#DIV/0!"}}]
[21,537,21,550,21,614,null,null,null,null,0,222,null,121,{"$f":"COUNTIF($L$7:$L$500,N9)","v":0},{"$f":"O9/$Q$4","v":0},{"$f":"IF(P9=0,0,(P9*((LOG(P9))/LOG(2))))","v":0},null,null,{"$f":"N9","v":121},{"$f":"COUNTIF(L7:L13,T9)","v":0},{"$f":"U9/(W4-U14)","v":{"$error":"#DIV/0!"}},{"$f":"IF(V9=0,0,(V9*((LOG(V9))/LOG(2))))","v":{"$error":"#DIV/0!"}},null,{"$f":"N9","v":121},{"$f":"COUNTIF(L14:L19,Y9)","v":0},{"$f":"Z9/(AB4-Z14)","v":{"$error":"#DIV/0!"}},{"$f":"IF(AA9=0,0,(AA9*((LOG(AA9))/LOG(2))))","v":{"$error":"#DIV/0!"}},null,{"$f":"N9","v":121},{"$f":"COUNTIF(L20:L26,AD9)","v":0},{"$f":"AE9/(AG4-AE14)","v":{"$error":"#DIV/0!"}},{"$f":"IF(AF9=0,0,(AF9*((LOG(AF9))/LOG(2))))","v":{"$error":"#DIV/0!"}},null,{"$f":"N9","v":121},{"$f":"COUNTIF(L27:L33,AI9)","v":0},{"$f":"AJ9/(AL4-AJ14)","v":{"$error":"#DIV/0!"}},{"$f":"IF(AK9=0,0,(AK9*((LOG(AK9))/LOG(2))))","v":{"$error":"#DIV/0!"}},null,{"$f":"N9","v":121},{"$f":"COUNTIF(L34:L39,AN9)","v":0},{"$f":"AO9/(AQ4-AO14)","v":{"$error":"#DIV/0!"}},{"$f":"IF(AP9=0,0,(AP9*((LOG(AP9))/LOG(2))))","v":{"$error":"#DIV/0!"}},null,{"$f":"N9","v":121},{"$f":"COUNTIF(L40:L46,AS9)","v":0},{"$f":"AT9/(AV4-AT14)","v":{"$error":"#DIV/0!"}},{"$f":"IF(AU9=0,0,(AU9*((LOG(AU9))/LOG(2))))","v":{"$error":"#DIV/0!"}}]
[21,782,21,808,21,823,null,null,null,null,0,222,null,122,{"$f":"COUNTIF($L$7:$L$500,N10)","v":0},{"$f":"O10/$Q$4","v":0},{"$f":"IF(P10=0,0,(P10*((LOG(P10))/LOG(2))))","v":0},null,null,{"$f":"N10","v":122},{"$f":"COUNTIF(L7:L13,T10)","v":0},{"$f":"U10/(W4-U14)","v":{"$error":"#DIV/0!"}},{"$f":"IF(V10=0,0,(V10*((LOG(V10))/LOG(2))))","v":{"$error":"#DIV/0!"}},null,{"$f":"N10","v":122},{"$f":"COUNTIF(L14:L19,Y10)","v":0},{"$f":"Z10/(AB4-Z14)","v":{"$error":"#DIV/0!"}},{"$f":"IF(AA10=0,0,(AA10*((LOG(AA10))/LOG(2))))","v":{"$error":"#DIV/0!"}},null,{"$f":"N10","v":122},{"$f":"COUNTIF(L20:L26,AD10)","v":0},{"$f":"AE10/(AG4-AE14)","v":{"$error":"#DIV/0!"}},{"$f":"IF(AF10=0,0,(AF10*((LOG(AF10))/LOG(2))))","v":{"$error":"#DIV/0!"}},null,{"$f":"N10","v":122},{"$f":"COUNTIF(L27:L33,AI10)","v":0},{"$f":"AJ10/(AL4-AJ14)","v":{"$error":"#DIV/0!"}},{"$f":"IF(AK10=0,0,(AK10*((LOG(AK10))/LOG(2))))","v":{"$error":"#DIV/0!"}},null,{"$f":"N10","v":122},{"$f":"COUNTIF(L34:L39,AN10)","v":0},{"$f":"AO10/(AQ4-AO14)","v":{"$error":"#DIV/0!"}},{"$f":"IF(AP10=0,0,(AP10*((LOG(AP10))/LOG(2))))","v":{"$error":"#DIV/0!"}},null,{"$f":"N10","v":122},{"$f":"COUNTIF(L40:L46,AS10)","v":0},{"$f":"AT10/(AV4-AT14)","v":{"$error":"#DIV/0!"}},{"$f":"IF(AU10=0,0,(AU10*((LOG(AU10))/LOG(2))))","v":{"$error":"#DIV/0!"}}]
[21,918,21,923,21,955,null,null,null,null,0,222,null,211,{"$f":"COUNTIF($L$7:$L$500,N11)","v":0},{"$f":"O11/$Q$4","v":0},{"$f":"IF(P11=0,0,(P11*((LOG(P11))/LOG(2))))","v":0},null,null,{"$f":"N11","v":211},{"$f":"COUNTIF(L7:L13,T11)","v":0},{"$f":"U11/(W4-U14)","v":{"$error":"#DIV/0!"}},{"$f":"IF(V11=0,0,(V11*((LOG(V11))/LOG(2))))","v":{"$error":"#DIV/0!"}},null,{"$f":"N11","v":211},{"$f":"COUNTIF(L14:L19,Y11)","v":0},{"$f":"Z11/(AB4-Z14)","v":{"$error":"#DIV/0!"}},{"$f":"IF(AA11=0,0,(AA11*((LOG(AA11))/LOG(2))))","v":{"$error":"#DIV/0!"}},null,{"$f":"N11","v":211},{"$f":"COUNTIF(L20:L26,AD11)","v":0},{"$f":"AE11/(AG4-AE14)","v":{"$error":"#DIV/0!"}},{"$f":"IF(AF11=0,0,(AF11*((LOG(AF11))/LOG(2))))","v":{"$error":"#DIV/0!"}},null,{"$f":"N11","v":211},{"$f":"COUNTIF(L27:L33,AI11)","v":0},{"$f":"AJ11/(AL4-AJ14)","v":{"$error":"#DIV/0!"}},{"$f":"IF(AK11=0,0,(AK11*((LOG(AK11))/LOG(2))))","v":{"$error":"#DIV/0!"}},null,{"$f":"N11","v":211},{"$f":"COUNTIF(L34:L39,AN11)","v":0},{"$f":"AO11/(AQ4-AO14)","v":{"$error":"#DIV/0!"}},{"$f":"IF(AP11=0,0,(AP11*((LOG(AP11))/LOG(2))))","v":{"$error":"#DIV/0!"}},null,{"$f":"N11","v":211},{"$f":"COUNTIF(L40:L46,AS11)","v":0},{"$f":"AT11/(AV4-AT14)","v":{"$error":"#DIV/0!"}},{"$f":"IF(AU11=0,0,(AU11*((LOG(AU11))/LOG(2))))","v":{"$error":"#DIV/0!"}}]
[21,1055,21,1060,21,1118,null,null,null,null,0,222,null,212,{"$f":"COUNTIF($L$7:$L$500,N12)","v":0},{"$f":"O12/$Q$4","v":0},{"$f":"IF(P12=0,0,(P12*((LOG(P12))/LOG(2))))","v":0},null,null,{"$f":"N12","v":212},{"$f":"COUNTIF(L7:L13,T12)","v":0},{"$f":"U12/(W4-U14)","v":{"$error":"#DIV/0!"}},{"$f":"IF(V12=0,0,(V12*((LOG(V12))/LOG(2))))","v":{"$error":"#DIV/0!"}},null,{"$f":"N12","v":212},{"$f":"COUNTIF(L14:L19,Y12)","v":0},{"$f":"Z12/(AB4-Z14)","v":{"$error":"#DIV/0!"}},{"$f":"IF(AA12=0,0,(AA12*((LOG(AA12))/LOG(2))))","v":{"$error":"#DIV/0!"}},null,{"$f":"N12","v":212},{"$f":"COUNTIF(L20:L26,AD12)","v":0},{"$f":"AE12/(AG4-AE14)","v":{"$error":"#DIV/0!"}},{"$f":"IF(AF12=0,0,(AF12*((LOG(AF12))/LOG(2))))","v":{"$error":"#DIV/0!"}},null,{"$f":"N12","v":212},{"$f":"COUNTIF(L27:L33,AI12)","v":0},{"$f":"AJ12/(AL4-AJ14)","v":{"$error":"#DIV/0!"}},{"$f":"IF(AK12=0,0,(AK12*((LOG(AK12))/LOG(2))))","v":{"$error":"#DIV/0!"}},null,{"$f":"N12","v":212},{"$f":"COUNTIF(L34:L39,AN12)","v":0},{"$f":"AO12/(AQ4-AO14)","v":{"$error":"#DIV/0!"}},{"$f":"IF(AP12=0,0,(AP12*((LOG(AP12))/LOG(2))))","v":{"$error":"#DIV/0!"}},null,{"$f":"N12","v":212},{"$f":"COUNTIF(L40:L46,AS12)","v":0},{"$f":"AT12/(AV4-AT14)","v":{"$error":"#DIV/0!"}},{"$f":"IF(AU12=0,0,(AU12*((LOG(AU12))/LOG(2))))","v":{"$error":"#DIV/0!"}}]
[21,1213,21,1259,21,1277,null,null,null,null,0,222,null,221,{"$f":"COUNTIF($L$7:$L$500,N13)","v":0},{"$f":"O13/$Q$4","v":0},{"$f":"IF(P13=0,0,(P13*((LOG(P13))/LOG(2))))","v":0},null,null,{"$f":"N13","v":221},{"$f":"COUNTIF(L7:L13,T13)","v":0},{"$f":"U13/(W4-U14)","v":{"$error":"#DIV/0!"}},{"$f":"IF(V13=0,0,(V13*((LOG(V13))/LOG(2))))","v":{"$error":"#DIV/0!"}},null,{"$f":"N13","v":221},{"$f":"COUNTIF(L14:L19,Y13)","v":0},{"$f":"Z13/(AB4-Z14)","v":{"$error":"#DIV/0!"}},{"$f":"IF(AA13=0,0,(AA13*((LOG(AA13))/LOG(2))))","v":{"$error":"#DIV/0!"}},null,{"$f":"N13","v":221},{"$f":"COUNTIF(L20:L26,AD13)","v":0},{"$f":"AE13/(AG4-AE14)","v":{"$error":"#DIV/0!"}},{"$f":"IF(AF13=0,0,(AF13*((LOG(AF13))/LOG(2))))","v":{"$error":"#DIV/0!"}},null,{"$f":"N13","v":221},{"$f":"COUNTIF(L27:L33,AI13)","v":0},{"$f":"AJ13/(AL4-AJ14)","v":{"$error":"#DIV/0!"}},{"$f":"IF(AK13=0,0,(AK13*((LOG(AK13))/LOG(2))))","v":{"$error":"#DIV/0!"}},null,{"$f":"N13","v":221},{"$f":"COUNTIF(L34:L39,AN13)","v":0},{"$f":"AO13/(AQ4-AO14)","v":{"$error":"#DIV/0!"}},{"$f":"IF(AP13=0,0,(AP13*((LOG(AP13))/LOG(2))))","v":{"$error":"#DIV/0!"}},null,{"$f":"N13","v":221},{"$f":"COUNTIF(L40:L46,AS13)","v":0},{"$f":"AT13/(AV4-AT14)","v":{"$error":"#DIV/0!"}},{"$f":"IF(AU13=0,0,(AU13*((LOG(AU13))/LOG(2))))","v":{"$error":"#DIV/0!"}}]
[21,1378,21,1384,21,1394,null,null,null,null,0,222,null,222,{"$f":"COUNTIF($L$7:$L$500,N14)","v":40},{"$f":"O14/$Q$4","v":1},{"$f":"IF(P14=0,0,(P14*((LOG(P14))/LOG(2))))","v":0},null,null,{"$f":"N14","v":222},{"$f":"COUNTIF(L7:L13,T14)","v":7},null,null,null,{"$f":"N14","v":222},{"$f":"COUNTIF(L14:L19,Y14)","v":6},null,null,null,{"$f":"N14","v":222},{"$f":"COUNTIF(L20:L26,AD14)","v":7},null,null,null,{"$f":"N14","v":222},{"$f":"COUNTIF(L27:L33,AI14)","v":7},null,null,null,{"$f":"N14","v":222},{"$f":"COUNTIF(L34:L39,AN14)","v":6},null,null,null,{"$f":"N14","v":222},{"$f":"COUNTIF(L40:L46,AS14)","v":7}]
[21,1543,21,1602,21,1613,null,null,null,null,0,222,null,null,null,{"$f":"SUM(P7:P14)","v":1},{"$f":"-SUM(Q7:Q14)","v":0},null,null,null,null,{"$f":"SUM(V7:V14)","v":{"$error":"#DIV/0!"}},{"$f":"-SUM(W7:W14)","v":{"$error":"#DIV/0!"}},null,null,null,{"$f":"SUM(AA7:AA14)","v":{"$error":"#DIV/0!"}},{"$f":"-SUM(AB7:AB14)","v":{"$error":"#DIV/0!"}},null,null,null,{"$f":"SUM(AF7:AF14)","v":{"$error":"#DIV/0!"}},{"$f":"-SUM(AG7:AG14)","v":{"$error":"#DIV/0!"}},null,null,null,{"$f":"SUM(AK7:AK14)","v":{"$error":"#DIV/0!"}},{"$f":"-SUM(AL7:AL14)","v":{"$error":"#DIV/0!"}},null,null,null,{"$f":"SUM(AP7:AP14)","v":{"$error":"#DIV/0!"}},{"$f":"-SUM(AQ7:AQ14)","v":{"$error":"#DIV/0!"}},null,null,null,{"$f":"SUM(AU7:AU14)","v":{"$error":"#DIV/0!"}},{"$f":"-SUM(AV7:AV14)","v":{"$error":"#DIV/0!"}}]
[21,1712,21,1814,21,1825,null,null,null,null,0,222,null,null,null,"U=",{"$f":"Q15/(LOG(Q4)/LOG(2))","v":0},null,null,null,null,"U1=",{"$f":"W15/(LOG(W4)/LOG(2))","v":{"$error":"#DIV/0!"}},null,null,null,"U2=",{"$f":"AB15/(LOG(AB4)/LOG(2))","v":{"$error":"#DIV/0!"}},null,null,null,"U3=",{"$f":"AG15/(LOG(AG4)/LOG(2))","v":{"$error":"#DIV/0!"}},null,null,null,"U4=",{"$f":"AL15/(LOG(AL4)/LOG(2))","v":{"$error":"#DIV/0!"}},null,null,null,"U5=",{"$f":"AQ15/(LOG(AQ4)/LOG(2))","v":{"$error":"#DIV/0!"}},null,null,null,"U6=",{"$f":"AV15/(LOG(AV4)/LOG(2))","v":{"$error":"#DIV/0!"}}]
[21,1924,21,1951,21,1960,null,null,null,null,0,222]
[21,2072,21,2086,21,2104,null,null,null,null,0,222]
[21,2206,21,2218,21,2269,null,null,null,null,0,222,null,"Total Target Seq"]
[21,2389,21,2392,21,2399,null,null,null,null,0,222,null,{"$f":"COUNTIF(L7:L46,G3)","v":40},null,7,6,7,7,6,7]
[21,2514,21,2563,21,2603,null,null,null,null,0,222,null,null,null,"% of reinforcement given in 6 equal intervals based on number of trials "]
[21,2704,21,2710,21,2720,null,null,null,null,0,222,null,null,null,"%_1","%_2","%_3","%_4","%_5","%_6"]
[21,2817,21,2824,21,2840,null,null,null,null,0,222,null,null,"target sequence",{"$f":"$G$3","v":222},{"$f":"$G$3","v":222},{"$f":"$G$3","v":222},{"$f":"$G$3","v":222},{"$f":"$G$3","v":222},{"$f":"$G$3","v":222}]
[21,2948,21,3026,21,3045,null,null,null,null,0,222,null,null,"total reinforcement",{"$f":"U14","v":7},{"$f":"Z14","v":6},{"$f":"AE14","v":7},{"$f":"AJ14","v":7},{"$f":"AO14","v":6},{"$f":"AT14","v":7}]
[21,3146,21,3164,21,3179,null,null,null,null,0,222,null,null,"% target"]
[21,3299,21,3304,21,3312,null,null,null,null,0,222,null,null,"CCRF"]
[21,3425,21,3432,21,3505,null,null,null,null,0,222,null,null,"% CCRf"]
[21,3606,21,3613,21,3631,null,null,null,null,0,222,null,null,"average response rate",{"$f":"F13/P20","v":182.42857142857142},{"$f":"(F19-F13)/Q20","v":165.33333333333334},{"$f":"(F26-F19)/R20","v":149},{"$f":"(F33-F26)/S20","v":155.14285714285714},{"$f":"(F39-F33)/T20","v":178.16666666666666},{"$f":"(F46-F39)/U20","v":151.57142857142858}]
[21,3731,21,3736,21,3749,null,null,null,null,0,222]
[21,3884,21,3902,21,3953,null,null,null,null,0,222]
[21,4075,21,4082,21,4094,null,null,null,null,0,222]
[21,4204,21,4253,21,4276,null,null,null,null,0,222]
[21,4368,21,4380,21,4398,null,null,null,null,0,222]
[21,4557,21,4643,21,4655,null,null,null,null,0,222]
[21,4764,21,4780,21,4789,null,null,null,null,0,222]
[21,4903,21,4917,21,4972,null,null,null,null,0,222]
[21,5081,21,5120,21,5142,null,null,null,null,0,222]
[21,5279,21,5286,21,5303,null,null,null,null,0,222]
[21,5448,21,5454,21,5467,null,null,null,null,0,222]
[21,5576,21,5612,21,5640,null,null,null,null,0,222]
[21,5748,21,5801,21,5812,null,null,null,null,0,222]
[21,5922,21,5927,21,5933,null,null,null,null,0,222]
[21,6034,21,6038,21,6054,null,null,null,null,0,222]
[21,6197,21,6224,21,6247,null,null,null,null,0,222]
[21,6341,21,6346,21,6353,null,null,null,null,0,222]
[21,6496,21,6512,21,6528,null,null,null,null,1,222]

{"sheet":"!M327A5I.sha","index":20,"n_rows":47,"n_cols":48,"rows_kept":47,"cut":false,"hidden":false,"merged":[[4,39,4,42],[5,39,5,40],[4,44,4,47],[5,44,5,45],[4,24,4,27],[5,24,5,25],[4,29,4,32],[5,29,5,30],[4,34,4,37],[5,34,5,35],[1,1,1,2],[5,13,5,14],[18,13,18,14],[19,13,19,14],[4,19,4,22],[5,19,5,20]]}
["Report for:!M327A5I.sha"]
["Date:","<date>"]
["Hen:","<hen>",null,null,null,"Correct Sequence",{"$f":"Start!J2","v":222},null,null,null,null,null,null,null,null,"Total Sequences in Data",{"$f":"4994-COUNTBLANK(L7:L5000)","v":41},null,null,null,null,"Total Sequences in Block Data",{"$f":"COUNTA(L7:L13)","v":7},null,null,null,"Total Sequences in Block Data",{"$f":"COUNTA(L14:L20)","v":7},null,null,null,"Total Sequences in Block Data",{"$f":"COUNTA(L21:L26)","v":6},null,null,null,"Total Sequences in Block Data",{"$f":"COUNTA(L27:L33)","v":7},null,null,null,"Total Sequences in Block Data",{"$f":"COUNTA(L34:L40)","v":7},null,null,null,"Total Sequences in Block Data",{"$f":"COUNTA(L41:L47)","v":7}]
[null,null,null,null,null,null,null,null,null,null,null,null,null,null,null,"Total Sequences in Summary",{"$f":"SUM(O7:O14)","v":41},null,null,null,null,"Total Sequences in Block Summary",{"$f":"SUM(U7:U14)","v":7},null,null,null,"Total Sequences in Block Summary",{"$f":"SUM(Z7:Z14)","v":7},null,null,null,"Total Sequences in Block Summary",{"$f":"SUM(AE7:AE14)","v":6},null,null,null,"Total Sequences in Block Summary",{"$f":"SUM(AJ7:AJ14)","v":7},null,null,null,"Total Sequences in Block Summary",{"$f":"SUM(AO7:AO14)","v":7},null,null,null,"Total Sequences in Block Summary",{"$f":"SUM(AT7:AT14)","v":7}]
[null,null,null,null,null,null,null,null,null,null,null,null,null,null,null,null,null,null,null,"Block 1",null,null,null,null,"Block 2",null,null,null,null,"Block 3",null,null,null,null,"Block 4",null,null,null,null,"Block 5",null,null,null,null,"Block 6"]
["Sequence\nComponent\n1","Time\n1","Sequence\nComponent\n2","Time\n2","Sequence\nComponent\n3","Time\n3","Sequence\nComponent\n4","Time\n4","Sequence\nComponent\n5","Time\n5","Correct?\n0=No 1=Yes","Sequence",null,"Frequency",null,"Relative Frequency","Variability",null,null,"Frequency",null,"Relative Frequency","Variability",null,"Frequency",null,"Relative Frequency","Variability",null,"Frequency",null,"Relative Frequency","Variability",null,"Frequency",null,"Relative Frequency","Variability",null,"Frequency",null,"Relative Frequency","Variability",null,"Frequency",null,"Relative Frequency","Variability"]
[21,9,21,18,12,35,null,null,null,null,0,221,null,111,{"$f":"COUNTIF($L$7:$L$500,N7)","v":0},{"$f":"O7/$Q$4","v":0},{"$f":"IF(P7=0,0,(P7*((LOG(P7))/LOG(2))))","v":0},null,null,{"$f":"N7","v":111},{"$f":"COUNTIF(L7:L13,T7)","v":0},{"$f":"U7/(W4-U14)","v":0},{"$f":"IF(V7=0,0,(V7*((LOG(V7))/LOG(2))))","v":0},null,{"$f":"N7","v":111},{"$f":"COUNTIF(L14:L20,Y7)","v":0},{"$f":"Z7/(AB4-Z14)","v":{"$error":"#DIV/0!"}},{"$f":"IF(AA7=0,0,(AA7*((LOG(AA7))/LOG(2))))","v":{"$error":"#DIV/0!"}},null,{"$f":"N7","v":111},{"$f":"COUNTIF(L21:L26,AD7)","v":0},{"$f":"AE7/(AG4-AE14)","v":{"$error":"#DIV/0!"}},{"$f":"IF(AF7=0,0,(AF7*((LOG(AF7))/LOG(2))))","v":{"$error":"#DIV/0!"}},null,{"$f":"N7","v":111},{"$f":"COUNTIF(L27:L33,AI7)","v":0},{"$f":"AJ7/(AL4-AJ14)","v":{"$error":"#DIV/0!"}},{"$f":"IF(AK7=0,0,(AK7*((LOG(AK7))/LOG(2))))","v":{"$error":"#DIV/0!"}},null,{"$f":"N7","v":111},{"$f":"COUNTIF(L34:L40,AN7)","v":0},{"$f":"AO7/(AQ4-AO14)","v":{"$error":"#DIV/0!"}},{"$f":"IF(AP7=0,0,(AP7*((LOG(AP7))/LOG(2))))","v":{"$error":"#DIV/0!"}},null,{"$f":"N7","v":111},{"$f":"COUNTIF(L41:L47,AS7)","v":0},{"$f":"AT7/(AV4-AT14)","v":{"$error":"#DIV/0!"}},{"$f":"IF(AU7=0,0,(AU7*((LOG(AU7))/LOG(2))))","v":{"$error":"#DIV/0!"}}]
[21,132,21,141,21,162,null,null,null,null,0,222,null,112,{"$f":"COUNTIF($L$7:$L$500,N8)","v":0},{"$f":"O8/$Q$4","v":0},{"$f":"IF(P8=0,0,(P8*((LOG(P8))/LOG(2))))","v":0},null,null,{"$f":"N8","v":112},{"$f":"COUNTIF(L7:L13,T8)","v":0},{"$f":"U8/(W4-U14)","v":0},{"$f":"IF(V8=0,0,(V8*((LOG(V8))/LOG(2))))","v":0},null,{"$f":"N8","v":112},{"$f":"COUNTIF(L14:L20,Y8)","v":0},{"$f":"Z8/(AB4-Z14)","v":{"$error":"#DIV/0!"}},{"$f":"IF(AA8=0,0,(AA8*((LOG(AA8))/LOG(2))))","v":{"$error":"#DIV/0!"}},null,{"$f":"N8","v":112},{"$f":"COUNTIF(L21:L26,AD8)","v":0},{"$f":"AE8/(AG4-AE14)","v":{"$error":"#DIV/0!"}},{"$f":"IF(AF8=0,0,(AF8*((LOG(AF8))/LOG(2))))","v":{"$error":"#DIV/0!"}},null,{"$f":"N8","v":112},{"$f":"COUNTIF(L27:L33,AI8)","v":0},{"$f":"AJ8/(AL4-AJ14)","v":{"$error":"#DIV/0!"}},{"$f":"IF(AK8=0,0,(AK8*((LOG(AK8))/LOG(2))))","v":{"$error":"#DIV/0!"}},null,{"$f":"N8","v":112},{"$f":"COUNTIF(L34:L40,AN8)","v":0},{"$f":"AO8/(AQ4-AO14)","v":{"$error":"#DIV/0!"}},{"$f":"IF(AP8=0,0,(AP8*((LOG(AP8))/LOG(2))))","v":{"$error":"#DIV/0!"}},null,{"$f":"N8","v":112},{"$f":"COUNTIF(L41:L47,AS8)","v":0},{"$f":"AT8/(AV4-AT14)","v":{"$error":"#DIV/0!"}},{"$f":"IF(AU8=0,0,(AU8*((LOG(AU8))/LOG(2))))","v":{"$error":"#DIV/0!"}}]
[21,254,21,269,21,291,null,null,null,null,0,222,null,121,{"$f":"COUNTIF($L$7:$L$500,N9)","v":0},{"$f":"O9/$Q$4","v":0},{"$f":"IF(P9=0,0,(P9*((LOG(P9))/LOG(2))))","v":0},null,null,{"$f":"N9","v":121},{"$f":"COUNTIF(L7:L13,T9)","v":0},{"$f":"U9/(W4-U14)","v":0},{"$f":"IF(V9=0,0,(V9*((LOG(V9))/LOG(2))))","v":0},null,{"$f":"N9","v":121},{"$f":"COUNTIF(L14:L20,Y9)","v":0},{"$f":"Z9/(AB4-Z14)","v":{"$error":"#DIV/0!"}},{"$f":"IF(AA9=0,0,(AA9*((LOG(AA9))/LOG(2))))","v":{"$error":"#DIV/0!"}},null,{"$f":"N9","v":121},{"$f":"COUNTIF(L21:L26,AD9)","v":0},{"$f":"AE9/(AG4-AE14)","v":{"$error":"#DIV/0!"}},{"$f":"IF(AF9=0,0,(AF9*((LOG(AF9))/LOG(2))))","v":{"$error":"#DIV/0!"}},null,{"$f":"N9","v":121},{"$f":"COUNTIF(L27:L33,AI9)","v":0},{"$f":"AJ9/(AL4-AJ14)","v":{"$error":"#DIV/0!"}},{"$f":"IF(AK9=0,0,(AK9*((LOG(AK9))/LOG(2))))","v":{"$error":"#DIV/0!"}},null,{"$f":"N9","v":121},{"$f":"COUNTIF(L34:L40,AN9)","v":0},{"$f":"AO9/(AQ4-AO14)","v":{"$error":"#DIV/0!"}},{"$f":"IF(AP9=0,0,(AP9*((LOG(AP9))/LOG(2))))","v":{"$error":"#DIV/0!"}},null,{"$f":"N9","v":121},{"$f":"COUNTIF(L41:L47,AS9)","v":0},{"$f":"AT9/(AV4-AT14)","v":{"$error":"#DIV/0!"}},{"$f":"IF(AU9=0,0,(AU9*((LOG(AU9))/LOG(2))))","v":{"$error":"#DIV/0!"}}]
[21,385,21,392,21,402,null,null,null,null,0,222,null,122,{"$f":"COUNTIF($L$7:$L$500,N10)","v":0},{"$f":"O10/$Q$4","v":0},{"$f":"IF(P10=0,0,(P10*((LOG(P10))/LOG(2))))","v":0},null,null,{"$f":"N10","v":122},{"$f":"COUNTIF(L7:L13,T10)","v":0},{"$f":"U10/(W4-U14)","v":0},{"$f":"IF(V10=0,0,(V10*((LOG(V10))/LOG(2))))","v":0},null,{"$f":"N10","v":122},{"$f":"COUNTIF(L14:L20,Y10)","v":0},{"$f":"Z10/(AB4-Z14)","v":{"$error":"#DIV/0!"}},{"$f":"IF(AA10=0,0,(AA10*((LOG(AA10))/LOG(2))))","v":{"$error":"#DIV/0!"}},null,{"$f":"N10","v":122},{"$f":"COUNTIF(L21:L26,AD10)","v":0},{"$f":"AE10/(AG4-AE14)","v":{"$error":"#DIV/0!"}},{"$f":"IF(AF10=0,0,(AF10*((LOG(AF10))/LOG(2))))","v":{"$error":"#DIV/0!"}},null,{"$f":"N10","v":122},{"$f":"COUNTIF(L27:L33,AI10)","v":0},{"$f":"AJ10/(AL4-AJ14)","v":{"$error":"#DIV/0!"}},{"$f":"IF(AK10=0,0,(AK10*((LOG(AK10))/LOG(2))))","v":{"$error":"#DIV/0!"}},null,{"$f":"N10","v":122},{"$f":"COUNTIF(L34:L40,AN10)","v":0},{"$f":"AO10/(AQ4-AO14)","v":{"$error":"#DIV/0!"}},{"$f":"IF(AP10=0,0,(AP10*((LOG(AP10))/LOG(2))))","v":{"$error":"#DIV/0!"}},null,{"$f":"N10","v":122},{"$f":"COUNTIF(L41:L47,AS10)","v":0},{"$f":"AT10/(AV4-AT14)","v":{"$error":"#DIV/0!"}},{"$f":"IF(AU10=0,0,(AU10*((LOG(AU10))/LOG(2))))","v":{"$error":"#DIV/0!"}}]
[21,513,21,528,21,538,null,null,null,null,0,222,null,211,{"$f":"COUNTIF($L$7:$L$500,N11)","v":0},{"$f":"O11/$Q$4","v":0},{"$f":"IF(P11=0,0,(P11*((LOG(P11))/LOG(2))))","v":0},null,null,{"$f":"N11","v":211},{"$f":"COUNTIF(L7:L13,T11)","v":0},{"$f":"U11/(W4-U14)","v":0},{"$f":"IF(V11=0,0,(V11*((LOG(V11))/LOG(2))))","v":0},null,{"$f":"N11","v":211},{"$f":"COUNTIF(L14:L20,Y11)","v":0},{"$f":"Z11/(AB4-Z14)","v":{"$error":"#DIV/0!"}},{"$f":"IF(AA11=0,0,(AA11*((LOG(AA11))/LOG(2))))","v":{"$error":"#DIV/0!"}},null,{"$f":"N11","v":211},{"$f":"COUNTIF(L21:L26,AD11)","v":0},{"$f":"AE11/(AG4-AE14)","v":{"$error":"#DIV/0!"}},{"$f":"IF(AF11=0,0,(AF11*((LOG(AF11))/LOG(2))))","v":{"$error":"#DIV/0!"}},null,{"$f":"N11","v":211},{"$f":"COUNTIF(L27:L33,AI11)","v":0},{"$f":"AJ11/(AL4-AJ14)","v":{"$error":"#DIV/0!"}},{"$f":"IF(AK11=0,0,(AK11*((LOG(AK11))/LOG(2))))","v":{"$error":"#DIV/0!"}},null,{"$f":"N11","v":211},{"$f":"COUNTIF(L34:L40,AN11)","v":0},{"$f":"AO11/(AQ4-AO14)","v":{"$error":"#DIV/0!"}},{"$f":"IF(AP11=0,0,(AP11*((LOG(AP11))/LOG(2))))","v":{"$error":"#DIV/0!"}},null,{"$f":"N11","v":211},{"$f":"COUNTIF(L41:L47,AS11)","v":0},{"$f":"AT11/(AV4-AT14)","v":{"$error":"#DIV/0!"}},{"$f":"IF(AU11=0,0,(AU11*((LOG(AU11))/LOG(2))))","v":{"$error":"#DIV/0!"}}]
[21,660,21,675,21,684,null,null,null,null,0,222,null,212,{"$f":"COUNTIF($L$7:$L$500,N12)","v":0},{"$f":"O12/$Q$4","v":0},{"$f":"IF(P12=0,0,(P12*((LOG(P12))/LOG(2))))","v":0},null,null,{"$f":"N12","v":212},{"$f":"COUNTIF(L7:L13,T12)","v":0},{"$f":"U12/(W4-U14)","v":0},{"$f":"IF(V12=0,0,(V12*((LOG(V12))/LOG(2))))","v":0},null,{"$f":"N12","v":212},{"$f":"COUNTIF(L14:L20,Y12)","v":0},{"$f":"Z12/(AB4-Z14)","v":{"$error":"#DIV/0!"}},{"$f":"IF(AA12=0,0,(AA12*((LOG(AA12))/LOG(2))))","v":{"$error":"#DIV/0!"}},null,{"$f":"N12","v":212},{"$f":"COUNTIF(L21:L26,AD12)","v":0},{"$f":"AE12/(AG4-AE14)","v":{"$error":"#DIV/0!"}},{"$f":"IF(AF12=0,0,(AF12*((LOG(AF12))/LOG(2))))","v":{"$error":"#DIV/0!"}},null,{"$f":"N12","v":212},{"$f":"COUNTIF(L27:L33,AI12)","v":0},{"$f":"AJ12/(AL4-AJ14)","v":{"$error":"#DIV/0!"}},{"$f":"IF(AK12=0,0,(AK12*((LOG(AK12))/LOG(2))))","v":{"$error":"#DIV/0!"}},null,{"$f":"N12","v":212},{"$f":"COUNTIF(L34:L40,AN12)","v":0},{"$f":"AO12/(AQ4-AO14)","v":{"$error":"#DIV/0!"}},{"$f":"IF(AP12=0,0,(AP12*((LOG(AP12))/LOG(2))))","v":{"$error":"#DIV/0!"}},null,{"$f":"N12","v":212},{"$f":"COUNTIF(L41:L47,AS12)","v":0},{"$f":"AT12/(AV4-AT14)","v":{"$error":"#DIV/0!"}},{"$f":"IF(AU12=0,0,(AU12*((LOG(AU12))/LOG(2))))","v":{"$error":"#DIV/0!"}}]
[21,780,21,791,21,801,null,null,null,null,0,222,null,221,{"$f":"COUNTIF($L$7:$L$500,N13)","v":1},{"$f":"O13/$Q$4","v":2.4390243902439025E-2},{"$f":"IF(P13=0,0,(P13*((LOG(P13))/LOG(2))))","v":-0.13067200011263619},null,null,{"$f":"N13","v":221},{"$f":"COUNTIF(L7:L13,T13)","v":1},{"$f":"U13/(W4-U14)","v":1},{"$f":"IF(V13=0,0,(V13*((LOG(V13))/LOG(2))))","v":0},null,{"$f":"N13","v":221},{"$f":"COUNTIF(L14:L20,Y13)","v":0},{"$f":"Z13/(AB4-Z14)","v":{"$error":"#DIV/0!"}},{"$f":"IF(AA13=0,0,(AA13*((LOG(AA13))/LOG(2))))","v":{"$error":"#DIV/0!"}},null,{"$f":"N13","v":221},{"$f":"COUNTIF(L21:L26,AD13)","v":0},{"$f":"AE13/(AG4-AE14)","v":{"$error":"#DIV/0!"}},{"$f":"IF(AF13=0,0,(AF13*((LOG(AF13))/LOG(2))))","v":{"$error":"#DIV/0!"}},null,{"$f":"N13","v":221},{"$f":"COUNTIF(L27:L33,AI13)","v":0},{"$f":"AJ13/(AL4-AJ14)","v":{"$error":"#DIV/0!"}},{"$f":"IF(AK13=0,0,(AK13*((LOG(AK13))/LOG(2))))","v":{"$error":"#DIV/0!"}},null,{"$f":"N13","v":221},{"$f":"COUNTIF(L34:L40,AN13)","v":0},{"$f":"AO13/(AQ4-AO14)","v":{"$error":"#DIV/0!"}},{"$f":"IF(AP13=0,0,(AP13*((LOG(AP13))/LOG(2))))","v":{"$error":"#DIV/0!"}},null,{"$f":"N13","v":221},{"$f":"COUNTIF(L41:L47,AS13)","v":0},{"$f":"AT13/(AV4-AT14)","v":{"$error":"#DIV/0!"}},{"$f":"IF(AU13=0,0,(AU13*((LOG(AU13))/LOG(2))))","v":{"$error":"#DIV/0!"}}]
[21,928,21,942,21,974,null,null,null,null,0,222,null,222,{"$f":"COUNTIF($L$7:$L$500,N14)","v":40},{"$f":"O14/$Q$4","v":0.97560975609756095},{"$f":"IF(P14=0,0,(P14*((LOG(P14))/LOG(2))))","v":-3.4755033883630611E-2},null,null,{"$f":"N14","v":222},{"$f":"COUNTIF(L7:L13,T14)","v":6},null,null,null,{"$f":"N14","v":222},{"$f":"COUNTIF(L14:L20,Y14)","v":7},null,null,null,{"$f":"N14","v":222},{"$f":"COUNTIF(L21:L26,AD14)","v":6},null,null,null,{"$f":"N14","v":222},{"$f":"COUNTIF(L27:L33,AI14)","v":7},null,null,null,{"$f":"N14","v":222},{"$f":"COUNTIF(L34:L40,AN14)","v":7},null,null,null,{"$f":"N14","v":222},{"$f":"COUNTIF(L41:L47,AS14)","v":7}]
[21,1068,21,1092,21,1103,null,null,null,null,0,222,null,null,null,{"$f":"SUM(P7:P14)","v":1},{"$f":"-SUM(Q7:Q14)","v":0.16542703399626679},null,null,null,null,{"$f":"SUM(V7:V14)","v":1},{"$f":"-SUM(W7:W14)","v":0},null,null,null,{"$f":"SUM(AA7:AA14)","v":{"$error":"#DIV/0!"}},{"$f":"-SUM(AB7:AB14)","v":{"$error":"#DIV/0!"}},null,null,null,{"$f":"SUM(AF7:AF14)","v":{"$error":"#DIV/0!"}},{"$f":"-SUM(AG7:AG14)","v":{"$error":"#DIV/0!"}},null,null,null,{"$f":"SUM(AK7:AK14)","v":{"$error":"#DIV/0!"}},{"$f":"-SUM(AL7:AL14)","v":{"$error":"#DIV/0!"}},null,null,null,{"$f":"SUM(AP7:AP14)","v":{"$error":"#DIV/0!"}},{"$f":"-SUM(AQ7:AQ14)","v":{"$error":"#DIV/0!"}},null,null,null,{"$f":"SUM(AU7:AU14)","v":{"$error":"#DIV/0!"}},{"$f":"-SUM(AV7:AV14)","v":{"$error":"#DIV/0!"}}]
[21,1211,21,1218,21,1257,null,null,null,null,0,222,null,null,null,"U=",{"$f":"Q15/(LOG(Q4)/LOG(2))","v":3.0877354779509855E-2},null,null,null,null,"U1=",{"$f":"W15/(LOG(W4)/LOG(2))","v":0},null,null,null,"U2=",{"$f":"AB15/(LOG(AB4)/LOG(2))","v":{"$error":"#DIV/0!"}},null,null,null,"U3=",{"$f":"AG15/(LOG(AG4)/LOG(2))","v":{"$error":"#DIV/0!"}},null,null,null,"U4=",{"$f":"AL15/(LOG(AL4)/LOG(2))","v":{"$error":"#DIV/0!"}},null,null,null,"U5=",{"$f":"AQ15/(LOG(AQ4)/LOG(2))","v":{"$error":"#DIV/0!"}},null,null,null,"U6=",{"$f":"AV15/(LOG(AV4)/LOG(2))","v":{"$error":"#DIV/0!"}}]
[21,1373,21,1380,21,1435,null,null,null,null,0,222]
[21,1534,21,1545,21,1589,null,null,null,null,0,222]
[21,1696,21,1703,21,1710,null,null,null,null,0,222,null,"Total Target Seq"]
[21,1890,21,1920,21,1931,null,null,null,null,0,222,null,{"$f":"COUNTIF(L7:L47,G3)","v":40},null,7,7,6,7,7,7]
[21,2037,21,2044,21,2056,null,null,null,null,0,222,null,null,null,"% of reinforcement given in 6 equal intervals based on number of trials "]
[21,2149,21,2167,21,2176,null,null,null,null,0,222,null,null,null,"%_1","%_2","%_3","%_4","%_5","%_6"]
[21,2323,21,2340,21,2384,null,null,null,null,0,222,null,null,"target sequence",{"$f":"$G$3","v":222},{"$f":"$G$3","v":222},{"$f":"$G$3","v":222},{"$f":"$G$3","v":222},{"$f":"$G$3","v":222},{"$f":"$G$3","v":222}]
[21,2480,21,2504,21,2519,null,null,null,null,0,222,null,null,"total reinforcement",{"$f":"U14","v":6},{"$f":"Z14","v":7},{"$f":"AE14","v":6},{"$f":"AJ14","v":7},{"$f":"AO14","v":7},{"$f":"AT14","v":7}]
[21,2638,21,2645,21,2686,null,null,null,null,0,222,null,null,"% target"]
[21,2793,21,2803,21,2827,null,null,null,null,0,222,null,null,"CCRF"]
[21,2922,21,2929,21,2971,null,null,null,null,0,222,null,null,"% CCRf"]
[21,3066,21,3086,21,3116,null,null,null,null,0,222,null,null,"average response rate",{"$f":"F13/P20","v":114.42857142857143},{"$f":"(F20-F13)/Q20","v":161.42857142857142},{"$f":"(F26-F20)/R20","v":149.33333333333334},{"$f":"(F33-F26)/S20","v":141},{"$f":"(F40-F33)/T20","v":152.42857142857142},{"$f":"(F47-F40)/U20","v":175.85714285714286}]
[21,3223,21,3229,21,3238,null,null,null,null,0,222]
[21,3343,21,3356,21,3412,null,null,null,null,0,222]
[21,3513,21,3525,21,3556,null,null,null,null,0,222]
[21,3652,21,3658,21,3677,null,null,null,null,0,222]
[21,3788,21,3803,21,3814,null,null,null,null,0,222]
[21,3927,21,3935,21,3996,null,null,null,null,0,222]
[21,4088,21,4095,21,4124,null,null,null,null,0,222]
[21,4222,21,4227,21,4303,null,null,null,null,0,222]
[21,4408,21,4417,21,4435,null,null,null,null,0,222]
[21,4587,21,4608,21,4628,null,null,null,null,0,222]
[21,4725,21,4738,21,4747,null,null,null,null,0,222]
[21,4860,21,4871,21,4881,null,null,null,null,0,222]
[21,5008,21,5110,21,5123,null,null,null,null,0,222]
[21,5270,21,5284,21,5295,null,null,null,null,0,222]
[21,5461,21,5468,21,5475,null,null,null,null,0,222]
[21,5592,21,5631,21,5664,null,null,null,null,0,222]
[21,5794,21,5799,21,5832,null,null,null,null,0,222]
[21,5939,21,5949,21,5957,null,null,null,null,0,222]
[21,6094,21,6101,21,6112,null,null,null,null,1,222]

{"sheet":"!M328A5I.sha","index":21,"n_rows":46,"n_cols":48,"rows_kept":46,"cut":false,"hidden":false,"merged":[[4,39,4,42],[5,39,5,40],[4,44,4,47],[5,44,5,45],[4,24,4,27],[5,24,5,25],[4,29,4,32],[5,29,5,30],[4,34,4,37],[5,34,5,35],[1,1,1,2],[5,13,5,14],[18,13,18,14],[19,13,19,14],[4,19,4,22],[5,19,5,20]]}
["Report for:!M328A5I.sha"]
["Date:","<date>"]
["Hen:","<hen>",null,null,null,"Correct Sequence",{"$f":"Start!J2","v":222},null,null,null,null,null,null,null,null,"Total Sequences in Data",{"$f":"4994-COUNTBLANK(L7:L5000)","v":40},null,null,null,null,"Total Sequences in Block Data",{"$f":"COUNTA(L7:L13)","v":7},null,null,null,"Total Sequences in Block Data",{"$f":"COUNTA(L14:L19)","v":6},null,null,null,"Total Sequences in Block Data",{"$f":"COUNTA(L20:L26)","v":7},null,null,null,"Total Sequences in Block Data",{"$f":"COUNTA(L27:L33)","v":7},null,null,null,"Total Sequences in Block Data",{"$f":"COUNTA(L34:L39)","v":6},null,null,null,"Total Sequences in Block Data",{"$f":"COUNTA(L40:L46)","v":7}]
[null,null,null,null,null,null,null,null,null,null,null,null,null,null,null,"Total Sequences in Summary",{"$f":"SUM(O7:O14)","v":40},null,null,null,null,"Total Sequences in Block Summary",{"$f":"SUM(U7:U14)","v":7},null,null,null,"Total Sequences in Block Summary",{"$f":"SUM(Z7:Z14)","v":6},null,null,null,"Total Sequences in Block Summary",{"$f":"SUM(AE7:AE14)","v":7},null,null,null,"Total Sequences in Block Summary",{"$f":"SUM(AJ7:AJ14)","v":7},null,null,null,"Total Sequences in Block Summary",{"$f":"SUM(AO7:AO14)","v":6},null,null,null,"Total Sequences in Block Summary",{"$f":"SUM(AT7:AT14)","v":7}]
[null,null,null,null,null,null,null,null,null,null,null,null,null,null,null,null,null,null,null,"Block 1",null,null,null,null,"Block 2",null,null,null,null,"Block 3",null,null,null,null,"Block 4",null,null,null,null,"Block 5",null,null,null,null,"Block 6"]
["Sequence\nComponent\n1","Time\n1","Sequence\nComponent\n2","Time\n2","Sequence\nComponent\n3","Time\n3","Sequence\nComponent\n4","Time\n4","Sequence\nComponent\n5","Time\n5","Correct?\n0=No 1=Yes","Sequence",null,"Frequency",null,"Relative Frequency","Variability",null,null,"Frequency",null,"Relative Frequency","Variability",null,"Frequency",null,"Relative Frequency","Variability",null,"Frequency",null,"Relative Frequency","Variability",null,"Frequency",null,"Relative Frequency","Variability",null,"Frequency",null,"Relative Frequency","Variability",null,"Frequency",null,"Relative Frequency","Variability"]
[21,10,21,32,21,37,null,null,null,null,0,222,null,111,{"$f":"COUNTIF($L$7:$L$500,N7)","v":0},{"$f":"O7/$Q$4","v":0},{"$f":"IF(P7=0,0,(P7*((LOG(P7))/LOG(2))))","v":0},null,null,{"$f":"N7","v":111},{"$f":"COUNTIF(L7:L13,T7)","v":0},{"$f":"U7/(W4-U14)","v":{"$error":"#DIV/0!"}},{"$f":"IF(V7=0,0,(V7*((LOG(V7))/LOG(2))))","v":{"$error":"#DIV/0!"}},null,{"$f":"N7","v":111},{"$f":"COUNTIF(L14:L19,Y7)","v":0},{"$f":"Z7/(AB4-Z14)","v":{"$error":"#DIV/0!"}},{"$f":"IF(AA7=0,0,(AA7*((LOG(AA7))/LOG(2))))","v":{"$error":"#DIV/0!"}},null,{"$f":"N7","v":111},{"$f":"COUNTIF(L20:L26,AD7)","v":0},{"$f":"AE7/(AG4-AE14)","v":{"$error":"#DIV/0!"}},{"$f":"IF(AF7=0,0,(AF7*((LOG(AF7))/LOG(2))))","v":{"$error":"#DIV/0!"}},null,{"$f":"N7","v":111},{"$f":"COUNTIF(L27:L33,AI7)","v":0},{"$f":"AJ7/(AL4-AJ14)","v":{"$error":"#DIV/0!"}},{"$f":"IF(AK7=0,0,(AK7*((LOG(AK7))/LOG(2))))","v":{"$error":"#DIV/0!"}},null,{"$f":"N7","v":111},{"$f":"COUNTIF(L34:L39,AN7)","v":0},{"$f":"AO7/(AQ4-AO14)","v":{"$error":"#DIV/0!"}},{"$f":"IF(AP7=0,0,(AP7*((LOG(AP7))/LOG(2))))","v":{"$error":"#DIV/0!"}},null,{"$f":"N7","v":111},{"$f":"COUNTIF(L40:L46,AS7)","v":0},{"$f":"AT7/(AV4-AT14)","v":{"$error":"#DIV/0!"}},{"$f":"IF(AU7=0,0,(AU7*((LOG(AU7))/LOG(2))))","v":{"$error":"#DIV/0!"}}]
[21,132,21,136,21,147,null,null,null,null,0,222,null,112,{"$f":"COUNTIF($L$7:$L$500,N8)","v":0},{"$f":"O8/$Q$4","v":0},{"$f":"IF(P8=0,0,(P8*((LOG(P8))/LOG(2))))","v":0},null,null,{"$f":"N8","v":112},{"$f":"COUNTIF(L7:L13,T8)","v":0},{"$f":"U8/(W4-U14)","v":{"$error":"#DIV/0!"}},{"$f":"IF(V8=0,0,(V8*((LOG(V8))/LOG(2))))","v":{"$error":"#DIV/0!"}},null,{"$f":"N8","v":112},{"$f":"COUNTIF(L14:L19,Y8)","v":0},{"$f":"Z8/(AB4-Z14)","v":{"$error":"#DIV/0!"}},{"$f":"IF(AA8=0,0,(AA8*((LOG(AA8))/LOG(2))))","v":{"$error":"#DIV/0!"}},null,{"$f":"N8","v":112},{"$f":"COUNTIF(L20:L26,AD8)","v":0},{"$f":"AE8/(AG4-AE14)","v":{"$error":"#DIV/0!"}},{"$f":"IF(AF8=0,0,(AF8*((LOG(AF8))/LOG(2))))","v":{"$error":"#DIV/0!"}},null,{"$f":"N8","v":112},{"$f":"COUNTIF(L27:L33,AI8)","v":0},{"$f":"AJ8/(AL4-AJ14)","v":{"$error":"#DIV/0!"}},{"$f":"IF(AK8=0,0,(AK8*((LOG(AK8))/LOG(2))))","v":{"$error":"#DIV/0!"}},null,{"$f":"N8","v":112},{"$f":"COUNTIF(L34:L39,AN8)","v":0},{"$f":"AO8/(AQ4-AO14)","v":{"$error":"#DIV/0!"}},{"$f":"IF(AP8=0,0,(AP8*((LOG(AP8))/LOG(2))))","v":{"$error":"#DIV/0!"}},null,{"$f":"N8","v":112},{"$f":"COUNTIF(L40:L46,AS8)","v":0},{"$f":"AT8/(AV4-AT14)","v":{"$error":"#DIV/0!"}},{"$f":"IF(AU8=0,0,(AU8*((LOG(AU8))/LOG(2))))","v":{"$error":"#DIV/0!"}}]
[21,240,21,258,21,283,null,null,null,null,0,222,null,121,{"$f":"COUNTIF($L$7:$L$500,N9)","v":0},{"$f":"O9/$Q$4","v":0},{"$f":"IF(P9=0,0,(P9*((LOG(P9))/LOG(2))))","v":0},null,null,{"$f":"N9","v":121},{"$f":"COUNTIF(L7:L13,T9)","v":0},{"$f":"U9/(W4-U14)","v":{"$error":"#DIV/0!"}},{"$f":"IF(V9=0,0,(V9*((LOG(V9))/LOG(2))))","v":{"$error":"#DIV/0!"}},null,{"$f":"N9","v":121},{"$f":"COUNTIF(L14:L19,Y9)","v":0},{"$f":"Z9/(AB4-Z14)","v":{"$error":"#DIV/0!"}},{"$f":"IF(AA9=0,0,(AA9*((LOG(AA9))/LOG(2))))","v":{"$error":"#DIV/0!"}},null,{"$f":"N9","v":121},{"$f":"COUNTIF(L20:L26,AD9)","v":0},{"$f":"AE9/(AG4-AE14)","v":{"$error":"#DIV/0!"}},{"$f":"IF(AF9=0,0,(AF9*((LOG(AF9))/LOG(2))))","v":{"$error":"#DIV/0!"}},null,{"$f":"N9","v":121},{"$f":"COUNTIF(L27:L33,AI9)","v":0},{"$f":"AJ9/(AL4-AJ14)","v":{"$error":"#DIV/0!"}},{"$f":"IF(AK9=0,0,(AK9*((LOG(AK9))/LOG(2))))","v":{"$error":"#DIV/0!"}},null,{"$f":"N9","v":121},{"$f":"COUNTIF(L34:L39,AN9)","v":0},{"$f":"AO9/(AQ4-AO14)","v":{"$error":"#DIV/0!"}},{"$f":"IF(AP9=0,0,(AP9*((LOG(AP9))/LOG(2))))","v":{"$error":"#DIV/0!"}},null,{"$f":"N9","v":121},{"$f":"COUNTIF(L40:L46,AS9)","v":0},{"$f":"AT9/(AV4-AT14)","v":{"$error":"#DIV/0!"}},{"$f":"IF(AU9=0,0,(AU9*((LOG(AU9))/LOG(2))))","v":{"$error":"#DIV/0!"}}]
[21,376,21,384,21,392,null,null,null,null,0,222,null,122,{"$f":"COUNTIF($L$7:$L$500,N10)","v":0},{"$f":"O10/$Q$4","v":0},{"$f":"IF(P10=0,0,(P10*((LOG(P10))/LOG(2))))","v":0},null,null,{"$f":"N10","v":122},{"$f":"COUNTIF(L7:L13,T10)","v":0},{"$f":"U10/(W4-U14)","v":{"$error":"#DIV/0!"}},{"$f":"IF(V10=0,0,(V10*((LOG(V10))/LOG(2))))","v":{"$error":"#DIV/0!"}},null,{"$f":"N10","v":122},{"$f":"COUNTIF(L14:L19,Y10)","v":0},{"$f":"Z10/(AB4-Z14)","v":{"$error":"#DIV/0!"}},{"$f":"IF(AA10=0,0,(AA10*((LOG(AA10))/LOG(2))))","v":{"$error":"#DIV/0!"}},null,{"$f":"N10","v":122},{"$f":"COUNTIF(L20:L26,AD10)","v":0},{"$f":"AE10/(AG4-AE14)","v":{"$error":"#DIV/0!"}},{"$f":"IF(AF10=0,0,(AF10*((LOG(AF10))/LOG(2))))","v":{"$error":"#DIV/0!"}},null,{"$f":"N10","v":122},{"$f":"COUNTIF(L27:L33,AI10)","v":0},{"$f":"AJ10/(AL4-AJ14)","v":{"$error":"#DIV/0!"}},{"$f":"IF(AK10=0,0,(AK10*((LOG(AK10))/LOG(2))))","v":{"$error":"#DIV/0!"}},null,{"$f":"N10","v":122},{"$f":"COUNTIF(L34:L39,AN10)","v":0},{"$f":"AO10/(AQ4-AO14)","v":{"$error":"#DIV/0!"}},{"$f":"IF(AP10=0,0,(AP10*((LOG(AP10))/LOG(2))))","v":{"$error":"#DIV/0!"}},null,{"$f":"N10","v":122},{"$f":"COUNTIF(L40:L46,AS10)","v":0},{"$f":"AT10/(AV4-AT14)","v":{"$error":"#DIV/0!"}},{"$f":"IF(AU10=0,0,(AU10*((LOG(AU10))/LOG(2))))","v":{"$error":"#DIV/0!"}}]
[21,484,21,491,21,522,null,null,null,null,0,222,null,211,{"$f":"COUNTIF($L$7:$L$500,N11)","v":0},{"$f":"O11/$Q$4","v":0},{"$f":"IF(P11=0,0,(P11*((LOG(P11))/LOG(2))))","v":0},null,null,{"$f":"N11","v":211},{"$f":"COUNTIF(L7:L13,T11)","v":0},{"$f":"U11/(W4-U14)","v":{"$error":"#DIV/0!"}},{"$f":"IF(V11=0,0,(V11*((LOG(V11))/LOG(2))))","v":{"$error":"#DIV/0!"}},null,{"$f":"N11","v":211},{"$f":"COUNTIF(L14:L19,Y11)","v":0},{"$f":"Z11/(AB4-Z14)","v":{"$error":"#DIV/0!"}},{"$f":"IF(AA11=0,0,(AA11*((LOG(AA11))/LOG(2))))","v":{"$error":"#DIV/0!"}},null,{"$f":"N11","v":211},{"$f":"COUNTIF(L20:L26,AD11)","v":0},{"$f":"AE11/(AG4-AE14)","v":{"$error":"#DIV/0!"}},{"$f":"IF(AF11=0,0,(AF11*((LOG(AF11))/LOG(2))))","v":{"$error":"#DIV/0!"}},null,{"$f":"N11","v":211},{"$f":"COUNTIF(L27:L33,AI11)","v":0},{"$f":"AJ11/(AL4-AJ14)","v":{"$error":"#DIV/0!"}},{"$f":"IF(AK11=0,0,(AK11*((LOG(AK11))/LOG(2))))","v":{"$error":"#DIV/0!"}},null,{"$f":"N11","v":211},{"$f":"COUNTIF(L34:L39,AN11)","v":0},{"$f":"AO11/(AQ4-AO14)","v":{"$error":"#DIV/0!"}},{"$f":"IF(AP11=0,0,(AP11*((LOG(AP11))/LOG(2))))","v":{"$error":"#DIV/0!"}},null,{"$f":"N11","v":211},{"$f":"COUNTIF(L40:L46,AS11)","v":0},{"$f":"AT11/(AV4-AT14)","v":{"$error":"#DIV/0!"}},{"$f":"IF(AU11=0,0,(AU11*((LOG(AU11))/LOG(2))))","v":{"$error":"#DIV/0!"}}]
[21,624,21,629,21,641,null,null,null,null,0,222,null,212,{"$f":"COUNTIF($L$7:$L$500,N12)","v":0},{"$f":"O12/$Q$4","v":0},{"$f":"IF(P12=0,0,(P12*((LOG(P12))/LOG(2))))","v":0},null,null,{"$f":"N12","v":212},{"$f":"COUNTIF(L7:L13,T12)","v":0},{"$f":"U12/(W4-U14)","v":{"$error":"#DIV/0!"}},{"$f":"IF(V12=0,0,(V12*((LOG(V12))/LOG(2))))","v":{"$error":"#DIV/0!"}},null,{"$f":"N12","v":212},{"$f":"COUNTIF(L14:L19,Y12)","v":0},{"$f":"Z12/(AB4-Z14)","v":{"$error":"#DIV/0!"}},{"$f":"IF(AA12=0,0,(AA12*((LOG(AA12))/LOG(2))))","v":{"$error":"#DIV/0!"}},null,{"$f":"N12","v":212},{"$f":"COUNTIF(L20:L26,AD12)","v":0},{"$f":"AE12/(AG4-AE14)","v":{"$error":"#DIV/0!"}},{"$f":"IF(AF12=0,0,(AF12*((LOG(AF12))/LOG(2))))","v":{"$error":"#DIV/0!"}},null,{"$f":"N12","v":212},{"$f":"COUNTIF(L27:L33,AI12)","v":0},{"$f":"AJ12/(AL4-AJ14)","v":{"$error":"#DIV/0!"}},{"$f":"IF(AK12=0,0,(AK12*((LOG(AK12))/LOG(2))))","v":{"$error":"#DIV/0!"}},null,{"$f":"N12","v":212},{"$f":"COUNTIF(L34:L39,AN12)","v":0},{"$f":"AO12/(AQ4-AO14)","v":{"$error":"#DIV/0!"}},{"$f":"IF(AP12=0,0,(AP12*((LOG(AP12))/LOG(2))))","v":{"$error":"#DIV/0!"}},null,{"$f":"N12","v":212},{"$f":"COUNTIF(L40:L46,AS12)","v":0},{"$f":"AT12/(AV4-AT14)","v":{"$error":"#DIV/0!"}},{"$f":"IF(AU12=0,0,(AU12*((LOG(AU12))/LOG(2))))","v":{"$error":"#DIV/0!"}}]
[21,737,21,748,21,756,null,null,null,null,0,222,null,221,{"$f":"COUNTIF($L$7:$L$500,N13)","v":0},{"$f":"O13/$Q$4","v":0},{"$f":"IF(P13=0,0,(P13*((LOG(P13))/LOG(2))))","v":0},null,null,{"$f":"N13","v":221},{"$f":"COUNTIF(L7:L13,T13)","v":0},{"$f":"U13/(W4-U14)","v":{"$error":"#DIV/0!"}},{"$f":"IF(V13=0,0,(V13*((LOG(V13))/LOG(2))))","v":{"$error":"#DIV/0!"}},null,{"$f":"N13","v":221},{"$f":"COUNTIF(L14:L19,Y13)","v":0},{"$f":"Z13/(AB4-Z14)","v":{"$error":"#DIV/0!"}},{"$f":"IF(AA13=0,0,(AA13*((LOG(AA13))/LOG(2))))","v":{"$error":"#DIV/0!"}},null,{"$f":"N13","v":221},{"$f":"COUNTIF(L20:L26,AD13)","v":0},{"$f":"AE13/(AG4-AE14)","v":{"$error":"#DIV/0!"}},{"$f":"IF(AF13=0,0,(AF13*((LOG(AF13))/LOG(2))))","v":{"$error":"#DIV/0!"}},null,{"$f":"N13","v":221},{"$f":"COUNTIF(L27:L33,AI13)","v":0},{"$f":"AJ13/(AL4-AJ14)","v":{"$error":"#DIV/0!"}},{"$f":"IF(AK13=0,0,(AK13*((LOG(AK13))/LOG(2))))","v":{"$error":"#DIV/0!"}},null,{"$f":"N13","v":221},{"$f":"COUNTIF(L34:L39,AN13)","v":0},{"$f":"AO13/(AQ4-AO14)","v":{"$error":"#DIV/0!"}},{"$f":"IF(AP13=0,0,(AP13*((LOG(AP13))/LOG(2))))","v":{"$error":"#DIV/0!"}},null,{"$f":"N13","v":221},{"$f":"COUNTIF(L40:L46,AS13)","v":0},{"$f":"AT13/(AV4-AT14)","v":{"$error":"#DIV/0!"}},{"$f":"IF(AU13=0,0,(AU13*((LOG(AU13))/LOG(2))))","v":{"$error":"#DIV/0!"}}]
[21,886,21,934,21,968,null,null,null,null,0,222,null,222,{"$f":"COUNTIF($L$7:$L$500,N14)","v":40},{"$f":"O14/$Q$4","v":1},{"$f":"IF(P14=0,0,(P14*((LOG(P14))/LOG(2))))","v":0},null,null,{"$f":"N14","v":222},{"$f":"COUNTIF(L7:L13,T14)","v":7},null,null,null,{"$f":"N14","v":222},{"$f":"COUNTIF(L14:L19,Y14)","v":6},null,null,null,{"$f":"N14","v":222},{"$f":"COUNTIF(L20:L26,AD14)","v":7},null,null,null,{"$f":"N14","v":222},{"$f":"COUNTIF(L27:L33,AI14)","v":7},null,null,null,{"$f":"N14","v":222},{"$f":"COUNTIF(L34:L39,AN14)","v":6},null,null,null,{"$f":"N14","v":222},{"$f":"COUNTIF(L40:L46,AS14)","v":7}]
[21,1062,21,1068,21,1076,null,null,null,null,0,222,null,null,null,{"$f":"SUM(P7:P14)","v":1},{"$f":"-SUM(Q7:Q14)","v":0},null,null,null,null,{"$f":"SUM(V7:V14)","v":{"$error":"#DIV/0!"}},{"$f":"-SUM(W7:W14)","v":{"$error":"#DIV/0!"}},null,null,null,{"$f":"SUM(AA7:AA14)","v":{"$error":"#DIV/0!"}},{"$f":"-SUM(AB7:AB14)","v":{"$error":"#DIV/0!"}},null,null,null,{"$f":"SUM(AF7:AF14)","v":{"$error":"#DIV/0!"}},{"$f":"-SUM(AG7:AG14)","v":{"$error":"#DIV/0!"}},null,null,null,{"$f":"SUM(AK7:AK14)","v":{"$error":"#DIV/0!"}},{"$f":"-SUM(AL7:AL14)","v":{"$error":"#DIV/0!"}},null,null,null,{"$f":"SUM(AP7:AP14)","v":{"$error":"#DIV/0!"}},{"$f":"-SUM(AQ7:AQ14)","v":{"$error":"#DIV/0!"}},null,null,null,{"$f":"SUM(AU7:AU14)","v":{"$error":"#DIV/0!"}},{"$f":"-SUM(AV7:AV14)","v":{"$error":"#DIV/0!"}}]
[21,1203,21,1209,21,1219,null,null,null,null,0,222,null,null,null,"U=",{"$f":"Q15/(LOG(Q4)/LOG(2))","v":0},null,null,null,null,"U1=",{"$f":"W15/(LOG(W4)/LOG(2))","v":{"$error":"#DIV/0!"}},null,null,null,"U2=",{"$f":"AB15/(LOG(AB4)/LOG(2))","v":{"$error":"#DIV/0!"}},null,null,null,"U3=",{"$f":"AG15/(LOG(AG4)/LOG(2))","v":{"$error":"#DIV/0!"}},null,null,null,"U4=",{"$f":"AL15/(LOG(AL4)/LOG(2))","v":{"$error":"#DIV/0!"}},null,null,null,"U5=",{"$f":"AQ15/(LOG(AQ4)/LOG(2))","v":{"$error":"#DIV/0!"}},null,null,null,"U6=",{"$f":"AV15/(LOG(AV4)/LOG(2))","v":{"$error":"#DIV/0!"}}]
[21,1348,21,1377,21,1385,null,null,null,null,0,222]
[21,1486,21,1496,21,1506,null,null,null,null,0,222]
[21,1600,21,1630,21,1662,null,null,null,null,0,222,null,"Total Target Seq"]
[21,1759,21,1765,21,1789,null,null,null,null,0,222,null,{"$f":"COUNTIF(L7:L46,G3)","v":40},null,7,6,7,7,6,7]
[21,1900,21,1906,21,1931,null,null,null,null,0,222,null,null,null,"% of reinforcement given in 6 equal intervals based on number of trials "]
[21,2119,21,2126,21,2131,null,null,null,null,0,222,null,null,null,"%_1","%_2","%_3","%_4","%_5","%_6"]
[21,2239,21,2264,21,2283,null,null,null,null,0,222,null,null,"target sequence",{"$f":"$G$3","v":222},{"$f":"$G$3","v":222},{"$f":"$G$3","v":222},{"$f":"$G$3","v":222},{"$f":"$G$3","v":222},{"$f":"$G$3","v":222}]
[21,2378,21,2383,21,2393,null,null,null,null,0,222,null,null,"total reinforcement",{"$f":"U14","v":7},{"$f":"Z14","v":6},{"$f":"AE14","v":7},{"$f":"AJ14","v":7},{"$f":"AO14","v":6},{"$f":"AT14","v":7}]
[21,2486,21,2496,21,2525,null,null,null,null,0,222,null,null,"% target"]
[21,2630,21,2653,21,2688,null,null,null,null,0,222,null,null,"CCRF"]
[21,2782,21,2787,21,2792,null,null,null,null,0,222,null,null,"% CCRf"]
[21,2892,21,2899,21,2930,null,null,null,null,0,222,null,null,"average response rate",{"$f":"F13/P20","v":108},{"$f":"(F19-F13)/Q20","v":151},{"$f":"(F26-F19)/R20","v":146.57142857142858},{"$f":"(F33-F26)/S20","v":155},{"$f":"(F39-F33)/T20","v":194.33333333333334},{"$f":"(F46-F39)/U20","v":175.28571428571428}]
[21,3044,21,3059,21,3088,null,null,null,null,0,222]
[21,3216,21,3220,21,3226,null,null,null,null,0,222]
[21,3368,21,3419,21,3431,null,null,null,null,0,222]
[21,3556,21,3561,21,3604,null,null,null,null,0,222]
[21,3743,21,3753,21,3773,null,null,null,null,0,222]
[21,3885,21,3891,21,3916,null,null,null,null,0,222]
[21,4043,21,4051,21,4057,null,null,null,null,0,222]
[21,4212,21,4219,21,4298,null,null,null,null,0,222]
[21,4475,21,4496,21,4535,null,null,null,null,0,222]
[21,4719,21,4724,21,4739,null,null,null,null,0,222]
[21,4855,21,4910,21,4939,null,null,null,null,0,222]
[21,5104,21,5110,21,5118,null,null,null,null,0,222]
[21,5242,21,5253,21,5268,null,null,null,null,0,222]
[21,5409,21,5467,21,5526,null,null,null,null,0,222]
[21,5627,21,5638,21,5652,null,null,null,null,0,222]
[21,5756,21,5762,21,5786,null,null,null,null,0,222]
[21,5951,21,5960,21,5971,null,null,null,null,0,222]
[21,6096,21,6105,21,6166,null,null,null,null,1,222]

{"sheet":"!M32995I.sha","index":22,"n_rows":47,"n_cols":48,"rows_kept":47,"cut":false,"hidden":false,"merged":[[4,39,4,42],[5,39,5,40],[4,44,4,47],[5,44,5,45],[4,24,4,27],[5,24,5,25],[4,29,4,32],[5,29,5,30],[4,34,4,37],[5,34,5,35],[1,1,1,2],[5,13,5,14],[18,13,18,14],[19,13,19,14],[4,19,4,22],[5,19,5,20]]}
["Report for:!M32995I.sha"]
["Date:","<date>"]
["Hen:","<hen>",null,null,null,"Correct Sequence",{"$f":"Start!J2","v":222},null,null,null,null,null,null,null,null,"Total Sequences in Data",{"$f":"4994-COUNTBLANK(L7:L5000)","v":41},null,null,null,null,"Total Sequences in Block Data",{"$f":"COUNTA(L7:L13)","v":7},null,null,null,"Total Sequences in Block Data",{"$f":"COUNTA(L14:L20)","v":7},null,null,null,"Total Sequences in Block Data",{"$f":"COUNTA(L21:L26)","v":6},null,null,null,"Total Sequences in Block Data",{"$f":"COUNTA(L27:L33)","v":7},null,null,null,"Total Sequences in Block Data",{"$f":"COUNTA(L34:L40)","v":7},null,null,null,"Total Sequences in Block Data",{"$f":"COUNTA(L41:L47)","v":7}]
[null,null,null,null,null,null,null,null,null,null,null,null,null,null,null,"Total Sequences in Summary",{"$f":"SUM(O7:O14)","v":41},null,null,null,null,"Total Sequences in Block Summary",{"$f":"SUM(U7:U14)","v":7},null,null,null,"Total Sequences in Block Summary",{"$f":"SUM(Z7:Z14)","v":7},null,null,null,"Total Sequences in Block Summary",{"$f":"SUM(AE7:AE14)","v":6},null,null,null,"Total Sequences in Block Summary",{"$f":"SUM(AJ7:AJ14)","v":7},null,null,null,"Total Sequences in Block Summary",{"$f":"SUM(AO7:AO14)","v":7},null,null,null,"Total Sequences in Block Summary",{"$f":"SUM(AT7:AT14)","v":7}]
[null,null,null,null,null,null,null,null,null,null,null,null,null,null,null,null,null,null,null,"Block 1",null,null,null,null,"Block 2",null,null,null,null,"Block 3",null,null,null,null,"Block 4",null,null,null,null,"Block 5",null,null,null,null,"Block 6"]
["Sequence\nComponent\n1","Time\n1","Sequence\nComponent\n2","Time\n2","Sequence\nComponent\n3","Time\n3","Sequence\nComponent\n4","Time\n4","Sequence\nComponent\n5","Time\n5","Correct?\n0=No 1=Yes","Sequence",null,"Frequency",null,"Relative Frequency","Variability",null,null,"Frequency",null,"Relative Frequency","Variability",null,"Frequency",null,"Relative Frequency","Variability",null,"Frequency",null,"Relative Frequency","Variability",null,"Frequency",null,"Relative Frequency","Variability",null,"Frequency",null,"Relative Frequency","Variability",null,"Frequency",null,"Relative Frequency","Variability"]
[12,17,23,30,23,35,null,null,null,null,0,122,null,111,{"$f":"COUNTIF($L$7:$L$500,N7)","v":0},{"$f":"O7/$Q$4","v":0},{"$f":"IF(P7=0,0,(P7*((LOG(P7))/LOG(2))))","v":0},null,null,{"$f":"N7","v":111},{"$f":"COUNTIF(L7:L13,T7)","v":0},{"$f":"U7/(W4-U14)","v":0},{"$f":"IF(V7=0,0,(V7*((LOG(V7))/LOG(2))))","v":0},null,{"$f":"N7","v":111},{"$f":"COUNTIF(L14:L20,Y7)","v":0},{"$f":"Z7/(AB4-Z14)","v":{"$error":"#DIV/0!"}},{"$f":"IF(AA7=0,0,(AA7*((LOG(AA7))/LOG(2))))","v":{"$error":"#DIV/0!"}},null,{"$f":"N7","v":111},{"$f":"COUNTIF(L21:L26,AD7)","v":0},{"$f":"AE7/(AG4-AE14)","v":{"$error":"#DIV/0!"}},{"$f":"IF(AF7=0,0,(AF7*((LOG(AF7))/LOG(2))))","v":{"$error":"#DIV/0!"}},null,{"$f":"N7","v":111},{"$f":"COUNTIF(L27:L33,AI7)","v":0},{"$f":"AJ7/(AL4-AJ14)","v":{"$error":"#DIV/0!"}},{"$f":"IF(AK7=0,0,(AK7*((LOG(AK7))/LOG(2))))","v":{"$error":"#DIV/0!"}},null,{"$f":"N7","v":111},{"$f":"COUNTIF(L34:L40,AN7)","v":0},{"$f":"AO7/(AQ4-AO14)","v":{"$error":"#DIV/0!"}},{"$f":"IF(AP7=0,0,(AP7*((LOG(AP7))/LOG(2))))","v":{"$error":"#DIV/0!"}},null,{"$f":"N7","v":111},{"$f":"COUNTIF(L41:L47,AS7)","v":0},{"$f":"AT7/(AV4-AT14)","v":{"$error":"#DIV/0!"}},{"$f":"IF(AU7=0,0,(AU7*((LOG(AU7))/LOG(2))))","v":{"$error":"#DIV/0!"}}]
[21,131,21,155,21,160,null,null,null,null,0,222,null,112,{"$f":"COUNTIF($L$7:$L$500,N8)","v":0},{"$f":"O8/$Q$4","v":0},{"$f":"IF(P8=0,0,(P8*((LOG(P8))/LOG(2))))","v":0},null,null,{"$f":"N8","v":112},{"$f":"COUNTIF(L7:L13,T8)","v":0},{"$f":"U8/(W4-U14)","v":0},{"$f":"IF(V8=0,0,(V8*((LOG(V8))/LOG(2))))","v":0},null,{"$f":"N8","v":112},{"$f":"COUNTIF(L14:L20,Y8)","v":0},{"$f":"Z8/(AB4-Z14)","v":{"$error":"#DIV/0!"}},{"$f":"IF(AA8=0,0,(AA8*((LOG(AA8))/LOG(2))))","v":{"$error":"#DIV/0!"}},null,{"$f":"N8","v":112},{"$f":"COUNTIF(L21:L26,AD8)","v":0},{"$f":"AE8/(AG4-AE14)","v":{"$error":"#DIV/0!"}},{"$f":"IF(AF8=0,0,(AF8*((LOG(AF8))/LOG(2))))","v":{"$error":"#DIV/0!"}},null,{"$f":"N8","v":112},{"$f":"COUNTIF(L27:L33,AI8)","v":0},{"$f":"AJ8/(AL4-AJ14)","v":{"$error":"#DIV/0!"}},{"$f":"IF(AK8=0,0,(AK8*((LOG(AK8))/LOG(2))))","v":{"$error":"#DIV/0!"}},null,{"$f":"N8","v":112},{"$f":"COUNTIF(L34:L40,AN8)","v":0},{"$f":"AO8/(AQ4-AO14)","v":{"$error":"#DIV/0!"}},{"$f":"IF(AP8=0,0,(AP8*((LOG(AP8))/LOG(2))))","v":{"$error":"#DIV/0!"}},null,{"$f":"N8","v":112},{"$f":"COUNTIF(L41:L47,AS8)","v":0},{"$f":"AT8/(AV4-AT14)","v":{"$error":"#DIV/0!"}},{"$f":"IF(AU8=0,0,(AU8*((LOG(AU8))/LOG(2))))","v":{"$error":"#DIV/0!"}}]
[21,254,21,265,21,294,null,null,null,null,0,222,null,121,{"$f":"COUNTIF($L$7:$L$500,N9)","v":0},{"$f":"O9/$Q$4","v":0},{"$f":"IF(P9=0,0,(P9*((LOG(P9))/LOG(2))))","v":0},null,null,{"$f":"N9","v":121},{"$f":"COUNTIF(L7:L13,T9)","v":0},{"$f":"U9/(W4-U14)","v":0},{"$f":"IF(V9=0,0,(V9*((LOG(V9))/LOG(2))))","v":0},null,{"$f":"N9","v":121},{"$f":"COUNTIF(L14:L20,Y9)","v":0},{"$f":"Z9/(AB4-Z14)","v":{"$error":"#DIV/0!"}},{"$f":"IF(AA9=0,0,(AA9*((LOG(AA9))/LOG(2))))","v":{"$error":"#DIV/0!"}},null,{"$f":"N9","v":121},{"$f":"COUNTIF(L21:L26,AD9)","v":0},{"$f":"AE9/(AG4-AE14)","v":{"$error":"#DIV/0!"}},{"$f":"IF(AF9=0,0,(AF9*((LOG(AF9))/LOG(2))))","v":{"$error":"#DIV/0!"}},null,{"$f":"N9","v":121},{"$f":"COUNTIF(L27:L33,AI9)","v":0},{"$f":"AJ9/(AL4-AJ14)","v":{"$error":"#DIV/0!"}},{"$f":"IF(AK9=0,0,(AK9*((LOG(AK9))/LOG(2))))","v":{"$error":"#DIV/0!"}},null,{"$f":"N9","v":121},{"$f":"COUNTIF(L34:L40,AN9)","v":0},{"$f":"AO9/(AQ4-AO14)","v":{"$error":"#DIV/0!"}},{"$f":"IF(AP9=0,0,(AP9*((LOG(AP9))/LOG(2))))","v":{"$error":"#DIV/0!"}},null,{"$f":"N9","v":121},{"$f":"COUNTIF(L41:L47,AS9)","v":0},{"$f":"AT9/(AV4-AT14)","v":{"$error":"#DIV/0!"}},{"$f":"IF(AU9=0,0,(AU9*((LOG(AU9))/LOG(2))))","v":{"$error":"#DIV/0!"}}]
[21,400,21,410,21,419,null,null,null,null,0,222,null,122,{"$f":"COUNTIF($L$7:$L$500,N10)","v":1},{"$f":"O10/$Q$4","v":2.4390243902439025E-2},{"$f":"IF(P10=0,0,(P10*((LOG(P10))/LOG(2))))","v":-0.13067200011263619},null,null,{"$f":"N10","v":122},{"$f":"COUNTIF(L7:L13,T10)","v":1},{"$f":"U10/(W4-U14)","v":1},{"$f":"IF(V10=0,0,(V10*((LOG(V10))/LOG(2))))","v":0},null,{"$f":"N10","v":122},{"$f":"COUNTIF(L14:L20,Y10)","v":0},{"$f":"Z10/(AB4-Z14)","v":{"$error":"#DIV/0!"}},{"$f":"IF(AA10=0,0,(AA10*((LOG(AA10))/LOG(2))))","v":{"$error":"#DIV/0!"}},null,{"$f":"N10","v":122},{"$f":"COUNTIF(L21:L26,AD10)","v":0},{"$f":"AE10/(AG4-AE14)","v":{"$error":"#DIV/0!"}},{"$f":"IF(AF10=0,0,(AF10*((LOG(AF10))/LOG(2))))","v":{"$error":"#DIV/0!"}},null,{"$f":"N10","v":122},{"$f":"COUNTIF(L27:L33,AI10)","v":0},{"$f":"AJ10/(AL4-AJ14)","v":{"$error":"#DIV/0!"}},{"$f":"IF(AK10=0,0,(AK10*((LOG(AK10))/LOG(2))))","v":{"$error":"#DIV/0!"}},null,{"$f":"N10","v":122},{"$f":"COUNTIF(L34:L40,AN10)","v":0},{"$f":"AO10/(AQ4-AO14)","v":{"$error":"#DIV/0!"}},{"$f":"IF(AP10=0,0,(AP10*((LOG(AP10))/LOG(2))))","v":{"$error":"#DIV/0!"}},null,{"$f":"N10","v":122},{"$f":"COUNTIF(L41:L47,AS10)","v":0},{"$f":"AT10/(AV4-AT14)","v":{"$error":"#DIV/0!"}},{"$f":"IF(AU10=0,0,(AU10*((LOG(AU10))/LOG(2))))","v":{"$error":"#DIV/0!"}}]
[21,533,21,556,21,567,null,null,null,null,0,222,null,211,{"$f":"COUNTIF($L$7:$L$500,N11)","v":0},{"$f":"O11/$Q$4","v":0},{"$f":"IF(P11=0,0,(P11*((LOG(P11))/LOG(2))))","v":0},null,null,{"$f":"N11","v":211},{"$f":"COUNTIF(L7:L13,T11)","v":0},{"$f":"U11/(W4-U14)","v":0},{"$f":"IF(V11=0,0,(V11*((LOG(V11))/LOG(2))))","v":0},null,{"$f":"N11","v":211},{"$f":"COUNTIF(L14:L20,Y11)","v":0},{"$f":"Z11/(AB4-Z14)","v":{"$error":"#DIV/0!"}},{"$f":"IF(AA11=0,0,(AA11*((LOG(AA11))/LOG(2))))","v":{"$error":"#DIV/0!"}},null,{"$f":"N11","v":211},{"$f":"COUNTIF(L21:L26,AD11)","v":0},{"$f":"AE11/(AG4-AE14)","v":{"$error":"#DIV/0!"}},{"$f":"IF(AF11=0,0,(AF11*((LOG(AF11))/LOG(2))))","v":{"$error":"#DIV/0!"}},null,{"$f":"N11","v":211},{"$f":"COUNTIF(L27:L33,AI11)","v":0},{"$f":"AJ11/(AL4-AJ14)","v":{"$error":"#DIV/0!"}},{"$f":"IF(AK11=0,0,(AK11*((LOG(AK11))/LOG(2))))","v":{"$error":"#DIV/0!"}},null,{"$f":"N11","v":211},{"$f":"COUNTIF(L34:L40,AN11)","v":0},{"$f":"AO11/(AQ4-AO14)","v":{"$error":"#DIV/0!"}},{"$f":"IF(AP11=0,0,(AP11*((LOG(AP11))/LOG(2))))","v":{"$error":"#DIV/0!"}},null,{"$f":"N11","v":211},{"$f":"COUNTIF(L41:L47,AS11)","v":0},{"$f":"AT11/(AV4-AT14)","v":{"$error":"#DIV/0!"}},{"$f":"IF(AU11=0,0,(AU11*((LOG(AU11))/LOG(2))))","v":{"$error":"#DIV/0!"}}]
[21,684,21,751,21,763,null,null,null,null,0,222,null,212,{"$f":"COUNTIF($L$7:$L$500,N12)","v":0},{"$f":"O12/$Q$4","v":0},{"$f":"IF(P12=0,0,(P12*((LOG(P12))/LOG(2))))","v":0},null,null,{"$f":"N12","v":212},{"$f":"COUNTIF(L7:L13,T12)","v":0},{"$f":"U12/(W4-U14)","v":0},{"$f":"IF(V12=0,0,(V12*((LOG(V12))/LOG(2))))","v":0},null,{"$f":"N12","v":212},{"$f":"COUNTIF(L14:L20,Y12)","v":0},{"$f":"Z12/(AB4-Z14)","v":{"$error":"#DIV/0!"}},{"$f":"IF(AA12=0,0,(AA12*((LOG(AA12))/LOG(2))))","v":{"$error":"#DIV/0!"}},null,{"$f":"N12","v":212},{"$f":"COUNTIF(L21:L26,AD12)","v":0},{"$f":"AE12/(AG4-AE14)","v":{"$error":"#DIV/0!"}},{"$f":"IF(AF12=0,0,(AF12*((LOG(AF12))/LOG(2))))","v":{"$error":"#DIV/0!"}},null,{"$f":"N12","v":212},{"$f":"COUNTIF(L27:L33,AI12)","v":0},{"$f":"AJ12/(AL4-AJ14)","v":{"$error":"#DIV/0!"}},{"$f":"IF(AK12=0,0,(AK12*((LOG(AK12))/LOG(2))))","v":{"$error":"#DIV/0!"}},null,{"$f":"N12","v":212},{"$f":"COUNTIF(L34:L40,AN12)","v":0},{"$f":"AO12/(AQ4-AO14)","v":{"$error":"#DIV/0!"}},{"$f":"IF(AP12=0,0,(AP12*((LOG(AP12))/LOG(2))))","v":{"$error":"#DIV/0!"}},null,{"$f":"N12","v":212},{"$f":"COUNTIF(L41:L47,AS12)","v":0},{"$f":"AT12/(AV4-AT14)","v":{"$error":"#DIV/0!"}},{"$f":"IF(AU12=0,0,(AU12*((LOG(AU12))/LOG(2))))","v":{"$error":"#DIV/0!"}}]
[21,861,21,866,21,902,null,null,null,null,0,222,null,221,{"$f":"COUNTIF($L$7:$L$500,N13)","v":0},{"$f":"O13/$Q$4","v":0},{"$f":"IF(P13=0,0,(P13*((LOG(P13))/LOG(2))))","v":0},null,null,{"$f":"N13","v":221},{"$f":"COUNTIF(L7:L13,T13)","v":0},{"$f":"U13/(W4-U14)","v":0},{"$f":"IF(V13=0,0,(V13*((LOG(V13))/LOG(2))))","v":0},null,{"$f":"N13","v":221},{"$f":"COUNTIF(L14:L20,Y13)","v":0},{"$f":"Z13/(AB4-Z14)","v":{"$error":"#DIV/0!"}},{"$f":"IF(AA13=0,0,(AA13*((LOG(AA13))/LOG(2))))","v":{"$error":"#DIV/0!"}},null,{"$f":"N13","v":221},{"$f":"COUNTIF(L21:L26,AD13)","v":0},{"$f":"AE13/(AG4-AE14)","v":{"$error":"#DIV/0!"}},{"$f":"IF(AF13=0,0,(AF13*((LOG(AF13))/LOG(2))))","v":{"$error":"#DIV/0!"}},null,{"$f":"N13","v":221},{"$f":"COUNTIF(L27:L33,AI13)","v":0},{"$f":"AJ13/(AL4-AJ14)","v":{"$error":"#DIV/0!"}},{"$f":"IF(AK13=0,0,(AK13*((LOG(AK13))/LOG(2))))","v":{"$error":"#DIV/0!"}},null,{"$f":"N13","v":221},{"$f":"COUNTIF(L34:L40,AN13)","v":0},{"$f":"AO13/(AQ4-AO14)","v":{"$error":"#DIV/0!"}},{"$f":"IF(AP13=0,0,(AP13*((LOG(AP13))/LOG(2))))","v":{"$error":"#DIV/0!"}},null,{"$f":"N13","v":221},{"$f":"COUNTIF(L41:L47,AS13)","v":0},{"$f":"AT13/(AV4-AT14)","v":{"$error":"#DIV/0!"}},{"$f":"IF(AU13=0,0,(AU13*((LOG(AU13))/LOG(2))))","v":{"$error":"#DIV/0!"}}]
[21,999,21,1006,21,1036,null,null,null,null,0,222,null,222,{"$f":"COUNTIF($L$7:$L$500,N14)","v":40},{"$f":"O14/$Q$4","v":0.97560975609756095},{"$f":"IF(P14=0,0,(P14*((LOG(P14))/LOG(2))))","v":-3.4755033883630611E-2},null,null,{"$f":"N14","v":222},{"$f":"COUNTIF(L7:L13,T14)","v":6},null,null,null,{"$f":"N14","v":222},{"$f":"COUNTIF(L14:L20,Y14)","v":7},null,null,null,{"$f":"N14","v":222},{"$f":"COUNTIF(L21:L26,AD14)","v":6},null,null,null,{"$f":"N14","v":222},{"$f":"COUNTIF(L27:L33,AI14)","v":7},null,null,null,{"$f":"N14","v":222},{"$f":"COUNTIF(L34:L40,AN14)","v":7},null,null,null,{"$f":"N14","v":222},{"$f":"COUNTIF(L41:L47,AS14)","v":7}]
[21,1147,21,1170,21,1179,null,null,null,null,0,222,null,null,null,{"$f":"SUM(P7:P14)","v":1},{"$f":"-SUM(Q7:Q14)","v":0.16542703399626679},null,null,null,null,{"$f":"SUM(V7:V14)","v":1},{"$f":"-SUM(W7:W14)","v":0},null,null,null,{"$f":"SUM(AA7:AA14)","v":{"$error":"#DIV/0!"}},{"$f":"-SUM(AB7:AB14)","v":{"$error":"#DIV/0!"}},null,null,null,{"$f":"SUM(AF7:AF14)","v":{"$error":"#DIV/0!"}},{"$f":"-SUM(AG7:AG14)","v":{"$error":"#DIV/0!"}},null,null,null,{"$f":"SUM(AK7:AK14)","v":{"$error":"#DIV/0!"}},{"$f":"-SUM(AL7:AL14)","v":{"$error":"#DIV/0!"}},null,null,null,{"$f":"SUM(AP7:AP14)","v":{"$error":"#DIV/0!"}},{"$f":"-SUM(AQ7:AQ14)","v":{"$error":"#DIV/0!"}},null,null,null,{"$f":"SUM(AU7:AU14)","v":{"$error":"#DIV/0!"}},{"$f":"-SUM(AV7:AV14)","v":{"$error":"#DIV/0!"}}]
[21,1288,21,1294,21,1315,null,null,null,null,0,222,null,null,null,"U=",{"$f":"Q15/(LOG(Q4)/LOG(2))","v":3.0877354779509855E-2},null,null,null,null,"U1=",{"$f":"W15/(LOG(W4)/LOG(2))","v":0},null,null,null,"U2=",{"$f":"AB15/(LOG(AB4)/LOG(2))","v":{"$error":"#DIV/0!"}},null,null,null,"U3=",{"$f":"AG15/(LOG(AG4)/LOG(2))","v":{"$error":"#DIV/0!"}},null,null,null,"U4=",{"$f":"AL15/(LOG(AL4)/LOG(2))","v":{"$error":"#DIV/0!"}},null,null,null,"U5=",{"$f":"AQ15/(LOG(AQ4)/LOG(2))","v":{"$error":"#DIV/0!"}},null,null,null,"U6=",{"$f":"AV15/(LOG(AV4)/LOG(2))","v":{"$error":"#DIV/0!"}}]
[21,1471,21,1491,21,1529,null,null,null,null,0,222]
[21,1646,21,1666,21,1684,null,null,null,null,0,222]
[21,1782,21,1788,21,1795,null,null,null,null,0,222,null,"Total Target Seq"]
[21,1937,21,2006,21,2018,null,null,null,null,0,222,null,{"$f":"COUNTIF(L7:L47,G3)","v":40},null,7,7,6,7,7,7]
[21,2120,21,2126,21,2154,null,null,null,null,0,222,null,null,null,"% of reinforcement given in 6 equal intervals based on number of trials "]
[21,2255,21,2257,21,2270,null,null,null,null,0,222,null,null,null,"%_1","%_2","%_3","%_4","%_5","%_6"]
[21,2370,21,2377,21,2421,null,null,null,null,0,222,null,null,"target sequence",{"$f":"$G$3","v":222},{"$f":"$G$3","v":222},{"$f":"$G$3","v":222},{"$f":"$G$3","v":222},{"$f":"$G$3","v":222},{"$f":"$G$3","v":222}]
[21,2520,21,2541,21,2573,null,null,null,null,0,222,null,null,"total reinforcement",{"$f":"U14","v":6},{"$f":"Z14","v":7},{"$f":"AE14","v":6},{"$f":"AJ14","v":7},{"$f":"AO14","v":7},{"$f":"AT14","v":7}]
[21,2705,21,2712,21,2734,null,null,null,null,0,222,null,null,"% target"]
[21,2847,21,2853,21,2904,null,null,null,null,0,222,null,null,"CCRF"]
[21,3016,21,3047,21,3063,null,null,null,null,0,222,null,null,"% CCRf"]
[21,3158,21,3190,21,3200,null,null,null,null,0,222,null,null,"average response rate",{"$f":"F13/P20","v":128.85714285714286},{"$f":"(F20-F13)/Q20","v":159.42857142857142},{"$f":"(F26-F20)/R20","v":147.66666666666666},{"$f":"(F33-F26)/S20","v":152.71428571428572},{"$f":"(F40-F33)/T20","v":159.42857142857142},{"$f":"(F47-F40)/U20","v":146.85714285714286}]
[21,3338,21,3394,21,3409,null,null,null,null,0,222]
[21,3533,21,3544,21,3554,null,null,null,null,0,222]
[21,3647,21,3653,21,3661,null,null,null,null,0,222]
[21,3762,21,3775,21,3799,null,null,null,null,0,222]
[21,3957,21,3965,21,3973,null,null,null,null,0,222]
[21,4072,21,4087,21,4102,null,null,null,null,0,222]
[21,4213,21,4231,21,4246,null,null,null,null,0,222]
[21,4365,21,4369,21,4454,null,null,null,null,0,222]
[21,4553,21,4559,21,4591,null,null,null,null,0,222]
[21,4717,21,4730,21,4766,null,null,null,null,0,222]
[21,4874,21,4882,21,4895,null,null,null,null,0,222]
[21,5036,21,5076,21,5089,null,null,null,null,0,222]
[21,5231,21,5237,21,5272,null,null,null,null,0,222]
[21,5380,21,5403,21,5422,null,null,null,null,0,222]
[21,5528,21,5540,21,5568,null,null,null,null,0,222]
[21,5660,21,5675,21,5724,null,null,null,null,0,222]
[21,5856,21,5863,21,5872,null,null,null,null,0,222]
[21,5966,21,5973,21,5990,null,null,null,null,0,222]
[21,6098,21,6105,21,6117,null,null,null,null,1,222]

{"sheet":"!M330A2I.sha","index":23,"n_rows":46,"n_cols":48,"rows_kept":46,"cut":false,"hidden":false,"merged":[[4,39,4,42],[5,39,5,40],[4,44,4,47],[5,44,5,45],[4,24,4,27],[5,24,5,25],[4,29,4,32],[5,29,5,30],[4,34,4,37],[5,34,5,35],[1,1,1,2],[5,13,5,14],[18,13,18,14],[19,13,19,14],[4,19,4,22],[5,19,5,20]]}
["Report for:!M330A2I.sha"]
["Date:","<date>"]
["Hen:","<hen>",null,null,null,"Correct Sequence",{"$f":"Start!J2","v":222},null,null,null,null,null,null,null,null,"Total Sequences in Data",{"$f":"4994-COUNTBLANK(L7:L5000)","v":40},null,null,null,null,"Total Sequences in Block Data",{"$f":"COUNTA(L7:L13)","v":7},null,null,null,"Total Sequences in Block Data",{"$f":"COUNTA(L14:L19)","v":6},null,null,null,"Total Sequences in Block Data",{"$f":"COUNTA(L20:L26)","v":7},null,null,null,"Total Sequences in Block Data",{"$f":"COUNTA(L27:L33)","v":7},null,null,null,"Total Sequences in Block Data",{"$f":"COUNTA(L34:L39)","v":6},null,null,null,"Total Sequences in Block Data",{"$f":"COUNTA(L40:L46)","v":7}]
[null,null,null,null,null,null,null,null,null,null,null,null,null,null,null,"Total Sequences in Summary",{"$f":"SUM(O7:O14)","v":40},null,null,null,null,"Total Sequences in Block Summary",{"$f":"SUM(U7:U14)","v":7},null,null,null,"Total Sequences in Block Summary",{"$f":"SUM(Z7:Z14)","v":6},null,null,null,"Total Sequences in Block Summary",{"$f":"SUM(AE7:AE14)","v":7},null,null,null,"Total Sequences in Block Summary",{"$f":"SUM(AJ7:AJ14)","v":7},null,null,null,"Total Sequences in Block Summary",{"$f":"SUM(AO7:AO14)","v":6},null,null,null,"Total Sequences in Block Summary",{"$f":"SUM(AT7:AT14)","v":7}]
[null,null,null,null,null,null,null,null,null,null,null,null,null,null,null,null,null,null,null,"Block 1",null,null,null,null,"Block 2",null,null,null,null,"Block 3",null,null,null,null,"Block 4",null,null,null,null,"Block 5",null,null,null,null,"Block 6"]
["Sequence\nComponent\n1","Time\n1","Sequence\nComponent\n2","Time\n2","Sequence\nComponent\n3","Time\n3","Sequence\nComponent\n4","Time\n4","Sequence\nComponent\n5","Time\n5","Correct?\n0=No 1=Yes","Sequence",null,"Frequency",null,"Relative Frequency","Variability",null,null,"Frequency",null,"Relative Frequency","Variability",null,"Frequency",null,"Relative Frequency","Variability",null,"Frequency",null,"Relative Frequency","Variability",null,"Frequency",null,"Relative Frequency","Variability",null,"Frequency",null,"Relative Frequency","Variability",null,"Frequency",null,"Relative Frequency","Variability"]
[21,5,21,25,21,29,null,null,null,null,0,222,null,111,{"$f":"COUNTIF($L$7:$L$500,N7)","v":0},{"$f":"O7/$Q$4","v":0},{"$f":"IF(P7=0,0,(P7*((LOG(P7))/LOG(2))))","v":0},null,null,{"$f":"N7","v":111},{"$f":"COUNTIF(L7:L13,T7)","v":0},{"$f":"U7/(W4-U14)","v":{"$error":"#DIV/0!"}},{"$f":"IF(V7=0,0,(V7*((LOG(V7))/LOG(2))))","v":{"$error":"#DIV/0!"}},null,{"$f":"N7","v":111},{"$f":"COUNTIF(L14:L19,Y7)","v":0},{"$f":"Z7/(AB4-Z14)","v":{"$error":"#DIV/0!"}},{"$f":"IF(AA7=0,0,(AA7*((LOG(AA7))/LOG(2))))","v":{"$error":"#DIV/0!"}},null,{"$f":"N7","v":111},{"$f":"COUNTIF(L20:L26,AD7)","v":0},{"$f":"AE7/(AG4-AE14)","v":{"$error":"#DIV/0!"}},{"$f":"IF(AF7=0,0,(AF7*((LOG(AF7))/LOG(2))))","v":{"$error":"#DIV/0!"}},null,{"$f":"N7","v":111},{"$f":"COUNTIF(L27:L33,AI7)","v":0},{"$f":"AJ7/(AL4-AJ14)","v":{"$error":"#DIV/0!"}},{"$f":"IF(AK7=0,0,(AK7*((LOG(AK7))/LOG(2))))","v":{"$error":"#DIV/0!"}},null,{"$f":"N7","v":111},{"$f":"COUNTIF(L34:L39,AN7)","v":0},{"$f":"AO7/(AQ4-AO14)","v":{"$error":"#DIV/0!"}},{"$f":"IF(AP7=0,0,(AP7*((LOG(AP7))/LOG(2))))","v":{"$error":"#DIV/0!"}},null,{"$f":"N7","v":111},{"$f":"COUNTIF(L40:L46,AS7)","v":0},{"$f":"AT7/(AV4-AT14)","v":{"$error":"#DIV/0!"}},{"$f":"IF(AU7=0,0,(AU7*((LOG(AU7))/LOG(2))))","v":{"$error":"#DIV/0!"}}]
[21,131,21,142,21,151,null,null,null,null,0,222,null,112,{"$f":"COUNTIF($L$7:$L$500,N8)","v":0},{"$f":"O8/$Q$4","v":0},{"$f":"IF(P8=0,0,(P8*((LOG(P8))/LOG(2))))","v":0},null,null,{"$f":"N8","v":112},{"$f":"COUNTIF(L7:L13,T8)","v":0},{"$f":"U8/(W4-U14)","v":{"$error":"#DIV/0!"}},{"$f":"IF(V8=0,0,(V8*((LOG(V8))/LOG(2))))","v":{"$error":"#DIV/0!"}},null,{"$f":"N8","v":112},{"$f":"COUNTIF(L14:L19,Y8)","v":0},{"$f":"Z8/(AB4-Z14)","v":{"$error":"#DIV/0!"}},{"$f":"IF(AA8=0,0,(AA8*((LOG(AA8))/LOG(2))))","v":{"$error":"#DIV/0!"}},null,{"$f":"N8","v":112},{"$f":"COUNTIF(L20:L26,AD8)","v":0},{"$f":"AE8/(AG4-AE14)","v":{"$error":"#DIV/0!"}},{"$f":"IF(AF8=0,0,(AF8*((LOG(AF8))/LOG(2))))","v":{"$error":"#DIV/0!"}},null,{"$f":"N8","v":112},{"$f":"COUNTIF(L27:L33,AI8)","v":0},{"$f":"AJ8/(AL4-AJ14)","v":{"$error":"#DIV/0!"}},{"$f":"IF(AK8=0,0,(AK8*((LOG(AK8))/LOG(2))))","v":{"$error":"#DIV/0!"}},null,{"$f":"N8","v":112},{"$f":"COUNTIF(L34:L39,AN8)","v":0},{"$f":"AO8/(AQ4-AO14)","v":{"$error":"#DIV/0!"}},{"$f":"IF(AP8=0,0,(AP8*((LOG(AP8))/LOG(2))))","v":{"$error":"#DIV/0!"}},null,{"$f":"N8","v":112},{"$f":"COUNTIF(L40:L46,AS8)","v":0},{"$f":"AT8/(AV4-AT14)","v":{"$error":"#DIV/0!"}},{"$f":"IF(AU8=0,0,(AU8*((LOG(AU8))/LOG(2))))","v":{"$error":"#DIV/0!"}}]
[21,250,21,263,21,308,null,null,null,null,0,222,null,121,{"$f":"COUNTIF($L$7:$L$500,N9)","v":0},{"$f":"O9/$Q$4","v":0},{"$f":"IF(P9=0,0,(P9*((LOG(P9))/LOG(2))))","v":0},null,null,{"$f":"N9","v":121},{"$f":"COUNTIF(L7:L13,T9)","v":0},{"$f":"U9/(W4-U14)","v":{"$error":"#DIV/0!"}},{"$f":"IF(V9=0,0,(V9*((LOG(V9))/LOG(2))))","v":{"$error":"#DIV/0!"}},null,{"$f":"N9","v":121},{"$f":"COUNTIF(L14:L19,Y9)","v":0},{"$f":"Z9/(AB4-Z14)","v":{"$error":"#DIV/0!"}},{"$f":"IF(AA9=0,0,(AA9*((LOG(AA9))/LOG(2))))","v":{"$error":"#DIV/0!"}},null,{"$f":"N9","v":121},{"$f":"COUNTIF(L20:L26,AD9)","v":0},{"$f":"AE9/(AG4-AE14)","v":{"$error":"#DIV/0!"}},{"$f":"IF(AF9=0,0,(AF9*((LOG(AF9))/LOG(2))))","v":{"$error":"#DIV/0!"}},null,{"$f":"N9","v":121},{"$f":"COUNTIF(L27:L33,AI9)","v":0},{"$f":"AJ9/(AL4-AJ14)","v":{"$error":"#DIV/0!"}},{"$f":"IF(AK9=0,0,(AK9*((LOG(AK9))/LOG(2))))","v":{"$error":"#DIV/0!"}},null,{"$f":"N9","v":121},{"$f":"COUNTIF(L34:L39,AN9)","v":0},{"$f":"AO9/(AQ4-AO14)","v":{"$error":"#DIV/0!"}},{"$f":"IF(AP9=0,0,(AP9*((LOG(AP9))/LOG(2))))","v":{"$error":"#DIV/0!"}},null,{"$f":"N9","v":121},{"$f":"COUNTIF(L40:L46,AS9)","v":0},{"$f":"AT9/(AV4-AT14)","v":{"$error":"#DIV/0!"}},{"$f":"IF(AU9=0,0,(AU9*((LOG(AU9))/LOG(2))))","v":{"$error":"#DIV/0!"}}]
[21,415,21,420,21,429,null,null,null,null,0,222,null,122,{"$f":"COUNTIF($L$7:$L$500,N10)","v":0},{"$f":"O10/$Q$4","v":0},{"$f":"IF(P10=0,0,(P10*((LOG(P10))/LOG(2))))","v":0},null,null,{"$f":"N10","v":122},{"$f":"COUNTIF(L7:L13,T10)","v":0},{"$f":"U10/(W4-U14)","v":{"$error":"#DIV/0!"}},{"$f":"IF(V10=0,0,(V10*((LOG(V10))/LOG(2))))","v":{"$error":"#DIV/0!"}},null,{"$f":"N10","v":122},{"$f":"COUNTIF(L14:L19,Y10)","v":0},{"$f":"Z10/(AB4-Z14)","v":{"$error":"#DIV/0!"}},{"$f":"IF(AA10=0,0,(AA10*((LOG(AA10))/LOG(2))))","v":{"$error":"#DIV/0!"}},null,{"$f":"N10","v":122},{"$f":"COUNTIF(L20:L26,AD10)","v":0},{"$f":"AE10/(AG4-AE14)","v":{"$error":"#DIV/0!"}},{"$f":"IF(AF10=0,0,(AF10*((LOG(AF10))/LOG(2))))","v":{"$error":"#DIV/0!"}},null,{"$f":"N10","v":122},{"$f":"COUNTIF(L27:L33,AI10)","v":0},{"$f":"AJ10/(AL4-AJ14)","v":{"$error":"#DIV/0!"}},{"$f":"IF(AK10=0,0,(AK10*((LOG(AK10))/LOG(2))))","v":{"$error":"#DIV/0!"}},null,{"$f":"N10","v":122},{"$f":"COUNTIF(L34:L39,AN10)","v":0},{"$f":"AO10/(AQ4-AO14)","v":{"$error":"#DIV/0!"}},{"$f":"IF(AP10=0,0,(AP10*((LOG(AP10))/LOG(2))))","v":{"$error":"#DIV/0!"}},null,{"$f":"N10","v":122},{"$f":"COUNTIF(L40:L46,AS10)","v":0},{"$f":"AT10/(AV4-AT14)","v":{"$error":"#DIV/0!"}},{"$f":"IF(AU10=0,0,(AU10*((LOG(AU10))/LOG(2))))","v":{"$error":"#DIV/0!"}}]
[21,551,21,561,21,570,null,null,null,null,0,222,null,211,{"$f":"COUNTIF($L$7:$L$500,N11)","v":0},{"$f":"O11/$Q$4","v":0},{"$f":"IF(P11=0,0,(P11*((LOG(P11))/LOG(2))))","v":0},null,null,{"$f":"N11","v":211},{"$f":"COUNTIF(L7:L13,T11)","v":0},{"$f":"U11/(W4-U14)","v":{"$error":"#DIV/0!"}},{"$f":"IF(V11=0,0,(V11*((LOG(V11))/LOG(2))))","v":{"$error":"#DIV/0!"}},null,{"$f":"N11","v":211},{"$f":"COUNTIF(L14:L19,Y11)","v":0},{"$f":"Z11/(AB4-Z14)","v":{"$error":"#DIV/0!"}},{"$f":"IF(AA11=0,0,(AA11*((LOG(AA11))/LOG(2))))","v":{"$error":"#DIV/0!"}},null,{"$f":"N11","v":211},{"$f":"COUNTIF(L20:L26,AD11)","v":0},{"$f":"AE11/(AG4-AE14)","v":{"$error":"#DIV/0!"}},{"$f":"IF(AF11=0,0,(AF11*((LOG(AF11))/LOG(2))))","v":{"$error":"#DIV/0!"}},null,{"$f":"N11","v":211},{"$f":"COUNTIF(L27:L33,AI11)","v":0},{"$f":"AJ11/(AL4-AJ14)","v":{"$error":"#DIV/0!"}},{"$f":"IF(AK11=0,0,(AK11*((LOG(AK11))/LOG(2))))","v":{"$error":"#DIV/0!"}},null,{"$f":"N11","v":211},{"$f":"COUNTIF(L34:L39,AN11)","v":0},{"$f":"AO11/(AQ4-AO14)","v":{"$error":"#DIV/0!"}},{"$f":"IF(AP11=0,0,(AP11*((LOG(AP11))/LOG(2))))","v":{"$error":"#DIV/0!"}},null,{"$f":"N11","v":211},{"$f":"COUNTIF(L40:L46,AS11)","v":0},{"$f":"AT11/(AV4-AT14)","v":{"$error":"#DIV/0!"}},{"$f":"IF(AU11=0,0,(AU11*((LOG(AU11))/LOG(2))))","v":{"$error":"#DIV/0!"}}]
[21,674,21,680,21,689,null,null,null,null,0,222,null,212,{"$f":"COUNTIF($L$7:$L$500,N12)","v":0},{"$f":"O12/$Q$4","v":0},{"$f":"IF(P12=0,0,(P12*((LOG(P12))/LOG(2))))","v":0},null,null,{"$f":"N12","v":212},{"$f":"COUNTIF(L7:L13,T12)","v":0},{"$f":"U12/(W4-U14)","v":{"$error":"#DIV/0!"}},{"$f":"IF(V12=0,0,(V12*((LOG(V12))/LOG(2))))","v":{"$error":"#DIV/0!"}},null,{"$f":"N12","v":212},{"$f":"COUNTIF(L14:L19,Y12)","v":0},{"$f":"Z12/(AB4-Z14)","v":{"$error":"#DIV/0!"}},{"$f":"IF(AA12=0,0,(AA12*((LOG(AA12))/LOG(2))))","v":{"$error":"#DIV/0!"}},null,{"$f":"N12","v":212},{"$f":"COUNTIF(L20:L26,AD12)","v":0},{"$f":"AE12/(AG4-AE14)","v":{"$error":"#DIV/0!"}},{"$f":"IF(AF12=0,0,(AF12*((LOG(AF12))/LOG(2))))","v":{"$error":"#DIV/0!"}},null,{"$f":"N12","v":212},{"$f":"COUNTIF(L27:L33,AI12)","v":0},{"$f":"AJ12/(AL4-AJ14)","v":{"$error":"#DIV/0!"}},{"$f":"IF(AK12=0,0,(AK12*((LOG(AK12))/LOG(2))))","v":{"$error":"#DIV/0!"}},null,{"$f":"N12","v":212},{"$f":"COUNTIF(L34:L39,AN12)","v":0},{"$f":"AO12/(AQ4-AO14)","v":{"$error":"#DIV/0!"}},{"$f":"IF(AP12=0,0,(AP12*((LOG(AP12))/LOG(2))))","v":{"$error":"#DIV/0!"}},null,{"$f":"N12","v":212},{"$f":"COUNTIF(L40:L46,AS12)","v":0},{"$f":"AT12/(AV4-AT14)","v":{"$error":"#DIV/0!"}},{"$f":"IF(AU12=0,0,(AU12*((LOG(AU12))/LOG(2))))","v":{"$error":"#DIV/0!"}}]
[21,805,21,821,21,871,null,null,null,null,0,222,null,221,{"$f":"COUNTIF($L$7:$L$500,N13)","v":0},{"$f":"O13/$Q$4","v":0},{"$f":"IF(P13=0,0,(P13*((LOG(P13))/LOG(2))))","v":0},null,null,{"$f":"N13","v":221},{"$f":"COUNTIF(L7:L13,T13)","v":0},{"$f":"U13/(W4-U14)","v":{"$error":"#DIV/0!"}},{"$f":"IF(V13=0,0,(V13*((LOG(V13))/LOG(2))))","v":{"$error":"#DIV/0!"}},null,{"$f":"N13","v":221},{"$f":"COUNTIF(L14:L19,Y13)","v":0},{"$f":"Z13/(AB4-Z14)","v":{"$error":"#DIV/0!"}},{"$f":"IF(AA13=0,0,(AA13*((LOG(AA13))/LOG(2))))","v":{"$error":"#DIV/0!"}},null,{"$f":"N13","v":221},{"$f":"COUNTIF(L20:L26,AD13)","v":0},{"$f":"AE13/(AG4-AE14)","v":{"$error":"#DIV/0!"}},{"$f":"IF(AF13=0,0,(AF13*((LOG(AF13))/LOG(2))))","v":{"$error":"#DIV/0!"}},null,{"$f":"N13","v":221},{"$f":"COUNTIF(L27:L33,AI13)","v":0},{"$f":"AJ13/(AL4-AJ14)","v":{"$error":"#DIV/0!"}},{"$f":"IF(AK13=0,0,(AK13*((LOG(AK13))/LOG(2))))","v":{"$error":"#DIV/0!"}},null,{"$f":"N13","v":221},{"$f":"COUNTIF(L34:L39,AN13)","v":0},{"$f":"AO13/(AQ4-AO14)","v":{"$error":"#DIV/0!"}},{"$f":"IF(AP13=0,0,(AP13*((LOG(AP13))/LOG(2))))","v":{"$error":"#DIV/0!"}},null,{"$f":"N13","v":221},{"$f":"COUNTIF(L40:L46,AS13)","v":0},{"$f":"AT13/(AV4-AT14)","v":{"$error":"#DIV/0!"}},{"$f":"IF(AU13=0,0,(AU13*((LOG(AU13))/LOG(2))))","v":{"$error":"#DIV/0!"}}]
[21,1006,21,1018,21,1028,null,null,null,null,0,222,null,222,{"$f":"COUNTIF($L$7:$L$500,N14)","v":40},{"$f":"O14/$Q$4","v":1},{"$f":"IF(P14=0,0,(P14*((LOG(P14))/LOG(2))))","v":0},null,null,{"$f":"N14","v":222},{"$f":"COUNTIF(L7:L13,T14)","v":7},null,null,null,{"$f":"N14","v":222},{"$f":"COUNTIF(L14:L19,Y14)","v":6},null,null,null,{"$f":"N14","v":222},{"$f":"COUNTIF(L20:L26,AD14)","v":7},null,null,null,{"$f":"N14","v":222},{"$f":"COUNTIF(L27:L33,AI14)","v":7},null,null,null,{"$f":"N14","v":222},{"$f":"COUNTIF(L34:L39,AN14)","v":6},null,null,null,{"$f":"N14","v":222},{"$f":"COUNTIF(L40:L46,AS14)","v":7}]
[21,1123,21,1132,21,1162,null,null,null,null,0,222,null,null,null,{"$f":"SUM(P7:P14)","v":1},{"$f":"-SUM(Q7:Q14)","v":0},null,null,null,null,{"$f":"SUM(V7:V14)","v":{"$error":"#DIV/0!"}},{"$f":"-SUM(W7:W14)","v":{"$error":"#DIV/0!"}},null,null,null,{"$f":"SUM(AA7:AA14)","v":{"$error":"#DIV/0!"}},{"$f":"-SUM(AB7:AB14)","v":{"$error":"#DIV/0!"}},null,null,null,{"$f":"SUM(AF7:AF14)","v":{"$error":"#DIV/0!"}},{"$f":"-SUM(AG7:AG14)","v":{"$error":"#DIV/0!"}},null,null,null,{"$f":"SUM(AK7:AK14)","v":{"$error":"#DIV/0!"}},{"$f":"-SUM(AL7:AL14)","v":{"$error":"#DIV/0!"}},null,null,null,{"$f":"SUM(AP7:AP14)","v":{"$error":"#DIV/0!"}},{"$f":"-SUM(AQ7:AQ14)","v":{"$error":"#DIV/0!"}},null,null,null,{"$f":"SUM(AU7:AU14)","v":{"$error":"#DIV/0!"}},{"$f":"-SUM(AV7:AV14)","v":{"$error":"#DIV/0!"}}]
[21,1257,21,1303,21,1323,null,null,null,null,0,222,null,null,null,"U=",{"$f":"Q15/(LOG(Q4)/LOG(2))","v":0},null,null,null,null,"U1=",{"$f":"W15/(LOG(W4)/LOG(2))","v":{"$error":"#DIV/0!"}},null,null,null,"U2=",{"$f":"AB15/(LOG(AB4)/LOG(2))","v":{"$error":"#DIV/0!"}},null,null,null,"U3=",{"$f":"AG15/(LOG(AG4)/LOG(2))","v":{"$error":"#DIV/0!"}},null,null,null,"U4=",{"$f":"AL15/(LOG(AL4)/LOG(2))","v":{"$error":"#DIV/0!"}},null,null,null,"U5=",{"$f":"AQ15/(LOG(AQ4)/LOG(2))","v":{"$error":"#DIV/0!"}},null,null,null,"U6=",{"$f":"AV15/(LOG(AV4)/LOG(2))","v":{"$error":"#DIV/0!"}}]
[21,1437,21,1443,21,1493,null,null,null,null,0,222]
[21,1590,21,1601,21,1626,null,null,null,null,0,222]
[21,1719,21,1740,21,1768,null,null,null,null,0,222,null,"Total Target Seq"]
[21,1878,21,1884,21,1889,null,null,null,null,0,222,null,{"$f":"COUNTIF(L7:L46,G3)","v":40},null,7,6,7,7,6,7]
[21,2007,21,2014,21,2029,null,null,null,null,0,222,null,null,null,"% of reinforcement given in 6 equal intervals based on number of trials "]
[21,2155,21,2157,21,2164,null,null,null,null,0,222,null,null,null,"%_1","%_2","%_3","%_4","%_5","%_6"]
[21,2293,21,2308,21,2351,null,null,null,null,0,222,null,null,"target sequence",{"$f":"$G$3","v":222},{"$f":"$G$3","v":222},{"$f":"$G$3","v":222},{"$f":"$G$3","v":222},{"$f":"$G$3","v":222},{"$f":"$G$3","v":222}]
[21,2449,21,2458,21,2479,null,null,null,null,0,222,null,null,"total reinforcement",{"$f":"U14","v":7},{"$f":"Z14","v":6},{"$f":"AE14","v":7},{"$f":"AJ14","v":7},{"$f":"AO14","v":6},{"$f":"AT14","v":7}]
[21,2596,21,2626,21,2638,null,null,null,null,0,222,null,null,"% target"]
[21,2732,21,2739,21,2745,null,null,null,null,0,222,null,null,"CCRF"]
[21,2875,21,2880,21,2906,null,null,null,null,0,222,null,null,"% CCRf"]
[21,3014,21,3027,21,3038,null,null,null,null,0,222,null,null,"average response rate",{"$f":"F13/P20","v":124.42857142857143},{"$f":"(F19-F13)/Q20","v":149.5},{"$f":"(F26-F19)/R20","v":139.57142857142858},{"$f":"(F33-F26)/S20","v":150.57142857142858},{"$f":"(F39-F33)/T20","v":167.5},{"$f":"(F46-F39)/U20","v":161.57142857142858}]
[21,3139,21,3190,21,3201,null,null,null,null,0,222]
[21,3304,21,3310,21,3335,null,null,null,null,0,222]
[21,3440,21,3486,21,3504,null,null,null,null,0,222]
[21,3613,21,3631,21,3665,null,null,null,null,0,222]
[21,3790,21,3794,21,3799,null,null,null,null,0,222]
[21,3901,21,3907,21,3916,null,null,null,null,0,222]
[21,4050,21,4059,21,4100,null,null,null,null,0,222]
[21,4206,21,4216,21,4233,null,null,null,null,0,222]
[21,4396,21,4403,21,4420,null,null,null,null,0,222]
[21,4603,21,4639,21,4671,null,null,null,null,0,222]
[21,4795,21,4797,21,4804,null,null,null,null,0,222]
[21,4939,21,4955,21,4983,null,null,null,null,0,222]
[21,5088,21,5109,21,5151,null,null,null,null,0,222]
[21,5255,21,5273,21,5292,null,null,null,null,0,222]
[21,5385,21,5392,21,5415,null,null,null,null,0,222]
[21,5519,21,5528,21,5544,null,null,null,null,0,222]
[21,5748,21,5753,21,5759,null,null,null,null,0,222]
[21,5918,21,5924,21,5935,null,null,null,null,1,222]

{"sheet":"!M331A4I.sha","index":24,"n_rows":46,"n_cols":48,"rows_kept":46,"cut":false,"hidden":false,"merged":[[4,39,4,42],[5,39,5,40],[4,44,4,47],[5,44,5,45],[4,24,4,27],[5,24,5,25],[4,29,4,32],[5,29,5,30],[4,34,4,37],[5,34,5,35],[1,1,1,2],[5,13,5,14],[18,13,18,14],[19,13,19,14],[4,19,4,22],[5,19,5,20]]}
["Report for:!M331A4I.sha"]
["Date:","<date>"]
["Hen:","<hen>",null,null,null,"Correct Sequence",{"$f":"Start!J2","v":222},null,null,null,null,null,null,null,null,"Total Sequences in Data",{"$f":"4994-COUNTBLANK(L7:L5000)","v":40},null,null,null,null,"Total Sequences in Block Data",{"$f":"COUNTA(L7:L13)","v":7},null,null,null,"Total Sequences in Block Data",{"$f":"COUNTA(L14:L19)","v":6},null,null,null,"Total Sequences in Block Data",{"$f":"COUNTA(L20:L26)","v":7},null,null,null,"Total Sequences in Block Data",{"$f":"COUNTA(L27:L33)","v":7},null,null,null,"Total Sequences in Block Data",{"$f":"COUNTA(L34:L39)","v":6},null,null,null,"Total Sequences in Block Data",{"$f":"COUNTA(L40:L46)","v":7}]
[null,null,null,null,null,null,null,null,null,null,null,null,null,null,null,"Total Sequences in Summary",{"$f":"SUM(O7:O14)","v":40},null,null,null,null,"Total Sequences in Block Summary",{"$f":"SUM(U7:U14)","v":7},null,null,null,"Total Sequences in Block Summary",{"$f":"SUM(Z7:Z14)","v":6},null,null,null,"Total Sequences in Block Summary",{"$f":"SUM(AE7:AE14)","v":7},null,null,null,"Total Sequences in Block Summary",{"$f":"SUM(AJ7:AJ14)","v":7},null,null,null,"Total Sequences in Block Summary",{"$f":"SUM(AO7:AO14)","v":6},null,null,null,"Total Sequences in Block Summary",{"$f":"SUM(AT7:AT14)","v":7}]
[null,null,null,null,null,null,null,null,null,null,null,null,null,null,null,null,null,null,null,"Block 1",null,null,null,null,"Block 2",null,null,null,null,"Block 3",null,null,null,null,"Block 4",null,null,null,null,"Block 5",null,null,null,null,"Block 6"]
["Sequence\nComponent\n1","Time\n1","Sequence\nComponent\n2","Time\n2","Sequence\nComponent\n3","Time\n3","Sequence\nComponent\n4","Time\n4","Sequence\nComponent\n5","Time\n5","Correct?\n0=No 1=Yes","Sequence",null,"Frequency",null,"Relative Frequency","Variability",null,null,"Frequency",null,"Relative Frequency","Variability",null,"Frequency",null,"Relative Frequency","Variability",null,"Frequency",null,"Relative Frequency","Variability",null,"Frequency",null,"Relative Frequency","Variability",null,"Frequency",null,"Relative Frequency","Variability",null,"Frequency",null,"Relative Frequency","Variability"]
[21,10,21,15,21,39,null,null,null,null,0,222,null,111,{"$f":"COUNTIF($L$7:$L$500,N7)","v":0},{"$f":"O7/$Q$4","v":0},{"$f":"IF(P7=0,0,(P7*((LOG(P7))/LOG(2))))","v":0},null,null,{"$f":"N7","v":111},{"$f":"COUNTIF(L7:L13,T7)","v":0},{"$f":"U7/(W4-U14)","v":{"$error":"#DIV/0!"}},{"$f":"IF(V7=0,0,(V7*((LOG(V7))/LOG(2))))","v":{"$error":"#DIV/0!"}},null,{"$f":"N7","v":111},{"$f":"COUNTIF(L14:L19,Y7)","v":0},{"$f":"Z7/(AB4-Z14)","v":{"$error":"#DIV/0!"}},{"$f":"IF(AA7=0,0,(AA7*((LOG(AA7))/LOG(2))))","v":{"$error":"#DIV/0!"}},null,{"$f":"N7","v":111},{"$f":"COUNTIF(L20:L26,AD7)","v":0},{"$f":"AE7/(AG4-AE14)","v":{"$error":"#DIV/0!"}},{"$f":"IF(AF7=0,0,(AF7*((LOG(AF7))/LOG(2))))","v":{"$error":"#DIV/0!"}},null,{"$f":"N7","v":111},{"$f":"COUNTIF(L27:L33,AI7)","v":0},{"$f":"AJ7/(AL4-AJ14)","v":{"$error":"#DIV/0!"}},{"$f":"IF(AK7=0,0,(AK7*((LOG(AK7))/LOG(2))))","v":{"$error":"#DIV/0!"}},null,{"$f":"N7","v":111},{"$f":"COUNTIF(L34:L39,AN7)","v":0},{"$f":"AO7/(AQ4-AO14)","v":{"$error":"#DIV/0!"}},{"$f":"IF(AP7=0,0,(AP7*((LOG(AP7))/LOG(2))))","v":{"$error":"#DIV/0!"}},null,{"$f":"N7","v":111},{"$f":"COUNTIF(L40:L46,AS7)","v":0},{"$f":"AT7/(AV4-AT14)","v":{"$error":"#DIV/0!"}},{"$f":"IF(AU7=0,0,(AU7*((LOG(AU7))/LOG(2))))","v":{"$error":"#DIV/0!"}}]
[21,134,21,139,21,146,null,null,null,null,0,222,null,112,{"$f":"COUNTIF($L$7:$L$500,N8)","v":0},{"$f":"O8/$Q$4","v":0},{"$f":"IF(P8=0,0,(P8*((LOG(P8))/LOG(2))))","v":0},null,null,{"$f":"N8","v":112},{"$f":"COUNTIF(L7:L13,T8)","v":0},{"$f":"U8/(W4-U14)","v":{"$error":"#DIV/0!"}},{"$f":"IF(V8=0,0,(V8*((LOG(V8))/LOG(2))))","v":{"$error":"#DIV/0!"}},null,{"$f":"N8","v":112},{"$f":"COUNTIF(L14:L19,Y8)","v":0},{"$f":"Z8/(AB4-Z14)","v":{"$error":"#DIV/0!"}},{"$f":"IF(AA8=0,0,(AA8*((LOG(AA8))/LOG(2))))","v":{"$error":"#DIV/0!"}},null,{"$f":"N8","v":112},{"$f":"COUNTIF(L20:L26,AD8)","v":0},{"$f":"AE8/(AG4-AE14)","v":{"$error":"#DIV/0!"}},{"$f":"IF(AF8=0,0,(AF8*((LOG(AF8))/LOG(2))))","v":{"$error":"#DIV/0!"}},null,{"$f":"N8","v":112},{"$f":"COUNTIF(L27:L33,AI8)","v":0},{"$f":"AJ8/(AL4-AJ14)","v":{"$error":"#DIV/0!"}},{"$f":"IF(AK8=0,0,(AK8*((LOG(AK8))/LOG(2))))","v":{"$error":"#DIV/0!"}},null,{"$f":"N8","v":112},{"$f":"COUNTIF(L34:L39,AN8)","v":0},{"$f":"AO8/(AQ4-AO14)","v":{"$error":"#DIV/0!"}},{"$f":"IF(AP8=0,0,(AP8*((LOG(AP8))/LOG(2))))","v":{"$error":"#DIV/0!"}},null,{"$f":"N8","v":112},{"$f":"COUNTIF(L40:L46,AS8)","v":0},{"$f":"AT8/(AV4-AT14)","v":{"$error":"#DIV/0!"}},{"$f":"IF(AU8=0,0,(AU8*((LOG(AU8))/LOG(2))))","v":{"$error":"#DIV/0!"}}]
[21,239,21,245,21,250,null,null,null,null,0,222,null,121,{"$f":"COUNTIF($L$7:$L$500,N9)","v":0},{"$f":"O9/$Q$4","v":0},{"$f":"IF(P9=0,0,(P9*((LOG(P9))/LOG(2))))","v":0},null,null,{"$f":"N9","v":121},{"$f":"COUNTIF(L7:L13,T9)","v":0},{"$f":"U9/(W4-U14)","v":{"$error":"#DIV/0!"}},{"$f":"IF(V9=0,0,(V9*((LOG(V9))/LOG(2))))","v":{"$error":"#DIV/0!"}},null,{"$f":"N9","v":121},{"$f":"COUNTIF(L14:L19,Y9)","v":0},{"$f":"Z9/(AB4-Z14)","v":{"$error":"#DIV/0!"}},{"$f":"IF(AA9=0,0,(AA9*((LOG(AA9))/LOG(2))))","v":{"$error":"#DIV/0!"}},null,{"$f":"N9","v":121},{"$f":"COUNTIF(L20:L26,AD9)","v":0},{"$f":"AE9/(AG4-AE14)","v":{"$error":"#DIV/0!"}},{"$f":"IF(AF9=0,0,(AF9*((LOG(AF9))/LOG(2))))","v":{"$error":"#DIV/0!"}},null,{"$f":"N9","v":121},{"$f":"COUNTIF(L27:L33,AI9)","v":0},{"$f":"AJ9/(AL4-AJ14)","v":{"$error":"#DIV/0!"}},{"$f":"IF(AK9=0,0,(AK9*((LOG(AK9))/LOG(2))))","v":{"$error":"#DIV/0!"}},null,{"$f":"N9","v":121},{"$f":"COUNTIF(L34:L39,AN9)","v":0},{"$f":"AO9/(AQ4-AO14)","v":{"$error":"#DIV/0!"}},{"$f":"IF(AP9=0,0,(AP9*((LOG(AP9))/LOG(2))))","v":{"$error":"#DIV/0!"}},null,{"$f":"N9","v":121},{"$f":"COUNTIF(L40:L46,AS9)","v":0},{"$f":"AT9/(AV4-AT14)","v":{"$error":"#DIV/0!"}},{"$f":"IF(AU9=0,0,(AU9*((LOG(AU9))/LOG(2))))","v":{"$error":"#DIV/0!"}}]
[21,347,21,356,21,432,null,null,null,null,0,222,null,122,{"$f":"COUNTIF($L$7:$L$500,N10)","v":0},{"$f":"O10/$Q$4","v":0},{"$f":"IF(P10=0,0,(P10*((LOG(P10))/LOG(2))))","v":0},null,null,{"$f":"N10","v":122},{"$f":"COUNTIF(L7:L13,T10)","v":0},{"$f":"U10/(W4-U14)","v":{"$error":"#DIV/0!"}},{"$f":"IF(V10=0,0,(V10*((LOG(V10))/LOG(2))))","v":{"$error":"#DIV/0!"}},null,{"$f":"N10","v":122},{"$f":"COUNTIF(L14:L19,Y10)","v":0},{"$f":"Z10/(AB4-Z14)","v":{"$error":"#DIV/0!"}},{"$f":"IF(AA10=0,0,(AA10*((LOG(AA10))/LOG(2))))","v":{"$error":"#DIV/0!"}},null,{"$f":"N10","v":122},{"$f":"COUNTIF(L20:L26,AD10)","v":0},{"$f":"AE10/(AG4-AE14)","v":{"$error":"#DIV/0!"}},{"$f":"IF(AF10=0,0,(AF10*((LOG(AF10))/LOG(2))))","v":{"$error":"#DIV/0!"}},null,{"$f":"N10","v":122},{"$f":"COUNTIF(L27:L33,AI10)","v":0},{"$f":"AJ10/(AL4-AJ14)","v":{"$error":"#DIV/0!"}},{"$f":"IF(AK10=0,0,(AK10*((LOG(AK10))/LOG(2))))","v":{"$error":"#DIV/0!"}},null,{"$f":"N10","v":122},{"$f":"COUNTIF(L34:L39,AN10)","v":0},{"$f":"AO10/(AQ4-AO14)","v":{"$error":"#DIV/0!"}},{"$f":"IF(AP10=0,0,(AP10*((LOG(AP10))/LOG(2))))","v":{"$error":"#DIV/0!"}},null,{"$f":"N10","v":122},{"$f":"COUNTIF(L40:L46,AS10)","v":0},{"$f":"AT10/(AV4-AT14)","v":{"$error":"#DIV/0!"}},{"$f":"IF(AU10=0,0,(AU10*((LOG(AU10))/LOG(2))))","v":{"$error":"#DIV/0!"}}]
[21,527,21,544,21,556,null,null,null,null,0,222,null,211,{"$f":"COUNTIF($L$7:$L$500,N11)","v":0},{"$f":"O11/$Q$4","v":0},{"$f":"IF(P11=0,0,(P11*((LOG(P11))/LOG(2))))","v":0},null,null,{"$f":"N11","v":211},{"$f":"COUNTIF(L7:L13,T11)","v":0},{"$f":"U11/(W4-U14)","v":{"$error":"#DIV/0!"}},{"$f":"IF(V11=0,0,(V11*((LOG(V11))/LOG(2))))","v":{"$error":"#DIV/0!"}},null,{"$f":"N11","v":211},{"$f":"COUNTIF(L14:L19,Y11)","v":0},{"$f":"Z11/(AB4-Z14)","v":{"$error":"#DIV/0!"}},{"$f":"IF(AA11=0,0,(AA11*((LOG(AA11))/LOG(2))))","v":{"$error":"#DIV/0!"}},null,{"$f":"N11","v":211},{"$f":"COUNTIF(L20:L26,AD11)","v":0},{"$f":"AE11/(AG4-AE14)","v":{"$error":"#DIV/0!"}},{"$f":"IF(AF11=0,0,(AF11*((LOG(AF11))/LOG(2))))","v":{"$error":"#DIV/0!"}},null,{"$f":"N11","v":211},{"$f":"COUNTIF(L27:L33,AI11)","v":0},{"$f":"AJ11/(AL4-AJ14)","v":{"$error":"#DIV/0!"}},{"$f":"IF(AK11=0,0,(AK11*((LOG(AK11))/LOG(2))))","v":{"$error":"#DIV/0!"}},null,{"$f":"N11","v":211},{"$f":"COUNTIF(L34:L39,AN11)","v":0},{"$f":"AO11/(AQ4-AO14)","v":{"$error":"#DIV/0!"}},{"$f":"IF(AP11=0,0,(AP11*((LOG(AP11))/LOG(2))))","v":{"$error":"#DIV/0!"}},null,{"$f":"N11","v":211},{"$f":"COUNTIF(L40:L46,AS11)","v":0},{"$f":"AT11/(AV4-AT14)","v":{"$error":"#DIV/0!"}},{"$f":"IF(AU11=0,0,(AU11*((LOG(AU11))/LOG(2))))","v":{"$error":"#DIV/0!"}}]
[21,649,21,655,21,662,null,null,null,null,0,222,null,212,{"$f":"COUNTIF($L$7:$L$500,N12)","v":0},{"$f":"O12/$Q$4","v":0},{"$f":"IF(P12=0,0,(P12*((LOG(P12))/LOG(2))))","v":0},null,null,{"$f":"N12","v":212},{"$f":"COUNTIF(L7:L13,T12)","v":0},{"$f":"U12/(W4-U14)","v":{"$error":"#DIV/0!"}},{"$f":"IF(V12=0,0,(V12*((LOG(V12))/LOG(2))))","v":{"$error":"#DIV/0!"}},null,{"$f":"N12","v":212},{"$f":"COUNTIF(L14:L19,Y12)","v":0},{"$f":"Z12/(AB4-Z14)","v":{"$error":"#DIV/0!"}},{"$f":"IF(AA12=0,0,(AA12*((LOG(AA12))/LOG(2))))","v":{"$error":"#DIV/0!"}},null,{"$f":"N12","v":212},{"$f":"COUNTIF(L20:L26,AD12)","v":0},{"$f":"AE12/(AG4-AE14)","v":{"$error":"#DIV/0!"}},{"$f":"IF(AF12=0,0,(AF12*((LOG(AF12))/LOG(2))))","v":{"$error":"#DIV/0!"}},null,{"$f":"N12","v":212},{"$f":"COUNTIF(L27:L33,AI12)","v":0},{"$f":"AJ12/(AL4-AJ14)","v":{"$error":"#DIV/0!"}},{"$f":"IF(AK12=0,0,(AK12*((LOG(AK12))/LOG(2))))","v":{"$error":"#DIV/0!"}},null,{"$f":"N12","v":212},{"$f":"COUNTIF(L34:L39,AN12)","v":0},{"$f":"AO12/(AQ4-AO14)","v":{"$error":"#DIV/0!"}},{"$f":"IF(AP12=0,0,(AP12*((LOG(AP12))/LOG(2))))","v":{"$error":"#DIV/0!"}},null,{"$f":"N12","v":212},{"$f":"COUNTIF(L40:L46,AS12)","v":0},{"$f":"AT12/(AV4-AT14)","v":{"$error":"#DIV/0!"}},{"$f":"IF(AU12=0,0,(AU12*((LOG(AU12))/LOG(2))))","v":{"$error":"#DIV/0!"}}]
[21,781,21,800,21,812,null,null,null,null,0,222,null,221,{"$f":"COUNTIF($L$7:$L$500,N13)","v":0},{"$f":"O13/$Q$4","v":0},{"$f":"IF(P13=0,0,(P13*((LOG(P13))/LOG(2))))","v":0},null,null,{"$f":"N13","v":221},{"$f":"COUNTIF(L7:L13,T13)","v":0},{"$f":"U13/(W4-U14)","v":{"$error":"#DIV/0!"}},{"$f":"IF(V13=0,0,(V13*((LOG(V13))/LOG(2))))","v":{"$error":"#DIV/0!"}},null,{"$f":"N13","v":221},{"$f":"COUNTIF(L14:L19,Y13)","v":0},{"$f":"Z13/(AB4-Z14)","v":{"$error":"#DIV/0!"}},{"$f":"IF(AA13=0,0,(AA13*((LOG(AA13))/LOG(2))))","v":{"$error":"#DIV/0!"}},null,{"$f":"N13","v":221},{"$f":"COUNTIF(L20:L26,AD13)","v":0},{"$f":"AE13/(AG4-AE14)","v":{"$error":"#DIV/0!"}},{"$f":"IF(AF13=0,0,(AF13*((LOG(AF13))/LOG(2))))","v":{"$error":"#DIV/0!"}},null,{"$f":"N13","v":221},{"$f":"COUNTIF(L27:L33,AI13)","v":0},{"$f":"AJ13/(AL4-AJ14)","v":{"$error":"#DIV/0!"}},{"$f":"IF(AK13=0,0,(AK13*((LOG(AK13))/LOG(2))))","v":{"$error":"#DIV/0!"}},null,{"$f":"N13","v":221},{"$f":"COUNTIF(L34:L39,AN13)","v":0},{"$f":"AO13/(AQ4-AO14)","v":{"$error":"#DIV/0!"}},{"$f":"IF(AP13=0,0,(AP13*((LOG(AP13))/LOG(2))))","v":{"$error":"#DIV/0!"}},null,{"$f":"N13","v":221},{"$f":"COUNTIF(L40:L46,AS13)","v":0},{"$f":"AT13/(AV4-AT14)","v":{"$error":"#DIV/0!"}},{"$f":"IF(AU13=0,0,(AU13*((LOG(AU13))/LOG(2))))","v":{"$error":"#DIV/0!"}}]
[21,917,21,922,21,967,null,null,null,null,0,222,null,222,{"$f":"COUNTIF($L$7:$L$500,N14)","v":40},{"$f":"O14/$Q$4","v":1},{"$f":"IF(P14=0,0,(P14*((LOG(P14))/LOG(2))))","v":0},null,null,{"$f":"N14","v":222},{"$f":"COUNTIF(L7:L13,T14)","v":7},null,null,null,{"$f":"N14","v":222},{"$f":"COUNTIF(L14:L19,Y14)","v":6},null,null,null,{"$f":"N14","v":222},{"$f":"COUNTIF(L20:L26,AD14)","v":7},null,null,null,{"$f":"N14","v":222},{"$f":"COUNTIF(L27:L33,AI14)","v":7},null,null,null,{"$f":"N14","v":222},{"$f":"COUNTIF(L34:L39,AN14)","v":6},null,null,null,{"$f":"N14","v":222},{"$f":"COUNTIF(L40:L46,AS14)","v":7}]
[21,1087,21,1098,21,1142,null,null,null,null,0,222,null,null,null,{"$f":"SUM(P7:P14)","v":1},{"$f":"-SUM(Q7:Q14)","v":0},null,null,null,null,{"$f":"SUM(V7:V14)","v":{"$error":"#DIV/0!"}},{"$f":"-SUM(W7:W14)","v":{"$error":"#DIV/0!"}},null,null,null,{"$f":"SUM(AA7:AA14)","v":{"$error":"#DIV/0!"}},{"$f":"-SUM(AB7:AB14)","v":{"$error":"#DIV/0!"}},null,null,null,{"$f":"SUM(AF7:AF14)","v":{"$error":"#DIV/0!"}},{"$f":"-SUM(AG7:AG14)","v":{"$error":"#DIV/0!"}},null,null,null,{"$f":"SUM(AK7:AK14)","v":{"$error":"#DIV/0!"}},{"$f":"-SUM(AL7:AL14)","v":{"$error":"#DIV/0!"}},null,null,null,{"$f":"SUM(AP7:AP14)","v":{"$error":"#DIV/0!"}},{"$f":"-SUM(AQ7:AQ14)","v":{"$error":"#DIV/0!"}},null,null,null,{"$f":"SUM(AU7:AU14)","v":{"$error":"#DIV/0!"}},{"$f":"-SUM(AV7:AV14)","v":{"$error":"#DIV/0!"}}]
[21,1270,21,1276,21,1288,null,null,null,null,0,222,null,null,null,"U=",{"$f":"Q15/(LOG(Q4)/LOG(2))","v":0},null,null,null,null,"U1=",{"$f":"W15/(LOG(W4)/LOG(2))","v":{"$error":"#DIV/0!"}},null,null,null,"U2=",{"$f":"AB15/(LOG(AB4)/LOG(2))","v":{"$error":"#DIV/0!"}},null,null,null,"U3=",{"$f":"AG15/(LOG(AG4)/LOG(2))","v":{"$error":"#DIV/0!"}},null,null,null,"U4=",{"$f":"AL15/(LOG(AL4)/LOG(2))","v":{"$error":"#DIV/0!"}},null,null,null,"U5=",{"$f":"AQ15/(LOG(AQ4)/LOG(2))","v":{"$error":"#DIV/0!"}},null,null,null,"U6=",{"$f":"AV15/(LOG(AV4)/LOG(2))","v":{"$error":"#DIV/0!"}}]
[21,1386,21,1392,21,1432,null,null,null,null,0,222]
[21,1560,21,1570,21,1579,null,null,null,null,0,222]
[21,1685,21,1696,21,1715,null,null,null,null,0,222,null,"Total Target Seq"]
[21,1818,21,1877,21,1900,null,null,null,null,0,222,null,{"$f":"COUNTIF(L7:L46,G3)","v":40},null,7,6,7,7,6,7]
[21,2169,21,2181,21,2192,null,null,null,null,0,222,null,null,null,"% of reinforcement given in 6 equal intervals based on number of trials "]
[21,2340,21,2372,21,2395,null,null,null,null,0,222,null,null,null,"%_1","%_2","%_3","%_4","%_5","%_6"]
[21,2551,21,2556,21,2566,null,null,null,null,0,222,null,null,"target sequence",{"$f":"$G$3","v":222},{"$f":"$G$3","v":222},{"$f":"$G$3","v":222},{"$f":"$G$3","v":222},{"$f":"$G$3","v":222},{"$f":"$G$3","v":222}]
[21,2674,21,2683,21,2706,null,null,null,null,0,222,null,null,"total reinforcement",{"$f":"U14","v":7},{"$f":"Z14","v":6},{"$f":"AE14","v":7},{"$f":"AJ14","v":7},{"$f":"AO14","v":6},{"$f":"AT14","v":7}]
[21,2814,21,2828,21,2857,null,null,null,null,0,222,null,null,"% target"]
[21,3015,21,3055,21,3068,null,null,null,null,0,222,null,null,"CCRF"]
[21,3167,21,3187,21,3204,null,null,null,null,0,222,null,null,"% CCRf"]
[21,3327,21,3347,21,3362,null,null,null,null,0,222,null,null,"average response rate",{"$f":"F13/P20","v":116},{"$f":"(F19-F13)/Q20","v":150.5},{"$f":"(F26-F19)/R20","v":193.28571428571428},{"$f":"(F33-F26)/S20","v":162.14285714285714},{"$f":"(F39-F33)/T20","v":171.33333333333334},{"$f":"(F46-F39)/U20","v":161}]
[21,3511,21,3517,21,3529,null,null,null,null,0,222]
[21,3635,21,3646,21,3688,null,null,null,null,0,222]
[21,3795,21,3808,21,3897,null,null,null,null,0,222]
[21,4007,21,4012,21,4021,null,null,null,null,0,222]
[21,4175,21,4188,21,4203,null,null,null,null,0,222]
[21,4356,21,4372,21,4395,null,null,null,null,0,222]
[21,4507,21,4513,21,4526,null,null,null,null,0,222]
[21,4702,21,4706,21,4728,null,null,null,null,0,222]
[21,4864,21,4891,21,4906,null,null,null,null,0,222]
[21,5028,21,5033,21,5042,null,null,null,null,0,222]
[21,5190,21,5197,21,5231,null,null,null,null,0,222]
[21,5346,21,5361,21,5380,null,null,null,null,0,222]
[21,5512,21,5518,21,5530,null,null,null,null,0,222]
[21,5690,21,5695,21,5725,null,null,null,null,0,222]
[21,5837,21,5869,21,5881,null,null,null,null,0,222]
[21,5980,21,5985,21,5997,null,null,null,null,0,222]
[21,6126,21,6133,21,6157,null,null,null,null,0,222]
[21,6302,21,6329,21,6358,null,null,null,null,1,222]

{"sheet":"!M40195I.sha","index":25,"n_rows":46,"n_cols":48,"rows_kept":46,"cut":false,"hidden":false,"merged":[[4,39,4,42],[5,39,5,40],[4,44,4,47],[5,44,5,45],[4,24,4,27],[5,24,5,25],[4,29,4,32],[5,29,5,30],[4,34,4,37],[5,34,5,35],[1,1,1,2],[5,13,5,14],[18,13,18,14],[19,13,19,14],[4,19,4,22],[5,19,5,20]]}
["Report for:!M40195I.sha"]
["Date:","<date>"]
["Hen:","<hen>",null,null,null,"Correct Sequence",{"$f":"Start!J2","v":222},null,null,null,null,null,null,null,null,"Total Sequences in Data",{"$f":"4994-COUNTBLANK(L7:L5000)","v":40},null,null,null,null,"Total Sequences in Block Data",{"$f":"COUNTA(L7:L13)","v":7},null,null,null,"Total Sequences in Block Data",{"$f":"COUNTA(L14:L19)","v":6},null,null,null,"Total Sequences in Block Data",{"$f":"COUNTA(L20:L26)","v":7},null,null,null,"Total Sequences in Block Data",{"$f":"COUNTA(L27:L33)","v":7},null,null,null,"Total Sequences in Block Data",{"$f":"COUNTA(L34:L39)","v":6},null,null,null,"Total Sequences in Block Data",{"$f":"COUNTA(L40:L46)","v":7}]
[null,null,null,null,null,null,null,null,null,null,null,null,null,null,null,"Total Sequences in Summary",{"$f":"SUM(O7:O14)","v":40},null,null,null,null,"Total Sequences in Block Summary",{"$f":"SUM(U7:U14)","v":7},null,null,null,"Total Sequences in Block Summary",{"$f":"SUM(Z7:Z14)","v":6},null,null,null,"Total Sequences in Block Summary",{"$f":"SUM(AE7:AE14)","v":7},null,null,null,"Total Sequences in Block Summary",{"$f":"SUM(AJ7:AJ14)","v":7},null,null,null,"Total Sequences in Block Summary",{"$f":"SUM(AO7:AO14)","v":6},null,null,null,"Total Sequences in Block Summary",{"$f":"SUM(AT7:AT14)","v":7}]
[null,null,null,null,null,null,null,null,null,null,null,null,null,null,null,null,null,null,null,"Block 1",null,null,null,null,"Block 2",null,null,null,null,"Block 3",null,null,null,null,"Block 4",null,null,null,null,"Block 5",null,null,null,null,"Block 6"]
["Sequence\nComponent\n1","Time\n1","Sequence\nComponent\n2","Time\n2","Sequence\nComponent\n3","Time\n3","Sequence\nComponent\n4","Time\n4","Sequence\nComponent\n5","Time\n5","Correct?\n0=No 1=Yes","Sequence",null,"Frequency",null,"Relative Frequency","Variability",null,null,"Frequency",null,"Relative Frequency","Variability",null,"Frequency",null,"Relative Frequency","Variability",null,"Frequency",null,"Relative Frequency","Variability",null,"Frequency",null,"Relative Frequency","Variability",null,"Frequency",null,"Relative Frequency","Variability",null,"Frequency",null,"Relative Frequency","Variability"]
[21,6,21,11,21,17,null,null,null,null,0,222,null,111,{"$f":"COUNTIF($L$7:$L$500,N7)","v":0},{"$f":"O7/$Q$4","v":0},{"$f":"IF(P7=0,0,(P7*((LOG(P7))/LOG(2))))","v":0},null,null,{"$f":"N7","v":111},{"$f":"COUNTIF(L7:L13,T7)","v":0},{"$f":"U7/(W4-U14)","v":{"$error":"#DIV/0!"}},{"$f":"IF(V7=0,0,(V7*((LOG(V7))/LOG(2))))","v":{"$error":"#DIV/0!"}},null,{"$f":"N7","v":111},{"$f":"COUNTIF(L14:L19,Y7)","v":0},{"$f":"Z7/(AB4-Z14)","v":{"$error":"#DIV/0!"}},{"$f":"IF(AA7=0,0,(AA7*((LOG(AA7))/LOG(2))))","v":{"$error":"#DIV/0!"}},null,{"$f":"N7","v":111},{"$f":"COUNTIF(L20:L26,AD7)","v":0},{"$f":"AE7/(AG4-AE14)","v":{"$error":"#DIV/0!"}},{"$f":"IF(AF7=0,0,(AF7*((LOG(AF7))/LOG(2))))","v":{"$error":"#DIV/0!"}},null,{"$f":"N7","v":111},{"$f":"COUNTIF(L27:L33,AI7)","v":0},{"$f":"AJ7/(AL4-AJ14)","v":{"$error":"#DIV/0!"}},{"$f":"IF(AK7=0,0,(AK7*((LOG(AK7))/LOG(2))))","v":{"$error":"#DIV/0!"}},null,{"$f":"N7","v":111},{"$f":"COUNTIF(L34:L39,AN7)","v":0},{"$f":"AO7/(AQ4-AO14)","v":{"$error":"#DIV/0!"}},{"$f":"IF(AP7=0,0,(AP7*((LOG(AP7))/LOG(2))))","v":{"$error":"#DIV/0!"}},null,{"$f":"N7","v":111},{"$f":"COUNTIF(L40:L46,AS7)","v":0},{"$f":"AT7/(AV4-AT14)","v":{"$error":"#DIV/0!"}},{"$f":"IF(AU7=0,0,(AU7*((LOG(AU7))/LOG(2))))","v":{"$error":"#DIV/0!"}}]
[21,113,21,117,21,128,null,null,null,null,0,222,null,112,{"$f":"COUNTIF($L$7:$L$500,N8)","v":0},{"$f":"O8/$Q$4","v":0},{"$f":"IF(P8=0,0,(P8*((LOG(P8))/LOG(2))))","v":0},null,null,{"$f":"N8","v":112},{"$f":"COUNTIF(L7:L13,T8)","v":0},{"$f":"U8/(W4-U14)","v":{"$error":"#DIV/0!"}},{"$f":"IF(V8=0,0,(V8*((LOG(V8))/LOG(2))))","v":{"$error":"#DIV/0!"}},null,{"$f":"N8","v":112},{"$f":"COUNTIF(L14:L19,Y8)","v":0},{"$f":"Z8/(AB4-Z14)","v":{"$error":"#DIV/0!"}},{"$f":"IF(AA8=0,0,(AA8*((LOG(AA8))/LOG(2))))","v":{"$error":"#DIV/0!"}},null,{"$f":"N8","v":112},{"$f":"COUNTIF(L20:L26,AD8)","v":0},{"$f":"AE8/(AG4-AE14)","v":{"$error":"#DIV/0!"}},{"$f":"IF(AF8=0,0,(AF8*((LOG(AF8))/LOG(2))))","v":{"$error":"#DIV/0!"}},null,{"$f":"N8","v":112},{"$f":"COUNTIF(L27:L33,AI8)","v":0},{"$f":"AJ8/(AL4-AJ14)","v":{"$error":"#DIV/0!"}},{"$f":"IF(AK8=0,0,(AK8*((LOG(AK8))/LOG(2))))","v":{"$error":"#DIV/0!"}},null,{"$f":"N8","v":112},{"$f":"COUNTIF(L34:L39,AN8)","v":0},{"$f":"AO8/(AQ4-AO14)","v":{"$error":"#DIV/0!"}},{"$f":"IF(AP8=0,0,(AP8*((LOG(AP8))/LOG(2))))","v":{"$error":"#DIV/0!"}},null,{"$f":"N8","v":112},{"$f":"COUNTIF(L40:L46,AS8)","v":0},{"$f":"AT8/(AV4-AT14)","v":{"$error":"#DIV/0!"}},{"$f":"IF(AU8=0,0,(AU8*((LOG(AU8))/LOG(2))))","v":{"$error":"#DIV/0!"}}]
[21,264,21,305,21,322,null,null,null,null,0,222,null,121,{"$f":"COUNTIF($L$7:$L$500,N9)","v":0},{"$f":"O9/$Q$4","v":0},{"$f":"IF(P9=0,0,(P9*((LOG(P9))/LOG(2))))","v":0},null,null,{"$f":"N9","v":121},{"$f":"COUNTIF(L7:L13,T9)","v":0},{"$f":"U9/(W4-U14)","v":{"$error":"#DIV/0!"}},{"$f":"IF(V9=0,0,(V9*((LOG(V9))/LOG(2))))","v":{"$error":"#DIV/0!"}},null,{"$f":"N9","v":121},{"$f":"COUNTIF(L14:L19,Y9)","v":0},{"$f":"Z9/(AB4-Z14)","v":{"$error":"#DIV/0!"}},{"$f":"IF(AA9=0,0,(AA9*((LOG(AA9))/LOG(2))))","v":{"$error":"#DIV/0!"}},null,{"$f":"N9","v":121},{"$f":"COUNTIF(L20:L26,AD9)","v":0},{"$f":"AE9/(AG4-AE14)","v":{"$error":"#DIV/0!"}},{"$f":"IF(AF9=0,0,(AF9*((LOG(AF9))/LOG(2))))","v":{"$error":"#DIV/0!"}},null,{"$f":"N9","v":121},{"$f":"COUNTIF(L27:L33,AI9)","v":0},{"$f":"AJ9/(AL4-AJ14)","v":{"$error":"#DIV/0!"}},{"$f":"IF(AK9=0,0,(AK9*((LOG(AK9))/LOG(2))))","v":{"$error":"#DIV/0!"}},null,{"$f":"N9","v":121},{"$f":"COUNTIF(L34:L39,AN9)","v":0},{"$f":"AO9/(AQ4-AO14)","v":{"$error":"#DIV/0!"}},{"$f":"IF(AP9=0,0,(AP9*((LOG(AP9))/LOG(2))))","v":{"$error":"#DIV/0!"}},null,{"$f":"N9","v":121},{"$f":"COUNTIF(L40:L46,AS9)","v":0},{"$f":"AT9/(AV4-AT14)","v":{"$error":"#DIV/0!"}},{"$f":"IF(AU9=0,0,(AU9*((LOG(AU9))/LOG(2))))","v":{"$error":"#DIV/0!"}}]
[21,481,21,487,21,496,null,null,null,null,0,222,null,122,{"$f":"COUNTIF($L$7:$L$500,N10)","v":0},{"$f":"O10/$Q$4","v":0},{"$f":"IF(P10=0,0,(P10*((LOG(P10))/LOG(2))))","v":0},null,null,{"$f":"N10","v":122},{"$f":"COUNTIF(L7:L13,T10)","v":0},{"$f":"U10/(W4-U14)","v":{"$error":"#DIV/0!"}},{"$f":"IF(V10=0,0,(V10*((LOG(V10))/LOG(2))))","v":{"$error":"#DIV/0!"}},null,{"$f":"N10","v":122},{"$f":"COUNTIF(L14:L19,Y10)","v":0},{"$f":"Z10/(AB4-Z14)","v":{"$error":"#DIV/0!"}},{"$f":"IF(AA10=0,0,(AA10*((LOG(AA10))/LOG(2))))","v":{"$error":"#DIV/0!"}},null,{"$f":"N10","v":122},{"$f":"COUNTIF(L20:L26,AD10)","v":0},{"$f":"AE10/(AG4-AE14)","v":{"$error":"#DIV/0!"}},{"$f":"IF(AF10=0,0,(AF10*((LOG(AF10))/LOG(2))))","v":{"$error":"#DIV/0!"}},null,{"$f":"N10","v":122},{"$f":"COUNTIF(L27:L33,AI10)","v":0},{"$f":"AJ10/(AL4-AJ14)","v":{"$error":"#DIV/0!"}},{"$f":"IF(AK10=0,0,(AK10*((LOG(AK10))/LOG(2))))","v":{"$error":"#DIV/0!"}},null,{"$f":"N10","v":122},{"$f":"COUNTIF(L34:L39,AN10)","v":0},{"$f":"AO10/(AQ4-AO14)","v":{"$error":"#DIV/0!"}},{"$f":"IF(AP10=0,0,(AP10*((LOG(AP10))/LOG(2))))","v":{"$error":"#DIV/0!"}},null,{"$f":"N10","v":122},{"$f":"COUNTIF(L40:L46,AS10)","v":0},{"$f":"AT10/(AV4-AT14)","v":{"$error":"#DIV/0!"}},{"$f":"IF(AU10=0,0,(AU10*((LOG(AU10))/LOG(2))))","v":{"$error":"#DIV/0!"}}]
[21,589,21,594,21,603,null,null,null,null,0,222,null,211,{"$f":"COUNTIF($L$7:$L$500,N11)","v":0},{"$f":"O11/$Q$4","v":0},{"$f":"IF(P11=0,0,(P11*((LOG(P11))/LOG(2))))","v":0},null,null,{"$f":"N11","v":211},{"$f":"COUNTIF(L7:L13,T11)","v":0},{"$f":"U11/(W4-U14)","v":{"$error":"#DIV/0!"}},{"$f":"IF(V11=0,0,(V11*((LOG(V11))/LOG(2))))","v":{"$error":"#DIV/0!"}},null,{"$f":"N11","v":211},{"$f":"COUNTIF(L14:L19,Y11)","v":0},{"$f":"Z11/(AB4-Z14)","v":{"$error":"#DIV/0!"}},{"$f":"IF(AA11=0,0,(AA11*((LOG(AA11))/LOG(2))))","v":{"$error":"#DIV/0!"}},null,{"$f":"N11","v":211},{"$f":"COUNTIF(L20:L26,AD11)","v":0},{"$f":"AE11/(AG4-AE14)","v":{"$error":"#DIV/0!"}},{"$f":"IF(AF11=0,0,(AF11*((LOG(AF11))/LOG(2))))","v":{"$error":"#DIV/0!"}},null,{"$f":"N11","v":211},{"$f":"COUNTIF(L27:L33,AI11)","v":0},{"$f":"AJ11/(AL4-AJ14)","v":{"$error":"#DIV/0!"}},{"$f":"IF(AK11=0,0,(AK11*((LOG(AK11))/LOG(2))))","v":{"$error":"#DIV/0!"}},null,{"$f":"N11","v":211},{"$f":"COUNTIF(L34:L39,AN11)","v":0},{"$f":"AO11/(AQ4-AO14)","v":{"$error":"#DIV/0!"}},{"$f":"IF(AP11=0,0,(AP11*((LOG(AP11))/LOG(2))))","v":{"$error":"#DIV/0!"}},null,{"$f":"N11","v":211},{"$f":"COUNTIF(L40:L46,AS11)","v":0},{"$f":"AT11/(AV4-AT14)","v":{"$error":"#DIV/0!"}},{"$f":"IF(AU11=0,0,(AU11*((LOG(AU11))/LOG(2))))","v":{"$error":"#DIV/0!"}}]
[21,699,21,708,21,719,null,null,null,null,0,222,null,212,{"$f":"COUNTIF($L$7:$L$500,N12)","v":0},{"$f":"O12/$Q$4","v":0},{"$f":"IF(P12=0,0,(P12*((LOG(P12))/LOG(2))))","v":0},null,null,{"$f":"N12","v":212},{"$f":"COUNTIF(L7:L13,T12)","v":0},{"$f":"U12/(W4-U14)","v":{"$error":"#DIV/0!"}},{"$f":"IF(V12=0,0,(V12*((LOG(V12))/LOG(2))))","v":{"$error":"#DIV/0!"}},null,{"$f":"N12","v":212},{"$f":"COUNTIF(L14:L19,Y12)","v":0},{"$f":"Z12/(AB4-Z14)","v":{"$error":"#DIV/0!"}},{"$f":"IF(AA12=0,0,(AA12*((LOG(AA12))/LOG(2))))","v":{"$error":"#DIV/0!"}},null,{"$f":"N12","v":212},{"$f":"COUNTIF(L20:L26,AD12)","v":0},{"$f":"AE12/(AG4-AE14)","v":{"$error":"#DIV/0!"}},{"$f":"IF(AF12=0,0,(AF12*((LOG(AF12))/LOG(2))))","v":{"$error":"#DIV/0!"}},null,{"$f":"N12","v":212},{"$f":"COUNTIF(L27:L33,AI12)","v":0},{"$f":"AJ12/(AL4-AJ14)","v":{"$error":"#DIV/0!"}},{"$f":"IF(AK12=0,0,(AK12*((LOG(AK12))/LOG(2))))","v":{"$error":"#DIV/0!"}},null,{"$f":"N12","v":212},{"$f":"COUNTIF(L34:L39,AN12)","v":0},{"$f":"AO12/(AQ4-AO14)","v":{"$error":"#DIV/0!"}},{"$f":"IF(AP12=0,0,(AP12*((LOG(AP12))/LOG(2))))","v":{"$error":"#DIV/0!"}},null,{"$f":"N12","v":212},{"$f":"COUNTIF(L40:L46,AS12)","v":0},{"$f":"AT12/(AV4-AT14)","v":{"$error":"#DIV/0!"}},{"$f":"IF(AU12=0,0,(AU12*((LOG(AU12))/LOG(2))))","v":{"$error":"#DIV/0!"}}]
[21,813,21,828,21,842,null,null,null,null,0,222,null,221,{"$f":"COUNTIF($L$7:$L$500,N13)","v":0},{"$f":"O13/$Q$4","v":0},{"$f":"IF(P13=0,0,(P13*((LOG(P13))/LOG(2))))","v":0},null,null,{"$f":"N13","v":221},{"$f":"COUNTIF(L7:L13,T13)","v":0},{"$f":"U13/(W4-U14)","v":{"$error":"#DIV/0!"}},{"$f":"IF(V13=0,0,(V13*((LOG(V13))/LOG(2))))","v":{"$error":"#DIV/0!"}},null,{"$f":"N13","v":221},{"$f":"COUNTIF(L14:L19,Y13)","v":0},{"$f":"Z13/(AB4-Z14)","v":{"$error":"#DIV/0!"}},{"$f":"IF(AA13=0,0,(AA13*((LOG(AA13))/LOG(2))))","v":{"$error":"#DIV/0!"}},null,{"$f":"N13","v":221},{"$f":"COUNTIF(L20:L26,AD13)","v":0},{"$f":"AE13/(AG4-AE14)","v":{"$error":"#DIV/0!"}},{"$f":"IF(AF13=0,0,(AF13*((LOG(AF13))/LOG(2))))","v":{"$error":"#DIV/0!"}},null,{"$f":"N13","v":221},{"$f":"COUNTIF(L27:L33,AI13)","v":0},{"$f":"AJ13/(AL4-AJ14)","v":{"$error":"#DIV/0!"}},{"$f":"IF(AK13=0,0,(AK13*((LOG(AK13))/LOG(2))))","v":{"$error":"#DIV/0!"}},null,{"$f":"N13","v":221},{"$f":"COUNTIF(L34:L39,AN13)","v":0},{"$f":"AO13/(AQ4-AO14)","v":{"$error":"#DIV/0!"}},{"$f":"IF(AP13=0,0,(AP13*((LOG(AP13))/LOG(2))))","v":{"$error":"#DIV/0!"}},null,{"$f":"N13","v":221},{"$f":"COUNTIF(L40:L46,AS13)","v":0},{"$f":"AT13/(AV4-AT14)","v":{"$error":"#DIV/0!"}},{"$f":"IF(AU13=0,0,(AU13*((LOG(AU13))/LOG(2))))","v":{"$error":"#DIV/0!"}}]
[21,936,21,943,21,978,null,null,null,null,0,222,null,222,{"$f":"COUNTIF($L$7:$L$500,N14)","v":40},{"$f":"O14/$Q$4","v":1},{"$f":"IF(P14=0,0,(P14*((LOG(P14))/LOG(2))))","v":0},null,null,{"$f":"N14","v":222},{"$f":"COUNTIF(L7:L13,T14)","v":7},null,null,null,{"$f":"N14","v":222},{"$f":"COUNTIF(L14:L19,Y14)","v":6},null,null,null,{"$f":"N14","v":222},{"$f":"COUNTIF(L20:L26,AD14)","v":7},null,null,null,{"$f":"N14","v":222},{"$f":"COUNTIF(L27:L33,AI14)","v":7},null,null,null,{"$f":"N14","v":222},{"$f":"COUNTIF(L34:L39,AN14)","v":6},null,null,null,{"$f":"N14","v":222},{"$f":"COUNTIF(L40:L46,AS14)","v":7}]
[21,1074,21,1079,21,1084,null,null,null,null,0,222,null,null,null,{"$f":"SUM(P7:P14)","v":1},{"$f":"-SUM(Q7:Q14)","v":0},null,null,null,null,{"$f":"SUM(V7:V14)","v":{"$error":"#DIV/0!"}},{"$f":"-SUM(W7:W14)","v":{"$error":"#DIV/0!"}},null,null,null,{"$f":"SUM(AA7:AA14)","v":{"$error":"#DIV/0!"}},{"$f":"-SUM(AB7:AB14)","v":{"$error":"#DIV/0!"}},null,null,null,{"$f":"SUM(AF7:AF14)","v":{"$error":"#DIV/0!"}},{"$f":"-SUM(AG7:AG14)","v":{"$error":"#DIV/0!"}},null,null,null,{"$f":"SUM(AK7:AK14)","v":{"$error":"#DIV/0!"}},{"$f":"-SUM(AL7:AL14)","v":{"$error":"#DIV/0!"}},null,null,null,{"$f":"SUM(AP7:AP14)","v":{"$error":"#DIV/0!"}},{"$f":"-SUM(AQ7:AQ14)","v":{"$error":"#DIV/0!"}},null,null,null,{"$f":"SUM(AU7:AU14)","v":{"$error":"#DIV/0!"}},{"$f":"-SUM(AV7:AV14)","v":{"$error":"#DIV/0!"}}]
[21,1196,21,1201,21,1221,null,null,null,null,0,222,null,null,null,"U=",{"$f":"Q15/(LOG(Q4)/LOG(2))","v":0},null,null,null,null,"U1=",{"$f":"W15/(LOG(W4)/LOG(2))","v":{"$error":"#DIV/0!"}},null,null,null,"U2=",{"$f":"AB15/(LOG(AB4)/LOG(2))","v":{"$error":"#DIV/0!"}},null,null,null,"U3=",{"$f":"AG15/(LOG(AG4)/LOG(2))","v":{"$error":"#DIV/0!"}},null,null,null,"U4=",{"$f":"AL15/(LOG(AL4)/LOG(2))","v":{"$error":"#DIV/0!"}},null,null,null,"U5=",{"$f":"AQ15/(LOG(AQ4)/LOG(2))","v":{"$error":"#DIV/0!"}},null,null,null,"U6=",{"$f":"AV15/(LOG(AV4)/LOG(2))","v":{"$error":"#DIV/0!"}}]
[21,1317,21,1323,21,1328,null,null,null,null,0,222]
[21,1444,21,1482,21,1503,null,null,null,null,0,222]
[21,1599,21,1605,21,1612,null,null,null,null,0,222,null,"Total Target Seq"]
[21,1742,21,1798,21,1842,null,null,null,null,0,222,null,{"$f":"COUNTIF(L7:L46,G3)","v":40},null,7,6,7,7,6,7]
[21,1937,21,1953,21,1960,null,null,null,null,0,222,null,null,null,"% of reinforcement given in 6 equal intervals based on number of trials "]
[21,2088,21,2105,21,2127,null,null,null,null,0,222,null,null,null,"%_1","%_2","%_3","%_4","%_5","%_6"]
[21,2236,21,2247,21,2256,null,null,null,null,0,222,null,null,"target sequence",{"$f":"$G$3","v":222},{"$f":"$G$3","v":222},{"$f":"$G$3","v":222},{"$f":"$G$3","v":222},{"$f":"$G$3","v":222},{"$f":"$G$3","v":222}]
[21,2350,21,2357,21,2363,null,null,null,null,0,222,null,null,"total reinforcement",{"$f":"U14","v":7},{"$f":"Z14","v":6},{"$f":"AE14","v":7},{"$f":"AJ14","v":7},{"$f":"AO14","v":6},{"$f":"AT14","v":7}]
[21,2527,21,2548,21,2601,null,null,null,null,0,222,null,null,"% target"]
[21,2770,21,2776,21,2798,null,null,null,null,0,222,null,null,"CCRF"]
[21,2894,21,2901,21,2914,null,null,null,null,0,222,null,null,"% CCRf"]
[21,3017,21,3021,21,3027,null,null,null,null,0,222,null,null,"average response rate",{"$f":"F13/P20","v":120.28571428571429},{"$f":"(F19-F13)/Q20","v":128.33333333333334},{"$f":"(F26-F19)/R20","v":169.42857142857142},{"$f":"(F33-F26)/S20","v":153.57142857142858},{"$f":"(F39-F33)/T20","v":177.5},{"$f":"(F46-F39)/U20","v":179.14285714285714}]
[21,3160,21,3165,21,3170,null,null,null,null,0,222]
[21,3287,21,3293,21,3307,null,null,null,null,0,222]
[21,3428,21,3435,21,3482,null,null,null,null,0,222]
[21,3614,21,3618,21,3641,null,null,null,null,0,222]
[21,3803,21,3809,21,3873,null,null,null,null,0,222]
[21,4008,21,4013,21,4019,null,null,null,null,0,222]
[21,4127,21,4151,21,4173,null,null,null,null,0,222]
[21,4289,21,4296,21,4306,null,null,null,null,0,222]
[21,4463,21,4474,21,4481,null,null,null,null,0,222]
[21,4630,21,4646,21,4656,null,null,null,null,0,222]
[21,4926,21,4931,21,4938,null,null,null,null,0,222]
[21,5045,21,5057,21,5109,null,null,null,null,0,222]
[21,5308,21,5313,21,5376,null,null,null,null,0,222]
[21,5493,21,5499,21,5513,null,null,null,null,0,222]
[21,5682,21,5687,21,5697,null,null,null,null,0,222]
[21,5816,21,5881,21,5909,null,null,null,null,0,222]
[21,6012,21,6027,21,6044,null,null,null,null,0,222]
[21,6169,21,6181,21,6192,null,null,null,null,1,222]

{"sheet":"!M402B3I.sha","index":26,"n_rows":46,"n_cols":48,"rows_kept":46,"cut":false,"hidden":false,"merged":[[4,39,4,42],[5,39,5,40],[4,44,4,47],[5,44,5,45],[4,24,4,27],[5,24,5,25],[4,29,4,32],[5,29,5,30],[4,34,4,37],[5,34,5,35],[1,1,1,2],[5,13,5,14],[18,13,18,14],[19,13,19,14],[4,19,4,22],[5,19,5,20]]}
["Report for:!M402B3I.sha"]
["Date:","<date>"]
["Hen:","<hen>",null,null,null,"Correct Sequence",{"$f":"Start!J2","v":222},null,null,null,null,null,null,null,null,"Total Sequences in Data",{"$f":"4994-COUNTBLANK(L7:L5000)","v":40},null,null,null,null,"Total Sequences in Block Data",{"$f":"COUNTA(L7:L13)","v":7},null,null,null,"Total Sequences in Block Data",{"$f":"COUNTA(L14:L19)","v":6},null,null,null,"Total Sequences in Block Data",{"$f":"COUNTA(L20:L26)","v":7},null,null,null,"Total Sequences in Block Data",{"$f":"COUNTA(L27:L33)","v":7},null,null,null,"Total Sequences in Block Data",{"$f":"COUNTA(L34:L39)","v":6},null,null,null,"Total Sequences in Block Data",{"$f":"COUNTA(L40:L46)","v":7}]
[null,null,null,null,null,null,null,null,null,null,null,null,null,null,null,"Total Sequences in Summary",{"$f":"SUM(O7:O14)","v":40},null,null,null,null,"Total Sequences in Block Summary",{"$f":"SUM(U7:U14)","v":7},null,null,null,"Total Sequences in Block Summary",{"$f":"SUM(Z7:Z14)","v":6},null,null,null,"Total Sequences in Block Summary",{"$f":"SUM(AE7:AE14)","v":7},null,null,null,"Total Sequences in Block Summary",{"$f":"SUM(AJ7:AJ14)","v":7},null,null,null,"Total Sequences in Block Summary",{"$f":"SUM(AO7:AO14)","v":6},null,null,null,"Total Sequences in Block Summary",{"$f":"SUM(AT7:AT14)","v":7}]
[null,null,null,null,null,null,null,null,null,null,null,null,null,null,null,null,null,null,null,"Block 1",null,null,null,null,"Block 2",null,null,null,null,"Block 3",null,null,null,null,"Block 4",null,null,null,null,"Block 5",null,null,null,null,"Block 6"]
["Sequence\nComponent\n1","Time\n1","Sequence\nComponent\n2","Time\n2","Sequence\nComponent\n3","Time\n3","Sequence\nComponent\n4","Time\n4","Sequence\nComponent\n5","Time\n5","Correct?\n0=No 1=Yes","Sequence",null,"Frequency",null,"Relative Frequency","Variability",null,null,"Frequency",null,"Relative Frequency","Variability",null,"Frequency",null,"Relative Frequency","Variability",null,"Frequency",null,"Relative Frequency","Variability",null,"Frequency",null,"Relative Frequency","Variability",null,"Frequency",null,"Relative Frequency","Variability",null,"Frequency",null,"Relative Frequency","Variability"]
[21,5,21,11,21,17,null,null,null,null,0,222,null,111,{"$f":"COUNTIF($L$7:$L$500,N7)","v":0},{"$f":"O7/$Q$4","v":0},{"$f":"IF(P7=0,0,(P7*((LOG(P7))/LOG(2))))","v":0},null,null,{"$f":"N7","v":111},{"$f":"COUNTIF(L7:L13,T7)","v":0},{"$f":"U7/(W4-U14)","v":{"$error":"#DIV/0!"}},{"$f":"IF(V7=0,0,(V7*((LOG(V7))/LOG(2))))","v":{"$error":"#DIV/0!"}},null,{"$f":"N7","v":111},{"$f":"COUNTIF(L14:L19,Y7)","v":0},{"$f":"Z7/(AB4-Z14)","v":{"$error":"#DIV/0!"}},{"$f":"IF(AA7=0,0,(AA7*((LOG(AA7))/LOG(2))))","v":{"$error":"#DIV/0!"}},null,{"$f":"N7","v":111},{"$f":"COUNTIF(L20:L26,AD7)","v":0},{"$f":"AE7/(AG4-AE14)","v":{"$error":"#DIV/0!"}},{"$f":"IF(AF7=0,0,(AF7*((LOG(AF7))/LOG(2))))","v":{"$error":"#DIV/0!"}},null,{"$f":"N7","v":111},{"$f":"COUNTIF(L27:L33,AI7)","v":0},{"$f":"AJ7/(AL4-AJ14)","v":{"$error":"#DIV/0!"}},{"$f":"IF(AK7=0,0,(AK7*((LOG(AK7))/LOG(2))))","v":{"$error":"#DIV/0!"}},null,{"$f":"N7","v":111},{"$f":"COUNTIF(L34:L39,AN7)","v":0},{"$f":"AO7/(AQ4-AO14)","v":{"$error":"#DIV/0!"}},{"$f":"IF(AP7=0,0,(AP7*((LOG(AP7))/LOG(2))))","v":{"$error":"#DIV/0!"}},null,{"$f":"N7","v":111},{"$f":"COUNTIF(L40:L46,AS7)","v":0},{"$f":"AT7/(AV4-AT14)","v":{"$error":"#DIV/0!"}},{"$f":"IF(AU7=0,0,(AU7*((LOG(AU7))/LOG(2))))","v":{"$error":"#DIV/0!"}}]
[21,127,21,192,21,212,null,null,null,null,0,222,null,112,{"$f":"COUNTIF($L$7:$L$500,N8)","v":0},{"$f":"O8/$Q$4","v":0},{"$f":"IF(P8=0,0,(P8*((LOG(P8))/LOG(2))))","v":0},null,null,{"$f":"N8","v":112},{"$f":"COUNTIF(L7:L13,T8)","v":0},{"$f":"U8/(W4-U14)","v":{"$error":"#DIV/0!"}},{"$f":"IF(V8=0,0,(V8*((LOG(V8))/LOG(2))))","v":{"$error":"#DIV/0!"}},null,{"$f":"N8","v":112},{"$f":"COUNTIF(L14:L19,Y8)","v":0},{"$f":"Z8/(AB4-Z14)","v":{"$error":"#DIV/0!"}},{"$f":"IF(AA8=0,0,(AA8*((LOG(AA8))/LOG(2))))","v":{"$error":"#DIV/0!"}},null,{"$f":"N8","v":112},{"$f":"COUNTIF(L20:L26,AD8)","v":0},{"$f":"AE8/(AG4-AE14)","v":{"$error":"#DIV/0!"}},{"$f":"IF(AF8=0,0,(AF8*((LOG(AF8))/LOG(2))))","v":{"$error":"#DIV/0!"}},null,{"$f":"N8","v":112},{"$f":"COUNTIF(L27:L33,AI8)","v":0},{"$f":"AJ8/(AL4-AJ14)","v":{"$error":"#DIV/0!"}},{"$f":"IF(AK8=0,0,(AK8*((LOG(AK8))/LOG(2))))","v":{"$error":"#DIV/0!"}},null,{"$f":"N8","v":112},{"$f":"COUNTIF(L34:L39,AN8)","v":0},{"$f":"AO8/(AQ4-AO14)","v":{"$error":"#DIV/0!"}},{"$f":"IF(AP8=0,0,(AP8*((LOG(AP8))/LOG(2))))","v":{"$error":"#DIV/0!"}},null,{"$f":"N8","v":112},{"$f":"COUNTIF(L40:L46,AS8)","v":0},{"$f":"AT8/(AV4-AT14)","v":{"$error":"#DIV/0!"}},{"$f":"IF(AU8=0,0,(AU8*((LOG(AU8))/LOG(2))))","v":{"$error":"#DIV/0!"}}]
[21,306,21,351,21,361,null,null,null,null,0,222,null,121,{"$f":"COUNTIF($L$7:$L$500,N9)","v":0},{"$f":"O9/$Q$4","v":0},{"$f":"IF(P9=0,0,(P9*((LOG(P9))/LOG(2))))","v":0},null,null,{"$f":"N9","v":121},{"$f":"COUNTIF(L7:L13,T9)","v":0},{"$f":"U9/(W4-U14)","v":{"$error":"#DIV/0!"}},{"$f":"IF(V9=0,0,(V9*((LOG(V9))/LOG(2))))","v":{"$error":"#DIV/0!"}},null,{"$f":"N9","v":121},{"$f":"COUNTIF(L14:L19,Y9)","v":0},{"$f":"Z9/(AB4-Z14)","v":{"$error":"#DIV/0!"}},{"$f":"IF(AA9=0,0,(AA9*((LOG(AA9))/LOG(2))))","v":{"$error":"#DIV/0!"}},null,{"$f":"N9","v":121},{"$f":"COUNTIF(L20:L26,AD9)","v":0},{"$f":"AE9/(AG4-AE14)","v":{"$error":"#DIV/0!"}},{"$f":"IF(AF9=0,0,(AF9*((LOG(AF9))/LOG(2))))","v":{"$error":"#DIV/0!"}},null,{"$f":"N9","v":121},{"$f":"COUNTIF(L27:L33,AI9)","v":0},{"$f":"AJ9/(AL4-AJ14)","v":{"$error":"#DIV/0!"}},{"$f":"IF(AK9=0,0,(AK9*((LOG(AK9))/LOG(2))))","v":{"$error":"#DIV/0!"}},null,{"$f":"N9","v":121},{"$f":"COUNTIF(L34:L39,AN9)","v":0},{"$f":"AO9/(AQ4-AO14)","v":{"$error":"#DIV/0!"}},{"$f":"IF(AP9=0,0,(AP9*((LOG(AP9))/LOG(2))))","v":{"$error":"#DIV/0!"}},null,{"$f":"N9","v":121},{"$f":"COUNTIF(L40:L46,AS9)","v":0},{"$f":"AT9/(AV4-AT14)","v":{"$error":"#DIV/0!"}},{"$f":"IF(AU9=0,0,(AU9*((LOG(AU9))/LOG(2))))","v":{"$error":"#DIV/0!"}}]
[21,456,21,469,21,483,null,null,null,null,0,222,null,122,{"$f":"COUNTIF($L$7:$L$500,N10)","v":0},{"$f":"O10/$Q$4","v":0},{"$f":"IF(P10=0,0,(P10*((LOG(P10))/LOG(2))))","v":0},null,null,{"$f":"N10","v":122},{"$f":"COUNTIF(L7:L13,T10)","v":0},{"$f":"U10/(W4-U14)","v":{"$error":"#DIV/0!"}},{"$f":"IF(V10=0,0,(V10*((LOG(V10))/LOG(2))))","v":{"$error":"#DIV/0!"}},null,{"$f":"N10","v":122},{"$f":"COUNTIF(L14:L19,Y10)","v":0},{"$f":"Z10/(AB4-Z14)","v":{"$error":"#DIV/0!"}},{"$f":"IF(AA10=0,0,(AA10*((LOG(AA10))/LOG(2))))","v":{"$error":"#DIV/0!"}},null,{"$f":"N10","v":122},{"$f":"COUNTIF(L20:L26,AD10)","v":0},{"$f":"AE10/(AG4-AE14)","v":{"$error":"#DIV/0!"}},{"$f":"IF(AF10=0,0,(AF10*((LOG(AF10))/LOG(2))))","v":{"$error":"#DIV/0!"}},null,{"$f":"N10","v":122},{"$f":"COUNTIF(L27:L33,AI10)","v":0},{"$f":"AJ10/(AL4-AJ14)","v":{"$error":"#DIV/0!"}},{"$f":"IF(AK10=0,0,(AK10*((LOG(AK10))/LOG(2))))","v":{"$error":"#DIV/0!"}},null,{"$f":"N10","v":122},{"$f":"COUNTIF(L34:L39,AN10)","v":0},{"$f":"AO10/(AQ4-AO14)","v":{"$error":"#DIV/0!"}},{"$f":"IF(AP10=0,0,(AP10*((LOG(AP10))/LOG(2))))","v":{"$error":"#DIV/0!"}},null,{"$f":"N10","v":122},{"$f":"COUNTIF(L40:L46,AS10)","v":0},{"$f":"AT10/(AV4-AT14)","v":{"$error":"#DIV/0!"}},{"$f":"IF(AU10=0,0,(AU10*((LOG(AU10))/LOG(2))))","v":{"$error":"#DIV/0!"}}]
[21,575,21,580,21,604,null,null,null,null,0,222,null,211,{"$f":"COUNTIF($L$7:$L$500,N11)","v":0},{"$f":"O11/$Q$4","v":0},{"$f":"IF(P11=0,0,(P11*((LOG(P11))/LOG(2))))","v":0},null,null,{"$f":"N11","v":211},{"$f":"COUNTIF(L7:L13,T11)","v":0},{"$f":"U11/(W4-U14)","v":{"$error":"#DIV/0!"}},{"$f":"IF(V11=0,0,(V11*((LOG(V11))/LOG(2))))","v":{"$error":"#DIV/0!"}},null,{"$f":"N11","v":211},{"$f":"COUNTIF(L14:L19,Y11)","v":0},{"$f":"Z11/(AB4-Z14)","v":{"$error":"#DIV/0!"}},{"$f":"IF(AA11=0,0,(AA11*((LOG(AA11))/LOG(2))))","v":{"$error":"#DIV/0!"}},null,{"$f":"N11","v":211},{"$f":"COUNTIF(L20:L26,AD11)","v":0},{"$f":"AE11/(AG4-AE14)","v":{"$error":"#DIV/0!"}},{"$f":"IF(AF11=0,0,(AF11*((LOG(AF11))/LOG(2))))","v":{"$error":"#DIV/0!"}},null,{"$f":"N11","v":211},{"$f":"COUNTIF(L27:L33,AI11)","v":0},{"$f":"AJ11/(AL4-AJ14)","v":{"$error":"#DIV/0!"}},{"$f":"IF(AK11=0,0,(AK11*((LOG(AK11))/LOG(2))))","v":{"$error":"#DIV/0!"}},null,{"$f":"N11","v":211},{"$f":"COUNTIF(L34:L39,AN11)","v":0},{"$f":"AO11/(AQ4-AO14)","v":{"$error":"#DIV/0!"}},{"$f":"IF(AP11=0,0,(AP11*((LOG(AP11))/LOG(2))))","v":{"$error":"#DIV/0!"}},null,{"$f":"N11","v":211},{"$f":"COUNTIF(L40:L46,AS11)","v":0},{"$f":"AT11/(AV4-AT14)","v":{"$error":"#DIV/0!"}},{"$f":"IF(AU11=0,0,(AU11*((LOG(AU11))/LOG(2))))","v":{"$error":"#DIV/0!"}}]
[21,713,21,726,21,742,null,null,null,null,0,222,null,212,{"$f":"COUNTIF($L$7:$L$500,N12)","v":0},{"$f":"O12/$Q$4","v":0},{"$f":"IF(P12=0,0,(P12*((LOG(P12))/LOG(2))))","v":0},null,null,{"$f":"N12","v":212},{"$f":"COUNTIF(L7:L13,T12)","v":0},{"$f":"U12/(W4-U14)","v":{"$error":"#DIV/0!"}},{"$f":"IF(V12=0,0,(V12*((LOG(V12))/LOG(2))))","v":{"$error":"#DIV/0!"}},null,{"$f":"N12","v":212},{"$f":"COUNTIF(L14:L19,Y12)","v":0},{"$f":"Z12/(AB4-Z14)","v":{"$error":"#DIV/0!"}},{"$f":"IF(AA12=0,0,(AA12*((LOG(AA12))/LOG(2))))","v":{"$error":"#DIV/0!"}},null,{"$f":"N12","v":212},{"$f":"COUNTIF(L20:L26,AD12)","v":0},{"$f":"AE12/(AG4-AE14)","v":{"$error":"#DIV/0!"}},{"$f":"IF(AF12=0,0,(AF12*((LOG(AF12))/LOG(2))))","v":{"$error":"#DIV/0!"}},null,{"$f":"N12","v":212},{"$f":"COUNTIF(L27:L33,AI12)","v":0},{"$f":"AJ12/(AL4-AJ14)","v":{"$error":"#DIV/0!"}},{"$f":"IF(AK12=0,0,(AK12*((LOG(AK12))/LOG(2))))","v":{"$error":"#DIV/0!"}},null,{"$f":"N12","v":212},{"$f":"COUNTIF(L34:L39,AN12)","v":0},{"$f":"AO12/(AQ4-AO14)","v":{"$error":"#DIV/0!"}},{"$f":"IF(AP12=0,0,(AP12*((LOG(AP12))/LOG(2))))","v":{"$error":"#DIV/0!"}},null,{"$f":"N12","v":212},{"$f":"COUNTIF(L40:L46,AS12)","v":0},{"$f":"AT12/(AV4-AT14)","v":{"$error":"#DIV/0!"}},{"$f":"IF(AU12=0,0,(AU12*((LOG(AU12))/LOG(2))))","v":{"$error":"#DIV/0!"}}]
[21,883,21,905,21,963,null,null,null,null,0,222,null,221,{"$f":"COUNTIF($L$7:$L$500,N13)","v":0},{"$f":"O13/$Q$4","v":0},{"$f":"IF(P13=0,0,(P13*((LOG(P13))/LOG(2))))","v":0},null,null,{"$f":"N13","v":221},{"$f":"COUNTIF(L7:L13,T13)","v":0},{"$f":"U13/(W4-U14)","v":{"$error":"#DIV/0!"}},{"$f":"IF(V13=0,0,(V13*((LOG(V13))/LOG(2))))","v":{"$error":"#DIV/0!"}},null,{"$f":"N13","v":221},{"$f":"COUNTIF(L14:L19,Y13)","v":0},{"$f":"Z13/(AB4-Z14)","v":{"$error":"#DIV/0!"}},{"$f":"IF(AA13=0,0,(AA13*((LOG(AA13))/LOG(2))))","v":{"$error":"#DIV/0!"}},null,{"$f":"N13","v":221},{"$f":"COUNTIF(L20:L26,AD13)","v":0},{"$f":"AE13/(AG4-AE14)","v":{"$error":"#DIV/0!"}},{"$f":"IF(AF13=0,0,(AF13*((LOG(AF13))/LOG(2))))","v":{"$error":"#DIV/0!"}},null,{"$f":"N13","v":221},{"$f":"COUNTIF(L27:L33,AI13)","v":0},{"$f":"AJ13/(AL4-AJ14)","v":{"$error":"#DIV/0!"}},{"$f":"IF(AK13=0,0,(AK13*((LOG(AK13))/LOG(2))))","v":{"$error":"#DIV/0!"}},null,{"$f":"N13","v":221},{"$f":"COUNTIF(L34:L39,AN13)","v":0},{"$f":"AO13/(AQ4-AO14)","v":{"$error":"#DIV/0!"}},{"$f":"IF(AP13=0,0,(AP13*((LOG(AP13))/LOG(2))))","v":{"$error":"#DIV/0!"}},null,{"$f":"N13","v":221},{"$f":"COUNTIF(L40:L46,AS13)","v":0},{"$f":"AT13/(AV4-AT14)","v":{"$error":"#DIV/0!"}},{"$f":"IF(AU13=0,0,(AU13*((LOG(AU13))/LOG(2))))","v":{"$error":"#DIV/0!"}}]
[21,1056,21,1065,21,1087,null,null,null,null,0,222,null,222,{"$f":"COUNTIF($L$7:$L$500,N14)","v":40},{"$f":"O14/$Q$4","v":1},{"$f":"IF(P14=0,0,(P14*((LOG(P14))/LOG(2))))","v":0},null,null,{"$f":"N14","v":222},{"$f":"COUNTIF(L7:L13,T14)","v":7},null,null,null,{"$f":"N14","v":222},{"$f":"COUNTIF(L14:L19,Y14)","v":6},null,null,null,{"$f":"N14","v":222},{"$f":"COUNTIF(L20:L26,AD14)","v":7},null,null,null,{"$f":"N14","v":222},{"$f":"COUNTIF(L27:L33,AI14)","v":7},null,null,null,{"$f":"N14","v":222},{"$f":"COUNTIF(L34:L39,AN14)","v":6},null,null,null,{"$f":"N14","v":222},{"$f":"COUNTIF(L40:L46,AS14)","v":7}]
[21,1179,21,1191,21,1200,null,null,null,null,0,222,null,null,null,{"$f":"SUM(P7:P14)","v":1},{"$f":"-SUM(Q7:Q14)","v":0},null,null,null,null,{"$f":"SUM(V7:V14)","v":{"$error":"#DIV/0!"}},{"$f":"-SUM(W7:W14)","v":{"$error":"#DIV/0!"}},null,null,null,{"$f":"SUM(AA7:AA14)","v":{"$error":"#DIV/0!"}},{"$f":"-SUM(AB7:AB14)","v":{"$error":"#DIV/0!"}},null,null,null,{"$f":"SUM(AF7:AF14)","v":{"$error":"#DIV/0!"}},{"$f":"-SUM(AG7:AG14)","v":{"$error":"#DIV/0!"}},null,null,null,{"$f":"SUM(AK7:AK14)","v":{"$error":"#DIV/0!"}},{"$f":"-SUM(AL7:AL14)","v":{"$error":"#DIV/0!"}},null,null,null,{"$f":"SUM(AP7:AP14)","v":{"$error":"#DIV/0!"}},{"$f":"-SUM(AQ7:AQ14)","v":{"$error":"#DIV/0!"}},null,null,null,{"$f":"SUM(AU7:AU14)","v":{"$error":"#DIV/0!"}},{"$f":"-SUM(AV7:AV14)","v":{"$error":"#DIV/0!"}}]
[21,1376,21,1416,21,1437,null,null,null,null,0,222,null,null,null,"U=",{"$f":"Q15/(LOG(Q4)/LOG(2))","v":0},null,null,null,null,"U1=",{"$f":"W15/(LOG(W4)/LOG(2))","v":{"$error":"#DIV/0!"}},null,null,null,"U2=",{"$f":"AB15/(LOG(AB4)/LOG(2))","v":{"$error":"#DIV/0!"}},null,null,null,"U3=",{"$f":"AG15/(LOG(AG4)/LOG(2))","v":{"$error":"#DIV/0!"}},null,null,null,"U4=",{"$f":"AL15/(LOG(AL4)/LOG(2))","v":{"$error":"#DIV/0!"}},null,null,null,"U5=",{"$f":"AQ15/(LOG(AQ4)/LOG(2))","v":{"$error":"#DIV/0!"}},null,null,null,"U6=",{"$f":"AV15/(LOG(AV4)/LOG(2))","v":{"$error":"#DIV/0!"}}]
[21,1540,21,1546,21,1553,null,null,null,null,0,222]
[21,1684,21,1689,21,1738,null,null,null,null,0,222]
[21,1839,21,1854,21,1867,null,null,null,null,0,222,null,"Total Target Seq"]
[21,1992,21,1999,21,2012,null,null,null,null,0,222,null,{"$f":"COUNTIF(L7:L46,G3)","v":40},null,7,6,7,7,6,7]
[21,2114,21,2122,21,2131,null,null,null,null,0,222,null,null,null,"% of reinforcement given in 6 equal intervals based on number of trials "]
[21,2228,21,2292,21,2303,null,null,null,null,0,222,null,null,null,"%_1","%_2","%_3","%_4","%_5","%_6"]
[21,2428,21,2433,21,2449,null,null,null,null,0,222,null,null,"target sequence",{"$f":"$G$3","v":222},{"$f":"$G$3","v":222},{"$f":"$G$3","v":222},{"$f":"$G$3","v":222},{"$f":"$G$3","v":222},{"$f":"$G$3","v":222}]
[21,2544,21,2606,21,2666,null,null,null,null,0,222,null,null,"total reinforcement",{"$f":"U14","v":7},{"$f":"Z14","v":6},{"$f":"AE14","v":7},{"$f":"AJ14","v":7},{"$f":"AO14","v":6},{"$f":"AT14","v":7}]
[21,2764,21,2771,21,2789,null,null,null,null,0,222,null,null,"% target"]
[21,2883,21,2895,21,2903,null,null,null,null,0,222,null,null,"CCRF"]
[21,3101,21,3115,21,3125,null,null,null,null,0,222,null,null,"% CCRf"]
[21,3243,21,3266,21,3276,null,null,null,null,0,222,null,null,"average response rate",{"$f":"F13/P20","v":137.57142857142858},{"$f":"(F19-F13)/Q20","v":150.66666666666666},{"$f":"(F26-F19)/R20","v":148},{"$f":"(F33-F26)/S20","v":158.14285714285714},{"$f":"(F39-F33)/T20","v":146.66666666666666},{"$f":"(F46-F39)/U20","v":147.28571428571428}]
[21,3376,21,3383,21,3424,null,null,null,null,0,222]
[21,3517,21,3554,21,3574,null,null,null,null,0,222]
[21,3671,21,3679,21,3689,null,null,null,null,0,222]
[21,3782,21,3786,21,3792,null,null,null,null,0,222]
[21,3944,21,3966,21,4010,null,null,null,null,0,222]
[21,4136,21,4147,21,4161,null,null,null,null,0,222]
[21,4252,21,4259,21,4265,null,null,null,null,0,222]
[21,4431,21,4440,21,4446,null,null,null,null,0,222]
[21,4572,21,4582,21,4608,null,null,null,null,0,222]
[21,4720,21,4727,21,4760,null,null,null,null,0,222]
[21,4871,21,4878,21,4890,null,null,null,null,0,222]
[21,4989,21,4993,21,5025,null,null,null,null,0,222]
[21,5160,21,5166,21,5174,null,null,null,null,0,222]
[21,5273,21,5316,21,5336,null,null,null,null,0,222]
[21,5439,21,5445,21,5452,null,null,null,null,0,222]
[21,5580,21,5585,21,5603,null,null,null,null,0,222]
[21,5706,21,5738,21,5757,null,null,null,null,0,222]
[21,5894,21,5908,21,5921,null,null,null,null,1,222]

{"sheet":"!M40394I.sha","index":27,"n_rows":46,"n_cols":48,"rows_kept":46,"cut":false,"hidden":false,"merged":[[4,39,4,42],[5,39,5,40],[4,44,4,47],[5,44,5,45],[4,24,4,27],[5,24,5,25],[4,29,4,32],[5,29,5,30],[4,34,4,37],[5,34,5,35],[1,1,1,2],[5,13,5,14],[18,13,18,14],[19,13,19,14],[4,19,4,22],[5,19,5,20]]}
["Report for:!M40394I.sha"]
["Date:","<date>"]
["Hen:","<hen>",null,null,null,"Correct Sequence",{"$f":"Start!J2","v":222},null,null,null,null,null,null,null,null,"Total Sequences in Data",{"$f":"4994-COUNTBLANK(L7:L5000)","v":40},null,null,null,null,"Total Sequences in Block Data",{"$f":"COUNTA(L7:L13)","v":7},null,null,null,"Total Sequences in Block Data",{"$f":"COUNTA(L14:L19)","v":6},null,null,null,"Total Sequences in Block Data",{"$f":"COUNTA(L20:L26)","v":7},null,null,null,"Total Sequences in Block Data",{"$f":"COUNTA(L27:L33)","v":7},null,null,null,"Total Sequences in Block Data",{"$f":"COUNTA(L34:L39)","v":6},null,null,null,"Total Sequences in Block Data",{"$f":"COUNTA(L40:L46)","v":7}]
[null,null,null,null,null,null,null,null,null,null,null,null,null,null,null,"Total Sequences in Summary",{"$f":"SUM(O7:O14)","v":40},null,null,null,null,"Total Sequences in Block Summary",{"$f":"SUM(U7:U14)","v":7},null,null,null,"Total Sequences in Block Summary",{"$f":"SUM(Z7:Z14)","v":6},null,null,null,"Total Sequences in Block Summary",{"$f":"SUM(AE7:AE14)","v":7},null,null,null,"Total Sequences in Block Summary",{"$f":"SUM(AJ7:AJ14)","v":7},null,null,null,"Total Sequences in Block Summary",{"$f":"SUM(AO7:AO14)","v":6},null,null,null,"Total Sequences in Block Summary",{"$f":"SUM(AT7:AT14)","v":7}]
[null,null,null,null,null,null,null,null,null,null,null,null,null,null,null,null,null,null,null,"Block 1",null,null,null,null,"Block 2",null,null,null,null,"Block 3",null,null,null,null,"Block 4",null,null,null,null,"Block 5",null,null,null,null,"Block 6"]
["Sequence\nComponent\n1","Time\n1","Sequence\nComponent\n2","Time\n2","Sequence\nComponent\n3","Time\n3","Sequence\nComponent\n4","Time\n4","Sequence\nComponent\n5","Time\n5","Correct?\n0=No 1=Yes","Sequence",null,"Frequency",null,"Relative Frequency","Variability",null,null,"Frequency",null,"Relative Frequency","Variability",null,"Frequency",null,"Relative Frequency","Variability",null,"Frequency",null,"Relative Frequency","Variability",null,"Frequency",null,"Relative Frequency","Variability",null,"Frequency",null,"Relative Frequency","Variability",null,"Frequency",null,"Relative Frequency","Variability"]
[21,11,21,35,21,49,null,null,null,null,0,222,null,111,{"$f":"COUNTIF($L$7:$L$500,N7)","v":0},{"$f":"O7/$Q$4","v":0},{"$f":"IF(P7=0,0,(P7*((LOG(P7))/LOG(2))))","v":0},null,null,{"$f":"N7","v":111},{"$f":"COUNTIF(L7:L13,T7)","v":0},{"$f":"U7/(W4-U14)","v":{"$error":"#DIV/0!"}},{"$f":"IF(V7=0,0,(V7*((LOG(V7))/LOG(2))))","v":{"$error":"#DIV/0!"}},null,{"$f":"N7","v":111},{"$f":"COUNTIF(L14:L19,Y7)","v":0},{"$f":"Z7/(AB4-Z14)","v":{"$error":"#DIV/0!"}},{"$f":"IF(AA7=0,0,(AA7*((LOG(AA7))/LOG(2))))","v":{"$error":"#DIV/0!"}},null,{"$f":"N7","v":111},{"$f":"COUNTIF(L20:L26,AD7)","v":0},{"$f":"AE7/(AG4-AE14)","v":{"$error":"#DIV/0!"}},{"$f":"IF(AF7=0,0,(AF7*((LOG(AF7))/LOG(2))))","v":{"$error":"#DIV/0!"}},null,{"$f":"N7","v":111},{"$f":"COUNTIF(L27:L33,AI7)","v":0},{"$f":"AJ7/(AL4-AJ14)","v":{"$error":"#DIV/0!"}},{"$f":"IF(AK7=0,0,(AK7*((LOG(AK7))/LOG(2))))","v":{"$error":"#DIV/0!"}},null,{"$f":"N7","v":111},{"$f":"COUNTIF(L34:L39,AN7)","v":0},{"$f":"AO7/(AQ4-AO14)","v":{"$error":"#DIV/0!"}},{"$f":"IF(AP7=0,0,(AP7*((LOG(AP7))/LOG(2))))","v":{"$error":"#DIV/0!"}},null,{"$f":"N7","v":111},{"$f":"COUNTIF(L40:L46,AS7)","v":0},{"$f":"AT7/(AV4-AT14)","v":{"$error":"#DIV/0!"}},{"$f":"IF(AU7=0,0,(AU7*((LOG(AU7))/LOG(2))))","v":{"$error":"#DIV/0!"}}]
[21,155,21,171,21,186,null,null,null,null,0,222,null,112,{"$f":"COUNTIF($L$7:$L$500,N8)","v":0},{"$f":"O8/$Q$4","v":0},{"$f":"IF(P8=0,0,(P8*((LOG(P8))/LOG(2))))","v":0},null,null,{"$f":"N8","v":112},{"$f":"COUNTIF(L7:L13,T8)","v":0},{"$f":"U8/(W4-U14)","v":{"$error":"#DIV/0!"}},{"$f":"IF(V8=0,0,(V8*((LOG(V8))/LOG(2))))","v":{"$error":"#DIV/0!"}},null,{"$f":"N8","v":112},{"$f":"COUNTIF(L14:L19,Y8)","v":0},{"$f":"Z8/(AB4-Z14)","v":{"$error":"#DIV/0!"}},{"$f":"IF(AA8=0,0,(AA8*((LOG(AA8))/LOG(2))))","v":{"$error":"#DIV/0!"}},null,{"$f":"N8","v":112},{"$f":"COUNTIF(L20:L26,AD8)","v":0},{"$f":"AE8/(AG4-AE14)","v":{"$error":"#DIV/0!"}},{"$f":"IF(AF8=0,0,(AF8*((LOG(AF8))/LOG(2))))","v":{"$error":"#DIV/0!"}},null,{"$f":"N8","v":112},{"$f":"COUNTIF(L27:L33,AI8)","v":0},{"$f":"AJ8/(AL4-AJ14)","v":{"$error":"#DIV/0!"}},{"$f":"IF(AK8=0,0,(AK8*((LOG(AK8))/LOG(2))))","v":{"$error":"#DIV/0!"}},null,{"$f":"N8","v":112},{"$f":"COUNTIF(L34:L39,AN8)","v":0},{"$f":"AO8/(AQ4-AO14)","v":{"$error":"#DIV/0!"}},{"$f":"IF(AP8=0,0,(AP8*((LOG(AP8))/LOG(2))))","v":{"$error":"#DIV/0!"}},null,{"$f":"N8","v":112},{"$f":"COUNTIF(L40:L46,AS8)","v":0},{"$f":"AT8/(AV4-AT14)","v":{"$error":"#DIV/0!"}},{"$f":"IF(AU8=0,0,(AU8*((LOG(AU8))/LOG(2))))","v":{"$error":"#DIV/0!"}}]
[21,296,21,302,21,307,null,null,null,null,0,222,null,121,{"$f":"COUNTIF($L$7:$L$500,N9)","v":0},{"$f":"O9/$Q$4","v":0},{"$f":"IF(P9=0,0,(P9*((LOG(P9))/LOG(2))))","v":0},null,null,{"$f":"N9","v":121},{"$f":"COUNTIF(L7:L13,T9)","v":0},{"$f":"U9/(W4-U14)","v":{"$error":"#DIV/0!"}},{"$f":"IF(V9=0,0,(V9*((LOG(V9))/LOG(2))))","v":{"$error":"#DIV/0!"}},null,{"$f":"N9","v":121},{"$f":"COUNTIF(L14:L19,Y9)","v":0},{"$f":"Z9/(AB4-Z14)","v":{"$error":"#DIV/0!"}},{"$f":"IF(AA9=0,0,(AA9*((LOG(AA9))/LOG(2))))","v":{"$error":"#DIV/0!"}},null,{"$f":"N9","v":121},{"$f":"COUNTIF(L20:L26,AD9)","v":0},{"$f":"AE9/(AG4-AE14)","v":{"$error":"#DIV/0!"}},{"$f":"IF(AF9=0,0,(AF9*((LOG(AF9))/LOG(2))))","v":{"$error":"#DIV/0!"}},null,{"$f":"N9","v":121},{"$f":"COUNTIF(L27:L33,AI9)","v":0},{"$f":"AJ9/(AL4-AJ14)","v":{"$error":"#DIV/0!"}},{"$f":"IF(AK9=0,0,(AK9*((LOG(AK9))/LOG(2))))","v":{"$error":"#DIV/0!"}},null,{"$f":"N9","v":121},{"$f":"COUNTIF(L34:L39,AN9)","v":0},{"$f":"AO9/(AQ4-AO14)","v":{"$error":"#DIV/0!"}},{"$f":"IF(AP9=0,0,(AP9*((LOG(AP9))/LOG(2))))","v":{"$error":"#DIV/0!"}},null,{"$f":"N9","v":121},{"$f":"COUNTIF(L40:L46,AS9)","v":0},{"$f":"AT9/(AV4-AT14)","v":{"$error":"#DIV/0!"}},{"$f":"IF(AU9=0,0,(AU9*((LOG(AU9))/LOG(2))))","v":{"$error":"#DIV/0!"}}]
[21,405,21,429,21,440,null,null,null,null,0,222,null,122,{"$f":"COUNTIF($L$7:$L$500,N10)","v":0},{"$f":"O10/$Q$4","v":0},{"$f":"IF(P10=0,0,(P10*((LOG(P10))/LOG(2))))","v":0},null,null,{"$f":"N10","v":122},{"$f":"COUNTIF(L7:L13,T10)","v":0},{"$f":"U10/(W4-U14)","v":{"$error":"#DIV/0!"}},{"$f":"IF(V10=0,0,(V10*((LOG(V10))/LOG(2))))","v":{"$error":"#DIV/0!"}},null,{"$f":"N10","v":122},{"$f":"COUNTIF(L14:L19,Y10)","v":0},{"$f":"Z10/(AB4-Z14)","v":{"$error":"#DIV/0!"}},{"$f":"IF(AA10=0,0,(AA10*((LOG(AA10))/LOG(2))))","v":{"$error":"#DIV/0!"}},null,{"$f":"N10","v":122},{"$f":"COUNTIF(L20:L26,AD10)","v":0},{"$f":"AE10/(AG4-AE14)","v":{"$error":"#DIV/0!"}},{"$f":"IF(AF10=0,0,(AF10*((LOG(AF10))/LOG(2))))","v":{"$error":"#DIV/0!"}},null,{"$f":"N10","v":122},{"$f":"COUNTIF(L27:L33,AI10)","v":0},{"$f":"AJ10/(AL4-AJ14)","v":{"$error":"#DIV/0!"}},{"$f":"IF(AK10=0,0,(AK10*((LOG(AK10))/LOG(2))))","v":{"$error":"#DIV/0!"}},null,{"$f":"N10","v":122},{"$f":"COUNTIF(L34:L39,AN10)","v":0},{"$f":"AO10/(AQ4-AO14)","v":{"$error":"#DIV/0!"}},{"$f":"IF(AP10=0,0,(AP10*((LOG(AP10))/LOG(2))))","v":{"$error":"#DIV/0!"}},null,{"$f":"N10","v":122},{"$f":"COUNTIF(L40:L46,AS10)","v":0},{"$f":"AT10/(AV4-AT14)","v":{"$error":"#DIV/0!"}},{"$f":"IF(AU10=0,0,(AU10*((LOG(AU10))/LOG(2))))","v":{"$error":"#DIV/0!"}}]
[21,532,21,539,21,545,null,null,null,null,0,222,null,211,{"$f":"COUNTIF($L$7:$L$500,N11)","v":0},{"$f":"O11/$Q$4","v":0},{"$f":"IF(P11=0,0,(P11*((LOG(P11))/LOG(2))))","v":0},null,null,{"$f":"N11","v":211},{"$f":"COUNTIF(L7:L13,T11)","v":0},{"$f":"U11/(W4-U14)","v":{"$error":"#DIV/0!"}},{"$f":"IF(V11=0,0,(V11*((LOG(V11))/LOG(2))))","v":{"$error":"#DIV/0!"}},null,{"$f":"N11","v":211},{"$f":"COUNTIF(L14:L19,Y11)","v":0},{"$f":"Z11/(AB4-Z14)","v":{"$error":"#DIV/0!"}},{"$f":"IF(AA11=0,0,(AA11*((LOG(AA11))/LOG(2))))","v":{"$error":"#DIV/0!"}},null,{"$f":"N11","v":211},{"$f":"COUNTIF(L20:L26,AD11)","v":0},{"$f":"AE11/(AG4-AE14)","v":{"$error":"#DIV/0!"}},{"$f":"IF(AF11=0,0,(AF11*((LOG(AF11))/LOG(2))))","v":{"$error":"#DIV/0!"}},null,{"$f":"N11","v":211},{"$f":"COUNTIF(L27:L33,AI11)","v":0},{"$f":"AJ11/(AL4-AJ14)","v":{"$error":"#DIV/0!"}},{"$f":"IF(AK11=0,0,(AK11*((LOG(AK11))/LOG(2))))","v":{"$error":"#DIV/0!"}},null,{"$f":"N11","v":211},{"$f":"COUNTIF(L34:L39,AN11)","v":0},{"$f":"AO11/(AQ4-AO14)","v":{"$error":"#DIV/0!"}},{"$f":"IF(AP11=0,0,(AP11*((LOG(AP11))/LOG(2))))","v":{"$error":"#DIV/0!"}},null,{"$f":"N11","v":211},{"$f":"COUNTIF(L40:L46,AS11)","v":0},{"$f":"AT11/(AV4-AT14)","v":{"$error":"#DIV/0!"}},{"$f":"IF(AU11=0,0,(AU11*((LOG(AU11))/LOG(2))))","v":{"$error":"#DIV/0!"}}]
[21,654,21,661,21,670,null,null,null,null,0,222,null,212,{"$f":"COUNTIF($L$7:$L$500,N12)","v":0},{"$f":"O12/$Q$4","v":0},{"$f":"IF(P12=0,0,(P12*((LOG(P12))/LOG(2))))","v":0},null,null,{"$f":"N12","v":212},{"$f":"COUNTIF(L7:L13,T12)","v":0},{"$f":"U12/(W4-U14)","v":{"$error":"#DIV/0!"}},{"$f":"IF(V12=0,0,(V12*((LOG(V12))/LOG(2))))","v":{"$error":"#DIV/0!"}},null,{"$f":"N12","v":212},{"$f":"COUNTIF(L14:L19,Y12)","v":0},{"$f":"Z12/(AB4-Z14)","v":{"$error":"#DIV/0!"}},{"$f":"IF(AA12=0,0,(AA12*((LOG(AA12))/LOG(2))))","v":{"$error":"#DIV/0!"}},null,{"$f":"N12","v":212},{"$f":"COUNTIF(L20:L26,AD12)","v":0},{"$f":"AE12/(AG4-AE14)","v":{"$error":"#DIV/0!"}},{"$f":"IF(AF12=0,0,(AF12*((LOG(AF12))/LOG(2))))","v":{"$error":"#DIV/0!"}},null,{"$f":"N12","v":212},{"$f":"COUNTIF(L27:L33,AI12)","v":0},{"$f":"AJ12/(AL4-AJ14)","v":{"$error":"#DIV/0!"}},{"$f":"IF(AK12=0,0,(AK12*((LOG(AK12))/LOG(2))))","v":{"$error":"#DIV/0!"}},null,{"$f":"N12","v":212},{"$f":"COUNTIF(L34:L39,AN12)","v":0},{"$f":"AO12/(AQ4-AO14)","v":{"$error":"#DIV/0!"}},{"$f":"IF(AP12=0,0,(AP12*((LOG(AP12))/LOG(2))))","v":{"$error":"#DIV/0!"}},null,{"$f":"N12","v":212},{"$f":"COUNTIF(L40:L46,AS12)","v":0},{"$f":"AT12/(AV4-AT14)","v":{"$error":"#DIV/0!"}},{"$f":"IF(AU12=0,0,(AU12*((LOG(AU12))/LOG(2))))","v":{"$error":"#DIV/0!"}}]
[21,783,21,787,21,803,null,null,null,null,0,222,null,221,{"$f":"COUNTIF($L$7:$L$500,N13)","v":0},{"$f":"O13/$Q$4","v":0},{"$f":"IF(P13=0,0,(P13*((LOG(P13))/LOG(2))))","v":0},null,null,{"$f":"N13","v":221},{"$f":"COUNTIF(L7:L13,T13)","v":0},{"$f":"U13/(W4-U14)","v":{"$error":"#DIV/0!"}},{"$f":"IF(V13=0,0,(V13*((LOG(V13))/LOG(2))))","v":{"$error":"#DIV/0!"}},null,{"$f":"N13","v":221},{"$f":"COUNTIF(L14:L19,Y13)","v":0},{"$f":"Z13/(AB4-Z14)","v":{"$error":"#DIV/0!"}},{"$f":"IF(AA13=0,0,(AA13*((LOG(AA13))/LOG(2))))","v":{"$error":"#DIV/0!"}},null,{"$f":"N13","v":221},{"$f":"COUNTIF(L20:L26,AD13)","v":0},{"$f":"AE13/(AG4-AE14)","v":{"$error":"#DIV/0!"}},{"$f":"IF(AF13=0,0,(AF13*((LOG(AF13))/LOG(2))))","v":{"$error":"#DIV/0!"}},null,{"$f":"N13","v":221},{"$f":"COUNTIF(L27:L33,AI13)","v":0},{"$f":"AJ13/(AL4-AJ14)","v":{"$error":"#DIV/0!"}},{"$f":"IF(AK13=0,0,(AK13*((LOG(AK13))/LOG(2))))","v":{"$error":"#DIV/0!"}},null,{"$f":"N13","v":221},{"$f":"COUNTIF(L34:L39,AN13)","v":0},{"$f":"AO13/(AQ4-AO14)","v":{"$error":"#DIV/0!"}},{"$f":"IF(AP13=0,0,(AP13*((LOG(AP13))/LOG(2))))","v":{"$error":"#DIV/0!"}},null,{"$f":"N13","v":221},{"$f":"COUNTIF(L40:L46,AS13)","v":0},{"$f":"AT13/(AV4-AT14)","v":{"$error":"#DIV/0!"}},{"$f":"IF(AU13=0,0,(AU13*((LOG(AU13))/LOG(2))))","v":{"$error":"#DIV/0!"}}]
[21,896,21,905,21,919,null,null,null,null,0,222,null,222,{"$f":"COUNTIF($L$7:$L$500,N14)","v":40},{"$f":"O14/$Q$4","v":1},{"$f":"IF(P14=0,0,(P14*((LOG(P14))/LOG(2))))","v":0},null,null,{"$f":"N14","v":222},{"$f":"COUNTIF(L7:L13,T14)","v":7},null,null,null,{"$f":"N14","v":222},{"$f":"COUNTIF(L14:L19,Y14)","v":6},null,null,null,{"$f":"N14","v":222},{"$f":"COUNTIF(L20:L26,AD14)","v":7},null,null,null,{"$f":"N14","v":222},{"$f":"COUNTIF(L27:L33,AI14)","v":7},null,null,null,{"$f":"N14","v":222},{"$f":"COUNTIF(L34:L39,AN14)","v":6},null,null,null,{"$f":"N14","v":222},{"$f":"COUNTIF(L40:L46,AS14)","v":7}]
[21,1040,21,1045,21,1068,null,null,null,null,0,222,null,null,null,{"$f":"SUM(P7:P14)","v":1},{"$f":"-SUM(Q7:Q14)","v":0},null,null,null,null,{"$f":"SUM(V7:V14)","v":{"$error":"#DIV/0!"}},{"$f":"-SUM(W7:W14)","v":{"$error":"#DIV/0!"}},null,null,null,{"$f":"SUM(AA7:AA14)","v":{"$error":"#DIV/0!"}},{"$f":"-SUM(AB7:AB14)","v":{"$error":"#DIV/0!"}},null,null,null,{"$f":"SUM(AF7:AF14)","v":{"$error":"#DIV/0!"}},{"$f":"-SUM(AG7:AG14)","v":{"$error":"#DIV/0!"}},null,null,null,{"$f":"SUM(AK7:AK14)","v":{"$error":"#DIV/0!"}},{"$f":"-SUM(AL7:AL14)","v":{"$error":"#DIV/0!"}},null,null,null,{"$f":"SUM(AP7:AP14)","v":{"$error":"#DIV/0!"}},{"$f":"-SUM(AQ7:AQ14)","v":{"$error":"#DIV/0!"}},null,null,null,{"$f":"SUM(AU7:AU14)","v":{"$error":"#DIV/0!"}},{"$f":"-SUM(AV7:AV14)","v":{"$error":"#DIV/0!"}}]
[21,1171,21,1182,21,1196,null,null,null,null,0,222,null,null,null,"U=",{"$f":"Q15/(LOG(Q4)/LOG(2))","v":0},null,null,null,null,"U1=",{"$f":"W15/(LOG(W4)/LOG(2))","v":{"$error":"#DIV/0!"}},null,null,null,"U2=",{"$f":"AB15/(LOG(AB4)/LOG(2))","v":{"$error":"#DIV/0!"}},null,null,null,"U3=",{"$f":"AG15/(LOG(AG4)/LOG(2))","v":{"$error":"#DIV/0!"}},null,null,null,"U4=",{"$f":"AL15/(LOG(AL4)/LOG(2))","v":{"$error":"#DIV/0!"}},null,null,null,"U5=",{"$f":"AQ15/(LOG(AQ4)/LOG(2))","v":{"$error":"#DIV/0!"}},null,null,null,"U6=",{"$f":"AV15/(LOG(AV4)/LOG(2))","v":{"$error":"#DIV/0!"}}]
[21,1318,21,1335,21,1347,null,null,null,null,0,222]
[21,1518,21,1530,21,1560,null,null,null,null,0,222]
[21,1697,21,1737,21,1754,null,null,null,null,0,222,null,"Total Target Seq"]
[21,1864,21,1876,21,1885,null,null,null,null,0,222,null,{"$f":"COUNTIF(L7:L46,G3)","v":40},null,7,6,7,7,6,7]
[21,1984,21,1992,21,1998,null,null,null,null,0,222,null,null,null,"% of reinforcement given in 6 equal intervals based on number of trials "]
[21,2094,21,2100,21,2131,null,null,null,null,0,222,null,null,null,"%_1","%_2","%_3","%_4","%_5","%_6"]
[21,2230,21,2235,21,2265,null,null,null,null,0,222,null,null,"target sequence",{"$f":"$G$3","v":222},{"$f":"$G$3","v":222},{"$f":"$G$3","v":222},{"$f":"$G$3","v":222},{"$f":"$G$3","v":222},{"$f":"$G$3","v":222}]
[21,2363,21,2376,21,2386,null,null,null,null,0,222,null,null,"total reinforcement",{"$f":"U14","v":7},{"$f":"Z14","v":6},{"$f":"AE14","v":7},{"$f":"AJ14","v":7},{"$f":"AO14","v":6},{"$f":"AT14","v":7}]
[21,2482,21,2492,21,2503,null,null,null,null,0,222,null,null,"% target"]
[21,2599,21,2605,21,2624,null,null,null,null,0,222,null,null,"CCRF"]
[21,2751,21,2765,21,2784,null,null,null,null,0,222,null,null,"% CCRf"]
[21,2903,21,2930,21,2951,null,null,null,null,0,222,null,null,"average response rate",{"$f":"F13/P20","v":114.71428571428571},{"$f":"(F19-F13)/Q20","v":158.5},{"$f":"(F26-F19)/R20","v":124.28571428571429},{"$f":"(F33-F26)/S20","v":156.14285714285714},{"$f":"(F39-F33)/T20","v":128.33333333333334},{"$f":"(F46-F39)/U20","v":167}]
[21,3102,21,3110,21,3135,null,null,null,null,0,222]
[21,3230,21,3240,21,3245,null,null,null,null,0,222]
[21,3348,21,3353,21,3375,null,null,null,null,0,222]
[21,3555,21,3563,21,3569,null,null,null,null,0,222]
[21,3701,21,3708,21,3717,null,null,null,null,0,222]
[21,3813,21,3838,21,3844,null,null,null,null,0,222]
[21,3961,21,3976,21,4003,null,null,null,null,0,222]
[21,4096,21,4101,21,4109,null,null,null,null,0,222]
[21,4201,21,4206,21,4216,null,null,null,null,0,222]
[21,4325,21,4331,21,4339,null,null,null,null,0,222]
[21,4452,21,4470,21,4487,null,null,null,null,0,222]
[21,4647,21,4663,21,4672,null,null,null,null,0,222]
[21,4825,21,4843,21,4856,null,null,null,null,0,222]
[21,4980,21,4990,21,5000,null,null,null,null,0,222]
[21,5159,21,5169,21,5186,null,null,null,null,0,222]
[21,5324,21,5331,21,5358,null,null,null,null,0,222]
[21,5457,21,5474,21,5489,null,null,null,null,0,222]
[21,5644,21,5649,21,5656,null,null,null,null,1,222]

{"sheet":"!M404A0I.sha","index":28,"n_rows":48,"n_cols":48,"rows_kept":48,"cut":false,"hidden":false,"merged":[[4,39,4,42],[5,39,5,40],[4,44,4,47],[5,44,5,45],[4,24,4,27],[5,24,5,25],[4,29,4,32],[5,29,5,30],[4,34,4,37],[5,34,5,35],[1,1,1,2],[5,13,5,14],[18,13,18,14],[19,13,19,14],[4,19,4,22],[5,19,5,20]]}
["Report for:!M404A0I.sha"]
["Date:","<date>"]
["Hen:","<hen>",null,null,null,"Correct Sequence",{"$f":"Start!J2","v":222},null,null,null,null,null,null,null,null,"Total Sequences in Data",{"$f":"4994-COUNTBLANK(L7:L5000)","v":42},null,null,null,null,"Total Sequences in Block Data",{"$f":"COUNTA(L7:L13)","v":7},null,null,null,"Total Sequences in Block Data",{"$f":"COUNTA(L14:L20)","v":7},null,null,null,"Total Sequences in Block Data",{"$f":"COUNTA(L21:L27)","v":7},null,null,null,"Total Sequences in Block Data",{"$f":"COUNTA(L28:L34)","v":7},null,null,null,"Total Sequences in Block Data",{"$f":"COUNTA(L35:L41)","v":7},null,null,null,"Total Sequences in Block Data",{"$f":"COUNTA(L42:L48)","v":7}]
[null,null,null,null,null,null,null,null,null,null,null,null,null,null,null,"Total Sequences in Summary",{"$f":"SUM(O7:O14)","v":42},null,null,null,null,"Total Sequences in Block Summary",{"$f":"SUM(U7:U14)","v":7},null,null,null,"Total Sequences in Block Summary",{"$f":"SUM(Z7:Z14)","v":7},null,null,null,"Total Sequences in Block Summary",{"$f":"SUM(AE7:AE14)","v":7},null,null,null,"Total Sequences in Block Summary",{"$f":"SUM(AJ7:AJ14)","v":7},null,null,null,"Total Sequences in Block Summary",{"$f":"SUM(AO7:AO14)","v":7},null,null,null,"Total Sequences in Block Summary",{"$f":"SUM(AT7:AT14)","v":7}]
[null,null,null,null,null,null,null,null,null,null,null,null,null,null,null,null,null,null,null,"Block 1",null,null,null,null,"Block 2",null,null,null,null,"Block 3",null,null,null,null,"Block 4",null,null,null,null,"Block 5",null,null,null,null,"Block 6"]
["Sequence\nComponent\n1","Time\n1","Sequence\nComponent\n2","Time\n2","Sequence\nComponent\n3","Time\n3","Sequence\nComponent\n4","Time\n4","Sequence\nComponent\n5","Time\n5","Correct?\n0=No 1=Yes","Sequence",null,"Frequency",null,"Relative Frequency","Variability",null,null,"Frequency",null,"Relative Frequency","Variability",null,"Frequency",null,"Relative Frequency","Variability",null,"Frequency",null,"Relative Frequency","Variability",null,"Frequency",null,"Relative Frequency","Variability",null,"Frequency",null,"Relative Frequency","Variability",null,"Frequency",null,"Relative Frequency","Variability"]
[21,56,12,66,23,85,null,null,null,null,0,212,null,111,{"$f":"COUNTIF($L$7:$L$500,N7)","v":0},{"$f":"O7/$Q$4","v":0},{"$f":"IF(P7=0,0,(P7*((LOG(P7))/LOG(2))))","v":0},null,null,{"$f":"N7","v":111},{"$f":"COUNTIF(L7:L13,T7)","v":0},{"$f":"U7/(W4-U14)","v":0},{"$f":"IF(V7=0,0,(V7*((LOG(V7))/LOG(2))))","v":0},null,{"$f":"N7","v":111},{"$f":"COUNTIF(L14:L20,Y7)","v":0},{"$f":"Z7/(AB4-Z14)","v":{"$error":"#DIV/0!"}},{"$f":"IF(AA7=0,0,(AA7*((LOG(AA7))/LOG(2))))","v":{"$error":"#DIV/0!"}},null,{"$f":"N7","v":111},{"$f":"COUNTIF(L21:L27,AD7)","v":0},{"$f":"AE7/(AG4-AE14)","v":{"$error":"#DIV/0!"}},{"$f":"IF(AF7=0,0,(AF7*((LOG(AF7))/LOG(2))))","v":{"$error":"#DIV/0!"}},null,{"$f":"N7","v":111},{"$f":"COUNTIF(L28:L34,AI7)","v":0},{"$f":"AJ7/(AL4-AJ14)","v":{"$error":"#DIV/0!"}},{"$f":"IF(AK7=0,0,(AK7*((LOG(AK7))/LOG(2))))","v":{"$error":"#DIV/0!"}},null,{"$f":"N7","v":111},{"$f":"COUNTIF(L35:L41,AN7)","v":0},{"$f":"AO7/(AQ4-AO14)","v":{"$error":"#DIV/0!"}},{"$f":"IF(AP7=0,0,(AP7*((LOG(AP7))/LOG(2))))","v":{"$error":"#DIV/0!"}},null,{"$f":"N7","v":111},{"$f":"COUNTIF(L42:L48,AS7)","v":0},{"$f":"AT7/(AV4-AT14)","v":{"$error":"#DIV/0!"}},{"$f":"IF(AU7=0,0,(AU7*((LOG(AU7))/LOG(2))))","v":{"$error":"#DIV/0!"}}]
[21,184,21,191,12,199,null,null,null,null,0,221,null,112,{"$f":"COUNTIF($L$7:$L$500,N8)","v":0},{"$f":"O8/$Q$4","v":0},{"$f":"IF(P8=0,0,(P8*((LOG(P8))/LOG(2))))","v":0},null,null,{"$f":"N8","v":112},{"$f":"COUNTIF(L7:L13,T8)","v":0},{"$f":"U8/(W4-U14)","v":0},{"$f":"IF(V8=0,0,(V8*((LOG(V8))/LOG(2))))","v":0},null,{"$f":"N8","v":112},{"$f":"COUNTIF(L14:L20,Y8)","v":0},{"$f":"Z8/(AB4-Z14)","v":{"$error":"#DIV/0!"}},{"$f":"IF(AA8=0,0,(AA8*((LOG(AA8))/LOG(2))))","v":{"$error":"#DIV/0!"}},null,{"$f":"N8","v":112},{"$f":"COUNTIF(L21:L27,AD8)","v":0},{"$f":"AE8/(AG4-AE14)","v":{"$error":"#DIV/0!"}},{"$f":"IF(AF8=0,0,(AF8*((LOG(AF8))/LOG(2))))","v":{"$error":"#DIV/0!"}},null,{"$f":"N8","v":112},{"$f":"COUNTIF(L28:L34,AI8)","v":0},{"$f":"AJ8/(AL4-AJ14)","v":{"$error":"#DIV/0!"}},{"$f":"IF(AK8=0,0,(AK8*((LOG(AK8))/LOG(2))))","v":{"$error":"#DIV/0!"}},null,{"$f":"N8","v":112},{"$f":"COUNTIF(L35:L41,AN8)","v":0},{"$f":"AO8/(AQ4-AO14)","v":{"$error":"#DIV/0!"}},{"$f":"IF(AP8=0,0,(AP8*((LOG(AP8))/LOG(2))))","v":{"$error":"#DIV/0!"}},null,{"$f":"N8","v":112},{"$f":"COUNTIF(L42:L48,AS8)","v":0},{"$f":"AT8/(AV4-AT14)","v":{"$error":"#DIV/0!"}},{"$f":"IF(AU8=0,0,(AU8*((LOG(AU8))/LOG(2))))","v":{"$error":"#DIV/0!"}}]
[21,295,21,300,21,306,null,null,null,null,0,222,null,121,{"$f":"COUNTIF($L$7:$L$500,N9)","v":0},{"$f":"O9/$Q$4","v":0},{"$f":"IF(P9=0,0,(P9*((LOG(P9))/LOG(2))))","v":0},null,null,{"$f":"N9","v":121},{"$f":"COUNTIF(L7:L13,T9)","v":0},{"$f":"U9/(W4-U14)","v":0},{"$f":"IF(V9=0,0,(V9*((LOG(V9))/LOG(2))))","v":0},null,{"$f":"N9","v":121},{"$f":"COUNTIF(L14:L20,Y9)","v":0},{"$f":"Z9/(AB4-Z14)","v":{"$error":"#DIV/0!"}},{"$f":"IF(AA9=0,0,(AA9*((LOG(AA9))/LOG(2))))","v":{"$error":"#DIV/0!"}},null,{"$f":"N9","v":121},{"$f":"COUNTIF(L21:L27,AD9)","v":0},{"$f":"AE9/(AG4-AE14)","v":{"$error":"#DIV/0!"}},{"$f":"IF(AF9=0,0,(AF9*((LOG(AF9))/LOG(2))))","v":{"$error":"#DIV/0!"}},null,{"$f":"N9","v":121},{"$f":"COUNTIF(L28:L34,AI9)","v":0},{"$f":"AJ9/(AL4-AJ14)","v":{"$error":"#DIV/0!"}},{"$f":"IF(AK9=0,0,(AK9*((LOG(AK9))/LOG(2))))","v":{"$error":"#DIV/0!"}},null,{"$f":"N9","v":121},{"$f":"COUNTIF(L35:L41,AN9)","v":0},{"$f":"AO9/(AQ4-AO14)","v":{"$error":"#DIV/0!"}},{"$f":"IF(AP9=0,0,(AP9*((LOG(AP9))/LOG(2))))","v":{"$error":"#DIV/0!"}},null,{"$f":"N9","v":121},{"$f":"COUNTIF(L42:L48,AS9)","v":0},{"$f":"AT9/(AV4-AT14)","v":{"$error":"#DIV/0!"}},{"$f":"IF(AU9=0,0,(AU9*((LOG(AU9))/LOG(2))))","v":{"$error":"#DIV/0!"}}]
[21,415,21,426,21,463,null,null,null,null,0,222,null,122,{"$f":"COUNTIF($L$7:$L$500,N10)","v":0},{"$f":"O10/$Q$4","v":0},{"$f":"IF(P10=0,0,(P10*((LOG(P10))/LOG(2))))","v":0},null,null,{"$f":"N10","v":122},{"$f":"COUNTIF(L7:L13,T10)","v":0},{"$f":"U10/(W4-U14)","v":0},{"$f":"IF(V10=0,0,(V10*((LOG(V10))/LOG(2))))","v":0},null,{"$f":"N10","v":122},{"$f":"COUNTIF(L14:L20,Y10)","v":0},{"$f":"Z10/(AB4-Z14)","v":{"$error":"#DIV/0!"}},{"$f":"IF(AA10=0,0,(AA10*((LOG(AA10))/LOG(2))))","v":{"$error":"#DIV/0!"}},null,{"$f":"N10","v":122},{"$f":"COUNTIF(L21:L27,AD10)","v":0},{"$f":"AE10/(AG4-AE14)","v":{"$error":"#DIV/0!"}},{"$f":"IF(AF10=0,0,(AF10*((LOG(AF10))/LOG(2))))","v":{"$error":"#DIV/0!"}},null,{"$f":"N10","v":122},{"$f":"COUNTIF(L28:L34,AI10)","v":0},{"$f":"AJ10/(AL4-AJ14)","v":{"$error":"#DIV/0!"}},{"$f":"IF(AK10=0,0,(AK10*((LOG(AK10))/LOG(2))))","v":{"$error":"#DIV/0!"}},null,{"$f":"N10","v":122},{"$f":"COUNTIF(L35:L41,AN10)","v":0},{"$f":"AO10/(AQ4-AO14)","v":{"$error":"#DIV/0!"}},{"$f":"IF(AP10=0,0,(AP10*((LOG(AP10))/LOG(2))))","v":{"$error":"#DIV/0!"}},null,{"$f":"N10","v":122},{"$f":"COUNTIF(L42:L48,AS10)","v":0},{"$f":"AT10/(AV4-AT14)","v":{"$error":"#DIV/0!"}},{"$f":"IF(AU10=0,0,(AU10*((LOG(AU10))/LOG(2))))","v":{"$error":"#DIV/0!"}}]
[21,568,21,584,21,589,null,null,null,null,0,222,null,211,{"$f":"COUNTIF($L$7:$L$500,N11)","v":0},{"$f":"O11/$Q$4","v":0},{"$f":"IF(P11=0,0,(P11*((LOG(P11))/LOG(2))))","v":0},null,null,{"$f":"N11","v":211},{"$f":"COUNTIF(L7:L13,T11)","v":0},{"$f":"U11/(W4-U14)","v":0},{"$f":"IF(V11=0,0,(V11*((LOG(V11))/LOG(2))))","v":0},null,{"$f":"N11","v":211},{"$f":"COUNTIF(L14:L20,Y11)","v":0},{"$f":"Z11/(AB4-Z14)","v":{"$error":"#DIV/0!"}},{"$f":"IF(AA11=0,0,(AA11*((LOG(AA11))/LOG(2))))","v":{"$error":"#DIV/0!"}},null,{"$f":"N11","v":211},{"$f":"COUNTIF(L21:L27,AD11)","v":0},{"$f":"AE11/(AG4-AE14)","v":{"$error":"#DIV/0!"}},{"$f":"IF(AF11=0,0,(AF11*((LOG(AF11))/LOG(2))))","v":{"$error":"#DIV/0!"}},null,{"$f":"N11","v":211},{"$f":"COUNTIF(L28:L34,AI11)","v":0},{"$f":"AJ11/(AL4-AJ14)","v":{"$error":"#DIV/0!"}},{"$f":"IF(AK11=0,0,(AK11*((LOG(AK11))/LOG(2))))","v":{"$error":"#DIV/0!"}},null,{"$f":"N11","v":211},{"$f":"COUNTIF(L35:L41,AN11)","v":0},{"$f":"AO11/(AQ4-AO14)","v":{"$error":"#DIV/0!"}},{"$f":"IF(AP11=0,0,(AP11*((LOG(AP11))/LOG(2))))","v":{"$error":"#DIV/0!"}},null,{"$f":"N11","v":211},{"$f":"COUNTIF(L42:L48,AS11)","v":0},{"$f":"AT11/(AV4-AT14)","v":{"$error":"#DIV/0!"}},{"$f":"IF(AU11=0,0,(AU11*((LOG(AU11))/LOG(2))))","v":{"$error":"#DIV/0!"}}]
[21,701,21,706,21,713,null,null,null,null,0,222,null,212,{"$f":"COUNTIF($L$7:$L$500,N12)","v":1},{"$f":"O12/$Q$4","v":2.3809523809523808E-2},{"$f":"IF(P12=0,0,(P12*((LOG(P12))/LOG(2))))","v":-0.12838851006616095},null,null,{"$f":"N12","v":212},{"$f":"COUNTIF(L7:L13,T12)","v":1},{"$f":"U12/(W4-U14)","v":0.5},{"$f":"IF(V12=0,0,(V12*((LOG(V12))/LOG(2))))","v":-0.5},null,{"$f":"N12","v":212},{"$f":"COUNTIF(L14:L20,Y12)","v":0},{"$f":"Z12/(AB4-Z14)","v":{"$error":"#DIV/0!"}},{"$f":"IF(AA12=0,0,(AA12*((LOG(AA12))/LOG(2))))","v":{"$error":"#DIV/0!"}},null,{"$f":"N12","v":212},{"$f":"COUNTIF(L21:L27,AD12)","v":0},{"$f":"AE12/(AG4-AE14)","v":{"$error":"#DIV/0!"}},{"$f":"IF(AF12=0,0,(AF12*((LOG(AF12))/LOG(2))))","v":{"$error":"#DIV/0!"}},null,{"$f":"N12","v":212},{"$f":"COUNTIF(L28:L34,AI12)","v":0},{"$f":"AJ12/(AL4-AJ14)","v":{"$error":"#DIV/0!"}},{"$f":"IF(AK12=0,0,(AK12*((LOG(AK12))/LOG(2))))","v":{"$error":"#DIV/0!"}},null,{"$f":"N12","v":212},{"$f":"COUNTIF(L35:L41,AN12)","v":0},{"$f":"AO12/(AQ4-AO14)","v":{"$error":"#DIV/0!"}},{"$f":"IF(AP12=0,0,(AP12*((LOG(AP12))/LOG(2))))","v":{"$error":"#DIV/0!"}},null,{"$f":"N12","v":212},{"$f":"COUNTIF(L42:L48,AS12)","v":0},{"$f":"AT12/(AV4-AT14)","v":{"$error":"#DIV/0!"}},{"$f":"IF(AU12=0,0,(AU12*((LOG(AU12))/LOG(2))))","v":{"$error":"#DIV/0!"}}]
[21,805,21,809,21,814,null,null,null,null,0,222,null,221,{"$f":"COUNTIF($L$7:$L$500,N13)","v":1},{"$f":"O13/$Q$4","v":2.3809523809523808E-2},{"$f":"IF(P13=0,0,(P13*((LOG(P13))/LOG(2))))","v":-0.12838851006616095},null,null,{"$f":"N13","v":221},{"$f":"COUNTIF(L7:L13,T13)","v":1},{"$f":"U13/(W4-U14)","v":0.5},{"$f":"IF(V13=0,0,(V13*((LOG(V13))/LOG(2))))","v":-0.5},null,{"$f":"N13","v":221},{"$f":"COUNTIF(L14:L20,Y13)","v":0},{"$f":"Z13/(AB4-Z14)","v":{"$error":"#DIV/0!"}},{"$f":"IF(AA13=0,0,(AA13*((LOG(AA13))/LOG(2))))","v":{"$error":"#DIV/0!"}},null,{"$f":"N13","v":221},{"$f":"COUNTIF(L21:L27,AD13)","v":0},{"$f":"AE13/(AG4-AE14)","v":{"$error":"#DIV/0!"}},{"$f":"IF(AF13=0,0,(AF13*((LOG(AF13))/LOG(2))))","v":{"$error":"#DIV/0!"}},null,{"$f":"N13","v":221},{"$f":"COUNTIF(L28:L34,AI13)","v":0},{"$f":"AJ13/(AL4-AJ14)","v":{"$error":"#DIV/0!"}},{"$f":"IF(AK13=0,0,(AK13*((LOG(AK13))/LOG(2))))","v":{"$error":"#DIV/0!"}},null,{"$f":"N13","v":221},{"$f":"COUNTIF(L35:L41,AN13)","v":0},{"$f":"AO13/(AQ4-AO14)","v":{"$error":"#DIV/0!"}},{"$f":"IF(AP13=0,0,(AP13*((LOG(AP13))/LOG(2))))","v":{"$error":"#DIV/0!"}},null,{"$f":"N13","v":221},{"$f":"COUNTIF(L42:L48,AS13)","v":0},{"$f":"AT13/(AV4-AT14)","v":{"$error":"#DIV/0!"}},{"$f":"IF(AU13=0,0,(AU13*((LOG(AU13))/LOG(2))))","v":{"$error":"#DIV/0!"}}]
[21,913,21,919,21,929,null,null,null,null,0,222,null,222,{"$f":"COUNTIF($L$7:$L$500,N14)","v":40},{"$f":"O14/$Q$4","v":0.95238095238095233},{"$f":"IF(P14=0,0,(P14*((LOG(P14))/LOG(2))))","v":-6.7037455134664775E-2},null,null,{"$f":"N14","v":222},{"$f":"COUNTIF(L7:L13,T14)","v":5},null,null,null,{"$f":"N14","v":222},{"$f":"COUNTIF(L14:L20,Y14)","v":7},null,null,null,{"$f":"N14","v":222},{"$f":"COUNTIF(L21:L27,AD14)","v":7},null,null,null,{"$f":"N14","v":222},{"$f":"COUNTIF(L28:L34,AI14)","v":7},null,null,null,{"$f":"N14","v":222},{"$f":"COUNTIF(L35:L41,AN14)","v":7},null,null,null,{"$f":"N14","v":222},{"$f":"COUNTIF(L42:L48,AS14)","v":7}]
[21,1039,21,1045,21,1052,null,null,null,null,0,222,null,null,null,{"$f":"SUM(P7:P14)","v":1},{"$f":"-SUM(Q7:Q14)","v":0.3238144752669867},null,null,null,null,{"$f":"SUM(V7:V14)","v":1},{"$f":"-SUM(W7:W14)","v":1},null,null,null,{"$f":"SUM(AA7:AA14)","v":{"$error":"#DIV/0!"}},{"$f":"-SUM(AB7:AB14)","v":{"$error":"#DIV/0!"}},null,null,null,{"$f":"SUM(AF7:AF14)","v":{"$error":"#DIV/0!"}},{"$f":"-SUM(AG7:AG14)","v":{"$error":"#DIV/0!"}},null,null,null,{"$f":"SUM(AK7:AK14)","v":{"$error":"#DIV/0!"}},{"$f":"-SUM(AL7:AL14)","v":{"$error":"#DIV/0!"}},null,null,null,{"$f":"SUM(AP7:AP14)","v":{"$error":"#DIV/0!"}},{"$f":"-SUM(AQ7:AQ14)","v":{"$error":"#DIV/0!"}},null,null,null,{"$f":"SUM(AU7:AU14)","v":{"$error":"#DIV/0!"}},{"$f":"-SUM(AV7:AV14)","v":{"$error":"#DIV/0!"}}]
[21,1171,21,1178,21,1191,null,null,null,null,0,222,null,null,null,"U=",{"$f":"Q15/(LOG(Q4)/LOG(2))","v":6.0051078206022804E-2},null,null,null,null,"U1=",{"$f":"W15/(LOG(W4)/LOG(2))","v":0.35620718710802218},null,null,null,"U2=",{"$f":"AB15/(LOG(AB4)/LOG(2))","v":{"$error":"#DIV/0!"}},null,null,null,"U3=",{"$f":"AG15/(LOG(AG4)/LOG(2))","v":{"$error":"#DIV/0!"}},null,null,null,"U4=",{"$f":"AL15/(LOG(AL4)/LOG(2))","v":{"$error":"#DIV/0!"}},null,null,null,"U5=",{"$f":"AQ15/(LOG(AQ4)/LOG(2))","v":{"$error":"#DIV/0!"}},null,null,null,"U6=",{"$f":"AV15/(LOG(AV4)/LOG(2))","v":{"$error":"#DIV/0!"}}]
[21,1298,21,1304,21,1311,null,null,null,null,0,222]
[21,1476,21,1507,21,1518,null,null,null,null,0,222]
[21,1610,21,1615,21,1645,null,null,null,null,0,222,null,"Total Target Seq"]
[21,1772,21,1778,21,1784,null,null,null,null,0,222,null,{"$f":"COUNTIF(L7:L48,G3)","v":40},null,7,7,7,7,7,7]
[21,1919,21,1925,21,1988,null,null,null,null,0,222,null,null,null,"% of reinforcement given in 6 equal intervals based on number of trials "]
[21,2094,21,2102,21,2113,null,null,null,null,0,222,null,null,null,"%_1","%_2","%_3","%_4","%_5","%_6"]
[21,2215,21,2220,21,2232,null,null,null,null,0,222,null,null,"target sequence",{"$f":"$G$3","v":222},{"$f":"$G$3","v":222},{"$f":"$G$3","v":222},{"$f":"$G$3","v":222},{"$f":"$G$3","v":222},{"$f":"$G$3","v":222}]
[21,2341,21,2346,21,2358,null,null,null,null,0,222,null,null,"total reinforcement",{"$f":"U14","v":5},{"$f":"Z14","v":7},{"$f":"AE14","v":7},{"$f":"AJ14","v":7},{"$f":"AO14","v":7},{"$f":"AT14","v":7}]
[21,2461,21,2467,21,2477,null,null,null,null,0,222,null,null,"% target"]
[21,2599,21,2622,21,2640,null,null,null,null,0,222,null,null,"CCRF"]
[21,2755,21,2799,21,2810,null,null,null,null,0,222,null,null,"% CCRf"]
[21,2912,21,2917,21,2927,null,null,null,null,0,222,null,null,"average response rate",{"$f":"F13/P20","v":116.28571428571429},{"$f":"(F20-F13)/Q20","v":138.57142857142858},{"$f":"(F27-F20)/R20","v":146.57142857142858},{"$f":"(F34-F27)/S20","v":142.14285714285714},{"$f":"(F41-F34)/T20","v":152.57142857142858},{"$f":"(F48-F41)/U20","v":178.14285714285714}]
[21,3030,21,3072,21,3083,null,null,null,null,0,222]
[21,3202,21,3213,21,3231,null,null,null,null,0,222]
[21,3332,21,3338,21,3351,null,null,null,null,0,222]
[21,3484,21,3525,21,3546,null,null,null,null,0,222]
[21,3641,21,3657,21,3679,null,null,null,null,0,222]
[21,3785,21,3796,21,3805,null,null,null,null,0,222]
[21,3939,21,3945,21,3953,null,null,null,null,0,222]
[21,4115,21,4121,21,4155,null,null,null,null,0,222]
[21,4265,21,4301,21,4312,null,null,null,null,0,222]
[21,4412,21,4419,21,4430,null,null,null,null,0,222]
[21,4547,21,4559,21,4597,null,null,null,null,0,222]
[21,4690,21,4695,21,4700,null,null,null,null,0,222]
[21,4831,21,4843,21,4873,null,null,null,null,0,222]
[21,5089,21,5110,21,5126,null,null,null,null,0,222]
[21,5221,21,5246,21,5292,null,null,null,null,0,222]
[21,5425,21,5432,21,5449,null,null,null,null,0,222]
[21,5571,21,5578,21,5601,null,null,null,null,0,222]
[21,5720,21,5724,21,5744,null,null,null,null,0,222]
[21,5874,21,5884,21,5895,null,null,null,null,0,222]
[21,6077,21,6082,21,6120,null,null,null,null,1,222]

{"sheet":"!M40592I.sha","index":29,"n_rows":47,"n_cols":48,"rows_kept":47,"cut":false,"hidden":false,"merged":[[4,39,4,42],[5,39,5,40],[4,44,4,47],[5,44,5,45],[4,24,4,27],[5,24,5,25],[4,29,4,32],[5,29,5,30],[4,34,4,37],[5,34,5,35],[1,1,1,2],[5,13,5,14],[18,13,18,14],[19,13,19,14],[4,19,4,22],[5,19,5,20]]}
["Report for:!M40592I.sha"]
["Date:","<date>"]
["Hen:","<hen>",null,null,null,"Correct Sequence",{"$f":"Start!J2","v":222},null,null,null,null,null,null,null,null,"Total Sequences in Data",{"$f":"4994-COUNTBLANK(L7:L5000)","v":41},null,null,null,null,"Total Sequences in Block Data",{"$f":"COUNTA(L7:L13)","v":7},null,null,null,"Total Sequences in Block Data",{"$f":"COUNTA(L14:L20)","v":7},null,null,null,"Total Sequences in Block Data",{"$f":"COUNTA(L21:L26)","v":6},null,null,null,"Total Sequences in Block Data",{"$f":"COUNTA(L27:L33)","v":7},null,null,null,"Total Sequences in Block Data",{"$f":"COUNTA(L34:L40)","v":7},null,null,null,"Total Sequences in Block Data",{"$f":"COUNTA(L41:L47)","v":7}]
[null,null,null,null,null,null,null,null,null,null,null,null,null,null,null,"Total Sequences in Summary",{"$f":"SUM(O7:O14)","v":41},null,null,null,null,"Total Sequences in Block Summary",{"$f":"SUM(U7:U14)","v":7},null,null,null,"Total Sequences in Block Summary",{"$f":"SUM(Z7:Z14)","v":7},null,null,null,"Total Sequences in Block Summary",{"$f":"SUM(AE7:AE14)","v":6},null,null,null,"Total Sequences in Block Summary",{"$f":"SUM(AJ7:AJ14)","v":7},null,null,null,"Total Sequences in Block Summary",{"$f":"SUM(AO7:AO14)","v":7},null,null,null,"Total Sequences in Block Summary",{"$f":"SUM(AT7:AT14)","v":7}]
[null,null,null,null,null,null,null,null,null,null,null,null,null,null,null,null,null,null,null,"Block 1",null,null,null,null,"Block 2",null,null,null,null,"Block 3",null,null,null,null,"Block 4",null,null,null,null,"Block 5",null,null,null,null,"Block 6"]
["Sequence\nComponent\n1","Time\n1","Sequence\nComponent\n2","Time\n2","Sequence\nComponent\n3","Time\n3","Sequence\nComponent\n4","Time\n4","Sequence\nComponent\n5","Time\n5","Correct?\n0=No 1=Yes","Sequence",null,"Frequency",null,"Relative Frequency","Variability",null,null,"Frequency",null,"Relative Frequency","Variability",null,"Frequency",null,"Relative Frequency","Variability",null,"Frequency",null,"Relative Frequency","Variability",null,"Frequency",null,"Relative Frequency","Variability",null,"Frequency",null,"Relative Frequency","Variability",null,"Frequency",null,"Relative Frequency","Variability"]
[21,13,21,40,21,46,null,null,null,null,0,222,null,111,{"$f":"COUNTIF($L$7:$L$500,N7)","v":0},{"$f":"O7/$Q$4","v":0},{"$f":"IF(P7=0,0,(P7*((LOG(P7))/LOG(2))))","v":0},null,null,{"$f":"N7","v":111},{"$f":"COUNTIF(L7:L13,T7)","v":0},{"$f":"U7/(W4-U14)","v":{"$error":"#DIV/0!"}},{"$f":"IF(V7=0,0,(V7*((LOG(V7))/LOG(2))))","v":{"$error":"#DIV/0!"}},null,{"$f":"N7","v":111},{"$f":"COUNTIF(L14:L20,Y7)","v":0},{"$f":"Z7/(AB4-Z14)","v":{"$error":"#DIV/0!"}},{"$f":"IF(AA7=0,0,(AA7*((LOG(AA7))/LOG(2))))","v":{"$error":"#DIV/0!"}},null,{"$f":"N7","v":111},{"$f":"COUNTIF(L21:L26,AD7)","v":0},{"$f":"AE7/(AG4-AE14)","v":{"$error":"#DIV/0!"}},{"$f":"IF(AF7=0,0,(AF7*((LOG(AF7))/LOG(2))))","v":{"$error":"#DIV/0!"}},null,{"$f":"N7","v":111},{"$f":"COUNTIF(L27:L33,AI7)","v":0},{"$f":"AJ7/(AL4-AJ14)","v":0},{"$f":"IF(AK7=0,0,(AK7*((LOG(AK7))/LOG(2))))","v":0},null,{"$f":"N7","v":111},{"$f":"COUNTIF(L34:L40,AN7)","v":0},{"$f":"AO7/(AQ4-AO14)","v":{"$error":"#DIV/0!"}},{"$f":"IF(AP7=0,0,(AP7*((LOG(AP7))/LOG(2))))","v":{"$error":"#DIV/0!"}},null,{"$f":"N7","v":111},{"$f":"COUNTIF(L41:L47,AS7)","v":0},{"$f":"AT7/(AV4-AT14)","v":{"$error":"#DIV/0!"}},{"$f":"IF(AU7=0,0,(AU7*((LOG(AU7))/LOG(2))))","v":{"$error":"#DIV/0!"}}]
[21,155,21,195,21,209,null,null,null,null,0,222,null,112,{"$f":"COUNTIF($L$7:$L$500,N8)","v":0},{"$f":"O8/$Q$4","v":0},{"$f":"IF(P8=0,0,(P8*((LOG(P8))/LOG(2))))","v":0},null,null,{"$f":"N8","v":112},{"$f":"COUNTIF(L7:L13,T8)","v":0},{"$f":"U8/(W4-U14)","v":{"$error":"#DIV/0!"}},{"$f":"IF(V8=0,0,(V8*((LOG(V8))/LOG(2))))","v":{"$error":"#DIV/0!"}},null,{"$f":"N8","v":112},{"$f":"COUNTIF(L14:L20,Y8)","v":0},{"$f":"Z8/(AB4-Z14)","v":{"$error":"#DIV/0!"}},{"$f":"IF(AA8=0,0,(AA8*((LOG(AA8))/LOG(2))))","v":{"$error":"#DIV/0!"}},null,{"$f":"N8","v":112},{"$f":"COUNTIF(L21:L26,AD8)","v":0},{"$f":"AE8/(AG4-AE14)","v":{"$error":"#DIV/0!"}},{"$f":"IF(AF8=0,0,(AF8*((LOG(AF8))/LOG(2))))","v":{"$error":"#DIV/0!"}},null,{"$f":"N8","v":112},{"$f":"COUNTIF(L27:L33,AI8)","v":0},{"$f":"AJ8/(AL4-AJ14)","v":0},{"$f":"IF(AK8=0,0,(AK8*((LOG(AK8))/LOG(2))))","v":0},null,{"$f":"N8","v":112},{"$f":"COUNTIF(L34:L40,AN8)","v":0},{"$f":"AO8/(AQ4-AO14)","v":{"$error":"#DIV/0!"}},{"$f":"IF(AP8=0,0,(AP8*((LOG(AP8))/LOG(2))))","v":{"$error":"#DIV/0!"}},null,{"$f":"N8","v":112},{"$f":"COUNTIF(L41:L47,AS8)","v":0},{"$f":"AT8/(AV4-AT14)","v":{"$error":"#DIV/0!"}},{"$f":"IF(AU8=0,0,(AU8*((LOG(AU8))/LOG(2))))","v":{"$error":"#DIV/0!"}}]
[21,318,21,330,21,348,null,null,null,null,0,222,null,121,{"$f":"COUNTIF($L$7:$L$500,N9)","v":0},{"$f":"O9/$Q$4","v":0},{"$f":"IF(P9=0,0,(P9*((LOG(P9))/LOG(2))))","v":0},null,null,{"$f":"N9","v":121},{"$f":"COUNTIF(L7:L13,T9)","v":0},{"$f":"U9/(W4-U14)","v":{"$error":"#DIV/0!"}},{"$f":"IF(V9=0,0,(V9*((LOG(V9))/LOG(2))))","v":{"$error":"#DIV/0!"}},null,{"$f":"N9","v":121},{"$f":"COUNTIF(L14:L20,Y9)","v":0},{"$f":"Z9/(AB4-Z14)","v":{"$error":"#DIV/0!"}},{"$f":"IF(AA9=0,0,(AA9*((LOG(AA9))/LOG(2))))","v":{"$error":"#DIV/0!"}},null,{"$f":"N9","v":121},{"$f":"COUNTIF(L21:L26,AD9)","v":0},{"$f":"AE9/(AG4-AE14)","v":{"$error":"#DIV/0!"}},{"$f":"IF(AF9=0,0,(AF9*((LOG(AF9))/LOG(2))))","v":{"$error":"#DIV/0!"}},null,{"$f":"N9","v":121},{"$f":"COUNTIF(L27:L33,AI9)","v":0},{"$f":"AJ9/(AL4-AJ14)","v":0},{"$f":"IF(AK9=0,0,(AK9*((LOG(AK9))/LOG(2))))","v":0},null,{"$f":"N9","v":121},{"$f":"COUNTIF(L34:L40,AN9)","v":0},{"$f":"AO9/(AQ4-AO14)","v":{"$error":"#DIV/0!"}},{"$f":"IF(AP9=0,0,(AP9*((LOG(AP9))/LOG(2))))","v":{"$error":"#DIV/0!"}},null,{"$f":"N9","v":121},{"$f":"COUNTIF(L41:L47,AS9)","v":0},{"$f":"AT9/(AV4-AT14)","v":{"$error":"#DIV/0!"}},{"$f":"IF(AU9=0,0,(AU9*((LOG(AU9))/LOG(2))))","v":{"$error":"#DIV/0!"}}]
[21,503,21,513,21,527,null,null,null,null,0,222,null,122,{"$f":"COUNTIF($L$7:$L$500,N10)","v":0},{"$f":"O10/$Q$4","v":0},{"$f":"IF(P10=0,0,(P10*((LOG(P10))/LOG(2))))","v":0},null,null,{"$f":"N10","v":122},{"$f":"COUNTIF(L7:L13,T10)","v":0},{"$f":"U10/(W4-U14)","v":{"$error":"#DIV/0!"}},{"$f":"IF(V10=0,0,(V10*((LOG(V10))/LOG(2))))","v":{"$error":"#DIV/0!"}},null,{"$f":"N10","v":122},{"$f":"COUNTIF(L14:L20,Y10)","v":0},{"$f":"Z10/(AB4-Z14)","v":{"$error":"#DIV/0!"}},{"$f":"IF(AA10=0,0,(AA10*((LOG(AA10))/LOG(2))))","v":{"$error":"#DIV/0!"}},null,{"$f":"N10","v":122},{"$f":"COUNTIF(L21:L26,AD10)","v":0},{"$f":"AE10/(AG4-AE14)","v":{"$error":"#DIV/0!"}},{"$f":"IF(AF10=0,0,(AF10*((LOG(AF10))/LOG(2))))","v":{"$error":"#DIV/0!"}},null,{"$f":"N10","v":122},{"$f":"COUNTIF(L27:L33,AI10)","v":0},{"$f":"AJ10/(AL4-AJ14)","v":0},{"$f":"IF(AK10=0,0,(AK10*((LOG(AK10))/LOG(2))))","v":0},null,{"$f":"N10","v":122},{"$f":"COUNTIF(L34:L40,AN10)","v":0},{"$f":"AO10/(AQ4-AO14)","v":{"$error":"#DIV/0!"}},{"$f":"IF(AP10=0,0,(AP10*((LOG(AP10))/LOG(2))))","v":{"$error":"#DIV/0!"}},null,{"$f":"N10","v":122},{"$f":"COUNTIF(L41:L47,AS10)","v":0},{"$f":"AT10/(AV4-AT14)","v":{"$error":"#DIV/0!"}},{"$f":"IF(AU10=0,0,(AU10*((LOG(AU10))/LOG(2))))","v":{"$error":"#DIV/0!"}}]
[21,619,21,625,21,635,null,null,null,null,0,222,null,211,{"$f":"COUNTIF($L$7:$L$500,N11)","v":0},{"$f":"O11/$Q$4","v":0},{"$f":"IF(P11=0,0,(P11*((LOG(P11))/LOG(2))))","v":0},null,null,{"$f":"N11","v":211},{"$f":"COUNTIF(L7:L13,T11)","v":0},{"$f":"U11/(W4-U14)","v":{"$error":"#DIV/0!"}},{"$f":"IF(V11=0,0,(V11*((LOG(V11))/LOG(2))))","v":{"$error":"#DIV/0!"}},null,{"$f":"N11","v":211},{"$f":"COUNTIF(L14:L20,Y11)","v":0},{"$f":"Z11/(AB4-Z14)","v":{"$error":"#DIV/0!"}},{"$f":"IF(AA11=0,0,(AA11*((LOG(AA11))/LOG(2))))","v":{"$error":"#DIV/0!"}},null,{"$f":"N11","v":211},{"$f":"COUNTIF(L21:L26,AD11)","v":0},{"$f":"AE11/(AG4-AE14)","v":{"$error":"#DIV/0!"}},{"$f":"IF(AF11=0,0,(AF11*((LOG(AF11))/LOG(2))))","v":{"$error":"#DIV/0!"}},null,{"$f":"N11","v":211},{"$f":"COUNTIF(L27:L33,AI11)","v":0},{"$f":"AJ11/(AL4-AJ14)","v":0},{"$f":"IF(AK11=0,0,(AK11*((LOG(AK11))/LOG(2))))","v":0},null,{"$f":"N11","v":211},{"$f":"COUNTIF(L34:L40,AN11)","v":0},{"$f":"AO11/(AQ4-AO14)","v":{"$error":"#DIV/0!"}},{"$f":"IF(AP11=0,0,(AP11*((LOG(AP11))/LOG(2))))","v":{"$error":"#DIV/0!"}},null,{"$f":"N11","v":211},{"$f":"COUNTIF(L41:L47,AS11)","v":0},{"$f":"AT11/(AV4-AT14)","v":{"$error":"#DIV/0!"}},{"$f":"IF(AU11=0,0,(AU11*((LOG(AU11))/LOG(2))))","v":{"$error":"#DIV/0!"}}]
[21,758,21,783,21,797,null,null,null,null,0,222,null,212,{"$f":"COUNTIF($L$7:$L$500,N12)","v":0},{"$f":"O12/$Q$4","v":0},{"$f":"IF(P12=0,0,(P12*((LOG(P12))/LOG(2))))","v":0},null,null,{"$f":"N12","v":212},{"$f":"COUNTIF(L7:L13,T12)","v":0},{"$f":"U12/(W4-U14)","v":{"$error":"#DIV/0!"}},{"$f":"IF(V12=0,0,(V12*((LOG(V12))/LOG(2))))","v":{"$error":"#DIV/0!"}},null,{"$f":"N12","v":212},{"$f":"COUNTIF(L14:L20,Y12)","v":0},{"$f":"Z12/(AB4-Z14)","v":{"$error":"#DIV/0!"}},{"$f":"IF(AA12=0,0,(AA12*((LOG(AA12))/LOG(2))))","v":{"$error":"#DIV/0!"}},null,{"$f":"N12","v":212},{"$f":"COUNTIF(L21:L26,AD12)","v":0},{"$f":"AE12/(AG4-AE14)","v":{"$error":"#DIV/0!"}},{"$f":"IF(AF12=0,0,(AF12*((LOG(AF12))/LOG(2))))","v":{"$error":"#DIV/0!"}},null,{"$f":"N12","v":212},{"$f":"COUNTIF(L27:L33,AI12)","v":0},{"$f":"AJ12/(AL4-AJ14)","v":0},{"$f":"IF(AK12=0,0,(AK12*((LOG(AK12))/LOG(2))))","v":0},null,{"$f":"N12","v":212},{"$f":"COUNTIF(L34:L40,AN12)","v":0},{"$f":"AO12/(AQ4-AO14)","v":{"$error":"#DIV/0!"}},{"$f":"IF(AP12=0,0,(AP12*((LOG(AP12))/LOG(2))))","v":{"$error":"#DIV/0!"}},null,{"$f":"N12","v":212},{"$f":"COUNTIF(L41:L47,AS12)","v":0},{"$f":"AT12/(AV4-AT14)","v":{"$error":"#DIV/0!"}},{"$f":"IF(AU12=0,0,(AU12*((LOG(AU12))/LOG(2))))","v":{"$error":"#DIV/0!"}}]
[21,914,21,920,21,939,null,null,null,null,0,222,null,221,{"$f":"COUNTIF($L$7:$L$500,N13)","v":1},{"$f":"O13/$Q$4","v":2.4390243902439025E-2},{"$f":"IF(P13=0,0,(P13*((LOG(P13))/LOG(2))))","v":-0.13067200011263619},null,null,{"$f":"N13","v":221},{"$f":"COUNTIF(L7:L13,T13)","v":0},{"$f":"U13/(W4-U14)","v":{"$error":"#DIV/0!"}},{"$f":"IF(V13=0,0,(V13*((LOG(V13))/LOG(2))))","v":{"$error":"#DIV/0!"}},null,{"$f":"N13","v":221},{"$f":"COUNTIF(L14:L20,Y13)","v":0},{"$f":"Z13/(AB4-Z14)","v":{"$error":"#DIV/0!"}},{"$f":"IF(AA13=0,0,(AA13*((LOG(AA13))/LOG(2))))","v":{"$error":"#DIV/0!"}},null,{"$f":"N13","v":221},{"$f":"COUNTIF(L21:L26,AD13)","v":0},{"$f":"AE13/(AG4-AE14)","v":{"$error":"#DIV/0!"}},{"$f":"IF(AF13=0,0,(AF13*((LOG(AF13))/LOG(2))))","v":{"$error":"#DIV/0!"}},null,{"$f":"N13","v":221},{"$f":"COUNTIF(L27:L33,AI13)","v":1},{"$f":"AJ13/(AL4-AJ14)","v":1},{"$f":"IF(AK13=0,0,(AK13*((LOG(AK13))/LOG(2))))","v":0},null,{"$f":"N13","v":221},{"$f":"COUNTIF(L34:L40,AN13)","v":0},{"$f":"AO13/(AQ4-AO14)","v":{"$error":"#DIV/0!"}},{"$f":"IF(AP13=0,0,(AP13*((LOG(AP13))/LOG(2))))","v":{"$error":"#DIV/0!"}},null,{"$f":"N13","v":221},{"$f":"COUNTIF(L41:L47,AS13)","v":0},{"$f":"AT13/(AV4-AT14)","v":{"$error":"#DIV/0!"}},{"$f":"IF(AU13=0,0,(AU13*((LOG(AU13))/LOG(2))))","v":{"$error":"#DIV/0!"}}]
[21,1031,21,1036,21,1051,null,null,null,null,0,222,null,222,{"$f":"COUNTIF($L$7:$L$500,N14)","v":40},{"$f":"O14/$Q$4","v":0.97560975609756095},{"$f":"IF(P14=0,0,(P14*((LOG(P14))/LOG(2))))","v":-3.4755033883630611E-2},null,null,{"$f":"N14","v":222},{"$f":"COUNTIF(L7:L13,T14)","v":7},null,null,null,{"$f":"N14","v":222},{"$f":"COUNTIF(L14:L20,Y14)","v":7},null,null,null,{"$f":"N14","v":222},{"$f":"COUNTIF(L21:L26,AD14)","v":6},null,null,null,{"$f":"N14","v":222},{"$f":"COUNTIF(L27:L33,AI14)","v":6},null,null,null,{"$f":"N14","v":222},{"$f":"COUNTIF(L34:L40,AN14)","v":7},null,null,null,{"$f":"N14","v":222},{"$f":"COUNTIF(L41:L47,AS14)","v":7}]
[21,1159,21,1165,21,1184,null,null,null,null,0,222,null,null,null,{"$f":"SUM(P7:P14)","v":1},{"$f":"-SUM(Q7:Q14)","v":0.16542703399626679},null,null,null,null,{"$f":"SUM(V7:V14)","v":{"$error":"#DIV/0!"}},{"$f":"-SUM(W7:W14)","v":{"$error":"#DIV/0!"}},null,null,null,{"$f":"SUM(AA7:AA14)","v":{"$error":"#DIV/0!"}},{"$f":"-SUM(AB7:AB14)","v":{"$error":"#DIV/0!"}},null,null,null,{"$f":"SUM(AF7:AF14)","v":{"$error":"#DIV/0!"}},{"$f":"-SUM(AG7:AG14)","v":{"$error":"#DIV/0!"}},null,null,null,{"$f":"SUM(AK7:AK14)","v":1},{"$f":"-SUM(AL7:AL14)","v":0},null,null,null,{"$f":"SUM(AP7:AP14)","v":{"$error":"#DIV/0!"}},{"$f":"-SUM(AQ7:AQ14)","v":{"$error":"#DIV/0!"}},null,null,null,{"$f":"SUM(AU7:AU14)","v":{"$error":"#DIV/0!"}},{"$f":"-SUM(AV7:AV14)","v":{"$error":"#DIV/0!"}}]
[21,1298,21,1329,21,1346,null,null,null,null,0,222,null,null,null,"U=",{"$f":"Q15/(LOG(Q4)/LOG(2))","v":3.0877354779509855E-2},null,null,null,null,"U1=",{"$f":"W15/(LOG(W4)/LOG(2))","v":{"$error":"#DIV/0!"}},null,null,null,"U2=",{"$f":"AB15/(LOG(AB4)/LOG(2))","v":{"$error":"#DIV/0!"}},null,null,null,"U3=",{"$f":"AG15/(LOG(AG4)/LOG(2))","v":{"$error":"#DIV/0!"}},null,null,null,"U4=",{"$f":"AL15/(LOG(AL4)/LOG(2))","v":0},null,null,null,"U5=",{"$f":"AQ15/(LOG(AQ4)/LOG(2))","v":{"$error":"#DIV/0!"}},null,null,null,"U6=",{"$f":"AV15/(LOG(AV4)/LOG(2))","v":{"$error":"#DIV/0!"}}]
[21,1474,21,1481,21,1513,null,null,null,null,0,222]
[21,1605,21,1625,21,1661,null,null,null,null,0,222]
[21,1816,21,1823,21,1837,null,null,null,null,0,222,null,"Total Target Seq"]
[21,1947,21,1958,21,1968,null,null,null,null,0,222,null,{"$f":"COUNTIF(L7:L47,G3)","v":40},null,7,7,6,7,7,7]
[21,2069,21,2075,21,2093,null,null,null,null,0,222,null,null,null,"% of reinforcement given in 6 equal intervals based on number of trials "]
[21,2204,21,2216,21,2225,null,null,null,null,0,222,null,null,null,"%_1","%_2","%_3","%_4","%_5","%_6"]
[21,2327,21,2332,21,2341,null,null,null,null,0,222,null,null,"target sequence",{"$f":"$G$3","v":222},{"$f":"$G$3","v":222},{"$f":"$G$3","v":222},{"$f":"$G$3","v":222},{"$f":"$G$3","v":222},{"$f":"$G$3","v":222}]
[21,2482,21,2488,21,2495,null,null,null,null,0,222,null,null,"total reinforcement",{"$f":"U14","v":7},{"$f":"Z14","v":7},{"$f":"AE14","v":6},{"$f":"AJ14","v":6},{"$f":"AO14","v":7},{"$f":"AT14","v":7}]
[21,2594,21,2621,21,2672,null,null,null,null,0,222,null,null,"% target"]
[21,2775,21,2786,21,2821,null,null,null,null,0,222,null,null,"CCRF"]
[21,2947,21,2953,21,2982,null,null,null,null,0,222,null,null,"% CCRf"]
[21,3077,21,3079,12,3097,null,null,null,null,0,221,null,null,"average response rate",{"$f":"F13/P20","v":134.14285714285714},{"$f":"(F20-F13)/Q20","v":147},{"$f":"(F26-F20)/R20","v":142.16666666666666},{"$f":"(F33-F26)/S20","v":131.57142857142858},{"$f":"(F40-F33)/T20","v":180},{"$f":"(F47-F40)/U20","v":144.28571428571428}]
[21,3196,21,3198,21,3202,null,null,null,null,0,222]
[21,3297,21,3300,21,3305,null,null,null,null,0,222]
[21,3406,21,3410,21,3415,null,null,null,null,0,222]
[21,3590,21,3595,21,3608,null,null,null,null,0,222]
[21,3728,21,3734,21,3742,null,null,null,null,0,222]
[21,3864,21,3889,21,3912,null,null,null,null,0,222]
[21,4023,21,4029,21,4050,null,null,null,null,0,222]
[21,4201,21,4213,21,4235,null,null,null,null,0,222]
[21,4347,21,4385,21,4430,null,null,null,null,0,222]
[21,4558,21,4586,21,4597,null,null,null,null,0,222]
[21,4740,21,4750,21,4772,null,null,null,null,0,222]
[21,4935,21,4981,21,5002,null,null,null,null,0,222]
[21,5108,21,5114,21,5170,null,null,null,null,0,222]
[21,5263,21,5270,21,5285,null,null,null,null,0,222]
[21,5381,21,5392,21,5397,null,null,null,null,0,222]
[21,5541,21,5547,21,5565,null,null,null,null,0,222]
[21,5680,21,5685,21,5719,null,null,null,null,0,222]
[21,5834,21,5840,21,5859,null,null,null,null,0,222]
[21,5977,21,5984,21,6012,null,null,null,null,1,222]

{"sheet":"!M410A3I.sha","index":30,"n_rows":46,"n_cols":48,"rows_kept":46,"cut":false,"hidden":false,"merged":[[4,39,4,42],[5,39,5,40],[4,44,4,47],[5,44,5,45],[4,24,4,27],[5,24,5,25],[4,29,4,32],[5,29,5,30],[4,34,4,37],[5,34,5,35],[1,1,1,2],[5,13,5,14],[18,13,18,14],[19,13,19,14],[4,19,4,22],[5,19,5,20]]}
["Report for:!M410A3I.sha"]
["Date:","<date>"]
["Hen:","<hen>",null,null,null,"Correct Sequence",{"$f":"Start!J2","v":222},null,null,null,null,null,null,null,null,"Total Sequences in Data",{"$f":"4994-COUNTBLANK(L7:L5000)","v":40},null,null,null,null,"Total Sequences in Block Data",{"$f":"COUNTA(L7:L13)","v":7},null,null,null,"Total Sequences in Block Data",{"$f":"COUNTA(L14:L19)","v":6},null,null,null,"Total Sequences in Block Data",{"$f":"COUNTA(L20:L26)","v":7},null,null,null,"Total Sequences in Block Data",{"$f":"COUNTA(L27:L33)","v":7},null,null,null,"Total Sequences in Block Data",{"$f":"COUNTA(L34:L39)","v":6},null,null,null,"Total Sequences in Block Data",{"$f":"COUNTA(L40:L46)","v":7}]
[null,null,null,null,null,null,null,null,null,null,null,null,null,null,null,"Total Sequences in Summary",{"$f":"SUM(O7:O14)","v":40},null,null,null,null,"Total Sequences in Block Summary",{"$f":"SUM(U7:U14)","v":7},null,null,null,"Total Sequences in Block Summary",{"$f":"SUM(Z7:Z14)","v":6},null,null,null,"Total Sequences in Block Summary",{"$f":"SUM(AE7:AE14)","v":7},null,null,null,"Total Sequences in Block Summary",{"$f":"SUM(AJ7:AJ14)","v":7},null,null,null,"Total Sequences in Block Summary",{"$f":"SUM(AO7:AO14)","v":6},null,null,null,"Total Sequences in Block Summary",{"$f":"SUM(AT7:AT14)","v":7}]
[null,null,null,null,null,null,null,null,null,null,null,null,null,null,null,null,null,null,null,"Block 1",null,null,null,null,"Block 2",null,null,null,null,"Block 3",null,null,null,null,"Block 4",null,null,null,null,"Block 5",null,null,null,null,"Block 6"]
["Sequence\nComponent\n1","Time\n1","Sequence\nComponent\n2","Time\n2","Sequence\nComponent\n3","Time\n3","Sequence\nComponent\n4","Time\n4","Sequence\nComponent\n5","Time\n5","Correct?\n0=No 1=Yes","Sequence",null,"Frequency",null,"Relative Frequency","Variability",null,null,"Frequency",null,"Relative Frequency","Variability",null,"Frequency",null,"Relative Frequency","Variability",null,"Frequency",null,"Relative Frequency","Variability",null,"Frequency",null,"Relative Frequency","Variability",null,"Frequency",null,"Relative Frequency","Variability",null,"Frequency",null,"Relative Frequency","Variability"]
[21,62,21,72,21,79,null,null,null,null,0,222,null,111,{"$f":"COUNTIF($L$7:$L$500,N7)","v":0},{"$f":"O7/$Q$4","v":0},{"$f":"IF(P7=0,0,(P7*((LOG(P7))/LOG(2))))","v":0},null,null,{"$f":"N7","v":111},{"$f":"COUNTIF(L7:L13,T7)","v":0},{"$f":"U7/(W4-U14)","v":{"$error":"#DIV/0!"}},{"$f":"IF(V7=0,0,(V7*((LOG(V7))/LOG(2))))","v":{"$error":"#DIV/0!"}},null,{"$f":"N7","v":111},{"$f":"COUNTIF(L14:L19,Y7)","v":0},{"$f":"Z7/(AB4-Z14)","v":{"$error":"#DIV/0!"}},{"$f":"IF(AA7=0,0,(AA7*((LOG(AA7))/LOG(2))))","v":{"$error":"#DIV/0!"}},null,{"$f":"N7","v":111},{"$f":"COUNTIF(L20:L26,AD7)","v":0},{"$f":"AE7/(AG4-AE14)","v":{"$error":"#DIV/0!"}},{"$f":"IF(AF7=0,0,(AF7*((LOG(AF7))/LOG(2))))","v":{"$error":"#DIV/0!"}},null,{"$f":"N7","v":111},{"$f":"COUNTIF(L27:L33,AI7)","v":0},{"$f":"AJ7/(AL4-AJ14)","v":{"$error":"#DIV/0!"}},{"$f":"IF(AK7=0,0,(AK7*((LOG(AK7))/LOG(2))))","v":{"$error":"#DIV/0!"}},null,{"$f":"N7","v":111},{"$f":"COUNTIF(L34:L39,AN7)","v":0},{"$f":"AO7/(AQ4-AO14)","v":{"$error":"#DIV/0!"}},{"$f":"IF(AP7=0,0,(AP7*((LOG(AP7))/LOG(2))))","v":{"$error":"#DIV/0!"}},null,{"$f":"N7","v":111},{"$f":"COUNTIF(L40:L46,AS7)","v":0},{"$f":"AT7/(AV4-AT14)","v":{"$error":"#DIV/0!"}},{"$f":"IF(AU7=0,0,(AU7*((LOG(AU7))/LOG(2))))","v":{"$error":"#DIV/0!"}}]
[21,174,21,178,21,183,null,null,null,null,0,222,null,112,{"$f":"COUNTIF($L$7:$L$500,N8)","v":0},{"$f":"O8/$Q$4","v":0},{"$f":"IF(P8=0,0,(P8*((LOG(P8))/LOG(2))))","v":0},null,null,{"$f":"N8","v":112},{"$f":"COUNTIF(L7:L13,T8)","v":0},{"$f":"U8/(W4-U14)","v":{"$error":"#DIV/0!"}},{"$f":"IF(V8=0,0,(V8*((LOG(V8))/LOG(2))))","v":{"$error":"#DIV/0!"}},null,{"$f":"N8","v":112},{"$f":"COUNTIF(L14:L19,Y8)","v":0},{"$f":"Z8/(AB4-Z14)","v":{"$error":"#DIV/0!"}},{"$f":"IF(AA8=0,0,(AA8*((LOG(AA8))/LOG(2))))","v":{"$error":"#DIV/0!"}},null,{"$f":"N8","v":112},{"$f":"COUNTIF(L20:L26,AD8)","v":0},{"$f":"AE8/(AG4-AE14)","v":{"$error":"#DIV/0!"}},{"$f":"IF(AF8=0,0,(AF8*((LOG(AF8))/LOG(2))))","v":{"$error":"#DIV/0!"}},null,{"$f":"N8","v":112},{"$f":"COUNTIF(L27:L33,AI8)","v":0},{"$f":"AJ8/(AL4-AJ14)","v":{"$error":"#DIV/0!"}},{"$f":"IF(AK8=0,0,(AK8*((LOG(AK8))/LOG(2))))","v":{"$error":"#DIV/0!"}},null,{"$f":"N8","v":112},{"$f":"COUNTIF(L34:L39,AN8)","v":0},{"$f":"AO8/(AQ4-AO14)","v":{"$error":"#DIV/0!"}},{"$f":"IF(AP8=0,0,(AP8*((LOG(AP8))/LOG(2))))","v":{"$error":"#DIV/0!"}},null,{"$f":"N8","v":112},{"$f":"COUNTIF(L40:L46,AS8)","v":0},{"$f":"AT8/(AV4-AT14)","v":{"$error":"#DIV/0!"}},{"$f":"IF(AU8=0,0,(AU8*((LOG(AU8))/LOG(2))))","v":{"$error":"#DIV/0!"}}]
[21,278,21,283,21,296,null,null,null,null,0,222,null,121,{"$f":"COUNTIF($L$7:$L$500,N9)","v":0},{"$f":"O9/$Q$4","v":0},{"$f":"IF(P9=0,0,(P9*((LOG(P9))/LOG(2))))","v":0},null,null,{"$f":"N9","v":121},{"$f":"COUNTIF(L7:L13,T9)","v":0},{"$f":"U9/(W4-U14)","v":{"$error":"#DIV/0!"}},{"$f":"IF(V9=0,0,(V9*((LOG(V9))/LOG(2))))","v":{"$error":"#DIV/0!"}},null,{"$f":"N9","v":121},{"$f":"COUNTIF(L14:L19,Y9)","v":0},{"$f":"Z9/(AB4-Z14)","v":{"$error":"#DIV/0!"}},{"$f":"IF(AA9=0,0,(AA9*((LOG(AA9))/LOG(2))))","v":{"$error":"#DIV/0!"}},null,{"$f":"N9","v":121},{"$f":"COUNTIF(L20:L26,AD9)","v":0},{"$f":"AE9/(AG4-AE14)","v":{"$error":"#DIV/0!"}},{"$f":"IF(AF9=0,0,(AF9*((LOG(AF9))/LOG(2))))","v":{"$error":"#DIV/0!"}},null,{"$f":"N9","v":121},{"$f":"COUNTIF(L27:L33,AI9)","v":0},{"$f":"AJ9/(AL4-AJ14)","v":{"$error":"#DIV/0!"}},{"$f":"IF(AK9=0,0,(AK9*((LOG(AK9))/LOG(2))))","v":{"$error":"#DIV/0!"}},null,{"$f":"N9","v":121},{"$f":"COUNTIF(L34:L39,AN9)","v":0},{"$f":"AO9/(AQ4-AO14)","v":{"$error":"#DIV/0!"}},{"$f":"IF(AP9=0,0,(AP9*((LOG(AP9))/LOG(2))))","v":{"$error":"#DIV/0!"}},null,{"$f":"N9","v":121},{"$f":"COUNTIF(L40:L46,AS9)","v":0},{"$f":"AT9/(AV4-AT14)","v":{"$error":"#DIV/0!"}},{"$f":"IF(AU9=0,0,(AU9*((LOG(AU9))/LOG(2))))","v":{"$error":"#DIV/0!"}}]
[21,415,21,421,21,428,null,null,null,null,0,222,null,122,{"$f":"COUNTIF($L$7:$L$500,N10)","v":0},{"$f":"O10/$Q$4","v":0},{"$f":"IF(P10=0,0,(P10*((LOG(P10))/LOG(2))))","v":0},null,null,{"$f":"N10","v":122},{"$f":"COUNTIF(L7:L13,T10)","v":0},{"$f":"U10/(W4-U14)","v":{"$error":"#DIV/0!"}},{"$f":"IF(V10=0,0,(V10*((LOG(V10))/LOG(2))))","v":{"$error":"#DIV/0!"}},null,{"$f":"N10","v":122},{"$f":"COUNTIF(L14:L19,Y10)","v":0},{"$f":"Z10/(AB4-Z14)","v":{"$error":"#DIV/0!"}},{"$f":"IF(AA10=0,0,(AA10*((LOG(AA10))/LOG(2))))","v":{"$error":"#DIV/0!"}},null,{"$f":"N10","v":122},{"$f":"COUNTIF(L20:L26,AD10)","v":0},{"$f":"AE10/(AG4-AE14)","v":{"$error":"#DIV/0!"}},{"$f":"IF(AF10=0,0,(AF10*((LOG(AF10))/LOG(2))))","v":{"$error":"#DIV/0!"}},null,{"$f":"N10","v":122},{"$f":"COUNTIF(L27:L33,AI10)","v":0},{"$f":"AJ10/(AL4-AJ14)","v":{"$error":"#DIV/0!"}},{"$f":"IF(AK10=0,0,(AK10*((LOG(AK10))/LOG(2))))","v":{"$error":"#DIV/0!"}},null,{"$f":"N10","v":122},{"$f":"COUNTIF(L34:L39,AN10)","v":0},{"$f":"AO10/(AQ4-AO14)","v":{"$error":"#DIV/0!"}},{"$f":"IF(AP10=0,0,(AP10*((LOG(AP10))/LOG(2))))","v":{"$error":"#DIV/0!"}},null,{"$f":"N10","v":122},{"$f":"COUNTIF(L40:L46,AS10)","v":0},{"$f":"AT10/(AV4-AT14)","v":{"$error":"#DIV/0!"}},{"$f":"IF(AU10=0,0,(AU10*((LOG(AU10))/LOG(2))))","v":{"$error":"#DIV/0!"}}]
[21,546,21,553,21,577,null,null,null,null,0,222,null,211,{"$f":"COUNTIF($L$7:$L$500,N11)","v":0},{"$f":"O11/$Q$4","v":0},{"$f":"IF(P11=0,0,(P11*((LOG(P11))/LOG(2))))","v":0},null,null,{"$f":"N11","v":211},{"$f":"COUNTIF(L7:L13,T11)","v":0},{"$f":"U11/(W4-U14)","v":{"$error":"#DIV/0!"}},{"$f":"IF(V11=0,0,(V11*((LOG(V11))/LOG(2))))","v":{"$error":"#DIV/0!"}},null,{"$f":"N11","v":211},{"$f":"COUNTIF(L14:L19,Y11)","v":0},{"$f":"Z11/(AB4-Z14)","v":{"$error":"#DIV/0!"}},{"$f":"IF(AA11=0,0,(AA11*((LOG(AA11))/LOG(2))))","v":{"$error":"#DIV/0!"}},null,{"$f":"N11","v":211},{"$f":"COUNTIF(L20:L26,AD11)","v":0},{"$f":"AE11/(AG4-AE14)","v":{"$error":"#DIV/0!"}},{"$f":"IF(AF11=0,0,(AF11*((LOG(AF11))/LOG(2))))","v":{"$error":"#DIV/0!"}},null,{"$f":"N11","v":211},{"$f":"COUNTIF(L27:L33,AI11)","v":0},{"$f":"AJ11/(AL4-AJ14)","v":{"$error":"#DIV/0!"}},{"$f":"IF(AK11=0,0,(AK11*((LOG(AK11))/LOG(2))))","v":{"$error":"#DIV/0!"}},null,{"$f":"N11","v":211},{"$f":"COUNTIF(L34:L39,AN11)","v":0},{"$f":"AO11/(AQ4-AO14)","v":{"$error":"#DIV/0!"}},{"$f":"IF(AP11=0,0,(AP11*((LOG(AP11))/LOG(2))))","v":{"$error":"#DIV/0!"}},null,{"$f":"N11","v":211},{"$f":"COUNTIF(L40:L46,AS11)","v":0},{"$f":"AT11/(AV4-AT14)","v":{"$error":"#DIV/0!"}},{"$f":"IF(AU11=0,0,(AU11*((LOG(AU11))/LOG(2))))","v":{"$error":"#DIV/0!"}}]
[21,687,21,702,21,719,null,null,null,null,0,222,null,212,{"$f":"COUNTIF($L$7:$L$500,N12)","v":0},{"$f":"O12/$Q$4","v":0},{"$f":"IF(P12=0,0,(P12*((LOG(P12))/LOG(2))))","v":0},null,null,{"$f":"N12","v":212},{"$f":"COUNTIF(L7:L13,T12)","v":0},{"$f":"U12/(W4-U14)","v":{"$error":"#DIV/0!"}},{"$f":"IF(V12=0,0,(V12*((LOG(V12))/LOG(2))))","v":{"$error":"#DIV/0!"}},null,{"$f":"N12","v":212},{"$f":"COUNTIF(L14:L19,Y12)","v":0},{"$f":"Z12/(AB4-Z14)","v":{"$error":"#DIV/0!"}},{"$f":"IF(AA12=0,0,(AA12*((LOG(AA12))/LOG(2))))","v":{"$error":"#DIV/0!"}},null,{"$f":"N12","v":212},{"$f":"COUNTIF(L20:L26,AD12)","v":0},{"$f":"AE12/(AG4-AE14)","v":{"$error":"#DIV/0!"}},{"$f":"IF(AF12=0,0,(AF12*((LOG(AF12))/LOG(2))))","v":{"$error":"#DIV/0!"}},null,{"$f":"N12","v":212},{"$f":"COUNTIF(L27:L33,AI12)","v":0},{"$f":"AJ12/(AL4-AJ14)","v":{"$error":"#DIV/0!"}},{"$f":"IF(AK12=0,0,(AK12*((LOG(AK12))/LOG(2))))","v":{"$error":"#DIV/0!"}},null,{"$f":"N12","v":212},{"$f":"COUNTIF(L34:L39,AN12)","v":0},{"$f":"AO12/(AQ4-AO14)","v":{"$error":"#DIV/0!"}},{"$f":"IF(AP12=0,0,(AP12*((LOG(AP12))/LOG(2))))","v":{"$error":"#DIV/0!"}},null,{"$f":"N12","v":212},{"$f":"COUNTIF(L40:L46,AS12)","v":0},{"$f":"AT12/(AV4-AT14)","v":{"$error":"#DIV/0!"}},{"$f":"IF(AU12=0,0,(AU12*((LOG(AU12))/LOG(2))))","v":{"$error":"#DIV/0!"}}]
[21,822,21,823,21,831,null,null,null,null,0,222,null,221,{"$f":"COUNTIF($L$7:$L$500,N13)","v":0},{"$f":"O13/$Q$4","v":0},{"$f":"IF(P13=0,0,(P13*((LOG(P13))/LOG(2))))","v":0},null,null,{"$f":"N13","v":221},{"$f":"COUNTIF(L7:L13,T13)","v":0},{"$f":"U13/(W4-U14)","v":{"$error":"#DIV/0!"}},{"$f":"IF(V13=0,0,(V13*((LOG(V13))/LOG(2))))","v":{"$error":"#DIV/0!"}},null,{"$f":"N13","v":221},{"$f":"COUNTIF(L14:L19,Y13)","v":0},{"$f":"Z13/(AB4-Z14)","v":{"$error":"#DIV/0!"}},{"$f":"IF(AA13=0,0,(AA13*((LOG(AA13))/LOG(2))))","v":{"$error":"#DIV/0!"}},null,{"$f":"N13","v":221},{"$f":"COUNTIF(L20:L26,AD13)","v":0},{"$f":"AE13/(AG4-AE14)","v":{"$error":"#DIV/0!"}},{"$f":"IF(AF13=0,0,(AF13*((LOG(AF13))/LOG(2))))","v":{"$error":"#DIV/0!"}},null,{"$f":"N13","v":221},{"$f":"COUNTIF(L27:L33,AI13)","v":0},{"$f":"AJ13/(AL4-AJ14)","v":{"$error":"#DIV/0!"}},{"$f":"IF(AK13=0,0,(AK13*((LOG(AK13))/LOG(2))))","v":{"$error":"#DIV/0!"}},null,{"$f":"N13","v":221},{"$f":"COUNTIF(L34:L39,AN13)","v":0},{"$f":"AO13/(AQ4-AO14)","v":{"$error":"#DIV/0!"}},{"$f":"IF(AP13=0,0,(AP13*((LOG(AP13))/LOG(2))))","v":{"$error":"#DIV/0!"}},null,{"$f":"N13","v":221},{"$f":"COUNTIF(L40:L46,AS13)","v":0},{"$f":"AT13/(AV4-AT14)","v":{"$error":"#DIV/0!"}},{"$f":"IF(AU13=0,0,(AU13*((LOG(AU13))/LOG(2))))","v":{"$error":"#DIV/0!"}}]
[21,969,21,986,21,1000,null,null,null,null,0,222,null,222,{"$f":"COUNTIF($L$7:$L$500,N14)","v":40},{"$f":"O14/$Q$4","v":1},{"$f":"IF(P14=0,0,(P14*((LOG(P14))/LOG(2))))","v":0},null,null,{"$f":"N14","v":222},{"$f":"COUNTIF(L7:L13,T14)","v":7},null,null,null,{"$f":"N14","v":222},{"$f":"COUNTIF(L14:L19,Y14)","v":6},null,null,null,{"$f":"N14","v":222},{"$f":"COUNTIF(L20:L26,AD14)","v":7},null,null,null,{"$f":"N14","v":222},{"$f":"COUNTIF(L27:L33,AI14)","v":7},null,null,null,{"$f":"N14","v":222},{"$f":"COUNTIF(L34:L39,AN14)","v":6},null,null,null,{"$f":"N14","v":222},{"$f":"COUNTIF(L40:L46,AS14)","v":7}]
[21,1100,21,1106,21,1122,null,null,null,null,0,222,null,null,null,{"$f":"SUM(P7:P14)","v":1},{"$f":"-SUM(Q7:Q14)","v":0},null,null,null,null,{"$f":"SUM(V7:V14)","v":{"$error":"#DIV/0!"}},{"$f":"-SUM(W7:W14)","v":{"$error":"#DIV/0!"}},null,null,null,{"$f":"SUM(AA7:AA14)","v":{"$error":"#DIV/0!"}},{"$f":"-SUM(AB7:AB14)","v":{"$error":"#DIV/0!"}},null,null,null,{"$f":"SUM(AF7:AF14)","v":{"$error":"#DIV/0!"}},{"$f":"-SUM(AG7:AG14)","v":{"$error":"#DIV/0!"}},null,null,null,{"$f":"SUM(AK7:AK14)","v":{"$error":"#DIV/0!"}},{"$f":"-SUM(AL7:AL14)","v":{"$error":"#DIV/0!"}},null,null,null,{"$f":"SUM(AP7:AP14)","v":{"$error":"#DIV/0!"}},{"$f":"-SUM(AQ7:AQ14)","v":{"$error":"#DIV/0!"}},null,null,null,{"$f":"SUM(AU7:AU14)","v":{"$error":"#DIV/0!"}},{"$f":"-SUM(AV7:AV14)","v":{"$error":"#DIV/0!"}}]
[21,1219,21,1225,21,1244,null,null,null,null,0,222,null,null,null,"U=",{"$f":"Q15/(LOG(Q4)/LOG(2))","v":0},null,null,null,null,"U1=",{"$f":"W15/(LOG(W4)/LOG(2))","v":{"$error":"#DIV/0!"}},null,null,null,"U2=",{"$f":"AB15/(LOG(AB4)/LOG(2))","v":{"$error":"#DIV/0!"}},null,null,null,"U3=",{"$f":"AG15/(LOG(AG4)/LOG(2))","v":{"$error":"#DIV/0!"}},null,null,null,"U4=",{"$f":"AL15/(LOG(AL4)/LOG(2))","v":{"$error":"#DIV/0!"}},null,null,null,"U5=",{"$f":"AQ15/(LOG(AQ4)/LOG(2))","v":{"$error":"#DIV/0!"}},null,null,null,"U6=",{"$f":"AV15/(LOG(AV4)/LOG(2))","v":{"$error":"#DIV/0!"}}]
[21,1360,21,1367,21,1383,null,null,null,null,0,222]
[21,1491,21,1498,21,1514,null,null,null,null,0,222]
[21,1647,21,1670,21,1687,null,null,null,null,0,222,null,"Total Target Seq"]
[21,1802,21,1809,21,1852,null,null,null,null,0,222,null,{"$f":"COUNTIF(L7:L46,G3)","v":40},null,7,6,7,7,6,7]
[21,1958,21,1971,21,1983,null,null,null,null,0,222,null,null,null,"% of reinforcement given in 6 equal intervals based on number of trials "]
[21,2110,21,2123,21,2151,null,null,null,null,0,222,null,null,null,"%_1","%_2","%_3","%_4","%_5","%_6"]
[21,2248,21,2256,21,2298,null,null,null,null,0,222,null,null,"target sequence",{"$f":"$G$3","v":222},{"$f":"$G$3","v":222},{"$f":"$G$3","v":222},{"$f":"$G$3","v":222},{"$f":"$G$3","v":222},{"$f":"$G$3","v":222}]
[21,2405,21,2411,21,2425,null,null,null,null,0,222,null,null,"total reinforcement",{"$f":"U14","v":7},{"$f":"Z14","v":6},{"$f":"AE14","v":7},{"$f":"AJ14","v":7},{"$f":"AO14","v":6},{"$f":"AT14","v":7}]
[21,2519,21,2527,21,2544,null,null,null,null,0,222,null,null,"% target"]
[21,2639,21,2644,21,2659,null,null,null,null,0,222,null,null,"CCRF"]
[21,2753,21,2759,21,2767,null,null,null,null,0,222,null,null,"% CCRf"]
[21,2888,21,2916,21,2936,null,null,null,null,0,222,null,null,"average response rate",{"$f":"F13/P20","v":118.71428571428571},{"$f":"(F19-F13)/Q20","v":142.66666666666666},{"$f":"(F26-F19)/R20","v":138.85714285714286},{"$f":"(F33-F26)/S20","v":143.28571428571428},{"$f":"(F39-F33)/T20","v":139.33333333333334},{"$f":"(F46-F39)/U20","v":168.42857142857142}]
[21,3085,21,3096,21,3109,null,null,null,null,0,222]
[21,3215,21,3221,21,3229,null,null,null,null,0,222]
[21,3338,21,3361,21,3373,null,null,null,null,0,222]
[21,3521,21,3531,21,3541,null,null,null,null,0,222]
[21,3635,21,3647,21,3662,null,null,null,null,0,222]
[21,3768,21,3777,21,3792,null,null,null,null,0,222]
[21,3951,21,3957,21,3970,null,null,null,null,0,222]
[21,4103,21,4119,21,4129,null,null,null,null,0,222]
[21,4227,21,4234,21,4264,null,null,null,null,0,222]
[21,4357,21,4361,21,4367,null,null,null,null,0,222]
[21,4485,21,4489,21,4498,null,null,null,null,0,222]
[21,4638,21,4647,21,4652,null,null,null,null,0,222]
[21,4753,21,4759,21,4769,null,null,null,null,0,222]
[21,4894,21,4911,21,4927,null,null,null,null,0,222]
[21,5098,21,5108,21,5114,null,null,null,null,0,222]
[21,5245,21,5316,21,5337,null,null,null,null,0,222]
[21,5449,21,5453,21,5484,null,null,null,null,0,222]
[21,5603,21,5665,21,5677,null,null,null,null,1,222]

{"sheet":"!M411B2I.sha","index":31,"n_rows":46,"n_cols":48,"rows_kept":46,"cut":false,"hidden":false,"merged":[[4,39,4,42],[5,39,5,40],[4,44,4,47],[5,44,5,45],[4,24,4,27],[5,24,5,25],[4,29,4,32],[5,29,5,30],[4,34,4,37],[5,34,5,35],[1,1,1,2],[5,13,5,14],[18,13,18,14],[19,13,19,14],[4,19,4,22],[5,19,5,20]]}
["Report for:!M411B2I.sha"]
["Date:","<date>"]
["Hen:","<hen>",null,null,null,"Correct Sequence",{"$f":"Start!J2","v":222},null,null,null,null,null,null,null,null,"Total Sequences in Data",{"$f":"4994-COUNTBLANK(L7:L5000)","v":40},null,null,null,null,"Total Sequences in Block Data",{"$f":"COUNTA(L7:L13)","v":7},null,null,null,"Total Sequences in Block Data",{"$f":"COUNTA(L14:L19)","v":6},null,null,null,"Total Sequences in Block Data",{"$f":"COUNTA(L20:L26)","v":7},null,null,null,"Total Sequences in Block Data",{"$f":"COUNTA(L27:L33)","v":7},null,null,null,"Total Sequences in Block Data",{"$f":"COUNTA(L34:L39)","v":6},null,null,null,"Total Sequences in Block Data",{"$f":"COUNTA(L40:L46)","v":7}]
[null,null,null,null,null,null,null,null,null,null,null,null,null,null,null,"Total Sequences in Summary",{"$f":"SUM(O7:O14)","v":40},null,null,null,null,"Total Sequences in Block Summary",{"$f":"SUM(U7:U14)","v":7},null,null,null,"Total Sequences in Block Summary",{"$f":"SUM(Z7:Z14)","v":6},null,null,null,"Total Sequences in Block Summary",{"$f":"SUM(AE7:AE14)","v":7},null,null,null,"Total Sequences in Block Summary",{"$f":"SUM(AJ7:AJ14)","v":7},null,null,null,"Total Sequences in Block Summary",{"$f":"SUM(AO7:AO14)","v":6},null,null,null,"Total Sequences in Block Summary",{"$f":"SUM(AT7:AT14)","v":7}]
[null,null,null,null,null,null,null,null,null,null,null,null,null,null,null,null,null,null,null,"Block 1",null,null,null,null,"Block 2",null,null,null,null,"Block 3",null,null,null,null,"Block 4",null,null,null,null,"Block 5",null,null,null,null,"Block 6"]
["Sequence\nComponent\n1","Time\n1","Sequence\nComponent\n2","Time\n2","Sequence\nComponent\n3","Time\n3","Sequence\nComponent\n4","Time\n4","Sequence\nComponent\n5","Time\n5","Correct?\n0=No 1=Yes","Sequence",null,"Frequency",null,"Relative Frequency","Variability",null,null,"Frequency",null,"Relative Frequency","Variability",null,"Frequency",null,"Relative Frequency","Variability",null,"Frequency",null,"Relative Frequency","Variability",null,"Frequency",null,"Relative Frequency","Variability",null,"Frequency",null,"Relative Frequency","Variability",null,"Frequency",null,"Relative Frequency","Variability"]
[21,8,21,13,21,20,null,null,null,null,0,222,null,111,{"$f":"COUNTIF($L$7:$L$500,N7)","v":0},{"$f":"O7/$Q$4","v":0},{"$f":"IF(P7=0,0,(P7*((LOG(P7))/LOG(2))))","v":0},null,null,{"$f":"N7","v":111},{"$f":"COUNTIF(L7:L13,T7)","v":0},{"$f":"U7/(W4-U14)","v":{"$error":"#DIV/0!"}},{"$f":"IF(V7=0,0,(V7*((LOG(V7))/LOG(2))))","v":{"$error":"#DIV/0!"}},null,{"$f":"N7","v":111},{"$f":"COUNTIF(L14:L19,Y7)","v":0},{"$f":"Z7/(AB4-Z14)","v":{"$error":"#DIV/0!"}},{"$f":"IF(AA7=0,0,(AA7*((LOG(AA7))/LOG(2))))","v":{"$error":"#DIV/0!"}},null,{"$f":"N7","v":111},{"$f":"COUNTIF(L20:L26,AD7)","v":0},{"$f":"AE7/(AG4-AE14)","v":{"$error":"#DIV/0!"}},{"$f":"IF(AF7=0,0,(AF7*((LOG(AF7))/LOG(2))))","v":{"$error":"#DIV/0!"}},null,{"$f":"N7","v":111},{"$f":"COUNTIF(L27:L33,AI7)","v":0},{"$f":"AJ7/(AL4-AJ14)","v":{"$error":"#DIV/0!"}},{"$f":"IF(AK7=0,0,(AK7*((LOG(AK7))/LOG(2))))","v":{"$error":"#DIV/0!"}},null,{"$f":"N7","v":111},{"$f":"COUNTIF(L34:L39,AN7)","v":0},{"$f":"AO7/(AQ4-AO14)","v":{"$error":"#DIV/0!"}},{"$f":"IF(AP7=0,0,(AP7*((LOG(AP7))/LOG(2))))","v":{"$error":"#DIV/0!"}},null,{"$f":"N7","v":111},{"$f":"COUNTIF(L40:L46,AS7)","v":0},{"$f":"AT7/(AV4-AT14)","v":{"$error":"#DIV/0!"}},{"$f":"IF(AU7=0,0,(AU7*((LOG(AU7))/LOG(2))))","v":{"$error":"#DIV/0!"}}]
[21,166,21,171,21,180,null,null,null,null,0,222,null,112,{"$f":"COUNTIF($L$7:$L$500,N8)","v":0},{"$f":"O8/$Q$4","v":0},{"$f":"IF(P8=0,0,(P8*((LOG(P8))/LOG(2))))","v":0},null,null,{"$f":"N8","v":112},{"$f":"COUNTIF(L7:L13,T8)","v":0},{"$f":"U8/(W4-U14)","v":{"$error":"#DIV/0!"}},{"$f":"IF(V8=0,0,(V8*((LOG(V8))/LOG(2))))","v":{"$error":"#DIV/0!"}},null,{"$f":"N8","v":112},{"$f":"COUNTIF(L14:L19,Y8)","v":0},{"$f":"Z8/(AB4-Z14)","v":{"$error":"#DIV/0!"}},{"$f":"IF(AA8=0,0,(AA8*((LOG(AA8))/LOG(2))))","v":{"$error":"#DIV/0!"}},null,{"$f":"N8","v":112},{"$f":"COUNTIF(L20:L26,AD8)","v":0},{"$f":"AE8/(AG4-AE14)","v":{"$error":"#DIV/0!"}},{"$f":"IF(AF8=0,0,(AF8*((LOG(AF8))/LOG(2))))","v":{"$error":"#DIV/0!"}},null,{"$f":"N8","v":112},{"$f":"COUNTIF(L27:L33,AI8)","v":0},{"$f":"AJ8/(AL4-AJ14)","v":{"$error":"#DIV/0!"}},{"$f":"IF(AK8=0,0,(AK8*((LOG(AK8))/LOG(2))))","v":{"$error":"#DIV/0!"}},null,{"$f":"N8","v":112},{"$f":"COUNTIF(L34:L39,AN8)","v":0},{"$f":"AO8/(AQ4-AO14)","v":{"$error":"#DIV/0!"}},{"$f":"IF(AP8=0,0,(AP8*((LOG(AP8))/LOG(2))))","v":{"$error":"#DIV/0!"}},null,{"$f":"N8","v":112},{"$f":"COUNTIF(L40:L46,AS8)","v":0},{"$f":"AT8/(AV4-AT14)","v":{"$error":"#DIV/0!"}},{"$f":"IF(AU8=0,0,(AU8*((LOG(AU8))/LOG(2))))","v":{"$error":"#DIV/0!"}}]
[21,341,21,361,21,378,null,null,null,null,0,222,null,121,{"$f":"COUNTIF($L$7:$L$500,N9)","v":0},{"$f":"O9/$Q$4","v":0},{"$f":"IF(P9=0,0,(P9*((LOG(P9))/LOG(2))))","v":0},null,null,{"$f":"N9","v":121},{"$f":"COUNTIF(L7:L13,T9)","v":0},{"$f":"U9/(W4-U14)","v":{"$error":"#DIV/0!"}},{"$f":"IF(V9=0,0,(V9*((LOG(V9))/LOG(2))))","v":{"$error":"#DIV/0!"}},null,{"$f":"N9","v":121},{"$f":"COUNTIF(L14:L19,Y9)","v":0},{"$f":"Z9/(AB4-Z14)","v":{"$error":"#DIV/0!"}},{"$f":"IF(AA9=0,0,(AA9*((LOG(AA9))/LOG(2))))","v":{"$error":"#DIV/0!"}},null,{"$f":"N9","v":121},{"$f":"COUNTIF(L20:L26,AD9)","v":0},{"$f":"AE9/(AG4-AE14)","v":{"$error":"#DIV/0!"}},{"$f":"IF(AF9=0,0,(AF9*((LOG(AF9))/LOG(2))))","v":{"$error":"#DIV/0!"}},null,{"$f":"N9","v":121},{"$f":"COUNTIF(L27:L33,AI9)","v":0},{"$f":"AJ9/(AL4-AJ14)","v":{"$error":"#DIV/0!"}},{"$f":"IF(AK9=0,0,(AK9*((LOG(AK9))/LOG(2))))","v":{"$error":"#DIV/0!"}},null,{"$f":"N9","v":121},{"$f":"COUNTIF(L34:L39,AN9)","v":0},{"$f":"AO9/(AQ4-AO14)","v":{"$error":"#DIV/0!"}},{"$f":"IF(AP9=0,0,(AP9*((LOG(AP9))/LOG(2))))","v":{"$error":"#DIV/0!"}},null,{"$f":"N9","v":121},{"$f":"COUNTIF(L40:L46,AS9)","v":0},{"$f":"AT9/(AV4-AT14)","v":{"$error":"#DIV/0!"}},{"$f":"IF(AU9=0,0,(AU9*((LOG(AU9))/LOG(2))))","v":{"$error":"#DIV/0!"}}]
[21,487,21,492,21,499,null,null,null,null,0,222,null,122,{"$f":"COUNTIF($L$7:$L$500,N10)","v":0},{"$f":"O10/$Q$4","v":0},{"$f":"IF(P10=0,0,(P10*((LOG(P10))/LOG(2))))","v":0},null,null,{"$f":"N10","v":122},{"$f":"COUNTIF(L7:L13,T10)","v":0},{"$f":"U10/(W4-U14)","v":{"$error":"#DIV/0!"}},{"$f":"IF(V10=0,0,(V10*((LOG(V10))/LOG(2))))","v":{"$error":"#DIV/0!"}},null,{"$f":"N10","v":122},{"$f":"COUNTIF(L14:L19,Y10)","v":0},{"$f":"Z10/(AB4-Z14)","v":{"$error":"#DIV/0!"}},{"$f":"IF(AA10=0,0,(AA10*((LOG(AA10))/LOG(2))))","v":{"$error":"#DIV/0!"}},null,{"$f":"N10","v":122},{"$f":"COUNTIF(L20:L26,AD10)","v":0},{"$f":"AE10/(AG4-AE14)","v":{"$error":"#DIV/0!"}},{"$f":"IF(AF10=0,0,(AF10*((LOG(AF10))/LOG(2))))","v":{"$error":"#DIV/0!"}},null,{"$f":"N10","v":122},{"$f":"COUNTIF(L27:L33,AI10)","v":0},{"$f":"AJ10/(AL4-AJ14)","v":{"$error":"#DIV/0!"}},{"$f":"IF(AK10=0,0,(AK10*((LOG(AK10))/LOG(2))))","v":{"$error":"#DIV/0!"}},null,{"$f":"N10","v":122},{"$f":"COUNTIF(L34:L39,AN10)","v":0},{"$f":"AO10/(AQ4-AO14)","v":{"$error":"#DIV/0!"}},{"$f":"IF(AP10=0,0,(AP10*((LOG(AP10))/LOG(2))))","v":{"$error":"#DIV/0!"}},null,{"$f":"N10","v":122},{"$f":"COUNTIF(L40:L46,AS10)","v":0},{"$f":"AT10/(AV4-AT14)","v":{"$error":"#DIV/0!"}},{"$f":"IF(AU10=0,0,(AU10*((LOG(AU10))/LOG(2))))","v":{"$error":"#DIV/0!"}}]
[21,593,21,602,21,615,null,null,null,null,0,222,null,211,{"$f":"COUNTIF($L$7:$L$500,N11)","v":0},{"$f":"O11/$Q$4","v":0},{"$f":"IF(P11=0,0,(P11*((LOG(P11))/LOG(2))))","v":0},null,null,{"$f":"N11","v":211},{"$f":"COUNTIF(L7:L13,T11)","v":0},{"$f":"U11/(W4-U14)","v":{"$error":"#DIV/0!"}},{"$f":"IF(V11=0,0,(V11*((LOG(V11))/LOG(2))))","v":{"$error":"#DIV/0!"}},null,{"$f":"N11","v":211},{"$f":"COUNTIF(L14:L19,Y11)","v":0},{"$f":"Z11/(AB4-Z14)","v":{"$error":"#DIV/0!"}},{"$f":"IF(AA11=0,0,(AA11*((LOG(AA11))/LOG(2))))","v":{"$error":"#DIV/0!"}},null,{"$f":"N11","v":211},{"$f":"COUNTIF(L20:L26,AD11)","v":0},{"$f":"AE11/(AG4-AE14)","v":{"$error":"#DIV/0!"}},{"$f":"IF(AF11=0,0,(AF11*((LOG(AF11))/LOG(2))))","v":{"$error":"#DIV/0!"}},null,{"$f":"N11","v":211},{"$f":"COUNTIF(L27:L33,AI11)","v":0},{"$f":"AJ11/(AL4-AJ14)","v":{"$error":"#DIV/0!"}},{"$f":"IF(AK11=0,0,(AK11*((LOG(AK11))/LOG(2))))","v":{"$error":"#DIV/0!"}},null,{"$f":"N11","v":211},{"$f":"COUNTIF(L34:L39,AN11)","v":0},{"$f":"AO11/(AQ4-AO14)","v":{"$error":"#DIV/0!"}},{"$f":"IF(AP11=0,0,(AP11*((LOG(AP11))/LOG(2))))","v":{"$error":"#DIV/0!"}},null,{"$f":"N11","v":211},{"$f":"COUNTIF(L40:L46,AS11)","v":0},{"$f":"AT11/(AV4-AT14)","v":{"$error":"#DIV/0!"}},{"$f":"IF(AU11=0,0,(AU11*((LOG(AU11))/LOG(2))))","v":{"$error":"#DIV/0!"}}]
[21,708,21,713,21,721,null,null,null,null,0,222,null,212,{"$f":"COUNTIF($L$7:$L$500,N12)","v":0},{"$f":"O12/$Q$4","v":0},{"$f":"IF(P12=0,0,(P12*((LOG(P12))/LOG(2))))","v":0},null,null,{"$f":"N12","v":212},{"$f":"COUNTIF(L7:L13,T12)","v":0},{"$f":"U12/(W4-U14)","v":{"$error":"#DIV/0!"}},{"$f":"IF(V12=0,0,(V12*((LOG(V12))/LOG(2))))","v":{"$error":"#DIV/0!"}},null,{"$f":"N12","v":212},{"$f":"COUNTIF(L14:L19,Y12)","v":0},{"$f":"Z12/(AB4-Z14)","v":{"$error":"#DIV/0!"}},{"$f":"IF(AA12=0,0,(AA12*((LOG(AA12))/LOG(2))))","v":{"$error":"#DIV/0!"}},null,{"$f":"N12","v":212},{"$f":"COUNTIF(L20:L26,AD12)","v":0},{"$f":"AE12/(AG4-AE14)","v":{"$error":"#DIV/0!"}},{"$f":"IF(AF12=0,0,(AF12*((LOG(AF12))/LOG(2))))","v":{"$error":"#DIV/0!"}},null,{"$f":"N12","v":212},{"$f":"COUNTIF(L27:L33,AI12)","v":0},{"$f":"AJ12/(AL4-AJ14)","v":{"$error":"#DIV/0!"}},{"$f":"IF(AK12=0,0,(AK12*((LOG(AK12))/LOG(2))))","v":{"$error":"#DIV/0!"}},null,{"$f":"N12","v":212},{"$f":"COUNTIF(L34:L39,AN12)","v":0},{"$f":"AO12/(AQ4-AO14)","v":{"$error":"#DIV/0!"}},{"$f":"IF(AP12=0,0,(AP12*((LOG(AP12))/LOG(2))))","v":{"$error":"#DIV/0!"}},null,{"$f":"N12","v":212},{"$f":"COUNTIF(L40:L46,AS12)","v":0},{"$f":"AT12/(AV4-AT14)","v":{"$error":"#DIV/0!"}},{"$f":"IF(AU12=0,0,(AU12*((LOG(AU12))/LOG(2))))","v":{"$error":"#DIV/0!"}}]
[21,890,21,902,21,914,null,null,null,null,0,222,null,221,{"$f":"COUNTIF($L$7:$L$500,N13)","v":0},{"$f":"O13/$Q$4","v":0},{"$f":"IF(P13=0,0,(P13*((LOG(P13))/LOG(2))))","v":0},null,null,{"$f":"N13","v":221},{"$f":"COUNTIF(L7:L13,T13)","v":0},{"$f":"U13/(W4-U14)","v":{"$error":"#DIV/0!"}},{"$f":"IF(V13=0,0,(V13*((LOG(V13))/LOG(2))))","v":{"$error":"#DIV/0!"}},null,{"$f":"N13","v":221},{"$f":"COUNTIF(L14:L19,Y13)","v":0},{"$f":"Z13/(AB4-Z14)","v":{"$error":"#DIV/0!"}},{"$f":"IF(AA13=0,0,(AA13*((LOG(AA13))/LOG(2))))","v":{"$error":"#DIV/0!"}},null,{"$f":"N13","v":221},{"$f":"COUNTIF(L20:L26,AD13)","v":0},{"$f":"AE13/(AG4-AE14)","v":{"$error":"#DIV/0!"}},{"$f":"IF(AF13=0,0,(AF13*((LOG(AF13))/LOG(2))))","v":{"$error":"#DIV/0!"}},null,{"$f":"N13","v":221},{"$f":"COUNTIF(L27:L33,AI13)","v":0},{"$f":"AJ13/(AL4-AJ14)","v":{"$error":"#DIV/0!"}},{"$f":"IF(AK13=0,0,(AK13*((LOG(AK13))/LOG(2))))","v":{"$error":"#DIV/0!"}},null,{"$f":"N13","v":221},{"$f":"COUNTIF(L34:L39,AN13)","v":0},{"$f":"AO13/(AQ4-AO14)","v":{"$error":"#DIV/0!"}},{"$f":"IF(AP13=0,0,(AP13*((LOG(AP13))/LOG(2))))","v":{"$error":"#DIV/0!"}},null,{"$f":"N13","v":221},{"$f":"COUNTIF(L40:L46,AS13)","v":0},{"$f":"AT13/(AV4-AT14)","v":{"$error":"#DIV/0!"}},{"$f":"IF(AU13=0,0,(AU13*((LOG(AU13))/LOG(2))))","v":{"$error":"#DIV/0!"}}]
[21,1011,21,1016,21,1023,null,null,null,null,0,222,null,222,{"$f":"COUNTIF($L$7:$L$500,N14)","v":40},{"$f":"O14/$Q$4","v":1},{"$f":"IF(P14=0,0,(P14*((LOG(P14))/LOG(2))))","v":0},null,null,{"$f":"N14","v":222},{"$f":"COUNTIF(L7:L13,T14)","v":7},null,null,null,{"$f":"N14","v":222},{"$f":"COUNTIF(L14:L19,Y14)","v":6},null,null,null,{"$f":"N14","v":222},{"$f":"COUNTIF(L20:L26,AD14)","v":7},null,null,null,{"$f":"N14","v":222},{"$f":"COUNTIF(L27:L33,AI14)","v":7},null,null,null,{"$f":"N14","v":222},{"$f":"COUNTIF(L34:L39,AN14)","v":6},null,null,null,{"$f":"N14","v":222},{"$f":"COUNTIF(L40:L46,AS14)","v":7}]
[21,1162,21,1215,21,1227,null,null,null,null,0,222,null,null,null,{"$f":"SUM(P7:P14)","v":1},{"$f":"-SUM(Q7:Q14)","v":0},null,null,null,null,{"$f":"SUM(V7:V14)","v":{"$error":"#DIV/0!"}},{"$f":"-SUM(W7:W14)","v":{"$error":"#DIV/0!"}},null,null,null,{"$f":"SUM(AA7:AA14)","v":{"$error":"#DIV/0!"}},{"$f":"-SUM(AB7:AB14)","v":{"$error":"#DIV/0!"}},null,null,null,{"$f":"SUM(AF7:AF14)","v":{"$error":"#DIV/0!"}},{"$f":"-SUM(AG7:AG14)","v":{"$error":"#DIV/0!"}},null,null,null,{"$f":"SUM(AK7:AK14)","v":{"$error":"#DIV/0!"}},{"$f":"-SUM(AL7:AL14)","v":{"$error":"#DIV/0!"}},null,null,null,{"$f":"SUM(AP7:AP14)","v":{"$error":"#DIV/0!"}},{"$f":"-SUM(AQ7:AQ14)","v":{"$error":"#DIV/0!"}},null,null,null,{"$f":"SUM(AU7:AU14)","v":{"$error":"#DIV/0!"}},{"$f":"-SUM(AV7:AV14)","v":{"$error":"#DIV/0!"}}]
[21,1322,21,1329,21,1340,null,null,null,null,0,222,null,null,null,"U=",{"$f":"Q15/(LOG(Q4)/LOG(2))","v":0},null,null,null,null,"U1=",{"$f":"W15/(LOG(W4)/LOG(2))","v":{"$error":"#DIV/0!"}},null,null,null,"U2=",{"$f":"AB15/(LOG(AB4)/LOG(2))","v":{"$error":"#DIV/0!"}},null,null,null,"U3=",{"$f":"AG15/(LOG(AG4)/LOG(2))","v":{"$error":"#DIV/0!"}},null,null,null,"U4=",{"$f":"AL15/(LOG(AL4)/LOG(2))","v":{"$error":"#DIV/0!"}},null,null,null,"U5=",{"$f":"AQ15/(LOG(AQ4)/LOG(2))","v":{"$error":"#DIV/0!"}},null,null,null,"U6=",{"$f":"AV15/(LOG(AV4)/LOG(2))","v":{"$error":"#DIV/0!"}}]
[21,1450,21,1462,21,1472,null,null,null,null,0,222]
[21,1578,21,1583,21,1619,null,null,null,null,0,222]
[21,1825,21,1835,21,1852,null,null,null,null,0,222,null,"Total Target Seq"]
[21,2065,21,2091,21,2101,null,null,null,null,0,222,null,{"$f":"COUNTIF(L7:L46,G3)","v":40},null,7,6,7,7,6,7]
[21,2229,21,2236,21,2246,null,null,null,null,0,222,null,null,null,"% of reinforcement given in 6 equal intervals based on number of trials "]
[21,2445,21,2450,21,2457,null,null,null,null,0,222,null,null,null,"%_1","%_2","%_3","%_4","%_5","%_6"]
[21,2553,21,2560,21,2586,null,null,null,null,0,222,null,null,"target sequence",{"$f":"$G$3","v":222},{"$f":"$G$3","v":222},{"$f":"$G$3","v":222},{"$f":"$G$3","v":222},{"$f":"$G$3","v":222},{"$f":"$G$3","v":222}]
[21,2694,21,2701,21,2717,null,null,null,null,0,222,null,null,"total reinforcement",{"$f":"U14","v":7},{"$f":"Z14","v":6},{"$f":"AE14","v":7},{"$f":"AJ14","v":7},{"$f":"AO14","v":6},{"$f":"AT14","v":7}]
[21,2828,21,2834,21,2843,null,null,null,null,0,222,null,null,"% target"]
[21,2937,21,2943,21,2953,null,null,null,null,0,222,null,null,"CCRF"]
[21,3073,21,3078,21,3084,null,null,null,null,0,222,null,null,"% CCRf"]
[21,3227,21,3233,21,3260,null,null,null,null,0,222,null,null,"average response rate",{"$f":"F13/P20","v":130.57142857142858},{"$f":"(F19-F13)/Q20","v":156.33333333333334},{"$f":"(F26-F19)/R20","v":157.28571428571428},{"$f":"(F33-F26)/S20","v":151.85714285714286},{"$f":"(F39-F33)/T20","v":138.66666666666666},{"$f":"(F46-F39)/U20","v":186.42857142857142}]
[21,3354,21,3358,21,3385,null,null,null,null,0,222]
[21,3531,21,3537,21,3546,null,null,null,null,0,222]
[21,3723,21,3729,21,3743,null,null,null,null,0,222]
[21,3843,21,3849,21,3875,null,null,null,null,0,222]
[21,4007,21,4012,21,4016,null,null,null,null,0,222]
[21,4116,21,4121,21,4138,null,null,null,null,0,222]
[21,4269,21,4280,21,4291,null,null,null,null,0,222]
[21,4418,21,4422,21,4427,null,null,null,null,0,222]
[21,4537,21,4549,21,4569,null,null,null,null,0,222]
[21,4694,21,4699,21,4704,null,null,null,null,0,222]
[21,4829,21,4834,21,4848,null,null,null,null,0,222]
[21,4945,21,4961,21,4985,null,null,null,null,0,222]
[21,5120,21,5143,21,5151,null,null,null,null,0,222]
[21,5375,21,5386,21,5425,null,null,null,null,0,222]
[21,5575,21,5592,21,5628,null,null,null,null,0,222]
[21,5767,21,5772,21,5806,null,null,null,null,0,222]
[21,5997,21,6002,21,6024,null,null,null,null,0,222]
[21,6140,21,6146,21,6153,null,null,null,null,1,222]

{"sheet":"!M412A4I.sha","index":32,"n_rows":46,"n_cols":48,"rows_kept":46,"cut":false,"hidden":false,"merged":[[4,39,4,42],[5,39,5,40],[4,44,4,47],[5,44,5,45],[4,24,4,27],[5,24,5,25],[4,29,4,32],[5,29,5,30],[4,34,4,37],[5,34,5,35],[1,1,1,2],[5,13,5,14],[18,13,18,14],[19,13,19,14],[4,19,4,22],[5,19,5,20]]}
["Report for:!M412A4I.sha"]
["Date:","<date>"]
["Hen:","<hen>",null,null,null,"Correct Sequence",{"$f":"Start!J2","v":222},null,null,null,null,null,null,null,null,"Total Sequences in Data",{"$f":"4994-COUNTBLANK(L7:L5000)","v":40},null,null,null,null,"Total Sequences in Block Data",{"$f":"COUNTA(L7:L13)","v":7},null,null,null,"Total Sequences in Block Data",{"$f":"COUNTA(L14:L19)","v":6},null,null,null,"Total Sequences in Block Data",{"$f":"COUNTA(L20:L26)","v":7},null,null,null,"Total Sequences in Block Data",{"$f":"COUNTA(L27:L33)","v":7},null,null,null,"Total Sequences in Block Data",{"$f":"COUNTA(L34:L39)","v":6},null,null,null,"Total Sequences in Block Data",{"$f":"COUNTA(L40:L46)","v":7}]
[null,null,null,null,null,null,null,null,null,null,null,null,null,null,null,"Total Sequences in Summary",{"$f":"SUM(O7:O14)","v":40},null,null,null,null,"Total Sequences in Block Summary",{"$f":"SUM(U7:U14)","v":7},null,null,null,"Total Sequences in Block Summary",{"$f":"SUM(Z7:Z14)","v":6},null,null,null,"Total Sequences in Block Summary",{"$f":"SUM(AE7:AE14)","v":7},null,null,null,"Total Sequences in Block Summary",{"$f":"SUM(AJ7:AJ14)","v":7},null,null,null,"Total Sequences in Block Summary",{"$f":"SUM(AO7:AO14)","v":6},null,null,null,"Total Sequences in Block Summary",{"$f":"SUM(AT7:AT14)","v":7}]
[null,null,null,null,null,null,null,null,null,null,null,null,null,null,null,null,null,null,null,"Block 1",null,null,null,null,"Block 2",null,null,null,null,"Block 3",null,null,null,null,"Block 4",null,null,null,null,"Block 5",null,null,null,null,"Block 6"]
["Sequence\nComponent\n1","Time\n1","Sequence\nComponent\n2","Time\n2","Sequence\nComponent\n3","Time\n3","Sequence\nComponent\n4","Time\n4","Sequence\nComponent\n5","Time\n5","Correct?\n0=No 1=Yes","Sequence",null,"Frequency",null,"Relative Frequency","Variability",null,null,"Frequency",null,"Relative Frequency","Variability",null,"Frequency",null,"Relative Frequency","Variability",null,"Frequency",null,"Relative Frequency","Variability",null,"Frequency",null,"Relative Frequency","Variability",null,"Frequency",null,"Relative Frequency","Variability",null,"Frequency",null,"Relative Frequency","Variability"]
[21,1,21,4,21,9,null,null,null,null,0,222,null,111,{"$f":"COUNTIF($L$7:$L$500,N7)","v":0},{"$f":"O7/$Q$4","v":0},{"$f":"IF(P7=0,0,(P7*((LOG(P7))/LOG(2))))","v":0},null,null,{"$f":"N7","v":111},{"$f":"COUNTIF(L7:L13,T7)","v":0},{"$f":"U7/(W4-U14)","v":{"$error":"#DIV/0!"}},{"$f":"IF(V7=0,0,(V7*((LOG(V7))/LOG(2))))","v":{"$error":"#DIV/0!"}},null,{"$f":"N7","v":111},{"$f":"COUNTIF(L14:L19,Y7)","v":0},{"$f":"Z7/(AB4-Z14)","v":{"$error":"#DIV/0!"}},{"$f":"IF(AA7=0,0,(AA7*((LOG(AA7))/LOG(2))))","v":{"$error":"#DIV/0!"}},null,{"$f":"N7","v":111},{"$f":"COUNTIF(L20:L26,AD7)","v":0},{"$f":"AE7/(AG4-AE14)","v":{"$error":"#DIV/0!"}},{"$f":"IF(AF7=0,0,(AF7*((LOG(AF7))/LOG(2))))","v":{"$error":"#DIV/0!"}},null,{"$f":"N7","v":111},{"$f":"COUNTIF(L27:L33,AI7)","v":0},{"$f":"AJ7/(AL4-AJ14)","v":{"$error":"#DIV/0!"}},{"$f":"IF(AK7=0,0,(AK7*((LOG(AK7))/LOG(2))))","v":{"$error":"#DIV/0!"}},null,{"$f":"N7","v":111},{"$f":"COUNTIF(L34:L39,AN7)","v":0},{"$f":"AO7/(AQ4-AO14)","v":{"$error":"#DIV/0!"}},{"$f":"IF(AP7=0,0,(AP7*((LOG(AP7))/LOG(2))))","v":{"$error":"#DIV/0!"}},null,{"$f":"N7","v":111},{"$f":"COUNTIF(L40:L46,AS7)","v":0},{"$f":"AT7/(AV4-AT14)","v":{"$error":"#DIV/0!"}},{"$f":"IF(AU7=0,0,(AU7*((LOG(AU7))/LOG(2))))","v":{"$error":"#DIV/0!"}}]
[21,109,21,119,21,127,null,null,null,null,0,222,null,112,{"$f":"COUNTIF($L$7:$L$500,N8)","v":0},{"$f":"O8/$Q$4","v":0},{"$f":"IF(P8=0,0,(P8*((LOG(P8))/LOG(2))))","v":0},null,null,{"$f":"N8","v":112},{"$f":"COUNTIF(L7:L13,T8)","v":0},{"$f":"U8/(W4-U14)","v":{"$error":"#DIV/0!"}},{"$f":"IF(V8=0,0,(V8*((LOG(V8))/LOG(2))))","v":{"$error":"#DIV/0!"}},null,{"$f":"N8","v":112},{"$f":"COUNTIF(L14:L19,Y8)","v":0},{"$f":"Z8/(AB4-Z14)","v":{"$error":"#DIV/0!"}},{"$f":"IF(AA8=0,0,(AA8*((LOG(AA8))/LOG(2))))","v":{"$error":"#DIV/0!"}},null,{"$f":"N8","v":112},{"$f":"COUNTIF(L20:L26,AD8)","v":0},{"$f":"AE8/(AG4-AE14)","v":{"$error":"#DIV/0!"}},{"$f":"IF(AF8=0,0,(AF8*((LOG(AF8))/LOG(2))))","v":{"$error":"#DIV/0!"}},null,{"$f":"N8","v":112},{"$f":"COUNTIF(L27:L33,AI8)","v":0},{"$f":"AJ8/(AL4-AJ14)","v":{"$error":"#DIV/0!"}},{"$f":"IF(AK8=0,0,(AK8*((LOG(AK8))/LOG(2))))","v":{"$error":"#DIV/0!"}},null,{"$f":"N8","v":112},{"$f":"COUNTIF(L34:L39,AN8)","v":0},{"$f":"AO8/(AQ4-AO14)","v":{"$error":"#DIV/0!"}},{"$f":"IF(AP8=0,0,(AP8*((LOG(AP8))/LOG(2))))","v":{"$error":"#DIV/0!"}},null,{"$f":"N8","v":112},{"$f":"COUNTIF(L40:L46,AS8)","v":0},{"$f":"AT8/(AV4-AT14)","v":{"$error":"#DIV/0!"}},{"$f":"IF(AU8=0,0,(AU8*((LOG(AU8))/LOG(2))))","v":{"$error":"#DIV/0!"}}]
[21,221,21,223,21,228,null,null,null,null,0,222,null,121,{"$f":"COUNTIF($L$7:$L$500,N9)","v":0},{"$f":"O9/$Q$4","v":0},{"$f":"IF(P9=0,0,(P9*((LOG(P9))/LOG(2))))","v":0},null,null,{"$f":"N9","v":121},{"$f":"COUNTIF(L7:L13,T9)","v":0},{"$f":"U9/(W4-U14)","v":{"$error":"#DIV/0!"}},{"$f":"IF(V9=0,0,(V9*((LOG(V9))/LOG(2))))","v":{"$error":"#DIV/0!"}},null,{"$f":"N9","v":121},{"$f":"COUNTIF(L14:L19,Y9)","v":0},{"$f":"Z9/(AB4-Z14)","v":{"$error":"#DIV/0!"}},{"$f":"IF(AA9=0,0,(AA9*((LOG(AA9))/LOG(2))))","v":{"$error":"#DIV/0!"}},null,{"$f":"N9","v":121},{"$f":"COUNTIF(L20:L26,AD9)","v":0},{"$f":"AE9/(AG4-AE14)","v":{"$error":"#DIV/0!"}},{"$f":"IF(AF9=0,0,(AF9*((LOG(AF9))/LOG(2))))","v":{"$error":"#DIV/0!"}},null,{"$f":"N9","v":121},{"$f":"COUNTIF(L27:L33,AI9)","v":0},{"$f":"AJ9/(AL4-AJ14)","v":{"$error":"#DIV/0!"}},{"$f":"IF(AK9=0,0,(AK9*((LOG(AK9))/LOG(2))))","v":{"$error":"#DIV/0!"}},null,{"$f":"N9","v":121},{"$f":"COUNTIF(L34:L39,AN9)","v":0},{"$f":"AO9/(AQ4-AO14)","v":{"$error":"#DIV/0!"}},{"$f":"IF(AP9=0,0,(AP9*((LOG(AP9))/LOG(2))))","v":{"$error":"#DIV/0!"}},null,{"$f":"N9","v":121},{"$f":"COUNTIF(L40:L46,AS9)","v":0},{"$f":"AT9/(AV4-AT14)","v":{"$error":"#DIV/0!"}},{"$f":"IF(AU9=0,0,(AU9*((LOG(AU9))/LOG(2))))","v":{"$error":"#DIV/0!"}}]
[21,326,21,336,21,356,null,null,null,null,0,222,null,122,{"$f":"COUNTIF($L$7:$L$500,N10)","v":0},{"$f":"O10/$Q$4","v":0},{"$f":"IF(P10=0,0,(P10*((LOG(P10))/LOG(2))))","v":0},null,null,{"$f":"N10","v":122},{"$f":"COUNTIF(L7:L13,T10)","v":0},{"$f":"U10/(W4-U14)","v":{"$error":"#DIV/0!"}},{"$f":"IF(V10=0,0,(V10*((LOG(V10))/LOG(2))))","v":{"$error":"#DIV/0!"}},null,{"$f":"N10","v":122},{"$f":"COUNTIF(L14:L19,Y10)","v":0},{"$f":"Z10/(AB4-Z14)","v":{"$error":"#DIV/0!"}},{"$f":"IF(AA10=0,0,(AA10*((LOG(AA10))/LOG(2))))","v":{"$error":"#DIV/0!"}},null,{"$f":"N10","v":122},{"$f":"COUNTIF(L20:L26,AD10)","v":0},{"$f":"AE10/(AG4-AE14)","v":{"$error":"#DIV/0!"}},{"$f":"IF(AF10=0,0,(AF10*((LOG(AF10))/LOG(2))))","v":{"$error":"#DIV/0!"}},null,{"$f":"N10","v":122},{"$f":"COUNTIF(L27:L33,AI10)","v":0},{"$f":"AJ10/(AL4-AJ14)","v":{"$error":"#DIV/0!"}},{"$f":"IF(AK10=0,0,(AK10*((LOG(AK10))/LOG(2))))","v":{"$error":"#DIV/0!"}},null,{"$f":"N10","v":122},{"$f":"COUNTIF(L34:L39,AN10)","v":0},{"$f":"AO10/(AQ4-AO14)","v":{"$error":"#DIV/0!"}},{"$f":"IF(AP10=0,0,(AP10*((LOG(AP10))/LOG(2))))","v":{"$error":"#DIV/0!"}},null,{"$f":"N10","v":122},{"$f":"COUNTIF(L40:L46,AS10)","v":0},{"$f":"AT10/(AV4-AT14)","v":{"$error":"#DIV/0!"}},{"$f":"IF(AU10=0,0,(AU10*((LOG(AU10))/LOG(2))))","v":{"$error":"#DIV/0!"}}]
[21,468,21,477,21,493,null,null,null,null,0,222,null,211,{"$f":"COUNTIF($L$7:$L$500,N11)","v":0},{"$f":"O11/$Q$4","v":0},{"$f":"IF(P11=0,0,(P11*((LOG(P11))/LOG(2))))","v":0},null,null,{"$f":"N11","v":211},{"$f":"COUNTIF(L7:L13,T11)","v":0},{"$f":"U11/(W4-U14)","v":{"$error":"#DIV/0!"}},{"$f":"IF(V11=0,0,(V11*((LOG(V11))/LOG(2))))","v":{"$error":"#DIV/0!"}},null,{"$f":"N11","v":211},{"$f":"COUNTIF(L14:L19,Y11)","v":0},{"$f":"Z11/(AB4-Z14)","v":{"$error":"#DIV/0!"}},{"$f":"IF(AA11=0,0,(AA11*((LOG(AA11))/LOG(2))))","v":{"$error":"#DIV/0!"}},null,{"$f":"N11","v":211},{"$f":"COUNTIF(L20:L26,AD11)","v":0},{"$f":"AE11/(AG4-AE14)","v":{"$error":"#DIV/0!"}},{"$f":"IF(AF11=0,0,(AF11*((LOG(AF11))/LOG(2))))","v":{"$error":"#DIV/0!"}},null,{"$f":"N11","v":211},{"$f":"COUNTIF(L27:L33,AI11)","v":0},{"$f":"AJ11/(AL4-AJ14)","v":{"$error":"#DIV/0!"}},{"$f":"IF(AK11=0,0,(AK11*((LOG(AK11))/LOG(2))))","v":{"$error":"#DIV/0!"}},null,{"$f":"N11","v":211},{"$f":"COUNTIF(L34:L39,AN11)","v":0},{"$f":"AO11/(AQ4-AO14)","v":{"$error":"#DIV/0!"}},{"$f":"IF(AP11=0,0,(AP11*((LOG(AP11))/LOG(2))))","v":{"$error":"#DIV/0!"}},null,{"$f":"N11","v":211},{"$f":"COUNTIF(L40:L46,AS11)","v":0},{"$f":"AT11/(AV4-AT14)","v":{"$error":"#DIV/0!"}},{"$f":"IF(AU11=0,0,(AU11*((LOG(AU11))/LOG(2))))","v":{"$error":"#DIV/0!"}}]
[21,587,21,598,21,608,null,null,null,null,0,222,null,212,{"$f":"COUNTIF($L$7:$L$500,N12)","v":0},{"$f":"O12/$Q$4","v":0},{"$f":"IF(P12=0,0,(P12*((LOG(P12))/LOG(2))))","v":0},null,null,{"$f":"N12","v":212},{"$f":"COUNTIF(L7:L13,T12)","v":0},{"$f":"U12/(W4-U14)","v":{"$error":"#DIV/0!"}},{"$f":"IF(V12=0,0,(V12*((LOG(V12))/LOG(2))))","v":{"$error":"#DIV/0!"}},null,{"$f":"N12","v":212},{"$f":"COUNTIF(L14:L19,Y12)","v":0},{"$f":"Z12/(AB4-Z14)","v":{"$error":"#DIV/0!"}},{"$f":"IF(AA12=0,0,(AA12*((LOG(AA12))/LOG(2))))","v":{"$error":"#DIV/0!"}},null,{"$f":"N12","v":212},{"$f":"COUNTIF(L20:L26,AD12)","v":0},{"$f":"AE12/(AG4-AE14)","v":{"$error":"#DIV/0!"}},{"$f":"IF(AF12=0,0,(AF12*((LOG(AF12))/LOG(2))))","v":{"$error":"#DIV/0!"}},null,{"$f":"N12","v":212},{"$f":"COUNTIF(L27:L33,AI12)","v":0},{"$f":"AJ12/(AL4-AJ14)","v":{"$error":"#DIV/0!"}},{"$f":"IF(AK12=0,0,(AK12*((LOG(AK12))/LOG(2))))","v":{"$error":"#DIV/0!"}},null,{"$f":"N12","v":212},{"$f":"COUNTIF(L34:L39,AN12)","v":0},{"$f":"AO12/(AQ4-AO14)","v":{"$error":"#DIV/0!"}},{"$f":"IF(AP12=0,0,(AP12*((LOG(AP12))/LOG(2))))","v":{"$error":"#DIV/0!"}},null,{"$f":"N12","v":212},{"$f":"COUNTIF(L40:L46,AS12)","v":0},{"$f":"AT12/(AV4-AT14)","v":{"$error":"#DIV/0!"}},{"$f":"IF(AU12=0,0,(AU12*((LOG(AU12))/LOG(2))))","v":{"$error":"#DIV/0!"}}]
[21,702,21,707,21,718,null,null,null,null,0,222,null,221,{"$f":"COUNTIF($L$7:$L$500,N13)","v":0},{"$f":"O13/$Q$4","v":0},{"$f":"IF(P13=0,0,(P13*((LOG(P13))/LOG(2))))","v":0},null,null,{"$f":"N13","v":221},{"$f":"COUNTIF(L7:L13,T13)","v":0},{"$f":"U13/(W4-U14)","v":{"$error":"#DIV/0!"}},{"$f":"IF(V13=0,0,(V13*((LOG(V13))/LOG(2))))","v":{"$error":"#DIV/0!"}},null,{"$f":"N13","v":221},{"$f":"COUNTIF(L14:L19,Y13)","v":0},{"$f":"Z13/(AB4-Z14)","v":{"$error":"#DIV/0!"}},{"$f":"IF(AA13=0,0,(AA13*((LOG(AA13))/LOG(2))))","v":{"$error":"#DIV/0!"}},null,{"$f":"N13","v":221},{"$f":"COUNTIF(L20:L26,AD13)","v":0},{"$f":"AE13/(AG4-AE14)","v":{"$error":"#DIV/0!"}},{"$f":"IF(AF13=0,0,(AF13*((LOG(AF13))/LOG(2))))","v":{"$error":"#DIV/0!"}},null,{"$f":"N13","v":221},{"$f":"COUNTIF(L27:L33,AI13)","v":0},{"$f":"AJ13/(AL4-AJ14)","v":{"$error":"#DIV/0!"}},{"$f":"IF(AK13=0,0,(AK13*((LOG(AK13))/LOG(2))))","v":{"$error":"#DIV/0!"}},null,{"$f":"N13","v":221},{"$f":"COUNTIF(L34:L39,AN13)","v":0},{"$f":"AO13/(AQ4-AO14)","v":{"$error":"#DIV/0!"}},{"$f":"IF(AP13=0,0,(AP13*((LOG(AP13))/LOG(2))))","v":{"$error":"#DIV/0!"}},null,{"$f":"N13","v":221},{"$f":"COUNTIF(L40:L46,AS13)","v":0},{"$f":"AT13/(AV4-AT14)","v":{"$error":"#DIV/0!"}},{"$f":"IF(AU13=0,0,(AU13*((LOG(AU13))/LOG(2))))","v":{"$error":"#DIV/0!"}}]
[21,844,21,859,21,873,null,null,null,null,0,222,null,222,{"$f":"COUNTIF($L$7:$L$500,N14)","v":40},{"$f":"O14/$Q$4","v":1},{"$f":"IF(P14=0,0,(P14*((LOG(P14))/LOG(2))))","v":0},null,null,{"$f":"N14","v":222},{"$f":"COUNTIF(L7:L13,T14)","v":7},null,null,null,{"$f":"N14","v":222},{"$f":"COUNTIF(L14:L19,Y14)","v":6},null,null,null,{"$f":"N14","v":222},{"$f":"COUNTIF(L20:L26,AD14)","v":7},null,null,null,{"$f":"N14","v":222},{"$f":"COUNTIF(L27:L33,AI14)","v":7},null,null,null,{"$f":"N14","v":222},{"$f":"COUNTIF(L34:L39,AN14)","v":6},null,null,null,{"$f":"N14","v":222},{"$f":"COUNTIF(L40:L46,AS14)","v":7}]
[21,972,21,976,21,982,null,null,null,null,0,222,null,null,null,{"$f":"SUM(P7:P14)","v":1},{"$f":"-SUM(Q7:Q14)","v":0},null,null,null,null,{"$f":"SUM(V7:V14)","v":{"$error":"#DIV/0!"}},{"$f":"-SUM(W7:W14)","v":{"$error":"#DIV/0!"}},null,null,null,{"$f":"SUM(AA7:AA14)","v":{"$error":"#DIV/0!"}},{"$f":"-SUM(AB7:AB14)","v":{"$error":"#DIV/0!"}},null,null,null,{"$f":"SUM(AF7:AF14)","v":{"$error":"#DIV/0!"}},{"$f":"-SUM(AG7:AG14)","v":{"$error":"#DIV/0!"}},null,null,null,{"$f":"SUM(AK7:AK14)","v":{"$error":"#DIV/0!"}},{"$f":"-SUM(AL7:AL14)","v":{"$error":"#DIV/0!"}},null,null,null,{"$f":"SUM(AP7:AP14)","v":{"$error":"#DIV/0!"}},{"$f":"-SUM(AQ7:AQ14)","v":{"$error":"#DIV/0!"}},null,null,null,{"$f":"SUM(AU7:AU14)","v":{"$error":"#DIV/0!"}},{"$f":"-SUM(AV7:AV14)","v":{"$error":"#DIV/0!"}}]
[21,1078,21,1085,21,1096,null,null,null,null,0,222,null,null,null,"U=",{"$f":"Q15/(LOG(Q4)/LOG(2))","v":0},null,null,null,null,"U1=",{"$f":"W15/(LOG(W4)/LOG(2))","v":{"$error":"#DIV/0!"}},null,null,null,"U2=",{"$f":"AB15/(LOG(AB4)/LOG(2))","v":{"$error":"#DIV/0!"}},null,null,null,"U3=",{"$f":"AG15/(LOG(AG4)/LOG(2))","v":{"$error":"#DIV/0!"}},null,null,null,"U4=",{"$f":"AL15/(LOG(AL4)/LOG(2))","v":{"$error":"#DIV/0!"}},null,null,null,"U5=",{"$f":"AQ15/(LOG(AQ4)/LOG(2))","v":{"$error":"#DIV/0!"}},null,null,null,"U6=",{"$f":"AV15/(LOG(AV4)/LOG(2))","v":{"$error":"#DIV/0!"}}]
[21,1190,21,1196,21,1204,null,null,null,null,0,222]
[21,1296,21,1300,21,1306,null,null,null,null,0,222]
[21,1414,21,1420,21,1438,null,null,null,null,0,222,null,"Total Target Seq"]
[21,1540,21,1546,21,1552,null,null,null,null,0,222,null,{"$f":"COUNTIF(L7:L46,G3)","v":40},null,7,6,7,7,6,7]
[21,1657,21,1664,21,1683,null,null,null,null,0,222,null,null,null,"% of reinforcement given in 6 equal intervals based on number of trials "]
[21,1793,21,1810,21,1819,null,null,null,null,0,222,null,null,null,"%_1","%_2","%_3","%_4","%_5","%_6"]
[21,1926,21,1933,21,1939,null,null,null,null,0,222,null,null,"target sequence",{"$f":"$G$3","v":222},{"$f":"$G$3","v":222},{"$f":"$G$3","v":222},{"$f":"$G$3","v":222},{"$f":"$G$3","v":222},{"$f":"$G$3","v":222}]
[21,2045,21,2052,21,2059,null,null,null,null,0,222,null,null,"total reinforcement",{"$f":"U14","v":7},{"$f":"Z14","v":6},{"$f":"AE14","v":7},{"$f":"AJ14","v":7},{"$f":"AO14","v":6},{"$f":"AT14","v":7}]
[21,2184,21,2194,21,2222,null,null,null,null,0,222,null,null,"% target"]
[21,2320,21,2326,21,2346,null,null,null,null,0,222,null,null,"CCRF"]
[21,2448,21,2461,21,2468,null,null,null,null,0,222,null,null,"% CCRf"]
[21,2596,21,2601,21,2629,null,null,null,null,0,222,null,null,"average response rate",{"$f":"F13/P20","v":102.57142857142857},{"$f":"(F19-F13)/Q20","v":120},{"$f":"(F26-F19)/R20","v":129.71428571428572},{"$f":"(F33-F26)/S20","v":131.42857142857142},{"$f":"(F39-F33)/T20","v":137.5},{"$f":"(F46-F39)/U20","v":131.28571428571428}]
[21,2732,21,2737,21,2744,null,null,null,null,0,222]
[21,2841,21,2849,21,2859,null,null,null,null,0,222]
[21,2994,21,3010,21,3019,null,null,null,null,0,222]
[21,3116,21,3122,21,3131,null,null,null,null,0,222]
[21,3248,21,3258,21,3266,null,null,null,null,0,222]
[21,3367,21,3372,21,3379,null,null,null,null,0,222]
[21,3476,21,3481,21,3509,null,null,null,null,0,222]
[21,3631,21,3657,21,3688,null,null,null,null,0,222]
[21,3781,21,3786,21,3793,null,null,null,null,0,222]
[21,3918,21,3944,21,3959,null,null,null,null,0,222]
[21,4057,21,4066,21,4091,null,null,null,null,0,222]
[21,4186,21,4192,21,4200,null,null,null,null,0,222]
[21,4348,21,4355,21,4361,null,null,null,null,0,222]
[21,4459,21,4465,21,4475,null,null,null,null,0,222]
[21,4568,21,4575,21,4590,null,null,null,null,0,222]
[21,4714,21,4721,21,4728,null,null,null,null,0,222]
[21,4825,21,4830,21,4843,null,null,null,null,0,222]
[21,4965,21,4994,21,5010,null,null,null,null,1,222]