{"text_format":"1","workbook":"xlsx","n_sheets":33,"sheets":["Sample Report","Summary","Start","!MC1682I.sha","!MC17A2I.sha","!MC1891I.sha","!MC19A5I.sha","!MC2092I.sha","!MC2194I.sha","!MC22A3I.sha","!MC2391I.sha","!MC2493I.sha","!MC2695I.sha","!MC2795I.sha","!MC28A1I.sha","!MC29A1I.sha","!MC3094I.sha","!MC31A0I.sha","!N10293I.sha","!N103A1I.sha","!N104B0I.sha","!N10583I.sha","!N10690I.sha","!N10795I.sha","!N10894I.sha","!N10995I.sha","!N110A1I.sha","!N111A2I.sha","!N11292I.sha","!N11394I.sha","!N11491I.sha","!N11595I.sha","!N11693I.sha"],"not_rendered":{"charts":0,"images":0,"macros":1,"external_links":0,"defined_names":0,"comments":0,"pivot_tables":0},"unopened":[],"bounds":{"document_bytes":16777216,"sheet_cells":100000,"rows_first":2000,"rows_last":500,"rows_between":2000,"halvings":0,"cell_chars":16384,"cell_head_chars":4096},"cells_cut":0,"cells_raw":0,"read":"whole","date_system":"1900"}

{"sheet":"Sample Report","index":0,"n_rows":12,"n_cols":11,"rows_kept":12,"cut":false,"hidden":true,"merged":[[7,0,7,6]]}
[]
["Date"]
["Hen"]
["Program"]
["Start at 999999"]
["Sequence component 1","Time 1","Seqeunce Component 2","Time 2","Seqeunce Component 3","Time 3","Correct   0 = No 1=Yes",null,null,"Seqeunce","Time"]
[12,7,12,42,13,18,"if 77 new line,                                  if 31 or 41 = yes new line on 77, ",null,null,"=string of Seqeunce compponent 1, 2 & 3","=time 3"]
["This continues until ther is a 1 on its own to indicate start of summary data"]
[null,null,null,null,null,null,null,null,null,"10-19 =1"]
["Summary Data ",null,null,null,null,null,null,null,null,"20-29 =2"]
["Correct","Incorrect","Rft","total","Av Correct","Av Incorrect","Percent correct","Time",null,"in this example the seqeunce would be 111"]
[40,33,40,73,23.95,15,54,806]

{"sheet":"Summary","index":1,"n_rows":32,"n_cols":24,"rows_kept":32,"cut":false,"hidden":false,"merged":[]}
[]
["Day","Date","Average Response Rate","Target %","RF for non correct sequence","U Value",null,null,null,null,"Block 1","Block 2","Block 3","Block 4","Block 5","Block 6"]
[1,{"$f":"'!MC1682I.sha'!B2:C2","v":"<date>"},{"$f":"('!MC1682I.sha'!F184/60)/'!MC1682I.sha'!Q3","v":2.2453183520599254},{"$f":"'!MC1682I.sha'!N20/'!MC1682I.sha'!Q3","v":2.247191011235955E-2},{"$f":"SUM('!MC1682I.sha'!L20:Q20)/'!MC1682I.sha'!Q3","v":0.9831460674157303},{"$f":"'!MC1682I.sha'!Q16","v":0.26249936337943874},null,null,null,"Average Response Rate",{"$f":"AVERAGE(C3:C7)","v":2.1285963626789162},{"$f":"AVERAGE(C8:C12)","v":2.1712067137959097},{"$f":"AVERAGE(C13:C17)","v":2.0967472109622767},{"$f":"AVERAGE(C18:C22)","v":2.088774692822331},{"$f":"AVERAGE(C23:C27)","v":2.0767390410810602},{"$f":"AVERAGE(C28:C32)","v":2.0137605257460884}]
[2,{"$f":"'!MC17A2I.sha'!B2:C2","v":"<date>"},{"$f":"('!MC17A2I.sha'!F193/60)/'!MC17A2I.sha'!Q3","v":2.1378787878787882},{"$f":"'!MC17A2I.sha'!N20/'!MC17A2I.sha'!Q3","v":3.2085561497326207E-2},{"$f":"SUM('!MC17A2I.sha'!L20:Q20)/'!MC17A2I.sha'!Q3","v":0.96256684491978606},{"$f":"'!MC17A2I.sha'!Q16","v":0.26183550387556015},null,null,null,"Target %",{"$f":"AVERAGE(D3:D7)","v":8.3148346450804975E-2},{"$f":"AVERAGE(D8:D12)","v":0.20389663709931488},{"$f":"AVERAGE(D13:D17)","v":0.34493292850566665},{"$f":"AVERAGE(D18:D22)","v":0.41546023597408582},{"$f":"AVERAGE(D23:D27)","v":0.43903284745545978},{"$f":"AVERAGE(D28:D32)","v":0.53237479333970561}]
[3,{"$f":"'!MC1891I.sha'!B2:C2","v":"<date>"},{"$f":"('!MC1891I.sha'!F194/60)/'!MC1891I.sha'!Q3","v":2.1067019400352733},{"$f":"'!MC1891I.sha'!N20/'!MC1891I.sha'!Q3","v":5.8201058201058198E-2},{"$f":"SUM('!MC1891I.sha'!L20:Q20)/'!MC1891I.sha'!Q3","v":1.037037037037037},{"$f":"'!MC1891I.sha'!Q16","v":0.24261787518757},null,null,null,"CCRF",{"$f":"AVERAGE(E3:E7)","v":1.0237260369949295},{"$f":"AVERAGE(E8:E12)","v":1.3105858538641317},{"$f":"AVERAGE(E13:E17)","v":2.0260660615431867},{"$f":"AVERAGE(E18:E22)","v":2.7289114414586111},{"$f":"AVERAGE(E23:E27)","v":2.3857415984909145},{"$f":"AVERAGE(E28:E32)","v":3.1557833522745802}]
[4,{"$f":"'!MC19A5I.sha'!B2:C2","v":"<date>"},{"$f":"('!MC19A5I.sha'!F198/60)/'!MC19A5I.sha'!Q3","v":2.0778645833333331},{"$f":"'!MC19A5I.sha'!N20/'!MC19A5I.sha'!Q3","v":0.13020833333333334},{"$f":"SUM('!MC19A5I.sha'!L20:Q20)/'!MC19A5I.sha'!Q3","v":1.046875},{"$f":"'!MC19A5I.sha'!Q16","v":0.22619143776957193},null,null,null,"U Value",{"$f":"AVERAGE(F3:F7)","v":0.24829920020867785},{"$f":"AVERAGE(F8:F12)","v":0.26992243665326227},{"$f":"AVERAGE(F13:F17)","v":0.26909118578984281},{"$f":"AVERAGE(F18:F22)","v":0.26309774324132168},{"$f":"AVERAGE(F23:F27)","v":0.21561746591358438},{"$f":"AVERAGE(F28:F32)","v":0.22109899585097414}]
[5,{"$f":"'!MC2092I.sha'!B2:C2","v":"<date>"},{"$f":"('!MC2092I.sha'!F197/60)/'!MC2092I.sha'!Q3","v":2.07521815008726},{"$f":"'!MC2092I.sha'!N20/'!MC2092I.sha'!Q3","v":0.17277486910994763},{"$f":"SUM('!MC2092I.sha'!L20:Q20)/'!MC2092I.sha'!Q3","v":1.0890052356020943},{"$f":"'!MC2092I.sha'!Q16","v":0.24835182083124849}]
[6,{"$f":"'!MC2194I.sha'!B2:C2","v":"<date>"},{"$f":"('!MC2194I.sha'!F179/60)/'!MC2194I.sha'!Q3","v":2.073121387283237},{"$f":"'!MC2194I.sha'!N20/'!MC2194I.sha'!Q3","v":0.23121387283236994},{"$f":"SUM('!MC2194I.sha'!L20:Q20)/'!MC2194I.sha'!Q3","v":1.7861271676300579},{"$f":"'!MC2194I.sha'!Q16","v":0.2855974325413872}]
[7,{"$f":"'!MC22A3I.sha'!B2:C2","v":"<date>"},{"$f":"('!MC22A3I.sha'!F157/60)/'!MC22A3I.sha'!Q3","v":2.127373068432671},{"$f":"'!MC22A3I.sha'!N20/'!MC22A3I.sha'!Q3","v":0.26490066225165565},{"$f":"SUM('!MC22A3I.sha'!L20:Q20)/'!MC22A3I.sha'!Q3","v":1.3311258278145695},{"$f":"'!MC22A3I.sha'!Q16","v":0.24403325871571177},{"$f":"K3","v":2.1285963626789162},{"$f":"L3","v":2.1712067137959097},2.0967472109622767,2.088774692822331,2.0767390410810602,2.0137605257460884,{"$f":"K4","v":8.3148346450804975E-2},{"$f":"L4","v":0.20389663709931488},0.34493292850566665,0.41546023597408582,0.43903284745545978,0.53237479333970561,{"$f":"K6","v":0.24829920020867785},{"$f":"L6","v":0.26992243665326227},0.26909118578984281,0.26309774324132168,0.21561746591358438,0.22109899585097414]
[8,{"$f":"'!MC2391I.sha'!B2:C2","v":"<date>"},{"$f":"('!MC2391I.sha'!F175/60)/'!MC2391I.sha'!Q3","v":2.3607495069033528},{"$f":"'!MC2391I.sha'!N20/'!MC2391I.sha'!Q3","v":0.22485207100591717},{"$f":"SUM('!MC2391I.sha'!L20:Q20)/'!MC2391I.sha'!Q3","v":1.2130177514792899},{"$f":"'!MC2391I.sha'!Q16","v":0.27363022751607763},{"$f":"STDEV($C3:$C7)","v":7.0022316051025962E-2},{"$f":"STDEV($C8:$C12)","v":0.1198904235855992},{"$f":"STDEV($C13:$C17)","v":4.7822401130985778E-2},{"$f":"STDEV($C18:$C22)","v":1.4973880602253121E-2},{"$f":"STDEV($C23:$C27)","v":2.0114346787226192E-2},{"$f":"STDEV($C28:$C32)","v":3.359794863139226E-2},{"$f":"STDEV($D3:$D7)","v":6.5496108766681993E-2},{"$f":"STDEV($D8:$D12)","v":5.7445121359876256E-2},{"$f":"STDEV($D13:$D17)","v":0.15142680787794202},{"$f":"STDEV($D18:$D22)","v":5.2114446083858942E-2},{"$f":"STDEV($D23:$D27)","v":5.8735056451390426E-2},{"$f":"STDEV($D28:$D32)","v":5.7717885779896033E-2},{"$f":"STDEV($F3:$F7)","v":1.5049165541879836E-2},{"$f":"STDEV($F8:$F12)","v":1.6827411771070135E-2},{"$f":"STDEV($F13:$F17)","v":2.8164464937097986E-2},{"$f":"STDEV($F18:$F22)","v":2.186081356788035E-2},{"$f":"STDEV($F23:$F27)","v":3.5161359685319526E-2},{"$f":"STDEV($F28:$F32)","v":2.7914639351373206E-2}]
[9,{"$f":"'!MC2493I.sha'!B2:C2","v":"<date>"},{"$f":"('!MC2493I.sha'!F197/60)/'!MC2493I.sha'!Q3","v":2.080715532286213},{"$f":"'!MC2493I.sha'!N20/'!MC2493I.sha'!Q3","v":0.11518324607329843},{"$f":"SUM('!MC2493I.sha'!L20:Q20)/'!MC2493I.sha'!Q3","v":1.0837696335078535},{"$f":"'!MC2493I.sha'!Q16","v":0.2636420641564256}]
[10,{"$f":"'!MC2695I.sha'!B2:C2","v":"<date>"},{"$f":"('!MC2695I.sha'!F186/60)/'!MC2695I.sha'!Q3","v":2.2140740740740741},{"$f":"'!MC2695I.sha'!N20/'!MC2695I.sha'!Q3","v":0.18333333333333332},{"$f":"SUM('!MC2695I.sha'!L20:Q20)/'!MC2695I.sha'!Q3","v":1.1388888888888888},{"$f":"'!MC2695I.sha'!Q16","v":0.2827092003367091}]
[11,{"$f":"'!MC2795I.sha'!B2:C2","v":"<date>"},{"$f":"('!MC2795I.sha'!F201/60)/'!MC2795I.sha'!Q3","v":2.048888888888889},{"$f":"'!MC2795I.sha'!N20/'!MC2795I.sha'!Q3","v":0.18974358974358974},{"$f":"SUM('!MC2795I.sha'!L20:Q20)/'!MC2795I.sha'!Q3","v":1.6051282051282052},{"$f":"'!MC2795I.sha'!Q16","v":0.26479930135239094}]
[12,{"$f":"'!MC28A1I.sha'!B2:C2","v":"<date>"},{"$f":"('!MC28A1I.sha'!F118/60)/'!MC28A1I.sha'!Q3","v":2.1456845238095239},{"$f":"'!MC28A1I.sha'!N20/'!MC28A1I.sha'!Q3","v":0.35714285714285715},{"$f":"SUM('!MC28A1I.sha'!L20:Q20)/'!MC28A1I.sha'!Q3","v":1.6875},{"$f":"'!MC28A1I.sha'!Q16","v":0.25965461208839441}]
[13,{"$f":"'!MC29A1I.sha'!B2:C2","v":"<date>"},{"$f":"('!MC29A1I.sha'!F79/60)/'!MC29A1I.sha'!Q3","v":2.0559360730593608},{"$f":"'!MC29A1I.sha'!N20/'!MC29A1I.sha'!Q3","v":0.54794520547945202},{"$f":"SUM('!MC29A1I.sha'!L20:Q20)/'!MC29A1I.sha'!Q3","v":3.7671232876712328},{"$f":"'!MC29A1I.sha'!Q16","v":0.24419938453655374}]
[14,{"$f":"'!MC3094I.sha'!B2:C2","v":"<date>"},{"$f":"('!MC3094I.sha'!F192/60)/'!MC3094I.sha'!Q3","v":2.1482974910394264},{"$f":"'!MC3094I.sha'!N20/'!MC3094I.sha'!Q3","v":0.20430107526881722},{"$f":"SUM('!MC3094I.sha'!L20:Q20)/'!MC3094I.sha'!Q3","v":1.1344086021505377},{"$f":"'!MC3094I.sha'!Q16","v":0.31755706241627302}]
[15,{"$f":"'!MC31A0I.sha'!B2:C2","v":"<date>"},{"$f":"('!MC31A0I.sha'!F100/60)/'!MC31A0I.sha'!Q3","v":2.0849290780141843},{"$f":"'!MC31A0I.sha'!N20/'!MC31A0I.sha'!Q3","v":0.42553191489361702},{"$f":"SUM('!MC31A0I.sha'!L20:Q20)/'!MC31A0I.sha'!Q3","v":1.9361702127659575},{"$f":"'!MC31A0I.sha'!Q16","v":0.25924556855560194}]
[16,{"$f":"'!N10293I.sha'!B2:C2","v":"<date>"},{"$f":"('!N10293I.sha'!F112/60)/'!N10293I.sha'!Q3","v":2.1058176100628931},{"$f":"'!N10293I.sha'!N20/'!N10293I.sha'!Q3","v":0.37735849056603776},{"$f":"SUM('!N10293I.sha'!L20:Q20)/'!N10293I.sha'!Q3","v":2.7924528301886791},{"$f":"'!N10293I.sha'!Q16","v":0.28725709836529939}]
[17,{"$f":"'!N103A1I.sha'!B2:C2","v":"<date>"},{"$f":"('!N103A1I.sha'!F100/60)/'!N103A1I.sha'!Q3","v":2.0936170212765957},{"$f":"'!N103A1I.sha'!N20/'!N103A1I.sha'!Q3","v":0.42553191489361702},{"$f":"SUM('!N103A1I.sha'!L20:Q20)/'!N103A1I.sha'!Q3","v":3},{"$f":"'!N103A1I.sha'!Q16","v":0.26663225481229491}]
[18,{"$f":"'!N104B0I.sha'!B2:C2","v":"<date>"},{"$f":"('!N104B0I.sha'!F105/60)/'!N104B0I.sha'!Q3","v":2.0840067340067341},{"$f":"'!N104B0I.sha'!N20/'!N104B0I.sha'!Q3","v":0.40404040404040403},{"$f":"SUM('!N104B0I.sha'!L20:Q20)/'!N104B0I.sha'!Q3","v":2.9696969696969697},{"$f":"'!N104B0I.sha'!Q16","v":0.27758462358082958}]
[19,{"$f":"'!N10583I.sha'!B2:C2","v":"<date>"},{"$f":"('!N10583I.sha'!F114/60)/'!N10583I.sha'!Q3","v":2.094598765432099},{"$f":"'!N10583I.sha'!N20/'!N10583I.sha'!Q3","v":0.37037037037037035},{"$f":"SUM('!N10583I.sha'!L20:Q20)/'!N10583I.sha'!Q3","v":2.6574074074074074},{"$f":"'!N10583I.sha'!Q16","v":0.25239813618241841}]
[20,{"$f":"'!N10690I.sha'!B2:C2","v":"<date>"},{"$f":"('!N10690I.sha'!F86/60)/'!N10690I.sha'!Q3","v":2.0658333333333334},{"$f":"'!N10690I.sha'!N20/'!N10690I.sha'!Q3","v":0.5},{"$f":"SUM('!N10690I.sha'!L20:Q20)/'!N10690I.sha'!Q3","v":2.2250000000000001},{"$f":"'!N10690I.sha'!Q16","v":0.23161660326576614}]
[21,{"$f":"'!N10795I.sha'!B2:C2","v":"<date>"},{"$f":"('!N10795I.sha'!F102/60)/'!N10795I.sha'!Q3","v":2.0970486111111111},{"$f":"'!N10795I.sha'!N20/'!N10795I.sha'!Q3","v":0.41666666666666669},{"$f":"SUM('!N10795I.sha'!L20:Q20)/'!N10795I.sha'!Q3","v":2.9479166666666665},{"$f":"'!N10795I.sha'!Q16","v":0.27734814045139894}]
[22,{"$f":"'!N10894I.sha'!B2:C2","v":"<date>"},{"$f":"('!N10894I.sha'!F84/60)/'!N10894I.sha'!Q3","v":2.0880341880341882},{"$f":"'!N10894I.sha'!N20/'!N10894I.sha'!Q3","v":0.51282051282051277},{"$f":"SUM('!N10894I.sha'!L20:Q20)/'!N10894I.sha'!Q3","v":2.2692307692307692},{"$f":"'!N10894I.sha'!Q16","v":0.19552701670574954}]
[23,{"$f":"'!N10995I.sha'!B2:C2","v":"<date>"},{"$f":"('!N10995I.sha'!F88/60)/'!N10995I.sha'!Q3","v":2.0467479674796749},{"$f":"'!N10995I.sha'!N20/'!N10995I.sha'!Q3","v":0.48780487804878048},{"$f":"SUM('!N10995I.sha'!L20:Q20)/'!N10995I.sha'!Q3","v":2.1707317073170733},{"$f":"'!N10995I.sha'!Q16","v":0.2000041331571252}]
[24,{"$f":"'!N110A1I.sha'!B2:C2","v":"<date>"},{"$f":"('!N110A1I.sha'!F113/60)/'!N110A1I.sha'!Q3","v":2.0665109034267912},{"$f":"'!N110A1I.sha'!N20/'!N110A1I.sha'!Q3","v":0.37383177570093457},{"$f":"SUM('!N110A1I.sha'!L20:Q20)/'!N110A1I.sha'!Q3","v":2.6822429906542058},{"$f":"'!N110A1I.sha'!Q16","v":0.1939869782803198}]
[25,{"$f":"'!N111A2I.sha'!B2:C2","v":"<date>"},{"$f":"('!N111A2I.sha'!F105/60)/'!N111A2I.sha'!Q3","v":2.0853535353535353},{"$f":"'!N111A2I.sha'!N20/'!N111A2I.sha'!Q3","v":0.40404040404040403},{"$f":"SUM('!N111A2I.sha'!L20:Q20)/'!N111A2I.sha'!Q3","v":1.8585858585858586},{"$f":"'!N111A2I.sha'!Q16","v":0.21122106097332852}]
[26,{"$f":"'!N11292I.sha'!B2:C2","v":"<date>"},{"$f":"('!N11292I.sha'!F87/60)/'!N11292I.sha'!Q3","v":1.9967078189300409},{"$f":"'!N11292I.sha'!N20/'!N11292I.sha'!Q3","v":0.49382716049382713},{"$f":"SUM('!N11292I.sha'!L20:Q20)/'!N11292I.sha'!Q3","v":2.1975308641975309},{"$f":"'!N11292I.sha'!Q16","v":0.2184247938651929}]
[27,{"$f":"'!N11394I.sha'!B2:C2","v":"<date>"},{"$f":"('!N11394I.sha'!F80/60)/'!N11394I.sha'!Q3","v":2.0049549549549552},{"$f":"'!N11394I.sha'!N20/'!N11394I.sha'!Q3","v":0.54054054054054057},{"$f":"SUM('!N11394I.sha'!L20:Q20)/'!N11394I.sha'!Q3","v":2.3783783783783785},{"$f":"'!N11394I.sha'!Q16","v":0.22956622137509536}]
[28,{"$f":"'!N11491I.sha'!B2:C2","v":"<date>"},{"$f":"('!N11491I.sha'!F90/60)/'!N11491I.sha'!Q3","v":2.0331349206349207},{"$f":"'!N11491I.sha'!N20/'!N11491I.sha'!Q3","v":0.47619047619047616},{"$f":"SUM('!N11491I.sha'!L20:Q20)/'!N11491I.sha'!Q3","v":3.3214285714285716},{"$f":"'!N11491I.sha'!Q16","v":0.2359555466560867}]
[29,{"$f":"'!N11595I.sha'!B2:C2","v":"<date>"},{"$f":"('!N11595I.sha'!F82/60)/'!N11595I.sha'!Q3","v":2.0603070175438596},{"$f":"'!N11595I.sha'!N20/'!N11595I.sha'!Q3","v":0.52631578947368418},{"$f":"SUM('!N11595I.sha'!L20:Q20)/'!N11595I.sha'!Q3","v":3.6315789473684212},{"$f":"'!N11595I.sha'!Q16","v":0.2468584402355942}]
[30,{"$f":"'!N11693I.sha'!B2:C2","v":"<date>"},{"$f":"('!N11693I.sha'!F70/60)/'!N11693I.sha'!Q3","v":1.9736979166666666},{"$f":"'!N11693I.sha'!N20/'!N11693I.sha'!Q3","v":0.625},{"$f":"SUM('!N11693I.sha'!L20:Q20)/'!N11693I.sha'!Q3","v":4.25},{"$f":"'!N11693I.sha'!Q16","v":0.17468997712290157}]

{"sheet":"Start","index":2,"n_rows":36,"n_cols":10,"rows_kept":36,"cut":false,"hidden":false,"merged":[]}
[null,null,null,null,null,"Use Folder 51",null,"Auto Clean Up",null,"Correct sequence"]
[null,null,null,null,null,false,null,true,null,211]
[]
["Working with Folder",null,null,null,null,null,"Process All/Or Pick A number: ALL or an integer"]
["F:\\Possum Chapter\\Raw Data\\Ishan\\repeat phase 1\\",null,null,null,null,null,"ALL"]
["Filenames:"]
["!N11693I.sha",null,null,null,null,null,"Paint Cells"]
["!MC1682I.sha",null,null,null,null,null,false]
["!MC17A2I.sha"]
["!MC1891I.sha"]
["!MC19A5I.sha"]
["!MC2092I.sha"]
["!MC2194I.sha"]
["!MC22A3I.sha"]
["!MC2391I.sha"]
["!MC2493I.sha"]
["!MC2695I.sha"]
["!MC2795I.sha"]
["!MC28A1I.sha"]
["!MC29A1I.sha"]
["!MC3094I.sha"]
["!MC31A0I.sha"]
["!N10293I.sha"]
["!N103A1I.sha"]
["!N104B0I.sha"]
["!N10583I.sha"]
["!N10690I.sha"]
["!N10795I.sha"]
["!N10894I.sha"]
["!N10995I.sha"]
["!N110A1I.sha"]
["!N111A2I.sha"]
["!N11292I.sha"]
["!N11394I.sha"]
["!N11491I.sha"]
["!N11595I.sha"]

{"sheet":"!MC1682I.sha","index":3,"n_rows":184,"n_cols":48,"rows_kept":184,"cut":false,"hidden":false,"merged":[[1,1,1,2],[5,13,5,14],[18,13,18,14],[19,13,19,14],[4,19,4,22],[5,19,5,20],[4,39,4,42],[5,39,5,40],[4,44,4,47],[5,44,5,45],[4,24,4,27],[5,24,5,25],[4,29,4,32],[5,29,5,30],[4,34,4,37],[5,34,5,35]]}
["Report for:!MC1682I.sha"]
["Date:","<date>"]
["Hen:","<hen>",null,null,null,"Correct Sequence",{"$f":"Start!J2","v":211},null,null,null,null,null,null,null,null,"Total Sequences in Data",{"$f":"4994-COUNTBLANK(L7:L5000)","v":178},null,null,null,null,"Total Sequences in Block Data",{"$f":"COUNTA(L7:L36)","v":30},null,null,null,"Total Sequences in Block Data",{"$f":"COUNTA(L37:L65)","v":29},null,null,null,"Total Sequences in Block Data",{"$f":"COUNTA(L66:L95)","v":30},null,null,null,"Total Sequences in Block Data",{"$f":"COUNTA(L96:L125)","v":30},null,null,null,"Total Sequences in Block Data",{"$f":"COUNTA(L126:L154)","v":29},null,null,null,"Total Sequences in Block Data",{"$f":"COUNTA(L155:L184)","v":30}]
[null,null,null,null,null,null,null,null,null,null,null,null,null,null,null,"Total Sequences in Summary",{"$f":"SUM(O7:O14)","v":178},null,null,null,null,"Total Sequences in Block Summary",{"$f":"SUM(U7:U14)","v":30},null,null,null,"Total Sequences in Block Summary",{"$f":"SUM(Z7:Z14)","v":29},null,null,null,"Total Sequences in Block Summary",{"$f":"SUM(AE7:AE14)","v":30},null,null,null,"Total Sequences in Block Summary",{"$f":"SUM(AJ7:AJ14)","v":30},null,null,null,"Total Sequences in Block Summary",{"$f":"SUM(AO7:AO14)","v":29},null,null,null,"Total Sequences in Block Summary",{"$f":"SUM(AT7:AT14)","v":30}]
[null,null,null,null,null,null,null,null,null,null,null,null,null,null,null,null,null,null,null,"Block 1",null,null,null,null,"Block 2",null,null,null,null,"Block 3",null,null,null,null,"Block 4",null,null,null,null,"Block 5",null,null,null,null,"Block 6"]
["Sequence\nComponent\n1","Time\n1","Sequence\nComponent\n2","Time\n2","Sequence\nComponent\n3","Time\n3","Sequence\nComponent\n4","Time\n4","Sequence\nComponent\n5","Time\n5","Correct?\n0=No 1=Yes","Sequence",null,"Frequency",null,"Relative Frequency","Variability",null,null,"Frequency",null,"Relative Frequency","Variability",null,"Frequency",null,"Relative Frequency","Variability",null,"Frequency",null,"Relative Frequency","Variability",null,"Frequency",null,"Relative Frequency","Variability",null,"Frequency",null,"Relative Frequency","Variability",null,"Frequency",null,"Relative Frequency","Variability"]
[12,9,24,25,24,31,null,null,null,null,0,122,null,111,{"$f":"COUNTIF($L$7:$L$500,N7)","v":56},{"$f":"O7/$Q$4","v":0.3146067415730337},{"$f":"IF(P7=0,0,(P7*((LOG(P7))/LOG(2))))","v":-0.52488312639827217},null,null,{"$f":"N7","v":111},{"$f":"COUNTIF(L7:L36,T7)","v":10},{"$f":"U7/(W4-U11)","v":0.33333333333333331},{"$f":"IF(V7=0,0,(V7*((LOG(V7))/LOG(2))))","v":-0.52832083357371862},null,{"$f":"N7","v":111},{"$f":"COUNTIF(L37:L65,Y7)","v":5},{"$f":"Z7/(AB4-Z11)","v":0.17241379310344829},{"$f":"IF(AA7=0,0,(AA7*((LOG(AA7))/LOG(2))))","v":-0.43725050004141547},null,{"$f":"N7","v":111},{"$f":"COUNTIF(L66:L95,AD7)","v":10},{"$f":"AE7/(AG4-AE11)","v":0.33333333333333331},{"$f":"IF(AF7=0,0,(AF7*((LOG(AF7))/LOG(2))))","v":-0.52832083357371862},null,{"$f":"N7","v":111},{"$f":"COUNTIF(L96:L125,AI7)","v":8},{"$f":"AJ7/(AL4-AJ11)","v":0.2857142857142857},{"$f":"IF(AK7=0,0,(AK7*((LOG(AK7))/LOG(2))))","v":-0.51638712058788683},null,{"$f":"N7","v":111},{"$f":"COUNTIF(L126:L154,AN7)","v":14},{"$f":"AO7/(AQ4-AO11)","v":0.5},{"$f":"IF(AP7=0,0,(AP7*((LOG(AP7))/LOG(2))))","v":-0.5},null,{"$f":"N7","v":111},{"$f":"COUNTIF(L155:L184,AS7)","v":9},{"$f":"AT7/(AV4-AT11)","v":0.31034482758620691},{"$f":"IF(AU7=0,0,(AU7*((LOG(AU7))/LOG(2))))","v":-0.52387944631611505}]
[12,129,13,133,13,140,null,null,null,null,0,111,null,112,72,0.4044943820224719,-0.52819217374007954,null,null,112,{"$f":"COUNTIF(L7:L36,T8)","v":15},{"$f":"U8/(W4-U11)","v":0.5},{"$f":"IF(V8=0,0,(V8*((LOG(V8))/LOG(2))))","v":-0.5},null,112,{"$f":"COUNTIF(L37:L65,Y8)","v":14},{"$f":"Z8/(AB4-Z11)","v":0.48275862068965519},{"$f":"IF(AA8=0,0,(AA8*((LOG(AA8))/LOG(2))))","v":-0.50719879389584666},null,112,{"$f":"COUNTIF(L66:L95,AD8)","v":11},{"$f":"AE8/(AG4-AE11)","v":0.36666666666666664},{"$f":"IF(AF8=0,0,(AF8*((LOG(AF8))/LOG(2))))","v":-0.53073495822278116},null,112,{"$f":"COUNTIF(L96:L125,AI8)","v":8},{"$f":"AJ8/(AL4-AJ11)","v":0.2857142857142857},{"$f":"IF(AK8=0,0,(AK8*((LOG(AK8))/LOG(2))))","v":-0.51638712058788683},null,112,{"$f":"COUNTIF(L126:L154,AN8)","v":10},{"$f":"AO8/(AQ4-AO11)","v":0.35714285714285715},{"$f":"IF(AP8=0,0,(AP8*((LOG(AP8))/LOG(2))))","v":-0.53050958113222924},null,112,{"$f":"COUNTIF(L155:L184,AS8)","v":14},{"$f":"AT8/(AV4-AT11)","v":0.48275862068965519},{"$f":"IF(AU8=0,0,(AU8*((LOG(AU8))/LOG(2))))","v":-0.50719879389584666}]
[12,238,24,252,24,304,null,null,null,null,0,122,null,121,7,3.9325842696629212E-2,-0.18358791888967166,null,null,121,{"$f":"COUNTIF(L7:L36,T9)","v":0},{"$f":"U9/(W4-U11)","v":0},{"$f":"IF(V9=0,0,(V9*((LOG(V9))/LOG(2))))","v":0},null,121,{"$f":"COUNTIF(L37:L65,Y9)","v":1},{"$f":"Z9/(AB4-Z11)","v":3.4482758620689655E-2},{"$f":"IF(AA9=0,0,(AA9*((LOG(AA9))/LOG(2))))","v":-0.16751658603888178},null,121,{"$f":"COUNTIF(L66:L95,AD9)","v":1},{"$f":"AE9/(AG4-AE11)","v":3.3333333333333333E-2},{"$f":"IF(AF9=0,0,(AF9*((LOG(AF9))/LOG(2))))","v":-0.16356301985361729},null,121,{"$f":"COUNTIF(L96:L125,AI9)","v":2},{"$f":"AJ9/(AL4-AJ11)","v":7.1428571428571425E-2},{"$f":"IF(AK9=0,0,(AK9*((LOG(AK9))/LOG(2))))","v":-0.27195392300411453},null,121,{"$f":"COUNTIF(L126:L154,AN9)","v":3},{"$f":"AO9/(AQ4-AO11)","v":0.10714285714285714},{"$f":"IF(AP9=0,0,(AP9*((LOG(AP9))/LOG(2))))","v":-0.34525633085747659},null,121,{"$f":"COUNTIF(L155:L184,AS9)","v":0},{"$f":"AT9/(AV4-AT11)","v":0},{"$f":"IF(AU9=0,0,(AU9*((LOG(AU9))/LOG(2))))","v":0}]
[12,397,13,401,24,422,null,null,null,null,0,112,null,122,35,0.19662921348314608,-0.46138069938623644,null,null,122,{"$f":"COUNTIF(L7:L36,T10)","v":5},{"$f":"U10/(W4-U11)","v":0.16666666666666666},{"$f":"IF(V10=0,0,(V10*((LOG(V10))/LOG(2))))","v":-0.43082708345352599},null,122,{"$f":"COUNTIF(L37:L65,Y10)","v":8},{"$f":"Z10/(AB4-Z11)","v":0.27586206896551724},{"$f":"IF(AA10=0,0,(AA10*((LOG(AA10))/LOG(2))))","v":-0.51254648141450265},null,122,{"$f":"COUNTIF(L66:L95,AD10)","v":7},{"$f":"AE10/(AG4-AE11)","v":0.23333333333333334},{"$f":"IF(AF10=0,0,(AF10*((LOG(AF10))/LOG(2))))","v":-0.48989165716187993},null,122,{"$f":"COUNTIF(L96:L125,AI10)","v":9},{"$f":"AJ10/(AL4-AJ11)","v":0.32142857142857145},{"$f":"IF(AK10=0,0,(AK10*((LOG(AK10))/LOG(2))))","v":-0.5263167601977724},null,122,{"$f":"COUNTIF(L126:L154,AN10)","v":1},{"$f":"AO10/(AQ4-AO11)","v":3.5714285714285712E-2},{"$f":"IF(AP10=0,0,(AP10*((LOG(AP10))/LOG(2))))","v":-0.17169124721634299},null,122,{"$f":"COUNTIF(L155:L184,AS10)","v":5},{"$f":"AT10/(AV4-AT11)","v":0.17241379310344829},{"$f":"IF(AU10=0,0,(AU10*((LOG(AU10))/LOG(2))))","v":-0.43725050004141547}]
[12,516,13,525,24,535,null,null,null,null,0,112,null,211,4,2.247191011235955E-2,-0.12305018945991905,null,null,211,{"$f":"COUNTIF(L7:L36,T11)","v":0},null,null,null,211,{"$f":"COUNTIF(L37:L65,Y11)","v":0},null,null,null,211,{"$f":"COUNTIF(L66:L95,AD11)","v":0},null,null,null,211,{"$f":"COUNTIF(L96:L125,AI11)","v":2},null,null,null,211,{"$f":"COUNTIF(L126:L154,AN11)","v":1},null,null,null,211,{"$f":"COUNTIF(L155:L184,AS11)","v":1}]
[12,633,13,646,24,658,null,null,null,null,0,112,null,212,3,1.6853932584269662E-2,-9.9282656127728783E-2,null,null,212,{"$f":"COUNTIF(L7:L36,T12)","v":0},{"$f":"U12/(W4-U11)","v":0},{"$f":"IF(V12=0,0,(V12*((LOG(V12))/LOG(2))))","v":0},null,212,{"$f":"COUNTIF(L37:L65,Y12)","v":1},{"$f":"Z12/(AB4-Z11)","v":3.4482758620689655E-2},{"$f":"IF(AA12=0,0,(AA12*((LOG(AA12))/LOG(2))))","v":-0.16751658603888178},null,212,{"$f":"COUNTIF(L66:L95,AD12)","v":1},{"$f":"AE12/(AG4-AE11)","v":3.3333333333333333E-2},{"$f":"IF(AF12=0,0,(AF12*((LOG(AF12))/LOG(2))))","v":-0.16356301985361729},null,212,{"$f":"COUNTIF(L96:L125,AI12)","v":0},{"$f":"AJ12/(AL4-AJ11)","v":0},{"$f":"IF(AK12=0,0,(AK12*((LOG(AK12))/LOG(2))))","v":0},null,212,{"$f":"COUNTIF(L126:L154,AN12)","v":0},{"$f":"AO12/(AQ4-AO11)","v":0},{"$f":"IF(AP12=0,0,(AP12*((LOG(AP12))/LOG(2))))","v":0},null,212,{"$f":"COUNTIF(L155:L184,AS12)","v":1},{"$f":"AT12/(AV4-AT11)","v":3.4482758620689655E-2},{"$f":"IF(AU12=0,0,(AU12*((LOG(AU12))/LOG(2))))","v":-0.16751658603888178}]
[12,754,13,757,24,776,null,null,null,null,0,112,null,221,0,0,0,null,null,221,{"$f":"COUNTIF(L7:L36,T13)","v":0},{"$f":"U13/(W4-U11)","v":0},{"$f":"IF(V13=0,0,(V13*((LOG(V13))/LOG(2))))","v":0},null,221,{"$f":"COUNTIF(L37:L65,Y13)","v":0},{"$f":"Z13/(AB4-Z11)","v":0},{"$f":"IF(AA13=0,0,(AA13*((LOG(AA13))/LOG(2))))","v":0},null,221,{"$f":"COUNTIF(L66:L95,AD13)","v":0},{"$f":"AE13/(AG4-AE11)","v":0},{"$f":"IF(AF13=0,0,(AF13*((LOG(AF13))/LOG(2))))","v":0},null,221,{"$f":"COUNTIF(L96:L125,AI13)","v":0},{"$f":"AJ13/(AL4-AJ11)","v":0},{"$f":"IF(AK13=0,0,(AK13*((LOG(AK13))/LOG(2))))","v":0},null,221,{"$f":"COUNTIF(L126:L154,AN13)","v":0},{"$f":"AO13/(AQ4-AO11)","v":0},{"$f":"IF(AP13=0,0,(AP13*((LOG(AP13))/LOG(2))))","v":0},null,221,{"$f":"COUNTIF(L155:L184,AS13)","v":0},{"$f":"AT13/(AV4-AT11)","v":0},{"$f":"IF(AU13=0,0,(AU13*((LOG(AU13))/LOG(2))))","v":0}]
[12,871,24,895,24,899,null,null,null,null,0,122,null,222,1,5.6179775280898875E-3,-4.1998502421159538E-2,null,null,222,{"$f":"COUNTIF(L7:L36,T14)","v":0},{"$f":"U14/(W4-U11)","v":0},{"$f":"IF(V14=0,0,(V14*((LOG(V14))/LOG(2))))","v":0},null,222,{"$f":"COUNTIF(L37:L65,Y14)","v":0},{"$f":"Z14/(AB4-Z11)","v":0},{"$f":"IF(AA14=0,0,(AA14*((LOG(AA14))/LOG(2))))","v":0},null,222,{"$f":"COUNTIF(L66:L95,AD14)","v":0},{"$f":"AE14/(AG4-AE11)","v":0},{"$f":"IF(AF14=0,0,(AF14*((LOG(AF14))/LOG(2))))","v":0},null,222,{"$f":"COUNTIF(L96:L125,AI14)","v":1},{"$f":"AJ14/(AL4-AJ11)","v":3.5714285714285712E-2},{"$f":"IF(AK14=0,0,(AK14*((LOG(AK14))/LOG(2))))","v":-0.17169124721634299},null,222,{"$f":"COUNTIF(L126:L154,AN14)","v":0},{"$f":"AO14/(AQ4-AO11)","v":0},{"$f":"IF(AP14=0,0,(AP14*((LOG(AP14))/LOG(2))))","v":0},null,222,{"$f":"COUNTIF(L155:L184,AS14)","v":0},{"$f":"AT14/(AV4-AT11)","v":0},{"$f":"IF(AU14=0,0,(AU14*((LOG(AU14))/LOG(2))))","v":0}]
[12,993,13,996,13,1001,null,null,null,null,0,111,null,null,null,{"$f":"SUM(P7:P14)","v":1},{"$f":"-SUM(Q7:Q14)","v":1.9623752664230669},null,null,null,null,{"$f":"SUM(V7:V14)","v":0.99999999999999989},{"$f":"-SUM(W7:W14)","v":1.4591479170272446},null,null,null,{"$f":"SUM(AA7:AA14)","v":0.99999999999999989},{"$f":"-SUM(AB7:AB14)","v":1.7920289474295286},null,null,null,{"$f":"SUM(AF7:AF14)","v":0.99999999999999989},{"$f":"-SUM(AG7:AG14)","v":1.8760734886656143},null,null,null,{"$f":"SUM(AK7:AK14)","v":0.99999999999999989},{"$f":"-SUM(AL7:AL14)","v":2.0027361715940035},null,null,null,{"$f":"SUM(AP7:AP14)","v":1},{"$f":"-SUM(AQ7:AQ14)","v":1.5474571592060489},null,null,null,{"$f":"SUM(AU7:AU14)","v":1},{"$f":"-SUM(AV7:AV14)","v":1.6358453262922592}]
[12,1097,13,1100,24,1119,null,null,null,null,0,112,null,null,null,"U=",{"$f":"Q15/(LOG(Q4)/LOG(2))","v":0.26249936337943874},null,null,null,null,"U1=",{"$f":"W15/(LOG(W4)/LOG(2))","v":0.29736711846258129},null,null,null,"U2=",{"$f":"AB15/(LOG(AB4)/LOG(2))","v":0.36888348250577491},null,null,null,"U3=",{"$f":"AG15/(LOG(AG4)/LOG(2))","v":0.3823344849678591},null,null,null,"U4=",{"$f":"AL15/(LOG(AL4)/LOG(2))","v":0.40814771239986003},null,null,null,"U5=",{"$f":"AQ15/(LOG(AQ4)/LOG(2))","v":0.31853915459078741},null,null,null,"U6=",{"$f":"AV15/(LOG(AV4)/LOG(2))","v":0.33337717530451544}]
[12,1215,13,1221,24,1235,null,null,null,null,0,112]
[12,1330,13,1338,24,1350,null,null,null,null,0,112]
[12,1445,13,1448,13,1453,null,null,null,null,0,111,null,"Total Target Seq"]
[12,1551,13,1553,24,1568,null,null,null,null,0,112,null,{"$f":"COUNTIF(L7:L184,G3)","v":4},null,30,29,30,30,29,30]
[12,1659,13,1663,13,1668,null,null,null,null,0,111,null,null,null,"% of reinforcement given in 6 equal intervals based on number of trials "]
[12,1765,13,1768,24,1780,null,null,null,null,0,112,null,null,null,"%_1","%_2","%_3","%_4","%_5","%_6"]
[12,1874,13,1878,13,1885,null,null,null,null,0,111,null,null,"target sequence",{"$f":"$G$3","v":211},211,211,211,211,211]
[12,1979,13,1982,24,1994,null,null,null,null,0,112,null,null,"total reinforcement",{"$f":"U11","v":0},{"$f":"Z11","v":0},{"$f":"AE11","v":0},{"$f":"AJ11","v":2},{"$f":"AO11","v":1},{"$f":"AT11","v":1}]
[12,2091,13,2096,24,2110,null,null,null,null,0,112,null,null,"% target"]
[12,2204,13,2208,13,2212,null,null,null,null,0,111,null,null,"CCRF"]
[12,2307,13,2310,24,2328,null,null,null,null,0,112,null,null,"% CCRf"]
[12,2423,13,2426,24,2438,null,null,null,null,0,112,null,null,"average response rate",{"$f":"F36/P20","v":112.2},{"$f":"(F65-F36)/Q20","v":136.48275862068965},{"$f":"(F95-F65)/R20","v":125.96666666666667},{"$f":"(F125-F95)/S20","v":183.6},{"$f":"(F154-F125)/T20","v":123},{"$f":"(F184-F154)/U20","v":126.73333333333333}]
[12,2536,13,2539,13,2547,null,null,null,null,0,111]
[12,2643,24,2670,24,2676,null,null,null,null,0,122]
[12,2777,13,2781,13,2792,null,null,null,null,0,111]
[12,2886,13,2890,24,2904,null,null,null,null,0,112]
[12,3000,13,3007,24,3019,null,null,null,null,0,112]
[12,3116,13,3118,13,3124,null,null,null,null,0,111]
[12,3247,24,3257,24,3264,null,null,null,null,0,122]
[12,3358,13,3360,13,3366,null,null,null,null,0,111]
[12,3483,13,3491,24,3505,null,null,null,null,0,112]
[12,3604,13,3609,24,3624,null,null,null,null,0,112]
[12,3719,13,3721,13,3732,null,null,null,null,0,111]
[12,3828,13,3834,24,3847,null,null,null,null,0,112]
[12,3943,24,3967,24,3979,null,null,null,null,0,122]
[12,4076,13,4082,24,4094,null,null,null,null,0,112]
[12,4189,24,4208,24,4230,null,null,null,null,0,122]
[12,4322,13,4327,24,4337,null,null,null,null,0,112]
[12,4432,13,4437,24,4449,null,null,null,null,0,112]
[12,4544,24,4570,24,4575,null,null,null,null,0,122]
[12,4671,13,4676,24,4687,null,null,null,null,0,112]
[12,4780,13,4786,13,4788,null,null,null,null,0,111]
[12,4913,13,4919,13,4926,null,null,null,null,0,111]
[21,5027,11,5036,22,5052,null,null,null,null,0,212]
[12,5146,24,5164,24,5171,null,null,null,null,0,122]
[12,5274,13,5277,24,5291,null,null,null,null,0,112]
[12,5385,13,5389,24,5403,null,null,null,null,0,112]
[12,5518,24,5538,24,5548,null,null,null,null,0,122]
[12,5708,13,5724,24,5736,null,null,null,null,0,112]
[12,5839,13,5843,24,5855,null,null,null,null,0,112]
[12,5954,24,5958,13,5969,null,null,null,null,0,121]
[12,6069,13,6075,24,6085,null,null,null,null,0,112]
[12,6254,24,6267,24,6277,null,null,null,null,0,122]
[12,6372,13,6376,24,6392,null,null,null,null,0,112]
[12,6497,24,6506,24,6513,null,null,null,null,0,122]
[12,6608,24,6627,24,6648,null,null,null,null,0,122]
[12,7009,13,7013,13,7019,null,null,null,null,0,111]
[12,7114,13,7118,13,7123,null,null,null,null,0,111]
[12,7303,13,7310,24,7324,null,null,null,null,0,112]
[12,7418,13,7423,24,7436,null,null,null,null,0,112]
[12,7528,13,7533,24,7545,null,null,null,null,0,112]
[12,7638,24,7657,24,7664,null,null,null,null,0,122]
[12,7760,13,7766,24,7781,null,null,null,null,0,112]
[12,7876,13,7878,13,7885,null,null,null,null,0,111]
[12,7981,13,7986,13,7992,null,null,null,null,0,111]
[12,8128,24,8142,13,8159,null,null,null,null,0,121]
[12,8254,24,8275,24,8279,null,null,null,null,0,122]
[12,8373,13,8380,24,8391,null,null,null,null,0,112]
[12,8486,13,8491,13,8499,null,null,null,null,0,111]
[12,8595,13,8600,24,8611,null,null,null,null,0,112]
[12,8711,24,8725,24,8730,null,null,null,null,0,122]
[12,8841,24,8855,24,8859,null,null,null,null,0,122]
[12,8969,13,8976,24,8987,null,null,null,null,0,112]
[12,9110,13,9115,24,9128,null,null,null,null,0,112]
[12,9219,13,9233,13,9238,null,null,null,null,0,111]
[12,9344,13,9350,24,9361,null,null,null,null,0,112]
[12,9461,13,9463,13,9465,null,null,null,null,0,111]
[12,9562,13,9569,24,9579,null,null,null,null,0,112]
[12,9713,24,9731,24,9738,null,null,null,null,0,122]
[12,9832,13,9836,13,9841,null,null,null,null,0,111]
[12,9937,13,9945,13,9947,null,null,null,null,0,111]
[12,10173,13,10181,13,10185,null,null,null,null,0,111]
[12,10280,13,10285,13,10292,null,null,null,null,0,111]
[12,10488,24,10510,24,10517,null,null,null,null,0,122]
[12,10612,13,10616,24,10630,null,null,null,null,0,112]
[12,10728,13,10733,24,10753,null,null,null,null,0,112]
[12,10850,24,10867,24,10871,null,null,null,null,0,122]
[12,10962,13,10966,13,10971,null,null,null,null,0,111]
[21,11077,11,11091,22,11103,null,null,null,null,0,212]
[12,11780,24,11794,13,11809,null,null,null,null,0,121]
[12,11903,13,11906,13,11912,null,null,null,null,0,111]
[12,12174,13,12178,13,12186,null,null,null,null,0,111]
[12,12325,13,12331,13,12336,null,null,null,null,0,111]
[12,12432,13,12435,24,12448,null,null,null,null,0,112]
[12,12577,13,12582,13,12587,null,null,null,null,0,111]
[12,12683,13,12688,24,12700,null,null,null,null,0,112]
[12,12796,24,12813,24,12820,null,null,null,null,0,122]
[12,13012,24,13024,24,13032,null,null,null,null,0,122]
[12,13125,13,13129,13,13135,null,null,null,null,0,111]
[12,13230,13,13234,13,13241,null,null,null,null,0,111]
[12,13369,24,13386,24,13395,null,null,null,null,0,122]
[12,13490,24,13521,24,13528,null,null,null,null,0,122]
[12,13627,24,13641,24,13646,null,null,null,null,0,122]
[12,13741,13,13753,24,13765,null,null,null,null,0,112]
[12,13866,13,13870,24,13881,null,null,null,null,0,112]
[12,13978,13,13983,24,13995,null,null,null,null,0,112]
[12,14088,13,14092,13,14122,null,null,null,null,0,111]
[12,14220,24,14233,24,14238,null,null,null,null,0,122]
[12,14485,13,14489,13,14495,null,null,null,null,0,111]
[12,14614,13,14626,24,14639,null,null,null,null,0,112]
[12,14732,13,14739,24,14759,null,null,null,null,0,112]
[12,14857,24,14867,24,14872,null,null,null,null,0,122]
[12,14967,13,14972,24,14982,null,null,null,null,0,112]
[12,15107,24,15116,13,15132,null,null,null,null,0,121]
[21,15316,11,15378,11,15386,null,null,null,null,0,211]
[21,15766,11,15775,11,15779,null,null,null,null,0,211]
[21,16365,22,16370,24,16379,null,null,null,null,0,222]
[12,16475,24,16487,24,16491,null,null,null,null,0,122]
[12,16586,24,16607,24,16611,null,null,null,null,0,122]
[12,16723,13,16726,24,16738,null,null,null,null,0,112]
[12,16851,13,16858,13,16869,null,null,null,null,0,111]
[21,16965,11,16968,11,16981,null,null,null,null,0,211]
[12,17238,13,17250,13,17261,null,null,null,null,0,111]
[12,17354,13,17357,13,17361,null,null,null,null,0,111]
[12,17459,24,17469,13,17474,null,null,null,null,0,121]
[12,17585,13,17591,13,17600,null,null,null,null,0,111]
[12,17697,13,17703,13,17717,null,null,null,null,0,111]
[12,17812,13,17815,13,17820,null,null,null,null,0,111]
[12,17914,13,17920,13,17926,null,null,null,null,0,111]
[12,18018,24,18022,13,18027,null,null,null,null,0,121]
[12,18180,13,18186,24,18201,null,null,null,null,0,112]
[12,18294,24,18297,13,18301,null,null,null,null,0,121]
[12,18398,13,18405,13,18412,null,null,null,null,0,111]
[12,18511,13,18520,24,18531,null,null,null,null,0,112]
[12,18701,13,18706,24,18718,null,null,null,null,0,112]
[12,18814,13,18827,24,18847,null,null,null,null,0,112]
[12,18942,13,18944,13,18953,null,null,null,null,0,111]
[12,19047,13,19053,13,19072,null,null,null,null,0,111]
[12,19168,13,19172,24,19185,null,null,null,null,0,112]
[12,19281,13,19283,13,19291,null,null,null,null,0,111]
[12,19386,13,19389,24,19404,null,null,null,null,0,112]
[12,19499,13,19502,13,19510,null,null,null,null,0,111]
[12,19607,13,19617,13,19625,null,null,null,null,0,111]
[12,19722,13,19726,24,19738,null,null,null,null,0,112]
[12,19830,13,19835,13,19839,null,null,null,null,0,111]
[12,19934,24,19945,24,19950,null,null,null,null,0,122]
[12,20044,13,20048,24,20061,null,null,null,null,0,112]
[12,20155,13,20165,24,20178,null,null,null,null,0,112]
[12,20273,13,20282,24,20298,null,null,null,null,0,112]
[12,20397,13,20408,24,20419,null,null,null,null,0,112]
[12,20517,13,20526,24,20539,null,null,null,null,0,112]
[12,20636,24,20649,24,20654,null,null,null,null,0,122]
[12,20750,13,20753,24,20767,null,null,null,null,0,112]
[12,20860,13,20863,13,20870,null,null,null,null,0,111]
[12,20974,13,20979,13,20985,null,null,null,null,0,111]
[21,21086,11,21103,22,21117,null,null,null,null,0,212]
[12,21211,13,21215,13,21224,null,null,null,null,0,111]
[12,21318,13,21322,24,21337,null,null,null,null,0,112]
[12,21431,13,21433,24,21449,null,null,null,null,0,112]
[12,21544,13,21551,13,21558,null,null,null,null,0,111]
[12,21653,13,21658,24,21670,null,null,null,null,0,112]
[12,21765,24,21778,24,21785,null,null,null,null,0,122]
[12,21882,13,21887,13,21893,null,null,null,null,0,111]
[12,21988,24,22000,24,22004,null,null,null,null,0,122]
[12,22155,13,22161,13,22168,null,null,null,null,0,111]
[12,22267,13,22280,24,22291,null,null,null,null,0,112]
[12,22388,24,22404,24,22413,null,null,null,null,0,122]
[12,22508,13,22511,13,22516,null,null,null,null,0,111]
[21,22618,11,22625,11,22629,null,null,null,null,0,211]
[12,23040,13,23044,24,23058,null,null,null,null,0,112]
[12,23153,13,23157,24,23167,null,null,null,null,0,112]
[12,23263,13,23267,24,23279,null,null,null,null,0,112]
[12,23377,13,23380,13,23384,null,null,null,null,0,111]
[12,23519,13,23525,24,23535,null,null,null,null,0,112]
[12,23634,13,23637,24,23650,null,null,null,null,0,112]
[12,23742,13,23744,13,23749,null,null,null,null,0,111]
[12,23846,24,23858,24,23867,null,null,null,null,0,122]
[12,23961,13,23968,24,23980,null,null,null,null,null,112]

{"sheet":"!MC17A2I.sha","index":4,"n_rows":193,"n_cols":48,"rows_kept":193,"cut":false,"hidden":false,"merged":[[1,1,1,2],[5,13,5,14],[18,13,18,14],[19,13,19,14],[4,19,4,22],[5,19,5,20],[4,39,4,42],[5,39,5,40],[4,44,4,47],[5,44,5,45],[4,24,4,27],[5,24,5,25],[4,29,4,32],[5,29,5,30],[4,34,4,37],[5,34,5,35]]}
["Report for:!MC17A2I.sha"]
["Date:","<date>"]
["Hen:","<hen>",null,null,null,"Correct Sequence",{"$f":"Start!J2","v":211},null,null,null,null,null,null,null,null,"Total Sequences in Data",{"$f":"4994-COUNTBLANK(L7:L5000)","v":187},null,null,null,null,"Total Sequences in Block Data",{"$f":"COUNTA(L7:L37)","v":31},null,null,null,"Total Sequences in Block Data",{"$f":"COUNTA(L38:L68)","v":31},null,null,null,"Total Sequences in Block Data",{"$f":"COUNTA(L69:L100)","v":32},null,null,null,"Total Sequences in Block Data",{"$f":"COUNTA(L101:L131)","v":31},null,null,null,"Total Sequences in Block Data",{"$f":"COUNTA(L132:L162)","v":31},null,null,null,"Total Sequences in Block Data",{"$f":"COUNTA(L163:L193)","v":31}]
[null,null,null,null,null,null,null,null,null,null,null,null,null,null,null,"Total Sequences in Summary",{"$f":"SUM(O7:O14)","v":187},null,null,null,null,"Total Sequences in Block Summary",{"$f":"SUM(U7:U14)","v":31},null,null,null,"Total Sequences in Block Summary",{"$f":"SUM(Z7:Z14)","v":31},null,null,null,"Total Sequences in Block Summary",{"$f":"SUM(AE7:AE14)","v":32},null,null,null,"Total Sequences in Block Summary",{"$f":"SUM(AJ7:AJ14)","v":31},null,null,null,"Total Sequences in Block Summary",{"$f":"SUM(AO7:AO14)","v":31},null,null,null,"Total Sequences in Block Summary",{"$f":"SUM(AT7:AT14)","v":31}]
[null,null,null,null,null,null,null,null,null,null,null,null,null,null,null,null,null,null,null,"Block 1",null,null,null,null,"Block 2",null,null,null,null,"Block 3",null,null,null,null,"Block 4",null,null,null,null,"Block 5",null,null,null,null,"Block 6"]
["Sequence\nComponent\n1","Time\n1","Sequence\nComponent\n2","Time\n2","Sequence\nComponent\n3","Time\n3","Sequence\nComponent\n4","Time\n4","Sequence\nComponent\n5","Time\n5","Correct?\n0=No 1=Yes","Sequence",null,"Frequency",null,"Relative Frequency","Variability",null,null,"Frequency",null,"Relative Frequency","Variability",null,"Frequency",null,"Relative Frequency","Variability",null,"Frequency",null,"Relative Frequency","Variability",null,"Frequency",null,"Relative Frequency","Variability",null,"Frequency",null,"Relative Frequency","Variability",null,"Frequency",null,"Relative Frequency","Variability"]
[12,101,24,110,13,125,null,null,null,null,0,121,null,111,{"$f":"COUNTIF($L$7:$L$500,N7)","v":71},{"$f":"O7/$Q$4","v":0.37967914438502676},{"$f":"IF(P7=0,0,(P7*((LOG(P7))/LOG(2))))","v":-0.53046770677641597},null,null,{"$f":"N7","v":111},{"$f":"COUNTIF(L7:L37,T7)","v":10},{"$f":"U7/(W4-U11)","v":0.32258064516129031},{"$f":"IF(V7=0,0,(V7*((LOG(V7))/LOG(2))))","v":-0.52653813403210092},null,{"$f":"N7","v":111},{"$f":"COUNTIF(L38:L68,Y7)","v":9},{"$f":"Z7/(AB4-Z11)","v":0.3},{"$f":"IF(AA7=0,0,(AA7*((LOG(AA7))/LOG(2))))","v":-0.52108967824986185},null,{"$f":"N7","v":111},{"$f":"COUNTIF(L69:L100,AD7)","v":16},{"$f":"AE7/(AG4-AE11)","v":0.5},{"$f":"IF(AF7=0,0,(AF7*((LOG(AF7))/LOG(2))))","v":-0.5},null,{"$f":"N7","v":111},{"$f":"COUNTIF(L101:L131,AI7)","v":14},{"$f":"AJ7/(AL4-AJ11)","v":0.45161290322580644},{"$f":"IF(AK7=0,0,(AK7*((LOG(AK7))/LOG(2))))","v":-0.51792836892289662},null,{"$f":"N7","v":111},{"$f":"COUNTIF(L132:L162,AN7)","v":12},{"$f":"AO7/(AQ4-AO11)","v":0.42857142857142855},{"$f":"IF(AP7=0,0,(AP7*((LOG(AP7))/LOG(2))))","v":-0.52388246628704915},null,{"$f":"N7","v":111},{"$f":"COUNTIF(L163:L193,AS7)","v":10},{"$f":"AT7/(AV4-AT11)","v":0.34482758620689657},{"$f":"IF(AU7=0,0,(AU7*((LOG(AU7))/LOG(2))))","v":-0.52967341387593436}]
[21,225,22,232,24,235,null,null,null,null,0,222,null,112,74,0.39572192513368987,-0.52925476457295628,null,null,112,{"$f":"COUNTIF(L7:L37,T8)","v":13},{"$f":"U8/(W4-U11)","v":0.41935483870967744},{"$f":"IF(V8=0,0,(V8*((LOG(V8))/LOG(2))))","v":-0.52576889352242517},null,112,{"$f":"COUNTIF(L38:L68,Y8)","v":14},{"$f":"Z8/(AB4-Z11)","v":0.46666666666666667},{"$f":"IF(AA8=0,0,(AA8*((LOG(AA8))/LOG(2))))","v":-0.51311664765709342},null,112,{"$f":"COUNTIF(L69:L100,AD8)","v":11},{"$f":"AE8/(AG4-AE11)","v":0.34375},{"$f":"IF(AF8=0,0,(AF8*((LOG(AF8))/LOG(2))))","v":-0.52957038109342913},null,112,{"$f":"COUNTIF(L101:L131,AI8)","v":13},{"$f":"AJ8/(AL4-AJ11)","v":0.41935483870967744},{"$f":"IF(AK8=0,0,(AK8*((LOG(AK8))/LOG(2))))","v":-0.52576889352242517},null,112,{"$f":"COUNTIF(L132:L162,AN8)","v":7},{"$f":"AO8/(AQ4-AO11)","v":0.25},{"$f":"IF(AP8=0,0,(AP8*((LOG(AP8))/LOG(2))))","v":-0.5},null,112,{"$f":"COUNTIF(L163:L193,AS8)","v":16},{"$f":"AT8/(AV4-AT11)","v":0.55172413793103448},{"$f":"IF(AU8=0,0,(AU8*((LOG(AU8))/LOG(2))))","v":-0.47336882489797077}]
[12,329,13,331,13,336,null,null,null,null,0,111,null,121,8,4.2780748663101602E-2,-0.19451954908610211,null,null,121,{"$f":"COUNTIF(L7:L37,T9)","v":1},{"$f":"U9/(W4-U11)","v":3.2258064516129031E-2},{"$f":"IF(V9=0,0,(V9*((LOG(V9))/LOG(2))))","v":-0.15981278420602821},null,121,{"$f":"COUNTIF(L38:L68,Y9)","v":0},{"$f":"Z9/(AB4-Z11)","v":0},{"$f":"IF(AA9=0,0,(AA9*((LOG(AA9))/LOG(2))))","v":0},null,121,{"$f":"COUNTIF(L69:L100,AD9)","v":1},{"$f":"AE9/(AG4-AE11)","v":3.125E-2},{"$f":"IF(AF9=0,0,(AF9*((LOG(AF9))/LOG(2))))","v":-0.15625},null,121,{"$f":"COUNTIF(L101:L131,AI9)","v":1},{"$f":"AJ9/(AL4-AJ11)","v":3.2258064516129031E-2},{"$f":"IF(AK9=0,0,(AK9*((LOG(AK9))/LOG(2))))","v":-0.15981278420602821},null,121,{"$f":"COUNTIF(L132:L162,AN9)","v":3},{"$f":"AO9/(AQ4-AO11)","v":0.10714285714285714},{"$f":"IF(AP9=0,0,(AP9*((LOG(AP9))/LOG(2))))","v":-0.34525633085747659},null,121,{"$f":"COUNTIF(L163:L193,AS9)","v":2},{"$f":"AT9/(AV4-AT11)","v":6.8965517241379309E-2},{"$f":"IF(AU9=0,0,(AU9*((LOG(AU9))/LOG(2))))","v":-0.26606765483638428}]
[12,432,13,437,24,449,null,null,null,null,0,112,null,122,22,0.11764705882352941,-0.36323092250003997,null,null,122,{"$f":"COUNTIF(L7:L37,T10)","v":5},{"$f":"U10/(W4-U11)","v":0.16129032258064516},{"$f":"IF(V10=0,0,(V10*((LOG(V10))/LOG(2))))","v":-0.42455938959669559},null,122,{"$f":"COUNTIF(L38:L68,Y10)","v":7},{"$f":"Z10/(AB4-Z11)","v":0.23333333333333334},{"$f":"IF(AA10=0,0,(AA10*((LOG(AA10))/LOG(2))))","v":-0.48989165716187993},null,122,{"$f":"COUNTIF(L69:L100,AD10)","v":3},{"$f":"AE10/(AG4-AE11)","v":9.375E-2},{"$f":"IF(AF10=0,0,(AF10*((LOG(AF10))/LOG(2))))","v":-0.32015976555739156},null,122,{"$f":"COUNTIF(L101:L131,AI10)","v":3},{"$f":"AJ10/(AL4-AJ11)","v":9.6774193548387094E-2},{"$f":"IF(AK10=0,0,(AK10*((LOG(AK10))/LOG(2))))","v":-0.32605488480635986},null,122,{"$f":"COUNTIF(L132:L162,AN10)","v":3},{"$f":"AO10/(AQ4-AO11)","v":0.10714285714285714},{"$f":"IF(AP10=0,0,(AP10*((LOG(AP10))/LOG(2))))","v":-0.34525633085747659},null,122,{"$f":"COUNTIF(L163:L193,AS10)","v":1},{"$f":"AT10/(AV4-AT11)","v":3.4482758620689655E-2},{"$f":"IF(AU10=0,0,(AU10*((LOG(AU10))/LOG(2))))","v":-0.16751658603888178}]
[12,545,13,551,24,562,null,null,null,null,0,112,null,211,6,3.2085561497326207E-2,-0.15920637302138441,null,null,211,{"$f":"COUNTIF(L7:L37,T11)","v":0},null,null,null,211,{"$f":"COUNTIF(L38:L68,Y11)","v":1},null,null,null,211,{"$f":"COUNTIF(L69:L100,AD11)","v":0},null,null,null,211,{"$f":"COUNTIF(L101:L131,AI11)","v":0},null,null,null,211,{"$f":"COUNTIF(L132:L162,AN11)","v":3},null,null,null,211,{"$f":"COUNTIF(L163:L193,AS11)","v":2}]
[12,657,13,660,13,667,null,null,null,null,0,111,null,212,4,2.1390374331550801E-2,-0.11865014887460185,null,null,212,{"$f":"COUNTIF(L7:L37,T12)","v":1},{"$f":"U12/(W4-U11)","v":3.2258064516129031E-2},{"$f":"IF(V12=0,0,(V12*((LOG(V12))/LOG(2))))","v":-0.15981278420602821},null,212,{"$f":"COUNTIF(L38:L68,Y12)","v":0},{"$f":"Z12/(AB4-Z11)","v":0},{"$f":"IF(AA12=0,0,(AA12*((LOG(AA12))/LOG(2))))","v":0},null,212,{"$f":"COUNTIF(L69:L100,AD12)","v":1},{"$f":"AE12/(AG4-AE11)","v":3.125E-2},{"$f":"IF(AF12=0,0,(AF12*((LOG(AF12))/LOG(2))))","v":-0.15625},null,212,{"$f":"COUNTIF(L101:L131,AI12)","v":0},{"$f":"AJ12/(AL4-AJ11)","v":0},{"$f":"IF(AK12=0,0,(AK12*((LOG(AK12))/LOG(2))))","v":0},null,212,{"$f":"COUNTIF(L132:L162,AN12)","v":2},{"$f":"AO12/(AQ4-AO11)","v":7.1428571428571425E-2},{"$f":"IF(AP12=0,0,(AP12*((LOG(AP12))/LOG(2))))","v":-0.27195392300411453},null,212,{"$f":"COUNTIF(L163:L193,AS12)","v":0},{"$f":"AT12/(AV4-AT11)","v":0},{"$f":"IF(AU12=0,0,(AU12*((LOG(AU12))/LOG(2))))","v":0}]
[12,765,24,779,24,784,null,null,null,null,0,122,null,221,1,5.3475935828877002E-3,-4.0357724384425864E-2,null,null,221,{"$f":"COUNTIF(L7:L37,T13)","v":0},{"$f":"U13/(W4-U11)","v":0},{"$f":"IF(V13=0,0,(V13*((LOG(V13))/LOG(2))))","v":0},null,221,{"$f":"COUNTIF(L38:L68,Y13)","v":0},{"$f":"Z13/(AB4-Z11)","v":0},{"$f":"IF(AA13=0,0,(AA13*((LOG(AA13))/LOG(2))))","v":0},null,221,{"$f":"COUNTIF(L69:L100,AD13)","v":0},{"$f":"AE13/(AG4-AE11)","v":0},{"$f":"IF(AF13=0,0,(AF13*((LOG(AF13))/LOG(2))))","v":0},null,221,{"$f":"COUNTIF(L101:L131,AI13)","v":0},{"$f":"AJ13/(AL4-AJ11)","v":0},{"$f":"IF(AK13=0,0,(AK13*((LOG(AK13))/LOG(2))))","v":0},null,221,{"$f":"COUNTIF(L132:L162,AN13)","v":1},{"$f":"AO13/(AQ4-AO11)","v":3.5714285714285712E-2},{"$f":"IF(AP13=0,0,(AP13*((LOG(AP13))/LOG(2))))","v":-0.17169124721634299},null,221,{"$f":"COUNTIF(L163:L193,AS13)","v":0},{"$f":"AT13/(AV4-AT11)","v":0},{"$f":"IF(AU13=0,0,(AU13*((LOG(AU13))/LOG(2))))","v":0}]
[12,883,13,891,24,903,null,null,null,null,0,112,null,222,1,5.3475935828877002E-3,-4.0357724384425864E-2,null,null,222,{"$f":"COUNTIF(L7:L37,T14)","v":1},{"$f":"U14/(W4-U11)","v":3.2258064516129031E-2},{"$f":"IF(V14=0,0,(V14*((LOG(V14))/LOG(2))))","v":-0.15981278420602821},null,222,{"$f":"COUNTIF(L38:L68,Y14)","v":0},{"$f":"Z14/(AB4-Z11)","v":0},{"$f":"IF(AA14=0,0,(AA14*((LOG(AA14))/LOG(2))))","v":0},null,222,{"$f":"COUNTIF(L69:L100,AD14)","v":0},{"$f":"AE14/(AG4-AE11)","v":0},{"$f":"IF(AF14=0,0,(AF14*((LOG(AF14))/LOG(2))))","v":0},null,222,{"$f":"COUNTIF(L101:L131,AI14)","v":0},{"$f":"AJ14/(AL4-AJ11)","v":0},{"$f":"IF(AK14=0,0,(AK14*((LOG(AK14))/LOG(2))))","v":0},null,222,{"$f":"COUNTIF(L132:L162,AN14)","v":0},{"$f":"AO14/(AQ4-AO11)","v":0},{"$f":"IF(AP14=0,0,(AP14*((LOG(AP14))/LOG(2))))","v":0},null,222,{"$f":"COUNTIF(L163:L193,AS14)","v":0},{"$f":"AT14/(AV4-AT11)","v":0},{"$f":"IF(AU14=0,0,(AU14*((LOG(AU14))/LOG(2))))","v":0}]
[12,996,13,1002,13,1007,null,null,null,null,0,111,null,null,null,{"$f":"SUM(P7:P14)","v":1},{"$f":"-SUM(Q7:Q14)","v":1.9760449136003526},null,null,null,null,{"$f":"SUM(V7:V14)","v":0.99999999999999989},{"$f":"-SUM(W7:W14)","v":1.9563047697693063},null,null,null,{"$f":"SUM(AA7:AA14)","v":1},{"$f":"-SUM(AB7:AB14)","v":1.5240979830688353},null,null,null,{"$f":"SUM(AF7:AF14)","v":1},{"$f":"-SUM(AG7:AG14)","v":1.6622301466508207},null,null,null,{"$f":"SUM(AK7:AK14)","v":1},{"$f":"-SUM(AL7:AL14)","v":1.5295649314577098},null,null,null,{"$f":"SUM(AP7:AP14)","v":0.99999999999999989},{"$f":"-SUM(AQ7:AQ14)","v":2.1580402982224598},null,null,null,{"$f":"SUM(AU7:AU14)","v":1},{"$f":"-SUM(AV7:AV14)","v":1.4366264796491712}]
[12,1102,13,1104,24,1118,null,null,null,null,0,112,null,null,null,"U=",{"$f":"Q15/(LOG(Q4)/LOG(2))","v":0.26183550387556015},null,null,null,null,"U1=",{"$f":"W15/(LOG(W4)/LOG(2))","v":0.39487833085413965},null,null,null,"U2=",{"$f":"AB15/(LOG(AB4)/LOG(2))","v":0.30763778574406508},null,null,null,"U3=",{"$f":"AG15/(LOG(AG4)/LOG(2))","v":0.33244602933016415},null,null,null,"U4=",{"$f":"AL15/(LOG(AL4)/LOG(2))","v":0.30874128428275088},null,null,null,"U5=",{"$f":"AQ15/(LOG(AQ4)/LOG(2))","v":0.43559846300356592},null,null,null,"U6=",{"$f":"AV15/(LOG(AV4)/LOG(2))","v":0.2899817426768429}]
[12,1235,24,1257,24,1262,null,null,null,null,0,122]
[21,1447,11,1464,22,1482,null,null,null,null,0,212]
[12,1578,13,1582,13,1590,null,null,null,null,0,111,null,"Total Target Seq"]
[12,1687,13,1693,24,1703,null,null,null,null,0,112,null,{"$f":"COUNTIF(L7:L193,G3)","v":6},null,31,31,32,31,31,31]
[12,1797,13,1800,13,1804,null,null,null,null,0,111,null,null,null,"% of reinforcement given in 6 equal intervals based on number of trials "]
[12,1904,13,1909,24,1922,null,null,null,null,0,112,null,null,null,"%_1","%_2","%_3","%_4","%_5","%_6"]
[12,2085,13,2096,24,2107,null,null,null,null,0,112,null,null,"target sequence",{"$f":"$G$3","v":211},211,211,211,211,211]
[12,2209,13,2213,24,2222,null,null,null,null,0,112,null,null,"total reinforcement",{"$f":"U11","v":0},{"$f":"Z11","v":1},{"$f":"AE11","v":0},{"$f":"AJ11","v":0},{"$f":"AO11","v":3},{"$f":"AT11","v":2}]
[12,2323,13,2328,13,2334,null,null,null,null,0,111,null,null,"% target"]
[12,2429,13,2434,24,2445,null,null,null,null,0,112,null,null,"CCRF"]
[12,2538,13,2543,13,2549,null,null,null,null,0,111,null,null,"% CCRf"]
[12,2642,13,2649,24,2660,null,null,null,null,0,112,null,null,"average response rate",{"$f":"F37/P20","v":118.83870967741936},{"$f":"(F68-F37)/Q20","v":122.61290322580645},{"$f":"(F100-F68)/R20","v":130.0625},{"$f":"(F131-F100)/S20","v":130.41935483870967},{"$f":"(F162-F131)/T20","v":138.06451612903226},{"$f":"(F193-F162)/U20","v":129.58064516129033}]
[12,2769,24,2780,24,2796,null,null,null,null,0,122]
[12,2890,24,2903,24,2906,null,null,null,null,0,122]
[12,2998,13,3001,13,3010,null,null,null,null,0,111]
[12,3120,24,3133,24,3140,null,null,null,null,0,122]
[12,3235,13,3239,24,3249,null,null,null,null,0,112]
[12,3342,13,3351,24,3361,null,null,null,null,0,112]
[12,3453,13,3457,13,3465,null,null,null,null,0,111]
[12,3559,13,3562,24,3574,null,null,null,null,0,112]
[12,3675,13,3680,13,3684,null,null,null,null,0,111]
[12,3780,24,3789,24,3793,null,null,null,null,0,122]
[21,3891,11,3898,11,3904,null,null,null,null,0,211]
[12,4173,13,4184,24,4199,null,null,null,null,0,112]
[12,4296,13,4300,24,4311,null,null,null,null,0,112]
[12,4408,13,4411,24,4423,null,null,null,null,0,112]
[12,4517,13,4521,13,4526,null,null,null,null,0,111]
[12,4622,13,4631,24,4645,null,null,null,null,0,112]
[12,4774,13,4780,13,4789,null,null,null,null,0,111]
[12,4889,13,4895,24,4907,null,null,null,null,0,112]
[12,5004,13,5008,13,5017,null,null,null,null,0,111]
[12,5113,13,5118,13,5123,null,null,null,null,0,111]
[12,5218,13,5221,13,5230,null,null,null,null,0,111]
[12,5326,13,5333,13,5336,null,null,null,null,0,111]
[12,5430,13,5440,24,5459,null,null,null,null,0,112]
[12,5557,24,5574,24,5582,null,null,null,null,0,122]
[12,5677,13,5679,24,5698,null,null,null,null,0,112]
[12,5791,13,5793,13,5811,null,null,null,null,0,111]
[12,5921,24,5950,24,5954,null,null,null,null,0,122]
[12,6049,24,6068,24,6076,null,null,null,null,0,122]
[12,6173,24,6191,24,6196,null,null,null,null,0,122]
[12,6290,13,6302,24,6312,null,null,null,null,0,112]
[12,6417,13,6421,24,6432,null,null,null,null,0,112]
[12,6530,13,6540,24,6553,null,null,null,null,0,112]
[12,6651,13,6656,24,6667,null,null,null,null,0,112]
[12,6762,13,6780,13,6785,null,null,null,null,0,111]
[12,6878,13,6881,13,6886,null,null,null,null,0,111]
[12,6987,13,6991,24,7008,null,null,null,null,0,112]
[12,7105,13,7108,24,7118,null,null,null,null,0,112]
[12,7214,24,7227,24,7232,null,null,null,null,0,122]
[12,7327,13,7330,24,7345,null,null,null,null,0,112]
[12,7468,24,7481,24,7485,null,null,null,null,0,122]
[12,7580,13,7587,24,7598,null,null,null,null,0,112]
[12,7694,13,7697,13,7704,null,null,null,null,0,111]
[12,7799,13,7806,13,7809,null,null,null,null,0,111]
[12,7906,24,7919,24,7926,null,null,null,null,0,122]
[12,8019,13,8024,13,8027,null,null,null,null,0,111]
[12,8687,13,8691,13,8697,null,null,null,null,0,111]
[21,8795,11,8804,22,8817,null,null,null,null,0,212]
[12,8913,13,8919,24,8930,null,null,null,null,0,112]
[12,9022,13,9025,13,9032,null,null,null,null,0,111]
[12,9128,13,9131,24,9141,null,null,null,null,0,112]
[12,9240,13,9244,13,9249,null,null,null,null,0,111]
[12,9345,13,9349,24,9360,null,null,null,null,0,112]
[12,9455,13,9460,13,9467,null,null,null,null,0,111]
[12,9561,13,9564,13,9570,null,null,null,null,0,111]
[12,9666,13,9671,13,9679,null,null,null,null,0,111]
[12,9805,13,9810,24,9821,null,null,null,null,0,112]
[12,9916,13,9920,24,9930,null,null,null,null,0,112]
[12,10025,13,10034,24,10046,null,null,null,null,0,112]
[12,10142,13,10149,24,10159,null,null,null,null,0,112]
[12,10267,13,10271,24,10284,null,null,null,null,0,112]
[12,10379,13,10382,24,10397,null,null,null,null,0,112]
[12,10494,24,10508,24,10512,null,null,null,null,0,122]
[12,10608,13,10622,13,10626,null,null,null,null,0,111]
[12,10725,13,10731,24,10740,null,null,null,null,0,112]
[12,10835,13,10839,13,10846,null,null,null,null,0,111]
[12,10960,24,10973,13,10992,null,null,null,null,0,121]
[12,11086,13,11092,13,11098,null,null,null,null,0,111]
[12,11202,13,11206,13,11213,null,null,null,null,0,111]
[12,11307,13,11309,13,11316,null,null,null,null,0,111]
[12,11410,13,11416,13,11422,null,null,null,null,0,111]
[12,11522,24,11533,24,11540,null,null,null,null,0,122]
[12,11634,13,11639,13,11647,null,null,null,null,0,111]
[12,11748,13,11756,13,11762,null,null,null,null,0,111]
[12,11943,13,11948,13,11956,null,null,null,null,0,111]
[12,12050,13,12053,24,12064,null,null,null,null,0,112]
[12,12158,24,12173,24,12177,null,null,null,null,0,122]
[12,12276,13,12285,13,12291,null,null,null,null,0,111]
[12,12397,13,12404,24,12412,null,null,null,null,0,112]
[12,12508,13,12519,13,12524,null,null,null,null,0,111]
[12,12620,13,12627,24,12637,null,null,null,null,0,112]
[12,12734,13,12738,24,12749,null,null,null,null,0,112]
[12,12845,13,12856,13,12861,null,null,null,null,0,111]
[12,12953,13,12957,24,12967,null,null,null,null,0,112]
[12,13071,13,13074,13,13080,null,null,null,null,0,111]
[12,13186,13,13189,24,13201,null,null,null,null,0,112]
[12,13294,13,13299,24,13311,null,null,null,null,0,112]
[12,13404,13,13411,13,13414,null,null,null,null,0,111]
[12,13508,13,13513,24,13522,null,null,null,null,0,112]
[12,13634,13,13639,24,13651,null,null,null,null,0,112]
[12,13745,13,13754,13,13758,null,null,null,null,0,111]
[12,13930,13,13935,13,13944,null,null,null,null,0,111]
[12,14041,13,14051,24,14061,null,null,null,null,0,112]
[12,14301,24,14314,24,14320,null,null,null,null,0,122]
[12,14416,13,14420,13,14427,null,null,null,null,0,111]
[12,14534,13,14538,24,14551,null,null,null,null,0,112]
[12,14650,13,14653,24,14663,null,null,null,null,0,112]
[12,14772,24,14783,13,14793,null,null,null,null,0,121]
[12,14897,13,14902,13,14907,null,null,null,null,0,111]
[12,15159,13,15170,24,15186,null,null,null,null,0,112]
[12,15282,13,15287,13,15295,null,null,null,null,0,111]
[12,15433,24,15451,24,15456,null,null,null,null,0,122]
[12,15562,13,15565,13,15571,null,null,null,null,0,111]
[12,15679,13,15685,13,15690,null,null,null,null,0,111]
[12,15789,13,15791,13,15793,null,null,null,null,0,111]
[12,15895,13,15902,24,15912,null,null,null,null,0,112]
[12,16017,24,16032,13,16048,null,null,null,null,0,121]
[12,16169,13,16172,24,16184,null,null,null,null,0,112]
[12,16296,24,16306,13,16324,null,null,null,null,0,121]
[12,16427,13,16492,24,16508,null,null,null,null,0,112]
[12,16731,13,16740,13,16748,null,null,null,null,0,111]
[12,16848,13,16872,24,16884,null,null,null,null,0,112]
[12,16980,13,16987,13,16990,null,null,null,null,0,111]
[12,17086,13,17090,13,17098,null,null,null,null,0,111]
[12,17201,13,17204,13,17211,null,null,null,null,0,111]
[12,17313,13,17318,13,17326,null,null,null,null,0,111]
[12,17488,13,17494,13,17500,null,null,null,null,0,111]
[12,17596,13,17606,24,17616,null,null,null,null,0,112]
[12,17721,13,17729,13,17737,null,null,null,null,0,111]
[21,17880,11,17927,11,17932,null,null,null,null,0,211]
[12,18129,13,18133,13,18139,null,null,null,null,0,111]
[12,18236,13,18241,13,18246,null,null,null,null,0,111]
[21,18342,11,18350,11,18357,null,null,null,null,0,211]
[21,18588,11,18597,11,18605,null,null,null,null,0,211]
[12,18757,24,18789,24,18798,null,null,null,null,0,122]
[21,18897,11,18907,22,18919,null,null,null,null,0,212]
[12,19026,13,19031,24,19042,null,null,null,null,0,112]
[12,19136,24,19151,24,19156,null,null,null,null,0,122]
[12,19276,13,19281,13,19284,null,null,null,null,0,111]
[12,19383,24,19393,24,19397,null,null,null,null,0,122]
[21,19493,11,19503,22,19518,null,null,null,null,0,212]
[12,19613,24,19626,13,19647,null,null,null,null,0,121]
[12,19743,13,19748,24,19759,null,null,null,null,0,112]
[12,19851,13,19853,13,19858,null,null,null,null,0,111]
[21,19951,22,19959,13,19970,null,null,null,null,0,221]
[12,20146,13,20151,24,20170,null,null,null,null,0,112]
[12,20268,13,20273,24,20284,null,null,null,null,0,112]
[12,20379,13,20383,13,20389,null,null,null,null,0,111]
[12,20504,13,20508,24,20521,null,null,null,null,0,112]
[12,20619,13,20624,24,20637,null,null,null,null,0,112]
[12,20731,13,20735,13,20740,null,null,null,null,0,111]
[12,20835,13,20840,13,20851,null,null,null,null,0,111]
[12,20946,13,20951,13,20958,null,null,null,null,0,111]
[21,21052,11,21063,11,21068,null,null,null,null,0,211]
[12,21307,13,21311,24,21324,null,null,null,null,0,112]
[12,21418,13,21420,24,21433,null,null,null,null,0,112]
[12,21525,13,21527,13,21531,null,null,null,null,0,111]
[12,21627,24,21640,13,21659,null,null,null,null,0,121]
[12,21754,13,21758,24,21768,null,null,null,null,0,112]
[12,21864,13,21872,24,21882,null,null,null,null,0,112]
[12,21987,13,21991,24,22003,null,null,null,null,0,112]
[12,22098,13,22105,24,22119,null,null,null,null,0,112]
[12,22294,24,22312,24,22325,null,null,null,null,0,122]
[12,22423,13,22429,24,22440,null,null,null,null,0,112]
[12,22534,13,22537,13,22540,null,null,null,null,0,111]
[12,22661,13,22667,13,22673,null,null,null,null,0,111]
[12,22768,13,22794,13,22799,null,null,null,null,0,111]
[12,22896,24,22912,13,22925,null,null,null,null,0,121]
[12,23019,13,23021,13,23026,null,null,null,null,0,111]
[21,23123,11,23132,11,23139,null,null,null,null,0,211]
[12,23399,13,23405,24,23426,null,null,null,null,0,112]
[12,23521,13,23526,13,23530,null,null,null,null,0,111]
[12,23625,13,23632,24,23642,null,null,null,null,0,112]
[12,23737,13,23742,24,23752,null,null,null,null,0,112]
[12,23849,13,23853,24,23864,null,null,null,null,0,112]
[12,23966,13,23975,24,23987,null,null,null,null,null,112]

{"sheet":"!MC1891I.sha","index":5,"n_rows":195,"n_cols":48,"rows_kept":195,"cut":false,"hidden":false,"merged":[[1,1,1,2],[5,13,5,14],[18,13,18,14],[19,13,19,14],[4,19,4,22],[5,19,5,20],[4,39,4,42],[5,39,5,40],[4,44,4,47],[5,44,5,45],[4,24,4,27],[5,24,5,25],[4,29,4,32],[5,29,5,30],[4,34,4,37],[5,34,5,35]]}
["Report for:!MC1891I.sha"]
["Date:","<date>"]
["Hen:","<hen>",null,null,null,"Correct Sequence",{"$f":"Start!J2","v":211},null,null,null,null,null,null,null,null,"Total Sequences in Data",{"$f":"4994-COUNTBLANK(L7:L5000)","v":189},null,null,null,null,"Total Sequences in Block Data",{"$f":"COUNTA(L7:L38)","v":32},null,null,null,"Total Sequences in Block Data",{"$f":"COUNTA(L39:L69)","v":31},null,null,null,"Total Sequences in Block Data",{"$f":"COUNTA(L70:L101)","v":32},null,null,null,"Total Sequences in Block Data",{"$f":"COUNTA(L102:L132)","v":31},null,null,null,"Total Sequences in Block Data",{"$f":"COUNTA(L133:L164)","v":32},null,null,null,"Total Sequences in Block Data",{"$f":"COUNTA(L165:L195)","v":31}]
[null,null,null,null,null,null,null,null,null,null,null,null,null,null,null,"Total Sequences in Summary",{"$f":"SUM(O7:O14)","v":188},null,null,null,null,"Total Sequences in Block Summary",{"$f":"SUM(U7:U14)","v":32},null,null,null,"Total Sequences in Block Summary",{"$f":"SUM(Z7:Z14)","v":31},null,null,null,"Total Sequences in Block Summary",{"$f":"SUM(AE7:AE14)","v":32},null,null,null,"Total Sequences in Block Summary",{"$f":"SUM(AJ7:AJ14)","v":31},null,null,null,"Total Sequences in Block Summary",{"$f":"SUM(AO7:AO14)","v":32},null,null,null,"Total Sequences in Block Summary",{"$f":"SUM(AT7:AT14)","v":30}]
[null,null,null,null,null,null,null,null,null,null,null,null,null,null,null,null,null,null,null,"Block 1",null,null,null,null,"Block 2",null,null,null,null,"Block 3",null,null,null,null,"Block 4",null,null,null,null,"Block 5",null,null,null,null,"Block 6"]
["Sequence\nComponent\n1","Time\n1","Sequence\nComponent\n2","Time\n2","Sequence\nComponent\n3","Time\n3","Sequence\nComponent\n4","Time\n4","Sequence\nComponent\n5","Time\n5","Correct?\n0=No 1=Yes","Sequence",null,"Frequency",null,"Relative Frequency","Variability",null,null,"Frequency",null,"Relative Frequency","Variability",null,"Frequency",null,"Relative Frequency","Variability",null,"Frequency",null,"Relative Frequency","Variability",null,"Frequency",null,"Relative Frequency","Variability",null,"Frequency",null,"Relative Frequency","Variability",null,"Frequency",null,"Relative Frequency","Variability"]
[12,49,13,60,24,72,null,null,null,null,0,112,null,111,{"$f":"COUNTIF($L$7:$L$500,N7)","v":107},{"$f":"O7/$Q$4","v":0.56914893617021278},{"$f":"IF(P7=0,0,(P7*((LOG(P7))/LOG(2))))","v":-0.46278744459885357},null,null,{"$f":"N7","v":111},{"$f":"COUNTIF(L7:L38,T7)","v":19},{"$f":"U7/(W4-U11)","v":0.59375},{"$f":"IF(V7=0,0,(V7*((LOG(V7))/LOG(2))))","v":-0.44654303889287106},null,{"$f":"N7","v":111},{"$f":"COUNTIF(L39:L69,Y7)","v":13},{"$f":"Z7/(AB4-Z11)","v":0.4642857142857143},{"$f":"IF(AA7=0,0,(AA7*((LOG(AA7))/LOG(2))))","v":-0.51392491610409474},null,{"$f":"N7","v":111},{"$f":"COUNTIF(L70:L101,AD7)","v":17},{"$f":"AE7/(AG4-AE11)","v":0.56666666666666665},{"$f":"IF(AF7=0,0,(AF7*((LOG(AF7))/LOG(2))))","v":-0.46434239413630152},null,{"$f":"N7","v":111},{"$f":"COUNTIF(L102:L132,AI7)","v":18},{"$f":"AJ7/(AL4-AJ11)","v":0.66666666666666663},{"$f":"IF(AK7=0,0,(AK7*((LOG(AK7))/LOG(2))))","v":-0.38997500048077083},null,{"$f":"N7","v":111},{"$f":"COUNTIF(L133:L164,AN7)","v":16},{"$f":"AO7/(AQ4-AO11)","v":0.5},{"$f":"IF(AP7=0,0,(AP7*((LOG(AP7))/LOG(2))))","v":-0.5},null,{"$f":"N7","v":111},{"$f":"COUNTIF(L165:L195,AS7)","v":24},{"$f":"AT7/(AV4-AT11)","v":0.8571428571428571},{"$f":"IF(AU7=0,0,(AU7*((LOG(AU7))/LOG(2))))","v":-0.19062207543124113}]
[12,165,13,170,13,175,null,null,null,null,0,111,null,112,42,0.22340425531914893,-0.4830606383710257,null,null,112,{"$f":"COUNTIF(L7:L38,T8)","v":4},{"$f":"U8/(W4-U11)","v":0.125},{"$f":"IF(V8=0,0,(V8*((LOG(V8))/LOG(2))))","v":-0.375},null,112,{"$f":"COUNTIF(L39:L69,Y8)","v":9},{"$f":"Z8/(AB4-Z11)","v":0.32142857142857145},{"$f":"IF(AA8=0,0,(AA8*((LOG(AA8))/LOG(2))))","v":-0.5263167601977724},null,112,{"$f":"COUNTIF(L70:L101,AD8)","v":8},{"$f":"AE8/(AG4-AE11)","v":0.26666666666666666},{"$f":"IF(AF8=0,0,(AF8*((LOG(AF8))/LOG(2))))","v":-0.50850415882893829},null,112,{"$f":"COUNTIF(L102:L132,AI8)","v":5},{"$f":"AJ8/(AL4-AJ11)","v":0.18518518518518517},{"$f":"IF(AK8=0,0,(AK8*((LOG(AK8))/LOG(2))))","v":-0.45054803838446406},null,112,{"$f":"COUNTIF(L133:L164,AN8)","v":12},{"$f":"AO8/(AQ4-AO11)","v":0.375},{"$f":"IF(AP8=0,0,(AP8*((LOG(AP8))/LOG(2))))","v":-0.53063906222956647},null,112,{"$f":"COUNTIF(L165:L195,AS8)","v":4},{"$f":"AT8/(AV4-AT11)","v":0.14285714285714285},{"$f":"IF(AU8=0,0,(AU8*((LOG(AU8))/LOG(2))))","v":-0.40105070315108626}]
[12,313,24,331,13,344,null,null,null,null,0,121,null,121,18,9.5744680851063829E-2,-0.32406356012891407,null,null,121,{"$f":"COUNTIF(L7:L38,T9)","v":4},{"$f":"U9/(W4-U11)","v":0.125},{"$f":"IF(V9=0,0,(V9*((LOG(V9))/LOG(2))))","v":-0.375},null,121,{"$f":"COUNTIF(L39:L69,Y9)","v":6},{"$f":"Z9/(AB4-Z11)","v":0.21428571428571427},{"$f":"IF(AA9=0,0,(AA9*((LOG(AA9))/LOG(2))))","v":-0.47622694742923877},null,121,{"$f":"COUNTIF(L70:L101,AD9)","v":2},{"$f":"AE9/(AG4-AE11)","v":6.6666666666666666E-2},{"$f":"IF(AF9=0,0,(AF9*((LOG(AF9))/LOG(2))))","v":-0.26045937304056793},null,121,{"$f":"COUNTIF(L102:L132,AI9)","v":4},{"$f":"AJ9/(AL4-AJ11)","v":0.14814814814814814},{"$f":"IF(AK9=0,0,(AK9*((LOG(AK9))/LOG(2))))","v":-0.40813148180199532},null,121,{"$f":"COUNTIF(L133:L164,AN9)","v":2},{"$f":"AO9/(AQ4-AO11)","v":6.25E-2},{"$f":"IF(AP9=0,0,(AP9*((LOG(AP9))/LOG(2))))","v":-0.25},null,121,{"$f":"COUNTIF(L165:L195,AS9)","v":0},{"$f":"AT9/(AV4-AT11)","v":0},{"$f":"IF(AU9=0,0,(AU9*((LOG(AU9))/LOG(2))))","v":0}]
[12,440,13,445,13,453,null,null,null,null,0,111,null,122,4,2.1276595744680851E-2,-0.11818274152505612,null,null,122,{"$f":"COUNTIF(L7:L38,T10)","v":2},{"$f":"U10/(W4-U11)","v":6.25E-2},{"$f":"IF(V10=0,0,(V10*((LOG(V10))/LOG(2))))","v":-0.25},null,122,{"$f":"COUNTIF(L39:L69,Y10)","v":0},{"$f":"Z10/(AB4-Z11)","v":0},{"$f":"IF(AA10=0,0,(AA10*((LOG(AA10))/LOG(2))))","v":0},null,122,{"$f":"COUNTIF(L70:L101,AD10)","v":1},{"$f":"AE10/(AG4-AE11)","v":3.3333333333333333E-2},{"$f":"IF(AF10=0,0,(AF10*((LOG(AF10))/LOG(2))))","v":-0.16356301985361729},null,122,{"$f":"COUNTIF(L102:L132,AI10)","v":0},{"$f":"AJ10/(AL4-AJ11)","v":0},{"$f":"IF(AK10=0,0,(AK10*((LOG(AK10))/LOG(2))))","v":0},null,122,{"$f":"COUNTIF(L133:L164,AN10)","v":1},{"$f":"AO10/(AQ4-AO11)","v":3.125E-2},{"$f":"IF(AP10=0,0,(AP10*((LOG(AP10))/LOG(2))))","v":-0.15625},null,122,{"$f":"COUNTIF(L165:L195,AS10)","v":0},{"$f":"AT10/(AV4-AT11)","v":0},{"$f":"IF(AU10=0,0,(AU10*((LOG(AU10))/LOG(2))))","v":0}]
[12,548,13,552,13,559,null,null,null,null,0,111,null,211,11,5.8510638297872342E-2,-0.23961026363533908,null,null,211,{"$f":"COUNTIF(L7:L38,T11)","v":0},null,null,null,211,{"$f":"COUNTIF(L39:L69,Y11)","v":3},null,null,null,211,{"$f":"COUNTIF(L70:L101,AD11)","v":2},null,null,null,211,{"$f":"COUNTIF(L102:L132,AI11)","v":4},null,null,null,211,{"$f":"COUNTIF(L133:L164,AN11)","v":0},null,null,null,211,{"$f":"COUNTIF(L165:L195,AS11)","v":2}]
[12,654,13,657,13,668,null,null,null,null,0,111,null,212,3,1.5957446808510637E-2,-9.5259994962071506E-2,null,null,212,{"$f":"COUNTIF(L7:L38,T12)","v":2},{"$f":"U12/(W4-U11)","v":6.25E-2},{"$f":"IF(V12=0,0,(V12*((LOG(V12))/LOG(2))))","v":-0.25},null,212,{"$f":"COUNTIF(L39:L69,Y12)","v":0},{"$f":"Z12/(AB4-Z11)","v":0},{"$f":"IF(AA12=0,0,(AA12*((LOG(AA12))/LOG(2))))","v":0},null,212,{"$f":"COUNTIF(L70:L101,AD12)","v":0},{"$f":"AE12/(AG4-AE11)","v":0},{"$f":"IF(AF12=0,0,(AF12*((LOG(AF12))/LOG(2))))","v":0},null,212,{"$f":"COUNTIF(L102:L132,AI12)","v":0},{"$f":"AJ12/(AL4-AJ11)","v":0},{"$f":"IF(AK12=0,0,(AK12*((LOG(AK12))/LOG(2))))","v":0},null,212,{"$f":"COUNTIF(L133:L164,AN12)","v":1},{"$f":"AO12/(AQ4-AO11)","v":3.125E-2},{"$f":"IF(AP12=0,0,(AP12*((LOG(AP12))/LOG(2))))","v":-0.15625},null,212,{"$f":"COUNTIF(L165:L195,AS12)","v":0},{"$f":"AT12/(AV4-AT11)","v":0},{"$f":"IF(AU12=0,0,(AU12*((LOG(AU12))/LOG(2))))","v":0}]
[12,764,24,781,24,786,null,null,null,null,0,122,null,221,2,1.0638297872340425E-2,-6.9729668634868486E-2,null,null,221,{"$f":"COUNTIF(L7:L38,T13)","v":0},{"$f":"U13/(W4-U11)","v":0},{"$f":"IF(V13=0,0,(V13*((LOG(V13))/LOG(2))))","v":0},null,221,{"$f":"COUNTIF(L39:L69,Y13)","v":0},{"$f":"Z13/(AB4-Z11)","v":0},{"$f":"IF(AA13=0,0,(AA13*((LOG(AA13))/LOG(2))))","v":0},null,221,{"$f":"COUNTIF(L70:L101,AD13)","v":2},{"$f":"AE13/(AG4-AE11)","v":6.6666666666666666E-2},{"$f":"IF(AF13=0,0,(AF13*((LOG(AF13))/LOG(2))))","v":-0.26045937304056793},null,221,{"$f":"COUNTIF(L102:L132,AI13)","v":0},{"$f":"AJ13/(AL4-AJ11)","v":0},{"$f":"IF(AK13=0,0,(AK13*((LOG(AK13))/LOG(2))))","v":0},null,221,{"$f":"COUNTIF(L133:L164,AN13)","v":0},{"$f":"AO13/(AQ4-AO11)","v":0},{"$f":"IF(AP13=0,0,(AP13*((LOG(AP13))/LOG(2))))","v":0},null,221,{"$f":"COUNTIF(L165:L195,AS13)","v":0},{"$f":"AT13/(AV4-AT11)","v":0},{"$f":"IF(AU13=0,0,(AU13*((LOG(AU13))/LOG(2))))","v":0}]
[12,881,13,883,13,886,null,null,null,null,0,111,null,222,1,5.3191489361702126E-3,-4.0183983253604456E-2,null,null,222,{"$f":"COUNTIF(L7:L38,T14)","v":1},{"$f":"U14/(W4-U11)","v":3.125E-2},{"$f":"IF(V14=0,0,(V14*((LOG(V14))/LOG(2))))","v":-0.15625},null,222,{"$f":"COUNTIF(L39:L69,Y14)","v":0},{"$f":"Z14/(AB4-Z11)","v":0},{"$f":"IF(AA14=0,0,(AA14*((LOG(AA14))/LOG(2))))","v":0},null,222,{"$f":"COUNTIF(L70:L101,AD14)","v":0},{"$f":"AE14/(AG4-AE11)","v":0},{"$f":"IF(AF14=0,0,(AF14*((LOG(AF14))/LOG(2))))","v":0},null,222,{"$f":"COUNTIF(L102:L132,AI14)","v":0},{"$f":"AJ14/(AL4-AJ11)","v":0},{"$f":"IF(AK14=0,0,(AK14*((LOG(AK14))/LOG(2))))","v":0},null,222,{"$f":"COUNTIF(L133:L164,AN14)","v":0},{"$f":"AO14/(AQ4-AO11)","v":0},{"$f":"IF(AP14=0,0,(AP14*((LOG(AP14))/LOG(2))))","v":0},null,222,{"$f":"COUNTIF(L165:L195,AS14)","v":0},{"$f":"AT14/(AV4-AT11)","v":0},{"$f":"IF(AU14=0,0,(AU14*((LOG(AU14))/LOG(2))))","v":0}]
[12,982,13,1002,24,1005,null,null,null,null,0,112,null,null,null,{"$f":"SUM(P7:P14)","v":1},{"$f":"-SUM(Q7:Q14)","v":1.8328782951097329},null,null,null,null,{"$f":"SUM(V7:V14)","v":1},{"$f":"-SUM(W7:W14)","v":1.8527930388928711},null,null,null,{"$f":"SUM(AA7:AA14)","v":1},{"$f":"-SUM(AB7:AB14)","v":1.516468623731106},null,null,null,{"$f":"SUM(AF7:AF14)","v":0.99999999999999989},{"$f":"-SUM(AG7:AG14)","v":1.657328318899993},null,null,null,{"$f":"SUM(AK7:AK14)","v":1},{"$f":"-SUM(AL7:AL14)","v":1.2486545206672304},null,null,null,{"$f":"SUM(AP7:AP14)","v":1},{"$f":"-SUM(AQ7:AQ14)","v":1.5931390622295665},null,null,null,{"$f":"SUM(AU7:AU14)","v":1},{"$f":"-SUM(AV7:AV14)","v":0.59167277858232736}]
[12,1179,24,1217,13,1221,null,null,null,null,0,121,null,null,null,"U=",{"$f":"Q15/(LOG(Q4)/LOG(2))","v":0.24261787518757},null,null,null,null,"U1=",{"$f":"W15/(LOG(W4)/LOG(2))","v":0.37055860777857419},null,null,null,"U2=",{"$f":"AB15/(LOG(AB4)/LOG(2))","v":0.30609780653053786},null,null,null,"U3=",{"$f":"AG15/(LOG(AG4)/LOG(2))","v":0.33146566377999859},null,null,null,"U4=",{"$f":"AL15/(LOG(AL4)/LOG(2))","v":0.25203977445329018},null,null,null,"U5=",{"$f":"AQ15/(LOG(AQ4)/LOG(2))","v":0.31862781244591332},null,null,null,"U6=",{"$f":"AV15/(LOG(AV4)/LOG(2))","v":0.12057998177335605}]
[12,1314,13,1322,13,1331,null,null,null,null,0,111]
[12,1453,13,1459,13,1473,null,null,null,null,0,111]
[12,1571,13,1581,13,1591,null,null,null,null,0,111,null,"Total Target Seq"]
[12,1701,24,1737,24,1759,null,null,null,null,0,122,null,{"$f":"COUNTIF(L7:L195,G3)","v":11},null,32,31,32,31,32,31]
[12,1860,13,1870,13,1880,null,null,null,null,0,111,null,null,null,"% of reinforcement given in 6 equal intervals based on number of trials "]
[12,2003,13,2008,13,2018,null,null,null,null,0,111,null,null,null,"%_1","%_2","%_3","%_4","%_5","%_6"]
[12,2118,13,2129,13,2144,null,null,null,null,0,111,null,null,"target sequence",{"$f":"$G$3","v":211},211,211,211,211,211]
[12,2247,13,2252,13,2258,null,null,null,null,0,111,null,null,"total reinforcement",{"$f":"U11","v":0},{"$f":"Z11","v":3},{"$f":"AE11","v":2},{"$f":"AJ11","v":4},{"$f":"AO11","v":0},{"$f":"AT11","v":2}]
[21,2438,11,2441,22,2455,null,null,null,null,0,212,null,null,"% target"]
[12,2580,13,2599,24,2603,null,null,null,null,0,112,null,null,"CCRF"]
[12,2698,13,2707,13,2719,null,null,null,null,0,111,null,null,"% CCRf"]
[12,2815,13,2823,13,2834,null,null,null,null,0,111,null,null,"average response rate",{"$f":"F38/P20","v":126.9375},{"$f":"(F69-F38)/Q20","v":139.38709677419354},{"$f":"(F101-F69)/R20","v":124.90625},{"$f":"(F132-F101)/S20","v":129.41935483870967},{"$f":"(F164-F132)/T20","v":117.59375},{"$f":"(F195-F164)/U20","v":-650.16129032258061}]
[21,2933,22,2943,24,2948,null,null,null,null,0,222]
[12,3079,13,3111,13,3126,null,null,null,null,0,111]
[21,3219,11,3222,22,3229,null,null,null,null,0,212]
[12,3324,13,3328,13,3335,null,null,null,null,0,111]
[12,3438,13,3445,24,3457,null,null,null,null,0,112]
[12,3558,13,3563,13,3577,null,null,null,null,0,111]
[12,3672,24,3700,13,3706,null,null,null,null,0,121]
[12,3812,24,3818,13,3827,null,null,null,null,0,121]
[12,3932,13,3944,13,3951,null,null,null,null,0,111]
[12,4045,13,4056,13,4062,null,null,null,null,0,111]
[12,4188,24,4192,13,4202,null,null,null,null,0,121]
[12,4307,13,4314,24,4321,null,null,null,null,0,112]
[12,4427,24,4431,13,4439,null,null,null,null,0,121]
[12,4535,13,4539,24,4562,null,null,null,null,0,112]
[12,4661,13,4690,24,4703,null,null,null,null,0,112]
[12,4807,13,4821,13,4837,null,null,null,null,0,111]
[12,4994,24,4999,13,5026,null,null,null,null,0,121]
[12,5122,13,5128,13,5139,null,null,null,null,0,111]
[12,5265,13,5269,13,5284,null,null,null,null,0,111]
[12,5427,13,5459,13,5463,null,null,null,null,0,111]
[12,5556,13,5562,13,5566,null,null,null,null,0,111]
[12,5664,24,5672,13,5682,null,null,null,null,0,121]
[12,5821,13,5829,13,5832,null,null,null,null,0,111]
[12,5928,13,5931,24,5942,null,null,null,null,0,112]
[12,6071,13,6076,13,6083,null,null,null,null,0,111]
[12,6304,13,6350,24,6355,null,null,null,null,0,112]
[12,6450,13,6457,13,6462,null,null,null,null,0,111]
[12,6594,13,6612,24,6629,null,null,null,null,0,112]
[12,6731,13,6738,24,6747,null,null,null,null,0,112]
[12,6859,13,6864,13,6876,null,null,null,null,0,111]
[12,6973,13,6982,13,6995,null,null,null,null,0,111]
[12,7185,24,7190,13,7195,null,null,null,null,0,121]
[21,7298,11,7304,11,7311,null,null,null,null,0,211]
[12,7496,24,7501,13,7511,null,null,null,null,0,121]
[21,7607,11,7615,11,7625,null,null,null,null,0,211]
[12,7789,13,7793,13,7800,null,null,null,null,0,111]
[12,7895,13,7900,24,7913,null,null,null,null,0,112]
[12,8007,13,8011,13,8025,null,null,null,null,0,111]
[21,8124,11,8130,11,8140,null,null,null,null,0,211]
[12,8247,13,8258,24,8265,null,null,null,null,0,112]
[12,8361,13,8373,13,8383,null,null,null,null,0,111]
[21,8480,22,8486,13,8489,null,null,null,null,0,221]
[12,8602,13,8622,13,8633,null,null,null,null,0,111]
[12,8737,13,8745,24,8755,null,null,null,null,0,112]
[12,8848,24,8854,13,8857,null,null,null,null,0,121]
[12,8953,24,8963,13,8971,null,null,null,null,0,121]
[12,9075,13,9081,24,9088,null,null,null,null,0,112]
[12,9182,13,9188,13,9201,null,null,null,null,0,111]
[12,9369,13,9375,24,9399,null,null,null,null,0,112]
[12,9505,13,9522,13,9538,null,null,null,null,0,111]
[12,9634,13,9648,24,9652,null,null,null,null,0,112]
[12,9748,13,9752,13,9764,null,null,null,null,0,111]
[12,9883,13,9907,13,9924,null,null,null,null,0,111]
[12,10022,13,10034,13,10038,null,null,null,null,0,111]
[12,10130,13,10134,13,10139,null,null,null,null,0,111]
[12,10232,13,10237,13,10261,null,null,null,null,0,111]
[21,10357,11,10362,11,10370,null,null,null,null,0,211]
[12,10582,13,10597,13,10601,null,null,null,null,0,111]
[12,10697,13,10709,13,10713,null,null,null,null,0,111]
[12,10810,13,10813,13,10819,null,null,null,null,0,111]
[21,10918,11,10934,11,10938,null,null,null,null,0,211]
[12,11098,13,11111,13,11122,null,null,null,null,0,111]
[12,11221,13,11235,13,11245,null,null,null,null,0,111]
[12,11340,13,11346,13,11356,null,null,null,null,0,111]
[12,11452,13,11467,24,11471,null,null,null,null,0,112]
[21,11572,22,11579,13,11587,null,null,null,null,0,221]
[12,11684,13,11687,13,11699,null,null,null,null,0,111]
[12,11801,13,11807,24,11820,null,null,null,null,0,112]
[12,11914,13,11917,24,11929,null,null,null,null,0,112]
[12,12023,24,12025,24,12039,null,null,null,null,0,122]
[12,12136,13,12143,13,12155,null,null,null,null,0,111]
[12,12253,13,12263,24,12275,null,null,null,null,0,112]
[12,12368,13,12372,13,12380,null,null,null,null,0,111]
[12,12477,13,12481,13,12491,null,null,null,null,0,111]
[12,12593,13,12598,13,12606,null,null,null,null,0,111]
[21,12739,11,12751,11,12763,null,null,null,null,0,211]
[12,12970,13,12975,13,12987,null,null,null,null,0,111]
[12,13082,13,13096,13,13108,null,null,null,null,0,111]
[21,13225,11,13233,11,13252,null,null,null,null,0,211]
[21,13376,11,13387,11,13402,null,null,null,null,0,211]
[12,13683,13,13687,13,13694,null,null,null,null,0,111]
[12,13791,13,13807,13,13814,null,null,null,null,0,111]
[12,13909,13,13933,13,13937,null,null,null,null,0,111]
[12,14032,13,14038,13,14050,null,null,null,null,0,111]
[12,14145,13,14155,13,14167,null,null,null,null,0,111]
[12,14271,13,14277,13,14290,null,null,null,null,0,111]
[12,14385,13,14387,13,14393,null,null,null,null,0,111]
[12,14489,13,14494,13,14501,null,null,null,null,0,111]
[12,14596,13,14603,13,14614,null,null,null,null,0,111]
[12,14709,13,14717,13,14729,null,null,null,null,0,111]
[12,14824,13,14830,24,14842,null,null,null,null,0,112]
[12,14953,13,14972,24,14987,null,null,null,null,0,112]
[12,15082,24,15095,13,15099,null,null,null,null,0,121]
[12,15195,13,15200,24,15212,null,null,null,null,0,112]
[12,15306,13,15311,13,15316,null,null,null,null,0,111]
[21,15412,11,15417,11,15424,null,null,null,null,0,211]
[12,15538,24,15543,13,15556,null,null,null,null,0,121]
[12,15651,24,15670,13,15695,null,null,null,null,0,121]
[12,15793,24,15806,13,15825,null,null,null,null,0,121]
[12,15920,13,15922,13,15927,null,null,null,null,0,111]
[12,16023,13,16025,24,16046,null,null,null,null,0,112]
[12,16142,13,16147,24,16163,null,null,null,null,0,112]
[12,16262,13,16267,13,16278,null,null,null,null,0,111]
[12,16373,13,16380,13,16392,null,null,null,null,0,111]
[12,16487,13,16495,24,16506,null,null,null,null,0,112]
[12,16600,13,16605,13,16634,null,null,null,null,0,111]
[12,16728,13,16731,13,16735,null,null,null,null,0,111]
[12,16830,13,16841,24,16853,null,null,null,null,0,112]
[12,16948,13,16954,24,16967,null,null,null,null,0,112]
[12,17064,13,17069,24,17083,null,null,null,null,0,112]
[12,17182,13,17187,24,17199,null,null,null,null,0,112]
[12,17293,13,17300,13,17329,null,null,null,null,0,111]
[12,17423,13,17434,24,17448,null,null,null,null,0,112]
[12,17543,13,17550,24,17564,null,null,null,null,0,112]
[12,17664,13,17670,13,17678,null,null,null,null,0,111]
[12,17773,13,17779,13,17807,null,null,null,null,0,111]
[12,17904,24,17927,13,17950,null,null,null,null,0,121]
[12,18075,13,18079,13,18117,null,null,null,null,0,111]
[12,18212,13,18215,13,18219,null,null,null,null,0,111]
[12,18314,13,18319,13,18327,null,null,null,null,0,111]
[12,18421,13,18426,13,18432,null,null,null,null,0,111]
[12,18525,13,18528,13,18535,null,null,null,null,0,111]
[12,18629,24,18648,13,18675,null,null,null,null,0,121]
[12,18774,13,18778,13,18783,null,null,null,null,0,111]
[12,18877,13,18881,13,18886,null,null,null,null,0,111]
[12,18993,13,18999,13,19003,null,null,null,null,0,111]
[12,19104,13,19108,24,19119,null,null,null,null,0,112]
[12,19214,13,19218,24,19234,null,null,null,null,0,112]
[12,19332,13,19338,24,19351,null,null,null,null,0,112]
[12,19447,24,19471,24,19478,null,null,null,null,0,122]
[12,19573,13,19579,13,19585,null,null,null,null,0,111]
[12,19686,13,19690,13,19695,null,null,null,null,0,111]
[21,19788,11,19805,22,19817,null,null,null,null,0,212]
[12,19911,13,19919,24,19934,null,null,null,null,0,112]
[12,20028,13,20040,13,20046,null,null,null,null,0,111]
[12,20138,13,20143,24,20155,null,null,null,null,0,112]
[12,20257,13,20261,13,20267,null,null,null,null,0,111]
[12,20362,13,20372,13,20378,null,null,null,null,0,111]
[12,20475,13,20480,13,20486,null,null,null,null,0,111]
[12,20588,13,20592,13,20597,null,null,null,null,0,111]
[12,20699,13,20704,13,20709,null,null,null,null,0,111]
[12,20817,13,20821,13,20829,null,null,null,null,0,111]
[12,20930,13,20934,13,20941,null,null,null,null,0,111]
[12,21044,13,21048,13,21053,null,null,null,null,0,111]
[12,21149,13,21156,13,21168,null,null,null,null,0,111]
[12,21263,13,21271,13,21275,null,null,null,null,0,111]
[12,21378,13,21383,13,21387,null,null,null,null,0,111]
[12,21493,13,21499,13,21507,null,null,null,null,0,111]
[21,21607,11,21618,11,21622,null,null,null,null,0,211]
[12,21919,13,21923,13,21931,null,null,null,null,0,111]
[12,22026,13,22031,13,22037,null,null,null,null,0,111]
[12,22139,13,22145,13,22151,null,null,null,null,0,111]
[12,22246,13,22261,24,22280,null,null,null,null,0,112]
[12,22381,13,22391,13,22396,null,null,null,null,0,111]
[12,22491,13,22503,13,22510,null,null,null,null,0,111]
[12,22606,13,22612,13,22618,null,null,null,null,0,111]
[12,22713,13,22716,13,22728,null,null,null,null,0,111]
[12,22831,13,22838,24,22849,null,null,null,null,0,112]
[21,22950,11,22958,11,22968,null,null,null,null,0,211]
[12,23231,13,23236,13,23242,null,null,null,null,0,111]
[12,23346,13,23352,24,23363,null,null,null,null,0,112]
[12,23459,13,23461,13,23465,null,null,null,null,0,111]
[12,23560,13,23565,13,23570,null,null,null,null,0,111]
[12,23665,13,23668,13,23673,null,null,null,null,0,111]
[12,23768,13,23770,24,23783,null,null,null,null,0,112]
[12,23878,13,23884,13,23890,null,null,null,null,0,111]
[12,23994,null,null,null,null,null,null,null,null,null,1]

{"sheet":"!MC19A5I.sha","index":6,"n_rows":198,"n_cols":48,"rows_kept":198,"cut":false,"hidden":false,"merged":[[1,1,1,2],[5,13,5,14],[18,13,18,14],[19,13,19,14],[4,19,4,22],[5,19,5,20],[4,39,4,42],[5,39,5,40],[4,44,4,47],[5,44,5,45],[4,24,4,27],[5,24,5,25],[4,29,4,32],[5,29,5,30],[4,34,4,37],[5,34,5,35]]}
["Report for:!MC19A5I.sha"]
["Date:","<date>"]
["Hen:","<hen>",null,null,null,"Correct Sequence",{"$f":"Start!J2","v":211},null,null,null,null,null,null,null,null,"Total Sequences in Data",{"$f":"4994-COUNTBLANK(L7:L5000)","v":192},null,null,null,null,"Total Sequences in Block Data",{"$f":"COUNTA(L7:L38)","v":32},null,null,null,"Total Sequences in Block Data",{"$f":"COUNTA(L39:L70)","v":32},null,null,null,"Total Sequences in Block Data",{"$f":"COUNTA(L71:L102)","v":32},null,null,null,"Total Sequences in Block Data",{"$f":"COUNTA(L103:L134)","v":32},null,null,null,"Total Sequences in Block Data",{"$f":"COUNTA(L135:L166)","v":32},null,null,null,"Total Sequences in Block Data",{"$f":"COUNTA(L167:L198)","v":32}]
[null,null,null,null,null,null,null,null,null,null,null,null,null,null,null,"Total Sequences in Summary",{"$f":"SUM(O7:O14)","v":192},null,null,null,null,"Total Sequences in Block Summary",{"$f":"SUM(U7:U14)","v":32},null,null,null,"Total Sequences in Block Summary",{"$f":"SUM(Z7:Z14)","v":32},null,null,null,"Total Sequences in Block Summary",{"$f":"SUM(AE7:AE14)","v":32},null,null,null,"Total Sequences in Block Summary",{"$f":"SUM(AJ7:AJ14)","v":32},null,null,null,"Total Sequences in Block Summary",{"$f":"SUM(AO7:AO14)","v":32},null,null,null,"Total Sequences in Block Summary",{"$f":"SUM(AT7:AT14)","v":32}]
[null,null,null,null,null,null,null,null,null,null,null,null,null,null,null,null,null,null,null,"Block 1",null,null,null,null,"Block 2",null,null,null,null,"Block 3",null,null,null,null,"Block 4",null,null,null,null,"Block 5",null,null,null,null,"Block 6"]
["Sequence\nComponent\n1","Time\n1","Sequence\nComponent\n2","Time\n2","Sequence\nComponent\n3","Time\n3","Sequence\nComponent\n4","Time\n4","Sequence\nComponent\n5","Time\n5","Correct?\n0=No 1=Yes","Sequence",null,"Frequency",null,"Relative Frequency","Variability",null,null,"Frequency",null,"Relative Frequency","Variability",null,"Frequency",null,"Relative Frequency","Variability",null,"Frequency",null,"Relative Frequency","Variability",null,"Frequency",null,"Relative Frequency","Variability",null,"Frequency",null,"Relative Frequency","Variability",null,"Frequency",null,"Relative Frequency","Variability"]
[12,182,13,187,13,191,null,null,null,null,0,111,null,111,{"$f":"COUNTIF($L$7:$L$500,N7)","v":113},{"$f":"O7/$Q$4","v":0.58854166666666663},{"$f":"IF(P7=0,0,(P7*((LOG(P7))/LOG(2))))","v":-0.45010697827382518},null,null,{"$f":"N7","v":111},{"$f":"COUNTIF(L7:L38,T7)","v":20},{"$f":"U7/(W4-U11)","v":0.64516129032258063},{"$f":"IF(V7=0,0,(V7*((LOG(V7))/LOG(2))))","v":-0.40791497774162117},null,{"$f":"N7","v":111},{"$f":"COUNTIF(L39:L70,Y7)","v":21},{"$f":"Z7/(AB4-Z11)","v":0.75},{"$f":"IF(AA7=0,0,(AA7*((LOG(AA7))/LOG(2))))","v":-0.31127812445913283},null,{"$f":"N7","v":111},{"$f":"COUNTIF(L71:L102,AD7)","v":24},{"$f":"AE7/(AG4-AE11)","v":0.8},{"$f":"IF(AF7=0,0,(AF7*((LOG(AF7))/LOG(2))))","v":-0.25754247590988982},null,{"$f":"N7","v":111},{"$f":"COUNTIF(L103:L134,AI7)","v":18},{"$f":"AJ7/(AL4-AJ11)","v":0.69230769230769229},{"$f":"IF(AK7=0,0,(AK7*((LOG(AK7))/LOG(2))))","v":-0.36727941925300139},null,{"$f":"N7","v":111},{"$f":"COUNTIF(L135:L166,AN7)","v":9},{"$f":"AO7/(AQ4-AO11)","v":0.40909090909090912},{"$f":"IF(AP7=0,0,(AP7*((LOG(AP7))/LOG(2))))","v":-0.52752543430703935},null,{"$f":"N7","v":111},{"$f":"COUNTIF(L167:L198,AS7)","v":21},{"$f":"AT7/(AV4-AT11)","v":0.7},{"$f":"IF(AU7=0,0,(AU7*((LOG(AU7))/LOG(2))))","v":-0.36020122098083079}]
[12,283,13,286,13,289,null,null,null,null,0,111,null,112,39,0.203125,-0.46709818225259064,null,null,112,{"$f":"COUNTIF(L7:L38,T8)","v":7},{"$f":"U8/(W4-U11)","v":0.22580645161290322},{"$f":"IF(V8=0,0,(V8*((LOG(V8))/LOG(2))))","v":-0.48477063607435156},null,112,{"$f":"COUNTIF(L39:L70,Y8)","v":5},{"$f":"Z8/(AB4-Z11)","v":0.17857142857142858},{"$f":"IF(AA8=0,0,(AA8*((LOG(AA8))/LOG(2))))","v":-0.44382621913754317},null,112,{"$f":"COUNTIF(L71:L102,AD8)","v":5},{"$f":"AE8/(AG4-AE11)","v":0.16666666666666666},{"$f":"IF(AF8=0,0,(AF8*((LOG(AF8))/LOG(2))))","v":-0.43082708345352599},null,112,{"$f":"COUNTIF(L103:L134,AI8)","v":5},{"$f":"AJ8/(AL4-AJ11)","v":0.19230769230769232},{"$f":"IF(AK8=0,0,(AK8*((LOG(AK8))/LOG(2))))","v":-0.45740608139494804},null,112,{"$f":"COUNTIF(L135:L166,AN8)","v":8},{"$f":"AO8/(AQ4-AO11)","v":0.36363636363636365},{"$f":"IF(AP8=0,0,(AP8*((LOG(AP8))/LOG(2))))","v":-0.53070240677719893},null,112,{"$f":"COUNTIF(L167:L198,AS8)","v":9},{"$f":"AT8/(AV4-AT11)","v":0.3},{"$f":"IF(AU8=0,0,(AU8*((LOG(AU8))/LOG(2))))","v":-0.52108967824986185}]
[21,389,11,402,11,408,null,null,null,null,0,211,null,121,4,2.0833333333333332E-2,-0.11635338543169074,null,null,121,{"$f":"COUNTIF(L7:L38,T9)","v":1},{"$f":"U9/(W4-U11)","v":3.2258064516129031E-2},{"$f":"IF(V9=0,0,(V9*((LOG(V9))/LOG(2))))","v":-0.15981278420602821},null,121,{"$f":"COUNTIF(L39:L70,Y9)","v":0},{"$f":"Z9/(AB4-Z11)","v":0},{"$f":"IF(AA9=0,0,(AA9*((LOG(AA9))/LOG(2))))","v":0},null,121,{"$f":"COUNTIF(L71:L102,AD9)","v":1},{"$f":"AE9/(AG4-AE11)","v":3.3333333333333333E-2},{"$f":"IF(AF9=0,0,(AF9*((LOG(AF9))/LOG(2))))","v":-0.16356301985361729},null,121,{"$f":"COUNTIF(L103:L134,AI9)","v":0},{"$f":"AJ9/(AL4-AJ11)","v":0},{"$f":"IF(AK9=0,0,(AK9*((LOG(AK9))/LOG(2))))","v":0},null,121,{"$f":"COUNTIF(L135:L166,AN9)","v":2},{"$f":"AO9/(AQ4-AO11)","v":9.0909090909090912E-2},{"$f":"IF(AP9=0,0,(AP9*((LOG(AP9))/LOG(2))))","v":-0.31449378351248153},null,121,{"$f":"COUNTIF(L167:L198,AS9)","v":0},{"$f":"AT9/(AV4-AT11)","v":0},{"$f":"IF(AU9=0,0,(AU9*((LOG(AU9))/LOG(2))))","v":0}]
[12,576,13,585,24,595,null,null,null,null,0,112,null,122,8,4.1666666666666664E-2,-0.19104010419671485,null,null,122,{"$f":"COUNTIF(L7:L38,T10)","v":2},{"$f":"U10/(W4-U11)","v":6.4516129032258063E-2},{"$f":"IF(V10=0,0,(V10*((LOG(V10))/LOG(2))))","v":-0.25510943937979835},null,122,{"$f":"COUNTIF(L39:L70,Y10)","v":2},{"$f":"Z10/(AB4-Z11)","v":7.1428571428571425E-2},{"$f":"IF(AA10=0,0,(AA10*((LOG(AA10))/LOG(2))))","v":-0.27195392300411453},null,122,{"$f":"COUNTIF(L71:L102,AD10)","v":0},{"$f":"AE10/(AG4-AE11)","v":0},{"$f":"IF(AF10=0,0,(AF10*((LOG(AF10))/LOG(2))))","v":0},null,122,{"$f":"COUNTIF(L103:L134,AI10)","v":1},{"$f":"AJ10/(AL4-AJ11)","v":3.8461538461538464E-2},{"$f":"IF(AK10=0,0,(AK10*((LOG(AK10))/LOG(2))))","v":-0.18078614300542661},null,122,{"$f":"COUNTIF(L135:L166,AN10)","v":3},{"$f":"AO10/(AQ4-AO11)","v":0.13636363636363635},{"$f":"IF(AP10=0,0,(AP10*((LOG(AP10))/LOG(2))))","v":-0.39197306153401923},null,122,{"$f":"COUNTIF(L167:L198,AS10)","v":0},{"$f":"AT10/(AV4-AT11)","v":0},{"$f":"IF(AU10=0,0,(AU10*((LOG(AU10))/LOG(2))))","v":0}]
[12,693,24,704,24,708,null,null,null,null,0,122,null,211,25,0.13020833333333334,-0.38295655090448327,null,null,211,{"$f":"COUNTIF(L7:L38,T11)","v":1},null,null,null,211,{"$f":"COUNTIF(L39:L70,Y11)","v":4},null,null,null,211,{"$f":"COUNTIF(L71:L102,AD11)","v":2},null,null,null,211,{"$f":"COUNTIF(L103:L134,AI11)","v":6},null,null,null,211,{"$f":"COUNTIF(L135:L166,AN11)","v":10},null,null,null,211,{"$f":"COUNTIF(L167:L198,AS11)","v":2}]
[12,804,13,809,24,821,null,null,null,null,0,112,null,212,1,5.208333333333333E-3,-3.950501302458935E-2,null,null,212,{"$f":"COUNTIF(L7:L38,T12)","v":0},{"$f":"U12/(W4-U11)","v":0},{"$f":"IF(V12=0,0,(V12*((LOG(V12))/LOG(2))))","v":0},null,212,{"$f":"COUNTIF(L39:L70,Y12)","v":0},{"$f":"Z12/(AB4-Z11)","v":0},{"$f":"IF(AA12=0,0,(AA12*((LOG(AA12))/LOG(2))))","v":0},null,212,{"$f":"COUNTIF(L71:L102,AD12)","v":0},{"$f":"AE12/(AG4-AE11)","v":0},{"$f":"IF(AF12=0,0,(AF12*((LOG(AF12))/LOG(2))))","v":0},null,212,{"$f":"COUNTIF(L103:L134,AI12)","v":1},{"$f":"AJ12/(AL4-AJ11)","v":3.8461538461538464E-2},{"$f":"IF(AK12=0,0,(AK12*((LOG(AK12))/LOG(2))))","v":-0.18078614300542661},null,212,{"$f":"COUNTIF(L135:L166,AN12)","v":0},{"$f":"AO12/(AQ4-AO11)","v":0},{"$f":"IF(AP12=0,0,(AP12*((LOG(AP12))/LOG(2))))","v":0},null,212,{"$f":"COUNTIF(L167:L198,AS12)","v":0},{"$f":"AT12/(AV4-AT11)","v":0},{"$f":"IF(AU12=0,0,(AU12*((LOG(AU12))/LOG(2))))","v":0}]
[12,915,13,918,13,924,null,null,null,null,0,111,null,221,0,0,0,null,null,221,{"$f":"COUNTIF(L7:L38,T13)","v":0},{"$f":"U13/(W4-U11)","v":0},{"$f":"IF(V13=0,0,(V13*((LOG(V13))/LOG(2))))","v":0},null,221,{"$f":"COUNTIF(L39:L70,Y13)","v":0},{"$f":"Z13/(AB4-Z11)","v":0},{"$f":"IF(AA13=0,0,(AA13*((LOG(AA13))/LOG(2))))","v":0},null,221,{"$f":"COUNTIF(L71:L102,AD13)","v":0},{"$f":"AE13/(AG4-AE11)","v":0},{"$f":"IF(AF13=0,0,(AF13*((LOG(AF13))/LOG(2))))","v":0},null,221,{"$f":"COUNTIF(L103:L134,AI13)","v":0},{"$f":"AJ13/(AL4-AJ11)","v":0},{"$f":"IF(AK13=0,0,(AK13*((LOG(AK13))/LOG(2))))","v":0},null,221,{"$f":"COUNTIF(L135:L166,AN13)","v":0},{"$f":"AO13/(AQ4-AO11)","v":0},{"$f":"IF(AP13=0,0,(AP13*((LOG(AP13))/LOG(2))))","v":0},null,221,{"$f":"COUNTIF(L167:L198,AS13)","v":0},{"$f":"AT13/(AV4-AT11)","v":0},{"$f":"IF(AU13=0,0,(AU13*((LOG(AU13))/LOG(2))))","v":0}]
[12,1021,24,1035,13,1054,null,null,null,null,0,121,null,222,2,1.0416666666666666E-2,-6.8593359382512042E-2,null,null,222,{"$f":"COUNTIF(L7:L38,T14)","v":1},{"$f":"U14/(W4-U11)","v":3.2258064516129031E-2},{"$f":"IF(V14=0,0,(V14*((LOG(V14))/LOG(2))))","v":-0.15981278420602821},null,222,{"$f":"COUNTIF(L39:L70,Y14)","v":0},{"$f":"Z14/(AB4-Z11)","v":0},{"$f":"IF(AA14=0,0,(AA14*((LOG(AA14))/LOG(2))))","v":0},null,222,{"$f":"COUNTIF(L71:L102,AD14)","v":0},{"$f":"AE14/(AG4-AE11)","v":0},{"$f":"IF(AF14=0,0,(AF14*((LOG(AF14))/LOG(2))))","v":0},null,222,{"$f":"COUNTIF(L103:L134,AI14)","v":1},{"$f":"AJ14/(AL4-AJ11)","v":3.8461538461538464E-2},{"$f":"IF(AK14=0,0,(AK14*((LOG(AK14))/LOG(2))))","v":-0.18078614300542661},null,222,{"$f":"COUNTIF(L135:L166,AN14)","v":0},{"$f":"AO14/(AQ4-AO11)","v":0},{"$f":"IF(AP14=0,0,(AP14*((LOG(AP14))/LOG(2))))","v":0},null,222,{"$f":"COUNTIF(L167:L198,AS14)","v":0},{"$f":"AT14/(AV4-AT11)","v":0},{"$f":"IF(AU14=0,0,(AU14*((LOG(AU14))/LOG(2))))","v":0}]
[12,1175,13,1180,13,1184,null,null,null,null,0,111,null,null,null,{"$f":"SUM(P7:P14)","v":1},{"$f":"-SUM(Q7:Q14)","v":1.715653573466406},null,null,null,null,{"$f":"SUM(V7:V14)","v":1},{"$f":"-SUM(W7:W14)","v":1.4674206216078274},null,null,null,{"$f":"SUM(AA7:AA14)","v":1},{"$f":"-SUM(AB7:AB14)","v":1.0270582666007906},null,null,null,{"$f":"SUM(AF7:AF14)","v":1},{"$f":"-SUM(AG7:AG14)","v":0.85193257921703314},null,null,null,{"$f":"SUM(AK7:AK14)","v":0.99999999999999989},{"$f":"-SUM(AL7:AL14)","v":1.3670439296642289},null,null,null,{"$f":"SUM(AP7:AP14)","v":1},{"$f":"-SUM(AQ7:AQ14)","v":1.7646946861307389},null,null,null,{"$f":"SUM(AU7:AU14)","v":1},{"$f":"-SUM(AV7:AV14)","v":0.8812908992306927}]
[12,1277,13,1281,13,1289,null,null,null,null,0,111,null,null,null,"U=",{"$f":"Q15/(LOG(Q4)/LOG(2))","v":0.22619143776957193},null,null,null,null,"U1=",{"$f":"W15/(LOG(W4)/LOG(2))","v":0.29348412432156545},null,null,null,"U2=",{"$f":"AB15/(LOG(AB4)/LOG(2))","v":0.20541165332015812},null,null,null,"U3=",{"$f":"AG15/(LOG(AG4)/LOG(2))","v":0.17038651584340664},null,null,null,"U4=",{"$f":"AL15/(LOG(AL4)/LOG(2))","v":0.27340878593284579},null,null,null,"U5=",{"$f":"AQ15/(LOG(AQ4)/LOG(2))","v":0.35293893722614778},null,null,null,"U6=",{"$f":"AV15/(LOG(AV4)/LOG(2))","v":0.17625817984613854}]
[12,1387,13,1393,24,1405,null,null,null,null,0,112]
[12,1499,13,1504,13,1510,null,null,null,null,0,111]
[12,1605,13,1612,13,1617,null,null,null,null,0,111,null,"Total Target Seq"]
[12,1729,13,1736,24,1747,null,null,null,null,0,112,null,{"$f":"COUNTIF(L7:L198,G3)","v":25},null,32,32,32,32,32,32]
[12,1839,13,1843,13,1848,null,null,null,null,0,111,null,null,null,"% of reinforcement given in 6 equal intervals based on number of trials "]
[12,1994,13,2010,24,2023,null,null,null,null,0,112,null,null,null,"%_1","%_2","%_3","%_4","%_5","%_6"]
[12,2118,13,2125,13,2131,null,null,null,null,0,111,null,null,"target sequence",{"$f":"$G$3","v":211},211,211,211,211,211]
[12,2226,13,2228,13,2234,null,null,null,null,0,111,null,null,"total reinforcement",{"$f":"U11","v":1},{"$f":"Z11","v":4},{"$f":"AE11","v":2},{"$f":"AJ11","v":6},{"$f":"AO11","v":10},{"$f":"AT11","v":2}]
[12,2327,13,2338,13,2343,null,null,null,null,0,111,null,null,"% target"]
[12,2441,13,2446,13,2451,null,null,null,null,0,111,null,null,"CCRF"]
[12,2559,13,2563,13,2568,null,null,null,null,0,111,null,null,"% CCRf"]
[12,2675,13,2683,24,2696,null,null,null,null,0,112,null,null,"average response rate",{"$f":"F38/P20","v":122.84375},{"$f":"(F70-F38)/Q20","v":154},{"$f":"(F102-F70)/R20","v":114.90625},{"$f":"(F134-F102)/S20","v":114.53125},{"$f":"(F166-F134)/T20","v":123.28125},{"$f":"(F198-F166)/U20","v":118.46875}]
[12,2799,13,2809,24,2822,null,null,null,null,0,112]
[12,2927,13,2936,13,2944,null,null,null,null,0,111]
[12,3046,13,3054,13,3058,null,null,null,null,0,111]
[12,3153,24,3167,24,3171,null,null,null,null,0,122]
[12,3270,13,3272,13,3285,null,null,null,null,0,111]
[12,3465,13,3476,13,3480,null,null,null,null,0,111]
[12,3574,13,3583,13,3590,null,null,null,null,0,111]
[12,3693,13,3698,13,3704,null,null,null,null,0,111]
[12,3810,13,3815,13,3820,null,null,null,null,0,111]
[21,3918,22,3924,24,3931,null,null,null,null,0,222]
[12,4023,13,4026,13,4031,null,null,null,null,0,111]
[12,4124,13,4131,13,4137,null,null,null,null,0,111]
[12,4233,13,4237,13,4243,null,null,null,null,0,111]
[12,4339,13,4344,13,4347,null,null,null,null,0,111]
[12,4451,24,4470,24,4481,null,null,null,null,0,122]
[12,4580,13,4597,13,4604,null,null,null,null,0,111]
[12,4697,13,4702,13,4707,null,null,null,null,0,111]
[12,5779,13,5783,13,5790,null,null,null,null,0,111]
[21,5890,11,5900,11,5910,null,null,null,null,0,211]
[12,6086,13,6097,24,6118,null,null,null,null,0,112]
[12,6212,13,6219,13,6224,null,null,null,null,0,111]
[21,6320,11,6333,11,6340,null,null,null,null,0,211]
[12,6506,13,6510,13,6517,null,null,null,null,0,111]
[12,6611,13,6618,24,6633,null,null,null,null,0,112]
[12,6767,13,6777,13,6782,null,null,null,null,0,111]
[12,6877,13,6885,13,6891,null,null,null,null,0,111]
[12,6983,13,6986,13,6990,null,null,null,null,0,111]
[12,7142,13,7148,13,7155,null,null,null,null,0,111]
[21,7250,11,7262,11,7271,null,null,null,null,0,211]
[12,7373,13,7385,24,7394,null,null,null,null,0,112]
[12,7488,13,7497,13,7505,null,null,null,null,0,111]
[12,7598,13,7602,13,7608,null,null,null,null,0,111]
[21,7705,11,7717,11,7724,null,null,null,null,0,211]
[12,7865,24,7883,24,7890,null,null,null,null,0,122]
[12,8017,13,8025,13,8033,null,null,null,null,0,111]
[12,8139,13,8148,13,8155,null,null,null,null,0,111]
[12,8249,13,8256,13,8263,null,null,null,null,0,111]
[12,8357,13,8361,24,8382,null,null,null,null,0,112]
[12,8490,13,8499,13,8506,null,null,null,null,0,111]
[12,8602,13,8609,13,8619,null,null,null,null,0,111]
[12,8726,13,8737,13,8744,null,null,null,null,0,111]
[12,8838,13,8846,24,8859,null,null,null,null,0,112]
[12,8953,13,8961,24,8973,null,null,null,null,0,112]
[12,9073,13,9081,24,9093,null,null,null,null,0,112]
[12,9185,13,9188,13,9193,null,null,null,null,0,111]
[12,9287,13,9298,13,9304,null,null,null,null,0,111]
[12,9402,13,9405,13,9412,null,null,null,null,0,111]
[12,9517,13,9531,24,9543,null,null,null,null,0,112]
[12,9636,13,9639,13,9644,null,null,null,null,0,111]
[12,9738,13,9742,13,9748,null,null,null,null,0,111]
[12,9846,13,9854,13,9860,null,null,null,null,0,111]
[12,9955,24,9967,13,9981,null,null,null,null,0,121]
[12,10073,13,10078,13,10081,null,null,null,null,0,111]
[12,10181,13,10186,13,10192,null,null,null,null,0,111]
[12,10284,13,10288,13,10295,null,null,null,null,0,111]
[12,10391,13,10399,24,10420,null,null,null,null,0,112]
[12,10514,13,10520,13,10522,null,null,null,null,0,111]
[12,10615,13,10618,13,10623,null,null,null,null,0,111]
[12,10715,13,10718,13,10724,null,null,null,null,0,111]
[12,10830,13,10839,13,10847,null,null,null,null,0,111]
[21,10946,11,10958,11,10966,null,null,null,null,0,211]
[12,11185,13,11189,13,11195,null,null,null,null,0,111]
[21,11292,11,11298,11,11304,null,null,null,null,0,211]
[12,11429,13,11433,13,11439,null,null,null,null,0,111]
[12,11533,13,11537,13,11548,null,null,null,null,0,111]
[12,11653,13,11658,13,11665,null,null,null,null,0,111]
[12,11759,13,11766,13,11772,null,null,null,null,0,111]
[12,11867,13,11875,24,11891,null,null,null,null,0,112]
[12,11984,13,11990,13,11995,null,null,null,null,0,111]
[12,12090,13,12098,13,12105,null,null,null,null,0,111]
[12,12198,13,12207,13,12214,null,null,null,null,0,111]
[12,12310,13,12315,13,12321,null,null,null,null,0,111]
[12,12414,13,12418,13,12427,null,null,null,null,0,111]
[12,12525,13,12530,13,12536,null,null,null,null,0,111]
[12,12635,13,12640,13,12645,null,null,null,null,0,111]
[12,12741,13,12745,24,12761,null,null,null,null,0,112]
[12,12856,13,12861,13,12866,null,null,null,null,0,111]
[12,12961,13,12967,13,12971,null,null,null,null,0,111]
[12,13063,13,13067,13,13073,null,null,null,null,0,111]
[12,13168,13,13173,13,13180,null,null,null,null,0,111]
[21,13277,11,13287,11,13294,null,null,null,null,0,211]
[12,13388,13,13394,13,13400,null,null,null,null,0,111]
[21,13500,22,13509,24,13517,null,null,null,null,0,222]
[12,13611,13,13617,13,13625,null,null,null,null,0,111]
[12,13719,13,13729,13,13735,null,null,null,null,0,111]
[12,13834,13,13843,13,13852,null,null,null,null,0,111]
[12,13949,24,13977,24,13986,null,null,null,null,0,122]
[12,14082,13,14095,13,14103,null,null,null,null,0,111]
[12,14198,13,14203,13,14209,null,null,null,null,0,111]
[12,14304,13,14307,13,14312,null,null,null,null,0,111]
[12,14409,13,14412,13,14417,null,null,null,null,0,111]
[12,14513,13,14518,13,14525,null,null,null,null,0,111]
[12,14618,13,14622,13,14627,null,null,null,null,0,111]
[21,14724,11,14732,11,14737,null,null,null,null,0,211]
[12,14866,13,14872,24,14887,null,null,null,null,0,112]
[12,14985,13,14989,13,14994,null,null,null,null,0,111]
[21,15094,11,15104,11,15110,null,null,null,null,0,211]
[21,15225,11,15232,22,15247,null,null,null,null,0,212]
[12,15340,13,15343,13,15347,null,null,null,null,0,111]
[21,15446,11,15455,11,15460,null,null,null,null,0,211]
[21,15564,11,15572,11,15580,null,null,null,null,0,211]
[12,15707,13,15714,24,15724,null,null,null,null,0,112]
[12,15827,13,15835,24,15851,null,null,null,null,0,112]
[12,15946,13,15951,24,15962,null,null,null,null,0,112]
[12,16066,13,16070,13,16077,null,null,null,null,0,111]
[21,16176,11,16193,11,16201,null,null,null,null,0,211]
[21,16322,11,16330,11,16336,null,null,null,null,0,211]
[12,16480,24,16496,24,16503,null,null,null,null,0,122]
[21,16605,11,16618,11,16626,null,null,null,null,0,211]
[12,16753,13,16758,13,16763,null,null,null,null,0,111]
[12,16857,13,16864,13,16869,null,null,null,null,0,111]
[21,16961,11,16970,11,16974,null,null,null,null,0,211]
[21,17069,11,17077,11,17096,null,null,null,null,0,211]
[12,17252,13,17256,24,17267,null,null,null,null,0,112]
[21,17363,11,17373,11,17382,null,null,null,null,0,211]
[12,17505,13,17513,24,17536,null,null,null,null,0,112]
[12,17641,13,17647,13,17652,null,null,null,null,0,111]
[21,17747,11,17755,11,17761,null,null,null,null,0,211]
[12,17866,24,17884,24,17892,null,null,null,null,0,122]
[12,17987,13,17996,24,18007,null,null,null,null,0,112]
[12,18106,13,18115,24,18130,null,null,null,null,0,112]
[12,18224,13,18228,13,18233,null,null,null,null,0,111]
[21,18328,11,18335,11,18340,null,null,null,null,0,211]
[12,18445,13,18455,24,18465,null,null,null,null,0,112]
[12,18559,13,18564,13,18569,null,null,null,null,0,111]
[12,18661,13,18664,13,18669,null,null,null,null,0,111]
[12,18765,13,18770,13,18781,null,null,null,null,0,111]
[12,18876,13,18880,24,18891,null,null,null,null,0,112]
[21,18990,11,19002,11,19015,null,null,null,null,0,211]
[12,19113,24,19124,24,19131,null,null,null,null,0,122]
[21,19227,11,19236,11,19242,null,null,null,null,0,211]
[12,19365,24,19380,13,19397,null,null,null,null,0,121]
[21,19493,11,19503,11,19514,null,null,null,null,0,211]
[12,19667,24,19680,13,19691,null,null,null,null,0,121]
[12,19795,13,19801,13,19807,null,null,null,null,0,111]
[12,19909,13,19914,24,19927,null,null,null,null,0,112]
[12,20020,13,20028,13,20034,null,null,null,null,0,111]
[12,20129,13,20132,24,20146,null,null,null,null,0,112]
[12,20253,13,20257,24,20269,null,null,null,null,0,112]
[12,20366,13,20371,13,20378,null,null,null,null,0,111]
[12,20479,13,20484,24,20495,null,null,null,null,0,112]
[12,20588,13,20594,13,20599,null,null,null,null,0,111]
[12,20703,13,20714,24,20725,null,null,null,null,0,112]
[12,20829,13,20834,13,20843,null,null,null,null,0,111]
[12,20939,13,20944,13,20948,null,null,null,null,0,111]
[12,21113,13,21118,13,21123,null,null,null,null,0,111]
[21,21222,11,21239,11,21247,null,null,null,null,0,211]
[12,21349,13,21355,24,21373,null,null,null,null,0,112]
[12,21476,13,21481,24,21497,null,null,null,null,0,112]
[12,21592,13,21597,13,21610,null,null,null,null,0,111]
[12,21719,13,21724,13,21730,null,null,null,null,0,111]
[12,21829,13,21835,13,21840,null,null,null,null,0,111]
[12,21933,13,21940,13,21946,null,null,null,null,0,111]
[12,22059,13,22064,13,22071,null,null,null,null,0,111]
[12,22187,13,22192,13,22199,null,null,null,null,0,111]
[12,22293,13,22297,24,22316,null,null,null,null,0,112]
[12,22413,13,22421,13,22427,null,null,null,null,0,111]
[12,22537,13,22541,13,22546,null,null,null,null,0,111]
[21,22644,11,22655,11,22660,null,null,null,null,0,211]
[12,22760,13,22765,24,22780,null,null,null,null,0,112]
[12,22880,13,22885,13,22892,null,null,null,null,0,111]
[12,22988,13,22994,13,22999,null,null,null,null,0,111]
[12,23101,13,23106,13,23110,null,null,null,null,0,111]
[12,23205,13,23213,24,23223,null,null,null,null,0,112]
[12,23320,13,23329,13,23336,null,null,null,null,0,111]
[12,23469,13,23474,13,23478,null,null,null,null,0,111]
[12,23573,13,23581,24,23595,null,null,null,null,0,112]
[12,23692,13,23695,13,23700,null,null,null,null,0,111]
[12,23802,13,23808,13,23827,null,null,null,null,0,111]
[12,23922,13,23930,13,23937,null,null,null,null,null,111]

{"sheet":"!MC2092I.sha","index":7,"n_rows":197,"n_cols":48,"rows_kept":197,"cut":false,"hidden":false,"merged":[[1,1,1,2],[5,13,5,14],[18,13,18,14],[19,13,19,14],[4,19,4,22],[5,19,5,20],[4,39,4,42],[5,39,5,40],[4,44,4,47],[5,44,5,45],[4,24,4,27],[5,24,5,25],[4,29,4,32],[5,29,5,30],[4,34,4,37],[5,34,5,35]]}
["Report for:!MC2092I.sha"]
["Date:","<date>"]
["Hen:","<hen>",null,null,null,"Correct Sequence",{"$f":"Start!J2","v":211},null,null,null,null,null,null,null,null,"Total Sequences in Data",{"$f":"4994-COUNTBLANK(L7:L5000)","v":191},null,null,null,null,"Total Sequences in Block Data",{"$f":"COUNTA(L7:L38)","v":32},null,null,null,"Total Sequences in Block Data",{"$f":"COUNTA(L39:L70)","v":32},null,null,null,"Total Sequences in Block Data",{"$f":"COUNTA(L71:L101)","v":31},null,null,null,"Total Sequences in Block Data",{"$f":"COUNTA(L102:L133)","v":32},null,null,null,"Total Sequences in Block Data",{"$f":"COUNTA(L134:L165)","v":32},null,null,null,"Total Sequences in Block Data",{"$f":"COUNTA(L166:L197)","v":32}]
[null,null,null,null,null,null,null,null,null,null,null,null,null,null,null,"Total Sequences in Summary",{"$f":"SUM(O7:O14)","v":191},null,null,null,null,"Total Sequences in Block Summary",{"$f":"SUM(U7:U14)","v":32},null,null,null,"Total Sequences in Block Summary",{"$f":"SUM(Z7:Z14)","v":32},null,null,null,"Total Sequences in Block Summary",{"$f":"SUM(AE7:AE14)","v":31},null,null,null,"Total Sequences in Block Summary",{"$f":"SUM(AJ7:AJ14)","v":32},null,null,null,"Total Sequences in Block Summary",{"$f":"SUM(AO7:AO14)","v":32},null,null,null,"Total Sequences in Block Summary",{"$f":"SUM(AT7:AT14)","v":32}]
[null,null,null,null,null,null,null,null,null,null,null,null,null,null,null,null,null,null,null,"Block 1",null,null,null,null,"Block 2",null,null,null,null,"Block 3",null,null,null,null,"Block 4",null,null,null,null,"Block 5",null,null,null,null,"Block 6"]
["Sequence\nComponent\n1","Time\n1","Sequence\nComponent\n2","Time\n2","Sequence\nComponent\n3","Time\n3","Sequence\nComponent\n4","Time\n4","Sequence\nComponent\n5","Time\n5","Correct?\n0=No 1=Yes","Sequence",null,"Frequency",null,"Relative Frequency","Variability",null,null,"Frequency",null,"Relative Frequency","Variability",null,"Frequency",null,"Relative Frequency","Variability",null,"Frequency",null,"Relative Frequency","Variability",null,"Frequency",null,"Relative Frequency","Variability",null,"Frequency",null,"Relative Frequency","Variability",null,"Frequency",null,"Relative Frequency","Variability"]
[12,14,24,30,13,38,null,null,null,null,0,121,null,111,{"$f":"COUNTIF($L$7:$L$500,N7)","v":91},{"$f":"O7/$Q$4","v":0.47643979057591623},{"$f":"IF(P7=0,0,(P7*((LOG(P7))/LOG(2))))","v":-0.50961628844592555},null,null,{"$f":"N7","v":111},{"$f":"COUNTIF(L7:L38,T7)","v":25},{"$f":"U7/(W4-U11)","v":0.80645161290322576},{"$f":"IF(V7=0,0,(V7*((LOG(V7))/LOG(2))))","v":-0.25027429081625047},null,{"$f":"N7","v":111},{"$f":"COUNTIF(L39:L70,Y7)","v":19},{"$f":"Z7/(AB4-Z11)","v":0.6333333333333333},{"$f":"IF(AA7=0,0,(AA7*((LOG(AA7))/LOG(2))))","v":-0.41734328537112425},null,{"$f":"N7","v":111},{"$f":"COUNTIF(L71:L101,AD7)","v":21},{"$f":"AE7/(AG4-AE11)","v":0.75},{"$f":"IF(AF7=0,0,(AF7*((LOG(AF7))/LOG(2))))","v":-0.31127812445913283},null,{"$f":"N7","v":111},{"$f":"COUNTIF(L102:L133,AI7)","v":12},{"$f":"AJ7/(AL4-AJ11)","v":0.48},{"$f":"IF(AK7=0,0,(AK7*((LOG(AK7))/LOG(2))))","v":-0.50826897074571287},null,{"$f":"N7","v":111},{"$f":"COUNTIF(L134:L165,AN7)","v":9},{"$f":"AO7/(AQ4-AO11)","v":0.36},{"$f":"IF(AP7=0,0,(AP7*((LOG(AP7))/LOG(2))))","v":-0.53061522779966841},null,{"$f":"N7","v":111},{"$f":"COUNTIF(L166:L197,AS7)","v":5},{"$f":"AT7/(AV4-AT11)","v":0.26315789473684209},{"$f":"IF(AU7=0,0,(AU7*((LOG(AU7))/LOG(2))))","v":-0.50684195225163764}]
[21,137,11,145,11,155,null,null,null,null,0,211,null,112,52,0.27225130890052357,-0.51101274196084889,null,null,112,{"$f":"COUNTIF(L7:L38,T8)","v":5},{"$f":"U8/(W4-U11)","v":0.16129032258064516},{"$f":"IF(V8=0,0,(V8*((LOG(V8))/LOG(2))))","v":-0.42455938959669559},null,112,{"$f":"COUNTIF(L39:L70,Y8)","v":10},{"$f":"Z8/(AB4-Z11)","v":0.33333333333333331},{"$f":"IF(AA8=0,0,(AA8*((LOG(AA8))/LOG(2))))","v":-0.52832083357371862},null,112,{"$f":"COUNTIF(L71:L101,AD8)","v":7},{"$f":"AE8/(AG4-AE11)","v":0.25},{"$f":"IF(AF8=0,0,(AF8*((LOG(AF8))/LOG(2))))","v":-0.5},null,112,{"$f":"COUNTIF(L102:L133,AI8)","v":10},{"$f":"AJ8/(AL4-AJ11)","v":0.4},{"$f":"IF(AK8=0,0,(AK8*((LOG(AK8))/LOG(2))))","v":-0.52877123795494496},null,112,{"$f":"COUNTIF(L134:L165,AN8)","v":10},{"$f":"AO8/(AQ4-AO11)","v":0.4},{"$f":"IF(AP8=0,0,(AP8*((LOG(AP8))/LOG(2))))","v":-0.52877123795494496},null,112,{"$f":"COUNTIF(L166:L197,AS8)","v":10},{"$f":"AT8/(AV4-AT11)","v":0.52631578947368418},{"$f":"IF(AU8=0,0,(AU8*((LOG(AU8))/LOG(2))))","v":-0.4873681150295911}]
[12,314,13,320,24,337,null,null,null,null,0,112,null,121,2,1.0471204188481676E-2,-6.8873600293568052E-2,null,null,121,{"$f":"COUNTIF(L7:L38,T9)","v":1},{"$f":"U9/(W4-U11)","v":3.2258064516129031E-2},{"$f":"IF(V9=0,0,(V9*((LOG(V9))/LOG(2))))","v":-0.15981278420602821},null,121,{"$f":"COUNTIF(L39:L70,Y9)","v":0},{"$f":"Z9/(AB4-Z11)","v":0},{"$f":"IF(AA9=0,0,(AA9*((LOG(AA9))/LOG(2))))","v":0},null,121,{"$f":"COUNTIF(L71:L101,AD9)","v":0},{"$f":"AE9/(AG4-AE11)","v":0},{"$f":"IF(AF9=0,0,(AF9*((LOG(AF9))/LOG(2))))","v":0},null,121,{"$f":"COUNTIF(L102:L133,AI9)","v":0},{"$f":"AJ9/(AL4-AJ11)","v":0},{"$f":"IF(AK9=0,0,(AK9*((LOG(AK9))/LOG(2))))","v":0},null,121,{"$f":"COUNTIF(L134:L165,AN9)","v":0},{"$f":"AO9/(AQ4-AO11)","v":0},{"$f":"IF(AP9=0,0,(AP9*((LOG(AP9))/LOG(2))))","v":0},null,121,{"$f":"COUNTIF(L166:L197,AS9)","v":1},{"$f":"AT9/(AV4-AT11)","v":5.2631578947368418E-2},{"$f":"IF(AU9=0,0,(AU9*((LOG(AU9))/LOG(2))))","v":-0.22357513228650452}]
[12,433,13,437,13,443,null,null,null,null,0,111,null,122,3,1.5706806282722512E-2,-9.4122507758867949E-2,null,null,122,{"$f":"COUNTIF(L7:L38,T10)","v":0},{"$f":"U10/(W4-U11)","v":0},{"$f":"IF(V10=0,0,(V10*((LOG(V10))/LOG(2))))","v":0},null,122,{"$f":"COUNTIF(L39:L70,Y10)","v":0},{"$f":"Z10/(AB4-Z11)","v":0},{"$f":"IF(AA10=0,0,(AA10*((LOG(AA10))/LOG(2))))","v":0},null,122,{"$f":"COUNTIF(L71:L101,AD10)","v":0},{"$f":"AE10/(AG4-AE11)","v":0},{"$f":"IF(AF10=0,0,(AF10*((LOG(AF10))/LOG(2))))","v":0},null,122,{"$f":"COUNTIF(L102:L133,AI10)","v":0},{"$f":"AJ10/(AL4-AJ11)","v":0},{"$f":"IF(AK10=0,0,(AK10*((LOG(AK10))/LOG(2))))","v":0},null,122,{"$f":"COUNTIF(L134:L165,AN10)","v":2},{"$f":"AO10/(AQ4-AO11)","v":0.08},{"$f":"IF(AP10=0,0,(AP10*((LOG(AP10))/LOG(2))))","v":-0.29150849518197797},null,122,{"$f":"COUNTIF(L166:L197,AS10)","v":1},{"$f":"AT10/(AV4-AT11)","v":5.2631578947368418E-2},{"$f":"IF(AU10=0,0,(AU10*((LOG(AU10))/LOG(2))))","v":-0.22357513228650452}]
[12,539,13,545,13,550,null,null,null,null,0,111,null,211,33,0.17277486910994763,-0.43764474024267402,null,null,211,{"$f":"COUNTIF(L7:L38,T11)","v":1},null,null,null,211,{"$f":"COUNTIF(L39:L70,Y11)","v":2},null,null,null,211,{"$f":"COUNTIF(L71:L101,AD11)","v":3},null,null,null,211,{"$f":"COUNTIF(L102:L133,AI11)","v":7},null,null,null,211,{"$f":"COUNTIF(L134:L165,AN11)","v":7},null,null,null,211,{"$f":"COUNTIF(L166:L197,AS11)","v":13}]
[12,644,13,650,13,654,null,null,null,null,0,111,null,212,8,4.1884816753926704E-2,-0.1917247676664188,null,null,212,{"$f":"COUNTIF(L7:L38,T12)","v":0},{"$f":"U12/(W4-U11)","v":0},{"$f":"IF(V12=0,0,(V12*((LOG(V12))/LOG(2))))","v":0},null,212,{"$f":"COUNTIF(L39:L70,Y12)","v":1},{"$f":"Z12/(AB4-Z11)","v":3.3333333333333333E-2},{"$f":"IF(AA12=0,0,(AA12*((LOG(AA12))/LOG(2))))","v":-0.16356301985361729},null,212,{"$f":"COUNTIF(L71:L101,AD12)","v":0},{"$f":"AE12/(AG4-AE11)","v":0},{"$f":"IF(AF12=0,0,(AF12*((LOG(AF12))/LOG(2))))","v":0},null,212,{"$f":"COUNTIF(L102:L133,AI12)","v":3},{"$f":"AJ12/(AL4-AJ11)","v":0.12},{"$f":"IF(AK12=0,0,(AK12*((LOG(AK12))/LOG(2))))","v":-0.36706724268642821},null,212,{"$f":"COUNTIF(L134:L165,AN12)","v":3},{"$f":"AO12/(AQ4-AO11)","v":0.12},{"$f":"IF(AP12=0,0,(AP12*((LOG(AP12))/LOG(2))))","v":-0.36706724268642821},null,212,{"$f":"COUNTIF(L166:L197,AS12)","v":1},{"$f":"AT12/(AV4-AT11)","v":5.2631578947368418E-2},{"$f":"IF(AU12=0,0,(AU12*((LOG(AU12))/LOG(2))))","v":-0.22357513228650452}]
[12,749,13,752,13,756,null,null,null,null,0,111,null,221,0,0,0,null,null,221,{"$f":"COUNTIF(L7:L38,T13)","v":0},{"$f":"U13/(W4-U11)","v":0},{"$f":"IF(V13=0,0,(V13*((LOG(V13))/LOG(2))))","v":0},null,221,{"$f":"COUNTIF(L39:L70,Y13)","v":0},{"$f":"Z13/(AB4-Z11)","v":0},{"$f":"IF(AA13=0,0,(AA13*((LOG(AA13))/LOG(2))))","v":0},null,221,{"$f":"COUNTIF(L71:L101,AD13)","v":0},{"$f":"AE13/(AG4-AE11)","v":0},{"$f":"IF(AF13=0,0,(AF13*((LOG(AF13))/LOG(2))))","v":0},null,221,{"$f":"COUNTIF(L102:L133,AI13)","v":0},{"$f":"AJ13/(AL4-AJ11)","v":0},{"$f":"IF(AK13=0,0,(AK13*((LOG(AK13))/LOG(2))))","v":0},null,221,{"$f":"COUNTIF(L134:L165,AN13)","v":0},{"$f":"AO13/(AQ4-AO11)","v":0},{"$f":"IF(AP13=0,0,(AP13*((LOG(AP13))/LOG(2))))","v":0},null,221,{"$f":"COUNTIF(L166:L197,AS13)","v":0},{"$f":"AT13/(AV4-AT11)","v":0},{"$f":"IF(AU13=0,0,(AU13*((LOG(AU13))/LOG(2))))","v":0}]
[12,850,13,853,13,860,null,null,null,null,0,111,null,222,2,1.0471204188481676E-2,-6.8873600293568052E-2,null,null,222,{"$f":"COUNTIF(L7:L38,T14)","v":0},{"$f":"U14/(W4-U11)","v":0},{"$f":"IF(V14=0,0,(V14*((LOG(V14))/LOG(2))))","v":0},null,222,{"$f":"COUNTIF(L39:L70,Y14)","v":0},{"$f":"Z14/(AB4-Z11)","v":0},{"$f":"IF(AA14=0,0,(AA14*((LOG(AA14))/LOG(2))))","v":0},null,222,{"$f":"COUNTIF(L71:L101,AD14)","v":0},{"$f":"AE14/(AG4-AE11)","v":0},{"$f":"IF(AF14=0,0,(AF14*((LOG(AF14))/LOG(2))))","v":0},null,222,{"$f":"COUNTIF(L102:L133,AI14)","v":0},{"$f":"AJ14/(AL4-AJ11)","v":0},{"$f":"IF(AK14=0,0,(AK14*((LOG(AK14))/LOG(2))))","v":0},null,222,{"$f":"COUNTIF(L134:L165,AN14)","v":1},{"$f":"AO14/(AQ4-AO11)","v":0.04},{"$f":"IF(AP14=0,0,(AP14*((LOG(AP14))/LOG(2))))","v":-0.18575424759098899},null,222,{"$f":"COUNTIF(L166:L197,AS14)","v":1},{"$f":"AT14/(AV4-AT11)","v":5.2631578947368418E-2},{"$f":"IF(AU14=0,0,(AU14*((LOG(AU14))/LOG(2))))","v":-0.22357513228650452}]
[12,957,13,966,13,974,null,null,null,null,0,111,null,null,null,{"$f":"SUM(P7:P14)","v":1},{"$f":"-SUM(Q7:Q14)","v":1.8818682466618715},null,null,null,null,{"$f":"SUM(V7:V14)","v":0.99999999999999989},{"$f":"-SUM(W7:W14)","v":0.83464646461897418},null,null,null,{"$f":"SUM(AA7:AA14)","v":0.99999999999999989},{"$f":"-SUM(AB7:AB14)","v":1.1092271387984602},null,null,null,{"$f":"SUM(AF7:AF14)","v":1},{"$f":"-SUM(AG7:AG14)","v":0.81127812445913283},null,null,null,{"$f":"SUM(AK7:AK14)","v":1},{"$f":"-SUM(AL7:AL14)","v":1.4041074513870861},null,null,null,{"$f":"SUM(AP7:AP14)","v":1},{"$f":"-SUM(AQ7:AQ14)","v":1.9037164512140088},null,null,null,{"$f":"SUM(AU7:AU14)","v":0.99999999999999978},{"$f":"-SUM(AV7:AV14)","v":1.8885105964272468}]
[12,1078,13,1087,24,1099,null,null,null,null,0,112,null,null,null,"U=",{"$f":"Q15/(LOG(Q4)/LOG(2))","v":0.24835182083124849},null,null,null,null,"U1=",{"$f":"W15/(LOG(W4)/LOG(2))","v":0.16692929292379483},null,null,null,"U2=",{"$f":"AB15/(LOG(AB4)/LOG(2))","v":0.22184542775969204},null,null,null,"U3=",{"$f":"AG15/(LOG(AG4)/LOG(2))","v":0.16375574838611509},null,null,null,"U4=",{"$f":"AL15/(LOG(AL4)/LOG(2))","v":0.28082149027741721},null,null,null,"U5=",{"$f":"AQ15/(LOG(AQ4)/LOG(2))","v":0.38074329024280174},null,null,null,"U6=",{"$f":"AV15/(LOG(AV4)/LOG(2))","v":0.37770211928544939}]
[12,1195,13,1199,13,1207,null,null,null,null,0,111]
[12,1315,13,1327,13,1334,null,null,null,null,0,111]
[12,1427,13,1431,13,1439,null,null,null,null,0,111,null,"Total Target Seq"]
[12,1534,13,1541,13,1545,null,null,null,null,0,111,null,{"$f":"COUNTIF(L7:L197,G3)","v":33},null,32,32,31,32,32,32]
[12,1649,13,1672,13,1679,null,null,null,null,0,111,null,null,null,"% of reinforcement given in 6 equal intervals based on number of trials "]
[12,1775,13,1780,13,1787,null,null,null,null,0,111,null,null,null,"%_1","%_2","%_3","%_4","%_5","%_6"]
[12,1885,13,1889,13,1894,null,null,null,null,0,111,null,null,"target sequence",{"$f":"$G$3","v":211},211,211,211,211,211]
[12,1986,13,1990,13,1995,null,null,null,null,0,111,null,null,"total reinforcement",{"$f":"U11","v":1},{"$f":"Z11","v":2},{"$f":"AE11","v":3},{"$f":"AJ11","v":7},{"$f":"AO11","v":7},{"$f":"AT11","v":13}]
[12,2109,13,2114,13,2120,null,null,null,null,0,111,null,null,"% target"]
[12,2224,13,2230,13,2237,null,null,null,null,0,111,null,null,"CCRF"]
[12,2345,13,2355,13,2362,null,null,null,null,0,111,null,null,"% CCRf"]
[12,2461,13,2472,24,2485,null,null,null,null,0,112,null,null,"average response rate",{"$f":"F38/P20","v":112.1875},{"$f":"(F70-F38)/Q20","v":126.5625},{"$f":"(F101-F70)/R20","v":121.09677419354838},{"$f":"(F133-F101)/S20","v":130.78125},{"$f":"(F165-F133)/T20","v":125.4375},{"$f":"(F197-F165)/U20","v":130.90625}]
[12,2579,13,2585,13,2590,null,null,null,null,0,111]
[12,2695,13,2701,24,2718,null,null,null,null,0,112]
[12,2817,13,2821,13,2826,null,null,null,null,0,111]
[12,2925,13,2932,24,2945,null,null,null,null,0,112]
[12,3042,13,3049,13,3054,null,null,null,null,0,111]
[12,3154,13,3159,13,3163,null,null,null,null,0,111]
[12,3258,13,3262,13,3266,null,null,null,null,0,111]
[12,3361,13,3366,13,3371,null,null,null,null,0,111]
[12,3465,13,3469,13,3474,null,null,null,null,0,111]
[12,3574,13,3583,13,3590,null,null,null,null,0,111]
[12,3687,13,3692,13,3698,null,null,null,null,0,111]
[12,3803,13,3808,13,3818,null,null,null,null,0,111]
[12,3918,13,3927,24,3940,null,null,null,null,0,112]
[12,4049,13,4054,13,4062,null,null,null,null,0,111]
[12,4169,13,4173,24,4186,null,null,null,null,0,112]
[12,4299,13,4303,13,4309,null,null,null,null,0,111]
[12,4407,13,4416,13,4422,null,null,null,null,0,111]
[12,4530,13,4536,24,4549,null,null,null,null,0,112]
[12,4672,13,4676,13,4682,null,null,null,null,0,111]
[12,4776,13,4780,13,4785,null,null,null,null,0,111]
[21,4880,11,4891,11,4898,null,null,null,null,0,211]
[12,5137,13,5143,13,5148,null,null,null,null,0,111]
[12,5253,13,5257,24,5270,null,null,null,null,0,112]
[12,5366,13,5371,13,5376,null,null,null,null,0,111]
[12,5568,13,5586,13,5591,null,null,null,null,0,111]
[12,5718,13,5724,24,5746,null,null,null,null,0,112]
[12,5849,13,5854,13,5861,null,null,null,null,0,111]
[12,5956,13,5960,13,5965,null,null,null,null,0,111]
[12,6069,13,6073,13,6078,null,null,null,null,0,111]
[21,6175,11,6184,22,6198,null,null,null,null,0,212]
[12,6302,13,6308,13,6312,null,null,null,null,0,111]
[12,6409,13,6414,13,6421,null,null,null,null,0,111]
[21,6517,11,6526,11,6531,null,null,null,null,0,211]
[12,6666,13,6671,13,6676,null,null,null,null,0,111]
[12,6775,13,6784,24,6796,null,null,null,null,0,112]
[12,6899,13,6904,24,6914,null,null,null,null,0,112]
[12,7012,13,7027,24,7043,null,null,null,null,0,112]
[12,7140,13,7145,24,7158,null,null,null,null,0,112]
[12,7270,13,7298,13,7303,null,null,null,null,0,111]
[12,7406,13,7411,24,7423,null,null,null,null,0,112]
[12,7522,13,7532,13,7536,null,null,null,null,0,111]
[12,7629,13,7632,13,7640,null,null,null,null,0,111]
[12,7734,13,7744,24,7756,null,null,null,null,0,112]
[12,7852,13,7856,13,7862,null,null,null,null,0,111]
[12,8002,13,8028,13,8036,null,null,null,null,0,111]
[12,8131,13,8135,13,8139,null,null,null,null,0,111]
[12,8233,13,8236,13,8242,null,null,null,null,0,111]
[12,8336,13,8347,13,8353,null,null,null,null,0,111]
[12,8447,13,8451,13,8455,null,null,null,null,0,111]
[12,8564,13,8578,24,8594,null,null,null,null,0,112]
[12,8693,13,8700,13,8705,null,null,null,null,0,111]
[21,8799,11,8808,11,8812,null,null,null,null,0,211]
[12,8994,13,8999,24,9014,null,null,null,null,0,112]
[21,9111,11,9121,11,9133,null,null,null,null,0,211]
[12,9249,13,9258,13,9264,null,null,null,null,0,111]
[12,9369,13,9373,13,9377,null,null,null,null,0,111]
[12,9473,13,9484,13,9493,null,null,null,null,0,111]
[12,9588,13,9593,24,9605,null,null,null,null,0,112]
[12,9726,13,9731,13,9733,null,null,null,null,0,111]
[12,9826,13,9828,13,9832,null,null,null,null,0,111]
[12,9928,13,9934,13,9941,null,null,null,null,0,111]
[12,10039,13,10048,24,10067,null,null,null,null,0,112]
[12,10165,13,10175,13,10181,null,null,null,null,0,111]
[12,10278,13,10284,13,10290,null,null,null,null,0,111]
[21,10384,11,10392,11,10397,null,null,null,null,0,211]
[12,10578,13,10584,13,10590,null,null,null,null,0,111]
[12,10691,13,10698,24,10709,null,null,null,null,0,112]
[12,10813,13,10818,13,10832,null,null,null,null,0,111]
[12,10934,13,10938,13,10945,null,null,null,null,0,111]
[12,11054,13,11059,13,11065,null,null,null,null,0,111]
[12,11163,13,11168,24,11179,null,null,null,null,0,112]
[12,11273,13,11275,13,11280,null,null,null,null,0,111]
[12,11381,13,11387,13,11394,null,null,null,null,0,111]
[12,11499,13,11506,13,11512,null,null,null,null,0,111]
[12,11612,13,11618,13,11673,null,null,null,null,0,111]
[12,11829,13,11835,24,11846,null,null,null,null,0,112]
[21,11941,11,11950,11,11955,null,null,null,null,0,211]
[12,12147,13,12153,13,12158,null,null,null,null,0,111]
[21,12251,11,12260,11,12269,null,null,null,null,0,211]
[21,12391,11,12400,22,12418,null,null,null,null,0,212]
[12,12519,13,12530,24,12542,null,null,null,null,0,112]
[12,12637,13,12646,13,12653,null,null,null,null,0,111]
[21,12750,11,12758,11,12764,null,null,null,null,0,211]
[12,12914,13,12939,24,12950,null,null,null,null,0,112]
[12,13048,13,13053,13,13066,null,null,null,null,0,111]
[21,13157,11,13168,11,13173,null,null,null,null,0,211]
[12,13350,13,13361,13,13371,null,null,null,null,0,111]
[12,13466,13,13471,13,13476,null,null,null,null,0,111]
[12,13577,13,13585,24,13596,null,null,null,null,0,112]
[12,13698,13,13703,24,13715,null,null,null,null,0,112]
[12,13816,13,13826,24,13837,null,null,null,null,0,112]
[21,13934,11,13942,11,13949,null,null,null,null,0,211]
[21,14088,11,14099,22,14115,null,null,null,null,0,212]
[12,14210,13,14217,13,14223,null,null,null,null,0,111]
[12,14321,13,14330,13,14335,null,null,null,null,0,111]
[12,14429,13,14433,24,14455,null,null,null,null,0,112]
[12,14599,13,14605,13,14612,null,null,null,null,0,111]
[21,14708,11,14716,11,14720,null,null,null,null,0,211]
[12,14849,13,14863,24,14873,null,null,null,null,0,112]
[12,14968,13,14974,24,14985,null,null,null,null,0,112]
[12,15080,13,15087,24,15102,null,null,null,null,0,112]
[12,15206,13,15212,13,15217,null,null,null,null,0,111]
[12,15314,13,15318,13,15330,null,null,null,null,0,111]
[21,15430,11,15437,11,15444,null,null,null,null,0,211]
[21,15541,11,15560,22,15579,null,null,null,null,0,212]
[12,15673,13,15677,24,15691,null,null,null,null,0,112]
[12,15788,13,15792,13,15797,null,null,null,null,0,111]
[21,15892,11,15901,11,15922,null,null,null,null,0,211]
[21,16048,11,16057,11,16069,null,null,null,null,0,211]
[21,16251,11,16260,11,16266,null,null,null,null,0,211]
[21,16368,11,16376,22,16391,null,null,null,null,0,212]
[12,16491,24,16503,24,16511,null,null,null,null,0,122]
[21,16606,11,16614,11,16659,null,null,null,null,0,211]
[21,16773,22,16826,24,16834,null,null,null,null,0,222]
[12,16936,13,16940,24,16951,null,null,null,null,0,112]
[12,17045,13,17053,13,17059,null,null,null,null,0,111]
[12,17156,13,17160,24,17171,null,null,null,null,0,112]
[12,17267,13,17276,24,17286,null,null,null,null,0,112]
[12,17387,13,17397,13,17422,null,null,null,null,0,111]
[21,17516,11,17526,11,17535,null,null,null,null,0,211]
[12,17655,24,17680,24,17687,null,null,null,null,0,122]
[12,17784,13,17791,13,17797,null,null,null,null,0,111]
[21,17893,11,17901,11,17907,null,null,null,null,0,211]
[12,18051,13,18061,24,18071,null,null,null,null,0,112]
[12,18167,13,18171,13,18176,null,null,null,null,0,111]
[21,18268,11,18278,11,18283,null,null,null,null,0,211]
[21,18384,11,18403,22,18417,null,null,null,null,0,212]
[21,18514,11,18535,22,18548,null,null,null,null,0,212]
[12,18644,13,18649,13,18654,null,null,null,null,0,111]
[12,18757,13,18762,13,18789,null,null,null,null,0,111]
[12,18889,13,18894,24,18905,null,null,null,null,0,112]
[12,19002,13,19006,24,19019,null,null,null,null,0,112]
[12,19117,13,19123,24,19133,null,null,null,null,0,112]
[12,19233,13,19241,24,19251,null,null,null,null,0,112]
[12,19350,13,19356,13,19364,null,null,null,null,0,111]
[12,19460,13,19469,24,19485,null,null,null,null,0,112]
[12,19580,13,19588,13,19593,null,null,null,null,0,111]
[21,19686,11,19696,11,19700,null,null,null,null,0,211]
[12,19837,13,19847,24,19858,null,null,null,null,0,112]
[12,19961,13,19971,24,19981,null,null,null,null,0,112]
[21,20080,11,20089,11,20094,null,null,null,null,0,211]
[12,20219,24,20233,13,20256,null,null,null,null,0,121]
[21,20349,11,20358,11,20377,null,null,null,null,0,211]
[21,20469,22,20497,24,20504,null,null,null,null,0,222]
[12,20608,13,20613,24,20623,null,null,null,null,0,112]
[12,20721,13,20727,13,20734,null,null,null,null,0,111]
[12,20833,13,20838,24,20850,null,null,null,null,0,112]
[21,20942,11,20952,11,20982,null,null,null,null,0,211]
[21,21109,11,21117,11,21130,null,null,null,null,0,211]
[12,21301,24,21320,24,21328,null,null,null,null,0,122]
[21,21425,11,21433,11,21443,null,null,null,null,0,211]
[12,21576,13,21590,24,21601,null,null,null,null,0,112]
[12,21697,13,21701,24,21712,null,null,null,null,0,112]
[12,21808,13,21813,13,21818,null,null,null,null,0,111]
[12,21933,13,21939,24,21951,null,null,null,null,0,112]
[12,22048,13,22052,13,22075,null,null,null,null,0,111]
[12,22186,13,22199,24,22211,null,null,null,null,0,112]
[21,22305,11,22315,11,22327,null,null,null,null,0,211]
[21,22444,11,22452,11,22463,null,null,null,null,0,211]
[12,22636,13,22657,24,22669,null,null,null,null,0,112]
[21,22761,11,22776,11,22781,null,null,null,null,0,211]
[21,22894,11,22931,11,22945,null,null,null,null,0,211]
[12,23063,13,23072,13,23080,null,null,null,null,0,111]
[21,23178,11,23192,22,23203,null,null,null,null,0,212]
[12,23308,13,23315,13,23326,null,null,null,null,0,111]
[21,23424,11,23434,11,23439,null,null,null,null,0,211]
[12,23531,13,23537,24,23553,null,null,null,null,0,112]
[21,23648,11,23658,11,23663,null,null,null,null,0,211]
[21,23764,11,23775,11,23782,null,null,null,null,0,211]

{"sheet":"!MC2194I.sha","index":8,"n_rows":179,"n_cols":48,"rows_kept":179,"cut":false,"hidden":false,"merged":[[1,1,1,2],[5,13,5,14],[18,13,18,14],[19,13,19,14],[4,19,4,22],[5,19,5,20],[4,39,4,42],[5,39,5,40],[4,44,4,47],[5,44,5,45],[4,24,4,27],[5,24,5,25],[4,29,4,32],[5,29,5,30],[4,34,4,37],[5,34,5,35]]}
["Report for:!MC2194I.sha"]
["Date:","<date>"]
["Hen:","<hen>",null,null,null,"Correct Sequence",{"$f":"Start!J2","v":211},null,null,null,null,null,null,null,null,"Total Sequences in Data",{"$f":"4994-COUNTBLANK(L7:L5000)","v":173},null,null,null,null,"Total Sequences in Block Data",{"$f":"COUNTA(L7:L35)","v":29},null,null,null,"Total Sequences in Block Data",{"$f":"COUNTA(L36:L64)","v":29},null,null,null,"Total Sequences in Block Data",{"$f":"COUNTA(L65:L92)","v":28},null,null,null,"Total Sequences in Block Data",{"$f":"COUNTA(L93:L121)","v":29},null,null,null,"Total Sequences in Block Data",{"$f":"COUNTA(L122:L150)","v":29},null,null,null,"Total Sequences in Block Data",{"$f":"COUNTA(L151:L179)","v":29}]
[null,null,null,null,null,null,null,null,null,null,null,null,null,null,null,"Total Sequences in Summary",{"$f":"SUM(O7:O14)","v":173},null,null,null,null,"Total Sequences in Block Summary",{"$f":"SUM(U7:U14)","v":29},null,null,null,"Total Sequences in Block Summary",{"$f":"SUM(Z7:Z14)","v":29},null,null,null,"Total Sequences in Block Summary",{"$f":"SUM(AE7:AE14)","v":28},null,null,null,"Total Sequences in Block Summary",{"$f":"SUM(AJ7:AJ14)","v":29},null,null,null,"Total Sequences in Block Summary",{"$f":"SUM(AO7:AO14)","v":29},null,null,null,"Total Sequences in Block Summary",{"$f":"SUM(AT7:AT14)","v":29}]
[null,null,null,null,null,null,null,null,null,null,null,null,null,null,null,null,null,null,null,"Block 1",null,null,null,null,"Block 2",null,null,null,null,"Block 3",null,null,null,null,"Block 4",null,null,null,null,"Block 5",null,null,null,null,"Block 6"]
["Sequence\nComponent\n1","Time\n1","Sequence\nComponent\n2","Time\n2","Sequence\nComponent\n3","Time\n3","Sequence\nComponent\n4","Time\n4","Sequence\nComponent\n5","Time\n5","Correct?\n0=No 1=Yes","Sequence",null,"Frequency",null,"Relative Frequency","Variability",null,null,"Frequency",null,"Relative Frequency","Variability",null,"Frequency",null,"Relative Frequency","Variability",null,"Frequency",null,"Relative Frequency","Variability",null,"Frequency",null,"Relative Frequency","Variability",null,"Frequency",null,"Relative Frequency","Variability",null,"Frequency",null,"Relative Frequency","Variability"]
[12,12,13,20,13,24,null,null,null,null,0,111,null,111,{"$f":"COUNTIF($L$7:$L$500,N7)","v":69},{"$f":"O7/$Q$4","v":0.39884393063583817},{"$f":"IF(P7=0,0,(P7*((LOG(P7))/LOG(2))))","v":-0.5289084404002331},null,null,{"$f":"N7","v":111},{"$f":"COUNTIF(L7:L35,T7)","v":19},{"$f":"U7/(W4-U11)","v":0.73076923076923073},{"$f":"IF(V7=0,0,(V7*((LOG(V7))/LOG(2))))","v":-0.33068199574048568},null,{"$f":"N7","v":111},{"$f":"COUNTIF(L36:L64,Y7)","v":9},{"$f":"Z7/(AB4-Z11)","v":0.40909090909090912},{"$f":"IF(AA7=0,0,(AA7*((LOG(AA7))/LOG(2))))","v":-0.52752543430703935},null,{"$f":"N7","v":111},{"$f":"COUNTIF(L65:L92,AD7)","v":7},{"$f":"AE7/(AG4-AE11)","v":0.3888888888888889},{"$f":"IF(AF7=0,0,(AF7*((LOG(AF7))/LOG(2))))","v":-0.52988836420516428},null,{"$f":"N7","v":111},{"$f":"COUNTIF(L93:L121,AI7)","v":7},{"$f":"AJ7/(AL4-AJ11)","v":0.33333333333333331},{"$f":"IF(AK7=0,0,(AK7*((LOG(AK7))/LOG(2))))","v":-0.52832083357371862},null,{"$f":"N7","v":111},{"$f":"COUNTIF(L122:L150,AN7)","v":16},{"$f":"AO7/(AQ4-AO11)","v":0.66666666666666663},{"$f":"IF(AP7=0,0,(AP7*((LOG(AP7))/LOG(2))))","v":-0.38997500048077083},null,{"$f":"N7","v":111},{"$f":"COUNTIF(L151:L179,AS7)","v":11},{"$f":"AT7/(AV4-AT11)","v":0.5},{"$f":"IF(AU7=0,0,(AU7*((LOG(AU7))/LOG(2))))","v":-0.5}]
[12,128,13,133,24,146,null,null,null,null,0,112,null,112,40,0.23121387283236994,-0.48848557982644214,null,null,112,{"$f":"COUNTIF(L7:L35,T8)","v":5},{"$f":"U8/(W4-U11)","v":0.19230769230769232},{"$f":"IF(V8=0,0,(V8*((LOG(V8))/LOG(2))))","v":-0.45740608139494804},null,112,{"$f":"COUNTIF(L36:L64,Y8)","v":8},{"$f":"Z8/(AB4-Z11)","v":0.36363636363636365},{"$f":"IF(AA8=0,0,(AA8*((LOG(AA8))/LOG(2))))","v":-0.53070240677719893},null,112,{"$f":"COUNTIF(L65:L92,AD8)","v":7},{"$f":"AE8/(AG4-AE11)","v":0.3888888888888889},{"$f":"IF(AF8=0,0,(AF8*((LOG(AF8))/LOG(2))))","v":-0.52988836420516428},null,112,{"$f":"COUNTIF(L93:L121,AI8)","v":8},{"$f":"AJ8/(AL4-AJ11)","v":0.38095238095238093},{"$f":"IF(AK8=0,0,(AK8*((LOG(AK8))/LOG(2))))","v":-0.53040663724905157},null,112,{"$f":"COUNTIF(L122:L150,AN8)","v":4},{"$f":"AO8/(AQ4-AO11)","v":0.16666666666666666},{"$f":"IF(AP8=0,0,(AP8*((LOG(AP8))/LOG(2))))","v":-0.43082708345352599},null,112,{"$f":"COUNTIF(L151:L179,AS8)","v":8},{"$f":"AT8/(AV4-AT11)","v":0.36363636363636365},{"$f":"IF(AU8=0,0,(AU8*((LOG(AU8))/LOG(2))))","v":-0.53070240677719893}]
[12,241,13,249,13,258,null,null,null,null,0,111,null,121,13,7.5144508670520235E-2,-0.28060376082915156,null,null,121,{"$f":"COUNTIF(L7:L35,T9)","v":2},{"$f":"U9/(W4-U11)","v":7.6923076923076927E-2},{"$f":"IF(V9=0,0,(V9*((LOG(V9))/LOG(2))))","v":-0.28464920908777636},null,121,{"$f":"COUNTIF(L36:L64,Y9)","v":2},{"$f":"Z9/(AB4-Z11)","v":9.0909090909090912E-2},{"$f":"IF(AA9=0,0,(AA9*((LOG(AA9))/LOG(2))))","v":-0.31449378351248153},null,121,{"$f":"COUNTIF(L65:L92,AD9)","v":0},{"$f":"AE9/(AG4-AE11)","v":0},{"$f":"IF(AF9=0,0,(AF9*((LOG(AF9))/LOG(2))))","v":0},null,121,{"$f":"COUNTIF(L93:L121,AI9)","v":4},{"$f":"AJ9/(AL4-AJ11)","v":0.19047619047619047},{"$f":"IF(AK9=0,0,(AK9*((LOG(AK9))/LOG(2))))","v":-0.4556795091007162},null,121,{"$f":"COUNTIF(L122:L150,AN9)","v":3},{"$f":"AO9/(AQ4-AO11)","v":0.125},{"$f":"IF(AP9=0,0,(AP9*((LOG(AP9))/LOG(2))))","v":-0.375},null,121,{"$f":"COUNTIF(L151:L179,AS9)","v":2},{"$f":"AT9/(AV4-AT11)","v":9.0909090909090912E-2},{"$f":"IF(AU9=0,0,(AU9*((LOG(AU9))/LOG(2))))","v":-0.31449378351248153}]
[12,353,13,359,13,363,null,null,null,null,0,111,null,122,4,2.3121387283236993E-2,-0.12565614399160055,null,null,122,{"$f":"COUNTIF(L7:L35,T10)","v":0},{"$f":"U10/(W4-U11)","v":0},{"$f":"IF(V10=0,0,(V10*((LOG(V10))/LOG(2))))","v":0},null,122,{"$f":"COUNTIF(L36:L64,Y10)","v":0},{"$f":"Z10/(AB4-Z11)","v":0},{"$f":"IF(AA10=0,0,(AA10*((LOG(AA10))/LOG(2))))","v":0},null,122,{"$f":"COUNTIF(L65:L92,AD10)","v":4},{"$f":"AE10/(AG4-AE11)","v":0.22222222222222221},{"$f":"IF(AF10=0,0,(AF10*((LOG(AF10))/LOG(2))))","v":-0.48220555587606945},null,122,{"$f":"COUNTIF(L93:L121,AI10)","v":0},{"$f":"AJ10/(AL4-AJ11)","v":0},{"$f":"IF(AK10=0,0,(AK10*((LOG(AK10))/LOG(2))))","v":0},null,122,{"$f":"COUNTIF(L122:L150,AN10)","v":0},{"$f":"AO10/(AQ4-AO11)","v":0},{"$f":"IF(AP10=0,0,(AP10*((LOG(AP10))/LOG(2))))","v":0},null,122,{"$f":"COUNTIF(L151:L179,AS10)","v":0},{"$f":"AT10/(AV4-AT11)","v":0},{"$f":"IF(AU10=0,0,(AU10*((LOG(AU10))/LOG(2))))","v":0}]
[12,465,13,473,13,479,null,null,null,null,0,111,null,211,40,0.23121387283236994,-0.48848557982644214,null,null,211,{"$f":"COUNTIF(L7:L35,T11)","v":3},null,null,null,211,{"$f":"COUNTIF(L36:L64,Y11)","v":7},null,null,null,211,{"$f":"COUNTIF(L65:L92,AD11)","v":10},null,null,null,211,{"$f":"COUNTIF(L93:L121,AI11)","v":8},null,null,null,211,{"$f":"COUNTIF(L122:L150,AN11)","v":5},null,null,null,211,{"$f":"COUNTIF(L151:L179,AS11)","v":7}]
[12,584,13,590,13,596,null,null,null,null,0,111,null,212,6,3.4682080924855488E-2,-0.16819649919938387,null,null,212,{"$f":"COUNTIF(L7:L35,T12)","v":0},{"$f":"U12/(W4-U11)","v":0},{"$f":"IF(V12=0,0,(V12*((LOG(V12))/LOG(2))))","v":0},null,212,{"$f":"COUNTIF(L36:L64,Y12)","v":3},{"$f":"Z12/(AB4-Z11)","v":0.13636363636363635},{"$f":"IF(AA12=0,0,(AA12*((LOG(AA12))/LOG(2))))","v":-0.39197306153401923},null,212,{"$f":"COUNTIF(L65:L92,AD12)","v":0},{"$f":"AE12/(AG4-AE11)","v":0},{"$f":"IF(AF12=0,0,(AF12*((LOG(AF12))/LOG(2))))","v":0},null,212,{"$f":"COUNTIF(L93:L121,AI12)","v":2},{"$f":"AJ12/(AL4-AJ11)","v":9.5238095238095233E-2},{"$f":"IF(AK12=0,0,(AK12*((LOG(AK12))/LOG(2))))","v":-0.32307784978845333},null,212,{"$f":"COUNTIF(L122:L150,AN12)","v":0},{"$f":"AO12/(AQ4-AO11)","v":0},{"$f":"IF(AP12=0,0,(AP12*((LOG(AP12))/LOG(2))))","v":0},null,212,{"$f":"COUNTIF(L151:L179,AS12)","v":1},{"$f":"AT12/(AV4-AT11)","v":4.5454545454545456E-2},{"$f":"IF(AU12=0,0,(AU12*((LOG(AU12))/LOG(2))))","v":-0.20270143721078623}]
[12,695,24,712,13,734,null,null,null,null,0,121,null,221,0,0,0,null,null,221,{"$f":"COUNTIF(L7:L35,T13)","v":0},{"$f":"U13/(W4-U11)","v":0},{"$f":"IF(V13=0,0,(V13*((LOG(V13))/LOG(2))))","v":0},null,221,{"$f":"COUNTIF(L36:L64,Y13)","v":0},{"$f":"Z13/(AB4-Z11)","v":0},{"$f":"IF(AA13=0,0,(AA13*((LOG(AA13))/LOG(2))))","v":0},null,221,{"$f":"COUNTIF(L65:L92,AD13)","v":0},{"$f":"AE13/(AG4-AE11)","v":0},{"$f":"IF(AF13=0,0,(AF13*((LOG(AF13))/LOG(2))))","v":0},null,221,{"$f":"COUNTIF(L93:L121,AI13)","v":0},{"$f":"AJ13/(AL4-AJ11)","v":0},{"$f":"IF(AK13=0,0,(AK13*((LOG(AK13))/LOG(2))))","v":0},null,221,{"$f":"COUNTIF(L122:L150,AN13)","v":0},{"$f":"AO13/(AQ4-AO11)","v":0},{"$f":"IF(AP13=0,0,(AP13*((LOG(AP13))/LOG(2))))","v":0},null,221,{"$f":"COUNTIF(L151:L179,AS13)","v":0},{"$f":"AT13/(AV4-AT11)","v":0},{"$f":"IF(AU13=0,0,(AU13*((LOG(AU13))/LOG(2))))","v":0}]
[12,829,13,834,13,839,null,null,null,null,0,111,null,222,1,5.7803468208092483E-3,-4.2974729639518636E-2,null,null,222,{"$f":"COUNTIF(L7:L35,T14)","v":0},{"$f":"U14/(W4-U11)","v":0},{"$f":"IF(V14=0,0,(V14*((LOG(V14))/LOG(2))))","v":0},null,222,{"$f":"COUNTIF(L36:L64,Y14)","v":0},{"$f":"Z14/(AB4-Z11)","v":0},{"$f":"IF(AA14=0,0,(AA14*((LOG(AA14))/LOG(2))))","v":0},null,222,{"$f":"COUNTIF(L65:L92,AD14)","v":0},{"$f":"AE14/(AG4-AE11)","v":0},{"$f":"IF(AF14=0,0,(AF14*((LOG(AF14))/LOG(2))))","v":0},null,222,{"$f":"COUNTIF(L93:L121,AI14)","v":0},{"$f":"AJ14/(AL4-AJ11)","v":0},{"$f":"IF(AK14=0,0,(AK14*((LOG(AK14))/LOG(2))))","v":0},null,222,{"$f":"COUNTIF(L122:L150,AN14)","v":1},{"$f":"AO14/(AQ4-AO11)","v":4.1666666666666664E-2},{"$f":"IF(AP14=0,0,(AP14*((LOG(AP14))/LOG(2))))","v":-0.19104010419671485},null,222,{"$f":"COUNTIF(L151:L179,AS14)","v":0},{"$f":"AT14/(AV4-AT11)","v":0},{"$f":"IF(AU14=0,0,(AU14*((LOG(AU14))/LOG(2))))","v":0}]
[21,937,11,945,11,950,null,null,null,null,0,211,null,null,null,{"$f":"SUM(P7:P14)","v":1},{"$f":"-SUM(Q7:Q14)","v":2.1233107337127723},null,null,null,null,{"$f":"SUM(V7:V14)","v":1},{"$f":"-SUM(W7:W14)","v":1.0727372862232101},null,null,null,{"$f":"SUM(AA7:AA14)","v":1},{"$f":"-SUM(AB7:AB14)","v":1.7646946861307389},null,null,null,{"$f":"SUM(AF7:AF14)","v":1},{"$f":"-SUM(AG7:AG14)","v":1.5419822842863979},null,null,null,{"$f":"SUM(AK7:AK14)","v":0.99999999999999989},{"$f":"-SUM(AL7:AL14)","v":1.8374848297119399},null,null,null,{"$f":"SUM(AP7:AP14)","v":0.99999999999999989},{"$f":"-SUM(AQ7:AQ14)","v":1.3868421881310118},null,null,null,{"$f":"SUM(AU7:AU14)","v":1},{"$f":"-SUM(AV7:AV14)","v":1.5478976275004666}]
[12,1077,13,1082,13,1089,null,null,null,null,0,111,null,null,null,"U=",{"$f":"Q15/(LOG(Q4)/LOG(2))","v":0.2855974325413872},null,null,null,null,"U1=",{"$f":"W15/(LOG(W4)/LOG(2))","v":0.22081957243125025},null,null,null,"U2=",{"$f":"AB15/(LOG(AB4)/LOG(2))","v":0.36325681139977317},null,null,null,"U3=",{"$f":"AG15/(LOG(AG4)/LOG(2))","v":0.32075482449014014},null,null,null,"U4=",{"$f":"AL15/(LOG(AL4)/LOG(2))","v":0.37824043189030365},null,null,null,"U5=",{"$f":"AQ15/(LOG(AQ4)/LOG(2))","v":0.28547707154926671},null,null,null,"U6=",{"$f":"AV15/(LOG(AV4)/LOG(2))","v":0.31862982359399256}]
[12,1184,13,1190,13,1195,null,null,null,null,0,111]
[12,1297,13,1301,13,1306,null,null,null,null,0,111]
[12,1403,13,1411,13,1418,null,null,null,null,0,111,null,"Total Target Seq"]
[21,1513,11,1522,11,1526,null,null,null,null,0,211,null,{"$f":"COUNTIF(L7:L179,G3)","v":40},null,29,29,28,29,29,29]
[12,1639,13,1643,13,1672,null,null,null,null,0,111,null,null,null,"% of reinforcement given in 6 equal intervals based on number of trials "]
[12,1771,13,1777,13,1780,null,null,null,null,0,111,null,null,null,"%_1","%_2","%_3","%_4","%_5","%_6"]
[12,1881,13,1885,24,1897,null,null,null,null,0,112,null,null,"target sequence",{"$f":"$G$3","v":211},211,211,211,211,211]
[12,1992,13,1998,13,2010,null,null,null,null,0,111,null,null,"total reinforcement",{"$f":"U11","v":3},{"$f":"Z11","v":7},{"$f":"AE11","v":10},{"$f":"AJ11","v":8},{"$f":"AO11","v":5},{"$f":"AT11","v":7}]
[12,2109,24,2122,13,2140,null,null,null,null,0,121,null,null,"% target"]
[12,2274,13,2278,13,2292,null,null,null,null,0,111,null,null,"CCRF"]
[12,2390,13,2400,13,2425,null,null,null,null,0,111,null,null,"% CCRf"]
[12,2520,13,2525,24,2536,null,null,null,null,0,112,null,null,"average response rate",{"$f":"F35/P20","v":119.75862068965517},{"$f":"(F64-F35)/Q20","v":133.17241379310346},{"$f":"(F92-F64)/R20","v":126.92857142857143},{"$f":"(F121-F92)/S20","v":120.37931034482759},{"$f":"(F150-F121)/T20","v":123.17241379310344},{"$f":"(F179-F150)/U20","v":123}]
[12,2637,13,2645,13,2652,null,null,null,null,0,111]
[12,2784,13,2810,13,2815,null,null,null,null,0,111]
[12,2918,13,2924,13,2932,null,null,null,null,0,111]
[12,3038,13,3044,24,3059,null,null,null,null,0,112]
[12,3216,13,3235,24,3247,null,null,null,null,0,112]
[12,3349,13,3358,13,3365,null,null,null,null,0,111]
[21,3458,11,3467,11,3473,null,null,null,null,0,211]
[12,3656,13,3666,24,3683,null,null,null,null,0,112]
[12,3790,13,3796,24,3808,null,null,null,null,0,112]
[12,3912,13,3919,13,3925,null,null,null,null,0,111]
[12,4023,13,4027,13,4033,null,null,null,null,0,111]
[12,4133,13,4138,24,4150,null,null,null,null,0,112]
[12,4269,24,4280,13,4292,null,null,null,null,0,121]
[12,4399,13,4413,13,4424,null,null,null,null,0,111]
[12,4522,13,4526,13,4534,null,null,null,null,0,111]
[12,4635,13,4641,13,4653,null,null,null,null,0,111]
[21,4745,11,4755,11,4760,null,null,null,null,0,211]
[21,4898,11,4905,22,4917,null,null,null,null,0,212]
[12,5014,13,5022,13,5037,null,null,null,null,0,111]
[21,5131,11,5140,11,5150,null,null,null,null,0,211]
[21,5256,11,5265,11,5281,null,null,null,null,0,211]
[12,5485,24,5497,13,5510,null,null,null,null,0,121]
[12,5625,13,5660,13,5665,null,null,null,null,0,111]
[21,5784,11,5806,11,5814,null,null,null,null,0,211]
[12,5937,13,5948,24,5961,null,null,null,null,0,112]
[12,6060,13,6068,13,6094,null,null,null,null,0,111]
[21,6188,11,6201,22,6215,null,null,null,null,0,212]
[21,6313,11,6323,11,6334,null,null,null,null,0,211]
[21,6430,11,6438,22,6452,null,null,null,null,0,212]
[21,6548,11,6558,11,6564,null,null,null,null,0,211]
[21,6656,11,6664,11,6675,null,null,null,null,0,211]
[12,6810,13,6816,24,6827,null,null,null,null,0,112]
[12,6950,13,6957,24,6971,null,null,null,null,0,112]
[12,7075,13,7081,24,7094,null,null,null,null,0,112]
[12,7192,13,7200,24,7210,null,null,null,null,0,112]
[12,7324,13,7328,13,7335,null,null,null,null,0,111]
[12,7438,13,7447,24,7457,null,null,null,null,0,112]
[21,7551,11,7560,11,7566,null,null,null,null,0,211]
[21,7666,11,7693,11,7711,null,null,null,null,0,211]
[12,7851,24,7871,24,7878,null,null,null,null,0,122]
[12,7977,13,7983,24,7993,null,null,null,null,0,112]
[12,8090,24,8102,24,8108,null,null,null,null,0,122]
[21,8212,11,8220,11,8224,null,null,null,null,0,211]
[12,8322,13,8329,24,8365,null,null,null,null,0,112]
[12,8462,24,8472,24,8481,null,null,null,null,0,122]
[12,8574,13,8584,13,8589,null,null,null,null,0,111]
[12,8705,13,8715,13,8722,null,null,null,null,0,111]
[12,8827,13,8833,13,8844,null,null,null,null,0,111]
[12,8945,24,8955,24,8963,null,null,null,null,0,122]
[21,9057,11,9067,11,9083,null,null,null,null,0,211]
[21,9174,11,9182,11,9194,null,null,null,null,0,211]
[12,9333,13,9344,24,9359,null,null,null,null,0,112]
[12,9462,13,9465,24,9475,null,null,null,null,0,112]
[12,9573,13,9577,13,9584,null,null,null,null,0,111]
[12,9684,13,9691,13,9700,null,null,null,null,0,111]
[21,9862,11,9878,11,9885,null,null,null,null,0,211]
[21,9973,11,9982,11,9987,null,null,null,null,0,211]
[21,10079,11,10091,11,10104,null,null,null,null,0,211]
[21,10195,11,10207,11,10240,null,null,null,null,0,211]
[12,10365,13,10370,13,10377,null,null,null,null,0,111]
[21,10478,11,10486,11,10491,null,null,null,null,0,211]
[12,10618,13,10624,24,10638,null,null,null,null,0,112]
[12,10742,13,10747,13,10770,null,null,null,null,0,111]
[12,10874,13,10879,24,10889,null,null,null,null,0,112]
[12,10984,13,10989,13,10995,null,null,null,null,0,111]
[12,11096,13,11102,13,11116,null,null,null,null,0,111]
[12,11213,24,11224,13,11240,null,null,null,null,0,121]
[21,11334,11,11341,11,11347,null,null,null,null,0,211]
[21,11438,11,11446,11,11452,null,null,null,null,0,211]
[12,11550,13,11556,24,11568,null,null,null,null,0,112]
[12,11664,24,11675,13,11690,null,null,null,null,0,121]
[12,11791,13,11795,13,11814,null,null,null,null,0,111]
[12,11915,13,11925,24,11936,null,null,null,null,0,112]
[12,12039,13,12043,13,12049,null,null,null,null,0,111]
[21,12142,11,12150,11,12156,null,null,null,null,0,211]
[12,12248,13,12258,24,12268,null,null,null,null,0,112]
[12,12364,24,12373,13,12387,null,null,null,null,0,121]
[12,12488,13,12493,13,12498,null,null,null,null,0,111]
[12,12599,13,12604,13,12612,null,null,null,null,0,111]
[12,12713,13,12718,24,12733,null,null,null,null,0,112]
[21,12825,11,12835,11,12838,null,null,null,null,0,211]
[21,12943,11,12950,11,12958,null,null,null,null,0,211]
[21,13102,11,13119,11,13124,null,null,null,null,0,211]
[21,13219,11,13235,22,13250,null,null,null,null,0,212]
[12,13354,13,13378,13,13383,null,null,null,null,0,111]
[12,13488,13,13494,24,13504,null,null,null,null,0,112]
[12,13603,13,13607,24,13620,null,null,null,null,0,112]
[21,13711,11,13721,11,13754,null,null,null,null,0,211]
[21,13865,11,13874,11,13890,null,null,null,null,0,211]
[21,14000,11,14012,22,14023,null,null,null,null,0,212]
[12,14129,13,14133,24,14143,null,null,null,null,0,112]
[12,14238,13,14242,24,14251,null,null,null,null,0,112]
[12,14348,24,14357,13,14380,null,null,null,null,0,121]
[21,14476,11,14486,11,14497,null,null,null,null,0,211]
[12,14605,13,14619,13,14631,null,null,null,null,0,111]
[12,14773,13,14776,13,14783,null,null,null,null,0,111]
[12,14884,13,14889,24,14901,null,null,null,null,0,112]
[21,14994,11,15002,11,15016,null,null,null,null,0,211]
[21,15105,22,15109,24,15114,null,null,null,null,0,222]
[12,15213,13,15217,13,15245,null,null,null,null,0,111]
[12,15345,13,15353,24,15363,null,null,null,null,0,112]
[12,15459,13,15464,13,15468,null,null,null,null,0,111]
[12,15570,24,15579,13,15594,null,null,null,null,0,121]
[12,15704,13,15714,24,15725,null,null,null,null,0,112]
[12,15826,13,15834,13,15850,null,null,null,null,0,111]
[21,15975,11,15988,11,15992,null,null,null,null,0,211]
[12,16093,24,16105,13,16122,null,null,null,null,0,121]
[12,16222,13,16227,13,16234,null,null,null,null,0,111]
[12,16335,13,16338,13,16344,null,null,null,null,0,111]
[12,16447,13,16455,24,16467,null,null,null,null,0,112]
[12,16571,13,16574,13,16578,null,null,null,null,0,111]
[12,16682,13,16687,13,16693,null,null,null,null,0,111]
[12,16797,13,16802,13,16809,null,null,null,null,0,111]
[12,16909,13,16913,13,16922,null,null,null,null,0,111]
[12,17026,24,17043,13,17058,null,null,null,null,0,121]
[12,17162,13,17169,13,17174,null,null,null,null,0,111]
[21,17269,11,17278,11,17294,null,null,null,null,0,211]
[21,17397,11,17405,11,17412,null,null,null,null,0,211]
[12,17562,13,17578,13,17591,null,null,null,null,0,111]
[12,17690,13,17698,13,17729,null,null,null,null,0,111]
[12,17825,13,17830,13,17837,null,null,null,null,0,111]
[12,17940,13,17945,13,17952,null,null,null,null,0,111]
[12,18060,13,18064,13,18070,null,null,null,null,0,111]
[12,18172,13,18176,24,18187,null,null,null,null,0,112]
[12,18288,13,18293,13,18304,null,null,null,null,0,111]
[12,18406,13,18412,24,18424,null,null,null,null,0,112]
[12,18522,13,18526,13,18556,null,null,null,null,0,111]
[12,18657,13,18664,24,18679,null,null,null,null,0,112]
[21,18772,11,18781,11,18785,null,null,null,null,0,211]
[21,18876,11,18885,11,18900,null,null,null,null,0,211]
[12,19038,24,19051,13,19068,null,null,null,null,0,121]
[21,19161,11,19170,11,19176,null,null,null,null,0,211]
[21,19286,11,19315,11,19328,null,null,null,null,0,211]
[21,19446,11,19456,11,19462,null,null,null,null,0,211]
[12,19612,13,19616,24,19632,null,null,null,null,0,112]
[12,19729,13,19733,13,19738,null,null,null,null,0,111]
[12,19842,13,19847,24,19856,null,null,null,null,0,112]
[12,19957,13,19970,13,19980,null,null,null,null,0,111]
[12,20088,13,20093,24,20104,null,null,null,null,0,112]
[12,20205,13,20210,13,20214,null,null,null,null,0,111]
[21,20306,11,20315,11,20320,null,null,null,null,0,211]
[12,20429,13,20438,13,20448,null,null,null,null,0,111]
[12,20554,13,20561,13,20570,null,null,null,null,0,111]
[12,20668,24,20677,13,20695,null,null,null,null,0,121]
[12,20796,13,20800,13,20834,null,null,null,null,0,111]
[12,20936,13,20940,13,20946,null,null,null,null,0,111]
[12,21048,13,21053,24,21065,null,null,null,null,0,112]
[12,21161,13,21165,24,21177,null,null,null,null,0,112]
[21,21269,11,21286,22,21296,null,null,null,null,0,212]
[12,21398,13,21404,13,21411,null,null,null,null,0,111]
[21,21503,11,21512,11,21519,null,null,null,null,1,211]

{"sheet":"!MC22A3I.sha","index":9,"n_rows":157,"n_cols":48,"rows_kept":157,"cut":false,"hidden":false,"merged":[[1,1,1,2],[5,13,5,14],[18,13,18,14],[19,13,19,14],[4,19,4,22],[5,19,5,20],[4,39,4,42],[5,39,5,40],[4,44,4,47],[5,44,5,45],[4,24,4,27],[5,24,5,25],[4,29,4,32],[5,29,5,30],[4,34,4,37],[5,34,5,35]]}
["Report for:!MC22A3I.sha"]
["Date:","<date>"]
["Hen:","<hen>",null,null,null,"Correct Sequence",{"$f":"Start!J2","v":211},null,null,null,null,null,null,null,null,"Total Sequences in Data",{"$f":"4994-COUNTBLANK(L7:L5000)","v":151},null,null,null,null,"Total Sequences in Block Data",{"$f":"COUNTA(L7:L31)","v":25},null,null,null,"Total Sequences in Block Data",{"$f":"COUNTA(L32:L56)","v":25},null,null,null,"Total Sequences in Block Data",{"$f":"COUNTA(L57:L82)","v":26},null,null,null,"Total Sequences in Block Data",{"$f":"COUNTA(L83:L107)","v":25},null,null,null,"Total Sequences in Block Data",{"$f":"COUNTA(L108:L132)","v":25},null,null,null,"Total Sequences in Block Data",{"$f":"COUNTA(L133:L157)","v":25}]
[null,null,null,null,null,null,null,null,null,null,null,null,null,null,null,"Total Sequences in Summary",{"$f":"SUM(O7:O14)","v":151},null,null,null,null,"Total Sequences in Block Summary",{"$f":"SUM(U7:U14)","v":25},null,null,null,"Total Sequences in Block Summary",{"$f":"SUM(Z7:Z14)","v":25},null,null,null,"Total Sequences in Block Summary",{"$f":"SUM(AE7:AE14)","v":26},null,null,null,"Total Sequences in Block Summary",{"$f":"SUM(AJ7:AJ14)","v":25},null,null,null,"Total Sequences in Block Summary",{"$f":"SUM(AO7:AO14)","v":25},null,null,null,"Total Sequences in Block Summary",{"$f":"SUM(AT7:AT14)","v":25}]
[null,null,null,null,null,null,null,null,null,null,null,null,null,null,null,null,null,null,null,"Block 1",null,null,null,null,"Block 2",null,null,null,null,"Block 3",null,null,null,null,"Block 4",null,null,null,null,"Block 5",null,null,null,null,"Block 6"]
["Sequence\nComponent\n1","Time\n1","Sequence\nComponent\n2","Time\n2","Sequence\nComponent\n3","Time\n3","Sequence\nComponent\n4","Time\n4","Sequence\nComponent\n5","Time\n5","Correct?\n0=No 1=Yes","Sequence",null,"Frequency",null,"Relative Frequency","Variability",null,null,"Frequency",null,"Relative Frequency","Variability",null,"Frequency",null,"Relative Frequency","Variability",null,"Frequency",null,"Relative Frequency","Variability",null,"Frequency",null,"Relative Frequency","Variability",null,"Frequency",null,"Relative Frequency","Variability",null,"Frequency",null,"Relative Frequency","Variability"]
[21,67,11,78,11,86,null,null,null,null,0,211,null,111,{"$f":"COUNTIF($L$7:$L$500,N7)","v":77},{"$f":"O7/$Q$4","v":0.50993377483443714},{"$f":"IF(P7=0,0,(P7*((LOG(P7))/LOG(2))))","v":-0.49546093572532229},null,null,{"$f":"N7","v":111},{"$f":"COUNTIF(L7:L31,T7)","v":15},{"$f":"U7/(W4-U11)","v":0.78947368421052633},{"$f":"IF(V7=0,0,(V7*((LOG(V7))/LOG(2))))","v":-0.26923967197505283},null,{"$f":"N7","v":111},{"$f":"COUNTIF(L32:L56,Y7)","v":12},{"$f":"Z7/(AB4-Z11)","v":0.66666666666666663},{"$f":"IF(AA7=0,0,(AA7*((LOG(AA7))/LOG(2))))","v":-0.38997500048077083},null,{"$f":"N7","v":111},{"$f":"COUNTIF(L57:L82,AD7)","v":18},{"$f":"AE7/(AG4-AE11)","v":0.78260869565217395},{"$f":"IF(AF7=0,0,(AF7*((LOG(AF7))/LOG(2))))","v":-0.27675935578541772},null,{"$f":"N7","v":111},{"$f":"COUNTIF(L83:L107,AI7)","v":9},{"$f":"AJ7/(AL4-AJ11)","v":0.69230769230769229},{"$f":"IF(AK7=0,0,(AK7*((LOG(AK7))/LOG(2))))","v":-0.36727941925300139},null,{"$f":"N7","v":111},{"$f":"COUNTIF(L108:L132,AN7)","v":12},{"$f":"AO7/(AQ4-AO11)","v":0.5714285714285714},{"$f":"IF(AP7=0,0,(AP7*((LOG(AP7))/LOG(2))))","v":-0.46134566974720237},null,{"$f":"N7","v":111},{"$f":"COUNTIF(L133:L157,AS7)","v":11},{"$f":"AT7/(AV4-AT11)","v":0.6470588235294118},{"$f":"IF(AU7=0,0,(AU7*((LOG(AU7))/LOG(2))))","v":-0.40637314404373309}]
[12,290,13,295,13,314,null,null,null,null,0,111,null,112,25,0.16556291390728478,-0.42956101813747588,null,null,112,{"$f":"COUNTIF(L7:L31,T8)","v":2},{"$f":"U8/(W4-U11)","v":0.10526315789473684},{"$f":"IF(V8=0,0,(V8*((LOG(V8))/LOG(2))))","v":-0.34188710667827216},null,112,{"$f":"COUNTIF(L32:L56,Y8)","v":3},{"$f":"Z8/(AB4-Z11)","v":0.16666666666666666},{"$f":"IF(AA8=0,0,(AA8*((LOG(AA8))/LOG(2))))","v":-0.43082708345352599},null,112,{"$f":"COUNTIF(L57:L82,AD8)","v":4},{"$f":"AE8/(AG4-AE11)","v":0.17391304347826086},{"$f":"IF(AF8=0,0,(AF8*((LOG(AF8))/LOG(2))))","v":-0.43888034018382832},null,112,{"$f":"COUNTIF(L83:L107,AI8)","v":2},{"$f":"AJ8/(AL4-AJ11)","v":0.15384615384615385},{"$f":"IF(AK8=0,0,(AK8*((LOG(AK8))/LOG(2))))","v":-0.4154522643293988},null,112,{"$f":"COUNTIF(L108:L132,AN8)","v":8},{"$f":"AO8/(AQ4-AO11)","v":0.38095238095238093},{"$f":"IF(AP8=0,0,(AP8*((LOG(AP8))/LOG(2))))","v":-0.53040663724905157},null,112,{"$f":"COUNTIF(L133:L157,AS8)","v":6},{"$f":"AT8/(AV4-AT11)","v":0.35294117647058826},{"$f":"IF(AU8=0,0,(AU8*((LOG(AU8))/LOG(2))))","v":-0.53029423783382934}]
[12,417,13,426,13,432,null,null,null,null,0,111,null,121,4,2.6490066225165563E-2,-0.13876568845894247,null,null,121,{"$f":"COUNTIF(L7:L31,T9)","v":1},{"$f":"U9/(W4-U11)","v":5.2631578947368418E-2},{"$f":"IF(V9=0,0,(V9*((LOG(V9))/LOG(2))))","v":-0.22357513228650452},null,121,{"$f":"COUNTIF(L32:L56,Y9)","v":2},{"$f":"Z9/(AB4-Z11)","v":0.1111111111111111},{"$f":"IF(AA9=0,0,(AA9*((LOG(AA9))/LOG(2))))","v":-0.3522138890491458},null,121,{"$f":"COUNTIF(L57:L82,AD9)","v":0},{"$f":"AE9/(AG4-AE11)","v":0},{"$f":"IF(AF9=0,0,(AF9*((LOG(AF9))/LOG(2))))","v":0},null,121,{"$f":"COUNTIF(L83:L107,AI9)","v":1},{"$f":"AJ9/(AL4-AJ11)","v":7.6923076923076927E-2},{"$f":"IF(AK9=0,0,(AK9*((LOG(AK9))/LOG(2))))","v":-0.28464920908777636},null,121,{"$f":"COUNTIF(L108:L132,AN9)","v":0},{"$f":"AO9/(AQ4-AO11)","v":0},{"$f":"IF(AP9=0,0,(AP9*((LOG(AP9))/LOG(2))))","v":0},null,121,{"$f":"COUNTIF(L133:L157,AS9)","v":0},{"$f":"AT9/(AV4-AT11)","v":0},{"$f":"IF(AU9=0,0,(AU9*((LOG(AU9))/LOG(2))))","v":0}]
[12,536,13,540,13,544,null,null,null,null,0,111,null,122,2,1.3245033112582781E-2,-8.2627877342054026E-2,null,null,122,{"$f":"COUNTIF(L7:L31,T10)","v":0},{"$f":"U10/(W4-U11)","v":0},{"$f":"IF(V10=0,0,(V10*((LOG(V10))/LOG(2))))","v":0},null,122,{"$f":"COUNTIF(L32:L56,Y10)","v":0},{"$f":"Z10/(AB4-Z11)","v":0},{"$f":"IF(AA10=0,0,(AA10*((LOG(AA10))/LOG(2))))","v":0},null,122,{"$f":"COUNTIF(L57:L82,AD10)","v":0},{"$f":"AE10/(AG4-AE11)","v":0},{"$f":"IF(AF10=0,0,(AF10*((LOG(AF10))/LOG(2))))","v":0},null,122,{"$f":"COUNTIF(L83:L107,AI10)","v":1},{"$f":"AJ10/(AL4-AJ11)","v":7.6923076923076927E-2},{"$f":"IF(AK10=0,0,(AK10*((LOG(AK10))/LOG(2))))","v":-0.28464920908777636},null,122,{"$f":"COUNTIF(L108:L132,AN10)","v":1},{"$f":"AO10/(AQ4-AO11)","v":4.7619047619047616E-2},{"$f":"IF(AP10=0,0,(AP10*((LOG(AP10))/LOG(2))))","v":-0.20915797251327431},null,122,{"$f":"COUNTIF(L133:L157,AS10)","v":0},{"$f":"AT10/(AV4-AT11)","v":0},{"$f":"IF(AU10=0,0,(AU10*((LOG(AU10))/LOG(2))))","v":0}]
[12,646,24,661,13,673,null,null,null,null,0,121,null,211,40,0.26490066225165565,-0.50767593230138186,null,null,211,{"$f":"COUNTIF(L7:L31,T11)","v":6},null,null,null,211,{"$f":"COUNTIF(L32:L56,Y11)","v":7},null,null,null,211,{"$f":"COUNTIF(L57:L82,AD11)","v":3},null,null,null,211,{"$f":"COUNTIF(L83:L107,AI11)","v":12},null,null,null,211,{"$f":"COUNTIF(L108:L132,AN11)","v":4},null,null,null,211,{"$f":"COUNTIF(L133:L157,AS11)","v":8}]
[12,775,13,784,13,792,null,null,null,null,0,111,null,212,0,0,0,null,null,212,{"$f":"COUNTIF(L7:L31,T12)","v":0},{"$f":"U12/(W4-U11)","v":0},{"$f":"IF(V12=0,0,(V12*((LOG(V12))/LOG(2))))","v":0},null,212,{"$f":"COUNTIF(L32:L56,Y12)","v":0},{"$f":"Z12/(AB4-Z11)","v":0},{"$f":"IF(AA12=0,0,(AA12*((LOG(AA12))/LOG(2))))","v":0},null,212,{"$f":"COUNTIF(L57:L82,AD12)","v":0},{"$f":"AE12/(AG4-AE11)","v":0},{"$f":"IF(AF12=0,0,(AF12*((LOG(AF12))/LOG(2))))","v":0},null,212,{"$f":"COUNTIF(L83:L107,AI12)","v":0},{"$f":"AJ12/(AL4-AJ11)","v":0},{"$f":"IF(AK12=0,0,(AK12*((LOG(AK12))/LOG(2))))","v":0},null,212,{"$f":"COUNTIF(L108:L132,AN12)","v":0},{"$f":"AO12/(AQ4-AO11)","v":0},{"$f":"IF(AP12=0,0,(AP12*((LOG(AP12))/LOG(2))))","v":0},null,212,{"$f":"COUNTIF(L133:L157,AS12)","v":0},{"$f":"AT12/(AV4-AT11)","v":0},{"$f":"IF(AU12=0,0,(AU12*((LOG(AU12))/LOG(2))))","v":0}]
[12,935,13,941,24,952,null,null,null,null,0,112,null,221,3,1.9867549668874173E-2,-0.11232004447557463,null,null,221,{"$f":"COUNTIF(L7:L31,T13)","v":1},{"$f":"U13/(W4-U11)","v":5.2631578947368418E-2},{"$f":"IF(V13=0,0,(V13*((LOG(V13))/LOG(2))))","v":-0.22357513228650452},null,221,{"$f":"COUNTIF(L32:L56,Y13)","v":1},{"$f":"Z13/(AB4-Z11)","v":5.5555555555555552E-2},{"$f":"IF(AA13=0,0,(AA13*((LOG(AA13))/LOG(2))))","v":-0.23166250008012845},null,221,{"$f":"COUNTIF(L57:L82,AD13)","v":1},{"$f":"AE13/(AG4-AE11)","v":4.3478260869565216E-2},{"$f":"IF(AF13=0,0,(AF13*((LOG(AF13))/LOG(2))))","v":-0.19667660678508753},null,221,{"$f":"COUNTIF(L83:L107,AI13)","v":0},{"$f":"AJ13/(AL4-AJ11)","v":0},{"$f":"IF(AK13=0,0,(AK13*((LOG(AK13))/LOG(2))))","v":0},null,221,{"$f":"COUNTIF(L108:L132,AN13)","v":0},{"$f":"AO13/(AQ4-AO11)","v":0},{"$f":"IF(AP13=0,0,(AP13*((LOG(AP13))/LOG(2))))","v":0},null,221,{"$f":"COUNTIF(L133:L157,AS13)","v":0},{"$f":"AT13/(AV4-AT11)","v":0},{"$f":"IF(AU13=0,0,(AU13*((LOG(AU13))/LOG(2))))","v":0}]
[12,1048,13,1050,13,1056,null,null,null,null,0,111,null,222,0,0,0,null,null,222,{"$f":"COUNTIF(L7:L31,T14)","v":0},{"$f":"U14/(W4-U11)","v":0},{"$f":"IF(V14=0,0,(V14*((LOG(V14))/LOG(2))))","v":0},null,222,{"$f":"COUNTIF(L32:L56,Y14)","v":0},{"$f":"Z14/(AB4-Z11)","v":0},{"$f":"IF(AA14=0,0,(AA14*((LOG(AA14))/LOG(2))))","v":0},null,222,{"$f":"COUNTIF(L57:L82,AD14)","v":0},{"$f":"AE14/(AG4-AE11)","v":0},{"$f":"IF(AF14=0,0,(AF14*((LOG(AF14))/LOG(2))))","v":0},null,222,{"$f":"COUNTIF(L83:L107,AI14)","v":0},{"$f":"AJ14/(AL4-AJ11)","v":0},{"$f":"IF(AK14=0,0,(AK14*((LOG(AK14))/LOG(2))))","v":0},null,222,{"$f":"COUNTIF(L108:L132,AN14)","v":0},{"$f":"AO14/(AQ4-AO11)","v":0},{"$f":"IF(AP14=0,0,(AP14*((LOG(AP14))/LOG(2))))","v":0},null,222,{"$f":"COUNTIF(L133:L157,AS14)","v":0},{"$f":"AT14/(AV4-AT11)","v":0},{"$f":"IF(AU14=0,0,(AU14*((LOG(AU14))/LOG(2))))","v":0}]
[21,1152,11,1161,11,1167,null,null,null,null,0,211,null,null,null,{"$f":"SUM(P7:P14)","v":1.0000000000000002},{"$f":"-SUM(Q7:Q14)","v":1.7664114964407511},null,null,null,null,{"$f":"SUM(V7:V14)","v":1},{"$f":"-SUM(W7:W14)","v":1.058277043226334},null,null,null,{"$f":"SUM(AA7:AA14)","v":1},{"$f":"-SUM(AB7:AB14)","v":1.4046784730635711},null,null,null,{"$f":"SUM(AF7:AF14)","v":1},{"$f":"-SUM(AG7:AG14)","v":0.91231630275433351},null,null,null,{"$f":"SUM(AK7:AK14)","v":1},{"$f":"-SUM(AL7:AL14)","v":1.3520301017579528},null,null,null,{"$f":"SUM(AP7:AP14)","v":1},{"$f":"-SUM(AQ7:AQ14)","v":1.2009102795095283},null,null,null,{"$f":"SUM(AU7:AU14)","v":1},{"$f":"-SUM(AV7:AV14)","v":0.93666738187756238}]
[12,1306,13,1311,13,1318,null,null,null,null,0,111,null,null,null,"U=",{"$f":"Q15/(LOG(Q4)/LOG(2))","v":0.24403325871571177},null,null,null,null,"U1=",{"$f":"W15/(LOG(W4)/LOG(2))","v":0.22788755723240242},null,null,null,"U2=",{"$f":"AB15/(LOG(AB4)/LOG(2))","v":0.30248104498940404},null,null,null,"U3=",{"$f":"AG15/(LOG(AG4)/LOG(2))","v":0.19409169300337972},null,null,null,"U4=",{"$f":"AL15/(LOG(AL4)/LOG(2))","v":0.29114383531836718},null,null,null,"U5=",{"$f":"AQ15/(LOG(AQ4)/LOG(2))","v":0.25860195286706},null,null,null,"U6=",{"$f":"AV15/(LOG(AV4)/LOG(2))","v":0.20170034204332249}]
[21,1410,11,1420,11,1439,null,null,null,null,0,211]
[12,1632,13,1637,13,1644,null,null,null,null,0,111]
[12,1747,13,1761,13,1774,null,null,null,null,0,111,null,"Total Target Seq"]
[12,1875,13,1881,13,1896,null,null,null,null,0,111,null,{"$f":"COUNTIF(L7:L157,G3)","v":40},null,25,25,26,25,25,25]
[21,2005,22,2031,13,2048,null,null,null,null,0,221,null,null,null,"% of reinforcement given in 6 equal intervals based on number of trials "]
[12,2151,13,2159,24,2170,null,null,null,null,0,112,null,null,null,"%_1","%_2","%_3","%_4","%_5","%_6"]
[21,2265,11,2276,11,2278,null,null,null,null,0,211,null,null,"target sequence",{"$f":"$G$3","v":211},211,211,211,211,211]
[21,2384,11,2392,11,2396,null,null,null,null,0,211,null,null,"total reinforcement",{"$f":"U11","v":6},{"$f":"Z11","v":7},{"$f":"AE11","v":3},{"$f":"AJ11","v":12},{"$f":"AO11","v":4},{"$f":"AT11","v":8}]
[12,2607,13,2624,13,2634,null,null,null,null,0,111,null,null,"% target"]
[12,2730,13,2739,13,2745,null,null,null,null,0,111,null,null,"CCRF"]
[21,2843,11,2852,11,2856,null,null,null,null,0,211,null,null,"% CCRf"]
[12,2965,13,2970,13,2975,null,null,null,null,0,111,null,null,"average response rate",{"$f":"F31/P20","v":134.6},{"$f":"(F56-F31)/Q20","v":133.80000000000001},{"$f":"(F82-F56)/R20","v":116.19230769230769},{"$f":"(F107-F82)/S20","v":135.72},{"$f":"(F132-F107)/T20","v":122.04},{"$f":"(F157-F132)/U20","v":123.96}]
[12,3080,13,3084,13,3089,null,null,null,null,0,111]
[12,3216,13,3244,13,3250,null,null,null,null,0,111]
[12,3354,13,3359,13,3365,null,null,null,null,0,111]
[21,3458,11,3467,11,3472,null,null,null,null,0,211]
[12,3595,13,3606,13,3617,null,null,null,null,0,111]
[12,3719,13,3724,13,3733,null,null,null,null,0,111]
[12,3841,24,3851,13,3864,null,null,null,null,0,121]
[21,4006,11,4015,11,4066,null,null,null,null,0,211]
[12,4168,24,4181,13,4202,null,null,null,null,0,121]
[12,4314,13,4321,13,4351,null,null,null,null,0,111]
[21,4459,22,4468,13,4484,null,null,null,null,0,221]
[21,4582,11,4593,11,4600,null,null,null,null,0,211]
[12,4765,13,4775,13,4784,null,null,null,null,0,111]
[12,4888,13,4893,24,4910,null,null,null,null,0,112]
[12,5011,13,5017,24,5027,null,null,null,null,0,112]
[12,5129,13,5133,13,5138,null,null,null,null,0,111]
[21,5233,11,5242,11,5246,null,null,null,null,0,211]
[12,5368,13,5375,24,5388,null,null,null,null,0,112]
[12,5498,13,5502,13,5517,null,null,null,null,0,111]
[12,5622,13,5634,13,5659,null,null,null,null,0,111]
[21,5755,11,5764,11,5769,null,null,null,null,0,211]
[12,5904,13,5910,13,5918,null,null,null,null,0,111]
[12,6020,13,6024,13,6034,null,null,null,null,0,111]
[21,6136,11,6159,11,6164,null,null,null,null,0,211]
[21,6295,11,6305,11,6310,null,null,null,null,0,211]
[12,6441,13,6446,13,6454,null,null,null,null,0,111]
[12,6567,13,6572,13,6579,null,null,null,null,0,111]
[12,6683,13,6687,13,6710,null,null,null,null,0,111]
[12,6812,13,6818,13,6823,null,null,null,null,0,111]
[12,6925,13,6930,13,6938,null,null,null,null,0,111]
[12,7041,13,7046,13,7050,null,null,null,null,0,111]
[21,7147,11,7156,11,7161,null,null,null,null,0,211]
[12,7282,13,7288,13,7297,null,null,null,null,0,111]
[12,7402,13,7410,24,7431,null,null,null,null,0,112]
[12,7533,13,7538,13,7563,null,null,null,null,0,111]
[12,7663,13,7668,13,7677,null,null,null,null,0,111]
[12,7778,13,7781,13,7787,null,null,null,null,0,111]
[21,7885,11,7892,11,7900,null,null,null,null,0,211]
[12,8019,13,8023,13,8028,null,null,null,null,0,111]
[12,8127,13,8131,13,8139,null,null,null,null,0,111]
[12,8239,13,8246,24,8255,null,null,null,null,0,112]
[12,8358,13,8362,24,8376,null,null,null,null,0,112]
[12,8476,13,8480,13,8485,null,null,null,null,0,111]
[21,8578,11,8585,11,8591,null,null,null,null,0,211]
[12,8698,13,8702,13,8710,null,null,null,null,0,111]
[12,8818,13,8822,13,8827,null,null,null,null,0,111]
[12,8925,13,8930,24,8940,null,null,null,null,0,112]
[21,9032,22,9041,13,9050,null,null,null,null,0,221]
[12,9147,13,9152,13,9161,null,null,null,null,0,111]
[12,9261,13,9267,13,9277,null,null,null,null,0,111]
[12,9377,13,9381,13,9402,null,null,null,null,0,111]
[12,9503,13,9508,13,9515,null,null,null,null,0,111]
[12,9613,13,9617,13,9622,null,null,null,null,0,111]
[12,9722,13,9726,13,9731,null,null,null,null,0,111]
[12,9830,13,9834,13,9843,null,null,null,null,0,111]
[12,9951,13,9955,13,9964,null,null,null,null,0,111]
[12,10135,24,10148,24,10156,null,null,null,null,0,122]
[21,10260,11,10269,11,10273,null,null,null,null,0,211]
[12,10403,24,10416,13,10437,null,null,null,null,0,121]
[21,10536,11,10545,11,10553,null,null,null,null,0,211]
[12,10689,13,10726,13,10737,null,null,null,null,0,111]
[21,10833,11,10842,11,10846,null,null,null,null,0,211]
[12,11018,13,11037,13,11048,null,null,null,null,0,111]
[21,11143,11,11152,11,11156,null,null,null,null,0,211]
[21,11255,11,11267,11,11283,null,null,null,null,0,211]
[21,11421,11,11429,11,11443,null,null,null,null,0,211]
[12,11562,13,11566,13,11599,null,null,null,null,0,111]
[12,11697,13,11702,13,11724,null,null,null,null,0,111]
[21,11817,11,11825,11,11834,null,null,null,null,0,211]
[21,11924,11,11938,11,11947,null,null,null,null,0,211]
[12,12088,13,12097,13,12132,null,null,null,null,0,111]
[21,12224,11,12235,11,12239,null,null,null,null,0,211]
[12,12370,13,12381,13,12390,null,null,null,null,0,111]
[12,12488,13,12492,24,12501,null,null,null,null,0,112]
[21,12593,11,12603,11,12614,null,null,null,null,0,211]
[21,12717,11,12724,11,12730,null,null,null,null,0,211]
[21,12846,11,12859,11,12880,null,null,null,null,0,211]
[12,12981,13,12987,24,12997,null,null,null,null,0,112]
[12,13093,13,13117,13,13124,null,null,null,null,0,111]
[12,13226,13,13230,13,13236,null,null,null,null,0,111]
[12,13337,13,13341,13,13368,null,null,null,null,0,111]
[12,13473,24,13483,24,13491,null,null,null,null,0,122]
[12,13587,13,13595,13,13601,null,null,null,null,0,111]
[12,13704,13,13708,13,13713,null,null,null,null,0,111]
[12,13818,13,13822,24,13835,null,null,null,null,0,112]
[12,13936,13,13943,24,13952,null,null,null,null,0,112]
[12,14055,13,14064,24,14076,null,null,null,null,0,112]
[12,14179,13,14184,24,14194,null,null,null,null,0,112]
[12,14294,13,14302,24,14333,null,null,null,null,0,112]
[21,14426,11,14434,11,14439,null,null,null,null,0,211]
[12,14562,13,14589,13,14599,null,null,null,null,0,111]
[21,14695,11,14705,11,14711,null,null,null,null,0,211]
[12,14854,13,14860,24,14872,null,null,null,null,0,112]
[12,14977,13,14982,13,14991,null,null,null,null,0,111]
[12,15091,13,15095,13,15101,null,null,null,null,0,111]
[12,15203,13,15208,24,15219,null,null,null,null,0,112]
[21,15311,11,15321,11,15325,null,null,null,null,0,211]
[12,15426,13,15434,24,15445,null,null,null,null,0,112]
[12,15555,13,15559,13,15567,null,null,null,null,0,111]
[12,15666,13,15670,13,15680,null,null,null,null,0,111]
[21,15772,11,15782,11,15787,null,null,null,null,0,211]
[12,15898,13,15902,13,15939,null,null,null,null,0,111]
[12,16041,13,16053,13,16063,null,null,null,null,0,111]
[12,16155,13,16169,13,16175,null,null,null,null,0,111]
[21,16270,11,16280,11,16286,null,null,null,null,0,211]
[12,16419,13,16425,13,16433,null,null,null,null,0,111]
[12,16536,13,16543,13,16552,null,null,null,null,0,111]
[21,16645,11,16654,11,16662,null,null,null,null,0,211]
[21,16775,11,16784,11,16792,null,null,null,null,0,211]
[21,16939,11,16948,11,16953,null,null,null,null,0,211]
[12,17073,13,17088,13,17104,null,null,null,null,0,111]
[12,17206,13,17212,13,17219,null,null,null,null,0,111]
[12,17320,13,17324,24,17335,null,null,null,null,0,112]
[12,17441,13,17454,13,17462,null,null,null,null,0,111]
[12,17566,13,17570,13,17575,null,null,null,null,0,111]
[12,17676,13,17681,13,17707,null,null,null,null,0,111]
[21,17800,11,17810,11,17815,null,null,null,null,0,211]
[12,17922,13,17929,24,17942,null,null,null,null,0,112]
[21,18033,11,18044,11,18048,null,null,null,null,0,211]
[12,18173,13,18181,24,18193,null,null,null,null,0,112]
[12,18297,13,18311,24,18321,null,null,null,null,0,112]
[21,18414,11,18424,11,18429,null,null,null,null,0,211]
[12,18546,13,18553,13,18571,null,null,null,null,0,111]
[12,18671,13,18675,24,18686,null,null,null,null,0,112]
[12,18791,13,18796,13,18804,null,null,null,null,0,111]
[12,18904,13,18909,13,18915,null,null,null,null,0,111]
[12,19019,13,19021,13,19034,null,null,null,null,0,111]
[12,19134,13,19145,24,19163,null,null,null,null,0,112]
[21,19256,11,19267,11,19274,null,null,null,null,1,211]

{"sheet":"!MC2391I.sha","index":10,"n_rows":175,"n_cols":48,"rows_kept":175,"cut":false,"hidden":false,"merged":[[1,1,1,2],[5,13,5,14],[18,13,18,14],[19,13,19,14],[4,19,4,22],[5,19,5,20],[4,39,4,42],[5,39,5,40],[4,44,4,47],[5,44,5,45],[4,24,4,27],[5,24,5,25],[4,29,4,32],[5,29,5,30],[4,34,4,37],[5,34,5,35]]}
["Report for:!MC2391I.sha"]
["Date:","<date>"]
["Hen:","<hen>",null,null,null,"Correct Sequence",{"$f":"Start!J2","v":211},null,null,null,null,null,null,null,null,"Total Sequences in Data",{"$f":"4994-COUNTBLANK(L7:L5000)","v":169},null,null,null,null,"Total Sequences in Block Data",{"$f":"COUNTA(L7:L34)","v":28},null,null,null,"Total Sequences in Block Data",{"$f":"COUNTA(L35:L62)","v":28},null,null,null,"Total Sequences in Block Data",{"$f":"COUNTA(L63:L91)","v":29},null,null,null,"Total Sequences in Block Data",{"$f":"COUNTA(L92:L119)","v":28},null,null,null,"Total Sequences in Block Data",{"$f":"COUNTA(L120:L147)","v":28},null,null,null,"Total Sequences in Block Data",{"$f":"COUNTA(L148:L175)","v":28}]
[null,null,null,null,null,null,null,null,null,null,null,null,null,null,null,"Total Sequences in Summary",{"$f":"SUM(O7:O14)","v":169},null,null,null,null,"Total Sequences in Block Summary",{"$f":"SUM(U7:U14)","v":28},null,null,null,"Total Sequences in Block Summary",{"$f":"SUM(Z7:Z14)","v":28},null,null,null,"Total Sequences in Block Summary",{"$f":"SUM(AE7:AE14)","v":29},null,null,null,"Total Sequences in Block Summary",{"$f":"SUM(AJ7:AJ14)","v":28},null,null,null,"Total Sequences in Block Summary",{"$f":"SUM(AO7:AO14)","v":28},null,null,null,"Total Sequences in Block Summary",{"$f":"SUM(AT7:AT14)","v":28}]
[null,null,null,null,null,null,null,null,null,null,null,null,null,null,null,null,null,null,null,"Block 1",null,null,null,null,"Block 2",null,null,null,null,"Block 3",null,null,null,null,"Block 4",null,null,null,null,"Block 5",null,null,null,null,"Block 6"]
["Sequence\nComponent\n1","Time\n1","Sequence\nComponent\n2","Time\n2","Sequence\nComponent\n3","Time\n3","Sequence\nComponent\n4","Time\n4","Sequence\nComponent\n5","Time\n5","Correct?\n0=No 1=Yes","Sequence",null,"Frequency",null,"Relative Frequency","Variability",null,null,"Frequency",null,"Relative Frequency","Variability",null,"Frequency",null,"Relative Frequency","Variability",null,"Frequency",null,"Relative Frequency","Variability",null,"Frequency",null,"Relative Frequency","Variability",null,"Frequency",null,"Relative Frequency","Variability",null,"Frequency",null,"Relative Frequency","Variability"]
[12,12,13,26,13,40,null,null,null,null,0,111,null,111,{"$f":"COUNTIF($L$7:$L$500,N7)","v":86},{"$f":"O7/$Q$4","v":0.50887573964497046},{"$f":"IF(P7=0,0,(P7*((LOG(P7))/LOG(2))))","v":-0.49595776695791377},null,null,{"$f":"N7","v":111},{"$f":"COUNTIF(L7:L34,T7)","v":19},{"$f":"U7/(W4-U11)","v":0.82608695652173914},{"$f":"IF(V7=0,0,(V7*((LOG(V7))/LOG(2))))","v":-0.22769801781109217},null,{"$f":"N7","v":111},{"$f":"COUNTIF(L35:L62,Y7)","v":15},{"$f":"Z7/(AB4-Z11)","v":0.625},{"$f":"IF(AA7=0,0,(AA7*((LOG(AA7))/LOG(2))))","v":-0.42379494069539858},null,{"$f":"N7","v":111},{"$f":"COUNTIF(L63:L91,AD7)","v":14},{"$f":"AE7/(AG4-AE11)","v":0.77777777777777779},{"$f":"IF(AF7=0,0,(AF7*((LOG(AF7))/LOG(2))))","v":-0.28199895063255082},null,{"$f":"N7","v":111},{"$f":"COUNTIF(L92:L119,AI7)","v":14},{"$f":"AJ7/(AL4-AJ11)","v":0.82352941176470584},{"$f":"IF(AK7=0,0,(AK7*((LOG(AK7))/LOG(2))))","v":-0.2306771099234291},null,{"$f":"N7","v":111},{"$f":"COUNTIF(L120:L147,AN7)","v":14},{"$f":"AO7/(AQ4-AO11)","v":0.58333333333333337},{"$f":"IF(AP7=0,0,(AP7*((LOG(AP7))/LOG(2))))","v":-0.45360442088707198},null,{"$f":"N7","v":111},{"$f":"COUNTIF(L148:L175,AS7)","v":10},{"$f":"AT7/(AV4-AT11)","v":0.4},{"$f":"IF(AU7=0,0,(AU7*((LOG(AU7))/LOG(2))))","v":-0.52877123795494496}]
[12,142,13,151,24,164,null,null,null,null,0,112,null,112,19,0.11242603550295859,-0.35447388481617381,null,null,112,{"$f":"COUNTIF(L7:L34,T8)","v":2},{"$f":"U8/(W4-U11)","v":8.6956521739130432E-2},{"$f":"IF(V8=0,0,(V8*((LOG(V8))/LOG(2))))","v":-0.30639669183104457},null,112,{"$f":"COUNTIF(L35:L62,Y8)","v":5},{"$f":"Z8/(AB4-Z11)","v":0.20833333333333334},{"$f":"IF(AA8=0,0,(AA8*((LOG(AA8))/LOG(2))))","v":-0.47146550121537367},null,112,{"$f":"COUNTIF(L63:L91,AD8)","v":3},{"$f":"AE8/(AG4-AE11)","v":0.16666666666666666},{"$f":"IF(AF8=0,0,(AF8*((LOG(AF8))/LOG(2))))","v":-0.43082708345352599},null,112,{"$f":"COUNTIF(L92:L119,AI8)","v":2},{"$f":"AJ8/(AL4-AJ11)","v":0.11764705882352941},{"$f":"IF(AK8=0,0,(AK8*((LOG(AK8))/LOG(2))))","v":-0.36323092250003997},null,112,{"$f":"COUNTIF(L120:L147,AN8)","v":3},{"$f":"AO8/(AQ4-AO11)","v":0.125},{"$f":"IF(AP8=0,0,(AP8*((LOG(AP8))/LOG(2))))","v":-0.375},null,112,{"$f":"COUNTIF(L148:L175,AS8)","v":4},{"$f":"AT8/(AV4-AT11)","v":0.16},{"$f":"IF(AU8=0,0,(AU8*((LOG(AU8))/LOG(2))))","v":-0.42301699036395596}]
[12,264,13,274,13,278,null,null,null,null,0,111,null,121,13,7.6923076923076927E-2,-0.28464920908777636,null,null,121,{"$f":"COUNTIF(L7:L34,T9)","v":1},{"$f":"U9/(W4-U11)","v":4.3478260869565216E-2},{"$f":"IF(V9=0,0,(V9*((LOG(V9))/LOG(2))))","v":-0.19667660678508753},null,121,{"$f":"COUNTIF(L35:L62,Y9)","v":4},{"$f":"Z9/(AB4-Z11)","v":0.16666666666666666},{"$f":"IF(AA9=0,0,(AA9*((LOG(AA9))/LOG(2))))","v":-0.43082708345352599},null,121,{"$f":"COUNTIF(L63:L91,AD9)","v":1},{"$f":"AE9/(AG4-AE11)","v":5.5555555555555552E-2},{"$f":"IF(AF9=0,0,(AF9*((LOG(AF9))/LOG(2))))","v":-0.23166250008012845},null,121,{"$f":"COUNTIF(L92:L119,AI9)","v":1},{"$f":"AJ9/(AL4-AJ11)","v":5.8823529411764705E-2},{"$f":"IF(AK9=0,0,(AK9*((LOG(AK9))/LOG(2))))","v":-0.24043899066178465},null,121,{"$f":"COUNTIF(L120:L147,AN9)","v":2},{"$f":"AO9/(AQ4-AO11)","v":8.3333333333333329E-2},{"$f":"IF(AP9=0,0,(AP9*((LOG(AP9))/LOG(2))))","v":-0.29874687506009634},null,121,{"$f":"COUNTIF(L148:L175,AS9)","v":4},{"$f":"AT9/(AV4-AT11)","v":0.16},{"$f":"IF(AU9=0,0,(AU9*((LOG(AU9))/LOG(2))))","v":-0.42301699036395596}]
[12,384,13,393,13,401,null,null,null,null,0,111,null,122,4,2.3668639053254437E-2,-0.12783146594750733,null,null,122,{"$f":"COUNTIF(L7:L34,T10)","v":0},{"$f":"U10/(W4-U11)","v":0},{"$f":"IF(V10=0,0,(V10*((LOG(V10))/LOG(2))))","v":0},null,122,{"$f":"COUNTIF(L35:L62,Y10)","v":0},{"$f":"Z10/(AB4-Z11)","v":0},{"$f":"IF(AA10=0,0,(AA10*((LOG(AA10))/LOG(2))))","v":0},null,122,{"$f":"COUNTIF(L63:L91,AD10)","v":0},{"$f":"AE10/(AG4-AE11)","v":0},{"$f":"IF(AF10=0,0,(AF10*((LOG(AF10))/LOG(2))))","v":0},null,122,{"$f":"COUNTIF(L92:L119,AI10)","v":0},{"$f":"AJ10/(AL4-AJ11)","v":0},{"$f":"IF(AK10=0,0,(AK10*((LOG(AK10))/LOG(2))))","v":0},null,122,{"$f":"COUNTIF(L120:L147,AN10)","v":1},{"$f":"AO10/(AQ4-AO11)","v":4.1666666666666664E-2},{"$f":"IF(AP10=0,0,(AP10*((LOG(AP10))/LOG(2))))","v":-0.19104010419671485},null,122,{"$f":"COUNTIF(L148:L175,AS10)","v":3},{"$f":"AT10/(AV4-AT11)","v":0.12},{"$f":"IF(AU10=0,0,(AU10*((LOG(AU10))/LOG(2))))","v":-0.36706724268642821}]
[12,591,13,594,24,604,null,null,null,null,0,112,null,211,38,0.22485207100591717,-0.48409569862643048,null,null,211,{"$f":"COUNTIF(L7:L34,T11)","v":5},null,null,null,211,{"$f":"COUNTIF(L35:L62,Y11)","v":4},null,null,null,211,{"$f":"COUNTIF(L63:L91,AD11)","v":11},null,null,null,211,{"$f":"COUNTIF(L92:L119,AI11)","v":11},null,null,null,211,{"$f":"COUNTIF(L120:L147,AN11)","v":4},null,null,null,211,{"$f":"COUNTIF(L148:L175,AS11)","v":3}]
[12,703,13,713,13,721,null,null,null,null,0,111,null,212,5,2.9585798816568046E-2,-0.1502648325856456,null,null,212,{"$f":"COUNTIF(L7:L34,T12)","v":0},{"$f":"U12/(W4-U11)","v":0},{"$f":"IF(V12=0,0,(V12*((LOG(V12))/LOG(2))))","v":0},null,212,{"$f":"COUNTIF(L35:L62,Y12)","v":0},{"$f":"Z12/(AB4-Z11)","v":0},{"$f":"IF(AA12=0,0,(AA12*((LOG(AA12))/LOG(2))))","v":0},null,212,{"$f":"COUNTIF(L63:L91,AD12)","v":0},{"$f":"AE12/(AG4-AE11)","v":0},{"$f":"IF(AF12=0,0,(AF12*((LOG(AF12))/LOG(2))))","v":0},null,212,{"$f":"COUNTIF(L92:L119,AI12)","v":0},{"$f":"AJ12/(AL4-AJ11)","v":0},{"$f":"IF(AK12=0,0,(AK12*((LOG(AK12))/LOG(2))))","v":0},null,212,{"$f":"COUNTIF(L120:L147,AN12)","v":2},{"$f":"AO12/(AQ4-AO11)","v":8.3333333333333329E-2},{"$f":"IF(AP12=0,0,(AP12*((LOG(AP12))/LOG(2))))","v":-0.29874687506009634},null,212,{"$f":"COUNTIF(L148:L175,AS12)","v":3},{"$f":"AT12/(AV4-AT11)","v":0.12},{"$f":"IF(AU12=0,0,(AU12*((LOG(AU12))/LOG(2))))","v":-0.36706724268642821}]
[12,823,13,828,13,835,null,null,null,null,0,111,null,221,4,2.3668639053254437E-2,-0.12783146594750733,null,null,221,{"$f":"COUNTIF(L7:L34,T13)","v":1},{"$f":"U13/(W4-U11)","v":4.3478260869565216E-2},{"$f":"IF(V13=0,0,(V13*((LOG(V13))/LOG(2))))","v":-0.19667660678508753},null,221,{"$f":"COUNTIF(L35:L62,Y13)","v":0},{"$f":"Z13/(AB4-Z11)","v":0},{"$f":"IF(AA13=0,0,(AA13*((LOG(AA13))/LOG(2))))","v":0},null,221,{"$f":"COUNTIF(L63:L91,AD13)","v":0},{"$f":"AE13/(AG4-AE11)","v":0},{"$f":"IF(AF13=0,0,(AF13*((LOG(AF13))/LOG(2))))","v":0},null,221,{"$f":"COUNTIF(L92:L119,AI13)","v":0},{"$f":"AJ13/(AL4-AJ11)","v":0},{"$f":"IF(AK13=0,0,(AK13*((LOG(AK13))/LOG(2))))","v":0},null,221,{"$f":"COUNTIF(L120:L147,AN13)","v":2},{"$f":"AO13/(AQ4-AO11)","v":8.3333333333333329E-2},{"$f":"IF(AP13=0,0,(AP13*((LOG(AP13))/LOG(2))))","v":-0.29874687506009634},null,221,{"$f":"COUNTIF(L148:L175,AS13)","v":1},{"$f":"AT13/(AV4-AT11)","v":0.04},{"$f":"IF(AU13=0,0,(AU13*((LOG(AU13))/LOG(2))))","v":-0.18575424759098899}]
[12,927,13,938,13,942,null,null,null,null,0,111,null,222,0,0,0,null,null,222,{"$f":"COUNTIF(L7:L34,T14)","v":0},{"$f":"U14/(W4-U11)","v":0},{"$f":"IF(V14=0,0,(V14*((LOG(V14))/LOG(2))))","v":0},null,222,{"$f":"COUNTIF(L35:L62,Y14)","v":0},{"$f":"Z14/(AB4-Z11)","v":0},{"$f":"IF(AA14=0,0,(AA14*((LOG(AA14))/LOG(2))))","v":0},null,222,{"$f":"COUNTIF(L63:L91,AD14)","v":0},{"$f":"AE14/(AG4-AE11)","v":0},{"$f":"IF(AF14=0,0,(AF14*((LOG(AF14))/LOG(2))))","v":0},null,222,{"$f":"COUNTIF(L92:L119,AI14)","v":0},{"$f":"AJ14/(AL4-AJ11)","v":0},{"$f":"IF(AK14=0,0,(AK14*((LOG(AK14))/LOG(2))))","v":0},null,222,{"$f":"COUNTIF(L120:L147,AN14)","v":0},{"$f":"AO14/(AQ4-AO11)","v":0},{"$f":"IF(AP14=0,0,(AP14*((LOG(AP14))/LOG(2))))","v":0},null,222,{"$f":"COUNTIF(L148:L175,AS14)","v":0},{"$f":"AT14/(AV4-AT11)","v":0},{"$f":"IF(AU14=0,0,(AU14*((LOG(AU14))/LOG(2))))","v":0}]
[12,1096,13,1101,13,1114,null,null,null,null,0,111,null,null,null,{"$f":"SUM(P7:P14)","v":1},{"$f":"-SUM(Q7:Q14)","v":2.0251043239689546},null,null,null,null,{"$f":"SUM(V7:V14)","v":1},{"$f":"-SUM(W7:W14)","v":0.92744792321231184},null,null,null,{"$f":"SUM(AA7:AA14)","v":1},{"$f":"-SUM(AB7:AB14)","v":1.3260875253642983},null,null,null,{"$f":"SUM(AF7:AF14)","v":1},{"$f":"-SUM(AG7:AG14)","v":0.94448853416620526},null,null,null,{"$f":"SUM(AK7:AK14)","v":1},{"$f":"-SUM(AL7:AL14)","v":0.83434702308525377},null,null,null,{"$f":"SUM(AP7:AP14)","v":1},{"$f":"-SUM(AQ7:AQ14)","v":1.9158851502640759},null,null,null,{"$f":"SUM(AU7:AU14)","v":1},{"$f":"-SUM(AV7:AV14)","v":2.2946939516467024}]
[12,1248,13,1252,13,1290,null,null,null,null,0,111,null,null,null,"U=",{"$f":"Q15/(LOG(Q4)/LOG(2))","v":0.27363022751607763},null,null,null,null,"U1=",{"$f":"W15/(LOG(W4)/LOG(2))","v":0.19292270661292329},null,null,null,"U2=",{"$f":"AB15/(LOG(AB4)/LOG(2))","v":0.27584556307249258},null,null,null,"U3=",{"$f":"AG15/(LOG(AG4)/LOG(2))","v":0.19441997305331218},null,null,null,"U4=",{"$f":"AL15/(LOG(AL4)/LOG(2))","v":0.17355636032967242},null,null,null,"U5=",{"$f":"AQ15/(LOG(AQ4)/LOG(2))","v":0.39853207872658064},null,null,null,"U6=",{"$f":"AV15/(LOG(AV4)/LOG(2))","v":0.47732983914250848}]
[12,1392,13,1399,13,1407,null,null,null,null,0,111]
[21,1521,11,1530,11,1535,null,null,null,null,0,211]
[12,1733,13,1738,13,1747,null,null,null,null,0,111,null,"Total Target Seq"]
[12,1845,13,1861,13,1871,null,null,null,null,0,111,null,{"$f":"COUNTIF(L7:L175,G3)","v":38},null,28,28,29,28,28,28]
[12,1971,13,1975,13,1983,null,null,null,null,0,111,null,null,null,"% of reinforcement given in 6 equal intervals based on number of trials "]
[12,2087,13,2098,13,2108,null,null,null,null,0,111,null,null,null,"%_1","%_2","%_3","%_4","%_5","%_6"]
[12,2209,13,2214,13,2223,null,null,null,null,0,111,null,null,"target sequence",{"$f":"$G$3","v":211},211,211,211,211,211]
[21,2315,11,2325,11,2331,null,null,null,null,0,211,null,null,"total reinforcement",{"$f":"U11","v":5},{"$f":"Z11","v":4},{"$f":"AE11","v":11},{"$f":"AJ11","v":11},{"$f":"AO11","v":4},{"$f":"AT11","v":3}]
[12,2546,13,2551,13,2559,null,null,null,null,0,111,null,null,"% target"]
[21,2651,11,2660,11,2669,null,null,null,null,0,211,null,null,"CCRF"]
[12,2798,13,2803,13,2808,null,null,null,null,0,111,null,null,"% CCRf"]
[21,2900,11,2909,11,2917,null,null,null,null,0,211,null,null,"average response rate",{"$f":"F34/P20","v":137.17857142857142},{"$f":"(F62-F34)/Q20","v":132.07142857142858},{"$f":"(F91-F62)/R20","v":140.20689655172413},{"$f":"(F119-F91)/S20","v":136.17857142857142},{"$f":"(F147-F119)/T20","v":125.17857142857143},{"$f":"(F175-F147)/U20","v":179.10714285714286}]
[21,3143,22,3152,13,3161,null,null,null,null,0,221]
[12,3260,13,3272,13,3284,null,null,null,null,0,111]
[12,3395,24,3406,13,3426,null,null,null,null,0,121]
[21,3518,11,3528,11,3535,null,null,null,null,0,211]
[12,3686,13,3700,13,3706,null,null,null,null,0,111]
[12,3809,13,3814,13,3841,null,null,null,null,0,111]
[12,3942,13,3947,13,3954,null,null,null,null,0,111]
[12,4056,13,4064,24,4074,null,null,null,null,0,112]
[12,4174,24,4187,13,4204,null,null,null,null,0,121]
[12,4303,24,4316,13,4336,null,null,null,null,0,121]
[21,4440,11,4450,11,4455,null,null,null,null,0,211]
[12,4612,13,4622,24,4632,null,null,null,null,0,112]
[12,4736,13,4743,13,4769,null,null,null,null,0,111]
[21,4863,11,4872,11,4877,null,null,null,null,0,211]
[21,4994,11,5001,11,5009,null,null,null,null,0,211]
[12,5221,13,5235,13,5246,null,null,null,null,0,111]
[12,5345,13,5348,13,5372,null,null,null,null,0,111]
[12,5471,13,5476,13,5502,null,null,null,null,0,111]
[12,5602,13,5606,24,5617,null,null,null,null,0,112]
[12,5720,13,5724,13,5730,null,null,null,null,0,111]
[12,5843,24,5857,13,5875,null,null,null,null,0,121]
[12,5974,13,5979,24,5988,null,null,null,null,0,112]
[12,6095,13,6103,13,6129,null,null,null,null,0,111]
[12,6234,13,6238,13,6243,null,null,null,null,0,111]
[12,6340,13,6347,24,6372,null,null,null,null,0,112]
[12,6480,13,6485,13,6492,null,null,null,null,0,111]
[12,6600,13,6605,13,6638,null,null,null,null,0,111]
[12,6738,13,6753,13,6760,null,null,null,null,0,111]
[21,6857,11,6866,11,6871,null,null,null,null,0,211]
[12,7009,13,7014,13,7020,null,null,null,null,0,111]
[12,7133,13,7138,13,7143,null,null,null,null,0,111]
[12,7247,13,7254,13,7284,null,null,null,null,0,111]
[12,7390,24,7401,13,7421,null,null,null,null,0,121]
[12,7513,13,7535,13,7539,null,null,null,null,0,111]
[21,7639,11,7647,11,7652,null,null,null,null,0,211]
[12,7795,13,7803,24,7816,null,null,null,null,0,112]
[12,7917,13,7922,13,7970,null,null,null,null,0,111]
[12,8070,13,8074,13,8079,null,null,null,null,0,111]
[21,8181,11,8190,11,8195,null,null,null,null,0,211]
[12,8334,13,8347,13,8359,null,null,null,null,0,111]
[12,8466,13,8473,13,8482,null,null,null,null,0,111]
[21,8577,11,8586,11,8591,null,null,null,null,0,211]
[21,8709,11,8717,11,8729,null,null,null,null,0,211]
[12,8950,13,8954,24,8969,null,null,null,null,0,112]
[21,9061,11,9071,11,9079,null,null,null,null,0,211]
[21,9203,11,9216,11,9226,null,null,null,null,0,211]
[21,9365,11,9374,11,9383,null,null,null,null,0,211]
[21,9530,11,9562,11,9576,null,null,null,null,0,211]
[12,9785,13,9789,13,9797,null,null,null,null,0,111]
[12,9902,13,9907,13,9916,null,null,null,null,0,111]
[12,10033,13,10040,24,10051,null,null,null,null,0,112]
[12,10150,13,10155,13,10161,null,null,null,null,0,111]
[12,10264,13,10268,13,10276,null,null,null,null,0,111]
[21,10368,11,10383,11,10389,null,null,null,null,0,211]
[12,10538,13,10551,13,10561,null,null,null,null,0,111]
[21,10658,11,10665,11,10669,null,null,null,null,0,211]
[12,10791,13,10798,13,10804,null,null,null,null,0,111]
[12,10908,13,10914,13,10939,null,null,null,null,0,111]
[12,11040,24,11050,13,11067,null,null,null,null,0,121]
[12,11168,13,11173,13,11178,null,null,null,null,0,111]
[12,11280,13,11285,13,11291,null,null,null,null,0,111]
[21,11384,11,11393,11,11397,null,null,null,null,0,211]
[12,11584,13,11593,13,11605,null,null,null,null,0,111]
[12,11709,24,11720,13,11742,null,null,null,null,0,121]
[12,11864,13,11886,13,11891,null,null,null,null,0,111]
[12,11992,13,12001,13,12010,null,null,null,null,0,111]
[12,12124,13,12128,13,12135,null,null,null,null,0,111]
[12,12237,13,12242,13,12252,null,null,null,null,0,111]
[12,12358,13,12365,13,12374,null,null,null,null,0,111]
[12,12474,13,12478,13,12485,null,null,null,null,0,111]
[21,12586,11,12596,11,12601,null,null,null,null,0,211]
[21,12696,11,12734,11,12748,null,null,null,null,0,211]
[12,12933,13,12938,13,12945,null,null,null,null,0,111]
[21,13044,11,13054,11,13058,null,null,null,null,0,211]
[21,13180,11,13200,11,13211,null,null,null,null,0,211]
[12,13360,13,13365,13,13374,null,null,null,null,0,111]
[12,13480,13,13484,13,13493,null,null,null,null,0,111]
[21,13594,11,13603,11,13607,null,null,null,null,0,211]
[12,13719,13,13731,13,13740,null,null,null,null,0,111]
[21,13832,11,13843,11,13851,null,null,null,null,0,211]
[21,13986,11,13995,11,14008,null,null,null,null,0,211]
[21,14108,11,14117,11,14128,null,null,null,null,0,211]
[21,14252,11,14261,11,14266,null,null,null,null,0,211]
[12,14398,13,14410,13,14425,null,null,null,null,0,111]
[21,14523,11,14533,11,14538,null,null,null,null,0,211]
[12,14648,13,14654,24,14666,null,null,null,null,0,112]
[12,14773,13,14777,24,14789,null,null,null,null,0,112]
[21,14884,11,14893,11,14898,null,null,null,null,0,211]
[12,15073,13,15096,13,15161,null,null,null,null,0,111]
[12,15263,13,15268,13,15300,null,null,null,null,0,111]
[12,15405,13,15411,13,15418,null,null,null,null,0,111]
[12,15527,13,15536,24,15547,null,null,null,null,0,112]
[21,15647,11,15656,11,15661,null,null,null,null,0,211]
[21,15753,11,15761,22,15766,null,null,null,null,0,212]
[21,15866,11,15871,22,15882,null,null,null,null,0,212]
[12,15985,13,15988,13,16017,null,null,null,null,0,111]
[12,16118,13,16126,13,16133,null,null,null,null,0,111]
[12,16238,13,16261,13,16267,null,null,null,null,0,111]
[12,16373,13,16377,13,16382,null,null,null,null,0,111]
[12,16480,13,16490,13,16510,null,null,null,null,0,111]
[12,16603,13,16613,13,16618,null,null,null,null,0,111]
[12,16714,13,16731,13,16735,null,null,null,null,0,111]
[21,16834,11,16842,11,16852,null,null,null,null,0,211]
[12,16983,13,16987,13,16997,null,null,null,null,0,111]
[21,17089,11,17098,11,17107,null,null,null,null,0,211]
[21,17311,22,17315,13,17320,null,null,null,null,0,221]
[12,17426,24,17435,13,17439,null,null,null,null,0,121]
[12,17540,24,17545,24,17554,null,null,null,null,0,122]
[12,17656,13,17665,13,17675,null,null,null,null,0,111]
[12,17776,13,17780,24,17789,null,null,null,null,0,112]
[12,17918,13,17925,13,17933,null,null,null,null,0,111]
[12,18034,24,18040,13,18046,null,null,null,null,0,121]
[12,18139,13,18149,13,18157,null,null,null,null,0,111]
[21,18261,22,18266,13,18272,null,null,null,null,0,221]
[12,18372,13,18378,24,18387,null,null,null,null,0,112]
[12,18488,13,18517,13,18523,null,null,null,null,0,111]
[21,18629,11,18635,11,18641,null,null,null,null,0,211]
[12,18774,13,18793,13,18805,null,null,null,null,0,111]
[12,18909,13,18914,13,18923,null,null,null,null,0,111]
[12,19023,13,19028,13,19033,null,null,null,null,0,111]
[12,19178,13,19184,13,19190,null,null,null,null,0,111]
[12,19291,24,19295,13,19299,null,null,null,null,0,121]
[21,19400,11,19405,11,19409,null,null,null,null,0,211]
[21,19564,11,19568,22,19575,null,null,null,null,0,212]
[21,19678,11,19683,11,19688,null,null,null,null,0,211]
[12,19789,24,19800,13,19809,null,null,null,null,0,121]
[12,19901,13,19912,13,19917,null,null,null,null,0,111]
[21,20025,11,20030,22,20053,null,null,null,null,0,212]
[12,20154,13,20158,13,20164,null,null,null,null,0,111]
[12,20256,13,20268,24,20272,null,null,null,null,0,112]
[12,20379,13,20425,13,20430,null,null,null,null,0,111]
[21,20527,22,20537,13,20548,null,null,null,null,0,221]
[12,20646,24,20652,13,20656,null,null,null,null,0,121]
[12,20761,13,20765,13,20770,null,null,null,null,0,111]
[12,20862,13,20871,13,20876,null,null,null,null,0,111]
[12,20989,13,20993,24,20999,null,null,null,null,0,112]
[12,21101,24,21107,13,21120,null,null,null,null,0,121]
[12,21220,24,21229,24,21233,null,null,null,null,0,122]
[12,21407,13,21419,13,21430,null,null,null,null,0,111]
[12,21542,13,21551,13,21558,null,null,null,null,0,111]
[12,21664,24,21674,24,21683,null,null,null,null,0,122]
[12,21786,13,21790,13,21795,null,null,null,null,0,111]
[12,21900,24,21904,24,21909,null,null,null,null,0,122]
[21,22018,11,22023,22,22029,null,null,null,null,0,212]
[12,23580,13,23584,24,23593,null,null,null,null,0,112]
[21,23687,11,23701,11,23727,null,null,null,null,0,211]
[12,23905,13,23918,24,23938,null,null,null,null,null,112]

{"sheet":"!MC2493I.sha","index":11,"n_rows":197,"n_cols":48,"rows_kept":197,"cut":false,"hidden":false,"merged":[[1,1,1,2],[5,13,5,14],[18,13,18,14],[19,13,19,14],[4,19,4,22],[5,19,5,20],[4,39,4,42],[5,39,5,40],[4,44,4,47],[5,44,5,45],[4,24,4,27],[5,24,5,25],[4,29,4,32],[5,29,5,30],[4,34,4,37],[5,34,5,35]]}
["Report for:!MC2493I.sha"]
["Date:","<date>"]
["Hen:","<hen>",null,null,null,"Correct Sequence",{"$f":"Start!J2","v":211},null,null,null,null,null,null,null,null,"Total Sequences in Data",{"$f":"4994-COUNTBLANK(L7:L5000)","v":191},null,null,null,null,"Total Sequences in Block Data",{"$f":"COUNTA(L7:L38)","v":32},null,null,null,"Total Sequences in Block Data",{"$f":"COUNTA(L39:L70)","v":32},null,null,null,"Total Sequences in Block Data",{"$f":"COUNTA(L71:L101)","v":31},null,null,null,"Total Sequences in Block Data",{"$f":"COUNTA(L102:L133)","v":32},null,null,null,"Total Sequences in Block Data",{"$f":"COUNTA(L134:L165)","v":32},null,null,null,"Total Sequences in Block Data",{"$f":"COUNTA(L166:L197)","v":32}]
[null,null,null,null,null,null,null,null,null,null,null,null,null,null,null,"Total Sequences in Summary",{"$f":"SUM(O7:O14)","v":191},null,null,null,null,"Total Sequences in Block Summary",{"$f":"SUM(U7:U14)","v":32},null,null,null,"Total Sequences in Block Summary",{"$f":"SUM(Z7:Z14)","v":32},null,null,null,"Total Sequences in Block Summary",{"$f":"SUM(AE7:AE14)","v":31},null,null,null,"Total Sequences in Block Summary",{"$f":"SUM(AJ7:AJ14)","v":32},null,null,null,"Total Sequences in Block Summary",{"$f":"SUM(AO7:AO14)","v":32},null,null,null,"Total Sequences in Block Summary",{"$f":"SUM(AT7:AT14)","v":32}]
[null,null,null,null,null,null,null,null,null,null,null,null,null,null,null,null,null,null,null,"Block 1",null,null,null,null,"Block 2",null,null,null,null,"Block 3",null,null,null,null,"Block 4",null,null,null,null,"Block 5",null,null,null,null,"Block 6"]
["Sequence\nComponent\n1","Time\n1","Sequence\nComponent\n2","Time\n2","Sequence\nComponent\n3","Time\n3","Sequence\nComponent\n4","Time\n4","Sequence\nComponent\n5","Time\n5","Correct?\n0=No 1=Yes","Sequence",null,"Frequency",null,"Relative Frequency","Variability",null,null,"Frequency",null,"Relative Frequency","Variability",null,"Frequency",null,"Relative Frequency","Variability",null,"Frequency",null,"Relative Frequency","Variability",null,"Frequency",null,"Relative Frequency","Variability",null,"Frequency",null,"Relative Frequency","Variability",null,"Frequency",null,"Relative Frequency","Variability"]
[12,9,13,15,13,20,null,null,null,null,0,111,null,111,{"$f":"COUNTIF($L$7:$L$500,N7)","v":102},{"$f":"O7/$Q$4","v":0.53403141361256545},{"$f":"IF(P7=0,0,(P7*((LOG(P7))/LOG(2))))","v":-0.48330029098719274},null,null,{"$f":"N7","v":111},{"$f":"COUNTIF(L7:L38,T7)","v":20},{"$f":"U7/(W4-U11)","v":0.68965517241379315},{"$f":"IF(V7=0,0,(V7*((LOG(V7))/LOG(2))))","v":-0.36969165533807569},null,{"$f":"N7","v":111},{"$f":"COUNTIF(L39:L70,Y7)","v":12},{"$f":"Z7/(AB4-Z11)","v":0.44444444444444442},{"$f":"IF(AA7=0,0,(AA7*((LOG(AA7))/LOG(2))))","v":-0.51996666730769447},null,{"$f":"N7","v":111},{"$f":"COUNTIF(L71:L101,AD7)","v":13},{"$f":"AE7/(AG4-AE11)","v":0.54166666666666663},{"$f":"IF(AF7=0,0,(AF7*((LOG(AF7))/LOG(2))))","v":-0.47911650723086807},null,{"$f":"N7","v":111},{"$f":"COUNTIF(L102:L133,AI7)","v":20},{"$f":"AJ7/(AL4-AJ11)","v":0.66666666666666663},{"$f":"IF(AK7=0,0,(AK7*((LOG(AK7))/LOG(2))))","v":-0.38997500048077083},null,{"$f":"N7","v":111},{"$f":"COUNTIF(L134:L165,AN7)","v":17},{"$f":"AO7/(AQ4-AO11)","v":0.56666666666666665},{"$f":"IF(AP7=0,0,(AP7*((LOG(AP7))/LOG(2))))","v":-0.46434239413630152},null,{"$f":"N7","v":111},{"$f":"COUNTIF(L166:L197,AS7)","v":20},{"$f":"AT7/(AV4-AT11)","v":0.68965517241379315},{"$f":"IF(AU7=0,0,(AU7*((LOG(AU7))/LOG(2))))","v":-0.36969165533807569}]
[12,123,13,132,13,155,null,null,null,null,0,111,null,112,26,0.13612565445026178,-0.39163202543068626,null,null,112,{"$f":"COUNTIF(L7:L38,T8)","v":7},{"$f":"U8/(W4-U11)","v":0.2413793103448276},{"$f":"IF(V8=0,0,(V8*((LOG(V8))/LOG(2))))","v":-0.49497870729275095},null,112,{"$f":"COUNTIF(L39:L70,Y8)","v":6},{"$f":"Z8/(AB4-Z11)","v":0.22222222222222221},{"$f":"IF(AA8=0,0,(AA8*((LOG(AA8))/LOG(2))))","v":-0.48220555587606945},null,112,{"$f":"COUNTIF(L71:L101,AD8)","v":3},{"$f":"AE8/(AG4-AE11)","v":0.125},{"$f":"IF(AF8=0,0,(AF8*((LOG(AF8))/LOG(2))))","v":-0.375},null,112,{"$f":"COUNTIF(L102:L133,AI8)","v":3},{"$f":"AJ8/(AL4-AJ11)","v":0.1},{"$f":"IF(AK8=0,0,(AK8*((LOG(AK8))/LOG(2))))","v":-0.33219280948873625},null,112,{"$f":"COUNTIF(L134:L165,AN8)","v":6},{"$f":"AO8/(AQ4-AO11)","v":0.2},{"$f":"IF(AP8=0,0,(AP8*((LOG(AP8))/LOG(2))))","v":-0.46438561897747244},null,112,{"$f":"COUNTIF(L166:L197,AS8)","v":1},{"$f":"AT8/(AV4-AT11)","v":3.4482758620689655E-2},{"$f":"IF(AU8=0,0,(AU8*((LOG(AU8))/LOG(2))))","v":-0.16751658603888178}]
[12,258,13,263,24,276,null,null,null,null,0,112,null,121,30,0.15706806282722513,-0.41945626687338688,null,null,121,{"$f":"COUNTIF(L7:L38,T9)","v":2},{"$f":"U9/(W4-U11)","v":6.8965517241379309E-2},{"$f":"IF(V9=0,0,(V9*((LOG(V9))/LOG(2))))","v":-0.26606765483638428},null,121,{"$f":"COUNTIF(L39:L70,Y9)","v":5},{"$f":"Z9/(AB4-Z11)","v":0.18518518518518517},{"$f":"IF(AA9=0,0,(AA9*((LOG(AA9))/LOG(2))))","v":-0.45054803838446406},null,121,{"$f":"COUNTIF(L71:L101,AD9)","v":5},{"$f":"AE9/(AG4-AE11)","v":0.20833333333333334},{"$f":"IF(AF9=0,0,(AF9*((LOG(AF9))/LOG(2))))","v":-0.47146550121537367},null,121,{"$f":"COUNTIF(L102:L133,AI9)","v":6},{"$f":"AJ9/(AL4-AJ11)","v":0.2},{"$f":"IF(AK9=0,0,(AK9*((LOG(AK9))/LOG(2))))","v":-0.46438561897747244},null,121,{"$f":"COUNTIF(L134:L165,AN9)","v":5},{"$f":"AO9/(AQ4-AO11)","v":0.16666666666666666},{"$f":"IF(AP9=0,0,(AP9*((LOG(AP9))/LOG(2))))","v":-0.43082708345352599},null,121,{"$f":"COUNTIF(L166:L197,AS9)","v":7},{"$f":"AT9/(AV4-AT11)","v":0.2413793103448276},{"$f":"IF(AU9=0,0,(AU9*((LOG(AU9))/LOG(2))))","v":-0.49497870729275095}]
[12,379,13,382,24,396,null,null,null,null,0,112,null,122,2,1.0471204188481676E-2,-6.8873600293568052E-2,null,null,122,{"$f":"COUNTIF(L7:L38,T10)","v":0},{"$f":"U10/(W4-U11)","v":0},{"$f":"IF(V10=0,0,(V10*((LOG(V10))/LOG(2))))","v":0},null,122,{"$f":"COUNTIF(L39:L70,Y10)","v":1},{"$f":"Z10/(AB4-Z11)","v":3.7037037037037035E-2},{"$f":"IF(AA10=0,0,(AA10*((LOG(AA10))/LOG(2))))","v":-0.1761069445245729},null,122,{"$f":"COUNTIF(L71:L101,AD10)","v":0},{"$f":"AE10/(AG4-AE11)","v":0},{"$f":"IF(AF10=0,0,(AF10*((LOG(AF10))/LOG(2))))","v":0},null,122,{"$f":"COUNTIF(L102:L133,AI10)","v":0},{"$f":"AJ10/(AL4-AJ11)","v":0},{"$f":"IF(AK10=0,0,(AK10*((LOG(AK10))/LOG(2))))","v":0},null,122,{"$f":"COUNTIF(L134:L165,AN10)","v":1},{"$f":"AO10/(AQ4-AO11)","v":3.3333333333333333E-2},{"$f":"IF(AP10=0,0,(AP10*((LOG(AP10))/LOG(2))))","v":-0.16356301985361729},null,122,{"$f":"COUNTIF(L166:L197,AS10)","v":0},{"$f":"AT10/(AV4-AT11)","v":0},{"$f":"IF(AU10=0,0,(AU10*((LOG(AU10))/LOG(2))))","v":0}]
[12,487,13,499,24,503,null,null,null,null,0,112,null,211,22,0.11518324607329843,-0.35914103982599965,null,null,211,{"$f":"COUNTIF(L7:L38,T11)","v":3},null,null,null,211,{"$f":"COUNTIF(L39:L70,Y11)","v":5},null,null,null,211,{"$f":"COUNTIF(L71:L101,AD11)","v":7},null,null,null,211,{"$f":"COUNTIF(L102:L133,AI11)","v":2},null,null,null,211,{"$f":"COUNTIF(L134:L165,AN11)","v":2},null,null,null,211,{"$f":"COUNTIF(L166:L197,AS11)","v":3}]
[21,595,11,606,11,610,null,null,null,null,0,211,null,212,5,2.6178010471204188E-2,-0.13757855322377974,null,null,212,{"$f":"COUNTIF(L7:L38,T12)","v":0},{"$f":"U12/(W4-U11)","v":0},{"$f":"IF(V12=0,0,(V12*((LOG(V12))/LOG(2))))","v":0},null,212,{"$f":"COUNTIF(L39:L70,Y12)","v":2},{"$f":"Z12/(AB4-Z11)","v":7.407407407407407E-2},{"$f":"IF(AA12=0,0,(AA12*((LOG(AA12))/LOG(2))))","v":-0.27813981497507173},null,212,{"$f":"COUNTIF(L71:L101,AD12)","v":1},{"$f":"AE12/(AG4-AE11)","v":4.1666666666666664E-2},{"$f":"IF(AF12=0,0,(AF12*((LOG(AF12))/LOG(2))))","v":-0.19104010419671485},null,212,{"$f":"COUNTIF(L102:L133,AI12)","v":1},{"$f":"AJ12/(AL4-AJ11)","v":3.3333333333333333E-2},{"$f":"IF(AK12=0,0,(AK12*((LOG(AK12))/LOG(2))))","v":-0.16356301985361729},null,212,{"$f":"COUNTIF(L134:L165,AN12)","v":0},{"$f":"AO12/(AQ4-AO11)","v":0},{"$f":"IF(AP12=0,0,(AP12*((LOG(AP12))/LOG(2))))","v":0},null,212,{"$f":"COUNTIF(L166:L197,AS12)","v":1},{"$f":"AT12/(AV4-AT11)","v":3.4482758620689655E-2},{"$f":"IF(AU12=0,0,(AU12*((LOG(AU12))/LOG(2))))","v":-0.16751658603888178}]
[12,818,13,822,13,831,null,null,null,null,0,111,null,221,2,1.0471204188481676E-2,-6.8873600293568052E-2,null,null,221,{"$f":"COUNTIF(L7:L38,T13)","v":0},{"$f":"U13/(W4-U11)","v":0},{"$f":"IF(V13=0,0,(V13*((LOG(V13))/LOG(2))))","v":0},null,221,{"$f":"COUNTIF(L39:L70,Y13)","v":0},{"$f":"Z13/(AB4-Z11)","v":0},{"$f":"IF(AA13=0,0,(AA13*((LOG(AA13))/LOG(2))))","v":0},null,221,{"$f":"COUNTIF(L71:L101,AD13)","v":1},{"$f":"AE13/(AG4-AE11)","v":4.1666666666666664E-2},{"$f":"IF(AF13=0,0,(AF13*((LOG(AF13))/LOG(2))))","v":-0.19104010419671485},null,221,{"$f":"COUNTIF(L102:L133,AI13)","v":0},{"$f":"AJ13/(AL4-AJ11)","v":0},{"$f":"IF(AK13=0,0,(AK13*((LOG(AK13))/LOG(2))))","v":0},null,221,{"$f":"COUNTIF(L134:L165,AN13)","v":1},{"$f":"AO13/(AQ4-AO11)","v":3.3333333333333333E-2},{"$f":"IF(AP13=0,0,(AP13*((LOG(AP13))/LOG(2))))","v":-0.16356301985361729},null,221,{"$f":"COUNTIF(L166:L197,AS13)","v":0},{"$f":"AT13/(AV4-AT11)","v":0},{"$f":"IF(AU13=0,0,(AU13*((LOG(AU13))/LOG(2))))","v":0}]
[12,934,13,940,24,953,null,null,null,null,0,112,null,222,2,1.0471204188481676E-2,-6.8873600293568052E-2,null,null,222,{"$f":"COUNTIF(L7:L38,T14)","v":0},{"$f":"U14/(W4-U11)","v":0},{"$f":"IF(V14=0,0,(V14*((LOG(V14))/LOG(2))))","v":0},null,222,{"$f":"COUNTIF(L39:L70,Y14)","v":1},{"$f":"Z14/(AB4-Z11)","v":3.7037037037037035E-2},{"$f":"IF(AA14=0,0,(AA14*((LOG(AA14))/LOG(2))))","v":-0.1761069445245729},null,222,{"$f":"COUNTIF(L71:L101,AD14)","v":1},{"$f":"AE14/(AG4-AE11)","v":4.1666666666666664E-2},{"$f":"IF(AF14=0,0,(AF14*((LOG(AF14))/LOG(2))))","v":-0.19104010419671485},null,222,{"$f":"COUNTIF(L102:L133,AI14)","v":0},{"$f":"AJ14/(AL4-AJ11)","v":0},{"$f":"IF(AK14=0,0,(AK14*((LOG(AK14))/LOG(2))))","v":0},null,222,{"$f":"COUNTIF(L134:L165,AN14)","v":0},{"$f":"AO14/(AQ4-AO11)","v":0},{"$f":"IF(AP14=0,0,(AP14*((LOG(AP14))/LOG(2))))","v":0},null,222,{"$f":"COUNTIF(L166:L197,AS14)","v":0},{"$f":"AT14/(AV4-AT11)","v":0},{"$f":"IF(AU14=0,0,(AU14*((LOG(AU14))/LOG(2))))","v":0}]
[12,1054,13,1061,24,1071,null,null,null,null,0,112,null,null,null,{"$f":"SUM(P7:P14)","v":1},{"$f":"-SUM(Q7:Q14)","v":1.9977289772217497},null,null,null,null,{"$f":"SUM(V7:V14)","v":1},{"$f":"-SUM(W7:W14)","v":1.1307380174672108},null,null,null,{"$f":"SUM(AA7:AA14)","v":1},{"$f":"-SUM(AB7:AB14)","v":2.0830739655924457},null,null,null,{"$f":"SUM(AF7:AF14)","v":0.99999999999999989},{"$f":"-SUM(AG7:AG14)","v":1.8987023210363865},null,null,null,{"$f":"SUM(AK7:AK14)","v":0.99999999999999989},{"$f":"-SUM(AL7:AL14)","v":1.3501164488005968},null,null,null,{"$f":"SUM(AP7:AP14)","v":0.99999999999999989},{"$f":"-SUM(AQ7:AQ14)","v":1.6866811362745346},null,null,null,{"$f":"SUM(AU7:AU14)","v":1},{"$f":"-SUM(AV7:AV14)","v":1.1997035347085903}]
[12,1173,13,1177,13,1187,null,null,null,null,0,111,null,null,null,"U=",{"$f":"Q15/(LOG(Q4)/LOG(2))","v":0.2636420641564256},null,null,null,null,"U1=",{"$f":"W15/(LOG(W4)/LOG(2))","v":0.22614760349344215},null,null,null,"U2=",{"$f":"AB15/(LOG(AB4)/LOG(2))","v":0.41661479311848915},null,null,null,"U3=",{"$f":"AG15/(LOG(AG4)/LOG(2))","v":0.38325132919250754},null,null,null,"U4=",{"$f":"AL15/(LOG(AL4)/LOG(2))","v":0.27002328976011936},null,null,null,"U5=",{"$f":"AQ15/(LOG(AQ4)/LOG(2))","v":0.33733622725490692},null,null,null,"U6=",{"$f":"AV15/(LOG(AV4)/LOG(2))","v":0.23994070694171804}]
[21,1284,11,1293,11,1300,null,null,null,null,0,211]
[12,1440,13,1458,13,1474,null,null,null,null,0,111]
[12,1578,13,1582,13,1610,null,null,null,null,0,111,null,"Total Target Seq"]
[12,1712,24,1725,13,1740,null,null,null,null,0,121,null,{"$f":"COUNTIF(L7:L197,G3)","v":22},null,32,32,31,32,32,32]
[12,1842,13,1846,13,1856,null,null,null,null,0,111,null,null,null,"% of reinforcement given in 6 equal intervals based on number of trials "]
[12,1953,13,1966,24,1975,null,null,null,null,0,112,null,null,null,"%_1","%_2","%_3","%_4","%_5","%_6"]
[12,2067,24,2079,13,2083,null,null,null,null,0,121,null,null,"target sequence",{"$f":"$G$3","v":211},211,211,211,211,211]
[21,2179,11,2191,11,2198,null,null,null,null,0,211,null,null,"total reinforcement",{"$f":"U11","v":3},{"$f":"Z11","v":5},{"$f":"AE11","v":7},{"$f":"AJ11","v":2},{"$f":"AO11","v":2},{"$f":"AT11","v":3}]
[12,2304,13,2310,13,2340,null,null,null,null,0,111,null,null,"% target"]
[12,2454,13,2472,13,2481,null,null,null,null,0,111,null,null,"CCRF"]
[12,2586,13,2591,13,2603,null,null,null,null,0,111,null,null,"% CCRf"]
[12,2706,13,2710,13,2717,null,null,null,null,0,111,null,null,"average response rate",{"$f":"F38/P20","v":121.8125},{"$f":"(F70-F38)/Q20","v":128.71875},{"$f":"(F101-F70)/R20","v":123.12903225806451},{"$f":"(F133-F101)/S20","v":123.375},{"$f":"(F165-F133)/T20","v":123.25},{"$f":"(F197-F165)/U20","v":128.71875}]
[12,2809,13,2829,13,2836,null,null,null,null,0,111]
[12,2928,13,2939,24,2943,null,null,null,null,0,112]
[12,3050,13,3054,13,3061,null,null,null,null,0,111]
[12,3157,13,3172,13,3186,null,null,null,null,0,111]
[12,3278,13,3294,13,3299,null,null,null,null,0,111]
[12,3405,13,3410,13,3416,null,null,null,null,0,111]
[12,3528,13,3554,13,3559,null,null,null,null,0,111]
[12,3656,13,3666,13,3670,null,null,null,null,0,111]
[12,3764,13,3773,13,3778,null,null,null,null,0,111]
[12,3885,13,3890,13,3898,null,null,null,null,0,111]
[21,4007,11,4011,11,4019,null,null,null,null,0,211]
[12,4194,13,4203,24,4218,null,null,null,null,0,112]
[12,4333,24,4338,13,4343,null,null,null,null,0,121]
[12,4441,13,4458,13,4468,null,null,null,null,0,111]
[12,4617,13,4622,24,4649,null,null,null,null,0,112]
[12,4746,13,4756,13,4764,null,null,null,null,0,111]
[12,4868,13,4874,24,4889,null,null,null,null,0,112]
[12,4982,24,4991,24,5000,null,null,null,null,0,122]
[21,5103,11,5121,22,5135,null,null,null,null,0,212]
[12,5227,13,5239,13,5243,null,null,null,null,0,111]
[21,5337,11,5348,11,5355,null,null,null,null,0,211]
[21,5562,11,5566,11,5580,null,null,null,null,0,211]
[12,5718,13,5741,13,5753,null,null,null,null,0,111]
[12,5855,13,5861,24,5873,null,null,null,null,0,112]
[12,5976,13,5981,13,5990,null,null,null,null,0,111]
[21,6091,22,6096,24,6100,null,null,null,null,0,222]
[12,6204,13,6212,13,6222,null,null,null,null,0,111]
[12,6315,24,6327,13,6331,null,null,null,null,0,121]
[12,6424,13,6434,13,6438,null,null,null,null,0,111]
[12,6542,13,6554,13,6564,null,null,null,null,0,111]
[12,6661,13,6675,13,6687,null,null,null,null,0,111]
[12,6783,13,6793,13,6796,null,null,null,null,0,111]
[12,6894,13,6903,24,6907,null,null,null,null,0,112]
[12,6999,24,7010,13,7015,null,null,null,null,0,121]
[12,7108,13,7120,24,7133,null,null,null,null,0,112]
[21,7290,11,7295,11,7303,null,null,null,null,0,211]
[21,7417,11,7421,22,7433,null,null,null,null,0,212]
[12,7540,24,7547,13,7558,null,null,null,null,0,121]
[12,7667,24,7671,13,7676,null,null,null,null,0,121]
[12,7778,13,7782,13,7791,null,null,null,null,0,111]
[12,7883,13,7890,13,7902,null,null,null,null,0,111]
[21,8000,11,8010,11,8017,null,null,null,null,0,211]
[12,8119,13,8125,13,8138,null,null,null,null,0,111]
[12,8231,13,8247,13,8254,null,null,null,null,0,111]
[21,8346,11,8353,11,8365,null,null,null,null,0,211]
[12,8501,13,8515,13,8524,null,null,null,null,0,111]
[12,8644,13,8648,24,8661,null,null,null,null,0,112]
[21,8771,22,8775,24,8780,null,null,null,null,0,222]
[21,8876,11,8886,11,8895,null,null,null,null,0,211]
[21,9000,22,9009,13,9018,null,null,null,null,0,221]
[21,9128,11,9132,11,9137,null,null,null,null,0,211]
[12,9267,13,9280,24,9288,null,null,null,null,0,112]
[12,9383,13,9403,13,9409,null,null,null,null,0,111]
[12,9501,13,9512,13,9518,null,null,null,null,0,111]
[12,9620,13,9625,13,9649,null,null,null,null,0,111]
[12,9756,13,9770,13,9780,null,null,null,null,0,111]
[12,9881,24,9885,13,9890,null,null,null,null,0,121]
[21,9988,11,9999,22,10016,null,null,null,null,0,212]
[21,10117,11,10125,11,10138,null,null,null,null,0,211]
[12,10263,13,10268,13,10277,null,null,null,null,0,111]
[21,10370,11,10379,11,10391,null,null,null,null,0,211]
[12,10512,24,10516,13,10525,null,null,null,null,0,121]
[12,10627,13,10631,13,10644,null,null,null,null,0,111]
[12,10736,24,10746,13,10755,null,null,null,null,0,121]
[12,10852,13,10858,13,10867,null,null,null,null,0,111]
[12,10965,13,10973,24,10982,null,null,null,null,0,112]
[12,11083,13,11088,13,11125,null,null,null,null,0,111]
[12,11227,24,11232,13,11240,null,null,null,null,0,121]
[21,11340,11,11344,11,11353,null,null,null,null,0,211]
[12,11460,13,11469,13,11485,null,null,null,null,0,111]
[12,11577,13,11586,13,11593,null,null,null,null,0,111]
[12,11703,24,11706,13,11716,null,null,null,null,0,121]
[21,11820,11,11824,11,11834,null,null,null,null,0,211]
[12,11970,13,11972,24,11979,null,null,null,null,0,112]
[12,12080,13,12096,13,12150,null,null,null,null,0,111]
[12,12245,13,12255,13,12259,null,null,null,null,0,111]
[12,12361,24,12369,13,12378,null,null,null,null,0,121]
[12,12487,13,12492,24,12497,null,null,null,null,0,112]
[12,12609,13,12616,13,12642,null,null,null,null,0,111]
[12,12743,13,12749,13,12760,null,null,null,null,0,111]
[12,12861,13,12865,13,12894,null,null,null,null,0,111]
[12,12988,24,12999,13,13004,null,null,null,null,0,121]
[12,13106,13,13110,13,13121,null,null,null,null,0,111]
[12,13219,13,13223,13,13228,null,null,null,null,0,111]
[12,13330,13,13337,13,13348,null,null,null,null,0,111]
[12,13446,13,13454,13,13464,null,null,null,null,0,111]
[12,13565,13,13572,13,13587,null,null,null,null,0,111]
[21,13692,11,13697,11,13704,null,null,null,null,0,211]
[12,13825,13,13832,13,13843,null,null,null,null,0,111]
[12,13944,13,13948,13,13953,null,null,null,null,0,111]
[12,14059,13,14064,13,14070,null,null,null,null,0,111]
[12,14177,13,14182,13,14190,null,null,null,null,0,111]
[21,14317,11,14326,11,14343,null,null,null,null,0,211]
[12,14473,13,14485,13,14498,null,null,null,null,0,111]
[12,14590,13,14600,13,14608,null,null,null,null,0,111]
[12,14701,24,14713,13,14717,null,null,null,null,0,121]
[12,14819,24,14823,13,14830,null,null,null,null,0,121]
[21,14944,11,14949,22,14953,null,null,null,null,0,212]
[12,15045,13,15056,13,15068,null,null,null,null,0,111]
[12,15168,24,15177,13,15187,null,null,null,null,0,121]
[12,15279,13,15289,13,15293,null,null,null,null,0,111]
[12,15386,13,15402,13,15413,null,null,null,null,0,111]
[12,15505,24,15519,13,15524,null,null,null,null,0,121]
[12,15628,13,15632,24,15660,null,null,null,null,0,112]
[12,15764,13,15777,13,15782,null,null,null,null,0,111]
[12,15875,24,15884,13,15889,null,null,null,null,0,121]
[12,15995,13,16002,13,16014,null,null,null,null,0,111]
[12,16125,13,16129,13,16134,null,null,null,null,0,111]
[12,16236,13,16240,24,16249,null,null,null,null,0,112]
[12,16353,13,16356,13,16363,null,null,null,null,0,111]
[12,16470,13,16476,13,16484,null,null,null,null,0,111]
[12,16585,13,16588,13,16630,null,null,null,null,0,111]
[12,16731,13,16739,13,16745,null,null,null,null,0,111]
[12,16843,13,16852,24,16857,null,null,null,null,0,112]
[12,16983,24,16996,13,17010,null,null,null,null,0,121]
[12,17117,24,17121,13,17128,null,null,null,null,0,121]
[12,17234,24,17238,13,17244,null,null,null,null,0,121]
[12,17346,13,17355,13,17370,null,null,null,null,0,111]
[21,17477,22,17482,13,17486,null,null,null,null,0,221]
[12,17578,13,17587,24,17591,null,null,null,null,0,112]
[12,17690,13,17700,13,17704,null,null,null,null,0,111]
[12,17813,24,17820,13,17835,null,null,null,null,0,121]
[12,17937,13,17941,13,17946,null,null,null,null,0,111]
[12,18051,13,18055,24,18061,null,null,null,null,0,112]
[12,18168,13,18172,13,18179,null,null,null,null,0,111]
[12,18276,13,18282,13,18292,null,null,null,null,0,111]
[12,18390,13,18400,13,18404,null,null,null,null,0,111]
[21,18512,11,18516,11,18524,null,null,null,null,0,211]
[12,18732,24,18737,24,18741,null,null,null,null,0,122]
[21,18834,11,18844,11,18858,null,null,null,null,0,211]
[12,19001,13,19014,24,19027,null,null,null,null,0,112]
[12,19132,13,19140,24,19148,null,null,null,null,0,112]
[12,19240,13,19257,13,19262,null,null,null,null,0,111]
[12,19364,13,19371,13,19380,null,null,null,null,0,111]
[12,19481,13,19487,13,19499,null,null,null,null,0,111]
[12,19604,13,19609,13,19622,null,null,null,null,0,111]
[12,19714,13,19718,13,19726,null,null,null,null,0,111]
[12,19824,13,19833,13,19837,null,null,null,null,0,111]
[12,19929,13,19946,13,19952,null,null,null,null,0,111]
[12,20053,24,20057,13,20062,null,null,null,null,0,121]
[12,20159,13,20167,13,20172,null,null,null,null,0,111]
[12,20271,24,20284,13,20304,null,null,null,null,0,121]
[12,20408,24,20412,13,20421,null,null,null,null,0,121]
[12,20524,13,20530,13,20536,null,null,null,null,0,111]
[12,20642,13,20652,13,20657,null,null,null,null,0,111]
[21,20779,11,20789,22,20794,null,null,null,null,0,212]
[12,20894,13,20898,13,20903,null,null,null,null,0,111]
[12,21008,13,21013,24,21022,null,null,null,null,0,112]
[21,21127,11,21132,11,21136,null,null,null,null,0,211]
[12,21243,24,21247,13,21258,null,null,null,null,0,121]
[12,21359,13,21363,13,21371,null,null,null,null,0,111]
[12,21475,13,21485,13,21489,null,null,null,null,0,111]
[12,21605,13,21614,13,21621,null,null,null,null,0,111]
[12,21723,24,21733,13,21739,null,null,null,null,0,121]
[12,21843,24,21852,13,21856,null,null,null,null,0,121]
[12,21949,24,21962,13,21966,null,null,null,null,0,121]
[12,22075,13,22079,13,22085,null,null,null,null,0,111]
[12,22189,13,22192,13,22197,null,null,null,null,0,111]
[12,22669,13,22696,13,22701,null,null,null,null,0,111]
[12,22801,13,22805,13,22813,null,null,null,null,0,111]
[12,22918,13,22922,13,22929,null,null,null,null,0,111]
[12,23030,13,23037,13,23045,null,null,null,null,0,111]
[21,23141,11,23153,11,23161,null,null,null,null,0,211]
[12,23280,13,23284,13,23290,null,null,null,null,0,111]
[12,23389,13,23395,13,23401,null,null,null,null,0,111]
[12,23502,13,23506,13,23512,null,null,null,null,0,111]
[12,23616,13,23621,13,23628,null,null,null,null,0,111]
[12,23728,13,23733,13,23737,null,null,null,null,0,111]
[21,23830,11,23841,11,23845,null,null,null,null,0,211]

{"sheet":"!MC2695I.sha","index":12,"n_rows":186,"n_cols":48,"rows_kept":186,"cut":false,"hidden":false,"merged":[[1,1,1,2],[5,13,5,14],[18,13,18,14],[19,13,19,14],[4,19,4,22],[5,19,5,20],[4,39,4,42],[5,39,5,40],[4,44,4,47],[5,44,5,45],[4,24,4,27],[5,24,5,25],[4,29,4,32],[5,29,5,30],[4,34,4,37],[5,34,5,35]]}
["Report for:!MC2695I.sha"]
["Date:","<date>"]
["Hen:","<hen>",null,null,null,"Correct Sequence",{"$f":"Start!J2","v":211},null,null,null,null,null,null,null,null,"Total Sequences in Data",{"$f":"4994-COUNTBLANK(L7:L5000)","v":180},null,null,null,null,"Total Sequences in Block Data",{"$f":"COUNTA(L7:L36)","v":30},null,null,null,"Total Sequences in Block Data",{"$f":"COUNTA(L37:L66)","v":30},null,null,null,"Total Sequences in Block Data",{"$f":"COUNTA(L67:L96)","v":30},null,null,null,"Total Sequences in Block Data",{"$f":"COUNTA(L97:L126)","v":30},null,null,null,"Total Sequences in Block Data",{"$f":"COUNTA(L127:L156)","v":30},null,null,null,"Total Sequences in Block Data",{"$f":"COUNTA(L157:L186)","v":30}]
[null,null,null,null,null,null,null,null,null,null,null,null,null,null,null,"Total Sequences in Summary",{"$f":"SUM(O7:O14)","v":180},null,null,null,null,"Total Sequences in Block Summary",{"$f":"SUM(U7:U14)","v":30},null,null,null,"Total Sequences in Block Summary",{"$f":"SUM(Z7:Z14)","v":30},null,null,null,"Total Sequences in Block Summary",{"$f":"SUM(AE7:AE14)","v":30},null,null,null,"Total Sequences in Block Summary",{"$f":"SUM(AJ7:AJ14)","v":30},null,null,null,"Total Sequences in Block Summary",{"$f":"SUM(AO7:AO14)","v":30},null,null,null,"Total Sequences in Block Summary",{"$f":"SUM(AT7:AT14)","v":30}]
[null,null,null,null,null,null,null,null,null,null,null,null,null,null,null,null,null,null,null,"Block 1",null,null,null,null,"Block 2",null,null,null,null,"Block 3",null,null,null,null,"Block 4",null,null,null,null,"Block 5",null,null,null,null,"Block 6"]
["Sequence\nComponent\n1","Time\n1","Sequence\nComponent\n2","Time\n2","Sequence\nComponent\n3","Time\n3","Sequence\nComponent\n4","Time\n4","Sequence\nComponent\n5","Time\n5","Correct?\n0=No 1=Yes","Sequence",null,"Frequency",null,"Relative Frequency","Variability",null,null,"Frequency",null,"Relative Frequency","Variability",null,"Frequency",null,"Relative Frequency","Variability",null,"Frequency",null,"Relative Frequency","Variability",null,"Frequency",null,"Relative Frequency","Variability",null,"Frequency",null,"Relative Frequency","Variability",null,"Frequency",null,"Relative Frequency","Variability"]
[12,10,24,14,13,23,null,null,null,null,0,121,null,111,{"$f":"COUNTIF($L$7:$L$500,N7)","v":90},{"$f":"O7/$Q$4","v":0.5},{"$f":"IF(P7=0,0,(P7*((LOG(P7))/LOG(2))))","v":-0.5},null,null,{"$f":"N7","v":111},{"$f":"COUNTIF(L7:L36,T7)","v":13},{"$f":"U7/(W4-U11)","v":0.56521739130434778},{"$f":"IF(V7=0,0,(V7*((LOG(V7))/LOG(2))))","v":-0.46524300403943353},null,{"$f":"N7","v":111},{"$f":"COUNTIF(L37:L66,Y7)","v":19},{"$f":"Z7/(AB4-Z11)","v":0.82608695652173914},{"$f":"IF(AA7=0,0,(AA7*((LOG(AA7))/LOG(2))))","v":-0.22769801781109217},null,{"$f":"N7","v":111},{"$f":"COUNTIF(L67:L96,AD7)","v":15},{"$f":"AE7/(AG4-AE11)","v":0.6},{"$f":"IF(AF7=0,0,(AF7*((LOG(AF7))/LOG(2))))","v":-0.44217935649972373},null,{"$f":"N7","v":111},{"$f":"COUNTIF(L97:L126,AI7)","v":13},{"$f":"AJ7/(AL4-AJ11)","v":0.4642857142857143},{"$f":"IF(AK7=0,0,(AK7*((LOG(AK7))/LOG(2))))","v":-0.51392491610409474},null,{"$f":"N7","v":111},{"$f":"COUNTIF(L127:L156,AN7)","v":18},{"$f":"AO7/(AQ4-AO11)","v":0.69230769230769229},{"$f":"IF(AP7=0,0,(AP7*((LOG(AP7))/LOG(2))))","v":-0.36727941925300139},null,{"$f":"N7","v":111},{"$f":"COUNTIF(L157:L186,AS7)","v":12},{"$f":"AT7/(AV4-AT11)","v":0.54545454545454541},{"$f":"IF(AU7=0,0,(AU7*((LOG(AU7))/LOG(2))))","v":-0.47698315522698609}]
[12,120,13,130,13,135,null,null,null,null,0,111,null,112,19,0.10555555555555556,-0.34241436708242051,null,null,112,{"$f":"COUNTIF(L7:L36,T8)","v":2},{"$f":"U8/(W4-U11)","v":8.6956521739130432E-2},{"$f":"IF(V8=0,0,(V8*((LOG(V8))/LOG(2))))","v":-0.30639669183104457},null,112,{"$f":"COUNTIF(L37:L66,Y8)","v":2},{"$f":"Z8/(AB4-Z11)","v":8.6956521739130432E-2},{"$f":"IF(AA8=0,0,(AA8*((LOG(AA8))/LOG(2))))","v":-0.30639669183104457},null,112,{"$f":"COUNTIF(L67:L96,AD8)","v":4},{"$f":"AE8/(AG4-AE11)","v":0.16},{"$f":"IF(AF8=0,0,(AF8*((LOG(AF8))/LOG(2))))","v":-0.42301699036395596},null,112,{"$f":"COUNTIF(L97:L126,AI8)","v":6},{"$f":"AJ8/(AL4-AJ11)","v":0.21428571428571427},{"$f":"IF(AK8=0,0,(AK8*((LOG(AK8))/LOG(2))))","v":-0.47622694742923877},null,112,{"$f":"COUNTIF(L127:L156,AN8)","v":1},{"$f":"AO8/(AQ4-AO11)","v":3.8461538461538464E-2},{"$f":"IF(AP8=0,0,(AP8*((LOG(AP8))/LOG(2))))","v":-0.18078614300542661},null,112,{"$f":"COUNTIF(L157:L186,AS8)","v":4},{"$f":"AT8/(AV4-AT11)","v":0.18181818181818182},{"$f":"IF(AU8=0,0,(AU8*((LOG(AU8))/LOG(2))))","v":-0.44716938520678134}]
[12,289,13,310,13,316,null,null,null,null,0,111,null,121,21,0.11666666666666667,-0.36161249524760669,null,null,121,{"$f":"COUNTIF(L7:L36,T9)","v":6},{"$f":"U9/(W4-U11)","v":0.2608695652173913},{"$f":"IF(V9=0,0,(V9*((LOG(V9))/LOG(2))))","v":-0.50572159704413644},null,121,{"$f":"COUNTIF(L37:L66,Y9)","v":0},{"$f":"Z9/(AB4-Z11)","v":0},{"$f":"IF(AA9=0,0,(AA9*((LOG(AA9))/LOG(2))))","v":0},null,121,{"$f":"COUNTIF(L67:L96,AD9)","v":5},{"$f":"AE9/(AG4-AE11)","v":0.2},{"$f":"IF(AF9=0,0,(AF9*((LOG(AF9))/LOG(2))))","v":-0.46438561897747244},null,121,{"$f":"COUNTIF(L97:L126,AI9)","v":2},{"$f":"AJ9/(AL4-AJ11)","v":7.1428571428571425E-2},{"$f":"IF(AK9=0,0,(AK9*((LOG(AK9))/LOG(2))))","v":-0.27195392300411453},null,121,{"$f":"COUNTIF(L127:L156,AN9)","v":4},{"$f":"AO9/(AQ4-AO11)","v":0.15384615384615385},{"$f":"IF(AP9=0,0,(AP9*((LOG(AP9))/LOG(2))))","v":-0.4154522643293988},null,121,{"$f":"COUNTIF(L157:L186,AS9)","v":4},{"$f":"AT9/(AV4-AT11)","v":0.18181818181818182},{"$f":"IF(AU9=0,0,(AU9*((LOG(AU9))/LOG(2))))","v":-0.44716938520678134}]
[12,416,24,425,13,434,null,null,null,null,0,121,null,122,4,2.2222222222222223E-2,-0.12204117991843723,null,null,122,{"$f":"COUNTIF(L7:L36,T10)","v":0},{"$f":"U10/(W4-U11)","v":0},{"$f":"IF(V10=0,0,(V10*((LOG(V10))/LOG(2))))","v":0},null,122,{"$f":"COUNTIF(L37:L66,Y10)","v":0},{"$f":"Z10/(AB4-Z11)","v":0},{"$f":"IF(AA10=0,0,(AA10*((LOG(AA10))/LOG(2))))","v":0},null,122,{"$f":"COUNTIF(L67:L96,AD10)","v":1},{"$f":"AE10/(AG4-AE11)","v":0.04},{"$f":"IF(AF10=0,0,(AF10*((LOG(AF10))/LOG(2))))","v":-0.18575424759098899},null,122,{"$f":"COUNTIF(L97:L126,AI10)","v":2},{"$f":"AJ10/(AL4-AJ11)","v":7.1428571428571425E-2},{"$f":"IF(AK10=0,0,(AK10*((LOG(AK10))/LOG(2))))","v":-0.27195392300411453},null,122,{"$f":"COUNTIF(L127:L156,AN10)","v":1},{"$f":"AO10/(AQ4-AO11)","v":3.8461538461538464E-2},{"$f":"IF(AP10=0,0,(AP10*((LOG(AP10))/LOG(2))))","v":-0.18078614300542661},null,122,{"$f":"COUNTIF(L157:L186,AS10)","v":0},{"$f":"AT10/(AV4-AT11)","v":0},{"$f":"IF(AU10=0,0,(AU10*((LOG(AU10))/LOG(2))))","v":0}]
[12,537,13,542,13,548,null,null,null,null,0,111,null,211,33,0.18333333333333332,-0.44870081244472387,null,null,211,{"$f":"COUNTIF(L7:L36,T11)","v":7},null,null,null,211,{"$f":"COUNTIF(L37:L66,Y11)","v":7},null,null,null,211,{"$f":"COUNTIF(L67:L96,AD11)","v":5},null,null,null,211,{"$f":"COUNTIF(L97:L126,AI11)","v":2},null,null,null,211,{"$f":"COUNTIF(L127:L156,AN11)","v":4},null,null,null,211,{"$f":"COUNTIF(L157:L186,AS11)","v":8}]
[21,649,11,654,11,660,null,null,null,null,0,211,null,212,8,4.4444444444444446E-2,-0.19963791539243,null,null,212,{"$f":"COUNTIF(L7:L36,T12)","v":2},{"$f":"U12/(W4-U11)","v":8.6956521739130432E-2},{"$f":"IF(V12=0,0,(V12*((LOG(V12))/LOG(2))))","v":-0.30639669183104457},null,212,{"$f":"COUNTIF(L37:L66,Y12)","v":1},{"$f":"Z12/(AB4-Z11)","v":4.3478260869565216E-2},{"$f":"IF(AA12=0,0,(AA12*((LOG(AA12))/LOG(2))))","v":-0.19667660678508753},null,212,{"$f":"COUNTIF(L67:L96,AD12)","v":0},{"$f":"AE12/(AG4-AE11)","v":0},{"$f":"IF(AF12=0,0,(AF12*((LOG(AF12))/LOG(2))))","v":0},null,212,{"$f":"COUNTIF(L97:L126,AI12)","v":3},{"$f":"AJ12/(AL4-AJ11)","v":0.10714285714285714},{"$f":"IF(AK12=0,0,(AK12*((LOG(AK12))/LOG(2))))","v":-0.34525633085747659},null,212,{"$f":"COUNTIF(L127:L156,AN12)","v":1},{"$f":"AO12/(AQ4-AO11)","v":3.8461538461538464E-2},{"$f":"IF(AP12=0,0,(AP12*((LOG(AP12))/LOG(2))))","v":-0.18078614300542661},null,212,{"$f":"COUNTIF(L157:L186,AS12)","v":1},{"$f":"AT12/(AV4-AT11)","v":4.5454545454545456E-2},{"$f":"IF(AU12=0,0,(AU12*((LOG(AU12))/LOG(2))))","v":-0.20270143721078623}]
[21,823,11,827,11,838,null,null,null,null,0,211,null,221,5,2.7777777777777776E-2,-0.14360902781784199,null,null,221,{"$f":"COUNTIF(L7:L36,T13)","v":0},{"$f":"U13/(W4-U11)","v":0},{"$f":"IF(V13=0,0,(V13*((LOG(V13))/LOG(2))))","v":0},null,221,{"$f":"COUNTIF(L37:L66,Y13)","v":1},{"$f":"Z13/(AB4-Z11)","v":4.3478260869565216E-2},{"$f":"IF(AA13=0,0,(AA13*((LOG(AA13))/LOG(2))))","v":-0.19667660678508753},null,221,{"$f":"COUNTIF(L67:L96,AD13)","v":0},{"$f":"AE13/(AG4-AE11)","v":0},{"$f":"IF(AF13=0,0,(AF13*((LOG(AF13))/LOG(2))))","v":0},null,221,{"$f":"COUNTIF(L97:L126,AI13)","v":2},{"$f":"AJ13/(AL4-AJ11)","v":7.1428571428571425E-2},{"$f":"IF(AK13=0,0,(AK13*((LOG(AK13))/LOG(2))))","v":-0.27195392300411453},null,221,{"$f":"COUNTIF(L127:L156,AN13)","v":1},{"$f":"AO13/(AQ4-AO11)","v":3.8461538461538464E-2},{"$f":"IF(AP13=0,0,(AP13*((LOG(AP13))/LOG(2))))","v":-0.18078614300542661},null,221,{"$f":"COUNTIF(L157:L186,AS13)","v":1},{"$f":"AT13/(AV4-AT11)","v":4.5454545454545456E-2},{"$f":"IF(AU13=0,0,(AU13*((LOG(AU13))/LOG(2))))","v":-0.20270143721078623}]
[12,1012,24,1018,13,1024,null,null,null,null,0,121,null,222,0,0,0,null,null,222,{"$f":"COUNTIF(L7:L36,T14)","v":0},{"$f":"U14/(W4-U11)","v":0},{"$f":"IF(V14=0,0,(V14*((LOG(V14))/LOG(2))))","v":0},null,222,{"$f":"COUNTIF(L37:L66,Y14)","v":0},{"$f":"Z14/(AB4-Z11)","v":0},{"$f":"IF(AA14=0,0,(AA14*((LOG(AA14))/LOG(2))))","v":0},null,222,{"$f":"COUNTIF(L67:L96,AD14)","v":0},{"$f":"AE14/(AG4-AE11)","v":0},{"$f":"IF(AF14=0,0,(AF14*((LOG(AF14))/LOG(2))))","v":0},null,222,{"$f":"COUNTIF(L97:L126,AI14)","v":0},{"$f":"AJ14/(AL4-AJ11)","v":0},{"$f":"IF(AK14=0,0,(AK14*((LOG(AK14))/LOG(2))))","v":0},null,222,{"$f":"COUNTIF(L127:L156,AN14)","v":0},{"$f":"AO14/(AQ4-AO11)","v":0},{"$f":"IF(AP14=0,0,(AP14*((LOG(AP14))/LOG(2))))","v":0},null,222,{"$f":"COUNTIF(L157:L186,AS14)","v":0},{"$f":"AT14/(AV4-AT11)","v":0},{"$f":"IF(AU14=0,0,(AU14*((LOG(AU14))/LOG(2))))","v":0}]
[21,1127,11,1132,11,1139,null,null,null,null,0,211,null,null,null,{"$f":"SUM(P7:P14)","v":1},{"$f":"-SUM(Q7:Q14)","v":2.1180157979034604},null,null,null,null,{"$f":"SUM(V7:V14)","v":1},{"$f":"-SUM(W7:W14)","v":1.5837579847456591},null,null,null,{"$f":"SUM(AA7:AA14)","v":1},{"$f":"-SUM(AB7:AB14)","v":0.92744792321231184},null,null,null,{"$f":"SUM(AF7:AF14)","v":1},{"$f":"-SUM(AG7:AG14)","v":1.5153362134321411},null,null,null,{"$f":"SUM(AK7:AK14)","v":0.99999999999999989},{"$f":"-SUM(AL7:AL14)","v":2.1512699634031538},null,null,null,{"$f":"SUM(AP7:AP14)","v":0.99999999999999989},{"$f":"-SUM(AQ7:AQ14)","v":1.5058762556041065},null,null,null,{"$f":"SUM(AU7:AU14)","v":1},{"$f":"-SUM(AV7:AV14)","v":1.7767248000621212}]
[12,1346,13,1354,13,1364,null,null,null,null,0,111,null,null,null,"U=",{"$f":"Q15/(LOG(Q4)/LOG(2))","v":0.2827092003367091},null,null,null,null,"U1=",{"$f":"W15/(LOG(W4)/LOG(2))","v":0.32276203308120677},null,null,null,"U2=",{"$f":"AB15/(LOG(AB4)/LOG(2))","v":0.18900929318504525},null,null,null,"U3=",{"$f":"AG15/(LOG(AG4)/LOG(2))","v":0.30881801497435252},null,null,null,"U4=",{"$f":"AL15/(LOG(AL4)/LOG(2))","v":0.43841816349613721},null,null,null,"U5=",{"$f":"AQ15/(LOG(AQ4)/LOG(2))","v":0.30689012242331404},null,null,null,"U6=",{"$f":"AV15/(LOG(AV4)/LOG(2))","v":0.36208771429553016}]
[12,1467,24,1473,13,1479,null,null,null,null,0,121]
[12,1585,24,1599,13,1607,null,null,null,null,0,121]
[12,1717,13,1722,13,1729,null,null,null,null,0,111,null,"Total Target Seq"]
[12,1849,13,1853,24,1861,null,null,null,null,0,112,null,{"$f":"COUNTIF(L7:L186,G3)","v":33},null,30,30,30,30,30,30]
[21,1967,11,1972,11,1980,null,null,null,null,0,211,null,null,null,"% of reinforcement given in 6 equal intervals based on number of trials "]
[12,2132,13,2137,13,2150,null,null,null,null,0,111,null,null,null,"%_1","%_2","%_3","%_4","%_5","%_6"]
[21,2242,11,2252,22,2256,null,null,null,null,0,212,null,null,"target sequence",{"$f":"$G$3","v":211},211,211,211,211,211]
[12,2378,13,2390,13,2399,null,null,null,null,0,111,null,null,"total reinforcement",{"$f":"U11","v":7},{"$f":"Z11","v":7},{"$f":"AE11","v":5},{"$f":"AJ11","v":2},{"$f":"AO11","v":4},{"$f":"AT11","v":8}]
[21,2491,11,2500,11,2504,null,null,null,null,0,211,null,null,"% target"]
[12,2637,13,2646,13,2658,null,null,null,null,0,111,null,null,"CCRF"]
[21,2762,11,2767,11,2777,null,null,null,null,0,211,null,null,"% CCRf"]
[12,2918,13,2923,13,2930,null,null,null,null,0,111,null,null,"average response rate",{"$f":"F36/P20","v":130.16666666666666},{"$f":"(F66-F36)/Q20","v":129.66666666666666},{"$f":"(F96-F66)/R20","v":125},{"$f":"(F126-F96)/S20","v":127.66666666666667},{"$f":"(F156-F126)/T20","v":161.06666666666666},{"$f":"(F186-F156)/U20","v":123.5}]
[12,3033,13,3037,13,3047,null,null,null,null,0,111]
[21,3155,11,3160,22,3174,null,null,null,null,0,212]
[12,3277,13,3281,13,3288,null,null,null,null,0,111]
[12,3380,13,3394,24,3405,null,null,null,null,0,112]
[12,3512,13,3516,13,3520,null,null,null,null,0,111]
[12,3627,13,3636,13,3643,null,null,null,null,0,111]
[12,3769,24,3780,13,3788,null,null,null,null,0,121]
[21,3890,11,3894,11,3905,null,null,null,null,0,211]
[12,4023,13,4036,13,4049,null,null,null,null,0,111]
[12,4152,13,4178,13,4192,null,null,null,null,0,111]
[21,4293,11,4300,11,4312,null,null,null,null,0,211]
[21,4452,11,4456,11,4465,null,null,null,null,0,211]
[21,4643,22,4651,13,4655,null,null,null,null,0,221]
[12,4750,13,4760,13,4764,null,null,null,null,0,111]
[12,4914,13,4920,24,4924,null,null,null,null,0,112]
[12,5017,13,5031,13,5036,null,null,null,null,0,111]
[21,5159,11,5178,11,5191,null,null,null,null,0,211]
[12,5295,13,5299,13,5305,null,null,null,null,0,111]
[12,5407,13,5431,13,5442,null,null,null,null,0,111]
[12,5545,13,5551,13,5561,null,null,null,null,0,111]
[21,5664,11,5669,22,5676,null,null,null,null,0,212]
[12,5768,13,5774,13,5784,null,null,null,null,0,111]
[12,5875,13,5880,13,5889,null,null,null,null,0,111]
[12,6001,13,6006,13,6013,null,null,null,null,0,111]
[12,6113,13,6117,13,6127,null,null,null,null,0,111]
[12,6219,13,6224,13,6233,null,null,null,null,0,111]
[21,6341,11,6346,11,6354,null,null,null,null,0,211]
[12,6490,13,6498,13,6523,null,null,null,null,0,111]
[21,6624,11,6629,11,6638,null,null,null,null,0,211]
[21,6839,11,6843,11,6849,null,null,null,null,0,211]
[12,6971,13,6980,13,6988,null,null,null,null,0,111]
[12,7085,13,7093,13,7104,null,null,null,null,0,111]
[12,7204,13,7219,13,7228,null,null,null,null,0,111]
[12,7331,13,7336,13,7342,null,null,null,null,0,111]
[12,7434,13,7442,13,7451,null,null,null,null,0,111]
[12,7549,13,7559,24,7565,null,null,null,null,0,112]
[12,7657,13,7667,13,7673,null,null,null,null,0,111]
[21,7783,11,7788,11,7795,null,null,null,null,0,211]
[12,7926,24,7942,13,7950,null,null,null,null,0,121]
[12,8046,13,8054,13,8060,null,null,null,null,0,111]
[21,8161,11,8166,11,8175,null,null,null,null,0,211]
[12,8297,13,8307,13,8322,null,null,null,null,0,111]
[21,8423,11,8428,11,8436,null,null,null,null,0,211]
[21,8567,11,8572,11,8582,null,null,null,null,0,211]
[21,8713,11,8733,11,8743,null,null,null,null,0,211]
[12,8893,13,8898,13,8904,null,null,null,null,0,111]
[12,9006,13,9011,13,9016,null,null,null,null,0,111]
[12,9126,13,9132,13,9142,null,null,null,null,0,111]
[12,9257,13,9265,24,9271,null,null,null,null,0,112]
[12,9368,13,9387,13,9395,null,null,null,null,0,111]
[12,9491,24,9501,24,9510,null,null,null,null,0,122]
[12,9627,13,9632,13,9638,null,null,null,null,0,111]
[12,9739,13,9746,13,9756,null,null,null,null,0,111]
[12,9852,24,9857,13,9868,null,null,null,null,0,121]
[21,9966,11,9984,11,9990,null,null,null,null,0,211]
[12,10145,13,10150,13,10170,null,null,null,null,0,111]
[12,10271,13,10281,24,10293,null,null,null,null,0,112]
[12,10389,13,10394,13,10397,null,null,null,null,0,111]
[12,10494,13,10502,13,10506,null,null,null,null,0,111]
[12,10603,24,10615,13,10623,null,null,null,null,0,121]
[12,10726,13,10732,24,10744,null,null,null,null,0,112]
[12,10841,13,10849,24,10859,null,null,null,null,0,112]
[12,10955,13,10965,13,10970,null,null,null,null,0,111]
[12,11077,24,11091,13,11099,null,null,null,null,0,121]
[12,11194,13,11209,13,11214,null,null,null,null,0,111]
[12,11312,13,11327,13,11331,null,null,null,null,0,111]
[12,11424,13,11429,13,11436,null,null,null,null,0,111]
[12,11534,24,11538,13,11545,null,null,null,null,0,121]
[21,11645,22,11650,13,11656,null,null,null,null,0,221]
[12,11758,13,11764,13,11770,null,null,null,null,0,111]
[12,11878,13,11888,24,11894,null,null,null,null,0,112]
[12,11991,13,12000,13,12003,null,null,null,null,0,111]
[12,12110,13,12115,24,12119,null,null,null,null,0,112]
[12,12211,13,12224,13,12228,null,null,null,null,0,111]
[12,12341,13,12346,13,12353,null,null,null,null,0,111]
[12,12453,13,12457,24,12466,null,null,null,null,0,112]
[12,12573,24,12577,13,12582,null,null,null,null,0,121]
[12,12675,13,12684,24,12688,null,null,null,null,0,112]
[12,12779,13,12791,13,12796,null,null,null,null,0,111]
[12,12940,13,12945,13,12953,null,null,null,null,0,111]
[12,13079,13,13084,24,13090,null,null,null,null,0,112]
[12,13189,24,13201,24,13206,null,null,null,null,0,122]
[21,13395,11,13401,11,13408,null,null,null,null,0,211]
[21,13531,11,13536,22,13541,null,null,null,null,0,212]
[12,13646,13,13651,13,13659,null,null,null,null,0,111]
[12,13763,13,13767,24,13780,null,null,null,null,0,112]
[12,13888,24,13892,13,13904,null,null,null,null,0,121]
[12,14048,13,14054,13,14064,null,null,null,null,0,111]
[12,14165,13,14169,13,14179,null,null,null,null,0,111]
[21,14281,11,14285,22,14295,null,null,null,null,0,212]
[12,14411,24,14421,24,14427,null,null,null,null,0,122]
[21,14534,22,14539,13,14545,null,null,null,null,0,221]
[12,14693,13,14712,13,14719,null,null,null,null,0,111]
[12,14811,13,14822,13,14830,null,null,null,null,0,111]
[12,14962,13,14967,13,14973,null,null,null,null,0,111]
[12,15079,13,15085,13,15092,null,null,null,null,0,111]
[21,15184,11,15196,11,15207,null,null,null,null,0,211]
[21,15364,11,15369,22,15375,null,null,null,null,0,212]
[12,15474,24,15484,13,15489,null,null,null,null,0,121]
[12,15584,13,15594,13,15599,null,null,null,null,0,111]
[21,15690,11,15707,11,15718,null,null,null,null,0,211]
[12,15808,13,15816,13,15825,null,null,null,null,0,111]
[12,15917,13,15928,13,15935,null,null,null,null,0,111]
[12,16028,24,16036,13,16047,null,null,null,null,0,121]
[12,16172,13,16183,13,16197,null,null,null,null,0,111]
[12,16295,13,16304,13,16309,null,null,null,null,0,111]
[12,16401,24,16417,24,16421,null,null,null,null,0,122]
[12,16513,24,16516,13,16527,null,null,null,null,0,121]
[21,16622,11,16626,22,16630,null,null,null,null,0,212]
[12,16729,13,16735,13,16742,null,null,null,null,0,111]
[12,16845,13,16858,13,16869,null,null,null,null,0,111]
[12,16961,13,16970,13,16975,null,null,null,null,0,111]
[12,17068,13,17079,13,17083,null,null,null,null,0,111]
[12,17184,13,17188,13,17194,null,null,null,null,0,111]
[12,17300,13,17306,13,17314,null,null,null,null,0,111]
[12,17420,13,17426,13,17433,null,null,null,null,0,111]
[12,17539,13,17544,13,17558,null,null,null,null,0,111]
[12,18927,24,18933,13,18937,null,null,null,null,0,121]
[12,19036,13,19040,13,19045,null,null,null,null,0,111]
[21,19155,11,19160,11,19165,null,null,null,null,0,211]
[21,19308,11,19316,11,19327,null,null,null,null,0,211]
[12,19483,13,19489,24,19495,null,null,null,null,0,112]
[12,19603,13,19607,13,19616,null,null,null,null,0,111]
[21,19716,11,19721,11,19728,null,null,null,null,0,211]
[12,19852,13,19856,13,19864,null,null,null,null,0,111]
[12,19959,13,19972,13,19977,null,null,null,null,0,111]
[21,20069,22,20080,13,20084,null,null,null,null,0,221]
[12,20189,13,20199,13,20207,null,null,null,null,0,111]
[12,20309,13,20315,13,20323,null,null,null,null,0,111]
[12,20415,13,20426,13,20432,null,null,null,null,0,111]
[12,20539,13,20544,13,20550,null,null,null,null,0,111]
[12,20657,13,20663,13,20670,null,null,null,null,0,111]
[21,20774,11,20779,11,20786,null,null,null,null,0,211]
[21,20953,11,20959,11,20968,null,null,null,null,0,211]
[12,21124,24,21128,13,21135,null,null,null,null,0,121]
[12,21238,13,21246,13,21253,null,null,null,null,0,111]
[12,21359,13,21362,13,21368,null,null,null,null,0,111]
[21,21472,11,21477,22,21484,null,null,null,null,0,212]
[21,21588,11,21593,11,21602,null,null,null,null,0,211]
[21,21699,11,21709,11,21717,null,null,null,null,0,211]
[12,21849,13,21858,13,21884,null,null,null,null,0,111]
[21,21992,11,21996,11,22001,null,null,null,null,0,211]
[12,22143,13,22151,13,22160,null,null,null,null,0,111]
[12,22265,13,22275,13,22285,null,null,null,null,0,111]
[12,22385,13,22390,24,22422,null,null,null,null,0,112]
[21,22523,11,22531,11,22537,null,null,null,null,0,211]
[12,22643,13,22650,24,22661,null,null,null,null,0,112]
[12,22760,13,22767,24,22773,null,null,null,null,0,112]
[12,22865,13,22875,13,22879,null,null,null,null,0,111]
[21,22972,11,22981,11,22985,null,null,null,null,0,211]
[12,23090,24,23100,13,23115,null,null,null,null,0,121]
[12,23227,13,23239,13,23248,null,null,null,null,0,111]
[12,23343,24,23346,13,23355,null,null,null,null,0,121]
[12,23447,13,23452,13,23461,null,null,null,null,0,111]
[21,23566,22,23571,13,23577,null,null,null,null,0,221]
[21,23677,11,23681,11,23687,null,null,null,null,0,211]
[12,23793,13,23797,24,23806,null,null,null,null,0,112]
[12,23899,24,23908,13,23912,null,null,null,null,null,121]

{"sheet":"!MC2795I.sha","index":13,"n_rows":201,"n_cols":48,"rows_kept":201,"cut":false,"hidden":false,"merged":[[1,1,1,2],[5,13,5,14],[18,13,18,14],[19,13,19,14],[4,19,4,22],[5,19,5,20],[4,39,4,42],[5,39,5,40],[4,44,4,47],[5,44,5,45],[4,24,4,27],[5,24,5,25],[4,29,4,32],[5,29,5,30],[4,34,4,37],[5,34,5,35]]}
["Report for:!MC2795I.sha"]
["Date:","<date>"]
["Hen:","<hen>",null,null,null,"Correct Sequence",{"$f":"Start!J2","v":211},null,null,null,null,null,null,null,null,"Total Sequences in Data",{"$f":"4994-COUNTBLANK(L7:L5000)","v":195},null,null,null,null,"Total Sequences in Block Data",{"$f":"COUNTA(L7:L39)","v":33},null,null,null,"Total Sequences in Block Data",{"$f":"COUNTA(L40:L71)","v":32},null,null,null,"Total Sequences in Block Data",{"$f":"COUNTA(L72:L104)","v":33},null,null,null,"Total Sequences in Block Data",{"$f":"COUNTA(L105:L136)","v":32},null,null,null,"Total Sequences in Block Data",{"$f":"COUNTA(L137:L169)","v":33},null,null,null,"Total Sequences in Block Data",{"$f":"COUNTA(L170:L201)","v":32}]
[null,null,null,null,null,null,null,null,null,null,null,null,null,null,null,"Total Sequences in Summary",{"$f":"SUM(O7:O14)","v":195},null,null,null,null,"Total Sequences in Block Summary",{"$f":"SUM(U7:U14)","v":33},null,null,null,"Total Sequences in Block Summary",{"$f":"SUM(Z7:Z14)","v":32},null,null,null,"Total Sequences in Block Summary",{"$f":"SUM(AE7:AE14)","v":33},null,null,null,"Total Sequences in Block Summary",{"$f":"SUM(AJ7:AJ14)","v":32},null,null,null,"Total Sequences in Block Summary",{"$f":"SUM(AO7:AO14)","v":33},null,null,null,"Total Sequences in Block Summary",{"$f":"SUM(AT7:AT14)","v":32}]
[null,null,null,null,null,null,null,null,null,null,null,null,null,null,null,null,null,null,null,"Block 1",null,null,null,null,"Block 2",null,null,null,null,"Block 3",null,null,null,null,"Block 4",null,null,null,null,"Block 5",null,null,null,null,"Block 6"]
["Sequence\nComponent\n1","Time\n1","Sequence\nComponent\n2","Time\n2","Sequence\nComponent\n3","Time\n3","Sequence\nComponent\n4","Time\n4","Sequence\nComponent\n5","Time\n5","Correct?\n0=No 1=Yes","Sequence",null,"Frequency",null,"Relative Frequency","Variability",null,null,"Frequency",null,"Relative Frequency","Variability",null,"Frequency",null,"Relative Frequency","Variability",null,"Frequency",null,"Relative Frequency","Variability",null,"Frequency",null,"Relative Frequency","Variability",null,"Frequency",null,"Relative Frequency","Variability",null,"Frequency",null,"Relative Frequency","Variability"]
[12,16,13,21,13,34,null,null,null,null,0,111,null,111,{"$f":"COUNTIF($L$7:$L$500,N7)","v":104},{"$f":"O7/$Q$4","v":0.53333333333333333},{"$f":"IF(P7=0,0,(P7*((LOG(P7))/LOG(2))))","v":-0.4836749843245432},null,null,{"$f":"N7","v":111},{"$f":"COUNTIF(L7:L39,T7)","v":18},{"$f":"U7/(W4-U11)","v":0.6428571428571429},{"$f":"IF(V7=0,0,(V7*((LOG(V7))/LOG(2))))","v":-0.40977637753840174},null,{"$f":"N7","v":111},{"$f":"COUNTIF(L40:L71,Y7)","v":19},{"$f":"Z7/(AB4-Z11)","v":0.70370370370370372},{"$f":"IF(AA7=0,0,(AA7*((LOG(AA7))/LOG(2))))","v":-0.35674962169176955},null,{"$f":"N7","v":111},{"$f":"COUNTIF(L72:L104,AD7)","v":21},{"$f":"AE7/(AG4-AE11)","v":0.7},{"$f":"IF(AF7=0,0,(AF7*((LOG(AF7))/LOG(2))))","v":-0.36020122098083079},null,{"$f":"N7","v":111},{"$f":"COUNTIF(L105:L136,AI7)","v":17},{"$f":"AJ7/(AL4-AJ11)","v":0.65384615384615385},{"$f":"IF(AK7=0,0,(AK7*((LOG(AK7))/LOG(2))))","v":-0.40079257335164603},null,{"$f":"N7","v":111},{"$f":"COUNTIF(L137:L169,AN7)","v":13},{"$f":"AO7/(AQ4-AO11)","v":0.56521739130434778},{"$f":"IF(AP7=0,0,(AP7*((LOG(AP7))/LOG(2))))","v":-0.46524300403943353},null,{"$f":"N7","v":111},{"$f":"COUNTIF(L170:L201,AS7)","v":16},{"$f":"AT7/(AV4-AT11)","v":0.66666666666666663},{"$f":"IF(AU7=0,0,(AU7*((LOG(AU7))/LOG(2))))","v":-0.38997500048077083}]
[12,135,13,140,13,147,null,null,null,null,0,111,null,112,21,0.1076923076923077,-0.34623215748916852,null,null,112,{"$f":"COUNTIF(L7:L39,T8)","v":4},{"$f":"U8/(W4-U11)","v":0.14285714285714285},{"$f":"IF(V8=0,0,(V8*((LOG(V8))/LOG(2))))","v":-0.40105070315108626},null,112,{"$f":"COUNTIF(L40:L71,Y8)","v":2},{"$f":"Z8/(AB4-Z11)","v":7.407407407407407E-2},{"$f":"IF(AA8=0,0,(AA8*((LOG(AA8))/LOG(2))))","v":-0.27813981497507173},null,112,{"$f":"COUNTIF(L72:L104,AD8)","v":3},{"$f":"AE8/(AG4-AE11)","v":0.1},{"$f":"IF(AF8=0,0,(AF8*((LOG(AF8))/LOG(2))))","v":-0.33219280948873625},null,112,{"$f":"COUNTIF(L105:L136,AI8)","v":4},{"$f":"AJ8/(AL4-AJ11)","v":0.15384615384615385},{"$f":"IF(AK8=0,0,(AK8*((LOG(AK8))/LOG(2))))","v":-0.4154522643293988},null,112,{"$f":"COUNTIF(L137:L169,AN8)","v":3},{"$f":"AO8/(AQ4-AO11)","v":0.13043478260869565},{"$f":"IF(AP8=0,0,(AP8*((LOG(AP8))/LOG(2))))","v":-0.3832955811307639},null,112,{"$f":"COUNTIF(L170:L201,AS8)","v":5},{"$f":"AT8/(AV4-AT11)","v":0.20833333333333334},{"$f":"IF(AU8=0,0,(AU8*((LOG(AU8))/LOG(2))))","v":-0.47146550121537367}]
[21,244,11,254,11,257,null,null,null,null,0,211,null,121,15,7.6923076923076927E-2,-0.28464920908777636,null,null,121,{"$f":"COUNTIF(L7:L39,T9)","v":1},{"$f":"U9/(W4-U11)","v":3.5714285714285712E-2},{"$f":"IF(V9=0,0,(V9*((LOG(V9))/LOG(2))))","v":-0.17169124721634299},null,121,{"$f":"COUNTIF(L40:L71,Y9)","v":5},{"$f":"Z9/(AB4-Z11)","v":0.18518518518518517},{"$f":"IF(AA9=0,0,(AA9*((LOG(AA9))/LOG(2))))","v":-0.45054803838446406},null,121,{"$f":"COUNTIF(L72:L104,AD9)","v":2},{"$f":"AE9/(AG4-AE11)","v":6.6666666666666666E-2},{"$f":"IF(AF9=0,0,(AF9*((LOG(AF9))/LOG(2))))","v":-0.26045937304056793},null,121,{"$f":"COUNTIF(L105:L136,AI9)","v":4},{"$f":"AJ9/(AL4-AJ11)","v":0.15384615384615385},{"$f":"IF(AK9=0,0,(AK9*((LOG(AK9))/LOG(2))))","v":-0.4154522643293988},null,121,{"$f":"COUNTIF(L137:L169,AN9)","v":2},{"$f":"AO9/(AQ4-AO11)","v":8.6956521739130432E-2},{"$f":"IF(AP9=0,0,(AP9*((LOG(AP9))/LOG(2))))","v":-0.30639669183104457},null,121,{"$f":"COUNTIF(L170:L201,AS9)","v":1},{"$f":"AT9/(AV4-AT11)","v":4.1666666666666664E-2},{"$f":"IF(AU9=0,0,(AU9*((LOG(AU9))/LOG(2))))","v":-0.19104010419671485}]
[21,397,11,407,11,423,null,null,null,null,0,211,null,122,0,0,0,null,null,122,{"$f":"COUNTIF(L7:L39,T10)","v":0},{"$f":"U10/(W4-U11)","v":0},{"$f":"IF(V10=0,0,(V10*((LOG(V10))/LOG(2))))","v":0},null,122,{"$f":"COUNTIF(L40:L71,Y10)","v":0},{"$f":"Z10/(AB4-Z11)","v":0},{"$f":"IF(AA10=0,0,(AA10*((LOG(AA10))/LOG(2))))","v":0},null,122,{"$f":"COUNTIF(L72:L104,AD10)","v":0},{"$f":"AE10/(AG4-AE11)","v":0},{"$f":"IF(AF10=0,0,(AF10*((LOG(AF10))/LOG(2))))","v":0},null,122,{"$f":"COUNTIF(L105:L136,AI10)","v":0},{"$f":"AJ10/(AL4-AJ11)","v":0},{"$f":"IF(AK10=0,0,(AK10*((LOG(AK10))/LOG(2))))","v":0},null,122,{"$f":"COUNTIF(L137:L169,AN10)","v":0},{"$f":"AO10/(AQ4-AO11)","v":0},{"$f":"IF(AP10=0,0,(AP10*((LOG(AP10))/LOG(2))))","v":0},null,122,{"$f":"COUNTIF(L170:L201,AS10)","v":0},{"$f":"AT10/(AV4-AT11)","v":0},{"$f":"IF(AU10=0,0,(AU10*((LOG(AU10))/LOG(2))))","v":0}]
[12,538,13,543,13,548,null,null,null,null,0,111,null,211,37,0.18974358974358974,-0.45498177989981775,null,null,211,{"$f":"COUNTIF(L7:L39,T11)","v":5},null,null,null,211,{"$f":"COUNTIF(L40:L71,Y11)","v":5},null,null,null,211,{"$f":"COUNTIF(L72:L104,AD11)","v":3},null,null,null,211,{"$f":"COUNTIF(L105:L136,AI11)","v":6},null,null,null,211,{"$f":"COUNTIF(L137:L169,AN11)","v":10},null,null,null,211,{"$f":"COUNTIF(L170:L201,AS11)","v":8}]
[12,650,13,655,13,667,null,null,null,null,0,111,null,212,7,3.5897435897435895E-2,-0.17230680893253356,null,null,212,{"$f":"COUNTIF(L7:L39,T12)","v":2},{"$f":"U12/(W4-U11)","v":7.1428571428571425E-2},{"$f":"IF(V12=0,0,(V12*((LOG(V12))/LOG(2))))","v":-0.27195392300411453},null,212,{"$f":"COUNTIF(L40:L71,Y12)","v":0},{"$f":"Z12/(AB4-Z11)","v":0},{"$f":"IF(AA12=0,0,(AA12*((LOG(AA12))/LOG(2))))","v":0},null,212,{"$f":"COUNTIF(L72:L104,AD12)","v":1},{"$f":"AE12/(AG4-AE11)","v":3.3333333333333333E-2},{"$f":"IF(AF12=0,0,(AF12*((LOG(AF12))/LOG(2))))","v":-0.16356301985361729},null,212,{"$f":"COUNTIF(L105:L136,AI12)","v":0},{"$f":"AJ12/(AL4-AJ11)","v":0},{"$f":"IF(AK12=0,0,(AK12*((LOG(AK12))/LOG(2))))","v":0},null,212,{"$f":"COUNTIF(L137:L169,AN12)","v":3},{"$f":"AO12/(AQ4-AO11)","v":0.13043478260869565},{"$f":"IF(AP12=0,0,(AP12*((LOG(AP12))/LOG(2))))","v":-0.3832955811307639},null,212,{"$f":"COUNTIF(L170:L201,AS12)","v":1},{"$f":"AT12/(AV4-AT11)","v":4.1666666666666664E-2},{"$f":"IF(AU12=0,0,(AU12*((LOG(AU12))/LOG(2))))","v":-0.19104010419671485}]
[21,759,11,779,22,783,null,null,null,null,0,212,null,221,9,4.6153846153846156E-2,-0.20480332210649072,null,null,221,{"$f":"COUNTIF(L7:L39,T13)","v":2},{"$f":"U13/(W4-U11)","v":7.1428571428571425E-2},{"$f":"IF(V13=0,0,(V13*((LOG(V13))/LOG(2))))","v":-0.27195392300411453},null,221,{"$f":"COUNTIF(L40:L71,Y13)","v":1},{"$f":"Z13/(AB4-Z11)","v":3.7037037037037035E-2},{"$f":"IF(AA13=0,0,(AA13*((LOG(AA13))/LOG(2))))","v":-0.1761069445245729},null,221,{"$f":"COUNTIF(L72:L104,AD13)","v":2},{"$f":"AE13/(AG4-AE11)","v":6.6666666666666666E-2},{"$f":"IF(AF13=0,0,(AF13*((LOG(AF13))/LOG(2))))","v":-0.26045937304056793},null,221,{"$f":"COUNTIF(L105:L136,AI13)","v":1},{"$f":"AJ13/(AL4-AJ11)","v":3.8461538461538464E-2},{"$f":"IF(AK13=0,0,(AK13*((LOG(AK13))/LOG(2))))","v":-0.18078614300542661},null,221,{"$f":"COUNTIF(L137:L169,AN13)","v":2},{"$f":"AO13/(AQ4-AO11)","v":8.6956521739130432E-2},{"$f":"IF(AP13=0,0,(AP13*((LOG(AP13))/LOG(2))))","v":-0.30639669183104457},null,221,{"$f":"COUNTIF(L170:L201,AS13)","v":1},{"$f":"AT13/(AV4-AT11)","v":4.1666666666666664E-2},{"$f":"IF(AU13=0,0,(AU13*((LOG(AU13))/LOG(2))))","v":-0.19104010419671485}]
[21,881,11,893,11,897,null,null,null,null,0,211,null,222,2,1.0256410256410256E-2,-6.7767490397431907E-2,null,null,222,{"$f":"COUNTIF(L7:L39,T14)","v":1},{"$f":"U14/(W4-U11)","v":3.5714285714285712E-2},{"$f":"IF(V14=0,0,(V14*((LOG(V14))/LOG(2))))","v":-0.17169124721634299},null,222,{"$f":"COUNTIF(L40:L71,Y14)","v":0},{"$f":"Z14/(AB4-Z11)","v":0},{"$f":"IF(AA14=0,0,(AA14*((LOG(AA14))/LOG(2))))","v":0},null,222,{"$f":"COUNTIF(L72:L104,AD14)","v":1},{"$f":"AE14/(AG4-AE11)","v":3.3333333333333333E-2},{"$f":"IF(AF14=0,0,(AF14*((LOG(AF14))/LOG(2))))","v":-0.16356301985361729},null,222,{"$f":"COUNTIF(L105:L136,AI14)","v":0},{"$f":"AJ14/(AL4-AJ11)","v":0},{"$f":"IF(AK14=0,0,(AK14*((LOG(AK14))/LOG(2))))","v":0},null,222,{"$f":"COUNTIF(L137:L169,AN14)","v":0},{"$f":"AO14/(AQ4-AO11)","v":0},{"$f":"IF(AP14=0,0,(AP14*((LOG(AP14))/LOG(2))))","v":0},null,222,{"$f":"COUNTIF(L170:L201,AS14)","v":0},{"$f":"AT14/(AV4-AT11)","v":0},{"$f":"IF(AU14=0,0,(AU14*((LOG(AU14))/LOG(2))))","v":0}]
[12,1064,13,1072,13,1081,null,null,null,null,0,111,null,null,null,{"$f":"SUM(P7:P14)","v":0.99999999999999978},{"$f":"-SUM(Q7:Q14)","v":2.0144157522377619},null,null,null,null,{"$f":"SUM(V7:V14)","v":1},{"$f":"-SUM(W7:W14)","v":1.6981174211304031},null,null,null,{"$f":"SUM(AA7:AA14)","v":1},{"$f":"-SUM(AB7:AB14)","v":1.2615444195758783},null,null,null,{"$f":"SUM(AF7:AF14)","v":0.99999999999999989},{"$f":"-SUM(AG7:AG14)","v":1.5404388162579377},null,null,null,{"$f":"SUM(AK7:AK14)","v":1},{"$f":"-SUM(AL7:AL14)","v":1.4124832450158702},null,null,null,{"$f":"SUM(AP7:AP14)","v":1},{"$f":"-SUM(AQ7:AQ14)","v":1.8446275499630505},null,null,null,{"$f":"SUM(AU7:AU14)","v":0.99999999999999989},{"$f":"-SUM(AV7:AV14)","v":1.4345608142862891}]
[12,1189,13,1193,13,1198,null,null,null,null,0,111,null,null,null,"U=",{"$f":"Q15/(LOG(Q4)/LOG(2))","v":0.26479930135239094},null,null,null,null,"U1=",{"$f":"W15/(LOG(W4)/LOG(2))","v":0.33663456521243623},null,null,null,"U2=",{"$f":"AB15/(LOG(AB4)/LOG(2))","v":0.25230888391517564},null,null,null,"U3=",{"$f":"AG15/(LOG(AG4)/LOG(2))","v":0.30537638015759377},null,null,null,"U4=",{"$f":"AL15/(LOG(AL4)/LOG(2))","v":0.28249664900317406},null,null,null,"U5=",{"$f":"AQ15/(LOG(AQ4)/LOG(2))","v":0.36567871310532146},null,null,null,"U6=",{"$f":"AV15/(LOG(AV4)/LOG(2))","v":0.28691216285725785}]
[21,1289,22,1300,24,1304,null,null,null,null,0,222]
[21,1402,22,1406,13,1416,null,null,null,null,0,221]
[12,1531,13,1550,13,1553,null,null,null,null,0,111,null,"Total Target Seq"]
[21,1658,11,1662,11,1671,null,null,null,null,0,211,null,{"$f":"COUNTIF(L7:L201,G3)","v":37},null,33,32,33,32,33,32]
[12,1768,13,1774,13,1788,null,null,null,null,0,111,null,null,null,"% of reinforcement given in 6 equal intervals based on number of trials "]
[12,1887,13,1895,13,1901,null,null,null,null,0,111,null,null,null,"%_1","%_2","%_3","%_4","%_5","%_6"]
[12,2033,24,2041,13,2051,null,null,null,null,0,121,null,null,"target sequence",{"$f":"$G$3","v":211},211,211,211,211,211]
[12,2164,13,2167,13,2174,null,null,null,null,0,111,null,null,"total reinforcement",{"$f":"U11","v":5},{"$f":"Z11","v":5},{"$f":"AE11","v":3},{"$f":"AJ11","v":6},{"$f":"AO11","v":10},{"$f":"AT11","v":8}]
[12,2275,13,2280,24,2285,null,null,null,null,0,112,null,null,"% target"]
[21,2427,11,2439,22,2446,null,null,null,null,0,212,null,null,"CCRF"]
[12,2548,13,2555,13,2622,null,null,null,null,0,111,null,null,"% CCRf"]
[12,2724,13,2734,24,2738,null,null,null,null,0,112,null,null,"average response rate",{"$f":"F39/P20","v":122.57575757575758},{"$f":"(F71-F39)/Q20","v":119.09375},{"$f":"(F104-F71)/R20","v":121.93939393939394},{"$f":"(F136-F104)/S20","v":127.1875},{"$f":"(F169-F136)/T20","v":123.03030303030303},{"$f":"(F201-F169)/U20","v":123.8125}]
[12,2839,13,2844,13,2854,null,null,null,null,0,111]
[12,2952,13,2962,24,2969,null,null,null,null,0,112]
[21,3066,22,3071,13,3073,null,null,null,null,0,221]
[12,3165,13,3176,13,3185,null,null,null,null,0,111]
[12,3284,13,3288,13,3298,null,null,null,null,0,111]
[12,3396,13,3405,13,3412,null,null,null,null,0,111]
[12,3518,13,3529,13,3543,null,null,null,null,0,111]
[12,3649,13,3654,13,3664,null,null,null,null,0,111]
[21,3772,11,3777,11,3782,null,null,null,null,0,211]
[12,3918,13,3924,13,3941,null,null,null,null,0,111]
[12,4034,13,4041,24,4045,null,null,null,null,0,112]
[21,4145,11,4155,11,4162,null,null,null,null,0,211]
[21,4266,11,4285,11,4295,null,null,null,null,0,211]
[12,4410,13,4420,13,4433,null,null,null,null,0,111]
[12,4541,13,4547,24,4557,null,null,null,null,0,112]
[21,4657,11,4662,11,4669,null,null,null,null,0,211]
[12,4768,13,4777,13,4793,null,null,null,null,0,111]
[21,4889,22,4899,13,4904,null,null,null,null,0,221]
[21,4997,11,5003,11,5013,null,null,null,null,0,211]
[12,5111,13,5120,13,5137,null,null,null,null,0,111]
[12,5248,24,5253,13,5259,null,null,null,null,0,121]
[12,5362,13,5372,13,5379,null,null,null,null,0,111]
[12,5482,13,5500,13,5507,null,null,null,null,0,111]
[21,5620,11,5642,11,5648,null,null,null,null,0,211]
[12,5744,13,5752,13,5757,null,null,null,null,0,111]
[12,5849,13,5857,13,5866,null,null,null,null,0,111]
[12,5965,13,5968,24,5971,null,null,null,null,0,112]
[12,6079,13,6093,13,6104,null,null,null,null,0,111]
[12,6203,13,6213,13,6225,null,null,null,null,0,111]
[12,6316,13,6320,13,6325,null,null,null,null,0,111]
[12,6425,13,6430,13,6442,null,null,null,null,0,111]
[12,6557,24,6562,13,6567,null,null,null,null,0,121]
[12,6663,13,6675,13,6687,null,null,null,null,0,111]
[12,6787,24,6802,13,6806,null,null,null,null,0,121]
[12,6899,13,6903,13,6907,null,null,null,null,0,111]
[12,7015,24,7020,13,7026,null,null,null,null,0,121]
[12,7133,24,7142,13,7151,null,null,null,null,0,121]
[12,7243,13,7258,13,7269,null,null,null,null,0,111]
[12,7369,13,7378,13,7390,null,null,null,null,0,111]
[12,7497,13,7503,13,7512,null,null,null,null,0,111]
[12,7610,13,7618,13,7630,null,null,null,null,0,111]
[12,7727,13,7732,13,7741,null,null,null,null,0,111]
[12,7843,13,7850,13,7856,null,null,null,null,0,111]
[21,7955,11,7963,11,7970,null,null,null,null,0,211]
[12,8097,13,8101,24,8109,null,null,null,null,0,112]
[21,8200,22,8210,24,8215,null,null,null,null,0,222]
[21,8323,22,8328,13,8339,null,null,null,null,0,221]
[12,8437,13,8442,13,8449,null,null,null,null,0,111]
[12,8570,13,8588,13,8594,null,null,null,null,0,111]
[12,8699,13,8708,13,8716,null,null,null,null,0,111]
[12,8809,13,8815,13,8825,null,null,null,null,0,111]
[12,8923,13,8932,13,8942,null,null,null,null,0,111]
[12,9045,24,9052,13,9060,null,null,null,null,0,121]
[12,9152,13,9157,13,9166,null,null,null,null,0,111]
[12,9264,13,9273,13,9280,null,null,null,null,0,111]
[12,9372,13,9379,13,9387,null,null,null,null,0,111]
[12,9490,13,9495,13,9504,null,null,null,null,0,111]
[12,9601,13,9610,13,9615,null,null,null,null,0,111]
[12,9713,13,9722,13,9727,null,null,null,null,0,111]
[12,9819,13,9836,24,9841,null,null,null,null,0,112]
[12,9937,13,9939,13,9949,null,null,null,null,0,111]
[21,10063,11,10066,22,10072,null,null,null,null,0,212]
[12,10172,13,10181,13,10185,null,null,null,null,0,111]
[21,10282,11,10285,11,10295,null,null,null,null,0,211]
[12,10453,13,10459,13,10469,null,null,null,null,0,111]
[12,10572,24,10655,13,10669,null,null,null,null,0,121]
[21,10764,22,10772,13,10784,null,null,null,null,0,221]
[12,10877,13,10887,13,10895,null,null,null,null,0,111]
[21,10987,11,10992,11,11002,null,null,null,null,0,211]
[12,11176,13,11185,13,11198,null,null,null,null,0,111]
[12,11290,13,11297,13,11306,null,null,null,null,0,111]
[12,11417,13,11430,13,11439,null,null,null,null,0,111]
[12,11535,13,11538,13,11548,null,null,null,null,0,111]
[12,11640,13,11649,13,11655,null,null,null,null,0,111]
[12,11752,13,11760,13,11765,null,null,null,null,0,111]
[12,11868,13,11873,24,11880,null,null,null,null,0,112]
[12,11985,13,11989,13,11999,null,null,null,null,0,111]
[12,12103,13,12109,13,12117,null,null,null,null,0,111]
[21,12218,11,12224,11,12232,null,null,null,null,0,211]
[12,12422,13,12428,13,12434,null,null,null,null,0,111]
[12,12538,13,12550,13,12561,null,null,null,null,0,111]
[21,12680,22,12685,13,12691,null,null,null,null,0,221]
[12,12787,13,12791,13,12795,null,null,null,null,0,111]
[12,12888,13,12907,13,12912,null,null,null,null,0,111]
[12,13004,24,13014,13,13019,null,null,null,null,0,121]
[12,13110,13,13126,13,13144,null,null,null,null,0,111]
[21,13240,11,13250,11,13255,null,null,null,null,0,211]
[12,13386,13,13390,13,13399,null,null,null,null,0,111]
[12,13491,24,13496,13,13511,null,null,null,null,0,121]
[12,13608,13,13622,24,13627,null,null,null,null,0,112]
[12,13727,13,13736,13,13746,null,null,null,null,0,111]
[12,13840,24,13853,13,13858,null,null,null,null,0,121]
[12,13962,13,13966,24,13974,null,null,null,null,0,112]
[12,14081,13,14086,13,14094,null,null,null,null,0,111]
[21,14186,11,14196,11,14202,null,null,null,null,0,211]
[21,14335,11,14341,11,14350,null,null,null,null,0,211]
[12,14572,13,14579,13,14588,null,null,null,null,0,111]
[12,14692,13,14696,13,14702,null,null,null,null,0,111]
[12,14803,13,14813,13,14818,null,null,null,null,0,111]
[21,14921,11,14926,11,14931,null,null,null,null,0,211]
[21,15068,11,15073,11,15080,null,null,null,null,0,211]
[12,15229,13,15238,13,15244,null,null,null,null,0,111]
[12,15348,13,15353,24,15362,null,null,null,null,0,112]
[12,15458,13,15466,24,15475,null,null,null,null,0,112]
[12,15568,13,15583,13,15589,null,null,null,null,0,111]
[12,15686,24,15694,13,15700,null,null,null,null,0,121]
[12,15795,13,15805,13,15821,null,null,null,null,0,111]
[12,15932,13,15941,13,15950,null,null,null,null,0,111]
[21,16042,11,16052,22,16056,null,null,null,null,0,212]
[21,16147,11,16154,11,16161,null,null,null,null,0,211]
[21,16253,11,16281,11,16292,null,null,null,null,0,211]
[12,16441,13,16448,13,16458,null,null,null,null,0,111]
[21,16550,22,16555,13,16563,null,null,null,null,0,221]
[21,16655,11,16667,11,16672,null,null,null,null,0,211]
[12,16803,13,16810,13,16815,null,null,null,null,0,111]
[12,16920,13,16924,13,16932,null,null,null,null,0,111]
[12,17034,13,17042,13,17051,null,null,null,null,0,111]
[21,17155,11,17164,11,17169,null,null,null,null,0,211]
[21,17278,11,17292,11,17302,null,null,null,null,0,211]
[21,17446,11,17474,11,17483,null,null,null,null,0,211]
[12,17640,13,17647,13,17661,null,null,null,null,0,111]
[12,17767,13,17772,13,17780,null,null,null,null,0,111]
[21,17879,11,17888,11,17894,null,null,null,null,0,211]
[12,18016,13,18021,13,18028,null,null,null,null,0,111]
[21,18134,11,18139,22,18144,null,null,null,null,0,212]
[12,18245,13,18255,13,18262,null,null,null,null,0,111]
[12,18367,13,18372,13,18379,null,null,null,null,0,111]
[21,18484,22,18490,13,18496,null,null,null,null,0,221]
[12,18594,13,18603,13,18609,null,null,null,null,0,111]
[12,18700,13,18712,24,18717,null,null,null,null,0,112]
[21,18808,11,18811,22,18817,null,null,null,null,0,212]
[12,18922,13,18927,13,18936,null,null,null,null,0,111]
[21,19031,11,19047,11,19051,null,null,null,null,0,211]
[21,19157,11,19170,11,19179,null,null,null,null,0,211]
[12,19310,13,19327,13,19333,null,null,null,null,0,111]
[12,19425,24,19440,13,19445,null,null,null,null,0,121]
[12,19541,13,19545,24,19555,null,null,null,null,0,112]
[12,19660,13,19664,24,19669,null,null,null,null,0,112]
[12,19773,13,19779,13,19787,null,null,null,null,0,111]
[21,19886,11,19895,11,19901,null,null,null,null,0,211]
[12,19993,24,20005,13,20010,null,null,null,null,0,121]
[12,20105,13,20116,24,20120,null,null,null,null,0,112]
[12,20225,13,20230,13,20241,null,null,null,null,0,111]
[12,20344,13,20348,13,20353,null,null,null,null,0,111]
[12,20449,13,20457,13,20462,null,null,null,null,0,111]
[21,20559,11,20569,22,20574,null,null,null,null,0,212]
[21,20673,11,20690,11,20695,null,null,null,null,0,211]
[12,20803,13,20808,13,20815,null,null,null,null,0,111]
[21,20907,11,20917,11,20923,null,null,null,null,0,211]
[21,21036,11,21044,11,21056,null,null,null,null,0,211]
[12,21170,13,21178,13,21189,null,null,null,null,0,111]
[12,21291,13,21296,24,21305,null,null,null,null,0,112]
[12,21403,13,21412,13,21423,null,null,null,null,0,111]
[12,21524,13,21532,13,21560,null,null,null,null,0,111]
[21,21666,11,21671,11,21677,null,null,null,null,0,211]
[21,21788,11,21797,11,21803,null,null,null,null,0,211]
[12,21971,13,21979,13,21989,null,null,null,null,0,111]
[12,22081,13,22091,13,22095,null,null,null,null,0,111]
[12,22198,13,22202,13,22209,null,null,null,null,0,111]
[12,22316,13,22324,13,22331,null,null,null,null,0,111]
[21,22435,22,22440,13,22444,null,null,null,null,0,221]
[12,22666,13,22701,13,22706,null,null,null,null,0,111]
[12,22810,24,22814,13,22819,null,null,null,null,0,121]
[21,22918,11,22930,11,22937,null,null,null,null,0,211]
[12,23024,13,23035,24,23037,null,null,null,null,0,112]
[12,23129,13,23139,13,23144,null,null,null,null,0,111]
[12,23236,13,23248,13,23253,null,null,null,null,0,111]
[12,23360,13,23367,13,23376,null,null,null,null,0,111]
[12,23479,13,23485,24,23492,null,null,null,null,0,112]
[12,23584,13,23588,24,23593,null,null,null,null,0,112]
[21,23696,11,23700,11,23706,null,null,null,null,0,211]
[21,23797,11,23804,11,23812,null,null,null,null,0,211]
[12,23956,13,23963,13,23972,null,null,null,null,null,111]

{"sheet":"!MC28A1I.sha","index":14,"n_rows":118,"n_cols":48,"rows_kept":118,"cut":false,"hidden":false,"merged":[[1,1,1,2],[5,13,5,14],[18,13,18,14],[19,13,19,14],[4,19,4,22],[5,19,5,20],[4,39,4,42],[5,39,5,40],[4,44,4,47],[5,44,5,45],[4,24,4,27],[5,24,5,25],[4,29,4,32],[5,29,5,30],[4,34,4,37],[5,34,5,35]]}
["Report for:!MC28A1I.sha"]
["Date:","<date>"]
["Hen:","<hen>",null,null,null,"Correct Sequence",{"$f":"Start!J2","v":211},null,null,null,null,null,null,null,null,"Total Sequences in Data",{"$f":"4994-COUNTBLANK(L7:L5000)","v":112},null,null,null,null,"Total Sequences in Block Data",{"$f":"COUNTA(L7:L25)","v":19},null,null,null,"Total Sequences in Block Data",{"$f":"COUNTA(L26:L43)","v":18},null,null,null,"Total Sequences in Block Data",{"$f":"COUNTA(L44:L62)","v":19},null,null,null,"Total Sequences in Block Data",{"$f":"COUNTA(L63:L81)","v":19},null,null,null,"Total Sequences in Block Data",{"$f":"COUNTA(L82:L99)","v":18},null,null,null,"Total Sequences in Block Data",{"$f":"COUNTA(L100:L118)","v":19}]
[null,null,null,null,null,null,null,null,null,null,null,null,null,null,null,"Total Sequences in Summary",{"$f":"SUM(O7:O14)","v":112},null,null,null,null,"Total Sequences in Block Summary",{"$f":"SUM(U7:U14)","v":19},null,null,null,"Total Sequences in Block Summary",{"$f":"SUM(Z7:Z14)","v":18},null,null,null,"Total Sequences in Block Summary",{"$f":"SUM(AE7:AE14)","v":19},null,null,null,"Total Sequences in Block Summary",{"$f":"SUM(AJ7:AJ14)","v":19},null,null,null,"Total Sequences in Block Summary",{"$f":"SUM(AO7:AO14)","v":18},null,null,null,"Total Sequences in Block Summary",{"$f":"SUM(AT7:AT14)","v":19}]
[null,null,null,null,null,null,null,null,null,null,null,null,null,null,null,null,null,null,null,"Block 1",null,null,null,null,"Block 2",null,null,null,null,"Block 3",null,null,null,null,"Block 4",null,null,null,null,"Block 5",null,null,null,null,"Block 6"]
["Sequence\nComponent\n1","Time\n1","Sequence\nComponent\n2","Time\n2","Sequence\nComponent\n3","Time\n3","Sequence\nComponent\n4","Time\n4","Sequence\nComponent\n5","Time\n5","Correct?\n0=No 1=Yes","Sequence",null,"Frequency",null,"Relative Frequency","Variability",null,null,"Frequency",null,"Relative Frequency","Variability",null,"Frequency",null,"Relative Frequency","Variability",null,"Frequency",null,"Relative Frequency","Variability",null,"Frequency",null,"Relative Frequency","Variability",null,"Frequency",null,"Relative Frequency","Variability",null,"Frequency",null,"Relative Frequency","Variability"]
[21,1,11,8,11,13,null,null,null,null,0,211,null,111,{"$f":"COUNTIF($L$7:$L$500,N7)","v":53},{"$f":"O7/$Q$4","v":0.4732142857142857},{"$f":"IF(P7=0,0,(P7*((LOG(P7))/LOG(2))))","v":-0.51080381051074519},null,null,{"$f":"N7","v":111},{"$f":"COUNTIF(L7:L25,T7)","v":11},{"$f":"U7/(W4-U11)","v":0.84615384615384615},{"$f":"IF(V7=0,0,(V7*((LOG(V7))/LOG(2))))","v":-0.20392993034936494},null,{"$f":"N7","v":111},{"$f":"COUNTIF(L26:L43,Y7)","v":10},{"$f":"Z7/(AB4-Z11)","v":0.90909090909090906},{"$f":"IF(AA7=0,0,(AA7*((LOG(AA7))/LOG(2))))","v":-0.12500320340903179},null,{"$f":"N7","v":111},{"$f":"COUNTIF(L44:L62,AD7)","v":8},{"$f":"AE7/(AG4-AE11)","v":0.66666666666666663},{"$f":"IF(AF7=0,0,(AF7*((LOG(AF7))/LOG(2))))","v":-0.38997500048077083},null,{"$f":"N7","v":111},{"$f":"COUNTIF(L63:L81,AI7)","v":8},{"$f":"AJ7/(AL4-AJ11)","v":0.61538461538461542},{"$f":"IF(AK7=0,0,(AK7*((LOG(AK7))/LOG(2))))","v":-0.43103982654836437},null,{"$f":"N7","v":111},{"$f":"COUNTIF(L82:L99,AN7)","v":10},{"$f":"AO7/(AQ4-AO11)","v":0.83333333333333337},{"$f":"IF(AP7=0,0,(AP7*((LOG(AP7))/LOG(2))))","v":-0.21919533819482812},null,{"$f":"N7","v":111},{"$f":"COUNTIF(L100:L118,AS7)","v":6},{"$f":"AT7/(AV4-AT11)","v":0.54545454545454541},{"$f":"IF(AU7=0,0,(AU7*((LOG(AU7))/LOG(2))))","v":-0.47698315522698609}]
[12,211,13,215,13,222,null,null,null,null,0,111,null,112,8,7.1428571428571425E-2,-0.27195392300411453,null,null,112,{"$f":"COUNTIF(L7:L25,T8)","v":2},{"$f":"U8/(W4-U11)","v":0.15384615384615385},{"$f":"IF(V8=0,0,(V8*((LOG(V8))/LOG(2))))","v":-0.4154522643293988},null,112,{"$f":"COUNTIF(L26:L43,Y8)","v":0},{"$f":"Z8/(AB4-Z11)","v":0},{"$f":"IF(AA8=0,0,(AA8*((LOG(AA8))/LOG(2))))","v":0},null,112,{"$f":"COUNTIF(L44:L62,AD8)","v":1},{"$f":"AE8/(AG4-AE11)","v":8.3333333333333329E-2},{"$f":"IF(AF8=0,0,(AF8*((LOG(AF8))/LOG(2))))","v":-0.29874687506009634},null,112,{"$f":"COUNTIF(L63:L81,AI8)","v":1},{"$f":"AJ8/(AL4-AJ11)","v":7.6923076923076927E-2},{"$f":"IF(AK8=0,0,(AK8*((LOG(AK8))/LOG(2))))","v":-0.28464920908777636},null,112,{"$f":"COUNTIF(L82:L99,AN8)","v":2},{"$f":"AO8/(AQ4-AO11)","v":0.16666666666666666},{"$f":"IF(AP8=0,0,(AP8*((LOG(AP8))/LOG(2))))","v":-0.43082708345352599},null,112,{"$f":"COUNTIF(L100:L118,AS8)","v":2},{"$f":"AT8/(AV4-AT11)","v":0.18181818181818182},{"$f":"IF(AU8=0,0,(AU8*((LOG(AU8))/LOG(2))))","v":-0.44716938520678134}]
[12,327,13,332,13,337,null,null,null,null,0,111,null,121,1,8.9285714285714281E-3,-6.0779954661228604E-2,null,null,121,{"$f":"COUNTIF(L7:L25,T9)","v":0},{"$f":"U9/(W4-U11)","v":0},{"$f":"IF(V9=0,0,(V9*((LOG(V9))/LOG(2))))","v":0},null,121,{"$f":"COUNTIF(L26:L43,Y9)","v":0},{"$f":"Z9/(AB4-Z11)","v":0},{"$f":"IF(AA9=0,0,(AA9*((LOG(AA9))/LOG(2))))","v":0},null,121,{"$f":"COUNTIF(L44:L62,AD9)","v":0},{"$f":"AE9/(AG4-AE11)","v":0},{"$f":"IF(AF9=0,0,(AF9*((LOG(AF9))/LOG(2))))","v":0},null,121,{"$f":"COUNTIF(L63:L81,AI9)","v":1},{"$f":"AJ9/(AL4-AJ11)","v":7.6923076923076927E-2},{"$f":"IF(AK9=0,0,(AK9*((LOG(AK9))/LOG(2))))","v":-0.28464920908777636},null,121,{"$f":"COUNTIF(L82:L99,AN9)","v":0},{"$f":"AO9/(AQ4-AO11)","v":0},{"$f":"IF(AP9=0,0,(AP9*((LOG(AP9))/LOG(2))))","v":0},null,121,{"$f":"COUNTIF(L100:L118,AS9)","v":0},{"$f":"AT9/(AV4-AT11)","v":0},{"$f":"IF(AU9=0,0,(AU9*((LOG(AU9))/LOG(2))))","v":0}]
[21,436,11,446,11,451,null,null,null,null,0,211,null,122,0,0,0,null,null,122,{"$f":"COUNTIF(L7:L25,T10)","v":0},{"$f":"U10/(W4-U11)","v":0},{"$f":"IF(V10=0,0,(V10*((LOG(V10))/LOG(2))))","v":0},null,122,{"$f":"COUNTIF(L26:L43,Y10)","v":0},{"$f":"Z10/(AB4-Z11)","v":0},{"$f":"IF(AA10=0,0,(AA10*((LOG(AA10))/LOG(2))))","v":0},null,122,{"$f":"COUNTIF(L44:L62,AD10)","v":0},{"$f":"AE10/(AG4-AE11)","v":0},{"$f":"IF(AF10=0,0,(AF10*((LOG(AF10))/LOG(2))))","v":0},null,122,{"$f":"COUNTIF(L63:L81,AI10)","v":0},{"$f":"AJ10/(AL4-AJ11)","v":0},{"$f":"IF(AK10=0,0,(AK10*((LOG(AK10))/LOG(2))))","v":0},null,122,{"$f":"COUNTIF(L82:L99,AN10)","v":0},{"$f":"AO10/(AQ4-AO11)","v":0},{"$f":"IF(AP10=0,0,(AP10*((LOG(AP10))/LOG(2))))","v":0},null,122,{"$f":"COUNTIF(L100:L118,AS10)","v":0},{"$f":"AT10/(AV4-AT11)","v":0},{"$f":"IF(AU10=0,0,(AU10*((LOG(AU10))/LOG(2))))","v":0}]
[12,562,13,568,13,575,null,null,null,null,0,111,null,211,40,0.35714285714285715,-0.53050958113222924,null,null,211,{"$f":"COUNTIF(L7:L25,T11)","v":6},null,null,null,211,{"$f":"COUNTIF(L26:L43,Y11)","v":7},null,null,null,211,{"$f":"COUNTIF(L44:L62,AD11)","v":7},null,null,null,211,{"$f":"COUNTIF(L63:L81,AI11)","v":6},null,null,null,211,{"$f":"COUNTIF(L82:L99,AN11)","v":6},null,null,null,211,{"$f":"COUNTIF(L100:L118,AS11)","v":8}]
[12,681,13,687,13,695,null,null,null,null,0,111,null,212,1,8.9285714285714281E-3,-6.0779954661228604E-2,null,null,212,{"$f":"COUNTIF(L7:L25,T12)","v":0},{"$f":"U12/(W4-U11)","v":0},{"$f":"IF(V12=0,0,(V12*((LOG(V12))/LOG(2))))","v":0},null,212,{"$f":"COUNTIF(L26:L43,Y12)","v":0},{"$f":"Z12/(AB4-Z11)","v":0},{"$f":"IF(AA12=0,0,(AA12*((LOG(AA12))/LOG(2))))","v":0},null,212,{"$f":"COUNTIF(L44:L62,AD12)","v":0},{"$f":"AE12/(AG4-AE11)","v":0},{"$f":"IF(AF12=0,0,(AF12*((LOG(AF12))/LOG(2))))","v":0},null,212,{"$f":"COUNTIF(L63:L81,AI12)","v":0},{"$f":"AJ12/(AL4-AJ11)","v":0},{"$f":"IF(AK12=0,0,(AK12*((LOG(AK12))/LOG(2))))","v":0},null,212,{"$f":"COUNTIF(L82:L99,AN12)","v":0},{"$f":"AO12/(AQ4-AO11)","v":0},{"$f":"IF(AP12=0,0,(AP12*((LOG(AP12))/LOG(2))))","v":0},null,212,{"$f":"COUNTIF(L100:L118,AS12)","v":1},{"$f":"AT12/(AV4-AT11)","v":9.0909090909090912E-2},{"$f":"IF(AU12=0,0,(AU12*((LOG(AU12))/LOG(2))))","v":-0.31449378351248153}]
[12,807,13,813,13,822,null,null,null,null,0,111,null,221,8,7.1428571428571425E-2,-0.27195392300411453,null,null,221,{"$f":"COUNTIF(L7:L25,T13)","v":0},{"$f":"U13/(W4-U11)","v":0},{"$f":"IF(V13=0,0,(V13*((LOG(V13))/LOG(2))))","v":0},null,221,{"$f":"COUNTIF(L26:L43,Y13)","v":1},{"$f":"Z13/(AB4-Z11)","v":9.0909090909090912E-2},{"$f":"IF(AA13=0,0,(AA13*((LOG(AA13))/LOG(2))))","v":-0.31449378351248153},null,221,{"$f":"COUNTIF(L44:L62,AD13)","v":3},{"$f":"AE13/(AG4-AE11)","v":0.25},{"$f":"IF(AF13=0,0,(AF13*((LOG(AF13))/LOG(2))))","v":-0.5},null,221,{"$f":"COUNTIF(L63:L81,AI13)","v":2},{"$f":"AJ13/(AL4-AJ11)","v":0.15384615384615385},{"$f":"IF(AK13=0,0,(AK13*((LOG(AK13))/LOG(2))))","v":-0.4154522643293988},null,221,{"$f":"COUNTIF(L82:L99,AN13)","v":0},{"$f":"AO13/(AQ4-AO11)","v":0},{"$f":"IF(AP13=0,0,(AP13*((LOG(AP13))/LOG(2))))","v":0},null,221,{"$f":"COUNTIF(L100:L118,AS13)","v":2},{"$f":"AT13/(AV4-AT11)","v":0.18181818181818182},{"$f":"IF(AU13=0,0,(AU13*((LOG(AU13))/LOG(2))))","v":-0.44716938520678134}]
[12,984,13,996,13,1004,null,null,null,null,0,111,null,222,1,8.9285714285714281E-3,-6.0779954661228604E-2,null,null,222,{"$f":"COUNTIF(L7:L25,T14)","v":0},{"$f":"U14/(W4-U11)","v":0},{"$f":"IF(V14=0,0,(V14*((LOG(V14))/LOG(2))))","v":0},null,222,{"$f":"COUNTIF(L26:L43,Y14)","v":0},{"$f":"Z14/(AB4-Z11)","v":0},{"$f":"IF(AA14=0,0,(AA14*((LOG(AA14))/LOG(2))))","v":0},null,222,{"$f":"COUNTIF(L44:L62,AD14)","v":0},{"$f":"AE14/(AG4-AE11)","v":0},{"$f":"IF(AF14=0,0,(AF14*((LOG(AF14))/LOG(2))))","v":0},null,222,{"$f":"COUNTIF(L63:L81,AI14)","v":1},{"$f":"AJ14/(AL4-AJ11)","v":7.6923076923076927E-2},{"$f":"IF(AK14=0,0,(AK14*((LOG(AK14))/LOG(2))))","v":-0.28464920908777636},null,222,{"$f":"COUNTIF(L82:L99,AN14)","v":0},{"$f":"AO14/(AQ4-AO11)","v":0},{"$f":"IF(AP14=0,0,(AP14*((LOG(AP14))/LOG(2))))","v":0},null,222,{"$f":"COUNTIF(L100:L118,AS14)","v":0},{"$f":"AT14/(AV4-AT11)","v":0},{"$f":"IF(AU14=0,0,(AU14*((LOG(AU14))/LOG(2))))","v":0}]
[12,1104,13,1109,13,1118,null,null,null,null,0,111,null,null,null,{"$f":"SUM(P7:P14)","v":0.99999999999999978},{"$f":"-SUM(Q7:Q14)","v":1.7675611016348893},null,null,null,null,{"$f":"SUM(V7:V14)","v":1},{"$f":"-SUM(W7:W14)","v":0.61938219467876376},null,null,null,{"$f":"SUM(AA7:AA14)","v":1},{"$f":"-SUM(AB7:AB14)","v":0.43949698692151329},null,null,null,{"$f":"SUM(AF7:AF14)","v":1},{"$f":"-SUM(AG7:AG14)","v":1.1887218755408671},null,null,null,{"$f":"SUM(AK7:AK14)","v":1},{"$f":"-SUM(AL7:AL14)","v":1.7004397181410922},null,null,null,{"$f":"SUM(AP7:AP14)","v":1},{"$f":"-SUM(AQ7:AQ14)","v":0.65002242164835411},null,null,null,{"$f":"SUM(AU7:AU14)","v":1},{"$f":"-SUM(AV7:AV14)","v":1.6858157091530301}]
[21,1216,11,1227,11,1243,null,null,null,null,0,211,null,null,null,"U=",{"$f":"Q15/(LOG(Q4)/LOG(2))","v":0.25965461208839441},null,null,null,null,"U1=",{"$f":"W15/(LOG(W4)/LOG(2))","v":0.14580808940797138},null,null,null,"U2=",{"$f":"AB15/(LOG(AB4)/LOG(2))","v":0.10539685648290992},null,null,null,"U3=",{"$f":"AG15/(LOG(AG4)/LOG(2))","v":0.27983572501622772},null,null,null,"U4=",{"$f":"AL15/(LOG(AL4)/LOG(2))","v":0.40029866629306715},null,null,null,"U5=",{"$f":"AQ15/(LOG(AQ4)/LOG(2))","v":0.15588348026008178},null,null,null,"U6=",{"$f":"AV15/(LOG(AV4)/LOG(2))","v":0.39685604422812348}]
[12,1412,13,1417,13,1423,null,null,null,null,0,111]
[21,1522,11,1533,11,1548,null,null,null,null,0,211]
[12,1698,13,1702,13,1710,null,null,null,null,0,111,null,"Total Target Seq"]
[12,1811,13,1830,24,1913,null,null,null,null,0,112,null,{"$f":"COUNTIF(L7:L118,G3)","v":40},null,19,18,19,19,18,19]
[12,2016,13,2022,24,2053,null,null,null,null,0,112,null,null,null,"% of reinforcement given in 6 equal intervals based on number of trials "]
[21,2153,11,2163,11,2169,null,null,null,null,0,211,null,null,null,"%_1","%_2","%_3","%_4","%_5","%_6"]
[12,2278,13,2282,13,2291,null,null,null,null,0,111,null,null,"target sequence",{"$f":"$G$3","v":211},211,211,211,211,211]
[21,2384,11,2393,11,2398,null,null,null,null,0,211,null,null,"total reinforcement",{"$f":"U11","v":6},{"$f":"Z11","v":7},{"$f":"AE11","v":7},{"$f":"AJ11","v":6},{"$f":"AO11","v":6},{"$f":"AT11","v":8}]
[12,2611,13,2622,13,2630,null,null,null,null,0,111,null,null,"% target"]
[12,2738,13,2750,13,2788,null,null,null,null,0,111,null,null,"CCRF"]
[21,2886,11,2895,11,2900,null,null,null,null,0,211,null,null,"% CCRf"]
[12,3010,13,3025,13,3034,null,null,null,null,0,111,null,null,"average response rate",{"$f":"F25/P20","v":138.42105263157896},{"$f":"(F43-F25)/Q20","v":124.5},{"$f":"(F62-F43)/R20","v":133.63157894736841},{"$f":"(F81-F62)/S20","v":122.52631578947368},{"$f":"(F99-F81)/T20","v":125.44444444444444},{"$f":"(F118-F99)/U20","v":127.52631578947368}]
[12,3141,13,3153,13,3168,null,null,null,null,0,111]
[21,3279,11,3291,11,3302,null,null,null,null,0,211]
[12,3406,13,3412,13,3422,null,null,null,null,0,111]
[21,3518,11,3526,11,3545,null,null,null,null,0,211]
[12,3644,13,3654,13,3665,null,null,null,null,0,111]
[21,3763,11,3774,11,3779,null,null,null,null,0,211]
[12,3871,13,3882,13,3892,null,null,null,null,0,111]
[21,3989,11,3998,11,4004,null,null,null,null,0,211]
[21,4099,11,4108,11,4113,null,null,null,null,0,211]
[12,4251,13,4256,13,4263,null,null,null,null,0,111]
[12,4364,13,4369,13,4375,null,null,null,null,0,111]
[12,4477,13,4491,13,4498,null,null,null,null,0,111]
[21,4602,11,4611,11,4623,null,null,null,null,0,211]
[12,4735,13,4746,13,4755,null,null,null,null,0,111]
[21,4854,22,4859,13,4871,null,null,null,null,0,221]
[21,4969,22,4975,13,4984,null,null,null,null,0,221]
[21,5084,11,5095,11,5101,null,null,null,null,0,211]
[21,5231,11,5278,11,5289,null,null,null,null,0,211]
[12,5443,13,5451,13,5456,null,null,null,null,0,111]
[21,5548,11,5564,11,5572,null,null,null,null,0,211]
[21,5663,11,5713,11,5726,null,null,null,null,0,211]
[12,5839,13,5845,13,5855,null,null,null,null,0,111]
[21,5950,22,5960,13,5970,null,null,null,null,0,221]
[21,6067,11,6078,11,6082,null,null,null,null,0,211]
[12,6182,13,6208,13,6217,null,null,null,null,0,111]
[12,6316,13,6327,13,6336,null,null,null,null,0,111]
[12,6438,13,6443,24,6456,null,null,null,null,0,112]
[12,6561,13,6567,13,6575,null,null,null,null,0,111]
[12,6681,13,6693,13,6702,null,null,null,null,0,111]
[21,6795,22,6799,13,6816,null,null,null,null,0,221]
[21,6915,11,6930,11,6945,null,null,null,null,0,211]
[21,7037,11,7056,11,7073,null,null,null,null,0,211]
[12,7235,13,7239,13,7291,null,null,null,null,0,111]
[12,7393,13,7399,13,7410,null,null,null,null,0,111]
[12,7511,24,7525,13,7543,null,null,null,null,0,121]
[21,7640,22,7643,24,7648,null,null,null,null,0,222]
[12,7742,13,7751,13,7756,null,null,null,null,0,111]
[21,7854,11,7861,11,7866,null,null,null,null,0,211]
[12,7973,13,7989,13,7998,null,null,null,null,0,111]
[12,8102,13,8122,13,8132,null,null,null,null,0,111]
[21,8227,11,8236,11,8245,null,null,null,null,0,211]
[12,8346,13,8363,13,8374,null,null,null,null,0,111]
[21,8467,22,8471,13,8481,null,null,null,null,0,221]
[21,8579,11,8593,11,8606,null,null,null,null,0,211]
[12,8734,13,8744,24,8757,null,null,null,null,0,112]
[12,8861,13,8873,13,8883,null,null,null,null,0,111]
[21,8976,11,8985,11,8990,null,null,null,null,0,211]
[21,9080,22,9085,13,9094,null,null,null,null,0,221]
[21,9190,11,9200,11,9219,null,null,null,null,0,211]
[21,9319,11,9328,11,9339,null,null,null,null,0,211]
[12,9469,13,9476,13,9484,null,null,null,null,0,111]
[12,9585,13,9596,13,9606,null,null,null,null,0,111]
[12,9707,13,9724,13,9738,null,null,null,null,0,111]
[12,9842,13,9868,13,9880,null,null,null,null,0,111]
[12,9984,13,9994,13,10005,null,null,null,null,0,111]
[12,10111,13,10120,24,10145,null,null,null,null,0,112]
[12,10250,13,10257,24,10270,null,null,null,null,0,112]
[12,10371,13,10375,13,10384,null,null,null,null,0,111]
[21,10479,11,10493,11,10502,null,null,null,null,0,211]
[12,10601,13,10612,13,10622,null,null,null,null,0,111]
[21,10717,11,10727,11,10748,null,null,null,null,0,211]
[12,10858,13,10864,13,10874,null,null,null,null,0,111]
[21,10966,11,10977,11,10981,null,null,null,null,0,211]
[21,11068,11,11075,11,11098,null,null,null,null,0,211]
[21,11188,11,11201,11,11233,null,null,null,null,0,211]
[12,11371,13,11375,13,11385,null,null,null,null,0,111]
[12,11487,13,11497,13,11507,null,null,null,null,0,111]
[12,11608,13,11629,13,11666,null,null,null,null,0,111]
[21,11762,11,11770,11,11776,null,null,null,null,0,211]
[12,11870,13,11875,13,11883,null,null,null,null,0,111]
[12,11984,13,11988,13,11996,null,null,null,null,0,111]
[12,12103,13,12112,13,12118,null,null,null,null,0,111]
[21,12210,11,12219,11,12224,null,null,null,null,0,211]
[12,12323,13,12329,13,12336,null,null,null,null,0,111]
[12,12459,13,12465,13,12472,null,null,null,null,0,111]
[21,12564,11,12574,11,12578,null,null,null,null,0,211]
[12,12682,13,12688,13,12698,null,null,null,null,0,111]
[21,12796,11,12807,11,12812,null,null,null,null,0,211]
[12,12925,13,13009,13,13014,null,null,null,null,0,111]
[21,13113,11,13127,11,13134,null,null,null,null,0,211]
[12,13235,13,13240,24,13252,null,null,null,null,0,112]
[21,13347,11,13358,11,13382,null,null,null,null,0,211]
[21,13475,11,13517,11,13530,null,null,null,null,0,211]
[12,13657,13,13667,13,13676,null,null,null,null,0,111]
[21,13772,22,13777,13,13785,null,null,null,null,0,221]
[21,13883,22,13891,13,13899,null,null,null,null,0,221]
[12,14005,13,14012,24,14033,null,null,null,null,0,112]
[21,14129,11,14146,11,14163,null,null,null,null,0,211]
[21,14256,11,14275,22,14292,null,null,null,null,0,212]
[21,14388,11,14398,11,14419,null,null,null,null,1,211]

{"sheet":"!MC29A1I.sha","index":15,"n_rows":79,"n_cols":48,"rows_kept":79,"cut":false,"hidden":false,"merged":[[1,1,1,2],[5,13,5,14],[18,13,18,14],[19,13,19,14],[4,19,4,22],[5,19,5,20],[4,39,4,42],[5,39,5,40],[4,44,4,47],[5,44,5,45],[4,24,4,27],[5,24,5,25],[4,29,4,32],[5,29,5,30],[4,34,4,37],[5,34,5,35]]}
["Report for:!MC29A1I.sha"]
["Date:","<date>"]
["Hen:","<hen>",null,null,null,"Correct Sequence",{"$f":"Start!J2","v":211},null,null,null,null,null,null,null,null,"Total Sequences in Data",{"$f":"4994-COUNTBLANK(L7:L5000)","v":73},null,null,null,null,"Total Sequences in Block Data",{"$f":"COUNTA(L7:L18)","v":12},null,null,null,"Total Sequences in Block Data",{"$f":"COUNTA(L19:L30)","v":12},null,null,null,"Total Sequences in Block Data",{"$f":"COUNTA(L31:L43)","v":13},null,null,null,"Total Sequences in Block Data",{"$f":"COUNTA(L44:L55)","v":12},null,null,null,"Total Sequences in Block Data",{"$f":"COUNTA(L56:L67)","v":12},null,null,null,"Total Sequences in Block Data",{"$f":"COUNTA(L68:L79)","v":12}]
[null,null,null,null,null,null,null,null,null,null,null,null,null,null,null,"Total Sequences in Summary",{"$f":"SUM(O7:O14)","v":73},null,null,null,null,"Total Sequences in Block Summary",{"$f":"SUM(U7:U14)","v":12},null,null,null,"Total Sequences in Block Summary",{"$f":"SUM(Z7:Z14)","v":12},null,null,null,"Total Sequences in Block Summary",{"$f":"SUM(AE7:AE14)","v":13},null,null,null,"Total Sequences in Block Summary",{"$f":"SUM(AJ7:AJ14)","v":12},null,null,null,"Total Sequences in Block Summary",{"$f":"SUM(AO7:AO14)","v":12},null,null,null,"Total Sequences in Block Summary",{"$f":"SUM(AT7:AT14)","v":12}]
[null,null,null,null,null,null,null,null,null,null,null,null,null,null,null,null,null,null,null,"Block 1",null,null,null,null,"Block 2",null,null,null,null,"Block 3",null,null,null,null,"Block 4",null,null,null,null,"Block 5",null,null,null,null,"Block 6"]
["Sequence\nComponent\n1","Time\n1","Sequence\nComponent\n2","Time\n2","Sequence\nComponent\n3","Time\n3","Sequence\nComponent\n4","Time\n4","Sequence\nComponent\n5","Time\n5","Correct?\n0=No 1=Yes","Sequence",null,"Frequency",null,"Relative Frequency","Variability",null,null,"Frequency",null,"Relative Frequency","Variability",null,"Frequency",null,"Relative Frequency","Variability",null,"Frequency",null,"Relative Frequency","Variability",null,"Frequency",null,"Relative Frequency","Variability",null,"Frequency",null,"Relative Frequency","Variability",null,"Frequency",null,"Relative Frequency","Variability"]
[12,42,13,48,13,56,null,null,null,null,0,111,null,111,{"$f":"COUNTIF($L$7:$L$500,N7)","v":22},{"$f":"O7/$Q$4","v":0.30136986301369861},{"$f":"IF(P7=0,0,(P7*((LOG(P7))/LOG(2))))","v":-0.52148828336081976},null,null,{"$f":"N7","v":111},{"$f":"COUNTIF(L7:L18,T7)","v":5},{"$f":"U7/(W4-U11)","v":0.7142857142857143},{"$f":"IF(V7=0,0,(V7*((LOG(V7))/LOG(2))))","v":-0.34673344797874411},null,{"$f":"N7","v":111},{"$f":"COUNTIF(L19:L30,Y7)","v":3},{"$f":"Z7/(AB4-Z11)","v":0.42857142857142855},{"$f":"IF(AA7=0,0,(AA7*((LOG(AA7))/LOG(2))))","v":-0.52388246628704915},null,{"$f":"N7","v":111},{"$f":"COUNTIF(L31:L43,AD7)","v":4},{"$f":"AE7/(AG4-AE11)","v":1},{"$f":"IF(AF7=0,0,(AF7*((LOG(AF7))/LOG(2))))","v":0},null,{"$f":"N7","v":111},{"$f":"COUNTIF(L44:L55,AI7)","v":4},{"$f":"AJ7/(AL4-AJ11)","v":0.5714285714285714},{"$f":"IF(AK7=0,0,(AK7*((LOG(AK7))/LOG(2))))","v":-0.46134566974720237},null,{"$f":"N7","v":111},{"$f":"COUNTIF(L56:L67,AN7)","v":3},{"$f":"AO7/(AQ4-AO11)","v":0.75},{"$f":"IF(AP7=0,0,(AP7*((LOG(AP7))/LOG(2))))","v":-0.31127812445913283},null,{"$f":"N7","v":111},{"$f":"COUNTIF(L68:L79,AS7)","v":3},{"$f":"AT7/(AV4-AT11)","v":0.75},{"$f":"IF(AU7=0,0,(AU7*((LOG(AU7))/LOG(2))))","v":-0.31127812445913283}]
[12,156,13,162,13,168,null,null,null,null,0,111,null,112,2,2.7397260273972601E-2,-0.14218697421589085,null,null,112,{"$f":"COUNTIF(L7:L18,T8)","v":1},{"$f":"U8/(W4-U11)","v":0.14285714285714285},{"$f":"IF(V8=0,0,(V8*((LOG(V8))/LOG(2))))","v":-0.40105070315108626},null,112,{"$f":"COUNTIF(L19:L30,Y8)","v":1},{"$f":"Z8/(AB4-Z11)","v":0.14285714285714285},{"$f":"IF(AA8=0,0,(AA8*((LOG(AA8))/LOG(2))))","v":-0.40105070315108626},null,112,{"$f":"COUNTIF(L31:L43,AD8)","v":0},{"$f":"AE8/(AG4-AE11)","v":0},{"$f":"IF(AF8=0,0,(AF8*((LOG(AF8))/LOG(2))))","v":0},null,112,{"$f":"COUNTIF(L44:L55,AI8)","v":0},{"$f":"AJ8/(AL4-AJ11)","v":0},{"$f":"IF(AK8=0,0,(AK8*((LOG(AK8))/LOG(2))))","v":0},null,112,{"$f":"COUNTIF(L56:L67,AN8)","v":0},{"$f":"AO8/(AQ4-AO11)","v":0},{"$f":"IF(AP8=0,0,(AP8*((LOG(AP8))/LOG(2))))","v":0},null,112,{"$f":"COUNTIF(L68:L79,AS8)","v":0},{"$f":"AT8/(AV4-AT11)","v":0},{"$f":"IF(AU8=0,0,(AU8*((LOG(AU8))/LOG(2))))","v":0}]
[21,265,11,275,11,281,null,null,null,null,0,211,null,121,0,0,0,null,null,121,{"$f":"COUNTIF(L7:L18,T9)","v":0},{"$f":"U9/(W4-U11)","v":0},{"$f":"IF(V9=0,0,(V9*((LOG(V9))/LOG(2))))","v":0},null,121,{"$f":"COUNTIF(L19:L30,Y9)","v":0},{"$f":"Z9/(AB4-Z11)","v":0},{"$f":"IF(AA9=0,0,(AA9*((LOG(AA9))/LOG(2))))","v":0},null,121,{"$f":"COUNTIF(L31:L43,AD9)","v":0},{"$f":"AE9/(AG4-AE11)","v":0},{"$f":"IF(AF9=0,0,(AF9*((LOG(AF9))/LOG(2))))","v":0},null,121,{"$f":"COUNTIF(L44:L55,AI9)","v":0},{"$f":"AJ9/(AL4-AJ11)","v":0},{"$f":"IF(AK9=0,0,(AK9*((LOG(AK9))/LOG(2))))","v":0},null,121,{"$f":"COUNTIF(L56:L67,AN9)","v":0},{"$f":"AO9/(AQ4-AO11)","v":0},{"$f":"IF(AP9=0,0,(AP9*((LOG(AP9))/LOG(2))))","v":0},null,121,{"$f":"COUNTIF(L68:L79,AS9)","v":0},{"$f":"AT9/(AV4-AT11)","v":0},{"$f":"IF(AU9=0,0,(AU9*((LOG(AU9))/LOG(2))))","v":0}]
[12,418,13,427,24,441,null,null,null,null,0,112,null,122,0,0,0,null,null,122,{"$f":"COUNTIF(L7:L18,T10)","v":0},{"$f":"U10/(W4-U11)","v":0},{"$f":"IF(V10=0,0,(V10*((LOG(V10))/LOG(2))))","v":0},null,122,{"$f":"COUNTIF(L19:L30,Y10)","v":0},{"$f":"Z10/(AB4-Z11)","v":0},{"$f":"IF(AA10=0,0,(AA10*((LOG(AA10))/LOG(2))))","v":0},null,122,{"$f":"COUNTIF(L31:L43,AD10)","v":0},{"$f":"AE10/(AG4-AE11)","v":0},{"$f":"IF(AF10=0,0,(AF10*((LOG(AF10))/LOG(2))))","v":0},null,122,{"$f":"COUNTIF(L44:L55,AI10)","v":0},{"$f":"AJ10/(AL4-AJ11)","v":0},{"$f":"IF(AK10=0,0,(AK10*((LOG(AK10))/LOG(2))))","v":0},null,122,{"$f":"COUNTIF(L56:L67,AN10)","v":0},{"$f":"AO10/(AQ4-AO11)","v":0},{"$f":"IF(AP10=0,0,(AP10*((LOG(AP10))/LOG(2))))","v":0},null,122,{"$f":"COUNTIF(L68:L79,AS10)","v":0},{"$f":"AT10/(AV4-AT11)","v":0},{"$f":"IF(AU10=0,0,(AU10*((LOG(AU10))/LOG(2))))","v":0}]
[12,545,13,548,13,555,null,null,null,null,0,111,null,211,40,0.54794520547945202,-0.47555970629734517,null,null,211,{"$f":"COUNTIF(L7:L18,T11)","v":5},null,null,null,211,{"$f":"COUNTIF(L19:L30,Y11)","v":5},null,null,null,211,{"$f":"COUNTIF(L31:L43,AD11)","v":9},null,null,null,211,{"$f":"COUNTIF(L44:L55,AI11)","v":5},null,null,null,211,{"$f":"COUNTIF(L56:L67,AN11)","v":8},null,null,null,211,{"$f":"COUNTIF(L68:L79,AS11)","v":8}]
[21,655,22,667,13,687,null,null,null,null,0,221,null,212,0,0,0,null,null,212,{"$f":"COUNTIF(L7:L18,T12)","v":0},{"$f":"U12/(W4-U11)","v":0},{"$f":"IF(V12=0,0,(V12*((LOG(V12))/LOG(2))))","v":0},null,212,{"$f":"COUNTIF(L19:L30,Y12)","v":0},{"$f":"Z12/(AB4-Z11)","v":0},{"$f":"IF(AA12=0,0,(AA12*((LOG(AA12))/LOG(2))))","v":0},null,212,{"$f":"COUNTIF(L31:L43,AD12)","v":0},{"$f":"AE12/(AG4-AE11)","v":0},{"$f":"IF(AF12=0,0,(AF12*((LOG(AF12))/LOG(2))))","v":0},null,212,{"$f":"COUNTIF(L44:L55,AI12)","v":0},{"$f":"AJ12/(AL4-AJ11)","v":0},{"$f":"IF(AK12=0,0,(AK12*((LOG(AK12))/LOG(2))))","v":0},null,212,{"$f":"COUNTIF(L56:L67,AN12)","v":0},{"$f":"AO12/(AQ4-AO11)","v":0},{"$f":"IF(AP12=0,0,(AP12*((LOG(AP12))/LOG(2))))","v":0},null,212,{"$f":"COUNTIF(L68:L79,AS12)","v":0},{"$f":"AT12/(AV4-AT11)","v":0},{"$f":"IF(AU12=0,0,(AU12*((LOG(AU12))/LOG(2))))","v":0}]
[12,801,13,805,13,809,null,null,null,null,0,111,null,221,9,0.12328767123287671,-0.37231638379368964,null,null,221,{"$f":"COUNTIF(L7:L18,T13)","v":1},{"$f":"U13/(W4-U11)","v":0.14285714285714285},{"$f":"IF(V13=0,0,(V13*((LOG(V13))/LOG(2))))","v":-0.40105070315108626},null,221,{"$f":"COUNTIF(L19:L30,Y13)","v":3},{"$f":"Z13/(AB4-Z11)","v":0.42857142857142855},{"$f":"IF(AA13=0,0,(AA13*((LOG(AA13))/LOG(2))))","v":-0.52388246628704915},null,221,{"$f":"COUNTIF(L31:L43,AD13)","v":0},{"$f":"AE13/(AG4-AE11)","v":0},{"$f":"IF(AF13=0,0,(AF13*((LOG(AF13))/LOG(2))))","v":0},null,221,{"$f":"COUNTIF(L44:L55,AI13)","v":3},{"$f":"AJ13/(AL4-AJ11)","v":0.42857142857142855},{"$f":"IF(AK13=0,0,(AK13*((LOG(AK13))/LOG(2))))","v":-0.52388246628704915},null,221,{"$f":"COUNTIF(L56:L67,AN13)","v":1},{"$f":"AO13/(AQ4-AO11)","v":0.25},{"$f":"IF(AP13=0,0,(AP13*((LOG(AP13))/LOG(2))))","v":-0.5},null,221,{"$f":"COUNTIF(L68:L79,AS13)","v":1},{"$f":"AT13/(AV4-AT11)","v":0.25},{"$f":"IF(AU13=0,0,(AU13*((LOG(AU13))/LOG(2))))","v":-0.5}]
[21,905,11,916,11,920,null,null,null,null,0,211,null,222,0,0,0,null,null,222,{"$f":"COUNTIF(L7:L18,T14)","v":0},{"$f":"U14/(W4-U11)","v":0},{"$f":"IF(V14=0,0,(V14*((LOG(V14))/LOG(2))))","v":0},null,222,{"$f":"COUNTIF(L19:L30,Y14)","v":0},{"$f":"Z14/(AB4-Z11)","v":0},{"$f":"IF(AA14=0,0,(AA14*((LOG(AA14))/LOG(2))))","v":0},null,222,{"$f":"COUNTIF(L31:L43,AD14)","v":0},{"$f":"AE14/(AG4-AE11)","v":0},{"$f":"IF(AF14=0,0,(AF14*((LOG(AF14))/LOG(2))))","v":0},null,222,{"$f":"COUNTIF(L44:L55,AI14)","v":0},{"$f":"AJ14/(AL4-AJ11)","v":0},{"$f":"IF(AK14=0,0,(AK14*((LOG(AK14))/LOG(2))))","v":0},null,222,{"$f":"COUNTIF(L56:L67,AN14)","v":0},{"$f":"AO14/(AQ4-AO11)","v":0},{"$f":"IF(AP14=0,0,(AP14*((LOG(AP14))/LOG(2))))","v":0},null,222,{"$f":"COUNTIF(L68:L79,AS14)","v":0},{"$f":"AT14/(AV4-AT11)","v":0},{"$f":"IF(AU14=0,0,(AU14*((LOG(AU14))/LOG(2))))","v":0}]
[21,1008,11,1025,11,1032,null,null,null,null,0,211,null,null,null,{"$f":"SUM(P7:P14)","v":1},{"$f":"-SUM(Q7:Q14)","v":1.5115513476677453},null,null,null,null,{"$f":"SUM(V7:V14)","v":1},{"$f":"-SUM(W7:W14)","v":1.1488348542809166},null,null,null,{"$f":"SUM(AA7:AA14)","v":1},{"$f":"-SUM(AB7:AB14)","v":1.4488156357251847},null,null,null,{"$f":"SUM(AF7:AF14)","v":1},{"$f":"-SUM(AG7:AG14)","v":0},null,null,null,{"$f":"SUM(AK7:AK14)","v":1},{"$f":"-SUM(AL7:AL14)","v":0.98522813603425152},null,null,null,{"$f":"SUM(AP7:AP14)","v":1},{"$f":"-SUM(AQ7:AQ14)","v":0.81127812445913283},null,null,null,{"$f":"SUM(AU7:AU14)","v":1},{"$f":"-SUM(AV7:AV14)","v":0.81127812445913283}]
[21,1142,11,1149,11,1162,null,null,null,null,0,211,null,null,null,"U=",{"$f":"Q15/(LOG(Q4)/LOG(2))","v":0.24419938453655374},null,null,null,null,"U1=",{"$f":"W15/(LOG(W4)/LOG(2))","v":0.32045937831980537},null,null,null,"U2=",{"$f":"AB15/(LOG(AB4)/LOG(2))","v":0.40413690113459727},null,null,null,"U3=",{"$f":"AG15/(LOG(AG4)/LOG(2))","v":0},null,null,null,"U4=",{"$f":"AL15/(LOG(AL4)/LOG(2))","v":0.27482243840376613},null,null,null,"U5=",{"$f":"AQ15/(LOG(AQ4)/LOG(2))","v":0.22630030977895443},null,null,null,"U6=",{"$f":"AV15/(LOG(AV4)/LOG(2))","v":0.22630030977895443}]
[12,1297,13,1309,13,1319,null,null,null,null,0,111]
[21,1418,11,1431,11,1435,null,null,null,null,0,211]
[12,1534,13,1550,13,1562,null,null,null,null,0,111,null,"Total Target Seq"]
[21,1664,11,1700,11,1704,null,null,null,null,0,211,null,{"$f":"COUNTIF(L7:L79,G3)","v":40},null,12,12,13,12,12,12]
[21,1791,22,1796,13,1809,null,null,null,null,0,221,null,null,null,"% of reinforcement given in 6 equal intervals based on number of trials "]
[12,1928,13,1933,13,1939,null,null,null,null,0,111,null,null,null,"%_1","%_2","%_3","%_4","%_5","%_6"]
[21,2038,11,2047,11,2057,null,null,null,null,0,211,null,null,"target sequence",{"$f":"$G$3","v":211},211,211,211,211,211]
[21,2145,22,2150,13,2172,null,null,null,null,0,221,null,null,"total reinforcement",{"$f":"U11","v":5},{"$f":"Z11","v":5},{"$f":"AE11","v":9},{"$f":"AJ11","v":5},{"$f":"AO11","v":8},{"$f":"AT11","v":8}]
[21,2270,11,2281,11,2287,null,null,null,null,0,211,null,null,"% target"]
[12,2384,13,2396,13,2405,null,null,null,null,0,111,null,null,"CCRF"]
[21,2497,22,2510,13,2518,null,null,null,null,0,221,null,null,"% CCRf"]
[21,2626,11,2642,11,2647,null,null,null,null,0,211,null,null,"average response rate",{"$f":"F18/P20","v":119.58333333333333},{"$f":"(F30-F18)/Q20","v":120.66666666666667},{"$f":"(F43-F30)/R20","v":133.61538461538461},{"$f":"(F55-F43)/S20","v":119.08333333333333},{"$f":"(F67-F55)/T20","v":121.66666666666667},{"$f":"(F79-F67)/U20","v":124.66666666666667}]
[21,2734,11,2748,11,2756,null,null,null,null,0,211]
[12,2859,13,2866,24,2883,null,null,null,null,0,112]
[21,2976,11,2994,11,3016,null,null,null,null,0,211]
[12,3118,13,3124,13,3133,null,null,null,null,0,111]
[21,3235,11,3249,11,3272,null,null,null,null,0,211]
[21,3362,11,3401,11,3414,null,null,null,null,0,211]
[21,3505,11,3542,11,3551,null,null,null,null,0,211]
[21,3651,11,3697,11,3709,null,null,null,null,0,211]
[12,3886,13,3891,13,3897,null,null,null,null,0,111]
[21,3998,11,4006,11,4012,null,null,null,null,0,211]
[12,4116,13,4138,13,4147,null,null,null,null,0,111]
[21,4240,11,4253,11,4258,null,null,null,null,0,211]
[21,4347,11,4380,11,4389,null,null,null,null,0,211]
[12,4490,13,4506,13,4514,null,null,null,null,0,111]
[21,4607,11,4616,11,4620,null,null,null,null,0,211]
[12,4740,13,4744,13,4760,null,null,null,null,0,111]
[21,4856,11,4869,11,4873,null,null,null,null,0,211]
[21,4964,22,4968,13,4977,null,null,null,null,0,221]
[12,5080,13,5087,13,5094,null,null,null,null,0,111]
[12,5195,13,5201,13,5215,null,null,null,null,0,111]
[21,5312,11,5329,11,5334,null,null,null,null,0,211]
[21,5427,22,5432,13,5451,null,null,null,null,0,221]
[21,5548,22,5551,13,5561,null,null,null,null,0,221]
[12,5683,13,5690,13,5695,null,null,null,null,0,111]
[21,5787,11,5797,11,5808,null,null,null,null,0,211]
[21,5895,11,5905,11,5917,null,null,null,null,0,211]
[21,6009,11,6021,11,6049,null,null,null,null,0,211]
[21,6136,11,6151,11,6170,null,null,null,null,0,211]
[21,6258,22,6261,13,6271,null,null,null,null,0,221]
[12,6375,13,6395,13,6404,null,null,null,null,0,111]
[21,6503,11,6512,11,6517,null,null,null,null,0,211]
[21,6607,11,6639,11,6665,null,null,null,null,0,211]
[21,6752,11,6765,11,6790,null,null,null,null,0,211]
[21,6880,11,6890,11,6896,null,null,null,null,0,211]
[12,7012,13,7016,13,7024,null,null,null,null,0,111]
[12,7126,13,7136,13,7154,null,null,null,null,0,111]
[21,7247,11,7261,11,7272,null,null,null,null,0,211]
[21,7363,11,7390,11,7404,null,null,null,null,0,211]
[21,7494,11,7504,11,7509,null,null,null,null,0,211]
[12,7643,13,7646,13,7656,null,null,null,null,0,111]
[21,7749,11,7774,11,7779,null,null,null,null,0,211]
[21,7869,11,7879,11,7890,null,null,null,null,0,211]
[21,7980,22,7987,13,7997,null,null,null,null,0,221]
[12,8104,13,8109,13,8117,null,null,null,null,0,111]
[21,8214,11,8223,11,8235,null,null,null,null,0,211]
[21,8325,11,8333,11,8340,null,null,null,null,0,211]
[21,8429,11,8440,11,8451,null,null,null,null,0,211]
[21,8541,11,8556,11,8581,null,null,null,null,0,211]
[12,8769,13,8774,13,8779,null,null,null,null,0,111]
[21,8871,11,8879,11,8886,null,null,null,null,0,211]
[21,8989,11,9000,11,9005,null,null,null,null,1,211]

{"sheet":"!MC3094I.sha","index":16,"n_rows":192,"n_cols":48,"rows_kept":192,"cut":false,"hidden":false,"merged":[[1,1,1,2],[5,13,5,14],[18,13,18,14],[19,13,19,14],[4,19,4,22],[5,19,5,20],[4,39,4,42],[5,39,5,40],[4,44,4,47],[5,44,5,45],[4,24,4,27],[5,24,5,25],[4,29,4,32],[5,29,5,30],[4,34,4,37],[5,34,5,35]]}
["Report for:!MC3094I.sha"]
["Date:","<date>"]
["Hen:","<hen>",null,null,null,"Correct Sequence",{"$f":"Start!J2","v":211},null,null,null,null,null,null,null,null,"Total Sequences in Data",{"$f":"4994-COUNTBLANK(L7:L5000)","v":186},null,null,null,null,"Total Sequences in Block Data",{"$f":"COUNTA(L7:L37)","v":31},null,null,null,"Total Sequences in Block Data",{"$f":"COUNTA(L38:L68)","v":31},null,null,null,"Total Sequences in Block Data",{"$f":"COUNTA(L69:L99)","v":31},null,null,null,"Total Sequences in Block Data",{"$f":"COUNTA(L100:L130)","v":31},null,null,null,"Total Sequences in Block Data",{"$f":"COUNTA(L131:L161)","v":31},null,null,null,"Total Sequences in Block Data",{"$f":"COUNTA(L162:L192)","v":31}]
[null,null,null,null,null,null,null,null,null,null,null,null,null,null,null,"Total Sequences in Summary",{"$f":"SUM(O7:O14)","v":186},null,null,null,null,"Total Sequences in Block Summary",{"$f":"SUM(U7:U14)","v":31},null,null,null,"Total Sequences in Block Summary",{"$f":"SUM(Z7:Z14)","v":31},null,null,null,"Total Sequences in Block Summary",{"$f":"SUM(AE7:AE14)","v":31},null,null,null,"Total Sequences in Block Summary",{"$f":"SUM(AJ7:AJ14)","v":31},null,null,null,"Total Sequences in Block Summary",{"$f":"SUM(AO7:AO14)","v":31},null,null,null,"Total Sequences in Block Summary",{"$f":"SUM(AT7:AT14)","v":31}]
[null,null,null,null,null,null,null,null,null,null,null,null,null,null,null,null,null,null,null,"Block 1",null,null,null,null,"Block 2",null,null,null,null,"Block 3",null,null,null,null,"Block 4",null,null,null,null,"Block 5",null,null,null,null,"Block 6"]
["Sequence\nComponent\n1","Time\n1","Sequence\nComponent\n2","Time\n2","Sequence\nComponent\n3","Time\n3","Sequence\nComponent\n4","Time\n4","Sequence\nComponent\n5","Time\n5","Correct?\n0=No 1=Yes","Sequence",null,"Frequency",null,"Relative Frequency","Variability",null,null,"Frequency",null,"Relative Frequency","Variability",null,"Frequency",null,"Relative Frequency","Variability",null,"Frequency",null,"Relative Frequency","Variability",null,"Frequency",null,"Relative Frequency","Variability",null,"Frequency",null,"Relative Frequency","Variability",null,"Frequency",null,"Relative Frequency","Variability"]
[12,14,13,19,13,25,null,null,null,null,0,111,null,111,{"$f":"COUNTIF($L$7:$L$500,N7)","v":76},{"$f":"O7/$Q$4","v":0.40860215053763443},{"$f":"IF(P7=0,0,(P7*((LOG(P7))/LOG(2))))","v":-0.52759988506719291},null,null,{"$f":"N7","v":111},{"$f":"COUNTIF(L7:L37,T7)","v":13},{"$f":"U7/(W4-U11)","v":0.5},{"$f":"IF(V7=0,0,(V7*((LOG(V7))/LOG(2))))","v":-0.5},null,{"$f":"N7","v":111},{"$f":"COUNTIF(L38:L68,Y7)","v":16},{"$f":"Z7/(AB4-Z11)","v":0.64},{"$f":"IF(AA7=0,0,(AA7*((LOG(AA7))/LOG(2))))","v":-0.41206796145582375},null,{"$f":"N7","v":111},{"$f":"COUNTIF(L69:L99,AD7)","v":18},{"$f":"AE7/(AG4-AE11)","v":0.6428571428571429},{"$f":"IF(AF7=0,0,(AF7*((LOG(AF7))/LOG(2))))","v":-0.40977637753840174},null,{"$f":"N7","v":111},{"$f":"COUNTIF(L100:L130,AI7)","v":12},{"$f":"AJ7/(AL4-AJ11)","v":0.5},{"$f":"IF(AK7=0,0,(AK7*((LOG(AK7))/LOG(2))))","v":-0.5},null,{"$f":"N7","v":111},{"$f":"COUNTIF(L131:L161,AN7)","v":10},{"$f":"AO7/(AQ4-AO11)","v":0.5},{"$f":"IF(AP7=0,0,(AP7*((LOG(AP7))/LOG(2))))","v":-0.5},null,{"$f":"N7","v":111},{"$f":"COUNTIF(L162:L192,AS7)","v":7},{"$f":"AT7/(AV4-AT11)","v":0.28000000000000003},{"$f":"IF(AU7=0,0,(AU7*((LOG(AU7))/LOG(2))))","v":-0.51422035496079388}]
[12,123,13,131,13,137,null,null,null,null,0,111,null,112,26,0.13978494623655913,-0.39681019579107751,null,null,112,{"$f":"COUNTIF(L7:L37,T8)","v":4},{"$f":"U8/(W4-U11)","v":0.15384615384615385},{"$f":"IF(V8=0,0,(V8*((LOG(V8))/LOG(2))))","v":-0.4154522643293988},null,112,{"$f":"COUNTIF(L38:L68,Y8)","v":3},{"$f":"Z8/(AB4-Z11)","v":0.12},{"$f":"IF(AA8=0,0,(AA8*((LOG(AA8))/LOG(2))))","v":-0.36706724268642821},null,112,{"$f":"COUNTIF(L69:L99,AD8)","v":2},{"$f":"AE8/(AG4-AE11)","v":7.1428571428571425E-2},{"$f":"IF(AF8=0,0,(AF8*((LOG(AF8))/LOG(2))))","v":-0.27195392300411453},null,112,{"$f":"COUNTIF(L100:L130,AI8)","v":8},{"$f":"AJ8/(AL4-AJ11)","v":0.33333333333333331},{"$f":"IF(AK8=0,0,(AK8*((LOG(AK8))/LOG(2))))","v":-0.52832083357371862},null,112,{"$f":"COUNTIF(L131:L161,AN8)","v":3},{"$f":"AO8/(AQ4-AO11)","v":0.15},{"$f":"IF(AP8=0,0,(AP8*((LOG(AP8))/LOG(2))))","v":-0.41054483912493089},null,112,{"$f":"COUNTIF(L162:L192,AS8)","v":6},{"$f":"AT8/(AV4-AT11)","v":0.24},{"$f":"IF(AU8=0,0,(AU8*((LOG(AU8))/LOG(2))))","v":-0.49413448537285637}]
[12,241,13,246,13,252,null,null,null,null,0,111,null,121,21,0.11290322580645161,-0.3552885438436274,null,null,121,{"$f":"COUNTIF(L7:L37,T9)","v":4},{"$f":"U9/(W4-U11)","v":0.15384615384615385},{"$f":"IF(V9=0,0,(V9*((LOG(V9))/LOG(2))))","v":-0.4154522643293988},null,121,{"$f":"COUNTIF(L38:L68,Y9)","v":2},{"$f":"Z9/(AB4-Z11)","v":0.08},{"$f":"IF(AA9=0,0,(AA9*((LOG(AA9))/LOG(2))))","v":-0.29150849518197797},null,121,{"$f":"COUNTIF(L69:L99,AD9)","v":6},{"$f":"AE9/(AG4-AE11)","v":0.21428571428571427},{"$f":"IF(AF9=0,0,(AF9*((LOG(AF9))/LOG(2))))","v":-0.47622694742923877},null,121,{"$f":"COUNTIF(L100:L130,AI9)","v":0},{"$f":"AJ9/(AL4-AJ11)","v":0},{"$f":"IF(AK9=0,0,(AK9*((LOG(AK9))/LOG(2))))","v":0},null,121,{"$f":"COUNTIF(L131:L161,AN9)","v":3},{"$f":"AO9/(AQ4-AO11)","v":0.15},{"$f":"IF(AP9=0,0,(AP9*((LOG(AP9))/LOG(2))))","v":-0.41054483912493089},null,121,{"$f":"COUNTIF(L162:L192,AS9)","v":6},{"$f":"AT9/(AV4-AT11)","v":0.24},{"$f":"IF(AU9=0,0,(AU9*((LOG(AU9))/LOG(2))))","v":-0.49413448537285637}]
[12,344,13,359,13,365,null,null,null,null,0,111,null,122,8,4.3010752688172046E-2,-0.19523263703690458,null,null,122,{"$f":"COUNTIF(L7:L37,T10)","v":2},{"$f":"U10/(W4-U11)","v":7.6923076923076927E-2},{"$f":"IF(V10=0,0,(V10*((LOG(V10))/LOG(2))))","v":-0.28464920908777636},null,122,{"$f":"COUNTIF(L38:L68,Y10)","v":2},{"$f":"Z10/(AB4-Z11)","v":0.08},{"$f":"IF(AA10=0,0,(AA10*((LOG(AA10))/LOG(2))))","v":-0.29150849518197797},null,122,{"$f":"COUNTIF(L69:L99,AD10)","v":0},{"$f":"AE10/(AG4-AE11)","v":0},{"$f":"IF(AF10=0,0,(AF10*((LOG(AF10))/LOG(2))))","v":0},null,122,{"$f":"COUNTIF(L100:L130,AI10)","v":1},{"$f":"AJ10/(AL4-AJ11)","v":4.1666666666666664E-2},{"$f":"IF(AK10=0,0,(AK10*((LOG(AK10))/LOG(2))))","v":-0.19104010419671485},null,122,{"$f":"COUNTIF(L131:L161,AN10)","v":1},{"$f":"AO10/(AQ4-AO11)","v":0.05},{"$f":"IF(AP10=0,0,(AP10*((LOG(AP10))/LOG(2))))","v":-0.21609640474436814},null,122,{"$f":"COUNTIF(L162:L192,AS10)","v":2},{"$f":"AT10/(AV4-AT11)","v":0.08},{"$f":"IF(AU10=0,0,(AU10*((LOG(AU10))/LOG(2))))","v":-0.29150849518197797}]
[12,469,24,474,24,481,null,null,null,null,0,122,null,211,38,0.20430107526881722,-0.4681010178024137,null,null,211,{"$f":"COUNTIF(L7:L37,T11)","v":5},null,null,null,211,{"$f":"COUNTIF(L38:L68,Y11)","v":6},null,null,null,211,{"$f":"COUNTIF(L69:L99,AD11)","v":3},null,null,null,211,{"$f":"COUNTIF(L100:L130,AI11)","v":7},null,null,null,211,{"$f":"COUNTIF(L131:L161,AN11)","v":11},null,null,null,211,{"$f":"COUNTIF(L162:L192,AS11)","v":6}]
[12,588,13,594,13,610,null,null,null,null,0,111,null,212,6,3.2258064516129031E-2,-0.15981278420602821,null,null,212,{"$f":"COUNTIF(L7:L37,T12)","v":2},{"$f":"U12/(W4-U11)","v":7.6923076923076927E-2},{"$f":"IF(V12=0,0,(V12*((LOG(V12))/LOG(2))))","v":-0.28464920908777636},null,212,{"$f":"COUNTIF(L38:L68,Y12)","v":1},{"$f":"Z12/(AB4-Z11)","v":0.04},{"$f":"IF(AA12=0,0,(AA12*((LOG(AA12))/LOG(2))))","v":-0.18575424759098899},null,212,{"$f":"COUNTIF(L69:L99,AD12)","v":1},{"$f":"AE12/(AG4-AE11)","v":3.5714285714285712E-2},{"$f":"IF(AF12=0,0,(AF12*((LOG(AF12))/LOG(2))))","v":-0.17169124721634299},null,212,{"$f":"COUNTIF(L100:L130,AI12)","v":0},{"$f":"AJ12/(AL4-AJ11)","v":0},{"$f":"IF(AK12=0,0,(AK12*((LOG(AK12))/LOG(2))))","v":0},null,212,{"$f":"COUNTIF(L131:L161,AN12)","v":1},{"$f":"AO12/(AQ4-AO11)","v":0.05},{"$f":"IF(AP12=0,0,(AP12*((LOG(AP12))/LOG(2))))","v":-0.21609640474436814},null,212,{"$f":"COUNTIF(L162:L192,AS12)","v":1},{"$f":"AT12/(AV4-AT11)","v":0.04},{"$f":"IF(AU12=0,0,(AU12*((LOG(AU12))/LOG(2))))","v":-0.18575424759098899}]
[21,702,11,712,22,717,null,null,null,null,0,212,null,221,8,4.3010752688172046E-2,-0.19523263703690458,null,null,221,{"$f":"COUNTIF(L7:L37,T13)","v":1},{"$f":"U13/(W4-U11)","v":3.8461538461538464E-2},{"$f":"IF(V13=0,0,(V13*((LOG(V13))/LOG(2))))","v":-0.18078614300542661},null,221,{"$f":"COUNTIF(L38:L68,Y13)","v":0},{"$f":"Z13/(AB4-Z11)","v":0},{"$f":"IF(AA13=0,0,(AA13*((LOG(AA13))/LOG(2))))","v":0},null,221,{"$f":"COUNTIF(L69:L99,AD13)","v":0},{"$f":"AE13/(AG4-AE11)","v":0},{"$f":"IF(AF13=0,0,(AF13*((LOG(AF13))/LOG(2))))","v":0},null,221,{"$f":"COUNTIF(L100:L130,AI13)","v":3},{"$f":"AJ13/(AL4-AJ11)","v":0.125},{"$f":"IF(AK13=0,0,(AK13*((LOG(AK13))/LOG(2))))","v":-0.375},null,221,{"$f":"COUNTIF(L131:L161,AN13)","v":2},{"$f":"AO13/(AQ4-AO11)","v":0.1},{"$f":"IF(AP13=0,0,(AP13*((LOG(AP13))/LOG(2))))","v":-0.33219280948873625},null,221,{"$f":"COUNTIF(L162:L192,AS13)","v":2},{"$f":"AT13/(AV4-AT11)","v":0.08},{"$f":"IF(AU13=0,0,(AU13*((LOG(AU13))/LOG(2))))","v":-0.29150849518197797}]
[12,814,13,823,24,827,null,null,null,null,0,112,null,222,3,1.6129032258064516E-2,-9.603542436107862E-2,null,null,222,{"$f":"COUNTIF(L7:L37,T14)","v":0},{"$f":"U14/(W4-U11)","v":0},{"$f":"IF(V14=0,0,(V14*((LOG(V14))/LOG(2))))","v":0},null,222,{"$f":"COUNTIF(L38:L68,Y14)","v":1},{"$f":"Z14/(AB4-Z11)","v":0.04},{"$f":"IF(AA14=0,0,(AA14*((LOG(AA14))/LOG(2))))","v":-0.18575424759098899},null,222,{"$f":"COUNTIF(L69:L99,AD14)","v":1},{"$f":"AE14/(AG4-AE11)","v":3.5714285714285712E-2},{"$f":"IF(AF14=0,0,(AF14*((LOG(AF14))/LOG(2))))","v":-0.17169124721634299},null,222,{"$f":"COUNTIF(L100:L130,AI14)","v":0},{"$f":"AJ14/(AL4-AJ11)","v":0},{"$f":"IF(AK14=0,0,(AK14*((LOG(AK14))/LOG(2))))","v":0},null,222,{"$f":"COUNTIF(L131:L161,AN14)","v":0},{"$f":"AO14/(AQ4-AO11)","v":0},{"$f":"IF(AP14=0,0,(AP14*((LOG(AP14))/LOG(2))))","v":0},null,222,{"$f":"COUNTIF(L162:L192,AS14)","v":1},{"$f":"AT14/(AV4-AT11)","v":0.04},{"$f":"IF(AU14=0,0,(AU14*((LOG(AU14))/LOG(2))))","v":-0.18575424759098899}]
[12,923,13,927,13,936,null,null,null,null,0,111,null,null,null,{"$f":"SUM(P7:P14)","v":0.99999999999999989},{"$f":"-SUM(Q7:Q14)","v":2.3941131251452279},null,null,null,null,{"$f":"SUM(V7:V14)","v":0.99999999999999989},{"$f":"-SUM(W7:W14)","v":2.0809890898397767},null,null,null,{"$f":"SUM(AA7:AA14)","v":1},{"$f":"-SUM(AB7:AB14)","v":1.7336606896881859},null,null,null,{"$f":"SUM(AF7:AF14)","v":1},{"$f":"-SUM(AG7:AG14)","v":1.501339742404441},null,null,null,{"$f":"SUM(AK7:AK14)","v":0.99999999999999989},{"$f":"-SUM(AL7:AL14)","v":1.5943609377704335},null,null,null,{"$f":"SUM(AP7:AP14)","v":1.0000000000000002},{"$f":"-SUM(AQ7:AQ14)","v":2.085475297227334},null,null,null,{"$f":"SUM(AU7:AU14)","v":1},{"$f":"-SUM(AV7:AV14)","v":2.4570148112524404}]
[21,1111,11,1122,11,1128,null,null,null,null,0,211,null,null,null,"U=",{"$f":"Q15/(LOG(Q4)/LOG(2))","v":0.31755706241627302},null,null,null,null,"U1=",{"$f":"W15/(LOG(W4)/LOG(2))","v":0.42004574697147429},null,null,null,"U2=",{"$f":"AB15/(LOG(AB4)/LOG(2))","v":0.34993782665685358},null,null,null,"U3=",{"$f":"AG15/(LOG(AG4)/LOG(2))","v":0.30304405565374154},null,null,null,"U4=",{"$f":"AL15/(LOG(AL4)/LOG(2))","v":0.32182029897114217},null,null,null,"U5=",{"$f":"AQ15/(LOG(AQ4)/LOG(2))","v":0.42095128383487057},null,null,null,"U6=",{"$f":"AV15/(LOG(AV4)/LOG(2))","v":0.49594619536999557}]
[12,1222,13,1227,13,1232,null,null,null,null,0,111]
[12,1335,13,1338,24,1343,null,null,null,null,0,112]
[12,1440,13,1449,13,1459,null,null,null,null,0,111,null,"Total Target Seq"]
[12,1551,13,1565,13,1572,null,null,null,null,0,111,null,{"$f":"COUNTIF(L7:L192,G3)","v":38},null,31,31,31,31,31,31]
[21,1676,11,1681,11,1688,null,null,null,null,0,211,null,null,null,"% of reinforcement given in 6 equal intervals based on number of trials "]
[12,1781,24,1785,13,1804,null,null,null,null,0,121,null,null,null,"%_1","%_2","%_3","%_4","%_5","%_6"]
[12,1910,24,1916,13,1921,null,null,null,null,0,121,null,null,"target sequence",{"$f":"$G$3","v":211},211,211,211,211,211]
[12,2020,13,2027,24,2031,null,null,null,null,0,112,null,null,"total reinforcement",{"$f":"U11","v":5},{"$f":"Z11","v":6},{"$f":"AE11","v":3},{"$f":"AJ11","v":7},{"$f":"AO11","v":11},{"$f":"AT11","v":6}]
[12,2131,24,2135,13,2141,null,null,null,null,0,121,null,null,"% target"]
[21,2243,11,2247,11,2255,null,null,null,null,0,211,null,null,"CCRF"]
[12,2357,24,2361,24,2366,null,null,null,null,0,122,null,null,"% CCRf"]
[12,2467,13,2473,13,2501,null,null,null,null,0,111,null,null,"average response rate",{"$f":"F37/P20","v":113.48387096774194},{"$f":"(F68-F37)/Q20","v":151.51612903225808},{"$f":"(F99-F68)/R20","v":130.96774193548387},{"$f":"(F130-F99)/S20","v":129.06451612903226},{"$f":"(F161-F130)/T20","v":128.87096774193549},{"$f":"(F192-F161)/U20","v":119.48387096774194}]
[12,2601,24,2604,13,2613,null,null,null,null,0,121]
[21,2723,11,2734,11,2743,null,null,null,null,0,211]
[21,2834,22,2837,13,2842,null,null,null,null,0,221]
[12,2944,13,2949,13,2956,null,null,null,null,0,111]
[12,3057,13,3062,24,3067,null,null,null,null,0,112]
[21,3169,11,3173,22,3186,null,null,null,null,0,212]
[12,3279,13,3291,13,3296,null,null,null,null,0,111]
[21,3397,11,3401,11,3410,null,null,null,null,0,211]
[12,3506,13,3511,13,3518,null,null,null,null,0,111]
[12,3632,13,3638,13,3645,null,null,null,null,0,111]
[12,3748,13,3754,24,3767,null,null,null,null,0,112]
[12,3859,13,3864,13,3873,null,null,null,null,0,111]
[12,3966,24,3976,24,3982,null,null,null,null,0,122]
[12,4082,13,4087,13,4097,null,null,null,null,0,111]
[12,4193,13,4202,13,4208,null,null,null,null,0,111]
[12,4301,24,4310,13,4315,null,null,null,null,0,121]
[21,4408,11,4419,11,4432,null,null,null,null,0,211]
[12,4531,13,4537,13,4543,null,null,null,null,0,111]
[12,4666,13,4670,13,4679,null,null,null,null,0,111]
[21,4781,11,4786,11,4794,null,null,null,null,0,211]
[12,4893,13,4898,13,4902,null,null,null,null,0,111]
[12,5002,13,5006,13,5013,null,null,null,null,0,111]
[21,5109,11,5118,11,5123,null,null,null,null,0,211]
[12,5224,24,5229,24,5235,null,null,null,null,0,122]
[12,5366,13,5377,13,5383,null,null,null,null,0,111]
[12,5476,13,5483,13,5488,null,null,null,null,0,111]
[12,5580,13,5590,24,5594,null,null,null,null,0,112]
[12,5698,24,5703,13,5709,null,null,null,null,0,121]
[12,6739,13,6744,13,6750,null,null,null,null,0,111]
[12,6848,13,6853,13,6861,null,null,null,null,0,111]
[21,6964,11,6969,11,6975,null,null,null,null,0,211]
[12,7068,13,7077,24,7083,null,null,null,null,0,112]
[21,7183,22,7189,24,7193,null,null,null,null,0,222]
[21,7296,11,7301,11,7313,null,null,null,null,0,211]
[12,7459,13,7464,13,7468,null,null,null,null,0,111]
[21,7569,11,7573,22,7578,null,null,null,null,0,212]
[12,7671,13,7684,13,7688,null,null,null,null,0,111]
[21,7781,11,7791,11,7811,null,null,null,null,0,211]
[12,8092,13,8097,13,8106,null,null,null,null,0,111]
[12,8205,13,8209,13,8215,null,null,null,null,0,111]
[12,8321,13,8326,13,8339,null,null,null,null,0,111]
[12,8440,13,8448,13,8460,null,null,null,null,0,111]
[21,8603,22,8611,24,8621,null,null,null,null,0,222]
[12,8723,13,8728,13,8735,null,null,null,null,0,111]
[12,8828,13,8836,24,8841,null,null,null,null,0,112]
[12,8945,24,8951,13,8963,null,null,null,null,0,121]
[12,9083,13,9099,13,9104,null,null,null,null,0,111]
[12,9202,24,9217,13,9220,null,null,null,null,0,121]
[12,9329,13,9336,13,9355,null,null,null,null,0,111]
[12,9451,24,9467,13,9485,null,null,null,null,0,121]
[12,9582,13,9590,13,9595,null,null,null,null,0,111]
[12,9697,13,9702,13,9715,null,null,null,null,0,111]
[12,9812,13,9821,13,9827,null,null,null,null,0,111]
[12,9926,13,9935,13,9944,null,null,null,null,0,111]
[12,10040,13,10049,13,10055,null,null,null,null,0,111]
[12,10156,24,10165,13,10178,null,null,null,null,0,121]
[21,10301,11,10305,22,10311,null,null,null,null,0,212]
[12,10409,13,10418,24,10422,null,null,null,null,0,112]
[12,10514,13,10519,13,10527,null,null,null,null,0,111]
[12,10640,13,10644,13,10648,null,null,null,null,0,111]
[12,10764,13,10767,13,10779,null,null,null,null,0,111]
[12,10872,13,10884,13,10895,null,null,null,null,0,111]
[21,10993,11,11002,11,11006,null,null,null,null,0,211]
[21,11302,11,11319,11,11326,null,null,null,null,0,211]
[21,11510,11,11515,11,11519,null,null,null,null,0,211]
[12,11672,13,11687,13,11692,null,null,null,null,0,111]
[12,11787,13,11793,13,11802,null,null,null,null,0,111]
[12,11901,24,11905,13,11914,null,null,null,null,0,121]
[12,12013,24,12020,13,12028,null,null,null,null,0,121]
[12,12134,13,12143,13,12152,null,null,null,null,0,111]
[12,12266,13,12270,13,12275,null,null,null,null,0,111]
[12,12380,13,12391,24,12401,null,null,null,null,0,112]
[12,12498,13,12507,24,12511,null,null,null,null,0,112]
[12,12618,13,12623,24,12631,null,null,null,null,0,112]
[12,12729,13,12736,13,12742,null,null,null,null,0,111]
[21,12835,11,12851,11,12855,null,null,null,null,0,211]
[12,12973,13,12977,24,12981,null,null,null,null,0,112]
[12,13082,13,13089,13,13096,null,null,null,null,0,111]
[12,13202,13,13207,24,13220,null,null,null,null,0,112]
[12,13318,13,13327,13,13332,null,null,null,null,0,111]
[21,13428,11,13437,11,13441,null,null,null,null,0,211]
[21,13536,11,13547,11,13552,null,null,null,null,0,211]
[12,13714,13,13737,13,13750,null,null,null,null,0,111]
[12,13859,13,13864,24,13871,null,null,null,null,0,112]
[12,13992,13,13999,13,14007,null,null,null,null,0,111]
[12,14121,13,14128,13,14138,null,null,null,null,0,111]
[21,14234,11,14240,11,14250,null,null,null,null,0,211]
[12,14422,13,14427,24,14435,null,null,null,null,0,112]
[21,14528,22,14536,13,14540,null,null,null,null,0,221]
[12,14646,13,14651,13,14659,null,null,null,null,0,111]
[21,14763,22,14767,13,14776,null,null,null,null,0,221]
[21,14868,22,14874,13,14883,null,null,null,null,0,221]
[12,14987,13,14995,24,15007,null,null,null,null,0,112]
[12,15134,13,15140,13,15146,null,null,null,null,0,111]
[21,15238,11,15248,11,15257,null,null,null,null,0,211]
[12,15372,24,15378,24,15384,null,null,null,null,0,122]
[12,15490,13,15496,13,15505,null,null,null,null,0,111]
[12,15616,13,15625,13,15628,null,null,null,null,0,111]
[12,15724,13,15731,13,15744,null,null,null,null,0,111]
[12,15844,13,15848,13,15855,null,null,null,null,0,111]
[21,15954,11,15970,11,15975,null,null,null,null,0,211]
[21,16251,11,16266,11,16276,null,null,null,null,0,211]
[21,16451,22,16459,13,16462,null,null,null,null,0,221]
[12,16558,13,16577,13,16581,null,null,null,null,0,111]
[12,16686,24,16695,24,16701,null,null,null,null,0,122]
[21,16798,11,16806,11,16813,null,null,null,null,0,211]
[12,16962,13,16967,13,16971,null,null,null,null,0,111]
[21,17078,22,17083,13,17088,null,null,null,null,0,221]
[21,17180,11,17190,11,17206,null,null,null,null,0,211]
[12,17329,24,17333,13,17340,null,null,null,null,0,121]
[12,17448,13,17453,13,17460,null,null,null,null,0,111]
[21,17567,11,17578,22,17584,null,null,null,null,0,212]
[12,17690,13,17693,24,17698,null,null,null,null,0,112]
[12,17791,13,17801,13,17817,null,null,null,null,0,111]
[21,17909,11,17921,11,17928,null,null,null,null,0,211]
[21,18051,11,18076,11,18083,null,null,null,null,0,211]
[12,18248,13,18252,13,18257,null,null,null,null,0,111]
[12,18362,13,18366,13,18373,null,null,null,null,0,111]
[21,18474,11,18480,11,18489,null,null,null,null,0,211]
[21,18583,11,18594,11,18598,null,null,null,null,0,211]
[21,18779,11,18784,11,18798,null,null,null,null,0,211]
[21,18905,11,18914,11,18919,null,null,null,null,0,211]
[12,19030,13,19034,13,19048,null,null,null,null,0,111]
[12,19140,13,19152,13,19164,null,null,null,null,0,111]
[12,19256,13,19262,13,19269,null,null,null,null,0,111]
[12,19374,13,19379,13,19385,null,null,null,null,0,111]
[12,19492,24,19498,13,19506,null,null,null,null,0,121]
[12,19604,24,19613,13,19622,null,null,null,null,0,121]
[12,19733,13,19738,24,19743,null,null,null,null,0,112]
[21,19844,11,19853,11,19865,null,null,null,null,0,211]
[21,19977,11,19985,11,19995,null,null,null,null,0,211]
[12,20141,13,20144,24,20150,null,null,null,null,0,112]
[21,20253,11,20257,11,20271,null,null,null,null,0,211]
[21,20384,22,20389,13,20393,null,null,null,null,0,221]
[21,20490,22,20499,13,20504,null,null,null,null,0,221]
[21,20607,11,20610,11,20623,null,null,null,null,0,211]
[12,20715,13,20721,24,20728,null,null,null,null,0,112]
[12,20827,13,20836,13,20848,null,null,null,null,0,111]
[21,20943,11,20951,11,20956,null,null,null,null,0,211]
[12,21048,24,21055,24,21061,null,null,null,null,0,122]
[12,21163,24,21169,13,21184,null,null,null,null,0,121]
[12,21280,13,21287,24,21301,null,null,null,null,0,112]
[21,21402,11,21406,11,21412,null,null,null,null,0,211]
[12,21522,13,21530,24,21535,null,null,null,null,0,112]
[12,21627,13,21641,13,21649,null,null,null,null,0,111]
[12,21742,13,21750,13,21772,null,null,null,null,0,111]
[12,21869,24,21878,13,21888,null,null,null,null,0,121]
[21,21992,11,21997,11,22006,null,null,null,null,0,211]
[12,22097,24,22113,13,22124,null,null,null,null,0,121]
[21,22244,11,22253,11,22258,null,null,null,null,0,211]
[12,22360,13,22366,13,22371,null,null,null,null,0,111]
[12,22472,24,22477,13,22487,null,null,null,null,0,121]
[12,22624,13,22628,13,22639,null,null,null,null,0,111]
[12,22738,13,22750,24,22763,null,null,null,null,0,112]
[12,22864,24,22872,13,22877,null,null,null,null,0,121]
[12,23024,24,23028,13,23036,null,null,null,null,0,121]
[12,23134,13,23138,13,23150,null,null,null,null,0,111]
[12,23268,13,23275,13,23280,null,null,null,null,0,111]
[12,23372,13,23384,24,23398,null,null,null,null,0,112]
[21,23495,22,23502,24,23506,null,null,null,null,0,222]
[12,23609,13,23613,24,23624,null,null,null,null,0,112]
[21,23716,11,23730,22,23734,null,null,null,null,0,212]
[21,23831,11,23838,11,23852,null,null,null,null,0,211]
[12,23967,24,23971,24,23975,null,null,null,null,null,122]

{"sheet":"!MC31A0I.sha","index":17,"n_rows":100,"n_cols":48,"rows_kept":100,"cut":false,"hidden":false,"merged":[[1,1,1,2],[5,13,5,14],[18,13,18,14],[19,13,19,14],[4,19,4,22],[5,19,5,20],[4,39,4,42],[5,39,5,40],[4,44,4,47],[5,44,5,45],[4,24,4,27],[5,24,5,25],[4,29,4,32],[5,29,5,30],[4,34,4,37],[5,34,5,35]]}
["Report for:!MC31A0I.sha"]
["Date:","<date>"]
["Hen:","<hen>",null,null,null,"Correct Sequence",{"$f":"Start!J2","v":211},null,null,null,null,null,null,null,null,"Total Sequences in Data",{"$f":"4994-COUNTBLANK(L7:L5000)","v":94},null,null,null,null,"Total Sequences in Block Data",{"$f":"COUNTA(L7:L22)","v":16},null,null,null,"Total Sequences in Block Data",{"$f":"COUNTA(L23:L37)","v":15},null,null,null,"Total Sequences in Block Data",{"$f":"COUNTA(L38:L53)","v":16},null,null,null,"Total Sequences in Block Data",{"$f":"COUNTA(L54:L69)","v":16},null,null,null,"Total Sequences in Block Data",{"$f":"COUNTA(L70:L84)","v":15},null,null,null,"Total Sequences in Block Data",{"$f":"COUNTA(L85:L100)","v":16}]
[null,null,null,null,null,null,null,null,null,null,null,null,null,null,null,"Total Sequences in Summary",{"$f":"SUM(O7:O14)","v":94},null,null,null,null,"Total Sequences in Block Summary",{"$f":"SUM(U7:U14)","v":16},null,null,null,"Total Sequences in Block Summary",{"$f":"SUM(Z7:Z14)","v":15},null,null,null,"Total Sequences in Block Summary",{"$f":"SUM(AE7:AE14)","v":16},null,null,null,"Total Sequences in Block Summary",{"$f":"SUM(AJ7:AJ14)","v":16},null,null,null,"Total Sequences in Block Summary",{"$f":"SUM(AO7:AO14)","v":15},null,null,null,"Total Sequences in Block Summary",{"$f":"SUM(AT7:AT14)","v":16}]
[null,null,null,null,null,null,null,null,null,null,null,null,null,null,null,null,null,null,null,"Block 1",null,null,null,null,"Block 2",null,null,null,null,"Block 3",null,null,null,null,"Block 4",null,null,null,null,"Block 5",null,null,null,null,"Block 6"]
["Sequence\nComponent\n1","Time\n1","Sequence\nComponent\n2","Time\n2","Sequence\nComponent\n3","Time\n3","Sequence\nComponent\n4","Time\n4","Sequence\nComponent\n5","Time\n5","Correct?\n0=No 1=Yes","Sequence",null,"Frequency",null,"Relative Frequency","Variability",null,null,"Frequency",null,"Relative Frequency","Variability",null,"Frequency",null,"Relative Frequency","Variability",null,"Frequency",null,"Relative Frequency","Variability",null,"Frequency",null,"Relative Frequency","Variability",null,"Frequency",null,"Relative Frequency","Variability",null,"Frequency",null,"Relative Frequency","Variability"]
[12,11,13,16,13,27,null,null,null,null,0,111,null,111,{"$f":"COUNTIF($L$7:$L$500,N7)","v":35},{"$f":"O7/$Q$4","v":0.37234042553191488},{"$f":"IF(P7=0,0,(P7*((LOG(P7))/LOG(2))))","v":-0.53069898101748392},null,null,{"$f":"N7","v":111},{"$f":"COUNTIF(L7:L22,T7)","v":12},{"$f":"U7/(W4-U11)","v":0.92307692307692313},{"$f":"IF(V7=0,0,(V7*((LOG(V7))/LOG(2))))","v":-0.10659435454147929},null,{"$f":"N7","v":111},{"$f":"COUNTIF(L23:L37,Y7)","v":8},{"$f":"Z7/(AB4-Z11)","v":0.88888888888888884},{"$f":"IF(AA7=0,0,(AA7*((LOG(AA7))/LOG(2))))","v":-0.15104444572649992},null,{"$f":"N7","v":111},{"$f":"COUNTIF(L38:L53,AD7)","v":5},{"$f":"AE7/(AG4-AE11)","v":0.55555555555555558},{"$f":"IF(AF7=0,0,(AF7*((LOG(AF7))/LOG(2))))","v":-0.4711093925305278},null,{"$f":"N7","v":111},{"$f":"COUNTIF(L54:L69,AI7)","v":2},{"$f":"AJ7/(AL4-AJ11)","v":0.33333333333333331},{"$f":"IF(AK7=0,0,(AK7*((LOG(AK7))/LOG(2))))","v":-0.52832083357371862},null,{"$f":"N7","v":111},{"$f":"COUNTIF(L70:L84,AN7)","v":3},{"$f":"AO7/(AQ4-AO11)","v":0.375},{"$f":"IF(AP7=0,0,(AP7*((LOG(AP7))/LOG(2))))","v":-0.53063906222956647},null,{"$f":"N7","v":111},{"$f":"COUNTIF(L85:L100,AS7)","v":5},{"$f":"AT7/(AV4-AT11)","v":0.55555555555555558},{"$f":"IF(AU7=0,0,(AU7*((LOG(AU7))/LOG(2))))","v":-0.4711093925305278}]
[12,131,13,136,13,143,null,null,null,null,0,111,null,112,1,1.0638297872340425E-2,-6.9729668634868486E-2,null,null,112,{"$f":"COUNTIF(L7:L22,T8)","v":1},{"$f":"U8/(W4-U11)","v":7.6923076923076927E-2},{"$f":"IF(V8=0,0,(V8*((LOG(V8))/LOG(2))))","v":-0.28464920908777636},null,112,{"$f":"COUNTIF(L23:L37,Y8)","v":0},{"$f":"Z8/(AB4-Z11)","v":0},{"$f":"IF(AA8=0,0,(AA8*((LOG(AA8))/LOG(2))))","v":0},null,112,{"$f":"COUNTIF(L38:L53,AD8)","v":0},{"$f":"AE8/(AG4-AE11)","v":0},{"$f":"IF(AF8=0,0,(AF8*((LOG(AF8))/LOG(2))))","v":0},null,112,{"$f":"COUNTIF(L54:L69,AI8)","v":0},{"$f":"AJ8/(AL4-AJ11)","v":0},{"$f":"IF(AK8=0,0,(AK8*((LOG(AK8))/LOG(2))))","v":0},null,112,{"$f":"COUNTIF(L70:L84,AN8)","v":0},{"$f":"AO8/(AQ4-AO11)","v":0},{"$f":"IF(AP8=0,0,(AP8*((LOG(AP8))/LOG(2))))","v":0},null,112,{"$f":"COUNTIF(L85:L100,AS8)","v":0},{"$f":"AT8/(AV4-AT11)","v":0},{"$f":"IF(AU8=0,0,(AU8*((LOG(AU8))/LOG(2))))","v":0}]
[12,249,13,259,13,266,null,null,null,null,0,111,null,121,1,1.0638297872340425E-2,-6.9729668634868486E-2,null,null,121,{"$f":"COUNTIF(L7:L22,T9)","v":0},{"$f":"U9/(W4-U11)","v":0},{"$f":"IF(V9=0,0,(V9*((LOG(V9))/LOG(2))))","v":0},null,121,{"$f":"COUNTIF(L23:L37,Y9)","v":0},{"$f":"Z9/(AB4-Z11)","v":0},{"$f":"IF(AA9=0,0,(AA9*((LOG(AA9))/LOG(2))))","v":0},null,121,{"$f":"COUNTIF(L38:L53,AD9)","v":0},{"$f":"AE9/(AG4-AE11)","v":0},{"$f":"IF(AF9=0,0,(AF9*((LOG(AF9))/LOG(2))))","v":0},null,121,{"$f":"COUNTIF(L54:L69,AI9)","v":0},{"$f":"AJ9/(AL4-AJ11)","v":0},{"$f":"IF(AK9=0,0,(AK9*((LOG(AK9))/LOG(2))))","v":0},null,121,{"$f":"COUNTIF(L70:L84,AN9)","v":0},{"$f":"AO9/(AQ4-AO11)","v":0},{"$f":"IF(AP9=0,0,(AP9*((LOG(AP9))/LOG(2))))","v":0},null,121,{"$f":"COUNTIF(L85:L100,AS9)","v":1},{"$f":"AT9/(AV4-AT11)","v":0.1111111111111111},{"$f":"IF(AU9=0,0,(AU9*((LOG(AU9))/LOG(2))))","v":-0.3522138890491458}]
[12,368,13,378,13,387,null,null,null,null,0,111,null,122,0,0,0,null,null,122,{"$f":"COUNTIF(L7:L22,T10)","v":0},{"$f":"U10/(W4-U11)","v":0},{"$f":"IF(V10=0,0,(V10*((LOG(V10))/LOG(2))))","v":0},null,122,{"$f":"COUNTIF(L23:L37,Y10)","v":0},{"$f":"Z10/(AB4-Z11)","v":0},{"$f":"IF(AA10=0,0,(AA10*((LOG(AA10))/LOG(2))))","v":0},null,122,{"$f":"COUNTIF(L38:L53,AD10)","v":0},{"$f":"AE10/(AG4-AE11)","v":0},{"$f":"IF(AF10=0,0,(AF10*((LOG(AF10))/LOG(2))))","v":0},null,122,{"$f":"COUNTIF(L54:L69,AI10)","v":0},{"$f":"AJ10/(AL4-AJ11)","v":0},{"$f":"IF(AK10=0,0,(AK10*((LOG(AK10))/LOG(2))))","v":0},null,122,{"$f":"COUNTIF(L70:L84,AN10)","v":0},{"$f":"AO10/(AQ4-AO11)","v":0},{"$f":"IF(AP10=0,0,(AP10*((LOG(AP10))/LOG(2))))","v":0},null,122,{"$f":"COUNTIF(L85:L100,AS10)","v":0},{"$f":"AT10/(AV4-AT11)","v":0},{"$f":"IF(AU10=0,0,(AU10*((LOG(AU10))/LOG(2))))","v":0}]
[12,489,13,502,24,514,null,null,null,null,0,112,null,211,40,0.42553191489361702,-0.52453649225118082,null,null,211,{"$f":"COUNTIF(L7:L22,T11)","v":3},null,null,null,211,{"$f":"COUNTIF(L23:L37,Y11)","v":6},null,null,null,211,{"$f":"COUNTIF(L38:L53,AD11)","v":7},null,null,null,211,{"$f":"COUNTIF(L54:L69,AI11)","v":10},null,null,null,211,{"$f":"COUNTIF(L70:L84,AN11)","v":7},null,null,null,211,{"$f":"COUNTIF(L85:L100,AS11)","v":7}]
[21,609,11,619,11,623,null,null,null,null,0,211,null,212,0,0,0,null,null,212,{"$f":"COUNTIF(L7:L22,T12)","v":0},{"$f":"U12/(W4-U11)","v":0},{"$f":"IF(V12=0,0,(V12*((LOG(V12))/LOG(2))))","v":0},null,212,{"$f":"COUNTIF(L23:L37,Y12)","v":0},{"$f":"Z12/(AB4-Z11)","v":0},{"$f":"IF(AA12=0,0,(AA12*((LOG(AA12))/LOG(2))))","v":0},null,212,{"$f":"COUNTIF(L38:L53,AD12)","v":0},{"$f":"AE12/(AG4-AE11)","v":0},{"$f":"IF(AF12=0,0,(AF12*((LOG(AF12))/LOG(2))))","v":0},null,212,{"$f":"COUNTIF(L54:L69,AI12)","v":0},{"$f":"AJ12/(AL4-AJ11)","v":0},{"$f":"IF(AK12=0,0,(AK12*((LOG(AK12))/LOG(2))))","v":0},null,212,{"$f":"COUNTIF(L70:L84,AN12)","v":0},{"$f":"AO12/(AQ4-AO11)","v":0},{"$f":"IF(AP12=0,0,(AP12*((LOG(AP12))/LOG(2))))","v":0},null,212,{"$f":"COUNTIF(L85:L100,AS12)","v":0},{"$f":"AT12/(AV4-AT11)","v":0},{"$f":"IF(AU12=0,0,(AU12*((LOG(AU12))/LOG(2))))","v":0}]
[12,722,13,728,13,737,null,null,null,null,0,111,null,221,16,0.1702127659574468,-0.43482363432810844,null,null,221,{"$f":"COUNTIF(L7:L22,T13)","v":0},{"$f":"U13/(W4-U11)","v":0},{"$f":"IF(V13=0,0,(V13*((LOG(V13))/LOG(2))))","v":0},null,221,{"$f":"COUNTIF(L23:L37,Y13)","v":1},{"$f":"Z13/(AB4-Z11)","v":0.1111111111111111},{"$f":"IF(AA13=0,0,(AA13*((LOG(AA13))/LOG(2))))","v":-0.3522138890491458},null,221,{"$f":"COUNTIF(L38:L53,AD13)","v":4},{"$f":"AE13/(AG4-AE11)","v":0.44444444444444442},{"$f":"IF(AF13=0,0,(AF13*((LOG(AF13))/LOG(2))))","v":-0.51996666730769447},null,221,{"$f":"COUNTIF(L54:L69,AI13)","v":3},{"$f":"AJ13/(AL4-AJ11)","v":0.5},{"$f":"IF(AK13=0,0,(AK13*((LOG(AK13))/LOG(2))))","v":-0.5},null,221,{"$f":"COUNTIF(L70:L84,AN13)","v":5},{"$f":"AO13/(AQ4-AO11)","v":0.625},{"$f":"IF(AP13=0,0,(AP13*((LOG(AP13))/LOG(2))))","v":-0.42379494069539858},null,221,{"$f":"COUNTIF(L85:L100,AS13)","v":3},{"$f":"AT13/(AV4-AT11)","v":0.33333333333333331},{"$f":"IF(AU13=0,0,(AU13*((LOG(AU13))/LOG(2))))","v":-0.52832083357371862}]
[12,928,13,943,13,947,null,null,null,null,0,111,null,222,1,1.0638297872340425E-2,-6.9729668634868486E-2,null,null,222,{"$f":"COUNTIF(L7:L22,T14)","v":0},{"$f":"U14/(W4-U11)","v":0},{"$f":"IF(V14=0,0,(V14*((LOG(V14))/LOG(2))))","v":0},null,222,{"$f":"COUNTIF(L23:L37,Y14)","v":0},{"$f":"Z14/(AB4-Z11)","v":0},{"$f":"IF(AA14=0,0,(AA14*((LOG(AA14))/LOG(2))))","v":0},null,222,{"$f":"COUNTIF(L38:L53,AD14)","v":0},{"$f":"AE14/(AG4-AE11)","v":0},{"$f":"IF(AF14=0,0,(AF14*((LOG(AF14))/LOG(2))))","v":0},null,222,{"$f":"COUNTIF(L54:L69,AI14)","v":1},{"$f":"AJ14/(AL4-AJ11)","v":0.16666666666666666},{"$f":"IF(AK14=0,0,(AK14*((LOG(AK14))/LOG(2))))","v":-0.43082708345352599},null,222,{"$f":"COUNTIF(L70:L84,AN14)","v":0},{"$f":"AO14/(AQ4-AO11)","v":0},{"$f":"IF(AP14=0,0,(AP14*((LOG(AP14))/LOG(2))))","v":0},null,222,{"$f":"COUNTIF(L85:L100,AS14)","v":0},{"$f":"AT14/(AV4-AT11)","v":0},{"$f":"IF(AU14=0,0,(AU14*((LOG(AU14))/LOG(2))))","v":0}]
[21,1039,11,1049,11,1057,null,null,null,null,0,211,null,null,null,{"$f":"SUM(P7:P14)","v":1},{"$f":"-SUM(Q7:Q14)","v":1.6992481135013788},null,null,null,null,{"$f":"SUM(V7:V14)","v":1},{"$f":"-SUM(W7:W14)","v":0.39124356362925566},null,null,null,{"$f":"SUM(AA7:AA14)","v":1},{"$f":"-SUM(AB7:AB14)","v":0.50325833477564574},null,null,null,{"$f":"SUM(AF7:AF14)","v":1},{"$f":"-SUM(AG7:AG14)","v":0.99107605983822222},null,null,null,{"$f":"SUM(AK7:AK14)","v":0.99999999999999989},{"$f":"-SUM(AL7:AL14)","v":1.4591479170272446},null,null,null,{"$f":"SUM(AP7:AP14)","v":1},{"$f":"-SUM(AQ7:AQ14)","v":0.95443400292496505},null,null,null,{"$f":"SUM(AU7:AU14)","v":1},{"$f":"-SUM(AV7:AV14)","v":1.3516441151533922}]
[12,1183,13,1188,13,1193,null,null,null,null,0,111,null,null,null,"U=",{"$f":"Q15/(LOG(Q4)/LOG(2))","v":0.25924556855560194},null,null,null,null,"U1=",{"$f":"W15/(LOG(W4)/LOG(2))","v":9.7810890907313916E-2},null,null,null,"U2=",{"$f":"AB15/(LOG(AB4)/LOG(2))","v":0.12881300933825116},null,null,null,"U3=",{"$f":"AG15/(LOG(AG4)/LOG(2))","v":0.24776901495955556},null,null,null,"U4=",{"$f":"AL15/(LOG(AL4)/LOG(2))","v":0.36478697925681114},null,null,null,"U5=",{"$f":"AQ15/(LOG(AQ4)/LOG(2))","v":0.2442950421999997},null,null,null,"U6=",{"$f":"AV15/(LOG(AV4)/LOG(2))","v":0.33791102878834806}]
[12,1294,13,1298,13,1310,null,null,null,null,0,111]
[12,1412,13,1417,13,1425,null,null,null,null,0,111]
[21,1523,11,1538,11,1543,null,null,null,null,0,211,null,"Total Target Seq"]
[12,1646,13,1652,13,1659,null,null,null,null,0,111,null,{"$f":"COUNTIF(L7:L100,G3)","v":40},null,16,15,16,16,15,16]
[12,1766,13,1772,13,1783,null,null,null,null,0,111,null,null,null,"% of reinforcement given in 6 equal intervals based on number of trials "]
[12,1887,13,1896,13,1908,null,null,null,null,0,111,null,null,null,"%_1","%_2","%_3","%_4","%_5","%_6"]
[21,2000,22,2007,13,2017,null,null,null,null,0,221,null,null,"target sequence",{"$f":"$G$3","v":211},211,211,211,211,211]
[21,2117,11,2127,11,2134,null,null,null,null,0,211,null,null,"total reinforcement",{"$f":"U11","v":3},{"$f":"Z11","v":6},{"$f":"AE11","v":7},{"$f":"AJ11","v":10},{"$f":"AO11","v":7},{"$f":"AT11","v":7}]
[12,2273,13,2277,13,2284,null,null,null,null,0,111,null,null,"% target"]
[12,2388,13,2423,13,2436,null,null,null,null,0,111,null,null,"CCRF"]
[21,2528,11,2536,11,2541,null,null,null,null,0,211,null,null,"% CCRf"]
[12,2640,13,2646,13,2650,null,null,null,null,0,111,null,null,"average response rate",{"$f":"F22/P20","v":119.25},{"$f":"(F37-F22)/Q20","v":126.73333333333333},{"$f":"(F53-F37)/R20","v":129.3125},{"$f":"(F69-F53)/S20","v":121.1875},{"$f":"(F84-F69)/T20","v":129.4},{"$f":"(F100-F84)/U20","v":125.0625}]
[12,2751,13,2765,13,2781,null,null,null,null,0,111]
[12,2916,13,2940,13,2947,null,null,null,null,0,111]
[21,3045,11,3057,11,3062,null,null,null,null,0,211]
[21,3149,11,3158,11,3176,null,null,null,null,0,211]
[12,3311,13,3316,13,3323,null,null,null,null,0,111]
[21,3423,11,3436,11,3443,null,null,null,null,0,211]
[21,3533,11,3542,11,3553,null,null,null,null,0,211]
[12,3679,13,3684,13,3692,null,null,null,null,0,111]
[12,3794,13,3799,13,3809,null,null,null,null,0,111]
[12,3983,13,3990,13,4018,null,null,null,null,0,111]
[21,4110,11,4123,11,4139,null,null,null,null,0,211]
[12,4236,13,4241,13,4249,null,null,null,null,0,111]
[21,4346,22,4351,13,4359,null,null,null,null,0,221]
[21,4458,11,4471,11,4482,null,null,null,null,0,211]
[12,4582,13,4606,13,4626,null,null,null,null,0,111]
[21,4724,11,4735,11,4742,null,null,null,null,0,211]
[12,4857,13,4861,13,4869,null,null,null,null,0,111]
[21,4965,22,4969,13,4990,null,null,null,null,0,221]
[21,5089,22,5094,13,5103,null,null,null,null,0,221]
[21,5243,11,5255,11,5259,null,null,null,null,0,211]
[12,5359,13,5372,13,5383,null,null,null,null,0,111]
[21,5482,11,5492,11,5504,null,null,null,null,0,211]
[21,5598,22,5603,13,5623,null,null,null,null,0,221]
[21,5723,11,5737,11,5751,null,null,null,null,0,211]
[21,5844,11,5853,11,5878,null,null,null,null,0,211]
[21,5966,11,5976,11,5982,null,null,null,null,0,211]
[21,6073,11,6120,11,6132,null,null,null,null,0,211]
[21,6228,22,6232,13,6276,null,null,null,null,0,221]
[12,6384,13,6388,13,6393,null,null,null,null,0,111]
[21,6494,11,6504,11,6514,null,null,null,null,0,211]
[21,6601,22,6603,24,6606,null,null,null,null,0,222]
[21,6702,11,6713,11,6717,null,null,null,null,0,211]
[21,6807,11,6836,11,6841,null,null,null,null,0,211]
[21,6951,22,6957,13,6967,null,null,null,null,0,221]
[21,7063,22,7066,13,7089,null,null,null,null,0,221]
[21,7184,11,7196,11,7206,null,null,null,null,0,211]
[21,7296,11,7305,11,7344,null,null,null,null,0,211]
[21,7433,11,7443,11,7450,null,null,null,null,0,211]
[21,7537,11,7556,11,7579,null,null,null,null,0,211]
[12,7676,13,7684,13,7695,null,null,null,null,0,111]
[21,7787,11,7797,11,7817,null,null,null,null,0,211]
[12,7943,13,7948,13,7953,null,null,null,null,0,111]
[21,8049,22,8054,13,8062,null,null,null,null,0,221]
[21,8158,22,8163,13,8174,null,null,null,null,0,221]
[21,8277,11,8285,11,8289,null,null,null,null,0,211]
[21,8379,11,8387,11,8440,null,null,null,null,0,211]
[21,8534,11,8547,11,8571,null,null,null,null,0,211]
[21,8660,11,8670,11,8677,null,null,null,null,0,211]
[12,8816,13,8831,13,8851,null,null,null,null,0,111]
[21,8946,22,8952,13,8960,null,null,null,null,0,221]
[12,9103,13,9115,13,9125,null,null,null,null,0,111]
[21,9220,22,9226,13,9236,null,null,null,null,0,221]
[21,9331,22,9335,13,9345,null,null,null,null,0,221]
[21,9450,11,9458,11,9476,null,null,null,null,0,211]
[21,9566,11,9574,11,9615,null,null,null,null,0,211]
[21,9707,11,9740,11,9758,null,null,null,null,0,211]
[21,9850,22,9855,13,9863,null,null,null,null,0,221]
[21,9961,11,9978,11,9988,null,null,null,null,0,211]
[21,10078,11,10133,11,10147,null,null,null,null,0,211]
[21,10238,11,10247,11,10261,null,null,null,null,0,211]
[21,10354,11,10364,11,10385,null,null,null,null,0,211]
[12,10497,13,10503,13,10512,null,null,null,null,0,111]
[12,10616,13,10628,13,10644,null,null,null,null,0,111]
[12,10745,13,10751,13,10767,null,null,null,null,0,111]
[21,10862,22,10867,13,10877,null,null,null,null,0,221]
[12,10974,13,10981,13,10990,null,null,null,null,0,111]
[21,11083,22,11088,13,11096,null,null,null,null,0,221]
[12,11226,13,11251,13,11258,null,null,null,null,0,111]
[21,11357,11,11376,11,11384,null,null,null,null,0,211]
[12,11494,24,11527,13,11542,null,null,null,null,0,121]
[21,11640,11,11649,11,11654,null,null,null,null,0,211]
[21,11744,11,11754,11,11759,null,null,null,null,1,211]

{"sheet":"!N10293I.sha","index":18,"n_rows":112,"n_cols":48,"rows_kept":112,"cut":false,"hidden":false,"merged":[[1,1,1,2],[5,13,5,14],[18,13,18,14],[19,13,19,14],[4,19,4,22],[5,19,5,20],[4,39,4,42],[5,39,5,40],[4,44,4,47],[5,44,5,45],[4,24,4,27],[5,24,5,25],[4,29,4,32],[5,29,5,30],[4,34,4,37],[5,34,5,35]]}
["Report for:!N10293I.sha"]
["Date:","<date>"]
["Hen:","<hen>",null,null,null,"Correct Sequence",{"$f":"Start!J2","v":211},null,null,null,null,null,null,null,null,"Total Sequences in Data",{"$f":"4994-COUNTBLANK(L7:L5000)","v":106},null,null,null,null,"Total Sequences in Block Data",{"$f":"COUNTA(L7:L24)","v":18},null,null,null,"Total Sequences in Block Data",{"$f":"COUNTA(L25:L41)","v":17},null,null,null,"Total Sequences in Block Data",{"$f":"COUNTA(L42:L59)","v":18},null,null,null,"Total Sequences in Block Data",{"$f":"COUNTA(L60:L77)","v":18},null,null,null,"Total Sequences in Block Data",{"$f":"COUNTA(L78:L94)","v":17},null,null,null,"Total Sequences in Block Data",{"$f":"COUNTA(L95:L112)","v":18}]
[null,null,null,null,null,null,null,null,null,null,null,null,null,null,null,"Total Sequences in Summary",{"$f":"SUM(O7:O14)","v":106},null,null,null,null,"Total Sequences in Block Summary",{"$f":"SUM(U7:U14)","v":18},null,null,null,"Total Sequences in Block Summary",{"$f":"SUM(Z7:Z14)","v":17},null,null,null,"Total Sequences in Block Summary",{"$f":"SUM(AE7:AE14)","v":18},null,null,null,"Total Sequences in Block Summary",{"$f":"SUM(AJ7:AJ14)","v":18},null,null,null,"Total Sequences in Block Summary",{"$f":"SUM(AO7:AO14)","v":17},null,null,null,"Total Sequences in Block Summary",{"$f":"SUM(AT7:AT14)","v":18}]
[null,null,null,null,null,null,null,null,null,null,null,null,null,null,null,null,null,null,null,"Block 1",null,null,null,null,"Block 2",null,null,null,null,"Block 3",null,null,null,null,"Block 4",null,null,null,null,"Block 5",null,null,null,null,"Block 6"]
["Sequence\nComponent\n1","Time\n1","Sequence\nComponent\n2","Time\n2","Sequence\nComponent\n3","Time\n3","Sequence\nComponent\n4","Time\n4","Sequence\nComponent\n5","Time\n5","Correct?\n0=No 1=Yes","Sequence",null,"Frequency",null,"Relative Frequency","Variability",null,null,"Frequency",null,"Relative Frequency","Variability",null,"Frequency",null,"Relative Frequency","Variability",null,"Frequency",null,"Relative Frequency","Variability",null,"Frequency",null,"Relative Frequency","Variability",null,"Frequency",null,"Relative Frequency","Variability",null,"Frequency",null,"Relative Frequency","Variability"]
[12,13,13,21,13,26,null,null,null,null,0,111,null,111,{"$f":"COUNTIF($L$7:$L$500,N7)","v":30},{"$f":"O7/$Q$4","v":0.28301886792452829},{"$f":"IF(P7=0,0,(P7*((LOG(P7))/LOG(2))))","v":-0.51538580913811716},null,null,{"$f":"N7","v":111},{"$f":"COUNTIF(L7:L24,T7)","v":7},{"$f":"U7/(W4-U11)","v":0.77777777777777779},{"$f":"IF(V7=0,0,(V7*((LOG(V7))/LOG(2))))","v":-0.28199895063255082},null,{"$f":"N7","v":111},{"$f":"COUNTIF(L25:L41,Y7)","v":6},{"$f":"Z7/(AB4-Z11)","v":0.54545454545454541},{"$f":"IF(AA7=0,0,(AA7*((LOG(AA7))/LOG(2))))","v":-0.47698315522698609},null,{"$f":"N7","v":111},{"$f":"COUNTIF(L42:L59,AD7)","v":1},{"$f":"AE7/(AG4-AE11)","v":9.0909090909090912E-2},{"$f":"IF(AF7=0,0,(AF7*((LOG(AF7))/LOG(2))))","v":-0.31449378351248153},null,{"$f":"N7","v":111},{"$f":"COUNTIF(L60:L77,AI7)","v":4},{"$f":"AJ7/(AL4-AJ11)","v":0.4},{"$f":"IF(AK7=0,0,(AK7*((LOG(AK7))/LOG(2))))","v":-0.52877123795494496},null,{"$f":"N7","v":111},{"$f":"COUNTIF(L78:L94,AN7)","v":5},{"$f":"AO7/(AQ4-AO11)","v":0.41666666666666669},{"$f":"IF(AP7=0,0,(AP7*((LOG(AP7))/LOG(2))))","v":-0.52626433576408083},null,{"$f":"N7","v":111},{"$f":"COUNTIF(L95:L112,AS7)","v":7},{"$f":"AT7/(AV4-AT11)","v":0.53846153846153844},{"$f":"IF(AU7=0,0,(AU7*((LOG(AU7))/LOG(2))))","v":-0.48089181327572433}]
[12,129,13,134,13,158,null,null,null,null,0,111,null,112,2,1.8867924528301886E-2,-0.10807397084081509,null,null,112,{"$f":"COUNTIF(L7:L24,T8)","v":0},{"$f":"U8/(W4-U11)","v":0},{"$f":"IF(V8=0,0,(V8*((LOG(V8))/LOG(2))))","v":0},null,112,{"$f":"COUNTIF(L25:L41,Y8)","v":0},{"$f":"Z8/(AB4-Z11)","v":0},{"$f":"IF(AA8=0,0,(AA8*((LOG(AA8))/LOG(2))))","v":0},null,112,{"$f":"COUNTIF(L42:L59,AD8)","v":1},{"$f":"AE8/(AG4-AE11)","v":9.0909090909090912E-2},{"$f":"IF(AF8=0,0,(AF8*((LOG(AF8))/LOG(2))))","v":-0.31449378351248153},null,112,{"$f":"COUNTIF(L60:L77,AI8)","v":1},{"$f":"AJ8/(AL4-AJ11)","v":0.1},{"$f":"IF(AK8=0,0,(AK8*((LOG(AK8))/LOG(2))))","v":-0.33219280948873625},null,112,{"$f":"COUNTIF(L78:L94,AN8)","v":0},{"$f":"AO8/(AQ4-AO11)","v":0},{"$f":"IF(AP8=0,0,(AP8*((LOG(AP8))/LOG(2))))","v":0},null,112,{"$f":"COUNTIF(L95:L112,AS8)","v":0},{"$f":"AT8/(AV4-AT11)","v":0},{"$f":"IF(AU8=0,0,(AU8*((LOG(AU8))/LOG(2))))","v":0}]
[12,262,13,268,13,306,null,null,null,null,0,111,null,121,1,9.433962264150943E-3,-6.3470947684558479E-2,null,null,121,{"$f":"COUNTIF(L7:L24,T9)","v":0},{"$f":"U9/(W4-U11)","v":0},{"$f":"IF(V9=0,0,(V9*((LOG(V9))/LOG(2))))","v":0},null,121,{"$f":"COUNTIF(L25:L41,Y9)","v":0},{"$f":"Z9/(AB4-Z11)","v":0},{"$f":"IF(AA9=0,0,(AA9*((LOG(AA9))/LOG(2))))","v":0},null,121,{"$f":"COUNTIF(L42:L59,AD9)","v":0},{"$f":"AE9/(AG4-AE11)","v":0},{"$f":"IF(AF9=0,0,(AF9*((LOG(AF9))/LOG(2))))","v":0},null,121,{"$f":"COUNTIF(L60:L77,AI9)","v":1},{"$f":"AJ9/(AL4-AJ11)","v":0.1},{"$f":"IF(AK9=0,0,(AK9*((LOG(AK9))/LOG(2))))","v":-0.33219280948873625},null,121,{"$f":"COUNTIF(L78:L94,AN9)","v":0},{"$f":"AO9/(AQ4-AO11)","v":0},{"$f":"IF(AP9=0,0,(AP9*((LOG(AP9))/LOG(2))))","v":0},null,121,{"$f":"COUNTIF(L95:L112,AS9)","v":0},{"$f":"AT9/(AV4-AT11)","v":0},{"$f":"IF(AU9=0,0,(AU9*((LOG(AU9))/LOG(2))))","v":0}]
[21,401,11,413,11,421,null,null,null,null,0,211,null,122,0,0,0,null,null,122,{"$f":"COUNTIF(L7:L24,T10)","v":0},{"$f":"U10/(W4-U11)","v":0},{"$f":"IF(V10=0,0,(V10*((LOG(V10))/LOG(2))))","v":0},null,122,{"$f":"COUNTIF(L25:L41,Y10)","v":0},{"$f":"Z10/(AB4-Z11)","v":0},{"$f":"IF(AA10=0,0,(AA10*((LOG(AA10))/LOG(2))))","v":0},null,122,{"$f":"COUNTIF(L42:L59,AD10)","v":0},{"$f":"AE10/(AG4-AE11)","v":0},{"$f":"IF(AF10=0,0,(AF10*((LOG(AF10))/LOG(2))))","v":0},null,122,{"$f":"COUNTIF(L60:L77,AI10)","v":0},{"$f":"AJ10/(AL4-AJ11)","v":0},{"$f":"IF(AK10=0,0,(AK10*((LOG(AK10))/LOG(2))))","v":0},null,122,{"$f":"COUNTIF(L78:L94,AN10)","v":0},{"$f":"AO10/(AQ4-AO11)","v":0},{"$f":"IF(AP10=0,0,(AP10*((LOG(AP10))/LOG(2))))","v":0},null,122,{"$f":"COUNTIF(L95:L112,AS10)","v":0},{"$f":"AT10/(AV4-AT11)","v":0},{"$f":"IF(AU10=0,0,(AU10*((LOG(AU10))/LOG(2))))","v":0}]
[21,516,11,530,11,566,null,null,null,null,0,211,null,211,40,0.37735849056603776,-0.53056315459465531,null,null,211,{"$f":"COUNTIF(L7:L24,T11)","v":9},null,null,null,211,{"$f":"COUNTIF(L25:L41,Y11)","v":6},null,null,null,211,{"$f":"COUNTIF(L42:L59,AD11)","v":7},null,null,null,211,{"$f":"COUNTIF(L60:L77,AI11)","v":8},null,null,null,211,{"$f":"COUNTIF(L78:L94,AN11)","v":5},null,null,null,211,{"$f":"COUNTIF(L95:L112,AS11)","v":5}]
[21,663,11,680,11,691,null,null,null,null,0,211,null,212,0,0,0,null,null,212,{"$f":"COUNTIF(L7:L24,T12)","v":0},{"$f":"U12/(W4-U11)","v":0},{"$f":"IF(V12=0,0,(V12*((LOG(V12))/LOG(2))))","v":0},null,212,{"$f":"COUNTIF(L25:L41,Y12)","v":0},{"$f":"Z12/(AB4-Z11)","v":0},{"$f":"IF(AA12=0,0,(AA12*((LOG(AA12))/LOG(2))))","v":0},null,212,{"$f":"COUNTIF(L42:L59,AD12)","v":0},{"$f":"AE12/(AG4-AE11)","v":0},{"$f":"IF(AF12=0,0,(AF12*((LOG(AF12))/LOG(2))))","v":0},null,212,{"$f":"COUNTIF(L60:L77,AI12)","v":0},{"$f":"AJ12/(AL4-AJ11)","v":0},{"$f":"IF(AK12=0,0,(AK12*((LOG(AK12))/LOG(2))))","v":0},null,212,{"$f":"COUNTIF(L78:L94,AN12)","v":0},{"$f":"AO12/(AQ4-AO11)","v":0},{"$f":"IF(AP12=0,0,(AP12*((LOG(AP12))/LOG(2))))","v":0},null,212,{"$f":"COUNTIF(L95:L112,AS12)","v":0},{"$f":"AT12/(AV4-AT11)","v":0},{"$f":"IF(AU12=0,0,(AU12*((LOG(AU12))/LOG(2))))","v":0}]
[21,777,11,790,11,797,null,null,null,null,0,211,null,221,28,0.26415094339622641,-0.50731919726562891,null,null,221,{"$f":"COUNTIF(L7:L24,T13)","v":2},{"$f":"U13/(W4-U11)","v":0.22222222222222221},{"$f":"IF(V13=0,0,(V13*((LOG(V13))/LOG(2))))","v":-0.48220555587606945},null,221,{"$f":"COUNTIF(L25:L41,Y13)","v":3},{"$f":"Z13/(AB4-Z11)","v":0.27272727272727271},{"$f":"IF(AA13=0,0,(AA13*((LOG(AA13))/LOG(2))))","v":-0.51121885034076575},null,221,{"$f":"COUNTIF(L42:L59,AD13)","v":8},{"$f":"AE13/(AG4-AE11)","v":0.72727272727272729},{"$f":"IF(AF13=0,0,(AF13*((LOG(AF13))/LOG(2))))","v":-0.33413208628167068},null,221,{"$f":"COUNTIF(L60:L77,AI13)","v":3},{"$f":"AJ13/(AL4-AJ11)","v":0.3},{"$f":"IF(AK13=0,0,(AK13*((LOG(AK13))/LOG(2))))","v":-0.52108967824986185},null,221,{"$f":"COUNTIF(L78:L94,AN13)","v":7},{"$f":"AO13/(AQ4-AO11)","v":0.58333333333333337},{"$f":"IF(AP13=0,0,(AP13*((LOG(AP13))/LOG(2))))","v":-0.45360442088707198},null,221,{"$f":"COUNTIF(L95:L112,AS13)","v":5},{"$f":"AT13/(AV4-AT11)","v":0.38461538461538464},{"$f":"IF(AU13=0,0,(AU13*((LOG(AU13))/LOG(2))))","v":-0.53019677817451139}]
[21,884,22,886,13,906,null,null,null,null,0,221,null,222,5,4.716981132075472E-2,-0.2078298282865961,null,null,222,{"$f":"COUNTIF(L7:L24,T14)","v":0},{"$f":"U14/(W4-U11)","v":0},{"$f":"IF(V14=0,0,(V14*((LOG(V14))/LOG(2))))","v":0},null,222,{"$f":"COUNTIF(L25:L41,Y14)","v":2},{"$f":"Z14/(AB4-Z11)","v":0.18181818181818182},{"$f":"IF(AA14=0,0,(AA14*((LOG(AA14))/LOG(2))))","v":-0.44716938520678134},null,222,{"$f":"COUNTIF(L42:L59,AD14)","v":1},{"$f":"AE14/(AG4-AE11)","v":9.0909090909090912E-2},{"$f":"IF(AF14=0,0,(AF14*((LOG(AF14))/LOG(2))))","v":-0.31449378351248153},null,222,{"$f":"COUNTIF(L60:L77,AI14)","v":1},{"$f":"AJ14/(AL4-AJ11)","v":0.1},{"$f":"IF(AK14=0,0,(AK14*((LOG(AK14))/LOG(2))))","v":-0.33219280948873625},null,222,{"$f":"COUNTIF(L78:L94,AN14)","v":0},{"$f":"AO14/(AQ4-AO11)","v":0},{"$f":"IF(AP14=0,0,(AP14*((LOG(AP14))/LOG(2))))","v":0},null,222,{"$f":"COUNTIF(L95:L112,AS14)","v":1},{"$f":"AT14/(AV4-AT11)","v":7.6923076923076927E-2},{"$f":"IF(AU14=0,0,(AU14*((LOG(AU14))/LOG(2))))","v":-0.28464920908777636}]
[21,998,11,1010,11,1016,null,null,null,null,0,211,null,null,null,{"$f":"SUM(P7:P14)","v":0.99999999999999989},{"$f":"-SUM(Q7:Q14)","v":1.9326429078103708},null,null,null,null,{"$f":"SUM(V7:V14)","v":1},{"$f":"-SUM(W7:W14)","v":0.76420450650862026},null,null,null,{"$f":"SUM(AA7:AA14)","v":1},{"$f":"-SUM(AB7:AB14)","v":1.4353713907745331},null,null,null,{"$f":"SUM(AF7:AF14)","v":1},{"$f":"-SUM(AG7:AG14)","v":1.2776134368191152},null,null,null,{"$f":"SUM(AK7:AK14)","v":0.99999999999999989},{"$f":"-SUM(AL7:AL14)","v":2.0464393446710156},null,null,null,{"$f":"SUM(AP7:AP14)","v":1},{"$f":"-SUM(AQ7:AQ14)","v":0.97986875665115281},null,null,null,{"$f":"SUM(AU7:AU14)","v":1},{"$f":"-SUM(AV7:AV14)","v":1.295737800538012}]
[21,1107,11,1115,11,1157,null,null,null,null,0,211,null,null,null,"U=",{"$f":"Q15/(LOG(Q4)/LOG(2))","v":0.28725709836529939},null,null,null,null,"U1=",{"$f":"W15/(LOG(W4)/LOG(2))","v":0.1832657676683139},null,null,null,"U2=",{"$f":"AB15/(LOG(AB4)/LOG(2))","v":0.3511643888939816},null,null,null,"U3=",{"$f":"AG15/(LOG(AG4)/LOG(2))","v":0.30638762960417959},null,null,null,"U4=",{"$f":"AL15/(LOG(AL4)/LOG(2))","v":0.49076166692762679},null,null,null,"U5=",{"$f":"AQ15/(LOG(AQ4)/LOG(2))","v":0.23972542251941664},null,null,null,"U6=",{"$f":"AV15/(LOG(AV4)/LOG(2))","v":0.31073407797258618}]
[21,1248,11,1259,11,1263,null,null,null,null,0,211]
[12,1455,13,1461,13,1475,null,null,null,null,0,111]
[12,1571,13,1577,13,1584,null,null,null,null,0,111,null,"Total Target Seq"]
[21,1682,22,1693,13,1702,null,null,null,null,0,221,null,{"$f":"COUNTIF(L7:L112,G3)","v":40},null,18,17,18,18,17,18]
[21,1800,11,1837,11,1856,null,null,null,null,0,211,null,null,null,"% of reinforcement given in 6 equal intervals based on number of trials "]
[12,1952,13,1972,13,1997,null,null,null,null,0,111,null,null,null,"%_1","%_2","%_3","%_4","%_5","%_6"]
[21,2094,11,2110,11,2125,null,null,null,null,0,211,null,null,"target sequence",{"$f":"$G$3","v":211},211,211,211,211,211]
[12,2222,13,2227,13,2232,null,null,null,null,0,111,null,null,"total reinforcement",{"$f":"U11","v":9},{"$f":"Z11","v":6},{"$f":"AE11","v":7},{"$f":"AJ11","v":8},{"$f":"AO11","v":5},{"$f":"AT11","v":5}]
[21,2330,11,2346,11,2351,null,null,null,null,0,211,null,null,"% target"]
[12,2450,13,2468,13,2483,null,null,null,null,0,111,null,null,"CCRF"]
[12,2588,13,2593,13,2606,null,null,null,null,0,111,null,null,"% CCRf"]
[21,2703,22,2707,13,2717,null,null,null,null,0,221,null,null,"average response rate",{"$f":"F24/P20","v":124},{"$f":"(F41-F24)/Q20","v":122.88235294117646},{"$f":"(F59-F41)/R20","v":126.11111111111111},{"$f":"(F77-F59)/S20","v":131.38888888888889},{"$f":"(F94-F77)/T20","v":130.76470588235293},{"$f":"(F112-F94)/U20","v":123}]
[21,2816,22,2819,24,2828,null,null,null,null,0,222]
[12,2949,13,2956,13,2964,null,null,null,null,0,111]
[21,3063,22,3067,13,3086,null,null,null,null,0,221]
[21,3188,11,3197,11,3209,null,null,null,null,0,211]
[21,3299,11,3358,11,3386,null,null,null,null,0,211]
[12,3484,13,3488,13,3497,null,null,null,null,0,111]
[21,3597,11,3608,11,3655,null,null,null,null,0,211]
[21,3745,22,3749,24,3753,null,null,null,null,0,222]
[12,3850,13,3854,13,3864,null,null,null,null,0,111]
[12,3970,13,3977,13,3982,null,null,null,null,0,111]
[21,4078,22,4083,13,4093,null,null,null,null,0,221]
[21,4192,11,4205,11,4210,null,null,null,null,0,211]
[21,4298,11,4316,11,4321,null,null,null,null,0,211]
[21,4411,11,4421,11,4460,null,null,null,null,0,211]
[21,4550,22,4561,13,4569,null,null,null,null,0,221]
[21,4667,22,4673,13,4683,null,null,null,null,0,221]
[21,4776,11,4787,11,4799,null,null,null,null,0,211]
[21,4890,11,4950,11,4964,null,null,null,null,0,211]
[21,5054,11,5080,11,5086,null,null,null,null,0,211]
[21,5174,22,5177,13,5196,null,null,null,null,0,221]
[21,5292,22,5297,13,5341,null,null,null,null,0,221]
[21,5441,22,5446,13,5458,null,null,null,null,0,221]
[21,5557,22,5560,24,5565,null,null,null,null,0,222]
[21,5658,11,5677,11,5688,null,null,null,null,0,211]
[21,5776,11,5789,11,5822,null,null,null,null,0,211]
[21,5913,11,5931,11,5945,null,null,null,null,0,211]
[12,6051,13,6057,13,6085,null,null,null,null,0,111]
[12,6232,13,6239,24,6255,null,null,null,null,0,112]
[21,6352,22,6356,13,6366,null,null,null,null,0,221]
[21,6463,22,6468,13,6476,null,null,null,null,0,221]
[21,6576,22,6581,13,6591,null,null,null,null,0,221]
[12,6702,13,6707,24,6721,null,null,null,null,0,112]
[12,6827,13,6847,13,6865,null,null,null,null,0,111]
[21,6964,22,6972,13,6980,null,null,null,null,0,221]
[21,7102,11,7119,11,7128,null,null,null,null,0,211]
[12,7235,13,7240,13,7246,null,null,null,null,0,111]
[21,7344,22,7348,13,7419,null,null,null,null,0,221]
[12,7520,24,7534,13,7584,null,null,null,null,0,121]
[21,7680,11,7691,11,7698,null,null,null,null,0,211]
[21,7785,22,7790,13,7798,null,null,null,null,0,221]
[21,7897,11,7906,11,7911,null,null,null,null,0,211]
[12,8021,13,8024,13,8029,null,null,null,null,0,111]
[21,8121,22,8124,24,8129,null,null,null,null,0,222]
[21,8220,11,8234,11,8240,null,null,null,null,0,211]
[21,8333,11,8343,11,8380,null,null,null,null,0,211]
[12,8494,13,8513,13,8535,null,null,null,null,0,111]
[21,8635,11,8661,11,8693,null,null,null,null,0,211]
[21,8785,11,8794,11,8798,null,null,null,null,0,211]
[21,8890,11,8903,11,8956,null,null,null,null,0,211]
[12,9056,13,9061,13,9069,null,null,null,null,0,111]
[21,9168,22,9176,13,9185,null,null,null,null,0,221]
[21,9283,11,9315,11,9327,null,null,null,null,0,211]
[12,9428,13,9444,13,9461,null,null,null,null,0,111]
[21,9559,22,9564,13,9584,null,null,null,null,0,221]
[12,9692,13,9701,13,9712,null,null,null,null,0,111]
[21,9808,11,9820,11,9835,null,null,null,null,0,211]
[21,9925,11,9933,11,9948,null,null,null,null,0,211]
[21,10037,11,10054,11,10065,null,null,null,null,0,211]
[21,10155,11,10232,11,10246,null,null,null,null,0,211]
[12,10339,13,10344,13,10350,null,null,null,null,0,111]
[21,10448,22,10454,13,10463,null,null,null,null,0,221]
[21,10563,22,10568,13,10615,null,null,null,null,0,221]
[12,10800,13,10806,13,10814,null,null,null,null,0,111]
[21,10912,22,10918,13,10927,null,null,null,null,0,221]
[21,11024,22,11029,13,11042,null,null,null,null,0,221]
[21,11137,22,11138,13,11179,null,null,null,null,0,221]
[21,11276,22,11281,13,11291,null,null,null,null,0,221]
[12,11419,13,11424,13,11444,null,null,null,null,0,111]
[21,11539,22,11543,24,11549,null,null,null,null,0,222]
[12,11644,13,11648,13,11654,null,null,null,null,0,111]
[12,11762,13,11770,13,11776,null,null,null,null,0,111]
[21,11872,22,11876,13,11889,null,null,null,null,0,221]
[21,11984,22,11987,13,12000,null,null,null,null,0,221]
[21,12095,22,12099,13,12109,null,null,null,null,0,221]
[12,12209,13,12219,13,12226,null,null,null,null,0,111]
[21,12321,11,12337,11,12346,null,null,null,null,0,211]
[21,12433,11,12444,11,12513,null,null,null,null,0,211]
[12,12609,13,12614,13,12623,null,null,null,null,0,111]
[12,12731,13,12736,13,12746,null,null,null,null,0,111]
[21,12841,22,12846,13,12856,null,null,null,null,0,221]
[21,12952,11,12960,11,12964,null,null,null,null,0,211]
[21,13053,11,13066,11,13075,null,null,null,null,0,211]
[12,13185,13,13251,13,13279,null,null,null,null,0,111]
[21,13374,11,13387,11,13393,null,null,null,null,1,211]

{"sheet":"!N103A1I.sha","index":19,"n_rows":100,"n_cols":48,"rows_kept":100,"cut":false,"hidden":false,"merged":[[1,1,1,2],[5,13,5,14],[18,13,18,14],[19,13,19,14],[4,19,4,22],[5,19,5,20],[4,39,4,42],[5,39,5,40],[4,44,4,47],[5,44,5,45],[4,24,4,27],[5,24,5,25],[4,29,4,32],[5,29,5,30],[4,34,4,37],[5,34,5,35]]}
["Report for:!N103A1I.sha"]
["Date:","<date>"]
["Hen:","<hen>",null,null,null,"Correct Sequence",{"$f":"Start!J2","v":211},null,null,null,null,null,null,null,null,"Total Sequences in Data",{"$f":"4994-COUNTBLANK(L7:L5000)","v":94},null,null,null,null,"Total Sequences in Block Data",{"$f":"COUNTA(L7:L22)","v":16},null,null,null,"Total Sequences in Block Data",{"$f":"COUNTA(L23:L37)","v":15},null,null,null,"Total Sequences in Block Data",{"$f":"COUNTA(L38:L53)","v":16},null,null,null,"Total Sequences in Block Data",{"$f":"COUNTA(L54:L69)","v":16},null,null,null,"Total Sequences in Block Data",{"$f":"COUNTA(L70:L84)","v":15},null,null,null,"Total Sequences in Block Data",{"$f":"COUNTA(L85:L100)","v":16}]
[null,null,null,null,null,null,null,null,null,null,null,null,null,null,null,"Total Sequences in Summary",{"$f":"SUM(O7:O14)","v":94},null,null,null,null,"Total Sequences in Block Summary",{"$f":"SUM(U7:U14)","v":16},null,null,null,"Total Sequences in Block Summary",{"$f":"SUM(Z7:Z14)","v":15},null,null,null,"Total Sequences in Block Summary",{"$f":"SUM(AE7:AE14)","v":16},null,null,null,"Total Sequences in Block Summary",{"$f":"SUM(AJ7:AJ14)","v":16},null,null,null,"Total Sequences in Block Summary",{"$f":"SUM(AO7:AO14)","v":15},null,null,null,"Total Sequences in Block Summary",{"$f":"SUM(AT7:AT14)","v":16}]
[null,null,null,null,null,null,null,null,null,null,null,null,null,null,null,null,null,null,null,"Block 1",null,null,null,null,"Block 2",null,null,null,null,"Block 3",null,null,null,null,"Block 4",null,null,null,null,"Block 5",null,null,null,null,"Block 6"]
["Sequence\nComponent\n1","Time\n1","Sequence\nComponent\n2","Time\n2","Sequence\nComponent\n3","Time\n3","Sequence\nComponent\n4","Time\n4","Sequence\nComponent\n5","Time\n5","Correct?\n0=No 1=Yes","Sequence",null,"Frequency",null,"Relative Frequency","Variability",null,null,"Frequency",null,"Relative Frequency","Variability",null,"Frequency",null,"Relative Frequency","Variability",null,"Frequency",null,"Relative Frequency","Variability",null,"Frequency",null,"Relative Frequency","Variability",null,"Frequency",null,"Relative Frequency","Variability",null,"Frequency",null,"Relative Frequency","Variability"]
[12,32,13,45,13,51,null,null,null,null,0,111,null,111,{"$f":"COUNTIF($L$7:$L$500,N7)","v":34},{"$f":"O7/$Q$4","v":0.36170212765957449},{"$f":"IF(P7=0,0,(P7*((LOG(P7))/LOG(2))))","v":-0.53066259951625672},null,null,{"$f":"N7","v":111},{"$f":"COUNTIF(L7:L22,T7)","v":7},{"$f":"U7/(W4-U11)","v":0.63636363636363635},{"$f":"IF(V7=0,0,(V7*((LOG(V7))/LOG(2))))","v":-0.41495789782344106},null,{"$f":"N7","v":111},{"$f":"COUNTIF(L23:L37,Y7)","v":7},{"$f":"Z7/(AB4-Z11)","v":0.77777777777777779},{"$f":"IF(AA7=0,0,(AA7*((LOG(AA7))/LOG(2))))","v":-0.28199895063255082},null,{"$f":"N7","v":111},{"$f":"COUNTIF(L38:L53,AD7)","v":7},{"$f":"AE7/(AG4-AE11)","v":0.77777777777777779},{"$f":"IF(AF7=0,0,(AF7*((LOG(AF7))/LOG(2))))","v":-0.28199895063255082},null,{"$f":"N7","v":111},{"$f":"COUNTIF(L54:L69,AI7)","v":6},{"$f":"AJ7/(AL4-AJ11)","v":0.54545454545454541},{"$f":"IF(AK7=0,0,(AK7*((LOG(AK7))/LOG(2))))","v":-0.47698315522698609},null,{"$f":"N7","v":111},{"$f":"COUNTIF(L70:L84,AN7)","v":5},{"$f":"AO7/(AQ4-AO11)","v":0.7142857142857143},{"$f":"IF(AP7=0,0,(AP7*((LOG(AP7))/LOG(2))))","v":-0.34673344797874411},null,{"$f":"N7","v":111},{"$f":"COUNTIF(L85:L100,AS7)","v":2},{"$f":"AT7/(AV4-AT11)","v":0.2857142857142857},{"$f":"IF(AU7=0,0,(AU7*((LOG(AU7))/LOG(2))))","v":-0.51638712058788683}]
[12,155,13,175,13,190,null,null,null,null,0,111,null,112,2,2.1276595744680851E-2,-0.11818274152505612,null,null,112,{"$f":"COUNTIF(L7:L22,T8)","v":1},{"$f":"U8/(W4-U11)","v":9.0909090909090912E-2},{"$f":"IF(V8=0,0,(V8*((LOG(V8))/LOG(2))))","v":-0.31449378351248153},null,112,{"$f":"COUNTIF(L23:L37,Y8)","v":0},{"$f":"Z8/(AB4-Z11)","v":0},{"$f":"IF(AA8=0,0,(AA8*((LOG(AA8))/LOG(2))))","v":0},null,112,{"$f":"COUNTIF(L38:L53,AD8)","v":0},{"$f":"AE8/(AG4-AE11)","v":0},{"$f":"IF(AF8=0,0,(AF8*((LOG(AF8))/LOG(2))))","v":0},null,112,{"$f":"COUNTIF(L54:L69,AI8)","v":0},{"$f":"AJ8/(AL4-AJ11)","v":0},{"$f":"IF(AK8=0,0,(AK8*((LOG(AK8))/LOG(2))))","v":0},null,112,{"$f":"COUNTIF(L70:L84,AN8)","v":1},{"$f":"AO8/(AQ4-AO11)","v":0.14285714285714285},{"$f":"IF(AP8=0,0,(AP8*((LOG(AP8))/LOG(2))))","v":-0.40105070315108626},null,112,{"$f":"COUNTIF(L85:L100,AS8)","v":0},{"$f":"AT8/(AV4-AT11)","v":0},{"$f":"IF(AU8=0,0,(AU8*((LOG(AU8))/LOG(2))))","v":0}]
[12,292,13,296,13,307,null,null,null,null,0,111,null,121,1,1.0638297872340425E-2,-6.9729668634868486E-2,null,null,121,{"$f":"COUNTIF(L7:L22,T9)","v":0},{"$f":"U9/(W4-U11)","v":0},{"$f":"IF(V9=0,0,(V9*((LOG(V9))/LOG(2))))","v":0},null,121,{"$f":"COUNTIF(L23:L37,Y9)","v":0},{"$f":"Z9/(AB4-Z11)","v":0},{"$f":"IF(AA9=0,0,(AA9*((LOG(AA9))/LOG(2))))","v":0},null,121,{"$f":"COUNTIF(L38:L53,AD9)","v":0},{"$f":"AE9/(AG4-AE11)","v":0},{"$f":"IF(AF9=0,0,(AF9*((LOG(AF9))/LOG(2))))","v":0},null,121,{"$f":"COUNTIF(L54:L69,AI9)","v":0},{"$f":"AJ9/(AL4-AJ11)","v":0},{"$f":"IF(AK9=0,0,(AK9*((LOG(AK9))/LOG(2))))","v":0},null,121,{"$f":"COUNTIF(L70:L84,AN9)","v":0},{"$f":"AO9/(AQ4-AO11)","v":0},{"$f":"IF(AP9=0,0,(AP9*((LOG(AP9))/LOG(2))))","v":0},null,121,{"$f":"COUNTIF(L85:L100,AS9)","v":1},{"$f":"AT9/(AV4-AT11)","v":0.14285714285714285},{"$f":"IF(AU9=0,0,(AU9*((LOG(AU9))/LOG(2))))","v":-0.40105070315108626}]
[12,466,13,471,13,477,null,null,null,null,0,111,null,122,0,0,0,null,null,122,{"$f":"COUNTIF(L7:L22,T10)","v":0},{"$f":"U10/(W4-U11)","v":0},{"$f":"IF(V10=0,0,(V10*((LOG(V10))/LOG(2))))","v":0},null,122,{"$f":"COUNTIF(L23:L37,Y10)","v":0},{"$f":"Z10/(AB4-Z11)","v":0},{"$f":"IF(AA10=0,0,(AA10*((LOG(AA10))/LOG(2))))","v":0},null,122,{"$f":"COUNTIF(L38:L53,AD10)","v":0},{"$f":"AE10/(AG4-AE11)","v":0},{"$f":"IF(AF10=0,0,(AF10*((LOG(AF10))/LOG(2))))","v":0},null,122,{"$f":"COUNTIF(L54:L69,AI10)","v":0},{"$f":"AJ10/(AL4-AJ11)","v":0},{"$f":"IF(AK10=0,0,(AK10*((LOG(AK10))/LOG(2))))","v":0},null,122,{"$f":"COUNTIF(L70:L84,AN10)","v":0},{"$f":"AO10/(AQ4-AO11)","v":0},{"$f":"IF(AP10=0,0,(AP10*((LOG(AP10))/LOG(2))))","v":0},null,122,{"$f":"COUNTIF(L85:L100,AS10)","v":0},{"$f":"AT10/(AV4-AT11)","v":0},{"$f":"IF(AU10=0,0,(AU10*((LOG(AU10))/LOG(2))))","v":0}]
[21,574,11,582,11,602,null,null,null,null,0,211,null,211,40,0.42553191489361702,-0.52453649225118082,null,null,211,{"$f":"COUNTIF(L7:L22,T11)","v":5},null,null,null,211,{"$f":"COUNTIF(L23:L37,Y11)","v":6},null,null,null,211,{"$f":"COUNTIF(L38:L53,AD11)","v":7},null,null,null,211,{"$f":"COUNTIF(L54:L69,AI11)","v":5},null,null,null,211,{"$f":"COUNTIF(L70:L84,AN11)","v":8},null,null,null,211,{"$f":"COUNTIF(L85:L100,AS11)","v":9}]
[12,711,13,715,13,745,null,null,null,null,0,111,null,212,0,0,0,null,null,212,{"$f":"COUNTIF(L7:L22,T12)","v":0},{"$f":"U12/(W4-U11)","v":0},{"$f":"IF(V12=0,0,(V12*((LOG(V12))/LOG(2))))","v":0},null,212,{"$f":"COUNTIF(L23:L37,Y12)","v":0},{"$f":"Z12/(AB4-Z11)","v":0},{"$f":"IF(AA12=0,0,(AA12*((LOG(AA12))/LOG(2))))","v":0},null,212,{"$f":"COUNTIF(L38:L53,AD12)","v":0},{"$f":"AE12/(AG4-AE11)","v":0},{"$f":"IF(AF12=0,0,(AF12*((LOG(AF12))/LOG(2))))","v":0},null,212,{"$f":"COUNTIF(L54:L69,AI12)","v":0},{"$f":"AJ12/(AL4-AJ11)","v":0},{"$f":"IF(AK12=0,0,(AK12*((LOG(AK12))/LOG(2))))","v":0},null,212,{"$f":"COUNTIF(L70:L84,AN12)","v":0},{"$f":"AO12/(AQ4-AO11)","v":0},{"$f":"IF(AP12=0,0,(AP12*((LOG(AP12))/LOG(2))))","v":0},null,212,{"$f":"COUNTIF(L85:L100,AS12)","v":0},{"$f":"AT12/(AV4-AT11)","v":0},{"$f":"IF(AU12=0,0,(AU12*((LOG(AU12))/LOG(2))))","v":0}]
[21,844,22,848,13,871,null,null,null,null,0,221,null,221,16,0.1702127659574468,-0.43482363432810844,null,null,221,{"$f":"COUNTIF(L7:L22,T13)","v":3},{"$f":"U13/(W4-U11)","v":0.27272727272727271},{"$f":"IF(V13=0,0,(V13*((LOG(V13))/LOG(2))))","v":-0.51121885034076575},null,221,{"$f":"COUNTIF(L23:L37,Y13)","v":2},{"$f":"Z13/(AB4-Z11)","v":0.22222222222222221},{"$f":"IF(AA13=0,0,(AA13*((LOG(AA13))/LOG(2))))","v":-0.48220555587606945},null,221,{"$f":"COUNTIF(L38:L53,AD13)","v":2},{"$f":"AE13/(AG4-AE11)","v":0.22222222222222221},{"$f":"IF(AF13=0,0,(AF13*((LOG(AF13))/LOG(2))))","v":-0.48220555587606945},null,221,{"$f":"COUNTIF(L54:L69,AI13)","v":4},{"$f":"AJ13/(AL4-AJ11)","v":0.36363636363636365},{"$f":"IF(AK13=0,0,(AK13*((LOG(AK13))/LOG(2))))","v":-0.53070240677719893},null,221,{"$f":"COUNTIF(L70:L84,AN13)","v":1},{"$f":"AO13/(AQ4-AO11)","v":0.14285714285714285},{"$f":"IF(AP13=0,0,(AP13*((LOG(AP13))/LOG(2))))","v":-0.40105070315108626},null,221,{"$f":"COUNTIF(L85:L100,AS13)","v":4},{"$f":"AT13/(AV4-AT11)","v":0.5714285714285714},{"$f":"IF(AU13=0,0,(AU13*((LOG(AU13))/LOG(2))))","v":-0.46134566974720237}]
[21,1017,11,1033,11,1037,null,null,null,null,0,211,null,222,1,1.0638297872340425E-2,-6.9729668634868486E-2,null,null,222,{"$f":"COUNTIF(L7:L22,T14)","v":0},{"$f":"U14/(W4-U11)","v":0},{"$f":"IF(V14=0,0,(V14*((LOG(V14))/LOG(2))))","v":0},null,222,{"$f":"COUNTIF(L23:L37,Y14)","v":0},{"$f":"Z14/(AB4-Z11)","v":0},{"$f":"IF(AA14=0,0,(AA14*((LOG(AA14))/LOG(2))))","v":0},null,222,{"$f":"COUNTIF(L38:L53,AD14)","v":0},{"$f":"AE14/(AG4-AE11)","v":0},{"$f":"IF(AF14=0,0,(AF14*((LOG(AF14))/LOG(2))))","v":0},null,222,{"$f":"COUNTIF(L54:L69,AI14)","v":1},{"$f":"AJ14/(AL4-AJ11)","v":9.0909090909090912E-2},{"$f":"IF(AK14=0,0,(AK14*((LOG(AK14))/LOG(2))))","v":-0.31449378351248153},null,222,{"$f":"COUNTIF(L70:L84,AN14)","v":0},{"$f":"AO14/(AQ4-AO11)","v":0},{"$f":"IF(AP14=0,0,(AP14*((LOG(AP14))/LOG(2))))","v":0},null,222,{"$f":"COUNTIF(L85:L100,AS14)","v":0},{"$f":"AT14/(AV4-AT11)","v":0},{"$f":"IF(AU14=0,0,(AU14*((LOG(AU14))/LOG(2))))","v":0}]
[12,1165,13,1170,24,1191,null,null,null,null,0,112,null,null,null,{"$f":"SUM(P7:P14)","v":1},{"$f":"-SUM(Q7:Q14)","v":1.7476648048903392},null,null,null,null,{"$f":"SUM(V7:V14)","v":1},{"$f":"-SUM(W7:W14)","v":1.2406705316766884},null,null,null,{"$f":"SUM(AA7:AA14)","v":1},{"$f":"-SUM(AB7:AB14)","v":0.76420450650862026},null,null,null,{"$f":"SUM(AF7:AF14)","v":1},{"$f":"-SUM(AG7:AG14)","v":0.76420450650862026},null,null,null,{"$f":"SUM(AK7:AK14)","v":1},{"$f":"-SUM(AL7:AL14)","v":1.3221793455166664},null,null,null,{"$f":"SUM(AP7:AP14)","v":1},{"$f":"-SUM(AQ7:AQ14)","v":1.1488348542809166},null,null,null,{"$f":"SUM(AU7:AU14)","v":1},{"$f":"-SUM(AV7:AV14)","v":1.3787834934861753}]
[12,1295,13,1343,13,1370,null,null,null,null,0,111,null,null,null,"U=",{"$f":"Q15/(LOG(Q4)/LOG(2))","v":0.26663225481229491},null,null,null,null,"U1=",{"$f":"W15/(LOG(W4)/LOG(2))","v":0.3101676329191721},null,null,null,"U2=",{"$f":"AB15/(LOG(AB4)/LOG(2))","v":0.19560427603670621},null,null,null,"U3=",{"$f":"AG15/(LOG(AG4)/LOG(2))","v":0.19105112662715507},null,null,null,"U4=",{"$f":"AL15/(LOG(AL4)/LOG(2))","v":0.3305448363791666},null,null,null,"U5=",{"$f":"AQ15/(LOG(AQ4)/LOG(2))","v":0.29405350013441561},null,null,null,"U6=",{"$f":"AV15/(LOG(AV4)/LOG(2))","v":0.34469587337154384}]
[21,1468,22,1486,13,1500,null,null,null,null,0,221]
[21,1597,11,1616,11,1620,null,null,null,null,0,211]
[21,1715,22,1720,13,1753,null,null,null,null,0,221,null,"Total Target Seq"]
[21,1851,11,1861,11,1906,null,null,null,null,0,211,null,{"$f":"COUNTIF(L7:L100,G3)","v":40},null,16,15,16,16,15,16]
[12,2004,13,2032,13,2046,null,null,null,null,0,111,null,null,null,"% of reinforcement given in 6 equal intervals based on number of trials "]
[21,2144,11,2159,11,2182,null,null,null,null,0,211,null,null,null,"%_1","%_2","%_3","%_4","%_5","%_6"]
[21,2274,22,2280,13,2289,null,null,null,null,0,221,null,null,"target sequence",{"$f":"$G$3","v":211},211,211,211,211,211]
[21,2386,11,2394,11,2438,null,null,null,null,0,211,null,null,"total reinforcement",{"$f":"U11","v":5},{"$f":"Z11","v":6},{"$f":"AE11","v":7},{"$f":"AJ11","v":5},{"$f":"AO11","v":8},{"$f":"AT11","v":9}]
[12,2612,13,2617,13,2623,null,null,null,null,0,111,null,null,"% target"]
[12,2724,13,2730,13,2742,null,null,null,null,0,111,null,null,"CCRF"]
[12,2849,13,2856,13,2861,null,null,null,null,0,111,null,null,"% CCRf"]
[21,2958,11,2967,11,2973,null,null,null,null,0,211,null,null,"average response rate",{"$f":"F22/P20","v":136.375},{"$f":"(F37-F22)/Q20","v":128.53333333333333},{"$f":"(F53-F37)/R20","v":123.1875},{"$f":"(F69-F53)/S20","v":116.9375},{"$f":"(F84-F69)/T20","v":124.13333333333334},{"$f":"(F100-F84)/U20","v":124.625}]
[21,3064,11,3072,11,3077,null,null,null,null,0,211]
[12,3186,13,3190,13,3195,null,null,null,null,0,111]
[21,3292,11,3301,11,3306,null,null,null,null,0,211]
[21,3397,11,3407,11,3441,null,null,null,null,0,211]
[12,3540,13,3546,13,3566,null,null,null,null,0,111]
[21,3664,22,3669,13,3679,null,null,null,null,0,221]
[21,3772,11,3782,11,3804,null,null,null,null,0,211]
[12,3938,13,3975,13,3988,null,null,null,null,0,111]
[12,4100,13,4104,13,4110,null,null,null,null,0,111]
[12,4213,13,4217,13,4222,null,null,null,null,0,111]
[21,4322,11,4331,11,4335,null,null,null,null,0,211]
[21,4425,11,4432,11,4440,null,null,null,null,0,211]
[12,4541,13,4558,13,4611,null,null,null,null,0,111]
[12,4728,13,4733,13,4741,null,null,null,null,0,111]
[12,4847,13,4852,13,4862,null,null,null,null,0,111]
[21,4954,22,4960,13,4972,null,null,null,null,0,221]
[21,5068,22,5074,13,5083,null,null,null,null,0,221]
[21,5197,11,5225,11,5232,null,null,null,null,0,211]
[21,5324,11,5333,11,5338,null,null,null,null,0,211]
[21,5426,11,5434,11,5447,null,null,null,null,0,211]
[12,5562,13,5579,13,5589,null,null,null,null,0,111]
[21,5689,11,5703,11,5708,null,null,null,null,0,211]
[12,5819,13,5839,13,5852,null,null,null,null,0,111]
[21,5948,11,5956,11,5966,null,null,null,null,0,211]
[12,6065,13,6071,13,6081,null,null,null,null,0,111]
[21,6176,22,6183,13,6191,null,null,null,null,0,221]
[21,6288,11,6301,11,6309,null,null,null,null,0,211]
[12,6408,13,6416,13,6426,null,null,null,null,0,111]
[21,6526,22,6531,13,6539,null,null,null,null,0,221]
[12,6642,13,6647,13,6658,null,null,null,null,0,111]
[21,6755,22,6757,24,6763,null,null,null,null,0,222]
[21,6860,11,6868,11,6873,null,null,null,null,0,211]
[21,6976,11,6982,11,6989,null,null,null,null,0,211]
[12,7114,13,7119,13,7126,null,null,null,null,0,111]
[12,7231,13,7236,13,7244,null,null,null,null,0,111]
[21,7336,11,7344,11,7348,null,null,null,null,0,211]
[12,7449,13,7454,13,7470,null,null,null,null,0,111]
[21,7567,22,7575,13,7585,null,null,null,null,0,221]
[21,7682,22,7686,13,7695,null,null,null,null,0,221]
[12,7802,13,7807,13,7832,null,null,null,null,0,111]
[21,7929,11,7943,11,7952,null,null,null,null,0,211]
[12,8051,13,8075,13,8095,null,null,null,null,0,111]
[12,8196,13,8200,13,8207,null,null,null,null,0,111]
[21,8300,11,8311,11,8316,null,null,null,null,0,211]
[12,8413,13,8418,13,8432,null,null,null,null,0,111]
[21,8532,11,8546,11,8569,null,null,null,null,0,211]
[12,8667,13,8671,13,8681,null,null,null,null,0,111]
[12,8787,13,8793,13,8801,null,null,null,null,0,111]
[21,8894,11,8939,11,8958,null,null,null,null,0,211]
[21,9049,22,9054,13,9062,null,null,null,null,0,221]
[21,9161,11,9171,11,9202,null,null,null,null,0,211]
[21,9288,11,9301,11,9314,null,null,null,null,0,211]
[21,9405,11,9413,11,9461,null,null,null,null,0,211]
[21,9550,11,9559,11,9564,null,null,null,null,0,211]
[12,9671,13,9676,24,9697,null,null,null,null,0,112]
[21,9793,11,9807,11,9814,null,null,null,null,0,211]
[21,9901,11,9915,11,9949,null,null,null,null,0,211]
[21,10039,22,10044,13,10094,null,null,null,null,0,221]
[21,10191,22,10206,13,10214,null,null,null,null,0,221]
[21,10310,22,10315,13,10325,null,null,null,null,0,221]
[12,10451,24,10461,13,10482,null,null,null,null,0,121]
[21,10584,11,10593,11,10597,null,null,null,null,0,211]
[21,10690,11,10744,11,10759,null,null,null,null,0,211]
[21,10847,11,10857,11,10864,null,null,null,null,0,211]
[21,10951,22,10956,13,10966,null,null,null,null,0,221]
[21,11062,11,11070,11,11075,null,null,null,null,0,211]
[12,11175,13,11182,13,11206,null,null,null,null,0,111]
[21,11298,11,11310,11,11316,null,null,null,null,0,211]
[12,11414,13,11421,13,11435,null,null,null,null,0,111]
[21,11526,11,11538,11,11569,null,null,null,null,0,211]
[21,11656,11,11670,11,11682,null,null,null,null,0,211]
[21,11772,11,11791,11,11808,null,null,null,null,1,211]

{"sheet":"!N104B0I.sha","index":20,"n_rows":105,"n_cols":48,"rows_kept":105,"cut":false,"hidden":false,"merged":[[1,1,1,2],[5,13,5,14],[18,13,18,14],[19,13,19,14],[4,19,4,22],[5,19,5,20],[4,39,4,42],[5,39,5,40],[4,44,4,47],[5,44,5,45],[4,24,4,27],[5,24,5,25],[4,29,4,32],[5,29,5,30],[4,34,4,37],[5,34,5,35]]}
["Report for:!N104B0I.sha"]
["Date:","<date>"]
["Hen:","<hen>",null,null,null,"Correct Sequence",{"$f":"Start!J2","v":211},null,null,null,null,null,null,null,null,"Total Sequences in Data",{"$f":"4994-COUNTBLANK(L7:L5000)","v":99},null,null,null,null,"Total Sequences in Block Data",{"$f":"COUNTA(L7:L23)","v":17},null,null,null,"Total Sequences in Block Data",{"$f":"COUNTA(L24:L39)","v":16},null,null,null,"Total Sequences in Block Data",{"$f":"COUNTA(L40:L56)","v":17},null,null,null,"Total Sequences in Block Data",{"$f":"COUNTA(L57:L72)","v":16},null,null,null,"Total Sequences in Block Data",{"$f":"COUNTA(L73:L89)","v":17},null,null,null,"Total Sequences in Block Data",{"$f":"COUNTA(L90:L105)","v":16}]
[null,null,null,null,null,null,null,null,null,null,null,null,null,null,null,"Total Sequences in Summary",{"$f":"SUM(O7:O14)","v":99},null,null,null,null,"Total Sequences in Block Summary",{"$f":"SUM(U7:U14)","v":17},null,null,null,"Total Sequences in Block Summary",{"$f":"SUM(Z7:Z14)","v":16},null,null,null,"Total Sequences in Block Summary",{"$f":"SUM(AE7:AE14)","v":17},null,null,null,"Total Sequences in Block Summary",{"$f":"SUM(AJ7:AJ14)","v":16},null,null,null,"Total Sequences in Block Summary",{"$f":"SUM(AO7:AO14)","v":17},null,null,null,"Total Sequences in Block Summary",{"$f":"SUM(AT7:AT14)","v":16}]
[null,null,null,null,null,null,null,null,null,null,null,null,null,null,null,null,null,null,null,"Block 1",null,null,null,null,"Block 2",null,null,null,null,"Block 3",null,null,null,null,"Block 4",null,null,null,null,"Block 5",null,null,null,null,"Block 6"]
["Sequence\nComponent\n1","Time\n1","Sequence\nComponent\n2","Time\n2","Sequence\nComponent\n3","Time\n3","Sequence\nComponent\n4","Time\n4","Sequence\nComponent\n5","Time\n5","Correct?\n0=No 1=Yes","Sequence",null,"Frequency",null,"Relative Frequency","Variability",null,null,"Frequency",null,"Relative Frequency","Variability",null,"Frequency",null,"Relative Frequency","Variability",null,"Frequency",null,"Relative Frequency","Variability",null,"Frequency",null,"Relative Frequency","Variability",null,"Frequency",null,"Relative Frequency","Variability",null,"Frequency",null,"Relative Frequency","Variability"]
[12,12,13,20,13,25,null,null,null,null,0,111,null,111,{"$f":"COUNTIF($L$7:$L$500,N7)","v":30},{"$f":"O7/$Q$4","v":0.30303030303030304},{"$f":"IF(P7=0,0,(P7*((LOG(P7))/LOG(2))))","v":-0.52195940135487617},null,null,{"$f":"N7","v":111},{"$f":"COUNTIF(L7:L23,T7)","v":6},{"$f":"U7/(W4-U11)","v":0.5},{"$f":"IF(V7=0,0,(V7*((LOG(V7))/LOG(2))))","v":-0.5},null,{"$f":"N7","v":111},{"$f":"COUNTIF(L24:L39,Y7)","v":6},{"$f":"Z7/(AB4-Z11)","v":0.42857142857142855},{"$f":"IF(AA7=0,0,(AA7*((LOG(AA7))/LOG(2))))","v":-0.52388246628704915},null,{"$f":"N7","v":111},{"$f":"COUNTIF(L40:L56,AD7)","v":3},{"$f":"AE7/(AG4-AE11)","v":0.33333333333333331},{"$f":"IF(AF7=0,0,(AF7*((LOG(AF7))/LOG(2))))","v":-0.52832083357371862},null,{"$f":"N7","v":111},{"$f":"COUNTIF(L57:L72,AI7)","v":7},{"$f":"AJ7/(AL4-AJ11)","v":0.7},{"$f":"IF(AK7=0,0,(AK7*((LOG(AK7))/LOG(2))))","v":-0.36020122098083079},null,{"$f":"N7","v":111},{"$f":"COUNTIF(L73:L89,AN7)","v":4},{"$f":"AO7/(AQ4-AO11)","v":0.5},{"$f":"IF(AP7=0,0,(AP7*((LOG(AP7))/LOG(2))))","v":-0.5},null,{"$f":"N7","v":111},{"$f":"COUNTIF(L90:L105,AS7)","v":4},{"$f":"AT7/(AV4-AT11)","v":0.66666666666666663},{"$f":"IF(AU7=0,0,(AU7*((LOG(AU7))/LOG(2))))","v":-0.38997500048077083}]
[12,126,13,130,13,136,null,null,null,null,0,111,null,112,2,2.0202020202020204E-2,-0.11372437616322445,null,null,112,{"$f":"COUNTIF(L7:L23,T8)","v":1},{"$f":"U8/(W4-U11)","v":8.3333333333333329E-2},{"$f":"IF(V8=0,0,(V8*((LOG(V8))/LOG(2))))","v":-0.29874687506009634},null,112,{"$f":"COUNTIF(L24:L39,Y8)","v":1},{"$f":"Z8/(AB4-Z11)","v":7.1428571428571425E-2},{"$f":"IF(AA8=0,0,(AA8*((LOG(AA8))/LOG(2))))","v":-0.27195392300411453},null,112,{"$f":"COUNTIF(L40:L56,AD8)","v":0},{"$f":"AE8/(AG4-AE11)","v":0},{"$f":"IF(AF8=0,0,(AF8*((LOG(AF8))/LOG(2))))","v":0},null,112,{"$f":"COUNTIF(L57:L72,AI8)","v":0},{"$f":"AJ8/(AL4-AJ11)","v":0},{"$f":"IF(AK8=0,0,(AK8*((LOG(AK8))/LOG(2))))","v":0},null,112,{"$f":"COUNTIF(L73:L89,AN8)","v":0},{"$f":"AO8/(AQ4-AO11)","v":0},{"$f":"IF(AP8=0,0,(AP8*((LOG(AP8))/LOG(2))))","v":0},null,112,{"$f":"COUNTIF(L90:L105,AS8)","v":0},{"$f":"AT8/(AV4-AT11)","v":0},{"$f":"IF(AU8=0,0,(AU8*((LOG(AU8))/LOG(2))))","v":0}]
[12,243,13,247,13,254,null,null,null,null,0,111,null,121,0,0,0,null,null,121,{"$f":"COUNTIF(L7:L23,T9)","v":0},{"$f":"U9/(W4-U11)","v":0},{"$f":"IF(V9=0,0,(V9*((LOG(V9))/LOG(2))))","v":0},null,121,{"$f":"COUNTIF(L24:L39,Y9)","v":0},{"$f":"Z9/(AB4-Z11)","v":0},{"$f":"IF(AA9=0,0,(AA9*((LOG(AA9))/LOG(2))))","v":0},null,121,{"$f":"COUNTIF(L40:L56,AD9)","v":0},{"$f":"AE9/(AG4-AE11)","v":0},{"$f":"IF(AF9=0,0,(AF9*((LOG(AF9))/LOG(2))))","v":0},null,121,{"$f":"COUNTIF(L57:L72,AI9)","v":0},{"$f":"AJ9/(AL4-AJ11)","v":0},{"$f":"IF(AK9=0,0,(AK9*((LOG(AK9))/LOG(2))))","v":0},null,121,{"$f":"COUNTIF(L73:L89,AN9)","v":0},{"$f":"AO9/(AQ4-AO11)","v":0},{"$f":"IF(AP9=0,0,(AP9*((LOG(AP9))/LOG(2))))","v":0},null,121,{"$f":"COUNTIF(L90:L105,AS9)","v":0},{"$f":"AT9/(AV4-AT11)","v":0},{"$f":"IF(AU9=0,0,(AU9*((LOG(AU9))/LOG(2))))","v":0}]
[21,350,11,367,11,372,null,null,null,null,0,211,null,122,0,0,0,null,null,122,{"$f":"COUNTIF(L7:L23,T10)","v":0},{"$f":"U10/(W4-U11)","v":0},{"$f":"IF(V10=0,0,(V10*((LOG(V10))/LOG(2))))","v":0},null,122,{"$f":"COUNTIF(L24:L39,Y10)","v":0},{"$f":"Z10/(AB4-Z11)","v":0},{"$f":"IF(AA10=0,0,(AA10*((LOG(AA10))/LOG(2))))","v":0},null,122,{"$f":"COUNTIF(L40:L56,AD10)","v":0},{"$f":"AE10/(AG4-AE11)","v":0},{"$f":"IF(AF10=0,0,(AF10*((LOG(AF10))/LOG(2))))","v":0},null,122,{"$f":"COUNTIF(L57:L72,AI10)","v":0},{"$f":"AJ10/(AL4-AJ11)","v":0},{"$f":"IF(AK10=0,0,(AK10*((LOG(AK10))/LOG(2))))","v":0},null,122,{"$f":"COUNTIF(L73:L89,AN10)","v":0},{"$f":"AO10/(AQ4-AO11)","v":0},{"$f":"IF(AP10=0,0,(AP10*((LOG(AP10))/LOG(2))))","v":0},null,122,{"$f":"COUNTIF(L90:L105,AS10)","v":0},{"$f":"AT10/(AV4-AT11)","v":0},{"$f":"IF(AU10=0,0,(AU10*((LOG(AU10))/LOG(2))))","v":0}]
[21,459,22,462,13,478,null,null,null,null,0,221,null,211,40,0.40404040404040403,-0.52825394957262517,null,null,211,{"$f":"COUNTIF(L7:L23,T11)","v":5},null,null,null,211,{"$f":"COUNTIF(L24:L39,Y11)","v":2},null,null,null,211,{"$f":"COUNTIF(L40:L56,AD11)","v":8},null,null,null,211,{"$f":"COUNTIF(L57:L72,AI11)","v":6},null,null,null,211,{"$f":"COUNTIF(L73:L89,AN11)","v":9},null,null,null,211,{"$f":"COUNTIF(L90:L105,AS11)","v":10}]
[21,571,22,585,13,594,null,null,null,null,0,221,null,212,0,0,0,null,null,212,{"$f":"COUNTIF(L7:L23,T12)","v":0},{"$f":"U12/(W4-U11)","v":0},{"$f":"IF(V12=0,0,(V12*((LOG(V12))/LOG(2))))","v":0},null,212,{"$f":"COUNTIF(L24:L39,Y12)","v":0},{"$f":"Z12/(AB4-Z11)","v":0},{"$f":"IF(AA12=0,0,(AA12*((LOG(AA12))/LOG(2))))","v":0},null,212,{"$f":"COUNTIF(L40:L56,AD12)","v":0},{"$f":"AE12/(AG4-AE11)","v":0},{"$f":"IF(AF12=0,0,(AF12*((LOG(AF12))/LOG(2))))","v":0},null,212,{"$f":"COUNTIF(L57:L72,AI12)","v":0},{"$f":"AJ12/(AL4-AJ11)","v":0},{"$f":"IF(AK12=0,0,(AK12*((LOG(AK12))/LOG(2))))","v":0},null,212,{"$f":"COUNTIF(L73:L89,AN12)","v":0},{"$f":"AO12/(AQ4-AO11)","v":0},{"$f":"IF(AP12=0,0,(AP12*((LOG(AP12))/LOG(2))))","v":0},null,212,{"$f":"COUNTIF(L90:L105,AS12)","v":0},{"$f":"AT12/(AV4-AT11)","v":0},{"$f":"IF(AU12=0,0,(AU12*((LOG(AU12))/LOG(2))))","v":0}]
[12,697,13,709,24,721,null,null,null,null,0,112,null,221,23,0.23232323232323232,-0.48922502295474474,null,null,221,{"$f":"COUNTIF(L7:L23,T13)","v":5},{"$f":"U13/(W4-U11)","v":0.41666666666666669},{"$f":"IF(V13=0,0,(V13*((LOG(V13))/LOG(2))))","v":-0.52626433576408083},null,221,{"$f":"COUNTIF(L24:L39,Y13)","v":4},{"$f":"Z13/(AB4-Z11)","v":0.2857142857142857},{"$f":"IF(AA13=0,0,(AA13*((LOG(AA13))/LOG(2))))","v":-0.51638712058788683},null,221,{"$f":"COUNTIF(L40:L56,AD13)","v":6},{"$f":"AE13/(AG4-AE11)","v":0.66666666666666663},{"$f":"IF(AF13=0,0,(AF13*((LOG(AF13))/LOG(2))))","v":-0.38997500048077083},null,221,{"$f":"COUNTIF(L57:L72,AI13)","v":3},{"$f":"AJ13/(AL4-AJ11)","v":0.3},{"$f":"IF(AK13=0,0,(AK13*((LOG(AK13))/LOG(2))))","v":-0.52108967824986185},null,221,{"$f":"COUNTIF(L73:L89,AN13)","v":4},{"$f":"AO13/(AQ4-AO11)","v":0.5},{"$f":"IF(AP13=0,0,(AP13*((LOG(AP13))/LOG(2))))","v":-0.5},null,221,{"$f":"COUNTIF(L90:L105,AS13)","v":1},{"$f":"AT13/(AV4-AT11)","v":0.16666666666666666},{"$f":"IF(AU13=0,0,(AU13*((LOG(AU13))/LOG(2))))","v":-0.43082708345352599}]
[21,814,11,823,11,827,null,null,null,null,0,211,null,222,4,4.0404040404040407E-2,-0.18704471192240849,null,null,222,{"$f":"COUNTIF(L7:L23,T14)","v":0},{"$f":"U14/(W4-U11)","v":0},{"$f":"IF(V14=0,0,(V14*((LOG(V14))/LOG(2))))","v":0},null,222,{"$f":"COUNTIF(L24:L39,Y14)","v":3},{"$f":"Z14/(AB4-Z11)","v":0.21428571428571427},{"$f":"IF(AA14=0,0,(AA14*((LOG(AA14))/LOG(2))))","v":-0.47622694742923877},null,222,{"$f":"COUNTIF(L40:L56,AD14)","v":0},{"$f":"AE14/(AG4-AE11)","v":0},{"$f":"IF(AF14=0,0,(AF14*((LOG(AF14))/LOG(2))))","v":0},null,222,{"$f":"COUNTIF(L57:L72,AI14)","v":0},{"$f":"AJ14/(AL4-AJ11)","v":0},{"$f":"IF(AK14=0,0,(AK14*((LOG(AK14))/LOG(2))))","v":0},null,222,{"$f":"COUNTIF(L73:L89,AN14)","v":0},{"$f":"AO14/(AQ4-AO11)","v":0},{"$f":"IF(AP14=0,0,(AP14*((LOG(AP14))/LOG(2))))","v":0},null,222,{"$f":"COUNTIF(L90:L105,AS14)","v":1},{"$f":"AT14/(AV4-AT11)","v":0.16666666666666666},{"$f":"IF(AU14=0,0,(AU14*((LOG(AU14))/LOG(2))))","v":-0.43082708345352599}]
[12,927,13,930,13,944,null,null,null,null,0,111,null,null,null,{"$f":"SUM(P7:P14)","v":1},{"$f":"-SUM(Q7:Q14)","v":1.840207461967879},null,null,null,null,{"$f":"SUM(V7:V14)","v":1},{"$f":"-SUM(W7:W14)","v":1.3250112108241772},null,null,null,{"$f":"SUM(AA7:AA14)","v":1},{"$f":"-SUM(AB7:AB14)","v":1.7884504573082891},null,null,null,{"$f":"SUM(AF7:AF14)","v":1},{"$f":"-SUM(AG7:AG14)","v":0.91829583405448945},null,null,null,{"$f":"SUM(AK7:AK14)","v":1},{"$f":"-SUM(AL7:AL14)","v":0.8812908992306927},null,null,null,{"$f":"SUM(AP7:AP14)","v":1},{"$f":"-SUM(AQ7:AQ14)","v":1},null,null,null,{"$f":"SUM(AU7:AU14)","v":0.99999999999999989},{"$f":"-SUM(AV7:AV14)","v":1.2516291673878228}]
[21,1041,11,1055,11,1059,null,null,null,null,0,211,null,null,null,"U=",{"$f":"Q15/(LOG(Q4)/LOG(2))","v":0.27758462358082958},null,null,null,null,"U1=",{"$f":"W15/(LOG(W4)/LOG(2))","v":0.32416471104086203},null,null,null,"U2=",{"$f":"AB15/(LOG(AB4)/LOG(2))","v":0.44711261432707228},null,null,null,"U3=",{"$f":"AG15/(LOG(AG4)/LOG(2))","v":0.2246615736263394},null,null,null,"U4=",{"$f":"AL15/(LOG(AL4)/LOG(2))","v":0.22032272480767318},null,null,null,"U5=",{"$f":"AQ15/(LOG(AQ4)/LOG(2))","v":0.24465054211822604},null,null,null,"U6=",{"$f":"AV15/(LOG(AV4)/LOG(2))","v":0.3129072918469557}]
[21,1147,11,1164,11,1214,null,null,null,null,0,211]
[21,1304,11,1312,11,1320,null,null,null,null,0,211]
[12,1417,13,1485,13,1513,null,null,null,null,0,111,null,"Total Target Seq"]
[21,1611,22,1616,13,1663,null,null,null,null,0,221,null,{"$f":"COUNTIF(L7:L105,G3)","v":40},null,17,16,17,16,17,16]
[21,1758,22,1772,13,1783,null,null,null,null,0,221,null,null,null,"% of reinforcement given in 6 equal intervals based on number of trials "]
[21,1875,22,1888,13,1898,null,null,null,null,0,221,null,null,null,"%_1","%_2","%_3","%_4","%_5","%_6"]
[12,2020,13,2026,13,2069,null,null,null,null,0,111,null,null,"target sequence",{"$f":"$G$3","v":211},211,211,211,211,211]
[21,2167,22,2173,13,2182,null,null,null,null,0,221,null,null,"total reinforcement",{"$f":"U11","v":5},{"$f":"Z11","v":2},{"$f":"AE11","v":8},{"$f":"AJ11","v":6},{"$f":"AO11","v":9},{"$f":"AT11","v":10}]
[21,2279,22,2288,13,2297,null,null,null,null,0,221,null,null,"% target"]
[12,2412,13,2416,13,2474,null,null,null,null,0,111,null,null,"CCRF"]
[21,2571,22,2575,13,2587,null,null,null,null,0,221,null,null,"% CCRf"]
[12,2693,13,2697,13,2750,null,null,null,null,0,111,null,null,"average response rate",{"$f":"F23/P20","v":121.70588235294117},{"$f":"(F39-F23)/Q20","v":135.9375},{"$f":"(F56-F39)/R20","v":126.41176470588235},{"$f":"(F72-F56)/S20","v":122.1875},{"$f":"(F89-F72)/T20","v":122.52941176470588},{"$f":"(F105-F89)/U20","v":121.75}]
[21,2849,22,2854,24,2860,null,null,null,null,0,222]
[12,2965,13,2970,24,2985,null,null,null,null,0,112]
[12,3094,13,3117,13,3146,null,null,null,null,0,111]
[21,3311,11,3321,11,3335,null,null,null,null,0,211]
[12,3433,13,3453,13,3465,null,null,null,null,0,111]
[21,3564,22,3570,24,3577,null,null,null,null,0,222]
[21,3669,22,3676,13,3685,null,null,null,null,0,221]
[12,3802,13,3806,13,3846,null,null,null,null,0,111]
[21,3941,11,3950,11,3968,null,null,null,null,0,211]
[21,4059,22,4062,24,4067,null,null,null,null,0,222]
[12,4172,13,4211,13,4244,null,null,null,null,0,111]
[21,4344,11,4355,11,4361,null,null,null,null,0,211]
[21,4450,11,4464,11,4470,null,null,null,null,0,211]
[21,4563,11,4630,11,4642,null,null,null,null,0,211]
[21,4734,22,4746,13,4754,null,null,null,null,0,221]
[21,4852,22,4855,13,4864,null,null,null,null,0,221]
[21,4961,11,4976,11,4986,null,null,null,null,0,211]
[21,5076,22,5081,13,5095,null,null,null,null,0,221]
[21,5192,11,5208,11,5229,null,null,null,null,0,211]
[12,5330,13,5335,13,5374,null,null,null,null,0,111]
[21,5471,22,5476,13,5488,null,null,null,null,0,221]
[12,5590,13,5631,13,5643,null,null,null,null,0,111]
[21,5740,22,5746,13,5755,null,null,null,null,0,221]
[21,5850,11,5859,11,5870,null,null,null,null,0,211]
[12,5967,13,5984,13,6005,null,null,null,null,0,111]
[21,6102,22,6109,13,6151,null,null,null,null,0,221]
[21,6248,11,6259,11,6269,null,null,null,null,0,211]
[21,6359,11,6367,11,6393,null,null,null,null,0,211]
[12,6492,13,6500,13,6515,null,null,null,null,0,111]
[21,6612,11,6626,11,6655,null,null,null,null,0,211]
[21,6747,11,6756,11,6766,null,null,null,null,0,211]
[21,6856,11,6907,11,6928,null,null,null,null,0,211]
[21,7020,11,7028,11,7035,null,null,null,null,0,211]
[21,7122,22,7126,13,7139,null,null,null,null,0,221]
[21,7235,22,7238,13,7249,null,null,null,null,0,221]
[21,7348,22,7353,13,7361,null,null,null,null,0,221]
[12,7468,13,7475,13,7491,null,null,null,null,0,111]
[12,7594,13,7606,13,7625,null,null,null,null,0,111]
[12,7728,13,7732,13,7737,null,null,null,null,0,111]
[12,7839,13,7851,13,7864,null,null,null,null,0,111]
[12,7969,13,7976,13,7983,null,null,null,null,0,111]
[21,8080,11,8090,11,8095,null,null,null,null,0,211]
[12,8199,13,8206,13,8214,null,null,null,null,0,111]
[21,8311,11,8318,11,8348,null,null,null,null,0,211]
[21,8435,11,8449,11,8453,null,null,null,null,0,211]
[21,8545,11,8557,11,8593,null,null,null,null,0,211]
[21,8681,11,8694,11,8711,null,null,null,null,0,211]
[21,8801,11,8810,11,8847,null,null,null,null,0,211]
[21,8943,11,8956,11,8969,null,null,null,null,0,211]
[21,9058,22,9063,13,9072,null,null,null,null,0,221]
[21,9172,22,9181,13,9191,null,null,null,null,0,221]
[12,9295,13,9302,13,9310,null,null,null,null,0,111]
[21,9402,11,9412,11,9429,null,null,null,null,0,211]
[12,9536,13,9554,13,9594,null,null,null,null,0,111]
[21,9692,11,9704,11,9723,null,null,null,null,0,211]
[12,9826,13,9832,13,9838,null,null,null,null,0,111]
[21,9932,22,9938,13,9948,null,null,null,null,0,221]
[21,10040,11,10049,11,10055,null,null,null,null,0,211]
[21,10153,11,10161,11,10169,null,null,null,null,0,211]
[12,10267,13,10297,13,10311,null,null,null,null,0,111]
[21,10410,22,10418,13,10431,null,null,null,null,0,221]
[21,10526,11,10534,11,10559,null,null,null,null,0,211]
[21,10651,11,10661,11,10666,null,null,null,null,0,211]
[12,10768,13,10773,13,10813,null,null,null,null,0,111]
[21,10908,11,10917,11,10928,null,null,null,null,0,211]
[21,11014,22,11016,24,11021,null,null,null,null,0,222]
[12,11125,13,11129,13,11140,null,null,null,null,0,111]
[12,11244,13,11248,13,11259,null,null,null,null,0,111]
[21,11359,22,11362,13,11370,null,null,null,null,0,221]
[21,11463,11,11476,11,11493,null,null,null,null,0,211]
[21,11583,11,11596,11,11604,null,null,null,null,0,211]
[21,11692,11,11706,11,11711,null,null,null,null,0,211]
[21,11801,11,11809,11,11852,null,null,null,null,0,211]
[21,11942,11,11951,11,11993,null,null,null,null,0,211]
[21,12091,11,12100,11,12106,null,null,null,null,0,211]
[12,12208,13,12250,13,12270,null,null,null,null,0,111]
[21,12365,11,12374,11,12379,null,null,null,null,1,211]

{"sheet":"!N10583I.sha","index":21,"n_rows":114,"n_cols":48,"rows_kept":114,"cut":false,"hidden":false,"merged":[[1,1,1,2],[5,13,5,14],[18,13,18,14],[19,13,19,14],[4,19,4,22],[5,19,5,20],[4,39,4,42],[5,39,5,40],[4,44,4,47],[5,44,5,45],[4,24,4,27],[5,24,5,25],[4,29,4,32],[5,29,5,30],[4,34,4,37],[5,34,5,35]]}
["Report for:!N10583I.sha"]
["Date:","<date>"]
["Hen:","<hen>",null,null,null,"Correct Sequence",{"$f":"Start!J2","v":211},null,null,null,null,null,null,null,null,"Total Sequences in Data",{"$f":"4994-COUNTBLANK(L7:L5000)","v":108},null,null,null,null,"Total Sequences in Block Data",{"$f":"COUNTA(L7:L24)","v":18},null,null,null,"Total Sequences in Block Data",{"$f":"COUNTA(L25:L42)","v":18},null,null,null,"Total Sequences in Block Data",{"$f":"COUNTA(L43:L60)","v":18},null,null,null,"Total Sequences in Block Data",{"$f":"COUNTA(L61:L78)","v":18},null,null,null,"Total Sequences in Block Data",{"$f":"COUNTA(L79:L96)","v":18},null,null,null,"Total Sequences in Block Data",{"$f":"COUNTA(L97:L114)","v":18}]
[null,null,null,null,null,null,null,null,null,null,null,null,null,null,null,"Total Sequences in Summary",{"$f":"SUM(O7:O14)","v":108},null,null,null,null,"Total Sequences in Block Summary",{"$f":"SUM(U7:U14)","v":18},null,null,null,"Total Sequences in Block Summary",{"$f":"SUM(Z7:Z14)","v":18},null,null,null,"Total Sequences in Block Summary",{"$f":"SUM(AE7:AE14)","v":18},null,null,null,"Total Sequences in Block Summary",{"$f":"SUM(AJ7:AJ14)","v":18},null,null,null,"Total Sequences in Block Summary",{"$f":"SUM(AO7:AO14)","v":18},null,null,null,"Total Sequences in Block Summary",{"$f":"SUM(AT7:AT14)","v":18}]
[null,null,null,null,null,null,null,null,null,null,null,null,null,null,null,null,null,null,null,"Block 1",null,null,null,null,"Block 2",null,null,null,null,"Block 3",null,null,null,null,"Block 4",null,null,null,null,"Block 5",null,null,null,null,"Block 6"]
["Sequence\nComponent\n1","Time\n1","Sequence\nComponent\n2","Time\n2","Sequence\nComponent\n3","Time\n3","Sequence\nComponent\n4","Time\n4","Sequence\nComponent\n5","Time\n5","Correct?\n0=No 1=Yes","Sequence",null,"Frequency",null,"Relative Frequency","Variability",null,null,"Frequency",null,"Relative Frequency","Variability",null,"Frequency",null,"Relative Frequency","Variability",null,"Frequency",null,"Relative Frequency","Variability",null,"Frequency",null,"Relative Frequency","Variability",null,"Frequency",null,"Relative Frequency","Variability",null,"Frequency",null,"Relative Frequency","Variability"]
[12,121,13,126,13,132,null,null,null,null,0,111,null,111,{"$f":"COUNTIF($L$7:$L$500,N7)","v":42},{"$f":"O7/$Q$4","v":0.3888888888888889},{"$f":"IF(P7=0,0,(P7*((LOG(P7))/LOG(2))))","v":-0.52988836420516428},null,null,{"$f":"N7","v":111},{"$f":"COUNTIF(L7:L24,T7)","v":7},{"$f":"U7/(W4-U11)","v":0.875},{"$f":"IF(V7=0,0,(V7*((LOG(V7))/LOG(2))))","v":-0.1685644431995964},null,{"$f":"N7","v":111},{"$f":"COUNTIF(L25:L42,Y7)","v":5},{"$f":"Z7/(AB4-Z11)","v":0.38461538461538464},{"$f":"IF(AA7=0,0,(AA7*((LOG(AA7))/LOG(2))))","v":-0.53019677817451139},null,{"$f":"N7","v":111},{"$f":"COUNTIF(L43:L60,AD7)","v":6},{"$f":"AE7/(AG4-AE11)","v":0.6},{"$f":"IF(AF7=0,0,(AF7*((LOG(AF7))/LOG(2))))","v":-0.44217935649972373},null,{"$f":"N7","v":111},{"$f":"COUNTIF(L61:L78,AI7)","v":9},{"$f":"AJ7/(AL4-AJ11)","v":0.69230769230769229},{"$f":"IF(AK7=0,0,(AK7*((LOG(AK7))/LOG(2))))","v":-0.36727941925300139},null,{"$f":"N7","v":111},{"$f":"COUNTIF(L79:L96,AN7)","v":8},{"$f":"AO7/(AQ4-AO11)","v":0.66666666666666663},{"$f":"IF(AP7=0,0,(AP7*((LOG(AP7))/LOG(2))))","v":-0.38997500048077083},null,{"$f":"N7","v":111},{"$f":"COUNTIF(L97:L114,AS7)","v":7},{"$f":"AT7/(AV4-AT11)","v":0.58333333333333337},{"$f":"IF(AU7=0,0,(AU7*((LOG(AU7))/LOG(2))))","v":-0.45360442088707198}]
[12,228,13,233,13,240,null,null,null,null,0,111,null,112,2,1.8518518518518517E-2,-0.10657199078080498,null,null,112,{"$f":"COUNTIF(L7:L24,T8)","v":0},{"$f":"U8/(W4-U11)","v":0},{"$f":"IF(V8=0,0,(V8*((LOG(V8))/LOG(2))))","v":0},null,112,{"$f":"COUNTIF(L25:L42,Y8)","v":0},{"$f":"Z8/(AB4-Z11)","v":0},{"$f":"IF(AA8=0,0,(AA8*((LOG(AA8))/LOG(2))))","v":0},null,112,{"$f":"COUNTIF(L43:L60,AD8)","v":0},{"$f":"AE8/(AG4-AE11)","v":0},{"$f":"IF(AF8=0,0,(AF8*((LOG(AF8))/LOG(2))))","v":0},null,112,{"$f":"COUNTIF(L61:L78,AI8)","v":0},{"$f":"AJ8/(AL4-AJ11)","v":0},{"$f":"IF(AK8=0,0,(AK8*((LOG(AK8))/LOG(2))))","v":0},null,112,{"$f":"COUNTIF(L79:L96,AN8)","v":1},{"$f":"AO8/(AQ4-AO11)","v":8.3333333333333329E-2},{"$f":"IF(AP8=0,0,(AP8*((LOG(AP8))/LOG(2))))","v":-0.29874687506009634},null,112,{"$f":"COUNTIF(L97:L114,AS8)","v":1},{"$f":"AT8/(AV4-AT11)","v":8.3333333333333329E-2},{"$f":"IF(AU8=0,0,(AU8*((LOG(AU8))/LOG(2))))","v":-0.29874687506009634}]
[12,333,13,349,13,358,null,null,null,null,0,111,null,121,0,0,0,null,null,121,{"$f":"COUNTIF(L7:L24,T9)","v":0},{"$f":"U9/(W4-U11)","v":0},{"$f":"IF(V9=0,0,(V9*((LOG(V9))/LOG(2))))","v":0},null,121,{"$f":"COUNTIF(L25:L42,Y9)","v":0},{"$f":"Z9/(AB4-Z11)","v":0},{"$f":"IF(AA9=0,0,(AA9*((LOG(AA9))/LOG(2))))","v":0},null,121,{"$f":"COUNTIF(L43:L60,AD9)","v":0},{"$f":"AE9/(AG4-AE11)","v":0},{"$f":"IF(AF9=0,0,(AF9*((LOG(AF9))/LOG(2))))","v":0},null,121,{"$f":"COUNTIF(L61:L78,AI9)","v":0},{"$f":"AJ9/(AL4-AJ11)","v":0},{"$f":"IF(AK9=0,0,(AK9*((LOG(AK9))/LOG(2))))","v":0},null,121,{"$f":"COUNTIF(L79:L96,AN9)","v":0},{"$f":"AO9/(AQ4-AO11)","v":0},{"$f":"IF(AP9=0,0,(AP9*((LOG(AP9))/LOG(2))))","v":0},null,121,{"$f":"COUNTIF(L97:L114,AS9)","v":0},{"$f":"AT9/(AV4-AT11)","v":0},{"$f":"IF(AU9=0,0,(AU9*((LOG(AU9))/LOG(2))))","v":0}]
[21,457,22,465,13,493,null,null,null,null,0,221,null,122,0,0,0,null,null,122,{"$f":"COUNTIF(L7:L24,T10)","v":0},{"$f":"U10/(W4-U11)","v":0},{"$f":"IF(V10=0,0,(V10*((LOG(V10))/LOG(2))))","v":0},null,122,{"$f":"COUNTIF(L25:L42,Y10)","v":0},{"$f":"Z10/(AB4-Z11)","v":0},{"$f":"IF(AA10=0,0,(AA10*((LOG(AA10))/LOG(2))))","v":0},null,122,{"$f":"COUNTIF(L43:L60,AD10)","v":0},{"$f":"AE10/(AG4-AE11)","v":0},{"$f":"IF(AF10=0,0,(AF10*((LOG(AF10))/LOG(2))))","v":0},null,122,{"$f":"COUNTIF(L61:L78,AI10)","v":0},{"$f":"AJ10/(AL4-AJ11)","v":0},{"$f":"IF(AK10=0,0,(AK10*((LOG(AK10))/LOG(2))))","v":0},null,122,{"$f":"COUNTIF(L79:L96,AN10)","v":0},{"$f":"AO10/(AQ4-AO11)","v":0},{"$f":"IF(AP10=0,0,(AP10*((LOG(AP10))/LOG(2))))","v":0},null,122,{"$f":"COUNTIF(L97:L114,AS10)","v":0},{"$f":"AT10/(AV4-AT11)","v":0},{"$f":"IF(AU10=0,0,(AU10*((LOG(AU10))/LOG(2))))","v":0}]
[21,631,11,644,11,649,null,null,null,null,0,211,null,211,40,0.37037037037037035,-0.53072570639855787,null,null,211,{"$f":"COUNTIF(L7:L24,T11)","v":10},null,null,null,211,{"$f":"COUNTIF(L25:L42,Y11)","v":5},null,null,null,211,{"$f":"COUNTIF(L43:L60,AD11)","v":8},null,null,null,211,{"$f":"COUNTIF(L61:L78,AI11)","v":5},null,null,null,211,{"$f":"COUNTIF(L79:L96,AN11)","v":6},null,null,null,211,{"$f":"COUNTIF(L97:L114,AS11)","v":6}]
[12,781,13,786,13,791,null,null,null,null,0,111,null,212,0,0,0,null,null,212,{"$f":"COUNTIF(L7:L24,T12)","v":0},{"$f":"U12/(W4-U11)","v":0},{"$f":"IF(V12=0,0,(V12*((LOG(V12))/LOG(2))))","v":0},null,212,{"$f":"COUNTIF(L25:L42,Y12)","v":0},{"$f":"Z12/(AB4-Z11)","v":0},{"$f":"IF(AA12=0,0,(AA12*((LOG(AA12))/LOG(2))))","v":0},null,212,{"$f":"COUNTIF(L43:L60,AD12)","v":0},{"$f":"AE12/(AG4-AE11)","v":0},{"$f":"IF(AF12=0,0,(AF12*((LOG(AF12))/LOG(2))))","v":0},null,212,{"$f":"COUNTIF(L61:L78,AI12)","v":0},{"$f":"AJ12/(AL4-AJ11)","v":0},{"$f":"IF(AK12=0,0,(AK12*((LOG(AK12))/LOG(2))))","v":0},null,212,{"$f":"COUNTIF(L79:L96,AN12)","v":0},{"$f":"AO12/(AQ4-AO11)","v":0},{"$f":"IF(AP12=0,0,(AP12*((LOG(AP12))/LOG(2))))","v":0},null,212,{"$f":"COUNTIF(L97:L114,AS12)","v":0},{"$f":"AT12/(AV4-AT11)","v":0},{"$f":"IF(AU12=0,0,(AU12*((LOG(AU12))/LOG(2))))","v":0}]
[21,886,11,895,11,950,null,null,null,null,0,211,null,221,23,0.21296296296296297,-0.47518969963378221,null,null,221,{"$f":"COUNTIF(L7:L24,T13)","v":1},{"$f":"U13/(W4-U11)","v":0.125},{"$f":"IF(V13=0,0,(V13*((LOG(V13))/LOG(2))))","v":-0.375},null,221,{"$f":"COUNTIF(L25:L42,Y13)","v":7},{"$f":"Z13/(AB4-Z11)","v":0.53846153846153844},{"$f":"IF(AA13=0,0,(AA13*((LOG(AA13))/LOG(2))))","v":-0.48089181327572433},null,221,{"$f":"COUNTIF(L43:L60,AD13)","v":4},{"$f":"AE13/(AG4-AE11)","v":0.4},{"$f":"IF(AF13=0,0,(AF13*((LOG(AF13))/LOG(2))))","v":-0.52877123795494496},null,221,{"$f":"COUNTIF(L61:L78,AI13)","v":4},{"$f":"AJ13/(AL4-AJ11)","v":0.30769230769230771},{"$f":"IF(AK13=0,0,(AK13*((LOG(AK13))/LOG(2))))","v":-0.52321222096648989},null,221,{"$f":"COUNTIF(L79:L96,AN13)","v":3},{"$f":"AO13/(AQ4-AO11)","v":0.25},{"$f":"IF(AP13=0,0,(AP13*((LOG(AP13))/LOG(2))))","v":-0.5},null,221,{"$f":"COUNTIF(L97:L114,AS13)","v":4},{"$f":"AT13/(AV4-AT11)","v":0.33333333333333331},{"$f":"IF(AU13=0,0,(AU13*((LOG(AU13))/LOG(2))))","v":-0.52832083357371862}]
[21,1039,11,1049,11,1054,null,null,null,null,0,211,null,222,1,9.2592592592592587E-3,-6.254525464966175E-2,null,null,222,{"$f":"COUNTIF(L7:L24,T14)","v":0},{"$f":"U14/(W4-U11)","v":0},{"$f":"IF(V14=0,0,(V14*((LOG(V14))/LOG(2))))","v":0},null,222,{"$f":"COUNTIF(L25:L42,Y14)","v":1},{"$f":"Z14/(AB4-Z11)","v":7.6923076923076927E-2},{"$f":"IF(AA14=0,0,(AA14*((LOG(AA14))/LOG(2))))","v":-0.28464920908777636},null,222,{"$f":"COUNTIF(L43:L60,AD14)","v":0},{"$f":"AE14/(AG4-AE11)","v":0},{"$f":"IF(AF14=0,0,(AF14*((LOG(AF14))/LOG(2))))","v":0},null,222,{"$f":"COUNTIF(L61:L78,AI14)","v":0},{"$f":"AJ14/(AL4-AJ11)","v":0},{"$f":"IF(AK14=0,0,(AK14*((LOG(AK14))/LOG(2))))","v":0},null,222,{"$f":"COUNTIF(L79:L96,AN14)","v":0},{"$f":"AO14/(AQ4-AO11)","v":0},{"$f":"IF(AP14=0,0,(AP14*((LOG(AP14))/LOG(2))))","v":0},null,222,{"$f":"COUNTIF(L97:L114,AS14)","v":0},{"$f":"AT14/(AV4-AT11)","v":0},{"$f":"IF(AU14=0,0,(AU14*((LOG(AU14))/LOG(2))))","v":0}]
[21,1140,11,1155,11,1165,null,null,null,null,0,211,null,null,null,{"$f":"SUM(P7:P14)","v":1},{"$f":"-SUM(Q7:Q14)","v":1.7049210156679713},null,null,null,null,{"$f":"SUM(V7:V14)","v":1},{"$f":"-SUM(W7:W14)","v":0.5435644431995964},null,null,null,{"$f":"SUM(AA7:AA14)","v":1},{"$f":"-SUM(AB7:AB14)","v":1.295737800538012},null,null,null,{"$f":"SUM(AF7:AF14)","v":1},{"$f":"-SUM(AG7:AG14)","v":0.97095059445466869},null,null,null,{"$f":"SUM(AK7:AK14)","v":1},{"$f":"-SUM(AL7:AL14)","v":0.89049164021949134},null,null,null,{"$f":"SUM(AP7:AP14)","v":1},{"$f":"-SUM(AQ7:AQ14)","v":1.1887218755408671},null,null,null,{"$f":"SUM(AU7:AU14)","v":1},{"$f":"-SUM(AV7:AV14)","v":1.2806721295208869}]
[21,1252,11,1267,11,1320,null,null,null,null,0,211,null,null,null,"U=",{"$f":"Q15/(LOG(Q4)/LOG(2))","v":0.25239813618241841},null,null,null,null,"U1=",{"$f":"W15/(LOG(W4)/LOG(2))","v":0.13035352986242821},null,null,null,"U2=",{"$f":"AB15/(LOG(AB4)/LOG(2))","v":0.31073407797258618},null,null,null,"U3=",{"$f":"AG15/(LOG(AG4)/LOG(2))","v":0.23284605697196761},null,null,null,"U4=",{"$f":"AL15/(LOG(AL4)/LOG(2))","v":0.2135509966993373},null,null,null,"U5=",{"$f":"AQ15/(LOG(AQ4)/LOG(2))","v":0.28507032503695068},null,null,null,"U6=",{"$f":"AV15/(LOG(AV4)/LOG(2))","v":0.30712114224546544}]
[12,1425,13,1432,13,1449,null,null,null,null,0,111]
[21,1547,11,1564,11,1600,null,null,null,null,0,211]
[21,1690,11,1699,11,1709,null,null,null,null,0,211,null,"Total Target Seq"]
[21,1797,11,1813,11,1825,null,null,null,null,0,211,null,{"$f":"COUNTIF(L7:L114,G3)","v":40},null,18,18,18,18,18,18]
[12,1927,13,1936,13,1957,null,null,null,null,0,111,null,null,null,"% of reinforcement given in 6 equal intervals based on number of trials "]
[21,2053,11,2062,11,2087,null,null,null,null,0,211,null,null,null,"%_1","%_2","%_3","%_4","%_5","%_6"]
[21,2177,11,2186,11,2189,null,null,null,null,0,211,null,null,"target sequence",{"$f":"$G$3","v":211},211,211,211,211,211]
[12,2305,13,2318,13,2338,null,null,null,null,0,111,null,null,"total reinforcement",{"$f":"U11","v":10},{"$f":"Z11","v":5},{"$f":"AE11","v":8},{"$f":"AJ11","v":5},{"$f":"AO11","v":6},{"$f":"AT11","v":6}]
[21,2446,11,2454,11,2459,null,null,null,null,0,211,null,null,"% target"]
[21,2553,11,2571,11,2579,null,null,null,null,0,211,null,null,"CCRF"]
[21,2672,22,2680,13,2689,null,null,null,null,0,221,null,null,"% CCRf"]
[21,2784,22,2791,13,2799,null,null,null,null,0,221,null,null,"average response rate",{"$f":"F24/P20","v":129.88888888888889},{"$f":"(F42-F24)/Q20","v":121.38888888888889},{"$f":"(F60-F42)/R20","v":123.44444444444444},{"$f":"(F78-F60)/S20","v":129},{"$f":"(F96-F78)/T20","v":125.72222222222223},{"$f":"(F114-F96)/U20","v":124.61111111111111}]
[21,2896,22,2902,13,2917,null,null,null,null,0,221]
[12,3068,13,3073,13,3081,null,null,null,null,0,111]
[21,3177,22,3182,13,3190,null,null,null,null,0,221]
[21,3323,11,3335,11,3340,null,null,null,null,0,211]
[12,3437,13,3446,13,3457,null,null,null,null,0,111]
[21,3553,22,3559,13,3579,null,null,null,null,0,221]
[12,3685,13,3690,13,3706,null,null,null,null,0,111]
[21,3797,11,3816,11,3821,null,null,null,null,0,211]
[21,3921,22,3926,13,3936,null,null,null,null,0,221]
[21,4033,22,4042,24,4051,null,null,null,null,0,222]
[21,4146,11,4158,11,4162,null,null,null,null,0,211]
[12,4267,13,4271,13,4280,null,null,null,null,0,111]
[12,4402,13,4406,13,4413,null,null,null,null,0,111]
[21,4509,22,4514,13,4523,null,null,null,null,0,221]
[21,4621,22,4630,13,4639,null,null,null,null,0,221]
[12,4756,13,4760,13,4767,null,null,null,null,0,111]
[21,4866,11,4875,11,4885,null,null,null,null,0,211]
[21,4973,11,4981,11,4986,null,null,null,null,0,211]
[12,5094,13,5108,13,5123,null,null,null,null,0,111]
[21,5221,22,5236,13,5246,null,null,null,null,0,221]
[21,5361,11,5369,11,5376,null,null,null,null,0,211]
[21,5465,11,5481,11,5496,null,null,null,null,0,211]
[21,5583,11,5603,11,5609,null,null,null,null,0,211]
[21,5702,11,5716,11,5730,null,null,null,null,0,211]
[12,5841,13,5854,13,5878,null,null,null,null,0,111]
[21,5982,11,5998,11,6005,null,null,null,null,0,211]
[12,6103,13,6125,13,6144,null,null,null,null,0,111]
[21,6240,22,6246,13,6257,null,null,null,null,0,221]
[21,6353,11,6362,11,6375,null,null,null,null,0,211]
[12,6477,13,6496,13,6515,null,null,null,null,0,111]
[21,6607,22,6616,13,6625,null,null,null,null,0,221]
[12,6733,13,6739,13,6745,null,null,null,null,0,111]
[12,6854,13,6863,13,6874,null,null,null,null,0,111]
[12,6985,13,6989,13,6999,null,null,null,null,0,111]
[21,7096,22,7100,13,7109,null,null,null,null,0,221]
[12,7228,13,7241,13,7250,null,null,null,null,0,111]
[12,7411,13,7435,13,7460,null,null,null,null,0,111]
[12,7562,13,7566,13,7580,null,null,null,null,0,111]
[21,7678,11,7698,11,7704,null,null,null,null,0,211]
[21,7801,11,7808,11,7813,null,null,null,null,0,211]
[21,7902,11,7915,11,7919,null,null,null,null,0,211]
[21,8006,22,8013,13,8022,null,null,null,null,0,221]
[12,8133,13,8138,13,8151,null,null,null,null,0,111]
[12,8276,13,8280,13,8291,null,null,null,null,0,111]
[12,8426,13,8441,13,8452,null,null,null,null,0,111]
[21,8549,22,8556,13,8569,null,null,null,null,0,221]
[21,8665,11,8681,11,8691,null,null,null,null,0,211]
[12,8792,13,8805,13,8824,null,null,null,null,0,111]
[21,8922,22,8927,13,8936,null,null,null,null,0,221]
[21,9032,11,9047,11,9067,null,null,null,null,0,211]
[21,9157,11,9166,11,9178,null,null,null,null,0,211]
[12,9279,13,9285,13,9300,null,null,null,null,0,111]
[21,9396,22,9401,13,9412,null,null,null,null,0,221]
[12,9516,13,9557,13,9577,null,null,null,null,0,111]
[21,9672,11,9683,11,9693,null,null,null,null,0,211]
[21,9783,22,9789,13,9797,null,null,null,null,0,221]
[21,9896,22,9901,13,9913,null,null,null,null,0,221]
[12,10018,13,10037,13,10052,null,null,null,null,0,111]
[21,10181,11,10190,11,10197,null,null,null,null,0,211]
[21,10287,11,10299,11,10314,null,null,null,null,0,211]
[12,10414,13,10433,13,10450,null,null,null,null,0,111]
[12,10569,13,10574,24,10590,null,null,null,null,0,112]
[21,10692,11,10700,11,10707,null,null,null,null,0,211]
[12,10808,13,10830,13,10842,null,null,null,null,0,111]
[21,10934,11,10949,11,10955,null,null,null,null,0,211]
[12,11054,13,11061,13,11078,null,null,null,null,0,111]
[12,11186,13,11190,13,11205,null,null,null,null,0,111]
[12,11309,13,11318,13,11330,null,null,null,null,0,111]
[12,11431,13,11436,13,11457,null,null,null,null,0,111]
[21,11549,22,11556,13,11566,null,null,null,null,0,221]
[12,11674,13,11692,13,11707,null,null,null,null,0,111]
[21,11799,11,11810,11,11815,null,null,null,null,0,211]
[12,11916,13,11921,13,11932,null,null,null,null,0,111]
[21,12026,11,12042,11,12076,null,null,null,null,0,211]
[12,12198,13,12205,13,12219,null,null,null,null,0,111]
[21,12318,11,12327,11,12332,null,null,null,null,0,211]
[12,12431,13,12441,13,12454,null,null,null,null,0,111]
[21,12550,22,12556,13,12564,null,null,null,null,0,221]
[21,12662,11,12671,11,12697,null,null,null,null,0,211]
[21,12787,22,12793,13,12801,null,null,null,null,0,221]
[12,12955,13,12961,13,12968,null,null,null,null,0,111]
[21,13061,11,13069,11,13073,null,null,null,null,0,211]
[21,13160,22,13165,13,13174,null,null,null,null,0,221]
[12,13285,13,13307,24,13321,null,null,null,null,0,112]
[12,13430,13,13435,13,13447,null,null,null,null,0,111]
[21,13542,11,13556,11,13573,null,null,null,null,1,211]

{"sheet":"!N10690I.sha","index":22,"n_rows":86,"n_cols":48,"rows_kept":86,"cut":false,"hidden":false,"merged":[[1,1,1,2],[5,13,5,14],[18,13,18,14],[19,13,19,14],[4,19,4,22],[5,19,5,20],[4,39,4,42],[5,39,5,40],[4,44,4,47],[5,44,5,45],[4,24,4,27],[5,24,5,25],[4,29,4,32],[5,29,5,30],[4,34,4,37],[5,34,5,35]]}
["Report for:!N10690I.sha"]
["Date:","<date>"]
["Hen:","<hen>",null,null,null,"Correct Sequence",{"$f":"Start!J2","v":211},null,null,null,null,null,null,null,null,"Total Sequences in Data",{"$f":"4994-COUNTBLANK(L7:L5000)","v":80},null,null,null,null,"Total Sequences in Block Data",{"$f":"COUNTA(L7:L19)","v":13},null,null,null,"Total Sequences in Block Data",{"$f":"COUNTA(L20:L33)","v":14},null,null,null,"Total Sequences in Block Data",{"$f":"COUNTA(L34:L46)","v":13},null,null,null,"Total Sequences in Block Data",{"$f":"COUNTA(L47:L59)","v":13},null,null,null,"Total Sequences in Block Data",{"$f":"COUNTA(L60:L73)","v":14},null,null,null,"Total Sequences in Block Data",{"$f":"COUNTA(L74:L86)","v":13}]
[null,null,null,null,null,null,null,null,null,null,null,null,null,null,null,"Total Sequences in Summary",{"$f":"SUM(O7:O14)","v":80},null,null,null,null,"Total Sequences in Block Summary",{"$f":"SUM(U7:U14)","v":13},null,null,null,"Total Sequences in Block Summary",{"$f":"SUM(Z7:Z14)","v":14},null,null,null,"Total Sequences in Block Summary",{"$f":"SUM(AE7:AE14)","v":13},null,null,null,"Total Sequences in Block Summary",{"$f":"SUM(AJ7:AJ14)","v":13},null,null,null,"Total Sequences in Block Summary",{"$f":"SUM(AO7:AO14)","v":14},null,null,null,"Total Sequences in Block Summary",{"$f":"SUM(AT7:AT14)","v":13}]
[null,null,null,null,null,null,null,null,null,null,null,null,null,null,null,null,null,null,null,"Block 1",null,null,null,null,"Block 2",null,null,null,null,"Block 3",null,null,null,null,"Block 4",null,null,null,null,"Block 5",null,null,null,null,"Block 6"]
["Sequence\nComponent\n1","Time\n1","Sequence\nComponent\n2","Time\n2","Sequence\nComponent\n3","Time\n3","Sequence\nComponent\n4","Time\n4","Sequence\nComponent\n5","Time\n5","Correct?\n0=No 1=Yes","Sequence",null,"Frequency",null,"Relative Frequency","Variability",null,null,"Frequency",null,"Relative Frequency","Variability",null,"Frequency",null,"Relative Frequency","Variability",null,"Frequency",null,"Relative Frequency","Variability",null,"Frequency",null,"Relative Frequency","Variability",null,"Frequency",null,"Relative Frequency","Variability",null,"Frequency",null,"Relative Frequency","Variability"]
[12,66,13,70,13,77,null,null,null,null,0,111,null,111,{"$f":"COUNTIF($L$7:$L$500,N7)","v":30},{"$f":"O7/$Q$4","v":0.375},{"$f":"IF(P7=0,0,(P7*((LOG(P7))/LOG(2))))","v":-0.53063906222956647},null,null,{"$f":"N7","v":111},{"$f":"COUNTIF(L7:L19,T7)","v":7},{"$f":"U7/(W4-U11)","v":1},{"$f":"IF(V7=0,0,(V7*((LOG(V7))/LOG(2))))","v":0},null,{"$f":"N7","v":111},{"$f":"COUNTIF(L20:L33,Y7)","v":8},{"$f":"Z7/(AB4-Z11)","v":1},{"$f":"IF(AA7=0,0,(AA7*((LOG(AA7))/LOG(2))))","v":0},null,{"$f":"N7","v":111},{"$f":"COUNTIF(L34:L46,AD7)","v":5},{"$f":"AE7/(AG4-AE11)","v":0.7142857142857143},{"$f":"IF(AF7=0,0,(AF7*((LOG(AF7))/LOG(2))))","v":-0.34673344797874411},null,{"$f":"N7","v":111},{"$f":"COUNTIF(L47:L59,AI7)","v":4},{"$f":"AJ7/(AL4-AJ11)","v":0.66666666666666663},{"$f":"IF(AK7=0,0,(AK7*((LOG(AK7))/LOG(2))))","v":-0.38997500048077083},null,{"$f":"N7","v":111},{"$f":"COUNTIF(L60:L73,AN7)","v":3},{"$f":"AO7/(AQ4-AO11)","v":0.5},{"$f":"IF(AP7=0,0,(AP7*((LOG(AP7))/LOG(2))))","v":-0.5},null,{"$f":"N7","v":111},{"$f":"COUNTIF(L74:L86,AS7)","v":3},{"$f":"AT7/(AV4-AT11)","v":0.5},{"$f":"IF(AU7=0,0,(AU7*((LOG(AU7))/LOG(2))))","v":-0.5}]
[12,183,13,188,13,195,null,null,null,null,0,111,null,112,1,1.2500000000000001E-2,-7.902410118609203E-2,null,null,112,{"$f":"COUNTIF(L7:L19,T8)","v":0},{"$f":"U8/(W4-U11)","v":0},{"$f":"IF(V8=0,0,(V8*((LOG(V8))/LOG(2))))","v":0},null,112,{"$f":"COUNTIF(L20:L33,Y8)","v":0},{"$f":"Z8/(AB4-Z11)","v":0},{"$f":"IF(AA8=0,0,(AA8*((LOG(AA8))/LOG(2))))","v":0},null,112,{"$f":"COUNTIF(L34:L46,AD8)","v":0},{"$f":"AE8/(AG4-AE11)","v":0},{"$f":"IF(AF8=0,0,(AF8*((LOG(AF8))/LOG(2))))","v":0},null,112,{"$f":"COUNTIF(L47:L59,AI8)","v":0},{"$f":"AJ8/(AL4-AJ11)","v":0},{"$f":"IF(AK8=0,0,(AK8*((LOG(AK8))/LOG(2))))","v":0},null,112,{"$f":"COUNTIF(L60:L73,AN8)","v":1},{"$f":"AO8/(AQ4-AO11)","v":0.16666666666666666},{"$f":"IF(AP8=0,0,(AP8*((LOG(AP8))/LOG(2))))","v":-0.43082708345352599},null,112,{"$f":"COUNTIF(L74:L86,AS8)","v":0},{"$f":"AT8/(AV4-AT11)","v":0},{"$f":"IF(AU8=0,0,(AU8*((LOG(AU8))/LOG(2))))","v":0}]
[21,287,11,298,11,311,null,null,null,null,0,211,null,121,0,0,0,null,null,121,{"$f":"COUNTIF(L7:L19,T9)","v":0},{"$f":"U9/(W4-U11)","v":0},{"$f":"IF(V9=0,0,(V9*((LOG(V9))/LOG(2))))","v":0},null,121,{"$f":"COUNTIF(L20:L33,Y9)","v":0},{"$f":"Z9/(AB4-Z11)","v":0},{"$f":"IF(AA9=0,0,(AA9*((LOG(AA9))/LOG(2))))","v":0},null,121,{"$f":"COUNTIF(L34:L46,AD9)","v":0},{"$f":"AE9/(AG4-AE11)","v":0},{"$f":"IF(AF9=0,0,(AF9*((LOG(AF9))/LOG(2))))","v":0},null,121,{"$f":"COUNTIF(L47:L59,AI9)","v":0},{"$f":"AJ9/(AL4-AJ11)","v":0},{"$f":"IF(AK9=0,0,(AK9*((LOG(AK9))/LOG(2))))","v":0},null,121,{"$f":"COUNTIF(L60:L73,AN9)","v":0},{"$f":"AO9/(AQ4-AO11)","v":0},{"$f":"IF(AP9=0,0,(AP9*((LOG(AP9))/LOG(2))))","v":0},null,121,{"$f":"COUNTIF(L74:L86,AS9)","v":0},{"$f":"AT9/(AV4-AT11)","v":0},{"$f":"IF(AU9=0,0,(AU9*((LOG(AU9))/LOG(2))))","v":0}]
[12,471,13,475,13,483,null,null,null,null,0,111,null,122,0,0,0,null,null,122,{"$f":"COUNTIF(L7:L19,T10)","v":0},{"$f":"U10/(W4-U11)","v":0},{"$f":"IF(V10=0,0,(V10*((LOG(V10))/LOG(2))))","v":0},null,122,{"$f":"COUNTIF(L20:L33,Y10)","v":0},{"$f":"Z10/(AB4-Z11)","v":0},{"$f":"IF(AA10=0,0,(AA10*((LOG(AA10))/LOG(2))))","v":0},null,122,{"$f":"COUNTIF(L34:L46,AD10)","v":0},{"$f":"AE10/(AG4-AE11)","v":0},{"$f":"IF(AF10=0,0,(AF10*((LOG(AF10))/LOG(2))))","v":0},null,122,{"$f":"COUNTIF(L47:L59,AI10)","v":0},{"$f":"AJ10/(AL4-AJ11)","v":0},{"$f":"IF(AK10=0,0,(AK10*((LOG(AK10))/LOG(2))))","v":0},null,122,{"$f":"COUNTIF(L60:L73,AN10)","v":0},{"$f":"AO10/(AQ4-AO11)","v":0},{"$f":"IF(AP10=0,0,(AP10*((LOG(AP10))/LOG(2))))","v":0},null,122,{"$f":"COUNTIF(L74:L86,AS10)","v":0},{"$f":"AT10/(AV4-AT11)","v":0},{"$f":"IF(AU10=0,0,(AU10*((LOG(AU10))/LOG(2))))","v":0}]
[21,574,11,583,11,589,null,null,null,null,0,211,null,211,40,0.5,-0.5,null,null,211,{"$f":"COUNTIF(L7:L19,T11)","v":6},null,null,null,211,{"$f":"COUNTIF(L20:L33,Y11)","v":6},null,null,null,211,{"$f":"COUNTIF(L34:L46,AD11)","v":6},null,null,null,211,{"$f":"COUNTIF(L47:L59,AI11)","v":7},null,null,null,211,{"$f":"COUNTIF(L60:L73,AN11)","v":8},null,null,null,211,{"$f":"COUNTIF(L74:L86,AS11)","v":7}]
[21,680,11,692,11,697,null,null,null,null,0,211,null,212,0,0,0,null,null,212,{"$f":"COUNTIF(L7:L19,T12)","v":0},{"$f":"U12/(W4-U11)","v":0},{"$f":"IF(V12=0,0,(V12*((LOG(V12))/LOG(2))))","v":0},null,212,{"$f":"COUNTIF(L20:L33,Y12)","v":0},{"$f":"Z12/(AB4-Z11)","v":0},{"$f":"IF(AA12=0,0,(AA12*((LOG(AA12))/LOG(2))))","v":0},null,212,{"$f":"COUNTIF(L34:L46,AD12)","v":0},{"$f":"AE12/(AG4-AE11)","v":0},{"$f":"IF(AF12=0,0,(AF12*((LOG(AF12))/LOG(2))))","v":0},null,212,{"$f":"COUNTIF(L47:L59,AI12)","v":0},{"$f":"AJ12/(AL4-AJ11)","v":0},{"$f":"IF(AK12=0,0,(AK12*((LOG(AK12))/LOG(2))))","v":0},null,212,{"$f":"COUNTIF(L60:L73,AN12)","v":0},{"$f":"AO12/(AQ4-AO11)","v":0},{"$f":"IF(AP12=0,0,(AP12*((LOG(AP12))/LOG(2))))","v":0},null,212,{"$f":"COUNTIF(L74:L86,AS12)","v":0},{"$f":"AT12/(AV4-AT11)","v":0},{"$f":"IF(AU12=0,0,(AU12*((LOG(AU12))/LOG(2))))","v":0}]
[12,822,13,827,13,842,null,null,null,null,0,111,null,221,9,0.1125,-0.35460034801256812,null,null,221,{"$f":"COUNTIF(L7:L19,T13)","v":0},{"$f":"U13/(W4-U11)","v":0},{"$f":"IF(V13=0,0,(V13*((LOG(V13))/LOG(2))))","v":0},null,221,{"$f":"COUNTIF(L20:L33,Y13)","v":0},{"$f":"Z13/(AB4-Z11)","v":0},{"$f":"IF(AA13=0,0,(AA13*((LOG(AA13))/LOG(2))))","v":0},null,221,{"$f":"COUNTIF(L34:L46,AD13)","v":2},{"$f":"AE13/(AG4-AE11)","v":0.2857142857142857},{"$f":"IF(AF13=0,0,(AF13*((LOG(AF13))/LOG(2))))","v":-0.51638712058788683},null,221,{"$f":"COUNTIF(L47:L59,AI13)","v":2},{"$f":"AJ13/(AL4-AJ11)","v":0.33333333333333331},{"$f":"IF(AK13=0,0,(AK13*((LOG(AK13))/LOG(2))))","v":-0.52832083357371862},null,221,{"$f":"COUNTIF(L60:L73,AN13)","v":2},{"$f":"AO13/(AQ4-AO11)","v":0.33333333333333331},{"$f":"IF(AP13=0,0,(AP13*((LOG(AP13))/LOG(2))))","v":-0.52832083357371862},null,221,{"$f":"COUNTIF(L74:L86,AS13)","v":3},{"$f":"AT13/(AV4-AT11)","v":0.5},{"$f":"IF(AU13=0,0,(AU13*((LOG(AU13))/LOG(2))))","v":-0.5}]
[21,937,11,950,11,990,null,null,null,null,0,211,null,222,0,0,0,null,null,222,{"$f":"COUNTIF(L7:L19,T14)","v":0},{"$f":"U14/(W4-U11)","v":0},{"$f":"IF(V14=0,0,(V14*((LOG(V14))/LOG(2))))","v":0},null,222,{"$f":"COUNTIF(L20:L33,Y14)","v":0},{"$f":"Z14/(AB4-Z11)","v":0},{"$f":"IF(AA14=0,0,(AA14*((LOG(AA14))/LOG(2))))","v":0},null,222,{"$f":"COUNTIF(L34:L46,AD14)","v":0},{"$f":"AE14/(AG4-AE11)","v":0},{"$f":"IF(AF14=0,0,(AF14*((LOG(AF14))/LOG(2))))","v":0},null,222,{"$f":"COUNTIF(L47:L59,AI14)","v":0},{"$f":"AJ14/(AL4-AJ11)","v":0},{"$f":"IF(AK14=0,0,(AK14*((LOG(AK14))/LOG(2))))","v":0},null,222,{"$f":"COUNTIF(L60:L73,AN14)","v":0},{"$f":"AO14/(AQ4-AO11)","v":0},{"$f":"IF(AP14=0,0,(AP14*((LOG(AP14))/LOG(2))))","v":0},null,222,{"$f":"COUNTIF(L74:L86,AS14)","v":0},{"$f":"AT14/(AV4-AT11)","v":0},{"$f":"IF(AU14=0,0,(AU14*((LOG(AU14))/LOG(2))))","v":0}]
[12,1090,13,1104,13,1115,null,null,null,null,0,111,null,null,null,{"$f":"SUM(P7:P14)","v":1},{"$f":"-SUM(Q7:Q14)","v":1.4642635114282267},null,null,null,null,{"$f":"SUM(V7:V14)","v":1},{"$f":"-SUM(W7:W14)","v":0},null,null,null,{"$f":"SUM(AA7:AA14)","v":1},{"$f":"-SUM(AB7:AB14)","v":0},null,null,null,{"$f":"SUM(AF7:AF14)","v":1},{"$f":"-SUM(AG7:AG14)","v":0.863120568566631},null,null,null,{"$f":"SUM(AK7:AK14)","v":1},{"$f":"-SUM(AL7:AL14)","v":0.91829583405448945},null,null,null,{"$f":"SUM(AP7:AP14)","v":1},{"$f":"-SUM(AQ7:AQ14)","v":1.4591479170272446},null,null,null,{"$f":"SUM(AU7:AU14)","v":1},{"$f":"-SUM(AV7:AV14)","v":1}]
[12,1223,13,1228,13,1237,null,null,null,null,0,111,null,null,null,"U=",{"$f":"Q15/(LOG(Q4)/LOG(2))","v":0.23161660326576614},null,null,null,null,"U1=",{"$f":"W15/(LOG(W4)/LOG(2))","v":0},null,null,null,"U2=",{"$f":"AB15/(LOG(AB4)/LOG(2))","v":0},null,null,null,"U3=",{"$f":"AG15/(LOG(AG4)/LOG(2))","v":0.23324810949770525},null,null,null,"U4=",{"$f":"AL15/(LOG(AL4)/LOG(2))","v":0.24815857141318151},null,null,null,"U5=",{"$f":"AQ15/(LOG(AQ4)/LOG(2))","v":0.38324452195769532},null,null,null,"U6=",{"$f":"AV15/(LOG(AV4)/LOG(2))","v":0.27023815442731974}]
[21,1333,11,1351,11,1355,null,null,null,null,0,211]
[21,1448,11,1461,11,1478,null,null,null,null,0,211]
[12,1578,13,1582,13,1595,null,null,null,null,0,111,null,"Total Target Seq"]
[12,1697,13,1724,13,1746,null,null,null,null,0,111,null,{"$f":"COUNTIF(L7:L86,G3)","v":40},null,13,14,13,13,14,13]
[21,1844,11,1852,11,1856,null,null,null,null,0,211,null,null,null,"% of reinforcement given in 6 equal intervals based on number of trials "]
[21,1972,11,1987,11,2009,null,null,null,null,0,211,null,null,null,"%_1","%_2","%_3","%_4","%_5","%_6"]
[21,2112,11,2172,11,2196,null,null,null,null,0,211,null,null,"target sequence",{"$f":"$G$3","v":211},211,211,211,211,211]
[12,2294,13,2299,13,2307,null,null,null,null,0,111,null,null,"total reinforcement",{"$f":"U11","v":6},{"$f":"Z11","v":6},{"$f":"AE11","v":6},{"$f":"AJ11","v":7},{"$f":"AO11","v":8},{"$f":"AT11","v":7}]
[12,2413,13,2418,13,2433,null,null,null,null,0,111,null,null,"% target"]
[12,2549,13,2553,13,2561,null,null,null,null,0,111,null,null,"CCRF"]
[21,2658,11,2693,11,2712,null,null,null,null,0,211,null,null,"% CCRf"]
[21,2800,11,2818,11,2823,null,null,null,null,0,211,null,null,"average response rate",{"$f":"F19/P20","v":122.69230769230769},{"$f":"(F33-F19)/Q20","v":129},{"$f":"(F46-F33)/R20","v":125.15384615384616},{"$f":"(F59-F46)/S20","v":125.53846153846153},{"$f":"(F73-F59)/T20","v":121.85714285714286},{"$f":"(F86-F73)/U20","v":119.23076923076923}]
[12,2934,13,2938,13,2947,null,null,null,null,0,111]
[21,3039,11,3052,11,3057,null,null,null,null,0,211]
[12,3156,13,3161,13,3176,null,null,null,null,0,111]
[12,3277,13,3281,13,3286,null,null,null,null,0,111]
[12,3389,13,3394,13,3401,null,null,null,null,0,111]
[12,3504,13,3515,13,3547,null,null,null,null,0,111]
[21,3648,11,3657,11,3685,null,null,null,null,0,211]
[21,3781,11,3791,11,3797,null,null,null,null,0,211]
[12,3896,13,3903,13,3933,null,null,null,null,0,111]
[21,4035,11,4045,11,4050,null,null,null,null,0,211]
[21,4141,11,4152,11,4182,null,null,null,null,0,211]
[21,4277,22,4284,13,4292,null,null,null,null,0,221]
[12,4395,13,4401,13,4409,null,null,null,null,0,111]
[12,4516,13,4520,13,4526,null,null,null,null,0,111]
[21,4624,11,4633,11,4638,null,null,null,null,0,211]
[12,4737,13,4757,13,4769,null,null,null,null,0,111]
[21,4868,11,4882,11,4899,null,null,null,null,0,211]
[21,4990,22,4995,13,5028,null,null,null,null,0,221]
[21,5126,11,5140,11,5144,null,null,null,null,0,211]
[21,5235,11,5245,11,5268,null,null,null,null,0,211]
[21,5362,11,5377,11,5388,null,null,null,null,0,211]
[12,5535,13,5540,13,5545,null,null,null,null,0,111]
[21,5643,11,5662,11,5691,null,null,null,null,0,211]
[21,5780,22,5784,13,5799,null,null,null,null,0,221]
[21,5898,22,5903,13,5938,null,null,null,null,0,221]
[21,6030,11,6042,11,6046,null,null,null,null,0,211]
[21,6134,11,6147,11,6151,null,null,null,null,0,211]
[21,6242,11,6252,11,6298,null,null,null,null,0,211]
[12,6397,13,6403,13,6417,null,null,null,null,0,111]
[12,6523,13,6533,13,6547,null,null,null,null,0,111]
[12,6648,13,6652,13,6660,null,null,null,null,0,111]
[21,6755,22,6760,13,6774,null,null,null,null,0,221]
[12,6875,13,6883,13,6893,null,null,null,null,0,111]
[12,6995,13,6999,24,7012,null,null,null,null,0,112]
[12,7117,13,7142,13,7155,null,null,null,null,0,111]
[21,7247,11,7261,11,7267,null,null,null,null,0,211]
[21,7369,11,7376,11,7381,null,null,null,null,0,211]
[12,7497,13,7502,13,7510,null,null,null,null,0,111]
[21,7606,22,7612,13,7621,null,null,null,null,0,221]
[21,7717,11,7732,11,7744,null,null,null,null,0,211]
[21,7832,11,7843,11,7848,null,null,null,null,0,211]
[21,7939,11,7949,11,7980,null,null,null,null,0,211]
[21,8079,11,8088,11,8125,null,null,null,null,0,211]
[21,8212,11,8226,11,8231,null,null,null,null,0,211]
[21,8321,11,8330,11,8366,null,null,null,null,0,211]
[21,8467,11,8475,11,8480,null,null,null,null,0,211]
[21,8567,22,8573,13,8587,null,null,null,null,0,221]
[12,8692,13,8710,13,8731,null,null,null,null,0,111]
[21,8823,11,8835,11,8855,null,null,null,null,0,211]
[12,8958,13,8962,13,8970,null,null,null,null,0,111]
[21,9067,22,9079,13,9088,null,null,null,null,0,221]
[21,9183,11,9192,11,9203,null,null,null,null,0,211]
[21,9297,11,9306,11,9325,null,null,null,null,0,211]
[21,9415,11,9424,11,9429,null,null,null,null,0,211]
[12,9544,13,9549,13,9563,null,null,null,null,0,111]
[21,9659,22,9667,13,9695,null,null,null,null,0,221]
[21,9793,11,9807,11,9812,null,null,null,null,0,211]
[21,9898,11,9911,11,9916,null,null,null,null,1,211]

{"sheet":"!N10795I.sha","index":23,"n_rows":102,"n_cols":48,"rows_kept":102,"cut":false,"hidden":false,"merged":[[1,1,1,2],[5,13,5,14],[18,13,18,14],[19,13,19,14],[4,19,4,22],[5,19,5,20],[4,39,4,42],[5,39,5,40],[4,44,4,47],[5,44,5,45],[4,24,4,27],[5,24,5,25],[4,29,4,32],[5,29,5,30],[4,34,4,37],[5,34,5,35]]}
["Report for:!N10795I.sha"]
["Date:","<date>"]
["Hen:","<hen>",null,null,null,"Correct Sequence",{"$f":"Start!J2","v":211},null,null,null,null,null,null,null,null,"Total Sequences in Data",{"$f":"4994-COUNTBLANK(L7:L5000)","v":96},null,null,null,null,"Total Sequences in Block Data",{"$f":"COUNTA(L7:L22)","v":16},null,null,null,"Total Sequences in Block Data",{"$f":"COUNTA(L23:L38)","v":16},null,null,null,"Total Sequences in Block Data",{"$f":"COUNTA(L39:L54)","v":16},null,null,null,"Total Sequences in Block Data",{"$f":"COUNTA(L55:L70)","v":16},null,null,null,"Total Sequences in Block Data",{"$f":"COUNTA(L71:L86)","v":16},null,null,null,"Total Sequences in Block Data",{"$f":"COUNTA(L87:L102)","v":16}]
[null,null,null,null,null,null,null,null,null,null,null,null,null,null,null,"Total Sequences in Summary",{"$f":"SUM(O7:O14)","v":96},null,null,null,null,"Total Sequences in Block Summary",{"$f":"SUM(U7:U14)","v":16},null,null,null,"Total Sequences in Block Summary",{"$f":"SUM(Z7:Z14)","v":16},null,null,null,"Total Sequences in Block Summary",{"$f":"SUM(AE7:AE14)","v":16},null,null,null,"Total Sequences in Block Summary",{"$f":"SUM(AJ7:AJ14)","v":16},null,null,null,"Total Sequences in Block Summary",{"$f":"SUM(AO7:AO14)","v":16},null,null,null,"Total Sequences in Block Summary",{"$f":"SUM(AT7:AT14)","v":16}]
[null,null,null,null,null,null,null,null,null,null,null,null,null,null,null,null,null,null,null,"Block 1",null,null,null,null,"Block 2",null,null,null,null,"Block 3",null,null,null,null,"Block 4",null,null,null,null,"Block 5",null,null,null,null,"Block 6"]
["Sequence\nComponent\n1","Time\n1","Sequence\nComponent\n2","Time\n2","Sequence\nComponent\n3","Time\n3","Sequence\nComponent\n4","Time\n4","Sequence\nComponent\n5","Time\n5","Correct?\n0=No 1=Yes","Sequence",null,"Frequency",null,"Relative Frequency","Variability",null,null,"Frequency",null,"Relative Frequency","Variability",null,"Frequency",null,"Relative Frequency","Variability",null,"Frequency",null,"Relative Frequency","Variability",null,"Frequency",null,"Relative Frequency","Variability",null,"Frequency",null,"Relative Frequency","Variability",null,"Frequency",null,"Relative Frequency","Variability"]
[12,40,13,44,13,50,null,null,null,null,0,111,null,111,{"$f":"COUNTIF($L$7:$L$500,N7)","v":33},{"$f":"O7/$Q$4","v":0.34375},{"$f":"IF(P7=0,0,(P7*((LOG(P7))/LOG(2))))","v":-0.52957038109342913},null,null,{"$f":"N7","v":111},{"$f":"COUNTIF(L7:L22,T7)","v":10},{"$f":"U7/(W4-U11)","v":0.76923076923076927},{"$f":"IF(V7=0,0,(V7*((LOG(V7))/LOG(2))))","v":-0.29116278711825366},null,{"$f":"N7","v":111},{"$f":"COUNTIF(L23:L38,Y7)","v":4},{"$f":"Z7/(AB4-Z11)","v":0.66666666666666663},{"$f":"IF(AA7=0,0,(AA7*((LOG(AA7))/LOG(2))))","v":-0.38997500048077083},null,{"$f":"N7","v":111},{"$f":"COUNTIF(L39:L54,AD7)","v":5},{"$f":"AE7/(AG4-AE11)","v":0.45454545454545453},{"$f":"IF(AF7=0,0,(AF7*((LOG(AF7))/LOG(2))))","v":-0.51704705624997038},null,{"$f":"N7","v":111},{"$f":"COUNTIF(L55:L70,AI7)","v":3},{"$f":"AJ7/(AL4-AJ11)","v":0.42857142857142855},{"$f":"IF(AK7=0,0,(AK7*((LOG(AK7))/LOG(2))))","v":-0.52388246628704915},null,{"$f":"N7","v":111},{"$f":"COUNTIF(L71:L86,AN7)","v":5},{"$f":"AO7/(AQ4-AO11)","v":0.625},{"$f":"IF(AP7=0,0,(AP7*((LOG(AP7))/LOG(2))))","v":-0.42379494069539858},null,{"$f":"N7","v":111},{"$f":"COUNTIF(L87:L102,AS7)","v":6},{"$f":"AT7/(AV4-AT11)","v":0.54545454545454541},{"$f":"IF(AU7=0,0,(AU7*((LOG(AU7))/LOG(2))))","v":-0.47698315522698609}]
[12,151,13,157,13,163,null,null,null,null,0,111,null,112,4,4.1666666666666664E-2,-0.19104010419671485,null,null,112,{"$f":"COUNTIF(L7:L22,T8)","v":2},{"$f":"U8/(W4-U11)","v":0.15384615384615385},{"$f":"IF(V8=0,0,(V8*((LOG(V8))/LOG(2))))","v":-0.4154522643293988},null,112,{"$f":"COUNTIF(L23:L38,Y8)","v":0},{"$f":"Z8/(AB4-Z11)","v":0},{"$f":"IF(AA8=0,0,(AA8*((LOG(AA8))/LOG(2))))","v":0},null,112,{"$f":"COUNTIF(L39:L54,AD8)","v":1},{"$f":"AE8/(AG4-AE11)","v":9.0909090909090912E-2},{"$f":"IF(AF8=0,0,(AF8*((LOG(AF8))/LOG(2))))","v":-0.31449378351248153},null,112,{"$f":"COUNTIF(L55:L70,AI8)","v":0},{"$f":"AJ8/(AL4-AJ11)","v":0},{"$f":"IF(AK8=0,0,(AK8*((LOG(AK8))/LOG(2))))","v":0},null,112,{"$f":"COUNTIF(L71:L86,AN8)","v":0},{"$f":"AO8/(AQ4-AO11)","v":0},{"$f":"IF(AP8=0,0,(AP8*((LOG(AP8))/LOG(2))))","v":0},null,112,{"$f":"COUNTIF(L87:L102,AS8)","v":1},{"$f":"AT8/(AV4-AT11)","v":9.0909090909090912E-2},{"$f":"IF(AU8=0,0,(AU8*((LOG(AU8))/LOG(2))))","v":-0.31449378351248153}]
[12,272,13,281,13,287,null,null,null,null,0,111,null,121,1,1.0416666666666666E-2,-6.8593359382512042E-2,null,null,121,{"$f":"COUNTIF(L7:L22,T9)","v":1},{"$f":"U9/(W4-U11)","v":7.6923076923076927E-2},{"$f":"IF(V9=0,0,(V9*((LOG(V9))/LOG(2))))","v":-0.28464920908777636},null,121,{"$f":"COUNTIF(L23:L38,Y9)","v":0},{"$f":"Z9/(AB4-Z11)","v":0},{"$f":"IF(AA9=0,0,(AA9*((LOG(AA9))/LOG(2))))","v":0},null,121,{"$f":"COUNTIF(L39:L54,AD9)","v":0},{"$f":"AE9/(AG4-AE11)","v":0},{"$f":"IF(AF9=0,0,(AF9*((LOG(AF9))/LOG(2))))","v":0},null,121,{"$f":"COUNTIF(L55:L70,AI9)","v":0},{"$f":"AJ9/(AL4-AJ11)","v":0},{"$f":"IF(AK9=0,0,(AK9*((LOG(AK9))/LOG(2))))","v":0},null,121,{"$f":"COUNTIF(L71:L86,AN9)","v":0},{"$f":"AO9/(AQ4-AO11)","v":0},{"$f":"IF(AP9=0,0,(AP9*((LOG(AP9))/LOG(2))))","v":0},null,121,{"$f":"COUNTIF(L87:L102,AS9)","v":0},{"$f":"AT9/(AV4-AT11)","v":0},{"$f":"IF(AU9=0,0,(AU9*((LOG(AU9))/LOG(2))))","v":0}]
[12,392,13,399,13,440,null,null,null,null,0,111,null,122,0,0,0,null,null,122,{"$f":"COUNTIF(L7:L22,T10)","v":0},{"$f":"U10/(W4-U11)","v":0},{"$f":"IF(V10=0,0,(V10*((LOG(V10))/LOG(2))))","v":0},null,122,{"$f":"COUNTIF(L23:L38,Y10)","v":0},{"$f":"Z10/(AB4-Z11)","v":0},{"$f":"IF(AA10=0,0,(AA10*((LOG(AA10))/LOG(2))))","v":0},null,122,{"$f":"COUNTIF(L39:L54,AD10)","v":0},{"$f":"AE10/(AG4-AE11)","v":0},{"$f":"IF(AF10=0,0,(AF10*((LOG(AF10))/LOG(2))))","v":0},null,122,{"$f":"COUNTIF(L55:L70,AI10)","v":0},{"$f":"AJ10/(AL4-AJ11)","v":0},{"$f":"IF(AK10=0,0,(AK10*((LOG(AK10))/LOG(2))))","v":0},null,122,{"$f":"COUNTIF(L71:L86,AN10)","v":0},{"$f":"AO10/(AQ4-AO11)","v":0},{"$f":"IF(AP10=0,0,(AP10*((LOG(AP10))/LOG(2))))","v":0},null,122,{"$f":"COUNTIF(L87:L102,AS10)","v":0},{"$f":"AT10/(AV4-AT11)","v":0},{"$f":"IF(AU10=0,0,(AU10*((LOG(AU10))/LOG(2))))","v":0}]
[21,546,11,557,11,563,null,null,null,null,0,211,null,211,40,0.41666666666666669,-0.52626433576408083,null,null,211,{"$f":"COUNTIF(L7:L22,T11)","v":3},null,null,null,211,{"$f":"COUNTIF(L23:L38,Y11)","v":10},null,null,null,211,{"$f":"COUNTIF(L39:L54,AD11)","v":5},null,null,null,211,{"$f":"COUNTIF(L55:L70,AI11)","v":9},null,null,null,211,{"$f":"COUNTIF(L71:L86,AN11)","v":8},null,null,null,211,{"$f":"COUNTIF(L87:L102,AS11)","v":5}]
[12,679,13,682,13,693,null,null,null,null,0,111,null,212,0,0,0,null,null,212,{"$f":"COUNTIF(L7:L22,T12)","v":0},{"$f":"U12/(W4-U11)","v":0},{"$f":"IF(V12=0,0,(V12*((LOG(V12))/LOG(2))))","v":0},null,212,{"$f":"COUNTIF(L23:L38,Y12)","v":0},{"$f":"Z12/(AB4-Z11)","v":0},{"$f":"IF(AA12=0,0,(AA12*((LOG(AA12))/LOG(2))))","v":0},null,212,{"$f":"COUNTIF(L39:L54,AD12)","v":0},{"$f":"AE12/(AG4-AE11)","v":0},{"$f":"IF(AF12=0,0,(AF12*((LOG(AF12))/LOG(2))))","v":0},null,212,{"$f":"COUNTIF(L55:L70,AI12)","v":0},{"$f":"AJ12/(AL4-AJ11)","v":0},{"$f":"IF(AK12=0,0,(AK12*((LOG(AK12))/LOG(2))))","v":0},null,212,{"$f":"COUNTIF(L71:L86,AN12)","v":0},{"$f":"AO12/(AQ4-AO11)","v":0},{"$f":"IF(AP12=0,0,(AP12*((LOG(AP12))/LOG(2))))","v":0},null,212,{"$f":"COUNTIF(L87:L102,AS12)","v":0},{"$f":"AT12/(AV4-AT11)","v":0},{"$f":"IF(AU12=0,0,(AU12*((LOG(AU12))/LOG(2))))","v":0}]
[12,792,13,798,24,810,null,null,null,null,0,112,null,221,17,0.17708333333333334,-0.44226556469795714,null,null,221,{"$f":"COUNTIF(L7:L22,T13)","v":0},{"$f":"U13/(W4-U11)","v":0},{"$f":"IF(V13=0,0,(V13*((LOG(V13))/LOG(2))))","v":0},null,221,{"$f":"COUNTIF(L23:L38,Y13)","v":2},{"$f":"Z13/(AB4-Z11)","v":0.33333333333333331},{"$f":"IF(AA13=0,0,(AA13*((LOG(AA13))/LOG(2))))","v":-0.52832083357371862},null,221,{"$f":"COUNTIF(L39:L54,AD13)","v":5},{"$f":"AE13/(AG4-AE11)","v":0.45454545454545453},{"$f":"IF(AF13=0,0,(AF13*((LOG(AF13))/LOG(2))))","v":-0.51704705624997038},null,221,{"$f":"COUNTIF(L55:L70,AI13)","v":4},{"$f":"AJ13/(AL4-AJ11)","v":0.5714285714285714},{"$f":"IF(AK13=0,0,(AK13*((LOG(AK13))/LOG(2))))","v":-0.46134566974720237},null,221,{"$f":"COUNTIF(L71:L86,AN13)","v":3},{"$f":"AO13/(AQ4-AO11)","v":0.375},{"$f":"IF(AP13=0,0,(AP13*((LOG(AP13))/LOG(2))))","v":-0.53063906222956647},null,221,{"$f":"COUNTIF(L87:L102,AS13)","v":3},{"$f":"AT13/(AV4-AT11)","v":0.27272727272727271},{"$f":"IF(AU13=0,0,(AU13*((LOG(AU13))/LOG(2))))","v":-0.51121885034076575}]
[12,911,13,924,13,933,null,null,null,null,0,111,null,222,1,1.0416666666666666E-2,-6.8593359382512042E-2,null,null,222,{"$f":"COUNTIF(L7:L22,T14)","v":0},{"$f":"U14/(W4-U11)","v":0},{"$f":"IF(V14=0,0,(V14*((LOG(V14))/LOG(2))))","v":0},null,222,{"$f":"COUNTIF(L23:L38,Y14)","v":0},{"$f":"Z14/(AB4-Z11)","v":0},{"$f":"IF(AA14=0,0,(AA14*((LOG(AA14))/LOG(2))))","v":0},null,222,{"$f":"COUNTIF(L39:L54,AD14)","v":0},{"$f":"AE14/(AG4-AE11)","v":0},{"$f":"IF(AF14=0,0,(AF14*((LOG(AF14))/LOG(2))))","v":0},null,222,{"$f":"COUNTIF(L55:L70,AI14)","v":0},{"$f":"AJ14/(AL4-AJ11)","v":0},{"$f":"IF(AK14=0,0,(AK14*((LOG(AK14))/LOG(2))))","v":0},null,222,{"$f":"COUNTIF(L71:L86,AN14)","v":0},{"$f":"AO14/(AQ4-AO11)","v":0},{"$f":"IF(AP14=0,0,(AP14*((LOG(AP14))/LOG(2))))","v":0},null,222,{"$f":"COUNTIF(L87:L102,AS14)","v":1},{"$f":"AT14/(AV4-AT11)","v":9.0909090909090912E-2},{"$f":"IF(AU14=0,0,(AU14*((LOG(AU14))/LOG(2))))","v":-0.31449378351248153}]
[12,1044,13,1051,13,1061,null,null,null,null,0,111,null,null,null,{"$f":"SUM(P7:P14)","v":1},{"$f":"-SUM(Q7:Q14)","v":1.8263271045172063},null,null,null,null,{"$f":"SUM(V7:V14)","v":1},{"$f":"-SUM(W7:W14)","v":0.99126426053542882},null,null,null,{"$f":"SUM(AA7:AA14)","v":1},{"$f":"-SUM(AB7:AB14)","v":0.91829583405448945},null,null,null,{"$f":"SUM(AF7:AF14)","v":1},{"$f":"-SUM(AG7:AG14)","v":1.3485878960124222},null,null,null,{"$f":"SUM(AK7:AK14)","v":1},{"$f":"-SUM(AL7:AL14)","v":0.98522813603425152},null,null,null,{"$f":"SUM(AP7:AP14)","v":1},{"$f":"-SUM(AQ7:AQ14)","v":0.95443400292496505},null,null,null,{"$f":"SUM(AU7:AU14)","v":1},{"$f":"-SUM(AV7:AV14)","v":1.6171895725927148}]
[12,1167,13,1172,24,1189,null,null,null,null,0,112,null,null,null,"U=",{"$f":"Q15/(LOG(Q4)/LOG(2))","v":0.27734814045139894},null,null,null,null,"U1=",{"$f":"W15/(LOG(W4)/LOG(2))","v":0.24781606513385721},null,null,null,"U2=",{"$f":"AB15/(LOG(AB4)/LOG(2))","v":0.22957395851362236},null,null,null,"U3=",{"$f":"AG15/(LOG(AG4)/LOG(2))","v":0.33714697400310556},null,null,null,"U4=",{"$f":"AL15/(LOG(AL4)/LOG(2))","v":0.24630703400856288},null,null,null,"U5=",{"$f":"AQ15/(LOG(AQ4)/LOG(2))","v":0.23860850073124126},null,null,null,"U6=",{"$f":"AV15/(LOG(AV4)/LOG(2))","v":0.4042973931481787}]
[12,1297,13,1302,13,1311,null,null,null,null,0,111]
[12,1472,24,1483,13,1497,null,null,null,null,0,121]
[21,1594,11,1610,11,1616,null,null,null,null,0,211,null,"Total Target Seq"]
[21,1741,11,1748,11,1774,null,null,null,null,0,211,null,{"$f":"COUNTIF(L7:L102,G3)","v":40},null,16,16,16,16,16,16]
[12,1875,13,1924,13,1937,null,null,null,null,0,111,null,null,null,"% of reinforcement given in 6 equal intervals based on number of trials "]
[12,2054,13,2058,13,2098,null,null,null,null,0,111,null,null,null,"%_1","%_2","%_3","%_4","%_5","%_6"]
[12,2211,13,2218,13,2235,null,null,null,null,0,111,null,null,"target sequence",{"$f":"$G$3","v":211},211,211,211,211,211]
[12,2342,13,2347,13,2353,null,null,null,null,0,111,null,null,"total reinforcement",{"$f":"U11","v":3},{"$f":"Z11","v":10},{"$f":"AE11","v":5},{"$f":"AJ11","v":9},{"$f":"AO11","v":8},{"$f":"AT11","v":5}]
[21,2450,22,2460,13,2468,null,null,null,null,0,221,null,null,"% target"]
[21,2568,11,2578,11,2592,null,null,null,null,0,211,null,null,"CCRF"]
[21,2683,11,2695,11,2723,null,null,null,null,0,211,null,null,"% CCRf"]
[21,2818,11,2828,11,2836,null,null,null,null,0,211,null,null,"average response rate",{"$f":"F22/P20","v":131.125},{"$f":"(F38-F22)/Q20","v":130.625},{"$f":"(F54-F38)/R20","v":122.625},{"$f":"(F70-F54)/S20","v":122.1875},{"$f":"(F86-F70)/T20","v":123.6875},{"$f":"(F102-F86)/U20","v":124.6875}]
[21,2926,11,2941,11,2967,null,null,null,null,0,211]
[21,3058,11,3067,11,3073,null,null,null,null,0,211]
[21,3166,11,3186,11,3189,null,null,null,null,0,211]
[21,3302,11,3323,11,3355,null,null,null,null,0,211]
[21,3446,11,3454,11,3487,null,null,null,null,0,211]
[21,3577,11,3595,11,3602,null,null,null,null,0,211]
[12,3717,13,3768,13,3788,null,null,null,null,0,111]
[21,3885,22,3901,13,3911,null,null,null,null,0,221]
[12,4024,13,4030,13,4064,null,null,null,null,0,111]
[21,4167,11,4176,11,4188,null,null,null,null,0,211]
[12,4290,13,4300,13,4324,null,null,null,null,0,111]
[21,4423,11,4439,11,4481,null,null,null,null,0,211]
[21,4568,11,4579,11,4609,null,null,null,null,0,211]
[12,4713,13,4718,13,4732,null,null,null,null,0,111]
[12,4839,13,4845,13,4865,null,null,null,null,0,111]
[21,4962,22,4967,13,4975,null,null,null,null,0,221]
[12,5079,13,5084,13,5089,null,null,null,null,0,111]
[21,5186,11,5199,11,5204,null,null,null,null,0,211]
[21,5297,22,5306,13,5313,null,null,null,null,0,221]
[21,5409,22,5415,13,5424,null,null,null,null,0,221]
[21,5517,11,5535,11,5539,null,null,null,null,0,211]
[21,5627,22,5631,13,5639,null,null,null,null,0,221]
[12,5764,13,5768,24,5787,null,null,null,null,0,112]
[12,5894,13,5898,13,5934,null,null,null,null,0,111]
[21,6032,11,6042,11,6047,null,null,null,null,0,211]
[21,6133,22,6142,13,6150,null,null,null,null,0,221]
[21,6247,22,6252,13,6286,null,null,null,null,0,221]
[12,6397,13,6402,13,6406,null,null,null,null,0,111]
[21,6504,11,6518,11,6531,null,null,null,null,0,211]
[21,6619,11,6632,11,6638,null,null,null,null,0,211]
[21,6724,11,6738,11,6767,null,null,null,null,0,211]
[21,6857,11,6867,11,6908,null,null,null,null,0,211]
[21,7000,11,7008,11,7014,null,null,null,null,0,211]
[21,7103,22,7108,13,7120,null,null,null,null,0,221]
[21,7212,22,7217,13,7226,null,null,null,null,0,221]
[12,7334,13,7339,13,7346,null,null,null,null,0,111]
[21,7444,11,7452,11,7457,null,null,null,null,0,211]
[21,7550,11,7569,11,7602,null,null,null,null,0,211]
[21,7691,11,7700,11,7723,null,null,null,null,0,211]
[21,7810,11,7820,11,7851,null,null,null,null,0,211]
[12,7952,13,7969,13,7985,null,null,null,null,0,111]
[21,8083,22,8096,13,8105,null,null,null,null,0,221]
[12,8206,13,8212,13,8219,null,null,null,null,0,111]
[12,8325,13,8368,13,8382,null,null,null,null,0,111]
[21,8481,22,8485,13,8494,null,null,null,null,0,221]
[21,8586,11,8599,11,8604,null,null,null,null,0,211]
[21,8693,11,8702,11,8721,null,null,null,null,0,211]
[21,8809,11,8819,11,8845,null,null,null,null,0,211]
[12,8968,13,8972,13,8976,null,null,null,null,0,111]
[12,9081,13,9090,13,9107,null,null,null,null,0,111]
[21,9215,11,9224,11,9231,null,null,null,null,0,211]
[12,9336,13,9345,13,9359,null,null,null,null,0,111]
[21,9458,11,9473,11,9489,null,null,null,null,0,211]
[21,9578,11,9586,11,9622,null,null,null,null,0,211]
[21,9715,11,9741,11,9759,null,null,null,null,0,211]
[21,9849,11,9860,11,9864,null,null,null,null,0,211]
[21,9954,22,9964,13,9973,null,null,null,null,0,221]
[21,10071,22,10074,13,10084,null,null,null,null,0,221]
[21,10182,22,10188,24,10191,null,null,null,null,0,222]
[12,10286,13,10288,13,10292,null,null,null,null,0,111]
[21,10390,22,10396,13,10404,null,null,null,null,0,221]
[12,10508,13,10516,13,10526,null,null,null,null,0,111]
[21,10618,11,10633,11,10637,null,null,null,null,0,211]
[12,10748,13,10757,24,10782,null,null,null,null,0,112]
[21,10878,11,10892,11,10906,null,null,null,null,0,211]
[21,10995,11,11003,11,11033,null,null,null,null,0,211]
[12,11145,13,11150,13,11158,null,null,null,null,0,111]
[21,11256,22,11267,13,11274,null,null,null,null,0,221]
[21,11369,11,11378,11,11415,null,null,null,null,0,211]
[12,11564,13,11567,13,11572,null,null,null,null,0,111]
[12,11676,13,11682,13,11692,null,null,null,null,0,111]
[12,11798,13,11805,13,11824,null,null,null,null,0,111]
[21,11920,22,11926,13,11935,null,null,null,null,0,221]
[21,12033,11,12062,11,12079,null,null,null,null,1,211]

{"sheet":"!N10894I.sha","index":24,"n_rows":84,"n_cols":48,"rows_kept":84,"cut":false,"hidden":false,"merged":[[1,1,1,2],[5,13,5,14],[18,13,18,14],[19,13,19,14],[4,19,4,22],[5,19,5,20],[4,39,4,42],[5,39,5,40],[4,44,4,47],[5,44,5,45],[4,24,4,27],[5,24,5,25],[4,29,4,32],[5,29,5,30],[4,34,4,37],[5,34,5,35]]}
["Report for:!N10894I.sha"]
["Date:","<date>"]
["Hen:","<hen>",null,null,null,"Correct Sequence",{"$f":"Start!J2","v":211},null,null,null,null,null,null,null,null,"Total Sequences in Data",{"$f":"4994-COUNTBLANK(L7:L5000)","v":78},null,null,null,null,"Total Sequences in Block Data",{"$f":"COUNTA(L7:L19)","v":13},null,null,null,"Total Sequences in Block Data",{"$f":"COUNTA(L20:L32)","v":13},null,null,null,"Total Sequences in Block Data",{"$f":"COUNTA(L33:L45)","v":13},null,null,null,"Total Sequences in Block Data",{"$f":"COUNTA(L46:L58)","v":13},null,null,null,"Total Sequences in Block Data",{"$f":"COUNTA(L59:L71)","v":13},null,null,null,"Total Sequences in Block Data",{"$f":"COUNTA(L72:L84)","v":13}]
[null,null,null,null,null,null,null,null,null,null,null,null,null,null,null,"Total Sequences in Summary",{"$f":"SUM(O7:O14)","v":78},null,null,null,null,"Total Sequences in Block Summary",{"$f":"SUM(U7:U14)","v":13},null,null,null,"Total Sequences in Block Summary",{"$f":"SUM(Z7:Z14)","v":13},null,null,null,"Total Sequences in Block Summary",{"$f":"SUM(AE7:AE14)","v":13},null,null,null,"Total Sequences in Block Summary",{"$f":"SUM(AJ7:AJ14)","v":13},null,null,null,"Total Sequences in Block Summary",{"$f":"SUM(AO7:AO14)","v":13},null,null,null,"Total Sequences in Block Summary",{"$f":"SUM(AT7:AT14)","v":13}]
[null,null,null,null,null,null,null,null,null,null,null,null,null,null,null,null,null,null,null,"Block 1",null,null,null,null,"Block 2",null,null,null,null,"Block 3",null,null,null,null,"Block 4",null,null,null,null,"Block 5",null,null,null,null,"Block 6"]
["Sequence\nComponent\n1","Time\n1","Sequence\nComponent\n2","Time\n2","Sequence\nComponent\n3","Time\n3","Sequence\nComponent\n4","Time\n4","Sequence\nComponent\n5","Time\n5","Correct?\n0=No 1=Yes","Sequence",null,"Frequency",null,"Relative Frequency","Variability",null,null,"Frequency",null,"Relative Frequency","Variability",null,"Frequency",null,"Relative Frequency","Variability",null,"Frequency",null,"Relative Frequency","Variability",null,"Frequency",null,"Relative Frequency","Variability",null,"Frequency",null,"Relative Frequency","Variability",null,"Frequency",null,"Relative Frequency","Variability"]
[12,14,13,18,13,23,null,null,null,null,0,111,null,111,{"$f":"COUNTIF($L$7:$L$500,N7)","v":35},{"$f":"O7/$Q$4","v":0.44871794871794873},{"$f":"IF(P7=0,0,(P7*((LOG(P7))/LOG(2))))","v":-0.51877143675775461},null,null,{"$f":"N7","v":111},{"$f":"COUNTIF(L7:L19,T7)","v":3},{"$f":"U7/(W4-U11)","v":0.75},{"$f":"IF(V7=0,0,(V7*((LOG(V7))/LOG(2))))","v":-0.31127812445913283},null,{"$f":"N7","v":111},{"$f":"COUNTIF(L20:L32,Y7)","v":9},{"$f":"Z7/(AB4-Z11)","v":1},{"$f":"IF(AA7=0,0,(AA7*((LOG(AA7))/LOG(2))))","v":0},null,{"$f":"N7","v":111},{"$f":"COUNTIF(L33:L45,AD7)","v":6},{"$f":"AE7/(AG4-AE11)","v":1},{"$f":"IF(AF7=0,0,(AF7*((LOG(AF7))/LOG(2))))","v":0},null,{"$f":"N7","v":111},{"$f":"COUNTIF(L46:L58,AI7)","v":9},{"$f":"AJ7/(AL4-AJ11)","v":0.9},{"$f":"IF(AK7=0,0,(AK7*((LOG(AK7))/LOG(2))))","v":-0.13680278410054494},null,{"$f":"N7","v":111},{"$f":"COUNTIF(L59:L71,AN7)","v":3},{"$f":"AO7/(AQ4-AO11)","v":0.75},{"$f":"IF(AP7=0,0,(AP7*((LOG(AP7))/LOG(2))))","v":-0.31127812445913283},null,{"$f":"N7","v":111},{"$f":"COUNTIF(L72:L84,AS7)","v":5},{"$f":"AT7/(AV4-AT11)","v":1},{"$f":"IF(AU7=0,0,(AU7*((LOG(AU7))/LOG(2))))","v":0}]
[12,126,13,137,13,148,null,null,null,null,0,111,null,112,1,1.282051282051282E-2,-8.0582079729003178E-2,null,null,112,{"$f":"COUNTIF(L7:L19,T8)","v":0},{"$f":"U8/(W4-U11)","v":0},{"$f":"IF(V8=0,0,(V8*((LOG(V8))/LOG(2))))","v":0},null,112,{"$f":"COUNTIF(L20:L32,Y8)","v":0},{"$f":"Z8/(AB4-Z11)","v":0},{"$f":"IF(AA8=0,0,(AA8*((LOG(AA8))/LOG(2))))","v":0},null,112,{"$f":"COUNTIF(L33:L45,AD8)","v":0},{"$f":"AE8/(AG4-AE11)","v":0},{"$f":"IF(AF8=0,0,(AF8*((LOG(AF8))/LOG(2))))","v":0},null,112,{"$f":"COUNTIF(L46:L58,AI8)","v":1},{"$f":"AJ8/(AL4-AJ11)","v":0.1},{"$f":"IF(AK8=0,0,(AK8*((LOG(AK8))/LOG(2))))","v":-0.33219280948873625},null,112,{"$f":"COUNTIF(L59:L71,AN8)","v":0},{"$f":"AO8/(AQ4-AO11)","v":0},{"$f":"IF(AP8=0,0,(AP8*((LOG(AP8))/LOG(2))))","v":0},null,112,{"$f":"COUNTIF(L72:L84,AS8)","v":0},{"$f":"AT8/(AV4-AT11)","v":0},{"$f":"IF(AU8=0,0,(AU8*((LOG(AU8))/LOG(2))))","v":0}]
[12,256,13,261,13,268,null,null,null,null,0,111,null,121,0,0,0,null,null,121,{"$f":"COUNTIF(L7:L19,T9)","v":0},{"$f":"U9/(W4-U11)","v":0},{"$f":"IF(V9=0,0,(V9*((LOG(V9))/LOG(2))))","v":0},null,121,{"$f":"COUNTIF(L20:L32,Y9)","v":0},{"$f":"Z9/(AB4-Z11)","v":0},{"$f":"IF(AA9=0,0,(AA9*((LOG(AA9))/LOG(2))))","v":0},null,121,{"$f":"COUNTIF(L33:L45,AD9)","v":0},{"$f":"AE9/(AG4-AE11)","v":0},{"$f":"IF(AF9=0,0,(AF9*((LOG(AF9))/LOG(2))))","v":0},null,121,{"$f":"COUNTIF(L46:L58,AI9)","v":0},{"$f":"AJ9/(AL4-AJ11)","v":0},{"$f":"IF(AK9=0,0,(AK9*((LOG(AK9))/LOG(2))))","v":0},null,121,{"$f":"COUNTIF(L59:L71,AN9)","v":0},{"$f":"AO9/(AQ4-AO11)","v":0},{"$f":"IF(AP9=0,0,(AP9*((LOG(AP9))/LOG(2))))","v":0},null,121,{"$f":"COUNTIF(L72:L84,AS9)","v":0},{"$f":"AT9/(AV4-AT11)","v":0},{"$f":"IF(AU9=0,0,(AU9*((LOG(AU9))/LOG(2))))","v":0}]
[21,360,11,373,11,378,null,null,null,null,0,211,null,122,0,0,0,null,null,122,{"$f":"COUNTIF(L7:L19,T10)","v":0},{"$f":"U10/(W4-U11)","v":0},{"$f":"IF(V10=0,0,(V10*((LOG(V10))/LOG(2))))","v":0},null,122,{"$f":"COUNTIF(L20:L32,Y10)","v":0},{"$f":"Z10/(AB4-Z11)","v":0},{"$f":"IF(AA10=0,0,(AA10*((LOG(AA10))/LOG(2))))","v":0},null,122,{"$f":"COUNTIF(L33:L45,AD10)","v":0},{"$f":"AE10/(AG4-AE11)","v":0},{"$f":"IF(AF10=0,0,(AF10*((LOG(AF10))/LOG(2))))","v":0},null,122,{"$f":"COUNTIF(L46:L58,AI10)","v":0},{"$f":"AJ10/(AL4-AJ11)","v":0},{"$f":"IF(AK10=0,0,(AK10*((LOG(AK10))/LOG(2))))","v":0},null,122,{"$f":"COUNTIF(L59:L71,AN10)","v":0},{"$f":"AO10/(AQ4-AO11)","v":0},{"$f":"IF(AP10=0,0,(AP10*((LOG(AP10))/LOG(2))))","v":0},null,122,{"$f":"COUNTIF(L72:L84,AS10)","v":0},{"$f":"AT10/(AV4-AT11)","v":0},{"$f":"IF(AU10=0,0,(AU10*((LOG(AU10))/LOG(2))))","v":0}]
[21,469,22,474,13,484,null,null,null,null,0,221,null,211,40,0.51282051282051277,-0.49408929434609544,null,null,211,{"$f":"COUNTIF(L7:L19,T11)","v":9},null,null,null,211,{"$f":"COUNTIF(L20:L32,Y11)","v":4},null,null,null,211,{"$f":"COUNTIF(L33:L45,AD11)","v":7},null,null,null,211,{"$f":"COUNTIF(L46:L58,AI11)","v":3},null,null,null,211,{"$f":"COUNTIF(L59:L71,AN11)","v":9},null,null,null,211,{"$f":"COUNTIF(L72:L84,AS11)","v":8}]
[21,581,11,594,11,598,null,null,null,null,0,211,null,212,0,0,0,null,null,212,{"$f":"COUNTIF(L7:L19,T12)","v":0},{"$f":"U12/(W4-U11)","v":0},{"$f":"IF(V12=0,0,(V12*((LOG(V12))/LOG(2))))","v":0},null,212,{"$f":"COUNTIF(L20:L32,Y12)","v":0},{"$f":"Z12/(AB4-Z11)","v":0},{"$f":"IF(AA12=0,0,(AA12*((LOG(AA12))/LOG(2))))","v":0},null,212,{"$f":"COUNTIF(L33:L45,AD12)","v":0},{"$f":"AE12/(AG4-AE11)","v":0},{"$f":"IF(AF12=0,0,(AF12*((LOG(AF12))/LOG(2))))","v":0},null,212,{"$f":"COUNTIF(L46:L58,AI12)","v":0},{"$f":"AJ12/(AL4-AJ11)","v":0},{"$f":"IF(AK12=0,0,(AK12*((LOG(AK12))/LOG(2))))","v":0},null,212,{"$f":"COUNTIF(L59:L71,AN12)","v":0},{"$f":"AO12/(AQ4-AO11)","v":0},{"$f":"IF(AP12=0,0,(AP12*((LOG(AP12))/LOG(2))))","v":0},null,212,{"$f":"COUNTIF(L72:L84,AS12)","v":0},{"$f":"AT12/(AV4-AT11)","v":0},{"$f":"IF(AU12=0,0,(AU12*((LOG(AU12))/LOG(2))))","v":0}]
[21,713,11,721,11,746,null,null,null,null,0,211,null,221,2,2.564102564102564E-2,-0.13552313381698072,null,null,221,{"$f":"COUNTIF(L7:L19,T13)","v":1},{"$f":"U13/(W4-U11)","v":0.25},{"$f":"IF(V13=0,0,(V13*((LOG(V13))/LOG(2))))","v":-0.5},null,221,{"$f":"COUNTIF(L20:L32,Y13)","v":0},{"$f":"Z13/(AB4-Z11)","v":0},{"$f":"IF(AA13=0,0,(AA13*((LOG(AA13))/LOG(2))))","v":0},null,221,{"$f":"COUNTIF(L33:L45,AD13)","v":0},{"$f":"AE13/(AG4-AE11)","v":0},{"$f":"IF(AF13=0,0,(AF13*((LOG(AF13))/LOG(2))))","v":0},null,221,{"$f":"COUNTIF(L46:L58,AI13)","v":0},{"$f":"AJ13/(AL4-AJ11)","v":0},{"$f":"IF(AK13=0,0,(AK13*((LOG(AK13))/LOG(2))))","v":0},null,221,{"$f":"COUNTIF(L59:L71,AN13)","v":1},{"$f":"AO13/(AQ4-AO11)","v":0.25},{"$f":"IF(AP13=0,0,(AP13*((LOG(AP13))/LOG(2))))","v":-0.5},null,221,{"$f":"COUNTIF(L72:L84,AS13)","v":0},{"$f":"AT13/(AV4-AT11)","v":0},{"$f":"IF(AU13=0,0,(AU13*((LOG(AU13))/LOG(2))))","v":0}]
[21,876,11,885,11,890,null,null,null,null,0,211,null,222,0,0,0,null,null,222,{"$f":"COUNTIF(L7:L19,T14)","v":0},{"$f":"U14/(W4-U11)","v":0},{"$f":"IF(V14=0,0,(V14*((LOG(V14))/LOG(2))))","v":0},null,222,{"$f":"COUNTIF(L20:L32,Y14)","v":0},{"$f":"Z14/(AB4-Z11)","v":0},{"$f":"IF(AA14=0,0,(AA14*((LOG(AA14))/LOG(2))))","v":0},null,222,{"$f":"COUNTIF(L33:L45,AD14)","v":0},{"$f":"AE14/(AG4-AE11)","v":0},{"$f":"IF(AF14=0,0,(AF14*((LOG(AF14))/LOG(2))))","v":0},null,222,{"$f":"COUNTIF(L46:L58,AI14)","v":0},{"$f":"AJ14/(AL4-AJ11)","v":0},{"$f":"IF(AK14=0,0,(AK14*((LOG(AK14))/LOG(2))))","v":0},null,222,{"$f":"COUNTIF(L59:L71,AN14)","v":0},{"$f":"AO14/(AQ4-AO11)","v":0},{"$f":"IF(AP14=0,0,(AP14*((LOG(AP14))/LOG(2))))","v":0},null,222,{"$f":"COUNTIF(L72:L84,AS14)","v":0},{"$f":"AT14/(AV4-AT11)","v":0},{"$f":"IF(AU14=0,0,(AU14*((LOG(AU14))/LOG(2))))","v":0}]
[21,981,11,992,11,997,null,null,null,null,0,211,null,null,null,{"$f":"SUM(P7:P14)","v":1},{"$f":"-SUM(Q7:Q14)","v":1.228965944649834},null,null,null,null,{"$f":"SUM(V7:V14)","v":1},{"$f":"-SUM(W7:W14)","v":0.81127812445913283},null,null,null,{"$f":"SUM(AA7:AA14)","v":1},{"$f":"-SUM(AB7:AB14)","v":0},null,null,null,{"$f":"SUM(AF7:AF14)","v":1},{"$f":"-SUM(AG7:AG14)","v":0},null,null,null,{"$f":"SUM(AK7:AK14)","v":1},{"$f":"-SUM(AL7:AL14)","v":0.46899559358928122},null,null,null,{"$f":"SUM(AP7:AP14)","v":1},{"$f":"-SUM(AQ7:AQ14)","v":0.81127812445913283},null,null,null,{"$f":"SUM(AU7:AU14)","v":1},{"$f":"-SUM(AV7:AV14)","v":0}]
[21,1089,11,1107,11,1113,null,null,null,null,0,211,null,null,null,"U=",{"$f":"Q15/(LOG(Q4)/LOG(2))","v":0.19552701670574954},null,null,null,null,"U1=",{"$f":"W15/(LOG(W4)/LOG(2))","v":0.21923830308109346},null,null,null,"U2=",{"$f":"AB15/(LOG(AB4)/LOG(2))","v":0},null,null,null,"U3=",{"$f":"AG15/(LOG(AG4)/LOG(2))","v":0},null,null,null,"U4=",{"$f":"AL15/(LOG(AL4)/LOG(2))","v":0.12674050364611267},null,null,null,"U5=",{"$f":"AQ15/(LOG(AQ4)/LOG(2))","v":0.21923830308109346},null,null,null,"U6=",{"$f":"AV15/(LOG(AV4)/LOG(2))","v":0}]
[21,1206,11,1226,11,1231,null,null,null,null,0,211]
[21,1346,11,1361,11,1402,null,null,null,null,0,211]
[21,1493,11,1501,11,1517,null,null,null,null,0,211,null,"Total Target Seq"]
[12,1642,13,1650,13,1688,null,null,null,null,0,111,null,{"$f":"COUNTIF(L7:L84,G3)","v":40},null,13,13,13,13,13,13]
[21,1788,11,1822,11,1833,null,null,null,null,0,211,null,null,null,"% of reinforcement given in 6 equal intervals based on number of trials "]
[21,1923,11,1933,11,1937,null,null,null,null,0,211,null,null,null,"%_1","%_2","%_3","%_4","%_5","%_6"]
[12,2034,13,2039,13,2046,null,null,null,null,0,111,null,null,"target sequence",{"$f":"$G$3","v":211},211,211,211,211,211]
[12,2148,13,2153,13,2180,null,null,null,null,0,111,null,null,"total reinforcement",{"$f":"U11","v":9},{"$f":"Z11","v":4},{"$f":"AE11","v":7},{"$f":"AJ11","v":3},{"$f":"AO11","v":9},{"$f":"AT11","v":8}]
[21,2279,11,2286,11,2299,null,null,null,null,0,211,null,null,"% target"]
[12,2390,13,2394,13,2402,null,null,null,null,0,111,null,null,"CCRF"]
[12,2525,13,2530,13,2537,null,null,null,null,0,111,null,null,"% CCRf"]
[12,2646,13,2651,13,2663,null,null,null,null,0,111,null,null,"average response rate",{"$f":"F19/P20","v":116.69230769230769},{"$f":"(F32-F19)/Q20","v":126.84615384615384},{"$f":"(F45-F32)/R20","v":122.38461538461539},{"$f":"(F58-F45)/S20","v":134.23076923076923},{"$f":"(F71-F58)/T20","v":124.61538461538461},{"$f":"(F84-F71)/U20","v":126.92307692307692}]
[12,2766,13,2771,13,2782,null,null,null,null,0,111]
[21,2876,11,2884,11,2889,null,null,null,null,0,211]
[12,3008,13,3015,13,3033,null,null,null,null,0,111]
[12,3139,13,3146,13,3166,null,null,null,null,0,111]
[21,3264,11,3278,11,3287,null,null,null,null,0,211]
[21,3375,11,3384,11,3418,null,null,null,null,0,211]
[12,3527,13,3532,13,3540,null,null,null,null,0,111]
[12,3644,13,3653,13,3670,null,null,null,null,0,111]
[12,3770,13,3774,13,3783,null,null,null,null,0,111]
[21,3879,11,3894,11,3907,null,null,null,null,0,211]
[21,3994,11,4010,11,4020,null,null,null,null,0,211]
[12,4143,13,4148,13,4158,null,null,null,null,0,111]
[12,4257,13,4263,13,4295,null,null,null,null,0,111]
[21,4392,11,4409,11,4416,null,null,null,null,0,211]
[12,4516,13,4520,13,4528,null,null,null,null,0,111]
[21,4625,11,4641,11,4645,null,null,null,null,0,211]
[21,4733,11,4752,11,4757,null,null,null,null,0,211]
[12,4925,13,4931,13,4939,null,null,null,null,0,111]
[12,5036,13,5041,13,5050,null,null,null,null,0,111]
[12,5160,13,5167,13,5175,null,null,null,null,0,111]
[12,5276,13,5284,13,5299,null,null,null,null,0,111]
[12,5402,13,5443,13,5455,null,null,null,null,0,111]
[12,5560,13,5565,24,5578,null,null,null,null,0,112]
[12,5686,13,5698,13,5707,null,null,null,null,0,111]
[12,5833,13,5838,13,5846,null,null,null,null,0,111]
[21,5945,11,5957,11,5962,null,null,null,null,0,211]
[12,6067,13,6072,13,6077,null,null,null,null,0,111]
[21,6176,11,6235,11,6256,null,null,null,null,0,211]
[12,6358,13,6363,13,6381,null,null,null,null,0,111]
[21,6479,11,6493,11,6502,null,null,null,null,0,211]
[21,6590,11,6608,11,6615,null,null,null,null,0,211]
[21,6702,11,6715,11,6755,null,null,null,null,0,211]
[21,6845,11,6886,11,6905,null,null,null,null,0,211]
[21,6995,11,7004,11,7017,null,null,null,null,0,211]
[12,7126,13,7164,13,7178,null,null,null,null,0,111]
[12,7279,13,7283,13,7290,null,null,null,null,0,111]
[21,7383,11,7396,11,7401,null,null,null,null,0,211]
[21,7488,11,7497,11,7502,null,null,null,null,0,211]
[12,7606,13,7641,13,7657,null,null,null,null,0,111]
[21,7754,22,7759,13,7769,null,null,null,null,0,221]
[21,7865,11,7877,11,7891,null,null,null,null,0,211]
[21,7978,11,7988,11,7993,null,null,null,null,0,211]
[21,8084,11,8093,11,8122,null,null,null,null,0,211]
[12,8224,13,8233,13,8246,null,null,null,null,0,111]
[21,8343,11,8360,11,8372,null,null,null,null,0,211]
[12,8471,13,8506,13,8518,null,null,null,null,0,111]
[21,8616,11,8633,11,8647,null,null,null,null,0,211]
[12,8747,13,8760,13,8778,null,null,null,null,0,111]
[21,8875,11,8891,11,8902,null,null,null,null,0,211]
[21,8992,11,9000,11,9011,null,null,null,null,0,211]
[21,9098,11,9142,11,9160,null,null,null,null,0,211]
[12,9259,13,9263,13,9277,null,null,null,null,0,111]
[21,9388,11,9401,11,9425,null,null,null,null,0,211]
[12,9523,13,9538,13,9551,null,null,null,null,0,111]
[21,9647,11,9662,11,9668,null,null,null,null,0,211]
[21,9757,11,9765,11,9772,null,null,null,null,1,211]

{"sheet":"!N10995I.sha","index":25,"n_rows":88,"n_cols":48,"rows_kept":88,"cut":false,"hidden":false,"merged":[[1,1,1,2],[5,13,5,14],[18,13,18,14],[19,13,19,14],[4,19,4,22],[5,19,5,20],[4,39,4,42],[5,39,5,40],[4,44,4,47],[5,44,5,45],[4,24,4,27],[5,24,5,25],[4,29,4,32],[5,29,5,30],[4,34,4,37],[5,34,5,35]]}
["Report for:!N10995I.sha"]
["Date:","<date>"]
["Hen:","<hen>",null,null,null,"Correct Sequence",{"$f":"Start!J2","v":211},null,null,null,null,null,null,null,null,"Total Sequences in Data",{"$f":"4994-COUNTBLANK(L7:L5000)","v":82},null,null,null,null,"Total Sequences in Block Data",{"$f":"COUNTA(L7:L20)","v":14},null,null,null,"Total Sequences in Block Data",{"$f":"COUNTA(L21:L33)","v":13},null,null,null,"Total Sequences in Block Data",{"$f":"COUNTA(L34:L47)","v":14},null,null,null,"Total Sequences in Block Data",{"$f":"COUNTA(L48:L61)","v":14},null,null,null,"Total Sequences in Block Data",{"$f":"COUNTA(L62:L74)","v":13},null,null,null,"Total Sequences in Block Data",{"$f":"COUNTA(L75:L88)","v":14}]
[null,null,null,null,null,null,null,null,null,null,null,null,null,null,null,"Total Sequences in Summary",{"$f":"SUM(O7:O14)","v":82},null,null,null,null,"Total Sequences in Block Summary",{"$f":"SUM(U7:U14)","v":14},null,null,null,"Total Sequences in Block Summary",{"$f":"SUM(Z7:Z14)","v":13},null,null,null,"Total Sequences in Block Summary",{"$f":"SUM(AE7:AE14)","v":14},null,null,null,"Total Sequences in Block Summary",{"$f":"SUM(AJ7:AJ14)","v":14},null,null,null,"Total Sequences in Block Summary",{"$f":"SUM(AO7:AO14)","v":13},null,null,null,"Total Sequences in Block Summary",{"$f":"SUM(AT7:AT14)","v":14}]
[null,null,null,null,null,null,null,null,null,null,null,null,null,null,null,null,null,null,null,"Block 1",null,null,null,null,"Block 2",null,null,null,null,"Block 3",null,null,null,null,"Block 4",null,null,null,null,"Block 5",null,null,null,null,"Block 6"]
["Sequence\nComponent\n1","Time\n1","Sequence\nComponent\n2","Time\n2","Sequence\nComponent\n3","Time\n3","Sequence\nComponent\n4","Time\n4","Sequence\nComponent\n5","Time\n5","Correct?\n0=No 1=Yes","Sequence",null,"Frequency",null,"Relative Frequency","Variability",null,null,"Frequency",null,"Relative Frequency","Variability",null,"Frequency",null,"Relative Frequency","Variability",null,"Frequency",null,"Relative Frequency","Variability",null,"Frequency",null,"Relative Frequency","Variability",null,"Frequency",null,"Relative Frequency","Variability",null,"Frequency",null,"Relative Frequency","Variability"]
[12,11,13,17,13,22,null,null,null,null,0,111,null,111,{"$f":"COUNTIF($L$7:$L$500,N7)","v":38},{"$f":"O7/$Q$4","v":0.46341463414634149},{"$f":"IF(P7=0,0,(P7*((LOG(P7))/LOG(2))))","v":-0.51421622761745034},null,null,{"$f":"N7","v":111},{"$f":"COUNTIF(L7:L20,T7)","v":8},{"$f":"U7/(W4-U11)","v":1},{"$f":"IF(V7=0,0,(V7*((LOG(V7))/LOG(2))))","v":0},null,{"$f":"N7","v":111},{"$f":"COUNTIF(L21:L33,Y7)","v":6},{"$f":"Z7/(AB4-Z11)","v":1},{"$f":"IF(AA7=0,0,(AA7*((LOG(AA7))/LOG(2))))","v":0},null,{"$f":"N7","v":111},{"$f":"COUNTIF(L34:L47,AD7)","v":8},{"$f":"AE7/(AG4-AE11)","v":1},{"$f":"IF(AF7=0,0,(AF7*((LOG(AF7))/LOG(2))))","v":0},null,{"$f":"N7","v":111},{"$f":"COUNTIF(L48:L61,AI7)","v":4},{"$f":"AJ7/(AL4-AJ11)","v":0.8},{"$f":"IF(AK7=0,0,(AK7*((LOG(AK7))/LOG(2))))","v":-0.25754247590988982},null,{"$f":"N7","v":111},{"$f":"COUNTIF(L62:L74,AN7)","v":6},{"$f":"AO7/(AQ4-AO11)","v":0.8571428571428571},{"$f":"IF(AP7=0,0,(AP7*((LOG(AP7))/LOG(2))))","v":-0.19062207543124113},null,{"$f":"N7","v":111},{"$f":"COUNTIF(L75:L88,AS7)","v":6},{"$f":"AT7/(AV4-AT11)","v":0.75},{"$f":"IF(AU7=0,0,(AU7*((LOG(AU7))/LOG(2))))","v":-0.31127812445913283}]
[12,124,13,128,13,135,null,null,null,null,0,111,null,112,1,1.2195121951219513E-2,-7.7531122007537603E-2,null,null,112,{"$f":"COUNTIF(L7:L20,T8)","v":0},{"$f":"U8/(W4-U11)","v":0},{"$f":"IF(V8=0,0,(V8*((LOG(V8))/LOG(2))))","v":0},null,112,{"$f":"COUNTIF(L21:L33,Y8)","v":0},{"$f":"Z8/(AB4-Z11)","v":0},{"$f":"IF(AA8=0,0,(AA8*((LOG(AA8))/LOG(2))))","v":0},null,112,{"$f":"COUNTIF(L34:L47,AD8)","v":0},{"$f":"AE8/(AG4-AE11)","v":0},{"$f":"IF(AF8=0,0,(AF8*((LOG(AF8))/LOG(2))))","v":0},null,112,{"$f":"COUNTIF(L48:L61,AI8)","v":0},{"$f":"AJ8/(AL4-AJ11)","v":0},{"$f":"IF(AK8=0,0,(AK8*((LOG(AK8))/LOG(2))))","v":0},null,112,{"$f":"COUNTIF(L62:L74,AN8)","v":0},{"$f":"AO8/(AQ4-AO11)","v":0},{"$f":"IF(AP8=0,0,(AP8*((LOG(AP8))/LOG(2))))","v":0},null,112,{"$f":"COUNTIF(L75:L88,AS8)","v":1},{"$f":"AT8/(AV4-AT11)","v":0.125},{"$f":"IF(AU8=0,0,(AU8*((LOG(AU8))/LOG(2))))","v":-0.375}]
[12,246,13,251,13,260,null,null,null,null,0,111,null,121,0,0,0,null,null,121,{"$f":"COUNTIF(L7:L20,T9)","v":0},{"$f":"U9/(W4-U11)","v":0},{"$f":"IF(V9=0,0,(V9*((LOG(V9))/LOG(2))))","v":0},null,121,{"$f":"COUNTIF(L21:L33,Y9)","v":0},{"$f":"Z9/(AB4-Z11)","v":0},{"$f":"IF(AA9=0,0,(AA9*((LOG(AA9))/LOG(2))))","v":0},null,121,{"$f":"COUNTIF(L34:L47,AD9)","v":0},{"$f":"AE9/(AG4-AE11)","v":0},{"$f":"IF(AF9=0,0,(AF9*((LOG(AF9))/LOG(2))))","v":0},null,121,{"$f":"COUNTIF(L48:L61,AI9)","v":0},{"$f":"AJ9/(AL4-AJ11)","v":0},{"$f":"IF(AK9=0,0,(AK9*((LOG(AK9))/LOG(2))))","v":0},null,121,{"$f":"COUNTIF(L62:L74,AN9)","v":0},{"$f":"AO9/(AQ4-AO11)","v":0},{"$f":"IF(AP9=0,0,(AP9*((LOG(AP9))/LOG(2))))","v":0},null,121,{"$f":"COUNTIF(L75:L88,AS9)","v":0},{"$f":"AT9/(AV4-AT11)","v":0},{"$f":"IF(AU9=0,0,(AU9*((LOG(AU9))/LOG(2))))","v":0}]
[12,363,13,368,13,373,null,null,null,null,0,111,null,122,0,0,0,null,null,122,{"$f":"COUNTIF(L7:L20,T10)","v":0},{"$f":"U10/(W4-U11)","v":0},{"$f":"IF(V10=0,0,(V10*((LOG(V10))/LOG(2))))","v":0},null,122,{"$f":"COUNTIF(L21:L33,Y10)","v":0},{"$f":"Z10/(AB4-Z11)","v":0},{"$f":"IF(AA10=0,0,(AA10*((LOG(AA10))/LOG(2))))","v":0},null,122,{"$f":"COUNTIF(L34:L47,AD10)","v":0},{"$f":"AE10/(AG4-AE11)","v":0},{"$f":"IF(AF10=0,0,(AF10*((LOG(AF10))/LOG(2))))","v":0},null,122,{"$f":"COUNTIF(L48:L61,AI10)","v":0},{"$f":"AJ10/(AL4-AJ11)","v":0},{"$f":"IF(AK10=0,0,(AK10*((LOG(AK10))/LOG(2))))","v":0},null,122,{"$f":"COUNTIF(L62:L74,AN10)","v":0},{"$f":"AO10/(AQ4-AO11)","v":0},{"$f":"IF(AP10=0,0,(AP10*((LOG(AP10))/LOG(2))))","v":0},null,122,{"$f":"COUNTIF(L75:L88,AS10)","v":0},{"$f":"AT10/(AV4-AT11)","v":0},{"$f":"IF(AU10=0,0,(AU10*((LOG(AU10))/LOG(2))))","v":0}]
[12,486,13,491,13,501,null,null,null,null,0,111,null,211,40,0.48780487804878048,-0.50518239499059581,null,null,211,{"$f":"COUNTIF(L7:L20,T11)","v":6},null,null,null,211,{"$f":"COUNTIF(L21:L33,Y11)","v":7},null,null,null,211,{"$f":"COUNTIF(L34:L47,AD11)","v":6},null,null,null,211,{"$f":"COUNTIF(L48:L61,AI11)","v":9},null,null,null,211,{"$f":"COUNTIF(L62:L74,AN11)","v":6},null,null,null,211,{"$f":"COUNTIF(L75:L88,AS11)","v":6}]
[21,596,11,608,11,613,null,null,null,null,0,211,null,212,0,0,0,null,null,212,{"$f":"COUNTIF(L7:L20,T12)","v":0},{"$f":"U12/(W4-U11)","v":0},{"$f":"IF(V12=0,0,(V12*((LOG(V12))/LOG(2))))","v":0},null,212,{"$f":"COUNTIF(L21:L33,Y12)","v":0},{"$f":"Z12/(AB4-Z11)","v":0},{"$f":"IF(AA12=0,0,(AA12*((LOG(AA12))/LOG(2))))","v":0},null,212,{"$f":"COUNTIF(L34:L47,AD12)","v":0},{"$f":"AE12/(AG4-AE11)","v":0},{"$f":"IF(AF12=0,0,(AF12*((LOG(AF12))/LOG(2))))","v":0},null,212,{"$f":"COUNTIF(L48:L61,AI12)","v":0},{"$f":"AJ12/(AL4-AJ11)","v":0},{"$f":"IF(AK12=0,0,(AK12*((LOG(AK12))/LOG(2))))","v":0},null,212,{"$f":"COUNTIF(L62:L74,AN12)","v":0},{"$f":"AO12/(AQ4-AO11)","v":0},{"$f":"IF(AP12=0,0,(AP12*((LOG(AP12))/LOG(2))))","v":0},null,212,{"$f":"COUNTIF(L75:L88,AS12)","v":0},{"$f":"AT12/(AV4-AT11)","v":0},{"$f":"IF(AU12=0,0,(AU12*((LOG(AU12))/LOG(2))))","v":0}]
[21,701,11,712,11,739,null,null,null,null,0,211,null,221,3,3.6585365853658534E-2,-0.17460693306939978,null,null,221,{"$f":"COUNTIF(L7:L20,T13)","v":0},{"$f":"U13/(W4-U11)","v":0},{"$f":"IF(V13=0,0,(V13*((LOG(V13))/LOG(2))))","v":0},null,221,{"$f":"COUNTIF(L21:L33,Y13)","v":0},{"$f":"Z13/(AB4-Z11)","v":0},{"$f":"IF(AA13=0,0,(AA13*((LOG(AA13))/LOG(2))))","v":0},null,221,{"$f":"COUNTIF(L34:L47,AD13)","v":0},{"$f":"AE13/(AG4-AE11)","v":0},{"$f":"IF(AF13=0,0,(AF13*((LOG(AF13))/LOG(2))))","v":0},null,221,{"$f":"COUNTIF(L48:L61,AI13)","v":1},{"$f":"AJ13/(AL4-AJ11)","v":0.2},{"$f":"IF(AK13=0,0,(AK13*((LOG(AK13))/LOG(2))))","v":-0.46438561897747244},null,221,{"$f":"COUNTIF(L62:L74,AN13)","v":1},{"$f":"AO13/(AQ4-AO11)","v":0.14285714285714285},{"$f":"IF(AP13=0,0,(AP13*((LOG(AP13))/LOG(2))))","v":-0.40105070315108626},null,221,{"$f":"COUNTIF(L75:L88,AS13)","v":1},{"$f":"AT13/(AV4-AT11)","v":0.125},{"$f":"IF(AU13=0,0,(AU13*((LOG(AU13))/LOG(2))))","v":-0.375}]
[12,852,13,871,13,887,null,null,null,null,0,111,null,222,0,0,0,null,null,222,{"$f":"COUNTIF(L7:L20,T14)","v":0},{"$f":"U14/(W4-U11)","v":0},{"$f":"IF(V14=0,0,(V14*((LOG(V14))/LOG(2))))","v":0},null,222,{"$f":"COUNTIF(L21:L33,Y14)","v":0},{"$f":"Z14/(AB4-Z11)","v":0},{"$f":"IF(AA14=0,0,(AA14*((LOG(AA14))/LOG(2))))","v":0},null,222,{"$f":"COUNTIF(L34:L47,AD14)","v":0},{"$f":"AE14/(AG4-AE11)","v":0},{"$f":"IF(AF14=0,0,(AF14*((LOG(AF14))/LOG(2))))","v":0},null,222,{"$f":"COUNTIF(L48:L61,AI14)","v":0},{"$f":"AJ14/(AL4-AJ11)","v":0},{"$f":"IF(AK14=0,0,(AK14*((LOG(AK14))/LOG(2))))","v":0},null,222,{"$f":"COUNTIF(L62:L74,AN14)","v":0},{"$f":"AO14/(AQ4-AO11)","v":0},{"$f":"IF(AP14=0,0,(AP14*((LOG(AP14))/LOG(2))))","v":0},null,222,{"$f":"COUNTIF(L75:L88,AS14)","v":0},{"$f":"AT14/(AV4-AT11)","v":0},{"$f":"IF(AU14=0,0,(AU14*((LOG(AU14))/LOG(2))))","v":0}]
[21,985,11,995,11,1011,null,null,null,null,0,211,null,null,null,{"$f":"SUM(P7:P14)","v":1},{"$f":"-SUM(Q7:Q14)","v":1.2715366776849835},null,null,null,null,{"$f":"SUM(V7:V14)","v":1},{"$f":"-SUM(W7:W14)","v":0},null,null,null,{"$f":"SUM(AA7:AA14)","v":1},{"$f":"-SUM(AB7:AB14)","v":0},null,null,null,{"$f":"SUM(AF7:AF14)","v":1},{"$f":"-SUM(AG7:AG14)","v":0},null,null,null,{"$f":"SUM(AK7:AK14)","v":1},{"$f":"-SUM(AL7:AL14)","v":0.72192809488736231},null,null,null,{"$f":"SUM(AP7:AP14)","v":1},{"$f":"-SUM(AQ7:AQ14)","v":0.59167277858232736},null,null,null,{"$f":"SUM(AU7:AU14)","v":1},{"$f":"-SUM(AV7:AV14)","v":1.0612781244591329}]
[12,1128,13,1143,13,1156,null,null,null,null,0,111,null,null,null,"U=",{"$f":"Q15/(LOG(Q4)/LOG(2))","v":0.2000041331571252},null,null,null,null,"U1=",{"$f":"W15/(LOG(W4)/LOG(2))","v":0},null,null,null,"U2=",{"$f":"AB15/(LOG(AB4)/LOG(2))","v":0},null,null,null,"U3=",{"$f":"AG15/(LOG(AG4)/LOG(2))","v":0},null,null,null,"U4=",{"$f":"AL15/(LOG(AL4)/LOG(2))","v":0.18961407845245268},null,null,null,"U5=",{"$f":"AQ15/(LOG(AQ4)/LOG(2))","v":0.15989255970897234},null,null,null,"U6=",{"$f":"AV15/(LOG(AV4)/LOG(2))","v":0.27874420593433613}]
[21,1253,11,1262,11,1268,null,null,null,null,0,211]
[21,1363,11,1373,11,1379,null,null,null,null,0,211]
[21,1482,11,1492,11,1524,null,null,null,null,0,211,null,"Total Target Seq"]
[12,1622,13,1629,13,1638,null,null,null,null,0,111,null,{"$f":"COUNTIF(L7:L88,G3)","v":40},null,14,13,14,14,13,14]
[12,1753,13,1757,13,1762,null,null,null,null,0,111,null,null,null,"% of reinforcement given in 6 equal intervals based on number of trials "]
[12,1863,13,1881,13,1898,null,null,null,null,0,111,null,null,null,"%_1","%_2","%_3","%_4","%_5","%_6"]
[12,2003,13,2009,13,2015,null,null,null,null,0,111,null,null,"target sequence",{"$f":"$G$3","v":211},211,211,211,211,211]
[21,2136,11,2148,11,2154,null,null,null,null,0,211,null,null,"total reinforcement",{"$f":"U11","v":6},{"$f":"Z11","v":7},{"$f":"AE11","v":6},{"$f":"AJ11","v":9},{"$f":"AO11","v":6},{"$f":"AT11","v":6}]
[21,2241,11,2250,11,2275,null,null,null,null,0,211,null,null,"% target"]
[12,2404,13,2416,13,2427,null,null,null,null,0,111,null,null,"CCRF"]
[21,2526,11,2538,11,2547,null,null,null,null,0,211,null,null,"% CCRf"]
[21,2636,11,2644,11,2655,null,null,null,null,0,211,null,null,"average response rate",{"$f":"F20/P20","v":117},{"$f":"(F33-F20)/Q20","v":127.84615384615384},{"$f":"(F47-F33)/R20","v":124.57142857142857},{"$f":"(F61-F47)/S20","v":117.78571428571429},{"$f":"(F74-F61)/T20","v":129.92307692307693},{"$f":"(F88-F74)/U20","v":120.57142857142857}]
[12,2764,13,2770,13,2784,null,null,null,null,0,111]
[21,2881,11,2896,11,2924,null,null,null,null,0,211]
[21,3014,11,3027,11,3044,null,null,null,null,0,211]
[12,3143,13,3166,13,3189,null,null,null,null,0,111]
[21,3285,11,3294,11,3300,null,null,null,null,0,211]
[12,3397,13,3407,13,3421,null,null,null,null,0,111]
[21,3516,11,3530,11,3544,null,null,null,null,0,211]
[21,3634,11,3643,11,3662,null,null,null,null,0,211]
[12,3761,13,3766,13,3780,null,null,null,null,0,111]
[12,3904,13,3916,13,3930,null,null,null,null,0,111]
[21,4026,11,4035,11,4048,null,null,null,null,0,211]
[12,4146,13,4161,13,4175,null,null,null,null,0,111]
[21,4272,11,4287,11,4306,null,null,null,null,0,211]
[12,4401,13,4408,13,4423,null,null,null,null,0,111]
[12,4540,13,4546,13,4556,null,null,null,null,0,111]
[21,4651,11,4667,11,4677,null,null,null,null,0,211]
[12,4780,13,4784,13,4798,null,null,null,null,0,111]
[21,4898,11,4910,11,4915,null,null,null,null,0,211]
[12,5023,13,5035,13,5044,null,null,null,null,0,111]
[21,5144,11,5152,11,5158,null,null,null,null,0,211]
[21,5244,11,5257,11,5274,null,null,null,null,0,211]
[21,5365,11,5376,11,5390,null,null,null,null,0,211]
[21,5476,11,5486,11,5506,null,null,null,null,0,211]
[21,5601,11,5615,11,5629,null,null,null,null,0,211]
[21,5721,11,5730,11,5734,null,null,null,null,0,211]
[12,5849,13,5854,13,5874,null,null,null,null,0,111]
[12,5976,13,5981,13,5986,null,null,null,null,0,111]
[21,6081,11,6090,11,6099,null,null,null,null,0,211]
[12,6215,13,6219,13,6226,null,null,null,null,0,111]
[21,6325,11,6338,11,6347,null,null,null,null,0,211]
[12,6446,13,6450,13,6461,null,null,null,null,0,111]
[21,6558,22,6566,13,6575,null,null,null,null,0,221]
[21,6667,11,6686,11,6693,null,null,null,null,0,211]
[12,6795,13,6805,13,6813,null,null,null,null,0,111]
[21,6911,11,6934,11,6948,null,null,null,null,0,211]
[21,7035,22,7040,13,7048,null,null,null,null,0,221]
[21,7145,11,7159,11,7169,null,null,null,null,0,211]
[12,7273,13,7291,13,7303,null,null,null,null,0,111]
[21,7400,11,7426,11,7437,null,null,null,null,0,211]
[21,7526,11,7543,11,7559,null,null,null,null,0,211]
[21,7651,11,7661,11,7687,null,null,null,null,0,211]
[12,7806,13,7808,13,7834,null,null,null,null,0,111]
[21,7934,11,7966,11,7978,null,null,null,null,0,211]
[12,8086,13,8088,13,8098,null,null,null,null,0,111]
[12,8236,13,8244,13,8251,null,null,null,null,0,111]
[12,8352,13,8366,13,8382,null,null,null,null,0,111]
[12,8480,13,8486,24,8497,null,null,null,null,0,112]
[12,8599,13,8603,13,8611,null,null,null,null,0,111]
[21,8708,11,8724,11,8728,null,null,null,null,0,211]
[21,8821,11,8832,11,8836,null,null,null,null,0,211]
[12,8979,13,8990,13,9003,null,null,null,null,0,111]
[12,9105,13,9118,13,9128,null,null,null,null,0,111]
[12,9235,13,9241,13,9246,null,null,null,null,0,111]
[21,9344,11,9358,11,9361,null,null,null,null,0,211]
[12,9458,13,9476,13,9492,null,null,null,null,0,111]
[12,9600,13,9611,13,9624,null,null,null,null,0,111]
[21,9723,11,9737,11,9742,null,null,null,null,0,211]
[21,9829,22,9833,13,9845,null,null,null,null,0,221]
[21,9941,11,9955,11,9958,null,null,null,null,0,211]
[21,10048,11,10060,11,10070,null,null,null,null,1,211]

{"sheet":"!N110A1I.sha","index":26,"n_rows":113,"n_cols":48,"rows_kept":113,"cut":false,"hidden":false,"merged":[[1,1,1,2],[5,13,5,14],[18,13,18,14],[19,13,19,14],[4,19,4,22],[5,19,5,20],[4,39,4,42],[5,39,5,40],[4,44,4,47],[5,44,5,45],[4,24,4,27],[5,24,5,25],[4,29,4,32],[5,29,5,30],[4,34,4,37],[5,34,5,35]]}
["Report for:!N110A1I.sha"]
["Date:","<date>"]
["Hen:","<hen>",null,null,null,"Correct Sequence",{"$f":"Start!J2","v":211},null,null,null,null,null,null,null,null,"Total Sequences in Data",{"$f":"4994-COUNTBLANK(L7:L5000)","v":107},null,null,null,null,"Total Sequences in Block Data",{"$f":"COUNTA(L7:L24)","v":18},null,null,null,"Total Sequences in Block Data",{"$f":"COUNTA(L25:L42)","v":18},null,null,null,"Total Sequences in Block Data",{"$f":"COUNTA(L43:L59)","v":17},null,null,null,"Total Sequences in Block Data",{"$f":"COUNTA(L60:L77)","v":18},null,null,null,"Total Sequences in Block Data",{"$f":"COUNTA(L78:L95)","v":18},null,null,null,"Total Sequences in Block Data",{"$f":"COUNTA(L96:L113)","v":18}]
[null,null,null,null,null,null,null,null,null,null,null,null,null,null,null,"Total Sequences in Summary",{"$f":"SUM(O7:O14)","v":107},null,null,null,null,"Total Sequences in Block Summary",{"$f":"SUM(U7:U14)","v":18},null,null,null,"Total Sequences in Block Summary",{"$f":"SUM(Z7:Z14)","v":18},null,null,null,"Total Sequences in Block Summary",{"$f":"SUM(AE7:AE14)","v":17},null,null,null,"Total Sequences in Block Summary",{"$f":"SUM(AJ7:AJ14)","v":18},null,null,null,"Total Sequences in Block Summary",{"$f":"SUM(AO7:AO14)","v":18},null,null,null,"Total Sequences in Block Summary",{"$f":"SUM(AT7:AT14)","v":18}]
[null,null,null,null,null,null,null,null,null,null,null,null,null,null,null,null,null,null,null,"Block 1",null,null,null,null,"Block 2",null,null,null,null,"Block 3",null,null,null,null,"Block 4",null,null,null,null,"Block 5",null,null,null,null,"Block 6"]
["Sequence\nComponent\n1","Time\n1","Sequence\nComponent\n2","Time\n2","Sequence\nComponent\n3","Time\n3","Sequence\nComponent\n4","Time\n4","Sequence\nComponent\n5","Time\n5","Correct?\n0=No 1=Yes","Sequence",null,"Frequency",null,"Relative Frequency","Variability",null,null,"Frequency",null,"Relative Frequency","Variability",null,"Frequency",null,"Relative Frequency","Variability",null,"Frequency",null,"Relative Frequency","Variability",null,"Frequency",null,"Relative Frequency","Variability",null,"Frequency",null,"Relative Frequency","Variability",null,"Frequency",null,"Relative Frequency","Variability"]
[12,14,13,19,13,23,null,null,null,null,0,111,null,111,{"$f":"COUNTIF($L$7:$L$500,N7)","v":61},{"$f":"O7/$Q$4","v":0.57009345794392519},{"$f":"IF(P7=0,0,(P7*((LOG(P7))/LOG(2))))","v":-0.46219166896386821},null,null,{"$f":"N7","v":111},{"$f":"COUNTIF(L7:L24,T7)","v":7},{"$f":"U7/(W4-U11)","v":0.77777777777777779},{"$f":"IF(V7=0,0,(V7*((LOG(V7))/LOG(2))))","v":-0.28199895063255082},null,{"$f":"N7","v":111},{"$f":"COUNTIF(L25:L42,Y7)","v":9},{"$f":"Z7/(AB4-Z11)","v":1},{"$f":"IF(AA7=0,0,(AA7*((LOG(AA7))/LOG(2))))","v":0},null,{"$f":"N7","v":111},{"$f":"COUNTIF(L43:L59,AD7)","v":17},{"$f":"AE7/(AG4-AE11)","v":1},{"$f":"IF(AF7=0,0,(AF7*((LOG(AF7))/LOG(2))))","v":0},null,{"$f":"N7","v":111},{"$f":"COUNTIF(L60:L77,AI7)","v":10},{"$f":"AJ7/(AL4-AJ11)","v":0.83333333333333337},{"$f":"IF(AK7=0,0,(AK7*((LOG(AK7))/LOG(2))))","v":-0.21919533819482812},null,{"$f":"N7","v":111},{"$f":"COUNTIF(L78:L95,AN7)","v":10},{"$f":"AO7/(AQ4-AO11)","v":0.83333333333333337},{"$f":"IF(AP7=0,0,(AP7*((LOG(AP7))/LOG(2))))","v":-0.21919533819482812},null,{"$f":"N7","v":111},{"$f":"COUNTIF(L96:L113,AS7)","v":8},{"$f":"AT7/(AV4-AT11)","v":1},{"$f":"IF(AU7=0,0,(AU7*((LOG(AU7))/LOG(2))))","v":0}]
[21,116,11,124,11,129,null,null,null,null,0,211,null,112,2,1.8691588785046728E-2,-0.10731713993273172,null,null,112,{"$f":"COUNTIF(L7:L24,T8)","v":1},{"$f":"U8/(W4-U11)","v":0.1111111111111111},{"$f":"IF(V8=0,0,(V8*((LOG(V8))/LOG(2))))","v":-0.3522138890491458},null,112,{"$f":"COUNTIF(L25:L42,Y8)","v":0},{"$f":"Z8/(AB4-Z11)","v":0},{"$f":"IF(AA8=0,0,(AA8*((LOG(AA8))/LOG(2))))","v":0},null,112,{"$f":"COUNTIF(L43:L59,AD8)","v":0},{"$f":"AE8/(AG4-AE11)","v":0},{"$f":"IF(AF8=0,0,(AF8*((LOG(AF8))/LOG(2))))","v":0},null,112,{"$f":"COUNTIF(L60:L77,AI8)","v":0},{"$f":"AJ8/(AL4-AJ11)","v":0},{"$f":"IF(AK8=0,0,(AK8*((LOG(AK8))/LOG(2))))","v":0},null,112,{"$f":"COUNTIF(L78:L95,AN8)","v":1},{"$f":"AO8/(AQ4-AO11)","v":8.3333333333333329E-2},{"$f":"IF(AP8=0,0,(AP8*((LOG(AP8))/LOG(2))))","v":-0.29874687506009634},null,112,{"$f":"COUNTIF(L96:L113,AS8)","v":0},{"$f":"AT8/(AV4-AT11)","v":0},{"$f":"IF(AU8=0,0,(AU8*((LOG(AU8))/LOG(2))))","v":0}]
[12,239,13,256,13,273,null,null,null,null,0,111,null,121,1,9.3457943925233638E-3,-6.3004364358889217E-2,null,null,121,{"$f":"COUNTIF(L7:L24,T9)","v":1},{"$f":"U9/(W4-U11)","v":0.1111111111111111},{"$f":"IF(V9=0,0,(V9*((LOG(V9))/LOG(2))))","v":-0.3522138890491458},null,121,{"$f":"COUNTIF(L25:L42,Y9)","v":0},{"$f":"Z9/(AB4-Z11)","v":0},{"$f":"IF(AA9=0,0,(AA9*((LOG(AA9))/LOG(2))))","v":0},null,121,{"$f":"COUNTIF(L43:L59,AD9)","v":0},{"$f":"AE9/(AG4-AE11)","v":0},{"$f":"IF(AF9=0,0,(AF9*((LOG(AF9))/LOG(2))))","v":0},null,121,{"$f":"COUNTIF(L60:L77,AI9)","v":0},{"$f":"AJ9/(AL4-AJ11)","v":0},{"$f":"IF(AK9=0,0,(AK9*((LOG(AK9))/LOG(2))))","v":0},null,121,{"$f":"COUNTIF(L78:L95,AN9)","v":0},{"$f":"AO9/(AQ4-AO11)","v":0},{"$f":"IF(AP9=0,0,(AP9*((LOG(AP9))/LOG(2))))","v":0},null,121,{"$f":"COUNTIF(L96:L113,AS9)","v":0},{"$f":"AT9/(AV4-AT11)","v":0},{"$f":"IF(AU9=0,0,(AU9*((LOG(AU9))/LOG(2))))","v":0}]
[21,372,11,383,11,389,null,null,null,null,0,211,null,122,0,0,0,null,null,122,{"$f":"COUNTIF(L7:L24,T10)","v":0},{"$f":"U10/(W4-U11)","v":0},{"$f":"IF(V10=0,0,(V10*((LOG(V10))/LOG(2))))","v":0},null,122,{"$f":"COUNTIF(L25:L42,Y10)","v":0},{"$f":"Z10/(AB4-Z11)","v":0},{"$f":"IF(AA10=0,0,(AA10*((LOG(AA10))/LOG(2))))","v":0},null,122,{"$f":"COUNTIF(L43:L59,AD10)","v":0},{"$f":"AE10/(AG4-AE11)","v":0},{"$f":"IF(AF10=0,0,(AF10*((LOG(AF10))/LOG(2))))","v":0},null,122,{"$f":"COUNTIF(L60:L77,AI10)","v":0},{"$f":"AJ10/(AL4-AJ11)","v":0},{"$f":"IF(AK10=0,0,(AK10*((LOG(AK10))/LOG(2))))","v":0},null,122,{"$f":"COUNTIF(L78:L95,AN10)","v":0},{"$f":"AO10/(AQ4-AO11)","v":0},{"$f":"IF(AP10=0,0,(AP10*((LOG(AP10))/LOG(2))))","v":0},null,122,{"$f":"COUNTIF(L96:L113,AS10)","v":0},{"$f":"AT10/(AV4-AT11)","v":0},{"$f":"IF(AU10=0,0,(AU10*((LOG(AU10))/LOG(2))))","v":0}]
[21,476,11,485,11,490,null,null,null,null,0,211,null,211,40,0.37383177570093457,-0.53066874449113444,null,null,211,{"$f":"COUNTIF(L7:L24,T11)","v":9},null,null,null,211,{"$f":"COUNTIF(L25:L42,Y11)","v":9},null,null,null,211,{"$f":"COUNTIF(L43:L59,AD11)","v":0},null,null,null,211,{"$f":"COUNTIF(L60:L77,AI11)","v":6},null,null,null,211,{"$f":"COUNTIF(L78:L95,AN11)","v":6},null,null,null,211,{"$f":"COUNTIF(L96:L113,AS11)","v":10}]
[12,597,13,611,13,634,null,null,null,null,0,111,null,212,0,0,0,null,null,212,{"$f":"COUNTIF(L7:L24,T12)","v":0},{"$f":"U12/(W4-U11)","v":0},{"$f":"IF(V12=0,0,(V12*((LOG(V12))/LOG(2))))","v":0},null,212,{"$f":"COUNTIF(L25:L42,Y12)","v":0},{"$f":"Z12/(AB4-Z11)","v":0},{"$f":"IF(AA12=0,0,(AA12*((LOG(AA12))/LOG(2))))","v":0},null,212,{"$f":"COUNTIF(L43:L59,AD12)","v":0},{"$f":"AE12/(AG4-AE11)","v":0},{"$f":"IF(AF12=0,0,(AF12*((LOG(AF12))/LOG(2))))","v":0},null,212,{"$f":"COUNTIF(L60:L77,AI12)","v":0},{"$f":"AJ12/(AL4-AJ11)","v":0},{"$f":"IF(AK12=0,0,(AK12*((LOG(AK12))/LOG(2))))","v":0},null,212,{"$f":"COUNTIF(L78:L95,AN12)","v":0},{"$f":"AO12/(AQ4-AO11)","v":0},{"$f":"IF(AP12=0,0,(AP12*((LOG(AP12))/LOG(2))))","v":0},null,212,{"$f":"COUNTIF(L96:L113,AS12)","v":0},{"$f":"AT12/(AV4-AT11)","v":0},{"$f":"IF(AU12=0,0,(AU12*((LOG(AU12))/LOG(2))))","v":0}]
[21,733,11,744,11,749,null,null,null,null,0,211,null,221,3,2.8037383177570093E-2,-0.14457489212186889,null,null,221,{"$f":"COUNTIF(L7:L24,T13)","v":0},{"$f":"U13/(W4-U11)","v":0},{"$f":"IF(V13=0,0,(V13*((LOG(V13))/LOG(2))))","v":0},null,221,{"$f":"COUNTIF(L25:L42,Y13)","v":0},{"$f":"Z13/(AB4-Z11)","v":0},{"$f":"IF(AA13=0,0,(AA13*((LOG(AA13))/LOG(2))))","v":0},null,221,{"$f":"COUNTIF(L43:L59,AD13)","v":0},{"$f":"AE13/(AG4-AE11)","v":0},{"$f":"IF(AF13=0,0,(AF13*((LOG(AF13))/LOG(2))))","v":0},null,221,{"$f":"COUNTIF(L60:L77,AI13)","v":2},{"$f":"AJ13/(AL4-AJ11)","v":0.16666666666666666},{"$f":"IF(AK13=0,0,(AK13*((LOG(AK13))/LOG(2))))","v":-0.43082708345352599},null,221,{"$f":"COUNTIF(L78:L95,AN13)","v":1},{"$f":"AO13/(AQ4-AO11)","v":8.3333333333333329E-2},{"$f":"IF(AP13=0,0,(AP13*((LOG(AP13))/LOG(2))))","v":-0.29874687506009634},null,221,{"$f":"COUNTIF(L96:L113,AS13)","v":0},{"$f":"AT13/(AV4-AT11)","v":0},{"$f":"IF(AU13=0,0,(AU13*((LOG(AU13))/LOG(2))))","v":0}]
[21,835,11,846,11,850,null,null,null,null,0,211,null,222,0,0,0,null,null,222,{"$f":"COUNTIF(L7:L24,T14)","v":0},{"$f":"U14/(W4-U11)","v":0},{"$f":"IF(V14=0,0,(V14*((LOG(V14))/LOG(2))))","v":0},null,222,{"$f":"COUNTIF(L25:L42,Y14)","v":0},{"$f":"Z14/(AB4-Z11)","v":0},{"$f":"IF(AA14=0,0,(AA14*((LOG(AA14))/LOG(2))))","v":0},null,222,{"$f":"COUNTIF(L43:L59,AD14)","v":0},{"$f":"AE14/(AG4-AE11)","v":0},{"$f":"IF(AF14=0,0,(AF14*((LOG(AF14))/LOG(2))))","v":0},null,222,{"$f":"COUNTIF(L60:L77,AI14)","v":0},{"$f":"AJ14/(AL4-AJ11)","v":0},{"$f":"IF(AK14=0,0,(AK14*((LOG(AK14))/LOG(2))))","v":0},null,222,{"$f":"COUNTIF(L78:L95,AN14)","v":0},{"$f":"AO14/(AQ4-AO11)","v":0},{"$f":"IF(AP14=0,0,(AP14*((LOG(AP14))/LOG(2))))","v":0},null,222,{"$f":"COUNTIF(L96:L113,AS14)","v":0},{"$f":"AT14/(AV4-AT11)","v":0},{"$f":"IF(AU14=0,0,(AU14*((LOG(AU14))/LOG(2))))","v":0}]
[12,960,13,965,13,976,null,null,null,null,0,111,null,null,null,{"$f":"SUM(P7:P14)","v":0.99999999999999989},{"$f":"-SUM(Q7:Q14)","v":1.3077568098684924},null,null,null,null,{"$f":"SUM(V7:V14)","v":1},{"$f":"-SUM(W7:W14)","v":0.98642672873084236},null,null,null,{"$f":"SUM(AA7:AA14)","v":1},{"$f":"-SUM(AB7:AB14)","v":0},null,null,null,{"$f":"SUM(AF7:AF14)","v":1},{"$f":"-SUM(AG7:AG14)","v":0},null,null,null,{"$f":"SUM(AK7:AK14)","v":1},{"$f":"-SUM(AL7:AL14)","v":0.65002242164835411},null,null,null,{"$f":"SUM(AP7:AP14)","v":1},{"$f":"-SUM(AQ7:AQ14)","v":0.81668908831502085},null,null,null,{"$f":"SUM(AU7:AU14)","v":1},{"$f":"-SUM(AV7:AV14)","v":0}]
[12,1090,13,1102,24,1115,null,null,null,null,0,112,null,null,null,"U=",{"$f":"Q15/(LOG(Q4)/LOG(2))","v":0.1939869782803198},null,null,null,null,"U1=",{"$f":"W15/(LOG(W4)/LOG(2))","v":0.23655742690567641},null,null,null,"U2=",{"$f":"AB15/(LOG(AB4)/LOG(2))","v":0},null,null,null,"U3=",{"$f":"AG15/(LOG(AG4)/LOG(2))","v":0},null,null,null,"U4=",{"$f":"AL15/(LOG(AL4)/LOG(2))","v":0.15588348026008178},null,null,null,"U5=",{"$f":"AQ15/(LOG(AQ4)/LOG(2))","v":0.1958522246881037},null,null,null,"U6=",{"$f":"AV15/(LOG(AV4)/LOG(2))","v":0}]
[21,1213,11,1227,11,1245,null,null,null,null,0,211]
[12,1351,13,1362,13,1375,null,null,null,null,0,111]
[12,1472,24,1474,13,1481,null,null,null,null,0,121,null,"Total Target Seq"]
[21,1577,11,1586,11,1592,null,null,null,null,0,211,null,{"$f":"COUNTIF(L7:L113,G3)","v":40},null,18,18,17,18,18,18]
[12,1689,13,1693,13,1703,null,null,null,null,0,111,null,null,null,"% of reinforcement given in 6 equal intervals based on number of trials "]
[21,1799,11,1812,11,1826,null,null,null,null,0,211,null,null,null,"%_1","%_2","%_3","%_4","%_5","%_6"]
[21,1913,11,1928,11,1963,null,null,null,null,0,211,null,null,"target sequence",{"$f":"$G$3","v":211},211,211,211,211,211]
[12,2066,13,2071,13,2077,null,null,null,null,0,111,null,null,"total reinforcement",{"$f":"U11","v":9},{"$f":"Z11","v":9},{"$f":"AE11","v":0},{"$f":"AJ11","v":6},{"$f":"AO11","v":6},{"$f":"AT11","v":10}]
[21,2173,11,2185,11,2208,null,null,null,null,0,211,null,null,"% target"]
[12,2308,13,2312,13,2329,null,null,null,null,0,111,null,null,"CCRF"]
[21,2426,11,2435,11,2451,null,null,null,null,0,211,null,null,"% CCRf"]
[12,2550,13,2583,13,2596,null,null,null,null,0,111,null,null,"average response rate",{"$f":"F24/P20","v":115.38888888888889},{"$f":"(F42-F24)/Q20","v":122.38888888888889},{"$f":"(F59-F42)/R20","v":131.70588235294119},{"$f":"(F77-F59)/S20","v":128.38888888888889},{"$f":"(F95-F77)/T20","v":125.11111111111111},{"$f":"(F113-F95)/U20","v":121.38888888888889}]
[21,2692,11,2701,11,2708,null,null,null,null,0,211]
[21,2796,11,2812,11,2818,null,null,null,null,0,211]
[21,2905,11,2918,11,2922,null,null,null,null,0,211]
[21,3010,11,3024,11,3041,null,null,null,null,0,211]
[21,3129,11,3148,11,3173,null,null,null,null,0,211]
[21,3263,11,3276,11,3296,null,null,null,null,0,211]
[21,3398,11,3406,11,3412,null,null,null,null,0,211]
[12,3525,13,3534,13,3544,null,null,null,null,0,111]
[12,3652,13,3656,13,3665,null,null,null,null,0,111]
[12,3768,13,3774,13,3782,null,null,null,null,0,111]
[12,3893,13,3897,13,3905,null,null,null,null,0,111]
[12,4008,13,4012,13,4023,null,null,null,null,0,111]
[12,4125,13,4129,13,4160,null,null,null,null,0,111]
[12,4260,13,4266,13,4280,null,null,null,null,0,111]
[12,4419,13,4423,13,4476,null,null,null,null,0,111]
[12,4584,13,4594,13,4606,null,null,null,null,0,111]
[12,4709,13,4713,13,4721,null,null,null,null,0,111]
[12,4822,13,4827,13,4839,null,null,null,null,0,111]
[12,4944,13,4954,13,4974,null,null,null,null,0,111]
[12,5079,13,5093,13,5105,null,null,null,null,0,111]
[12,5207,13,5211,13,5222,null,null,null,null,0,111]
[12,5329,13,5333,13,5349,null,null,null,null,0,111]
[12,5455,13,5459,13,5474,null,null,null,null,0,111]
[12,5580,13,5583,13,5589,null,null,null,null,0,111]
[12,5687,13,5692,13,5700,null,null,null,null,0,111]
[12,5803,13,5812,13,5818,null,null,null,null,0,111]
[12,5932,13,5943,13,5957,null,null,null,null,0,111]
[12,6062,13,6102,13,6119,null,null,null,null,0,111]
[12,6245,13,6249,13,6259,null,null,null,null,0,111]
[12,6361,13,6366,13,6375,null,null,null,null,0,111]
[12,6484,13,6505,13,6519,null,null,null,null,0,111]
[12,6620,13,6626,13,6633,null,null,null,null,0,111]
[21,6725,11,6735,11,6747,null,null,null,null,0,211]
[12,6877,13,6881,13,6892,null,null,null,null,0,111]
[12,7008,13,7013,13,7040,null,null,null,null,0,111]
[12,7151,13,7165,13,7174,null,null,null,null,0,111]
[21,7271,22,7273,13,7282,null,null,null,null,0,221]
[12,7393,13,7412,13,7423,null,null,null,null,0,111]
[12,7525,13,7530,13,7535,null,null,null,null,0,111]
[21,7628,11,7639,11,7644,null,null,null,null,0,211]
[21,7732,11,7741,11,7769,null,null,null,null,0,211]
[12,7940,13,7945,13,7959,null,null,null,null,0,111]
[12,8063,13,8094,13,8107,null,null,null,null,0,111]
[21,8204,11,8213,11,8226,null,null,null,null,0,211]
[12,8328,13,8332,13,8342,null,null,null,null,0,111]
[21,8440,11,8454,11,8458,null,null,null,null,0,211]
[12,8566,13,8575,13,8592,null,null,null,null,0,111]
[21,8690,22,8692,13,8706,null,null,null,null,0,221]
[21,8805,11,8817,11,8830,null,null,null,null,0,211]
[21,8919,11,8929,11,8940,null,null,null,null,0,211]
[12,9042,13,9046,13,9052,null,null,null,null,0,111]
[21,9149,11,9162,11,9193,null,null,null,null,0,211]
[12,9294,13,9306,24,9321,null,null,null,null,0,112]
[21,9419,22,9420,13,9430,null,null,null,null,0,221]
[21,9528,11,9545,11,9555,null,null,null,null,0,211]
[12,9653,13,9661,13,9673,null,null,null,null,0,111]
[12,9775,13,9820,13,9839,null,null,null,null,0,111]
[12,9946,13,9963,13,9977,null,null,null,null,0,111]
[21,10072,11,10086,11,10095,null,null,null,null,0,211]
[12,10197,13,10201,13,10206,null,null,null,null,0,111]
[12,10314,13,10324,13,10345,null,null,null,null,0,111]
[21,10437,11,10445,11,10451,null,null,null,null,0,211]
[12,10548,13,10558,13,10575,null,null,null,null,0,111]
[21,10673,11,10699,11,10711,null,null,null,null,0,211]
[12,10816,13,10822,13,10830,null,null,null,null,0,111]
[12,10935,13,10954,13,10968,null,null,null,null,0,111]
[12,11069,13,11073,13,11082,null,null,null,null,0,111]
[21,11173,11,11189,11,11194,null,null,null,null,0,211]
[12,11295,13,11300,13,11311,null,null,null,null,0,111]
[12,11481,13,11485,13,11493,null,null,null,null,0,111]
[21,11591,11,11601,11,11606,null,null,null,null,0,211]
[12,11704,13,11710,13,11719,null,null,null,null,0,111]
[12,11820,13,11825,13,11840,null,null,null,null,0,111]
[21,11931,11,11942,11,11952,null,null,null,null,0,211]
[12,12050,13,12056,13,12067,null,null,null,null,0,111]
[21,12164,11,12174,11,12189,null,null,null,null,0,211]
[12,12291,13,12297,13,12311,null,null,null,null,0,111]
[21,12408,11,12416,11,12426,null,null,null,null,0,211]
[12,12529,13,12534,13,12543,null,null,null,null,0,111]
[21,12639,11,12650,11,12663,null,null,null,null,0,211]
[21,12755,11,12763,11,12793,null,null,null,null,0,211]
[21,12889,11,12897,11,12909,null,null,null,null,0,211]
[12,13014,13,13018,13,13025,null,null,null,null,0,111]
[21,13121,11,13133,11,13164,null,null,null,null,0,211]
[21,13253,11,13264,11,13267,null,null,null,null,1,211]

{"sheet":"!N111A2I.sha","index":27,"n_rows":105,"n_cols":48,"rows_kept":105,"cut":false,"hidden":false,"merged":[[1,1,1,2],[5,13,5,14],[18,13,18,14],[19,13,19,14],[4,19,4,22],[5,19,5,20],[4,39,4,42],[5,39,5,40],[4,44,4,47],[5,44,5,45],[4,24,4,27],[5,24,5,25],[4,29,4,32],[5,29,5,30],[4,34,4,37],[5,34,5,35]]}
["Report for:!N111A2I.sha"]
["Date:","<date>"]
["Hen:","<hen>",null,null,null,"Correct Sequence",{"$f":"Start!J2","v":211},null,null,null,null,null,null,null,null,"Total Sequences in Data",{"$f":"4994-COUNTBLANK(L7:L5000)","v":99},null,null,null,null,"Total Sequences in Block Data",{"$f":"COUNTA(L7:L23)","v":17},null,null,null,"Total Sequences in Block Data",{"$f":"COUNTA(L24:L39)","v":16},null,null,null,"Total Sequences in Block Data",{"$f":"COUNTA(L40:L56)","v":17},null,null,null,"Total Sequences in Block Data",{"$f":"COUNTA(L57:L72)","v":16},null,null,null,"Total Sequences in Block Data",{"$f":"COUNTA(L73:L89)","v":17},null,null,null,"Total Sequences in Block Data",{"$f":"COUNTA(L90:L105)","v":16}]
[null,null,null,null,null,null,null,null,null,null,null,null,null,null,null,"Total Sequences in Summary",{"$f":"SUM(O7:O14)","v":99},null,null,null,null,"Total Sequences in Block Summary",{"$f":"SUM(U7:U14)","v":17},null,null,null,"Total Sequences in Block Summary",{"$f":"SUM(Z7:Z14)","v":16},null,null,null,"Total Sequences in Block Summary",{"$f":"SUM(AE7:AE14)","v":17},null,null,null,"Total Sequences in Block Summary",{"$f":"SUM(AJ7:AJ14)","v":16},null,null,null,"Total Sequences in Block Summary",{"$f":"SUM(AO7:AO14)","v":17},null,null,null,"Total Sequences in Block Summary",{"$f":"SUM(AT7:AT14)","v":16}]
[null,null,null,null,null,null,null,null,null,null,null,null,null,null,null,null,null,null,null,"Block 1",null,null,null,null,"Block 2",null,null,null,null,"Block 3",null,null,null,null,"Block 4",null,null,null,null,"Block 5",null,null,null,null,"Block 6"]
["Sequence\nComponent\n1","Time\n1","Sequence\nComponent\n2","Time\n2","Sequence\nComponent\n3","Time\n3","Sequence\nComponent\n4","Time\n4","Sequence\nComponent\n5","Time\n5","Correct?\n0=No 1=Yes","Sequence",null,"Frequency",null,"Relative Frequency","Variability",null,null,"Frequency",null,"Relative Frequency","Variability",null,"Frequency",null,"Relative Frequency","Variability",null,"Frequency",null,"Relative Frequency","Variability",null,"Frequency",null,"Relative Frequency","Variability",null,"Frequency",null,"Relative Frequency","Variability",null,"Frequency",null,"Relative Frequency","Variability"]
[12,9,13,12,13,21,null,null,null,null,0,111,null,111,{"$f":"COUNTIF($L$7:$L$500,N7)","v":51},{"$f":"O7/$Q$4","v":0.51515151515151514},{"$f":"IF(P7=0,0,(P7*((LOG(P7))/LOG(2))))","v":-0.49296459781327084},null,null,{"$f":"N7","v":111},{"$f":"COUNTIF(L7:L23,T7)","v":9},{"$f":"U7/(W4-U11)","v":0.9},{"$f":"IF(V7=0,0,(V7*((LOG(V7))/LOG(2))))","v":-0.13680278410054494},null,{"$f":"N7","v":111},{"$f":"COUNTIF(L24:L39,Y7)","v":10},{"$f":"Z7/(AB4-Z11)","v":0.90909090909090906},{"$f":"IF(AA7=0,0,(AA7*((LOG(AA7))/LOG(2))))","v":-0.12500320340903179},null,{"$f":"N7","v":111},{"$f":"COUNTIF(L40:L56,AD7)","v":8},{"$f":"AE7/(AG4-AE11)","v":0.8},{"$f":"IF(AF7=0,0,(AF7*((LOG(AF7))/LOG(2))))","v":-0.25754247590988982},null,{"$f":"N7","v":111},{"$f":"COUNTIF(L57:L72,AI7)","v":9},{"$f":"AJ7/(AL4-AJ11)","v":0.9},{"$f":"IF(AK7=0,0,(AK7*((LOG(AK7))/LOG(2))))","v":-0.13680278410054494},null,{"$f":"N7","v":111},{"$f":"COUNTIF(L73:L89,AN7)","v":7},{"$f":"AO7/(AQ4-AO11)","v":0.77777777777777779},{"$f":"IF(AP7=0,0,(AP7*((LOG(AP7))/LOG(2))))","v":-0.28199895063255082},null,{"$f":"N7","v":111},{"$f":"COUNTIF(L90:L105,AS7)","v":8},{"$f":"AT7/(AV4-AT11)","v":0.88888888888888884},{"$f":"IF(AU7=0,0,(AU7*((LOG(AU7))/LOG(2))))","v":-0.15104444572649992}]
[12,125,13,129,13,137,null,null,null,null,0,111,null,112,6,6.0606060606060608E-2,-0.24511479511263354,null,null,112,{"$f":"COUNTIF(L7:L23,T8)","v":1},{"$f":"U8/(W4-U11)","v":0.1},{"$f":"IF(V8=0,0,(V8*((LOG(V8))/LOG(2))))","v":-0.33219280948873625},null,112,{"$f":"COUNTIF(L24:L39,Y8)","v":1},{"$f":"Z8/(AB4-Z11)","v":9.0909090909090912E-2},{"$f":"IF(AA8=0,0,(AA8*((LOG(AA8))/LOG(2))))","v":-0.31449378351248153},null,112,{"$f":"COUNTIF(L40:L56,AD8)","v":2},{"$f":"AE8/(AG4-AE11)","v":0.2},{"$f":"IF(AF8=0,0,(AF8*((LOG(AF8))/LOG(2))))","v":-0.46438561897747244},null,112,{"$f":"COUNTIF(L57:L72,AI8)","v":1},{"$f":"AJ8/(AL4-AJ11)","v":0.1},{"$f":"IF(AK8=0,0,(AK8*((LOG(AK8))/LOG(2))))","v":-0.33219280948873625},null,112,{"$f":"COUNTIF(L73:L89,AN8)","v":1},{"$f":"AO8/(AQ4-AO11)","v":0.1111111111111111},{"$f":"IF(AP8=0,0,(AP8*((LOG(AP8))/LOG(2))))","v":-0.3522138890491458},null,112,{"$f":"COUNTIF(L90:L105,AS8)","v":0},{"$f":"AT8/(AV4-AT11)","v":0},{"$f":"IF(AU8=0,0,(AU8*((LOG(AU8))/LOG(2))))","v":0}]
[21,233,11,241,11,251,null,null,null,null,0,211,null,121,0,0,0,null,null,121,{"$f":"COUNTIF(L7:L23,T9)","v":0},{"$f":"U9/(W4-U11)","v":0},{"$f":"IF(V9=0,0,(V9*((LOG(V9))/LOG(2))))","v":0},null,121,{"$f":"COUNTIF(L24:L39,Y9)","v":0},{"$f":"Z9/(AB4-Z11)","v":0},{"$f":"IF(AA9=0,0,(AA9*((LOG(AA9))/LOG(2))))","v":0},null,121,{"$f":"COUNTIF(L40:L56,AD9)","v":0},{"$f":"AE9/(AG4-AE11)","v":0},{"$f":"IF(AF9=0,0,(AF9*((LOG(AF9))/LOG(2))))","v":0},null,121,{"$f":"COUNTIF(L57:L72,AI9)","v":0},{"$f":"AJ9/(AL4-AJ11)","v":0},{"$f":"IF(AK9=0,0,(AK9*((LOG(AK9))/LOG(2))))","v":0},null,121,{"$f":"COUNTIF(L73:L89,AN9)","v":0},{"$f":"AO9/(AQ4-AO11)","v":0},{"$f":"IF(AP9=0,0,(AP9*((LOG(AP9))/LOG(2))))","v":0},null,121,{"$f":"COUNTIF(L90:L105,AS9)","v":0},{"$f":"AT9/(AV4-AT11)","v":0},{"$f":"IF(AU9=0,0,(AU9*((LOG(AU9))/LOG(2))))","v":0}]
[12,393,13,399,24,413,null,null,null,null,0,112,null,122,1,1.0101010101010102E-2,-6.6963198182622322E-2,null,null,122,{"$f":"COUNTIF(L7:L23,T10)","v":0},{"$f":"U10/(W4-U11)","v":0},{"$f":"IF(V10=0,0,(V10*((LOG(V10))/LOG(2))))","v":0},null,122,{"$f":"COUNTIF(L24:L39,Y10)","v":0},{"$f":"Z10/(AB4-Z11)","v":0},{"$f":"IF(AA10=0,0,(AA10*((LOG(AA10))/LOG(2))))","v":0},null,122,{"$f":"COUNTIF(L40:L56,AD10)","v":0},{"$f":"AE10/(AG4-AE11)","v":0},{"$f":"IF(AF10=0,0,(AF10*((LOG(AF10))/LOG(2))))","v":0},null,122,{"$f":"COUNTIF(L57:L72,AI10)","v":0},{"$f":"AJ10/(AL4-AJ11)","v":0},{"$f":"IF(AK10=0,0,(AK10*((LOG(AK10))/LOG(2))))","v":0},null,122,{"$f":"COUNTIF(L73:L89,AN10)","v":0},{"$f":"AO10/(AQ4-AO11)","v":0},{"$f":"IF(AP10=0,0,(AP10*((LOG(AP10))/LOG(2))))","v":0},null,122,{"$f":"COUNTIF(L90:L105,AS10)","v":1},{"$f":"AT10/(AV4-AT11)","v":0.1111111111111111},{"$f":"IF(AU10=0,0,(AU10*((LOG(AU10))/LOG(2))))","v":-0.3522138890491458}]
[12,516,13,523,13,539,null,null,null,null,0,111,null,211,40,0.40404040404040403,-0.52825394957262517,null,null,211,{"$f":"COUNTIF(L7:L23,T11)","v":7},null,null,null,211,{"$f":"COUNTIF(L24:L39,Y11)","v":5},null,null,null,211,{"$f":"COUNTIF(L40:L56,AD11)","v":7},null,null,null,211,{"$f":"COUNTIF(L57:L72,AI11)","v":6},null,null,null,211,{"$f":"COUNTIF(L73:L89,AN11)","v":8},null,null,null,211,{"$f":"COUNTIF(L90:L105,AS11)","v":7}]
[21,637,11,648,11,652,null,null,null,null,0,211,null,212,0,0,0,null,null,212,{"$f":"COUNTIF(L7:L23,T12)","v":0},{"$f":"U12/(W4-U11)","v":0},{"$f":"IF(V12=0,0,(V12*((LOG(V12))/LOG(2))))","v":0},null,212,{"$f":"COUNTIF(L24:L39,Y12)","v":0},{"$f":"Z12/(AB4-Z11)","v":0},{"$f":"IF(AA12=0,0,(AA12*((LOG(AA12))/LOG(2))))","v":0},null,212,{"$f":"COUNTIF(L40:L56,AD12)","v":0},{"$f":"AE12/(AG4-AE11)","v":0},{"$f":"IF(AF12=0,0,(AF12*((LOG(AF12))/LOG(2))))","v":0},null,212,{"$f":"COUNTIF(L57:L72,AI12)","v":0},{"$f":"AJ12/(AL4-AJ11)","v":0},{"$f":"IF(AK12=0,0,(AK12*((LOG(AK12))/LOG(2))))","v":0},null,212,{"$f":"COUNTIF(L73:L89,AN12)","v":0},{"$f":"AO12/(AQ4-AO11)","v":0},{"$f":"IF(AP12=0,0,(AP12*((LOG(AP12))/LOG(2))))","v":0},null,212,{"$f":"COUNTIF(L90:L105,AS12)","v":0},{"$f":"AT12/(AV4-AT11)","v":0},{"$f":"IF(AU12=0,0,(AU12*((LOG(AU12))/LOG(2))))","v":0}]
[12,752,13,770,13,788,null,null,null,null,0,111,null,221,1,1.0101010101010102E-2,-6.6963198182622322E-2,null,null,221,{"$f":"COUNTIF(L7:L23,T13)","v":0},{"$f":"U13/(W4-U11)","v":0},{"$f":"IF(V13=0,0,(V13*((LOG(V13))/LOG(2))))","v":0},null,221,{"$f":"COUNTIF(L24:L39,Y13)","v":0},{"$f":"Z13/(AB4-Z11)","v":0},{"$f":"IF(AA13=0,0,(AA13*((LOG(AA13))/LOG(2))))","v":0},null,221,{"$f":"COUNTIF(L40:L56,AD13)","v":0},{"$f":"AE13/(AG4-AE11)","v":0},{"$f":"IF(AF13=0,0,(AF13*((LOG(AF13))/LOG(2))))","v":0},null,221,{"$f":"COUNTIF(L57:L72,AI13)","v":0},{"$f":"AJ13/(AL4-AJ11)","v":0},{"$f":"IF(AK13=0,0,(AK13*((LOG(AK13))/LOG(2))))","v":0},null,221,{"$f":"COUNTIF(L73:L89,AN13)","v":1},{"$f":"AO13/(AQ4-AO11)","v":0.1111111111111111},{"$f":"IF(AP13=0,0,(AP13*((LOG(AP13))/LOG(2))))","v":-0.3522138890491458},null,221,{"$f":"COUNTIF(L90:L105,AS13)","v":0},{"$f":"AT13/(AV4-AT11)","v":0},{"$f":"IF(AU13=0,0,(AU13*((LOG(AU13))/LOG(2))))","v":0}]
[12,895,13,901,13,908,null,null,null,null,0,111,null,222,0,0,0,null,null,222,{"$f":"COUNTIF(L7:L23,T14)","v":0},{"$f":"U14/(W4-U11)","v":0},{"$f":"IF(V14=0,0,(V14*((LOG(V14))/LOG(2))))","v":0},null,222,{"$f":"COUNTIF(L24:L39,Y14)","v":0},{"$f":"Z14/(AB4-Z11)","v":0},{"$f":"IF(AA14=0,0,(AA14*((LOG(AA14))/LOG(2))))","v":0},null,222,{"$f":"COUNTIF(L40:L56,AD14)","v":0},{"$f":"AE14/(AG4-AE11)","v":0},{"$f":"IF(AF14=0,0,(AF14*((LOG(AF14))/LOG(2))))","v":0},null,222,{"$f":"COUNTIF(L57:L72,AI14)","v":0},{"$f":"AJ14/(AL4-AJ11)","v":0},{"$f":"IF(AK14=0,0,(AK14*((LOG(AK14))/LOG(2))))","v":0},null,222,{"$f":"COUNTIF(L73:L89,AN14)","v":0},{"$f":"AO14/(AQ4-AO11)","v":0},{"$f":"IF(AP14=0,0,(AP14*((LOG(AP14))/LOG(2))))","v":0},null,222,{"$f":"COUNTIF(L90:L105,AS14)","v":0},{"$f":"AT14/(AV4-AT11)","v":0},{"$f":"IF(AU14=0,0,(AU14*((LOG(AU14))/LOG(2))))","v":0}]
[21,1007,11,1016,11,1030,null,null,null,null,0,211,null,null,null,{"$f":"SUM(P7:P14)","v":0.99999999999999989},{"$f":"-SUM(Q7:Q14)","v":1.4002597388637743},null,null,null,null,{"$f":"SUM(V7:V14)","v":1},{"$f":"-SUM(W7:W14)","v":0.46899559358928122},null,null,null,{"$f":"SUM(AA7:AA14)","v":1},{"$f":"-SUM(AB7:AB14)","v":0.43949698692151329},null,null,null,{"$f":"SUM(AF7:AF14)","v":1},{"$f":"-SUM(AG7:AG14)","v":0.72192809488736231},null,null,null,{"$f":"SUM(AK7:AK14)","v":1},{"$f":"-SUM(AL7:AL14)","v":0.46899559358928122},null,null,null,{"$f":"SUM(AP7:AP14)","v":1},{"$f":"-SUM(AQ7:AQ14)","v":0.98642672873084236},null,null,null,{"$f":"SUM(AU7:AU14)","v":1},{"$f":"-SUM(AV7:AV14)","v":0.50325833477564574}]
[12,1128,13,1155,13,1167,null,null,null,null,0,111,null,null,null,"U=",{"$f":"Q15/(LOG(Q4)/LOG(2))","v":0.21122106097332852},null,null,null,null,"U1=",{"$f":"W15/(LOG(W4)/LOG(2))","v":0.11474002622267687},null,null,null,"U2=",{"$f":"AB15/(LOG(AB4)/LOG(2))","v":0.10987424673037832},null,null,null,"U3=",{"$f":"AG15/(LOG(AG4)/LOG(2))","v":0.17662009978457133},null,null,null,"U4=",{"$f":"AL15/(LOG(AL4)/LOG(2))","v":0.11724889839732031},null,null,null,"U5=",{"$f":"AQ15/(LOG(AQ4)/LOG(2))","v":0.24132983394390889},null,null,null,"U6=",{"$f":"AV15/(LOG(AV4)/LOG(2))","v":0.12581458369391144}]
[21,1260,11,1269,11,1288,null,null,null,null,0,211]
[12,1396,13,1402,13,1419,null,null,null,null,0,111]
[21,1514,11,1523,11,1529,null,null,null,null,0,211,null,"Total Target Seq"]
[12,1627,13,1657,13,1668,null,null,null,null,0,111,null,{"$f":"COUNTIF(L7:L105,G3)","v":40},null,17,16,17,16,17,16]
[21,1769,11,1777,11,1794,null,null,null,null,0,211,null,null,null,"% of reinforcement given in 6 equal intervals based on number of trials "]
[12,1917,13,1921,13,1935,null,null,null,null,0,111,null,null,null,"%_1","%_2","%_3","%_4","%_5","%_6"]
[21,2032,11,2042,11,2052,null,null,null,null,0,211,null,null,"target sequence",{"$f":"$G$3","v":211},211,211,211,211,211]
[12,2149,13,2167,13,2188,null,null,null,null,0,111,null,null,"total reinforcement",{"$f":"U11","v":7},{"$f":"Z11","v":5},{"$f":"AE11","v":7},{"$f":"AJ11","v":6},{"$f":"AO11","v":8},{"$f":"AT11","v":7}]
[21,2286,11,2299,11,2310,null,null,null,null,0,211,null,null,"% target"]
[12,2409,13,2414,13,2420,null,null,null,null,0,111,null,null,"CCRF"]
[21,2512,11,2522,11,2526,null,null,null,null,0,211,null,null,"% CCRf"]
[21,2613,11,2626,11,2630,null,null,null,null,0,211,null,null,"average response rate",{"$f":"F23/P20","v":120.70588235294117},{"$f":"(F39-F23)/Q20","v":123.5},{"$f":"(F56-F39)/R20","v":122.88235294117646},{"$f":"(F72-F56)/S20","v":130.125},{"$f":"(F89-F72)/T20","v":127.41176470588235},{"$f":"(F105-F89)/U20","v":126.375}]
[12,2731,13,2735,13,2743,null,null,null,null,0,111]
[12,2851,13,2858,13,2868,null,null,null,null,0,111]
[12,2976,13,2981,13,2993,null,null,null,null,0,111]
[12,3096,13,3103,24,3118,null,null,null,null,0,112]
[21,3217,11,3230,11,3242,null,null,null,null,0,211]
[12,3340,13,3345,13,3362,null,null,null,null,0,111]
[12,3476,13,3495,13,3507,null,null,null,null,0,111]
[12,3613,13,3617,13,3628,null,null,null,null,0,111]
[12,3735,13,3740,13,3770,null,null,null,null,0,111]
[21,3867,11,3881,11,3900,null,null,null,null,0,211]
[12,4013,13,4020,13,4028,null,null,null,null,0,111]
[12,4138,13,4147,13,4157,null,null,null,null,0,111]
[12,4258,13,4267,13,4273,null,null,null,null,0,111]
[12,4375,13,4380,13,4385,null,null,null,null,0,111]
[12,4488,13,4492,13,4503,null,null,null,null,0,111]
[12,4604,13,4609,24,4626,null,null,null,null,0,112]
[21,4722,11,4731,11,4739,null,null,null,null,0,211]
[21,4827,11,4836,11,4841,null,null,null,null,0,211]
[12,4987,13,4991,13,4999,null,null,null,null,0,111]
[12,5107,13,5109,13,5120,null,null,null,null,0,111]
[21,5217,11,5226,11,5231,null,null,null,null,0,211]
[21,5318,11,5332,11,5352,null,null,null,null,0,211]
[21,5455,11,5464,11,5476,null,null,null,null,0,211]
[12,5583,13,5593,13,5604,null,null,null,null,0,111]
[21,5699,11,5712,11,5737,null,null,null,null,0,211]
[12,5838,13,5865,13,5876,null,null,null,null,0,111]
[12,5979,13,5995,24,6008,null,null,null,null,0,112]
[21,6103,11,6112,11,6117,null,null,null,null,0,211]
[12,6218,13,6223,24,6241,null,null,null,null,0,112]
[21,6337,11,6346,11,6351,null,null,null,null,0,211]
[21,6439,11,6453,11,6463,null,null,null,null,0,211]
[21,6570,11,6578,11,6597,null,null,null,null,0,211]
[12,6705,13,6708,13,6721,null,null,null,null,0,111]
[12,6828,13,6833,13,6842,null,null,null,null,0,111]
[21,6934,11,6948,11,6973,null,null,null,null,0,211]
[12,7101,13,7107,13,7131,null,null,null,null,0,111]
[21,7229,11,7236,11,7263,null,null,null,null,0,211]
[12,7367,13,7374,13,7388,null,null,null,null,0,111]
[12,7492,13,7498,13,7509,null,null,null,null,0,111]
[12,7610,13,7623,13,7657,null,null,null,null,0,111]
[21,7749,11,7763,11,7780,null,null,null,null,0,211]
[12,7879,13,7887,13,7904,null,null,null,null,0,111]
[12,8014,13,8055,13,8075,null,null,null,null,0,111]
[12,8182,13,8186,13,8199,null,null,null,null,0,111]
[12,8305,13,8326,13,8340,null,null,null,null,0,111]
[21,8436,11,8444,11,8449,null,null,null,null,0,211]
[12,8547,13,8565,24,8578,null,null,null,null,0,112]
[12,8683,13,8688,13,8718,null,null,null,null,0,111]
[21,8814,11,8834,11,8845,null,null,null,null,0,211]
[12,8949,13,8953,13,8966,null,null,null,null,0,111]
[21,9064,11,9072,11,9094,null,null,null,null,0,211]
[12,9198,13,9215,13,9229,null,null,null,null,0,111]
[21,9322,11,9331,11,9335,null,null,null,null,0,211]
[21,9426,22,9433,13,9442,null,null,null,null,0,221]
[21,9539,11,9551,11,9559,null,null,null,null,0,211]
[12,9660,13,9686,13,9701,null,null,null,null,0,111]
[21,9797,11,9812,11,9828,null,null,null,null,0,211]
[21,9927,11,9941,11,9947,null,null,null,null,0,211]
[12,10104,13,10118,13,10130,null,null,null,null,0,111]
[21,10226,11,10243,11,10248,null,null,null,null,0,211]
[12,10354,13,10358,13,10365,null,null,null,null,0,111]
[12,10471,13,10476,13,10484,null,null,null,null,0,111]
[12,10587,13,10592,13,10605,null,null,null,null,0,111]
[21,10701,11,10717,11,10723,null,null,null,null,0,211]
[21,10851,11,10864,11,10879,null,null,null,null,0,211]
[12,10977,13,10986,13,10997,null,null,null,null,0,111]
[12,11100,13,11120,13,11132,null,null,null,null,0,111]
[21,11225,11,11232,11,11241,null,null,null,null,0,211]
[21,11328,11,11341,11,11366,null,null,null,null,0,211]
[21,11459,11,11505,11,11518,null,null,null,null,0,211]
[12,11620,13,11625,13,11638,null,null,null,null,0,111]
[12,11744,24,11758,24,11765,null,null,null,null,0,122]
[12,11873,13,11877,13,11890,null,null,null,null,0,111]
[12,11994,13,12011,13,12023,null,null,null,null,0,111]
[12,12131,13,12137,13,12148,null,null,null,null,0,111]
[21,12240,11,12250,11,12270,null,null,null,null,0,211]
[21,12363,11,12372,11,12387,null,null,null,null,1,211]

{"sheet":"!N11292I.sha","index":28,"n_rows":87,"n_cols":48,"rows_kept":87,"cut":false,"hidden":false,"merged":[[1,1,1,2],[5,13,5,14],[18,13,18,14],[19,13,19,14],[4,19,4,22],[5,19,5,20],[4,39,4,42],[5,39,5,40],[4,44,4,47],[5,44,5,45],[4,24,4,27],[5,24,5,25],[4,29,4,32],[5,29,5,30],[4,34,4,37],[5,34,5,35]]}
["Report for:!N11292I.sha"]
["Date:","<date>"]
["Hen:","<hen>",null,null,null,"Correct Sequence",{"$f":"Start!J2","v":211},null,null,null,null,null,null,null,null,"Total Sequences in Data",{"$f":"4994-COUNTBLANK(L7:L5000)","v":81},null,null,null,null,"Total Sequences in Block Data",{"$f":"COUNTA(L7:L20)","v":14},null,null,null,"Total Sequences in Block Data",{"$f":"COUNTA(L21:L33)","v":13},null,null,null,"Total Sequences in Block Data",{"$f":"COUNTA(L34:L47)","v":14},null,null,null,"Total Sequences in Block Data",{"$f":"COUNTA(L48:L60)","v":13},null,null,null,"Total Sequences in Block Data",{"$f":"COUNTA(L61:L74)","v":14},null,null,null,"Total Sequences in Block Data",{"$f":"COUNTA(L75:L87)","v":13}]
[null,null,null,null,null,null,null,null,null,null,null,null,null,null,null,"Total Sequences in Summary",{"$f":"SUM(O7:O14)","v":81},null,null,null,null,"Total Sequences in Block Summary",{"$f":"SUM(U7:U14)","v":14},null,null,null,"Total Sequences in Block Summary",{"$f":"SUM(Z7:Z14)","v":13},null,null,null,"Total Sequences in Block Summary",{"$f":"SUM(AE7:AE14)","v":14},null,null,null,"Total Sequences in Block Summary",{"$f":"SUM(AJ7:AJ14)","v":13},null,null,null,"Total Sequences in Block Summary",{"$f":"SUM(AO7:AO14)","v":14},null,null,null,"Total Sequences in Block Summary",{"$f":"SUM(AT7:AT14)","v":13}]
[null,null,null,null,null,null,null,null,null,null,null,null,null,null,null,null,null,null,null,"Block 1",null,null,null,null,"Block 2",null,null,null,null,"Block 3",null,null,null,null,"Block 4",null,null,null,null,"Block 5",null,null,null,null,"Block 6"]
["Sequence\nComponent\n1","Time\n1","Sequence\nComponent\n2","Time\n2","Sequence\nComponent\n3","Time\n3","Sequence\nComponent\n4","Time\n4","Sequence\nComponent\n5","Time\n5","Correct?\n0=No 1=Yes","Sequence",null,"Frequency",null,"Relative Frequency","Variability",null,null,"Frequency",null,"Relative Frequency","Variability",null,"Frequency",null,"Relative Frequency","Variability",null,"Frequency",null,"Relative Frequency","Variability",null,"Frequency",null,"Relative Frequency","Variability",null,"Frequency",null,"Relative Frequency","Variability",null,"Frequency",null,"Relative Frequency","Variability"]
[12,14,13,19,13,27,null,null,null,null,0,111,null,111,{"$f":"COUNTIF($L$7:$L$500,N7)","v":34},{"$f":"O7/$Q$4","v":0.41975308641975306},{"$f":"IF(P7=0,0,(P7*((LOG(P7))/LOG(2))))","v":-0.52569337648846548},null,null,{"$f":"N7","v":111},{"$f":"COUNTIF(L7:L20,T7)","v":8},{"$f":"U7/(W4-U11)","v":0.8},{"$f":"IF(V7=0,0,(V7*((LOG(V7))/LOG(2))))","v":-0.25754247590988982},null,{"$f":"N7","v":111},{"$f":"COUNTIF(L21:L33,Y7)","v":8},{"$f":"Z7/(AB4-Z11)","v":1},{"$f":"IF(AA7=0,0,(AA7*((LOG(AA7))/LOG(2))))","v":0},null,{"$f":"N7","v":111},{"$f":"COUNTIF(L34:L47,AD7)","v":4},{"$f":"AE7/(AG4-AE11)","v":0.5714285714285714},{"$f":"IF(AF7=0,0,(AF7*((LOG(AF7))/LOG(2))))","v":-0.46134566974720237},null,{"$f":"N7","v":111},{"$f":"COUNTIF(L48:L60,AI7)","v":5},{"$f":"AJ7/(AL4-AJ11)","v":1},{"$f":"IF(AK7=0,0,(AK7*((LOG(AK7))/LOG(2))))","v":0},null,{"$f":"N7","v":111},{"$f":"COUNTIF(L61:L74,AN7)","v":6},{"$f":"AO7/(AQ4-AO11)","v":0.8571428571428571},{"$f":"IF(AP7=0,0,(AP7*((LOG(AP7))/LOG(2))))","v":-0.19062207543124113},null,{"$f":"N7","v":111},{"$f":"COUNTIF(L75:L87,AS7)","v":3},{"$f":"AT7/(AV4-AT11)","v":0.75},{"$f":"IF(AU7=0,0,(AU7*((LOG(AU7))/LOG(2))))","v":-0.31127812445913283}]
[12,121,13,129,13,133,null,null,null,null,0,111,null,112,6,7.407407407407407E-2,-0.27813981497507173,null,null,112,{"$f":"COUNTIF(L7:L20,T8)","v":2},{"$f":"U8/(W4-U11)","v":0.2},{"$f":"IF(V8=0,0,(V8*((LOG(V8))/LOG(2))))","v":-0.46438561897747244},null,112,{"$f":"COUNTIF(L21:L33,Y8)","v":0},{"$f":"Z8/(AB4-Z11)","v":0},{"$f":"IF(AA8=0,0,(AA8*((LOG(AA8))/LOG(2))))","v":0},null,112,{"$f":"COUNTIF(L34:L47,AD8)","v":3},{"$f":"AE8/(AG4-AE11)","v":0.42857142857142855},{"$f":"IF(AF8=0,0,(AF8*((LOG(AF8))/LOG(2))))","v":-0.52388246628704915},null,112,{"$f":"COUNTIF(L48:L60,AI8)","v":0},{"$f":"AJ8/(AL4-AJ11)","v":0},{"$f":"IF(AK8=0,0,(AK8*((LOG(AK8))/LOG(2))))","v":0},null,112,{"$f":"COUNTIF(L61:L74,AN8)","v":1},{"$f":"AO8/(AQ4-AO11)","v":0.14285714285714285},{"$f":"IF(AP8=0,0,(AP8*((LOG(AP8))/LOG(2))))","v":-0.40105070315108626},null,112,{"$f":"COUNTIF(L75:L87,AS8)","v":0},{"$f":"AT8/(AV4-AT11)","v":0},{"$f":"IF(AU8=0,0,(AU8*((LOG(AU8))/LOG(2))))","v":0}]
[12,237,13,242,13,258,null,null,null,null,0,111,null,121,0,0,0,null,null,121,{"$f":"COUNTIF(L7:L20,T9)","v":0},{"$f":"U9/(W4-U11)","v":0},{"$f":"IF(V9=0,0,(V9*((LOG(V9))/LOG(2))))","v":0},null,121,{"$f":"COUNTIF(L21:L33,Y9)","v":0},{"$f":"Z9/(AB4-Z11)","v":0},{"$f":"IF(AA9=0,0,(AA9*((LOG(AA9))/LOG(2))))","v":0},null,121,{"$f":"COUNTIF(L34:L47,AD9)","v":0},{"$f":"AE9/(AG4-AE11)","v":0},{"$f":"IF(AF9=0,0,(AF9*((LOG(AF9))/LOG(2))))","v":0},null,121,{"$f":"COUNTIF(L48:L60,AI9)","v":0},{"$f":"AJ9/(AL4-AJ11)","v":0},{"$f":"IF(AK9=0,0,(AK9*((LOG(AK9))/LOG(2))))","v":0},null,121,{"$f":"COUNTIF(L61:L74,AN9)","v":0},{"$f":"AO9/(AQ4-AO11)","v":0},{"$f":"IF(AP9=0,0,(AP9*((LOG(AP9))/LOG(2))))","v":0},null,121,{"$f":"COUNTIF(L75:L87,AS9)","v":0},{"$f":"AT9/(AV4-AT11)","v":0},{"$f":"IF(AU9=0,0,(AU9*((LOG(AU9))/LOG(2))))","v":0}]
[12,362,13,371,24,384,null,null,null,null,0,112,null,122,0,0,0,null,null,122,{"$f":"COUNTIF(L7:L20,T10)","v":0},{"$f":"U10/(W4-U11)","v":0},{"$f":"IF(V10=0,0,(V10*((LOG(V10))/LOG(2))))","v":0},null,122,{"$f":"COUNTIF(L21:L33,Y10)","v":0},{"$f":"Z10/(AB4-Z11)","v":0},{"$f":"IF(AA10=0,0,(AA10*((LOG(AA10))/LOG(2))))","v":0},null,122,{"$f":"COUNTIF(L34:L47,AD10)","v":0},{"$f":"AE10/(AG4-AE11)","v":0},{"$f":"IF(AF10=0,0,(AF10*((LOG(AF10))/LOG(2))))","v":0},null,122,{"$f":"COUNTIF(L48:L60,AI10)","v":0},{"$f":"AJ10/(AL4-AJ11)","v":0},{"$f":"IF(AK10=0,0,(AK10*((LOG(AK10))/LOG(2))))","v":0},null,122,{"$f":"COUNTIF(L61:L74,AN10)","v":0},{"$f":"AO10/(AQ4-AO11)","v":0},{"$f":"IF(AP10=0,0,(AP10*((LOG(AP10))/LOG(2))))","v":0},null,122,{"$f":"COUNTIF(L75:L87,AS10)","v":0},{"$f":"AT10/(AV4-AT11)","v":0},{"$f":"IF(AU10=0,0,(AU10*((LOG(AU10))/LOG(2))))","v":0}]
[12,491,13,502,13,512,null,null,null,null,0,111,null,211,40,0.49382716049382713,-0.50267748543074697,null,null,211,{"$f":"COUNTIF(L7:L20,T11)","v":4},null,null,null,211,{"$f":"COUNTIF(L21:L33,Y11)","v":5},null,null,null,211,{"$f":"COUNTIF(L34:L47,AD11)","v":7},null,null,null,211,{"$f":"COUNTIF(L48:L60,AI11)","v":8},null,null,null,211,{"$f":"COUNTIF(L61:L74,AN11)","v":7},null,null,null,211,{"$f":"COUNTIF(L75:L87,AS11)","v":9}]
[12,614,13,618,13,626,null,null,null,null,0,111,null,212,0,0,0,null,null,212,{"$f":"COUNTIF(L7:L20,T12)","v":0},{"$f":"U12/(W4-U11)","v":0},{"$f":"IF(V12=0,0,(V12*((LOG(V12))/LOG(2))))","v":0},null,212,{"$f":"COUNTIF(L21:L33,Y12)","v":0},{"$f":"Z12/(AB4-Z11)","v":0},{"$f":"IF(AA12=0,0,(AA12*((LOG(AA12))/LOG(2))))","v":0},null,212,{"$f":"COUNTIF(L34:L47,AD12)","v":0},{"$f":"AE12/(AG4-AE11)","v":0},{"$f":"IF(AF12=0,0,(AF12*((LOG(AF12))/LOG(2))))","v":0},null,212,{"$f":"COUNTIF(L48:L60,AI12)","v":0},{"$f":"AJ12/(AL4-AJ11)","v":0},{"$f":"IF(AK12=0,0,(AK12*((LOG(AK12))/LOG(2))))","v":0},null,212,{"$f":"COUNTIF(L61:L74,AN12)","v":0},{"$f":"AO12/(AQ4-AO11)","v":0},{"$f":"IF(AP12=0,0,(AP12*((LOG(AP12))/LOG(2))))","v":0},null,212,{"$f":"COUNTIF(L75:L87,AS12)","v":0},{"$f":"AT12/(AV4-AT11)","v":0},{"$f":"IF(AU12=0,0,(AU12*((LOG(AU12))/LOG(2))))","v":0}]
[21,723,11,732,11,737,null,null,null,null,0,211,null,221,1,1.2345679012345678E-2,-7.8269753122032396E-2,null,null,221,{"$f":"COUNTIF(L7:L20,T13)","v":0},{"$f":"U13/(W4-U11)","v":0},{"$f":"IF(V13=0,0,(V13*((LOG(V13))/LOG(2))))","v":0},null,221,{"$f":"COUNTIF(L21:L33,Y13)","v":0},{"$f":"Z13/(AB4-Z11)","v":0},{"$f":"IF(AA13=0,0,(AA13*((LOG(AA13))/LOG(2))))","v":0},null,221,{"$f":"COUNTIF(L34:L47,AD13)","v":0},{"$f":"AE13/(AG4-AE11)","v":0},{"$f":"IF(AF13=0,0,(AF13*((LOG(AF13))/LOG(2))))","v":0},null,221,{"$f":"COUNTIF(L48:L60,AI13)","v":0},{"$f":"AJ13/(AL4-AJ11)","v":0},{"$f":"IF(AK13=0,0,(AK13*((LOG(AK13))/LOG(2))))","v":0},null,221,{"$f":"COUNTIF(L61:L74,AN13)","v":0},{"$f":"AO13/(AQ4-AO11)","v":0},{"$f":"IF(AP13=0,0,(AP13*((LOG(AP13))/LOG(2))))","v":0},null,221,{"$f":"COUNTIF(L75:L87,AS13)","v":1},{"$f":"AT13/(AV4-AT11)","v":0.25},{"$f":"IF(AU13=0,0,(AU13*((LOG(AU13))/LOG(2))))","v":-0.5}]
[12,852,13,880,24,896,null,null,null,null,0,112,null,222,0,0,0,null,null,222,{"$f":"COUNTIF(L7:L20,T14)","v":0},{"$f":"U14/(W4-U11)","v":0},{"$f":"IF(V14=0,0,(V14*((LOG(V14))/LOG(2))))","v":0},null,222,{"$f":"COUNTIF(L21:L33,Y14)","v":0},{"$f":"Z14/(AB4-Z11)","v":0},{"$f":"IF(AA14=0,0,(AA14*((LOG(AA14))/LOG(2))))","v":0},null,222,{"$f":"COUNTIF(L34:L47,AD14)","v":0},{"$f":"AE14/(AG4-AE11)","v":0},{"$f":"IF(AF14=0,0,(AF14*((LOG(AF14))/LOG(2))))","v":0},null,222,{"$f":"COUNTIF(L48:L60,AI14)","v":0},{"$f":"AJ14/(AL4-AJ11)","v":0},{"$f":"IF(AK14=0,0,(AK14*((LOG(AK14))/LOG(2))))","v":0},null,222,{"$f":"COUNTIF(L61:L74,AN14)","v":0},{"$f":"AO14/(AQ4-AO11)","v":0},{"$f":"IF(AP14=0,0,(AP14*((LOG(AP14))/LOG(2))))","v":0},null,222,{"$f":"COUNTIF(L75:L87,AS14)","v":0},{"$f":"AT14/(AV4-AT11)","v":0},{"$f":"IF(AU14=0,0,(AU14*((LOG(AU14))/LOG(2))))","v":0}]
[12,1000,13,1005,13,1016,null,null,null,null,0,111,null,null,null,{"$f":"SUM(P7:P14)","v":1},{"$f":"-SUM(Q7:Q14)","v":1.3847804300163167},null,null,null,null,{"$f":"SUM(V7:V14)","v":1},{"$f":"-SUM(W7:W14)","v":0.72192809488736231},null,null,null,{"$f":"SUM(AA7:AA14)","v":1},{"$f":"-SUM(AB7:AB14)","v":0},null,null,null,{"$f":"SUM(AF7:AF14)","v":1},{"$f":"-SUM(AG7:AG14)","v":0.98522813603425152},null,null,null,{"$f":"SUM(AK7:AK14)","v":1},{"$f":"-SUM(AL7:AL14)","v":0},null,null,null,{"$f":"SUM(AP7:AP14)","v":1},{"$f":"-SUM(AQ7:AQ14)","v":0.59167277858232736},null,null,null,{"$f":"SUM(AU7:AU14)","v":1},{"$f":"-SUM(AV7:AV14)","v":0.81127812445913283}]
[12,1118,13,1123,13,1127,null,null,null,null,0,111,null,null,null,"U=",{"$f":"Q15/(LOG(Q4)/LOG(2))","v":0.2184247938651929},null,null,null,null,"U1=",{"$f":"W15/(LOG(W4)/LOG(2))","v":0.18961407845245268},null,null,null,"U2=",{"$f":"AB15/(LOG(AB4)/LOG(2))","v":0},null,null,null,"U3=",{"$f":"AG15/(LOG(AG4)/LOG(2))","v":0.25876971183495706},null,null,null,"U4=",{"$f":"AL15/(LOG(AL4)/LOG(2))","v":0},null,null,null,"U5=",{"$f":"AQ15/(LOG(AQ4)/LOG(2))","v":0.15540258018881267},null,null,null,"U6=",{"$f":"AV15/(LOG(AV4)/LOG(2))","v":0.21923830308109346}]
[21,1220,11,1229,11,1234,null,null,null,null,0,211]
[21,1324,11,1336,11,1362,null,null,null,null,0,211]
[21,1453,11,1464,11,1470,null,null,null,null,0,211,null,"Total Target Seq"]
[12,1615,13,1621,13,1638,null,null,null,null,0,111,null,{"$f":"COUNTIF(L7:L87,G3)","v":40},null,14,13,14,13,14,13]
[12,1743,13,1763,13,1776,null,null,null,null,0,111,null,null,null,"% of reinforcement given in 6 equal intervals based on number of trials "]
[12,1889,13,1893,13,1905,null,null,null,null,0,111,null,null,null,"%_1","%_2","%_3","%_4","%_5","%_6"]
[21,2007,11,2015,11,2028,null,null,null,null,0,211,null,null,"target sequence",{"$f":"$G$3","v":211},211,211,211,211,211]
[12,2132,13,2136,13,2149,null,null,null,null,0,111,null,null,"total reinforcement",{"$f":"U11","v":4},{"$f":"Z11","v":5},{"$f":"AE11","v":7},{"$f":"AJ11","v":8},{"$f":"AO11","v":7},{"$f":"AT11","v":9}]
[21,2248,11,2258,11,2268,null,null,null,null,0,211,null,null,"% target"]
[12,2371,13,2377,13,2388,null,null,null,null,0,111,null,null,"CCRF"]
[12,2498,13,2507,13,2510,null,null,null,null,0,111,null,null,"% CCRf"]
[21,2606,11,2613,11,2630,null,null,null,null,0,211,null,null,"average response rate",{"$f":"F20/P20","v":117},{"$f":"(F33-F20)/Q20","v":120.07692307692308},{"$f":"(F47-F33)/R20","v":119.57142857142857},{"$f":"(F60-F47)/S20","v":121.76923076923077},{"$f":"(F74-F60)/T20","v":120.85714285714286},{"$f":"(F87-F74)/U20","v":119.69230769230769}]
[12,2734,13,2738,13,2743,null,null,null,null,0,111]
[21,2835,11,2843,11,2853,null,null,null,null,0,211]
[12,2954,13,2957,13,2968,null,null,null,null,0,111]
[21,3065,11,3075,11,3081,null,null,null,null,0,211]
[12,3180,13,3190,13,3199,null,null,null,null,0,111]
[12,3316,13,3324,24,3339,null,null,null,null,0,112]
[12,3443,13,3452,24,3465,null,null,null,null,0,112]
[21,3565,11,3573,11,3600,null,null,null,null,0,211]
[12,3696,13,3702,24,3718,null,null,null,null,0,112]
[21,3811,11,3819,11,3824,null,null,null,null,0,211]
[12,3921,13,3927,13,3936,null,null,null,null,0,111]
[21,4033,11,4044,11,4062,null,null,null,null,0,211]
[12,4167,13,4171,13,4179,null,null,null,null,0,111]
[21,4276,11,4287,11,4303,null,null,null,null,0,211]
[21,4390,11,4406,11,4410,null,null,null,null,0,211]
[12,4515,13,4519,13,4529,null,null,null,null,0,111]
[21,4626,11,4644,11,4648,null,null,null,null,0,211]
[12,4751,13,4755,13,4760,null,null,null,null,0,111]
[21,4855,11,4867,11,4873,null,null,null,null,0,211]
[21,4963,11,4971,11,4976,null,null,null,null,0,211]
[21,5078,11,5086,11,5102,null,null,null,null,0,211]
[12,5211,13,5216,13,5231,null,null,null,null,0,111]
[21,5332,11,5341,11,5352,null,null,null,null,0,211]
[21,5449,11,5457,11,5474,null,null,null,null,0,211]
[12,5573,13,5577,13,5592,null,null,null,null,0,111]
[21,5689,11,5702,11,5713,null,null,null,null,0,211]
[12,5814,13,5829,13,5842,null,null,null,null,0,111]
[21,5938,11,5951,11,5963,null,null,null,null,0,211]
[12,6060,13,6070,13,6081,null,null,null,null,0,111]
[12,6188,13,6203,13,6237,null,null,null,null,0,111]
[21,6334,11,6347,11,6354,null,null,null,null,0,211]
[21,6445,11,6452,11,6456,null,null,null,null,0,211]
[21,6544,11,6561,11,6586,null,null,null,null,0,211]
[21,6684,11,6693,11,6714,null,null,null,null,0,211]
[12,6816,13,6821,24,6833,null,null,null,null,0,112]
[12,6937,13,6942,13,6956,null,null,null,null,0,111]
[12,7064,13,7069,13,7098,null,null,null,null,0,111]
[12,7205,13,7210,13,7220,null,null,null,null,0,111]
[21,7317,11,7326,11,7336,null,null,null,null,0,211]
[12,7434,13,7437,13,7449,null,null,null,null,0,111]
[12,7554,13,7566,13,7576,null,null,null,null,0,111]
[21,7672,11,7682,11,7690,null,null,null,null,0,211]
[21,7777,11,7797,11,7800,null,null,null,null,0,211]
[21,7892,11,7901,11,7920,null,null,null,null,0,211]
[12,8021,13,8031,13,8041,null,null,null,null,0,111]
[21,8133,11,8142,11,8148,null,null,null,null,0,211]
[21,8243,11,8251,11,8259,null,null,null,null,0,211]
[12,8358,13,8368,13,8383,null,null,null,null,0,111]
[21,8480,11,8496,11,8512,null,null,null,null,0,211]
[12,8611,13,8615,13,8628,null,null,null,null,0,111]
[21,8726,11,8736,11,8743,null,null,null,null,0,211]
[21,8845,11,8853,11,8861,null,null,null,null,0,211]
[21,8963,11,8975,11,8989,null,null,null,null,0,211]
[21,9076,11,9091,11,9096,null,null,null,null,0,211]
[21,9183,22,9188,13,9196,null,null,null,null,0,221]
[21,9294,11,9303,11,9324,null,null,null,null,0,211]
[21,9414,11,9422,11,9426,null,null,null,null,0,211]
[12,9556,13,9566,13,9577,null,null,null,null,0,111]
[21,9674,11,9688,11,9704,null,null,null,null,1,211]

{"sheet":"!N11394I.sha","index":29,"n_rows":80,"n_cols":48,"rows_kept":80,"cut":false,"hidden":false,"merged":[[1,1,1,2],[5,13,5,14],[18,13,18,14],[19,13,19,14],[4,19,4,22],[5,19,5,20],[4,39,4,42],[5,39,5,40],[4,44,4,47],[5,44,5,45],[4,24,4,27],[5,24,5,25],[4,29,4,32],[5,29,5,30],[4,34,4,37],[5,34,5,35]]}
["Report for:!N11394I.sha"]
["Date:","<date>"]
["Hen:","<hen>",null,null,null,"Correct Sequence",{"$f":"Start!J2","v":211},null,null,null,null,null,null,null,null,"Total Sequences in Data",{"$f":"4994-COUNTBLANK(L7:L5000)","v":74},null,null,null,null,"Total Sequences in Block Data",{"$f":"COUNTA(L7:L18)","v":12},null,null,null,"Total Sequences in Block Data",{"$f":"COUNTA(L19:L31)","v":13},null,null,null,"Total Sequences in Block Data",{"$f":"COUNTA(L32:L43)","v":12},null,null,null,"Total Sequences in Block Data",{"$f":"COUNTA(L44:L55)","v":12},null,null,null,"Total Sequences in Block Data",{"$f":"COUNTA(L56:L68)","v":13},null,null,null,"Total Sequences in Block Data",{"$f":"COUNTA(L69:L80)","v":12}]
[null,null,null,null,null,null,null,null,null,null,null,null,null,null,null,"Total Sequences in Summary",{"$f":"SUM(O7:O14)","v":74},null,null,null,null,"Total Sequences in Block Summary",{"$f":"SUM(U7:U14)","v":12},null,null,null,"Total Sequences in Block Summary",{"$f":"SUM(Z7:Z14)","v":13},null,null,null,"Total Sequences in Block Summary",{"$f":"SUM(AE7:AE14)","v":12},null,null,null,"Total Sequences in Block Summary",{"$f":"SUM(AJ7:AJ14)","v":12},null,null,null,"Total Sequences in Block Summary",{"$f":"SUM(AO7:AO14)","v":13},null,null,null,"Total Sequences in Block Summary",{"$f":"SUM(AT7:AT14)","v":12}]
[null,null,null,null,null,null,null,null,null,null,null,null,null,null,null,null,null,null,null,"Block 1",null,null,null,null,"Block 2",null,null,null,null,"Block 3",null,null,null,null,"Block 4",null,null,null,null,"Block 5",null,null,null,null,"Block 6"]
["Sequence\nComponent\n1","Time\n1","Sequence\nComponent\n2","Time\n2","Sequence\nComponent\n3","Time\n3","Sequence\nComponent\n4","Time\n4","Sequence\nComponent\n5","Time\n5","Correct?\n0=No 1=Yes","Sequence",null,"Frequency",null,"Relative Frequency","Variability",null,null,"Frequency",null,"Relative Frequency","Variability",null,"Frequency",null,"Relative Frequency","Variability",null,"Frequency",null,"Relative Frequency","Variability",null,"Frequency",null,"Relative Frequency","Variability",null,"Frequency",null,"Relative Frequency","Variability",null,"Frequency",null,"Relative Frequency","Variability"]
[21,14,11,23,11,27,null,null,null,null,0,211,null,111,{"$f":"COUNTIF($L$7:$L$500,N7)","v":27},{"$f":"O7/$Q$4","v":0.36486486486486486},{"$f":"IF(P7=0,0,(P7*((LOG(P7))/LOG(2))))","v":-0.53071997721037822},null,null,{"$f":"N7","v":111},{"$f":"COUNTIF(L7:L18,T7)","v":5},{"$f":"U7/(W4-U11)","v":0.625},{"$f":"IF(V7=0,0,(V7*((LOG(V7))/LOG(2))))","v":-0.42379494069539858},null,{"$f":"N7","v":111},{"$f":"COUNTIF(L19:L31,Y7)","v":7},{"$f":"Z7/(AB4-Z11)","v":1},{"$f":"IF(AA7=0,0,(AA7*((LOG(AA7))/LOG(2))))","v":0},null,{"$f":"N7","v":111},{"$f":"COUNTIF(L32:L43,AD7)","v":5},{"$f":"AE7/(AG4-AE11)","v":1},{"$f":"IF(AF7=0,0,(AF7*((LOG(AF7))/LOG(2))))","v":0},null,{"$f":"N7","v":111},{"$f":"COUNTIF(L44:L55,AI7)","v":4},{"$f":"AJ7/(AL4-AJ11)","v":0.8},{"$f":"IF(AK7=0,0,(AK7*((LOG(AK7))/LOG(2))))","v":-0.25754247590988982},null,{"$f":"N7","v":111},{"$f":"COUNTIF(L56:L68,AN7)","v":3},{"$f":"AO7/(AQ4-AO11)","v":0.6},{"$f":"IF(AP7=0,0,(AP7*((LOG(AP7))/LOG(2))))","v":-0.44217935649972373},null,{"$f":"N7","v":111},{"$f":"COUNTIF(L69:L80,AS7)","v":3},{"$f":"AT7/(AV4-AT11)","v":0.75},{"$f":"IF(AU7=0,0,(AU7*((LOG(AU7))/LOG(2))))","v":-0.31127812445913283}]
[12,140,13,145,13,151,null,null,null,null,0,111,null,112,3,4.0540540540540543E-2,-0.1874793593881538,null,null,112,{"$f":"COUNTIF(L7:L18,T8)","v":3},{"$f":"U8/(W4-U11)","v":0.375},{"$f":"IF(V8=0,0,(V8*((LOG(V8))/LOG(2))))","v":-0.53063906222956647},null,112,{"$f":"COUNTIF(L19:L31,Y8)","v":0},{"$f":"Z8/(AB4-Z11)","v":0},{"$f":"IF(AA8=0,0,(AA8*((LOG(AA8))/LOG(2))))","v":0},null,112,{"$f":"COUNTIF(L32:L43,AD8)","v":0},{"$f":"AE8/(AG4-AE11)","v":0},{"$f":"IF(AF8=0,0,(AF8*((LOG(AF8))/LOG(2))))","v":0},null,112,{"$f":"COUNTIF(L44:L55,AI8)","v":0},{"$f":"AJ8/(AL4-AJ11)","v":0},{"$f":"IF(AK8=0,0,(AK8*((LOG(AK8))/LOG(2))))","v":0},null,112,{"$f":"COUNTIF(L56:L68,AN8)","v":0},{"$f":"AO8/(AQ4-AO11)","v":0},{"$f":"IF(AP8=0,0,(AP8*((LOG(AP8))/LOG(2))))","v":0},null,112,{"$f":"COUNTIF(L69:L80,AS8)","v":0},{"$f":"AT8/(AV4-AT11)","v":0},{"$f":"IF(AU8=0,0,(AU8*((LOG(AU8))/LOG(2))))","v":0}]
[12,252,13,258,24,300,null,null,null,null,0,112,null,121,0,0,0,null,null,121,{"$f":"COUNTIF(L7:L18,T9)","v":0},{"$f":"U9/(W4-U11)","v":0},{"$f":"IF(V9=0,0,(V9*((LOG(V9))/LOG(2))))","v":0},null,121,{"$f":"COUNTIF(L19:L31,Y9)","v":0},{"$f":"Z9/(AB4-Z11)","v":0},{"$f":"IF(AA9=0,0,(AA9*((LOG(AA9))/LOG(2))))","v":0},null,121,{"$f":"COUNTIF(L32:L43,AD9)","v":0},{"$f":"AE9/(AG4-AE11)","v":0},{"$f":"IF(AF9=0,0,(AF9*((LOG(AF9))/LOG(2))))","v":0},null,121,{"$f":"COUNTIF(L44:L55,AI9)","v":0},{"$f":"AJ9/(AL4-AJ11)","v":0},{"$f":"IF(AK9=0,0,(AK9*((LOG(AK9))/LOG(2))))","v":0},null,121,{"$f":"COUNTIF(L56:L68,AN9)","v":0},{"$f":"AO9/(AQ4-AO11)","v":0},{"$f":"IF(AP9=0,0,(AP9*((LOG(AP9))/LOG(2))))","v":0},null,121,{"$f":"COUNTIF(L69:L80,AS9)","v":0},{"$f":"AT9/(AV4-AT11)","v":0},{"$f":"IF(AU9=0,0,(AU9*((LOG(AU9))/LOG(2))))","v":0}]
[12,401,13,405,24,418,null,null,null,null,0,112,null,122,0,0,0,null,null,122,{"$f":"COUNTIF(L7:L18,T10)","v":0},{"$f":"U10/(W4-U11)","v":0},{"$f":"IF(V10=0,0,(V10*((LOG(V10))/LOG(2))))","v":0},null,122,{"$f":"COUNTIF(L19:L31,Y10)","v":0},{"$f":"Z10/(AB4-Z11)","v":0},{"$f":"IF(AA10=0,0,(AA10*((LOG(AA10))/LOG(2))))","v":0},null,122,{"$f":"COUNTIF(L32:L43,AD10)","v":0},{"$f":"AE10/(AG4-AE11)","v":0},{"$f":"IF(AF10=0,0,(AF10*((LOG(AF10))/LOG(2))))","v":0},null,122,{"$f":"COUNTIF(L44:L55,AI10)","v":0},{"$f":"AJ10/(AL4-AJ11)","v":0},{"$f":"IF(AK10=0,0,(AK10*((LOG(AK10))/LOG(2))))","v":0},null,122,{"$f":"COUNTIF(L56:L68,AN10)","v":0},{"$f":"AO10/(AQ4-AO11)","v":0},{"$f":"IF(AP10=0,0,(AP10*((LOG(AP10))/LOG(2))))","v":0},null,122,{"$f":"COUNTIF(L69:L80,AS10)","v":0},{"$f":"AT10/(AV4-AT11)","v":0},{"$f":"IF(AU10=0,0,(AU10*((LOG(AU10))/LOG(2))))","v":0}]
[12,520,13,530,24,543,null,null,null,null,0,112,null,211,40,0.54054054054054057,-0.47974338959004725,null,null,211,{"$f":"COUNTIF(L7:L18,T11)","v":4},null,null,null,211,{"$f":"COUNTIF(L19:L31,Y11)","v":6},null,null,null,211,{"$f":"COUNTIF(L32:L43,AD11)","v":7},null,null,null,211,{"$f":"COUNTIF(L44:L55,AI11)","v":7},null,null,null,211,{"$f":"COUNTIF(L56:L68,AN11)","v":8},null,null,null,211,{"$f":"COUNTIF(L69:L80,AS11)","v":8}]
[12,650,13,653,13,659,null,null,null,null,0,111,null,212,0,0,0,null,null,212,{"$f":"COUNTIF(L7:L18,T12)","v":0},{"$f":"U12/(W4-U11)","v":0},{"$f":"IF(V12=0,0,(V12*((LOG(V12))/LOG(2))))","v":0},null,212,{"$f":"COUNTIF(L19:L31,Y12)","v":0},{"$f":"Z12/(AB4-Z11)","v":0},{"$f":"IF(AA12=0,0,(AA12*((LOG(AA12))/LOG(2))))","v":0},null,212,{"$f":"COUNTIF(L32:L43,AD12)","v":0},{"$f":"AE12/(AG4-AE11)","v":0},{"$f":"IF(AF12=0,0,(AF12*((LOG(AF12))/LOG(2))))","v":0},null,212,{"$f":"COUNTIF(L44:L55,AI12)","v":0},{"$f":"AJ12/(AL4-AJ11)","v":0},{"$f":"IF(AK12=0,0,(AK12*((LOG(AK12))/LOG(2))))","v":0},null,212,{"$f":"COUNTIF(L56:L68,AN12)","v":0},{"$f":"AO12/(AQ4-AO11)","v":0},{"$f":"IF(AP12=0,0,(AP12*((LOG(AP12))/LOG(2))))","v":0},null,212,{"$f":"COUNTIF(L69:L80,AS12)","v":0},{"$f":"AT12/(AV4-AT11)","v":0},{"$f":"IF(AU12=0,0,(AU12*((LOG(AU12))/LOG(2))))","v":0}]
[12,759,13,764,13,795,null,null,null,null,0,111,null,221,4,5.4054054054054057E-2,-0.22753801976372701,null,null,221,{"$f":"COUNTIF(L7:L18,T13)","v":0},{"$f":"U13/(W4-U11)","v":0},{"$f":"IF(V13=0,0,(V13*((LOG(V13))/LOG(2))))","v":0},null,221,{"$f":"COUNTIF(L19:L31,Y13)","v":0},{"$f":"Z13/(AB4-Z11)","v":0},{"$f":"IF(AA13=0,0,(AA13*((LOG(AA13))/LOG(2))))","v":0},null,221,{"$f":"COUNTIF(L32:L43,AD13)","v":0},{"$f":"AE13/(AG4-AE11)","v":0},{"$f":"IF(AF13=0,0,(AF13*((LOG(AF13))/LOG(2))))","v":0},null,221,{"$f":"COUNTIF(L44:L55,AI13)","v":1},{"$f":"AJ13/(AL4-AJ11)","v":0.2},{"$f":"IF(AK13=0,0,(AK13*((LOG(AK13))/LOG(2))))","v":-0.46438561897747244},null,221,{"$f":"COUNTIF(L56:L68,AN13)","v":2},{"$f":"AO13/(AQ4-AO11)","v":0.4},{"$f":"IF(AP13=0,0,(AP13*((LOG(AP13))/LOG(2))))","v":-0.52877123795494496},null,221,{"$f":"COUNTIF(L69:L80,AS13)","v":1},{"$f":"AT13/(AV4-AT11)","v":0.25},{"$f":"IF(AU13=0,0,(AU13*((LOG(AU13))/LOG(2))))","v":-0.5}]
[21,893,11,903,11,912,null,null,null,null,0,211,null,222,0,0,0,null,null,222,{"$f":"COUNTIF(L7:L18,T14)","v":0},{"$f":"U14/(W4-U11)","v":0},{"$f":"IF(V14=0,0,(V14*((LOG(V14))/LOG(2))))","v":0},null,222,{"$f":"COUNTIF(L19:L31,Y14)","v":0},{"$f":"Z14/(AB4-Z11)","v":0},{"$f":"IF(AA14=0,0,(AA14*((LOG(AA14))/LOG(2))))","v":0},null,222,{"$f":"COUNTIF(L32:L43,AD14)","v":0},{"$f":"AE14/(AG4-AE11)","v":0},{"$f":"IF(AF14=0,0,(AF14*((LOG(AF14))/LOG(2))))","v":0},null,222,{"$f":"COUNTIF(L44:L55,AI14)","v":0},{"$f":"AJ14/(AL4-AJ11)","v":0},{"$f":"IF(AK14=0,0,(AK14*((LOG(AK14))/LOG(2))))","v":0},null,222,{"$f":"COUNTIF(L56:L68,AN14)","v":0},{"$f":"AO14/(AQ4-AO11)","v":0},{"$f":"IF(AP14=0,0,(AP14*((LOG(AP14))/LOG(2))))","v":0},null,222,{"$f":"COUNTIF(L69:L80,AS14)","v":0},{"$f":"AT14/(AV4-AT11)","v":0},{"$f":"IF(AU14=0,0,(AU14*((LOG(AU14))/LOG(2))))","v":0}]
[21,999,11,1013,11,1018,null,null,null,null,0,211,null,null,null,{"$f":"SUM(P7:P14)","v":1},{"$f":"-SUM(Q7:Q14)","v":1.4254807459523064},null,null,null,null,{"$f":"SUM(V7:V14)","v":1},{"$f":"-SUM(W7:W14)","v":0.95443400292496505},null,null,null,{"$f":"SUM(AA7:AA14)","v":1},{"$f":"-SUM(AB7:AB14)","v":0},null,null,null,{"$f":"SUM(AF7:AF14)","v":1},{"$f":"-SUM(AG7:AG14)","v":0},null,null,null,{"$f":"SUM(AK7:AK14)","v":1},{"$f":"-SUM(AL7:AL14)","v":0.72192809488736231},null,null,null,{"$f":"SUM(AP7:AP14)","v":1},{"$f":"-SUM(AQ7:AQ14)","v":0.97095059445466869},null,null,null,{"$f":"SUM(AU7:AU14)","v":1},{"$f":"-SUM(AV7:AV14)","v":0.81127812445913283}]
[12,1125,13,1141,13,1153,null,null,null,null,0,111,null,null,null,"U=",{"$f":"Q15/(LOG(Q4)/LOG(2))","v":0.22956622137509536},null,null,null,null,"U1=",{"$f":"W15/(LOG(W4)/LOG(2))","v":0.26623263220548882},null,null,null,"U2=",{"$f":"AB15/(LOG(AB4)/LOG(2))","v":0},null,null,null,"U3=",{"$f":"AG15/(LOG(AG4)/LOG(2))","v":0},null,null,null,"U4=",{"$f":"AL15/(LOG(AL4)/LOG(2))","v":0.20137674933618921},null,null,null,"U5=",{"$f":"AQ15/(LOG(AQ4)/LOG(2))","v":0.26238789668553864},null,null,null,"U6=",{"$f":"AV15/(LOG(AV4)/LOG(2))","v":0.22630030977895443}]
[12,1258,13,1263,13,1294,null,null,null,null,0,111]
[21,1400,11,1410,11,1416,null,null,null,null,0,211]
[21,1508,11,1517,11,1521,null,null,null,null,0,211,null,"Total Target Seq"]
[12,1618,13,1622,13,1632,null,null,null,null,0,111,null,{"$f":"COUNTIF(L7:L80,G3)","v":40},null,12,13,12,12,13,12]
[12,1749,13,1755,13,1760,null,null,null,null,0,111,null,null,null,"% of reinforcement given in 6 equal intervals based on number of trials "]
[21,1858,11,1870,11,1882,null,null,null,null,0,211,null,null,null,"%_1","%_2","%_3","%_4","%_5","%_6"]
[21,1969,11,1985,11,1995,null,null,null,null,0,211,null,null,"target sequence",{"$f":"$G$3","v":211},211,211,211,211,211]
[12,2095,13,2105,13,2115,null,null,null,null,0,111,null,null,"total reinforcement",{"$f":"U11","v":4},{"$f":"Z11","v":6},{"$f":"AE11","v":7},{"$f":"AJ11","v":7},{"$f":"AO11","v":8},{"$f":"AT11","v":8}]
[12,2228,13,2237,13,2247,null,null,null,null,0,111,null,null,"% target"]
[12,2354,13,2358,13,2368,null,null,null,null,0,111,null,null,"CCRF"]
[21,2466,11,2478,11,2487,null,null,null,null,0,211,null,null,"% CCRf"]
[12,2582,13,2585,13,2588,null,null,null,null,0,111,null,null,"average response rate",{"$f":"F18/P20","v":118},{"$f":"(F31-F18)/Q20","v":119.15384615384616},{"$f":"(F43-F31)/R20","v":121.16666666666667},{"$f":"(F55-F43)/S20","v":122.33333333333333},{"$f":"(F68-F55)/T20","v":119.23076923076923},{"$f":"(F80-F68)/U20","v":122.08333333333333}]
[21,2686,11,2702,11,2717,null,null,null,null,0,211]
[12,2832,13,2837,13,2846,null,null,null,null,0,111]
[21,2942,11,2955,11,2965,null,null,null,null,0,211]
[12,3065,13,3100,13,3110,null,null,null,null,0,111]
[12,3225,13,3231,13,3242,null,null,null,null,0,111]
[21,3339,11,3355,11,3366,null,null,null,null,0,211]
[12,3454,13,3467,13,3478,null,null,null,null,0,111]
[21,3577,11,3588,11,3599,null,null,null,null,0,211]
[21,3691,11,3700,11,3717,null,null,null,null,0,211]
[21,3805,11,3825,11,3832,null,null,null,null,0,211]
[12,3936,13,3942,13,3952,null,null,null,null,0,111]
[21,4050,11,4062,11,4069,null,null,null,null,0,211]
[12,4171,13,4176,13,4186,null,null,null,null,0,111]
[21,4283,11,4293,11,4298,null,null,null,null,0,211]
[21,4385,11,4400,11,4419,null,null,null,null,0,211]
[12,4518,13,4523,13,4533,null,null,null,null,0,111]
[21,4630,11,4646,11,4653,null,null,null,null,0,211]
[21,4740,11,4758,11,4770,null,null,null,null,0,211]
[12,4881,13,4894,13,4904,null,null,null,null,0,111]
[21,5001,11,5018,11,5024,null,null,null,null,0,211]
[21,5116,22,5120,13,5130,null,null,null,null,0,221]
[21,5234,11,5243,11,5247,null,null,null,null,0,211]
[12,5349,13,5353,13,5363,null,null,null,null,0,111]
[21,5461,11,5479,11,5499,null,null,null,null,0,211]
[21,5587,11,5603,11,5607,null,null,null,null,0,211]
[12,5748,13,5759,13,5767,null,null,null,null,0,111]
[21,5867,11,5877,11,5887,null,null,null,null,0,211]
[21,5974,11,5989,11,6005,null,null,null,null,0,211]
[21,6097,11,6106,11,6127,null,null,null,null,0,211]
[21,6220,11,6236,11,6246,null,null,null,null,0,211]
[21,6338,11,6347,11,6356,null,null,null,null,0,211]
[21,6447,11,6457,11,6462,null,null,null,null,0,211]
[21,6558,22,6566,13,6575,null,null,null,null,0,221]
[21,6671,11,6683,11,6691,null,null,null,null,0,211]
[12,6792,13,6800,13,6810,null,null,null,null,0,111]
[21,6907,22,6912,13,6922,null,null,null,null,0,221]
[21,7020,11,7031,11,7058,null,null,null,null,0,211]
[12,7165,13,7169,13,7174,null,null,null,null,0,111]
[21,7272,11,7304,11,7326,null,null,null,null,0,211]
[12,7427,13,7432,13,7437,null,null,null,null,0,111]
[21,7532,11,7543,11,7554,null,null,null,null,0,211]
[12,7677,13,7679,13,7686,null,null,null,null,0,111]
[21,7783,22,7789,13,7797,null,null,null,null,0,221]
[21,7895,11,7912,11,7924,null,null,null,null,0,211]
[12,8030,13,8035,13,8039,null,null,null,null,0,111]
[21,8136,11,8144,11,8158,null,null,null,null,0,211]
[21,8249,11,8259,11,8263,null,null,null,null,0,211]
[12,8429,13,8433,13,8440,null,null,null,null,0,111]
[21,8535,11,8549,11,8553,null,null,null,null,0,211]
[21,8646,11,8656,11,8662,null,null,null,null,0,211]
[21,8753,11,8766,11,8772,null,null,null,null,0,211]
[21,8887,11,8896,11,8902,null,null,null,null,1,211]

{"sheet":"!N11491I.sha","index":30,"n_rows":90,"n_cols":48,"rows_kept":90,"cut":false,"hidden":false,"merged":[[1,1,1,2],[5,13,5,14],[18,13,18,14],[19,13,19,14],[4,19,4,22],[5,19,5,20],[4,39,4,42],[5,39,5,40],[4,44,4,47],[5,44,5,45],[4,24,4,27],[5,24,5,25],[4,29,4,32],[5,29,5,30],[4,34,4,37],[5,34,5,35]]}
["Report for:!N11491I.sha"]
["Date:","<date>"]
["Hen:","<hen>",null,null,null,"Correct Sequence",{"$f":"Start!J2","v":211},null,null,null,null,null,null,null,null,"Total Sequences in Data",{"$f":"4994-COUNTBLANK(L7:L5000)","v":84},null,null,null,null,"Total Sequences in Block Data",{"$f":"COUNTA(L7:L20)","v":14},null,null,null,"Total Sequences in Block Data",{"$f":"COUNTA(L21:L34)","v":14},null,null,null,"Total Sequences in Block Data",{"$f":"COUNTA(L35:L48)","v":14},null,null,null,"Total Sequences in Block Data",{"$f":"COUNTA(L49:L62)","v":14},null,null,null,"Total Sequences in Block Data",{"$f":"COUNTA(L63:L76)","v":14},null,null,null,"Total Sequences in Block Data",{"$f":"COUNTA(L77:L90)","v":14}]
[null,null,null,null,null,null,null,null,null,null,null,null,null,null,null,"Total Sequences in Summary",{"$f":"SUM(O7:O14)","v":84},null,null,null,null,"Total Sequences in Block Summary",{"$f":"SUM(U7:U14)","v":14},null,null,null,"Total Sequences in Block Summary",{"$f":"SUM(Z7:Z14)","v":14},null,null,null,"Total Sequences in Block Summary",{"$f":"SUM(AE7:AE14)","v":14},null,null,null,"Total Sequences in Block Summary",{"$f":"SUM(AJ7:AJ14)","v":14},null,null,null,"Total Sequences in Block Summary",{"$f":"SUM(AO7:AO14)","v":14},null,null,null,"Total Sequences in Block Summary",{"$f":"SUM(AT7:AT14)","v":14}]
[null,null,null,null,null,null,null,null,null,null,null,null,null,null,null,null,null,null,null,"Block 1",null,null,null,null,"Block 2",null,null,null,null,"Block 3",null,null,null,null,"Block 4",null,null,null,null,"Block 5",null,null,null,null,"Block 6"]
["Sequence\nComponent\n1","Time\n1","Sequence\nComponent\n2","Time\n2","Sequence\nComponent\n3","Time\n3","Sequence\nComponent\n4","Time\n4","Sequence\nComponent\n5","Time\n5","Correct?\n0=No 1=Yes","Sequence",null,"Frequency",null,"Relative Frequency","Variability",null,null,"Frequency",null,"Relative Frequency","Variability",null,"Frequency",null,"Relative Frequency","Variability",null,"Frequency",null,"Relative Frequency","Variability",null,"Frequency",null,"Relative Frequency","Variability",null,"Frequency",null,"Relative Frequency","Variability",null,"Frequency",null,"Relative Frequency","Variability"]
[12,43,13,46,13,53,null,null,null,null,0,111,null,111,{"$f":"COUNTIF($L$7:$L$500,N7)","v":34},{"$f":"O7/$Q$4","v":0.40476190476190477},{"$f":"IF(P7=0,0,(P7*((LOG(P7))/LOG(2))))","v":-0.52815542585674169},null,null,{"$f":"N7","v":111},{"$f":"COUNTIF(L7:L20,T7)","v":9},{"$f":"U7/(W4-U11)","v":0.81818181818181823},{"$f":"IF(V7=0,0,(V7*((LOG(V7))/LOG(2))))","v":-0.23686905043226034},null,{"$f":"N7","v":111},{"$f":"COUNTIF(L21:L34,Y7)","v":6},{"$f":"Z7/(AB4-Z11)","v":0.75},{"$f":"IF(AA7=0,0,(AA7*((LOG(AA7))/LOG(2))))","v":-0.31127812445913283},null,{"$f":"N7","v":111},{"$f":"COUNTIF(L35:L48,AD7)","v":4},{"$f":"AE7/(AG4-AE11)","v":0.66666666666666663},{"$f":"IF(AF7=0,0,(AF7*((LOG(AF7))/LOG(2))))","v":-0.38997500048077083},null,{"$f":"N7","v":111},{"$f":"COUNTIF(L49:L62,AI7)","v":5},{"$f":"AJ7/(AL4-AJ11)","v":0.7142857142857143},{"$f":"IF(AK7=0,0,(AK7*((LOG(AK7))/LOG(2))))","v":-0.34673344797874411},null,{"$f":"N7","v":111},{"$f":"COUNTIF(L63:L76,AN7)","v":3},{"$f":"AO7/(AQ4-AO11)","v":0.75},{"$f":"IF(AP7=0,0,(AP7*((LOG(AP7))/LOG(2))))","v":-0.31127812445913283},null,{"$f":"N7","v":111},{"$f":"COUNTIF(L77:L90,AS7)","v":7},{"$f":"AT7/(AV4-AT11)","v":0.875},{"$f":"IF(AU7=0,0,(AU7*((LOG(AU7))/LOG(2))))","v":-0.1685644431995964}]
[12,152,13,159,13,165,null,null,null,null,0,111,null,112,7,8.3333333333333329E-2,-0.29874687506009634,null,null,112,{"$f":"COUNTIF(L7:L20,T8)","v":2},{"$f":"U8/(W4-U11)","v":0.18181818181818182},{"$f":"IF(V8=0,0,(V8*((LOG(V8))/LOG(2))))","v":-0.44716938520678134},null,112,{"$f":"COUNTIF(L21:L34,Y8)","v":2},{"$f":"Z8/(AB4-Z11)","v":0.25},{"$f":"IF(AA8=0,0,(AA8*((LOG(AA8))/LOG(2))))","v":-0.5},null,112,{"$f":"COUNTIF(L35:L48,AD8)","v":1},{"$f":"AE8/(AG4-AE11)","v":0.16666666666666666},{"$f":"IF(AF8=0,0,(AF8*((LOG(AF8))/LOG(2))))","v":-0.43082708345352599},null,112,{"$f":"COUNTIF(L49:L62,AI8)","v":2},{"$f":"AJ8/(AL4-AJ11)","v":0.2857142857142857},{"$f":"IF(AK8=0,0,(AK8*((LOG(AK8))/LOG(2))))","v":-0.51638712058788683},null,112,{"$f":"COUNTIF(L63:L76,AN8)","v":0},{"$f":"AO8/(AQ4-AO11)","v":0},{"$f":"IF(AP8=0,0,(AP8*((LOG(AP8))/LOG(2))))","v":0},null,112,{"$f":"COUNTIF(L77:L90,AS8)","v":0},{"$f":"AT8/(AV4-AT11)","v":0},{"$f":"IF(AU8=0,0,(AU8*((LOG(AU8))/LOG(2))))","v":0}]
[12,269,13,274,13,286,null,null,null,null,0,111,null,121,0,0,0,null,null,121,{"$f":"COUNTIF(L7:L20,T9)","v":0},{"$f":"U9/(W4-U11)","v":0},{"$f":"IF(V9=0,0,(V9*((LOG(V9))/LOG(2))))","v":0},null,121,{"$f":"COUNTIF(L21:L34,Y9)","v":0},{"$f":"Z9/(AB4-Z11)","v":0},{"$f":"IF(AA9=0,0,(AA9*((LOG(AA9))/LOG(2))))","v":0},null,121,{"$f":"COUNTIF(L35:L48,AD9)","v":0},{"$f":"AE9/(AG4-AE11)","v":0},{"$f":"IF(AF9=0,0,(AF9*((LOG(AF9))/LOG(2))))","v":0},null,121,{"$f":"COUNTIF(L49:L62,AI9)","v":0},{"$f":"AJ9/(AL4-AJ11)","v":0},{"$f":"IF(AK9=0,0,(AK9*((LOG(AK9))/LOG(2))))","v":0},null,121,{"$f":"COUNTIF(L63:L76,AN9)","v":0},{"$f":"AO9/(AQ4-AO11)","v":0},{"$f":"IF(AP9=0,0,(AP9*((LOG(AP9))/LOG(2))))","v":0},null,121,{"$f":"COUNTIF(L77:L90,AS9)","v":0},{"$f":"AT9/(AV4-AT11)","v":0},{"$f":"IF(AU9=0,0,(AU9*((LOG(AU9))/LOG(2))))","v":0}]
[12,383,13,397,13,406,null,null,null,null,0,111,null,122,0,0,0,null,null,122,{"$f":"COUNTIF(L7:L20,T10)","v":0},{"$f":"U10/(W4-U11)","v":0},{"$f":"IF(V10=0,0,(V10*((LOG(V10))/LOG(2))))","v":0},null,122,{"$f":"COUNTIF(L21:L34,Y10)","v":0},{"$f":"Z10/(AB4-Z11)","v":0},{"$f":"IF(AA10=0,0,(AA10*((LOG(AA10))/LOG(2))))","v":0},null,122,{"$f":"COUNTIF(L35:L48,AD10)","v":0},{"$f":"AE10/(AG4-AE11)","v":0},{"$f":"IF(AF10=0,0,(AF10*((LOG(AF10))/LOG(2))))","v":0},null,122,{"$f":"COUNTIF(L49:L62,AI10)","v":0},{"$f":"AJ10/(AL4-AJ11)","v":0},{"$f":"IF(AK10=0,0,(AK10*((LOG(AK10))/LOG(2))))","v":0},null,122,{"$f":"COUNTIF(L63:L76,AN10)","v":0},{"$f":"AO10/(AQ4-AO11)","v":0},{"$f":"IF(AP10=0,0,(AP10*((LOG(AP10))/LOG(2))))","v":0},null,122,{"$f":"COUNTIF(L77:L90,AS10)","v":0},{"$f":"AT10/(AV4-AT11)","v":0},{"$f":"IF(AU10=0,0,(AU10*((LOG(AU10))/LOG(2))))","v":0}]
[21,504,11,512,11,516,null,null,null,null,0,211,null,211,40,0.47619047619047616,-0.50970920375780859,null,null,211,{"$f":"COUNTIF(L7:L20,T11)","v":3},null,null,null,211,{"$f":"COUNTIF(L21:L34,Y11)","v":6},null,null,null,211,{"$f":"COUNTIF(L35:L48,AD11)","v":8},null,null,null,211,{"$f":"COUNTIF(L49:L62,AI11)","v":7},null,null,null,211,{"$f":"COUNTIF(L63:L76,AN11)","v":10},null,null,null,211,{"$f":"COUNTIF(L77:L90,AS11)","v":6}]
[12,615,13,620,13,635,null,null,null,null,0,111,null,212,0,0,0,null,null,212,{"$f":"COUNTIF(L7:L20,T12)","v":0},{"$f":"U12/(W4-U11)","v":0},{"$f":"IF(V12=0,0,(V12*((LOG(V12))/LOG(2))))","v":0},null,212,{"$f":"COUNTIF(L21:L34,Y12)","v":0},{"$f":"Z12/(AB4-Z11)","v":0},{"$f":"IF(AA12=0,0,(AA12*((LOG(AA12))/LOG(2))))","v":0},null,212,{"$f":"COUNTIF(L35:L48,AD12)","v":0},{"$f":"AE12/(AG4-AE11)","v":0},{"$f":"IF(AF12=0,0,(AF12*((LOG(AF12))/LOG(2))))","v":0},null,212,{"$f":"COUNTIF(L49:L62,AI12)","v":0},{"$f":"AJ12/(AL4-AJ11)","v":0},{"$f":"IF(AK12=0,0,(AK12*((LOG(AK12))/LOG(2))))","v":0},null,212,{"$f":"COUNTIF(L63:L76,AN12)","v":0},{"$f":"AO12/(AQ4-AO11)","v":0},{"$f":"IF(AP12=0,0,(AP12*((LOG(AP12))/LOG(2))))","v":0},null,212,{"$f":"COUNTIF(L77:L90,AS12)","v":0},{"$f":"AT12/(AV4-AT11)","v":0},{"$f":"IF(AU12=0,0,(AU12*((LOG(AU12))/LOG(2))))","v":0}]
[21,727,11,738,11,751,null,null,null,null,0,211,null,221,3,3.5714285714285712E-2,-0.17169124721634299,null,null,221,{"$f":"COUNTIF(L7:L20,T13)","v":0},{"$f":"U13/(W4-U11)","v":0},{"$f":"IF(V13=0,0,(V13*((LOG(V13))/LOG(2))))","v":0},null,221,{"$f":"COUNTIF(L21:L34,Y13)","v":0},{"$f":"Z13/(AB4-Z11)","v":0},{"$f":"IF(AA13=0,0,(AA13*((LOG(AA13))/LOG(2))))","v":0},null,221,{"$f":"COUNTIF(L35:L48,AD13)","v":1},{"$f":"AE13/(AG4-AE11)","v":0.16666666666666666},{"$f":"IF(AF13=0,0,(AF13*((LOG(AF13))/LOG(2))))","v":-0.43082708345352599},null,221,{"$f":"COUNTIF(L49:L62,AI13)","v":0},{"$f":"AJ13/(AL4-AJ11)","v":0},{"$f":"IF(AK13=0,0,(AK13*((LOG(AK13))/LOG(2))))","v":0},null,221,{"$f":"COUNTIF(L63:L76,AN13)","v":1},{"$f":"AO13/(AQ4-AO11)","v":0.25},{"$f":"IF(AP13=0,0,(AP13*((LOG(AP13))/LOG(2))))","v":-0.5},null,221,{"$f":"COUNTIF(L77:L90,AS13)","v":1},{"$f":"AT13/(AV4-AT11)","v":0.125},{"$f":"IF(AU13=0,0,(AU13*((LOG(AU13))/LOG(2))))","v":-0.375}]
[12,850,13,857,13,872,null,null,null,null,0,111,null,222,0,0,0,null,null,222,{"$f":"COUNTIF(L7:L20,T14)","v":0},{"$f":"U14/(W4-U11)","v":0},{"$f":"IF(V14=0,0,(V14*((LOG(V14))/LOG(2))))","v":0},null,222,{"$f":"COUNTIF(L21:L34,Y14)","v":0},{"$f":"Z14/(AB4-Z11)","v":0},{"$f":"IF(AA14=0,0,(AA14*((LOG(AA14))/LOG(2))))","v":0},null,222,{"$f":"COUNTIF(L35:L48,AD14)","v":0},{"$f":"AE14/(AG4-AE11)","v":0},{"$f":"IF(AF14=0,0,(AF14*((LOG(AF14))/LOG(2))))","v":0},null,222,{"$f":"COUNTIF(L49:L62,AI14)","v":0},{"$f":"AJ14/(AL4-AJ11)","v":0},{"$f":"IF(AK14=0,0,(AK14*((LOG(AK14))/LOG(2))))","v":0},null,222,{"$f":"COUNTIF(L63:L76,AN14)","v":0},{"$f":"AO14/(AQ4-AO11)","v":0},{"$f":"IF(AP14=0,0,(AP14*((LOG(AP14))/LOG(2))))","v":0},null,222,{"$f":"COUNTIF(L77:L90,AS14)","v":0},{"$f":"AT14/(AV4-AT11)","v":0},{"$f":"IF(AU14=0,0,(AU14*((LOG(AU14))/LOG(2))))","v":0}]
[12,977,13,985,24,998,null,null,null,null,0,112,null,null,null,{"$f":"SUM(P7:P14)","v":0.99999999999999989},{"$f":"-SUM(Q7:Q14)","v":1.5083027518909895},null,null,null,null,{"$f":"SUM(V7:V14)","v":1},{"$f":"-SUM(W7:W14)","v":0.68403843563904165},null,null,null,{"$f":"SUM(AA7:AA14)","v":1},{"$f":"-SUM(AB7:AB14)","v":0.81127812445913283},null,null,null,{"$f":"SUM(AF7:AF14)","v":0.99999999999999989},{"$f":"-SUM(AG7:AG14)","v":1.2516291673878228},null,null,null,{"$f":"SUM(AK7:AK14)","v":1},{"$f":"-SUM(AL7:AL14)","v":0.863120568566631},null,null,null,{"$f":"SUM(AP7:AP14)","v":1},{"$f":"-SUM(AQ7:AQ14)","v":0.81127812445913283},null,null,null,{"$f":"SUM(AU7:AU14)","v":1},{"$f":"-SUM(AV7:AV14)","v":0.5435644431995964}]
[12,1104,13,1107,13,1117,null,null,null,null,0,111,null,null,null,"U=",{"$f":"Q15/(LOG(Q4)/LOG(2))","v":0.2359555466560867},null,null,null,null,"U1=",{"$f":"W15/(LOG(W4)/LOG(2))","v":0.17966237706816354},null,null,null,"U2=",{"$f":"AB15/(LOG(AB4)/LOG(2))","v":0.21308182217503771},null,null,null,"U3=",{"$f":"AG15/(LOG(AG4)/LOG(2))","v":0.32873981885340137},null,null,null,"U4=",{"$f":"AL15/(LOG(AL4)/LOG(2))","v":0.22669821601506379},null,null,null,"U5=",{"$f":"AQ15/(LOG(AQ4)/LOG(2))","v":0.21308182217503771},null,null,null,"U6=",{"$f":"AV15/(LOG(AV4)/LOG(2))","v":0.142766948269125}]
[12,1222,13,1232,13,1244,null,null,null,null,0,111]
[12,1352,13,1357,24,1391,null,null,null,null,0,112]
[12,1492,13,1497,13,1504,null,null,null,null,0,111,null,"Total Target Seq"]
[21,1596,11,1610,11,1619,null,null,null,null,0,211,null,{"$f":"COUNTIF(L7:L90,G3)","v":40},null,14,14,14,14,14,14]
[12,1733,13,1739,24,1755,null,null,null,null,0,112,null,null,null,"% of reinforcement given in 6 equal intervals based on number of trials "]
[12,1861,13,1865,13,1881,null,null,null,null,0,111,null,null,null,"%_1","%_2","%_3","%_4","%_5","%_6"]
[21,1982,11,1990,11,2002,null,null,null,null,0,211,null,null,"target sequence",{"$f":"$G$3","v":211},211,211,211,211,211]
[21,2089,11,2104,11,2108,null,null,null,null,0,211,null,null,"total reinforcement",{"$f":"U11","v":3},{"$f":"Z11","v":6},{"$f":"AE11","v":8},{"$f":"AJ11","v":7},{"$f":"AO11","v":10},{"$f":"AT11","v":6}]
[21,2202,11,2213,11,2231,null,null,null,null,0,211,null,null,"% target"]
[12,2348,13,2354,24,2370,null,null,null,null,0,112,null,null,"CCRF"]
[12,2475,13,2481,13,2491,null,null,null,null,0,111,null,null,"% CCRf"]
[21,2589,11,2601,11,2619,null,null,null,null,0,211,null,null,"average response rate",{"$f":"F20/P20","v":115.64285714285714},{"$f":"(F34-F20)/Q20","v":125.07142857142857},{"$f":"(F48-F34)/R20","v":120.85714285714286},{"$f":"(F62-F48)/S20","v":126.57142857142857},{"$f":"(F76-F62)/T20","v":120},{"$f":"(F90-F76)/U20","v":123.78571428571429}]
[12,2719,13,2726,13,2740,null,null,null,null,0,111]
[12,2848,13,2855,13,2873,null,null,null,null,0,111]
[21,2969,11,2980,11,2985,null,null,null,null,0,211]
[12,3099,13,3106,13,3122,null,null,null,null,0,111]
[12,3233,13,3243,13,3258,null,null,null,null,0,111]
[21,3355,11,3365,11,3370,null,null,null,null,0,211]
[12,3471,13,3480,24,3499,null,null,null,null,0,112]
[21,3596,11,3605,11,3610,null,null,null,null,0,211]
[21,3700,11,3710,11,3715,null,null,null,null,0,211]
[21,3805,22,3810,13,3819,null,null,null,null,0,221]
[21,3915,11,3945,11,3956,null,null,null,null,0,211]
[12,4070,13,4074,13,4080,null,null,null,null,0,111]
[21,4175,11,4194,11,4199,null,null,null,null,0,211]
[21,4291,11,4301,11,4309,null,null,null,null,0,211]
[12,4414,13,4419,13,4430,null,null,null,null,0,111]
[21,4526,11,4540,11,4551,null,null,null,null,0,211]
[12,4679,13,4683,13,4694,null,null,null,null,0,111]
[21,4792,11,4804,11,4815,null,null,null,null,0,211]
[12,4917,13,4924,13,4941,null,null,null,null,0,111]
[21,5040,11,5052,11,5062,null,null,null,null,0,211]
[12,5168,13,5176,24,5190,null,null,null,null,0,112]
[21,5286,11,5300,11,5313,null,null,null,null,0,211]
[21,5404,11,5412,11,5429,null,null,null,null,0,211]
[21,5518,11,5528,11,5539,null,null,null,null,0,211]
[21,5629,11,5643,11,5660,null,null,null,null,0,211]
[12,5796,13,5799,13,5804,null,null,null,null,0,111]
[12,5911,13,5918,13,5933,null,null,null,null,0,111]
[21,6034,11,6043,11,6051,null,null,null,null,0,211]
[21,6142,11,6150,11,6155,null,null,null,null,0,211]
[12,6279,13,6286,13,6300,null,null,null,null,0,111]
[21,6400,11,6408,11,6418,null,null,null,null,0,211]
[12,6519,13,6526,24,6537,null,null,null,null,0,112]
[12,6649,13,6655,13,6665,null,null,null,null,0,111]
[12,6816,13,6827,13,6834,null,null,null,null,0,111]
[21,6931,11,6941,11,6949,null,null,null,null,0,211]
[21,7040,11,7047,11,7072,null,null,null,null,0,211]
[12,7181,13,7185,13,7194,null,null,null,null,0,111]
[21,7301,11,7315,11,7319,null,null,null,null,0,211]
[21,7413,11,7422,11,7462,null,null,null,null,0,211]
[21,7554,11,7563,11,7567,null,null,null,null,0,211]
[21,7662,11,7674,11,7679,null,null,null,null,0,211]
[12,7778,13,7784,13,7793,null,null,null,null,0,111]
[21,7892,11,7902,11,7918,null,null,null,null,0,211]
[21,8006,22,8014,13,8023,null,null,null,null,0,221]
[21,8123,11,8136,11,8159,null,null,null,null,0,211]
[21,8247,11,8256,11,8260,null,null,null,null,0,211]
[21,8347,11,8361,11,8370,null,null,null,null,0,211]
[12,8471,13,8490,13,8514,null,null,null,null,0,111]
[21,8612,11,8622,11,8633,null,null,null,null,0,211]
[12,8740,13,8755,13,8766,null,null,null,null,0,111]
[21,8864,11,8874,11,8890,null,null,null,null,0,211]
[12,8990,13,8994,13,9007,null,null,null,null,0,111]
[21,9104,22,9111,13,9119,null,null,null,null,0,221]
[12,9229,13,9234,13,9250,null,null,null,null,0,111]
[12,9356,13,9362,13,9371,null,null,null,null,0,111]
[12,9516,13,9523,13,9525,null,null,null,null,0,111]
[21,9621,11,9630,11,9637,null,null,null,null,0,211]
[21,9726,11,9734,11,9765,null,null,null,null,0,211]
[12,9869,13,9871,13,9887,null,null,null,null,0,111]
[21,9984,11,9998,11,10001,null,null,null,null,0,211]
[12,10102,13,10108,13,10123,null,null,null,null,0,111]
[21,10224,11,10233,11,10247,null,null,null,null,1,211]

{"sheet":"!N11595I.sha","index":31,"n_rows":82,"n_cols":48,"rows_kept":82,"cut":false,"hidden":false,"merged":[[1,1,1,2],[5,13,5,14],[18,13,18,14],[19,13,19,14],[4,19,4,22],[5,19,5,20],[4,39,4,42],[5,39,5,40],[4,44,4,47],[5,44,5,45],[4,24,4,27],[5,24,5,25],[4,29,4,32],[5,29,5,30],[4,34,4,37],[5,34,5,35]]}
["Report for:!N11595I.sha"]
["Date:","<date>"]
["Hen:","<hen>",null,null,null,"Correct Sequence",{"$f":"Start!J2","v":211},null,null,null,null,null,null,null,null,"Total Sequences in Data",{"$f":"4994-COUNTBLANK(L7:L5000)","v":76},null,null,null,null,"Total Sequences in Block Data",{"$f":"COUNTA(L7:L19)","v":13},null,null,null,"Total Sequences in Block Data",{"$f":"COUNTA(L20:L31)","v":12},null,null,null,"Total Sequences in Block Data",{"$f":"COUNTA(L32:L44)","v":13},null,null,null,"Total Sequences in Block Data",{"$f":"COUNTA(L45:L57)","v":13},null,null,null,"Total Sequences in Block Data",{"$f":"COUNTA(L58:L69)","v":12},null,null,null,"Total Sequences in Block Data",{"$f":"COUNTA(L70:L82)","v":13}]
[null,null,null,null,null,null,null,null,null,null,null,null,null,null,null,"Total Sequences in Summary",{"$f":"SUM(O7:O14)","v":76},null,null,null,null,"Total Sequences in Block Summary",{"$f":"SUM(U7:U14)","v":13},null,null,null,"Total Sequences in Block Summary",{"$f":"SUM(Z7:Z14)","v":12},null,null,null,"Total Sequences in Block Summary",{"$f":"SUM(AE7:AE14)","v":13},null,null,null,"Total Sequences in Block Summary",{"$f":"SUM(AJ7:AJ14)","v":13},null,null,null,"Total Sequences in Block Summary",{"$f":"SUM(AO7:AO14)","v":12},null,null,null,"Total Sequences in Block Summary",{"$f":"SUM(AT7:AT14)","v":13}]
[null,null,null,null,null,null,null,null,null,null,null,null,null,null,null,null,null,null,null,"Block 1",null,null,null,null,"Block 2",null,null,null,null,"Block 3",null,null,null,null,"Block 4",null,null,null,null,"Block 5",null,null,null,null,"Block 6"]
["Sequence\nComponent\n1","Time\n1","Sequence\nComponent\n2","Time\n2","Sequence\nComponent\n3","Time\n3","Sequence\nComponent\n4","Time\n4","Sequence\nComponent\n5","Time\n5","Correct?\n0=No 1=Yes","Sequence",null,"Frequency",null,"Relative Frequency","Variability",null,null,"Frequency",null,"Relative Frequency","Variability",null,"Frequency",null,"Relative Frequency","Variability",null,"Frequency",null,"Relative Frequency","Variability",null,"Frequency",null,"Relative Frequency","Variability",null,"Frequency",null,"Relative Frequency","Variability",null,"Frequency",null,"Relative Frequency","Variability"]
[12,45,13,50,13,55,null,null,null,null,0,111,null,111,{"$f":"COUNTIF($L$7:$L$500,N7)","v":27},{"$f":"O7/$Q$4","v":0.35526315789473684},{"$f":"IF(P7=0,0,(P7*((LOG(P7))/LOG(2))))","v":-0.53042210927056788},null,null,{"$f":"N7","v":111},{"$f":"COUNTIF(L7:L19,T7)","v":6},{"$f":"U7/(W4-U11)","v":0.66666666666666663},{"$f":"IF(V7=0,0,(V7*((LOG(V7))/LOG(2))))","v":-0.38997500048077083},null,{"$f":"N7","v":111},{"$f":"COUNTIF(L20:L31,Y7)","v":3},{"$f":"Z7/(AB4-Z11)","v":0.42857142857142855},{"$f":"IF(AA7=0,0,(AA7*((LOG(AA7))/LOG(2))))","v":-0.52388246628704915},null,{"$f":"N7","v":111},{"$f":"COUNTIF(L32:L44,AD7)","v":8},{"$f":"AE7/(AG4-AE11)","v":1},{"$f":"IF(AF7=0,0,(AF7*((LOG(AF7))/LOG(2))))","v":0},null,{"$f":"N7","v":111},{"$f":"COUNTIF(L45:L57,AI7)","v":4},{"$f":"AJ7/(AL4-AJ11)","v":0.66666666666666663},{"$f":"IF(AK7=0,0,(AK7*((LOG(AK7))/LOG(2))))","v":-0.38997500048077083},null,{"$f":"N7","v":111},{"$f":"COUNTIF(L58:L69,AN7)","v":2},{"$f":"AO7/(AQ4-AO11)","v":1},{"$f":"IF(AP7=0,0,(AP7*((LOG(AP7))/LOG(2))))","v":0},null,{"$f":"N7","v":111},{"$f":"COUNTIF(L70:L82,AS7)","v":4},{"$f":"AT7/(AV4-AT11)","v":1},{"$f":"IF(AU7=0,0,(AU7*((LOG(AU7))/LOG(2))))","v":0}]
[12,156,13,160,13,168,null,null,null,null,0,111,null,112,5,6.5789473684210523E-2,-0.25828943543133048,null,null,112,{"$f":"COUNTIF(L7:L19,T8)","v":2},{"$f":"U8/(W4-U11)","v":0.22222222222222221},{"$f":"IF(V8=0,0,(V8*((LOG(V8))/LOG(2))))","v":-0.48220555587606945},null,112,{"$f":"COUNTIF(L20:L31,Y8)","v":3},{"$f":"Z8/(AB4-Z11)","v":0.42857142857142855},{"$f":"IF(AA8=0,0,(AA8*((LOG(AA8))/LOG(2))))","v":-0.52388246628704915},null,112,{"$f":"COUNTIF(L32:L44,AD8)","v":0},{"$f":"AE8/(AG4-AE11)","v":0},{"$f":"IF(AF8=0,0,(AF8*((LOG(AF8))/LOG(2))))","v":0},null,112,{"$f":"COUNTIF(L45:L57,AI8)","v":0},{"$f":"AJ8/(AL4-AJ11)","v":0},{"$f":"IF(AK8=0,0,(AK8*((LOG(AK8))/LOG(2))))","v":0},null,112,{"$f":"COUNTIF(L58:L69,AN8)","v":0},{"$f":"AO8/(AQ4-AO11)","v":0},{"$f":"IF(AP8=0,0,(AP8*((LOG(AP8))/LOG(2))))","v":0},null,112,{"$f":"COUNTIF(L70:L82,AS8)","v":0},{"$f":"AT8/(AV4-AT11)","v":0},{"$f":"IF(AU8=0,0,(AU8*((LOG(AU8))/LOG(2))))","v":0}]
[12,275,13,292,24,306,null,null,null,null,0,112,null,121,0,0,0,null,null,121,{"$f":"COUNTIF(L7:L19,T9)","v":0},{"$f":"U9/(W4-U11)","v":0},{"$f":"IF(V9=0,0,(V9*((LOG(V9))/LOG(2))))","v":0},null,121,{"$f":"COUNTIF(L20:L31,Y9)","v":0},{"$f":"Z9/(AB4-Z11)","v":0},{"$f":"IF(AA9=0,0,(AA9*((LOG(AA9))/LOG(2))))","v":0},null,121,{"$f":"COUNTIF(L32:L44,AD9)","v":0},{"$f":"AE9/(AG4-AE11)","v":0},{"$f":"IF(AF9=0,0,(AF9*((LOG(AF9))/LOG(2))))","v":0},null,121,{"$f":"COUNTIF(L45:L57,AI9)","v":0},{"$f":"AJ9/(AL4-AJ11)","v":0},{"$f":"IF(AK9=0,0,(AK9*((LOG(AK9))/LOG(2))))","v":0},null,121,{"$f":"COUNTIF(L58:L69,AN9)","v":0},{"$f":"AO9/(AQ4-AO11)","v":0},{"$f":"IF(AP9=0,0,(AP9*((LOG(AP9))/LOG(2))))","v":0},null,121,{"$f":"COUNTIF(L70:L82,AS9)","v":0},{"$f":"AT9/(AV4-AT11)","v":0},{"$f":"IF(AU9=0,0,(AU9*((LOG(AU9))/LOG(2))))","v":0}]
[12,416,13,420,13,427,null,null,null,null,0,111,null,122,1,1.3157894736842105E-2,-8.2209572545310333E-2,null,null,122,{"$f":"COUNTIF(L7:L19,T10)","v":1},{"$f":"U10/(W4-U11)","v":0.1111111111111111},{"$f":"IF(V10=0,0,(V10*((LOG(V10))/LOG(2))))","v":-0.3522138890491458},null,122,{"$f":"COUNTIF(L20:L31,Y10)","v":0},{"$f":"Z10/(AB4-Z11)","v":0},{"$f":"IF(AA10=0,0,(AA10*((LOG(AA10))/LOG(2))))","v":0},null,122,{"$f":"COUNTIF(L32:L44,AD10)","v":0},{"$f":"AE10/(AG4-AE11)","v":0},{"$f":"IF(AF10=0,0,(AF10*((LOG(AF10))/LOG(2))))","v":0},null,122,{"$f":"COUNTIF(L45:L57,AI10)","v":0},{"$f":"AJ10/(AL4-AJ11)","v":0},{"$f":"IF(AK10=0,0,(AK10*((LOG(AK10))/LOG(2))))","v":0},null,122,{"$f":"COUNTIF(L58:L69,AN10)","v":0},{"$f":"AO10/(AQ4-AO11)","v":0},{"$f":"IF(AP10=0,0,(AP10*((LOG(AP10))/LOG(2))))","v":0},null,122,{"$f":"COUNTIF(L70:L82,AS10)","v":0},{"$f":"AT10/(AV4-AT11)","v":0},{"$f":"IF(AU10=0,0,(AU10*((LOG(AU10))/LOG(2))))","v":0}]
[12,528,24,540,24,545,null,null,null,null,0,122,null,211,40,0.52631578947368418,-0.4873681150295911,null,null,211,{"$f":"COUNTIF(L7:L19,T11)","v":4},null,null,null,211,{"$f":"COUNTIF(L20:L31,Y11)","v":5},null,null,null,211,{"$f":"COUNTIF(L32:L44,AD11)","v":5},null,null,null,211,{"$f":"COUNTIF(L45:L57,AI11)","v":7},null,null,null,211,{"$f":"COUNTIF(L58:L69,AN11)","v":10},null,null,null,211,{"$f":"COUNTIF(L70:L82,AS11)","v":9}]
[12,648,13,653,13,660,null,null,null,null,0,111,null,212,0,0,0,null,null,212,{"$f":"COUNTIF(L7:L19,T12)","v":0},{"$f":"U12/(W4-U11)","v":0},{"$f":"IF(V12=0,0,(V12*((LOG(V12))/LOG(2))))","v":0},null,212,{"$f":"COUNTIF(L20:L31,Y12)","v":0},{"$f":"Z12/(AB4-Z11)","v":0},{"$f":"IF(AA12=0,0,(AA12*((LOG(AA12))/LOG(2))))","v":0},null,212,{"$f":"COUNTIF(L32:L44,AD12)","v":0},{"$f":"AE12/(AG4-AE11)","v":0},{"$f":"IF(AF12=0,0,(AF12*((LOG(AF12))/LOG(2))))","v":0},null,212,{"$f":"COUNTIF(L45:L57,AI12)","v":0},{"$f":"AJ12/(AL4-AJ11)","v":0},{"$f":"IF(AK12=0,0,(AK12*((LOG(AK12))/LOG(2))))","v":0},null,212,{"$f":"COUNTIF(L58:L69,AN12)","v":0},{"$f":"AO12/(AQ4-AO11)","v":0},{"$f":"IF(AP12=0,0,(AP12*((LOG(AP12))/LOG(2))))","v":0},null,212,{"$f":"COUNTIF(L70:L82,AS12)","v":0},{"$f":"AT12/(AV4-AT11)","v":0},{"$f":"IF(AU12=0,0,(AU12*((LOG(AU12))/LOG(2))))","v":0}]
[21,752,11,763,11,769,null,null,null,null,0,211,null,221,3,3.9473684210526314E-2,-0.184064408396938,null,null,221,{"$f":"COUNTIF(L7:L19,T13)","v":0},{"$f":"U13/(W4-U11)","v":0},{"$f":"IF(V13=0,0,(V13*((LOG(V13))/LOG(2))))","v":0},null,221,{"$f":"COUNTIF(L20:L31,Y13)","v":1},{"$f":"Z13/(AB4-Z11)","v":0.14285714285714285},{"$f":"IF(AA13=0,0,(AA13*((LOG(AA13))/LOG(2))))","v":-0.40105070315108626},null,221,{"$f":"COUNTIF(L32:L44,AD13)","v":0},{"$f":"AE13/(AG4-AE11)","v":0},{"$f":"IF(AF13=0,0,(AF13*((LOG(AF13))/LOG(2))))","v":0},null,221,{"$f":"COUNTIF(L45:L57,AI13)","v":2},{"$f":"AJ13/(AL4-AJ11)","v":0.33333333333333331},{"$f":"IF(AK13=0,0,(AK13*((LOG(AK13))/LOG(2))))","v":-0.52832083357371862},null,221,{"$f":"COUNTIF(L58:L69,AN13)","v":0},{"$f":"AO13/(AQ4-AO11)","v":0},{"$f":"IF(AP13=0,0,(AP13*((LOG(AP13))/LOG(2))))","v":0},null,221,{"$f":"COUNTIF(L70:L82,AS13)","v":0},{"$f":"AT13/(AV4-AT11)","v":0},{"$f":"IF(AU13=0,0,(AU13*((LOG(AU13))/LOG(2))))","v":0}]
[21,859,11,868,11,875,null,null,null,null,0,211,null,222,0,0,0,null,null,222,{"$f":"COUNTIF(L7:L19,T14)","v":0},{"$f":"U14/(W4-U11)","v":0},{"$f":"IF(V14=0,0,(V14*((LOG(V14))/LOG(2))))","v":0},null,222,{"$f":"COUNTIF(L20:L31,Y14)","v":0},{"$f":"Z14/(AB4-Z11)","v":0},{"$f":"IF(AA14=0,0,(AA14*((LOG(AA14))/LOG(2))))","v":0},null,222,{"$f":"COUNTIF(L32:L44,AD14)","v":0},{"$f":"AE14/(AG4-AE11)","v":0},{"$f":"IF(AF14=0,0,(AF14*((LOG(AF14))/LOG(2))))","v":0},null,222,{"$f":"COUNTIF(L45:L57,AI14)","v":0},{"$f":"AJ14/(AL4-AJ11)","v":0},{"$f":"IF(AK14=0,0,(AK14*((LOG(AK14))/LOG(2))))","v":0},null,222,{"$f":"COUNTIF(L58:L69,AN14)","v":0},{"$f":"AO14/(AQ4-AO11)","v":0},{"$f":"IF(AP14=0,0,(AP14*((LOG(AP14))/LOG(2))))","v":0},null,222,{"$f":"COUNTIF(L70:L82,AS14)","v":0},{"$f":"AT14/(AV4-AT11)","v":0},{"$f":"IF(AU14=0,0,(AU14*((LOG(AU14))/LOG(2))))","v":0}]
[21,966,11,976,11,994,null,null,null,null,0,211,null,null,null,{"$f":"SUM(P7:P14)","v":1},{"$f":"-SUM(Q7:Q14)","v":1.5423536406737379},null,null,null,null,{"$f":"SUM(V7:V14)","v":1},{"$f":"-SUM(W7:W14)","v":1.2243944454059861},null,null,null,{"$f":"SUM(AA7:AA14)","v":1},{"$f":"-SUM(AB7:AB14)","v":1.4488156357251847},null,null,null,{"$f":"SUM(AF7:AF14)","v":1},{"$f":"-SUM(AG7:AG14)","v":0},null,null,null,{"$f":"SUM(AK7:AK14)","v":1},{"$f":"-SUM(AL7:AL14)","v":0.91829583405448945},null,null,null,{"$f":"SUM(AP7:AP14)","v":1},{"$f":"-SUM(AQ7:AQ14)","v":0},null,null,null,{"$f":"SUM(AU7:AU14)","v":1},{"$f":"-SUM(AV7:AV14)","v":0}]
[12,1106,13,1110,24,1131,null,null,null,null,0,112,null,null,null,"U=",{"$f":"Q15/(LOG(Q4)/LOG(2))","v":0.2468584402355942},null,null,null,null,"U1=",{"$f":"W15/(LOG(W4)/LOG(2))","v":0.33087809521757539},null,null,null,"U2=",{"$f":"AB15/(LOG(AB4)/LOG(2))","v":0.40413690113459727},null,null,null,"U3=",{"$f":"AG15/(LOG(AG4)/LOG(2))","v":0},null,null,null,"U4=",{"$f":"AL15/(LOG(AL4)/LOG(2))","v":0.24815857141318151},null,null,null,"U5=",{"$f":"AQ15/(LOG(AQ4)/LOG(2))","v":0},null,null,null,"U6=",{"$f":"AV15/(LOG(AV4)/LOG(2))","v":0}]
[12,1234,13,1239,13,1244,null,null,null,null,0,111]
[12,1354,13,1360,13,1372,null,null,null,null,0,111]
[21,1473,11,1483,11,1489,null,null,null,null,0,211,null,"Total Target Seq"]
[21,1579,11,1588,11,1599,null,null,null,null,0,211,null,{"$f":"COUNTIF(L7:L82,G3)","v":40},null,13,12,13,13,12,13]
[12,1703,13,1719,24,1742,null,null,null,null,0,112,null,null,null,"% of reinforcement given in 6 equal intervals based on number of trials "]
[21,1841,11,1864,11,1884,null,null,null,null,0,211,null,null,null,"%_1","%_2","%_3","%_4","%_5","%_6"]
[21,1971,22,1980,13,1988,null,null,null,null,0,221,null,null,"target sequence",{"$f":"$G$3","v":211},211,211,211,211,211]
[12,2095,13,2103,13,2118,null,null,null,null,0,111,null,null,"total reinforcement",{"$f":"U11","v":4},{"$f":"Z11","v":5},{"$f":"AE11","v":5},{"$f":"AJ11","v":7},{"$f":"AO11","v":10},{"$f":"AT11","v":9}]
[12,2228,13,2235,24,2261,null,null,null,null,0,112,null,null,"% target"]
[21,2360,11,2369,11,2374,null,null,null,null,0,211,null,null,"CCRF"]
[12,2474,13,2477,13,2521,null,null,null,null,0,111,null,null,"% CCRf"]
[12,2628,13,2633,13,2643,null,null,null,null,0,111,null,null,"average response rate",{"$f":"F19/P20","v":114.53846153846153},{"$f":"(F31-F19)/Q20","v":126.66666666666667},{"$f":"(F44-F31)/R20","v":122.92307692307692},{"$f":"(F57-F44)/S20","v":129.76923076923077},{"$f":"(F69-F57)/T20","v":127.25},{"$f":"(F82-F69)/U20","v":121.07692307692308}]
[21,2742,11,2752,11,2756,null,null,null,null,0,211]
[21,2846,11,2855,11,2863,null,null,null,null,0,211]
[12,2964,13,2974,24,3009,null,null,null,null,0,112]
[21,3106,11,3122,11,3132,null,null,null,null,0,211]
[12,3232,13,3236,13,3253,null,null,null,null,0,111]
[12,3354,13,3359,13,3365,null,null,null,null,0,111]
[12,3470,13,3475,13,3487,null,null,null,null,0,111]
[12,3630,13,3635,13,3641,null,null,null,null,0,111]
[12,3747,13,3754,13,3760,null,null,null,null,0,111]
[21,3857,11,3868,11,3900,null,null,null,null,0,211]
[12,3997,13,4002,13,4015,null,null,null,null,0,111]
[21,4111,11,4122,11,4131,null,null,null,null,0,211]
[12,4231,13,4235,13,4250,null,null,null,null,0,111]
[12,4356,13,4366,13,4378,null,null,null,null,0,111]
[21,4474,11,4485,11,4488,null,null,null,null,0,211]
[21,4579,11,4593,11,4607,null,null,null,null,0,211]
[12,4728,13,4730,13,4744,null,null,null,null,0,111]
[21,4841,11,4856,11,4880,null,null,null,null,0,211]
[21,4968,11,4983,11,4987,null,null,null,null,0,211]
[21,5083,11,5093,11,5126,null,null,null,null,0,211]
[12,5244,13,5250,13,5255,null,null,null,null,0,111]
[21,5353,11,5369,11,5377,null,null,null,null,0,211]
[21,5465,11,5480,11,5521,null,null,null,null,0,211]
[21,5607,22,5613,13,5622,null,null,null,null,0,221]
[12,5730,13,5735,13,5747,null,null,null,null,0,111]
[21,5894,11,5907,11,5912,null,null,null,null,0,211]
[12,6016,13,6022,13,6033,null,null,null,null,0,111]
[21,6131,11,6140,11,6186,null,null,null,null,0,211]
[21,6277,22,6286,13,6294,null,null,null,null,0,221]
[21,6393,11,6404,11,6415,null,null,null,null,0,211]
[21,6505,11,6513,11,6547,null,null,null,null,0,211]
[21,6640,11,6647,11,6688,null,null,null,null,0,211]
[12,6796,13,6800,13,6805,null,null,null,null,0,111]
[21,6902,11,6912,11,6947,null,null,null,null,0,211]
[21,7035,11,7052,11,7057,null,null,null,null,0,211]
[21,7167,11,7177,11,7186,null,null,null,null,0,211]
[21,7278,11,7293,11,7298,null,null,null,null,0,211]
[21,7391,11,7401,11,7405,null,null,null,null,0,211]
[21,7497,11,7507,11,7556,null,null,null,null,0,211]
[12,7653,13,7676,13,7697,null,null,null,null,0,111]
[21,7794,11,7806,11,7821,null,null,null,null,0,211]
[21,7910,11,7920,11,7940,null,null,null,null,0,211]
[12,8091,13,8095,13,8106,null,null,null,null,0,111]
[21,8203,11,8214,11,8219,null,null,null,null,0,211]
[12,8321,13,8326,13,8335,null,null,null,null,0,111]
[21,8432,11,8442,11,8462,null,null,null,null,0,211]
[21,8556,11,8565,11,8569,null,null,null,null,0,211]
[12,8674,13,8678,13,8686,null,null,null,null,0,111]
[21,8782,11,8793,11,8812,null,null,null,null,0,211]
[21,8900,11,8912,11,8916,null,null,null,null,0,211]
[21,9006,11,9020,11,9025,null,null,null,null,0,211]
[12,9153,13,9157,13,9162,null,null,null,null,0,111]
[21,9258,11,9268,11,9289,null,null,null,null,0,211]
[21,9376,11,9390,11,9395,null,null,null,null,1,211]

{"sheet":"!N11693I.sha","index":32,"n_rows":70,"n_cols":48,"rows_kept":70,"cut":false,"hidden":false,"merged":[[1,1,1,2],[5,13,5,14],[18,13,18,14],[19,13,19,14],[4,19,4,22],[5,19,5,20],[4,39,4,42],[5,39,5,40],[4,44,4,47],[5,44,5,45],[4,24,4,27],[5,24,5,25],[4,29,4,32],[5,29,5,30],[4,34,4,37],[5,34,5,35]]}
["Report for:!N11693I.sha"]
["Date:","<date>"]
["Hen:","<hen>",null,null,null,"Correct Sequence",{"$f":"Start!J2","v":211},null,null,null,null,null,null,null,null,"Total Sequences in Data",{"$f":"4994-COUNTBLANK(L7:L5000)","v":64},null,null,null,null,"Total Sequences in Block Data",{"$f":"COUNTA(L7:L17)","v":11},null,null,null,"Total Sequences in Block Data",{"$f":"COUNTA(L18:L27)","v":10},null,null,null,"Total Sequences in Block Data",{"$f":"COUNTA(L28:L38)","v":11},null,null,null,"Total Sequences in Block Data",{"$f":"COUNTA(L39:L49)","v":11},null,null,null,"Total Sequences in Block Data",{"$f":"COUNTA(L50:L59)","v":10},null,null,null,"Total Sequences in Block Data",{"$f":"COUNTA(L60:L70)","v":11}]
[null,null,null,null,null,null,null,null,null,null,null,null,null,null,null,"Total Sequences in Summary",{"$f":"SUM(O7:O14)","v":64},null,null,null,null,"Total Sequences in Block Summary",{"$f":"SUM(U7:U14)","v":11},null,null,null,"Total Sequences in Block Summary",{"$f":"SUM(Z7:Z14)","v":10},null,null,null,"Total Sequences in Block Summary",{"$f":"SUM(AE7:AE14)","v":11},null,null,null,"Total Sequences in Block Summary",{"$f":"SUM(AJ7:AJ14)","v":11},null,null,null,"Total Sequences in Block Summary",{"$f":"SUM(AO7:AO14)","v":10},null,null,null,"Total Sequences in Block Summary",{"$f":"SUM(AT7:AT14)","v":11}]
[null,null,null,null,null,null,null,null,null,null,null,null,null,null,null,null,null,null,null,"Block 1",null,null,null,null,"Block 2",null,null,null,null,"Block 3",null,null,null,null,"Block 4",null,null,null,null,"Block 5",null,null,null,null,"Block 6"]
["Sequence\nComponent\n1","Time\n1","Sequence\nComponent\n2","Time\n2","Sequence\nComponent\n3","Time\n3","Sequence\nComponent\n4","Time\n4","Sequence\nComponent\n5","Time\n5","Correct?\n0=No 1=Yes","Sequence",null,"Frequency",null,"Relative Frequency","Variability",null,null,"Frequency",null,"Relative Frequency","Variability",null,"Frequency",null,"Relative Frequency","Variability",null,"Frequency",null,"Relative Frequency","Variability",null,"Frequency",null,"Relative Frequency","Variability",null,"Frequency",null,"Relative Frequency","Variability",null,"Frequency",null,"Relative Frequency","Variability"]
[12,67,13,75,13,83,null,null,null,null,0,111,null,111,{"$f":"COUNTIF($L$7:$L$500,N7)","v":23},{"$f":"O7/$Q$4","v":0.359375},{"$f":"IF(P7=0,0,(P7*((LOG(P7))/LOG(2))))","v":-0.53059492204201097},null,null,{"$f":"N7","v":111},{"$f":"COUNTIF(L7:L17,T7)","v":4},{"$f":"U7/(W4-U11)","v":1},{"$f":"IF(V7=0,0,(V7*((LOG(V7))/LOG(2))))","v":0},null,{"$f":"N7","v":111},{"$f":"COUNTIF(L18:L27,Y7)","v":5},{"$f":"Z7/(AB4-Z11)","v":1},{"$f":"IF(AA7=0,0,(AA7*((LOG(AA7))/LOG(2))))","v":0},null,{"$f":"N7","v":111},{"$f":"COUNTIF(L28:L38,AD7)","v":5},{"$f":"AE7/(AG4-AE11)","v":1},{"$f":"IF(AF7=0,0,(AF7*((LOG(AF7))/LOG(2))))","v":0},null,{"$f":"N7","v":111},{"$f":"COUNTIF(L39:L49,AI7)","v":4},{"$f":"AJ7/(AL4-AJ11)","v":1},{"$f":"IF(AK7=0,0,(AK7*((LOG(AK7))/LOG(2))))","v":0},null,{"$f":"N7","v":111},{"$f":"COUNTIF(L50:L59,AN7)","v":4},{"$f":"AO7/(AQ4-AO11)","v":1},{"$f":"IF(AP7=0,0,(AP7*((LOG(AP7))/LOG(2))))","v":0},null,{"$f":"N7","v":111},{"$f":"COUNTIF(L60:L70,AS7)","v":1},{"$f":"AT7/(AV4-AT11)","v":0.5},{"$f":"IF(AU7=0,0,(AU7*((LOG(AU7))/LOG(2))))","v":-0.5}]
[12,181,13,184,13,189,null,null,null,null,0,111,null,112,0,0,0,null,null,112,{"$f":"COUNTIF(L7:L17,T8)","v":0},{"$f":"U8/(W4-U11)","v":0},{"$f":"IF(V8=0,0,(V8*((LOG(V8))/LOG(2))))","v":0},null,112,{"$f":"COUNTIF(L18:L27,Y8)","v":0},{"$f":"Z8/(AB4-Z11)","v":0},{"$f":"IF(AA8=0,0,(AA8*((LOG(AA8))/LOG(2))))","v":0},null,112,{"$f":"COUNTIF(L28:L38,AD8)","v":0},{"$f":"AE8/(AG4-AE11)","v":0},{"$f":"IF(AF8=0,0,(AF8*((LOG(AF8))/LOG(2))))","v":0},null,112,{"$f":"COUNTIF(L39:L49,AI8)","v":0},{"$f":"AJ8/(AL4-AJ11)","v":0},{"$f":"IF(AK8=0,0,(AK8*((LOG(AK8))/LOG(2))))","v":0},null,112,{"$f":"COUNTIF(L50:L59,AN8)","v":0},{"$f":"AO8/(AQ4-AO11)","v":0},{"$f":"IF(AP8=0,0,(AP8*((LOG(AP8))/LOG(2))))","v":0},null,112,{"$f":"COUNTIF(L60:L70,AS8)","v":0},{"$f":"AT8/(AV4-AT11)","v":0},{"$f":"IF(AU8=0,0,(AU8*((LOG(AU8))/LOG(2))))","v":0}]
[21,282,11,290,11,294,null,null,null,null,0,211,null,121,0,0,0,null,null,121,{"$f":"COUNTIF(L7:L17,T9)","v":0},{"$f":"U9/(W4-U11)","v":0},{"$f":"IF(V9=0,0,(V9*((LOG(V9))/LOG(2))))","v":0},null,121,{"$f":"COUNTIF(L18:L27,Y9)","v":0},{"$f":"Z9/(AB4-Z11)","v":0},{"$f":"IF(AA9=0,0,(AA9*((LOG(AA9))/LOG(2))))","v":0},null,121,{"$f":"COUNTIF(L28:L38,AD9)","v":0},{"$f":"AE9/(AG4-AE11)","v":0},{"$f":"IF(AF9=0,0,(AF9*((LOG(AF9))/LOG(2))))","v":0},null,121,{"$f":"COUNTIF(L39:L49,AI9)","v":0},{"$f":"AJ9/(AL4-AJ11)","v":0},{"$f":"IF(AK9=0,0,(AK9*((LOG(AK9))/LOG(2))))","v":0},null,121,{"$f":"COUNTIF(L50:L59,AN9)","v":0},{"$f":"AO9/(AQ4-AO11)","v":0},{"$f":"IF(AP9=0,0,(AP9*((LOG(AP9))/LOG(2))))","v":0},null,121,{"$f":"COUNTIF(L60:L70,AS9)","v":0},{"$f":"AT9/(AV4-AT11)","v":0},{"$f":"IF(AU9=0,0,(AU9*((LOG(AU9))/LOG(2))))","v":0}]
[21,390,11,399,11,404,null,null,null,null,0,211,null,122,0,0,0,null,null,122,{"$f":"COUNTIF(L7:L17,T10)","v":0},{"$f":"U10/(W4-U11)","v":0},{"$f":"IF(V10=0,0,(V10*((LOG(V10))/LOG(2))))","v":0},null,122,{"$f":"COUNTIF(L18:L27,Y10)","v":0},{"$f":"Z10/(AB4-Z11)","v":0},{"$f":"IF(AA10=0,0,(AA10*((LOG(AA10))/LOG(2))))","v":0},null,122,{"$f":"COUNTIF(L28:L38,AD10)","v":0},{"$f":"AE10/(AG4-AE11)","v":0},{"$f":"IF(AF10=0,0,(AF10*((LOG(AF10))/LOG(2))))","v":0},null,122,{"$f":"COUNTIF(L39:L49,AI10)","v":0},{"$f":"AJ10/(AL4-AJ11)","v":0},{"$f":"IF(AK10=0,0,(AK10*((LOG(AK10))/LOG(2))))","v":0},null,122,{"$f":"COUNTIF(L50:L59,AN10)","v":0},{"$f":"AO10/(AQ4-AO11)","v":0},{"$f":"IF(AP10=0,0,(AP10*((LOG(AP10))/LOG(2))))","v":0},null,122,{"$f":"COUNTIF(L60:L70,AS10)","v":0},{"$f":"AT10/(AV4-AT11)","v":0},{"$f":"IF(AU10=0,0,(AU10*((LOG(AU10))/LOG(2))))","v":0}]
[21,497,11,507,11,511,null,null,null,null,0,211,null,211,40,0.625,-0.42379494069539858,null,null,211,{"$f":"COUNTIF(L7:L17,T11)","v":7},null,null,null,211,{"$f":"COUNTIF(L18:L27,Y11)","v":5},null,null,null,211,{"$f":"COUNTIF(L28:L38,AD11)","v":6},null,null,null,211,{"$f":"COUNTIF(L39:L49,AI11)","v":7},null,null,null,211,{"$f":"COUNTIF(L50:L59,AN11)","v":6},null,null,null,211,{"$f":"COUNTIF(L60:L70,AS11)","v":9}]
[12,627,13,634,13,645,null,null,null,null,0,111,null,212,0,0,0,null,null,212,{"$f":"COUNTIF(L7:L17,T12)","v":0},{"$f":"U12/(W4-U11)","v":0},{"$f":"IF(V12=0,0,(V12*((LOG(V12))/LOG(2))))","v":0},null,212,{"$f":"COUNTIF(L18:L27,Y12)","v":0},{"$f":"Z12/(AB4-Z11)","v":0},{"$f":"IF(AA12=0,0,(AA12*((LOG(AA12))/LOG(2))))","v":0},null,212,{"$f":"COUNTIF(L28:L38,AD12)","v":0},{"$f":"AE12/(AG4-AE11)","v":0},{"$f":"IF(AF12=0,0,(AF12*((LOG(AF12))/LOG(2))))","v":0},null,212,{"$f":"COUNTIF(L39:L49,AI12)","v":0},{"$f":"AJ12/(AL4-AJ11)","v":0},{"$f":"IF(AK12=0,0,(AK12*((LOG(AK12))/LOG(2))))","v":0},null,212,{"$f":"COUNTIF(L50:L59,AN12)","v":0},{"$f":"AO12/(AQ4-AO11)","v":0},{"$f":"IF(AP12=0,0,(AP12*((LOG(AP12))/LOG(2))))","v":0},null,212,{"$f":"COUNTIF(L60:L70,AS12)","v":0},{"$f":"AT12/(AV4-AT11)","v":0},{"$f":"IF(AU12=0,0,(AU12*((LOG(AU12))/LOG(2))))","v":0}]
[21,738,11,750,11,755,null,null,null,null,0,211,null,221,1,1.5625E-2,-9.375E-2,null,null,221,{"$f":"COUNTIF(L7:L17,T13)","v":0},{"$f":"U13/(W4-U11)","v":0},{"$f":"IF(V13=0,0,(V13*((LOG(V13))/LOG(2))))","v":0},null,221,{"$f":"COUNTIF(L18:L27,Y13)","v":0},{"$f":"Z13/(AB4-Z11)","v":0},{"$f":"IF(AA13=0,0,(AA13*((LOG(AA13))/LOG(2))))","v":0},null,221,{"$f":"COUNTIF(L28:L38,AD13)","v":0},{"$f":"AE13/(AG4-AE11)","v":0},{"$f":"IF(AF13=0,0,(AF13*((LOG(AF13))/LOG(2))))","v":0},null,221,{"$f":"COUNTIF(L39:L49,AI13)","v":0},{"$f":"AJ13/(AL4-AJ11)","v":0},{"$f":"IF(AK13=0,0,(AK13*((LOG(AK13))/LOG(2))))","v":0},null,221,{"$f":"COUNTIF(L50:L59,AN13)","v":0},{"$f":"AO13/(AQ4-AO11)","v":0},{"$f":"IF(AP13=0,0,(AP13*((LOG(AP13))/LOG(2))))","v":0},null,221,{"$f":"COUNTIF(L60:L70,AS13)","v":1},{"$f":"AT13/(AV4-AT11)","v":0.5},{"$f":"IF(AU13=0,0,(AU13*((LOG(AU13))/LOG(2))))","v":-0.5}]
[21,849,11,858,11,880,null,null,null,null,0,211,null,222,0,0,0,null,null,222,{"$f":"COUNTIF(L7:L17,T14)","v":0},{"$f":"U14/(W4-U11)","v":0},{"$f":"IF(V14=0,0,(V14*((LOG(V14))/LOG(2))))","v":0},null,222,{"$f":"COUNTIF(L18:L27,Y14)","v":0},{"$f":"Z14/(AB4-Z11)","v":0},{"$f":"IF(AA14=0,0,(AA14*((LOG(AA14))/LOG(2))))","v":0},null,222,{"$f":"COUNTIF(L28:L38,AD14)","v":0},{"$f":"AE14/(AG4-AE11)","v":0},{"$f":"IF(AF14=0,0,(AF14*((LOG(AF14))/LOG(2))))","v":0},null,222,{"$f":"COUNTIF(L39:L49,AI14)","v":0},{"$f":"AJ14/(AL4-AJ11)","v":0},{"$f":"IF(AK14=0,0,(AK14*((LOG(AK14))/LOG(2))))","v":0},null,222,{"$f":"COUNTIF(L50:L59,AN14)","v":0},{"$f":"AO14/(AQ4-AO11)","v":0},{"$f":"IF(AP14=0,0,(AP14*((LOG(AP14))/LOG(2))))","v":0},null,222,{"$f":"COUNTIF(L60:L70,AS14)","v":0},{"$f":"AT14/(AV4-AT11)","v":0},{"$f":"IF(AU14=0,0,(AU14*((LOG(AU14))/LOG(2))))","v":0}]
[12,990,13,995,13,1004,null,null,null,null,0,111,null,null,null,{"$f":"SUM(P7:P14)","v":1},{"$f":"-SUM(Q7:Q14)","v":1.0481398627374094},null,null,null,null,{"$f":"SUM(V7:V14)","v":1},{"$f":"-SUM(W7:W14)","v":0},null,null,null,{"$f":"SUM(AA7:AA14)","v":1},{"$f":"-SUM(AB7:AB14)","v":0},null,null,null,{"$f":"SUM(AF7:AF14)","v":1},{"$f":"-SUM(AG7:AG14)","v":0},null,null,null,{"$f":"SUM(AK7:AK14)","v":1},{"$f":"-SUM(AL7:AL14)","v":0},null,null,null,{"$f":"SUM(AP7:AP14)","v":1},{"$f":"-SUM(AQ7:AQ14)","v":0},null,null,null,{"$f":"SUM(AU7:AU14)","v":1},{"$f":"-SUM(AV7:AV14)","v":1}]
[21,1100,11,1110,11,1116,null,null,null,null,0,211,null,null,null,"U=",{"$f":"Q15/(LOG(Q4)/LOG(2))","v":0.17468997712290157},null,null,null,null,"U1=",{"$f":"W15/(LOG(W4)/LOG(2))","v":0},null,null,null,"U2=",{"$f":"AB15/(LOG(AB4)/LOG(2))","v":0},null,null,null,"U3=",{"$f":"AG15/(LOG(AG4)/LOG(2))","v":0},null,null,null,"U4=",{"$f":"AL15/(LOG(AL4)/LOG(2))","v":0},null,null,null,"U5=",{"$f":"AQ15/(LOG(AQ4)/LOG(2))","v":0},null,null,null,"U6=",{"$f":"AV15/(LOG(AV4)/LOG(2))","v":0.28906482631788782}]
[21,1204,11,1225,11,1232,null,null,null,null,0,211]
[12,1334,13,1352,13,1367,null,null,null,null,0,111]
[12,1477,13,1483,13,1494,null,null,null,null,0,111,null,"Total Target Seq"]
[21,1591,11,1600,11,1608,null,null,null,null,0,211,null,{"$f":"COUNTIF(L7:L70,G3)","v":40},null,11,10,11,11,10,11]
[12,1715,13,1727,13,1742,null,null,null,null,0,111,null,null,null,"% of reinforcement given in 6 equal intervals based on number of trials "]
[12,1855,13,1862,13,1872,null,null,null,null,0,111,null,null,null,"%_1","%_2","%_3","%_4","%_5","%_6"]
[21,1969,11,1981,11,1986,null,null,null,null,0,211,null,null,"target sequence",{"$f":"$G$3","v":211},211,211,211,211,211]
[21,2078,11,2088,11,2098,null,null,null,null,0,211,null,null,"total reinforcement",{"$f":"U11","v":7},{"$f":"Z11","v":5},{"$f":"AE11","v":6},{"$f":"AJ11","v":7},{"$f":"AO11","v":6},{"$f":"AT11","v":9}]
[12,2210,13,2214,13,2229,null,null,null,null,0,111,null,null,"% target"]
[21,2326,11,2341,11,2356,null,null,null,null,0,211,null,null,"CCRF"]
[21,2462,11,2470,11,2477,null,null,null,null,0,211,null,null,"% CCRf"]
[12,2581,13,2586,13,2596,null,null,null,null,0,111,null,null,"average response rate",{"$f":"F17/P20","v":112},{"$f":"(F27-F17)/Q20","v":124.5},{"$f":"(F38-F27)/R20","v":119.54545454545455},{"$f":"(F49-F38)/S20","v":115.09090909090909},{"$f":"(F59-F49)/T20","v":124.3},{"$f":"(F70-F59)/U20","v":116.18181818181819}]
[21,2694,11,2704,11,2708,null,null,null,null,0,211]
[21,2795,11,2809,11,2814,null,null,null,null,0,211]
[21,2907,11,2922,11,2927,null,null,null,null,0,211]
[21,3018,11,3030,11,3041,null,null,null,null,0,211]
[12,3148,13,3161,13,3177,null,null,null,null,0,111]
[12,3287,13,3292,13,3303,null,null,null,null,0,111]
[21,3400,11,3410,11,3419,null,null,null,null,0,211]
[12,3522,13,3537,13,3551,null,null,null,null,0,111]
[12,3659,13,3668,13,3676,null,null,null,null,0,111]
[21,3774,11,3785,11,3792,null,null,null,null,0,211]
[21,3879,11,3892,11,3897,null,null,null,null,0,211]
[21,3989,11,3998,11,4003,null,null,null,null,0,211]
[12,4103,13,4108,13,4119,null,null,null,null,0,111]
[21,4218,11,4228,11,4233,null,null,null,null,0,211]
[12,4333,13,4343,13,4353,null,null,null,null,0,111]
[21,4452,11,4468,11,4477,null,null,null,null,0,211]
[12,4577,13,4587,13,4601,null,null,null,null,0,111]
[21,4701,11,4712,11,4724,null,null,null,null,0,211]
[21,4815,11,4822,11,4834,null,null,null,null,0,211]
[21,4925,11,4934,11,4938,null,null,null,null,0,211]
[12,5044,13,5048,13,5058,null,null,null,null,0,111]
[21,5156,11,5168,11,5178,null,null,null,null,0,211]
[21,5293,11,5302,11,5312,null,null,null,null,0,211]
[12,5428,13,5433,13,5441,null,null,null,null,0,111]
[21,5545,11,5569,11,5585,null,null,null,null,0,211]
[12,5690,13,5694,13,5704,null,null,null,null,0,111]
[21,5802,11,5815,11,5835,null,null,null,null,0,211]
[21,5929,11,5937,11,5940,null,null,null,null,0,211]
[21,6041,11,6052,11,6058,null,null,null,null,0,211]
[12,6169,13,6174,13,6182,null,null,null,null,0,111]
[12,6289,13,6295,13,6301,null,null,null,null,0,111]
[21,6398,11,6410,11,6418,null,null,null,null,0,211]
[21,6507,11,6517,11,6521,null,null,null,null,0,211]
[21,6611,11,6625,11,6632,null,null,null,null,0,211]
[21,6723,22,6728,13,6737,null,null,null,null,0,221]
[21,6837,11,6849,11,6864,null,null,null,null,0,211]
[21,6955,11,6967,11,6971,null,null,null,null,0,211]
[12,7076,13,7081,13,7089,null,null,null,null,0,111]
[21,7203,11,7218,11,7225,null,null,null,null,0,211]
[21,7316,11,7325,11,7333,null,null,null,null,0,211]
[21,7433,11,7441,11,7446,null,null,null,null,0,211]
[21,7540,11,7549,11,7579,null,null,null,null,1,211]