{"text_format":"1","workbook":"xlsx","n_sheets":33,"sheets":["Sample Report","Summary","Start","!MC27950.Gus","!MC28A10.Gus","!MC29A10.Gus","!MC30940.Gus","!MC31A00.Gus","!N102930.Gus","!N103A10.Gus","!N104B00.Gus","!N105830.Gus","!N106900.Gus","!N107950.Gus","!N108940.Gus","!N109950.Gus","!N110A10.Gus","!N111A20.Gus","!N112920.Gus","!N113940.Gus","!N114910.Gus","!N115950.Gus","!N116930.Gus","!N117A00.Gus","!N118A00.Gus","!N119930.Gus","!N120A20.Gus","!N121930.Gus","!N122A10.Gus","!N123A30.Gus","!N124950.Gus","!N125A00.Gus","!N126A00.Gus"],"not_rendered":{"charts":0,"images":0,"macros":1,"external_links":0,"defined_names":0,"comments":0,"pivot_tables":0},"unopened":[],"bounds":{"document_bytes":16777216,"sheet_cells":100000,"rows_first":2000,"rows_last":500,"rows_between":2000,"halvings":0,"cell_chars":16384,"cell_head_chars":4096},"cells_cut":0,"cells_raw":0,"read":"whole","date_system":"1900"}

{"sheet":"Sample Report","index":0,"n_rows":12,"n_cols":11,"rows_kept":12,"cut":false,"hidden":true,"merged":[[7,0,7,6]]}
[]
["Date"]
["Hen"]
["Program"]
["Start at 999999"]
["Sequence component 1","Time 1","Seqeunce Component 2","Time 2","Seqeunce Component 3","Time 3","Correct   0 = No 1=Yes",null,null,"Seqeunce","Time"]
[12,7,12,42,13,18,"if 77 new line,                                  if 31 or 41 = yes new line on 77, ",null,null,"=string of Seqeunce compponent 1, 2 & 3","=time 3"]
["This continues until ther is a 1 on its own to indicate start of summary data"]
[null,null,null,null,null,null,null,null,null,"10-19 =1"]
["Summary Data ",null,null,null,null,null,null,null,null,"20-29 =2"]
["Correct","Incorrect","Rft","total","Av Correct","Av Incorrect","Percent correct","Time",null,"in this example the seqeunce would be 111"]
[40,33,40,73,23.95,15,54,806]

{"sheet":"Summary","index":1,"n_rows":32,"n_cols":24,"rows_kept":32,"cut":false,"hidden":false,"merged":[]}
[]
["Day","Date","Average Response Rate","Target %","RF for non correct sequence","U Value",null,null,null,null,"Block 1","Block 2","Block 3","Block 4","Block 5","Block 6"]
[1,{"$f":"'!MC27950.Gus'!B2:C2","v":"<date>"},{"$f":"('!MC27950.Gus'!F194/60)/'!MC27950.Gus'!Q3","v":2.1242907801418438},{"$f":"'!MC27950.Gus'!N20/'!MC27950.Gus'!Q3","v":1.0638297872340425E-2},{"$f":"SUM('!MC27950.Gus'!L20:Q20)/'!MC27950.Gus'!Q3","v":1.4734042553191489},{"$f":"'!MC27950.Gus'!Q16","v":0.31425809017252587},null,null,null,"Average Response Rate",{"$f":"AVERAGE(C3:C7)","v":1.971671472461028},{"$f":"AVERAGE(C8:C12)","v":2.3290150043186335},{"$f":"AVERAGE(C13:C17)","v":2.058083637683946},{"$f":"AVERAGE(C18:C22)","v":2.1249055260585186},{"$f":"AVERAGE(C23:C27)","v":2.1116740025185243},{"$f":"AVERAGE(C28:C32)","v":2.1281898889400317}]
[2,{"$f":"'!MC28A10.Gus'!B2:C2","v":"<date>"},{"$f":"('!MC28A10.Gus'!F208/60)/'!MC28A10.Gus'!Q3","v":1.962151067323481},{"$f":"'!MC28A10.Gus'!N20/'!MC28A10.Gus'!Q3","v":4.4334975369458129E-2},{"$f":"SUM('!MC28A10.Gus'!L20:Q20)/'!MC28A10.Gus'!Q3","v":1.4236453201970443},{"$f":"'!MC28A10.Gus'!Q16","v":0.34338848571288955},null,null,null,"Target %",{"$f":"AVERAGE(D3:D7)","v":5.8455278242059483E-2},{"$f":"AVERAGE(D8:D12)","v":0.10452081325007841},{"$f":"AVERAGE(D13:D17)","v":0.15821716277365394},{"$f":"AVERAGE(D18:D22)","v":0.20727148087802116},{"$f":"AVERAGE(D23:D27)","v":0.19897453874406779},{"$f":"AVERAGE(D28:D32)","v":0.29440867587393943}]
[3,{"$f":"'!MC29A10.Gus'!B2:C2","v":"<date>"},{"$f":"('!MC29A10.Gus'!F210/60)/'!MC29A10.Gus'!Q3","v":1.9607026143790851},{"$f":"'!MC29A10.Gus'!N20/'!MC29A10.Gus'!Q3","v":0.12254901960784313},{"$f":"SUM('!MC29A10.Gus'!L20:Q20)/'!MC29A10.Gus'!Q3","v":1.5441176470588236},{"$f":"'!MC29A10.Gus'!Q16","v":0.33427885981229161},null,null,null,"CCRF",{"$f":"AVERAGE(E3:E7)","v":2.4767258906737948},{"$f":"AVERAGE(E8:E12)","v":1.3632967050324221},{"$f":"AVERAGE(E13:E17)","v":1.2443637856673924},{"$f":"AVERAGE(E18:E22)","v":1.5203718859517805},{"$f":"AVERAGE(E23:E27)","v":1.212901448767421},{"$f":"AVERAGE(E28:E32)","v":1.7042167413533107}]
[4,{"$f":"'!MC30940.Gus'!B2:C2","v":"<date>"},{"$f":"('!MC30940.Gus'!F189/60)/'!MC30940.Gus'!Q3","v":2.1700364298724955},{"$f":"'!MC30940.Gus'!N20/'!MC30940.Gus'!Q3","v":0.11475409836065574},{"$f":"SUM('!MC30940.Gus'!L20:Q20)/'!MC30940.Gus'!Q3","v":1.0601092896174864},{"$f":"'!MC30940.Gus'!Q16","v":0.34021338483590446},null,null,null,"U Value",{"$f":"AVERAGE(F3:F7)","v":0.29199665096060701},{"$f":"AVERAGE(F8:F12)","v":0.37501743010972527},{"$f":"AVERAGE(F13:F17)","v":0.29893722329342937},{"$f":"AVERAGE(F18:F22)","v":0.29999644389311608},{"$f":"AVERAGE(F23:F27)","v":0.23892131489402851},{"$f":"AVERAGE(F28:F32)","v":0.29786733506203089}]
[5,{"$f":"'!MC31A00.Gus'!B2:C2","v":"<date>"},{"$f":"('!MC31A00.Gus'!F23/60)/'!MC31A00.Gus'!Q3","v":1.6411764705882352},{"$f":"'!MC31A00.Gus'!N20/'!MC31A00.Gus'!Q3","v":0},{"$f":"SUM('!MC31A00.Gus'!L20:Q20)/'!MC31A00.Gus'!Q3","v":6.882352941176471},{"$f":"'!MC31A00.Gus'!Q16","v":0.12784443426942368}]
[6,{"$f":"'!N102930.Gus'!B2:C2","v":"<date>"},{"$f":"('!N102930.Gus'!F18/60)/'!N102930.Gus'!Q3","v":2.3166666666666669},{"$f":"'!N102930.Gus'!N20/'!N102930.Gus'!Q3","v":8.3333333333333329E-2},{"$f":"SUM('!N102930.Gus'!L20:Q20)/'!N102930.Gus'!Q3","v":0.41666666666666669},{"$f":"'!N102930.Gus'!Q16","v":0.54416909357508125}]
[7,{"$f":"'!N103A10.Gus'!B2:C2","v":"<date>"},{"$f":"('!N103A10.Gus'!F158/60)/'!N103A10.Gus'!Q3","v":2.5484649122807017},{"$f":"'!N103A10.Gus'!N20/'!N103A10.Gus'!Q3","v":0.1118421052631579},{"$f":"SUM('!N103A10.Gus'!L20:Q20)/'!N103A10.Gus'!Q3","v":1.8421052631578947},{"$f":"'!N103A10.Gus'!Q16","v":0.33953519322719644},{"$f":"K3","v":1.971671472461028},{"$f":"L3","v":2.3290150043186335},2.058083637683946,2.1249055260585186,2.1116740025185243,2.1281898889400317,{"$f":"K4","v":5.8455278242059483E-2},{"$f":"L4","v":0.10452081325007841},0.15821716277365394,0.20727148087802116,0.19897453874406779,0.29440867587393943,{"$f":"K6","v":0.29199665096060701},{"$f":"L6","v":0.37501743010972527},0.29893722329342937,0.29999644389311608,0.23892131489402851,0.29786733506203089]
[8,{"$f":"'!N104B00.Gus'!B2:C2","v":"<date>"},{"$f":"('!N104B00.Gus'!F169/60)/'!N104B00.Gus'!Q3","v":2.3924335378323107},{"$f":"'!N104B00.Gus'!N20/'!N104B00.Gus'!Q3","v":0.13496932515337423},{"$f":"SUM('!N104B00.Gus'!L20:Q20)/'!N104B00.Gus'!Q3","v":1.7668711656441718},{"$f":"'!N104B00.Gus'!Q16","v":0.31961425861032655}]
[9,{"$f":"'!N105830.Gus'!B2:C2","v":"<date>"},{"$f":"('!N105830.Gus'!F205/60)/'!N105830.Gus'!Q3","v":2.0073701842546061},{"$f":"'!N105830.Gus'!N20/'!N105830.Gus'!Q3","v":0.12060301507537688},{"$f":"SUM('!N105830.Gus'!L20:Q20)/'!N105830.Gus'!Q3","v":1.0603015075376885},{"$f":"'!N105830.Gus'!Q16","v":0.31755965622857396}]
[10,{"$f":"'!N106900.Gus'!B2:C2","v":"<date>"},{"$f":"('!N106900.Gus'!F173/60)/'!N106900.Gus'!Q3","v":2.3801397205588821},{"$f":"'!N106900.Gus'!N20/'!N106900.Gus'!Q3","v":7.1856287425149698E-2},{"$f":"SUM('!N106900.Gus'!L20:Q20)/'!N106900.Gus'!Q3","v":1.7305389221556886},{"$f":"'!N106900.Gus'!Q16","v":0.3542089489074482}]
[11,{"$f":"'!N107950.Gus'!B2:C2","v":"<date>"},{"$f":"('!N107950.Gus'!F200/60)/'!N107950.Gus'!Q3","v":2.0553264604810999},{"$f":"'!N107950.Gus'!N20/'!N107950.Gus'!Q3","v":0.11855670103092783},{"$f":"SUM('!N107950.Gus'!L20:Q20)/'!N107950.Gus'!Q3","v":1.0824742268041236},{"$f":"'!N107950.Gus'!Q16","v":0.29012130092111016}]
[12,{"$f":"'!N108940.Gus'!B2:C2","v":"<date>"},{"$f":"('!N108940.Gus'!F174/60)/'!N108940.Gus'!Q3","v":2.0654761904761907},{"$f":"'!N108940.Gus'!N20/'!N108940.Gus'!Q3","v":0.19047619047619047},{"$f":"SUM('!N108940.Gus'!L20:Q20)/'!N108940.Gus'!Q3","v":1.7857142857142858},{"$f":"'!N108940.Gus'!Q16","v":0.30207249539523112}]
[13,{"$f":"'!N109950.Gus'!B2:C2","v":"<date>"},{"$f":"('!N109950.Gus'!F196/60)/'!N109950.Gus'!Q3","v":2.0998245614035085},{"$f":"'!N109950.Gus'!N20/'!N109950.Gus'!Q3","v":0.16315789473684211},{"$f":"SUM('!N109950.Gus'!L20:Q20)/'!N109950.Gus'!Q3","v":1.0842105263157895},{"$f":"'!N109950.Gus'!Q16","v":0.29922140838380096}]
[14,{"$f":"'!N110A10.Gus'!B2:C2","v":"<date>"},{"$f":"('!N110A10.Gus'!F205/60)/'!N110A10.Gus'!Q3","v":1.9921666666666666},{"$f":"'!N110A10.Gus'!N20/'!N110A10.Gus'!Q3","v":0.12},{"$f":"SUM('!N110A10.Gus'!L20:Q20)/'!N110A10.Gus'!Q3","v":1.0649999999999999},{"$f":"'!N110A10.Gus'!Q16","v":0.30546406407253374}]
[15,{"$f":"'!N111A20.Gus'!B2:C2","v":"<date>"},{"$f":"('!N111A20.Gus'!F187/60)/'!N111A20.Gus'!Q3","v":2.0776243093922653},{"$f":"'!N111A20.Gus'!N20/'!N111A20.Gus'!Q3","v":0.19889502762430938},{"$f":"SUM('!N111A20.Gus'!L20:Q20)/'!N111A20.Gus'!Q3","v":1.2044198895027625},{"$f":"'!N111A20.Gus'!Q16","v":0.29780684769447074}]
[16,{"$f":"'!N112920.Gus'!B2:C2","v":"<date>"},{"$f":"('!N112920.Gus'!F170/60)/'!N112920.Gus'!Q3","v":2.1600609756097562},{"$f":"'!N112920.Gus'!N20/'!N112920.Gus'!Q3","v":0.21951219512195122},{"$f":"SUM('!N112920.Gus'!L20:Q20)/'!N112920.Gus'!Q3","v":1.9085365853658536},{"$f":"'!N112920.Gus'!Q16","v":0.29794782475801029}]
[17,{"$f":"'!N113940.Gus'!B2:C2","v":"<date>"},{"$f":"('!N113940.Gus'!F152/60)/'!N113940.Gus'!Q3","v":2.100570776255708},{"$f":"'!N113940.Gus'!N20/'!N113940.Gus'!Q3","v":0.26712328767123289},{"$f":"SUM('!N113940.Gus'!L20:Q20)/'!N113940.Gus'!Q3","v":2.1232876712328768},{"$f":"'!N113940.Gus'!Q16","v":0.3190076223651987}]
[18,{"$f":"'!N114910.Gus'!B2:C2","v":"<date>"},{"$f":"('!N114910.Gus'!F195/60)/'!N114910.Gus'!Q3","v":2.1087301587301588},{"$f":"'!N114910.Gus'!N20/'!N114910.Gus'!Q3","v":0.16402116402116401},{"$f":"SUM('!N114910.Gus'!L20:Q20)/'!N114910.Gus'!Q3","v":1.1428571428571428},{"$f":"'!N114910.Gus'!Q16","v":0.31568330572656228}]
[19,{"$f":"'!N115950.Gus'!B2:C2","v":"<date>"},{"$f":"('!N115950.Gus'!F171/60)/'!N115950.Gus'!Q3","v":2.1830303030303031},{"$f":"'!N115950.Gus'!N20/'!N115950.Gus'!Q3","v":0.22424242424242424},{"$f":"SUM('!N115950.Gus'!L20:Q20)/'!N115950.Gus'!Q3","v":1.2969696969696969},{"$f":"'!N115950.Gus'!Q16","v":0.27565490326006331}]
[20,{"$f":"'!N116930.Gus'!B2:C2","v":"<date>"},{"$f":"('!N116930.Gus'!F198/60)/'!N116930.Gus'!Q3","v":2.0721354166666668},{"$f":"'!N116930.Gus'!N20/'!N116930.Gus'!Q3","v":0.16145833333333334},{"$f":"SUM('!N116930.Gus'!L20:Q20)/'!N116930.Gus'!Q3","v":1.1302083333333333},{"$f":"'!N116930.Gus'!Q16","v":0.29168856335574589}]
[21,{"$f":"'!N117A00.Gus'!B2:C2","v":"<date>"},{"$f":"('!N117A00.Gus'!F162/60)/'!N117A00.Gus'!Q3","v":2.1533119658119659},{"$f":"'!N117A00.Gus'!N20/'!N117A00.Gus'!Q3","v":0.21153846153846154},{"$f":"SUM('!N117A00.Gus'!L20:Q20)/'!N117A00.Gus'!Q3","v":1.3269230769230769},{"$f":"'!N117A00.Gus'!Q16","v":0.3127406845336812}]
[22,{"$f":"'!N118A00.Gus'!B2:C2","v":"<date>"},{"$f":"('!N118A00.Gus'!F143/60)/'!N118A00.Gus'!Q3","v":2.3381995133819951},{"$f":"'!N118A00.Gus'!N20/'!N118A00.Gus'!Q3","v":0.26277372262773724},{"$f":"SUM('!N118A00.Gus'!L20:Q20)/'!N118A00.Gus'!Q3","v":1.4890510948905109},{"$f":"'!N118A00.Gus'!Q16","v":0.28298925288326926}]
[23,{"$f":"'!N119930.Gus'!B2:C2","v":"<date>"},{"$f":"('!N119930.Gus'!F131/60)/'!N119930.Gus'!Q3","v":2.2209333333333334},{"$f":"'!N119930.Gus'!N20/'!N119930.Gus'!Q3","v":0.30399999999999999},{"$f":"SUM('!N119930.Gus'!L20:Q20)/'!N119930.Gus'!Q3","v":1.6160000000000001},{"$f":"'!N119930.Gus'!Q16","v":0.30546268922377706}]
[24,{"$f":"'!N120A20.Gus'!B2:C2","v":"<date>"},{"$f":"('!N120A20.Gus'!F163/60)/'!N120A20.Gus'!Q3","v":2.1190021231422507},{"$f":"'!N120A20.Gus'!N20/'!N120A20.Gus'!Q3","v":0.21656050955414013},{"$f":"SUM('!N120A20.Gus'!L20:Q20)/'!N120A20.Gus'!Q3","v":1.3248407643312101},{"$f":"'!N120A20.Gus'!Q16","v":0.29341394782941504}]
[25,{"$f":"'!N121930.Gus'!B2:C2","v":"<date>"},{"$f":"('!N121930.Gus'!F19/60)/'!N121930.Gus'!Q3","v":1.7269230769230768},{"$f":"'!N121930.Gus'!N20/'!N121930.Gus'!Q3","v":0},{"$f":"SUM('!N121930.Gus'!L20:Q20)/'!N121930.Gus'!Q3","v":0.30769230769230771},{"$f":"'!N121930.Gus'!Q16","v":0}]
[26,{"$f":"'!N122A10.Gus'!B2:C2","v":"<date>"},{"$f":"('!N122A10.Gus'!F151/60)/'!N122A10.Gus'!Q3","v":2.1773563218390803},{"$f":"'!N122A10.Gus'!N20/'!N122A10.Gus'!Q3","v":0.25517241379310346},{"$f":"SUM('!N122A10.Gus'!L20:Q20)/'!N122A10.Gus'!Q3","v":2.1172413793103448},{"$f":"'!N122A10.Gus'!Q16","v":0.31205296214520661}]
[27,{"$f":"'!N123A30.Gus'!B2:C2","v":"<date>"},{"$f":"('!N123A30.Gus'!F119/60)/'!N123A30.Gus'!Q3","v":2.1126843657817109},{"$f":"'!N123A30.Gus'!N20/'!N123A30.Gus'!Q3","v":0.32743362831858408},{"$f":"SUM('!N123A30.Gus'!L20:Q20)/'!N123A30.Gus'!Q3","v":1.7433628318584071},{"$f":"'!N123A30.Gus'!Q16","v":0.31166459270844205}]
[28,{"$f":"'!N124950.Gus'!B2:C2","v":"<date>"},{"$f":"('!N124950.Gus'!F127/60)/'!N124950.Gus'!Q3","v":2.1353994490358126},{"$f":"'!N124950.Gus'!N20/'!N124950.Gus'!Q3","v":0.32231404958677684},{"$f":"SUM('!N124950.Gus'!L20:Q20)/'!N124950.Gus'!Q3","v":1.6528925619834711},{"$f":"'!N124950.Gus'!Q16","v":0.32467740536791367}]
[29,{"$f":"'!N125A00.Gus'!B2:C2","v":"<date>"},{"$f":"('!N125A00.Gus'!F136/60)/'!N125A00.Gus'!Q3","v":2.1425641025641027},{"$f":"'!N125A00.Gus'!N20/'!N125A00.Gus'!Q3","v":0.3},{"$f":"SUM('!N125A00.Gus'!L20:Q20)/'!N125A00.Gus'!Q3","v":1.5692307692307692},{"$f":"'!N125A00.Gus'!Q16","v":0.28285958723874355}]
[30,{"$f":"'!N126A00.Gus'!B2:C2","v":"<date>"},{"$f":"('!N126A00.Gus'!F152/60)/'!N126A00.Gus'!Q3","v":2.0729452054794519},{"$f":"'!N126A00.Gus'!N20/'!N126A00.Gus'!Q3","v":0.26712328767123289},{"$f":"SUM('!N126A00.Gus'!L20:Q20)/'!N126A00.Gus'!Q3","v":1.4383561643835616},{"$f":"'!N126A00.Gus'!Q16","v":0.25808212784984869}]

{"sheet":"Start","index":2,"n_rows":36,"n_cols":10,"rows_kept":36,"cut":false,"hidden":false,"merged":[]}
[null,null,null,null,null,"Use Folder 51",null,"Auto Clean Up",null,"Correct sequence"]
[null,null,null,null,null,false,null,true,null,112]
[]
["Working with Folder",null,null,null,null,null,"Process All/Or Pick A number: ALL or an integer"]
["F:\\Possum Chapter\\Raw Data\\Gus\\New Phase LLR Var\\",null,null,null,null,null,"ALL"]
["Filenames:"]
["!N123A30.Gus",null,null,null,null,null,"Paint Cells"]
["!N124950.Gus",null,null,null,null,null,false]
["!N125A00.Gus"]
["!N126A00.Gus"]
["!MC27950.Gus"]
["!MC28A10.Gus"]
["!MC29A10.Gus"]
["!MC30940.Gus"]
["!MC31A00.Gus"]
["!N102930.Gus"]
["!N103A10.Gus"]
["!N104B00.Gus"]
["!N105830.Gus"]
["!N106900.Gus"]
["!N107950.Gus"]
["!N108940.Gus"]
["!N109950.Gus"]
["!N110A10.Gus"]
["!N111A20.Gus"]
["!N112920.Gus"]
["!N113940.Gus"]
["!N114910.Gus"]
["!N115950.Gus"]
["!N116930.Gus"]
["!N117A00.Gus"]
["!N118A00.Gus"]
["!N119930.Gus"]
["!N120A20.Gus"]
["!N121930.Gus"]
["!N122A10.Gus"]

{"sheet":"!MC27950.Gus","index":3,"n_rows":194,"n_cols":48,"rows_kept":194,"cut":false,"hidden":false,"merged":[[1,1,1,2],[5,13,5,14],[18,13,18,14],[19,13,19,14],[4,19,4,22],[5,19,5,20],[4,39,4,42],[5,39,5,40],[4,44,4,47],[5,44,5,45],[4,24,4,27],[5,24,5,25],[4,29,4,32],[5,29,5,30],[4,34,4,37],[5,34,5,35]]}
["Report for:!MC27950.Gus"]
["Date:","<date>"]
["Hen:","<hen>",null,null,null,"Correct Sequence",{"$f":"Start!J2","v":112},null,null,null,null,null,null,null,null,"Total Sequences in Data",{"$f":"4994-COUNTBLANK(L7:L5000)","v":188},null,null,null,null,"Total Sequences in Block Data",{"$f":"COUNTA(L7:L37)","v":31},null,null,null,"Total Sequences in Block Data",{"$f":"COUNTA(L38:L69)","v":32},null,null,null,"Total Sequences in Block Data",{"$f":"COUNTA(L70:L100)","v":31},null,null,null,"Total Sequences in Block Data",{"$f":"COUNTA(L101:L131)","v":31},null,null,null,"Total Sequences in Block Data",{"$f":"COUNTA(L132:L163)","v":32},null,null,null,"Total Sequences in Block Data",{"$f":"COUNTA(L164:L194)","v":31}]
[null,null,null,null,null,null,null,null,null,null,null,null,null,null,null,"Total Sequences in Summary",{"$f":"SUM(O7:O14)","v":188},null,null,null,null,"Total Sequences in Block Summary",{"$f":"SUM(U7:U14)","v":31},null,null,null,"Total Sequences in Block Summary",{"$f":"SUM(Z7:Z14)","v":32},null,null,null,"Total Sequences in Block Summary",{"$f":"SUM(AE7:AE14)","v":31},null,null,null,"Total Sequences in Block Summary",{"$f":"SUM(AJ7:AJ14)","v":31},null,null,null,"Total Sequences in Block Summary",{"$f":"SUM(AO7:AO14)","v":32},null,null,null,"Total Sequences in Block Summary",{"$f":"SUM(AT7:AT14)","v":31}]
[null,null,null,null,null,null,null,null,null,null,null,null,null,null,null,null,null,null,null,"Block 1",null,null,null,null,"Block 2",null,null,null,null,"Block 3",null,null,null,null,"Block 4",null,null,null,null,"Block 5",null,null,null,null,"Block 6"]
["Sequence\nComponent\n1","Time\n1","Sequence\nComponent\n2","Time\n2","Sequence\nComponent\n3","Time\n3","Sequence\nComponent\n4","Time\n4","Sequence\nComponent\n5","Time\n5","Correct?\n0=No 1=Yes","Sequence",null,"Frequency",null,"Relative Frequency","Variability",null,null,"Frequency",null,"Relative Frequency","Variability",null,"Frequency",null,"Relative Frequency","Variability",null,"Frequency",null,"Relative Frequency","Variability",null,"Frequency",null,"Relative Frequency","Variability",null,"Frequency",null,"Relative Frequency","Variability",null,"Frequency",null,"Relative Frequency","Variability"]
[22,15,24,17,14,21,null,null,null,null,0,221,null,111,{"$f":"COUNTIF($L$7:$L$500,N7)","v":10},{"$f":"O7/$Q$4","v":5.3191489361702128E-2},{"$f":"IF(P7=0,0,(P7*((LOG(P7))/LOG(2))))","v":-0.22514152961650399},null,null,{"$f":"N7","v":111},{"$f":"COUNTIF(L7:L37,T7)","v":0},{"$f":"U7/(W4-U8)","v":0},{"$f":"IF(V7=0,0,(V7*((LOG(V7))/LOG(2))))","v":0},null,{"$f":"N7","v":111},{"$f":"COUNTIF(L38:L69,Y7)","v":0},{"$f":"Z7/(AB4-Z8)","v":0},{"$f":"IF(AA7=0,0,(AA7*((LOG(AA7))/LOG(2))))","v":0},null,{"$f":"N7","v":111},{"$f":"COUNTIF(L70:L100,AD7)","v":0},{"$f":"AE7/(AG4-AE8)","v":0},{"$f":"IF(AF7=0,0,(AF7*((LOG(AF7))/LOG(2))))","v":0},null,{"$f":"N7","v":111},{"$f":"COUNTIF(L101:L131,AI7)","v":7},{"$f":"AJ7/(AL4-AJ8)","v":0.23333333333333334},{"$f":"IF(AK7=0,0,(AK7*((LOG(AK7))/LOG(2))))","v":-0.48989165716187993},null,{"$f":"N7","v":111},{"$f":"COUNTIF(L132:L163,AN7)","v":1},{"$f":"AO7/(AQ4-AO8)","v":3.2258064516129031E-2},{"$f":"IF(AP7=0,0,(AP7*((LOG(AP7))/LOG(2))))","v":-0.15981278420602821},null,{"$f":"N7","v":111},{"$f":"COUNTIF(L164:L194,AS7)","v":2},{"$f":"AT7/(AV4-AT8)","v":6.4516129032258063E-2},{"$f":"IF(AU7=0,0,(AU7*((LOG(AU7))/LOG(2))))","v":-0.25510943937979835}]
[22,116,13,121,23,123,null,null,null,null,0,212,null,112,2,1.0638297872340425E-2,-6.9729668634868486E-2,null,null,112,{"$f":"COUNTIF(L7:L37,T8)","v":0},null,null,null,112,{"$f":"COUNTIF(L38:L69,Y8)","v":0},null,null,null,112,{"$f":"COUNTIF(L70:L100,AD8)","v":0},null,null,null,112,{"$f":"COUNTIF(L101:L131,AI8)","v":1},null,null,null,112,{"$f":"COUNTIF(L132:L163,AN8)","v":1},null,null,null,112,{"$f":"COUNTIF(L164:L194,AS8)","v":0}]
[22,222,13,228,23,233,null,null,null,null,0,212,null,121,11,5.8510638297872342E-2,-0.23961026363533908,null,null,121,{"$f":"COUNTIF(L7:L37,T9)","v":1},{"$f":"U9/(W4-U8)","v":3.2258064516129031E-2},{"$f":"IF(V9=0,0,(V9*((LOG(V9))/LOG(2))))","v":-0.15981278420602821},null,121,{"$f":"COUNTIF(L38:L69,Y9)","v":0},{"$f":"Z9/(AB4-Z8)","v":0},{"$f":"IF(AA9=0,0,(AA9*((LOG(AA9))/LOG(2))))","v":0},null,121,{"$f":"COUNTIF(L70:L100,AD9)","v":2},{"$f":"AE9/(AG4-AE8)","v":6.4516129032258063E-2},{"$f":"IF(AF9=0,0,(AF9*((LOG(AF9))/LOG(2))))","v":-0.25510943937979835},null,121,{"$f":"COUNTIF(L101:L131,AI9)","v":4},{"$f":"AJ9/(AL4-AJ8)","v":0.13333333333333333},{"$f":"IF(AK9=0,0,(AK9*((LOG(AK9))/LOG(2))))","v":-0.3875854127478025},null,121,{"$f":"COUNTIF(L132:L163,AN9)","v":2},{"$f":"AO9/(AQ4-AO8)","v":6.4516129032258063E-2},{"$f":"IF(AP9=0,0,(AP9*((LOG(AP9))/LOG(2))))","v":-0.25510943937979835},null,121,{"$f":"COUNTIF(L164:L194,AS9)","v":2},{"$f":"AT9/(AV4-AT8)","v":6.4516129032258063E-2},{"$f":"IF(AU9=0,0,(AU9*((LOG(AU9))/LOG(2))))","v":-0.25510943937979835}]
[22,332,24,335,23,349,null,null,null,null,0,222,null,122,15,7.9787234042553196E-2,-0.29103975447359992,null,null,122,{"$f":"COUNTIF(L7:L37,T10)","v":3},{"$f":"U10/(W4-U8)","v":9.6774193548387094E-2},-0.32605488480635986,null,122,{"$f":"COUNTIF(L38:L69,Y10)","v":1},{"$f":"Z10/(AB4-Z8)","v":3.125E-2},-0.15625,null,122,{"$f":"COUNTIF(L70:L100,AD10)","v":1},{"$f":"AE10/(AG4-AE8)","v":3.2258064516129031E-2},-0.15981278420602821,null,122,{"$f":"COUNTIF(L101:L131,AI10)","v":1},{"$f":"AJ10/(AL4-AJ8)","v":3.3333333333333333E-2},-0.16356301985361729,null,122,{"$f":"COUNTIF(L132:L163,AN10)","v":5},{"$f":"AO10/(AQ4-AO8)","v":0.16129032258064516},-0.42455938959669559,null,122,{"$f":"COUNTIF(L164:L194,AS10)","v":4},{"$f":"AT10/(AV4-AT8)","v":0.12903225806451613},-0.38118662069508069]
[22,446,13,450,23,457,null,null,null,null,0,212,null,211,4,2.1276595744680851E-2,-0.11818274152505612,null,null,211,{"$f":"COUNTIF(L7:L37,T11)","v":0},{"$f":"U11/(W4-U8)","v":0},0,null,211,{"$f":"COUNTIF(L38:L69,Y11)","v":1},{"$f":"Z11/(AB4-Z8)","v":3.125E-2},-0.15625,null,211,{"$f":"COUNTIF(L70:L100,AD11)","v":1},{"$f":"AE11/(AG4-AE8)","v":3.2258064516129031E-2},-0.15981278420602821,null,211,{"$f":"COUNTIF(L101:L131,AI11)","v":0},{"$f":"AJ11/(AL4-AJ8)","v":0},0,null,211,{"$f":"COUNTIF(L132:L163,AN11)","v":1},{"$f":"AO11/(AQ4-AO8)","v":3.2258064516129031E-2},-0.15981278420602821,null,211,{"$f":"COUNTIF(L164:L194,AS11)","v":1},{"$f":"AT11/(AV4-AT8)","v":3.2258064516129031E-2},-0.15981278420602821]
[22,553,24,557,23,564,null,null,null,null,0,222,null,212,76,0.40425531914893614,-0.52822479630738262,null,null,212,{"$f":"COUNTIF(L7:L37,T12)","v":12},{"$f":"U12/(W4-U8)","v":0.38709677419354838},-0.5300259908383429,null,212,{"$f":"COUNTIF(L38:L69,Y12)","v":17},{"$f":"Z12/(AB4-Z8)","v":0.53125},-0.48478536558575719,null,212,{"$f":"COUNTIF(L70:L100,AD12)","v":9},{"$f":"AE12/(AG4-AE8)","v":0.29032258064516131},-0.5180142509839053,null,212,{"$f":"COUNTIF(L101:L131,AI12)","v":12},{"$f":"AJ12/(AL4-AJ8)","v":0.4},-0.52877123795494496,null,212,{"$f":"COUNTIF(L132:L163,AN12)","v":13},{"$f":"AO12/(AQ4-AO8)","v":0.41935483870967744},-0.52576889352242517,null,212,{"$f":"COUNTIF(L164:L194,AS12)","v":13},{"$f":"AT12/(AV4-AT8)","v":0.41935483870967744},-0.52576889352242517]
[22,659,24,663,14,668,null,null,null,null,0,221,null,221,33,0.17553191489361702,-0.44061928811985673,null,null,221,{"$f":"COUNTIF(L7:L37,T13)","v":10},{"$f":"U13/(W4-U8)","v":0.32258064516129031},-0.52653813403210092,null,221,{"$f":"COUNTIF(L38:L69,Y13)","v":3},{"$f":"Z13/(AB4-Z8)","v":9.375E-2},-0.32015976555739156,null,221,{"$f":"COUNTIF(L70:L100,AD13)","v":7},{"$f":"AE13/(AG4-AE8)","v":0.22580645161290322},-0.48477063607435156,null,221,{"$f":"COUNTIF(L101:L131,AI13)","v":4},{"$f":"AJ13/(AL4-AJ8)","v":0.13333333333333333},-0.3875854127478025,null,221,{"$f":"COUNTIF(L132:L163,AN13)","v":5},{"$f":"AO13/(AQ4-AO8)","v":0.16129032258064516},-0.42455938959669559,null,221,{"$f":"COUNTIF(L164:L194,AS13)","v":4},{"$f":"AT13/(AV4-AT8)","v":0.12903225806451613},-0.38118662069508069]
[11,763,22,767,23,774,null,null,null,null,0,122,null,222,37,0.19680851063829788,-0.46154262225426296,null,null,222,{"$f":"COUNTIF(L7:L37,T14)","v":5},{"$f":"U14/(W4-U8)","v":0.16129032258064516},-0.42455938959669559,null,222,{"$f":"COUNTIF(L38:L69,Y14)","v":10},{"$f":"Z14/(AB4-Z8)","v":0.3125},-0.52439747034769923,null,222,{"$f":"COUNTIF(L70:L100,AD14)","v":11},{"$f":"AE14/(AG4-AE8)","v":0.35483870967741937},-0.53040037449178568,null,222,{"$f":"COUNTIF(L101:L131,AI14)","v":2},{"$f":"AJ14/(AL4-AJ8)","v":6.6666666666666666E-2},-0.26045937304056793,null,222,{"$f":"COUNTIF(L132:L163,AN14)","v":4},{"$f":"AO14/(AQ4-AO8)","v":0.12903225806451613},-0.38118662069508069,null,222,{"$f":"COUNTIF(L164:L194,AS14)","v":5},{"$f":"AT14/(AV4-AT8)","v":0.16129032258064516},-0.42455938959669559]
[22,872,24,876,14,878,null,null,null,null,0,221,null,null,null,{"$f":"SUM(P7:P14)","v":0.99999999999999989},{"$f":"-SUM(Q7:Q14)","v":2.3740906645668698},null,null,null,null,{"$f":"SUM(V7:V14)","v":0.99999999999999989},{"$f":"-SUM(W7:W14)","v":1.9669911834795277},null,null,null,{"$f":"SUM(AA7:AA14)","v":1},{"$f":"-SUM(AB7:AB14)","v":1.641842601490848},null,null,null,{"$f":"SUM(AF7:AF14)","v":1},{"$f":"-SUM(AG7:AG14)","v":2.1079202693418972},null,null,null,{"$f":"SUM(AK7:AK14)","v":1},{"$f":"-SUM(AL7:AL14)","v":2.217856113506615},null,null,null,{"$f":"SUM(AP7:AP14)","v":1},{"$f":"-SUM(AQ7:AQ14)","v":2.330809301202752},null,null,null,{"$f":"SUM(AU7:AU14)","v":1},{"$f":"-SUM(AV7:AV14)","v":2.3827331874749071}]
[22,974,13,978,23,982,null,null,null,null,0,212,null,null,null,"U=",{"$f":"Q15/(LOG(Q4)/LOG(2))","v":0.31425809017252587},null,null,null,null,"U1=",{"$f":"W15/(LOG(W4)/LOG(2))","v":0.39703537370038627},null,null,null,"U2=",{"$f":"AB15/(LOG(AB4)/LOG(2))","v":0.3283685202981696},null,null,null,"U3=",{"$f":"AG15/(LOG(AG4)/LOG(2))","v":0.42548178095455585},null,null,null,"U4=",{"$f":"AL15/(LOG(AL4)/LOG(2))","v":0.44767223068183626},null,null,null,"U5=",{"$f":"AQ15/(LOG(AQ4)/LOG(2))","v":0.4661618602405504},null,null,null,"U6=",{"$f":"AV15/(LOG(AV4)/LOG(2))","v":0.48095251746066531}]
[22,1081,13,1089,23,1091,null,null,null,null,0,212]
[22,1184,24,1185,14,1192,null,null,null,null,0,221]
[11,1285,22,1288,14,1294,null,null,null,null,0,121,null,"Total Target Seq"]
[22,1390,13,1399,23,1407,null,null,null,null,0,212,null,{"$f":"COUNTIF(L7:L194,G3)","v":2},null,31,32,31,31,32,31]
[22,1505,13,1511,23,1516,null,null,null,null,0,212,null,null,null,"% of reinforcement given in 6 equal intervals based on number of trials "]
[22,1614,24,1616,14,1618,null,null,null,null,0,221,null,null,null,"%_1","%_2","%_3","%_4","%_5","%_6"]
[22,1715,24,1719,14,1723,null,null,null,null,0,221,null,null,"target sequence",{"$f":"$G$3","v":112},112,112,112,112,112]
[22,1818,24,1825,23,1834,null,null,null,null,0,222,null,null,"total reinforcement",{"$f":"U8","v":0},{"$f":"Z8","v":0},{"$f":"AE8","v":0},{"$f":"AJ8","v":1},{"$f":"AO8","v":1},{"$f":"AT8","v":0}]
[22,1932,24,1934,14,1936,null,null,null,null,0,221,null,null,"% target"]
[11,2029,22,2036,23,2041,null,null,null,null,0,122,null,null,"CCRF"]
[22,2141,24,2150,23,2158,null,null,null,null,0,222,null,null,"% CCRf"]
[22,2256,13,2262,23,2265,null,null,null,null,0,212,null,null,"average response rate",{"$f":"F37/P20","v":106.87096774193549},{"$f":"(F69-F37)/Q20","v":109.875},{"$f":"(F100-F69)/R20","v":156.29032258064515},{"$f":"(F131-F100)/S20","v":140.45161290322579},{"$f":"(F163-F131)/T20","v":130.9375},{"$f":"(F194-F163)/U20","v":120.7741935483871}]
[22,2364,24,2371,14,2374,null,null,null,null,0,221]
[22,2480,13,2483,23,2486,null,null,null,null,0,212]
[22,2624,24,2630,14,2652,null,null,null,null,0,221]
[22,2748,13,2754,23,2759,null,null,null,null,0,212]
[22,2860,24,2866,14,2874,null,null,null,null,0,221]
[22,2972,13,2976,23,2978,null,null,null,null,0,212]
[22,3075,24,3078,23,3084,null,null,null,null,0,222]
[11,3183,22,3196,23,3205,null,null,null,null,0,122]
[22,3304,13,3308,23,3313,null,null,null,null,0,212]
[22,3408,13,3416,23,3419,null,null,null,null,0,212]
[22,3519,13,3524,23,3528,null,null,null,null,0,212]
[22,3624,13,3628,23,3632,null,null,null,null,0,212]
[22,3736,13,3739,23,3744,null,null,null,null,0,212]
[11,3850,22,3855,23,3861,null,null,null,null,0,122]
[22,3959,13,3964,23,3966,null,null,null,null,0,212]
[22,4067,13,4069,23,4084,null,null,null,null,0,212]
[22,4214,24,4221,23,4228,null,null,null,null,0,222]
[22,4322,13,4330,23,4331,null,null,null,null,0,212]
[22,4432,13,4438,23,4444,null,null,null,null,0,212]
[22,4537,24,4540,23,4546,null,null,null,null,0,222]
[22,4644,24,4652,23,4666,null,null,null,null,0,222]
[22,4758,13,4760,23,4765,null,null,null,null,0,212]
[22,4864,24,4869,14,4871,null,null,null,null,0,221]
[22,4968,13,4973,23,4982,null,null,null,null,0,212]
[22,5078,24,5081,23,5087,null,null,null,null,0,222]
[22,5184,13,5187,23,5194,null,null,null,null,0,212]
[22,5291,24,5294,23,5299,null,null,null,null,0,222]
[22,5396,24,5400,23,5403,null,null,null,null,0,222]
[22,5497,24,5507,23,5513,null,null,null,null,0,222]
[22,5605,24,5607,23,5614,null,null,null,null,0,222]
[22,5713,24,5718,14,5726,null,null,null,null,0,221]
[22,5822,13,5826,23,5830,null,null,null,null,0,212]
[22,5930,13,5933,23,5944,null,null,null,null,0,212]
[22,6043,13,6046,23,6051,null,null,null,null,0,212]
[22,6146,13,6154,14,6156,null,null,null,null,0,211]
[22,6253,24,6258,23,6262,null,null,null,null,0,222]
[22,6373,13,6377,23,6383,null,null,null,null,0,212]
[22,6484,24,6497,23,6504,null,null,null,null,0,222]
[22,6603,24,6605,14,6609,null,null,null,null,0,221]
[22,6705,13,6716,23,6722,null,null,null,null,0,212]
[22,6819,13,6823,23,6829,null,null,null,null,0,212]
[22,6930,13,6933,23,6938,null,null,null,null,0,212]
[22,7034,13,7038,23,7048,null,null,null,null,0,212]
[22,7145,13,7147,14,7157,null,null,null,null,0,211]
[22,7255,13,7257,23,7261,null,null,null,null,0,212]
[11,7356,22,7361,14,7367,null,null,null,null,0,121]
[22,7468,24,7476,23,7482,null,null,null,null,0,222]
[22,7584,24,7592,14,7594,null,null,null,null,0,221]
[22,7692,24,7694,14,7697,null,null,null,null,0,221]
[22,7798,24,7801,14,7804,null,null,null,null,0,221]
[22,7901,24,7917,14,7919,null,null,null,null,0,221]
[22,8011,13,8017,23,8021,null,null,null,null,0,212]
[11,8114,22,8126,23,8132,null,null,null,null,0,122]
[11,8225,22,8233,14,8237,null,null,null,null,0,121]
[22,8333,24,8338,23,8341,null,null,null,null,0,222]
[22,8437,24,8440,23,8450,null,null,null,null,0,222]
[22,8548,24,8550,23,8556,null,null,null,null,0,222]
[22,8673,24,8679,23,8686,null,null,null,null,0,222]
[22,8782,24,8785,14,8787,null,null,null,null,0,221]
[22,8885,13,8888,23,8890,null,null,null,null,0,212]
[22,8989,24,8993,23,9037,null,null,null,null,0,222]
[22,10531,24,10546,23,10552,null,null,null,null,0,222]
[22,10650,24,10661,23,10675,null,null,null,null,0,222]
[22,10772,24,10778,14,10780,null,null,null,null,0,221]
[22,10886,24,10899,23,10905,null,null,null,null,0,222]
[22,11005,13,11008,23,11014,null,null,null,null,0,212]
[22,11113,13,11117,23,11119,null,null,null,null,0,212]
[22,11222,24,11226,14,11228,null,null,null,null,0,221]
[22,11327,24,11333,23,11339,null,null,null,null,0,222]
[22,11440,24,11447,23,11453,null,null,null,null,0,222]
[22,11557,13,11561,23,11567,null,null,null,null,0,212]
[22,11665,13,11667,23,11674,null,null,null,null,0,212]
[22,11773,24,11775,23,11783,null,null,null,null,0,222]
[22,11880,13,11886,23,11890,null,null,null,null,0,212]
[22,11986,13,11993,23,11999,null,null,null,null,0,212]
[22,12098,24,12104,23,12112,null,null,null,null,0,222]
[22,12213,13,12217,23,12228,null,null,null,null,0,212]
[22,12327,13,12336,23,12350,null,null,null,null,0,212]
[22,12447,13,12451,23,12455,null,null,null,null,0,212]
[22,12551,24,12558,14,12563,null,null,null,null,0,221]
[11,12699,22,12706,23,12712,null,null,null,null,0,122]
[22,12804,24,12811,14,12817,null,null,null,null,0,221]
[11,13000,11,13004,12,13014,null,null,null,null,0,111]
[11,13451,11,13466,12,13471,null,null,null,null,0,111]
[11,13572,11,13577,12,13583,null,null,null,null,0,111]
[22,13803,13,13813,23,13822,null,null,null,null,0,212]
[11,13913,11,13917,12,13924,null,null,null,null,0,111]
[11,14029,11,14033,12,14035,null,null,null,null,0,111]
[22,14137,24,14142,14,14143,null,null,null,null,0,221]
[22,14435,13,14442,23,14449,null,null,null,null,0,212]
[22,14546,13,14551,23,14554,null,null,null,null,0,212]
[11,14651,11,14659,21,14671,null,null,null,null,0,112]
[22,14851,13,14860,23,14875,null,null,null,null,0,212]
[22,14973,24,14979,14,14984,null,null,null,null,0,221]
[22,15084,13,15086,23,15089,null,null,null,null,0,212]
[22,15189,13,15194,23,15199,null,null,null,null,0,212]
[11,15293,22,15300,14,15301,null,null,null,null,0,121]
[11,15395,11,15413,12,15422,null,null,null,null,0,111]
[11,15515,22,15527,14,15530,null,null,null,null,0,121]
[11,15642,22,15649,14,15652,null,null,null,null,0,121]
[11,15751,22,15774,14,15776,null,null,null,null,0,121]
[22,15879,13,15882,23,15887,null,null,null,null,0,212]
[11,16005,11,16022,12,16028,null,null,null,null,0,111]
[22,16152,13,16156,23,16158,null,null,null,null,0,212]
[22,16253,13,16259,14,16262,null,null,null,null,0,211]
[11,16385,11,16393,21,16411,null,null,null,null,0,112]
[22,16688,13,16693,23,16704,null,null,null,null,0,212]
[22,16797,24,16805,14,16809,null,null,null,null,0,221]
[22,16906,13,16911,23,16913,null,null,null,null,0,212]
[22,17013,13,17017,23,17023,null,null,null,null,0,212]
[22,17127,13,17133,23,17141,null,null,null,null,0,212]
[22,17240,13,17244,23,17248,null,null,null,null,0,212]
[22,17351,24,17355,23,17360,null,null,null,null,0,222]
[11,17454,22,17460,14,17465,null,null,null,null,0,121]
[22,17589,24,17599,23,17606,null,null,null,null,0,222]
[22,17892,24,17896,14,17899,null,null,null,null,0,221]
[11,18009,22,18015,14,18025,null,null,null,null,0,121]
[22,18214,24,18226,14,18234,null,null,null,null,0,221]
[22,18330,13,18343,23,18345,null,null,null,null,0,212]
[22,18461,24,18473,23,18480,null,null,null,null,0,222]
[11,18587,22,18590,23,18594,null,null,null,null,0,122]
[22,18696,13,18698,23,18705,null,null,null,null,0,212]
[11,18828,22,18835,23,18840,null,null,null,null,0,122]
[22,18940,24,18946,14,18949,null,null,null,null,0,221]
[22,19051,13,19057,23,19062,null,null,null,null,0,212]
[11,19165,22,19168,23,19174,null,null,null,null,0,122]
[22,19292,13,19299,23,19303,null,null,null,null,0,212]
[22,19395,24,19402,23,19414,null,null,null,null,0,222]
[22,19511,13,19518,23,19524,null,null,null,null,0,212]
[22,19642,13,19647,23,19654,null,null,null,null,0,212]
[11,19753,22,19755,23,19760,null,null,null,null,0,122]
[22,19858,24,19860,14,19865,null,null,null,null,0,221]
[11,19964,22,19981,23,19984,null,null,null,null,0,122]
[22,20084,13,20090,23,20095,null,null,null,null,0,212]
[11,20206,11,20211,12,20218,null,null,null,null,0,111]
[22,20380,24,20393,23,20400,null,null,null,null,0,222]
[22,20557,24,20562,14,20568,null,null,null,null,0,221]
[22,20669,13,20673,23,20682,null,null,null,null,0,212]
[11,20775,11,20790,12,20801,null,null,null,null,0,111]
[11,20901,22,20922,14,20924,null,null,null,null,0,121]
[22,21020,13,21026,23,21033,null,null,null,null,0,212]
[11,21126,22,21132,23,21138,null,null,null,null,0,122]
[22,21234,24,21239,14,21240,null,null,null,null,0,221]
[22,21363,13,21377,23,21387,null,null,null,null,0,212]
[22,21484,24,21493,23,21501,null,null,null,null,0,222]
[22,21612,24,21616,14,21619,null,null,null,null,0,221]
[22,21716,13,21723,23,21726,null,null,null,null,0,212]
[22,21825,24,21833,14,21834,null,null,null,null,0,221]
[22,21944,24,21950,23,21957,null,null,null,null,0,222]
[22,22069,13,22073,23,22079,null,null,null,null,0,212]
[11,22173,22,22176,23,22180,null,null,null,null,0,122]
[11,22280,22,22291,23,22297,null,null,null,null,0,122]
[11,22389,22,22399,14,22403,null,null,null,null,0,121]
[11,22500,11,22522,12,22529,null,null,null,null,0,111]
[22,22648,13,22656,23,22664,null,null,null,null,0,212]
[22,22762,13,22767,23,22769,null,null,null,null,0,212]
[22,22879,24,22887,23,22893,null,null,null,null,0,222]
[22,23009,13,23011,23,23016,null,null,null,null,0,212]
[22,23115,13,23122,23,23128,null,null,null,null,0,212]
[22,23225,13,23227,23,23231,null,null,null,null,0,212]
[22,23348,13,23351,23,23356,null,null,null,null,0,212]
[22,23457,13,23463,23,23465,null,null,null,null,0,212]
[22,23564,13,23570,23,23577,null,null,null,null,0,212]
[11,23707,22,23733,23,23740,null,null,null,null,0,122]
[22,23832,24,23852,23,23854,null,null,null,null,0,222]
[22,23953,13,23959,14,23962,null,null,null,null,null,211]

{"sheet":"!MC28A10.Gus","index":4,"n_rows":209,"n_cols":48,"rows_kept":209,"cut":false,"hidden":false,"merged":[[1,1,1,2],[5,13,5,14],[18,13,18,14],[19,13,19,14],[4,19,4,22],[5,19,5,20],[4,39,4,42],[5,39,5,40],[4,44,4,47],[5,44,5,45],[4,24,4,27],[5,24,5,25],[4,29,4,32],[5,29,5,30],[4,34,4,37],[5,34,5,35]]}
["Report for:!MC28A10.Gus"]
["Date:","<date>"]
["Hen:","<hen>",null,null,null,"Correct Sequence",{"$f":"Start!J2","v":112},null,null,null,null,null,null,null,null,"Total Sequences in Data",{"$f":"4994-COUNTBLANK(L7:L5000)","v":203},null,null,null,null,"Total Sequences in Block Data",{"$f":"COUNTA(L7:L40)","v":34},null,null,null,"Total Sequences in Block Data",{"$f":"COUNTA(L41:L74)","v":34},null,null,null,"Total Sequences in Block Data",{"$f":"COUNTA(L75:L107)","v":33},null,null,null,"Total Sequences in Block Data",{"$f":"COUNTA(L108:L141)","v":34},null,null,null,"Total Sequences in Block Data",{"$f":"COUNTA(L142:L175)","v":34},null,null,null,"Total Sequences in Block Data",{"$f":"COUNTA(L176:L209)","v":34}]
[null,null,null,null,null,null,null,null,null,null,null,null,null,null,null,"Total Sequences in Summary",{"$f":"SUM(O7:O14)","v":202},null,null,null,null,"Total Sequences in Block Summary",{"$f":"SUM(U7:U14)","v":34},null,null,null,"Total Sequences in Block Summary",{"$f":"SUM(Z7:Z14)","v":34},null,null,null,"Total Sequences in Block Summary",{"$f":"SUM(AE7:AE14)","v":33},null,null,null,"Total Sequences in Block Summary",{"$f":"SUM(AJ7:AJ14)","v":34},null,null,null,"Total Sequences in Block Summary",{"$f":"SUM(AO7:AO14)","v":34},null,null,null,"Total Sequences in Block Summary",{"$f":"SUM(AT7:AT14)","v":33}]
[null,null,null,null,null,null,null,null,null,null,null,null,null,null,null,null,null,null,null,"Block 1",null,null,null,null,"Block 2",null,null,null,null,"Block 3",null,null,null,null,"Block 4",null,null,null,null,"Block 5",null,null,null,null,"Block 6"]
["Sequence\nComponent\n1","Time\n1","Sequence\nComponent\n2","Time\n2","Sequence\nComponent\n3","Time\n3","Sequence\nComponent\n4","Time\n4","Sequence\nComponent\n5","Time\n5","Correct?\n0=No 1=Yes","Sequence",null,"Frequency",null,"Relative Frequency","Variability",null,null,"Frequency",null,"Relative Frequency","Variability",null,"Frequency",null,"Relative Frequency","Variability",null,"Frequency",null,"Relative Frequency","Variability",null,"Frequency",null,"Relative Frequency","Variability",null,"Frequency",null,"Relative Frequency","Variability",null,"Frequency",null,"Relative Frequency","Variability"]
[11,8,22,43,14,64,null,null,null,null,0,121,null,111,{"$f":"COUNTIF($L$7:$L$500,N7)","v":21},{"$f":"O7/$Q$4","v":0.10396039603960396},{"$f":"IF(P7=0,0,(P7*((LOG(P7))/LOG(2))))","v":-0.33952363989818674},null,null,{"$f":"N7","v":111},{"$f":"COUNTIF(L7:L40,T7)","v":1},{"$f":"U7/(W4-U8)","v":2.9411764705882353E-2},{"$f":"IF(V7=0,0,(V7*((LOG(V7))/LOG(2))))","v":-0.14963126003677468},null,{"$f":"N7","v":111},{"$f":"COUNTIF(L41:L74,Y7)","v":4},{"$f":"Z7/(AB4-Z8)","v":0.11764705882352941},{"$f":"IF(AA7=0,0,(AA7*((LOG(AA7))/LOG(2))))","v":-0.36323092250003997},null,{"$f":"N7","v":111},{"$f":"COUNTIF(L75:L107,AD7)","v":3},{"$f":"AE7/(AG4-AE8)","v":9.375E-2},{"$f":"IF(AF7=0,0,(AF7*((LOG(AF7))/LOG(2))))","v":-0.32015976555739156},null,{"$f":"N7","v":111},{"$f":"COUNTIF(L108:L141,AI7)","v":7},{"$f":"AJ7/(AL4-AJ8)","v":0.21212121212121213},{"$f":"IF(AK7=0,0,(AK7*((LOG(AK7))/LOG(2))))","v":-0.47452346609411955},null,{"$f":"N7","v":111},{"$f":"COUNTIF(L142:L175,AN7)","v":6},{"$f":"AO7/(AQ4-AO8)","v":0.18181818181818182},{"$f":"IF(AP7=0,0,(AP7*((LOG(AP7))/LOG(2))))","v":-0.44716938520678134},null,{"$f":"N7","v":111},{"$f":"COUNTIF(L176:L209,AS7)","v":0},{"$f":"AT7/(AV4-AT8)","v":0},{"$f":"IF(AU7=0,0,(AU7*((LOG(AU7))/LOG(2))))","v":0}]
[11,174,11,179,12,185,null,null,null,null,0,111,null,112,9,4.4554455445544552E-2,-0.19997316005834326,null,null,112,{"$f":"COUNTIF(L7:L40,T8)","v":0},null,null,null,112,{"$f":"COUNTIF(L41:L74,Y8)","v":0},null,null,null,112,{"$f":"COUNTIF(L75:L107,AD8)","v":1},null,null,null,112,{"$f":"COUNTIF(L108:L141,AI8)","v":1},null,null,null,112,{"$f":"COUNTIF(L142:L175,AN8)","v":1},null,null,null,112,{"$f":"COUNTIF(L176:L209,AS8)","v":6}]
[22,277,24,283,14,289,null,null,null,null,0,221,null,121,11,5.4455445544554455E-2,-0.22864642824385875,null,null,121,{"$f":"COUNTIF(L7:L40,T9)","v":2},{"$f":"U9/(W4-U8)","v":5.8823529411764705E-2},{"$f":"IF(V9=0,0,(V9*((LOG(V9))/LOG(2))))","v":-0.24043899066178465},null,121,{"$f":"COUNTIF(L41:L74,Y9)","v":4},{"$f":"Z9/(AB4-Z8)","v":0.11764705882352941},{"$f":"IF(AA9=0,0,(AA9*((LOG(AA9))/LOG(2))))","v":-0.36323092250003997},null,121,{"$f":"COUNTIF(L75:L107,AD9)","v":2},{"$f":"AE9/(AG4-AE8)","v":6.25E-2},{"$f":"IF(AF9=0,0,(AF9*((LOG(AF9))/LOG(2))))","v":-0.25},null,121,{"$f":"COUNTIF(L108:L141,AI9)","v":1},{"$f":"AJ9/(AL4-AJ8)","v":3.0303030303030304E-2},{"$f":"IF(AK9=0,0,(AK9*((LOG(AK9))/LOG(2))))","v":-0.15286042785934709},null,121,{"$f":"COUNTIF(L142:L175,AN9)","v":0},{"$f":"AO9/(AQ4-AO8)","v":0},{"$f":"IF(AP9=0,0,(AP9*((LOG(AP9))/LOG(2))))","v":0},null,121,{"$f":"COUNTIF(L176:L209,AS9)","v":2},{"$f":"AT9/(AV4-AT8)","v":7.407407407407407E-2},{"$f":"IF(AU9=0,0,(AU9*((LOG(AU9))/LOG(2))))","v":-0.27813981497507173}]
[11,382,22,388,23,396,null,null,null,null,0,122,null,122,30,0.14851485148514851,-0.40861201294207072,null,null,122,{"$f":"COUNTIF(L7:L40,T10)","v":6},{"$f":"U10/(W4-U8)","v":0.17647058823529413},-0.44161770715220888,null,122,{"$f":"COUNTIF(L41:L74,Y10)","v":3},{"$f":"Z10/(AB4-Z8)","v":8.8235294117647065E-2},-0.30904414769375149,null,122,{"$f":"COUNTIF(L75:L107,AD10)","v":6},{"$f":"AE10/(AG4-AE8)","v":0.1875},-0.45281953111478312,null,122,{"$f":"COUNTIF(L108:L141,AI10)","v":4},{"$f":"AJ10/(AL4-AJ8)","v":0.12121212121212122},-0.36901746901314586,null,122,{"$f":"COUNTIF(L142:L175,AN10)","v":5},{"$f":"AO10/(AQ4-AO8)","v":0.15151515151515152},-0.41249485219258958,null,122,{"$f":"COUNTIF(L176:L209,AS10)","v":6},{"$f":"AT10/(AV4-AT8)","v":0.22222222222222221},-0.48220555587606945]
[11,493,22,502,23,508,null,null,null,null,0,122,null,211,2,9.9009900990099011E-3,-6.5922885967839545E-2,null,null,211,{"$f":"COUNTIF(L7:L40,T11)","v":0},{"$f":"U11/(W4-U8)","v":0},0,null,211,{"$f":"COUNTIF(L41:L74,Y11)","v":1},{"$f":"Z11/(AB4-Z8)","v":2.9411764705882353E-2},-0.14963126003677468,null,211,{"$f":"COUNTIF(L75:L107,AD11)","v":1},{"$f":"AE11/(AG4-AE8)","v":3.125E-2},-0.15625,null,211,{"$f":"COUNTIF(L108:L141,AI11)","v":0},{"$f":"AJ11/(AL4-AJ8)","v":0},0,null,211,{"$f":"COUNTIF(L142:L175,AN11)","v":0},{"$f":"AO11/(AQ4-AO8)","v":0},0,null,211,{"$f":"COUNTIF(L176:L209,AS11)","v":0},{"$f":"AT11/(AV4-AT8)","v":0},0]
[11,605,22,612,23,617,null,null,null,null,0,122,null,212,61,0.30198019801980197,-0.52166298443823467,null,null,212,{"$f":"COUNTIF(L7:L40,T12)","v":8},{"$f":"U12/(W4-U8)","v":0.23529411764705882},-0.49116772735302094,null,212,{"$f":"COUNTIF(L41:L74,Y12)","v":8},{"$f":"Z12/(AB4-Z8)","v":0.23529411764705882},-0.49116772735302094,null,212,{"$f":"COUNTIF(L75:L107,AD12)","v":12},{"$f":"AE12/(AG4-AE8)","v":0.375},-0.53063906222956647,null,212,{"$f":"COUNTIF(L108:L141,AI12)","v":9},{"$f":"AJ12/(AL4-AJ8)","v":0.27272727272727271},-0.51121885034076575,null,212,{"$f":"COUNTIF(L142:L175,AN12)","v":10},{"$f":"AO12/(AQ4-AO8)","v":0.30303030303030304},-0.52195940135487617,null,212,{"$f":"COUNTIF(L176:L209,AS12)","v":14},{"$f":"AT12/(AV4-AT8)","v":0.51851851851851849},-0.49131318968452231]
[22,716,13,719,23,724,null,null,null,null,0,212,null,221,34,0.16831683168316833,-0.43270026639133408,null,null,221,{"$f":"COUNTIF(L7:L40,T13)","v":8},{"$f":"U13/(W4-U8)","v":0.23529411764705882},-0.49116772735302094,null,221,{"$f":"COUNTIF(L41:L74,Y13)","v":6},{"$f":"Z13/(AB4-Z8)","v":0.17647058823529413},-0.44161770715220888,null,221,{"$f":"COUNTIF(L75:L107,AD13)","v":4},{"$f":"AE13/(AG4-AE8)","v":0.125},-0.375,null,221,{"$f":"COUNTIF(L108:L141,AI13)","v":6},{"$f":"AJ13/(AL4-AJ8)","v":0.18181818181818182},-0.44716938520678134,null,221,{"$f":"COUNTIF(L142:L175,AN13)","v":8},{"$f":"AO13/(AQ4-AO8)","v":0.24242424242424243},-0.49561069560204934,null,221,{"$f":"COUNTIF(L176:L209,AS13)","v":2},{"$f":"AT13/(AV4-AT8)","v":7.407407407407407E-2},-0.27813981497507173]
[11,819,22,824,23,834,null,null,null,null,0,122,null,222,34,0.16831683168316833,-0.43270026639133408,null,null,222,{"$f":"COUNTIF(L7:L40,T14)","v":9},{"$f":"U14/(W4-U8)","v":0.26470588235294118},-0.50758354583153664,null,222,{"$f":"COUNTIF(L41:L74,Y14)","v":8},{"$f":"Z14/(AB4-Z8)","v":0.23529411764705882},-0.49116772735302094,null,222,{"$f":"COUNTIF(L75:L107,AD14)","v":4},{"$f":"AE14/(AG4-AE8)","v":0.125},-0.375,null,222,{"$f":"COUNTIF(L108:L141,AI14)","v":6},{"$f":"AJ14/(AL4-AJ8)","v":0.18181818181818182},-0.44716938520678134,null,222,{"$f":"COUNTIF(L142:L175,AN14)","v":4},{"$f":"AO14/(AQ4-AO8)","v":0.12121212121212122},-0.36901746901314586,null,222,{"$f":"COUNTIF(L176:L209,AS14)","v":3},{"$f":"AT14/(AV4-AT8)","v":0.1111111111111111},-0.3522138890491458]
[22,931,13,937,23,939,null,null,null,null,0,212,null,null,null,{"$f":"SUM(P7:P14)","v":1},{"$f":"-SUM(Q7:Q14)","v":2.6297416443312014},null,null,null,null,{"$f":"SUM(V7:V14)","v":1},{"$f":"-SUM(W7:W14)","v":2.321606958388347},null,null,null,{"$f":"SUM(AA7:AA14)","v":1},{"$f":"-SUM(AB7:AB14)","v":2.6090904145888567},null,null,null,{"$f":"SUM(AF7:AF14)","v":1},{"$f":"-SUM(AG7:AG14)","v":2.4598683589017414},null,null,null,{"$f":"SUM(AK7:AK14)","v":1},{"$f":"-SUM(AL7:AL14)","v":2.4019589837209407},null,null,null,{"$f":"SUM(AP7:AP14)","v":1},{"$f":"-SUM(AQ7:AQ14)","v":2.2462518033694425},null,null,null,{"$f":"SUM(AU7:AU14)","v":1},{"$f":"-SUM(AV7:AV14)","v":1.8820122645598811}]
[22,1044,24,1048,23,1056,null,null,null,null,0,222,null,null,null,"U=",{"$f":"Q15/(LOG(Q4)/LOG(2))","v":0.34338848571288955},null,null,null,null,"U1=",{"$f":"W15/(LOG(W4)/LOG(2))","v":0.45633885314389216},null,null,null,"U2=",{"$f":"AB15/(LOG(AB4)/LOG(2))","v":0.51284707053459755},null,null,null,"U3=",{"$f":"AG15/(LOG(AG4)/LOG(2))","v":0.48764396688627248},null,null,null,"U4=",{"$f":"AL15/(LOG(AL4)/LOG(2))","v":0.47213297839647994},null,null,null,"U5=",{"$f":"AQ15/(LOG(AQ4)/LOG(2))","v":0.44152692087621898},null,null,null,"U6=",{"$f":"AV15/(LOG(AV4)/LOG(2))","v":0.37308985381166759}]
[22,1258,24,1262,14,1270,null,null,null,null,0,221]
[22,1364,24,1372,23,1376,null,null,null,null,0,222]
[22,1477,13,1479,23,1488,null,null,null,null,0,212,null,"Total Target Seq"]
[22,1592,13,1594,23,1596,null,null,null,null,0,212,null,{"$f":"COUNTIF(L7:L209,G3)","v":9},null,34,34,33,34,34,34]
[22,1692,24,1698,23,1702,null,null,null,null,0,222,null,null,null,"% of reinforcement given in 6 equal intervals based on number of trials "]
[22,1798,24,1801,23,1804,null,null,null,null,0,222,null,null,null,"%_1","%_2","%_3","%_4","%_5","%_6"]
[22,1906,24,1917,14,1924,null,null,null,null,0,221,null,null,"target sequence",{"$f":"$G$3","v":112},112,112,112,112,112]
[22,2024,24,2028,14,2035,null,null,null,null,0,221,null,null,"total reinforcement",{"$f":"U8","v":0},{"$f":"Z8","v":0},{"$f":"AE8","v":1},{"$f":"AJ8","v":1},{"$f":"AO8","v":1},{"$f":"AT8","v":6}]
[11,2131,22,2134,14,2143,null,null,null,null,0,121,null,null,"% target"]
[22,2262,24,2276,23,2299,null,null,null,null,0,222,null,null,"CCRF"]
[22,2403,24,2408,23,2415,null,null,null,null,0,222,null,null,"% CCRf"]
[22,2511,24,2513,23,2520,null,null,null,null,0,222,null,null,"average response rate",{"$f":"F40/P20","v":112.55882352941177},{"$f":"(F74-F40)/Q20","v":114.73529411764706},{"$f":"(F107-F74)/R20","v":113.24242424242425},{"$f":"(F141-F107)/S20","v":119.91176470588235},{"$f":"(F175-F141)/T20","v":126.79411764705883},{"$f":"(F209-F175)/U20","v":-583.91176470588232}]
[22,2616,13,2619,23,2622,null,null,null,null,0,212]
[11,2719,22,2723,23,2730,null,null,null,null,0,122]
[11,2829,22,2837,23,2846,null,null,null,null,0,122]
[22,2946,24,2949,14,2953,null,null,null,null,0,221]
[22,3047,24,3060,14,3069,null,null,null,null,0,221]
[22,3161,24,3167,14,3172,null,null,null,null,0,221]
[22,3269,24,3271,23,3273,null,null,null,null,0,222]
[22,3368,13,3374,23,3376,null,null,null,null,0,212]
[22,3472,24,3476,14,3480,null,null,null,null,0,221]
[22,3579,13,3583,23,3585,null,null,null,null,0,212]
[22,3682,13,3688,23,3695,null,null,null,null,0,212]
[22,3814,24,3820,23,3827,null,null,null,null,0,222]
[22,3927,24,3933,23,3942,null,null,null,null,0,222]
[11,4036,22,4041,23,4043,null,null,null,null,0,122]
[11,4139,22,4144,14,4148,null,null,null,null,0,121]
[22,4240,24,4244,14,4246,null,null,null,null,0,221]
[22,4342,24,4344,23,4349,null,null,null,null,0,222]
[11,4469,11,4472,12,4478,null,null,null,null,0,111]
[11,4573,11,4578,12,4581,null,null,null,null,0,111]
[11,4691,22,4700,23,4708,null,null,null,null,0,122]
[22,4830,24,4838,23,4844,null,null,null,null,0,222]
[11,4949,22,4957,14,4961,null,null,null,null,0,121]
[22,5090,13,5096,23,5104,null,null,null,null,0,212]
[22,5205,13,5207,23,5220,null,null,null,null,0,212]
[22,5325,24,5329,23,5335,null,null,null,null,0,222]
[11,5449,11,5454,12,5460,null,null,null,null,0,111]
[22,5558,24,5564,14,5567,null,null,null,null,0,221]
[22,5666,13,5671,23,5676,null,null,null,null,0,212]
[22,5781,24,5789,23,5796,null,null,null,null,0,222]
[22,5896,24,5899,14,5902,null,null,null,null,0,221]
[22,6001,13,6005,23,6007,null,null,null,null,0,212]
[22,6120,13,6124,23,6127,null,null,null,null,0,212]
[11,6221,22,6226,14,6230,null,null,null,null,0,121]
[22,6332,13,6335,14,6337,null,null,null,null,0,211]
[11,6441,22,6448,23,6450,null,null,null,null,0,122]
[22,6544,24,6567,23,6581,null,null,null,null,0,222]
[22,6680,13,6682,23,6695,null,null,null,null,0,212]
[22,6816,24,6820,23,6830,null,null,null,null,0,222]
[22,6928,24,6930,14,6937,null,null,null,null,0,221]
[11,7053,11,7063,12,7073,null,null,null,null,0,111]
[22,7179,24,7183,23,7195,null,null,null,null,0,222]
[22,7293,13,7301,23,7305,null,null,null,null,0,212]
[22,7401,24,7406,14,7411,null,null,null,null,0,221]
[11,7506,22,7509,14,7513,null,null,null,null,0,121]
[22,7610,24,7620,14,7623,null,null,null,null,0,221]
[22,7718,13,7722,23,7728,null,null,null,null,0,212]
[22,7823,24,7833,23,7842,null,null,null,null,0,222]
[22,7956,24,7959,14,7962,null,null,null,null,0,221]
[11,8054,22,8062,23,8066,null,null,null,null,0,122]
[22,8163,13,8166,23,8171,null,null,null,null,0,212]
[22,8269,13,8276,23,8282,null,null,null,null,0,212]
[22,8381,13,8384,23,8387,null,null,null,null,0,212]
[11,8483,11,8504,21,8509,null,null,null,null,0,112]
[11,8616,22,8619,23,8626,null,null,null,null,0,122]
[22,8725,24,8737,23,8745,null,null,null,null,0,222]
[22,8840,13,8845,23,8848,null,null,null,null,0,212]
[22,8954,13,8957,23,8964,null,null,null,null,0,212]
[11,9056,22,9062,23,9069,null,null,null,null,0,122]
[22,9167,24,9170,23,9173,null,null,null,null,0,222]
[22,9272,13,9277,23,9278,null,null,null,null,0,212]
[11,9371,22,9375,23,9379,null,null,null,null,0,122]
[11,9471,22,9477,14,9482,null,null,null,null,0,121]
[11,9584,11,9590,12,9610,null,null,null,null,0,111]
[22,9722,13,9728,23,9743,null,null,null,null,0,212]
[11,9841,22,9843,23,9848,null,null,null,null,0,122]
[22,9944,13,9953,23,9964,null,null,null,null,0,212]
[11,10064,22,10066,23,10070,null,null,null,null,0,122]
[22,10170,13,10173,23,10176,null,null,null,null,0,212]
[22,10274,13,10281,23,10285,null,null,null,null,0,212]
[22,10383,24,10389,14,10393,null,null,null,null,0,221]
[22,10490,24,10496,14,10497,null,null,null,null,0,221]
[22,10590,24,10594,23,10603,null,null,null,null,0,222]
[22,10709,24,10713,14,10717,null,null,null,null,0,221]
[11,10814,22,10834,14,10839,null,null,null,null,0,121]
[22,10939,13,10942,23,10947,null,null,null,null,0,212]
[11,11050,11,11080,12,11085,null,null,null,null,0,111]
[11,11187,11,11201,12,11203,null,null,null,null,0,111]
[22,11329,13,11336,14,11344,null,null,null,null,0,211]
[22,11458,13,11462,23,11465,null,null,null,null,0,212]
[11,11572,22,11579,23,11585,null,null,null,null,0,122]
[22,11682,24,11688,14,11690,null,null,null,null,0,221]
[11,11806,11,11812,12,11822,null,null,null,null,0,111]
[11,11924,11,11933,12,11942,null,null,null,null,0,111]
[11,12039,22,12042,14,12045,null,null,null,null,0,121]
[22,12143,24,12150,23,12157,null,null,null,null,0,222]
[11,12255,11,12267,12,12269,null,null,null,null,0,111]
[11,12375,22,12378,23,12381,null,null,null,null,0,122]
[22,12510,13,12516,23,12533,null,null,null,null,0,212]
[22,12628,13,12636,23,12643,null,null,null,null,0,212]
[22,12742,13,12747,23,12752,null,null,null,null,0,212]
[22,12846,24,12851,23,12855,null,null,null,null,0,222]
[22,12953,24,12957,14,12960,null,null,null,null,0,221]
[22,13051,24,13058,23,13069,null,null,null,null,0,222]
[11,13165,11,13169,12,13178,null,null,null,null,0,111]
[11,13279,22,13298,23,13303,null,null,null,null,0,122]
[11,13442,11,13466,12,13475,null,null,null,null,0,111]
[22,13573,24,13577,14,13581,null,null,null,null,0,221]
[22,13720,24,13723,23,13727,null,null,null,null,0,222]
[22,13848,13,13854,23,13863,null,null,null,null,0,212]
[22,13976,13,13979,23,13984,null,null,null,null,0,212]
[11,14101,11,14105,12,14113,null,null,null,null,0,111]
[22,14241,13,14244,23,14255,null,null,null,null,0,212]
[11,14348,11,14375,21,14382,null,null,null,null,0,112]
[22,14477,13,14483,23,14487,null,null,null,null,0,212]
[22,14603,13,14606,23,14614,null,null,null,null,0,212]
[11,14752,22,14760,23,14765,null,null,null,null,0,122]
[22,14862,13,14864,23,14867,null,null,null,null,0,212]
[22,14965,24,14970,14,14974,null,null,null,null,0,221]
[22,15076,24,15082,14,15084,null,null,null,null,0,221]
[22,15183,24,15187,23,15196,null,null,null,null,0,222]
[22,15304,24,15306,14,15308,null,null,null,null,0,221]
[22,15408,24,15412,23,15416,null,null,null,null,0,222]
[11,15522,11,15528,12,15542,null,null,null,null,0,111]
[22,15635,24,15638,14,15644,null,null,null,null,0,221]
[22,15742,13,15745,23,15751,null,null,null,null,0,212]
[22,15865,13,15866,23,15870,null,null,null,null,0,212]
[11,15990,11,15997,12,16002,null,null,null,null,0,111]
[11,16135,22,16168,23,16172,null,null,null,null,0,122]
[11,16267,22,16278,23,16282,null,null,null,null,0,122]
[11,16434,11,16442,21,16463,null,null,null,null,0,112]
[22,16567,24,16583,23,16591,null,null,null,null,0,222]
[22,16713,24,16718,23,16723,null,null,null,null,0,222]
[22,16828,24,16832,14,16836,null,null,null,null,0,221]
[11,16929,22,16935,23,16939,null,null,null,null,0,122]
[22,17037,13,17041,23,17046,null,null,null,null,0,212]
[22,17143,13,17149,23,17154,null,null,null,null,0,212]
[22,17251,13,17254,23,17261,null,null,null,null,0,212]
[11,17356,11,17375,12,17385,null,null,null,null,0,111]
[22,17484,24,17492,14,17497,null,null,null,null,0,221]
[22,17595,24,17600,14,17603,null,null,null,null,0,221]
[22,17711,24,17718,14,17719,null,null,null,null,0,221]
[11,17847,11,17853,12,17866,null,null,null,null,0,111]
[22,17965,24,17977,14,17980,null,null,null,null,0,221]
[22,18078,13,18081,23,18088,null,null,null,null,0,212]
[11,18184,11,18193,12,18201,null,null,null,null,0,111]
[22,18300,24,18307,14,18309,null,null,null,null,0,221]
[11,18414,22,18452,23,18457,null,null,null,null,0,122]
[11,18666,11,18685,12,18705,null,null,null,null,0,111]
[22,18803,13,18813,23,18815,null,null,null,null,0,212]
[22,18912,13,18914,23,18921,null,null,null,null,0,212]
[22,19024,13,19025,23,19030,null,null,null,null,0,212]
[11,19137,22,19146,23,19149,null,null,null,null,0,122]
[22,19248,13,19253,23,19256,null,null,null,null,0,212]
[22,19438,24,19474,23,19479,null,null,null,null,0,222]
[22,19580,24,19586,23,19592,null,null,null,null,0,222]
[11,19707,11,19718,12,19734,null,null,null,null,0,111]
[22,19847,24,19850,14,19853,null,null,null,null,0,221]
[22,19950,13,19954,23,19958,null,null,null,null,0,212]
[11,20051,22,20057,14,20061,null,null,null,null,0,121]
[11,20230,22,20239,23,20252,null,null,null,null,0,122]
[22,20352,13,20357,23,20360,null,null,null,null,0,212]
[22,20458,13,20460,23,20465,null,null,null,null,0,212]
[11,20584,11,20596,21,20603,null,null,null,null,0,112]
[22,20718,13,20722,23,20727,null,null,null,null,0,212]
[22,20825,13,20827,23,20829,null,null,null,null,0,212]
[22,20927,24,20929,23,20935,null,null,null,null,0,222]
[22,21040,13,21045,23,21054,null,null,null,null,0,212]
[11,21170,11,21178,21,21185,null,null,null,null,0,112]
[22,21300,13,21308,23,21320,null,null,null,null,0,212]
[11,21414,22,21416,23,21427,null,null,null,null,0,122]
[11,21521,22,21525,23,21530,null,null,null,null,0,122]
[11,21621,22,21630,14,21634,null,null,null,null,0,121]
[22,21732,13,21738,23,21744,null,null,null,null,0,212]
[11,21858,22,21863,23,21872,null,null,null,null,0,122]
[22,21976,13,21981,23,21984,null,null,null,null,0,212]
[11,22076,22,22081,23,22088,null,null,null,null,0,122]
[22,22184,13,22187,23,22193,null,null,null,null,0,212]
[11,22294,11,22315,21,22320,null,null,null,null,0,112]
[22,22456,13,22464,23,22477,null,null,null,null,0,212]
[22,22616,24,22621,14,22625,null,null,null,null,0,221]
[22,22724,13,22726,23,22732,null,null,null,null,0,212]
[11,22847,11,22855,21,22876,null,null,null,null,0,112]
[22,23021,13,23030,23,23034,null,null,null,null,0,212]
[22,23144,24,23156,14,23161,null,null,null,null,0,221]
[22,23253,24,23261,23,23263,null,null,null,null,0,222]
[11,23396,22,23424,23,23428,null,null,null,null,0,122]
[11,23528,11,23542,21,23545,null,null,null,null,0,112]
[22,23663,13,23671,23,23673,null,null,null,null,0,212]
[22,23772,24,23774,23,23777,null,null,null,null,0,222]
[11,23876,11,23891,21,23899,null,null,null,null,0,112]
[22,23990,13,23998,null,null,null,null,null,null,null,21]

{"sheet":"!MC29A10.Gus","index":5,"n_rows":210,"n_cols":48,"rows_kept":210,"cut":false,"hidden":false,"merged":[[1,1,1,2],[5,13,5,14],[18,13,18,14],[19,13,19,14],[4,19,4,22],[5,19,5,20],[4,39,4,42],[5,39,5,40],[4,44,4,47],[5,44,5,45],[4,24,4,27],[5,24,5,25],[4,29,4,32],[5,29,5,30],[4,34,4,37],[5,34,5,35]]}
["Report for:!MC29A10.Gus"]
["Date:","<date>"]
["Hen:","<hen>",null,null,null,"Correct Sequence",{"$f":"Start!J2","v":112},null,null,null,null,null,null,null,null,"Total Sequences in Data",{"$f":"4994-COUNTBLANK(L7:L5000)","v":204},null,null,null,null,"Total Sequences in Block Data",{"$f":"COUNTA(L7:L40)","v":34},null,null,null,"Total Sequences in Block Data",{"$f":"COUNTA(L41:L74)","v":34},null,null,null,"Total Sequences in Block Data",{"$f":"COUNTA(L75:L108)","v":34},null,null,null,"Total Sequences in Block Data",{"$f":"COUNTA(L109:L142)","v":34},null,null,null,"Total Sequences in Block Data",{"$f":"COUNTA(L143:L176)","v":34},null,null,null,"Total Sequences in Block Data",{"$f":"COUNTA(L177:L210)","v":34}]
[null,null,null,null,null,null,null,null,null,null,null,null,null,null,null,"Total Sequences in Summary",{"$f":"SUM(O7:O14)","v":204},null,null,null,null,"Total Sequences in Block Summary",{"$f":"SUM(U7:U14)","v":34},null,null,null,"Total Sequences in Block Summary",{"$f":"SUM(Z7:Z14)","v":34},null,null,null,"Total Sequences in Block Summary",{"$f":"SUM(AE7:AE14)","v":34},null,null,null,"Total Sequences in Block Summary",{"$f":"SUM(AJ7:AJ14)","v":34},null,null,null,"Total Sequences in Block Summary",{"$f":"SUM(AO7:AO14)","v":34},null,null,null,"Total Sequences in Block Summary",{"$f":"SUM(AT7:AT14)","v":34}]
[null,null,null,null,null,null,null,null,null,null,null,null,null,null,null,null,null,null,null,"Block 1",null,null,null,null,"Block 2",null,null,null,null,"Block 3",null,null,null,null,"Block 4",null,null,null,null,"Block 5",null,null,null,null,"Block 6"]
["Sequence\nComponent\n1","Time\n1","Sequence\nComponent\n2","Time\n2","Sequence\nComponent\n3","Time\n3","Sequence\nComponent\n4","Time\n4","Sequence\nComponent\n5","Time\n5","Correct?\n0=No 1=Yes","Sequence",null,"Frequency",null,"Relative Frequency","Variability",null,null,"Frequency",null,"Relative Frequency","Variability",null,"Frequency",null,"Relative Frequency","Variability",null,"Frequency",null,"Relative Frequency","Variability",null,"Frequency",null,"Relative Frequency","Variability",null,"Frequency",null,"Relative Frequency","Variability",null,"Frequency",null,"Relative Frequency","Variability"]
[11,15,22,34,23,38,null,null,null,null,0,122,null,111,{"$f":"COUNTIF($L$7:$L$500,N7)","v":10},{"$f":"O7/$Q$4","v":4.9019607843137254E-2},{"$f":"IF(P7=0,0,(P7*((LOG(P7))/LOG(2))))","v":-0.21325966897471241},null,null,{"$f":"N7","v":111},{"$f":"COUNTIF(L7:L40,T7)","v":5},{"$f":"U7/(W4-U8)","v":0.17241379310344829},{"$f":"IF(V7=0,0,(V7*((LOG(V7))/LOG(2))))","v":-0.43725050004141547},null,{"$f":"N7","v":111},{"$f":"COUNTIF(L41:L74,Y7)","v":1},{"$f":"Z7/(AB4-Z8)","v":3.125E-2},{"$f":"IF(AA7=0,0,(AA7*((LOG(AA7))/LOG(2))))","v":-0.15625},null,{"$f":"N7","v":111},{"$f":"COUNTIF(L75:L108,AD7)","v":0},{"$f":"AE7/(AG4-AE8)","v":0},{"$f":"IF(AF7=0,0,(AF7*((LOG(AF7))/LOG(2))))","v":0},null,{"$f":"N7","v":111},{"$f":"COUNTIF(L109:L142,AI7)","v":1},{"$f":"AJ7/(AL4-AJ8)","v":3.4482758620689655E-2},{"$f":"IF(AK7=0,0,(AK7*((LOG(AK7))/LOG(2))))","v":-0.16751658603888178},null,{"$f":"N7","v":111},{"$f":"COUNTIF(L143:L176,AN7)","v":3},{"$f":"AO7/(AQ4-AO8)","v":0.1},{"$f":"IF(AP7=0,0,(AP7*((LOG(AP7))/LOG(2))))","v":-0.33219280948873625},null,{"$f":"N7","v":111},{"$f":"COUNTIF(L177:L210,AS7)","v":0},{"$f":"AT7/(AV4-AT8)","v":0},{"$f":"IF(AU7=0,0,(AU7*((LOG(AU7))/LOG(2))))","v":0}]
[22,137,24,139,14,141,null,null,null,null,0,221,null,112,25,0.12254901960784313,-0.3711481804162709,null,null,112,{"$f":"COUNTIF(L7:L40,T8)","v":5},null,null,null,112,{"$f":"COUNTIF(L41:L74,Y8)","v":2},null,null,null,112,{"$f":"COUNTIF(L75:L108,AD8)","v":4},null,null,null,112,{"$f":"COUNTIF(L109:L142,AI8)","v":5},null,null,null,112,{"$f":"COUNTIF(L143:L176,AN8)","v":4},null,null,null,112,{"$f":"COUNTIF(L177:L210,AS8)","v":5}]
[22,235,13,241,23,249,null,null,null,null,0,212,null,121,13,6.3725490196078427E-2,-0.25311673093036885,null,null,121,{"$f":"COUNTIF(L7:L40,T9)","v":1},{"$f":"U9/(W4-U8)","v":3.4482758620689655E-2},{"$f":"IF(V9=0,0,(V9*((LOG(V9))/LOG(2))))","v":-0.16751658603888178},null,121,{"$f":"COUNTIF(L41:L74,Y9)","v":4},{"$f":"Z9/(AB4-Z8)","v":0.125},{"$f":"IF(AA9=0,0,(AA9*((LOG(AA9))/LOG(2))))","v":-0.375},null,121,{"$f":"COUNTIF(L75:L108,AD9)","v":3},{"$f":"AE9/(AG4-AE8)","v":0.1},{"$f":"IF(AF9=0,0,(AF9*((LOG(AF9))/LOG(2))))","v":-0.33219280948873625},null,121,{"$f":"COUNTIF(L109:L142,AI9)","v":1},{"$f":"AJ9/(AL4-AJ8)","v":3.4482758620689655E-2},{"$f":"IF(AK9=0,0,(AK9*((LOG(AK9))/LOG(2))))","v":-0.16751658603888178},null,121,{"$f":"COUNTIF(L143:L176,AN9)","v":2},{"$f":"AO9/(AQ4-AO8)","v":6.6666666666666666E-2},{"$f":"IF(AP9=0,0,(AP9*((LOG(AP9))/LOG(2))))","v":-0.26045937304056793},null,121,{"$f":"COUNTIF(L177:L210,AS9)","v":2},{"$f":"AT9/(AV4-AT8)","v":6.8965517241379309E-2},{"$f":"IF(AU9=0,0,(AU9*((LOG(AU9))/LOG(2))))","v":-0.26606765483638428}]
[11,354,22,362,23,367,null,null,null,null,0,122,null,122,45,0.22058823529411764,-0.48100858359746046,null,null,122,{"$f":"COUNTIF(L7:L40,T10)","v":5},{"$f":"U10/(W4-U8)","v":0.17241379310344829},-0.43725050004141547,null,122,{"$f":"COUNTIF(L41:L74,Y10)","v":3},{"$f":"Z10/(AB4-Z8)","v":9.375E-2},-0.32015976555739156,null,122,{"$f":"COUNTIF(L75:L108,AD10)","v":5},{"$f":"AE10/(AG4-AE8)","v":0.16666666666666666},-0.43082708345352599,null,122,{"$f":"COUNTIF(L109:L142,AI10)","v":8},{"$f":"AJ10/(AL4-AJ8)","v":0.27586206896551724},-0.51254648141450265,null,122,{"$f":"COUNTIF(L143:L176,AN10)","v":11},{"$f":"AO10/(AQ4-AO8)","v":0.36666666666666664},-0.53073495822278116,null,122,{"$f":"COUNTIF(L177:L210,AS10)","v":13},{"$f":"AT10/(AV4-AT8)","v":0.44827586206896552},-0.51889781382152544]
[22,466,13,468,23,474,null,null,null,null,0,212,null,211,2,9.8039215686274508E-3,-6.5415934725210734E-2,null,null,211,{"$f":"COUNTIF(L7:L40,T11)","v":1},{"$f":"U11/(W4-U8)","v":3.4482758620689655E-2},-0.16751658603888178,null,211,{"$f":"COUNTIF(L41:L74,Y11)","v":1},{"$f":"Z11/(AB4-Z8)","v":3.125E-2},-0.15625,null,211,{"$f":"COUNTIF(L75:L108,AD11)","v":0},{"$f":"AE11/(AG4-AE8)","v":0},0,null,211,{"$f":"COUNTIF(L109:L142,AI11)","v":0},{"$f":"AJ11/(AL4-AJ8)","v":0},0,null,211,{"$f":"COUNTIF(L143:L176,AN11)","v":0},{"$f":"AO11/(AQ4-AO8)","v":0},0,null,211,{"$f":"COUNTIF(L177:L210,AS11)","v":0},{"$f":"AT11/(AV4-AT8)","v":0},0]
[22,606,24,610,23,616,null,null,null,null,0,222,null,212,67,0.32843137254901961,-0.52757118701676198,null,null,212,{"$f":"COUNTIF(L7:L40,T12)","v":8},{"$f":"U12/(W4-U8)","v":0.27586206896551724},-0.51254648141450265,null,212,{"$f":"COUNTIF(L41:L74,Y12)","v":16},{"$f":"Z12/(AB4-Z8)","v":0.5},-0.5,null,212,{"$f":"COUNTIF(L75:L108,AD12)","v":13},{"$f":"AE12/(AG4-AE8)","v":0.43333333333333335},-0.52279538023588479,null,212,{"$f":"COUNTIF(L109:L142,AI12)","v":11},{"$f":"AJ12/(AL4-AJ8)","v":0.37931034482758619},-0.53048424625493174,null,212,{"$f":"COUNTIF(L143:L176,AN12)","v":10},{"$f":"AO12/(AQ4-AO8)","v":0.33333333333333331},-0.52832083357371862,null,212,{"$f":"COUNTIF(L177:L210,AS12)","v":9},{"$f":"AT12/(AV4-AT8)","v":0.31034482758620691},-0.52387944631611505]
[22,724,24,728,23,733,null,null,null,null,0,222,null,221,13,6.3725490196078427E-2,-0.25311673093036885,null,null,221,{"$f":"COUNTIF(L7:L40,T13)","v":1},{"$f":"U13/(W4-U8)","v":3.4482758620689655E-2},-0.16751658603888178,null,221,{"$f":"COUNTIF(L41:L74,Y13)","v":6},{"$f":"Z13/(AB4-Z8)","v":0.1875},-0.45281953111478312,null,221,{"$f":"COUNTIF(L75:L108,AD13)","v":2},{"$f":"AE13/(AG4-AE8)","v":6.6666666666666666E-2},-0.26045937304056793,null,221,{"$f":"COUNTIF(L109:L142,AI13)","v":1},{"$f":"AJ13/(AL4-AJ8)","v":3.4482758620689655E-2},-0.16751658603888178,null,221,{"$f":"COUNTIF(L143:L176,AN13)","v":2},{"$f":"AO13/(AQ4-AO8)","v":6.6666666666666666E-2},-0.26045937304056793,null,221,{"$f":"COUNTIF(L177:L210,AS13)","v":1},{"$f":"AT13/(AV4-AT8)","v":3.4482758620689655E-2},-0.16751658603888178]
[11,839,22,855,23,861,null,null,null,null,0,122,null,222,29,0.14215686274509803,-0.40009257871800868,null,null,222,{"$f":"COUNTIF(L7:L40,T14)","v":8},{"$f":"U14/(W4-U8)","v":0.27586206896551724},-0.51254648141450265,null,222,{"$f":"COUNTIF(L41:L74,Y14)","v":1},{"$f":"Z14/(AB4-Z8)","v":3.125E-2},-0.15625,null,222,{"$f":"COUNTIF(L75:L108,AD14)","v":7},{"$f":"AE14/(AG4-AE8)","v":0.23333333333333334},-0.48989165716187993,null,222,{"$f":"COUNTIF(L109:L142,AI14)","v":7},{"$f":"AJ14/(AL4-AJ8)","v":0.2413793103448276},-0.49497870729275095,null,222,{"$f":"COUNTIF(L143:L176,AN14)","v":2},{"$f":"AO14/(AQ4-AO8)","v":6.6666666666666666E-2},-0.26045937304056793,null,222,{"$f":"COUNTIF(L177:L210,AS14)","v":4},{"$f":"AT14/(AV4-AT8)","v":0.13793103448275862},-0.39420427519000989]
[11,964,11,984,12,995,null,null,null,null,0,111,null,null,null,{"$f":"SUM(P7:P14)","v":1},{"$f":"-SUM(Q7:Q14)","v":2.5647295953091631},null,null,null,null,{"$f":"SUM(V7:V14)","v":1},{"$f":"-SUM(W7:W14)","v":2.4021437210284819},null,null,null,{"$f":"SUM(AA7:AA14)","v":1},{"$f":"-SUM(AB7:AB14)","v":2.1167292966721747},null,null,null,{"$f":"SUM(AF7:AF14)","v":1},{"$f":"-SUM(AG7:AG14)","v":2.036166303380595},null,null,null,{"$f":"SUM(AK7:AK14)","v":1},{"$f":"-SUM(AL7:AL14)","v":2.0405591930788307},null,null,null,{"$f":"SUM(AP7:AP14)","v":1},{"$f":"-SUM(AQ7:AQ14)","v":2.1726267204069396},null,null,null,{"$f":"SUM(AU7:AU14)","v":1},{"$f":"-SUM(AV7:AV14)","v":1.8705657762029164}]
[11,1090,11,1094,12,1097,null,null,null,null,0,111,null,null,null,"U=",{"$f":"Q15/(LOG(Q4)/LOG(2))","v":0.33427885981229161},null,null,null,null,"U1=",{"$f":"W15/(LOG(W4)/LOG(2))","v":0.47216929066318453},null,null,null,"U2=",{"$f":"AB15/(LOG(AB4)/LOG(2))","v":0.41606776554891728},null,null,null,"U3=",{"$f":"AG15/(LOG(AG4)/LOG(2))","v":0.40023217208996242},null,null,null,"U4=",{"$f":"AL15/(LOG(AL4)/LOG(2))","v":0.40109564565926642},null,null,null,"U5=",{"$f":"AQ15/(LOG(AQ4)/LOG(2))","v":0.42705505439583241},null,null,null,"U6=",{"$f":"AV15/(LOG(AV4)/LOG(2))","v":0.36768146216930203}]
[11,1201,22,1216,23,1223,null,null,null,null,0,122]
[11,1316,22,1326,14,1328,null,null,null,null,0,121]
[11,1439,11,1449,21,1451,null,null,null,null,0,112,null,"Total Target Seq"]
[22,1546,24,1550,23,1556,null,null,null,null,0,222,null,{"$f":"COUNTIF(L7:L210,G3)","v":25},null,34,34,34,34,34,34]
[22,1656,13,1667,14,1672,null,null,null,null,0,211,null,null,null,"% of reinforcement given in 6 equal intervals based on number of trials "]
[11,1776,11,1784,12,1796,null,null,null,null,0,111,null,null,null,"%_1","%_2","%_3","%_4","%_5","%_6"]
[11,1902,11,1913,12,1916,null,null,null,null,0,111,null,null,"target sequence",{"$f":"$G$3","v":112},112,112,112,112,112]
[11,2031,11,2051,21,2060,null,null,null,null,0,112,null,null,"total reinforcement",{"$f":"U8","v":5},{"$f":"Z8","v":2},{"$f":"AE8","v":4},{"$f":"AJ8","v":5},{"$f":"AO8","v":4},{"$f":"AT8","v":5}]
[22,2154,24,2166,23,2178,null,null,null,null,0,222,null,null,"% target"]
[22,2281,24,2295,23,2301,null,null,null,null,0,222,null,null,"CCRF"]
[22,2398,13,2401,23,2403,null,null,null,null,0,212,null,null,"% CCRf"]
[22,2501,24,2503,23,2506,null,null,null,null,0,222,null,null,"average response rate",{"$f":"F40/P20","v":114.20588235294117},{"$f":"(F74-F40)/Q20","v":111.82352941176471},{"$f":"(F108-F74)/R20","v":111.82352941176471},{"$f":"(F142-F108)/S20","v":124.61764705882354},{"$f":"(F176-F142)/T20","v":118.55882352941177},{"$f":"(F210-F176)/U20","v":124.82352941176471}]
[11,2600,11,2612,12,2626,null,null,null,null,0,111]
[22,2746,13,2750,23,2754,null,null,null,null,0,212]
[22,2852,13,2855,23,2859,null,null,null,null,0,212]
[11,2972,11,2977,21,2979,null,null,null,null,0,112]
[22,3074,13,3079,23,3086,null,null,null,null,0,212]
[22,3183,24,3186,23,3191,null,null,null,null,0,222]
[11,3300,11,3306,21,3311,null,null,null,null,0,112]
[22,3405,13,3410,23,3422,null,null,null,null,0,212]
[22,3520,13,3525,23,3527,null,null,null,null,0,212]
[11,3631,11,3639,21,3647,null,null,null,null,0,112]
[22,3743,24,3748,23,3760,null,null,null,null,0,222]
[11,3866,22,3876,23,3883,null,null,null,null,0,122]
[11,3976,22,3980,14,3983,null,null,null,null,0,121]
[22,4087,13,4091,23,4106,null,null,null,null,0,212]
[22,4210,13,4217,23,4222,null,null,null,null,0,212]
[22,4326,24,4331,14,4335,null,null,null,null,0,221]
[11,4437,11,4440,12,4451,null,null,null,null,0,111]
[22,4545,13,4555,14,4558,null,null,null,null,0,211]
[22,4663,13,4667,23,4669,null,null,null,null,0,212]
[22,4773,13,4777,23,4783,null,null,null,null,0,212]
[22,4879,13,4883,23,4893,null,null,null,null,0,212]
[22,4996,13,4998,23,5002,null,null,null,null,0,212]
[22,5100,13,5103,23,5111,null,null,null,null,0,212]
[22,5204,24,5206,23,5215,null,null,null,null,0,222]
[22,5308,24,5315,14,5317,null,null,null,null,0,221]
[22,5414,13,5418,23,5421,null,null,null,null,0,212]
[22,5533,13,5545,23,5554,null,null,null,null,0,212]
[22,5652,13,5654,23,5656,null,null,null,null,0,212]
[22,5751,24,5765,14,5766,null,null,null,null,0,221]
[22,5870,13,5874,23,5879,null,null,null,null,0,212]
[11,5973,22,5984,23,5986,null,null,null,null,0,122]
[11,6083,22,6086,14,6091,null,null,null,null,0,121]
[11,6187,22,6194,14,6198,null,null,null,null,0,121]
[22,6293,24,6301,14,6304,null,null,null,null,0,221]
[22,6402,24,6408,14,6410,null,null,null,null,0,221]
[22,6502,24,6508,14,6511,null,null,null,null,0,221]
[11,6616,11,6624,21,6638,null,null,null,null,0,112]
[22,6730,13,6738,23,6746,null,null,null,null,0,212]
[22,6857,13,6859,23,6869,null,null,null,null,0,212]
[11,6974,22,6979,23,6985,null,null,null,null,0,122]
[22,7086,13,7092,23,7099,null,null,null,null,0,212]
[11,7202,22,7205,14,7211,null,null,null,null,0,121]
[11,7304,22,7347,23,7352,null,null,null,null,0,122]
[11,7449,11,7463,21,7471,null,null,null,null,0,112]
[22,7564,13,7569,23,7577,null,null,null,null,0,212]
[22,7675,13,7679,23,7685,null,null,null,null,0,212]
[11,7781,22,7790,23,7801,null,null,null,null,0,122]
[22,7903,24,7908,23,7914,null,null,null,null,0,222]
[11,8008,22,8011,14,8014,null,null,null,null,0,121]
[22,8109,24,8121,14,8123,null,null,null,null,0,221]
[22,8221,13,8226,23,8238,null,null,null,null,0,212]
[11,8333,22,8335,23,8337,null,null,null,null,0,122]
[11,8431,22,8435,14,8438,null,null,null,null,0,121]
[11,8539,11,8545,21,8554,null,null,null,null,0,112]
[22,8641,24,8648,23,8654,null,null,null,null,0,222]
[22,8765,24,8771,23,8777,null,null,null,null,0,222]
[22,8876,24,8880,14,8890,null,null,null,null,0,221]
[22,8986,13,8993,23,9000,null,null,null,null,0,212]
[22,9098,13,9101,23,9110,null,null,null,null,0,212]
[22,9218,24,9220,23,9224,null,null,null,null,0,222]
[11,9316,22,9328,14,9331,null,null,null,null,0,121]
[11,9425,22,9431,23,9434,null,null,null,null,0,122]
[22,9532,24,9535,23,9545,null,null,null,null,0,222]
[11,9652,22,9662,23,9668,null,null,null,null,0,122]
[11,9762,11,9772,21,9778,null,null,null,null,0,112]
[22,9879,13,9882,23,9892,null,null,null,null,0,212]
[11,9985,11,9999,21,10014,null,null,null,null,0,112]
[22,10101,13,10108,23,10114,null,null,null,null,0,212]
[11,10224,22,10236,23,10249,null,null,null,null,0,122]
[22,10361,13,10364,23,10366,null,null,null,null,0,212]
[22,10471,13,10474,23,10477,null,null,null,null,0,212]
[22,10576,13,10580,23,10589,null,null,null,null,0,212]
[22,10686,13,10690,23,10695,null,null,null,null,0,212]
[22,10792,13,10797,23,10802,null,null,null,null,0,212]
[22,10899,13,10901,23,10905,null,null,null,null,0,212]
[11,11011,11,11034,21,11043,null,null,null,null,0,112]
[22,11131,13,11137,23,11141,null,null,null,null,0,212]
[22,11239,13,11242,23,11252,null,null,null,null,0,212]
[22,11362,24,11366,23,11379,null,null,null,null,0,222]
[22,11477,24,11482,23,11487,null,null,null,null,0,222]
[22,11591,13,11594,23,11599,null,null,null,null,0,212]
[11,11702,22,11711,23,11716,null,null,null,null,0,122]
[11,11820,22,11826,23,11832,null,null,null,null,0,122]
[11,11934,11,11940,21,11947,null,null,null,null,0,112]
[22,12035,13,12039,23,12047,null,null,null,null,0,212]
[22,12145,13,12151,23,12158,null,null,null,null,0,212]
[11,12260,22,12266,23,12272,null,null,null,null,0,122]
[11,12367,22,12375,23,12381,null,null,null,null,0,122]
[11,12484,22,12486,23,12496,null,null,null,null,0,122]
[11,12590,11,12599,21,12604,null,null,null,null,0,112]
[22,12723,13,12731,23,12738,null,null,null,null,0,212]
[22,12838,13,12843,23,12851,null,null,null,null,0,212]
[22,12948,13,12952,23,12955,null,null,null,null,0,212]
[11,13058,22,13062,23,13067,null,null,null,null,0,122]
[22,13165,24,13170,23,13175,null,null,null,null,0,222]
[22,13274,24,13279,23,13286,null,null,null,null,0,222]
[22,13384,24,13389,14,13391,null,null,null,null,0,221]
[22,13626,24,13630,23,13634,null,null,null,null,0,222]
[11,13728,22,13734,14,13737,null,null,null,null,0,121]
[22,13838,13,13844,23,13846,null,null,null,null,0,212]
[22,13947,13,13952,23,13954,null,null,null,null,0,212]
[22,14060,24,14064,23,14074,null,null,null,null,0,222]
[22,14189,24,14196,23,14205,null,null,null,null,0,222]
[22,14356,24,14364,23,14370,null,null,null,null,0,222]
[11,14523,11,14531,21,14549,null,null,null,null,0,112]
[22,14640,24,14645,23,14696,null,null,null,null,0,222]
[22,14794,13,14797,23,14801,null,null,null,null,0,212]
[11,14893,11,14898,12,14908,null,null,null,null,0,111]
[11,15011,22,15017,23,15023,null,null,null,null,0,122]
[11,15125,11,15129,21,15145,null,null,null,null,0,112]
[22,15376,13,15382,23,15392,null,null,null,null,0,212]
[11,15487,22,15490,23,15496,null,null,null,null,0,122]
[11,15595,11,15600,21,15605,null,null,null,null,0,112]
[22,15709,13,15718,23,15724,null,null,null,null,0,212]
[11,15827,22,15835,23,15842,null,null,null,null,0,122]
[22,15937,24,15941,14,15944,null,null,null,null,0,221]
[22,16045,13,16051,23,16057,null,null,null,null,0,212]
[11,16158,22,16161,23,16176,null,null,null,null,0,122]
[11,16277,22,16294,23,16299,null,null,null,null,0,122]
[11,16402,22,16415,23,16420,null,null,null,null,0,122]
[22,16526,24,16531,23,16537,null,null,null,null,0,222]
[11,16654,11,16658,21,16672,null,null,null,null,0,112]
[22,16780,24,16785,23,16788,null,null,null,null,0,222]
[22,16894,13,16898,23,16909,null,null,null,null,0,212]
[11,17007,22,17029,23,17035,null,null,null,null,0,122]
[11,17138,22,17146,23,17156,null,null,null,null,0,122]
[11,17270,11,17273,12,17276,null,null,null,null,0,111]
[22,17366,13,17368,23,17370,null,null,null,null,0,212]
[11,17469,22,17481,23,17487,null,null,null,null,0,122]
[22,17586,13,17589,23,17595,null,null,null,null,0,212]
[22,17687,13,17702,23,17707,null,null,null,null,0,212]
[11,17814,22,17824,23,17830,null,null,null,null,0,122]
[22,17931,13,17936,23,17941,null,null,null,null,0,212]
[11,18047,22,18052,23,18057,null,null,null,null,0,122]
[11,18167,11,18172,21,18178,null,null,null,null,0,112]
[22,18287,13,18296,23,18303,null,null,null,null,0,212]
[11,18401,22,18409,14,18422,null,null,null,null,0,121]
[11,18525,11,18536,21,18541,null,null,null,null,0,112]
[22,18637,13,18643,23,18650,null,null,null,null,0,212]
[11,18744,11,18752,21,18755,null,null,null,null,0,112]
[22,18923,13,18932,23,18939,null,null,null,null,0,212]
[11,19050,22,19058,23,19067,null,null,null,null,0,122]
[11,19164,11,19167,12,19172,null,null,null,null,0,111]
[11,19282,22,19291,14,19304,null,null,null,null,0,121]
[22,19403,13,19409,23,19414,null,null,null,null,0,212]
[11,19525,22,19527,23,19534,null,null,null,null,0,122]
[22,19631,24,19637,14,19641,null,null,null,null,0,221]
[11,19732,11,19748,12,19755,null,null,null,null,0,111]
[22,19857,13,19861,23,19868,null,null,null,null,0,212]
[11,19970,22,19990,23,19996,null,null,null,null,0,122]
[11,20091,22,20096,23,20101,null,null,null,null,0,122]
[11,20199,22,20214,23,20220,null,null,null,null,0,122]
[22,20320,13,20326,23,20331,null,null,null,null,0,212]
[11,20424,22,20432,14,20435,null,null,null,null,0,121]
[22,20577,13,20584,23,20592,null,null,null,null,0,212]
[11,20708,22,20715,23,20721,null,null,null,null,0,122]
[11,20820,22,20824,14,20832,null,null,null,null,0,121]
[11,20937,22,20948,23,20954,null,null,null,null,0,122]
[11,21056,22,21065,23,21074,null,null,null,null,0,122]
[11,21173,11,21187,21,21195,null,null,null,null,0,112]
[22,21394,13,21403,23,21409,null,null,null,null,0,212]
[22,21513,24,21521,23,21531,null,null,null,null,0,222]
[11,21629,22,21639,23,21644,null,null,null,null,0,122]
[11,21746,11,21751,21,21758,null,null,null,null,0,112]
[22,21850,13,21856,23,21862,null,null,null,null,0,212]
[11,21967,11,21977,21,21983,null,null,null,null,0,112]
[22,22206,13,22215,23,22231,null,null,null,null,0,212]
[22,22333,13,22338,23,22345,null,null,null,null,0,212]
[11,22440,11,22446,21,22456,null,null,null,null,0,112]
[22,22617,13,22622,23,22628,null,null,null,null,0,212]
[11,22724,22,22729,23,22736,null,null,null,null,0,122]
[11,22830,22,22834,23,22839,null,null,null,null,0,122]
[11,22933,22,22938,23,22943,null,null,null,null,0,122]
[22,23046,24,23050,14,23053,null,null,null,null,0,221]
[22,23156,24,23166,23,23179,null,null,null,null,0,222]
[11,23276,22,23286,23,23294,null,null,null,null,0,122]
[11,23393,22,23397,23,23403,null,null,null,null,0,122]
[22,23503,13,23507,23,23516,null,null,null,null,0,212]
[22,23618,24,23626,23,23633,null,null,null,null,0,222]
[11,23737,22,23750,23,23758,null,null,null,null,0,122]
[11,23855,11,23864,21,23870,null,null,null,null,0,112]
[22,23982,24,23987,23,23999,null,null,null,null,null,222]

{"sheet":"!MC30940.Gus","index":6,"n_rows":189,"n_cols":48,"rows_kept":189,"cut":false,"hidden":false,"merged":[[1,1,1,2],[5,13,5,14],[18,13,18,14],[19,13,19,14],[4,19,4,22],[5,19,5,20],[4,39,4,42],[5,39,5,40],[4,44,4,47],[5,44,5,45],[4,24,4,27],[5,24,5,25],[4,29,4,32],[5,29,5,30],[4,34,4,37],[5,34,5,35]]}
["Report for:!MC30940.Gus"]
["Date:","<date>"]
["Hen:","<hen>",null,null,null,"Correct Sequence",{"$f":"Start!J2","v":112},null,null,null,null,null,null,null,null,"Total Sequences in Data",{"$f":"4994-COUNTBLANK(L7:L5000)","v":183},null,null,null,null,"Total Sequences in Block Data",{"$f":"COUNTA(L7:L37)","v":31},null,null,null,"Total Sequences in Block Data",{"$f":"COUNTA(L38:L67)","v":30},null,null,null,"Total Sequences in Block Data",{"$f":"COUNTA(L68:L98)","v":31},null,null,null,"Total Sequences in Block Data",{"$f":"COUNTA(L99:L128)","v":30},null,null,null,"Total Sequences in Block Data",{"$f":"COUNTA(L129:L159)","v":31},null,null,null,"Total Sequences in Block Data",{"$f":"COUNTA(L160:L189)","v":30}]
[null,null,null,null,null,null,null,null,null,null,null,null,null,null,null,"Total Sequences in Summary",{"$f":"SUM(O7:O14)","v":183},null,null,null,null,"Total Sequences in Block Summary",{"$f":"SUM(U7:U14)","v":31},null,null,null,"Total Sequences in Block Summary",{"$f":"SUM(Z7:Z14)","v":30},null,null,null,"Total Sequences in Block Summary",{"$f":"SUM(AE7:AE14)","v":31},null,null,null,"Total Sequences in Block Summary",{"$f":"SUM(AJ7:AJ14)","v":30},null,null,null,"Total Sequences in Block Summary",{"$f":"SUM(AO7:AO14)","v":31},null,null,null,"Total Sequences in Block Summary",{"$f":"SUM(AT7:AT14)","v":30}]
[null,null,null,null,null,null,null,null,null,null,null,null,null,null,null,null,null,null,null,"Block 1",null,null,null,null,"Block 2",null,null,null,null,"Block 3",null,null,null,null,"Block 4",null,null,null,null,"Block 5",null,null,null,null,"Block 6"]
["Sequence\nComponent\n1","Time\n1","Sequence\nComponent\n2","Time\n2","Sequence\nComponent\n3","Time\n3","Sequence\nComponent\n4","Time\n4","Sequence\nComponent\n5","Time\n5","Correct?\n0=No 1=Yes","Sequence",null,"Frequency",null,"Relative Frequency","Variability",null,null,"Frequency",null,"Relative Frequency","Variability",null,"Frequency",null,"Relative Frequency","Variability",null,"Frequency",null,"Relative Frequency","Variability",null,"Frequency",null,"Relative Frequency","Variability",null,"Frequency",null,"Relative Frequency","Variability",null,"Frequency",null,"Relative Frequency","Variability"]
[22,24,24,30,23,38,null,null,null,null,0,222,null,111,{"$f":"COUNTIF($L$7:$L$500,N7)","v":18},{"$f":"O7/$Q$4","v":9.8360655737704916E-2},{"$f":"IF(P7=0,0,(P7*((LOG(P7))/LOG(2))))","v":-0.32909260690246528},null,null,{"$f":"N7","v":111},{"$f":"COUNTIF(L7:L37,T7)","v":0},{"$f":"U7/(W4-U8)","v":0},{"$f":"IF(V7=0,0,(V7*((LOG(V7))/LOG(2))))","v":0},null,{"$f":"N7","v":111},{"$f":"COUNTIF(L38:L67,Y7)","v":0},{"$f":"Z7/(AB4-Z8)","v":0},{"$f":"IF(AA7=0,0,(AA7*((LOG(AA7))/LOG(2))))","v":0},null,{"$f":"N7","v":111},{"$f":"COUNTIF(L68:L98,AD7)","v":3},{"$f":"AE7/(AG4-AE8)","v":0.10344827586206896},{"$f":"IF(AF7=0,0,(AF7*((LOG(AF7))/LOG(2))))","v":-0.33858812011100858},null,{"$f":"N7","v":111},{"$f":"COUNTIF(L99:L128,AI7)","v":0},{"$f":"AJ7/(AL4-AJ8)","v":0},{"$f":"IF(AK7=0,0,(AK7*((LOG(AK7))/LOG(2))))","v":0},null,{"$f":"N7","v":111},{"$f":"COUNTIF(L129:L159,AN7)","v":4},{"$f":"AO7/(AQ4-AO8)","v":0.16},{"$f":"IF(AP7=0,0,(AP7*((LOG(AP7))/LOG(2))))","v":-0.42301699036395596},null,{"$f":"N7","v":111},{"$f":"COUNTIF(L160:L189,AS7)","v":11},{"$f":"AT7/(AV4-AT8)","v":0.42307692307692307},{"$f":"IF(AU7=0,0,(AU7*((LOG(AU7))/LOG(2))))","v":-0.52504188825160547}]
[11,141,22,155,23,167,null,null,null,null,0,122,null,112,21,0.11475409836065574,-0.35842093292683563,null,null,112,{"$f":"COUNTIF(L7:L37,T8)","v":2},null,null,null,112,{"$f":"COUNTIF(L38:L67,Y8)","v":4},null,null,null,112,{"$f":"COUNTIF(L68:L98,AD8)","v":2},null,null,null,112,{"$f":"COUNTIF(L99:L128,AI8)","v":3},null,null,null,112,{"$f":"COUNTIF(L129:L159,AN8)","v":6},null,null,null,112,{"$f":"COUNTIF(L160:L189,AS8)","v":4}]
[11,262,22,269,14,271,null,null,null,null,0,121,null,121,18,9.8360655737704916E-2,-0.32909260690246528,null,null,121,{"$f":"COUNTIF(L7:L37,T9)","v":6},{"$f":"U9/(W4-U8)","v":0.20689655172413793},{"$f":"IF(V9=0,0,(V9*((LOG(V9))/LOG(2))))","v":-0.4702796884978791},null,121,{"$f":"COUNTIF(L38:L67,Y9)","v":2},{"$f":"Z9/(AB4-Z8)","v":7.6923076923076927E-2},{"$f":"IF(AA9=0,0,(AA9*((LOG(AA9))/LOG(2))))","v":-0.28464920908777636},null,121,{"$f":"COUNTIF(L68:L98,AD9)","v":3},{"$f":"AE9/(AG4-AE8)","v":0.10344827586206896},{"$f":"IF(AF9=0,0,(AF9*((LOG(AF9))/LOG(2))))","v":-0.33858812011100858},null,121,{"$f":"COUNTIF(L99:L128,AI9)","v":5},{"$f":"AJ9/(AL4-AJ8)","v":0.18518518518518517},{"$f":"IF(AK9=0,0,(AK9*((LOG(AK9))/LOG(2))))","v":-0.45054803838446406},null,121,{"$f":"COUNTIF(L129:L159,AN9)","v":1},{"$f":"AO9/(AQ4-AO8)","v":0.04},{"$f":"IF(AP9=0,0,(AP9*((LOG(AP9))/LOG(2))))","v":-0.18575424759098899},null,121,{"$f":"COUNTIF(L160:L189,AS9)","v":1},{"$f":"AT9/(AV4-AT8)","v":3.8461538461538464E-2},{"$f":"IF(AU9=0,0,(AU9*((LOG(AU9))/LOG(2))))","v":-0.18078614300542661}]
[22,372,13,376,23,382,null,null,null,null,0,212,null,122,59,0.32240437158469948,-0.52650464779458939,null,null,122,{"$f":"COUNTIF(L7:L37,T10)","v":11},{"$f":"U10/(W4-U8)","v":0.37931034482758619},-0.53048424625493174,null,122,{"$f":"COUNTIF(L38:L67,Y10)","v":9},{"$f":"Z10/(AB4-Z8)","v":0.34615384615384615},-0.52979355578034681,null,122,{"$f":"COUNTIF(L68:L98,AD10)","v":10},{"$f":"AE10/(AG4-AE8)","v":0.34482758620689657},-0.52967341387593436,null,122,{"$f":"COUNTIF(L99:L128,AI10)","v":7},{"$f":"AJ10/(AL4-AJ8)","v":0.25925925925925924},-0.5049158541015204,null,122,{"$f":"COUNTIF(L129:L159,AN10)","v":11},{"$f":"AO10/(AQ4-AO8)","v":0.44},-0.52114681130046814,null,122,{"$f":"COUNTIF(L160:L189,AS10)","v":11},{"$f":"AT10/(AV4-AT8)","v":0.42307692307692307},-0.52504188825160547]
[11,491,22,493,23,497,null,null,null,null,0,122,null,211,0,0,0,null,null,211,{"$f":"COUNTIF(L7:L37,T11)","v":0},{"$f":"U11/(W4-U8)","v":0},0,null,211,{"$f":"COUNTIF(L38:L67,Y11)","v":0},{"$f":"Z11/(AB4-Z8)","v":0},0,null,211,{"$f":"COUNTIF(L68:L98,AD11)","v":0},{"$f":"AE11/(AG4-AE8)","v":0},0,null,211,{"$f":"COUNTIF(L99:L128,AI11)","v":0},{"$f":"AJ11/(AL4-AJ8)","v":0},0,null,211,{"$f":"COUNTIF(L129:L159,AN11)","v":0},{"$f":"AO11/(AQ4-AO8)","v":0},0,null,211,{"$f":"COUNTIF(L160:L189,AS11)","v":0},{"$f":"AT11/(AV4-AT8)","v":0},0]
[22,601,13,603,23,607,null,null,null,null,0,212,null,212,39,0.21311475409836064,-0.47530932872923476,null,null,212,{"$f":"COUNTIF(L7:L37,T12)","v":6},{"$f":"U12/(W4-U8)","v":0.20689655172413793},-0.4702796884978791,null,212,{"$f":"COUNTIF(L38:L67,Y12)","v":9},{"$f":"Z12/(AB4-Z8)","v":0.34615384615384615},-0.52979355578034681,null,212,{"$f":"COUNTIF(L68:L98,AD12)","v":9},{"$f":"AE12/(AG4-AE8)","v":0.31034482758620691},-0.52387944631611505,null,212,{"$f":"COUNTIF(L99:L128,AI12)","v":9},{"$f":"AJ12/(AL4-AJ8)","v":0.33333333333333331},-0.52832083357371862,null,212,{"$f":"COUNTIF(L129:L159,AN12)","v":6},{"$f":"AO12/(AQ4-AO8)","v":0.24},-0.49413448537285637,null,212,{"$f":"COUNTIF(L160:L189,AS12)","v":0},{"$f":"AT12/(AV4-AT8)","v":0},0]
[22,706,13,708,23,722,null,null,null,null,0,212,null,221,7,3.825136612021858E-2,-0.18010062521084735,null,null,221,{"$f":"COUNTIF(L7:L37,T13)","v":1},{"$f":"U13/(W4-U8)","v":3.4482758620689655E-2},-0.16751658603888178,null,221,{"$f":"COUNTIF(L38:L67,Y13)","v":0},{"$f":"Z13/(AB4-Z8)","v":0},0,null,221,{"$f":"COUNTIF(L68:L98,AD13)","v":1},{"$f":"AE13/(AG4-AE8)","v":3.4482758620689655E-2},-0.16751658603888178,null,221,{"$f":"COUNTIF(L99:L128,AI13)","v":2},{"$f":"AJ13/(AL4-AJ8)","v":7.407407407407407E-2},-0.27813981497507173,null,221,{"$f":"COUNTIF(L129:L159,AN13)","v":1},{"$f":"AO13/(AQ4-AO8)","v":0.04},-0.18575424759098899,null,221,{"$f":"COUNTIF(L160:L189,AS13)","v":2},{"$f":"AT13/(AV4-AT8)","v":7.6923076923076927E-2},-0.28464920908777636]
[22,821,24,826,23,838,null,null,null,null,0,222,null,222,21,0.11475409836065574,-0.35842093292683563,null,null,222,{"$f":"COUNTIF(L7:L37,T14)","v":5},{"$f":"U14/(W4-U8)","v":0.17241379310344829},-0.43725050004141547,null,222,{"$f":"COUNTIF(L38:L67,Y14)","v":6},{"$f":"Z14/(AB4-Z8)","v":0.23076923076923078},-0.48818705017383146,null,222,{"$f":"COUNTIF(L68:L98,AD14)","v":3},{"$f":"AE14/(AG4-AE8)","v":0.10344827586206896},-0.33858812011100858,null,222,{"$f":"COUNTIF(L99:L128,AI14)","v":4},{"$f":"AJ14/(AL4-AJ8)","v":0.14814814814814814},-0.40813148180199532,null,222,{"$f":"COUNTIF(L129:L159,AN14)","v":2},{"$f":"AO14/(AQ4-AO8)","v":0.08},-0.29150849518197797,null,222,{"$f":"COUNTIF(L160:L189,AS14)","v":1},{"$f":"AT14/(AV4-AT8)","v":3.8461538461538464E-2},-0.18078614300542661]
[11,931,11,942,21,944,null,null,null,null,0,112,null,null,null,{"$f":"SUM(P7:P14)","v":1},{"$f":"-SUM(Q7:Q14)","v":2.5569416813932735},null,null,null,null,{"$f":"SUM(V7:V14)","v":0.99999999999999989},{"$f":"-SUM(W7:W14)","v":2.075810709330987},null,null,null,{"$f":"SUM(AA7:AA14)","v":1},{"$f":"-SUM(AB7:AB14)","v":1.8324233708223014},null,null,null,{"$f":"SUM(AF7:AF14)","v":0.99999999999999989},{"$f":"-SUM(AG7:AG14)","v":2.2368338065639568},null,null,null,{"$f":"SUM(AK7:AK14)","v":0.99999999999999989},{"$f":"-SUM(AL7:AL14)","v":2.17005602283677},null,null,null,{"$f":"SUM(AP7:AP14)","v":1},{"$f":"-SUM(AQ7:AQ14)","v":2.1013152774012367},null,null,null,{"$f":"SUM(AU7:AU14)","v":0.99999999999999989},{"$f":"-SUM(AV7:AV14)","v":1.6963052716018403}]
[22,1033,24,1039,23,1047,null,null,null,null,0,222,null,null,null,"U=",{"$f":"Q15/(LOG(Q4)/LOG(2))","v":0.34021338483590446},null,null,null,null,"U1=",{"$f":"W15/(LOG(W4)/LOG(2))","v":0.41900049559580055},null,null,null,"U2=",{"$f":"AB15/(LOG(AB4)/LOG(2))","v":0.37343880714647498},null,null,null,"U3=",{"$f":"AG15/(LOG(AG4)/LOG(2))","v":0.45150286069089612},null,null,null,"U4=",{"$f":"AL15/(LOG(AL4)/LOG(2))","v":0.44224666936305612},null,null,null,"U5=",{"$f":"AQ15/(LOG(AQ4)/LOG(2))","v":0.42414856936445139},null,null,null,"U6=",{"$f":"AV15/(LOG(AV4)/LOG(2))","v":0.34569861270597091}]
[22,1146,13,1151,23,1164,null,null,null,null,0,212]
[11,1275,22,1280,23,1286,null,null,null,null,0,122]
[22,1386,13,1390,23,1395,null,null,null,null,0,212,null,"Total Target Seq"]
[11,1495,11,1499,21,1507,null,null,null,null,0,112,null,{"$f":"COUNTIF(L7:L189,G3)","v":21},null,31,30,31,30,31,30]
[11,1605,22,1607,23,1614,null,null,null,null,0,122,null,null,null,"% of reinforcement given in 6 equal intervals based on number of trials "]
[11,1720,22,1726,23,1731,null,null,null,null,0,122,null,null,null,"%_1","%_2","%_3","%_4","%_5","%_6"]
[22,1920,24,1927,23,1962,null,null,null,null,0,222,null,null,"target sequence",{"$f":"$G$3","v":112},112,112,112,112,112]
[11,2063,22,2073,14,2079,null,null,null,null,0,121,null,null,"total reinforcement",{"$f":"U8","v":2},{"$f":"Z8","v":4},{"$f":"AE8","v":2},{"$f":"AJ8","v":3},{"$f":"AO8","v":6},{"$f":"AT8","v":4}]
[11,2186,22,2190,23,2197,null,null,null,null,0,122,null,null,"% target"]
[11,2297,22,2307,23,2313,null,null,null,null,0,122,null,null,"CCRF"]
[11,2416,22,2421,14,2427,null,null,null,null,0,121,null,null,"% CCRf"]
[11,2546,22,2559,23,2565,null,null,null,null,0,122,null,null,"average response rate",{"$f":"F37/P20","v":116.12903225806451},{"$f":"(F67-F37)/Q20","v":113.13333333333334},{"$f":"(F98-F67)/R20","v":114.38709677419355},{"$f":"(F128-F98)/S20","v":115.36666666666666},{"$f":"(F159-F128)/T20","v":122.64516129032258},{"$f":"(F189-F159)/U20","v":200.8}]
[22,2662,13,2666,23,2681,null,null,null,null,0,212]
[11,2776,22,2787,14,2794,null,null,null,null,0,121]
[11,2905,22,2916,23,2924,null,null,null,null,0,122]
[11,3026,22,3028,23,3036,null,null,null,null,0,122]
[11,3141,22,3149,14,3153,null,null,null,null,0,121]
[22,3247,24,3258,14,3262,null,null,null,null,0,221]
[11,3356,22,3360,14,3365,null,null,null,null,0,121]
[11,3466,22,3479,23,3485,null,null,null,null,0,122]
[22,3589,24,3593,23,3600,null,null,null,null,0,222]
[22,3710,24,3714,23,3718,null,null,null,null,0,222]
[11,3812,22,3817,23,3827,null,null,null,null,0,122]
[22,3926,13,3931,23,3933,null,null,null,null,0,212]
[11,4030,22,4033,14,4037,null,null,null,null,0,121]
[22,4129,24,4136,23,4141,null,null,null,null,0,222]
[11,4234,22,4240,23,4249,null,null,null,null,0,122]
[11,4346,11,4354,21,4361,null,null,null,null,0,112]
[22,4449,13,4453,23,4459,null,null,null,null,0,212]
[22,4557,13,4560,23,4566,null,null,null,null,0,212]
[11,4668,11,4678,21,4682,null,null,null,null,0,112]
[22,4787,24,4790,23,4798,null,null,null,null,0,222]
[22,4893,24,4902,23,4908,null,null,null,null,0,222]
[11,5015,22,5025,23,5037,null,null,null,null,0,122]
[11,5141,11,5147,21,5159,null,null,null,null,0,112]
[22,5305,13,5309,23,5316,null,null,null,null,0,212]
[22,5422,24,5427,23,5439,null,null,null,null,0,222]
[22,5543,13,5546,23,5549,null,null,null,null,0,212]
[22,5651,24,5653,23,5663,null,null,null,null,0,222]
[11,5766,22,5768,23,5777,null,null,null,null,0,122]
[11,5874,22,5880,23,5885,null,null,null,null,0,122]
[11,5991,22,6003,23,6009,null,null,null,null,0,122]
[11,6104,22,6108,14,6113,null,null,null,null,0,121]
[22,6211,13,6215,23,6227,null,null,null,null,0,212]
[11,6321,11,6333,21,6336,null,null,null,null,0,112]
[11,6428,22,6433,23,6444,null,null,null,null,0,122]
[22,6545,13,6556,23,6561,null,null,null,null,0,212]
[11,6665,22,6672,23,6679,null,null,null,null,0,122]
[11,6774,22,6783,23,6786,null,null,null,null,0,122]
[22,6883,13,6885,23,6891,null,null,null,null,0,212]
[22,6987,13,6990,23,6994,null,null,null,null,0,212]
[22,7093,13,7096,23,7098,null,null,null,null,0,212]
[11,7192,22,7195,23,7199,null,null,null,null,0,122]
[22,7299,24,7305,23,7315,null,null,null,null,0,222]
[11,7431,22,7437,23,7444,null,null,null,null,0,122]
[11,7538,22,7552,23,7559,null,null,null,null,0,122]
[11,7660,11,7666,12,7668,null,null,null,null,0,111]
[11,7764,11,7767,12,7772,null,null,null,null,0,111]
[11,7882,22,7892,23,7904,null,null,null,null,0,122]
[22,8005,13,8008,23,8011,null,null,null,null,0,212]
[22,8114,13,8117,23,8121,null,null,null,null,0,212]
[22,8239,24,8244,23,8251,null,null,null,null,0,222]
[22,8350,24,8356,14,8362,null,null,null,null,0,221]
[11,8465,22,8472,23,8478,null,null,null,null,0,122]
[11,8570,11,8581,21,8585,null,null,null,null,0,112]
[22,8678,13,8685,23,8692,null,null,null,null,0,212]
[11,8804,22,8808,23,8814,null,null,null,null,0,122]
[11,8916,22,8921,23,8930,null,null,null,null,0,122]
[11,9022,22,9032,14,9035,null,null,null,null,0,121]
[11,9130,22,9135,23,9145,null,null,null,null,0,122]
[22,9244,13,9248,23,9250,null,null,null,null,0,212]
[11,9344,22,9349,23,9355,null,null,null,null,0,122]
[11,9455,11,9465,21,9469,null,null,null,null,0,112]
[22,9620,13,9627,23,9635,null,null,null,null,0,212]
[22,9741,13,9745,23,9747,null,null,null,null,0,212]
[11,9842,22,9859,14,9862,null,null,null,null,0,121]
[11,9954,22,9969,14,9974,null,null,null,null,0,121]
[11,10075,22,10083,23,10088,null,null,null,null,0,122]
[22,10182,24,10191,23,10197,null,null,null,null,0,222]
[11,10289,11,10297,12,10312,null,null,null,null,0,111]
[22,10420,13,10423,23,10433,null,null,null,null,0,212]
[22,10532,13,10535,23,10540,null,null,null,null,0,212]
[11,10636,22,10642,23,10647,null,null,null,null,0,122]
[22,10739,24,10750,14,10755,null,null,null,null,0,221]
[22,10863,13,10869,23,10883,null,null,null,null,0,212]
[11,10983,11,10988,21,11004,null,null,null,null,0,112]
[22,11126,24,11141,23,11152,null,null,null,null,0,222]
[11,11245,22,11252,14,11258,null,null,null,null,0,121]
[11,11351,22,11356,23,11361,null,null,null,null,0,122]
[22,11461,24,11466,23,11472,null,null,null,null,0,222]
[11,11571,22,11585,23,11590,null,null,null,null,0,122]
[11,11689,11,11691,21,11699,null,null,null,null,0,112]
[22,11797,13,11805,23,11813,null,null,null,null,0,212]
[11,11916,22,11922,14,11925,null,null,null,null,0,121]
[22,12023,13,12025,23,12032,null,null,null,null,0,212]
[22,12132,13,12137,23,12141,null,null,null,null,0,212]
[11,12251,22,12254,23,12258,null,null,null,null,0,122]
[11,12357,11,12368,21,12374,null,null,null,null,0,112]
[22,12477,13,12491,23,12498,null,null,null,null,0,212]
[22,12608,24,12616,23,12624,null,null,null,null,0,222]
[22,12731,13,12733,23,12740,null,null,null,null,0,212]
[11,12845,22,12859,23,12865,null,null,null,null,0,122]
[22,12967,13,12970,23,12976,null,null,null,null,0,212]
[22,13074,24,13079,14,13081,null,null,null,null,0,221]
[22,13205,13,13214,23,13220,null,null,null,null,0,212]
[11,13314,22,13318,14,13328,null,null,null,null,0,121]
[11,13427,22,13432,14,13434,null,null,null,null,0,121]
[11,13526,22,13534,14,13539,null,null,null,null,0,121]
[22,13647,13,13650,23,13653,null,null,null,null,0,212]
[11,13752,22,13766,23,13774,null,null,null,null,0,122]
[11,13872,22,13881,23,13885,null,null,null,null,0,122]
[22,13987,24,13991,23,14001,null,null,null,null,0,222]
[22,14098,13,14101,23,14106,null,null,null,null,0,212]
[22,14210,24,14214,23,14220,null,null,null,null,0,222]
[22,14325,13,14329,23,14331,null,null,null,null,0,212]
[11,14443,11,14446,12,14453,null,null,null,null,0,111]
[22,14565,24,14572,14,14577,null,null,null,null,0,221]
[22,14709,24,14716,23,14724,null,null,null,null,0,222]
[22,14823,13,14826,23,14836,null,null,null,null,0,212]
[11,14929,22,14936,23,14941,null,null,null,null,0,122]
[11,15045,22,15050,23,15060,null,null,null,null,0,122]
[11,15163,22,15170,23,15172,null,null,null,null,0,122]
[11,15264,22,15280,23,15289,null,null,null,null,0,122]
[11,15392,11,15400,21,15403,null,null,null,null,0,112]
[22,15514,13,15521,23,15535,null,null,null,null,0,212]
[11,15630,22,15634,23,15644,null,null,null,null,0,122]
[11,15737,22,15741,14,15746,null,null,null,null,0,121]
[11,15852,22,15855,23,15862,null,null,null,null,0,122]
[11,15962,22,15970,23,15975,null,null,null,null,0,122]
[11,16080,11,16088,21,16094,null,null,null,null,0,112]
[11,16189,22,16195,23,16208,null,null,null,null,0,122]
[11,16303,22,16314,23,16317,null,null,null,null,0,122]
[22,16432,13,16435,23,16439,null,null,null,null,0,212]
[11,16586,11,16604,21,16606,null,null,null,null,0,112]
[22,16731,13,16737,23,16744,null,null,null,null,0,212]
[11,16851,11,16855,21,16862,null,null,null,null,0,112]
[11,17031,11,17047,21,17073,null,null,null,null,0,112]
[11,17178,11,17183,12,17187,null,null,null,null,0,111]
[11,17289,11,17291,12,17297,null,null,null,null,0,111]
[11,17397,22,17409,23,17414,null,null,null,null,0,122]
[11,17510,11,17513,12,17516,null,null,null,null,0,111]
[11,17645,11,17667,21,17686,null,null,null,null,0,112]
[11,17785,22,17801,23,17803,null,null,null,null,0,122]
[11,17913,11,17917,12,17927,null,null,null,null,0,111]
[11,18029,22,18032,23,18043,null,null,null,null,0,122]
[11,18148,22,18153,23,18158,null,null,null,null,0,122]
[11,18302,22,18304,23,18312,null,null,null,null,0,122]
[11,18435,11,18439,12,18442,null,null,null,null,0,111]
[11,18670,11,18678,12,18684,null,null,null,null,0,111]
[11,18912,22,18926,23,18931,null,null,null,null,0,122]
[22,19035,24,19039,14,19043,null,null,null,null,0,221]
[11,19138,22,19144,23,19158,null,null,null,null,0,122]
[11,19301,11,19307,21,19320,null,null,null,null,0,112]
[11,19412,11,19424,12,19431,null,null,null,null,0,111]
[11,19551,22,19557,23,19564,null,null,null,null,0,122]
[11,19753,11,19766,21,19771,null,null,null,null,0,112]
[11,19865,11,19889,21,19894,null,null,null,null,0,112]
[22,20014,24,20020,14,20026,null,null,null,null,0,221]
[11,20192,11,20198,12,20209,null,null,null,null,0,111]
[11,20355,11,20361,12,20368,null,null,null,null,0,111]
[11,20740,11,20746,12,20752,null,null,null,null,0,111]
[22,22087,24,22094,23,22100,null,null,null,null,0,222]
[11,22196,22,22212,14,22216,null,null,null,null,0,121]
[11,22323,22,22333,23,22340,null,null,null,null,0,122]
[11,22440,11,22447,12,22469,null,null,null,null,0,111]
[11,22629,11,22639,21,22649,null,null,null,null,0,112]
[11,22742,22,22749,23,22758,null,null,null,null,0,122]
[11,22863,22,22871,23,22885,null,null,null,null,0,122]
[11,22991,22,23010,23,23013,null,null,null,null,0,122]
[11,23255,22,23264,23,23271,null,null,null,null,0,122]
[11,23390,11,23393,12,23398,null,null,null,null,0,111]
[11,23572,11,23578,12,23586,null,null,null,null,0,111]
[11,23817,11,23820,12,23827,null,null,null,null,0,111]

{"sheet":"!MC31A00.Gus","index":7,"n_rows":28,"n_cols":48,"rows_kept":28,"cut":false,"hidden":false,"merged":[[1,1,1,2],[5,13,5,14],[18,13,18,14],[19,13,19,14],[4,19,4,22],[5,19,5,20],[4,39,4,42],[5,39,5,40],[4,44,4,47],[5,44,5,45],[4,24,4,27],[5,24,5,25],[4,29,4,32],[5,29,5,30],[4,34,4,37],[5,34,5,35]]}
["Report for:!MC31A00.Gus"]
["Date:","<date>"]
["Hen:","<hen>",null,null,null,"Correct Sequence",{"$f":"Start!J2","v":112},null,null,null,null,null,null,null,null,"Total Sequences in Data",{"$f":"4994-COUNTBLANK(L7:L5000)","v":17},null,null,null,null,"Total Sequences in Block Data",{"$f":"COUNTA(L7:L9)","v":3},null,null,null,"Total Sequences in Block Data",{"$f":"COUNTA(L10:L12)","v":3},null,null,null,"Total Sequences in Block Data",{"$f":"COUNTA(L13:L14)","v":2},null,null,null,"Total Sequences in Block Data",{"$f":"COUNTA(L15:L17)","v":3},null,null,null,"Total Sequences in Block Data",{"$f":"COUNTA(L18:L20)","v":3},null,null,null,"Total Sequences in Block Data",{"$f":"COUNTA(L21:L23)","v":3}]
[null,null,null,null,null,null,null,null,null,null,null,null,null,null,null,"Total Sequences in Summary",{"$f":"SUM(O7:O14)","v":17},null,null,null,null,"Total Sequences in Block Summary",{"$f":"SUM(U7:U14)","v":3},null,null,null,"Total Sequences in Block Summary",{"$f":"SUM(Z7:Z14)","v":3},null,null,null,"Total Sequences in Block Summary",{"$f":"SUM(AE7:AE14)","v":2},null,null,null,"Total Sequences in Block Summary",{"$f":"SUM(AJ7:AJ14)","v":3},null,null,null,"Total Sequences in Block Summary",{"$f":"SUM(AO7:AO14)","v":3},null,null,null,"Total Sequences in Block Summary",{"$f":"SUM(AT7:AT14)","v":3}]
[null,null,null,null,null,null,null,null,null,null,null,null,null,null,null,null,null,null,null,"Block 1",null,null,null,null,"Block 2",null,null,null,null,"Block 3",null,null,null,null,"Block 4",null,null,null,null,"Block 5",null,null,null,null,"Block 6"]
["Sequence\nComponent\n1","Time\n1","Sequence\nComponent\n2","Time\n2","Sequence\nComponent\n3","Time\n3","Sequence\nComponent\n4","Time\n4","Sequence\nComponent\n5","Time\n5","Correct?\n0=No 1=Yes","Sequence",null,"Frequency",null,"Relative Frequency","Variability",null,null,"Frequency",null,"Relative Frequency","Variability",null,"Frequency",null,"Relative Frequency","Variability",null,"Frequency",null,"Relative Frequency","Variability",null,"Frequency",null,"Relative Frequency","Variability",null,"Frequency",null,"Relative Frequency","Variability",null,"Frequency",null,"Relative Frequency","Variability"]
[11,3,11,4,12,7,null,null,null,null,0,111,null,111,{"$f":"COUNTIF($L$7:$L$500,N7)","v":15},{"$f":"O7/$Q$4","v":0.88235294117647056},{"$f":"IF(P7=0,0,(P7*((LOG(P7))/LOG(2))))","v":-0.1593284520369008},null,null,{"$f":"N7","v":111},{"$f":"COUNTIF(L7:L9,T7)","v":1},{"$f":"U7/(W4-U8)","v":0.33333333333333331},{"$f":"IF(V7=0,0,(V7*((LOG(V7))/LOG(2))))","v":-0.52832083357371862},null,{"$f":"N7","v":111},{"$f":"COUNTIF(L10:L12,Y7)","v":3},{"$f":"Z7/(AB4-Z8)","v":1},{"$f":"IF(AA7=0,0,(AA7*((LOG(AA7))/LOG(2))))","v":0},null,{"$f":"N7","v":111},{"$f":"COUNTIF(L13:L14,AD7)","v":2},{"$f":"AE7/(AG4-AE8)","v":1},{"$f":"IF(AF7=0,0,(AF7*((LOG(AF7))/LOG(2))))","v":0},null,{"$f":"N7","v":111},{"$f":"COUNTIF(L15:L17,AI7)","v":3},{"$f":"AJ7/(AL4-AJ8)","v":1},{"$f":"IF(AK7=0,0,(AK7*((LOG(AK7))/LOG(2))))","v":0},null,{"$f":"N7","v":111},{"$f":"COUNTIF(L18:L20,AN7)","v":3},{"$f":"AO7/(AQ4-AO8)","v":1},{"$f":"IF(AP7=0,0,(AP7*((LOG(AP7))/LOG(2))))","v":0},null,{"$f":"N7","v":111},{"$f":"COUNTIF(L21:L23,AS7)","v":3},{"$f":"AT7/(AV4-AT8)","v":1},{"$f":"IF(AU7=0,0,(AU7*((LOG(AU7))/LOG(2))))","v":0}]
[11,108,22,116,23,126,null,null,null,null,0,122,null,112,0,0,0,null,null,112,{"$f":"COUNTIF(L7:L9,T8)","v":0},null,null,null,112,{"$f":"COUNTIF(L10:L12,Y8)","v":0},null,null,null,112,{"$f":"COUNTIF(L13:L14,AD8)","v":0},null,null,null,112,{"$f":"COUNTIF(L15:L17,AI8)","v":0},null,null,null,112,{"$f":"COUNTIF(L18:L20,AN8)","v":0},null,null,null,112,{"$f":"COUNTIF(L21:L23,AS8)","v":0}]
[11,223,22,234,23,241,null,null,null,null,0,122,null,121,0,0,0,null,null,121,{"$f":"COUNTIF(L7:L9,T9)","v":0},{"$f":"U9/(W4-U8)","v":0},{"$f":"IF(V9=0,0,(V9*((LOG(V9))/LOG(2))))","v":0},null,121,{"$f":"COUNTIF(L10:L12,Y9)","v":0},{"$f":"Z9/(AB4-Z8)","v":0},{"$f":"IF(AA9=0,0,(AA9*((LOG(AA9))/LOG(2))))","v":0},null,121,{"$f":"COUNTIF(L13:L14,AD9)","v":0},{"$f":"AE9/(AG4-AE8)","v":0},{"$f":"IF(AF9=0,0,(AF9*((LOG(AF9))/LOG(2))))","v":0},null,121,{"$f":"COUNTIF(L15:L17,AI9)","v":0},{"$f":"AJ9/(AL4-AJ8)","v":0},{"$f":"IF(AK9=0,0,(AK9*((LOG(AK9))/LOG(2))))","v":0},null,121,{"$f":"COUNTIF(L18:L20,AN9)","v":0},{"$f":"AO9/(AQ4-AO8)","v":0},{"$f":"IF(AP9=0,0,(AP9*((LOG(AP9))/LOG(2))))","v":0},null,121,{"$f":"COUNTIF(L21:L23,AS9)","v":0},{"$f":"AT9/(AV4-AT8)","v":0},{"$f":"IF(AU9=0,0,(AU9*((LOG(AU9))/LOG(2))))","v":0}]
[11,348,11,350,12,351,null,null,null,null,0,111,null,122,2,0.11764705882352941,-0.36323092250003997,null,null,122,{"$f":"COUNTIF(L7:L9,T10)","v":2},{"$f":"U10/(W4-U8)","v":0.66666666666666663},-0.38997500048077083,null,122,{"$f":"COUNTIF(L10:L12,Y10)","v":0},{"$f":"Z10/(AB4-Z8)","v":0},0,null,122,{"$f":"COUNTIF(L13:L14,AD10)","v":0},{"$f":"AE10/(AG4-AE8)","v":0},0,null,122,{"$f":"COUNTIF(L15:L17,AI10)","v":0},{"$f":"AJ10/(AL4-AJ8)","v":0},0,null,122,{"$f":"COUNTIF(L18:L20,AN10)","v":0},{"$f":"AO10/(AQ4-AO8)","v":0},0,null,122,{"$f":"COUNTIF(L21:L23,AS10)","v":0},{"$f":"AT10/(AV4-AT8)","v":0},0]
[11,445,11,446,12,448,null,null,null,null,0,111,null,211,0,0,0,null,null,211,{"$f":"COUNTIF(L7:L9,T11)","v":0},{"$f":"U11/(W4-U8)","v":0},0,null,211,{"$f":"COUNTIF(L10:L12,Y11)","v":0},{"$f":"Z11/(AB4-Z8)","v":0},0,null,211,{"$f":"COUNTIF(L13:L14,AD11)","v":0},{"$f":"AE11/(AG4-AE8)","v":0},0,null,211,{"$f":"COUNTIF(L15:L17,AI11)","v":0},{"$f":"AJ11/(AL4-AJ8)","v":0},0,null,211,{"$f":"COUNTIF(L18:L20,AN11)","v":0},{"$f":"AO11/(AQ4-AO8)","v":0},0,null,211,{"$f":"COUNTIF(L21:L23,AS11)","v":0},{"$f":"AT11/(AV4-AT8)","v":0},0]
[11,555,11,560,12,564,null,null,null,null,0,111,null,212,0,0,0,null,null,212,{"$f":"COUNTIF(L7:L9,T12)","v":0},{"$f":"U12/(W4-U8)","v":0},0,null,212,{"$f":"COUNTIF(L10:L12,Y12)","v":0},{"$f":"Z12/(AB4-Z8)","v":0},0,null,212,{"$f":"COUNTIF(L13:L14,AD12)","v":0},{"$f":"AE12/(AG4-AE8)","v":0},0,null,212,{"$f":"COUNTIF(L15:L17,AI12)","v":0},{"$f":"AJ12/(AL4-AJ8)","v":0},0,null,212,{"$f":"COUNTIF(L18:L20,AN12)","v":0},{"$f":"AO12/(AQ4-AO8)","v":0},0,null,212,{"$f":"COUNTIF(L21:L23,AS12)","v":0},{"$f":"AT12/(AV4-AT8)","v":0},0]
[11,658,11,659,12,661,null,null,null,null,0,111,null,221,0,0,0,null,null,221,{"$f":"COUNTIF(L7:L9,T13)","v":0},{"$f":"U13/(W4-U8)","v":0},0,null,221,{"$f":"COUNTIF(L10:L12,Y13)","v":0},{"$f":"Z13/(AB4-Z8)","v":0},0,null,221,{"$f":"COUNTIF(L13:L14,AD13)","v":0},{"$f":"AE13/(AG4-AE8)","v":0},0,null,221,{"$f":"COUNTIF(L15:L17,AI13)","v":0},{"$f":"AJ13/(AL4-AJ8)","v":0},0,null,221,{"$f":"COUNTIF(L18:L20,AN13)","v":0},{"$f":"AO13/(AQ4-AO8)","v":0},0,null,221,{"$f":"COUNTIF(L21:L23,AS13)","v":0},{"$f":"AT13/(AV4-AT8)","v":0},0]
[11,754,11,756,12,758,null,null,null,null,0,111,null,222,0,0,0,null,null,222,{"$f":"COUNTIF(L7:L9,T14)","v":0},{"$f":"U14/(W4-U8)","v":0},0,null,222,{"$f":"COUNTIF(L10:L12,Y14)","v":0},{"$f":"Z14/(AB4-Z8)","v":0},0,null,222,{"$f":"COUNTIF(L13:L14,AD14)","v":0},{"$f":"AE14/(AG4-AE8)","v":0},0,null,222,{"$f":"COUNTIF(L15:L17,AI14)","v":0},{"$f":"AJ14/(AL4-AJ8)","v":0},0,null,222,{"$f":"COUNTIF(L18:L20,AN14)","v":0},{"$f":"AO14/(AQ4-AO8)","v":0},0,null,222,{"$f":"COUNTIF(L21:L23,AS14)","v":0},{"$f":"AT14/(AV4-AT8)","v":0},0]
[11,855,11,856,12,858,null,null,null,null,0,111,null,null,null,{"$f":"SUM(P7:P14)","v":1},{"$f":"-SUM(Q7:Q14)","v":0.52255937453694079},null,null,null,null,{"$f":"SUM(V7:V14)","v":1},{"$f":"-SUM(W7:W14)","v":0.91829583405448945},null,null,null,{"$f":"SUM(AA7:AA14)","v":1},{"$f":"-SUM(AB7:AB14)","v":0},null,null,null,{"$f":"SUM(AF7:AF14)","v":1},{"$f":"-SUM(AG7:AG14)","v":0},null,null,null,{"$f":"SUM(AK7:AK14)","v":1},{"$f":"-SUM(AL7:AL14)","v":0},null,null,null,{"$f":"SUM(AP7:AP14)","v":1},{"$f":"-SUM(AQ7:AQ14)","v":0},null,null,null,{"$f":"SUM(AU7:AU14)","v":1},{"$f":"-SUM(AV7:AV14)","v":0}]
[11,953,11,954,12,956,null,null,null,null,0,111,null,null,null,"U=",{"$f":"Q15/(LOG(Q4)/LOG(2))","v":0.12784443426942368},null,null,null,null,"U1=",{"$f":"W15/(LOG(W4)/LOG(2))","v":0.57938016428569505},null,null,null,"U2=",{"$f":"AB15/(LOG(AB4)/LOG(2))","v":0},null,null,null,"U3=",{"$f":"AG15/(LOG(AG4)/LOG(2))","v":0},null,null,null,"U4=",{"$f":"AL15/(LOG(AL4)/LOG(2))","v":0},null,null,null,"U5=",{"$f":"AQ15/(LOG(AQ4)/LOG(2))","v":0},null,null,null,"U6=",{"$f":"AV15/(LOG(AV4)/LOG(2))","v":0}]
[11,1063,11,1064,12,1066,null,null,null,null,0,111]
[11,1159,11,1161,12,1163,null,null,null,null,0,111]
[11,1272,11,1273,12,1275,null,null,null,null,0,111,null,"Total Target Seq"]
[11,1371,11,1373,12,1374,null,null,null,null,0,111,null,{"$f":"COUNTIF(L7:L23,G3)","v":0},null,3,3,2,3,3,3]
[11,1469,11,1471,12,1472,null,null,null,null,0,111,null,null,null,"% of reinforcement given in 6 equal intervals based on number of trials "]
[11,1567,11,1569,12,1571,null,null,null,null,0,111,null,null,null,"%_1","%_2","%_3","%_4","%_5","%_6"]
[11,1670,11,1672,12,1674,null,null,null,null,null,111,null,null,"target sequence",{"$f":"$G$3","v":112},112,112,112,112,112]
[null,null,null,null,null,null,null,null,null,null,null,null,null,null,"total reinforcement",{"$f":"U8","v":0},{"$f":"Z8","v":0},{"$f":"AE8","v":0},{"$f":"AJ8","v":0},{"$f":"AO8","v":0},{"$f":"AT8","v":0}]
[null,null,null,null,null,null,null,null,null,null,null,null,null,null,"% target"]
[null,null,null,null,null,null,null,null,null,null,null,null,null,null,"CCRF"]
[null,null,null,null,null,null,null,null,null,null,null,null,null,null,"% CCRf"]
[null,null,null,null,null,null,null,null,null,null,null,null,null,null,"average response rate",{"$f":"F9/P20","v":80.333333333333329},{"$f":"(F12-F9)/Q20","v":107.66666666666667},{"$f":"(F14-F12)/R20","v":97},{"$f":"(F17-F14)/S20","v":102.66666666666667},{"$f":"(F20-F17)/T20","v":102.66666666666667},{"$f":"(F23-F20)/U20","v":100}]

{"sheet":"!N102930.Gus","index":8,"n_rows":28,"n_cols":48,"rows_kept":28,"cut":false,"hidden":false,"merged":[[1,1,1,2],[5,13,5,14],[18,13,18,14],[19,13,19,14],[4,19,4,22],[5,19,5,20],[4,39,4,42],[5,39,5,40],[4,44,4,47],[5,44,5,45],[4,24,4,27],[5,24,5,25],[4,29,4,32],[5,29,5,30],[4,34,4,37],[5,34,5,35]]}
["Report for:!N102930.Gus"]
["Date:","<date>"]
["Hen:","<hen>",null,null,null,"Correct Sequence",{"$f":"Start!J2","v":112},null,null,null,null,null,null,null,null,"Total Sequences in Data",{"$f":"4994-COUNTBLANK(L7:L5000)","v":12},null,null,null,null,"Total Sequences in Block Data",{"$f":"COUNTA(L7:L8)","v":2},null,null,null,"Total Sequences in Block Data",{"$f":"COUNTA(L9:L10)","v":2},null,null,null,"Total Sequences in Block Data",{"$f":"COUNTA(L11:L12)","v":2},null,null,null,"Total Sequences in Block Data",{"$f":"COUNTA(L13:L14)","v":2},null,null,null,"Total Sequences in Block Data",{"$f":"COUNTA(L15:L16)","v":2},null,null,null,"Total Sequences in Block Data",{"$f":"COUNTA(L17:L18)","v":2}]
[null,null,null,null,null,null,null,null,null,null,null,null,null,null,null,"Total Sequences in Summary",{"$f":"SUM(O7:O14)","v":12},null,null,null,null,"Total Sequences in Block Summary",{"$f":"SUM(U7:U14)","v":2},null,null,null,"Total Sequences in Block Summary",{"$f":"SUM(Z7:Z14)","v":2},null,null,null,"Total Sequences in Block Summary",{"$f":"SUM(AE7:AE14)","v":2},null,null,null,"Total Sequences in Block Summary",{"$f":"SUM(AJ7:AJ14)","v":2},null,null,null,"Total Sequences in Block Summary",{"$f":"SUM(AO7:AO14)","v":2},null,null,null,"Total Sequences in Block Summary",{"$f":"SUM(AT7:AT14)","v":2}]
[null,null,null,null,null,null,null,null,null,null,null,null,null,null,null,null,null,null,null,"Block 1",null,null,null,null,"Block 2",null,null,null,null,"Block 3",null,null,null,null,"Block 4",null,null,null,null,"Block 5",null,null,null,null,"Block 6"]
["Sequence\nComponent\n1","Time\n1","Sequence\nComponent\n2","Time\n2","Sequence\nComponent\n3","Time\n3","Sequence\nComponent\n4","Time\n4","Sequence\nComponent\n5","Time\n5","Correct?\n0=No 1=Yes","Sequence",null,"Frequency",null,"Relative Frequency","Variability",null,null,"Frequency",null,"Relative Frequency","Variability",null,"Frequency",null,"Relative Frequency","Variability",null,"Frequency",null,"Relative Frequency","Variability",null,"Frequency",null,"Relative Frequency","Variability",null,"Frequency",null,"Relative Frequency","Variability",null,"Frequency",null,"Relative Frequency","Variability"]
[11,39,22,45,23,56,null,null,null,null,0,122,null,111,{"$f":"COUNTIF($L$7:$L$500,N7)","v":5},{"$f":"O7/$Q$4","v":0.41666666666666669},{"$f":"IF(P7=0,0,(P7*((LOG(P7))/LOG(2))))","v":-0.52626433576408083},null,null,{"$f":"N7","v":111},{"$f":"COUNTIF(L7:L8,T7)","v":0},{"$f":"U7/(W4-U8)","v":0},{"$f":"IF(V7=0,0,(V7*((LOG(V7))/LOG(2))))","v":0},null,{"$f":"N7","v":111},{"$f":"COUNTIF(L9:L10,Y7)","v":0},{"$f":"Z7/(AB4-Z8)","v":0},{"$f":"IF(AA7=0,0,(AA7*((LOG(AA7))/LOG(2))))","v":0},null,{"$f":"N7","v":111},{"$f":"COUNTIF(L11:L12,AD7)","v":2},{"$f":"AE7/(AG4-AE8)","v":1},{"$f":"IF(AF7=0,0,(AF7*((LOG(AF7))/LOG(2))))","v":0},null,{"$f":"N7","v":111},{"$f":"COUNTIF(L13:L14,AI7)","v":1},{"$f":"AJ7/(AL4-AJ8)","v":0.5},{"$f":"IF(AK7=0,0,(AK7*((LOG(AK7))/LOG(2))))","v":-0.5},null,{"$f":"N7","v":111},{"$f":"COUNTIF(L15:L16,AN7)","v":0},{"$f":"AO7/(AQ4-AO8)","v":0},{"$f":"IF(AP7=0,0,(AP7*((LOG(AP7))/LOG(2))))","v":0},null,{"$f":"N7","v":111},{"$f":"COUNTIF(L17:L18,AS7)","v":2},{"$f":"AT7/(AV4-AT8)","v":1},{"$f":"IF(AU7=0,0,(AU7*((LOG(AU7))/LOG(2))))","v":0}]
[11,171,22,199,23,207,null,null,null,null,0,122,null,112,1,8.3333333333333329E-2,-0.29874687506009634,null,null,112,{"$f":"COUNTIF(L7:L8,T8)","v":0},null,null,null,112,{"$f":"COUNTIF(L9:L10,Y8)","v":1},null,null,null,112,{"$f":"COUNTIF(L11:L12,AD8)","v":0},null,null,null,112,{"$f":"COUNTIF(L13:L14,AI8)","v":0},null,null,null,112,{"$f":"COUNTIF(L15:L16,AN8)","v":0},null,null,null,112,{"$f":"COUNTIF(L17:L18,AS8)","v":0}]
[11,313,11,319,21,328,null,null,null,null,0,112,null,121,1,8.3333333333333329E-2,-0.29874687506009634,null,null,121,{"$f":"COUNTIF(L7:L8,T9)","v":0},{"$f":"U9/(W4-U8)","v":0},{"$f":"IF(V9=0,0,(V9*((LOG(V9))/LOG(2))))","v":0},null,121,{"$f":"COUNTIF(L9:L10,Y9)","v":0},{"$f":"Z9/(AB4-Z8)","v":0},{"$f":"IF(AA9=0,0,(AA9*((LOG(AA9))/LOG(2))))","v":0},null,121,{"$f":"COUNTIF(L11:L12,AD9)","v":0},{"$f":"AE9/(AG4-AE8)","v":0},{"$f":"IF(AF9=0,0,(AF9*((LOG(AF9))/LOG(2))))","v":0},null,121,{"$f":"COUNTIF(L13:L14,AI9)","v":0},{"$f":"AJ9/(AL4-AJ8)","v":0},{"$f":"IF(AK9=0,0,(AK9*((LOG(AK9))/LOG(2))))","v":0},null,121,{"$f":"COUNTIF(L15:L16,AN9)","v":1},{"$f":"AO9/(AQ4-AO8)","v":0.5},{"$f":"IF(AP9=0,0,(AP9*((LOG(AP9))/LOG(2))))","v":-0.5},null,121,{"$f":"COUNTIF(L17:L18,AS9)","v":0},{"$f":"AT9/(AV4-AT8)","v":0},{"$f":"IF(AU9=0,0,(AU9*((LOG(AU9))/LOG(2))))","v":0}]
[22,538,13,556,23,569,null,null,null,null,0,212,null,122,4,0.33333333333333331,-0.52832083357371862,null,null,122,{"$f":"COUNTIF(L7:L8,T10)","v":2},{"$f":"U10/(W4-U8)","v":1},0,null,122,{"$f":"COUNTIF(L9:L10,Y10)","v":0},{"$f":"Z10/(AB4-Z8)","v":0},0,null,122,{"$f":"COUNTIF(L11:L12,AD10)","v":0},{"$f":"AE10/(AG4-AE8)","v":0},0,null,122,{"$f":"COUNTIF(L13:L14,AI10)","v":1},{"$f":"AJ10/(AL4-AJ8)","v":0.5},-0.5,null,122,{"$f":"COUNTIF(L15:L16,AN10)","v":1},{"$f":"AO10/(AQ4-AO8)","v":0.5},-0.5,null,122,{"$f":"COUNTIF(L17:L18,AS10)","v":0},{"$f":"AT10/(AV4-AT8)","v":0},0]
[11,724,11,732,12,736,null,null,null,null,0,111,null,211,0,0,0,null,null,211,{"$f":"COUNTIF(L7:L8,T11)","v":0},{"$f":"U11/(W4-U8)","v":0},0,null,211,{"$f":"COUNTIF(L9:L10,Y11)","v":0},{"$f":"Z11/(AB4-Z8)","v":0},0,null,211,{"$f":"COUNTIF(L11:L12,AD11)","v":0},{"$f":"AE11/(AG4-AE8)","v":0},0,null,211,{"$f":"COUNTIF(L13:L14,AI11)","v":0},{"$f":"AJ11/(AL4-AJ8)","v":0},0,null,211,{"$f":"COUNTIF(L15:L16,AN11)","v":0},{"$f":"AO11/(AQ4-AO8)","v":0},0,null,211,{"$f":"COUNTIF(L17:L18,AS11)","v":0},{"$f":"AT11/(AV4-AT8)","v":0},0]
[11,869,11,873,12,884,null,null,null,null,0,111,null,212,1,8.3333333333333329E-2,-0.29874687506009634,null,null,212,{"$f":"COUNTIF(L7:L8,T12)","v":0},{"$f":"U12/(W4-U8)","v":0},0,null,212,{"$f":"COUNTIF(L9:L10,Y12)","v":1},{"$f":"Z12/(AB4-Z8)","v":1},0,null,212,{"$f":"COUNTIF(L11:L12,AD12)","v":0},{"$f":"AE12/(AG4-AE8)","v":0},0,null,212,{"$f":"COUNTIF(L13:L14,AI12)","v":0},{"$f":"AJ12/(AL4-AJ8)","v":0},0,null,212,{"$f":"COUNTIF(L15:L16,AN12)","v":0},{"$f":"AO12/(AQ4-AO8)","v":0},0,null,212,{"$f":"COUNTIF(L17:L18,AS12)","v":0},{"$f":"AT12/(AV4-AT8)","v":0},0]
[11,1001,22,1009,23,1020,null,null,null,null,0,122,null,221,0,0,0,null,null,221,{"$f":"COUNTIF(L7:L8,T13)","v":0},{"$f":"U13/(W4-U8)","v":0},0,null,221,{"$f":"COUNTIF(L9:L10,Y13)","v":0},{"$f":"Z13/(AB4-Z8)","v":0},0,null,221,{"$f":"COUNTIF(L11:L12,AD13)","v":0},{"$f":"AE13/(AG4-AE8)","v":0},0,null,221,{"$f":"COUNTIF(L13:L14,AI13)","v":0},{"$f":"AJ13/(AL4-AJ8)","v":0},0,null,221,{"$f":"COUNTIF(L15:L16,AN13)","v":0},{"$f":"AO13/(AQ4-AO8)","v":0},0,null,221,{"$f":"COUNTIF(L17:L18,AS13)","v":0},{"$f":"AT13/(AV4-AT8)","v":0},0]
[11,1143,11,1147,12,1152,null,null,null,null,0,111,null,222,0,0,0,null,null,222,{"$f":"COUNTIF(L7:L8,T14)","v":0},{"$f":"U14/(W4-U8)","v":0},0,null,222,{"$f":"COUNTIF(L9:L10,Y14)","v":0},{"$f":"Z14/(AB4-Z8)","v":0},0,null,222,{"$f":"COUNTIF(L11:L12,AD14)","v":0},{"$f":"AE14/(AG4-AE8)","v":0},0,null,222,{"$f":"COUNTIF(L13:L14,AI14)","v":0},{"$f":"AJ14/(AL4-AJ8)","v":0},0,null,222,{"$f":"COUNTIF(L15:L16,AN14)","v":0},{"$f":"AO14/(AQ4-AO8)","v":0},0,null,222,{"$f":"COUNTIF(L17:L18,AS14)","v":0},{"$f":"AT14/(AV4-AT8)","v":0},0]
[11,1253,22,1290,23,1296,null,null,null,null,0,122,null,null,null,{"$f":"SUM(P7:P14)","v":1},{"$f":"-SUM(Q7:Q14)","v":1.9508257945180885},null,null,null,null,{"$f":"SUM(V7:V14)","v":1},{"$f":"-SUM(W7:W14)","v":0},null,null,null,{"$f":"SUM(AA7:AA14)","v":1},{"$f":"-SUM(AB7:AB14)","v":0},null,null,null,{"$f":"SUM(AF7:AF14)","v":1},{"$f":"-SUM(AG7:AG14)","v":0},null,null,null,{"$f":"SUM(AK7:AK14)","v":1},{"$f":"-SUM(AL7:AL14)","v":1},null,null,null,{"$f":"SUM(AP7:AP14)","v":1},{"$f":"-SUM(AQ7:AQ14)","v":1},null,null,null,{"$f":"SUM(AU7:AU14)","v":1},{"$f":"-SUM(AV7:AV14)","v":0}]
[11,1398,22,1418,14,1424,null,null,null,null,0,121,null,null,null,"U=",{"$f":"Q15/(LOG(Q4)/LOG(2))","v":0.54416909357508125},null,null,null,null,"U1=",{"$f":"W15/(LOG(W4)/LOG(2))","v":0},null,null,null,"U2=",{"$f":"AB15/(LOG(AB4)/LOG(2))","v":0},null,null,null,"U3=",{"$f":"AG15/(LOG(AG4)/LOG(2))","v":0},null,null,null,"U4=",{"$f":"AL15/(LOG(AL4)/LOG(2))","v":1},null,null,null,"U5=",{"$f":"AQ15/(LOG(AQ4)/LOG(2))","v":1},null,null,null,"U6=",{"$f":"AV15/(LOG(AV4)/LOG(2))","v":0}]
[11,1521,11,1533,12,1573,null,null,null,null,0,111]
[11,1665,11,1666,12,1668,null,null,null,null,null,111]
[null,null,null,null,null,null,null,null,null,null,null,null,null,"Total Target Seq"]
[null,null,null,null,null,null,null,null,null,null,null,null,null,{"$f":"COUNTIF(L7:L18,G3)","v":1},null,2,2,2,2,2,2]
[null,null,null,null,null,null,null,null,null,null,null,null,null,null,null,"% of reinforcement given in 6 equal intervals based on number of trials "]
[null,null,null,null,null,null,null,null,null,null,null,null,null,null,null,"%_1","%_2","%_3","%_4","%_5","%_6"]
[null,null,null,null,null,null,null,null,null,null,null,null,null,null,"target sequence",{"$f":"$G$3","v":112},112,112,112,112,112]
[null,null,null,null,null,null,null,null,null,null,null,null,null,null,"total reinforcement",{"$f":"U8","v":0},{"$f":"Z8","v":1},{"$f":"AE8","v":0},{"$f":"AJ8","v":0},{"$f":"AO8","v":0},{"$f":"AT8","v":0}]
[null,null,null,null,null,null,null,null,null,null,null,null,null,null,"% target"]
[null,null,null,null,null,null,null,null,null,null,null,null,null,null,"CCRF"]
[null,null,null,null,null,null,null,null,null,null,null,null,null,null,"% CCRf"]
[null,null,null,null,null,null,null,null,null,null,null,null,null,null,"average response rate",{"$f":"F8/P20","v":103.5},{"$f":"(F10-F8)/Q20","v":181},{"$f":"(F12-F10)/R20","v":157.5},{"$f":"(F14-F12)/S20","v":134},{"$f":"(F16-F14)/T20","v":136},{"$f":"(F18-F16)/U20","v":122}]

{"sheet":"!N103A10.Gus","index":9,"n_rows":158,"n_cols":48,"rows_kept":158,"cut":false,"hidden":false,"merged":[[1,1,1,2],[5,13,5,14],[18,13,18,14],[19,13,19,14],[4,19,4,22],[5,19,5,20],[4,39,4,42],[5,39,5,40],[4,44,4,47],[5,44,5,45],[4,24,4,27],[5,24,5,25],[4,29,4,32],[5,29,5,30],[4,34,4,37],[5,34,5,35]]}
["Report for:!N103A10.Gus"]
["Date:","<date>"]
["Hen:","<hen>",null,null,null,"Correct Sequence",{"$f":"Start!J2","v":112},null,null,null,null,null,null,null,null,"Total Sequences in Data",{"$f":"4994-COUNTBLANK(L7:L5000)","v":152},null,null,null,null,"Total Sequences in Block Data",{"$f":"COUNTA(L7:L31)","v":25},null,null,null,"Total Sequences in Block Data",{"$f":"COUNTA(L32:L57)","v":26},null,null,null,"Total Sequences in Block Data",{"$f":"COUNTA(L58:L82)","v":25},null,null,null,"Total Sequences in Block Data",{"$f":"COUNTA(L83:L107)","v":25},null,null,null,"Total Sequences in Block Data",{"$f":"COUNTA(L108:L133)","v":26},null,null,null,"Total Sequences in Block Data",{"$f":"COUNTA(L134:L158)","v":25}]
[null,null,null,null,null,null,null,null,null,null,null,null,null,null,null,"Total Sequences in Summary",{"$f":"SUM(O7:O14)","v":152},null,null,null,null,"Total Sequences in Block Summary",{"$f":"SUM(U7:U14)","v":25},null,null,null,"Total Sequences in Block Summary",{"$f":"SUM(Z7:Z14)","v":26},null,null,null,"Total Sequences in Block Summary",{"$f":"SUM(AE7:AE14)","v":25},null,null,null,"Total Sequences in Block Summary",{"$f":"SUM(AJ7:AJ14)","v":25},null,null,null,"Total Sequences in Block Summary",{"$f":"SUM(AO7:AO14)","v":26},null,null,null,"Total Sequences in Block Summary",{"$f":"SUM(AT7:AT14)","v":25}]
[null,null,null,null,null,null,null,null,null,null,null,null,null,null,null,null,null,null,null,"Block 1",null,null,null,null,"Block 2",null,null,null,null,"Block 3",null,null,null,null,"Block 4",null,null,null,null,"Block 5",null,null,null,null,"Block 6"]
["Sequence\nComponent\n1","Time\n1","Sequence\nComponent\n2","Time\n2","Sequence\nComponent\n3","Time\n3","Sequence\nComponent\n4","Time\n4","Sequence\nComponent\n5","Time\n5","Correct?\n0=No 1=Yes","Sequence",null,"Frequency",null,"Relative Frequency","Variability",null,null,"Frequency",null,"Relative Frequency","Variability",null,"Frequency",null,"Relative Frequency","Variability",null,"Frequency",null,"Relative Frequency","Variability",null,"Frequency",null,"Relative Frequency","Variability",null,"Frequency",null,"Relative Frequency","Variability",null,"Frequency",null,"Relative Frequency","Variability"]
[11,35,22,45,23,48,null,null,null,null,0,122,null,111,{"$f":"COUNTIF($L$7:$L$500,N7)","v":6},{"$f":"O7/$Q$4","v":3.9473684210526314E-2},{"$f":"IF(P7=0,0,(P7*((LOG(P7))/LOG(2))))","v":-0.184064408396938},null,null,{"$f":"N7","v":111},{"$f":"COUNTIF(L7:L31,T7)","v":3},{"$f":"U7/(W4-U8)","v":0.15789473684210525},{"$f":"IF(V7=0,0,(V7*((LOG(V7))/LOG(2))))","v":-0.42046815990354147},null,{"$f":"N7","v":111},{"$f":"COUNTIF(L32:L57,Y7)","v":0},{"$f":"Z7/(AB4-Z8)","v":0},{"$f":"IF(AA7=0,0,(AA7*((LOG(AA7))/LOG(2))))","v":0},null,{"$f":"N7","v":111},{"$f":"COUNTIF(L58:L82,AD7)","v":2},{"$f":"AE7/(AG4-AE8)","v":8.6956521739130432E-2},{"$f":"IF(AF7=0,0,(AF7*((LOG(AF7))/LOG(2))))","v":-0.30639669183104457},null,{"$f":"N7","v":111},{"$f":"COUNTIF(L83:L107,AI7)","v":1},{"$f":"AJ7/(AL4-AJ8)","v":4.3478260869565216E-2},{"$f":"IF(AK7=0,0,(AK7*((LOG(AK7))/LOG(2))))","v":-0.19667660678508753},null,{"$f":"N7","v":111},{"$f":"COUNTIF(L108:L133,AN7)","v":0},{"$f":"AO7/(AQ4-AO8)","v":0},{"$f":"IF(AP7=0,0,(AP7*((LOG(AP7))/LOG(2))))","v":0},null,{"$f":"N7","v":111},{"$f":"COUNTIF(L134:L158,AS7)","v":0},{"$f":"AT7/(AV4-AT8)","v":0},{"$f":"IF(AU7=0,0,(AU7*((LOG(AU7))/LOG(2))))","v":0}]
[22,145,24,150,14,152,null,null,null,null,0,221,null,112,17,0.1118421052631579,-0.35347302254792884,null,null,112,{"$f":"COUNTIF(L7:L31,T8)","v":6},null,null,null,112,{"$f":"COUNTIF(L32:L57,Y8)","v":1},null,null,null,112,{"$f":"COUNTIF(L58:L82,AD8)","v":2},null,null,null,112,{"$f":"COUNTIF(L83:L107,AI8)","v":2},null,null,null,112,{"$f":"COUNTIF(L108:L133,AN8)","v":5},null,null,null,112,{"$f":"COUNTIF(L134:L158,AS8)","v":1}]
[11,245,11,256,21,267,null,null,null,null,0,112,null,121,7,4.6052631578947366E-2,-0.20450005355067019,null,null,121,{"$f":"COUNTIF(L7:L31,T9)","v":1},{"$f":"U9/(W4-U8)","v":5.2631578947368418E-2},{"$f":"IF(V9=0,0,(V9*((LOG(V9))/LOG(2))))","v":-0.22357513228650452},null,121,{"$f":"COUNTIF(L32:L57,Y9)","v":2},{"$f":"Z9/(AB4-Z8)","v":0.08},{"$f":"IF(AA9=0,0,(AA9*((LOG(AA9))/LOG(2))))","v":-0.29150849518197797},null,121,{"$f":"COUNTIF(L58:L82,AD9)","v":2},{"$f":"AE9/(AG4-AE8)","v":8.6956521739130432E-2},{"$f":"IF(AF9=0,0,(AF9*((LOG(AF9))/LOG(2))))","v":-0.30639669183104457},null,121,{"$f":"COUNTIF(L83:L107,AI9)","v":1},{"$f":"AJ9/(AL4-AJ8)","v":4.3478260869565216E-2},{"$f":"IF(AK9=0,0,(AK9*((LOG(AK9))/LOG(2))))","v":-0.19667660678508753},null,121,{"$f":"COUNTIF(L108:L133,AN9)","v":1},{"$f":"AO9/(AQ4-AO8)","v":4.7619047619047616E-2},{"$f":"IF(AP9=0,0,(AP9*((LOG(AP9))/LOG(2))))","v":-0.20915797251327431},null,121,{"$f":"COUNTIF(L134:L158,AS9)","v":0},{"$f":"AT9/(AV4-AT8)","v":0},{"$f":"IF(AU9=0,0,(AU9*((LOG(AU9))/LOG(2))))","v":0}]
[11,363,22,380,23,393,null,null,null,null,0,122,null,122,50,0.32894736842105265,-0.52765504068054625,null,null,122,{"$f":"COUNTIF(L7:L31,T10)","v":6},{"$f":"U10/(W4-U8)","v":0.31578947368421051},-0.52514684612287243,null,122,{"$f":"COUNTIF(L32:L57,Y10)","v":6},{"$f":"Z10/(AB4-Z8)","v":0.24},-0.49413448537285637,null,122,{"$f":"COUNTIF(L58:L82,AD10)","v":6},{"$f":"AE10/(AG4-AE8)","v":0.2608695652173913},-0.50572159704413644,null,122,{"$f":"COUNTIF(L83:L107,AI10)","v":11},{"$f":"AJ10/(AL4-AJ8)","v":0.47826086956521741},-0.5089319005050813,null,122,{"$f":"COUNTIF(L108:L133,AN10)","v":10},{"$f":"AO10/(AQ4-AO8)","v":0.47619047619047616},-0.50970920375780859,null,122,{"$f":"COUNTIF(L134:L158,AS10)","v":11},{"$f":"AT10/(AV4-AT8)","v":0.45833333333333331},-0.51586832095510204]
[11,498,11,512,21,514,null,null,null,null,0,112,null,211,1,6.5789473684210523E-3,-4.7683733641076219E-2,null,null,211,{"$f":"COUNTIF(L7:L31,T11)","v":0},{"$f":"U11/(W4-U8)","v":0},0,null,211,{"$f":"COUNTIF(L32:L57,Y11)","v":0},{"$f":"Z11/(AB4-Z8)","v":0},0,null,211,{"$f":"COUNTIF(L58:L82,AD11)","v":0},{"$f":"AE11/(AG4-AE8)","v":0},0,null,211,{"$f":"COUNTIF(L83:L107,AI11)","v":0},{"$f":"AJ11/(AL4-AJ8)","v":0},0,null,211,{"$f":"COUNTIF(L108:L133,AN11)","v":0},{"$f":"AO11/(AQ4-AO8)","v":0},0,null,211,{"$f":"COUNTIF(L134:L158,AS11)","v":1},{"$f":"AT11/(AV4-AT8)","v":4.1666666666666664E-2},-0.19104010419671485]
[11,602,11,608,12,621,null,null,null,null,0,111,null,212,37,0.24342105263157895,-0.49620752282329944,null,null,212,{"$f":"COUNTIF(L7:L31,T12)","v":4},{"$f":"U12/(W4-U8)","v":0.21052631578947367},-0.47324789756707064,null,212,{"$f":"COUNTIF(L32:L57,Y12)","v":12},{"$f":"Z12/(AB4-Z8)","v":0.48},-0.50826897074571287,null,212,{"$f":"COUNTIF(L58:L82,AD12)","v":6},{"$f":"AE12/(AG4-AE8)","v":0.2608695652173913},-0.50572159704413644,null,212,{"$f":"COUNTIF(L83:L107,AI12)","v":6},{"$f":"AJ12/(AL4-AJ8)","v":0.2608695652173913},-0.50572159704413644,null,212,{"$f":"COUNTIF(L108:L133,AN12)","v":6},{"$f":"AO12/(AQ4-AO8)","v":0.2857142857142857},-0.51638712058788683,null,212,{"$f":"COUNTIF(L134:L158,AS12)","v":3},{"$f":"AT12/(AV4-AT8)","v":0.125},-0.375]
[11,722,11,726,21,746,null,null,null,null,0,112,null,221,7,4.6052631578947366E-2,-0.20450005355067019,null,null,221,{"$f":"COUNTIF(L7:L31,T13)","v":2},{"$f":"U13/(W4-U8)","v":0.10526315789473684},-0.34188710667827216,null,221,{"$f":"COUNTIF(L32:L57,Y13)","v":2},{"$f":"Z13/(AB4-Z8)","v":0.08},-0.29150849518197797,null,221,{"$f":"COUNTIF(L58:L82,AD13)","v":0},{"$f":"AE13/(AG4-AE8)","v":0},0,null,221,{"$f":"COUNTIF(L83:L107,AI13)","v":0},{"$f":"AJ13/(AL4-AJ8)","v":0},0,null,221,{"$f":"COUNTIF(L108:L133,AN13)","v":2},{"$f":"AO13/(AQ4-AO8)","v":9.5238095238095233E-2},-0.32307784978845333,null,221,{"$f":"COUNTIF(L134:L158,AS13)","v":1},{"$f":"AT13/(AV4-AT8)","v":4.1666666666666664E-2},-0.19104010419671485]
[11,920,11,924,12,926,null,null,null,null,0,111,null,222,27,0.17763157894736842,-0.44284263358265236,null,null,222,{"$f":"COUNTIF(L7:L31,T14)","v":3},{"$f":"U14/(W4-U8)","v":0.15789473684210525},-0.42046815990354147,null,222,{"$f":"COUNTIF(L32:L57,Y14)","v":3},{"$f":"Z14/(AB4-Z8)","v":0.12},-0.36706724268642821,null,222,{"$f":"COUNTIF(L58:L82,AD14)","v":7},{"$f":"AE14/(AG4-AE8)","v":0.30434782608695654},-0.52232387991286355,null,222,{"$f":"COUNTIF(L83:L107,AI14)","v":4},{"$f":"AJ14/(AL4-AJ8)","v":0.17391304347826086},-0.43888034018382832,null,222,{"$f":"COUNTIF(L108:L133,AN14)","v":2},{"$f":"AO14/(AQ4-AO8)","v":9.5238095238095233E-2},-0.32307784978845333,null,222,{"$f":"COUNTIF(L134:L158,AS14)","v":8},{"$f":"AT14/(AV4-AT8)","v":0.33333333333333331},-0.52832083357371862]
[11,1032,22,1051,23,1059,null,null,null,null,0,122,null,null,null,{"$f":"SUM(P7:P14)","v":1},{"$f":"-SUM(Q7:Q14)","v":2.4609264687737813},null,null,null,null,{"$f":"SUM(V7:V14)","v":1},{"$f":"-SUM(W7:W14)","v":2.4047933024618029},null,null,null,{"$f":"SUM(AA7:AA14)","v":1},{"$f":"-SUM(AB7:AB14)","v":1.9524876891689535},null,null,null,{"$f":"SUM(AF7:AF14)","v":1},{"$f":"-SUM(AG7:AG14)","v":2.1465604576632256},null,null,null,{"$f":"SUM(AK7:AK14)","v":1},{"$f":"-SUM(AL7:AL14)","v":1.8468870513032212},null,null,null,{"$f":"SUM(AP7:AP14)","v":0.99999999999999989},{"$f":"-SUM(AQ7:AQ14)","v":1.8814099964358766},null,null,null,{"$f":"SUM(AU7:AU14)","v":1},{"$f":"-SUM(AV7:AV14)","v":1.8012693629222505}]
[11,1160,11,1170,21,1174,null,null,null,null,0,112,null,null,null,"U=",{"$f":"Q15/(LOG(Q4)/LOG(2))","v":0.33953519322719644},null,null,null,null,"U1=",{"$f":"W15/(LOG(W4)/LOG(2))","v":0.51784405119109855},null,null,null,"U2=",{"$f":"AB15/(LOG(AB4)/LOG(2))","v":0.41538405048222049},null,null,null,"U3=",{"$f":"AG15/(LOG(AG4)/LOG(2))","v":0.46223663480142263},null,null,null,"U4=",{"$f":"AL15/(LOG(AL4)/LOG(2))","v":0.39770547920279464},null,null,null,"U5=",{"$f":"AQ15/(LOG(AQ4)/LOG(2))","v":0.40026255185757981},null,null,null,"U6=",{"$f":"AV15/(LOG(AV4)/LOG(2))","v":0.38788224469320409}]
[11,1463,11,1472,21,1488,null,null,null,null,0,112]
[11,1757,22,1770,23,1782,null,null,null,null,0,122]
[11,1880,22,1890,23,1898,null,null,null,null,0,122,null,"Total Target Seq"]
[22,1996,13,1999,23,2002,null,null,null,null,0,212,null,{"$f":"COUNTIF(L7:L158,G3)","v":17},null,25,26,25,25,26,25]
[22,2102,24,2113,14,2117,null,null,null,null,0,221,null,null,null,"% of reinforcement given in 6 equal intervals based on number of trials "]
[11,2217,22,2228,14,2236,null,null,null,null,0,121,null,null,null,"%_1","%_2","%_3","%_4","%_5","%_6"]
[22,2461,13,2468,23,2482,null,null,null,null,0,212,null,null,"target sequence",{"$f":"$G$3","v":112},112,112,112,112,112]
[11,2585,11,2588,12,2595,null,null,null,null,0,111,null,null,"total reinforcement",{"$f":"U8","v":6},{"$f":"Z8","v":1},{"$f":"AE8","v":2},{"$f":"AJ8","v":2},{"$f":"AO8","v":5},{"$f":"AT8","v":1}]
[11,2698,22,2705,23,2713,null,null,null,null,0,122,null,null,"% target"]
[11,2812,11,2816,21,2823,null,null,null,null,0,112,null,null,"CCRF"]
[22,3009,13,3017,23,3025,null,null,null,null,0,212,null,null,"% CCRf"]
[22,3127,24,3135,23,3141,null,null,null,null,0,222,null,null,"average response rate",{"$f":"F31/P20","v":148.56},{"$f":"(F57-F31)/Q20","v":120.65384615384616},{"$f":"(F82-F57)/R20","v":115.72},{"$f":"(F107-F82)/S20","v":114.56},{"$f":"(F133-F107)/T20","v":163.46153846153845},{"$f":"(F158-F133)/U20","v":255.36}]
[22,3245,24,3256,23,3263,null,null,null,null,0,222]
[22,3568,24,3577,23,3584,null,null,null,null,0,222]
[22,3702,13,3707,23,3714,null,null,null,null,0,212]
[22,3814,13,3821,23,3828,null,null,null,null,0,212]
[11,3925,22,3928,14,3934,null,null,null,null,0,121]
[22,4035,13,4038,23,4042,null,null,null,null,0,212]
[22,4143,24,4147,23,4153,null,null,null,null,0,222]
[11,4262,22,4264,23,4270,null,null,null,null,0,122]
[22,4422,13,4428,23,4433,null,null,null,null,0,212]
[11,4542,22,4561,23,4568,null,null,null,null,0,122]
[22,4669,24,4676,14,4679,null,null,null,null,0,221]
[22,4898,13,4901,23,4909,null,null,null,null,0,212]
[11,5021,22,5022,23,5029,null,null,null,null,0,122]
[22,5141,24,5147,23,5153,null,null,null,null,0,222]
[22,5247,24,5249,23,5255,null,null,null,null,0,222]
[11,5360,22,5371,23,5378,null,null,null,null,0,122]
[11,5485,22,5489,23,5495,null,null,null,null,0,122]
[11,5589,22,5591,14,5595,null,null,null,null,0,121]
[22,5697,13,5699,23,5702,null,null,null,null,0,212]
[22,5798,13,5804,23,5814,null,null,null,null,0,212]
[22,5915,13,5919,23,5922,null,null,null,null,0,212]
[11,6014,11,6020,21,6029,null,null,null,null,0,112]
[22,6142,13,6148,23,6154,null,null,null,null,0,212]
[22,6258,13,6263,23,6270,null,null,null,null,0,212]
[11,6379,22,6380,23,6387,null,null,null,null,0,122]
[22,6493,13,6496,23,6504,null,null,null,null,0,212]
[22,6611,13,6616,23,6627,null,null,null,null,0,212]
[22,6725,13,6732,23,6744,null,null,null,null,0,212]
[22,6839,24,6847,14,6851,null,null,null,null,0,221]
[22,6991,24,7002,23,7008,null,null,null,null,0,222]
[22,7149,24,7164,23,7174,null,null,null,null,0,222]
[22,7273,13,7280,23,7285,null,null,null,null,0,212]
[11,7379,22,7384,14,7388,null,null,null,null,0,121]
[22,7486,24,7496,23,7504,null,null,null,null,0,222]
[11,7596,22,7599,23,7603,null,null,null,null,0,122]
[11,7708,22,7710,23,7717,null,null,null,null,0,122]
[11,7819,22,7827,14,7835,null,null,null,null,0,121]
[22,7933,24,7938,23,7941,null,null,null,null,0,222]
[11,8037,22,8046,23,8048,null,null,null,null,0,122]
[22,8155,13,8158,23,8168,null,null,null,null,0,212]
[11,8265,22,8271,23,8281,null,null,null,null,0,122]
[11,8383,11,8386,12,8393,null,null,null,null,0,111]
[11,8483,11,8488,12,8493,null,null,null,null,0,111]
[11,8588,11,8592,21,8609,null,null,null,null,0,112]
[22,8732,13,8738,23,8743,null,null,null,null,0,212]
[22,8837,13,8838,23,8843,null,null,null,null,0,212]
[11,8943,22,8954,23,8960,null,null,null,null,0,122]
[11,9055,22,9058,23,9062,null,null,null,null,0,122]
[22,9163,13,9166,23,9175,null,null,null,null,0,212]
[22,9280,13,9283,23,9287,null,null,null,null,0,212]
[11,9386,11,9395,21,9400,null,null,null,null,0,112]
[22,9488,24,9496,23,9502,null,null,null,null,0,222]
[22,9611,24,9620,23,9625,null,null,null,null,0,222]
[22,9734,24,9739,23,9744,null,null,null,null,0,222]
[22,9857,24,9862,23,9867,null,null,null,null,0,222]
[22,9966,13,9969,23,9971,null,null,null,null,0,212]
[22,10069,13,10074,23,10077,null,null,null,null,0,212]
[11,10182,22,10185,23,10191,null,null,null,null,0,122]
[11,10299,11,10307,21,10316,null,null,null,null,0,112]
[11,10407,22,10414,23,10420,null,null,null,null,0,122]
[11,10525,22,10534,23,10539,null,null,null,null,0,122]
[22,10644,13,10648,23,10654,null,null,null,null,0,212]
[22,10754,13,10758,23,10760,null,null,null,null,0,212]
[11,10856,22,10858,23,10863,null,null,null,null,0,122]
[22,10960,13,10966,23,10969,null,null,null,null,0,212]
[11,11080,22,11087,23,11093,null,null,null,null,0,122]
[11,11198,22,11203,23,11208,null,null,null,null,0,122]
[11,11340,11,11344,12,11349,null,null,null,null,0,111]
[11,11442,11,11452,21,11464,null,null,null,null,0,112]
[11,11560,22,11573,23,11581,null,null,null,null,0,122]
[11,11696,22,11703,23,11710,null,null,null,null,0,122]
[22,11827,24,11833,23,11840,null,null,null,null,0,222]
[22,11936,24,11942,23,11947,null,null,null,null,0,222]
[11,12054,22,12059,23,12066,null,null,null,null,0,122]
[11,12167,22,12177,14,12181,null,null,null,null,0,121]
[11,12271,22,12273,23,12279,null,null,null,null,0,122]
[11,12373,22,12378,23,12383,null,null,null,null,0,122]
[22,12492,24,12497,23,12503,null,null,null,null,0,222]
[22,12601,13,12605,23,12608,null,null,null,null,0,212]
[11,12709,22,12724,23,12729,null,null,null,null,0,122]
[22,12834,24,12838,23,12844,null,null,null,null,0,222]
[11,12940,22,12942,23,12946,null,null,null,null,0,122]
[11,13045,22,13058,23,13063,null,null,null,null,0,122]
[11,13170,22,13185,14,13190,null,null,null,null,0,121]
[11,13291,11,13299,21,13304,null,null,null,null,0,112]
[11,13605,22,13619,23,13634,null,null,null,null,0,122]
[11,13735,22,13747,23,13752,null,null,null,null,0,122]
[22,13875,13,13879,23,13886,null,null,null,null,0,212]
[22,13988,13,13992,23,13997,null,null,null,null,0,212]
[11,14107,22,14124,23,14128,null,null,null,null,0,122]
[11,14220,11,14233,21,14244,null,null,null,null,0,112]
[22,14351,13,14359,23,14362,null,null,null,null,0,212]
[22,14466,24,14476,14,14478,null,null,null,null,0,221]
[22,14603,13,14608,23,14614,null,null,null,null,0,212]
[11,14711,22,14721,23,14723,null,null,null,null,0,122]
[11,14870,11,14874,21,14889,null,null,null,null,0,112]
[22,15035,13,15042,23,15062,null,null,null,null,0,212]
[11,15172,22,15180,23,15182,null,null,null,null,0,122]
[11,15282,11,15293,21,15299,null,null,null,null,0,112]
[22,15533,13,15538,23,15546,null,null,null,null,0,212]
[11,15705,22,15715,23,15725,null,null,null,null,0,122]
[22,16064,24,16074,23,16080,null,null,null,null,0,222]
[11,16268,11,16279,21,16285,null,null,null,null,0,112]
[22,16648,24,16662,14,16665,null,null,null,null,0,221]
[11,16848,22,16852,23,16858,null,null,null,null,0,122]
[22,17003,24,17009,23,17015,null,null,null,null,0,222]
[22,17139,24,17141,14,17145,null,null,null,null,0,221]
[22,17648,24,17652,23,17655,null,null,null,null,0,222]
[22,17873,24,17878,23,17884,null,null,null,null,0,222]
[11,18163,22,18176,23,18180,null,null,null,null,0,122]
[22,18344,24,18348,23,18355,null,null,null,null,0,222]
[22,18460,24,18466,23,18472,null,null,null,null,0,222]
[11,18664,22,18672,23,18680,null,null,null,null,0,122]
[11,18782,22,18786,23,18797,null,null,null,null,0,122]
[22,18900,13,18902,23,18914,null,null,null,null,0,212]
[22,19023,24,19031,23,19037,null,null,null,null,0,222]
[11,19159,22,19164,23,19169,null,null,null,null,0,122]
[22,19333,13,19336,23,19353,null,null,null,null,0,212]
[22,19556,13,19578,23,19580,null,null,null,null,0,212]
[22,19784,13,19786,14,19797,null,null,null,null,0,211]
[22,19895,24,19900,23,19906,null,null,null,null,0,222]
[11,20016,11,20025,21,20027,null,null,null,null,0,112]
[11,20130,22,20136,23,20138,null,null,null,null,0,122]
[11,20306,22,20323,23,20329,null,null,null,null,0,122]
[11,20423,22,20436,23,20445,null,null,null,null,0,122]
[22,20554,24,20569,23,20574,null,null,null,null,0,222]
[11,20671,22,20676,23,20681,null,null,null,null,0,122]
[11,21736,22,21747,23,21753,null,null,null,null,0,122]
[11,22325,22,22341,23,22346,null,null,null,null,0,122]
[11,23224,22,23236,23,23242,null,null,null,null,0,122]

{"sheet":"!N104B00.Gus","index":10,"n_rows":169,"n_cols":48,"rows_kept":169,"cut":false,"hidden":false,"merged":[[1,1,1,2],[5,13,5,14],[18,13,18,14],[19,13,19,14],[4,19,4,22],[5,19,5,20],[4,39,4,42],[5,39,5,40],[4,44,4,47],[5,44,5,45],[4,24,4,27],[5,24,5,25],[4,29,4,32],[5,29,5,30],[4,34,4,37],[5,34,5,35]]}
["Report for:!N104B00.Gus"]
["Date:","<date>"]
["Hen:","<hen>",null,null,null,"Correct Sequence",{"$f":"Start!J2","v":112},null,null,null,null,null,null,null,null,"Total Sequences in Data",{"$f":"4994-COUNTBLANK(L7:L5000)","v":163},null,null,null,null,"Total Sequences in Block Data",{"$f":"COUNTA(L7:L33)","v":27},null,null,null,"Total Sequences in Block Data",{"$f":"COUNTA(L34:L60)","v":27},null,null,null,"Total Sequences in Block Data",{"$f":"COUNTA(L61:L88)","v":28},null,null,null,"Total Sequences in Block Data",{"$f":"COUNTA(L89:L115)","v":27},null,null,null,"Total Sequences in Block Data",{"$f":"COUNTA(L116:L142)","v":27},null,null,null,"Total Sequences in Block Data",{"$f":"COUNTA(L143:L169)","v":27}]
[null,null,null,null,null,null,null,null,null,null,null,null,null,null,null,"Total Sequences in Summary",{"$f":"SUM(O7:O14)","v":163},null,null,null,null,"Total Sequences in Block Summary",{"$f":"SUM(U7:U14)","v":27},null,null,null,"Total Sequences in Block Summary",{"$f":"SUM(Z7:Z14)","v":27},null,null,null,"Total Sequences in Block Summary",{"$f":"SUM(AE7:AE14)","v":28},null,null,null,"Total Sequences in Block Summary",{"$f":"SUM(AJ7:AJ14)","v":27},null,null,null,"Total Sequences in Block Summary",{"$f":"SUM(AO7:AO14)","v":27},null,null,null,"Total Sequences in Block Summary",{"$f":"SUM(AT7:AT14)","v":27}]
[null,null,null,null,null,null,null,null,null,null,null,null,null,null,null,null,null,null,null,"Block 1",null,null,null,null,"Block 2",null,null,null,null,"Block 3",null,null,null,null,"Block 4",null,null,null,null,"Block 5",null,null,null,null,"Block 6"]
["Sequence\nComponent\n1","Time\n1","Sequence\nComponent\n2","Time\n2","Sequence\nComponent\n3","Time\n3","Sequence\nComponent\n4","Time\n4","Sequence\nComponent\n5","Time\n5","Correct?\n0=No 1=Yes","Sequence",null,"Frequency",null,"Relative Frequency","Variability",null,null,"Frequency",null,"Relative Frequency","Variability",null,"Frequency",null,"Relative Frequency","Variability",null,"Frequency",null,"Relative Frequency","Variability",null,"Frequency",null,"Relative Frequency","Variability",null,"Frequency",null,"Relative Frequency","Variability",null,"Frequency",null,"Relative Frequency","Variability"]
[11,99,11,109,21,116,null,null,null,null,0,112,null,111,{"$f":"COUNTIF($L$7:$L$500,N7)","v":7},{"$f":"O7/$Q$4","v":4.2944785276073622E-2},{"$f":"IF(P7=0,0,(P7*((LOG(P7))/LOG(2))))","v":-0.19502829831419827},null,null,{"$f":"N7","v":111},{"$f":"COUNTIF(L7:L33,T7)","v":0},{"$f":"U7/(W4-U8)","v":0},{"$f":"IF(V7=0,0,(V7*((LOG(V7))/LOG(2))))","v":0},null,{"$f":"N7","v":111},{"$f":"COUNTIF(L34:L60,Y7)","v":1},{"$f":"Z7/(AB4-Z8)","v":4.3478260869565216E-2},{"$f":"IF(AA7=0,0,(AA7*((LOG(AA7))/LOG(2))))","v":-0.19667660678508753},null,{"$f":"N7","v":111},{"$f":"COUNTIF(L61:L88,AD7)","v":0},{"$f":"AE7/(AG4-AE8)","v":0},{"$f":"IF(AF7=0,0,(AF7*((LOG(AF7))/LOG(2))))","v":0},null,{"$f":"N7","v":111},{"$f":"COUNTIF(L89:L115,AI7)","v":2},{"$f":"AJ7/(AL4-AJ8)","v":8.6956521739130432E-2},{"$f":"IF(AK7=0,0,(AK7*((LOG(AK7))/LOG(2))))","v":-0.30639669183104457},null,{"$f":"N7","v":111},{"$f":"COUNTIF(L116:L142,AN7)","v":4},{"$f":"AO7/(AQ4-AO8)","v":0.16666666666666666},{"$f":"IF(AP7=0,0,(AP7*((LOG(AP7))/LOG(2))))","v":-0.43082708345352599},null,{"$f":"N7","v":111},{"$f":"COUNTIF(L143:L169,AS7)","v":0},{"$f":"AT7/(AV4-AT8)","v":0},{"$f":"IF(AU7=0,0,(AU7*((LOG(AU7))/LOG(2))))","v":0}]
[11,212,22,221,23,226,null,null,null,null,0,122,null,112,22,0.13496932515337423,-0.38996640357707463,null,null,112,{"$f":"COUNTIF(L7:L33,T8)","v":5},null,null,null,112,{"$f":"COUNTIF(L34:L60,Y8)","v":4},null,null,null,112,{"$f":"COUNTIF(L61:L88,AD8)","v":4},null,null,null,112,{"$f":"COUNTIF(L89:L115,AI8)","v":4},null,null,null,112,{"$f":"COUNTIF(L116:L142,AN8)","v":3},null,null,null,112,{"$f":"COUNTIF(L143:L169,AS8)","v":2}]
[11,324,22,348,14,375,null,null,null,null,0,121,null,121,12,7.3619631901840496E-2,-0.27708704197619055,null,null,121,{"$f":"COUNTIF(L7:L33,T9)","v":2},{"$f":"U9/(W4-U8)","v":9.0909090909090912E-2},{"$f":"IF(V9=0,0,(V9*((LOG(V9))/LOG(2))))","v":-0.31449378351248153},null,121,{"$f":"COUNTIF(L34:L60,Y9)","v":1},{"$f":"Z9/(AB4-Z8)","v":4.3478260869565216E-2},{"$f":"IF(AA9=0,0,(AA9*((LOG(AA9))/LOG(2))))","v":-0.19667660678508753},null,121,{"$f":"COUNTIF(L61:L88,AD9)","v":2},{"$f":"AE9/(AG4-AE8)","v":8.3333333333333329E-2},{"$f":"IF(AF9=0,0,(AF9*((LOG(AF9))/LOG(2))))","v":-0.29874687506009634},null,121,{"$f":"COUNTIF(L89:L115,AI9)","v":2},{"$f":"AJ9/(AL4-AJ8)","v":8.6956521739130432E-2},{"$f":"IF(AK9=0,0,(AK9*((LOG(AK9))/LOG(2))))","v":-0.30639669183104457},null,121,{"$f":"COUNTIF(L116:L142,AN9)","v":4},{"$f":"AO9/(AQ4-AO8)","v":0.16666666666666666},{"$f":"IF(AP9=0,0,(AP9*((LOG(AP9))/LOG(2))))","v":-0.43082708345352599},null,121,{"$f":"COUNTIF(L143:L169,AS9)","v":1},{"$f":"AT9/(AV4-AT8)","v":0.04},{"$f":"IF(AU9=0,0,(AU9*((LOG(AU9))/LOG(2))))","v":-0.18575424759098899}]
[11,484,22,490,23,497,null,null,null,null,0,122,null,122,73,0.44785276073619634,-0.51901817460507604,null,null,122,{"$f":"COUNTIF(L7:L33,T10)","v":14},{"$f":"U10/(W4-U8)","v":0.63636363636363635},-0.41495789782344106,null,122,{"$f":"COUNTIF(L34:L60,Y10)","v":14},{"$f":"Z10/(AB4-Z8)","v":0.60869565217391308},-0.43595210765181397,null,122,{"$f":"COUNTIF(L61:L88,AD10)","v":10},{"$f":"AE10/(AG4-AE8)","v":0.41666666666666669},-0.52626433576408083,null,122,{"$f":"COUNTIF(L89:L115,AI10)","v":9},{"$f":"AJ10/(AL4-AJ8)","v":0.39130434782608697},-0.5296840257187958,null,122,{"$f":"COUNTIF(L116:L142,AN10)","v":12},{"$f":"AO10/(AQ4-AO8)","v":0.5},-0.5,null,122,{"$f":"COUNTIF(L143:L169,AS10)","v":14},{"$f":"AT10/(AV4-AT8)","v":0.56000000000000005},-0.46844070992158748]
[11,590,22,598,23,603,null,null,null,null,0,122,null,211,1,6.1349693251533744E-3,-4.5084221805098634E-2,null,null,211,{"$f":"COUNTIF(L7:L33,T11)","v":0},{"$f":"U11/(W4-U8)","v":0},0,null,211,{"$f":"COUNTIF(L34:L60,Y11)","v":0},{"$f":"Z11/(AB4-Z8)","v":0},0,null,211,{"$f":"COUNTIF(L61:L88,AD11)","v":0},{"$f":"AE11/(AG4-AE8)","v":0},0,null,211,{"$f":"COUNTIF(L89:L115,AI11)","v":0},{"$f":"AJ11/(AL4-AJ8)","v":0},0,null,211,{"$f":"COUNTIF(L116:L142,AN11)","v":1},{"$f":"AO11/(AQ4-AO8)","v":4.1666666666666664E-2},-0.19104010419671485,null,211,{"$f":"COUNTIF(L143:L169,AS11)","v":0},{"$f":"AT11/(AV4-AT8)","v":0},0]
[11,704,11,719,21,727,null,null,null,null,0,112,null,212,19,0.1165644171779141,-0.36144301947829666,null,null,212,{"$f":"COUNTIF(L7:L33,T12)","v":4},{"$f":"U12/(W4-U8)","v":0.18181818181818182},-0.44716938520678134,null,212,{"$f":"COUNTIF(L34:L60,Y12)","v":1},{"$f":"Z12/(AB4-Z8)","v":4.3478260869565216E-2},-0.19667660678508753,null,212,{"$f":"COUNTIF(L61:L88,AD12)","v":4},{"$f":"AE12/(AG4-AE8)","v":0.16666666666666666},-0.43082708345352599,null,212,{"$f":"COUNTIF(L89:L115,AI12)","v":4},{"$f":"AJ12/(AL4-AJ8)","v":0.17391304347826086},-0.43888034018382832,null,212,{"$f":"COUNTIF(L116:L142,AN12)","v":2},{"$f":"AO12/(AQ4-AO8)","v":8.3333333333333329E-2},-0.29874687506009634,null,212,{"$f":"COUNTIF(L143:L169,AS12)","v":4},{"$f":"AT12/(AV4-AT8)","v":0.16},-0.42301699036395596]
[11,833,22,838,23,845,null,null,null,null,0,122,null,221,5,3.0674846625766871E-2,-0.15419632083876425,null,null,221,{"$f":"COUNTIF(L7:L33,T13)","v":1},{"$f":"U13/(W4-U8)","v":4.5454545454545456E-2},-0.20270143721078623,null,221,{"$f":"COUNTIF(L34:L60,Y13)","v":0},{"$f":"Z13/(AB4-Z8)","v":0},0,null,221,{"$f":"COUNTIF(L61:L88,AD13)","v":1},{"$f":"AE13/(AG4-AE8)","v":4.1666666666666664E-2},-0.19104010419671485,null,221,{"$f":"COUNTIF(L89:L115,AI13)","v":2},{"$f":"AJ13/(AL4-AJ8)","v":8.6956521739130432E-2},-0.30639669183104457,null,221,{"$f":"COUNTIF(L116:L142,AN13)","v":0},{"$f":"AO13/(AQ4-AO8)","v":0},0,null,221,{"$f":"COUNTIF(L143:L169,AS13)","v":1},{"$f":"AT13/(AV4-AT8)","v":0.04},-0.18575424759098899]
[11,948,22,954,23,960,null,null,null,null,0,122,null,222,24,0.14723926380368099,-0.40693482014870008,null,null,222,{"$f":"COUNTIF(L7:L33,T14)","v":1},{"$f":"U14/(W4-U8)","v":4.5454545454545456E-2},-0.20270143721078623,null,222,{"$f":"COUNTIF(L34:L60,Y14)","v":6},{"$f":"Z14/(AB4-Z8)","v":0.2608695652173913},-0.50572159704413644,null,222,{"$f":"COUNTIF(L61:L88,AD14)","v":7},{"$f":"AE14/(AG4-AE8)","v":0.29166666666666669},-0.51846887711020273,null,222,{"$f":"COUNTIF(L89:L115,AI14)","v":4},{"$f":"AJ14/(AL4-AJ8)","v":0.17391304347826086},-0.43888034018382832,null,222,{"$f":"COUNTIF(L116:L142,AN14)","v":1},{"$f":"AO14/(AQ4-AO8)","v":4.1666666666666664E-2},-0.19104010419671485,null,222,{"$f":"COUNTIF(L143:L169,AS14)","v":5},{"$f":"AT14/(AV4-AT8)","v":0.2},-0.46438561897747244]
[11,1085,22,1092,23,1099,null,null,null,null,0,122,null,null,null,{"$f":"SUM(P7:P14)","v":1},{"$f":"-SUM(Q7:Q14)","v":2.3487583007433992},null,null,null,null,{"$f":"SUM(V7:V14)","v":1},{"$f":"-SUM(W7:W14)","v":1.5820239409642765},null,null,null,{"$f":"SUM(AA7:AA14)","v":1},{"$f":"-SUM(AB7:AB14)","v":1.531703525051213},null,null,null,{"$f":"SUM(AF7:AF14)","v":1},{"$f":"-SUM(AG7:AG14)","v":1.9653472755846209},null,null,null,{"$f":"SUM(AK7:AK14)","v":1},{"$f":"-SUM(AL7:AL14)","v":2.3266347815795863},null,null,null,{"$f":"SUM(AP7:AP14)","v":0.99999999999999989},{"$f":"-SUM(AQ7:AQ14)","v":2.042481250360578},null,null,null,{"$f":"SUM(AU7:AU14)","v":1.0000000000000002},{"$f":"-SUM(AV7:AV14)","v":1.727351814444994}]
[11,1266,22,1271,14,1286,null,null,null,null,0,121,null,null,null,"U=",{"$f":"Q15/(LOG(Q4)/LOG(2))","v":0.31961425861032655},null,null,null,null,"U1=",{"$f":"W15/(LOG(W4)/LOG(2))","v":0.33271532507224566},null,null,null,"U2=",{"$f":"AB15/(LOG(AB4)/LOG(2))","v":0.32213244253503154},null,null,null,"U3=",{"$f":"AG15/(LOG(AG4)/LOG(2))","v":0.40882092282535892},null,null,null,"U4=",{"$f":"AL15/(LOG(AL4)/LOG(2))","v":0.48931436979759674},null,null,null,"U5=",{"$f":"AQ15/(LOG(AQ4)/LOG(2))","v":0.4295540639881073},null,null,null,"U6=",{"$f":"AV15/(LOG(AV4)/LOG(2))","v":0.36327921820633002}]
[11,1399,22,1406,23,1412,null,null,null,null,0,122]
[11,1503,11,1514,21,1523,null,null,null,null,0,112]
[22,1627,13,1631,23,1633,null,null,null,null,0,212,null,"Total Target Seq"]
[22,1733,13,1735,23,1746,null,null,null,null,0,212,null,{"$f":"COUNTIF(L7:L169,G3)","v":22},null,27,27,28,27,27,27]
[11,1849,22,1858,23,1863,null,null,null,null,0,122,null,null,null,"% of reinforcement given in 6 equal intervals based on number of trials "]
[11,1971,11,1980,21,1984,null,null,null,null,0,112,null,null,null,"%_1","%_2","%_3","%_4","%_5","%_6"]
[11,2119,11,2127,21,2133,null,null,null,null,0,112,null,null,"target sequence",{"$f":"$G$3","v":112},112,112,112,112,112]
[22,2257,13,2266,23,2272,null,null,null,null,0,212,null,null,"total reinforcement",{"$f":"U8","v":5},{"$f":"Z8","v":4},{"$f":"AE8","v":4},{"$f":"AJ8","v":4},{"$f":"AO8","v":3},{"$f":"AT8","v":2}]
[22,2375,13,2379,23,2387,null,null,null,null,0,212,null,null,"% target"]
[22,2511,24,2518,23,2525,null,null,null,null,0,222,null,null,"CCRF"]
[11,2614,22,2625,23,2631,null,null,null,null,0,122,null,null,"% CCRf"]
[11,2732,22,2740,23,2747,null,null,null,null,0,122,null,null,"average response rate",{"$f":"F33/P20","v":124.14814814814815},{"$f":"(F60-F33)/Q20","v":122.77777777777777},{"$f":"(F88-F60)/R20","v":113.21428571428571},{"$f":"(F115-F88)/S20","v":126.14814814814815},{"$f":"(F142-F115)/T20","v":122.77777777777777},{"$f":"(F169-F142)/U20","v":253.33333333333334}]
[11,2842,22,2847,23,2849,null,null,null,null,0,122]
[11,2949,22,2958,23,2970,null,null,null,null,0,122]
[11,3072,22,3079,23,3085,null,null,null,null,0,122]
[11,3189,22,3208,23,3214,null,null,null,null,0,122]
[22,3344,24,3349,14,3352,null,null,null,null,0,221]
[11,3455,22,3464,23,3470,null,null,null,null,0,122]
[11,3571,22,3581,14,3584,null,null,null,null,0,121]
[11,3689,22,3694,23,3696,null,null,null,null,0,122]
[11,3795,11,3807,21,3812,null,null,null,null,0,112]
[22,3907,24,3923,23,3957,null,null,null,null,0,222]
[22,4083,24,4089,23,4095,null,null,null,null,0,222]
[22,4196,24,4205,23,4211,null,null,null,null,0,222]
[11,4310,22,4314,23,4316,null,null,null,null,0,122]
[11,4422,22,4438,23,4443,null,null,null,null,0,122]
[11,4562,22,4578,23,4584,null,null,null,null,0,122]
[11,4692,11,4700,21,4705,null,null,null,null,0,112]
[22,4802,24,4808,23,4814,null,null,null,null,0,222]
[11,4948,22,4976,23,4981,null,null,null,null,0,122]
[11,5084,22,5089,23,5095,null,null,null,null,0,122]
[11,5191,22,5198,23,5200,null,null,null,null,0,122]
[11,5293,22,5296,23,5298,null,null,null,null,0,122]
[11,5406,22,5415,23,5421,null,null,null,null,0,122]
[11,5521,22,5523,23,5529,null,null,null,null,0,122]
[11,5628,22,5640,23,5651,null,null,null,null,0,122]
[11,5751,22,5759,23,5761,null,null,null,null,0,122]
[11,5859,11,5864,21,5869,null,null,null,null,0,112]
[22,6036,24,6044,23,6054,null,null,null,null,0,222]
[11,6156,22,6163,23,6166,null,null,null,null,0,122]
[11,6275,11,6278,21,6285,null,null,null,null,0,112]
[22,6395,24,6404,23,6419,null,null,null,null,0,222]
[22,6529,13,6535,23,6540,null,null,null,null,0,212]
[11,6652,11,6656,12,6667,null,null,null,null,0,111]
[22,6767,24,6769,14,6770,null,null,null,null,0,221]
[22,6872,13,6874,23,6880,null,null,null,null,0,212]
[11,6980,22,6987,23,6990,null,null,null,null,0,122]
[11,7089,22,7102,23,7109,null,null,null,null,0,122]
[22,7214,13,7218,23,7227,null,null,null,null,0,212]
[11,7322,11,7326,21,7327,null,null,null,null,0,112]
[22,7418,24,7424,23,7433,null,null,null,null,0,222]
[11,7532,22,7534,23,7539,null,null,null,null,0,122]
[11,7641,22,7653,23,7662,null,null,null,null,0,122]
[11,7755,22,7761,14,7764,null,null,null,null,0,121]
[11,7880,11,7885,21,7887,null,null,null,null,0,112]
[22,7977,24,7991,23,7997,null,null,null,null,0,222]
[22,8096,24,8105,23,8111,null,null,null,null,0,222]
[22,8216,24,8219,23,8223,null,null,null,null,0,222]
[11,8324,22,8331,23,8337,null,null,null,null,0,122]
[11,8438,22,8440,14,8442,null,null,null,null,0,121]
[11,8535,22,8542,23,8544,null,null,null,null,0,122]
[11,8653,22,8665,23,8670,null,null,null,null,0,122]
[11,8774,22,8776,23,8778,null,null,null,null,0,122]
[11,8885,22,8892,23,8898,null,null,null,null,0,122]
[22,9002,13,9005,23,9007,null,null,null,null,0,212]
[11,9110,22,9119,23,9123,null,null,null,null,0,122]
[11,9219,11,9230,21,9241,null,null,null,null,0,112]
[22,9349,24,9355,23,9367,null,null,null,null,0,222]
[22,9460,13,9464,23,9474,null,null,null,null,0,212]
[22,9585,24,9602,23,9607,null,null,null,null,0,222]
[22,9717,24,9719,23,9725,null,null,null,null,0,222]
[11,9817,11,9832,21,9837,null,null,null,null,0,112]
[22,9951,13,9957,23,9968,null,null,null,null,0,212]
[11,10070,22,10082,23,10093,null,null,null,null,0,122]
[11,10208,22,10216,23,10222,null,null,null,null,0,122]
[11,10330,11,10334,12,10336,null,null,null,null,0,111]
[11,10437,22,10440,23,10446,null,null,null,null,0,122]
[22,10549,13,10552,23,10557,null,null,null,null,0,212]
[22,10658,24,10671,23,10677,null,null,null,null,0,222]
[11,10764,11,10773,21,10788,null,null,null,null,0,112]
[22,10941,13,10949,23,10953,null,null,null,null,0,212]
[11,11111,22,11121,23,11126,null,null,null,null,0,122]
[11,11228,22,11232,23,11237,null,null,null,null,0,122]
[22,11345,13,11348,23,11354,null,null,null,null,0,212]
[11,11445,11,11460,21,11463,null,null,null,null,0,112]
[11,11557,22,11564,23,11579,null,null,null,null,0,122]
[22,11696,24,11702,23,11706,null,null,null,null,0,222]
[11,11809,22,11817,14,11820,null,null,null,null,0,121]
[11,11928,22,11936,23,11938,null,null,null,null,0,122]
[11,12036,11,12043,21,12051,null,null,null,null,0,112]
[11,12141,11,12155,21,12158,null,null,null,null,0,112]
[22,12310,24,12319,14,12321,null,null,null,null,0,221]
[22,12496,24,12522,14,12533,null,null,null,null,0,221]
[11,12630,22,12648,23,12655,null,null,null,null,0,122]
[22,12767,24,12769,23,12775,null,null,null,null,0,222]
[22,12887,24,12893,23,12901,null,null,null,null,0,222]
[11,12993,22,13012,14,13016,null,null,null,null,0,121]
[11,13117,22,13127,23,13132,null,null,null,null,0,122]
[11,13238,11,13240,12,13243,null,null,null,null,0,111]
[11,13336,11,13349,21,13357,null,null,null,null,0,112]
[11,13527,22,13533,23,13556,null,null,null,null,0,122]
[11,13660,22,13670,23,13675,null,null,null,null,0,122]
[11,13786,22,13790,23,13794,null,null,null,null,0,122]
[11,13913,11,13919,12,13926,null,null,null,null,0,111]
[11,14029,22,14035,23,14041,null,null,null,null,0,122]
[11,14134,11,14143,21,14153,null,null,null,null,0,112]
[11,14250,22,14258,23,14266,null,null,null,null,0,122]
[11,14361,22,14369,23,14374,null,null,null,null,0,122]
[11,14477,22,14485,23,14495,null,null,null,null,0,122]
[22,14601,13,14606,14,14611,null,null,null,null,0,211]
[11,14709,22,14721,23,14727,null,null,null,null,0,122]
[22,14833,13,14837,23,14842,null,null,null,null,0,212]
[22,14941,13,14944,23,14947,null,null,null,null,0,212]
[11,15054,22,15060,14,15062,null,null,null,null,0,121]
[11,15156,11,15172,21,15179,null,null,null,null,0,112]
[11,15272,22,15279,23,15294,null,null,null,null,0,122]
[11,15423,11,15431,12,15445,null,null,null,null,0,111]
[22,15561,24,15567,23,15572,null,null,null,null,0,222]
[11,15664,11,15669,12,15682,null,null,null,null,0,111]
[11,15775,22,15783,23,15794,null,null,null,null,0,122]
[11,15940,11,15943,12,15962,null,null,null,null,0,111]
[11,16055,22,16060,14,16067,null,null,null,null,0,121]
[11,16189,22,16203,14,16205,null,null,null,null,0,121]
[11,16327,22,16329,23,16338,null,null,null,null,0,122]
[11,16437,22,16440,23,16443,null,null,null,null,0,122]
[11,16538,22,16554,14,16558,null,null,null,null,0,121]
[22,16662,24,16664,14,16674,null,null,null,null,0,221]
[11,16789,22,16809,23,16816,null,null,null,null,0,122]
[22,16928,24,16936,23,16942,null,null,null,null,0,222]
[11,17038,22,17044,23,17046,null,null,null,null,0,122]
[22,17150,13,17152,23,17154,null,null,null,null,0,212]
[22,17262,13,17265,23,17267,null,null,null,null,0,212]
[22,17365,13,17368,23,17373,null,null,null,null,0,212]
[11,17473,22,17475,23,17478,null,null,null,null,0,122]
[11,17585,11,17596,21,17605,null,null,null,null,0,112]
[11,17732,22,17738,23,17747,null,null,null,null,0,122]
[11,17851,22,17864,23,17869,null,null,null,null,0,122]
[11,17962,22,17967,23,17971,null,null,null,null,0,122]
[22,18081,13,18086,23,18094,null,null,null,null,0,212]
[11,18187,22,18201,14,18204,null,null,null,null,0,121]
[11,18303,22,18315,23,18325,null,null,null,null,0,122]
[11,18425,22,18427,23,18434,null,null,null,null,0,122]
[11,18554,11,18557,21,18574,null,null,null,null,0,112]
[22,18666,24,18675,23,18681,null,null,null,null,0,222]
[11,18812,22,18825,23,18833,null,null,null,null,0,122]
[11,18938,22,18940,23,18943,null,null,null,null,0,122]
[22,19102,24,19114,23,19120,null,null,null,null,0,222]
[11,20171,22,20182,23,20189,null,null,null,null,0,122]
[22,20586,24,20591,23,20597,null,null,null,null,0,222]
[11,21142,22,21155,23,21157,null,null,null,null,0,122]
[11,21943,22,21966,23,21973,null,null,null,null,0,122]
[11,23186,22,23194,23,23196,null,null,null,null,0,122]
[22,23388,24,23392,23,23398,null,null,null,null,0,222]

{"sheet":"!N105830.Gus","index":11,"n_rows":205,"n_cols":48,"rows_kept":205,"cut":false,"hidden":false,"merged":[[1,1,1,2],[5,13,5,14],[18,13,18,14],[19,13,19,14],[4,19,4,22],[5,19,5,20],[4,39,4,42],[5,39,5,40],[4,44,4,47],[5,44,5,45],[4,24,4,27],[5,24,5,25],[4,29,4,32],[5,29,5,30],[4,34,4,37],[5,34,5,35]]}
["Report for:!N105830.Gus"]
["Date:","<date>"]
["Hen:","<hen>",null,null,null,"Correct Sequence",{"$f":"Start!J2","v":112},null,null,null,null,null,null,null,null,"Total Sequences in Data",{"$f":"4994-COUNTBLANK(L7:L5000)","v":199},null,null,null,null,"Total Sequences in Block Data",{"$f":"COUNTA(L7:L39)","v":33},null,null,null,"Total Sequences in Block Data",{"$f":"COUNTA(L40:L72)","v":33},null,null,null,"Total Sequences in Block Data",{"$f":"COUNTA(L73:L106)","v":34},null,null,null,"Total Sequences in Block Data",{"$f":"COUNTA(L107:L139)","v":33},null,null,null,"Total Sequences in Block Data",{"$f":"COUNTA(L140:L172)","v":33},null,null,null,"Total Sequences in Block Data",{"$f":"COUNTA(L173:L205)","v":33}]
[null,null,null,null,null,null,null,null,null,null,null,null,null,null,null,"Total Sequences in Summary",{"$f":"SUM(O7:O14)","v":199},null,null,null,null,"Total Sequences in Block Summary",{"$f":"SUM(U7:U14)","v":33},null,null,null,"Total Sequences in Block Summary",{"$f":"SUM(Z7:Z14)","v":33},null,null,null,"Total Sequences in Block Summary",{"$f":"SUM(AE7:AE14)","v":34},null,null,null,"Total Sequences in Block Summary",{"$f":"SUM(AJ7:AJ14)","v":33},null,null,null,"Total Sequences in Block Summary",{"$f":"SUM(AO7:AO14)","v":33},null,null,null,"Total Sequences in Block Summary",{"$f":"SUM(AT7:AT14)","v":33}]
[null,null,null,null,null,null,null,null,null,null,null,null,null,null,null,null,null,null,null,"Block 1",null,null,null,null,"Block 2",null,null,null,null,"Block 3",null,null,null,null,"Block 4",null,null,null,null,"Block 5",null,null,null,null,"Block 6"]
["Sequence\nComponent\n1","Time\n1","Sequence\nComponent\n2","Time\n2","Sequence\nComponent\n3","Time\n3","Sequence\nComponent\n4","Time\n4","Sequence\nComponent\n5","Time\n5","Correct?\n0=No 1=Yes","Sequence",null,"Frequency",null,"Relative Frequency","Variability",null,null,"Frequency",null,"Relative Frequency","Variability",null,"Frequency",null,"Relative Frequency","Variability",null,"Frequency",null,"Relative Frequency","Variability",null,"Frequency",null,"Relative Frequency","Variability",null,"Frequency",null,"Relative Frequency","Variability",null,"Frequency",null,"Relative Frequency","Variability"]
[22,40,24,64,14,67,null,null,null,null,0,221,null,111,{"$f":"COUNTIF($L$7:$L$500,N7)","v":8},{"$f":"O7/$Q$4","v":4.0201005025125629E-2},{"$f":"IF(P7=0,0,(P7*((LOG(P7))/LOG(2))))","v":-0.18639696967009645},null,null,{"$f":"N7","v":111},{"$f":"COUNTIF(L7:L39,T7)","v":2},{"$f":"U7/(W4-U8)","v":6.8965517241379309E-2},{"$f":"IF(V7=0,0,(V7*((LOG(V7))/LOG(2))))","v":-0.26606765483638428},null,{"$f":"N7","v":111},{"$f":"COUNTIF(L40:L72,Y7)","v":0},{"$f":"Z7/(AB4-Z8)","v":0},{"$f":"IF(AA7=0,0,(AA7*((LOG(AA7))/LOG(2))))","v":0},null,{"$f":"N7","v":111},{"$f":"COUNTIF(L73:L106,AD7)","v":2},{"$f":"AE7/(AG4-AE8)","v":6.6666666666666666E-2},{"$f":"IF(AF7=0,0,(AF7*((LOG(AF7))/LOG(2))))","v":-0.26045937304056793},null,{"$f":"N7","v":111},{"$f":"COUNTIF(L107:L139,AI7)","v":1},{"$f":"AJ7/(AL4-AJ8)","v":3.5714285714285712E-2},{"$f":"IF(AK7=0,0,(AK7*((LOG(AK7))/LOG(2))))","v":-0.17169124721634299},null,{"$f":"N7","v":111},{"$f":"COUNTIF(L140:L172,AN7)","v":0},{"$f":"AO7/(AQ4-AO8)","v":0},{"$f":"IF(AP7=0,0,(AP7*((LOG(AP7))/LOG(2))))","v":0},null,{"$f":"N7","v":111},{"$f":"COUNTIF(L173:L205,AS7)","v":3},{"$f":"AT7/(AV4-AT8)","v":9.6774193548387094E-2},{"$f":"IF(AU7=0,0,(AU7*((LOG(AU7))/LOG(2))))","v":-0.32605488480635986}]
[22,170,24,173,14,176,null,null,null,null,0,221,null,112,24,0.12060301507537688,-0.36803965264190863,null,null,112,{"$f":"COUNTIF(L7:L39,T8)","v":4},null,null,null,112,{"$f":"COUNTIF(L40:L72,Y8)","v":4},null,null,null,112,{"$f":"COUNTIF(L73:L106,AD8)","v":4},null,null,null,112,{"$f":"COUNTIF(L107:L139,AI8)","v":5},null,null,null,112,{"$f":"COUNTIF(L140:L172,AN8)","v":5},null,null,null,112,{"$f":"COUNTIF(L173:L205,AS8)","v":2}]
[11,272,22,292,14,296,null,null,null,null,0,121,null,121,8,4.0201005025125629E-2,-0.18639696967009645,null,null,121,{"$f":"COUNTIF(L7:L39,T9)","v":2},{"$f":"U9/(W4-U8)","v":6.8965517241379309E-2},{"$f":"IF(V9=0,0,(V9*((LOG(V9))/LOG(2))))","v":-0.26606765483638428},null,121,{"$f":"COUNTIF(L40:L72,Y9)","v":1},{"$f":"Z9/(AB4-Z8)","v":3.4482758620689655E-2},{"$f":"IF(AA9=0,0,(AA9*((LOG(AA9))/LOG(2))))","v":-0.16751658603888178},null,121,{"$f":"COUNTIF(L73:L106,AD9)","v":0},{"$f":"AE9/(AG4-AE8)","v":0},{"$f":"IF(AF9=0,0,(AF9*((LOG(AF9))/LOG(2))))","v":0},null,121,{"$f":"COUNTIF(L107:L139,AI9)","v":0},{"$f":"AJ9/(AL4-AJ8)","v":0},{"$f":"IF(AK9=0,0,(AK9*((LOG(AK9))/LOG(2))))","v":0},null,121,{"$f":"COUNTIF(L140:L172,AN9)","v":5},{"$f":"AO9/(AQ4-AO8)","v":0.17857142857142858},{"$f":"IF(AP9=0,0,(AP9*((LOG(AP9))/LOG(2))))","v":-0.44382621913754317},null,121,{"$f":"COUNTIF(L173:L205,AS9)","v":0},{"$f":"AT9/(AV4-AT8)","v":0},{"$f":"IF(AU9=0,0,(AU9*((LOG(AU9))/LOG(2))))","v":0}]
[22,407,24,412,23,423,null,null,null,null,0,222,null,122,73,0.36683417085427134,-0.53073570101228695,null,null,122,{"$f":"COUNTIF(L7:L39,T10)","v":8},{"$f":"U10/(W4-U8)","v":0.27586206896551724},-0.51254648141450265,null,122,{"$f":"COUNTIF(L40:L72,Y10)","v":11},{"$f":"Z10/(AB4-Z8)","v":0.37931034482758619},-0.53048424625493174,null,122,{"$f":"COUNTIF(L73:L106,AD10)","v":19},{"$f":"AE10/(AG4-AE8)","v":0.6333333333333333},-0.41734328537112425,null,122,{"$f":"COUNTIF(L107:L139,AI10)","v":12},{"$f":"AJ10/(AL4-AJ8)","v":0.42857142857142855},-0.52388246628704915,null,122,{"$f":"COUNTIF(L140:L172,AN10)","v":9},{"$f":"AO10/(AQ4-AO8)","v":0.32142857142857145},-0.5263167601977724,null,122,{"$f":"COUNTIF(L173:L205,AS10)","v":14},{"$f":"AT10/(AV4-AT8)","v":0.45161290322580644},-0.51792836892289662]
[22,519,24,525,23,532,null,null,null,null,0,222,null,211,0,0,0,null,null,211,{"$f":"COUNTIF(L7:L39,T11)","v":0},{"$f":"U11/(W4-U8)","v":0},0,null,211,{"$f":"COUNTIF(L40:L72,Y11)","v":0},{"$f":"Z11/(AB4-Z8)","v":0},0,null,211,{"$f":"COUNTIF(L73:L106,AD11)","v":0},{"$f":"AE11/(AG4-AE8)","v":0},0,null,211,{"$f":"COUNTIF(L107:L139,AI11)","v":0},{"$f":"AJ11/(AL4-AJ8)","v":0},0,null,211,{"$f":"COUNTIF(L140:L172,AN11)","v":0},{"$f":"AO11/(AQ4-AO8)","v":0},0,null,211,{"$f":"COUNTIF(L173:L205,AS11)","v":0},{"$f":"AT11/(AV4-AT8)","v":0},0]
[11,635,22,638,23,650,null,null,null,null,0,122,null,212,27,0.135678391959799,-0.39098945827268777,null,null,212,{"$f":"COUNTIF(L7:L39,T12)","v":2},{"$f":"U12/(W4-U8)","v":6.8965517241379309E-2},-0.26606765483638428,null,212,{"$f":"COUNTIF(L40:L72,Y12)","v":6},{"$f":"Z12/(AB4-Z8)","v":0.20689655172413793},-0.4702796884978791,null,212,{"$f":"COUNTIF(L73:L106,AD12)","v":2},{"$f":"AE12/(AG4-AE8)","v":6.6666666666666666E-2},-0.26045937304056793,null,212,{"$f":"COUNTIF(L107:L139,AI12)","v":4},{"$f":"AJ12/(AL4-AJ8)","v":0.14285714285714285},-0.40105070315108626,null,212,{"$f":"COUNTIF(L140:L172,AN12)","v":6},{"$f":"AO12/(AQ4-AO8)","v":0.21428571428571427},-0.47622694742923877,null,212,{"$f":"COUNTIF(L173:L205,AS12)","v":7},{"$f":"AT12/(AV4-AT8)","v":0.22580645161290322},-0.48477063607435156]
[11,743,11,754,21,780,null,null,null,null,0,112,null,221,15,7.5376884422110546E-2,-0.28113573052274848,null,null,221,{"$f":"COUNTIF(L7:L39,T13)","v":7},{"$f":"U13/(W4-U8)","v":0.2413793103448276},-0.49497870729275095,null,221,{"$f":"COUNTIF(L40:L72,Y13)","v":3},{"$f":"Z13/(AB4-Z8)","v":0.10344827586206896},-0.33858812011100858,null,221,{"$f":"COUNTIF(L73:L106,AD13)","v":1},{"$f":"AE13/(AG4-AE8)","v":3.3333333333333333E-2},-0.16356301985361729,null,221,{"$f":"COUNTIF(L107:L139,AI13)","v":2},{"$f":"AJ13/(AL4-AJ8)","v":7.1428571428571425E-2},-0.27195392300411453,null,221,{"$f":"COUNTIF(L140:L172,AN13)","v":2},{"$f":"AO13/(AQ4-AO8)","v":7.1428571428571425E-2},-0.27195392300411453,null,221,{"$f":"COUNTIF(L173:L205,AS13)","v":0},{"$f":"AT13/(AV4-AT8)","v":0},0]
[11,889,11,899,12,904,null,null,null,null,0,111,null,222,44,0.22110552763819097,-0.48138940745668074,null,null,222,{"$f":"COUNTIF(L7:L39,T14)","v":8},{"$f":"U14/(W4-U8)","v":0.27586206896551724},-0.51254648141450265,null,222,{"$f":"COUNTIF(L40:L72,Y14)","v":8},{"$f":"Z14/(AB4-Z8)","v":0.27586206896551724},-0.51254648141450265,null,222,{"$f":"COUNTIF(L73:L106,AD14)","v":6},{"$f":"AE14/(AG4-AE8)","v":0.2},-0.46438561897747244,null,222,{"$f":"COUNTIF(L107:L139,AI14)","v":9},{"$f":"AJ14/(AL4-AJ8)","v":0.32142857142857145},-0.5263167601977724,null,222,{"$f":"COUNTIF(L140:L172,AN14)","v":6},{"$f":"AO14/(AQ4-AO8)","v":0.21428571428571427},-0.47622694742923877,null,222,{"$f":"COUNTIF(L173:L205,AS14)","v":7},{"$f":"AT14/(AV4-AT8)","v":0.22580645161290322},-0.48477063607435156]
[11,1011,22,1036,23,1043,null,null,null,null,0,122,null,null,null,{"$f":"SUM(P7:P14)","v":1},{"$f":"-SUM(Q7:Q14)","v":2.4250838892465056},null,null,null,null,{"$f":"SUM(V7:V14)","v":1},{"$f":"-SUM(W7:W14)","v":2.3182746346309093},null,null,null,{"$f":"SUM(AA7:AA14)","v":1},{"$f":"-SUM(AB7:AB14)","v":2.0194151223172039},null,null,null,{"$f":"SUM(AF7:AF14)","v":1},{"$f":"-SUM(AG7:AG14)","v":1.5662106702833498},null,null,null,{"$f":"SUM(AK7:AK14)","v":1},{"$f":"-SUM(AL7:AL14)","v":1.8948950998563654},null,null,null,{"$f":"SUM(AP7:AP14)","v":1},{"$f":"-SUM(AQ7:AQ14)","v":2.1945507971979077},null,null,null,{"$f":"SUM(AU7:AU14)","v":1},{"$f":"-SUM(AV7:AV14)","v":1.8135245258779595}]
[11,1140,11,1169,21,1182,null,null,null,null,0,112,null,null,null,"U=",{"$f":"Q15/(LOG(Q4)/LOG(2))","v":0.31755965622857396},null,null,null,null,"U1=",{"$f":"W15/(LOG(W4)/LOG(2))","v":0.45957444636101269},null,null,null,"U2=",{"$f":"AB15/(LOG(AB4)/LOG(2))","v":0.40032857753272327},null,null,null,"U3=",{"$f":"AG15/(LOG(AG4)/LOG(2))","v":0.30785692577135843},null,null,null,"U4=",{"$f":"AL15/(LOG(AL4)/LOG(2))","v":0.37564374531809153},null,null,null,"U5=",{"$f":"AQ15/(LOG(AQ4)/LOG(2))","v":0.43504744975735776},null,null,null,"U6=",{"$f":"AV15/(LOG(AV4)/LOG(2))","v":0.35951285386650239}]
[22,1281,13,1285,23,1291,null,null,null,null,0,212]
[11,1387,22,1390,23,1393,null,null,null,null,0,122]
[11,1505,22,1511,23,1518,null,null,null,null,0,122,null,"Total Target Seq"]
[11,1611,22,1623,14,1627,null,null,null,null,0,121,null,{"$f":"COUNTIF(L7:L205,G3)","v":24},null,33,33,34,33,33,33]
[11,1726,22,1735,23,1750,null,null,null,null,0,122,null,null,null,"% of reinforcement given in 6 equal intervals based on number of trials "]
[22,1857,24,1860,23,1866,null,null,null,null,0,222,null,null,null,"%_1","%_2","%_3","%_4","%_5","%_6"]
[11,1959,22,1972,23,1979,null,null,null,null,0,122,null,null,"target sequence",{"$f":"$G$3","v":112},112,112,112,112,112]
[11,2085,22,2089,23,2100,null,null,null,null,0,122,null,null,"total reinforcement",{"$f":"U8","v":4},{"$f":"Z8","v":4},{"$f":"AE8","v":4},{"$f":"AJ8","v":5},{"$f":"AO8","v":5},{"$f":"AT8","v":2}]
[11,2197,22,2200,23,2207,null,null,null,null,0,122,null,null,"% target"]
[22,2307,24,2314,23,2321,null,null,null,null,0,222,null,null,"CCRF"]
[22,2421,24,2425,23,2433,null,null,null,null,0,222,null,null,"% CCRf"]
[22,2546,24,2550,14,2555,null,null,null,null,0,221,null,null,"average response rate",{"$f":"F39/P20","v":116.06060606060606},{"$f":"(F72-F39)/Q20","v":122.06060606060606},{"$f":"(F106-F72)/R20","v":120.20588235294117},{"$f":"(F139-F106)/S20","v":122.12121212121212},{"$f":"(F172-F139)/T20","v":120.06060606060606},{"$f":"(F205-F172)/U20","v":122.15151515151516}]
[22,2667,24,2671,14,2673,null,null,null,null,0,221]
[11,2783,11,2787,12,2803,null,null,null,null,0,111]
[11,2896,11,2904,21,2926,null,null,null,null,0,112]
[22,3034,24,3037,23,3043,null,null,null,null,0,222]
[22,3145,24,3152,23,3159,null,null,null,null,0,222]
[22,3256,24,3260,23,3265,null,null,null,null,0,222]
[11,3361,11,3374,21,3382,null,null,null,null,0,112]
[22,3481,24,3485,14,3491,null,null,null,null,0,221]
[22,3593,24,3602,14,3607,null,null,null,null,0,221]
[22,3706,24,3711,14,3715,null,null,null,null,0,221]
[22,3820,13,3824,23,3830,null,null,null,null,0,212]
[11,3925,22,3948,23,3954,null,null,null,null,0,122]
[11,4059,22,4071,14,4075,null,null,null,null,0,121]
[11,4164,22,4186,23,4198,null,null,null,null,0,122]
[11,4303,22,4310,23,4318,null,null,null,null,0,122]
[22,4417,24,4420,23,4426,null,null,null,null,0,222]
[11,4533,22,4539,23,4545,null,null,null,null,0,122]
[22,4646,24,4650,23,4654,null,null,null,null,0,222]
[22,4754,24,4760,23,4772,null,null,null,null,0,222]
[22,4890,13,4901,23,4909,null,null,null,null,0,212]
[22,5024,24,5029,23,5035,null,null,null,null,0,222]
[22,5159,24,5167,23,5174,null,null,null,null,0,222]
[11,5271,22,5278,23,5288,null,null,null,null,0,122]
[22,5395,24,5400,23,5406,null,null,null,null,0,222]
[22,5513,24,5517,14,5521,null,null,null,null,0,221]
[11,5626,22,5637,23,5650,null,null,null,null,0,122]
[22,5764,24,5766,23,5772,null,null,null,null,0,222]
[11,5881,11,5893,21,5901,null,null,null,null,0,112]
[22,6016,13,6021,23,6027,null,null,null,null,0,212]
[22,6131,24,6139,14,6153,null,null,null,null,0,221]
[11,6251,22,6263,23,6271,null,null,null,null,0,122]
[22,6382,13,6388,23,6393,null,null,null,null,0,212]
[11,6486,11,6498,21,6503,null,null,null,null,0,112]
[11,6636,22,6658,23,6665,null,null,null,null,0,122]
[11,6774,11,6783,21,6789,null,null,null,null,0,112]
[22,6917,13,6924,23,6931,null,null,null,null,0,212]
[11,7027,22,7040,23,7047,null,null,null,null,0,122]
[22,7144,13,7151,23,7153,null,null,null,null,0,212]
[11,7256,22,7267,23,7274,null,null,null,null,0,122]
[11,7381,11,7391,21,7401,null,null,null,null,0,112]
[22,7508,13,7513,23,7518,null,null,null,null,0,212]
[22,7620,24,7626,23,7639,null,null,null,null,0,222]
[11,7730,22,7743,23,7749,null,null,null,null,0,122]
[22,7852,24,7856,14,7858,null,null,null,null,0,221]
[11,7957,22,7967,23,7973,null,null,null,null,0,122]
[11,8067,22,8072,23,8076,null,null,null,null,0,122]
[22,8175,24,8182,14,8186,null,null,null,null,0,221]
[11,8282,11,8288,12,8293,null,null,null,null,0,111]
[11,8446,22,8464,23,8472,null,null,null,null,0,122]
[22,8578,24,8582,23,8587,null,null,null,null,0,222]
[22,8696,24,8709,23,8715,null,null,null,null,0,222]
[11,8808,22,8813,23,8818,null,null,null,null,0,122]
[11,8914,22,8917,23,8922,null,null,null,null,0,122]
[11,9030,22,9038,23,9048,null,null,null,null,0,122]
[11,9148,11,9154,21,9159,null,null,null,null,0,112]
[11,9253,22,9262,23,9269,null,null,null,null,0,122]
[22,9375,24,9380,23,9386,null,null,null,null,0,222]
[11,9481,22,9488,23,9502,null,null,null,null,0,122]
[22,9608,24,9614,23,9619,null,null,null,null,0,222]
[11,9717,22,9727,23,9732,null,null,null,null,0,122]
[11,9830,22,9833,23,9836,null,null,null,null,0,122]
[11,9943,22,9951,23,9959,null,null,null,null,0,122]
[11,10070,22,10075,23,10080,null,null,null,null,0,122]
[11,10177,11,10187,21,10190,null,null,null,null,0,112]
[11,10278,11,10293,21,10295,null,null,null,null,0,112]
[22,10431,13,10439,23,10449,null,null,null,null,0,212]
[11,10547,22,10559,23,10565,null,null,null,null,0,122]
[11,10669,22,10674,23,10684,null,null,null,null,0,122]
[22,10784,13,10787,23,10793,null,null,null,null,0,212]
[11,10891,22,10894,23,10913,null,null,null,null,0,122]
[11,11030,22,11043,23,11049,null,null,null,null,0,122]
[11,11147,11,11154,12,11162,null,null,null,null,0,111]
[11,11256,22,11263,23,11266,null,null,null,null,0,122]
[22,11457,24,11461,23,11467,null,null,null,null,0,222]
[11,11572,22,11580,23,11585,null,null,null,null,0,122]
[22,11692,24,11699,23,11705,null,null,null,null,0,222]
[11,11797,22,11829,23,11835,null,null,null,null,0,122]
[11,11929,11,11941,21,11945,null,null,null,null,0,112]
[22,12055,13,12060,23,12067,null,null,null,null,0,212]
[11,12171,22,12185,23,12197,null,null,null,null,0,122]
[11,12297,11,12303,21,12306,null,null,null,null,0,112]
[11,12399,22,12421,23,12428,null,null,null,null,0,122]
[11,12534,22,12539,23,12544,null,null,null,null,0,122]
[11,12636,11,12659,21,12662,null,null,null,null,0,112]
[11,12751,11,12753,12,12755,null,null,null,null,0,111]
[11,12857,22,12862,23,12869,null,null,null,null,0,122]
[22,12972,13,12974,23,12978,null,null,null,null,0,212]
[22,13084,24,13091,14,13094,null,null,null,null,0,221]
[22,13246,13,13249,23,13252,null,null,null,null,0,212]
[22,13355,24,13359,23,13365,null,null,null,null,0,222]
[11,13457,22,13479,23,13489,null,null,null,null,0,122]
[22,13589,13,13594,23,13600,null,null,null,null,0,212]
[11,13692,22,13711,23,13718,null,null,null,null,0,122]
[11,13818,22,13824,23,13830,null,null,null,null,0,122]
[11,13931,22,13938,23,13945,null,null,null,null,0,122]
[22,14056,24,14061,23,14070,null,null,null,null,0,222]
[22,14182,24,14190,23,14196,null,null,null,null,0,222]
[11,14290,22,14313,23,14319,null,null,null,null,0,122]
[22,14428,24,14435,23,14440,null,null,null,null,0,222]
[11,14613,11,14617,21,14626,null,null,null,null,0,112]
[22,14722,24,14728,14,14731,null,null,null,null,0,221]
[22,14839,24,14846,23,14850,null,null,null,null,0,222]
[11,14963,22,14981,23,14987,null,null,null,null,0,122]
[11,15085,22,15099,23,15105,null,null,null,null,0,122]
[11,15204,11,15214,21,15218,null,null,null,null,0,112]
[11,15310,11,15324,21,15332,null,null,null,null,0,112]
[22,15500,24,15508,23,15523,null,null,null,null,0,222]
[22,15622,24,15627,23,15633,null,null,null,null,0,222]
[11,15729,22,15736,23,15742,null,null,null,null,0,122]
[22,15851,24,15860,23,15868,null,null,null,null,0,222]
[22,15964,24,15971,23,15975,null,null,null,null,0,222]
[22,16079,13,16082,23,16085,null,null,null,null,0,212]
[11,16183,22,16193,14,16197,null,null,null,null,0,121]
[11,16291,22,16304,23,16311,null,null,null,null,0,122]
[11,16432,22,16434,23,16440,null,null,null,null,0,122]
[11,16533,22,16550,14,16554,null,null,null,null,0,121]
[22,16655,13,16656,23,16659,null,null,null,null,0,212]
[11,16751,11,16769,21,16784,null,null,null,null,0,112]
[11,16904,11,16930,21,16938,null,null,null,null,0,112]
[22,17062,24,17064,14,17068,null,null,null,null,0,221]
[22,17280,13,17288,23,17301,null,null,null,null,0,212]
[22,17426,24,17433,23,17438,null,null,null,null,0,222]
[22,17525,24,17530,23,17552,null,null,null,null,0,222]
[11,17654,22,17660,23,17665,null,null,null,null,0,122]
[11,17767,22,17776,23,17781,null,null,null,null,0,122]
[11,17876,22,17885,14,17891,null,null,null,null,0,121]
[11,18007,22,18012,23,18018,null,null,null,null,0,122]
[11,18110,22,18122,14,18124,null,null,null,null,0,121]
[11,18227,11,18235,21,18239,null,null,null,null,0,112]
[22,18335,24,18339,23,18354,null,null,null,null,0,222]
[22,18456,24,18460,23,18465,null,null,null,null,0,222]
[22,18563,13,18565,23,18567,null,null,null,null,0,212]
[22,18683,13,18687,23,18697,null,null,null,null,0,212]
[11,18799,11,18810,21,18813,null,null,null,null,0,112]
[11,18902,22,18914,23,18919,null,null,null,null,0,122]
[22,19018,24,19024,23,19029,null,null,null,null,0,222]
[11,19126,22,19132,23,19136,null,null,null,null,0,122]
[22,19248,24,19251,14,19255,null,null,null,null,0,221]
[11,19361,22,19363,23,19368,null,null,null,null,0,122]
[22,19469,13,19472,23,19478,null,null,null,null,0,212]
[22,19578,24,19585,23,19592,null,null,null,null,0,222]
[11,19691,22,19699,23,19705,null,null,null,null,0,122]
[11,19812,22,19820,14,19826,null,null,null,null,0,121]
[11,19918,11,19932,21,19937,null,null,null,null,0,112]
[11,20031,22,20044,23,20052,null,null,null,null,0,122]
[22,20152,13,20154,23,20164,null,null,null,null,0,212]
[11,20265,22,20271,23,20276,null,null,null,null,0,122]
[11,20374,22,20386,23,20390,null,null,null,null,0,122]
[22,20493,13,20496,23,20498,null,null,null,null,0,212]
[22,20643,24,20648,23,20657,null,null,null,null,0,222]
[11,20859,11,20861,12,20866,null,null,null,null,0,111]
[11,20957,11,20962,12,20969,null,null,null,null,0,111]
[11,21067,22,21089,23,21095,null,null,null,null,0,122]
[22,21196,24,21206,23,21212,null,null,null,null,0,222]
[22,21339,24,21349,23,21355,null,null,null,null,0,222]
[11,21455,22,21461,23,21466,null,null,null,null,0,122]
[22,21572,13,21575,23,21582,null,null,null,null,0,212]
[11,21680,22,21685,23,21691,null,null,null,null,0,122]
[22,21796,24,21805,23,21811,null,null,null,null,0,222]
[11,21905,22,21918,23,21922,null,null,null,null,0,122]
[22,22036,24,22041,23,22046,null,null,null,null,0,222]
[11,22150,22,22155,23,22157,null,null,null,null,0,122]
[11,22260,22,22269,23,22275,null,null,null,null,0,122]
[22,22381,13,22386,23,22389,null,null,null,null,0,212]
[22,22502,24,22511,23,22518,null,null,null,null,0,222]
[11,22640,11,22641,12,22647,null,null,null,null,0,111]
[22,22761,13,22763,23,22767,null,null,null,null,0,212]
[11,22872,11,22883,21,22897,null,null,null,null,0,112]
[11,22988,22,22997,23,23002,null,null,null,null,0,122]
[11,23109,22,23111,23,23124,null,null,null,null,0,122]
[11,23223,22,23236,23,23246,null,null,null,null,0,122]
[11,23348,22,23354,23,23359,null,null,null,null,0,122]
[11,23495,11,23499,21,23510,null,null,null,null,0,112]
[11,23602,22,23615,23,23621,null,null,null,null,0,122]
[22,23719,13,23724,23,23728,null,null,null,null,0,212]
[22,23845,24,23853,23,23859,null,null,null,null,0,222]
[22,23963,13,23965,23,23968,null,null,null,null,null,212]

{"sheet":"!N106900.Gus","index":12,"n_rows":173,"n_cols":48,"rows_kept":173,"cut":false,"hidden":false,"merged":[[1,1,1,2],[5,13,5,14],[18,13,18,14],[19,13,19,14],[4,19,4,22],[5,19,5,20],[4,39,4,42],[5,39,5,40],[4,44,4,47],[5,44,5,45],[4,24,4,27],[5,24,5,25],[4,29,4,32],[5,29,5,30],[4,34,4,37],[5,34,5,35]]}
["Report for:!N106900.Gus"]
["Date:","<date>"]
["Hen:","<hen>",null,null,null,"Correct Sequence",{"$f":"Start!J2","v":112},null,null,null,null,null,null,null,null,"Total Sequences in Data",{"$f":"4994-COUNTBLANK(L7:L5000)","v":167},null,null,null,null,"Total Sequences in Block Data",{"$f":"COUNTA(L7:L34)","v":28},null,null,null,"Total Sequences in Block Data",{"$f":"COUNTA(L35:L62)","v":28},null,null,null,"Total Sequences in Block Data",{"$f":"COUNTA(L63:L89)","v":27},null,null,null,"Total Sequences in Block Data",{"$f":"COUNTA(L90:L117)","v":28},null,null,null,"Total Sequences in Block Data",{"$f":"COUNTA(L118:L145)","v":28},null,null,null,"Total Sequences in Block Data",{"$f":"COUNTA(L146:L173)","v":28}]
[null,null,null,null,null,null,null,null,null,null,null,null,null,null,null,"Total Sequences in Summary",{"$f":"SUM(O7:O14)","v":167},null,null,null,null,"Total Sequences in Block Summary",{"$f":"SUM(U7:U14)","v":28},null,null,null,"Total Sequences in Block Summary",{"$f":"SUM(Z7:Z14)","v":28},null,null,null,"Total Sequences in Block Summary",{"$f":"SUM(AE7:AE14)","v":27},null,null,null,"Total Sequences in Block Summary",{"$f":"SUM(AJ7:AJ14)","v":28},null,null,null,"Total Sequences in Block Summary",{"$f":"SUM(AO7:AO14)","v":28},null,null,null,"Total Sequences in Block Summary",{"$f":"SUM(AT7:AT14)","v":28}]
[null,null,null,null,null,null,null,null,null,null,null,null,null,null,null,null,null,null,null,"Block 1",null,null,null,null,"Block 2",null,null,null,null,"Block 3",null,null,null,null,"Block 4",null,null,null,null,"Block 5",null,null,null,null,"Block 6"]
["Sequence\nComponent\n1","Time\n1","Sequence\nComponent\n2","Time\n2","Sequence\nComponent\n3","Time\n3","Sequence\nComponent\n4","Time\n4","Sequence\nComponent\n5","Time\n5","Correct?\n0=No 1=Yes","Sequence",null,"Frequency",null,"Relative Frequency","Variability",null,null,"Frequency",null,"Relative Frequency","Variability",null,"Frequency",null,"Relative Frequency","Variability",null,"Frequency",null,"Relative Frequency","Variability",null,"Frequency",null,"Relative Frequency","Variability",null,"Frequency",null,"Relative Frequency","Variability",null,"Frequency",null,"Relative Frequency","Variability"]
[11,22,22,37,23,40,null,null,null,null,0,122,null,111,{"$f":"COUNTIF($L$7:$L$500,N7)","v":9},{"$f":"O7/$Q$4","v":5.3892215568862277E-2},{"$f":"IF(P7=0,0,(P7*((LOG(P7))/LOG(2))))","v":-0.22708990191189019},null,null,{"$f":"N7","v":111},{"$f":"COUNTIF(L7:L34,T7)","v":2},{"$f":"U7/(W4-U8)","v":7.407407407407407E-2},{"$f":"IF(V7=0,0,(V7*((LOG(V7))/LOG(2))))","v":-0.27813981497507173},null,{"$f":"N7","v":111},{"$f":"COUNTIF(L35:L62,Y7)","v":1},{"$f":"Z7/(AB4-Z8)","v":3.7037037037037035E-2},{"$f":"IF(AA7=0,0,(AA7*((LOG(AA7))/LOG(2))))","v":-0.1761069445245729},null,{"$f":"N7","v":111},{"$f":"COUNTIF(L63:L89,AD7)","v":1},{"$f":"AE7/(AG4-AE8)","v":0.04},{"$f":"IF(AF7=0,0,(AF7*((LOG(AF7))/LOG(2))))","v":-0.18575424759098899},null,{"$f":"N7","v":111},{"$f":"COUNTIF(L90:L117,AI7)","v":0},{"$f":"AJ7/(AL4-AJ8)","v":0},{"$f":"IF(AK7=0,0,(AK7*((LOG(AK7))/LOG(2))))","v":0},null,{"$f":"N7","v":111},{"$f":"COUNTIF(L118:L145,AN7)","v":0},{"$f":"AO7/(AQ4-AO8)","v":0},{"$f":"IF(AP7=0,0,(AP7*((LOG(AP7))/LOG(2))))","v":0},null,{"$f":"N7","v":111},{"$f":"COUNTIF(L146:L173,AS7)","v":5},{"$f":"AT7/(AV4-AT8)","v":0.20833333333333334},{"$f":"IF(AU7=0,0,(AU7*((LOG(AU7))/LOG(2))))","v":-0.47146550121537367}]
[22,138,24,151,14,154,null,null,null,null,0,221,null,112,12,7.1856287425149698E-2,-0.27296348204212423,null,null,112,{"$f":"COUNTIF(L7:L34,T8)","v":1},null,null,null,112,{"$f":"COUNTIF(L35:L62,Y8)","v":1},null,null,null,112,{"$f":"COUNTIF(L63:L89,AD8)","v":2},null,null,null,112,{"$f":"COUNTIF(L90:L117,AI8)","v":1},null,null,null,112,{"$f":"COUNTIF(L118:L145,AN8)","v":3},null,null,null,112,{"$f":"COUNTIF(L146:L173,AS8)","v":4}]
[22,252,13,258,23,260,null,null,null,null,0,212,null,121,10,5.9880239520958084E-2,-0.24322013159201739,null,null,121,{"$f":"COUNTIF(L7:L34,T9)","v":3},{"$f":"U9/(W4-U8)","v":0.1111111111111111},{"$f":"IF(V9=0,0,(V9*((LOG(V9))/LOG(2))))","v":-0.3522138890491458},null,121,{"$f":"COUNTIF(L35:L62,Y9)","v":1},{"$f":"Z9/(AB4-Z8)","v":3.7037037037037035E-2},{"$f":"IF(AA9=0,0,(AA9*((LOG(AA9))/LOG(2))))","v":-0.1761069445245729},null,121,{"$f":"COUNTIF(L63:L89,AD9)","v":2},{"$f":"AE9/(AG4-AE8)","v":0.08},{"$f":"IF(AF9=0,0,(AF9*((LOG(AF9))/LOG(2))))","v":-0.29150849518197797},null,121,{"$f":"COUNTIF(L90:L117,AI9)","v":3},{"$f":"AJ9/(AL4-AJ8)","v":0.1111111111111111},{"$f":"IF(AK9=0,0,(AK9*((LOG(AK9))/LOG(2))))","v":-0.3522138890491458},null,121,{"$f":"COUNTIF(L118:L145,AN9)","v":1},{"$f":"AO9/(AQ4-AO8)","v":0.04},{"$f":"IF(AP9=0,0,(AP9*((LOG(AP9))/LOG(2))))","v":-0.18575424759098899},null,121,{"$f":"COUNTIF(L146:L173,AS9)","v":0},{"$f":"AT9/(AV4-AT8)","v":0},{"$f":"IF(AU9=0,0,(AU9*((LOG(AU9))/LOG(2))))","v":0}]
[22,368,24,373,23,378,null,null,null,null,0,222,null,122,52,0.31137724550898205,-0.52413028661864625,null,null,122,{"$f":"COUNTIF(L7:L34,T10)","v":6},{"$f":"U10/(W4-U8)","v":0.22222222222222221},-0.48220555587606945,null,122,{"$f":"COUNTIF(L35:L62,Y10)","v":13},{"$f":"Z10/(AB4-Z8)","v":0.48148148148148145},-0.50769708119595902,null,122,{"$f":"COUNTIF(L63:L89,AD10)","v":8},{"$f":"AE10/(AG4-AE8)","v":0.32},-0.52603398072791185,null,122,{"$f":"COUNTIF(L90:L117,AI10)","v":10},{"$f":"AJ10/(AL4-AJ8)","v":0.37037037037037035},-0.53072570639855787,null,122,{"$f":"COUNTIF(L118:L145,AN10)","v":9},{"$f":"AO10/(AQ4-AO8)","v":0.36},-0.53061522779966841,null,122,{"$f":"COUNTIF(L146:L173,AS10)","v":6},{"$f":"AT10/(AV4-AT8)","v":0.25},-0.5]
[22,521,24,524,23,535,null,null,null,null,0,222,null,211,2,1.1976047904191617E-2,-7.6451548412862905E-2,null,null,211,{"$f":"COUNTIF(L7:L34,T11)","v":0},{"$f":"U11/(W4-U8)","v":0},0,null,211,{"$f":"COUNTIF(L35:L62,Y11)","v":0},{"$f":"Z11/(AB4-Z8)","v":0},0,null,211,{"$f":"COUNTIF(L63:L89,AD11)","v":0},{"$f":"AE11/(AG4-AE8)","v":0},0,null,211,{"$f":"COUNTIF(L90:L117,AI11)","v":1},{"$f":"AJ11/(AL4-AJ8)","v":3.7037037037037035E-2},-0.1761069445245729,null,211,{"$f":"COUNTIF(L118:L145,AN11)","v":1},{"$f":"AO11/(AQ4-AO8)","v":0.04},-0.18575424759098899,null,211,{"$f":"COUNTIF(L146:L173,AS11)","v":0},{"$f":"AT11/(AV4-AT8)","v":0},0]
[11,627,22,635,23,642,null,null,null,null,0,122,null,212,29,0.17365269461077845,-0.43859865642543666,null,null,212,{"$f":"COUNTIF(L7:L34,T12)","v":4},{"$f":"U12/(W4-U8)","v":0.14814814814814814},-0.40813148180199532,null,212,{"$f":"COUNTIF(L35:L62,Y12)","v":5},{"$f":"Z12/(AB4-Z8)","v":0.18518518518518517},-0.45054803838446406,null,212,{"$f":"COUNTIF(L63:L89,AD12)","v":7},{"$f":"AE12/(AG4-AE8)","v":0.28000000000000003},-0.51422035496079388,null,212,{"$f":"COUNTIF(L90:L117,AI12)","v":5},{"$f":"AJ12/(AL4-AJ8)","v":0.18518518518518517},-0.45054803838446406,null,212,{"$f":"COUNTIF(L118:L145,AN12)","v":4},{"$f":"AO12/(AQ4-AO8)","v":0.16},-0.42301699036395596,null,212,{"$f":"COUNTIF(L146:L173,AS12)","v":4},{"$f":"AT12/(AV4-AT8)","v":0.16666666666666666},-0.43082708345352599]
[22,744,24,757,23,765,null,null,null,null,0,222,null,221,21,0.12574850299401197,-0.37616242074012646,null,null,221,{"$f":"COUNTIF(L7:L34,T13)","v":5},{"$f":"U13/(W4-U8)","v":0.18518518518518517},-0.45054803838446406,null,221,{"$f":"COUNTIF(L35:L62,Y13)","v":3},{"$f":"Z13/(AB4-Z8)","v":0.1111111111111111},-0.3522138890491458,null,221,{"$f":"COUNTIF(L63:L89,AD13)","v":3},{"$f":"AE13/(AG4-AE8)","v":0.12},-0.36706724268642821,null,221,{"$f":"COUNTIF(L90:L117,AI13)","v":2},{"$f":"AJ13/(AL4-AJ8)","v":7.407407407407407E-2},-0.27813981497507173,null,221,{"$f":"COUNTIF(L118:L145,AN13)","v":6},{"$f":"AO13/(AQ4-AO8)","v":0.24},-0.49413448537285637,null,221,{"$f":"COUNTIF(L146:L173,AS13)","v":2},{"$f":"AT13/(AV4-AT8)","v":8.3333333333333329E-2},-0.29874687506009634]
[11,861,11,874,12,891,null,null,null,null,0,111,null,222,32,0.19161676646706588,-0.4567577087375429,null,null,222,{"$f":"COUNTIF(L7:L34,T14)","v":7},{"$f":"U14/(W4-U8)","v":0.25925925925925924},-0.5049158541015204,null,222,{"$f":"COUNTIF(L35:L62,Y14)","v":4},{"$f":"Z14/(AB4-Z8)","v":0.14814814814814814},-0.40813148180199532,null,222,{"$f":"COUNTIF(L63:L89,AD14)","v":4},{"$f":"AE14/(AG4-AE8)","v":0.16},-0.42301699036395596,null,222,{"$f":"COUNTIF(L90:L117,AI14)","v":6},{"$f":"AJ14/(AL4-AJ8)","v":0.22222222222222221},-0.48220555587606945,null,222,{"$f":"COUNTIF(L118:L145,AN14)","v":4},{"$f":"AO14/(AQ4-AO8)","v":0.16},-0.42301699036395596,null,222,{"$f":"COUNTIF(L146:L173,AS14)","v":7},{"$f":"AT14/(AV4-AT8)","v":0.29166666666666669},-0.51846887711020273]
[22,1008,13,1010,23,1013,null,null,null,null,0,212,null,null,null,{"$f":"SUM(P7:P14)","v":1},{"$f":"-SUM(Q7:Q14)","v":2.6153741364806473},null,null,null,null,{"$f":"SUM(V7:V14)","v":1},{"$f":"-SUM(W7:W14)","v":2.4761546341882665},null,null,null,{"$f":"SUM(AA7:AA14)","v":1},{"$f":"-SUM(AB7:AB14)","v":2.0708043794807098},null,null,null,{"$f":"SUM(AF7:AF14)","v":1},{"$f":"-SUM(AG7:AG14)","v":2.3076013115120571},null,null,null,{"$f":"SUM(AK7:AK14)","v":1},{"$f":"-SUM(AL7:AL14)","v":2.269939949207882},null,null,null,{"$f":"SUM(AP7:AP14)","v":1},{"$f":"-SUM(AQ7:AQ14)","v":2.2422921890824146},null,null,null,{"$f":"SUM(AU7:AU14)","v":1},{"$f":"-SUM(AV7:AV14)","v":2.2195083368391986}]
[22,1115,24,1120,14,1124,null,null,null,null,0,221,null,null,null,"U=",{"$f":"Q15/(LOG(Q4)/LOG(2))","v":0.3542089489074482},null,null,null,null,"U1=",{"$f":"W15/(LOG(W4)/LOG(2))","v":0.51507631001549681},null,null,null,"U2=",{"$f":"AB15/(LOG(AB4)/LOG(2))","v":0.43075753986443371},null,null,null,"U3=",{"$f":"AG15/(LOG(AG4)/LOG(2))","v":0.48531144227115808},null,null,null,"U4=",{"$f":"AL15/(LOG(AL4)/LOG(2))","v":0.47218064528431392},null,null,null,"U5=",{"$f":"AQ15/(LOG(AQ4)/LOG(2))","v":0.46642950758515817},null,null,null,"U6=",{"$f":"AV15/(LOG(AV4)/LOG(2))","v":0.46169013372726458}]
[11,1223,22,1239,14,1241,null,null,null,null,0,121]
[22,1353,24,1355,14,1359,null,null,null,null,0,221]
[22,1477,13,1480,23,1496,null,null,null,null,0,212,null,"Total Target Seq"]
[22,1608,24,1615,14,1617,null,null,null,null,0,221,null,{"$f":"COUNTIF(L7:L173,G3)","v":12},null,28,28,27,28,28,28]
[11,1721,22,1726,23,1731,null,null,null,null,0,122,null,null,null,"% of reinforcement given in 6 equal intervals based on number of trials "]
[22,1830,24,1837,23,1843,null,null,null,null,0,222,null,null,null,"%_1","%_2","%_3","%_4","%_5","%_6"]
[22,1962,13,1967,23,1972,null,null,null,null,0,212,null,null,"target sequence",{"$f":"$G$3","v":112},112,112,112,112,112]
[11,2077,22,2086,23,2090,null,null,null,null,0,122,null,null,"total reinforcement",{"$f":"U8","v":1},{"$f":"Z8","v":1},{"$f":"AE8","v":2},{"$f":"AJ8","v":1},{"$f":"AO8","v":3},{"$f":"AT8","v":4}]
[11,2199,22,2207,23,2211,null,null,null,null,0,122,null,null,"% target"]
[22,2317,24,2324,23,2330,null,null,null,null,0,222,null,null,"CCRF"]
[11,2437,22,2439,23,2446,null,null,null,null,0,122,null,null,"% CCRf"]
[22,2565,24,2569,14,2578,null,null,null,null,0,221,null,null,"average response rate",{"$f":"F34/P20","v":117.46428571428571},{"$f":"(F62-F34)/Q20","v":118.71428571428571},{"$f":"(F89-F62)/R20","v":123.74074074074075},{"$f":"(F117-F89)/S20","v":118.14285714285714},{"$f":"(F145-F117)/T20","v":148.10714285714286},{"$f":"(F173-F145)/U20","v":230}]
[11,2676,11,2679,12,2688,null,null,null,null,0,111]
[11,2792,11,2803,21,2808,null,null,null,null,0,112]
[22,2929,24,2933,23,2941,null,null,null,null,0,222]
[22,3049,24,3055,23,3062,null,null,null,null,0,222]
[11,3162,22,3173,14,3176,null,null,null,null,0,121]
[11,3274,22,3284,14,3289,null,null,null,null,0,121]
[22,3408,24,3422,23,3429,null,null,null,null,0,222]
[11,3536,11,3544,21,3552,null,null,null,null,0,112]
[22,3675,24,3680,14,3683,null,null,null,null,0,221]
[22,3783,24,3785,14,3787,null,null,null,null,0,221]
[22,3890,13,3898,23,3902,null,null,null,null,0,212]
[11,4001,22,4012,23,4016,null,null,null,null,0,122]
[11,4140,22,4145,23,4153,null,null,null,null,0,122]
[11,4256,22,4259,23,4263,null,null,null,null,0,122]
[11,4367,22,4386,23,4398,null,null,null,null,0,122]
[11,4494,22,4503,23,4507,null,null,null,null,0,122]
[22,4610,13,4612,23,4617,null,null,null,null,0,212]
[22,4715,13,4720,23,4725,null,null,null,null,0,212]
[11,4823,22,4826,23,4831,null,null,null,null,0,122]
[22,4931,13,4940,23,4941,null,null,null,null,0,212]
[11,5033,22,5044,14,5051,null,null,null,null,0,121]
[11,5152,22,5159,23,5169,null,null,null,null,0,122]
[11,5261,22,5270,23,5278,null,null,null,null,0,122]
[22,5385,24,5390,23,5397,null,null,null,null,0,222]
[11,5497,22,5507,23,5511,null,null,null,null,0,122]
[11,5618,22,5626,23,5640,null,null,null,null,0,122]
[11,5739,22,5755,23,5761,null,null,null,null,0,122]
[22,5882,24,5887,14,5891,null,null,null,null,0,221]
[11,5989,22,6004,23,6009,null,null,null,null,0,122]
[11,6101,11,6110,12,6116,null,null,null,null,0,111]
[22,6234,24,6246,23,6253,null,null,null,null,0,222]
[11,6352,22,6365,23,6372,null,null,null,null,0,122]
[22,6477,24,6486,23,6492,null,null,null,null,0,222]
[22,6605,13,6610,23,6613,null,null,null,null,0,212]
[11,6709,11,6716,12,6721,null,null,null,null,0,111]
[11,6854,11,6858,21,6869,null,null,null,null,0,112]
[11,6984,22,6991,23,7000,null,null,null,null,0,122]
[11,7105,22,7122,23,7133,null,null,null,null,0,122]
[11,7238,22,7249,23,7255,null,null,null,null,0,122]
[22,7355,24,7358,23,7364,null,null,null,null,0,222]
[22,7472,24,7474,23,7480,null,null,null,null,0,222]
[22,7584,13,7587,23,7589,null,null,null,null,0,212]
[22,7691,24,7697,23,7702,null,null,null,null,0,222]
[22,7798,24,7804,14,7805,null,null,null,null,0,221]
[11,7904,22,7910,23,7915,null,null,null,null,0,122]
[11,8010,11,8023,21,8026,null,null,null,null,0,112]
[22,8157,13,8171,23,8174,null,null,null,null,0,212]
[11,8276,22,8280,23,8288,null,null,null,null,0,122]
[11,8399,22,8408,23,8414,null,null,null,null,0,122]
[22,8517,24,8520,14,8523,null,null,null,null,0,221]
[22,8649,24,8651,14,8654,null,null,null,null,0,221]
[11,8758,22,8761,23,8766,null,null,null,null,0,122]
[11,8872,22,8883,14,8886,null,null,null,null,0,121]
[22,9122,13,9131,23,9138,null,null,null,null,0,212]
[22,9242,24,9250,23,9257,null,null,null,null,0,222]
[22,9372,13,9377,23,9391,null,null,null,null,0,212]
[22,9492,13,9496,23,9499,null,null,null,null,0,212]
[11,9594,22,9600,23,9607,null,null,null,null,0,122]
[22,9716,13,9720,23,9725,null,null,null,null,0,212]
[22,9831,13,9835,23,9841,null,null,null,null,0,212]
[11,9939,22,9949,14,9954,null,null,null,null,0,121]
[11,10054,22,10059,23,10065,null,null,null,null,0,122]
[22,10171,13,10176,23,10181,null,null,null,null,0,212]
[11,10276,22,10281,14,10285,null,null,null,null,0,121]
[11,10379,11,10385,21,10394,null,null,null,null,0,112]
[22,10506,13,10511,14,10514,null,null,null,null,0,211]
[11,10619,22,10627,23,10632,null,null,null,null,0,122]
[11,10732,22,10741,23,10746,null,null,null,null,0,122]
[11,10843,22,10852,23,10859,null,null,null,null,0,122]
[11,10966,22,10991,23,10997,null,null,null,null,0,122]
[11,11098,22,11106,23,11113,null,null,null,null,0,122]
[22,11244,24,11249,23,11256,null,null,null,null,0,222]
[22,11361,24,11369,23,11374,null,null,null,null,0,222]
[11,11478,22,11483,23,11489,null,null,null,null,0,122]
[22,11592,13,11597,23,11600,null,null,null,null,0,212]
[22,11705,24,11711,23,11716,null,null,null,null,0,222]
[22,11822,24,11826,14,11828,null,null,null,null,0,221]
[22,11948,24,11965,23,11978,null,null,null,null,0,222]
[22,12091,24,12095,23,12101,null,null,null,null,0,222]
[22,12202,13,12206,23,12211,null,null,null,null,0,212]
[11,12319,22,12326,23,12333,null,null,null,null,0,122]
[22,12443,24,12447,23,12452,null,null,null,null,0,222]
[11,12545,22,12566,23,12572,null,null,null,null,0,122]
[11,12680,22,12688,23,12694,null,null,null,null,0,122]
[11,12787,22,12800,14,12804,null,null,null,null,0,121]
[22,12914,13,12919,23,12922,null,null,null,null,0,212]
[11,13019,22,13027,14,13031,null,null,null,null,0,121]
[22,13136,13,13139,23,13145,null,null,null,null,0,212]
[22,13255,24,13258,14,13262,null,null,null,null,0,221]
[11,13364,11,13368,21,13379,null,null,null,null,0,112]
[22,13481,13,13483,14,13487,null,null,null,null,0,211]
[22,13619,13,13623,23,13629,null,null,null,null,0,212]
[11,13785,11,13791,21,13796,null,null,null,null,0,112]
[11,13903,22,13907,23,13914,null,null,null,null,0,122]
[11,14011,22,14021,23,14025,null,null,null,null,0,122]
[11,14125,22,14129,23,14139,null,null,null,null,0,122]
[22,14242,24,14247,14,14251,null,null,null,null,0,221]
[11,14350,22,14358,23,14363,null,null,null,null,0,122]
[11,14457,11,14466,21,14472,null,null,null,null,0,112]
[22,14571,24,14583,23,14600,null,null,null,null,0,222]
[22,14701,24,14707,23,14710,null,null,null,null,0,222]
[22,14820,24,14826,14,14830,null,null,null,null,0,221]
[22,14950,13,14952,23,14956,null,null,null,null,0,212]
[11,15060,22,15065,23,15069,null,null,null,null,0,122]
[22,15176,24,15182,14,15185,null,null,null,null,0,221]
[22,15294,24,15299,14,15303,null,null,null,null,0,221]
[11,15565,22,15574,23,15577,null,null,null,null,0,122]
[22,16351,24,16356,23,16364,null,null,null,null,0,222]
[22,16464,24,16470,23,16474,null,null,null,null,0,222]
[22,16580,24,16587,14,16591,null,null,null,null,0,221]
[11,16694,22,16700,23,16702,null,null,null,null,0,122]
[22,16818,13,16820,23,16823,null,null,null,null,0,212]
[22,16939,13,16943,23,16951,null,null,null,null,0,212]
[22,17055,24,17062,14,17067,null,null,null,null,0,221]
[11,17168,22,17174,23,17184,null,null,null,null,0,122]
[11,17284,22,17297,14,17300,null,null,null,null,0,121]
[11,17399,22,17403,23,17409,null,null,null,null,0,122]
[22,17515,24,17521,23,17528,null,null,null,null,0,222]
[11,17631,22,17640,23,17645,null,null,null,null,0,122]
[11,17745,11,17751,12,17755,null,null,null,null,0,111]
[11,17852,22,17862,23,17867,null,null,null,null,0,122]
[22,17961,13,17966,23,17988,null,null,null,null,0,212]
[11,18553,11,18558,21,18584,null,null,null,null,0,112]
[22,18676,24,18680,23,18688,null,null,null,null,0,222]
[22,18864,24,18869,14,18873,null,null,null,null,0,221]
[11,19014,22,19025,23,19032,null,null,null,null,0,122]
[11,19589,11,19594,12,19602,null,null,null,null,0,111]
[22,19702,24,19711,23,19719,null,null,null,null,0,222]
[22,19819,24,19825,23,19837,null,null,null,null,0,222]
[11,20178,11,20182,21,20194,null,null,null,null,0,112]
[11,20366,22,20375,23,20389,null,null,null,null,0,122]
[22,20663,24,20667,23,20673,null,null,null,null,0,222]
[11,20774,11,20777,12,20780,null,null,null,null,0,111]
[22,20878,13,20883,23,20889,null,null,null,null,0,212]
[11,20992,22,21000,23,21003,null,null,null,null,0,122]
[22,21123,24,21126,23,21136,null,null,null,null,0,222]
[22,21264,24,21267,14,21270,null,null,null,null,0,221]
[11,21379,11,21391,21,21397,null,null,null,null,0,112]
[22,21493,13,21501,23,21507,null,null,null,null,0,212]
[22,21606,13,21610,23,21615,null,null,null,null,0,212]
[11,21758,22,21764,23,21771,null,null,null,null,0,122]
[11,23301,11,23305,12,23308,null,null,null,null,0,111]
[11,23590,11,23594,21,23605,null,null,null,null,0,112]
[22,23712,24,23715,23,23721,null,null,null,null,0,222]
[11,23842,11,23846,12,23849,null,null,null,null,0,111]

{"sheet":"!N107950.Gus","index":13,"n_rows":200,"n_cols":48,"rows_kept":200,"cut":false,"hidden":false,"merged":[[1,1,1,2],[5,13,5,14],[18,13,18,14],[19,13,19,14],[4,19,4,22],[5,19,5,20],[4,39,4,42],[5,39,5,40],[4,44,4,47],[5,44,5,45],[4,24,4,27],[5,24,5,25],[4,29,4,32],[5,29,5,30],[4,34,4,37],[5,34,5,35]]}
["Report for:!N107950.Gus"]
["Date:","<date>"]
["Hen:","<hen>",null,null,null,"Correct Sequence",{"$f":"Start!J2","v":112},null,null,null,null,null,null,null,null,"Total Sequences in Data",{"$f":"4994-COUNTBLANK(L7:L5000)","v":194},null,null,null,null,"Total Sequences in Block Data",{"$f":"COUNTA(L7:L38)","v":32},null,null,null,"Total Sequences in Block Data",{"$f":"COUNTA(L39:L71)","v":33},null,null,null,"Total Sequences in Block Data",{"$f":"COUNTA(L72:L103)","v":32},null,null,null,"Total Sequences in Block Data",{"$f":"COUNTA(L104:L135)","v":32},null,null,null,"Total Sequences in Block Data",{"$f":"COUNTA(L136:L168)","v":33},null,null,null,"Total Sequences in Block Data",{"$f":"COUNTA(L169:L200)","v":32}]
[null,null,null,null,null,null,null,null,null,null,null,null,null,null,null,"Total Sequences in Summary",{"$f":"SUM(O7:O14)","v":194},null,null,null,null,"Total Sequences in Block Summary",{"$f":"SUM(U7:U14)","v":32},null,null,null,"Total Sequences in Block Summary",{"$f":"SUM(Z7:Z14)","v":33},null,null,null,"Total Sequences in Block Summary",{"$f":"SUM(AE7:AE14)","v":32},null,null,null,"Total Sequences in Block Summary",{"$f":"SUM(AJ7:AJ14)","v":32},null,null,null,"Total Sequences in Block Summary",{"$f":"SUM(AO7:AO14)","v":33},null,null,null,"Total Sequences in Block Summary",{"$f":"SUM(AT7:AT14)","v":32}]
[null,null,null,null,null,null,null,null,null,null,null,null,null,null,null,null,null,null,null,"Block 1",null,null,null,null,"Block 2",null,null,null,null,"Block 3",null,null,null,null,"Block 4",null,null,null,null,"Block 5",null,null,null,null,"Block 6"]
["Sequence\nComponent\n1","Time\n1","Sequence\nComponent\n2","Time\n2","Sequence\nComponent\n3","Time\n3","Sequence\nComponent\n4","Time\n4","Sequence\nComponent\n5","Time\n5","Correct?\n0=No 1=Yes","Sequence",null,"Frequency",null,"Relative Frequency","Variability",null,null,"Frequency",null,"Relative Frequency","Variability",null,"Frequency",null,"Relative Frequency","Variability",null,"Frequency",null,"Relative Frequency","Variability",null,"Frequency",null,"Relative Frequency","Variability",null,"Frequency",null,"Relative Frequency","Variability",null,"Frequency",null,"Relative Frequency","Variability"]
[11,142,22,153,23,157,null,null,null,null,0,122,null,111,{"$f":"COUNTIF($L$7:$L$500,N7)","v":12},{"$f":"O7/$Q$4","v":6.1855670103092786E-2},{"$f":"IF(P7=0,0,(P7*((LOG(P7))/LOG(2))))","v":-0.24834744380201881},null,null,{"$f":"N7","v":111},{"$f":"COUNTIF(L7:L38,T7)","v":2},{"$f":"U7/(W4-U8)","v":6.8965517241379309E-2},{"$f":"IF(V7=0,0,(V7*((LOG(V7))/LOG(2))))","v":-0.26606765483638428},null,{"$f":"N7","v":111},{"$f":"COUNTIF(L39:L71,Y7)","v":2},{"$f":"Z7/(AB4-Z8)","v":7.1428571428571425E-2},{"$f":"IF(AA7=0,0,(AA7*((LOG(AA7))/LOG(2))))","v":-0.27195392300411453},null,{"$f":"N7","v":111},{"$f":"COUNTIF(L72:L103,AD7)","v":0},{"$f":"AE7/(AG4-AE8)","v":0},{"$f":"IF(AF7=0,0,(AF7*((LOG(AF7))/LOG(2))))","v":0},null,{"$f":"N7","v":111},{"$f":"COUNTIF(L104:L135,AI7)","v":4},{"$f":"AJ7/(AL4-AJ8)","v":0.13333333333333333},{"$f":"IF(AK7=0,0,(AK7*((LOG(AK7))/LOG(2))))","v":-0.3875854127478025},null,{"$f":"N7","v":111},{"$f":"COUNTIF(L136:L168,AN7)","v":3},{"$f":"AO7/(AQ4-AO8)","v":0.10714285714285714},{"$f":"IF(AP7=0,0,(AP7*((LOG(AP7))/LOG(2))))","v":-0.34525633085747659},null,{"$f":"N7","v":111},{"$f":"COUNTIF(L169:L200,AS7)","v":1},{"$f":"AT7/(AV4-AT8)","v":3.7037037037037035E-2},{"$f":"IF(AU7=0,0,(AU7*((LOG(AU7))/LOG(2))))","v":-0.1761069445245729}]
[11,251,22,254,23,258,null,null,null,null,0,122,null,112,23,0.11855670103092783,-0.36472201227315793,null,null,112,{"$f":"COUNTIF(L7:L38,T8)","v":3},null,null,null,112,{"$f":"COUNTIF(L39:L71,Y8)","v":5},null,null,null,112,{"$f":"COUNTIF(L72:L103,AD8)","v":3},null,null,null,112,{"$f":"COUNTIF(L104:L135,AI8)","v":2},null,null,null,112,{"$f":"COUNTIF(L136:L168,AN8)","v":5},null,null,null,112,{"$f":"COUNTIF(L169:L200,AS8)","v":5}]
[22,369,24,372,23,385,null,null,null,null,0,222,null,121,11,5.6701030927835051E-2,-0.23476955391261925,null,null,121,{"$f":"COUNTIF(L7:L38,T9)","v":1},{"$f":"U9/(W4-U8)","v":3.4482758620689655E-2},{"$f":"IF(V9=0,0,(V9*((LOG(V9))/LOG(2))))","v":-0.16751658603888178},null,121,{"$f":"COUNTIF(L39:L71,Y9)","v":0},{"$f":"Z9/(AB4-Z8)","v":0},{"$f":"IF(AA9=0,0,(AA9*((LOG(AA9))/LOG(2))))","v":0},null,121,{"$f":"COUNTIF(L72:L103,AD9)","v":6},{"$f":"AE9/(AG4-AE8)","v":0.20689655172413793},{"$f":"IF(AF9=0,0,(AF9*((LOG(AF9))/LOG(2))))","v":-0.4702796884978791},null,121,{"$f":"COUNTIF(L104:L135,AI9)","v":1},{"$f":"AJ9/(AL4-AJ8)","v":3.3333333333333333E-2},{"$f":"IF(AK9=0,0,(AK9*((LOG(AK9))/LOG(2))))","v":-0.16356301985361729},null,121,{"$f":"COUNTIF(L136:L168,AN9)","v":2},{"$f":"AO9/(AQ4-AO8)","v":7.1428571428571425E-2},{"$f":"IF(AP9=0,0,(AP9*((LOG(AP9))/LOG(2))))","v":-0.27195392300411453},null,121,{"$f":"COUNTIF(L169:L200,AS9)","v":1},{"$f":"AT9/(AV4-AT8)","v":3.7037037037037035E-2},{"$f":"IF(AU9=0,0,(AU9*((LOG(AU9))/LOG(2))))","v":-0.1761069445245729}]
[11,527,22,530,23,534,null,null,null,null,0,122,null,122,101,0.52061855670103097,-0.4902672025926218,null,null,122,{"$f":"COUNTIF(L7:L38,T10)","v":16},{"$f":"U10/(W4-U8)","v":0.55172413793103448},-0.47336882489797077,null,122,{"$f":"COUNTIF(L39:L71,Y10)","v":16},{"$f":"Z10/(AB4-Z8)","v":0.5714285714285714},-0.46134566974720237,null,122,{"$f":"COUNTIF(L72:L103,AD10)","v":19},{"$f":"AE10/(AG4-AE8)","v":0.65517241379310343},-0.39969021213778433,null,122,{"$f":"COUNTIF(L104:L135,AI10)","v":20},{"$f":"AJ10/(AL4-AJ8)","v":0.66666666666666663},-0.38997500048077083,null,122,{"$f":"COUNTIF(L136:L168,AN10)","v":12},{"$f":"AO10/(AQ4-AO8)","v":0.42857142857142855},-0.52388246628704915,null,122,{"$f":"COUNTIF(L169:L200,AS10)","v":18},{"$f":"AT10/(AV4-AT8)","v":0.66666666666666663},-0.38997500048077083]
[11,692,22,710,23,716,null,null,null,null,0,122,null,211,1,5.1546391752577319E-3,-3.9174808464882103E-2,null,null,211,{"$f":"COUNTIF(L7:L38,T11)","v":0},{"$f":"U11/(W4-U8)","v":0},0,null,211,{"$f":"COUNTIF(L39:L71,Y11)","v":0},{"$f":"Z11/(AB4-Z8)","v":0},0,null,211,{"$f":"COUNTIF(L72:L103,AD11)","v":0},{"$f":"AE11/(AG4-AE8)","v":0},0,null,211,{"$f":"COUNTIF(L104:L135,AI11)","v":0},{"$f":"AJ11/(AL4-AJ8)","v":0},0,null,211,{"$f":"COUNTIF(L136:L168,AN11)","v":1},{"$f":"AO11/(AQ4-AO8)","v":3.5714285714285712E-2},-0.17169124721634299,null,211,{"$f":"COUNTIF(L169:L200,AS11)","v":0},{"$f":"AT11/(AV4-AT8)","v":0},0]
[22,815,24,820,14,822,null,null,null,null,0,221,null,212,23,0.11855670103092783,-0.36472201227315793,null,null,212,{"$f":"COUNTIF(L7:L38,T12)","v":7},{"$f":"U12/(W4-U8)","v":0.2413793103448276},-0.49497870729275095,null,212,{"$f":"COUNTIF(L39:L71,Y12)","v":4},{"$f":"Z12/(AB4-Z8)","v":0.14285714285714285},-0.40105070315108626,null,212,{"$f":"COUNTIF(L72:L103,AD12)","v":4},{"$f":"AE12/(AG4-AE8)","v":0.13793103448275862},-0.39420427519000989,null,212,{"$f":"COUNTIF(L104:L135,AI12)","v":0},{"$f":"AJ12/(AL4-AJ8)","v":0},0,null,212,{"$f":"COUNTIF(L136:L168,AN12)","v":5},{"$f":"AO12/(AQ4-AO8)","v":0.17857142857142858},-0.44382621913754317,null,212,{"$f":"COUNTIF(L169:L200,AS12)","v":3},{"$f":"AT12/(AV4-AT8)","v":0.1111111111111111},-0.3522138890491458]
[22,920,13,925,23,927,null,null,null,null,0,212,null,221,6,3.0927835051546393E-2,-0.15510155695255584,null,null,221,{"$f":"COUNTIF(L7:L38,T13)","v":1},{"$f":"U13/(W4-U8)","v":3.4482758620689655E-2},-0.16751658603888178,null,221,{"$f":"COUNTIF(L39:L71,Y13)","v":0},{"$f":"Z13/(AB4-Z8)","v":0},0,null,221,{"$f":"COUNTIF(L72:L103,AD13)","v":0},{"$f":"AE13/(AG4-AE8)","v":0},0,null,221,{"$f":"COUNTIF(L104:L135,AI13)","v":3},{"$f":"AJ13/(AL4-AJ8)","v":0.1},-0.33219280948873625,null,221,{"$f":"COUNTIF(L136:L168,AN13)","v":2},{"$f":"AO13/(AQ4-AO8)","v":7.1428571428571425E-2},-0.27195392300411453,null,221,{"$f":"COUNTIF(L169:L200,AS13)","v":0},{"$f":"AT13/(AV4-AT8)","v":0},0]
[22,1032,13,1039,23,1045,null,null,null,null,0,212,null,222,17,8.7628865979381437E-2,-0.307792010391368,null,null,222,{"$f":"COUNTIF(L7:L38,T14)","v":2},{"$f":"U14/(W4-U8)","v":6.8965517241379309E-2},-0.26606765483638428,null,222,{"$f":"COUNTIF(L39:L71,Y14)","v":6},{"$f":"Z14/(AB4-Z8)","v":0.21428571428571427},-0.47622694742923877,null,222,{"$f":"COUNTIF(L72:L103,AD14)","v":0},{"$f":"AE14/(AG4-AE8)","v":0},0,null,222,{"$f":"COUNTIF(L104:L135,AI14)","v":2},{"$f":"AJ14/(AL4-AJ8)","v":6.6666666666666666E-2},-0.26045937304056793,null,222,{"$f":"COUNTIF(L136:L168,AN14)","v":3},{"$f":"AO14/(AQ4-AO8)","v":0.10714285714285714},-0.34525633085747659,null,222,{"$f":"COUNTIF(L169:L200,AS14)","v":4},{"$f":"AT14/(AV4-AT8)","v":0.14814814814814814},-0.40813148180199532]
[11,1138,22,1148,23,1154,null,null,null,null,0,122,null,null,null,{"$f":"SUM(P7:P14)","v":1},{"$f":"-SUM(Q7:Q14)","v":2.2048966006623814},null,null,null,null,{"$f":"SUM(V7:V14)","v":1},{"$f":"-SUM(W7:W14)","v":1.8355160139412539},null,null,null,{"$f":"SUM(AA7:AA14)","v":0.99999999999999989},{"$f":"-SUM(AB7:AB14)","v":1.6105772433316417},null,null,null,{"$f":"SUM(AF7:AF14)","v":1},{"$f":"-SUM(AG7:AG14)","v":1.2641741758256733},null,null,null,{"$f":"SUM(AK7:AK14)","v":0.99999999999999989},{"$f":"-SUM(AL7:AL14)","v":1.5337756156114948},null,null,null,{"$f":"SUM(AP7:AP14)","v":0.99999999999999989},{"$f":"-SUM(AQ7:AQ14)","v":2.3738204403641174},null,null,null,{"$f":"SUM(AU7:AU14)","v":1},{"$f":"-SUM(AV7:AV14)","v":1.5025342603810579}]
[22,1258,13,1261,23,1267,null,null,null,null,0,212,null,null,null,"U=",{"$f":"Q15/(LOG(Q4)/LOG(2))","v":0.29012130092111016},null,null,null,null,"U1=",{"$f":"W15/(LOG(W4)/LOG(2))","v":0.36710320278825076},null,null,null,"U2=",{"$f":"AB15/(LOG(AB4)/LOG(2))","v":0.31928061234368321},null,null,null,"U3=",{"$f":"AG15/(LOG(AG4)/LOG(2))","v":0.25283483516513466},null,null,null,"U4=",{"$f":"AL15/(LOG(AL4)/LOG(2))","v":0.30675512312229897},null,null,null,"U5=",{"$f":"AQ15/(LOG(AQ4)/LOG(2))","v":0.4705858392892624},null,null,null,"U6=",{"$f":"AV15/(LOG(AV4)/LOG(2))","v":0.30050685207621158}]
[11,1367,22,1383,23,1396,null,null,null,null,0,122]
[11,1502,22,1510,23,1512,null,null,null,null,0,122]
[22,1623,13,1628,23,1634,null,null,null,null,0,212,null,"Total Target Seq"]
[11,1742,22,1744,23,1751,null,null,null,null,0,122,null,{"$f":"COUNTIF(L7:L200,G3)","v":23},null,32,33,32,32,33,32]
[11,1852,22,1860,23,1867,null,null,null,null,0,122,null,null,null,"% of reinforcement given in 6 equal intervals based on number of trials "]
[11,1961,11,1977,12,1989,null,null,null,null,0,111,null,null,null,"%_1","%_2","%_3","%_4","%_5","%_6"]
[11,2096,22,2102,23,2107,null,null,null,null,0,122,null,null,"target sequence",{"$f":"$G$3","v":112},112,112,112,112,112]
[11,2210,22,2221,23,2226,null,null,null,null,0,122,null,null,"total reinforcement",{"$f":"U8","v":3},{"$f":"Z8","v":5},{"$f":"AE8","v":3},{"$f":"AJ8","v":2},{"$f":"AO8","v":5},{"$f":"AT8","v":5}]
[11,2322,22,2328,23,2331,null,null,null,null,0,122,null,null,"% target"]
[11,2436,22,2440,23,2442,null,null,null,null,0,122,null,null,"CCRF"]
[11,2546,22,2550,23,2555,null,null,null,null,0,122,null,null,"% CCRf"]
[22,2648,13,2655,23,2670,null,null,null,null,0,212,null,null,"average response rate",{"$f":"F38/P20","v":125.6875},{"$f":"(F71-F38)/Q20","v":119.06060606060606},{"$f":"(F103-F71)/R20","v":111.75},{"$f":"(F135-F103)/S20","v":135.71875},{"$f":"(F168-F135)/T20","v":118.72727272727273},{"$f":"(F200-F168)/U20","v":129.25}]
[11,2864,11,2868,12,2871,null,null,null,null,0,111]
[11,2981,22,2988,14,2991,null,null,null,null,0,121]
[11,3092,11,3106,21,3119,null,null,null,null,0,112]
[11,3217,22,3227,23,3231,null,null,null,null,0,122]
[22,3330,13,3334,23,3336,null,null,null,null,0,212]
[11,3457,11,3467,21,3478,null,null,null,null,0,112]
[22,3585,13,3594,23,3601,null,null,null,null,0,212]
[11,3702,22,3709,23,3718,null,null,null,null,0,122]
[11,3823,11,3828,21,3840,null,null,null,null,0,112]
[22,4003,24,4009,23,4022,null,null,null,null,0,222]
[22,4165,24,4173,23,4181,null,null,null,null,0,222]
[22,4273,13,4282,23,4288,null,null,null,null,0,212]
[11,4381,22,4394,23,4400,null,null,null,null,0,122]
[11,4501,22,4509,23,4514,null,null,null,null,0,122]
[11,4623,22,4639,23,4646,null,null,null,null,0,122]
[11,4771,22,4789,23,4797,null,null,null,null,0,122]
[11,4897,22,4907,23,4909,null,null,null,null,0,122]
[22,5011,24,5016,23,5021,null,null,null,null,0,222]
[11,5126,11,5130,12,5136,null,null,null,null,0,111]
[11,5238,22,5250,23,5265,null,null,null,null,0,122]
[22,5365,13,5369,23,5376,null,null,null,null,0,212]
[11,5475,22,5485,23,5490,null,null,null,null,0,122]
[11,5598,22,5602,23,5607,null,null,null,null,0,122]
[11,5701,11,5705,21,5717,null,null,null,null,0,112]
[22,5836,13,5845,23,5854,null,null,null,null,0,212]
[11,5960,11,5965,12,5969,null,null,null,null,0,111]
[11,6064,11,6070,21,6084,null,null,null,null,0,112]
[22,6210,24,6216,23,6223,null,null,null,null,0,222]
[22,6334,24,6337,23,6344,null,null,null,null,0,222]
[11,6443,22,6453,23,6458,null,null,null,null,0,122]
[11,6558,11,6561,21,6567,null,null,null,null,0,112]
[11,6658,22,6677,23,6685,null,null,null,null,0,122]
[11,6780,11,6787,21,6794,null,null,null,null,0,112]
[22,6907,24,6925,23,6939,null,null,null,null,0,222]
[11,7039,22,7052,23,7058,null,null,null,null,0,122]
[11,7156,22,7166,23,7175,null,null,null,null,0,122]
[11,7277,22,7289,23,7295,null,null,null,null,0,122]
[22,7394,13,7398,23,7401,null,null,null,null,0,212]
[11,7497,22,7500,23,7507,null,null,null,null,0,122]
[11,7598,11,7606,21,7610,null,null,null,null,0,112]
[11,7701,22,7716,23,7725,null,null,null,null,0,122]
[11,7817,22,7825,23,7831,null,null,null,null,0,122]
[22,7939,24,7943,23,7951,null,null,null,null,0,222]
[11,8051,22,8062,23,8068,null,null,null,null,0,122]
[11,8164,22,8166,14,8170,null,null,null,null,0,121]
[11,8263,22,8279,14,8282,null,null,null,null,0,121]
[11,8381,22,8394,23,8398,null,null,null,null,0,122]
[22,8499,13,8502,23,8504,null,null,null,null,0,212]
[11,8598,22,8607,14,8610,null,null,null,null,0,121]
[11,8710,22,8720,23,8724,null,null,null,null,0,122]
[11,8827,22,8835,23,8841,null,null,null,null,0,122]
[22,8937,13,8940,23,8946,null,null,null,null,0,212]
[11,9042,22,9045,23,9049,null,null,null,null,0,122]
[11,9141,22,9153,23,9158,null,null,null,null,0,122]
[11,9261,22,9263,14,9266,null,null,null,null,0,121]
[11,9369,22,9374,23,9379,null,null,null,null,0,122]
[11,9477,22,9493,23,9499,null,null,null,null,0,122]
[11,9599,22,9610,23,9617,null,null,null,null,0,122]
[11,9714,22,9727,23,9733,null,null,null,null,0,122]
[11,9825,11,9834,21,9848,null,null,null,null,0,112]
[11,9943,22,9958,23,9963,null,null,null,null,0,122]
[11,10056,22,10063,23,10068,null,null,null,null,0,122]
[11,10184,22,10191,23,10198,null,null,null,null,0,122]
[11,10309,11,10313,21,10322,null,null,null,null,0,112]
[11,10415,22,10428,23,10433,null,null,null,null,0,122]
[11,10533,22,10538,23,10544,null,null,null,null,0,122]
[22,10651,13,10655,23,10659,null,null,null,null,0,212]
[11,10754,22,10761,14,10766,null,null,null,null,0,121]
[11,10861,22,10863,23,10868,null,null,null,null,0,122]
[11,10965,22,10970,23,10973,null,null,null,null,0,122]
[11,11066,22,11076,14,11078,null,null,null,null,0,121]
[22,11189,13,11194,23,11203,null,null,null,null,0,212]
[11,11296,22,11305,23,11309,null,null,null,null,0,122]
[11,11404,11,11408,21,11416,null,null,null,null,0,112]
[11,11512,22,11521,23,11527,null,null,null,null,0,122]
[11,11626,22,11635,23,11644,null,null,null,null,0,122]
[11,11738,22,11742,23,11747,null,null,null,null,0,122]
[11,11848,22,11856,23,11861,null,null,null,null,0,122]
[11,11965,22,11972,23,11977,null,null,null,null,0,122]
[11,12078,22,12088,23,12091,null,null,null,null,0,122]
[11,12201,22,12203,23,12212,null,null,null,null,0,122]
[11,12316,11,12321,21,12330,null,null,null,null,0,112]
[22,12433,24,12439,23,12447,null,null,null,null,0,222]
[11,12551,22,12558,23,12563,null,null,null,null,0,122]
[11,12664,22,12668,23,12674,null,null,null,null,0,122]
[11,12768,22,12778,14,12781,null,null,null,null,0,121]
[11,12886,22,12891,23,12897,null,null,null,null,0,122]
[11,12989,11,13001,12,13005,null,null,null,null,0,111]
[22,13119,24,13125,23,13131,null,null,null,null,0,222]
[11,13229,22,13238,23,13245,null,null,null,null,0,122]
[11,13347,22,13358,23,13365,null,null,null,null,0,122]
[11,13458,11,13465,12,13482,null,null,null,null,0,111]
[11,13591,22,13598,23,13604,null,null,null,null,0,122]
[11,13708,11,13721,21,13729,null,null,null,null,0,112]
[22,13831,24,13836,14,13840,null,null,null,null,0,221]
[11,13938,22,13943,23,13950,null,null,null,null,0,122]
[11,14073,22,14083,23,14089,null,null,null,null,0,122]
[11,14196,11,14200,12,14208,null,null,null,null,0,111]
[11,14306,22,14310,23,14315,null,null,null,null,0,122]
[11,14407,22,14416,23,14418,null,null,null,null,0,122]
[11,14519,22,14528,23,14533,null,null,null,null,0,122]
[11,15276,11,15281,12,15289,null,null,null,null,0,111]
[11,15391,22,15397,23,15403,null,null,null,null,0,122]
[22,15500,24,15507,14,15511,null,null,null,null,0,221]
[11,15622,22,15628,23,15635,null,null,null,null,0,122]
[11,15736,22,15744,23,15746,null,null,null,null,0,122]
[22,15861,24,15866,14,15870,null,null,null,null,0,221]
[22,16010,13,16013,23,16017,null,null,null,null,0,212]
[22,16120,24,16127,14,16133,null,null,null,null,0,221]
[11,16241,22,16248,23,16255,null,null,null,null,0,122]
[22,16373,13,16381,23,16384,null,null,null,null,0,212]
[11,16487,11,16494,21,16501,null,null,null,null,0,112]
[11,16604,22,16618,23,16625,null,null,null,null,0,122]
[11,16729,22,16740,23,16745,null,null,null,null,0,122]
[11,16850,22,16853,23,16857,null,null,null,null,0,122]
[11,16960,11,16964,21,16973,null,null,null,null,0,112]
[11,17069,22,17092,14,17101,null,null,null,null,0,121]
[11,17197,22,17203,23,17208,null,null,null,null,0,122]
[22,17305,13,17307,23,17311,null,null,null,null,0,212]
[11,17447,11,17451,12,17455,null,null,null,null,0,111]
[22,17564,24,17570,14,17576,null,null,null,null,0,221]
[11,17679,11,17689,21,17692,null,null,null,null,0,112]
[11,17788,22,17791,23,17804,null,null,null,null,0,122]
[11,17898,22,17901,14,17904,null,null,null,null,0,121]
[11,18005,22,18015,23,18018,null,null,null,null,0,122]
[11,18133,22,18137,23,18142,null,null,null,null,0,122]
[22,18251,13,18256,23,18258,null,null,null,null,0,212]
[11,18360,11,18365,12,18370,null,null,null,null,0,111]
[22,18472,13,18479,23,18485,null,null,null,null,0,212]
[11,18588,22,18599,23,18605,null,null,null,null,0,122]
[11,18699,22,18706,23,18710,null,null,null,null,0,122]
[11,18810,11,18814,21,18820,null,null,null,null,0,112]
[11,18915,11,18920,21,18936,null,null,null,null,0,112]
[22,19079,24,19094,23,19100,null,null,null,null,0,222]
[22,19198,13,19204,14,19210,null,null,null,null,0,211]
[11,19304,22,19312,23,19320,null,null,null,null,0,122]
[22,19433,24,19439,23,19445,null,null,null,null,0,222]
[11,19547,11,19550,12,19554,null,null,null,null,0,111]
[11,19666,22,19671,23,19676,null,null,null,null,0,122]
[22,19779,24,19783,23,19788,null,null,null,null,0,222]
[11,19878,22,19890,14,19896,null,null,null,null,0,121]
[11,19996,22,20009,23,20014,null,null,null,null,0,122]
[22,20119,13,20122,23,20127,null,null,null,null,0,212]
[11,20243,11,20245,12,20257,null,null,null,null,0,111]
[11,20355,22,20369,23,20375,null,null,null,null,0,122]
[11,20494,22,20501,23,20503,null,null,null,null,0,122]
[11,20675,22,20691,23,20695,null,null,null,null,0,122]
[11,20802,22,20806,23,20814,null,null,null,null,0,122]
[11,20984,11,20987,21,21001,null,null,null,null,0,112]
[11,21098,22,21107,23,21113,null,null,null,null,0,122]
[11,21245,11,21260,21,21267,null,null,null,null,0,112]
[22,21403,24,21407,23,21418,null,null,null,null,0,222]
[11,21520,22,21528,23,21535,null,null,null,null,0,122]
[11,21660,22,21669,23,21675,null,null,null,null,0,122]
[22,21772,13,21777,23,21781,null,null,null,null,0,212]
[11,21877,22,21886,23,21890,null,null,null,null,0,122]
[11,21996,11,22015,21,22018,null,null,null,null,0,112]
[11,22197,11,22201,21,22213,null,null,null,null,0,112]
[22,22329,24,22336,23,22357,null,null,null,null,0,222]
[11,22450,22,22458,23,22464,null,null,null,null,0,122]
[11,22565,22,22570,23,22575,null,null,null,null,0,122]
[11,22680,22,22685,23,22691,null,null,null,null,0,122]
[11,22798,22,22804,23,22810,null,null,null,null,0,122]
[11,22919,22,22931,23,22936,null,null,null,null,0,122]
[11,23034,11,23042,21,23045,null,null,null,null,0,112]
[11,23218,22,23230,23,23236,null,null,null,null,0,122]
[22,23368,24,23373,23,23378,null,null,null,null,0,222]
[22,23474,24,23478,23,23484,null,null,null,null,0,222]
[22,23586,13,23590,23,23595,null,null,null,null,0,212]
[11,23687,22,23698,23,23706,null,null,null,null,0,122]
[11,23804,22,23810,23,23815,null,null,null,null,0,122]
[11,23913,22,23919,23,23924,null,null,null,null,null,122]

{"sheet":"!N108940.Gus","index":14,"n_rows":174,"n_cols":48,"rows_kept":174,"cut":false,"hidden":false,"merged":[[1,1,1,2],[5,13,5,14],[18,13,18,14],[19,13,19,14],[4,19,4,22],[5,19,5,20],[4,39,4,42],[5,39,5,40],[4,44,4,47],[5,44,5,45],[4,24,4,27],[5,24,5,25],[4,29,4,32],[5,29,5,30],[4,34,4,37],[5,34,5,35]]}
["Report for:!N108940.Gus"]
["Date:","<date>"]
["Hen:","<hen>",null,null,null,"Correct Sequence",{"$f":"Start!J2","v":112},null,null,null,null,null,null,null,null,"Total Sequences in Data",{"$f":"4994-COUNTBLANK(L7:L5000)","v":168},null,null,null,null,"Total Sequences in Block Data",{"$f":"COUNTA(L7:L34)","v":28},null,null,null,"Total Sequences in Block Data",{"$f":"COUNTA(L35:L62)","v":28},null,null,null,"Total Sequences in Block Data",{"$f":"COUNTA(L63:L90)","v":28},null,null,null,"Total Sequences in Block Data",{"$f":"COUNTA(L91:L118)","v":28},null,null,null,"Total Sequences in Block Data",{"$f":"COUNTA(L119:L146)","v":28},null,null,null,"Total Sequences in Block Data",{"$f":"COUNTA(L147:L174)","v":28}]
[null,null,null,null,null,null,null,null,null,null,null,null,null,null,null,"Total Sequences in Summary",{"$f":"SUM(O7:O14)","v":168},null,null,null,null,"Total Sequences in Block Summary",{"$f":"SUM(U7:U14)","v":28},null,null,null,"Total Sequences in Block Summary",{"$f":"SUM(Z7:Z14)","v":28},null,null,null,"Total Sequences in Block Summary",{"$f":"SUM(AE7:AE14)","v":28},null,null,null,"Total Sequences in Block Summary",{"$f":"SUM(AJ7:AJ14)","v":28},null,null,null,"Total Sequences in Block Summary",{"$f":"SUM(AO7:AO14)","v":28},null,null,null,"Total Sequences in Block Summary",{"$f":"SUM(AT7:AT14)","v":28}]
[null,null,null,null,null,null,null,null,null,null,null,null,null,null,null,null,null,null,null,"Block 1",null,null,null,null,"Block 2",null,null,null,null,"Block 3",null,null,null,null,"Block 4",null,null,null,null,"Block 5",null,null,null,null,"Block 6"]
["Sequence\nComponent\n1","Time\n1","Sequence\nComponent\n2","Time\n2","Sequence\nComponent\n3","Time\n3","Sequence\nComponent\n4","Time\n4","Sequence\nComponent\n5","Time\n5","Correct?\n0=No 1=Yes","Sequence",null,"Frequency",null,"Relative Frequency","Variability",null,null,"Frequency",null,"Relative Frequency","Variability",null,"Frequency",null,"Relative Frequency","Variability",null,"Frequency",null,"Relative Frequency","Variability",null,"Frequency",null,"Relative Frequency","Variability",null,"Frequency",null,"Relative Frequency","Variability",null,"Frequency",null,"Relative Frequency","Variability"]
[11,19,11,27,21,36,null,null,null,null,0,112,null,111,{"$f":"COUNTIF($L$7:$L$500,N7)","v":5},{"$f":"O7/$Q$4","v":2.976190476190476E-2},{"$f":"IF(P7=0,0,(P7*((LOG(P7))/LOG(2))))","v":-0.15090444428248206},null,null,{"$f":"N7","v":111},{"$f":"COUNTIF(L7:L34,T7)","v":0},{"$f":"U7/(W4-U8)","v":0},{"$f":"IF(V7=0,0,(V7*((LOG(V7))/LOG(2))))","v":0},null,{"$f":"N7","v":111},{"$f":"COUNTIF(L35:L62,Y7)","v":1},{"$f":"Z7/(AB4-Z8)","v":4.1666666666666664E-2},{"$f":"IF(AA7=0,0,(AA7*((LOG(AA7))/LOG(2))))","v":-0.19104010419671485},null,{"$f":"N7","v":111},{"$f":"COUNTIF(L63:L90,AD7)","v":0},{"$f":"AE7/(AG4-AE8)","v":0},{"$f":"IF(AF7=0,0,(AF7*((LOG(AF7))/LOG(2))))","v":0},null,{"$f":"N7","v":111},{"$f":"COUNTIF(L91:L118,AI7)","v":0},{"$f":"AJ7/(AL4-AJ8)","v":0},{"$f":"IF(AK7=0,0,(AK7*((LOG(AK7))/LOG(2))))","v":0},null,{"$f":"N7","v":111},{"$f":"COUNTIF(L119:L146,AN7)","v":3},{"$f":"AO7/(AQ4-AO8)","v":0.13043478260869565},{"$f":"IF(AP7=0,0,(AP7*((LOG(AP7))/LOG(2))))","v":-0.3832955811307639},null,{"$f":"N7","v":111},{"$f":"COUNTIF(L147:L174,AS7)","v":1},{"$f":"AT7/(AV4-AT8)","v":5.2631578947368418E-2},{"$f":"IF(AU7=0,0,(AU7*((LOG(AU7))/LOG(2))))","v":-0.22357513228650452}]
[11,131,11,138,21,147,null,null,null,null,0,112,null,112,32,0.19047619047619047,-0.4556795091007162,null,null,112,{"$f":"COUNTIF(L7:L34,T8)","v":7},null,null,null,112,{"$f":"COUNTIF(L35:L62,Y8)","v":4},null,null,null,112,{"$f":"COUNTIF(L63:L90,AD8)","v":4},null,null,null,112,{"$f":"COUNTIF(L91:L118,AI8)","v":3},null,null,null,112,{"$f":"COUNTIF(L119:L146,AN8)","v":5},null,null,null,112,{"$f":"COUNTIF(L147:L174,AS8)","v":9}]
[11,254,11,260,21,277,null,null,null,null,0,112,null,121,7,4.1666666666666664E-2,-0.19104010419671485,null,null,121,{"$f":"COUNTIF(L7:L34,T9)","v":1},{"$f":"U9/(W4-U8)","v":4.7619047619047616E-2},{"$f":"IF(V9=0,0,(V9*((LOG(V9))/LOG(2))))","v":-0.20915797251327431},null,121,{"$f":"COUNTIF(L35:L62,Y9)","v":0},{"$f":"Z9/(AB4-Z8)","v":0},{"$f":"IF(AA9=0,0,(AA9*((LOG(AA9))/LOG(2))))","v":0},null,121,{"$f":"COUNTIF(L63:L90,AD9)","v":1},{"$f":"AE9/(AG4-AE8)","v":4.1666666666666664E-2},{"$f":"IF(AF9=0,0,(AF9*((LOG(AF9))/LOG(2))))","v":-0.19104010419671485},null,121,{"$f":"COUNTIF(L91:L118,AI9)","v":1},{"$f":"AJ9/(AL4-AJ8)","v":0.04},{"$f":"IF(AK9=0,0,(AK9*((LOG(AK9))/LOG(2))))","v":-0.18575424759098899},null,121,{"$f":"COUNTIF(L119:L146,AN9)","v":2},{"$f":"AO9/(AQ4-AO8)","v":8.6956521739130432E-2},{"$f":"IF(AP9=0,0,(AP9*((LOG(AP9))/LOG(2))))","v":-0.30639669183104457},null,121,{"$f":"COUNTIF(L147:L174,AS9)","v":2},{"$f":"AT9/(AV4-AT8)","v":0.10526315789473684},{"$f":"IF(AU9=0,0,(AU9*((LOG(AU9))/LOG(2))))","v":-0.34188710667827216}]
[11,380,22,404,23,419,null,null,null,null,0,122,null,122,78,0.4642857142857143,-0.51392491610409474,null,null,122,{"$f":"COUNTIF(L7:L34,T10)","v":11},{"$f":"U10/(W4-U8)","v":0.52380952380952384},-0.4886544688360045,null,122,{"$f":"COUNTIF(L35:L62,Y10)","v":12},{"$f":"Z10/(AB4-Z8)","v":0.5},-0.5,null,122,{"$f":"COUNTIF(L63:L90,AD10)","v":14},{"$f":"AE10/(AG4-AE8)","v":0.58333333333333337},-0.45360442088707198,null,122,{"$f":"COUNTIF(L91:L118,AI10)","v":17},{"$f":"AJ10/(AL4-AJ8)","v":0.68},-0.378347476996582,null,122,{"$f":"COUNTIF(L119:L146,AN10)","v":13},{"$f":"AO10/(AQ4-AO8)","v":0.56521739130434778},-0.46524300403943353,null,122,{"$f":"COUNTIF(L147:L174,AS10)","v":11},{"$f":"AT10/(AV4-AT8)","v":0.57894736842105265},-0.45649762330890375]
[11,526,11,538,21,557,null,null,null,null,0,112,null,211,0,0,0,null,null,211,{"$f":"COUNTIF(L7:L34,T11)","v":0},{"$f":"U11/(W4-U8)","v":0},0,null,211,{"$f":"COUNTIF(L35:L62,Y11)","v":0},{"$f":"Z11/(AB4-Z8)","v":0},0,null,211,{"$f":"COUNTIF(L63:L90,AD11)","v":0},{"$f":"AE11/(AG4-AE8)","v":0},0,null,211,{"$f":"COUNTIF(L91:L118,AI11)","v":0},{"$f":"AJ11/(AL4-AJ8)","v":0},0,null,211,{"$f":"COUNTIF(L119:L146,AN11)","v":0},{"$f":"AO11/(AQ4-AO8)","v":0},0,null,211,{"$f":"COUNTIF(L147:L174,AS11)","v":0},{"$f":"AT11/(AV4-AT8)","v":0},0]
[11,667,22,674,23,686,null,null,null,null,0,122,null,212,15,8.9285714285714288E-2,-0.31119882385448588,null,null,212,{"$f":"COUNTIF(L7:L34,T12)","v":1},{"$f":"U12/(W4-U8)","v":4.7619047619047616E-2},-0.20915797251327431,null,212,{"$f":"COUNTIF(L35:L62,Y12)","v":2},{"$f":"Z12/(AB4-Z8)","v":8.3333333333333329E-2},-0.29874687506009634,null,212,{"$f":"COUNTIF(L63:L90,AD12)","v":3},{"$f":"AE12/(AG4-AE8)","v":0.125},-0.375,null,212,{"$f":"COUNTIF(L91:L118,AI12)","v":3},{"$f":"AJ12/(AL4-AJ8)","v":0.12},-0.36706724268642821,null,212,{"$f":"COUNTIF(L119:L146,AN12)","v":2},{"$f":"AO12/(AQ4-AO8)","v":8.6956521739130432E-2},-0.30639669183104457,null,212,{"$f":"COUNTIF(L147:L174,AS12)","v":4},{"$f":"AT12/(AV4-AT8)","v":0.21052631578947367},-0.47324789756707064]
[11,778,11,791,21,802,null,null,null,null,0,112,null,221,9,5.3571428571428568E-2,-0.22619959400016687,null,null,221,{"$f":"COUNTIF(L7:L34,T13)","v":2},{"$f":"U13/(W4-U8)","v":9.5238095238095233E-2},-0.32307784978845333,null,221,{"$f":"COUNTIF(L35:L62,Y13)","v":1},{"$f":"Z13/(AB4-Z8)","v":4.1666666666666664E-2},-0.19104010419671485,null,221,{"$f":"COUNTIF(L63:L90,AD13)","v":3},{"$f":"AE13/(AG4-AE8)","v":0.125},-0.375,null,221,{"$f":"COUNTIF(L91:L118,AI13)","v":2},{"$f":"AJ13/(AL4-AJ8)","v":0.08},-0.29150849518197797,null,221,{"$f":"COUNTIF(L119:L146,AN13)","v":0},{"$f":"AO13/(AQ4-AO8)","v":0},0,null,221,{"$f":"COUNTIF(L147:L174,AS13)","v":1},{"$f":"AT13/(AV4-AT8)","v":5.2631578947368418E-2},-0.22357513228650452]
[11,944,22,953,23,960,null,null,null,null,0,122,null,222,22,0.13095238095238096,-0.38406837911376301,null,null,222,{"$f":"COUNTIF(L7:L34,T14)","v":6},{"$f":"U14/(W4-U8)","v":0.2857142857142857},-0.51638712058788683,null,222,{"$f":"COUNTIF(L35:L62,Y14)","v":8},{"$f":"Z14/(AB4-Z8)","v":0.33333333333333331},-0.52832083357371862,null,222,{"$f":"COUNTIF(L63:L90,AD14)","v":3},{"$f":"AE14/(AG4-AE8)","v":0.125},-0.375,null,222,{"$f":"COUNTIF(L91:L118,AI14)","v":2},{"$f":"AJ14/(AL4-AJ8)","v":0.08},-0.29150849518197797,null,222,{"$f":"COUNTIF(L119:L146,AN14)","v":3},{"$f":"AO14/(AQ4-AO8)","v":0.13043478260869565},-0.3832955811307639,null,222,{"$f":"COUNTIF(L147:L174,AS14)","v":0},{"$f":"AT14/(AV4-AT8)","v":0},0]
[11,1055,22,1077,23,1085,null,null,null,null,0,122,null,null,null,{"$f":"SUM(P7:P14)","v":1.0000000000000002},{"$f":"-SUM(Q7:Q14)","v":2.2330157706524236},null,null,null,null,{"$f":"SUM(V7:V14)","v":1},{"$f":"-SUM(W7:W14)","v":1.7464353842388931},null,null,null,{"$f":"SUM(AA7:AA14)","v":1},{"$f":"-SUM(AB7:AB14)","v":1.7091479170272448},null,null,null,{"$f":"SUM(AF7:AF14)","v":1},{"$f":"-SUM(AG7:AG14)","v":1.7696445250837869},null,null,null,{"$f":"SUM(AK7:AK14)","v":1},{"$f":"-SUM(AL7:AL14)","v":1.514185957637955},null,null,null,{"$f":"SUM(AP7:AP14)","v":0.99999999999999989},{"$f":"-SUM(AQ7:AQ14)","v":1.8446275499630505},null,null,null,{"$f":"SUM(AU7:AU14)","v":1},{"$f":"-SUM(AV7:AV14)","v":1.7187828921272554}]
[22,1198,24,1202,23,1207,null,null,null,null,0,222,null,null,null,"U=",{"$f":"Q15/(LOG(Q4)/LOG(2))","v":0.30207249539523112},null,null,null,null,"U1=",{"$f":"W15/(LOG(W4)/LOG(2))","v":0.36328405382047357},null,null,null,"U2=",{"$f":"AB15/(LOG(AB4)/LOG(2))","v":0.35552771633006652},null,null,null,"U3=",{"$f":"AG15/(LOG(AG4)/LOG(2))","v":0.36811189391574162},null,null,null,"U4=",{"$f":"AL15/(LOG(AL4)/LOG(2))","v":0.31497278278547941},null,null,null,"U5=",{"$f":"AQ15/(LOG(AQ4)/LOG(2))","v":0.38370945766856934},null,null,null,"U6=",{"$f":"AV15/(LOG(AV4)/LOG(2))","v":0.35753193179911841}]
[11,1306,22,1313,23,1321,null,null,null,null,0,122]
[11,1420,11,1428,21,1442,null,null,null,null,0,112]
[22,1548,24,1553,14,1557,null,null,null,null,0,221,null,"Total Target Seq"]
[22,1690,13,1699,23,1708,null,null,null,null,0,212,null,{"$f":"COUNTIF(L7:L174,G3)","v":32},null,28,28,28,28,28,28]
[22,1835,24,1843,23,1851,null,null,null,null,0,222,null,null,null,"% of reinforcement given in 6 equal intervals based on number of trials "]
[22,1961,24,1972,23,1978,null,null,null,null,0,222,null,null,null,"%_1","%_2","%_3","%_4","%_5","%_6"]
[11,2087,22,2097,23,2104,null,null,null,null,0,122,null,null,"target sequence",{"$f":"$G$3","v":112},112,112,112,112,112]
[11,2205,22,2214,23,2216,null,null,null,null,0,122,null,null,"total reinforcement",{"$f":"U8","v":7},{"$f":"Z8","v":4},{"$f":"AE8","v":4},{"$f":"AJ8","v":3},{"$f":"AO8","v":5},{"$f":"AT8","v":9}]
[11,2318,22,2326,14,2331,null,null,null,null,0,121,null,null,"% target"]
[22,2448,24,2458,23,2464,null,null,null,null,0,222,null,null,"CCRF"]
[11,2557,22,2565,23,2574,null,null,null,null,0,122,null,null,"% CCRf"]
[22,2680,24,2685,23,2692,null,null,null,null,0,222,null,null,"average response rate",{"$f":"F34/P20","v":121.03571428571429},{"$f":"(F62-F34)/Q20","v":118.85714285714286},{"$f":"(F90-F62)/R20","v":118.75},{"$f":"(F118-F90)/S20","v":122.85714285714286},{"$f":"(F146-F118)/T20","v":127.39285714285714},{"$f":"(F174-F146)/U20","v":134.67857142857142}]
[11,2791,22,2800,23,2806,null,null,null,null,0,122]
[22,2911,24,2916,23,2922,null,null,null,null,0,222]
[11,3036,22,3051,23,3056,null,null,null,null,0,122]
[11,3152,22,3167,23,3172,null,null,null,null,0,122]
[22,3276,24,3278,14,3280,null,null,null,null,0,221]
[11,3377,11,3385,21,3389,null,null,null,null,0,112]
[22,3514,24,3517,14,3524,null,null,null,null,0,221]
[11,3617,22,3634,23,3640,null,null,null,null,0,122]
[11,3750,22,3753,23,3761,null,null,null,null,0,122]
[11,3864,22,3874,23,3881,null,null,null,null,0,122]
[22,3980,24,3984,23,3990,null,null,null,null,0,222]
[11,4082,11,4094,21,4099,null,null,null,null,0,112]
[22,4211,24,4219,23,4227,null,null,null,null,0,222]
[11,4322,11,4340,21,4346,null,null,null,null,0,112]
[22,4481,24,4485,23,4491,null,null,null,null,0,222]
[11,4593,11,4598,21,4615,null,null,null,null,0,112]
[22,4728,13,4738,23,4747,null,null,null,null,0,212]
[11,4839,22,4854,23,4861,null,null,null,null,0,122]
[22,4965,24,4968,23,4975,null,null,null,null,0,222]
[11,5074,22,5090,23,5096,null,null,null,null,0,122]
[11,5196,22,5202,23,5208,null,null,null,null,0,122]
[22,5316,24,5320,23,5326,null,null,null,null,0,222]
[11,5424,22,5430,23,5436,null,null,null,null,0,122]
[11,5545,22,5550,23,5556,null,null,null,null,0,122]
[11,5660,11,5668,21,5673,null,null,null,null,0,112]
[22,5797,24,5812,23,5818,null,null,null,null,0,222]
[22,5924,24,5931,23,5939,null,null,null,null,0,222]
[22,6040,24,6047,23,6052,null,null,null,null,0,222]
[22,6150,13,6153,23,6155,null,null,null,null,0,212]
[11,6248,22,6255,23,6262,null,null,null,null,0,122]
[11,6360,22,6366,23,6374,null,null,null,null,0,122]
[11,6473,22,6484,23,6490,null,null,null,null,0,122]
[11,6591,11,6600,12,6605,null,null,null,null,0,111]
[11,6699,22,6706,23,6717,null,null,null,null,0,122]
[11,6809,11,6816,21,6833,null,null,null,null,0,112]
[22,6969,24,6986,23,6994,null,null,null,null,0,222]
[22,7094,24,7097,14,7102,null,null,null,null,0,221]
[11,7195,22,7200,23,7205,null,null,null,null,0,122]
[22,7303,24,7307,23,7311,null,null,null,null,0,222]
[11,7404,22,7416,23,7422,null,null,null,null,0,122]
[11,7519,22,7530,23,7538,null,null,null,null,0,122]
[11,7632,22,7639,23,7644,null,null,null,null,0,122]
[11,7740,22,7750,23,7757,null,null,null,null,0,122]
[11,7854,22,7861,23,7869,null,null,null,null,0,122]
[11,7964,22,7977,14,7981,null,null,null,null,0,121]
[22,8085,13,8088,23,8095,null,null,null,null,0,212]
[11,8199,22,8207,23,8212,null,null,null,null,0,122]
[11,8317,22,8320,23,8324,null,null,null,null,0,122]
[11,8427,22,8432,23,8438,null,null,null,null,0,122]
[22,8543,24,8546,14,8548,null,null,null,null,0,221]
[22,8643,13,8645,23,8660,null,null,null,null,0,212]
[11,8755,11,8761,21,8780,null,null,null,null,0,112]
[22,8912,13,8921,23,8928,null,null,null,null,0,212]
[11,9035,22,9040,23,9045,null,null,null,null,0,122]
[11,9145,22,9153,23,9159,null,null,null,null,0,122]
[11,9253,22,9259,23,9266,null,null,null,null,0,122]
[11,9364,11,9372,21,9383,null,null,null,null,0,112]
[22,9546,24,9560,23,9568,null,null,null,null,0,222]
[11,9670,22,9685,23,9692,null,null,null,null,0,122]
[11,9787,11,9794,21,9795,null,null,null,null,0,112]
[11,9898,22,9906,23,9922,null,null,null,null,0,122]
[22,10036,24,10039,14,10042,null,null,null,null,0,221]
[22,10144,24,10155,23,10161,null,null,null,null,0,222]
[11,10261,22,10265,23,10270,null,null,null,null,0,122]
[22,10363,13,10367,23,10369,null,null,null,null,0,212]
[11,10474,22,10479,14,10484,null,null,null,null,0,121]
[11,10589,22,10602,23,10613,null,null,null,null,0,122]
[11,10709,11,10718,21,10730,null,null,null,null,0,112]
[11,10853,22,10862,23,10870,null,null,null,null,0,122]
[11,10965,22,10972,23,10981,null,null,null,null,0,122]
[22,11079,13,11085,23,11088,null,null,null,null,0,212]
[22,11192,13,11195,23,11203,null,null,null,null,0,212]
[11,11300,22,11309,23,11315,null,null,null,null,0,122]
[11,11425,22,11434,23,11442,null,null,null,null,0,122]
[11,11545,22,11550,23,11556,null,null,null,null,0,122]
[22,11657,24,11661,23,11668,null,null,null,null,0,222]
[11,11763,11,11776,21,11780,null,null,null,null,0,112]
[22,11943,24,11946,14,11949,null,null,null,null,0,221]
[11,12067,22,12077,23,12084,null,null,null,null,0,122]
[11,12187,22,12192,23,12200,null,null,null,null,0,122]
[11,12292,22,12310,23,12314,null,null,null,null,0,122]
[11,12412,11,12415,21,12426,null,null,null,null,0,112]
[11,12637,22,12652,23,12658,null,null,null,null,0,122]
[11,12756,22,12759,23,12776,null,null,null,null,0,122]
[11,12873,22,12877,23,12883,null,null,null,null,0,122]
[11,12989,22,13002,23,13009,null,null,null,null,0,122]
[11,13110,22,13128,23,13134,null,null,null,null,0,122]
[11,13238,22,13245,23,13250,null,null,null,null,0,122]
[22,13353,24,13359,14,13360,null,null,null,null,0,221]
[11,13475,22,13480,23,13482,null,null,null,null,0,122]
[11,13588,11,13600,21,13603,null,null,null,null,0,112]
[22,13735,24,13744,23,13751,null,null,null,null,0,222]
[11,13854,22,13862,23,13873,null,null,null,null,0,122]
[11,13977,22,13984,23,13990,null,null,null,null,0,122]
[22,14085,24,14093,23,14100,null,null,null,null,0,222]
[22,14205,24,14210,23,14217,null,null,null,null,0,222]
[11,14310,11,14317,21,14337,null,null,null,null,0,112]
[11,14492,11,14510,21,14519,null,null,null,null,0,112]
[11,14752,22,14779,23,14792,null,null,null,null,0,122]
[11,14890,22,14899,14,14904,null,null,null,null,0,121]
[11,15002,11,15011,21,15019,null,null,null,null,0,112]
[11,15147,22,15159,23,15165,null,null,null,null,0,122]
[11,15262,22,15276,23,15281,null,null,null,null,0,122]
[11,15375,22,15392,23,15397,null,null,null,null,0,122]
[11,15497,11,15508,21,15515,null,null,null,null,0,112]
[11,15633,22,15645,23,15651,null,null,null,null,0,122]
[11,15743,22,15757,23,15762,null,null,null,null,0,122]
[11,15862,22,15868,23,15873,null,null,null,null,0,122]
[11,15967,11,15970,12,15975,null,null,null,null,0,111]
[22,16077,13,16084,23,16089,null,null,null,null,0,212]
[11,16186,11,16189,12,16205,null,null,null,null,0,111]
[11,16364,22,16369,23,16378,null,null,null,null,0,122]
[11,16478,22,16490,23,16496,null,null,null,null,0,122]
[11,16595,22,16605,14,16608,null,null,null,null,0,121]
[22,16707,13,16709,23,16713,null,null,null,null,0,212]
[11,16810,11,16813,12,16816,null,null,null,null,0,111]
[11,16913,22,16927,23,16941,null,null,null,null,0,122]
[11,17041,22,17045,23,17049,null,null,null,null,0,122]
[11,17144,22,17149,14,17152,null,null,null,null,0,121]
[11,17264,22,17268,23,17277,null,null,null,null,0,122]
[11,17402,22,17410,23,17419,null,null,null,null,0,122]
[11,17512,11,17514,21,17535,null,null,null,null,0,112]
[11,17644,22,17663,14,17666,null,null,null,null,0,121]
[11,17773,11,17785,21,17795,null,null,null,null,0,112]
[22,17914,13,17919,23,17933,null,null,null,null,0,212]
[11,18038,22,18044,23,18056,null,null,null,null,0,122]
[22,18155,13,18157,23,18161,null,null,null,null,0,212]
[11,18261,22,18267,23,18274,null,null,null,null,0,122]
[11,18373,11,18391,21,18396,null,null,null,null,0,112]
[11,18519,11,18525,12,18542,null,null,null,null,0,111]
[11,18643,22,18665,23,18671,null,null,null,null,0,122]
[11,18765,11,18781,21,18785,null,null,null,null,0,112]
[11,18969,22,18981,23,18988,null,null,null,null,0,122]
[11,19081,11,19094,21,19106,null,null,null,null,0,112]
[22,19245,13,19251,23,19262,null,null,null,null,0,212]
[11,19364,11,19378,21,19382,null,null,null,null,0,112]
[11,19528,11,19543,21,19548,null,null,null,null,0,112]
[22,19745,13,19749,23,19762,null,null,null,null,0,212]
[11,19873,22,19885,23,19896,null,null,null,null,0,122]
[11,20001,22,20013,23,20019,null,null,null,null,0,122]
[11,20131,11,20135,21,20144,null,null,null,null,0,112]
[11,20274,22,20283,23,20290,null,null,null,null,0,122]
[11,20403,22,20406,23,20415,null,null,null,null,0,122]
[11,20518,22,20531,23,20537,null,null,null,null,0,122]
[22,20638,24,20645,14,20647,null,null,null,null,0,221]
[11,20789,11,20793,21,20820,null,null,null,null,1,112]

{"sheet":"!N109950.Gus","index":15,"n_rows":196,"n_cols":48,"rows_kept":196,"cut":false,"hidden":false,"merged":[[1,1,1,2],[5,13,5,14],[18,13,18,14],[19,13,19,14],[4,19,4,22],[5,19,5,20],[4,39,4,42],[5,39,5,40],[4,44,4,47],[5,44,5,45],[4,24,4,27],[5,24,5,25],[4,29,4,32],[5,29,5,30],[4,34,4,37],[5,34,5,35]]}
["Report for:!N109950.Gus"]
["Date:","<date>"]
["Hen:","<hen>",null,null,null,"Correct Sequence",{"$f":"Start!J2","v":112},null,null,null,null,null,null,null,null,"Total Sequences in Data",{"$f":"4994-COUNTBLANK(L7:L5000)","v":190},null,null,null,null,"Total Sequences in Block Data",{"$f":"COUNTA(L7:L38)","v":32},null,null,null,"Total Sequences in Block Data",{"$f":"COUNTA(L39:L69)","v":31},null,null,null,"Total Sequences in Block Data",{"$f":"COUNTA(L70:L101)","v":32},null,null,null,"Total Sequences in Block Data",{"$f":"COUNTA(L102:L133)","v":32},null,null,null,"Total Sequences in Block Data",{"$f":"COUNTA(L134:L164)","v":31},null,null,null,"Total Sequences in Block Data",{"$f":"COUNTA(L165:L196)","v":32}]
[null,null,null,null,null,null,null,null,null,null,null,null,null,null,null,"Total Sequences in Summary",{"$f":"SUM(O7:O14)","v":190},null,null,null,null,"Total Sequences in Block Summary",{"$f":"SUM(U7:U14)","v":32},null,null,null,"Total Sequences in Block Summary",{"$f":"SUM(Z7:Z14)","v":31},null,null,null,"Total Sequences in Block Summary",{"$f":"SUM(AE7:AE14)","v":32},null,null,null,"Total Sequences in Block Summary",{"$f":"SUM(AJ7:AJ14)","v":32},null,null,null,"Total Sequences in Block Summary",{"$f":"SUM(AO7:AO14)","v":31},null,null,null,"Total Sequences in Block Summary",{"$f":"SUM(AT7:AT14)","v":32}]
[null,null,null,null,null,null,null,null,null,null,null,null,null,null,null,null,null,null,null,"Block 1",null,null,null,null,"Block 2",null,null,null,null,"Block 3",null,null,null,null,"Block 4",null,null,null,null,"Block 5",null,null,null,null,"Block 6"]
["Sequence\nComponent\n1","Time\n1","Sequence\nComponent\n2","Time\n2","Sequence\nComponent\n3","Time\n3","Sequence\nComponent\n4","Time\n4","Sequence\nComponent\n5","Time\n5","Correct?\n0=No 1=Yes","Sequence",null,"Frequency",null,"Relative Frequency","Variability",null,null,"Frequency",null,"Relative Frequency","Variability",null,"Frequency",null,"Relative Frequency","Variability",null,"Frequency",null,"Relative Frequency","Variability",null,"Frequency",null,"Relative Frequency","Variability",null,"Frequency",null,"Relative Frequency","Variability",null,"Frequency",null,"Relative Frequency","Variability"]
[22,2,13,26,23,31,null,null,null,null,0,212,null,111,{"$f":"COUNTIF($L$7:$L$500,N7)","v":6},{"$f":"O7/$Q$4","v":3.1578947368421054E-2},{"$f":"IF(P7=0,0,(P7*((LOG(P7))/LOG(2))))","v":-0.15741767708241444},null,null,{"$f":"N7","v":111},{"$f":"COUNTIF(L7:L38,T7)","v":2},{"$f":"U7/(W4-U8)","v":7.6923076923076927E-2},{"$f":"IF(V7=0,0,(V7*((LOG(V7))/LOG(2))))","v":-0.28464920908777636},null,{"$f":"N7","v":111},{"$f":"COUNTIF(L39:L69,Y7)","v":3},{"$f":"Z7/(AB4-Z8)","v":0.12},{"$f":"IF(AA7=0,0,(AA7*((LOG(AA7))/LOG(2))))","v":-0.36706724268642821},null,{"$f":"N7","v":111},{"$f":"COUNTIF(L70:L101,AD7)","v":0},{"$f":"AE7/(AG4-AE8)","v":0},{"$f":"IF(AF7=0,0,(AF7*((LOG(AF7))/LOG(2))))","v":0},null,{"$f":"N7","v":111},{"$f":"COUNTIF(L102:L133,AI7)","v":1},{"$f":"AJ7/(AL4-AJ8)","v":3.4482758620689655E-2},{"$f":"IF(AK7=0,0,(AK7*((LOG(AK7))/LOG(2))))","v":-0.16751658603888178},null,{"$f":"N7","v":111},{"$f":"COUNTIF(L134:L164,AN7)","v":0},{"$f":"AO7/(AQ4-AO8)","v":0},{"$f":"IF(AP7=0,0,(AP7*((LOG(AP7))/LOG(2))))","v":0},null,{"$f":"N7","v":111},{"$f":"COUNTIF(L165:L196,AS7)","v":0},{"$f":"AT7/(AV4-AT8)","v":0},{"$f":"IF(AU7=0,0,(AU7*((LOG(AU7))/LOG(2))))","v":0}]
[11,120,22,122,23,138,null,null,null,null,0,122,null,112,31,0.16315789473684211,-0.42676546440140134,null,null,112,{"$f":"COUNTIF(L7:L38,T8)","v":6},null,null,null,112,{"$f":"COUNTIF(L39:L69,Y8)","v":6},null,null,null,112,{"$f":"COUNTIF(L70:L101,AD8)","v":7},null,null,null,112,{"$f":"COUNTIF(L102:L133,AI8)","v":3},null,null,null,112,{"$f":"COUNTIF(L134:L164,AN8)","v":3},null,null,null,112,{"$f":"COUNTIF(L165:L196,AS8)","v":6}]
[11,237,22,250,23,254,null,null,null,null,0,122,null,121,16,8.4210526315789472E-2,-0.30061941964892197,null,null,121,{"$f":"COUNTIF(L7:L38,T9)","v":5},{"$f":"U9/(W4-U8)","v":0.19230769230769232},{"$f":"IF(V9=0,0,(V9*((LOG(V9))/LOG(2))))","v":-0.45740608139494804},null,121,{"$f":"COUNTIF(L39:L69,Y9)","v":4},{"$f":"Z9/(AB4-Z8)","v":0.16},{"$f":"IF(AA9=0,0,(AA9*((LOG(AA9))/LOG(2))))","v":-0.42301699036395596},null,121,{"$f":"COUNTIF(L70:L101,AD9)","v":1},{"$f":"AE9/(AG4-AE8)","v":0.04},{"$f":"IF(AF9=0,0,(AF9*((LOG(AF9))/LOG(2))))","v":-0.18575424759098899},null,121,{"$f":"COUNTIF(L102:L133,AI9)","v":3},{"$f":"AJ9/(AL4-AJ8)","v":0.10344827586206896},{"$f":"IF(AK9=0,0,(AK9*((LOG(AK9))/LOG(2))))","v":-0.33858812011100858},null,121,{"$f":"COUNTIF(L134:L164,AN9)","v":2},{"$f":"AO9/(AQ4-AO8)","v":7.1428571428571425E-2},{"$f":"IF(AP9=0,0,(AP9*((LOG(AP9))/LOG(2))))","v":-0.27195392300411453},null,121,{"$f":"COUNTIF(L165:L196,AS9)","v":1},{"$f":"AT9/(AV4-AT8)","v":3.8461538461538464E-2},{"$f":"IF(AU9=0,0,(AU9*((LOG(AU9))/LOG(2))))","v":-0.18078614300542661}]
[11,351,11,362,21,378,null,null,null,null,0,112,null,122,89,0.46842105263157896,-0.51250986202865767,null,null,122,{"$f":"COUNTIF(L7:L38,T10)","v":14},{"$f":"U10/(W4-U8)","v":0.53846153846153844},-0.48089181327572433,null,122,{"$f":"COUNTIF(L39:L69,Y10)","v":13},{"$f":"Z10/(AB4-Z8)","v":0.52},-0.49057656524948895,null,122,{"$f":"COUNTIF(L70:L101,AD10)","v":16},{"$f":"AE10/(AG4-AE8)","v":0.64},-0.41206796145582375,null,122,{"$f":"COUNTIF(L102:L133,AI10)","v":16},{"$f":"AJ10/(AL4-AJ8)","v":0.55172413793103448},-0.47336882489797077,null,122,{"$f":"COUNTIF(L134:L164,AN10)","v":19},{"$f":"AO10/(AQ4-AO8)","v":0.6785714285714286},-0.37961145584522688,null,122,{"$f":"COUNTIF(L165:L196,AS10)","v":11},{"$f":"AT10/(AV4-AT8)","v":0.42307692307692307},-0.52504188825160547]
[11,479,22,489,14,496,null,null,null,null,0,121,null,211,1,5.263157894736842E-3,-3.9841345307004991E-2,null,null,211,{"$f":"COUNTIF(L7:L38,T11)","v":0},{"$f":"U11/(W4-U8)","v":0},0,null,211,{"$f":"COUNTIF(L39:L69,Y11)","v":0},{"$f":"Z11/(AB4-Z8)","v":0},0,null,211,{"$f":"COUNTIF(L70:L101,AD11)","v":0},{"$f":"AE11/(AG4-AE8)","v":0},0,null,211,{"$f":"COUNTIF(L102:L133,AI11)","v":0},{"$f":"AJ11/(AL4-AJ8)","v":0},0,null,211,{"$f":"COUNTIF(L134:L164,AN11)","v":1},{"$f":"AO11/(AQ4-AO8)","v":3.5714285714285712E-2},-0.17169124721634299,null,211,{"$f":"COUNTIF(L165:L196,AS11)","v":0},{"$f":"AT11/(AV4-AT8)","v":0},0]
[11,592,22,612,23,620,null,null,null,null,0,122,null,212,23,0.12105263157894737,-0.3687618631700027,null,null,212,{"$f":"COUNTIF(L7:L38,T12)","v":3},{"$f":"U12/(W4-U8)","v":0.11538461538461539},-0.35947814047153104,null,212,{"$f":"COUNTIF(L39:L69,Y12)","v":2},{"$f":"Z12/(AB4-Z8)","v":0.08},-0.29150849518197797,null,212,{"$f":"COUNTIF(L70:L101,AD12)","v":3},{"$f":"AE12/(AG4-AE8)","v":0.12},-0.36706724268642821,null,212,{"$f":"COUNTIF(L102:L133,AI12)","v":6},{"$f":"AJ12/(AL4-AJ8)","v":0.20689655172413793},-0.4702796884978791,null,212,{"$f":"COUNTIF(L134:L164,AN12)","v":4},{"$f":"AO12/(AQ4-AO8)","v":0.14285714285714285},-0.40105070315108626,null,212,{"$f":"COUNTIF(L165:L196,AS12)","v":5},{"$f":"AT12/(AV4-AT8)","v":0.19230769230769232},-0.45740608139494804]
[22,749,24,755,23,761,null,null,null,null,0,222,null,221,4,2.1052631578947368E-2,-0.11726011807012522,null,null,221,{"$f":"COUNTIF(L7:L38,T13)","v":0},{"$f":"U13/(W4-U8)","v":0},0,null,221,{"$f":"COUNTIF(L39:L69,Y13)","v":1},{"$f":"Z13/(AB4-Z8)","v":0.04},-0.18575424759098899,null,221,{"$f":"COUNTIF(L70:L101,AD13)","v":0},{"$f":"AE13/(AG4-AE8)","v":0},0,null,221,{"$f":"COUNTIF(L102:L133,AI13)","v":0},{"$f":"AJ13/(AL4-AJ8)","v":0},0,null,221,{"$f":"COUNTIF(L134:L164,AN13)","v":1},{"$f":"AO13/(AQ4-AO8)","v":3.5714285714285712E-2},-0.17169124721634299,null,221,{"$f":"COUNTIF(L165:L196,AS13)","v":2},{"$f":"AT13/(AV4-AT8)","v":7.6923076923076927E-2},-0.28464920908777636]
[11,856,11,882,21,895,null,null,null,null,0,112,null,222,20,0.10526315789473684,-0.34188710667827216,null,null,222,{"$f":"COUNTIF(L7:L38,T14)","v":2},{"$f":"U14/(W4-U8)","v":7.6923076923076927E-2},-0.28464920908777636,null,222,{"$f":"COUNTIF(L39:L69,Y14)","v":2},{"$f":"Z14/(AB4-Z8)","v":0.08},-0.29150849518197797,null,222,{"$f":"COUNTIF(L70:L101,AD14)","v":5},{"$f":"AE14/(AG4-AE8)","v":0.2},-0.46438561897747244,null,222,{"$f":"COUNTIF(L102:L133,AI14)","v":3},{"$f":"AJ14/(AL4-AJ8)","v":0.10344827586206896},-0.33858812011100858,null,222,{"$f":"COUNTIF(L134:L164,AN14)","v":1},{"$f":"AO14/(AQ4-AO8)","v":3.5714285714285712E-2},-0.17169124721634299,null,222,{"$f":"COUNTIF(L165:L196,AS14)","v":7},{"$f":"AT14/(AV4-AT8)","v":0.26923076923076922},-0.50967667586863141]
[11,1011,22,1037,23,1043,null,null,null,null,0,122,null,null,null,{"$f":"SUM(P7:P14)","v":1},{"$f":"-SUM(Q7:Q14)","v":2.2650628563868005},null,null,null,null,{"$f":"SUM(V7:V14)","v":1},{"$f":"-SUM(W7:W14)","v":1.8670744533177561},null,null,null,{"$f":"SUM(AA7:AA14)","v":1},{"$f":"-SUM(AB7:AB14)","v":2.0494320362548182},null,null,null,{"$f":"SUM(AF7:AF14)","v":1},{"$f":"-SUM(AG7:AG14)","v":1.4292750707107134},null,null,null,{"$f":"SUM(AK7:AK14)","v":1},{"$f":"-SUM(AL7:AL14)","v":1.7883413396567487},null,null,null,{"$f":"SUM(AP7:AP14)","v":1},{"$f":"-SUM(AQ7:AQ14)","v":1.5676898236494567},null,null,null,{"$f":"SUM(AU7:AU14)","v":1},{"$f":"-SUM(AV7:AV14)","v":1.9575599976083877}]
[11,1139,11,1153,21,1163,null,null,null,null,0,112,null,null,null,"U=",{"$f":"Q15/(LOG(Q4)/LOG(2))","v":0.29922140838380096},null,null,null,null,"U1=",{"$f":"W15/(LOG(W4)/LOG(2))","v":0.37341489066355121},null,null,null,"U2=",{"$f":"AB15/(LOG(AB4)/LOG(2))","v":0.41367598453012799},null,null,null,"U3=",{"$f":"AG15/(LOG(AG4)/LOG(2))","v":0.28585501414214265},null,null,null,"U4=",{"$f":"AL15/(LOG(AL4)/LOG(2))","v":0.35766826793134976},null,null,null,"U5=",{"$f":"AQ15/(LOG(AQ4)/LOG(2))","v":0.31643675894769607},null,null,null,"U6=",{"$f":"AV15/(LOG(AV4)/LOG(2))","v":0.39151199952167753}]
[22,1256,13,1267,23,1280,null,null,null,null,0,212]
[22,1387,24,1392,23,1402,null,null,null,null,0,222]
[11,1505,22,1513,23,1517,null,null,null,null,0,122,null,"Total Target Seq"]
[11,1610,11,1620,21,1626,null,null,null,null,0,112,null,{"$f":"COUNTIF(L7:L196,G3)","v":31},null,32,31,32,32,31,32]
[11,1719,22,1730,14,1734,null,null,null,null,0,121,null,null,null,"% of reinforcement given in 6 equal intervals based on number of trials "]
[11,1836,22,1849,23,1856,null,null,null,null,0,122,null,null,null,"%_1","%_2","%_3","%_4","%_5","%_6"]
[11,1956,22,1958,23,1964,null,null,null,null,0,122,null,null,"target sequence",{"$f":"$G$3","v":112},112,112,112,112,112]
[11,2065,22,2075,23,2080,null,null,null,null,0,122,null,null,"total reinforcement",{"$f":"U8","v":6},{"$f":"Z8","v":6},{"$f":"AE8","v":7},{"$f":"AJ8","v":3},{"$f":"AO8","v":3},{"$f":"AT8","v":6}]
[11,2181,11,2184,12,2187,null,null,null,null,0,111,null,null,"% target"]
[11,2282,22,2297,14,2299,null,null,null,null,0,121,null,null,"CCRF"]
[11,2394,11,2399,12,2409,null,null,null,null,0,111,null,null,"% CCRf"]
[11,2508,22,2519,14,2521,null,null,null,null,0,121,null,null,"average response rate",{"$f":"F38/P20","v":114.90625},{"$f":"(F69-F38)/Q20","v":126},{"$f":"(F101-F69)/R20","v":132.25},{"$f":"(F133-F101)/S20","v":121.6875},{"$f":"(F164-F133)/T20","v":123.03225806451613},{"$f":"(F196-F164)/U20","v":137.96875}]
[11,2624,11,2641,21,2643,null,null,null,null,0,112]
[11,2741,22,2751,23,2759,null,null,null,null,0,122]
[11,2869,22,2882,23,2889,null,null,null,null,0,122]
[11,2989,22,2992,23,2998,null,null,null,null,0,122]
[22,3103,13,3107,23,3109,null,null,null,null,0,212]
[11,3209,22,3216,23,3222,null,null,null,null,0,122]
[11,3329,22,3336,23,3349,null,null,null,null,0,122]
[11,3443,22,3448,14,3453,null,null,null,null,0,121]
[11,3554,22,3559,23,3564,null,null,null,null,0,122]
[11,3656,11,3673,21,3677,null,null,null,null,0,112]
[22,3799,24,3809,23,3816,null,null,null,null,0,222]
[11,3924,11,3937,12,3939,null,null,null,null,0,111]
[11,4040,11,4044,12,4054,null,null,null,null,0,111]
[11,4149,11,4158,21,4161,null,null,null,null,0,112]
[11,4250,11,4260,21,4270,null,null,null,null,0,112]
[11,4520,11,4537,21,4556,null,null,null,null,0,112]
[22,4718,24,4721,14,4729,null,null,null,null,0,221]
[11,4823,22,4851,23,4865,null,null,null,null,0,122]
[11,4958,22,4971,23,4981,null,null,null,null,0,122]
[11,5082,22,5093,23,5098,null,null,null,null,0,122]
[22,5194,13,5200,23,5203,null,null,null,null,0,212]
[11,5299,22,5316,23,5324,null,null,null,null,0,122]
[22,5437,13,5439,23,5445,null,null,null,null,0,212]
[11,5540,22,5550,14,5551,null,null,null,null,0,121]
[11,5642,22,5656,23,5663,null,null,null,null,0,122]
[11,5758,11,5766,21,5771,null,null,null,null,0,112]
[11,5869,22,5881,14,5886,null,null,null,null,0,121]
[11,5981,11,5985,21,5990,null,null,null,null,0,112]
[11,6100,22,6112,23,6119,null,null,null,null,0,122]
[22,6227,24,6234,23,6247,null,null,null,null,0,222]
[11,6342,22,6348,23,6355,null,null,null,null,0,122]
[11,6463,22,6475,23,6482,null,null,null,null,0,122]
[11,6586,22,6595,14,6599,null,null,null,null,0,121]
[11,6706,22,6718,23,6724,null,null,null,null,0,122]
[11,6823,22,6836,23,6843,null,null,null,null,0,122]
[11,6937,22,6956,23,6963,null,null,null,null,0,122]
[11,7060,22,7070,14,7073,null,null,null,null,0,121]
[11,7171,11,7175,12,7187,null,null,null,null,0,111]
[11,7318,22,7333,23,7339,null,null,null,null,0,122]
[11,7433,22,7449,23,7459,null,null,null,null,0,122]
[11,7566,11,7570,21,7583,null,null,null,null,0,112]
[22,7699,24,7705,23,7713,null,null,null,null,0,222]
[11,7808,22,7814,23,7819,null,null,null,null,0,122]
[11,7912,22,7938,23,7944,null,null,null,null,0,122]
[22,8042,13,8045,23,8047,null,null,null,null,0,212]
[11,8149,22,8167,23,8174,null,null,null,null,0,122]
[11,8268,11,8284,21,8287,null,null,null,null,0,112]
[11,8397,22,8421,23,8428,null,null,null,null,0,122]
[11,8534,22,8538,23,8543,null,null,null,null,0,122]
[11,8645,22,8659,23,8665,null,null,null,null,0,122]
[11,8767,11,8771,21,8780,null,null,null,null,0,112]
[11,9030,22,9040,23,9048,null,null,null,null,0,122]
[22,9158,24,9164,23,9171,null,null,null,null,0,222]
[11,9270,11,9273,21,9281,null,null,null,null,0,112]
[22,9385,13,9393,23,9402,null,null,null,null,0,212]
[22,9505,24,9511,23,9517,null,null,null,null,0,222]
[11,9624,22,9628,23,9634,null,null,null,null,0,122]
[11,9729,22,9738,14,9742,null,null,null,null,0,121]
[11,9846,22,9849,23,9855,null,null,null,null,0,122]
[11,9949,22,9952,23,9958,null,null,null,null,0,122]
[11,10051,11,10056,21,10070,null,null,null,null,0,112]
[11,10223,22,10232,23,10241,null,null,null,null,0,122]
[11,10337,22,10346,23,10357,null,null,null,null,0,122]
[11,10451,11,10458,21,10468,null,null,null,null,0,112]
[11,10678,22,10691,23,10698,null,null,null,null,0,122]
[22,10793,24,10806,23,10812,null,null,null,null,0,222]
[11,10915,22,10934,23,10948,null,null,null,null,0,122]
[11,11048,22,11058,23,11066,null,null,null,null,0,122]
[22,11165,24,11175,23,11180,null,null,null,null,0,222]
[11,11275,11,11281,21,11285,null,null,null,null,0,112]
[11,11401,11,11404,21,11417,null,null,null,null,0,112]
[22,11682,13,11684,23,11694,null,null,null,null,0,212]
[11,11799,22,11811,23,11815,null,null,null,null,0,122]
[11,11908,11,11915,21,11921,null,null,null,null,0,112]
[11,12052,22,12067,23,12073,null,null,null,null,0,122]
[22,12203,13,12208,23,12220,null,null,null,null,0,212]
[11,12320,22,12326,23,12332,null,null,null,null,0,122]
[11,12425,22,12429,23,12435,null,null,null,null,0,122]
[11,12531,22,12539,14,12543,null,null,null,null,0,121]
[22,12635,24,12651,23,12656,null,null,null,null,0,222]
[22,12756,13,12758,23,12766,null,null,null,null,0,212]
[11,12871,22,12888,23,12894,null,null,null,null,0,122]
[11,12990,22,12995,23,13001,null,null,null,null,0,122]
[11,13101,22,13117,23,13129,null,null,null,null,0,122]
[11,13222,22,13249,23,13259,null,null,null,null,0,122]
[22,13369,24,13375,23,13380,null,null,null,null,0,222]
[22,13485,24,13491,23,13498,null,null,null,null,0,222]
[22,13605,13,13610,23,13621,null,null,null,null,0,212]
[11,13717,22,13720,23,13725,null,null,null,null,0,122]
[11,13828,22,13834,23,13842,null,null,null,null,0,122]
[22,13944,13,13950,23,13957,null,null,null,null,0,212]
[22,14066,13,14070,23,14073,null,null,null,null,0,212]
[11,14168,11,14172,12,14183,null,null,null,null,0,111]
[11,14283,22,14294,14,14297,null,null,null,null,0,121]
[11,14402,22,14411,23,14417,null,null,null,null,0,122]
[11,14520,22,14530,14,14533,null,null,null,null,0,121]
[11,14635,11,14639,21,14652,null,null,null,null,0,112]
[11,14832,22,14851,23,14874,null,null,null,null,0,122]
[11,14966,11,14985,21,14990,null,null,null,null,0,112]
[22,15125,13,15130,23,15138,null,null,null,null,0,212]
[11,15236,22,15245,23,15251,null,null,null,null,0,122]
[11,15351,22,15358,23,15367,null,null,null,null,0,122]
[11,15475,22,15485,23,15491,null,null,null,null,0,122]
[11,15590,22,15594,23,15600,null,null,null,null,0,122]
[11,15698,22,15703,23,15709,null,null,null,null,0,122]
[11,15805,11,15816,21,15819,null,null,null,null,0,112]
[22,15968,24,15980,23,15985,null,null,null,null,0,222]
[22,16187,13,16191,14,16195,null,null,null,null,0,211]
[11,16319,22,16335,23,16342,null,null,null,null,0,122]
[11,16436,22,16448,23,16454,null,null,null,null,0,122]
[11,16557,22,16573,23,16580,null,null,null,null,0,122]
[11,16683,22,16695,23,16702,null,null,null,null,0,122]
[22,16807,13,16810,23,16819,null,null,null,null,0,212]
[11,16913,11,16924,21,16932,null,null,null,null,0,112]
[22,17064,24,17069,14,17071,null,null,null,null,0,221]
[11,17164,22,17170,14,17173,null,null,null,null,0,121]
[22,17273,13,17276,23,17281,null,null,null,null,0,212]
[11,17380,22,17396,23,17402,null,null,null,null,0,122]
[11,17506,22,17514,23,17520,null,null,null,null,0,122]
[11,17615,11,17622,21,17631,null,null,null,null,0,112]
[22,17772,13,17775,23,17778,null,null,null,null,0,212]
[11,17876,22,17890,23,17897,null,null,null,null,0,122]
[11,17997,22,18007,23,18013,null,null,null,null,0,122]
[11,18115,22,18122,23,18129,null,null,null,null,0,122]
[11,18232,22,18235,23,18242,null,null,null,null,0,122]
[11,18342,22,18348,23,18356,null,null,null,null,0,122]
[11,18451,22,18454,14,18458,null,null,null,null,0,121]
[11,18559,22,18564,23,18571,null,null,null,null,0,122]
[11,18670,22,18673,23,18679,null,null,null,null,0,122]
[11,18777,22,18779,23,18787,null,null,null,null,0,122]
[11,18885,22,18899,23,18904,null,null,null,null,0,122]
[11,18997,22,19006,23,19011,null,null,null,null,0,122]
[22,19133,13,19140,23,19151,null,null,null,null,0,212]
[11,19246,22,19274,23,19281,null,null,null,null,0,122]
[11,19396,22,19400,23,19406,null,null,null,null,0,122]
[11,19508,22,19517,23,19523,null,null,null,null,0,122]
[11,19623,11,19628,21,19638,null,null,null,null,0,112]
[22,19811,13,19819,23,19842,null,null,null,null,0,212]
[22,19961,24,19968,23,19979,null,null,null,null,0,222]
[11,20080,22,20089,23,20097,null,null,null,null,0,122]
[22,20194,24,20198,23,20206,null,null,null,null,0,222]
[22,20306,24,20311,23,20318,null,null,null,null,0,222]
[11,20420,22,20433,14,20437,null,null,null,null,0,121]
[11,20550,22,20557,23,20564,null,null,null,null,0,122]
[11,20659,11,20664,21,20672,null,null,null,null,0,112]
[11,20789,22,20806,23,20814,null,null,null,null,0,122]
[22,20933,24,20943,23,20949,null,null,null,null,0,222]
[11,21041,22,21049,23,21055,null,null,null,null,0,122]
[22,21159,24,21164,23,21170,null,null,null,null,0,222]
[11,21273,11,21287,21,21292,null,null,null,null,0,112]
[11,21441,22,21450,23,21457,null,null,null,null,0,122]
[11,21580,22,21592,23,21605,null,null,null,null,0,122]
[11,21701,22,21710,23,21716,null,null,null,null,0,122]
[11,21813,22,21820,23,21824,null,null,null,null,0,122]
[11,21918,11,21926,21,21941,null,null,null,null,0,112]
[22,22109,13,22116,23,22118,null,null,null,null,0,212]
[22,22309,24,22312,14,22317,null,null,null,null,0,221]
[11,22414,22,22420,23,22425,null,null,null,null,0,122]
[22,22520,24,22524,14,22528,null,null,null,null,0,221]
[22,22624,13,22630,23,22635,null,null,null,null,0,212]
[11,22727,11,22738,21,22744,null,null,null,null,0,112]
[22,22979,13,22988,23,22993,null,null,null,null,0,212]
[11,23096,22,23108,23,23122,null,null,null,null,0,122]
[22,23252,24,23258,23,23264,null,null,null,null,0,222]
[22,23371,24,23374,23,23378,null,null,null,null,0,222]
[11,23470,22,23500,23,23507,null,null,null,null,0,122]
[11,23604,11,23616,21,23624,null,null,null,null,0,112]
[22,23933,13,23936,23,23938,null,null,null,null,null,212]

{"sheet":"!N110A10.Gus","index":16,"n_rows":206,"n_cols":48,"rows_kept":206,"cut":false,"hidden":false,"merged":[[1,1,1,2],[5,13,5,14],[18,13,18,14],[19,13,19,14],[4,19,4,22],[5,19,5,20],[4,39,4,42],[5,39,5,40],[4,44,4,47],[5,44,5,45],[4,24,4,27],[5,24,5,25],[4,29,4,32],[5,29,5,30],[4,34,4,37],[5,34,5,35]]}
["Report for:!N110A10.Gus"]
["Date:","<date>"]
["Hen:","<hen>",null,null,null,"Correct Sequence",{"$f":"Start!J2","v":112},null,null,null,null,null,null,null,null,"Total Sequences in Data",{"$f":"4994-COUNTBLANK(L7:L5000)","v":200},null,null,null,null,"Total Sequences in Block Data",{"$f":"COUNTA(L7:L39)","v":33},null,null,null,"Total Sequences in Block Data",{"$f":"COUNTA(L40:L73)","v":34},null,null,null,"Total Sequences in Block Data",{"$f":"COUNTA(L74:L106)","v":33},null,null,null,"Total Sequences in Block Data",{"$f":"COUNTA(L107:L139)","v":33},null,null,null,"Total Sequences in Block Data",{"$f":"COUNTA(L140:L173)","v":34},null,null,null,"Total Sequences in Block Data",{"$f":"COUNTA(L174:L206)","v":33}]
[null,null,null,null,null,null,null,null,null,null,null,null,null,null,null,"Total Sequences in Summary",{"$f":"SUM(O7:O14)","v":199},null,null,null,null,"Total Sequences in Block Summary",{"$f":"SUM(U7:U14)","v":33},null,null,null,"Total Sequences in Block Summary",{"$f":"SUM(Z7:Z14)","v":34},null,null,null,"Total Sequences in Block Summary",{"$f":"SUM(AE7:AE14)","v":33},null,null,null,"Total Sequences in Block Summary",{"$f":"SUM(AJ7:AJ14)","v":33},null,null,null,"Total Sequences in Block Summary",{"$f":"SUM(AO7:AO14)","v":34},null,null,null,"Total Sequences in Block Summary",{"$f":"SUM(AT7:AT14)","v":32}]
[null,null,null,null,null,null,null,null,null,null,null,null,null,null,null,null,null,null,null,"Block 1",null,null,null,null,"Block 2",null,null,null,null,"Block 3",null,null,null,null,"Block 4",null,null,null,null,"Block 5",null,null,null,null,"Block 6"]
["Sequence\nComponent\n1","Time\n1","Sequence\nComponent\n2","Time\n2","Sequence\nComponent\n3","Time\n3","Sequence\nComponent\n4","Time\n4","Sequence\nComponent\n5","Time\n5","Correct?\n0=No 1=Yes","Sequence",null,"Frequency",null,"Relative Frequency","Variability",null,null,"Frequency",null,"Relative Frequency","Variability",null,"Frequency",null,"Relative Frequency","Variability",null,"Frequency",null,"Relative Frequency","Variability",null,"Frequency",null,"Relative Frequency","Variability",null,"Frequency",null,"Relative Frequency","Variability",null,"Frequency",null,"Relative Frequency","Variability"]
[11,33,22,40,23,47,null,null,null,null,0,122,null,111,{"$f":"COUNTIF($L$7:$L$500,N7)","v":7},{"$f":"O7/$Q$4","v":3.5175879396984924E-2},{"$f":"IF(P7=0,0,(P7*((LOG(P7))/LOG(2))))","v":-0.16987380848945888},null,null,{"$f":"N7","v":111},{"$f":"COUNTIF(L7:L39,T7)","v":2},{"$f":"U7/(W4-U8)","v":7.1428571428571425E-2},{"$f":"IF(V7=0,0,(V7*((LOG(V7))/LOG(2))))","v":-0.27195392300411453},null,{"$f":"N7","v":111},{"$f":"COUNTIF(L40:L73,Y7)","v":3},{"$f":"Z7/(AB4-Z8)","v":9.0909090909090912E-2},{"$f":"IF(AA7=0,0,(AA7*((LOG(AA7))/LOG(2))))","v":-0.31449378351248153},null,{"$f":"N7","v":111},{"$f":"COUNTIF(L74:L106,AD7)","v":1},{"$f":"AE7/(AG4-AE8)","v":3.7037037037037035E-2},{"$f":"IF(AF7=0,0,(AF7*((LOG(AF7))/LOG(2))))","v":-0.1761069445245729},null,{"$f":"N7","v":111},{"$f":"COUNTIF(L107:L139,AI7)","v":1},{"$f":"AJ7/(AL4-AJ8)","v":3.3333333333333333E-2},{"$f":"IF(AK7=0,0,(AK7*((LOG(AK7))/LOG(2))))","v":-0.16356301985361729},null,{"$f":"N7","v":111},{"$f":"COUNTIF(L140:L173,AN7)","v":0},{"$f":"AO7/(AQ4-AO8)","v":0},{"$f":"IF(AP7=0,0,(AP7*((LOG(AP7))/LOG(2))))","v":0},null,{"$f":"N7","v":111},{"$f":"COUNTIF(L174:L206,AS7)","v":0},{"$f":"AT7/(AV4-AT8)","v":0},{"$f":"IF(AU7=0,0,(AU7*((LOG(AU7))/LOG(2))))","v":0}]
[11,148,22,155,23,163,null,null,null,null,0,122,null,112,24,0.12060301507537688,-0.36803965264190863,null,null,112,{"$f":"COUNTIF(L7:L39,T8)","v":5},null,null,null,112,{"$f":"COUNTIF(L40:L73,Y8)","v":1},null,null,null,112,{"$f":"COUNTIF(L74:L106,AD8)","v":6},null,null,null,112,{"$f":"COUNTIF(L107:L139,AI8)","v":3},null,null,null,112,{"$f":"COUNTIF(L140:L173,AN8)","v":5},null,null,null,112,{"$f":"COUNTIF(L174:L206,AS8)","v":4}]
[11,264,22,272,23,277,null,null,null,null,0,122,null,121,21,0.10552763819095477,-0.34236407614604353,null,null,121,{"$f":"COUNTIF(L7:L39,T9)","v":2},{"$f":"U9/(W4-U8)","v":7.1428571428571425E-2},{"$f":"IF(V9=0,0,(V9*((LOG(V9))/LOG(2))))","v":-0.27195392300411453},null,121,{"$f":"COUNTIF(L40:L73,Y9)","v":4},{"$f":"Z9/(AB4-Z8)","v":0.12121212121212122},{"$f":"IF(AA9=0,0,(AA9*((LOG(AA9))/LOG(2))))","v":-0.36901746901314586},null,121,{"$f":"COUNTIF(L74:L106,AD9)","v":4},{"$f":"AE9/(AG4-AE8)","v":0.14814814814814814},{"$f":"IF(AF9=0,0,(AF9*((LOG(AF9))/LOG(2))))","v":-0.40813148180199532},null,121,{"$f":"COUNTIF(L107:L139,AI9)","v":3},{"$f":"AJ9/(AL4-AJ8)","v":0.1},{"$f":"IF(AK9=0,0,(AK9*((LOG(AK9))/LOG(2))))","v":-0.33219280948873625},null,121,{"$f":"COUNTIF(L140:L173,AN9)","v":7},{"$f":"AO9/(AQ4-AO8)","v":0.2413793103448276},{"$f":"IF(AP9=0,0,(AP9*((LOG(AP9))/LOG(2))))","v":-0.49497870729275095},null,121,{"$f":"COUNTIF(L174:L206,AS9)","v":1},{"$f":"AT9/(AV4-AT8)","v":3.5714285714285712E-2},{"$f":"IF(AU9=0,0,(AU9*((LOG(AU9))/LOG(2))))","v":-0.17169124721634299}]
[22,377,24,381,23,387,null,null,null,null,0,222,null,122,90,0.45226130653266333,-0.51773586522240045,null,null,122,{"$f":"COUNTIF(L7:L39,T10)","v":17},{"$f":"U10/(W4-U8)","v":0.6071428571428571},-0.43707733477583927,null,122,{"$f":"COUNTIF(L40:L73,Y10)","v":21},{"$f":"Z10/(AB4-Z8)","v":0.63636363636363635},-0.41495789782344106,null,122,{"$f":"COUNTIF(L74:L106,AD10)","v":10},{"$f":"AE10/(AG4-AE8)","v":0.37037037037037035},-0.53072570639855787,null,122,{"$f":"COUNTIF(L107:L139,AI10)","v":13},{"$f":"AJ10/(AL4-AJ8)","v":0.43333333333333335},-0.52279538023588479,null,122,{"$f":"COUNTIF(L140:L173,AN10)","v":14},{"$f":"AO10/(AQ4-AO8)","v":0.48275862068965519},-0.50719879389584666,null,122,{"$f":"COUNTIF(L174:L206,AS10)","v":15},{"$f":"AT10/(AV4-AT8)","v":0.5357142857142857},-0.48239160345486726]
[11,485,22,510,23,525,null,null,null,null,0,122,null,211,2,1.0050251256281407E-2,-6.6699744930086929E-2,null,null,211,{"$f":"COUNTIF(L7:L39,T11)","v":0},{"$f":"U11/(W4-U8)","v":0},0,null,211,{"$f":"COUNTIF(L40:L73,Y11)","v":0},{"$f":"Z11/(AB4-Z8)","v":0},0,null,211,{"$f":"COUNTIF(L74:L106,AD11)","v":2},{"$f":"AE11/(AG4-AE8)","v":7.407407407407407E-2},-0.27813981497507173,null,211,{"$f":"COUNTIF(L107:L139,AI11)","v":0},{"$f":"AJ11/(AL4-AJ8)","v":0},0,null,211,{"$f":"COUNTIF(L140:L173,AN11)","v":0},{"$f":"AO11/(AQ4-AO8)","v":0},0,null,211,{"$f":"COUNTIF(L174:L206,AS11)","v":0},{"$f":"AT11/(AV4-AT8)","v":0},0]
[11,617,11,623,21,635,null,null,null,null,0,112,null,212,35,0.17587939698492464,-0.44098972927615021,null,null,212,{"$f":"COUNTIF(L7:L39,T12)","v":5},{"$f":"U12/(W4-U8)","v":0.17857142857142858},-0.44382621913754317,null,212,{"$f":"COUNTIF(L40:L73,Y12)","v":2},{"$f":"Z12/(AB4-Z8)","v":6.0606060606060608E-2},-0.24511479511263354,null,212,{"$f":"COUNTIF(L74:L106,AD12)","v":8},{"$f":"AE12/(AG4-AE8)","v":0.29629629629629628},-0.51996666730769436,null,212,{"$f":"COUNTIF(L107:L139,AI12)","v":7},{"$f":"AJ12/(AL4-AJ8)","v":0.23333333333333334},-0.48989165716187993,null,212,{"$f":"COUNTIF(L140:L173,AN12)","v":5},{"$f":"AO12/(AQ4-AO8)","v":0.17241379310344829},-0.43725050004141547,null,212,{"$f":"COUNTIF(L174:L206,AS12)","v":8},{"$f":"AT12/(AV4-AT8)","v":0.2857142857142857},-0.51638712058788683]
[22,738,13,741,23,745,null,null,null,null,0,212,null,221,7,3.5175879396984924E-2,-0.16987380848945888,null,null,221,{"$f":"COUNTIF(L7:L39,T13)","v":0},{"$f":"U13/(W4-U8)","v":0},0,null,221,{"$f":"COUNTIF(L40:L73,Y13)","v":1},{"$f":"Z13/(AB4-Z8)","v":3.0303030303030304E-2},-0.15286042785934709,null,221,{"$f":"COUNTIF(L74:L106,AD13)","v":1},{"$f":"AE13/(AG4-AE8)","v":3.7037037037037035E-2},-0.1761069445245729,null,221,{"$f":"COUNTIF(L107:L139,AI13)","v":3},{"$f":"AJ13/(AL4-AJ8)","v":0.1},-0.33219280948873625,null,221,{"$f":"COUNTIF(L140:L173,AN13)","v":1},{"$f":"AO13/(AQ4-AO8)","v":3.4482758620689655E-2},-0.16751658603888178,null,221,{"$f":"COUNTIF(L174:L206,AS13)","v":1},{"$f":"AT13/(AV4-AT8)","v":3.5714285714285712E-2},-0.17169124721634299]
[22,873,13,880,23,885,null,null,null,null,0,212,null,222,13,6.5326633165829151E-2,-0.25713770719212681,null,null,222,{"$f":"COUNTIF(L7:L39,T14)","v":2},{"$f":"U14/(W4-U8)","v":7.1428571428571425E-2},-0.27195392300411453,null,222,{"$f":"COUNTIF(L40:L73,Y14)","v":2},{"$f":"Z14/(AB4-Z8)","v":6.0606060606060608E-2},-0.24511479511263354,null,222,{"$f":"COUNTIF(L74:L106,AD14)","v":1},{"$f":"AE14/(AG4-AE8)","v":3.7037037037037035E-2},-0.1761069445245729,null,222,{"$f":"COUNTIF(L107:L139,AI14)","v":3},{"$f":"AJ14/(AL4-AJ8)","v":0.1},-0.33219280948873625,null,222,{"$f":"COUNTIF(L140:L173,AN14)","v":2},{"$f":"AO14/(AQ4-AO8)","v":6.8965517241379309E-2},-0.26606765483638428,null,222,{"$f":"COUNTIF(L174:L206,AS14)","v":3},{"$f":"AT14/(AV4-AT8)","v":0.10714285714285714},-0.34525633085747659]
[11,981,22,995,23,1006,null,null,null,null,0,122,null,null,null,{"$f":"SUM(P7:P14)","v":1},{"$f":"-SUM(Q7:Q14)","v":2.3327143923876341},null,null,null,null,{"$f":"SUM(V7:V14)","v":1},{"$f":"-SUM(W7:W14)","v":1.696765322925726},null,null,null,{"$f":"SUM(AA7:AA14)","v":1},{"$f":"-SUM(AB7:AB14)","v":1.7415591684336826},null,null,null,{"$f":"SUM(AF7:AF14)","v":1},{"$f":"-SUM(AG7:AG14)","v":2.2652845040570382},null,null,null,{"$f":"SUM(AK7:AK14)","v":1},{"$f":"-SUM(AL7:AL14)","v":2.1728284857175906},null,null,null,{"$f":"SUM(AP7:AP14)","v":1},{"$f":"-SUM(AQ7:AQ14)","v":1.8730122421052793},null,null,null,{"$f":"SUM(AU7:AU14)","v":0.99999999999999989},{"$f":"-SUM(AV7:AV14)","v":1.6874175493329164}]
[11,1112,22,1123,23,1134,null,null,null,null,0,122,null,null,null,"U=",{"$f":"Q15/(LOG(Q4)/LOG(2))","v":0.30546406407253374},null,null,null,null,"U1=",{"$f":"W15/(LOG(W4)/LOG(2))","v":0.33636652544934786},null,null,null,"U2=",{"$f":"AB15/(LOG(AB4)/LOG(2))","v":0.3423237127773619},null,null,null,"U3=",{"$f":"AG15/(LOG(AG4)/LOG(2))","v":0.44906969012665832},null,null,null,"U4=",{"$f":"AL15/(LOG(AL4)/LOG(2))","v":0.43074122170175139},null,null,null,"U5=",{"$f":"AQ15/(LOG(AQ4)/LOG(2))","v":0.36816234350027244},null,null,null,"U6=",{"$f":"AV15/(LOG(AV4)/LOG(2))","v":0.33748350986658326}]
[22,1246,13,1248,23,1256,null,null,null,null,0,212]
[11,1371,22,1380,23,1391,null,null,null,null,0,122]
[11,1487,22,1492,14,1496,null,null,null,null,0,121,null,"Total Target Seq"]
[11,1601,22,1614,23,1622,null,null,null,null,0,122,null,{"$f":"COUNTIF(L7:L206,G3)","v":24},null,33,34,33,33,34,33]
[22,1735,13,1737,23,1741,null,null,null,null,0,212,null,null,null,"% of reinforcement given in 6 equal intervals based on number of trials "]
[22,1847,24,1853,23,1860,null,null,null,null,0,222,null,null,null,"%_1","%_2","%_3","%_4","%_5","%_6"]
[11,1961,22,1968,23,1976,null,null,null,null,0,122,null,null,"target sequence",{"$f":"$G$3","v":112},112,112,112,112,112]
[11,2078,11,2083,21,2094,null,null,null,null,0,112,null,null,"total reinforcement",{"$f":"U8","v":5},{"$f":"Z8","v":1},{"$f":"AE8","v":6},{"$f":"AJ8","v":3},{"$f":"AO8","v":5},{"$f":"AT8","v":4}]
[11,2200,22,2213,23,2225,null,null,null,null,0,122,null,null,"% target"]
[11,2332,22,2348,23,2357,null,null,null,null,0,122,null,null,"CCRF"]
[11,2459,22,2468,23,2473,null,null,null,null,0,122,null,null,"% CCRf"]
[11,2572,11,2575,12,2582,null,null,null,null,0,111,null,null,"average response rate",{"$f":"F39/P20","v":116.81818181818181},{"$f":"(F73-F39)/Q20","v":118.11764705882354},{"$f":"(F106-F73)/R20","v":126.66666666666667},{"$f":"(F139-F106)/S20","v":115.15151515151516},{"$f":"(F173-F139)/T20","v":123.70588235294117},{"$f":"(F206-F173)/U20","v":-607.78787878787875}]
[11,2671,22,2687,23,2693,null,null,null,null,0,122]
[11,2790,22,2793,23,2804,null,null,null,null,0,122]
[11,2897,11,2906,21,2917,null,null,null,null,0,112]
[11,3011,22,3024,14,3028,null,null,null,null,0,121]
[11,3119,11,3128,12,3136,null,null,null,null,0,111]
[11,3230,11,3243,21,3250,null,null,null,null,0,112]
[22,3379,13,3387,23,3393,null,null,null,null,0,212]
[11,3489,22,3501,23,3508,null,null,null,null,0,122]
[11,3604,22,3612,23,3619,null,null,null,null,0,122]
[11,3728,22,3734,23,3740,null,null,null,null,0,122]
[11,3840,11,3844,21,3855,null,null,null,null,0,112]
[11,3948,22,3962,14,3967,null,null,null,null,0,121]
[11,4062,22,4069,23,4080,null,null,null,null,0,122]
[11,4180,22,4192,23,4198,null,null,null,null,0,122]
[11,4289,11,4295,12,4305,null,null,null,null,0,111]
[11,4398,22,4410,23,4415,null,null,null,null,0,122]
[11,4519,22,4529,23,4537,null,null,null,null,0,122]
[22,4637,24,4641,23,4647,null,null,null,null,0,222]
[11,4741,22,4747,14,4753,null,null,null,null,0,121]
[22,4859,13,4863,23,4867,null,null,null,null,0,212]
[22,4971,24,4977,23,4984,null,null,null,null,0,222]
[11,5087,22,5093,23,5100,null,null,null,null,0,122]
[11,5201,22,5210,23,5215,null,null,null,null,0,122]
[11,5310,22,5324,23,5327,null,null,null,null,0,122]
[11,5431,11,5435,12,5437,null,null,null,null,0,111]
[11,5531,22,5563,23,5568,null,null,null,null,0,122]
[11,5665,22,5672,23,5677,null,null,null,null,0,122]
[22,5780,24,5784,14,5790,null,null,null,null,0,221]
[22,5970,13,5985,23,5995,null,null,null,null,0,212]
[11,6092,22,6103,23,6109,null,null,null,null,0,122]
[11,6213,22,6218,23,6224,null,null,null,null,0,122]
[11,6322,22,6331,14,6336,null,null,null,null,0,121]
[11,6438,22,6445,23,6456,null,null,null,null,0,122]
[11,6554,22,6565,14,6568,null,null,null,null,0,121]
[11,6663,11,6669,12,6673,null,null,null,null,0,111]
[11,6775,22,6784,23,6791,null,null,null,null,0,122]
[11,6900,22,6904,23,6910,null,null,null,null,0,122]
[11,7005,11,7013,21,7025,null,null,null,null,0,112]
[11,7141,22,7156,23,7161,null,null,null,null,0,122]
[11,7253,22,7270,23,7275,null,null,null,null,0,122]
[11,7376,22,7396,23,7403,null,null,null,null,0,122]
[11,7503,22,7512,23,7518,null,null,null,null,0,122]
[11,7627,22,7636,23,7642,null,null,null,null,0,122]
[11,7738,22,7748,23,7752,null,null,null,null,0,122]
[11,7857,22,7866,23,7871,null,null,null,null,0,122]
[11,7969,11,7973,21,7982,null,null,null,null,0,112]
[22,8090,13,8100,14,8109,null,null,null,null,0,211]
[11,8206,22,8220,23,8226,null,null,null,null,0,122]
[11,8320,22,8327,14,8331,null,null,null,null,0,121]
[11,8433,22,8442,14,8448,null,null,null,null,0,121]
[11,8543,22,8553,23,8560,null,null,null,null,0,122]
[22,8663,24,8670,23,8676,null,null,null,null,0,222]
[22,8797,13,8806,23,8808,null,null,null,null,0,212]
[11,8902,22,8909,23,8916,null,null,null,null,0,122]
[22,9022,13,9023,23,9027,null,null,null,null,0,212]
[11,9120,22,9129,23,9134,null,null,null,null,0,122]
[11,9227,22,9236,23,9242,null,null,null,null,0,122]
[11,9347,22,9359,14,9365,null,null,null,null,0,121]
[11,9461,11,9467,21,9476,null,null,null,null,0,112]
[11,9584,11,9589,21,9599,null,null,null,null,0,112]
[11,9898,11,9918,21,9927,null,null,null,null,0,112]
[11,10060,11,10074,21,10083,null,null,null,null,0,112]
[22,10286,13,10292,14,10300,null,null,null,null,0,211]
[22,10420,13,10429,23,10437,null,null,null,null,0,212]
[11,10531,22,10538,23,10546,null,null,null,null,0,122]
[22,10642,24,10646,14,10648,null,null,null,null,0,221]
[22,10758,13,10765,23,10774,null,null,null,null,0,212]
[22,10877,13,10885,23,10895,null,null,null,null,0,212]
[11,10992,22,11002,23,11008,null,null,null,null,0,122]
[11,11103,22,11116,23,11121,null,null,null,null,0,122]
[11,11222,22,11231,23,11238,null,null,null,null,0,122]
[22,11352,13,11357,23,11365,null,null,null,null,0,212]
[11,11458,11,11471,12,11476,null,null,null,null,0,111]
[11,11571,22,11591,14,11595,null,null,null,null,0,121]
[11,11695,22,11705,23,11712,null,null,null,null,0,122]
[11,11809,11,11815,21,11821,null,null,null,null,0,112]
[22,11936,13,11941,23,11946,null,null,null,null,0,212]
[22,12045,13,12048,23,12051,null,null,null,null,0,212]
[11,12151,22,12153,14,12158,null,null,null,null,0,121]
[22,12262,24,12269,23,12275,null,null,null,null,0,222]
[22,12377,13,12381,23,12388,null,null,null,null,0,212]
[22,12487,13,12494,23,12497,null,null,null,null,0,212]
[22,12592,24,12598,23,12605,null,null,null,null,0,222]
[22,12704,13,12707,23,12710,null,null,null,null,0,212]
[11,12802,22,12808,23,12813,null,null,null,null,0,122]
[11,12914,11,12919,21,12921,null,null,null,null,0,112]
[11,13017,22,13023,23,13030,null,null,null,null,0,122]
[11,13122,11,13138,21,13149,null,null,null,null,0,112]
[22,13320,24,13324,14,13328,null,null,null,null,0,221]
[11,13430,22,13447,23,13459,null,null,null,null,0,122]
[11,13556,22,13562,14,13564,null,null,null,null,0,121]
[11,13660,22,13670,23,13676,null,null,null,null,0,122]
[22,13779,13,13783,23,13790,null,null,null,null,0,212]
[11,13888,22,13896,23,13900,null,null,null,null,0,122]
[11,13997,22,14001,23,14007,null,null,null,null,0,122]
[11,14108,22,14113,23,14120,null,null,null,null,0,122]
[11,14221,22,14233,23,14241,null,null,null,null,0,122]
[11,14335,22,14337,23,14346,null,null,null,null,0,122]
[22,14453,13,14456,23,14459,null,null,null,null,0,212]
[22,14557,13,14560,23,14567,null,null,null,null,0,212]
[11,14663,22,14668,23,14674,null,null,null,null,0,122]
[11,14766,11,14770,12,14780,null,null,null,null,0,111]
[11,14922,22,14933,23,14941,null,null,null,null,0,122]
[11,15037,22,15052,23,15060,null,null,null,null,0,122]
[22,15165,24,15171,23,15177,null,null,null,null,0,222]
[22,15277,13,15280,23,15284,null,null,null,null,0,212]
[22,15392,24,15398,14,15403,null,null,null,null,0,221]
[11,15505,11,15515,21,15522,null,null,null,null,0,112]
[11,15614,22,15626,14,15629,null,null,null,null,0,121]
[11,15729,22,15736,23,15743,null,null,null,null,0,122]
[22,15840,24,15848,14,15851,null,null,null,null,0,221]
[11,15950,22,15952,23,15957,null,null,null,null,0,122]
[22,16053,13,16058,23,16065,null,null,null,null,0,212]
[11,16159,22,16162,23,16168,null,null,null,null,0,122]
[11,16261,22,16265,14,16271,null,null,null,null,0,121]
[22,16379,24,16384,14,16389,null,null,null,null,0,221]
[11,16492,22,16504,14,16509,null,null,null,null,0,121]
[11,16608,22,16617,14,16624,null,null,null,null,0,121]
[11,16725,22,16727,23,16734,null,null,null,null,0,122]
[11,16838,22,16848,23,16860,null,null,null,null,0,122]
[11,16962,11,16968,21,16970,null,null,null,null,0,112]
[22,17078,13,17083,23,17088,null,null,null,null,0,212]
[11,17197,22,17206,23,17210,null,null,null,null,0,122]
[11,17312,22,17317,23,17328,null,null,null,null,0,122]
[11,17427,22,17433,23,17439,null,null,null,null,0,122]
[11,17535,22,17544,23,17550,null,null,null,null,0,122]
[11,17649,22,17655,14,17659,null,null,null,null,0,121]
[22,17758,13,17762,23,17768,null,null,null,null,0,212]
[22,17865,24,17871,23,17880,null,null,null,null,0,222]
[11,17980,22,17987,23,17995,null,null,null,null,0,122]
[11,18092,11,18098,21,18108,null,null,null,null,0,112]
[11,18197,22,18216,14,18221,null,null,null,null,0,121]
[11,18319,22,18328,23,18333,null,null,null,null,0,122]
[22,18441,13,18447,23,18453,null,null,null,null,0,212]
[11,18559,22,18567,23,18571,null,null,null,null,0,122]
[11,18663,22,18671,14,18675,null,null,null,null,0,121]
[11,18843,11,18847,21,18865,null,null,null,null,0,112]
[22,18994,13,19002,23,19009,null,null,null,null,0,212]
[11,19106,22,19118,14,19123,null,null,null,null,0,121]
[11,19260,22,19268,23,19273,null,null,null,null,0,122]
[11,19372,11,19376,21,19379,null,null,null,null,0,112]
[22,19607,24,19612,23,19617,null,null,null,null,0,222]
[11,19724,22,19733,23,19740,null,null,null,null,0,122]
[11,19884,11,19888,21,19897,null,null,null,null,0,112]
[11,20034,22,20048,23,20057,null,null,null,null,0,122]
[22,20173,24,20179,23,20186,null,null,null,null,0,222]
[11,20289,22,20291,23,20297,null,null,null,null,0,122]
[11,20397,11,20403,21,20408,null,null,null,null,0,112]
[22,20541,13,20545,23,20556,null,null,null,null,0,212]
[22,20695,24,20707,23,20722,null,null,null,null,0,222]
[11,20816,22,20823,23,20827,null,null,null,null,0,122]
[11,20918,11,20928,21,20939,null,null,null,null,0,112]
[22,21059,13,21062,23,21071,null,null,null,null,0,212]
[11,21176,22,21185,23,21190,null,null,null,null,0,122]
[22,21303,13,21305,23,21313,null,null,null,null,0,212]
[22,21409,13,21413,23,21419,null,null,null,null,0,212]
[11,21511,22,21514,23,21519,null,null,null,null,0,122]
[22,21620,13,21623,23,21626,null,null,null,null,0,212]
[11,21727,22,21738,23,21744,null,null,null,null,0,122]
[11,21845,22,21853,23,21857,null,null,null,null,0,122]
[22,21953,24,21957,14,21960,null,null,null,null,0,221]
[11,22062,22,22069,23,22082,null,null,null,null,0,122]
[22,22176,13,22179,23,22183,null,null,null,null,0,212]
[11,22277,22,22279,23,22285,null,null,null,null,0,122]
[11,22378,22,22395,23,22401,null,null,null,null,0,122]
[22,22499,13,22502,23,22507,null,null,null,null,0,212]
[11,22604,22,22616,23,22624,null,null,null,null,0,122]
[11,22719,11,22730,21,22735,null,null,null,null,0,112]
[11,22847,11,22864,21,22866,null,null,null,null,0,112]
[22,23111,24,23114,23,23119,null,null,null,null,0,222]
[22,23222,13,23228,23,23233,null,null,null,null,0,212]
[11,23325,22,23335,14,23341,null,null,null,null,0,121]
[11,23437,22,23444,23,23451,null,null,null,null,0,122]
[11,23545,22,23556,23,23563,null,null,null,null,0,122]
[11,23655,22,23668,23,23680,null,null,null,null,0,122]
[11,23783,22,23791,23,23801,null,null,null,null,0,122]
[11,23895,22,23900,23,23906,null,null,null,null,0,122]
[11,23998,null,null,null,null,null,null,null,null,null,1]

{"sheet":"!N111A20.Gus","index":17,"n_rows":187,"n_cols":48,"rows_kept":187,"cut":false,"hidden":false,"merged":[[1,1,1,2],[5,13,5,14],[18,13,18,14],[19,13,19,14],[4,19,4,22],[5,19,5,20],[4,39,4,42],[5,39,5,40],[4,44,4,47],[5,44,5,45],[4,24,4,27],[5,24,5,25],[4,29,4,32],[5,29,5,30],[4,34,4,37],[5,34,5,35]]}
["Report for:!N111A20.Gus"]
["Date:","<date>"]
["Hen:","<hen>",null,null,null,"Correct Sequence",{"$f":"Start!J2","v":112},null,null,null,null,null,null,null,null,"Total Sequences in Data",{"$f":"4994-COUNTBLANK(L7:L5000)","v":181},null,null,null,null,"Total Sequences in Block Data",{"$f":"COUNTA(L7:L36)","v":30},null,null,null,"Total Sequences in Block Data",{"$f":"COUNTA(L37:L66)","v":30},null,null,null,"Total Sequences in Block Data",{"$f":"COUNTA(L67:L97)","v":31},null,null,null,"Total Sequences in Block Data",{"$f":"COUNTA(L98:L127)","v":30},null,null,null,"Total Sequences in Block Data",{"$f":"COUNTA(L128:L157)","v":30},null,null,null,"Total Sequences in Block Data",{"$f":"COUNTA(L158:L187)","v":30}]
[null,null,null,null,null,null,null,null,null,null,null,null,null,null,null,"Total Sequences in Summary",{"$f":"SUM(O7:O14)","v":181},null,null,null,null,"Total Sequences in Block Summary",{"$f":"SUM(U7:U14)","v":30},null,null,null,"Total Sequences in Block Summary",{"$f":"SUM(Z7:Z14)","v":30},null,null,null,"Total Sequences in Block Summary",{"$f":"SUM(AE7:AE14)","v":31},null,null,null,"Total Sequences in Block Summary",{"$f":"SUM(AJ7:AJ14)","v":30},null,null,null,"Total Sequences in Block Summary",{"$f":"SUM(AO7:AO14)","v":30},null,null,null,"Total Sequences in Block Summary",{"$f":"SUM(AT7:AT14)","v":30}]
[null,null,null,null,null,null,null,null,null,null,null,null,null,null,null,null,null,null,null,"Block 1",null,null,null,null,"Block 2",null,null,null,null,"Block 3",null,null,null,null,"Block 4",null,null,null,null,"Block 5",null,null,null,null,"Block 6"]
["Sequence\nComponent\n1","Time\n1","Sequence\nComponent\n2","Time\n2","Sequence\nComponent\n3","Time\n3","Sequence\nComponent\n4","Time\n4","Sequence\nComponent\n5","Time\n5","Correct?\n0=No 1=Yes","Sequence",null,"Frequency",null,"Relative Frequency","Variability",null,null,"Frequency",null,"Relative Frequency","Variability",null,"Frequency",null,"Relative Frequency","Variability",null,"Frequency",null,"Relative Frequency","Variability",null,"Frequency",null,"Relative Frequency","Variability",null,"Frequency",null,"Relative Frequency","Variability",null,"Frequency",null,"Relative Frequency","Variability"]
[11,101,22,110,23,119,null,null,null,null,0,122,null,111,{"$f":"COUNTIF($L$7:$L$500,N7)","v":3},{"$f":"O7/$Q$4","v":1.6574585635359115E-2},{"$f":"IF(P7=0,0,(P7*((LOG(P7))/LOG(2))))","v":-9.8036741210420705E-2},null,null,{"$f":"N7","v":111},{"$f":"COUNTIF(L7:L36,T7)","v":3},{"$f":"U7/(W4-U8)","v":0.125},{"$f":"IF(V7=0,0,(V7*((LOG(V7))/LOG(2))))","v":-0.375},null,{"$f":"N7","v":111},{"$f":"COUNTIF(L37:L66,Y7)","v":0},{"$f":"Z7/(AB4-Z8)","v":0},{"$f":"IF(AA7=0,0,(AA7*((LOG(AA7))/LOG(2))))","v":0},null,{"$f":"N7","v":111},{"$f":"COUNTIF(L67:L97,AD7)","v":0},{"$f":"AE7/(AG4-AE8)","v":0},{"$f":"IF(AF7=0,0,(AF7*((LOG(AF7))/LOG(2))))","v":0},null,{"$f":"N7","v":111},{"$f":"COUNTIF(L98:L127,AI7)","v":0},{"$f":"AJ7/(AL4-AJ8)","v":0},{"$f":"IF(AK7=0,0,(AK7*((LOG(AK7))/LOG(2))))","v":0},null,{"$f":"N7","v":111},{"$f":"COUNTIF(L128:L157,AN7)","v":0},{"$f":"AO7/(AQ4-AO8)","v":0},{"$f":"IF(AP7=0,0,(AP7*((LOG(AP7))/LOG(2))))","v":0},null,{"$f":"N7","v":111},{"$f":"COUNTIF(L158:L187,AS7)","v":0},{"$f":"AT7/(AV4-AT8)","v":0},{"$f":"IF(AU7=0,0,(AU7*((LOG(AU7))/LOG(2))))","v":0}]
[11,241,11,268,12,273,null,null,null,null,0,111,null,112,36,0.19889502762430938,-0.4634096789120008,null,null,112,{"$f":"COUNTIF(L7:L36,T8)","v":6},null,null,null,112,{"$f":"COUNTIF(L37:L66,Y8)","v":7},null,null,null,112,{"$f":"COUNTIF(L67:L97,AD8)","v":4},null,null,null,112,{"$f":"COUNTIF(L98:L127,AI8)","v":4},null,null,null,112,{"$f":"COUNTIF(L128:L157,AN8)","v":6},null,null,null,112,{"$f":"COUNTIF(L158:L187,AS8)","v":9}]
[11,376,22,388,23,393,null,null,null,null,0,122,null,121,14,7.7348066298342538E-2,-0.28560703596883102,null,null,121,{"$f":"COUNTIF(L7:L36,T9)","v":1},{"$f":"U9/(W4-U8)","v":4.1666666666666664E-2},{"$f":"IF(V9=0,0,(V9*((LOG(V9))/LOG(2))))","v":-0.19104010419671485},null,121,{"$f":"COUNTIF(L37:L66,Y9)","v":1},{"$f":"Z9/(AB4-Z8)","v":4.3478260869565216E-2},{"$f":"IF(AA9=0,0,(AA9*((LOG(AA9))/LOG(2))))","v":-0.19667660678508753},null,121,{"$f":"COUNTIF(L67:L97,AD9)","v":2},{"$f":"AE9/(AG4-AE8)","v":7.407407407407407E-2},{"$f":"IF(AF9=0,0,(AF9*((LOG(AF9))/LOG(2))))","v":-0.27813981497507173},null,121,{"$f":"COUNTIF(L98:L127,AI9)","v":4},{"$f":"AJ9/(AL4-AJ8)","v":0.15384615384615385},{"$f":"IF(AK9=0,0,(AK9*((LOG(AK9))/LOG(2))))","v":-0.4154522643293988},null,121,{"$f":"COUNTIF(L128:L157,AN9)","v":1},{"$f":"AO9/(AQ4-AO8)","v":4.1666666666666664E-2},{"$f":"IF(AP9=0,0,(AP9*((LOG(AP9))/LOG(2))))","v":-0.19104010419671485},null,121,{"$f":"COUNTIF(L158:L187,AS9)","v":5},{"$f":"AT9/(AV4-AT8)","v":0.23809523809523808},{"$f":"IF(AU9=0,0,(AU9*((LOG(AU9))/LOG(2))))","v":-0.49294983997414238}]
[11,499,22,502,23,511,null,null,null,null,0,122,null,122,81,0.44751381215469616,-0.51911418022146427,null,null,122,{"$f":"COUNTIF(L7:L36,T10)","v":17},{"$f":"U10/(W4-U8)","v":0.70833333333333337},-0.35239559212516181,null,122,{"$f":"COUNTIF(L37:L66,Y10)","v":14},{"$f":"Z10/(AB4-Z8)","v":0.60869565217391308},-0.43595210765181397,null,122,{"$f":"COUNTIF(L67:L97,AD10)","v":15},{"$f":"AE10/(AG4-AE8)","v":0.55555555555555558},-0.4711093925305278,null,122,{"$f":"COUNTIF(L98:L127,AI10)","v":17},{"$f":"AJ10/(AL4-AJ8)","v":0.65384615384615385},-0.40079257335164603,null,122,{"$f":"COUNTIF(L128:L157,AN10)","v":7},{"$f":"AO10/(AQ4-AO8)","v":0.29166666666666669},-0.51846887711020273,null,122,{"$f":"COUNTIF(L158:L187,AS10)","v":11},{"$f":"AT10/(AV4-AT8)","v":0.52380952380952384},-0.4886544688360045]
[11,617,11,621,12,627,null,null,null,null,0,111,null,211,1,5.5248618784530384E-3,-4.1435612635818811E-2,null,null,211,{"$f":"COUNTIF(L7:L36,T11)","v":0},{"$f":"U11/(W4-U8)","v":0},0,null,211,{"$f":"COUNTIF(L37:L66,Y11)","v":0},{"$f":"Z11/(AB4-Z8)","v":0},0,null,211,{"$f":"COUNTIF(L67:L97,AD11)","v":1},{"$f":"AE11/(AG4-AE8)","v":3.7037037037037035E-2},-0.1761069445245729,null,211,{"$f":"COUNTIF(L98:L127,AI11)","v":0},{"$f":"AJ11/(AL4-AJ8)","v":0},0,null,211,{"$f":"COUNTIF(L128:L157,AN11)","v":0},{"$f":"AO11/(AQ4-AO8)","v":0},0,null,211,{"$f":"COUNTIF(L158:L187,AS11)","v":0},{"$f":"AT11/(AV4-AT8)","v":0},0]
[11,728,11,732,21,744,null,null,null,null,0,112,null,212,19,0.10497237569060773,-0.34136159723288828,null,null,212,{"$f":"COUNTIF(L7:L36,T12)","v":1},{"$f":"U12/(W4-U8)","v":4.1666666666666664E-2},-0.19104010419671485,null,212,{"$f":"COUNTIF(L37:L66,Y12)","v":3},{"$f":"Z12/(AB4-Z8)","v":0.13043478260869565},-0.3832955811307639,null,212,{"$f":"COUNTIF(L67:L97,AD12)","v":6},{"$f":"AE12/(AG4-AE8)","v":0.22222222222222221},-0.48220555587606945,null,212,{"$f":"COUNTIF(L98:L127,AI12)","v":0},{"$f":"AJ12/(AL4-AJ8)","v":0},0,null,212,{"$f":"COUNTIF(L128:L157,AN12)","v":6},{"$f":"AO12/(AQ4-AO8)","v":0.25},-0.5,null,212,{"$f":"COUNTIF(L158:L187,AS12)","v":3},{"$f":"AT12/(AV4-AT8)","v":0.14285714285714285},-0.40105070315108626]
[11,870,22,891,23,904,null,null,null,null,0,122,null,221,3,1.6574585635359115E-2,-9.8036741210420705E-2,null,null,221,{"$f":"COUNTIF(L7:L36,T13)","v":0},{"$f":"U13/(W4-U8)","v":0},0,null,221,{"$f":"COUNTIF(L37:L66,Y13)","v":0},{"$f":"Z13/(AB4-Z8)","v":0},0,null,221,{"$f":"COUNTIF(L67:L97,AD13)","v":2},{"$f":"AE13/(AG4-AE8)","v":7.407407407407407E-2},-0.27813981497507173,null,221,{"$f":"COUNTIF(L98:L127,AI13)","v":0},{"$f":"AJ13/(AL4-AJ8)","v":0},0,null,221,{"$f":"COUNTIF(L128:L157,AN13)","v":0},{"$f":"AO13/(AQ4-AO8)","v":0},0,null,221,{"$f":"COUNTIF(L158:L187,AS13)","v":1},{"$f":"AT13/(AV4-AT8)","v":4.7619047619047616E-2},-0.20915797251327431]
[11,1036,11,1040,12,1044,null,null,null,null,0,111,null,222,24,0.13259668508287292,-0.38650387443474682,null,null,222,{"$f":"COUNTIF(L7:L36,T14)","v":2},{"$f":"U14/(W4-U8)","v":8.3333333333333329E-2},-0.29874687506009634,null,222,{"$f":"COUNTIF(L37:L66,Y14)","v":5},{"$f":"Z14/(AB4-Z8)","v":0.21739130434782608},-0.47861605677601093,null,222,{"$f":"COUNTIF(L67:L97,AD14)","v":1},{"$f":"AE14/(AG4-AE8)","v":3.7037037037037035E-2},-0.1761069445245729,null,222,{"$f":"COUNTIF(L98:L127,AI14)","v":5},{"$f":"AJ14/(AL4-AJ8)","v":0.19230769230769232},-0.45740608139494804,null,222,{"$f":"COUNTIF(L128:L157,AN14)","v":10},{"$f":"AO14/(AQ4-AO8)","v":0.41666666666666669},-0.52626433576408083,null,222,{"$f":"COUNTIF(L158:L187,AS14)","v":1},{"$f":"AT14/(AV4-AT8)","v":4.7619047619047616E-2},-0.20915797251327431]
[11,1150,22,1169,23,1176,null,null,null,null,0,122,null,null,null,{"$f":"SUM(P7:P14)","v":1},{"$f":"-SUM(Q7:Q14)","v":2.2335054618265913},null,null,null,null,{"$f":"SUM(V7:V14)","v":1},{"$f":"-SUM(W7:W14)","v":1.408222675578688},null,null,null,{"$f":"SUM(AA7:AA14)","v":1},{"$f":"-SUM(AB7:AB14)","v":1.4945403523436764},null,null,null,{"$f":"SUM(AF7:AF14)","v":1},{"$f":"-SUM(AG7:AG14)","v":1.8618084674058866},null,null,null,{"$f":"SUM(AK7:AK14)","v":1},{"$f":"-SUM(AL7:AL14)","v":1.2736509190759928},null,null,null,{"$f":"SUM(AP7:AP14)","v":1},{"$f":"-SUM(AQ7:AQ14)","v":1.7357733170709984},null,null,null,{"$f":"SUM(AU7:AU14)","v":1},{"$f":"-SUM(AV7:AV14)","v":1.8009709569877819}]
[11,1278,11,1293,21,1304,null,null,null,null,0,112,null,null,null,"U=",{"$f":"Q15/(LOG(Q4)/LOG(2))","v":0.29780684769447074},null,null,null,null,"U1=",{"$f":"W15/(LOG(W4)/LOG(2))","v":0.2869888064834773},null,null,null,"U2=",{"$f":"AB15/(LOG(AB4)/LOG(2))","v":0.30457992148454122},null,null,null,"U3=",{"$f":"AG15/(LOG(AG4)/LOG(2))","v":0.37580433853669742},null,null,null,"U4=",{"$f":"AL15/(LOG(AL4)/LOG(2))","v":0.25956374902995843},null,null,null,"U5=",{"$f":"AQ15/(LOG(AQ4)/LOG(2))","v":0.35374200489092822},null,null,null,"U6=",{"$f":"AV15/(LOG(AV4)/LOG(2))","v":0.36702896098795901}]
[11,1399,11,1412,21,1419,null,null,null,null,0,112]
[11,1514,11,1528,21,1534,null,null,null,null,0,112]
[11,1663,22,1702,23,1711,null,null,null,null,0,122,null,"Total Target Seq"]
[11,1812,22,1820,23,1827,null,null,null,null,0,122,null,{"$f":"COUNTIF(L7:L187,G3)","v":36},null,30,30,31,30,30,30]
[11,1959,22,1960,23,1966,null,null,null,null,0,122,null,null,null,"% of reinforcement given in 6 equal intervals based on number of trials "]
[22,2072,13,2077,23,2081,null,null,null,null,0,212,null,null,null,"%_1","%_2","%_3","%_4","%_5","%_6"]
[11,2183,22,2202,14,2204,null,null,null,null,0,121,null,null,"target sequence",{"$f":"$G$3","v":112},112,112,112,112,112]
[11,2302,11,2312,21,2329,null,null,null,null,0,112,null,null,"total reinforcement",{"$f":"U8","v":6},{"$f":"Z8","v":7},{"$f":"AE8","v":4},{"$f":"AJ8","v":4},{"$f":"AO8","v":6},{"$f":"AT8","v":9}]
[11,2460,22,2466,23,2469,null,null,null,null,0,122,null,null,"% target"]
[11,2562,22,2575,23,2581,null,null,null,null,0,122,null,null,"CCRF"]
[11,2679,22,2692,23,2698,null,null,null,null,0,122,null,null,"% CCRf"]
[11,2802,22,2809,23,2816,null,null,null,null,0,122,null,null,"average response rate",{"$f":"F36/P20","v":126.1},{"$f":"(F66-F36)/Q20","v":119.6},{"$f":"(F97-F66)/R20","v":124.7741935483871},{"$f":"(F127-F97)/S20","v":118.23333333333333},{"$f":"(F157-F127)/T20","v":124.76666666666667},{"$f":"(F187-F157)/U20","v":134.46666666666667}]
[11,2908,22,2919,23,2924,null,null,null,null,0,122]
[11,3025,22,3035,23,3039,null,null,null,null,0,122]
[22,3151,24,3155,23,3165,null,null,null,null,0,222]
[11,3260,11,3266,21,3271,null,null,null,null,0,112]
[22,3400,24,3411,23,3427,null,null,null,null,0,222]
[11,3522,22,3534,23,3542,null,null,null,null,0,122]
[11,3641,22,3660,23,3667,null,null,null,null,0,122]
[11,3772,22,3777,23,3783,null,null,null,null,0,122]
[11,3875,11,3883,21,3890,null,null,null,null,0,112]
[11,3982,22,4001,23,4014,null,null,null,null,0,122]
[11,4112,22,4126,23,4131,null,null,null,null,0,122]
[11,4233,22,4244,23,4251,null,null,null,null,0,122]
[11,4346,22,4356,23,4363,null,null,null,null,0,122]
[11,4477,22,4481,23,4490,null,null,null,null,0,122]
[11,4582,11,4589,21,4599,null,null,null,null,0,112]
[11,4751,22,4762,14,4772,null,null,null,null,0,121]
[11,4895,22,4902,23,4910,null,null,null,null,0,122]
[11,5007,22,5015,23,5020,null,null,null,null,0,122]
[11,5126,22,5138,23,5145,null,null,null,null,0,122]
[11,5237,11,5239,21,5249,null,null,null,null,0,112]
[11,5369,22,5381,23,5387,null,null,null,null,0,122]
[11,5486,22,5498,23,5504,null,null,null,null,0,122]
[11,5597,11,5610,21,5617,null,null,null,null,0,112]
[22,5719,13,5725,23,5733,null,null,null,null,0,212]
[22,5839,24,5847,23,5854,null,null,null,null,0,222]
[11,5954,22,5963,23,5969,null,null,null,null,0,122]
[22,6077,24,6083,23,6090,null,null,null,null,0,222]
[22,6194,13,6198,23,6200,null,null,null,null,0,212]
[22,6297,24,6302,23,6309,null,null,null,null,0,222]
[11,6405,22,6423,23,6429,null,null,null,null,0,122]
[11,6524,11,6529,21,6532,null,null,null,null,0,112]
[22,6641,13,6650,23,6657,null,null,null,null,0,212]
[22,6757,24,6762,23,6768,null,null,null,null,0,222]
[11,6862,11,6868,21,6874,null,null,null,null,0,112]
[11,6978,22,6990,23,7000,null,null,null,null,0,122]
[11,7097,22,7099,23,7110,null,null,null,null,0,122]
[11,7202,11,7213,21,7221,null,null,null,null,0,112]
[22,7351,24,7359,23,7371,null,null,null,null,0,222]
[11,7464,22,7479,14,7485,null,null,null,null,0,121]
[11,7577,11,7588,21,7593,null,null,null,null,0,112]
[11,7690,22,7710,23,7723,null,null,null,null,0,122]
[11,7820,11,7832,21,7836,null,null,null,null,0,112]
[11,7960,22,7975,23,7981,null,null,null,null,0,122]
[11,8083,22,8089,23,8097,null,null,null,null,0,122]
[22,8194,24,8196,14,8201,null,null,null,null,0,221]
[22,8311,13,8316,23,8321,null,null,null,null,0,212]
[22,8420,13,8424,23,8427,null,null,null,null,0,212]
[11,8525,22,8535,23,8542,null,null,null,null,0,122]
[11,8670,11,8675,21,8697,null,null,null,null,0,112]
[22,8837,13,8846,14,8861,null,null,null,null,0,211]
[11,8967,22,8979,14,8991,null,null,null,null,0,121]
[11,9151,22,9168,23,9175,null,null,null,null,0,122]
[22,9289,13,9298,23,9305,null,null,null,null,0,212]
[11,9400,22,9411,23,9422,null,null,null,null,0,122]
[22,9534,13,9536,23,9543,null,null,null,null,0,212]
[22,9646,24,9651,23,9659,null,null,null,null,0,222]
[22,9781,13,9786,23,9792,null,null,null,null,0,212]
[11,9898,22,9900,23,9907,null,null,null,null,0,122]
[11,10000,22,10005,23,10010,null,null,null,null,0,122]
[11,10109,22,10115,23,10122,null,null,null,null,0,122]
[11,10223,22,10235,23,10241,null,null,null,null,0,122]
[11,10342,22,10345,23,10351,null,null,null,null,0,122]
[11,10453,11,10469,21,10471,null,null,null,null,0,112]
[11,10608,22,10621,23,10630,null,null,null,null,0,122]
[11,10757,22,10763,23,10771,null,null,null,null,0,122]
[11,10884,22,10886,23,10898,null,null,null,null,0,122]
[11,10997,22,11007,23,11015,null,null,null,null,0,122]
[22,11121,24,11126,14,11130,null,null,null,null,0,221]
[22,11232,13,11236,23,11239,null,null,null,null,0,212]
[11,11337,11,11341,21,11346,null,null,null,null,0,112]
[22,11470,24,11476,23,11519,null,null,null,null,0,222]
[11,11610,11,11615,21,11621,null,null,null,null,0,112]
[22,11771,24,11777,23,11784,null,null,null,null,0,222]
[11,11888,22,11894,23,11901,null,null,null,null,0,122]
[11,12004,22,12011,23,12025,null,null,null,null,0,122]
[11,12124,22,12139,23,12145,null,null,null,null,0,122]
[11,12240,22,12244,23,12251,null,null,null,null,0,122]
[11,12353,22,12364,23,12370,null,null,null,null,0,122]
[11,12465,22,12476,23,12483,null,null,null,null,0,122]
[11,12579,22,12584,23,12591,null,null,null,null,0,122]
[11,12684,22,12693,14,12696,null,null,null,null,0,121]
[11,12791,11,12798,21,12808,null,null,null,null,0,112]
[11,12902,22,12915,23,12926,null,null,null,null,0,122]
[11,13026,22,13029,23,13038,null,null,null,null,0,122]
[11,13137,22,13145,23,13152,null,null,null,null,0,122]
[11,13245,22,13249,23,13255,null,null,null,null,0,122]
[11,13388,22,13401,14,13405,null,null,null,null,0,121]
[22,13502,24,13511,23,13517,null,null,null,null,0,222]
[11,13613,22,13622,14,13627,null,null,null,null,0,121]
[11,13730,11,13737,21,13746,null,null,null,null,0,112]
[22,13864,24,13879,23,13889,null,null,null,null,0,222]
[11,13985,22,13997,23,14008,null,null,null,null,0,122]
[11,14107,22,14117,23,14118,null,null,null,null,0,122]
[11,14219,22,14226,23,14231,null,null,null,null,0,122]
[11,14328,22,14334,23,14340,null,null,null,null,0,122]
[22,14447,24,14453,23,14459,null,null,null,null,0,222]
[11,14561,22,14563,23,14570,null,null,null,null,0,122]
[11,14665,22,14677,23,14685,null,null,null,null,0,122]
[11,14779,22,14784,14,14786,null,null,null,null,0,121]
[11,14879,11,14895,21,14904,null,null,null,null,0,112]
[11,15001,11,15014,21,15028,null,null,null,null,0,112]
[11,15172,22,15188,23,15194,null,null,null,null,0,122]
[11,15287,11,15297,21,15314,null,null,null,null,0,112]
[22,15461,24,15467,23,15479,null,null,null,null,0,222]
[22,15579,24,15584,23,15591,null,null,null,null,0,222]
[11,15692,22,15704,23,15711,null,null,null,null,0,122]
[11,15803,11,15811,21,15818,null,null,null,null,0,112]
[22,15975,24,15983,23,15995,null,null,null,null,0,222]
[11,16090,11,16103,21,16118,null,null,null,null,0,112]
[22,16210,13,16213,23,16224,null,null,null,null,0,212]
[22,16334,24,16341,23,16349,null,null,null,null,0,222]
[11,16442,22,16449,23,16455,null,null,null,null,0,122]
[11,16556,22,16560,14,16564,null,null,null,null,0,121]
[22,16658,24,16663,23,16669,null,null,null,null,0,222]
[11,16762,22,16772,23,16777,null,null,null,null,0,122]
[11,16878,22,16886,23,16898,null,null,null,null,0,122]
[22,17003,13,17006,23,17013,null,null,null,null,0,212]
[22,17110,24,17119,23,17126,null,null,null,null,0,222]
[22,17229,13,17235,23,17241,null,null,null,null,0,212]
[11,17341,22,17354,23,17360,null,null,null,null,0,122]
[11,17451,11,17456,21,17473,null,null,null,null,0,112]
[22,17637,13,17643,23,17652,null,null,null,null,0,212]
[11,17750,22,17760,23,17766,null,null,null,null,0,122]
[22,17879,24,17886,23,17892,null,null,null,null,0,222]
[22,17994,13,17997,23,18010,null,null,null,null,0,212]
[22,18144,13,18149,23,18153,null,null,null,null,0,212]
[22,18274,24,18280,23,18286,null,null,null,null,0,222]
[22,18385,24,18389,23,18396,null,null,null,null,0,222]
[22,18508,24,18519,23,18529,null,null,null,null,0,222]
[11,18654,22,18663,23,18669,null,null,null,null,0,122]
[11,18770,11,18776,21,18781,null,null,null,null,0,112]
[11,18874,22,18888,14,18890,null,null,null,null,0,121]
[22,19002,24,19008,14,19013,null,null,null,null,0,221]
[11,19111,11,19116,21,19125,null,null,null,null,0,112]
[11,19222,11,19234,21,19240,null,null,null,null,0,112]
[11,19387,11,19400,21,19404,null,null,null,null,0,112]
[11,19602,22,19614,23,19620,null,null,null,null,0,122]
[11,19765,22,19769,23,19780,null,null,null,null,0,122]
[11,20068,22,20076,23,20081,null,null,null,null,0,122]
[22,20252,24,20254,23,20260,null,null,null,null,0,222]
[22,20370,13,20376,23,20378,null,null,null,null,0,212]
[22,20487,13,20492,23,20500,null,null,null,null,0,212]
[11,20598,22,20609,23,20615,null,null,null,null,0,122]
[11,20719,22,20727,23,20733,null,null,null,null,0,122]
[11,20828,22,20848,23,20853,null,null,null,null,0,122]
[11,20963,11,20972,21,20985,null,null,null,null,0,112]
[11,21108,22,21119,23,21124,null,null,null,null,0,122]
[11,21244,22,21250,23,21255,null,null,null,null,0,122]
[11,21360,22,21369,14,21376,null,null,null,null,0,121]
[22,21478,13,21480,23,21493,null,null,null,null,0,212]
[11,21598,22,21617,23,21623,null,null,null,null,0,122]
[11,21723,11,21729,21,21742,null,null,null,null,0,112]
[11,21837,22,21849,14,21852,null,null,null,null,0,121]
[11,21955,11,21959,21,21973,null,null,null,null,0,112]
[11,22075,22,22096,23,22102,null,null,null,null,0,122]
[11,22201,22,22211,14,22216,null,null,null,null,0,121]
[11,22311,11,22314,21,22324,null,null,null,null,0,112]
[11,22432,22,22444,14,22449,null,null,null,null,0,121]
[11,22543,11,22550,21,22563,null,null,null,null,1,112]

{"sheet":"!N112920.Gus","index":18,"n_rows":170,"n_cols":48,"rows_kept":170,"cut":false,"hidden":false,"merged":[[1,1,1,2],[5,13,5,14],[18,13,18,14],[19,13,19,14],[4,19,4,22],[5,19,5,20],[4,39,4,42],[5,39,5,40],[4,44,4,47],[5,44,5,45],[4,24,4,27],[5,24,5,25],[4,29,4,32],[5,29,5,30],[4,34,4,37],[5,34,5,35]]}
["Report for:!N112920.Gus"]
["Date:","<date>"]
["Hen:","<hen>",null,null,null,"Correct Sequence",{"$f":"Start!J2","v":112},null,null,null,null,null,null,null,null,"Total Sequences in Data",{"$f":"4994-COUNTBLANK(L7:L5000)","v":164},null,null,null,null,"Total Sequences in Block Data",{"$f":"COUNTA(L7:L33)","v":27},null,null,null,"Total Sequences in Block Data",{"$f":"COUNTA(L34:L61)","v":28},null,null,null,"Total Sequences in Block Data",{"$f":"COUNTA(L62:L88)","v":27},null,null,null,"Total Sequences in Block Data",{"$f":"COUNTA(L89:L115)","v":27},null,null,null,"Total Sequences in Block Data",{"$f":"COUNTA(L116:L143)","v":28},null,null,null,"Total Sequences in Block Data",{"$f":"COUNTA(L144:L170)","v":27}]
[null,null,null,null,null,null,null,null,null,null,null,null,null,null,null,"Total Sequences in Summary",{"$f":"SUM(O7:O14)","v":164},null,null,null,null,"Total Sequences in Block Summary",{"$f":"SUM(U7:U14)","v":27},null,null,null,"Total Sequences in Block Summary",{"$f":"SUM(Z7:Z14)","v":28},null,null,null,"Total Sequences in Block Summary",{"$f":"SUM(AE7:AE14)","v":27},null,null,null,"Total Sequences in Block Summary",{"$f":"SUM(AJ7:AJ14)","v":27},null,null,null,"Total Sequences in Block Summary",{"$f":"SUM(AO7:AO14)","v":28},null,null,null,"Total Sequences in Block Summary",{"$f":"SUM(AT7:AT14)","v":27}]
[null,null,null,null,null,null,null,null,null,null,null,null,null,null,null,null,null,null,null,"Block 1",null,null,null,null,"Block 2",null,null,null,null,"Block 3",null,null,null,null,"Block 4",null,null,null,null,"Block 5",null,null,null,null,"Block 6"]
["Sequence\nComponent\n1","Time\n1","Sequence\nComponent\n2","Time\n2","Sequence\nComponent\n3","Time\n3","Sequence\nComponent\n4","Time\n4","Sequence\nComponent\n5","Time\n5","Correct?\n0=No 1=Yes","Sequence",null,"Frequency",null,"Relative Frequency","Variability",null,null,"Frequency",null,"Relative Frequency","Variability",null,"Frequency",null,"Relative Frequency","Variability",null,"Frequency",null,"Relative Frequency","Variability",null,"Frequency",null,"Relative Frequency","Variability",null,"Frequency",null,"Relative Frequency","Variability",null,"Frequency",null,"Relative Frequency","Variability"]
[11,6,11,10,12,14,null,null,null,null,0,111,null,111,{"$f":"COUNTIF($L$7:$L$500,N7)","v":7},{"$f":"O7/$Q$4","v":4.2682926829268296E-2},{"$f":"IF(P7=0,0,(P7*((LOG(P7))/LOG(2))))","v":-0.19421572913367902},null,null,{"$f":"N7","v":111},{"$f":"COUNTIF(L7:L33,T7)","v":3},{"$f":"U7/(W4-U8)","v":0.13043478260869565},{"$f":"IF(V7=0,0,(V7*((LOG(V7))/LOG(2))))","v":-0.3832955811307639},null,{"$f":"N7","v":111},{"$f":"COUNTIF(L34:L61,Y7)","v":0},{"$f":"Z7/(AB4-Z8)","v":0},{"$f":"IF(AA7=0,0,(AA7*((LOG(AA7))/LOG(2))))","v":0},null,{"$f":"N7","v":111},{"$f":"COUNTIF(L62:L88,AD7)","v":1},{"$f":"AE7/(AG4-AE8)","v":4.5454545454545456E-2},{"$f":"IF(AF7=0,0,(AF7*((LOG(AF7))/LOG(2))))","v":-0.20270143721078623},null,{"$f":"N7","v":111},{"$f":"COUNTIF(L89:L115,AI7)","v":0},{"$f":"AJ7/(AL4-AJ8)","v":0},{"$f":"IF(AK7=0,0,(AK7*((LOG(AK7))/LOG(2))))","v":0},null,{"$f":"N7","v":111},{"$f":"COUNTIF(L116:L143,AN7)","v":2},{"$f":"AO7/(AQ4-AO8)","v":8.6956521739130432E-2},{"$f":"IF(AP7=0,0,(AP7*((LOG(AP7))/LOG(2))))","v":-0.30639669183104457},null,{"$f":"N7","v":111},{"$f":"COUNTIF(L144:L170,AS7)","v":1},{"$f":"AT7/(AV4-AT8)","v":6.6666666666666666E-2},{"$f":"IF(AU7=0,0,(AU7*((LOG(AU7))/LOG(2))))","v":-0.26045937304056793}]
[11,117,22,139,23,150,null,null,null,null,0,122,null,112,36,0.21951219512195122,-0.48021080557516926,null,null,112,{"$f":"COUNTIF(L7:L33,T8)","v":4},null,null,null,112,{"$f":"COUNTIF(L34:L61,Y8)","v":6},null,null,null,112,{"$f":"COUNTIF(L62:L88,AD8)","v":5},null,null,null,112,{"$f":"COUNTIF(L89:L115,AI8)","v":4},null,null,null,112,{"$f":"COUNTIF(L116:L143,AN8)","v":5},null,null,null,112,{"$f":"COUNTIF(L144:L170,AS8)","v":12}]
[11,243,22,256,23,262,null,null,null,null,0,122,null,121,10,6.097560975609756E-2,-0.24607462864211713,null,null,121,{"$f":"COUNTIF(L7:L33,T9)","v":1},{"$f":"U9/(W4-U8)","v":4.3478260869565216E-2},{"$f":"IF(V9=0,0,(V9*((LOG(V9))/LOG(2))))","v":-0.19667660678508753},null,121,{"$f":"COUNTIF(L34:L61,Y9)","v":3},{"$f":"Z9/(AB4-Z8)","v":0.13636363636363635},{"$f":"IF(AA9=0,0,(AA9*((LOG(AA9))/LOG(2))))","v":-0.39197306153401923},null,121,{"$f":"COUNTIF(L62:L88,AD9)","v":0},{"$f":"AE9/(AG4-AE8)","v":0},{"$f":"IF(AF9=0,0,(AF9*((LOG(AF9))/LOG(2))))","v":0},null,121,{"$f":"COUNTIF(L89:L115,AI9)","v":1},{"$f":"AJ9/(AL4-AJ8)","v":4.3478260869565216E-2},{"$f":"IF(AK9=0,0,(AK9*((LOG(AK9))/LOG(2))))","v":-0.19667660678508753},null,121,{"$f":"COUNTIF(L116:L143,AN9)","v":3},{"$f":"AO9/(AQ4-AO8)","v":0.13043478260869565},{"$f":"IF(AP9=0,0,(AP9*((LOG(AP9))/LOG(2))))","v":-0.3832955811307639},null,121,{"$f":"COUNTIF(L144:L170,AS9)","v":2},{"$f":"AT9/(AV4-AT8)","v":0.13333333333333333},{"$f":"IF(AU9=0,0,(AU9*((LOG(AU9))/LOG(2))))","v":-0.3875854127478025}]
[11,355,11,359,12,369,null,null,null,null,0,111,null,122,75,0.45731707317073172,-0.5161890156046659,null,null,122,{"$f":"COUNTIF(L7:L33,T10)","v":14},{"$f":"U10/(W4-U8)","v":0.60869565217391308},-0.43595210765181397,null,122,{"$f":"COUNTIF(L34:L61,Y10)","v":12},{"$f":"Z10/(AB4-Z8)","v":0.54545454545454541},-0.47698315522698609,null,122,{"$f":"COUNTIF(L62:L88,AD10)","v":16},{"$f":"AE10/(AG4-AE8)","v":0.72727272727272729},-0.33413208628167068,null,122,{"$f":"COUNTIF(L89:L115,AI10)","v":11},{"$f":"AJ10/(AL4-AJ8)","v":0.47826086956521741},-0.5089319005050813,null,122,{"$f":"COUNTIF(L116:L143,AN10)","v":13},{"$f":"AO10/(AQ4-AO8)","v":0.56521739130434778},-0.46524300403943353,null,122,{"$f":"COUNTIF(L144:L170,AS10)","v":9},{"$f":"AT10/(AV4-AT8)","v":0.6},-0.44217935649972373]
[11,474,22,488,23,496,null,null,null,null,0,122,null,211,0,0,0,null,null,211,{"$f":"COUNTIF(L7:L33,T11)","v":0},{"$f":"U11/(W4-U8)","v":0},0,null,211,{"$f":"COUNTIF(L34:L61,Y11)","v":0},{"$f":"Z11/(AB4-Z8)","v":0},0,null,211,{"$f":"COUNTIF(L62:L88,AD11)","v":0},{"$f":"AE11/(AG4-AE8)","v":0},0,null,211,{"$f":"COUNTIF(L89:L115,AI11)","v":0},{"$f":"AJ11/(AL4-AJ8)","v":0},0,null,211,{"$f":"COUNTIF(L116:L143,AN11)","v":0},{"$f":"AO11/(AQ4-AO8)","v":0},0,null,211,{"$f":"COUNTIF(L144:L170,AS11)","v":0},{"$f":"AT11/(AV4-AT8)","v":0},0]
[11,590,22,604,23,608,null,null,null,null,0,122,null,212,17,0.10365853658536585,-0.33897265717836372,null,null,212,{"$f":"COUNTIF(L7:L33,T12)","v":1},{"$f":"U12/(W4-U8)","v":4.3478260869565216E-2},-0.19667660678508753,null,212,{"$f":"COUNTIF(L34:L61,Y12)","v":4},{"$f":"Z12/(AB4-Z8)","v":0.18181818181818182},-0.44716938520678134,null,212,{"$f":"COUNTIF(L62:L88,AD12)","v":1},{"$f":"AE12/(AG4-AE8)","v":4.5454545454545456E-2},-0.20270143721078623,null,212,{"$f":"COUNTIF(L89:L115,AI12)","v":5},{"$f":"AJ12/(AL4-AJ8)","v":0.21739130434782608},-0.47861605677601093,null,212,{"$f":"COUNTIF(L116:L143,AN12)","v":4},{"$f":"AO12/(AQ4-AO8)","v":0.17391304347826086},-0.43888034018382832,null,212,{"$f":"COUNTIF(L144:L170,AS12)","v":2},{"$f":"AT12/(AV4-AT8)","v":0.13333333333333333},-0.3875854127478025]
[11,702,22,735,23,742,null,null,null,null,0,122,null,221,2,1.2195121951219513E-2,-7.7531122007537603E-2,null,null,221,{"$f":"COUNTIF(L7:L33,T13)","v":0},{"$f":"U13/(W4-U8)","v":0},0,null,221,{"$f":"COUNTIF(L34:L61,Y13)","v":0},{"$f":"Z13/(AB4-Z8)","v":0},0,null,221,{"$f":"COUNTIF(L62:L88,AD13)","v":2},{"$f":"AE13/(AG4-AE8)","v":9.0909090909090912E-2},-0.31449378351248153,null,221,{"$f":"COUNTIF(L89:L115,AI13)","v":0},{"$f":"AJ13/(AL4-AJ8)","v":0},0,null,221,{"$f":"COUNTIF(L116:L143,AN13)","v":0},{"$f":"AO13/(AQ4-AO8)","v":0},0,null,221,{"$f":"COUNTIF(L144:L170,AS13)","v":0},{"$f":"AT13/(AV4-AT8)","v":0},0]
[11,836,11,840,12,852,null,null,null,null,0,111,null,222,17,0.10365853658536585,-0.33897265717836372,null,null,222,{"$f":"COUNTIF(L7:L33,T14)","v":4},{"$f":"U14/(W4-U8)","v":0.17391304347826086},-0.43888034018382832,null,222,{"$f":"COUNTIF(L34:L61,Y14)","v":3},{"$f":"Z14/(AB4-Z8)","v":0.13636363636363635},-0.39197306153401923,null,222,{"$f":"COUNTIF(L62:L88,AD14)","v":2},{"$f":"AE14/(AG4-AE8)","v":9.0909090909090912E-2},-0.31449378351248153,null,222,{"$f":"COUNTIF(L89:L115,AI14)","v":6},{"$f":"AJ14/(AL4-AJ8)","v":0.2608695652173913},-0.50572159704413644,null,222,{"$f":"COUNTIF(L116:L143,AN14)","v":1},{"$f":"AO14/(AQ4-AO8)","v":4.3478260869565216E-2},-0.19667660678508753,null,222,{"$f":"COUNTIF(L144:L170,AS14)","v":1},{"$f":"AT14/(AV4-AT8)","v":6.6666666666666666E-2},-0.26045937304056793]
[11,948,11,956,21,961,null,null,null,null,0,112,null,null,null,{"$f":"SUM(P7:P14)","v":1},{"$f":"-SUM(Q7:Q14)","v":2.1921666153198962},null,null,null,null,{"$f":"SUM(V7:V14)","v":1},{"$f":"-SUM(W7:W14)","v":1.6514812425365815},null,null,null,{"$f":"SUM(AA7:AA14)","v":0.99999999999999989},{"$f":"-SUM(AB7:AB14)","v":1.7080986635018061},null,null,null,{"$f":"SUM(AF7:AF14)","v":1},{"$f":"-SUM(AG7:AG14)","v":1.3685225277282063},null,null,null,{"$f":"SUM(AK7:AK14)","v":1},{"$f":"-SUM(AL7:AL14)","v":1.6899461611103161},null,null,null,{"$f":"SUM(AP7:AP14)","v":0.99999999999999989},{"$f":"-SUM(AQ7:AQ14)","v":1.7904922239701579},null,null,null,{"$f":"SUM(AU7:AU14)","v":1},{"$f":"-SUM(AV7:AV14)","v":1.7382689280764647}]
[11,1080,22,1093,23,1105,null,null,null,null,0,122,null,null,null,"U=",{"$f":"Q15/(LOG(Q4)/LOG(2))","v":0.29794782475801029},null,null,null,null,"U1=",{"$f":"W15/(LOG(W4)/LOG(2))","v":0.34732288446049658},null,null,null,"U2=",{"$f":"AB15/(LOG(AB4)/LOG(2))","v":0.35530945628011174},null,null,null,"U3=",{"$f":"AG15/(LOG(AG4)/LOG(2))","v":0.28781386039218176},null,null,null,"U4=",{"$f":"AL15/(LOG(AL4)/LOG(2))","v":0.35541243832612079},null,null,null,"U5=",{"$f":"AQ15/(LOG(AQ4)/LOG(2))","v":0.37244851961207109},null,null,null,"U6=",{"$f":"AV15/(LOG(AV4)/LOG(2))","v":0.3655751954774018}]
[22,1209,24,1220,23,1233,null,null,null,null,0,222]
[11,1342,11,1345,21,1377,null,null,null,null,0,112]
[11,1478,11,1482,21,1513,null,null,null,null,0,112,null,"Total Target Seq"]
[22,1698,24,1707,23,1732,null,null,null,null,0,222,null,{"$f":"COUNTIF(L7:L170,G3)","v":36},null,27,28,27,27,28,27]
[11,1832,11,1838,21,1855,null,null,null,null,0,112,null,null,null,"% of reinforcement given in 6 equal intervals based on number of trials "]
[11,1970,22,1998,23,2005,null,null,null,null,0,122,null,null,null,"%_1","%_2","%_3","%_4","%_5","%_6"]
[11,2103,22,2124,23,2131,null,null,null,null,0,122,null,null,"target sequence",{"$f":"$G$3","v":112},112,112,112,112,112]
[11,2227,22,2233,23,2240,null,null,null,null,0,122,null,null,"total reinforcement",{"$f":"U8","v":4},{"$f":"Z8","v":6},{"$f":"AE8","v":5},{"$f":"AJ8","v":4},{"$f":"AO8","v":5},{"$f":"AT8","v":12}]
[11,2340,22,2343,23,2349,null,null,null,null,0,122,null,null,"% target"]
[11,2447,22,2462,23,2469,null,null,null,null,0,122,null,null,"CCRF"]
[22,2568,13,2571,23,2578,null,null,null,null,0,212,null,null,"% CCRf"]
[11,2680,22,2692,14,2698,null,null,null,null,0,121,null,null,"average response rate",{"$f":"F33/P20","v":121.55555555555556},{"$f":"(F61-F33)/Q20","v":122.71428571428571},{"$f":"(F88-F61)/R20","v":128.22222222222223},{"$f":"(F115-F88)/S20","v":123.81481481481481},{"$f":"(F143-F115)/T20","v":126.82142857142857},{"$f":"(F170-F143)/U20","v":154.85185185185185}]
[11,2800,22,2807,23,2813,null,null,null,null,0,122]
[22,2918,24,2929,23,2939,null,null,null,null,0,222]
[11,3040,22,3049,23,3056,null,null,null,null,0,122]
[22,3159,24,3166,23,3172,null,null,null,null,0,222]
[11,3269,22,3276,23,3282,null,null,null,null,0,122]
[11,3393,22,3395,23,3403,null,null,null,null,0,122]
[11,3499,22,3511,23,3518,null,null,null,null,0,122]
[11,3613,22,3627,14,3630,null,null,null,null,0,121]
[11,3730,22,3739,14,3746,null,null,null,null,0,121]
[11,3864,22,3870,23,3877,null,null,null,null,0,122]
[11,3971,11,3977,21,3982,null,null,null,null,0,112]
[11,4087,22,4103,14,4108,null,null,null,null,0,121]
[11,4221,22,4231,23,4238,null,null,null,null,0,122]
[11,4343,11,4357,21,4361,null,null,null,null,0,112]
[22,4480,13,4486,23,4492,null,null,null,null,0,212]
[11,4590,22,4605,23,4611,null,null,null,null,0,122]
[11,4716,11,4728,21,4739,null,null,null,null,0,112]
[22,4905,13,4911,23,4914,null,null,null,null,0,212]
[11,5018,11,5035,21,5045,null,null,null,null,0,112]
[22,5159,24,5165,23,5187,null,null,null,null,0,222]
[22,5306,24,5315,23,5323,null,null,null,null,0,222]
[11,5425,22,5438,23,5443,null,null,null,null,0,122]
[11,5537,11,5540,21,5545,null,null,null,null,0,112]
[11,5641,22,5646,23,5655,null,null,null,null,0,122]
[11,5747,22,5753,23,5760,null,null,null,null,0,122]
[22,5861,13,5862,23,5867,null,null,null,null,0,212]
[11,5976,22,5982,23,5988,null,null,null,null,0,122]
[22,6094,24,6101,23,6107,null,null,null,null,0,222]
[11,6204,22,6212,23,6218,null,null,null,null,0,122]
[22,6317,13,6320,23,6327,null,null,null,null,0,212]
[11,6427,22,6441,23,6449,null,null,null,null,0,122]
[11,6565,11,6570,21,6577,null,null,null,null,0,112]
[11,6705,22,6716,23,6718,null,null,null,null,0,122]
[11,6822,11,6836,21,6846,null,null,null,null,0,112]
[11,7076,22,7091,23,7099,null,null,null,null,0,122]
[11,7205,22,7216,23,7227,null,null,null,null,0,122]
[11,7325,22,7342,23,7349,null,null,null,null,0,122]
[22,7451,24,7455,23,7460,null,null,null,null,0,222]
[11,7558,22,7565,23,7571,null,null,null,null,0,122]
[22,7673,13,7675,23,7678,null,null,null,null,0,212]
[11,7775,22,7783,23,7790,null,null,null,null,0,122]
[11,7896,11,7909,21,7917,null,null,null,null,0,112]
[22,8049,24,8055,23,8065,null,null,null,null,0,222]
[11,8168,22,8177,23,8183,null,null,null,null,0,122]
[11,8295,22,8317,23,8324,null,null,null,null,0,122]
[11,8420,22,8434,23,8438,null,null,null,null,0,122]
[22,8543,24,8545,14,8548,null,null,null,null,0,221]
[11,8667,11,8675,21,8685,null,null,null,null,0,112]
[11,8819,11,8822,21,8828,null,null,null,null,0,112]
[11,9004,22,9011,23,9033,null,null,null,null,0,122]
[11,9135,22,9145,23,9150,null,null,null,null,0,122]
[11,9249,22,9261,23,9267,null,null,null,null,0,122]
[11,9363,22,9375,23,9382,null,null,null,null,0,122]
[11,9482,22,9490,23,9496,null,null,null,null,0,122]
[11,9589,22,9597,23,9601,null,null,null,null,0,122]
[22,9701,24,9706,14,9710,null,null,null,null,0,221]
[11,9811,22,9821,23,9829,null,null,null,null,0,122]
[11,9926,11,9939,12,9944,null,null,null,null,0,111]
[11,10042,22,10052,23,10065,null,null,null,null,0,122]
[11,10165,11,10170,21,10180,null,null,null,null,0,112]
[22,10344,13,10348,23,10355,null,null,null,null,0,212]
[11,10456,22,10470,14,10473,null,null,null,null,0,121]
[11,10611,22,10622,23,10624,null,null,null,null,0,122]
[11,10721,22,10728,23,10737,null,null,null,null,0,122]
[22,10839,24,10845,23,10853,null,null,null,null,0,222]
[11,10947,22,10950,23,10957,null,null,null,null,0,122]
[22,11055,24,11061,23,11069,null,null,null,null,0,222]
[22,11179,24,11189,23,11197,null,null,null,null,0,222]
[11,11298,22,11302,23,11309,null,null,null,null,0,122]
[11,11405,22,11409,23,11413,null,null,null,null,0,122]
[22,11525,24,11533,23,11541,null,null,null,null,0,222]
[11,11645,22,11655,23,11662,null,null,null,null,0,122]
[22,11764,13,11766,23,11770,null,null,null,null,0,212]
[11,11862,22,11866,23,11872,null,null,null,null,0,122]
[11,11964,11,11969,21,11975,null,null,null,null,0,112]
[22,12173,13,12181,23,12201,null,null,null,null,0,212]
[11,12346,22,12357,23,12361,null,null,null,null,0,122]
[11,12455,11,12468,21,12476,null,null,null,null,0,112]
[22,12587,13,12595,23,12606,null,null,null,null,0,212]
[11,12700,22,12710,23,12718,null,null,null,null,0,122]
[11,12813,22,12818,23,12825,null,null,null,null,0,122]
[11,12919,22,12931,23,12938,null,null,null,null,0,122]
[22,13038,24,13043,23,13049,null,null,null,null,0,222]
[11,13143,11,13147,21,13158,null,null,null,null,0,112]
[22,13281,24,13292,23,13299,null,null,null,null,0,222]
[22,13400,13,13406,23,13412,null,null,null,null,0,212]
[11,13507,11,13519,21,13523,null,null,null,null,0,112]
[11,13720,11,13723,12,13738,null,null,null,null,0,111]
[11,13843,22,13856,23,13864,null,null,null,null,0,122]
[11,13959,11,13965,21,13974,null,null,null,null,0,112]
[22,14108,13,14113,23,14121,null,null,null,null,0,212]
[11,14224,22,14228,23,14239,null,null,null,null,0,122]
[11,14335,11,14340,21,14350,null,null,null,null,0,112]
[22,14499,13,14504,23,14509,null,null,null,null,0,212]
[11,14628,11,14634,21,14652,null,null,null,null,0,112]
[11,14772,22,14794,23,14800,null,null,null,null,0,122]
[22,14897,13,14905,23,14914,null,null,null,null,0,212]
[11,15013,22,15022,23,15028,null,null,null,null,0,122]
[11,15120,22,15139,23,15144,null,null,null,null,0,122]
[11,15240,22,15250,23,15256,null,null,null,null,0,122]
[11,15358,11,15361,21,15374,null,null,null,null,0,112]
[22,15532,13,15536,23,15544,null,null,null,null,0,212]
[11,15636,22,15650,14,15654,null,null,null,null,0,121]
[11,15749,11,15753,12,15758,null,null,null,null,0,111]
[11,15889,22,15902,23,15917,null,null,null,null,0,122]
[11,16014,11,16019,21,16026,null,null,null,null,0,112]
[11,16142,22,16157,14,16166,null,null,null,null,0,121]
[22,16262,24,16269,23,16275,null,null,null,null,0,222]
[11,16369,22,16373,23,16380,null,null,null,null,0,122]
[11,16474,22,16481,23,16488,null,null,null,null,0,122]
[11,16581,22,16596,14,16600,null,null,null,null,0,121]
[11,16698,22,16714,23,16722,null,null,null,null,0,122]
[11,16820,22,16832,23,16838,null,null,null,null,0,122]
[11,16938,22,16951,23,16962,null,null,null,null,0,122]
[11,17064,22,17069,23,17074,null,null,null,null,0,122]
[11,17166,11,17173,21,17178,null,null,null,null,0,112]
[11,17274,11,17282,21,17306,null,null,null,null,0,112]
[22,17450,24,17462,23,17468,null,null,null,null,0,222]
[11,17564,11,17568,21,17580,null,null,null,null,0,112]
[11,17701,22,17718,23,17729,null,null,null,null,0,122]
[11,17821,22,17826,23,17830,null,null,null,null,0,122]
[11,17935,22,17938,23,17949,null,null,null,null,0,122]
[11,18043,11,18058,21,18070,null,null,null,null,0,112]
[11,18186,11,18190,21,18218,null,null,null,null,0,112]
[11,18414,11,18435,21,18447,null,null,null,null,0,112]
[11,18608,22,18623,14,18629,null,null,null,null,0,121]
[11,18901,22,18913,14,18918,null,null,null,null,0,121]
[11,19011,11,19023,21,19030,null,null,null,null,0,112]
[11,19181,22,19219,23,19228,null,null,null,null,0,122]
[11,19335,22,19340,23,19353,null,null,null,null,0,122]
[11,19448,22,19454,23,19462,null,null,null,null,0,122]
[11,19560,11,19562,21,19578,null,null,null,null,0,112]
[11,19690,11,19694,21,19708,null,null,null,null,0,112]
[11,19808,11,19826,21,19833,null,null,null,null,0,112]
[11,19989,11,19997,21,20000,null,null,null,null,0,112]
[22,20211,13,20218,23,20222,null,null,null,null,0,212]
[11,20648,22,20663,23,20679,null,null,null,null,0,122]
[22,20781,13,20786,23,20792,null,null,null,null,0,212]
[11,20895,22,20905,23,20912,null,null,null,null,0,122]
[11,21005,11,21011,12,21016,null,null,null,null,0,111]
[11,21120,22,21127,23,21135,null,null,null,null,0,122]
[11,21228,11,21232,21,21255,null,null,null,null,1,112]

{"sheet":"!N113940.Gus","index":19,"n_rows":152,"n_cols":48,"rows_kept":152,"cut":false,"hidden":false,"merged":[[1,1,1,2],[5,13,5,14],[18,13,18,14],[19,13,19,14],[4,19,4,22],[5,19,5,20],[4,39,4,42],[5,39,5,40],[4,44,4,47],[5,44,5,45],[4,24,4,27],[5,24,5,25],[4,29,4,32],[5,29,5,30],[4,34,4,37],[5,34,5,35]]}
["Report for:!N113940.Gus"]
["Date:","<date>"]
["Hen:","<hen>",null,null,null,"Correct Sequence",{"$f":"Start!J2","v":112},null,null,null,null,null,null,null,null,"Total Sequences in Data",{"$f":"4994-COUNTBLANK(L7:L5000)","v":146},null,null,null,null,"Total Sequences in Block Data",{"$f":"COUNTA(L7:L30)","v":24},null,null,null,"Total Sequences in Block Data",{"$f":"COUNTA(L31:L55)","v":25},null,null,null,"Total Sequences in Block Data",{"$f":"COUNTA(L56:L79)","v":24},null,null,null,"Total Sequences in Block Data",{"$f":"COUNTA(L80:L103)","v":24},null,null,null,"Total Sequences in Block Data",{"$f":"COUNTA(L104:L128)","v":25},null,null,null,"Total Sequences in Block Data",{"$f":"COUNTA(L129:L152)","v":24}]
[null,null,null,null,null,null,null,null,null,null,null,null,null,null,null,"Total Sequences in Summary",{"$f":"SUM(O7:O14)","v":146},null,null,null,null,"Total Sequences in Block Summary",{"$f":"SUM(U7:U14)","v":24},null,null,null,"Total Sequences in Block Summary",{"$f":"SUM(Z7:Z14)","v":25},null,null,null,"Total Sequences in Block Summary",{"$f":"SUM(AE7:AE14)","v":24},null,null,null,"Total Sequences in Block Summary",{"$f":"SUM(AJ7:AJ14)","v":24},null,null,null,"Total Sequences in Block Summary",{"$f":"SUM(AO7:AO14)","v":25},null,null,null,"Total Sequences in Block Summary",{"$f":"SUM(AT7:AT14)","v":24}]
[null,null,null,null,null,null,null,null,null,null,null,null,null,null,null,null,null,null,null,"Block 1",null,null,null,null,"Block 2",null,null,null,null,"Block 3",null,null,null,null,"Block 4",null,null,null,null,"Block 5",null,null,null,null,"Block 6"]
["Sequence\nComponent\n1","Time\n1","Sequence\nComponent\n2","Time\n2","Sequence\nComponent\n3","Time\n3","Sequence\nComponent\n4","Time\n4","Sequence\nComponent\n5","Time\n5","Correct?\n0=No 1=Yes","Sequence",null,"Frequency",null,"Relative Frequency","Variability",null,null,"Frequency",null,"Relative Frequency","Variability",null,"Frequency",null,"Relative Frequency","Variability",null,"Frequency",null,"Relative Frequency","Variability",null,"Frequency",null,"Relative Frequency","Variability",null,"Frequency",null,"Relative Frequency","Variability",null,"Frequency",null,"Relative Frequency","Variability"]
[11,4,11,10,21,19,null,null,null,null,0,112,null,111,{"$f":"COUNTIF($L$7:$L$500,N7)","v":15},{"$f":"O7/$Q$4","v":0.10273972602739725},{"$f":"IF(P7=0,0,(P7*((LOG(P7))/LOG(2))))","v":-0.33728773595255124},null,null,{"$f":"N7","v":111},{"$f":"COUNTIF(L7:L30,T7)","v":1},{"$f":"U7/(W4-U8)","v":0.05},{"$f":"IF(V7=0,0,(V7*((LOG(V7))/LOG(2))))","v":-0.21609640474436814},null,{"$f":"N7","v":111},{"$f":"COUNTIF(L31:L55,Y7)","v":0},{"$f":"Z7/(AB4-Z8)","v":0},{"$f":"IF(AA7=0,0,(AA7*((LOG(AA7))/LOG(2))))","v":0},null,{"$f":"N7","v":111},{"$f":"COUNTIF(L56:L79,AD7)","v":4},{"$f":"AE7/(AG4-AE8)","v":0.22222222222222221},{"$f":"IF(AF7=0,0,(AF7*((LOG(AF7))/LOG(2))))","v":-0.48220555587606945},null,{"$f":"N7","v":111},{"$f":"COUNTIF(L80:L103,AI7)","v":4},{"$f":"AJ7/(AL4-AJ8)","v":0.22222222222222221},{"$f":"IF(AK7=0,0,(AK7*((LOG(AK7))/LOG(2))))","v":-0.48220555587606945},null,{"$f":"N7","v":111},{"$f":"COUNTIF(L104:L128,AN7)","v":2},{"$f":"AO7/(AQ4-AO8)","v":0.11764705882352941},{"$f":"IF(AP7=0,0,(AP7*((LOG(AP7))/LOG(2))))","v":-0.36323092250003997},null,{"$f":"N7","v":111},{"$f":"COUNTIF(L129:L152,AS7)","v":4},{"$f":"AT7/(AV4-AT8)","v":0.23529411764705882},{"$f":"IF(AU7=0,0,(AU7*((LOG(AU7))/LOG(2))))","v":-0.49116772735302094}]
[11,132,22,140,23,148,null,null,null,null,0,122,null,112,39,0.26712328767123289,-0.50871555658008893,null,null,112,{"$f":"COUNTIF(L7:L30,T8)","v":4},null,null,null,112,{"$f":"COUNTIF(L31:L55,Y8)","v":8},null,null,null,112,{"$f":"COUNTIF(L56:L79,AD8)","v":6},null,null,null,112,{"$f":"COUNTIF(L80:L103,AI8)","v":6},null,null,null,112,{"$f":"COUNTIF(L104:L128,AN8)","v":8},null,null,null,112,{"$f":"COUNTIF(L129:L152,AS8)","v":7}]
[11,250,11,265,21,273,null,null,null,null,0,112,null,121,24,0.16438356164383561,-0.42819650271104565,null,null,121,{"$f":"COUNTIF(L7:L30,T9)","v":3},{"$f":"U9/(W4-U8)","v":0.15},{"$f":"IF(V9=0,0,(V9*((LOG(V9))/LOG(2))))","v":-0.41054483912493089},null,121,{"$f":"COUNTIF(L31:L55,Y9)","v":6},{"$f":"Z9/(AB4-Z8)","v":0.35294117647058826},{"$f":"IF(AA9=0,0,(AA9*((LOG(AA9))/LOG(2))))","v":-0.53029423783382934},null,121,{"$f":"COUNTIF(L56:L79,AD9)","v":3},{"$f":"AE9/(AG4-AE8)","v":0.16666666666666666},{"$f":"IF(AF9=0,0,(AF9*((LOG(AF9))/LOG(2))))","v":-0.43082708345352599},null,121,{"$f":"COUNTIF(L80:L103,AI9)","v":4},{"$f":"AJ9/(AL4-AJ8)","v":0.22222222222222221},{"$f":"IF(AK9=0,0,(AK9*((LOG(AK9))/LOG(2))))","v":-0.48220555587606945},null,121,{"$f":"COUNTIF(L104:L128,AN9)","v":5},{"$f":"AO9/(AQ4-AO8)","v":0.29411764705882354},{"$f":"IF(AP9=0,0,(AP9*((LOG(AP9))/LOG(2))))","v":-0.51927492540087561},null,121,{"$f":"COUNTIF(L129:L152,AS9)","v":3},{"$f":"AT9/(AV4-AT8)","v":0.17647058823529413},{"$f":"IF(AU9=0,0,(AU9*((LOG(AU9))/LOG(2))))","v":-0.44161770715220888}]
[11,360,22,389,14,394,null,null,null,null,0,121,null,122,52,0.35616438356164382,-0.53046583368783629,null,null,122,{"$f":"COUNTIF(L7:L30,T10)","v":13},{"$f":"U10/(W4-U8)","v":0.65},-0.40396744488507563,null,122,{"$f":"COUNTIF(L31:L55,Y10)","v":7},{"$f":"Z10/(AB4-Z8)","v":0.41176470588235292},-0.52710326084406744,null,122,{"$f":"COUNTIF(L56:L79,AD10)","v":7},{"$f":"AE10/(AG4-AE8)","v":0.3888888888888889},-0.52988836420516428,null,122,{"$f":"COUNTIF(L80:L103,AI10)","v":9},{"$f":"AJ10/(AL4-AJ8)","v":0.5},-0.5,null,122,{"$f":"COUNTIF(L104:L128,AN10)","v":6},{"$f":"AO10/(AQ4-AO8)","v":0.35294117647058826},-0.53029423783382934,null,122,{"$f":"COUNTIF(L129:L152,AS10)","v":10},{"$f":"AT10/(AV4-AT8)","v":0.58823529411764708},-0.45031455668410414]
[11,493,22,508,23,515,null,null,null,null,0,122,null,211,1,6.8493150684931503E-3,-4.9245373690959021E-2,null,null,211,{"$f":"COUNTIF(L7:L30,T11)","v":0},{"$f":"U11/(W4-U8)","v":0},0,null,211,{"$f":"COUNTIF(L31:L55,Y11)","v":1},{"$f":"Z11/(AB4-Z8)","v":5.8823529411764705E-2},-0.24043899066178465,null,211,{"$f":"COUNTIF(L56:L79,AD11)","v":0},{"$f":"AE11/(AG4-AE8)","v":0},0,null,211,{"$f":"COUNTIF(L80:L103,AI11)","v":0},{"$f":"AJ11/(AL4-AJ8)","v":0},0,null,211,{"$f":"COUNTIF(L104:L128,AN11)","v":0},{"$f":"AO11/(AQ4-AO8)","v":0},0,null,211,{"$f":"COUNTIF(L129:L152,AS11)","v":0},{"$f":"AT11/(AV4-AT8)","v":0},0]
[11,615,22,637,23,643,null,null,null,null,0,122,null,212,7,4.7945205479452052E-2,-0.21011840724491021,null,null,212,{"$f":"COUNTIF(L7:L30,T12)","v":1},{"$f":"U12/(W4-U8)","v":0.05},-0.21609640474436814,null,212,{"$f":"COUNTIF(L31:L55,Y12)","v":0},{"$f":"Z12/(AB4-Z8)","v":0},0,null,212,{"$f":"COUNTIF(L56:L79,AD12)","v":3},{"$f":"AE12/(AG4-AE8)","v":0.16666666666666666},-0.43082708345352599,null,212,{"$f":"COUNTIF(L80:L103,AI12)","v":1},{"$f":"AJ12/(AL4-AJ8)","v":5.5555555555555552E-2},-0.23166250008012845,null,212,{"$f":"COUNTIF(L104:L128,AN12)","v":2},{"$f":"AO12/(AQ4-AO8)","v":0.11764705882352941},-0.36323092250003997,null,212,{"$f":"COUNTIF(L129:L152,AS12)","v":0},{"$f":"AT12/(AV4-AT8)","v":0},0]
[11,740,22,752,23,762,null,null,null,null,0,122,null,221,0,0,0,null,null,221,{"$f":"COUNTIF(L7:L30,T13)","v":0},{"$f":"U13/(W4-U8)","v":0},0,null,221,{"$f":"COUNTIF(L31:L55,Y13)","v":0},{"$f":"Z13/(AB4-Z8)","v":0},0,null,221,{"$f":"COUNTIF(L56:L79,AD13)","v":0},{"$f":"AE13/(AG4-AE8)","v":0},0,null,221,{"$f":"COUNTIF(L80:L103,AI13)","v":0},{"$f":"AJ13/(AL4-AJ8)","v":0},0,null,221,{"$f":"COUNTIF(L104:L128,AN13)","v":0},{"$f":"AO13/(AQ4-AO8)","v":0},0,null,221,{"$f":"COUNTIF(L129:L152,AS13)","v":0},{"$f":"AT13/(AV4-AT8)","v":0},0]
[11,854,22,862,23,868,null,null,null,null,0,122,null,222,8,5.4794520547945202E-2,-0.22957942788383656,null,null,222,{"$f":"COUNTIF(L7:L30,T14)","v":2},{"$f":"U14/(W4-U8)","v":0.1},-0.33219280948873625,null,222,{"$f":"COUNTIF(L31:L55,Y14)","v":3},{"$f":"Z14/(AB4-Z8)","v":0.17647058823529413},-0.44161770715220888,null,222,{"$f":"COUNTIF(L56:L79,AD14)","v":1},{"$f":"AE14/(AG4-AE8)","v":5.5555555555555552E-2},-0.23166250008012845,null,222,{"$f":"COUNTIF(L80:L103,AI14)","v":0},{"$f":"AJ14/(AL4-AJ8)","v":0},0,null,222,{"$f":"COUNTIF(L104:L128,AN14)","v":2},{"$f":"AO14/(AQ4-AO8)","v":0.11764705882352941},-0.36323092250003997,null,222,{"$f":"COUNTIF(L129:L152,AS14)","v":0},{"$f":"AT14/(AV4-AT8)","v":0},0]
[11,968,22,980,23,994,null,null,null,null,0,122,null,null,null,{"$f":"SUM(P7:P14)","v":1},{"$f":"-SUM(Q7:Q14)","v":2.2936088377512278},null,null,null,null,{"$f":"SUM(V7:V14)","v":1.0000000000000002},{"$f":"-SUM(W7:W14)","v":1.578897902987479},null,null,null,{"$f":"SUM(AA7:AA14)","v":1},{"$f":"-SUM(AB7:AB14)","v":1.7394541964918904},null,null,null,{"$f":"SUM(AF7:AF14)","v":0.99999999999999989},{"$f":"-SUM(AG7:AG14)","v":2.1054105870684143},null,null,null,{"$f":"SUM(AK7:AK14)","v":1},{"$f":"-SUM(AL7:AL14)","v":1.6960736118322672},null,null,null,{"$f":"SUM(AP7:AP14)","v":1},{"$f":"-SUM(AQ7:AQ14)","v":2.1392619307348251},null,null,null,{"$f":"SUM(AU7:AU14)","v":1},{"$f":"-SUM(AV7:AV14)","v":1.3830999911893338}]
[11,1090,11,1094,21,1104,null,null,null,null,0,112,null,null,null,"U=",{"$f":"Q15/(LOG(Q4)/LOG(2))","v":0.3190076223651987},null,null,null,null,"U1=",{"$f":"W15/(LOG(W4)/LOG(2))","v":0.34436440924852463},null,null,null,"U2=",{"$f":"AB15/(LOG(AB4)/LOG(2))","v":0.37457107313572341},null,null,null,"U3=",{"$f":"AG15/(LOG(AG4)/LOG(2))","v":0.45919908543139887},null,null,null,"U4=",{"$f":"AL15/(LOG(AL4)/LOG(2))","v":0.36992093426401995},null,null,null,"U5=",{"$f":"AQ15/(LOG(AQ4)/LOG(2))","v":0.46066498257315786},null,null,null,"U6=",{"$f":"AV15/(LOG(AV4)/LOG(2))","v":0.3016600443235446}]
[11,1193,11,1202,21,1210,null,null,null,null,0,112]
[11,1352,22,1369,14,1384,null,null,null,null,0,121]
[11,1486,22,1504,23,1510,null,null,null,null,0,122,null,"Total Target Seq"]
[22,1618,24,1632,23,1643,null,null,null,null,0,222,null,{"$f":"COUNTIF(L7:L152,G3)","v":39},null,24,25,24,24,25,24]
[11,1735,22,1739,23,1745,null,null,null,null,0,122,null,null,null,"% of reinforcement given in 6 equal intervals based on number of trials "]
[11,1851,22,1877,23,1884,null,null,null,null,0,122,null,null,null,"%_1","%_2","%_3","%_4","%_5","%_6"]
[11,1985,22,1994,23,2013,null,null,null,null,0,122,null,null,"target sequence",{"$f":"$G$3","v":112},112,112,112,112,112]
[11,2111,22,2116,14,2125,null,null,null,null,0,121,null,null,"total reinforcement",{"$f":"U8","v":4},{"$f":"Z8","v":8},{"$f":"AE8","v":6},{"$f":"AJ8","v":6},{"$f":"AO8","v":8},{"$f":"AT8","v":7}]
[11,2232,22,2235,23,2242,null,null,null,null,0,122,null,null,"% target"]
[22,2347,24,2354,23,2361,null,null,null,null,0,222,null,null,"CCRF"]
[22,2469,13,2471,23,2478,null,null,null,null,0,212,null,null,"% CCRf"]
[11,2572,22,2573,23,2580,null,null,null,null,0,122,null,null,"average response rate",{"$f":"F30/P20","v":116.95833333333333},{"$f":"(F55-F30)/Q20","v":122.12},{"$f":"(F79-F55)/R20","v":137.20833333333334},{"$f":"(F103-F79)/S20","v":125.20833333333333},{"$f":"(F128-F103)/T20","v":132.96},{"$f":"(F152-F128)/U20","v":121.625}]
[11,2688,22,2692,23,2699,null,null,null,null,0,122]
[11,2792,11,2804,12,2807,null,null,null,null,0,111]
[22,2907,24,2914,23,2922,null,null,null,null,0,222]
[22,3073,24,3091,23,3097,null,null,null,null,0,222]
[11,3195,22,3209,14,3216,null,null,null,null,0,121]
[11,3309,11,3321,21,3333,null,null,null,null,0,112]
[11,3435,11,3439,21,3450,null,null,null,null,0,112]
[11,3553,22,3564,14,3572,null,null,null,null,0,121]
[11,3679,22,3685,23,3693,null,null,null,null,0,122]
[11,3796,22,3806,14,3809,null,null,null,null,0,121]
[11,3904,11,3910,21,3915,null,null,null,null,0,112]
[22,4022,24,4030,23,4036,null,null,null,null,0,222]
[11,4129,11,4138,21,4148,null,null,null,null,0,112]
[11,4252,22,4268,23,4281,null,null,null,null,0,122]
[11,4372,22,4393,14,4397,null,null,null,null,0,121]
[11,4494,11,4497,21,4506,null,null,null,null,0,112]
[22,4609,13,4618,14,4622,null,null,null,null,0,211]
[11,4725,22,4735,23,4743,null,null,null,null,0,122]
[11,4837,11,4848,21,4857,null,null,null,null,0,112]
[11,4952,22,4981,23,4995,null,null,null,null,0,122]
[11,5096,11,5103,21,5108,null,null,null,null,0,112]
[11,5208,22,5221,23,5241,null,null,null,null,0,122]
[11,5342,11,5356,21,5362,null,null,null,null,0,112]
[11,5489,22,5503,14,5509,null,null,null,null,0,121]
[11,5611,22,5616,23,5626,null,null,null,null,0,122]
[11,5722,22,5733,14,5737,null,null,null,null,0,121]
[11,5845,22,5848,23,5860,null,null,null,null,0,122]
[11,5955,11,5959,21,5971,null,null,null,null,0,112]
[11,6097,22,6108,23,6119,null,null,null,null,0,122]
[11,6211,11,6223,12,6246,null,null,null,null,0,111]
[22,6348,13,6352,23,6361,null,null,null,null,0,212]
[11,6463,22,6472,14,6477,null,null,null,null,0,121]
[11,6583,22,6591,23,6604,null,null,null,null,0,122]
[11,6699,11,6703,21,6712,null,null,null,null,0,112]
[11,6812,22,6818,23,6827,null,null,null,null,0,122]
[11,6929,22,6936,23,6944,null,null,null,null,0,122]
[11,7039,11,7045,21,7056,null,null,null,null,0,112]
[11,7180,11,7184,21,7197,null,null,null,null,0,112]
[11,7316,22,7326,14,7334,null,null,null,null,0,121]
[22,7438,13,7442,23,7449,null,null,null,null,0,212]
[11,7545,22,7548,14,7550,null,null,null,null,0,121]
[11,7650,22,7657,23,7665,null,null,null,null,0,122]
[11,7770,22,7777,23,7785,null,null,null,null,0,122]
[11,7881,22,7888,23,7894,null,null,null,null,0,122]
[22,7992,13,7995,23,7999,null,null,null,null,0,212]
[11,8092,11,8096,21,8106,null,null,null,null,0,112]
[11,8599,11,8662,12,8664,null,null,null,null,0,111]
[11,8784,11,8789,12,8792,null,null,null,null,0,111]
[11,8888,11,8902,21,8918,null,null,null,null,0,112]
[11,9007,11,9020,12,9029,null,null,null,null,0,111]
[22,9139,24,9146,23,9153,null,null,null,null,0,222]
[11,9283,11,9287,21,9307,null,null,null,null,0,112]
[11,9422,22,9437,14,9441,null,null,null,null,0,121]
[11,9547,22,9570,23,9578,null,null,null,null,0,122]
[11,9678,22,9687,23,9694,null,null,null,null,0,122]
[11,9797,22,9803,23,9810,null,null,null,null,0,122]
[11,9913,11,9915,12,9918,null,null,null,null,0,111]
[11,10027,11,10033,12,10050,null,null,null,null,0,111]
[11,10151,11,10154,12,10157,null,null,null,null,0,111]
[11,10252,22,10259,23,10267,null,null,null,null,0,122]
[11,10362,22,10372,23,10386,null,null,null,null,0,122]
[11,10482,11,10494,21,10500,null,null,null,null,0,112]
[11,10587,22,10605,23,10611,null,null,null,null,0,122]
[11,10723,22,10735,14,10739,null,null,null,null,0,121]
[22,10838,13,10844,23,10853,null,null,null,null,0,212]
[11,10949,11,10956,21,10963,null,null,null,null,0,112]
[11,11052,11,11057,21,11077,null,null,null,null,0,112]
[11,11207,22,11220,23,11236,null,null,null,null,0,122]
[11,11331,22,11364,14,11372,null,null,null,null,0,121]
[11,11464,11,11472,21,11475,null,null,null,null,0,112]
[11,11566,11,11573,12,11577,null,null,null,null,0,111]
[11,11671,22,11681,23,11694,null,null,null,null,0,122]
[11,11796,11,11806,21,11817,null,null,null,null,0,112]
[11,11994,22,12020,14,12028,null,null,null,null,0,121]
[11,12132,22,12145,23,12158,null,null,null,null,0,122]
[11,12254,22,12260,23,12266,null,null,null,null,0,122]
[11,12361,22,12366,14,12369,null,null,null,null,0,121]
[11,12465,11,12473,21,12478,null,null,null,null,0,112]
[11,12613,11,12618,12,12625,null,null,null,null,0,111]
[11,12749,11,12767,21,12774,null,null,null,null,0,112]
[11,12903,11,12919,21,12925,null,null,null,null,0,112]
[11,13126,22,13139,14,13148,null,null,null,null,0,121]
[22,13273,13,13276,23,13301,null,null,null,null,0,212]
[11,13402,22,13408,23,13416,null,null,null,null,0,122]
[11,13513,22,13523,23,13536,null,null,null,null,0,122]
[11,13629,22,13640,14,13646,null,null,null,null,0,121]
[11,13739,11,13745,21,13756,null,null,null,null,0,112]
[11,13897,22,13910,14,13916,null,null,null,null,0,121]
[11,14009,22,14017,23,14023,null,null,null,null,0,122]
[22,14125,24,14138,23,14151,null,null,null,null,0,222]
[11,14250,11,14263,21,14273,null,null,null,null,0,112]
[22,14386,13,14391,23,14405,null,null,null,null,0,212]
[11,14521,22,14533,23,14540,null,null,null,null,0,122]
[11,14641,11,14647,12,14661,null,null,null,null,0,111]
[11,14762,11,14764,21,14775,null,null,null,null,0,112]
[11,14871,11,14878,21,14880,null,null,null,null,0,112]
[11,15026,11,15032,21,15059,null,null,null,null,0,112]
[11,15222,22,15236,14,15242,null,null,null,null,0,121]
[11,15343,22,15358,23,15371,null,null,null,null,0,122]
[22,15469,24,15476,23,15482,null,null,null,null,0,222]
[11,15575,22,15585,14,15589,null,null,null,null,0,121]
[11,15682,11,15686,21,15695,null,null,null,null,0,112]
[11,15804,11,15853,12,15857,null,null,null,null,0,111]
[11,15951,22,15960,14,15969,null,null,null,null,0,121]
[11,16064,22,16074,14,16078,null,null,null,null,0,121]
[11,16174,22,16183,23,16191,null,null,null,null,0,122]
[11,16287,22,16300,23,16318,null,null,null,null,0,122]
[11,16417,22,16422,23,16429,null,null,null,null,0,122]
[11,16524,11,16528,12,16544,null,null,null,null,0,111]
[11,16644,22,16651,23,16659,null,null,null,null,0,122]
[11,16758,11,16763,21,16769,null,null,null,null,0,112]
[11,16858,11,16863,21,16877,null,null,null,null,0,112]
[11,17061,11,17066,12,17090,null,null,null,null,0,111]
[11,17189,11,17194,12,17209,null,null,null,null,0,111]
[11,17301,22,17314,23,17321,null,null,null,null,0,122]
[11,17419,22,17424,23,17430,null,null,null,null,0,122]
[11,17525,11,17540,21,17544,null,null,null,null,0,112]
[11,17653,22,17655,23,17663,null,null,null,null,0,122]
[11,17761,22,17767,23,17774,null,null,null,null,0,122]
[11,17867,11,17883,21,17891,null,null,null,null,0,112]
[11,17990,11,17996,21,18007,null,null,null,null,0,112]
[11,18139,22,18155,23,18167,null,null,null,null,0,122]
[11,18262,22,18276,23,18287,null,null,null,null,0,122]
[11,18383,11,18395,21,18401,null,null,null,null,1,112]

{"sheet":"!N114910.Gus","index":20,"n_rows":195,"n_cols":48,"rows_kept":195,"cut":false,"hidden":false,"merged":[[1,1,1,2],[5,13,5,14],[18,13,18,14],[19,13,19,14],[4,19,4,22],[5,19,5,20],[4,39,4,42],[5,39,5,40],[4,44,4,47],[5,44,5,45],[4,24,4,27],[5,24,5,25],[4,29,4,32],[5,29,5,30],[4,34,4,37],[5,34,5,35]]}
["Report for:!N114910.Gus"]
["Date:","<date>"]
["Hen:","<hen>",null,null,null,"Correct Sequence",{"$f":"Start!J2","v":112},null,null,null,null,null,null,null,null,"Total Sequences in Data",{"$f":"4994-COUNTBLANK(L7:L5000)","v":189},null,null,null,null,"Total Sequences in Block Data",{"$f":"COUNTA(L7:L38)","v":32},null,null,null,"Total Sequences in Block Data",{"$f":"COUNTA(L39:L69)","v":31},null,null,null,"Total Sequences in Block Data",{"$f":"COUNTA(L70:L101)","v":32},null,null,null,"Total Sequences in Block Data",{"$f":"COUNTA(L102:L132)","v":31},null,null,null,"Total Sequences in Block Data",{"$f":"COUNTA(L133:L164)","v":32},null,null,null,"Total Sequences in Block Data",{"$f":"COUNTA(L165:L195)","v":31}]
[null,null,null,null,null,null,null,null,null,null,null,null,null,null,null,"Total Sequences in Summary",{"$f":"SUM(O7:O14)","v":189},null,null,null,null,"Total Sequences in Block Summary",{"$f":"SUM(U7:U14)","v":32},null,null,null,"Total Sequences in Block Summary",{"$f":"SUM(Z7:Z14)","v":31},null,null,null,"Total Sequences in Block Summary",{"$f":"SUM(AE7:AE14)","v":32},null,null,null,"Total Sequences in Block Summary",{"$f":"SUM(AJ7:AJ14)","v":31},null,null,null,"Total Sequences in Block Summary",{"$f":"SUM(AO7:AO14)","v":32},null,null,null,"Total Sequences in Block Summary",{"$f":"SUM(AT7:AT14)","v":31}]
[null,null,null,null,null,null,null,null,null,null,null,null,null,null,null,null,null,null,null,"Block 1",null,null,null,null,"Block 2",null,null,null,null,"Block 3",null,null,null,null,"Block 4",null,null,null,null,"Block 5",null,null,null,null,"Block 6"]
["Sequence\nComponent\n1","Time\n1","Sequence\nComponent\n2","Time\n2","Sequence\nComponent\n3","Time\n3","Sequence\nComponent\n4","Time\n4","Sequence\nComponent\n5","Time\n5","Correct?\n0=No 1=Yes","Sequence",null,"Frequency",null,"Relative Frequency","Variability",null,null,"Frequency",null,"Relative Frequency","Variability",null,"Frequency",null,"Relative Frequency","Variability",null,"Frequency",null,"Relative Frequency","Variability",null,"Frequency",null,"Relative Frequency","Variability",null,"Frequency",null,"Relative Frequency","Variability",null,"Frequency",null,"Relative Frequency","Variability"]
[11,7,11,10,12,26,null,null,null,null,0,111,null,111,{"$f":"COUNTIF($L$7:$L$500,N7)","v":6},{"$f":"O7/$Q$4","v":3.1746031746031744E-2},{"$f":"IF(P7=0,0,(P7*((LOG(P7))/LOG(2))))","v":-0.15800888646031477},null,null,{"$f":"N7","v":111},{"$f":"COUNTIF(L7:L38,T7)","v":1},{"$f":"U7/(W4-U8)","v":3.5714285714285712E-2},{"$f":"IF(V7=0,0,(V7*((LOG(V7))/LOG(2))))","v":-0.17169124721634299},null,{"$f":"N7","v":111},{"$f":"COUNTIF(L39:L69,Y7)","v":1},{"$f":"Z7/(AB4-Z8)","v":0.04},{"$f":"IF(AA7=0,0,(AA7*((LOG(AA7))/LOG(2))))","v":-0.18575424759098899},null,{"$f":"N7","v":111},{"$f":"COUNTIF(L70:L101,AD7)","v":0},{"$f":"AE7/(AG4-AE8)","v":0},{"$f":"IF(AF7=0,0,(AF7*((LOG(AF7))/LOG(2))))","v":0},null,{"$f":"N7","v":111},{"$f":"COUNTIF(L102:L132,AI7)","v":1},{"$f":"AJ7/(AL4-AJ8)","v":0.04},{"$f":"IF(AK7=0,0,(AK7*((LOG(AK7))/LOG(2))))","v":-0.18575424759098899},null,{"$f":"N7","v":111},{"$f":"COUNTIF(L133:L164,AN7)","v":3},{"$f":"AO7/(AQ4-AO8)","v":0.10344827586206896},{"$f":"IF(AP7=0,0,(AP7*((LOG(AP7))/LOG(2))))","v":-0.33858812011100858},null,{"$f":"N7","v":111},{"$f":"COUNTIF(L165:L195,AS7)","v":0},{"$f":"AT7/(AV4-AT8)","v":0},{"$f":"IF(AU7=0,0,(AU7*((LOG(AU7))/LOG(2))))","v":0}]
[11,129,22,136,23,144,null,null,null,null,0,122,null,112,31,0.16402116402116401,-0.42777475941195831,null,null,112,{"$f":"COUNTIF(L7:L38,T8)","v":4},null,null,null,112,{"$f":"COUNTIF(L39:L69,Y8)","v":6},null,null,null,112,{"$f":"COUNTIF(L70:L101,AD8)","v":6},null,null,null,112,{"$f":"COUNTIF(L102:L132,AI8)","v":6},null,null,null,112,{"$f":"COUNTIF(L133:L164,AN8)","v":3},null,null,null,112,{"$f":"COUNTIF(L165:L195,AS8)","v":6}]
[22,242,13,244,23,249,null,null,null,null,0,212,null,121,26,0.13756613756613756,-0.39368714475174332,null,null,121,{"$f":"COUNTIF(L7:L38,T9)","v":1},{"$f":"U9/(W4-U8)","v":3.5714285714285712E-2},{"$f":"IF(V9=0,0,(V9*((LOG(V9))/LOG(2))))","v":-0.17169124721634299},null,121,{"$f":"COUNTIF(L39:L69,Y9)","v":9},{"$f":"Z9/(AB4-Z8)","v":0.36},{"$f":"IF(AA9=0,0,(AA9*((LOG(AA9))/LOG(2))))","v":-0.53061522779966841},null,121,{"$f":"COUNTIF(L70:L101,AD9)","v":6},{"$f":"AE9/(AG4-AE8)","v":0.23076923076923078},{"$f":"IF(AF9=0,0,(AF9*((LOG(AF9))/LOG(2))))","v":-0.48818705017383146},null,121,{"$f":"COUNTIF(L102:L132,AI9)","v":2},{"$f":"AJ9/(AL4-AJ8)","v":0.08},{"$f":"IF(AK9=0,0,(AK9*((LOG(AK9))/LOG(2))))","v":-0.29150849518197797},null,121,{"$f":"COUNTIF(L133:L164,AN9)","v":6},{"$f":"AO9/(AQ4-AO8)","v":0.20689655172413793},{"$f":"IF(AP9=0,0,(AP9*((LOG(AP9))/LOG(2))))","v":-0.4702796884978791},null,121,{"$f":"COUNTIF(L165:L195,AS9)","v":2},{"$f":"AT9/(AV4-AT8)","v":0.08},{"$f":"IF(AU9=0,0,(AU9*((LOG(AU9))/LOG(2))))","v":-0.29150849518197797}]
[11,355,22,363,23,371,null,null,null,null,0,122,null,122,81,0.42857142857142855,-0.52388246628704915,null,null,122,{"$f":"COUNTIF(L7:L38,T10)","v":15},{"$f":"U10/(W4-U8)","v":0.5357142857142857},-0.48239160345486726,null,122,{"$f":"COUNTIF(L39:L69,Y10)","v":5},{"$f":"Z10/(AB4-Z8)","v":0.2},-0.46438561897747244,null,122,{"$f":"COUNTIF(L70:L101,AD10)","v":14},{"$f":"AE10/(AG4-AE8)","v":0.53846153846153844},-0.48089181327572433,null,122,{"$f":"COUNTIF(L102:L132,AI10)","v":15},{"$f":"AJ10/(AL4-AJ8)","v":0.6},-0.44217935649972373,null,122,{"$f":"COUNTIF(L133:L164,AN10)","v":12},{"$f":"AO10/(AQ4-AO8)","v":0.41379310344827586},-0.5267662735474824,null,122,{"$f":"COUNTIF(L165:L195,AS10)","v":20},{"$f":"AT10/(AV4-AT8)","v":0.8},-0.25754247590988982]
[22,483,13,491,23,498,null,null,null,null,0,212,null,211,1,5.2910052910052907E-3,-4.0011864678418371E-2,null,null,211,{"$f":"COUNTIF(L7:L38,T11)","v":0},{"$f":"U11/(W4-U8)","v":0},0,null,211,{"$f":"COUNTIF(L39:L69,Y11)","v":0},{"$f":"Z11/(AB4-Z8)","v":0},0,null,211,{"$f":"COUNTIF(L70:L101,AD11)","v":0},{"$f":"AE11/(AG4-AE8)","v":0},0,null,211,{"$f":"COUNTIF(L102:L132,AI11)","v":1},{"$f":"AJ11/(AL4-AJ8)","v":0.04},-0.18575424759098899,null,211,{"$f":"COUNTIF(L133:L164,AN11)","v":0},{"$f":"AO11/(AQ4-AO8)","v":0},0,null,211,{"$f":"COUNTIF(L165:L195,AS11)","v":0},{"$f":"AT11/(AV4-AT8)","v":0},0]
[22,606,24,613,23,620,null,null,null,null,0,222,null,212,16,8.4656084656084651E-2,-0.30156549623035533,null,null,212,{"$f":"COUNTIF(L7:L38,T12)","v":5},{"$f":"U12/(W4-U8)","v":0.17857142857142858},-0.44382621913754317,null,212,{"$f":"COUNTIF(L39:L69,Y12)","v":6},{"$f":"Z12/(AB4-Z8)","v":0.24},-0.49413448537285637,null,212,{"$f":"COUNTIF(L70:L101,AD12)","v":0},{"$f":"AE12/(AG4-AE8)","v":0},0,null,212,{"$f":"COUNTIF(L102:L132,AI12)","v":2},{"$f":"AJ12/(AL4-AJ8)","v":0.08},-0.29150849518197797,null,212,{"$f":"COUNTIF(L133:L164,AN12)","v":1},{"$f":"AO12/(AQ4-AO8)","v":3.4482758620689655E-2},-0.16751658603888178,null,212,{"$f":"COUNTIF(L165:L195,AS12)","v":2},{"$f":"AT12/(AV4-AT8)","v":0.08},-0.29150849518197797]
[22,733,24,739,23,750,null,null,null,null,0,222,null,221,9,4.7619047619047616E-2,-0.20915797251327431,null,null,221,{"$f":"COUNTIF(L7:L38,T13)","v":0},{"$f":"U13/(W4-U8)","v":0},0,null,221,{"$f":"COUNTIF(L39:L69,Y13)","v":2},{"$f":"Z13/(AB4-Z8)","v":0.08},-0.29150849518197797,null,221,{"$f":"COUNTIF(L70:L101,AD13)","v":3},{"$f":"AE13/(AG4-AE8)","v":0.11538461538461539},-0.35947814047153104,null,221,{"$f":"COUNTIF(L102:L132,AI13)","v":0},{"$f":"AJ13/(AL4-AJ8)","v":0},0,null,221,{"$f":"COUNTIF(L133:L164,AN13)","v":3},{"$f":"AO13/(AQ4-AO8)","v":0.10344827586206896},-0.33858812011100858,null,221,{"$f":"COUNTIF(L165:L195,AS13)","v":1},{"$f":"AT13/(AV4-AT8)","v":0.04},-0.18575424759098899]
[11,842,11,852,21,859,null,null,null,null,0,112,null,222,19,0.10052910052910052,-0.33318509685064684,null,null,222,{"$f":"COUNTIF(L7:L38,T14)","v":6},{"$f":"U14/(W4-U8)","v":0.21428571428571427},-0.47622694742923877,null,222,{"$f":"COUNTIF(L39:L69,Y14)","v":2},{"$f":"Z14/(AB4-Z8)","v":0.08},-0.29150849518197797,null,222,{"$f":"COUNTIF(L70:L101,AD14)","v":3},{"$f":"AE14/(AG4-AE8)","v":0.11538461538461539},-0.35947814047153104,null,222,{"$f":"COUNTIF(L102:L132,AI14)","v":4},{"$f":"AJ14/(AL4-AJ8)","v":0.16},-0.42301699036395596,null,222,{"$f":"COUNTIF(L133:L164,AN14)","v":4},{"$f":"AO14/(AQ4-AO8)","v":0.13793103448275862},-0.39420427519000989,null,222,{"$f":"COUNTIF(L165:L195,AS14)","v":0},{"$f":"AT14/(AV4-AT8)","v":0},0]
[11,957,11,970,21,990,null,null,null,null,0,112,null,null,null,{"$f":"SUM(P7:P14)","v":1},{"$f":"-SUM(Q7:Q14)","v":2.3872736871837605},null,null,null,null,{"$f":"SUM(V7:V14)","v":1},{"$f":"-SUM(W7:W14)","v":1.7458272644543351},null,null,null,{"$f":"SUM(AA7:AA14)","v":0.99999999999999989},{"$f":"-SUM(AB7:AB14)","v":2.2579065701049421},null,null,null,{"$f":"SUM(AF7:AF14)","v":1},{"$f":"-SUM(AG7:AG14)","v":1.6880351443926178},null,null,null,{"$f":"SUM(AK7:AK14)","v":1},{"$f":"-SUM(AL7:AL14)","v":1.8197218324096136},null,null,null,{"$f":"SUM(AP7:AP14)","v":1},{"$f":"-SUM(AQ7:AQ14)","v":2.2359430634962703},null,null,null,{"$f":"SUM(AU7:AU14)","v":1},{"$f":"-SUM(AV7:AV14)","v":1.0263137138648348}]
[22,1182,13,1195,23,1199,null,null,null,null,0,212,null,null,null,"U=",{"$f":"Q15/(LOG(Q4)/LOG(2))","v":0.31568330572656228},null,null,null,null,"U1=",{"$f":"W15/(LOG(W4)/LOG(2))","v":0.34916545289086703},null,null,null,"U2=",{"$f":"AB15/(LOG(AB4)/LOG(2))","v":0.45575637876340458},null,null,null,"U3=",{"$f":"AG15/(LOG(AG4)/LOG(2))","v":0.33760702887852356},null,null,null,"U4=",{"$f":"AL15/(LOG(AL4)/LOG(2))","v":0.36730918970538551},null,null,null,"U5=",{"$f":"AQ15/(LOG(AQ4)/LOG(2))","v":0.44718861269925403},null,null,null,"U6=",{"$f":"AV15/(LOG(AV4)/LOG(2))","v":0.20716048569029952}]
[11,1292,22,1301,23,1307,null,null,null,null,0,122]
[11,1404,11,1415,21,1457,null,null,null,null,0,112]
[22,1595,13,1601,23,1608,null,null,null,null,0,212,null,"Total Target Seq"]
[11,1703,22,1719,23,1745,null,null,null,null,0,122,null,{"$f":"COUNTIF(L7:L195,G3)","v":31},null,32,31,32,31,32,31]
[22,1851,24,1856,23,1867,null,null,null,null,0,222,null,null,null,"% of reinforcement given in 6 equal intervals based on number of trials "]
[11,1970,22,1984,23,1990,null,null,null,null,0,122,null,null,null,"%_1","%_2","%_3","%_4","%_5","%_6"]
[11,2091,22,2096,23,2102,null,null,null,null,0,122,null,null,"target sequence",{"$f":"$G$3","v":112},112,112,112,112,112]
[11,2203,22,2209,23,2216,null,null,null,null,0,122,null,null,"total reinforcement",{"$f":"U8","v":4},{"$f":"Z8","v":6},{"$f":"AE8","v":6},{"$f":"AJ8","v":6},{"$f":"AO8","v":3},{"$f":"AT8","v":6}]
[11,2314,22,2317,23,2319,null,null,null,null,0,122,null,null,"% target"]
[11,2417,22,2425,23,2432,null,null,null,null,0,122,null,null,"CCRF"]
[22,2542,13,2547,23,2554,null,null,null,null,0,212,null,null,"% CCRf"]
[11,2646,22,2670,14,2675,null,null,null,null,0,121,null,null,"average response rate",{"$f":"F38/P20","v":127.8125},{"$f":"(F69-F38)/Q20","v":124.64516129032258},{"$f":"(F101-F69)/R20","v":133.09375},{"$f":"(F132-F101)/S20","v":126.19354838709677},{"$f":"(F164-F132)/T20","v":122.03125},{"$f":"(F195-F164)/U20","v":125.25806451612904}]
[11,2767,11,2780,21,2831,null,null,null,null,0,112]
[11,2967,22,2993,23,3008,null,null,null,null,0,122]
[11,3273,22,3281,23,3288,null,null,null,null,0,122]
[22,3389,24,3395,23,3401,null,null,null,null,0,222]
[11,3495,22,3509,23,3515,null,null,null,null,0,122]
[22,3615,24,3620,23,3626,null,null,null,null,0,222]
[22,3732,24,3736,23,3742,null,null,null,null,0,222]
[11,3836,22,3853,23,3860,null,null,null,null,0,122]
[11,3953,22,3965,23,3973,null,null,null,null,0,122]
[11,4073,22,4080,23,4090,null,null,null,null,0,122]
[11,4188,11,4194,21,4202,null,null,null,null,0,112]
[11,4303,22,4306,14,4314,null,null,null,null,0,121]
[11,4419,11,4436,21,4442,null,null,null,null,0,112]
[11,4573,22,4586,23,4594,null,null,null,null,0,122]
[11,4698,22,4708,14,4716,null,null,null,null,0,121]
[11,4809,11,4815,21,4826,null,null,null,null,0,112]
[22,4990,13,4996,23,4999,null,null,null,null,0,212]
[11,5103,22,5115,14,5118,null,null,null,null,0,121]
[11,5214,11,5225,21,5231,null,null,null,null,0,112]
[11,5355,22,5361,23,5371,null,null,null,null,0,122]
[11,5464,11,5476,21,5485,null,null,null,null,0,112]
[22,5626,24,5652,23,5667,null,null,null,null,0,222]
[11,5762,22,5775,14,5779,null,null,null,null,0,121]
[22,5876,24,5880,14,5884,null,null,null,null,0,221]
[11,5981,22,5991,14,5997,null,null,null,null,0,121]
[22,6132,13,6134,23,6150,null,null,null,null,0,212]
[11,6243,22,6267,14,6274,null,null,null,null,0,121]
[11,6390,22,6401,14,6405,null,null,null,null,0,121]
[22,6516,24,6525,14,6531,null,null,null,null,0,221]
[11,6628,22,6640,14,6648,null,null,null,null,0,121]
[11,6744,22,6747,23,6753,null,null,null,null,0,122]
[22,6875,13,6881,23,6883,null,null,null,null,0,212]
[11,6975,22,6984,23,6991,null,null,null,null,0,122]
[11,7096,22,7101,23,7109,null,null,null,null,0,122]
[22,7214,13,7218,23,7221,null,null,null,null,0,212]
[22,7326,13,7329,23,7332,null,null,null,null,0,212]
[11,7425,11,7428,21,7439,null,null,null,null,0,112]
[11,7562,11,7578,12,7588,null,null,null,null,0,111]
[22,7693,24,7700,23,7710,null,null,null,null,0,222]
[11,7815,22,7827,14,7830,null,null,null,null,0,121]
[22,7947,13,7949,23,7954,null,null,null,null,0,212]
[11,8050,11,8061,21,8070,null,null,null,null,0,112]
[11,8165,22,8179,14,8183,null,null,null,null,0,121]
[11,8276,22,8295,23,8307,null,null,null,null,0,122]
[11,8420,22,8428,23,8437,null,null,null,null,0,122]
[11,8529,22,8539,23,8544,null,null,null,null,0,122]
[11,8639,11,8652,21,8661,null,null,null,null,0,112]
[11,8795,22,8809,23,8817,null,null,null,null,0,122]
[22,8927,24,8935,23,8941,null,null,null,null,0,222]
[11,9042,22,9049,14,9053,null,null,null,null,0,121]
[22,9154,24,9160,14,9164,null,null,null,null,0,221]
[11,9265,22,9276,14,9282,null,null,null,null,0,121]
[11,9382,22,9391,23,9398,null,null,null,null,0,122]
[22,9500,24,9506,23,9515,null,null,null,null,0,222]
[11,9619,22,9621,14,9625,null,null,null,null,0,121]
[11,9724,22,9728,23,9739,null,null,null,null,0,122]
[11,9842,22,9847,23,9858,null,null,null,null,0,122]
[22,9964,24,9972,14,9975,null,null,null,null,0,221]
[11,10074,22,10088,23,10094,null,null,null,null,0,122]
[11,10190,22,10201,23,10206,null,null,null,null,0,122]
[11,10301,22,10309,23,10317,null,null,null,null,0,122]
[11,10414,11,10418,21,10426,null,null,null,null,0,112]
[11,10865,22,10882,14,10891,null,null,null,null,0,121]
[11,10983,22,10997,14,11000,null,null,null,null,0,121]
[11,11100,22,11107,23,11113,null,null,null,null,0,122]
[11,11211,11,11219,21,11231,null,null,null,null,0,112]
[11,11338,11,11352,21,11360,null,null,null,null,0,112]
[11,11524,11,11536,21,11555,null,null,null,null,0,112]
[11,11714,22,11732,23,11744,null,null,null,null,0,122]
[22,11869,24,11873,14,11879,null,null,null,null,0,221]
[11,11975,22,11985,23,11990,null,null,null,null,0,122]
[22,12090,24,12098,23,12106,null,null,null,null,0,222]
[11,12204,22,12207,23,12213,null,null,null,null,0,122]
[11,12308,22,12313,23,12319,null,null,null,null,0,122]
[11,12415,11,12424,21,12435,null,null,null,null,0,112]
[11,12563,22,12575,23,12582,null,null,null,null,0,122]
[11,12678,11,12682,21,12693,null,null,null,null,0,112]
[11,12860,11,12865,21,12881,null,null,null,null,0,112]
[11,13051,11,13059,21,13075,null,null,null,null,0,112]
[22,13256,13,13260,14,13266,null,null,null,null,0,211]
[11,13357,22,13377,23,13391,null,null,null,null,0,122]
[22,13492,24,13498,23,13502,null,null,null,null,0,222]
[11,13598,22,13606,23,13612,null,null,null,null,0,122]
[22,13714,24,13720,23,13727,null,null,null,null,0,222]
[11,13825,22,13830,23,13836,null,null,null,null,0,122]
[11,13934,22,13945,23,13951,null,null,null,null,0,122]
[11,14047,22,14050,23,14061,null,null,null,null,0,122]
[22,14172,13,14178,23,14185,null,null,null,null,0,212]
[11,14285,22,14288,23,14294,null,null,null,null,0,122]
[22,14396,24,14403,23,14409,null,null,null,null,0,222]
[11,14511,22,14520,23,14528,null,null,null,null,0,122]
[11,14620,11,14630,21,14638,null,null,null,null,0,112]
[11,14745,11,14762,21,14765,null,null,null,null,0,112]
[11,14941,22,14953,14,14957,null,null,null,null,0,121]
[22,15093,24,15104,23,15112,null,null,null,null,0,222]
[22,15219,13,15223,23,15224,null,null,null,null,0,212]
[11,15326,22,15331,23,15342,null,null,null,null,0,122]
[11,15436,22,15439,23,15446,null,null,null,null,0,122]
[11,15556,22,15563,23,15569,null,null,null,null,0,122]
[11,15667,22,15673,23,15680,null,null,null,null,0,122]
[11,15773,22,15784,23,15792,null,null,null,null,0,122]
[11,15889,22,15899,23,15909,null,null,null,null,0,122]
[11,16007,22,16018,14,16022,null,null,null,null,0,121]
[11,16119,11,16123,12,16125,null,null,null,null,0,111]
[11,16260,11,16275,12,16279,null,null,null,null,0,111]
[11,16371,22,16393,23,16399,null,null,null,null,0,122]
[22,16499,24,16505,23,16511,null,null,null,null,0,222]
[11,16615,22,16622,23,16633,null,null,null,null,0,122]
[11,16728,22,16737,23,16739,null,null,null,null,0,122]
[11,16833,22,16853,23,16859,null,null,null,null,0,122]
[11,16953,22,16963,23,16972,null,null,null,null,0,122]
[22,17069,24,17075,23,17084,null,null,null,null,0,222]
[11,17186,22,17202,14,17206,null,null,null,null,0,121]
[22,17358,24,17363,14,17365,null,null,null,null,0,221]
[11,17461,22,17472,14,17477,null,null,null,null,0,121]
[11,17579,22,17588,23,17593,null,null,null,null,0,122]
[11,17690,22,17699,14,17704,null,null,null,null,0,121]
[11,17804,11,17811,21,17814,null,null,null,null,0,112]
[11,17936,22,17946,14,17953,null,null,null,null,0,121]
[11,18089,11,18091,21,18102,null,null,null,null,0,112]
[11,18190,11,18204,21,18219,null,null,null,null,0,112]
[22,18346,13,18351,23,18374,null,null,null,null,0,212]
[11,18466,22,18480,23,18493,null,null,null,null,0,122]
[22,18607,24,18612,23,18619,null,null,null,null,0,222]
[22,18728,24,18735,14,18738,null,null,null,null,0,221]
[11,18831,22,18836,23,18842,null,null,null,null,0,122]
[11,18933,11,18937,12,18940,null,null,null,null,0,111]
[11,19045,22,19058,14,19062,null,null,null,null,0,121]
[11,19158,22,19169,23,19176,null,null,null,null,0,122]
[11,19274,22,19322,14,19331,null,null,null,null,0,121]
[22,19427,24,19435,23,19444,null,null,null,null,0,222]
[11,19541,22,19544,23,19550,null,null,null,null,0,122]
[11,19645,11,19647,12,19649,null,null,null,null,0,111]
[11,19744,22,19751,23,19756,null,null,null,null,0,122]
[11,19860,22,19866,23,19879,null,null,null,null,0,122]
[22,20017,24,20028,14,20030,null,null,null,null,0,221]
[11,20129,22,20136,23,20143,null,null,null,null,0,122]
[11,20256,22,20276,23,20283,null,null,null,null,0,122]
[11,20375,11,20384,21,20396,null,null,null,null,0,112]
[11,20521,11,20540,21,20543,null,null,null,null,0,112]
[22,20705,13,20710,23,20720,null,null,null,null,0,212]
[22,20829,24,20835,14,20840,null,null,null,null,0,221]
[11,20941,22,20950,14,20957,null,null,null,null,0,121]
[11,21062,22,21073,23,21078,null,null,null,null,0,122]
[11,21173,22,21183,23,21189,null,null,null,null,0,122]
[11,21281,11,21287,21,21296,null,null,null,null,0,112]
[11,21411,22,21432,23,21438,null,null,null,null,0,122]
[11,21530,22,21542,23,21548,null,null,null,null,0,122]
[11,21644,22,21666,23,21673,null,null,null,null,0,122]
[11,21776,22,21785,23,21799,null,null,null,null,0,122]
[11,21901,22,21906,23,21913,null,null,null,null,0,122]
[11,22008,22,22012,23,22020,null,null,null,null,0,122]
[11,22119,11,22123,21,22133,null,null,null,null,0,112]
[11,22232,11,22238,21,22254,null,null,null,null,0,112]
[11,22515,22,22525,14,22532,null,null,null,null,0,121]
[11,22624,22,22635,23,22648,null,null,null,null,0,122]
[11,22742,22,22761,23,22767,null,null,null,null,0,122]
[11,22864,22,22873,23,22880,null,null,null,null,0,122]
[11,22978,22,22982,23,22987,null,null,null,null,0,122]
[11,23090,22,23097,23,23105,null,null,null,null,0,122]
[11,23200,11,23204,21,23213,null,null,null,null,0,112]
[11,23314,22,23326,23,23337,null,null,null,null,0,122]
[11,23440,22,23450,23,23462,null,null,null,null,0,122]
[11,23562,22,23576,23,23581,null,null,null,null,0,122]
[11,23678,22,23680,23,23685,null,null,null,null,0,122]
[11,23779,22,23794,23,23801,null,null,null,null,0,122]
[22,23907,13,23910,23,23913,null,null,null,null,null,212]

{"sheet":"!N115950.Gus","index":21,"n_rows":171,"n_cols":48,"rows_kept":171,"cut":false,"hidden":false,"merged":[[1,1,1,2],[5,13,5,14],[18,13,18,14],[19,13,19,14],[4,19,4,22],[5,19,5,20],[4,39,4,42],[5,39,5,40],[4,44,4,47],[5,44,5,45],[4,24,4,27],[5,24,5,25],[4,29,4,32],[5,29,5,30],[4,34,4,37],[5,34,5,35]]}
["Report for:!N115950.Gus"]
["Date:","<date>"]
["Hen:","<hen>",null,null,null,"Correct Sequence",{"$f":"Start!J2","v":112},null,null,null,null,null,null,null,null,"Total Sequences in Data",{"$f":"4994-COUNTBLANK(L7:L5000)","v":165},null,null,null,null,"Total Sequences in Block Data",{"$f":"COUNTA(L7:L34)","v":28},null,null,null,"Total Sequences in Block Data",{"$f":"COUNTA(L35:L61)","v":27},null,null,null,"Total Sequences in Block Data",{"$f":"COUNTA(L62:L89)","v":28},null,null,null,"Total Sequences in Block Data",{"$f":"COUNTA(L90:L116)","v":27},null,null,null,"Total Sequences in Block Data",{"$f":"COUNTA(L117:L144)","v":28},null,null,null,"Total Sequences in Block Data",{"$f":"COUNTA(L145:L171)","v":27}]
[null,null,null,null,null,null,null,null,null,null,null,null,null,null,null,"Total Sequences in Summary",{"$f":"SUM(O7:O14)","v":165},null,null,null,null,"Total Sequences in Block Summary",{"$f":"SUM(U7:U14)","v":28},null,null,null,"Total Sequences in Block Summary",{"$f":"SUM(Z7:Z14)","v":27},null,null,null,"Total Sequences in Block Summary",{"$f":"SUM(AE7:AE14)","v":28},null,null,null,"Total Sequences in Block Summary",{"$f":"SUM(AJ7:AJ14)","v":27},null,null,null,"Total Sequences in Block Summary",{"$f":"SUM(AO7:AO14)","v":28},null,null,null,"Total Sequences in Block Summary",{"$f":"SUM(AT7:AT14)","v":27}]
[null,null,null,null,null,null,null,null,null,null,null,null,null,null,null,null,null,null,null,"Block 1",null,null,null,null,"Block 2",null,null,null,null,"Block 3",null,null,null,null,"Block 4",null,null,null,null,"Block 5",null,null,null,null,"Block 6"]
["Sequence\nComponent\n1","Time\n1","Sequence\nComponent\n2","Time\n2","Sequence\nComponent\n3","Time\n3","Sequence\nComponent\n4","Time\n4","Sequence\nComponent\n5","Time\n5","Correct?\n0=No 1=Yes","Sequence",null,"Frequency",null,"Relative Frequency","Variability",null,null,"Frequency",null,"Relative Frequency","Variability",null,"Frequency",null,"Relative Frequency","Variability",null,"Frequency",null,"Relative Frequency","Variability",null,"Frequency",null,"Relative Frequency","Variability",null,"Frequency",null,"Relative Frequency","Variability",null,"Frequency",null,"Relative Frequency","Variability"]
[22,54,24,61,23,69,null,null,null,null,0,222,null,111,{"$f":"COUNTIF($L$7:$L$500,N7)","v":14},{"$f":"O7/$Q$4","v":8.4848484848484854E-2},{"$f":"IF(P7=0,0,(P7*((LOG(P7))/LOG(2))))","v":-0.30197298236748465},null,null,{"$f":"N7","v":111},{"$f":"COUNTIF(L7:L34,T7)","v":1},{"$f":"U7/(W4-U8)","v":4.7619047619047616E-2},{"$f":"IF(V7=0,0,(V7*((LOG(V7))/LOG(2))))","v":-0.20915797251327431},null,{"$f":"N7","v":111},{"$f":"COUNTIF(L35:L61,Y7)","v":0},{"$f":"Z7/(AB4-Z8)","v":0},{"$f":"IF(AA7=0,0,(AA7*((LOG(AA7))/LOG(2))))","v":0},null,{"$f":"N7","v":111},{"$f":"COUNTIF(L62:L89,AD7)","v":3},{"$f":"AE7/(AG4-AE8)","v":0.125},{"$f":"IF(AF7=0,0,(AF7*((LOG(AF7))/LOG(2))))","v":-0.375},null,{"$f":"N7","v":111},{"$f":"COUNTIF(L90:L116,AI7)","v":2},{"$f":"AJ7/(AL4-AJ8)","v":0.1111111111111111},{"$f":"IF(AK7=0,0,(AK7*((LOG(AK7))/LOG(2))))","v":-0.3522138890491458},null,{"$f":"N7","v":111},{"$f":"COUNTIF(L117:L144,AN7)","v":5},{"$f":"AO7/(AQ4-AO8)","v":0.2},{"$f":"IF(AP7=0,0,(AP7*((LOG(AP7))/LOG(2))))","v":-0.46438561897747244},null,{"$f":"N7","v":111},{"$f":"COUNTIF(L145:L171,AS7)","v":3},{"$f":"AT7/(AV4-AT8)","v":0.15789473684210525},{"$f":"IF(AU7=0,0,(AU7*((LOG(AU7))/LOG(2))))","v":-0.42046815990354147}]
[11,177,22,189,23,197,null,null,null,null,0,122,null,112,37,0.22424242424242424,-0.48366149938681235,null,null,112,{"$f":"COUNTIF(L7:L34,T8)","v":7},null,null,null,112,{"$f":"COUNTIF(L35:L61,Y8)","v":6},null,null,null,112,{"$f":"COUNTIF(L62:L89,AD8)","v":4},null,null,null,112,{"$f":"COUNTIF(L90:L116,AI8)","v":9},null,null,null,112,{"$f":"COUNTIF(L117:L144,AN8)","v":3},null,null,null,112,{"$f":"COUNTIF(L145:L171,AS8)","v":8}]
[11,304,22,308,23,318,null,null,null,null,0,122,null,121,16,9.696969696969697E-2,-0.32643124501777604,null,null,121,{"$f":"COUNTIF(L7:L34,T9)","v":3},{"$f":"U9/(W4-U8)","v":0.14285714285714285},{"$f":"IF(V9=0,0,(V9*((LOG(V9))/LOG(2))))","v":-0.40105070315108626},null,121,{"$f":"COUNTIF(L35:L61,Y9)","v":3},{"$f":"Z9/(AB4-Z8)","v":0.14285714285714285},{"$f":"IF(AA9=0,0,(AA9*((LOG(AA9))/LOG(2))))","v":-0.40105070315108626},null,121,{"$f":"COUNTIF(L62:L89,AD9)","v":0},{"$f":"AE9/(AG4-AE8)","v":0},{"$f":"IF(AF9=0,0,(AF9*((LOG(AF9))/LOG(2))))","v":0},null,121,{"$f":"COUNTIF(L90:L116,AI9)","v":2},{"$f":"AJ9/(AL4-AJ8)","v":0.1111111111111111},{"$f":"IF(AK9=0,0,(AK9*((LOG(AK9))/LOG(2))))","v":-0.3522138890491458},null,121,{"$f":"COUNTIF(L117:L144,AN9)","v":4},{"$f":"AO9/(AQ4-AO8)","v":0.16},{"$f":"IF(AP9=0,0,(AP9*((LOG(AP9))/LOG(2))))","v":-0.42301699036395596},null,121,{"$f":"COUNTIF(L145:L171,AS9)","v":4},{"$f":"AT9/(AV4-AT8)","v":0.21052631578947367},{"$f":"IF(AU9=0,0,(AU9*((LOG(AU9))/LOG(2))))","v":-0.47324789756707064}]
[11,428,22,434,23,440,null,null,null,null,0,122,null,122,83,0.50303030303030305,-0.49864527867035124,null,null,122,{"$f":"COUNTIF(L7:L34,T10)","v":15},{"$f":"U10/(W4-U8)","v":0.7142857142857143},-0.34673344797874411,null,122,{"$f":"COUNTIF(L35:L61,Y10)","v":14},{"$f":"Z10/(AB4-Z8)","v":0.66666666666666663},-0.38997500048077083,null,122,{"$f":"COUNTIF(L62:L89,AD10)","v":18},{"$f":"AE10/(AG4-AE8)","v":0.75},-0.31127812445913283,null,122,{"$f":"COUNTIF(L90:L116,AI10)","v":13},{"$f":"AJ10/(AL4-AJ8)","v":0.72222222222222221},-0.33907270460643685,null,122,{"$f":"COUNTIF(L117:L144,AN10)","v":12},{"$f":"AO10/(AQ4-AO8)","v":0.48},-0.50826897074571287,null,122,{"$f":"COUNTIF(L145:L171,AS10)","v":11},{"$f":"AT10/(AV4-AT8)","v":0.57894736842105265},-0.45649762330890375]
[11,547,22,563,23,569,null,null,null,null,0,122,null,211,0,0,0,null,null,211,{"$f":"COUNTIF(L7:L34,T11)","v":0},{"$f":"U11/(W4-U8)","v":0},0,null,211,{"$f":"COUNTIF(L35:L61,Y11)","v":0},{"$f":"Z11/(AB4-Z8)","v":0},0,null,211,{"$f":"COUNTIF(L62:L89,AD11)","v":0},{"$f":"AE11/(AG4-AE8)","v":0},0,null,211,{"$f":"COUNTIF(L90:L116,AI11)","v":0},{"$f":"AJ11/(AL4-AJ8)","v":0},0,null,211,{"$f":"COUNTIF(L117:L144,AN11)","v":0},{"$f":"AO11/(AQ4-AO8)","v":0},0,null,211,{"$f":"COUNTIF(L145:L171,AS11)","v":0},{"$f":"AT11/(AV4-AT8)","v":0},0]
[11,673,22,686,23,692,null,null,null,null,0,122,null,212,4,2.4242424242424242E-2,-0.13009265973929252,null,null,212,{"$f":"COUNTIF(L7:L34,T12)","v":1},{"$f":"U12/(W4-U8)","v":4.7619047619047616E-2},-0.20915797251327431,null,212,{"$f":"COUNTIF(L35:L61,Y12)","v":0},{"$f":"Z12/(AB4-Z8)","v":0},0,null,212,{"$f":"COUNTIF(L62:L89,AD12)","v":0},{"$f":"AE12/(AG4-AE8)","v":0},0,null,212,{"$f":"COUNTIF(L90:L116,AI12)","v":0},{"$f":"AJ12/(AL4-AJ8)","v":0},0,null,212,{"$f":"COUNTIF(L117:L144,AN12)","v":3},{"$f":"AO12/(AQ4-AO8)","v":0.12},-0.36706724268642821,null,212,{"$f":"COUNTIF(L145:L171,AS12)","v":0},{"$f":"AT12/(AV4-AT8)","v":0},0]
[11,786,22,796,23,800,null,null,null,null,0,122,null,221,1,6.0606060606060606E-3,-4.4644377056035252E-2,null,null,221,{"$f":"COUNTIF(L7:L34,T13)","v":0},{"$f":"U13/(W4-U8)","v":0},0,null,221,{"$f":"COUNTIF(L35:L61,Y13)","v":0},{"$f":"Z13/(AB4-Z8)","v":0},0,null,221,{"$f":"COUNTIF(L62:L89,AD13)","v":0},{"$f":"AE13/(AG4-AE8)","v":0},0,null,221,{"$f":"COUNTIF(L90:L116,AI13)","v":0},{"$f":"AJ13/(AL4-AJ8)","v":0},0,null,221,{"$f":"COUNTIF(L117:L144,AN13)","v":1},{"$f":"AO13/(AQ4-AO8)","v":0.04},-0.18575424759098899,null,221,{"$f":"COUNTIF(L145:L171,AS13)","v":0},{"$f":"AT13/(AV4-AT8)","v":0},0]
[11,918,22,929,23,939,null,null,null,null,0,122,null,222,10,6.0606060606060608E-2,-0.24511479511263354,null,null,222,{"$f":"COUNTIF(L7:L34,T14)","v":1},{"$f":"U14/(W4-U8)","v":4.7619047619047616E-2},-0.20915797251327431,null,222,{"$f":"COUNTIF(L35:L61,Y14)","v":4},{"$f":"Z14/(AB4-Z8)","v":0.19047619047619047},-0.4556795091007162,null,222,{"$f":"COUNTIF(L62:L89,AD14)","v":3},{"$f":"AE14/(AG4-AE8)","v":0.125},-0.375,null,222,{"$f":"COUNTIF(L90:L116,AI14)","v":1},{"$f":"AJ14/(AL4-AJ8)","v":5.5555555555555552E-2},-0.23166250008012845,null,222,{"$f":"COUNTIF(L117:L144,AN14)","v":0},{"$f":"AO14/(AQ4-AO8)","v":0},0,null,222,{"$f":"COUNTIF(L145:L171,AS14)","v":1},{"$f":"AT14/(AV4-AT8)","v":5.2631578947368418E-2},-0.22357513228650452]
[11,1038,22,1044,23,1049,null,null,null,null,0,122,null,null,null,{"$f":"SUM(P7:P14)","v":1.0000000000000002},{"$f":"-SUM(Q7:Q14)","v":2.0305628373503857},null,null,null,null,{"$f":"SUM(V7:V14)","v":1},{"$f":"-SUM(W7:W14)","v":1.3752580686696534},null,null,null,{"$f":"SUM(AA7:AA14)","v":1},{"$f":"-SUM(AB7:AB14)","v":1.2467052127325733},null,null,null,{"$f":"SUM(AF7:AF14)","v":1},{"$f":"-SUM(AG7:AG14)","v":1.0612781244591329},null,null,null,{"$f":"SUM(AK7:AK14)","v":1},{"$f":"-SUM(AL7:AL14)","v":1.275162982784857},null,null,null,{"$f":"SUM(AP7:AP14)","v":1},{"$f":"-SUM(AQ7:AQ14)","v":1.9484930703645584},null,null,null,{"$f":"SUM(AU7:AU14)","v":1},{"$f":"-SUM(AV7:AV14)","v":1.5737888130660205}]
[11,1146,22,1157,23,1162,null,null,null,null,0,122,null,null,null,"U=",{"$f":"Q15/(LOG(Q4)/LOG(2))","v":0.27565490326006331},null,null,null,null,"U1=",{"$f":"W15/(LOG(W4)/LOG(2))","v":0.28607375385569139},null,null,null,"U2=",{"$f":"AB15/(LOG(AB4)/LOG(2))","v":0.26219447088187131},null,null,null,"U3=",{"$f":"AG15/(LOG(AG4)/LOG(2))","v":0.2207613420822471},null,null,null,"U4=",{"$f":"AL15/(LOG(AL4)/LOG(2))","v":0.26817942216396484},null,null,null,"U5=",{"$f":"AQ15/(LOG(AQ4)/LOG(2))","v":0.40531500210735028},null,null,null,"U6=",{"$f":"AV15/(LOG(AV4)/LOG(2))","v":0.33098339600042026}]
[11,1255,11,1271,21,1276,null,null,null,null,0,112]
[11,1382,22,1393,23,1397,null,null,null,null,0,122]
[11,1497,11,1511,21,1517,null,null,null,null,0,112,null,"Total Target Seq"]
[11,1614,22,1625,23,1633,null,null,null,null,0,122,null,{"$f":"COUNTIF(L7:L171,G3)","v":37},null,28,27,28,27,28,27]
[11,1726,11,1737,12,1741,null,null,null,null,0,111,null,null,null,"% of reinforcement given in 6 equal intervals based on number of trials "]
[11,1847,22,1859,14,1864,null,null,null,null,0,121,null,null,null,"%_1","%_2","%_3","%_4","%_5","%_6"]
[11,1958,11,1963,21,1980,null,null,null,null,0,112,null,null,"target sequence",{"$f":"$G$3","v":112},112,112,112,112,112]
[11,2110,11,2126,21,2146,null,null,null,null,0,112,null,null,"total reinforcement",{"$f":"U8","v":7},{"$f":"Z8","v":6},{"$f":"AE8","v":4},{"$f":"AJ8","v":9},{"$f":"AO8","v":3},{"$f":"AT8","v":8}]
[11,2288,11,2303,21,2315,null,null,null,null,0,112,null,null,"% target"]
[11,2478,22,2495,14,2501,null,null,null,null,0,121,null,null,"CCRF"]
[11,2593,22,2601,23,2607,null,null,null,null,0,122,null,null,"% CCRf"]
[11,2702,11,2706,21,2719,null,null,null,null,0,112,null,null,"average response rate",{"$f":"F34/P20","v":123.32142857142857},{"$f":"(F61-F34)/Q20","v":132.55555555555554},{"$f":"(F89-F61)/R20","v":122},{"$f":"(F116-F89)/S20","v":145.92592592592592},{"$f":"(F144-F116)/T20","v":124.39285714285714},{"$f":"(F171-F144)/U20","v":138.55555555555554}]
[11,2845,22,2854,14,2862,null,null,null,null,0,121]
[22,2967,13,2972,23,2975,null,null,null,null,0,212]
[11,3069,11,3072,21,3088,null,null,null,null,0,112]
[11,3205,22,3227,23,3234,null,null,null,null,0,122]
[11,3331,22,3336,23,3342,null,null,null,null,0,122]
[11,3437,22,3446,23,3453,null,null,null,null,0,122]
[22,3561,24,3566,23,3573,null,null,null,null,0,222]
[11,3666,11,3669,21,3680,null,null,null,null,0,112]
[11,3810,22,3824,23,3840,null,null,null,null,0,122]
[11,3954,22,3964,23,3970,null,null,null,null,0,122]
[11,4070,22,4080,23,4087,null,null,null,null,0,122]
[11,4180,22,4192,23,4205,null,null,null,null,0,122]
[11,4302,22,4308,23,4317,null,null,null,null,0,122]
[22,4419,24,4426,23,4440,null,null,null,null,0,222]
[11,4534,22,4542,23,4548,null,null,null,null,0,122]
[11,4644,22,4654,14,4658,null,null,null,null,0,121]
[11,4751,11,4754,21,4769,null,null,null,null,0,112]
[11,4890,22,4918,23,4924,null,null,null,null,0,122]
[11,5024,22,5035,23,5044,null,null,null,null,0,122]
[11,5146,22,5158,14,5164,null,null,null,null,0,121]
[22,5276,24,5282,23,5292,null,null,null,null,0,222]
[11,5388,22,5392,23,5396,null,null,null,null,0,122]
[11,5492,22,5509,23,5516,null,null,null,null,0,122]
[11,5621,22,5625,23,5634,null,null,null,null,0,122]
[11,5737,11,5742,21,5760,null,null,null,null,0,112]
[11,5887,22,5898,23,5913,null,null,null,null,0,122]
[11,6007,11,6011,21,6035,null,null,null,null,0,112]
[11,6199,22,6209,23,6222,null,null,null,null,0,122]
[11,6327,22,6339,14,6344,null,null,null,null,0,121]
[22,6454,24,6460,23,6467,null,null,null,null,0,222]
[11,6562,11,6564,21,6570,null,null,null,null,0,112]
[11,6674,11,6690,21,6706,null,null,null,null,0,112]
[11,7000,22,7016,23,7032,null,null,null,null,0,122]
[11,7133,22,7141,23,7160,null,null,null,null,0,122]
[11,7259,22,7279,23,7288,null,null,null,null,0,122]
[22,7392,24,7400,23,7407,null,null,null,null,0,222]
[11,7500,11,7506,21,7510,null,null,null,null,0,112]
[22,7706,24,7714,23,7721,null,null,null,null,0,222]
[11,7813,22,7833,23,7839,null,null,null,null,0,122]
[11,7940,22,7952,23,7960,null,null,null,null,0,122]
[11,8065,22,8072,23,8079,null,null,null,null,0,122]
[11,8172,11,8175,21,8185,null,null,null,null,0,112]
[11,8281,22,8298,23,8306,null,null,null,null,0,122]
[11,8409,22,8412,23,8426,null,null,null,null,0,122]
[11,8520,22,8539,23,8545,null,null,null,null,0,122]
[11,8645,22,8653,23,8659,null,null,null,null,0,122]
[11,8756,11,8759,21,8770,null,null,null,null,0,112]
[11,8896,22,8925,23,8932,null,null,null,null,0,122]
[11,9025,22,9042,23,9048,null,null,null,null,0,122]
[11,9148,11,9152,21,9164,null,null,null,null,0,112]
[11,9277,22,9304,23,9311,null,null,null,null,0,122]
[11,9416,11,9420,12,9434,null,null,null,null,0,111]
[11,9530,22,9544,23,9551,null,null,null,null,0,122]
[11,9650,11,9652,12,9655,null,null,null,null,0,111]
[11,9748,22,9754,23,9761,null,null,null,null,0,122]
[11,9859,22,9865,23,9876,null,null,null,null,0,122]
[11,9972,11,9975,12,9980,null,null,null,null,0,111]
[22,10072,24,10077,23,10085,null,null,null,null,0,222]
[11,10181,22,10185,23,10192,null,null,null,null,0,122]
[11,10301,22,10320,23,10331,null,null,null,null,0,122]
[11,10435,22,10439,23,10448,null,null,null,null,0,122]
[11,10546,22,10549,23,10556,null,null,null,null,0,122]
[11,10656,11,10660,12,10663,null,null,null,null,0,111]
[11,10759,22,10764,23,10771,null,null,null,null,0,122]
[11,10867,11,10872,21,10883,null,null,null,null,0,112]
[11,11014,11,11022,21,11041,null,null,null,null,0,112]
[11,11177,22,11189,14,11192,null,null,null,null,0,121]
[11,11284,11,11295,21,11311,null,null,null,null,0,112]
[11,11481,22,11503,23,11519,null,null,null,null,0,122]
[11,11615,22,11628,23,11634,null,null,null,null,0,122]
[11,11748,11,11753,21,11761,null,null,null,null,0,112]
[11,11877,11,11887,21,11898,null,null,null,null,0,112]
[11,12066,22,12084,23,12091,null,null,null,null,0,122]
[11,12230,11,12233,21,12257,null,null,null,null,0,112]
[11,12499,22,12520,23,12532,null,null,null,null,0,122]
[22,12645,24,12657,23,12663,null,null,null,null,0,222]
[11,12761,22,12766,23,12769,null,null,null,null,0,122]
[11,12865,22,12879,23,12886,null,null,null,null,0,122]
[11,12986,22,12995,23,13002,null,null,null,null,0,122]
[11,13103,22,13111,23,13118,null,null,null,null,0,122]
[11,13214,22,13226,23,13234,null,null,null,null,0,122]
[11,13328,11,13332,21,13347,null,null,null,null,0,112]
[11,13473,11,13477,12,13502,null,null,null,null,0,111]
[11,13789,22,13803,23,13812,null,null,null,null,0,122]
[11,13915,22,13919,14,13925,null,null,null,null,0,121]
[11,14022,11,14026,21,14044,null,null,null,null,0,112]
[11,14158,11,14163,21,14180,null,null,null,null,0,112]
[11,14357,22,14370,23,14388,null,null,null,null,0,122]
[11,14491,22,14505,14,14510,null,null,null,null,0,121]
[11,14606,11,14608,12,14614,null,null,null,null,0,111]
[11,14707,11,14715,12,14720,null,null,null,null,0,111]
[22,14819,13,14822,23,14827,null,null,null,null,0,212]
[11,14921,22,14934,23,14941,null,null,null,null,0,122]
[11,15035,11,15041,12,15046,null,null,null,null,0,111]
[11,15145,22,15159,23,15167,null,null,null,null,0,122]
[22,15271,13,15273,23,15281,null,null,null,null,0,212]
[11,15382,22,15393,23,15406,null,null,null,null,0,122]
[22,15518,24,15525,14,15529,null,null,null,null,0,221]
[11,15667,22,15680,14,15688,null,null,null,null,0,121]
[11,15784,22,15802,23,15814,null,null,null,null,0,122]
[11,15923,22,15939,23,15946,null,null,null,null,0,122]
[11,16044,22,16049,14,16054,null,null,null,null,0,121]
[11,16154,22,16161,23,16170,null,null,null,null,0,122]
[11,16266,22,16276,14,16282,null,null,null,null,0,121]
[11,16375,11,16385,21,16388,null,null,null,null,0,112]
[11,16483,22,16494,23,16521,null,null,null,null,0,122]
[11,16613,11,16623,21,16637,null,null,null,null,0,112]
[11,16768,11,16786,21,16799,null,null,null,null,0,112]
[11,16957,22,16985,23,16993,null,null,null,null,0,122]
[11,17122,22,17139,23,17151,null,null,null,null,0,122]
[11,17253,11,17258,12,17277,null,null,null,null,0,111]
[22,17404,13,17416,23,17424,null,null,null,null,0,212]
[11,17521,22,17542,23,17549,null,null,null,null,0,122]
[11,17647,11,17650,12,17653,null,null,null,null,0,111]
[11,17749,22,17752,23,17761,null,null,null,null,0,122]
[11,17856,22,17864,23,17871,null,null,null,null,0,122]
[11,17964,22,17977,14,17981,null,null,null,null,0,121]
[11,18083,11,18088,12,18092,null,null,null,null,0,111]
[11,18188,11,18192,21,18205,null,null,null,null,0,112]
[11,18302,22,18320,23,18327,null,null,null,null,0,122]
[11,18422,11,18425,12,18430,null,null,null,null,0,111]
[11,18526,22,18533,14,18539,null,null,null,null,0,121]
[11,18635,22,18648,23,18655,null,null,null,null,0,122]
[11,18754,22,18764,23,18775,null,null,null,null,0,122]
[11,18875,11,18883,21,18886,null,null,null,null,0,112]
[11,18997,11,19001,21,19023,null,null,null,null,0,112]
[11,19291,22,19311,14,19315,null,null,null,null,0,121]
[11,19442,22,19456,23,19467,null,null,null,null,0,122]
[11,19561,11,19572,21,19578,null,null,null,null,0,112]
[11,19700,22,19712,23,19718,null,null,null,null,0,122]
[11,19817,11,19829,21,19833,null,null,null,null,0,112]
[11,20002,11,20007,21,20024,null,null,null,null,0,112]
[11,20350,22,20366,23,20379,null,null,null,null,0,122]
[11,20479,22,20492,23,20498,null,null,null,null,0,122]
[11,20594,11,20598,21,20608,null,null,null,null,0,112]
[11,20759,22,20765,23,20781,null,null,null,null,0,122]
[11,20878,22,20901,23,20918,null,null,null,null,0,122]
[11,21014,22,21030,23,21036,null,null,null,null,0,122]
[11,21141,22,21150,23,21167,null,null,null,null,0,122]
[11,21259,22,21277,14,21278,null,null,null,null,0,121]
[11,21376,11,21379,12,21382,null,null,null,null,0,111]
[22,21490,24,21498,23,21506,null,null,null,null,0,222]
[11,21598,11,21610,21,21612,null,null,null,null,1,112]

{"sheet":"!N116930.Gus","index":22,"n_rows":198,"n_cols":48,"rows_kept":198,"cut":false,"hidden":false,"merged":[[1,1,1,2],[5,13,5,14],[18,13,18,14],[19,13,19,14],[4,19,4,22],[5,19,5,20],[4,39,4,42],[5,39,5,40],[4,44,4,47],[5,44,5,45],[4,24,4,27],[5,24,5,25],[4,29,4,32],[5,29,5,30],[4,34,4,37],[5,34,5,35]]}
["Report for:!N116930.Gus"]
["Date:","<date>"]
["Hen:","<hen>",null,null,null,"Correct Sequence",{"$f":"Start!J2","v":112},null,null,null,null,null,null,null,null,"Total Sequences in Data",{"$f":"4994-COUNTBLANK(L7:L5000)","v":192},null,null,null,null,"Total Sequences in Block Data",{"$f":"COUNTA(L7:L38)","v":32},null,null,null,"Total Sequences in Block Data",{"$f":"COUNTA(L39:L70)","v":32},null,null,null,"Total Sequences in Block Data",{"$f":"COUNTA(L71:L102)","v":32},null,null,null,"Total Sequences in Block Data",{"$f":"COUNTA(L103:L134)","v":32},null,null,null,"Total Sequences in Block Data",{"$f":"COUNTA(L135:L166)","v":32},null,null,null,"Total Sequences in Block Data",{"$f":"COUNTA(L167:L198)","v":32}]
[null,null,null,null,null,null,null,null,null,null,null,null,null,null,null,"Total Sequences in Summary",{"$f":"SUM(O7:O14)","v":192},null,null,null,null,"Total Sequences in Block Summary",{"$f":"SUM(U7:U14)","v":32},null,null,null,"Total Sequences in Block Summary",{"$f":"SUM(Z7:Z14)","v":32},null,null,null,"Total Sequences in Block Summary",{"$f":"SUM(AE7:AE14)","v":32},null,null,null,"Total Sequences in Block Summary",{"$f":"SUM(AJ7:AJ14)","v":32},null,null,null,"Total Sequences in Block Summary",{"$f":"SUM(AO7:AO14)","v":32},null,null,null,"Total Sequences in Block Summary",{"$f":"SUM(AT7:AT14)","v":32}]
[null,null,null,null,null,null,null,null,null,null,null,null,null,null,null,null,null,null,null,"Block 1",null,null,null,null,"Block 2",null,null,null,null,"Block 3",null,null,null,null,"Block 4",null,null,null,null,"Block 5",null,null,null,null,"Block 6"]
["Sequence\nComponent\n1","Time\n1","Sequence\nComponent\n2","Time\n2","Sequence\nComponent\n3","Time\n3","Sequence\nComponent\n4","Time\n4","Sequence\nComponent\n5","Time\n5","Correct?\n0=No 1=Yes","Sequence",null,"Frequency",null,"Relative Frequency","Variability",null,null,"Frequency",null,"Relative Frequency","Variability",null,"Frequency",null,"Relative Frequency","Variability",null,"Frequency",null,"Relative Frequency","Variability",null,"Frequency",null,"Relative Frequency","Variability",null,"Frequency",null,"Relative Frequency","Variability",null,"Frequency",null,"Relative Frequency","Variability"]
[11,62,11,72,12,109,null,null,null,null,0,111,null,111,{"$f":"COUNTIF($L$7:$L$500,N7)","v":7},{"$f":"O7/$Q$4","v":3.6458333333333336E-2},{"$f":"IF(P7=0,0,(P7*((LOG(P7))/LOG(2))))","v":-0.17418360963877536},null,null,{"$f":"N7","v":111},{"$f":"COUNTIF(L7:L38,T7)","v":2},{"$f":"U7/(W4-U8)","v":7.6923076923076927E-2},{"$f":"IF(V7=0,0,(V7*((LOG(V7))/LOG(2))))","v":-0.28464920908777636},null,{"$f":"N7","v":111},{"$f":"COUNTIF(L39:L70,Y7)","v":0},{"$f":"Z7/(AB4-Z8)","v":0},{"$f":"IF(AA7=0,0,(AA7*((LOG(AA7))/LOG(2))))","v":0},null,{"$f":"N7","v":111},{"$f":"COUNTIF(L71:L102,AD7)","v":0},{"$f":"AE7/(AG4-AE8)","v":0},{"$f":"IF(AF7=0,0,(AF7*((LOG(AF7))/LOG(2))))","v":0},null,{"$f":"N7","v":111},{"$f":"COUNTIF(L103:L134,AI7)","v":0},{"$f":"AJ7/(AL4-AJ8)","v":0},{"$f":"IF(AK7=0,0,(AK7*((LOG(AK7))/LOG(2))))","v":0},null,{"$f":"N7","v":111},{"$f":"COUNTIF(L135:L166,AN7)","v":2},{"$f":"AO7/(AQ4-AO8)","v":6.8965517241379309E-2},{"$f":"IF(AP7=0,0,(AP7*((LOG(AP7))/LOG(2))))","v":-0.26606765483638428},null,{"$f":"N7","v":111},{"$f":"COUNTIF(L167:L198,AS7)","v":3},{"$f":"AT7/(AV4-AT8)","v":0.12},{"$f":"IF(AU7=0,0,(AU7*((LOG(AU7))/LOG(2))))","v":-0.36706724268642821}]
[11,221,22,226,23,232,null,null,null,null,0,122,null,112,31,0.16145833333333334,-0.42475912448105585,null,null,112,{"$f":"COUNTIF(L7:L38,T8)","v":6},null,null,null,112,{"$f":"COUNTIF(L39:L70,Y8)","v":6},null,null,null,112,{"$f":"COUNTIF(L71:L102,AD8)","v":5},null,null,null,112,{"$f":"COUNTIF(L103:L134,AI8)","v":4},null,null,null,112,{"$f":"COUNTIF(L135:L166,AN8)","v":3},null,null,null,112,{"$f":"COUNTIF(L167:L198,AS8)","v":7}]
[11,325,22,340,23,348,null,null,null,null,0,122,null,121,17,8.8541666666666671E-2,-0.30967444901564523,null,null,121,{"$f":"COUNTIF(L7:L38,T9)","v":1},{"$f":"U9/(W4-U8)","v":3.8461538461538464E-2},{"$f":"IF(V9=0,0,(V9*((LOG(V9))/LOG(2))))","v":-0.18078614300542661},null,121,{"$f":"COUNTIF(L39:L70,Y9)","v":0},{"$f":"Z9/(AB4-Z8)","v":0},{"$f":"IF(AA9=0,0,(AA9*((LOG(AA9))/LOG(2))))","v":0},null,121,{"$f":"COUNTIF(L71:L102,AD9)","v":2},{"$f":"AE9/(AG4-AE8)","v":7.407407407407407E-2},{"$f":"IF(AF9=0,0,(AF9*((LOG(AF9))/LOG(2))))","v":-0.27813981497507173},null,121,{"$f":"COUNTIF(L103:L134,AI9)","v":2},{"$f":"AJ9/(AL4-AJ8)","v":7.1428571428571425E-2},{"$f":"IF(AK9=0,0,(AK9*((LOG(AK9))/LOG(2))))","v":-0.27195392300411453},null,121,{"$f":"COUNTIF(L135:L166,AN9)","v":7},{"$f":"AO9/(AQ4-AO8)","v":0.2413793103448276},{"$f":"IF(AP9=0,0,(AP9*((LOG(AP9))/LOG(2))))","v":-0.49497870729275095},null,121,{"$f":"COUNTIF(L167:L198,AS9)","v":5},{"$f":"AT9/(AV4-AT8)","v":0.2},{"$f":"IF(AU9=0,0,(AU9*((LOG(AU9))/LOG(2))))","v":-0.46438561897747244}]
[11,447,22,455,23,464,null,null,null,null,0,122,null,122,95,0.49479166666666669,-0.5022664311305719,null,null,122,{"$f":"COUNTIF(L7:L38,T10)","v":16},{"$f":"U10/(W4-U8)","v":0.61538461538461542},-0.43103982654836437,null,122,{"$f":"COUNTIF(L39:L70,Y10)","v":18},{"$f":"Z10/(AB4-Z8)","v":0.69230769230769229},-0.36727941925300139,null,122,{"$f":"COUNTIF(L71:L102,AD10)","v":18},{"$f":"AE10/(AG4-AE8)","v":0.66666666666666663},-0.38997500048077083,null,122,{"$f":"COUNTIF(L103:L134,AI10)","v":21},{"$f":"AJ10/(AL4-AJ8)","v":0.75},-0.31127812445913283,null,122,{"$f":"COUNTIF(L135:L166,AN10)","v":12},{"$f":"AO10/(AQ4-AO8)","v":0.41379310344827586},-0.5267662735474824,null,122,{"$f":"COUNTIF(L167:L198,AS10)","v":10},{"$f":"AT10/(AV4-AT8)","v":0.4},-0.52877123795494496]
[11,559,22,566,23,574,null,null,null,null,0,122,null,211,1,5.208333333333333E-3,-3.950501302458935E-2,null,null,211,{"$f":"COUNTIF(L7:L38,T11)","v":0},{"$f":"U11/(W4-U8)","v":0},0,null,211,{"$f":"COUNTIF(L39:L70,Y11)","v":0},{"$f":"Z11/(AB4-Z8)","v":0},0,null,211,{"$f":"COUNTIF(L71:L102,AD11)","v":0},{"$f":"AE11/(AG4-AE8)","v":0},0,null,211,{"$f":"COUNTIF(L103:L134,AI11)","v":0},{"$f":"AJ11/(AL4-AJ8)","v":0},0,null,211,{"$f":"COUNTIF(L135:L166,AN11)","v":1},{"$f":"AO11/(AQ4-AO8)","v":3.4482758620689655E-2},-0.16751658603888178,null,211,{"$f":"COUNTIF(L167:L198,AS11)","v":0},{"$f":"AT11/(AV4-AT8)","v":0},0]
[11,681,11,683,21,694,null,null,null,null,0,112,null,212,12,6.25E-2,-0.25,null,null,212,{"$f":"COUNTIF(L7:L38,T12)","v":1},{"$f":"U12/(W4-U8)","v":3.8461538461538464E-2},-0.18078614300542661,null,212,{"$f":"COUNTIF(L39:L70,Y12)","v":2},{"$f":"Z12/(AB4-Z8)","v":7.6923076923076927E-2},-0.28464920908777636,null,212,{"$f":"COUNTIF(L71:L102,AD12)","v":2},{"$f":"AE12/(AG4-AE8)","v":7.407407407407407E-2},-0.27813981497507173,null,212,{"$f":"COUNTIF(L103:L134,AI12)","v":2},{"$f":"AJ12/(AL4-AJ8)","v":7.1428571428571425E-2},-0.27195392300411453,null,212,{"$f":"COUNTIF(L135:L166,AN12)","v":2},{"$f":"AO12/(AQ4-AO8)","v":6.8965517241379309E-2},-0.26606765483638428,null,212,{"$f":"COUNTIF(L167:L198,AS12)","v":3},{"$f":"AT12/(AV4-AT8)","v":0.12},-0.36706724268642821]
[11,792,22,803,23,810,null,null,null,null,0,122,null,221,5,2.6041666666666668E-2,-0.13705818765192171,null,null,221,{"$f":"COUNTIF(L7:L38,T13)","v":1},{"$f":"U13/(W4-U8)","v":3.8461538461538464E-2},-0.18078614300542661,null,221,{"$f":"COUNTIF(L39:L70,Y13)","v":0},{"$f":"Z13/(AB4-Z8)","v":0},0,null,221,{"$f":"COUNTIF(L71:L102,AD13)","v":1},{"$f":"AE13/(AG4-AE8)","v":3.7037037037037035E-2},-0.1761069445245729,null,221,{"$f":"COUNTIF(L103:L134,AI13)","v":0},{"$f":"AJ13/(AL4-AJ8)","v":0},0,null,221,{"$f":"COUNTIF(L135:L166,AN13)","v":1},{"$f":"AO13/(AQ4-AO8)","v":3.4482758620689655E-2},-0.16751658603888178,null,221,{"$f":"COUNTIF(L167:L198,AS13)","v":2},{"$f":"AT13/(AV4-AT8)","v":0.08},-0.29150849518197797]
[11,906,22,919,23,926,null,null,null,null,0,122,null,222,24,0.125,-0.375,null,null,222,{"$f":"COUNTIF(L7:L38,T14)","v":5},{"$f":"U14/(W4-U8)","v":0.19230769230769232},-0.45740608139494804,null,222,{"$f":"COUNTIF(L39:L70,Y14)","v":6},{"$f":"Z14/(AB4-Z8)","v":0.23076923076923078},-0.48818705017383146,null,222,{"$f":"COUNTIF(L71:L102,AD14)","v":4},{"$f":"AE14/(AG4-AE8)","v":0.14814814814814814},-0.40813148180199532,null,222,{"$f":"COUNTIF(L103:L134,AI14)","v":3},{"$f":"AJ14/(AL4-AJ8)","v":0.10714285714285714},-0.34525633085747659,null,222,{"$f":"COUNTIF(L135:L166,AN14)","v":4},{"$f":"AO14/(AQ4-AO8)","v":0.13793103448275862},-0.39420427519000989,null,222,{"$f":"COUNTIF(L167:L198,AS14)","v":2},{"$f":"AT14/(AV4-AT8)","v":0.08},-0.29150849518197797]
[11,1023,22,1040,23,1046,null,null,null,null,0,122,null,null,null,{"$f":"SUM(P7:P14)","v":1},{"$f":"-SUM(Q7:Q14)","v":2.2124468149425596},null,null,null,null,{"$f":"SUM(V7:V14)","v":1},{"$f":"-SUM(W7:W14)","v":1.7154535460473685},null,null,null,{"$f":"SUM(AA7:AA14)","v":1},{"$f":"-SUM(AB7:AB14)","v":1.1401156785146092},null,null,null,{"$f":"SUM(AF7:AF14)","v":1},{"$f":"-SUM(AG7:AG14)","v":1.5304930567574826},null,null,null,{"$f":"SUM(AK7:AK14)","v":0.99999999999999989},{"$f":"-SUM(AL7:AL14)","v":1.2004423013248384},null,null,null,{"$f":"SUM(AP7:AP14)","v":1},{"$f":"-SUM(AQ7:AQ14)","v":2.2831177377807759},null,null,null,{"$f":"SUM(AU7:AU14)","v":0.99999999999999989},{"$f":"-SUM(AV7:AV14)","v":2.31030833266923}]
[22,1155,24,1161,23,1168,null,null,null,null,0,222,null,null,null,"U=",{"$f":"Q15/(LOG(Q4)/LOG(2))","v":0.29168856335574589},null,null,null,null,"U1=",{"$f":"W15/(LOG(W4)/LOG(2))","v":0.34309070920947371},null,null,null,"U2=",{"$f":"AB15/(LOG(AB4)/LOG(2))","v":0.22802313570292182},null,null,null,"U3=",{"$f":"AG15/(LOG(AG4)/LOG(2))","v":0.30609861135149652},null,null,null,"U4=",{"$f":"AL15/(LOG(AL4)/LOG(2))","v":0.24008846026496769},null,null,null,"U5=",{"$f":"AQ15/(LOG(AQ4)/LOG(2))","v":0.4566235475561552},null,null,null,"U6=",{"$f":"AV15/(LOG(AV4)/LOG(2))","v":0.462061666533846}]
[22,1287,24,1291,23,1297,null,null,null,null,0,222]
[11,1393,22,1401,23,1412,null,null,null,null,0,122]
[22,1525,24,1530,14,1536,null,null,null,null,0,221,null,"Total Target Seq"]
[11,1626,22,1650,23,1658,null,null,null,null,0,122,null,{"$f":"COUNTIF(L7:L198,G3)","v":31},null,32,32,32,32,32,32]
[11,1761,11,1767,21,1779,null,null,null,null,0,112,null,null,null,"% of reinforcement given in 6 equal intervals based on number of trials "]
[11,1885,22,1892,23,1898,null,null,null,null,0,122,null,null,null,"%_1","%_2","%_3","%_4","%_5","%_6"]
[11,2001,22,2017,14,2020,null,null,null,null,0,121,null,null,"target sequence",{"$f":"$G$3","v":112},112,112,112,112,112]
[11,2119,22,2125,23,2134,null,null,null,null,0,122,null,null,"total reinforcement",{"$f":"U8","v":6},{"$f":"Z8","v":6},{"$f":"AE8","v":5},{"$f":"AJ8","v":4},{"$f":"AO8","v":3},{"$f":"AT8","v":7}]
[22,2242,24,2247,23,2253,null,null,null,null,0,222,null,null,"% target"]
[11,2354,22,2368,23,2380,null,null,null,null,0,122,null,null,"CCRF"]
[22,2484,13,2489,23,2495,null,null,null,null,0,212,null,null,"% CCRf"]
[11,2600,22,2613,23,2620,null,null,null,null,0,122,null,null,"average response rate",{"$f":"F38/P20","v":119.21875},{"$f":"(F70-F38)/Q20","v":120.9375},{"$f":"(F102-F70)/R20","v":119.96875},{"$f":"(F134-F102)/S20","v":123.84375},{"$f":"(F166-F134)/T20","v":128.28125},{"$f":"(F198-F166)/U20","v":133.71875}]
[11,2719,11,2728,21,2735,null,null,null,null,0,112]
[11,2823,11,2829,12,2832,null,null,null,null,0,111]
[22,2942,24,2956,23,2963,null,null,null,null,0,222]
[11,3064,11,3078,21,3083,null,null,null,null,0,112]
[11,3170,11,3180,21,3200,null,null,null,null,0,112]
[11,3315,22,3340,23,3348,null,null,null,null,0,122]
[22,3463,24,3471,23,3477,null,null,null,null,0,222]
[11,3579,22,3583,23,3595,null,null,null,null,0,122]
[11,3691,22,3701,23,3709,null,null,null,null,0,122]
[11,3803,11,3813,21,3815,null,null,null,null,0,112]
[11,3916,22,3922,23,3933,null,null,null,null,0,122]
[11,4038,22,4053,23,4059,null,null,null,null,0,122]
[11,4152,11,4163,21,4169,null,null,null,null,0,112]
[11,4284,22,4289,23,4303,null,null,null,null,0,122]
[11,4420,22,4435,23,4442,null,null,null,null,0,122]
[11,4534,11,4545,21,4554,null,null,null,null,0,112]
[22,4685,24,4698,23,4717,null,null,null,null,0,222]
[11,4811,11,4827,21,4831,null,null,null,null,0,112]
[11,4917,11,4933,21,4949,null,null,null,null,0,112]
[22,5100,13,5107,23,5113,null,null,null,null,0,212]
[22,5216,24,5219,23,5225,null,null,null,null,0,222]
[22,5328,13,5330,23,5336,null,null,null,null,0,212]
[22,5433,24,5440,23,5447,null,null,null,null,0,222]
[11,5540,22,5552,23,5559,null,null,null,null,0,122]
[11,5656,22,5659,23,5665,null,null,null,null,0,122]
[11,5765,22,5774,23,5779,null,null,null,null,0,122]
[22,5882,24,5893,23,5902,null,null,null,null,0,222]
[11,5999,22,6006,23,6009,null,null,null,null,0,122]
[11,6105,22,6114,23,6125,null,null,null,null,0,122]
[11,6221,22,6228,23,6234,null,null,null,null,0,122]
[11,6333,22,6338,23,6345,null,null,null,null,0,122]
[11,6438,11,6442,21,6453,null,null,null,null,0,112]
[11,6559,22,6563,23,6573,null,null,null,null,0,122]
[22,6692,24,6705,23,6712,null,null,null,null,0,222]
[11,6813,22,6822,23,6833,null,null,null,null,0,122]
[11,6934,22,6941,23,6954,null,null,null,null,0,122]
[11,7053,22,7067,23,7075,null,null,null,null,0,122]
[11,7166,11,7179,21,7185,null,null,null,null,0,112]
[11,7283,22,7296,23,7305,null,null,null,null,0,122]
[22,7437,24,7443,23,7446,null,null,null,null,0,222]
[11,7555,22,7566,23,7572,null,null,null,null,0,122]
[11,7673,22,7677,23,7685,null,null,null,null,0,122]
[11,7784,22,7787,23,7793,null,null,null,null,0,122]
[11,7888,22,7892,23,7899,null,null,null,null,0,122]
[11,7995,22,8006,14,8010,null,null,null,null,0,121]
[11,8106,22,8118,23,8125,null,null,null,null,0,122]
[22,8230,24,8236,23,8244,null,null,null,null,0,222]
[11,8338,11,8348,21,8359,null,null,null,null,0,112]
[11,8489,22,8493,23,8501,null,null,null,null,0,122]
[11,8600,22,8607,23,8612,null,null,null,null,0,122]
[11,8712,22,8726,23,8734,null,null,null,null,0,122]
[22,8847,24,8852,23,8858,null,null,null,null,0,222]
[11,8954,11,8959,21,8971,null,null,null,null,0,112]
[11,9072,22,9085,23,9105,null,null,null,null,0,122]
[11,9199,11,9207,21,9216,null,null,null,null,0,112]
[11,9349,22,9362,23,9371,null,null,null,null,0,122]
[22,9468,13,9477,23,9485,null,null,null,null,0,212]
[11,9581,22,9587,23,9592,null,null,null,null,0,122]
[11,9689,22,9702,23,9708,null,null,null,null,0,122]
[22,9817,24,9822,23,9828,null,null,null,null,0,222]
[22,9929,24,9936,14,9941,null,null,null,null,0,221]
[22,10047,13,10051,23,10057,null,null,null,null,0,212]
[22,10162,24,10168,23,10175,null,null,null,null,0,222]
[11,10277,22,10283,23,10290,null,null,null,null,0,122]
[11,10389,22,10396,23,10402,null,null,null,null,0,122]
[11,10504,22,10508,23,10518,null,null,null,null,0,122]
[11,10619,22,10631,23,10645,null,null,null,null,0,122]
[11,10753,22,10767,14,10772,null,null,null,null,0,121]
[11,10926,22,10936,23,10942,null,null,null,null,0,122]
[11,11038,22,11041,23,11047,null,null,null,null,0,122]
[11,11148,22,11152,23,11158,null,null,null,null,0,122]
[11,11259,22,11269,23,11275,null,null,null,null,0,122]
[11,11377,11,11381,21,11387,null,null,null,null,0,112]
[11,11500,11,11514,21,11524,null,null,null,null,0,112]
[11,11683,22,11691,23,11713,null,null,null,null,0,122]
[11,11816,22,11829,23,11833,null,null,null,null,0,122]
[11,11935,22,11945,23,11953,null,null,null,null,0,122]
[11,12054,22,12063,23,12070,null,null,null,null,0,122]
[11,12163,22,12174,23,12177,null,null,null,null,0,122]
[22,12298,13,12300,23,12304,null,null,null,null,0,212]
[11,12399,22,12406,23,12412,null,null,null,null,0,122]
[11,12504,22,12516,23,12522,null,null,null,null,0,122]
[11,12617,22,12621,23,12623,null,null,null,null,0,122]
[22,12723,13,12724,23,12728,null,null,null,null,0,212]
[22,12830,24,12835,23,12842,null,null,null,null,0,222]
[11,12937,22,12952,23,12959,null,null,null,null,0,122]
[11,13057,22,13063,23,13070,null,null,null,null,0,122]
[11,13173,22,13184,23,13197,null,null,null,null,0,122]
[11,13295,11,13299,21,13310,null,null,null,null,0,112]
[11,13410,22,13430,23,13438,null,null,null,null,0,122]
[11,13549,22,13570,23,13578,null,null,null,null,0,122]
[11,13679,11,13697,21,13714,null,null,null,null,0,112]
[11,13814,22,13827,23,13835,null,null,null,null,0,122]
[22,13963,24,13969,23,13986,null,null,null,null,0,222]
[11,14083,22,14092,23,14098,null,null,null,null,0,122]
[11,14190,11,14206,21,14207,null,null,null,null,0,112]
[11,14311,22,14326,23,14331,null,null,null,null,0,122]
[22,14453,24,14464,23,14471,null,null,null,null,0,222]
[11,14569,22,14581,14,14586,null,null,null,null,0,121]
[11,14688,22,14698,23,14710,null,null,null,null,0,122]
[11,14805,22,14819,23,14826,null,null,null,null,0,122]
[11,14925,11,14931,21,14936,null,null,null,null,0,112]
[11,15034,22,15049,23,15060,null,null,null,null,0,122]
[11,15174,22,15190,23,15197,null,null,null,null,0,122]
[11,15349,22,15355,23,15372,null,null,null,null,0,122]
[11,15471,22,15481,14,15487,null,null,null,null,0,121]
[11,15583,22,15588,23,15593,null,null,null,null,0,122]
[11,15697,22,15706,23,15712,null,null,null,null,0,122]
[11,15811,22,15814,23,15825,null,null,null,null,0,122]
[11,15929,22,15933,23,15944,null,null,null,null,0,122]
[22,16049,24,16053,23,16061,null,null,null,null,0,222]
[11,16155,22,16167,14,16171,null,null,null,null,0,121]
[11,16273,22,16285,23,16291,null,null,null,null,0,122]
[11,16386,22,16398,23,16404,null,null,null,null,0,122]
[11,16497,11,16500,12,16517,null,null,null,null,0,111]
[11,16627,22,16638,14,16645,null,null,null,null,0,121]
[11,16822,22,16835,23,16839,null,null,null,null,0,122]
[11,16946,22,16953,23,16959,null,null,null,null,0,122]
[22,17066,24,17073,23,17079,null,null,null,null,0,222]
[11,17182,11,17187,21,17198,null,null,null,null,0,112]
[11,17305,11,17321,21,17329,null,null,null,null,0,112]
[22,17522,13,17526,23,17543,null,null,null,null,0,212]
[11,17690,22,17706,14,17710,null,null,null,null,0,121]
[11,17812,22,17820,23,17827,null,null,null,null,0,122]
[22,17931,24,17937,14,17941,null,null,null,null,0,221]
[22,18045,13,18051,23,18058,null,null,null,null,0,212]
[11,18155,22,18157,14,18159,null,null,null,null,0,121]
[22,18257,24,18263,23,18273,null,null,null,null,0,222]
[11,18367,22,18372,14,18376,null,null,null,null,0,121]
[11,18470,11,18477,12,18481,null,null,null,null,0,111]
[11,18616,22,18635,23,18643,null,null,null,null,0,122]
[11,18745,22,18755,23,18761,null,null,null,null,0,122]
[22,18873,24,18879,23,18887,null,null,null,null,0,222]
[11,19005,22,19017,14,19023,null,null,null,null,0,121]
[11,19118,11,19121,21,19135,null,null,null,null,0,112]
[22,19291,13,19296,14,19302,null,null,null,null,0,211]
[11,19455,22,19471,14,19474,null,null,null,null,0,121]
[11,19578,22,19581,23,19592,null,null,null,null,0,122]
[11,19695,22,19701,23,19706,null,null,null,null,0,122]
[11,19805,11,19807,12,19810,null,null,null,null,0,111]
[22,19920,24,19926,23,19934,null,null,null,null,0,222]
[22,20033,24,20037,14,20041,null,null,null,null,0,221]
[22,20212,13,20216,23,20226,null,null,null,null,0,212]
[11,20344,22,20358,14,20362,null,null,null,null,0,121]
[11,20454,11,20458,21,20475,null,null,null,null,0,112]
[11,20582,22,20599,23,20604,null,null,null,null,0,122]
[11,20702,11,20706,12,20738,null,null,null,null,0,111]
[11,20835,22,20841,23,20847,null,null,null,null,0,122]
[11,20941,11,20945,21,20964,null,null,null,null,0,112]
[22,21141,13,21147,23,21152,null,null,null,null,0,212]
[11,21270,22,21285,14,21289,null,null,null,null,0,121]
[11,21391,22,21406,23,21412,null,null,null,null,0,122]
[11,21513,11,21517,21,21530,null,null,null,null,0,112]
[11,21645,22,21656,14,21663,null,null,null,null,0,121]
[11,21801,22,21820,23,21827,null,null,null,null,0,122]
[11,21928,22,21930,23,21936,null,null,null,null,0,122]
[22,22044,24,22050,14,22055,null,null,null,null,0,221]
[22,22160,13,22166,23,22174,null,null,null,null,0,212]
[11,22274,22,22282,23,22289,null,null,null,null,0,122]
[22,22394,24,22400,23,22406,null,null,null,null,0,222]
[11,22502,11,22506,12,22519,null,null,null,null,0,111]
[11,22633,11,22646,21,22659,null,null,null,null,0,112]
[11,22817,22,22835,23,22841,null,null,null,null,0,122]
[11,22957,22,22966,23,22973,null,null,null,null,0,122]
[11,23065,22,23081,14,23087,null,null,null,null,0,121]
[11,23186,22,23193,23,23200,null,null,null,null,0,122]
[11,23297,11,23311,21,23313,null,null,null,null,0,112]
[11,23451,22,23466,14,23471,null,null,null,null,0,121]
[11,23580,11,23583,21,23595,null,null,null,null,0,112]
[11,23849,11,23855,21,23871,null,null,null,null,0,112]

{"sheet":"!N117A00.Gus","index":23,"n_rows":162,"n_cols":48,"rows_kept":162,"cut":false,"hidden":false,"merged":[[1,1,1,2],[5,13,5,14],[18,13,18,14],[19,13,19,14],[4,19,4,22],[5,19,5,20],[4,39,4,42],[5,39,5,40],[4,44,4,47],[5,44,5,45],[4,24,4,27],[5,24,5,25],[4,29,4,32],[5,29,5,30],[4,34,4,37],[5,34,5,35]]}
["Report for:!N117A00.Gus"]
["Date:","<date>"]
["Hen:","<hen>",null,null,null,"Correct Sequence",{"$f":"Start!J2","v":112},null,null,null,null,null,null,null,null,"Total Sequences in Data",{"$f":"4994-COUNTBLANK(L7:L5000)","v":156},null,null,null,null,"Total Sequences in Block Data",{"$f":"COUNTA(L7:L32)","v":26},null,null,null,"Total Sequences in Block Data",{"$f":"COUNTA(L33:L58)","v":26},null,null,null,"Total Sequences in Block Data",{"$f":"COUNTA(L59:L84)","v":26},null,null,null,"Total Sequences in Block Data",{"$f":"COUNTA(L85:L110)","v":26},null,null,null,"Total Sequences in Block Data",{"$f":"COUNTA(L111:L136)","v":26},null,null,null,"Total Sequences in Block Data",{"$f":"COUNTA(L137:L162)","v":26}]
[null,null,null,null,null,null,null,null,null,null,null,null,null,null,null,"Total Sequences in Summary",{"$f":"SUM(O7:O14)","v":156},null,null,null,null,"Total Sequences in Block Summary",{"$f":"SUM(U7:U14)","v":26},null,null,null,"Total Sequences in Block Summary",{"$f":"SUM(Z7:Z14)","v":26},null,null,null,"Total Sequences in Block Summary",{"$f":"SUM(AE7:AE14)","v":26},null,null,null,"Total Sequences in Block Summary",{"$f":"SUM(AJ7:AJ14)","v":26},null,null,null,"Total Sequences in Block Summary",{"$f":"SUM(AO7:AO14)","v":26},null,null,null,"Total Sequences in Block Summary",{"$f":"SUM(AT7:AT14)","v":26}]
[null,null,null,null,null,null,null,null,null,null,null,null,null,null,null,null,null,null,null,"Block 1",null,null,null,null,"Block 2",null,null,null,null,"Block 3",null,null,null,null,"Block 4",null,null,null,null,"Block 5",null,null,null,null,"Block 6"]
["Sequence\nComponent\n1","Time\n1","Sequence\nComponent\n2","Time\n2","Sequence\nComponent\n3","Time\n3","Sequence\nComponent\n4","Time\n4","Sequence\nComponent\n5","Time\n5","Correct?\n0=No 1=Yes","Sequence",null,"Frequency",null,"Relative Frequency","Variability",null,null,"Frequency",null,"Relative Frequency","Variability",null,"Frequency",null,"Relative Frequency","Variability",null,"Frequency",null,"Relative Frequency","Variability",null,"Frequency",null,"Relative Frequency","Variability",null,"Frequency",null,"Relative Frequency","Variability",null,"Frequency",null,"Relative Frequency","Variability"]
[22,9,13,11,23,14,null,null,null,null,0,212,null,111,{"$f":"COUNTIF($L$7:$L$500,N7)","v":2},{"$f":"O7/$Q$4","v":1.282051282051282E-2},{"$f":"IF(P7=0,0,(P7*((LOG(P7))/LOG(2))))","v":-8.0582079729003178E-2},null,null,{"$f":"N7","v":111},{"$f":"COUNTIF(L7:L32,T7)","v":1},{"$f":"U7/(W4-U8)","v":4.5454545454545456E-2},{"$f":"IF(V7=0,0,(V7*((LOG(V7))/LOG(2))))","v":-0.20270143721078623},null,{"$f":"N7","v":111},{"$f":"COUNTIF(L33:L58,Y7)","v":0},{"$f":"Z7/(AB4-Z8)","v":0},{"$f":"IF(AA7=0,0,(AA7*((LOG(AA7))/LOG(2))))","v":0},null,{"$f":"N7","v":111},{"$f":"COUNTIF(L59:L84,AD7)","v":1},{"$f":"AE7/(AG4-AE8)","v":5.2631578947368418E-2},{"$f":"IF(AF7=0,0,(AF7*((LOG(AF7))/LOG(2))))","v":-0.22357513228650452},null,{"$f":"N7","v":111},{"$f":"COUNTIF(L85:L110,AI7)","v":0},{"$f":"AJ7/(AL4-AJ8)","v":0},{"$f":"IF(AK7=0,0,(AK7*((LOG(AK7))/LOG(2))))","v":0},null,{"$f":"N7","v":111},{"$f":"COUNTIF(L111:L136,AN7)","v":0},{"$f":"AO7/(AQ4-AO8)","v":0},{"$f":"IF(AP7=0,0,(AP7*((LOG(AP7))/LOG(2))))","v":0},null,{"$f":"N7","v":111},{"$f":"COUNTIF(L137:L162,AS7)","v":0},{"$f":"AT7/(AV4-AT8)","v":0},{"$f":"IF(AU7=0,0,(AU7*((LOG(AU7))/LOG(2))))","v":0}]
[11,110,22,118,23,129,null,null,null,null,0,122,null,112,33,0.21153846153846154,-0.4740594056642643,null,null,112,{"$f":"COUNTIF(L7:L32,T8)","v":4},null,null,null,112,{"$f":"COUNTIF(L33:L58,Y8)","v":3},null,null,null,112,{"$f":"COUNTIF(L59:L84,AD8)","v":7},null,null,null,112,{"$f":"COUNTIF(L85:L110,AI8)","v":7},null,null,null,112,{"$f":"COUNTIF(L111:L136,AN8)","v":6},null,null,null,112,{"$f":"COUNTIF(L137:L162,AS8)","v":6}]
[11,229,22,241,23,249,null,null,null,null,0,122,null,121,16,0.10256410256410256,-0.33696433013971777,null,null,121,{"$f":"COUNTIF(L7:L32,T9)","v":3},{"$f":"U9/(W4-U8)","v":0.13636363636363635},{"$f":"IF(V9=0,0,(V9*((LOG(V9))/LOG(2))))","v":-0.39197306153401923},null,121,{"$f":"COUNTIF(L33:L58,Y9)","v":3},{"$f":"Z9/(AB4-Z8)","v":0.13043478260869565},{"$f":"IF(AA9=0,0,(AA9*((LOG(AA9))/LOG(2))))","v":-0.3832955811307639},null,121,{"$f":"COUNTIF(L59:L84,AD9)","v":2},{"$f":"AE9/(AG4-AE8)","v":0.10526315789473684},{"$f":"IF(AF9=0,0,(AF9*((LOG(AF9))/LOG(2))))","v":-0.34188710667827216},null,121,{"$f":"COUNTIF(L85:L110,AI9)","v":3},{"$f":"AJ9/(AL4-AJ8)","v":0.15789473684210525},{"$f":"IF(AK9=0,0,(AK9*((LOG(AK9))/LOG(2))))","v":-0.42046815990354147},null,121,{"$f":"COUNTIF(L111:L136,AN9)","v":1},{"$f":"AO9/(AQ4-AO8)","v":0.05},{"$f":"IF(AP9=0,0,(AP9*((LOG(AP9))/LOG(2))))","v":-0.21609640474436814},null,121,{"$f":"COUNTIF(L137:L162,AS9)","v":4},{"$f":"AT9/(AV4-AT8)","v":0.2},{"$f":"IF(AU9=0,0,(AU9*((LOG(AU9))/LOG(2))))","v":-0.46438561897747244}]
[11,341,11,348,21,357,null,null,null,null,0,112,null,122,63,0.40384615384615385,-0.52828015774248016,null,null,122,{"$f":"COUNTIF(L7:L32,T10)","v":12},{"$f":"U10/(W4-U8)","v":0.54545454545454541},-0.47698315522698609,null,122,{"$f":"COUNTIF(L33:L58,Y10)","v":12},{"$f":"Z10/(AB4-Z8)","v":0.52173913043478259},-0.48970406365349045,null,122,{"$f":"COUNTIF(L59:L84,AD10)","v":8},{"$f":"AE10/(AG4-AE8)","v":0.42105263157894735},-0.52544316355519383,null,122,{"$f":"COUNTIF(L85:L110,AI10)","v":6},{"$f":"AJ10/(AL4-AJ8)","v":0.31578947368421051},-0.52514684612287243,null,122,{"$f":"COUNTIF(L111:L136,AN10)","v":13},{"$f":"AO10/(AQ4-AO8)","v":0.65},-0.40396744488507563,null,122,{"$f":"COUNTIF(L137:L162,AS10)","v":12},{"$f":"AT10/(AV4-AT8)","v":0.6},-0.44217935649972373]
[11,514,11,535,21,542,null,null,null,null,0,112,null,211,0,0,0,null,null,211,{"$f":"COUNTIF(L7:L32,T11)","v":0},{"$f":"U11/(W4-U8)","v":0},0,null,211,{"$f":"COUNTIF(L33:L58,Y11)","v":0},{"$f":"Z11/(AB4-Z8)","v":0},0,null,211,{"$f":"COUNTIF(L59:L84,AD11)","v":0},{"$f":"AE11/(AG4-AE8)","v":0},0,null,211,{"$f":"COUNTIF(L85:L110,AI11)","v":0},{"$f":"AJ11/(AL4-AJ8)","v":0},0,null,211,{"$f":"COUNTIF(L111:L136,AN11)","v":0},{"$f":"AO11/(AQ4-AO8)","v":0},0,null,211,{"$f":"COUNTIF(L137:L162,AS11)","v":0},{"$f":"AT11/(AV4-AT8)","v":0},0]
[11,685,22,699,23,703,null,null,null,null,0,122,null,212,18,0.11538461538461539,-0.35947814047153104,null,null,212,{"$f":"COUNTIF(L7:L32,T12)","v":4},{"$f":"U12/(W4-U8)","v":0.18181818181818182},-0.44716938520678134,null,212,{"$f":"COUNTIF(L33:L58,Y12)","v":4},{"$f":"Z12/(AB4-Z8)","v":0.17391304347826086},-0.43888034018382832,null,212,{"$f":"COUNTIF(L59:L84,AD12)","v":3},{"$f":"AE12/(AG4-AE8)","v":0.15789473684210525},-0.42046815990354147,null,212,{"$f":"COUNTIF(L85:L110,AI12)","v":5},{"$f":"AJ12/(AL4-AJ8)","v":0.26315789473684209},-0.50684195225163764,null,212,{"$f":"COUNTIF(L111:L136,AN12)","v":2},{"$f":"AO12/(AQ4-AO8)","v":0.1},-0.33219280948873625,null,212,{"$f":"COUNTIF(L137:L162,AS12)","v":0},{"$f":"AT12/(AV4-AT8)","v":0},0]
[11,803,22,820,14,824,null,null,null,null,0,121,null,221,3,1.9230769230769232E-2,-0.10962384073348255,null,null,221,{"$f":"COUNTIF(L7:L32,T13)","v":0},{"$f":"U13/(W4-U8)","v":0},0,null,221,{"$f":"COUNTIF(L33:L58,Y13)","v":1},{"$f":"Z13/(AB4-Z8)","v":4.3478260869565216E-2},-0.19667660678508753,null,221,{"$f":"COUNTIF(L59:L84,AD13)","v":2},{"$f":"AE13/(AG4-AE8)","v":0.10526315789473684},-0.34188710667827216,null,221,{"$f":"COUNTIF(L85:L110,AI13)","v":0},{"$f":"AJ13/(AL4-AJ8)","v":0},0,null,221,{"$f":"COUNTIF(L111:L136,AN13)","v":0},{"$f":"AO13/(AQ4-AO8)","v":0},0,null,221,{"$f":"COUNTIF(L137:L162,AS13)","v":0},{"$f":"AT13/(AV4-AT8)","v":0},0]
[11,927,22,939,23,949,null,null,null,null,0,122,null,222,21,0.13461538461538461,-0.38945372254970029,null,null,222,{"$f":"COUNTIF(L7:L32,T14)","v":2},{"$f":"U14/(W4-U8)","v":9.0909090909090912E-2},-0.31449378351248153,null,222,{"$f":"COUNTIF(L33:L58,Y14)","v":3},{"$f":"Z14/(AB4-Z8)","v":0.13043478260869565},-0.3832955811307639,null,222,{"$f":"COUNTIF(L59:L84,AD14)","v":3},{"$f":"AE14/(AG4-AE8)","v":0.15789473684210525},-0.42046815990354147,null,222,{"$f":"COUNTIF(L85:L110,AI14)","v":5},{"$f":"AJ14/(AL4-AJ8)","v":0.26315789473684209},-0.50684195225163764,null,222,{"$f":"COUNTIF(L111:L136,AN14)","v":4},{"$f":"AO14/(AQ4-AO8)","v":0.2},-0.46438561897747244,null,222,{"$f":"COUNTIF(L137:L162,AS14)","v":4},{"$f":"AT14/(AV4-AT8)","v":0.2},-0.46438561897747244]
[11,1063,22,1078,23,1083,null,null,null,null,0,122,null,null,null,{"$f":"SUM(P7:P14)","v":1.0000000000000002},{"$f":"-SUM(Q7:Q14)","v":2.2784416770301794},null,null,null,null,{"$f":"SUM(V7:V14)","v":1},{"$f":"-SUM(W7:W14)","v":1.8333208226910542},null,null,null,{"$f":"SUM(AA7:AA14)","v":1},{"$f":"-SUM(AB7:AB14)","v":1.8918521728839341},null,null,null,{"$f":"SUM(AF7:AF14)","v":1},{"$f":"-SUM(AG7:AG14)","v":2.2737288290053259},null,null,null,{"$f":"SUM(AK7:AK14)","v":1},{"$f":"-SUM(AL7:AL14)","v":1.9592989105296892},null,null,null,{"$f":"SUM(AP7:AP14)","v":1},{"$f":"-SUM(AQ7:AQ14)","v":1.4166422780956525},null,null,null,{"$f":"SUM(AU7:AU14)","v":1},{"$f":"-SUM(AV7:AV14)","v":1.3709505944546687}]
[11,1182,22,1194,14,1196,null,null,null,null,0,121,null,null,null,"U=",{"$f":"Q15/(LOG(Q4)/LOG(2))","v":0.3127406845336812},null,null,null,null,"U1=",{"$f":"W15/(LOG(W4)/LOG(2))","v":0.39003176992472688},null,null,null,"U2=",{"$f":"AB15/(LOG(AB4)/LOG(2))","v":0.40248408368741195},null,null,null,"U3=",{"$f":"AG15/(LOG(AG4)/LOG(2))","v":0.48372683522139281},null,null,null,"U4=",{"$f":"AL15/(LOG(AL4)/LOG(2))","v":0.41683311094659536},null,null,null,"U5=",{"$f":"AQ15/(LOG(AQ4)/LOG(2))","v":0.30138505396169607},null,null,null,"U6=",{"$f":"AV15/(LOG(AV4)/LOG(2))","v":0.29166432858686803}]
[11,1289,11,1297,21,1319,null,null,null,null,0,112]
[11,1443,11,1457,12,1461,null,null,null,null,0,111]
[22,1557,13,1565,23,1574,null,null,null,null,0,212,null,"Total Target Seq"]
[11,1667,22,1683,23,1692,null,null,null,null,0,122,null,{"$f":"COUNTIF(L7:L162,G3)","v":33},null,26,26,26,26,26,26]
[11,1791,22,1796,23,1805,null,null,null,null,0,122,null,null,null,"% of reinforcement given in 6 equal intervals based on number of trials "]
[11,1909,22,1912,23,1917,null,null,null,null,0,122,null,null,null,"%_1","%_2","%_3","%_4","%_5","%_6"]
[11,2020,22,2029,23,2037,null,null,null,null,0,122,null,null,"target sequence",{"$f":"$G$3","v":112},112,112,112,112,112]
[11,2137,22,2150,23,2158,null,null,null,null,0,122,null,null,"total reinforcement",{"$f":"U8","v":4},{"$f":"Z8","v":3},{"$f":"AE8","v":7},{"$f":"AJ8","v":7},{"$f":"AO8","v":6},{"$f":"AT8","v":6}]
[22,2264,24,2276,23,2285,null,null,null,null,0,222,null,null,"% target"]
[11,2398,11,2415,21,2427,null,null,null,null,0,112,null,null,"CCRF"]
[22,2584,13,2587,23,2622,null,null,null,null,0,212,null,null,"% CCRf"]
[22,2735,13,2739,23,2744,null,null,null,null,0,212,null,null,"average response rate",{"$f":"F32/P20","v":123.23076923076923},{"$f":"(F58-F32)/Q20","v":120.42307692307692},{"$f":"(F84-F58)/R20","v":129.57692307692307},{"$f":"(F110-F84)/S20","v":137.07692307692307},{"$f":"(F136-F110)/T20","v":134.46153846153845},{"$f":"(F162-F136)/U20","v":130.42307692307693}]
[11,2840,22,2856,14,2862,null,null,null,null,0,121]
[22,2973,24,2976,23,2982,null,null,null,null,0,222]
[11,3075,22,3088,23,3094,null,null,null,null,0,122]
[11,3188,22,3197,23,3204,null,null,null,null,0,122]
[11,3298,22,3322,23,3328,null,null,null,null,0,122]
[11,3420,11,3428,21,3436,null,null,null,null,0,112]
[11,3529,22,3542,14,3547,null,null,null,null,0,121]
[11,3663,22,3677,23,3683,null,null,null,null,0,122]
[22,3802,24,3814,23,3824,null,null,null,null,0,222]
[11,3921,11,3925,21,3934,null,null,null,null,0,112]
[11,4045,22,4059,23,4076,null,null,null,null,0,122]
[11,4177,22,4189,14,4194,null,null,null,null,0,121]
[11,4297,22,4312,23,4318,null,null,null,null,0,122]
[11,4426,11,4435,21,4445,null,null,null,null,0,112]
[11,4538,22,4544,23,4558,null,null,null,null,0,122]
[22,4663,24,4673,23,4687,null,null,null,null,0,222]
[11,4782,22,4792,23,4799,null,null,null,null,0,122]
[11,4891,22,4906,23,4912,null,null,null,null,0,122]
[22,5019,13,5032,23,5040,null,null,null,null,0,212]
[11,5140,22,5149,23,5155,null,null,null,null,0,122]
[22,5255,24,5261,14,5268,null,null,null,null,0,221]
[11,5362,22,5367,23,5379,null,null,null,null,0,122]
[22,5515,13,5522,23,5542,null,null,null,null,0,212]
[11,5636,22,5649,14,5654,null,null,null,null,0,121]
[11,5753,22,5764,23,5772,null,null,null,null,0,122]
[22,5876,13,5882,23,5884,null,null,null,null,0,212]
[22,5981,24,5987,23,5994,null,null,null,null,0,222]
[22,6095,13,6102,23,6109,null,null,null,null,0,212]
[11,6205,22,6218,23,6223,null,null,null,null,0,122]
[11,6325,22,6329,23,6335,null,null,null,null,0,122]
[11,6428,22,6442,14,6446,null,null,null,null,0,121]
[11,6542,11,6545,21,6558,null,null,null,null,0,112]
[11,6653,11,6672,21,6678,null,null,null,null,0,112]
[11,6830,22,6841,14,6846,null,null,null,null,0,121]
[11,6940,22,6975,23,6997,null,null,null,null,0,122]
[11,7091,11,7101,21,7106,null,null,null,null,0,112]
[11,7224,11,7238,21,7262,null,null,null,null,0,112]
[11,7413,22,7425,23,7445,null,null,null,null,0,122]
[11,7539,22,7550,23,7557,null,null,null,null,0,122]
[11,7658,22,7672,23,7682,null,null,null,null,0,122]
[22,7790,24,7795,14,7802,null,null,null,null,0,221]
[11,7905,22,7917,23,7924,null,null,null,null,0,122]
[11,8026,11,8029,21,8039,null,null,null,null,0,112]
[11,8135,11,8141,21,8151,null,null,null,null,0,112]
[11,8297,22,8306,23,8317,null,null,null,null,0,122]
[11,8419,22,8425,23,8430,null,null,null,null,0,122]
[22,8530,24,8535,23,8541,null,null,null,null,0,222]
[22,8758,24,8763,14,8769,null,null,null,null,0,221]
[22,8866,13,8870,23,8872,null,null,null,null,0,212]
[11,8969,11,8978,12,8984,null,null,null,null,0,111]
[11,9082,11,9085,21,9095,null,null,null,null,0,112]
[22,9187,13,9200,23,9218,null,null,null,null,0,212]
[22,9340,13,9347,23,9349,null,null,null,null,0,212]
[11,9448,22,9460,23,9466,null,null,null,null,0,122]
[22,9571,24,9578,23,9583,null,null,null,null,0,222]
[22,9683,24,9688,23,9704,null,null,null,null,0,222]
[22,9819,13,9826,23,9828,null,null,null,null,0,212]
[22,9926,24,9933,23,9939,null,null,null,null,0,222]
[22,10040,24,10045,23,10051,null,null,null,null,0,222]
[11,10146,22,10159,23,10166,null,null,null,null,0,122]
[22,10271,24,10278,23,10286,null,null,null,null,0,222]
[11,10379,11,10390,21,10393,null,null,null,null,0,112]
[11,10481,11,10490,21,10532,null,null,null,null,0,112]
[11,10653,11,10669,21,10681,null,null,null,null,0,112]
[22,11017,24,11031,23,11040,null,null,null,null,0,222]
[11,11144,22,11160,14,11163,null,null,null,null,0,121]
[11,11258,11,11275,21,11283,null,null,null,null,0,112]
[22,11422,13,11427,23,11450,null,null,null,null,0,212]
[22,11590,24,11596,23,11602,null,null,null,null,0,222]
[11,11704,11,11718,21,11724,null,null,null,null,0,112]
[11,11865,22,11874,23,11885,null,null,null,null,0,122]
[11,11978,11,11982,21,11991,null,null,null,null,0,112]
[11,12096,22,12109,23,12119,null,null,null,null,0,122]
[11,12225,22,12235,23,12244,null,null,null,null,0,122]
[22,12343,13,12348,23,12352,null,null,null,null,0,212]
[11,12447,22,12453,23,12458,null,null,null,null,0,122]
[11,12549,22,12567,23,12574,null,null,null,null,0,122]
[11,12668,11,12676,21,12686,null,null,null,null,0,112]
[22,12907,13,12911,23,12922,null,null,null,null,0,212]
[11,13014,22,13027,14,13031,null,null,null,null,0,121]
[11,13139,22,13154,14,13159,null,null,null,null,0,121]
[22,13259,13,13262,23,13268,null,null,null,null,0,212]
[11,13366,11,13374,21,13377,null,null,null,null,0,112]
[11,13492,22,13499,23,13507,null,null,null,null,0,122]
[11,13629,22,13644,23,13650,null,null,null,null,0,122]
[11,13759,22,13762,23,13768,null,null,null,null,0,122]
[22,13872,24,13878,23,13886,null,null,null,null,0,222]
[22,13988,13,13991,23,13994,null,null,null,null,0,212]
[11,14087,22,14102,23,14122,null,null,null,null,0,122]
[11,14218,22,14227,14,14231,null,null,null,null,0,121]
[11,14333,22,14337,23,14345,null,null,null,null,0,122]
[11,14442,11,14445,21,14461,null,null,null,null,0,112]
[11,14573,11,14579,21,14586,null,null,null,null,0,112]
[11,14781,11,14786,21,14789,null,null,null,null,0,112]
[22,15164,24,15177,23,15184,null,null,null,null,0,222]
[11,15283,22,15294,23,15301,null,null,null,null,0,122]
[11,15402,22,15416,23,15429,null,null,null,null,0,122]
[22,15533,24,15538,23,15545,null,null,null,null,0,222]
[11,15638,11,15643,21,15662,null,null,null,null,0,112]
[22,15799,13,15806,23,15813,null,null,null,null,0,212]
[11,15920,22,15932,23,15940,null,null,null,null,0,122]
[11,16037,11,16040,21,16049,null,null,null,null,0,112]
[11,16180,22,16182,23,16192,null,null,null,null,0,122]
[22,16291,24,16297,23,16303,null,null,null,null,0,222]
[11,16404,22,16420,23,16428,null,null,null,null,0,122]
[11,16529,22,16534,23,16540,null,null,null,null,0,122]
[11,16635,22,16638,23,16645,null,null,null,null,0,122]
[11,16742,22,16751,23,16764,null,null,null,null,0,122]
[11,16857,22,16870,14,16876,null,null,null,null,0,121]
[11,16969,11,16977,21,16988,null,null,null,null,0,112]
[11,17116,11,17133,21,17153,null,null,null,null,0,112]
[22,17330,24,17341,23,17352,null,null,null,null,0,222]
[11,17451,22,17454,23,17459,null,null,null,null,0,122]
[11,17563,22,17583,23,17590,null,null,null,null,0,122]
[22,17701,24,17706,23,17713,null,null,null,null,0,222]
[11,17807,22,17817,23,17825,null,null,null,null,0,122]
[11,17916,11,17926,21,17946,null,null,null,null,0,112]
[22,18109,24,18119,23,18127,null,null,null,null,0,222]
[11,18226,22,18232,23,18239,null,null,null,null,0,122]
[11,18331,22,18377,14,18381,null,null,null,null,0,121]
[11,18474,11,18478,21,18486,null,null,null,null,0,112]
[11,18647,22,18656,23,18663,null,null,null,null,0,122]
[11,18781,22,18795,23,18803,null,null,null,null,0,122]
[11,18939,22,18950,23,18957,null,null,null,null,0,122]
[11,19054,11,19057,21,19067,null,null,null,null,0,112]
[11,19159,22,19171,14,19178,null,null,null,null,0,121]
[11,19278,22,19283,23,19290,null,null,null,null,0,122]
[11,19419,22,19435,23,19441,null,null,null,null,0,122]
[11,19540,22,19552,23,19562,null,null,null,null,0,122]
[11,19658,22,19664,23,19669,null,null,null,null,0,122]
[11,19762,22,19769,14,19772,null,null,null,null,0,121]
[22,19893,24,19909,23,19920,null,null,null,null,0,222]
[11,20017,22,20034,23,20039,null,null,null,null,0,122]
[11,20139,11,20141,21,20155,null,null,null,null,1,112]

{"sheet":"!N118A00.Gus","index":24,"n_rows":143,"n_cols":48,"rows_kept":143,"cut":false,"hidden":false,"merged":[[1,1,1,2],[5,13,5,14],[18,13,18,14],[19,13,19,14],[4,19,4,22],[5,19,5,20],[4,39,4,42],[5,39,5,40],[4,44,4,47],[5,44,5,45],[4,24,4,27],[5,24,5,25],[4,29,4,32],[5,29,5,30],[4,34,4,37],[5,34,5,35]]}
["Report for:!N118A00.Gus"]
["Date:","<date>"]
["Hen:","<hen>",null,null,null,"Correct Sequence",{"$f":"Start!J2","v":112},null,null,null,null,null,null,null,null,"Total Sequences in Data",{"$f":"4994-COUNTBLANK(L7:L5000)","v":137},null,null,null,null,"Total Sequences in Block Data",{"$f":"COUNTA(L7:L29)","v":23},null,null,null,"Total Sequences in Block Data",{"$f":"COUNTA(L30:L52)","v":23},null,null,null,"Total Sequences in Block Data",{"$f":"COUNTA(L53:L74)","v":22},null,null,null,"Total Sequences in Block Data",{"$f":"COUNTA(L75:L97)","v":23},null,null,null,"Total Sequences in Block Data",{"$f":"COUNTA(L98:L120)","v":23},null,null,null,"Total Sequences in Block Data",{"$f":"COUNTA(L121:L143)","v":23}]
[null,null,null,null,null,null,null,null,null,null,null,null,null,null,null,"Total Sequences in Summary",{"$f":"SUM(O7:O14)","v":137},null,null,null,null,"Total Sequences in Block Summary",{"$f":"SUM(U7:U14)","v":23},null,null,null,"Total Sequences in Block Summary",{"$f":"SUM(Z7:Z14)","v":23},null,null,null,"Total Sequences in Block Summary",{"$f":"SUM(AE7:AE14)","v":22},null,null,null,"Total Sequences in Block Summary",{"$f":"SUM(AJ7:AJ14)","v":23},null,null,null,"Total Sequences in Block Summary",{"$f":"SUM(AO7:AO14)","v":23},null,null,null,"Total Sequences in Block Summary",{"$f":"SUM(AT7:AT14)","v":23}]
[null,null,null,null,null,null,null,null,null,null,null,null,null,null,null,null,null,null,null,"Block 1",null,null,null,null,"Block 2",null,null,null,null,"Block 3",null,null,null,null,"Block 4",null,null,null,null,"Block 5",null,null,null,null,"Block 6"]
["Sequence\nComponent\n1","Time\n1","Sequence\nComponent\n2","Time\n2","Sequence\nComponent\n3","Time\n3","Sequence\nComponent\n4","Time\n4","Sequence\nComponent\n5","Time\n5","Correct?\n0=No 1=Yes","Sequence",null,"Frequency",null,"Relative Frequency","Variability",null,null,"Frequency",null,"Relative Frequency","Variability",null,"Frequency",null,"Relative Frequency","Variability",null,"Frequency",null,"Relative Frequency","Variability",null,"Frequency",null,"Relative Frequency","Variability",null,"Frequency",null,"Relative Frequency","Variability",null,"Frequency",null,"Relative Frequency","Variability"]
[22,21,13,30,14,35,null,null,null,null,0,211,null,111,{"$f":"COUNTIF($L$7:$L$500,N7)","v":5},{"$f":"O7/$Q$4","v":3.6496350364963501E-2},{"$f":"IF(P7=0,0,(P7*((LOG(P7))/LOG(2))))","v":-0.17431036452821766},null,null,{"$f":"N7","v":111},{"$f":"COUNTIF(L7:L29,T7)","v":0},{"$f":"U7/(W4-U8)","v":0},{"$f":"IF(V7=0,0,(V7*((LOG(V7))/LOG(2))))","v":0},null,{"$f":"N7","v":111},{"$f":"COUNTIF(L30:L52,Y7)","v":1},{"$f":"Z7/(AB4-Z8)","v":5.5555555555555552E-2},{"$f":"IF(AA7=0,0,(AA7*((LOG(AA7))/LOG(2))))","v":-0.23166250008012845},null,{"$f":"N7","v":111},{"$f":"COUNTIF(L53:L74,AD7)","v":0},{"$f":"AE7/(AG4-AE8)","v":0},{"$f":"IF(AF7=0,0,(AF7*((LOG(AF7))/LOG(2))))","v":0},null,{"$f":"N7","v":111},{"$f":"COUNTIF(L75:L97,AI7)","v":2},{"$f":"AJ7/(AL4-AJ8)","v":0.125},{"$f":"IF(AK7=0,0,(AK7*((LOG(AK7))/LOG(2))))","v":-0.375},null,{"$f":"N7","v":111},{"$f":"COUNTIF(L98:L120,AN7)","v":1},{"$f":"AO7/(AQ4-AO8)","v":5.5555555555555552E-2},{"$f":"IF(AP7=0,0,(AP7*((LOG(AP7))/LOG(2))))","v":-0.23166250008012845},null,{"$f":"N7","v":111},{"$f":"COUNTIF(L121:L143,AS7)","v":1},{"$f":"AT7/(AV4-AT8)","v":5.8823529411764705E-2},{"$f":"IF(AU7=0,0,(AU7*((LOG(AU7))/LOG(2))))","v":-0.24043899066178465}]
[22,134,24,151,23,158,null,null,null,null,0,222,null,112,36,0.26277372262773724,-0.50665587543544321,null,null,112,{"$f":"COUNTIF(L7:L29,T8)","v":4},null,null,null,112,{"$f":"COUNTIF(L30:L52,Y8)","v":5},null,null,null,112,{"$f":"COUNTIF(L53:L74,AD8)","v":9},null,null,null,112,{"$f":"COUNTIF(L75:L97,AI8)","v":7},null,null,null,112,{"$f":"COUNTIF(L98:L120,AN8)","v":5},null,null,null,112,{"$f":"COUNTIF(L121:L143,AS8)","v":6}]
[22,269,24,276,23,296,null,null,null,null,0,222,null,121,11,8.0291970802919707E-2,-0.29215040224493083,null,null,121,{"$f":"COUNTIF(L7:L29,T9)","v":1},{"$f":"U9/(W4-U8)","v":5.2631578947368418E-2},{"$f":"IF(V9=0,0,(V9*((LOG(V9))/LOG(2))))","v":-0.22357513228650452},null,121,{"$f":"COUNTIF(L30:L52,Y9)","v":1},{"$f":"Z9/(AB4-Z8)","v":5.5555555555555552E-2},{"$f":"IF(AA9=0,0,(AA9*((LOG(AA9))/LOG(2))))","v":-0.23166250008012845},null,121,{"$f":"COUNTIF(L53:L74,AD9)","v":2},{"$f":"AE9/(AG4-AE8)","v":0.15384615384615385},{"$f":"IF(AF9=0,0,(AF9*((LOG(AF9))/LOG(2))))","v":-0.4154522643293988},null,121,{"$f":"COUNTIF(L75:L97,AI9)","v":4},{"$f":"AJ9/(AL4-AJ8)","v":0.25},{"$f":"IF(AK9=0,0,(AK9*((LOG(AK9))/LOG(2))))","v":-0.5},null,121,{"$f":"COUNTIF(L98:L120,AN9)","v":2},{"$f":"AO9/(AQ4-AO8)","v":0.1111111111111111},{"$f":"IF(AP9=0,0,(AP9*((LOG(AP9))/LOG(2))))","v":-0.3522138890491458},null,121,{"$f":"COUNTIF(L121:L143,AS9)","v":1},{"$f":"AT9/(AV4-AT8)","v":5.8823529411764705E-2},{"$f":"IF(AU9=0,0,(AU9*((LOG(AU9))/LOG(2))))","v":-0.24043899066178465}]
[22,404,24,410,14,415,null,null,null,null,0,221,null,122,69,0.5036496350364964,-0.49836515479257432,null,null,122,{"$f":"COUNTIF(L7:L29,T10)","v":13},{"$f":"U10/(W4-U8)","v":0.68421052631578949},-0.37459691257539013,null,122,{"$f":"COUNTIF(L30:L52,Y10)","v":15},{"$f":"Z10/(AB4-Z8)","v":0.83333333333333337},-0.21919533819482812,null,122,{"$f":"COUNTIF(L53:L74,AD10)","v":9},{"$f":"AE10/(AG4-AE8)","v":0.69230769230769229},-0.36727941925300139,null,122,{"$f":"COUNTIF(L75:L97,AI10)","v":9},{"$f":"AJ10/(AL4-AJ8)","v":0.5625},-0.4669171866886993,null,122,{"$f":"COUNTIF(L98:L120,AN10)","v":12},{"$f":"AO10/(AQ4-AO8)","v":0.66666666666666663},-0.38997500048077083,null,122,{"$f":"COUNTIF(L121:L143,AS10)","v":11},{"$f":"AT10/(AV4-AT8)","v":0.6470588235294118},-0.40637314404373309]
[11,537,11,558,21,564,null,null,null,null,0,112,null,211,1,7.2992700729927005E-3,-5.1810453160295811E-2,null,null,211,{"$f":"COUNTIF(L7:L29,T11)","v":1},{"$f":"U11/(W4-U8)","v":5.2631578947368418E-2},-0.22357513228650452,null,211,{"$f":"COUNTIF(L30:L52,Y11)","v":0},{"$f":"Z11/(AB4-Z8)","v":0},0,null,211,{"$f":"COUNTIF(L53:L74,AD11)","v":0},{"$f":"AE11/(AG4-AE8)","v":0},0,null,211,{"$f":"COUNTIF(L75:L97,AI11)","v":0},{"$f":"AJ11/(AL4-AJ8)","v":0},0,null,211,{"$f":"COUNTIF(L98:L120,AN11)","v":0},{"$f":"AO11/(AQ4-AO8)","v":0},0,null,211,{"$f":"COUNTIF(L121:L143,AS11)","v":0},{"$f":"AT11/(AV4-AT8)","v":0},0]
[11,1015,11,1023,21,1037,null,null,null,null,0,112,null,212,3,2.1897810218978103E-2,-0.12072415143589862,null,null,212,{"$f":"COUNTIF(L7:L29,T12)","v":1},{"$f":"U12/(W4-U8)","v":5.2631578947368418E-2},-0.22357513228650452,null,212,{"$f":"COUNTIF(L30:L52,Y12)","v":0},{"$f":"Z12/(AB4-Z8)","v":0},0,null,212,{"$f":"COUNTIF(L53:L74,AD12)","v":0},{"$f":"AE12/(AG4-AE8)","v":0},0,null,212,{"$f":"COUNTIF(L75:L97,AI12)","v":1},{"$f":"AJ12/(AL4-AJ8)","v":6.25E-2},-0.25,null,212,{"$f":"COUNTIF(L98:L120,AN12)","v":1},{"$f":"AO12/(AQ4-AO8)","v":5.5555555555555552E-2},-0.23166250008012845,null,212,{"$f":"COUNTIF(L121:L143,AS12)","v":0},{"$f":"AT12/(AV4-AT8)","v":0},0]
[11,1194,22,1222,23,1254,null,null,null,null,0,122,null,221,2,1.4598540145985401E-2,-8.9022366174606238E-2,null,null,221,{"$f":"COUNTIF(L7:L29,T13)","v":1},{"$f":"U13/(W4-U8)","v":5.2631578947368418E-2},-0.22357513228650452,null,221,{"$f":"COUNTIF(L30:L52,Y13)","v":0},{"$f":"Z13/(AB4-Z8)","v":0},0,null,221,{"$f":"COUNTIF(L53:L74,AD13)","v":0},{"$f":"AE13/(AG4-AE8)","v":0},0,null,221,{"$f":"COUNTIF(L75:L97,AI13)","v":0},{"$f":"AJ13/(AL4-AJ8)","v":0},0,null,221,{"$f":"COUNTIF(L98:L120,AN13)","v":0},{"$f":"AO13/(AQ4-AO8)","v":0},0,null,221,{"$f":"COUNTIF(L121:L143,AS13)","v":1},{"$f":"AT13/(AV4-AT8)","v":5.8823529411764705E-2},-0.24043899066178465]
[11,1360,22,1375,14,1380,null,null,null,null,0,121,null,222,10,7.2992700729927001E-2,-0.27562802832650835,null,null,222,{"$f":"COUNTIF(L7:L29,T14)","v":2},{"$f":"U14/(W4-U8)","v":0.10526315789473684},-0.34188710667827216,null,222,{"$f":"COUNTIF(L30:L52,Y14)","v":1},{"$f":"Z14/(AB4-Z8)","v":5.5555555555555552E-2},-0.23166250008012845,null,222,{"$f":"COUNTIF(L53:L74,AD14)","v":2},{"$f":"AE14/(AG4-AE8)","v":0.15384615384615385},-0.4154522643293988,null,222,{"$f":"COUNTIF(L75:L97,AI14)","v":0},{"$f":"AJ14/(AL4-AJ8)","v":0},0,null,222,{"$f":"COUNTIF(L98:L120,AN14)","v":2},{"$f":"AO14/(AQ4-AO8)","v":0.1111111111111111},-0.3522138890491458,null,222,{"$f":"COUNTIF(L121:L143,AS14)","v":3},{"$f":"AT14/(AV4-AT8)","v":0.17647058823529413},-0.44161770715220888]
[11,1480,22,1500,23,1511,null,null,null,null,0,122,null,null,null,{"$f":"SUM(P7:P14)","v":1},{"$f":"-SUM(Q7:Q14)","v":2.008666796098475},null,null,null,null,{"$f":"SUM(V7:V14)","v":0.99999999999999989},{"$f":"-SUM(W7:W14)","v":1.6107845483996805},null,null,null,{"$f":"SUM(AA7:AA14)","v":1},{"$f":"-SUM(AB7:AB14)","v":0.91418283843521353},null,null,null,{"$f":"SUM(AF7:AF14)","v":1},{"$f":"-SUM(AG7:AG14)","v":1.1981839479117991},null,null,null,{"$f":"SUM(AK7:AK14)","v":1},{"$f":"-SUM(AL7:AL14)","v":1.5919171866886992},null,null,null,{"$f":"SUM(AP7:AP14)","v":1},{"$f":"-SUM(AQ7:AQ14)","v":1.5577277787393191},null,null,null,{"$f":"SUM(AU7:AU14)","v":1},{"$f":"-SUM(AV7:AV14)","v":1.569307823181296}]
[11,1615,22,1625,23,1632,null,null,null,null,0,122,null,null,null,"U=",{"$f":"Q15/(LOG(Q4)/LOG(2))","v":0.28298925288326926},null,null,null,null,"U1=",{"$f":"W15/(LOG(W4)/LOG(2))","v":0.35608765040630269},null,null,null,"U2=",{"$f":"AB15/(LOG(AB4)/LOG(2))","v":0.20209358185337334},null,null,null,"U3=",{"$f":"AG15/(LOG(AG4)/LOG(2))","v":0.26868535059585402},null,null,null,"U4=",{"$f":"AL15/(LOG(AL4)/LOG(2))","v":0.35191674219408775},null,null,null,"U5=",{"$f":"AQ15/(LOG(AQ4)/LOG(2))","v":0.34435866997544584},null,null,null,"U6=",{"$f":"AV15/(LOG(AV4)/LOG(2))","v":0.34691860936711733}]
[11,1734,22,1745,23,1755,null,null,null,null,0,122]
[11,1855,22,1871,23,1892,null,null,null,null,0,122]
[11,1993,11,1997,21,2006,null,null,null,null,0,112,null,"Total Target Seq"]
[11,2166,22,2180,23,2193,null,null,null,null,0,122,null,{"$f":"COUNTIF(L7:L143,G3)","v":36},null,23,23,22,23,23,23]
[11,2286,22,2316,23,2320,null,null,null,null,0,122,null,null,null,"% of reinforcement given in 6 equal intervals based on number of trials "]
[11,2425,22,2437,23,2445,null,null,null,null,0,122,null,null,null,"%_1","%_2","%_3","%_4","%_5","%_6"]
[11,2539,22,2553,23,2559,null,null,null,null,0,122,null,null,"target sequence",{"$f":"$G$3","v":112},112,112,112,112,112]
[11,2658,22,2667,23,2675,null,null,null,null,0,122,null,null,"total reinforcement",{"$f":"U8","v":4},{"$f":"Z8","v":5},{"$f":"AE8","v":9},{"$f":"AJ8","v":7},{"$f":"AO8","v":5},{"$f":"AT8","v":6}]
[11,2768,11,2783,21,2790,null,null,null,null,0,112,null,null,"% target"]
[11,2892,22,2909,23,2915,null,null,null,null,0,122,null,null,"CCRF"]
[22,3028,13,3032,23,3034,null,null,null,null,0,212,null,null,"% CCRf"]
[11,3143,22,3153,23,3164,null,null,null,null,0,122,null,null,"average response rate",{"$f":"F29/P20","v":144.39130434782609},{"$f":"(F52-F29)/Q20","v":142.7391304347826},{"$f":"(F74-F52)/R20","v":148.68181818181819},{"$f":"(F97-F74)/S20","v":130.43478260869566},{"$f":"(F120-F97)/T20","v":136.04347826086956},{"$f":"(F143-F120)/U20","v":139.82608695652175}]
[11,3299,22,3305,23,3321,null,null,null,null,0,122]
[11,3417,22,3426,23,3439,null,null,null,null,0,122]
[11,3540,11,3543,21,3557,null,null,null,null,0,112]
[11,3696,11,3712,21,3729,null,null,null,null,0,112]
[11,3972,22,3992,23,4004,null,null,null,null,0,122]
[11,4105,22,4117,23,4126,null,null,null,null,0,122]
[11,4234,22,4240,23,4247,null,null,null,null,0,122]
[22,4348,24,4352,23,4366,null,null,null,null,0,222]
[11,4461,22,4479,23,4487,null,null,null,null,0,122]
[11,4582,11,4585,21,4598,null,null,null,null,0,112]
[11,4710,22,4717,23,4730,null,null,null,null,0,122]
[11,4859,11,4881,21,4887,null,null,null,null,0,112]
[11,5022,22,5029,23,5043,null,null,null,null,0,122]
[11,5142,11,5159,12,5168,null,null,null,null,0,111]
[11,5306,22,5317,23,5325,null,null,null,null,0,122]
[11,5427,11,5444,21,5452,null,null,null,null,0,112]
[11,5677,22,5691,23,5700,null,null,null,null,0,122]
[11,5809,22,5819,23,5828,null,null,null,null,0,122]
[11,5950,22,5968,23,5974,null,null,null,null,0,122]
[11,6113,22,6126,14,6133,null,null,null,null,0,121]
[11,6228,22,6233,23,6243,null,null,null,null,0,122]
[11,6346,22,6350,23,6363,null,null,null,null,0,122]
[11,6460,22,6477,23,6491,null,null,null,null,0,122]
[11,6592,22,6598,23,6604,null,null,null,null,0,122]
[11,6700,11,6708,21,6718,null,null,null,null,0,112]
[11,6850,11,6865,21,6869,null,null,null,null,0,112]
[11,7162,11,7169,21,7228,null,null,null,null,0,112]
[11,7356,22,7364,23,7377,null,null,null,null,0,122]
[11,7483,11,7500,21,7510,null,null,null,null,0,112]
[11,7640,11,7655,21,7685,null,null,null,null,0,112]
[11,7820,22,7836,23,7844,null,null,null,null,0,122]
[11,7943,22,7950,23,7956,null,null,null,null,0,122]
[11,8051,22,8071,23,8078,null,null,null,null,0,122]
[11,8170,11,8181,21,8187,null,null,null,null,0,112]
[11,8278,11,8291,21,8308,null,null,null,null,0,112]
[11,8452,22,8454,23,8467,null,null,null,null,0,122]
[22,8580,24,8598,23,8606,null,null,null,null,0,222]
[22,8715,24,8723,23,8730,null,null,null,null,0,222]
[11,8825,22,8834,23,8842,null,null,null,null,0,122]
[11,8946,22,8958,23,8966,null,null,null,null,0,122]
[11,9057,22,9070,14,9072,null,null,null,null,0,121]
[11,9179,22,9182,23,9194,null,null,null,null,0,122]
[11,9292,22,9297,23,9313,null,null,null,null,0,122]
[11,9407,11,9413,21,9417,null,null,null,null,0,112]
[11,9562,11,9577,21,9590,null,null,null,null,0,112]
[11,9848,22,9861,14,9875,null,null,null,null,0,121]
[11,9990,22,10010,23,10018,null,null,null,null,0,122]
[11,10120,22,10127,23,10131,null,null,null,null,0,122]
[11,10226,22,10235,23,10241,null,null,null,null,0,122]
[11,10338,22,10350,23,10356,null,null,null,null,0,122]
[11,10450,22,10454,14,10460,null,null,null,null,0,121]
[11,10551,11,10554,21,10570,null,null,null,null,0,112]
[11,10671,11,10687,21,10693,null,null,null,null,0,112]
[11,10821,22,10830,23,10850,null,null,null,null,0,122]
[11,10942,11,10956,21,10966,null,null,null,null,0,112]
[11,11126,22,11131,23,11142,null,null,null,null,0,122]
[11,11250,22,11261,14,11268,null,null,null,null,0,121]
[11,11366,11,11372,21,11386,null,null,null,null,0,112]
[11,11497,22,11510,23,11524,null,null,null,null,0,122]
[11,11618,22,11637,14,11646,null,null,null,null,0,121]
[11,11743,11,11746,12,11772,null,null,null,null,0,111]
[11,11865,11,11876,21,11881,null,null,null,null,0,112]
[11,11969,11,11983,21,11991,null,null,null,null,0,112]
[11,12187,22,12205,14,12221,null,null,null,null,0,121]
[11,12331,11,12351,21,12360,null,null,null,null,0,112]
[22,12521,13,12526,23,12535,null,null,null,null,0,212]
[11,12628,11,12645,12,12653,null,null,null,null,0,111]
[11,12745,22,12752,23,12759,null,null,null,null,0,122]
[11,12854,22,12868,23,12875,null,null,null,null,0,122]
[11,12969,22,12976,23,12982,null,null,null,null,0,122]
[11,13083,11,13086,21,13094,null,null,null,null,0,112]
[11,13228,22,13235,23,13244,null,null,null,null,0,122]
[11,13338,11,13342,21,13361,null,null,null,null,0,112]
[22,13522,13,13535,23,13546,null,null,null,null,0,212]
[11,13651,22,13663,23,13673,null,null,null,null,0,122]
[22,13781,24,13787,23,13793,null,null,null,null,0,222]
[22,13899,24,13906,23,13913,null,null,null,null,0,222]
[11,14012,22,14026,23,14035,null,null,null,null,0,122]
[11,14130,11,14134,21,14152,null,null,null,null,0,112]
[11,14316,22,14325,23,14336,null,null,null,null,0,122]
[11,14458,22,14478,23,14490,null,null,null,null,0,122]
[11,14589,22,14601,14,14604,null,null,null,null,0,121]
[11,14797,11,14803,21,14816,null,null,null,null,0,112]
[11,14979,22,15007,23,15017,null,null,null,null,0,122]
[11,15112,22,15127,23,15131,null,null,null,null,0,122]
[11,15229,22,15241,23,15253,null,null,null,null,0,122]
[11,15351,22,15361,23,15373,null,null,null,null,0,122]
[11,15471,11,15473,12,15476,null,null,null,null,0,111]
[11,15570,22,15579,23,15583,null,null,null,null,0,122]
[11,15685,11,15697,21,15701,null,null,null,null,0,112]
[11,15850,22,15868,14,15874,null,null,null,null,0,121]
[11,15978,22,15997,23,16004,null,null,null,null,0,122]
[11,16098,11,16109,21,16115,null,null,null,null,0,112]
[11,16273,11,16288,21,16296,null,null,null,null,0,112]
[11,16468,11,16485,21,16491,null,null,null,null,0,112]
[11,16628,22,16664,23,16673,null,null,null,null,0,122]
[11,16768,22,16789,23,16804,null,null,null,null,0,122]
[11,16935,22,16951,23,16957,null,null,null,null,0,122]
[22,17060,24,17073,23,17080,null,null,null,null,0,222]
[11,17173,11,17177,12,17181,null,null,null,null,0,111]
[22,17308,24,17314,23,17321,null,null,null,null,0,222]
[11,17418,22,17425,23,17435,null,null,null,null,0,122]
[11,17535,22,17556,23,17569,null,null,null,null,0,122]
[11,17664,22,17671,23,17677,null,null,null,null,0,122]
[11,17774,11,17776,21,17787,null,null,null,null,0,112]
[11,17956,11,17971,21,17980,null,null,null,null,0,112]
[11,18201,22,18218,14,18234,null,null,null,null,0,121]
[22,18353,24,18360,14,18371,null,null,null,null,0,221]
[11,18469,22,18487,23,18494,null,null,null,null,0,122]
[11,18587,22,18607,23,18615,null,null,null,null,0,122]
[11,18717,22,18722,23,18730,null,null,null,null,0,122]
[11,18835,22,18848,23,18855,null,null,null,null,0,122]
[22,18959,24,18966,23,18973,null,null,null,null,0,222]
[11,19079,22,19085,23,19094,null,null,null,null,0,122]
[11,19199,11,19215,21,19220,null,null,null,null,1,112]

{"sheet":"!N119930.Gus","index":25,"n_rows":131,"n_cols":48,"rows_kept":131,"cut":false,"hidden":false,"merged":[[1,1,1,2],[5,13,5,14],[18,13,18,14],[19,13,19,14],[4,19,4,22],[5,19,5,20],[4,39,4,42],[5,39,5,40],[4,44,4,47],[5,44,5,45],[4,24,4,27],[5,24,5,25],[4,29,4,32],[5,29,5,30],[4,34,4,37],[5,34,5,35]]}
["Report for:!N119930.Gus"]
["Date:","<date>"]
["Hen:","<hen>",null,null,null,"Correct Sequence",{"$f":"Start!J2","v":112},null,null,null,null,null,null,null,null,"Total Sequences in Data",{"$f":"4994-COUNTBLANK(L7:L5000)","v":125},null,null,null,null,"Total Sequences in Block Data",{"$f":"COUNTA(L7:L27)","v":21},null,null,null,"Total Sequences in Block Data",{"$f":"COUNTA(L28:L48)","v":21},null,null,null,"Total Sequences in Block Data",{"$f":"COUNTA(L49:L68)","v":20},null,null,null,"Total Sequences in Block Data",{"$f":"COUNTA(L69:L89)","v":21},null,null,null,"Total Sequences in Block Data",{"$f":"COUNTA(L90:L110)","v":21},null,null,null,"Total Sequences in Block Data",{"$f":"COUNTA(L111:L131)","v":21}]
[null,null,null,null,null,null,null,null,null,null,null,null,null,null,null,"Total Sequences in Summary",{"$f":"SUM(O7:O14)","v":125},null,null,null,null,"Total Sequences in Block Summary",{"$f":"SUM(U7:U14)","v":21},null,null,null,"Total Sequences in Block Summary",{"$f":"SUM(Z7:Z14)","v":21},null,null,null,"Total Sequences in Block Summary",{"$f":"SUM(AE7:AE14)","v":20},null,null,null,"Total Sequences in Block Summary",{"$f":"SUM(AJ7:AJ14)","v":21},null,null,null,"Total Sequences in Block Summary",{"$f":"SUM(AO7:AO14)","v":21},null,null,null,"Total Sequences in Block Summary",{"$f":"SUM(AT7:AT14)","v":21}]
[null,null,null,null,null,null,null,null,null,null,null,null,null,null,null,null,null,null,null,"Block 1",null,null,null,null,"Block 2",null,null,null,null,"Block 3",null,null,null,null,"Block 4",null,null,null,null,"Block 5",null,null,null,null,"Block 6"]
["Sequence\nComponent\n1","Time\n1","Sequence\nComponent\n2","Time\n2","Sequence\nComponent\n3","Time\n3","Sequence\nComponent\n4","Time\n4","Sequence\nComponent\n5","Time\n5","Correct?\n0=No 1=Yes","Sequence",null,"Frequency",null,"Relative Frequency","Variability",null,null,"Frequency",null,"Relative Frequency","Variability",null,"Frequency",null,"Relative Frequency","Variability",null,"Frequency",null,"Relative Frequency","Variability",null,"Frequency",null,"Relative Frequency","Variability",null,"Frequency",null,"Relative Frequency","Variability",null,"Frequency",null,"Relative Frequency","Variability"]
[11,13,11,38,12,41,null,null,null,null,0,111,null,111,{"$f":"COUNTIF($L$7:$L$500,N7)","v":4},{"$f":"O7/$Q$4","v":3.2000000000000001E-2},{"$f":"IF(P7=0,0,(P7*((LOG(P7))/LOG(2))))","v":-0.15890509710918679},null,null,{"$f":"N7","v":111},{"$f":"COUNTIF(L7:L27,T7)","v":1},{"$f":"U7/(W4-U8)","v":5.8823529411764705E-2},{"$f":"IF(V7=0,0,(V7*((LOG(V7))/LOG(2))))","v":-0.24043899066178465},null,{"$f":"N7","v":111},{"$f":"COUNTIF(L28:L48,Y7)","v":1},{"$f":"Z7/(AB4-Z8)","v":8.3333333333333329E-2},{"$f":"IF(AA7=0,0,(AA7*((LOG(AA7))/LOG(2))))","v":-0.29874687506009634},null,{"$f":"N7","v":111},{"$f":"COUNTIF(L49:L68,AD7)","v":0},{"$f":"AE7/(AG4-AE8)","v":0},{"$f":"IF(AF7=0,0,(AF7*((LOG(AF7))/LOG(2))))","v":0},null,{"$f":"N7","v":111},{"$f":"COUNTIF(L69:L89,AI7)","v":1},{"$f":"AJ7/(AL4-AJ8)","v":7.6923076923076927E-2},{"$f":"IF(AK7=0,0,(AK7*((LOG(AK7))/LOG(2))))","v":-0.28464920908777636},null,{"$f":"N7","v":111},{"$f":"COUNTIF(L90:L110,AN7)","v":1},{"$f":"AO7/(AQ4-AO8)","v":6.25E-2},{"$f":"IF(AP7=0,0,(AP7*((LOG(AP7))/LOG(2))))","v":-0.25},null,{"$f":"N7","v":111},{"$f":"COUNTIF(L111:L131,AS7)","v":0},{"$f":"AT7/(AV4-AT8)","v":0},{"$f":"IF(AU7=0,0,(AU7*((LOG(AU7))/LOG(2))))","v":0}]
[11,137,22,144,14,153,null,null,null,null,0,121,null,112,38,0.30399999999999999,-0.52222845845042443,null,null,112,{"$f":"COUNTIF(L7:L27,T8)","v":4},null,null,null,112,{"$f":"COUNTIF(L28:L48,Y8)","v":9},null,null,null,112,{"$f":"COUNTIF(L49:L68,AD8)","v":8},null,null,null,112,{"$f":"COUNTIF(L69:L89,AI8)","v":8},null,null,null,112,{"$f":"COUNTIF(L90:L110,AN8)","v":5},null,null,null,112,{"$f":"COUNTIF(L111:L131,AS8)","v":4}]
[11,246,11,272,21,285,null,null,null,null,0,112,null,121,12,9.6000000000000002E-2,-0.32455889125832937,null,null,121,{"$f":"COUNTIF(L7:L27,T9)","v":4},{"$f":"U9/(W4-U8)","v":0.23529411764705882},{"$f":"IF(V9=0,0,(V9*((LOG(V9))/LOG(2))))","v":-0.49116772735302094},null,121,{"$f":"COUNTIF(L28:L48,Y9)","v":1},{"$f":"Z9/(AB4-Z8)","v":8.3333333333333329E-2},{"$f":"IF(AA9=0,0,(AA9*((LOG(AA9))/LOG(2))))","v":-0.29874687506009634},null,121,{"$f":"COUNTIF(L49:L68,AD9)","v":2},{"$f":"AE9/(AG4-AE8)","v":0.16666666666666666},{"$f":"IF(AF9=0,0,(AF9*((LOG(AF9))/LOG(2))))","v":-0.43082708345352599},null,121,{"$f":"COUNTIF(L69:L89,AI9)","v":2},{"$f":"AJ9/(AL4-AJ8)","v":0.15384615384615385},{"$f":"IF(AK9=0,0,(AK9*((LOG(AK9))/LOG(2))))","v":-0.4154522643293988},null,121,{"$f":"COUNTIF(L90:L110,AN9)","v":0},{"$f":"AO9/(AQ4-AO8)","v":0},{"$f":"IF(AP9=0,0,(AP9*((LOG(AP9))/LOG(2))))","v":0},null,121,{"$f":"COUNTIF(L111:L131,AS9)","v":3},{"$f":"AT9/(AV4-AT8)","v":0.17647058823529413},{"$f":"IF(AU9=0,0,(AU9*((LOG(AU9))/LOG(2))))","v":-0.44161770715220888}]
[11,389,22,414,23,425,null,null,null,null,0,122,null,122,53,0.42399999999999999,-0.52485426396192836,null,null,122,{"$f":"COUNTIF(L7:L27,T10)","v":7},{"$f":"U10/(W4-U8)","v":0.41176470588235292},-0.52710326084406744,null,122,{"$f":"COUNTIF(L28:L48,Y10)","v":10},{"$f":"Z10/(AB4-Z8)","v":0.83333333333333337},-0.21919533819482812,null,122,{"$f":"COUNTIF(L49:L68,AD10)","v":8},{"$f":"AE10/(AG4-AE8)","v":0.66666666666666663},-0.38997500048077083,null,122,{"$f":"COUNTIF(L69:L89,AI10)","v":9},{"$f":"AJ10/(AL4-AJ8)","v":0.69230769230769229},-0.36727941925300139,null,122,{"$f":"COUNTIF(L90:L110,AN10)","v":8},{"$f":"AO10/(AQ4-AO8)","v":0.5},-0.5,null,122,{"$f":"COUNTIF(L111:L131,AS10)","v":11},{"$f":"AT10/(AV4-AT8)","v":0.6470588235294118},-0.40637314404373309]
[11,524,22,529,23,533,null,null,null,null,0,122,null,211,0,0,0,null,null,211,{"$f":"COUNTIF(L7:L27,T11)","v":0},{"$f":"U11/(W4-U8)","v":0},0,null,211,{"$f":"COUNTIF(L28:L48,Y11)","v":0},{"$f":"Z11/(AB4-Z8)","v":0},0,null,211,{"$f":"COUNTIF(L49:L68,AD11)","v":0},{"$f":"AE11/(AG4-AE8)","v":0},0,null,211,{"$f":"COUNTIF(L69:L89,AI11)","v":0},{"$f":"AJ11/(AL4-AJ8)","v":0},0,null,211,{"$f":"COUNTIF(L90:L110,AN11)","v":0},{"$f":"AO11/(AQ4-AO8)","v":0},0,null,211,{"$f":"COUNTIF(L111:L131,AS11)","v":0},{"$f":"AT11/(AV4-AT8)","v":0},0]
[11,635,22,649,23,656,null,null,null,null,0,122,null,212,6,4.8000000000000001E-2,-0.2102794456291647,null,null,212,{"$f":"COUNTIF(L7:L27,T12)","v":0},{"$f":"U12/(W4-U8)","v":0},0,null,212,{"$f":"COUNTIF(L28:L48,Y12)","v":0},{"$f":"Z12/(AB4-Z8)","v":0},0,null,212,{"$f":"COUNTIF(L49:L68,AD12)","v":2},{"$f":"AE12/(AG4-AE8)","v":0.16666666666666666},-0.43082708345352599,null,212,{"$f":"COUNTIF(L69:L89,AI12)","v":0},{"$f":"AJ12/(AL4-AJ8)","v":0},0,null,212,{"$f":"COUNTIF(L90:L110,AN12)","v":4},{"$f":"AO12/(AQ4-AO8)","v":0.25},-0.5,null,212,{"$f":"COUNTIF(L111:L131,AS12)","v":0},{"$f":"AT12/(AV4-AT8)","v":0},0]
[22,771,24,777,23,784,null,null,null,null,0,222,null,221,2,1.6E-2,-9.5452548554593397E-2,null,null,221,{"$f":"COUNTIF(L7:L27,T13)","v":0},{"$f":"U13/(W4-U8)","v":0},0,null,221,{"$f":"COUNTIF(L28:L48,Y13)","v":0},{"$f":"Z13/(AB4-Z8)","v":0},0,null,221,{"$f":"COUNTIF(L49:L68,AD13)","v":0},{"$f":"AE13/(AG4-AE8)","v":0},0,null,221,{"$f":"COUNTIF(L69:L89,AI13)","v":0},{"$f":"AJ13/(AL4-AJ8)","v":0},0,null,221,{"$f":"COUNTIF(L90:L110,AN13)","v":1},{"$f":"AO13/(AQ4-AO8)","v":6.25E-2},-0.25,null,221,{"$f":"COUNTIF(L111:L131,AS13)","v":1},{"$f":"AT13/(AV4-AT8)","v":5.8823529411764705E-2},-0.24043899066178465]
[11,877,22,881,23,898,null,null,null,null,0,122,null,222,10,0.08,-0.29150849518197797,null,null,222,{"$f":"COUNTIF(L7:L27,T14)","v":5},{"$f":"U14/(W4-U8)","v":0.29411764705882354},-0.51927492540087561,null,222,{"$f":"COUNTIF(L28:L48,Y14)","v":0},{"$f":"Z14/(AB4-Z8)","v":0},0,null,222,{"$f":"COUNTIF(L49:L68,AD14)","v":0},{"$f":"AE14/(AG4-AE8)","v":0},0,null,222,{"$f":"COUNTIF(L69:L89,AI14)","v":1},{"$f":"AJ14/(AL4-AJ8)","v":7.6923076923076927E-2},-0.28464920908777636,null,222,{"$f":"COUNTIF(L90:L110,AN14)","v":2},{"$f":"AO14/(AQ4-AO8)","v":0.125},-0.375,null,222,{"$f":"COUNTIF(L111:L131,AS14)","v":2},{"$f":"AT14/(AV4-AT8)","v":0.11764705882352941},-0.36323092250003997]
[11,1041,11,1060,21,1068,null,null,null,null,0,112,null,null,null,{"$f":"SUM(P7:P14)","v":0.99999999999999989},{"$f":"-SUM(Q7:Q14)","v":2.1277872001456051},null,null,null,null,{"$f":"SUM(V7:V14)","v":1},{"$f":"-SUM(W7:W14)","v":1.7779849042597489},null,null,null,{"$f":"SUM(AA7:AA14)","v":1},{"$f":"-SUM(AB7:AB14)","v":0.81668908831502085},null,null,null,{"$f":"SUM(AF7:AF14)","v":0.99999999999999989},{"$f":"-SUM(AG7:AG14)","v":1.2516291673878228},null,null,null,{"$f":"SUM(AK7:AK14)","v":1},{"$f":"-SUM(AL7:AL14)","v":1.3520301017579528},null,null,null,{"$f":"SUM(AP7:AP14)","v":1},{"$f":"-SUM(AQ7:AQ14)","v":1.875},null,null,null,{"$f":"SUM(AU7:AU14)","v":1},{"$f":"-SUM(AV7:AV14)","v":1.4516607643577668}]
[11,1198,22,1220,23,1226,null,null,null,null,0,122,null,null,null,"U=",{"$f":"Q15/(LOG(Q4)/LOG(2))","v":0.30546268922377706},null,null,null,null,"U1=",{"$f":"W15/(LOG(W4)/LOG(2))","v":0.40479426533224516},null,null,null,"U2=",{"$f":"AB15/(LOG(AB4)/LOG(2))","v":0.1859358078447686},null,null,null,"U3=",{"$f":"AG15/(LOG(AG4)/LOG(2))","v":0.28959972028883152},null,null,null,"U4=",{"$f":"AL15/(LOG(AL4)/LOG(2))","v":0.30781702951299977},null,null,null,"U5=",{"$f":"AQ15/(LOG(AQ4)/LOG(2))","v":0.42688171630678684},null,null,null,"U6=",{"$f":"AV15/(LOG(AV4)/LOG(2))","v":0.33049996724494163}]
[11,1318,22,1331,14,1337,null,null,null,null,0,121]
[22,1450,24,1461,23,1469,null,null,null,null,0,222]
[11,1564,11,1579,21,1596,null,null,null,null,0,112,null,"Total Target Seq"]
[11,1702,22,1711,23,1718,null,null,null,null,0,122,null,{"$f":"COUNTIF(L7:L131,G3)","v":38},null,21,21,20,21,21,21]
[11,1814,22,1826,14,1829,null,null,null,null,0,121,null,null,null,"% of reinforcement given in 6 equal intervals based on number of trials "]
[22,1947,24,1956,23,1964,null,null,null,null,0,222,null,null,null,"%_1","%_2","%_3","%_4","%_5","%_6"]
[11,2065,11,2068,21,2078,null,null,null,null,0,112,null,null,"target sequence",{"$f":"$G$3","v":112},112,112,112,112,112]
[11,2208,22,2221,14,2224,null,null,null,null,0,121,null,null,"total reinforcement",{"$f":"U8","v":4},{"$f":"Z8","v":9},{"$f":"AE8","v":8},{"$f":"AJ8","v":8},{"$f":"AO8","v":5},{"$f":"AT8","v":4}]
[11,2320,22,2330,23,2342,null,null,null,null,0,122,null,null,"% target"]
[22,2440,24,2446,23,2465,null,null,null,null,0,222,null,null,"CCRF"]
[22,2570,24,2585,23,2592,null,null,null,null,0,222,null,null,"% CCRf"]
[11,2689,22,2697,23,2701,null,null,null,null,0,122,null,null,"average response rate",{"$f":"F27/P20","v":123.42857142857143},{"$f":"(F48-F27)/Q20","v":135.95238095238096},{"$f":"(F68-F48)/R20","v":143.85},{"$f":"(F89-F68)/S20","v":135.57142857142858},{"$f":"(F110-F89)/T20","v":128.76190476190476},{"$f":"(F131-F110)/U20","v":132.47619047619048}]
[11,2804,11,2807,21,2824,null,null,null,null,0,112]
[11,2983,11,2998,21,3010,null,null,null,null,0,112]
[11,3155,22,3171,14,3174,null,null,null,null,0,121]
[11,3278,11,3283,12,3301,null,null,null,null,0,111]
[11,3411,22,3417,23,3427,null,null,null,null,0,122]
[11,3521,11,3531,21,3545,null,null,null,null,0,112]
[11,3640,22,3646,23,3656,null,null,null,null,0,122]
[11,3747,22,3765,23,3774,null,null,null,null,0,122]
[11,3871,22,3879,23,3887,null,null,null,null,0,122]
[11,3982,22,3994,23,4006,null,null,null,null,0,122]
[11,4098,22,4109,23,4117,null,null,null,null,0,122]
[11,4208,11,4220,21,4226,null,null,null,null,0,112]
[11,4338,11,4353,21,4365,null,null,null,null,0,112]
[11,4508,11,4514,21,4528,null,null,null,null,0,112]
[11,4709,22,4714,23,4724,null,null,null,null,0,122]
[11,4837,11,4841,21,4852,null,null,null,null,0,112]
[11,4992,22,5008,23,5021,null,null,null,null,0,122]
[11,5114,11,5118,21,5132,null,null,null,null,0,112]
[11,5226,11,5244,21,5257,null,null,null,null,0,112]
[11,5424,22,5440,23,5447,null,null,null,null,0,122]
[11,5562,22,5579,14,5584,null,null,null,null,0,121]
[11,5686,11,5696,21,5704,null,null,null,null,0,112]
[11,5813,22,5831,23,5838,null,null,null,null,0,122]
[11,5936,22,5951,23,5958,null,null,null,null,0,122]
[11,6057,22,6066,23,6074,null,null,null,null,0,122]
[11,6171,22,6177,23,6184,null,null,null,null,0,122]
[11,6286,22,6296,23,6306,null,null,null,null,0,122]
[11,6402,11,6405,21,6419,null,null,null,null,0,112]
[11,6603,22,6620,23,6633,null,null,null,null,0,122]
[11,6729,22,6740,23,6751,null,null,null,null,0,122]
[22,6850,13,6853,23,6855,null,null,null,null,0,212]
[22,6958,13,6962,23,6968,null,null,null,null,0,212]
[11,7063,11,7067,21,7085,null,null,null,null,0,112]
[11,7251,11,7255,21,7266,null,null,null,null,0,112]
[11,7446,11,7463,21,7478,null,null,null,null,0,112]
[11,7621,22,7638,23,7650,null,null,null,null,0,122]
[11,7749,11,7753,21,7765,null,null,null,null,0,112]
[11,7967,11,7984,21,7998,null,null,null,null,0,112]
[11,8180,22,8194,14,8204,null,null,null,null,0,121]
[11,8303,11,8309,21,8324,null,null,null,null,0,112]
[11,8452,22,8465,23,8476,null,null,null,null,0,122]
[11,8586,11,8608,21,8617,null,null,null,null,0,112]
[11,8749,22,8764,14,8769,null,null,null,null,0,121]
[11,8899,11,8904,21,8918,null,null,null,null,0,112]
[11,9052,22,9063,14,9069,null,null,null,null,0,121]
[11,9163,11,9173,21,9187,null,null,null,null,0,112]
[11,9299,22,9314,23,9323,null,null,null,null,0,122]
[11,9418,22,9437,23,9445,null,null,null,null,0,122]
[11,9547,22,9565,23,9573,null,null,null,null,0,122]
[22,9674,24,9681,23,9689,null,null,null,null,0,222]
[11,9791,22,9797,23,9805,null,null,null,null,0,122]
[11,9902,11,9906,21,9919,null,null,null,null,0,112]
[11,10026,11,10041,21,10052,null,null,null,null,0,112]
[11,10222,22,10249,23,10258,null,null,null,null,0,122]
[11,10350,11,10364,21,10378,null,null,null,null,0,112]
[11,10496,11,10514,12,10520,null,null,null,null,0,111]
[11,10626,22,10628,23,10641,null,null,null,null,0,122]
[11,10738,11,10742,21,10752,null,null,null,null,0,112]
[11,10921,22,10931,23,10938,null,null,null,null,0,122]
[11,11035,22,11046,23,11056,null,null,null,null,0,122]
[11,11149,11,11152,21,11171,null,null,null,null,0,112]
[11,11272,22,11296,23,11303,null,null,null,null,0,122]
[22,11401,13,11406,23,11414,null,null,null,null,0,212]
[22,11519,13,11524,23,11526,null,null,null,null,0,212]
[11,11619,11,11622,21,11639,null,null,null,null,0,112]
[11,11764,11,11779,21,11785,null,null,null,null,0,112]
[22,11903,13,11908,23,11926,null,null,null,null,0,212]
[22,12023,24,12032,23,12039,null,null,null,null,0,222]
[11,12145,22,12158,23,12166,null,null,null,null,0,122]
[11,12272,11,12277,12,12282,null,null,null,null,0,111]
[22,12386,24,12392,14,12396,null,null,null,null,0,221]
[11,12487,11,12494,21,12504,null,null,null,null,0,112]
[11,12597,22,12610,23,12617,null,null,null,null,0,122]
[11,12821,11,12840,21,12854,null,null,null,null,0,112]
[11,13036,22,13046,23,13055,null,null,null,null,0,122]
[11,13152,22,13167,23,13174,null,null,null,null,0,122]
[11,13267,22,13282,23,13294,null,null,null,null,0,122]
[11,13388,22,13392,23,13398,null,null,null,null,0,122]
[22,13502,13,13509,23,13516,null,null,null,null,0,212]
[11,13613,22,13631,23,13641,null,null,null,null,0,122]
[22,13744,24,13749,23,13760,null,null,null,null,0,222]
[11,13857,11,13860,21,13875,null,null,null,null,0,112]
[11,14027,22,14045,14,14051,null,null,null,null,0,121]
[11,14151,11,14169,21,14175,null,null,null,null,0,112]
[11,14376,22,14392,14,14396,null,null,null,null,0,121]
[22,14509,24,14520,23,14529,null,null,null,null,0,222]
[11,14627,22,14629,23,14635,null,null,null,null,0,122]
[11,14728,22,14736,23,14741,null,null,null,null,0,122]
[11,14843,22,14853,23,14866,null,null,null,null,0,122]
[11,14966,22,14972,23,14980,null,null,null,null,0,122]
[22,15087,24,15095,23,15102,null,null,null,null,0,222]
[11,15195,22,15208,23,15216,null,null,null,null,0,122]
[11,15312,22,15319,23,15326,null,null,null,null,0,122]
[11,15418,22,15428,23,15434,null,null,null,null,0,122]
[11,15534,22,15536,23,15550,null,null,null,null,0,122]
[11,15646,11,15649,21,15664,null,null,null,null,0,112]
[11,15846,22,15868,23,15876,null,null,null,null,0,122]
[11,16013,22,16026,14,16034,null,null,null,null,0,121]
[22,16159,24,16161,14,16165,null,null,null,null,0,221]
[11,16258,22,16269,23,16276,null,null,null,null,0,122]
[11,16373,22,16382,23,16388,null,null,null,null,0,122]
[11,16481,11,16490,21,16501,null,null,null,null,0,112]
[11,16636,11,16653,21,16657,null,null,null,null,1,112]

{"sheet":"!N120A20.Gus","index":26,"n_rows":163,"n_cols":48,"rows_kept":163,"cut":false,"hidden":false,"merged":[[1,1,1,2],[5,13,5,14],[18,13,18,14],[19,13,19,14],[4,19,4,22],[5,19,5,20],[4,39,4,42],[5,39,5,40],[4,44,4,47],[5,44,5,45],[4,24,4,27],[5,24,5,25],[4,29,4,32],[5,29,5,30],[4,34,4,37],[5,34,5,35]]}
["Report for:!N120A20.Gus"]
["Date:","<date>"]
["Hen:","<hen>",null,null,null,"Correct Sequence",{"$f":"Start!J2","v":112},null,null,null,null,null,null,null,null,"Total Sequences in Data",{"$f":"4994-COUNTBLANK(L7:L5000)","v":157},null,null,null,null,"Total Sequences in Block Data",{"$f":"COUNTA(L7:L32)","v":26},null,null,null,"Total Sequences in Block Data",{"$f":"COUNTA(L33:L58)","v":26},null,null,null,"Total Sequences in Block Data",{"$f":"COUNTA(L59:L85)","v":27},null,null,null,"Total Sequences in Block Data",{"$f":"COUNTA(L86:L111)","v":26},null,null,null,"Total Sequences in Block Data",{"$f":"COUNTA(L112:L137)","v":26},null,null,null,"Total Sequences in Block Data",{"$f":"COUNTA(L138:L163)","v":26}]
[null,null,null,null,null,null,null,null,null,null,null,null,null,null,null,"Total Sequences in Summary",{"$f":"SUM(O7:O14)","v":157},null,null,null,null,"Total Sequences in Block Summary",{"$f":"SUM(U7:U14)","v":26},null,null,null,"Total Sequences in Block Summary",{"$f":"SUM(Z7:Z14)","v":26},null,null,null,"Total Sequences in Block Summary",{"$f":"SUM(AE7:AE14)","v":27},null,null,null,"Total Sequences in Block Summary",{"$f":"SUM(AJ7:AJ14)","v":26},null,null,null,"Total Sequences in Block Summary",{"$f":"SUM(AO7:AO14)","v":26},null,null,null,"Total Sequences in Block Summary",{"$f":"SUM(AT7:AT14)","v":26}]
[null,null,null,null,null,null,null,null,null,null,null,null,null,null,null,null,null,null,null,"Block 1",null,null,null,null,"Block 2",null,null,null,null,"Block 3",null,null,null,null,"Block 4",null,null,null,null,"Block 5",null,null,null,null,"Block 6"]
["Sequence\nComponent\n1","Time\n1","Sequence\nComponent\n2","Time\n2","Sequence\nComponent\n3","Time\n3","Sequence\nComponent\n4","Time\n4","Sequence\nComponent\n5","Time\n5","Correct?\n0=No 1=Yes","Sequence",null,"Frequency",null,"Relative Frequency","Variability",null,null,"Frequency",null,"Relative Frequency","Variability",null,"Frequency",null,"Relative Frequency","Variability",null,"Frequency",null,"Relative Frequency","Variability",null,"Frequency",null,"Relative Frequency","Variability",null,"Frequency",null,"Relative Frequency","Variability",null,"Frequency",null,"Relative Frequency","Variability"]
[11,90,11,96,12,98,null,null,null,null,0,111,null,111,{"$f":"COUNTIF($L$7:$L$500,N7)","v":11},{"$f":"O7/$Q$4","v":7.0063694267515922E-2},{"$f":"IF(P7=0,0,(P7*((LOG(P7))/LOG(2))))","v":-0.26870751868023968},null,null,{"$f":"N7","v":111},{"$f":"COUNTIF(L7:L32,T7)","v":1},{"$f":"U7/(W4-U8)","v":4.7619047619047616E-2},{"$f":"IF(V7=0,0,(V7*((LOG(V7))/LOG(2))))","v":-0.20915797251327431},null,{"$f":"N7","v":111},{"$f":"COUNTIF(L33:L58,Y7)","v":2},{"$f":"Z7/(AB4-Z8)","v":9.5238095238095233E-2},{"$f":"IF(AA7=0,0,(AA7*((LOG(AA7))/LOG(2))))","v":-0.32307784978845333},null,{"$f":"N7","v":111},{"$f":"COUNTIF(L59:L85,AD7)","v":2},{"$f":"AE7/(AG4-AE8)","v":8.6956521739130432E-2},{"$f":"IF(AF7=0,0,(AF7*((LOG(AF7))/LOG(2))))","v":-0.30639669183104457},null,{"$f":"N7","v":111},{"$f":"COUNTIF(L86:L111,AI7)","v":0},{"$f":"AJ7/(AL4-AJ8)","v":0},{"$f":"IF(AK7=0,0,(AK7*((LOG(AK7))/LOG(2))))","v":0},null,{"$f":"N7","v":111},{"$f":"COUNTIF(L112:L137,AN7)","v":2},{"$f":"AO7/(AQ4-AO8)","v":0.1},{"$f":"IF(AP7=0,0,(AP7*((LOG(AP7))/LOG(2))))","v":-0.33219280948873625},null,{"$f":"N7","v":111},{"$f":"COUNTIF(L138:L163,AS7)","v":4},{"$f":"AT7/(AV4-AT8)","v":0.23529411764705882},{"$f":"IF(AU7=0,0,(AU7*((LOG(AU7))/LOG(2))))","v":-0.49116772735302094}]
[11,191,22,201,14,206,null,null,null,null,0,121,null,112,34,0.21656050955414013,-0.47798324114524698,null,null,112,{"$f":"COUNTIF(L7:L32,T8)","v":5},null,null,null,112,{"$f":"COUNTIF(L33:L58,Y8)","v":5},null,null,null,112,{"$f":"COUNTIF(L59:L85,AD8)","v":4},null,null,null,112,{"$f":"COUNTIF(L86:L111,AI8)","v":5},null,null,null,112,{"$f":"COUNTIF(L112:L137,AN8)","v":6},null,null,null,112,{"$f":"COUNTIF(L138:L163,AS8)","v":9}]
[11,298,11,310,21,321,null,null,null,null,0,112,null,121,16,0.10191082802547771,-0.33575752854946517,null,null,121,{"$f":"COUNTIF(L7:L32,T9)","v":2},{"$f":"U9/(W4-U8)","v":9.5238095238095233E-2},{"$f":"IF(V9=0,0,(V9*((LOG(V9))/LOG(2))))","v":-0.32307784978845333},null,121,{"$f":"COUNTIF(L33:L58,Y9)","v":4},{"$f":"Z9/(AB4-Z8)","v":0.19047619047619047},{"$f":"IF(AA9=0,0,(AA9*((LOG(AA9))/LOG(2))))","v":-0.4556795091007162},null,121,{"$f":"COUNTIF(L59:L85,AD9)","v":3},{"$f":"AE9/(AG4-AE8)","v":0.13043478260869565},{"$f":"IF(AF9=0,0,(AF9*((LOG(AF9))/LOG(2))))","v":-0.3832955811307639},null,121,{"$f":"COUNTIF(L86:L111,AI9)","v":3},{"$f":"AJ9/(AL4-AJ8)","v":0.14285714285714285},{"$f":"IF(AK9=0,0,(AK9*((LOG(AK9))/LOG(2))))","v":-0.40105070315108626},null,121,{"$f":"COUNTIF(L112:L137,AN9)","v":1},{"$f":"AO9/(AQ4-AO8)","v":0.05},{"$f":"IF(AP9=0,0,(AP9*((LOG(AP9))/LOG(2))))","v":-0.21609640474436814},null,121,{"$f":"COUNTIF(L138:L163,AS9)","v":3},{"$f":"AT9/(AV4-AT8)","v":0.17647058823529413},{"$f":"IF(AU9=0,0,(AU9*((LOG(AU9))/LOG(2))))","v":-0.44161770715220888}]
[11,415,22,417,23,429,null,null,null,null,0,122,null,122,77,0.49044585987261147,-0.5040970320455278,null,null,122,{"$f":"COUNTIF(L7:L32,T10)","v":18},{"$f":"U10/(W4-U8)","v":0.8571428571428571},-0.19062207543124113,null,122,{"$f":"COUNTIF(L33:L58,Y10)","v":11},{"$f":"Z10/(AB4-Z8)","v":0.52380952380952384},-0.4886544688360045,null,122,{"$f":"COUNTIF(L59:L85,AD10)","v":12},{"$f":"AE10/(AG4-AE8)","v":0.52173913043478259},-0.48970406365349045,null,122,{"$f":"COUNTIF(L86:L111,AI10)","v":15},{"$f":"AJ10/(AL4-AJ8)","v":0.7142857142857143},-0.34673344797874411,null,122,{"$f":"COUNTIF(L112:L137,AN10)","v":13},{"$f":"AO10/(AQ4-AO8)","v":0.65},-0.40396744488507563,null,122,{"$f":"COUNTIF(L138:L163,AS10)","v":8},{"$f":"AT10/(AV4-AT8)","v":0.47058823529411764},-0.51174721941192436]
[11,532,11,539,21,544,null,null,null,null,0,112,null,211,0,0,0,null,null,211,{"$f":"COUNTIF(L7:L32,T11)","v":0},{"$f":"U11/(W4-U8)","v":0},0,null,211,{"$f":"COUNTIF(L33:L58,Y11)","v":0},{"$f":"Z11/(AB4-Z8)","v":0},0,null,211,{"$f":"COUNTIF(L59:L85,AD11)","v":0},{"$f":"AE11/(AG4-AE8)","v":0},0,null,211,{"$f":"COUNTIF(L86:L111,AI11)","v":0},{"$f":"AJ11/(AL4-AJ8)","v":0},0,null,211,{"$f":"COUNTIF(L112:L137,AN11)","v":0},{"$f":"AO11/(AQ4-AO8)","v":0},0,null,211,{"$f":"COUNTIF(L138:L163,AS11)","v":0},{"$f":"AT11/(AV4-AT8)","v":0},0]
[11,642,22,664,23,672,null,null,null,null,0,122,null,212,8,5.0955414012738856E-2,-0.2188341782874714,null,null,212,{"$f":"COUNTIF(L7:L32,T12)","v":0},{"$f":"U12/(W4-U8)","v":0},0,null,212,{"$f":"COUNTIF(L33:L58,Y12)","v":1},{"$f":"Z12/(AB4-Z8)","v":4.7619047619047616E-2},-0.20915797251327431,null,212,{"$f":"COUNTIF(L59:L85,AD12)","v":2},{"$f":"AE12/(AG4-AE8)","v":8.6956521739130432E-2},-0.30639669183104457,null,212,{"$f":"COUNTIF(L86:L111,AI12)","v":1},{"$f":"AJ12/(AL4-AJ8)","v":4.7619047619047616E-2},-0.20915797251327431,null,212,{"$f":"COUNTIF(L112:L137,AN12)","v":2},{"$f":"AO12/(AQ4-AO8)","v":0.1},-0.33219280948873625,null,212,{"$f":"COUNTIF(L138:L163,AS12)","v":2},{"$f":"AT12/(AV4-AT8)","v":0.11764705882352941},-0.36323092250003997]
[11,765,11,776,21,792,null,null,null,null,0,112,null,221,4,2.5477707006369428E-2,-0.13489479615010516,null,null,221,{"$f":"COUNTIF(L7:L32,T13)","v":0},{"$f":"U13/(W4-U8)","v":0},0,null,221,{"$f":"COUNTIF(L33:L58,Y13)","v":1},{"$f":"Z13/(AB4-Z8)","v":4.7619047619047616E-2},-0.20915797251327431,null,221,{"$f":"COUNTIF(L59:L85,AD13)","v":1},{"$f":"AE13/(AG4-AE8)","v":4.3478260869565216E-2},-0.19667660678508753,null,221,{"$f":"COUNTIF(L86:L111,AI13)","v":1},{"$f":"AJ13/(AL4-AJ8)","v":4.7619047619047616E-2},-0.20915797251327431,null,221,{"$f":"COUNTIF(L112:L137,AN13)","v":1},{"$f":"AO13/(AQ4-AO8)","v":0.05},-0.21609640474436814,null,221,{"$f":"COUNTIF(L138:L163,AS13)","v":0},{"$f":"AT13/(AV4-AT8)","v":0},0]
[11,886,22,896,23,906,null,null,null,null,0,122,null,222,7,4.4585987261146494E-2,-0.20006917699259971,null,null,222,{"$f":"COUNTIF(L7:L32,T14)","v":0},{"$f":"U14/(W4-U8)","v":0},0,null,222,{"$f":"COUNTIF(L33:L58,Y14)","v":2},{"$f":"Z14/(AB4-Z8)","v":9.5238095238095233E-2},-0.32307784978845333,null,222,{"$f":"COUNTIF(L59:L85,AD14)","v":3},{"$f":"AE14/(AG4-AE8)","v":0.13043478260869565},-0.3832955811307639,null,222,{"$f":"COUNTIF(L86:L111,AI14)","v":1},{"$f":"AJ14/(AL4-AJ8)","v":4.7619047619047616E-2},-0.20915797251327431,null,222,{"$f":"COUNTIF(L112:L137,AN14)","v":1},{"$f":"AO14/(AQ4-AO8)","v":0.05},-0.21609640474436814,null,222,{"$f":"COUNTIF(L138:L163,AS14)","v":0},{"$f":"AT14/(AV4-AT8)","v":0},0]
[11,1009,22,1017,23,1023,null,null,null,null,0,122,null,null,null,{"$f":"SUM(P7:P14)","v":1},{"$f":"-SUM(Q7:Q14)","v":2.140343471850656},null,null,null,null,{"$f":"SUM(V7:V14)","v":1},{"$f":"-SUM(W7:W14)","v":0.72285789773296871},null,null,null,{"$f":"SUM(AA7:AA14)","v":1},{"$f":"-SUM(AB7:AB14)","v":2.008805622540176},null,null,null,{"$f":"SUM(AF7:AF14)","v":0.99999999999999989},{"$f":"-SUM(AG7:AG14)","v":2.0657652163621947},null,null,null,{"$f":"SUM(AK7:AK14)","v":1.0000000000000002},{"$f":"-SUM(AL7:AL14)","v":1.3752580686696534},null,null,null,{"$f":"SUM(AP7:AP14)","v":1},{"$f":"-SUM(AQ7:AQ14)","v":1.7166422780956525},null,null,null,{"$f":"SUM(AU7:AU14)","v":1},{"$f":"-SUM(AV7:AV14)","v":1.807763576417194}]
[11,1124,22,1141,23,1148,null,null,null,null,0,122,null,null,null,"U=",{"$f":"Q15/(LOG(Q4)/LOG(2))","v":0.29341394782941504},null,null,null,null,"U1=",{"$f":"W15/(LOG(W4)/LOG(2))","v":0.15378516502256967},null,null,null,"U2=",{"$f":"AB15/(LOG(AB4)/LOG(2))","v":0.42736546855122931},null,null,null,"U3=",{"$f":"AG15/(LOG(AG4)/LOG(2))","v":0.43445091296529603},null,null,null,"U4=",{"$f":"AL15/(LOG(AL4)/LOG(2))","v":0.2925807267268889},null,null,null,"U5=",{"$f":"AQ15/(LOG(AQ4)/LOG(2))","v":0.36520887002770502},null,null,null,"U6=",{"$f":"AV15/(LOG(AV4)/LOG(2))","v":0.3845945666402717}]
[11,1257,22,1264,23,1284,null,null,null,null,0,122]
[11,1380,22,1390,23,1401,null,null,null,null,0,122]
[11,1496,22,1499,14,1510,null,null,null,null,0,121,null,"Total Target Seq"]
[11,1607,22,1618,23,1625,null,null,null,null,0,122,null,{"$f":"COUNTIF(L7:L163,G3)","v":34},null,26,26,27,26,26,26]
[11,1724,22,1729,23,1735,null,null,null,null,0,122,null,null,null,"% of reinforcement given in 6 equal intervals based on number of trials "]
[11,1835,22,1843,23,1853,null,null,null,null,0,122,null,null,null,"%_1","%_2","%_3","%_4","%_5","%_6"]
[11,1954,22,1959,23,1965,null,null,null,null,0,122,null,null,"target sequence",{"$f":"$G$3","v":112},112,112,112,112,112]
[11,2059,11,2071,21,2081,null,null,null,null,0,112,null,null,"total reinforcement",{"$f":"U8","v":5},{"$f":"Z8","v":5},{"$f":"AE8","v":4},{"$f":"AJ8","v":5},{"$f":"AO8","v":6},{"$f":"AT8","v":9}]
[11,2182,22,2192,23,2199,null,null,null,null,0,122,null,null,"% target"]
[11,2298,22,2310,23,2320,null,null,null,null,0,122,null,null,"CCRF"]
[11,2416,22,2427,23,2432,null,null,null,null,0,122,null,null,"% CCRf"]
[11,2557,22,2576,23,2583,null,null,null,null,0,122,null,null,"average response rate",{"$f":"F32/P20","v":116.30769230769231},{"$f":"(F58-F32)/Q20","v":128.65384615384616},{"$f":"(F85-F58)/R20","v":124},{"$f":"(F111-F85)/S20","v":122.88461538461539},{"$f":"(F137-F111)/T20","v":139.11538461538461},{"$f":"(F163-F137)/U20","v":132}]
[11,2685,22,2689,23,2694,null,null,null,null,0,122]
[11,2788,11,2792,21,2795,null,null,null,null,0,112]
[11,2889,22,2894,23,2905,null,null,null,null,0,122]
[11,3008,22,3016,23,3024,null,null,null,null,0,122]
[11,3126,22,3138,23,3144,null,null,null,null,0,122]
[11,3235,11,3246,12,3248,null,null,null,null,0,111]
[11,3348,22,3354,23,3362,null,null,null,null,0,122]
[11,3456,11,3460,12,3465,null,null,null,null,0,111]
[11,3561,22,3575,23,3583,null,null,null,null,0,122]
[11,3683,11,3686,21,3696,null,null,null,null,0,112]
[11,3785,11,3789,21,3798,null,null,null,null,0,112]
[11,4008,22,4027,23,4034,null,null,null,null,0,122]
[11,4136,22,4148,14,4152,null,null,null,null,0,121]
[11,4252,11,4271,21,4273,null,null,null,null,0,112]
[22,4398,24,4405,23,4416,null,null,null,null,0,222]
[11,4538,11,4552,21,4555,null,null,null,null,0,112]
[11,4787,22,4804,14,4817,null,null,null,null,0,121]
[11,4909,22,4917,23,4926,null,null,null,null,0,122]
[11,5023,22,5028,23,5032,null,null,null,null,0,122]
[11,5131,22,5142,23,5148,null,null,null,null,0,122]
[22,5253,24,5260,14,5264,null,null,null,null,0,221]
[11,5404,22,5409,14,5419,null,null,null,null,0,121]
[11,5510,22,5521,14,5527,null,null,null,null,0,121]
[11,5631,22,5648,23,5654,null,null,null,null,0,122]
[11,5755,22,5766,23,5773,null,null,null,null,0,122]
[22,5883,24,5889,23,5895,null,null,null,null,0,222]
[11,5992,22,6000,23,6005,null,null,null,null,0,122]
[22,6123,13,6126,23,6141,null,null,null,null,0,212]
[11,6242,22,6247,23,6255,null,null,null,null,0,122]
[11,6353,11,6355,21,6369,null,null,null,null,0,112]
[11,6466,22,6471,23,6478,null,null,null,null,0,122]
[11,6575,22,6581,23,6589,null,null,null,null,0,122]
[11,6685,22,6693,14,6704,null,null,null,null,0,121]
[11,6802,22,6811,23,6818,null,null,null,null,0,122]
[11,6921,22,6927,23,6938,null,null,null,null,0,122]
[11,7034,22,7050,23,7057,null,null,null,null,0,122]
[11,7155,11,7159,21,7165,null,null,null,null,0,112]
[11,7291,22,7299,23,7307,null,null,null,null,0,122]
[22,7418,24,7426,23,7433,null,null,null,null,0,222]
[11,7590,22,7600,14,7604,null,null,null,null,0,121]
[11,7704,22,7711,23,7721,null,null,null,null,0,122]
[22,7822,13,7827,23,7834,null,null,null,null,0,212]
[22,7937,24,7950,23,7957,null,null,null,null,0,222]
[11,8054,22,8072,23,8083,null,null,null,null,0,122]
[22,8188,24,8193,14,8201,null,null,null,null,0,221]
[11,8297,22,8306,23,8314,null,null,null,null,0,122]
[11,8410,22,8413,23,8419,null,null,null,null,0,122]
[22,8525,24,8532,23,8540,null,null,null,null,0,222]
[11,8632,11,8636,21,8649,null,null,null,null,0,112]
[11,8750,11,8764,12,8770,null,null,null,null,0,111]
[11,8867,11,8870,12,8884,null,null,null,null,0,111]
[11,9041,22,9044,14,9048,null,null,null,null,0,121]
[11,9142,22,9146,23,9153,null,null,null,null,0,122]
[11,9246,22,9252,23,9263,null,null,null,null,0,122]
[11,9357,11,9363,21,9371,null,null,null,null,0,112]
[11,9483,11,9499,21,9505,null,null,null,null,0,112]
[22,9703,13,9706,23,9717,null,null,null,null,0,212]
[11,9829,22,9832,23,9841,null,null,null,null,0,122]
[11,9933,22,9958,23,9964,null,null,null,null,0,122]
[22,10077,24,10084,14,10096,null,null,null,null,0,221]
[11,10193,22,10195,23,10206,null,null,null,null,0,122]
[11,10298,22,10311,14,10314,null,null,null,null,0,121]
[11,10408,22,10412,23,10419,null,null,null,null,0,122]
[11,10516,22,10525,23,10531,null,null,null,null,0,122]
[22,10633,13,10638,23,10644,null,null,null,null,0,212]
[11,10738,22,10745,23,10751,null,null,null,null,0,122]
[11,10849,22,10858,23,10866,null,null,null,null,0,122]
[11,10959,11,10962,21,10973,null,null,null,null,0,112]
[11,11108,22,11115,23,11125,null,null,null,null,0,122]
[11,11221,22,11238,23,11245,null,null,null,null,0,122]
[11,11338,22,11344,23,11350,null,null,null,null,0,122]
[11,11449,22,11460,23,11464,null,null,null,null,0,122]
[11,11562,11,11565,21,11575,null,null,null,null,0,112]
[11,11677,22,11691,14,11693,null,null,null,null,0,121]
[11,11791,22,11802,23,11812,null,null,null,null,0,122]
[11,11908,22,11919,23,11927,null,null,null,null,0,122]
[11,12022,11,12034,21,12036,null,null,null,null,0,112]
[11,12156,22,12158,14,12163,null,null,null,null,0,121]
[22,12283,24,12292,23,12299,null,null,null,null,0,222]
[11,12400,11,12403,21,12419,null,null,null,null,0,112]
[11,12562,11,12579,21,12583,null,null,null,null,0,112]
[11,12772,22,12786,23,12794,null,null,null,null,0,122]
[11,12895,22,12906,23,12912,null,null,null,null,0,122]
[11,13009,22,13018,14,13022,null,null,null,null,0,121]
[22,13133,13,13137,23,13143,null,null,null,null,0,212]
[22,13244,24,13250,23,13258,null,null,null,null,0,222]
[11,13356,11,13358,21,13369,null,null,null,null,0,112]
[11,13483,11,13497,21,13505,null,null,null,null,0,112]
[11,13648,22,13661,23,13667,null,null,null,null,0,122]
[11,13778,22,13808,23,13815,null,null,null,null,0,122]
[11,13915,22,13921,23,13927,null,null,null,null,0,122]
[22,14040,13,14044,23,14046,null,null,null,null,0,212]
[11,14145,22,14158,23,14166,null,null,null,null,0,122]
[11,14265,22,14276,23,14291,null,null,null,null,0,122]
[11,14390,22,14404,23,14412,null,null,null,null,0,122]
[11,14503,11,14508,12,14524,null,null,null,null,0,111]
[11,14701,11,14707,21,14720,null,null,null,null,0,112]
[11,14816,11,14832,21,14840,null,null,null,null,0,112]
[11,15033,11,15053,21,15059,null,null,null,null,0,112]
[11,15373,11,15377,21,15389,null,null,null,null,0,112]
[11,15602,22,15614,23,15624,null,null,null,null,0,122]
[11,15728,22,15736,23,15748,null,null,null,null,0,122]
[11,15848,22,15854,23,15860,null,null,null,null,0,122]
[11,15958,22,15963,23,15969,null,null,null,null,0,122]
[11,16074,22,16079,23,16085,null,null,null,null,0,122]
[11,16183,11,16186,12,16191,null,null,null,null,0,111]
[11,16291,22,16296,23,16304,null,null,null,null,0,122]
[11,16399,22,16407,23,16412,null,null,null,null,0,122]
[22,16517,24,16523,14,16529,null,null,null,null,0,221]
[11,16623,11,16641,12,16645,null,null,null,null,0,111]
[11,16741,22,16753,23,16763,null,null,null,null,0,122]
[11,16863,22,16876,23,16883,null,null,null,null,0,122]
[11,16976,11,16980,12,16983,null,null,null,null,0,111]
[11,17076,22,17089,23,17103,null,null,null,null,0,122]
[11,17195,11,17198,21,17212,null,null,null,null,0,112]
[11,17324,22,17340,14,17346,null,null,null,null,0,121]
[22,17494,13,17498,23,17506,null,null,null,null,0,212]
[11,17611,22,17622,23,17636,null,null,null,null,0,122]
[11,17739,22,17758,23,17766,null,null,null,null,0,122]
[11,17866,22,17876,23,17880,null,null,null,null,0,122]
[11,17974,22,17987,14,17993,null,null,null,null,0,121]
[11,18085,11,18092,12,18095,null,null,null,null,0,111]
[11,18199,11,18206,21,18212,null,null,null,null,0,112]
[22,18349,13,18354,23,18362,null,null,null,null,0,212]
[11,18470,22,18485,23,18490,null,null,null,null,0,122]
[11,18583,11,18587,12,18605,null,null,null,null,0,111]
[11,18697,11,18707,21,18719,null,null,null,null,0,112]
[11,18813,11,18830,21,18834,null,null,null,null,0,112]
[11,18938,11,18952,21,18961,null,null,null,null,0,112]
[11,19189,22,19196,23,19204,null,null,null,null,0,122]
[11,19299,11,19303,21,19313,null,null,null,null,0,112]
[11,19415,11,19431,21,19434,null,null,null,null,0,112]
[11,19640,22,19642,14,19648,null,null,null,null,0,121]
[11,19740,11,19758,21,19763,null,null,null,null,0,112]
[11,19937,11,19953,21,19961,null,null,null,null,1,112]

{"sheet":"!N121930.Gus","index":27,"n_rows":28,"n_cols":48,"rows_kept":28,"cut":false,"hidden":false,"merged":[[1,1,1,2],[5,13,5,14],[18,13,18,14],[19,13,19,14],[4,19,4,22],[5,19,5,20],[4,39,4,42],[5,39,5,40],[4,44,4,47],[5,44,5,45],[4,24,4,27],[5,24,5,25],[4,29,4,32],[5,29,5,30],[4,34,4,37],[5,34,5,35]]}
["Report for:!N121930.Gus"]
["Date:","<date>"]
["Hen:","<hen>",null,null,null,"Correct Sequence",{"$f":"Start!J2","v":112},null,null,null,null,null,null,null,null,"Total Sequences in Data",{"$f":"4994-COUNTBLANK(L7:L5000)","v":13},null,null,null,null,"Total Sequences in Block Data",{"$f":"COUNTA(L7:L8)","v":2},null,null,null,"Total Sequences in Block Data",{"$f":"COUNTA(L9:L10)","v":2},null,null,null,"Total Sequences in Block Data",{"$f":"COUNTA(L11:L13)","v":3},null,null,null,"Total Sequences in Block Data",{"$f":"COUNTA(L14:L15)","v":2},null,null,null,"Total Sequences in Block Data",{"$f":"COUNTA(L16:L17)","v":2},null,null,null,"Total Sequences in Block Data",{"$f":"COUNTA(L18:L19)","v":2}]
[null,null,null,null,null,null,null,null,null,null,null,null,null,null,null,"Total Sequences in Summary",{"$f":"SUM(O7:O14)","v":13},null,null,null,null,"Total Sequences in Block Summary",{"$f":"SUM(U7:U14)","v":2},null,null,null,"Total Sequences in Block Summary",{"$f":"SUM(Z7:Z14)","v":2},null,null,null,"Total Sequences in Block Summary",{"$f":"SUM(AE7:AE14)","v":3},null,null,null,"Total Sequences in Block Summary",{"$f":"SUM(AJ7:AJ14)","v":2},null,null,null,"Total Sequences in Block Summary",{"$f":"SUM(AO7:AO14)","v":2},null,null,null,"Total Sequences in Block Summary",{"$f":"SUM(AT7:AT14)","v":2}]
[null,null,null,null,null,null,null,null,null,null,null,null,null,null,null,null,null,null,null,"Block 1",null,null,null,null,"Block 2",null,null,null,null,"Block 3",null,null,null,null,"Block 4",null,null,null,null,"Block 5",null,null,null,null,"Block 6"]
["Sequence\nComponent\n1","Time\n1","Sequence\nComponent\n2","Time\n2","Sequence\nComponent\n3","Time\n3","Sequence\nComponent\n4","Time\n4","Sequence\nComponent\n5","Time\n5","Correct?\n0=No 1=Yes","Sequence",null,"Frequency",null,"Relative Frequency","Variability",null,null,"Frequency",null,"Relative Frequency","Variability",null,"Frequency",null,"Relative Frequency","Variability",null,"Frequency",null,"Relative Frequency","Variability",null,"Frequency",null,"Relative Frequency","Variability",null,"Frequency",null,"Relative Frequency","Variability",null,"Frequency",null,"Relative Frequency","Variability"]
[11,1,11,3,12,4,null,null,null,null,0,111,null,111,{"$f":"COUNTIF($L$7:$L$500,N7)","v":13},{"$f":"O7/$Q$4","v":1},{"$f":"IF(P7=0,0,(P7*((LOG(P7))/LOG(2))))","v":0},null,null,{"$f":"N7","v":111},{"$f":"COUNTIF(L7:L8,T7)","v":2},{"$f":"U7/(W4-U8)","v":1},{"$f":"IF(V7=0,0,(V7*((LOG(V7))/LOG(2))))","v":0},null,{"$f":"N7","v":111},{"$f":"COUNTIF(L9:L10,Y7)","v":2},{"$f":"Z7/(AB4-Z8)","v":1},{"$f":"IF(AA7=0,0,(AA7*((LOG(AA7))/LOG(2))))","v":0},null,{"$f":"N7","v":111},{"$f":"COUNTIF(L11:L13,AD7)","v":3},{"$f":"AE7/(AG4-AE8)","v":1},{"$f":"IF(AF7=0,0,(AF7*((LOG(AF7))/LOG(2))))","v":0},null,{"$f":"N7","v":111},{"$f":"COUNTIF(L14:L15,AI7)","v":2},{"$f":"AJ7/(AL4-AJ8)","v":1},{"$f":"IF(AK7=0,0,(AK7*((LOG(AK7))/LOG(2))))","v":0},null,{"$f":"N7","v":111},{"$f":"COUNTIF(L16:L17,AN7)","v":2},{"$f":"AO7/(AQ4-AO8)","v":1},{"$f":"IF(AP7=0,0,(AP7*((LOG(AP7))/LOG(2))))","v":0},null,{"$f":"N7","v":111},{"$f":"COUNTIF(L18:L19,AS7)","v":2},{"$f":"AT7/(AV4-AT8)","v":1},{"$f":"IF(AU7=0,0,(AU7*((LOG(AU7))/LOG(2))))","v":0}]
[11,99,11,101,12,102,null,null,null,null,0,111,null,112,0,0,0,null,null,112,{"$f":"COUNTIF(L7:L8,T8)","v":0},null,null,null,112,{"$f":"COUNTIF(L9:L10,Y8)","v":0},null,null,null,112,{"$f":"COUNTIF(L11:L13,AD8)","v":0},null,null,null,112,{"$f":"COUNTIF(L14:L15,AI8)","v":0},null,null,null,112,{"$f":"COUNTIF(L16:L17,AN8)","v":0},null,null,null,112,{"$f":"COUNTIF(L18:L19,AS8)","v":0}]
[11,196,11,198,12,199,null,null,null,null,0,111,null,121,0,0,0,null,null,121,{"$f":"COUNTIF(L7:L8,T9)","v":0},{"$f":"U9/(W4-U8)","v":0},{"$f":"IF(V9=0,0,(V9*((LOG(V9))/LOG(2))))","v":0},null,121,{"$f":"COUNTIF(L9:L10,Y9)","v":0},{"$f":"Z9/(AB4-Z8)","v":0},{"$f":"IF(AA9=0,0,(AA9*((LOG(AA9))/LOG(2))))","v":0},null,121,{"$f":"COUNTIF(L11:L13,AD9)","v":0},{"$f":"AE9/(AG4-AE8)","v":0},{"$f":"IF(AF9=0,0,(AF9*((LOG(AF9))/LOG(2))))","v":0},null,121,{"$f":"COUNTIF(L14:L15,AI9)","v":0},{"$f":"AJ9/(AL4-AJ8)","v":0},{"$f":"IF(AK9=0,0,(AK9*((LOG(AK9))/LOG(2))))","v":0},null,121,{"$f":"COUNTIF(L16:L17,AN9)","v":0},{"$f":"AO9/(AQ4-AO8)","v":0},{"$f":"IF(AP9=0,0,(AP9*((LOG(AP9))/LOG(2))))","v":0},null,121,{"$f":"COUNTIF(L18:L19,AS9)","v":0},{"$f":"AT9/(AV4-AT8)","v":0},{"$f":"IF(AU9=0,0,(AU9*((LOG(AU9))/LOG(2))))","v":0}]
[11,295,11,296,12,298,null,null,null,null,0,111,null,122,0,0,0,null,null,122,{"$f":"COUNTIF(L7:L8,T10)","v":0},{"$f":"U10/(W4-U8)","v":0},0,null,122,{"$f":"COUNTIF(L9:L10,Y10)","v":0},{"$f":"Z10/(AB4-Z8)","v":0},0,null,122,{"$f":"COUNTIF(L11:L13,AD10)","v":0},{"$f":"AE10/(AG4-AE8)","v":0},0,null,122,{"$f":"COUNTIF(L14:L15,AI10)","v":0},{"$f":"AJ10/(AL4-AJ8)","v":0},0,null,122,{"$f":"COUNTIF(L16:L17,AN10)","v":0},{"$f":"AO10/(AQ4-AO8)","v":0},0,null,122,{"$f":"COUNTIF(L18:L19,AS10)","v":0},{"$f":"AT10/(AV4-AT8)","v":0},0]
[11,399,11,401,12,450,null,null,null,null,0,111,null,211,0,0,0,null,null,211,{"$f":"COUNTIF(L7:L8,T11)","v":0},{"$f":"U11/(W4-U8)","v":0},0,null,211,{"$f":"COUNTIF(L9:L10,Y11)","v":0},{"$f":"Z11/(AB4-Z8)","v":0},0,null,211,{"$f":"COUNTIF(L11:L13,AD11)","v":0},{"$f":"AE11/(AG4-AE8)","v":0},0,null,211,{"$f":"COUNTIF(L14:L15,AI11)","v":0},{"$f":"AJ11/(AL4-AJ8)","v":0},0,null,211,{"$f":"COUNTIF(L16:L17,AN11)","v":0},{"$f":"AO11/(AQ4-AO8)","v":0},0,null,211,{"$f":"COUNTIF(L18:L19,AS11)","v":0},{"$f":"AT11/(AV4-AT8)","v":0},0]
[11,543,11,546,12,548,null,null,null,null,0,111,null,212,0,0,0,null,null,212,{"$f":"COUNTIF(L7:L8,T12)","v":0},{"$f":"U12/(W4-U8)","v":0},0,null,212,{"$f":"COUNTIF(L9:L10,Y12)","v":0},{"$f":"Z12/(AB4-Z8)","v":0},0,null,212,{"$f":"COUNTIF(L11:L13,AD12)","v":0},{"$f":"AE12/(AG4-AE8)","v":0},0,null,212,{"$f":"COUNTIF(L14:L15,AI12)","v":0},{"$f":"AJ12/(AL4-AJ8)","v":0},0,null,212,{"$f":"COUNTIF(L16:L17,AN12)","v":0},{"$f":"AO12/(AQ4-AO8)","v":0},0,null,212,{"$f":"COUNTIF(L18:L19,AS12)","v":0},{"$f":"AT12/(AV4-AT8)","v":0},0]
[11,640,11,642,12,644,null,null,null,null,0,111,null,221,0,0,0,null,null,221,{"$f":"COUNTIF(L7:L8,T13)","v":0},{"$f":"U13/(W4-U8)","v":0},0,null,221,{"$f":"COUNTIF(L9:L10,Y13)","v":0},{"$f":"Z13/(AB4-Z8)","v":0},0,null,221,{"$f":"COUNTIF(L11:L13,AD13)","v":0},{"$f":"AE13/(AG4-AE8)","v":0},0,null,221,{"$f":"COUNTIF(L14:L15,AI13)","v":0},{"$f":"AJ13/(AL4-AJ8)","v":0},0,null,221,{"$f":"COUNTIF(L16:L17,AN13)","v":0},{"$f":"AO13/(AQ4-AO8)","v":0},0,null,221,{"$f":"COUNTIF(L18:L19,AS13)","v":0},{"$f":"AT13/(AV4-AT8)","v":0},0]
[11,742,11,747,12,749,null,null,null,null,0,111,null,222,0,0,0,null,null,222,{"$f":"COUNTIF(L7:L8,T14)","v":0},{"$f":"U14/(W4-U8)","v":0},0,null,222,{"$f":"COUNTIF(L9:L10,Y14)","v":0},{"$f":"Z14/(AB4-Z8)","v":0},0,null,222,{"$f":"COUNTIF(L11:L13,AD14)","v":0},{"$f":"AE14/(AG4-AE8)","v":0},0,null,222,{"$f":"COUNTIF(L14:L15,AI14)","v":0},{"$f":"AJ14/(AL4-AJ8)","v":0},0,null,222,{"$f":"COUNTIF(L16:L17,AN14)","v":0},{"$f":"AO14/(AQ4-AO8)","v":0},0,null,222,{"$f":"COUNTIF(L18:L19,AS14)","v":0},{"$f":"AT14/(AV4-AT8)","v":0},0]
[11,846,11,855,12,865,null,null,null,null,0,111,null,null,null,{"$f":"SUM(P7:P14)","v":1},{"$f":"-SUM(Q7:Q14)","v":0},null,null,null,null,{"$f":"SUM(V7:V14)","v":1},{"$f":"-SUM(W7:W14)","v":0},null,null,null,{"$f":"SUM(AA7:AA14)","v":1},{"$f":"-SUM(AB7:AB14)","v":0},null,null,null,{"$f":"SUM(AF7:AF14)","v":1},{"$f":"-SUM(AG7:AG14)","v":0},null,null,null,{"$f":"SUM(AK7:AK14)","v":1},{"$f":"-SUM(AL7:AL14)","v":0},null,null,null,{"$f":"SUM(AP7:AP14)","v":1},{"$f":"-SUM(AQ7:AQ14)","v":0},null,null,null,{"$f":"SUM(AU7:AU14)","v":1},{"$f":"-SUM(AV7:AV14)","v":0}]
[11,956,11,958,12,960,null,null,null,null,0,111,null,null,null,"U=",{"$f":"Q15/(LOG(Q4)/LOG(2))","v":0},null,null,null,null,"U1=",{"$f":"W15/(LOG(W4)/LOG(2))","v":0},null,null,null,"U2=",{"$f":"AB15/(LOG(AB4)/LOG(2))","v":0},null,null,null,"U3=",{"$f":"AG15/(LOG(AG4)/LOG(2))","v":0},null,null,null,"U4=",{"$f":"AL15/(LOG(AL4)/LOG(2))","v":0},null,null,null,"U5=",{"$f":"AQ15/(LOG(AQ4)/LOG(2))","v":0},null,null,null,"U6=",{"$f":"AV15/(LOG(AV4)/LOG(2))","v":0}]
[11,1124,11,1126,12,1128,null,null,null,null,0,111]
[11,1236,11,1237,12,1239,null,null,null,null,0,111]
[11,1344,11,1346,12,1347,null,null,null,null,null,111,null,"Total Target Seq"]
[null,null,null,null,null,null,null,null,null,null,null,null,null,{"$f":"COUNTIF(L7:L19,G3)","v":0},null,2,2,3,2,2,2]
[null,null,null,null,null,null,null,null,null,null,null,null,null,null,null,"% of reinforcement given in 6 equal intervals based on number of trials "]
[null,null,null,null,null,null,null,null,null,null,null,null,null,null,null,"%_1","%_2","%_3","%_4","%_5","%_6"]
[null,null,null,null,null,null,null,null,null,null,null,null,null,null,"target sequence",{"$f":"$G$3","v":112},112,112,112,112,112]
[null,null,null,null,null,null,null,null,null,null,null,null,null,null,"total reinforcement",{"$f":"U8","v":0},{"$f":"Z8","v":0},{"$f":"AE8","v":0},{"$f":"AJ8","v":0},{"$f":"AO8","v":0},{"$f":"AT8","v":0}]
[null,null,null,null,null,null,null,null,null,null,null,null,null,null,"% target"]
[null,null,null,null,null,null,null,null,null,null,null,null,null,null,"CCRF"]
[null,null,null,null,null,null,null,null,null,null,null,null,null,null,"% CCRf"]
[null,null,null,null,null,null,null,null,null,null,null,null,null,null,"average response rate",{"$f":"F8/P20","v":51},{"$f":"(F10-F8)/Q20","v":98},{"$f":"(F13-F10)/R20","v":115.33333333333333},{"$f":"(F15-F13)/S20","v":110.5},{"$f":"(F17-F15)/T20","v":131.5},{"$f":"(F19-F17)/U20","v":109.5}]

{"sheet":"!N122A10.Gus","index":28,"n_rows":151,"n_cols":48,"rows_kept":151,"cut":false,"hidden":false,"merged":[[1,1,1,2],[5,13,5,14],[18,13,18,14],[19,13,19,14],[4,19,4,22],[5,19,5,20],[4,39,4,42],[5,39,5,40],[4,44,4,47],[5,44,5,45],[4,24,4,27],[5,24,5,25],[4,29,4,32],[5,29,5,30],[4,34,4,37],[5,34,5,35]]}
["Report for:!N122A10.Gus"]
["Date:","<date>"]
["Hen:","<hen>",null,null,null,"Correct Sequence",{"$f":"Start!J2","v":112},null,null,null,null,null,null,null,null,"Total Sequences in Data",{"$f":"4994-COUNTBLANK(L7:L5000)","v":145},null,null,null,null,"Total Sequences in Block Data",{"$f":"COUNTA(L7:L30)","v":24},null,null,null,"Total Sequences in Block Data",{"$f":"COUNTA(L31:L54)","v":24},null,null,null,"Total Sequences in Block Data",{"$f":"COUNTA(L55:L79)","v":25},null,null,null,"Total Sequences in Block Data",{"$f":"COUNTA(L80:L103)","v":24},null,null,null,"Total Sequences in Block Data",{"$f":"COUNTA(L104:L127)","v":24},null,null,null,"Total Sequences in Block Data",{"$f":"COUNTA(L128:L151)","v":24}]
[null,null,null,null,null,null,null,null,null,null,null,null,null,null,null,"Total Sequences in Summary",{"$f":"SUM(O7:O14)","v":145},null,null,null,null,"Total Sequences in Block Summary",{"$f":"SUM(U7:U14)","v":24},null,null,null,"Total Sequences in Block Summary",{"$f":"SUM(Z7:Z14)","v":24},null,null,null,"Total Sequences in Block Summary",{"$f":"SUM(AE7:AE14)","v":25},null,null,null,"Total Sequences in Block Summary",{"$f":"SUM(AJ7:AJ14)","v":24},null,null,null,"Total Sequences in Block Summary",{"$f":"SUM(AO7:AO14)","v":24},null,null,null,"Total Sequences in Block Summary",{"$f":"SUM(AT7:AT14)","v":24}]
[null,null,null,null,null,null,null,null,null,null,null,null,null,null,null,null,null,null,null,"Block 1",null,null,null,null,"Block 2",null,null,null,null,"Block 3",null,null,null,null,"Block 4",null,null,null,null,"Block 5",null,null,null,null,"Block 6"]
["Sequence\nComponent\n1","Time\n1","Sequence\nComponent\n2","Time\n2","Sequence\nComponent\n3","Time\n3","Sequence\nComponent\n4","Time\n4","Sequence\nComponent\n5","Time\n5","Correct?\n0=No 1=Yes","Sequence",null,"Frequency",null,"Relative Frequency","Variability",null,null,"Frequency",null,"Relative Frequency","Variability",null,"Frequency",null,"Relative Frequency","Variability",null,"Frequency",null,"Relative Frequency","Variability",null,"Frequency",null,"Relative Frequency","Variability",null,"Frequency",null,"Relative Frequency","Variability",null,"Frequency",null,"Relative Frequency","Variability"]
[11,14,11,21,21,51,null,null,null,null,0,112,null,111,{"$f":"COUNTIF($L$7:$L$500,N7)","v":18},{"$f":"O7/$Q$4","v":0.12413793103448276},{"$f":"IF(P7=0,0,(P7*((LOG(P7))/LOG(2))))","v":-0.37365319720211859},null,null,{"$f":"N7","v":111},{"$f":"COUNTIF(L7:L30,T7)","v":2},{"$f":"U7/(W4-U8)","v":0.11764705882352941},{"$f":"IF(V7=0,0,(V7*((LOG(V7))/LOG(2))))","v":-0.36323092250003997},null,{"$f":"N7","v":111},{"$f":"COUNTIF(L31:L54,Y7)","v":0},{"$f":"Z7/(AB4-Z8)","v":0},{"$f":"IF(AA7=0,0,(AA7*((LOG(AA7))/LOG(2))))","v":0},null,{"$f":"N7","v":111},{"$f":"COUNTIF(L55:L79,AD7)","v":4},{"$f":"AE7/(AG4-AE8)","v":0.18181818181818182},{"$f":"IF(AF7=0,0,(AF7*((LOG(AF7))/LOG(2))))","v":-0.44716938520678134},null,{"$f":"N7","v":111},{"$f":"COUNTIF(L80:L103,AI7)","v":3},{"$f":"AJ7/(AL4-AJ8)","v":0.14285714285714285},{"$f":"IF(AK7=0,0,(AK7*((LOG(AK7))/LOG(2))))","v":-0.40105070315108626},null,{"$f":"N7","v":111},{"$f":"COUNTIF(L104:L127,AN7)","v":7},{"$f":"AO7/(AQ4-AO8)","v":0.41176470588235292},{"$f":"IF(AP7=0,0,(AP7*((LOG(AP7))/LOG(2))))","v":-0.52710326084406744},null,{"$f":"N7","v":111},{"$f":"COUNTIF(L128:L151,AS7)","v":2},{"$f":"AT7/(AV4-AT8)","v":0.14285714285714285},{"$f":"IF(AU7=0,0,(AU7*((LOG(AU7))/LOG(2))))","v":-0.40105070315108626}]
[11,149,11,153,21,176,null,null,null,null,0,112,null,112,37,0.25517241379310346,-0.50280594346400986,null,null,112,{"$f":"COUNTIF(L7:L30,T8)","v":7},null,null,null,112,{"$f":"COUNTIF(L31:L54,Y8)","v":7},null,null,null,112,{"$f":"COUNTIF(L55:L79,AD8)","v":3},null,null,null,112,{"$f":"COUNTIF(L80:L103,AI8)","v":3},null,null,null,112,{"$f":"COUNTIF(L104:L127,AN8)","v":7},null,null,null,112,{"$f":"COUNTIF(L128:L151,AS8)","v":10}]
[11,275,11,280,12,286,null,null,null,null,0,111,null,121,12,8.2758620689655171E-2,-0.29751282118293337,null,null,121,{"$f":"COUNTIF(L7:L30,T9)","v":0},{"$f":"U9/(W4-U8)","v":0},{"$f":"IF(V9=0,0,(V9*((LOG(V9))/LOG(2))))","v":0},null,121,{"$f":"COUNTIF(L31:L54,Y9)","v":1},{"$f":"Z9/(AB4-Z8)","v":5.8823529411764705E-2},{"$f":"IF(AA9=0,0,(AA9*((LOG(AA9))/LOG(2))))","v":-0.24043899066178465},null,121,{"$f":"COUNTIF(L55:L79,AD9)","v":1},{"$f":"AE9/(AG4-AE8)","v":4.5454545454545456E-2},{"$f":"IF(AF9=0,0,(AF9*((LOG(AF9))/LOG(2))))","v":-0.20270143721078623},null,121,{"$f":"COUNTIF(L80:L103,AI9)","v":2},{"$f":"AJ9/(AL4-AJ8)","v":9.5238095238095233E-2},{"$f":"IF(AK9=0,0,(AK9*((LOG(AK9))/LOG(2))))","v":-0.32307784978845333},null,121,{"$f":"COUNTIF(L104:L127,AN9)","v":3},{"$f":"AO9/(AQ4-AO8)","v":0.17647058823529413},{"$f":"IF(AP9=0,0,(AP9*((LOG(AP9))/LOG(2))))","v":-0.44161770715220888},null,121,{"$f":"COUNTIF(L128:L151,AS9)","v":5},{"$f":"AT9/(AV4-AT8)","v":0.35714285714285715},{"$f":"IF(AU9=0,0,(AU9*((LOG(AU9))/LOG(2))))","v":-0.53050958113222924}]
[11,391,22,439,23,448,null,null,null,null,0,122,null,122,61,0.4206896551724138,-0.52551363379017202,null,null,122,{"$f":"COUNTIF(L7:L30,T10)","v":11},{"$f":"U10/(W4-U8)","v":0.6470588235294118},-0.40637314404373309,null,122,{"$f":"COUNTIF(L31:L54,Y10)","v":12},{"$f":"Z10/(AB4-Z8)","v":0.70588235294117652},-0.35470612272648222,null,122,{"$f":"COUNTIF(L55:L79,AD10)","v":12},{"$f":"AE10/(AG4-AE8)","v":0.54545454545454541},-0.47698315522698609,null,122,{"$f":"COUNTIF(L80:L103,AI10)","v":15},{"$f":"AJ10/(AL4-AJ8)","v":0.7142857142857143},-0.34673344797874411,null,122,{"$f":"COUNTIF(L104:L127,AN10)","v":5},{"$f":"AO10/(AQ4-AO8)","v":0.29411764705882354},-0.51927492540087561,null,122,{"$f":"COUNTIF(L128:L151,AS10)","v":6},{"$f":"AT10/(AV4-AT8)","v":0.42857142857142855},-0.52388246628704915]
[11,561,11,573,21,590,null,null,null,null,0,112,null,211,0,0,0,null,null,211,{"$f":"COUNTIF(L7:L30,T11)","v":0},{"$f":"U11/(W4-U8)","v":0},0,null,211,{"$f":"COUNTIF(L31:L54,Y11)","v":0},{"$f":"Z11/(AB4-Z8)","v":0},0,null,211,{"$f":"COUNTIF(L55:L79,AD11)","v":0},{"$f":"AE11/(AG4-AE8)","v":0},0,null,211,{"$f":"COUNTIF(L80:L103,AI11)","v":0},{"$f":"AJ11/(AL4-AJ8)","v":0},0,null,211,{"$f":"COUNTIF(L104:L127,AN11)","v":0},{"$f":"AO11/(AQ4-AO8)","v":0},0,null,211,{"$f":"COUNTIF(L128:L151,AS11)","v":0},{"$f":"AT11/(AV4-AT8)","v":0},0]
[11,692,11,696,12,709,null,null,null,null,0,111,null,212,5,3.4482758620689655E-2,-0.16751658603888178,null,null,212,{"$f":"COUNTIF(L7:L30,T12)","v":0},{"$f":"U12/(W4-U8)","v":0},0,null,212,{"$f":"COUNTIF(L31:L54,Y12)","v":1},{"$f":"Z12/(AB4-Z8)","v":5.8823529411764705E-2},-0.24043899066178465,null,212,{"$f":"COUNTIF(L55:L79,AD12)","v":2},{"$f":"AE12/(AG4-AE8)","v":9.0909090909090912E-2},-0.31449378351248153,null,212,{"$f":"COUNTIF(L80:L103,AI12)","v":1},{"$f":"AJ12/(AL4-AJ8)","v":4.7619047619047616E-2},-0.20915797251327431,null,212,{"$f":"COUNTIF(L104:L127,AN12)","v":1},{"$f":"AO12/(AQ4-AO8)","v":5.8823529411764705E-2},-0.24043899066178465,null,212,{"$f":"COUNTIF(L128:L151,AS12)","v":0},{"$f":"AT12/(AV4-AT8)","v":0},0]
[11,812,22,835,23,841,null,null,null,null,0,122,null,221,4,2.7586206896551724E-2,-0.14289404386248095,null,null,221,{"$f":"COUNTIF(L7:L30,T13)","v":1},{"$f":"U13/(W4-U8)","v":5.8823529411764705E-2},-0.24043899066178465,null,221,{"$f":"COUNTIF(L31:L54,Y13)","v":2},{"$f":"Z13/(AB4-Z8)","v":0.11764705882352941},-0.36323092250003997,null,221,{"$f":"COUNTIF(L55:L79,AD13)","v":0},{"$f":"AE13/(AG4-AE8)","v":0},0,null,221,{"$f":"COUNTIF(L80:L103,AI13)","v":0},{"$f":"AJ13/(AL4-AJ8)","v":0},0,null,221,{"$f":"COUNTIF(L104:L127,AN13)","v":0},{"$f":"AO13/(AQ4-AO8)","v":0},0,null,221,{"$f":"COUNTIF(L128:L151,AS13)","v":1},{"$f":"AT13/(AV4-AT8)","v":7.1428571428571425E-2},-0.27195392300411453]
[11,943,11,946,21,952,null,null,null,null,0,112,null,222,8,5.5172413793103448E-2,-0.23061567393185844,null,null,222,{"$f":"COUNTIF(L7:L30,T14)","v":3},{"$f":"U14/(W4-U8)","v":0.17647058823529413},-0.44161770715220888,null,222,{"$f":"COUNTIF(L31:L54,Y14)","v":1},{"$f":"Z14/(AB4-Z8)","v":5.8823529411764705E-2},-0.24043899066178465,null,222,{"$f":"COUNTIF(L55:L79,AD14)","v":3},{"$f":"AE14/(AG4-AE8)","v":0.13636363636363635},-0.39197306153401923,null,222,{"$f":"COUNTIF(L80:L103,AI14)","v":0},{"$f":"AJ14/(AL4-AJ8)","v":0},0,null,222,{"$f":"COUNTIF(L104:L127,AN14)","v":1},{"$f":"AO14/(AQ4-AO8)","v":5.8823529411764705E-2},-0.24043899066178465,null,222,{"$f":"COUNTIF(L128:L151,AS14)","v":0},{"$f":"AT14/(AV4-AT8)","v":0},0]
[11,1046,22,1054,23,1059,null,null,null,null,0,122,null,null,null,{"$f":"SUM(P7:P14)","v":0.99999999999999989},{"$f":"-SUM(Q7:Q14)","v":2.2405118994724553},null,null,null,null,{"$f":"SUM(V7:V14)","v":1},{"$f":"-SUM(W7:W14)","v":1.4516607643577666},null,null,null,{"$f":"SUM(AA7:AA14)","v":1},{"$f":"-SUM(AB7:AB14)","v":1.439254017211876},null,null,null,{"$f":"SUM(AF7:AF14)","v":1},{"$f":"-SUM(AG7:AG14)","v":1.8333208226910545},null,null,null,{"$f":"SUM(AK7:AK14)","v":1},{"$f":"-SUM(AL7:AL14)","v":1.280019973431558},null,null,null,{"$f":"SUM(AP7:AP14)","v":1},{"$f":"-SUM(AQ7:AQ14)","v":1.9688738747207215},null,null,null,{"$f":"SUM(AU7:AU14)","v":1},{"$f":"-SUM(AV7:AV14)","v":1.7273966735744792}]
[11,1188,22,1194,23,1202,null,null,null,null,0,122,null,null,null,"U=",{"$f":"Q15/(LOG(Q4)/LOG(2))","v":0.31205296214520661},null,null,null,null,"U1=",{"$f":"W15/(LOG(W4)/LOG(2))","v":0.31661344321342627},null,null,null,"U2=",{"$f":"AB15/(LOG(AB4)/LOG(2))","v":0.31390747841132827},null,null,null,"U3=",{"$f":"AG15/(LOG(AG4)/LOG(2))","v":0.39478415088043228},null,null,null,"U4=",{"$f":"AL15/(LOG(AL4)/LOG(2))","v":0.2791778500326289},null,null,null,"U5=",{"$f":"AQ15/(LOG(AQ4)/LOG(2))","v":0.42941984245477316},null,null,null,"U6=",{"$f":"AV15/(LOG(AV4)/LOG(2))","v":0.37675262846812418}]
[11,1311,22,1328,23,1340,null,null,null,null,0,122]
[11,1443,11,1449,21,1462,null,null,null,null,0,112]
[11,1565,22,1590,23,1597,null,null,null,null,0,122,null,"Total Target Seq"]
[22,1697,24,1703,23,1710,null,null,null,null,0,222,null,{"$f":"COUNTIF(L7:L151,G3)","v":37},null,24,24,25,24,24,24]
[11,1812,22,1819,23,1835,null,null,null,null,0,122,null,null,null,"% of reinforcement given in 6 equal intervals based on number of trials "]
[11,1933,11,1939,21,1945,null,null,null,null,0,112,null,null,null,"%_1","%_2","%_3","%_4","%_5","%_6"]
[22,2043,24,2051,23,2059,null,null,null,null,0,222,null,null,"target sequence",{"$f":"$G$3","v":112},112,112,112,112,112]
[11,2156,22,2162,23,2165,null,null,null,null,0,122,null,null,"total reinforcement",{"$f":"U8","v":7},{"$f":"Z8","v":7},{"$f":"AE8","v":3},{"$f":"AJ8","v":3},{"$f":"AO8","v":7},{"$f":"AT8","v":10}]
[22,2265,24,2270,23,2276,null,null,null,null,0,222,null,null,"% target"]
[11,2376,22,2387,23,2401,null,null,null,null,0,122,null,null,"CCRF"]
[22,2498,24,2503,14,2508,null,null,null,null,0,221,null,null,"% CCRf"]
[11,2603,22,2624,23,2634,null,null,null,null,0,122,null,null,"average response rate",{"$f":"F30/P20","v":120.08333333333333},{"$f":"(F54-F30)/Q20","v":118.66666666666667},{"$f":"(F79-F54)/R20","v":120.96},{"$f":"(F103-F79)/S20","v":127},{"$f":"(F127-F103)/T20","v":135.45833333333334},{"$f":"(F151-F127)/U20","v":162.08333333333334}]
[11,2735,11,2738,21,2755,null,null,null,null,0,112]
[11,2849,22,2871,23,2882,null,null,null,null,0,122]
[11,2982,22,3003,23,3011,null,null,null,null,0,122]
[11,3107,11,3112,21,3121,null,null,null,null,0,112]
[11,3214,22,3226,14,3229,null,null,null,null,0,121]
[11,3337,22,3355,23,3363,null,null,null,null,0,122]
[11,3461,22,3470,23,3476,null,null,null,null,0,122]
[22,3572,13,3576,23,3578,null,null,null,null,0,212]
[11,3682,22,3690,23,3698,null,null,null,null,0,122]
[11,3794,11,3796,21,3802,null,null,null,null,0,112]
[11,3920,22,3931,23,3940,null,null,null,null,0,122]
[11,4035,22,4040,23,4048,null,null,null,null,0,122]
[11,4140,11,4151,21,4165,null,null,null,null,0,112]
[11,4258,22,4263,23,4268,null,null,null,null,0,122]
[11,4364,22,4379,23,4401,null,null,null,null,0,122]
[22,4515,24,4521,23,4527,null,null,null,null,0,222]
[11,4619,11,4626,21,4631,null,null,null,null,0,112]
[22,4736,24,4742,14,4746,null,null,null,null,0,221]
[11,4852,11,4855,21,4870,null,null,null,null,0,112]
[11,4972,22,4985,23,4991,null,null,null,null,0,122]
[11,5090,11,5093,21,5096,null,null,null,null,0,112]
[11,5191,22,5204,23,5211,null,null,null,null,0,122]
[11,5313,11,5317,21,5339,null,null,null,null,0,112]
[22,5490,24,5495,14,5498,null,null,null,null,0,221]
[11,5594,22,5607,23,5621,null,null,null,null,0,122]
[11,5716,22,5724,23,5730,null,null,null,null,0,122]
[11,5824,22,5831,23,5840,null,null,null,null,0,122]
[11,5940,22,5945,23,5958,null,null,null,null,0,122]
[11,6050,11,6060,12,6065,null,null,null,null,0,111]
[11,6156,22,6164,14,6171,null,null,null,null,0,121]
[11,6268,22,6281,23,6300,null,null,null,null,0,122]
[11,6393,11,6399,21,6407,null,null,null,null,0,112]
[11,6531,22,6543,23,6551,null,null,null,null,0,122]
[11,6647,22,6661,23,6669,null,null,null,null,0,122]
[11,6762,11,6765,12,6768,null,null,null,null,0,111]
[22,6870,13,6875,23,6881,null,null,null,null,0,212]
[11,6979,22,6987,23,6993,null,null,null,null,0,122]
[11,7096,11,7099,21,7116,null,null,null,null,0,112]
[11,7260,11,7278,21,7292,null,null,null,null,0,112]
[11,7476,22,7484,23,7502,null,null,null,null,0,122]
[22,7610,24,7620,23,7630,null,null,null,null,0,222]
[22,7731,24,7737,23,7745,null,null,null,null,0,222]
[11,7840,22,7854,23,7861,null,null,null,null,0,122]
[11,7956,22,7970,23,7978,null,null,null,null,0,122]
[11,8071,11,8086,12,8091,null,null,null,null,0,111]
[11,8183,22,8192,23,8199,null,null,null,null,0,122]
[11,8293,22,8311,23,8322,null,null,null,null,0,122]
[22,8425,13,8427,23,8430,null,null,null,null,0,212]
[11,8523,22,8531,23,8537,null,null,null,null,0,122]
[11,8634,11,8636,12,8638,null,null,null,null,0,111]
[22,8740,24,8746,23,8754,null,null,null,null,0,222]
[11,8855,22,8867,23,8877,null,null,null,null,0,122]
[11,8970,22,8984,23,8988,null,null,null,null,0,122]
[22,9088,13,9093,23,9097,null,null,null,null,0,212]
[11,9193,22,9201,23,9207,null,null,null,null,0,122]
[11,9303,11,9307,12,9309,null,null,null,null,0,111]
[11,9401,11,9411,12,9418,null,null,null,null,0,111]
[11,9559,11,9564,21,9585,null,null,null,null,0,112]
[11,9787,22,9809,14,9815,null,null,null,null,0,121]
[11,9961,22,9979,23,9993,null,null,null,null,0,122]
[11,10094,22,10111,23,10123,null,null,null,null,0,122]
[11,10222,22,10226,23,10233,null,null,null,null,0,122]
[11,10331,11,10334,21,10349,null,null,null,null,0,112]
[11,10473,22,10486,23,10494,null,null,null,null,0,122]
[11,10591,22,10598,23,10604,null,null,null,null,0,122]
[11,10701,11,10706,21,10728,null,null,null,null,0,112]
[11,10823,22,10838,23,10847,null,null,null,null,0,122]
[11,10986,22,11017,23,11028,null,null,null,null,0,122]
[11,11124,22,11133,23,11136,null,null,null,null,0,122]
[11,11230,22,11239,23,11246,null,null,null,null,0,122]
[11,11342,22,11351,23,11357,null,null,null,null,0,122]
[11,11452,22,11467,23,11475,null,null,null,null,0,122]
[11,11569,11,11575,12,11579,null,null,null,null,0,111]
[11,11675,22,11683,14,11686,null,null,null,null,0,121]
[11,11779,22,11796,23,11802,null,null,null,null,0,122]
[11,11901,11,11905,12,11911,null,null,null,null,0,111]
[22,12010,24,12013,23,12018,null,null,null,null,0,222]
[11,12110,11,12131,21,12133,null,null,null,null,0,112]
[11,12269,22,12274,23,12282,null,null,null,null,0,122]
[11,12378,11,12396,21,12405,null,null,null,null,0,112]
[11,12588,22,12594,14,12601,null,null,null,null,0,121]
[11,12739,22,12755,14,12757,null,null,null,null,0,121]
[11,12850,11,12857,12,12872,null,null,null,null,0,111]
[11,12965,11,12976,12,12978,null,null,null,null,0,111]
[11,13077,11,13082,12,13098,null,null,null,null,0,111]
[11,13190,22,13205,23,13211,null,null,null,null,0,122]
[11,13309,11,13313,12,13328,null,null,null,null,0,111]
[11,13421,11,13429,12,13432,null,null,null,null,0,111]
[11,13532,22,13541,23,13546,null,null,null,null,0,122]
[11,13641,11,13646,21,13654,null,null,null,null,0,112]
[11,13744,11,13748,21,13761,null,null,null,null,0,112]
[11,13972,22,13976,23,13988,null,null,null,null,0,122]
[11,14133,11,14152,21,14157,null,null,null,null,0,112]
[11,14320,11,14326,21,14341,null,null,null,null,0,112]
[11,14489,11,14492,12,14508,null,null,null,null,0,111]
[22,14656,13,14660,23,14669,null,null,null,null,0,212]
[11,14784,22,14801,14,14803,null,null,null,null,0,121]
[11,14922,11,14927,21,14942,null,null,null,null,0,112]
[11,15038,22,15041,23,15053,null,null,null,null,0,122]
[11,15155,22,15168,14,15172,null,null,null,null,0,121]
[11,15284,22,15300,23,15309,null,null,null,null,0,122]
[11,15410,22,15414,23,15420,null,null,null,null,0,122]
[11,15515,11,15519,21,15545,null,null,null,null,0,112]
[11,15688,22,15699,14,15703,null,null,null,null,0,121]
[11,15809,11,15813,21,15825,null,null,null,null,0,112]
[11,16076,22,16092,14,16095,null,null,null,null,0,121]
[11,16211,11,16216,21,16230,null,null,null,null,0,112]
[11,16466,11,16486,21,16493,null,null,null,null,0,112]
[11,16756,11,16777,21,16792,null,null,null,null,0,112]
[11,17048,11,17061,21,17064,null,null,null,null,0,112]
[11,17217,22,17230,14,17236,null,null,null,null,0,121]
[11,17334,11,17338,12,17356,null,null,null,null,0,111]
[11,17448,22,17455,23,17460,null,null,null,null,0,122]
[22,17564,24,17572,14,17576,null,null,null,null,0,221]
[11,17675,22,17689,23,17698,null,null,null,null,0,122]
[11,17803,22,17807,23,17817,null,null,null,null,0,122]
[11,17918,22,17921,23,17927,null,null,null,null,0,122]
[11,18023,11,18035,21,18041,null,null,null,null,0,112]
[11,18154,11,18167,21,18173,null,null,null,null,0,112]
[11,18430,11,18446,21,18453,null,null,null,null,0,112]
[11,18636,11,18642,12,18658,null,null,null,null,0,111]
[11,18808,22,18820,14,18825,null,null,null,null,0,121]
[11,18917,11,18930,21,18943,null,null,null,null,1,112]

{"sheet":"!N123A30.Gus","index":29,"n_rows":119,"n_cols":48,"rows_kept":119,"cut":false,"hidden":false,"merged":[[1,1,1,2],[5,13,5,14],[18,13,18,14],[19,13,19,14],[4,19,4,22],[5,19,5,20],[4,39,4,42],[5,39,5,40],[4,44,4,47],[5,44,5,45],[4,24,4,27],[5,24,5,25],[4,29,4,32],[5,29,5,30],[4,34,4,37],[5,34,5,35]]}
["Report for:!N123A30.Gus"]
["Date:","<date>"]
["Hen:","<hen>",null,null,null,"Correct Sequence",{"$f":"Start!J2","v":112},null,null,null,null,null,null,null,null,"Total Sequences in Data",{"$f":"4994-COUNTBLANK(L7:L5000)","v":113},null,null,null,null,"Total Sequences in Block Data",{"$f":"COUNTA(L7:L25)","v":19},null,null,null,"Total Sequences in Block Data",{"$f":"COUNTA(L26:L44)","v":19},null,null,null,"Total Sequences in Block Data",{"$f":"COUNTA(L45:L62)","v":18},null,null,null,"Total Sequences in Block Data",{"$f":"COUNTA(L63:L81)","v":19},null,null,null,"Total Sequences in Block Data",{"$f":"COUNTA(L82:L100)","v":19},null,null,null,"Total Sequences in Block Data",{"$f":"COUNTA(L101:L119)","v":19}]
[null,null,null,null,null,null,null,null,null,null,null,null,null,null,null,"Total Sequences in Summary",{"$f":"SUM(O7:O14)","v":113},null,null,null,null,"Total Sequences in Block Summary",{"$f":"SUM(U7:U14)","v":19},null,null,null,"Total Sequences in Block Summary",{"$f":"SUM(Z7:Z14)","v":19},null,null,null,"Total Sequences in Block Summary",{"$f":"SUM(AE7:AE14)","v":18},null,null,null,"Total Sequences in Block Summary",{"$f":"SUM(AJ7:AJ14)","v":19},null,null,null,"Total Sequences in Block Summary",{"$f":"SUM(AO7:AO14)","v":19},null,null,null,"Total Sequences in Block Summary",{"$f":"SUM(AT7:AT14)","v":19}]
[null,null,null,null,null,null,null,null,null,null,null,null,null,null,null,null,null,null,null,"Block 1",null,null,null,null,"Block 2",null,null,null,null,"Block 3",null,null,null,null,"Block 4",null,null,null,null,"Block 5",null,null,null,null,"Block 6"]
["Sequence\nComponent\n1","Time\n1","Sequence\nComponent\n2","Time\n2","Sequence\nComponent\n3","Time\n3","Sequence\nComponent\n4","Time\n4","Sequence\nComponent\n5","Time\n5","Correct?\n0=No 1=Yes","Sequence",null,"Frequency",null,"Relative Frequency","Variability",null,null,"Frequency",null,"Relative Frequency","Variability",null,"Frequency",null,"Relative Frequency","Variability",null,"Frequency",null,"Relative Frequency","Variability",null,"Frequency",null,"Relative Frequency","Variability",null,"Frequency",null,"Relative Frequency","Variability",null,"Frequency",null,"Relative Frequency","Variability"]
[11,36,11,40,12,43,null,null,null,null,0,111,null,111,{"$f":"COUNTIF($L$7:$L$500,N7)","v":7},{"$f":"O7/$Q$4","v":6.1946902654867256E-2},{"$f":"IF(P7=0,0,(P7*((LOG(P7))/LOG(2))))","v":-0.24858202019914233},null,null,{"$f":"N7","v":111},{"$f":"COUNTIF(L7:L25,T7)","v":1},{"$f":"U7/(W4-U8)","v":6.6666666666666666E-2},{"$f":"IF(V7=0,0,(V7*((LOG(V7))/LOG(2))))","v":-0.26045937304056793},null,{"$f":"N7","v":111},{"$f":"COUNTIF(L26:L44,Y7)","v":1},{"$f":"Z7/(AB4-Z8)","v":7.6923076923076927E-2},{"$f":"IF(AA7=0,0,(AA7*((LOG(AA7))/LOG(2))))","v":-0.28464920908777636},null,{"$f":"N7","v":111},{"$f":"COUNTIF(L45:L62,AD7)","v":1},{"$f":"AE7/(AG4-AE8)","v":7.1428571428571425E-2},{"$f":"IF(AF7=0,0,(AF7*((LOG(AF7))/LOG(2))))","v":-0.27195392300411453},null,{"$f":"N7","v":111},{"$f":"COUNTIF(L63:L81,AI7)","v":0},{"$f":"AJ7/(AL4-AJ8)","v":0},{"$f":"IF(AK7=0,0,(AK7*((LOG(AK7))/LOG(2))))","v":0},null,{"$f":"N7","v":111},{"$f":"COUNTIF(L82:L100,AN7)","v":0},{"$f":"AO7/(AQ4-AO8)","v":0},{"$f":"IF(AP7=0,0,(AP7*((LOG(AP7))/LOG(2))))","v":0},null,{"$f":"N7","v":111},{"$f":"COUNTIF(L101:L119,AS7)","v":4},{"$f":"AT7/(AV4-AT8)","v":0.4},{"$f":"IF(AU7=0,0,(AU7*((LOG(AU7))/LOG(2))))","v":-0.52877123795494496}]
[11,149,22,156,23,162,null,null,null,null,0,122,null,112,37,0.32743362831858408,-0.52740572638133454,null,null,112,{"$f":"COUNTIF(L7:L25,T8)","v":4},null,null,null,112,{"$f":"COUNTIF(L26:L44,Y8)","v":6},null,null,null,112,{"$f":"COUNTIF(L45:L62,AD8)","v":4},null,null,null,112,{"$f":"COUNTIF(L63:L81,AI8)","v":6},null,null,null,112,{"$f":"COUNTIF(L82:L100,AN8)","v":8},null,null,null,112,{"$f":"COUNTIF(L101:L119,AS8)","v":9}]
[22,263,24,267,23,274,null,null,null,null,0,222,null,121,6,5.3097345132743362E-2,-0.22487875017844416,null,null,121,{"$f":"COUNTIF(L7:L25,T9)","v":1},{"$f":"U9/(W4-U8)","v":6.6666666666666666E-2},{"$f":"IF(V9=0,0,(V9*((LOG(V9))/LOG(2))))","v":-0.26045937304056793},null,121,{"$f":"COUNTIF(L26:L44,Y9)","v":0},{"$f":"Z9/(AB4-Z8)","v":0},{"$f":"IF(AA9=0,0,(AA9*((LOG(AA9))/LOG(2))))","v":0},null,121,{"$f":"COUNTIF(L45:L62,AD9)","v":0},{"$f":"AE9/(AG4-AE8)","v":0},{"$f":"IF(AF9=0,0,(AF9*((LOG(AF9))/LOG(2))))","v":0},null,121,{"$f":"COUNTIF(L63:L81,AI9)","v":2},{"$f":"AJ9/(AL4-AJ8)","v":0.15384615384615385},{"$f":"IF(AK9=0,0,(AK9*((LOG(AK9))/LOG(2))))","v":-0.4154522643293988},null,121,{"$f":"COUNTIF(L82:L100,AN9)","v":2},{"$f":"AO9/(AQ4-AO8)","v":0.18181818181818182},{"$f":"IF(AP9=0,0,(AP9*((LOG(AP9))/LOG(2))))","v":-0.44716938520678134},null,121,{"$f":"COUNTIF(L101:L119,AS9)","v":1},{"$f":"AT9/(AV4-AT8)","v":0.1},{"$f":"IF(AU9=0,0,(AU9*((LOG(AU9))/LOG(2))))","v":-0.33219280948873625}]
[11,380,22,389,23,399,null,null,null,null,0,122,null,122,47,0.41592920353982299,-0.5263958867669456,null,null,122,{"$f":"COUNTIF(L7:L25,T10)","v":8},{"$f":"U10/(W4-U8)","v":0.53333333333333333},-0.4836749843245432,null,122,{"$f":"COUNTIF(L26:L44,Y10)","v":9},{"$f":"Z10/(AB4-Z8)","v":0.69230769230769229},-0.36727941925300139,null,122,{"$f":"COUNTIF(L45:L62,AD10)","v":10},{"$f":"AE10/(AG4-AE8)","v":0.7142857142857143},-0.34673344797874411,null,122,{"$f":"COUNTIF(L63:L81,AI10)","v":9},{"$f":"AJ10/(AL4-AJ8)","v":0.69230769230769229},-0.36727941925300139,null,122,{"$f":"COUNTIF(L82:L100,AN10)","v":8},{"$f":"AO10/(AQ4-AO8)","v":0.72727272727272729},-0.33413208628167068,null,122,{"$f":"COUNTIF(L101:L119,AS10)","v":3},{"$f":"AT10/(AV4-AT8)","v":0.3},-0.52108967824986185]
[11,496,11,500,21,506,null,null,null,null,0,112,null,211,0,0,0,null,null,211,{"$f":"COUNTIF(L7:L25,T11)","v":0},{"$f":"U11/(W4-U8)","v":0},0,null,211,{"$f":"COUNTIF(L26:L44,Y11)","v":0},{"$f":"Z11/(AB4-Z8)","v":0},0,null,211,{"$f":"COUNTIF(L45:L62,AD11)","v":0},{"$f":"AE11/(AG4-AE8)","v":0},0,null,211,{"$f":"COUNTIF(L63:L81,AI11)","v":0},{"$f":"AJ11/(AL4-AJ8)","v":0},0,null,211,{"$f":"COUNTIF(L82:L100,AN11)","v":0},{"$f":"AO11/(AQ4-AO8)","v":0},0,null,211,{"$f":"COUNTIF(L101:L119,AS11)","v":0},{"$f":"AT11/(AV4-AT8)","v":0},0]
[11,607,22,628,14,634,null,null,null,null,0,121,null,212,8,7.0796460176991149E-2,-0.27045514778160623,null,null,212,{"$f":"COUNTIF(L7:L25,T12)","v":2},{"$f":"U12/(W4-U8)","v":0.13333333333333333},-0.3875854127478025,null,212,{"$f":"COUNTIF(L26:L44,Y12)","v":2},{"$f":"Z12/(AB4-Z8)","v":0.15384615384615385},-0.4154522643293988,null,212,{"$f":"COUNTIF(L45:L62,AD12)","v":2},{"$f":"AE12/(AG4-AE8)","v":0.14285714285714285},-0.40105070315108626,null,212,{"$f":"COUNTIF(L63:L81,AI12)","v":1},{"$f":"AJ12/(AL4-AJ8)","v":7.6923076923076927E-2},-0.28464920908777636,null,212,{"$f":"COUNTIF(L82:L100,AN12)","v":0},{"$f":"AO12/(AQ4-AO8)","v":0},0,null,212,{"$f":"COUNTIF(L101:L119,AS12)","v":1},{"$f":"AT12/(AV4-AT8)","v":0.1},-0.33219280948873625]
[11,768,22,780,23,791,null,null,null,null,0,122,null,221,2,1.7699115044247787E-2,-0.10301201703389713,null,null,221,{"$f":"COUNTIF(L7:L25,T13)","v":1},{"$f":"U13/(W4-U8)","v":6.6666666666666666E-2},-0.26045937304056793,null,221,{"$f":"COUNTIF(L26:L44,Y13)","v":0},{"$f":"Z13/(AB4-Z8)","v":0},0,null,221,{"$f":"COUNTIF(L45:L62,AD13)","v":0},{"$f":"AE13/(AG4-AE8)","v":0},0,null,221,{"$f":"COUNTIF(L63:L81,AI13)","v":0},{"$f":"AJ13/(AL4-AJ8)","v":0},0,null,221,{"$f":"COUNTIF(L82:L100,AN13)","v":1},{"$f":"AO13/(AQ4-AO8)","v":9.0909090909090912E-2},-0.31449378351248153,null,221,{"$f":"COUNTIF(L101:L119,AS13)","v":0},{"$f":"AT13/(AV4-AT8)","v":0},0]
[11,886,22,899,23,906,null,null,null,null,0,122,null,222,6,5.3097345132743362E-2,-0.22487875017844416,null,null,222,{"$f":"COUNTIF(L7:L25,T14)","v":2},{"$f":"U14/(W4-U8)","v":0.13333333333333333},-0.3875854127478025,null,222,{"$f":"COUNTIF(L26:L44,Y14)","v":1},{"$f":"Z14/(AB4-Z8)","v":7.6923076923076927E-2},-0.28464920908777636,null,222,{"$f":"COUNTIF(L45:L62,AD14)","v":1},{"$f":"AE14/(AG4-AE8)","v":7.1428571428571425E-2},-0.27195392300411453,null,222,{"$f":"COUNTIF(L63:L81,AI14)","v":1},{"$f":"AJ14/(AL4-AJ8)","v":7.6923076923076927E-2},-0.28464920908777636,null,222,{"$f":"COUNTIF(L82:L100,AN14)","v":0},{"$f":"AO14/(AQ4-AO8)","v":0},0,null,222,{"$f":"COUNTIF(L101:L119,AS14)","v":1},{"$f":"AT14/(AV4-AT8)","v":0.1},-0.33219280948873625]
[11,1003,11,1011,21,1014,null,null,null,null,0,112,null,null,null,{"$f":"SUM(P7:P14)","v":1},{"$f":"-SUM(Q7:Q14)","v":2.1256082985198139},null,null,null,null,{"$f":"SUM(V7:V14)","v":0.99999999999999989},{"$f":"-SUM(W7:W14)","v":2.040223928941852},null,null,null,{"$f":"SUM(AA7:AA14)","v":1},{"$f":"-SUM(AB7:AB14)","v":1.3520301017579528},null,null,null,{"$f":"SUM(AF7:AF14)","v":1},{"$f":"-SUM(AG7:AG14)","v":1.2916919971380596},null,null,null,{"$f":"SUM(AK7:AK14)","v":1},{"$f":"-SUM(AL7:AL14)","v":1.3520301017579528},null,null,null,{"$f":"SUM(AP7:AP14)","v":1},{"$f":"-SUM(AQ7:AQ14)","v":1.0957952550009336},null,null,null,{"$f":"SUM(AU7:AU14)","v":1},{"$f":"-SUM(AV7:AV14)","v":2.0464393446710156}]
[22,1120,24,1127,23,1133,null,null,null,null,0,222,null,null,null,"U=",{"$f":"Q15/(LOG(Q4)/LOG(2))","v":0.31166459270844205},null,null,null,null,"U1=",{"$f":"W15/(LOG(W4)/LOG(2))","v":0.48028689813681474},null,null,null,"U2=",{"$f":"AB15/(LOG(AB4)/LOG(2))","v":0.31827993709382502},null,null,null,"U3=",{"$f":"AG15/(LOG(AG4)/LOG(2))","v":0.30976384387999389},null,null,null,"U4=",{"$f":"AL15/(LOG(AL4)/LOG(2))","v":0.31827993709382502},null,null,null,"U5=",{"$f":"AQ15/(LOG(AQ4)/LOG(2))","v":0.25795997025208806},null,null,null,"U6=",{"$f":"AV15/(LOG(AV4)/LOG(2))","v":0.48175006239973905}]
[11,1265,11,1280,21,1283,null,null,null,null,0,112]
[11,1421,22,1428,23,1433,null,null,null,null,0,122]
[11,1534,11,1539,21,1545,null,null,null,null,0,112,null,"Total Target Seq"]
[11,1656,22,1663,23,1678,null,null,null,null,0,122,null,{"$f":"COUNTIF(L7:L119,G3)","v":37},null,19,19,18,19,19,19]
[11,1775,22,1783,23,1794,null,null,null,null,0,122,null,null,null,"% of reinforcement given in 6 equal intervals based on number of trials "]
[11,1891,22,1898,23,1904,null,null,null,null,0,122,null,null,null,"%_1","%_2","%_3","%_4","%_5","%_6"]
[22,2006,13,2010,23,2016,null,null,null,null,0,212,null,null,"target sequence",{"$f":"$G$3","v":112},112,112,112,112,112]
[22,2120,24,2127,14,2132,null,null,null,null,0,221,null,null,"total reinforcement",{"$f":"U8","v":4},{"$f":"Z8","v":6},{"$f":"AE8","v":4},{"$f":"AJ8","v":6},{"$f":"AO8","v":8},{"$f":"AT8","v":9}]
[22,2233,13,2238,23,2240,null,null,null,null,0,212,null,null,"% target"]
[11,2372,22,2377,23,2390,null,null,null,null,0,122,null,null,"CCRF"]
[11,2484,22,2493,23,2498,null,null,null,null,0,122,null,null,"% CCRf"]
[11,2594,22,2600,23,2604,null,null,null,null,0,122,null,null,"average response rate",{"$f":"F25/P20","v":117.89473684210526},{"$f":"(F44-F25)/Q20","v":122.84210526315789},{"$f":"(F62-F44)/R20","v":119.94444444444444},{"$f":"(F81-F62)/S20","v":121.68421052631579},{"$f":"(F100-F81)/T20","v":144.15789473684211},{"$f":"(F119-F100)/U20","v":133.68421052631578}]
[11,2703,11,2706,21,2717,null,null,null,null,0,112]
[11,2837,22,2848,23,2856,null,null,null,null,0,122]
[11,2948,11,2959,21,2972,null,null,null,null,0,112]
[11,3102,11,3115,21,3118,null,null,null,null,0,112]
[22,3225,13,3233,23,3242,null,null,null,null,0,212]
[11,3345,22,3360,23,3368,null,null,null,null,0,122]
[11,3475,11,3481,21,3496,null,null,null,null,0,112]
[11,3603,11,3617,12,3624,null,null,null,null,0,111]
[11,3716,11,3730,21,3733,null,null,null,null,0,112]
[11,3838,22,3847,23,3856,null,null,null,null,0,122]
[11,3956,11,3966,21,3970,null,null,null,null,0,112]
[22,4080,24,4092,23,4105,null,null,null,null,0,222]
[11,4201,22,4211,23,4227,null,null,null,null,0,122]
[22,4331,13,4334,23,4336,null,null,null,null,0,212]
[11,4434,22,4439,23,4446,null,null,null,null,0,122]
[11,4541,22,4560,23,4574,null,null,null,null,0,122]
[11,4668,22,4679,23,4685,null,null,null,null,0,122]
[11,4786,22,4791,23,4803,null,null,null,null,0,122]
[11,4898,11,4907,21,4917,null,null,null,null,0,112]
[11,5008,22,5015,23,5024,null,null,null,null,0,122]
[11,5115,11,5120,21,5131,null,null,null,null,0,112]
[11,5238,11,5251,21,5259,null,null,null,null,0,112]
[11,5481,22,5494,23,5512,null,null,null,null,0,122]
[22,5615,24,5621,23,5627,null,null,null,null,0,222]
[11,5723,22,5731,23,5736,null,null,null,null,0,122]
[22,5837,13,5840,23,5847,null,null,null,null,0,212]
[11,5941,22,5950,23,5954,null,null,null,null,0,122]
[11,6048,22,6062,23,6065,null,null,null,null,0,122]
[11,6164,22,6170,23,6176,null,null,null,null,0,122]
[11,6270,11,6276,21,6278,null,null,null,null,0,112]
[11,6384,22,6394,23,6407,null,null,null,null,0,122]
[22,6509,13,6512,23,6515,null,null,null,null,0,212]
[11,6611,22,6617,23,6624,null,null,null,null,0,122]
[11,6717,11,6729,12,6733,null,null,null,null,0,111]
[11,6834,22,6845,23,6853,null,null,null,null,0,122]
[11,6948,22,6956,23,6963,null,null,null,null,0,122]
[11,7057,22,7066,14,7070,null,null,null,null,0,121]
[11,7167,11,7170,21,7181,null,null,null,null,0,112]
[11,7283,11,7288,21,7298,null,null,null,null,0,112]
[11,7422,22,7438,14,7444,null,null,null,null,0,121]
[11,7540,22,7550,23,7557,null,null,null,null,0,122]
[11,7653,22,7660,23,7665,null,null,null,null,0,122]
[22,7770,13,7775,23,7784,null,null,null,null,0,212]
[11,7876,11,7879,21,7888,null,null,null,null,0,112]
[11,8021,11,8034,21,8040,null,null,null,null,0,112]
[11,8195,22,8204,23,8211,null,null,null,null,0,122]
[11,8317,22,8334,23,8342,null,null,null,null,0,122]
[11,8435,22,8450,23,8458,null,null,null,null,0,122]
[11,8558,22,8563,23,8582,null,null,null,null,0,122]
[11,8673,11,8682,21,8688,null,null,null,null,0,112]
[11,8790,22,8798,23,8814,null,null,null,null,0,122]
[22,8917,24,8923,23,8930,null,null,null,null,0,222]
[11,9027,11,9031,21,9045,null,null,null,null,0,112]
[11,9159,22,9174,23,9176,null,null,null,null,0,122]
[11,9270,22,9285,23,9293,null,null,null,null,0,122]
[11,9391,22,9400,23,9409,null,null,null,null,0,122]
[11,9504,22,9511,23,9520,null,null,null,null,0,122]
[11,9616,11,9619,21,9632,null,null,null,null,0,112]
[11,9741,22,9754,23,9764,null,null,null,null,0,122]
[11,9856,22,9873,23,9880,null,null,null,null,0,122]
[11,9981,11,9999,21,10009,null,null,null,null,0,112]
[11,10113,11,10120,21,10133,null,null,null,null,0,112]
[11,10324,11,10336,21,10344,null,null,null,null,0,112]
[11,10466,11,10481,21,10484,null,null,null,null,0,112]
[11,10691,11,10705,21,10714,null,null,null,null,0,112]
[11,10862,11,10875,21,10879,null,null,null,null,0,112]
[11,11035,11,11049,21,11062,null,null,null,null,0,112]
[11,11290,22,11306,14,11310,null,null,null,null,0,121]
[11,11425,22,11445,14,11451,null,null,null,null,0,121]
[11,11555,22,11560,23,11567,null,null,null,null,0,122]
[22,11667,24,11672,14,11677,null,null,null,null,0,221]
[11,11771,22,11778,23,11784,null,null,null,null,0,122]
[11,11881,11,11884,12,11891,null,null,null,null,0,111]
[11,11989,22,11995,23,12001,null,null,null,null,0,122]
[11,12094,11,12101,12,12105,null,null,null,null,0,111]
[11,12200,11,12208,21,12217,null,null,null,null,0,112]
[11,12314,11,12321,21,12323,null,null,null,null,0,112]
[11,12423,11,12435,21,12443,null,null,null,null,0,112]
[22,12654,13,12656,23,12662,null,null,null,null,0,212]
[11,12765,22,12767,23,12773,null,null,null,null,0,122]
[11,12870,22,12882,14,12888,null,null,null,null,0,121]
[11,12980,11,12984,21,12995,null,null,null,null,0,112]
[11,13117,11,13133,21,13140,null,null,null,null,0,112]
[11,13377,11,13382,12,13397,null,null,null,null,0,111]
[11,13497,11,13501,21,13513,null,null,null,null,0,112]
[11,13635,22,13651,23,13662,null,null,null,null,0,122]
[22,13767,24,13773,23,13780,null,null,null,null,0,222]
[11,13886,11,13900,12,13905,null,null,null,null,0,111]
[11,14005,11,14009,21,14021,null,null,null,null,0,112]
[11,14155,11,14167,21,14180,null,null,null,null,0,112]
[11,14303,11,14314,21,14324,null,null,null,null,1,112]

{"sheet":"!N124950.Gus","index":30,"n_rows":127,"n_cols":48,"rows_kept":127,"cut":false,"hidden":false,"merged":[[1,1,1,2],[5,13,5,14],[18,13,18,14],[19,13,19,14],[4,19,4,22],[5,19,5,20],[4,39,4,42],[5,39,5,40],[4,44,4,47],[5,44,5,45],[4,24,4,27],[5,24,5,25],[4,29,4,32],[5,29,5,30],[4,34,4,37],[5,34,5,35]]}
["Report for:!N124950.Gus"]
["Date:","<date>"]
["Hen:","<hen>",null,null,null,"Correct Sequence",{"$f":"Start!J2","v":112},null,null,null,null,null,null,null,null,"Total Sequences in Data",{"$f":"4994-COUNTBLANK(L7:L5000)","v":121},null,null,null,null,"Total Sequences in Block Data",{"$f":"COUNTA(L7:L26)","v":20},null,null,null,"Total Sequences in Block Data",{"$f":"COUNTA(L27:L46)","v":20},null,null,null,"Total Sequences in Block Data",{"$f":"COUNTA(L47:L67)","v":21},null,null,null,"Total Sequences in Block Data",{"$f":"COUNTA(L68:L87)","v":20},null,null,null,"Total Sequences in Block Data",{"$f":"COUNTA(L88:L107)","v":20},null,null,null,"Total Sequences in Block Data",{"$f":"COUNTA(L108:L127)","v":20}]
[null,null,null,null,null,null,null,null,null,null,null,null,null,null,null,"Total Sequences in Summary",{"$f":"SUM(O7:O14)","v":121},null,null,null,null,"Total Sequences in Block Summary",{"$f":"SUM(U7:U14)","v":20},null,null,null,"Total Sequences in Block Summary",{"$f":"SUM(Z7:Z14)","v":20},null,null,null,"Total Sequences in Block Summary",{"$f":"SUM(AE7:AE14)","v":21},null,null,null,"Total Sequences in Block Summary",{"$f":"SUM(AJ7:AJ14)","v":20},null,null,null,"Total Sequences in Block Summary",{"$f":"SUM(AO7:AO14)","v":20},null,null,null,"Total Sequences in Block Summary",{"$f":"SUM(AT7:AT14)","v":20}]
[null,null,null,null,null,null,null,null,null,null,null,null,null,null,null,null,null,null,null,"Block 1",null,null,null,null,"Block 2",null,null,null,null,"Block 3",null,null,null,null,"Block 4",null,null,null,null,"Block 5",null,null,null,null,"Block 6"]
["Sequence\nComponent\n1","Time\n1","Sequence\nComponent\n2","Time\n2","Sequence\nComponent\n3","Time\n3","Sequence\nComponent\n4","Time\n4","Sequence\nComponent\n5","Time\n5","Correct?\n0=No 1=Yes","Sequence",null,"Frequency",null,"Relative Frequency","Variability",null,null,"Frequency",null,"Relative Frequency","Variability",null,"Frequency",null,"Relative Frequency","Variability",null,"Frequency",null,"Relative Frequency","Variability",null,"Frequency",null,"Relative Frequency","Variability",null,"Frequency",null,"Relative Frequency","Variability",null,"Frequency",null,"Relative Frequency","Variability"]
[11,31,11,41,21,59,null,null,null,null,0,112,null,111,{"$f":"COUNTIF($L$7:$L$500,N7)","v":10},{"$f":"O7/$Q$4","v":8.2644628099173556E-2},{"$f":"IF(P7=0,0,(P7*((LOG(P7))/LOG(2))))","v":-0.29726736713944069},null,null,{"$f":"N7","v":111},{"$f":"COUNTIF(L7:L26,T7)","v":1},{"$f":"U7/(W4-U8)","v":6.6666666666666666E-2},{"$f":"IF(V7=0,0,(V7*((LOG(V7))/LOG(2))))","v":-0.26045937304056793},null,{"$f":"N7","v":111},{"$f":"COUNTIF(L27:L46,Y7)","v":1},{"$f":"Z7/(AB4-Z8)","v":0.1111111111111111},{"$f":"IF(AA7=0,0,(AA7*((LOG(AA7))/LOG(2))))","v":-0.3522138890491458},null,{"$f":"N7","v":111},{"$f":"COUNTIF(L47:L67,AD7)","v":2},{"$f":"AE7/(AG4-AE8)","v":0.13333333333333333},{"$f":"IF(AF7=0,0,(AF7*((LOG(AF7))/LOG(2))))","v":-0.3875854127478025},null,{"$f":"N7","v":111},{"$f":"COUNTIF(L68:L87,AI7)","v":2},{"$f":"AJ7/(AL4-AJ8)","v":0.125},{"$f":"IF(AK7=0,0,(AK7*((LOG(AK7))/LOG(2))))","v":-0.375},null,{"$f":"N7","v":111},{"$f":"COUNTIF(L88:L107,AN7)","v":3},{"$f":"AO7/(AQ4-AO8)","v":0.23076923076923078},{"$f":"IF(AP7=0,0,(AP7*((LOG(AP7))/LOG(2))))","v":-0.48818705017383146},null,{"$f":"N7","v":111},{"$f":"COUNTIF(L108:L127,AS7)","v":1},{"$f":"AT7/(AV4-AT8)","v":7.1428571428571425E-2},{"$f":"IF(AU7=0,0,(AU7*((LOG(AU7))/LOG(2))))","v":-0.27195392300411453}]
[11,153,11,173,21,175,null,null,null,null,0,112,null,112,39,0.32231404958677684,-0.52648743568662393,null,null,112,{"$f":"COUNTIF(L7:L26,T8)","v":5},null,null,null,112,{"$f":"COUNTIF(L27:L46,Y8)","v":11},null,null,null,112,{"$f":"COUNTIF(L47:L67,AD8)","v":6},null,null,null,112,{"$f":"COUNTIF(L68:L87,AI8)","v":4},null,null,null,112,{"$f":"COUNTIF(L88:L107,AN8)","v":7},null,null,null,112,{"$f":"COUNTIF(L108:L127,AS8)","v":6}]
[11,279,22,297,23,310,null,null,null,null,0,122,null,121,18,0.1487603305785124,-0.40893296070232293,null,null,121,{"$f":"COUNTIF(L7:L26,T9)","v":3},{"$f":"U9/(W4-U8)","v":0.2},{"$f":"IF(V9=0,0,(V9*((LOG(V9))/LOG(2))))","v":-0.46438561897747244},null,121,{"$f":"COUNTIF(L27:L46,Y9)","v":3},{"$f":"Z9/(AB4-Z8)","v":0.33333333333333331},{"$f":"IF(AA9=0,0,(AA9*((LOG(AA9))/LOG(2))))","v":-0.52832083357371862},null,121,{"$f":"COUNTIF(L47:L67,AD9)","v":4},{"$f":"AE9/(AG4-AE8)","v":0.26666666666666666},{"$f":"IF(AF9=0,0,(AF9*((LOG(AF9))/LOG(2))))","v":-0.50850415882893829},null,121,{"$f":"COUNTIF(L68:L87,AI9)","v":2},{"$f":"AJ9/(AL4-AJ8)","v":0.125},{"$f":"IF(AK9=0,0,(AK9*((LOG(AK9))/LOG(2))))","v":-0.375},null,121,{"$f":"COUNTIF(L88:L107,AN9)","v":3},{"$f":"AO9/(AQ4-AO8)","v":0.23076923076923078},{"$f":"IF(AP9=0,0,(AP9*((LOG(AP9))/LOG(2))))","v":-0.48818705017383146},null,121,{"$f":"COUNTIF(L108:L127,AS9)","v":3},{"$f":"AT9/(AV4-AT8)","v":0.21428571428571427},{"$f":"IF(AU9=0,0,(AU9*((LOG(AU9))/LOG(2))))","v":-0.47622694742923877}]
[22,431,24,436,23,448,null,null,null,null,0,222,null,122,39,0.32231404958677684,-0.52648743568662393,null,null,122,{"$f":"COUNTIF(L7:L26,T10)","v":8},{"$f":"U10/(W4-U8)","v":0.53333333333333333},-0.4836749843245432,null,122,{"$f":"COUNTIF(L27:L46,Y10)","v":4},{"$f":"Z10/(AB4-Z8)","v":0.44444444444444442},-0.51996666730769447,null,122,{"$f":"COUNTIF(L47:L67,AD10)","v":6},{"$f":"AE10/(AG4-AE8)","v":0.4},-0.52877123795494496,null,122,{"$f":"COUNTIF(L68:L87,AI10)","v":9},{"$f":"AJ10/(AL4-AJ8)","v":0.5625},-0.4669171866886993,null,122,{"$f":"COUNTIF(L88:L107,AN10)","v":5},{"$f":"AO10/(AQ4-AO8)","v":0.38461538461538464},-0.53019677817451139,null,122,{"$f":"COUNTIF(L108:L127,AS10)","v":7},{"$f":"AT10/(AV4-AT8)","v":0.5},-0.5]
[11,553,11,557,21,575,null,null,null,null,0,112,null,211,0,0,0,null,null,211,{"$f":"COUNTIF(L7:L26,T11)","v":0},{"$f":"U11/(W4-U8)","v":0},0,null,211,{"$f":"COUNTIF(L27:L46,Y11)","v":0},{"$f":"Z11/(AB4-Z8)","v":0},0,null,211,{"$f":"COUNTIF(L47:L67,AD11)","v":0},{"$f":"AE11/(AG4-AE8)","v":0},0,null,211,{"$f":"COUNTIF(L68:L87,AI11)","v":0},{"$f":"AJ11/(AL4-AJ8)","v":0},0,null,211,{"$f":"COUNTIF(L88:L107,AN11)","v":0},{"$f":"AO11/(AQ4-AO8)","v":0},0,null,211,{"$f":"COUNTIF(L108:L127,AS11)","v":0},{"$f":"AT11/(AV4-AT8)","v":0},0]
[11,684,22,703,14,710,null,null,null,null,0,121,null,212,5,4.1322314049586778E-2,-0.18995599761930712,null,null,212,{"$f":"COUNTIF(L7:L26,T12)","v":0},{"$f":"U12/(W4-U8)","v":0},0,null,212,{"$f":"COUNTIF(L27:L46,Y12)","v":1},{"$f":"Z12/(AB4-Z8)","v":0.1111111111111111},-0.3522138890491458,null,212,{"$f":"COUNTIF(L47:L67,AD12)","v":2},{"$f":"AE12/(AG4-AE8)","v":0.13333333333333333},-0.3875854127478025,null,212,{"$f":"COUNTIF(L68:L87,AI12)","v":1},{"$f":"AJ12/(AL4-AJ8)","v":6.25E-2},-0.25,null,212,{"$f":"COUNTIF(L88:L107,AN12)","v":0},{"$f":"AO12/(AQ4-AO8)","v":0},0,null,212,{"$f":"COUNTIF(L108:L127,AS12)","v":1},{"$f":"AT12/(AV4-AT8)","v":7.1428571428571425E-2},-0.27195392300411453]
[11,809,22,822,14,826,null,null,null,null,0,121,null,221,0,0,0,null,null,221,{"$f":"COUNTIF(L7:L26,T13)","v":0},{"$f":"U13/(W4-U8)","v":0},0,null,221,{"$f":"COUNTIF(L27:L46,Y13)","v":0},{"$f":"Z13/(AB4-Z8)","v":0},0,null,221,{"$f":"COUNTIF(L47:L67,AD13)","v":0},{"$f":"AE13/(AG4-AE8)","v":0},0,null,221,{"$f":"COUNTIF(L68:L87,AI13)","v":0},{"$f":"AJ13/(AL4-AJ8)","v":0},0,null,221,{"$f":"COUNTIF(L88:L107,AN13)","v":0},{"$f":"AO13/(AQ4-AO8)","v":0},0,null,221,{"$f":"COUNTIF(L108:L127,AS13)","v":0},{"$f":"AT13/(AV4-AT8)","v":0},0]
[11,922,11,932,12,950,null,null,null,null,0,111,null,222,10,8.2644628099173556E-2,-0.29726736713944069,null,null,222,{"$f":"COUNTIF(L7:L26,T14)","v":3},{"$f":"U14/(W4-U8)","v":0.2},-0.46438561897747244,null,222,{"$f":"COUNTIF(L27:L46,Y14)","v":0},{"$f":"Z14/(AB4-Z8)","v":0},0,null,222,{"$f":"COUNTIF(L47:L67,AD14)","v":1},{"$f":"AE14/(AG4-AE8)","v":6.6666666666666666E-2},-0.26045937304056793,null,222,{"$f":"COUNTIF(L68:L87,AI14)","v":2},{"$f":"AJ14/(AL4-AJ8)","v":0.125},-0.375,null,222,{"$f":"COUNTIF(L88:L107,AN14)","v":2},{"$f":"AO14/(AQ4-AO8)","v":0.15384615384615385},-0.4154522643293988,null,222,{"$f":"COUNTIF(L108:L127,AS14)","v":2},{"$f":"AT14/(AV4-AT8)","v":0.14285714285714285},-0.40105070315108626]
[11,1067,11,1073,21,1102,null,null,null,null,0,112,null,null,null,{"$f":"SUM(P7:P14)","v":1},{"$f":"-SUM(Q7:Q14)","v":2.2463985639737594},null,null,null,null,{"$f":"SUM(V7:V14)","v":1},{"$f":"-SUM(W7:W14)","v":1.672905595320056},null,null,null,{"$f":"SUM(AA7:AA14)","v":1},{"$f":"-SUM(AB7:AB14)","v":1.7527152789797045},null,null,null,{"$f":"SUM(AF7:AF14)","v":1},{"$f":"-SUM(AG7:AG14)","v":2.0729055953200559},null,null,null,{"$f":"SUM(AK7:AK14)","v":1},{"$f":"-SUM(AL7:AL14)","v":1.8419171866886992},null,null,null,{"$f":"SUM(AP7:AP14)","v":1},{"$f":"-SUM(AQ7:AQ14)","v":1.9220231428515731},null,null,null,{"$f":"SUM(AU7:AU14)","v":1},{"$f":"-SUM(AV7:AV14)","v":1.9211854965885542}]
[11,1194,22,1199,23,1208,null,null,null,null,0,122,null,null,null,"U=",{"$f":"Q15/(LOG(Q4)/LOG(2))","v":0.32467740536791367},null,null,null,null,"U1=",{"$f":"W15/(LOG(W4)/LOG(2))","v":0.38707390743011771},null,null,null,"U2=",{"$f":"AB15/(LOG(AB4)/LOG(2))","v":0.40554012942813278},null,null,null,"U3=",{"$f":"AG15/(LOG(AG4)/LOG(2))","v":0.4719389324118225},null,null,null,"U4=",{"$f":"AL15/(LOG(AL4)/LOG(2))","v":0.42617950744428174},null,null,null,"U5=",{"$f":"AQ15/(LOG(AQ4)/LOG(2))","v":0.44471428044470152},null,null,null,"U6=",{"$f":"AV15/(LOG(AV4)/LOG(2))","v":0.44452046734910422}]
[11,1309,22,1327,23,1337,null,null,null,null,0,122]
[11,1431,22,1446,23,1454,null,null,null,null,0,122]
[11,1557,22,1563,23,1573,null,null,null,null,0,122,null,"Total Target Seq"]
[11,1669,22,1679,14,1683,null,null,null,null,0,121,null,{"$f":"COUNTIF(L7:L127,G3)","v":39},null,20,20,21,20,20,20]
[22,1788,24,1795,23,1803,null,null,null,null,0,222,null,null,null,"% of reinforcement given in 6 equal intervals based on number of trials "]
[22,1905,24,1910,23,1917,null,null,null,null,0,222,null,null,null,"%_1","%_2","%_3","%_4","%_5","%_6"]
[11,2018,22,2035,23,2043,null,null,null,null,0,122,null,null,"target sequence",{"$f":"$G$3","v":112},112,112,112,112,112]
[11,2140,11,2143,21,2156,null,null,null,null,0,112,null,null,"total reinforcement",{"$f":"U8","v":5},{"$f":"Z8","v":11},{"$f":"AE8","v":6},{"$f":"AJ8","v":4},{"$f":"AO8","v":7},{"$f":"AT8","v":6}]
[11,2288,22,2302,23,2311,null,null,null,null,0,122,null,null,"% target"]
[11,2408,22,2436,23,2443,null,null,null,null,0,122,null,null,"CCRF"]
[11,2536,11,2548,12,2553,null,null,null,null,0,111,null,null,"% CCRf"]
[11,2653,11,2657,21,2684,null,null,null,null,0,112,null,null,"average response rate",{"$f":"F26/P20","v":122.15},{"$f":"(F46-F26)/Q20","v":146.19999999999999},{"$f":"(F67-F46)/R20","v":116.38095238095238},{"$f":"(F87-F67)/S20","v":114.85},{"$f":"(F107-F87)/T20","v":142.44999999999999},{"$f":"(F127-F107)/U20","v":127.3}]
[11,2777,11,2794,21,2806,null,null,null,null,0,112]
[11,2921,11,2934,21,2941,null,null,null,null,0,112]
[11,3167,11,3183,21,3190,null,null,null,null,0,112]
[11,3333,22,3348,14,3351,null,null,null,null,0,121]
[11,3454,22,3467,14,3470,null,null,null,null,0,121]
[11,3574,22,3591,14,3599,null,null,null,null,0,121]
[11,3701,11,3706,21,3724,null,null,null,null,0,112]
[11,3819,22,3833,23,3841,null,null,null,null,0,122]
[11,3939,22,3948,23,3956,null,null,null,null,0,122]
[11,4050,11,4068,21,4074,null,null,null,null,0,112]
[11,4169,22,4177,23,4184,null,null,null,null,0,122]
[11,4280,11,4285,21,4304,null,null,null,null,0,112]
[11,4423,11,4444,21,4455,null,null,null,null,0,112]
[11,4665,11,4669,21,4699,null,null,null,null,0,112]
[11,4893,11,4906,21,4915,null,null,null,null,0,112]
[11,5054,11,5072,21,5083,null,null,null,null,0,112]
[22,5238,13,5243,23,5251,null,null,null,null,0,212]
[11,5353,22,5360,23,5367,null,null,null,null,0,122]
[22,5469,24,5475,23,5482,null,null,null,null,0,222]
[11,5577,22,5582,23,5597,null,null,null,null,0,122]
[11,5695,11,5699,21,5713,null,null,null,null,0,112]
[11,5809,22,5823,23,5854,null,null,null,null,0,122]
[11,5950,11,5968,21,5971,null,null,null,null,0,112]
[11,6062,11,6065,21,6077,null,null,null,null,0,112]
[11,6179,22,6189,14,6192,null,null,null,null,0,121]
[11,6287,11,6300,21,6306,null,null,null,null,0,112]
[22,6437,13,6441,23,6456,null,null,null,null,0,212]
[11,6553,22,6559,23,6568,null,null,null,null,0,122]
[11,6679,22,6695,14,6703,null,null,null,null,0,121]
[22,6805,13,6808,23,6810,null,null,null,null,0,212]
[11,6906,22,6921,14,6927,null,null,null,null,0,121]
[11,7022,22,7030,23,7038,null,null,null,null,0,122]
[11,7133,22,7146,14,7152,null,null,null,null,0,121]
[11,7249,22,7252,23,7258,null,null,null,null,0,122]
[11,7352,11,7357,12,7360,null,null,null,null,0,111]
[11,7456,11,7466,21,7474,null,null,null,null,0,112]
[11,7568,11,7571,12,7577,null,null,null,null,0,111]
[11,7680,22,7693,23,7701,null,null,null,null,0,122]
[11,7796,11,7802,21,7811,null,null,null,null,0,112]
[11,7907,22,7918,14,7923,null,null,null,null,0,121]
[11,8024,22,8031,23,8038,null,null,null,null,0,122]
[11,8132,11,8139,21,8145,null,null,null,null,0,112]
[11,8265,22,8276,14,8281,null,null,null,null,0,121]
[22,8383,24,8391,23,8399,null,null,null,null,0,222]
[11,8492,11,8496,21,8524,null,null,null,null,0,112]
[11,8618,22,8629,23,8637,null,null,null,null,0,122]
[11,8730,22,8745,23,8752,null,null,null,null,0,122]
[11,8850,22,8858,23,8866,null,null,null,null,0,122]
[11,8960,22,8968,23,8975,null,null,null,null,0,122]
[22,9075,24,9084,23,9091,null,null,null,null,0,222]
[11,9186,22,9207,23,9223,null,null,null,null,0,122]
[22,9330,13,9338,23,9347,null,null,null,null,0,212]
[11,9440,11,9448,12,9452,null,null,null,null,0,111]
[11,9545,22,9555,23,9561,null,null,null,null,0,122]
[11,9653,11,9662,12,9666,null,null,null,null,0,111]
[11,9768,22,9773,23,9783,null,null,null,null,0,122]
[11,9880,22,9882,23,9887,null,null,null,null,0,122]
[11,9982,11,9988,21,9995,null,null,null,null,0,112]
[11,10092,11,10096,21,10108,null,null,null,null,0,112]
[11,10272,22,10287,23,10297,null,null,null,null,0,122]
[11,10411,11,10415,21,10433,null,null,null,null,0,112]
[11,10559,11,10575,21,10587,null,null,null,null,0,112]
[11,10764,11,10784,21,10791,null,null,null,null,0,112]
[11,11036,22,11047,14,11058,null,null,null,null,0,121]
[22,11173,24,11179,23,11194,null,null,null,null,0,222]
[22,11297,24,11303,23,11310,null,null,null,null,0,222]
[11,11410,22,11421,23,11427,null,null,null,null,0,122]
[11,11525,11,11529,21,11547,null,null,null,null,0,112]
[11,11643,22,11655,14,11659,null,null,null,null,0,121]
[11,11760,11,11763,21,11778,null,null,null,null,0,112]
[11,11899,11,11912,21,11921,null,null,null,null,0,112]
[11,12066,11,12080,12,12088,null,null,null,null,0,111]
[11,12202,11,12205,12,12224,null,null,null,null,0,111]
[11,12320,22,12329,23,12335,null,null,null,null,0,122]
[11,12438,22,12462,23,12476,null,null,null,null,0,122]
[11,12568,11,12573,21,12581,null,null,null,null,0,112]
[11,12676,22,12694,14,12698,null,null,null,null,0,121]
[11,12811,11,12815,12,12832,null,null,null,null,0,111]
[11,12937,22,12952,23,12957,null,null,null,null,0,122]
[11,13058,22,13079,23,13086,null,null,null,null,0,122]
[11,13179,11,13187,12,13191,null,null,null,null,0,111]
[11,13290,22,13300,23,13306,null,null,null,null,0,122]
[11,13401,22,13407,23,13413,null,null,null,null,0,122]
[22,13518,13,13523,23,13531,null,null,null,null,0,212]
[11,13635,22,13643,23,13650,null,null,null,null,0,122]
[22,13752,24,13758,23,13766,null,null,null,null,0,222]
[11,13862,22,13874,14,13879,null,null,null,null,0,121]
[11,13972,11,13974,21,13983,null,null,null,null,0,112]
[11,14083,22,14095,14,14097,null,null,null,null,0,121]
[11,14197,11,14200,21,14212,null,null,null,null,0,112]
[22,14397,24,14408,23,14427,null,null,null,null,0,222]
[11,14519,11,14539,21,14546,null,null,null,null,0,112]
[11,14665,22,14679,23,14701,null,null,null,null,0,122]
[11,14802,11,14809,21,14823,null,null,null,null,0,112]
[11,14934,22,14946,14,14950,null,null,null,null,0,121]
[11,15073,22,15086,23,15093,null,null,null,null,0,122]
[11,15223,11,15225,21,15238,null,null,null,null,0,112]
[11,15363,22,15380,23,15388,null,null,null,null,0,122]
[11,15490,11,15492,21,15503,null,null,null,null,1,112]

{"sheet":"!N125A00.Gus","index":31,"n_rows":136,"n_cols":48,"rows_kept":136,"cut":false,"hidden":false,"merged":[[1,1,1,2],[5,13,5,14],[18,13,18,14],[19,13,19,14],[4,19,4,22],[5,19,5,20],[4,39,4,42],[5,39,5,40],[4,44,4,47],[5,44,5,45],[4,24,4,27],[5,24,5,25],[4,29,4,32],[5,29,5,30],[4,34,4,37],[5,34,5,35]]}
["Report for:!N125A00.Gus"]
["Date:","<date>"]
["Hen:","<hen>",null,null,null,"Correct Sequence",{"$f":"Start!J2","v":112},null,null,null,null,null,null,null,null,"Total Sequences in Data",{"$f":"4994-COUNTBLANK(L7:L5000)","v":130},null,null,null,null,"Total Sequences in Block Data",{"$f":"COUNTA(L7:L28)","v":22},null,null,null,"Total Sequences in Block Data",{"$f":"COUNTA(L29:L49)","v":21},null,null,null,"Total Sequences in Block Data",{"$f":"COUNTA(L50:L71)","v":22},null,null,null,"Total Sequences in Block Data",{"$f":"COUNTA(L72:L93)","v":22},null,null,null,"Total Sequences in Block Data",{"$f":"COUNTA(L94:L114)","v":21},null,null,null,"Total Sequences in Block Data",{"$f":"COUNTA(L115:L136)","v":22}]
[null,null,null,null,null,null,null,null,null,null,null,null,null,null,null,"Total Sequences in Summary",{"$f":"SUM(O7:O14)","v":130},null,null,null,null,"Total Sequences in Block Summary",{"$f":"SUM(U7:U14)","v":22},null,null,null,"Total Sequences in Block Summary",{"$f":"SUM(Z7:Z14)","v":21},null,null,null,"Total Sequences in Block Summary",{"$f":"SUM(AE7:AE14)","v":22},null,null,null,"Total Sequences in Block Summary",{"$f":"SUM(AJ7:AJ14)","v":22},null,null,null,"Total Sequences in Block Summary",{"$f":"SUM(AO7:AO14)","v":21},null,null,null,"Total Sequences in Block Summary",{"$f":"SUM(AT7:AT14)","v":22}]
[null,null,null,null,null,null,null,null,null,null,null,null,null,null,null,null,null,null,null,"Block 1",null,null,null,null,"Block 2",null,null,null,null,"Block 3",null,null,null,null,"Block 4",null,null,null,null,"Block 5",null,null,null,null,"Block 6"]
["Sequence\nComponent\n1","Time\n1","Sequence\nComponent\n2","Time\n2","Sequence\nComponent\n3","Time\n3","Sequence\nComponent\n4","Time\n4","Sequence\nComponent\n5","Time\n5","Correct?\n0=No 1=Yes","Sequence",null,"Frequency",null,"Relative Frequency","Variability",null,null,"Frequency",null,"Relative Frequency","Variability",null,"Frequency",null,"Relative Frequency","Variability",null,"Frequency",null,"Relative Frequency","Variability",null,"Frequency",null,"Relative Frequency","Variability",null,"Frequency",null,"Relative Frequency","Variability",null,"Frequency",null,"Relative Frequency","Variability"]
[11,7,11,35,12,37,null,null,null,null,0,111,null,111,{"$f":"COUNTIF($L$7:$L$500,N7)","v":6},{"$f":"O7/$Q$4","v":4.6153846153846156E-2},{"$f":"IF(P7=0,0,(P7*((LOG(P7))/LOG(2))))","v":-0.20480332210649072},null,null,{"$f":"N7","v":111},{"$f":"COUNTIF(L7:L28,T7)","v":2},{"$f":"U7/(W4-U8)","v":0.13333333333333333},{"$f":"IF(V7=0,0,(V7*((LOG(V7))/LOG(2))))","v":-0.3875854127478025},null,{"$f":"N7","v":111},{"$f":"COUNTIF(L29:L49,Y7)","v":0},{"$f":"Z7/(AB4-Z8)","v":0},{"$f":"IF(AA7=0,0,(AA7*((LOG(AA7))/LOG(2))))","v":0},null,{"$f":"N7","v":111},{"$f":"COUNTIF(L50:L71,AD7)","v":1},{"$f":"AE7/(AG4-AE8)","v":6.6666666666666666E-2},{"$f":"IF(AF7=0,0,(AF7*((LOG(AF7))/LOG(2))))","v":-0.26045937304056793},null,{"$f":"N7","v":111},{"$f":"COUNTIF(L72:L93,AI7)","v":1},{"$f":"AJ7/(AL4-AJ8)","v":7.1428571428571425E-2},{"$f":"IF(AK7=0,0,(AK7*((LOG(AK7))/LOG(2))))","v":-0.27195392300411453},null,{"$f":"N7","v":111},{"$f":"COUNTIF(L94:L114,AN7)","v":0},{"$f":"AO7/(AQ4-AO8)","v":0},{"$f":"IF(AP7=0,0,(AP7*((LOG(AP7))/LOG(2))))","v":0},null,{"$f":"N7","v":111},{"$f":"COUNTIF(L115:L136,AS7)","v":2},{"$f":"AT7/(AV4-AT8)","v":0.13333333333333333},{"$f":"IF(AU7=0,0,(AU7*((LOG(AU7))/LOG(2))))","v":-0.3875854127478025}]
[11,140,22,156,23,162,null,null,null,null,0,122,null,112,39,0.3,-0.52108967824986185,null,null,112,{"$f":"COUNTIF(L7:L28,T8)","v":7},null,null,null,112,{"$f":"COUNTIF(L29:L49,Y8)","v":3},null,null,null,112,{"$f":"COUNTIF(L50:L71,AD8)","v":7},null,null,null,112,{"$f":"COUNTIF(L72:L93,AI8)","v":8},null,null,null,112,{"$f":"COUNTIF(L94:L114,AN8)","v":7},null,null,null,112,{"$f":"COUNTIF(L115:L136,AS8)","v":7}]
[22,267,13,269,23,272,null,null,null,null,0,212,null,121,12,9.2307692307692313E-2,-0.31729895190528906,null,null,121,{"$f":"COUNTIF(L7:L28,T9)","v":1},{"$f":"U9/(W4-U8)","v":6.6666666666666666E-2},{"$f":"IF(V9=0,0,(V9*((LOG(V9))/LOG(2))))","v":-0.26045937304056793},null,121,{"$f":"COUNTIF(L29:L49,Y9)","v":1},{"$f":"Z9/(AB4-Z8)","v":5.5555555555555552E-2},{"$f":"IF(AA9=0,0,(AA9*((LOG(AA9))/LOG(2))))","v":-0.23166250008012845},null,121,{"$f":"COUNTIF(L50:L71,AD9)","v":1},{"$f":"AE9/(AG4-AE8)","v":6.6666666666666666E-2},{"$f":"IF(AF9=0,0,(AF9*((LOG(AF9))/LOG(2))))","v":-0.26045937304056793},null,121,{"$f":"COUNTIF(L72:L93,AI9)","v":5},{"$f":"AJ9/(AL4-AJ8)","v":0.35714285714285715},{"$f":"IF(AK9=0,0,(AK9*((LOG(AK9))/LOG(2))))","v":-0.53050958113222924},null,121,{"$f":"COUNTIF(L94:L114,AN9)","v":1},{"$f":"AO9/(AQ4-AO8)","v":7.1428571428571425E-2},{"$f":"IF(AP9=0,0,(AP9*((LOG(AP9))/LOG(2))))","v":-0.27195392300411453},null,121,{"$f":"COUNTIF(L115:L136,AS9)","v":3},{"$f":"AT9/(AV4-AT8)","v":0.2},{"$f":"IF(AU9=0,0,(AU9*((LOG(AU9))/LOG(2))))","v":-0.46438561897747244}]
[11,365,11,379,21,396,null,null,null,null,0,112,null,122,60,0.46153846153846156,-0.51483563880920125,null,null,122,{"$f":"COUNTIF(L7:L28,T10)","v":9},{"$f":"U10/(W4-U8)","v":0.6},-0.44217935649972373,null,122,{"$f":"COUNTIF(L29:L49,Y10)","v":14},{"$f":"Z10/(AB4-Z8)","v":0.77777777777777779},-0.28199895063255082,null,122,{"$f":"COUNTIF(L50:L71,AD10)","v":10},{"$f":"AE10/(AG4-AE8)","v":0.66666666666666663},-0.38997500048077083,null,122,{"$f":"COUNTIF(L72:L93,AI10)","v":8},{"$f":"AJ10/(AL4-AJ8)","v":0.5714285714285714},-0.46134566974720237,null,122,{"$f":"COUNTIF(L94:L114,AN10)","v":11},{"$f":"AO10/(AQ4-AO8)","v":0.7857142857142857},-0.27336830983024107,null,122,{"$f":"COUNTIF(L115:L136,AS10)","v":8},{"$f":"AT10/(AV4-AT8)","v":0.53333333333333333},-0.4836749843245432]
[11,484,22,491,23,500,null,null,null,null,0,122,null,211,0,0,0,null,null,211,{"$f":"COUNTIF(L7:L28,T11)","v":0},{"$f":"U11/(W4-U8)","v":0},0,null,211,{"$f":"COUNTIF(L29:L49,Y11)","v":0},{"$f":"Z11/(AB4-Z8)","v":0},0,null,211,{"$f":"COUNTIF(L50:L71,AD11)","v":0},{"$f":"AE11/(AG4-AE8)","v":0},0,null,211,{"$f":"COUNTIF(L72:L93,AI11)","v":0},{"$f":"AJ11/(AL4-AJ8)","v":0},0,null,211,{"$f":"COUNTIF(L94:L114,AN11)","v":0},{"$f":"AO11/(AQ4-AO8)","v":0},0,null,211,{"$f":"COUNTIF(L115:L136,AS11)","v":0},{"$f":"AT11/(AV4-AT8)","v":0},0]
[11,605,22,621,23,628,null,null,null,null,0,122,null,212,8,6.1538461538461542E-2,-0.24753032695559721,null,null,212,{"$f":"COUNTIF(L7:L28,T12)","v":3},{"$f":"U12/(W4-U8)","v":0.2},-0.46438561897747244,null,212,{"$f":"COUNTIF(L29:L49,Y12)","v":0},{"$f":"Z12/(AB4-Z8)","v":0},0,null,212,{"$f":"COUNTIF(L50:L71,AD12)","v":2},{"$f":"AE12/(AG4-AE8)","v":0.13333333333333333},-0.3875854127478025,null,212,{"$f":"COUNTIF(L72:L93,AI12)","v":0},{"$f":"AJ12/(AL4-AJ8)","v":0},0,null,212,{"$f":"COUNTIF(L94:L114,AN12)","v":2},{"$f":"AO12/(AQ4-AO8)","v":0.14285714285714285},-0.40105070315108626,null,212,{"$f":"COUNTIF(L115:L136,AS12)","v":1},{"$f":"AT12/(AV4-AT8)","v":6.6666666666666666E-2},-0.26045937304056793]
[11,722,11,733,21,750,null,null,null,null,0,112,null,221,0,0,0,null,null,221,{"$f":"COUNTIF(L7:L28,T13)","v":0},{"$f":"U13/(W4-U8)","v":0},0,null,221,{"$f":"COUNTIF(L29:L49,Y13)","v":0},{"$f":"Z13/(AB4-Z8)","v":0},0,null,221,{"$f":"COUNTIF(L50:L71,AD13)","v":0},{"$f":"AE13/(AG4-AE8)","v":0},0,null,221,{"$f":"COUNTIF(L72:L93,AI13)","v":0},{"$f":"AJ13/(AL4-AJ8)","v":0},0,null,221,{"$f":"COUNTIF(L94:L114,AN13)","v":0},{"$f":"AO13/(AQ4-AO8)","v":0},0,null,221,{"$f":"COUNTIF(L115:L136,AS13)","v":0},{"$f":"AT13/(AV4-AT8)","v":0},0]
[11,846,22,856,23,863,null,null,null,null,0,122,null,222,5,3.8461538461538464E-2,-0.18078614300542661,null,null,222,{"$f":"COUNTIF(L7:L28,T14)","v":0},{"$f":"U14/(W4-U8)","v":0},0,null,222,{"$f":"COUNTIF(L29:L49,Y14)","v":3},{"$f":"Z14/(AB4-Z8)","v":0.16666666666666666},-0.43082708345352599,null,222,{"$f":"COUNTIF(L50:L71,AD14)","v":1},{"$f":"AE14/(AG4-AE8)","v":6.6666666666666666E-2},-0.26045937304056793,null,222,{"$f":"COUNTIF(L72:L93,AI14)","v":0},{"$f":"AJ14/(AL4-AJ8)","v":0},0,null,222,{"$f":"COUNTIF(L94:L114,AN14)","v":0},{"$f":"AO14/(AQ4-AO8)","v":0},0,null,222,{"$f":"COUNTIF(L115:L136,AS14)","v":1},{"$f":"AT14/(AV4-AT8)","v":6.6666666666666666E-2},-0.26045937304056793]
[11,1002,11,1008,21,1033,null,null,null,null,0,112,null,null,null,{"$f":"SUM(P7:P14)","v":1},{"$f":"-SUM(Q7:Q14)","v":1.986344061031867},null,null,null,null,{"$f":"SUM(V7:V14)","v":1},{"$f":"-SUM(W7:W14)","v":1.5546097612655667},null,null,null,{"$f":"SUM(AA7:AA14)","v":1},{"$f":"-SUM(AB7:AB14)","v":0.94448853416620526},null,null,null,{"$f":"SUM(AF7:AF14)","v":0.99999999999999989},{"$f":"-SUM(AG7:AG14)","v":1.5589385323502771},null,null,null,{"$f":"SUM(AK7:AK14)","v":1},{"$f":"-SUM(AL7:AL14)","v":1.263809173883546},null,null,null,{"$f":"SUM(AP7:AP14)","v":1},{"$f":"-SUM(AQ7:AQ14)","v":0.94637293598544192},null,null,null,{"$f":"SUM(AU7:AU14)","v":1},{"$f":"-SUM(AV7:AV14)","v":1.856564762130954}]
[11,1160,22,1178,23,1188,null,null,null,null,0,122,null,null,null,"U=",{"$f":"Q15/(LOG(Q4)/LOG(2))","v":0.28285958723874355},null,null,null,null,"U1=",{"$f":"W15/(LOG(W4)/LOG(2))","v":0.34861163803216266},null,null,null,"U2=",{"$f":"AB15/(LOG(AB4)/LOG(2))","v":0.21503193946504051},null,null,null,"U3=",{"$f":"AG15/(LOG(AG4)/LOG(2))","v":0.34958233821436058},null,null,null,"U4=",{"$f":"AL15/(LOG(AL4)/LOG(2))","v":0.28340140223290111},null,null,null,"U5=",{"$f":"AQ15/(LOG(AQ4)/LOG(2))","v":0.21546096169587112},null,null,null,"U6=",{"$f":"AV15/(LOG(AV4)/LOG(2))","v":0.41632318216783842}]
[11,1293,22,1310,14,1315,null,null,null,null,0,121]
[11,1416,11,1422,21,1442,null,null,null,null,0,112]
[11,1554,11,1558,12,1574,null,null,null,null,0,111,null,"Total Target Seq"]
[11,1677,22,1681,23,1686,null,null,null,null,0,122,null,{"$f":"COUNTIF(L7:L136,G3)","v":39},null,22,21,22,22,21,22]
[22,1801,13,1809,23,1816,null,null,null,null,0,212,null,null,null,"% of reinforcement given in 6 equal intervals based on number of trials "]
[11,1920,22,1925,23,1943,null,null,null,null,0,122,null,null,null,"%_1","%_2","%_3","%_4","%_5","%_6"]
[11,2050,22,2055,23,2065,null,null,null,null,0,122,null,null,"target sequence",{"$f":"$G$3","v":112},112,112,112,112,112]
[11,2185,11,2199,21,2207,null,null,null,null,0,112,null,null,"total reinforcement",{"$f":"U8","v":7},{"$f":"Z8","v":3},{"$f":"AE8","v":7},{"$f":"AJ8","v":8},{"$f":"AO8","v":7},{"$f":"AT8","v":7}]
[11,2335,11,2349,21,2357,null,null,null,null,0,112,null,null,"% target"]
[11,2539,11,2559,21,2562,null,null,null,null,0,112,null,null,"CCRF"]
[11,2740,22,2750,23,2759,null,null,null,null,0,122,null,null,"% CCRf"]
[22,2874,13,2876,23,2884,null,null,null,null,0,212,null,null,"average response rate",{"$f":"F28/P20","v":131.09090909090909},{"$f":"(F49-F28)/Q20","v":117.71428571428571},{"$f":"(F71-F49)/R20","v":136.59090909090909},{"$f":"(F93-F71)/S20","v":133.72727272727272},{"$f":"(F114-F93)/T20","v":127.66666666666667},{"$f":"(F136-F114)/U20","v":124}]
[11,2980,11,2988,21,2993,null,null,null,null,0,112]
[11,3171,22,3183,23,3190,null,null,null,null,0,122]
[22,3295,24,3306,23,3321,null,null,null,null,0,222]
[11,3413,11,3427,21,3447,null,null,null,null,0,112]
[22,3544,24,3554,23,3563,null,null,null,null,0,222]
[11,3657,22,3664,23,3669,null,null,null,null,0,122]
[11,3767,22,3770,23,3776,null,null,null,null,0,122]
[11,3875,22,3887,23,3895,null,null,null,null,0,122]
[22,3996,24,4003,23,4011,null,null,null,null,0,222]
[11,4105,22,4110,23,4114,null,null,null,null,0,122]
[11,4210,22,4215,23,4221,null,null,null,null,0,122]
[11,4316,22,4324,23,4336,null,null,null,null,0,122]
[11,4430,22,4437,23,4445,null,null,null,null,0,122]
[11,4540,22,4552,23,4563,null,null,null,null,0,122]
[11,4660,22,4665,23,4671,null,null,null,null,0,122]
[11,4763,11,4770,21,4778,null,null,null,null,0,112]
[11,4870,22,4885,14,4889,null,null,null,null,0,121]
[11,4983,22,4992,23,4998,null,null,null,null,0,122]
[11,5098,22,5115,23,5124,null,null,null,null,0,122]
[11,5222,22,5239,23,5247,null,null,null,null,0,122]
[11,5345,22,5351,23,5356,null,null,null,null,0,122]
[11,5462,22,5468,23,5479,null,null,null,null,0,122]
[11,5576,22,5583,23,5595,null,null,null,null,0,122]
[11,5695,22,5706,23,5715,null,null,null,null,0,122]
[22,5819,13,5822,23,5826,null,null,null,null,0,212]
[11,5917,11,5936,21,5941,null,null,null,null,0,112]
[22,6050,24,6059,23,6066,null,null,null,null,0,222]
[11,6165,11,6169,21,6192,null,null,null,null,0,112]
[11,6313,11,6330,21,6340,null,null,null,null,0,112]
[11,6538,22,6551,14,6553,null,null,null,null,0,121]
[11,6659,22,6675,23,6682,null,null,null,null,0,122]
[11,6782,22,6788,23,6797,null,null,null,null,0,122]
[11,6890,11,6896,12,6903,null,null,null,null,0,111]
[11,7033,22,7042,23,7050,null,null,null,null,0,122]
[11,7148,22,7154,23,7164,null,null,null,null,0,122]
[11,7256,22,7275,23,7286,null,null,null,null,0,122]
[11,7378,11,7389,21,7401,null,null,null,null,0,112]
[22,7533,13,7541,23,7551,null,null,null,null,0,212]
[11,7651,22,7656,23,7663,null,null,null,null,0,122]
[11,7756,11,7761,21,7770,null,null,null,null,0,112]
[11,7877,11,7882,21,7905,null,null,null,null,0,112]
[11,8099,11,8116,21,8131,null,null,null,null,0,112]
[11,8334,22,8352,23,8361,null,null,null,null,0,122]
[11,8486,22,8498,14,8506,null,null,null,null,0,121]
[11,8599,11,8611,21,8627,null,null,null,null,0,112]
[11,8757,22,8768,14,8774,null,null,null,null,0,121]
[11,8868,11,8874,12,8878,null,null,null,null,0,111]
[11,8973,11,8979,21,8990,null,null,null,null,0,112]
[11,9111,22,9119,23,9128,null,null,null,null,0,122]
[11,9226,11,9231,21,9243,null,null,null,null,0,112]
[11,9370,22,9387,14,9394,null,null,null,null,0,121]
[11,9509,11,9512,21,9526,null,null,null,null,0,112]
[11,9624,22,9628,23,9654,null,null,null,null,0,122]
[11,9746,22,9759,23,9764,null,null,null,null,0,122]
[11,9868,22,9879,23,9887,null,null,null,null,0,122]
[11,9984,11,9988,21,10002,null,null,null,null,0,112]
[11,10146,11,10151,21,10169,null,null,null,null,0,112]
[11,10387,22,10400,14,10406,null,null,null,null,0,121]
[11,10508,22,10524,23,10542,null,null,null,null,0,122]
[11,10636,11,10644,21,10646,null,null,null,null,0,112]
[11,10759,22,10772,23,10778,null,null,null,null,0,122]
[11,10872,11,10884,21,10897,null,null,null,null,0,112]
[11,11044,22,11057,14,11068,null,null,null,null,0,121]
[11,11170,22,11182,23,11189,null,null,null,null,0,122]
[11,11285,22,11291,23,11303,null,null,null,null,0,122]
[11,11395,11,11399,21,11404,null,null,null,null,0,112]
[11,11542,22,11563,23,11570,null,null,null,null,0,122]
[11,11668,22,11677,23,11683,null,null,null,null,0,122]
[11,11779,11,11783,21,11802,null,null,null,null,0,112]
[11,11901,22,11919,23,11929,null,null,null,null,0,122]
[11,12031,22,12037,23,12045,null,null,null,null,0,122]
[11,12137,11,12144,21,12149,null,null,null,null,0,112]
[11,12244,11,12248,21,12265,null,null,null,null,0,112]
[11,12378,11,12391,21,12398,null,null,null,null,0,112]
[11,12527,11,12544,21,12557,null,null,null,null,0,112]
[22,12749,13,12756,23,12761,null,null,null,null,0,212]
[11,12856,22,12864,14,12869,null,null,null,null,0,121]
[11,12970,22,12977,23,12982,null,null,null,null,0,122]
[11,13082,22,13092,23,13102,null,null,null,null,0,122]
[22,13203,13,13207,23,13209,null,null,null,null,0,212]
[11,13303,22,13332,23,13340,null,null,null,null,0,122]
[11,13438,22,13459,23,13467,null,null,null,null,0,122]
[11,13564,11,13567,21,13581,null,null,null,null,0,112]
[11,13716,22,13731,23,13743,null,null,null,null,0,122]
[11,13844,22,13859,23,13875,null,null,null,null,0,122]
[11,13974,22,13979,23,13984,null,null,null,null,0,122]
[11,14080,22,14099,23,14115,null,null,null,null,0,122]
[11,14208,22,14216,23,14222,null,null,null,null,0,122]
[11,14314,11,14317,21,14321,null,null,null,null,0,112]
[22,14417,24,14428,23,14435,null,null,null,null,0,222]
[11,14533,11,14538,21,14550,null,null,null,null,0,112]
[11,14655,22,14668,14,14671,null,null,null,null,0,121]
[11,14770,22,14787,23,14803,null,null,null,null,0,122]
[11,14896,11,14900,12,14903,null,null,null,null,0,111]
[11,15014,22,15018,14,15022,null,null,null,null,0,121]
[11,15117,22,15132,23,15145,null,null,null,null,0,122]
[11,15242,11,15246,21,15259,null,null,null,null,0,112]
[11,15366,11,15370,21,15386,null,null,null,null,0,112]
[11,15510,22,15531,23,15540,null,null,null,null,0,122]
[11,15690,22,15708,14,15712,null,null,null,null,0,121]
[11,15807,22,15816,23,15821,null,null,null,null,0,122]
[11,15913,11,15919,12,15922,null,null,null,null,0,111]
[11,16021,22,16029,23,16037,null,null,null,null,0,122]
[11,16130,11,16135,21,16146,null,null,null,null,0,112]
[22,16280,13,16286,23,16296,null,null,null,null,0,212]
[11,16396,11,16399,21,16427,null,null,null,null,0,112]
[11,16557,22,16587,23,16598,null,null,null,null,0,122]
[11,16692,11,16699,21,16712,null,null,null,null,1,112]

{"sheet":"!N126A00.Gus","index":32,"n_rows":152,"n_cols":48,"rows_kept":152,"cut":false,"hidden":false,"merged":[[1,1,1,2],[5,13,5,14],[18,13,18,14],[19,13,19,14],[4,19,4,22],[5,19,5,20],[4,39,4,42],[5,39,5,40],[4,44,4,47],[5,44,5,45],[4,24,4,27],[5,24,5,25],[4,29,4,32],[5,29,5,30],[4,34,4,37],[5,34,5,35]]}
["Report for:!N126A00.Gus"]
["Date:","<date>"]
["Hen:","<hen>",null,null,null,"Correct Sequence",{"$f":"Start!J2","v":112},null,null,null,null,null,null,null,null,"Total Sequences in Data",{"$f":"4994-COUNTBLANK(L7:L5000)","v":146},null,null,null,null,"Total Sequences in Block Data",{"$f":"COUNTA(L7:L30)","v":24},null,null,null,"Total Sequences in Block Data",{"$f":"COUNTA(L31:L55)","v":25},null,null,null,"Total Sequences in Block Data",{"$f":"COUNTA(L56:L79)","v":24},null,null,null,"Total Sequences in Block Data",{"$f":"COUNTA(L80:L103)","v":24},null,null,null,"Total Sequences in Block Data",{"$f":"COUNTA(L104:L128)","v":25},null,null,null,"Total Sequences in Block Data",{"$f":"COUNTA(L129:L152)","v":24}]
[null,null,null,null,null,null,null,null,null,null,null,null,null,null,null,"Total Sequences in Summary",{"$f":"SUM(O7:O14)","v":146},null,null,null,null,"Total Sequences in Block Summary",{"$f":"SUM(U7:U14)","v":24},null,null,null,"Total Sequences in Block Summary",{"$f":"SUM(Z7:Z14)","v":25},null,null,null,"Total Sequences in Block Summary",{"$f":"SUM(AE7:AE14)","v":24},null,null,null,"Total Sequences in Block Summary",{"$f":"SUM(AJ7:AJ14)","v":24},null,null,null,"Total Sequences in Block Summary",{"$f":"SUM(AO7:AO14)","v":25},null,null,null,"Total Sequences in Block Summary",{"$f":"SUM(AT7:AT14)","v":24}]
[null,null,null,null,null,null,null,null,null,null,null,null,null,null,null,null,null,null,null,"Block 1",null,null,null,null,"Block 2",null,null,null,null,"Block 3",null,null,null,null,"Block 4",null,null,null,null,"Block 5",null,null,null,null,"Block 6"]
["Sequence\nComponent\n1","Time\n1","Sequence\nComponent\n2","Time\n2","Sequence\nComponent\n3","Time\n3","Sequence\nComponent\n4","Time\n4","Sequence\nComponent\n5","Time\n5","Correct?\n0=No 1=Yes","Sequence",null,"Frequency",null,"Relative Frequency","Variability",null,null,"Frequency",null,"Relative Frequency","Variability",null,"Frequency",null,"Relative Frequency","Variability",null,"Frequency",null,"Relative Frequency","Variability",null,"Frequency",null,"Relative Frequency","Variability",null,"Frequency",null,"Relative Frequency","Variability",null,"Frequency",null,"Relative Frequency","Variability"]
[11,22,22,34,23,48,null,null,null,null,0,122,null,111,{"$f":"COUNTIF($L$7:$L$500,N7)","v":6},{"$f":"O7/$Q$4","v":4.1095890410958902E-2},{"$f":"IF(P7=0,0,(P7*((LOG(P7))/LOG(2))))","v":-0.18924090649967923},null,null,{"$f":"N7","v":111},{"$f":"COUNTIF(L7:L30,T7)","v":1},{"$f":"U7/(W4-U8)","v":6.25E-2},{"$f":"IF(V7=0,0,(V7*((LOG(V7))/LOG(2))))","v":-0.25},null,{"$f":"N7","v":111},{"$f":"COUNTIF(L31:L55,Y7)","v":0},{"$f":"Z7/(AB4-Z8)","v":0},{"$f":"IF(AA7=0,0,(AA7*((LOG(AA7))/LOG(2))))","v":0},null,{"$f":"N7","v":111},{"$f":"COUNTIF(L56:L79,AD7)","v":0},{"$f":"AE7/(AG4-AE8)","v":0},{"$f":"IF(AF7=0,0,(AF7*((LOG(AF7))/LOG(2))))","v":0},null,{"$f":"N7","v":111},{"$f":"COUNTIF(L80:L103,AI7)","v":2},{"$f":"AJ7/(AL4-AJ8)","v":0.10526315789473684},{"$f":"IF(AK7=0,0,(AK7*((LOG(AK7))/LOG(2))))","v":-0.34188710667827216},null,{"$f":"N7","v":111},{"$f":"COUNTIF(L104:L128,AN7)","v":2},{"$f":"AO7/(AQ4-AO8)","v":0.125},{"$f":"IF(AP7=0,0,(AP7*((LOG(AP7))/LOG(2))))","v":-0.375},null,{"$f":"N7","v":111},{"$f":"COUNTIF(L129:L152,AS7)","v":1},{"$f":"AT7/(AV4-AT8)","v":5.8823529411764705E-2},{"$f":"IF(AU7=0,0,(AU7*((LOG(AU7))/LOG(2))))","v":-0.24043899066178465}]
[11,147,11,151,21,160,null,null,null,null,0,112,null,112,39,0.26712328767123289,-0.50871555658008893,null,null,112,{"$f":"COUNTIF(L7:L30,T8)","v":8},null,null,null,112,{"$f":"COUNTIF(L31:L55,Y8)","v":3},null,null,null,112,{"$f":"COUNTIF(L56:L79,AD8)","v":7},null,null,null,112,{"$f":"COUNTIF(L80:L103,AI8)","v":5},null,null,null,112,{"$f":"COUNTIF(L104:L128,AN8)","v":9},null,null,null,112,{"$f":"COUNTIF(L129:L152,AS8)","v":7}]
[22,257,24,264,23,272,null,null,null,null,0,222,null,121,8,5.4794520547945202E-2,-0.22957942788383656,null,null,121,{"$f":"COUNTIF(L7:L30,T9)","v":2},{"$f":"U9/(W4-U8)","v":0.125},{"$f":"IF(V9=0,0,(V9*((LOG(V9))/LOG(2))))","v":-0.375},null,121,{"$f":"COUNTIF(L31:L55,Y9)","v":3},{"$f":"Z9/(AB4-Z8)","v":0.13636363636363635},{"$f":"IF(AA9=0,0,(AA9*((LOG(AA9))/LOG(2))))","v":-0.39197306153401923},null,121,{"$f":"COUNTIF(L56:L79,AD9)","v":2},{"$f":"AE9/(AG4-AE8)","v":0.11764705882352941},{"$f":"IF(AF9=0,0,(AF9*((LOG(AF9))/LOG(2))))","v":-0.36323092250003997},null,121,{"$f":"COUNTIF(L80:L103,AI9)","v":0},{"$f":"AJ9/(AL4-AJ8)","v":0},{"$f":"IF(AK9=0,0,(AK9*((LOG(AK9))/LOG(2))))","v":0},null,121,{"$f":"COUNTIF(L104:L128,AN9)","v":0},{"$f":"AO9/(AQ4-AO8)","v":0},{"$f":"IF(AP9=0,0,(AP9*((LOG(AP9))/LOG(2))))","v":0},null,121,{"$f":"COUNTIF(L129:L152,AS9)","v":1},{"$f":"AT9/(AV4-AT8)","v":5.8823529411764705E-2},{"$f":"IF(AU9=0,0,(AU9*((LOG(AU9))/LOG(2))))","v":-0.24043899066178465}]
[11,372,22,381,14,384,null,null,null,null,0,121,null,122,75,0.51369863013698636,-0.49366739814253574,null,null,122,{"$f":"COUNTIF(L7:L30,T10)","v":10},{"$f":"U10/(W4-U8)","v":0.625},-0.42379494069539858,null,122,{"$f":"COUNTIF(L31:L55,Y10)","v":14},{"$f":"Z10/(AB4-Z8)","v":0.63636363636363635},-0.41495789782344106,null,122,{"$f":"COUNTIF(L56:L79,AD10)","v":13},{"$f":"AE10/(AG4-AE8)","v":0.76470588235294112},-0.29595885884824796,null,122,{"$f":"COUNTIF(L80:L103,AI10)","v":13},{"$f":"AJ10/(AL4-AJ8)","v":0.68421052631578949},-0.37459691257539013,null,122,{"$f":"COUNTIF(L104:L128,AN10)","v":11},{"$f":"AO10/(AQ4-AO8)","v":0.6875},-0.3716407621868581,null,122,{"$f":"COUNTIF(L129:L152,AS10)","v":14},{"$f":"AT10/(AV4-AT8)","v":0.82352941176470584},-0.2306771099234291]
[11,488,11,508,21,513,null,null,null,null,0,112,null,211,0,0,0,null,null,211,{"$f":"COUNTIF(L7:L30,T11)","v":0},{"$f":"U11/(W4-U8)","v":0},0,null,211,{"$f":"COUNTIF(L31:L55,Y11)","v":0},{"$f":"Z11/(AB4-Z8)","v":0},0,null,211,{"$f":"COUNTIF(L56:L79,AD11)","v":0},{"$f":"AE11/(AG4-AE8)","v":0},0,null,211,{"$f":"COUNTIF(L80:L103,AI11)","v":0},{"$f":"AJ11/(AL4-AJ8)","v":0},0,null,211,{"$f":"COUNTIF(L104:L128,AN11)","v":0},{"$f":"AO11/(AQ4-AO8)","v":0},0,null,211,{"$f":"COUNTIF(L129:L152,AS11)","v":0},{"$f":"AT11/(AV4-AT8)","v":0},0]
[11,651,11,658,21,671,null,null,null,null,0,112,null,212,2,1.3698630136986301E-2,-8.4792117244931728E-2,null,null,212,{"$f":"COUNTIF(L7:L30,T12)","v":0},{"$f":"U12/(W4-U8)","v":0},0,null,212,{"$f":"COUNTIF(L31:L55,Y12)","v":0},{"$f":"Z12/(AB4-Z8)","v":0},0,null,212,{"$f":"COUNTIF(L56:L79,AD12)","v":0},{"$f":"AE12/(AG4-AE8)","v":0},0,null,212,{"$f":"COUNTIF(L80:L103,AI12)","v":0},{"$f":"AJ12/(AL4-AJ8)","v":0},0,null,212,{"$f":"COUNTIF(L104:L128,AN12)","v":1},{"$f":"AO12/(AQ4-AO8)","v":6.25E-2},-0.25,null,212,{"$f":"COUNTIF(L129:L152,AS12)","v":1},{"$f":"AT12/(AV4-AT8)","v":5.8823529411764705E-2},-0.24043899066178465]
[22,850,24,853,23,867,null,null,null,null,0,222,null,221,0,0,0,null,null,221,{"$f":"COUNTIF(L7:L30,T13)","v":0},{"$f":"U13/(W4-U8)","v":0},0,null,221,{"$f":"COUNTIF(L31:L55,Y13)","v":0},{"$f":"Z13/(AB4-Z8)","v":0},0,null,221,{"$f":"COUNTIF(L56:L79,AD13)","v":0},{"$f":"AE13/(AG4-AE8)","v":0},0,null,221,{"$f":"COUNTIF(L80:L103,AI13)","v":0},{"$f":"AJ13/(AL4-AJ8)","v":0},0,null,221,{"$f":"COUNTIF(L104:L128,AN13)","v":0},{"$f":"AO13/(AQ4-AO8)","v":0},0,null,221,{"$f":"COUNTIF(L129:L152,AS13)","v":0},{"$f":"AT13/(AV4-AT8)","v":0},0]
[11,1031,22,1047,23,1054,null,null,null,null,0,122,null,222,16,0.1095890410958904,-0.34956981467178266,null,null,222,{"$f":"COUNTIF(L7:L30,T14)","v":3},{"$f":"U14/(W4-U8)","v":0.1875},-0.45281953111478312,null,222,{"$f":"COUNTIF(L31:L55,Y14)","v":5},{"$f":"Z14/(AB4-Z8)","v":0.22727272727272727},-0.48579625539771243,null,222,{"$f":"COUNTIF(L56:L79,AD14)","v":2},{"$f":"AE14/(AG4-AE8)","v":0.11764705882352941},-0.36323092250003997,null,222,{"$f":"COUNTIF(L80:L103,AI14)","v":4},{"$f":"AJ14/(AL4-AJ8)","v":0.21052631578947367},-0.47324789756707064,null,222,{"$f":"COUNTIF(L104:L128,AN14)","v":2},{"$f":"AO14/(AQ4-AO8)","v":0.125},-0.375,null,222,{"$f":"COUNTIF(L129:L152,AS14)","v":0},{"$f":"AT14/(AV4-AT8)","v":0},0]
[11,1153,11,1157,21,1167,null,null,null,null,0,112,null,null,null,{"$f":"SUM(P7:P14)","v":1},{"$f":"-SUM(Q7:Q14)","v":1.8555652210228548},null,null,null,null,{"$f":"SUM(V7:V14)","v":1},{"$f":"-SUM(W7:W14)","v":1.5016144718101816},null,null,null,{"$f":"SUM(AA7:AA14)","v":1},{"$f":"-SUM(AB7:AB14)","v":1.2927272147551727},null,null,null,{"$f":"SUM(AF7:AF14)","v":1},{"$f":"-SUM(AG7:AG14)","v":1.0224207038483279},null,null,null,{"$f":"SUM(AK7:AK14)","v":1},{"$f":"-SUM(AL7:AL14)","v":1.189731916820733},null,null,null,{"$f":"SUM(AP7:AP14)","v":1},{"$f":"-SUM(AQ7:AQ14)","v":1.371640762186858},null,null,null,{"$f":"SUM(AU7:AU14)","v":1},{"$f":"-SUM(AV7:AV14)","v":0.95199408190878299}]
[11,1267,11,1272,21,1292,null,null,null,null,0,112,null,null,null,"U=",{"$f":"Q15/(LOG(Q4)/LOG(2))","v":0.25808212784984869},null,null,null,null,"U1=",{"$f":"W15/(LOG(W4)/LOG(2))","v":0.32750856120938759},null,null,null,"U2=",{"$f":"AB15/(LOG(AB4)/LOG(2))","v":0.27837365368928085},null,null,null,"U3=",{"$f":"AG15/(LOG(AG4)/LOG(2))","v":0.22299434372418842},null,null,null,"U4=",{"$f":"AL15/(LOG(AL4)/LOG(2))","v":0.25948563737077529},null,null,null,"U5=",{"$f":"AQ15/(LOG(AQ4)/LOG(2))","v":0.29536676118590072},null,null,null,"U6=",{"$f":"AV15/(LOG(AV4)/LOG(2))","v":0.20763399520913126}]
[11,1393,22,1406,14,1414,null,null,null,null,0,121]
[11,1520,11,1523,12,1526,null,null,null,null,0,111]
[11,1621,22,1632,23,1642,null,null,null,null,0,122,null,"Total Target Seq"]
[11,1744,22,1758,23,1766,null,null,null,null,0,122,null,{"$f":"COUNTIF(L7:L152,G3)","v":39},null,24,25,24,24,25,24]
[11,1873,22,1886,23,1907,null,null,null,null,0,122,null,null,null,"% of reinforcement given in 6 equal intervals based on number of trials "]
[11,2002,22,2016,23,2028,null,null,null,null,0,122,null,null,null,"%_1","%_2","%_3","%_4","%_5","%_6"]
[11,2122,11,2129,21,2135,null,null,null,null,0,112,null,null,"target sequence",{"$f":"$G$3","v":112},112,112,112,112,112]
[11,2229,22,2235,23,2242,null,null,null,null,0,122,null,null,"total reinforcement",{"$f":"U8","v":8},{"$f":"Z8","v":3},{"$f":"AE8","v":7},{"$f":"AJ8","v":5},{"$f":"AO8","v":9},{"$f":"AT8","v":7}]
[11,2341,11,2346,21,2349,null,null,null,null,0,112,null,null,"% target"]
[11,2497,11,2502,21,2513,null,null,null,null,0,112,null,null,"CCRF"]
[11,2635,22,2652,23,2662,null,null,null,null,0,122,null,null,"% CCRf"]
[11,2763,22,2773,23,2782,null,null,null,null,0,122,null,null,"average response rate",{"$f":"F30/P20","v":126.58333333333333},{"$f":"(F55-F30)/Q20","v":114.48},{"$f":"(F79-F55)/R20","v":122.875},{"$f":"(F103-F79)/S20","v":127.41666666666667},{"$f":"(F128-F103)/T20","v":127.72},{"$f":"(F152-F128)/U20","v":127.45833333333333}]
[11,2886,22,2903,23,2912,null,null,null,null,0,122]
[22,3015,24,3030,23,3038,null,null,null,null,0,222]
[22,3139,24,3150,23,3158,null,null,null,null,0,222]
[11,3257,11,3260,21,3265,null,null,null,null,0,112]
[11,3362,22,3381,23,3390,null,null,null,null,0,122]
[11,3486,22,3496,23,3503,null,null,null,null,0,122]
[11,3597,22,3608,23,3614,null,null,null,null,0,122]
[11,3711,22,3721,23,3729,null,null,null,null,0,122]
[11,3825,22,3828,23,3833,null,null,null,null,0,122]
[22,3934,24,3940,23,3948,null,null,null,null,0,222]
[11,4043,22,4050,23,4058,null,null,null,null,0,122]
[22,4162,24,4168,23,4174,null,null,null,null,0,222]
[11,4270,22,4275,14,4279,null,null,null,null,0,121]
[22,4380,24,4384,23,4389,null,null,null,null,0,222]
[11,4489,22,4494,23,4501,null,null,null,null,0,122]
[11,4595,22,4607,14,4609,null,null,null,null,0,121]
[11,4707,22,4711,23,4717,null,null,null,null,0,122]
[11,4814,22,4820,23,4829,null,null,null,null,0,122]
[11,4927,22,4931,23,4937,null,null,null,null,0,122]
[11,5032,22,5042,23,5050,null,null,null,null,0,122]
[22,5161,24,5168,23,5175,null,null,null,null,0,222]
[11,5271,11,5274,21,5280,null,null,null,null,0,112]
[11,5374,22,5385,14,5391,null,null,null,null,0,121]
[11,5487,22,5499,23,5507,null,null,null,null,0,122]
[11,5604,22,5623,23,5636,null,null,null,null,0,122]
[11,5762,11,5767,21,5773,null,null,null,null,0,112]
[11,5882,22,5892,23,5900,null,null,null,null,0,122]
[11,6001,22,6017,23,6027,null,null,null,null,0,122]
[11,6127,11,6130,21,6141,null,null,null,null,0,112]
[11,6263,22,6280,23,6294,null,null,null,null,0,122]
[11,6393,22,6401,23,6416,null,null,null,null,0,122]
[11,6509,11,6519,21,6523,null,null,null,null,0,112]
[11,6620,22,6631,23,6636,null,null,null,null,0,122]
[11,6737,22,6744,23,6751,null,null,null,null,0,122]
[11,6852,22,6855,23,6863,null,null,null,null,0,122]
[22,6975,24,6983,23,6994,null,null,null,null,0,222]
[22,7105,24,7113,23,7119,null,null,null,null,0,222]
[11,7219,22,7225,23,7232,null,null,null,null,0,122]
[11,7330,22,7337,23,7344,null,null,null,null,0,122]
[11,7436,11,7446,21,7451,null,null,null,null,0,112]
[11,7565,22,7578,23,7585,null,null,null,null,0,122]
[11,7681,22,7708,23,7715,null,null,null,null,0,122]
[11,7809,22,7820,14,7824,null,null,null,null,0,121]
[11,7920,22,7935,23,7941,null,null,null,null,0,122]
[11,8034,11,8050,21,8058,null,null,null,null,0,112]
[11,8146,22,8159,14,8162,null,null,null,null,0,121]
[11,8258,22,8265,23,8273,null,null,null,null,0,122]
[11,8367,11,8372,21,8382,null,null,null,null,0,112]
[11,8517,22,8529,23,8537,null,null,null,null,0,122]
[11,8731,11,8736,21,8747,null,null,null,null,0,112]
[11,8835,11,8839,21,8849,null,null,null,null,0,112]
[11,9090,22,9101,23,9109,null,null,null,null,0,122]
[11,9252,22,9274,23,9283,null,null,null,null,0,122]
[11,9379,22,9385,23,9392,null,null,null,null,0,122]
[11,9485,22,9493,23,9498,null,null,null,null,0,122]
[11,9592,11,9597,12,9599,null,null,null,null,0,111]
[22,9703,24,9709,23,9715,null,null,null,null,0,222]
[11,9808,11,9811,12,9814,null,null,null,null,0,111]
[22,9920,24,9925,23,9932,null,null,null,null,0,222]
[22,10038,24,10043,23,10051,null,null,null,null,0,222]
[11,10146,11,10159,21,10164,null,null,null,null,0,112]
[22,10258,24,10273,23,10282,null,null,null,null,0,222]
[11,10378,22,10390,23,10400,null,null,null,null,0,122]
[11,10513,22,10520,23,10527,null,null,null,null,0,122]
[11,10649,11,10651,21,10659,null,null,null,null,0,112]
[11,10753,11,10755,21,10763,null,null,null,null,0,112]
[11,10887,22,10904,23,10913,null,null,null,null,0,122]
[11,11011,11,11018,21,11026,null,null,null,null,0,112]
[11,11141,22,11147,23,11162,null,null,null,null,0,122]
[11,11256,22,11268,23,11274,null,null,null,null,0,122]
[11,11370,11,11372,21,11378,null,null,null,null,0,112]
[11,11546,22,11558,23,11566,null,null,null,null,0,122]
[11,11660,22,11666,23,11674,null,null,null,null,0,122]
[11,11768,22,11778,23,11786,null,null,null,null,0,122]
[11,11892,22,11900,23,11907,null,null,null,null,0,122]
[11,12017,22,12036,23,12042,null,null,null,null,0,122]
[11,12135,22,12145,23,12150,null,null,null,null,0,122]
[11,12251,22,12256,23,12263,null,null,null,null,0,122]
[11,12365,22,12368,23,12371,null,null,null,null,0,122]
[11,12473,11,12476,12,12486,null,null,null,null,0,111]
[11,12582,22,12603,23,12611,null,null,null,null,0,122]
[11,12703,11,12714,12,12720,null,null,null,null,0,111]
[11,12822,11,12825,21,12840,null,null,null,null,0,112]
[11,12933,11,12937,21,12947,null,null,null,null,0,112]
[11,13047,22,13060,23,13066,null,null,null,null,0,122]
[11,13158,11,13167,21,13184,null,null,null,null,0,112]
[11,13296,11,13301,21,13315,null,null,null,null,0,112]
[11,13527,22,13540,23,13554,null,null,null,null,0,122]
[11,13648,11,13651,21,13675,null,null,null,null,0,112]
[11,13781,22,13797,23,13807,null,null,null,null,0,122]
[11,13921,11,13925,21,13935,null,null,null,null,0,112]
[11,14067,22,14093,23,14104,null,null,null,null,0,122]
[11,14233,11,14236,21,14247,null,null,null,null,0,112]
[11,14349,22,14365,23,14371,null,null,null,null,0,122]
[11,14465,11,14473,21,14479,null,null,null,null,0,112]
[11,14573,11,14577,21,14587,null,null,null,null,0,112]
[11,14723,22,14737,23,14756,null,null,null,null,0,122]
[22,14856,24,14863,23,14870,null,null,null,null,0,222]
[22,14971,24,14978,23,14985,null,null,null,null,0,222]
[22,15086,13,15092,23,15100,null,null,null,null,0,212]
[11,15195,22,15203,23,15209,null,null,null,null,0,122]
[11,15304,22,15313,23,15319,null,null,null,null,0,122]
[11,15411,11,15419,21,15424,null,null,null,null,0,112]
[11,15593,22,15611,23,15621,null,null,null,null,0,122]
[11,15718,22,15748,23,15763,null,null,null,null,0,122]
[11,15861,22,15872,23,15879,null,null,null,null,0,122]
[11,15979,11,15983,21,15991,null,null,null,null,0,112]
[11,16094,22,16118,23,16125,null,null,null,null,0,122]
[11,16234,11,16237,21,16244,null,null,null,null,0,112]
[11,16375,22,16393,23,16413,null,null,null,null,0,122]
[11,16512,22,16524,23,16534,null,null,null,null,0,122]
[11,16634,22,16641,23,16649,null,null,null,null,0,122]
[11,16745,22,16758,23,16769,null,null,null,null,0,122]
[11,16871,11,16876,21,16885,null,null,null,null,0,112]
[11,17010,11,17016,21,17036,null,null,null,null,0,112]
[11,17165,22,17181,14,17199,null,null,null,null,0,121]
[11,17298,11,17302,21,17314,null,null,null,null,0,112]
[11,17469,22,17478,23,17487,null,null,null,null,0,122]
[22,17592,13,17594,23,17599,null,null,null,null,0,212]
[11,17698,22,17709,23,17718,null,null,null,null,0,122]
[11,17817,22,17823,23,17833,null,null,null,null,0,122]
[11,17934,22,17941,23,17947,null,null,null,null,0,122]
[11,18044,11,18046,12,18049,null,null,null,null,0,111]
[11,18143,11,18152,21,18159,null,null,null,null,1,112]