{"text_format":"1","workbook":"xlsx","n_sheets":33,"sheets":["Sample Report","Summary","Start","!M823B10.Gus","!M824B00.Gus","!M825A20.Gus","!M826B30.Gus","!M827B40.Gus","!M828A40.Gus","!M829A50.Gus","!M830B10.Gus","!M831B10.Gus","!M901A00.Gus","!M902A10.Gus","!M903C30.Gus","!M904A40.Gus","!M905A40.Gus","!M906B10.Gus","!M907A50.Gus","!M908A50.Gus","!M909A50.Gus","!M910B50.Gus","!M911A30.Gus","!M912A40.Gus","!M913A00.Gus","!M914B30.Gus","!M915B20.Gus","!M916A40.Gus","!M917A40.Gus","!M918A20.Gus","!M919A30.Gus","!M920950.Gus","!M921900.Gus"],"not_rendered":{"charts":0,"images":0,"macros":1,"external_links":0,"defined_names":0,"comments":0,"pivot_tables":0},"unopened":[],"bounds":{"document_bytes":16777216,"sheet_cells":100000,"rows_first":2000,"rows_last":500,"rows_between":2000,"halvings":0,"cell_chars":16384,"cell_head_chars":4096},"cells_cut":0,"cells_raw":0,"read":"whole","date_system":"1900"}

{"sheet":"Sample Report","index":0,"n_rows":12,"n_cols":11,"rows_kept":12,"cut":false,"hidden":true,"merged":[[7,0,7,6]]}
[]
["Date"]
["Hen"]
["Program"]
["Start at 999999"]
["Sequence component 1","Time 1","Seqeunce Component 2","Time 2","Seqeunce Component 3","Time 3","Correct   0 = No 1=Yes",null,null,"Seqeunce","Time"]
[12,7,12,42,13,18,"if 77 new line,                                  if 31 or 41 = yes new line on 77, ",null,null,"=string of Seqeunce compponent 1, 2 & 3","=time 3"]
["This continues until ther is a 1 on its own to indicate start of summary data"]
[null,null,null,null,null,null,null,null,null,"10-19 =1"]
["Summary Data ",null,null,null,null,null,null,null,null,"20-29 =2"]
["Correct","Incorrect","Rft","total","Av Correct","Av Incorrect","Percent correct","Time",null,"in this example the seqeunce would be 111"]
[40,33,40,73,23.95,15,54,806]

{"sheet":"Summary","index":1,"n_rows":32,"n_cols":24,"rows_kept":32,"cut":false,"hidden":false,"merged":[]}
[]
["Day","Date","Average Response Rate","Target %","RF for non correct sequence","U Value",null,null,null,null,"Block 1","Block 2","Block 3","Block 4","Block 5","Block 6"]
[1,{"$f":"'!M823B10.Gus'!B2:C2","v":"<date>"},{"$f":"('!M823B10.Gus'!F185/60)/'!M823B10.Gus'!Q3","v":2.2133333333333334},{"$f":"'!M823B10.Gus'!N20/'!M823B10.Gus'!Q3","v":0.1388888888888889},{"$f":"SUM('!M823B10.Gus'!L20:Q20)/'!M823B10.Gus'!Q3","v":1.7055555555555555},{"$f":"'!M823B10.Gus'!Q16","v":0.31545888663842253},null,null,null,"Average Response Rate",{"$f":"AVERAGE(C3:C7)","v":2.4616426353149956},{"$f":"AVERAGE(C8:C12)","v":2.3719286418997076},{"$f":"AVERAGE(C13:C17)","v":2.5450027306782639},{"$f":"AVERAGE(C18:C22)","v":2.2781132119514473},{"$f":"AVERAGE(C23:C27)","v":2.2815757432198382},{"$f":"AVERAGE(C28:C32)","v":2.3848858274556948}]
[2,{"$f":"'!M824B00.Gus'!B2:C2","v":"<date>"},{"$f":"('!M824B00.Gus'!F186/60)/'!M824B00.Gus'!Q3","v":2.2144444444444447},{"$f":"'!M824B00.Gus'!N20/'!M824B00.Gus'!Q3","v":0.15555555555555556},{"$f":"SUM('!M824B00.Gus'!L20:Q20)/'!M824B00.Gus'!Q3","v":1.1666666666666667},{"$f":"'!M824B00.Gus'!Q16","v":0.30712309751304273},null,null,null,"Target %",{"$f":"AVERAGE(D3:D7)","v":0.30979838312136448},{"$f":"AVERAGE(D8:D12)","v":0.71111209988567092},{"$f":"AVERAGE(D13:D17)","v":0.70056896681007408},{"$f":"AVERAGE(D18:D22)","v":0.80183728036669211},{"$f":"AVERAGE(D23:D27)","v":0.87053838865456323},{"$f":"AVERAGE(D28:D32)","v":0.90067901988222798}]
[3,{"$f":"'!M825A20.Gus'!B2:C2","v":"<date>"},{"$f":"('!M825A20.Gus'!F174/60)/'!M825A20.Gus'!Q3","v":2.3703373015873015},{"$f":"'!M825A20.Gus'!N20/'!M825A20.Gus'!Q3","v":0.19642857142857142},{"$f":"SUM('!M825A20.Gus'!L20:Q20)/'!M825A20.Gus'!Q3","v":1.1964285714285714},{"$f":"'!M825A20.Gus'!Q16","v":0.31768785657053045},null,null,null,"CCRF",{"$f":"AVERAGE(E3:E7)","v":2.2402607709750568},{"$f":"AVERAGE(E8:E12)","v":4.319304457429233},{"$f":"AVERAGE(E13:E17)","v":4.9992931792405972},{"$f":"AVERAGE(E18:E22)","v":5.6839623121976057},{"$f":"AVERAGE(E23:E27)","v":6.1578481264135947},{"$f":"AVERAGE(E28:E32)","v":6.2789874808644122}]
[4,{"$f":"'!M826B30.Gus'!B2:C2","v":"<date>"},{"$f":"('!M826B30.Gus'!F55/60)/'!M826B30.Gus'!Q3","v":3.2044217687074834},{"$f":"'!M826B30.Gus'!N20/'!M826B30.Gus'!Q3","v":0.77551020408163263},{"$f":"SUM('!M826B30.Gus'!L20:Q20)/'!M826B30.Gus'!Q3","v":5.6326530612244898},{"$f":"'!M826B30.Gus'!Q16","v":0.20423670419997858},null,null,null,"U Value",{"$f":"AVERAGE(F3:F7)","v":0.29051520894354149},{"$f":"AVERAGE(F8:F12)","v":0.18628960242044795},{"$f":"AVERAGE(F13:F17)","v":0.23194035933494089},{"$f":"AVERAGE(F18:F22)","v":0.16000671278654016},{"$f":"AVERAGE(F23:F27)","v":0.1229736781049805},{"$f":"AVERAGE(F28:F32)","v":8.3777429021288569E-2}]
[5,{"$f":"'!M827B40.Gus'!B2:C2","v":"<date>"},{"$f":"('!M827B40.Gus'!F144/60)/'!M827B40.Gus'!Q3","v":2.3056763285024156},{"$f":"'!M827B40.Gus'!N20/'!M827B40.Gus'!Q3","v":0.28260869565217389},{"$f":"SUM('!M827B40.Gus'!L20:Q20)/'!M827B40.Gus'!Q3","v":1.5},{"$f":"'!M827B40.Gus'!Q16","v":0.30806949979573317}]
[6,{"$f":"'!M828A40.Gus'!B2:C2","v":"<date>"},{"$f":"('!M828A40.Gus'!F90/60)/'!M828A40.Gus'!Q3","v":2.3777777777777778},{"$f":"'!M828A40.Gus'!N20/'!M828A40.Gus'!Q3","v":0.4642857142857143},{"$f":"SUM('!M828A40.Gus'!L20:Q20)/'!M828A40.Gus'!Q3","v":3.4404761904761907},{"$f":"'!M828A40.Gus'!Q16","v":0.29856205950750753}]
[7,{"$f":"'!M829A50.Gus'!B2:C2","v":"<date>"},{"$f":"('!M829A50.Gus'!F52/60)/'!M829A50.Gus'!Q3","v":2.6043478260869564},{"$f":"'!M829A50.Gus'!N20/'!M829A50.Gus'!Q3","v":0.86956521739130432},{"$f":"SUM('!M829A50.Gus'!L20:Q20)/'!M829A50.Gus'!Q3","v":3.847826086956522},{"$f":"'!M829A50.Gus'!Q16","v":0.101135712407393},{"$f":"K3","v":2.4616426353149956},{"$f":"L3","v":2.3719286418997076},2.5450027306782639,2.2781132119514473,2.2815757432198382,2.3848858274556948,{"$f":"K4","v":0.30979838312136448},{"$f":"L4","v":0.71111209988567092},0.70056896681007408,0.80183728036669211,0.87053838865456323,0.90067901988222798,{"$f":"K6","v":0.29051520894354149},{"$f":"L6","v":0.18628960242044795},0.23194035933494089,0.16000671278654016,0.1229736781049805,8.3777429021288569E-2]
[8,{"$f":"'!M830B10.Gus'!B2:C2","v":"<date>"},{"$f":"('!M830B10.Gus'!F77/60)/'!M830B10.Gus'!Q3","v":2.3779342723004695},{"$f":"'!M830B10.Gus'!N20/'!M830B10.Gus'!Q3","v":0.54929577464788737},{"$f":"SUM('!M830B10.Gus'!L20:Q20)/'!M830B10.Gus'!Q3","v":2.6056338028169015},{"$f":"'!M830B10.Gus'!Q16","v":0.27609751344125355}]
[9,{"$f":"'!M831B10.Gus'!B2:C2","v":"<date>"},{"$f":"('!M831B10.Gus'!F64/60)/'!M831B10.Gus'!Q3","v":2.0916666666666668},{"$f":"'!M831B10.Gus'!N20/'!M831B10.Gus'!Q3","v":0.67241379310344829},{"$f":"SUM('!M831B10.Gus'!L20:Q20)/'!M831B10.Gus'!Q3","v":4.8275862068965516},{"$f":"'!M831B10.Gus'!Q16","v":0.25565272674608569}]
[10,{"$f":"'!M901A00.Gus'!B2:C2","v":"<date>"},{"$f":"('!M901A00.Gus'!F46/60)/'!M901A00.Gus'!Q3","v":2.4079166666666665},{"$f":"'!M901A00.Gus'!N20/'!M901A00.Gus'!Q3","v":1},{"$f":"SUM('!M901A00.Gus'!L20:Q20)/'!M901A00.Gus'!Q3","v":6.875},{"$f":"'!M901A00.Gus'!Q16","v":0}]
[11,{"$f":"'!M902A10.Gus'!B2:C2","v":"<date>"},{"$f":"('!M902A10.Gus'!F61/60)/'!M902A10.Gus'!Q3","v":2.1069696969696969},{"$f":"'!M902A10.Gus'!N20/'!M902A10.Gus'!Q3","v":0.70909090909090911},{"$f":"SUM('!M902A10.Gus'!L20:Q20)/'!M902A10.Gus'!Q3","v":5.0727272727272723},{"$f":"'!M902A10.Gus'!Q16","v":0.24635388271488443}]
[12,{"$f":"'!M903C30.Gus'!B2:C2","v":"<date>"},{"$f":"('!M903C30.Gus'!F67/60)/'!M903C30.Gus'!Q3","v":3.0516393442622953},{"$f":"'!M903C30.Gus'!N20/'!M903C30.Gus'!Q3","v":0.63934426229508201},{"$f":"SUM('!M903C30.Gus'!L20:Q20)/'!M903C30.Gus'!Q3","v":4.6065573770491799},{"$f":"'!M903C30.Gus'!Q16","v":0.26085624531066104}]
[13,{"$f":"'!M904A40.Gus'!B2:C2","v":"<date>"},{"$f":"('!M904A40.Gus'!F59/60)/'!M904A40.Gus'!Q3","v":3.1358490566037736},{"$f":"'!M904A40.Gus'!N20/'!M904A40.Gus'!Q3","v":0.73584905660377353},{"$f":"SUM('!M904A40.Gus'!L20:Q20)/'!M904A40.Gus'!Q3","v":5.2641509433962268},{"$f":"'!M904A40.Gus'!Q16","v":0.21600514267265797}]
[14,{"$f":"'!M905A40.Gus'!B2:C2","v":"<date>"},{"$f":"('!M905A40.Gus'!F72/60)/'!M905A40.Gus'!Q3","v":2.0666666666666669},{"$f":"'!M905A40.Gus'!N20/'!M905A40.Gus'!Q3","v":0.60606060606060608},{"$f":"SUM('!M905A40.Gus'!L20:Q20)/'!M905A40.Gus'!Q3","v":4.3030303030303028},{"$f":"'!M905A40.Gus'!Q16","v":0.25861734084193821}]
[15,{"$f":"'!M906B10.Gus'!B2:C2","v":"<date>"},{"$f":"('!M906B10.Gus'!F54/60)/'!M906B10.Gus'!Q3","v":2.3638888888888889},{"$f":"'!M906B10.Gus'!N20/'!M906B10.Gus'!Q3","v":0.8125},{"$f":"SUM('!M906B10.Gus'!L20:Q20)/'!M906B10.Gus'!Q3","v":5.75},{"$f":"'!M906B10.Gus'!Q16","v":0.1778691851345629}]
[16,{"$f":"'!M907A50.Gus'!B2:C2","v":"<date>"},{"$f":"('!M907A50.Gus'!F61/60)/'!M907A50.Gus'!Q3","v":2.44},{"$f":"'!M907A50.Gus'!N20/'!M907A50.Gus'!Q3","v":0.69090909090909092},{"$f":"SUM('!M907A50.Gus'!L20:Q20)/'!M907A50.Gus'!Q3","v":5.0545454545454547},{"$f":"'!M907A50.Gus'!Q16","v":0.24730700567689989}]
[17,{"$f":"'!M908A50.Gus'!B2:C2","v":"<date>"},{"$f":"('!M908A50.Gus'!F66/60)/'!M908A50.Gus'!Q3","v":2.4002777777777782},{"$f":"'!M908A50.Gus'!N20/'!M908A50.Gus'!Q3","v":0.65},{"$f":"SUM('!M908A50.Gus'!L20:Q20)/'!M908A50.Gus'!Q3","v":4.5166666666666666},{"$f":"'!M908A50.Gus'!Q16","v":0.24813972582751662}]
[18,{"$f":"'!M909A50.Gus'!B2:C2","v":"<date>"},{"$f":"('!M909A50.Gus'!F46/60)/'!M909A50.Gus'!Q3","v":2.2879166666666668},{"$f":"'!M909A50.Gus'!N20/'!M909A50.Gus'!Q3","v":0.97499999999999998},{"$f":"SUM('!M909A50.Gus'!L20:Q20)/'!M909A50.Gus'!Q3","v":6.85},{"$f":"'!M909A50.Gus'!Q16","v":3.1691696785362135E-2}]
[19,{"$f":"'!M910B50.Gus'!B2:C2","v":"<date>"},{"$f":"('!M910B50.Gus'!F48/60)/'!M910B50.Gus'!Q3","v":2.0793650793650791},{"$f":"'!M910B50.Gus'!N20/'!M910B50.Gus'!Q3","v":0.9285714285714286},{"$f":"SUM('!M910B50.Gus'!L20:Q20)/'!M910B50.Gus'!Q3","v":6.5476190476190474},{"$f":"'!M910B50.Gus'!Q16","v":8.1008748552323234E-2}]
[20,{"$f":"'!M911A30.Gus'!B2:C2","v":"<date>"},{"$f":"('!M911A30.Gus'!F57/60)/'!M911A30.Gus'!Q3","v":2.1830065359477122},{"$f":"'!M911A30.Gus'!N20/'!M911A30.Gus'!Q3","v":0.76470588235294112},{"$f":"SUM('!M911A30.Gus'!L20:Q20)/'!M911A30.Gus'!Q3","v":5.4509803921568629},{"$f":"'!M911A30.Gus'!Q16","v":0.19188638709059902}]
[21,{"$f":"'!M912A40.Gus'!B2:C2","v":"<date>"},{"$f":"('!M912A40.Gus'!F54/60)/'!M912A40.Gus'!Q3","v":2.3874999999999997},{"$f":"'!M912A40.Gus'!N20/'!M912A40.Gus'!Q3","v":0.8125},{"$f":"SUM('!M912A40.Gus'!L20:Q20)/'!M912A40.Gus'!Q3","v":5.770833333333333},{"$f":"'!M912A40.Gus'!Q16","v":0.18631695338352153}]
[22,{"$f":"'!M913A00.Gus'!B2:C2","v":"<date>"},{"$f":"('!M913A00.Gus'!F63/60)/'!M913A00.Gus'!Q3","v":2.143859649122807},{"$f":"'!M913A00.Gus'!N20/'!M913A00.Gus'!Q3","v":0.68421052631578949},{"$f":"SUM('!M913A00.Gus'!L20:Q20)/'!M913A00.Gus'!Q3","v":4.9122807017543861},{"$f":"'!M913A00.Gus'!Q16","v":0.24749606582421083}]
[23,{"$f":"'!M914B30.Gus'!B2:C2","v":"<date>"},{"$f":"('!M914B30.Gus'!F47/60)/'!M914B30.Gus'!Q3","v":2.1979674796747966},{"$f":"'!M914B30.Gus'!N20/'!M914B30.Gus'!Q3","v":0.95121951219512191},{"$f":"SUM('!M914B30.Gus'!L20:Q20)/'!M914B30.Gus'!Q3","v":6.7073170731707314},{"$f":"'!M914B30.Gus'!Q16","v":6.1590495799665711E-2}]
[24,{"$f":"'!M915B20.Gus'!B2:C2","v":"<date>"},{"$f":"('!M915B20.Gus'!F48/60)/'!M915B20.Gus'!Q3","v":2.5623015873015871},{"$f":"'!M915B20.Gus'!N20/'!M915B20.Gus'!Q3","v":0.90476190476190477},{"$f":"SUM('!M915B20.Gus'!L20:Q20)/'!M915B20.Gus'!Q3","v":6.5238095238095237},{"$f":"'!M915B20.Gus'!Q16","v":0.11946487551750448}]
[25,{"$f":"'!M916A40.Gus'!B2:C2","v":"<date>"},{"$f":"('!M916A40.Gus'!F46/60)/'!M916A40.Gus'!Q3","v":2.11625},{"$f":"'!M916A40.Gus'!N20/'!M916A40.Gus'!Q3","v":1},{"$f":"SUM('!M916A40.Gus'!L20:Q20)/'!M916A40.Gus'!Q3","v":6.875},{"$f":"'!M916A40.Gus'!Q16","v":0}]
[26,{"$f":"'!M917A40.Gus'!B2:C2","v":"<date>"},{"$f":"('!M917A40.Gus'!F55/60)/'!M917A40.Gus'!Q3","v":2.5948979591836734},{"$f":"'!M917A40.Gus'!N20/'!M917A40.Gus'!Q3","v":0.81632653061224492},{"$f":"SUM('!M917A40.Gus'!L20:Q20)/'!M917A40.Gus'!Q3","v":5.6734693877551017},{"$f":"'!M917A40.Gus'!Q16","v":0.15496473122001972}]
[27,{"$f":"'!M918A20.Gus'!B2:C2","v":"<date>"},{"$f":"('!M918A20.Gus'!F47/60)/'!M918A20.Gus'!Q3","v":2.4536585365853658},{"$f":"'!M918A20.Gus'!N20/'!M918A20.Gus'!Q3","v":0.95121951219512191},{"$f":"SUM('!M918A20.Gus'!L20:Q20)/'!M918A20.Gus'!Q3","v":6.7073170731707314},{"$f":"'!M918A20.Gus'!Q16","v":5.2485500129473346E-2}]
[28,{"$f":"'!M919A30.Gus'!B2:C2","v":"<date>"},{"$f":"('!M919A30.Gus'!F46/60)/'!M919A30.Gus'!Q3","v":2.5929166666666665},{"$f":"'!M919A30.Gus'!N20/'!M919A30.Gus'!Q3","v":1},{"$f":"SUM('!M919A30.Gus'!L20:Q20)/'!M919A30.Gus'!Q3","v":6.875},{"$f":"'!M919A30.Gus'!Q16","v":0}]
[29,{"$f":"'!M920950.Gus'!B2:C2","v":"<date>"},{"$f":"('!M920950.Gus'!F46/60)/'!M920950.Gus'!Q3","v":2.1766666666666667},{"$f":"'!M920950.Gus'!N20/'!M920950.Gus'!Q3","v":1},{"$f":"SUM('!M920950.Gus'!L20:Q20)/'!M920950.Gus'!Q3","v":6.875},{"$f":"'!M920950.Gus'!Q16","v":0}]
[30,{"$f":"'!M921900.Gus'!B2:C2","v":"<date>"},{"$f":"('!M921900.Gus'!F59/60)/'!M921900.Gus'!Q3","v":2.1062893081761009},{"$f":"'!M921900.Gus'!N20/'!M921900.Gus'!Q3","v":0.73584905660377353},{"$f":"SUM('!M921900.Gus'!L20:Q20)/'!M921900.Gus'!Q3","v":5.2641509433962268},{"$f":"'!M921900.Gus'!Q16","v":0.21143691375694981}]

{"sheet":"Start","index":2,"n_rows":36,"n_cols":10,"rows_kept":36,"cut":false,"hidden":false,"merged":[]}
[null,null,null,null,null,"Use Folder 51",null,"Auto Clean Up",null,"Correct sequence"]
[null,null,null,null,null,false,null,true,null,222]
[]
["Working with Folder",null,null,null,null,null,"Process All/Or Pick A number: ALL or an integer"]
["F:\\Possum Chapter\\Raw Data\\Gus\\new phase RRR\\",null,null,null,null,null,"ALL"]
["Filenames:"]
["!M921900.Gus",null,null,null,null,null,"Paint Cells"]
["!M823B10.Gus",null,null,null,null,null,false]
["!M824B00.Gus"]
["!M825A20.Gus"]
["!M826B30.Gus"]
["!M827B40.Gus"]
["!M828A40.Gus"]
["!M829A50.Gus"]
["!M830B10.Gus"]
["!M831B10.Gus"]
["!M901A00.Gus"]
["!M902A10.Gus"]
["!M903C30.Gus"]
["!M904A40.Gus"]
["!M905A40.Gus"]
["!M906B10.Gus"]
["!M907A50.Gus"]
["!M908A50.Gus"]
["!M909A50.Gus"]
["!M910B50.Gus"]
["!M911A30.Gus"]
["!M912A40.Gus"]
["!M913A00.Gus"]
["!M914B30.Gus"]
["!M915B20.Gus"]
["!M916A40.Gus"]
["!M917A40.Gus"]
["!M918A20.Gus"]
["!M919A30.Gus"]
["!M920950.Gus"]

{"sheet":"!M823B10.Gus","index":3,"n_rows":186,"n_cols":48,"rows_kept":186,"cut":false,"hidden":false,"merged":[[4,39,4,42],[5,39,5,40],[4,44,4,47],[5,44,5,45],[4,24,4,27],[5,24,5,25],[4,29,4,32],[5,29,5,30],[4,34,4,37],[5,34,5,35],[1,1,1,2],[5,13,5,14],[18,13,18,14],[19,13,19,14],[4,19,4,22],[5,19,5,20]]}
["Report for:!M823B10.Gus"]
["Date:","<date>"]
["Hen:","<hen>",null,null,null,"Correct Sequence",{"$f":"Start!J2","v":222},null,null,null,null,null,null,null,null,"Total Sequences in Data",{"$f":"4994-COUNTBLANK(L7:L5000)","v":180},null,null,null,null,"Total Sequences in Block Data",{"$f":"COUNTA(L7:L36)","v":30},null,null,null,"Total Sequences in Block Data",{"$f":"COUNTA(L37:L66)","v":30},null,null,null,"Total Sequences in Block Data",{"$f":"COUNTA(L67:L96)","v":30},null,null,null,"Total Sequences in Block Data",{"$f":"COUNTA(L97:L126)","v":30},null,null,null,"Total Sequences in Block Data",{"$f":"COUNTA(L127:L156)","v":30},null,null,null,"Total Sequences in Block Data",{"$f":"COUNTA(L157:L186)","v":30}]
[null,null,null,null,null,null,null,null,null,null,null,null,null,null,null,"Total Sequences in Summary",{"$f":"SUM(O7:O14)","v":179},null,null,null,null,"Total Sequences in Block Summary",{"$f":"SUM(U7:U14)","v":30},null,null,null,"Total Sequences in Block Summary",{"$f":"SUM(Z7:Z14)","v":30},null,null,null,"Total Sequences in Block Summary",{"$f":"SUM(AE7:AE14)","v":30},null,null,null,"Total Sequences in Block Summary",{"$f":"SUM(AJ7:AJ14)","v":30},null,null,null,"Total Sequences in Block Summary",{"$f":"SUM(AO7:AO14)","v":30},null,null,null,"Total Sequences in Block Summary",{"$f":"SUM(AT7:AT14)","v":29}]
[null,null,null,null,null,null,null,null,null,null,null,null,null,null,null,null,null,null,null,"Block 1",null,null,null,null,"Block 2",null,null,null,null,"Block 3",null,null,null,null,"Block 4",null,null,null,null,"Block 5",null,null,null,null,"Block 6"]
["Sequence\nComponent\n1","Time\n1","Sequence\nComponent\n2","Time\n2","Sequence\nComponent\n3","Time\n3","Sequence\nComponent\n4","Time\n4","Sequence\nComponent\n5","Time\n5","Correct?\n0=No 1=Yes","Sequence",null,"Frequency",null,"Relative Frequency","Variability",null,null,"Frequency",null,"Relative Frequency","Variability",null,"Frequency",null,"Relative Frequency","Variability",null,"Frequency",null,"Relative Frequency","Variability",null,"Frequency",null,"Relative Frequency","Variability",null,"Frequency",null,"Relative Frequency","Variability",null,"Frequency",null,"Relative Frequency","Variability"]
[12,7,23,18,23,37,null,null,null,null,0,122,null,111,{"$f":"COUNTIF($L$7:$L$500,N7)","v":0},{"$f":"O7/$Q$4","v":0},{"$f":"IF(P7=0,0,(P7*((LOG(P7))/LOG(2))))","v":0},null,null,{"$f":"N7","v":111},{"$f":"COUNTIF(L7:L36,T7)","v":0},{"$f":"U7/(W4-U14)","v":0},{"$f":"IF(V7=0,0,(V7*((LOG(V7))/LOG(2))))","v":0},null,{"$f":"N7","v":111},{"$f":"COUNTIF(L37:L66,Y7)","v":0},{"$f":"Z7/(AB4-Z14)","v":0},{"$f":"IF(AA7=0,0,(AA7*((LOG(AA7))/LOG(2))))","v":0},null,{"$f":"N7","v":111},{"$f":"COUNTIF(L67:L96,AD7)","v":0},{"$f":"AE7/(AG4-AE14)","v":0},{"$f":"IF(AF7=0,0,(AF7*((LOG(AF7))/LOG(2))))","v":0},null,{"$f":"N7","v":111},{"$f":"COUNTIF(L97:L126,AI7)","v":0},{"$f":"AJ7/(AL4-AJ14)","v":0},{"$f":"IF(AK7=0,0,(AK7*((LOG(AK7))/LOG(2))))","v":0},null,{"$f":"N7","v":111},{"$f":"COUNTIF(L127:L156,AN7)","v":0},{"$f":"AO7/(AQ4-AO14)","v":0},{"$f":"IF(AP7=0,0,(AP7*((LOG(AP7))/LOG(2))))","v":0},null,{"$f":"N7","v":111},{"$f":"COUNTIF(L157:L186,AS7)","v":0},{"$f":"AT7/(AV4-AT14)","v":0},{"$f":"IF(AU7=0,0,(AU7*((LOG(AU7))/LOG(2))))","v":0}]
[21,138,21,142,21,148,null,null,null,null,0,222,null,112,{"$f":"COUNTIF($L$7:$L$500,N8)","v":3},{"$f":"O8/$Q$4","v":1.6759776536312849E-2},{"$f":"IF(P8=0,0,(P8*((LOG(P8))/LOG(2))))","v":-9.8863462735359217E-2},null,null,{"$f":"N8","v":112},{"$f":"COUNTIF(L7:L36,T8)","v":1},{"$f":"U8/(W4-U14)","v":4.1666666666666664E-2},{"$f":"IF(V8=0,0,(V8*((LOG(V8))/LOG(2))))","v":-0.19104010419671485},null,{"$f":"N8","v":112},{"$f":"COUNTIF(L37:L66,Y8)","v":1},{"$f":"Z8/(AB4-Z14)","v":4.1666666666666664E-2},{"$f":"IF(AA8=0,0,(AA8*((LOG(AA8))/LOG(2))))","v":-0.19104010419671485},null,{"$f":"N8","v":112},{"$f":"COUNTIF(L67:L96,AD8)","v":0},{"$f":"AE8/(AG4-AE14)","v":0},{"$f":"IF(AF8=0,0,(AF8*((LOG(AF8))/LOG(2))))","v":0},null,{"$f":"N8","v":112},{"$f":"COUNTIF(L97:L126,AI8)","v":1},{"$f":"AJ8/(AL4-AJ14)","v":3.5714285714285712E-2},{"$f":"IF(AK8=0,0,(AK8*((LOG(AK8))/LOG(2))))","v":-0.17169124721634299},null,{"$f":"N8","v":112},{"$f":"COUNTIF(L127:L156,AN8)","v":0},{"$f":"AO8/(AQ4-AO14)","v":0},{"$f":"IF(AP8=0,0,(AP8*((LOG(AP8))/LOG(2))))","v":0},null,{"$f":"N8","v":112},{"$f":"COUNTIF(L157:L186,AS8)","v":0},{"$f":"AT8/(AV4-AT14)","v":0},{"$f":"IF(AU8=0,0,(AU8*((LOG(AU8))/LOG(2))))","v":0}]
[12,237,23,247,23,252,null,null,null,null,0,122,null,121,{"$f":"COUNTIF($L$7:$L$500,N9)","v":33},{"$f":"O9/$Q$4","v":0.18435754189944134},{"$f":"IF(P9=0,0,(P9*((LOG(P9))/LOG(2))))","v":-0.44972578050777373},null,null,{"$f":"N9","v":121},{"$f":"COUNTIF(L7:L36,T9)","v":5},{"$f":"U9/(W4-U14)","v":0.20833333333333334},{"$f":"IF(V9=0,0,(V9*((LOG(V9))/LOG(2))))","v":-0.47146550121537367},null,{"$f":"N9","v":121},{"$f":"COUNTIF(L37:L66,Y9)","v":1},{"$f":"Z9/(AB4-Z14)","v":4.1666666666666664E-2},{"$f":"IF(AA9=0,0,(AA9*((LOG(AA9))/LOG(2))))","v":-0.19104010419671485},null,{"$f":"N9","v":121},{"$f":"COUNTIF(L67:L96,AD9)","v":9},{"$f":"AE9/(AG4-AE14)","v":0.32142857142857145},{"$f":"IF(AF9=0,0,(AF9*((LOG(AF9))/LOG(2))))","v":-0.5263167601977724},null,{"$f":"N9","v":121},{"$f":"COUNTIF(L97:L126,AI9)","v":6},{"$f":"AJ9/(AL4-AJ14)","v":0.21428571428571427},{"$f":"IF(AK9=0,0,(AK9*((LOG(AK9))/LOG(2))))","v":-0.47622694742923877},null,{"$f":"N9","v":121},{"$f":"COUNTIF(L127:L156,AN9)","v":8},{"$f":"AO9/(AQ4-AO14)","v":0.32},{"$f":"IF(AP9=0,0,(AP9*((LOG(AP9))/LOG(2))))","v":-0.52603398072791185},null,{"$f":"N9","v":121},{"$f":"COUNTIF(L157:L186,AS9)","v":4},{"$f":"AT9/(AV4-AT14)","v":0.16},{"$f":"IF(AU9=0,0,(AU9*((LOG(AU9))/LOG(2))))","v":-0.42301699036395596}]
[21,350,21,353,12,354,null,null,null,null,0,221,null,122,{"$f":"COUNTIF($L$7:$L$500,N10)","v":47},{"$f":"O10/$Q$4","v":0.26256983240223464},{"$f":"IF(P10=0,0,(P10*((LOG(P10))/LOG(2))))","v":-0.50655679051715696},null,null,{"$f":"N10","v":122},{"$f":"COUNTIF(L7:L36,T10)","v":12},{"$f":"U10/(W4-U14)","v":0.5},{"$f":"IF(V10=0,0,(V10*((LOG(V10))/LOG(2))))","v":-0.5},null,{"$f":"N10","v":122},{"$f":"COUNTIF(L37:L66,Y10)","v":9},{"$f":"Z10/(AB4-Z14)","v":0.375},{"$f":"IF(AA10=0,0,(AA10*((LOG(AA10))/LOG(2))))","v":-0.53063906222956647},null,{"$f":"N10","v":122},{"$f":"COUNTIF(L67:L96,AD10)","v":10},{"$f":"AE10/(AG4-AE14)","v":0.35714285714285715},{"$f":"IF(AF10=0,0,(AF10*((LOG(AF10))/LOG(2))))","v":-0.53050958113222924},null,{"$f":"N10","v":122},{"$f":"COUNTIF(L97:L126,AI10)","v":7},{"$f":"AJ10/(AL4-AJ14)","v":0.25},{"$f":"IF(AK10=0,0,(AK10*((LOG(AK10))/LOG(2))))","v":-0.5},null,{"$f":"N10","v":122},{"$f":"COUNTIF(L127:L156,AN10)","v":5},{"$f":"AO10/(AQ4-AO14)","v":0.2},{"$f":"IF(AP10=0,0,(AP10*((LOG(AP10))/LOG(2))))","v":-0.46438561897747244},null,{"$f":"N10","v":122},{"$f":"COUNTIF(L157:L186,AS10)","v":4},{"$f":"AT10/(AV4-AT14)","v":0.16},{"$f":"IF(AU10=0,0,(AU10*((LOG(AU10))/LOG(2))))","v":-0.42301699036395596}]
[12,449,23,457,14,461,null,null,null,null,0,121,null,211,{"$f":"COUNTIF($L$7:$L$500,N11)","v":1},{"$f":"O11/$Q$4","v":5.5865921787709499E-3},{"$f":"IF(P11=0,0,(P11*((LOG(P11))/LOG(2))))","v":-4.1809026688627134E-2},null,null,{"$f":"N11","v":211},{"$f":"COUNTIF(L7:L36,T11)","v":0},{"$f":"U11/(W4-U14)","v":0},{"$f":"IF(V11=0,0,(V11*((LOG(V11))/LOG(2))))","v":0},null,{"$f":"N11","v":211},{"$f":"COUNTIF(L37:L66,Y11)","v":0},{"$f":"Z11/(AB4-Z14)","v":0},{"$f":"IF(AA11=0,0,(AA11*((LOG(AA11))/LOG(2))))","v":0},null,{"$f":"N11","v":211},{"$f":"COUNTIF(L67:L96,AD11)","v":1},{"$f":"AE11/(AG4-AE14)","v":3.5714285714285712E-2},{"$f":"IF(AF11=0,0,(AF11*((LOG(AF11))/LOG(2))))","v":-0.17169124721634299},null,{"$f":"N11","v":211},{"$f":"COUNTIF(L97:L126,AI11)","v":0},{"$f":"AJ11/(AL4-AJ14)","v":0},{"$f":"IF(AK11=0,0,(AK11*((LOG(AK11))/LOG(2))))","v":0},null,{"$f":"N11","v":211},{"$f":"COUNTIF(L127:L156,AN11)","v":0},{"$f":"AO11/(AQ4-AO14)","v":0},{"$f":"IF(AP11=0,0,(AP11*((LOG(AP11))/LOG(2))))","v":0},null,{"$f":"N11","v":211},{"$f":"COUNTIF(L157:L186,AS11)","v":0},{"$f":"AT11/(AV4-AT14)","v":0},{"$f":"IF(AU11=0,0,(AU11*((LOG(AU11))/LOG(2))))","v":0}]
[12,563,23,573,23,584,null,null,null,null,0,122,null,212,{"$f":"COUNTIF($L$7:$L$500,N12)","v":50},{"$f":"O12/$Q$4","v":0.27932960893854747},{"$f":"IF(P12=0,0,(P12*((LOG(P12))/LOG(2))))","v":-0.51395519203618201},null,null,{"$f":"N12","v":212},{"$f":"COUNTIF(L7:L36,T12)","v":3},{"$f":"U12/(W4-U14)","v":0.125},{"$f":"IF(V12=0,0,(V12*((LOG(V12))/LOG(2))))","v":-0.375},null,{"$f":"N12","v":212},{"$f":"COUNTIF(L37:L66,Y12)","v":10},{"$f":"Z12/(AB4-Z14)","v":0.41666666666666669},{"$f":"IF(AA12=0,0,(AA12*((LOG(AA12))/LOG(2))))","v":-0.52626433576408083},null,{"$f":"N12","v":212},{"$f":"COUNTIF(L67:L96,AD12)","v":6},{"$f":"AE12/(AG4-AE14)","v":0.21428571428571427},{"$f":"IF(AF12=0,0,(AF12*((LOG(AF12))/LOG(2))))","v":-0.47622694742923877},null,{"$f":"N12","v":212},{"$f":"COUNTIF(L97:L126,AI12)","v":10},{"$f":"AJ12/(AL4-AJ14)","v":0.35714285714285715},{"$f":"IF(AK12=0,0,(AK12*((LOG(AK12))/LOG(2))))","v":-0.53050958113222924},null,{"$f":"N12","v":212},{"$f":"COUNTIF(L127:L156,AN12)","v":11},{"$f":"AO12/(AQ4-AO14)","v":0.44},{"$f":"IF(AP12=0,0,(AP12*((LOG(AP12))/LOG(2))))","v":-0.52114681130046814},null,{"$f":"N12","v":212},{"$f":"COUNTIF(L157:L186,AS12)","v":10},{"$f":"AT12/(AV4-AT14)","v":0.4},{"$f":"IF(AU12=0,0,(AU12*((LOG(AU12))/LOG(2))))","v":-0.52877123795494496}]
[12,721,23,734,23,741,null,null,null,null,0,122,null,221,{"$f":"COUNTIF($L$7:$L$500,N13)","v":20},{"$f":"O13/$Q$4","v":0.11173184357541899},{"$f":"IF(P13=0,0,(P13*((LOG(P13))/LOG(2))))","v":-0.3532835399303792},null,null,{"$f":"N13","v":221},{"$f":"COUNTIF(L7:L36,T13)","v":3},{"$f":"U13/(W4-U14)","v":0.125},{"$f":"IF(V13=0,0,(V13*((LOG(V13))/LOG(2))))","v":-0.375},null,{"$f":"N13","v":221},{"$f":"COUNTIF(L37:L66,Y13)","v":3},{"$f":"Z13/(AB4-Z14)","v":0.125},{"$f":"IF(AA13=0,0,(AA13*((LOG(AA13))/LOG(2))))","v":-0.375},null,{"$f":"N13","v":221},{"$f":"COUNTIF(L67:L96,AD13)","v":2},{"$f":"AE13/(AG4-AE14)","v":7.1428571428571425E-2},{"$f":"IF(AF13=0,0,(AF13*((LOG(AF13))/LOG(2))))","v":-0.27195392300411453},null,{"$f":"N13","v":221},{"$f":"COUNTIF(L97:L126,AI13)","v":4},{"$f":"AJ13/(AL4-AJ14)","v":0.14285714285714285},{"$f":"IF(AK13=0,0,(AK13*((LOG(AK13))/LOG(2))))","v":-0.40105070315108626},null,{"$f":"N13","v":221},{"$f":"COUNTIF(L127:L156,AN13)","v":1},{"$f":"AO13/(AQ4-AO14)","v":0.04},{"$f":"IF(AP13=0,0,(AP13*((LOG(AP13))/LOG(2))))","v":-0.18575424759098899},null,{"$f":"N13","v":221},{"$f":"COUNTIF(L157:L186,AS13)","v":7},{"$f":"AT13/(AV4-AT14)","v":0.28000000000000003},{"$f":"IF(AU13=0,0,(AU13*((LOG(AU13))/LOG(2))))","v":-0.51422035496079388}]
[21,832,21,838,12,841,null,null,null,null,0,221,null,222,{"$f":"COUNTIF($L$7:$L$500,N14)","v":25},{"$f":"O14/$Q$4","v":0.13966480446927373},{"$f":"IF(P14=0,0,(P14*((LOG(P14))/LOG(2))))","v":-0.39664240048736477},null,null,{"$f":"N14","v":222},{"$f":"COUNTIF(L7:L36,T14)","v":6},null,null,null,{"$f":"N14","v":222},{"$f":"COUNTIF(L37:L66,Y14)","v":6},null,null,null,{"$f":"N14","v":222},{"$f":"COUNTIF(L67:L96,AD14)","v":2},null,null,null,{"$f":"N14","v":222},{"$f":"COUNTIF(L97:L126,AI14)","v":2},null,null,null,{"$f":"N14","v":222},{"$f":"COUNTIF(L127:L156,AN14)","v":5},null,null,null,{"$f":"N14","v":222},{"$f":"COUNTIF(L157:L186,AS14)","v":4}]
[12,933,23,936,14,940,null,null,null,null,0,121,null,null,null,{"$f":"SUM(P7:P14)","v":1},{"$f":"-SUM(Q7:Q14)","v":2.360836192902843},null,null,null,null,{"$f":"SUM(V7:V14)","v":1},{"$f":"-SUM(W7:W14)","v":1.9125056054120886},null,null,null,{"$f":"SUM(AA7:AA14)","v":1},{"$f":"-SUM(AB7:AB14)","v":1.8139836063870769},null,null,null,{"$f":"SUM(AF7:AF14)","v":1},{"$f":"-SUM(AG7:AG14)","v":1.9766984589796979},null,null,null,{"$f":"SUM(AK7:AK14)","v":1},{"$f":"-SUM(AL7:AL14)","v":2.0794784789288974},null,null,null,{"$f":"SUM(AP7:AP14)","v":1},{"$f":"-SUM(AQ7:AQ14)","v":1.6973206585968414},null,null,null,{"$f":"SUM(AU7:AU14)","v":1},{"$f":"-SUM(AV7:AV14)","v":1.889025573643651}]
[12,1035,23,1037,23,1045,null,null,null,null,0,122,null,null,null,"U=",{"$f":"Q15/(LOG(Q4)/LOG(2))","v":0.31545888663842253},null,null,null,null,"U1=",{"$f":"W15/(LOG(W4)/LOG(2))","v":0.38975916991581361},null,null,null,"U2=",{"$f":"AB15/(LOG(AB4)/LOG(2))","v":0.3696808744850606},null,null,null,"U3=",{"$f":"AG15/(LOG(AG4)/LOG(2))","v":0.40284135553149852},null,null,null,"U4=",{"$f":"AL15/(LOG(AL4)/LOG(2))","v":0.4237874145370088},null,null,null,"U5=",{"$f":"AQ15/(LOG(AQ4)/LOG(2))","v":0.34590554354643227},null,null,null,"U6=",{"$f":"AV15/(LOG(AV4)/LOG(2))","v":0.38884993077130076}]
[12,1138,23,1143,14,1147,null,null,null,null,0,121]
[12,1241,23,1243,14,1246,null,null,null,null,0,121]
[21,1343,12,1346,23,1351,null,null,null,null,0,212,null,"Total Target Seq"]
[21,1447,21,1467,21,1474,null,null,null,null,0,222,null,{"$f":"COUNTIF(L7:L186,G3)","v":25},null,30,30,30,30,30,30]
[12,1621,23,1640,23,1652,null,null,null,null,0,122,null,null,null,"% of reinforcement given in 6 equal intervals based on number of trials "]
[21,1752,21,1762,21,1771,null,null,null,null,0,222,null,null,null,"%_1","%_2","%_3","%_4","%_5","%_6"]
[12,2109,23,2117,14,2124,null,null,null,null,0,121,null,null,"target sequence",{"$f":"$G$3","v":222},{"$f":"$G$3","v":222},{"$f":"$G$3","v":222},{"$f":"$G$3","v":222},{"$f":"$G$3","v":222},{"$f":"$G$3","v":222}]
[12,2251,23,2255,23,2261,null,null,null,null,0,122,null,null,"total reinforcement",{"$f":"U14","v":6},{"$f":"Z14","v":6},{"$f":"AE14","v":2},{"$f":"AJ14","v":2},{"$f":"AO14","v":5},{"$f":"AT14","v":4}]
[21,2362,21,2369,21,2376,null,null,null,null,0,222,null,null,"% target"]
[12,2642,23,2651,23,2657,null,null,null,null,0,122,null,null,"CCRF"]
[21,2752,21,2755,21,2764,null,null,null,null,0,222,null,null,"% CCRf"]
[12,3176,14,3181,23,3190,null,null,null,null,0,112,null,null,"average response rate",{"$f":"F36/P20","v":144.30000000000001},{"$f":"(F66-F36)/Q20","v":133.23333333333332},{"$f":"(F96-F66)/R20","v":112.7},{"$f":"(F126-F96)/S20","v":123.43333333333334},{"$f":"(F156-F126)/T20","v":145.46666666666667},{"$f":"(F186-F156)/U20","v":-659.13333333333333}]
[21,3287,12,3297,23,3302,null,null,null,null,0,212]
[12,3396,23,3402,23,3410,null,null,null,null,0,122]
[12,3502,23,3511,23,3520,null,null,null,null,0,122]
[21,3613,12,3617,23,3625,null,null,null,null,0,212]
[12,3718,23,3721,23,3723,null,null,null,null,0,122]
[21,3820,21,3827,21,3836,null,null,null,null,0,222]
[21,4187,21,4194,12,4200,null,null,null,null,0,221]
[12,4314,23,4319,23,4329,null,null,null,null,0,122]
[12,4422,23,4425,14,4429,null,null,null,null,0,121]
[12,4527,23,4533,23,4543,null,null,null,null,0,122]
[21,4638,21,4642,21,4650,null,null,null,null,0,222]
[21,4765,12,4768,23,4771,null,null,null,null,0,212]
[12,4944,23,4950,23,4961,null,null,null,null,0,122]
[21,5057,21,5066,21,5075,null,null,null,null,0,222]
[12,5214,23,5220,23,5237,null,null,null,null,0,122]
[21,5332,12,5337,23,5344,null,null,null,null,0,212]
[12,5437,23,5444,23,5457,null,null,null,null,0,122]
[12,5551,23,5556,23,5562,null,null,null,null,0,122]
[21,5659,12,5662,23,5668,null,null,null,null,0,212]
[21,5763,12,5767,23,5771,null,null,null,null,0,212]
[21,5865,21,5868,12,5872,null,null,null,null,0,221]
[21,5968,21,5987,21,5996,null,null,null,null,0,222]
[21,6181,12,6187,23,6197,null,null,null,null,0,212]
[21,6293,12,6297,23,6299,null,null,null,null,0,212]
[12,6391,14,6397,23,6403,null,null,null,null,0,112]
[21,6499,12,6502,23,6503,null,null,null,null,0,212]
[21,6640,12,6643,23,6652,null,null,null,null,0,212]
[21,6748,12,6751,23,6757,null,null,null,null,0,212]
[12,6851,23,6858,23,6866,null,null,null,null,0,122]
[12,6960,23,6969,23,6979,null,null,null,null,0,122]
[21,7075,12,7081,23,7091,null,null,null,null,0,212]
[12,7183,23,7186,23,7194,null,null,null,null,0,122]
[21,7303,21,7310,21,7318,null,null,null,null,0,222]
[21,7526,21,7533,21,7544,null,null,null,null,0,222]
[21,7802,21,7807,12,7811,null,null,null,null,0,221]
[21,7913,21,7915,21,7925,null,null,null,null,0,222]
[21,8210,21,8215,12,8218,null,null,null,null,0,221]
[12,8310,23,8317,23,8326,null,null,null,null,0,122]
[12,8419,23,8428,23,8439,null,null,null,null,0,122]
[21,8533,12,8538,23,8545,null,null,null,null,0,212]
[12,8639,23,8644,23,8650,null,null,null,null,0,122]
[21,8743,12,8749,14,8752,null,null,null,null,0,211]
[12,8845,23,8849,14,8851,null,null,null,null,0,121]
[21,8947,21,8957,21,8966,null,null,null,null,0,222]
[21,9217,12,9220,23,9226,null,null,null,null,0,212]
[12,9318,23,9321,23,9327,null,null,null,null,0,122]
[12,9419,23,9422,23,9429,null,null,null,null,0,122]
[21,9525,12,9529,23,9531,null,null,null,null,0,212]
[12,9623,23,9627,14,9630,null,null,null,null,0,121]
[21,9726,21,9730,21,9737,null,null,null,null,0,222]
[12,9890,23,9898,14,9900,null,null,null,null,0,121]
[12,9994,23,10002,14,10009,null,null,null,null,0,121]
[21,10106,21,10109,12,10112,null,null,null,null,0,221]
[21,10212,21,10218,12,10224,null,null,null,null,0,221]
[12,10326,23,10333,23,10336,null,null,null,null,0,122]
[12,10429,23,10436,23,10444,null,null,null,null,0,122]
[21,10540,12,10555,23,10563,null,null,null,null,0,212]
[12,10655,23,10658,14,10663,null,null,null,null,0,121]
[12,10755,23,10758,14,10765,null,null,null,null,0,121]
[21,10860,12,10864,23,10871,null,null,null,null,0,212]
[12,10965,23,10967,23,10975,null,null,null,null,0,122]
[12,11075,23,11083,23,11087,null,null,null,null,0,122]
[12,11179,23,11182,23,11186,null,null,null,null,0,122]
[21,11282,12,11289,23,11297,null,null,null,null,0,212]
[12,11391,23,11394,14,11400,null,null,null,null,0,121]
[12,11492,23,11496,14,11500,null,null,null,null,0,121]
[12,11593,23,11596,23,11607,null,null,null,null,0,122]
[12,11700,23,11703,14,11707,null,null,null,null,0,121]
[12,11818,23,11823,23,11829,null,null,null,null,0,122]
[21,11924,21,11942,21,11949,null,null,null,null,0,222]
[12,12152,23,12164,23,12169,null,null,null,null,0,122]
[21,12267,12,12274,23,12276,null,null,null,null,0,212]
[12,12371,23,12375,23,12383,null,null,null,null,0,122]
[12,12475,23,12479,23,12484,null,null,null,null,0,122]
[21,12579,21,12587,12,12591,null,null,null,null,0,221]
[21,12687,12,12690,23,12712,null,null,null,null,0,212]
[12,12806,23,12808,14,12812,null,null,null,null,0,121]
[12,12903,23,12907,23,12911,null,null,null,null,0,122]
[21,13005,12,13007,23,13011,null,null,null,null,0,212]
[21,13106,21,13110,12,13113,null,null,null,null,0,221]
[21,13209,12,13212,23,13228,null,null,null,null,0,212]
[12,13322,23,13323,23,13327,null,null,null,null,0,122]
[12,13422,23,13438,23,13444,null,null,null,null,0,122]
[12,13537,23,13541,14,13544,null,null,null,null,0,121]
[21,13647,21,13651,12,13653,null,null,null,null,0,221]
[21,13745,12,13751,23,13759,null,null,null,null,0,212]
[21,13858,12,13861,23,13872,null,null,null,null,0,212]
[12,13966,23,13969,14,13974,null,null,null,null,0,121]
[21,14073,21,14078,21,14090,null,null,null,null,0,222]
[21,14562,12,14566,23,14574,null,null,null,null,0,212]
[21,14670,12,14675,23,14681,null,null,null,null,0,212]
[12,14775,23,14779,14,14782,null,null,null,null,0,121]
[12,14874,23,14877,14,14881,null,null,null,null,0,121]
[12,14974,14,14981,23,14992,null,null,null,null,0,112]
[21,15088,12,15091,23,15093,null,null,null,null,0,212]
[21,15197,21,15201,12,15203,null,null,null,null,0,221]
[21,15304,12,15308,23,15310,null,null,null,null,0,212]
[12,15403,23,15407,14,15410,null,null,null,null,0,121]
[21,15507,12,15510,23,15515,null,null,null,null,0,212]
[12,15609,23,15612,14,15614,null,null,null,null,0,121]
[21,15709,21,15713,21,15723,null,null,null,null,0,222]
[21,15897,12,15905,23,15908,null,null,null,null,0,212]
[21,16008,21,16013,12,16020,null,null,null,null,0,221]
[12,16112,23,16116,14,16127,null,null,null,null,0,121]
[12,16221,23,16223,14,16226,null,null,null,null,0,121]
[12,16320,23,16322,14,16326,null,null,null,null,0,121]
[21,16422,21,16425,21,16430,null,null,null,null,0,222]
[21,16878,12,16886,23,16893,null,null,null,null,0,212]
[21,16989,12,16992,23,16994,null,null,null,null,0,212]
[12,17086,23,17091,14,17094,null,null,null,null,0,121]
[21,17190,21,17194,21,17200,null,null,null,null,0,222]
[21,17560,12,17563,23,17588,null,null,null,null,0,212]
[12,17681,23,17683,23,17687,null,null,null,null,0,122]
[21,17782,12,17788,23,17796,null,null,null,null,0,212]
[12,17890,23,17896,14,17898,null,null,null,null,0,121]
[12,17990,23,17993,23,17996,null,null,null,null,0,122]
[12,18088,23,18092,14,18098,null,null,null,null,0,121]
[21,18194,12,18197,23,18216,null,null,null,null,0,212]
[12,18310,23,18313,23,18319,null,null,null,null,0,122]
[21,18414,12,18418,23,18434,null,null,null,null,0,212]
[21,18529,21,18532,21,18540,null,null,null,null,0,222]
[21,18864,12,18867,23,18903,null,null,null,null,0,212]
[12,18995,23,18998,23,19002,null,null,null,null,0,122]
[12,19095,23,19099,14,19102,null,null,null,null,0,121]
[21,19198,12,19200,23,19209,null,null,null,null,0,212]
[21,19304,21,19307,21,19313,null,null,null,null,0,222]
[21,19615,12,19619,23,19634,null,null,null,null,0,212]
[12,19752,23,19762,23,19774,null,null,null,null,0,122]
[21,19869,12,19877,23,19881,null,null,null,null,0,212]
[12,19973,23,19976,14,19984,null,null,null,null,0,121]
[21,20079,12,20085,23,20094,null,null,null,null,0,212]
[12,20186,23,20190,23,20195,null,null,null,null,0,122]
[21,20292,12,20295,23,20297,null,null,null,null,0,212]
[21,20392,12,20398,23,20407,null,null,null,null,0,212]
[12,20500,23,20503,23,20507,null,null,null,null,0,122]
[21,20602,12,20606,23,20614,null,null,null,null,0,212]
[12,20707,23,20710,14,20713,null,null,null,null,0,121]
[12,20807,23,20810,14,20814,null,null,null,null,0,121]
[21,20909,21,20913,12,20919,null,null,null,null,0,221]
[21,21014,12,21017,23,21022,null,null,null,null,0,212]
[21,21118,12,21121,23,21138,null,null,null,null,0,212]
[21,21234,21,21236,21,21242,null,null,null,null,0,222]
[21,21587,21,21592,12,21596,null,null,null,null,0,221]
[12,21690,23,21693,23,21698,null,null,null,null,0,122]
[12,21792,23,21797,14,21806,null,null,null,null,0,121]
[12,21898,23,21902,23,21907,null,null,null,null,0,122]
[21,22032,21,22042,21,22049,null,null,null,null,0,222]
[21,22447,21,22453,21,22459,null,null,null,null,0,222]
[21,22836,12,22846,23,22850,null,null,null,null,0,212]
[21,22945,21,22951,12,22960,null,null,null,null,0,221]
[21,23055,21,23059,12,23063,null,null,null,null,0,221]
[21,23162,12,23167,23,23171,null,null,null,null,0,212]
[21,23267,12,23276,23,23286,null,null,null,null,0,212]
[21,23382,21,23384,21,23387,null,null,null,null,0,222]
[21,23681,21,23683,12,23690,null,null,null,null,0,221]
[21,23792,21,23797,12,23803,null,null,null,null,0,221]
[21,23899,21,23903,12,23904,null,null,null,null,0,221]
[12,23997,23,24001,null,null,null,null,null,null,null,12]

{"sheet":"!M824B00.Gus","index":4,"n_rows":186,"n_cols":48,"rows_kept":186,"cut":false,"hidden":false,"merged":[[4,39,4,42],[5,39,5,40],[4,44,4,47],[5,44,5,45],[4,24,4,27],[5,24,5,25],[4,29,4,32],[5,29,5,30],[4,34,4,37],[5,34,5,35],[1,1,1,2],[5,13,5,14],[18,13,18,14],[19,13,19,14],[4,19,4,22],[5,19,5,20]]}
["Report for:!M824B00.Gus"]
["Date:","<date>"]
["Hen:","<hen>",null,null,null,"Correct Sequence",{"$f":"Start!J2","v":222},null,null,null,null,null,null,null,null,"Total Sequences in Data",{"$f":"4994-COUNTBLANK(L7:L5000)","v":180},null,null,null,null,"Total Sequences in Block Data",{"$f":"COUNTA(L7:L36)","v":30},null,null,null,"Total Sequences in Block Data",{"$f":"COUNTA(L37:L66)","v":30},null,null,null,"Total Sequences in Block Data",{"$f":"COUNTA(L67:L96)","v":30},null,null,null,"Total Sequences in Block Data",{"$f":"COUNTA(L97:L126)","v":30},null,null,null,"Total Sequences in Block Data",{"$f":"COUNTA(L127:L156)","v":30},null,null,null,"Total Sequences in Block Data",{"$f":"COUNTA(L157:L186)","v":30}]
[null,null,null,null,null,null,null,null,null,null,null,null,null,null,null,"Total Sequences in Summary",{"$f":"SUM(O7:O14)","v":180},null,null,null,null,"Total Sequences in Block Summary",{"$f":"SUM(U7:U14)","v":30},null,null,null,"Total Sequences in Block Summary",{"$f":"SUM(Z7:Z14)","v":30},null,null,null,"Total Sequences in Block Summary",{"$f":"SUM(AE7:AE14)","v":30},null,null,null,"Total Sequences in Block Summary",{"$f":"SUM(AJ7:AJ14)","v":30},null,null,null,"Total Sequences in Block Summary",{"$f":"SUM(AO7:AO14)","v":30},null,null,null,"Total Sequences in Block Summary",{"$f":"SUM(AT7:AT14)","v":30}]
[null,null,null,null,null,null,null,null,null,null,null,null,null,null,null,null,null,null,null,"Block 1",null,null,null,null,"Block 2",null,null,null,null,"Block 3",null,null,null,null,"Block 4",null,null,null,null,"Block 5",null,null,null,null,"Block 6"]
["Sequence\nComponent\n1","Time\n1","Sequence\nComponent\n2","Time\n2","Sequence\nComponent\n3","Time\n3","Sequence\nComponent\n4","Time\n4","Sequence\nComponent\n5","Time\n5","Correct?\n0=No 1=Yes","Sequence",null,"Frequency",null,"Relative Frequency","Variability",null,null,"Frequency",null,"Relative Frequency","Variability",null,"Frequency",null,"Relative Frequency","Variability",null,"Frequency",null,"Relative Frequency","Variability",null,"Frequency",null,"Relative Frequency","Variability",null,"Frequency",null,"Relative Frequency","Variability",null,"Frequency",null,"Relative Frequency","Variability"]
[21,19,12,24,23,33,null,null,null,null,0,212,null,111,{"$f":"COUNTIF($L$7:$L$500,N7)","v":0},{"$f":"O7/$Q$4","v":0},{"$f":"IF(P7=0,0,(P7*((LOG(P7))/LOG(2))))","v":0},null,null,{"$f":"N7","v":111},{"$f":"COUNTIF(L7:L36,T7)","v":0},{"$f":"U7/(W4-U14)","v":0},{"$f":"IF(V7=0,0,(V7*((LOG(V7))/LOG(2))))","v":0},null,{"$f":"N7","v":111},{"$f":"COUNTIF(L37:L66,Y7)","v":0},{"$f":"Z7/(AB4-Z14)","v":0},{"$f":"IF(AA7=0,0,(AA7*((LOG(AA7))/LOG(2))))","v":0},null,{"$f":"N7","v":111},{"$f":"COUNTIF(L67:L96,AD7)","v":0},{"$f":"AE7/(AG4-AE14)","v":0},{"$f":"IF(AF7=0,0,(AF7*((LOG(AF7))/LOG(2))))","v":0},null,{"$f":"N7","v":111},{"$f":"COUNTIF(L97:L126,AI7)","v":0},{"$f":"AJ7/(AL4-AJ14)","v":0},{"$f":"IF(AK7=0,0,(AK7*((LOG(AK7))/LOG(2))))","v":0},null,{"$f":"N7","v":111},{"$f":"COUNTIF(L127:L156,AN7)","v":0},{"$f":"AO7/(AQ4-AO14)","v":0},{"$f":"IF(AP7=0,0,(AP7*((LOG(AP7))/LOG(2))))","v":0},null,{"$f":"N7","v":111},{"$f":"COUNTIF(L157:L186,AS7)","v":0},{"$f":"AT7/(AV4-AT14)","v":0},{"$f":"IF(AU7=0,0,(AU7*((LOG(AU7))/LOG(2))))","v":0}]
[12,126,23,130,14,133,null,null,null,null,0,121,null,112,{"$f":"COUNTIF($L$7:$L$500,N8)","v":2},{"$f":"O8/$Q$4","v":1.1111111111111112E-2},{"$f":"IF(P8=0,0,(P8*((LOG(P8))/LOG(2))))","v":-7.2131701070329707E-2},null,null,{"$f":"N8","v":112},{"$f":"COUNTIF(L7:L36,T8)","v":0},{"$f":"U8/(W4-U14)","v":0},{"$f":"IF(V8=0,0,(V8*((LOG(V8))/LOG(2))))","v":0},null,{"$f":"N8","v":112},{"$f":"COUNTIF(L37:L66,Y8)","v":1},{"$f":"Z8/(AB4-Z14)","v":3.5714285714285712E-2},{"$f":"IF(AA8=0,0,(AA8*((LOG(AA8))/LOG(2))))","v":-0.17169124721634299},null,{"$f":"N8","v":112},{"$f":"COUNTIF(L67:L96,AD8)","v":1},{"$f":"AE8/(AG4-AE14)","v":4.3478260869565216E-2},{"$f":"IF(AF8=0,0,(AF8*((LOG(AF8))/LOG(2))))","v":-0.19667660678508753},null,{"$f":"N8","v":112},{"$f":"COUNTIF(L97:L126,AI8)","v":0},{"$f":"AJ8/(AL4-AJ14)","v":0},{"$f":"IF(AK8=0,0,(AK8*((LOG(AK8))/LOG(2))))","v":0},null,{"$f":"N8","v":112},{"$f":"COUNTIF(L127:L156,AN8)","v":0},{"$f":"AO8/(AQ4-AO14)","v":0},{"$f":"IF(AP8=0,0,(AP8*((LOG(AP8))/LOG(2))))","v":0},null,{"$f":"N8","v":112},{"$f":"COUNTIF(L157:L186,AS8)","v":0},{"$f":"AT8/(AV4-AT14)","v":0},{"$f":"IF(AU8=0,0,(AU8*((LOG(AU8))/LOG(2))))","v":0}]
[12,226,23,230,23,237,null,null,null,null,0,122,null,121,{"$f":"COUNTIF($L$7:$L$500,N9)","v":22},{"$f":"O9/$Q$4","v":0.12222222222222222},{"$f":"IF(P9=0,0,(P9*((LOG(P9))/LOG(2))))","v":-0.37062929171795722},null,null,{"$f":"N9","v":121},{"$f":"COUNTIF(L7:L36,T9)","v":5},{"$f":"U9/(W4-U14)","v":0.19230769230769232},{"$f":"IF(V9=0,0,(V9*((LOG(V9))/LOG(2))))","v":-0.45740608139494804},null,{"$f":"N9","v":121},{"$f":"COUNTIF(L37:L66,Y9)","v":2},{"$f":"Z9/(AB4-Z14)","v":7.1428571428571425E-2},{"$f":"IF(AA9=0,0,(AA9*((LOG(AA9))/LOG(2))))","v":-0.27195392300411453},null,{"$f":"N9","v":121},{"$f":"COUNTIF(L67:L96,AD9)","v":2},{"$f":"AE9/(AG4-AE14)","v":8.6956521739130432E-2},{"$f":"IF(AF9=0,0,(AF9*((LOG(AF9))/LOG(2))))","v":-0.30639669183104457},null,{"$f":"N9","v":121},{"$f":"COUNTIF(L97:L126,AI9)","v":8},{"$f":"AJ9/(AL4-AJ14)","v":0.2857142857142857},{"$f":"IF(AK9=0,0,(AK9*((LOG(AK9))/LOG(2))))","v":-0.51638712058788683},null,{"$f":"N9","v":121},{"$f":"COUNTIF(L127:L156,AN9)","v":2},{"$f":"AO9/(AQ4-AO14)","v":8.6956521739130432E-2},{"$f":"IF(AP9=0,0,(AP9*((LOG(AP9))/LOG(2))))","v":-0.30639669183104457},null,{"$f":"N9","v":121},{"$f":"COUNTIF(L157:L186,AS9)","v":3},{"$f":"AT9/(AV4-AT14)","v":0.125},{"$f":"IF(AU9=0,0,(AU9*((LOG(AU9))/LOG(2))))","v":-0.375}]
[21,335,12,339,23,344,null,null,null,null,0,212,null,122,{"$f":"COUNTIF($L$7:$L$500,N10)","v":45},{"$f":"O10/$Q$4","v":0.25},{"$f":"IF(P10=0,0,(P10*((LOG(P10))/LOG(2))))","v":-0.5},null,null,{"$f":"N10","v":122},{"$f":"COUNTIF(L7:L36,T10)","v":9},{"$f":"U10/(W4-U14)","v":0.34615384615384615},{"$f":"IF(V10=0,0,(V10*((LOG(V10))/LOG(2))))","v":-0.52979355578034681},null,{"$f":"N10","v":122},{"$f":"COUNTIF(L37:L66,Y10)","v":8},{"$f":"Z10/(AB4-Z14)","v":0.2857142857142857},{"$f":"IF(AA10=0,0,(AA10*((LOG(AA10))/LOG(2))))","v":-0.51638712058788683},null,{"$f":"N10","v":122},{"$f":"COUNTIF(L67:L96,AD10)","v":7},{"$f":"AE10/(AG4-AE14)","v":0.30434782608695654},{"$f":"IF(AF10=0,0,(AF10*((LOG(AF10))/LOG(2))))","v":-0.52232387991286355},null,{"$f":"N10","v":122},{"$f":"COUNTIF(L97:L126,AI10)","v":7},{"$f":"AJ10/(AL4-AJ14)","v":0.25},{"$f":"IF(AK10=0,0,(AK10*((LOG(AK10))/LOG(2))))","v":-0.5},null,{"$f":"N10","v":122},{"$f":"COUNTIF(L127:L156,AN10)","v":9},{"$f":"AO10/(AQ4-AO14)","v":0.39130434782608697},{"$f":"IF(AP10=0,0,(AP10*((LOG(AP10))/LOG(2))))","v":-0.5296840257187958},null,{"$f":"N10","v":122},{"$f":"COUNTIF(L157:L186,AS10)","v":5},{"$f":"AT10/(AV4-AT14)","v":0.20833333333333334},{"$f":"IF(AU10=0,0,(AU10*((LOG(AU10))/LOG(2))))","v":-0.47146550121537367}]
[12,438,23,445,23,452,null,null,null,null,0,122,null,211,{"$f":"COUNTIF($L$7:$L$500,N11)","v":1},{"$f":"O11/$Q$4","v":5.5555555555555558E-3},{"$f":"IF(P11=0,0,(P11*((LOG(P11))/LOG(2))))","v":-4.1621406090720417E-2},null,null,{"$f":"N11","v":211},{"$f":"COUNTIF(L7:L36,T11)","v":0},{"$f":"U11/(W4-U14)","v":0},{"$f":"IF(V11=0,0,(V11*((LOG(V11))/LOG(2))))","v":0},null,{"$f":"N11","v":211},{"$f":"COUNTIF(L37:L66,Y11)","v":0},{"$f":"Z11/(AB4-Z14)","v":0},{"$f":"IF(AA11=0,0,(AA11*((LOG(AA11))/LOG(2))))","v":0},null,{"$f":"N11","v":211},{"$f":"COUNTIF(L67:L96,AD11)","v":1},{"$f":"AE11/(AG4-AE14)","v":4.3478260869565216E-2},{"$f":"IF(AF11=0,0,(AF11*((LOG(AF11))/LOG(2))))","v":-0.19667660678508753},null,{"$f":"N11","v":211},{"$f":"COUNTIF(L97:L126,AI11)","v":0},{"$f":"AJ11/(AL4-AJ14)","v":0},{"$f":"IF(AK11=0,0,(AK11*((LOG(AK11))/LOG(2))))","v":0},null,{"$f":"N11","v":211},{"$f":"COUNTIF(L127:L156,AN11)","v":0},{"$f":"AO11/(AQ4-AO14)","v":0},{"$f":"IF(AP11=0,0,(AP11*((LOG(AP11))/LOG(2))))","v":0},null,{"$f":"N11","v":211},{"$f":"COUNTIF(L157:L186,AS11)","v":0},{"$f":"AT11/(AV4-AT14)","v":0},{"$f":"IF(AU11=0,0,(AU11*((LOG(AU11))/LOG(2))))","v":0}]
[12,545,23,549,14,554,null,null,null,null,0,121,null,212,{"$f":"COUNTIF($L$7:$L$500,N12)","v":60},{"$f":"O12/$Q$4","v":0.33333333333333331},{"$f":"IF(P12=0,0,(P12*((LOG(P12))/LOG(2))))","v":-0.52832083357371862},null,null,{"$f":"N12","v":212},{"$f":"COUNTIF(L7:L36,T12)","v":10},{"$f":"U12/(W4-U14)","v":0.38461538461538464},{"$f":"IF(V12=0,0,(V12*((LOG(V12))/LOG(2))))","v":-0.53019677817451139},null,{"$f":"N12","v":212},{"$f":"COUNTIF(L37:L66,Y12)","v":10},{"$f":"Z12/(AB4-Z14)","v":0.35714285714285715},{"$f":"IF(AA12=0,0,(AA12*((LOG(AA12))/LOG(2))))","v":-0.53050958113222924},null,{"$f":"N12","v":212},{"$f":"COUNTIF(L67:L96,AD12)","v":10},{"$f":"AE12/(AG4-AE14)","v":0.43478260869565216},{"$f":"IF(AF12=0,0,(AF12*((LOG(AF12))/LOG(2))))","v":-0.52244950485636987},null,{"$f":"N12","v":212},{"$f":"COUNTIF(L97:L126,AI12)","v":9},{"$f":"AJ12/(AL4-AJ14)","v":0.32142857142857145},{"$f":"IF(AK12=0,0,(AK12*((LOG(AK12))/LOG(2))))","v":-0.5263167601977724},null,{"$f":"N12","v":212},{"$f":"COUNTIF(L127:L156,AN12)","v":9},{"$f":"AO12/(AQ4-AO14)","v":0.39130434782608697},{"$f":"IF(AP12=0,0,(AP12*((LOG(AP12))/LOG(2))))","v":-0.5296840257187958},null,{"$f":"N12","v":212},{"$f":"COUNTIF(L157:L186,AS12)","v":12},{"$f":"AT12/(AV4-AT14)","v":0.5},{"$f":"IF(AU12=0,0,(AU12*((LOG(AU12))/LOG(2))))","v":-0.5}]
[21,651,12,653,23,657,null,null,null,null,0,212,null,221,{"$f":"COUNTIF($L$7:$L$500,N13)","v":22},{"$f":"O13/$Q$4","v":0.12222222222222222},{"$f":"IF(P13=0,0,(P13*((LOG(P13))/LOG(2))))","v":-0.37062929171795722},null,null,{"$f":"N13","v":221},{"$f":"COUNTIF(L7:L36,T13)","v":2},{"$f":"U13/(W4-U14)","v":7.6923076923076927E-2},{"$f":"IF(V13=0,0,(V13*((LOG(V13))/LOG(2))))","v":-0.28464920908777636},null,{"$f":"N13","v":221},{"$f":"COUNTIF(L37:L66,Y13)","v":7},{"$f":"Z13/(AB4-Z14)","v":0.25},{"$f":"IF(AA13=0,0,(AA13*((LOG(AA13))/LOG(2))))","v":-0.5},null,{"$f":"N13","v":221},{"$f":"COUNTIF(L67:L96,AD13)","v":2},{"$f":"AE13/(AG4-AE14)","v":8.6956521739130432E-2},{"$f":"IF(AF13=0,0,(AF13*((LOG(AF13))/LOG(2))))","v":-0.30639669183104457},null,{"$f":"N13","v":221},{"$f":"COUNTIF(L97:L126,AI13)","v":4},{"$f":"AJ13/(AL4-AJ14)","v":0.14285714285714285},{"$f":"IF(AK13=0,0,(AK13*((LOG(AK13))/LOG(2))))","v":-0.40105070315108626},null,{"$f":"N13","v":221},{"$f":"COUNTIF(L127:L156,AN13)","v":3},{"$f":"AO13/(AQ4-AO14)","v":0.13043478260869565},{"$f":"IF(AP13=0,0,(AP13*((LOG(AP13))/LOG(2))))","v":-0.3832955811307639},null,{"$f":"N13","v":221},{"$f":"COUNTIF(L157:L186,AS13)","v":4},{"$f":"AT13/(AV4-AT14)","v":0.16666666666666666},{"$f":"IF(AU13=0,0,(AU13*((LOG(AU13))/LOG(2))))","v":-0.43082708345352599}]
[21,754,12,756,23,758,null,null,null,null,0,212,null,222,{"$f":"COUNTIF($L$7:$L$500,N14)","v":28},{"$f":"O14/$Q$4","v":0.15555555555555556},{"$f":"IF(P14=0,0,(P14*((LOG(P14))/LOG(2))))","v":-0.41758860488676652},null,null,{"$f":"N14","v":222},{"$f":"COUNTIF(L7:L36,T14)","v":4},null,null,null,{"$f":"N14","v":222},{"$f":"COUNTIF(L37:L66,Y14)","v":2},null,null,null,{"$f":"N14","v":222},{"$f":"COUNTIF(L67:L96,AD14)","v":7},null,null,null,{"$f":"N14","v":222},{"$f":"COUNTIF(L97:L126,AI14)","v":2},null,null,null,{"$f":"N14","v":222},{"$f":"COUNTIF(L127:L156,AN14)","v":7},null,null,null,{"$f":"N14","v":222},{"$f":"COUNTIF(L157:L186,AS14)","v":6}]
[12,850,23,854,23,857,null,null,null,null,0,122,null,null,null,{"$f":"SUM(P7:P14)","v":0.99999999999999989},{"$f":"-SUM(Q7:Q14)","v":2.3009211290574498},null,null,null,null,{"$f":"SUM(V7:V14)","v":1},{"$f":"-SUM(W7:W14)","v":1.8020456244375826},null,null,null,{"$f":"SUM(AA7:AA14)","v":1},{"$f":"-SUM(AB7:AB14)","v":1.9905418719405734},null,null,null,{"$f":"SUM(AF7:AF14)","v":1},{"$f":"-SUM(AG7:AG14)","v":2.0509199820014974},null,null,null,{"$f":"SUM(AK7:AK14)","v":1},{"$f":"-SUM(AL7:AL14)","v":1.9437545839367454},null,null,null,{"$f":"SUM(AP7:AP14)","v":1},{"$f":"-SUM(AQ7:AQ14)","v":1.7490603243994001},null,null,null,{"$f":"SUM(AU7:AU14)","v":1},{"$f":"-SUM(AV7:AV14)","v":1.7772925846688996}]
[21,953,12,956,23,962,null,null,null,null,0,212,null,null,null,"U=",{"$f":"Q15/(LOG(Q4)/LOG(2))","v":0.30712309751304273},null,null,null,null,"U1=",{"$f":"W15/(LOG(W4)/LOG(2))","v":0.3672479728914978},null,null,null,"U2=",{"$f":"AB15/(LOG(AB4)/LOG(2))","v":0.40566257452775351},null,null,null,"U3=",{"$f":"AG15/(LOG(AG4)/LOG(2))","v":0.41796733431085525},null,null,null,"U4=",{"$f":"AL15/(LOG(AL4)/LOG(2))","v":0.39612755696577628},null,null,null,"U5=",{"$f":"AQ15/(LOG(AQ4)/LOG(2))","v":0.35644983117511175},null,null,null,"U6=",{"$f":"AV15/(LOG(AV4)/LOG(2))","v":0.36220342598620586}]
[12,1057,23,1058,14,1065,null,null,null,null,0,121]
[21,1161,21,1165,21,1172,null,null,null,null,0,222]
[21,1355,21,1362,21,1369,null,null,null,null,0,222,null,"Total Target Seq"]
[12,1668,23,1671,23,1678,null,null,null,null,0,122,null,{"$f":"COUNTIF(L7:L186,G3)","v":28},null,30,30,30,30,30,30]
[12,1770,23,1784,23,1788,null,null,null,null,0,122,null,null,null,"% of reinforcement given in 6 equal intervals based on number of trials "]
[12,1916,23,1923,23,1928,null,null,null,null,0,122,null,null,null,"%_1","%_2","%_3","%_4","%_5","%_6"]
[21,2023,12,2027,23,2030,null,null,null,null,0,212,null,null,"target sequence",{"$f":"$G$3","v":222},{"$f":"$G$3","v":222},{"$f":"$G$3","v":222},{"$f":"$G$3","v":222},{"$f":"$G$3","v":222},{"$f":"$G$3","v":222}]
[12,2122,23,2129,14,2133,null,null,null,null,0,121,null,null,"total reinforcement",{"$f":"U14","v":4},{"$f":"Z14","v":2},{"$f":"AE14","v":7},{"$f":"AJ14","v":2},{"$f":"AO14","v":7},{"$f":"AT14","v":6}]
[21,2230,21,2234,12,2240,null,null,null,null,0,221,null,null,"% target"]
[12,2341,23,2351,23,2359,null,null,null,null,0,122,null,null,"CCRF"]
[21,2455,12,2460,23,2463,null,null,null,null,0,212,null,null,"% CCRf"]
[21,2572,21,2576,21,2582,null,null,null,null,0,222,null,null,"average response rate",{"$f":"F36/P20","v":121.8},{"$f":"(F66-F36)/Q20","v":111.83333333333333},{"$f":"(F96-F66)/R20","v":138.43333333333334},{"$f":"(F126-F96)/S20","v":108.03333333333333},{"$f":"(F156-F126)/T20","v":168.63333333333333},{"$f":"(F186-F156)/U20","v":148.46666666666667}]
[12,2856,23,2869,14,2876,null,null,null,null,0,121]
[21,2975,12,2979,23,2985,null,null,null,null,0,212]
[21,3081,12,3097,23,3100,null,null,null,null,0,212]
[21,3196,21,3201,12,3207,null,null,null,null,0,221]
[21,3298,12,3302,23,3305,null,null,null,null,0,212]
[12,3397,23,3403,23,3410,null,null,null,null,0,122]
[21,3507,21,3510,21,3521,null,null,null,null,0,222]
[12,3635,23,3643,23,3654,null,null,null,null,0,122]
[12,3748,23,3753,14,3757,null,null,null,null,0,121]
[12,3850,23,3854,23,3858,null,null,null,null,0,122]
[21,3954,21,3957,12,3960,null,null,null,null,0,221]
[21,4057,21,4081,21,4089,null,null,null,null,0,222]
[21,4237,12,4243,23,4248,null,null,null,null,0,212]
[21,4345,21,4354,12,4360,null,null,null,null,0,221]
[21,4459,12,4460,23,4474,null,null,null,null,0,212]
[21,4570,21,4576,12,4580,null,null,null,null,0,221]
[21,4675,21,4679,12,4683,null,null,null,null,0,221]
[21,4778,12,4783,23,4797,null,null,null,null,0,212]
[21,4893,21,4899,12,4912,null,null,null,null,0,221]
[12,5008,23,5015,23,5027,null,null,null,null,0,122]
[21,5123,12,5125,23,5136,null,null,null,null,0,212]
[21,5233,12,5237,23,5246,null,null,null,null,0,212]
[12,5338,23,5343,23,5348,null,null,null,null,0,122]
[21,5448,21,5451,21,5453,null,null,null,null,0,222]
[12,5604,23,5611,23,5628,null,null,null,null,0,122]
[21,5724,12,5728,23,5734,null,null,null,null,0,212]
[12,5826,23,5831,23,5835,null,null,null,null,0,122]
[21,5931,21,5935,12,5938,null,null,null,null,0,221]
[12,6032,14,6036,23,6042,null,null,null,null,0,112]
[21,6139,12,6143,23,6145,null,null,null,null,0,212]
[21,6242,12,6244,23,6246,null,null,null,null,0,212]
[12,6340,23,6344,23,6349,null,null,null,null,0,122]
[12,6450,23,6458,23,6463,null,null,null,null,0,122]
[12,6556,23,6560,14,6564,null,null,null,null,0,121]
[12,6663,23,6671,23,6673,null,null,null,null,0,122]
[21,6769,12,6774,23,6783,null,null,null,null,0,212]
[21,6880,12,6883,23,6904,null,null,null,null,0,212]
[21,6999,21,7003,12,7009,null,null,null,null,0,221]
[21,7104,21,7107,12,7110,null,null,null,null,0,221]
[21,7206,12,7211,23,7231,null,null,null,null,0,212]
[21,7327,21,7331,21,7336,null,null,null,null,0,222]
[21,7578,21,7583,21,7600,null,null,null,null,0,222]
[21,7891,12,7898,23,7905,null,null,null,null,0,212]
[21,8022,12,8026,23,8040,null,null,null,null,0,212]
[12,8132,14,8140,23,8149,null,null,null,null,0,112]
[21,8245,12,8250,23,8260,null,null,null,null,0,212]
[12,8353,23,8356,23,8361,null,null,null,null,0,122]
[21,8459,21,8466,21,8474,null,null,null,null,0,222]
[12,8639,23,8647,23,8653,null,null,null,null,0,122]
[12,8745,23,8751,23,8757,null,null,null,null,0,122]
[21,8853,21,8856,12,8859,null,null,null,null,0,221]
[21,8956,12,8960,23,8961,null,null,null,null,0,212]
[21,9058,21,9065,21,9077,null,null,null,null,0,222]
[12,9236,23,9248,23,9258,null,null,null,null,0,122]
[21,9354,12,9361,23,9368,null,null,null,null,0,212]
[21,9464,12,9468,23,9476,null,null,null,null,0,212]
[21,9573,21,9577,21,9583,null,null,null,null,0,222]
[12,9714,23,9723,23,9732,null,null,null,null,0,122]
[21,9938,21,9941,21,9948,null,null,null,null,0,222]
[21,10168,12,10176,23,10182,null,null,null,null,0,212]
[12,10276,23,10279,23,10282,null,null,null,null,0,122]
[12,10374,23,10379,14,10382,null,null,null,null,0,121]
[12,10474,23,10477,23,10481,null,null,null,null,0,122]
[21,10578,12,10584,23,10593,null,null,null,null,0,212]
[21,10690,12,10696,23,10702,null,null,null,null,0,212]
[12,10796,23,10799,14,10805,null,null,null,null,0,121]
[21,10901,21,10905,21,10922,null,null,null,null,0,222]
[21,11152,12,11160,14,11162,null,null,null,null,0,211]
[21,11265,12,11271,23,11273,null,null,null,null,0,212]
[21,11371,21,11376,12,11380,null,null,null,null,0,221]
[21,11476,12,11479,23,11482,null,null,null,null,0,212]
[12,11575,23,11578,23,11581,null,null,null,null,0,122]
[21,11678,12,11684,23,11693,null,null,null,null,0,212]
[12,11787,23,11791,14,11795,null,null,null,null,0,121]
[12,11888,23,11892,14,11896,null,null,null,null,0,121]
[12,11988,23,11992,23,11998,null,null,null,null,0,122]
[12,12090,23,12093,14,12096,null,null,null,null,0,121]
[12,12189,23,12192,14,12195,null,null,null,null,0,121]
[21,12291,12,12294,23,12313,null,null,null,null,0,212]
[21,12412,12,12416,23,12422,null,null,null,null,0,212]
[12,12514,23,12519,23,12521,null,null,null,null,0,122]
[21,12617,21,12623,12,12627,null,null,null,null,0,221]
[21,12723,21,12727,12,12730,null,null,null,null,0,221]
[21,12831,12,12836,23,12838,null,null,null,null,0,212]
[12,12931,23,12934,23,12937,null,null,null,null,0,122]
[12,13030,23,13032,14,13035,null,null,null,null,0,121]
[12,13129,23,13132,14,13136,null,null,null,null,0,121]
[21,13230,12,13235,23,13249,null,null,null,null,0,212]
[12,13343,23,13345,14,13348,null,null,null,null,0,121]
[21,13444,12,13447,23,13453,null,null,null,null,0,212]
[12,13547,23,13549,23,13552,null,null,null,null,0,122]
[12,13646,23,13650,14,13657,null,null,null,null,0,121]
[12,13751,23,13753,23,13757,null,null,null,null,0,122]
[21,13853,21,13857,12,13860,null,null,null,null,0,221]
[21,13977,21,13981,21,13986,null,null,null,null,0,222]
[12,14156,23,14175,23,14182,null,null,null,null,0,122]
[21,14281,12,14288,23,14293,null,null,null,null,0,212]
[21,14390,21,14397,21,14403,null,null,null,null,0,222]
[12,14633,23,14638,23,14655,null,null,null,null,0,122]
[21,14798,12,14803,23,14810,null,null,null,null,0,212]
[21,14907,12,14911,23,14917,null,null,null,null,0,212]
[21,15015,21,15019,12,15023,null,null,null,null,0,221]
[21,15119,21,15123,21,15132,null,null,null,null,0,222]
[12,15344,23,15356,23,15365,null,null,null,null,0,122]
[21,15461,21,15465,21,15472,null,null,null,null,0,222]
[21,15895,12,15901,23,15907,null,null,null,null,0,212]
[12,15999,23,16003,23,16008,null,null,null,null,0,122]
[21,16105,21,16111,12,16117,null,null,null,null,0,221]
[21,16214,21,16219,21,16227,null,null,null,null,0,222]
[21,16593,12,16605,23,16615,null,null,null,null,0,212]
[21,16710,21,16715,21,16723,null,null,null,null,0,222]
[21,17121,21,17125,12,17128,null,null,null,null,0,221]
[12,17220,23,17224,14,17231,null,null,null,null,0,121]
[21,17327,12,17335,23,17344,null,null,null,null,0,212]
[21,17441,21,17444,21,17451,null,null,null,null,0,222]
[12,17667,23,17677,23,17683,null,null,null,null,0,122]
[21,17779,12,17783,23,17790,null,null,null,null,0,212]
[12,17885,23,17894,23,17901,null,null,null,null,0,122]
[21,17996,21,18001,21,18008,null,null,null,null,0,222]
[21,18318,12,18320,23,18324,null,null,null,null,0,212]
[12,18419,23,18421,23,18427,null,null,null,null,0,122]
[21,18520,21,18525,21,18532,null,null,null,null,0,222]
[21,18927,12,18936,23,18941,null,null,null,null,0,212]
[12,19034,23,19036,14,19043,null,null,null,null,0,121]
[12,19137,23,19140,23,19146,null,null,null,null,0,122]
[12,19240,23,19244,23,19248,null,null,null,null,0,122]
[12,19340,23,19344,23,19354,null,null,null,null,0,122]
[21,19449,12,19453,23,19462,null,null,null,null,0,212]
[12,19555,23,19557,14,19561,null,null,null,null,0,121]
[21,19656,21,19662,12,19664,null,null,null,null,0,221]
[21,19761,12,19765,23,19771,null,null,null,null,0,212]
[12,19865,23,19867,23,19870,null,null,null,null,0,122]
[21,19966,12,19969,23,19978,null,null,null,null,0,212]
[12,20072,23,20075,14,20078,null,null,null,null,0,121]
[21,20173,12,20177,23,20179,null,null,null,null,0,212]
[21,20276,21,20279,21,20286,null,null,null,null,0,222]
[21,20825,21,20831,21,20837,null,null,null,null,0,222]
[21,21181,12,21184,23,21195,null,null,null,null,0,212]
[21,21293,12,21301,23,21317,null,null,null,null,0,212]
[21,21414,12,21419,23,21429,null,null,null,null,0,212]
[12,21521,23,21525,23,21530,null,null,null,null,0,122]
[21,21626,12,21635,23,21637,null,null,null,null,0,212]
[12,21729,23,21732,23,21736,null,null,null,null,0,122]
[21,21831,21,21835,21,21841,null,null,null,null,0,222]
[21,22303,21,22325,21,22335,null,null,null,null,0,222]
[21,22517,12,22519,23,22543,null,null,null,null,0,212]
[21,22639,21,22643,12,22647,null,null,null,null,0,221]
[21,22750,21,22753,12,22755,null,null,null,null,0,221]
[21,22849,21,22855,21,22862,null,null,null,null,0,222]
[21,23027,12,23031,23,23035,null,null,null,null,0,212]
[21,23159,12,23162,23,23164,null,null,null,null,0,212]
[12,23256,23,23260,23,23269,null,null,null,null,0,122]
[21,23365,12,23371,23,23373,null,null,null,null,0,212]
[21,23467,21,23470,12,23473,null,null,null,null,0,221]
[12,23567,23,23569,14,23574,null,null,null,null,0,121]
[21,23696,12,23703,23,23710,null,null,null,null,0,212]
[12,23802,23,23805,23,23809,null,null,null,null,0,122]
[21,23906,21,23910,21,23916,null,null,null,null,0,222]

{"sheet":"!M825A20.Gus","index":5,"n_rows":174,"n_cols":48,"rows_kept":174,"cut":false,"hidden":false,"merged":[[4,39,4,42],[5,39,5,40],[4,44,4,47],[5,44,5,45],[4,24,4,27],[5,24,5,25],[4,29,4,32],[5,29,5,30],[4,34,4,37],[5,34,5,35],[1,1,1,2],[5,13,5,14],[18,13,18,14],[19,13,19,14],[4,19,4,22],[5,19,5,20]]}
["Report for:!M825A20.Gus"]
["Date:","<date>"]
["Hen:","<hen>",null,null,null,"Correct Sequence",{"$f":"Start!J2","v":222},null,null,null,null,null,null,null,null,"Total Sequences in Data",{"$f":"4994-COUNTBLANK(L7:L5000)","v":168},null,null,null,null,"Total Sequences in Block Data",{"$f":"COUNTA(L7:L34)","v":28},null,null,null,"Total Sequences in Block Data",{"$f":"COUNTA(L35:L62)","v":28},null,null,null,"Total Sequences in Block Data",{"$f":"COUNTA(L63:L90)","v":28},null,null,null,"Total Sequences in Block Data",{"$f":"COUNTA(L91:L118)","v":28},null,null,null,"Total Sequences in Block Data",{"$f":"COUNTA(L119:L146)","v":28},null,null,null,"Total Sequences in Block Data",{"$f":"COUNTA(L147:L174)","v":28}]
[null,null,null,null,null,null,null,null,null,null,null,null,null,null,null,"Total Sequences in Summary",{"$f":"SUM(O7:O14)","v":168},null,null,null,null,"Total Sequences in Block Summary",{"$f":"SUM(U7:U14)","v":28},null,null,null,"Total Sequences in Block Summary",{"$f":"SUM(Z7:Z14)","v":28},null,null,null,"Total Sequences in Block Summary",{"$f":"SUM(AE7:AE14)","v":28},null,null,null,"Total Sequences in Block Summary",{"$f":"SUM(AJ7:AJ14)","v":28},null,null,null,"Total Sequences in Block Summary",{"$f":"SUM(AO7:AO14)","v":28},null,null,null,"Total Sequences in Block Summary",{"$f":"SUM(AT7:AT14)","v":28}]
[null,null,null,null,null,null,null,null,null,null,null,null,null,null,null,null,null,null,null,"Block 1",null,null,null,null,"Block 2",null,null,null,null,"Block 3",null,null,null,null,"Block 4",null,null,null,null,"Block 5",null,null,null,null,"Block 6"]
["Sequence\nComponent\n1","Time\n1","Sequence\nComponent\n2","Time\n2","Sequence\nComponent\n3","Time\n3","Sequence\nComponent\n4","Time\n4","Sequence\nComponent\n5","Time\n5","Correct?\n0=No 1=Yes","Sequence",null,"Frequency",null,"Relative Frequency","Variability",null,null,"Frequency",null,"Relative Frequency","Variability",null,"Frequency",null,"Relative Frequency","Variability",null,"Frequency",null,"Relative Frequency","Variability",null,"Frequency",null,"Relative Frequency","Variability",null,"Frequency",null,"Relative Frequency","Variability",null,"Frequency",null,"Relative Frequency","Variability"]
[21,232,21,242,21,254,null,null,null,null,0,222,null,111,{"$f":"COUNTIF($L$7:$L$500,N7)","v":0},{"$f":"O7/$Q$4","v":0},{"$f":"IF(P7=0,0,(P7*((LOG(P7))/LOG(2))))","v":0},null,null,{"$f":"N7","v":111},{"$f":"COUNTIF(L7:L34,T7)","v":0},{"$f":"U7/(W4-U14)","v":0},{"$f":"IF(V7=0,0,(V7*((LOG(V7))/LOG(2))))","v":0},null,{"$f":"N7","v":111},{"$f":"COUNTIF(L35:L62,Y7)","v":0},{"$f":"Z7/(AB4-Z14)","v":0},{"$f":"IF(AA7=0,0,(AA7*((LOG(AA7))/LOG(2))))","v":0},null,{"$f":"N7","v":111},{"$f":"COUNTIF(L63:L90,AD7)","v":0},{"$f":"AE7/(AG4-AE14)","v":0},{"$f":"IF(AF7=0,0,(AF7*((LOG(AF7))/LOG(2))))","v":0},null,{"$f":"N7","v":111},{"$f":"COUNTIF(L91:L118,AI7)","v":0},{"$f":"AJ7/(AL4-AJ14)","v":0},{"$f":"IF(AK7=0,0,(AK7*((LOG(AK7))/LOG(2))))","v":0},null,{"$f":"N7","v":111},{"$f":"COUNTIF(L119:L146,AN7)","v":0},{"$f":"AO7/(AQ4-AO14)","v":0},{"$f":"IF(AP7=0,0,(AP7*((LOG(AP7))/LOG(2))))","v":0},null,{"$f":"N7","v":111},{"$f":"COUNTIF(L147:L174,AS7)","v":0},{"$f":"AT7/(AV4-AT14)","v":0},{"$f":"IF(AU7=0,0,(AU7*((LOG(AU7))/LOG(2))))","v":0}]
[21,675,21,701,21,711,null,null,null,null,0,222,null,112,{"$f":"COUNTIF($L$7:$L$500,N8)","v":4},{"$f":"O8/$Q$4","v":2.3809523809523808E-2},{"$f":"IF(P8=0,0,(P8*((LOG(P8))/LOG(2))))","v":-0.12838851006616095},null,null,{"$f":"N8","v":112},{"$f":"COUNTIF(L7:L34,T8)","v":1},{"$f":"U8/(W4-U14)","v":5.2631578947368418E-2},{"$f":"IF(V8=0,0,(V8*((LOG(V8))/LOG(2))))","v":-0.22357513228650452},null,{"$f":"N8","v":112},{"$f":"COUNTIF(L35:L62,Y8)","v":0},{"$f":"Z8/(AB4-Z14)","v":0},{"$f":"IF(AA8=0,0,(AA8*((LOG(AA8))/LOG(2))))","v":0},null,{"$f":"N8","v":112},{"$f":"COUNTIF(L63:L90,AD8)","v":0},{"$f":"AE8/(AG4-AE14)","v":0},{"$f":"IF(AF8=0,0,(AF8*((LOG(AF8))/LOG(2))))","v":0},null,{"$f":"N8","v":112},{"$f":"COUNTIF(L91:L118,AI8)","v":1},{"$f":"AJ8/(AL4-AJ14)","v":3.8461538461538464E-2},{"$f":"IF(AK8=0,0,(AK8*((LOG(AK8))/LOG(2))))","v":-0.18078614300542661},null,{"$f":"N8","v":112},{"$f":"COUNTIF(L119:L146,AN8)","v":1},{"$f":"AO8/(AQ4-AO14)","v":4.5454545454545456E-2},{"$f":"IF(AP8=0,0,(AP8*((LOG(AP8))/LOG(2))))","v":-0.20270143721078623},null,{"$f":"N8","v":112},{"$f":"COUNTIF(L147:L174,AS8)","v":1},{"$f":"AT8/(AV4-AT14)","v":4.7619047619047616E-2},{"$f":"IF(AU8=0,0,(AU8*((LOG(AU8))/LOG(2))))","v":-0.20915797251327431}]
[12,1095,23,1132,23,1140,null,null,null,null,0,122,null,121,{"$f":"COUNTIF($L$7:$L$500,N9)","v":9},{"$f":"O9/$Q$4","v":5.3571428571428568E-2},{"$f":"IF(P9=0,0,(P9*((LOG(P9))/LOG(2))))","v":-0.22619959400016687},null,null,{"$f":"N9","v":121},{"$f":"COUNTIF(L7:L34,T9)","v":1},{"$f":"U9/(W4-U14)","v":5.2631578947368418E-2},{"$f":"IF(V9=0,0,(V9*((LOG(V9))/LOG(2))))","v":-0.22357513228650452},null,{"$f":"N9","v":121},{"$f":"COUNTIF(L35:L62,Y9)","v":3},{"$f":"Z9/(AB4-Z14)","v":0.125},{"$f":"IF(AA9=0,0,(AA9*((LOG(AA9))/LOG(2))))","v":-0.375},null,{"$f":"N9","v":121},{"$f":"COUNTIF(L63:L90,AD9)","v":3},{"$f":"AE9/(AG4-AE14)","v":0.13043478260869565},{"$f":"IF(AF9=0,0,(AF9*((LOG(AF9))/LOG(2))))","v":-0.3832955811307639},null,{"$f":"N9","v":121},{"$f":"COUNTIF(L91:L118,AI9)","v":0},{"$f":"AJ9/(AL4-AJ14)","v":0},{"$f":"IF(AK9=0,0,(AK9*((LOG(AK9))/LOG(2))))","v":0},null,{"$f":"N9","v":121},{"$f":"COUNTIF(L119:L146,AN9)","v":2},{"$f":"AO9/(AQ4-AO14)","v":9.0909090909090912E-2},{"$f":"IF(AP9=0,0,(AP9*((LOG(AP9))/LOG(2))))","v":-0.31449378351248153},null,{"$f":"N9","v":121},{"$f":"COUNTIF(L147:L174,AS9)","v":0},{"$f":"AT9/(AV4-AT14)","v":0},{"$f":"IF(AU9=0,0,(AU9*((LOG(AU9))/LOG(2))))","v":0}]
[21,1235,12,1244,14,1247,null,null,null,null,0,211,null,122,{"$f":"COUNTIF($L$7:$L$500,N10)","v":31},{"$f":"O10/$Q$4","v":0.18452380952380953},{"$f":"IF(P10=0,0,(P10*((LOG(P10))/LOG(2))))","v":-0.44989139573897885},null,null,{"$f":"N10","v":122},{"$f":"COUNTIF(L7:L34,T10)","v":7},{"$f":"U10/(W4-U14)","v":0.36842105263157893},{"$f":"IF(V10=0,0,(V10*((LOG(V10))/LOG(2))))","v":-0.53073727051062469},null,{"$f":"N10","v":122},{"$f":"COUNTIF(L35:L62,Y10)","v":7},{"$f":"Z10/(AB4-Z14)","v":0.29166666666666669},{"$f":"IF(AA10=0,0,(AA10*((LOG(AA10))/LOG(2))))","v":-0.51846887711020273},null,{"$f":"N10","v":122},{"$f":"COUNTIF(L63:L90,AD10)","v":2},{"$f":"AE10/(AG4-AE14)","v":8.6956521739130432E-2},{"$f":"IF(AF10=0,0,(AF10*((LOG(AF10))/LOG(2))))","v":-0.30639669183104457},null,{"$f":"N10","v":122},{"$f":"COUNTIF(L91:L118,AI10)","v":8},{"$f":"AJ10/(AL4-AJ14)","v":0.30769230769230771},{"$f":"IF(AK10=0,0,(AK10*((LOG(AK10))/LOG(2))))","v":-0.52321222096648989},null,{"$f":"N10","v":122},{"$f":"COUNTIF(L119:L146,AN10)","v":4},{"$f":"AO10/(AQ4-AO14)","v":0.18181818181818182},{"$f":"IF(AP10=0,0,(AP10*((LOG(AP10))/LOG(2))))","v":-0.44716938520678134},null,{"$f":"N10","v":122},{"$f":"COUNTIF(L147:L174,AS10)","v":3},{"$f":"AT10/(AV4-AT14)","v":0.14285714285714285},{"$f":"IF(AU10=0,0,(AU10*((LOG(AU10))/LOG(2))))","v":-0.40105070315108626}]
[21,1340,21,1343,21,1352,null,null,null,null,0,222,null,211,{"$f":"COUNTIF($L$7:$L$500,N11)","v":4},{"$f":"O11/$Q$4","v":2.3809523809523808E-2},{"$f":"IF(P11=0,0,(P11*((LOG(P11))/LOG(2))))","v":-0.12838851006616095},null,null,{"$f":"N11","v":211},{"$f":"COUNTIF(L7:L34,T11)","v":1},{"$f":"U11/(W4-U14)","v":5.2631578947368418E-2},{"$f":"IF(V11=0,0,(V11*((LOG(V11))/LOG(2))))","v":-0.22357513228650452},null,{"$f":"N11","v":211},{"$f":"COUNTIF(L35:L62,Y11)","v":0},{"$f":"Z11/(AB4-Z14)","v":0},{"$f":"IF(AA11=0,0,(AA11*((LOG(AA11))/LOG(2))))","v":0},null,{"$f":"N11","v":211},{"$f":"COUNTIF(L63:L90,AD11)","v":0},{"$f":"AE11/(AG4-AE14)","v":0},{"$f":"IF(AF11=0,0,(AF11*((LOG(AF11))/LOG(2))))","v":0},null,{"$f":"N11","v":211},{"$f":"COUNTIF(L91:L118,AI11)","v":1},{"$f":"AJ11/(AL4-AJ14)","v":3.8461538461538464E-2},{"$f":"IF(AK11=0,0,(AK11*((LOG(AK11))/LOG(2))))","v":-0.18078614300542661},null,{"$f":"N11","v":211},{"$f":"COUNTIF(L119:L146,AN11)","v":2},{"$f":"AO11/(AQ4-AO14)","v":9.0909090909090912E-2},{"$f":"IF(AP11=0,0,(AP11*((LOG(AP11))/LOG(2))))","v":-0.31449378351248153},null,{"$f":"N11","v":211},{"$f":"COUNTIF(L147:L174,AS11)","v":0},{"$f":"AT11/(AV4-AT14)","v":0},{"$f":"IF(AU11=0,0,(AU11*((LOG(AU11))/LOG(2))))","v":0}]
[12,1611,23,1643,23,1653,null,null,null,null,0,122,null,212,{"$f":"COUNTIF($L$7:$L$500,N12)","v":60},{"$f":"O12/$Q$4","v":0.35714285714285715},{"$f":"IF(P12=0,0,(P12*((LOG(P12))/LOG(2))))","v":-0.53050958113222924},null,null,{"$f":"N12","v":212},{"$f":"COUNTIF(L7:L34,T12)","v":6},{"$f":"U12/(W4-U14)","v":0.31578947368421051},{"$f":"IF(V12=0,0,(V12*((LOG(V12))/LOG(2))))","v":-0.52514684612287243},null,{"$f":"N12","v":212},{"$f":"COUNTIF(L35:L62,Y12)","v":12},{"$f":"Z12/(AB4-Z14)","v":0.5},{"$f":"IF(AA12=0,0,(AA12*((LOG(AA12))/LOG(2))))","v":-0.5},null,{"$f":"N12","v":212},{"$f":"COUNTIF(L63:L90,AD12)","v":14},{"$f":"AE12/(AG4-AE14)","v":0.60869565217391308},{"$f":"IF(AF12=0,0,(AF12*((LOG(AF12))/LOG(2))))","v":-0.43595210765181397},null,{"$f":"N12","v":212},{"$f":"COUNTIF(L91:L118,AI12)","v":10},{"$f":"AJ12/(AL4-AJ14)","v":0.38461538461538464},{"$f":"IF(AK12=0,0,(AK12*((LOG(AK12))/LOG(2))))","v":-0.53019677817451139},null,{"$f":"N12","v":212},{"$f":"COUNTIF(L119:L146,AN12)","v":8},{"$f":"AO12/(AQ4-AO14)","v":0.36363636363636365},{"$f":"IF(AP12=0,0,(AP12*((LOG(AP12))/LOG(2))))","v":-0.53070240677719893},null,{"$f":"N12","v":212},{"$f":"COUNTIF(L147:L174,AS12)","v":10},{"$f":"AT12/(AV4-AT14)","v":0.47619047619047616},{"$f":"IF(AU12=0,0,(AU12*((LOG(AU12))/LOG(2))))","v":-0.50970920375780859}]
[21,1748,21,1754,21,1762,null,null,null,null,0,222,null,221,{"$f":"COUNTIF($L$7:$L$500,N13)","v":27},{"$f":"O13/$Q$4","v":0.16071428571428573},{"$f":"IF(P13=0,0,(P13*((LOG(P13))/LOG(2))))","v":-0.4238726658131719},null,null,{"$f":"N13","v":221},{"$f":"COUNTIF(L7:L34,T13)","v":3},{"$f":"U13/(W4-U14)","v":0.15789473684210525},{"$f":"IF(V13=0,0,(V13*((LOG(V13))/LOG(2))))","v":-0.42046815990354147},null,{"$f":"N13","v":221},{"$f":"COUNTIF(L35:L62,Y13)","v":2},{"$f":"Z13/(AB4-Z14)","v":8.3333333333333329E-2},{"$f":"IF(AA13=0,0,(AA13*((LOG(AA13))/LOG(2))))","v":-0.29874687506009634},null,{"$f":"N13","v":221},{"$f":"COUNTIF(L63:L90,AD13)","v":4},{"$f":"AE13/(AG4-AE14)","v":0.17391304347826086},{"$f":"IF(AF13=0,0,(AF13*((LOG(AF13))/LOG(2))))","v":-0.43888034018382832},null,{"$f":"N13","v":221},{"$f":"COUNTIF(L91:L118,AI13)","v":6},{"$f":"AJ13/(AL4-AJ14)","v":0.23076923076923078},{"$f":"IF(AK13=0,0,(AK13*((LOG(AK13))/LOG(2))))","v":-0.48818705017383146},null,{"$f":"N13","v":221},{"$f":"COUNTIF(L119:L146,AN13)","v":5},{"$f":"AO13/(AQ4-AO14)","v":0.22727272727272727},{"$f":"IF(AP13=0,0,(AP13*((LOG(AP13))/LOG(2))))","v":-0.48579625539771243},null,{"$f":"N13","v":221},{"$f":"COUNTIF(L147:L174,AS13)","v":7},{"$f":"AT13/(AV4-AT14)","v":0.33333333333333331},{"$f":"IF(AU13=0,0,(AU13*((LOG(AU13))/LOG(2))))","v":-0.52832083357371862}]
[12,2034,23,2047,14,2057,null,null,null,null,0,121,null,222,{"$f":"COUNTIF($L$7:$L$500,N14)","v":33},{"$f":"O14/$Q$4","v":0.19642857142857142},{"$f":"IF(P14=0,0,(P14*((LOG(P14))/LOG(2))))","v":-0.46119922031470312},null,null,{"$f":"N14","v":222},{"$f":"COUNTIF(L7:L34,T14)","v":9},null,null,null,{"$f":"N14","v":222},{"$f":"COUNTIF(L35:L62,Y14)","v":4},null,null,null,{"$f":"N14","v":222},{"$f":"COUNTIF(L63:L90,AD14)","v":5},null,null,null,{"$f":"N14","v":222},{"$f":"COUNTIF(L91:L118,AI14)","v":2},null,null,null,{"$f":"N14","v":222},{"$f":"COUNTIF(L119:L146,AN14)","v":6},null,null,null,{"$f":"N14","v":222},{"$f":"COUNTIF(L147:L174,AS14)","v":7}]
[12,2260,23,2294,23,2302,null,null,null,null,0,122,null,null,null,{"$f":"SUM(P7:P14)","v":0.99999999999999989},{"$f":"-SUM(Q7:Q14)","v":2.348449477131572},null,null,null,null,{"$f":"SUM(V7:V14)","v":1},{"$f":"-SUM(W7:W14)","v":2.1470776733965522},null,null,null,{"$f":"SUM(AA7:AA14)","v":1},{"$f":"-SUM(AB7:AB14)","v":1.692215752170299},null,null,null,{"$f":"SUM(AF7:AF14)","v":1},{"$f":"-SUM(AG7:AG14)","v":1.5645247207974509},null,null,null,{"$f":"SUM(AK7:AK14)","v":1},{"$f":"-SUM(AL7:AL14)","v":1.9031683353256861},null,null,null,{"$f":"SUM(AP7:AP14)","v":1},{"$f":"-SUM(AQ7:AQ14)","v":2.295357051617442},null,null,null,{"$f":"SUM(AU7:AU14)","v":1},{"$f":"-SUM(AV7:AV14)","v":1.6482387129958878}]
[21,2401,12,2403,23,2406,null,null,null,null,0,212,null,null,null,"U=",{"$f":"Q15/(LOG(Q4)/LOG(2))","v":0.31768785657053045},null,null,null,null,"U1=",{"$f":"W15/(LOG(W4)/LOG(2))","v":0.44662349841179982},null,null,null,"U2=",{"$f":"AB15/(LOG(AB4)/LOG(2))","v":0.35200557886955658},null,null,null,"U3=",{"$f":"AG15/(LOG(AG4)/LOG(2))","v":0.32544398035163508},null,null,null,"U4=",{"$f":"AL15/(LOG(AL4)/LOG(2))","v":0.39588679558344486},null,null,null,"U5=",{"$f":"AQ15/(LOG(AQ4)/LOG(2))","v":0.47746777361614118},null,null,null,"U6=",{"$f":"AV15/(LOG(AV4)/LOG(2))","v":0.34285771275868737}]
[21,2500,12,2504,23,2507,null,null,null,null,0,212]
[21,2602,21,2606,12,2611,null,null,null,null,0,221]
[21,2708,12,2713,23,2722,null,null,null,null,0,212,null,"Total Target Seq"]
[12,2814,14,2821,23,2830,null,null,null,null,0,112,null,{"$f":"COUNTIF(L7:L174,G3)","v":33},null,28,28,28,28,28,28]
[21,3145,21,3151,12,3155,null,null,null,null,0,221,null,null,null,"% of reinforcement given in 6 equal intervals based on number of trials "]
[12,3250,23,3257,23,3263,null,null,null,null,0,122,null,null,null,"%_1","%_2","%_3","%_4","%_5","%_6"]
[12,3356,23,3358,23,3361,null,null,null,null,0,122,null,null,"target sequence",{"$f":"$G$3","v":222},{"$f":"$G$3","v":222},{"$f":"$G$3","v":222},{"$f":"$G$3","v":222},{"$f":"$G$3","v":222},{"$f":"$G$3","v":222}]
[21,3456,12,3462,23,3472,null,null,null,null,0,212,null,null,"total reinforcement",{"$f":"U14","v":9},{"$f":"Z14","v":4},{"$f":"AE14","v":5},{"$f":"AJ14","v":2},{"$f":"AO14","v":6},{"$f":"AT14","v":7}]
[21,3570,21,3576,21,3585,null,null,null,null,0,222,null,null,"% target"]
[21,3843,21,3848,21,3859,null,null,null,null,0,222,null,null,"CCRF"]
[21,4271,12,4278,23,4284,null,null,null,null,0,212,null,null,"% CCRf"]
[21,4376,21,4381,21,4390,null,null,null,null,0,222,null,null,"average response rate",{"$f":"F34/P20","v":191.53571428571428},{"$f":"(F62-F34)/Q20","v":121.03571428571429},{"$f":"(F90-F62)/R20","v":140.71428571428572},{"$f":"(F118-F90)/S20","v":120.75},{"$f":"(F146-F118)/T20","v":159.25},{"$f":"(F174-F146)/U20","v":120.03571428571429}]
[21,4640,21,4645,12,4654,null,null,null,null,0,221]
[12,4754,23,4759,23,4765,null,null,null,null,0,122]
[21,4861,21,4863,21,4880,null,null,null,null,0,222]
[12,5131,23,5137,23,5143,null,null,null,null,0,122]
[21,5241,12,5244,23,5255,null,null,null,null,0,212]
[21,5349,21,5355,21,5363,null,null,null,null,0,222]
[21,5574,12,5581,23,5586,null,null,null,null,0,212]
[21,5686,12,5689,23,5699,null,null,null,null,0,212]
[21,5803,12,5806,23,5810,null,null,null,null,0,212]
[12,5903,23,5905,23,5908,null,null,null,null,0,122]
[21,6003,12,6007,23,6009,null,null,null,null,0,212]
[12,6102,23,6105,23,6109,null,null,null,null,0,122]
[12,6202,23,6206,23,6209,null,null,null,null,0,122]
[12,6302,23,6305,14,6310,null,null,null,null,0,121]
[21,6406,12,6409,23,6411,null,null,null,null,0,212]
[21,6502,12,6505,23,6514,null,null,null,null,0,212]
[12,6607,23,6610,14,6615,null,null,null,null,0,121]
[12,6707,23,6711,14,6716,null,null,null,null,0,121]
[21,6812,21,6814,12,6817,null,null,null,null,0,221]
[21,6913,12,6918,23,6920,null,null,null,null,0,212]
[21,7017,12,7022,23,7030,null,null,null,null,0,212]
[12,7122,23,7125,23,7131,null,null,null,null,0,122]
[21,7227,12,7231,23,7238,null,null,null,null,0,212]
[12,7331,23,7335,23,7339,null,null,null,null,0,122]
[21,7436,12,7438,23,7444,null,null,null,null,0,212]
[21,7540,21,7544,12,7547,null,null,null,null,0,221]
[21,7642,21,7645,21,7651,null,null,null,null,0,222]
[21,7933,12,7937,23,7939,null,null,null,null,0,212]
[12,8034,23,8039,23,8046,null,null,null,null,0,122]
[21,8142,21,8145,21,8150,null,null,null,null,0,222]
[12,8323,23,8329,23,8346,null,null,null,null,0,122]
[21,8444,21,8447,21,8460,null,null,null,null,0,222]
[21,8627,12,8632,23,8638,null,null,null,null,0,212]
[21,8742,21,8748,21,8752,null,null,null,null,0,222]
[21,8871,12,8878,23,8890,null,null,null,null,0,212]
[21,8987,12,8989,23,8991,null,null,null,null,0,212]
[12,9085,23,9088,14,9092,null,null,null,null,0,121]
[21,9187,12,9190,23,9210,null,null,null,null,0,212]
[21,9306,12,9308,23,9315,null,null,null,null,0,212]
[21,9410,21,9415,12,9419,null,null,null,null,0,221]
[21,9515,12,9517,23,9524,null,null,null,null,0,212]
[21,9620,12,9623,23,9627,null,null,null,null,0,212]
[21,9724,12,9726,23,9728,null,null,null,null,0,212]
[21,9823,12,9825,23,9830,null,null,null,null,0,212]
[21,9926,12,9929,23,9936,null,null,null,null,0,212]
[12,10029,23,10032,14,10036,null,null,null,null,0,121]
[21,10132,12,10135,23,10149,null,null,null,null,0,212]
[21,10244,21,10248,12,10253,null,null,null,null,0,221]
[21,10349,21,10353,21,10357,null,null,null,null,0,222]
[12,10708,23,10714,23,10729,null,null,null,null,0,122]
[21,10826,12,10829,23,10839,null,null,null,null,0,212]
[12,10934,23,10937,14,10939,null,null,null,null,0,121]
[21,11035,21,11038,21,11041,null,null,null,null,0,222]
[21,11552,12,11561,23,11566,null,null,null,null,0,212]
[21,11661,21,11666,21,11671,null,null,null,null,0,222]
[21,11818,12,11823,23,11827,null,null,null,null,0,212]
[21,11923,21,11926,12,11931,null,null,null,null,0,221]
[21,12033,21,12042,21,12050,null,null,null,null,0,222]
[21,12367,12,12371,23,12378,null,null,null,null,0,212]
[12,12470,23,12474,23,12477,null,null,null,null,0,122]
[21,12572,21,12577,12,12587,null,null,null,null,0,221]
[21,12682,21,12686,21,12692,null,null,null,null,0,222]
[12,12895,23,12907,23,12922,null,null,null,null,0,122]
[21,13019,21,13024,12,13027,null,null,null,null,0,221]
[21,13123,21,13128,12,13133,null,null,null,null,0,221]
[12,13226,23,13230,23,13232,null,null,null,null,0,122]
[12,13324,23,13328,23,13331,null,null,null,null,0,122]
[12,13422,23,13426,23,13430,null,null,null,null,0,122]
[21,13526,21,13530,21,13537,null,null,null,null,0,222]
[21,13843,12,13848,23,13855,null,null,null,null,0,212]
[21,13952,12,13956,23,13967,null,null,null,null,0,212]
[21,14063,12,14067,23,14073,null,null,null,null,0,212]
[21,14165,12,14168,23,14175,null,null,null,null,0,212]
[21,14270,12,14274,23,14276,null,null,null,null,0,212]
[21,14372,21,14376,12,14380,null,null,null,null,0,221]
[21,14477,21,14488,12,14493,null,null,null,null,0,221]
[21,14590,12,14593,14,14595,null,null,null,null,0,211]
[12,14688,23,14690,23,14693,null,null,null,null,0,122]
[21,14789,12,14799,23,14806,null,null,null,null,0,212]
[21,14902,21,14906,12,14910,null,null,null,null,0,221]
[21,15005,21,15009,12,15015,null,null,null,null,0,221]
[21,15112,12,15115,23,15118,null,null,null,null,0,212]
[12,15210,23,15214,23,15218,null,null,null,null,0,122]
[21,15313,12,15318,23,15326,null,null,null,null,0,212]
[21,15423,12,15431,23,15440,null,null,null,null,0,212]
[12,15533,23,15536,23,15541,null,null,null,null,0,122]
[21,15637,21,15640,21,15646,null,null,null,null,0,222]
[21,15851,12,15855,23,15858,null,null,null,null,0,212]
[12,15950,14,15958,23,15972,null,null,null,null,0,112]
[12,16066,23,16068,23,16073,null,null,null,null,0,122]
[21,16169,21,16173,12,16178,null,null,null,null,0,221]
[12,16273,14,16277,23,16289,null,null,null,null,0,112]
[12,16383,23,16386,14,16390,null,null,null,null,0,121]
[12,16484,23,16489,14,16492,null,null,null,null,0,121]
[21,16588,21,16591,21,16598,null,null,null,null,0,222]
[21,16861,12,16864,23,16875,null,null,null,null,0,212]
[21,16971,12,16974,23,16981,null,null,null,null,0,212]
[21,17077,21,17080,12,17082,null,null,null,null,0,221]
[21,17178,21,17182,21,17188,null,null,null,null,0,222]
[21,17933,21,17937,12,17941,null,null,null,null,0,221]
[21,18036,21,18041,21,18048,null,null,null,null,0,222]
[12,18187,23,18192,23,18201,null,null,null,null,0,122]
[21,18296,21,18300,21,18308,null,null,null,null,0,222]
[21,18462,21,18467,12,18470,null,null,null,null,0,221]
[21,18566,21,18569,21,18576,null,null,null,null,0,222]
[21,18700,12,18705,23,18719,null,null,null,null,0,212]
[21,18812,12,18814,23,18824,null,null,null,null,0,212]
[21,18922,12,18927,23,18937,null,null,null,null,0,212]
[21,19033,12,19037,14,19038,null,null,null,null,0,211]
[21,19135,12,19138,14,19140,null,null,null,null,0,211]
[21,19236,12,19239,23,19241,null,null,null,null,0,212]
[21,19337,12,19341,23,19348,null,null,null,null,0,212]
[21,19444,12,19448,23,19451,null,null,null,null,0,212]
[12,19545,23,19547,23,19550,null,null,null,null,0,122]
[21,19645,21,19648,21,19664,null,null,null,null,0,222]
[21,20324,21,20329,12,20332,null,null,null,null,0,221]
[12,20424,23,20428,23,20433,null,null,null,null,0,122]
[12,20525,23,20528,23,20532,null,null,null,null,0,122]
[12,20625,23,20629,23,20633,null,null,null,null,0,122]
[21,20729,21,20733,21,20738,null,null,null,null,0,222]
[21,20943,21,20952,21,20958,null,null,null,null,0,222]
[12,21128,14,21131,23,21139,null,null,null,null,0,112]
[21,21237,12,21240,23,21248,null,null,null,null,0,212]
[21,21346,21,21351,12,21360,null,null,null,null,0,221]
[21,21454,21,21457,21,21461,null,null,null,null,0,222]
[12,21586,23,21598,23,21609,null,null,null,null,0,122]
[21,21705,12,21709,23,21719,null,null,null,null,0,212]
[21,21815,12,21821,23,21823,null,null,null,null,0,212]
[21,21919,21,21923,12,21926,null,null,null,null,0,221]
[21,22023,12,22026,23,22033,null,null,null,null,0,212]
[21,22128,12,22133,23,22136,null,null,null,null,0,212]
[21,22231,21,22236,21,22245,null,null,null,null,0,222]
[21,22408,21,22419,12,22424,null,null,null,null,0,221]
[12,22519,23,22521,23,22525,null,null,null,null,0,122]
[21,22621,21,22625,21,22637,null,null,null,null,0,222]
[21,22743,21,22747,12,22750,null,null,null,null,0,221]
[21,22846,12,22851,23,22868,null,null,null,null,0,212]
[21,22981,21,22992,21,22998,null,null,null,null,0,222]
[21,23138,12,23144,23,23151,null,null,null,null,0,212]
[21,23247,12,23252,23,23258,null,null,null,null,0,212]
[21,23355,21,23359,12,23370,null,null,null,null,0,221]
[21,23465,12,23468,23,23471,null,null,null,null,0,212]
[21,23567,21,23573,12,23578,null,null,null,null,0,221]
[21,23673,12,23679,23,23686,null,null,null,null,0,212]
[21,23783,21,23787,12,23790,null,null,null,null,0,221]
[21,23886,21,23888,21,23893,null,null,null,null,0,222]

{"sheet":"!M826B30.Gus","index":6,"n_rows":55,"n_cols":48,"rows_kept":55,"cut":false,"hidden":false,"merged":[[4,39,4,42],[5,39,5,40],[4,44,4,47],[5,44,5,45],[4,24,4,27],[5,24,5,25],[4,29,4,32],[5,29,5,30],[4,34,4,37],[5,34,5,35],[1,1,1,2],[5,13,5,14],[18,13,18,14],[19,13,19,14],[4,19,4,22],[5,19,5,20]]}
["Report for:!M826B30.Gus"]
["Date:","<date>"]
["Hen:","<hen>",null,null,null,"Correct Sequence",{"$f":"Start!J2","v":222},null,null,null,null,null,null,null,null,"Total Sequences in Data",{"$f":"4994-COUNTBLANK(L7:L5000)","v":49},null,null,null,null,"Total Sequences in Block Data",{"$f":"COUNTA(L7:L14)","v":8},null,null,null,"Total Sequences in Block Data",{"$f":"COUNTA(L15:L22)","v":8},null,null,null,"Total Sequences in Block Data",{"$f":"COUNTA(L23:L31)","v":9},null,null,null,"Total Sequences in Block Data",{"$f":"COUNTA(L32:L39)","v":8},null,null,null,"Total Sequences in Block Data",{"$f":"COUNTA(L40:L47)","v":8},null,null,null,"Total Sequences in Block Data",{"$f":"COUNTA(L48:L55)","v":8}]
[null,null,null,null,null,null,null,null,null,null,null,null,null,null,null,"Total Sequences in Summary",{"$f":"SUM(O7:O14)","v":49},null,null,null,null,"Total Sequences in Block Summary",{"$f":"SUM(U7:U14)","v":8},null,null,null,"Total Sequences in Block Summary",{"$f":"SUM(Z7:Z14)","v":8},null,null,null,"Total Sequences in Block Summary",{"$f":"SUM(AE7:AE14)","v":9},null,null,null,"Total Sequences in Block Summary",{"$f":"SUM(AJ7:AJ14)","v":8},null,null,null,"Total Sequences in Block Summary",{"$f":"SUM(AO7:AO14)","v":8},null,null,null,"Total Sequences in Block Summary",{"$f":"SUM(AT7:AT14)","v":8}]
[null,null,null,null,null,null,null,null,null,null,null,null,null,null,null,null,null,null,null,"Block 1",null,null,null,null,"Block 2",null,null,null,null,"Block 3",null,null,null,null,"Block 4",null,null,null,null,"Block 5",null,null,null,null,"Block 6"]
["Sequence\nComponent\n1","Time\n1","Sequence\nComponent\n2","Time\n2","Sequence\nComponent\n3","Time\n3","Sequence\nComponent\n4","Time\n4","Sequence\nComponent\n5","Time\n5","Correct?\n0=No 1=Yes","Sequence",null,"Frequency",null,"Relative Frequency","Variability",null,null,"Frequency",null,"Relative Frequency","Variability",null,"Frequency",null,"Relative Frequency","Variability",null,"Frequency",null,"Relative Frequency","Variability",null,"Frequency",null,"Relative Frequency","Variability",null,"Frequency",null,"Relative Frequency","Variability",null,"Frequency",null,"Relative Frequency","Variability"]
[21,11,21,16,21,21,null,null,null,null,0,222,null,111,{"$f":"COUNTIF($L$7:$L$500,N7)","v":0},{"$f":"O7/$Q$4","v":0},{"$f":"IF(P7=0,0,(P7*((LOG(P7))/LOG(2))))","v":0},null,null,{"$f":"N7","v":111},{"$f":"COUNTIF(L7:L14,T7)","v":0},{"$f":"U7/(W4-U14)","v":0},{"$f":"IF(V7=0,0,(V7*((LOG(V7))/LOG(2))))","v":0},null,{"$f":"N7","v":111},{"$f":"COUNTIF(L15:L22,Y7)","v":0},{"$f":"Z7/(AB4-Z14)","v":0},{"$f":"IF(AA7=0,0,(AA7*((LOG(AA7))/LOG(2))))","v":0},null,{"$f":"N7","v":111},{"$f":"COUNTIF(L23:L31,AD7)","v":0},{"$f":"AE7/(AG4-AE14)","v":{"$error":"#DIV/0!"}},{"$f":"IF(AF7=0,0,(AF7*((LOG(AF7))/LOG(2))))","v":{"$error":"#DIV/0!"}},null,{"$f":"N7","v":111},{"$f":"COUNTIF(L32:L39,AI7)","v":0},{"$f":"AJ7/(AL4-AJ14)","v":0},{"$f":"IF(AK7=0,0,(AK7*((LOG(AK7))/LOG(2))))","v":0},null,{"$f":"N7","v":111},{"$f":"COUNTIF(L40:L47,AN7)","v":0},{"$f":"AO7/(AQ4-AO14)","v":0},{"$f":"IF(AP7=0,0,(AP7*((LOG(AP7))/LOG(2))))","v":0},null,{"$f":"N7","v":111},{"$f":"COUNTIF(L48:L55,AS7)","v":0},{"$f":"AT7/(AV4-AT14)","v":0},{"$f":"IF(AU7=0,0,(AU7*((LOG(AU7))/LOG(2))))","v":0}]
[21,140,21,152,21,158,null,null,null,null,0,222,null,112,{"$f":"COUNTIF($L$7:$L$500,N8)","v":0},{"$f":"O8/$Q$4","v":0},{"$f":"IF(P8=0,0,(P8*((LOG(P8))/LOG(2))))","v":0},null,null,{"$f":"N8","v":112},{"$f":"COUNTIF(L7:L14,T8)","v":0},{"$f":"U8/(W4-U14)","v":0},{"$f":"IF(V8=0,0,(V8*((LOG(V8))/LOG(2))))","v":0},null,{"$f":"N8","v":112},{"$f":"COUNTIF(L15:L22,Y8)","v":0},{"$f":"Z8/(AB4-Z14)","v":0},{"$f":"IF(AA8=0,0,(AA8*((LOG(AA8))/LOG(2))))","v":0},null,{"$f":"N8","v":112},{"$f":"COUNTIF(L23:L31,AD8)","v":0},{"$f":"AE8/(AG4-AE14)","v":{"$error":"#DIV/0!"}},{"$f":"IF(AF8=0,0,(AF8*((LOG(AF8))/LOG(2))))","v":{"$error":"#DIV/0!"}},null,{"$f":"N8","v":112},{"$f":"COUNTIF(L32:L39,AI8)","v":0},{"$f":"AJ8/(AL4-AJ14)","v":0},{"$f":"IF(AK8=0,0,(AK8*((LOG(AK8))/LOG(2))))","v":0},null,{"$f":"N8","v":112},{"$f":"COUNTIF(L40:L47,AN8)","v":0},{"$f":"AO8/(AQ4-AO14)","v":0},{"$f":"IF(AP8=0,0,(AP8*((LOG(AP8))/LOG(2))))","v":0},null,{"$f":"N8","v":112},{"$f":"COUNTIF(L48:L55,AS8)","v":0},{"$f":"AT8/(AV4-AT14)","v":0},{"$f":"IF(AU8=0,0,(AU8*((LOG(AU8))/LOG(2))))","v":0}]
[21,547,21,552,21,560,null,null,null,null,0,222,null,121,{"$f":"COUNTIF($L$7:$L$500,N9)","v":1},{"$f":"O9/$Q$4","v":2.0408163265306121E-2},{"$f":"IF(P9=0,0,(P9*((LOG(P9))/LOG(2))))","v":-0.11458591518602465},null,null,{"$f":"N9","v":121},{"$f":"COUNTIF(L7:L14,T9)","v":0},{"$f":"U9/(W4-U14)","v":0},{"$f":"IF(V9=0,0,(V9*((LOG(V9))/LOG(2))))","v":0},null,{"$f":"N9","v":121},{"$f":"COUNTIF(L15:L22,Y9)","v":0},{"$f":"Z9/(AB4-Z14)","v":0},{"$f":"IF(AA9=0,0,(AA9*((LOG(AA9))/LOG(2))))","v":0},null,{"$f":"N9","v":121},{"$f":"COUNTIF(L23:L31,AD9)","v":0},{"$f":"AE9/(AG4-AE14)","v":{"$error":"#DIV/0!"}},{"$f":"IF(AF9=0,0,(AF9*((LOG(AF9))/LOG(2))))","v":{"$error":"#DIV/0!"}},null,{"$f":"N9","v":121},{"$f":"COUNTIF(L32:L39,AI9)","v":0},{"$f":"AJ9/(AL4-AJ14)","v":0},{"$f":"IF(AK9=0,0,(AK9*((LOG(AK9))/LOG(2))))","v":0},null,{"$f":"N9","v":121},{"$f":"COUNTIF(L40:L47,AN9)","v":0},{"$f":"AO9/(AQ4-AO14)","v":0},{"$f":"IF(AP9=0,0,(AP9*((LOG(AP9))/LOG(2))))","v":0},null,{"$f":"N9","v":121},{"$f":"COUNTIF(L48:L55,AS9)","v":1},{"$f":"AT9/(AV4-AT14)","v":0.25},{"$f":"IF(AU9=0,0,(AU9*((LOG(AU9))/LOG(2))))","v":-0.5}]
[21,730,21,736,21,758,null,null,null,null,0,222,null,122,{"$f":"COUNTIF($L$7:$L$500,N10)","v":2},{"$f":"O10/$Q$4","v":4.0816326530612242E-2},{"$f":"IF(P10=0,0,(P10*((LOG(P10))/LOG(2))))","v":-0.18835550384143707},null,null,{"$f":"N10","v":122},{"$f":"COUNTIF(L7:L14,T10)","v":1},{"$f":"U10/(W4-U14)","v":1},{"$f":"IF(V10=0,0,(V10*((LOG(V10))/LOG(2))))","v":0},null,{"$f":"N10","v":122},{"$f":"COUNTIF(L15:L22,Y10)","v":0},{"$f":"Z10/(AB4-Z14)","v":0},{"$f":"IF(AA10=0,0,(AA10*((LOG(AA10))/LOG(2))))","v":0},null,{"$f":"N10","v":122},{"$f":"COUNTIF(L23:L31,AD10)","v":0},{"$f":"AE10/(AG4-AE14)","v":{"$error":"#DIV/0!"}},{"$f":"IF(AF10=0,0,(AF10*((LOG(AF10))/LOG(2))))","v":{"$error":"#DIV/0!"}},null,{"$f":"N10","v":122},{"$f":"COUNTIF(L32:L39,AI10)","v":0},{"$f":"AJ10/(AL4-AJ14)","v":0},{"$f":"IF(AK10=0,0,(AK10*((LOG(AK10))/LOG(2))))","v":0},null,{"$f":"N10","v":122},{"$f":"COUNTIF(L40:L47,AN10)","v":1},{"$f":"AO10/(AQ4-AO14)","v":0.25},{"$f":"IF(AP10=0,0,(AP10*((LOG(AP10))/LOG(2))))","v":-0.5},null,{"$f":"N10","v":122},{"$f":"COUNTIF(L48:L55,AS10)","v":0},{"$f":"AT10/(AV4-AT14)","v":0},{"$f":"IF(AU10=0,0,(AU10*((LOG(AU10))/LOG(2))))","v":0}]
[21,1147,21,1158,21,1173,null,null,null,null,0,222,null,211,{"$f":"COUNTIF($L$7:$L$500,N11)","v":0},{"$f":"O11/$Q$4","v":0},{"$f":"IF(P11=0,0,(P11*((LOG(P11))/LOG(2))))","v":0},null,null,{"$f":"N11","v":211},{"$f":"COUNTIF(L7:L14,T11)","v":0},{"$f":"U11/(W4-U14)","v":0},{"$f":"IF(V11=0,0,(V11*((LOG(V11))/LOG(2))))","v":0},null,{"$f":"N11","v":211},{"$f":"COUNTIF(L15:L22,Y11)","v":0},{"$f":"Z11/(AB4-Z14)","v":0},{"$f":"IF(AA11=0,0,(AA11*((LOG(AA11))/LOG(2))))","v":0},null,{"$f":"N11","v":211},{"$f":"COUNTIF(L23:L31,AD11)","v":0},{"$f":"AE11/(AG4-AE14)","v":{"$error":"#DIV/0!"}},{"$f":"IF(AF11=0,0,(AF11*((LOG(AF11))/LOG(2))))","v":{"$error":"#DIV/0!"}},null,{"$f":"N11","v":211},{"$f":"COUNTIF(L32:L39,AI11)","v":0},{"$f":"AJ11/(AL4-AJ14)","v":0},{"$f":"IF(AK11=0,0,(AK11*((LOG(AK11))/LOG(2))))","v":0},null,{"$f":"N11","v":211},{"$f":"COUNTIF(L40:L47,AN11)","v":0},{"$f":"AO11/(AQ4-AO14)","v":0},{"$f":"IF(AP11=0,0,(AP11*((LOG(AP11))/LOG(2))))","v":0},null,{"$f":"N11","v":211},{"$f":"COUNTIF(L48:L55,AS11)","v":0},{"$f":"AT11/(AV4-AT14)","v":0},{"$f":"IF(AU11=0,0,(AU11*((LOG(AU11))/LOG(2))))","v":0}]
[12,1379,23,1383,23,1435,null,null,null,null,0,122,null,212,{"$f":"COUNTIF($L$7:$L$500,N12)","v":6},{"$f":"O12/$Q$4","v":0.12244897959183673},{"$f":"IF(P12=0,0,(P12*((LOG(P12))/LOG(2))))","v":-0.3709894706196798},null,null,{"$f":"N12","v":212},{"$f":"COUNTIF(L7:L14,T12)","v":0},{"$f":"U12/(W4-U14)","v":0},{"$f":"IF(V12=0,0,(V12*((LOG(V12))/LOG(2))))","v":0},null,{"$f":"N12","v":212},{"$f":"COUNTIF(L15:L22,Y12)","v":1},{"$f":"Z12/(AB4-Z14)","v":1},{"$f":"IF(AA12=0,0,(AA12*((LOG(AA12))/LOG(2))))","v":0},null,{"$f":"N12","v":212},{"$f":"COUNTIF(L23:L31,AD12)","v":0},{"$f":"AE12/(AG4-AE14)","v":{"$error":"#DIV/0!"}},{"$f":"IF(AF12=0,0,(AF12*((LOG(AF12))/LOG(2))))","v":{"$error":"#DIV/0!"}},null,{"$f":"N12","v":212},{"$f":"COUNTIF(L32:L39,AI12)","v":0},{"$f":"AJ12/(AL4-AJ14)","v":0},{"$f":"IF(AK12=0,0,(AK12*((LOG(AK12))/LOG(2))))","v":0},null,{"$f":"N12","v":212},{"$f":"COUNTIF(L40:L47,AN12)","v":2},{"$f":"AO12/(AQ4-AO14)","v":0.5},{"$f":"IF(AP12=0,0,(AP12*((LOG(AP12))/LOG(2))))","v":-0.5},null,{"$f":"N12","v":212},{"$f":"COUNTIF(L48:L55,AS12)","v":3},{"$f":"AT12/(AV4-AT14)","v":0.75},{"$f":"IF(AU12=0,0,(AU12*((LOG(AU12))/LOG(2))))","v":-0.31127812445913283}]
[21,1648,21,1652,21,1662,null,null,null,null,0,222,null,221,{"$f":"COUNTIF($L$7:$L$500,N13)","v":2},{"$f":"O13/$Q$4","v":4.0816326530612242E-2},{"$f":"IF(P13=0,0,(P13*((LOG(P13))/LOG(2))))","v":-0.18835550384143707},null,null,{"$f":"N13","v":221},{"$f":"COUNTIF(L7:L14,T13)","v":0},{"$f":"U13/(W4-U14)","v":0},{"$f":"IF(V13=0,0,(V13*((LOG(V13))/LOG(2))))","v":0},null,{"$f":"N13","v":221},{"$f":"COUNTIF(L15:L22,Y13)","v":0},{"$f":"Z13/(AB4-Z14)","v":0},{"$f":"IF(AA13=0,0,(AA13*((LOG(AA13))/LOG(2))))","v":0},null,{"$f":"N13","v":221},{"$f":"COUNTIF(L23:L31,AD13)","v":0},{"$f":"AE13/(AG4-AE14)","v":{"$error":"#DIV/0!"}},{"$f":"IF(AF13=0,0,(AF13*((LOG(AF13))/LOG(2))))","v":{"$error":"#DIV/0!"}},null,{"$f":"N13","v":221},{"$f":"COUNTIF(L32:L39,AI13)","v":1},{"$f":"AJ13/(AL4-AJ14)","v":1},{"$f":"IF(AK13=0,0,(AK13*((LOG(AK13))/LOG(2))))","v":0},null,{"$f":"N13","v":221},{"$f":"COUNTIF(L40:L47,AN13)","v":1},{"$f":"AO13/(AQ4-AO14)","v":0.25},{"$f":"IF(AP13=0,0,(AP13*((LOG(AP13))/LOG(2))))","v":-0.5},null,{"$f":"N13","v":221},{"$f":"COUNTIF(L48:L55,AS13)","v":0},{"$f":"AT13/(AV4-AT14)","v":0},{"$f":"IF(AU13=0,0,(AU13*((LOG(AU13))/LOG(2))))","v":0}]
[21,1884,21,1905,21,1914,null,null,null,null,0,222,null,222,{"$f":"COUNTIF($L$7:$L$500,N14)","v":38},{"$f":"O14/$Q$4","v":0.77551020408163263},{"$f":"IF(P14=0,0,(P14*((LOG(P14))/LOG(2))))","v":-0.28444344011268707},null,null,{"$f":"N14","v":222},{"$f":"COUNTIF(L7:L14,T14)","v":7},null,null,null,{"$f":"N14","v":222},{"$f":"COUNTIF(L15:L22,Y14)","v":7},null,null,null,{"$f":"N14","v":222},{"$f":"COUNTIF(L23:L31,AD14)","v":9},null,null,null,{"$f":"N14","v":222},{"$f":"COUNTIF(L32:L39,AI14)","v":7},null,null,null,{"$f":"N14","v":222},{"$f":"COUNTIF(L40:L47,AN14)","v":4},null,null,null,{"$f":"N14","v":222},{"$f":"COUNTIF(L48:L55,AS14)","v":4}]
[21,2262,21,2297,21,2313,null,null,null,null,0,222,null,null,null,{"$f":"SUM(P7:P14)","v":1},{"$f":"-SUM(Q7:Q14)","v":1.1467298336012657},null,null,null,null,{"$f":"SUM(V7:V14)","v":1},{"$f":"-SUM(W7:W14)","v":0},null,null,null,{"$f":"SUM(AA7:AA14)","v":1},{"$f":"-SUM(AB7:AB14)","v":0},null,null,null,{"$f":"SUM(AF7:AF14)","v":{"$error":"#DIV/0!"}},{"$f":"-SUM(AG7:AG14)","v":{"$error":"#DIV/0!"}},null,null,null,{"$f":"SUM(AK7:AK14)","v":1},{"$f":"-SUM(AL7:AL14)","v":0},null,null,null,{"$f":"SUM(AP7:AP14)","v":1},{"$f":"-SUM(AQ7:AQ14)","v":1.5},null,null,null,{"$f":"SUM(AU7:AU14)","v":1},{"$f":"-SUM(AV7:AV14)","v":0.81127812445913283}]
[21,2408,12,2417,23,2433,null,null,null,null,0,212,null,null,null,"U=",{"$f":"Q15/(LOG(Q4)/LOG(2))","v":0.20423670419997858},null,null,null,null,"U1=",{"$f":"W15/(LOG(W4)/LOG(2))","v":0},null,null,null,"U2=",{"$f":"AB15/(LOG(AB4)/LOG(2))","v":0},null,null,null,"U3=",{"$f":"AG15/(LOG(AG4)/LOG(2))","v":{"$error":"#DIV/0!"}},null,null,null,"U4=",{"$f":"AL15/(LOG(AL4)/LOG(2))","v":0},null,null,null,"U5=",{"$f":"AQ15/(LOG(AQ4)/LOG(2))","v":0.5},null,null,null,"U6=",{"$f":"AV15/(LOG(AV4)/LOG(2))","v":0.27042604148637761}]
[21,2531,21,2536,21,2545,null,null,null,null,0,222]
[21,2822,21,2882,21,2898,null,null,null,null,0,222]
[21,3151,21,3187,21,3214,null,null,null,null,0,222,null,"Total Target Seq"]
[21,3439,21,3475,21,3494,null,null,null,null,0,222,null,{"$f":"COUNTIF(L7:L55,G3)","v":38},null,8,8,9,8,8,8]
[21,3730,21,3745,21,3752,null,null,null,null,0,222,null,null,null,"% of reinforcement given in 6 equal intervals based on number of trials "]
[21,4043,21,4087,21,4123,null,null,null,null,0,222,null,null,null,"%_1","%_2","%_3","%_4","%_5","%_6"]
[21,4400,21,4410,21,4419,null,null,null,null,0,222,null,null,"target sequence",{"$f":"$G$3","v":222},{"$f":"$G$3","v":222},{"$f":"$G$3","v":222},{"$f":"$G$3","v":222},{"$f":"$G$3","v":222},{"$f":"$G$3","v":222}]
[21,4539,21,4566,21,4576,null,null,null,null,0,222,null,null,"total reinforcement",{"$f":"U14","v":7},{"$f":"Z14","v":7},{"$f":"AE14","v":9},{"$f":"AJ14","v":7},{"$f":"AO14","v":4},{"$f":"AT14","v":4}]
[21,4679,21,4689,21,4694,null,null,null,null,0,222,null,null,"% target"]
[21,4856,21,4872,21,4880,null,null,null,null,0,222,null,null,"CCRF"]
[21,4998,21,5029,21,5038,null,null,null,null,0,222,null,null,"% CCRf"]
[21,5132,21,5140,21,5146,null,null,null,null,0,222,null,null,"average response rate",{"$f":"F14/P20","v":239.25},{"$f":"(F22-F14)/Q20","v":276.125},{"$f":"(F31-F22)/R20","v":199.77777777777777},{"$f":"(F39-F31)/S20","v":166.375},{"$f":"(F47-F39)/T20","v":131.75},{"$f":"(F55-F47)/U20","v":139.375}]
[21,5334,21,5351,21,5359,null,null,null,null,0,222]
[21,5615,21,5633,21,5642,null,null,null,null,0,222]
[21,5853,21,5886,21,5921,null,null,null,null,0,222]
[21,6056,21,6062,21,6070,null,null,null,null,0,222]
[21,6201,21,6222,21,6259,null,null,null,null,0,222]
[21,6415,21,6481,21,6503,null,null,null,null,0,222]
[21,6660,21,6668,21,6683,null,null,null,null,0,222]
[21,6829,21,6846,21,6855,null,null,null,null,0,222]
[21,6947,21,6950,21,6962,null,null,null,null,0,222]
[21,7121,21,7140,21,7149,null,null,null,null,0,222]
[21,7239,21,7249,12,7252,null,null,null,null,0,221]
[21,7378,21,7390,21,7399,null,null,null,null,0,222]
[21,7567,21,7574,21,7583,null,null,null,null,0,222]
[21,7737,21,7747,21,7769,null,null,null,null,0,222]
[12,7868,23,7876,23,7882,null,null,null,null,0,122]
[21,7979,12,7983,23,7987,null,null,null,null,0,212]
[21,8084,12,8088,23,8098,null,null,null,null,0,212]
[21,8193,21,8201,12,8203,null,null,null,null,0,221]
[21,8296,21,8300,21,8306,null,null,null,null,0,222]
[21,8432,12,8440,23,8451,null,null,null,null,0,212]
[21,8547,12,8549,23,8552,null,null,null,null,0,212]
[12,8644,23,8647,14,8654,null,null,null,null,0,121]
[21,8749,12,8753,23,8759,null,null,null,null,0,212]
[21,8855,21,8862,21,8870,null,null,null,null,0,222]
[21,8988,21,8992,21,8998,null,null,null,null,0,222]
[21,9259,21,9283,21,9292,null,null,null,null,0,222]
[21,9405,21,9415,21,9421,null,null,null,null,1,222]

{"sheet":"!M827B40.Gus","index":7,"n_rows":144,"n_cols":48,"rows_kept":144,"cut":false,"hidden":false,"merged":[[4,39,4,42],[5,39,5,40],[4,44,4,47],[5,44,5,45],[4,24,4,27],[5,24,5,25],[4,29,4,32],[5,29,5,30],[4,34,4,37],[5,34,5,35],[1,1,1,2],[5,13,5,14],[18,13,18,14],[19,13,19,14],[4,19,4,22],[5,19,5,20]]}
["Report for:!M827B40.Gus"]
["Date:","<date>"]
["Hen:","<hen>",null,null,null,"Correct Sequence",{"$f":"Start!J2","v":222},null,null,null,null,null,null,null,null,"Total Sequences in Data",{"$f":"4994-COUNTBLANK(L7:L5000)","v":138},null,null,null,null,"Total Sequences in Block Data",{"$f":"COUNTA(L7:L29)","v":23},null,null,null,"Total Sequences in Block Data",{"$f":"COUNTA(L30:L52)","v":23},null,null,null,"Total Sequences in Block Data",{"$f":"COUNTA(L53:L75)","v":23},null,null,null,"Total Sequences in Block Data",{"$f":"COUNTA(L76:L98)","v":23},null,null,null,"Total Sequences in Block Data",{"$f":"COUNTA(L99:L121)","v":23},null,null,null,"Total Sequences in Block Data",{"$f":"COUNTA(L122:L144)","v":23}]
[null,null,null,null,null,null,null,null,null,null,null,null,null,null,null,"Total Sequences in Summary",{"$f":"SUM(O7:O14)","v":138},null,null,null,null,"Total Sequences in Block Summary",{"$f":"SUM(U7:U14)","v":23},null,null,null,"Total Sequences in Block Summary",{"$f":"SUM(Z7:Z14)","v":23},null,null,null,"Total Sequences in Block Summary",{"$f":"SUM(AE7:AE14)","v":23},null,null,null,"Total Sequences in Block Summary",{"$f":"SUM(AJ7:AJ14)","v":23},null,null,null,"Total Sequences in Block Summary",{"$f":"SUM(AO7:AO14)","v":23},null,null,null,"Total Sequences in Block Summary",{"$f":"SUM(AT7:AT14)","v":23}]
[null,null,null,null,null,null,null,null,null,null,null,null,null,null,null,null,null,null,null,"Block 1",null,null,null,null,"Block 2",null,null,null,null,"Block 3",null,null,null,null,"Block 4",null,null,null,null,"Block 5",null,null,null,null,"Block 6"]
["Sequence\nComponent\n1","Time\n1","Sequence\nComponent\n2","Time\n2","Sequence\nComponent\n3","Time\n3","Sequence\nComponent\n4","Time\n4","Sequence\nComponent\n5","Time\n5","Correct?\n0=No 1=Yes","Sequence",null,"Frequency",null,"Relative Frequency","Variability",null,null,"Frequency",null,"Relative Frequency","Variability",null,"Frequency",null,"Relative Frequency","Variability",null,"Frequency",null,"Relative Frequency","Variability",null,"Frequency",null,"Relative Frequency","Variability",null,"Frequency",null,"Relative Frequency","Variability",null,"Frequency",null,"Relative Frequency","Variability"]
[21,9,21,24,12,29,null,null,null,null,0,221,null,111,{"$f":"COUNTIF($L$7:$L$500,N7)","v":0},{"$f":"O7/$Q$4","v":0},{"$f":"IF(P7=0,0,(P7*((LOG(P7))/LOG(2))))","v":0},null,null,{"$f":"N7","v":111},{"$f":"COUNTIF(L7:L29,T7)","v":0},{"$f":"U7/(W4-U14)","v":0},{"$f":"IF(V7=0,0,(V7*((LOG(V7))/LOG(2))))","v":0},null,{"$f":"N7","v":111},{"$f":"COUNTIF(L30:L52,Y7)","v":0},{"$f":"Z7/(AB4-Z14)","v":0},{"$f":"IF(AA7=0,0,(AA7*((LOG(AA7))/LOG(2))))","v":0},null,{"$f":"N7","v":111},{"$f":"COUNTIF(L53:L75,AD7)","v":0},{"$f":"AE7/(AG4-AE14)","v":0},{"$f":"IF(AF7=0,0,(AF7*((LOG(AF7))/LOG(2))))","v":0},null,{"$f":"N7","v":111},{"$f":"COUNTIF(L76:L98,AI7)","v":0},{"$f":"AJ7/(AL4-AJ14)","v":0},{"$f":"IF(AK7=0,0,(AK7*((LOG(AK7))/LOG(2))))","v":0},null,{"$f":"N7","v":111},{"$f":"COUNTIF(L99:L121,AN7)","v":0},{"$f":"AO7/(AQ4-AO14)","v":0},{"$f":"IF(AP7=0,0,(AP7*((LOG(AP7))/LOG(2))))","v":0},null,{"$f":"N7","v":111},{"$f":"COUNTIF(L122:L144,AS7)","v":0},{"$f":"AT7/(AV4-AT14)","v":0},{"$f":"IF(AU7=0,0,(AU7*((LOG(AU7))/LOG(2))))","v":0}]
[12,120,23,126,14,129,null,null,null,null,0,121,null,112,{"$f":"COUNTIF($L$7:$L$500,N8)","v":1},{"$f":"O8/$Q$4","v":7.246376811594203E-3},{"$f":"IF(P8=0,0,(P8*((LOG(P8))/LOG(2))))","v":-5.1511046788247604E-2},null,null,{"$f":"N8","v":112},{"$f":"COUNTIF(L7:L29,T8)","v":0},{"$f":"U8/(W4-U14)","v":0},{"$f":"IF(V8=0,0,(V8*((LOG(V8))/LOG(2))))","v":0},null,{"$f":"N8","v":112},{"$f":"COUNTIF(L30:L52,Y8)","v":0},{"$f":"Z8/(AB4-Z14)","v":0},{"$f":"IF(AA8=0,0,(AA8*((LOG(AA8))/LOG(2))))","v":0},null,{"$f":"N8","v":112},{"$f":"COUNTIF(L53:L75,AD8)","v":0},{"$f":"AE8/(AG4-AE14)","v":0},{"$f":"IF(AF8=0,0,(AF8*((LOG(AF8))/LOG(2))))","v":0},null,{"$f":"N8","v":112},{"$f":"COUNTIF(L76:L98,AI8)","v":1},{"$f":"AJ8/(AL4-AJ14)","v":9.0909090909090912E-2},{"$f":"IF(AK8=0,0,(AK8*((LOG(AK8))/LOG(2))))","v":-0.31449378351248153},null,{"$f":"N8","v":112},{"$f":"COUNTIF(L99:L121,AN8)","v":0},{"$f":"AO8/(AQ4-AO14)","v":0},{"$f":"IF(AP8=0,0,(AP8*((LOG(AP8))/LOG(2))))","v":0},null,{"$f":"N8","v":112},{"$f":"COUNTIF(L122:L144,AS8)","v":0},{"$f":"AT8/(AV4-AT14)","v":0},{"$f":"IF(AU8=0,0,(AU8*((LOG(AU8))/LOG(2))))","v":0}]
[21,226,12,230,23,237,null,null,null,null,0,212,null,121,{"$f":"COUNTIF($L$7:$L$500,N9)","v":7},{"$f":"O9/$Q$4","v":5.0724637681159424E-2},{"$f":"IF(P9=0,0,(P9*((LOG(P9))/LOG(2))))","v":-0.21817526625394168},null,null,{"$f":"N9","v":121},{"$f":"COUNTIF(L7:L29,T9)","v":2},{"$f":"U9/(W4-U14)","v":0.10526315789473684},{"$f":"IF(V9=0,0,(V9*((LOG(V9))/LOG(2))))","v":-0.34188710667827216},null,{"$f":"N9","v":121},{"$f":"COUNTIF(L30:L52,Y9)","v":2},{"$f":"Z9/(AB4-Z14)","v":0.11764705882352941},{"$f":"IF(AA9=0,0,(AA9*((LOG(AA9))/LOG(2))))","v":-0.36323092250003997},null,{"$f":"N9","v":121},{"$f":"COUNTIF(L53:L75,AD9)","v":0},{"$f":"AE9/(AG4-AE14)","v":0},{"$f":"IF(AF9=0,0,(AF9*((LOG(AF9))/LOG(2))))","v":0},null,{"$f":"N9","v":121},{"$f":"COUNTIF(L76:L98,AI9)","v":1},{"$f":"AJ9/(AL4-AJ14)","v":9.0909090909090912E-2},{"$f":"IF(AK9=0,0,(AK9*((LOG(AK9))/LOG(2))))","v":-0.31449378351248153},null,{"$f":"N9","v":121},{"$f":"COUNTIF(L99:L121,AN9)","v":1},{"$f":"AO9/(AQ4-AO14)","v":5.8823529411764705E-2},{"$f":"IF(AP9=0,0,(AP9*((LOG(AP9))/LOG(2))))","v":-0.24043899066178465},null,{"$f":"N9","v":121},{"$f":"COUNTIF(L122:L144,AS9)","v":1},{"$f":"AT9/(AV4-AT14)","v":6.6666666666666666E-2},{"$f":"IF(AU9=0,0,(AU9*((LOG(AU9))/LOG(2))))","v":-0.26045937304056793}]
[21,341,12,343,23,347,null,null,null,null,0,212,null,122,{"$f":"COUNTIF($L$7:$L$500,N10)","v":19},{"$f":"O10/$Q$4","v":0.13768115942028986},{"$f":"IF(P10=0,0,(P10*((LOG(P10))/LOG(2))))","v":-0.39385030379244268},null,null,{"$f":"N10","v":122},{"$f":"COUNTIF(L7:L29,T10)","v":3},{"$f":"U10/(W4-U14)","v":0.15789473684210525},{"$f":"IF(V10=0,0,(V10*((LOG(V10))/LOG(2))))","v":-0.42046815990354147},null,{"$f":"N10","v":122},{"$f":"COUNTIF(L30:L52,Y10)","v":3},{"$f":"Z10/(AB4-Z14)","v":0.17647058823529413},{"$f":"IF(AA10=0,0,(AA10*((LOG(AA10))/LOG(2))))","v":-0.44161770715220888},null,{"$f":"N10","v":122},{"$f":"COUNTIF(L53:L75,AD10)","v":6},{"$f":"AE10/(AG4-AE14)","v":0.3},{"$f":"IF(AF10=0,0,(AF10*((LOG(AF10))/LOG(2))))","v":-0.52108967824986185},null,{"$f":"N10","v":122},{"$f":"COUNTIF(L76:L98,AI10)","v":2},{"$f":"AJ10/(AL4-AJ14)","v":0.18181818181818182},{"$f":"IF(AK10=0,0,(AK10*((LOG(AK10))/LOG(2))))","v":-0.44716938520678134},null,{"$f":"N10","v":122},{"$f":"COUNTIF(L99:L121,AN10)","v":3},{"$f":"AO10/(AQ4-AO14)","v":0.17647058823529413},{"$f":"IF(AP10=0,0,(AP10*((LOG(AP10))/LOG(2))))","v":-0.44161770715220888},null,{"$f":"N10","v":122},{"$f":"COUNTIF(L122:L144,AS10)","v":2},{"$f":"AT10/(AV4-AT14)","v":0.13333333333333333},{"$f":"IF(AU10=0,0,(AU10*((LOG(AU10))/LOG(2))))","v":-0.3875854127478025}]
[21,442,12,448,23,460,null,null,null,null,0,212,null,211,{"$f":"COUNTIF($L$7:$L$500,N11)","v":0},{"$f":"O11/$Q$4","v":0},{"$f":"IF(P11=0,0,(P11*((LOG(P11))/LOG(2))))","v":0},null,null,{"$f":"N11","v":211},{"$f":"COUNTIF(L7:L29,T11)","v":0},{"$f":"U11/(W4-U14)","v":0},{"$f":"IF(V11=0,0,(V11*((LOG(V11))/LOG(2))))","v":0},null,{"$f":"N11","v":211},{"$f":"COUNTIF(L30:L52,Y11)","v":0},{"$f":"Z11/(AB4-Z14)","v":0},{"$f":"IF(AA11=0,0,(AA11*((LOG(AA11))/LOG(2))))","v":0},null,{"$f":"N11","v":211},{"$f":"COUNTIF(L53:L75,AD11)","v":0},{"$f":"AE11/(AG4-AE14)","v":0},{"$f":"IF(AF11=0,0,(AF11*((LOG(AF11))/LOG(2))))","v":0},null,{"$f":"N11","v":211},{"$f":"COUNTIF(L76:L98,AI11)","v":0},{"$f":"AJ11/(AL4-AJ14)","v":0},{"$f":"IF(AK11=0,0,(AK11*((LOG(AK11))/LOG(2))))","v":0},null,{"$f":"N11","v":211},{"$f":"COUNTIF(L99:L121,AN11)","v":0},{"$f":"AO11/(AQ4-AO14)","v":0},{"$f":"IF(AP11=0,0,(AP11*((LOG(AP11))/LOG(2))))","v":0},null,{"$f":"N11","v":211},{"$f":"COUNTIF(L122:L144,AS11)","v":0},{"$f":"AT11/(AV4-AT14)","v":0},{"$f":"IF(AU11=0,0,(AU11*((LOG(AU11))/LOG(2))))","v":0}]
[21,561,21,565,12,569,null,null,null,null,0,221,null,212,{"$f":"COUNTIF($L$7:$L$500,N12)","v":37},{"$f":"O12/$Q$4","v":0.26811594202898553},{"$f":"IF(P12=0,0,(P12*((LOG(P12))/LOG(2))))","v":-0.50917123458348634},null,null,{"$f":"N12","v":212},{"$f":"COUNTIF(L7:L29,T12)","v":10},{"$f":"U12/(W4-U14)","v":0.52631578947368418},{"$f":"IF(V12=0,0,(V12*((LOG(V12))/LOG(2))))","v":-0.4873681150295911},null,{"$f":"N12","v":212},{"$f":"COUNTIF(L30:L52,Y12)","v":7},{"$f":"Z12/(AB4-Z14)","v":0.41176470588235292},{"$f":"IF(AA12=0,0,(AA12*((LOG(AA12))/LOG(2))))","v":-0.52710326084406744},null,{"$f":"N12","v":212},{"$f":"COUNTIF(L53:L75,AD12)","v":4},{"$f":"AE12/(AG4-AE14)","v":0.2},{"$f":"IF(AF12=0,0,(AF12*((LOG(AF12))/LOG(2))))","v":-0.46438561897747244},null,{"$f":"N12","v":212},{"$f":"COUNTIF(L76:L98,AI12)","v":4},{"$f":"AJ12/(AL4-AJ14)","v":0.36363636363636365},{"$f":"IF(AK12=0,0,(AK12*((LOG(AK12))/LOG(2))))","v":-0.53070240677719893},null,{"$f":"N12","v":212},{"$f":"COUNTIF(L99:L121,AN12)","v":7},{"$f":"AO12/(AQ4-AO14)","v":0.41176470588235292},{"$f":"IF(AP12=0,0,(AP12*((LOG(AP12))/LOG(2))))","v":-0.52710326084406744},null,{"$f":"N12","v":212},{"$f":"COUNTIF(L122:L144,AS12)","v":5},{"$f":"AT12/(AV4-AT14)","v":0.33333333333333331},{"$f":"IF(AU12=0,0,(AU12*((LOG(AU12))/LOG(2))))","v":-0.52832083357371862}]
[21,665,12,669,23,676,null,null,null,null,0,212,null,221,{"$f":"COUNTIF($L$7:$L$500,N13)","v":35},{"$f":"O13/$Q$4","v":0.25362318840579712},{"$f":"IF(P13=0,0,(P13*((LOG(P13))/LOG(2))))","v":-0.50198152459537748},null,null,{"$f":"N13","v":221},{"$f":"COUNTIF(L7:L29,T13)","v":4},{"$f":"U13/(W4-U14)","v":0.21052631578947367},{"$f":"IF(V13=0,0,(V13*((LOG(V13))/LOG(2))))","v":-0.47324789756707064},null,{"$f":"N13","v":221},{"$f":"COUNTIF(L30:L52,Y13)","v":5},{"$f":"Z13/(AB4-Z14)","v":0.29411764705882354},{"$f":"IF(AA13=0,0,(AA13*((LOG(AA13))/LOG(2))))","v":-0.51927492540087561},null,{"$f":"N13","v":221},{"$f":"COUNTIF(L53:L75,AD13)","v":10},{"$f":"AE13/(AG4-AE14)","v":0.5},{"$f":"IF(AF13=0,0,(AF13*((LOG(AF13))/LOG(2))))","v":-0.5},null,{"$f":"N13","v":221},{"$f":"COUNTIF(L76:L98,AI13)","v":3},{"$f":"AJ13/(AL4-AJ14)","v":0.27272727272727271},{"$f":"IF(AK13=0,0,(AK13*((LOG(AK13))/LOG(2))))","v":-0.51121885034076575},null,{"$f":"N13","v":221},{"$f":"COUNTIF(L99:L121,AN13)","v":6},{"$f":"AO13/(AQ4-AO14)","v":0.35294117647058826},{"$f":"IF(AP13=0,0,(AP13*((LOG(AP13))/LOG(2))))","v":-0.53029423783382934},null,{"$f":"N13","v":221},{"$f":"COUNTIF(L122:L144,AS13)","v":7},{"$f":"AT13/(AV4-AT14)","v":0.46666666666666667},{"$f":"IF(AU13=0,0,(AU13*((LOG(AU13))/LOG(2))))","v":-0.51311664765709342}]
[21,773,21,776,21,777,null,null,null,null,0,222,null,222,{"$f":"COUNTIF($L$7:$L$500,N14)","v":39},{"$f":"O14/$Q$4","v":0.28260869565217389},{"$f":"IF(P14=0,0,(P14*((LOG(P14))/LOG(2))))","v":-0.5152301976718906},null,null,{"$f":"N14","v":222},{"$f":"COUNTIF(L7:L29,T14)","v":4},null,null,null,{"$f":"N14","v":222},{"$f":"COUNTIF(L30:L52,Y14)","v":6},null,null,null,{"$f":"N14","v":222},{"$f":"COUNTIF(L53:L75,AD14)","v":3},null,null,null,{"$f":"N14","v":222},{"$f":"COUNTIF(L76:L98,AI14)","v":12},null,null,null,{"$f":"N14","v":222},{"$f":"COUNTIF(L99:L121,AN14)","v":6},null,null,null,{"$f":"N14","v":222},{"$f":"COUNTIF(L122:L144,AS14)","v":8}]
[21,869,12,874,23,886,null,null,null,null,0,212,null,null,null,{"$f":"SUM(P7:P14)","v":1},{"$f":"-SUM(Q7:Q14)","v":2.1899195736853865},null,null,null,null,{"$f":"SUM(V7:V14)","v":1},{"$f":"-SUM(W7:W14)","v":1.7229712791784753},null,null,null,{"$f":"SUM(AA7:AA14)","v":1},{"$f":"-SUM(AB7:AB14)","v":1.8512268158971921},null,null,null,{"$f":"SUM(AF7:AF14)","v":1},{"$f":"-SUM(AG7:AG14)","v":1.4854752972273344},null,null,null,{"$f":"SUM(AK7:AK14)","v":1},{"$f":"-SUM(AL7:AL14)","v":2.1180782093497093},null,null,null,{"$f":"SUM(AP7:AP14)","v":1},{"$f":"-SUM(AQ7:AQ14)","v":1.7394541964918904},null,null,null,{"$f":"SUM(AU7:AU14)","v":1},{"$f":"-SUM(AV7:AV14)","v":1.6894822670191825}]
[21,982,21,990,21,996,null,null,null,null,0,222,null,null,null,"U=",{"$f":"Q15/(LOG(Q4)/LOG(2))","v":0.30806949979573317},null,null,null,null,"U1=",{"$f":"W15/(LOG(W4)/LOG(2))","v":0.38088817969463878},null,null,null,"U2=",{"$f":"AB15/(LOG(AB4)/LOG(2))","v":0.40924095522078885},null,null,null,"U3=",{"$f":"AG15/(LOG(AG4)/LOG(2))","v":0.32838619469736563},null,null,null,"U4=",{"$f":"AL15/(LOG(AL4)/LOG(2))","v":0.46823238631972741},null,null,null,"U5=",{"$f":"AQ15/(LOG(AQ4)/LOG(2))","v":0.38453197135119926},null,null,null,"U6=",{"$f":"AV15/(LOG(AV4)/LOG(2))","v":0.37348494028184565}]
[12,1383,23,1391,23,1395,null,null,null,null,0,122]
[21,2381,12,2390,23,2399,null,null,null,null,0,212]
[21,2497,12,2500,23,2503,null,null,null,null,0,212,null,"Total Target Seq"]
[12,2596,23,2598,23,2602,null,null,null,null,0,122,null,{"$f":"COUNTIF(L7:L144,G3)","v":39},null,23,23,23,23,23,23]
[21,2698,21,2704,21,2712,null,null,null,null,0,222,null,null,null,"% of reinforcement given in 6 equal intervals based on number of trials "]
[21,3092,12,3101,23,3106,null,null,null,null,0,212,null,null,null,"%_1","%_2","%_3","%_4","%_5","%_6"]
[21,3201,12,3205,23,3211,null,null,null,null,0,212,null,null,"target sequence",{"$f":"$G$3","v":222},{"$f":"$G$3","v":222},{"$f":"$G$3","v":222},{"$f":"$G$3","v":222},{"$f":"$G$3","v":222},{"$f":"$G$3","v":222}]
[21,3306,21,3309,21,3315,null,null,null,null,0,222,null,null,"total reinforcement",{"$f":"U14","v":4},{"$f":"Z14","v":6},{"$f":"AE14","v":3},{"$f":"AJ14","v":12},{"$f":"AO14","v":6},{"$f":"AT14","v":8}]
[21,3453,12,3455,23,3458,null,null,null,null,0,212,null,null,"% target"]
[21,3556,21,3560,12,3565,null,null,null,null,0,221,null,null,"CCRF"]
[12,3657,23,3662,14,3666,null,null,null,null,0,121,null,null,"% CCRf"]
[21,3764,21,3768,12,3772,null,null,null,null,0,221,null,null,"average response rate",{"$f":"F29/P20","v":168.34782608695653},{"$f":"(F52-F29)/Q20","v":123.47826086956522},{"$f":"(F75-F52)/R20","v":120.47826086956522},{"$f":"(F98-F75)/S20","v":173.17391304347825},{"$f":"(F121-F98)/T20","v":115.78260869565217},{"$f":"(F144-F121)/U20","v":128.78260869565219}]
[12,3865,23,3868,23,3872,null,null,null,null,0,122]
[12,3966,23,3968,23,3971,null,null,null,null,0,122]
[12,4063,23,4069,14,4072,null,null,null,null,0,121]
[12,4166,23,4167,14,4173,null,null,null,null,0,121]
[21,4268,21,4273,12,4277,null,null,null,null,0,221]
[21,4373,12,4376,23,4382,null,null,null,null,0,212]
[21,4478,21,4480,12,4484,null,null,null,null,0,221]
[21,4581,21,4590,21,4596,null,null,null,null,0,222]
[21,4884,21,4892,12,4896,null,null,null,null,0,221]
[21,4992,12,4997,23,5002,null,null,null,null,0,212]
[21,5099,21,5100,12,5106,null,null,null,null,0,221]
[21,5198,21,5204,21,5212,null,null,null,null,0,222]
[21,5303,12,5306,23,5310,null,null,null,null,0,212]
[21,5408,21,5414,21,5422,null,null,null,null,0,222]
[21,5523,12,5531,23,5534,null,null,null,null,0,212]
[21,5630,21,5637,21,5644,null,null,null,null,0,222]
[21,5777,12,5791,23,5798,null,null,null,null,0,212]
[21,5896,12,5900,23,5907,null,null,null,null,0,212]
[21,6002,21,6006,21,6012,null,null,null,null,0,222]
[12,6275,23,6282,23,6294,null,null,null,null,0,122]
[21,6389,12,6395,23,6397,null,null,null,null,0,212]
[21,6493,21,6497,12,6501,null,null,null,null,0,221]
[21,6597,21,6600,21,6604,null,null,null,null,0,222]
[12,6694,23,6703,23,6712,null,null,null,null,0,122]
[21,6808,21,6810,12,6814,null,null,null,null,0,221]
[21,6910,21,6914,12,6918,null,null,null,null,0,221]
[21,7013,21,7018,12,7020,null,null,null,null,0,221]
[21,7116,12,7119,23,7126,null,null,null,null,0,212]
[21,7222,21,7226,12,7229,null,null,null,null,0,221]
[21,7326,12,7329,23,7337,null,null,null,null,0,212]
[21,7434,21,7438,12,7441,null,null,null,null,0,221]
[12,7534,23,7537,23,7541,null,null,null,null,0,122]
[21,7637,12,7639,23,7641,null,null,null,null,0,212]
[21,7736,21,7739,12,7745,null,null,null,null,0,221]
[21,7841,21,7845,21,7856,null,null,null,null,0,222]
[21,7992,21,7997,12,8002,null,null,null,null,0,221]
[12,8095,23,8098,23,8103,null,null,null,null,0,122]
[21,8199,21,8207,21,8212,null,null,null,null,0,222]
[21,8424,21,8429,12,8434,null,null,null,null,0,221]
[21,8530,21,8534,12,8537,null,null,null,null,0,221]
[21,8635,21,8639,21,8648,null,null,null,null,0,222]
[12,8958,23,8962,23,8966,null,null,null,null,0,122]
[21,9062,21,9069,12,9074,null,null,null,null,0,221]
[12,9167,23,9169,23,9172,null,null,null,null,0,122]
[12,9267,23,9268,23,9272,null,null,null,null,0,122]
[21,9368,12,9372,23,9376,null,null,null,null,0,212]
[12,9470,23,9475,23,9483,null,null,null,null,0,122]
[21,9579,21,9582,21,9589,null,null,null,null,0,222]
[21,9995,21,10002,21,10009,null,null,null,null,0,222]
[21,10138,21,10149,21,10156,null,null,null,null,0,222]
[21,10580,21,10586,21,10623,null,null,null,null,0,222]
[21,10734,21,10749,21,10761,null,null,null,null,0,222]
[21,10894,12,10900,23,10906,null,null,null,null,0,212]
[21,11002,12,11007,23,11012,null,null,null,null,0,212]
[21,11112,21,11116,12,11118,null,null,null,null,0,221]
[21,11212,21,11218,21,11224,null,null,null,null,0,222]
[21,11426,21,11434,21,11439,null,null,null,null,0,222]
[12,11628,23,11635,23,11644,null,null,null,null,0,122]
[21,11741,12,11744,23,11750,null,null,null,null,0,212]
[21,11863,12,11872,23,11885,null,null,null,null,0,212]
[21,11980,21,11983,21,11989,null,null,null,null,0,222]
[21,12304,21,12307,21,12326,null,null,null,null,0,222]
[12,12472,23,12486,23,12494,null,null,null,null,0,122]
[21,12591,21,12595,12,12597,null,null,null,null,0,221]
[21,12695,21,12698,21,12703,null,null,null,null,0,222]
[12,12852,14,13029,23,13034,null,null,null,null,0,112]
[12,13126,23,13130,14,13135,null,null,null,null,0,121]
[21,13243,21,13248,21,13252,null,null,null,null,0,222]
[21,13342,21,13347,12,13351,null,null,null,null,0,221]
[21,13448,21,13458,21,13466,null,null,null,null,0,222]
[21,13565,21,13573,21,13579,null,null,null,null,0,222]
[21,13737,21,13744,21,13750,null,null,null,null,0,222]
[12,13970,23,13982,23,13997,null,null,null,null,0,122]
[21,14094,21,14099,12,14103,null,null,null,null,0,221]
[21,14200,12,14208,23,14212,null,null,null,null,0,212]
[21,14307,21,14311,21,14316,null,null,null,null,0,222]
[21,14423,12,14426,23,14431,null,null,null,null,0,212]
[21,14527,21,14533,12,14535,null,null,null,null,0,221]
[12,14629,23,14632,23,14637,null,null,null,null,0,122]
[21,14735,21,14741,21,14746,null,null,null,null,0,222]
[21,14862,12,14868,23,14877,null,null,null,null,0,212]
[21,14969,12,14971,23,14973,null,null,null,null,0,212]
[21,15069,21,15072,21,15076,null,null,null,null,0,222]
[12,15163,23,15166,14,15172,null,null,null,null,0,121]
[21,15268,21,15271,21,15280,null,null,null,null,0,222]
[21,15389,12,15395,23,15403,null,null,null,null,0,212]
[21,15499,21,15502,12,15505,null,null,null,null,0,221]
[21,15600,21,15608,12,15613,null,null,null,null,0,221]
[21,15709,12,15712,23,15715,null,null,null,null,0,212]
[21,15812,12,15815,23,15821,null,null,null,null,0,212]
[21,15916,21,15920,12,15923,null,null,null,null,0,221]
[12,16016,23,16019,23,16022,null,null,null,null,0,122]
[21,16120,21,16125,12,16129,null,null,null,null,0,221]
[21,16227,21,16234,21,16244,null,null,null,null,0,222]
[21,16410,12,16418,23,16429,null,null,null,null,0,212]
[21,16527,21,16534,21,16539,null,null,null,null,0,222]
[21,16640,21,16642,12,16645,null,null,null,null,0,221]
[21,16741,21,16743,12,16745,null,null,null,null,0,221]
[21,16840,21,16843,12,16845,null,null,null,null,0,221]
[12,16938,23,16941,14,16945,null,null,null,null,0,121]
[21,17040,21,17044,12,17046,null,null,null,null,0,221]
[21,17142,21,17150,21,17157,null,null,null,null,0,222]
[21,17324,21,17330,21,17336,null,null,null,null,0,222]
[21,17595,12,17602,23,17613,null,null,null,null,0,212]
[21,17708,12,17712,23,17718,null,null,null,null,0,212]
[21,17812,21,17816,21,17823,null,null,null,null,0,222]
[21,17998,21,18009,21,18026,null,null,null,null,0,222]
[21,18215,12,18220,23,18224,null,null,null,null,0,212]
[12,18327,23,18340,23,18352,null,null,null,null,0,122]
[21,18448,21,18452,12,18455,null,null,null,null,0,221]
[21,18553,21,18558,21,18563,null,null,null,null,0,222]
[21,18655,21,18660,12,18662,null,null,null,null,0,221]
[12,18754,23,18758,23,18762,null,null,null,null,0,122]
[21,18859,21,18861,12,18865,null,null,null,null,0,221]
[21,18961,12,18968,23,18973,null,null,null,null,0,212]
[21,19079,21,19086,21,19091,null,null,null,null,1,222]

{"sheet":"!M828A40.Gus","index":8,"n_rows":90,"n_cols":48,"rows_kept":90,"cut":false,"hidden":false,"merged":[[4,39,4,42],[5,39,5,40],[4,44,4,47],[5,44,5,45],[4,24,4,27],[5,24,5,25],[4,29,4,32],[5,29,5,30],[4,34,4,37],[5,34,5,35],[1,1,1,2],[5,13,5,14],[18,13,18,14],[19,13,19,14],[4,19,4,22],[5,19,5,20]]}
["Report for:!M828A40.Gus"]
["Date:","<date>"]
["Hen:","<hen>",null,null,null,"Correct Sequence",{"$f":"Start!J2","v":222},null,null,null,null,null,null,null,null,"Total Sequences in Data",{"$f":"4994-COUNTBLANK(L7:L5000)","v":84},null,null,null,null,"Total Sequences in Block Data",{"$f":"COUNTA(L7:L20)","v":14},null,null,null,"Total Sequences in Block Data",{"$f":"COUNTA(L21:L34)","v":14},null,null,null,"Total Sequences in Block Data",{"$f":"COUNTA(L35:L48)","v":14},null,null,null,"Total Sequences in Block Data",{"$f":"COUNTA(L49:L62)","v":14},null,null,null,"Total Sequences in Block Data",{"$f":"COUNTA(L63:L76)","v":14},null,null,null,"Total Sequences in Block Data",{"$f":"COUNTA(L77:L90)","v":14}]
[null,null,null,null,null,null,null,null,null,null,null,null,null,null,null,"Total Sequences in Summary",{"$f":"SUM(O7:O14)","v":84},null,null,null,null,"Total Sequences in Block Summary",{"$f":"SUM(U7:U14)","v":14},null,null,null,"Total Sequences in Block Summary",{"$f":"SUM(Z7:Z14)","v":14},null,null,null,"Total Sequences in Block Summary",{"$f":"SUM(AE7:AE14)","v":14},null,null,null,"Total Sequences in Block Summary",{"$f":"SUM(AJ7:AJ14)","v":14},null,null,null,"Total Sequences in Block Summary",{"$f":"SUM(AO7:AO14)","v":14},null,null,null,"Total Sequences in Block Summary",{"$f":"SUM(AT7:AT14)","v":14}]
[null,null,null,null,null,null,null,null,null,null,null,null,null,null,null,null,null,null,null,"Block 1",null,null,null,null,"Block 2",null,null,null,null,"Block 3",null,null,null,null,"Block 4",null,null,null,null,"Block 5",null,null,null,null,"Block 6"]
["Sequence\nComponent\n1","Time\n1","Sequence\nComponent\n2","Time\n2","Sequence\nComponent\n3","Time\n3","Sequence\nComponent\n4","Time\n4","Sequence\nComponent\n5","Time\n5","Correct?\n0=No 1=Yes","Sequence",null,"Frequency",null,"Relative Frequency","Variability",null,null,"Frequency",null,"Relative Frequency","Variability",null,"Frequency",null,"Relative Frequency","Variability",null,"Frequency",null,"Relative Frequency","Variability",null,"Frequency",null,"Relative Frequency","Variability",null,"Frequency",null,"Relative Frequency","Variability",null,"Frequency",null,"Relative Frequency","Variability"]
[12,1,23,7,23,12,null,null,null,null,0,122,null,111,{"$f":"COUNTIF($L$7:$L$500,N7)","v":0},{"$f":"O7/$Q$4","v":0},{"$f":"IF(P7=0,0,(P7*((LOG(P7))/LOG(2))))","v":0},null,null,{"$f":"N7","v":111},{"$f":"COUNTIF(L7:L20,T7)","v":0},{"$f":"U7/(W4-U14)","v":0},{"$f":"IF(V7=0,0,(V7*((LOG(V7))/LOG(2))))","v":0},null,{"$f":"N7","v":111},{"$f":"COUNTIF(L21:L34,Y7)","v":0},{"$f":"Z7/(AB4-Z14)","v":0},{"$f":"IF(AA7=0,0,(AA7*((LOG(AA7))/LOG(2))))","v":0},null,{"$f":"N7","v":111},{"$f":"COUNTIF(L35:L48,AD7)","v":0},{"$f":"AE7/(AG4-AE14)","v":0},{"$f":"IF(AF7=0,0,(AF7*((LOG(AF7))/LOG(2))))","v":0},null,{"$f":"N7","v":111},{"$f":"COUNTIF(L49:L62,AI7)","v":0},{"$f":"AJ7/(AL4-AJ14)","v":0},{"$f":"IF(AK7=0,0,(AK7*((LOG(AK7))/LOG(2))))","v":0},null,{"$f":"N7","v":111},{"$f":"COUNTIF(L63:L76,AN7)","v":0},{"$f":"AO7/(AQ4-AO14)","v":0},{"$f":"IF(AP7=0,0,(AP7*((LOG(AP7))/LOG(2))))","v":0},null,{"$f":"N7","v":111},{"$f":"COUNTIF(L77:L90,AS7)","v":0},{"$f":"AT7/(AV4-AT14)","v":0},{"$f":"IF(AU7=0,0,(AU7*((LOG(AU7))/LOG(2))))","v":0}]
[12,108,14,115,23,117,null,null,null,null,0,112,null,112,{"$f":"COUNTIF($L$7:$L$500,N8)","v":1},{"$f":"O8/$Q$4","v":1.1904761904761904E-2},{"$f":"IF(P8=0,0,(P8*((LOG(P8))/LOG(2))))","v":-7.6099016937842379E-2},null,null,{"$f":"N8","v":112},{"$f":"COUNTIF(L7:L20,T8)","v":1},{"$f":"U8/(W4-U14)","v":0.25},{"$f":"IF(V8=0,0,(V8*((LOG(V8))/LOG(2))))","v":-0.5},null,{"$f":"N8","v":112},{"$f":"COUNTIF(L21:L34,Y8)","v":0},{"$f":"Z8/(AB4-Z14)","v":0},{"$f":"IF(AA8=0,0,(AA8*((LOG(AA8))/LOG(2))))","v":0},null,{"$f":"N8","v":112},{"$f":"COUNTIF(L35:L48,AD8)","v":0},{"$f":"AE8/(AG4-AE14)","v":0},{"$f":"IF(AF8=0,0,(AF8*((LOG(AF8))/LOG(2))))","v":0},null,{"$f":"N8","v":112},{"$f":"COUNTIF(L49:L62,AI8)","v":0},{"$f":"AJ8/(AL4-AJ14)","v":0},{"$f":"IF(AK8=0,0,(AK8*((LOG(AK8))/LOG(2))))","v":0},null,{"$f":"N8","v":112},{"$f":"COUNTIF(L63:L76,AN8)","v":0},{"$f":"AO8/(AQ4-AO14)","v":0},{"$f":"IF(AP8=0,0,(AP8*((LOG(AP8))/LOG(2))))","v":0},null,{"$f":"N8","v":112},{"$f":"COUNTIF(L77:L90,AS8)","v":0},{"$f":"AT8/(AV4-AT14)","v":0},{"$f":"IF(AU8=0,0,(AU8*((LOG(AU8))/LOG(2))))","v":0}]
[21,215,21,219,21,223,null,null,null,null,0,222,null,121,{"$f":"COUNTIF($L$7:$L$500,N9)","v":0},{"$f":"O9/$Q$4","v":0},{"$f":"IF(P9=0,0,(P9*((LOG(P9))/LOG(2))))","v":0},null,null,{"$f":"N9","v":121},{"$f":"COUNTIF(L7:L20,T9)","v":0},{"$f":"U9/(W4-U14)","v":0},{"$f":"IF(V9=0,0,(V9*((LOG(V9))/LOG(2))))","v":0},null,{"$f":"N9","v":121},{"$f":"COUNTIF(L21:L34,Y9)","v":0},{"$f":"Z9/(AB4-Z14)","v":0},{"$f":"IF(AA9=0,0,(AA9*((LOG(AA9))/LOG(2))))","v":0},null,{"$f":"N9","v":121},{"$f":"COUNTIF(L35:L48,AD9)","v":0},{"$f":"AE9/(AG4-AE14)","v":0},{"$f":"IF(AF9=0,0,(AF9*((LOG(AF9))/LOG(2))))","v":0},null,{"$f":"N9","v":121},{"$f":"COUNTIF(L49:L62,AI9)","v":0},{"$f":"AJ9/(AL4-AJ14)","v":0},{"$f":"IF(AK9=0,0,(AK9*((LOG(AK9))/LOG(2))))","v":0},null,{"$f":"N9","v":121},{"$f":"COUNTIF(L63:L76,AN9)","v":0},{"$f":"AO9/(AQ4-AO14)","v":0},{"$f":"IF(AP9=0,0,(AP9*((LOG(AP9))/LOG(2))))","v":0},null,{"$f":"N9","v":121},{"$f":"COUNTIF(L77:L90,AS9)","v":0},{"$f":"AT9/(AV4-AT14)","v":0},{"$f":"IF(AU9=0,0,(AU9*((LOG(AU9))/LOG(2))))","v":0}]
[21,481,21,491,21,497,null,null,null,null,0,222,null,122,{"$f":"COUNTIF($L$7:$L$500,N10)","v":15},{"$f":"O10/$Q$4","v":0.17857142857142858},{"$f":"IF(P10=0,0,(P10*((LOG(P10))/LOG(2))))","v":-0.44382621913754317},null,null,{"$f":"N10","v":122},{"$f":"COUNTIF(L7:L20,T10)","v":3},{"$f":"U10/(W4-U14)","v":0.75},{"$f":"IF(V10=0,0,(V10*((LOG(V10))/LOG(2))))","v":-0.31127812445913283},null,{"$f":"N10","v":122},{"$f":"COUNTIF(L21:L34,Y10)","v":2},{"$f":"Z10/(AB4-Z14)","v":0.25},{"$f":"IF(AA10=0,0,(AA10*((LOG(AA10))/LOG(2))))","v":-0.5},null,{"$f":"N10","v":122},{"$f":"COUNTIF(L35:L48,AD10)","v":2},{"$f":"AE10/(AG4-AE14)","v":0.22222222222222221},{"$f":"IF(AF10=0,0,(AF10*((LOG(AF10))/LOG(2))))","v":-0.48220555587606945},null,{"$f":"N10","v":122},{"$f":"COUNTIF(L49:L62,AI10)","v":3},{"$f":"AJ10/(AL4-AJ14)","v":0.42857142857142855},{"$f":"IF(AK10=0,0,(AK10*((LOG(AK10))/LOG(2))))","v":-0.52388246628704915},null,{"$f":"N10","v":122},{"$f":"COUNTIF(L63:L76,AN10)","v":2},{"$f":"AO10/(AQ4-AO14)","v":0.2857142857142857},{"$f":"IF(AP10=0,0,(AP10*((LOG(AP10))/LOG(2))))","v":-0.51638712058788683},null,{"$f":"N10","v":122},{"$f":"COUNTIF(L77:L90,AS10)","v":3},{"$f":"AT10/(AV4-AT14)","v":0.3},{"$f":"IF(AU10=0,0,(AU10*((LOG(AU10))/LOG(2))))","v":-0.52108967824986185}]
[21,652,21,662,21,670,null,null,null,null,0,222,null,211,{"$f":"COUNTIF($L$7:$L$500,N11)","v":0},{"$f":"O11/$Q$4","v":0},{"$f":"IF(P11=0,0,(P11*((LOG(P11))/LOG(2))))","v":0},null,null,{"$f":"N11","v":211},{"$f":"COUNTIF(L7:L20,T11)","v":0},{"$f":"U11/(W4-U14)","v":0},{"$f":"IF(V11=0,0,(V11*((LOG(V11))/LOG(2))))","v":0},null,{"$f":"N11","v":211},{"$f":"COUNTIF(L21:L34,Y11)","v":0},{"$f":"Z11/(AB4-Z14)","v":0},{"$f":"IF(AA11=0,0,(AA11*((LOG(AA11))/LOG(2))))","v":0},null,{"$f":"N11","v":211},{"$f":"COUNTIF(L35:L48,AD11)","v":0},{"$f":"AE11/(AG4-AE14)","v":0},{"$f":"IF(AF11=0,0,(AF11*((LOG(AF11))/LOG(2))))","v":0},null,{"$f":"N11","v":211},{"$f":"COUNTIF(L49:L62,AI11)","v":0},{"$f":"AJ11/(AL4-AJ14)","v":0},{"$f":"IF(AK11=0,0,(AK11*((LOG(AK11))/LOG(2))))","v":0},null,{"$f":"N11","v":211},{"$f":"COUNTIF(L63:L76,AN11)","v":0},{"$f":"AO11/(AQ4-AO14)","v":0},{"$f":"IF(AP11=0,0,(AP11*((LOG(AP11))/LOG(2))))","v":0},null,{"$f":"N11","v":211},{"$f":"COUNTIF(L77:L90,AS11)","v":0},{"$f":"AT11/(AV4-AT14)","v":0},{"$f":"IF(AU11=0,0,(AU11*((LOG(AU11))/LOG(2))))","v":0}]
[21,806,21,818,21,825,null,null,null,null,0,222,null,212,{"$f":"COUNTIF($L$7:$L$500,N12)","v":15},{"$f":"O12/$Q$4","v":0.17857142857142858},{"$f":"IF(P12=0,0,(P12*((LOG(P12))/LOG(2))))","v":-0.44382621913754317},null,null,{"$f":"N12","v":212},{"$f":"COUNTIF(L7:L20,T12)","v":0},{"$f":"U12/(W4-U14)","v":0},{"$f":"IF(V12=0,0,(V12*((LOG(V12))/LOG(2))))","v":0},null,{"$f":"N12","v":212},{"$f":"COUNTIF(L21:L34,Y12)","v":4},{"$f":"Z12/(AB4-Z14)","v":0.5},{"$f":"IF(AA12=0,0,(AA12*((LOG(AA12))/LOG(2))))","v":-0.5},null,{"$f":"N12","v":212},{"$f":"COUNTIF(L35:L48,AD12)","v":5},{"$f":"AE12/(AG4-AE14)","v":0.55555555555555558},{"$f":"IF(AF12=0,0,(AF12*((LOG(AF12))/LOG(2))))","v":-0.4711093925305278},null,{"$f":"N12","v":212},{"$f":"COUNTIF(L49:L62,AI12)","v":2},{"$f":"AJ12/(AL4-AJ14)","v":0.2857142857142857},{"$f":"IF(AK12=0,0,(AK12*((LOG(AK12))/LOG(2))))","v":-0.51638712058788683},null,{"$f":"N12","v":212},{"$f":"COUNTIF(L63:L76,AN12)","v":1},{"$f":"AO12/(AQ4-AO14)","v":0.14285714285714285},{"$f":"IF(AP12=0,0,(AP12*((LOG(AP12))/LOG(2))))","v":-0.40105070315108626},null,{"$f":"N12","v":212},{"$f":"COUNTIF(L77:L90,AS12)","v":3},{"$f":"AT12/(AV4-AT14)","v":0.3},{"$f":"IF(AU12=0,0,(AU12*((LOG(AU12))/LOG(2))))","v":-0.52108967824986185}]
[21,1029,21,1042,21,1048,null,null,null,null,0,222,null,221,{"$f":"COUNTIF($L$7:$L$500,N13)","v":14},{"$f":"O13/$Q$4","v":0.16666666666666666},{"$f":"IF(P13=0,0,(P13*((LOG(P13))/LOG(2))))","v":-0.43082708345352599},null,null,{"$f":"N13","v":221},{"$f":"COUNTIF(L7:L20,T13)","v":0},{"$f":"U13/(W4-U14)","v":0},{"$f":"IF(V13=0,0,(V13*((LOG(V13))/LOG(2))))","v":0},null,{"$f":"N13","v":221},{"$f":"COUNTIF(L21:L34,Y13)","v":2},{"$f":"Z13/(AB4-Z14)","v":0.25},{"$f":"IF(AA13=0,0,(AA13*((LOG(AA13))/LOG(2))))","v":-0.5},null,{"$f":"N13","v":221},{"$f":"COUNTIF(L35:L48,AD13)","v":2},{"$f":"AE13/(AG4-AE14)","v":0.22222222222222221},{"$f":"IF(AF13=0,0,(AF13*((LOG(AF13))/LOG(2))))","v":-0.48220555587606945},null,{"$f":"N13","v":221},{"$f":"COUNTIF(L49:L62,AI13)","v":2},{"$f":"AJ13/(AL4-AJ14)","v":0.2857142857142857},{"$f":"IF(AK13=0,0,(AK13*((LOG(AK13))/LOG(2))))","v":-0.51638712058788683},null,{"$f":"N13","v":221},{"$f":"COUNTIF(L63:L76,AN13)","v":4},{"$f":"AO13/(AQ4-AO14)","v":0.5714285714285714},{"$f":"IF(AP13=0,0,(AP13*((LOG(AP13))/LOG(2))))","v":-0.46134566974720237},null,{"$f":"N13","v":221},{"$f":"COUNTIF(L77:L90,AS13)","v":4},{"$f":"AT13/(AV4-AT14)","v":0.4},{"$f":"IF(AU13=0,0,(AU13*((LOG(AU13))/LOG(2))))","v":-0.52877123795494496}]
[21,1273,21,1300,21,1307,null,null,null,null,0,222,null,222,{"$f":"COUNTIF($L$7:$L$500,N14)","v":39},{"$f":"O14/$Q$4","v":0.4642857142857143},{"$f":"IF(P14=0,0,(P14*((LOG(P14))/LOG(2))))","v":-0.51392491610409474},null,null,{"$f":"N14","v":222},{"$f":"COUNTIF(L7:L20,T14)","v":10},null,null,null,{"$f":"N14","v":222},{"$f":"COUNTIF(L21:L34,Y14)","v":6},null,null,null,{"$f":"N14","v":222},{"$f":"COUNTIF(L35:L48,AD14)","v":5},null,null,null,{"$f":"N14","v":222},{"$f":"COUNTIF(L49:L62,AI14)","v":7},null,null,null,{"$f":"N14","v":222},{"$f":"COUNTIF(L63:L76,AN14)","v":7},null,null,null,{"$f":"N14","v":222},{"$f":"COUNTIF(L77:L90,AS14)","v":4}]
[21,1545,21,1553,21,1568,null,null,null,null,0,222,null,null,null,{"$f":"SUM(P7:P14)","v":1},{"$f":"-SUM(Q7:Q14)","v":1.9085034547705493},null,null,null,null,{"$f":"SUM(V7:V14)","v":1},{"$f":"-SUM(W7:W14)","v":0.81127812445913283},null,null,null,{"$f":"SUM(AA7:AA14)","v":1},{"$f":"-SUM(AB7:AB14)","v":1.5},null,null,null,{"$f":"SUM(AF7:AF14)","v":1},{"$f":"-SUM(AG7:AG14)","v":1.4355205042826666},null,null,null,{"$f":"SUM(AK7:AK14)","v":0.99999999999999989},{"$f":"-SUM(AL7:AL14)","v":1.5566567074628228},null,null,null,{"$f":"SUM(AP7:AP14)","v":1},{"$f":"-SUM(AQ7:AQ14)","v":1.3787834934861753},null,null,null,{"$f":"SUM(AU7:AU14)","v":1},{"$f":"-SUM(AV7:AV14)","v":1.5709505944546687}]
[21,1859,21,1878,21,1896,null,null,null,null,0,222,null,null,null,"U=",{"$f":"Q15/(LOG(Q4)/LOG(2))","v":0.29856205950750753},null,null,null,null,"U1=",{"$f":"W15/(LOG(W4)/LOG(2))","v":0.21308182217503771},null,null,null,"U2=",{"$f":"AB15/(LOG(AB4)/LOG(2))","v":0.39397430255579036},null,null,null,"U3=",{"$f":"AG15/(LOG(AG4)/LOG(2))","v":0.37703879298620002},null,null,null,"U4=",{"$f":"AL15/(LOG(AL4)/LOG(2))","v":0.40885516042763909},null,null,null,"U5=",{"$f":"AQ15/(LOG(AQ4)/LOG(2))","v":0.36213684348110137},null,null,null,"U6=",{"$f":"AV15/(LOG(AV4)/LOG(2))","v":0.4126094431999216}]
[12,2059,23,2076,23,2090,null,null,null,null,0,122]
[21,2187,21,2192,21,2197,null,null,null,null,0,222]
[12,2428,23,2433,23,2445,null,null,null,null,0,122,null,"Total Target Seq"]
[21,2551,21,2558,21,2565,null,null,null,null,0,222,null,{"$f":"COUNTIF(L7:L90,G3)","v":39},null,14,14,14,14,14,14]
[21,2718,21,2724,21,2769,null,null,null,null,0,222,null,null,null,"% of reinforcement given in 6 equal intervals based on number of trials "]
[21,2918,21,2947,21,2974,null,null,null,null,0,222,null,null,null,"%_1","%_2","%_3","%_4","%_5","%_6"]
[21,3194,21,3210,12,3220,null,null,null,null,0,221,null,null,"target sequence",{"$f":"$G$3","v":222},{"$f":"$G$3","v":222},{"$f":"$G$3","v":222},{"$f":"$G$3","v":222},{"$f":"$G$3","v":222},{"$f":"$G$3","v":222}]
[12,3447,23,3455,23,3477,null,null,null,null,0,122,null,null,"total reinforcement",{"$f":"U14","v":10},{"$f":"Z14","v":6},{"$f":"AE14","v":5},{"$f":"AJ14","v":7},{"$f":"AO14","v":7},{"$f":"AT14","v":4}]
[21,3573,12,3578,23,3583,null,null,null,null,0,212,null,null,"% target"]
[21,3680,12,3684,23,3689,null,null,null,null,0,212,null,null,"CCRF"]
[21,3783,21,3787,21,3791,null,null,null,null,0,222,null,null,"% CCRf"]
[21,3915,21,3920,12,3922,null,null,null,null,0,221,null,null,"average response rate",{"$f":"F20/P20","v":183.21428571428572},{"$f":"(F34-F20)/Q20","v":152.92857142857142},{"$f":"(F48-F34)/R20","v":148.64285714285714},{"$f":"(F62-F48)/S20","v":126.28571428571429},{"$f":"(F76-F62)/T20","v":130.57142857142858},{"$f":"(F90-F76)/U20","v":114.35714285714286}]
[12,4016,23,4020,23,4023,null,null,null,null,0,122]
[21,4122,12,4130,23,4137,null,null,null,null,0,212]
[21,4232,21,4235,21,4242,null,null,null,null,0,222]
[21,4388,21,4393,21,4397,null,null,null,null,0,222]
[21,4580,12,4595,23,4599,null,null,null,null,0,212]
[21,4693,21,4700,21,4706,null,null,null,null,0,222]
[12,4842,23,4851,23,4864,null,null,null,null,0,122]
[21,4961,21,4965,12,4968,null,null,null,null,0,221]
[21,5063,12,5070,23,5077,null,null,null,null,0,212]
[21,5174,21,5176,21,5180,null,null,null,null,0,222]
[12,5794,23,5800,23,5813,null,null,null,null,0,122]
[21,5906,21,5911,21,5914,null,null,null,null,0,222]
[21,6006,12,6012,23,6022,null,null,null,null,0,212]
[21,6120,12,6122,23,6124,null,null,null,null,0,212]
[21,6220,21,6228,21,6235,null,null,null,null,0,222]
[21,6361,12,6365,23,6373,null,null,null,null,0,212]
[21,6470,21,6474,12,6476,null,null,null,null,0,221]
[21,6573,21,6580,21,6586,null,null,null,null,0,222]
[21,6676,12,6679,23,6688,null,null,null,null,0,212]
[21,6780,21,6783,21,6787,null,null,null,null,0,222]
[12,6885,23,6902,23,6909,null,null,null,null,0,122]
[21,7005,21,7009,12,7011,null,null,null,null,0,221]
[21,7108,21,7112,21,7126,null,null,null,null,0,222]
[21,7231,12,7235,23,7237,null,null,null,null,0,212]
[21,7333,21,7338,21,7342,null,null,null,null,0,222]
[21,7468,21,7470,12,7473,null,null,null,null,0,221]
[21,7573,12,7578,23,7582,null,null,null,null,0,212]
[21,7676,21,7680,21,7684,null,null,null,null,0,222]
[12,7790,23,7798,23,7803,null,null,null,null,0,122]
[21,7899,21,7901,21,7905,null,null,null,null,0,222]
[21,8042,21,8046,21,8055,null,null,null,null,0,222]
[12,8291,23,8320,23,8333,null,null,null,null,0,122]
[21,8424,21,8430,21,8438,null,null,null,null,0,222]
[21,8542,21,8544,21,8555,null,null,null,null,0,222]
[21,8768,21,8782,12,8791,null,null,null,null,0,221]
[21,8884,21,8889,21,8897,null,null,null,null,0,222]
[21,8986,21,8990,21,8995,null,null,null,null,0,222]
[21,9195,21,9200,21,9208,null,null,null,null,0,222]
[21,9327,21,9337,12,9344,null,null,null,null,0,221]
[12,9435,23,9439,23,9445,null,null,null,null,0,122]
[21,9541,21,9545,21,9552,null,null,null,null,0,222]
[21,9685,21,9688,21,9694,null,null,null,null,0,222]
[21,9829,21,9833,12,9839,null,null,null,null,0,221]
[12,9931,23,9940,23,9946,null,null,null,null,0,122]
[21,10040,21,10043,21,10047,null,null,null,null,0,222]
[21,10159,12,10163,23,10170,null,null,null,null,0,212]
[21,10268,21,10274,12,10281,null,null,null,null,0,221]
[21,10376,21,10378,21,10383,null,null,null,null,0,222]
[21,10531,21,10541,12,10547,null,null,null,null,0,221]
[21,10643,12,10650,23,10656,null,null,null,null,0,212]
[21,10749,21,10752,21,10757,null,null,null,null,0,222]
[12,10883,23,10887,23,10893,null,null,null,null,0,122]
[21,10985,21,10992,12,10995,null,null,null,null,0,221]
[21,11088,21,11094,21,11104,null,null,null,null,0,222]
[21,11199,21,11201,12,11207,null,null,null,null,0,221]
[12,11299,23,11304,23,11311,null,null,null,null,0,122]
[21,11407,21,11413,21,11420,null,null,null,null,0,222]
[21,11553,12,11558,23,11564,null,null,null,null,0,212]
[21,11659,21,11664,12,11673,null,null,null,null,0,221]
[12,11767,23,11770,23,11773,null,null,null,null,0,122]
[21,11869,12,11874,23,11879,null,null,null,null,0,212]
[21,11975,21,11978,21,11984,null,null,null,null,1,222]

{"sheet":"!M829A50.Gus","index":9,"n_rows":52,"n_cols":48,"rows_kept":52,"cut":false,"hidden":false,"merged":[[4,39,4,42],[5,39,5,40],[4,44,4,47],[5,44,5,45],[4,24,4,27],[5,24,5,25],[4,29,4,32],[5,29,5,30],[4,34,4,37],[5,34,5,35],[1,1,1,2],[5,13,5,14],[18,13,18,14],[19,13,19,14],[4,19,4,22],[5,19,5,20]]}
["Report for:!M829A50.Gus"]
["Date:","<date>"]
["Hen:","<hen>",null,null,null,"Correct Sequence",{"$f":"Start!J2","v":222},null,null,null,null,null,null,null,null,"Total Sequences in Data",{"$f":"4994-COUNTBLANK(L7:L5000)","v":46},null,null,null,null,"Total Sequences in Block Data",{"$f":"COUNTA(L7:L14)","v":8},null,null,null,"Total Sequences in Block Data",{"$f":"COUNTA(L15:L21)","v":7},null,null,null,"Total Sequences in Block Data",{"$f":"COUNTA(L22:L29)","v":8},null,null,null,"Total Sequences in Block Data",{"$f":"COUNTA(L30:L37)","v":8},null,null,null,"Total Sequences in Block Data",{"$f":"COUNTA(L38:L44)","v":7},null,null,null,"Total Sequences in Block Data",{"$f":"COUNTA(L45:L52)","v":8}]
[null,null,null,null,null,null,null,null,null,null,null,null,null,null,null,"Total Sequences in Summary",{"$f":"SUM(O7:O14)","v":46},null,null,null,null,"Total Sequences in Block Summary",{"$f":"SUM(U7:U14)","v":8},null,null,null,"Total Sequences in Block Summary",{"$f":"SUM(Z7:Z14)","v":7},null,null,null,"Total Sequences in Block Summary",{"$f":"SUM(AE7:AE14)","v":8},null,null,null,"Total Sequences in Block Summary",{"$f":"SUM(AJ7:AJ14)","v":8},null,null,null,"Total Sequences in Block Summary",{"$f":"SUM(AO7:AO14)","v":7},null,null,null,"Total Sequences in Block Summary",{"$f":"SUM(AT7:AT14)","v":8}]
[null,null,null,null,null,null,null,null,null,null,null,null,null,null,null,null,null,null,null,"Block 1",null,null,null,null,"Block 2",null,null,null,null,"Block 3",null,null,null,null,"Block 4",null,null,null,null,"Block 5",null,null,null,null,"Block 6"]
["Sequence\nComponent\n1","Time\n1","Sequence\nComponent\n2","Time\n2","Sequence\nComponent\n3","Time\n3","Sequence\nComponent\n4","Time\n4","Sequence\nComponent\n5","Time\n5","Correct?\n0=No 1=Yes","Sequence",null,"Frequency",null,"Relative Frequency","Variability",null,null,"Frequency",null,"Relative Frequency","Variability",null,"Frequency",null,"Relative Frequency","Variability",null,"Frequency",null,"Relative Frequency","Variability",null,"Frequency",null,"Relative Frequency","Variability",null,"Frequency",null,"Relative Frequency","Variability",null,"Frequency",null,"Relative Frequency","Variability"]
[21,8,21,12,21,16,null,null,null,null,0,222,null,111,{"$f":"COUNTIF($L$7:$L$500,N7)","v":0},{"$f":"O7/$Q$4","v":0},{"$f":"IF(P7=0,0,(P7*((LOG(P7))/LOG(2))))","v":0},null,null,{"$f":"N7","v":111},{"$f":"COUNTIF(L7:L14,T7)","v":0},{"$f":"U7/(W4-U14)","v":0},{"$f":"IF(V7=0,0,(V7*((LOG(V7))/LOG(2))))","v":0},null,{"$f":"N7","v":111},{"$f":"COUNTIF(L15:L21,Y7)","v":0},{"$f":"Z7/(AB4-Z14)","v":0},{"$f":"IF(AA7=0,0,(AA7*((LOG(AA7))/LOG(2))))","v":0},null,{"$f":"N7","v":111},{"$f":"COUNTIF(L22:L29,AD7)","v":0},{"$f":"AE7/(AG4-AE14)","v":0},{"$f":"IF(AF7=0,0,(AF7*((LOG(AF7))/LOG(2))))","v":0},null,{"$f":"N7","v":111},{"$f":"COUNTIF(L30:L37,AI7)","v":0},{"$f":"AJ7/(AL4-AJ14)","v":0},{"$f":"IF(AK7=0,0,(AK7*((LOG(AK7))/LOG(2))))","v":0},null,{"$f":"N7","v":111},{"$f":"COUNTIF(L38:L44,AN7)","v":0},{"$f":"AO7/(AQ4-AO14)","v":{"$error":"#DIV/0!"}},{"$f":"IF(AP7=0,0,(AP7*((LOG(AP7))/LOG(2))))","v":{"$error":"#DIV/0!"}},null,{"$f":"N7","v":111},{"$f":"COUNTIF(L45:L52,AS7)","v":0},{"$f":"AT7/(AV4-AT14)","v":0},{"$f":"IF(AU7=0,0,(AU7*((LOG(AU7))/LOG(2))))","v":0}]
[21,119,21,123,21,129,null,null,null,null,0,222,null,112,{"$f":"COUNTIF($L$7:$L$500,N8)","v":0},{"$f":"O8/$Q$4","v":0},{"$f":"IF(P8=0,0,(P8*((LOG(P8))/LOG(2))))","v":0},null,null,{"$f":"N8","v":112},{"$f":"COUNTIF(L7:L14,T8)","v":0},{"$f":"U8/(W4-U14)","v":0},{"$f":"IF(V8=0,0,(V8*((LOG(V8))/LOG(2))))","v":0},null,{"$f":"N8","v":112},{"$f":"COUNTIF(L15:L21,Y8)","v":0},{"$f":"Z8/(AB4-Z14)","v":0},{"$f":"IF(AA8=0,0,(AA8*((LOG(AA8))/LOG(2))))","v":0},null,{"$f":"N8","v":112},{"$f":"COUNTIF(L22:L29,AD8)","v":0},{"$f":"AE8/(AG4-AE14)","v":0},{"$f":"IF(AF8=0,0,(AF8*((LOG(AF8))/LOG(2))))","v":0},null,{"$f":"N8","v":112},{"$f":"COUNTIF(L30:L37,AI8)","v":0},{"$f":"AJ8/(AL4-AJ14)","v":0},{"$f":"IF(AK8=0,0,(AK8*((LOG(AK8))/LOG(2))))","v":0},null,{"$f":"N8","v":112},{"$f":"COUNTIF(L38:L44,AN8)","v":0},{"$f":"AO8/(AQ4-AO14)","v":{"$error":"#DIV/0!"}},{"$f":"IF(AP8=0,0,(AP8*((LOG(AP8))/LOG(2))))","v":{"$error":"#DIV/0!"}},null,{"$f":"N8","v":112},{"$f":"COUNTIF(L45:L52,AS8)","v":0},{"$f":"AT8/(AV4-AT14)","v":0},{"$f":"IF(AU8=0,0,(AU8*((LOG(AU8))/LOG(2))))","v":0}]
[12,347,23,352,23,362,null,null,null,null,0,122,null,121,{"$f":"COUNTIF($L$7:$L$500,N9)","v":0},{"$f":"O9/$Q$4","v":0},{"$f":"IF(P9=0,0,(P9*((LOG(P9))/LOG(2))))","v":0},null,null,{"$f":"N9","v":121},{"$f":"COUNTIF(L7:L14,T9)","v":0},{"$f":"U9/(W4-U14)","v":0},{"$f":"IF(V9=0,0,(V9*((LOG(V9))/LOG(2))))","v":0},null,{"$f":"N9","v":121},{"$f":"COUNTIF(L15:L21,Y9)","v":0},{"$f":"Z9/(AB4-Z14)","v":0},{"$f":"IF(AA9=0,0,(AA9*((LOG(AA9))/LOG(2))))","v":0},null,{"$f":"N9","v":121},{"$f":"COUNTIF(L22:L29,AD9)","v":0},{"$f":"AE9/(AG4-AE14)","v":0},{"$f":"IF(AF9=0,0,(AF9*((LOG(AF9))/LOG(2))))","v":0},null,{"$f":"N9","v":121},{"$f":"COUNTIF(L30:L37,AI9)","v":0},{"$f":"AJ9/(AL4-AJ14)","v":0},{"$f":"IF(AK9=0,0,(AK9*((LOG(AK9))/LOG(2))))","v":0},null,{"$f":"N9","v":121},{"$f":"COUNTIF(L38:L44,AN9)","v":0},{"$f":"AO9/(AQ4-AO14)","v":{"$error":"#DIV/0!"}},{"$f":"IF(AP9=0,0,(AP9*((LOG(AP9))/LOG(2))))","v":{"$error":"#DIV/0!"}},null,{"$f":"N9","v":121},{"$f":"COUNTIF(L45:L52,AS9)","v":0},{"$f":"AT9/(AV4-AT14)","v":0},{"$f":"IF(AU9=0,0,(AU9*((LOG(AU9))/LOG(2))))","v":0}]
[21,472,21,478,21,486,null,null,null,null,0,222,null,122,{"$f":"COUNTIF($L$7:$L$500,N10)","v":6},{"$f":"O10/$Q$4","v":0.13043478260869565},{"$f":"IF(P10=0,0,(P10*((LOG(P10))/LOG(2))))","v":-0.3832955811307639},null,null,{"$f":"N10","v":122},{"$f":"COUNTIF(L7:L14,T10)","v":1},{"$f":"U10/(W4-U14)","v":1},{"$f":"IF(V10=0,0,(V10*((LOG(V10))/LOG(2))))","v":0},null,{"$f":"N10","v":122},{"$f":"COUNTIF(L15:L21,Y10)","v":1},{"$f":"Z10/(AB4-Z14)","v":1},{"$f":"IF(AA10=0,0,(AA10*((LOG(AA10))/LOG(2))))","v":0},null,{"$f":"N10","v":122},{"$f":"COUNTIF(L22:L29,AD10)","v":1},{"$f":"AE10/(AG4-AE14)","v":1},{"$f":"IF(AF10=0,0,(AF10*((LOG(AF10))/LOG(2))))","v":0},null,{"$f":"N10","v":122},{"$f":"COUNTIF(L30:L37,AI10)","v":1},{"$f":"AJ10/(AL4-AJ14)","v":1},{"$f":"IF(AK10=0,0,(AK10*((LOG(AK10))/LOG(2))))","v":0},null,{"$f":"N10","v":122},{"$f":"COUNTIF(L38:L44,AN10)","v":0},{"$f":"AO10/(AQ4-AO14)","v":{"$error":"#DIV/0!"}},{"$f":"IF(AP10=0,0,(AP10*((LOG(AP10))/LOG(2))))","v":{"$error":"#DIV/0!"}},null,{"$f":"N10","v":122},{"$f":"COUNTIF(L45:L52,AS10)","v":2},{"$f":"AT10/(AV4-AT14)","v":1},{"$f":"IF(AU10=0,0,(AU10*((LOG(AU10))/LOG(2))))","v":0}]
[21,674,21,685,21,692,null,null,null,null,0,222,null,211,{"$f":"COUNTIF($L$7:$L$500,N11)","v":0},{"$f":"O11/$Q$4","v":0},{"$f":"IF(P11=0,0,(P11*((LOG(P11))/LOG(2))))","v":0},null,null,{"$f":"N11","v":211},{"$f":"COUNTIF(L7:L14,T11)","v":0},{"$f":"U11/(W4-U14)","v":0},{"$f":"IF(V11=0,0,(V11*((LOG(V11))/LOG(2))))","v":0},null,{"$f":"N11","v":211},{"$f":"COUNTIF(L15:L21,Y11)","v":0},{"$f":"Z11/(AB4-Z14)","v":0},{"$f":"IF(AA11=0,0,(AA11*((LOG(AA11))/LOG(2))))","v":0},null,{"$f":"N11","v":211},{"$f":"COUNTIF(L22:L29,AD11)","v":0},{"$f":"AE11/(AG4-AE14)","v":0},{"$f":"IF(AF11=0,0,(AF11*((LOG(AF11))/LOG(2))))","v":0},null,{"$f":"N11","v":211},{"$f":"COUNTIF(L30:L37,AI11)","v":0},{"$f":"AJ11/(AL4-AJ14)","v":0},{"$f":"IF(AK11=0,0,(AK11*((LOG(AK11))/LOG(2))))","v":0},null,{"$f":"N11","v":211},{"$f":"COUNTIF(L38:L44,AN11)","v":0},{"$f":"AO11/(AQ4-AO14)","v":{"$error":"#DIV/0!"}},{"$f":"IF(AP11=0,0,(AP11*((LOG(AP11))/LOG(2))))","v":{"$error":"#DIV/0!"}},null,{"$f":"N11","v":211},{"$f":"COUNTIF(L45:L52,AS11)","v":0},{"$f":"AT11/(AV4-AT14)","v":0},{"$f":"IF(AU11=0,0,(AU11*((LOG(AU11))/LOG(2))))","v":0}]
[21,898,21,906,21,908,null,null,null,null,0,222,null,212,{"$f":"COUNTIF($L$7:$L$500,N12)","v":0},{"$f":"O12/$Q$4","v":0},{"$f":"IF(P12=0,0,(P12*((LOG(P12))/LOG(2))))","v":0},null,null,{"$f":"N12","v":212},{"$f":"COUNTIF(L7:L14,T12)","v":0},{"$f":"U12/(W4-U14)","v":0},{"$f":"IF(V12=0,0,(V12*((LOG(V12))/LOG(2))))","v":0},null,{"$f":"N12","v":212},{"$f":"COUNTIF(L15:L21,Y12)","v":0},{"$f":"Z12/(AB4-Z14)","v":0},{"$f":"IF(AA12=0,0,(AA12*((LOG(AA12))/LOG(2))))","v":0},null,{"$f":"N12","v":212},{"$f":"COUNTIF(L22:L29,AD12)","v":0},{"$f":"AE12/(AG4-AE14)","v":0},{"$f":"IF(AF12=0,0,(AF12*((LOG(AF12))/LOG(2))))","v":0},null,{"$f":"N12","v":212},{"$f":"COUNTIF(L30:L37,AI12)","v":0},{"$f":"AJ12/(AL4-AJ14)","v":0},{"$f":"IF(AK12=0,0,(AK12*((LOG(AK12))/LOG(2))))","v":0},null,{"$f":"N12","v":212},{"$f":"COUNTIF(L38:L44,AN12)","v":0},{"$f":"AO12/(AQ4-AO14)","v":{"$error":"#DIV/0!"}},{"$f":"IF(AP12=0,0,(AP12*((LOG(AP12))/LOG(2))))","v":{"$error":"#DIV/0!"}},null,{"$f":"N12","v":212},{"$f":"COUNTIF(L45:L52,AS12)","v":0},{"$f":"AT12/(AV4-AT14)","v":0},{"$f":"IF(AU12=0,0,(AU12*((LOG(AU12))/LOG(2))))","v":0}]
[21,1074,21,1099,21,1107,null,null,null,null,0,222,null,221,{"$f":"COUNTIF($L$7:$L$500,N13)","v":0},{"$f":"O13/$Q$4","v":0},{"$f":"IF(P13=0,0,(P13*((LOG(P13))/LOG(2))))","v":0},null,null,{"$f":"N13","v":221},{"$f":"COUNTIF(L7:L14,T13)","v":0},{"$f":"U13/(W4-U14)","v":0},{"$f":"IF(V13=0,0,(V13*((LOG(V13))/LOG(2))))","v":0},null,{"$f":"N13","v":221},{"$f":"COUNTIF(L15:L21,Y13)","v":0},{"$f":"Z13/(AB4-Z14)","v":0},{"$f":"IF(AA13=0,0,(AA13*((LOG(AA13))/LOG(2))))","v":0},null,{"$f":"N13","v":221},{"$f":"COUNTIF(L22:L29,AD13)","v":0},{"$f":"AE13/(AG4-AE14)","v":0},{"$f":"IF(AF13=0,0,(AF13*((LOG(AF13))/LOG(2))))","v":0},null,{"$f":"N13","v":221},{"$f":"COUNTIF(L30:L37,AI13)","v":0},{"$f":"AJ13/(AL4-AJ14)","v":0},{"$f":"IF(AK13=0,0,(AK13*((LOG(AK13))/LOG(2))))","v":0},null,{"$f":"N13","v":221},{"$f":"COUNTIF(L38:L44,AN13)","v":0},{"$f":"AO13/(AQ4-AO14)","v":{"$error":"#DIV/0!"}},{"$f":"IF(AP13=0,0,(AP13*((LOG(AP13))/LOG(2))))","v":{"$error":"#DIV/0!"}},null,{"$f":"N13","v":221},{"$f":"COUNTIF(L45:L52,AS13)","v":0},{"$f":"AT13/(AV4-AT14)","v":0},{"$f":"IF(AU13=0,0,(AU13*((LOG(AU13))/LOG(2))))","v":0}]
[21,1206,21,1225,21,1233,null,null,null,null,0,222,null,222,{"$f":"COUNTIF($L$7:$L$500,N14)","v":40},{"$f":"O14/$Q$4","v":0.86956521739130432},{"$f":"IF(P14=0,0,(P14*((LOG(P14))/LOG(2))))","v":-0.17533379232143528},null,null,{"$f":"N14","v":222},{"$f":"COUNTIF(L7:L14,T14)","v":7},null,null,null,{"$f":"N14","v":222},{"$f":"COUNTIF(L15:L21,Y14)","v":6},null,null,null,{"$f":"N14","v":222},{"$f":"COUNTIF(L22:L29,AD14)","v":7},null,null,null,{"$f":"N14","v":222},{"$f":"COUNTIF(L30:L37,AI14)","v":7},null,null,null,{"$f":"N14","v":222},{"$f":"COUNTIF(L38:L44,AN14)","v":7},null,null,null,{"$f":"N14","v":222},{"$f":"COUNTIF(L45:L52,AS14)","v":6}]
[21,1370,21,1398,21,1420,null,null,null,null,0,222,null,null,null,{"$f":"SUM(P7:P14)","v":1},{"$f":"-SUM(Q7:Q14)","v":0.55862937345219921},null,null,null,null,{"$f":"SUM(V7:V14)","v":1},{"$f":"-SUM(W7:W14)","v":0},null,null,null,{"$f":"SUM(AA7:AA14)","v":1},{"$f":"-SUM(AB7:AB14)","v":0},null,null,null,{"$f":"SUM(AF7:AF14)","v":1},{"$f":"-SUM(AG7:AG14)","v":0},null,null,null,{"$f":"SUM(AK7:AK14)","v":1},{"$f":"-SUM(AL7:AL14)","v":0},null,null,null,{"$f":"SUM(AP7:AP14)","v":{"$error":"#DIV/0!"}},{"$f":"-SUM(AQ7:AQ14)","v":{"$error":"#DIV/0!"}},null,null,null,{"$f":"SUM(AU7:AU14)","v":1},{"$f":"-SUM(AV7:AV14)","v":0}]
[21,1541,21,1547,21,1567,null,null,null,null,0,222,null,null,null,"U=",{"$f":"Q15/(LOG(Q4)/LOG(2))","v":0.101135712407393},null,null,null,null,"U1=",{"$f":"W15/(LOG(W4)/LOG(2))","v":0},null,null,null,"U2=",{"$f":"AB15/(LOG(AB4)/LOG(2))","v":0},null,null,null,"U3=",{"$f":"AG15/(LOG(AG4)/LOG(2))","v":0},null,null,null,"U4=",{"$f":"AL15/(LOG(AL4)/LOG(2))","v":0},null,null,null,"U5=",{"$f":"AQ15/(LOG(AQ4)/LOG(2))","v":{"$error":"#DIV/0!"}},null,null,null,"U6=",{"$f":"AV15/(LOG(AV4)/LOG(2))","v":0}]
[21,1730,21,1763,21,1780,null,null,null,null,0,222]
[21,1941,21,1992,21,2029,null,null,null,null,0,222]
[21,2124,21,2152,21,2162,null,null,null,null,0,222,null,"Total Target Seq"]
[12,2311,23,2338,23,2346,null,null,null,null,0,122,null,{"$f":"COUNTIF(L7:L52,G3)","v":40},null,8,7,8,8,7,8]
[21,2439,21,2453,21,2460,null,null,null,null,0,222,null,null,null,"% of reinforcement given in 6 equal intervals based on number of trials "]
[21,2615,21,2644,21,2654,null,null,null,null,0,222,null,null,null,"%_1","%_2","%_3","%_4","%_5","%_6"]
[21,2777,21,2787,21,2790,null,null,null,null,0,222,null,null,"target sequence",{"$f":"$G$3","v":222},{"$f":"$G$3","v":222},{"$f":"$G$3","v":222},{"$f":"$G$3","v":222},{"$f":"$G$3","v":222},{"$f":"$G$3","v":222}]
[21,2899,21,2908,21,2927,null,null,null,null,0,222,null,null,"total reinforcement",{"$f":"U14","v":7},{"$f":"Z14","v":6},{"$f":"AE14","v":7},{"$f":"AJ14","v":7},{"$f":"AO14","v":7},{"$f":"AT14","v":6}]
[21,3028,21,3038,21,3045,null,null,null,null,0,222,null,null,"% target"]
[21,3311,21,3357,21,3366,null,null,null,null,0,222,null,null,"CCRF"]
[12,3477,23,3483,23,3519,null,null,null,null,0,122,null,null,"% CCRf"]
[21,3613,21,3620,21,3629,null,null,null,null,0,222,null,null,"average response rate",{"$f":"F14/P20","v":154.125},{"$f":"(F21-F14)/Q20","v":175.28571428571428},{"$f":"(F29-F21)/R20","v":160.25},{"$f":"(F37-F29)/S20","v":144.375},{"$f":"(F44-F37)/T20","v":154.14285714285714},{"$f":"(F52-F44)/U20","v":151.5}]
[21,3734,21,3739,21,3742,null,null,null,null,0,222]
[21,3847,21,3885,21,3894,null,null,null,null,0,222]
[12,3985,23,3995,23,3999,null,null,null,null,0,122]
[21,4096,21,4105,21,4111,null,null,null,null,0,222]
[21,4224,21,4229,21,4236,null,null,null,null,0,222]
[21,4341,21,4349,21,4361,null,null,null,null,0,222]
[21,4525,21,4530,21,4539,null,null,null,null,0,222]
[21,4670,21,4724,21,4731,null,null,null,null,0,222]
[21,4870,21,4879,21,4897,null,null,null,null,0,222]
[21,5000,21,5007,21,5015,null,null,null,null,0,222]
[21,5205,21,5216,21,5238,null,null,null,null,0,222]
[21,5370,21,5381,21,5397,null,null,null,null,0,222]
[21,5502,21,5507,21,5510,null,null,null,null,0,222]
[21,5642,21,5649,21,5657,null,null,null,null,0,222]
[21,5816,21,5824,21,5830,null,null,null,null,0,222]
[21,5960,21,5968,21,5976,null,null,null,null,0,222]
[12,6069,23,6075,23,6081,null,null,null,null,0,122]
[21,6236,21,6252,21,6261,null,null,null,null,0,222]
[12,6398,23,6424,23,6432,null,null,null,null,0,122]
[21,6534,21,6538,21,6545,null,null,null,null,0,222]
[21,6673,21,6679,21,6685,null,null,null,null,0,222]
[21,6851,21,6858,21,6872,null,null,null,null,0,222]
[21,7013,21,7042,21,7049,null,null,null,null,0,222]
[21,7166,21,7175,21,7188,null,null,null,null,1,222]

{"sheet":"!M830B10.Gus","index":10,"n_rows":77,"n_cols":48,"rows_kept":77,"cut":false,"hidden":false,"merged":[[4,39,4,42],[5,39,5,40],[4,44,4,47],[5,44,5,45],[4,24,4,27],[5,24,5,25],[4,29,4,32],[5,29,5,30],[4,34,4,37],[5,34,5,35],[1,1,1,2],[5,13,5,14],[18,13,18,14],[19,13,19,14],[4,19,4,22],[5,19,5,20]]}
["Report for:!M830B10.Gus"]
["Date:","<date>"]
["Hen:","<hen>",null,null,null,"Correct Sequence",{"$f":"Start!J2","v":222},null,null,null,null,null,null,null,null,"Total Sequences in Data",{"$f":"4994-COUNTBLANK(L7:L5000)","v":71},null,null,null,null,"Total Sequences in Block Data",{"$f":"COUNTA(L7:L18)","v":12},null,null,null,"Total Sequences in Block Data",{"$f":"COUNTA(L19:L30)","v":12},null,null,null,"Total Sequences in Block Data",{"$f":"COUNTA(L31:L41)","v":11},null,null,null,"Total Sequences in Block Data",{"$f":"COUNTA(L42:L53)","v":12},null,null,null,"Total Sequences in Block Data",{"$f":"COUNTA(L54:L65)","v":12},null,null,null,"Total Sequences in Block Data",{"$f":"COUNTA(L66:L77)","v":12}]
[null,null,null,null,null,null,null,null,null,null,null,null,null,null,null,"Total Sequences in Summary",{"$f":"SUM(O7:O14)","v":71},null,null,null,null,"Total Sequences in Block Summary",{"$f":"SUM(U7:U14)","v":12},null,null,null,"Total Sequences in Block Summary",{"$f":"SUM(Z7:Z14)","v":12},null,null,null,"Total Sequences in Block Summary",{"$f":"SUM(AE7:AE14)","v":11},null,null,null,"Total Sequences in Block Summary",{"$f":"SUM(AJ7:AJ14)","v":12},null,null,null,"Total Sequences in Block Summary",{"$f":"SUM(AO7:AO14)","v":12},null,null,null,"Total Sequences in Block Summary",{"$f":"SUM(AT7:AT14)","v":12}]
[null,null,null,null,null,null,null,null,null,null,null,null,null,null,null,null,null,null,null,"Block 1",null,null,null,null,"Block 2",null,null,null,null,"Block 3",null,null,null,null,"Block 4",null,null,null,null,"Block 5",null,null,null,null,"Block 6"]
["Sequence\nComponent\n1","Time\n1","Sequence\nComponent\n2","Time\n2","Sequence\nComponent\n3","Time\n3","Sequence\nComponent\n4","Time\n4","Sequence\nComponent\n5","Time\n5","Correct?\n0=No 1=Yes","Sequence",null,"Frequency",null,"Relative Frequency","Variability",null,null,"Frequency",null,"Relative Frequency","Variability",null,"Frequency",null,"Relative Frequency","Variability",null,"Frequency",null,"Relative Frequency","Variability",null,"Frequency",null,"Relative Frequency","Variability",null,"Frequency",null,"Relative Frequency","Variability",null,"Frequency",null,"Relative Frequency","Variability"]
[21,21,21,31,21,43,null,null,null,null,0,222,null,111,{"$f":"COUNTIF($L$7:$L$500,N7)","v":0},{"$f":"O7/$Q$4","v":0},{"$f":"IF(P7=0,0,(P7*((LOG(P7))/LOG(2))))","v":0},null,null,{"$f":"N7","v":111},{"$f":"COUNTIF(L7:L18,T7)","v":0},{"$f":"U7/(W4-U14)","v":0},{"$f":"IF(V7=0,0,(V7*((LOG(V7))/LOG(2))))","v":0},null,{"$f":"N7","v":111},{"$f":"COUNTIF(L19:L30,Y7)","v":0},{"$f":"Z7/(AB4-Z14)","v":0},{"$f":"IF(AA7=0,0,(AA7*((LOG(AA7))/LOG(2))))","v":0},null,{"$f":"N7","v":111},{"$f":"COUNTIF(L31:L41,AD7)","v":0},{"$f":"AE7/(AG4-AE14)","v":0},{"$f":"IF(AF7=0,0,(AF7*((LOG(AF7))/LOG(2))))","v":0},null,{"$f":"N7","v":111},{"$f":"COUNTIF(L42:L53,AI7)","v":0},{"$f":"AJ7/(AL4-AJ14)","v":0},{"$f":"IF(AK7=0,0,(AK7*((LOG(AK7))/LOG(2))))","v":0},null,{"$f":"N7","v":111},{"$f":"COUNTIF(L54:L65,AN7)","v":0},{"$f":"AO7/(AQ4-AO14)","v":0},{"$f":"IF(AP7=0,0,(AP7*((LOG(AP7))/LOG(2))))","v":0},null,{"$f":"N7","v":111},{"$f":"COUNTIF(L66:L77,AS7)","v":0},{"$f":"AT7/(AV4-AT14)","v":0},{"$f":"IF(AU7=0,0,(AU7*((LOG(AU7))/LOG(2))))","v":0}]
[21,138,21,147,21,154,null,null,null,null,0,222,null,112,{"$f":"COUNTIF($L$7:$L$500,N8)","v":1},{"$f":"O8/$Q$4","v":1.4084507042253521E-2},{"$f":"IF(P8=0,0,(P8*((LOG(P8))/LOG(2))))","v":-8.661615661274201E-2},null,null,{"$f":"N8","v":112},{"$f":"COUNTIF(L7:L18,T8)","v":1},{"$f":"U8/(W4-U14)","v":0.16666666666666666},{"$f":"IF(V8=0,0,(V8*((LOG(V8))/LOG(2))))","v":-0.43082708345352599},null,{"$f":"N8","v":112},{"$f":"COUNTIF(L19:L30,Y8)","v":0},{"$f":"Z8/(AB4-Z14)","v":0},{"$f":"IF(AA8=0,0,(AA8*((LOG(AA8))/LOG(2))))","v":0},null,{"$f":"N8","v":112},{"$f":"COUNTIF(L31:L41,AD8)","v":0},{"$f":"AE8/(AG4-AE14)","v":0},{"$f":"IF(AF8=0,0,(AF8*((LOG(AF8))/LOG(2))))","v":0},null,{"$f":"N8","v":112},{"$f":"COUNTIF(L42:L53,AI8)","v":0},{"$f":"AJ8/(AL4-AJ14)","v":0},{"$f":"IF(AK8=0,0,(AK8*((LOG(AK8))/LOG(2))))","v":0},null,{"$f":"N8","v":112},{"$f":"COUNTIF(L54:L65,AN8)","v":0},{"$f":"AO8/(AQ4-AO14)","v":0},{"$f":"IF(AP8=0,0,(AP8*((LOG(AP8))/LOG(2))))","v":0},null,{"$f":"N8","v":112},{"$f":"COUNTIF(L66:L77,AS8)","v":0},{"$f":"AT8/(AV4-AT14)","v":0},{"$f":"IF(AU8=0,0,(AU8*((LOG(AU8))/LOG(2))))","v":0}]
[12,247,23,253,23,255,null,null,null,null,0,122,null,121,{"$f":"COUNTIF($L$7:$L$500,N9)","v":1},{"$f":"O9/$Q$4","v":1.4084507042253521E-2},{"$f":"IF(P9=0,0,(P9*((LOG(P9))/LOG(2))))","v":-8.661615661274201E-2},null,null,{"$f":"N9","v":121},{"$f":"COUNTIF(L7:L18,T9)","v":0},{"$f":"U9/(W4-U14)","v":0},{"$f":"IF(V9=0,0,(V9*((LOG(V9))/LOG(2))))","v":0},null,{"$f":"N9","v":121},{"$f":"COUNTIF(L19:L30,Y9)","v":1},{"$f":"Z9/(AB4-Z14)","v":0.16666666666666666},{"$f":"IF(AA9=0,0,(AA9*((LOG(AA9))/LOG(2))))","v":-0.43082708345352599},null,{"$f":"N9","v":121},{"$f":"COUNTIF(L31:L41,AD9)","v":0},{"$f":"AE9/(AG4-AE14)","v":0},{"$f":"IF(AF9=0,0,(AF9*((LOG(AF9))/LOG(2))))","v":0},null,{"$f":"N9","v":121},{"$f":"COUNTIF(L42:L53,AI9)","v":0},{"$f":"AJ9/(AL4-AJ14)","v":0},{"$f":"IF(AK9=0,0,(AK9*((LOG(AK9))/LOG(2))))","v":0},null,{"$f":"N9","v":121},{"$f":"COUNTIF(L54:L65,AN9)","v":0},{"$f":"AO9/(AQ4-AO14)","v":0},{"$f":"IF(AP9=0,0,(AP9*((LOG(AP9))/LOG(2))))","v":0},null,{"$f":"N9","v":121},{"$f":"COUNTIF(L66:L77,AS9)","v":0},{"$f":"AT9/(AV4-AT14)","v":0},{"$f":"IF(AU9=0,0,(AU9*((LOG(AU9))/LOG(2))))","v":0}]
[12,635,23,645,23,677,null,null,null,null,0,122,null,122,{"$f":"COUNTIF($L$7:$L$500,N10)","v":20},{"$f":"O10/$Q$4","v":0.28169014084507044},{"$f":"IF(P10=0,0,(P10*((LOG(P10))/LOG(2))))","v":-0.51487859848375206},null,null,{"$f":"N10","v":122},{"$f":"COUNTIF(L7:L18,T10)","v":3},{"$f":"U10/(W4-U14)","v":0.5},{"$f":"IF(V10=0,0,(V10*((LOG(V10))/LOG(2))))","v":-0.5},null,{"$f":"N10","v":122},{"$f":"COUNTIF(L19:L30,Y10)","v":4},{"$f":"Z10/(AB4-Z14)","v":0.66666666666666663},{"$f":"IF(AA10=0,0,(AA10*((LOG(AA10))/LOG(2))))","v":-0.38997500048077083},null,{"$f":"N10","v":122},{"$f":"COUNTIF(L31:L41,AD10)","v":3},{"$f":"AE10/(AG4-AE14)","v":0.42857142857142855},{"$f":"IF(AF10=0,0,(AF10*((LOG(AF10))/LOG(2))))","v":-0.52388246628704915},null,{"$f":"N10","v":122},{"$f":"COUNTIF(L42:L53,AI10)","v":3},{"$f":"AJ10/(AL4-AJ14)","v":0.6},{"$f":"IF(AK10=0,0,(AK10*((LOG(AK10))/LOG(2))))","v":-0.44217935649972373},null,{"$f":"N10","v":122},{"$f":"COUNTIF(L54:L65,AN10)","v":3},{"$f":"AO10/(AQ4-AO14)","v":1},{"$f":"IF(AP10=0,0,(AP10*((LOG(AP10))/LOG(2))))","v":0},null,{"$f":"N10","v":122},{"$f":"COUNTIF(L66:L77,AS10)","v":4},{"$f":"AT10/(AV4-AT14)","v":0.8},{"$f":"IF(AU10=0,0,(AU10*((LOG(AU10))/LOG(2))))","v":-0.25754247590988982}]
[21,774,21,779,21,787,null,null,null,null,0,222,null,211,{"$f":"COUNTIF($L$7:$L$500,N11)","v":0},{"$f":"O11/$Q$4","v":0},{"$f":"IF(P11=0,0,(P11*((LOG(P11))/LOG(2))))","v":0},null,null,{"$f":"N11","v":211},{"$f":"COUNTIF(L7:L18,T11)","v":0},{"$f":"U11/(W4-U14)","v":0},{"$f":"IF(V11=0,0,(V11*((LOG(V11))/LOG(2))))","v":0},null,{"$f":"N11","v":211},{"$f":"COUNTIF(L19:L30,Y11)","v":0},{"$f":"Z11/(AB4-Z14)","v":0},{"$f":"IF(AA11=0,0,(AA11*((LOG(AA11))/LOG(2))))","v":0},null,{"$f":"N11","v":211},{"$f":"COUNTIF(L31:L41,AD11)","v":0},{"$f":"AE11/(AG4-AE14)","v":0},{"$f":"IF(AF11=0,0,(AF11*((LOG(AF11))/LOG(2))))","v":0},null,{"$f":"N11","v":211},{"$f":"COUNTIF(L42:L53,AI11)","v":0},{"$f":"AJ11/(AL4-AJ14)","v":0},{"$f":"IF(AK11=0,0,(AK11*((LOG(AK11))/LOG(2))))","v":0},null,{"$f":"N11","v":211},{"$f":"COUNTIF(L54:L65,AN11)","v":0},{"$f":"AO11/(AQ4-AO14)","v":0},{"$f":"IF(AP11=0,0,(AP11*((LOG(AP11))/LOG(2))))","v":0},null,{"$f":"N11","v":211},{"$f":"COUNTIF(L66:L77,AS11)","v":0},{"$f":"AT11/(AV4-AT14)","v":0},{"$f":"IF(AU11=0,0,(AU11*((LOG(AU11))/LOG(2))))","v":0}]
[21,918,12,924,23,927,null,null,null,null,0,212,null,212,{"$f":"COUNTIF($L$7:$L$500,N12)","v":6},{"$f":"O12/$Q$4","v":8.4507042253521125E-2},{"$f":"IF(P12=0,0,(P12*((LOG(P12))/LOG(2))))","v":-0.30124940440424158},null,null,{"$f":"N12","v":212},{"$f":"COUNTIF(L7:L18,T12)","v":1},{"$f":"U12/(W4-U14)","v":0.16666666666666666},{"$f":"IF(V12=0,0,(V12*((LOG(V12))/LOG(2))))","v":-0.43082708345352599},null,{"$f":"N12","v":212},{"$f":"COUNTIF(L19:L30,Y12)","v":1},{"$f":"Z12/(AB4-Z14)","v":0.16666666666666666},{"$f":"IF(AA12=0,0,(AA12*((LOG(AA12))/LOG(2))))","v":-0.43082708345352599},null,{"$f":"N12","v":212},{"$f":"COUNTIF(L31:L41,AD12)","v":3},{"$f":"AE12/(AG4-AE14)","v":0.42857142857142855},{"$f":"IF(AF12=0,0,(AF12*((LOG(AF12))/LOG(2))))","v":-0.52388246628704915},null,{"$f":"N12","v":212},{"$f":"COUNTIF(L42:L53,AI12)","v":1},{"$f":"AJ12/(AL4-AJ14)","v":0.2},{"$f":"IF(AK12=0,0,(AK12*((LOG(AK12))/LOG(2))))","v":-0.46438561897747244},null,{"$f":"N12","v":212},{"$f":"COUNTIF(L54:L65,AN12)","v":0},{"$f":"AO12/(AQ4-AO14)","v":0},{"$f":"IF(AP12=0,0,(AP12*((LOG(AP12))/LOG(2))))","v":0},null,{"$f":"N12","v":212},{"$f":"COUNTIF(L66:L77,AS12)","v":0},{"$f":"AT12/(AV4-AT14)","v":0},{"$f":"IF(AU12=0,0,(AU12*((LOG(AU12))/LOG(2))))","v":0}]
[21,1153,21,1158,21,1161,null,null,null,null,0,222,null,221,{"$f":"COUNTIF($L$7:$L$500,N13)","v":4},{"$f":"O13/$Q$4","v":5.6338028169014086E-2},{"$f":"IF(P13=0,0,(P13*((LOG(P13))/LOG(2))))","v":-0.23378857011293985},null,null,{"$f":"N13","v":221},{"$f":"COUNTIF(L7:L18,T13)","v":1},{"$f":"U13/(W4-U14)","v":0.16666666666666666},{"$f":"IF(V13=0,0,(V13*((LOG(V13))/LOG(2))))","v":-0.43082708345352599},null,{"$f":"N13","v":221},{"$f":"COUNTIF(L19:L30,Y13)","v":0},{"$f":"Z13/(AB4-Z14)","v":0},{"$f":"IF(AA13=0,0,(AA13*((LOG(AA13))/LOG(2))))","v":0},null,{"$f":"N13","v":221},{"$f":"COUNTIF(L31:L41,AD13)","v":1},{"$f":"AE13/(AG4-AE14)","v":0.14285714285714285},{"$f":"IF(AF13=0,0,(AF13*((LOG(AF13))/LOG(2))))","v":-0.40105070315108626},null,{"$f":"N13","v":221},{"$f":"COUNTIF(L42:L53,AI13)","v":1},{"$f":"AJ13/(AL4-AJ14)","v":0.2},{"$f":"IF(AK13=0,0,(AK13*((LOG(AK13))/LOG(2))))","v":-0.46438561897747244},null,{"$f":"N13","v":221},{"$f":"COUNTIF(L54:L65,AN13)","v":0},{"$f":"AO13/(AQ4-AO14)","v":0},{"$f":"IF(AP13=0,0,(AP13*((LOG(AP13))/LOG(2))))","v":0},null,{"$f":"N13","v":221},{"$f":"COUNTIF(L66:L77,AS13)","v":1},{"$f":"AT13/(AV4-AT14)","v":0.2},{"$f":"IF(AU13=0,0,(AU13*((LOG(AU13))/LOG(2))))","v":-0.46438561897747244}]
[21,1292,21,1295,12,1297,null,null,null,null,0,221,null,222,{"$f":"COUNTIF($L$7:$L$500,N14)","v":39},{"$f":"O14/$Q$4","v":0.54929577464788737},{"$f":"IF(P14=0,0,(P14*((LOG(P14))/LOG(2))))","v":-0.47478100176133675},null,null,{"$f":"N14","v":222},{"$f":"COUNTIF(L7:L18,T14)","v":6},null,null,null,{"$f":"N14","v":222},{"$f":"COUNTIF(L19:L30,Y14)","v":6},null,null,null,{"$f":"N14","v":222},{"$f":"COUNTIF(L31:L41,AD14)","v":4},null,null,null,{"$f":"N14","v":222},{"$f":"COUNTIF(L42:L53,AI14)","v":7},null,null,null,{"$f":"N14","v":222},{"$f":"COUNTIF(L54:L65,AN14)","v":9},null,null,null,{"$f":"N14","v":222},{"$f":"COUNTIF(L66:L77,AS14)","v":7}]
[12,1390,14,1406,23,1412,null,null,null,null,0,112,null,null,null,{"$f":"SUM(P7:P14)","v":1},{"$f":"-SUM(Q7:Q14)","v":1.6979298879877542},null,null,null,null,{"$f":"SUM(V7:V14)","v":0.99999999999999989},{"$f":"-SUM(W7:W14)","v":1.7924812503605778},null,null,null,{"$f":"SUM(AA7:AA14)","v":0.99999999999999989},{"$f":"-SUM(AB7:AB14)","v":1.2516291673878228},null,null,null,{"$f":"SUM(AF7:AF14)","v":1},{"$f":"-SUM(AG7:AG14)","v":1.4488156357251847},null,null,null,{"$f":"SUM(AK7:AK14)","v":1},{"$f":"-SUM(AL7:AL14)","v":1.3709505944546687},null,null,null,{"$f":"SUM(AP7:AP14)","v":1},{"$f":"-SUM(AQ7:AQ14)","v":0},null,null,null,{"$f":"SUM(AU7:AU14)","v":1},{"$f":"-SUM(AV7:AV14)","v":0.72192809488736231}]
[21,1515,21,1520,21,1530,null,null,null,null,0,222,null,null,null,"U=",{"$f":"Q15/(LOG(Q4)/LOG(2))","v":0.27609751344125355},null,null,null,null,"U1=",{"$f":"W15/(LOG(W4)/LOG(2))","v":0.49999999999999989},null,null,null,"U2=",{"$f":"AB15/(LOG(AB4)/LOG(2))","v":0.3491331268140303},null,null,null,"U3=",{"$f":"AG15/(LOG(AG4)/LOG(2))","v":0.41880164010754073},null,null,null,"U4=",{"$f":"AL15/(LOG(AL4)/LOG(2))","v":0.38241699715935279},null,null,null,"U5=",{"$f":"AQ15/(LOG(AQ4)/LOG(2))","v":0},null,null,null,"U6=",{"$f":"AV15/(LOG(AV4)/LOG(2))","v":0.20137674933618921}]
[12,1652,23,1658,23,1662,null,null,null,null,0,122]
[21,1760,21,1767,21,1772,null,null,null,null,0,222]
[21,1960,21,1967,21,1972,null,null,null,null,0,222,null,"Total Target Seq"]
[12,2074,23,2094,23,2100,null,null,null,null,0,122,null,{"$f":"COUNTIF(L7:L77,G3)","v":39},null,12,12,11,12,12,12]
[12,2194,23,2197,14,2201,null,null,null,null,0,121,null,null,null,"% of reinforcement given in 6 equal intervals based on number of trials "]
[21,2392,21,2396,21,2399,null,null,null,null,0,222,null,null,null,"%_1","%_2","%_3","%_4","%_5","%_6"]
[12,2535,23,2546,23,2554,null,null,null,null,0,122,null,null,"target sequence",{"$f":"$G$3","v":222},{"$f":"$G$3","v":222},{"$f":"$G$3","v":222},{"$f":"$G$3","v":222},{"$f":"$G$3","v":222},{"$f":"$G$3","v":222}]
[12,2647,23,2651,23,2660,null,null,null,null,0,122,null,null,"total reinforcement",{"$f":"U14","v":6},{"$f":"Z14","v":6},{"$f":"AE14","v":4},{"$f":"AJ14","v":7},{"$f":"AO14","v":9},{"$f":"AT14","v":7}]
[21,2760,21,2763,21,2767,null,null,null,null,0,222,null,null,"% target"]
[12,2961,23,2973,23,2976,null,null,null,null,0,122,null,null,"CCRF"]
[21,3072,21,3079,21,3083,null,null,null,null,0,222,null,null,"% CCRf"]
[21,3214,21,3229,21,3236,null,null,null,null,0,222,null,null,"average response rate",{"$f":"F18/P20","v":147.66666666666666},{"$f":"(F30-F18)/Q20","v":141.16666666666666},{"$f":"(F41-F30)/R20","v":127.09090909090909},{"$f":"(F53-F41)/S20","v":136.41666666666666},{"$f":"(F65-F53)/T20","v":155.58333333333334},{"$f":"(F77-F65)/U20","v":146.83333333333334}]
[21,3354,12,3359,23,3361,null,null,null,null,0,212]
[21,3458,21,3462,21,3466,null,null,null,null,0,222]
[12,3616,23,3628,23,3633,null,null,null,null,0,122]
[21,3749,12,3759,23,3767,null,null,null,null,0,212]
[21,3863,21,3869,12,3870,null,null,null,null,0,221]
[21,3994,21,3997,21,4003,null,null,null,null,0,222]
[12,4090,23,4105,23,4110,null,null,null,null,0,122]
[12,4202,23,4206,23,4210,null,null,null,null,0,122]
[21,4308,21,4312,21,4316,null,null,null,null,0,222]
[21,4433,21,4439,21,4475,null,null,null,null,0,222]
[21,4642,12,4650,23,4653,null,null,null,null,0,212]
[21,4752,12,4755,23,4759,null,null,null,null,0,212]
[21,4854,21,4859,21,4864,null,null,null,null,0,222]
[12,4989,23,5001,23,5007,null,null,null,null,0,122]
[21,5103,21,5107,21,5113,null,null,null,null,0,222]
[12,5249,23,5254,23,5263,null,null,null,null,0,122]
[21,5357,12,5359,23,5363,null,null,null,null,0,212]
[21,5462,21,5466,12,5468,null,null,null,null,0,221]
[21,5574,21,5580,21,5585,null,null,null,null,0,222]
[21,5775,21,5787,21,5794,null,null,null,null,0,222]
[12,5886,23,5891,23,5894,null,null,null,null,0,122]
[21,5998,21,6005,21,6010,null,null,null,null,0,222]
[21,6144,21,6154,21,6160,null,null,null,null,0,222]
[21,6324,21,6332,21,6338,null,null,null,null,0,222]
[21,6478,21,6487,21,6501,null,null,null,null,0,222]
[21,6608,21,6624,21,6631,null,null,null,null,0,222]
[21,6798,21,6802,21,6810,null,null,null,null,0,222]
[21,6947,21,6957,21,6964,null,null,null,null,0,222]
[21,7151,21,7170,21,7180,null,null,null,null,0,222]
[21,7333,21,7341,21,7350,null,null,null,null,0,222]
[21,7482,21,7489,21,7505,null,null,null,null,0,222]
[12,7662,23,7666,23,7680,null,null,null,null,0,122]
[12,7782,23,7787,23,7792,null,null,null,null,0,122]
[12,7887,23,7894,23,7904,null,null,null,null,0,122]
[21,8000,21,8004,21,8009,null,null,null,null,0,222]
[21,8120,21,8130,21,8136,null,null,null,null,0,222]
[21,8309,21,8332,21,8368,null,null,null,null,0,222]
[21,8465,21,8482,21,8488,null,null,null,null,0,222]
[21,8668,21,8686,21,8708,null,null,null,null,0,222]
[12,8839,23,8854,23,8861,null,null,null,null,0,122]
[21,8957,21,8968,21,8975,null,null,null,null,0,222]
[12,9168,23,9175,23,9190,null,null,null,null,0,122]
[21,9284,21,9286,21,9292,null,null,null,null,0,222]
[21,9416,21,9424,21,9431,null,null,null,null,0,222]
[21,9612,21,9648,21,9666,null,null,null,null,0,222]
[12,9778,23,9784,23,9801,null,null,null,null,0,122]
[12,9895,23,9913,23,9921,null,null,null,null,0,122]
[21,10017,21,10024,12,10025,null,null,null,null,0,221]
[21,10123,21,10125,21,10130,null,null,null,null,1,222]

{"sheet":"!M831B10.Gus","index":11,"n_rows":64,"n_cols":48,"rows_kept":64,"cut":false,"hidden":false,"merged":[[4,39,4,42],[5,39,5,40],[4,44,4,47],[5,44,5,45],[4,24,4,27],[5,24,5,25],[4,29,4,32],[5,29,5,30],[4,34,4,37],[5,34,5,35],[1,1,1,2],[5,13,5,14],[18,13,18,14],[19,13,19,14],[4,19,4,22],[5,19,5,20]]}
["Report for:!M831B10.Gus"]
["Date:","<date>"]
["Hen:","<hen>",null,null,null,"Correct Sequence",{"$f":"Start!J2","v":222},null,null,null,null,null,null,null,null,"Total Sequences in Data",{"$f":"4994-COUNTBLANK(L7:L5000)","v":58},null,null,null,null,"Total Sequences in Block Data",{"$f":"COUNTA(L7:L16)","v":10},null,null,null,"Total Sequences in Block Data",{"$f":"COUNTA(L17:L25)","v":9},null,null,null,"Total Sequences in Block Data",{"$f":"COUNTA(L26:L35)","v":10},null,null,null,"Total Sequences in Block Data",{"$f":"COUNTA(L36:L45)","v":10},null,null,null,"Total Sequences in Block Data",{"$f":"COUNTA(L46:L54)","v":9},null,null,null,"Total Sequences in Block Data",{"$f":"COUNTA(L55:L64)","v":10}]
[null,null,null,null,null,null,null,null,null,null,null,null,null,null,null,"Total Sequences in Summary",{"$f":"SUM(O7:O14)","v":58},null,null,null,null,"Total Sequences in Block Summary",{"$f":"SUM(U7:U14)","v":10},null,null,null,"Total Sequences in Block Summary",{"$f":"SUM(Z7:Z14)","v":9},null,null,null,"Total Sequences in Block Summary",{"$f":"SUM(AE7:AE14)","v":10},null,null,null,"Total Sequences in Block Summary",{"$f":"SUM(AJ7:AJ14)","v":10},null,null,null,"Total Sequences in Block Summary",{"$f":"SUM(AO7:AO14)","v":9},null,null,null,"Total Sequences in Block Summary",{"$f":"SUM(AT7:AT14)","v":10}]
[null,null,null,null,null,null,null,null,null,null,null,null,null,null,null,null,null,null,null,"Block 1",null,null,null,null,"Block 2",null,null,null,null,"Block 3",null,null,null,null,"Block 4",null,null,null,null,"Block 5",null,null,null,null,"Block 6"]
["Sequence\nComponent\n1","Time\n1","Sequence\nComponent\n2","Time\n2","Sequence\nComponent\n3","Time\n3","Sequence\nComponent\n4","Time\n4","Sequence\nComponent\n5","Time\n5","Correct?\n0=No 1=Yes","Sequence",null,"Frequency",null,"Relative Frequency","Variability",null,null,"Frequency",null,"Relative Frequency","Variability",null,"Frequency",null,"Relative Frequency","Variability",null,"Frequency",null,"Relative Frequency","Variability",null,"Frequency",null,"Relative Frequency","Variability",null,"Frequency",null,"Relative Frequency","Variability",null,"Frequency",null,"Relative Frequency","Variability"]
[21,12,12,14,23,34,null,null,null,null,0,212,null,111,{"$f":"COUNTIF($L$7:$L$500,N7)","v":0},{"$f":"O7/$Q$4","v":0},{"$f":"IF(P7=0,0,(P7*((LOG(P7))/LOG(2))))","v":0},null,null,{"$f":"N7","v":111},{"$f":"COUNTIF(L7:L16,T7)","v":0},{"$f":"U7/(W4-U14)","v":0},{"$f":"IF(V7=0,0,(V7*((LOG(V7))/LOG(2))))","v":0},null,{"$f":"N7","v":111},{"$f":"COUNTIF(L17:L25,Y7)","v":0},{"$f":"Z7/(AB4-Z14)","v":0},{"$f":"IF(AA7=0,0,(AA7*((LOG(AA7))/LOG(2))))","v":0},null,{"$f":"N7","v":111},{"$f":"COUNTIF(L26:L35,AD7)","v":0},{"$f":"AE7/(AG4-AE14)","v":{"$error":"#DIV/0!"}},{"$f":"IF(AF7=0,0,(AF7*((LOG(AF7))/LOG(2))))","v":{"$error":"#DIV/0!"}},null,{"$f":"N7","v":111},{"$f":"COUNTIF(L36:L45,AI7)","v":0},{"$f":"AJ7/(AL4-AJ14)","v":0},{"$f":"IF(AK7=0,0,(AK7*((LOG(AK7))/LOG(2))))","v":0},null,{"$f":"N7","v":111},{"$f":"COUNTIF(L46:L54,AN7)","v":0},{"$f":"AO7/(AQ4-AO14)","v":0},{"$f":"IF(AP7=0,0,(AP7*((LOG(AP7))/LOG(2))))","v":0},null,{"$f":"N7","v":111},{"$f":"COUNTIF(L55:L64,AS7)","v":0},{"$f":"AT7/(AV4-AT14)","v":0},{"$f":"IF(AU7=0,0,(AU7*((LOG(AU7))/LOG(2))))","v":0}]
[21,131,12,135,23,139,null,null,null,null,0,212,null,112,{"$f":"COUNTIF($L$7:$L$500,N8)","v":1},{"$f":"O8/$Q$4","v":1.7241379310344827E-2},{"$f":"IF(P8=0,0,(P8*((LOG(P8))/LOG(2))))","v":-0.10099967232978573},null,null,{"$f":"N8","v":112},{"$f":"COUNTIF(L7:L16,T8)","v":0},{"$f":"U8/(W4-U14)","v":0},{"$f":"IF(V8=0,0,(V8*((LOG(V8))/LOG(2))))","v":0},null,{"$f":"N8","v":112},{"$f":"COUNTIF(L17:L25,Y8)","v":0},{"$f":"Z8/(AB4-Z14)","v":0},{"$f":"IF(AA8=0,0,(AA8*((LOG(AA8))/LOG(2))))","v":0},null,{"$f":"N8","v":112},{"$f":"COUNTIF(L26:L35,AD8)","v":0},{"$f":"AE8/(AG4-AE14)","v":{"$error":"#DIV/0!"}},{"$f":"IF(AF8=0,0,(AF8*((LOG(AF8))/LOG(2))))","v":{"$error":"#DIV/0!"}},null,{"$f":"N8","v":112},{"$f":"COUNTIF(L36:L45,AI8)","v":0},{"$f":"AJ8/(AL4-AJ14)","v":0},{"$f":"IF(AK8=0,0,(AK8*((LOG(AK8))/LOG(2))))","v":0},null,{"$f":"N8","v":112},{"$f":"COUNTIF(L46:L54,AN8)","v":1},{"$f":"AO8/(AQ4-AO14)","v":0.125},{"$f":"IF(AP8=0,0,(AP8*((LOG(AP8))/LOG(2))))","v":-0.375},null,{"$f":"N8","v":112},{"$f":"COUNTIF(L55:L64,AS8)","v":0},{"$f":"AT8/(AV4-AT14)","v":0},{"$f":"IF(AU8=0,0,(AU8*((LOG(AU8))/LOG(2))))","v":0}]
[21,236,21,240,12,242,null,null,null,null,0,221,null,121,{"$f":"COUNTIF($L$7:$L$500,N9)","v":0},{"$f":"O9/$Q$4","v":0},{"$f":"IF(P9=0,0,(P9*((LOG(P9))/LOG(2))))","v":0},null,null,{"$f":"N9","v":121},{"$f":"COUNTIF(L7:L16,T9)","v":0},{"$f":"U9/(W4-U14)","v":0},{"$f":"IF(V9=0,0,(V9*((LOG(V9))/LOG(2))))","v":0},null,{"$f":"N9","v":121},{"$f":"COUNTIF(L17:L25,Y9)","v":0},{"$f":"Z9/(AB4-Z14)","v":0},{"$f":"IF(AA9=0,0,(AA9*((LOG(AA9))/LOG(2))))","v":0},null,{"$f":"N9","v":121},{"$f":"COUNTIF(L26:L35,AD9)","v":0},{"$f":"AE9/(AG4-AE14)","v":{"$error":"#DIV/0!"}},{"$f":"IF(AF9=0,0,(AF9*((LOG(AF9))/LOG(2))))","v":{"$error":"#DIV/0!"}},null,{"$f":"N9","v":121},{"$f":"COUNTIF(L36:L45,AI9)","v":0},{"$f":"AJ9/(AL4-AJ14)","v":0},{"$f":"IF(AK9=0,0,(AK9*((LOG(AK9))/LOG(2))))","v":0},null,{"$f":"N9","v":121},{"$f":"COUNTIF(L46:L54,AN9)","v":0},{"$f":"AO9/(AQ4-AO14)","v":0},{"$f":"IF(AP9=0,0,(AP9*((LOG(AP9))/LOG(2))))","v":0},null,{"$f":"N9","v":121},{"$f":"COUNTIF(L55:L64,AS9)","v":0},{"$f":"AT9/(AV4-AT14)","v":0},{"$f":"IF(AU9=0,0,(AU9*((LOG(AU9))/LOG(2))))","v":0}]
[21,340,12,346,23,350,null,null,null,null,0,212,null,122,{"$f":"COUNTIF($L$7:$L$500,N10)","v":5},{"$f":"O10/$Q$4","v":8.6206896551724144E-2},{"$f":"IF(P10=0,0,(P10*((LOG(P10))/LOG(2))))","v":-0.30483214657243185},null,null,{"$f":"N10","v":122},{"$f":"COUNTIF(L7:L16,T10)","v":0},{"$f":"U10/(W4-U14)","v":0},{"$f":"IF(V10=0,0,(V10*((LOG(V10))/LOG(2))))","v":0},null,{"$f":"N10","v":122},{"$f":"COUNTIF(L17:L25,Y10)","v":0},{"$f":"Z10/(AB4-Z14)","v":0},{"$f":"IF(AA10=0,0,(AA10*((LOG(AA10))/LOG(2))))","v":0},null,{"$f":"N10","v":122},{"$f":"COUNTIF(L26:L35,AD10)","v":0},{"$f":"AE10/(AG4-AE14)","v":{"$error":"#DIV/0!"}},{"$f":"IF(AF10=0,0,(AF10*((LOG(AF10))/LOG(2))))","v":{"$error":"#DIV/0!"}},null,{"$f":"N10","v":122},{"$f":"COUNTIF(L36:L45,AI10)","v":1},{"$f":"AJ10/(AL4-AJ14)","v":0.5},{"$f":"IF(AK10=0,0,(AK10*((LOG(AK10))/LOG(2))))","v":-0.5},null,{"$f":"N10","v":122},{"$f":"COUNTIF(L46:L54,AN10)","v":3},{"$f":"AO10/(AQ4-AO14)","v":0.375},{"$f":"IF(AP10=0,0,(AP10*((LOG(AP10))/LOG(2))))","v":-0.53063906222956647},null,{"$f":"N10","v":122},{"$f":"COUNTIF(L55:L64,AS10)","v":1},{"$f":"AT10/(AV4-AT14)","v":0.25},{"$f":"IF(AU10=0,0,(AU10*((LOG(AU10))/LOG(2))))","v":-0.5}]
[21,447,21,453,21,459,null,null,null,null,0,222,null,211,{"$f":"COUNTIF($L$7:$L$500,N11)","v":0},{"$f":"O11/$Q$4","v":0},{"$f":"IF(P11=0,0,(P11*((LOG(P11))/LOG(2))))","v":0},null,null,{"$f":"N11","v":211},{"$f":"COUNTIF(L7:L16,T11)","v":0},{"$f":"U11/(W4-U14)","v":0},{"$f":"IF(V11=0,0,(V11*((LOG(V11))/LOG(2))))","v":0},null,{"$f":"N11","v":211},{"$f":"COUNTIF(L17:L25,Y11)","v":0},{"$f":"Z11/(AB4-Z14)","v":0},{"$f":"IF(AA11=0,0,(AA11*((LOG(AA11))/LOG(2))))","v":0},null,{"$f":"N11","v":211},{"$f":"COUNTIF(L26:L35,AD11)","v":0},{"$f":"AE11/(AG4-AE14)","v":{"$error":"#DIV/0!"}},{"$f":"IF(AF11=0,0,(AF11*((LOG(AF11))/LOG(2))))","v":{"$error":"#DIV/0!"}},null,{"$f":"N11","v":211},{"$f":"COUNTIF(L36:L45,AI11)","v":0},{"$f":"AJ11/(AL4-AJ14)","v":0},{"$f":"IF(AK11=0,0,(AK11*((LOG(AK11))/LOG(2))))","v":0},null,{"$f":"N11","v":211},{"$f":"COUNTIF(L46:L54,AN11)","v":0},{"$f":"AO11/(AQ4-AO14)","v":0},{"$f":"IF(AP11=0,0,(AP11*((LOG(AP11))/LOG(2))))","v":0},null,{"$f":"N11","v":211},{"$f":"COUNTIF(L55:L64,AS11)","v":0},{"$f":"AT11/(AV4-AT14)","v":0},{"$f":"IF(AU11=0,0,(AU11*((LOG(AU11))/LOG(2))))","v":0}]
[21,593,21,598,21,603,null,null,null,null,0,222,null,212,{"$f":"COUNTIF($L$7:$L$500,N12)","v":7},{"$f":"O12/$Q$4","v":0.1206896551724138},{"$f":"IF(P12=0,0,(P12*((LOG(P12))/LOG(2))))","v":-0.36817900881878923},null,null,{"$f":"N12","v":212},{"$f":"COUNTIF(L7:L16,T12)","v":3},{"$f":"U12/(W4-U14)","v":0.75},{"$f":"IF(V12=0,0,(V12*((LOG(V12))/LOG(2))))","v":-0.31127812445913283},null,{"$f":"N12","v":212},{"$f":"COUNTIF(L17:L25,Y12)","v":0},{"$f":"Z12/(AB4-Z14)","v":0},{"$f":"IF(AA12=0,0,(AA12*((LOG(AA12))/LOG(2))))","v":0},null,{"$f":"N12","v":212},{"$f":"COUNTIF(L26:L35,AD12)","v":0},{"$f":"AE12/(AG4-AE14)","v":{"$error":"#DIV/0!"}},{"$f":"IF(AF12=0,0,(AF12*((LOG(AF12))/LOG(2))))","v":{"$error":"#DIV/0!"}},null,{"$f":"N12","v":212},{"$f":"COUNTIF(L36:L45,AI12)","v":1},{"$f":"AJ12/(AL4-AJ14)","v":0.5},{"$f":"IF(AK12=0,0,(AK12*((LOG(AK12))/LOG(2))))","v":-0.5},null,{"$f":"N12","v":212},{"$f":"COUNTIF(L46:L54,AN12)","v":1},{"$f":"AO12/(AQ4-AO14)","v":0.125},{"$f":"IF(AP12=0,0,(AP12*((LOG(AP12))/LOG(2))))","v":-0.375},null,{"$f":"N12","v":212},{"$f":"COUNTIF(L55:L64,AS12)","v":2},{"$f":"AT12/(AV4-AT14)","v":0.5},{"$f":"IF(AU12=0,0,(AU12*((LOG(AU12))/LOG(2))))","v":-0.5}]
[21,854,21,862,21,866,null,null,null,null,0,222,null,221,{"$f":"COUNTIF($L$7:$L$500,N13)","v":6},{"$f":"O13/$Q$4","v":0.10344827586206896},{"$f":"IF(P13=0,0,(P13*((LOG(P13))/LOG(2))))","v":-0.33858812011100858},null,null,{"$f":"N13","v":221},{"$f":"COUNTIF(L7:L16,T13)","v":1},{"$f":"U13/(W4-U14)","v":0.25},{"$f":"IF(V13=0,0,(V13*((LOG(V13))/LOG(2))))","v":-0.5},null,{"$f":"N13","v":221},{"$f":"COUNTIF(L17:L25,Y13)","v":1},{"$f":"Z13/(AB4-Z14)","v":1},{"$f":"IF(AA13=0,0,(AA13*((LOG(AA13))/LOG(2))))","v":0},null,{"$f":"N13","v":221},{"$f":"COUNTIF(L26:L35,AD13)","v":0},{"$f":"AE13/(AG4-AE14)","v":{"$error":"#DIV/0!"}},{"$f":"IF(AF13=0,0,(AF13*((LOG(AF13))/LOG(2))))","v":{"$error":"#DIV/0!"}},null,{"$f":"N13","v":221},{"$f":"COUNTIF(L36:L45,AI13)","v":0},{"$f":"AJ13/(AL4-AJ14)","v":0},{"$f":"IF(AK13=0,0,(AK13*((LOG(AK13))/LOG(2))))","v":0},null,{"$f":"N13","v":221},{"$f":"COUNTIF(L46:L54,AN13)","v":3},{"$f":"AO13/(AQ4-AO14)","v":0.375},{"$f":"IF(AP13=0,0,(AP13*((LOG(AP13))/LOG(2))))","v":-0.53063906222956647},null,{"$f":"N13","v":221},{"$f":"COUNTIF(L55:L64,AS13)","v":1},{"$f":"AT13/(AV4-AT14)","v":0.25},{"$f":"IF(AU13=0,0,(AU13*((LOG(AU13))/LOG(2))))","v":-0.5}]
[21,962,21,966,21,980,null,null,null,null,0,222,null,222,{"$f":"COUNTIF($L$7:$L$500,N14)","v":39},{"$f":"O14/$Q$4","v":0.67241379310344829},{"$f":"IF(P14=0,0,(P14*((LOG(P14))/LOG(2))))","v":-0.38500986679909699},null,null,{"$f":"N14","v":222},{"$f":"COUNTIF(L7:L16,T14)","v":6},null,null,null,{"$f":"N14","v":222},{"$f":"COUNTIF(L17:L25,Y14)","v":8},null,null,null,{"$f":"N14","v":222},{"$f":"COUNTIF(L26:L35,AD14)","v":10},null,null,null,{"$f":"N14","v":222},{"$f":"COUNTIF(L36:L45,AI14)","v":8},null,null,null,{"$f":"N14","v":222},{"$f":"COUNTIF(L46:L54,AN14)","v":1},null,null,null,{"$f":"N14","v":222},{"$f":"COUNTIF(L55:L64,AS14)","v":6}]
[21,1101,21,1108,21,1113,null,null,null,null,0,222,null,null,null,{"$f":"SUM(P7:P14)","v":1},{"$f":"-SUM(Q7:Q14)","v":1.4976088146311124},null,null,null,null,{"$f":"SUM(V7:V14)","v":1},{"$f":"-SUM(W7:W14)","v":0.81127812445913283},null,null,null,{"$f":"SUM(AA7:AA14)","v":1},{"$f":"-SUM(AB7:AB14)","v":0},null,null,null,{"$f":"SUM(AF7:AF14)","v":{"$error":"#DIV/0!"}},{"$f":"-SUM(AG7:AG14)","v":{"$error":"#DIV/0!"}},null,null,null,{"$f":"SUM(AK7:AK14)","v":1},{"$f":"-SUM(AL7:AL14)","v":1},null,null,null,{"$f":"SUM(AP7:AP14)","v":1},{"$f":"-SUM(AQ7:AQ14)","v":1.8112781244591329},null,null,null,{"$f":"SUM(AU7:AU14)","v":1},{"$f":"-SUM(AV7:AV14)","v":1.5}]
[21,1243,21,1248,21,1254,null,null,null,null,0,222,null,null,null,"U=",{"$f":"Q15/(LOG(Q4)/LOG(2))","v":0.25565272674608569},null,null,null,null,"U1=",{"$f":"W15/(LOG(W4)/LOG(2))","v":0.24421905028821556},null,null,null,"U2=",{"$f":"AB15/(LOG(AB4)/LOG(2))","v":0},null,null,null,"U3=",{"$f":"AG15/(LOG(AG4)/LOG(2))","v":{"$error":"#DIV/0!"}},null,null,null,"U4=",{"$f":"AL15/(LOG(AL4)/LOG(2))","v":0.3010299956639812},null,null,null,"U5=",{"$f":"AQ15/(LOG(AQ4)/LOG(2))","v":0.57139463035718618},null,null,null,"U6=",{"$f":"AV15/(LOG(AV4)/LOG(2))","v":0.45154499349597182}]
[21,1438,21,1445,12,1454,null,null,null,null,0,221]
[21,1634,21,1643,21,1655,null,null,null,null,0,222]
[21,1750,21,1766,21,1773,null,null,null,null,0,222,null,"Total Target Seq"]
[21,1869,21,1875,21,1886,null,null,null,null,0,222,null,{"$f":"COUNTIF(L7:L64,G3)","v":39},null,10,9,10,10,9,10]
[21,2026,21,2032,21,2045,null,null,null,null,0,222,null,null,null,"% of reinforcement given in 6 equal intervals based on number of trials "]
[21,2139,21,2150,21,2162,null,null,null,null,0,222,null,null,null,"%_1","%_2","%_3","%_4","%_5","%_6"]
[21,2285,21,2288,21,2296,null,null,null,null,0,222,null,null,"target sequence",{"$f":"$G$3","v":222},{"$f":"$G$3","v":222},{"$f":"$G$3","v":222},{"$f":"$G$3","v":222},{"$f":"$G$3","v":222},{"$f":"$G$3","v":222}]
[21,2392,21,2397,21,2405,null,null,null,null,0,222,null,null,"total reinforcement",{"$f":"U14","v":6},{"$f":"Z14","v":8},{"$f":"AE14","v":10},{"$f":"AJ14","v":8},{"$f":"AO14","v":1},{"$f":"AT14","v":6}]
[21,2502,21,2507,21,2526,null,null,null,null,0,222,null,null,"% target"]
[21,2680,21,2688,21,2697,null,null,null,null,0,222,null,null,"CCRF"]
[21,2797,21,2823,21,2829,null,null,null,null,0,222,null,null,"% CCRf"]
[21,2919,21,2929,21,2947,null,null,null,null,0,222,null,null,"average response rate",{"$f":"F16/P20","v":125.4},{"$f":"(F25-F16)/Q20","v":141.33333333333334},{"$f":"(F35-F25)/R20","v":134.9},{"$f":"(F45-F35)/S20","v":132.6},{"$f":"(F54-F45)/T20","v":105.77777777777777},{"$f":"(F64-F54)/U20","v":112.6}]
[21,3073,21,3081,21,3092,null,null,null,null,0,222]
[21,3197,21,3204,21,3210,null,null,null,null,0,222]
[21,3349,21,3371,21,3379,null,null,null,null,0,222]
[21,3494,21,3500,21,3511,null,null,null,null,0,222]
[21,3610,21,3614,21,3619,null,null,null,null,0,222]
[21,3736,21,3744,21,3761,null,null,null,null,0,222]
[21,3862,21,3866,21,3875,null,null,null,null,0,222]
[12,3984,23,3988,23,3992,null,null,null,null,0,122]
[21,4183,21,4188,21,4203,null,null,null,null,0,222]
[21,4296,21,4313,21,4325,null,null,null,null,0,222]
[21,4427,21,4433,21,4450,null,null,null,null,0,222]
[21,4544,21,4548,21,4567,null,null,null,null,0,222]
[21,4686,21,4695,21,4709,null,null,null,null,0,222]
[21,4810,21,4853,21,4886,null,null,null,null,0,222]
[21,4974,12,4980,23,4985,null,null,null,null,0,212]
[21,5078,21,5083,21,5087,null,null,null,null,0,222]
[21,5185,21,5194,21,5201,null,null,null,null,0,222]
[12,5290,23,5295,23,5306,null,null,null,null,0,122]
[21,5401,12,5404,23,5409,null,null,null,null,0,212]
[21,5507,21,5511,12,5513,null,null,null,null,0,221]
[21,5610,21,5615,21,5619,null,null,null,null,0,222]
[12,5724,23,5728,23,5734,null,null,null,null,0,122]
[21,5829,21,5839,12,5843,null,null,null,null,0,221]
[12,5937,14,5940,23,5948,null,null,null,null,0,112]
[12,6041,23,6043,23,6050,null,null,null,null,0,122]
[21,6146,21,6150,12,6153,null,null,null,null,0,221]
[12,6246,23,6249,23,6253,null,null,null,null,0,122]
[21,6348,21,6351,21,6357,null,null,null,null,0,222]
[21,6461,12,6466,23,6471,null,null,null,null,0,212]
[21,6566,21,6570,21,6575,null,null,null,null,0,222]
[21,6694,21,6700,21,6706,null,null,null,null,0,222]
[21,6806,12,6809,23,6812,null,null,null,null,0,212]
[21,6909,21,6914,12,6916,null,null,null,null,0,221]
[21,7012,21,7018,21,7023,null,null,null,null,0,222]
[21,7135,21,7138,21,7145,null,null,null,null,0,222]
[21,7265,21,7272,21,7279,null,null,null,null,1,222]

{"sheet":"!M901A00.Gus","index":12,"n_rows":46,"n_cols":48,"rows_kept":46,"cut":false,"hidden":false,"merged":[[4,39,4,42],[5,39,5,40],[4,44,4,47],[5,44,5,45],[4,24,4,27],[5,24,5,25],[4,29,4,32],[5,29,5,30],[4,34,4,37],[5,34,5,35],[1,1,1,2],[5,13,5,14],[18,13,18,14],[19,13,19,14],[4,19,4,22],[5,19,5,20]]}
["Report for:!M901A00.Gus"]
["Date:","<date>"]
["Hen:","<hen>",null,null,null,"Correct Sequence",{"$f":"Start!J2","v":222},null,null,null,null,null,null,null,null,"Total Sequences in Data",{"$f":"4994-COUNTBLANK(L7:L5000)","v":40},null,null,null,null,"Total Sequences in Block Data",{"$f":"COUNTA(L7:L13)","v":7},null,null,null,"Total Sequences in Block Data",{"$f":"COUNTA(L14:L19)","v":6},null,null,null,"Total Sequences in Block Data",{"$f":"COUNTA(L20:L26)","v":7},null,null,null,"Total Sequences in Block Data",{"$f":"COUNTA(L27:L33)","v":7},null,null,null,"Total Sequences in Block Data",{"$f":"COUNTA(L34:L39)","v":6},null,null,null,"Total Sequences in Block Data",{"$f":"COUNTA(L40:L46)","v":7}]
[null,null,null,null,null,null,null,null,null,null,null,null,null,null,null,"Total Sequences in Summary",{"$f":"SUM(O7:O14)","v":40},null,null,null,null,"Total Sequences in Block Summary",{"$f":"SUM(U7:U14)","v":7},null,null,null,"Total Sequences in Block Summary",{"$f":"SUM(Z7:Z14)","v":6},null,null,null,"Total Sequences in Block Summary",{"$f":"SUM(AE7:AE14)","v":7},null,null,null,"Total Sequences in Block Summary",{"$f":"SUM(AJ7:AJ14)","v":7},null,null,null,"Total Sequences in Block Summary",{"$f":"SUM(AO7:AO14)","v":6},null,null,null,"Total Sequences in Block Summary",{"$f":"SUM(AT7:AT14)","v":7}]
[null,null,null,null,null,null,null,null,null,null,null,null,null,null,null,null,null,null,null,"Block 1",null,null,null,null,"Block 2",null,null,null,null,"Block 3",null,null,null,null,"Block 4",null,null,null,null,"Block 5",null,null,null,null,"Block 6"]
["Sequence\nComponent\n1","Time\n1","Sequence\nComponent\n2","Time\n2","Sequence\nComponent\n3","Time\n3","Sequence\nComponent\n4","Time\n4","Sequence\nComponent\n5","Time\n5","Correct?\n0=No 1=Yes","Sequence",null,"Frequency",null,"Relative Frequency","Variability",null,null,"Frequency",null,"Relative Frequency","Variability",null,"Frequency",null,"Relative Frequency","Variability",null,"Frequency",null,"Relative Frequency","Variability",null,"Frequency",null,"Relative Frequency","Variability",null,"Frequency",null,"Relative Frequency","Variability",null,"Frequency",null,"Relative Frequency","Variability"]
[21,40,21,42,21,45,null,null,null,null,0,222,null,111,{"$f":"COUNTIF($L$7:$L$500,N7)","v":0},{"$f":"O7/$Q$4","v":0},{"$f":"IF(P7=0,0,(P7*((LOG(P7))/LOG(2))))","v":0},null,null,{"$f":"N7","v":111},{"$f":"COUNTIF(L7:L13,T7)","v":0},{"$f":"U7/(W4-U14)","v":{"$error":"#DIV/0!"}},{"$f":"IF(V7=0,0,(V7*((LOG(V7))/LOG(2))))","v":{"$error":"#DIV/0!"}},null,{"$f":"N7","v":111},{"$f":"COUNTIF(L14:L19,Y7)","v":0},{"$f":"Z7/(AB4-Z14)","v":{"$error":"#DIV/0!"}},{"$f":"IF(AA7=0,0,(AA7*((LOG(AA7))/LOG(2))))","v":{"$error":"#DIV/0!"}},null,{"$f":"N7","v":111},{"$f":"COUNTIF(L20:L26,AD7)","v":0},{"$f":"AE7/(AG4-AE14)","v":{"$error":"#DIV/0!"}},{"$f":"IF(AF7=0,0,(AF7*((LOG(AF7))/LOG(2))))","v":{"$error":"#DIV/0!"}},null,{"$f":"N7","v":111},{"$f":"COUNTIF(L27:L33,AI7)","v":0},{"$f":"AJ7/(AL4-AJ14)","v":{"$error":"#DIV/0!"}},{"$f":"IF(AK7=0,0,(AK7*((LOG(AK7))/LOG(2))))","v":{"$error":"#DIV/0!"}},null,{"$f":"N7","v":111},{"$f":"COUNTIF(L34:L39,AN7)","v":0},{"$f":"AO7/(AQ4-AO14)","v":{"$error":"#DIV/0!"}},{"$f":"IF(AP7=0,0,(AP7*((LOG(AP7))/LOG(2))))","v":{"$error":"#DIV/0!"}},null,{"$f":"N7","v":111},{"$f":"COUNTIF(L40:L46,AS7)","v":0},{"$f":"AT7/(AV4-AT14)","v":{"$error":"#DIV/0!"}},{"$f":"IF(AU7=0,0,(AU7*((LOG(AU7))/LOG(2))))","v":{"$error":"#DIV/0!"}}]
[21,143,21,148,21,153,null,null,null,null,0,222,null,112,{"$f":"COUNTIF($L$7:$L$500,N8)","v":0},{"$f":"O8/$Q$4","v":0},{"$f":"IF(P8=0,0,(P8*((LOG(P8))/LOG(2))))","v":0},null,null,{"$f":"N8","v":112},{"$f":"COUNTIF(L7:L13,T8)","v":0},{"$f":"U8/(W4-U14)","v":{"$error":"#DIV/0!"}},{"$f":"IF(V8=0,0,(V8*((LOG(V8))/LOG(2))))","v":{"$error":"#DIV/0!"}},null,{"$f":"N8","v":112},{"$f":"COUNTIF(L14:L19,Y8)","v":0},{"$f":"Z8/(AB4-Z14)","v":{"$error":"#DIV/0!"}},{"$f":"IF(AA8=0,0,(AA8*((LOG(AA8))/LOG(2))))","v":{"$error":"#DIV/0!"}},null,{"$f":"N8","v":112},{"$f":"COUNTIF(L20:L26,AD8)","v":0},{"$f":"AE8/(AG4-AE14)","v":{"$error":"#DIV/0!"}},{"$f":"IF(AF8=0,0,(AF8*((LOG(AF8))/LOG(2))))","v":{"$error":"#DIV/0!"}},null,{"$f":"N8","v":112},{"$f":"COUNTIF(L27:L33,AI8)","v":0},{"$f":"AJ8/(AL4-AJ14)","v":{"$error":"#DIV/0!"}},{"$f":"IF(AK8=0,0,(AK8*((LOG(AK8))/LOG(2))))","v":{"$error":"#DIV/0!"}},null,{"$f":"N8","v":112},{"$f":"COUNTIF(L34:L39,AN8)","v":0},{"$f":"AO8/(AQ4-AO14)","v":{"$error":"#DIV/0!"}},{"$f":"IF(AP8=0,0,(AP8*((LOG(AP8))/LOG(2))))","v":{"$error":"#DIV/0!"}},null,{"$f":"N8","v":112},{"$f":"COUNTIF(L40:L46,AS8)","v":0},{"$f":"AT8/(AV4-AT14)","v":{"$error":"#DIV/0!"}},{"$f":"IF(AU8=0,0,(AU8*((LOG(AU8))/LOG(2))))","v":{"$error":"#DIV/0!"}}]
[21,255,21,262,21,265,null,null,null,null,0,222,null,121,{"$f":"COUNTIF($L$7:$L$500,N9)","v":0},{"$f":"O9/$Q$4","v":0},{"$f":"IF(P9=0,0,(P9*((LOG(P9))/LOG(2))))","v":0},null,null,{"$f":"N9","v":121},{"$f":"COUNTIF(L7:L13,T9)","v":0},{"$f":"U9/(W4-U14)","v":{"$error":"#DIV/0!"}},{"$f":"IF(V9=0,0,(V9*((LOG(V9))/LOG(2))))","v":{"$error":"#DIV/0!"}},null,{"$f":"N9","v":121},{"$f":"COUNTIF(L14:L19,Y9)","v":0},{"$f":"Z9/(AB4-Z14)","v":{"$error":"#DIV/0!"}},{"$f":"IF(AA9=0,0,(AA9*((LOG(AA9))/LOG(2))))","v":{"$error":"#DIV/0!"}},null,{"$f":"N9","v":121},{"$f":"COUNTIF(L20:L26,AD9)","v":0},{"$f":"AE9/(AG4-AE14)","v":{"$error":"#DIV/0!"}},{"$f":"IF(AF9=0,0,(AF9*((LOG(AF9))/LOG(2))))","v":{"$error":"#DIV/0!"}},null,{"$f":"N9","v":121},{"$f":"COUNTIF(L27:L33,AI9)","v":0},{"$f":"AJ9/(AL4-AJ14)","v":{"$error":"#DIV/0!"}},{"$f":"IF(AK9=0,0,(AK9*((LOG(AK9))/LOG(2))))","v":{"$error":"#DIV/0!"}},null,{"$f":"N9","v":121},{"$f":"COUNTIF(L34:L39,AN9)","v":0},{"$f":"AO9/(AQ4-AO14)","v":{"$error":"#DIV/0!"}},{"$f":"IF(AP9=0,0,(AP9*((LOG(AP9))/LOG(2))))","v":{"$error":"#DIV/0!"}},null,{"$f":"N9","v":121},{"$f":"COUNTIF(L40:L46,AS9)","v":0},{"$f":"AT9/(AV4-AT14)","v":{"$error":"#DIV/0!"}},{"$f":"IF(AU9=0,0,(AU9*((LOG(AU9))/LOG(2))))","v":{"$error":"#DIV/0!"}}]
[21,422,21,431,21,439,null,null,null,null,0,222,null,122,{"$f":"COUNTIF($L$7:$L$500,N10)","v":0},{"$f":"O10/$Q$4","v":0},{"$f":"IF(P10=0,0,(P10*((LOG(P10))/LOG(2))))","v":0},null,null,{"$f":"N10","v":122},{"$f":"COUNTIF(L7:L13,T10)","v":0},{"$f":"U10/(W4-U14)","v":{"$error":"#DIV/0!"}},{"$f":"IF(V10=0,0,(V10*((LOG(V10))/LOG(2))))","v":{"$error":"#DIV/0!"}},null,{"$f":"N10","v":122},{"$f":"COUNTIF(L14:L19,Y10)","v":0},{"$f":"Z10/(AB4-Z14)","v":{"$error":"#DIV/0!"}},{"$f":"IF(AA10=0,0,(AA10*((LOG(AA10))/LOG(2))))","v":{"$error":"#DIV/0!"}},null,{"$f":"N10","v":122},{"$f":"COUNTIF(L20:L26,AD10)","v":0},{"$f":"AE10/(AG4-AE14)","v":{"$error":"#DIV/0!"}},{"$f":"IF(AF10=0,0,(AF10*((LOG(AF10))/LOG(2))))","v":{"$error":"#DIV/0!"}},null,{"$f":"N10","v":122},{"$f":"COUNTIF(L27:L33,AI10)","v":0},{"$f":"AJ10/(AL4-AJ14)","v":{"$error":"#DIV/0!"}},{"$f":"IF(AK10=0,0,(AK10*((LOG(AK10))/LOG(2))))","v":{"$error":"#DIV/0!"}},null,{"$f":"N10","v":122},{"$f":"COUNTIF(L34:L39,AN10)","v":0},{"$f":"AO10/(AQ4-AO14)","v":{"$error":"#DIV/0!"}},{"$f":"IF(AP10=0,0,(AP10*((LOG(AP10))/LOG(2))))","v":{"$error":"#DIV/0!"}},null,{"$f":"N10","v":122},{"$f":"COUNTIF(L40:L46,AS10)","v":0},{"$f":"AT10/(AV4-AT14)","v":{"$error":"#DIV/0!"}},{"$f":"IF(AU10=0,0,(AU10*((LOG(AU10))/LOG(2))))","v":{"$error":"#DIV/0!"}}]
[21,656,21,671,21,681,null,null,null,null,0,222,null,211,{"$f":"COUNTIF($L$7:$L$500,N11)","v":0},{"$f":"O11/$Q$4","v":0},{"$f":"IF(P11=0,0,(P11*((LOG(P11))/LOG(2))))","v":0},null,null,{"$f":"N11","v":211},{"$f":"COUNTIF(L7:L13,T11)","v":0},{"$f":"U11/(W4-U14)","v":{"$error":"#DIV/0!"}},{"$f":"IF(V11=0,0,(V11*((LOG(V11))/LOG(2))))","v":{"$error":"#DIV/0!"}},null,{"$f":"N11","v":211},{"$f":"COUNTIF(L14:L19,Y11)","v":0},{"$f":"Z11/(AB4-Z14)","v":{"$error":"#DIV/0!"}},{"$f":"IF(AA11=0,0,(AA11*((LOG(AA11))/LOG(2))))","v":{"$error":"#DIV/0!"}},null,{"$f":"N11","v":211},{"$f":"COUNTIF(L20:L26,AD11)","v":0},{"$f":"AE11/(AG4-AE14)","v":{"$error":"#DIV/0!"}},{"$f":"IF(AF11=0,0,(AF11*((LOG(AF11))/LOG(2))))","v":{"$error":"#DIV/0!"}},null,{"$f":"N11","v":211},{"$f":"COUNTIF(L27:L33,AI11)","v":0},{"$f":"AJ11/(AL4-AJ14)","v":{"$error":"#DIV/0!"}},{"$f":"IF(AK11=0,0,(AK11*((LOG(AK11))/LOG(2))))","v":{"$error":"#DIV/0!"}},null,{"$f":"N11","v":211},{"$f":"COUNTIF(L34:L39,AN11)","v":0},{"$f":"AO11/(AQ4-AO14)","v":{"$error":"#DIV/0!"}},{"$f":"IF(AP11=0,0,(AP11*((LOG(AP11))/LOG(2))))","v":{"$error":"#DIV/0!"}},null,{"$f":"N11","v":211},{"$f":"COUNTIF(L40:L46,AS11)","v":0},{"$f":"AT11/(AV4-AT14)","v":{"$error":"#DIV/0!"}},{"$f":"IF(AU11=0,0,(AU11*((LOG(AU11))/LOG(2))))","v":{"$error":"#DIV/0!"}}]
[21,793,21,803,21,812,null,null,null,null,0,222,null,212,{"$f":"COUNTIF($L$7:$L$500,N12)","v":0},{"$f":"O12/$Q$4","v":0},{"$f":"IF(P12=0,0,(P12*((LOG(P12))/LOG(2))))","v":0},null,null,{"$f":"N12","v":212},{"$f":"COUNTIF(L7:L13,T12)","v":0},{"$f":"U12/(W4-U14)","v":{"$error":"#DIV/0!"}},{"$f":"IF(V12=0,0,(V12*((LOG(V12))/LOG(2))))","v":{"$error":"#DIV/0!"}},null,{"$f":"N12","v":212},{"$f":"COUNTIF(L14:L19,Y12)","v":0},{"$f":"Z12/(AB4-Z14)","v":{"$error":"#DIV/0!"}},{"$f":"IF(AA12=0,0,(AA12*((LOG(AA12))/LOG(2))))","v":{"$error":"#DIV/0!"}},null,{"$f":"N12","v":212},{"$f":"COUNTIF(L20:L26,AD12)","v":0},{"$f":"AE12/(AG4-AE14)","v":{"$error":"#DIV/0!"}},{"$f":"IF(AF12=0,0,(AF12*((LOG(AF12))/LOG(2))))","v":{"$error":"#DIV/0!"}},null,{"$f":"N12","v":212},{"$f":"COUNTIF(L27:L33,AI12)","v":0},{"$f":"AJ12/(AL4-AJ14)","v":{"$error":"#DIV/0!"}},{"$f":"IF(AK12=0,0,(AK12*((LOG(AK12))/LOG(2))))","v":{"$error":"#DIV/0!"}},null,{"$f":"N12","v":212},{"$f":"COUNTIF(L34:L39,AN12)","v":0},{"$f":"AO12/(AQ4-AO14)","v":{"$error":"#DIV/0!"}},{"$f":"IF(AP12=0,0,(AP12*((LOG(AP12))/LOG(2))))","v":{"$error":"#DIV/0!"}},null,{"$f":"N12","v":212},{"$f":"COUNTIF(L40:L46,AS12)","v":0},{"$f":"AT12/(AV4-AT14)","v":{"$error":"#DIV/0!"}},{"$f":"IF(AU12=0,0,(AU12*((LOG(AU12))/LOG(2))))","v":{"$error":"#DIV/0!"}}]
[21,938,21,945,21,953,null,null,null,null,0,222,null,221,{"$f":"COUNTIF($L$7:$L$500,N13)","v":0},{"$f":"O13/$Q$4","v":0},{"$f":"IF(P13=0,0,(P13*((LOG(P13))/LOG(2))))","v":0},null,null,{"$f":"N13","v":221},{"$f":"COUNTIF(L7:L13,T13)","v":0},{"$f":"U13/(W4-U14)","v":{"$error":"#DIV/0!"}},{"$f":"IF(V13=0,0,(V13*((LOG(V13))/LOG(2))))","v":{"$error":"#DIV/0!"}},null,{"$f":"N13","v":221},{"$f":"COUNTIF(L14:L19,Y13)","v":0},{"$f":"Z13/(AB4-Z14)","v":{"$error":"#DIV/0!"}},{"$f":"IF(AA13=0,0,(AA13*((LOG(AA13))/LOG(2))))","v":{"$error":"#DIV/0!"}},null,{"$f":"N13","v":221},{"$f":"COUNTIF(L20:L26,AD13)","v":0},{"$f":"AE13/(AG4-AE14)","v":{"$error":"#DIV/0!"}},{"$f":"IF(AF13=0,0,(AF13*((LOG(AF13))/LOG(2))))","v":{"$error":"#DIV/0!"}},null,{"$f":"N13","v":221},{"$f":"COUNTIF(L27:L33,AI13)","v":0},{"$f":"AJ13/(AL4-AJ14)","v":{"$error":"#DIV/0!"}},{"$f":"IF(AK13=0,0,(AK13*((LOG(AK13))/LOG(2))))","v":{"$error":"#DIV/0!"}},null,{"$f":"N13","v":221},{"$f":"COUNTIF(L34:L39,AN13)","v":0},{"$f":"AO13/(AQ4-AO14)","v":{"$error":"#DIV/0!"}},{"$f":"IF(AP13=0,0,(AP13*((LOG(AP13))/LOG(2))))","v":{"$error":"#DIV/0!"}},null,{"$f":"N13","v":221},{"$f":"COUNTIF(L40:L46,AS13)","v":0},{"$f":"AT13/(AV4-AT14)","v":{"$error":"#DIV/0!"}},{"$f":"IF(AU13=0,0,(AU13*((LOG(AU13))/LOG(2))))","v":{"$error":"#DIV/0!"}}]
[21,1117,21,1122,21,1148,null,null,null,null,0,222,null,222,{"$f":"COUNTIF($L$7:$L$500,N14)","v":40},{"$f":"O14/$Q$4","v":1},{"$f":"IF(P14=0,0,(P14*((LOG(P14))/LOG(2))))","v":0},null,null,{"$f":"N14","v":222},{"$f":"COUNTIF(L7:L13,T14)","v":7},null,null,null,{"$f":"N14","v":222},{"$f":"COUNTIF(L14:L19,Y14)","v":6},null,null,null,{"$f":"N14","v":222},{"$f":"COUNTIF(L20:L26,AD14)","v":7},null,null,null,{"$f":"N14","v":222},{"$f":"COUNTIF(L27:L33,AI14)","v":7},null,null,null,{"$f":"N14","v":222},{"$f":"COUNTIF(L34:L39,AN14)","v":6},null,null,null,{"$f":"N14","v":222},{"$f":"COUNTIF(L40:L46,AS14)","v":7}]
[21,1263,21,1269,21,1287,null,null,null,null,0,222,null,null,null,{"$f":"SUM(P7:P14)","v":1},{"$f":"-SUM(Q7:Q14)","v":0},null,null,null,null,{"$f":"SUM(V7:V14)","v":{"$error":"#DIV/0!"}},{"$f":"-SUM(W7:W14)","v":{"$error":"#DIV/0!"}},null,null,null,{"$f":"SUM(AA7:AA14)","v":{"$error":"#DIV/0!"}},{"$f":"-SUM(AB7:AB14)","v":{"$error":"#DIV/0!"}},null,null,null,{"$f":"SUM(AF7:AF14)","v":{"$error":"#DIV/0!"}},{"$f":"-SUM(AG7:AG14)","v":{"$error":"#DIV/0!"}},null,null,null,{"$f":"SUM(AK7:AK14)","v":{"$error":"#DIV/0!"}},{"$f":"-SUM(AL7:AL14)","v":{"$error":"#DIV/0!"}},null,null,null,{"$f":"SUM(AP7:AP14)","v":{"$error":"#DIV/0!"}},{"$f":"-SUM(AQ7:AQ14)","v":{"$error":"#DIV/0!"}},null,null,null,{"$f":"SUM(AU7:AU14)","v":{"$error":"#DIV/0!"}},{"$f":"-SUM(AV7:AV14)","v":{"$error":"#DIV/0!"}}]
[21,1388,21,1394,21,1408,null,null,null,null,0,222,null,null,null,"U=",{"$f":"Q15/(LOG(Q4)/LOG(2))","v":0},null,null,null,null,"U1=",{"$f":"W15/(LOG(W4)/LOG(2))","v":{"$error":"#DIV/0!"}},null,null,null,"U2=",{"$f":"AB15/(LOG(AB4)/LOG(2))","v":{"$error":"#DIV/0!"}},null,null,null,"U3=",{"$f":"AG15/(LOG(AG4)/LOG(2))","v":{"$error":"#DIV/0!"}},null,null,null,"U4=",{"$f":"AL15/(LOG(AL4)/LOG(2))","v":{"$error":"#DIV/0!"}},null,null,null,"U5=",{"$f":"AQ15/(LOG(AQ4)/LOG(2))","v":{"$error":"#DIV/0!"}},null,null,null,"U6=",{"$f":"AV15/(LOG(AV4)/LOG(2))","v":{"$error":"#DIV/0!"}}]
[21,1554,21,1560,21,1577,null,null,null,null,0,222]
[21,1692,21,1717,21,1727,null,null,null,null,0,222]
[21,1830,21,1845,21,1851,null,null,null,null,0,222,null,"Total Target Seq"]
[21,1987,21,1997,21,2008,null,null,null,null,0,222,null,{"$f":"COUNTIF(L7:L46,G3)","v":40},null,7,6,7,7,6,7]
[21,2107,21,2113,21,2121,null,null,null,null,0,222,null,null,null,"% of reinforcement given in 6 equal intervals based on number of trials "]
[21,2220,21,2232,21,2239,null,null,null,null,0,222,null,null,null,"%_1","%_2","%_3","%_4","%_5","%_6"]
[21,2329,21,2345,21,2352,null,null,null,null,0,222,null,null,"target sequence",{"$f":"$G$3","v":222},{"$f":"$G$3","v":222},{"$f":"$G$3","v":222},{"$f":"$G$3","v":222},{"$f":"$G$3","v":222},{"$f":"$G$3","v":222}]
[21,2452,21,2461,21,2471,null,null,null,null,0,222,null,null,"total reinforcement",{"$f":"U14","v":7},{"$f":"Z14","v":6},{"$f":"AE14","v":7},{"$f":"AJ14","v":7},{"$f":"AO14","v":6},{"$f":"AT14","v":7}]
[21,2584,21,2593,21,2601,null,null,null,null,0,222,null,null,"% target"]
[21,2700,21,2710,21,2736,null,null,null,null,0,222,null,null,"CCRF"]
[21,2838,21,2853,21,2861,null,null,null,null,0,222,null,null,"% CCRf"]
[21,2985,21,3002,21,3016,null,null,null,null,0,222,null,null,"average response rate",{"$f":"F13/P20","v":136.14285714285714},{"$f":"(F19-F13)/Q20","v":149.66666666666666},{"$f":"(F26-F19)/R20","v":126.42857142857143},{"$f":"(F33-F26)/S20","v":152.71428571428572},{"$f":"(F39-F33)/T20","v":156.5},{"$f":"(F46-F39)/U20","v":147.85714285714286}]
[21,3108,21,3115,21,3121,null,null,null,null,0,222]
[21,3371,21,3377,21,3388,null,null,null,null,0,222]
[21,3499,21,3517,21,3532,null,null,null,null,0,222]
[21,3633,21,3644,21,3652,null,null,null,null,0,222]
[21,3783,21,3800,21,3805,null,null,null,null,0,222]
[21,3944,21,3951,21,3956,null,null,null,null,0,222]
[21,4103,21,4124,21,4132,null,null,null,null,0,222]
[21,4235,21,4242,21,4257,null,null,null,null,0,222]
[21,4424,21,4434,21,4441,null,null,null,null,0,222]
[21,4606,21,4610,21,4626,null,null,null,null,0,222]
[21,4720,21,4728,21,4744,null,null,null,null,0,222]
[21,4836,21,4842,21,4855,null,null,null,null,0,222]
[21,4954,21,4960,21,4966,null,null,null,null,0,222]
[21,5121,21,5139,21,5148,null,null,null,null,0,222]
[21,5277,21,5282,21,5288,null,null,null,null,0,222]
[21,5418,21,5426,21,5436,null,null,null,null,0,222]
[21,5630,21,5641,21,5657,null,null,null,null,0,222]
[21,5756,21,5772,21,5779,null,null,null,null,1,222]

{"sheet":"!M902A10.Gus","index":13,"n_rows":61,"n_cols":48,"rows_kept":61,"cut":false,"hidden":false,"merged":[[4,39,4,42],[5,39,5,40],[4,44,4,47],[5,44,5,45],[4,24,4,27],[5,24,5,25],[4,29,4,32],[5,29,5,30],[4,34,4,37],[5,34,5,35],[1,1,1,2],[5,13,5,14],[18,13,18,14],[19,13,19,14],[4,19,4,22],[5,19,5,20]]}
["Report for:!M902A10.Gus"]
["Date:","<date>"]
["Hen:","<hen>",null,null,null,"Correct Sequence",{"$f":"Start!J2","v":222},null,null,null,null,null,null,null,null,"Total Sequences in Data",{"$f":"4994-COUNTBLANK(L7:L5000)","v":55},null,null,null,null,"Total Sequences in Block Data",{"$f":"COUNTA(L7:L15)","v":9},null,null,null,"Total Sequences in Block Data",{"$f":"COUNTA(L16:L24)","v":9},null,null,null,"Total Sequences in Block Data",{"$f":"COUNTA(L25:L34)","v":10},null,null,null,"Total Sequences in Block Data",{"$f":"COUNTA(L35:L43)","v":9},null,null,null,"Total Sequences in Block Data",{"$f":"COUNTA(L44:L52)","v":9},null,null,null,"Total Sequences in Block Data",{"$f":"COUNTA(L53:L61)","v":9}]
[null,null,null,null,null,null,null,null,null,null,null,null,null,null,null,"Total Sequences in Summary",{"$f":"SUM(O7:O14)","v":55},null,null,null,null,"Total Sequences in Block Summary",{"$f":"SUM(U7:U14)","v":9},null,null,null,"Total Sequences in Block Summary",{"$f":"SUM(Z7:Z14)","v":9},null,null,null,"Total Sequences in Block Summary",{"$f":"SUM(AE7:AE14)","v":10},null,null,null,"Total Sequences in Block Summary",{"$f":"SUM(AJ7:AJ14)","v":9},null,null,null,"Total Sequences in Block Summary",{"$f":"SUM(AO7:AO14)","v":9},null,null,null,"Total Sequences in Block Summary",{"$f":"SUM(AT7:AT14)","v":9}]
[null,null,null,null,null,null,null,null,null,null,null,null,null,null,null,null,null,null,null,"Block 1",null,null,null,null,"Block 2",null,null,null,null,"Block 3",null,null,null,null,"Block 4",null,null,null,null,"Block 5",null,null,null,null,"Block 6"]
["Sequence\nComponent\n1","Time\n1","Sequence\nComponent\n2","Time\n2","Sequence\nComponent\n3","Time\n3","Sequence\nComponent\n4","Time\n4","Sequence\nComponent\n5","Time\n5","Correct?\n0=No 1=Yes","Sequence",null,"Frequency",null,"Relative Frequency","Variability",null,null,"Frequency",null,"Relative Frequency","Variability",null,"Frequency",null,"Relative Frequency","Variability",null,"Frequency",null,"Relative Frequency","Variability",null,"Frequency",null,"Relative Frequency","Variability",null,"Frequency",null,"Relative Frequency","Variability",null,"Frequency",null,"Relative Frequency","Variability"]
[21,14,21,19,21,26,null,null,null,null,0,222,null,111,{"$f":"COUNTIF($L$7:$L$500,N7)","v":0},{"$f":"O7/$Q$4","v":0},{"$f":"IF(P7=0,0,(P7*((LOG(P7))/LOG(2))))","v":0},null,null,{"$f":"N7","v":111},{"$f":"COUNTIF(L7:L15,T7)","v":0},{"$f":"U7/(W4-U14)","v":0},{"$f":"IF(V7=0,0,(V7*((LOG(V7))/LOG(2))))","v":0},null,{"$f":"N7","v":111},{"$f":"COUNTIF(L16:L24,Y7)","v":0},{"$f":"Z7/(AB4-Z14)","v":0},{"$f":"IF(AA7=0,0,(AA7*((LOG(AA7))/LOG(2))))","v":0},null,{"$f":"N7","v":111},{"$f":"COUNTIF(L25:L34,AD7)","v":0},{"$f":"AE7/(AG4-AE14)","v":0},{"$f":"IF(AF7=0,0,(AF7*((LOG(AF7))/LOG(2))))","v":0},null,{"$f":"N7","v":111},{"$f":"COUNTIF(L35:L43,AI7)","v":0},{"$f":"AJ7/(AL4-AJ14)","v":0},{"$f":"IF(AK7=0,0,(AK7*((LOG(AK7))/LOG(2))))","v":0},null,{"$f":"N7","v":111},{"$f":"COUNTIF(L44:L52,AN7)","v":0},{"$f":"AO7/(AQ4-AO14)","v":0},{"$f":"IF(AP7=0,0,(AP7*((LOG(AP7))/LOG(2))))","v":0},null,{"$f":"N7","v":111},{"$f":"COUNTIF(L53:L61,AS7)","v":0},{"$f":"AT7/(AV4-AT14)","v":0},{"$f":"IF(AU7=0,0,(AU7*((LOG(AU7))/LOG(2))))","v":0}]
[21,189,21,198,21,203,null,null,null,null,0,222,null,112,{"$f":"COUNTIF($L$7:$L$500,N8)","v":0},{"$f":"O8/$Q$4","v":0},{"$f":"IF(P8=0,0,(P8*((LOG(P8))/LOG(2))))","v":0},null,null,{"$f":"N8","v":112},{"$f":"COUNTIF(L7:L15,T8)","v":0},{"$f":"U8/(W4-U14)","v":0},{"$f":"IF(V8=0,0,(V8*((LOG(V8))/LOG(2))))","v":0},null,{"$f":"N8","v":112},{"$f":"COUNTIF(L16:L24,Y8)","v":0},{"$f":"Z8/(AB4-Z14)","v":0},{"$f":"IF(AA8=0,0,(AA8*((LOG(AA8))/LOG(2))))","v":0},null,{"$f":"N8","v":112},{"$f":"COUNTIF(L25:L34,AD8)","v":0},{"$f":"AE8/(AG4-AE14)","v":0},{"$f":"IF(AF8=0,0,(AF8*((LOG(AF8))/LOG(2))))","v":0},null,{"$f":"N8","v":112},{"$f":"COUNTIF(L35:L43,AI8)","v":0},{"$f":"AJ8/(AL4-AJ14)","v":0},{"$f":"IF(AK8=0,0,(AK8*((LOG(AK8))/LOG(2))))","v":0},null,{"$f":"N8","v":112},{"$f":"COUNTIF(L44:L52,AN8)","v":0},{"$f":"AO8/(AQ4-AO14)","v":0},{"$f":"IF(AP8=0,0,(AP8*((LOG(AP8))/LOG(2))))","v":0},null,{"$f":"N8","v":112},{"$f":"COUNTIF(L53:L61,AS8)","v":0},{"$f":"AT8/(AV4-AT14)","v":0},{"$f":"IF(AU8=0,0,(AU8*((LOG(AU8))/LOG(2))))","v":0}]
[12,335,23,352,23,360,null,null,null,null,0,122,null,121,{"$f":"COUNTIF($L$7:$L$500,N9)","v":1},{"$f":"O9/$Q$4","v":1.8181818181818181E-2},{"$f":"IF(P9=0,0,(P9*((LOG(P9))/LOG(2))))","v":-0.10511563115499381},null,null,{"$f":"N9","v":121},{"$f":"COUNTIF(L7:L15,T9)","v":0},{"$f":"U9/(W4-U14)","v":0},{"$f":"IF(V9=0,0,(V9*((LOG(V9))/LOG(2))))","v":0},null,{"$f":"N9","v":121},{"$f":"COUNTIF(L16:L24,Y9)","v":0},{"$f":"Z9/(AB4-Z14)","v":0},{"$f":"IF(AA9=0,0,(AA9*((LOG(AA9))/LOG(2))))","v":0},null,{"$f":"N9","v":121},{"$f":"COUNTIF(L25:L34,AD9)","v":0},{"$f":"AE9/(AG4-AE14)","v":0},{"$f":"IF(AF9=0,0,(AF9*((LOG(AF9))/LOG(2))))","v":0},null,{"$f":"N9","v":121},{"$f":"COUNTIF(L35:L43,AI9)","v":0},{"$f":"AJ9/(AL4-AJ14)","v":0},{"$f":"IF(AK9=0,0,(AK9*((LOG(AK9))/LOG(2))))","v":0},null,{"$f":"N9","v":121},{"$f":"COUNTIF(L44:L52,AN9)","v":1},{"$f":"AO9/(AQ4-AO14)","v":0.2},{"$f":"IF(AP9=0,0,(AP9*((LOG(AP9))/LOG(2))))","v":-0.46438561897747244},null,{"$f":"N9","v":121},{"$f":"COUNTIF(L53:L61,AS9)","v":0},{"$f":"AT9/(AV4-AT14)","v":0},{"$f":"IF(AU9=0,0,(AU9*((LOG(AU9))/LOG(2))))","v":0}]
[21,468,21,473,21,481,null,null,null,null,0,222,null,122,{"$f":"COUNTIF($L$7:$L$500,N10)","v":8},{"$f":"O10/$Q$4","v":0.14545454545454545},{"$f":"IF(P10=0,0,(P10*((LOG(P10))/LOG(2))))","v":-0.40456141287631409},null,null,{"$f":"N10","v":122},{"$f":"COUNTIF(L7:L15,T10)","v":1},{"$f":"U10/(W4-U14)","v":0.5},{"$f":"IF(V10=0,0,(V10*((LOG(V10))/LOG(2))))","v":-0.5},null,{"$f":"N10","v":122},{"$f":"COUNTIF(L16:L24,Y10)","v":1},{"$f":"Z10/(AB4-Z14)","v":0.5},{"$f":"IF(AA10=0,0,(AA10*((LOG(AA10))/LOG(2))))","v":-0.5},null,{"$f":"N10","v":122},{"$f":"COUNTIF(L25:L34,AD10)","v":2},{"$f":"AE10/(AG4-AE14)","v":1},{"$f":"IF(AF10=0,0,(AF10*((LOG(AF10))/LOG(2))))","v":0},null,{"$f":"N10","v":122},{"$f":"COUNTIF(L35:L43,AI10)","v":3},{"$f":"AJ10/(AL4-AJ14)","v":0.75},{"$f":"IF(AK10=0,0,(AK10*((LOG(AK10))/LOG(2))))","v":-0.31127812445913283},null,{"$f":"N10","v":122},{"$f":"COUNTIF(L44:L52,AN10)","v":1},{"$f":"AO10/(AQ4-AO14)","v":0.2},{"$f":"IF(AP10=0,0,(AP10*((LOG(AP10))/LOG(2))))","v":-0.46438561897747244},null,{"$f":"N10","v":122},{"$f":"COUNTIF(L53:L61,AS10)","v":0},{"$f":"AT10/(AV4-AT14)","v":0},{"$f":"IF(AU10=0,0,(AU10*((LOG(AU10))/LOG(2))))","v":0}]
[21,569,21,576,21,586,null,null,null,null,0,222,null,211,{"$f":"COUNTIF($L$7:$L$500,N11)","v":1},{"$f":"O11/$Q$4","v":1.8181818181818181E-2},{"$f":"IF(P11=0,0,(P11*((LOG(P11))/LOG(2))))","v":-0.10511563115499381},null,null,{"$f":"N11","v":211},{"$f":"COUNTIF(L7:L15,T11)","v":0},{"$f":"U11/(W4-U14)","v":0},{"$f":"IF(V11=0,0,(V11*((LOG(V11))/LOG(2))))","v":0},null,{"$f":"N11","v":211},{"$f":"COUNTIF(L16:L24,Y11)","v":0},{"$f":"Z11/(AB4-Z14)","v":0},{"$f":"IF(AA11=0,0,(AA11*((LOG(AA11))/LOG(2))))","v":0},null,{"$f":"N11","v":211},{"$f":"COUNTIF(L25:L34,AD11)","v":0},{"$f":"AE11/(AG4-AE14)","v":0},{"$f":"IF(AF11=0,0,(AF11*((LOG(AF11))/LOG(2))))","v":0},null,{"$f":"N11","v":211},{"$f":"COUNTIF(L35:L43,AI11)","v":0},{"$f":"AJ11/(AL4-AJ14)","v":0},{"$f":"IF(AK11=0,0,(AK11*((LOG(AK11))/LOG(2))))","v":0},null,{"$f":"N11","v":211},{"$f":"COUNTIF(L44:L52,AN11)","v":0},{"$f":"AO11/(AQ4-AO14)","v":0},{"$f":"IF(AP11=0,0,(AP11*((LOG(AP11))/LOG(2))))","v":0},null,{"$f":"N11","v":211},{"$f":"COUNTIF(L53:L61,AS11)","v":1},{"$f":"AT11/(AV4-AT14)","v":1},{"$f":"IF(AU11=0,0,(AU11*((LOG(AU11))/LOG(2))))","v":0}]
[21,684,21,689,21,704,null,null,null,null,0,222,null,212,{"$f":"COUNTIF($L$7:$L$500,N12)","v":3},{"$f":"O12/$Q$4","v":5.4545454545454543E-2},{"$f":"IF(P12=0,0,(P12*((LOG(P12))/LOG(2))))","v":-0.22889439342564566},null,null,{"$f":"N12","v":212},{"$f":"COUNTIF(L7:L15,T12)","v":0},{"$f":"U12/(W4-U14)","v":0},{"$f":"IF(V12=0,0,(V12*((LOG(V12))/LOG(2))))","v":0},null,{"$f":"N12","v":212},{"$f":"COUNTIF(L16:L24,Y12)","v":0},{"$f":"Z12/(AB4-Z14)","v":0},{"$f":"IF(AA12=0,0,(AA12*((LOG(AA12))/LOG(2))))","v":0},null,{"$f":"N12","v":212},{"$f":"COUNTIF(L25:L34,AD12)","v":0},{"$f":"AE12/(AG4-AE14)","v":0},{"$f":"IF(AF12=0,0,(AF12*((LOG(AF12))/LOG(2))))","v":0},null,{"$f":"N12","v":212},{"$f":"COUNTIF(L35:L43,AI12)","v":1},{"$f":"AJ12/(AL4-AJ14)","v":0.25},{"$f":"IF(AK12=0,0,(AK12*((LOG(AK12))/LOG(2))))","v":-0.5},null,{"$f":"N12","v":212},{"$f":"COUNTIF(L44:L52,AN12)","v":2},{"$f":"AO12/(AQ4-AO14)","v":0.4},{"$f":"IF(AP12=0,0,(AP12*((LOG(AP12))/LOG(2))))","v":-0.52877123795494496},null,{"$f":"N12","v":212},{"$f":"COUNTIF(L53:L61,AS12)","v":0},{"$f":"AT12/(AV4-AT14)","v":0},{"$f":"IF(AU12=0,0,(AU12*((LOG(AU12))/LOG(2))))","v":0}]
[21,798,21,814,21,822,null,null,null,null,0,222,null,221,{"$f":"COUNTIF($L$7:$L$500,N13)","v":3},{"$f":"O13/$Q$4","v":5.4545454545454543E-2},{"$f":"IF(P13=0,0,(P13*((LOG(P13))/LOG(2))))","v":-0.22889439342564566},null,null,{"$f":"N13","v":221},{"$f":"COUNTIF(L7:L15,T13)","v":1},{"$f":"U13/(W4-U14)","v":0.5},{"$f":"IF(V13=0,0,(V13*((LOG(V13))/LOG(2))))","v":-0.5},null,{"$f":"N13","v":221},{"$f":"COUNTIF(L16:L24,Y13)","v":1},{"$f":"Z13/(AB4-Z14)","v":0.5},{"$f":"IF(AA13=0,0,(AA13*((LOG(AA13))/LOG(2))))","v":-0.5},null,{"$f":"N13","v":221},{"$f":"COUNTIF(L25:L34,AD13)","v":0},{"$f":"AE13/(AG4-AE14)","v":0},{"$f":"IF(AF13=0,0,(AF13*((LOG(AF13))/LOG(2))))","v":0},null,{"$f":"N13","v":221},{"$f":"COUNTIF(L35:L43,AI13)","v":0},{"$f":"AJ13/(AL4-AJ14)","v":0},{"$f":"IF(AK13=0,0,(AK13*((LOG(AK13))/LOG(2))))","v":0},null,{"$f":"N13","v":221},{"$f":"COUNTIF(L44:L52,AN13)","v":1},{"$f":"AO13/(AQ4-AO14)","v":0.2},{"$f":"IF(AP13=0,0,(AP13*((LOG(AP13))/LOG(2))))","v":-0.46438561897747244},null,{"$f":"N13","v":221},{"$f":"COUNTIF(L53:L61,AS13)","v":0},{"$f":"AT13/(AV4-AT14)","v":0},{"$f":"IF(AU13=0,0,(AU13*((LOG(AU13))/LOG(2))))","v":0}]
[21,934,21,950,21,962,null,null,null,null,0,222,null,222,{"$f":"COUNTIF($L$7:$L$500,N14)","v":39},{"$f":"O14/$Q$4","v":0.70909090909090911},{"$f":"IF(P14=0,0,(P14*((LOG(P14))/LOG(2))))","v":-0.35167895076061884},null,null,{"$f":"N14","v":222},{"$f":"COUNTIF(L7:L15,T14)","v":7},null,null,null,{"$f":"N14","v":222},{"$f":"COUNTIF(L16:L24,Y14)","v":7},null,null,null,{"$f":"N14","v":222},{"$f":"COUNTIF(L25:L34,AD14)","v":8},null,null,null,{"$f":"N14","v":222},{"$f":"COUNTIF(L35:L43,AI14)","v":5},null,null,null,{"$f":"N14","v":222},{"$f":"COUNTIF(L44:L52,AN14)","v":4},null,null,null,{"$f":"N14","v":222},{"$f":"COUNTIF(L53:L61,AS14)","v":8}]
[21,1062,21,1071,12,1076,null,null,null,null,0,221,null,null,null,{"$f":"SUM(P7:P14)","v":1},{"$f":"-SUM(Q7:Q14)","v":1.4242604127982119},null,null,null,null,{"$f":"SUM(V7:V14)","v":1},{"$f":"-SUM(W7:W14)","v":1},null,null,null,{"$f":"SUM(AA7:AA14)","v":1},{"$f":"-SUM(AB7:AB14)","v":1},null,null,null,{"$f":"SUM(AF7:AF14)","v":1},{"$f":"-SUM(AG7:AG14)","v":0},null,null,null,{"$f":"SUM(AK7:AK14)","v":1},{"$f":"-SUM(AL7:AL14)","v":0.81127812445913283},null,null,null,{"$f":"SUM(AP7:AP14)","v":1},{"$f":"-SUM(AQ7:AQ14)","v":1.9219280948873623},null,null,null,{"$f":"SUM(AU7:AU14)","v":1},{"$f":"-SUM(AV7:AV14)","v":0}]
[21,1178,21,1182,21,1185,null,null,null,null,0,222,null,null,null,"U=",{"$f":"Q15/(LOG(Q4)/LOG(2))","v":0.24635388271488443},null,null,null,null,"U1=",{"$f":"W15/(LOG(W4)/LOG(2))","v":0.31546487678572877},null,null,null,"U2=",{"$f":"AB15/(LOG(AB4)/LOG(2))","v":0.31546487678572877},null,null,null,"U3=",{"$f":"AG15/(LOG(AG4)/LOG(2))","v":0},null,null,null,"U4=",{"$f":"AL15/(LOG(AL4)/LOG(2))","v":0.25592975357145742},null,null,null,"U5=",{"$f":"AQ15/(LOG(AQ4)/LOG(2))","v":0.60630080964467215},null,null,null,"U6=",{"$f":"AV15/(LOG(AV4)/LOG(2))","v":0}]
[21,1296,21,1302,21,1315,null,null,null,null,0,222]
[21,1466,21,1474,21,1480,null,null,null,null,0,222]
[21,1577,21,1582,12,1586,null,null,null,null,0,221,null,"Total Target Seq"]
[21,1705,21,1712,21,1722,null,null,null,null,0,222,null,{"$f":"COUNTIF(L7:L61,G3)","v":39},null,9,9,10,9,9,9]
[21,1829,21,1835,21,1841,null,null,null,null,0,222,null,null,null,"% of reinforcement given in 6 equal intervals based on number of trials "]
[12,1933,23,1958,23,1976,null,null,null,null,0,122,null,null,null,"%_1","%_2","%_3","%_4","%_5","%_6"]
[21,2076,21,2081,21,2085,null,null,null,null,0,222,null,null,"target sequence",{"$f":"$G$3","v":222},{"$f":"$G$3","v":222},{"$f":"$G$3","v":222},{"$f":"$G$3","v":222},{"$f":"$G$3","v":222},{"$f":"$G$3","v":222}]
[21,2206,21,2212,21,2220,null,null,null,null,0,222,null,null,"total reinforcement",{"$f":"U14","v":7},{"$f":"Z14","v":7},{"$f":"AE14","v":8},{"$f":"AJ14","v":5},{"$f":"AO14","v":4},{"$f":"AT14","v":8}]
[21,2320,21,2330,21,2373,null,null,null,null,0,222,null,null,"% target"]
[21,2466,21,2478,21,2495,null,null,null,null,0,222,null,null,"CCRF"]
[21,2634,21,2643,21,2648,null,null,null,null,0,222,null,null,"% CCRf"]
[12,2776,23,2815,23,2819,null,null,null,null,0,122,null,null,"average response rate",{"$f":"F15/P20","v":119.55555555555556},{"$f":"(F24-F15)/Q20","v":127.11111111111111},{"$f":"(F34-F24)/R20","v":140.80000000000001},{"$f":"(F43-F34)/S20","v":111},{"$f":"(F52-F43)/T20","v":115.33333333333333},{"$f":"(F61-F52)/U20","v":143.11111111111111}]
[21,2911,21,2915,21,2918,null,null,null,null,0,222]
[21,3043,21,3049,21,3058,null,null,null,null,0,222]
[21,3171,21,3178,21,3196,null,null,null,null,0,222]
[21,3310,21,3331,21,3341,null,null,null,null,0,222]
[21,3494,21,3500,21,3514,null,null,null,null,0,222]
[12,3607,23,3613,23,3628,null,null,null,null,0,122]
[21,3722,21,3727,21,3731,null,null,null,null,0,222]
[12,3820,23,3825,23,3831,null,null,null,null,0,122]
[21,3930,21,3936,21,3942,null,null,null,null,0,222]
[12,4032,23,4038,23,4048,null,null,null,null,0,122]
[21,4145,12,4149,23,4155,null,null,null,null,0,212]
[12,4247,23,4253,23,4256,null,null,null,null,0,122]
[21,4354,21,4357,21,4361,null,null,null,null,0,222]
[21,4488,21,4502,21,4509,null,null,null,null,0,222]
[21,4607,21,4615,21,4627,null,null,null,null,0,222]
[21,4749,21,4758,21,4782,null,null,null,null,0,222]
[21,4876,21,4898,21,4911,null,null,null,null,0,222]
[21,5003,12,5006,23,5014,null,null,null,null,0,212]
[21,5110,21,5114,12,5116,null,null,null,null,0,221]
[21,5213,21,5217,21,5222,null,null,null,null,0,222]
[12,5316,23,5325,23,5330,null,null,null,null,0,122]
[21,5426,21,5431,21,5436,null,null,null,null,0,222]
[12,5537,23,5549,14,5557,null,null,null,null,0,121]
[21,5656,12,5659,23,5665,null,null,null,null,0,212]
[21,5757,12,5762,14,5765,null,null,null,null,0,211]
[21,5917,21,5932,21,5939,null,null,null,null,0,222]
[21,6047,21,6057,21,6066,null,null,null,null,0,222]
[21,6222,21,6231,21,6255,null,null,null,null,0,222]
[21,6400,21,6411,21,6420,null,null,null,null,0,222]
[21,6523,21,6532,21,6545,null,null,null,null,0,222]
[21,6664,21,6669,21,6692,null,null,null,null,0,222]
[21,6815,21,6821,21,6840,null,null,null,null,0,222]
[21,6936,21,6942,21,6953,null,null,null,null,1,222]

{"sheet":"!M903C30.Gus","index":14,"n_rows":67,"n_cols":48,"rows_kept":67,"cut":false,"hidden":false,"merged":[[4,39,4,42],[5,39,5,40],[4,44,4,47],[5,44,5,45],[4,24,4,27],[5,24,5,25],[4,29,4,32],[5,29,5,30],[4,34,4,37],[5,34,5,35],[1,1,1,2],[5,13,5,14],[18,13,18,14],[19,13,19,14],[4,19,4,22],[5,19,5,20]]}
["Report for:!M903C30.Gus"]
["Date:","<date>"]
["Hen:","<hen>",null,null,null,"Correct Sequence",{"$f":"Start!J2","v":222},null,null,null,null,null,null,null,null,"Total Sequences in Data",{"$f":"4994-COUNTBLANK(L7:L5000)","v":61},null,null,null,null,"Total Sequences in Block Data",{"$f":"COUNTA(L7:L16)","v":10},null,null,null,"Total Sequences in Block Data",{"$f":"COUNTA(L17:L26)","v":10},null,null,null,"Total Sequences in Block Data",{"$f":"COUNTA(L27:L37)","v":11},null,null,null,"Total Sequences in Block Data",{"$f":"COUNTA(L38:L47)","v":10},null,null,null,"Total Sequences in Block Data",{"$f":"COUNTA(L48:L57)","v":10},null,null,null,"Total Sequences in Block Data",{"$f":"COUNTA(L58:L67)","v":10}]
[null,null,null,null,null,null,null,null,null,null,null,null,null,null,null,"Total Sequences in Summary",{"$f":"SUM(O7:O14)","v":61},null,null,null,null,"Total Sequences in Block Summary",{"$f":"SUM(U7:U14)","v":10},null,null,null,"Total Sequences in Block Summary",{"$f":"SUM(Z7:Z14)","v":10},null,null,null,"Total Sequences in Block Summary",{"$f":"SUM(AE7:AE14)","v":11},null,null,null,"Total Sequences in Block Summary",{"$f":"SUM(AJ7:AJ14)","v":10},null,null,null,"Total Sequences in Block Summary",{"$f":"SUM(AO7:AO14)","v":10},null,null,null,"Total Sequences in Block Summary",{"$f":"SUM(AT7:AT14)","v":10}]
[null,null,null,null,null,null,null,null,null,null,null,null,null,null,null,null,null,null,null,"Block 1",null,null,null,null,"Block 2",null,null,null,null,"Block 3",null,null,null,null,"Block 4",null,null,null,null,"Block 5",null,null,null,null,"Block 6"]
["Sequence\nComponent\n1","Time\n1","Sequence\nComponent\n2","Time\n2","Sequence\nComponent\n3","Time\n3","Sequence\nComponent\n4","Time\n4","Sequence\nComponent\n5","Time\n5","Correct?\n0=No 1=Yes","Sequence",null,"Frequency",null,"Relative Frequency","Variability",null,null,"Frequency",null,"Relative Frequency","Variability",null,"Frequency",null,"Relative Frequency","Variability",null,"Frequency",null,"Relative Frequency","Variability",null,"Frequency",null,"Relative Frequency","Variability",null,"Frequency",null,"Relative Frequency","Variability",null,"Frequency",null,"Relative Frequency","Variability"]
[12,8,23,12,23,19,null,null,null,null,0,122,null,111,{"$f":"COUNTIF($L$7:$L$500,N7)","v":0},{"$f":"O7/$Q$4","v":0},{"$f":"IF(P7=0,0,(P7*((LOG(P7))/LOG(2))))","v":0},null,null,{"$f":"N7","v":111},{"$f":"COUNTIF(L7:L16,T7)","v":0},{"$f":"U7/(W4-U14)","v":0},{"$f":"IF(V7=0,0,(V7*((LOG(V7))/LOG(2))))","v":0},null,{"$f":"N7","v":111},{"$f":"COUNTIF(L17:L26,Y7)","v":0},{"$f":"Z7/(AB4-Z14)","v":0},{"$f":"IF(AA7=0,0,(AA7*((LOG(AA7))/LOG(2))))","v":0},null,{"$f":"N7","v":111},{"$f":"COUNTIF(L27:L37,AD7)","v":0},{"$f":"AE7/(AG4-AE14)","v":0},{"$f":"IF(AF7=0,0,(AF7*((LOG(AF7))/LOG(2))))","v":0},null,{"$f":"N7","v":111},{"$f":"COUNTIF(L38:L47,AI7)","v":0},{"$f":"AJ7/(AL4-AJ14)","v":0},{"$f":"IF(AK7=0,0,(AK7*((LOG(AK7))/LOG(2))))","v":0},null,{"$f":"N7","v":111},{"$f":"COUNTIF(L48:L57,AN7)","v":0},{"$f":"AO7/(AQ4-AO14)","v":0},{"$f":"IF(AP7=0,0,(AP7*((LOG(AP7))/LOG(2))))","v":0},null,{"$f":"N7","v":111},{"$f":"COUNTIF(L58:L67,AS7)","v":0},{"$f":"AT7/(AV4-AT14)","v":0},{"$f":"IF(AU7=0,0,(AU7*((LOG(AU7))/LOG(2))))","v":0}]
[12,111,23,116,14,122,null,null,null,null,0,121,null,112,{"$f":"COUNTIF($L$7:$L$500,N8)","v":0},{"$f":"O8/$Q$4","v":0},{"$f":"IF(P8=0,0,(P8*((LOG(P8))/LOG(2))))","v":0},null,null,{"$f":"N8","v":112},{"$f":"COUNTIF(L7:L16,T8)","v":0},{"$f":"U8/(W4-U14)","v":0},{"$f":"IF(V8=0,0,(V8*((LOG(V8))/LOG(2))))","v":0},null,{"$f":"N8","v":112},{"$f":"COUNTIF(L17:L26,Y8)","v":0},{"$f":"Z8/(AB4-Z14)","v":0},{"$f":"IF(AA8=0,0,(AA8*((LOG(AA8))/LOG(2))))","v":0},null,{"$f":"N8","v":112},{"$f":"COUNTIF(L27:L37,AD8)","v":0},{"$f":"AE8/(AG4-AE14)","v":0},{"$f":"IF(AF8=0,0,(AF8*((LOG(AF8))/LOG(2))))","v":0},null,{"$f":"N8","v":112},{"$f":"COUNTIF(L38:L47,AI8)","v":0},{"$f":"AJ8/(AL4-AJ14)","v":0},{"$f":"IF(AK8=0,0,(AK8*((LOG(AK8))/LOG(2))))","v":0},null,{"$f":"N8","v":112},{"$f":"COUNTIF(L48:L57,AN8)","v":0},{"$f":"AO8/(AQ4-AO14)","v":0},{"$f":"IF(AP8=0,0,(AP8*((LOG(AP8))/LOG(2))))","v":0},null,{"$f":"N8","v":112},{"$f":"COUNTIF(L58:L67,AS8)","v":0},{"$f":"AT8/(AV4-AT14)","v":0},{"$f":"IF(AU8=0,0,(AU8*((LOG(AU8))/LOG(2))))","v":0}]
[21,227,21,232,21,238,null,null,null,null,0,222,null,121,{"$f":"COUNTIF($L$7:$L$500,N9)","v":1},{"$f":"O9/$Q$4","v":1.6393442622950821E-2},{"$f":"IF(P9=0,0,(P9*((LOG(P9))/LOG(2))))","v":-9.7225202255129275E-2},null,null,{"$f":"N9","v":121},{"$f":"COUNTIF(L7:L16,T9)","v":1},{"$f":"U9/(W4-U14)","v":0.5},{"$f":"IF(V9=0,0,(V9*((LOG(V9))/LOG(2))))","v":-0.5},null,{"$f":"N9","v":121},{"$f":"COUNTIF(L17:L26,Y9)","v":0},{"$f":"Z9/(AB4-Z14)","v":0},{"$f":"IF(AA9=0,0,(AA9*((LOG(AA9))/LOG(2))))","v":0},null,{"$f":"N9","v":121},{"$f":"COUNTIF(L27:L37,AD9)","v":0},{"$f":"AE9/(AG4-AE14)","v":0},{"$f":"IF(AF9=0,0,(AF9*((LOG(AF9))/LOG(2))))","v":0},null,{"$f":"N9","v":121},{"$f":"COUNTIF(L38:L47,AI9)","v":0},{"$f":"AJ9/(AL4-AJ14)","v":0},{"$f":"IF(AK9=0,0,(AK9*((LOG(AK9))/LOG(2))))","v":0},null,{"$f":"N9","v":121},{"$f":"COUNTIF(L48:L57,AN9)","v":0},{"$f":"AO9/(AQ4-AO14)","v":0},{"$f":"IF(AP9=0,0,(AP9*((LOG(AP9))/LOG(2))))","v":0},null,{"$f":"N9","v":121},{"$f":"COUNTIF(L58:L67,AS9)","v":0},{"$f":"AT9/(AV4-AT14)","v":0},{"$f":"IF(AU9=0,0,(AU9*((LOG(AU9))/LOG(2))))","v":0}]
[21,360,21,395,21,404,null,null,null,null,0,222,null,122,{"$f":"COUNTIF($L$7:$L$500,N10)","v":11},{"$f":"O10/$Q$4","v":0.18032786885245902},{"$f":"IF(P10=0,0,(P10*((LOG(P10))/LOG(2))))","v":-0.44564529357674554},null,null,{"$f":"N10","v":122},{"$f":"COUNTIF(L7:L16,T10)","v":1},{"$f":"U10/(W4-U14)","v":0.5},{"$f":"IF(V10=0,0,(V10*((LOG(V10))/LOG(2))))","v":-0.5},null,{"$f":"N10","v":122},{"$f":"COUNTIF(L17:L26,Y10)","v":0},{"$f":"Z10/(AB4-Z14)","v":0},{"$f":"IF(AA10=0,0,(AA10*((LOG(AA10))/LOG(2))))","v":0},null,{"$f":"N10","v":122},{"$f":"COUNTIF(L27:L37,AD10)","v":3},{"$f":"AE10/(AG4-AE14)","v":0.5},{"$f":"IF(AF10=0,0,(AF10*((LOG(AF10))/LOG(2))))","v":-0.5},null,{"$f":"N10","v":122},{"$f":"COUNTIF(L38:L47,AI10)","v":2},{"$f":"AJ10/(AL4-AJ14)","v":0.5},{"$f":"IF(AK10=0,0,(AK10*((LOG(AK10))/LOG(2))))","v":-0.5},null,{"$f":"N10","v":122},{"$f":"COUNTIF(L48:L57,AN10)","v":2},{"$f":"AO10/(AQ4-AO14)","v":0.4},{"$f":"IF(AP10=0,0,(AP10*((LOG(AP10))/LOG(2))))","v":-0.52877123795494496},null,{"$f":"N10","v":122},{"$f":"COUNTIF(L58:L67,AS10)","v":3},{"$f":"AT10/(AV4-AT14)","v":0.75},{"$f":"IF(AU10=0,0,(AU10*((LOG(AU10))/LOG(2))))","v":-0.31127812445913283}]
[21,504,21,528,21,536,null,null,null,null,0,222,null,211,{"$f":"COUNTIF($L$7:$L$500,N11)","v":0},{"$f":"O11/$Q$4","v":0},{"$f":"IF(P11=0,0,(P11*((LOG(P11))/LOG(2))))","v":0},null,null,{"$f":"N11","v":211},{"$f":"COUNTIF(L7:L16,T11)","v":0},{"$f":"U11/(W4-U14)","v":0},{"$f":"IF(V11=0,0,(V11*((LOG(V11))/LOG(2))))","v":0},null,{"$f":"N11","v":211},{"$f":"COUNTIF(L17:L26,Y11)","v":0},{"$f":"Z11/(AB4-Z14)","v":0},{"$f":"IF(AA11=0,0,(AA11*((LOG(AA11))/LOG(2))))","v":0},null,{"$f":"N11","v":211},{"$f":"COUNTIF(L27:L37,AD11)","v":0},{"$f":"AE11/(AG4-AE14)","v":0},{"$f":"IF(AF11=0,0,(AF11*((LOG(AF11))/LOG(2))))","v":0},null,{"$f":"N11","v":211},{"$f":"COUNTIF(L38:L47,AI11)","v":0},{"$f":"AJ11/(AL4-AJ14)","v":0},{"$f":"IF(AK11=0,0,(AK11*((LOG(AK11))/LOG(2))))","v":0},null,{"$f":"N11","v":211},{"$f":"COUNTIF(L48:L57,AN11)","v":0},{"$f":"AO11/(AQ4-AO14)","v":0},{"$f":"IF(AP11=0,0,(AP11*((LOG(AP11))/LOG(2))))","v":0},null,{"$f":"N11","v":211},{"$f":"COUNTIF(L58:L67,AS11)","v":0},{"$f":"AT11/(AV4-AT14)","v":0},{"$f":"IF(AU11=0,0,(AU11*((LOG(AU11))/LOG(2))))","v":0}]
[21,652,21,658,21,666,null,null,null,null,0,222,null,212,{"$f":"COUNTIF($L$7:$L$500,N12)","v":5},{"$f":"O12/$Q$4","v":8.1967213114754092E-2},{"$f":"IF(P12=0,0,(P12*((LOG(P12))/LOG(2))))","v":-0.29580403628487895},null,null,{"$f":"N12","v":212},{"$f":"COUNTIF(L7:L16,T12)","v":0},{"$f":"U12/(W4-U14)","v":0},{"$f":"IF(V12=0,0,(V12*((LOG(V12))/LOG(2))))","v":0},null,{"$f":"N12","v":212},{"$f":"COUNTIF(L17:L26,Y12)","v":1},{"$f":"Z12/(AB4-Z14)","v":1},{"$f":"IF(AA12=0,0,(AA12*((LOG(AA12))/LOG(2))))","v":0},null,{"$f":"N12","v":212},{"$f":"COUNTIF(L27:L37,AD12)","v":1},{"$f":"AE12/(AG4-AE14)","v":0.16666666666666666},{"$f":"IF(AF12=0,0,(AF12*((LOG(AF12))/LOG(2))))","v":-0.43082708345352599},null,{"$f":"N12","v":212},{"$f":"COUNTIF(L38:L47,AI12)","v":1},{"$f":"AJ12/(AL4-AJ14)","v":0.25},{"$f":"IF(AK12=0,0,(AK12*((LOG(AK12))/LOG(2))))","v":-0.5},null,{"$f":"N12","v":212},{"$f":"COUNTIF(L48:L57,AN12)","v":2},{"$f":"AO12/(AQ4-AO14)","v":0.4},{"$f":"IF(AP12=0,0,(AP12*((LOG(AP12))/LOG(2))))","v":-0.52877123795494496},null,{"$f":"N12","v":212},{"$f":"COUNTIF(L58:L67,AS12)","v":0},{"$f":"AT12/(AV4-AT14)","v":0},{"$f":"IF(AU12=0,0,(AU12*((LOG(AU12))/LOG(2))))","v":0}]
[21,779,21,799,21,809,null,null,null,null,0,222,null,221,{"$f":"COUNTIF($L$7:$L$500,N13)","v":5},{"$f":"O13/$Q$4","v":8.1967213114754092E-2},{"$f":"IF(P13=0,0,(P13*((LOG(P13))/LOG(2))))","v":-0.29580403628487895},null,null,{"$f":"N13","v":221},{"$f":"COUNTIF(L7:L16,T13)","v":0},{"$f":"U13/(W4-U14)","v":0},{"$f":"IF(V13=0,0,(V13*((LOG(V13))/LOG(2))))","v":0},null,{"$f":"N13","v":221},{"$f":"COUNTIF(L17:L26,Y13)","v":0},{"$f":"Z13/(AB4-Z14)","v":0},{"$f":"IF(AA13=0,0,(AA13*((LOG(AA13))/LOG(2))))","v":0},null,{"$f":"N13","v":221},{"$f":"COUNTIF(L27:L37,AD13)","v":2},{"$f":"AE13/(AG4-AE14)","v":0.33333333333333331},{"$f":"IF(AF13=0,0,(AF13*((LOG(AF13))/LOG(2))))","v":-0.52832083357371862},null,{"$f":"N13","v":221},{"$f":"COUNTIF(L38:L47,AI13)","v":1},{"$f":"AJ13/(AL4-AJ14)","v":0.25},{"$f":"IF(AK13=0,0,(AK13*((LOG(AK13))/LOG(2))))","v":-0.5},null,{"$f":"N13","v":221},{"$f":"COUNTIF(L48:L57,AN13)","v":1},{"$f":"AO13/(AQ4-AO14)","v":0.2},{"$f":"IF(AP13=0,0,(AP13*((LOG(AP13))/LOG(2))))","v":-0.46438561897747244},null,{"$f":"N13","v":221},{"$f":"COUNTIF(L58:L67,AS13)","v":1},{"$f":"AT13/(AV4-AT14)","v":0.25},{"$f":"IF(AU13=0,0,(AU13*((LOG(AU13))/LOG(2))))","v":-0.5}]
[21,1057,21,1066,21,1081,null,null,null,null,0,222,null,222,{"$f":"COUNTIF($L$7:$L$500,N14)","v":39},{"$f":"O14/$Q$4","v":0.63934426229508201},{"$f":"IF(P14=0,0,(P14*((LOG(P14))/LOG(2))))","v":-0.41259130539876843},null,null,{"$f":"N14","v":222},{"$f":"COUNTIF(L7:L16,T14)","v":8},null,null,null,{"$f":"N14","v":222},{"$f":"COUNTIF(L17:L26,Y14)","v":9},null,null,null,{"$f":"N14","v":222},{"$f":"COUNTIF(L27:L37,AD14)","v":5},null,null,null,{"$f":"N14","v":222},{"$f":"COUNTIF(L38:L47,AI14)","v":6},null,null,null,{"$f":"N14","v":222},{"$f":"COUNTIF(L48:L57,AN14)","v":5},null,null,null,{"$f":"N14","v":222},{"$f":"COUNTIF(L58:L67,AS14)","v":6}]
[21,1213,21,1252,21,1261,null,null,null,null,0,222,null,null,null,{"$f":"SUM(P7:P14)","v":1},{"$f":"-SUM(Q7:Q14)","v":1.5470698738004012},null,null,null,null,{"$f":"SUM(V7:V14)","v":1},{"$f":"-SUM(W7:W14)","v":1},null,null,null,{"$f":"SUM(AA7:AA14)","v":1},{"$f":"-SUM(AB7:AB14)","v":0},null,null,null,{"$f":"SUM(AF7:AF14)","v":1},{"$f":"-SUM(AG7:AG14)","v":1.4591479170272446},null,null,null,{"$f":"SUM(AK7:AK14)","v":1},{"$f":"-SUM(AL7:AL14)","v":1.5},null,null,null,{"$f":"SUM(AP7:AP14)","v":1},{"$f":"-SUM(AQ7:AQ14)","v":1.5219280948873624},null,null,null,{"$f":"SUM(AU7:AU14)","v":1},{"$f":"-SUM(AV7:AV14)","v":0.81127812445913283}]
[21,1386,21,1421,21,1430,null,null,null,null,0,222,null,null,null,"U=",{"$f":"Q15/(LOG(Q4)/LOG(2))","v":0.26085624531066104},null,null,null,null,"U1=",{"$f":"W15/(LOG(W4)/LOG(2))","v":0.3010299956639812},null,null,null,"U2=",{"$f":"AB15/(LOG(AB4)/LOG(2))","v":0},null,null,null,"U3=",{"$f":"AG15/(LOG(AG4)/LOG(2))","v":0.42178833920758824},null,null,null,"U4=",{"$f":"AL15/(LOG(AL4)/LOG(2))","v":0.45154499349597182},null,null,null,"U5=",{"$f":"AQ15/(LOG(AQ4)/LOG(2))","v":0.45814600780483389},null,null,null,"U6=",{"$f":"AV15/(LOG(AV4)/LOG(2))","v":0.24421905028821556}]
[21,2574,21,2604,21,2633,null,null,null,null,0,222]
[21,2725,21,2773,21,2785,null,null,null,null,0,222]
[21,2899,21,2908,21,2927,null,null,null,null,0,222,null,"Total Target Seq"]
[21,3035,21,3054,21,3062,null,null,null,null,0,222,null,{"$f":"COUNTIF(L7:L67,G3)","v":39},null,10,10,11,10,10,10]
[21,3169,21,3186,21,3198,null,null,null,null,0,222,null,null,null,"% of reinforcement given in 6 equal intervals based on number of trials "]
[21,3374,21,3403,21,3412,null,null,null,null,0,222,null,null,null,"%_1","%_2","%_3","%_4","%_5","%_6"]
[21,3564,21,3585,21,3597,null,null,null,null,0,222,null,null,"target sequence",{"$f":"$G$3","v":222},{"$f":"$G$3","v":222},{"$f":"$G$3","v":222},{"$f":"$G$3","v":222},{"$f":"$G$3","v":222},{"$f":"$G$3","v":222}]
[21,3926,21,3935,21,3955,null,null,null,null,0,222,null,null,"total reinforcement",{"$f":"U14","v":8},{"$f":"Z14","v":9},{"$f":"AE14","v":5},{"$f":"AJ14","v":6},{"$f":"AO14","v":5},{"$f":"AT14","v":6}]
[21,4603,21,4626,21,4655,null,null,null,null,0,222,null,null,"% target"]
[21,4742,12,4745,23,4750,null,null,null,null,0,212,null,null,"CCRF"]
[21,4846,12,4853,23,4860,null,null,null,null,0,212,null,null,"% CCRf"]
[12,4961,23,4968,23,4980,null,null,null,null,0,122,null,null,"average response rate",{"$f":"F16/P20","v":143},{"$f":"(F26-F16)/Q20","v":332},{"$f":"(F37-F26)/R20","v":195.81818181818181},{"$f":"(F47-F37)/S20","v":159.5},{"$f":"(F57-F47)/T20","v":145.1},{"$f":"(F67-F57)/U20","v":121.9}]
[12,5072,23,5078,23,5086,null,null,null,null,0,122]
[21,5183,21,5187,21,5190,null,null,null,null,0,222]
[21,5680,21,5687,21,5716,null,null,null,null,0,222]
[21,5859,21,5880,21,5889,null,null,null,null,0,222]
[12,5989,23,5993,23,5998,null,null,null,null,0,122]
[21,6095,21,6099,12,6102,null,null,null,null,0,221]
[21,6197,21,6200,12,6204,null,null,null,null,0,221]
[21,6301,21,6304,21,6308,null,null,null,null,0,222]
[21,6873,21,6883,21,6904,null,null,null,null,0,222]
[21,7047,21,7060,21,7071,null,null,null,null,0,222]
[21,7176,12,7183,23,7193,null,null,null,null,0,212]
[21,7288,21,7294,21,7303,null,null,null,null,0,222]
[12,7413,23,7417,23,7423,null,null,null,null,0,122]
[21,7520,21,7524,12,7528,null,null,null,null,0,221]
[21,7624,21,7626,21,7628,null,null,null,null,0,222]
[21,8087,21,8091,21,8099,null,null,null,null,0,222]
[21,8193,21,8212,21,8231,null,null,null,null,0,222]
[21,8378,21,8389,21,8400,null,null,null,null,0,222]
[12,8489,23,8493,23,8499,null,null,null,null,0,122]
[21,8804,21,8808,21,8816,null,null,null,null,0,222]
[21,8957,21,8962,21,8969,null,null,null,null,0,222]
[21,9136,21,9141,12,9146,null,null,null,null,0,221]
[21,9247,12,9249,23,9253,null,null,null,null,0,212]
[12,9345,23,9351,23,9359,null,null,null,null,0,122]
[21,9455,21,9459,21,9464,null,null,null,null,0,222]
[21,9573,12,9576,23,9582,null,null,null,null,0,212]
[21,9678,21,9686,21,9691,null,null,null,null,0,222]
[12,9832,23,9840,23,9845,null,null,null,null,0,122]
[21,9941,21,9946,21,9950,null,null,null,null,0,222]
[21,10046,21,10058,21,10065,null,null,null,null,0,222]
[21,10157,21,10160,21,10166,null,null,null,null,0,222]
[21,10351,21,10362,21,10370,null,null,null,null,0,222]
[21,10467,21,10503,21,10513,null,null,null,null,0,222]
[12,10604,23,10637,23,10654,null,null,null,null,0,122]
[21,10751,21,10755,12,10757,null,null,null,null,0,221]
[21,10853,21,10857,21,10863,null,null,null,null,0,222]
[12,10953,23,10964,23,10970,null,null,null,null,0,122]
[12,11063,23,11065,23,11068,null,null,null,null,0,122]
[21,11163,21,11166,21,11169,null,null,null,null,1,222]

{"sheet":"!M904A40.Gus","index":15,"n_rows":59,"n_cols":48,"rows_kept":59,"cut":false,"hidden":false,"merged":[[4,39,4,42],[5,39,5,40],[4,44,4,47],[5,44,5,45],[4,24,4,27],[5,24,5,25],[4,29,4,32],[5,29,5,30],[4,34,4,37],[5,34,5,35],[1,1,1,2],[5,13,5,14],[18,13,18,14],[19,13,19,14],[4,19,4,22],[5,19,5,20]]}
["Report for:!M904A40.Gus"]
["Date:","<date>"]
["Hen:","<hen>",null,null,null,"Correct Sequence",{"$f":"Start!J2","v":222},null,null,null,null,null,null,null,null,"Total Sequences in Data",{"$f":"4994-COUNTBLANK(L7:L5000)","v":53},null,null,null,null,"Total Sequences in Block Data",{"$f":"COUNTA(L7:L15)","v":9},null,null,null,"Total Sequences in Block Data",{"$f":"COUNTA(L16:L24)","v":9},null,null,null,"Total Sequences in Block Data",{"$f":"COUNTA(L25:L32)","v":8},null,null,null,"Total Sequences in Block Data",{"$f":"COUNTA(L33:L41)","v":9},null,null,null,"Total Sequences in Block Data",{"$f":"COUNTA(L42:L50)","v":9},null,null,null,"Total Sequences in Block Data",{"$f":"COUNTA(L51:L59)","v":9}]
[null,null,null,null,null,null,null,null,null,null,null,null,null,null,null,"Total Sequences in Summary",{"$f":"SUM(O7:O14)","v":53},null,null,null,null,"Total Sequences in Block Summary",{"$f":"SUM(U7:U14)","v":9},null,null,null,"Total Sequences in Block Summary",{"$f":"SUM(Z7:Z14)","v":9},null,null,null,"Total Sequences in Block Summary",{"$f":"SUM(AE7:AE14)","v":8},null,null,null,"Total Sequences in Block Summary",{"$f":"SUM(AJ7:AJ14)","v":9},null,null,null,"Total Sequences in Block Summary",{"$f":"SUM(AO7:AO14)","v":9},null,null,null,"Total Sequences in Block Summary",{"$f":"SUM(AT7:AT14)","v":9}]
[null,null,null,null,null,null,null,null,null,null,null,null,null,null,null,null,null,null,null,"Block 1",null,null,null,null,"Block 2",null,null,null,null,"Block 3",null,null,null,null,"Block 4",null,null,null,null,"Block 5",null,null,null,null,"Block 6"]
["Sequence\nComponent\n1","Time\n1","Sequence\nComponent\n2","Time\n2","Sequence\nComponent\n3","Time\n3","Sequence\nComponent\n4","Time\n4","Sequence\nComponent\n5","Time\n5","Correct?\n0=No 1=Yes","Sequence",null,"Frequency",null,"Relative Frequency","Variability",null,null,"Frequency",null,"Relative Frequency","Variability",null,"Frequency",null,"Relative Frequency","Variability",null,"Frequency",null,"Relative Frequency","Variability",null,"Frequency",null,"Relative Frequency","Variability",null,"Frequency",null,"Relative Frequency","Variability",null,"Frequency",null,"Relative Frequency","Variability"]
[21,83,21,88,21,98,null,null,null,null,0,222,null,111,{"$f":"COUNTIF($L$7:$L$500,N7)","v":0},{"$f":"O7/$Q$4","v":0},{"$f":"IF(P7=0,0,(P7*((LOG(P7))/LOG(2))))","v":0},null,null,{"$f":"N7","v":111},{"$f":"COUNTIF(L7:L15,T7)","v":0},{"$f":"U7/(W4-U14)","v":0},{"$f":"IF(V7=0,0,(V7*((LOG(V7))/LOG(2))))","v":0},null,{"$f":"N7","v":111},{"$f":"COUNTIF(L16:L24,Y7)","v":0},{"$f":"Z7/(AB4-Z14)","v":0},{"$f":"IF(AA7=0,0,(AA7*((LOG(AA7))/LOG(2))))","v":0},null,{"$f":"N7","v":111},{"$f":"COUNTIF(L25:L32,AD7)","v":0},{"$f":"AE7/(AG4-AE14)","v":0},{"$f":"IF(AF7=0,0,(AF7*((LOG(AF7))/LOG(2))))","v":0},null,{"$f":"N7","v":111},{"$f":"COUNTIF(L33:L41,AI7)","v":0},{"$f":"AJ7/(AL4-AJ14)","v":0},{"$f":"IF(AK7=0,0,(AK7*((LOG(AK7))/LOG(2))))","v":0},null,{"$f":"N7","v":111},{"$f":"COUNTIF(L42:L50,AN7)","v":0},{"$f":"AO7/(AQ4-AO14)","v":0},{"$f":"IF(AP7=0,0,(AP7*((LOG(AP7))/LOG(2))))","v":0},null,{"$f":"N7","v":111},{"$f":"COUNTIF(L51:L59,AS7)","v":0},{"$f":"AT7/(AV4-AT14)","v":0},{"$f":"IF(AU7=0,0,(AU7*((LOG(AU7))/LOG(2))))","v":0}]
[12,199,23,217,23,222,null,null,null,null,0,122,null,112,{"$f":"COUNTIF($L$7:$L$500,N8)","v":0},{"$f":"O8/$Q$4","v":0},{"$f":"IF(P8=0,0,(P8*((LOG(P8))/LOG(2))))","v":0},null,null,{"$f":"N8","v":112},{"$f":"COUNTIF(L7:L15,T8)","v":0},{"$f":"U8/(W4-U14)","v":0},{"$f":"IF(V8=0,0,(V8*((LOG(V8))/LOG(2))))","v":0},null,{"$f":"N8","v":112},{"$f":"COUNTIF(L16:L24,Y8)","v":0},{"$f":"Z8/(AB4-Z14)","v":0},{"$f":"IF(AA8=0,0,(AA8*((LOG(AA8))/LOG(2))))","v":0},null,{"$f":"N8","v":112},{"$f":"COUNTIF(L25:L32,AD8)","v":0},{"$f":"AE8/(AG4-AE14)","v":0},{"$f":"IF(AF8=0,0,(AF8*((LOG(AF8))/LOG(2))))","v":0},null,{"$f":"N8","v":112},{"$f":"COUNTIF(L33:L41,AI8)","v":0},{"$f":"AJ8/(AL4-AJ14)","v":0},{"$f":"IF(AK8=0,0,(AK8*((LOG(AK8))/LOG(2))))","v":0},null,{"$f":"N8","v":112},{"$f":"COUNTIF(L42:L50,AN8)","v":0},{"$f":"AO8/(AQ4-AO14)","v":0},{"$f":"IF(AP8=0,0,(AP8*((LOG(AP8))/LOG(2))))","v":0},null,{"$f":"N8","v":112},{"$f":"COUNTIF(L51:L59,AS8)","v":0},{"$f":"AT8/(AV4-AT14)","v":0},{"$f":"IF(AU8=0,0,(AU8*((LOG(AU8))/LOG(2))))","v":0}]
[21,320,21,324,21,331,null,null,null,null,0,222,null,121,{"$f":"COUNTIF($L$7:$L$500,N9)","v":0},{"$f":"O9/$Q$4","v":0},{"$f":"IF(P9=0,0,(P9*((LOG(P9))/LOG(2))))","v":0},null,null,{"$f":"N9","v":121},{"$f":"COUNTIF(L7:L15,T9)","v":0},{"$f":"U9/(W4-U14)","v":0},{"$f":"IF(V9=0,0,(V9*((LOG(V9))/LOG(2))))","v":0},null,{"$f":"N9","v":121},{"$f":"COUNTIF(L16:L24,Y9)","v":0},{"$f":"Z9/(AB4-Z14)","v":0},{"$f":"IF(AA9=0,0,(AA9*((LOG(AA9))/LOG(2))))","v":0},null,{"$f":"N9","v":121},{"$f":"COUNTIF(L25:L32,AD9)","v":0},{"$f":"AE9/(AG4-AE14)","v":0},{"$f":"IF(AF9=0,0,(AF9*((LOG(AF9))/LOG(2))))","v":0},null,{"$f":"N9","v":121},{"$f":"COUNTIF(L33:L41,AI9)","v":0},{"$f":"AJ9/(AL4-AJ14)","v":0},{"$f":"IF(AK9=0,0,(AK9*((LOG(AK9))/LOG(2))))","v":0},null,{"$f":"N9","v":121},{"$f":"COUNTIF(L42:L50,AN9)","v":0},{"$f":"AO9/(AQ4-AO14)","v":0},{"$f":"IF(AP9=0,0,(AP9*((LOG(AP9))/LOG(2))))","v":0},null,{"$f":"N9","v":121},{"$f":"COUNTIF(L51:L59,AS9)","v":0},{"$f":"AT9/(AV4-AT14)","v":0},{"$f":"IF(AU9=0,0,(AU9*((LOG(AU9))/LOG(2))))","v":0}]
[21,515,21,552,21,561,null,null,null,null,0,222,null,122,{"$f":"COUNTIF($L$7:$L$500,N10)","v":6},{"$f":"O10/$Q$4","v":0.11320754716981132},{"$f":"IF(P10=0,0,(P10*((LOG(P10))/LOG(2))))","v":-0.35580656081230677},null,null,{"$f":"N10","v":122},{"$f":"COUNTIF(L7:L15,T10)","v":1},{"$f":"U10/(W4-U14)","v":1},{"$f":"IF(V10=0,0,(V10*((LOG(V10))/LOG(2))))","v":0},null,{"$f":"N10","v":122},{"$f":"COUNTIF(L16:L24,Y10)","v":0},{"$f":"Z10/(AB4-Z14)","v":0},{"$f":"IF(AA10=0,0,(AA10*((LOG(AA10))/LOG(2))))","v":0},null,{"$f":"N10","v":122},{"$f":"COUNTIF(L25:L32,AD10)","v":0},{"$f":"AE10/(AG4-AE14)","v":0},{"$f":"IF(AF10=0,0,(AF10*((LOG(AF10))/LOG(2))))","v":0},null,{"$f":"N10","v":122},{"$f":"COUNTIF(L33:L41,AI10)","v":1},{"$f":"AJ10/(AL4-AJ14)","v":0.33333333333333331},{"$f":"IF(AK10=0,0,(AK10*((LOG(AK10))/LOG(2))))","v":-0.52832083357371862},null,{"$f":"N10","v":122},{"$f":"COUNTIF(L42:L50,AN10)","v":2},{"$f":"AO10/(AQ4-AO14)","v":0.4},{"$f":"IF(AP10=0,0,(AP10*((LOG(AP10))/LOG(2))))","v":-0.52877123795494496},null,{"$f":"N10","v":122},{"$f":"COUNTIF(L51:L59,AS10)","v":2},{"$f":"AT10/(AV4-AT14)","v":0.66666666666666663},{"$f":"IF(AU10=0,0,(AU10*((LOG(AU10))/LOG(2))))","v":-0.38997500048077083}]
[21,674,21,682,21,695,null,null,null,null,0,222,null,211,{"$f":"COUNTIF($L$7:$L$500,N11)","v":0},{"$f":"O11/$Q$4","v":0},{"$f":"IF(P11=0,0,(P11*((LOG(P11))/LOG(2))))","v":0},null,null,{"$f":"N11","v":211},{"$f":"COUNTIF(L7:L15,T11)","v":0},{"$f":"U11/(W4-U14)","v":0},{"$f":"IF(V11=0,0,(V11*((LOG(V11))/LOG(2))))","v":0},null,{"$f":"N11","v":211},{"$f":"COUNTIF(L16:L24,Y11)","v":0},{"$f":"Z11/(AB4-Z14)","v":0},{"$f":"IF(AA11=0,0,(AA11*((LOG(AA11))/LOG(2))))","v":0},null,{"$f":"N11","v":211},{"$f":"COUNTIF(L25:L32,AD11)","v":0},{"$f":"AE11/(AG4-AE14)","v":0},{"$f":"IF(AF11=0,0,(AF11*((LOG(AF11))/LOG(2))))","v":0},null,{"$f":"N11","v":211},{"$f":"COUNTIF(L33:L41,AI11)","v":0},{"$f":"AJ11/(AL4-AJ14)","v":0},{"$f":"IF(AK11=0,0,(AK11*((LOG(AK11))/LOG(2))))","v":0},null,{"$f":"N11","v":211},{"$f":"COUNTIF(L42:L50,AN11)","v":0},{"$f":"AO11/(AQ4-AO14)","v":0},{"$f":"IF(AP11=0,0,(AP11*((LOG(AP11))/LOG(2))))","v":0},null,{"$f":"N11","v":211},{"$f":"COUNTIF(L51:L59,AS11)","v":0},{"$f":"AT11/(AV4-AT14)","v":0},{"$f":"IF(AU11=0,0,(AU11*((LOG(AU11))/LOG(2))))","v":0}]
[21,917,21,931,21,946,null,null,null,null,0,222,null,212,{"$f":"COUNTIF($L$7:$L$500,N12)","v":3},{"$f":"O12/$Q$4","v":5.6603773584905662E-2},{"$f":"IF(P12=0,0,(P12*((LOG(P12))/LOG(2))))","v":-0.23450705399105903},null,null,{"$f":"N12","v":212},{"$f":"COUNTIF(L7:L15,T12)","v":0},{"$f":"U12/(W4-U14)","v":0},{"$f":"IF(V12=0,0,(V12*((LOG(V12))/LOG(2))))","v":0},null,{"$f":"N12","v":212},{"$f":"COUNTIF(L16:L24,Y12)","v":0},{"$f":"Z12/(AB4-Z14)","v":0},{"$f":"IF(AA12=0,0,(AA12*((LOG(AA12))/LOG(2))))","v":0},null,{"$f":"N12","v":212},{"$f":"COUNTIF(L25:L32,AD12)","v":1},{"$f":"AE12/(AG4-AE14)","v":1},{"$f":"IF(AF12=0,0,(AF12*((LOG(AF12))/LOG(2))))","v":0},null,{"$f":"N12","v":212},{"$f":"COUNTIF(L33:L41,AI12)","v":1},{"$f":"AJ12/(AL4-AJ14)","v":0.33333333333333331},{"$f":"IF(AK12=0,0,(AK12*((LOG(AK12))/LOG(2))))","v":-0.52832083357371862},null,{"$f":"N12","v":212},{"$f":"COUNTIF(L42:L50,AN12)","v":1},{"$f":"AO12/(AQ4-AO14)","v":0.2},{"$f":"IF(AP12=0,0,(AP12*((LOG(AP12))/LOG(2))))","v":-0.46438561897747244},null,{"$f":"N12","v":212},{"$f":"COUNTIF(L51:L59,AS12)","v":0},{"$f":"AT12/(AV4-AT14)","v":0},{"$f":"IF(AU12=0,0,(AU12*((LOG(AU12))/LOG(2))))","v":0}]
[21,1464,21,1491,21,1531,null,null,null,null,0,222,null,221,{"$f":"COUNTIF($L$7:$L$500,N13)","v":5},{"$f":"O13/$Q$4","v":9.4339622641509441E-2},{"$f":"IF(P13=0,0,(P13*((LOG(P13))/LOG(2))))","v":-0.32132003393168274},null,null,{"$f":"N13","v":221},{"$f":"COUNTIF(L7:L15,T13)","v":0},{"$f":"U13/(W4-U14)","v":0},{"$f":"IF(V13=0,0,(V13*((LOG(V13))/LOG(2))))","v":0},null,{"$f":"N13","v":221},{"$f":"COUNTIF(L16:L24,Y13)","v":1},{"$f":"Z13/(AB4-Z14)","v":1},{"$f":"IF(AA13=0,0,(AA13*((LOG(AA13))/LOG(2))))","v":0},null,{"$f":"N13","v":221},{"$f":"COUNTIF(L25:L32,AD13)","v":0},{"$f":"AE13/(AG4-AE14)","v":0},{"$f":"IF(AF13=0,0,(AF13*((LOG(AF13))/LOG(2))))","v":0},null,{"$f":"N13","v":221},{"$f":"COUNTIF(L33:L41,AI13)","v":1},{"$f":"AJ13/(AL4-AJ14)","v":0.33333333333333331},{"$f":"IF(AK13=0,0,(AK13*((LOG(AK13))/LOG(2))))","v":-0.52832083357371862},null,{"$f":"N13","v":221},{"$f":"COUNTIF(L42:L50,AN13)","v":2},{"$f":"AO13/(AQ4-AO14)","v":0.4},{"$f":"IF(AP13=0,0,(AP13*((LOG(AP13))/LOG(2))))","v":-0.52877123795494496},null,{"$f":"N13","v":221},{"$f":"COUNTIF(L51:L59,AS13)","v":1},{"$f":"AT13/(AV4-AT14)","v":0.33333333333333331},{"$f":"IF(AU13=0,0,(AU13*((LOG(AU13))/LOG(2))))","v":-0.52832083357371862}]
[21,1649,21,1661,21,1676,null,null,null,null,0,222,null,222,{"$f":"COUNTIF($L$7:$L$500,N14)","v":39},{"$f":"O14/$Q$4","v":0.73584905660377353},{"$f":"IF(P14=0,0,(P14*((LOG(P14))/LOG(2))))","v":-0.32562662627051103},null,null,{"$f":"N14","v":222},{"$f":"COUNTIF(L7:L15,T14)","v":8},null,null,null,{"$f":"N14","v":222},{"$f":"COUNTIF(L16:L24,Y14)","v":8},null,null,null,{"$f":"N14","v":222},{"$f":"COUNTIF(L25:L32,AD14)","v":7},null,null,null,{"$f":"N14","v":222},{"$f":"COUNTIF(L33:L41,AI14)","v":6},null,null,null,{"$f":"N14","v":222},{"$f":"COUNTIF(L42:L50,AN14)","v":4},null,null,null,{"$f":"N14","v":222},{"$f":"COUNTIF(L51:L59,AS14)","v":6}]
[21,1903,21,1910,21,1925,null,null,null,null,0,222,null,null,null,{"$f":"SUM(P7:P14)","v":1},{"$f":"-SUM(Q7:Q14)","v":1.2372602750055597},null,null,null,null,{"$f":"SUM(V7:V14)","v":1},{"$f":"-SUM(W7:W14)","v":0},null,null,null,{"$f":"SUM(AA7:AA14)","v":1},{"$f":"-SUM(AB7:AB14)","v":0},null,null,null,{"$f":"SUM(AF7:AF14)","v":1},{"$f":"-SUM(AG7:AG14)","v":0},null,null,null,{"$f":"SUM(AK7:AK14)","v":1},{"$f":"-SUM(AL7:AL14)","v":1.5849625007211559},null,null,null,{"$f":"SUM(AP7:AP14)","v":1},{"$f":"-SUM(AQ7:AQ14)","v":1.5219280948873624},null,null,null,{"$f":"SUM(AU7:AU14)","v":1},{"$f":"-SUM(AV7:AV14)","v":0.91829583405448945}]
[21,2166,21,2179,21,2218,null,null,null,null,0,222,null,null,null,"U=",{"$f":"Q15/(LOG(Q4)/LOG(2))","v":0.21600514267265797},null,null,null,null,"U1=",{"$f":"W15/(LOG(W4)/LOG(2))","v":0},null,null,null,"U2=",{"$f":"AB15/(LOG(AB4)/LOG(2))","v":0},null,null,null,"U3=",{"$f":"AG15/(LOG(AG4)/LOG(2))","v":0},null,null,null,"U4=",{"$f":"AL15/(LOG(AL4)/LOG(2))","v":0.49999999999999994},null,null,null,"U5=",{"$f":"AQ15/(LOG(AQ4)/LOG(2))","v":0.48011485893038064},null,null,null,"U6=",{"$f":"AV15/(LOG(AV4)/LOG(2))","v":0.28969008214284753}]
[21,2675,21,2686,21,2694,null,null,null,null,0,222]
[21,2878,21,2887,21,2896,null,null,null,null,0,222]
[21,3064,21,3073,21,3079,null,null,null,null,0,222,null,"Total Target Seq"]
[21,3243,21,3278,21,3287,null,null,null,null,0,222,null,{"$f":"COUNTIF(L7:L59,G3)","v":39},null,9,9,8,9,9,9]
[21,3487,21,3512,21,3521,null,null,null,null,0,222,null,null,null,"% of reinforcement given in 6 equal intervals based on number of trials "]
[21,3758,21,3767,21,3783,null,null,null,null,0,222,null,null,null,"%_1","%_2","%_3","%_4","%_5","%_6"]
[21,3948,21,3956,12,3964,null,null,null,null,0,221,null,null,"target sequence",{"$f":"$G$3","v":222},{"$f":"$G$3","v":222},{"$f":"$G$3","v":222},{"$f":"$G$3","v":222},{"$f":"$G$3","v":222},{"$f":"$G$3","v":222}]
[21,4245,21,4257,21,4266,null,null,null,null,0,222,null,null,"total reinforcement",{"$f":"U14","v":8},{"$f":"Z14","v":8},{"$f":"AE14","v":7},{"$f":"AJ14","v":6},{"$f":"AO14","v":4},{"$f":"AT14","v":6}]
[21,4695,21,4722,21,4733,null,null,null,null,0,222,null,null,"% target"]
[21,4900,12,4904,23,4914,null,null,null,null,0,212,null,null,"CCRF"]
[21,5008,21,5014,21,5022,null,null,null,null,0,222,null,null,"% CCRf"]
[21,5231,21,5243,21,5251,null,null,null,null,0,222,null,null,"average response rate",{"$f":"F15/P20","v":213.88888888888889},{"$f":"(F24-F15)/Q20","v":260.11111111111109},{"$f":"(F32-F24)/R20","v":197.125},{"$f":"(F41-F32)/S20","v":190.33333333333334},{"$f":"(F50-F41)/T20","v":129.33333333333334},{"$f":"(F59-F50)/U20","v":139.11111111111111}]
[21,5396,21,5431,21,5449,null,null,null,null,0,222]
[21,5544,21,5555,21,5564,null,null,null,null,0,222]
[21,5662,21,5666,21,5692,null,null,null,null,0,222]
[21,5811,21,5832,21,5843,null,null,null,null,0,222]
[21,6040,21,6054,21,6077,null,null,null,null,0,222]
[21,6361,21,6408,21,6416,null,null,null,null,0,222]
[21,6579,21,6583,21,6585,null,null,null,null,0,222]
[21,6913,21,6926,21,6933,null,null,null,null,0,222]
[21,7084,12,7088,23,7095,null,null,null,null,0,212]
[21,7192,21,7197,12,7200,null,null,null,null,0,221]
[21,7297,21,7305,21,7310,null,null,null,null,0,222]
[12,7427,23,7434,23,7443,null,null,null,null,0,122]
[21,7542,21,7547,21,7556,null,null,null,null,0,222]
[21,7658,21,7660,12,7663,null,null,null,null,0,221]
[12,7783,23,7787,23,7794,null,null,null,null,0,122]
[21,7893,21,7897,21,7901,null,null,null,null,0,222]
[21,8037,12,8043,23,8044,null,null,null,null,0,212]
[21,8140,21,8147,21,8154,null,null,null,null,0,222]
[21,8268,21,8277,21,8284,null,null,null,null,0,222]
[21,8378,21,8386,21,8399,null,null,null,null,0,222]
[12,8599,23,8611,23,8615,null,null,null,null,0,122]
[21,8712,21,8718,12,8720,null,null,null,null,0,221]
[21,8819,21,8821,21,8827,null,null,null,null,0,222]
[12,8915,23,8929,23,8933,null,null,null,null,0,122]
[12,9026,23,9031,23,9034,null,null,null,null,0,122]
[21,9132,21,9141,21,9146,null,null,null,null,0,222]
[21,9300,21,9305,12,9309,null,null,null,null,0,221]
[21,9411,21,9414,21,9419,null,null,null,null,0,222]
[21,9561,21,9566,21,9581,null,null,null,null,0,222]
[21,9781,21,9817,21,9831,null,null,null,null,0,222]
[21,9932,21,9960,21,9972,null,null,null,null,1,222]

{"sheet":"!M905A40.Gus","index":16,"n_rows":72,"n_cols":48,"rows_kept":72,"cut":false,"hidden":false,"merged":[[4,39,4,42],[5,39,5,40],[4,44,4,47],[5,44,5,45],[4,24,4,27],[5,24,5,25],[4,29,4,32],[5,29,5,30],[4,34,4,37],[5,34,5,35],[1,1,1,2],[5,13,5,14],[18,13,18,14],[19,13,19,14],[4,19,4,22],[5,19,5,20]]}
["Report for:!M905A40.Gus"]
["Date:","<date>"]
["Hen:","<hen>",null,null,null,"Correct Sequence",{"$f":"Start!J2","v":222},null,null,null,null,null,null,null,null,"Total Sequences in Data",{"$f":"4994-COUNTBLANK(L7:L5000)","v":66},null,null,null,null,"Total Sequences in Block Data",{"$f":"COUNTA(L7:L17)","v":11},null,null,null,"Total Sequences in Block Data",{"$f":"COUNTA(L18:L28)","v":11},null,null,null,"Total Sequences in Block Data",{"$f":"COUNTA(L29:L39)","v":11},null,null,null,"Total Sequences in Block Data",{"$f":"COUNTA(L40:L50)","v":11},null,null,null,"Total Sequences in Block Data",{"$f":"COUNTA(L51:L61)","v":11},null,null,null,"Total Sequences in Block Data",{"$f":"COUNTA(L62:L72)","v":11}]
[null,null,null,null,null,null,null,null,null,null,null,null,null,null,null,"Total Sequences in Summary",{"$f":"SUM(O7:O14)","v":66},null,null,null,null,"Total Sequences in Block Summary",{"$f":"SUM(U7:U14)","v":11},null,null,null,"Total Sequences in Block Summary",{"$f":"SUM(Z7:Z14)","v":11},null,null,null,"Total Sequences in Block Summary",{"$f":"SUM(AE7:AE14)","v":11},null,null,null,"Total Sequences in Block Summary",{"$f":"SUM(AJ7:AJ14)","v":11},null,null,null,"Total Sequences in Block Summary",{"$f":"SUM(AO7:AO14)","v":11},null,null,null,"Total Sequences in Block Summary",{"$f":"SUM(AT7:AT14)","v":11}]
[null,null,null,null,null,null,null,null,null,null,null,null,null,null,null,null,null,null,null,"Block 1",null,null,null,null,"Block 2",null,null,null,null,"Block 3",null,null,null,null,"Block 4",null,null,null,null,"Block 5",null,null,null,null,"Block 6"]
["Sequence\nComponent\n1","Time\n1","Sequence\nComponent\n2","Time\n2","Sequence\nComponent\n3","Time\n3","Sequence\nComponent\n4","Time\n4","Sequence\nComponent\n5","Time\n5","Correct?\n0=No 1=Yes","Sequence",null,"Frequency",null,"Relative Frequency","Variability",null,null,"Frequency",null,"Relative Frequency","Variability",null,"Frequency",null,"Relative Frequency","Variability",null,"Frequency",null,"Relative Frequency","Variability",null,"Frequency",null,"Relative Frequency","Variability",null,"Frequency",null,"Relative Frequency","Variability",null,"Frequency",null,"Relative Frequency","Variability"]
[21,7,12,16,23,21,null,null,null,null,0,212,null,111,{"$f":"COUNTIF($L$7:$L$500,N7)","v":0},{"$f":"O7/$Q$4","v":0},{"$f":"IF(P7=0,0,(P7*((LOG(P7))/LOG(2))))","v":0},null,null,{"$f":"N7","v":111},{"$f":"COUNTIF(L7:L17,T7)","v":0},{"$f":"U7/(W4-U14)","v":0},{"$f":"IF(V7=0,0,(V7*((LOG(V7))/LOG(2))))","v":0},null,{"$f":"N7","v":111},{"$f":"COUNTIF(L18:L28,Y7)","v":0},{"$f":"Z7/(AB4-Z14)","v":0},{"$f":"IF(AA7=0,0,(AA7*((LOG(AA7))/LOG(2))))","v":0},null,{"$f":"N7","v":111},{"$f":"COUNTIF(L29:L39,AD7)","v":0},{"$f":"AE7/(AG4-AE14)","v":0},{"$f":"IF(AF7=0,0,(AF7*((LOG(AF7))/LOG(2))))","v":0},null,{"$f":"N7","v":111},{"$f":"COUNTIF(L40:L50,AI7)","v":0},{"$f":"AJ7/(AL4-AJ14)","v":0},{"$f":"IF(AK7=0,0,(AK7*((LOG(AK7))/LOG(2))))","v":0},null,{"$f":"N7","v":111},{"$f":"COUNTIF(L51:L61,AN7)","v":0},{"$f":"AO7/(AQ4-AO14)","v":0},{"$f":"IF(AP7=0,0,(AP7*((LOG(AP7))/LOG(2))))","v":0},null,{"$f":"N7","v":111},{"$f":"COUNTIF(L62:L72,AS7)","v":0},{"$f":"AT7/(AV4-AT14)","v":0},{"$f":"IF(AU7=0,0,(AU7*((LOG(AU7))/LOG(2))))","v":0}]
[21,118,21,120,21,122,null,null,null,null,0,222,null,112,{"$f":"COUNTIF($L$7:$L$500,N8)","v":0},{"$f":"O8/$Q$4","v":0},{"$f":"IF(P8=0,0,(P8*((LOG(P8))/LOG(2))))","v":0},null,null,{"$f":"N8","v":112},{"$f":"COUNTIF(L7:L17,T8)","v":0},{"$f":"U8/(W4-U14)","v":0},{"$f":"IF(V8=0,0,(V8*((LOG(V8))/LOG(2))))","v":0},null,{"$f":"N8","v":112},{"$f":"COUNTIF(L18:L28,Y8)","v":0},{"$f":"Z8/(AB4-Z14)","v":0},{"$f":"IF(AA8=0,0,(AA8*((LOG(AA8))/LOG(2))))","v":0},null,{"$f":"N8","v":112},{"$f":"COUNTIF(L29:L39,AD8)","v":0},{"$f":"AE8/(AG4-AE14)","v":0},{"$f":"IF(AF8=0,0,(AF8*((LOG(AF8))/LOG(2))))","v":0},null,{"$f":"N8","v":112},{"$f":"COUNTIF(L40:L50,AI8)","v":0},{"$f":"AJ8/(AL4-AJ14)","v":0},{"$f":"IF(AK8=0,0,(AK8*((LOG(AK8))/LOG(2))))","v":0},null,{"$f":"N8","v":112},{"$f":"COUNTIF(L51:L61,AN8)","v":0},{"$f":"AO8/(AQ4-AO14)","v":0},{"$f":"IF(AP8=0,0,(AP8*((LOG(AP8))/LOG(2))))","v":0},null,{"$f":"N8","v":112},{"$f":"COUNTIF(L62:L72,AS8)","v":0},{"$f":"AT8/(AV4-AT14)","v":0},{"$f":"IF(AU8=0,0,(AU8*((LOG(AU8))/LOG(2))))","v":0}]
[21,220,21,232,21,245,null,null,null,null,0,222,null,121,{"$f":"COUNTIF($L$7:$L$500,N9)","v":0},{"$f":"O9/$Q$4","v":0},{"$f":"IF(P9=0,0,(P9*((LOG(P9))/LOG(2))))","v":0},null,null,{"$f":"N9","v":121},{"$f":"COUNTIF(L7:L17,T9)","v":0},{"$f":"U9/(W4-U14)","v":0},{"$f":"IF(V9=0,0,(V9*((LOG(V9))/LOG(2))))","v":0},null,{"$f":"N9","v":121},{"$f":"COUNTIF(L18:L28,Y9)","v":0},{"$f":"Z9/(AB4-Z14)","v":0},{"$f":"IF(AA9=0,0,(AA9*((LOG(AA9))/LOG(2))))","v":0},null,{"$f":"N9","v":121},{"$f":"COUNTIF(L29:L39,AD9)","v":0},{"$f":"AE9/(AG4-AE14)","v":0},{"$f":"IF(AF9=0,0,(AF9*((LOG(AF9))/LOG(2))))","v":0},null,{"$f":"N9","v":121},{"$f":"COUNTIF(L40:L50,AI9)","v":0},{"$f":"AJ9/(AL4-AJ14)","v":0},{"$f":"IF(AK9=0,0,(AK9*((LOG(AK9))/LOG(2))))","v":0},null,{"$f":"N9","v":121},{"$f":"COUNTIF(L51:L61,AN9)","v":0},{"$f":"AO9/(AQ4-AO14)","v":0},{"$f":"IF(AP9=0,0,(AP9*((LOG(AP9))/LOG(2))))","v":0},null,{"$f":"N9","v":121},{"$f":"COUNTIF(L62:L72,AS9)","v":0},{"$f":"AT9/(AV4-AT14)","v":0},{"$f":"IF(AU9=0,0,(AU9*((LOG(AU9))/LOG(2))))","v":0}]
[12,334,23,337,23,342,null,null,null,null,0,122,null,122,{"$f":"COUNTIF($L$7:$L$500,N10)","v":10},{"$f":"O10/$Q$4","v":0.15151515151515152},{"$f":"IF(P10=0,0,(P10*((LOG(P10))/LOG(2))))","v":-0.41249485219258958},null,null,{"$f":"N10","v":122},{"$f":"COUNTIF(L7:L17,T10)","v":2},{"$f":"U10/(W4-U14)","v":0.25},{"$f":"IF(V10=0,0,(V10*((LOG(V10))/LOG(2))))","v":-0.5},null,{"$f":"N10","v":122},{"$f":"COUNTIF(L18:L28,Y10)","v":2},{"$f":"Z10/(AB4-Z14)","v":0.5},{"$f":"IF(AA10=0,0,(AA10*((LOG(AA10))/LOG(2))))","v":-0.5},null,{"$f":"N10","v":122},{"$f":"COUNTIF(L29:L39,AD10)","v":2},{"$f":"AE10/(AG4-AE14)","v":0.33333333333333331},{"$f":"IF(AF10=0,0,(AF10*((LOG(AF10))/LOG(2))))","v":-0.52832083357371862},null,{"$f":"N10","v":122},{"$f":"COUNTIF(L40:L50,AI10)","v":1},{"$f":"AJ10/(AL4-AJ14)","v":0.5},{"$f":"IF(AK10=0,0,(AK10*((LOG(AK10))/LOG(2))))","v":-0.5},null,{"$f":"N10","v":122},{"$f":"COUNTIF(L51:L61,AN10)","v":1},{"$f":"AO10/(AQ4-AO14)","v":0.5},{"$f":"IF(AP10=0,0,(AP10*((LOG(AP10))/LOG(2))))","v":-0.5},null,{"$f":"N10","v":122},{"$f":"COUNTIF(L62:L72,AS10)","v":2},{"$f":"AT10/(AV4-AT14)","v":0.5},{"$f":"IF(AU10=0,0,(AU10*((LOG(AU10))/LOG(2))))","v":-0.5}]
[21,438,12,446,23,449,null,null,null,null,0,212,null,211,{"$f":"COUNTIF($L$7:$L$500,N11)","v":0},{"$f":"O11/$Q$4","v":0},{"$f":"IF(P11=0,0,(P11*((LOG(P11))/LOG(2))))","v":0},null,null,{"$f":"N11","v":211},{"$f":"COUNTIF(L7:L17,T11)","v":0},{"$f":"U11/(W4-U14)","v":0},{"$f":"IF(V11=0,0,(V11*((LOG(V11))/LOG(2))))","v":0},null,{"$f":"N11","v":211},{"$f":"COUNTIF(L18:L28,Y11)","v":0},{"$f":"Z11/(AB4-Z14)","v":0},{"$f":"IF(AA11=0,0,(AA11*((LOG(AA11))/LOG(2))))","v":0},null,{"$f":"N11","v":211},{"$f":"COUNTIF(L29:L39,AD11)","v":0},{"$f":"AE11/(AG4-AE14)","v":0},{"$f":"IF(AF11=0,0,(AF11*((LOG(AF11))/LOG(2))))","v":0},null,{"$f":"N11","v":211},{"$f":"COUNTIF(L40:L50,AI11)","v":0},{"$f":"AJ11/(AL4-AJ14)","v":0},{"$f":"IF(AK11=0,0,(AK11*((LOG(AK11))/LOG(2))))","v":0},null,{"$f":"N11","v":211},{"$f":"COUNTIF(L51:L61,AN11)","v":0},{"$f":"AO11/(AQ4-AO14)","v":0},{"$f":"IF(AP11=0,0,(AP11*((LOG(AP11))/LOG(2))))","v":0},null,{"$f":"N11","v":211},{"$f":"COUNTIF(L62:L72,AS11)","v":0},{"$f":"AT11/(AV4-AT14)","v":0},{"$f":"IF(AU11=0,0,(AU11*((LOG(AU11))/LOG(2))))","v":0}]
[21,548,12,555,23,562,null,null,null,null,0,212,null,212,{"$f":"COUNTIF($L$7:$L$500,N12)","v":11},{"$f":"O12/$Q$4","v":0.16666666666666666},{"$f":"IF(P12=0,0,(P12*((LOG(P12))/LOG(2))))","v":-0.43082708345352599},null,null,{"$f":"N12","v":212},{"$f":"COUNTIF(L7:L17,T12)","v":5},{"$f":"U12/(W4-U14)","v":0.625},{"$f":"IF(V12=0,0,(V12*((LOG(V12))/LOG(2))))","v":-0.42379494069539858},null,{"$f":"N12","v":212},{"$f":"COUNTIF(L18:L28,Y12)","v":1},{"$f":"Z12/(AB4-Z14)","v":0.25},{"$f":"IF(AA12=0,0,(AA12*((LOG(AA12))/LOG(2))))","v":-0.5},null,{"$f":"N12","v":212},{"$f":"COUNTIF(L29:L39,AD12)","v":3},{"$f":"AE12/(AG4-AE14)","v":0.5},{"$f":"IF(AF12=0,0,(AF12*((LOG(AF12))/LOG(2))))","v":-0.5},null,{"$f":"N12","v":212},{"$f":"COUNTIF(L40:L50,AI12)","v":1},{"$f":"AJ12/(AL4-AJ14)","v":0.5},{"$f":"IF(AK12=0,0,(AK12*((LOG(AK12))/LOG(2))))","v":-0.5},null,{"$f":"N12","v":212},{"$f":"COUNTIF(L51:L61,AN12)","v":0},{"$f":"AO12/(AQ4-AO14)","v":0},{"$f":"IF(AP12=0,0,(AP12*((LOG(AP12))/LOG(2))))","v":0},null,{"$f":"N12","v":212},{"$f":"COUNTIF(L62:L72,AS12)","v":1},{"$f":"AT12/(AV4-AT14)","v":0.25},{"$f":"IF(AU12=0,0,(AU12*((LOG(AU12))/LOG(2))))","v":-0.5}]
[21,659,21,663,21,667,null,null,null,null,0,222,null,221,{"$f":"COUNTIF($L$7:$L$500,N13)","v":5},{"$f":"O13/$Q$4","v":7.575757575757576E-2},{"$f":"IF(P13=0,0,(P13*((LOG(P13))/LOG(2))))","v":-0.28200500185387051},null,null,{"$f":"N13","v":221},{"$f":"COUNTIF(L7:L17,T13)","v":1},{"$f":"U13/(W4-U14)","v":0.125},{"$f":"IF(V13=0,0,(V13*((LOG(V13))/LOG(2))))","v":-0.375},null,{"$f":"N13","v":221},{"$f":"COUNTIF(L18:L28,Y13)","v":1},{"$f":"Z13/(AB4-Z14)","v":0.25},{"$f":"IF(AA13=0,0,(AA13*((LOG(AA13))/LOG(2))))","v":-0.5},null,{"$f":"N13","v":221},{"$f":"COUNTIF(L29:L39,AD13)","v":1},{"$f":"AE13/(AG4-AE14)","v":0.16666666666666666},{"$f":"IF(AF13=0,0,(AF13*((LOG(AF13))/LOG(2))))","v":-0.43082708345352599},null,{"$f":"N13","v":221},{"$f":"COUNTIF(L40:L50,AI13)","v":0},{"$f":"AJ13/(AL4-AJ14)","v":0},{"$f":"IF(AK13=0,0,(AK13*((LOG(AK13))/LOG(2))))","v":0},null,{"$f":"N13","v":221},{"$f":"COUNTIF(L51:L61,AN13)","v":1},{"$f":"AO13/(AQ4-AO14)","v":0.5},{"$f":"IF(AP13=0,0,(AP13*((LOG(AP13))/LOG(2))))","v":-0.5},null,{"$f":"N13","v":221},{"$f":"COUNTIF(L62:L72,AS13)","v":1},{"$f":"AT13/(AV4-AT14)","v":0.25},{"$f":"IF(AU13=0,0,(AU13*((LOG(AU13))/LOG(2))))","v":-0.5}]
[21,768,12,769,23,776,null,null,null,null,0,212,null,222,{"$f":"COUNTIF($L$7:$L$500,N14)","v":40},{"$f":"O14/$Q$4","v":0.60606060606060608},{"$f":"IF(P14=0,0,(P14*((LOG(P14))/LOG(2))))","v":-0.43785819664914605},null,null,{"$f":"N14","v":222},{"$f":"COUNTIF(L7:L17,T14)","v":3},null,null,null,{"$f":"N14","v":222},{"$f":"COUNTIF(L18:L28,Y14)","v":7},null,null,null,{"$f":"N14","v":222},{"$f":"COUNTIF(L29:L39,AD14)","v":5},null,null,null,{"$f":"N14","v":222},{"$f":"COUNTIF(L40:L50,AI14)","v":9},null,null,null,{"$f":"N14","v":222},{"$f":"COUNTIF(L51:L61,AN14)","v":9},null,null,null,{"$f":"N14","v":222},{"$f":"COUNTIF(L62:L72,AS14)","v":7}]
[21,874,12,878,23,883,null,null,null,null,0,212,null,null,null,{"$f":"SUM(P7:P14)","v":1},{"$f":"-SUM(Q7:Q14)","v":1.5631851341491321},null,null,null,null,{"$f":"SUM(V7:V14)","v":1},{"$f":"-SUM(W7:W14)","v":1.2987949406953985},null,null,null,{"$f":"SUM(AA7:AA14)","v":1},{"$f":"-SUM(AB7:AB14)","v":1.5},null,null,null,{"$f":"SUM(AF7:AF14)","v":0.99999999999999989},{"$f":"-SUM(AG7:AG14)","v":1.4591479170272446},null,null,null,{"$f":"SUM(AK7:AK14)","v":1},{"$f":"-SUM(AL7:AL14)","v":1},null,null,null,{"$f":"SUM(AP7:AP14)","v":1},{"$f":"-SUM(AQ7:AQ14)","v":1},null,null,null,{"$f":"SUM(AU7:AU14)","v":1},{"$f":"-SUM(AV7:AV14)","v":1.5}]
[12,977,23,979,23,985,null,null,null,null,0,122,null,null,null,"U=",{"$f":"Q15/(LOG(Q4)/LOG(2))","v":0.25861734084193821},null,null,null,null,"U1=",{"$f":"W15/(LOG(W4)/LOG(2))","v":0.37543593395466679},null,null,null,"U2=",{"$f":"AB15/(LOG(AB4)/LOG(2))","v":0.43359723947683171},null,null,null,"U3=",{"$f":"AG15/(LOG(AG4)/LOG(2))","v":0.42178833920758824},null,null,null,"U4=",{"$f":"AL15/(LOG(AL4)/LOG(2))","v":0.28906482631788782},null,null,null,"U5=",{"$f":"AQ15/(LOG(AQ4)/LOG(2))","v":0.28906482631788782},null,null,null,"U6=",{"$f":"AV15/(LOG(AV4)/LOG(2))","v":0.43359723947683171}]
[21,1083,21,1086,12,1088,null,null,null,null,0,221]
[21,1187,21,1188,21,1192,null,null,null,null,0,222]
[21,1316,12,1318,23,1326,null,null,null,null,0,212,null,"Total Target Seq"]
[21,1423,21,1427,21,1432,null,null,null,null,0,222,null,{"$f":"COUNTIF(L7:L72,G3)","v":40},null,11,11,11,11,11,11]
[21,1534,21,1539,21,1547,null,null,null,null,0,222,null,null,null,"% of reinforcement given in 6 equal intervals based on number of trials "]
[21,1674,21,1691,21,1700,null,null,null,null,0,222,null,null,null,"%_1","%_2","%_3","%_4","%_5","%_6"]
[12,1791,23,1798,23,1803,null,null,null,null,0,122,null,null,"target sequence",{"$f":"$G$3","v":222},{"$f":"$G$3","v":222},{"$f":"$G$3","v":222},{"$f":"$G$3","v":222},{"$f":"$G$3","v":222},{"$f":"$G$3","v":222}]
[21,1906,21,1909,21,1915,null,null,null,null,0,222,null,null,"total reinforcement",{"$f":"U14","v":3},{"$f":"Z14","v":7},{"$f":"AE14","v":5},{"$f":"AJ14","v":9},{"$f":"AO14","v":9},{"$f":"AT14","v":7}]
[21,2032,21,2034,21,2039,null,null,null,null,0,222,null,null,"% target"]
[12,2126,23,2131,23,2135,null,null,null,null,0,122,null,null,"CCRF"]
[21,2233,21,2237,12,2241,null,null,null,null,0,221,null,null,"% CCRf"]
[21,2340,21,2347,21,2353,null,null,null,null,0,222,null,null,"average response rate",{"$f":"F17/P20","v":98.909090909090907},{"$f":"(F28-F17)/Q20","v":115},{"$f":"(F39-F28)/R20","v":116.18181818181819},{"$f":"(F50-F39)/S20","v":125.18181818181819},{"$f":"(F61-F50)/T20","v":149.09090909090909},{"$f":"(F72-F61)/U20","v":139.63636363636363}]
[21,2448,21,2453,21,2460,null,null,null,null,0,222]
[21,2576,21,2584,21,2591,null,null,null,null,0,222]
[21,2699,12,2702,23,2717,null,null,null,null,0,212]
[21,2864,21,2869,21,2875,null,null,null,null,0,222]
[12,2964,23,2967,23,2969,null,null,null,null,0,122]
[21,3066,21,3070,12,3074,null,null,null,null,0,221]
[21,3170,12,3181,23,3183,null,null,null,null,0,212]
[21,3279,21,3288,21,3295,null,null,null,null,0,222]
[12,3403,23,3408,23,3415,null,null,null,null,0,122]
[21,3510,12,3519,23,3526,null,null,null,null,0,212]
[21,3623,21,3626,21,3631,null,null,null,null,0,222]
[12,3725,23,3729,23,3733,null,null,null,null,0,122]
[21,3828,21,3832,21,3835,null,null,null,null,0,222]
[21,3934,21,3938,21,3957,null,null,null,null,0,222]
[21,4102,12,4109,23,4115,null,null,null,null,0,212]
[21,4211,21,4219,21,4225,null,null,null,null,0,222]
[21,4346,21,4354,21,4360,null,null,null,null,0,222]
[21,4450,21,4454,21,4470,null,null,null,null,0,222]
[21,4565,21,4572,21,4583,null,null,null,null,0,222]
[21,4677,21,4687,21,4693,null,null,null,null,0,222]
[21,4793,21,4799,21,4808,null,null,null,null,0,222]
[21,4971,21,5000,21,5008,null,null,null,null,0,222]
[21,5100,21,5111,21,5117,null,null,null,null,0,222]
[21,5263,21,5271,21,5280,null,null,null,null,0,222]
[12,5385,23,5390,23,5404,null,null,null,null,0,122]
[21,5499,21,5503,21,5510,null,null,null,null,0,222]
[21,5603,21,5608,21,5614,null,null,null,null,0,222]
[21,5732,21,5745,21,5764,null,null,null,null,0,222]
[21,5864,21,5876,12,5878,null,null,null,null,0,221]
[21,6140,21,6146,21,6161,null,null,null,null,0,222]
[21,6282,21,6293,21,6305,null,null,null,null,0,222]
[21,6422,21,6436,21,6451,null,null,null,null,0,222]
[21,6607,21,6616,21,6648,null,null,null,null,0,222]
[21,6772,21,6776,21,6795,null,null,null,null,0,222]
[12,6883,23,6889,23,6894,null,null,null,null,0,122]
[21,7007,21,7013,21,7021,null,null,null,null,0,222]
[12,7113,23,7120,23,7133,null,null,null,null,0,122]
[21,7225,21,7234,12,7238,null,null,null,null,0,221]
[21,7334,12,7339,23,7347,null,null,null,null,0,212]
[21,7468,21,7478,21,7484,null,null,null,null,0,222]
[21,7611,21,7625,21,7635,null,null,null,null,0,222]
[21,7793,21,7809,21,7815,null,null,null,null,0,222]
[21,8056,21,8066,21,8082,null,null,null,null,0,222]
[21,8172,21,8175,21,8184,null,null,null,null,1,222]

{"sheet":"!M906B10.Gus","index":17,"n_rows":54,"n_cols":48,"rows_kept":54,"cut":false,"hidden":false,"merged":[[4,39,4,42],[5,39,5,40],[4,44,4,47],[5,44,5,45],[4,24,4,27],[5,24,5,25],[4,29,4,32],[5,29,5,30],[4,34,4,37],[5,34,5,35],[1,1,1,2],[5,13,5,14],[18,13,18,14],[19,13,19,14],[4,19,4,22],[5,19,5,20]]}
["Report for:!M906B10.Gus"]
["Date:","<date>"]
["Hen:","<hen>",null,null,null,"Correct Sequence",{"$f":"Start!J2","v":222},null,null,null,null,null,null,null,null,"Total Sequences in Data",{"$f":"4994-COUNTBLANK(L7:L5000)","v":48},null,null,null,null,"Total Sequences in Block Data",{"$f":"COUNTA(L7:L14)","v":8},null,null,null,"Total Sequences in Block Data",{"$f":"COUNTA(L15:L22)","v":8},null,null,null,"Total Sequences in Block Data",{"$f":"COUNTA(L23:L30)","v":8},null,null,null,"Total Sequences in Block Data",{"$f":"COUNTA(L31:L38)","v":8},null,null,null,"Total Sequences in Block Data",{"$f":"COUNTA(L39:L46)","v":8},null,null,null,"Total Sequences in Block Data",{"$f":"COUNTA(L47:L54)","v":8}]
[null,null,null,null,null,null,null,null,null,null,null,null,null,null,null,"Total Sequences in Summary",{"$f":"SUM(O7:O14)","v":48},null,null,null,null,"Total Sequences in Block Summary",{"$f":"SUM(U7:U14)","v":8},null,null,null,"Total Sequences in Block Summary",{"$f":"SUM(Z7:Z14)","v":8},null,null,null,"Total Sequences in Block Summary",{"$f":"SUM(AE7:AE14)","v":8},null,null,null,"Total Sequences in Block Summary",{"$f":"SUM(AJ7:AJ14)","v":8},null,null,null,"Total Sequences in Block Summary",{"$f":"SUM(AO7:AO14)","v":8},null,null,null,"Total Sequences in Block Summary",{"$f":"SUM(AT7:AT14)","v":8}]
[null,null,null,null,null,null,null,null,null,null,null,null,null,null,null,null,null,null,null,"Block 1",null,null,null,null,"Block 2",null,null,null,null,"Block 3",null,null,null,null,"Block 4",null,null,null,null,"Block 5",null,null,null,null,"Block 6"]
["Sequence\nComponent\n1","Time\n1","Sequence\nComponent\n2","Time\n2","Sequence\nComponent\n3","Time\n3","Sequence\nComponent\n4","Time\n4","Sequence\nComponent\n5","Time\n5","Correct?\n0=No 1=Yes","Sequence",null,"Frequency",null,"Relative Frequency","Variability",null,null,"Frequency",null,"Relative Frequency","Variability",null,"Frequency",null,"Relative Frequency","Variability",null,"Frequency",null,"Relative Frequency","Variability",null,"Frequency",null,"Relative Frequency","Variability",null,"Frequency",null,"Relative Frequency","Variability",null,"Frequency",null,"Relative Frequency","Variability"]
[21,21,21,27,21,34,null,null,null,null,0,222,null,111,{"$f":"COUNTIF($L$7:$L$500,N7)","v":0},{"$f":"O7/$Q$4","v":0},{"$f":"IF(P7=0,0,(P7*((LOG(P7))/LOG(2))))","v":0},null,null,{"$f":"N7","v":111},{"$f":"COUNTIF(L7:L14,T7)","v":0},{"$f":"U7/(W4-U14)","v":0},{"$f":"IF(V7=0,0,(V7*((LOG(V7))/LOG(2))))","v":0},null,{"$f":"N7","v":111},{"$f":"COUNTIF(L15:L22,Y7)","v":0},{"$f":"Z7/(AB4-Z14)","v":0},{"$f":"IF(AA7=0,0,(AA7*((LOG(AA7))/LOG(2))))","v":0},null,{"$f":"N7","v":111},{"$f":"COUNTIF(L23:L30,AD7)","v":0},{"$f":"AE7/(AG4-AE14)","v":0},{"$f":"IF(AF7=0,0,(AF7*((LOG(AF7))/LOG(2))))","v":0},null,{"$f":"N7","v":111},{"$f":"COUNTIF(L31:L38,AI7)","v":0},{"$f":"AJ7/(AL4-AJ14)","v":0},{"$f":"IF(AK7=0,0,(AK7*((LOG(AK7))/LOG(2))))","v":0},null,{"$f":"N7","v":111},{"$f":"COUNTIF(L39:L46,AN7)","v":0},{"$f":"AO7/(AQ4-AO14)","v":0},{"$f":"IF(AP7=0,0,(AP7*((LOG(AP7))/LOG(2))))","v":0},null,{"$f":"N7","v":111},{"$f":"COUNTIF(L47:L54,AS7)","v":0},{"$f":"AT7/(AV4-AT14)","v":{"$error":"#DIV/0!"}},{"$f":"IF(AU7=0,0,(AU7*((LOG(AU7))/LOG(2))))","v":{"$error":"#DIV/0!"}}]
[21,163,21,172,21,179,null,null,null,null,0,222,null,112,{"$f":"COUNTIF($L$7:$L$500,N8)","v":0},{"$f":"O8/$Q$4","v":0},{"$f":"IF(P8=0,0,(P8*((LOG(P8))/LOG(2))))","v":0},null,null,{"$f":"N8","v":112},{"$f":"COUNTIF(L7:L14,T8)","v":0},{"$f":"U8/(W4-U14)","v":0},{"$f":"IF(V8=0,0,(V8*((LOG(V8))/LOG(2))))","v":0},null,{"$f":"N8","v":112},{"$f":"COUNTIF(L15:L22,Y8)","v":0},{"$f":"Z8/(AB4-Z14)","v":0},{"$f":"IF(AA8=0,0,(AA8*((LOG(AA8))/LOG(2))))","v":0},null,{"$f":"N8","v":112},{"$f":"COUNTIF(L23:L30,AD8)","v":0},{"$f":"AE8/(AG4-AE14)","v":0},{"$f":"IF(AF8=0,0,(AF8*((LOG(AF8))/LOG(2))))","v":0},null,{"$f":"N8","v":112},{"$f":"COUNTIF(L31:L38,AI8)","v":0},{"$f":"AJ8/(AL4-AJ14)","v":0},{"$f":"IF(AK8=0,0,(AK8*((LOG(AK8))/LOG(2))))","v":0},null,{"$f":"N8","v":112},{"$f":"COUNTIF(L39:L46,AN8)","v":0},{"$f":"AO8/(AQ4-AO14)","v":0},{"$f":"IF(AP8=0,0,(AP8*((LOG(AP8))/LOG(2))))","v":0},null,{"$f":"N8","v":112},{"$f":"COUNTIF(L47:L54,AS8)","v":0},{"$f":"AT8/(AV4-AT14)","v":{"$error":"#DIV/0!"}},{"$f":"IF(AU8=0,0,(AU8*((LOG(AU8))/LOG(2))))","v":{"$error":"#DIV/0!"}}]
[21,276,12,280,23,281,null,null,null,null,0,212,null,121,{"$f":"COUNTIF($L$7:$L$500,N9)","v":0},{"$f":"O9/$Q$4","v":0},{"$f":"IF(P9=0,0,(P9*((LOG(P9))/LOG(2))))","v":0},null,null,{"$f":"N9","v":121},{"$f":"COUNTIF(L7:L14,T9)","v":0},{"$f":"U9/(W4-U14)","v":0},{"$f":"IF(V9=0,0,(V9*((LOG(V9))/LOG(2))))","v":0},null,{"$f":"N9","v":121},{"$f":"COUNTIF(L15:L22,Y9)","v":0},{"$f":"Z9/(AB4-Z14)","v":0},{"$f":"IF(AA9=0,0,(AA9*((LOG(AA9))/LOG(2))))","v":0},null,{"$f":"N9","v":121},{"$f":"COUNTIF(L23:L30,AD9)","v":0},{"$f":"AE9/(AG4-AE14)","v":0},{"$f":"IF(AF9=0,0,(AF9*((LOG(AF9))/LOG(2))))","v":0},null,{"$f":"N9","v":121},{"$f":"COUNTIF(L31:L38,AI9)","v":0},{"$f":"AJ9/(AL4-AJ14)","v":0},{"$f":"IF(AK9=0,0,(AK9*((LOG(AK9))/LOG(2))))","v":0},null,{"$f":"N9","v":121},{"$f":"COUNTIF(L39:L46,AN9)","v":0},{"$f":"AO9/(AQ4-AO14)","v":0},{"$f":"IF(AP9=0,0,(AP9*((LOG(AP9))/LOG(2))))","v":0},null,{"$f":"N9","v":121},{"$f":"COUNTIF(L47:L54,AS9)","v":0},{"$f":"AT9/(AV4-AT14)","v":{"$error":"#DIV/0!"}},{"$f":"IF(AU9=0,0,(AU9*((LOG(AU9))/LOG(2))))","v":{"$error":"#DIV/0!"}}]
[21,407,21,418,21,422,null,null,null,null,0,222,null,122,{"$f":"COUNTIF($L$7:$L$500,N10)","v":3},{"$f":"O10/$Q$4","v":6.25E-2},{"$f":"IF(P10=0,0,(P10*((LOG(P10))/LOG(2))))","v":-0.25},null,null,{"$f":"N10","v":122},{"$f":"COUNTIF(L7:L14,T10)","v":0},{"$f":"U10/(W4-U14)","v":0},{"$f":"IF(V10=0,0,(V10*((LOG(V10))/LOG(2))))","v":0},null,{"$f":"N10","v":122},{"$f":"COUNTIF(L15:L22,Y10)","v":0},{"$f":"Z10/(AB4-Z14)","v":0},{"$f":"IF(AA10=0,0,(AA10*((LOG(AA10))/LOG(2))))","v":0},null,{"$f":"N10","v":122},{"$f":"COUNTIF(L23:L30,AD10)","v":2},{"$f":"AE10/(AG4-AE14)","v":1},{"$f":"IF(AF10=0,0,(AF10*((LOG(AF10))/LOG(2))))","v":0},null,{"$f":"N10","v":122},{"$f":"COUNTIF(L31:L38,AI10)","v":1},{"$f":"AJ10/(AL4-AJ14)","v":1},{"$f":"IF(AK10=0,0,(AK10*((LOG(AK10))/LOG(2))))","v":0},null,{"$f":"N10","v":122},{"$f":"COUNTIF(L39:L46,AN10)","v":0},{"$f":"AO10/(AQ4-AO14)","v":0},{"$f":"IF(AP10=0,0,(AP10*((LOG(AP10))/LOG(2))))","v":0},null,{"$f":"N10","v":122},{"$f":"COUNTIF(L47:L54,AS10)","v":0},{"$f":"AT10/(AV4-AT14)","v":{"$error":"#DIV/0!"}},{"$f":"IF(AU10=0,0,(AU10*((LOG(AU10))/LOG(2))))","v":{"$error":"#DIV/0!"}}]
[21,538,21,544,21,550,null,null,null,null,0,222,null,211,{"$f":"COUNTIF($L$7:$L$500,N11)","v":0},{"$f":"O11/$Q$4","v":0},{"$f":"IF(P11=0,0,(P11*((LOG(P11))/LOG(2))))","v":0},null,null,{"$f":"N11","v":211},{"$f":"COUNTIF(L7:L14,T11)","v":0},{"$f":"U11/(W4-U14)","v":0},{"$f":"IF(V11=0,0,(V11*((LOG(V11))/LOG(2))))","v":0},null,{"$f":"N11","v":211},{"$f":"COUNTIF(L15:L22,Y11)","v":0},{"$f":"Z11/(AB4-Z14)","v":0},{"$f":"IF(AA11=0,0,(AA11*((LOG(AA11))/LOG(2))))","v":0},null,{"$f":"N11","v":211},{"$f":"COUNTIF(L23:L30,AD11)","v":0},{"$f":"AE11/(AG4-AE14)","v":0},{"$f":"IF(AF11=0,0,(AF11*((LOG(AF11))/LOG(2))))","v":0},null,{"$f":"N11","v":211},{"$f":"COUNTIF(L31:L38,AI11)","v":0},{"$f":"AJ11/(AL4-AJ14)","v":0},{"$f":"IF(AK11=0,0,(AK11*((LOG(AK11))/LOG(2))))","v":0},null,{"$f":"N11","v":211},{"$f":"COUNTIF(L39:L46,AN11)","v":0},{"$f":"AO11/(AQ4-AO14)","v":0},{"$f":"IF(AP11=0,0,(AP11*((LOG(AP11))/LOG(2))))","v":0},null,{"$f":"N11","v":211},{"$f":"COUNTIF(L47:L54,AS11)","v":0},{"$f":"AT11/(AV4-AT14)","v":{"$error":"#DIV/0!"}},{"$f":"IF(AU11=0,0,(AU11*((LOG(AU11))/LOG(2))))","v":{"$error":"#DIV/0!"}}]
[21,688,21,698,21,706,null,null,null,null,0,222,null,212,{"$f":"COUNTIF($L$7:$L$500,N12)","v":3},{"$f":"O12/$Q$4","v":6.25E-2},{"$f":"IF(P12=0,0,(P12*((LOG(P12))/LOG(2))))","v":-0.25},null,null,{"$f":"N12","v":212},{"$f":"COUNTIF(L7:L14,T12)","v":1},{"$f":"U12/(W4-U14)","v":0.5},{"$f":"IF(V12=0,0,(V12*((LOG(V12))/LOG(2))))","v":-0.5},null,{"$f":"N12","v":212},{"$f":"COUNTIF(L15:L22,Y12)","v":1},{"$f":"Z12/(AB4-Z14)","v":0.33333333333333331},{"$f":"IF(AA12=0,0,(AA12*((LOG(AA12))/LOG(2))))","v":-0.52832083357371862},null,{"$f":"N12","v":212},{"$f":"COUNTIF(L23:L30,AD12)","v":0},{"$f":"AE12/(AG4-AE14)","v":0},{"$f":"IF(AF12=0,0,(AF12*((LOG(AF12))/LOG(2))))","v":0},null,{"$f":"N12","v":212},{"$f":"COUNTIF(L31:L38,AI12)","v":0},{"$f":"AJ12/(AL4-AJ14)","v":0},{"$f":"IF(AK12=0,0,(AK12*((LOG(AK12))/LOG(2))))","v":0},null,{"$f":"N12","v":212},{"$f":"COUNTIF(L39:L46,AN12)","v":1},{"$f":"AO12/(AQ4-AO14)","v":1},{"$f":"IF(AP12=0,0,(AP12*((LOG(AP12))/LOG(2))))","v":0},null,{"$f":"N12","v":212},{"$f":"COUNTIF(L47:L54,AS12)","v":0},{"$f":"AT12/(AV4-AT14)","v":{"$error":"#DIV/0!"}},{"$f":"IF(AU12=0,0,(AU12*((LOG(AU12))/LOG(2))))","v":{"$error":"#DIV/0!"}}]
[21,796,21,805,21,817,null,null,null,null,0,222,null,221,{"$f":"COUNTIF($L$7:$L$500,N13)","v":3},{"$f":"O13/$Q$4","v":6.25E-2},{"$f":"IF(P13=0,0,(P13*((LOG(P13))/LOG(2))))","v":-0.25},null,null,{"$f":"N13","v":221},{"$f":"COUNTIF(L7:L14,T13)","v":1},{"$f":"U13/(W4-U14)","v":0.5},{"$f":"IF(V13=0,0,(V13*((LOG(V13))/LOG(2))))","v":-0.5},null,{"$f":"N13","v":221},{"$f":"COUNTIF(L15:L22,Y13)","v":2},{"$f":"Z13/(AB4-Z14)","v":0.66666666666666663},{"$f":"IF(AA13=0,0,(AA13*((LOG(AA13))/LOG(2))))","v":-0.38997500048077083},null,{"$f":"N13","v":221},{"$f":"COUNTIF(L23:L30,AD13)","v":0},{"$f":"AE13/(AG4-AE14)","v":0},{"$f":"IF(AF13=0,0,(AF13*((LOG(AF13))/LOG(2))))","v":0},null,{"$f":"N13","v":221},{"$f":"COUNTIF(L31:L38,AI13)","v":0},{"$f":"AJ13/(AL4-AJ14)","v":0},{"$f":"IF(AK13=0,0,(AK13*((LOG(AK13))/LOG(2))))","v":0},null,{"$f":"N13","v":221},{"$f":"COUNTIF(L39:L46,AN13)","v":0},{"$f":"AO13/(AQ4-AO14)","v":0},{"$f":"IF(AP13=0,0,(AP13*((LOG(AP13))/LOG(2))))","v":0},null,{"$f":"N13","v":221},{"$f":"COUNTIF(L47:L54,AS13)","v":0},{"$f":"AT13/(AV4-AT14)","v":{"$error":"#DIV/0!"}},{"$f":"IF(AU13=0,0,(AU13*((LOG(AU13))/LOG(2))))","v":{"$error":"#DIV/0!"}}]
[21,966,21,973,12,979,null,null,null,null,0,221,null,222,{"$f":"COUNTIF($L$7:$L$500,N14)","v":39},{"$f":"O14/$Q$4","v":0.8125},{"$f":"IF(P14=0,0,(P14*((LOG(P14))/LOG(2))))","v":-0.24339272901036266},null,null,{"$f":"N14","v":222},{"$f":"COUNTIF(L7:L14,T14)","v":6},null,null,null,{"$f":"N14","v":222},{"$f":"COUNTIF(L15:L22,Y14)","v":5},null,null,null,{"$f":"N14","v":222},{"$f":"COUNTIF(L23:L30,AD14)","v":6},null,null,null,{"$f":"N14","v":222},{"$f":"COUNTIF(L31:L38,AI14)","v":7},null,null,null,{"$f":"N14","v":222},{"$f":"COUNTIF(L39:L46,AN14)","v":7},null,null,null,{"$f":"N14","v":222},{"$f":"COUNTIF(L47:L54,AS14)","v":8}]
[21,1076,21,1079,12,1081,null,null,null,null,0,221,null,null,null,{"$f":"SUM(P7:P14)","v":1},{"$f":"-SUM(Q7:Q14)","v":0.99339272901036269},null,null,null,null,{"$f":"SUM(V7:V14)","v":1},{"$f":"-SUM(W7:W14)","v":1},null,null,null,{"$f":"SUM(AA7:AA14)","v":1},{"$f":"-SUM(AB7:AB14)","v":0.91829583405448945},null,null,null,{"$f":"SUM(AF7:AF14)","v":1},{"$f":"-SUM(AG7:AG14)","v":0},null,null,null,{"$f":"SUM(AK7:AK14)","v":1},{"$f":"-SUM(AL7:AL14)","v":0},null,null,null,{"$f":"SUM(AP7:AP14)","v":1},{"$f":"-SUM(AQ7:AQ14)","v":0},null,null,null,{"$f":"SUM(AU7:AU14)","v":{"$error":"#DIV/0!"}},{"$f":"-SUM(AV7:AV14)","v":{"$error":"#DIV/0!"}}]
[21,1177,21,1183,21,1186,null,null,null,null,0,222,null,null,null,"U=",{"$f":"Q15/(LOG(Q4)/LOG(2))","v":0.1778691851345629},null,null,null,null,"U1=",{"$f":"W15/(LOG(W4)/LOG(2))","v":0.33333333333333331},null,null,null,"U2=",{"$f":"AB15/(LOG(AB4)/LOG(2))","v":0.30609861135149646},null,null,null,"U3=",{"$f":"AG15/(LOG(AG4)/LOG(2))","v":0},null,null,null,"U4=",{"$f":"AL15/(LOG(AL4)/LOG(2))","v":0},null,null,null,"U5=",{"$f":"AQ15/(LOG(AQ4)/LOG(2))","v":0},null,null,null,"U6=",{"$f":"AV15/(LOG(AV4)/LOG(2))","v":{"$error":"#DIV/0!"}}]
[21,1298,21,1306,21,1316,null,null,null,null,0,222]
[21,1409,21,1416,21,1435,null,null,null,null,0,222]
[21,1543,12,1547,23,1553,null,null,null,null,0,212,null,"Total Target Seq"]
[21,1650,21,1653,12,1658,null,null,null,null,0,221,null,{"$f":"COUNTIF(L7:L54,G3)","v":39},null,8,8,8,8,8,8]
[21,2224,21,2228,21,2234,null,null,null,null,0,222,null,null,null,"% of reinforcement given in 6 equal intervals based on number of trials "]
[21,2333,21,2338,21,2349,null,null,null,null,0,222,null,null,null,"%_1","%_2","%_3","%_4","%_5","%_6"]
[21,2486,21,2493,21,2499,null,null,null,null,0,222,null,null,"target sequence",{"$f":"$G$3","v":222},{"$f":"$G$3","v":222},{"$f":"$G$3","v":222},{"$f":"$G$3","v":222},{"$f":"$G$3","v":222},{"$f":"$G$3","v":222}]
[21,2621,21,2623,21,2639,null,null,null,null,0,222,null,null,"total reinforcement",{"$f":"U14","v":6},{"$f":"Z14","v":5},{"$f":"AE14","v":6},{"$f":"AJ14","v":7},{"$f":"AO14","v":7},{"$f":"AT14","v":8}]
[12,2852,23,2874,23,2879,null,null,null,null,0,122,null,null,"% target"]
[12,3010,23,3012,23,3031,null,null,null,null,0,122,null,null,"CCRF"]
[21,3123,21,3125,21,3129,null,null,null,null,0,222,null,null,"% CCRf"]
[21,3229,21,3234,21,3239,null,null,null,null,0,222,null,null,"average response rate",{"$f":"F14/P20","v":122.375},{"$f":"(F22-F14)/Q20","v":171.25},{"$f":"(F30-F22)/R20","v":142.375},{"$f":"(F38-F30)/S20","v":130},{"$f":"(F46-F38)/T20","v":132.875},{"$f":"(F54-F46)/U20","v":152.125}]
[21,3337,21,3347,21,3356,null,null,null,null,0,222]
[21,3458,21,3471,21,3488,null,null,null,null,0,222]
[21,3588,21,3598,21,3606,null,null,null,null,0,222]
[21,3753,21,3758,21,3767,null,null,null,null,0,222]
[21,3858,21,3871,21,3880,null,null,null,null,0,222]
[12,4011,23,4040,23,4052,null,null,null,null,0,122]
[21,4153,21,4159,21,4165,null,null,null,null,0,222]
[21,4255,21,4265,21,4272,null,null,null,null,0,222]
[21,4410,21,4417,21,4427,null,null,null,null,0,222]
[21,4519,21,4522,21,4528,null,null,null,null,0,222]
[21,4661,21,4673,21,4686,null,null,null,null,0,222]
[21,4780,21,4786,21,4807,null,null,null,null,0,222]
[21,4925,21,4931,21,4937,null,null,null,null,0,222]
[21,5059,21,5095,21,5104,null,null,null,null,0,222]
[21,5199,21,5205,21,5214,null,null,null,null,0,222]
[21,5315,21,5328,21,5335,null,null,null,null,0,222]
[21,5422,21,5429,21,5436,null,null,null,null,0,222]
[21,5570,12,5574,23,5591,null,null,null,null,0,212]
[21,5688,21,5695,21,5700,null,null,null,null,0,222]
[21,5854,21,5874,21,5880,null,null,null,null,0,222]
[21,6009,21,6018,21,6031,null,null,null,null,0,222]
[21,6169,21,6176,21,6181,null,null,null,null,0,222]
[21,6300,21,6330,21,6367,null,null,null,null,0,222]
[21,6468,21,6504,21,6517,null,null,null,null,0,222]
[21,6650,21,6664,21,6670,null,null,null,null,0,222]
[21,6796,21,6801,21,6808,null,null,null,null,1,222]

{"sheet":"!M907A50.Gus","index":18,"n_rows":61,"n_cols":48,"rows_kept":61,"cut":false,"hidden":false,"merged":[[4,39,4,42],[5,39,5,40],[4,44,4,47],[5,44,5,45],[4,24,4,27],[5,24,5,25],[4,29,4,32],[5,29,5,30],[4,34,4,37],[5,34,5,35],[1,1,1,2],[5,13,5,14],[18,13,18,14],[19,13,19,14],[4,19,4,22],[5,19,5,20]]}
["Report for:!M907A50.Gus"]
["Date:","<date>"]
["Hen:","<hen>",null,null,null,"Correct Sequence",{"$f":"Start!J2","v":222},null,null,null,null,null,null,null,null,"Total Sequences in Data",{"$f":"4994-COUNTBLANK(L7:L5000)","v":55},null,null,null,null,"Total Sequences in Block Data",{"$f":"COUNTA(L7:L15)","v":9},null,null,null,"Total Sequences in Block Data",{"$f":"COUNTA(L16:L24)","v":9},null,null,null,"Total Sequences in Block Data",{"$f":"COUNTA(L25:L34)","v":10},null,null,null,"Total Sequences in Block Data",{"$f":"COUNTA(L35:L43)","v":9},null,null,null,"Total Sequences in Block Data",{"$f":"COUNTA(L44:L52)","v":9},null,null,null,"Total Sequences in Block Data",{"$f":"COUNTA(L53:L61)","v":9}]
[null,null,null,null,null,null,null,null,null,null,null,null,null,null,null,"Total Sequences in Summary",{"$f":"SUM(O7:O14)","v":55},null,null,null,null,"Total Sequences in Block Summary",{"$f":"SUM(U7:U14)","v":9},null,null,null,"Total Sequences in Block Summary",{"$f":"SUM(Z7:Z14)","v":9},null,null,null,"Total Sequences in Block Summary",{"$f":"SUM(AE7:AE14)","v":10},null,null,null,"Total Sequences in Block Summary",{"$f":"SUM(AJ7:AJ14)","v":9},null,null,null,"Total Sequences in Block Summary",{"$f":"SUM(AO7:AO14)","v":9},null,null,null,"Total Sequences in Block Summary",{"$f":"SUM(AT7:AT14)","v":9}]
[null,null,null,null,null,null,null,null,null,null,null,null,null,null,null,null,null,null,null,"Block 1",null,null,null,null,"Block 2",null,null,null,null,"Block 3",null,null,null,null,"Block 4",null,null,null,null,"Block 5",null,null,null,null,"Block 6"]
["Sequence\nComponent\n1","Time\n1","Sequence\nComponent\n2","Time\n2","Sequence\nComponent\n3","Time\n3","Sequence\nComponent\n4","Time\n4","Sequence\nComponent\n5","Time\n5","Correct?\n0=No 1=Yes","Sequence",null,"Frequency",null,"Relative Frequency","Variability",null,null,"Frequency",null,"Relative Frequency","Variability",null,"Frequency",null,"Relative Frequency","Variability",null,"Frequency",null,"Relative Frequency","Variability",null,"Frequency",null,"Relative Frequency","Variability",null,"Frequency",null,"Relative Frequency","Variability",null,"Frequency",null,"Relative Frequency","Variability"]
[12,19,23,26,23,40,null,null,null,null,0,122,null,111,{"$f":"COUNTIF($L$7:$L$500,N7)","v":0},{"$f":"O7/$Q$4","v":0},{"$f":"IF(P7=0,0,(P7*((LOG(P7))/LOG(2))))","v":0},null,null,{"$f":"N7","v":111},{"$f":"COUNTIF(L7:L15,T7)","v":0},{"$f":"U7/(W4-U14)","v":0},{"$f":"IF(V7=0,0,(V7*((LOG(V7))/LOG(2))))","v":0},null,{"$f":"N7","v":111},{"$f":"COUNTIF(L16:L24,Y7)","v":0},{"$f":"Z7/(AB4-Z14)","v":0},{"$f":"IF(AA7=0,0,(AA7*((LOG(AA7))/LOG(2))))","v":0},null,{"$f":"N7","v":111},{"$f":"COUNTIF(L25:L34,AD7)","v":0},{"$f":"AE7/(AG4-AE14)","v":0},{"$f":"IF(AF7=0,0,(AF7*((LOG(AF7))/LOG(2))))","v":0},null,{"$f":"N7","v":111},{"$f":"COUNTIF(L35:L43,AI7)","v":0},{"$f":"AJ7/(AL4-AJ14)","v":0},{"$f":"IF(AK7=0,0,(AK7*((LOG(AK7))/LOG(2))))","v":0},null,{"$f":"N7","v":111},{"$f":"COUNTIF(L44:L52,AN7)","v":0},{"$f":"AO7/(AQ4-AO14)","v":0},{"$f":"IF(AP7=0,0,(AP7*((LOG(AP7))/LOG(2))))","v":0},null,{"$f":"N7","v":111},{"$f":"COUNTIF(L53:L61,AS7)","v":0},{"$f":"AT7/(AV4-AT14)","v":{"$error":"#DIV/0!"}},{"$f":"IF(AU7=0,0,(AU7*((LOG(AU7))/LOG(2))))","v":{"$error":"#DIV/0!"}}]
[21,153,12,158,23,163,null,null,null,null,0,212,null,112,{"$f":"COUNTIF($L$7:$L$500,N8)","v":1},{"$f":"O8/$Q$4","v":1.8181818181818181E-2},{"$f":"IF(P8=0,0,(P8*((LOG(P8))/LOG(2))))","v":-0.10511563115499381},null,null,{"$f":"N8","v":112},{"$f":"COUNTIF(L7:L15,T8)","v":0},{"$f":"U8/(W4-U14)","v":0},{"$f":"IF(V8=0,0,(V8*((LOG(V8))/LOG(2))))","v":0},null,{"$f":"N8","v":112},{"$f":"COUNTIF(L16:L24,Y8)","v":0},{"$f":"Z8/(AB4-Z14)","v":0},{"$f":"IF(AA8=0,0,(AA8*((LOG(AA8))/LOG(2))))","v":0},null,{"$f":"N8","v":112},{"$f":"COUNTIF(L25:L34,AD8)","v":0},{"$f":"AE8/(AG4-AE14)","v":0},{"$f":"IF(AF8=0,0,(AF8*((LOG(AF8))/LOG(2))))","v":0},null,{"$f":"N8","v":112},{"$f":"COUNTIF(L35:L43,AI8)","v":1},{"$f":"AJ8/(AL4-AJ14)","v":0.33333333333333331},{"$f":"IF(AK8=0,0,(AK8*((LOG(AK8))/LOG(2))))","v":-0.52832083357371862},null,{"$f":"N8","v":112},{"$f":"COUNTIF(L44:L52,AN8)","v":0},{"$f":"AO8/(AQ4-AO14)","v":0},{"$f":"IF(AP8=0,0,(AP8*((LOG(AP8))/LOG(2))))","v":0},null,{"$f":"N8","v":112},{"$f":"COUNTIF(L53:L61,AS8)","v":0},{"$f":"AT8/(AV4-AT14)","v":{"$error":"#DIV/0!"}},{"$f":"IF(AU8=0,0,(AU8*((LOG(AU8))/LOG(2))))","v":{"$error":"#DIV/0!"}}]
[21,268,21,276,21,294,null,null,null,null,0,222,null,121,{"$f":"COUNTIF($L$7:$L$500,N9)","v":0},{"$f":"O9/$Q$4","v":0},{"$f":"IF(P9=0,0,(P9*((LOG(P9))/LOG(2))))","v":0},null,null,{"$f":"N9","v":121},{"$f":"COUNTIF(L7:L15,T9)","v":0},{"$f":"U9/(W4-U14)","v":0},{"$f":"IF(V9=0,0,(V9*((LOG(V9))/LOG(2))))","v":0},null,{"$f":"N9","v":121},{"$f":"COUNTIF(L16:L24,Y9)","v":0},{"$f":"Z9/(AB4-Z14)","v":0},{"$f":"IF(AA9=0,0,(AA9*((LOG(AA9))/LOG(2))))","v":0},null,{"$f":"N9","v":121},{"$f":"COUNTIF(L25:L34,AD9)","v":0},{"$f":"AE9/(AG4-AE14)","v":0},{"$f":"IF(AF9=0,0,(AF9*((LOG(AF9))/LOG(2))))","v":0},null,{"$f":"N9","v":121},{"$f":"COUNTIF(L35:L43,AI9)","v":0},{"$f":"AJ9/(AL4-AJ14)","v":0},{"$f":"IF(AK9=0,0,(AK9*((LOG(AK9))/LOG(2))))","v":0},null,{"$f":"N9","v":121},{"$f":"COUNTIF(L44:L52,AN9)","v":0},{"$f":"AO9/(AQ4-AO14)","v":0},{"$f":"IF(AP9=0,0,(AP9*((LOG(AP9))/LOG(2))))","v":0},null,{"$f":"N9","v":121},{"$f":"COUNTIF(L53:L61,AS9)","v":0},{"$f":"AT9/(AV4-AT14)","v":{"$error":"#DIV/0!"}},{"$f":"IF(AU9=0,0,(AU9*((LOG(AU9))/LOG(2))))","v":{"$error":"#DIV/0!"}}]
[21,386,21,393,21,399,null,null,null,null,0,222,null,122,{"$f":"COUNTIF($L$7:$L$500,N10)","v":3},{"$f":"O10/$Q$4","v":5.4545454545454543E-2},{"$f":"IF(P10=0,0,(P10*((LOG(P10))/LOG(2))))","v":-0.22889439342564566},null,null,{"$f":"N10","v":122},{"$f":"COUNTIF(L7:L15,T10)","v":1},{"$f":"U10/(W4-U14)","v":0.16666666666666666},{"$f":"IF(V10=0,0,(V10*((LOG(V10))/LOG(2))))","v":-0.43082708345352599},null,{"$f":"N10","v":122},{"$f":"COUNTIF(L16:L24,Y10)","v":0},{"$f":"Z10/(AB4-Z14)","v":0},{"$f":"IF(AA10=0,0,(AA10*((LOG(AA10))/LOG(2))))","v":0},null,{"$f":"N10","v":122},{"$f":"COUNTIF(L25:L34,AD10)","v":0},{"$f":"AE10/(AG4-AE14)","v":0},{"$f":"IF(AF10=0,0,(AF10*((LOG(AF10))/LOG(2))))","v":0},null,{"$f":"N10","v":122},{"$f":"COUNTIF(L35:L43,AI10)","v":2},{"$f":"AJ10/(AL4-AJ14)","v":0.66666666666666663},{"$f":"IF(AK10=0,0,(AK10*((LOG(AK10))/LOG(2))))","v":-0.38997500048077083},null,{"$f":"N10","v":122},{"$f":"COUNTIF(L44:L52,AN10)","v":0},{"$f":"AO10/(AQ4-AO14)","v":0},{"$f":"IF(AP10=0,0,(AP10*((LOG(AP10))/LOG(2))))","v":0},null,{"$f":"N10","v":122},{"$f":"COUNTIF(L53:L61,AS10)","v":0},{"$f":"AT10/(AV4-AT14)","v":{"$error":"#DIV/0!"}},{"$f":"IF(AU10=0,0,(AU10*((LOG(AU10))/LOG(2))))","v":{"$error":"#DIV/0!"}}]
[21,582,21,600,12,614,null,null,null,null,0,221,null,211,{"$f":"COUNTIF($L$7:$L$500,N11)","v":0},{"$f":"O11/$Q$4","v":0},{"$f":"IF(P11=0,0,(P11*((LOG(P11))/LOG(2))))","v":0},null,null,{"$f":"N11","v":211},{"$f":"COUNTIF(L7:L15,T11)","v":0},{"$f":"U11/(W4-U14)","v":0},{"$f":"IF(V11=0,0,(V11*((LOG(V11))/LOG(2))))","v":0},null,{"$f":"N11","v":211},{"$f":"COUNTIF(L16:L24,Y11)","v":0},{"$f":"Z11/(AB4-Z14)","v":0},{"$f":"IF(AA11=0,0,(AA11*((LOG(AA11))/LOG(2))))","v":0},null,{"$f":"N11","v":211},{"$f":"COUNTIF(L25:L34,AD11)","v":0},{"$f":"AE11/(AG4-AE14)","v":0},{"$f":"IF(AF11=0,0,(AF11*((LOG(AF11))/LOG(2))))","v":0},null,{"$f":"N11","v":211},{"$f":"COUNTIF(L35:L43,AI11)","v":0},{"$f":"AJ11/(AL4-AJ14)","v":0},{"$f":"IF(AK11=0,0,(AK11*((LOG(AK11))/LOG(2))))","v":0},null,{"$f":"N11","v":211},{"$f":"COUNTIF(L44:L52,AN11)","v":0},{"$f":"AO11/(AQ4-AO14)","v":0},{"$f":"IF(AP11=0,0,(AP11*((LOG(AP11))/LOG(2))))","v":0},null,{"$f":"N11","v":211},{"$f":"COUNTIF(L53:L61,AS11)","v":0},{"$f":"AT11/(AV4-AT14)","v":{"$error":"#DIV/0!"}},{"$f":"IF(AU11=0,0,(AU11*((LOG(AU11))/LOG(2))))","v":{"$error":"#DIV/0!"}}]
[21,711,12,718,23,727,null,null,null,null,0,212,null,212,{"$f":"COUNTIF($L$7:$L$500,N12)","v":6},{"$f":"O12/$Q$4","v":0.10909090909090909},{"$f":"IF(P12=0,0,(P12*((LOG(P12))/LOG(2))))","v":-0.34869787776038219},null,null,{"$f":"N12","v":212},{"$f":"COUNTIF(L7:L15,T12)","v":3},{"$f":"U12/(W4-U14)","v":0.5},{"$f":"IF(V12=0,0,(V12*((LOG(V12))/LOG(2))))","v":-0.5},null,{"$f":"N12","v":212},{"$f":"COUNTIF(L16:L24,Y12)","v":0},{"$f":"Z12/(AB4-Z14)","v":0},{"$f":"IF(AA12=0,0,(AA12*((LOG(AA12))/LOG(2))))","v":0},null,{"$f":"N12","v":212},{"$f":"COUNTIF(L25:L34,AD12)","v":2},{"$f":"AE12/(AG4-AE14)","v":0.5},{"$f":"IF(AF12=0,0,(AF12*((LOG(AF12))/LOG(2))))","v":-0.5},null,{"$f":"N12","v":212},{"$f":"COUNTIF(L35:L43,AI12)","v":0},{"$f":"AJ12/(AL4-AJ14)","v":0},{"$f":"IF(AK12=0,0,(AK12*((LOG(AK12))/LOG(2))))","v":0},null,{"$f":"N12","v":212},{"$f":"COUNTIF(L44:L52,AN12)","v":1},{"$f":"AO12/(AQ4-AO14)","v":0.5},{"$f":"IF(AP12=0,0,(AP12*((LOG(AP12))/LOG(2))))","v":-0.5},null,{"$f":"N12","v":212},{"$f":"COUNTIF(L53:L61,AS12)","v":0},{"$f":"AT12/(AV4-AT14)","v":{"$error":"#DIV/0!"}},{"$f":"IF(AU12=0,0,(AU12*((LOG(AU12))/LOG(2))))","v":{"$error":"#DIV/0!"}}]
[21,819,21,825,21,830,null,null,null,null,0,222,null,221,{"$f":"COUNTIF($L$7:$L$500,N13)","v":7},{"$f":"O13/$Q$4","v":0.12727272727272726},{"$f":"IF(P13=0,0,(P13*((LOG(P13))/LOG(2))))","v":-0.37850970073217072},null,null,{"$f":"N13","v":221},{"$f":"COUNTIF(L7:L15,T13)","v":2},{"$f":"U13/(W4-U14)","v":0.33333333333333331},{"$f":"IF(V13=0,0,(V13*((LOG(V13))/LOG(2))))","v":-0.52832083357371862},null,{"$f":"N13","v":221},{"$f":"COUNTIF(L16:L24,Y13)","v":2},{"$f":"Z13/(AB4-Z14)","v":1},{"$f":"IF(AA13=0,0,(AA13*((LOG(AA13))/LOG(2))))","v":0},null,{"$f":"N13","v":221},{"$f":"COUNTIF(L25:L34,AD13)","v":2},{"$f":"AE13/(AG4-AE14)","v":0.5},{"$f":"IF(AF13=0,0,(AF13*((LOG(AF13))/LOG(2))))","v":-0.5},null,{"$f":"N13","v":221},{"$f":"COUNTIF(L35:L43,AI13)","v":0},{"$f":"AJ13/(AL4-AJ14)","v":0},{"$f":"IF(AK13=0,0,(AK13*((LOG(AK13))/LOG(2))))","v":0},null,{"$f":"N13","v":221},{"$f":"COUNTIF(L44:L52,AN13)","v":1},{"$f":"AO13/(AQ4-AO14)","v":0.5},{"$f":"IF(AP13=0,0,(AP13*((LOG(AP13))/LOG(2))))","v":-0.5},null,{"$f":"N13","v":221},{"$f":"COUNTIF(L53:L61,AS13)","v":0},{"$f":"AT13/(AV4-AT14)","v":{"$error":"#DIV/0!"}},{"$f":"IF(AU13=0,0,(AU13*((LOG(AU13))/LOG(2))))","v":{"$error":"#DIV/0!"}}]
[21,938,12,942,23,949,null,null,null,null,0,212,null,222,{"$f":"COUNTIF($L$7:$L$500,N14)","v":38},{"$f":"O14/$Q$4","v":0.69090909090909092},{"$f":"IF(P14=0,0,(P14*((LOG(P14))/LOG(2))))","v":-0.3685531564196512},null,null,{"$f":"N14","v":222},{"$f":"COUNTIF(L7:L15,T14)","v":3},null,null,null,{"$f":"N14","v":222},{"$f":"COUNTIF(L16:L24,Y14)","v":7},null,null,null,{"$f":"N14","v":222},{"$f":"COUNTIF(L25:L34,AD14)","v":6},null,null,null,{"$f":"N14","v":222},{"$f":"COUNTIF(L35:L43,AI14)","v":6},null,null,null,{"$f":"N14","v":222},{"$f":"COUNTIF(L44:L52,AN14)","v":7},null,null,null,{"$f":"N14","v":222},{"$f":"COUNTIF(L53:L61,AS14)","v":9}]
[21,1046,21,1052,12,1057,null,null,null,null,0,221,null,null,null,{"$f":"SUM(P7:P14)","v":1},{"$f":"-SUM(Q7:Q14)","v":1.4297707594928435},null,null,null,null,{"$f":"SUM(V7:V14)","v":1},{"$f":"-SUM(W7:W14)","v":1.4591479170272446},null,null,null,{"$f":"SUM(AA7:AA14)","v":1},{"$f":"-SUM(AB7:AB14)","v":0},null,null,null,{"$f":"SUM(AF7:AF14)","v":1},{"$f":"-SUM(AG7:AG14)","v":1},null,null,null,{"$f":"SUM(AK7:AK14)","v":1},{"$f":"-SUM(AL7:AL14)","v":0.91829583405448945},null,null,null,{"$f":"SUM(AP7:AP14)","v":1},{"$f":"-SUM(AQ7:AQ14)","v":1},null,null,null,{"$f":"SUM(AU7:AU14)","v":{"$error":"#DIV/0!"}},{"$f":"-SUM(AV7:AV14)","v":{"$error":"#DIV/0!"}}]
[21,1155,21,1157,21,1164,null,null,null,null,0,222,null,null,null,"U=",{"$f":"Q15/(LOG(Q4)/LOG(2))","v":0.24730700567689989},null,null,null,null,"U1=",{"$f":"W15/(LOG(W4)/LOG(2))","v":0.46030991785715247},null,null,null,"U2=",{"$f":"AB15/(LOG(AB4)/LOG(2))","v":0},null,null,null,"U3=",{"$f":"AG15/(LOG(AG4)/LOG(2))","v":0.3010299956639812},null,null,null,"U4=",{"$f":"AL15/(LOG(AL4)/LOG(2))","v":0.28969008214284753},null,null,null,"U5=",{"$f":"AQ15/(LOG(AQ4)/LOG(2))","v":0.31546487678572877},null,null,null,"U6=",{"$f":"AV15/(LOG(AV4)/LOG(2))","v":{"$error":"#DIV/0!"}}]
[21,1262,21,1267,21,1278,null,null,null,null,0,222]
[21,1374,21,1382,21,1400,null,null,null,null,0,222]
[21,1526,21,1532,21,1575,null,null,null,null,0,222,null,"Total Target Seq"]
[21,1683,21,1717,21,1754,null,null,null,null,0,222,null,{"$f":"COUNTIF(L7:L61,G3)","v":38},null,9,9,10,9,9,9]
[21,1880,21,1890,12,1906,null,null,null,null,0,221,null,null,null,"% of reinforcement given in 6 equal intervals based on number of trials "]
[21,2004,21,2006,12,2012,null,null,null,null,0,221,null,null,null,"%_1","%_2","%_3","%_4","%_5","%_6"]
[21,2108,21,2112,21,2116,null,null,null,null,0,222,null,null,"target sequence",{"$f":"$G$3","v":222},{"$f":"$G$3","v":222},{"$f":"$G$3","v":222},{"$f":"$G$3","v":222},{"$f":"$G$3","v":222},{"$f":"$G$3","v":222}]
[21,2210,21,2221,21,2231,null,null,null,null,0,222,null,null,"total reinforcement",{"$f":"U14","v":3},{"$f":"Z14","v":7},{"$f":"AE14","v":6},{"$f":"AJ14","v":6},{"$f":"AO14","v":7},{"$f":"AT14","v":9}]
[21,2389,21,2399,21,2419,null,null,null,null,0,222,null,null,"% target"]
[21,2522,21,2532,12,2535,null,null,null,null,0,221,null,null,"CCRF"]
[21,2637,21,2643,12,2649,null,null,null,null,0,221,null,null,"% CCRf"]
[21,2762,12,2769,23,2774,null,null,null,null,0,212,null,null,"average response rate",{"$f":"F15/P20","v":117.44444444444444},{"$f":"(F24-F15)/Q20","v":130.44444444444446},{"$f":"(F34-F24)/R20","v":138.30000000000001},{"$f":"(F43-F34)/S20","v":138.55555555555554},{"$f":"(F52-F43)/T20","v":142.77777777777777},{"$f":"(F61-F52)/U20","v":211.77777777777777}]
[21,2868,12,2876,23,2885,null,null,null,null,0,212]
[21,2988,21,2993,21,2997,null,null,null,null,0,222]
[21,3110,21,3116,21,3120,null,null,null,null,0,222]
[21,3226,21,3239,21,3262,null,null,null,null,0,222]
[21,3403,21,3423,21,3432,null,null,null,null,0,222]
[21,3567,21,3575,21,3614,null,null,null,null,0,222]
[12,3702,23,3706,23,3715,null,null,null,null,0,122]
[12,3872,23,3882,23,3886,null,null,null,null,0,122]
[12,3984,14,3989,23,3999,null,null,null,null,0,112]
[21,4093,21,4097,21,4103,null,null,null,null,0,222]
[21,4218,21,4235,21,4248,null,null,null,null,0,222]
[21,4361,21,4373,21,4410,null,null,null,null,0,222]
[21,4497,21,4502,21,4506,null,null,null,null,0,222]
[21,4635,21,4644,21,4699,null,null,null,null,0,222]
[21,4805,21,4812,21,4861,null,null,null,null,0,222]
[21,4954,12,4958,23,4970,null,null,null,null,0,212]
[21,5070,21,5076,12,5080,null,null,null,null,0,221]
[21,5175,21,5177,21,5180,null,null,null,null,0,222]
[21,5276,21,5281,21,5285,null,null,null,null,0,222]
[21,5394,21,5404,21,5411,null,null,null,null,0,222]
[21,5543,21,5552,21,5560,null,null,null,null,0,222]
[21,5753,21,5766,21,5814,null,null,null,null,0,222]
[21,5932,21,5940,21,5976,null,null,null,null,0,222]
[21,6089,21,6096,21,6146,null,null,null,null,0,222]
[21,6246,21,6272,21,6288,null,null,null,null,0,222]
[21,6437,21,6476,21,6507,null,null,null,null,0,222]
[21,6620,21,6697,21,6726,null,null,null,null,0,222]
[21,6849,21,6857,21,6904,null,null,null,null,0,222]
[21,7027,21,7068,21,7091,null,null,null,null,0,222]
[21,7260,21,7273,21,7300,null,null,null,null,0,222]
[21,7707,21,7741,21,7759,null,null,null,null,0,222]
[21,7864,21,7899,21,7923,null,null,null,null,0,222]
[21,8020,21,8028,21,8052,null,null,null,null,1,222]

{"sheet":"!M908A50.Gus","index":19,"n_rows":66,"n_cols":48,"rows_kept":66,"cut":false,"hidden":false,"merged":[[4,39,4,42],[5,39,5,40],[4,44,4,47],[5,44,5,45],[4,24,4,27],[5,24,5,25],[4,29,4,32],[5,29,5,30],[4,34,4,37],[5,34,5,35],[1,1,1,2],[5,13,5,14],[18,13,18,14],[19,13,19,14],[4,19,4,22],[5,19,5,20]]}
["Report for:!M908A50.Gus"]
["Date:","<date>"]
["Hen:","<hen>",null,null,null,"Correct Sequence",{"$f":"Start!J2","v":222},null,null,null,null,null,null,null,null,"Total Sequences in Data",{"$f":"4994-COUNTBLANK(L7:L5000)","v":60},null,null,null,null,"Total Sequences in Block Data",{"$f":"COUNTA(L7:L16)","v":10},null,null,null,"Total Sequences in Block Data",{"$f":"COUNTA(L17:L26)","v":10},null,null,null,"Total Sequences in Block Data",{"$f":"COUNTA(L27:L36)","v":10},null,null,null,"Total Sequences in Block Data",{"$f":"COUNTA(L37:L46)","v":10},null,null,null,"Total Sequences in Block Data",{"$f":"COUNTA(L47:L56)","v":10},null,null,null,"Total Sequences in Block Data",{"$f":"COUNTA(L57:L66)","v":10}]
[null,null,null,null,null,null,null,null,null,null,null,null,null,null,null,"Total Sequences in Summary",{"$f":"SUM(O7:O14)","v":60},null,null,null,null,"Total Sequences in Block Summary",{"$f":"SUM(U7:U14)","v":10},null,null,null,"Total Sequences in Block Summary",{"$f":"SUM(Z7:Z14)","v":10},null,null,null,"Total Sequences in Block Summary",{"$f":"SUM(AE7:AE14)","v":10},null,null,null,"Total Sequences in Block Summary",{"$f":"SUM(AJ7:AJ14)","v":10},null,null,null,"Total Sequences in Block Summary",{"$f":"SUM(AO7:AO14)","v":10},null,null,null,"Total Sequences in Block Summary",{"$f":"SUM(AT7:AT14)","v":10}]
[null,null,null,null,null,null,null,null,null,null,null,null,null,null,null,null,null,null,null,"Block 1",null,null,null,null,"Block 2",null,null,null,null,"Block 3",null,null,null,null,"Block 4",null,null,null,null,"Block 5",null,null,null,null,"Block 6"]
["Sequence\nComponent\n1","Time\n1","Sequence\nComponent\n2","Time\n2","Sequence\nComponent\n3","Time\n3","Sequence\nComponent\n4","Time\n4","Sequence\nComponent\n5","Time\n5","Correct?\n0=No 1=Yes","Sequence",null,"Frequency",null,"Relative Frequency","Variability",null,null,"Frequency",null,"Relative Frequency","Variability",null,"Frequency",null,"Relative Frequency","Variability",null,"Frequency",null,"Relative Frequency","Variability",null,"Frequency",null,"Relative Frequency","Variability",null,"Frequency",null,"Relative Frequency","Variability",null,"Frequency",null,"Relative Frequency","Variability"]
[21,32,21,35,21,39,null,null,null,null,0,222,null,111,{"$f":"COUNTIF($L$7:$L$500,N7)","v":0},{"$f":"O7/$Q$4","v":0},{"$f":"IF(P7=0,0,(P7*((LOG(P7))/LOG(2))))","v":0},null,null,{"$f":"N7","v":111},{"$f":"COUNTIF(L7:L16,T7)","v":0},{"$f":"U7/(W4-U14)","v":0},{"$f":"IF(V7=0,0,(V7*((LOG(V7))/LOG(2))))","v":0},null,{"$f":"N7","v":111},{"$f":"COUNTIF(L17:L26,Y7)","v":0},{"$f":"Z7/(AB4-Z14)","v":0},{"$f":"IF(AA7=0,0,(AA7*((LOG(AA7))/LOG(2))))","v":0},null,{"$f":"N7","v":111},{"$f":"COUNTIF(L27:L36,AD7)","v":0},{"$f":"AE7/(AG4-AE14)","v":0},{"$f":"IF(AF7=0,0,(AF7*((LOG(AF7))/LOG(2))))","v":0},null,{"$f":"N7","v":111},{"$f":"COUNTIF(L37:L46,AI7)","v":0},{"$f":"AJ7/(AL4-AJ14)","v":0},{"$f":"IF(AK7=0,0,(AK7*((LOG(AK7))/LOG(2))))","v":0},null,{"$f":"N7","v":111},{"$f":"COUNTIF(L47:L56,AN7)","v":0},{"$f":"AO7/(AQ4-AO14)","v":{"$error":"#DIV/0!"}},{"$f":"IF(AP7=0,0,(AP7*((LOG(AP7))/LOG(2))))","v":{"$error":"#DIV/0!"}},null,{"$f":"N7","v":111},{"$f":"COUNTIF(L57:L66,AS7)","v":0},{"$f":"AT7/(AV4-AT14)","v":0},{"$f":"IF(AU7=0,0,(AU7*((LOG(AU7))/LOG(2))))","v":0}]
[21,166,21,176,21,184,null,null,null,null,0,222,null,112,{"$f":"COUNTIF($L$7:$L$500,N8)","v":0},{"$f":"O8/$Q$4","v":0},{"$f":"IF(P8=0,0,(P8*((LOG(P8))/LOG(2))))","v":0},null,null,{"$f":"N8","v":112},{"$f":"COUNTIF(L7:L16,T8)","v":0},{"$f":"U8/(W4-U14)","v":0},{"$f":"IF(V8=0,0,(V8*((LOG(V8))/LOG(2))))","v":0},null,{"$f":"N8","v":112},{"$f":"COUNTIF(L17:L26,Y8)","v":0},{"$f":"Z8/(AB4-Z14)","v":0},{"$f":"IF(AA8=0,0,(AA8*((LOG(AA8))/LOG(2))))","v":0},null,{"$f":"N8","v":112},{"$f":"COUNTIF(L27:L36,AD8)","v":0},{"$f":"AE8/(AG4-AE14)","v":0},{"$f":"IF(AF8=0,0,(AF8*((LOG(AF8))/LOG(2))))","v":0},null,{"$f":"N8","v":112},{"$f":"COUNTIF(L37:L46,AI8)","v":0},{"$f":"AJ8/(AL4-AJ14)","v":0},{"$f":"IF(AK8=0,0,(AK8*((LOG(AK8))/LOG(2))))","v":0},null,{"$f":"N8","v":112},{"$f":"COUNTIF(L47:L56,AN8)","v":0},{"$f":"AO8/(AQ4-AO14)","v":{"$error":"#DIV/0!"}},{"$f":"IF(AP8=0,0,(AP8*((LOG(AP8))/LOG(2))))","v":{"$error":"#DIV/0!"}},null,{"$f":"N8","v":112},{"$f":"COUNTIF(L57:L66,AS8)","v":0},{"$f":"AT8/(AV4-AT14)","v":0},{"$f":"IF(AU8=0,0,(AU8*((LOG(AU8))/LOG(2))))","v":0}]
[21,272,12,285,23,288,null,null,null,null,0,212,null,121,{"$f":"COUNTIF($L$7:$L$500,N9)","v":0},{"$f":"O9/$Q$4","v":0},{"$f":"IF(P9=0,0,(P9*((LOG(P9))/LOG(2))))","v":0},null,null,{"$f":"N9","v":121},{"$f":"COUNTIF(L7:L16,T9)","v":0},{"$f":"U9/(W4-U14)","v":0},{"$f":"IF(V9=0,0,(V9*((LOG(V9))/LOG(2))))","v":0},null,{"$f":"N9","v":121},{"$f":"COUNTIF(L17:L26,Y9)","v":0},{"$f":"Z9/(AB4-Z14)","v":0},{"$f":"IF(AA9=0,0,(AA9*((LOG(AA9))/LOG(2))))","v":0},null,{"$f":"N9","v":121},{"$f":"COUNTIF(L27:L36,AD9)","v":0},{"$f":"AE9/(AG4-AE14)","v":0},{"$f":"IF(AF9=0,0,(AF9*((LOG(AF9))/LOG(2))))","v":0},null,{"$f":"N9","v":121},{"$f":"COUNTIF(L37:L46,AI9)","v":0},{"$f":"AJ9/(AL4-AJ14)","v":0},{"$f":"IF(AK9=0,0,(AK9*((LOG(AK9))/LOG(2))))","v":0},null,{"$f":"N9","v":121},{"$f":"COUNTIF(L47:L56,AN9)","v":0},{"$f":"AO9/(AQ4-AO14)","v":{"$error":"#DIV/0!"}},{"$f":"IF(AP9=0,0,(AP9*((LOG(AP9))/LOG(2))))","v":{"$error":"#DIV/0!"}},null,{"$f":"N9","v":121},{"$f":"COUNTIF(L57:L66,AS9)","v":0},{"$f":"AT9/(AV4-AT14)","v":0},{"$f":"IF(AU9=0,0,(AU9*((LOG(AU9))/LOG(2))))","v":0}]
[21,396,12,400,23,407,null,null,null,null,0,212,null,122,{"$f":"COUNTIF($L$7:$L$500,N10)","v":6},{"$f":"O10/$Q$4","v":0.1},{"$f":"IF(P10=0,0,(P10*((LOG(P10))/LOG(2))))","v":-0.33219280948873625},null,null,{"$f":"N10","v":122},{"$f":"COUNTIF(L7:L16,T10)","v":0},{"$f":"U10/(W4-U14)","v":0},{"$f":"IF(V10=0,0,(V10*((LOG(V10))/LOG(2))))","v":0},null,{"$f":"N10","v":122},{"$f":"COUNTIF(L17:L26,Y10)","v":2},{"$f":"Z10/(AB4-Z14)","v":0.4},{"$f":"IF(AA10=0,0,(AA10*((LOG(AA10))/LOG(2))))","v":-0.52877123795494496},null,{"$f":"N10","v":122},{"$f":"COUNTIF(L27:L36,AD10)","v":2},{"$f":"AE10/(AG4-AE14)","v":0.5},{"$f":"IF(AF10=0,0,(AF10*((LOG(AF10))/LOG(2))))","v":-0.5},null,{"$f":"N10","v":122},{"$f":"COUNTIF(L37:L46,AI10)","v":2},{"$f":"AJ10/(AL4-AJ14)","v":0.33333333333333331},{"$f":"IF(AK10=0,0,(AK10*((LOG(AK10))/LOG(2))))","v":-0.52832083357371862},null,{"$f":"N10","v":122},{"$f":"COUNTIF(L47:L56,AN10)","v":0},{"$f":"AO10/(AQ4-AO14)","v":{"$error":"#DIV/0!"}},{"$f":"IF(AP10=0,0,(AP10*((LOG(AP10))/LOG(2))))","v":{"$error":"#DIV/0!"}},null,{"$f":"N10","v":122},{"$f":"COUNTIF(L57:L66,AS10)","v":0},{"$f":"AT10/(AV4-AT14)","v":0},{"$f":"IF(AU10=0,0,(AU10*((LOG(AU10))/LOG(2))))","v":0}]
[21,499,12,505,23,509,null,null,null,null,0,212,null,211,{"$f":"COUNTIF($L$7:$L$500,N11)","v":0},{"$f":"O11/$Q$4","v":0},{"$f":"IF(P11=0,0,(P11*((LOG(P11))/LOG(2))))","v":0},null,null,{"$f":"N11","v":211},{"$f":"COUNTIF(L7:L16,T11)","v":0},{"$f":"U11/(W4-U14)","v":0},{"$f":"IF(V11=0,0,(V11*((LOG(V11))/LOG(2))))","v":0},null,{"$f":"N11","v":211},{"$f":"COUNTIF(L17:L26,Y11)","v":0},{"$f":"Z11/(AB4-Z14)","v":0},{"$f":"IF(AA11=0,0,(AA11*((LOG(AA11))/LOG(2))))","v":0},null,{"$f":"N11","v":211},{"$f":"COUNTIF(L27:L36,AD11)","v":0},{"$f":"AE11/(AG4-AE14)","v":0},{"$f":"IF(AF11=0,0,(AF11*((LOG(AF11))/LOG(2))))","v":0},null,{"$f":"N11","v":211},{"$f":"COUNTIF(L37:L46,AI11)","v":0},{"$f":"AJ11/(AL4-AJ14)","v":0},{"$f":"IF(AK11=0,0,(AK11*((LOG(AK11))/LOG(2))))","v":0},null,{"$f":"N11","v":211},{"$f":"COUNTIF(L47:L56,AN11)","v":0},{"$f":"AO11/(AQ4-AO14)","v":{"$error":"#DIV/0!"}},{"$f":"IF(AP11=0,0,(AP11*((LOG(AP11))/LOG(2))))","v":{"$error":"#DIV/0!"}},null,{"$f":"N11","v":211},{"$f":"COUNTIF(L57:L66,AS11)","v":0},{"$f":"AT11/(AV4-AT14)","v":0},{"$f":"IF(AU11=0,0,(AU11*((LOG(AU11))/LOG(2))))","v":0}]
[21,607,21,610,21,616,null,null,null,null,0,222,null,212,{"$f":"COUNTIF($L$7:$L$500,N12)","v":10},{"$f":"O12/$Q$4","v":0.16666666666666666},{"$f":"IF(P12=0,0,(P12*((LOG(P12))/LOG(2))))","v":-0.43082708345352599},null,null,{"$f":"N12","v":212},{"$f":"COUNTIF(L7:L16,T12)","v":5},{"$f":"U12/(W4-U14)","v":1},{"$f":"IF(V12=0,0,(V12*((LOG(V12))/LOG(2))))","v":0},null,{"$f":"N12","v":212},{"$f":"COUNTIF(L17:L26,Y12)","v":3},{"$f":"Z12/(AB4-Z14)","v":0.6},{"$f":"IF(AA12=0,0,(AA12*((LOG(AA12))/LOG(2))))","v":-0.44217935649972373},null,{"$f":"N12","v":212},{"$f":"COUNTIF(L27:L36,AD12)","v":0},{"$f":"AE12/(AG4-AE14)","v":0},{"$f":"IF(AF12=0,0,(AF12*((LOG(AF12))/LOG(2))))","v":0},null,{"$f":"N12","v":212},{"$f":"COUNTIF(L37:L46,AI12)","v":1},{"$f":"AJ12/(AL4-AJ14)","v":0.16666666666666666},{"$f":"IF(AK12=0,0,(AK12*((LOG(AK12))/LOG(2))))","v":-0.43082708345352599},null,{"$f":"N12","v":212},{"$f":"COUNTIF(L47:L56,AN12)","v":0},{"$f":"AO12/(AQ4-AO14)","v":{"$error":"#DIV/0!"}},{"$f":"IF(AP12=0,0,(AP12*((LOG(AP12))/LOG(2))))","v":{"$error":"#DIV/0!"}},null,{"$f":"N12","v":212},{"$f":"COUNTIF(L57:L66,AS12)","v":1},{"$f":"AT12/(AV4-AT14)","v":1},{"$f":"IF(AU12=0,0,(AU12*((LOG(AU12))/LOG(2))))","v":0}]
[21,708,12,713,23,715,null,null,null,null,0,212,null,221,{"$f":"COUNTIF($L$7:$L$500,N13)","v":5},{"$f":"O13/$Q$4","v":8.3333333333333329E-2},{"$f":"IF(P13=0,0,(P13*((LOG(P13))/LOG(2))))","v":-0.29874687506009634},null,null,{"$f":"N13","v":221},{"$f":"COUNTIF(L7:L16,T13)","v":0},{"$f":"U13/(W4-U14)","v":0},{"$f":"IF(V13=0,0,(V13*((LOG(V13))/LOG(2))))","v":0},null,{"$f":"N13","v":221},{"$f":"COUNTIF(L17:L26,Y13)","v":0},{"$f":"Z13/(AB4-Z14)","v":0},{"$f":"IF(AA13=0,0,(AA13*((LOG(AA13))/LOG(2))))","v":0},null,{"$f":"N13","v":221},{"$f":"COUNTIF(L27:L36,AD13)","v":2},{"$f":"AE13/(AG4-AE14)","v":0.5},{"$f":"IF(AF13=0,0,(AF13*((LOG(AF13))/LOG(2))))","v":-0.5},null,{"$f":"N13","v":221},{"$f":"COUNTIF(L37:L46,AI13)","v":3},{"$f":"AJ13/(AL4-AJ14)","v":0.5},{"$f":"IF(AK13=0,0,(AK13*((LOG(AK13))/LOG(2))))","v":-0.5},null,{"$f":"N13","v":221},{"$f":"COUNTIF(L47:L56,AN13)","v":0},{"$f":"AO13/(AQ4-AO14)","v":{"$error":"#DIV/0!"}},{"$f":"IF(AP13=0,0,(AP13*((LOG(AP13))/LOG(2))))","v":{"$error":"#DIV/0!"}},null,{"$f":"N13","v":221},{"$f":"COUNTIF(L57:L66,AS13)","v":0},{"$f":"AT13/(AV4-AT14)","v":0},{"$f":"IF(AU13=0,0,(AU13*((LOG(AU13))/LOG(2))))","v":0}]
[21,813,12,820,23,822,null,null,null,null,0,212,null,222,{"$f":"COUNTIF($L$7:$L$500,N14)","v":39},{"$f":"O14/$Q$4","v":0.65},{"$f":"IF(P14=0,0,(P14*((LOG(P14))/LOG(2))))","v":-0.40396744488507563},null,null,{"$f":"N14","v":222},{"$f":"COUNTIF(L7:L16,T14)","v":5},null,null,null,{"$f":"N14","v":222},{"$f":"COUNTIF(L17:L26,Y14)","v":5},null,null,null,{"$f":"N14","v":222},{"$f":"COUNTIF(L27:L36,AD14)","v":6},null,null,null,{"$f":"N14","v":222},{"$f":"COUNTIF(L37:L46,AI14)","v":4},null,null,null,{"$f":"N14","v":222},{"$f":"COUNTIF(L47:L56,AN14)","v":10},null,null,null,{"$f":"N14","v":222},{"$f":"COUNTIF(L57:L66,AS14)","v":9}]
[21,920,21,925,21,928,null,null,null,null,0,222,null,null,null,{"$f":"SUM(P7:P14)","v":1},{"$f":"-SUM(Q7:Q14)","v":1.4657342128874342},null,null,null,null,{"$f":"SUM(V7:V14)","v":1},{"$f":"-SUM(W7:W14)","v":0},null,null,null,{"$f":"SUM(AA7:AA14)","v":1},{"$f":"-SUM(AB7:AB14)","v":0.97095059445466869},null,null,null,{"$f":"SUM(AF7:AF14)","v":1},{"$f":"-SUM(AG7:AG14)","v":1},null,null,null,{"$f":"SUM(AK7:AK14)","v":1},{"$f":"-SUM(AL7:AL14)","v":1.4591479170272446},null,null,null,{"$f":"SUM(AP7:AP14)","v":{"$error":"#DIV/0!"}},{"$f":"-SUM(AQ7:AQ14)","v":{"$error":"#DIV/0!"}},null,null,null,{"$f":"SUM(AU7:AU14)","v":1},{"$f":"-SUM(AV7:AV14)","v":0}]
[21,1028,21,1045,21,1066,null,null,null,null,0,222,null,null,null,"U=",{"$f":"Q15/(LOG(Q4)/LOG(2))","v":0.24813972582751662},null,null,null,null,"U1=",{"$f":"W15/(LOG(W4)/LOG(2))","v":0},null,null,null,"U2=",{"$f":"AB15/(LOG(AB4)/LOG(2))","v":0.29228525323862892},null,null,null,"U3=",{"$f":"AG15/(LOG(AG4)/LOG(2))","v":0.3010299956639812},null,null,null,"U4=",{"$f":"AL15/(LOG(AL4)/LOG(2))","v":0.43924729113581862},null,null,null,"U5=",{"$f":"AQ15/(LOG(AQ4)/LOG(2))","v":{"$error":"#DIV/0!"}},null,null,null,"U6=",{"$f":"AV15/(LOG(AV4)/LOG(2))","v":0}]
[21,1156,21,1159,21,1166,null,null,null,null,0,222]
[21,1276,12,1289,23,1292,null,null,null,null,0,212]
[21,1386,12,1390,23,1393,null,null,null,null,0,212,null,"Total Target Seq"]
[21,1495,12,1497,23,1500,null,null,null,null,0,212,null,{"$f":"COUNTIF(L7:L66,G3)","v":39},null,10,10,10,10,10,10]
[21,1598,21,1603,21,1607,null,null,null,null,0,222,null,null,null,"% of reinforcement given in 6 equal intervals based on number of trials "]
[12,1717,23,1723,23,1730,null,null,null,null,0,122,null,null,null,"%_1","%_2","%_3","%_4","%_5","%_6"]
[21,2014,21,2019,21,2026,null,null,null,null,0,222,null,null,"target sequence",{"$f":"$G$3","v":222},{"$f":"$G$3","v":222},{"$f":"$G$3","v":222},{"$f":"$G$3","v":222},{"$f":"$G$3","v":222},{"$f":"$G$3","v":222}]
[12,2275,23,2292,23,2297,null,null,null,null,0,122,null,null,"total reinforcement",{"$f":"U14","v":5},{"$f":"Z14","v":5},{"$f":"AE14","v":6},{"$f":"AJ14","v":4},{"$f":"AO14","v":10},{"$f":"AT14","v":9}]
[21,2400,21,2405,21,2410,null,null,null,null,0,222,null,null,"% target"]
[21,2558,21,2584,21,2592,null,null,null,null,0,222,null,null,"CCRF"]
[21,2897,21,2906,21,2911,null,null,null,null,0,222,null,null,"% CCRf"]
[12,3077,23,3087,23,3098,null,null,null,null,0,122,null,null,"average response rate",{"$f":"F16/P20","v":106.6},{"$f":"(F26-F16)/Q20","v":152.6},{"$f":"(F36-F26)/R20","v":160.69999999999999},{"$f":"(F46-F36)/S20","v":151},{"$f":"(F56-F46)/T20","v":142.1},{"$f":"(F66-F56)/U20","v":151.1}]
[21,3199,21,3209,12,3216,null,null,null,null,0,221]
[21,3314,21,3318,21,3320,null,null,null,null,0,222]
[21,3407,21,3413,21,3420,null,null,null,null,0,222]
[21,3615,21,3622,21,3631,null,null,null,null,0,222]
[12,3805,23,3811,23,3818,null,null,null,null,0,122]
[21,3931,21,3939,21,3948,null,null,null,null,0,222]
[21,4047,21,4050,21,4056,null,null,null,null,0,222]
[21,4185,21,4192,12,4199,null,null,null,null,0,221]
[21,4296,21,4299,12,4301,null,null,null,null,0,221]
[12,4394,23,4397,23,4400,null,null,null,null,0,122]
[21,4496,21,4499,21,4510,null,null,null,null,0,222]
[12,4627,23,4631,23,4639,null,null,null,null,0,122]
[21,4735,21,4740,12,4752,null,null,null,null,0,221]
[21,4848,21,4852,21,4858,null,null,null,null,0,222]
[21,5048,12,5054,23,5059,null,null,null,null,0,212]
[21,5158,21,5162,12,5166,null,null,null,null,0,221]
[21,5262,21,5267,21,5272,null,null,null,null,0,222]
[21,5692,21,5702,21,5709,null,null,null,null,0,222]
[21,5801,21,5825,21,5838,null,null,null,null,0,222]
[21,5926,21,5931,21,5939,null,null,null,null,0,222]
[21,6036,21,6048,21,6061,null,null,null,null,0,222]
[21,6220,21,6228,21,6241,null,null,null,null,0,222]
[21,6373,21,6387,21,6396,null,null,null,null,0,222]
[21,6534,21,6540,21,6547,null,null,null,null,0,222]
[21,6656,21,6665,21,6678,null,null,null,null,0,222]
[21,6776,21,6791,21,6805,null,null,null,null,0,222]
[21,6950,21,6956,21,6965,null,null,null,null,0,222]
[21,7114,21,7119,21,7130,null,null,null,null,0,222]
[21,7246,21,7273,21,7289,null,null,null,null,0,222]
[21,7381,12,7385,23,7392,null,null,null,null,0,212]
[21,7491,21,7496,21,7503,null,null,null,null,0,222]
[21,7639,21,7664,21,7672,null,null,null,null,0,222]
[21,7819,21,7839,21,7846,null,null,null,null,0,222]
[21,7941,21,7946,21,7963,null,null,null,null,0,222]
[21,8112,21,8119,21,8140,null,null,null,null,0,222]
[21,8246,21,8260,21,8266,null,null,null,null,0,222]
[21,8455,21,8467,21,8475,null,null,null,null,0,222]
[21,8627,21,8633,21,8641,null,null,null,null,1,222]

{"sheet":"!M909A50.Gus","index":20,"n_rows":46,"n_cols":48,"rows_kept":46,"cut":false,"hidden":false,"merged":[[4,39,4,42],[5,39,5,40],[4,44,4,47],[5,44,5,45],[4,24,4,27],[5,24,5,25],[4,29,4,32],[5,29,5,30],[4,34,4,37],[5,34,5,35],[1,1,1,2],[5,13,5,14],[18,13,18,14],[19,13,19,14],[4,19,4,22],[5,19,5,20]]}
["Report for:!M909A50.Gus"]
["Date:","<date>"]
["Hen:","<hen>",null,null,null,"Correct Sequence",{"$f":"Start!J2","v":222},null,null,null,null,null,null,null,null,"Total Sequences in Data",{"$f":"4994-COUNTBLANK(L7:L5000)","v":40},null,null,null,null,"Total Sequences in Block Data",{"$f":"COUNTA(L7:L13)","v":7},null,null,null,"Total Sequences in Block Data",{"$f":"COUNTA(L14:L19)","v":6},null,null,null,"Total Sequences in Block Data",{"$f":"COUNTA(L20:L26)","v":7},null,null,null,"Total Sequences in Block Data",{"$f":"COUNTA(L27:L33)","v":7},null,null,null,"Total Sequences in Block Data",{"$f":"COUNTA(L34:L39)","v":6},null,null,null,"Total Sequences in Block Data",{"$f":"COUNTA(L40:L46)","v":7}]
[null,null,null,null,null,null,null,null,null,null,null,null,null,null,null,"Total Sequences in Summary",{"$f":"SUM(O7:O14)","v":40},null,null,null,null,"Total Sequences in Block Summary",{"$f":"SUM(U7:U14)","v":7},null,null,null,"Total Sequences in Block Summary",{"$f":"SUM(Z7:Z14)","v":6},null,null,null,"Total Sequences in Block Summary",{"$f":"SUM(AE7:AE14)","v":7},null,null,null,"Total Sequences in Block Summary",{"$f":"SUM(AJ7:AJ14)","v":7},null,null,null,"Total Sequences in Block Summary",{"$f":"SUM(AO7:AO14)","v":6},null,null,null,"Total Sequences in Block Summary",{"$f":"SUM(AT7:AT14)","v":7}]
[null,null,null,null,null,null,null,null,null,null,null,null,null,null,null,null,null,null,null,"Block 1",null,null,null,null,"Block 2",null,null,null,null,"Block 3",null,null,null,null,"Block 4",null,null,null,null,"Block 5",null,null,null,null,"Block 6"]
["Sequence\nComponent\n1","Time\n1","Sequence\nComponent\n2","Time\n2","Sequence\nComponent\n3","Time\n3","Sequence\nComponent\n4","Time\n4","Sequence\nComponent\n5","Time\n5","Correct?\n0=No 1=Yes","Sequence",null,"Frequency",null,"Relative Frequency","Variability",null,null,"Frequency",null,"Relative Frequency","Variability",null,"Frequency",null,"Relative Frequency","Variability",null,"Frequency",null,"Relative Frequency","Variability",null,"Frequency",null,"Relative Frequency","Variability",null,"Frequency",null,"Relative Frequency","Variability",null,"Frequency",null,"Relative Frequency","Variability"]
[21,7,21,11,21,14,null,null,null,null,0,222,null,111,{"$f":"COUNTIF($L$7:$L$500,N7)","v":0},{"$f":"O7/$Q$4","v":0},{"$f":"IF(P7=0,0,(P7*((LOG(P7))/LOG(2))))","v":0},null,null,{"$f":"N7","v":111},{"$f":"COUNTIF(L7:L13,T7)","v":0},{"$f":"U7/(W4-U14)","v":{"$error":"#DIV/0!"}},{"$f":"IF(V7=0,0,(V7*((LOG(V7))/LOG(2))))","v":{"$error":"#DIV/0!"}},null,{"$f":"N7","v":111},{"$f":"COUNTIF(L14:L19,Y7)","v":0},{"$f":"Z7/(AB4-Z14)","v":{"$error":"#DIV/0!"}},{"$f":"IF(AA7=0,0,(AA7*((LOG(AA7))/LOG(2))))","v":{"$error":"#DIV/0!"}},null,{"$f":"N7","v":111},{"$f":"COUNTIF(L20:L26,AD7)","v":0},{"$f":"AE7/(AG4-AE14)","v":{"$error":"#DIV/0!"}},{"$f":"IF(AF7=0,0,(AF7*((LOG(AF7))/LOG(2))))","v":{"$error":"#DIV/0!"}},null,{"$f":"N7","v":111},{"$f":"COUNTIF(L27:L33,AI7)","v":0},{"$f":"AJ7/(AL4-AJ14)","v":{"$error":"#DIV/0!"}},{"$f":"IF(AK7=0,0,(AK7*((LOG(AK7))/LOG(2))))","v":{"$error":"#DIV/0!"}},null,{"$f":"N7","v":111},{"$f":"COUNTIF(L34:L39,AN7)","v":0},{"$f":"AO7/(AQ4-AO14)","v":{"$error":"#DIV/0!"}},{"$f":"IF(AP7=0,0,(AP7*((LOG(AP7))/LOG(2))))","v":{"$error":"#DIV/0!"}},null,{"$f":"N7","v":111},{"$f":"COUNTIF(L40:L46,AS7)","v":0},{"$f":"AT7/(AV4-AT14)","v":0},{"$f":"IF(AU7=0,0,(AU7*((LOG(AU7))/LOG(2))))","v":0}]
[21,109,21,113,21,118,null,null,null,null,0,222,null,112,{"$f":"COUNTIF($L$7:$L$500,N8)","v":0},{"$f":"O8/$Q$4","v":0},{"$f":"IF(P8=0,0,(P8*((LOG(P8))/LOG(2))))","v":0},null,null,{"$f":"N8","v":112},{"$f":"COUNTIF(L7:L13,T8)","v":0},{"$f":"U8/(W4-U14)","v":{"$error":"#DIV/0!"}},{"$f":"IF(V8=0,0,(V8*((LOG(V8))/LOG(2))))","v":{"$error":"#DIV/0!"}},null,{"$f":"N8","v":112},{"$f":"COUNTIF(L14:L19,Y8)","v":0},{"$f":"Z8/(AB4-Z14)","v":{"$error":"#DIV/0!"}},{"$f":"IF(AA8=0,0,(AA8*((LOG(AA8))/LOG(2))))","v":{"$error":"#DIV/0!"}},null,{"$f":"N8","v":112},{"$f":"COUNTIF(L20:L26,AD8)","v":0},{"$f":"AE8/(AG4-AE14)","v":{"$error":"#DIV/0!"}},{"$f":"IF(AF8=0,0,(AF8*((LOG(AF8))/LOG(2))))","v":{"$error":"#DIV/0!"}},null,{"$f":"N8","v":112},{"$f":"COUNTIF(L27:L33,AI8)","v":0},{"$f":"AJ8/(AL4-AJ14)","v":{"$error":"#DIV/0!"}},{"$f":"IF(AK8=0,0,(AK8*((LOG(AK8))/LOG(2))))","v":{"$error":"#DIV/0!"}},null,{"$f":"N8","v":112},{"$f":"COUNTIF(L34:L39,AN8)","v":0},{"$f":"AO8/(AQ4-AO14)","v":{"$error":"#DIV/0!"}},{"$f":"IF(AP8=0,0,(AP8*((LOG(AP8))/LOG(2))))","v":{"$error":"#DIV/0!"}},null,{"$f":"N8","v":112},{"$f":"COUNTIF(L40:L46,AS8)","v":0},{"$f":"AT8/(AV4-AT14)","v":0},{"$f":"IF(AU8=0,0,(AU8*((LOG(AU8))/LOG(2))))","v":0}]
[21,218,21,235,21,247,null,null,null,null,0,222,null,121,{"$f":"COUNTIF($L$7:$L$500,N9)","v":0},{"$f":"O9/$Q$4","v":0},{"$f":"IF(P9=0,0,(P9*((LOG(P9))/LOG(2))))","v":0},null,null,{"$f":"N9","v":121},{"$f":"COUNTIF(L7:L13,T9)","v":0},{"$f":"U9/(W4-U14)","v":{"$error":"#DIV/0!"}},{"$f":"IF(V9=0,0,(V9*((LOG(V9))/LOG(2))))","v":{"$error":"#DIV/0!"}},null,{"$f":"N9","v":121},{"$f":"COUNTIF(L14:L19,Y9)","v":0},{"$f":"Z9/(AB4-Z14)","v":{"$error":"#DIV/0!"}},{"$f":"IF(AA9=0,0,(AA9*((LOG(AA9))/LOG(2))))","v":{"$error":"#DIV/0!"}},null,{"$f":"N9","v":121},{"$f":"COUNTIF(L20:L26,AD9)","v":0},{"$f":"AE9/(AG4-AE14)","v":{"$error":"#DIV/0!"}},{"$f":"IF(AF9=0,0,(AF9*((LOG(AF9))/LOG(2))))","v":{"$error":"#DIV/0!"}},null,{"$f":"N9","v":121},{"$f":"COUNTIF(L27:L33,AI9)","v":0},{"$f":"AJ9/(AL4-AJ14)","v":{"$error":"#DIV/0!"}},{"$f":"IF(AK9=0,0,(AK9*((LOG(AK9))/LOG(2))))","v":{"$error":"#DIV/0!"}},null,{"$f":"N9","v":121},{"$f":"COUNTIF(L34:L39,AN9)","v":0},{"$f":"AO9/(AQ4-AO14)","v":{"$error":"#DIV/0!"}},{"$f":"IF(AP9=0,0,(AP9*((LOG(AP9))/LOG(2))))","v":{"$error":"#DIV/0!"}},null,{"$f":"N9","v":121},{"$f":"COUNTIF(L40:L46,AS9)","v":0},{"$f":"AT9/(AV4-AT14)","v":0},{"$f":"IF(AU9=0,0,(AU9*((LOG(AU9))/LOG(2))))","v":0}]
[21,361,21,364,21,368,null,null,null,null,0,222,null,122,{"$f":"COUNTIF($L$7:$L$500,N10)","v":0},{"$f":"O10/$Q$4","v":0},{"$f":"IF(P10=0,0,(P10*((LOG(P10))/LOG(2))))","v":0},null,null,{"$f":"N10","v":122},{"$f":"COUNTIF(L7:L13,T10)","v":0},{"$f":"U10/(W4-U14)","v":{"$error":"#DIV/0!"}},{"$f":"IF(V10=0,0,(V10*((LOG(V10))/LOG(2))))","v":{"$error":"#DIV/0!"}},null,{"$f":"N10","v":122},{"$f":"COUNTIF(L14:L19,Y10)","v":0},{"$f":"Z10/(AB4-Z14)","v":{"$error":"#DIV/0!"}},{"$f":"IF(AA10=0,0,(AA10*((LOG(AA10))/LOG(2))))","v":{"$error":"#DIV/0!"}},null,{"$f":"N10","v":122},{"$f":"COUNTIF(L20:L26,AD10)","v":0},{"$f":"AE10/(AG4-AE14)","v":{"$error":"#DIV/0!"}},{"$f":"IF(AF10=0,0,(AF10*((LOG(AF10))/LOG(2))))","v":{"$error":"#DIV/0!"}},null,{"$f":"N10","v":122},{"$f":"COUNTIF(L27:L33,AI10)","v":0},{"$f":"AJ10/(AL4-AJ14)","v":{"$error":"#DIV/0!"}},{"$f":"IF(AK10=0,0,(AK10*((LOG(AK10))/LOG(2))))","v":{"$error":"#DIV/0!"}},null,{"$f":"N10","v":122},{"$f":"COUNTIF(L34:L39,AN10)","v":0},{"$f":"AO10/(AQ4-AO14)","v":{"$error":"#DIV/0!"}},{"$f":"IF(AP10=0,0,(AP10*((LOG(AP10))/LOG(2))))","v":{"$error":"#DIV/0!"}},null,{"$f":"N10","v":122},{"$f":"COUNTIF(L40:L46,AS10)","v":0},{"$f":"AT10/(AV4-AT14)","v":0},{"$f":"IF(AU10=0,0,(AU10*((LOG(AU10))/LOG(2))))","v":0}]
[21,501,21,509,21,516,null,null,null,null,0,222,null,211,{"$f":"COUNTIF($L$7:$L$500,N11)","v":0},{"$f":"O11/$Q$4","v":0},{"$f":"IF(P11=0,0,(P11*((LOG(P11))/LOG(2))))","v":0},null,null,{"$f":"N11","v":211},{"$f":"COUNTIF(L7:L13,T11)","v":0},{"$f":"U11/(W4-U14)","v":{"$error":"#DIV/0!"}},{"$f":"IF(V11=0,0,(V11*((LOG(V11))/LOG(2))))","v":{"$error":"#DIV/0!"}},null,{"$f":"N11","v":211},{"$f":"COUNTIF(L14:L19,Y11)","v":0},{"$f":"Z11/(AB4-Z14)","v":{"$error":"#DIV/0!"}},{"$f":"IF(AA11=0,0,(AA11*((LOG(AA11))/LOG(2))))","v":{"$error":"#DIV/0!"}},null,{"$f":"N11","v":211},{"$f":"COUNTIF(L20:L26,AD11)","v":0},{"$f":"AE11/(AG4-AE14)","v":{"$error":"#DIV/0!"}},{"$f":"IF(AF11=0,0,(AF11*((LOG(AF11))/LOG(2))))","v":{"$error":"#DIV/0!"}},null,{"$f":"N11","v":211},{"$f":"COUNTIF(L27:L33,AI11)","v":0},{"$f":"AJ11/(AL4-AJ14)","v":{"$error":"#DIV/0!"}},{"$f":"IF(AK11=0,0,(AK11*((LOG(AK11))/LOG(2))))","v":{"$error":"#DIV/0!"}},null,{"$f":"N11","v":211},{"$f":"COUNTIF(L34:L39,AN11)","v":0},{"$f":"AO11/(AQ4-AO14)","v":{"$error":"#DIV/0!"}},{"$f":"IF(AP11=0,0,(AP11*((LOG(AP11))/LOG(2))))","v":{"$error":"#DIV/0!"}},null,{"$f":"N11","v":211},{"$f":"COUNTIF(L40:L46,AS11)","v":0},{"$f":"AT11/(AV4-AT14)","v":0},{"$f":"IF(AU11=0,0,(AU11*((LOG(AU11))/LOG(2))))","v":0}]
[21,606,21,613,21,626,null,null,null,null,0,222,null,212,{"$f":"COUNTIF($L$7:$L$500,N12)","v":0},{"$f":"O12/$Q$4","v":0},{"$f":"IF(P12=0,0,(P12*((LOG(P12))/LOG(2))))","v":0},null,null,{"$f":"N12","v":212},{"$f":"COUNTIF(L7:L13,T12)","v":0},{"$f":"U12/(W4-U14)","v":{"$error":"#DIV/0!"}},{"$f":"IF(V12=0,0,(V12*((LOG(V12))/LOG(2))))","v":{"$error":"#DIV/0!"}},null,{"$f":"N12","v":212},{"$f":"COUNTIF(L14:L19,Y12)","v":0},{"$f":"Z12/(AB4-Z14)","v":{"$error":"#DIV/0!"}},{"$f":"IF(AA12=0,0,(AA12*((LOG(AA12))/LOG(2))))","v":{"$error":"#DIV/0!"}},null,{"$f":"N12","v":212},{"$f":"COUNTIF(L20:L26,AD12)","v":0},{"$f":"AE12/(AG4-AE14)","v":{"$error":"#DIV/0!"}},{"$f":"IF(AF12=0,0,(AF12*((LOG(AF12))/LOG(2))))","v":{"$error":"#DIV/0!"}},null,{"$f":"N12","v":212},{"$f":"COUNTIF(L27:L33,AI12)","v":0},{"$f":"AJ12/(AL4-AJ14)","v":{"$error":"#DIV/0!"}},{"$f":"IF(AK12=0,0,(AK12*((LOG(AK12))/LOG(2))))","v":{"$error":"#DIV/0!"}},null,{"$f":"N12","v":212},{"$f":"COUNTIF(L34:L39,AN12)","v":0},{"$f":"AO12/(AQ4-AO14)","v":{"$error":"#DIV/0!"}},{"$f":"IF(AP12=0,0,(AP12*((LOG(AP12))/LOG(2))))","v":{"$error":"#DIV/0!"}},null,{"$f":"N12","v":212},{"$f":"COUNTIF(L40:L46,AS12)","v":0},{"$f":"AT12/(AV4-AT14)","v":0},{"$f":"IF(AU12=0,0,(AU12*((LOG(AU12))/LOG(2))))","v":0}]
[21,738,21,742,21,758,null,null,null,null,0,222,null,221,{"$f":"COUNTIF($L$7:$L$500,N13)","v":1},{"$f":"O13/$Q$4","v":2.5000000000000001E-2},{"$f":"IF(P13=0,0,(P13*((LOG(P13))/LOG(2))))","v":-0.13304820237218404},null,null,{"$f":"N13","v":221},{"$f":"COUNTIF(L7:L13,T13)","v":0},{"$f":"U13/(W4-U14)","v":{"$error":"#DIV/0!"}},{"$f":"IF(V13=0,0,(V13*((LOG(V13))/LOG(2))))","v":{"$error":"#DIV/0!"}},null,{"$f":"N13","v":221},{"$f":"COUNTIF(L14:L19,Y13)","v":0},{"$f":"Z13/(AB4-Z14)","v":{"$error":"#DIV/0!"}},{"$f":"IF(AA13=0,0,(AA13*((LOG(AA13))/LOG(2))))","v":{"$error":"#DIV/0!"}},null,{"$f":"N13","v":221},{"$f":"COUNTIF(L20:L26,AD13)","v":0},{"$f":"AE13/(AG4-AE14)","v":{"$error":"#DIV/0!"}},{"$f":"IF(AF13=0,0,(AF13*((LOG(AF13))/LOG(2))))","v":{"$error":"#DIV/0!"}},null,{"$f":"N13","v":221},{"$f":"COUNTIF(L27:L33,AI13)","v":0},{"$f":"AJ13/(AL4-AJ14)","v":{"$error":"#DIV/0!"}},{"$f":"IF(AK13=0,0,(AK13*((LOG(AK13))/LOG(2))))","v":{"$error":"#DIV/0!"}},null,{"$f":"N13","v":221},{"$f":"COUNTIF(L34:L39,AN13)","v":0},{"$f":"AO13/(AQ4-AO14)","v":{"$error":"#DIV/0!"}},{"$f":"IF(AP13=0,0,(AP13*((LOG(AP13))/LOG(2))))","v":{"$error":"#DIV/0!"}},null,{"$f":"N13","v":221},{"$f":"COUNTIF(L40:L46,AS13)","v":1},{"$f":"AT13/(AV4-AT14)","v":1},{"$f":"IF(AU13=0,0,(AU13*((LOG(AU13))/LOG(2))))","v":0}]
[21,869,21,875,21,885,null,null,null,null,0,222,null,222,{"$f":"COUNTIF($L$7:$L$500,N14)","v":39},{"$f":"O14/$Q$4","v":0.97499999999999998},{"$f":"IF(P14=0,0,(P14*((LOG(P14))/LOG(2))))","v":-3.5612729124486181E-2},null,null,{"$f":"N14","v":222},{"$f":"COUNTIF(L7:L13,T14)","v":7},null,null,null,{"$f":"N14","v":222},{"$f":"COUNTIF(L14:L19,Y14)","v":6},null,null,null,{"$f":"N14","v":222},{"$f":"COUNTIF(L20:L26,AD14)","v":7},null,null,null,{"$f":"N14","v":222},{"$f":"COUNTIF(L27:L33,AI14)","v":7},null,null,null,{"$f":"N14","v":222},{"$f":"COUNTIF(L34:L39,AN14)","v":6},null,null,null,{"$f":"N14","v":222},{"$f":"COUNTIF(L40:L46,AS14)","v":6}]
[21,1002,21,1012,21,1025,null,null,null,null,0,222,null,null,null,{"$f":"SUM(P7:P14)","v":1},{"$f":"-SUM(Q7:Q14)","v":0.16866093149667022},null,null,null,null,{"$f":"SUM(V7:V14)","v":{"$error":"#DIV/0!"}},{"$f":"-SUM(W7:W14)","v":{"$error":"#DIV/0!"}},null,null,null,{"$f":"SUM(AA7:AA14)","v":{"$error":"#DIV/0!"}},{"$f":"-SUM(AB7:AB14)","v":{"$error":"#DIV/0!"}},null,null,null,{"$f":"SUM(AF7:AF14)","v":{"$error":"#DIV/0!"}},{"$f":"-SUM(AG7:AG14)","v":{"$error":"#DIV/0!"}},null,null,null,{"$f":"SUM(AK7:AK14)","v":{"$error":"#DIV/0!"}},{"$f":"-SUM(AL7:AL14)","v":{"$error":"#DIV/0!"}},null,null,null,{"$f":"SUM(AP7:AP14)","v":{"$error":"#DIV/0!"}},{"$f":"-SUM(AQ7:AQ14)","v":{"$error":"#DIV/0!"}},null,null,null,{"$f":"SUM(AU7:AU14)","v":1},{"$f":"-SUM(AV7:AV14)","v":0}]
[21,1120,21,1122,21,1138,null,null,null,null,0,222,null,null,null,"U=",{"$f":"Q15/(LOG(Q4)/LOG(2))","v":3.1691696785362135E-2},null,null,null,null,"U1=",{"$f":"W15/(LOG(W4)/LOG(2))","v":{"$error":"#DIV/0!"}},null,null,null,"U2=",{"$f":"AB15/(LOG(AB4)/LOG(2))","v":{"$error":"#DIV/0!"}},null,null,null,"U3=",{"$f":"AG15/(LOG(AG4)/LOG(2))","v":{"$error":"#DIV/0!"}},null,null,null,"U4=",{"$f":"AL15/(LOG(AL4)/LOG(2))","v":{"$error":"#DIV/0!"}},null,null,null,"U5=",{"$f":"AQ15/(LOG(AQ4)/LOG(2))","v":{"$error":"#DIV/0!"}},null,null,null,"U6=",{"$f":"AV15/(LOG(AV4)/LOG(2))","v":0}]
[21,1271,21,1279,21,1289,null,null,null,null,0,222]
[21,1410,21,1418,21,1425,null,null,null,null,0,222]
[21,1529,21,1547,21,1561,null,null,null,null,0,222,null,"Total Target Seq"]
[21,1667,21,1688,21,1697,null,null,null,null,0,222,null,{"$f":"COUNTIF(L7:L46,G3)","v":39},null,7,6,7,7,6,7]
[21,1790,21,1796,21,1804,null,null,null,null,0,222,null,null,null,"% of reinforcement given in 6 equal intervals based on number of trials "]
[21,1900,21,1906,21,1913,null,null,null,null,0,222,null,null,null,"%_1","%_2","%_3","%_4","%_5","%_6"]
[21,2028,21,2033,21,2039,null,null,null,null,0,222,null,null,"target sequence",{"$f":"$G$3","v":222},{"$f":"$G$3","v":222},{"$f":"$G$3","v":222},{"$f":"$G$3","v":222},{"$f":"$G$3","v":222},{"$f":"$G$3","v":222}]
[21,2130,21,2143,21,2159,null,null,null,null,0,222,null,null,"total reinforcement",{"$f":"U14","v":7},{"$f":"Z14","v":6},{"$f":"AE14","v":7},{"$f":"AJ14","v":7},{"$f":"AO14","v":6},{"$f":"AT14","v":6}]
[21,2254,21,2261,21,2274,null,null,null,null,0,222,null,null,"% target"]
[21,2395,21,2404,21,2414,null,null,null,null,0,222,null,null,"CCRF"]
[21,2530,21,2540,21,2546,null,null,null,null,0,222,null,null,"% CCRf"]
[21,2677,21,2682,21,2693,null,null,null,null,0,222,null,null,"average response rate",{"$f":"F13/P20","v":108.28571428571429},{"$f":"(F19-F13)/Q20","v":133.83333333333334},{"$f":"(F26-F19)/R20","v":121.85714285714286},{"$f":"(F33-F26)/S20","v":144.14285714285714},{"$f":"(F39-F33)/T20","v":169},{"$f":"(F46-F39)/U20","v":150.57142857142858}]
[21,2812,21,2816,21,2821,null,null,null,null,0,222]
[21,2938,21,2942,21,2948,null,null,null,null,0,222]
[21,3076,21,3085,21,3104,null,null,null,null,0,222]
[21,3195,21,3209,21,3220,null,null,null,null,0,222]
[21,3411,21,3416,21,3423,null,null,null,null,0,222]
[21,3530,21,3540,21,3547,null,null,null,null,0,222]
[21,3746,21,3749,21,3833,null,null,null,null,0,222]
[21,3933,21,4007,21,4024,null,null,null,null,0,222]
[21,4136,21,4155,21,4161,null,null,null,null,0,222]
[21,4289,21,4293,21,4303,null,null,null,null,0,222]
[21,4415,21,4430,21,4437,null,null,null,null,0,222]
[21,4688,21,4695,21,4701,null,null,null,null,0,222]
[21,4795,21,4802,21,4808,null,null,null,null,0,222]
[21,4928,21,4934,12,4937,null,null,null,null,0,221]
[21,5045,21,5053,21,5066,null,null,null,null,0,222]
[21,5186,21,5196,21,5201,null,null,null,null,0,222]
[21,5312,21,5316,21,5334,null,null,null,null,0,222]
[21,5480,21,5486,21,5491,null,null,null,null,1,222]

{"sheet":"!M910B50.Gus","index":21,"n_rows":48,"n_cols":48,"rows_kept":48,"cut":false,"hidden":false,"merged":[[4,39,4,42],[5,39,5,40],[4,44,4,47],[5,44,5,45],[4,24,4,27],[5,24,5,25],[4,29,4,32],[5,29,5,30],[4,34,4,37],[5,34,5,35],[1,1,1,2],[5,13,5,14],[18,13,18,14],[19,13,19,14],[4,19,4,22],[5,19,5,20]]}
["Report for:!M910B50.Gus"]
["Date:","<date>"]
["Hen:","<hen>",null,null,null,"Correct Sequence",{"$f":"Start!J2","v":222},null,null,null,null,null,null,null,null,"Total Sequences in Data",{"$f":"4994-COUNTBLANK(L7:L5000)","v":42},null,null,null,null,"Total Sequences in Block Data",{"$f":"COUNTA(L7:L13)","v":7},null,null,null,"Total Sequences in Block Data",{"$f":"COUNTA(L14:L20)","v":7},null,null,null,"Total Sequences in Block Data",{"$f":"COUNTA(L21:L27)","v":7},null,null,null,"Total Sequences in Block Data",{"$f":"COUNTA(L28:L34)","v":7},null,null,null,"Total Sequences in Block Data",{"$f":"COUNTA(L35:L41)","v":7},null,null,null,"Total Sequences in Block Data",{"$f":"COUNTA(L42:L48)","v":7}]
[null,null,null,null,null,null,null,null,null,null,null,null,null,null,null,"Total Sequences in Summary",{"$f":"SUM(O7:O14)","v":42},null,null,null,null,"Total Sequences in Block Summary",{"$f":"SUM(U7:U14)","v":7},null,null,null,"Total Sequences in Block Summary",{"$f":"SUM(Z7:Z14)","v":7},null,null,null,"Total Sequences in Block Summary",{"$f":"SUM(AE7:AE14)","v":7},null,null,null,"Total Sequences in Block Summary",{"$f":"SUM(AJ7:AJ14)","v":7},null,null,null,"Total Sequences in Block Summary",{"$f":"SUM(AO7:AO14)","v":7},null,null,null,"Total Sequences in Block Summary",{"$f":"SUM(AT7:AT14)","v":7}]
[null,null,null,null,null,null,null,null,null,null,null,null,null,null,null,null,null,null,null,"Block 1",null,null,null,null,"Block 2",null,null,null,null,"Block 3",null,null,null,null,"Block 4",null,null,null,null,"Block 5",null,null,null,null,"Block 6"]
["Sequence\nComponent\n1","Time\n1","Sequence\nComponent\n2","Time\n2","Sequence\nComponent\n3","Time\n3","Sequence\nComponent\n4","Time\n4","Sequence\nComponent\n5","Time\n5","Correct?\n0=No 1=Yes","Sequence",null,"Frequency",null,"Relative Frequency","Variability",null,null,"Frequency",null,"Relative Frequency","Variability",null,"Frequency",null,"Relative Frequency","Variability",null,"Frequency",null,"Relative Frequency","Variability",null,"Frequency",null,"Relative Frequency","Variability",null,"Frequency",null,"Relative Frequency","Variability",null,"Frequency",null,"Relative Frequency","Variability"]
[21,30,21,40,21,46,null,null,null,null,0,222,null,111,{"$f":"COUNTIF($L$7:$L$500,N7)","v":0},{"$f":"O7/$Q$4","v":0},{"$f":"IF(P7=0,0,(P7*((LOG(P7))/LOG(2))))","v":0},null,null,{"$f":"N7","v":111},{"$f":"COUNTIF(L7:L13,T7)","v":0},{"$f":"U7/(W4-U14)","v":0},{"$f":"IF(V7=0,0,(V7*((LOG(V7))/LOG(2))))","v":0},null,{"$f":"N7","v":111},{"$f":"COUNTIF(L14:L20,Y7)","v":0},{"$f":"Z7/(AB4-Z14)","v":{"$error":"#DIV/0!"}},{"$f":"IF(AA7=0,0,(AA7*((LOG(AA7))/LOG(2))))","v":{"$error":"#DIV/0!"}},null,{"$f":"N7","v":111},{"$f":"COUNTIF(L21:L27,AD7)","v":0},{"$f":"AE7/(AG4-AE14)","v":{"$error":"#DIV/0!"}},{"$f":"IF(AF7=0,0,(AF7*((LOG(AF7))/LOG(2))))","v":{"$error":"#DIV/0!"}},null,{"$f":"N7","v":111},{"$f":"COUNTIF(L28:L34,AI7)","v":0},{"$f":"AJ7/(AL4-AJ14)","v":0},{"$f":"IF(AK7=0,0,(AK7*((LOG(AK7))/LOG(2))))","v":0},null,{"$f":"N7","v":111},{"$f":"COUNTIF(L35:L41,AN7)","v":0},{"$f":"AO7/(AQ4-AO14)","v":0},{"$f":"IF(AP7=0,0,(AP7*((LOG(AP7))/LOG(2))))","v":0},null,{"$f":"N7","v":111},{"$f":"COUNTIF(L42:L48,AS7)","v":0},{"$f":"AT7/(AV4-AT14)","v":{"$error":"#DIV/0!"}},{"$f":"IF(AU7=0,0,(AU7*((LOG(AU7))/LOG(2))))","v":{"$error":"#DIV/0!"}}]
[21,171,21,174,21,178,null,null,null,null,0,222,null,112,{"$f":"COUNTIF($L$7:$L$500,N8)","v":0},{"$f":"O8/$Q$4","v":0},{"$f":"IF(P8=0,0,(P8*((LOG(P8))/LOG(2))))","v":0},null,null,{"$f":"N8","v":112},{"$f":"COUNTIF(L7:L13,T8)","v":0},{"$f":"U8/(W4-U14)","v":0},{"$f":"IF(V8=0,0,(V8*((LOG(V8))/LOG(2))))","v":0},null,{"$f":"N8","v":112},{"$f":"COUNTIF(L14:L20,Y8)","v":0},{"$f":"Z8/(AB4-Z14)","v":{"$error":"#DIV/0!"}},{"$f":"IF(AA8=0,0,(AA8*((LOG(AA8))/LOG(2))))","v":{"$error":"#DIV/0!"}},null,{"$f":"N8","v":112},{"$f":"COUNTIF(L21:L27,AD8)","v":0},{"$f":"AE8/(AG4-AE14)","v":{"$error":"#DIV/0!"}},{"$f":"IF(AF8=0,0,(AF8*((LOG(AF8))/LOG(2))))","v":{"$error":"#DIV/0!"}},null,{"$f":"N8","v":112},{"$f":"COUNTIF(L28:L34,AI8)","v":0},{"$f":"AJ8/(AL4-AJ14)","v":0},{"$f":"IF(AK8=0,0,(AK8*((LOG(AK8))/LOG(2))))","v":0},null,{"$f":"N8","v":112},{"$f":"COUNTIF(L35:L41,AN8)","v":0},{"$f":"AO8/(AQ4-AO14)","v":0},{"$f":"IF(AP8=0,0,(AP8*((LOG(AP8))/LOG(2))))","v":0},null,{"$f":"N8","v":112},{"$f":"COUNTIF(L42:L48,AS8)","v":0},{"$f":"AT8/(AV4-AT14)","v":{"$error":"#DIV/0!"}},{"$f":"IF(AU8=0,0,(AU8*((LOG(AU8))/LOG(2))))","v":{"$error":"#DIV/0!"}}]
[21,288,21,292,21,297,null,null,null,null,0,222,null,121,{"$f":"COUNTIF($L$7:$L$500,N9)","v":0},{"$f":"O9/$Q$4","v":0},{"$f":"IF(P9=0,0,(P9*((LOG(P9))/LOG(2))))","v":0},null,null,{"$f":"N9","v":121},{"$f":"COUNTIF(L7:L13,T9)","v":0},{"$f":"U9/(W4-U14)","v":0},{"$f":"IF(V9=0,0,(V9*((LOG(V9))/LOG(2))))","v":0},null,{"$f":"N9","v":121},{"$f":"COUNTIF(L14:L20,Y9)","v":0},{"$f":"Z9/(AB4-Z14)","v":{"$error":"#DIV/0!"}},{"$f":"IF(AA9=0,0,(AA9*((LOG(AA9))/LOG(2))))","v":{"$error":"#DIV/0!"}},null,{"$f":"N9","v":121},{"$f":"COUNTIF(L21:L27,AD9)","v":0},{"$f":"AE9/(AG4-AE14)","v":{"$error":"#DIV/0!"}},{"$f":"IF(AF9=0,0,(AF9*((LOG(AF9))/LOG(2))))","v":{"$error":"#DIV/0!"}},null,{"$f":"N9","v":121},{"$f":"COUNTIF(L28:L34,AI9)","v":0},{"$f":"AJ9/(AL4-AJ14)","v":0},{"$f":"IF(AK9=0,0,(AK9*((LOG(AK9))/LOG(2))))","v":0},null,{"$f":"N9","v":121},{"$f":"COUNTIF(L35:L41,AN9)","v":0},{"$f":"AO9/(AQ4-AO14)","v":0},{"$f":"IF(AP9=0,0,(AP9*((LOG(AP9))/LOG(2))))","v":0},null,{"$f":"N9","v":121},{"$f":"COUNTIF(L42:L48,AS9)","v":0},{"$f":"AT9/(AV4-AT14)","v":{"$error":"#DIV/0!"}},{"$f":"IF(AU9=0,0,(AU9*((LOG(AU9))/LOG(2))))","v":{"$error":"#DIV/0!"}}]
[21,410,21,425,21,436,null,null,null,null,0,222,null,122,{"$f":"COUNTIF($L$7:$L$500,N10)","v":1},{"$f":"O10/$Q$4","v":2.3809523809523808E-2},{"$f":"IF(P10=0,0,(P10*((LOG(P10))/LOG(2))))","v":-0.12838851006616095},null,null,{"$f":"N10","v":122},{"$f":"COUNTIF(L7:L13,T10)","v":1},{"$f":"U10/(W4-U14)","v":1},{"$f":"IF(V10=0,0,(V10*((LOG(V10))/LOG(2))))","v":0},null,{"$f":"N10","v":122},{"$f":"COUNTIF(L14:L20,Y10)","v":0},{"$f":"Z10/(AB4-Z14)","v":{"$error":"#DIV/0!"}},{"$f":"IF(AA10=0,0,(AA10*((LOG(AA10))/LOG(2))))","v":{"$error":"#DIV/0!"}},null,{"$f":"N10","v":122},{"$f":"COUNTIF(L21:L27,AD10)","v":0},{"$f":"AE10/(AG4-AE14)","v":{"$error":"#DIV/0!"}},{"$f":"IF(AF10=0,0,(AF10*((LOG(AF10))/LOG(2))))","v":{"$error":"#DIV/0!"}},null,{"$f":"N10","v":122},{"$f":"COUNTIF(L28:L34,AI10)","v":0},{"$f":"AJ10/(AL4-AJ14)","v":0},{"$f":"IF(AK10=0,0,(AK10*((LOG(AK10))/LOG(2))))","v":0},null,{"$f":"N10","v":122},{"$f":"COUNTIF(L35:L41,AN10)","v":0},{"$f":"AO10/(AQ4-AO14)","v":0},{"$f":"IF(AP10=0,0,(AP10*((LOG(AP10))/LOG(2))))","v":0},null,{"$f":"N10","v":122},{"$f":"COUNTIF(L42:L48,AS10)","v":0},{"$f":"AT10/(AV4-AT14)","v":{"$error":"#DIV/0!"}},{"$f":"IF(AU10=0,0,(AU10*((LOG(AU10))/LOG(2))))","v":{"$error":"#DIV/0!"}}]
[21,523,21,695,21,705,null,null,null,null,0,222,null,211,{"$f":"COUNTIF($L$7:$L$500,N11)","v":0},{"$f":"O11/$Q$4","v":0},{"$f":"IF(P11=0,0,(P11*((LOG(P11))/LOG(2))))","v":0},null,null,{"$f":"N11","v":211},{"$f":"COUNTIF(L7:L13,T11)","v":0},{"$f":"U11/(W4-U14)","v":0},{"$f":"IF(V11=0,0,(V11*((LOG(V11))/LOG(2))))","v":0},null,{"$f":"N11","v":211},{"$f":"COUNTIF(L14:L20,Y11)","v":0},{"$f":"Z11/(AB4-Z14)","v":{"$error":"#DIV/0!"}},{"$f":"IF(AA11=0,0,(AA11*((LOG(AA11))/LOG(2))))","v":{"$error":"#DIV/0!"}},null,{"$f":"N11","v":211},{"$f":"COUNTIF(L21:L27,AD11)","v":0},{"$f":"AE11/(AG4-AE14)","v":{"$error":"#DIV/0!"}},{"$f":"IF(AF11=0,0,(AF11*((LOG(AF11))/LOG(2))))","v":{"$error":"#DIV/0!"}},null,{"$f":"N11","v":211},{"$f":"COUNTIF(L28:L34,AI11)","v":0},{"$f":"AJ11/(AL4-AJ14)","v":0},{"$f":"IF(AK11=0,0,(AK11*((LOG(AK11))/LOG(2))))","v":0},null,{"$f":"N11","v":211},{"$f":"COUNTIF(L35:L41,AN11)","v":0},{"$f":"AO11/(AQ4-AO14)","v":0},{"$f":"IF(AP11=0,0,(AP11*((LOG(AP11))/LOG(2))))","v":0},null,{"$f":"N11","v":211},{"$f":"COUNTIF(L42:L48,AS11)","v":0},{"$f":"AT11/(AV4-AT14)","v":{"$error":"#DIV/0!"}},{"$f":"IF(AU11=0,0,(AU11*((LOG(AU11))/LOG(2))))","v":{"$error":"#DIV/0!"}}]
[12,823,23,831,23,835,null,null,null,null,0,122,null,212,{"$f":"COUNTIF($L$7:$L$500,N12)","v":0},{"$f":"O12/$Q$4","v":0},{"$f":"IF(P12=0,0,(P12*((LOG(P12))/LOG(2))))","v":0},null,null,{"$f":"N12","v":212},{"$f":"COUNTIF(L7:L13,T12)","v":0},{"$f":"U12/(W4-U14)","v":0},{"$f":"IF(V12=0,0,(V12*((LOG(V12))/LOG(2))))","v":0},null,{"$f":"N12","v":212},{"$f":"COUNTIF(L14:L20,Y12)","v":0},{"$f":"Z12/(AB4-Z14)","v":{"$error":"#DIV/0!"}},{"$f":"IF(AA12=0,0,(AA12*((LOG(AA12))/LOG(2))))","v":{"$error":"#DIV/0!"}},null,{"$f":"N12","v":212},{"$f":"COUNTIF(L21:L27,AD12)","v":0},{"$f":"AE12/(AG4-AE14)","v":{"$error":"#DIV/0!"}},{"$f":"IF(AF12=0,0,(AF12*((LOG(AF12))/LOG(2))))","v":{"$error":"#DIV/0!"}},null,{"$f":"N12","v":212},{"$f":"COUNTIF(L28:L34,AI12)","v":0},{"$f":"AJ12/(AL4-AJ14)","v":0},{"$f":"IF(AK12=0,0,(AK12*((LOG(AK12))/LOG(2))))","v":0},null,{"$f":"N12","v":212},{"$f":"COUNTIF(L35:L41,AN12)","v":0},{"$f":"AO12/(AQ4-AO14)","v":0},{"$f":"IF(AP12=0,0,(AP12*((LOG(AP12))/LOG(2))))","v":0},null,{"$f":"N12","v":212},{"$f":"COUNTIF(L42:L48,AS12)","v":0},{"$f":"AT12/(AV4-AT14)","v":{"$error":"#DIV/0!"}},{"$f":"IF(AU12=0,0,(AU12*((LOG(AU12))/LOG(2))))","v":{"$error":"#DIV/0!"}}]
[21,927,21,932,21,938,null,null,null,null,0,222,null,221,{"$f":"COUNTIF($L$7:$L$500,N13)","v":2},{"$f":"O13/$Q$4","v":4.7619047619047616E-2},{"$f":"IF(P13=0,0,(P13*((LOG(P13))/LOG(2))))","v":-0.20915797251327431},null,null,{"$f":"N13","v":221},{"$f":"COUNTIF(L7:L13,T13)","v":0},{"$f":"U13/(W4-U14)","v":0},{"$f":"IF(V13=0,0,(V13*((LOG(V13))/LOG(2))))","v":0},null,{"$f":"N13","v":221},{"$f":"COUNTIF(L14:L20,Y13)","v":0},{"$f":"Z13/(AB4-Z14)","v":{"$error":"#DIV/0!"}},{"$f":"IF(AA13=0,0,(AA13*((LOG(AA13))/LOG(2))))","v":{"$error":"#DIV/0!"}},null,{"$f":"N13","v":221},{"$f":"COUNTIF(L21:L27,AD13)","v":0},{"$f":"AE13/(AG4-AE14)","v":{"$error":"#DIV/0!"}},{"$f":"IF(AF13=0,0,(AF13*((LOG(AF13))/LOG(2))))","v":{"$error":"#DIV/0!"}},null,{"$f":"N13","v":221},{"$f":"COUNTIF(L28:L34,AI13)","v":1},{"$f":"AJ13/(AL4-AJ14)","v":1},{"$f":"IF(AK13=0,0,(AK13*((LOG(AK13))/LOG(2))))","v":0},null,{"$f":"N13","v":221},{"$f":"COUNTIF(L35:L41,AN13)","v":1},{"$f":"AO13/(AQ4-AO14)","v":1},{"$f":"IF(AP13=0,0,(AP13*((LOG(AP13))/LOG(2))))","v":0},null,{"$f":"N13","v":221},{"$f":"COUNTIF(L42:L48,AS13)","v":0},{"$f":"AT13/(AV4-AT14)","v":{"$error":"#DIV/0!"}},{"$f":"IF(AU13=0,0,(AU13*((LOG(AU13))/LOG(2))))","v":{"$error":"#DIV/0!"}}]
[21,1034,21,1042,21,1051,null,null,null,null,0,222,null,222,{"$f":"COUNTIF($L$7:$L$500,N14)","v":39},{"$f":"O14/$Q$4","v":0.9285714285714286},{"$f":"IF(P14=0,0,(P14*((LOG(P14))/LOG(2))))","v":-9.9278403636761048E-2},null,null,{"$f":"N14","v":222},{"$f":"COUNTIF(L7:L13,T14)","v":6},null,null,null,{"$f":"N14","v":222},{"$f":"COUNTIF(L14:L20,Y14)","v":7},null,null,null,{"$f":"N14","v":222},{"$f":"COUNTIF(L21:L27,AD14)","v":7},null,null,null,{"$f":"N14","v":222},{"$f":"COUNTIF(L28:L34,AI14)","v":6},null,null,null,{"$f":"N14","v":222},{"$f":"COUNTIF(L35:L41,AN14)","v":6},null,null,null,{"$f":"N14","v":222},{"$f":"COUNTIF(L42:L48,AS14)","v":7}]
[21,1161,21,1168,21,1175,null,null,null,null,0,222,null,null,null,{"$f":"SUM(P7:P14)","v":1},{"$f":"-SUM(Q7:Q14)","v":0.43682488621619631},null,null,null,null,{"$f":"SUM(V7:V14)","v":1},{"$f":"-SUM(W7:W14)","v":0},null,null,null,{"$f":"SUM(AA7:AA14)","v":{"$error":"#DIV/0!"}},{"$f":"-SUM(AB7:AB14)","v":{"$error":"#DIV/0!"}},null,null,null,{"$f":"SUM(AF7:AF14)","v":{"$error":"#DIV/0!"}},{"$f":"-SUM(AG7:AG14)","v":{"$error":"#DIV/0!"}},null,null,null,{"$f":"SUM(AK7:AK14)","v":1},{"$f":"-SUM(AL7:AL14)","v":0},null,null,null,{"$f":"SUM(AP7:AP14)","v":1},{"$f":"-SUM(AQ7:AQ14)","v":0},null,null,null,{"$f":"SUM(AU7:AU14)","v":{"$error":"#DIV/0!"}},{"$f":"-SUM(AV7:AV14)","v":{"$error":"#DIV/0!"}}]
[21,1372,21,1389,21,1427,null,null,null,null,0,222,null,null,null,"U=",{"$f":"Q15/(LOG(Q4)/LOG(2))","v":8.1008748552323234E-2},null,null,null,null,"U1=",{"$f":"W15/(LOG(W4)/LOG(2))","v":0},null,null,null,"U2=",{"$f":"AB15/(LOG(AB4)/LOG(2))","v":{"$error":"#DIV/0!"}},null,null,null,"U3=",{"$f":"AG15/(LOG(AG4)/LOG(2))","v":{"$error":"#DIV/0!"}},null,null,null,"U4=",{"$f":"AL15/(LOG(AL4)/LOG(2))","v":0},null,null,null,"U5=",{"$f":"AQ15/(LOG(AQ4)/LOG(2))","v":0},null,null,null,"U6=",{"$f":"AV15/(LOG(AV4)/LOG(2))","v":{"$error":"#DIV/0!"}}]
[21,1531,21,1534,21,1540,null,null,null,null,0,222]
[21,1675,21,1683,21,1692,null,null,null,null,0,222]
[21,1780,21,1786,21,1791,null,null,null,null,0,222,null,"Total Target Seq"]
[21,1880,21,1892,21,1897,null,null,null,null,0,222,null,{"$f":"COUNTIF(L7:L48,G3)","v":39},null,7,7,7,7,7,7]
[21,1999,21,2005,21,2014,null,null,null,null,0,222,null,null,null,"% of reinforcement given in 6 equal intervals based on number of trials "]
[21,2106,21,2111,21,2117,null,null,null,null,0,222,null,null,null,"%_1","%_2","%_3","%_4","%_5","%_6"]
[21,2223,21,2229,21,2235,null,null,null,null,0,222,null,null,"target sequence",{"$f":"$G$3","v":222},{"$f":"$G$3","v":222},{"$f":"$G$3","v":222},{"$f":"$G$3","v":222},{"$f":"$G$3","v":222},{"$f":"$G$3","v":222}]
[21,2337,21,2347,21,2358,null,null,null,null,0,222,null,null,"total reinforcement",{"$f":"U14","v":6},{"$f":"Z14","v":7},{"$f":"AE14","v":7},{"$f":"AJ14","v":6},{"$f":"AO14","v":6},{"$f":"AT14","v":7}]
[21,2462,21,2468,21,2475,null,null,null,null,0,222,null,null,"% target"]
[21,2572,21,2578,21,2585,null,null,null,null,0,222,null,null,"CCRF"]
[21,2674,21,2679,21,2684,null,null,null,null,0,222,null,null,"% CCRf"]
[21,2772,21,2776,21,2779,null,null,null,null,0,222,null,null,"average response rate",{"$f":"F13/P20","v":134},{"$f":"(F20-F13)/Q20","v":137},{"$f":"(F27-F20)/R20","v":112.42857142857143},{"$f":"(F34-F27)/S20","v":108.71428571428571},{"$f":"(F41-F34)/T20","v":114.57142857142857},{"$f":"(F48-F41)/U20","v":141.85714285714286}]
[21,2868,21,2873,21,2894,null,null,null,null,0,222]
[21,3003,21,3013,21,3024,null,null,null,null,0,222]
[21,3119,21,3124,12,3129,null,null,null,null,0,221]
[21,3223,21,3228,21,3234,null,null,null,null,0,222]
[21,3326,21,3330,21,3338,null,null,null,null,0,222]
[21,3431,21,3438,21,3445,null,null,null,null,0,222]
[21,3558,21,3565,21,3575,null,null,null,null,0,222]
[21,3667,21,3674,21,3682,null,null,null,null,0,222]
[21,3782,21,3793,21,3798,null,null,null,null,0,222]
[21,3888,21,3897,12,3901,null,null,null,null,0,221]
[21,3997,21,4001,21,4007,null,null,null,null,0,222]
[21,4124,21,4137,21,4150,null,null,null,null,0,222]
[21,4238,21,4243,21,4247,null,null,null,null,0,222]
[21,4433,21,4447,21,4458,null,null,null,null,0,222]
[21,4546,21,4567,21,4581,null,null,null,null,0,222]
[21,4685,21,4699,21,4712,null,null,null,null,0,222]
[21,4829,21,4843,21,4849,null,null,null,null,0,222]
[21,4994,21,5002,21,5011,null,null,null,null,0,222]
[21,5116,21,5122,21,5129,null,null,null,null,0,222]
[21,5225,21,5234,21,5240,null,null,null,null,1,222]

{"sheet":"!M911A30.Gus","index":22,"n_rows":57,"n_cols":48,"rows_kept":57,"cut":false,"hidden":false,"merged":[[4,39,4,42],[5,39,5,40],[4,44,4,47],[5,44,5,45],[4,24,4,27],[5,24,5,25],[4,29,4,32],[5,29,5,30],[4,34,4,37],[5,34,5,35],[1,1,1,2],[5,13,5,14],[18,13,18,14],[19,13,19,14],[4,19,4,22],[5,19,5,20]]}
["Report for:!M911A30.Gus"]
["Date:","<date>"]
["Hen:","<hen>",null,null,null,"Correct Sequence",{"$f":"Start!J2","v":222},null,null,null,null,null,null,null,null,"Total Sequences in Data",{"$f":"4994-COUNTBLANK(L7:L5000)","v":51},null,null,null,null,"Total Sequences in Block Data",{"$f":"COUNTA(L7:L15)","v":9},null,null,null,"Total Sequences in Block Data",{"$f":"COUNTA(L16:L23)","v":8},null,null,null,"Total Sequences in Block Data",{"$f":"COUNTA(L24:L32)","v":9},null,null,null,"Total Sequences in Block Data",{"$f":"COUNTA(L33:L40)","v":8},null,null,null,"Total Sequences in Block Data",{"$f":"COUNTA(L41:L49)","v":9},null,null,null,"Total Sequences in Block Data",{"$f":"COUNTA(L50:L57)","v":8}]
[null,null,null,null,null,null,null,null,null,null,null,null,null,null,null,"Total Sequences in Summary",{"$f":"SUM(O7:O14)","v":51},null,null,null,null,"Total Sequences in Block Summary",{"$f":"SUM(U7:U14)","v":9},null,null,null,"Total Sequences in Block Summary",{"$f":"SUM(Z7:Z14)","v":8},null,null,null,"Total Sequences in Block Summary",{"$f":"SUM(AE7:AE14)","v":9},null,null,null,"Total Sequences in Block Summary",{"$f":"SUM(AJ7:AJ14)","v":8},null,null,null,"Total Sequences in Block Summary",{"$f":"SUM(AO7:AO14)","v":9},null,null,null,"Total Sequences in Block Summary",{"$f":"SUM(AT7:AT14)","v":8}]
[null,null,null,null,null,null,null,null,null,null,null,null,null,null,null,null,null,null,null,"Block 1",null,null,null,null,"Block 2",null,null,null,null,"Block 3",null,null,null,null,"Block 4",null,null,null,null,"Block 5",null,null,null,null,"Block 6"]
["Sequence\nComponent\n1","Time\n1","Sequence\nComponent\n2","Time\n2","Sequence\nComponent\n3","Time\n3","Sequence\nComponent\n4","Time\n4","Sequence\nComponent\n5","Time\n5","Correct?\n0=No 1=Yes","Sequence",null,"Frequency",null,"Relative Frequency","Variability",null,null,"Frequency",null,"Relative Frequency","Variability",null,"Frequency",null,"Relative Frequency","Variability",null,"Frequency",null,"Relative Frequency","Variability",null,"Frequency",null,"Relative Frequency","Variability",null,"Frequency",null,"Relative Frequency","Variability",null,"Frequency",null,"Relative Frequency","Variability"]
[12,32,23,34,23,46,null,null,null,null,0,122,null,111,{"$f":"COUNTIF($L$7:$L$500,N7)","v":0},{"$f":"O7/$Q$4","v":0},{"$f":"IF(P7=0,0,(P7*((LOG(P7))/LOG(2))))","v":0},null,null,{"$f":"N7","v":111},{"$f":"COUNTIF(L7:L15,T7)","v":0},{"$f":"U7/(W4-U14)","v":0},{"$f":"IF(V7=0,0,(V7*((LOG(V7))/LOG(2))))","v":0},null,{"$f":"N7","v":111},{"$f":"COUNTIF(L16:L23,Y7)","v":0},{"$f":"Z7/(AB4-Z14)","v":0},{"$f":"IF(AA7=0,0,(AA7*((LOG(AA7))/LOG(2))))","v":0},null,{"$f":"N7","v":111},{"$f":"COUNTIF(L24:L32,AD7)","v":0},{"$f":"AE7/(AG4-AE14)","v":0},{"$f":"IF(AF7=0,0,(AF7*((LOG(AF7))/LOG(2))))","v":0},null,{"$f":"N7","v":111},{"$f":"COUNTIF(L33:L40,AI7)","v":0},{"$f":"AJ7/(AL4-AJ14)","v":0},{"$f":"IF(AK7=0,0,(AK7*((LOG(AK7))/LOG(2))))","v":0},null,{"$f":"N7","v":111},{"$f":"COUNTIF(L41:L49,AN7)","v":0},{"$f":"AO7/(AQ4-AO14)","v":{"$error":"#DIV/0!"}},{"$f":"IF(AP7=0,0,(AP7*((LOG(AP7))/LOG(2))))","v":{"$error":"#DIV/0!"}},null,{"$f":"N7","v":111},{"$f":"COUNTIF(L50:L57,AS7)","v":0},{"$f":"AT7/(AV4-AT14)","v":0},{"$f":"IF(AU7=0,0,(AU7*((LOG(AU7))/LOG(2))))","v":0}]
[21,146,21,152,21,157,null,null,null,null,0,222,null,112,{"$f":"COUNTIF($L$7:$L$500,N8)","v":0},{"$f":"O8/$Q$4","v":0},{"$f":"IF(P8=0,0,(P8*((LOG(P8))/LOG(2))))","v":0},null,null,{"$f":"N8","v":112},{"$f":"COUNTIF(L7:L15,T8)","v":0},{"$f":"U8/(W4-U14)","v":0},{"$f":"IF(V8=0,0,(V8*((LOG(V8))/LOG(2))))","v":0},null,{"$f":"N8","v":112},{"$f":"COUNTIF(L16:L23,Y8)","v":0},{"$f":"Z8/(AB4-Z14)","v":0},{"$f":"IF(AA8=0,0,(AA8*((LOG(AA8))/LOG(2))))","v":0},null,{"$f":"N8","v":112},{"$f":"COUNTIF(L24:L32,AD8)","v":0},{"$f":"AE8/(AG4-AE14)","v":0},{"$f":"IF(AF8=0,0,(AF8*((LOG(AF8))/LOG(2))))","v":0},null,{"$f":"N8","v":112},{"$f":"COUNTIF(L33:L40,AI8)","v":0},{"$f":"AJ8/(AL4-AJ14)","v":0},{"$f":"IF(AK8=0,0,(AK8*((LOG(AK8))/LOG(2))))","v":0},null,{"$f":"N8","v":112},{"$f":"COUNTIF(L41:L49,AN8)","v":0},{"$f":"AO8/(AQ4-AO14)","v":{"$error":"#DIV/0!"}},{"$f":"IF(AP8=0,0,(AP8*((LOG(AP8))/LOG(2))))","v":{"$error":"#DIV/0!"}},null,{"$f":"N8","v":112},{"$f":"COUNTIF(L50:L57,AS8)","v":0},{"$f":"AT8/(AV4-AT14)","v":0},{"$f":"IF(AU8=0,0,(AU8*((LOG(AU8))/LOG(2))))","v":0}]
[21,246,21,251,21,258,null,null,null,null,0,222,null,121,{"$f":"COUNTIF($L$7:$L$500,N9)","v":0},{"$f":"O9/$Q$4","v":0},{"$f":"IF(P9=0,0,(P9*((LOG(P9))/LOG(2))))","v":0},null,null,{"$f":"N9","v":121},{"$f":"COUNTIF(L7:L15,T9)","v":0},{"$f":"U9/(W4-U14)","v":0},{"$f":"IF(V9=0,0,(V9*((LOG(V9))/LOG(2))))","v":0},null,{"$f":"N9","v":121},{"$f":"COUNTIF(L16:L23,Y9)","v":0},{"$f":"Z9/(AB4-Z14)","v":0},{"$f":"IF(AA9=0,0,(AA9*((LOG(AA9))/LOG(2))))","v":0},null,{"$f":"N9","v":121},{"$f":"COUNTIF(L24:L32,AD9)","v":0},{"$f":"AE9/(AG4-AE14)","v":0},{"$f":"IF(AF9=0,0,(AF9*((LOG(AF9))/LOG(2))))","v":0},null,{"$f":"N9","v":121},{"$f":"COUNTIF(L33:L40,AI9)","v":0},{"$f":"AJ9/(AL4-AJ14)","v":0},{"$f":"IF(AK9=0,0,(AK9*((LOG(AK9))/LOG(2))))","v":0},null,{"$f":"N9","v":121},{"$f":"COUNTIF(L41:L49,AN9)","v":0},{"$f":"AO9/(AQ4-AO14)","v":{"$error":"#DIV/0!"}},{"$f":"IF(AP9=0,0,(AP9*((LOG(AP9))/LOG(2))))","v":{"$error":"#DIV/0!"}},null,{"$f":"N9","v":121},{"$f":"COUNTIF(L50:L57,AS9)","v":0},{"$f":"AT9/(AV4-AT14)","v":0},{"$f":"IF(AU9=0,0,(AU9*((LOG(AU9))/LOG(2))))","v":0}]
[21,365,21,371,12,374,null,null,null,null,0,221,null,122,{"$f":"COUNTIF($L$7:$L$500,N10)","v":1},{"$f":"O10/$Q$4","v":1.9607843137254902E-2},{"$f":"IF(P10=0,0,(P10*((LOG(P10))/LOG(2))))","v":-0.11122402631316657},null,null,{"$f":"N10","v":122},{"$f":"COUNTIF(L7:L15,T10)","v":1},{"$f":"U10/(W4-U14)","v":0.2},{"$f":"IF(V10=0,0,(V10*((LOG(V10))/LOG(2))))","v":-0.46438561897747244},null,{"$f":"N10","v":122},{"$f":"COUNTIF(L16:L23,Y10)","v":0},{"$f":"Z10/(AB4-Z14)","v":0},{"$f":"IF(AA10=0,0,(AA10*((LOG(AA10))/LOG(2))))","v":0},null,{"$f":"N10","v":122},{"$f":"COUNTIF(L24:L32,AD10)","v":0},{"$f":"AE10/(AG4-AE14)","v":0},{"$f":"IF(AF10=0,0,(AF10*((LOG(AF10))/LOG(2))))","v":0},null,{"$f":"N10","v":122},{"$f":"COUNTIF(L33:L40,AI10)","v":0},{"$f":"AJ10/(AL4-AJ14)","v":0},{"$f":"IF(AK10=0,0,(AK10*((LOG(AK10))/LOG(2))))","v":0},null,{"$f":"N10","v":122},{"$f":"COUNTIF(L41:L49,AN10)","v":0},{"$f":"AO10/(AQ4-AO14)","v":{"$error":"#DIV/0!"}},{"$f":"IF(AP10=0,0,(AP10*((LOG(AP10))/LOG(2))))","v":{"$error":"#DIV/0!"}},null,{"$f":"N10","v":122},{"$f":"COUNTIF(L50:L57,AS10)","v":0},{"$f":"AT10/(AV4-AT14)","v":0},{"$f":"IF(AU10=0,0,(AU10*((LOG(AU10))/LOG(2))))","v":0}]
[21,499,12,505,23,509,null,null,null,null,0,212,null,211,{"$f":"COUNTIF($L$7:$L$500,N11)","v":0},{"$f":"O11/$Q$4","v":0},{"$f":"IF(P11=0,0,(P11*((LOG(P11))/LOG(2))))","v":0},null,null,{"$f":"N11","v":211},{"$f":"COUNTIF(L7:L15,T11)","v":0},{"$f":"U11/(W4-U14)","v":0},{"$f":"IF(V11=0,0,(V11*((LOG(V11))/LOG(2))))","v":0},null,{"$f":"N11","v":211},{"$f":"COUNTIF(L16:L23,Y11)","v":0},{"$f":"Z11/(AB4-Z14)","v":0},{"$f":"IF(AA11=0,0,(AA11*((LOG(AA11))/LOG(2))))","v":0},null,{"$f":"N11","v":211},{"$f":"COUNTIF(L24:L32,AD11)","v":0},{"$f":"AE11/(AG4-AE14)","v":0},{"$f":"IF(AF11=0,0,(AF11*((LOG(AF11))/LOG(2))))","v":0},null,{"$f":"N11","v":211},{"$f":"COUNTIF(L33:L40,AI11)","v":0},{"$f":"AJ11/(AL4-AJ14)","v":0},{"$f":"IF(AK11=0,0,(AK11*((LOG(AK11))/LOG(2))))","v":0},null,{"$f":"N11","v":211},{"$f":"COUNTIF(L41:L49,AN11)","v":0},{"$f":"AO11/(AQ4-AO14)","v":{"$error":"#DIV/0!"}},{"$f":"IF(AP11=0,0,(AP11*((LOG(AP11))/LOG(2))))","v":{"$error":"#DIV/0!"}},null,{"$f":"N11","v":211},{"$f":"COUNTIF(L50:L57,AS11)","v":0},{"$f":"AT11/(AV4-AT14)","v":0},{"$f":"IF(AU11=0,0,(AU11*((LOG(AU11))/LOG(2))))","v":0}]
[21,625,12,629,23,640,null,null,null,null,0,212,null,212,{"$f":"COUNTIF($L$7:$L$500,N12)","v":4},{"$f":"O12/$Q$4","v":7.8431372549019607E-2},{"$f":"IF(P12=0,0,(P12*((LOG(P12))/LOG(2))))","v":-0.2880333601546271},null,null,{"$f":"N12","v":212},{"$f":"COUNTIF(L7:L15,T12)","v":2},{"$f":"U12/(W4-U14)","v":0.4},{"$f":"IF(V12=0,0,(V12*((LOG(V12))/LOG(2))))","v":-0.52877123795494496},null,{"$f":"N12","v":212},{"$f":"COUNTIF(L16:L23,Y12)","v":1},{"$f":"Z12/(AB4-Z14)","v":1},{"$f":"IF(AA12=0,0,(AA12*((LOG(AA12))/LOG(2))))","v":0},null,{"$f":"N12","v":212},{"$f":"COUNTIF(L24:L32,AD12)","v":0},{"$f":"AE12/(AG4-AE14)","v":0},{"$f":"IF(AF12=0,0,(AF12*((LOG(AF12))/LOG(2))))","v":0},null,{"$f":"N12","v":212},{"$f":"COUNTIF(L33:L40,AI12)","v":1},{"$f":"AJ12/(AL4-AJ14)","v":1},{"$f":"IF(AK12=0,0,(AK12*((LOG(AK12))/LOG(2))))","v":0},null,{"$f":"N12","v":212},{"$f":"COUNTIF(L41:L49,AN12)","v":0},{"$f":"AO12/(AQ4-AO14)","v":{"$error":"#DIV/0!"}},{"$f":"IF(AP12=0,0,(AP12*((LOG(AP12))/LOG(2))))","v":{"$error":"#DIV/0!"}},null,{"$f":"N12","v":212},{"$f":"COUNTIF(L50:L57,AS12)","v":0},{"$f":"AT12/(AV4-AT14)","v":0},{"$f":"IF(AU12=0,0,(AU12*((LOG(AU12))/LOG(2))))","v":0}]
[21,739,21,742,21,747,null,null,null,null,0,222,null,221,{"$f":"COUNTIF($L$7:$L$500,N13)","v":7},{"$f":"O13/$Q$4","v":0.13725490196078433},{"$f":"IF(P13=0,0,(P13*((LOG(P13))/LOG(2))))","v":-0.39324495959602429},null,null,{"$f":"N13","v":221},{"$f":"COUNTIF(L7:L15,T13)","v":2},{"$f":"U13/(W4-U14)","v":0.4},{"$f":"IF(V13=0,0,(V13*((LOG(V13))/LOG(2))))","v":-0.52877123795494496},null,{"$f":"N13","v":221},{"$f":"COUNTIF(L16:L23,Y13)","v":0},{"$f":"Z13/(AB4-Z14)","v":0},{"$f":"IF(AA13=0,0,(AA13*((LOG(AA13))/LOG(2))))","v":0},null,{"$f":"N13","v":221},{"$f":"COUNTIF(L24:L32,AD13)","v":4},{"$f":"AE13/(AG4-AE14)","v":1},{"$f":"IF(AF13=0,0,(AF13*((LOG(AF13))/LOG(2))))","v":0},null,{"$f":"N13","v":221},{"$f":"COUNTIF(L33:L40,AI13)","v":0},{"$f":"AJ13/(AL4-AJ14)","v":0},{"$f":"IF(AK13=0,0,(AK13*((LOG(AK13))/LOG(2))))","v":0},null,{"$f":"N13","v":221},{"$f":"COUNTIF(L41:L49,AN13)","v":0},{"$f":"AO13/(AQ4-AO14)","v":{"$error":"#DIV/0!"}},{"$f":"IF(AP13=0,0,(AP13*((LOG(AP13))/LOG(2))))","v":{"$error":"#DIV/0!"}},null,{"$f":"N13","v":221},{"$f":"COUNTIF(L50:L57,AS13)","v":1},{"$f":"AT13/(AV4-AT14)","v":1},{"$f":"IF(AU13=0,0,(AU13*((LOG(AU13))/LOG(2))))","v":0}]
[21,842,21,848,12,855,null,null,null,null,0,221,null,222,{"$f":"COUNTIF($L$7:$L$500,N14)","v":39},{"$f":"O14/$Q$4","v":0.76470588235294112},{"$f":"IF(P14=0,0,(P14*((LOG(P14))/LOG(2))))","v":-0.29595885884824796},null,null,{"$f":"N14","v":222},{"$f":"COUNTIF(L7:L15,T14)","v":4},null,null,null,{"$f":"N14","v":222},{"$f":"COUNTIF(L16:L23,Y14)","v":7},null,null,null,{"$f":"N14","v":222},{"$f":"COUNTIF(L24:L32,AD14)","v":5},null,null,null,{"$f":"N14","v":222},{"$f":"COUNTIF(L33:L40,AI14)","v":7},null,null,null,{"$f":"N14","v":222},{"$f":"COUNTIF(L41:L49,AN14)","v":9},null,null,null,{"$f":"N14","v":222},{"$f":"COUNTIF(L50:L57,AS14)","v":7}]
[21,951,21,953,21,955,null,null,null,null,0,222,null,null,null,{"$f":"SUM(P7:P14)","v":1},{"$f":"-SUM(Q7:Q14)","v":1.0884612049120659},null,null,null,null,{"$f":"SUM(V7:V14)","v":1},{"$f":"-SUM(W7:W14)","v":1.5219280948873624},null,null,null,{"$f":"SUM(AA7:AA14)","v":1},{"$f":"-SUM(AB7:AB14)","v":0},null,null,null,{"$f":"SUM(AF7:AF14)","v":1},{"$f":"-SUM(AG7:AG14)","v":0},null,null,null,{"$f":"SUM(AK7:AK14)","v":1},{"$f":"-SUM(AL7:AL14)","v":0},null,null,null,{"$f":"SUM(AP7:AP14)","v":{"$error":"#DIV/0!"}},{"$f":"-SUM(AQ7:AQ14)","v":{"$error":"#DIV/0!"}},null,null,null,{"$f":"SUM(AU7:AU14)","v":1},{"$f":"-SUM(AV7:AV14)","v":0}]
[21,1055,21,1069,21,1077,null,null,null,null,0,222,null,null,null,"U=",{"$f":"Q15/(LOG(Q4)/LOG(2))","v":0.19188638709059902},null,null,null,null,"U1=",{"$f":"W15/(LOG(W4)/LOG(2))","v":0.48011485893038064},null,null,null,"U2=",{"$f":"AB15/(LOG(AB4)/LOG(2))","v":0},null,null,null,"U3=",{"$f":"AG15/(LOG(AG4)/LOG(2))","v":0},null,null,null,"U4=",{"$f":"AL15/(LOG(AL4)/LOG(2))","v":0},null,null,null,"U5=",{"$f":"AQ15/(LOG(AQ4)/LOG(2))","v":{"$error":"#DIV/0!"}},null,null,null,"U6=",{"$f":"AV15/(LOG(AV4)/LOG(2))","v":0}]
[21,1168,21,1187,21,1192,null,null,null,null,0,222]
[21,1285,21,1292,21,1298,null,null,null,null,0,222]
[21,1396,12,1402,23,1405,null,null,null,null,0,212,null,"Total Target Seq"]
[21,1504,21,1506,21,1509,null,null,null,null,0,222,null,{"$f":"COUNTIF(L7:L57,G3)","v":39},null,9,8,9,8,9,8]
[21,1618,21,1624,21,1630,null,null,null,null,0,222,null,null,null,"% of reinforcement given in 6 equal intervals based on number of trials "]
[21,1774,21,1796,21,1814,null,null,null,null,0,222,null,null,null,"%_1","%_2","%_3","%_4","%_5","%_6"]
[21,1915,21,1931,21,1940,null,null,null,null,0,222,null,null,"target sequence",{"$f":"$G$3","v":222},{"$f":"$G$3","v":222},{"$f":"$G$3","v":222},{"$f":"$G$3","v":222},{"$f":"$G$3","v":222},{"$f":"$G$3","v":222}]
[21,2040,21,2055,21,2083,null,null,null,null,0,222,null,null,"total reinforcement",{"$f":"U14","v":4},{"$f":"Z14","v":7},{"$f":"AE14","v":5},{"$f":"AJ14","v":7},{"$f":"AO14","v":9},{"$f":"AT14","v":7}]
[21,2204,21,2216,21,2227,null,null,null,null,0,222,null,null,"% target"]
[21,2358,21,2377,21,2385,null,null,null,null,0,222,null,null,"CCRF"]
[21,2479,21,2486,12,2489,null,null,null,null,0,221,null,null,"% CCRf"]
[21,2674,21,2680,21,2684,null,null,null,null,0,222,null,null,"average response rate",{"$f":"F15/P20","v":106.11111111111111},{"$f":"(F23-F15)/Q20","v":123.125},{"$f":"(F32-F23)/R20","v":133.22222222222223},{"$f":"(F40-F32)/S20","v":119.5},{"$f":"(F49-F40)/T20","v":152},{"$f":"(F57-F49)/U20","v":152.125}]
[21,2789,21,2795,12,2801,null,null,null,null,0,221]
[21,2903,21,2906,12,2910,null,null,null,null,0,221]
[21,3005,21,3009,21,3016,null,null,null,null,0,222]
[21,3126,21,3131,12,3139,null,null,null,null,0,221]
[21,3237,21,3241,21,3246,null,null,null,null,0,222]
[21,3337,12,3342,23,3352,null,null,null,null,0,212]
[21,3449,21,3454,21,3458,null,null,null,null,0,222]
[21,3551,21,3557,21,3564,null,null,null,null,0,222]
[21,3709,21,3721,21,3729,null,null,null,null,0,222]
[21,3829,21,3840,21,3853,null,null,null,null,0,222]
[21,3943,21,3945,21,3966,null,null,null,null,0,222]
[21,4077,21,4087,21,4095,null,null,null,null,0,222]
[21,4217,21,4223,21,4231,null,null,null,null,0,222]
[21,4512,21,4523,21,4540,null,null,null,null,0,222]
[21,4649,21,4665,21,4679,null,null,null,null,0,222]
[21,4787,21,4795,21,4804,null,null,null,null,0,222]
[21,4928,21,4935,21,4943,null,null,null,null,0,222]
[21,5034,21,5046,21,5054,null,null,null,null,0,222]
[21,5175,21,5186,21,5199,null,null,null,null,0,222]
[21,5291,21,5300,21,5308,null,null,null,null,0,222]
[21,5429,21,5444,21,5463,null,null,null,null,0,222]
[21,5553,21,5564,12,5568,null,null,null,null,0,221]
[21,5772,21,5780,21,5782,null,null,null,null,0,222]
[21,5913,21,5919,21,5926,null,null,null,null,0,222]
[21,6055,21,6065,21,6073,null,null,null,null,0,222]
[21,6272,21,6275,21,6283,null,null,null,null,0,222]
[21,6407,21,6412,21,6418,null,null,null,null,0,222]
[21,6541,21,6551,21,6573,null,null,null,null,0,222]
[21,6667,21,6673,21,6680,null,null,null,null,1,222]

{"sheet":"!M912A40.Gus","index":23,"n_rows":54,"n_cols":48,"rows_kept":54,"cut":false,"hidden":false,"merged":[[4,39,4,42],[5,39,5,40],[4,44,4,47],[5,44,5,45],[4,24,4,27],[5,24,5,25],[4,29,4,32],[5,29,5,30],[4,34,4,37],[5,34,5,35],[1,1,1,2],[5,13,5,14],[18,13,18,14],[19,13,19,14],[4,19,4,22],[5,19,5,20]]}
["Report for:!M912A40.Gus"]
["Date:","<date>"]
["Hen:","<hen>",null,null,null,"Correct Sequence",{"$f":"Start!J2","v":222},null,null,null,null,null,null,null,null,"Total Sequences in Data",{"$f":"4994-COUNTBLANK(L7:L5000)","v":48},null,null,null,null,"Total Sequences in Block Data",{"$f":"COUNTA(L7:L14)","v":8},null,null,null,"Total Sequences in Block Data",{"$f":"COUNTA(L15:L22)","v":8},null,null,null,"Total Sequences in Block Data",{"$f":"COUNTA(L23:L30)","v":8},null,null,null,"Total Sequences in Block Data",{"$f":"COUNTA(L31:L38)","v":8},null,null,null,"Total Sequences in Block Data",{"$f":"COUNTA(L39:L46)","v":8},null,null,null,"Total Sequences in Block Data",{"$f":"COUNTA(L47:L54)","v":8}]
[null,null,null,null,null,null,null,null,null,null,null,null,null,null,null,"Total Sequences in Summary",{"$f":"SUM(O7:O14)","v":48},null,null,null,null,"Total Sequences in Block Summary",{"$f":"SUM(U7:U14)","v":8},null,null,null,"Total Sequences in Block Summary",{"$f":"SUM(Z7:Z14)","v":8},null,null,null,"Total Sequences in Block Summary",{"$f":"SUM(AE7:AE14)","v":8},null,null,null,"Total Sequences in Block Summary",{"$f":"SUM(AJ7:AJ14)","v":8},null,null,null,"Total Sequences in Block Summary",{"$f":"SUM(AO7:AO14)","v":8},null,null,null,"Total Sequences in Block Summary",{"$f":"SUM(AT7:AT14)","v":8}]
[null,null,null,null,null,null,null,null,null,null,null,null,null,null,null,null,null,null,null,"Block 1",null,null,null,null,"Block 2",null,null,null,null,"Block 3",null,null,null,null,"Block 4",null,null,null,null,"Block 5",null,null,null,null,"Block 6"]
["Sequence\nComponent\n1","Time\n1","Sequence\nComponent\n2","Time\n2","Sequence\nComponent\n3","Time\n3","Sequence\nComponent\n4","Time\n4","Sequence\nComponent\n5","Time\n5","Correct?\n0=No 1=Yes","Sequence",null,"Frequency",null,"Relative Frequency","Variability",null,null,"Frequency",null,"Relative Frequency","Variability",null,"Frequency",null,"Relative Frequency","Variability",null,"Frequency",null,"Relative Frequency","Variability",null,"Frequency",null,"Relative Frequency","Variability",null,"Frequency",null,"Relative Frequency","Variability",null,"Frequency",null,"Relative Frequency","Variability"]
[21,263,21,273,21,280,null,null,null,null,0,222,null,111,{"$f":"COUNTIF($L$7:$L$500,N7)","v":0},{"$f":"O7/$Q$4","v":0},{"$f":"IF(P7=0,0,(P7*((LOG(P7))/LOG(2))))","v":0},null,null,{"$f":"N7","v":111},{"$f":"COUNTIF(L7:L14,T7)","v":0},{"$f":"U7/(W4-U14)","v":0},{"$f":"IF(V7=0,0,(V7*((LOG(V7))/LOG(2))))","v":0},null,{"$f":"N7","v":111},{"$f":"COUNTIF(L15:L22,Y7)","v":0},{"$f":"Z7/(AB4-Z14)","v":0},{"$f":"IF(AA7=0,0,(AA7*((LOG(AA7))/LOG(2))))","v":0},null,{"$f":"N7","v":111},{"$f":"COUNTIF(L23:L30,AD7)","v":0},{"$f":"AE7/(AG4-AE14)","v":0},{"$f":"IF(AF7=0,0,(AF7*((LOG(AF7))/LOG(2))))","v":0},null,{"$f":"N7","v":111},{"$f":"COUNTIF(L31:L38,AI7)","v":0},{"$f":"AJ7/(AL4-AJ14)","v":0},{"$f":"IF(AK7=0,0,(AK7*((LOG(AK7))/LOG(2))))","v":0},null,{"$f":"N7","v":111},{"$f":"COUNTIF(L39:L46,AN7)","v":0},{"$f":"AO7/(AQ4-AO14)","v":0},{"$f":"IF(AP7=0,0,(AP7*((LOG(AP7))/LOG(2))))","v":0},null,{"$f":"N7","v":111},{"$f":"COUNTIF(L47:L54,AS7)","v":0},{"$f":"AT7/(AV4-AT14)","v":0},{"$f":"IF(AU7=0,0,(AU7*((LOG(AU7))/LOG(2))))","v":0}]
[12,402,23,413,23,416,null,null,null,null,0,122,null,112,{"$f":"COUNTIF($L$7:$L$500,N8)","v":1},{"$f":"O8/$Q$4","v":2.0833333333333332E-2},{"$f":"IF(P8=0,0,(P8*((LOG(P8))/LOG(2))))","v":-0.11635338543169074},null,null,{"$f":"N8","v":112},{"$f":"COUNTIF(L7:L14,T8)","v":0},{"$f":"U8/(W4-U14)","v":0},{"$f":"IF(V8=0,0,(V8*((LOG(V8))/LOG(2))))","v":0},null,{"$f":"N8","v":112},{"$f":"COUNTIF(L15:L22,Y8)","v":0},{"$f":"Z8/(AB4-Z14)","v":0},{"$f":"IF(AA8=0,0,(AA8*((LOG(AA8))/LOG(2))))","v":0},null,{"$f":"N8","v":112},{"$f":"COUNTIF(L23:L30,AD8)","v":0},{"$f":"AE8/(AG4-AE14)","v":0},{"$f":"IF(AF8=0,0,(AF8*((LOG(AF8))/LOG(2))))","v":0},null,{"$f":"N8","v":112},{"$f":"COUNTIF(L31:L38,AI8)","v":0},{"$f":"AJ8/(AL4-AJ14)","v":0},{"$f":"IF(AK8=0,0,(AK8*((LOG(AK8))/LOG(2))))","v":0},null,{"$f":"N8","v":112},{"$f":"COUNTIF(L39:L46,AN8)","v":0},{"$f":"AO8/(AQ4-AO14)","v":0},{"$f":"IF(AP8=0,0,(AP8*((LOG(AP8))/LOG(2))))","v":0},null,{"$f":"N8","v":112},{"$f":"COUNTIF(L47:L54,AS8)","v":1},{"$f":"AT8/(AV4-AT14)","v":0.5},{"$f":"IF(AU8=0,0,(AU8*((LOG(AU8))/LOG(2))))","v":-0.5}]
[21,543,21,551,21,557,null,null,null,null,0,222,null,121,{"$f":"COUNTIF($L$7:$L$500,N9)","v":0},{"$f":"O9/$Q$4","v":0},{"$f":"IF(P9=0,0,(P9*((LOG(P9))/LOG(2))))","v":0},null,null,{"$f":"N9","v":121},{"$f":"COUNTIF(L7:L14,T9)","v":0},{"$f":"U9/(W4-U14)","v":0},{"$f":"IF(V9=0,0,(V9*((LOG(V9))/LOG(2))))","v":0},null,{"$f":"N9","v":121},{"$f":"COUNTIF(L15:L22,Y9)","v":0},{"$f":"Z9/(AB4-Z14)","v":0},{"$f":"IF(AA9=0,0,(AA9*((LOG(AA9))/LOG(2))))","v":0},null,{"$f":"N9","v":121},{"$f":"COUNTIF(L23:L30,AD9)","v":0},{"$f":"AE9/(AG4-AE14)","v":0},{"$f":"IF(AF9=0,0,(AF9*((LOG(AF9))/LOG(2))))","v":0},null,{"$f":"N9","v":121},{"$f":"COUNTIF(L31:L38,AI9)","v":0},{"$f":"AJ9/(AL4-AJ14)","v":0},{"$f":"IF(AK9=0,0,(AK9*((LOG(AK9))/LOG(2))))","v":0},null,{"$f":"N9","v":121},{"$f":"COUNTIF(L39:L46,AN9)","v":0},{"$f":"AO9/(AQ4-AO14)","v":0},{"$f":"IF(AP9=0,0,(AP9*((LOG(AP9))/LOG(2))))","v":0},null,{"$f":"N9","v":121},{"$f":"COUNTIF(L47:L54,AS9)","v":0},{"$f":"AT9/(AV4-AT14)","v":0},{"$f":"IF(AU9=0,0,(AU9*((LOG(AU9))/LOG(2))))","v":0}]
[21,718,21,720,21,725,null,null,null,null,0,222,null,122,{"$f":"COUNTIF($L$7:$L$500,N10)","v":2},{"$f":"O10/$Q$4","v":4.1666666666666664E-2},{"$f":"IF(P10=0,0,(P10*((LOG(P10))/LOG(2))))","v":-0.19104010419671485},null,null,{"$f":"N10","v":122},{"$f":"COUNTIF(L7:L14,T10)","v":1},{"$f":"U10/(W4-U14)","v":1},{"$f":"IF(V10=0,0,(V10*((LOG(V10))/LOG(2))))","v":0},null,{"$f":"N10","v":122},{"$f":"COUNTIF(L15:L22,Y10)","v":0},{"$f":"Z10/(AB4-Z14)","v":0},{"$f":"IF(AA10=0,0,(AA10*((LOG(AA10))/LOG(2))))","v":0},null,{"$f":"N10","v":122},{"$f":"COUNTIF(L23:L30,AD10)","v":1},{"$f":"AE10/(AG4-AE14)","v":1},{"$f":"IF(AF10=0,0,(AF10*((LOG(AF10))/LOG(2))))","v":0},null,{"$f":"N10","v":122},{"$f":"COUNTIF(L31:L38,AI10)","v":0},{"$f":"AJ10/(AL4-AJ14)","v":0},{"$f":"IF(AK10=0,0,(AK10*((LOG(AK10))/LOG(2))))","v":0},null,{"$f":"N10","v":122},{"$f":"COUNTIF(L39:L46,AN10)","v":0},{"$f":"AO10/(AQ4-AO14)","v":0},{"$f":"IF(AP10=0,0,(AP10*((LOG(AP10))/LOG(2))))","v":0},null,{"$f":"N10","v":122},{"$f":"COUNTIF(L47:L54,AS10)","v":0},{"$f":"AT10/(AV4-AT14)","v":0},{"$f":"IF(AU10=0,0,(AU10*((LOG(AU10))/LOG(2))))","v":0}]
[21,832,21,844,21,850,null,null,null,null,0,222,null,211,{"$f":"COUNTIF($L$7:$L$500,N11)","v":0},{"$f":"O11/$Q$4","v":0},{"$f":"IF(P11=0,0,(P11*((LOG(P11))/LOG(2))))","v":0},null,null,{"$f":"N11","v":211},{"$f":"COUNTIF(L7:L14,T11)","v":0},{"$f":"U11/(W4-U14)","v":0},{"$f":"IF(V11=0,0,(V11*((LOG(V11))/LOG(2))))","v":0},null,{"$f":"N11","v":211},{"$f":"COUNTIF(L15:L22,Y11)","v":0},{"$f":"Z11/(AB4-Z14)","v":0},{"$f":"IF(AA11=0,0,(AA11*((LOG(AA11))/LOG(2))))","v":0},null,{"$f":"N11","v":211},{"$f":"COUNTIF(L23:L30,AD11)","v":0},{"$f":"AE11/(AG4-AE14)","v":0},{"$f":"IF(AF11=0,0,(AF11*((LOG(AF11))/LOG(2))))","v":0},null,{"$f":"N11","v":211},{"$f":"COUNTIF(L31:L38,AI11)","v":0},{"$f":"AJ11/(AL4-AJ14)","v":0},{"$f":"IF(AK11=0,0,(AK11*((LOG(AK11))/LOG(2))))","v":0},null,{"$f":"N11","v":211},{"$f":"COUNTIF(L39:L46,AN11)","v":0},{"$f":"AO11/(AQ4-AO14)","v":0},{"$f":"IF(AP11=0,0,(AP11*((LOG(AP11))/LOG(2))))","v":0},null,{"$f":"N11","v":211},{"$f":"COUNTIF(L47:L54,AS11)","v":0},{"$f":"AT11/(AV4-AT14)","v":0},{"$f":"IF(AU11=0,0,(AU11*((LOG(AU11))/LOG(2))))","v":0}]
[21,939,21,947,21,954,null,null,null,null,0,222,null,212,{"$f":"COUNTIF($L$7:$L$500,N12)","v":2},{"$f":"O12/$Q$4","v":4.1666666666666664E-2},{"$f":"IF(P12=0,0,(P12*((LOG(P12))/LOG(2))))","v":-0.19104010419671485},null,null,{"$f":"N12","v":212},{"$f":"COUNTIF(L7:L14,T12)","v":0},{"$f":"U12/(W4-U14)","v":0},{"$f":"IF(V12=0,0,(V12*((LOG(V12))/LOG(2))))","v":0},null,{"$f":"N12","v":212},{"$f":"COUNTIF(L15:L22,Y12)","v":1},{"$f":"Z12/(AB4-Z14)","v":1},{"$f":"IF(AA12=0,0,(AA12*((LOG(AA12))/LOG(2))))","v":0},null,{"$f":"N12","v":212},{"$f":"COUNTIF(L23:L30,AD12)","v":0},{"$f":"AE12/(AG4-AE14)","v":0},{"$f":"IF(AF12=0,0,(AF12*((LOG(AF12))/LOG(2))))","v":0},null,{"$f":"N12","v":212},{"$f":"COUNTIF(L31:L38,AI12)","v":1},{"$f":"AJ12/(AL4-AJ14)","v":0.5},{"$f":"IF(AK12=0,0,(AK12*((LOG(AK12))/LOG(2))))","v":-0.5},null,{"$f":"N12","v":212},{"$f":"COUNTIF(L39:L46,AN12)","v":0},{"$f":"AO12/(AQ4-AO14)","v":0},{"$f":"IF(AP12=0,0,(AP12*((LOG(AP12))/LOG(2))))","v":0},null,{"$f":"N12","v":212},{"$f":"COUNTIF(L47:L54,AS12)","v":0},{"$f":"AT12/(AV4-AT14)","v":0},{"$f":"IF(AU12=0,0,(AU12*((LOG(AU12))/LOG(2))))","v":0}]
[21,1131,21,1138,21,1152,null,null,null,null,0,222,null,221,{"$f":"COUNTIF($L$7:$L$500,N13)","v":4},{"$f":"O13/$Q$4","v":8.3333333333333329E-2},{"$f":"IF(P13=0,0,(P13*((LOG(P13))/LOG(2))))","v":-0.29874687506009634},null,null,{"$f":"N13","v":221},{"$f":"COUNTIF(L7:L14,T13)","v":0},{"$f":"U13/(W4-U14)","v":0},{"$f":"IF(V13=0,0,(V13*((LOG(V13))/LOG(2))))","v":0},null,{"$f":"N13","v":221},{"$f":"COUNTIF(L15:L22,Y13)","v":0},{"$f":"Z13/(AB4-Z14)","v":0},{"$f":"IF(AA13=0,0,(AA13*((LOG(AA13))/LOG(2))))","v":0},null,{"$f":"N13","v":221},{"$f":"COUNTIF(L23:L30,AD13)","v":0},{"$f":"AE13/(AG4-AE14)","v":0},{"$f":"IF(AF13=0,0,(AF13*((LOG(AF13))/LOG(2))))","v":0},null,{"$f":"N13","v":221},{"$f":"COUNTIF(L31:L38,AI13)","v":1},{"$f":"AJ13/(AL4-AJ14)","v":0.5},{"$f":"IF(AK13=0,0,(AK13*((LOG(AK13))/LOG(2))))","v":-0.5},null,{"$f":"N13","v":221},{"$f":"COUNTIF(L39:L46,AN13)","v":2},{"$f":"AO13/(AQ4-AO14)","v":1},{"$f":"IF(AP13=0,0,(AP13*((LOG(AP13))/LOG(2))))","v":0},null,{"$f":"N13","v":221},{"$f":"COUNTIF(L47:L54,AS13)","v":1},{"$f":"AT13/(AV4-AT14)","v":0.5},{"$f":"IF(AU13=0,0,(AU13*((LOG(AU13))/LOG(2))))","v":-0.5}]
[21,1245,21,1252,21,1260,null,null,null,null,0,222,null,222,{"$f":"COUNTIF($L$7:$L$500,N14)","v":39},{"$f":"O14/$Q$4","v":0.8125},{"$f":"IF(P14=0,0,(P14*((LOG(P14))/LOG(2))))","v":-0.24339272901036266},null,null,{"$f":"N14","v":222},{"$f":"COUNTIF(L7:L14,T14)","v":7},null,null,null,{"$f":"N14","v":222},{"$f":"COUNTIF(L15:L22,Y14)","v":7},null,null,null,{"$f":"N14","v":222},{"$f":"COUNTIF(L23:L30,AD14)","v":7},null,null,null,{"$f":"N14","v":222},{"$f":"COUNTIF(L31:L38,AI14)","v":6},null,null,null,{"$f":"N14","v":222},{"$f":"COUNTIF(L39:L46,AN14)","v":6},null,null,null,{"$f":"N14","v":222},{"$f":"COUNTIF(L47:L54,AS14)","v":6}]
[21,1373,21,1386,21,1395,null,null,null,null,0,222,null,null,null,{"$f":"SUM(P7:P14)","v":1},{"$f":"-SUM(Q7:Q14)","v":1.0405731978955794},null,null,null,null,{"$f":"SUM(V7:V14)","v":1},{"$f":"-SUM(W7:W14)","v":0},null,null,null,{"$f":"SUM(AA7:AA14)","v":1},{"$f":"-SUM(AB7:AB14)","v":0},null,null,null,{"$f":"SUM(AF7:AF14)","v":1},{"$f":"-SUM(AG7:AG14)","v":0},null,null,null,{"$f":"SUM(AK7:AK14)","v":1},{"$f":"-SUM(AL7:AL14)","v":1},null,null,null,{"$f":"SUM(AP7:AP14)","v":1},{"$f":"-SUM(AQ7:AQ14)","v":0},null,null,null,{"$f":"SUM(AU7:AU14)","v":1},{"$f":"-SUM(AV7:AV14)","v":1}]
[21,1514,21,1521,21,1529,null,null,null,null,0,222,null,null,null,"U=",{"$f":"Q15/(LOG(Q4)/LOG(2))","v":0.18631695338352153},null,null,null,null,"U1=",{"$f":"W15/(LOG(W4)/LOG(2))","v":0},null,null,null,"U2=",{"$f":"AB15/(LOG(AB4)/LOG(2))","v":0},null,null,null,"U3=",{"$f":"AG15/(LOG(AG4)/LOG(2))","v":0},null,null,null,"U4=",{"$f":"AL15/(LOG(AL4)/LOG(2))","v":0.33333333333333331},null,null,null,"U5=",{"$f":"AQ15/(LOG(AQ4)/LOG(2))","v":0},null,null,null,"U6=",{"$f":"AV15/(LOG(AV4)/LOG(2))","v":0.33333333333333331}]
[21,1643,21,1649,21,1652,null,null,null,null,0,222]
[21,1768,21,1773,21,1782,null,null,null,null,0,222]
[21,1903,21,1908,21,1922,null,null,null,null,0,222,null,"Total Target Seq"]
[21,2010,21,2017,21,2023,null,null,null,null,0,222,null,{"$f":"COUNTIF(L7:L54,G3)","v":39},null,8,8,8,8,8,8]
[21,2124,21,2136,21,2142,null,null,null,null,0,222,null,null,null,"% of reinforcement given in 6 equal intervals based on number of trials "]
[21,2235,12,2239,23,2241,null,null,null,null,0,212,null,null,null,"%_1","%_2","%_3","%_4","%_5","%_6"]
[21,2347,21,2354,21,2363,null,null,null,null,0,222,null,null,"target sequence",{"$f":"$G$3","v":222},{"$f":"$G$3","v":222},{"$f":"$G$3","v":222},{"$f":"$G$3","v":222},{"$f":"$G$3","v":222},{"$f":"$G$3","v":222}]
[21,2478,21,2482,21,2486,null,null,null,null,0,222,null,null,"total reinforcement",{"$f":"U14","v":7},{"$f":"Z14","v":7},{"$f":"AE14","v":7},{"$f":"AJ14","v":6},{"$f":"AO14","v":6},{"$f":"AT14","v":6}]
[12,2606,23,2618,23,2623,null,null,null,null,0,122,null,null,"% target"]
[21,2728,21,2732,21,2739,null,null,null,null,0,222,null,null,"CCRF"]
[21,2840,21,2846,21,2856,null,null,null,null,0,222,null,null,"% CCRf"]
[21,2966,21,2970,21,2976,null,null,null,null,0,222,null,null,"average response rate",{"$f":"F14/P20","v":157.5},{"$f":"(F22-F14)/Q20","v":122.625},{"$f":"(F30-F22)/R20","v":129.75},{"$f":"(F38-F30)/S20","v":180.125},{"$f":"(F46-F38)/T20","v":141.625},{"$f":"(F54-F46)/U20","v":127.875}]
[21,3108,21,3111,21,3121,null,null,null,null,0,222]
[21,3242,21,3252,21,3279,null,null,null,null,0,222]
[21,3382,21,3385,12,3393,null,null,null,null,0,221]
[21,3797,12,3804,23,3810,null,null,null,null,0,212]
[21,3908,21,3912,21,3916,null,null,null,null,0,222]
[21,4009,21,4014,21,4019,null,null,null,null,0,222]
[21,4160,21,4163,21,4170,null,null,null,null,0,222]
[21,4381,21,4395,21,4402,null,null,null,null,0,222]
[21,4528,21,4534,21,4545,null,null,null,null,0,222]
[21,4685,21,4703,21,4720,null,null,null,null,0,222]
[21,4813,21,4819,21,4827,null,null,null,null,0,222]
[21,4975,21,4980,21,4986,null,null,null,null,0,222]
[21,5110,21,5128,21,5138,null,null,null,null,0,222]
[21,5257,21,5265,21,5274,null,null,null,null,0,222]
[21,5393,21,5415,21,5423,null,null,null,null,0,222]
[21,5559,21,5571,12,5576,null,null,null,null,0,221]
[21,5698,21,5705,21,5719,null,null,null,null,0,222]
[21,5841,21,5849,12,5853,null,null,null,null,0,221]
[21,5963,21,5969,21,5975,null,null,null,null,0,222]
[21,6099,21,6106,21,6114,null,null,null,null,0,222]
[21,6254,21,6266,21,6272,null,null,null,null,0,222]
[12,6399,14,6418,23,6426,null,null,null,null,0,112]
[21,6524,21,6527,12,6531,null,null,null,null,0,221]
[21,6624,21,6630,21,6634,null,null,null,null,0,222]
[21,6729,21,6733,21,6738,null,null,null,null,0,222]
[21,6862,21,6867,21,6876,null,null,null,null,1,222]

{"sheet":"!M913A00.Gus","index":24,"n_rows":63,"n_cols":48,"rows_kept":63,"cut":false,"hidden":false,"merged":[[4,39,4,42],[5,39,5,40],[4,44,4,47],[5,44,5,45],[4,24,4,27],[5,24,5,25],[4,29,4,32],[5,29,5,30],[4,34,4,37],[5,34,5,35],[1,1,1,2],[5,13,5,14],[18,13,18,14],[19,13,19,14],[4,19,4,22],[5,19,5,20]]}
["Report for:!M913A00.Gus"]
["Date:","<date>"]
["Hen:","<hen>",null,null,null,"Correct Sequence",{"$f":"Start!J2","v":222},null,null,null,null,null,null,null,null,"Total Sequences in Data",{"$f":"4994-COUNTBLANK(L7:L5000)","v":57},null,null,null,null,"Total Sequences in Block Data",{"$f":"COUNTA(L7:L16)","v":10},null,null,null,"Total Sequences in Block Data",{"$f":"COUNTA(L17:L25)","v":9},null,null,null,"Total Sequences in Block Data",{"$f":"COUNTA(L26:L35)","v":10},null,null,null,"Total Sequences in Block Data",{"$f":"COUNTA(L36:L44)","v":9},null,null,null,"Total Sequences in Block Data",{"$f":"COUNTA(L45:L54)","v":10},null,null,null,"Total Sequences in Block Data",{"$f":"COUNTA(L55:L63)","v":9}]
[null,null,null,null,null,null,null,null,null,null,null,null,null,null,null,"Total Sequences in Summary",{"$f":"SUM(O7:O14)","v":57},null,null,null,null,"Total Sequences in Block Summary",{"$f":"SUM(U7:U14)","v":10},null,null,null,"Total Sequences in Block Summary",{"$f":"SUM(Z7:Z14)","v":9},null,null,null,"Total Sequences in Block Summary",{"$f":"SUM(AE7:AE14)","v":10},null,null,null,"Total Sequences in Block Summary",{"$f":"SUM(AJ7:AJ14)","v":9},null,null,null,"Total Sequences in Block Summary",{"$f":"SUM(AO7:AO14)","v":10},null,null,null,"Total Sequences in Block Summary",{"$f":"SUM(AT7:AT14)","v":9}]
[null,null,null,null,null,null,null,null,null,null,null,null,null,null,null,null,null,null,null,"Block 1",null,null,null,null,"Block 2",null,null,null,null,"Block 3",null,null,null,null,"Block 4",null,null,null,null,"Block 5",null,null,null,null,"Block 6"]
["Sequence\nComponent\n1","Time\n1","Sequence\nComponent\n2","Time\n2","Sequence\nComponent\n3","Time\n3","Sequence\nComponent\n4","Time\n4","Sequence\nComponent\n5","Time\n5","Correct?\n0=No 1=Yes","Sequence",null,"Frequency",null,"Relative Frequency","Variability",null,null,"Frequency",null,"Relative Frequency","Variability",null,"Frequency",null,"Relative Frequency","Variability",null,"Frequency",null,"Relative Frequency","Variability",null,"Frequency",null,"Relative Frequency","Variability",null,"Frequency",null,"Relative Frequency","Variability",null,"Frequency",null,"Relative Frequency","Variability"]
[21,29,12,33,14,37,null,null,null,null,0,211,null,111,{"$f":"COUNTIF($L$7:$L$500,N7)","v":0},{"$f":"O7/$Q$4","v":0},{"$f":"IF(P7=0,0,(P7*((LOG(P7))/LOG(2))))","v":0},null,null,{"$f":"N7","v":111},{"$f":"COUNTIF(L7:L16,T7)","v":0},{"$f":"U7/(W4-U14)","v":0},{"$f":"IF(V7=0,0,(V7*((LOG(V7))/LOG(2))))","v":0},null,{"$f":"N7","v":111},{"$f":"COUNTIF(L17:L25,Y7)","v":0},{"$f":"Z7/(AB4-Z14)","v":0},{"$f":"IF(AA7=0,0,(AA7*((LOG(AA7))/LOG(2))))","v":0},null,{"$f":"N7","v":111},{"$f":"COUNTIF(L26:L35,AD7)","v":0},{"$f":"AE7/(AG4-AE14)","v":0},{"$f":"IF(AF7=0,0,(AF7*((LOG(AF7))/LOG(2))))","v":0},null,{"$f":"N7","v":111},{"$f":"COUNTIF(L36:L44,AI7)","v":0},{"$f":"AJ7/(AL4-AJ14)","v":0},{"$f":"IF(AK7=0,0,(AK7*((LOG(AK7))/LOG(2))))","v":0},null,{"$f":"N7","v":111},{"$f":"COUNTIF(L45:L54,AN7)","v":0},{"$f":"AO7/(AQ4-AO14)","v":0},{"$f":"IF(AP7=0,0,(AP7*((LOG(AP7))/LOG(2))))","v":0},null,{"$f":"N7","v":111},{"$f":"COUNTIF(L55:L63,AS7)","v":0},{"$f":"AT7/(AV4-AT14)","v":{"$error":"#DIV/0!"}},{"$f":"IF(AU7=0,0,(AU7*((LOG(AU7))/LOG(2))))","v":{"$error":"#DIV/0!"}}]
[21,138,21,142,21,146,null,null,null,null,0,222,null,112,{"$f":"COUNTIF($L$7:$L$500,N8)","v":0},{"$f":"O8/$Q$4","v":0},{"$f":"IF(P8=0,0,(P8*((LOG(P8))/LOG(2))))","v":0},null,null,{"$f":"N8","v":112},{"$f":"COUNTIF(L7:L16,T8)","v":0},{"$f":"U8/(W4-U14)","v":0},{"$f":"IF(V8=0,0,(V8*((LOG(V8))/LOG(2))))","v":0},null,{"$f":"N8","v":112},{"$f":"COUNTIF(L17:L25,Y8)","v":0},{"$f":"Z8/(AB4-Z14)","v":0},{"$f":"IF(AA8=0,0,(AA8*((LOG(AA8))/LOG(2))))","v":0},null,{"$f":"N8","v":112},{"$f":"COUNTIF(L26:L35,AD8)","v":0},{"$f":"AE8/(AG4-AE14)","v":0},{"$f":"IF(AF8=0,0,(AF8*((LOG(AF8))/LOG(2))))","v":0},null,{"$f":"N8","v":112},{"$f":"COUNTIF(L36:L44,AI8)","v":0},{"$f":"AJ8/(AL4-AJ14)","v":0},{"$f":"IF(AK8=0,0,(AK8*((LOG(AK8))/LOG(2))))","v":0},null,{"$f":"N8","v":112},{"$f":"COUNTIF(L45:L54,AN8)","v":0},{"$f":"AO8/(AQ4-AO14)","v":0},{"$f":"IF(AP8=0,0,(AP8*((LOG(AP8))/LOG(2))))","v":0},null,{"$f":"N8","v":112},{"$f":"COUNTIF(L55:L63,AS8)","v":0},{"$f":"AT8/(AV4-AT14)","v":{"$error":"#DIV/0!"}},{"$f":"IF(AU8=0,0,(AU8*((LOG(AU8))/LOG(2))))","v":{"$error":"#DIV/0!"}}]
[21,249,21,256,21,264,null,null,null,null,0,222,null,121,{"$f":"COUNTIF($L$7:$L$500,N9)","v":0},{"$f":"O9/$Q$4","v":0},{"$f":"IF(P9=0,0,(P9*((LOG(P9))/LOG(2))))","v":0},null,null,{"$f":"N9","v":121},{"$f":"COUNTIF(L7:L16,T9)","v":0},{"$f":"U9/(W4-U14)","v":0},{"$f":"IF(V9=0,0,(V9*((LOG(V9))/LOG(2))))","v":0},null,{"$f":"N9","v":121},{"$f":"COUNTIF(L17:L25,Y9)","v":0},{"$f":"Z9/(AB4-Z14)","v":0},{"$f":"IF(AA9=0,0,(AA9*((LOG(AA9))/LOG(2))))","v":0},null,{"$f":"N9","v":121},{"$f":"COUNTIF(L26:L35,AD9)","v":0},{"$f":"AE9/(AG4-AE14)","v":0},{"$f":"IF(AF9=0,0,(AF9*((LOG(AF9))/LOG(2))))","v":0},null,{"$f":"N9","v":121},{"$f":"COUNTIF(L36:L44,AI9)","v":0},{"$f":"AJ9/(AL4-AJ14)","v":0},{"$f":"IF(AK9=0,0,(AK9*((LOG(AK9))/LOG(2))))","v":0},null,{"$f":"N9","v":121},{"$f":"COUNTIF(L45:L54,AN9)","v":0},{"$f":"AO9/(AQ4-AO14)","v":0},{"$f":"IF(AP9=0,0,(AP9*((LOG(AP9))/LOG(2))))","v":0},null,{"$f":"N9","v":121},{"$f":"COUNTIF(L55:L63,AS9)","v":0},{"$f":"AT9/(AV4-AT14)","v":{"$error":"#DIV/0!"}},{"$f":"IF(AU9=0,0,(AU9*((LOG(AU9))/LOG(2))))","v":{"$error":"#DIV/0!"}}]
[21,358,21,366,21,375,null,null,null,null,0,222,null,122,{"$f":"COUNTIF($L$7:$L$500,N10)","v":7},{"$f":"O10/$Q$4","v":0.12280701754385964},{"$f":"IF(P10=0,0,(P10*((LOG(P10))/LOG(2))))","v":-0.37155694113596421},null,null,{"$f":"N10","v":122},{"$f":"COUNTIF(L7:L16,T10)","v":1},{"$f":"U10/(W4-U14)","v":0.5},{"$f":"IF(V10=0,0,(V10*((LOG(V10))/LOG(2))))","v":-0.5},null,{"$f":"N10","v":122},{"$f":"COUNTIF(L17:L25,Y10)","v":0},{"$f":"Z10/(AB4-Z14)","v":0},{"$f":"IF(AA10=0,0,(AA10*((LOG(AA10))/LOG(2))))","v":0},null,{"$f":"N10","v":122},{"$f":"COUNTIF(L26:L35,AD10)","v":1},{"$f":"AE10/(AG4-AE14)","v":0.2},{"$f":"IF(AF10=0,0,(AF10*((LOG(AF10))/LOG(2))))","v":-0.46438561897747244},null,{"$f":"N10","v":122},{"$f":"COUNTIF(L36:L44,AI10)","v":1},{"$f":"AJ10/(AL4-AJ14)","v":0.25},{"$f":"IF(AK10=0,0,(AK10*((LOG(AK10))/LOG(2))))","v":-0.5},null,{"$f":"N10","v":122},{"$f":"COUNTIF(L45:L54,AN10)","v":4},{"$f":"AO10/(AQ4-AO14)","v":0.8},{"$f":"IF(AP10=0,0,(AP10*((LOG(AP10))/LOG(2))))","v":-0.25754247590988982},null,{"$f":"N10","v":122},{"$f":"COUNTIF(L55:L63,AS10)","v":0},{"$f":"AT10/(AV4-AT14)","v":{"$error":"#DIV/0!"}},{"$f":"IF(AU10=0,0,(AU10*((LOG(AU10))/LOG(2))))","v":{"$error":"#DIV/0!"}}]
[21,470,21,474,21,480,null,null,null,null,0,222,null,211,{"$f":"COUNTIF($L$7:$L$500,N11)","v":1},{"$f":"O11/$Q$4","v":1.7543859649122806E-2},{"$f":"IF(P11=0,0,(P11*((LOG(P11))/LOG(2))))","v":-0.10233140375727617},null,null,{"$f":"N11","v":211},{"$f":"COUNTIF(L7:L16,T11)","v":1},{"$f":"U11/(W4-U14)","v":0.5},{"$f":"IF(V11=0,0,(V11*((LOG(V11))/LOG(2))))","v":-0.5},null,{"$f":"N11","v":211},{"$f":"COUNTIF(L17:L25,Y11)","v":0},{"$f":"Z11/(AB4-Z14)","v":0},{"$f":"IF(AA11=0,0,(AA11*((LOG(AA11))/LOG(2))))","v":0},null,{"$f":"N11","v":211},{"$f":"COUNTIF(L26:L35,AD11)","v":0},{"$f":"AE11/(AG4-AE14)","v":0},{"$f":"IF(AF11=0,0,(AF11*((LOG(AF11))/LOG(2))))","v":0},null,{"$f":"N11","v":211},{"$f":"COUNTIF(L36:L44,AI11)","v":0},{"$f":"AJ11/(AL4-AJ14)","v":0},{"$f":"IF(AK11=0,0,(AK11*((LOG(AK11))/LOG(2))))","v":0},null,{"$f":"N11","v":211},{"$f":"COUNTIF(L45:L54,AN11)","v":0},{"$f":"AO11/(AQ4-AO14)","v":0},{"$f":"IF(AP11=0,0,(AP11*((LOG(AP11))/LOG(2))))","v":0},null,{"$f":"N11","v":211},{"$f":"COUNTIF(L55:L63,AS11)","v":0},{"$f":"AT11/(AV4-AT14)","v":{"$error":"#DIV/0!"}},{"$f":"IF(AU11=0,0,(AU11*((LOG(AU11))/LOG(2))))","v":{"$error":"#DIV/0!"}}]
[21,595,21,600,21,610,null,null,null,null,0,222,null,212,{"$f":"COUNTIF($L$7:$L$500,N12)","v":3},{"$f":"O12/$Q$4","v":5.2631578947368418E-2},{"$f":"IF(P12=0,0,(P12*((LOG(P12))/LOG(2))))","v":-0.22357513228650452},null,null,{"$f":"N12","v":212},{"$f":"COUNTIF(L7:L16,T12)","v":0},{"$f":"U12/(W4-U14)","v":0},{"$f":"IF(V12=0,0,(V12*((LOG(V12))/LOG(2))))","v":0},null,{"$f":"N12","v":212},{"$f":"COUNTIF(L17:L25,Y12)","v":0},{"$f":"Z12/(AB4-Z14)","v":0},{"$f":"IF(AA12=0,0,(AA12*((LOG(AA12))/LOG(2))))","v":0},null,{"$f":"N12","v":212},{"$f":"COUNTIF(L26:L35,AD12)","v":1},{"$f":"AE12/(AG4-AE14)","v":0.2},{"$f":"IF(AF12=0,0,(AF12*((LOG(AF12))/LOG(2))))","v":-0.46438561897747244},null,{"$f":"N12","v":212},{"$f":"COUNTIF(L36:L44,AI12)","v":1},{"$f":"AJ12/(AL4-AJ14)","v":0.25},{"$f":"IF(AK12=0,0,(AK12*((LOG(AK12))/LOG(2))))","v":-0.5},null,{"$f":"N12","v":212},{"$f":"COUNTIF(L45:L54,AN12)","v":1},{"$f":"AO12/(AQ4-AO14)","v":0.2},{"$f":"IF(AP12=0,0,(AP12*((LOG(AP12))/LOG(2))))","v":-0.46438561897747244},null,{"$f":"N12","v":212},{"$f":"COUNTIF(L55:L63,AS12)","v":0},{"$f":"AT12/(AV4-AT14)","v":{"$error":"#DIV/0!"}},{"$f":"IF(AU12=0,0,(AU12*((LOG(AU12))/LOG(2))))","v":{"$error":"#DIV/0!"}}]
[21,730,21,735,21,739,null,null,null,null,0,222,null,221,{"$f":"COUNTIF($L$7:$L$500,N13)","v":7},{"$f":"O13/$Q$4","v":0.12280701754385964},{"$f":"IF(P13=0,0,(P13*((LOG(P13))/LOG(2))))","v":-0.37155694113596421},null,null,{"$f":"N13","v":221},{"$f":"COUNTIF(L7:L16,T13)","v":0},{"$f":"U13/(W4-U14)","v":0},{"$f":"IF(V13=0,0,(V13*((LOG(V13))/LOG(2))))","v":0},null,{"$f":"N13","v":221},{"$f":"COUNTIF(L17:L25,Y13)","v":2},{"$f":"Z13/(AB4-Z14)","v":1},{"$f":"IF(AA13=0,0,(AA13*((LOG(AA13))/LOG(2))))","v":0},null,{"$f":"N13","v":221},{"$f":"COUNTIF(L26:L35,AD13)","v":3},{"$f":"AE13/(AG4-AE14)","v":0.6},{"$f":"IF(AF13=0,0,(AF13*((LOG(AF13))/LOG(2))))","v":-0.44217935649972373},null,{"$f":"N13","v":221},{"$f":"COUNTIF(L36:L44,AI13)","v":2},{"$f":"AJ13/(AL4-AJ14)","v":0.5},{"$f":"IF(AK13=0,0,(AK13*((LOG(AK13))/LOG(2))))","v":-0.5},null,{"$f":"N13","v":221},{"$f":"COUNTIF(L45:L54,AN13)","v":0},{"$f":"AO13/(AQ4-AO14)","v":0},{"$f":"IF(AP13=0,0,(AP13*((LOG(AP13))/LOG(2))))","v":0},null,{"$f":"N13","v":221},{"$f":"COUNTIF(L55:L63,AS13)","v":0},{"$f":"AT13/(AV4-AT14)","v":{"$error":"#DIV/0!"}},{"$f":"IF(AU13=0,0,(AU13*((LOG(AU13))/LOG(2))))","v":{"$error":"#DIV/0!"}}]
[21,856,21,860,21,867,null,null,null,null,0,222,null,222,{"$f":"COUNTIF($L$7:$L$500,N14)","v":39},{"$f":"O14/$Q$4","v":0.68421052631578949},{"$f":"IF(P14=0,0,(P14*((LOG(P14))/LOG(2))))","v":-0.37459691257539013},null,null,{"$f":"N14","v":222},{"$f":"COUNTIF(L7:L16,T14)","v":8},null,null,null,{"$f":"N14","v":222},{"$f":"COUNTIF(L17:L25,Y14)","v":7},null,null,null,{"$f":"N14","v":222},{"$f":"COUNTIF(L26:L35,AD14)","v":5},null,null,null,{"$f":"N14","v":222},{"$f":"COUNTIF(L36:L44,AI14)","v":5},null,null,null,{"$f":"N14","v":222},{"$f":"COUNTIF(L45:L54,AN14)","v":5},null,null,null,{"$f":"N14","v":222},{"$f":"COUNTIF(L55:L63,AS14)","v":9}]
[12,1047,23,1054,23,1057,null,null,null,null,0,122,null,null,null,{"$f":"SUM(P7:P14)","v":1},{"$f":"-SUM(Q7:Q14)","v":1.4436173308910991},null,null,null,null,{"$f":"SUM(V7:V14)","v":1},{"$f":"-SUM(W7:W14)","v":1},null,null,null,{"$f":"SUM(AA7:AA14)","v":1},{"$f":"-SUM(AB7:AB14)","v":0},null,null,null,{"$f":"SUM(AF7:AF14)","v":1},{"$f":"-SUM(AG7:AG14)","v":1.3709505944546687},null,null,null,{"$f":"SUM(AK7:AK14)","v":1},{"$f":"-SUM(AL7:AL14)","v":1.5},null,null,null,{"$f":"SUM(AP7:AP14)","v":1},{"$f":"-SUM(AQ7:AQ14)","v":0.72192809488736231},null,null,null,{"$f":"SUM(AU7:AU14)","v":{"$error":"#DIV/0!"}},{"$f":"-SUM(AV7:AV14)","v":{"$error":"#DIV/0!"}}]
[21,1164,21,1170,21,1175,null,null,null,null,0,222,null,null,null,"U=",{"$f":"Q15/(LOG(Q4)/LOG(2))","v":0.24749606582421083},null,null,null,null,"U1=",{"$f":"W15/(LOG(W4)/LOG(2))","v":0.3010299956639812},null,null,null,"U2=",{"$f":"AB15/(LOG(AB4)/LOG(2))","v":0},null,null,null,"U3=",{"$f":"AG15/(LOG(AG4)/LOG(2))","v":0.41269725150422137},null,null,null,"U4=",{"$f":"AL15/(LOG(AL4)/LOG(2))","v":0.47319731517859309},null,null,null,"U5=",{"$f":"AQ15/(LOG(AQ4)/LOG(2))","v":0.21732201127364889},null,null,null,"U6=",{"$f":"AV15/(LOG(AV4)/LOG(2))","v":{"$error":"#DIV/0!"}}]
[21,1267,21,1282,21,1290,null,null,null,null,0,222]
[21,1388,21,1391,21,1399,null,null,null,null,0,222]
[21,1496,21,1508,21,1517,null,null,null,null,0,222,null,"Total Target Seq"]
[21,1610,21,1618,21,1626,null,null,null,null,0,222,null,{"$f":"COUNTIF(L7:L63,G3)","v":39},null,10,9,10,9,10,9]
[21,1740,21,1747,12,1755,null,null,null,null,0,221,null,null,null,"% of reinforcement given in 6 equal intervals based on number of trials "]
[21,1850,21,1855,21,1861,null,null,null,null,0,222,null,null,null,"%_1","%_2","%_3","%_4","%_5","%_6"]
[21,1948,21,1955,21,1963,null,null,null,null,0,222,null,null,"target sequence",{"$f":"$G$3","v":222},{"$f":"$G$3","v":222},{"$f":"$G$3","v":222},{"$f":"$G$3","v":222},{"$f":"$G$3","v":222},{"$f":"$G$3","v":222}]
[21,2071,21,2080,12,2084,null,null,null,null,0,221,null,null,"total reinforcement",{"$f":"U14","v":8},{"$f":"Z14","v":7},{"$f":"AE14","v":5},{"$f":"AJ14","v":5},{"$f":"AO14","v":5},{"$f":"AT14","v":9}]
[21,2176,21,2181,21,2188,null,null,null,null,0,222,null,null,"% target"]
[21,2283,21,2291,21,2299,null,null,null,null,0,222,null,null,"CCRF"]
[21,2390,21,2396,21,2402,null,null,null,null,0,222,null,null,"% CCRf"]
[12,2538,23,2548,23,2555,null,null,null,null,0,122,null,null,"average response rate",{"$f":"F16/P20","v":117.5},{"$f":"(F25-F16)/Q20","v":112.55555555555556},{"$f":"(F35-F25)/R20","v":115.9},{"$f":"(F44-F35)/S20","v":127.44444444444444},{"$f":"(F54-F44)/T20","v":145},{"$f":"(F63-F54)/U20","v":154.22222222222223}]
[21,2653,21,2657,21,2662,null,null,null,null,0,222]
[21,2749,21,2755,12,2764,null,null,null,null,0,221]
[21,2860,21,2871,12,2874,null,null,null,null,0,221]
[21,2971,21,2976,21,2983,null,null,null,null,0,222]
[21,3093,21,3103,12,3112,null,null,null,null,0,221]
[21,3228,12,3230,23,3235,null,null,null,null,0,212]
[21,3337,21,3341,21,3347,null,null,null,null,0,222]
[21,3464,21,3469,21,3474,null,null,null,null,0,222]
[21,3580,21,3598,12,3604,null,null,null,null,0,221]
[21,3703,21,3711,21,3716,null,null,null,null,0,222]
[21,3808,21,3820,21,3833,null,null,null,null,0,222]
[21,3941,21,3952,12,3956,null,null,null,null,0,221]
[21,4055,21,4066,21,4072,null,null,null,null,0,222]
[21,4195,12,4207,23,4211,null,null,null,null,0,212]
[21,4380,21,4388,21,4393,null,null,null,null,0,222]
[12,4484,23,4487,23,4494,null,null,null,null,0,122]
[21,4586,21,4592,21,4598,null,null,null,null,0,222]
[21,4748,21,4755,21,4762,null,null,null,null,0,222]
[12,4930,23,4942,23,4958,null,null,null,null,0,122]
[12,5069,23,5087,23,5094,null,null,null,null,0,122]
[21,5190,21,5196,21,5203,null,null,null,null,0,222]
[21,5293,12,5304,23,5307,null,null,null,null,0,212]
[21,5428,21,5433,21,5439,null,null,null,null,0,222]
[12,5611,23,5632,23,5641,null,null,null,null,0,122]
[21,5741,21,5744,21,5750,null,null,null,null,0,222]
[12,5923,23,5935,23,5944,null,null,null,null,0,122]
[21,6051,21,6057,21,6063,null,null,null,null,0,222]
[21,6214,21,6233,21,6241,null,null,null,null,0,222]
[21,6376,21,6387,21,6394,null,null,null,null,0,222]
[21,6502,21,6507,21,6515,null,null,null,null,0,222]
[21,6700,21,6716,21,6724,null,null,null,null,0,222]
[21,6862,21,6868,21,6875,null,null,null,null,0,222]
[21,7035,21,7043,21,7080,null,null,null,null,0,222]
[21,7180,21,7203,21,7210,null,null,null,null,0,222]
[21,7306,21,7325,21,7332,null,null,null,null,1,222]

{"sheet":"!M914B30.Gus","index":25,"n_rows":47,"n_cols":48,"rows_kept":47,"cut":false,"hidden":false,"merged":[[4,39,4,42],[5,39,5,40],[4,44,4,47],[5,44,5,45],[4,24,4,27],[5,24,5,25],[4,29,4,32],[5,29,5,30],[4,34,4,37],[5,34,5,35],[1,1,1,2],[5,13,5,14],[18,13,18,14],[19,13,19,14],[4,19,4,22],[5,19,5,20]]}
["Report for:!M914B30.Gus"]
["Date:","<date>"]
["Hen:","<hen>",null,null,null,"Correct Sequence",{"$f":"Start!J2","v":222},null,null,null,null,null,null,null,null,"Total Sequences in Data",{"$f":"4994-COUNTBLANK(L7:L5000)","v":41},null,null,null,null,"Total Sequences in Block Data",{"$f":"COUNTA(L7:L13)","v":7},null,null,null,"Total Sequences in Block Data",{"$f":"COUNTA(L14:L20)","v":7},null,null,null,"Total Sequences in Block Data",{"$f":"COUNTA(L21:L26)","v":6},null,null,null,"Total Sequences in Block Data",{"$f":"COUNTA(L27:L33)","v":7},null,null,null,"Total Sequences in Block Data",{"$f":"COUNTA(L34:L40)","v":7},null,null,null,"Total Sequences in Block Data",{"$f":"COUNTA(L41:L47)","v":7}]
[null,null,null,null,null,null,null,null,null,null,null,null,null,null,null,"Total Sequences in Summary",{"$f":"SUM(O7:O14)","v":41},null,null,null,null,"Total Sequences in Block Summary",{"$f":"SUM(U7:U14)","v":7},null,null,null,"Total Sequences in Block Summary",{"$f":"SUM(Z7:Z14)","v":7},null,null,null,"Total Sequences in Block Summary",{"$f":"SUM(AE7:AE14)","v":6},null,null,null,"Total Sequences in Block Summary",{"$f":"SUM(AJ7:AJ14)","v":7},null,null,null,"Total Sequences in Block Summary",{"$f":"SUM(AO7:AO14)","v":7},null,null,null,"Total Sequences in Block Summary",{"$f":"SUM(AT7:AT14)","v":7}]
[null,null,null,null,null,null,null,null,null,null,null,null,null,null,null,null,null,null,null,"Block 1",null,null,null,null,"Block 2",null,null,null,null,"Block 3",null,null,null,null,"Block 4",null,null,null,null,"Block 5",null,null,null,null,"Block 6"]
["Sequence\nComponent\n1","Time\n1","Sequence\nComponent\n2","Time\n2","Sequence\nComponent\n3","Time\n3","Sequence\nComponent\n4","Time\n4","Sequence\nComponent\n5","Time\n5","Correct?\n0=No 1=Yes","Sequence",null,"Frequency",null,"Relative Frequency","Variability",null,null,"Frequency",null,"Relative Frequency","Variability",null,"Frequency",null,"Relative Frequency","Variability",null,"Frequency",null,"Relative Frequency","Variability",null,"Frequency",null,"Relative Frequency","Variability",null,"Frequency",null,"Relative Frequency","Variability",null,"Frequency",null,"Relative Frequency","Variability"]
[21,10,21,14,21,31,null,null,null,null,0,222,null,111,{"$f":"COUNTIF($L$7:$L$500,N7)","v":0},{"$f":"O7/$Q$4","v":0},{"$f":"IF(P7=0,0,(P7*((LOG(P7))/LOG(2))))","v":0},null,null,{"$f":"N7","v":111},{"$f":"COUNTIF(L7:L13,T7)","v":0},{"$f":"U7/(W4-U14)","v":0},{"$f":"IF(V7=0,0,(V7*((LOG(V7))/LOG(2))))","v":0},null,{"$f":"N7","v":111},{"$f":"COUNTIF(L14:L20,Y7)","v":0},{"$f":"Z7/(AB4-Z14)","v":{"$error":"#DIV/0!"}},{"$f":"IF(AA7=0,0,(AA7*((LOG(AA7))/LOG(2))))","v":{"$error":"#DIV/0!"}},null,{"$f":"N7","v":111},{"$f":"COUNTIF(L21:L26,AD7)","v":0},{"$f":"AE7/(AG4-AE14)","v":{"$error":"#DIV/0!"}},{"$f":"IF(AF7=0,0,(AF7*((LOG(AF7))/LOG(2))))","v":{"$error":"#DIV/0!"}},null,{"$f":"N7","v":111},{"$f":"COUNTIF(L27:L33,AI7)","v":0},{"$f":"AJ7/(AL4-AJ14)","v":{"$error":"#DIV/0!"}},{"$f":"IF(AK7=0,0,(AK7*((LOG(AK7))/LOG(2))))","v":{"$error":"#DIV/0!"}},null,{"$f":"N7","v":111},{"$f":"COUNTIF(L34:L40,AN7)","v":0},{"$f":"AO7/(AQ4-AO14)","v":0},{"$f":"IF(AP7=0,0,(AP7*((LOG(AP7))/LOG(2))))","v":0},null,{"$f":"N7","v":111},{"$f":"COUNTIF(L41:L47,AS7)","v":0},{"$f":"AT7/(AV4-AT14)","v":{"$error":"#DIV/0!"}},{"$f":"IF(AU7=0,0,(AU7*((LOG(AU7))/LOG(2))))","v":{"$error":"#DIV/0!"}}]
[21,125,21,138,21,145,null,null,null,null,0,222,null,112,{"$f":"COUNTIF($L$7:$L$500,N8)","v":0},{"$f":"O8/$Q$4","v":0},{"$f":"IF(P8=0,0,(P8*((LOG(P8))/LOG(2))))","v":0},null,null,{"$f":"N8","v":112},{"$f":"COUNTIF(L7:L13,T8)","v":0},{"$f":"U8/(W4-U14)","v":0},{"$f":"IF(V8=0,0,(V8*((LOG(V8))/LOG(2))))","v":0},null,{"$f":"N8","v":112},{"$f":"COUNTIF(L14:L20,Y8)","v":0},{"$f":"Z8/(AB4-Z14)","v":{"$error":"#DIV/0!"}},{"$f":"IF(AA8=0,0,(AA8*((LOG(AA8))/LOG(2))))","v":{"$error":"#DIV/0!"}},null,{"$f":"N8","v":112},{"$f":"COUNTIF(L21:L26,AD8)","v":0},{"$f":"AE8/(AG4-AE14)","v":{"$error":"#DIV/0!"}},{"$f":"IF(AF8=0,0,(AF8*((LOG(AF8))/LOG(2))))","v":{"$error":"#DIV/0!"}},null,{"$f":"N8","v":112},{"$f":"COUNTIF(L27:L33,AI8)","v":0},{"$f":"AJ8/(AL4-AJ14)","v":{"$error":"#DIV/0!"}},{"$f":"IF(AK8=0,0,(AK8*((LOG(AK8))/LOG(2))))","v":{"$error":"#DIV/0!"}},null,{"$f":"N8","v":112},{"$f":"COUNTIF(L34:L40,AN8)","v":0},{"$f":"AO8/(AQ4-AO14)","v":0},{"$f":"IF(AP8=0,0,(AP8*((LOG(AP8))/LOG(2))))","v":0},null,{"$f":"N8","v":112},{"$f":"COUNTIF(L41:L47,AS8)","v":0},{"$f":"AT8/(AV4-AT14)","v":{"$error":"#DIV/0!"}},{"$f":"IF(AU8=0,0,(AU8*((LOG(AU8))/LOG(2))))","v":{"$error":"#DIV/0!"}}]
[21,241,21,256,12,260,null,null,null,null,0,221,null,121,{"$f":"COUNTIF($L$7:$L$500,N9)","v":0},{"$f":"O9/$Q$4","v":0},{"$f":"IF(P9=0,0,(P9*((LOG(P9))/LOG(2))))","v":0},null,null,{"$f":"N9","v":121},{"$f":"COUNTIF(L7:L13,T9)","v":0},{"$f":"U9/(W4-U14)","v":0},{"$f":"IF(V9=0,0,(V9*((LOG(V9))/LOG(2))))","v":0},null,{"$f":"N9","v":121},{"$f":"COUNTIF(L14:L20,Y9)","v":0},{"$f":"Z9/(AB4-Z14)","v":{"$error":"#DIV/0!"}},{"$f":"IF(AA9=0,0,(AA9*((LOG(AA9))/LOG(2))))","v":{"$error":"#DIV/0!"}},null,{"$f":"N9","v":121},{"$f":"COUNTIF(L21:L26,AD9)","v":0},{"$f":"AE9/(AG4-AE14)","v":{"$error":"#DIV/0!"}},{"$f":"IF(AF9=0,0,(AF9*((LOG(AF9))/LOG(2))))","v":{"$error":"#DIV/0!"}},null,{"$f":"N9","v":121},{"$f":"COUNTIF(L27:L33,AI9)","v":0},{"$f":"AJ9/(AL4-AJ14)","v":{"$error":"#DIV/0!"}},{"$f":"IF(AK9=0,0,(AK9*((LOG(AK9))/LOG(2))))","v":{"$error":"#DIV/0!"}},null,{"$f":"N9","v":121},{"$f":"COUNTIF(L34:L40,AN9)","v":0},{"$f":"AO9/(AQ4-AO14)","v":0},{"$f":"IF(AP9=0,0,(AP9*((LOG(AP9))/LOG(2))))","v":0},null,{"$f":"N9","v":121},{"$f":"COUNTIF(L41:L47,AS9)","v":0},{"$f":"AT9/(AV4-AT14)","v":{"$error":"#DIV/0!"}},{"$f":"IF(AU9=0,0,(AU9*((LOG(AU9))/LOG(2))))","v":{"$error":"#DIV/0!"}}]
[21,360,21,364,21,367,null,null,null,null,0,222,null,122,{"$f":"COUNTIF($L$7:$L$500,N10)","v":1},{"$f":"O10/$Q$4","v":2.4390243902439025E-2},{"$f":"IF(P10=0,0,(P10*((LOG(P10))/LOG(2))))","v":-0.13067200011263619},null,null,{"$f":"N10","v":122},{"$f":"COUNTIF(L7:L13,T10)","v":0},{"$f":"U10/(W4-U14)","v":0},{"$f":"IF(V10=0,0,(V10*((LOG(V10))/LOG(2))))","v":0},null,{"$f":"N10","v":122},{"$f":"COUNTIF(L14:L20,Y10)","v":0},{"$f":"Z10/(AB4-Z14)","v":{"$error":"#DIV/0!"}},{"$f":"IF(AA10=0,0,(AA10*((LOG(AA10))/LOG(2))))","v":{"$error":"#DIV/0!"}},null,{"$f":"N10","v":122},{"$f":"COUNTIF(L21:L26,AD10)","v":0},{"$f":"AE10/(AG4-AE14)","v":{"$error":"#DIV/0!"}},{"$f":"IF(AF10=0,0,(AF10*((LOG(AF10))/LOG(2))))","v":{"$error":"#DIV/0!"}},null,{"$f":"N10","v":122},{"$f":"COUNTIF(L27:L33,AI10)","v":0},{"$f":"AJ10/(AL4-AJ14)","v":{"$error":"#DIV/0!"}},{"$f":"IF(AK10=0,0,(AK10*((LOG(AK10))/LOG(2))))","v":{"$error":"#DIV/0!"}},null,{"$f":"N10","v":122},{"$f":"COUNTIF(L34:L40,AN10)","v":1},{"$f":"AO10/(AQ4-AO14)","v":1},{"$f":"IF(AP10=0,0,(AP10*((LOG(AP10))/LOG(2))))","v":0},null,{"$f":"N10","v":122},{"$f":"COUNTIF(L41:L47,AS10)","v":0},{"$f":"AT10/(AV4-AT14)","v":{"$error":"#DIV/0!"}},{"$f":"IF(AU10=0,0,(AU10*((LOG(AU10))/LOG(2))))","v":{"$error":"#DIV/0!"}}]
[21,457,21,463,21,468,null,null,null,null,0,222,null,211,{"$f":"COUNTIF($L$7:$L$500,N11)","v":0},{"$f":"O11/$Q$4","v":0},{"$f":"IF(P11=0,0,(P11*((LOG(P11))/LOG(2))))","v":0},null,null,{"$f":"N11","v":211},{"$f":"COUNTIF(L7:L13,T11)","v":0},{"$f":"U11/(W4-U14)","v":0},{"$f":"IF(V11=0,0,(V11*((LOG(V11))/LOG(2))))","v":0},null,{"$f":"N11","v":211},{"$f":"COUNTIF(L14:L20,Y11)","v":0},{"$f":"Z11/(AB4-Z14)","v":{"$error":"#DIV/0!"}},{"$f":"IF(AA11=0,0,(AA11*((LOG(AA11))/LOG(2))))","v":{"$error":"#DIV/0!"}},null,{"$f":"N11","v":211},{"$f":"COUNTIF(L21:L26,AD11)","v":0},{"$f":"AE11/(AG4-AE14)","v":{"$error":"#DIV/0!"}},{"$f":"IF(AF11=0,0,(AF11*((LOG(AF11))/LOG(2))))","v":{"$error":"#DIV/0!"}},null,{"$f":"N11","v":211},{"$f":"COUNTIF(L27:L33,AI11)","v":0},{"$f":"AJ11/(AL4-AJ14)","v":{"$error":"#DIV/0!"}},{"$f":"IF(AK11=0,0,(AK11*((LOG(AK11))/LOG(2))))","v":{"$error":"#DIV/0!"}},null,{"$f":"N11","v":211},{"$f":"COUNTIF(L34:L40,AN11)","v":0},{"$f":"AO11/(AQ4-AO14)","v":0},{"$f":"IF(AP11=0,0,(AP11*((LOG(AP11))/LOG(2))))","v":0},null,{"$f":"N11","v":211},{"$f":"COUNTIF(L41:L47,AS11)","v":0},{"$f":"AT11/(AV4-AT14)","v":{"$error":"#DIV/0!"}},{"$f":"IF(AU11=0,0,(AU11*((LOG(AU11))/LOG(2))))","v":{"$error":"#DIV/0!"}}]
[21,575,21,580,21,585,null,null,null,null,0,222,null,212,{"$f":"COUNTIF($L$7:$L$500,N12)","v":0},{"$f":"O12/$Q$4","v":0},{"$f":"IF(P12=0,0,(P12*((LOG(P12))/LOG(2))))","v":0},null,null,{"$f":"N12","v":212},{"$f":"COUNTIF(L7:L13,T12)","v":0},{"$f":"U12/(W4-U14)","v":0},{"$f":"IF(V12=0,0,(V12*((LOG(V12))/LOG(2))))","v":0},null,{"$f":"N12","v":212},{"$f":"COUNTIF(L14:L20,Y12)","v":0},{"$f":"Z12/(AB4-Z14)","v":{"$error":"#DIV/0!"}},{"$f":"IF(AA12=0,0,(AA12*((LOG(AA12))/LOG(2))))","v":{"$error":"#DIV/0!"}},null,{"$f":"N12","v":212},{"$f":"COUNTIF(L21:L26,AD12)","v":0},{"$f":"AE12/(AG4-AE14)","v":{"$error":"#DIV/0!"}},{"$f":"IF(AF12=0,0,(AF12*((LOG(AF12))/LOG(2))))","v":{"$error":"#DIV/0!"}},null,{"$f":"N12","v":212},{"$f":"COUNTIF(L27:L33,AI12)","v":0},{"$f":"AJ12/(AL4-AJ14)","v":{"$error":"#DIV/0!"}},{"$f":"IF(AK12=0,0,(AK12*((LOG(AK12))/LOG(2))))","v":{"$error":"#DIV/0!"}},null,{"$f":"N12","v":212},{"$f":"COUNTIF(L34:L40,AN12)","v":0},{"$f":"AO12/(AQ4-AO14)","v":0},{"$f":"IF(AP12=0,0,(AP12*((LOG(AP12))/LOG(2))))","v":0},null,{"$f":"N12","v":212},{"$f":"COUNTIF(L41:L47,AS12)","v":0},{"$f":"AT12/(AV4-AT14)","v":{"$error":"#DIV/0!"}},{"$f":"IF(AU12=0,0,(AU12*((LOG(AU12))/LOG(2))))","v":{"$error":"#DIV/0!"}}]
[21,675,21,678,21,705,null,null,null,null,0,222,null,221,{"$f":"COUNTIF($L$7:$L$500,N13)","v":1},{"$f":"O13/$Q$4","v":2.4390243902439025E-2},{"$f":"IF(P13=0,0,(P13*((LOG(P13))/LOG(2))))","v":-0.13067200011263619},null,null,{"$f":"N13","v":221},{"$f":"COUNTIF(L7:L13,T13)","v":1},{"$f":"U13/(W4-U14)","v":1},{"$f":"IF(V13=0,0,(V13*((LOG(V13))/LOG(2))))","v":0},null,{"$f":"N13","v":221},{"$f":"COUNTIF(L14:L20,Y13)","v":0},{"$f":"Z13/(AB4-Z14)","v":{"$error":"#DIV/0!"}},{"$f":"IF(AA13=0,0,(AA13*((LOG(AA13))/LOG(2))))","v":{"$error":"#DIV/0!"}},null,{"$f":"N13","v":221},{"$f":"COUNTIF(L21:L26,AD13)","v":0},{"$f":"AE13/(AG4-AE14)","v":{"$error":"#DIV/0!"}},{"$f":"IF(AF13=0,0,(AF13*((LOG(AF13))/LOG(2))))","v":{"$error":"#DIV/0!"}},null,{"$f":"N13","v":221},{"$f":"COUNTIF(L27:L33,AI13)","v":0},{"$f":"AJ13/(AL4-AJ14)","v":{"$error":"#DIV/0!"}},{"$f":"IF(AK13=0,0,(AK13*((LOG(AK13))/LOG(2))))","v":{"$error":"#DIV/0!"}},null,{"$f":"N13","v":221},{"$f":"COUNTIF(L34:L40,AN13)","v":0},{"$f":"AO13/(AQ4-AO14)","v":0},{"$f":"IF(AP13=0,0,(AP13*((LOG(AP13))/LOG(2))))","v":0},null,{"$f":"N13","v":221},{"$f":"COUNTIF(L41:L47,AS13)","v":0},{"$f":"AT13/(AV4-AT14)","v":{"$error":"#DIV/0!"}},{"$f":"IF(AU13=0,0,(AU13*((LOG(AU13))/LOG(2))))","v":{"$error":"#DIV/0!"}}]
[21,805,21,819,21,826,null,null,null,null,0,222,null,222,{"$f":"COUNTIF($L$7:$L$500,N14)","v":39},{"$f":"O14/$Q$4","v":0.95121951219512191},{"$f":"IF(P14=0,0,(P14*((LOG(P14))/LOG(2))))","v":-6.8630284011648321E-2},null,null,{"$f":"N14","v":222},{"$f":"COUNTIF(L7:L13,T14)","v":6},null,null,null,{"$f":"N14","v":222},{"$f":"COUNTIF(L14:L20,Y14)","v":7},null,null,null,{"$f":"N14","v":222},{"$f":"COUNTIF(L21:L26,AD14)","v":6},null,null,null,{"$f":"N14","v":222},{"$f":"COUNTIF(L27:L33,AI14)","v":7},null,null,null,{"$f":"N14","v":222},{"$f":"COUNTIF(L34:L40,AN14)","v":6},null,null,null,{"$f":"N14","v":222},{"$f":"COUNTIF(L41:L47,AS14)","v":7}]
[21,915,21,921,21,927,null,null,null,null,0,222,null,null,null,{"$f":"SUM(P7:P14)","v":1},{"$f":"-SUM(Q7:Q14)","v":0.32997428423692071},null,null,null,null,{"$f":"SUM(V7:V14)","v":1},{"$f":"-SUM(W7:W14)","v":0},null,null,null,{"$f":"SUM(AA7:AA14)","v":{"$error":"#DIV/0!"}},{"$f":"-SUM(AB7:AB14)","v":{"$error":"#DIV/0!"}},null,null,null,{"$f":"SUM(AF7:AF14)","v":{"$error":"#DIV/0!"}},{"$f":"-SUM(AG7:AG14)","v":{"$error":"#DIV/0!"}},null,null,null,{"$f":"SUM(AK7:AK14)","v":{"$error":"#DIV/0!"}},{"$f":"-SUM(AL7:AL14)","v":{"$error":"#DIV/0!"}},null,null,null,{"$f":"SUM(AP7:AP14)","v":1},{"$f":"-SUM(AQ7:AQ14)","v":0},null,null,null,{"$f":"SUM(AU7:AU14)","v":{"$error":"#DIV/0!"}},{"$f":"-SUM(AV7:AV14)","v":{"$error":"#DIV/0!"}}]
[21,1062,21,1077,21,1091,null,null,null,null,0,222,null,null,null,"U=",{"$f":"Q15/(LOG(Q4)/LOG(2))","v":6.1590495799665711E-2},null,null,null,null,"U1=",{"$f":"W15/(LOG(W4)/LOG(2))","v":0},null,null,null,"U2=",{"$f":"AB15/(LOG(AB4)/LOG(2))","v":{"$error":"#DIV/0!"}},null,null,null,"U3=",{"$f":"AG15/(LOG(AG4)/LOG(2))","v":{"$error":"#DIV/0!"}},null,null,null,"U4=",{"$f":"AL15/(LOG(AL4)/LOG(2))","v":{"$error":"#DIV/0!"}},null,null,null,"U5=",{"$f":"AQ15/(LOG(AQ4)/LOG(2))","v":0},null,null,null,"U6=",{"$f":"AV15/(LOG(AV4)/LOG(2))","v":{"$error":"#DIV/0!"}}]
[21,1194,21,1201,21,1205,null,null,null,null,0,222]
[21,1405,21,1412,21,1422,null,null,null,null,0,222]
[21,1533,21,1536,21,1549,null,null,null,null,0,222,null,"Total Target Seq"]
[21,1638,21,1644,21,1662,null,null,null,null,0,222,null,{"$f":"COUNTIF(L7:L47,G3)","v":39},null,7,7,6,7,7,7]
[21,1782,21,1792,21,1799,null,null,null,null,0,222,null,null,null,"% of reinforcement given in 6 equal intervals based on number of trials "]
[21,1916,21,1921,21,1926,null,null,null,null,0,222,null,null,null,"%_1","%_2","%_3","%_4","%_5","%_6"]
[21,2040,21,2047,21,2058,null,null,null,null,0,222,null,null,"target sequence",{"$f":"$G$3","v":222},{"$f":"$G$3","v":222},{"$f":"$G$3","v":222},{"$f":"$G$3","v":222},{"$f":"$G$3","v":222},{"$f":"$G$3","v":222}]
[21,2187,21,2215,21,2222,null,null,null,null,0,222,null,null,"total reinforcement",{"$f":"U14","v":6},{"$f":"Z14","v":7},{"$f":"AE14","v":6},{"$f":"AJ14","v":7},{"$f":"AO14","v":6},{"$f":"AT14","v":7}]
[21,2318,21,2328,21,2338,null,null,null,null,0,222,null,null,"% target"]
[21,2496,21,2502,21,2515,null,null,null,null,0,222,null,null,"CCRF"]
[21,2635,21,2646,21,2661,null,null,null,null,0,222,null,null,"% CCRf"]
[21,2810,21,2819,21,2824,null,null,null,null,0,222,null,null,"average response rate",{"$f":"F13/P20","v":100.71428571428571},{"$f":"(F20-F13)/Q20","v":136.71428571428572},{"$f":"(F26-F20)/R20","v":142.16666666666666},{"$f":"(F33-F26)/S20","v":136.42857142857142},{"$f":"(F40-F33)/T20","v":140},{"$f":"(F47-F40)/U20","v":136.71428571428572}]
[21,2945,21,2951,21,2957,null,null,null,null,0,222]
[21,3043,21,3049,21,3058,null,null,null,null,0,222]
[21,3153,21,3171,21,3185,null,null,null,null,0,222]
[21,3352,21,3360,21,3369,null,null,null,null,0,222]
[21,3458,21,3464,21,3470,null,null,null,null,0,222]
[21,3594,21,3623,21,3643,null,null,null,null,0,222]
[21,3760,21,3769,21,3780,null,null,null,null,0,222]
[21,3870,21,3890,21,3897,null,null,null,null,0,222]
[21,3984,21,3991,21,3998,null,null,null,null,0,222]
[12,4185,23,4204,23,4210,null,null,null,null,0,122]
[21,4302,21,4305,21,4311,null,null,null,null,0,222]
[21,4418,21,4430,21,4450,null,null,null,null,0,222]
[21,4549,21,4559,21,4571,null,null,null,null,0,222]
[21,4663,21,4666,21,4671,null,null,null,null,0,222]
[21,4788,21,4793,21,4801,null,null,null,null,0,222]
[21,4929,21,4944,21,5023,null,null,null,null,0,222]
[21,5120,21,5123,21,5128,null,null,null,null,0,222]
[21,5247,21,5252,21,5268,null,null,null,null,0,222]
[21,5389,21,5398,21,5407,null,null,null,null,1,222]

{"sheet":"!M915B20.Gus","index":26,"n_rows":48,"n_cols":48,"rows_kept":48,"cut":false,"hidden":false,"merged":[[4,39,4,42],[5,39,5,40],[4,44,4,47],[5,44,5,45],[4,24,4,27],[5,24,5,25],[4,29,4,32],[5,29,5,30],[4,34,4,37],[5,34,5,35],[1,1,1,2],[5,13,5,14],[18,13,18,14],[19,13,19,14],[4,19,4,22],[5,19,5,20]]}
["Report for:!M915B20.Gus"]
["Date:","<date>"]
["Hen:","<hen>",null,null,null,"Correct Sequence",{"$f":"Start!J2","v":222},null,null,null,null,null,null,null,null,"Total Sequences in Data",{"$f":"4994-COUNTBLANK(L7:L5000)","v":42},null,null,null,null,"Total Sequences in Block Data",{"$f":"COUNTA(L7:L13)","v":7},null,null,null,"Total Sequences in Block Data",{"$f":"COUNTA(L14:L20)","v":7},null,null,null,"Total Sequences in Block Data",{"$f":"COUNTA(L21:L27)","v":7},null,null,null,"Total Sequences in Block Data",{"$f":"COUNTA(L28:L34)","v":7},null,null,null,"Total Sequences in Block Data",{"$f":"COUNTA(L35:L41)","v":7},null,null,null,"Total Sequences in Block Data",{"$f":"COUNTA(L42:L48)","v":7}]
[null,null,null,null,null,null,null,null,null,null,null,null,null,null,null,"Total Sequences in Summary",{"$f":"SUM(O7:O14)","v":42},null,null,null,null,"Total Sequences in Block Summary",{"$f":"SUM(U7:U14)","v":7},null,null,null,"Total Sequences in Block Summary",{"$f":"SUM(Z7:Z14)","v":7},null,null,null,"Total Sequences in Block Summary",{"$f":"SUM(AE7:AE14)","v":7},null,null,null,"Total Sequences in Block Summary",{"$f":"SUM(AJ7:AJ14)","v":7},null,null,null,"Total Sequences in Block Summary",{"$f":"SUM(AO7:AO14)","v":7},null,null,null,"Total Sequences in Block Summary",{"$f":"SUM(AT7:AT14)","v":7}]
[null,null,null,null,null,null,null,null,null,null,null,null,null,null,null,null,null,null,null,"Block 1",null,null,null,null,"Block 2",null,null,null,null,"Block 3",null,null,null,null,"Block 4",null,null,null,null,"Block 5",null,null,null,null,"Block 6"]
["Sequence\nComponent\n1","Time\n1","Sequence\nComponent\n2","Time\n2","Sequence\nComponent\n3","Time\n3","Sequence\nComponent\n4","Time\n4","Sequence\nComponent\n5","Time\n5","Correct?\n0=No 1=Yes","Sequence",null,"Frequency",null,"Relative Frequency","Variability",null,null,"Frequency",null,"Relative Frequency","Variability",null,"Frequency",null,"Relative Frequency","Variability",null,"Frequency",null,"Relative Frequency","Variability",null,"Frequency",null,"Relative Frequency","Variability",null,"Frequency",null,"Relative Frequency","Variability",null,"Frequency",null,"Relative Frequency","Variability"]
[21,45,21,56,21,63,null,null,null,null,0,222,null,111,{"$f":"COUNTIF($L$7:$L$500,N7)","v":1},{"$f":"O7/$Q$4","v":2.3809523809523808E-2},{"$f":"IF(P7=0,0,(P7*((LOG(P7))/LOG(2))))","v":-0.12838851006616095},null,null,{"$f":"N7","v":111},{"$f":"COUNTIF(L7:L13,T7)","v":0},{"$f":"U7/(W4-U14)","v":{"$error":"#DIV/0!"}},{"$f":"IF(V7=0,0,(V7*((LOG(V7))/LOG(2))))","v":{"$error":"#DIV/0!"}},null,{"$f":"N7","v":111},{"$f":"COUNTIF(L14:L20,Y7)","v":0},{"$f":"Z7/(AB4-Z14)","v":0},{"$f":"IF(AA7=0,0,(AA7*((LOG(AA7))/LOG(2))))","v":0},null,{"$f":"N7","v":111},{"$f":"COUNTIF(L21:L27,AD7)","v":0},{"$f":"AE7/(AG4-AE14)","v":{"$error":"#DIV/0!"}},{"$f":"IF(AF7=0,0,(AF7*((LOG(AF7))/LOG(2))))","v":{"$error":"#DIV/0!"}},null,{"$f":"N7","v":111},{"$f":"COUNTIF(L28:L34,AI7)","v":0},{"$f":"AJ7/(AL4-AJ14)","v":{"$error":"#DIV/0!"}},{"$f":"IF(AK7=0,0,(AK7*((LOG(AK7))/LOG(2))))","v":{"$error":"#DIV/0!"}},null,{"$f":"N7","v":111},{"$f":"COUNTIF(L35:L41,AN7)","v":1},{"$f":"AO7/(AQ4-AO14)","v":1},{"$f":"IF(AP7=0,0,(AP7*((LOG(AP7))/LOG(2))))","v":0},null,{"$f":"N7","v":111},{"$f":"COUNTIF(L42:L48,AS7)","v":0},{"$f":"AT7/(AV4-AT14)","v":0},{"$f":"IF(AU7=0,0,(AU7*((LOG(AU7))/LOG(2))))","v":0}]
[21,156,21,162,21,171,null,null,null,null,0,222,null,112,{"$f":"COUNTIF($L$7:$L$500,N8)","v":0},{"$f":"O8/$Q$4","v":0},{"$f":"IF(P8=0,0,(P8*((LOG(P8))/LOG(2))))","v":0},null,null,{"$f":"N8","v":112},{"$f":"COUNTIF(L7:L13,T8)","v":0},{"$f":"U8/(W4-U14)","v":{"$error":"#DIV/0!"}},{"$f":"IF(V8=0,0,(V8*((LOG(V8))/LOG(2))))","v":{"$error":"#DIV/0!"}},null,{"$f":"N8","v":112},{"$f":"COUNTIF(L14:L20,Y8)","v":0},{"$f":"Z8/(AB4-Z14)","v":0},{"$f":"IF(AA8=0,0,(AA8*((LOG(AA8))/LOG(2))))","v":0},null,{"$f":"N8","v":112},{"$f":"COUNTIF(L21:L27,AD8)","v":0},{"$f":"AE8/(AG4-AE14)","v":{"$error":"#DIV/0!"}},{"$f":"IF(AF8=0,0,(AF8*((LOG(AF8))/LOG(2))))","v":{"$error":"#DIV/0!"}},null,{"$f":"N8","v":112},{"$f":"COUNTIF(L28:L34,AI8)","v":0},{"$f":"AJ8/(AL4-AJ14)","v":{"$error":"#DIV/0!"}},{"$f":"IF(AK8=0,0,(AK8*((LOG(AK8))/LOG(2))))","v":{"$error":"#DIV/0!"}},null,{"$f":"N8","v":112},{"$f":"COUNTIF(L35:L41,AN8)","v":0},{"$f":"AO8/(AQ4-AO14)","v":0},{"$f":"IF(AP8=0,0,(AP8*((LOG(AP8))/LOG(2))))","v":0},null,{"$f":"N8","v":112},{"$f":"COUNTIF(L42:L48,AS8)","v":0},{"$f":"AT8/(AV4-AT14)","v":0},{"$f":"IF(AU8=0,0,(AU8*((LOG(AU8))/LOG(2))))","v":0}]
[21,278,21,287,21,293,null,null,null,null,0,222,null,121,{"$f":"COUNTIF($L$7:$L$500,N9)","v":0},{"$f":"O9/$Q$4","v":0},{"$f":"IF(P9=0,0,(P9*((LOG(P9))/LOG(2))))","v":0},null,null,{"$f":"N9","v":121},{"$f":"COUNTIF(L7:L13,T9)","v":0},{"$f":"U9/(W4-U14)","v":{"$error":"#DIV/0!"}},{"$f":"IF(V9=0,0,(V9*((LOG(V9))/LOG(2))))","v":{"$error":"#DIV/0!"}},null,{"$f":"N9","v":121},{"$f":"COUNTIF(L14:L20,Y9)","v":0},{"$f":"Z9/(AB4-Z14)","v":0},{"$f":"IF(AA9=0,0,(AA9*((LOG(AA9))/LOG(2))))","v":0},null,{"$f":"N9","v":121},{"$f":"COUNTIF(L21:L27,AD9)","v":0},{"$f":"AE9/(AG4-AE14)","v":{"$error":"#DIV/0!"}},{"$f":"IF(AF9=0,0,(AF9*((LOG(AF9))/LOG(2))))","v":{"$error":"#DIV/0!"}},null,{"$f":"N9","v":121},{"$f":"COUNTIF(L28:L34,AI9)","v":0},{"$f":"AJ9/(AL4-AJ14)","v":{"$error":"#DIV/0!"}},{"$f":"IF(AK9=0,0,(AK9*((LOG(AK9))/LOG(2))))","v":{"$error":"#DIV/0!"}},null,{"$f":"N9","v":121},{"$f":"COUNTIF(L35:L41,AN9)","v":0},{"$f":"AO9/(AQ4-AO14)","v":0},{"$f":"IF(AP9=0,0,(AP9*((LOG(AP9))/LOG(2))))","v":0},null,{"$f":"N9","v":121},{"$f":"COUNTIF(L42:L48,AS9)","v":0},{"$f":"AT9/(AV4-AT14)","v":0},{"$f":"IF(AU9=0,0,(AU9*((LOG(AU9))/LOG(2))))","v":0}]
[21,387,21,398,21,405,null,null,null,null,0,222,null,122,{"$f":"COUNTIF($L$7:$L$500,N10)","v":1},{"$f":"O10/$Q$4","v":2.3809523809523808E-2},{"$f":"IF(P10=0,0,(P10*((LOG(P10))/LOG(2))))","v":-0.12838851006616095},null,null,{"$f":"N10","v":122},{"$f":"COUNTIF(L7:L13,T10)","v":0},{"$f":"U10/(W4-U14)","v":{"$error":"#DIV/0!"}},{"$f":"IF(V10=0,0,(V10*((LOG(V10))/LOG(2))))","v":{"$error":"#DIV/0!"}},null,{"$f":"N10","v":122},{"$f":"COUNTIF(L14:L20,Y10)","v":1},{"$f":"Z10/(AB4-Z14)","v":1},{"$f":"IF(AA10=0,0,(AA10*((LOG(AA10))/LOG(2))))","v":0},null,{"$f":"N10","v":122},{"$f":"COUNTIF(L21:L27,AD10)","v":0},{"$f":"AE10/(AG4-AE14)","v":{"$error":"#DIV/0!"}},{"$f":"IF(AF10=0,0,(AF10*((LOG(AF10))/LOG(2))))","v":{"$error":"#DIV/0!"}},null,{"$f":"N10","v":122},{"$f":"COUNTIF(L28:L34,AI10)","v":0},{"$f":"AJ10/(AL4-AJ14)","v":{"$error":"#DIV/0!"}},{"$f":"IF(AK10=0,0,(AK10*((LOG(AK10))/LOG(2))))","v":{"$error":"#DIV/0!"}},null,{"$f":"N10","v":122},{"$f":"COUNTIF(L35:L41,AN10)","v":0},{"$f":"AO10/(AQ4-AO14)","v":0},{"$f":"IF(AP10=0,0,(AP10*((LOG(AP10))/LOG(2))))","v":0},null,{"$f":"N10","v":122},{"$f":"COUNTIF(L42:L48,AS10)","v":0},{"$f":"AT10/(AV4-AT14)","v":0},{"$f":"IF(AU10=0,0,(AU10*((LOG(AU10))/LOG(2))))","v":0}]
[21,559,21,564,21,576,null,null,null,null,0,222,null,211,{"$f":"COUNTIF($L$7:$L$500,N11)","v":0},{"$f":"O11/$Q$4","v":0},{"$f":"IF(P11=0,0,(P11*((LOG(P11))/LOG(2))))","v":0},null,null,{"$f":"N11","v":211},{"$f":"COUNTIF(L7:L13,T11)","v":0},{"$f":"U11/(W4-U14)","v":{"$error":"#DIV/0!"}},{"$f":"IF(V11=0,0,(V11*((LOG(V11))/LOG(2))))","v":{"$error":"#DIV/0!"}},null,{"$f":"N11","v":211},{"$f":"COUNTIF(L14:L20,Y11)","v":0},{"$f":"Z11/(AB4-Z14)","v":0},{"$f":"IF(AA11=0,0,(AA11*((LOG(AA11))/LOG(2))))","v":0},null,{"$f":"N11","v":211},{"$f":"COUNTIF(L21:L27,AD11)","v":0},{"$f":"AE11/(AG4-AE14)","v":{"$error":"#DIV/0!"}},{"$f":"IF(AF11=0,0,(AF11*((LOG(AF11))/LOG(2))))","v":{"$error":"#DIV/0!"}},null,{"$f":"N11","v":211},{"$f":"COUNTIF(L28:L34,AI11)","v":0},{"$f":"AJ11/(AL4-AJ14)","v":{"$error":"#DIV/0!"}},{"$f":"IF(AK11=0,0,(AK11*((LOG(AK11))/LOG(2))))","v":{"$error":"#DIV/0!"}},null,{"$f":"N11","v":211},{"$f":"COUNTIF(L35:L41,AN11)","v":0},{"$f":"AO11/(AQ4-AO14)","v":0},{"$f":"IF(AP11=0,0,(AP11*((LOG(AP11))/LOG(2))))","v":0},null,{"$f":"N11","v":211},{"$f":"COUNTIF(L42:L48,AS11)","v":0},{"$f":"AT11/(AV4-AT14)","v":0},{"$f":"IF(AU11=0,0,(AU11*((LOG(AU11))/LOG(2))))","v":0}]
[21,689,21,694,21,702,null,null,null,null,0,222,null,212,{"$f":"COUNTIF($L$7:$L$500,N12)","v":1},{"$f":"O12/$Q$4","v":2.3809523809523808E-2},{"$f":"IF(P12=0,0,(P12*((LOG(P12))/LOG(2))))","v":-0.12838851006616095},null,null,{"$f":"N12","v":212},{"$f":"COUNTIF(L7:L13,T12)","v":0},{"$f":"U12/(W4-U14)","v":{"$error":"#DIV/0!"}},{"$f":"IF(V12=0,0,(V12*((LOG(V12))/LOG(2))))","v":{"$error":"#DIV/0!"}},null,{"$f":"N12","v":212},{"$f":"COUNTIF(L14:L20,Y12)","v":0},{"$f":"Z12/(AB4-Z14)","v":0},{"$f":"IF(AA12=0,0,(AA12*((LOG(AA12))/LOG(2))))","v":0},null,{"$f":"N12","v":212},{"$f":"COUNTIF(L21:L27,AD12)","v":0},{"$f":"AE12/(AG4-AE14)","v":{"$error":"#DIV/0!"}},{"$f":"IF(AF12=0,0,(AF12*((LOG(AF12))/LOG(2))))","v":{"$error":"#DIV/0!"}},null,{"$f":"N12","v":212},{"$f":"COUNTIF(L28:L34,AI12)","v":0},{"$f":"AJ12/(AL4-AJ14)","v":{"$error":"#DIV/0!"}},{"$f":"IF(AK12=0,0,(AK12*((LOG(AK12))/LOG(2))))","v":{"$error":"#DIV/0!"}},null,{"$f":"N12","v":212},{"$f":"COUNTIF(L35:L41,AN12)","v":0},{"$f":"AO12/(AQ4-AO14)","v":0},{"$f":"IF(AP12=0,0,(AP12*((LOG(AP12))/LOG(2))))","v":0},null,{"$f":"N12","v":212},{"$f":"COUNTIF(L42:L48,AS12)","v":1},{"$f":"AT12/(AV4-AT14)","v":0.5},{"$f":"IF(AU12=0,0,(AU12*((LOG(AU12))/LOG(2))))","v":-0.5}]
[21,872,21,881,21,887,null,null,null,null,0,222,null,221,{"$f":"COUNTIF($L$7:$L$500,N13)","v":1},{"$f":"O13/$Q$4","v":2.3809523809523808E-2},{"$f":"IF(P13=0,0,(P13*((LOG(P13))/LOG(2))))","v":-0.12838851006616095},null,null,{"$f":"N13","v":221},{"$f":"COUNTIF(L7:L13,T13)","v":0},{"$f":"U13/(W4-U14)","v":{"$error":"#DIV/0!"}},{"$f":"IF(V13=0,0,(V13*((LOG(V13))/LOG(2))))","v":{"$error":"#DIV/0!"}},null,{"$f":"N13","v":221},{"$f":"COUNTIF(L14:L20,Y13)","v":0},{"$f":"Z13/(AB4-Z14)","v":0},{"$f":"IF(AA13=0,0,(AA13*((LOG(AA13))/LOG(2))))","v":0},null,{"$f":"N13","v":221},{"$f":"COUNTIF(L21:L27,AD13)","v":0},{"$f":"AE13/(AG4-AE14)","v":{"$error":"#DIV/0!"}},{"$f":"IF(AF13=0,0,(AF13*((LOG(AF13))/LOG(2))))","v":{"$error":"#DIV/0!"}},null,{"$f":"N13","v":221},{"$f":"COUNTIF(L28:L34,AI13)","v":0},{"$f":"AJ13/(AL4-AJ14)","v":{"$error":"#DIV/0!"}},{"$f":"IF(AK13=0,0,(AK13*((LOG(AK13))/LOG(2))))","v":{"$error":"#DIV/0!"}},null,{"$f":"N13","v":221},{"$f":"COUNTIF(L35:L41,AN13)","v":0},{"$f":"AO13/(AQ4-AO14)","v":0},{"$f":"IF(AP13=0,0,(AP13*((LOG(AP13))/LOG(2))))","v":0},null,{"$f":"N13","v":221},{"$f":"COUNTIF(L42:L48,AS13)","v":1},{"$f":"AT13/(AV4-AT14)","v":0.5},{"$f":"IF(AU13=0,0,(AU13*((LOG(AU13))/LOG(2))))","v":-0.5}]
[12,1076,23,1088,23,1094,null,null,null,null,0,122,null,222,{"$f":"COUNTIF($L$7:$L$500,N14)","v":38},{"$f":"O14/$Q$4","v":0.90476190476190477},{"$f":"IF(P14=0,0,(P14*((LOG(P14))/LOG(2))))","v":-0.13063848939849149},null,null,{"$f":"N14","v":222},{"$f":"COUNTIF(L7:L13,T14)","v":7},null,null,null,{"$f":"N14","v":222},{"$f":"COUNTIF(L14:L20,Y14)","v":6},null,null,null,{"$f":"N14","v":222},{"$f":"COUNTIF(L21:L27,AD14)","v":7},null,null,null,{"$f":"N14","v":222},{"$f":"COUNTIF(L28:L34,AI14)","v":7},null,null,null,{"$f":"N14","v":222},{"$f":"COUNTIF(L35:L41,AN14)","v":6},null,null,null,{"$f":"N14","v":222},{"$f":"COUNTIF(L42:L48,AS14)","v":5}]
[21,1200,21,1207,21,1219,null,null,null,null,0,222,null,null,null,{"$f":"SUM(P7:P14)","v":1},{"$f":"-SUM(Q7:Q14)","v":0.64419252966313523},null,null,null,null,{"$f":"SUM(V7:V14)","v":{"$error":"#DIV/0!"}},{"$f":"-SUM(W7:W14)","v":{"$error":"#DIV/0!"}},null,null,null,{"$f":"SUM(AA7:AA14)","v":1},{"$f":"-SUM(AB7:AB14)","v":0},null,null,null,{"$f":"SUM(AF7:AF14)","v":{"$error":"#DIV/0!"}},{"$f":"-SUM(AG7:AG14)","v":{"$error":"#DIV/0!"}},null,null,null,{"$f":"SUM(AK7:AK14)","v":{"$error":"#DIV/0!"}},{"$f":"-SUM(AL7:AL14)","v":{"$error":"#DIV/0!"}},null,null,null,{"$f":"SUM(AP7:AP14)","v":1},{"$f":"-SUM(AQ7:AQ14)","v":0},null,null,null,{"$f":"SUM(AU7:AU14)","v":1},{"$f":"-SUM(AV7:AV14)","v":1}]
[21,1319,21,1326,21,1336,null,null,null,null,0,222,null,null,null,"U=",{"$f":"Q15/(LOG(Q4)/LOG(2))","v":0.11946487551750448},null,null,null,null,"U1=",{"$f":"W15/(LOG(W4)/LOG(2))","v":{"$error":"#DIV/0!"}},null,null,null,"U2=",{"$f":"AB15/(LOG(AB4)/LOG(2))","v":0},null,null,null,"U3=",{"$f":"AG15/(LOG(AG4)/LOG(2))","v":{"$error":"#DIV/0!"}},null,null,null,"U4=",{"$f":"AL15/(LOG(AL4)/LOG(2))","v":{"$error":"#DIV/0!"}},null,null,null,"U5=",{"$f":"AQ15/(LOG(AQ4)/LOG(2))","v":0},null,null,null,"U6=",{"$f":"AV15/(LOG(AV4)/LOG(2))","v":0.35620718710802218}]
[21,1467,21,1476,21,1487,null,null,null,null,0,222]
[21,1608,21,1610,21,1614,null,null,null,null,0,222]
[21,1743,21,1751,21,1759,null,null,null,null,0,222,null,"Total Target Seq"]
[21,1857,21,1863,21,1877,null,null,null,null,0,222,null,{"$f":"COUNTIF(L7:L48,G3)","v":38},null,7,7,7,7,7,7]
[21,1984,21,1989,21,1996,null,null,null,null,0,222,null,null,null,"% of reinforcement given in 6 equal intervals based on number of trials "]
[21,2123,21,2139,21,2148,null,null,null,null,0,222,null,null,null,"%_1","%_2","%_3","%_4","%_5","%_6"]
[21,2264,21,2272,21,2319,null,null,null,null,0,222,null,null,"target sequence",{"$f":"$G$3","v":222},{"$f":"$G$3","v":222},{"$f":"$G$3","v":222},{"$f":"$G$3","v":222},{"$f":"$G$3","v":222},{"$f":"$G$3","v":222}]
[21,2414,21,2418,21,2424,null,null,null,null,0,222,null,null,"total reinforcement",{"$f":"U14","v":7},{"$f":"Z14","v":6},{"$f":"AE14","v":7},{"$f":"AJ14","v":7},{"$f":"AO14","v":6},{"$f":"AT14","v":5}]
[21,2621,21,2643,21,2652,null,null,null,null,0,222,null,null,"% target"]
[21,2745,21,2753,21,2783,null,null,null,null,0,222,null,null,"CCRF"]
[21,2969,21,2978,21,2999,null,null,null,null,0,222,null,null,"% CCRf"]
[21,3096,21,3119,21,3126,null,null,null,null,0,222,null,null,"average response rate",{"$f":"F13/P20","v":126.71428571428571},{"$f":"(F20-F13)/Q20","v":141.42857142857142},{"$f":"(F27-F20)/R20","v":160.28571428571428},{"$f":"(F34-F27)/S20","v":155},{"$f":"(F41-F34)/T20","v":178.14285714285714},{"$f":"(F48-F41)/U20","v":160.85714285714286}]
[21,3239,21,3250,21,3259,null,null,null,null,0,222]
[21,3350,21,3356,21,3364,null,null,null,null,0,222]
[21,3513,21,3549,21,3567,null,null,null,null,0,222]
[21,3768,21,3777,21,3793,null,null,null,null,0,222]
[21,3943,21,3963,21,3974,null,null,null,null,0,222]
[21,4066,21,4077,21,4084,null,null,null,null,0,222]
[21,4228,21,4235,21,4247,null,null,null,null,0,222]
[21,4414,21,4428,21,4438,null,null,null,null,0,222]
[12,4621,14,4635,14,4648,null,null,null,null,0,111]
[21,4745,21,4760,21,4774,null,null,null,null,0,222]
[21,5048,21,5063,21,5076,null,null,null,null,0,222]
[21,5183,21,5195,21,5217,null,null,null,null,0,222]
[21,5308,21,5316,21,5331,null,null,null,null,0,222]
[21,5452,21,5454,21,5460,null,null,null,null,0,222]
[21,5764,21,5782,12,5788,null,null,null,null,0,221]
[21,5887,12,5892,23,5896,null,null,null,null,0,212]
[21,5988,21,5991,21,5995,null,null,null,null,0,222]
[21,6114,21,6125,21,6134,null,null,null,null,0,222]
[21,6285,21,6297,21,6311,null,null,null,null,0,222]
[21,6438,21,6450,21,6457,null,null,null,null,1,222]

{"sheet":"!M916A40.Gus","index":27,"n_rows":46,"n_cols":48,"rows_kept":46,"cut":false,"hidden":false,"merged":[[4,39,4,42],[5,39,5,40],[4,44,4,47],[5,44,5,45],[4,24,4,27],[5,24,5,25],[4,29,4,32],[5,29,5,30],[4,34,4,37],[5,34,5,35],[1,1,1,2],[5,13,5,14],[18,13,18,14],[19,13,19,14],[4,19,4,22],[5,19,5,20]]}
["Report for:!M916A40.Gus"]
["Date:","<date>"]
["Hen:","<hen>",null,null,null,"Correct Sequence",{"$f":"Start!J2","v":222},null,null,null,null,null,null,null,null,"Total Sequences in Data",{"$f":"4994-COUNTBLANK(L7:L5000)","v":40},null,null,null,null,"Total Sequences in Block Data",{"$f":"COUNTA(L7:L13)","v":7},null,null,null,"Total Sequences in Block Data",{"$f":"COUNTA(L14:L19)","v":6},null,null,null,"Total Sequences in Block Data",{"$f":"COUNTA(L20:L26)","v":7},null,null,null,"Total Sequences in Block Data",{"$f":"COUNTA(L27:L33)","v":7},null,null,null,"Total Sequences in Block Data",{"$f":"COUNTA(L34:L39)","v":6},null,null,null,"Total Sequences in Block Data",{"$f":"COUNTA(L40:L46)","v":7}]
[null,null,null,null,null,null,null,null,null,null,null,null,null,null,null,"Total Sequences in Summary",{"$f":"SUM(O7:O14)","v":40},null,null,null,null,"Total Sequences in Block Summary",{"$f":"SUM(U7:U14)","v":7},null,null,null,"Total Sequences in Block Summary",{"$f":"SUM(Z7:Z14)","v":6},null,null,null,"Total Sequences in Block Summary",{"$f":"SUM(AE7:AE14)","v":7},null,null,null,"Total Sequences in Block Summary",{"$f":"SUM(AJ7:AJ14)","v":7},null,null,null,"Total Sequences in Block Summary",{"$f":"SUM(AO7:AO14)","v":6},null,null,null,"Total Sequences in Block Summary",{"$f":"SUM(AT7:AT14)","v":7}]
[null,null,null,null,null,null,null,null,null,null,null,null,null,null,null,null,null,null,null,"Block 1",null,null,null,null,"Block 2",null,null,null,null,"Block 3",null,null,null,null,"Block 4",null,null,null,null,"Block 5",null,null,null,null,"Block 6"]
["Sequence\nComponent\n1","Time\n1","Sequence\nComponent\n2","Time\n2","Sequence\nComponent\n3","Time\n3","Sequence\nComponent\n4","Time\n4","Sequence\nComponent\n5","Time\n5","Correct?\n0=No 1=Yes","Sequence",null,"Frequency",null,"Relative Frequency","Variability",null,null,"Frequency",null,"Relative Frequency","Variability",null,"Frequency",null,"Relative Frequency","Variability",null,"Frequency",null,"Relative Frequency","Variability",null,"Frequency",null,"Relative Frequency","Variability",null,"Frequency",null,"Relative Frequency","Variability",null,"Frequency",null,"Relative Frequency","Variability"]
[21,36,21,57,21,59,null,null,null,null,0,222,null,111,{"$f":"COUNTIF($L$7:$L$500,N7)","v":0},{"$f":"O7/$Q$4","v":0},{"$f":"IF(P7=0,0,(P7*((LOG(P7))/LOG(2))))","v":0},null,null,{"$f":"N7","v":111},{"$f":"COUNTIF(L7:L13,T7)","v":0},{"$f":"U7/(W4-U14)","v":{"$error":"#DIV/0!"}},{"$f":"IF(V7=0,0,(V7*((LOG(V7))/LOG(2))))","v":{"$error":"#DIV/0!"}},null,{"$f":"N7","v":111},{"$f":"COUNTIF(L14:L19,Y7)","v":0},{"$f":"Z7/(AB4-Z14)","v":{"$error":"#DIV/0!"}},{"$f":"IF(AA7=0,0,(AA7*((LOG(AA7))/LOG(2))))","v":{"$error":"#DIV/0!"}},null,{"$f":"N7","v":111},{"$f":"COUNTIF(L20:L26,AD7)","v":0},{"$f":"AE7/(AG4-AE14)","v":{"$error":"#DIV/0!"}},{"$f":"IF(AF7=0,0,(AF7*((LOG(AF7))/LOG(2))))","v":{"$error":"#DIV/0!"}},null,{"$f":"N7","v":111},{"$f":"COUNTIF(L27:L33,AI7)","v":0},{"$f":"AJ7/(AL4-AJ14)","v":{"$error":"#DIV/0!"}},{"$f":"IF(AK7=0,0,(AK7*((LOG(AK7))/LOG(2))))","v":{"$error":"#DIV/0!"}},null,{"$f":"N7","v":111},{"$f":"COUNTIF(L34:L39,AN7)","v":0},{"$f":"AO7/(AQ4-AO14)","v":{"$error":"#DIV/0!"}},{"$f":"IF(AP7=0,0,(AP7*((LOG(AP7))/LOG(2))))","v":{"$error":"#DIV/0!"}},null,{"$f":"N7","v":111},{"$f":"COUNTIF(L40:L46,AS7)","v":0},{"$f":"AT7/(AV4-AT14)","v":{"$error":"#DIV/0!"}},{"$f":"IF(AU7=0,0,(AU7*((LOG(AU7))/LOG(2))))","v":{"$error":"#DIV/0!"}}]
[21,175,21,185,21,190,null,null,null,null,0,222,null,112,{"$f":"COUNTIF($L$7:$L$500,N8)","v":0},{"$f":"O8/$Q$4","v":0},{"$f":"IF(P8=0,0,(P8*((LOG(P8))/LOG(2))))","v":0},null,null,{"$f":"N8","v":112},{"$f":"COUNTIF(L7:L13,T8)","v":0},{"$f":"U8/(W4-U14)","v":{"$error":"#DIV/0!"}},{"$f":"IF(V8=0,0,(V8*((LOG(V8))/LOG(2))))","v":{"$error":"#DIV/0!"}},null,{"$f":"N8","v":112},{"$f":"COUNTIF(L14:L19,Y8)","v":0},{"$f":"Z8/(AB4-Z14)","v":{"$error":"#DIV/0!"}},{"$f":"IF(AA8=0,0,(AA8*((LOG(AA8))/LOG(2))))","v":{"$error":"#DIV/0!"}},null,{"$f":"N8","v":112},{"$f":"COUNTIF(L20:L26,AD8)","v":0},{"$f":"AE8/(AG4-AE14)","v":{"$error":"#DIV/0!"}},{"$f":"IF(AF8=0,0,(AF8*((LOG(AF8))/LOG(2))))","v":{"$error":"#DIV/0!"}},null,{"$f":"N8","v":112},{"$f":"COUNTIF(L27:L33,AI8)","v":0},{"$f":"AJ8/(AL4-AJ14)","v":{"$error":"#DIV/0!"}},{"$f":"IF(AK8=0,0,(AK8*((LOG(AK8))/LOG(2))))","v":{"$error":"#DIV/0!"}},null,{"$f":"N8","v":112},{"$f":"COUNTIF(L34:L39,AN8)","v":0},{"$f":"AO8/(AQ4-AO14)","v":{"$error":"#DIV/0!"}},{"$f":"IF(AP8=0,0,(AP8*((LOG(AP8))/LOG(2))))","v":{"$error":"#DIV/0!"}},null,{"$f":"N8","v":112},{"$f":"COUNTIF(L40:L46,AS8)","v":0},{"$f":"AT8/(AV4-AT14)","v":{"$error":"#DIV/0!"}},{"$f":"IF(AU8=0,0,(AU8*((LOG(AU8))/LOG(2))))","v":{"$error":"#DIV/0!"}}]
[21,296,21,307,21,313,null,null,null,null,0,222,null,121,{"$f":"COUNTIF($L$7:$L$500,N9)","v":0},{"$f":"O9/$Q$4","v":0},{"$f":"IF(P9=0,0,(P9*((LOG(P9))/LOG(2))))","v":0},null,null,{"$f":"N9","v":121},{"$f":"COUNTIF(L7:L13,T9)","v":0},{"$f":"U9/(W4-U14)","v":{"$error":"#DIV/0!"}},{"$f":"IF(V9=0,0,(V9*((LOG(V9))/LOG(2))))","v":{"$error":"#DIV/0!"}},null,{"$f":"N9","v":121},{"$f":"COUNTIF(L14:L19,Y9)","v":0},{"$f":"Z9/(AB4-Z14)","v":{"$error":"#DIV/0!"}},{"$f":"IF(AA9=0,0,(AA9*((LOG(AA9))/LOG(2))))","v":{"$error":"#DIV/0!"}},null,{"$f":"N9","v":121},{"$f":"COUNTIF(L20:L26,AD9)","v":0},{"$f":"AE9/(AG4-AE14)","v":{"$error":"#DIV/0!"}},{"$f":"IF(AF9=0,0,(AF9*((LOG(AF9))/LOG(2))))","v":{"$error":"#DIV/0!"}},null,{"$f":"N9","v":121},{"$f":"COUNTIF(L27:L33,AI9)","v":0},{"$f":"AJ9/(AL4-AJ14)","v":{"$error":"#DIV/0!"}},{"$f":"IF(AK9=0,0,(AK9*((LOG(AK9))/LOG(2))))","v":{"$error":"#DIV/0!"}},null,{"$f":"N9","v":121},{"$f":"COUNTIF(L34:L39,AN9)","v":0},{"$f":"AO9/(AQ4-AO14)","v":{"$error":"#DIV/0!"}},{"$f":"IF(AP9=0,0,(AP9*((LOG(AP9))/LOG(2))))","v":{"$error":"#DIV/0!"}},null,{"$f":"N9","v":121},{"$f":"COUNTIF(L40:L46,AS9)","v":0},{"$f":"AT9/(AV4-AT14)","v":{"$error":"#DIV/0!"}},{"$f":"IF(AU9=0,0,(AU9*((LOG(AU9))/LOG(2))))","v":{"$error":"#DIV/0!"}}]
[21,428,21,445,21,452,null,null,null,null,0,222,null,122,{"$f":"COUNTIF($L$7:$L$500,N10)","v":0},{"$f":"O10/$Q$4","v":0},{"$f":"IF(P10=0,0,(P10*((LOG(P10))/LOG(2))))","v":0},null,null,{"$f":"N10","v":122},{"$f":"COUNTIF(L7:L13,T10)","v":0},{"$f":"U10/(W4-U14)","v":{"$error":"#DIV/0!"}},{"$f":"IF(V10=0,0,(V10*((LOG(V10))/LOG(2))))","v":{"$error":"#DIV/0!"}},null,{"$f":"N10","v":122},{"$f":"COUNTIF(L14:L19,Y10)","v":0},{"$f":"Z10/(AB4-Z14)","v":{"$error":"#DIV/0!"}},{"$f":"IF(AA10=0,0,(AA10*((LOG(AA10))/LOG(2))))","v":{"$error":"#DIV/0!"}},null,{"$f":"N10","v":122},{"$f":"COUNTIF(L20:L26,AD10)","v":0},{"$f":"AE10/(AG4-AE14)","v":{"$error":"#DIV/0!"}},{"$f":"IF(AF10=0,0,(AF10*((LOG(AF10))/LOG(2))))","v":{"$error":"#DIV/0!"}},null,{"$f":"N10","v":122},{"$f":"COUNTIF(L27:L33,AI10)","v":0},{"$f":"AJ10/(AL4-AJ14)","v":{"$error":"#DIV/0!"}},{"$f":"IF(AK10=0,0,(AK10*((LOG(AK10))/LOG(2))))","v":{"$error":"#DIV/0!"}},null,{"$f":"N10","v":122},{"$f":"COUNTIF(L34:L39,AN10)","v":0},{"$f":"AO10/(AQ4-AO14)","v":{"$error":"#DIV/0!"}},{"$f":"IF(AP10=0,0,(AP10*((LOG(AP10))/LOG(2))))","v":{"$error":"#DIV/0!"}},null,{"$f":"N10","v":122},{"$f":"COUNTIF(L40:L46,AS10)","v":0},{"$f":"AT10/(AV4-AT14)","v":{"$error":"#DIV/0!"}},{"$f":"IF(AU10=0,0,(AU10*((LOG(AU10))/LOG(2))))","v":{"$error":"#DIV/0!"}}]
[21,571,21,576,21,582,null,null,null,null,0,222,null,211,{"$f":"COUNTIF($L$7:$L$500,N11)","v":0},{"$f":"O11/$Q$4","v":0},{"$f":"IF(P11=0,0,(P11*((LOG(P11))/LOG(2))))","v":0},null,null,{"$f":"N11","v":211},{"$f":"COUNTIF(L7:L13,T11)","v":0},{"$f":"U11/(W4-U14)","v":{"$error":"#DIV/0!"}},{"$f":"IF(V11=0,0,(V11*((LOG(V11))/LOG(2))))","v":{"$error":"#DIV/0!"}},null,{"$f":"N11","v":211},{"$f":"COUNTIF(L14:L19,Y11)","v":0},{"$f":"Z11/(AB4-Z14)","v":{"$error":"#DIV/0!"}},{"$f":"IF(AA11=0,0,(AA11*((LOG(AA11))/LOG(2))))","v":{"$error":"#DIV/0!"}},null,{"$f":"N11","v":211},{"$f":"COUNTIF(L20:L26,AD11)","v":0},{"$f":"AE11/(AG4-AE14)","v":{"$error":"#DIV/0!"}},{"$f":"IF(AF11=0,0,(AF11*((LOG(AF11))/LOG(2))))","v":{"$error":"#DIV/0!"}},null,{"$f":"N11","v":211},{"$f":"COUNTIF(L27:L33,AI11)","v":0},{"$f":"AJ11/(AL4-AJ14)","v":{"$error":"#DIV/0!"}},{"$f":"IF(AK11=0,0,(AK11*((LOG(AK11))/LOG(2))))","v":{"$error":"#DIV/0!"}},null,{"$f":"N11","v":211},{"$f":"COUNTIF(L34:L39,AN11)","v":0},{"$f":"AO11/(AQ4-AO14)","v":{"$error":"#DIV/0!"}},{"$f":"IF(AP11=0,0,(AP11*((LOG(AP11))/LOG(2))))","v":{"$error":"#DIV/0!"}},null,{"$f":"N11","v":211},{"$f":"COUNTIF(L40:L46,AS11)","v":0},{"$f":"AT11/(AV4-AT14)","v":{"$error":"#DIV/0!"}},{"$f":"IF(AU11=0,0,(AU11*((LOG(AU11))/LOG(2))))","v":{"$error":"#DIV/0!"}}]
[21,680,21,699,21,708,null,null,null,null,0,222,null,212,{"$f":"COUNTIF($L$7:$L$500,N12)","v":0},{"$f":"O12/$Q$4","v":0},{"$f":"IF(P12=0,0,(P12*((LOG(P12))/LOG(2))))","v":0},null,null,{"$f":"N12","v":212},{"$f":"COUNTIF(L7:L13,T12)","v":0},{"$f":"U12/(W4-U14)","v":{"$error":"#DIV/0!"}},{"$f":"IF(V12=0,0,(V12*((LOG(V12))/LOG(2))))","v":{"$error":"#DIV/0!"}},null,{"$f":"N12","v":212},{"$f":"COUNTIF(L14:L19,Y12)","v":0},{"$f":"Z12/(AB4-Z14)","v":{"$error":"#DIV/0!"}},{"$f":"IF(AA12=0,0,(AA12*((LOG(AA12))/LOG(2))))","v":{"$error":"#DIV/0!"}},null,{"$f":"N12","v":212},{"$f":"COUNTIF(L20:L26,AD12)","v":0},{"$f":"AE12/(AG4-AE14)","v":{"$error":"#DIV/0!"}},{"$f":"IF(AF12=0,0,(AF12*((LOG(AF12))/LOG(2))))","v":{"$error":"#DIV/0!"}},null,{"$f":"N12","v":212},{"$f":"COUNTIF(L27:L33,AI12)","v":0},{"$f":"AJ12/(AL4-AJ14)","v":{"$error":"#DIV/0!"}},{"$f":"IF(AK12=0,0,(AK12*((LOG(AK12))/LOG(2))))","v":{"$error":"#DIV/0!"}},null,{"$f":"N12","v":212},{"$f":"COUNTIF(L34:L39,AN12)","v":0},{"$f":"AO12/(AQ4-AO14)","v":{"$error":"#DIV/0!"}},{"$f":"IF(AP12=0,0,(AP12*((LOG(AP12))/LOG(2))))","v":{"$error":"#DIV/0!"}},null,{"$f":"N12","v":212},{"$f":"COUNTIF(L40:L46,AS12)","v":0},{"$f":"AT12/(AV4-AT14)","v":{"$error":"#DIV/0!"}},{"$f":"IF(AU12=0,0,(AU12*((LOG(AU12))/LOG(2))))","v":{"$error":"#DIV/0!"}}]
[21,855,21,867,21,871,null,null,null,null,0,222,null,221,{"$f":"COUNTIF($L$7:$L$500,N13)","v":0},{"$f":"O13/$Q$4","v":0},{"$f":"IF(P13=0,0,(P13*((LOG(P13))/LOG(2))))","v":0},null,null,{"$f":"N13","v":221},{"$f":"COUNTIF(L7:L13,T13)","v":0},{"$f":"U13/(W4-U14)","v":{"$error":"#DIV/0!"}},{"$f":"IF(V13=0,0,(V13*((LOG(V13))/LOG(2))))","v":{"$error":"#DIV/0!"}},null,{"$f":"N13","v":221},{"$f":"COUNTIF(L14:L19,Y13)","v":0},{"$f":"Z13/(AB4-Z14)","v":{"$error":"#DIV/0!"}},{"$f":"IF(AA13=0,0,(AA13*((LOG(AA13))/LOG(2))))","v":{"$error":"#DIV/0!"}},null,{"$f":"N13","v":221},{"$f":"COUNTIF(L20:L26,AD13)","v":0},{"$f":"AE13/(AG4-AE14)","v":{"$error":"#DIV/0!"}},{"$f":"IF(AF13=0,0,(AF13*((LOG(AF13))/LOG(2))))","v":{"$error":"#DIV/0!"}},null,{"$f":"N13","v":221},{"$f":"COUNTIF(L27:L33,AI13)","v":0},{"$f":"AJ13/(AL4-AJ14)","v":{"$error":"#DIV/0!"}},{"$f":"IF(AK13=0,0,(AK13*((LOG(AK13))/LOG(2))))","v":{"$error":"#DIV/0!"}},null,{"$f":"N13","v":221},{"$f":"COUNTIF(L34:L39,AN13)","v":0},{"$f":"AO13/(AQ4-AO14)","v":{"$error":"#DIV/0!"}},{"$f":"IF(AP13=0,0,(AP13*((LOG(AP13))/LOG(2))))","v":{"$error":"#DIV/0!"}},null,{"$f":"N13","v":221},{"$f":"COUNTIF(L40:L46,AS13)","v":0},{"$f":"AT13/(AV4-AT14)","v":{"$error":"#DIV/0!"}},{"$f":"IF(AU13=0,0,(AU13*((LOG(AU13))/LOG(2))))","v":{"$error":"#DIV/0!"}}]
[21,975,21,986,21,998,null,null,null,null,0,222,null,222,{"$f":"COUNTIF($L$7:$L$500,N14)","v":40},{"$f":"O14/$Q$4","v":1},{"$f":"IF(P14=0,0,(P14*((LOG(P14))/LOG(2))))","v":0},null,null,{"$f":"N14","v":222},{"$f":"COUNTIF(L7:L13,T14)","v":7},null,null,null,{"$f":"N14","v":222},{"$f":"COUNTIF(L14:L19,Y14)","v":6},null,null,null,{"$f":"N14","v":222},{"$f":"COUNTIF(L20:L26,AD14)","v":7},null,null,null,{"$f":"N14","v":222},{"$f":"COUNTIF(L27:L33,AI14)","v":7},null,null,null,{"$f":"N14","v":222},{"$f":"COUNTIF(L34:L39,AN14)","v":6},null,null,null,{"$f":"N14","v":222},{"$f":"COUNTIF(L40:L46,AS14)","v":7}]
[21,1091,21,1097,21,1103,null,null,null,null,0,222,null,null,null,{"$f":"SUM(P7:P14)","v":1},{"$f":"-SUM(Q7:Q14)","v":0},null,null,null,null,{"$f":"SUM(V7:V14)","v":{"$error":"#DIV/0!"}},{"$f":"-SUM(W7:W14)","v":{"$error":"#DIV/0!"}},null,null,null,{"$f":"SUM(AA7:AA14)","v":{"$error":"#DIV/0!"}},{"$f":"-SUM(AB7:AB14)","v":{"$error":"#DIV/0!"}},null,null,null,{"$f":"SUM(AF7:AF14)","v":{"$error":"#DIV/0!"}},{"$f":"-SUM(AG7:AG14)","v":{"$error":"#DIV/0!"}},null,null,null,{"$f":"SUM(AK7:AK14)","v":{"$error":"#DIV/0!"}},{"$f":"-SUM(AL7:AL14)","v":{"$error":"#DIV/0!"}},null,null,null,{"$f":"SUM(AP7:AP14)","v":{"$error":"#DIV/0!"}},{"$f":"-SUM(AQ7:AQ14)","v":{"$error":"#DIV/0!"}},null,null,null,{"$f":"SUM(AU7:AU14)","v":{"$error":"#DIV/0!"}},{"$f":"-SUM(AV7:AV14)","v":{"$error":"#DIV/0!"}}]
[21,1238,21,1248,21,1255,null,null,null,null,0,222,null,null,null,"U=",{"$f":"Q15/(LOG(Q4)/LOG(2))","v":0},null,null,null,null,"U1=",{"$f":"W15/(LOG(W4)/LOG(2))","v":{"$error":"#DIV/0!"}},null,null,null,"U2=",{"$f":"AB15/(LOG(AB4)/LOG(2))","v":{"$error":"#DIV/0!"}},null,null,null,"U3=",{"$f":"AG15/(LOG(AG4)/LOG(2))","v":{"$error":"#DIV/0!"}},null,null,null,"U4=",{"$f":"AL15/(LOG(AL4)/LOG(2))","v":{"$error":"#DIV/0!"}},null,null,null,"U5=",{"$f":"AQ15/(LOG(AQ4)/LOG(2))","v":{"$error":"#DIV/0!"}},null,null,null,"U6=",{"$f":"AV15/(LOG(AV4)/LOG(2))","v":{"$error":"#DIV/0!"}}]
[21,1348,21,1358,21,1368,null,null,null,null,0,222]
[21,1475,21,1483,21,1488,null,null,null,null,0,222]
[21,1578,21,1584,21,1591,null,null,null,null,0,222,null,"Total Target Seq"]
[21,1699,21,1708,21,1718,null,null,null,null,0,222,null,{"$f":"COUNTIF(L7:L46,G3)","v":40},null,7,6,7,7,6,7]
[21,1815,21,1822,21,1835,null,null,null,null,0,222,null,null,null,"% of reinforcement given in 6 equal intervals based on number of trials "]
[21,1928,21,1934,21,1941,null,null,null,null,0,222,null,null,null,"%_1","%_2","%_3","%_4","%_5","%_6"]
[21,2069,21,2080,21,2089,null,null,null,null,0,222,null,null,"target sequence",{"$f":"$G$3","v":222},{"$f":"$G$3","v":222},{"$f":"$G$3","v":222},{"$f":"$G$3","v":222},{"$f":"$G$3","v":222},{"$f":"$G$3","v":222}]
[21,2225,21,2248,21,2264,null,null,null,null,0,222,null,null,"total reinforcement",{"$f":"U14","v":7},{"$f":"Z14","v":6},{"$f":"AE14","v":7},{"$f":"AJ14","v":7},{"$f":"AO14","v":6},{"$f":"AT14","v":7}]
[21,2386,21,2392,21,2398,null,null,null,null,0,222,null,null,"% target"]
[21,2494,21,2503,21,2510,null,null,null,null,0,222,null,null,"CCRF"]
[21,2604,21,2609,21,2616,null,null,null,null,0,222,null,null,"% CCRf"]
[21,2722,21,2729,21,2737,null,null,null,null,0,222,null,null,"average response rate",{"$f":"F13/P20","v":124.42857142857143},{"$f":"(F19-F13)/Q20","v":120},{"$f":"(F26-F19)/R20","v":131.28571428571428},{"$f":"(F33-F26)/S20","v":119.71428571428571},{"$f":"(F39-F33)/T20","v":143.16666666666666},{"$f":"(F46-F39)/U20","v":124.57142857142857}]
[21,2836,21,2847,21,2854,null,null,null,null,0,222]
[21,2977,21,2987,21,2996,null,null,null,null,0,222]
[21,3093,21,3102,21,3125,null,null,null,null,0,222]
[21,3224,21,3237,21,3245,null,null,null,null,0,222]
[21,3335,21,3342,21,3348,null,null,null,null,0,222]
[21,3465,21,3480,21,3488,null,null,null,null,0,222]
[21,3619,21,3633,21,3641,null,null,null,null,0,222]
[21,3748,21,3754,21,3760,null,null,null,null,0,222]
[21,3858,21,3874,21,3879,null,null,null,null,0,222]
[21,3997,21,4003,21,4012,null,null,null,null,0,222]
[21,4184,21,4196,21,4207,null,null,null,null,0,222]
[21,4304,21,4323,21,4333,null,null,null,null,0,222]
[21,4424,21,4429,21,4439,null,null,null,null,0,222]
[21,4548,21,4556,21,4581,null,null,null,null,0,222]
[21,4700,21,4712,21,4722,null,null,null,null,0,222]
[21,4819,21,4826,21,4837,null,null,null,null,0,222]
[21,4935,21,4947,21,4959,null,null,null,null,0,222]
[21,5052,21,5068,21,5079,null,null,null,null,1,222]

{"sheet":"!M917A40.Gus","index":28,"n_rows":55,"n_cols":48,"rows_kept":55,"cut":false,"hidden":false,"merged":[[4,39,4,42],[5,39,5,40],[4,44,4,47],[5,44,5,45],[4,24,4,27],[5,24,5,25],[4,29,4,32],[5,29,5,30],[4,34,4,37],[5,34,5,35],[1,1,1,2],[5,13,5,14],[18,13,18,14],[19,13,19,14],[4,19,4,22],[5,19,5,20]]}
["Report for:!M917A40.Gus"]
["Date:","<date>"]
["Hen:","<hen>",null,null,null,"Correct Sequence",{"$f":"Start!J2","v":222},null,null,null,null,null,null,null,null,"Total Sequences in Data",{"$f":"4994-COUNTBLANK(L7:L5000)","v":49},null,null,null,null,"Total Sequences in Block Data",{"$f":"COUNTA(L7:L14)","v":8},null,null,null,"Total Sequences in Block Data",{"$f":"COUNTA(L15:L22)","v":8},null,null,null,"Total Sequences in Block Data",{"$f":"COUNTA(L23:L31)","v":9},null,null,null,"Total Sequences in Block Data",{"$f":"COUNTA(L32:L39)","v":8},null,null,null,"Total Sequences in Block Data",{"$f":"COUNTA(L40:L47)","v":8},null,null,null,"Total Sequences in Block Data",{"$f":"COUNTA(L48:L55)","v":8}]
[null,null,null,null,null,null,null,null,null,null,null,null,null,null,null,"Total Sequences in Summary",{"$f":"SUM(O7:O14)","v":49},null,null,null,null,"Total Sequences in Block Summary",{"$f":"SUM(U7:U14)","v":8},null,null,null,"Total Sequences in Block Summary",{"$f":"SUM(Z7:Z14)","v":8},null,null,null,"Total Sequences in Block Summary",{"$f":"SUM(AE7:AE14)","v":9},null,null,null,"Total Sequences in Block Summary",{"$f":"SUM(AJ7:AJ14)","v":8},null,null,null,"Total Sequences in Block Summary",{"$f":"SUM(AO7:AO14)","v":8},null,null,null,"Total Sequences in Block Summary",{"$f":"SUM(AT7:AT14)","v":8}]
[null,null,null,null,null,null,null,null,null,null,null,null,null,null,null,null,null,null,null,"Block 1",null,null,null,null,"Block 2",null,null,null,null,"Block 3",null,null,null,null,"Block 4",null,null,null,null,"Block 5",null,null,null,null,"Block 6"]
["Sequence\nComponent\n1","Time\n1","Sequence\nComponent\n2","Time\n2","Sequence\nComponent\n3","Time\n3","Sequence\nComponent\n4","Time\n4","Sequence\nComponent\n5","Time\n5","Correct?\n0=No 1=Yes","Sequence",null,"Frequency",null,"Relative Frequency","Variability",null,null,"Frequency",null,"Relative Frequency","Variability",null,"Frequency",null,"Relative Frequency","Variability",null,"Frequency",null,"Relative Frequency","Variability",null,"Frequency",null,"Relative Frequency","Variability",null,"Frequency",null,"Relative Frequency","Variability",null,"Frequency",null,"Relative Frequency","Variability"]
[12,6,23,16,23,28,null,null,null,null,0,122,null,111,{"$f":"COUNTIF($L$7:$L$500,N7)","v":0},{"$f":"O7/$Q$4","v":0},{"$f":"IF(P7=0,0,(P7*((LOG(P7))/LOG(2))))","v":0},null,null,{"$f":"N7","v":111},{"$f":"COUNTIF(L7:L14,T7)","v":0},{"$f":"U7/(W4-U14)","v":0},{"$f":"IF(V7=0,0,(V7*((LOG(V7))/LOG(2))))","v":0},null,{"$f":"N7","v":111},{"$f":"COUNTIF(L15:L22,Y7)","v":0},{"$f":"Z7/(AB4-Z14)","v":{"$error":"#DIV/0!"}},{"$f":"IF(AA7=0,0,(AA7*((LOG(AA7))/LOG(2))))","v":{"$error":"#DIV/0!"}},null,{"$f":"N7","v":111},{"$f":"COUNTIF(L23:L31,AD7)","v":0},{"$f":"AE7/(AG4-AE14)","v":0},{"$f":"IF(AF7=0,0,(AF7*((LOG(AF7))/LOG(2))))","v":0},null,{"$f":"N7","v":111},{"$f":"COUNTIF(L32:L39,AI7)","v":0},{"$f":"AJ7/(AL4-AJ14)","v":0},{"$f":"IF(AK7=0,0,(AK7*((LOG(AK7))/LOG(2))))","v":0},null,{"$f":"N7","v":111},{"$f":"COUNTIF(L40:L47,AN7)","v":0},{"$f":"AO7/(AQ4-AO14)","v":{"$error":"#DIV/0!"}},{"$f":"IF(AP7=0,0,(AP7*((LOG(AP7))/LOG(2))))","v":{"$error":"#DIV/0!"}},null,{"$f":"N7","v":111},{"$f":"COUNTIF(L48:L55,AS7)","v":0},{"$f":"AT7/(AV4-AT14)","v":0},{"$f":"IF(AU7=0,0,(AU7*((LOG(AU7))/LOG(2))))","v":0}]
[12,128,23,145,23,149,null,null,null,null,0,122,null,112,{"$f":"COUNTIF($L$7:$L$500,N8)","v":0},{"$f":"O8/$Q$4","v":0},{"$f":"IF(P8=0,0,(P8*((LOG(P8))/LOG(2))))","v":0},null,null,{"$f":"N8","v":112},{"$f":"COUNTIF(L7:L14,T8)","v":0},{"$f":"U8/(W4-U14)","v":0},{"$f":"IF(V8=0,0,(V8*((LOG(V8))/LOG(2))))","v":0},null,{"$f":"N8","v":112},{"$f":"COUNTIF(L15:L22,Y8)","v":0},{"$f":"Z8/(AB4-Z14)","v":{"$error":"#DIV/0!"}},{"$f":"IF(AA8=0,0,(AA8*((LOG(AA8))/LOG(2))))","v":{"$error":"#DIV/0!"}},null,{"$f":"N8","v":112},{"$f":"COUNTIF(L23:L31,AD8)","v":0},{"$f":"AE8/(AG4-AE14)","v":0},{"$f":"IF(AF8=0,0,(AF8*((LOG(AF8))/LOG(2))))","v":0},null,{"$f":"N8","v":112},{"$f":"COUNTIF(L32:L39,AI8)","v":0},{"$f":"AJ8/(AL4-AJ14)","v":0},{"$f":"IF(AK8=0,0,(AK8*((LOG(AK8))/LOG(2))))","v":0},null,{"$f":"N8","v":112},{"$f":"COUNTIF(L40:L47,AN8)","v":0},{"$f":"AO8/(AQ4-AO14)","v":{"$error":"#DIV/0!"}},{"$f":"IF(AP8=0,0,(AP8*((LOG(AP8))/LOG(2))))","v":{"$error":"#DIV/0!"}},null,{"$f":"N8","v":112},{"$f":"COUNTIF(L48:L55,AS8)","v":0},{"$f":"AT8/(AV4-AT14)","v":0},{"$f":"IF(AU8=0,0,(AU8*((LOG(AU8))/LOG(2))))","v":0}]
[21,245,21,250,21,254,null,null,null,null,0,222,null,121,{"$f":"COUNTIF($L$7:$L$500,N9)","v":0},{"$f":"O9/$Q$4","v":0},{"$f":"IF(P9=0,0,(P9*((LOG(P9))/LOG(2))))","v":0},null,null,{"$f":"N9","v":121},{"$f":"COUNTIF(L7:L14,T9)","v":0},{"$f":"U9/(W4-U14)","v":0},{"$f":"IF(V9=0,0,(V9*((LOG(V9))/LOG(2))))","v":0},null,{"$f":"N9","v":121},{"$f":"COUNTIF(L15:L22,Y9)","v":0},{"$f":"Z9/(AB4-Z14)","v":{"$error":"#DIV/0!"}},{"$f":"IF(AA9=0,0,(AA9*((LOG(AA9))/LOG(2))))","v":{"$error":"#DIV/0!"}},null,{"$f":"N9","v":121},{"$f":"COUNTIF(L23:L31,AD9)","v":0},{"$f":"AE9/(AG4-AE14)","v":0},{"$f":"IF(AF9=0,0,(AF9*((LOG(AF9))/LOG(2))))","v":0},null,{"$f":"N9","v":121},{"$f":"COUNTIF(L32:L39,AI9)","v":0},{"$f":"AJ9/(AL4-AJ14)","v":0},{"$f":"IF(AK9=0,0,(AK9*((LOG(AK9))/LOG(2))))","v":0},null,{"$f":"N9","v":121},{"$f":"COUNTIF(L40:L47,AN9)","v":0},{"$f":"AO9/(AQ4-AO14)","v":{"$error":"#DIV/0!"}},{"$f":"IF(AP9=0,0,(AP9*((LOG(AP9))/LOG(2))))","v":{"$error":"#DIV/0!"}},null,{"$f":"N9","v":121},{"$f":"COUNTIF(L48:L55,AS9)","v":0},{"$f":"AT9/(AV4-AT14)","v":0},{"$f":"IF(AU9=0,0,(AU9*((LOG(AU9))/LOG(2))))","v":0}]
[21,343,21,349,21,355,null,null,null,null,0,222,null,122,{"$f":"COUNTIF($L$7:$L$500,N10)","v":4},{"$f":"O10/$Q$4","v":8.1632653061224483E-2},{"$f":"IF(P10=0,0,(P10*((LOG(P10))/LOG(2))))","v":-0.29507835462164966},null,null,{"$f":"N10","v":122},{"$f":"COUNTIF(L7:L14,T10)","v":2},{"$f":"U10/(W4-U14)","v":1},{"$f":"IF(V10=0,0,(V10*((LOG(V10))/LOG(2))))","v":0},null,{"$f":"N10","v":122},{"$f":"COUNTIF(L15:L22,Y10)","v":0},{"$f":"Z10/(AB4-Z14)","v":{"$error":"#DIV/0!"}},{"$f":"IF(AA10=0,0,(AA10*((LOG(AA10))/LOG(2))))","v":{"$error":"#DIV/0!"}},null,{"$f":"N10","v":122},{"$f":"COUNTIF(L23:L31,AD10)","v":1},{"$f":"AE10/(AG4-AE14)","v":0.25},{"$f":"IF(AF10=0,0,(AF10*((LOG(AF10))/LOG(2))))","v":-0.5},null,{"$f":"N10","v":122},{"$f":"COUNTIF(L32:L39,AI10)","v":1},{"$f":"AJ10/(AL4-AJ14)","v":0.5},{"$f":"IF(AK10=0,0,(AK10*((LOG(AK10))/LOG(2))))","v":-0.5},null,{"$f":"N10","v":122},{"$f":"COUNTIF(L40:L47,AN10)","v":0},{"$f":"AO10/(AQ4-AO14)","v":{"$error":"#DIV/0!"}},{"$f":"IF(AP10=0,0,(AP10*((LOG(AP10))/LOG(2))))","v":{"$error":"#DIV/0!"}},null,{"$f":"N10","v":122},{"$f":"COUNTIF(L48:L55,AS10)","v":0},{"$f":"AT10/(AV4-AT14)","v":0},{"$f":"IF(AU10=0,0,(AU10*((LOG(AU10))/LOG(2))))","v":0}]
[21,447,21,455,21,461,null,null,null,null,0,222,null,211,{"$f":"COUNTIF($L$7:$L$500,N11)","v":0},{"$f":"O11/$Q$4","v":0},{"$f":"IF(P11=0,0,(P11*((LOG(P11))/LOG(2))))","v":0},null,null,{"$f":"N11","v":211},{"$f":"COUNTIF(L7:L14,T11)","v":0},{"$f":"U11/(W4-U14)","v":0},{"$f":"IF(V11=0,0,(V11*((LOG(V11))/LOG(2))))","v":0},null,{"$f":"N11","v":211},{"$f":"COUNTIF(L15:L22,Y11)","v":0},{"$f":"Z11/(AB4-Z14)","v":{"$error":"#DIV/0!"}},{"$f":"IF(AA11=0,0,(AA11*((LOG(AA11))/LOG(2))))","v":{"$error":"#DIV/0!"}},null,{"$f":"N11","v":211},{"$f":"COUNTIF(L23:L31,AD11)","v":0},{"$f":"AE11/(AG4-AE14)","v":0},{"$f":"IF(AF11=0,0,(AF11*((LOG(AF11))/LOG(2))))","v":0},null,{"$f":"N11","v":211},{"$f":"COUNTIF(L32:L39,AI11)","v":0},{"$f":"AJ11/(AL4-AJ14)","v":0},{"$f":"IF(AK11=0,0,(AK11*((LOG(AK11))/LOG(2))))","v":0},null,{"$f":"N11","v":211},{"$f":"COUNTIF(L40:L47,AN11)","v":0},{"$f":"AO11/(AQ4-AO14)","v":{"$error":"#DIV/0!"}},{"$f":"IF(AP11=0,0,(AP11*((LOG(AP11))/LOG(2))))","v":{"$error":"#DIV/0!"}},null,{"$f":"N11","v":211},{"$f":"COUNTIF(L48:L55,AS11)","v":0},{"$f":"AT11/(AV4-AT14)","v":0},{"$f":"IF(AU11=0,0,(AU11*((LOG(AU11))/LOG(2))))","v":0}]
[21,551,21,564,21,576,null,null,null,null,0,222,null,212,{"$f":"COUNTIF($L$7:$L$500,N12)","v":5},{"$f":"O12/$Q$4","v":0.10204081632653061},{"$f":"IF(P12=0,0,(P12*((LOG(P12))/LOG(2))))","v":-0.33599813767631082},null,null,{"$f":"N12","v":212},{"$f":"COUNTIF(L7:L14,T12)","v":0},{"$f":"U12/(W4-U14)","v":0},{"$f":"IF(V12=0,0,(V12*((LOG(V12))/LOG(2))))","v":0},null,{"$f":"N12","v":212},{"$f":"COUNTIF(L15:L22,Y12)","v":0},{"$f":"Z12/(AB4-Z14)","v":{"$error":"#DIV/0!"}},{"$f":"IF(AA12=0,0,(AA12*((LOG(AA12))/LOG(2))))","v":{"$error":"#DIV/0!"}},null,{"$f":"N12","v":212},{"$f":"COUNTIF(L23:L31,AD12)","v":3},{"$f":"AE12/(AG4-AE14)","v":0.75},{"$f":"IF(AF12=0,0,(AF12*((LOG(AF12))/LOG(2))))","v":-0.31127812445913283},null,{"$f":"N12","v":212},{"$f":"COUNTIF(L32:L39,AI12)","v":1},{"$f":"AJ12/(AL4-AJ14)","v":0.5},{"$f":"IF(AK12=0,0,(AK12*((LOG(AK12))/LOG(2))))","v":-0.5},null,{"$f":"N12","v":212},{"$f":"COUNTIF(L40:L47,AN12)","v":0},{"$f":"AO12/(AQ4-AO14)","v":{"$error":"#DIV/0!"}},{"$f":"IF(AP12=0,0,(AP12*((LOG(AP12))/LOG(2))))","v":{"$error":"#DIV/0!"}},null,{"$f":"N12","v":212},{"$f":"COUNTIF(L48:L55,AS12)","v":1},{"$f":"AT12/(AV4-AT14)","v":1},{"$f":"IF(AU12=0,0,(AU12*((LOG(AU12))/LOG(2))))","v":0}]
[21,666,21,670,21,675,null,null,null,null,0,222,null,221,{"$f":"COUNTIF($L$7:$L$500,N13)","v":0},{"$f":"O13/$Q$4","v":0},{"$f":"IF(P13=0,0,(P13*((LOG(P13))/LOG(2))))","v":0},null,null,{"$f":"N13","v":221},{"$f":"COUNTIF(L7:L14,T13)","v":0},{"$f":"U13/(W4-U14)","v":0},{"$f":"IF(V13=0,0,(V13*((LOG(V13))/LOG(2))))","v":0},null,{"$f":"N13","v":221},{"$f":"COUNTIF(L15:L22,Y13)","v":0},{"$f":"Z13/(AB4-Z14)","v":{"$error":"#DIV/0!"}},{"$f":"IF(AA13=0,0,(AA13*((LOG(AA13))/LOG(2))))","v":{"$error":"#DIV/0!"}},null,{"$f":"N13","v":221},{"$f":"COUNTIF(L23:L31,AD13)","v":0},{"$f":"AE13/(AG4-AE14)","v":0},{"$f":"IF(AF13=0,0,(AF13*((LOG(AF13))/LOG(2))))","v":0},null,{"$f":"N13","v":221},{"$f":"COUNTIF(L32:L39,AI13)","v":0},{"$f":"AJ13/(AL4-AJ14)","v":0},{"$f":"IF(AK13=0,0,(AK13*((LOG(AK13))/LOG(2))))","v":0},null,{"$f":"N13","v":221},{"$f":"COUNTIF(L40:L47,AN13)","v":0},{"$f":"AO13/(AQ4-AO14)","v":{"$error":"#DIV/0!"}},{"$f":"IF(AP13=0,0,(AP13*((LOG(AP13))/LOG(2))))","v":{"$error":"#DIV/0!"}},null,{"$f":"N13","v":221},{"$f":"COUNTIF(L48:L55,AS13)","v":0},{"$f":"AT13/(AV4-AT14)","v":0},{"$f":"IF(AU13=0,0,(AU13*((LOG(AU13))/LOG(2))))","v":0}]
[21,867,21,873,21,878,null,null,null,null,0,222,null,222,{"$f":"COUNTIF($L$7:$L$500,N14)","v":40},{"$f":"O14/$Q$4","v":0.81632653061224492},{"$f":"IF(P14=0,0,(P14*((LOG(P14))/LOG(2))))","v":-0.23900550957375172},null,null,{"$f":"N14","v":222},{"$f":"COUNTIF(L7:L14,T14)","v":6},null,null,null,{"$f":"N14","v":222},{"$f":"COUNTIF(L15:L22,Y14)","v":8},null,null,null,{"$f":"N14","v":222},{"$f":"COUNTIF(L23:L31,AD14)","v":5},null,null,null,{"$f":"N14","v":222},{"$f":"COUNTIF(L32:L39,AI14)","v":6},null,null,null,{"$f":"N14","v":222},{"$f":"COUNTIF(L40:L47,AN14)","v":8},null,null,null,{"$f":"N14","v":222},{"$f":"COUNTIF(L48:L55,AS14)","v":7}]
[21,1102,21,1105,21,1148,null,null,null,null,0,222,null,null,null,{"$f":"SUM(P7:P14)","v":1},{"$f":"-SUM(Q7:Q14)","v":0.87008200187171214},null,null,null,null,{"$f":"SUM(V7:V14)","v":1},{"$f":"-SUM(W7:W14)","v":0},null,null,null,{"$f":"SUM(AA7:AA14)","v":{"$error":"#DIV/0!"}},{"$f":"-SUM(AB7:AB14)","v":{"$error":"#DIV/0!"}},null,null,null,{"$f":"SUM(AF7:AF14)","v":1},{"$f":"-SUM(AG7:AG14)","v":0.81127812445913283},null,null,null,{"$f":"SUM(AK7:AK14)","v":1},{"$f":"-SUM(AL7:AL14)","v":1},null,null,null,{"$f":"SUM(AP7:AP14)","v":{"$error":"#DIV/0!"}},{"$f":"-SUM(AQ7:AQ14)","v":{"$error":"#DIV/0!"}},null,null,null,{"$f":"SUM(AU7:AU14)","v":1},{"$f":"-SUM(AV7:AV14)","v":0}]
[21,1579,21,1598,21,1605,null,null,null,null,0,222,null,null,null,"U=",{"$f":"Q15/(LOG(Q4)/LOG(2))","v":0.15496473122001972},null,null,null,null,"U1=",{"$f":"W15/(LOG(W4)/LOG(2))","v":0},null,null,null,"U2=",{"$f":"AB15/(LOG(AB4)/LOG(2))","v":{"$error":"#DIV/0!"}},null,null,null,"U3=",{"$f":"AG15/(LOG(AG4)/LOG(2))","v":0.25592975357145742},null,null,null,"U4=",{"$f":"AL15/(LOG(AL4)/LOG(2))","v":0.33333333333333331},null,null,null,"U5=",{"$f":"AQ15/(LOG(AQ4)/LOG(2))","v":{"$error":"#DIV/0!"}},null,null,null,"U6=",{"$f":"AV15/(LOG(AV4)/LOG(2))","v":0}]
[21,1853,21,1871,21,1880,null,null,null,null,0,222]
[21,2029,21,2051,21,2072,null,null,null,null,0,222]
[21,2420,21,2427,21,2447,null,null,null,null,0,222,null,"Total Target Seq"]
[21,2629,21,2647,21,2659,null,null,null,null,0,222,null,{"$f":"COUNTIF(L7:L55,G3)","v":40},null,8,8,9,8,8,8]
[21,2803,21,2810,21,2828,null,null,null,null,0,222,null,null,null,"% of reinforcement given in 6 equal intervals based on number of trials "]
[21,2918,21,2925,21,2932,null,null,null,null,0,222,null,null,null,"%_1","%_2","%_3","%_4","%_5","%_6"]
[21,3033,12,3039,23,3043,null,null,null,null,0,212,null,null,"target sequence",{"$f":"$G$3","v":222},{"$f":"$G$3","v":222},{"$f":"$G$3","v":222},{"$f":"$G$3","v":222},{"$f":"$G$3","v":222},{"$f":"$G$3","v":222}]
[21,3139,21,3146,21,3155,null,null,null,null,0,222,null,null,"total reinforcement",{"$f":"U14","v":6},{"$f":"Z14","v":8},{"$f":"AE14","v":5},{"$f":"AJ14","v":6},{"$f":"AO14","v":8},{"$f":"AT14","v":7}]
[21,3246,21,3255,21,3266,null,null,null,null,0,222,null,null,"% target"]
[21,3355,21,3361,21,3369,null,null,null,null,0,222,null,null,"CCRF"]
[21,3457,21,3459,21,3465,null,null,null,null,0,222,null,null,"% CCRf"]
[12,3675,23,3685,23,3696,null,null,null,null,0,122,null,null,"average response rate",{"$f":"F14/P20","v":109.75},{"$f":"(F22-F14)/Q20","v":256.75},{"$f":"(F31-F22)/R20","v":120.33333333333333},{"$f":"(F39-F31)/S20","v":127.375},{"$f":"(F47-F39)/T20","v":160.625},{"$f":"(F55-F47)/U20","v":163.75}]
[21,3794,12,3798,23,3801,null,null,null,null,0,212]
[21,3896,21,3908,21,3915,null,null,null,null,0,222]
[21,4005,12,4011,23,4015,null,null,null,null,0,212]
[21,4115,21,4118,21,4119,null,null,null,null,0,222]
[21,4208,21,4213,21,4221,null,null,null,null,0,222]
[21,4321,12,4328,23,4347,null,null,null,null,0,212]
[21,4439,21,4444,21,4450,null,null,null,null,0,222]
[21,4562,21,4567,21,4583,null,null,null,null,0,222]
[21,4741,21,4750,21,4757,null,null,null,null,0,222]
[12,4917,23,4928,23,4933,null,null,null,null,0,122]
[21,5025,21,5029,21,5034,null,null,null,null,0,222]
[21,5154,21,5165,21,5174,null,null,null,null,0,222]
[21,5335,21,5341,21,5352,null,null,null,null,0,222]
[21,5478,21,5489,21,5504,null,null,null,null,0,222]
[21,5606,21,5623,21,5637,null,null,null,null,0,222]
[21,5724,21,5732,21,5737,null,null,null,null,0,222]
[21,6005,21,6008,21,6020,null,null,null,null,0,222]
[21,6168,21,6181,21,6189,null,null,null,null,0,222]
[21,6300,21,6312,21,6319,null,null,null,null,0,222]
[21,6412,21,6420,21,6432,null,null,null,null,0,222]
[21,6563,21,6566,21,6574,null,null,null,null,0,222]
[21,6749,21,6762,21,6785,null,null,null,null,0,222]
[21,6921,21,6929,21,6937,null,null,null,null,0,222]
[21,7115,12,7121,23,7127,null,null,null,null,0,212]
[21,7314,21,7325,21,7337,null,null,null,null,0,222]
[21,7492,21,7499,21,7509,null,null,null,null,0,222]
[21,7615,21,7622,21,7629,null,null,null,null,1,222]

{"sheet":"!M918A20.Gus","index":29,"n_rows":47,"n_cols":48,"rows_kept":47,"cut":false,"hidden":false,"merged":[[4,39,4,42],[5,39,5,40],[4,44,4,47],[5,44,5,45],[4,24,4,27],[5,24,5,25],[4,29,4,32],[5,29,5,30],[4,34,4,37],[5,34,5,35],[1,1,1,2],[5,13,5,14],[18,13,18,14],[19,13,19,14],[4,19,4,22],[5,19,5,20]]}
["Report for:!M918A20.Gus"]
["Date:","<date>"]
["Hen:","<hen>",null,null,null,"Correct Sequence",{"$f":"Start!J2","v":222},null,null,null,null,null,null,null,null,"Total Sequences in Data",{"$f":"4994-COUNTBLANK(L7:L5000)","v":41},null,null,null,null,"Total Sequences in Block Data",{"$f":"COUNTA(L7:L13)","v":7},null,null,null,"Total Sequences in Block Data",{"$f":"COUNTA(L14:L20)","v":7},null,null,null,"Total Sequences in Block Data",{"$f":"COUNTA(L21:L26)","v":6},null,null,null,"Total Sequences in Block Data",{"$f":"COUNTA(L27:L33)","v":7},null,null,null,"Total Sequences in Block Data",{"$f":"COUNTA(L34:L40)","v":7},null,null,null,"Total Sequences in Block Data",{"$f":"COUNTA(L41:L47)","v":7}]
[null,null,null,null,null,null,null,null,null,null,null,null,null,null,null,"Total Sequences in Summary",{"$f":"SUM(O7:O14)","v":41},null,null,null,null,"Total Sequences in Block Summary",{"$f":"SUM(U7:U14)","v":7},null,null,null,"Total Sequences in Block Summary",{"$f":"SUM(Z7:Z14)","v":7},null,null,null,"Total Sequences in Block Summary",{"$f":"SUM(AE7:AE14)","v":6},null,null,null,"Total Sequences in Block Summary",{"$f":"SUM(AJ7:AJ14)","v":7},null,null,null,"Total Sequences in Block Summary",{"$f":"SUM(AO7:AO14)","v":7},null,null,null,"Total Sequences in Block Summary",{"$f":"SUM(AT7:AT14)","v":7}]
[null,null,null,null,null,null,null,null,null,null,null,null,null,null,null,null,null,null,null,"Block 1",null,null,null,null,"Block 2",null,null,null,null,"Block 3",null,null,null,null,"Block 4",null,null,null,null,"Block 5",null,null,null,null,"Block 6"]
["Sequence\nComponent\n1","Time\n1","Sequence\nComponent\n2","Time\n2","Sequence\nComponent\n3","Time\n3","Sequence\nComponent\n4","Time\n4","Sequence\nComponent\n5","Time\n5","Correct?\n0=No 1=Yes","Sequence",null,"Frequency",null,"Relative Frequency","Variability",null,null,"Frequency",null,"Relative Frequency","Variability",null,"Frequency",null,"Relative Frequency","Variability",null,"Frequency",null,"Relative Frequency","Variability",null,"Frequency",null,"Relative Frequency","Variability",null,"Frequency",null,"Relative Frequency","Variability",null,"Frequency",null,"Relative Frequency","Variability"]
[21,19,21,25,21,31,null,null,null,null,0,222,null,111,{"$f":"COUNTIF($L$7:$L$500,N7)","v":0},{"$f":"O7/$Q$4","v":0},{"$f":"IF(P7=0,0,(P7*((LOG(P7))/LOG(2))))","v":0},null,null,{"$f":"N7","v":111},{"$f":"COUNTIF(L7:L13,T7)","v":0},{"$f":"U7/(W4-U14)","v":{"$error":"#DIV/0!"}},{"$f":"IF(V7=0,0,(V7*((LOG(V7))/LOG(2))))","v":{"$error":"#DIV/0!"}},null,{"$f":"N7","v":111},{"$f":"COUNTIF(L14:L20,Y7)","v":0},{"$f":"Z7/(AB4-Z14)","v":{"$error":"#DIV/0!"}},{"$f":"IF(AA7=0,0,(AA7*((LOG(AA7))/LOG(2))))","v":{"$error":"#DIV/0!"}},null,{"$f":"N7","v":111},{"$f":"COUNTIF(L21:L26,AD7)","v":0},{"$f":"AE7/(AG4-AE14)","v":0},{"$f":"IF(AF7=0,0,(AF7*((LOG(AF7))/LOG(2))))","v":0},null,{"$f":"N7","v":111},{"$f":"COUNTIF(L27:L33,AI7)","v":0},{"$f":"AJ7/(AL4-AJ14)","v":0},{"$f":"IF(AK7=0,0,(AK7*((LOG(AK7))/LOG(2))))","v":0},null,{"$f":"N7","v":111},{"$f":"COUNTIF(L34:L40,AN7)","v":0},{"$f":"AO7/(AQ4-AO14)","v":{"$error":"#DIV/0!"}},{"$f":"IF(AP7=0,0,(AP7*((LOG(AP7))/LOG(2))))","v":{"$error":"#DIV/0!"}},null,{"$f":"N7","v":111},{"$f":"COUNTIF(L41:L47,AS7)","v":0},{"$f":"AT7/(AV4-AT14)","v":{"$error":"#DIV/0!"}},{"$f":"IF(AU7=0,0,(AU7*((LOG(AU7))/LOG(2))))","v":{"$error":"#DIV/0!"}}]
[21,126,21,130,21,136,null,null,null,null,0,222,null,112,{"$f":"COUNTIF($L$7:$L$500,N8)","v":0},{"$f":"O8/$Q$4","v":0},{"$f":"IF(P8=0,0,(P8*((LOG(P8))/LOG(2))))","v":0},null,null,{"$f":"N8","v":112},{"$f":"COUNTIF(L7:L13,T8)","v":0},{"$f":"U8/(W4-U14)","v":{"$error":"#DIV/0!"}},{"$f":"IF(V8=0,0,(V8*((LOG(V8))/LOG(2))))","v":{"$error":"#DIV/0!"}},null,{"$f":"N8","v":112},{"$f":"COUNTIF(L14:L20,Y8)","v":0},{"$f":"Z8/(AB4-Z14)","v":{"$error":"#DIV/0!"}},{"$f":"IF(AA8=0,0,(AA8*((LOG(AA8))/LOG(2))))","v":{"$error":"#DIV/0!"}},null,{"$f":"N8","v":112},{"$f":"COUNTIF(L21:L26,AD8)","v":0},{"$f":"AE8/(AG4-AE14)","v":0},{"$f":"IF(AF8=0,0,(AF8*((LOG(AF8))/LOG(2))))","v":0},null,{"$f":"N8","v":112},{"$f":"COUNTIF(L27:L33,AI8)","v":0},{"$f":"AJ8/(AL4-AJ14)","v":0},{"$f":"IF(AK8=0,0,(AK8*((LOG(AK8))/LOG(2))))","v":0},null,{"$f":"N8","v":112},{"$f":"COUNTIF(L34:L40,AN8)","v":0},{"$f":"AO8/(AQ4-AO14)","v":{"$error":"#DIV/0!"}},{"$f":"IF(AP8=0,0,(AP8*((LOG(AP8))/LOG(2))))","v":{"$error":"#DIV/0!"}},null,{"$f":"N8","v":112},{"$f":"COUNTIF(L41:L47,AS8)","v":0},{"$f":"AT8/(AV4-AT14)","v":{"$error":"#DIV/0!"}},{"$f":"IF(AU8=0,0,(AU8*((LOG(AU8))/LOG(2))))","v":{"$error":"#DIV/0!"}}]
[21,227,21,240,21,248,null,null,null,null,0,222,null,121,{"$f":"COUNTIF($L$7:$L$500,N9)","v":0},{"$f":"O9/$Q$4","v":0},{"$f":"IF(P9=0,0,(P9*((LOG(P9))/LOG(2))))","v":0},null,null,{"$f":"N9","v":121},{"$f":"COUNTIF(L7:L13,T9)","v":0},{"$f":"U9/(W4-U14)","v":{"$error":"#DIV/0!"}},{"$f":"IF(V9=0,0,(V9*((LOG(V9))/LOG(2))))","v":{"$error":"#DIV/0!"}},null,{"$f":"N9","v":121},{"$f":"COUNTIF(L14:L20,Y9)","v":0},{"$f":"Z9/(AB4-Z14)","v":{"$error":"#DIV/0!"}},{"$f":"IF(AA9=0,0,(AA9*((LOG(AA9))/LOG(2))))","v":{"$error":"#DIV/0!"}},null,{"$f":"N9","v":121},{"$f":"COUNTIF(L21:L26,AD9)","v":0},{"$f":"AE9/(AG4-AE14)","v":0},{"$f":"IF(AF9=0,0,(AF9*((LOG(AF9))/LOG(2))))","v":0},null,{"$f":"N9","v":121},{"$f":"COUNTIF(L27:L33,AI9)","v":0},{"$f":"AJ9/(AL4-AJ14)","v":0},{"$f":"IF(AK9=0,0,(AK9*((LOG(AK9))/LOG(2))))","v":0},null,{"$f":"N9","v":121},{"$f":"COUNTIF(L34:L40,AN9)","v":0},{"$f":"AO9/(AQ4-AO14)","v":{"$error":"#DIV/0!"}},{"$f":"IF(AP9=0,0,(AP9*((LOG(AP9))/LOG(2))))","v":{"$error":"#DIV/0!"}},null,{"$f":"N9","v":121},{"$f":"COUNTIF(L41:L47,AS9)","v":0},{"$f":"AT9/(AV4-AT14)","v":{"$error":"#DIV/0!"}},{"$f":"IF(AU9=0,0,(AU9*((LOG(AU9))/LOG(2))))","v":{"$error":"#DIV/0!"}}]
[21,393,21,399,21,406,null,null,null,null,0,222,null,122,{"$f":"COUNTIF($L$7:$L$500,N10)","v":0},{"$f":"O10/$Q$4","v":0},{"$f":"IF(P10=0,0,(P10*((LOG(P10))/LOG(2))))","v":0},null,null,{"$f":"N10","v":122},{"$f":"COUNTIF(L7:L13,T10)","v":0},{"$f":"U10/(W4-U14)","v":{"$error":"#DIV/0!"}},{"$f":"IF(V10=0,0,(V10*((LOG(V10))/LOG(2))))","v":{"$error":"#DIV/0!"}},null,{"$f":"N10","v":122},{"$f":"COUNTIF(L14:L20,Y10)","v":0},{"$f":"Z10/(AB4-Z14)","v":{"$error":"#DIV/0!"}},{"$f":"IF(AA10=0,0,(AA10*((LOG(AA10))/LOG(2))))","v":{"$error":"#DIV/0!"}},null,{"$f":"N10","v":122},{"$f":"COUNTIF(L21:L26,AD10)","v":0},{"$f":"AE10/(AG4-AE14)","v":0},{"$f":"IF(AF10=0,0,(AF10*((LOG(AF10))/LOG(2))))","v":0},null,{"$f":"N10","v":122},{"$f":"COUNTIF(L27:L33,AI10)","v":0},{"$f":"AJ10/(AL4-AJ14)","v":0},{"$f":"IF(AK10=0,0,(AK10*((LOG(AK10))/LOG(2))))","v":0},null,{"$f":"N10","v":122},{"$f":"COUNTIF(L34:L40,AN10)","v":0},{"$f":"AO10/(AQ4-AO14)","v":{"$error":"#DIV/0!"}},{"$f":"IF(AP10=0,0,(AP10*((LOG(AP10))/LOG(2))))","v":{"$error":"#DIV/0!"}},null,{"$f":"N10","v":122},{"$f":"COUNTIF(L41:L47,AS10)","v":0},{"$f":"AT10/(AV4-AT14)","v":{"$error":"#DIV/0!"}},{"$f":"IF(AU10=0,0,(AU10*((LOG(AU10))/LOG(2))))","v":{"$error":"#DIV/0!"}}]
[21,578,21,583,21,592,null,null,null,null,0,222,null,211,{"$f":"COUNTIF($L$7:$L$500,N11)","v":0},{"$f":"O11/$Q$4","v":0},{"$f":"IF(P11=0,0,(P11*((LOG(P11))/LOG(2))))","v":0},null,null,{"$f":"N11","v":211},{"$f":"COUNTIF(L7:L13,T11)","v":0},{"$f":"U11/(W4-U14)","v":{"$error":"#DIV/0!"}},{"$f":"IF(V11=0,0,(V11*((LOG(V11))/LOG(2))))","v":{"$error":"#DIV/0!"}},null,{"$f":"N11","v":211},{"$f":"COUNTIF(L14:L20,Y11)","v":0},{"$f":"Z11/(AB4-Z14)","v":{"$error":"#DIV/0!"}},{"$f":"IF(AA11=0,0,(AA11*((LOG(AA11))/LOG(2))))","v":{"$error":"#DIV/0!"}},null,{"$f":"N11","v":211},{"$f":"COUNTIF(L21:L26,AD11)","v":0},{"$f":"AE11/(AG4-AE14)","v":0},{"$f":"IF(AF11=0,0,(AF11*((LOG(AF11))/LOG(2))))","v":0},null,{"$f":"N11","v":211},{"$f":"COUNTIF(L27:L33,AI11)","v":0},{"$f":"AJ11/(AL4-AJ14)","v":0},{"$f":"IF(AK11=0,0,(AK11*((LOG(AK11))/LOG(2))))","v":0},null,{"$f":"N11","v":211},{"$f":"COUNTIF(L34:L40,AN11)","v":0},{"$f":"AO11/(AQ4-AO14)","v":{"$error":"#DIV/0!"}},{"$f":"IF(AP11=0,0,(AP11*((LOG(AP11))/LOG(2))))","v":{"$error":"#DIV/0!"}},null,{"$f":"N11","v":211},{"$f":"COUNTIF(L41:L47,AS11)","v":0},{"$f":"AT11/(AV4-AT14)","v":{"$error":"#DIV/0!"}},{"$f":"IF(AU11=0,0,(AU11*((LOG(AU11))/LOG(2))))","v":{"$error":"#DIV/0!"}}]
[21,708,21,715,21,723,null,null,null,null,0,222,null,212,{"$f":"COUNTIF($L$7:$L$500,N12)","v":0},{"$f":"O12/$Q$4","v":0},{"$f":"IF(P12=0,0,(P12*((LOG(P12))/LOG(2))))","v":0},null,null,{"$f":"N12","v":212},{"$f":"COUNTIF(L7:L13,T12)","v":0},{"$f":"U12/(W4-U14)","v":{"$error":"#DIV/0!"}},{"$f":"IF(V12=0,0,(V12*((LOG(V12))/LOG(2))))","v":{"$error":"#DIV/0!"}},null,{"$f":"N12","v":212},{"$f":"COUNTIF(L14:L20,Y12)","v":0},{"$f":"Z12/(AB4-Z14)","v":{"$error":"#DIV/0!"}},{"$f":"IF(AA12=0,0,(AA12*((LOG(AA12))/LOG(2))))","v":{"$error":"#DIV/0!"}},null,{"$f":"N12","v":212},{"$f":"COUNTIF(L21:L26,AD12)","v":0},{"$f":"AE12/(AG4-AE14)","v":0},{"$f":"IF(AF12=0,0,(AF12*((LOG(AF12))/LOG(2))))","v":0},null,{"$f":"N12","v":212},{"$f":"COUNTIF(L27:L33,AI12)","v":0},{"$f":"AJ12/(AL4-AJ14)","v":0},{"$f":"IF(AK12=0,0,(AK12*((LOG(AK12))/LOG(2))))","v":0},null,{"$f":"N12","v":212},{"$f":"COUNTIF(L34:L40,AN12)","v":0},{"$f":"AO12/(AQ4-AO14)","v":{"$error":"#DIV/0!"}},{"$f":"IF(AP12=0,0,(AP12*((LOG(AP12))/LOG(2))))","v":{"$error":"#DIV/0!"}},null,{"$f":"N12","v":212},{"$f":"COUNTIF(L41:L47,AS12)","v":0},{"$f":"AT12/(AV4-AT14)","v":{"$error":"#DIV/0!"}},{"$f":"IF(AU12=0,0,(AU12*((LOG(AU12))/LOG(2))))","v":{"$error":"#DIV/0!"}}]
[21,860,21,875,21,885,null,null,null,null,0,222,null,221,{"$f":"COUNTIF($L$7:$L$500,N13)","v":2},{"$f":"O13/$Q$4","v":4.878048780487805E-2},{"$f":"IF(P13=0,0,(P13*((LOG(P13))/LOG(2))))","v":-0.21256351242039428},null,null,{"$f":"N13","v":221},{"$f":"COUNTIF(L7:L13,T13)","v":0},{"$f":"U13/(W4-U14)","v":{"$error":"#DIV/0!"}},{"$f":"IF(V13=0,0,(V13*((LOG(V13))/LOG(2))))","v":{"$error":"#DIV/0!"}},null,{"$f":"N13","v":221},{"$f":"COUNTIF(L14:L20,Y13)","v":0},{"$f":"Z13/(AB4-Z14)","v":{"$error":"#DIV/0!"}},{"$f":"IF(AA13=0,0,(AA13*((LOG(AA13))/LOG(2))))","v":{"$error":"#DIV/0!"}},null,{"$f":"N13","v":221},{"$f":"COUNTIF(L21:L26,AD13)","v":1},{"$f":"AE13/(AG4-AE14)","v":1},{"$f":"IF(AF13=0,0,(AF13*((LOG(AF13))/LOG(2))))","v":0},null,{"$f":"N13","v":221},{"$f":"COUNTIF(L27:L33,AI13)","v":1},{"$f":"AJ13/(AL4-AJ14)","v":1},{"$f":"IF(AK13=0,0,(AK13*((LOG(AK13))/LOG(2))))","v":0},null,{"$f":"N13","v":221},{"$f":"COUNTIF(L34:L40,AN13)","v":0},{"$f":"AO13/(AQ4-AO14)","v":{"$error":"#DIV/0!"}},{"$f":"IF(AP13=0,0,(AP13*((LOG(AP13))/LOG(2))))","v":{"$error":"#DIV/0!"}},null,{"$f":"N13","v":221},{"$f":"COUNTIF(L41:L47,AS13)","v":0},{"$f":"AT13/(AV4-AT14)","v":{"$error":"#DIV/0!"}},{"$f":"IF(AU13=0,0,(AU13*((LOG(AU13))/LOG(2))))","v":{"$error":"#DIV/0!"}}]
[21,1005,21,1025,21,1032,null,null,null,null,0,222,null,222,{"$f":"COUNTIF($L$7:$L$500,N14)","v":39},{"$f":"O14/$Q$4","v":0.95121951219512191},{"$f":"IF(P14=0,0,(P14*((LOG(P14))/LOG(2))))","v":-6.8630284011648321E-2},null,null,{"$f":"N14","v":222},{"$f":"COUNTIF(L7:L13,T14)","v":7},null,null,null,{"$f":"N14","v":222},{"$f":"COUNTIF(L14:L20,Y14)","v":7},null,null,null,{"$f":"N14","v":222},{"$f":"COUNTIF(L21:L26,AD14)","v":5},null,null,null,{"$f":"N14","v":222},{"$f":"COUNTIF(L27:L33,AI14)","v":6},null,null,null,{"$f":"N14","v":222},{"$f":"COUNTIF(L34:L40,AN14)","v":7},null,null,null,{"$f":"N14","v":222},{"$f":"COUNTIF(L41:L47,AS14)","v":7}]
[21,1217,21,1223,21,1238,null,null,null,null,0,222,null,null,null,{"$f":"SUM(P7:P14)","v":1},{"$f":"-SUM(Q7:Q14)","v":0.28119379643204262},null,null,null,null,{"$f":"SUM(V7:V14)","v":{"$error":"#DIV/0!"}},{"$f":"-SUM(W7:W14)","v":{"$error":"#DIV/0!"}},null,null,null,{"$f":"SUM(AA7:AA14)","v":{"$error":"#DIV/0!"}},{"$f":"-SUM(AB7:AB14)","v":{"$error":"#DIV/0!"}},null,null,null,{"$f":"SUM(AF7:AF14)","v":1},{"$f":"-SUM(AG7:AG14)","v":0},null,null,null,{"$f":"SUM(AK7:AK14)","v":1},{"$f":"-SUM(AL7:AL14)","v":0},null,null,null,{"$f":"SUM(AP7:AP14)","v":{"$error":"#DIV/0!"}},{"$f":"-SUM(AQ7:AQ14)","v":{"$error":"#DIV/0!"}},null,null,null,{"$f":"SUM(AU7:AU14)","v":{"$error":"#DIV/0!"}},{"$f":"-SUM(AV7:AV14)","v":{"$error":"#DIV/0!"}}]
[21,1385,21,1389,21,1396,null,null,null,null,0,222,null,null,null,"U=",{"$f":"Q15/(LOG(Q4)/LOG(2))","v":5.2485500129473346E-2},null,null,null,null,"U1=",{"$f":"W15/(LOG(W4)/LOG(2))","v":{"$error":"#DIV/0!"}},null,null,null,"U2=",{"$f":"AB15/(LOG(AB4)/LOG(2))","v":{"$error":"#DIV/0!"}},null,null,null,"U3=",{"$f":"AG15/(LOG(AG4)/LOG(2))","v":0},null,null,null,"U4=",{"$f":"AL15/(LOG(AL4)/LOG(2))","v":0},null,null,null,"U5=",{"$f":"AQ15/(LOG(AQ4)/LOG(2))","v":{"$error":"#DIV/0!"}},null,null,null,"U6=",{"$f":"AV15/(LOG(AV4)/LOG(2))","v":{"$error":"#DIV/0!"}}]
[21,1487,21,1495,21,1502,null,null,null,null,0,222]
[21,1622,21,1632,21,1638,null,null,null,null,0,222]
[21,1778,21,1785,21,1794,null,null,null,null,0,222,null,"Total Target Seq"]
[21,1986,21,1991,21,2000,null,null,null,null,0,222,null,{"$f":"COUNTIF(L7:L47,G3)","v":39},null,7,7,6,7,7,7]
[21,2101,21,2107,21,2115,null,null,null,null,0,222,null,null,null,"% of reinforcement given in 6 equal intervals based on number of trials "]
[21,2221,21,2231,12,2237,null,null,null,null,0,221,null,null,null,"%_1","%_2","%_3","%_4","%_5","%_6"]
[21,2389,21,2398,21,2408,null,null,null,null,0,222,null,null,"target sequence",{"$f":"$G$3","v":222},{"$f":"$G$3","v":222},{"$f":"$G$3","v":222},{"$f":"$G$3","v":222},{"$f":"$G$3","v":222},{"$f":"$G$3","v":222}]
[21,2504,21,2509,21,2515,null,null,null,null,0,222,null,null,"total reinforcement",{"$f":"U14","v":7},{"$f":"Z14","v":7},{"$f":"AE14","v":5},{"$f":"AJ14","v":6},{"$f":"AO14","v":7},{"$f":"AT14","v":7}]
[21,2690,21,2700,21,2708,null,null,null,null,0,222,null,null,"% target"]
[21,2817,21,2824,21,2832,null,null,null,null,0,222,null,null,"CCRF"]
[21,2971,21,2982,21,2990,null,null,null,null,0,222,null,null,"% CCRf"]
[21,3141,21,3162,12,3167,null,null,null,null,0,221,null,null,"average response rate",{"$f":"F13/P20","v":126.42857142857143},{"$f":"(F20-F13)/Q20","v":159.28571428571428},{"$f":"(F26-F20)/R20","v":138.66666666666666},{"$f":"(F33-F26)/S20","v":150.57142857142858},{"$f":"(F40-F33)/T20","v":146.28571428571428},{"$f":"(F47-F40)/U20","v":160.85714285714286}]
[21,3269,21,3273,21,3281,null,null,null,null,0,222]
[21,3378,21,3389,21,3397,null,null,null,null,0,222]
[21,3497,21,3502,21,3508,null,null,null,null,0,222]
[21,3654,21,3657,21,3661,null,null,null,null,0,222]
[21,3861,21,3879,21,3886,null,null,null,null,0,222]
[21,4033,21,4040,21,4050,null,null,null,null,0,222]
[21,4163,21,4168,21,4175,null,null,null,null,0,222]
[21,4284,21,4288,21,4301,null,null,null,null,0,222]
[21,4502,21,4523,21,4531,null,null,null,null,0,222]
[21,4641,21,4658,21,4665,null,null,null,null,0,222]
[21,4758,21,4779,21,4789,null,null,null,null,0,222]
[21,4899,21,4905,21,4910,null,null,null,null,0,222]
[21,5064,21,5073,21,5082,null,null,null,null,0,222]
[21,5187,21,5191,21,5197,null,null,null,null,0,222]
[21,5390,21,5402,21,5409,null,null,null,null,0,222]
[21,5531,21,5543,21,5551,null,null,null,null,0,222]
[21,5650,21,5660,21,5667,null,null,null,null,0,222]
[21,5853,21,5860,21,5866,null,null,null,null,0,222]
[21,6017,21,6028,21,6036,null,null,null,null,1,222]

{"sheet":"!M919A30.Gus","index":30,"n_rows":46,"n_cols":48,"rows_kept":46,"cut":false,"hidden":false,"merged":[[4,39,4,42],[5,39,5,40],[4,44,4,47],[5,44,5,45],[4,24,4,27],[5,24,5,25],[4,29,4,32],[5,29,5,30],[4,34,4,37],[5,34,5,35],[1,1,1,2],[5,13,5,14],[18,13,18,14],[19,13,19,14],[4,19,4,22],[5,19,5,20]]}
["Report for:!M919A30.Gus"]
["Date:","<date>"]
["Hen:","<hen>",null,null,null,"Correct Sequence",{"$f":"Start!J2","v":222},null,null,null,null,null,null,null,null,"Total Sequences in Data",{"$f":"4994-COUNTBLANK(L7:L5000)","v":40},null,null,null,null,"Total Sequences in Block Data",{"$f":"COUNTA(L7:L13)","v":7},null,null,null,"Total Sequences in Block Data",{"$f":"COUNTA(L14:L19)","v":6},null,null,null,"Total Sequences in Block Data",{"$f":"COUNTA(L20:L26)","v":7},null,null,null,"Total Sequences in Block Data",{"$f":"COUNTA(L27:L33)","v":7},null,null,null,"Total Sequences in Block Data",{"$f":"COUNTA(L34:L39)","v":6},null,null,null,"Total Sequences in Block Data",{"$f":"COUNTA(L40:L46)","v":7}]
[null,null,null,null,null,null,null,null,null,null,null,null,null,null,null,"Total Sequences in Summary",{"$f":"SUM(O7:O14)","v":40},null,null,null,null,"Total Sequences in Block Summary",{"$f":"SUM(U7:U14)","v":7},null,null,null,"Total Sequences in Block Summary",{"$f":"SUM(Z7:Z14)","v":6},null,null,null,"Total Sequences in Block Summary",{"$f":"SUM(AE7:AE14)","v":7},null,null,null,"Total Sequences in Block Summary",{"$f":"SUM(AJ7:AJ14)","v":7},null,null,null,"Total Sequences in Block Summary",{"$f":"SUM(AO7:AO14)","v":6},null,null,null,"Total Sequences in Block Summary",{"$f":"SUM(AT7:AT14)","v":7}]
[null,null,null,null,null,null,null,null,null,null,null,null,null,null,null,null,null,null,null,"Block 1",null,null,null,null,"Block 2",null,null,null,null,"Block 3",null,null,null,null,"Block 4",null,null,null,null,"Block 5",null,null,null,null,"Block 6"]
["Sequence\nComponent\n1","Time\n1","Sequence\nComponent\n2","Time\n2","Sequence\nComponent\n3","Time\n3","Sequence\nComponent\n4","Time\n4","Sequence\nComponent\n5","Time\n5","Correct?\n0=No 1=Yes","Sequence",null,"Frequency",null,"Relative Frequency","Variability",null,null,"Frequency",null,"Relative Frequency","Variability",null,"Frequency",null,"Relative Frequency","Variability",null,"Frequency",null,"Relative Frequency","Variability",null,"Frequency",null,"Relative Frequency","Variability",null,"Frequency",null,"Relative Frequency","Variability",null,"Frequency",null,"Relative Frequency","Variability"]
[21,72,21,77,21,79,null,null,null,null,0,222,null,111,{"$f":"COUNTIF($L$7:$L$500,N7)","v":0},{"$f":"O7/$Q$4","v":0},{"$f":"IF(P7=0,0,(P7*((LOG(P7))/LOG(2))))","v":0},null,null,{"$f":"N7","v":111},{"$f":"COUNTIF(L7:L13,T7)","v":0},{"$f":"U7/(W4-U14)","v":{"$error":"#DIV/0!"}},{"$f":"IF(V7=0,0,(V7*((LOG(V7))/LOG(2))))","v":{"$error":"#DIV/0!"}},null,{"$f":"N7","v":111},{"$f":"COUNTIF(L14:L19,Y7)","v":0},{"$f":"Z7/(AB4-Z14)","v":{"$error":"#DIV/0!"}},{"$f":"IF(AA7=0,0,(AA7*((LOG(AA7))/LOG(2))))","v":{"$error":"#DIV/0!"}},null,{"$f":"N7","v":111},{"$f":"COUNTIF(L20:L26,AD7)","v":0},{"$f":"AE7/(AG4-AE14)","v":{"$error":"#DIV/0!"}},{"$f":"IF(AF7=0,0,(AF7*((LOG(AF7))/LOG(2))))","v":{"$error":"#DIV/0!"}},null,{"$f":"N7","v":111},{"$f":"COUNTIF(L27:L33,AI7)","v":0},{"$f":"AJ7/(AL4-AJ14)","v":{"$error":"#DIV/0!"}},{"$f":"IF(AK7=0,0,(AK7*((LOG(AK7))/LOG(2))))","v":{"$error":"#DIV/0!"}},null,{"$f":"N7","v":111},{"$f":"COUNTIF(L34:L39,AN7)","v":0},{"$f":"AO7/(AQ4-AO14)","v":{"$error":"#DIV/0!"}},{"$f":"IF(AP7=0,0,(AP7*((LOG(AP7))/LOG(2))))","v":{"$error":"#DIV/0!"}},null,{"$f":"N7","v":111},{"$f":"COUNTIF(L40:L46,AS7)","v":0},{"$f":"AT7/(AV4-AT14)","v":{"$error":"#DIV/0!"}},{"$f":"IF(AU7=0,0,(AU7*((LOG(AU7))/LOG(2))))","v":{"$error":"#DIV/0!"}}]
[21,204,21,212,21,218,null,null,null,null,0,222,null,112,{"$f":"COUNTIF($L$7:$L$500,N8)","v":0},{"$f":"O8/$Q$4","v":0},{"$f":"IF(P8=0,0,(P8*((LOG(P8))/LOG(2))))","v":0},null,null,{"$f":"N8","v":112},{"$f":"COUNTIF(L7:L13,T8)","v":0},{"$f":"U8/(W4-U14)","v":{"$error":"#DIV/0!"}},{"$f":"IF(V8=0,0,(V8*((LOG(V8))/LOG(2))))","v":{"$error":"#DIV/0!"}},null,{"$f":"N8","v":112},{"$f":"COUNTIF(L14:L19,Y8)","v":0},{"$f":"Z8/(AB4-Z14)","v":{"$error":"#DIV/0!"}},{"$f":"IF(AA8=0,0,(AA8*((LOG(AA8))/LOG(2))))","v":{"$error":"#DIV/0!"}},null,{"$f":"N8","v":112},{"$f":"COUNTIF(L20:L26,AD8)","v":0},{"$f":"AE8/(AG4-AE14)","v":{"$error":"#DIV/0!"}},{"$f":"IF(AF8=0,0,(AF8*((LOG(AF8))/LOG(2))))","v":{"$error":"#DIV/0!"}},null,{"$f":"N8","v":112},{"$f":"COUNTIF(L27:L33,AI8)","v":0},{"$f":"AJ8/(AL4-AJ14)","v":{"$error":"#DIV/0!"}},{"$f":"IF(AK8=0,0,(AK8*((LOG(AK8))/LOG(2))))","v":{"$error":"#DIV/0!"}},null,{"$f":"N8","v":112},{"$f":"COUNTIF(L34:L39,AN8)","v":0},{"$f":"AO8/(AQ4-AO14)","v":{"$error":"#DIV/0!"}},{"$f":"IF(AP8=0,0,(AP8*((LOG(AP8))/LOG(2))))","v":{"$error":"#DIV/0!"}},null,{"$f":"N8","v":112},{"$f":"COUNTIF(L40:L46,AS8)","v":0},{"$f":"AT8/(AV4-AT14)","v":{"$error":"#DIV/0!"}},{"$f":"IF(AU8=0,0,(AU8*((LOG(AU8))/LOG(2))))","v":{"$error":"#DIV/0!"}}]
[21,569,21,571,21,578,null,null,null,null,0,222,null,121,{"$f":"COUNTIF($L$7:$L$500,N9)","v":0},{"$f":"O9/$Q$4","v":0},{"$f":"IF(P9=0,0,(P9*((LOG(P9))/LOG(2))))","v":0},null,null,{"$f":"N9","v":121},{"$f":"COUNTIF(L7:L13,T9)","v":0},{"$f":"U9/(W4-U14)","v":{"$error":"#DIV/0!"}},{"$f":"IF(V9=0,0,(V9*((LOG(V9))/LOG(2))))","v":{"$error":"#DIV/0!"}},null,{"$f":"N9","v":121},{"$f":"COUNTIF(L14:L19,Y9)","v":0},{"$f":"Z9/(AB4-Z14)","v":{"$error":"#DIV/0!"}},{"$f":"IF(AA9=0,0,(AA9*((LOG(AA9))/LOG(2))))","v":{"$error":"#DIV/0!"}},null,{"$f":"N9","v":121},{"$f":"COUNTIF(L20:L26,AD9)","v":0},{"$f":"AE9/(AG4-AE14)","v":{"$error":"#DIV/0!"}},{"$f":"IF(AF9=0,0,(AF9*((LOG(AF9))/LOG(2))))","v":{"$error":"#DIV/0!"}},null,{"$f":"N9","v":121},{"$f":"COUNTIF(L27:L33,AI9)","v":0},{"$f":"AJ9/(AL4-AJ14)","v":{"$error":"#DIV/0!"}},{"$f":"IF(AK9=0,0,(AK9*((LOG(AK9))/LOG(2))))","v":{"$error":"#DIV/0!"}},null,{"$f":"N9","v":121},{"$f":"COUNTIF(L34:L39,AN9)","v":0},{"$f":"AO9/(AQ4-AO14)","v":{"$error":"#DIV/0!"}},{"$f":"IF(AP9=0,0,(AP9*((LOG(AP9))/LOG(2))))","v":{"$error":"#DIV/0!"}},null,{"$f":"N9","v":121},{"$f":"COUNTIF(L40:L46,AS9)","v":0},{"$f":"AT9/(AV4-AT14)","v":{"$error":"#DIV/0!"}},{"$f":"IF(AU9=0,0,(AU9*((LOG(AU9))/LOG(2))))","v":{"$error":"#DIV/0!"}}]
[21,680,21,685,21,692,null,null,null,null,0,222,null,122,{"$f":"COUNTIF($L$7:$L$500,N10)","v":0},{"$f":"O10/$Q$4","v":0},{"$f":"IF(P10=0,0,(P10*((LOG(P10))/LOG(2))))","v":0},null,null,{"$f":"N10","v":122},{"$f":"COUNTIF(L7:L13,T10)","v":0},{"$f":"U10/(W4-U14)","v":{"$error":"#DIV/0!"}},{"$f":"IF(V10=0,0,(V10*((LOG(V10))/LOG(2))))","v":{"$error":"#DIV/0!"}},null,{"$f":"N10","v":122},{"$f":"COUNTIF(L14:L19,Y10)","v":0},{"$f":"Z10/(AB4-Z14)","v":{"$error":"#DIV/0!"}},{"$f":"IF(AA10=0,0,(AA10*((LOG(AA10))/LOG(2))))","v":{"$error":"#DIV/0!"}},null,{"$f":"N10","v":122},{"$f":"COUNTIF(L20:L26,AD10)","v":0},{"$f":"AE10/(AG4-AE14)","v":{"$error":"#DIV/0!"}},{"$f":"IF(AF10=0,0,(AF10*((LOG(AF10))/LOG(2))))","v":{"$error":"#DIV/0!"}},null,{"$f":"N10","v":122},{"$f":"COUNTIF(L27:L33,AI10)","v":0},{"$f":"AJ10/(AL4-AJ14)","v":{"$error":"#DIV/0!"}},{"$f":"IF(AK10=0,0,(AK10*((LOG(AK10))/LOG(2))))","v":{"$error":"#DIV/0!"}},null,{"$f":"N10","v":122},{"$f":"COUNTIF(L34:L39,AN10)","v":0},{"$f":"AO10/(AQ4-AO14)","v":{"$error":"#DIV/0!"}},{"$f":"IF(AP10=0,0,(AP10*((LOG(AP10))/LOG(2))))","v":{"$error":"#DIV/0!"}},null,{"$f":"N10","v":122},{"$f":"COUNTIF(L40:L46,AS10)","v":0},{"$f":"AT10/(AV4-AT14)","v":{"$error":"#DIV/0!"}},{"$f":"IF(AU10=0,0,(AU10*((LOG(AU10))/LOG(2))))","v":{"$error":"#DIV/0!"}}]
[21,782,21,789,21,796,null,null,null,null,0,222,null,211,{"$f":"COUNTIF($L$7:$L$500,N11)","v":0},{"$f":"O11/$Q$4","v":0},{"$f":"IF(P11=0,0,(P11*((LOG(P11))/LOG(2))))","v":0},null,null,{"$f":"N11","v":211},{"$f":"COUNTIF(L7:L13,T11)","v":0},{"$f":"U11/(W4-U14)","v":{"$error":"#DIV/0!"}},{"$f":"IF(V11=0,0,(V11*((LOG(V11))/LOG(2))))","v":{"$error":"#DIV/0!"}},null,{"$f":"N11","v":211},{"$f":"COUNTIF(L14:L19,Y11)","v":0},{"$f":"Z11/(AB4-Z14)","v":{"$error":"#DIV/0!"}},{"$f":"IF(AA11=0,0,(AA11*((LOG(AA11))/LOG(2))))","v":{"$error":"#DIV/0!"}},null,{"$f":"N11","v":211},{"$f":"COUNTIF(L20:L26,AD11)","v":0},{"$f":"AE11/(AG4-AE14)","v":{"$error":"#DIV/0!"}},{"$f":"IF(AF11=0,0,(AF11*((LOG(AF11))/LOG(2))))","v":{"$error":"#DIV/0!"}},null,{"$f":"N11","v":211},{"$f":"COUNTIF(L27:L33,AI11)","v":0},{"$f":"AJ11/(AL4-AJ14)","v":{"$error":"#DIV/0!"}},{"$f":"IF(AK11=0,0,(AK11*((LOG(AK11))/LOG(2))))","v":{"$error":"#DIV/0!"}},null,{"$f":"N11","v":211},{"$f":"COUNTIF(L34:L39,AN11)","v":0},{"$f":"AO11/(AQ4-AO14)","v":{"$error":"#DIV/0!"}},{"$f":"IF(AP11=0,0,(AP11*((LOG(AP11))/LOG(2))))","v":{"$error":"#DIV/0!"}},null,{"$f":"N11","v":211},{"$f":"COUNTIF(L40:L46,AS11)","v":0},{"$f":"AT11/(AV4-AT14)","v":{"$error":"#DIV/0!"}},{"$f":"IF(AU11=0,0,(AU11*((LOG(AU11))/LOG(2))))","v":{"$error":"#DIV/0!"}}]
[21,905,21,908,21,916,null,null,null,null,0,222,null,212,{"$f":"COUNTIF($L$7:$L$500,N12)","v":0},{"$f":"O12/$Q$4","v":0},{"$f":"IF(P12=0,0,(P12*((LOG(P12))/LOG(2))))","v":0},null,null,{"$f":"N12","v":212},{"$f":"COUNTIF(L7:L13,T12)","v":0},{"$f":"U12/(W4-U14)","v":{"$error":"#DIV/0!"}},{"$f":"IF(V12=0,0,(V12*((LOG(V12))/LOG(2))))","v":{"$error":"#DIV/0!"}},null,{"$f":"N12","v":212},{"$f":"COUNTIF(L14:L19,Y12)","v":0},{"$f":"Z12/(AB4-Z14)","v":{"$error":"#DIV/0!"}},{"$f":"IF(AA12=0,0,(AA12*((LOG(AA12))/LOG(2))))","v":{"$error":"#DIV/0!"}},null,{"$f":"N12","v":212},{"$f":"COUNTIF(L20:L26,AD12)","v":0},{"$f":"AE12/(AG4-AE14)","v":{"$error":"#DIV/0!"}},{"$f":"IF(AF12=0,0,(AF12*((LOG(AF12))/LOG(2))))","v":{"$error":"#DIV/0!"}},null,{"$f":"N12","v":212},{"$f":"COUNTIF(L27:L33,AI12)","v":0},{"$f":"AJ12/(AL4-AJ14)","v":{"$error":"#DIV/0!"}},{"$f":"IF(AK12=0,0,(AK12*((LOG(AK12))/LOG(2))))","v":{"$error":"#DIV/0!"}},null,{"$f":"N12","v":212},{"$f":"COUNTIF(L34:L39,AN12)","v":0},{"$f":"AO12/(AQ4-AO14)","v":{"$error":"#DIV/0!"}},{"$f":"IF(AP12=0,0,(AP12*((LOG(AP12))/LOG(2))))","v":{"$error":"#DIV/0!"}},null,{"$f":"N12","v":212},{"$f":"COUNTIF(L40:L46,AS12)","v":0},{"$f":"AT12/(AV4-AT14)","v":{"$error":"#DIV/0!"}},{"$f":"IF(AU12=0,0,(AU12*((LOG(AU12))/LOG(2))))","v":{"$error":"#DIV/0!"}}]
[21,1150,21,1161,21,1170,null,null,null,null,0,222,null,221,{"$f":"COUNTIF($L$7:$L$500,N13)","v":0},{"$f":"O13/$Q$4","v":0},{"$f":"IF(P13=0,0,(P13*((LOG(P13))/LOG(2))))","v":0},null,null,{"$f":"N13","v":221},{"$f":"COUNTIF(L7:L13,T13)","v":0},{"$f":"U13/(W4-U14)","v":{"$error":"#DIV/0!"}},{"$f":"IF(V13=0,0,(V13*((LOG(V13))/LOG(2))))","v":{"$error":"#DIV/0!"}},null,{"$f":"N13","v":221},{"$f":"COUNTIF(L14:L19,Y13)","v":0},{"$f":"Z13/(AB4-Z14)","v":{"$error":"#DIV/0!"}},{"$f":"IF(AA13=0,0,(AA13*((LOG(AA13))/LOG(2))))","v":{"$error":"#DIV/0!"}},null,{"$f":"N13","v":221},{"$f":"COUNTIF(L20:L26,AD13)","v":0},{"$f":"AE13/(AG4-AE14)","v":{"$error":"#DIV/0!"}},{"$f":"IF(AF13=0,0,(AF13*((LOG(AF13))/LOG(2))))","v":{"$error":"#DIV/0!"}},null,{"$f":"N13","v":221},{"$f":"COUNTIF(L27:L33,AI13)","v":0},{"$f":"AJ13/(AL4-AJ14)","v":{"$error":"#DIV/0!"}},{"$f":"IF(AK13=0,0,(AK13*((LOG(AK13))/LOG(2))))","v":{"$error":"#DIV/0!"}},null,{"$f":"N13","v":221},{"$f":"COUNTIF(L34:L39,AN13)","v":0},{"$f":"AO13/(AQ4-AO14)","v":{"$error":"#DIV/0!"}},{"$f":"IF(AP13=0,0,(AP13*((LOG(AP13))/LOG(2))))","v":{"$error":"#DIV/0!"}},null,{"$f":"N13","v":221},{"$f":"COUNTIF(L40:L46,AS13)","v":0},{"$f":"AT13/(AV4-AT14)","v":{"$error":"#DIV/0!"}},{"$f":"IF(AU13=0,0,(AU13*((LOG(AU13))/LOG(2))))","v":{"$error":"#DIV/0!"}}]
[21,1395,21,1410,21,1431,null,null,null,null,0,222,null,222,{"$f":"COUNTIF($L$7:$L$500,N14)","v":40},{"$f":"O14/$Q$4","v":1},{"$f":"IF(P14=0,0,(P14*((LOG(P14))/LOG(2))))","v":0},null,null,{"$f":"N14","v":222},{"$f":"COUNTIF(L7:L13,T14)","v":7},null,null,null,{"$f":"N14","v":222},{"$f":"COUNTIF(L14:L19,Y14)","v":6},null,null,null,{"$f":"N14","v":222},{"$f":"COUNTIF(L20:L26,AD14)","v":7},null,null,null,{"$f":"N14","v":222},{"$f":"COUNTIF(L27:L33,AI14)","v":7},null,null,null,{"$f":"N14","v":222},{"$f":"COUNTIF(L34:L39,AN14)","v":6},null,null,null,{"$f":"N14","v":222},{"$f":"COUNTIF(L40:L46,AS14)","v":7}]
[21,1583,21,1593,21,1602,null,null,null,null,0,222,null,null,null,{"$f":"SUM(P7:P14)","v":1},{"$f":"-SUM(Q7:Q14)","v":0},null,null,null,null,{"$f":"SUM(V7:V14)","v":{"$error":"#DIV/0!"}},{"$f":"-SUM(W7:W14)","v":{"$error":"#DIV/0!"}},null,null,null,{"$f":"SUM(AA7:AA14)","v":{"$error":"#DIV/0!"}},{"$f":"-SUM(AB7:AB14)","v":{"$error":"#DIV/0!"}},null,null,null,{"$f":"SUM(AF7:AF14)","v":{"$error":"#DIV/0!"}},{"$f":"-SUM(AG7:AG14)","v":{"$error":"#DIV/0!"}},null,null,null,{"$f":"SUM(AK7:AK14)","v":{"$error":"#DIV/0!"}},{"$f":"-SUM(AL7:AL14)","v":{"$error":"#DIV/0!"}},null,null,null,{"$f":"SUM(AP7:AP14)","v":{"$error":"#DIV/0!"}},{"$f":"-SUM(AQ7:AQ14)","v":{"$error":"#DIV/0!"}},null,null,null,{"$f":"SUM(AU7:AU14)","v":{"$error":"#DIV/0!"}},{"$f":"-SUM(AV7:AV14)","v":{"$error":"#DIV/0!"}}]
[21,1778,21,1787,21,1795,null,null,null,null,0,222,null,null,null,"U=",{"$f":"Q15/(LOG(Q4)/LOG(2))","v":0},null,null,null,null,"U1=",{"$f":"W15/(LOG(W4)/LOG(2))","v":{"$error":"#DIV/0!"}},null,null,null,"U2=",{"$f":"AB15/(LOG(AB4)/LOG(2))","v":{"$error":"#DIV/0!"}},null,null,null,"U3=",{"$f":"AG15/(LOG(AG4)/LOG(2))","v":{"$error":"#DIV/0!"}},null,null,null,"U4=",{"$f":"AL15/(LOG(AL4)/LOG(2))","v":{"$error":"#DIV/0!"}},null,null,null,"U5=",{"$f":"AQ15/(LOG(AQ4)/LOG(2))","v":{"$error":"#DIV/0!"}},null,null,null,"U6=",{"$f":"AV15/(LOG(AV4)/LOG(2))","v":{"$error":"#DIV/0!"}}]
[21,2059,21,2067,21,2072,null,null,null,null,0,222]
[21,2251,21,2265,21,2273,null,null,null,null,0,222]
[21,2469,21,2490,21,2499,null,null,null,null,0,222,null,"Total Target Seq"]
[21,2592,21,2598,21,2604,null,null,null,null,0,222,null,{"$f":"COUNTIF(L7:L46,G3)","v":40},null,7,6,7,7,6,7]
[21,2702,21,2707,21,2712,null,null,null,null,0,222,null,null,null,"% of reinforcement given in 6 equal intervals based on number of trials "]
[21,2815,21,2823,21,2830,null,null,null,null,0,222,null,null,null,"%_1","%_2","%_3","%_4","%_5","%_6"]
[21,2969,21,2986,21,2994,null,null,null,null,0,222,null,null,"target sequence",{"$f":"$G$3","v":222},{"$f":"$G$3","v":222},{"$f":"$G$3","v":222},{"$f":"$G$3","v":222},{"$f":"$G$3","v":222},{"$f":"$G$3","v":222}]
[21,3088,21,3093,21,3099,null,null,null,null,0,222,null,null,"total reinforcement",{"$f":"U14","v":7},{"$f":"Z14","v":6},{"$f":"AE14","v":7},{"$f":"AJ14","v":7},{"$f":"AO14","v":6},{"$f":"AT14","v":7}]
[21,3215,21,3218,21,3226,null,null,null,null,0,222,null,null,"% target"]
[21,3342,21,3345,21,3351,null,null,null,null,0,222,null,null,"CCRF"]
[21,3456,21,3461,21,3468,null,null,null,null,0,222,null,null,"% CCRf"]
[21,3592,21,3603,21,3612,null,null,null,null,0,222,null,null,"average response rate",{"$f":"F13/P20","v":167.14285714285714},{"$f":"(F19-F13)/Q20","v":221.5},{"$f":"(F26-F19)/R20","v":121.71428571428571},{"$f":"(F33-F26)/S20","v":133.85714285714286},{"$f":"(F39-F33)/T20","v":130.66666666666666},{"$f":"(F46-F39)/U20","v":164.42857142857142}]
[21,3767,21,3784,21,3794,null,null,null,null,0,222]
[21,3924,21,3932,21,3939,null,null,null,null,0,222]
[21,4034,21,4042,21,4051,null,null,null,null,0,222]
[21,4141,21,4148,21,4156,null,null,null,null,0,222]
[21,4259,21,4270,21,4288,null,null,null,null,0,222]
[21,4387,21,4393,21,4403,null,null,null,null,0,222]
[21,4512,21,4516,21,4522,null,null,null,null,0,222]
[21,4676,21,4687,21,4694,null,null,null,null,0,222]
[21,4796,21,4802,21,4810,null,null,null,null,0,222]
[21,4917,21,4923,21,4929,null,null,null,null,0,222]
[21,5044,21,5056,21,5072,null,null,null,null,0,222]
[21,5212,21,5227,21,5234,null,null,null,null,0,222]
[21,5363,21,5369,21,5376,null,null,null,null,0,222]
[21,5580,21,5591,21,5598,null,null,null,null,0,222]
[21,5694,21,5700,21,5706,null,null,null,null,0,222]
[21,5875,21,5891,21,5898,null,null,null,null,0,222]
[21,6053,21,6058,21,6067,null,null,null,null,0,222]
[21,6209,21,6217,21,6223,null,null,null,null,1,222]

{"sheet":"!M920950.Gus","index":31,"n_rows":46,"n_cols":48,"rows_kept":46,"cut":false,"hidden":false,"merged":[[4,39,4,42],[5,39,5,40],[4,44,4,47],[5,44,5,45],[4,24,4,27],[5,24,5,25],[4,29,4,32],[5,29,5,30],[4,34,4,37],[5,34,5,35],[1,1,1,2],[5,13,5,14],[18,13,18,14],[19,13,19,14],[4,19,4,22],[5,19,5,20]]}
["Report for:!M920950.Gus"]
["Date:","<date>"]
["Hen:","<hen>",null,null,null,"Correct Sequence",{"$f":"Start!J2","v":222},null,null,null,null,null,null,null,null,"Total Sequences in Data",{"$f":"4994-COUNTBLANK(L7:L5000)","v":40},null,null,null,null,"Total Sequences in Block Data",{"$f":"COUNTA(L7:L13)","v":7},null,null,null,"Total Sequences in Block Data",{"$f":"COUNTA(L14:L19)","v":6},null,null,null,"Total Sequences in Block Data",{"$f":"COUNTA(L20:L26)","v":7},null,null,null,"Total Sequences in Block Data",{"$f":"COUNTA(L27:L33)","v":7},null,null,null,"Total Sequences in Block Data",{"$f":"COUNTA(L34:L39)","v":6},null,null,null,"Total Sequences in Block Data",{"$f":"COUNTA(L40:L46)","v":7}]
[null,null,null,null,null,null,null,null,null,null,null,null,null,null,null,"Total Sequences in Summary",{"$f":"SUM(O7:O14)","v":40},null,null,null,null,"Total Sequences in Block Summary",{"$f":"SUM(U7:U14)","v":7},null,null,null,"Total Sequences in Block Summary",{"$f":"SUM(Z7:Z14)","v":6},null,null,null,"Total Sequences in Block Summary",{"$f":"SUM(AE7:AE14)","v":7},null,null,null,"Total Sequences in Block Summary",{"$f":"SUM(AJ7:AJ14)","v":7},null,null,null,"Total Sequences in Block Summary",{"$f":"SUM(AO7:AO14)","v":6},null,null,null,"Total Sequences in Block Summary",{"$f":"SUM(AT7:AT14)","v":7}]
[null,null,null,null,null,null,null,null,null,null,null,null,null,null,null,null,null,null,null,"Block 1",null,null,null,null,"Block 2",null,null,null,null,"Block 3",null,null,null,null,"Block 4",null,null,null,null,"Block 5",null,null,null,null,"Block 6"]
["Sequence\nComponent\n1","Time\n1","Sequence\nComponent\n2","Time\n2","Sequence\nComponent\n3","Time\n3","Sequence\nComponent\n4","Time\n4","Sequence\nComponent\n5","Time\n5","Correct?\n0=No 1=Yes","Sequence",null,"Frequency",null,"Relative Frequency","Variability",null,null,"Frequency",null,"Relative Frequency","Variability",null,"Frequency",null,"Relative Frequency","Variability",null,"Frequency",null,"Relative Frequency","Variability",null,"Frequency",null,"Relative Frequency","Variability",null,"Frequency",null,"Relative Frequency","Variability",null,"Frequency",null,"Relative Frequency","Variability"]
[21,31,21,33,21,41,null,null,null,null,0,222,null,111,{"$f":"COUNTIF($L$7:$L$500,N7)","v":0},{"$f":"O7/$Q$4","v":0},{"$f":"IF(P7=0,0,(P7*((LOG(P7))/LOG(2))))","v":0},null,null,{"$f":"N7","v":111},{"$f":"COUNTIF(L7:L13,T7)","v":0},{"$f":"U7/(W4-U14)","v":{"$error":"#DIV/0!"}},{"$f":"IF(V7=0,0,(V7*((LOG(V7))/LOG(2))))","v":{"$error":"#DIV/0!"}},null,{"$f":"N7","v":111},{"$f":"COUNTIF(L14:L19,Y7)","v":0},{"$f":"Z7/(AB4-Z14)","v":{"$error":"#DIV/0!"}},{"$f":"IF(AA7=0,0,(AA7*((LOG(AA7))/LOG(2))))","v":{"$error":"#DIV/0!"}},null,{"$f":"N7","v":111},{"$f":"COUNTIF(L20:L26,AD7)","v":0},{"$f":"AE7/(AG4-AE14)","v":{"$error":"#DIV/0!"}},{"$f":"IF(AF7=0,0,(AF7*((LOG(AF7))/LOG(2))))","v":{"$error":"#DIV/0!"}},null,{"$f":"N7","v":111},{"$f":"COUNTIF(L27:L33,AI7)","v":0},{"$f":"AJ7/(AL4-AJ14)","v":{"$error":"#DIV/0!"}},{"$f":"IF(AK7=0,0,(AK7*((LOG(AK7))/LOG(2))))","v":{"$error":"#DIV/0!"}},null,{"$f":"N7","v":111},{"$f":"COUNTIF(L34:L39,AN7)","v":0},{"$f":"AO7/(AQ4-AO14)","v":{"$error":"#DIV/0!"}},{"$f":"IF(AP7=0,0,(AP7*((LOG(AP7))/LOG(2))))","v":{"$error":"#DIV/0!"}},null,{"$f":"N7","v":111},{"$f":"COUNTIF(L40:L46,AS7)","v":0},{"$f":"AT7/(AV4-AT14)","v":{"$error":"#DIV/0!"}},{"$f":"IF(AU7=0,0,(AU7*((LOG(AU7))/LOG(2))))","v":{"$error":"#DIV/0!"}}]
[21,150,21,156,21,163,null,null,null,null,0,222,null,112,{"$f":"COUNTIF($L$7:$L$500,N8)","v":0},{"$f":"O8/$Q$4","v":0},{"$f":"IF(P8=0,0,(P8*((LOG(P8))/LOG(2))))","v":0},null,null,{"$f":"N8","v":112},{"$f":"COUNTIF(L7:L13,T8)","v":0},{"$f":"U8/(W4-U14)","v":{"$error":"#DIV/0!"}},{"$f":"IF(V8=0,0,(V8*((LOG(V8))/LOG(2))))","v":{"$error":"#DIV/0!"}},null,{"$f":"N8","v":112},{"$f":"COUNTIF(L14:L19,Y8)","v":0},{"$f":"Z8/(AB4-Z14)","v":{"$error":"#DIV/0!"}},{"$f":"IF(AA8=0,0,(AA8*((LOG(AA8))/LOG(2))))","v":{"$error":"#DIV/0!"}},null,{"$f":"N8","v":112},{"$f":"COUNTIF(L20:L26,AD8)","v":0},{"$f":"AE8/(AG4-AE14)","v":{"$error":"#DIV/0!"}},{"$f":"IF(AF8=0,0,(AF8*((LOG(AF8))/LOG(2))))","v":{"$error":"#DIV/0!"}},null,{"$f":"N8","v":112},{"$f":"COUNTIF(L27:L33,AI8)","v":0},{"$f":"AJ8/(AL4-AJ14)","v":{"$error":"#DIV/0!"}},{"$f":"IF(AK8=0,0,(AK8*((LOG(AK8))/LOG(2))))","v":{"$error":"#DIV/0!"}},null,{"$f":"N8","v":112},{"$f":"COUNTIF(L34:L39,AN8)","v":0},{"$f":"AO8/(AQ4-AO14)","v":{"$error":"#DIV/0!"}},{"$f":"IF(AP8=0,0,(AP8*((LOG(AP8))/LOG(2))))","v":{"$error":"#DIV/0!"}},null,{"$f":"N8","v":112},{"$f":"COUNTIF(L40:L46,AS8)","v":0},{"$f":"AT8/(AV4-AT14)","v":{"$error":"#DIV/0!"}},{"$f":"IF(AU8=0,0,(AU8*((LOG(AU8))/LOG(2))))","v":{"$error":"#DIV/0!"}}]
[21,295,21,331,21,346,null,null,null,null,0,222,null,121,{"$f":"COUNTIF($L$7:$L$500,N9)","v":0},{"$f":"O9/$Q$4","v":0},{"$f":"IF(P9=0,0,(P9*((LOG(P9))/LOG(2))))","v":0},null,null,{"$f":"N9","v":121},{"$f":"COUNTIF(L7:L13,T9)","v":0},{"$f":"U9/(W4-U14)","v":{"$error":"#DIV/0!"}},{"$f":"IF(V9=0,0,(V9*((LOG(V9))/LOG(2))))","v":{"$error":"#DIV/0!"}},null,{"$f":"N9","v":121},{"$f":"COUNTIF(L14:L19,Y9)","v":0},{"$f":"Z9/(AB4-Z14)","v":{"$error":"#DIV/0!"}},{"$f":"IF(AA9=0,0,(AA9*((LOG(AA9))/LOG(2))))","v":{"$error":"#DIV/0!"}},null,{"$f":"N9","v":121},{"$f":"COUNTIF(L20:L26,AD9)","v":0},{"$f":"AE9/(AG4-AE14)","v":{"$error":"#DIV/0!"}},{"$f":"IF(AF9=0,0,(AF9*((LOG(AF9))/LOG(2))))","v":{"$error":"#DIV/0!"}},null,{"$f":"N9","v":121},{"$f":"COUNTIF(L27:L33,AI9)","v":0},{"$f":"AJ9/(AL4-AJ14)","v":{"$error":"#DIV/0!"}},{"$f":"IF(AK9=0,0,(AK9*((LOG(AK9))/LOG(2))))","v":{"$error":"#DIV/0!"}},null,{"$f":"N9","v":121},{"$f":"COUNTIF(L34:L39,AN9)","v":0},{"$f":"AO9/(AQ4-AO14)","v":{"$error":"#DIV/0!"}},{"$f":"IF(AP9=0,0,(AP9*((LOG(AP9))/LOG(2))))","v":{"$error":"#DIV/0!"}},null,{"$f":"N9","v":121},{"$f":"COUNTIF(L40:L46,AS9)","v":0},{"$f":"AT9/(AV4-AT14)","v":{"$error":"#DIV/0!"}},{"$f":"IF(AU9=0,0,(AU9*((LOG(AU9))/LOG(2))))","v":{"$error":"#DIV/0!"}}]
[21,479,21,490,21,495,null,null,null,null,0,222,null,122,{"$f":"COUNTIF($L$7:$L$500,N10)","v":0},{"$f":"O10/$Q$4","v":0},{"$f":"IF(P10=0,0,(P10*((LOG(P10))/LOG(2))))","v":0},null,null,{"$f":"N10","v":122},{"$f":"COUNTIF(L7:L13,T10)","v":0},{"$f":"U10/(W4-U14)","v":{"$error":"#DIV/0!"}},{"$f":"IF(V10=0,0,(V10*((LOG(V10))/LOG(2))))","v":{"$error":"#DIV/0!"}},null,{"$f":"N10","v":122},{"$f":"COUNTIF(L14:L19,Y10)","v":0},{"$f":"Z10/(AB4-Z14)","v":{"$error":"#DIV/0!"}},{"$f":"IF(AA10=0,0,(AA10*((LOG(AA10))/LOG(2))))","v":{"$error":"#DIV/0!"}},null,{"$f":"N10","v":122},{"$f":"COUNTIF(L20:L26,AD10)","v":0},{"$f":"AE10/(AG4-AE14)","v":{"$error":"#DIV/0!"}},{"$f":"IF(AF10=0,0,(AF10*((LOG(AF10))/LOG(2))))","v":{"$error":"#DIV/0!"}},null,{"$f":"N10","v":122},{"$f":"COUNTIF(L27:L33,AI10)","v":0},{"$f":"AJ10/(AL4-AJ14)","v":{"$error":"#DIV/0!"}},{"$f":"IF(AK10=0,0,(AK10*((LOG(AK10))/LOG(2))))","v":{"$error":"#DIV/0!"}},null,{"$f":"N10","v":122},{"$f":"COUNTIF(L34:L39,AN10)","v":0},{"$f":"AO10/(AQ4-AO14)","v":{"$error":"#DIV/0!"}},{"$f":"IF(AP10=0,0,(AP10*((LOG(AP10))/LOG(2))))","v":{"$error":"#DIV/0!"}},null,{"$f":"N10","v":122},{"$f":"COUNTIF(L40:L46,AS10)","v":0},{"$f":"AT10/(AV4-AT14)","v":{"$error":"#DIV/0!"}},{"$f":"IF(AU10=0,0,(AU10*((LOG(AU10))/LOG(2))))","v":{"$error":"#DIV/0!"}}]
[21,635,21,642,21,650,null,null,null,null,0,222,null,211,{"$f":"COUNTIF($L$7:$L$500,N11)","v":0},{"$f":"O11/$Q$4","v":0},{"$f":"IF(P11=0,0,(P11*((LOG(P11))/LOG(2))))","v":0},null,null,{"$f":"N11","v":211},{"$f":"COUNTIF(L7:L13,T11)","v":0},{"$f":"U11/(W4-U14)","v":{"$error":"#DIV/0!"}},{"$f":"IF(V11=0,0,(V11*((LOG(V11))/LOG(2))))","v":{"$error":"#DIV/0!"}},null,{"$f":"N11","v":211},{"$f":"COUNTIF(L14:L19,Y11)","v":0},{"$f":"Z11/(AB4-Z14)","v":{"$error":"#DIV/0!"}},{"$f":"IF(AA11=0,0,(AA11*((LOG(AA11))/LOG(2))))","v":{"$error":"#DIV/0!"}},null,{"$f":"N11","v":211},{"$f":"COUNTIF(L20:L26,AD11)","v":0},{"$f":"AE11/(AG4-AE14)","v":{"$error":"#DIV/0!"}},{"$f":"IF(AF11=0,0,(AF11*((LOG(AF11))/LOG(2))))","v":{"$error":"#DIV/0!"}},null,{"$f":"N11","v":211},{"$f":"COUNTIF(L27:L33,AI11)","v":0},{"$f":"AJ11/(AL4-AJ14)","v":{"$error":"#DIV/0!"}},{"$f":"IF(AK11=0,0,(AK11*((LOG(AK11))/LOG(2))))","v":{"$error":"#DIV/0!"}},null,{"$f":"N11","v":211},{"$f":"COUNTIF(L34:L39,AN11)","v":0},{"$f":"AO11/(AQ4-AO14)","v":{"$error":"#DIV/0!"}},{"$f":"IF(AP11=0,0,(AP11*((LOG(AP11))/LOG(2))))","v":{"$error":"#DIV/0!"}},null,{"$f":"N11","v":211},{"$f":"COUNTIF(L40:L46,AS11)","v":0},{"$f":"AT11/(AV4-AT14)","v":{"$error":"#DIV/0!"}},{"$f":"IF(AU11=0,0,(AU11*((LOG(AU11))/LOG(2))))","v":{"$error":"#DIV/0!"}}]
[21,813,21,831,21,838,null,null,null,null,0,222,null,212,{"$f":"COUNTIF($L$7:$L$500,N12)","v":0},{"$f":"O12/$Q$4","v":0},{"$f":"IF(P12=0,0,(P12*((LOG(P12))/LOG(2))))","v":0},null,null,{"$f":"N12","v":212},{"$f":"COUNTIF(L7:L13,T12)","v":0},{"$f":"U12/(W4-U14)","v":{"$error":"#DIV/0!"}},{"$f":"IF(V12=0,0,(V12*((LOG(V12))/LOG(2))))","v":{"$error":"#DIV/0!"}},null,{"$f":"N12","v":212},{"$f":"COUNTIF(L14:L19,Y12)","v":0},{"$f":"Z12/(AB4-Z14)","v":{"$error":"#DIV/0!"}},{"$f":"IF(AA12=0,0,(AA12*((LOG(AA12))/LOG(2))))","v":{"$error":"#DIV/0!"}},null,{"$f":"N12","v":212},{"$f":"COUNTIF(L20:L26,AD12)","v":0},{"$f":"AE12/(AG4-AE14)","v":{"$error":"#DIV/0!"}},{"$f":"IF(AF12=0,0,(AF12*((LOG(AF12))/LOG(2))))","v":{"$error":"#DIV/0!"}},null,{"$f":"N12","v":212},{"$f":"COUNTIF(L27:L33,AI12)","v":0},{"$f":"AJ12/(AL4-AJ14)","v":{"$error":"#DIV/0!"}},{"$f":"IF(AK12=0,0,(AK12*((LOG(AK12))/LOG(2))))","v":{"$error":"#DIV/0!"}},null,{"$f":"N12","v":212},{"$f":"COUNTIF(L34:L39,AN12)","v":0},{"$f":"AO12/(AQ4-AO14)","v":{"$error":"#DIV/0!"}},{"$f":"IF(AP12=0,0,(AP12*((LOG(AP12))/LOG(2))))","v":{"$error":"#DIV/0!"}},null,{"$f":"N12","v":212},{"$f":"COUNTIF(L40:L46,AS12)","v":0},{"$f":"AT12/(AV4-AT14)","v":{"$error":"#DIV/0!"}},{"$f":"IF(AU12=0,0,(AU12*((LOG(AU12))/LOG(2))))","v":{"$error":"#DIV/0!"}}]
[21,936,21,940,21,945,null,null,null,null,0,222,null,221,{"$f":"COUNTIF($L$7:$L$500,N13)","v":0},{"$f":"O13/$Q$4","v":0},{"$f":"IF(P13=0,0,(P13*((LOG(P13))/LOG(2))))","v":0},null,null,{"$f":"N13","v":221},{"$f":"COUNTIF(L7:L13,T13)","v":0},{"$f":"U13/(W4-U14)","v":{"$error":"#DIV/0!"}},{"$f":"IF(V13=0,0,(V13*((LOG(V13))/LOG(2))))","v":{"$error":"#DIV/0!"}},null,{"$f":"N13","v":221},{"$f":"COUNTIF(L14:L19,Y13)","v":0},{"$f":"Z13/(AB4-Z14)","v":{"$error":"#DIV/0!"}},{"$f":"IF(AA13=0,0,(AA13*((LOG(AA13))/LOG(2))))","v":{"$error":"#DIV/0!"}},null,{"$f":"N13","v":221},{"$f":"COUNTIF(L20:L26,AD13)","v":0},{"$f":"AE13/(AG4-AE14)","v":{"$error":"#DIV/0!"}},{"$f":"IF(AF13=0,0,(AF13*((LOG(AF13))/LOG(2))))","v":{"$error":"#DIV/0!"}},null,{"$f":"N13","v":221},{"$f":"COUNTIF(L27:L33,AI13)","v":0},{"$f":"AJ13/(AL4-AJ14)","v":{"$error":"#DIV/0!"}},{"$f":"IF(AK13=0,0,(AK13*((LOG(AK13))/LOG(2))))","v":{"$error":"#DIV/0!"}},null,{"$f":"N13","v":221},{"$f":"COUNTIF(L34:L39,AN13)","v":0},{"$f":"AO13/(AQ4-AO14)","v":{"$error":"#DIV/0!"}},{"$f":"IF(AP13=0,0,(AP13*((LOG(AP13))/LOG(2))))","v":{"$error":"#DIV/0!"}},null,{"$f":"N13","v":221},{"$f":"COUNTIF(L40:L46,AS13)","v":0},{"$f":"AT13/(AV4-AT14)","v":{"$error":"#DIV/0!"}},{"$f":"IF(AU13=0,0,(AU13*((LOG(AU13))/LOG(2))))","v":{"$error":"#DIV/0!"}}]
[21,1038,21,1047,21,1052,null,null,null,null,0,222,null,222,{"$f":"COUNTIF($L$7:$L$500,N14)","v":40},{"$f":"O14/$Q$4","v":1},{"$f":"IF(P14=0,0,(P14*((LOG(P14))/LOG(2))))","v":0},null,null,{"$f":"N14","v":222},{"$f":"COUNTIF(L7:L13,T14)","v":7},null,null,null,{"$f":"N14","v":222},{"$f":"COUNTIF(L14:L19,Y14)","v":6},null,null,null,{"$f":"N14","v":222},{"$f":"COUNTIF(L20:L26,AD14)","v":7},null,null,null,{"$f":"N14","v":222},{"$f":"COUNTIF(L27:L33,AI14)","v":7},null,null,null,{"$f":"N14","v":222},{"$f":"COUNTIF(L34:L39,AN14)","v":6},null,null,null,{"$f":"N14","v":222},{"$f":"COUNTIF(L40:L46,AS14)","v":7}]
[21,1198,21,1221,21,1260,null,null,null,null,0,222,null,null,null,{"$f":"SUM(P7:P14)","v":1},{"$f":"-SUM(Q7:Q14)","v":0},null,null,null,null,{"$f":"SUM(V7:V14)","v":{"$error":"#DIV/0!"}},{"$f":"-SUM(W7:W14)","v":{"$error":"#DIV/0!"}},null,null,null,{"$f":"SUM(AA7:AA14)","v":{"$error":"#DIV/0!"}},{"$f":"-SUM(AB7:AB14)","v":{"$error":"#DIV/0!"}},null,null,null,{"$f":"SUM(AF7:AF14)","v":{"$error":"#DIV/0!"}},{"$f":"-SUM(AG7:AG14)","v":{"$error":"#DIV/0!"}},null,null,null,{"$f":"SUM(AK7:AK14)","v":{"$error":"#DIV/0!"}},{"$f":"-SUM(AL7:AL14)","v":{"$error":"#DIV/0!"}},null,null,null,{"$f":"SUM(AP7:AP14)","v":{"$error":"#DIV/0!"}},{"$f":"-SUM(AQ7:AQ14)","v":{"$error":"#DIV/0!"}},null,null,null,{"$f":"SUM(AU7:AU14)","v":{"$error":"#DIV/0!"}},{"$f":"-SUM(AV7:AV14)","v":{"$error":"#DIV/0!"}}]
[21,1350,21,1354,21,1358,null,null,null,null,0,222,null,null,null,"U=",{"$f":"Q15/(LOG(Q4)/LOG(2))","v":0},null,null,null,null,"U1=",{"$f":"W15/(LOG(W4)/LOG(2))","v":{"$error":"#DIV/0!"}},null,null,null,"U2=",{"$f":"AB15/(LOG(AB4)/LOG(2))","v":{"$error":"#DIV/0!"}},null,null,null,"U3=",{"$f":"AG15/(LOG(AG4)/LOG(2))","v":{"$error":"#DIV/0!"}},null,null,null,"U4=",{"$f":"AL15/(LOG(AL4)/LOG(2))","v":{"$error":"#DIV/0!"}},null,null,null,"U5=",{"$f":"AQ15/(LOG(AQ4)/LOG(2))","v":{"$error":"#DIV/0!"}},null,null,null,"U6=",{"$f":"AV15/(LOG(AV4)/LOG(2))","v":{"$error":"#DIV/0!"}}]
[21,1445,21,1448,21,1454,null,null,null,null,0,222]
[21,1584,21,1593,21,1600,null,null,null,null,0,222]
[21,1692,21,1701,21,1706,null,null,null,null,0,222,null,"Total Target Seq"]
[21,1802,21,1811,21,1820,null,null,null,null,0,222,null,{"$f":"COUNTIF(L7:L46,G3)","v":40},null,7,6,7,7,6,7]
[21,1935,21,1947,21,1955,null,null,null,null,0,222,null,null,null,"% of reinforcement given in 6 equal intervals based on number of trials "]
[21,2076,21,2081,21,2089,null,null,null,null,0,222,null,null,null,"%_1","%_2","%_3","%_4","%_5","%_6"]
[21,2261,21,2273,21,2280,null,null,null,null,0,222,null,null,"target sequence",{"$f":"$G$3","v":222},{"$f":"$G$3","v":222},{"$f":"$G$3","v":222},{"$f":"$G$3","v":222},{"$f":"$G$3","v":222},{"$f":"$G$3","v":222}]
[21,2373,21,2380,21,2396,null,null,null,null,0,222,null,null,"total reinforcement",{"$f":"U14","v":7},{"$f":"Z14","v":6},{"$f":"AE14","v":7},{"$f":"AJ14","v":7},{"$f":"AO14","v":6},{"$f":"AT14","v":7}]
[21,2496,21,2513,21,2522,null,null,null,null,0,222,null,null,"% target"]
[21,2614,21,2621,21,2628,null,null,null,null,0,222,null,null,"CCRF"]
[21,2720,21,2728,21,2738,null,null,null,null,0,222,null,null,"% CCRf"]
[21,2844,21,2846,21,2854,null,null,null,null,0,222,null,null,"average response rate",{"$f":"F13/P20","v":135},{"$f":"(F19-F13)/Q20","v":126.83333333333333},{"$f":"(F26-F19)/R20","v":131.71428571428572},{"$f":"(F33-F26)/S20","v":132},{"$f":"(F39-F33)/T20","v":131.33333333333334},{"$f":"(F46-F39)/U20","v":126.28571428571429}]
[21,2945,21,2952,21,2959,null,null,null,null,0,222]
[21,3056,21,3061,21,3067,null,null,null,null,0,222]
[21,3261,21,3265,21,3285,null,null,null,null,0,222]
[21,3376,21,3385,21,3404,null,null,null,null,0,222]
[21,3536,21,3545,21,3552,null,null,null,null,0,222]
[21,3661,21,3675,21,3684,null,null,null,null,0,222]
[21,3840,21,3859,21,3865,null,null,null,null,0,222]
[21,3962,21,3968,21,3970,null,null,null,null,0,222]
[21,4107,21,4118,21,4126,null,null,null,null,0,222]
[21,4216,21,4224,21,4232,null,null,null,null,0,222]
[21,4329,21,4335,21,4340,null,null,null,null,0,222]
[21,4446,21,4454,21,4460,null,null,null,null,0,222]
[21,4551,21,4558,21,4566,null,null,null,null,0,222]
[21,4662,21,4669,21,4675,null,null,null,null,0,222]
[21,4764,21,4771,21,4776,null,null,null,null,0,222]
[21,4887,21,4897,21,4906,null,null,null,null,0,222]
[21,5000,21,5009,21,5014,null,null,null,null,0,222]
[21,5201,21,5213,21,5224,null,null,null,null,1,222]

{"sheet":"!M921900.Gus","index":32,"n_rows":59,"n_cols":48,"rows_kept":59,"cut":false,"hidden":false,"merged":[[4,39,4,42],[5,39,5,40],[4,44,4,47],[5,44,5,45],[4,24,4,27],[5,24,5,25],[4,29,4,32],[5,29,5,30],[4,34,4,37],[5,34,5,35],[1,1,1,2],[5,13,5,14],[18,13,18,14],[19,13,19,14],[4,19,4,22],[5,19,5,20]]}
["Report for:!M921900.Gus"]
["Date:","<date>"]
["Hen:","<hen>",null,null,null,"Correct Sequence",{"$f":"Start!J2","v":222},null,null,null,null,null,null,null,null,"Total Sequences in Data",{"$f":"4994-COUNTBLANK(L7:L5000)","v":53},null,null,null,null,"Total Sequences in Block Data",{"$f":"COUNTA(L7:L15)","v":9},null,null,null,"Total Sequences in Block Data",{"$f":"COUNTA(L16:L24)","v":9},null,null,null,"Total Sequences in Block Data",{"$f":"COUNTA(L25:L32)","v":8},null,null,null,"Total Sequences in Block Data",{"$f":"COUNTA(L33:L41)","v":9},null,null,null,"Total Sequences in Block Data",{"$f":"COUNTA(L42:L50)","v":9},null,null,null,"Total Sequences in Block Data",{"$f":"COUNTA(L51:L59)","v":9}]
[null,null,null,null,null,null,null,null,null,null,null,null,null,null,null,"Total Sequences in Summary",{"$f":"SUM(O7:O14)","v":53},null,null,null,null,"Total Sequences in Block Summary",{"$f":"SUM(U7:U14)","v":9},null,null,null,"Total Sequences in Block Summary",{"$f":"SUM(Z7:Z14)","v":9},null,null,null,"Total Sequences in Block Summary",{"$f":"SUM(AE7:AE14)","v":8},null,null,null,"Total Sequences in Block Summary",{"$f":"SUM(AJ7:AJ14)","v":9},null,null,null,"Total Sequences in Block Summary",{"$f":"SUM(AO7:AO14)","v":9},null,null,null,"Total Sequences in Block Summary",{"$f":"SUM(AT7:AT14)","v":9}]
[null,null,null,null,null,null,null,null,null,null,null,null,null,null,null,null,null,null,null,"Block 1",null,null,null,null,"Block 2",null,null,null,null,"Block 3",null,null,null,null,"Block 4",null,null,null,null,"Block 5",null,null,null,null,"Block 6"]
["Sequence\nComponent\n1","Time\n1","Sequence\nComponent\n2","Time\n2","Sequence\nComponent\n3","Time\n3","Sequence\nComponent\n4","Time\n4","Sequence\nComponent\n5","Time\n5","Correct?\n0=No 1=Yes","Sequence",null,"Frequency",null,"Relative Frequency","Variability",null,null,"Frequency",null,"Relative Frequency","Variability",null,"Frequency",null,"Relative Frequency","Variability",null,"Frequency",null,"Relative Frequency","Variability",null,"Frequency",null,"Relative Frequency","Variability",null,"Frequency",null,"Relative Frequency","Variability",null,"Frequency",null,"Relative Frequency","Variability"]
[21,12,21,14,21,18,null,null,null,null,0,222,null,111,{"$f":"COUNTIF($L$7:$L$500,N7)","v":0},{"$f":"O7/$Q$4","v":0},{"$f":"IF(P7=0,0,(P7*((LOG(P7))/LOG(2))))","v":0},null,null,{"$f":"N7","v":111},{"$f":"COUNTIF(L7:L15,T7)","v":0},{"$f":"U7/(W4-U14)","v":{"$error":"#DIV/0!"}},{"$f":"IF(V7=0,0,(V7*((LOG(V7))/LOG(2))))","v":{"$error":"#DIV/0!"}},null,{"$f":"N7","v":111},{"$f":"COUNTIF(L16:L24,Y7)","v":0},{"$f":"Z7/(AB4-Z14)","v":0},{"$f":"IF(AA7=0,0,(AA7*((LOG(AA7))/LOG(2))))","v":0},null,{"$f":"N7","v":111},{"$f":"COUNTIF(L25:L32,AD7)","v":0},{"$f":"AE7/(AG4-AE14)","v":0},{"$f":"IF(AF7=0,0,(AF7*((LOG(AF7))/LOG(2))))","v":0},null,{"$f":"N7","v":111},{"$f":"COUNTIF(L33:L41,AI7)","v":0},{"$f":"AJ7/(AL4-AJ14)","v":0},{"$f":"IF(AK7=0,0,(AK7*((LOG(AK7))/LOG(2))))","v":0},null,{"$f":"N7","v":111},{"$f":"COUNTIF(L42:L50,AN7)","v":0},{"$f":"AO7/(AQ4-AO14)","v":0},{"$f":"IF(AP7=0,0,(AP7*((LOG(AP7))/LOG(2))))","v":0},null,{"$f":"N7","v":111},{"$f":"COUNTIF(L51:L59,AS7)","v":0},{"$f":"AT7/(AV4-AT14)","v":0},{"$f":"IF(AU7=0,0,(AU7*((LOG(AU7))/LOG(2))))","v":0}]
[21,109,21,115,21,122,null,null,null,null,0,222,null,112,{"$f":"COUNTIF($L$7:$L$500,N8)","v":0},{"$f":"O8/$Q$4","v":0},{"$f":"IF(P8=0,0,(P8*((LOG(P8))/LOG(2))))","v":0},null,null,{"$f":"N8","v":112},{"$f":"COUNTIF(L7:L15,T8)","v":0},{"$f":"U8/(W4-U14)","v":{"$error":"#DIV/0!"}},{"$f":"IF(V8=0,0,(V8*((LOG(V8))/LOG(2))))","v":{"$error":"#DIV/0!"}},null,{"$f":"N8","v":112},{"$f":"COUNTIF(L16:L24,Y8)","v":0},{"$f":"Z8/(AB4-Z14)","v":0},{"$f":"IF(AA8=0,0,(AA8*((LOG(AA8))/LOG(2))))","v":0},null,{"$f":"N8","v":112},{"$f":"COUNTIF(L25:L32,AD8)","v":0},{"$f":"AE8/(AG4-AE14)","v":0},{"$f":"IF(AF8=0,0,(AF8*((LOG(AF8))/LOG(2))))","v":0},null,{"$f":"N8","v":112},{"$f":"COUNTIF(L33:L41,AI8)","v":0},{"$f":"AJ8/(AL4-AJ14)","v":0},{"$f":"IF(AK8=0,0,(AK8*((LOG(AK8))/LOG(2))))","v":0},null,{"$f":"N8","v":112},{"$f":"COUNTIF(L42:L50,AN8)","v":0},{"$f":"AO8/(AQ4-AO14)","v":0},{"$f":"IF(AP8=0,0,(AP8*((LOG(AP8))/LOG(2))))","v":0},null,{"$f":"N8","v":112},{"$f":"COUNTIF(L51:L59,AS8)","v":0},{"$f":"AT8/(AV4-AT14)","v":0},{"$f":"IF(AU8=0,0,(AU8*((LOG(AU8))/LOG(2))))","v":0}]
[21,220,21,227,21,241,null,null,null,null,0,222,null,121,{"$f":"COUNTIF($L$7:$L$500,N9)","v":0},{"$f":"O9/$Q$4","v":0},{"$f":"IF(P9=0,0,(P9*((LOG(P9))/LOG(2))))","v":0},null,null,{"$f":"N9","v":121},{"$f":"COUNTIF(L7:L15,T9)","v":0},{"$f":"U9/(W4-U14)","v":{"$error":"#DIV/0!"}},{"$f":"IF(V9=0,0,(V9*((LOG(V9))/LOG(2))))","v":{"$error":"#DIV/0!"}},null,{"$f":"N9","v":121},{"$f":"COUNTIF(L16:L24,Y9)","v":0},{"$f":"Z9/(AB4-Z14)","v":0},{"$f":"IF(AA9=0,0,(AA9*((LOG(AA9))/LOG(2))))","v":0},null,{"$f":"N9","v":121},{"$f":"COUNTIF(L25:L32,AD9)","v":0},{"$f":"AE9/(AG4-AE14)","v":0},{"$f":"IF(AF9=0,0,(AF9*((LOG(AF9))/LOG(2))))","v":0},null,{"$f":"N9","v":121},{"$f":"COUNTIF(L33:L41,AI9)","v":0},{"$f":"AJ9/(AL4-AJ14)","v":0},{"$f":"IF(AK9=0,0,(AK9*((LOG(AK9))/LOG(2))))","v":0},null,{"$f":"N9","v":121},{"$f":"COUNTIF(L42:L50,AN9)","v":0},{"$f":"AO9/(AQ4-AO14)","v":0},{"$f":"IF(AP9=0,0,(AP9*((LOG(AP9))/LOG(2))))","v":0},null,{"$f":"N9","v":121},{"$f":"COUNTIF(L51:L59,AS9)","v":0},{"$f":"AT9/(AV4-AT14)","v":0},{"$f":"IF(AU9=0,0,(AU9*((LOG(AU9))/LOG(2))))","v":0}]
[21,351,21,357,21,366,null,null,null,null,0,222,null,122,{"$f":"COUNTIF($L$7:$L$500,N10)","v":2},{"$f":"O10/$Q$4","v":3.7735849056603772E-2},{"$f":"IF(P10=0,0,(P10*((LOG(P10))/LOG(2))))","v":-0.17841209262502639},null,null,{"$f":"N10","v":122},{"$f":"COUNTIF(L7:L15,T10)","v":0},{"$f":"U10/(W4-U14)","v":{"$error":"#DIV/0!"}},{"$f":"IF(V10=0,0,(V10*((LOG(V10))/LOG(2))))","v":{"$error":"#DIV/0!"}},null,{"$f":"N10","v":122},{"$f":"COUNTIF(L16:L24,Y10)","v":1},{"$f":"Z10/(AB4-Z14)","v":0.33333333333333331},{"$f":"IF(AA10=0,0,(AA10*((LOG(AA10))/LOG(2))))","v":-0.52832083357371862},null,{"$f":"N10","v":122},{"$f":"COUNTIF(L25:L32,AD10)","v":0},{"$f":"AE10/(AG4-AE14)","v":0},{"$f":"IF(AF10=0,0,(AF10*((LOG(AF10))/LOG(2))))","v":0},null,{"$f":"N10","v":122},{"$f":"COUNTIF(L33:L41,AI10)","v":1},{"$f":"AJ10/(AL4-AJ14)","v":0.33333333333333331},{"$f":"IF(AK10=0,0,(AK10*((LOG(AK10))/LOG(2))))","v":-0.52832083357371862},null,{"$f":"N10","v":122},{"$f":"COUNTIF(L42:L50,AN10)","v":0},{"$f":"AO10/(AQ4-AO14)","v":0},{"$f":"IF(AP10=0,0,(AP10*((LOG(AP10))/LOG(2))))","v":0},null,{"$f":"N10","v":122},{"$f":"COUNTIF(L51:L59,AS10)","v":0},{"$f":"AT10/(AV4-AT14)","v":0},{"$f":"IF(AU10=0,0,(AU10*((LOG(AU10))/LOG(2))))","v":0}]
[21,466,21,471,21,478,null,null,null,null,0,222,null,211,{"$f":"COUNTIF($L$7:$L$500,N11)","v":0},{"$f":"O11/$Q$4","v":0},{"$f":"IF(P11=0,0,(P11*((LOG(P11))/LOG(2))))","v":0},null,null,{"$f":"N11","v":211},{"$f":"COUNTIF(L7:L15,T11)","v":0},{"$f":"U11/(W4-U14)","v":{"$error":"#DIV/0!"}},{"$f":"IF(V11=0,0,(V11*((LOG(V11))/LOG(2))))","v":{"$error":"#DIV/0!"}},null,{"$f":"N11","v":211},{"$f":"COUNTIF(L16:L24,Y11)","v":0},{"$f":"Z11/(AB4-Z14)","v":0},{"$f":"IF(AA11=0,0,(AA11*((LOG(AA11))/LOG(2))))","v":0},null,{"$f":"N11","v":211},{"$f":"COUNTIF(L25:L32,AD11)","v":0},{"$f":"AE11/(AG4-AE14)","v":0},{"$f":"IF(AF11=0,0,(AF11*((LOG(AF11))/LOG(2))))","v":0},null,{"$f":"N11","v":211},{"$f":"COUNTIF(L33:L41,AI11)","v":0},{"$f":"AJ11/(AL4-AJ14)","v":0},{"$f":"IF(AK11=0,0,(AK11*((LOG(AK11))/LOG(2))))","v":0},null,{"$f":"N11","v":211},{"$f":"COUNTIF(L42:L50,AN11)","v":0},{"$f":"AO11/(AQ4-AO14)","v":0},{"$f":"IF(AP11=0,0,(AP11*((LOG(AP11))/LOG(2))))","v":0},null,{"$f":"N11","v":211},{"$f":"COUNTIF(L51:L59,AS11)","v":0},{"$f":"AT11/(AV4-AT14)","v":0},{"$f":"IF(AU11=0,0,(AU11*((LOG(AU11))/LOG(2))))","v":0}]
[21,606,21,612,21,629,null,null,null,null,0,222,null,212,{"$f":"COUNTIF($L$7:$L$500,N12)","v":5},{"$f":"O12/$Q$4","v":9.4339622641509441E-2},{"$f":"IF(P12=0,0,(P12*((LOG(P12))/LOG(2))))","v":-0.32132003393168274},null,null,{"$f":"N12","v":212},{"$f":"COUNTIF(L7:L15,T12)","v":0},{"$f":"U12/(W4-U14)","v":{"$error":"#DIV/0!"}},{"$f":"IF(V12=0,0,(V12*((LOG(V12))/LOG(2))))","v":{"$error":"#DIV/0!"}},null,{"$f":"N12","v":212},{"$f":"COUNTIF(L16:L24,Y12)","v":1},{"$f":"Z12/(AB4-Z14)","v":0.33333333333333331},{"$f":"IF(AA12=0,0,(AA12*((LOG(AA12))/LOG(2))))","v":-0.52832083357371862},null,{"$f":"N12","v":212},{"$f":"COUNTIF(L25:L32,AD12)","v":0},{"$f":"AE12/(AG4-AE14)","v":0},{"$f":"IF(AF12=0,0,(AF12*((LOG(AF12))/LOG(2))))","v":0},null,{"$f":"N12","v":212},{"$f":"COUNTIF(L33:L41,AI12)","v":1},{"$f":"AJ12/(AL4-AJ14)","v":0.33333333333333331},{"$f":"IF(AK12=0,0,(AK12*((LOG(AK12))/LOG(2))))","v":-0.52832083357371862},null,{"$f":"N12","v":212},{"$f":"COUNTIF(L42:L50,AN12)","v":2},{"$f":"AO12/(AQ4-AO14)","v":1},{"$f":"IF(AP12=0,0,(AP12*((LOG(AP12))/LOG(2))))","v":0},null,{"$f":"N12","v":212},{"$f":"COUNTIF(L51:L59,AS12)","v":1},{"$f":"AT12/(AV4-AT14)","v":0.33333333333333331},{"$f":"IF(AU12=0,0,(AU12*((LOG(AU12))/LOG(2))))","v":-0.52832083357371862}]
[21,786,21,798,21,815,null,null,null,null,0,222,null,221,{"$f":"COUNTIF($L$7:$L$500,N13)","v":7},{"$f":"O13/$Q$4","v":0.13207547169811321},{"$f":"IF(P13=0,0,(P13*((LOG(P13))/LOG(2))))","v":-0.38573507033092763},null,null,{"$f":"N13","v":221},{"$f":"COUNTIF(L7:L15,T13)","v":0},{"$f":"U13/(W4-U14)","v":{"$error":"#DIV/0!"}},{"$f":"IF(V13=0,0,(V13*((LOG(V13))/LOG(2))))","v":{"$error":"#DIV/0!"}},null,{"$f":"N13","v":221},{"$f":"COUNTIF(L16:L24,Y13)","v":1},{"$f":"Z13/(AB4-Z14)","v":0.33333333333333331},{"$f":"IF(AA13=0,0,(AA13*((LOG(AA13))/LOG(2))))","v":-0.52832083357371862},null,{"$f":"N13","v":221},{"$f":"COUNTIF(L25:L32,AD13)","v":3},{"$f":"AE13/(AG4-AE14)","v":1},{"$f":"IF(AF13=0,0,(AF13*((LOG(AF13))/LOG(2))))","v":0},null,{"$f":"N13","v":221},{"$f":"COUNTIF(L33:L41,AI13)","v":1},{"$f":"AJ13/(AL4-AJ14)","v":0.33333333333333331},{"$f":"IF(AK13=0,0,(AK13*((LOG(AK13))/LOG(2))))","v":-0.52832083357371862},null,{"$f":"N13","v":221},{"$f":"COUNTIF(L42:L50,AN13)","v":0},{"$f":"AO13/(AQ4-AO14)","v":0},{"$f":"IF(AP13=0,0,(AP13*((LOG(AP13))/LOG(2))))","v":0},null,{"$f":"N13","v":221},{"$f":"COUNTIF(L51:L59,AS13)","v":2},{"$f":"AT13/(AV4-AT14)","v":0.66666666666666663},{"$f":"IF(AU13=0,0,(AU13*((LOG(AU13))/LOG(2))))","v":-0.38997500048077083}]
[21,922,21,928,21,934,null,null,null,null,0,222,null,222,{"$f":"COUNTIF($L$7:$L$500,N14)","v":39},{"$f":"O14/$Q$4","v":0.73584905660377353},{"$f":"IF(P14=0,0,(P14*((LOG(P14))/LOG(2))))","v":-0.32562662627051103},null,null,{"$f":"N14","v":222},{"$f":"COUNTIF(L7:L15,T14)","v":9},null,null,null,{"$f":"N14","v":222},{"$f":"COUNTIF(L16:L24,Y14)","v":6},null,null,null,{"$f":"N14","v":222},{"$f":"COUNTIF(L25:L32,AD14)","v":5},null,null,null,{"$f":"N14","v":222},{"$f":"COUNTIF(L33:L41,AI14)","v":6},null,null,null,{"$f":"N14","v":222},{"$f":"COUNTIF(L42:L50,AN14)","v":7},null,null,null,{"$f":"N14","v":222},{"$f":"COUNTIF(L51:L59,AS14)","v":6}]
[21,1043,21,1051,21,1057,null,null,null,null,0,222,null,null,null,{"$f":"SUM(P7:P14)","v":1},{"$f":"-SUM(Q7:Q14)","v":1.2110938231581478},null,null,null,null,{"$f":"SUM(V7:V14)","v":{"$error":"#DIV/0!"}},{"$f":"-SUM(W7:W14)","v":{"$error":"#DIV/0!"}},null,null,null,{"$f":"SUM(AA7:AA14)","v":1},{"$f":"-SUM(AB7:AB14)","v":1.5849625007211559},null,null,null,{"$f":"SUM(AF7:AF14)","v":1},{"$f":"-SUM(AG7:AG14)","v":0},null,null,null,{"$f":"SUM(AK7:AK14)","v":1},{"$f":"-SUM(AL7:AL14)","v":1.5849625007211559},null,null,null,{"$f":"SUM(AP7:AP14)","v":1},{"$f":"-SUM(AQ7:AQ14)","v":0},null,null,null,{"$f":"SUM(AU7:AU14)","v":1},{"$f":"-SUM(AV7:AV14)","v":0.91829583405448945}]
[21,1148,21,1153,21,1164,null,null,null,null,0,222,null,null,null,"U=",{"$f":"Q15/(LOG(Q4)/LOG(2))","v":0.21143691375694981},null,null,null,null,"U1=",{"$f":"W15/(LOG(W4)/LOG(2))","v":{"$error":"#DIV/0!"}},null,null,null,"U2=",{"$f":"AB15/(LOG(AB4)/LOG(2))","v":0.49999999999999994},null,null,null,"U3=",{"$f":"AG15/(LOG(AG4)/LOG(2))","v":0},null,null,null,"U4=",{"$f":"AL15/(LOG(AL4)/LOG(2))","v":0.49999999999999994},null,null,null,"U5=",{"$f":"AQ15/(LOG(AQ4)/LOG(2))","v":0},null,null,null,"U6=",{"$f":"AV15/(LOG(AV4)/LOG(2))","v":0.28969008214284753}]
[21,1261,21,1268,21,1276,null,null,null,null,0,222]
[21,1365,21,1372,21,1379,null,null,null,null,0,222]
[21,1472,12,1477,23,1480,null,null,null,null,0,212,null,"Total Target Seq"]
[21,1579,21,1584,21,1590,null,null,null,null,0,222,null,{"$f":"COUNTIF(L7:L59,G3)","v":39},null,9,9,8,9,9,9]
[21,1681,21,1689,12,1696,null,null,null,null,0,221,null,null,null,"% of reinforcement given in 6 equal intervals based on number of trials "]
[21,1786,21,1791,21,1797,null,null,null,null,0,222,null,null,null,"%_1","%_2","%_3","%_4","%_5","%_6"]
[12,1889,23,1894,23,1906,null,null,null,null,0,122,null,null,"target sequence",{"$f":"$G$3","v":222},{"$f":"$G$3","v":222},{"$f":"$G$3","v":222},{"$f":"$G$3","v":222},{"$f":"$G$3","v":222},{"$f":"$G$3","v":222}]
[21,2001,21,2006,21,2009,null,null,null,null,0,222,null,null,"total reinforcement",{"$f":"U14","v":9},{"$f":"Z14","v":6},{"$f":"AE14","v":5},{"$f":"AJ14","v":6},{"$f":"AO14","v":7},{"$f":"AT14","v":6}]
[21,2135,21,2142,21,2149,null,null,null,null,0,222,null,null,"% target"]
[21,2254,21,2259,21,2265,null,null,null,null,0,222,null,null,"CCRF"]
[21,2359,21,2363,21,2371,null,null,null,null,0,222,null,null,"% CCRf"]
[21,2490,21,2498,12,2505,null,null,null,null,0,221,null,null,"average response rate",{"$f":"F15/P20","v":117.44444444444444},{"$f":"(F24-F15)/Q20","v":105.77777777777777},{"$f":"(F32-F24)/R20","v":118.25},{"$f":"(F41-F32)/S20","v":119.11111111111111},{"$f":"(F50-F41)/T20","v":137.77777777777777},{"$f":"(F59-F50)/U20","v":159}]
[21,2604,21,2608,12,2614,null,null,null,null,0,221]
[21,2712,21,2720,21,2726,null,null,null,null,0,222]
[21,2834,21,2838,12,2842,null,null,null,null,0,221]
[21,2941,21,2948,21,2955,null,null,null,null,0,222]
[12,3043,23,3048,23,3061,null,null,null,null,0,122]
[21,3160,21,3164,21,3169,null,null,null,null,0,222]
[21,3267,21,3271,21,3276,null,null,null,null,0,222]
[21,3382,21,3393,12,3400,null,null,null,null,0,221]
[21,3497,21,3499,21,3503,null,null,null,null,0,222]
[21,3600,21,3607,21,3612,null,null,null,null,0,222]
[21,3729,21,3736,21,3743,null,null,null,null,0,222]
[21,3884,21,3895,21,3903,null,null,null,null,0,222]
[21,4014,12,4022,23,4027,null,null,null,null,0,212]
[21,4125,21,4131,21,4138,null,null,null,null,0,222]
[21,4242,12,4249,23,4252,null,null,null,null,0,212]
[21,4369,21,4376,21,4379,null,null,null,null,0,222]
[21,4491,21,4499,21,4507,null,null,null,null,0,222]
[21,4651,21,4656,21,4663,null,null,null,null,0,222]
[21,4860,21,4865,21,4872,null,null,null,null,0,222]
[21,5040,12,5050,23,5052,null,null,null,null,0,212]
[21,5145,21,5147,21,5151,null,null,null,null,0,222]
[21,5251,21,5258,21,5267,null,null,null,null,0,222]
[21,5426,21,5431,21,5445,null,null,null,null,0,222]
[21,5580,21,5586,21,5593,null,null,null,null,0,222]
[21,5741,21,5747,21,5754,null,null,null,null,0,222]
[21,5915,12,5927,23,5929,null,null,null,null,0,212]
[21,6170,21,6173,21,6179,null,null,null,null,0,222]
[21,6282,21,6292,12,6301,null,null,null,null,0,221]
[21,6393,21,6399,12,6403,null,null,null,null,0,221]
[21,6511,21,6520,21,6527,null,null,null,null,0,222]
[21,6686,21,6694,21,6698,null,null,null,null,1,222]