{"text_format":"1","workbook":"xlsx","n_sheets":33,"sheets":["Sample Report","Summary","Start","!M621A50.Gus","!M623A00.Gus","!M624B30.Gus","!M625A50.Gus","!M626A20.Gus","!M627A30.Gus","!M628930.Gus","!M629A20.Gus","!M630C30.Gus","!M701B30.Gus","!M702A20.Gus","!M703B00.Gus","!M704A50.Gus","!M705A50.Gus","!M706B20.Gus","!M707A30.Gus","!M708A00.Gus","!M709A20.Gus","!M710A40.Gus","!M711A10.Gus","!M712A40.Gus","!M713B10.Gus","!M714950.Gus","!M715920.Gus","!M716A10.Gus","!M717950.Gus","!M718A50.Gus","!M719A50.Gus","!M720A30.Gus","!M721B50.Gus"],"not_rendered":{"charts":0,"images":0,"macros":1,"external_links":0,"defined_names":0,"comments":0,"pivot_tables":0},"unopened":[],"bounds":{"document_bytes":16777216,"sheet_cells":100000,"rows_first":2000,"rows_last":500,"rows_between":2000,"halvings":0,"cell_chars":16384,"cell_head_chars":4096},"cells_cut":0,"cells_raw":0,"read":"whole","date_system":"1900"}

{"sheet":"Sample Report","index":0,"n_rows":12,"n_cols":11,"rows_kept":12,"cut":false,"hidden":true,"merged":[[7,0,7,6]]}
[]
["Date"]
["Hen"]
["Program"]
["Start at 999999"]
["Sequence component 1","Time 1","Seqeunce Component 2","Time 2","Seqeunce Component 3","Time 3","Correct   0 = No 1=Yes",null,null,"Seqeunce","Time"]
[12,7,12,42,13,18,"if 77 new line,                                  if 31 or 41 = yes new line on 77, ",null,null,"=string of Seqeunce compponent 1, 2 & 3","=time 3"]
["This continues until ther is a 1 on its own to indicate start of summary data"]
[null,null,null,null,null,null,null,null,null,"10-19 =1"]
["Summary Data ",null,null,null,null,null,null,null,null,"20-29 =2"]
["Correct","Incorrect","Rft","total","Av Correct","Av Incorrect","Percent correct","Time",null,"in this example the seqeunce would be 111"]
[40,33,40,73,23.95,15,54,806]

{"sheet":"Summary","index":1,"n_rows":32,"n_cols":24,"rows_kept":32,"cut":false,"hidden":false,"merged":[]}
[]
["Day","Date","Average Response Rate","Target %","RF for non correct sequence","U Value",null,null,null,null,"Block 1","Block 2","Block 3","Block 4","Block 5","Block 6"]
[1,{"$f":"'!M621A50.Gus'!B2:C2","v":"<date>"},{"$f":"('!M621A50.Gus'!H168/60)/'!M621A50.Gus'!Q3","v":2.4624485596707819},{"$f":"'!M621A50.Gus'!N28/'!M621A50.Gus'!Q3","v":3.0864197530864196E-2},{"$f":"SUM('!M621A50.Gus'!L28:Q28)/'!M621A50.Gus'!Q3","v":7.8456790123456788},{"$f":"'!M621A50.Gus'!Q24","v":0.38583100473111837},null,null,null,"Average Response Rate",{"$f":"AVERAGE(C3:C7)","v":5.1222454589654633},{"$f":"AVERAGE(C8:C12)","v":2.3032991815969956},{"$f":"AVERAGE(C13:C17)","v":1.9074641402121533},{"$f":"AVERAGE(C18:C22)","v":2.1702133596399333},{"$f":"AVERAGE(C23:C27)","v":2.216460875633159},{"$f":"AVERAGE(C28:C32)","v":2.1719600092479765}]
[2,{"$f":"'!M623A00.Gus'!B2:C2","v":"<date>"},{"$f":"('!M623A00.Gus'!H23/60)/'!M623A00.Gus'!Q3","v":16.379411764705882},{"$f":"'!M623A00.Gus'!N28/'!M623A00.Gus'!Q3","v":0},{"$f":"SUM('!M623A00.Gus'!L28:Q28)/'!M623A00.Gus'!Q3","v":0.35294117647058826},{"$f":"'!M623A00.Gus'!Q24","v":0.20412345151253536},null,null,null,"Target %",{"$f":"AVERAGE(D3:D7)","v":4.702526221372326E-2},{"$f":"AVERAGE(D8:D12)","v":0.11099555889040377},{"$f":"AVERAGE(D13:D17)","v":0.14580053865931361},{"$f":"AVERAGE(D18:D22)","v":0.18764197491033038},{"$f":"AVERAGE(D23:D27)","v":0.18726005811006688},{"$f":"AVERAGE(D28:D32)","v":0.18414523370617175}]
[3,{"$f":"'!M624B30.Gus'!B2:C2","v":"<date>"},{"$f":"('!M624B30.Gus'!H189/60)/'!M624B30.Gus'!Q3","v":2.1821493624772312},{"$f":"'!M624B30.Gus'!N28/'!M624B30.Gus'!Q3","v":6.0109289617486336E-2},{"$f":"SUM('!M624B30.Gus'!L28:Q28)/'!M624B30.Gus'!Q3","v":12.535519125683059},{"$f":"'!M624B30.Gus'!Q24","v":0.35783437769472742},null,null,null,"CCRF",{"$f":"AVERAGE(E3:E7)","v":9.2008079293450482},{"$f":"AVERAGE(E8:E12)","v":8.6480127276980134},{"$f":"AVERAGE(E13:E17)","v":12.274112193716986},{"$f":"AVERAGE(E18:E22)","v":10.385626416487769},{"$f":"AVERAGE(E23:E27)","v":12.848159670975559},{"$f":"AVERAGE(E28:E32)","v":11.397916626600221}]
[4,{"$f":"'!M625A50.Gus'!B2:C2","v":"<date>"},{"$f":"('!M625A50.Gus'!H178/60)/'!M625A50.Gus'!Q3","v":2.3043604651162792},{"$f":"'!M625A50.Gus'!N28/'!M625A50.Gus'!Q3","v":7.5581395348837205E-2},{"$f":"SUM('!M625A50.Gus'!L28:Q28)/'!M625A50.Gus'!Q3","v":12.744186046511627},{"$f":"'!M625A50.Gus'!Q24","v":0.32532689722299279},null,null,null,"U Value",{"$f":"AVERAGE(F3:F7)","v":0.32314427326845785},{"$f":"AVERAGE(F8:F12)","v":0.33988000159002241},{"$f":"AVERAGE(F13:F17)","v":0.32080371801164265},{"$f":"AVERAGE(F18:F22)","v":0.34295601383555729},{"$f":"AVERAGE(F23:F27)","v":0.34172496929422969},{"$f":"AVERAGE(F28:F32)","v":0.34824022979357594}]
[5,{"$f":"'!M626A20.Gus'!B2:C2","v":"<date>"},{"$f":"('!M626A20.Gus'!H181/60)/'!M626A20.Gus'!Q3","v":2.2828571428571429},{"$f":"'!M626A20.Gus'!N28/'!M626A20.Gus'!Q3","v":6.8571428571428575E-2},{"$f":"SUM('!M626A20.Gus'!L28:Q28)/'!M626A20.Gus'!Q3","v":12.525714285714285},{"$f":"'!M626A20.Gus'!Q24","v":0.34260563518091541}]
[6,{"$f":"'!M627A30.Gus'!B2:C2","v":"<date>"},{"$f":"('!M627A30.Gus'!H167/60)/'!M627A30.Gus'!Q3","v":2.3903726708074537},{"$f":"'!M627A30.Gus'!N28/'!M627A30.Gus'!Q3","v":7.4534161490683232E-2},{"$f":"SUM('!M627A30.Gus'!L28:Q28)/'!M627A30.Gus'!Q3","v":8},{"$f":"'!M627A30.Gus'!Q24","v":0.34008196198191926}]
[7,{"$f":"'!M628930.Gus'!B2:C2","v":"<date>"},{"$f":"('!M628930.Gus'!H171/60)/'!M628930.Gus'!Q3","v":2.423737373737374},{"$f":"'!M628930.Gus'!N28/'!M628930.Gus'!Q3","v":0.10303030303030303},{"$f":"SUM('!M628930.Gus'!L28:Q28)/'!M628930.Gus'!Q3","v":13.903030303030302},{"$f":"'!M628930.Gus'!Q24","v":0.32416674537048795},{"$f":"K3","v":5.1222454589654633},{"$f":"L3","v":2.3032991815969956},1.9074641402121533,2.1702133596399333,2.216460875633159,2.1719600092479765,{"$f":"K4","v":4.702526221372326E-2},{"$f":"L4","v":0.11099555889040377},0.14580053865931361,0.18764197491033038,0.18726005811006688,0.18414523370617175,{"$f":"K6","v":0.32314427326845785},{"$f":"L6","v":0.33988000159002241},0.32080371801164265,0.34295601383555729,0.34172496929422969,0.34824022979357594]
[8,{"$f":"'!M629A20.Gus'!B2:C2","v":"<date>"},{"$f":"('!M629A20.Gus'!H170/60)/'!M629A20.Gus'!Q3","v":2.4300813008130082},{"$f":"'!M629A20.Gus'!N28/'!M629A20.Gus'!Q3","v":0.1402439024390244},{"$f":"SUM('!M629A20.Gus'!L28:Q28)/'!M629A20.Gus'!Q3","v":7.2560975609756095},{"$f":"'!M629A20.Gus'!Q24","v":0.34761591381410989}]
[9,{"$f":"'!M630C30.Gus'!B2:C2","v":"<date>"},{"$f":"('!M630C30.Gus'!H191/60)/'!M630C30.Gus'!Q3","v":2.1319819819819821},{"$f":"'!M630C30.Gus'!N28/'!M630C30.Gus'!Q3","v":0.11351351351351352},{"$f":"SUM('!M630C30.Gus'!L28:Q28)/'!M630C30.Gus'!Q3","v":7.0540540540540544},{"$f":"'!M630C30.Gus'!Q24","v":0.33061359235764542}]
[10,{"$f":"'!M701B30.Gus'!B2:C2","v":"<date>"},{"$f":"('!M701B30.Gus'!H191/60)/'!M701B30.Gus'!Q3","v":2.1403225806451616},{"$f":"'!M701B30.Gus'!N28/'!M701B30.Gus'!Q3","v":0.12365591397849462},{"$f":"SUM('!M701B30.Gus'!L28:Q28)/'!M701B30.Gus'!Q3","v":7.0268817204301079},{"$f":"'!M701B30.Gus'!Q24","v":0.35692179442594918}]
[11,{"$f":"'!M702A20.Gus'!B2:C2","v":"<date>"},{"$f":"('!M702A20.Gus'!H192/60)/'!M702A20.Gus'!Q3","v":0},{"$f":"'!M702A20.Gus'!N28/'!M702A20.Gus'!Q3","v":0.11290322580645161},{"$f":"SUM('!M702A20.Gus'!L28:Q28)/'!M702A20.Gus'!Q3","v":7.010752688172043},{"$f":"'!M702A20.Gus'!Q24","v":0.33739078423759766}]
[12,{"$f":"'!M703B00.Gus'!B2:C2","v":"<date>"},{"$f":"('!M703B00.Gus'!H191/60)/'!M703B00.Gus'!Q3","v":2.1613513513513514},{"$f":"'!M703B00.Gus'!N28/'!M703B00.Gus'!Q3","v":0.10810810810810811},{"$f":"SUM('!M703B00.Gus'!L28:Q28)/'!M703B00.Gus'!Q3","v":12.454054054054055},{"$f":"'!M703B00.Gus'!Q24","v":0.2968533621256082}]
[13,{"$f":"'!M704A50.Gus'!B2:C2","v":"<date>"},{"$f":"('!M704A50.Gus'!H169/60)/'!M704A50.Gus'!Q3","v":2.4469325153374233},{"$f":"'!M704A50.Gus'!N28/'!M704A50.Gus'!Q3","v":0.1411042944785276},{"$f":"SUM('!M704A50.Gus'!L28:Q28)/'!M704A50.Gus'!Q3","v":13.490797546012271},{"$f":"'!M704A50.Gus'!Q24","v":0.323833262345185}]
[14,{"$f":"'!M705A50.Gus'!B2:C2","v":"<date>"},{"$f":"('!M705A50.Gus'!H159/60)/'!M705A50.Gus'!Q3","v":2.6119825708061},{"$f":"'!M705A50.Gus'!N28/'!M705A50.Gus'!Q3","v":0.16339869281045752},{"$f":"SUM('!M705A50.Gus'!L28:Q28)/'!M705A50.Gus'!Q3","v":15.019607843137255},{"$f":"'!M705A50.Gus'!Q24","v":0.32166587895718957}]
[15,{"$f":"'!M706B20.Gus'!B2:C2","v":"<date>"},{"$f":"('!M706B20.Gus'!H178/60)/'!M706B20.Gus'!Q3","v":2.3170542635658915},{"$f":"'!M706B20.Gus'!N28/'!M706B20.Gus'!Q3","v":0.20348837209302326},{"$f":"SUM('!M706B20.Gus'!L28:Q28)/'!M706B20.Gus'!Q3","v":13.395348837209303},{"$f":"'!M706B20.Gus'!Q24","v":0.32427530239263275}]
[16,{"$f":"'!M707A30.Gus'!B2:C2","v":"<date>"},{"$f":"('!M707A30.Gus'!H172/60)/'!M707A30.Gus'!Q3","v":2.4},{"$f":"'!M707A30.Gus'!N28/'!M707A30.Gus'!Q3","v":0.19277108433734941},{"$f":"SUM('!M707A30.Gus'!L28:Q28)/'!M707A30.Gus'!Q3","v":13.30722891566265},{"$f":"'!M707A30.Gus'!Q24","v":0.34321050308479378}]
[17,{"$f":"'!M708A00.Gus'!B2:C2","v":"<date>"},{"$f":"('!M708A00.Gus'!H189/60)/'!M708A00.Gus'!Q3","v":2.1793260473588343},{"$f":"'!M708A00.Gus'!N28/'!M708A00.Gus'!Q3","v":0.17486338797814208},{"$f":"SUM('!M708A00.Gus'!L28:Q28)/'!M708A00.Gus'!Q3","v":12.650273224043715},{"$f":"'!M708A00.Gus'!Q24","v":0.33705304630664279}]
[18,{"$f":"'!M709A20.Gus'!B2:C2","v":"<date>"},{"$f":"('!M709A20.Gus'!H196/60)/'!M709A20.Gus'!Q3","v":2.1003508771929824},{"$f":"'!M709A20.Gus'!N28/'!M709A20.Gus'!Q3","v":0.18947368421052632},{"$f":"SUM('!M709A20.Gus'!L28:Q28)/'!M709A20.Gus'!Q3","v":12.163157894736843},{"$f":"'!M709A20.Gus'!Q24","v":0.34845606852303851}]
[19,{"$f":"'!M710A40.Gus'!B2:C2","v":"<date>"},{"$f":"('!M710A40.Gus'!H196/60)/'!M710A40.Gus'!Q3","v":2.103859649122807},{"$f":"'!M710A40.Gus'!N28/'!M710A40.Gus'!Q3","v":0.18421052631578946},{"$f":"SUM('!M710A40.Gus'!L28:Q28)/'!M710A40.Gus'!Q3","v":6.9473684210526319},{"$f":"'!M710A40.Gus'!Q24","v":0.3552283880166705}]
[20,{"$f":"'!M711A10.Gus'!B2:C2","v":"<date>"},{"$f":"('!M711A10.Gus'!H199/60)/'!M711A10.Gus'!Q3","v":2.0675302245250435},{"$f":"'!M711A10.Gus'!N28/'!M711A10.Gus'!Q3","v":0.19689119170984457},{"$f":"SUM('!M711A10.Gus'!L28:Q28)/'!M711A10.Gus'!Q3","v":6.8601036269430056},{"$f":"'!M711A10.Gus'!Q24","v":0.33083206324664105}]
[21,{"$f":"'!M712A40.Gus'!B2:C2","v":"<date>"},{"$f":"('!M712A40.Gus'!H189/60)/'!M712A40.Gus'!Q3","v":2.1783242258652096},{"$f":"'!M712A40.Gus'!N28/'!M712A40.Gus'!Q3","v":0.18579234972677597},{"$f":"SUM('!M712A40.Gus'!L28:Q28)/'!M712A40.Gus'!Q3","v":12.66120218579235},{"$f":"'!M712A40.Gus'!Q24","v":0.35336585347524285}]
[22,{"$f":"'!M713B10.Gus'!B2:C2","v":"<date>"},{"$f":"('!M713B10.Gus'!H190/60)/'!M713B10.Gus'!Q3","v":2.1725543478260869},{"$f":"'!M713B10.Gus'!N28/'!M713B10.Gus'!Q3","v":0.17391304347826086},{"$f":"SUM('!M713B10.Gus'!L28:Q28)/'!M713B10.Gus'!Q3","v":12.581521739130435},{"$f":"'!M713B10.Gus'!Q24","v":0.35569070788566903}]
[23,{"$f":"'!M714950.Gus'!B2:C2","v":"<date>"},{"$f":"('!M714950.Gus'!H192/60)/'!M714950.Gus'!Q3","v":2.1443548387096776},{"$f":"'!M714950.Gus'!N28/'!M714950.Gus'!Q3","v":0.15053763440860216},{"$f":"SUM('!M714950.Gus'!L28:Q28)/'!M714950.Gus'!Q3","v":12.43010752688172},{"$f":"'!M714950.Gus'!Q24","v":0.34283673055275643}]
[24,{"$f":"'!M715920.Gus'!B2:C2","v":"<date>"},{"$f":"('!M715920.Gus'!H168/60)/'!M715920.Gus'!Q3","v":2.4667695473251028},{"$f":"'!M715920.Gus'!N28/'!M715920.Gus'!Q3","v":0.23456790123456789},{"$f":"SUM('!M715920.Gus'!L28:Q28)/'!M715920.Gus'!Q3","v":14.222222222222221},{"$f":"'!M715920.Gus'!Q24","v":0.33848507067226241}]
[25,{"$f":"'!M716A10.Gus'!B2:C2","v":"<date>"},{"$f":"('!M716A10.Gus'!H194/60)/'!M716A10.Gus'!Q3","v":2.1203014184397162},{"$f":"'!M716A10.Gus'!N28/'!M716A10.Gus'!Q3","v":0.19148936170212766},{"$f":"SUM('!M716A10.Gus'!L28:Q28)/'!M716A10.Gus'!Q3","v":12.345744680851064},{"$f":"'!M716A10.Gus'!Q24","v":0.3182464838852177}]
[26,{"$f":"'!M717950.Gus'!B2:C2","v":"<date>"},{"$f":"('!M717950.Gus'!H205/60)/'!M717950.Gus'!Q3","v":2.0025125628140703},{"$f":"'!M717950.Gus'!N28/'!M717950.Gus'!Q3","v":0.19597989949748743},{"$f":"SUM('!M717950.Gus'!L28:Q28)/'!M717950.Gus'!Q3","v":11.190954773869347},{"$f":"'!M717950.Gus'!Q24","v":0.33753394739597326}]
[27,{"$f":"'!M718A50.Gus'!B2:C2","v":"<date>"},{"$f":"('!M718A50.Gus'!H185/60)/'!M718A50.Gus'!Q3","v":2.2282122905027935},{"$f":"'!M718A50.Gus'!N28/'!M718A50.Gus'!Q3","v":0.16759776536312848},{"$f":"SUM('!M718A50.Gus'!L28:Q28)/'!M718A50.Gus'!Q3","v":12.910614525139664},{"$f":"'!M718A50.Gus'!Q24","v":0.35491577619601572}]
[28,{"$f":"'!M719A50.Gus'!B2:C2","v":"<date>"},{"$f":"('!M719A50.Gus'!H182/60)/'!M719A50.Gus'!Q3","v":2.2431818181818182},{"$f":"'!M719A50.Gus'!N28/'!M719A50.Gus'!Q3","v":0.22727272727272727},{"$f":"SUM('!M719A50.Gus'!L28:Q28)/'!M719A50.Gus'!Q3","v":12.619318181818182},{"$f":"'!M719A50.Gus'!Q24","v":0.34124863986508885}]
[29,{"$f":"'!M720A30.Gus'!B2:C2","v":"<date>"},{"$f":"('!M720A30.Gus'!H189/60)/'!M720A30.Gus'!Q3","v":2.1150362318840581},{"$f":"'!M720A30.Gus'!N28/'!M720A30.Gus'!Q3","v":0.14130434782608695},{"$f":"SUM('!M720A30.Gus'!L28:Q28)/'!M720A30.Gus'!Q3","v":7.1086956521739131},{"$f":"'!M720A30.Gus'!Q24","v":0.35390970094359464}]
[30,{"$f":"'!M721B50.Gus'!B2:C2","v":"<date>"},{"$f":"('!M721B50.Gus'!H181/60)/'!M721B50.Gus'!Q3","v":2.2708571428571429},{"$f":"'!M721B50.Gus'!N28/'!M721B50.Gus'!Q3","v":0.18857142857142858},{"$f":"SUM('!M721B50.Gus'!L28:Q28)/'!M721B50.Gus'!Q3","v":13.16},{"$f":"'!M721B50.Gus'!Q24","v":0.35359308456720695}]

{"sheet":"Start","index":2,"n_rows":36,"n_cols":10,"rows_kept":36,"cut":false,"hidden":false,"merged":[]}
[null,null,null,null,null,"Use Folder 51",null,"Auto Clean Up",null,"Correct sequence"]
[null,null,null,null,null,false,null,true,null,2212]
[]
["Working with Folder",null,null,null,null,null,"Process All/Or Pick A number: ALL or an integer"]
["F:\\Possum Chapter\\Raw Data\\Gus\\Phase 3 Con\\",null,null,null,null,null,"ALL"]
["Filenames:"]
["!M711A10.Gus",null,null,null,null,null,"Paint Cells"]
["!M712A40.Gus",null,null,null,null,null,false]
["!M713B10.Gus"]
["!M714950.Gus"]
["!M715920.Gus"]
["!M621A50.Gus"]
["!M623A00.Gus"]
["!M624B30.Gus"]
["!M625A50.Gus"]
["!M626A20.Gus"]
["!M627A30.Gus"]
["!M628930.Gus"]
["!M629A20.Gus"]
["!M630C30.Gus"]
["!M701B30.Gus"]
["!M702A20.Gus"]
["!M703B00.Gus"]
["!M704A50.Gus"]
["!M705A50.Gus"]
["!M706B20.Gus"]
["!M707A30.Gus"]
["!M708A00.Gus"]
["!M709A20.Gus"]
["!M710A40.Gus"]
["!M719A50.Gus"]
["!M720A30.Gus"]
["!M721B50.Gus"]
["!M716A10.Gus"]
["!M717950.Gus"]
["!M718A50.Gus"]

{"sheet":"!M621A50.Gus","index":3,"n_rows":168,"n_cols":48,"rows_kept":168,"cut":false,"hidden":false,"merged":[[4,39,4,42],[5,39,5,40],[4,44,4,47],[5,44,5,45],[4,24,4,27],[5,24,5,25],[4,29,4,32],[5,29,5,30],[4,34,4,37],[5,34,5,35],[1,1,1,2],[5,13,5,14],[26,13,26,14],[27,13,27,14],[4,19,4,22],[5,19,5,20]]}
["Report for:!M621A50.Gus"]
["Date:","<date>"]
["Hen:","<hen>",null,null,null,"Correct Sequence",{"$f":"Start!J2","v":2212},null,null,null,null,null,null,null,null,"Total Sequences in Data",{"$f":"4994-COUNTBLANK(L7:L5000)","v":162},null,null,null,null,"Total Sequences in Block Data",{"$f":"COUNTA(L7:L33)","v":27},null,null,null,"Total Sequences in Block Data",{"$f":"COUNTA(L34:L60)","v":27},null,null,null,"Total Sequences in Block Data",{"$f":"COUNTA(L61:L87)","v":27},null,null,null,"Total Sequences in Block Data",{"$f":"COUNTA(L88:L114)","v":27},null,null,null,"Total Sequences in Block Data",{"$f":"COUNTA(L115:L141)","v":27},null,null,null,"Total Sequences in Block Data",{"$f":"COUNTA(L142:L168)","v":27}]
[null,null,null,null,null,null,null,null,null,null,null,null,null,null,null,"Total Sequences in Summary",{"$f":"SUM(O7:O22)","v":162},null,null,null,null,"Total Sequences in Block Summary",{"$f":"SUM(U7:U22)","v":27},null,null,null,"Total Sequences in Block Summary",{"$f":"SUM(Z7:Z22)","v":27},null,null,null,"Total Sequences in Block Summary",{"$f":"SUM(AE7:AE22)","v":27},null,null,null,"Total Sequences in Block Summary",{"$f":"SUM(AJ7:AJ22)","v":27},null,null,null,"Total Sequences in Block Summary",{"$f":"SUM(AO7:AO22)","v":27},null,null,null,"Total Sequences in Block Summary",{"$f":"SUM(AT7:AT22)","v":27}]
[null,null,null,null,null,null,null,null,null,null,null,null,null,null,null,null,null,null,null,"Block 1",null,null,null,null,"Block 2",null,null,null,null,"Block 3",null,null,null,null,"Block 4",null,null,null,null,"Block 5",null,null,null,null,"Block 6"]
["Sequence\nComponent\n1","Time\n1","Sequence\nComponent\n2","Time\n2","Sequence\nComponent\n3","Time\n3","Sequence\nComponent\n4","Time\n4","Sequence\nComponent\n5","Time\n5","Correct?\n0=No 1=Yes","Sequence",null,"Frequency",null,"Relative Frequency","Variability",null,null,"Frequency",null,"Relative Frequency","Variability",null,"Frequency",null,"Relative Frequency","Variability",null,"Frequency",null,"Relative Frequency","Variability",null,"Frequency",null,"Relative Frequency","Variability",null,"Frequency",null,"Relative Frequency","Variability",null,"Frequency",null,"Relative Frequency","Variability"]
[21,72,21,77,22,86,23,92,null,null,0,2222,null,1111,{"$f":"COUNTIF($L$7:$L$500,N7)","v":1},{"$f":"O7/$Q$4","v":6.1728395061728392E-3},{"$f":"IF(P7=0,0,(P7*((LOG(P7))/LOG(2))))","v":-4.5307716067189037E-2},null,null,{"$f":"N7","v":1111},{"$f":"COUNTIF(L7:L33,T7)","v":0},{"$f":"U7/(W4-U20)","v":0},{"$f":"IF(V7=0,0,(V7*((LOG(V7))/LOG(2))))","v":0},null,{"$f":"N7","v":1111},{"$f":"COUNTIF(L34:L60,Y7)","v":0},{"$f":"Z7/(AB4-Z20)","v":0},{"$f":"IF(AA7=0,0,(AA7*((LOG(AA7))/LOG(2))))","v":0},null,{"$f":"N7","v":1111},{"$f":"COUNTIF(L61:L87,AD7)","v":0},{"$f":"AE7/(AG4-AE20)","v":0},{"$f":"IF(AF7=0,0,(AF7*((LOG(AF7))/LOG(2))))","v":0},null,{"$f":"N7","v":1111},{"$f":"COUNTIF(L88:L114,AI7)","v":1},{"$f":"AJ7/(AL4-AJ20)","v":3.8461538461538464E-2},{"$f":"IF(AK7=0,0,(AK7*((LOG(AK7))/LOG(2))))","v":-0.18078614300542661},null,{"$f":"N7","v":1111},{"$f":"COUNTIF(L115:L141,AN7)","v":0},{"$f":"AO7/(AQ4-AO20)","v":0},{"$f":"IF(AP7=0,0,(AP7*((LOG(AP7))/LOG(2))))","v":0},null,{"$f":"N7","v":1111},{"$f":"COUNTIF(L142:L168,AS7)","v":0},{"$f":"AT7/(AV4-AT20)","v":0},{"$f":"IF(AU7=0,0,(AU7*((LOG(AU7))/LOG(2))))","v":0}]
[21,198,21,201,22,205,23,211,null,null,0,2222,null,1112,{"$f":"COUNTIF($L$7:$L$500,N8)","v":5},{"$f":"O8/$Q$4","v":3.0864197530864196E-2},{"$f":"IF(P8=0,0,(P8*((LOG(P8))/LOG(2))))","v":-0.15487413296287847},null,null,{"$f":"N8","v":1112},{"$f":"COUNTIF(L7:L33,T8)","v":0},{"$f":"U8/(W4-U20)","v":0},{"$f":"IF(V8=0,0,(V8*((LOG(V8))/LOG(2))))","v":0},null,{"$f":"N8","v":1112},{"$f":"COUNTIF(L34:L60,Y8)","v":1},{"$f":"Z8/(AB4-Z20)","v":3.8461538461538464E-2},{"$f":"IF(AA8=0,0,(AA8*((LOG(AA8))/LOG(2))))","v":-0.18078614300542661},null,{"$f":"N8","v":1112},{"$f":"COUNTIF(L61:L87,AD8)","v":1},{"$f":"AE8/(AG4-AE20)","v":3.8461538461538464E-2},{"$f":"IF(AF8=0,0,(AF8*((LOG(AF8))/LOG(2))))","v":-0.18078614300542661},null,{"$f":"N8","v":1112},{"$f":"COUNTIF(L88:L114,AI8)","v":1},{"$f":"AJ8/(AL4-AJ20)","v":3.8461538461538464E-2},{"$f":"IF(AK8=0,0,(AK8*((LOG(AK8))/LOG(2))))","v":-0.18078614300542661},null,{"$f":"N8","v":1112},{"$f":"COUNTIF(L115:L141,AN8)","v":2},{"$f":"AO8/(AQ4-AO20)","v":7.407407407407407E-2},{"$f":"IF(AP8=0,0,(AP8*((LOG(AP8))/LOG(2))))","v":-0.27813981497507173},null,{"$f":"N8","v":1112},{"$f":"COUNTIF(L142:L168,AS8)","v":0},{"$f":"AT8/(AV4-AT20)","v":0},{"$f":"IF(AU8=0,0,(AU8*((LOG(AU8))/LOG(2))))","v":0}]
[12,498,23,503,24,513,23,520,null,null,0,1222,null,1121,{"$f":"COUNTIF($L$7:$L$500,N9)","v":4},{"$f":"O9/$Q$4","v":2.4691358024691357E-2},{"$f":"IF(P9=0,0,(P9*((LOG(P9))/LOG(2))))","v":-0.13184814821937343},null,null,{"$f":"N9","v":1121},{"$f":"COUNTIF(L7:L33,T9)","v":0},{"$f":"U9/(W4-U20)","v":0},{"$f":"IF(V9=0,0,(V9*((LOG(V9))/LOG(2))))","v":0},null,{"$f":"N9","v":1121},{"$f":"COUNTIF(L34:L60,Y9)","v":1},{"$f":"Z9/(AB4-Z20)","v":3.8461538461538464E-2},{"$f":"IF(AA9=0,0,(AA9*((LOG(AA9))/LOG(2))))","v":-0.18078614300542661},null,{"$f":"N9","v":1121},{"$f":"COUNTIF(L61:L87,AD9)","v":1},{"$f":"AE9/(AG4-AE20)","v":3.8461538461538464E-2},{"$f":"IF(AF9=0,0,(AF9*((LOG(AF9))/LOG(2))))","v":-0.18078614300542661},null,{"$f":"N9","v":1121},{"$f":"COUNTIF(L88:L114,AI9)","v":1},{"$f":"AJ9/(AL4-AJ20)","v":3.8461538461538464E-2},{"$f":"IF(AK9=0,0,(AK9*((LOG(AK9))/LOG(2))))","v":-0.18078614300542661},null,{"$f":"N9","v":1121},{"$f":"COUNTIF(L115:L141,AN9)","v":0},{"$f":"AO9/(AQ4-AO20)","v":0},{"$f":"IF(AP9=0,0,(AP9*((LOG(AP9))/LOG(2))))","v":0},null,{"$f":"N9","v":1121},{"$f":"COUNTIF(L142:L168,AS9)","v":1},{"$f":"AT9/(AV4-AT20)","v":0.04},{"$f":"IF(AU9=0,0,(AU9*((LOG(AU9))/LOG(2))))","v":-0.18575424759098899}]
[12,624,23,630,24,635,23,646,null,null,0,1222,null,1122,{"$f":"COUNTIF($L$7:$L$500,N10)","v":20},{"$f":"O10/$Q$4","v":0.12345679012345678},{"$f":"IF(P10=0,0,(P10*((LOG(P10))/LOG(2))))","v":-0.37258295160460025},null,null,{"$f":"N10","v":1122},{"$f":"COUNTIF(L7:L33,T10)","v":1},{"$f":"U10/(W4-U20)","v":3.7037037037037035E-2},{"$f":"IF(V10=0,0,(V10*((LOG(V10))/LOG(2))))","v":-0.1761069445245729},null,{"$f":"N10","v":1122},{"$f":"COUNTIF(L34:L60,Y10)","v":4},{"$f":"Z10/(AB4-Z20)","v":0.15384615384615385},{"$f":"IF(AA10=0,0,(AA10*((LOG(AA10))/LOG(2))))","v":-0.4154522643293988},null,{"$f":"N10","v":1122},{"$f":"COUNTIF(L61:L87,AD10)","v":3},{"$f":"AE10/(AG4-AE20)","v":0.11538461538461539},{"$f":"IF(AF10=0,0,(AF10*((LOG(AF10))/LOG(2))))","v":-0.35947814047153104},null,{"$f":"N10","v":1122},{"$f":"COUNTIF(L88:L114,AI10)","v":3},{"$f":"AJ10/(AL4-AJ20)","v":0.11538461538461539},{"$f":"IF(AK10=0,0,(AK10*((LOG(AK10))/LOG(2))))","v":-0.35947814047153104},null,{"$f":"N10","v":1122},{"$f":"COUNTIF(L115:L141,AN10)","v":5},{"$f":"AO10/(AQ4-AO20)","v":0.18518518518518517},{"$f":"IF(AP10=0,0,(AP10*((LOG(AP10))/LOG(2))))","v":-0.45054803838446406},null,{"$f":"N10","v":1122},{"$f":"COUNTIF(L142:L168,AS10)","v":4},{"$f":"AT10/(AV4-AT20)","v":0.16},{"$f":"IF(AU10=0,0,(AU10*((LOG(AU10))/LOG(2))))","v":-0.42301699036395596}]
[12,751,23,761,24,768,23,774,null,null,0,1222,null,1211,{"$f":"COUNTIF($L$7:$L$500,N11)","v":0},{"$f":"O11/$Q$4","v":0},{"$f":"IF(P11=0,0,(P11*((LOG(P11))/LOG(2))))","v":0},null,null,{"$f":"N11","v":1211},{"$f":"COUNTIF(L7:L33,T11)","v":0},{"$f":"U11/(W4-U20)","v":0},{"$f":"IF(V11=0,0,(V11*((LOG(V11))/LOG(2))))","v":0},null,{"$f":"N11","v":1211},{"$f":"COUNTIF(L34:L60,Y11)","v":0},{"$f":"Z11/(AB4-Z20)","v":0},{"$f":"IF(AA11=0,0,(AA11*((LOG(AA11))/LOG(2))))","v":0},null,{"$f":"N11","v":1211},{"$f":"COUNTIF(L61:L87,AD11)","v":0},{"$f":"AE11/(AG4-AE20)","v":0},{"$f":"IF(AF11=0,0,(AF11*((LOG(AF11))/LOG(2))))","v":0},null,{"$f":"N11","v":1211},{"$f":"COUNTIF(L88:L114,AI11)","v":0},{"$f":"AJ11/(AL4-AJ20)","v":0},{"$f":"IF(AK11=0,0,(AK11*((LOG(AK11))/LOG(2))))","v":0},null,{"$f":"N11","v":1211},{"$f":"COUNTIF(L115:L141,AN11)","v":0},{"$f":"AO11/(AQ4-AO20)","v":0},{"$f":"IF(AP11=0,0,(AP11*((LOG(AP11))/LOG(2))))","v":0},null,{"$f":"N11","v":1211},{"$f":"COUNTIF(L142:L168,AS11)","v":0},{"$f":"AT11/(AV4-AT20)","v":0},{"$f":"IF(AU11=0,0,(AU11*((LOG(AU11))/LOG(2))))","v":0}]
[12,868,23,881,24,888,23,892,null,null,0,1222,null,1212,{"$f":"COUNTIF($L$7:$L$500,N12)","v":7},{"$f":"O12/$Q$4","v":4.3209876543209874E-2},{"$f":"IF(P12=0,0,(P12*((LOG(P12))/LOG(2))))","v":-0.19584855287524161},null,null,{"$f":"N12","v":1212},{"$f":"COUNTIF(L7:L33,T12)","v":1},{"$f":"U12/(W4-U20)","v":3.7037037037037035E-2},{"$f":"IF(V12=0,0,(V12*((LOG(V12))/LOG(2))))","v":-0.1761069445245729},null,{"$f":"N12","v":1212},{"$f":"COUNTIF(L34:L60,Y12)","v":1},{"$f":"Z12/(AB4-Z20)","v":3.8461538461538464E-2},{"$f":"IF(AA12=0,0,(AA12*((LOG(AA12))/LOG(2))))","v":-0.18078614300542661},null,{"$f":"N12","v":1212},{"$f":"COUNTIF(L61:L87,AD12)","v":1},{"$f":"AE12/(AG4-AE20)","v":3.8461538461538464E-2},{"$f":"IF(AF12=0,0,(AF12*((LOG(AF12))/LOG(2))))","v":-0.18078614300542661},null,{"$f":"N12","v":1212},{"$f":"COUNTIF(L88:L114,AI12)","v":0},{"$f":"AJ12/(AL4-AJ20)","v":0},{"$f":"IF(AK12=0,0,(AK12*((LOG(AK12))/LOG(2))))","v":0},null,{"$f":"N12","v":1212},{"$f":"COUNTIF(L115:L141,AN12)","v":1},{"$f":"AO12/(AQ4-AO20)","v":3.7037037037037035E-2},{"$f":"IF(AP12=0,0,(AP12*((LOG(AP12))/LOG(2))))","v":-0.1761069445245729},null,{"$f":"N12","v":1212},{"$f":"COUNTIF(L142:L168,AS12)","v":3},{"$f":"AT12/(AV4-AT20)","v":0.12},{"$f":"IF(AU12=0,0,(AU12*((LOG(AU12))/LOG(2))))","v":-0.36706724268642821}]
[12,987,23,989,24,998,23,1006,null,null,0,1222,null,1221,{"$f":"COUNTIF($L$7:$L$500,N13)","v":6},{"$f":"O13/$Q$4","v":3.7037037037037035E-2},{"$f":"IF(P13=0,0,(P13*((LOG(P13))/LOG(2))))","v":-0.1761069445245729},null,null,{"$f":"N13","v":1221},{"$f":"COUNTIF(L7:L33,T13)","v":0},{"$f":"U13/(W4-U20)","v":0},{"$f":"IF(V13=0,0,(V13*((LOG(V13))/LOG(2))))","v":0},null,{"$f":"N13","v":1221},{"$f":"COUNTIF(L34:L60,Y13)","v":1},{"$f":"Z13/(AB4-Z20)","v":3.8461538461538464E-2},{"$f":"IF(AA13=0,0,(AA13*((LOG(AA13))/LOG(2))))","v":-0.18078614300542661},null,{"$f":"N13","v":1221},{"$f":"COUNTIF(L61:L87,AD13)","v":1},{"$f":"AE13/(AG4-AE20)","v":3.8461538461538464E-2},{"$f":"IF(AF13=0,0,(AF13*((LOG(AF13))/LOG(2))))","v":-0.18078614300542661},null,{"$f":"N13","v":1221},{"$f":"COUNTIF(L88:L114,AI13)","v":1},{"$f":"AJ13/(AL4-AJ20)","v":3.8461538461538464E-2},{"$f":"IF(AK13=0,0,(AK13*((LOG(AK13))/LOG(2))))","v":-0.18078614300542661},null,{"$f":"N13","v":1221},{"$f":"COUNTIF(L115:L141,AN13)","v":0},{"$f":"AO13/(AQ4-AO20)","v":0},{"$f":"IF(AP13=0,0,(AP13*((LOG(AP13))/LOG(2))))","v":0},null,{"$f":"N13","v":1221},{"$f":"COUNTIF(L142:L168,AS13)","v":3},{"$f":"AT13/(AV4-AT20)","v":0.12},{"$f":"IF(AU13=0,0,(AU13*((LOG(AU13))/LOG(2))))","v":-0.36706724268642821}]
[12,1104,23,1130,24,1134,23,1141,null,null,0,1222,null,1222,{"$f":"COUNTIF($L$7:$L$500,N14)","v":56},{"$f":"O14/$Q$4","v":0.34567901234567899},{"$f":"IF(P14=0,0,(P14*((LOG(P14))/LOG(2))))","v":-0.52975138596489602},null,null,{"$f":"N14","v":1222},{"$f":"COUNTIF(L7:L33,T14)","v":14},{"$f":"U14/(W4-U20)","v":0.51851851851851849},{"$f":"IF(V14=0,0,(V14*((LOG(V14))/LOG(2))))","v":-0.49131318968452231},null,{"$f":"N14","v":1222},{"$f":"COUNTIF(L34:L60,Y14)","v":8},{"$f":"Z14/(AB4-Z20)","v":0.30769230769230771},{"$f":"IF(AA14=0,0,(AA14*((LOG(AA14))/LOG(2))))","v":-0.52321222096648989},null,{"$f":"N14","v":1222},{"$f":"COUNTIF(L61:L87,AD14)","v":10},{"$f":"AE14/(AG4-AE20)","v":0.38461538461538464},{"$f":"IF(AF14=0,0,(AF14*((LOG(AF14))/LOG(2))))","v":-0.53019677817451139},null,{"$f":"N14","v":1222},{"$f":"COUNTIF(L88:L114,AI14)","v":10},{"$f":"AJ14/(AL4-AJ20)","v":0.38461538461538464},{"$f":"IF(AK14=0,0,(AK14*((LOG(AK14))/LOG(2))))","v":-0.53019677817451139},null,{"$f":"N14","v":1222},{"$f":"COUNTIF(L115:L141,AN14)","v":9},{"$f":"AO14/(AQ4-AO20)","v":0.33333333333333331},{"$f":"IF(AP14=0,0,(AP14*((LOG(AP14))/LOG(2))))","v":-0.52832083357371862},null,{"$f":"N14","v":1222},{"$f":"COUNTIF(L142:L168,AS14)","v":5},{"$f":"AT14/(AV4-AT20)","v":0.2},{"$f":"IF(AU14=0,0,(AU14*((LOG(AU14))/LOG(2))))","v":-0.46438561897747244}]
[12,1239,23,1257,24,1265,23,1276,null,null,0,1222,null,2111,{"$f":"COUNTIF($L$7:$L$500,N15)","v":0},{"$f":"O15/$Q$4","v":0},{"$f":"IF(P15=0,0,(P15*((LOG(P15))/LOG(2))))","v":0},null,null,{"$f":"N15","v":2111},{"$f":"COUNTIF(L7:L33,T15)","v":0},{"$f":"U15/(W4-U20)","v":0},{"$f":"IF(V15=0,0,(V15*((LOG(V15))/LOG(2))))","v":0},null,{"$f":"N15","v":2111},{"$f":"COUNTIF(L34:L60,Y15)","v":0},{"$f":"Z15/(AB4-Z20)","v":0},{"$f":"IF(AA15=0,0,(AA15*((LOG(AA15))/LOG(2))))","v":0},null,{"$f":"N15","v":2111},{"$f":"COUNTIF(L61:L87,AD15)","v":0},{"$f":"AE15/(AG4-AE20)","v":0},{"$f":"IF(AF15=0,0,(AF15*((LOG(AF15))/LOG(2))))","v":0},null,{"$f":"N15","v":2111},{"$f":"COUNTIF(L88:L114,AI15)","v":0},{"$f":"AJ15/(AL4-AJ20)","v":0},{"$f":"IF(AK15=0,0,(AK15*((LOG(AK15))/LOG(2))))","v":0},null,{"$f":"N15","v":2111},{"$f":"COUNTIF(L115:L141,AN15)","v":0},{"$f":"AO15/(AQ4-AO20)","v":0},{"$f":"IF(AP15=0,0,(AP15*((LOG(AP15))/LOG(2))))","v":0},null,{"$f":"N15","v":2111},{"$f":"COUNTIF(L142:L168,AS15)","v":0},{"$f":"AT15/(AV4-AT20)","v":0},{"$f":"IF(AU15=0,0,(AU15*((LOG(AU15))/LOG(2))))","v":0}]
[12,1372,14,1382,24,1401,23,1403,null,null,0,1122,null,2112,{"$f":"COUNTIF($L$7:$L$500,N16)","v":5},{"$f":"O16/$Q$4","v":3.0864197530864196E-2},{"$f":"IF(P16=0,0,(P16*((LOG(P16))/LOG(2))))","v":-0.15487413296287847},null,null,{"$f":"N16","v":2112},{"$f":"COUNTIF(L7:L33,T16)","v":1},{"$f":"U16/(W4-U20)","v":3.7037037037037035E-2},{"$f":"IF(V16=0,0,(V16*((LOG(V16))/LOG(2))))","v":-0.1761069445245729},null,{"$f":"N16","v":2112},{"$f":"COUNTIF(L34:L60,Y16)","v":0},{"$f":"Z16/(AB4-Z20)","v":0},{"$f":"IF(AA16=0,0,(AA16*((LOG(AA16))/LOG(2))))","v":0},null,{"$f":"N16","v":2112},{"$f":"COUNTIF(L61:L87,AD16)","v":1},{"$f":"AE16/(AG4-AE20)","v":3.8461538461538464E-2},{"$f":"IF(AF16=0,0,(AF16*((LOG(AF16))/LOG(2))))","v":-0.18078614300542661},null,{"$f":"N16","v":2112},{"$f":"COUNTIF(L88:L114,AI16)","v":1},{"$f":"AJ16/(AL4-AJ20)","v":3.8461538461538464E-2},{"$f":"IF(AK16=0,0,(AK16*((LOG(AK16))/LOG(2))))","v":-0.18078614300542661},null,{"$f":"N16","v":2112},{"$f":"COUNTIF(L115:L141,AN16)","v":1},{"$f":"AO16/(AQ4-AO20)","v":3.7037037037037035E-2},{"$f":"IF(AP16=0,0,(AP16*((LOG(AP16))/LOG(2))))","v":-0.1761069445245729},null,{"$f":"N16","v":2112},{"$f":"COUNTIF(L142:L168,AS16)","v":1},{"$f":"AT16/(AV4-AT20)","v":0.04},{"$f":"IF(AU16=0,0,(AU16*((LOG(AU16))/LOG(2))))","v":-0.18575424759098899}]
[12,1510,23,1520,24,1524,23,1530,null,null,0,1222,null,2121,{"$f":"COUNTIF($L$7:$L$500,N17)","v":0},{"$f":"O17/$Q$4","v":0},{"$f":"IF(P17=0,0,(P17*((LOG(P17))/LOG(2))))","v":0},null,null,{"$f":"N17","v":2121},{"$f":"COUNTIF(L7:L33,T17)","v":0},{"$f":"U17/(W4-U20)","v":0},{"$f":"IF(V17=0,0,(V17*((LOG(V17))/LOG(2))))","v":0},null,{"$f":"N17","v":2121},{"$f":"COUNTIF(L34:L60,Y17)","v":0},{"$f":"Z17/(AB4-Z20)","v":0},{"$f":"IF(AA17=0,0,(AA17*((LOG(AA17))/LOG(2))))","v":0},null,{"$f":"N17","v":2121},{"$f":"COUNTIF(L61:L87,AD17)","v":0},{"$f":"AE17/(AG4-AE20)","v":0},{"$f":"IF(AF17=0,0,(AF17*((LOG(AF17))/LOG(2))))","v":0},null,{"$f":"N17","v":2121},{"$f":"COUNTIF(L88:L114,AI17)","v":0},{"$f":"AJ17/(AL4-AJ20)","v":0},{"$f":"IF(AK17=0,0,(AK17*((LOG(AK17))/LOG(2))))","v":0},null,{"$f":"N17","v":2121},{"$f":"COUNTIF(L115:L141,AN17)","v":0},{"$f":"AO17/(AQ4-AO20)","v":0},{"$f":"IF(AP17=0,0,(AP17*((LOG(AP17))/LOG(2))))","v":0},null,{"$f":"N17","v":2121},{"$f":"COUNTIF(L142:L168,AS17)","v":0},{"$f":"AT17/(AV4-AT20)","v":0},{"$f":"IF(AU17=0,0,(AU17*((LOG(AU17))/LOG(2))))","v":0}]
[12,1632,23,1644,24,1654,23,1658,null,null,0,1222,null,2122,{"$f":"COUNTIF($L$7:$L$500,N18)","v":10},{"$f":"O18/$Q$4","v":6.1728395061728392E-2},{"$f":"IF(P18=0,0,(P18*((LOG(P18))/LOG(2))))","v":-0.24801987086402855},null,null,{"$f":"N18","v":2122},{"$f":"COUNTIF(L7:L33,T18)","v":1},{"$f":"U18/(W4-U20)","v":3.7037037037037035E-2},{"$f":"IF(V18=0,0,(V18*((LOG(V18))/LOG(2))))","v":-0.1761069445245729},null,{"$f":"N18","v":2122},{"$f":"COUNTIF(L34:L60,Y18)","v":3},{"$f":"Z18/(AB4-Z20)","v":0.11538461538461539},{"$f":"IF(AA18=0,0,(AA18*((LOG(AA18))/LOG(2))))","v":-0.35947814047153104},null,{"$f":"N18","v":2122},{"$f":"COUNTIF(L61:L87,AD18)","v":2},{"$f":"AE18/(AG4-AE20)","v":7.6923076923076927E-2},{"$f":"IF(AF18=0,0,(AF18*((LOG(AF18))/LOG(2))))","v":-0.28464920908777636},null,{"$f":"N18","v":2122},{"$f":"COUNTIF(L88:L114,AI18)","v":1},{"$f":"AJ18/(AL4-AJ20)","v":3.8461538461538464E-2},{"$f":"IF(AK18=0,0,(AK18*((LOG(AK18))/LOG(2))))","v":-0.18078614300542661},null,{"$f":"N18","v":2122},{"$f":"COUNTIF(L115:L141,AN18)","v":1},{"$f":"AO18/(AQ4-AO20)","v":3.7037037037037035E-2},{"$f":"IF(AP18=0,0,(AP18*((LOG(AP18))/LOG(2))))","v":-0.1761069445245729},null,{"$f":"N18","v":2122},{"$f":"COUNTIF(L142:L168,AS18)","v":2},{"$f":"AT18/(AV4-AT20)","v":0.08},{"$f":"IF(AU18=0,0,(AU18*((LOG(AU18))/LOG(2))))","v":-0.29150849518197797}]
[12,1758,23,1763,24,1766,23,1772,null,null,0,1222,null,2211,{"$f":"COUNTIF($L$7:$L$500,N19)","v":1},{"$f":"O19/$Q$4","v":6.1728395061728392E-3},{"$f":"IF(P19=0,0,(P19*((LOG(P19))/LOG(2))))","v":-4.5307716067189037E-2},null,null,{"$f":"N19","v":2211},{"$f":"COUNTIF(L7:L33,T19)","v":0},{"$f":"U19/(W4-U20)","v":0},{"$f":"IF(V19=0,0,(V19*((LOG(V19))/LOG(2))))","v":0},null,{"$f":"N19","v":2211},{"$f":"COUNTIF(L34:L60,Y19)","v":0},{"$f":"Z19/(AB4-Z20)","v":0},{"$f":"IF(AA19=0,0,(AA19*((LOG(AA19))/LOG(2))))","v":0},null,{"$f":"N19","v":2211},{"$f":"COUNTIF(L61:L87,AD19)","v":0},{"$f":"AE19/(AG4-AE20)","v":0},{"$f":"IF(AF19=0,0,(AF19*((LOG(AF19))/LOG(2))))","v":0},null,{"$f":"N19","v":2211},{"$f":"COUNTIF(L88:L114,AI19)","v":0},{"$f":"AJ19/(AL4-AJ20)","v":0},{"$f":"IF(AK19=0,0,(AK19*((LOG(AK19))/LOG(2))))","v":0},null,{"$f":"N19","v":2211},{"$f":"COUNTIF(L115:L141,AN19)","v":1},{"$f":"AO19/(AQ4-AO20)","v":3.7037037037037035E-2},{"$f":"IF(AP19=0,0,(AP19*((LOG(AP19))/LOG(2))))","v":-0.1761069445245729},null,{"$f":"N19","v":2211},{"$f":"COUNTIF(L142:L168,AS19)","v":0},{"$f":"AT19/(AV4-AT20)","v":0},{"$f":"IF(AU19=0,0,(AU19*((LOG(AU19))/LOG(2))))","v":0}]
[21,1874,21,1880,22,1886,23,1895,null,null,0,2222,null,2212,{"$f":"COUNTIF($L$7:$L$500,N20)","v":5},{"$f":"O20/$Q$4","v":3.0864197530864196E-2},{"$f":"IF(P20=0,0,(P20*((LOG(P20))/LOG(2))))","v":-0.15487413296287847},null,null,{"$f":"N20","v":2212},{"$f":"COUNTIF(L7:L33,T20)","v":0},null,null,null,{"$f":"N20","v":2212},{"$f":"COUNTIF(L34:L60,Y20)","v":1},null,null,null,{"$f":"N20","v":2212},{"$f":"COUNTIF(L61:L87,AD20)","v":1},null,null,null,{"$f":"N20","v":2212},{"$f":"COUNTIF(L88:L114,AI20)","v":1},null,null,null,{"$f":"N20","v":2212},{"$f":"COUNTIF(L115:L141,AN20)","v":0},null,null,null,{"$f":"N20","v":2212},{"$f":"COUNTIF(L142:L168,AS20)","v":2}]
[21,1995,21,1999,22,2011,23,2016,null,null,0,2222,null,2221,{"$f":"COUNTIF($L$7:$L$500,N21)","v":4},{"$f":"O21/$Q$4","v":2.4691358024691357E-2},{"$f":"IF(P21=0,0,(P21*((LOG(P21))/LOG(2))))","v":-0.13184814821937343},null,null,{"$f":"N21","v":2221},{"$f":"COUNTIF(L7:L33,T21)","v":0},{"$f":"U21/(W4-U20)","v":0},{"$f":"IF(V21=0,0,(V21*((LOG(V21))/LOG(2))))","v":0},null,{"$f":"N21","v":2221},{"$f":"COUNTIF(L34:L60,Y21)","v":1},{"$f":"Z21/(AB4-Z20)","v":3.8461538461538464E-2},{"$f":"IF(AA21=0,0,(AA21*((LOG(AA21))/LOG(2))))","v":-0.18078614300542661},null,{"$f":"N21","v":2221},{"$f":"COUNTIF(L61:L87,AD21)","v":1},{"$f":"AE21/(AG4-AE20)","v":3.8461538461538464E-2},{"$f":"IF(AF21=0,0,(AF21*((LOG(AF21))/LOG(2))))","v":-0.18078614300542661},null,{"$f":"N21","v":2221},{"$f":"COUNTIF(L88:L114,AI21)","v":2},{"$f":"AJ21/(AL4-AJ20)","v":7.6923076923076927E-2},{"$f":"IF(AK21=0,0,(AK21*((LOG(AK21))/LOG(2))))","v":-0.28464920908777636},null,{"$f":"N21","v":2221},{"$f":"COUNTIF(L115:L141,AN21)","v":0},{"$f":"AO21/(AQ4-AO20)","v":0},{"$f":"IF(AP21=0,0,(AP21*((LOG(AP21))/LOG(2))))","v":0},null,{"$f":"N21","v":2221},{"$f":"COUNTIF(L142:L168,AS21)","v":0},{"$f":"AT21/(AV4-AT20)","v":0},{"$f":"IF(AU21=0,0,(AU21*((LOG(AU21))/LOG(2))))","v":0}]
[21,2114,21,2130,22,2143,23,2149,null,null,0,2222,null,2222,{"$f":"COUNTIF($L$7:$L$500,N22)","v":38},{"$f":"O22/$Q$4","v":0.23456790123456789},{"$f":"IF(P22=0,0,(P22*((LOG(P22))/LOG(2))))","v":-0.49069786789357706},null,null,{"$f":"N22","v":2222},{"$f":"COUNTIF(L7:L33,T22)","v":9},{"$f":"U22/(W4-U20)","v":0.33333333333333331},{"$f":"IF(V22=0,0,(V22*((LOG(V22))/LOG(2))))","v":-0.52832083357371862},null,{"$f":"N22","v":2222},{"$f":"COUNTIF(L34:L60,Y22)","v":6},{"$f":"Z22/(AB4-Z20)","v":0.23076923076923078},{"$f":"IF(AA22=0,0,(AA22*((LOG(AA22))/LOG(2))))","v":-0.48818705017383146},null,{"$f":"N22","v":2222},{"$f":"COUNTIF(L61:L87,AD22)","v":5},{"$f":"AE22/(AG4-AE20)","v":0.19230769230769232},{"$f":"IF(AF22=0,0,(AF22*((LOG(AF22))/LOG(2))))","v":-0.45740608139494804},null,{"$f":"N22","v":2222},{"$f":"COUNTIF(L88:L114,AI22)","v":5},{"$f":"AJ22/(AL4-AJ20)","v":0.19230769230769232},{"$f":"IF(AK22=0,0,(AK22*((LOG(AK22))/LOG(2))))","v":-0.45740608139494804},null,{"$f":"N22","v":2222},{"$f":"COUNTIF(L115:L141,AN22)","v":7},{"$f":"AO22/(AQ4-AO20)","v":0.25925925925925924},{"$f":"IF(AP22=0,0,(AP22*((LOG(AP22))/LOG(2))))","v":-0.5049158541015204},null,{"$f":"N22","v":2222},{"$f":"COUNTIF(L142:L168,AS22)","v":6},{"$f":"AT22/(AV4-AT20)","v":0.24},{"$f":"IF(AU22=0,0,(AU22*((LOG(AU22))/LOG(2))))","v":-0.49413448537285637}]
[21,2245,21,2248,22,2254,23,2261,null,null,0,2222,null,null,null,{"$f":"SUM(P7:P22)","v":1},{"$f":"-SUM(Q7:Q22)","v":2.8319417011886765},null,null,null,null,{"$f":"SUM(V7:V22)","v":0.99999999999999978},{"$f":"-SUM(W7:W22)","v":1.7240618013565325},null,null,null,{"$f":"SUM(AA7:AA22)","v":1},{"$f":"-SUM(AB7:AB22)","v":2.6902603909683842},null,null,null,{"$f":"SUM(AF7:AF22)","v":1.0000000000000002},{"$f":"-SUM(AG7:AG22)","v":2.7164470671613263},null,null,null,{"$f":"SUM(AK7:AK22)","v":1},{"$f":"-SUM(AL7:AL22)","v":2.7164470671613263},null,null,null,{"$f":"SUM(AP7:AP22)","v":0.99999999999999978},{"$f":"-SUM(AQ7:AQ22)","v":2.4663523191330663},null,null,null,{"$f":"SUM(AU7:AU22)","v":1},{"$f":"-SUM(AV7:AV22)","v":2.7786885704510969}]
[12,2364,23,2369,24,2375,23,2381,null,null,0,1222,null,null,null,"U=",{"$f":"Q23/(LOG(Q4)/LOG(2))","v":0.38583100473111837},null,null,null,null,"U1=",{"$f":"W23/(LOG(W4)/LOG(2))","v":0.36258729582394672},null,null,null,"U2=",{"$f":"AB23/(LOG(AB4)/LOG(2))","v":0.56578844183891186},null,null,null,"U3=",{"$f":"AG23/(LOG(AG4)/LOG(2))","v":0.57129575955800138},null,null,null,"U4=",{"$f":"AL23/(LOG(AL4)/LOG(2))","v":0.57129575955800138},null,null,null,"U5=",{"$f":"AQ23/(LOG(AQ4)/LOG(2))","v":0.51869835364367267},null,null,null,"U6=",{"$f":"AV23/(LOG(AV4)/LOG(2))","v":0.58438576500217865}]
[21,2607,21,2612,22,2619,23,2627,null,null,0,2222]
[21,2723,21,2735,22,2741,23,2764,null,null,0,2222]
[21,2860,12,2867,13,2872,23,2875,null,null,0,2112,null,"Total Target Seq"]
[12,2973,23,2978,13,2983,23,2987,null,null,0,1212,null,{"$f":"COUNTIF(L7:L168,G3)","v":5},null,27,27,27,27,27,27]
[12,3083,23,3095,24,3101,23,3108,null,null,0,1222,null,null,null,"% of reinforcement given in 6 equal intervals based on number of trials "]
[12,3470,23,3480,24,3487,23,3494,null,null,0,1222,null,null,null,"%_1","%_2","%_3","%_4","%_5","%_6"]
[12,3599,23,3608,24,3614,23,3621,null,null,0,1222,null,null,"target sequence",{"$f":"$G$3","v":2212},{"$f":"$G$3","v":2212},{"$f":"$G$3","v":2212},{"$f":"$G$3","v":2212},{"$f":"$G$3","v":2212},{"$f":"$G$3","v":2212}]
[21,3724,21,3728,22,3732,23,3738,null,null,0,2222,null,null,"total reinforcement",{"$f":"U20","v":0},{"$f":"Z20","v":1},{"$f":"AE20","v":1},{"$f":"AJ20","v":1},{"$f":"AO20","v":0},{"$f":"AT20","v":2}]
[21,3834,12,3838,24,3840,23,3845,null,null,0,2122,null,null,"% target"]
[12,3940,23,3951,24,3964,23,3969,null,null,0,1222,null,null,"CCRF"]
[21,4085,21,4090,22,4101,23,4109,null,null,0,2222,null,null,"% CCRf"]
[21,4214,21,4218,22,4225,14,4250,null,null,0,2221,null,null,"average response rate",{"$f":"H33/P28","v":142.40740740740742},{"$f":"(H60-H33)/Q28","v":128.18518518518519},{"$f":"(H87-H60)/R28","v":125.51851851851852},{"$f":"(H114-H87)/S28","v":119.62962962962963},{"$f":"(H141-H114)/T28","v":154.96296296296296},{"$f":"(H168-H141)/U28","v":215.77777777777777}]
[21,4345,21,4350,11,4354,21,4361,null,null,0,2212]
[12,4590,23,4600,24,4605,23,4613,null,null,0,1222]
[21,4722,21,4729,22,4744,23,4765,null,null,0,2222]
[21,4869,21,4876,22,4882,23,4887,null,null,0,2222]
[12,4981,14,4998,24,5009,23,5014,null,null,0,1122]
[12,5109,23,5127,24,5136,23,5142,null,null,0,1222]
[12,5240,14,5247,24,5253,23,5256,null,null,0,1122]
[21,5351,21,5356,22,5363,23,5371,null,null,0,2222]
[12,5464,23,5474,24,5483,23,5487,null,null,0,1222]
[12,5584,23,5592,13,5604,23,5609,null,null,0,1212]
[12,5708,23,5717,24,5727,23,5734,null,null,0,1222]
[21,5831,12,5843,24,5850,23,5854,null,null,0,2122]
[21,5967,12,5973,24,5978,23,5989,null,null,0,2122]
[12,6093,23,6103,24,6107,23,6115,null,null,0,1222]
[12,6211,14,6215,24,6219,23,6228,null,null,0,1122]
[12,6321,14,6324,24,6332,23,6335,null,null,0,1122]
[12,6435,23,6442,24,6455,23,6462,null,null,0,1222]
[21,6565,21,6569,22,6577,23,6583,null,null,0,2222]
[12,6676,14,6690,24,6696,14,6704,null,null,0,1121]
[21,6797,21,6803,22,6809,23,6816,null,null,0,2222]
[21,6925,12,6930,24,6955,23,6965,null,null,0,2122]
[12,7058,23,7062,24,7067,14,7069,null,null,0,1221]
[12,7162,23,7178,24,7181,23,7190,null,null,0,1222]
[12,7285,14,7291,13,7304,23,7306,null,null,0,1112]
[12,7407,23,7411,24,7421,23,7425,null,null,0,1222]
[21,7532,21,7538,22,7544,23,7562,null,null,0,2222]
[21,7668,21,7671,22,7674,23,7678,null,null,0,2222]
[12,7785,23,7798,24,7801,23,7805,null,null,0,1222]
[21,7899,12,7918,13,7927,23,7934,null,null,0,2112]
[12,8031,23,8037,24,8044,23,8050,null,null,0,1222]
[21,8155,21,8162,22,8166,23,8172,null,null,0,2222]
[12,8272,23,8277,24,8282,14,8299,null,null,0,1221]
[12,8396,14,8398,24,8406,23,8413,null,null,0,1122]
[21,8518,12,8521,24,8524,23,8530,null,null,0,2122]
[12,8629,14,8634,24,8641,14,8646,null,null,0,1121]
[12,8745,23,8748,24,8755,23,8764,null,null,0,1222]
[12,8864,14,8866,13,8871,23,8876,null,null,0,1112]
[21,8971,21,8976,11,8980,21,8986,null,null,0,2212]
[12,9191,23,9204,24,9224,23,9232,null,null,0,1222]
[12,9341,14,9346,24,9358,23,9366,null,null,0,1122]
[21,9478,21,9483,22,9489,23,9495,null,null,0,2222]
[12,9595,14,9606,24,9608,23,9612,null,null,0,1122]
[12,9707,23,9710,24,9720,23,9725,null,null,0,1222]
[12,9822,23,9828,24,9839,23,9850,null,null,0,1222]
[21,9958,21,9966,22,9971,23,9977,null,null,0,2222]
[12,10071,23,10075,24,10087,23,10094,null,null,0,1222]
[12,10195,23,10202,24,10213,23,10218,null,null,0,1222]
[12,10312,23,10320,24,10326,23,10333,null,null,0,1222]
[12,10427,23,10436,13,10441,23,10450,null,null,0,1212]
[21,10555,12,10561,24,10566,23,10574,null,null,0,2122]
[21,10679,21,10684,22,10691,14,10695,null,null,0,2221]
[21,10795,21,10802,22,10807,23,10816,null,null,0,2222]
[21,10911,21,10916,22,10923,23,10931,null,null,0,2222]
[12,11023,23,11027,24,11031,23,11034,null,null,0,1222]
[12,11130,23,11138,24,11143,23,11150,null,null,0,1222]
[21,11258,12,11260,13,11265,23,11268,null,null,0,2112]
[12,11371,23,11378,24,11382,23,11392,null,null,0,1222]
[12,11485,14,11489,13,11493,23,11501,null,null,0,1112]
[21,11597,21,11604,22,11610,23,11623,null,null,0,2222]
[21,11726,21,11729,11,11733,21,11736,null,null,0,2212]
[12,11859,23,11872,24,11875,23,11880,null,null,0,1222]
[12,11981,23,11991,24,11997,14,12011,null,null,0,1221]
[21,12108,12,12112,24,12118,23,12124,null,null,0,2122]
[12,12218,14,12232,24,12238,14,12247,null,null,0,1121]
[12,12347,23,12359,24,12369,23,12376,null,null,0,1222]
[12,12475,23,12486,24,12490,23,12495,null,null,0,1222]
[12,12589,14,12603,24,12609,23,12615,null,null,0,1122]
[12,12711,23,12718,24,12723,23,12730,null,null,0,1222]
[12,12827,23,12833,24,12837,23,12847,null,null,0,1222]
[12,12942,23,12949,24,12956,23,12961,null,null,0,1222]
[12,13056,14,13062,24,13070,23,13076,null,null,0,1122]
[12,13169,14,13172,13,13178,14,13181,null,null,0,1111]
[21,13283,21,13295,22,13303,23,13315,null,null,0,2222]
[21,13407,21,13413,22,13419,23,13425,null,null,0,2222]
[21,13521,21,13526,22,13534,14,13553,null,null,0,2221]
[12,13651,23,13667,24,13671,23,13681,null,null,0,1222]
[21,13780,21,13787,22,13790,14,13794,null,null,0,2221]
[12,13903,14,13916,24,13920,23,13925,null,null,0,1122]
[12,14025,23,14033,24,14042,23,14048,null,null,0,1222]
[21,14149,21,14161,22,14167,23,14175,null,null,0,2222]
[12,14273,14,14278,24,14282,23,14287,null,null,0,1122]
[21,14385,21,14389,22,14393,23,14399,null,null,0,2222]
[12,14507,14,14510,24,14518,23,14525,null,null,0,1122]
[21,14628,21,14632,22,14640,23,14648,null,null,0,2222]
[21,14740,12,14745,24,14749,23,14755,null,null,0,2122]
[12,14857,23,14859,24,14869,23,14877,null,null,0,1222]
[21,14980,21,14985,22,14990,23,14995,null,null,0,2222]
[12,15088,14,15096,24,15102,23,15106,null,null,0,1122]
[12,15208,14,15209,13,15212,23,15246,null,null,0,1112]
[12,15341,23,15346,24,15351,23,15355,null,null,0,1222]
[12,15456,14,15466,24,15483,23,15485,null,null,0,1122]
[21,15585,21,15588,22,15593,23,15599,null,null,0,2222]
[21,15693,21,15699,22,15707,23,15714,null,null,0,2222]
[21,15814,21,15820,11,15822,12,15831,null,null,0,2211]
[12,15925,23,15936,24,15943,23,15951,null,null,0,1222]
[21,16050,21,16054,22,16057,23,16062,null,null,0,2222]
[21,16166,12,16172,13,16190,23,16198,null,null,0,2112]
[12,16308,14,16313,24,16320,23,16327,null,null,0,1122]
[12,16418,14,16431,13,16442,23,16450,null,null,0,1112]
[12,16547,23,16551,24,16556,23,16562,null,null,0,1222]
[12,17527,23,17609,24,17616,23,17635,null,null,0,1222]
[12,17743,23,17749,24,17753,23,17758,null,null,0,1222]
[12,17859,23,17867,13,17873,23,17876,null,null,0,1212]
[12,17971,23,17979,24,17986,23,17991,null,null,0,1222]
[12,18097,23,18100,24,18104,23,18109,null,null,0,1222]
[12,18210,23,18218,13,18219,23,18224,null,null,0,1212]
[12,18326,23,18337,24,18343,23,18350,null,null,0,1222]
[12,18447,23,18454,24,18461,14,18467,null,null,0,1221]
[12,18568,14,18573,24,18582,14,18586,null,null,0,1121]
[21,18683,21,18687,22,18693,23,18699,null,null,0,2222]
[12,18792,23,18795,13,18815,23,18821,null,null,0,1212]
[12,18926,23,18931,24,18935,23,18941,null,null,0,1222]
[21,19048,12,19056,13,19069,23,19073,null,null,0,2112]
[21,19171,21,19176,22,19181,23,19185,null,null,0,2222]
[21,19280,21,19287,22,19292,23,19299,null,null,0,2222]
[12,19391,14,19401,24,19406,23,19410,null,null,0,1122]
[12,19505,14,19515,24,19519,23,19523,null,null,0,1122]
[12,19862,23,19881,13,20011,23,20024,null,null,0,1212]
[21,22158,21,22165,22,22217,23,22224,null,null,0,2222]
[21,22327,21,22333,22,22339,23,22345,null,null,0,2222]
[12,22438,23,22440,24,22450,23,22455,null,null,0,1222]
[21,22553,12,22564,24,22570,23,22577,null,null,0,2122]
[12,22676,14,22678,24,22683,23,22690,null,null,0,1122]
[12,22787,14,22797,24,22800,23,22806,null,null,0,1122]
[21,22910,21,22912,11,22956,21,22965,null,null,0,2212]
[12,23122,23,23126,24,23139,23,23145,null,null,0,1222]
[21,23238,21,23249,22,23255,23,23261,null,null,0,2222]
[21,23358,12,23360,24,23370,23,23376,null,null,0,2122]
[12,23481,23,23488,24,23493,14,23497,null,null,0,1221]
[21,23599,21,23605,11,23624,21,23629,null,null,0,2212]
[12,23792,23,23796,24,23800,23,23807,null,null,0,1222]
[12,23911,23,23917,24,23927,14,23935,null,null,null,1221]

{"sheet":"!M623A00.Gus","index":4,"n_rows":36,"n_cols":48,"rows_kept":36,"cut":false,"hidden":false,"merged":[[4,39,4,42],[5,39,5,40],[4,44,4,47],[5,44,5,45],[4,24,4,27],[5,24,5,25],[4,29,4,32],[5,29,5,30],[4,34,4,37],[5,34,5,35],[1,1,1,2],[5,13,5,14],[26,13,26,14],[27,13,27,14],[4,19,4,22],[5,19,5,20]]}
["Report for:!M623A00.Gus"]
["Date:","<date>"]
["Hen:","<hen>",null,null,null,"Correct Sequence",{"$f":"Start!J2","v":2212},null,null,null,null,null,null,null,null,"Total Sequences in Data",{"$f":"4994-COUNTBLANK(L7:L5000)","v":17},null,null,null,null,"Total Sequences in Block Data",{"$f":"COUNTA(L7:L9)","v":3},null,null,null,"Total Sequences in Block Data",{"$f":"COUNTA(L10:L12)","v":3},null,null,null,"Total Sequences in Block Data",{"$f":"COUNTA(L13:L14)","v":2},null,null,null,"Total Sequences in Block Data",{"$f":"COUNTA(L15:L17)","v":3},null,null,null,"Total Sequences in Block Data",{"$f":"COUNTA(L18:L20)","v":3},null,null,null,"Total Sequences in Block Data",{"$f":"COUNTA(L21:L23)","v":3}]
[null,null,null,null,null,null,null,null,null,null,null,null,null,null,null,"Total Sequences in Summary",{"$f":"SUM(O7:O22)","v":17},null,null,null,null,"Total Sequences in Block Summary",{"$f":"SUM(U7:U22)","v":3},null,null,null,"Total Sequences in Block Summary",{"$f":"SUM(Z7:Z22)","v":3},null,null,null,"Total Sequences in Block Summary",{"$f":"SUM(AE7:AE22)","v":2},null,null,null,"Total Sequences in Block Summary",{"$f":"SUM(AJ7:AJ22)","v":3},null,null,null,"Total Sequences in Block Summary",{"$f":"SUM(AO7:AO22)","v":3},null,null,null,"Total Sequences in Block Summary",{"$f":"SUM(AT7:AT22)","v":3}]
[null,null,null,null,null,null,null,null,null,null,null,null,null,null,null,null,null,null,null,"Block 1",null,null,null,null,"Block 2",null,null,null,null,"Block 3",null,null,null,null,"Block 4",null,null,null,null,"Block 5",null,null,null,null,"Block 6"]
["Sequence\nComponent\n1","Time\n1","Sequence\nComponent\n2","Time\n2","Sequence\nComponent\n3","Time\n3","Sequence\nComponent\n4","Time\n4","Sequence\nComponent\n5","Time\n5","Correct?\n0=No 1=Yes","Sequence",null,"Frequency",null,"Relative Frequency","Variability",null,null,"Frequency",null,"Relative Frequency","Variability",null,"Frequency",null,"Relative Frequency","Variability",null,"Frequency",null,"Relative Frequency","Variability",null,"Frequency",null,"Relative Frequency","Variability",null,"Frequency",null,"Relative Frequency","Variability",null,"Frequency",null,"Relative Frequency","Variability"]
[21,22,21,33,22,44,23,82,null,null,0,2222,null,1111,{"$f":"COUNTIF($L$7:$L$500,N7)","v":0},{"$f":"O7/$Q$4","v":0},{"$f":"IF(P7=0,0,(P7*((LOG(P7))/LOG(2))))","v":0},null,null,{"$f":"N7","v":1111},{"$f":"COUNTIF(L7:L9,T7)","v":0},{"$f":"U7/(W4-U20)","v":0},{"$f":"IF(V7=0,0,(V7*((LOG(V7))/LOG(2))))","v":0},null,{"$f":"N7","v":1111},{"$f":"COUNTIF(L10:L12,Y7)","v":0},{"$f":"Z7/(AB4-Z20)","v":0},{"$f":"IF(AA7=0,0,(AA7*((LOG(AA7))/LOG(2))))","v":0},null,{"$f":"N7","v":1111},{"$f":"COUNTIF(L13:L14,AD7)","v":0},{"$f":"AE7/(AG4-AE20)","v":0},{"$f":"IF(AF7=0,0,(AF7*((LOG(AF7))/LOG(2))))","v":0},null,{"$f":"N7","v":1111},{"$f":"COUNTIF(L15:L17,AI7)","v":0},{"$f":"AJ7/(AL4-AJ20)","v":0},{"$f":"IF(AK7=0,0,(AK7*((LOG(AK7))/LOG(2))))","v":0},null,{"$f":"N7","v":1111},{"$f":"COUNTIF(L18:L20,AN7)","v":0},{"$f":"AO7/(AQ4-AO20)","v":0},{"$f":"IF(AP7=0,0,(AP7*((LOG(AP7))/LOG(2))))","v":0},null,{"$f":"N7","v":1111},{"$f":"COUNTIF(L21:L23,AS7)","v":0},{"$f":"AT7/(AV4-AT20)","v":0},{"$f":"IF(AU7=0,0,(AU7*((LOG(AU7))/LOG(2))))","v":0}]
[21,211,21,214,22,239,23,244,null,null,0,2222,null,1112,{"$f":"COUNTIF($L$7:$L$500,N8)","v":0},{"$f":"O8/$Q$4","v":0},{"$f":"IF(P8=0,0,(P8*((LOG(P8))/LOG(2))))","v":0},null,null,{"$f":"N8","v":1112},{"$f":"COUNTIF(L7:L9,T8)","v":0},{"$f":"U8/(W4-U20)","v":0},{"$f":"IF(V8=0,0,(V8*((LOG(V8))/LOG(2))))","v":0},null,{"$f":"N8","v":1112},{"$f":"COUNTIF(L10:L12,Y8)","v":0},{"$f":"Z8/(AB4-Z20)","v":0},{"$f":"IF(AA8=0,0,(AA8*((LOG(AA8))/LOG(2))))","v":0},null,{"$f":"N8","v":1112},{"$f":"COUNTIF(L13:L14,AD8)","v":0},{"$f":"AE8/(AG4-AE20)","v":0},{"$f":"IF(AF8=0,0,(AF8*((LOG(AF8))/LOG(2))))","v":0},null,{"$f":"N8","v":1112},{"$f":"COUNTIF(L15:L17,AI8)","v":0},{"$f":"AJ8/(AL4-AJ20)","v":0},{"$f":"IF(AK8=0,0,(AK8*((LOG(AK8))/LOG(2))))","v":0},null,{"$f":"N8","v":1112},{"$f":"COUNTIF(L18:L20,AN8)","v":0},{"$f":"AO8/(AQ4-AO20)","v":0},{"$f":"IF(AP8=0,0,(AP8*((LOG(AP8))/LOG(2))))","v":0},null,{"$f":"N8","v":1112},{"$f":"COUNTIF(L21:L23,AS8)","v":0},{"$f":"AT8/(AV4-AT20)","v":0},{"$f":"IF(AU8=0,0,(AU8*((LOG(AU8))/LOG(2))))","v":0}]
[21,408,21,411,22,416,23,423,null,null,0,2222,null,1121,{"$f":"COUNTIF($L$7:$L$500,N9)","v":0},{"$f":"O9/$Q$4","v":0},{"$f":"IF(P9=0,0,(P9*((LOG(P9))/LOG(2))))","v":0},null,null,{"$f":"N9","v":1121},{"$f":"COUNTIF(L7:L9,T9)","v":0},{"$f":"U9/(W4-U20)","v":0},{"$f":"IF(V9=0,0,(V9*((LOG(V9))/LOG(2))))","v":0},null,{"$f":"N9","v":1121},{"$f":"COUNTIF(L10:L12,Y9)","v":0},{"$f":"Z9/(AB4-Z20)","v":0},{"$f":"IF(AA9=0,0,(AA9*((LOG(AA9))/LOG(2))))","v":0},null,{"$f":"N9","v":1121},{"$f":"COUNTIF(L13:L14,AD9)","v":0},{"$f":"AE9/(AG4-AE20)","v":0},{"$f":"IF(AF9=0,0,(AF9*((LOG(AF9))/LOG(2))))","v":0},null,{"$f":"N9","v":1121},{"$f":"COUNTIF(L15:L17,AI9)","v":0},{"$f":"AJ9/(AL4-AJ20)","v":0},{"$f":"IF(AK9=0,0,(AK9*((LOG(AK9))/LOG(2))))","v":0},null,{"$f":"N9","v":1121},{"$f":"COUNTIF(L18:L20,AN9)","v":0},{"$f":"AO9/(AQ4-AO20)","v":0},{"$f":"IF(AP9=0,0,(AP9*((LOG(AP9))/LOG(2))))","v":0},null,{"$f":"N9","v":1121},{"$f":"COUNTIF(L21:L23,AS9)","v":0},{"$f":"AT9/(AV4-AT20)","v":0},{"$f":"IF(AU9=0,0,(AU9*((LOG(AU9))/LOG(2))))","v":0}]
[12,796,23,805,24,814,14,828,null,null,0,1221,null,1122,{"$f":"COUNTIF($L$7:$L$500,N10)","v":2},{"$f":"O10/$Q$4","v":0.11764705882352941},{"$f":"IF(P10=0,0,(P10*((LOG(P10))/LOG(2))))","v":-0.36323092250003997},null,null,{"$f":"N10","v":1122},{"$f":"COUNTIF(L7:L9,T10)","v":0},{"$f":"U10/(W4-U20)","v":0},{"$f":"IF(V10=0,0,(V10*((LOG(V10))/LOG(2))))","v":0},null,{"$f":"N10","v":1122},{"$f":"COUNTIF(L10:L12,Y10)","v":1},{"$f":"Z10/(AB4-Z20)","v":0.33333333333333331},{"$f":"IF(AA10=0,0,(AA10*((LOG(AA10))/LOG(2))))","v":-0.52832083357371862},null,{"$f":"N10","v":1122},{"$f":"COUNTIF(L13:L14,AD10)","v":0},{"$f":"AE10/(AG4-AE20)","v":0},{"$f":"IF(AF10=0,0,(AF10*((LOG(AF10))/LOG(2))))","v":0},null,{"$f":"N10","v":1122},{"$f":"COUNTIF(L15:L17,AI10)","v":1},{"$f":"AJ10/(AL4-AJ20)","v":0.33333333333333331},{"$f":"IF(AK10=0,0,(AK10*((LOG(AK10))/LOG(2))))","v":-0.52832083357371862},null,{"$f":"N10","v":1122},{"$f":"COUNTIF(L18:L20,AN10)","v":0},{"$f":"AO10/(AQ4-AO20)","v":0},{"$f":"IF(AP10=0,0,(AP10*((LOG(AP10))/LOG(2))))","v":0},null,{"$f":"N10","v":1122},{"$f":"COUNTIF(L21:L23,AS10)","v":0},{"$f":"AT10/(AV4-AT20)","v":0},{"$f":"IF(AU10=0,0,(AU10*((LOG(AU10))/LOG(2))))","v":0}]
[21,1123,21,1131,22,1156,23,1163,null,null,0,2222,null,1211,{"$f":"COUNTIF($L$7:$L$500,N11)","v":0},{"$f":"O11/$Q$4","v":0},{"$f":"IF(P11=0,0,(P11*((LOG(P11))/LOG(2))))","v":0},null,null,{"$f":"N11","v":1211},{"$f":"COUNTIF(L7:L9,T11)","v":0},{"$f":"U11/(W4-U20)","v":0},{"$f":"IF(V11=0,0,(V11*((LOG(V11))/LOG(2))))","v":0},null,{"$f":"N11","v":1211},{"$f":"COUNTIF(L10:L12,Y11)","v":0},{"$f":"Z11/(AB4-Z20)","v":0},{"$f":"IF(AA11=0,0,(AA11*((LOG(AA11))/LOG(2))))","v":0},null,{"$f":"N11","v":1211},{"$f":"COUNTIF(L13:L14,AD11)","v":0},{"$f":"AE11/(AG4-AE20)","v":0},{"$f":"IF(AF11=0,0,(AF11*((LOG(AF11))/LOG(2))))","v":0},null,{"$f":"N11","v":1211},{"$f":"COUNTIF(L15:L17,AI11)","v":0},{"$f":"AJ11/(AL4-AJ20)","v":0},{"$f":"IF(AK11=0,0,(AK11*((LOG(AK11))/LOG(2))))","v":0},null,{"$f":"N11","v":1211},{"$f":"COUNTIF(L18:L20,AN11)","v":0},{"$f":"AO11/(AQ4-AO20)","v":0},{"$f":"IF(AP11=0,0,(AP11*((LOG(AP11))/LOG(2))))","v":0},null,{"$f":"N11","v":1211},{"$f":"COUNTIF(L21:L23,AS11)","v":0},{"$f":"AT11/(AV4-AT20)","v":0},{"$f":"IF(AU11=0,0,(AU11*((LOG(AU11))/LOG(2))))","v":0}]
[12,1770,14,1772,24,1779,23,1789,null,null,0,1122,null,1212,{"$f":"COUNTIF($L$7:$L$500,N12)","v":0},{"$f":"O12/$Q$4","v":0},{"$f":"IF(P12=0,0,(P12*((LOG(P12))/LOG(2))))","v":0},null,null,{"$f":"N12","v":1212},{"$f":"COUNTIF(L7:L9,T12)","v":0},{"$f":"U12/(W4-U20)","v":0},{"$f":"IF(V12=0,0,(V12*((LOG(V12))/LOG(2))))","v":0},null,{"$f":"N12","v":1212},{"$f":"COUNTIF(L10:L12,Y12)","v":0},{"$f":"Z12/(AB4-Z20)","v":0},{"$f":"IF(AA12=0,0,(AA12*((LOG(AA12))/LOG(2))))","v":0},null,{"$f":"N12","v":1212},{"$f":"COUNTIF(L13:L14,AD12)","v":0},{"$f":"AE12/(AG4-AE20)","v":0},{"$f":"IF(AF12=0,0,(AF12*((LOG(AF12))/LOG(2))))","v":0},null,{"$f":"N12","v":1212},{"$f":"COUNTIF(L15:L17,AI12)","v":0},{"$f":"AJ12/(AL4-AJ20)","v":0},{"$f":"IF(AK12=0,0,(AK12*((LOG(AK12))/LOG(2))))","v":0},null,{"$f":"N12","v":1212},{"$f":"COUNTIF(L18:L20,AN12)","v":0},{"$f":"AO12/(AQ4-AO20)","v":0},{"$f":"IF(AP12=0,0,(AP12*((LOG(AP12))/LOG(2))))","v":0},null,{"$f":"N12","v":1212},{"$f":"COUNTIF(L21:L23,AS12)","v":0},{"$f":"AT12/(AV4-AT20)","v":0},{"$f":"IF(AU12=0,0,(AU12*((LOG(AU12))/LOG(2))))","v":0}]
[21,1930,21,1932,22,1949,23,1955,null,null,0,2222,null,1221,{"$f":"COUNTIF($L$7:$L$500,N13)","v":1},{"$f":"O13/$Q$4","v":5.8823529411764705E-2},{"$f":"IF(P13=0,0,(P13*((LOG(P13))/LOG(2))))","v":-0.24043899066178465},null,null,{"$f":"N13","v":1221},{"$f":"COUNTIF(L7:L9,T13)","v":0},{"$f":"U13/(W4-U20)","v":0},{"$f":"IF(V13=0,0,(V13*((LOG(V13))/LOG(2))))","v":0},null,{"$f":"N13","v":1221},{"$f":"COUNTIF(L10:L12,Y13)","v":1},{"$f":"Z13/(AB4-Z20)","v":0.33333333333333331},{"$f":"IF(AA13=0,0,(AA13*((LOG(AA13))/LOG(2))))","v":-0.52832083357371862},null,{"$f":"N13","v":1221},{"$f":"COUNTIF(L13:L14,AD13)","v":0},{"$f":"AE13/(AG4-AE20)","v":0},{"$f":"IF(AF13=0,0,(AF13*((LOG(AF13))/LOG(2))))","v":0},null,{"$f":"N13","v":1221},{"$f":"COUNTIF(L15:L17,AI13)","v":0},{"$f":"AJ13/(AL4-AJ20)","v":0},{"$f":"IF(AK13=0,0,(AK13*((LOG(AK13))/LOG(2))))","v":0},null,{"$f":"N13","v":1221},{"$f":"COUNTIF(L18:L20,AN13)","v":0},{"$f":"AO13/(AQ4-AO20)","v":0},{"$f":"IF(AP13=0,0,(AP13*((LOG(AP13))/LOG(2))))","v":0},null,{"$f":"N13","v":1221},{"$f":"COUNTIF(L21:L23,AS13)","v":0},{"$f":"AT13/(AV4-AT20)","v":0},{"$f":"IF(AU13=0,0,(AU13*((LOG(AU13))/LOG(2))))","v":0}]
[21,2069,21,2077,22,2083,23,2090,null,null,0,2222,null,1222,{"$f":"COUNTIF($L$7:$L$500,N14)","v":0},{"$f":"O14/$Q$4","v":0},{"$f":"IF(P14=0,0,(P14*((LOG(P14))/LOG(2))))","v":0},null,null,{"$f":"N14","v":1222},{"$f":"COUNTIF(L7:L9,T14)","v":0},{"$f":"U14/(W4-U20)","v":0},{"$f":"IF(V14=0,0,(V14*((LOG(V14))/LOG(2))))","v":0},null,{"$f":"N14","v":1222},{"$f":"COUNTIF(L10:L12,Y14)","v":0},{"$f":"Z14/(AB4-Z20)","v":0},{"$f":"IF(AA14=0,0,(AA14*((LOG(AA14))/LOG(2))))","v":0},null,{"$f":"N14","v":1222},{"$f":"COUNTIF(L13:L14,AD14)","v":0},{"$f":"AE14/(AG4-AE20)","v":0},{"$f":"IF(AF14=0,0,(AF14*((LOG(AF14))/LOG(2))))","v":0},null,{"$f":"N14","v":1222},{"$f":"COUNTIF(L15:L17,AI14)","v":0},{"$f":"AJ14/(AL4-AJ20)","v":0},{"$f":"IF(AK14=0,0,(AK14*((LOG(AK14))/LOG(2))))","v":0},null,{"$f":"N14","v":1222},{"$f":"COUNTIF(L18:L20,AN14)","v":0},{"$f":"AO14/(AQ4-AO20)","v":0},{"$f":"IF(AP14=0,0,(AP14*((LOG(AP14))/LOG(2))))","v":0},null,{"$f":"N14","v":1222},{"$f":"COUNTIF(L21:L23,AS14)","v":0},{"$f":"AT14/(AV4-AT20)","v":0},{"$f":"IF(AU14=0,0,(AU14*((LOG(AU14))/LOG(2))))","v":0}]
[21,2200,21,2205,22,2234,23,2239,null,null,0,2222,null,2111,{"$f":"COUNTIF($L$7:$L$500,N15)","v":0},{"$f":"O15/$Q$4","v":0},{"$f":"IF(P15=0,0,(P15*((LOG(P15))/LOG(2))))","v":0},null,null,{"$f":"N15","v":2111},{"$f":"COUNTIF(L7:L9,T15)","v":0},{"$f":"U15/(W4-U20)","v":0},{"$f":"IF(V15=0,0,(V15*((LOG(V15))/LOG(2))))","v":0},null,{"$f":"N15","v":2111},{"$f":"COUNTIF(L10:L12,Y15)","v":0},{"$f":"Z15/(AB4-Z20)","v":0},{"$f":"IF(AA15=0,0,(AA15*((LOG(AA15))/LOG(2))))","v":0},null,{"$f":"N15","v":2111},{"$f":"COUNTIF(L13:L14,AD15)","v":0},{"$f":"AE15/(AG4-AE20)","v":0},{"$f":"IF(AF15=0,0,(AF15*((LOG(AF15))/LOG(2))))","v":0},null,{"$f":"N15","v":2111},{"$f":"COUNTIF(L15:L17,AI15)","v":0},{"$f":"AJ15/(AL4-AJ20)","v":0},{"$f":"IF(AK15=0,0,(AK15*((LOG(AK15))/LOG(2))))","v":0},null,{"$f":"N15","v":2111},{"$f":"COUNTIF(L18:L20,AN15)","v":0},{"$f":"AO15/(AQ4-AO20)","v":0},{"$f":"IF(AP15=0,0,(AP15*((LOG(AP15))/LOG(2))))","v":0},null,{"$f":"N15","v":2111},{"$f":"COUNTIF(L21:L23,AS15)","v":0},{"$f":"AT15/(AV4-AT20)","v":0},{"$f":"IF(AU15=0,0,(AU15*((LOG(AU15))/LOG(2))))","v":0}]
[12,2400,14,2403,24,2412,23,2418,null,null,0,1122,null,2112,{"$f":"COUNTIF($L$7:$L$500,N16)","v":0},{"$f":"O16/$Q$4","v":0},{"$f":"IF(P16=0,0,(P16*((LOG(P16))/LOG(2))))","v":0},null,null,{"$f":"N16","v":2112},{"$f":"COUNTIF(L7:L9,T16)","v":0},{"$f":"U16/(W4-U20)","v":0},{"$f":"IF(V16=0,0,(V16*((LOG(V16))/LOG(2))))","v":0},null,{"$f":"N16","v":2112},{"$f":"COUNTIF(L10:L12,Y16)","v":0},{"$f":"Z16/(AB4-Z20)","v":0},{"$f":"IF(AA16=0,0,(AA16*((LOG(AA16))/LOG(2))))","v":0},null,{"$f":"N16","v":2112},{"$f":"COUNTIF(L13:L14,AD16)","v":0},{"$f":"AE16/(AG4-AE20)","v":0},{"$f":"IF(AF16=0,0,(AF16*((LOG(AF16))/LOG(2))))","v":0},null,{"$f":"N16","v":2112},{"$f":"COUNTIF(L15:L17,AI16)","v":0},{"$f":"AJ16/(AL4-AJ20)","v":0},{"$f":"IF(AK16=0,0,(AK16*((LOG(AK16))/LOG(2))))","v":0},null,{"$f":"N16","v":2112},{"$f":"COUNTIF(L18:L20,AN16)","v":0},{"$f":"AO16/(AQ4-AO20)","v":0},{"$f":"IF(AP16=0,0,(AP16*((LOG(AP16))/LOG(2))))","v":0},null,{"$f":"N16","v":2112},{"$f":"COUNTIF(L21:L23,AS16)","v":0},{"$f":"AT16/(AV4-AT20)","v":0},{"$f":"IF(AU16=0,0,(AU16*((LOG(AU16))/LOG(2))))","v":0}]
[21,3530,21,3534,22,3543,23,3568,null,null,0,2222,null,2121,{"$f":"COUNTIF($L$7:$L$500,N17)","v":0},{"$f":"O17/$Q$4","v":0},{"$f":"IF(P17=0,0,(P17*((LOG(P17))/LOG(2))))","v":0},null,null,{"$f":"N17","v":2121},{"$f":"COUNTIF(L7:L9,T17)","v":0},{"$f":"U17/(W4-U20)","v":0},{"$f":"IF(V17=0,0,(V17*((LOG(V17))/LOG(2))))","v":0},null,{"$f":"N17","v":2121},{"$f":"COUNTIF(L10:L12,Y17)","v":0},{"$f":"Z17/(AB4-Z20)","v":0},{"$f":"IF(AA17=0,0,(AA17*((LOG(AA17))/LOG(2))))","v":0},null,{"$f":"N17","v":2121},{"$f":"COUNTIF(L13:L14,AD17)","v":0},{"$f":"AE17/(AG4-AE20)","v":0},{"$f":"IF(AF17=0,0,(AF17*((LOG(AF17))/LOG(2))))","v":0},null,{"$f":"N17","v":2121},{"$f":"COUNTIF(L15:L17,AI17)","v":0},{"$f":"AJ17/(AL4-AJ20)","v":0},{"$f":"IF(AK17=0,0,(AK17*((LOG(AK17))/LOG(2))))","v":0},null,{"$f":"N17","v":2121},{"$f":"COUNTIF(L18:L20,AN17)","v":0},{"$f":"AO17/(AQ4-AO20)","v":0},{"$f":"IF(AP17=0,0,(AP17*((LOG(AP17))/LOG(2))))","v":0},null,{"$f":"N17","v":2121},{"$f":"COUNTIF(L21:L23,AS17)","v":0},{"$f":"AT17/(AV4-AT20)","v":0},{"$f":"IF(AU17=0,0,(AU17*((LOG(AU17))/LOG(2))))","v":0}]
[21,3669,21,3677,22,3680,23,3687,null,null,0,2222,null,2122,{"$f":"COUNTIF($L$7:$L$500,N18)","v":0},{"$f":"O18/$Q$4","v":0},{"$f":"IF(P18=0,0,(P18*((LOG(P18))/LOG(2))))","v":0},null,null,{"$f":"N18","v":2122},{"$f":"COUNTIF(L7:L9,T18)","v":0},{"$f":"U18/(W4-U20)","v":0},{"$f":"IF(V18=0,0,(V18*((LOG(V18))/LOG(2))))","v":0},null,{"$f":"N18","v":2122},{"$f":"COUNTIF(L10:L12,Y18)","v":0},{"$f":"Z18/(AB4-Z20)","v":0},{"$f":"IF(AA18=0,0,(AA18*((LOG(AA18))/LOG(2))))","v":0},null,{"$f":"N18","v":2122},{"$f":"COUNTIF(L13:L14,AD18)","v":0},{"$f":"AE18/(AG4-AE20)","v":0},{"$f":"IF(AF18=0,0,(AF18*((LOG(AF18))/LOG(2))))","v":0},null,{"$f":"N18","v":2122},{"$f":"COUNTIF(L15:L17,AI18)","v":0},{"$f":"AJ18/(AL4-AJ20)","v":0},{"$f":"IF(AK18=0,0,(AK18*((LOG(AK18))/LOG(2))))","v":0},null,{"$f":"N18","v":2122},{"$f":"COUNTIF(L18:L20,AN18)","v":0},{"$f":"AO18/(AQ4-AO20)","v":0},{"$f":"IF(AP18=0,0,(AP18*((LOG(AP18))/LOG(2))))","v":0},null,{"$f":"N18","v":2122},{"$f":"COUNTIF(L21:L23,AS18)","v":0},{"$f":"AT18/(AV4-AT20)","v":0},{"$f":"IF(AU18=0,0,(AU18*((LOG(AU18))/LOG(2))))","v":0}]
[21,8401,21,8407,22,8419,23,8427,null,null,0,2222,null,2211,{"$f":"COUNTIF($L$7:$L$500,N19)","v":0},{"$f":"O19/$Q$4","v":0},{"$f":"IF(P19=0,0,(P19*((LOG(P19))/LOG(2))))","v":0},null,null,{"$f":"N19","v":2211},{"$f":"COUNTIF(L7:L9,T19)","v":0},{"$f":"U19/(W4-U20)","v":0},{"$f":"IF(V19=0,0,(V19*((LOG(V19))/LOG(2))))","v":0},null,{"$f":"N19","v":2211},{"$f":"COUNTIF(L10:L12,Y19)","v":0},{"$f":"Z19/(AB4-Z20)","v":0},{"$f":"IF(AA19=0,0,(AA19*((LOG(AA19))/LOG(2))))","v":0},null,{"$f":"N19","v":2211},{"$f":"COUNTIF(L13:L14,AD19)","v":0},{"$f":"AE19/(AG4-AE20)","v":0},{"$f":"IF(AF19=0,0,(AF19*((LOG(AF19))/LOG(2))))","v":0},null,{"$f":"N19","v":2211},{"$f":"COUNTIF(L15:L17,AI19)","v":0},{"$f":"AJ19/(AL4-AJ20)","v":0},{"$f":"IF(AK19=0,0,(AK19*((LOG(AK19))/LOG(2))))","v":0},null,{"$f":"N19","v":2211},{"$f":"COUNTIF(L18:L20,AN19)","v":0},{"$f":"AO19/(AQ4-AO20)","v":0},{"$f":"IF(AP19=0,0,(AP19*((LOG(AP19))/LOG(2))))","v":0},null,{"$f":"N19","v":2211},{"$f":"COUNTIF(L21:L23,AS19)","v":0},{"$f":"AT19/(AV4-AT20)","v":0},{"$f":"IF(AU19=0,0,(AU19*((LOG(AU19))/LOG(2))))","v":0}]
[21,8691,21,8694,22,8700,23,8705,null,null,0,2222,null,2212,{"$f":"COUNTIF($L$7:$L$500,N20)","v":0},{"$f":"O20/$Q$4","v":0},{"$f":"IF(P20=0,0,(P20*((LOG(P20))/LOG(2))))","v":0},null,null,{"$f":"N20","v":2212},{"$f":"COUNTIF(L7:L9,T20)","v":0},null,null,null,{"$f":"N20","v":2212},{"$f":"COUNTIF(L10:L12,Y20)","v":0},null,null,null,{"$f":"N20","v":2212},{"$f":"COUNTIF(L13:L14,AD20)","v":0},null,null,null,{"$f":"N20","v":2212},{"$f":"COUNTIF(L15:L17,AI20)","v":0},null,null,null,{"$f":"N20","v":2212},{"$f":"COUNTIF(L18:L20,AN20)","v":0},null,null,null,{"$f":"N20","v":2212},{"$f":"COUNTIF(L21:L23,AS20)","v":0}]
[21,14292,21,14304,22,14330,23,14336,null,null,0,2222,null,2221,{"$f":"COUNTIF($L$7:$L$500,N21)","v":0},{"$f":"O21/$Q$4","v":0},{"$f":"IF(P21=0,0,(P21*((LOG(P21))/LOG(2))))","v":0},null,null,{"$f":"N21","v":2221},{"$f":"COUNTIF(L7:L9,T21)","v":0},{"$f":"U21/(W4-U20)","v":0},{"$f":"IF(V21=0,0,(V21*((LOG(V21))/LOG(2))))","v":0},null,{"$f":"N21","v":2221},{"$f":"COUNTIF(L10:L12,Y21)","v":0},{"$f":"Z21/(AB4-Z20)","v":0},{"$f":"IF(AA21=0,0,(AA21*((LOG(AA21))/LOG(2))))","v":0},null,{"$f":"N21","v":2221},{"$f":"COUNTIF(L13:L14,AD21)","v":0},{"$f":"AE21/(AG4-AE20)","v":0},{"$f":"IF(AF21=0,0,(AF21*((LOG(AF21))/LOG(2))))","v":0},null,{"$f":"N21","v":2221},{"$f":"COUNTIF(L15:L17,AI21)","v":0},{"$f":"AJ21/(AL4-AJ20)","v":0},{"$f":"IF(AK21=0,0,(AK21*((LOG(AK21))/LOG(2))))","v":0},null,{"$f":"N21","v":2221},{"$f":"COUNTIF(L18:L20,AN21)","v":0},{"$f":"AO21/(AQ4-AO20)","v":0},{"$f":"IF(AP21=0,0,(AP21*((LOG(AP21))/LOG(2))))","v":0},null,{"$f":"N21","v":2221},{"$f":"COUNTIF(L21:L23,AS21)","v":0},{"$f":"AT21/(AV4-AT20)","v":0},{"$f":"IF(AU21=0,0,(AU21*((LOG(AU21))/LOG(2))))","v":0}]
[21,14623,21,14639,22,14644,23,14654,null,null,0,2222,null,2222,{"$f":"COUNTIF($L$7:$L$500,N22)","v":14},{"$f":"O22/$Q$4","v":0.82352941176470584},{"$f":"IF(P22=0,0,(P22*((LOG(P22))/LOG(2))))","v":-0.2306771099234291},null,null,{"$f":"N22","v":2222},{"$f":"COUNTIF(L7:L9,T22)","v":3},{"$f":"U22/(W4-U20)","v":1},{"$f":"IF(V22=0,0,(V22*((LOG(V22))/LOG(2))))","v":0},null,{"$f":"N22","v":2222},{"$f":"COUNTIF(L10:L12,Y22)","v":1},{"$f":"Z22/(AB4-Z20)","v":0.33333333333333331},{"$f":"IF(AA22=0,0,(AA22*((LOG(AA22))/LOG(2))))","v":-0.52832083357371862},null,{"$f":"N22","v":2222},{"$f":"COUNTIF(L13:L14,AD22)","v":2},{"$f":"AE22/(AG4-AE20)","v":1},{"$f":"IF(AF22=0,0,(AF22*((LOG(AF22))/LOG(2))))","v":0},null,{"$f":"N22","v":2222},{"$f":"COUNTIF(L15:L17,AI22)","v":2},{"$f":"AJ22/(AL4-AJ20)","v":0.66666666666666663},{"$f":"IF(AK22=0,0,(AK22*((LOG(AK22))/LOG(2))))","v":-0.38997500048077083},null,{"$f":"N22","v":2222},{"$f":"COUNTIF(L18:L20,AN22)","v":3},{"$f":"AO22/(AQ4-AO20)","v":1},{"$f":"IF(AP22=0,0,(AP22*((LOG(AP22))/LOG(2))))","v":0},null,{"$f":"N22","v":2222},{"$f":"COUNTIF(L21:L23,AS22)","v":3},{"$f":"AT22/(AV4-AT20)","v":1},{"$f":"IF(AU22=0,0,(AU22*((LOG(AU22))/LOG(2))))","v":0}]
[21,16688,21,16695,22,16701,23,16707,null,null,0,2222,null,null,null,{"$f":"SUM(P7:P22)","v":1},{"$f":"-SUM(Q7:Q22)","v":0.83434702308525366},null,null,null,null,{"$f":"SUM(V7:V22)","v":1},{"$f":"-SUM(W7:W22)","v":0},null,null,null,{"$f":"SUM(AA7:AA22)","v":1},{"$f":"-SUM(AB7:AB22)","v":1.5849625007211559},null,null,null,{"$f":"SUM(AF7:AF22)","v":1},{"$f":"-SUM(AG7:AG22)","v":0},null,null,null,{"$f":"SUM(AK7:AK22)","v":1},{"$f":"-SUM(AL7:AL22)","v":0.91829583405448945},null,null,null,{"$f":"SUM(AP7:AP22)","v":1},{"$f":"-SUM(AQ7:AQ22)","v":0},null,null,null,{"$f":"SUM(AU7:AU22)","v":1},{"$f":"-SUM(AV7:AV22)","v":0}]
[null,null,null,null,null,null,null,null,null,null,null,null,null,null,null,"U=",{"$f":"Q23/(LOG(Q4)/LOG(2))","v":0.20412345151253536},null,null,null,null,"U1=",{"$f":"W23/(LOG(W4)/LOG(2))","v":0},null,null,null,"U2=",{"$f":"AB23/(LOG(AB4)/LOG(2))","v":0.99999999999999989},null,null,null,"U3=",{"$f":"AG23/(LOG(AG4)/LOG(2))","v":0},null,null,null,"U4=",{"$f":"AL23/(LOG(AL4)/LOG(2))","v":0.57938016428569505},null,null,null,"U5=",{"$f":"AQ23/(LOG(AQ4)/LOG(2))","v":0},null,null,null,"U6=",{"$f":"AV23/(LOG(AV4)/LOG(2))","v":0}]
[]
[]
[null,null,null,null,null,null,null,null,null,null,null,null,null,"Total Target Seq"]
[null,null,null,null,null,null,null,null,null,null,null,null,null,{"$f":"COUNTIF(L7:L23,G3)","v":0},null,3,3,2,3,3,3]
[null,null,null,null,null,null,null,null,null,null,null,null,null,null,null,"% of reinforcement given in 6 equal intervals based on number of trials "]
[null,null,null,null,null,null,null,null,null,null,null,null,null,null,null,"%_1","%_2","%_3","%_4","%_5","%_6"]
[null,null,null,null,null,null,null,null,null,null,null,null,null,null,"target sequence",{"$f":"$G$3","v":2212},{"$f":"$G$3","v":2212},{"$f":"$G$3","v":2212},{"$f":"$G$3","v":2212},{"$f":"$G$3","v":2212},{"$f":"$G$3","v":2212}]
[null,null,null,null,null,null,null,null,null,null,null,null,null,null,"total reinforcement",{"$f":"U20","v":0},{"$f":"Z20","v":0},{"$f":"AE20","v":0},{"$f":"AJ20","v":0},{"$f":"AO20","v":0},{"$f":"AT20","v":0}]
[null,null,null,null,null,null,null,null,null,null,null,null,null,null,"% target"]
[null,null,null,null,null,null,null,null,null,null,null,null,null,null,"CCRF"]
[null,null,null,null,null,null,null,null,null,null,null,null,null,null,"% CCRf"]
[null,null,null,null,null,null,null,null,null,null,null,null,null,null,"average response rate",{"$f":"H9/P28","v":141},{"$f":"(H12-H9)/Q28","v":455.33333333333331},{"$f":"(H14-H12)/R28","v":150.5},{"$f":"(H17-H14)/S28","v":492.66666666666669},{"$f":"(H20-H17)/T28","v":1712.3333333333333},{"$f":"(H23-H20)/U28","v":2667.3333333333335}]

{"sheet":"!M624B30.Gus","index":5,"n_rows":189,"n_cols":48,"rows_kept":189,"cut":false,"hidden":false,"merged":[[4,39,4,42],[5,39,5,40],[4,44,4,47],[5,44,5,45],[4,24,4,27],[5,24,5,25],[4,29,4,32],[5,29,5,30],[4,34,4,37],[5,34,5,35],[1,1,1,2],[5,13,5,14],[26,13,26,14],[27,13,27,14],[4,19,4,22],[5,19,5,20]]}
["Report for:!M624B30.Gus"]
["Date:","<date>"]
["Hen:","<hen>",null,null,null,"Correct Sequence",{"$f":"Start!J2","v":2212},null,null,null,null,null,null,null,null,"Total Sequences in Data",{"$f":"4994-COUNTBLANK(L7:L5000)","v":183},null,null,null,null,"Total Sequences in Block Data",{"$f":"COUNTA(L7:L37)","v":31},null,null,null,"Total Sequences in Block Data",{"$f":"COUNTA(L38:L67)","v":30},null,null,null,"Total Sequences in Block Data",{"$f":"COUNTA(L68:L98)","v":31},null,null,null,"Total Sequences in Block Data",{"$f":"COUNTA(L99:L128)","v":30},null,null,null,"Total Sequences in Block Data",{"$f":"COUNTA(L129:L159)","v":31},null,null,null,"Total Sequences in Block Data",{"$f":"COUNTA(L160:L189)","v":30}]
[null,null,null,null,null,null,null,null,null,null,null,null,null,null,null,"Total Sequences in Summary",{"$f":"SUM(O7:O22)","v":183},null,null,null,null,"Total Sequences in Block Summary",{"$f":"SUM(U7:U22)","v":31},null,null,null,"Total Sequences in Block Summary",{"$f":"SUM(Z7:Z22)","v":30},null,null,null,"Total Sequences in Block Summary",{"$f":"SUM(AE7:AE22)","v":31},null,null,null,"Total Sequences in Block Summary",{"$f":"SUM(AJ7:AJ22)","v":30},null,null,null,"Total Sequences in Block Summary",{"$f":"SUM(AO7:AO22)","v":31},null,null,null,"Total Sequences in Block Summary",{"$f":"SUM(AT7:AT22)","v":30}]
[null,null,null,null,null,null,null,null,null,null,null,null,null,null,null,null,null,null,null,"Block 1",null,null,null,null,"Block 2",null,null,null,null,"Block 3",null,null,null,null,"Block 4",null,null,null,null,"Block 5",null,null,null,null,"Block 6"]
["Sequence\nComponent\n1","Time\n1","Sequence\nComponent\n2","Time\n2","Sequence\nComponent\n3","Time\n3","Sequence\nComponent\n4","Time\n4","Sequence\nComponent\n5","Time\n5","Correct?\n0=No 1=Yes","Sequence",null,"Frequency",null,"Relative Frequency","Variability",null,null,"Frequency",null,"Relative Frequency","Variability",null,"Frequency",null,"Relative Frequency","Variability",null,"Frequency",null,"Relative Frequency","Variability",null,"Frequency",null,"Relative Frequency","Variability",null,"Frequency",null,"Relative Frequency","Variability",null,"Frequency",null,"Relative Frequency","Variability"]
[21,30,21,35,22,42,23,49,null,null,0,2222,null,1111,{"$f":"COUNTIF($L$7:$L$500,N7)","v":2},{"$f":"O7/$Q$4","v":1.092896174863388E-2},{"$f":"IF(P7=0,0,(P7*((LOG(P7))/LOG(2))))","v":-7.1209834298186253E-2},null,null,{"$f":"N7","v":1111},{"$f":"COUNTIF(L7:L37,T7)","v":0},{"$f":"U7/(W4-U20)","v":0},{"$f":"IF(V7=0,0,(V7*((LOG(V7))/LOG(2))))","v":0},null,{"$f":"N7","v":1111},{"$f":"COUNTIF(L38:L67,Y7)","v":0},{"$f":"Z7/(AB4-Z20)","v":0},{"$f":"IF(AA7=0,0,(AA7*((LOG(AA7))/LOG(2))))","v":0},null,{"$f":"N7","v":1111},{"$f":"COUNTIF(L68:L98,AD7)","v":1},{"$f":"AE7/(AG4-AE20)","v":3.3333333333333333E-2},{"$f":"IF(AF7=0,0,(AF7*((LOG(AF7))/LOG(2))))","v":-0.16356301985361729},null,{"$f":"N7","v":1111},{"$f":"COUNTIF(L99:L128,AI7)","v":0},{"$f":"AJ7/(AL4-AJ20)","v":0},{"$f":"IF(AK7=0,0,(AK7*((LOG(AK7))/LOG(2))))","v":0},null,{"$f":"N7","v":1111},{"$f":"COUNTIF(L129:L159,AN7)","v":1},{"$f":"AO7/(AQ4-AO20)","v":3.3333333333333333E-2},{"$f":"IF(AP7=0,0,(AP7*((LOG(AP7))/LOG(2))))","v":-0.16356301985361729},null,{"$f":"N7","v":1111},{"$f":"COUNTIF(L160:L189,AS7)","v":0},{"$f":"AT7/(AV4-AT20)","v":0},{"$f":"IF(AU7=0,0,(AU7*((LOG(AU7))/LOG(2))))","v":0}]
[12,143,23,160,24,168,23,175,null,null,0,1222,null,1112,{"$f":"COUNTIF($L$7:$L$500,N8)","v":2},{"$f":"O8/$Q$4","v":1.092896174863388E-2},{"$f":"IF(P8=0,0,(P8*((LOG(P8))/LOG(2))))","v":-7.1209834298186253E-2},null,null,{"$f":"N8","v":1112},{"$f":"COUNTIF(L7:L37,T8)","v":0},{"$f":"U8/(W4-U20)","v":0},{"$f":"IF(V8=0,0,(V8*((LOG(V8))/LOG(2))))","v":0},null,{"$f":"N8","v":1112},{"$f":"COUNTIF(L38:L67,Y8)","v":0},{"$f":"Z8/(AB4-Z20)","v":0},{"$f":"IF(AA8=0,0,(AA8*((LOG(AA8))/LOG(2))))","v":0},null,{"$f":"N8","v":1112},{"$f":"COUNTIF(L68:L98,AD8)","v":1},{"$f":"AE8/(AG4-AE20)","v":3.3333333333333333E-2},{"$f":"IF(AF8=0,0,(AF8*((LOG(AF8))/LOG(2))))","v":-0.16356301985361729},null,{"$f":"N8","v":1112},{"$f":"COUNTIF(L99:L128,AI8)","v":0},{"$f":"AJ8/(AL4-AJ20)","v":0},{"$f":"IF(AK8=0,0,(AK8*((LOG(AK8))/LOG(2))))","v":0},null,{"$f":"N8","v":1112},{"$f":"COUNTIF(L129:L159,AN8)","v":1},{"$f":"AO8/(AQ4-AO20)","v":3.3333333333333333E-2},{"$f":"IF(AP8=0,0,(AP8*((LOG(AP8))/LOG(2))))","v":-0.16356301985361729},null,{"$f":"N8","v":1112},{"$f":"COUNTIF(L160:L189,AS8)","v":0},{"$f":"AT8/(AV4-AT20)","v":0},{"$f":"IF(AU8=0,0,(AU8*((LOG(AU8))/LOG(2))))","v":0}]
[12,267,23,282,24,287,23,292,null,null,0,1222,null,1121,{"$f":"COUNTIF($L$7:$L$500,N9)","v":2},{"$f":"O9/$Q$4","v":1.092896174863388E-2},{"$f":"IF(P9=0,0,(P9*((LOG(P9))/LOG(2))))","v":-7.1209834298186253E-2},null,null,{"$f":"N9","v":1121},{"$f":"COUNTIF(L7:L37,T9)","v":0},{"$f":"U9/(W4-U20)","v":0},{"$f":"IF(V9=0,0,(V9*((LOG(V9))/LOG(2))))","v":0},null,{"$f":"N9","v":1121},{"$f":"COUNTIF(L38:L67,Y9)","v":0},{"$f":"Z9/(AB4-Z20)","v":0},{"$f":"IF(AA9=0,0,(AA9*((LOG(AA9))/LOG(2))))","v":0},null,{"$f":"N9","v":1121},{"$f":"COUNTIF(L68:L98,AD9)","v":2},{"$f":"AE9/(AG4-AE20)","v":6.6666666666666666E-2},{"$f":"IF(AF9=0,0,(AF9*((LOG(AF9))/LOG(2))))","v":-0.26045937304056793},null,{"$f":"N9","v":1121},{"$f":"COUNTIF(L99:L128,AI9)","v":0},{"$f":"AJ9/(AL4-AJ20)","v":0},{"$f":"IF(AK9=0,0,(AK9*((LOG(AK9))/LOG(2))))","v":0},null,{"$f":"N9","v":1121},{"$f":"COUNTIF(L129:L159,AN9)","v":0},{"$f":"AO9/(AQ4-AO20)","v":0},{"$f":"IF(AP9=0,0,(AP9*((LOG(AP9))/LOG(2))))","v":0},null,{"$f":"N9","v":1121},{"$f":"COUNTIF(L160:L189,AS9)","v":0},{"$f":"AT9/(AV4-AT20)","v":0},{"$f":"IF(AU9=0,0,(AU9*((LOG(AU9))/LOG(2))))","v":0}]
[21,391,21,395,22,400,23,407,null,null,0,2222,null,1122,{"$f":"COUNTIF($L$7:$L$500,N10)","v":9},{"$f":"O10/$Q$4","v":4.9180327868852458E-2},{"$f":"IF(P10=0,0,(P10*((LOG(P10))/LOG(2))))","v":-0.21372663132008507},null,null,{"$f":"N10","v":1122},{"$f":"COUNTIF(L7:L37,T10)","v":1},{"$f":"U10/(W4-U20)","v":3.4482758620689655E-2},{"$f":"IF(V10=0,0,(V10*((LOG(V10))/LOG(2))))","v":-0.16751658603888178},null,{"$f":"N10","v":1122},{"$f":"COUNTIF(L38:L67,Y10)","v":1},{"$f":"Z10/(AB4-Z20)","v":3.5714285714285712E-2},{"$f":"IF(AA10=0,0,(AA10*((LOG(AA10))/LOG(2))))","v":-0.17169124721634299},null,{"$f":"N10","v":1122},{"$f":"COUNTIF(L68:L98,AD10)","v":3},{"$f":"AE10/(AG4-AE20)","v":0.1},{"$f":"IF(AF10=0,0,(AF10*((LOG(AF10))/LOG(2))))","v":-0.33219280948873625},null,{"$f":"N10","v":1122},{"$f":"COUNTIF(L99:L128,AI10)","v":1},{"$f":"AJ10/(AL4-AJ20)","v":3.7037037037037035E-2},{"$f":"IF(AK10=0,0,(AK10*((LOG(AK10))/LOG(2))))","v":-0.1761069445245729},null,{"$f":"N10","v":1122},{"$f":"COUNTIF(L129:L159,AN10)","v":1},{"$f":"AO10/(AQ4-AO20)","v":3.3333333333333333E-2},{"$f":"IF(AP10=0,0,(AP10*((LOG(AP10))/LOG(2))))","v":-0.16356301985361729},null,{"$f":"N10","v":1122},{"$f":"COUNTIF(L160:L189,AS10)","v":2},{"$f":"AT10/(AV4-AT20)","v":7.1428571428571425E-2},{"$f":"IF(AU10=0,0,(AU10*((LOG(AU10))/LOG(2))))","v":-0.27195392300411453}]
[21,507,21,518,11,521,21,524,null,null,0,2212,null,1211,{"$f":"COUNTIF($L$7:$L$500,N11)","v":2},{"$f":"O11/$Q$4","v":1.092896174863388E-2},{"$f":"IF(P11=0,0,(P11*((LOG(P11))/LOG(2))))","v":-7.1209834298186253E-2},null,null,{"$f":"N11","v":1211},{"$f":"COUNTIF(L7:L37,T11)","v":1},{"$f":"U11/(W4-U20)","v":3.4482758620689655E-2},{"$f":"IF(V11=0,0,(V11*((LOG(V11))/LOG(2))))","v":-0.16751658603888178},null,{"$f":"N11","v":1211},{"$f":"COUNTIF(L38:L67,Y11)","v":1},{"$f":"Z11/(AB4-Z20)","v":3.5714285714285712E-2},{"$f":"IF(AA11=0,0,(AA11*((LOG(AA11))/LOG(2))))","v":-0.17169124721634299},null,{"$f":"N11","v":1211},{"$f":"COUNTIF(L68:L98,AD11)","v":0},{"$f":"AE11/(AG4-AE20)","v":0},{"$f":"IF(AF11=0,0,(AF11*((LOG(AF11))/LOG(2))))","v":0},null,{"$f":"N11","v":1211},{"$f":"COUNTIF(L99:L128,AI11)","v":0},{"$f":"AJ11/(AL4-AJ20)","v":0},{"$f":"IF(AK11=0,0,(AK11*((LOG(AK11))/LOG(2))))","v":0},null,{"$f":"N11","v":1211},{"$f":"COUNTIF(L129:L159,AN11)","v":0},{"$f":"AO11/(AQ4-AO20)","v":0},{"$f":"IF(AP11=0,0,(AP11*((LOG(AP11))/LOG(2))))","v":0},null,{"$f":"N11","v":1211},{"$f":"COUNTIF(L160:L189,AS11)","v":0},{"$f":"AT11/(AV4-AT20)","v":0},{"$f":"IF(AU11=0,0,(AU11*((LOG(AU11))/LOG(2))))","v":0}]
[21,798,21,809,22,816,23,823,null,null,0,2222,null,1212,{"$f":"COUNTIF($L$7:$L$500,N12)","v":7},{"$f":"O12/$Q$4","v":3.825136612021858E-2},{"$f":"IF(P12=0,0,(P12*((LOG(P12))/LOG(2))))","v":-0.18010062521084735},null,null,{"$f":"N12","v":1212},{"$f":"COUNTIF(L7:L37,T12)","v":0},{"$f":"U12/(W4-U20)","v":0},{"$f":"IF(V12=0,0,(V12*((LOG(V12))/LOG(2))))","v":0},null,{"$f":"N12","v":1212},{"$f":"COUNTIF(L38:L67,Y12)","v":0},{"$f":"Z12/(AB4-Z20)","v":0},{"$f":"IF(AA12=0,0,(AA12*((LOG(AA12))/LOG(2))))","v":0},null,{"$f":"N12","v":1212},{"$f":"COUNTIF(L68:L98,AD12)","v":2},{"$f":"AE12/(AG4-AE20)","v":6.6666666666666666E-2},{"$f":"IF(AF12=0,0,(AF12*((LOG(AF12))/LOG(2))))","v":-0.26045937304056793},null,{"$f":"N12","v":1212},{"$f":"COUNTIF(L99:L128,AI12)","v":2},{"$f":"AJ12/(AL4-AJ20)","v":7.407407407407407E-2},{"$f":"IF(AK12=0,0,(AK12*((LOG(AK12))/LOG(2))))","v":-0.27813981497507173},null,{"$f":"N12","v":1212},{"$f":"COUNTIF(L129:L159,AN12)","v":2},{"$f":"AO12/(AQ4-AO20)","v":6.6666666666666666E-2},{"$f":"IF(AP12=0,0,(AP12*((LOG(AP12))/LOG(2))))","v":-0.26045937304056793},null,{"$f":"N12","v":1212},{"$f":"COUNTIF(L160:L189,AS12)","v":1},{"$f":"AT12/(AV4-AT20)","v":3.5714285714285712E-2},{"$f":"IF(AU12=0,0,(AU12*((LOG(AU12))/LOG(2))))","v":-0.17169124721634299}]
[21,929,21,933,22,939,14,942,null,null,0,2221,null,1221,{"$f":"COUNTIF($L$7:$L$500,N13)","v":4},{"$f":"O13/$Q$4","v":2.185792349726776E-2},{"$f":"IF(P13=0,0,(P13*((LOG(P13))/LOG(2))))","v":-0.12056174509910474},null,null,{"$f":"N13","v":1221},{"$f":"COUNTIF(L7:L37,T13)","v":0},{"$f":"U13/(W4-U20)","v":0},{"$f":"IF(V13=0,0,(V13*((LOG(V13))/LOG(2))))","v":0},null,{"$f":"N13","v":1221},{"$f":"COUNTIF(L38:L67,Y13)","v":0},{"$f":"Z13/(AB4-Z20)","v":0},{"$f":"IF(AA13=0,0,(AA13*((LOG(AA13))/LOG(2))))","v":0},null,{"$f":"N13","v":1221},{"$f":"COUNTIF(L68:L98,AD13)","v":1},{"$f":"AE13/(AG4-AE20)","v":3.3333333333333333E-2},{"$f":"IF(AF13=0,0,(AF13*((LOG(AF13))/LOG(2))))","v":-0.16356301985361729},null,{"$f":"N13","v":1221},{"$f":"COUNTIF(L99:L128,AI13)","v":1},{"$f":"AJ13/(AL4-AJ20)","v":3.7037037037037035E-2},{"$f":"IF(AK13=0,0,(AK13*((LOG(AK13))/LOG(2))))","v":-0.1761069445245729},null,{"$f":"N13","v":1221},{"$f":"COUNTIF(L129:L159,AN13)","v":1},{"$f":"AO13/(AQ4-AO20)","v":3.3333333333333333E-2},{"$f":"IF(AP13=0,0,(AP13*((LOG(AP13))/LOG(2))))","v":-0.16356301985361729},null,{"$f":"N13","v":1221},{"$f":"COUNTIF(L160:L189,AS13)","v":1},{"$f":"AT13/(AV4-AT20)","v":3.5714285714285712E-2},{"$f":"IF(AU13=0,0,(AU13*((LOG(AU13))/LOG(2))))","v":-0.17169124721634299}]
[21,1039,21,1044,22,1050,23,1057,null,null,0,2222,null,1222,{"$f":"COUNTIF($L$7:$L$500,N14)","v":62},{"$f":"O14/$Q$4","v":0.33879781420765026},{"$f":"IF(P14=0,0,(P14*((LOG(P14))/LOG(2))))","v":-0.52903398212909492},null,null,{"$f":"N14","v":1222},{"$f":"COUNTIF(L7:L37,T14)","v":10},{"$f":"U14/(W4-U20)","v":0.34482758620689657},{"$f":"IF(V14=0,0,(V14*((LOG(V14))/LOG(2))))","v":-0.52967341387593436},null,{"$f":"N14","v":1222},{"$f":"COUNTIF(L38:L67,Y14)","v":14},{"$f":"Z14/(AB4-Z20)","v":0.5},{"$f":"IF(AA14=0,0,(AA14*((LOG(AA14))/LOG(2))))","v":-0.5},null,{"$f":"N14","v":1222},{"$f":"COUNTIF(L68:L98,AD14)","v":7},{"$f":"AE14/(AG4-AE20)","v":0.23333333333333334},{"$f":"IF(AF14=0,0,(AF14*((LOG(AF14))/LOG(2))))","v":-0.48989165716187993},null,{"$f":"N14","v":1222},{"$f":"COUNTIF(L99:L128,AI14)","v":10},{"$f":"AJ14/(AL4-AJ20)","v":0.37037037037037035},{"$f":"IF(AK14=0,0,(AK14*((LOG(AK14))/LOG(2))))","v":-0.53072570639855787},null,{"$f":"N14","v":1222},{"$f":"COUNTIF(L129:L159,AN14)","v":9},{"$f":"AO14/(AQ4-AO20)","v":0.3},{"$f":"IF(AP14=0,0,(AP14*((LOG(AP14))/LOG(2))))","v":-0.52108967824986185},null,{"$f":"N14","v":1222},{"$f":"COUNTIF(L160:L189,AS14)","v":12},{"$f":"AT14/(AV4-AT20)","v":0.42857142857142855},{"$f":"IF(AU14=0,0,(AU14*((LOG(AU14))/LOG(2))))","v":-0.52388246628704915}]
[12,1152,23,1163,24,1167,23,1177,null,null,0,1222,null,2111,{"$f":"COUNTIF($L$7:$L$500,N15)","v":0},{"$f":"O15/$Q$4","v":0},{"$f":"IF(P15=0,0,(P15*((LOG(P15))/LOG(2))))","v":0},null,null,{"$f":"N15","v":2111},{"$f":"COUNTIF(L7:L37,T15)","v":0},{"$f":"U15/(W4-U20)","v":0},{"$f":"IF(V15=0,0,(V15*((LOG(V15))/LOG(2))))","v":0},null,{"$f":"N15","v":2111},{"$f":"COUNTIF(L38:L67,Y15)","v":0},{"$f":"Z15/(AB4-Z20)","v":0},{"$f":"IF(AA15=0,0,(AA15*((LOG(AA15))/LOG(2))))","v":0},null,{"$f":"N15","v":2111},{"$f":"COUNTIF(L68:L98,AD15)","v":0},{"$f":"AE15/(AG4-AE20)","v":0},{"$f":"IF(AF15=0,0,(AF15*((LOG(AF15))/LOG(2))))","v":0},null,{"$f":"N15","v":2111},{"$f":"COUNTIF(L99:L128,AI15)","v":0},{"$f":"AJ15/(AL4-AJ20)","v":0},{"$f":"IF(AK15=0,0,(AK15*((LOG(AK15))/LOG(2))))","v":0},null,{"$f":"N15","v":2111},{"$f":"COUNTIF(L129:L159,AN15)","v":0},{"$f":"AO15/(AQ4-AO20)","v":0},{"$f":"IF(AP15=0,0,(AP15*((LOG(AP15))/LOG(2))))","v":0},null,{"$f":"N15","v":2111},{"$f":"COUNTIF(L160:L189,AS15)","v":0},{"$f":"AT15/(AV4-AT20)","v":0},{"$f":"IF(AU15=0,0,(AU15*((LOG(AU15))/LOG(2))))","v":0}]
[21,1294,21,1312,22,1319,23,1323,null,null,0,2222,null,2112,{"$f":"COUNTIF($L$7:$L$500,N16)","v":2},{"$f":"O16/$Q$4","v":1.092896174863388E-2},{"$f":"IF(P16=0,0,(P16*((LOG(P16))/LOG(2))))","v":-7.1209834298186253E-2},null,null,{"$f":"N16","v":2112},{"$f":"COUNTIF(L7:L37,T16)","v":0},{"$f":"U16/(W4-U20)","v":0},{"$f":"IF(V16=0,0,(V16*((LOG(V16))/LOG(2))))","v":0},null,{"$f":"N16","v":2112},{"$f":"COUNTIF(L38:L67,Y16)","v":0},{"$f":"Z16/(AB4-Z20)","v":0},{"$f":"IF(AA16=0,0,(AA16*((LOG(AA16))/LOG(2))))","v":0},null,{"$f":"N16","v":2112},{"$f":"COUNTIF(L68:L98,AD16)","v":1},{"$f":"AE16/(AG4-AE20)","v":3.3333333333333333E-2},{"$f":"IF(AF16=0,0,(AF16*((LOG(AF16))/LOG(2))))","v":-0.16356301985361729},null,{"$f":"N16","v":2112},{"$f":"COUNTIF(L99:L128,AI16)","v":0},{"$f":"AJ16/(AL4-AJ20)","v":0},{"$f":"IF(AK16=0,0,(AK16*((LOG(AK16))/LOG(2))))","v":0},null,{"$f":"N16","v":2112},{"$f":"COUNTIF(L129:L159,AN16)","v":0},{"$f":"AO16/(AQ4-AO20)","v":0},{"$f":"IF(AP16=0,0,(AP16*((LOG(AP16))/LOG(2))))","v":0},null,{"$f":"N16","v":2112},{"$f":"COUNTIF(L160:L189,AS16)","v":1},{"$f":"AT16/(AV4-AT20)","v":3.5714285714285712E-2},{"$f":"IF(AU16=0,0,(AU16*((LOG(AU16))/LOG(2))))","v":-0.17169124721634299}]
[12,1417,23,1419,24,1425,23,1434,null,null,0,1222,null,2121,{"$f":"COUNTIF($L$7:$L$500,N17)","v":0},{"$f":"O17/$Q$4","v":0},{"$f":"IF(P17=0,0,(P17*((LOG(P17))/LOG(2))))","v":0},null,null,{"$f":"N17","v":2121},{"$f":"COUNTIF(L7:L37,T17)","v":0},{"$f":"U17/(W4-U20)","v":0},{"$f":"IF(V17=0,0,(V17*((LOG(V17))/LOG(2))))","v":0},null,{"$f":"N17","v":2121},{"$f":"COUNTIF(L38:L67,Y17)","v":0},{"$f":"Z17/(AB4-Z20)","v":0},{"$f":"IF(AA17=0,0,(AA17*((LOG(AA17))/LOG(2))))","v":0},null,{"$f":"N17","v":2121},{"$f":"COUNTIF(L68:L98,AD17)","v":0},{"$f":"AE17/(AG4-AE20)","v":0},{"$f":"IF(AF17=0,0,(AF17*((LOG(AF17))/LOG(2))))","v":0},null,{"$f":"N17","v":2121},{"$f":"COUNTIF(L99:L128,AI17)","v":0},{"$f":"AJ17/(AL4-AJ20)","v":0},{"$f":"IF(AK17=0,0,(AK17*((LOG(AK17))/LOG(2))))","v":0},null,{"$f":"N17","v":2121},{"$f":"COUNTIF(L129:L159,AN17)","v":0},{"$f":"AO17/(AQ4-AO20)","v":0},{"$f":"IF(AP17=0,0,(AP17*((LOG(AP17))/LOG(2))))","v":0},null,{"$f":"N17","v":2121},{"$f":"COUNTIF(L160:L189,AS17)","v":0},{"$f":"AT17/(AV4-AT20)","v":0},{"$f":"IF(AU17=0,0,(AU17*((LOG(AU17))/LOG(2))))","v":0}]
[21,1534,12,1540,24,1555,23,1560,null,null,0,2122,null,2122,{"$f":"COUNTIF($L$7:$L$500,N18)","v":18},{"$f":"O18/$Q$4","v":9.8360655737704916E-2},{"$f":"IF(P18=0,0,(P18*((LOG(P18))/LOG(2))))","v":-0.32909260690246528},null,null,{"$f":"N18","v":2122},{"$f":"COUNTIF(L7:L37,T18)","v":3},{"$f":"U18/(W4-U20)","v":0.10344827586206896},{"$f":"IF(V18=0,0,(V18*((LOG(V18))/LOG(2))))","v":-0.33858812011100858},null,{"$f":"N18","v":2122},{"$f":"COUNTIF(L38:L67,Y18)","v":3},{"$f":"Z18/(AB4-Z20)","v":0.10714285714285714},{"$f":"IF(AA18=0,0,(AA18*((LOG(AA18))/LOG(2))))","v":-0.34525633085747659},null,{"$f":"N18","v":2122},{"$f":"COUNTIF(L68:L98,AD18)","v":3},{"$f":"AE18/(AG4-AE20)","v":0.1},{"$f":"IF(AF18=0,0,(AF18*((LOG(AF18))/LOG(2))))","v":-0.33219280948873625},null,{"$f":"N18","v":2122},{"$f":"COUNTIF(L99:L128,AI18)","v":3},{"$f":"AJ18/(AL4-AJ20)","v":0.1111111111111111},{"$f":"IF(AK18=0,0,(AK18*((LOG(AK18))/LOG(2))))","v":-0.3522138890491458},null,{"$f":"N18","v":2122},{"$f":"COUNTIF(L129:L159,AN18)","v":5},{"$f":"AO18/(AQ4-AO20)","v":0.16666666666666666},{"$f":"IF(AP18=0,0,(AP18*((LOG(AP18))/LOG(2))))","v":-0.43082708345352599},null,{"$f":"N18","v":2122},{"$f":"COUNTIF(L160:L189,AS18)","v":1},{"$f":"AT18/(AV4-AT20)","v":3.5714285714285712E-2},{"$f":"IF(AU18=0,0,(AU18*((LOG(AU18))/LOG(2))))","v":-0.17169124721634299}]
[21,1655,21,1660,22,1665,23,1673,null,null,0,2222,null,2211,{"$f":"COUNTIF($L$7:$L$500,N19)","v":0},{"$f":"O19/$Q$4","v":0},{"$f":"IF(P19=0,0,(P19*((LOG(P19))/LOG(2))))","v":0},null,null,{"$f":"N19","v":2211},{"$f":"COUNTIF(L7:L37,T19)","v":0},{"$f":"U19/(W4-U20)","v":0},{"$f":"IF(V19=0,0,(V19*((LOG(V19))/LOG(2))))","v":0},null,{"$f":"N19","v":2211},{"$f":"COUNTIF(L38:L67,Y19)","v":0},{"$f":"Z19/(AB4-Z20)","v":0},{"$f":"IF(AA19=0,0,(AA19*((LOG(AA19))/LOG(2))))","v":0},null,{"$f":"N19","v":2211},{"$f":"COUNTIF(L68:L98,AD19)","v":0},{"$f":"AE19/(AG4-AE20)","v":0},{"$f":"IF(AF19=0,0,(AF19*((LOG(AF19))/LOG(2))))","v":0},null,{"$f":"N19","v":2211},{"$f":"COUNTIF(L99:L128,AI19)","v":0},{"$f":"AJ19/(AL4-AJ20)","v":0},{"$f":"IF(AK19=0,0,(AK19*((LOG(AK19))/LOG(2))))","v":0},null,{"$f":"N19","v":2211},{"$f":"COUNTIF(L129:L159,AN19)","v":0},{"$f":"AO19/(AQ4-AO20)","v":0},{"$f":"IF(AP19=0,0,(AP19*((LOG(AP19))/LOG(2))))","v":0},null,{"$f":"N19","v":2211},{"$f":"COUNTIF(L160:L189,AS19)","v":0},{"$f":"AT19/(AV4-AT20)","v":0},{"$f":"IF(AU19=0,0,(AU19*((LOG(AU19))/LOG(2))))","v":0}]
[12,1776,23,1780,24,1789,23,1795,null,null,0,1222,null,2212,{"$f":"COUNTIF($L$7:$L$500,N20)","v":11},{"$f":"O20/$Q$4","v":6.0109289617486336E-2},{"$f":"IF(P20=0,0,(P20*((LOG(P20))/LOG(2))))","v":-0.24381940118095191},null,null,{"$f":"N20","v":2212},{"$f":"COUNTIF(L7:L37,T20)","v":2},null,null,null,{"$f":"N20","v":2212},{"$f":"COUNTIF(L38:L67,Y20)","v":2},null,null,null,{"$f":"N20","v":2212},{"$f":"COUNTIF(L68:L98,AD20)","v":1},null,null,null,{"$f":"N20","v":2212},{"$f":"COUNTIF(L99:L128,AI20)","v":3},null,null,null,{"$f":"N20","v":2212},{"$f":"COUNTIF(L129:L159,AN20)","v":1},null,null,null,{"$f":"N20","v":2212},{"$f":"COUNTIF(L160:L189,AS20)","v":2}]
[12,1889,23,1892,24,1896,23,1902,null,null,0,1222,null,2221,{"$f":"COUNTIF($L$7:$L$500,N21)","v":8},{"$f":"O21/$Q$4","v":4.3715846994535519E-2},{"$f":"IF(P21=0,0,(P21*((LOG(P21))/LOG(2))))","v":-0.19740764320367399},null,null,{"$f":"N21","v":2221},{"$f":"COUNTIF(L7:L37,T21)","v":2},{"$f":"U21/(W4-U20)","v":6.8965517241379309E-2},{"$f":"IF(V21=0,0,(V21*((LOG(V21))/LOG(2))))","v":-0.26606765483638428},null,{"$f":"N21","v":2221},{"$f":"COUNTIF(L38:L67,Y21)","v":1},{"$f":"Z21/(AB4-Z20)","v":3.5714285714285712E-2},{"$f":"IF(AA21=0,0,(AA21*((LOG(AA21))/LOG(2))))","v":-0.17169124721634299},null,{"$f":"N21","v":2221},{"$f":"COUNTIF(L68:L98,AD21)","v":1},{"$f":"AE21/(AG4-AE20)","v":3.3333333333333333E-2},{"$f":"IF(AF21=0,0,(AF21*((LOG(AF21))/LOG(2))))","v":-0.16356301985361729},null,{"$f":"N21","v":2221},{"$f":"COUNTIF(L99:L128,AI21)","v":1},{"$f":"AJ21/(AL4-AJ20)","v":3.7037037037037035E-2},{"$f":"IF(AK21=0,0,(AK21*((LOG(AK21))/LOG(2))))","v":-0.1761069445245729},null,{"$f":"N21","v":2221},{"$f":"COUNTIF(L129:L159,AN21)","v":3},{"$f":"AO21/(AQ4-AO20)","v":0.1},{"$f":"IF(AP21=0,0,(AP21*((LOG(AP21))/LOG(2))))","v":-0.33219280948873625},null,{"$f":"N21","v":2221},{"$f":"COUNTIF(L160:L189,AS21)","v":0},{"$f":"AT21/(AV4-AT20)","v":0},{"$f":"IF(AU21=0,0,(AU21*((LOG(AU21))/LOG(2))))","v":0}]
[12,1995,14,2005,24,2014,23,2019,null,null,0,1122,null,2222,{"$f":"COUNTIF($L$7:$L$500,N22)","v":54},{"$f":"O22/$Q$4","v":0.29508196721311475},{"$f":"IF(P22=0,0,(P22*((LOG(P22))/LOG(2))))","v":-0.51958396803557927},null,null,{"$f":"N22","v":2222},{"$f":"COUNTIF(L7:L37,T22)","v":12},{"$f":"U22/(W4-U20)","v":0.41379310344827586},{"$f":"IF(V22=0,0,(V22*((LOG(V22))/LOG(2))))","v":-0.5267662735474824},null,{"$f":"N22","v":2222},{"$f":"COUNTIF(L38:L67,Y22)","v":8},{"$f":"Z22/(AB4-Z20)","v":0.2857142857142857},{"$f":"IF(AA22=0,0,(AA22*((LOG(AA22))/LOG(2))))","v":-0.51638712058788683},null,{"$f":"N22","v":2222},{"$f":"COUNTIF(L68:L98,AD22)","v":8},{"$f":"AE22/(AG4-AE20)","v":0.26666666666666666},{"$f":"IF(AF22=0,0,(AF22*((LOG(AF22))/LOG(2))))","v":-0.50850415882893829},null,{"$f":"N22","v":2222},{"$f":"COUNTIF(L99:L128,AI22)","v":9},{"$f":"AJ22/(AL4-AJ20)","v":0.33333333333333331},{"$f":"IF(AK22=0,0,(AK22*((LOG(AK22))/LOG(2))))","v":-0.52832083357371862},null,{"$f":"N22","v":2222},{"$f":"COUNTIF(L129:L159,AN22)","v":7},{"$f":"AO22/(AQ4-AO20)","v":0.23333333333333334},{"$f":"IF(AP22=0,0,(AP22*((LOG(AP22))/LOG(2))))","v":-0.48989165716187993},null,{"$f":"N22","v":2222},{"$f":"COUNTIF(L160:L189,AS22)","v":10},{"$f":"AT22/(AV4-AT20)","v":0.35714285714285715},{"$f":"IF(AU22=0,0,(AU22*((LOG(AU22))/LOG(2))))","v":-0.53050958113222924}]
[12,2119,23,2123,24,2128,23,2135,null,null,0,1222,null,null,null,{"$f":"SUM(P7:P22)","v":1},{"$f":"-SUM(Q7:Q22)","v":2.6893757745727336},null,null,null,null,{"$f":"SUM(V7:V22)","v":1},{"$f":"-SUM(W7:W22)","v":1.9961286344485734},null,null,null,{"$f":"SUM(AA7:AA22)","v":0.99999999999999989},{"$f":"-SUM(AB7:AB22)","v":1.8767171930943922},null,null,null,{"$f":"SUM(AF7:AF22)","v":1},{"$f":"-SUM(AG7:AG22)","v":3.0015152803175131},null,null,null,{"$f":"SUM(AK7:AK22)","v":0.99999999999999978},{"$f":"-SUM(AL7:AL22)","v":2.2177210775702125},null,null,null,{"$f":"SUM(AP7:AP22)","v":1},{"$f":"-SUM(AQ7:AQ22)","v":2.6887126808090414},null,null,null,{"$f":"SUM(AU7:AU22)","v":1},{"$f":"-SUM(AV7:AV22)","v":2.013110959288765}]
[21,2231,12,2235,24,2255,23,2261,null,null,0,2122,null,null,null,"U=",{"$f":"Q23/(LOG(Q4)/LOG(2))","v":0.35783437769472742},null,null,null,null,"U1=",{"$f":"W23/(LOG(W4)/LOG(2))","v":0.40291674156381885},null,null,null,"U2=",{"$f":"AB23/(LOG(AB4)/LOG(2))","v":0.38246566874223425},null,null,null,"U3=",{"$f":"AG23/(LOG(AG4)/LOG(2))","v":0.6058531176943055},null,null,null,"U4=",{"$f":"AL23/(LOG(AL4)/LOG(2))","v":0.45196057143702956},null,null,null,"U5=",{"$f":"AQ23/(LOG(AQ4)/LOG(2))","v":0.54271419870301407},null,null,null,"U6=",{"$f":"AV23/(LOG(AV4)/LOG(2))","v":0.41026204274666794}]
[12,2360,23,2364,24,2369,23,2375,null,null,0,1222]
[12,2481,23,2486,24,2495,23,2502,null,null,0,1222]
[21,2601,21,2604,22,2610,23,2619,null,null,0,2222,null,"Total Target Seq"]
[21,2714,21,2718,22,2724,23,2729,null,null,0,2222,null,{"$f":"COUNTIF(L7:L189,G3)","v":11},null,31,30,31,30,31,30]
[12,2823,23,2834,13,2840,14,2852,null,null,0,1211,null,null,null,"% of reinforcement given in 6 equal intervals based on number of trials "]
[21,2948,21,2953,22,2959,23,2966,null,null,0,2222,null,null,null,"%_1","%_2","%_3","%_4","%_5","%_6"]
[12,3064,23,3068,24,3072,23,3078,null,null,0,1222,null,null,"target sequence",{"$f":"$G$3","v":2212},{"$f":"$G$3","v":2212},{"$f":"$G$3","v":2212},{"$f":"$G$3","v":2212},{"$f":"$G$3","v":2212},{"$f":"$G$3","v":2212}]
[21,3185,21,3195,22,3199,23,3205,null,null,0,2222,null,null,"total reinforcement",{"$f":"U20","v":2},{"$f":"Z20","v":2},{"$f":"AE20","v":1},{"$f":"AJ20","v":3},{"$f":"AO20","v":1},{"$f":"AT20","v":2}]
[21,3299,21,3304,22,3310,14,3313,null,null,0,2221,null,null,"% target"]
[21,3405,12,3410,24,3416,23,3418,null,null,0,2122,null,null,"CCRF"]
[21,3512,21,3519,22,3522,23,3527,null,null,0,2222,null,null,"% CCRf"]
[21,3632,21,3638,22,3645,23,3650,null,null,0,2222,null,null,"average response rate",{"$f":"H37/P28","v":121.16129032258064},{"$f":"(H67-H37)/Q28","v":127.73333333333333},{"$f":"(H98-H67)/R28","v":133.80645161290323},{"$f":"(H128-H98)/S28","v":153.4},{"$f":"(H159-H128)/T28","v":119.70967741935483},{"$f":"(H189-H159)/U28","v":130.36666666666667}]
[21,3742,21,3750,11,3752,21,3756,null,null,0,2212]
[12,4054,23,4064,24,4071,23,4078,null,null,0,1222]
[12,4172,23,4182,24,4190,23,4197,null,null,0,1222]
[12,4290,23,4299,24,4311,23,4317,null,null,0,1222]
[21,4416,21,4424,22,4430,23,4436,null,null,0,2222]
[21,4539,21,4545,22,4550,23,4557,null,null,0,2222]
[12,4656,23,4659,24,4666,23,4672,null,null,0,1222]
[21,4776,21,4782,22,4790,23,4797,null,null,0,2222]
[21,4894,21,4901,22,4907,14,4913,null,null,0,2221]
[12,5014,23,5019,24,5022,23,5027,null,null,0,1222]
[21,5126,21,5141,22,5149,23,5156,null,null,0,2222]
[12,5255,23,5260,24,5263,23,5267,null,null,0,1222]
[21,5366,21,5372,22,5378,23,5385,null,null,0,2222]
[21,5485,12,5490,24,5496,23,5501,null,null,0,2122]
[12,5598,23,5603,24,5611,23,5616,null,null,0,1222]
[21,5710,12,5714,24,5716,23,5721,null,null,0,2122]
[12,5816,23,5820,24,5825,23,5833,null,null,0,1222]
[21,5928,21,5933,11,5935,21,5939,null,null,0,2212]
[21,6159,21,6168,22,6174,23,6181,null,null,0,2222]
[12,6273,14,6278,24,6282,23,6288,null,null,0,1122]
[12,6382,23,6395,24,6399,23,6404,null,null,0,1222]
[12,6501,23,6504,24,6509,23,6515,null,null,0,1222]
[12,6619,23,6625,24,6630,23,6635,null,null,0,1222]
[21,6738,12,6741,24,6748,23,6753,null,null,0,2122]
[12,6849,23,6856,24,6866,23,6869,null,null,0,1222]
[12,6971,23,6976,24,6984,23,6990,null,null,0,1222]
[12,7084,23,7089,13,7094,14,7098,null,null,0,1211]
[21,7202,21,7205,22,7209,23,7217,null,null,0,2222]
[12,7320,23,7328,24,7341,23,7347,null,null,0,1222]
[21,7448,21,7464,22,7471,23,7479,null,null,0,2222]
[21,7576,21,7584,11,7586,21,7588,null,null,0,2212]
[21,7779,21,7796,22,7802,23,7809,null,null,0,2222]
[12,7906,23,7908,24,7920,23,7926,null,null,0,1222]
[12,8031,23,8034,24,8043,23,8049,null,null,0,1222]
[21,8144,21,8150,22,8156,23,8164,null,null,0,2222]
[12,8264,23,8272,24,8277,23,8280,null,null,0,1222]
[12,8372,14,8381,24,8386,14,8389,null,null,0,1121]
[21,8484,12,8491,24,8497,23,8506,null,null,0,2122]
[12,8600,14,8606,24,8613,14,8631,null,null,0,1121]
[12,8725,23,8732,24,8736,14,8738,null,null,0,1221]
[21,8830,21,8836,22,8841,23,8847,null,null,0,2222]
[21,8941,12,8943,24,8945,23,8952,null,null,0,2122]
[21,9053,12,9059,24,9080,23,9081,null,null,0,2122]
[12,9180,23,9189,24,9195,23,9201,null,null,0,1222]
[12,9295,14,9300,13,9308,23,9310,null,null,0,1112]
[21,9404,21,9411,22,9416,23,9424,null,null,0,2222]
[12,9516,23,9520,13,9528,23,9530,null,null,0,1212]
[21,9622,21,9627,22,9634,14,9637,null,null,0,2221]
[12,9732,23,9740,24,9753,23,9758,null,null,0,1222]
[12,9859,23,9866,13,9877,23,9880,null,null,0,1212]
[12,9983,23,9988,24,10031,23,10040,null,null,0,1222]
[12,10135,14,10152,13,10155,14,10163,null,null,0,1111]
[21,10258,21,10266,22,10270,23,10290,null,null,0,2222]
[12,10392,14,10396,24,10402,23,10406,null,null,0,1122]
[21,10501,21,10506,22,10511,23,10518,null,null,0,2222]
[12,10621,23,10625,24,10631,23,10635,null,null,0,1222]
[21,10731,21,10735,22,10739,23,10742,null,null,0,2222]
[12,10837,14,10849,24,10853,23,10881,null,null,0,1122]
[12,10975,14,10978,24,10992,23,11002,null,null,0,1122]
[21,11105,12,11109,13,11112,23,11118,null,null,0,2112]
[21,11221,21,11225,11,11227,21,11243,null,null,0,2212]
[21,11716,21,11722,22,11728,23,11736,null,null,0,2222]
[12,11829,23,11840,24,11846,23,11851,null,null,0,1222]
[12,11956,23,11961,24,11966,23,11972,null,null,0,1222]
[21,12075,12,12080,24,12082,23,12095,null,null,0,2122]
[12,12193,23,12199,13,12203,23,12211,null,null,0,1212]
[21,12307,12,12315,24,12319,23,12326,null,null,0,2122]
[21,12425,21,12429,22,12435,23,12441,null,null,0,2222]
[21,12568,21,12575,22,12580,23,12596,null,null,0,2222]
[12,12692,23,12701,24,12707,23,12710,null,null,0,1222]
[12,12806,14,12810,24,12815,23,12822,null,null,0,1122]
[21,12918,21,12921,11,12923,21,12927,null,null,0,2212]
[12,13163,23,13173,24,13180,23,13190,null,null,0,1222]
[21,13305,21,13311,22,13317,23,13322,null,null,0,2222]
[21,13423,12,13430,24,13433,23,13439,null,null,0,2122]
[21,13539,21,13543,11,13545,21,13554,null,null,0,2212]
[12,13907,23,13919,24,13926,23,13932,null,null,0,1222]
[21,14027,21,14030,22,14043,23,14050,null,null,0,2222]
[21,14152,21,14157,22,14162,23,14169,null,null,0,2222]
[12,14269,23,14275,24,14279,14,14298,null,null,0,1221]
[12,14392,23,14408,13,14417,23,14418,null,null,0,1212]
[21,14530,21,14536,22,14542,23,14547,null,null,0,2222]
[21,14647,21,14653,22,14658,23,14664,null,null,0,2222]
[12,14758,23,14768,24,14773,23,14780,null,null,0,1222]
[12,14877,23,14883,24,14892,23,14898,null,null,0,1222]
[12,15006,23,15010,24,15015,23,15021,null,null,0,1222]
[21,15122,21,15125,22,15130,23,15136,null,null,0,2222]
[21,15234,21,15243,11,15248,21,15250,null,null,0,2212]
[21,15974,21,15978,22,15989,23,15995,null,null,0,2222]
[12,16092,23,16096,24,16101,23,16107,null,null,0,1222]
[21,16207,21,16213,22,16219,14,16225,null,null,0,2221]
[12,16324,23,16328,24,16333,23,16338,null,null,0,1222]
[21,16433,21,16437,22,16443,23,16449,null,null,0,2222]
[21,16542,12,16548,24,16552,23,16562,null,null,0,2122]
[12,16664,23,16669,24,16672,23,16678,null,null,0,1222]
[21,16783,21,16787,22,16794,14,16796,null,null,0,2221]
[12,16905,23,16908,24,16913,23,16918,null,null,0,1222]
[21,17016,21,17020,22,17026,23,17031,null,null,0,2222]
[21,17126,21,17132,22,17139,23,17144,null,null,0,2222]
[12,17248,14,17257,24,17260,23,17270,null,null,0,1122]
[12,17365,14,17369,13,17374,23,17379,null,null,0,1112]
[12,17471,23,17474,13,17479,23,17485,null,null,0,1212]
[12,17582,23,17593,24,17599,14,17602,null,null,0,1221]
[21,17698,21,17703,11,17707,21,17709,null,null,0,2212]
[21,17853,21,17937,22,17942,23,17947,null,null,0,2222]
[12,18044,23,18069,24,18073,23,18080,null,null,0,1222]
[21,18172,21,18177,22,18183,14,18187,null,null,0,2221]
[12,18281,23,18292,24,18298,23,18305,null,null,0,1222]
[12,18397,23,18408,24,18412,23,18423,null,null,0,1222]
[21,18525,21,18530,22,18537,23,18544,null,null,0,2222]
[12,18646,23,18650,24,18653,23,18662,null,null,0,1222]
[21,18759,21,18764,22,18773,23,18779,null,null,0,2222]
[12,18874,23,18878,24,18884,23,18888,null,null,0,1222]
[12,18980,23,18990,24,18996,23,19004,null,null,0,1222]
[12,19109,23,19114,24,19128,23,19134,null,null,0,1222]
[12,19227,14,19231,13,19239,14,19248,null,null,0,1111]
[21,19346,21,19350,22,19356,14,19359,null,null,0,2221]
[21,19455,12,19457,24,19459,23,19465,null,null,0,2122]
[12,19558,23,19560,13,19578,23,19580,null,null,0,1212]
[21,19676,12,19681,24,19683,23,19690,null,null,0,2122]
[21,19795,12,19799,24,19803,23,19815,null,null,0,2122]
[21,19920,12,19924,24,19928,23,19937,null,null,0,2122]
[21,20031,21,20036,22,20042,23,20049,null,null,0,2222]
[21,20142,21,20146,22,20148,23,20154,null,null,0,2222]
[21,20250,21,20260,11,20264,21,20266,null,null,0,2212]
[21,20640,21,20646,22,20651,23,20659,null,null,0,2222]
[21,20763,21,20771,22,20777,23,20786,null,null,0,2222]
[12,20880,23,20885,24,20892,14,20894,null,null,0,1221]
[12,20986,23,20994,24,20999,23,21004,null,null,0,1222]
[21,21100,21,21103,22,21107,23,21110,null,null,0,2222]
[21,21208,21,21213,11,21217,21,21219,null,null,0,2212]
[12,21512,23,21522,24,21533,23,21539,null,null,0,1222]
[12,21640,23,21646,24,21654,23,21661,null,null,0,1222]
[12,21757,23,21760,24,21764,23,21770,null,null,0,1222]
[12,21863,23,21873,24,21878,23,21884,null,null,0,1222]
[12,21985,23,21994,24,21999,23,22001,null,null,0,1222]
[12,22094,23,22097,13,22100,23,22102,null,null,0,1212]
[21,22197,21,22203,22,22210,23,22217,null,null,0,2222]
[12,22310,14,22323,24,22327,23,22331,null,null,0,1122]
[12,22426,23,22428,24,22432,23,22436,null,null,0,1222]
[12,22528,23,22530,24,22536,23,22540,null,null,0,1222]
[21,22634,21,22637,22,22643,23,22650,null,null,0,2222]
[21,22755,21,22758,22,22765,23,22771,null,null,0,2222]
[12,22866,23,22869,24,22871,23,22874,null,null,0,1222]
[21,22970,21,22976,22,22990,23,22997,null,null,0,2222]
[21,23094,12,23099,24,23110,23,23119,null,null,0,2122]
[21,23229,12,23247,13,23259,23,23261,null,null,0,2112]
[12,23355,23,23367,24,23374,23,23379,null,null,0,1222]
[12,23480,23,23485,24,23493,23,23498,null,null,0,1222]
[21,23596,21,23601,22,23607,23,23610,null,null,0,2222]
[12,23704,14,23718,24,23723,23,23729,null,null,0,1122]
[21,23836,21,23841,22,23846,23,23850,null,null,0,2222]
[12,23942,23,23949,24,23954,23,23960,null,null,null,1222]

{"sheet":"!M625A50.Gus","index":6,"n_rows":178,"n_cols":48,"rows_kept":178,"cut":false,"hidden":false,"merged":[[4,39,4,42],[5,39,5,40],[4,44,4,47],[5,44,5,45],[4,24,4,27],[5,24,5,25],[4,29,4,32],[5,29,5,30],[4,34,4,37],[5,34,5,35],[1,1,1,2],[5,13,5,14],[26,13,26,14],[27,13,27,14],[4,19,4,22],[5,19,5,20]]}
["Report for:!M625A50.Gus"]
["Date:","<date>"]
["Hen:","<hen>",null,null,null,"Correct Sequence",{"$f":"Start!J2","v":2212},null,null,null,null,null,null,null,null,"Total Sequences in Data",{"$f":"4994-COUNTBLANK(L7:L5000)","v":172},null,null,null,null,"Total Sequences in Block Data",{"$f":"COUNTA(L7:L35)","v":29},null,null,null,"Total Sequences in Block Data",{"$f":"COUNTA(L36:L63)","v":28},null,null,null,"Total Sequences in Block Data",{"$f":"COUNTA(L64:L92)","v":29},null,null,null,"Total Sequences in Block Data",{"$f":"COUNTA(L93:L121)","v":29},null,null,null,"Total Sequences in Block Data",{"$f":"COUNTA(L122:L149)","v":28},null,null,null,"Total Sequences in Block Data",{"$f":"COUNTA(L150:L178)","v":29}]
[null,null,null,null,null,null,null,null,null,null,null,null,null,null,null,"Total Sequences in Summary",{"$f":"SUM(O7:O22)","v":172},null,null,null,null,"Total Sequences in Block Summary",{"$f":"SUM(U7:U22)","v":29},null,null,null,"Total Sequences in Block Summary",{"$f":"SUM(Z7:Z22)","v":28},null,null,null,"Total Sequences in Block Summary",{"$f":"SUM(AE7:AE22)","v":29},null,null,null,"Total Sequences in Block Summary",{"$f":"SUM(AJ7:AJ22)","v":29},null,null,null,"Total Sequences in Block Summary",{"$f":"SUM(AO7:AO22)","v":28},null,null,null,"Total Sequences in Block Summary",{"$f":"SUM(AT7:AT22)","v":29}]
[null,null,null,null,null,null,null,null,null,null,null,null,null,null,null,null,null,null,null,"Block 1",null,null,null,null,"Block 2",null,null,null,null,"Block 3",null,null,null,null,"Block 4",null,null,null,null,"Block 5",null,null,null,null,"Block 6"]
["Sequence\nComponent\n1","Time\n1","Sequence\nComponent\n2","Time\n2","Sequence\nComponent\n3","Time\n3","Sequence\nComponent\n4","Time\n4","Sequence\nComponent\n5","Time\n5","Correct?\n0=No 1=Yes","Sequence",null,"Frequency",null,"Relative Frequency","Variability",null,null,"Frequency",null,"Relative Frequency","Variability",null,"Frequency",null,"Relative Frequency","Variability",null,"Frequency",null,"Relative Frequency","Variability",null,"Frequency",null,"Relative Frequency","Variability",null,"Frequency",null,"Relative Frequency","Variability",null,"Frequency",null,"Relative Frequency","Variability"]
[21,11,21,23,22,43,23,56,null,null,0,2222,null,1111,{"$f":"COUNTIF($L$7:$L$500,N7)","v":0},{"$f":"O7/$Q$4","v":0},{"$f":"IF(P7=0,0,(P7*((LOG(P7))/LOG(2))))","v":0},null,null,{"$f":"N7","v":1111},{"$f":"COUNTIF(L7:L35,T7)","v":0},{"$f":"U7/(W4-U20)","v":0},{"$f":"IF(V7=0,0,(V7*((LOG(V7))/LOG(2))))","v":0},null,{"$f":"N7","v":1111},{"$f":"COUNTIF(L36:L63,Y7)","v":0},{"$f":"Z7/(AB4-Z20)","v":0},{"$f":"IF(AA7=0,0,(AA7*((LOG(AA7))/LOG(2))))","v":0},null,{"$f":"N7","v":1111},{"$f":"COUNTIF(L64:L92,AD7)","v":0},{"$f":"AE7/(AG4-AE20)","v":0},{"$f":"IF(AF7=0,0,(AF7*((LOG(AF7))/LOG(2))))","v":0},null,{"$f":"N7","v":1111},{"$f":"COUNTIF(L93:L121,AI7)","v":0},{"$f":"AJ7/(AL4-AJ20)","v":0},{"$f":"IF(AK7=0,0,(AK7*((LOG(AK7))/LOG(2))))","v":0},null,{"$f":"N7","v":1111},{"$f":"COUNTIF(L122:L149,AN7)","v":0},{"$f":"AO7/(AQ4-AO20)","v":0},{"$f":"IF(AP7=0,0,(AP7*((LOG(AP7))/LOG(2))))","v":0},null,{"$f":"N7","v":1111},{"$f":"COUNTIF(L150:L178,AS7)","v":0},{"$f":"AT7/(AV4-AT20)","v":0},{"$f":"IF(AU7=0,0,(AU7*((LOG(AU7))/LOG(2))))","v":0}]
[21,224,21,230,22,236,23,240,null,null,0,2222,null,1112,{"$f":"COUNTIF($L$7:$L$500,N8)","v":1},{"$f":"O8/$Q$4","v":5.8139534883720929E-3},{"$f":"IF(P8=0,0,(P8*((LOG(P8))/LOG(2))))","v":-4.3175957876174981E-2},null,null,{"$f":"N8","v":1112},{"$f":"COUNTIF(L7:L35,T8)","v":0},{"$f":"U8/(W4-U20)","v":0},{"$f":"IF(V8=0,0,(V8*((LOG(V8))/LOG(2))))","v":0},null,{"$f":"N8","v":1112},{"$f":"COUNTIF(L36:L63,Y8)","v":0},{"$f":"Z8/(AB4-Z20)","v":0},{"$f":"IF(AA8=0,0,(AA8*((LOG(AA8))/LOG(2))))","v":0},null,{"$f":"N8","v":1112},{"$f":"COUNTIF(L64:L92,AD8)","v":0},{"$f":"AE8/(AG4-AE20)","v":0},{"$f":"IF(AF8=0,0,(AF8*((LOG(AF8))/LOG(2))))","v":0},null,{"$f":"N8","v":1112},{"$f":"COUNTIF(L93:L121,AI8)","v":1},{"$f":"AJ8/(AL4-AJ20)","v":3.8461538461538464E-2},{"$f":"IF(AK8=0,0,(AK8*((LOG(AK8))/LOG(2))))","v":-0.18078614300542661},null,{"$f":"N8","v":1112},{"$f":"COUNTIF(L122:L149,AN8)","v":0},{"$f":"AO8/(AQ4-AO20)","v":0},{"$f":"IF(AP8=0,0,(AP8*((LOG(AP8))/LOG(2))))","v":0},null,{"$f":"N8","v":1112},{"$f":"COUNTIF(L150:L178,AS8)","v":0},{"$f":"AT8/(AV4-AT20)","v":0},{"$f":"IF(AU8=0,0,(AU8*((LOG(AU8))/LOG(2))))","v":0}]
[21,344,21,354,22,366,23,374,null,null,0,2222,null,1121,{"$f":"COUNTIF($L$7:$L$500,N9)","v":1},{"$f":"O9/$Q$4","v":5.8139534883720929E-3},{"$f":"IF(P9=0,0,(P9*((LOG(P9))/LOG(2))))","v":-4.3175957876174981E-2},null,null,{"$f":"N9","v":1121},{"$f":"COUNTIF(L7:L35,T9)","v":0},{"$f":"U9/(W4-U20)","v":0},{"$f":"IF(V9=0,0,(V9*((LOG(V9))/LOG(2))))","v":0},null,{"$f":"N9","v":1121},{"$f":"COUNTIF(L36:L63,Y9)","v":0},{"$f":"Z9/(AB4-Z20)","v":0},{"$f":"IF(AA9=0,0,(AA9*((LOG(AA9))/LOG(2))))","v":0},null,{"$f":"N9","v":1121},{"$f":"COUNTIF(L64:L92,AD9)","v":0},{"$f":"AE9/(AG4-AE20)","v":0},{"$f":"IF(AF9=0,0,(AF9*((LOG(AF9))/LOG(2))))","v":0},null,{"$f":"N9","v":1121},{"$f":"COUNTIF(L93:L121,AI9)","v":1},{"$f":"AJ9/(AL4-AJ20)","v":3.8461538461538464E-2},{"$f":"IF(AK9=0,0,(AK9*((LOG(AK9))/LOG(2))))","v":-0.18078614300542661},null,{"$f":"N9","v":1121},{"$f":"COUNTIF(L122:L149,AN9)","v":0},{"$f":"AO9/(AQ4-AO20)","v":0},{"$f":"IF(AP9=0,0,(AP9*((LOG(AP9))/LOG(2))))","v":0},null,{"$f":"N9","v":1121},{"$f":"COUNTIF(L150:L178,AS9)","v":0},{"$f":"AT9/(AV4-AT20)","v":0},{"$f":"IF(AU9=0,0,(AU9*((LOG(AU9))/LOG(2))))","v":0}]
[21,484,21,486,22,503,23,508,null,null,0,2222,null,1122,{"$f":"COUNTIF($L$7:$L$500,N10)","v":7},{"$f":"O10/$Q$4","v":4.0697674418604654E-2},{"$f":"IF(P10=0,0,(P10*((LOG(P10))/LOG(2))))","v":-0.1879788885378573},null,null,{"$f":"N10","v":1122},{"$f":"COUNTIF(L7:L35,T10)","v":2},{"$f":"U10/(W4-U20)","v":7.407407407407407E-2},{"$f":"IF(V10=0,0,(V10*((LOG(V10))/LOG(2))))","v":-0.27813981497507173},null,{"$f":"N10","v":1122},{"$f":"COUNTIF(L36:L63,Y10)","v":2},{"$f":"Z10/(AB4-Z20)","v":7.407407407407407E-2},{"$f":"IF(AA10=0,0,(AA10*((LOG(AA10))/LOG(2))))","v":-0.27813981497507173},null,{"$f":"N10","v":1122},{"$f":"COUNTIF(L64:L92,AD10)","v":0},{"$f":"AE10/(AG4-AE20)","v":0},{"$f":"IF(AF10=0,0,(AF10*((LOG(AF10))/LOG(2))))","v":0},null,{"$f":"N10","v":1122},{"$f":"COUNTIF(L93:L121,AI10)","v":1},{"$f":"AJ10/(AL4-AJ20)","v":3.8461538461538464E-2},{"$f":"IF(AK10=0,0,(AK10*((LOG(AK10))/LOG(2))))","v":-0.18078614300542661},null,{"$f":"N10","v":1122},{"$f":"COUNTIF(L122:L149,AN10)","v":1},{"$f":"AO10/(AQ4-AO20)","v":3.7037037037037035E-2},{"$f":"IF(AP10=0,0,(AP10*((LOG(AP10))/LOG(2))))","v":-0.1761069445245729},null,{"$f":"N10","v":1122},{"$f":"COUNTIF(L150:L178,AS10)","v":1},{"$f":"AT10/(AV4-AT20)","v":3.8461538461538464E-2},{"$f":"IF(AU10=0,0,(AU10*((LOG(AU10))/LOG(2))))","v":-0.18078614300542661}]
[12,607,23,618,24,623,23,628,null,null,0,1222,null,1211,{"$f":"COUNTIF($L$7:$L$500,N11)","v":0},{"$f":"O11/$Q$4","v":0},{"$f":"IF(P11=0,0,(P11*((LOG(P11))/LOG(2))))","v":0},null,null,{"$f":"N11","v":1211},{"$f":"COUNTIF(L7:L35,T11)","v":0},{"$f":"U11/(W4-U20)","v":0},{"$f":"IF(V11=0,0,(V11*((LOG(V11))/LOG(2))))","v":0},null,{"$f":"N11","v":1211},{"$f":"COUNTIF(L36:L63,Y11)","v":0},{"$f":"Z11/(AB4-Z20)","v":0},{"$f":"IF(AA11=0,0,(AA11*((LOG(AA11))/LOG(2))))","v":0},null,{"$f":"N11","v":1211},{"$f":"COUNTIF(L64:L92,AD11)","v":0},{"$f":"AE11/(AG4-AE20)","v":0},{"$f":"IF(AF11=0,0,(AF11*((LOG(AF11))/LOG(2))))","v":0},null,{"$f":"N11","v":1211},{"$f":"COUNTIF(L93:L121,AI11)","v":0},{"$f":"AJ11/(AL4-AJ20)","v":0},{"$f":"IF(AK11=0,0,(AK11*((LOG(AK11))/LOG(2))))","v":0},null,{"$f":"N11","v":1211},{"$f":"COUNTIF(L122:L149,AN11)","v":0},{"$f":"AO11/(AQ4-AO20)","v":0},{"$f":"IF(AP11=0,0,(AP11*((LOG(AP11))/LOG(2))))","v":0},null,{"$f":"N11","v":1211},{"$f":"COUNTIF(L150:L178,AS11)","v":0},{"$f":"AT11/(AV4-AT20)","v":0},{"$f":"IF(AU11=0,0,(AU11*((LOG(AU11))/LOG(2))))","v":0}]
[12,724,14,740,24,748,23,768,null,null,0,1122,null,1212,{"$f":"COUNTIF($L$7:$L$500,N12)","v":6},{"$f":"O12/$Q$4","v":3.4883720930232558E-2},{"$f":"IF(P12=0,0,(P12*((LOG(P12))/LOG(2))))","v":-0.16888263676677703},null,null,{"$f":"N12","v":1212},{"$f":"COUNTIF(L7:L35,T12)","v":1},{"$f":"U12/(W4-U20)","v":3.7037037037037035E-2},{"$f":"IF(V12=0,0,(V12*((LOG(V12))/LOG(2))))","v":-0.1761069445245729},null,{"$f":"N12","v":1212},{"$f":"COUNTIF(L36:L63,Y12)","v":2},{"$f":"Z12/(AB4-Z20)","v":7.407407407407407E-2},{"$f":"IF(AA12=0,0,(AA12*((LOG(AA12))/LOG(2))))","v":-0.27813981497507173},null,{"$f":"N12","v":1212},{"$f":"COUNTIF(L64:L92,AD12)","v":0},{"$f":"AE12/(AG4-AE20)","v":0},{"$f":"IF(AF12=0,0,(AF12*((LOG(AF12))/LOG(2))))","v":0},null,{"$f":"N12","v":1212},{"$f":"COUNTIF(L93:L121,AI12)","v":1},{"$f":"AJ12/(AL4-AJ20)","v":3.8461538461538464E-2},{"$f":"IF(AK12=0,0,(AK12*((LOG(AK12))/LOG(2))))","v":-0.18078614300542661},null,{"$f":"N12","v":1212},{"$f":"COUNTIF(L122:L149,AN12)","v":2},{"$f":"AO12/(AQ4-AO20)","v":7.407407407407407E-2},{"$f":"IF(AP12=0,0,(AP12*((LOG(AP12))/LOG(2))))","v":-0.27813981497507173},null,{"$f":"N12","v":1212},{"$f":"COUNTIF(L150:L178,AS12)","v":0},{"$f":"AT12/(AV4-AT20)","v":0},{"$f":"IF(AU12=0,0,(AU12*((LOG(AU12))/LOG(2))))","v":0}]
[12,861,23,876,13,881,23,900,null,null,0,1212,null,1221,{"$f":"COUNTIF($L$7:$L$500,N13)","v":5},{"$f":"O13/$Q$4","v":2.9069767441860465E-2},{"$f":"IF(P13=0,0,(P13*((LOG(P13))/LOG(2))))","v":-0.1483818796457772},null,null,{"$f":"N13","v":1221},{"$f":"COUNTIF(L7:L35,T13)","v":3},{"$f":"U13/(W4-U20)","v":0.1111111111111111},{"$f":"IF(V13=0,0,(V13*((LOG(V13))/LOG(2))))","v":-0.3522138890491458},null,{"$f":"N13","v":1221},{"$f":"COUNTIF(L36:L63,Y13)","v":0},{"$f":"Z13/(AB4-Z20)","v":0},{"$f":"IF(AA13=0,0,(AA13*((LOG(AA13))/LOG(2))))","v":0},null,{"$f":"N13","v":1221},{"$f":"COUNTIF(L64:L92,AD13)","v":0},{"$f":"AE13/(AG4-AE20)","v":0},{"$f":"IF(AF13=0,0,(AF13*((LOG(AF13))/LOG(2))))","v":0},null,{"$f":"N13","v":1221},{"$f":"COUNTIF(L93:L121,AI13)","v":1},{"$f":"AJ13/(AL4-AJ20)","v":3.8461538461538464E-2},{"$f":"IF(AK13=0,0,(AK13*((LOG(AK13))/LOG(2))))","v":-0.18078614300542661},null,{"$f":"N13","v":1221},{"$f":"COUNTIF(L122:L149,AN13)","v":0},{"$f":"AO13/(AQ4-AO20)","v":0},{"$f":"IF(AP13=0,0,(AP13*((LOG(AP13))/LOG(2))))","v":0},null,{"$f":"N13","v":1221},{"$f":"COUNTIF(L150:L178,AS13)","v":1},{"$f":"AT13/(AV4-AT20)","v":3.8461538461538464E-2},{"$f":"IF(AU13=0,0,(AU13*((LOG(AU13))/LOG(2))))","v":-0.18078614300542661}]
[21,1007,21,1012,11,1015,21,1018,null,null,0,2212,null,1222,{"$f":"COUNTIF($L$7:$L$500,N14)","v":50},{"$f":"O14/$Q$4","v":0.29069767441860467},{"$f":"IF(P14=0,0,(P14*((LOG(P14))/LOG(2))))","v":-0.51814202468818993},null,null,{"$f":"N14","v":1222},{"$f":"COUNTIF(L7:L35,T14)","v":8},{"$f":"U14/(W4-U20)","v":0.29629629629629628},{"$f":"IF(V14=0,0,(V14*((LOG(V14))/LOG(2))))","v":-0.51996666730769436},null,{"$f":"N14","v":1222},{"$f":"COUNTIF(L36:L63,Y14)","v":7},{"$f":"Z14/(AB4-Z20)","v":0.25925925925925924},{"$f":"IF(AA14=0,0,(AA14*((LOG(AA14))/LOG(2))))","v":-0.5049158541015204},null,{"$f":"N14","v":1222},{"$f":"COUNTIF(L64:L92,AD14)","v":6},{"$f":"AE14/(AG4-AE20)","v":0.23076923076923078},{"$f":"IF(AF14=0,0,(AF14*((LOG(AF14))/LOG(2))))","v":-0.48818705017383146},null,{"$f":"N14","v":1222},{"$f":"COUNTIF(L93:L121,AI14)","v":9},{"$f":"AJ14/(AL4-AJ20)","v":0.34615384615384615},{"$f":"IF(AK14=0,0,(AK14*((LOG(AK14))/LOG(2))))","v":-0.52979355578034681},null,{"$f":"N14","v":1222},{"$f":"COUNTIF(L122:L149,AN14)","v":7},{"$f":"AO14/(AQ4-AO20)","v":0.25925925925925924},{"$f":"IF(AP14=0,0,(AP14*((LOG(AP14))/LOG(2))))","v":-0.5049158541015204},null,{"$f":"N14","v":1222},{"$f":"COUNTIF(L150:L178,AS14)","v":13},{"$f":"AT14/(AV4-AT20)","v":0.5},{"$f":"IF(AU14=0,0,(AU14*((LOG(AU14))/LOG(2))))","v":-0.5}]
[21,1373,21,1385,22,1392,23,1401,null,null,0,2222,null,2111,{"$f":"COUNTIF($L$7:$L$500,N15)","v":0},{"$f":"O15/$Q$4","v":0},{"$f":"IF(P15=0,0,(P15*((LOG(P15))/LOG(2))))","v":0},null,null,{"$f":"N15","v":2111},{"$f":"COUNTIF(L7:L35,T15)","v":0},{"$f":"U15/(W4-U20)","v":0},{"$f":"IF(V15=0,0,(V15*((LOG(V15))/LOG(2))))","v":0},null,{"$f":"N15","v":2111},{"$f":"COUNTIF(L36:L63,Y15)","v":0},{"$f":"Z15/(AB4-Z20)","v":0},{"$f":"IF(AA15=0,0,(AA15*((LOG(AA15))/LOG(2))))","v":0},null,{"$f":"N15","v":2111},{"$f":"COUNTIF(L64:L92,AD15)","v":0},{"$f":"AE15/(AG4-AE20)","v":0},{"$f":"IF(AF15=0,0,(AF15*((LOG(AF15))/LOG(2))))","v":0},null,{"$f":"N15","v":2111},{"$f":"COUNTIF(L93:L121,AI15)","v":0},{"$f":"AJ15/(AL4-AJ20)","v":0},{"$f":"IF(AK15=0,0,(AK15*((LOG(AK15))/LOG(2))))","v":0},null,{"$f":"N15","v":2111},{"$f":"COUNTIF(L122:L149,AN15)","v":0},{"$f":"AO15/(AQ4-AO20)","v":0},{"$f":"IF(AP15=0,0,(AP15*((LOG(AP15))/LOG(2))))","v":0},null,{"$f":"N15","v":2111},{"$f":"COUNTIF(L150:L178,AS15)","v":0},{"$f":"AT15/(AV4-AT20)","v":0},{"$f":"IF(AU15=0,0,(AU15*((LOG(AU15))/LOG(2))))","v":0}]
[21,1537,21,1553,22,1560,23,1568,null,null,0,2222,null,2112,{"$f":"COUNTIF($L$7:$L$500,N16)","v":2},{"$f":"O16/$Q$4","v":1.1627906976744186E-2},{"$f":"IF(P16=0,0,(P16*((LOG(P16))/LOG(2))))","v":-7.4724008775605782E-2},null,null,{"$f":"N16","v":2112},{"$f":"COUNTIF(L7:L35,T16)","v":0},{"$f":"U16/(W4-U20)","v":0},{"$f":"IF(V16=0,0,(V16*((LOG(V16))/LOG(2))))","v":0},null,{"$f":"N16","v":2112},{"$f":"COUNTIF(L36:L63,Y16)","v":1},{"$f":"Z16/(AB4-Z20)","v":3.7037037037037035E-2},{"$f":"IF(AA16=0,0,(AA16*((LOG(AA16))/LOG(2))))","v":-0.1761069445245729},null,{"$f":"N16","v":2112},{"$f":"COUNTIF(L64:L92,AD16)","v":0},{"$f":"AE16/(AG4-AE20)","v":0},{"$f":"IF(AF16=0,0,(AF16*((LOG(AF16))/LOG(2))))","v":0},null,{"$f":"N16","v":2112},{"$f":"COUNTIF(L93:L121,AI16)","v":0},{"$f":"AJ16/(AL4-AJ20)","v":0},{"$f":"IF(AK16=0,0,(AK16*((LOG(AK16))/LOG(2))))","v":0},null,{"$f":"N16","v":2112},{"$f":"COUNTIF(L122:L149,AN16)","v":1},{"$f":"AO16/(AQ4-AO20)","v":3.7037037037037035E-2},{"$f":"IF(AP16=0,0,(AP16*((LOG(AP16))/LOG(2))))","v":-0.1761069445245729},null,{"$f":"N16","v":2112},{"$f":"COUNTIF(L150:L178,AS16)","v":0},{"$f":"AT16/(AV4-AT20)","v":0},{"$f":"IF(AU16=0,0,(AU16*((LOG(AU16))/LOG(2))))","v":0}]
[21,1677,21,1691,11,1694,21,1698,null,null,0,2212,null,2121,{"$f":"COUNTIF($L$7:$L$500,N17)","v":0},{"$f":"O17/$Q$4","v":0},{"$f":"IF(P17=0,0,(P17*((LOG(P17))/LOG(2))))","v":0},null,null,{"$f":"N17","v":2121},{"$f":"COUNTIF(L7:L35,T17)","v":0},{"$f":"U17/(W4-U20)","v":0},{"$f":"IF(V17=0,0,(V17*((LOG(V17))/LOG(2))))","v":0},null,{"$f":"N17","v":2121},{"$f":"COUNTIF(L36:L63,Y17)","v":0},{"$f":"Z17/(AB4-Z20)","v":0},{"$f":"IF(AA17=0,0,(AA17*((LOG(AA17))/LOG(2))))","v":0},null,{"$f":"N17","v":2121},{"$f":"COUNTIF(L64:L92,AD17)","v":0},{"$f":"AE17/(AG4-AE20)","v":0},{"$f":"IF(AF17=0,0,(AF17*((LOG(AF17))/LOG(2))))","v":0},null,{"$f":"N17","v":2121},{"$f":"COUNTIF(L93:L121,AI17)","v":0},{"$f":"AJ17/(AL4-AJ20)","v":0},{"$f":"IF(AK17=0,0,(AK17*((LOG(AK17))/LOG(2))))","v":0},null,{"$f":"N17","v":2121},{"$f":"COUNTIF(L122:L149,AN17)","v":0},{"$f":"AO17/(AQ4-AO20)","v":0},{"$f":"IF(AP17=0,0,(AP17*((LOG(AP17))/LOG(2))))","v":0},null,{"$f":"N17","v":2121},{"$f":"COUNTIF(L150:L178,AS17)","v":0},{"$f":"AT17/(AV4-AT20)","v":0},{"$f":"IF(AU17=0,0,(AU17*((LOG(AU17))/LOG(2))))","v":0}]
[21,2078,21,2082,22,2089,23,2096,null,null,0,2222,null,2122,{"$f":"COUNTIF($L$7:$L$500,N18)","v":16},{"$f":"O18/$Q$4","v":9.3023255813953487E-2},{"$f":"IF(P18=0,0,(P18*((LOG(P18))/LOG(2))))","v":-0.31872230276298585},null,null,{"$f":"N18","v":2122},{"$f":"COUNTIF(L7:L35,T18)","v":2},{"$f":"U18/(W4-U20)","v":7.407407407407407E-2},{"$f":"IF(V18=0,0,(V18*((LOG(V18))/LOG(2))))","v":-0.27813981497507173},null,{"$f":"N18","v":2122},{"$f":"COUNTIF(L36:L63,Y18)","v":2},{"$f":"Z18/(AB4-Z20)","v":7.407407407407407E-2},{"$f":"IF(AA18=0,0,(AA18*((LOG(AA18))/LOG(2))))","v":-0.27813981497507173},null,{"$f":"N18","v":2122},{"$f":"COUNTIF(L64:L92,AD18)","v":5},{"$f":"AE18/(AG4-AE20)","v":0.19230769230769232},{"$f":"IF(AF18=0,0,(AF18*((LOG(AF18))/LOG(2))))","v":-0.45740608139494804},null,{"$f":"N18","v":2122},{"$f":"COUNTIF(L93:L121,AI18)","v":1},{"$f":"AJ18/(AL4-AJ20)","v":3.8461538461538464E-2},{"$f":"IF(AK18=0,0,(AK18*((LOG(AK18))/LOG(2))))","v":-0.18078614300542661},null,{"$f":"N18","v":2122},{"$f":"COUNTIF(L122:L149,AN18)","v":4},{"$f":"AO18/(AQ4-AO20)","v":0.14814814814814814},{"$f":"IF(AP18=0,0,(AP18*((LOG(AP18))/LOG(2))))","v":-0.40813148180199532},null,{"$f":"N18","v":2122},{"$f":"COUNTIF(L150:L178,AS18)","v":2},{"$f":"AT18/(AV4-AT20)","v":7.6923076923076927E-2},{"$f":"IF(AU18=0,0,(AU18*((LOG(AU18))/LOG(2))))","v":-0.28464920908777636}]
[12,2189,23,2193,24,2201,23,2207,null,null,0,1222,null,2211,{"$f":"COUNTIF($L$7:$L$500,N19)","v":0},{"$f":"O19/$Q$4","v":0},{"$f":"IF(P19=0,0,(P19*((LOG(P19))/LOG(2))))","v":0},null,null,{"$f":"N19","v":2211},{"$f":"COUNTIF(L7:L35,T19)","v":0},{"$f":"U19/(W4-U20)","v":0},{"$f":"IF(V19=0,0,(V19*((LOG(V19))/LOG(2))))","v":0},null,{"$f":"N19","v":2211},{"$f":"COUNTIF(L36:L63,Y19)","v":0},{"$f":"Z19/(AB4-Z20)","v":0},{"$f":"IF(AA19=0,0,(AA19*((LOG(AA19))/LOG(2))))","v":0},null,{"$f":"N19","v":2211},{"$f":"COUNTIF(L64:L92,AD19)","v":0},{"$f":"AE19/(AG4-AE20)","v":0},{"$f":"IF(AF19=0,0,(AF19*((LOG(AF19))/LOG(2))))","v":0},null,{"$f":"N19","v":2211},{"$f":"COUNTIF(L93:L121,AI19)","v":0},{"$f":"AJ19/(AL4-AJ20)","v":0},{"$f":"IF(AK19=0,0,(AK19*((LOG(AK19))/LOG(2))))","v":0},null,{"$f":"N19","v":2211},{"$f":"COUNTIF(L122:L149,AN19)","v":0},{"$f":"AO19/(AQ4-AO20)","v":0},{"$f":"IF(AP19=0,0,(AP19*((LOG(AP19))/LOG(2))))","v":0},null,{"$f":"N19","v":2211},{"$f":"COUNTIF(L150:L178,AS19)","v":0},{"$f":"AT19/(AV4-AT20)","v":0},{"$f":"IF(AU19=0,0,(AU19*((LOG(AU19))/LOG(2))))","v":0}]
[12,2305,23,2309,24,2315,14,2319,null,null,0,1221,null,2212,{"$f":"COUNTIF($L$7:$L$500,N20)","v":13},{"$f":"O20/$Q$4","v":7.5581395348837205E-2},{"$f":"IF(P20=0,0,(P20*((LOG(P20))/LOG(2))))","v":-0.2816030550889132},null,null,{"$f":"N20","v":2212},{"$f":"COUNTIF(L7:L35,T20)","v":2},null,null,null,{"$f":"N20","v":2212},{"$f":"COUNTIF(L36:L63,Y20)","v":1},null,null,null,{"$f":"N20","v":2212},{"$f":"COUNTIF(L64:L92,AD20)","v":3},null,null,null,{"$f":"N20","v":2212},{"$f":"COUNTIF(L93:L121,AI20)","v":3},null,null,null,{"$f":"N20","v":2212},{"$f":"COUNTIF(L122:L149,AN20)","v":1},null,null,null,{"$f":"N20","v":2212},{"$f":"COUNTIF(L150:L178,AS20)","v":3}]
[12,2415,23,2419,24,2424,23,2431,null,null,0,1222,null,2221,{"$f":"COUNTIF($L$7:$L$500,N21)","v":3},{"$f":"O21/$Q$4","v":1.7441860465116279E-2},{"$f":"IF(P21=0,0,(P21*((LOG(P21))/LOG(2))))","v":-0.1018831788485048},null,null,{"$f":"N21","v":2221},{"$f":"COUNTIF(L7:L35,T21)","v":0},{"$f":"U21/(W4-U20)","v":0},{"$f":"IF(V21=0,0,(V21*((LOG(V21))/LOG(2))))","v":0},null,{"$f":"N21","v":2221},{"$f":"COUNTIF(L36:L63,Y21)","v":0},{"$f":"Z21/(AB4-Z20)","v":0},{"$f":"IF(AA21=0,0,(AA21*((LOG(AA21))/LOG(2))))","v":0},null,{"$f":"N21","v":2221},{"$f":"COUNTIF(L64:L92,AD21)","v":0},{"$f":"AE21/(AG4-AE20)","v":0},{"$f":"IF(AF21=0,0,(AF21*((LOG(AF21))/LOG(2))))","v":0},null,{"$f":"N21","v":2221},{"$f":"COUNTIF(L93:L121,AI21)","v":1},{"$f":"AJ21/(AL4-AJ20)","v":3.8461538461538464E-2},{"$f":"IF(AK21=0,0,(AK21*((LOG(AK21))/LOG(2))))","v":-0.18078614300542661},null,{"$f":"N21","v":2221},{"$f":"COUNTIF(L122:L149,AN21)","v":2},{"$f":"AO21/(AQ4-AO20)","v":7.407407407407407E-2},{"$f":"IF(AP21=0,0,(AP21*((LOG(AP21))/LOG(2))))","v":-0.27813981497507173},null,{"$f":"N21","v":2221},{"$f":"COUNTIF(L150:L178,AS21)","v":0},{"$f":"AT21/(AV4-AT20)","v":0},{"$f":"IF(AU21=0,0,(AU21*((LOG(AU21))/LOG(2))))","v":0}]
[12,2527,23,2538,24,2543,23,2549,null,null,0,1222,null,2222,{"$f":"COUNTIF($L$7:$L$500,N22)","v":68},{"$f":"O22/$Q$4","v":0.39534883720930231},{"$f":"IF(P22=0,0,(P22*((LOG(P22))/LOG(2))))","v":-0.52929377973674174},null,null,{"$f":"N22","v":2222},{"$f":"COUNTIF(L7:L35,T22)","v":11},{"$f":"U22/(W4-U20)","v":0.40740740740740738},{"$f":"IF(V22=0,0,(V22*((LOG(V22))/LOG(2))))","v":-0.52777832291806981},null,{"$f":"N22","v":2222},{"$f":"COUNTIF(L36:L63,Y22)","v":13},{"$f":"Z22/(AB4-Z20)","v":0.48148148148148145},{"$f":"IF(AA22=0,0,(AA22*((LOG(AA22))/LOG(2))))","v":-0.50769708119595902},null,{"$f":"N22","v":2222},{"$f":"COUNTIF(L64:L92,AD22)","v":15},{"$f":"AE22/(AG4-AE20)","v":0.57692307692307687},{"$f":"IF(AF22=0,0,(AF22*((LOG(AF22))/LOG(2))))","v":-0.45781680146110021},null,{"$f":"N22","v":2222},{"$f":"COUNTIF(L93:L121,AI22)","v":10},{"$f":"AJ22/(AL4-AJ20)","v":0.38461538461538464},{"$f":"IF(AK22=0,0,(AK22*((LOG(AK22))/LOG(2))))","v":-0.53019677817451139},null,{"$f":"N22","v":2222},{"$f":"COUNTIF(L122:L149,AN22)","v":10},{"$f":"AO22/(AQ4-AO20)","v":0.37037037037037035},{"$f":"IF(AP22=0,0,(AP22*((LOG(AP22))/LOG(2))))","v":-0.53072570639855787},null,{"$f":"N22","v":2222},{"$f":"COUNTIF(L150:L178,AS22)","v":9},{"$f":"AT22/(AV4-AT20)","v":0.34615384615384615},{"$f":"IF(AU22=0,0,(AU22*((LOG(AU22))/LOG(2))))","v":-0.52979355578034681}]
[12,2641,23,2658,24,2665,14,2667,null,null,0,1221,null,null,null,{"$f":"SUM(P7:P22)","v":1},{"$f":"-SUM(Q7:Q22)","v":2.4159636706037029},null,null,null,null,{"$f":"SUM(V7:V22)","v":1},{"$f":"-SUM(W7:W22)","v":2.1323454537496263},null,null,null,{"$f":"SUM(AA7:AA22)","v":1},{"$f":"-SUM(AB7:AB22)","v":2.0231393247472673},null,null,null,{"$f":"SUM(AF7:AF22)","v":1},{"$f":"-SUM(AG7:AG22)","v":1.4034099330298797},null,null,null,{"$f":"SUM(AK7:AK22)","v":1},{"$f":"-SUM(AL7:AL22)","v":2.3254933349928439},null,null,null,{"$f":"SUM(AP7:AP22)","v":1},{"$f":"-SUM(AQ7:AQ22)","v":2.3522665613013629},null,null,null,{"$f":"SUM(AU7:AU22)","v":0.99999999999999989},{"$f":"-SUM(AV7:AV22)","v":1.6760150508789764}]
[12,2764,23,2768,24,2773,23,2783,null,null,0,1222,null,null,null,"U=",{"$f":"Q23/(LOG(Q4)/LOG(2))","v":0.32532689722299279},null,null,null,null,"U1=",{"$f":"W23/(LOG(W4)/LOG(2))","v":0.43893655736576842},null,null,null,"U2=",{"$f":"AB23/(LOG(AB4)/LOG(2))","v":0.42084251268082784},null,null,null,"U3=",{"$f":"AG23/(LOG(AG4)/LOG(2))","v":0.28888748935771119},null,null,null,"U4=",{"$f":"AL23/(LOG(AL4)/LOG(2))","v":0.47869543691612898},null,null,null,"U5=",{"$f":"AQ23/(LOG(AQ4)/LOG(2))","v":0.48930578237700939},null,null,null,"U6=",{"$f":"AV23/(LOG(AV4)/LOG(2))","v":0.34500238937945121}]
[21,2884,12,2902,24,2911,23,2924,null,null,0,2122]
[12,3018,23,3036,24,3039,14,3042,null,null,0,1221]
[12,3144,23,3151,24,3157,23,3167,null,null,0,1222,null,"Total Target Seq"]
[21,3265,12,3277,24,3282,23,3295,null,null,0,2122,null,{"$f":"COUNTIF(L7:L178,G3)","v":13},null,29,28,29,29,28,29]
[12,3390,14,3404,24,3414,23,3418,null,null,0,1122,null,null,null,"% of reinforcement given in 6 equal intervals based on number of trials "]
[12,3510,23,3516,24,3521,23,3526,null,null,0,1222,null,null,null,"%_1","%_2","%_3","%_4","%_5","%_6"]
[12,3636,23,3640,24,3644,23,3649,null,null,0,1222,null,null,"target sequence",{"$f":"$G$3","v":2212},{"$f":"$G$3","v":2212},{"$f":"$G$3","v":2212},{"$f":"$G$3","v":2212},{"$f":"$G$3","v":2212},{"$f":"$G$3","v":2212}]
[21,3748,21,3754,22,3759,23,3766,null,null,0,2222,null,null,"total reinforcement",{"$f":"U20","v":2},{"$f":"Z20","v":1},{"$f":"AE20","v":3},{"$f":"AJ20","v":3},{"$f":"AO20","v":1},{"$f":"AT20","v":3}]
[21,3889,21,3899,22,3906,23,3914,null,null,0,2222,null,null,"% target"]
[21,4008,21,4012,22,4016,23,4023,null,null,0,2222,null,null,"CCRF"]
[21,4127,21,4132,22,4137,23,4144,null,null,0,2222,null,null,"% CCRf"]
[21,4241,12,4245,24,4251,23,4265,null,null,0,2122,null,null,"average response rate",{"$f":"H35/P28","v":142.89655172413794},{"$f":"(H63-H35)/Q28","v":132},{"$f":"(H92-H63)/R28","v":154.24137931034483},{"$f":"(H121-H92)/S28","v":143.58620689655172},{"$f":"(H149-H121)/T28","v":123.46428571428571},{"$f":"(H178-H149)/U28","v":132.65517241379311}]
[21,4359,21,4362,22,4366,23,4371,null,null,0,2222]
[21,4480,21,4488,22,4496,23,4503,null,null,0,2222]
[21,4602,21,4608,22,4615,23,4622,null,null,0,2222]
[21,4719,21,4729,22,4736,23,4742,null,null,0,2222]
[12,4842,23,4847,24,4850,23,4857,null,null,0,1222]
[21,4956,21,4966,22,4971,23,4980,null,null,0,2222]
[21,5076,12,5081,13,5084,23,5091,null,null,0,2112]
[12,5185,23,5188,24,5193,23,5199,null,null,0,1222]
[21,5299,21,5306,22,5312,23,5319,null,null,0,2222]
[21,5422,21,5427,22,5434,23,5440,null,null,0,2222]
[21,5550,21,5555,11,5558,21,5563,null,null,0,2212]
[21,6073,21,6093,22,6100,23,6106,null,null,0,2222]
[21,6201,21,6208,22,6215,23,6223,null,null,0,2222]
[12,6314,23,6327,13,6333,23,6335,null,null,0,1212]
[21,6431,21,6440,22,6446,23,6453,null,null,0,2222]
[12,6549,23,6552,24,6560,23,6568,null,null,0,1222]
[12,6666,14,6677,24,6686,23,6691,null,null,0,1122]
[12,6785,23,6793,24,6799,23,6804,null,null,0,1222]
[21,6904,21,6910,22,6917,23,6927,null,null,0,2222]
[21,7039,21,7043,22,7051,23,7056,null,null,0,2222]
[12,7148,23,7151,13,7153,23,7156,null,null,0,1212]
[12,7251,14,7253,24,7259,23,7263,null,null,0,1122]
[12,7355,23,7367,24,7373,23,7380,null,null,0,1222]
[12,7476,23,7481,24,7487,23,7492,null,null,0,1222]
[21,7588,21,7595,22,7599,23,7607,null,null,0,2222]
[12,7707,23,7713,24,7717,23,7724,null,null,0,1222]
[21,7818,12,7824,24,7834,23,7840,null,null,0,2122]
[21,7939,12,7944,24,7947,23,7959,null,null,0,2122]
[21,8053,21,8059,22,8065,23,8073,null,null,0,2222]
[21,8169,21,8173,22,8177,23,8184,null,null,0,2222]
[21,8283,12,8285,24,8292,23,8299,null,null,0,2122]
[21,8399,21,8404,11,8408,21,8413,null,null,0,2212]
[12,9042,23,9053,24,9069,23,9076,null,null,0,1222]
[12,9178,23,9198,24,9204,23,9210,null,null,0,1222]
[21,9303,12,9308,24,9310,23,9322,null,null,0,2122]
[12,9414,23,9421,24,9426,23,9431,null,null,0,1222]
[21,9527,21,9532,11,9535,21,9542,null,null,0,2212]
[21,9922,21,9935,22,9945,23,9953,null,null,0,2222]
[21,10058,21,10065,22,10071,23,10078,null,null,0,2222]
[21,10183,21,10186,22,10192,23,10198,null,null,0,2222]
[21,10305,21,10310,22,10317,23,10323,null,null,0,2222]
[12,10418,23,10429,24,10436,23,10441,null,null,0,1222]
[21,10540,12,10543,24,10556,23,10569,null,null,0,2122]
[21,10663,21,10666,22,10670,23,10676,null,null,0,2222]
[21,10778,21,10783,22,10789,23,10796,null,null,0,2222]
[21,10890,21,10897,22,10903,23,10909,null,null,0,2222]
[21,11008,21,11013,22,11030,23,11042,null,null,0,2222]
[21,11147,21,11155,22,11158,23,11164,null,null,0,2222]
[21,11265,21,11282,11,11285,21,11292,null,null,0,2212]
[21,11574,21,11585,22,11596,23,11603,null,null,0,2222]
[21,11701,12,11704,24,11710,23,11721,null,null,0,2122]
[21,11826,21,11832,22,11842,23,11850,null,null,0,2222]
[12,11941,23,11955,24,11961,23,11966,null,null,0,1222]
[12,12061,23,12068,24,12077,23,12081,null,null,0,1222]
[21,12175,21,12182,22,12187,23,12193,null,null,0,2222]
[21,12294,21,12300,22,12306,23,12313,null,null,0,2222]
[21,12407,21,12414,22,12419,23,12429,null,null,0,2222]
[12,12521,14,12533,13,12535,23,12540,null,null,0,1112]
[21,12641,21,12646,22,12652,23,12658,null,null,0,2222]
[21,12763,21,12768,22,12771,23,12777,null,null,0,2222]
[12,12872,23,12879,24,12885,23,12892,null,null,0,1222]
[21,12987,21,12991,11,12994,21,12998,null,null,0,2212]
[21,13374,21,13381,22,13392,23,13399,null,null,0,2222]
[21,13497,21,13501,22,13507,14,13510,null,null,0,2221]
[12,13604,14,13612,24,13627,14,13631,null,null,0,1121]
[12,13724,23,13733,24,13737,23,13742,null,null,0,1222]
[12,13837,23,13847,24,13850,23,13854,null,null,0,1222]
[12,13951,14,13965,24,13969,23,13975,null,null,0,1122]
[21,14067,12,14071,24,14074,23,14079,null,null,0,2122]
[21,14180,21,14184,22,14188,23,14193,null,null,0,2222]
[21,14287,21,14294,22,14302,23,14308,null,null,0,2222]
[12,14406,23,14411,24,14416,14,14421,null,null,0,1221]
[12,14521,23,14526,24,14529,23,14534,null,null,0,1222]
[21,14626,21,14629,22,14635,23,14640,null,null,0,2222]
[21,14747,21,14751,22,14756,23,14761,null,null,0,2222]
[12,14862,23,14867,13,14874,23,14875,null,null,0,1212]
[12,14973,23,14979,24,14983,23,14988,null,null,0,1222]
[21,15084,21,15089,11,15092,21,15095,null,null,0,2212]
[21,15431,21,15441,22,15448,23,15455,null,null,0,2222]
[21,15565,21,15573,22,15583,23,15601,null,null,0,2222]
[12,15693,23,15709,24,15718,23,15723,null,null,0,1222]
[21,15827,21,15830,11,15832,21,15834,null,null,0,2212]
[12,16203,23,16213,24,16224,23,16233,null,null,0,1222]
[12,16328,23,16335,24,16340,23,16348,null,null,0,1222]
[12,16449,23,16462,24,16468,23,16477,null,null,0,1222]
[21,16609,21,16614,22,16619,23,16625,null,null,0,2222]
[21,16722,21,16729,22,16735,23,16742,null,null,0,2222]
[21,16844,21,16851,22,16856,23,16863,null,null,0,2222]
[12,16956,14,16977,24,16979,23,16983,null,null,0,1122]
[21,17087,21,17093,22,17099,23,17106,null,null,0,2222]
[21,17207,21,17211,11,17214,21,17217,null,null,0,2212]
[21,17466,21,17471,22,17478,23,17489,null,null,0,2222]
[12,17594,23,17605,24,17612,23,17618,null,null,0,1222]
[12,17719,23,17722,24,17727,23,17732,null,null,0,1222]
[21,17827,12,17830,13,17832,23,17837,null,null,0,2112]
[12,17929,23,17939,13,17942,23,17947,null,null,0,1212]
[12,18044,23,18049,24,18055,23,18061,null,null,0,1222]
[21,18162,21,18166,22,18171,23,18178,null,null,0,2222]
[21,18273,21,18278,22,18285,23,18296,null,null,0,2222]
[21,18393,21,18399,22,18411,23,18417,null,null,0,2222]
[21,18512,21,18516,22,18521,23,18527,null,null,0,2222]
[21,18635,12,18644,24,18667,23,18675,null,null,0,2122]
[21,18768,12,18772,24,18777,23,18782,null,null,0,2122]
[21,18884,21,18889,22,18893,23,18900,null,null,0,2222]
[21,18997,21,19002,22,19008,14,19011,null,null,0,2221]
[12,19103,23,19115,13,19120,23,19127,null,null,0,1212]
[21,19220,21,19225,22,19230,14,19233,null,null,0,2221]
[21,19335,12,19339,24,19342,23,19355,null,null,0,2122]
[12,19452,23,19457,24,19462,23,19472,null,null,0,1222]
[12,19571,23,19573,24,19578,23,19585,null,null,0,1222]
[21,19678,12,19681,24,19683,23,19687,null,null,0,2122]
[12,19789,23,19801,24,19807,23,19813,null,null,0,1222]
[12,19913,23,19921,24,19928,23,19934,null,null,0,1222]
[21,20033,21,20038,11,20041,21,20044,null,null,0,2212]
[21,20351,21,20358,22,20364,23,20375,null,null,0,2222]
[12,20472,23,20476,24,20494,23,20500,null,null,0,1222]
[12,20597,23,20602,24,20608,23,20613,null,null,0,1222]
[12,20708,23,20714,24,20718,23,20723,null,null,0,1222]
[21,20829,21,20836,22,20841,23,20847,null,null,0,2222]
[21,20950,21,20954,22,20958,23,20963,null,null,0,2222]
[21,21065,21,21075,22,21080,23,21087,null,null,0,2222]
[21,21186,21,21190,22,21195,23,21201,null,null,0,2222]
[21,21295,12,21298,24,21300,23,21306,null,null,0,2122]
[12,21399,23,21420,24,21425,23,21429,null,null,0,1222]
[21,21528,21,21537,22,21541,23,21548,null,null,0,2222]
[21,21644,12,21647,24,21652,23,21659,null,null,0,2122]
[12,21754,23,21760,24,21766,23,21773,null,null,0,1222]
[12,21877,23,21880,24,21887,23,21893,null,null,0,1222]
[12,21997,23,22001,24,22006,23,22009,null,null,0,1222]
[12,22112,23,22118,24,22121,23,22130,null,null,0,1222]
[21,22231,21,22237,22,22243,23,22251,null,null,0,2222]
[12,22350,23,22360,24,22368,23,22373,null,null,0,1222]
[12,22470,23,22478,24,22481,14,22484,null,null,0,1221]
[21,22586,21,22589,22,22594,23,22599,null,null,0,2222]
[21,22691,21,22696,11,22699,21,22703,null,null,0,2212]
[21,23084,21,23090,22,23096,23,23102,null,null,0,2222]
[12,23194,14,23197,24,23203,23,23208,null,null,0,1122]
[12,23301,23,23321,24,23326,23,23330,null,null,0,1222]
[12,23423,23,23425,24,23430,23,23442,null,null,0,1222]
[12,23538,23,23553,24,23556,23,23563,null,null,0,1222]
[12,23658,23,23665,24,23670,23,23677,null,null,0,1222]
[21,23769,21,23773,11,23776,21,23781,null,null,0,2212]

{"sheet":"!M626A20.Gus","index":7,"n_rows":181,"n_cols":48,"rows_kept":181,"cut":false,"hidden":false,"merged":[[4,39,4,42],[5,39,5,40],[4,44,4,47],[5,44,5,45],[4,24,4,27],[5,24,5,25],[4,29,4,32],[5,29,5,30],[4,34,4,37],[5,34,5,35],[1,1,1,2],[5,13,5,14],[26,13,26,14],[27,13,27,14],[4,19,4,22],[5,19,5,20]]}
["Report for:!M626A20.Gus"]
["Date:","<date>"]
["Hen:","<hen>",null,null,null,"Correct Sequence",{"$f":"Start!J2","v":2212},null,null,null,null,null,null,null,null,"Total Sequences in Data",{"$f":"4994-COUNTBLANK(L7:L5000)","v":175},null,null,null,null,"Total Sequences in Block Data",{"$f":"COUNTA(L7:L35)","v":29},null,null,null,"Total Sequences in Block Data",{"$f":"COUNTA(L36:L64)","v":29},null,null,null,"Total Sequences in Block Data",{"$f":"COUNTA(L65:L94)","v":30},null,null,null,"Total Sequences in Block Data",{"$f":"COUNTA(L95:L123)","v":29},null,null,null,"Total Sequences in Block Data",{"$f":"COUNTA(L124:L152)","v":29},null,null,null,"Total Sequences in Block Data",{"$f":"COUNTA(L153:L181)","v":29}]
[null,null,null,null,null,null,null,null,null,null,null,null,null,null,null,"Total Sequences in Summary",{"$f":"SUM(O7:O22)","v":175},null,null,null,null,"Total Sequences in Block Summary",{"$f":"SUM(U7:U22)","v":29},null,null,null,"Total Sequences in Block Summary",{"$f":"SUM(Z7:Z22)","v":29},null,null,null,"Total Sequences in Block Summary",{"$f":"SUM(AE7:AE22)","v":30},null,null,null,"Total Sequences in Block Summary",{"$f":"SUM(AJ7:AJ22)","v":29},null,null,null,"Total Sequences in Block Summary",{"$f":"SUM(AO7:AO22)","v":29},null,null,null,"Total Sequences in Block Summary",{"$f":"SUM(AT7:AT22)","v":29}]
[null,null,null,null,null,null,null,null,null,null,null,null,null,null,null,null,null,null,null,"Block 1",null,null,null,null,"Block 2",null,null,null,null,"Block 3",null,null,null,null,"Block 4",null,null,null,null,"Block 5",null,null,null,null,"Block 6"]
["Sequence\nComponent\n1","Time\n1","Sequence\nComponent\n2","Time\n2","Sequence\nComponent\n3","Time\n3","Sequence\nComponent\n4","Time\n4","Sequence\nComponent\n5","Time\n5","Correct?\n0=No 1=Yes","Sequence",null,"Frequency",null,"Relative Frequency","Variability",null,null,"Frequency",null,"Relative Frequency","Variability",null,"Frequency",null,"Relative Frequency","Variability",null,"Frequency",null,"Relative Frequency","Variability",null,"Frequency",null,"Relative Frequency","Variability",null,"Frequency",null,"Relative Frequency","Variability",null,"Frequency",null,"Relative Frequency","Variability"]
[21,8,21,22,22,29,23,41,null,null,0,2222,null,1111,{"$f":"COUNTIF($L$7:$L$500,N7)","v":1},{"$f":"O7/$Q$4","v":5.7142857142857143E-3},{"$f":"IF(P7=0,0,(P7*((LOG(P7))/LOG(2))))","v":-4.2578349210470448E-2},null,null,{"$f":"N7","v":1111},{"$f":"COUNTIF(L7:L35,T7)","v":0},{"$f":"U7/(W4-U20)","v":0},{"$f":"IF(V7=0,0,(V7*((LOG(V7))/LOG(2))))","v":0},null,{"$f":"N7","v":1111},{"$f":"COUNTIF(L36:L64,Y7)","v":0},{"$f":"Z7/(AB4-Z20)","v":0},{"$f":"IF(AA7=0,0,(AA7*((LOG(AA7))/LOG(2))))","v":0},null,{"$f":"N7","v":1111},{"$f":"COUNTIF(L65:L94,AD7)","v":1},{"$f":"AE7/(AG4-AE20)","v":3.4482758620689655E-2},{"$f":"IF(AF7=0,0,(AF7*((LOG(AF7))/LOG(2))))","v":-0.16751658603888178},null,{"$f":"N7","v":1111},{"$f":"COUNTIF(L95:L123,AI7)","v":0},{"$f":"AJ7/(AL4-AJ20)","v":0},{"$f":"IF(AK7=0,0,(AK7*((LOG(AK7))/LOG(2))))","v":0},null,{"$f":"N7","v":1111},{"$f":"COUNTIF(L124:L152,AN7)","v":0},{"$f":"AO7/(AQ4-AO20)","v":0},{"$f":"IF(AP7=0,0,(AP7*((LOG(AP7))/LOG(2))))","v":0},null,{"$f":"N7","v":1111},{"$f":"COUNTIF(L153:L181,AS7)","v":0},{"$f":"AT7/(AV4-AT20)","v":0},{"$f":"IF(AU7=0,0,(AU7*((LOG(AU7))/LOG(2))))","v":0}]
[21,138,21,139,22,143,23,148,null,null,0,2222,null,1112,{"$f":"COUNTIF($L$7:$L$500,N8)","v":0},{"$f":"O8/$Q$4","v":0},{"$f":"IF(P8=0,0,(P8*((LOG(P8))/LOG(2))))","v":0},null,null,{"$f":"N8","v":1112},{"$f":"COUNTIF(L7:L35,T8)","v":0},{"$f":"U8/(W4-U20)","v":0},{"$f":"IF(V8=0,0,(V8*((LOG(V8))/LOG(2))))","v":0},null,{"$f":"N8","v":1112},{"$f":"COUNTIF(L36:L64,Y8)","v":0},{"$f":"Z8/(AB4-Z20)","v":0},{"$f":"IF(AA8=0,0,(AA8*((LOG(AA8))/LOG(2))))","v":0},null,{"$f":"N8","v":1112},{"$f":"COUNTIF(L65:L94,AD8)","v":0},{"$f":"AE8/(AG4-AE20)","v":0},{"$f":"IF(AF8=0,0,(AF8*((LOG(AF8))/LOG(2))))","v":0},null,{"$f":"N8","v":1112},{"$f":"COUNTIF(L95:L123,AI8)","v":0},{"$f":"AJ8/(AL4-AJ20)","v":0},{"$f":"IF(AK8=0,0,(AK8*((LOG(AK8))/LOG(2))))","v":0},null,{"$f":"N8","v":1112},{"$f":"COUNTIF(L124:L152,AN8)","v":0},{"$f":"AO8/(AQ4-AO20)","v":0},{"$f":"IF(AP8=0,0,(AP8*((LOG(AP8))/LOG(2))))","v":0},null,{"$f":"N8","v":1112},{"$f":"COUNTIF(L153:L181,AS8)","v":0},{"$f":"AT8/(AV4-AT20)","v":0},{"$f":"IF(AU8=0,0,(AU8*((LOG(AU8))/LOG(2))))","v":0}]
[12,242,23,248,24,257,23,263,null,null,0,1222,null,1121,{"$f":"COUNTIF($L$7:$L$500,N9)","v":0},{"$f":"O9/$Q$4","v":0},{"$f":"IF(P9=0,0,(P9*((LOG(P9))/LOG(2))))","v":0},null,null,{"$f":"N9","v":1121},{"$f":"COUNTIF(L7:L35,T9)","v":0},{"$f":"U9/(W4-U20)","v":0},{"$f":"IF(V9=0,0,(V9*((LOG(V9))/LOG(2))))","v":0},null,{"$f":"N9","v":1121},{"$f":"COUNTIF(L36:L64,Y9)","v":0},{"$f":"Z9/(AB4-Z20)","v":0},{"$f":"IF(AA9=0,0,(AA9*((LOG(AA9))/LOG(2))))","v":0},null,{"$f":"N9","v":1121},{"$f":"COUNTIF(L65:L94,AD9)","v":0},{"$f":"AE9/(AG4-AE20)","v":0},{"$f":"IF(AF9=0,0,(AF9*((LOG(AF9))/LOG(2))))","v":0},null,{"$f":"N9","v":1121},{"$f":"COUNTIF(L95:L123,AI9)","v":0},{"$f":"AJ9/(AL4-AJ20)","v":0},{"$f":"IF(AK9=0,0,(AK9*((LOG(AK9))/LOG(2))))","v":0},null,{"$f":"N9","v":1121},{"$f":"COUNTIF(L124:L152,AN9)","v":0},{"$f":"AO9/(AQ4-AO20)","v":0},{"$f":"IF(AP9=0,0,(AP9*((LOG(AP9))/LOG(2))))","v":0},null,{"$f":"N9","v":1121},{"$f":"COUNTIF(L153:L181,AS9)","v":0},{"$f":"AT9/(AV4-AT20)","v":0},{"$f":"IF(AU9=0,0,(AU9*((LOG(AU9))/LOG(2))))","v":0}]
[21,359,21,377,22,384,23,390,null,null,0,2222,null,1122,{"$f":"COUNTIF($L$7:$L$500,N10)","v":6},{"$f":"O10/$Q$4","v":3.4285714285714287E-2},{"$f":"IF(P10=0,0,(P10*((LOG(P10))/LOG(2))))","v":-0.16684280952381164},null,null,{"$f":"N10","v":1122},{"$f":"COUNTIF(L7:L35,T10)","v":0},{"$f":"U10/(W4-U20)","v":0},{"$f":"IF(V10=0,0,(V10*((LOG(V10))/LOG(2))))","v":0},null,{"$f":"N10","v":1122},{"$f":"COUNTIF(L36:L64,Y10)","v":0},{"$f":"Z10/(AB4-Z20)","v":0},{"$f":"IF(AA10=0,0,(AA10*((LOG(AA10))/LOG(2))))","v":0},null,{"$f":"N10","v":1122},{"$f":"COUNTIF(L65:L94,AD10)","v":0},{"$f":"AE10/(AG4-AE20)","v":0},{"$f":"IF(AF10=0,0,(AF10*((LOG(AF10))/LOG(2))))","v":0},null,{"$f":"N10","v":1122},{"$f":"COUNTIF(L95:L123,AI10)","v":2},{"$f":"AJ10/(AL4-AJ20)","v":7.407407407407407E-2},{"$f":"IF(AK10=0,0,(AK10*((LOG(AK10))/LOG(2))))","v":-0.27813981497507173},null,{"$f":"N10","v":1122},{"$f":"COUNTIF(L124:L152,AN10)","v":2},{"$f":"AO10/(AQ4-AO20)","v":8.3333333333333329E-2},{"$f":"IF(AP10=0,0,(AP10*((LOG(AP10))/LOG(2))))","v":-0.29874687506009634},null,{"$f":"N10","v":1122},{"$f":"COUNTIF(L153:L181,AS10)","v":2},{"$f":"AT10/(AV4-AT20)","v":7.407407407407407E-2},{"$f":"IF(AU10=0,0,(AU10*((LOG(AU10))/LOG(2))))","v":-0.27813981497507173}]
[21,490,21,500,22,512,23,521,null,null,0,2222,null,1211,{"$f":"COUNTIF($L$7:$L$500,N11)","v":0},{"$f":"O11/$Q$4","v":0},{"$f":"IF(P11=0,0,(P11*((LOG(P11))/LOG(2))))","v":0},null,null,{"$f":"N11","v":1211},{"$f":"COUNTIF(L7:L35,T11)","v":0},{"$f":"U11/(W4-U20)","v":0},{"$f":"IF(V11=0,0,(V11*((LOG(V11))/LOG(2))))","v":0},null,{"$f":"N11","v":1211},{"$f":"COUNTIF(L36:L64,Y11)","v":0},{"$f":"Z11/(AB4-Z20)","v":0},{"$f":"IF(AA11=0,0,(AA11*((LOG(AA11))/LOG(2))))","v":0},null,{"$f":"N11","v":1211},{"$f":"COUNTIF(L65:L94,AD11)","v":0},{"$f":"AE11/(AG4-AE20)","v":0},{"$f":"IF(AF11=0,0,(AF11*((LOG(AF11))/LOG(2))))","v":0},null,{"$f":"N11","v":1211},{"$f":"COUNTIF(L95:L123,AI11)","v":0},{"$f":"AJ11/(AL4-AJ20)","v":0},{"$f":"IF(AK11=0,0,(AK11*((LOG(AK11))/LOG(2))))","v":0},null,{"$f":"N11","v":1211},{"$f":"COUNTIF(L124:L152,AN11)","v":0},{"$f":"AO11/(AQ4-AO20)","v":0},{"$f":"IF(AP11=0,0,(AP11*((LOG(AP11))/LOG(2))))","v":0},null,{"$f":"N11","v":1211},{"$f":"COUNTIF(L153:L181,AS11)","v":0},{"$f":"AT11/(AV4-AT20)","v":0},{"$f":"IF(AU11=0,0,(AU11*((LOG(AU11))/LOG(2))))","v":0}]
[12,617,23,625,13,630,23,639,null,null,0,1212,null,1212,{"$f":"COUNTIF($L$7:$L$500,N12)","v":10},{"$f":"O12/$Q$4","v":5.7142857142857141E-2},{"$f":"IF(P12=0,0,(P12*((LOG(P12))/LOG(2))))","v":-0.23595902953971234},null,null,{"$f":"N12","v":1212},{"$f":"COUNTIF(L7:L35,T12)","v":2},{"$f":"U12/(W4-U20)","v":7.1428571428571425E-2},{"$f":"IF(V12=0,0,(V12*((LOG(V12))/LOG(2))))","v":-0.27195392300411453},null,{"$f":"N12","v":1212},{"$f":"COUNTIF(L36:L64,Y12)","v":2},{"$f":"Z12/(AB4-Z20)","v":7.1428571428571425E-2},{"$f":"IF(AA12=0,0,(AA12*((LOG(AA12))/LOG(2))))","v":-0.27195392300411453},null,{"$f":"N12","v":1212},{"$f":"COUNTIF(L65:L94,AD12)","v":2},{"$f":"AE12/(AG4-AE20)","v":6.8965517241379309E-2},{"$f":"IF(AF12=0,0,(AF12*((LOG(AF12))/LOG(2))))","v":-0.26606765483638428},null,{"$f":"N12","v":1212},{"$f":"COUNTIF(L95:L123,AI12)","v":2},{"$f":"AJ12/(AL4-AJ20)","v":7.407407407407407E-2},{"$f":"IF(AK12=0,0,(AK12*((LOG(AK12))/LOG(2))))","v":-0.27813981497507173},null,{"$f":"N12","v":1212},{"$f":"COUNTIF(L124:L152,AN12)","v":2},{"$f":"AO12/(AQ4-AO20)","v":8.3333333333333329E-2},{"$f":"IF(AP12=0,0,(AP12*((LOG(AP12))/LOG(2))))","v":-0.29874687506009634},null,{"$f":"N12","v":1212},{"$f":"COUNTIF(L153:L181,AS12)","v":0},{"$f":"AT12/(AV4-AT20)","v":0},{"$f":"IF(AU12=0,0,(AU12*((LOG(AU12))/LOG(2))))","v":0}]
[21,746,12,749,24,754,23,762,null,null,0,2122,null,1221,{"$f":"COUNTIF($L$7:$L$500,N13)","v":3},{"$f":"O13/$Q$4","v":1.7142857142857144E-2},{"$f":"IF(P13=0,0,(P13*((LOG(P13))/LOG(2))))","v":-0.10056426190476297},null,null,{"$f":"N13","v":1221},{"$f":"COUNTIF(L7:L35,T13)","v":0},{"$f":"U13/(W4-U20)","v":0},{"$f":"IF(V13=0,0,(V13*((LOG(V13))/LOG(2))))","v":0},null,{"$f":"N13","v":1221},{"$f":"COUNTIF(L36:L64,Y13)","v":0},{"$f":"Z13/(AB4-Z20)","v":0},{"$f":"IF(AA13=0,0,(AA13*((LOG(AA13))/LOG(2))))","v":0},null,{"$f":"N13","v":1221},{"$f":"COUNTIF(L65:L94,AD13)","v":2},{"$f":"AE13/(AG4-AE20)","v":6.8965517241379309E-2},{"$f":"IF(AF13=0,0,(AF13*((LOG(AF13))/LOG(2))))","v":-0.26606765483638428},null,{"$f":"N13","v":1221},{"$f":"COUNTIF(L95:L123,AI13)","v":1},{"$f":"AJ13/(AL4-AJ20)","v":3.7037037037037035E-2},{"$f":"IF(AK13=0,0,(AK13*((LOG(AK13))/LOG(2))))","v":-0.1761069445245729},null,{"$f":"N13","v":1221},{"$f":"COUNTIF(L124:L152,AN13)","v":0},{"$f":"AO13/(AQ4-AO20)","v":0},{"$f":"IF(AP13=0,0,(AP13*((LOG(AP13))/LOG(2))))","v":0},null,{"$f":"N13","v":1221},{"$f":"COUNTIF(L153:L181,AS13)","v":0},{"$f":"AT13/(AV4-AT20)","v":0},{"$f":"IF(AU13=0,0,(AU13*((LOG(AU13))/LOG(2))))","v":0}]
[12,854,23,859,24,870,23,877,null,null,0,1222,null,1222,{"$f":"COUNTIF($L$7:$L$500,N14)","v":50},{"$f":"O14/$Q$4","v":0.2857142857142857},{"$f":"IF(P14=0,0,(P14*((LOG(P14))/LOG(2))))","v":-0.51638712058788683},null,null,{"$f":"N14","v":1222},{"$f":"COUNTIF(L7:L35,T14)","v":9},{"$f":"U14/(W4-U20)","v":0.32142857142857145},{"$f":"IF(V14=0,0,(V14*((LOG(V14))/LOG(2))))","v":-0.5263167601977724},null,{"$f":"N14","v":1222},{"$f":"COUNTIF(L36:L64,Y14)","v":10},{"$f":"Z14/(AB4-Z20)","v":0.35714285714285715},{"$f":"IF(AA14=0,0,(AA14*((LOG(AA14))/LOG(2))))","v":-0.53050958113222924},null,{"$f":"N14","v":1222},{"$f":"COUNTIF(L65:L94,AD14)","v":7},{"$f":"AE14/(AG4-AE20)","v":0.2413793103448276},{"$f":"IF(AF14=0,0,(AF14*((LOG(AF14))/LOG(2))))","v":-0.49497870729275095},null,{"$f":"N14","v":1222},{"$f":"COUNTIF(L95:L123,AI14)","v":10},{"$f":"AJ14/(AL4-AJ20)","v":0.37037037037037035},{"$f":"IF(AK14=0,0,(AK14*((LOG(AK14))/LOG(2))))","v":-0.53072570639855787},null,{"$f":"N14","v":1222},{"$f":"COUNTIF(L124:L152,AN14)","v":6},{"$f":"AO14/(AQ4-AO20)","v":0.25},{"$f":"IF(AP14=0,0,(AP14*((LOG(AP14))/LOG(2))))","v":-0.5},null,{"$f":"N14","v":1222},{"$f":"COUNTIF(L153:L181,AS14)","v":8},{"$f":"AT14/(AV4-AT20)","v":0.29629629629629628},{"$f":"IF(AU14=0,0,(AU14*((LOG(AU14))/LOG(2))))","v":-0.51996666730769436}]
[21,991,21,1001,22,1007,23,1013,null,null,0,2222,null,2111,{"$f":"COUNTIF($L$7:$L$500,N15)","v":1},{"$f":"O15/$Q$4","v":5.7142857142857143E-3},{"$f":"IF(P15=0,0,(P15*((LOG(P15))/LOG(2))))","v":-4.2578349210470448E-2},null,null,{"$f":"N15","v":2111},{"$f":"COUNTIF(L7:L35,T15)","v":1},{"$f":"U15/(W4-U20)","v":3.5714285714285712E-2},{"$f":"IF(V15=0,0,(V15*((LOG(V15))/LOG(2))))","v":-0.17169124721634299},null,{"$f":"N15","v":2111},{"$f":"COUNTIF(L36:L64,Y15)","v":0},{"$f":"Z15/(AB4-Z20)","v":0},{"$f":"IF(AA15=0,0,(AA15*((LOG(AA15))/LOG(2))))","v":0},null,{"$f":"N15","v":2111},{"$f":"COUNTIF(L65:L94,AD15)","v":0},{"$f":"AE15/(AG4-AE20)","v":0},{"$f":"IF(AF15=0,0,(AF15*((LOG(AF15))/LOG(2))))","v":0},null,{"$f":"N15","v":2111},{"$f":"COUNTIF(L95:L123,AI15)","v":0},{"$f":"AJ15/(AL4-AJ20)","v":0},{"$f":"IF(AK15=0,0,(AK15*((LOG(AK15))/LOG(2))))","v":0},null,{"$f":"N15","v":2111},{"$f":"COUNTIF(L124:L152,AN15)","v":0},{"$f":"AO15/(AQ4-AO20)","v":0},{"$f":"IF(AP15=0,0,(AP15*((LOG(AP15))/LOG(2))))","v":0},null,{"$f":"N15","v":2111},{"$f":"COUNTIF(L153:L181,AS15)","v":0},{"$f":"AT15/(AV4-AT20)","v":0},{"$f":"IF(AU15=0,0,(AU15*((LOG(AU15))/LOG(2))))","v":0}]
[21,1113,21,1116,22,1121,14,1127,null,null,0,2221,null,2112,{"$f":"COUNTIF($L$7:$L$500,N16)","v":0},{"$f":"O16/$Q$4","v":0},{"$f":"IF(P16=0,0,(P16*((LOG(P16))/LOG(2))))","v":0},null,null,{"$f":"N16","v":2112},{"$f":"COUNTIF(L7:L35,T16)","v":0},{"$f":"U16/(W4-U20)","v":0},{"$f":"IF(V16=0,0,(V16*((LOG(V16))/LOG(2))))","v":0},null,{"$f":"N16","v":2112},{"$f":"COUNTIF(L36:L64,Y16)","v":0},{"$f":"Z16/(AB4-Z20)","v":0},{"$f":"IF(AA16=0,0,(AA16*((LOG(AA16))/LOG(2))))","v":0},null,{"$f":"N16","v":2112},{"$f":"COUNTIF(L65:L94,AD16)","v":0},{"$f":"AE16/(AG4-AE20)","v":0},{"$f":"IF(AF16=0,0,(AF16*((LOG(AF16))/LOG(2))))","v":0},null,{"$f":"N16","v":2112},{"$f":"COUNTIF(L95:L123,AI16)","v":0},{"$f":"AJ16/(AL4-AJ20)","v":0},{"$f":"IF(AK16=0,0,(AK16*((LOG(AK16))/LOG(2))))","v":0},null,{"$f":"N16","v":2112},{"$f":"COUNTIF(L124:L152,AN16)","v":0},{"$f":"AO16/(AQ4-AO20)","v":0},{"$f":"IF(AP16=0,0,(AP16*((LOG(AP16))/LOG(2))))","v":0},null,{"$f":"N16","v":2112},{"$f":"COUNTIF(L153:L181,AS16)","v":0},{"$f":"AT16/(AV4-AT20)","v":0},{"$f":"IF(AU16=0,0,(AU16*((LOG(AU16))/LOG(2))))","v":0}]
[12,1229,23,1236,24,1240,23,1243,null,null,0,1222,null,2121,{"$f":"COUNTIF($L$7:$L$500,N17)","v":2},{"$f":"O17/$Q$4","v":1.1428571428571429E-2},{"$f":"IF(P17=0,0,(P17*((LOG(P17))/LOG(2))))","v":-7.3728126992369469E-2},null,null,{"$f":"N17","v":2121},{"$f":"COUNTIF(L7:L35,T17)","v":0},{"$f":"U17/(W4-U20)","v":0},{"$f":"IF(V17=0,0,(V17*((LOG(V17))/LOG(2))))","v":0},null,{"$f":"N17","v":2121},{"$f":"COUNTIF(L36:L64,Y17)","v":0},{"$f":"Z17/(AB4-Z20)","v":0},{"$f":"IF(AA17=0,0,(AA17*((LOG(AA17))/LOG(2))))","v":0},null,{"$f":"N17","v":2121},{"$f":"COUNTIF(L65:L94,AD17)","v":2},{"$f":"AE17/(AG4-AE20)","v":6.8965517241379309E-2},{"$f":"IF(AF17=0,0,(AF17*((LOG(AF17))/LOG(2))))","v":-0.26606765483638428},null,{"$f":"N17","v":2121},{"$f":"COUNTIF(L95:L123,AI17)","v":0},{"$f":"AJ17/(AL4-AJ20)","v":0},{"$f":"IF(AK17=0,0,(AK17*((LOG(AK17))/LOG(2))))","v":0},null,{"$f":"N17","v":2121},{"$f":"COUNTIF(L124:L152,AN17)","v":0},{"$f":"AO17/(AQ4-AO20)","v":0},{"$f":"IF(AP17=0,0,(AP17*((LOG(AP17))/LOG(2))))","v":0},null,{"$f":"N17","v":2121},{"$f":"COUNTIF(L153:L181,AS17)","v":0},{"$f":"AT17/(AV4-AT20)","v":0},{"$f":"IF(AU17=0,0,(AU17*((LOG(AU17))/LOG(2))))","v":0}]
[21,1344,21,1348,22,1354,23,1360,null,null,0,2222,null,2122,{"$f":"COUNTIF($L$7:$L$500,N18)","v":22},{"$f":"O18/$Q$4","v":0.12571428571428572},{"$f":"IF(P18=0,0,(P18*((LOG(P18))/LOG(2))))","v":-0.37610942200166109},null,null,{"$f":"N18","v":2122},{"$f":"COUNTIF(L7:L35,T18)","v":3},{"$f":"U18/(W4-U20)","v":0.10714285714285714},{"$f":"IF(V18=0,0,(V18*((LOG(V18))/LOG(2))))","v":-0.34525633085747659},null,{"$f":"N18","v":2122},{"$f":"COUNTIF(L36:L64,Y18)","v":4},{"$f":"Z18/(AB4-Z20)","v":0.14285714285714285},{"$f":"IF(AA18=0,0,(AA18*((LOG(AA18))/LOG(2))))","v":-0.40105070315108626},null,{"$f":"N18","v":2122},{"$f":"COUNTIF(L65:L94,AD18)","v":3},{"$f":"AE18/(AG4-AE20)","v":0.10344827586206896},{"$f":"IF(AF18=0,0,(AF18*((LOG(AF18))/LOG(2))))","v":-0.33858812011100858},null,{"$f":"N18","v":2122},{"$f":"COUNTIF(L95:L123,AI18)","v":3},{"$f":"AJ18/(AL4-AJ20)","v":0.1111111111111111},{"$f":"IF(AK18=0,0,(AK18*((LOG(AK18))/LOG(2))))","v":-0.3522138890491458},null,{"$f":"N18","v":2122},{"$f":"COUNTIF(L124:L152,AN18)","v":4},{"$f":"AO18/(AQ4-AO20)","v":0.16666666666666666},{"$f":"IF(AP18=0,0,(AP18*((LOG(AP18))/LOG(2))))","v":-0.43082708345352599},null,{"$f":"N18","v":2122},{"$f":"COUNTIF(L153:L181,AS18)","v":5},{"$f":"AT18/(AV4-AT20)","v":0.18518518518518517},{"$f":"IF(AU18=0,0,(AU18*((LOG(AU18))/LOG(2))))","v":-0.45054803838446406}]
[12,1453,23,1460,24,1463,23,1466,null,null,0,1222,null,2211,{"$f":"COUNTIF($L$7:$L$500,N19)","v":0},{"$f":"O19/$Q$4","v":0},{"$f":"IF(P19=0,0,(P19*((LOG(P19))/LOG(2))))","v":0},null,null,{"$f":"N19","v":2211},{"$f":"COUNTIF(L7:L35,T19)","v":0},{"$f":"U19/(W4-U20)","v":0},{"$f":"IF(V19=0,0,(V19*((LOG(V19))/LOG(2))))","v":0},null,{"$f":"N19","v":2211},{"$f":"COUNTIF(L36:L64,Y19)","v":0},{"$f":"Z19/(AB4-Z20)","v":0},{"$f":"IF(AA19=0,0,(AA19*((LOG(AA19))/LOG(2))))","v":0},null,{"$f":"N19","v":2211},{"$f":"COUNTIF(L65:L94,AD19)","v":0},{"$f":"AE19/(AG4-AE20)","v":0},{"$f":"IF(AF19=0,0,(AF19*((LOG(AF19))/LOG(2))))","v":0},null,{"$f":"N19","v":2211},{"$f":"COUNTIF(L95:L123,AI19)","v":0},{"$f":"AJ19/(AL4-AJ20)","v":0},{"$f":"IF(AK19=0,0,(AK19*((LOG(AK19))/LOG(2))))","v":0},null,{"$f":"N19","v":2211},{"$f":"COUNTIF(L124:L152,AN19)","v":0},{"$f":"AO19/(AQ4-AO20)","v":0},{"$f":"IF(AP19=0,0,(AP19*((LOG(AP19))/LOG(2))))","v":0},null,{"$f":"N19","v":2211},{"$f":"COUNTIF(L153:L181,AS19)","v":0},{"$f":"AT19/(AV4-AT20)","v":0},{"$f":"IF(AU19=0,0,(AU19*((LOG(AU19))/LOG(2))))","v":0}]
[21,1570,21,1578,22,1583,23,1596,null,null,0,2222,null,2212,{"$f":"COUNTIF($L$7:$L$500,N20)","v":12},{"$f":"O20/$Q$4","v":6.8571428571428575E-2},{"$f":"IF(P20=0,0,(P20*((LOG(P20))/LOG(2))))","v":-0.26511419047619472},null,null,{"$f":"N20","v":2212},{"$f":"COUNTIF(L7:L35,T20)","v":1},null,null,null,{"$f":"N20","v":2212},{"$f":"COUNTIF(L36:L64,Y20)","v":1},null,null,null,{"$f":"N20","v":2212},{"$f":"COUNTIF(L65:L94,AD20)","v":1},null,null,null,{"$f":"N20","v":2212},{"$f":"COUNTIF(L95:L123,AI20)","v":2},null,null,null,{"$f":"N20","v":2212},{"$f":"COUNTIF(L124:L152,AN20)","v":5},null,null,null,{"$f":"N20","v":2212},{"$f":"COUNTIF(L153:L181,AS20)","v":2}]
[21,1689,12,1696,13,1700,14,1749,null,null,0,2111,null,2221,{"$f":"COUNTIF($L$7:$L$500,N21)","v":8},{"$f":"O21/$Q$4","v":4.5714285714285714E-2},{"$f":"IF(P21=0,0,(P21*((LOG(P21))/LOG(2))))","v":-0.20348393654090646},null,null,{"$f":"N21","v":2221},{"$f":"COUNTIF(L7:L35,T21)","v":2},{"$f":"U21/(W4-U20)","v":7.1428571428571425E-2},{"$f":"IF(V21=0,0,(V21*((LOG(V21))/LOG(2))))","v":-0.27195392300411453},null,{"$f":"N21","v":2221},{"$f":"COUNTIF(L36:L64,Y21)","v":1},{"$f":"Z21/(AB4-Z20)","v":3.5714285714285712E-2},{"$f":"IF(AA21=0,0,(AA21*((LOG(AA21))/LOG(2))))","v":-0.17169124721634299},null,{"$f":"N21","v":2221},{"$f":"COUNTIF(L65:L94,AD21)","v":1},{"$f":"AE21/(AG4-AE20)","v":3.4482758620689655E-2},{"$f":"IF(AF21=0,0,(AF21*((LOG(AF21))/LOG(2))))","v":-0.16751658603888178},null,{"$f":"N21","v":2221},{"$f":"COUNTIF(L95:L123,AI21)","v":1},{"$f":"AJ21/(AL4-AJ20)","v":3.7037037037037035E-2},{"$f":"IF(AK21=0,0,(AK21*((LOG(AK21))/LOG(2))))","v":-0.1761069445245729},null,{"$f":"N21","v":2221},{"$f":"COUNTIF(L124:L152,AN21)","v":2},{"$f":"AO21/(AQ4-AO20)","v":8.3333333333333329E-2},{"$f":"IF(AP21=0,0,(AP21*((LOG(AP21))/LOG(2))))","v":-0.29874687506009634},null,{"$f":"N21","v":2221},{"$f":"COUNTIF(L153:L181,AS21)","v":1},{"$f":"AT21/(AV4-AT20)","v":3.7037037037037035E-2},{"$f":"IF(AU21=0,0,(AU21*((LOG(AU21))/LOG(2))))","v":-0.1761069445245729}]
[21,1846,21,1851,22,1858,14,1862,null,null,0,2221,null,2222,{"$f":"COUNTIF($L$7:$L$500,N22)","v":60},{"$f":"O22/$Q$4","v":0.34285714285714286},{"$f":"IF(P22=0,0,(P22*((LOG(P22))/LOG(2))))","v":-0.52948131984816349},null,null,{"$f":"N22","v":2222},{"$f":"COUNTIF(L7:L35,T22)","v":11},{"$f":"U22/(W4-U20)","v":0.39285714285714285},{"$f":"IF(V22=0,0,(V22*((LOG(V22))/LOG(2))))","v":-0.52954129777226344},null,{"$f":"N22","v":2222},{"$f":"COUNTIF(L36:L64,Y22)","v":11},{"$f":"Z22/(AB4-Z20)","v":0.39285714285714285},{"$f":"IF(AA22=0,0,(AA22*((LOG(AA22))/LOG(2))))","v":-0.52954129777226344},null,{"$f":"N22","v":2222},{"$f":"COUNTIF(L65:L94,AD22)","v":11},{"$f":"AE22/(AG4-AE20)","v":0.37931034482758619},{"$f":"IF(AF22=0,0,(AF22*((LOG(AF22))/LOG(2))))","v":-0.53048424625493174},null,{"$f":"N22","v":2222},{"$f":"COUNTIF(L95:L123,AI22)","v":8},{"$f":"AJ22/(AL4-AJ20)","v":0.29629629629629628},{"$f":"IF(AK22=0,0,(AK22*((LOG(AK22))/LOG(2))))","v":-0.51996666730769436},null,{"$f":"N22","v":2222},{"$f":"COUNTIF(L124:L152,AN22)","v":8},{"$f":"AO22/(AQ4-AO20)","v":0.33333333333333331},{"$f":"IF(AP22=0,0,(AP22*((LOG(AP22))/LOG(2))))","v":-0.52832083357371862},null,{"$f":"N22","v":2222},{"$f":"COUNTIF(L153:L181,AS22)","v":11},{"$f":"AT22/(AV4-AT20)","v":0.40740740740740738},{"$f":"IF(AU22=0,0,(AU22*((LOG(AU22))/LOG(2))))","v":-0.52777832291806981}]
[21,1975,21,1983,22,1990,23,1998,null,null,0,2222,null,null,null,{"$f":"SUM(P7:P22)","v":1},{"$f":"-SUM(Q7:Q22)","v":2.5528269158364099},null,null,null,null,{"$f":"SUM(V7:V22)","v":1},{"$f":"-SUM(W7:W22)","v":2.1167134820520843},null,null,null,{"$f":"SUM(AA7:AA22)","v":1},{"$f":"-SUM(AB7:AB22)","v":1.9047467522760364},null,null,null,{"$f":"SUM(AF7:AF22)","v":1},{"$f":"-SUM(AG7:AG22)","v":2.4972872102456076},null,null,null,{"$f":"SUM(AK7:AK22)","v":1},{"$f":"-SUM(AL7:AL22)","v":2.3113997817546874},null,null,null,{"$f":"SUM(AP7:AP22)","v":1},{"$f":"-SUM(AQ7:AQ22)","v":2.3553885422075336},null,null,null,{"$f":"SUM(AU7:AU22)","v":1},{"$f":"-SUM(AV7:AV22)","v":1.9525397881098727}]
[12,2097,23,2109,24,2111,23,2118,null,null,0,1222,null,null,null,"U=",{"$f":"Q23/(LOG(Q4)/LOG(2))","v":0.34260563518091541},null,null,null,null,"U1=",{"$f":"W23/(LOG(W4)/LOG(2))","v":0.43571876550671829},null,null,null,"U2=",{"$f":"AB23/(LOG(AB4)/LOG(2))","v":0.39208608559532193},null,null,null,"U3=",{"$f":"AG23/(LOG(AG4)/LOG(2))","v":0.50893476461052245},null,null,null,"U4=",{"$f":"AL23/(LOG(AL4)/LOG(2))","v":0.47579432362394192},null,null,null,"U5=",{"$f":"AQ23/(LOG(AQ4)/LOG(2))","v":0.48484927062702116},null,null,null,"U6=",{"$f":"AV23/(LOG(AV4)/LOG(2))","v":0.40192413063538518}]
[12,2213,23,2227,24,2232,23,2239,null,null,0,1222]
[21,2344,21,2351,22,2356,23,2362,null,null,0,2222]
[12,2464,23,2470,24,2475,23,2481,null,null,0,1222,null,"Total Target Seq"]
[21,2584,12,2592,24,2603,23,2612,null,null,0,2122,null,{"$f":"COUNTIF(L7:L181,G3)","v":12},null,29,29,30,29,29,29]
[12,2705,23,2717,13,2724,23,2727,null,null,0,1212,null,null,null,"% of reinforcement given in 6 equal intervals based on number of trials "]
[21,2835,12,2838,24,2847,23,2855,null,null,0,2122,null,null,null,"%_1","%_2","%_3","%_4","%_5","%_6"]
[21,2960,21,2969,22,2983,23,2989,null,null,0,2222,null,null,"target sequence",{"$f":"$G$3","v":2212},{"$f":"$G$3","v":2212},{"$f":"$G$3","v":2212},{"$f":"$G$3","v":2212},{"$f":"$G$3","v":2212},{"$f":"$G$3","v":2212}]
[21,3086,21,3092,22,3098,23,3106,null,null,0,2222,null,null,"total reinforcement",{"$f":"U20","v":1},{"$f":"Z20","v":1},{"$f":"AE20","v":1},{"$f":"AJ20","v":2},{"$f":"AO20","v":5},{"$f":"AT20","v":2}]
[12,3206,23,3212,24,3218,23,3225,null,null,0,1222,null,null,"% target"]
[12,3323,23,3332,24,3340,23,3346,null,null,0,1222,null,null,"CCRF"]
[21,3443,21,3448,11,3450,21,3453,null,null,0,2212,null,null,"% CCRf"]
[21,3902,21,3908,22,3914,23,3921,null,null,0,2222,null,null,"average response rate",{"$f":"H35/P28","v":119.06896551724138},{"$f":"(H64-H35)/Q28","v":152.20689655172413},{"$f":"(H94-H64)/R28","v":122.86666666666666},{"$f":"(H123-H94)/S28","v":135.51724137931035},{"$f":"(H152-H123)/T28","v":158.24137931034483},{"$f":"(H181-H152)/U28","v":134.41379310344828}]
[21,4031,21,4036,22,4052,23,4061,null,null,0,2222]
[12,4162,23,4163,24,4167,23,4174,null,null,0,1222]
[12,4273,23,4285,24,4294,23,4300,null,null,0,1222]
[21,4402,21,4410,22,4414,23,4426,null,null,0,2222]
[12,4521,23,4527,13,4536,23,4539,null,null,0,1212]
[21,4638,21,4645,22,4650,23,4660,null,null,0,2222]
[12,4762,23,4767,13,4775,23,4782,null,null,0,1212]
[12,4882,23,4887,24,4894,23,4901,null,null,0,1222]
[21,4999,21,5004,22,5011,23,5017,null,null,0,2222]
[21,5120,21,5123,22,5127,23,5133,null,null,0,2222]
[21,5239,21,5246,22,5250,23,5255,null,null,0,2222]
[12,5347,23,5355,24,5361,23,5367,null,null,0,1222]
[21,5465,12,5469,24,5481,23,5482,null,null,0,2122]
[21,5582,12,5586,24,5591,23,5599,null,null,0,2122]
[12,5696,23,5706,24,5714,23,5720,null,null,0,1222]
[21,5826,21,5835,22,5840,23,5847,null,null,0,2222]
[21,5965,21,5967,11,5972,21,5975,null,null,0,2212]
[12,6654,23,6662,24,6666,23,6677,null,null,0,1222]
[21,6779,21,6797,22,6802,23,6807,null,null,0,2222]
[12,6903,23,6906,24,6912,23,6918,null,null,0,1222]
[21,7020,12,7038,24,7039,23,7046,null,null,0,2122]
[21,7153,21,7157,22,7164,23,7170,null,null,0,2222]
[21,7273,12,7280,24,7282,23,7293,null,null,0,2122]
[21,7392,21,7396,22,7402,14,7404,null,null,0,2221]
[12,7496,23,7508,24,7515,23,7520,null,null,0,1222]
[12,7616,23,7620,24,7624,23,7632,null,null,0,1222]
[21,7734,21,7740,22,7745,23,7752,null,null,0,2222]
[12,7845,23,7857,24,7862,23,7867,null,null,0,1222]
[21,7965,21,7970,22,7976,23,7986,null,null,0,2222]
[12,8089,23,8093,24,8099,23,8105,null,null,0,1222]
[12,8198,23,8207,24,8214,23,8223,null,null,0,1222]
[21,8321,12,8323,24,8327,14,8329,null,null,0,2121]
[12,8425,23,8428,24,8434,23,8439,null,null,0,1222]
[21,8539,21,8544,22,8550,23,8562,null,null,0,2222]
[12,8654,23,8663,24,8669,14,8672,null,null,0,1221]
[21,8772,21,8780,22,8786,23,8793,null,null,0,2222]
[12,8899,23,8903,24,8907,23,8916,null,null,0,1222]
[12,9010,23,9020,24,9025,23,9032,null,null,0,1222]
[21,9128,12,9130,24,9135,23,9141,null,null,0,2122]
[12,9236,23,9241,13,9246,23,9250,null,null,0,1212]
[21,9348,12,9351,24,9353,14,9354,null,null,0,2121]
[21,9449,21,9455,22,9460,23,9480,null,null,0,2222]
[21,9572,21,9579,22,9583,23,9590,null,null,0,2222]
[21,9697,21,9703,22,9708,23,9715,null,null,0,2222]
[21,9813,21,9816,22,9823,14,9825,null,null,0,2221]
[12,9923,14,9931,13,9935,14,9944,null,null,0,1111]
[12,10047,23,10053,24,10058,23,10062,null,null,0,1222]
[21,10154,12,10158,24,10161,23,10167,null,null,0,2122]
[21,10270,21,10275,22,10283,23,10290,null,null,0,2222]
[21,10386,21,10393,22,10399,23,10409,null,null,0,2222]
[12,10509,23,10515,24,10520,23,10526,null,null,0,1222]
[12,10623,23,10633,24,10639,14,10643,null,null,0,1221]
[21,10737,21,10742,11,10746,21,10751,null,null,0,2212]
[21,11053,21,11059,22,11065,23,11075,null,null,0,2222]
[21,11186,21,11193,22,11198,23,11205,null,null,0,2222]
[21,11304,21,11309,22,11320,23,11328,null,null,0,2222]
[21,11422,12,11426,24,11431,23,11438,null,null,0,2122]
[12,11531,23,11543,13,11546,23,11553,null,null,0,1212]
[21,11648,21,11654,22,11657,23,11664,null,null,0,2222]
[12,11761,23,11770,13,11775,23,11779,null,null,0,1212]
[21,11871,12,11875,24,11877,23,11884,null,null,0,2122]
[21,11978,21,11982,11,11984,21,11991,null,null,0,2212]
[12,12321,23,12330,24,12342,23,12348,null,null,0,1222]
[21,12451,21,12456,22,12463,23,12471,null,null,0,2222]
[12,12566,23,12583,24,12590,23,12597,null,null,0,1222]
[12,12757,14,12761,24,12766,23,12773,null,null,0,1122]
[12,12864,23,12875,24,12881,14,12885,null,null,0,1221]
[12,12982,23,12986,24,12993,23,12998,null,null,0,1222]
[21,13090,21,13095,22,13103,23,13109,null,null,0,2222]
[12,13202,23,13218,24,13225,23,13230,null,null,0,1222]
[21,13327,21,13330,11,13335,21,13340,null,null,0,2212]
[21,13688,21,13700,22,13707,23,13715,null,null,0,2222]
[12,13821,23,13833,24,13836,23,13843,null,null,0,1222]
[21,13937,21,13942,22,13947,23,13953,null,null,0,2222]
[12,14054,23,14059,24,14071,23,14077,null,null,0,1222]
[21,14188,21,14193,22,14197,23,14202,null,null,0,2222]
[21,14307,21,14312,22,14318,23,14326,null,null,0,2222]
[12,14428,23,14433,13,14439,23,14445,null,null,0,1212]
[12,14540,23,14548,24,14553,23,14560,null,null,0,1222]
[21,14674,12,14678,24,14688,23,14695,null,null,0,2122]
[12,14789,14,14799,24,14805,23,14811,null,null,0,1122]
[12,14907,23,14912,24,14917,23,14924,null,null,0,1222]
[21,15018,12,15020,24,15024,23,15031,null,null,0,2122]
[21,15130,21,15132,22,15135,14,15138,null,null,0,2221]
[12,15235,23,15238,24,15243,23,15248,null,null,0,1222]
[21,15352,21,15357,22,15363,23,15369,null,null,0,2222]
[12,15463,23,15468,24,15476,23,15483,null,null,0,1222]
[12,15577,23,15583,24,15587,23,15592,null,null,0,1222]
[21,15692,21,15696,22,15704,23,15709,null,null,0,2222]
[21,15816,21,15826,22,15833,14,15844,null,null,0,2221]
[21,15936,21,15938,11,15944,21,15949,null,null,0,2212]
[21,16344,21,16356,22,16363,23,16375,null,null,0,2222]
[21,16484,21,16489,22,16495,23,16504,null,null,0,2222]
[21,16614,21,16619,11,16624,21,16625,null,null,0,2212]
[12,16936,23,16945,24,16947,23,16952,null,null,0,1222]
[21,17049,12,17054,24,17061,23,17069,null,null,0,2122]
[12,17163,23,17172,13,17173,23,17179,null,null,0,1212]
[12,17279,23,17284,24,17290,23,17295,null,null,0,1222]
[12,17391,23,17398,13,17405,23,17413,null,null,0,1212]
[21,17511,12,17516,24,17518,23,17524,null,null,0,2122]
[21,17627,21,17636,11,17639,21,17644,null,null,0,2212]
[21,17962,21,17968,22,17975,23,17982,null,null,0,2222]
[12,18079,14,18082,24,18092,23,18097,null,null,0,1122]
[21,18199,21,18204,22,18212,23,18219,null,null,0,2222]
[21,18316,12,18323,24,18325,23,18330,null,null,0,2122]
[12,18431,14,18434,24,18439,23,18447,null,null,0,1122]
[21,18543,21,18548,22,18554,23,18559,null,null,0,2222]
[21,18664,21,18671,22,18678,14,18682,null,null,0,2221]
[21,18781,21,18785,11,18788,21,18795,null,null,0,2212]
[12,19130,23,19139,24,19144,23,19151,null,null,0,1222]
[12,19262,23,19273,24,19277,23,19283,null,null,0,1222]
[12,19385,23,19388,24,19395,23,19401,null,null,0,1222]
[21,19501,12,19506,24,19509,23,19515,null,null,0,2122]
[21,19611,21,19615,11,19618,21,19622,null,null,0,2212]
[21,19933,21,19942,22,19949,23,19955,null,null,0,2222]
[21,20053,21,20058,22,20065,23,20072,null,null,0,2222]
[21,20164,21,20177,22,20184,23,20190,null,null,0,2222]
[21,20285,21,20291,22,20297,23,20303,null,null,0,2222]
[12,20397,23,20402,24,20404,23,20410,null,null,0,1222]
[21,20513,21,20518,22,20524,23,20531,null,null,0,2222]
[21,20633,21,20636,11,20639,21,20642,null,null,0,2212]
[21,20903,21,20908,22,20921,23,20927,null,null,0,2222]
[12,21022,23,21029,24,21036,23,21043,null,null,0,1222]
[12,21139,23,21141,24,21150,23,21156,null,null,0,1222]
[12,21250,23,21256,24,21267,23,21271,null,null,0,1222]
[12,21365,14,21371,24,21379,23,21385,null,null,0,1122]
[21,21492,21,21501,22,21508,23,21516,null,null,0,2222]
[21,21616,21,21621,22,21627,23,21634,null,null,0,2222]
[12,21741,23,21748,24,21754,23,21761,null,null,0,1222]
[21,21857,21,21864,22,21869,23,21876,null,null,0,2222]
[21,21971,21,21976,22,21983,14,21985,null,null,0,2221]
[12,22084,23,22090,24,22096,23,22101,null,null,0,1222]
[21,22197,12,22201,24,22206,23,22211,null,null,0,2122]
[21,22307,12,22313,24,22315,23,22323,null,null,0,2122]
[21,22415,21,22419,22,22425,23,22433,null,null,0,2222]
[21,22537,12,22541,24,22547,23,22553,null,null,0,2122]
[12,22650,23,22658,24,22663,23,22669,null,null,0,1222]
[21,22775,21,22785,22,22790,23,22797,null,null,0,2222]
[21,22890,21,22895,22,22902,23,22909,null,null,0,2222]
[21,23009,21,23016,11,23019,21,23022,null,null,0,2212]
[21,23510,21,23515,22,23520,23,23527,null,null,0,2222]
[12,23622,23,23628,24,23641,23,23647,null,null,0,1222]
[12,23739,14,23746,24,23749,23,23755,null,null,0,1122]
[21,23850,12,23852,24,23856,23,23865,null,null,0,2122]
[21,23958,12,23960,24,23966,23,23970,null,null,null,2122]

{"sheet":"!M627A30.Gus","index":8,"n_rows":167,"n_cols":48,"rows_kept":167,"cut":false,"hidden":false,"merged":[[4,39,4,42],[5,39,5,40],[4,44,4,47],[5,44,5,45],[4,24,4,27],[5,24,5,25],[4,29,4,32],[5,29,5,30],[4,34,4,37],[5,34,5,35],[1,1,1,2],[5,13,5,14],[26,13,26,14],[27,13,27,14],[4,19,4,22],[5,19,5,20]]}
["Report for:!M627A30.Gus"]
["Date:","<date>"]
["Hen:","<hen>",null,null,null,"Correct Sequence",{"$f":"Start!J2","v":2212},null,null,null,null,null,null,null,null,"Total Sequences in Data",{"$f":"4994-COUNTBLANK(L7:L5000)","v":161},null,null,null,null,"Total Sequences in Block Data",{"$f":"COUNTA(L7:L33)","v":27},null,null,null,"Total Sequences in Block Data",{"$f":"COUNTA(L34:L60)","v":27},null,null,null,"Total Sequences in Block Data",{"$f":"COUNTA(L61:L86)","v":26},null,null,null,"Total Sequences in Block Data",{"$f":"COUNTA(L87:L113)","v":27},null,null,null,"Total Sequences in Block Data",{"$f":"COUNTA(L114:L140)","v":27},null,null,null,"Total Sequences in Block Data",{"$f":"COUNTA(L141:L167)","v":27}]
[null,null,null,null,null,null,null,null,null,null,null,null,null,null,null,"Total Sequences in Summary",{"$f":"SUM(O7:O22)","v":161},null,null,null,null,"Total Sequences in Block Summary",{"$f":"SUM(U7:U22)","v":27},null,null,null,"Total Sequences in Block Summary",{"$f":"SUM(Z7:Z22)","v":27},null,null,null,"Total Sequences in Block Summary",{"$f":"SUM(AE7:AE22)","v":26},null,null,null,"Total Sequences in Block Summary",{"$f":"SUM(AJ7:AJ22)","v":27},null,null,null,"Total Sequences in Block Summary",{"$f":"SUM(AO7:AO22)","v":27},null,null,null,"Total Sequences in Block Summary",{"$f":"SUM(AT7:AT22)","v":27}]
[null,null,null,null,null,null,null,null,null,null,null,null,null,null,null,null,null,null,null,"Block 1",null,null,null,null,"Block 2",null,null,null,null,"Block 3",null,null,null,null,"Block 4",null,null,null,null,"Block 5",null,null,null,null,"Block 6"]
["Sequence\nComponent\n1","Time\n1","Sequence\nComponent\n2","Time\n2","Sequence\nComponent\n3","Time\n3","Sequence\nComponent\n4","Time\n4","Sequence\nComponent\n5","Time\n5","Correct?\n0=No 1=Yes","Sequence",null,"Frequency",null,"Relative Frequency","Variability",null,null,"Frequency",null,"Relative Frequency","Variability",null,"Frequency",null,"Relative Frequency","Variability",null,"Frequency",null,"Relative Frequency","Variability",null,"Frequency",null,"Relative Frequency","Variability",null,"Frequency",null,"Relative Frequency","Variability",null,"Frequency",null,"Relative Frequency","Variability"]
[21,14,21,17,22,23,23,29,null,null,0,2222,null,1111,{"$f":"COUNTIF($L$7:$L$500,N7)","v":0},{"$f":"O7/$Q$4","v":0},{"$f":"IF(P7=0,0,(P7*((LOG(P7))/LOG(2))))","v":0},null,null,{"$f":"N7","v":1111},{"$f":"COUNTIF(L7:L33,T7)","v":0},{"$f":"U7/(W4-U20)","v":0},{"$f":"IF(V7=0,0,(V7*((LOG(V7))/LOG(2))))","v":0},null,{"$f":"N7","v":1111},{"$f":"COUNTIF(L34:L60,Y7)","v":0},{"$f":"Z7/(AB4-Z20)","v":0},{"$f":"IF(AA7=0,0,(AA7*((LOG(AA7))/LOG(2))))","v":0},null,{"$f":"N7","v":1111},{"$f":"COUNTIF(L61:L86,AD7)","v":0},{"$f":"AE7/(AG4-AE20)","v":0},{"$f":"IF(AF7=0,0,(AF7*((LOG(AF7))/LOG(2))))","v":0},null,{"$f":"N7","v":1111},{"$f":"COUNTIF(L87:L113,AI7)","v":0},{"$f":"AJ7/(AL4-AJ20)","v":0},{"$f":"IF(AK7=0,0,(AK7*((LOG(AK7))/LOG(2))))","v":0},null,{"$f":"N7","v":1111},{"$f":"COUNTIF(L114:L140,AN7)","v":0},{"$f":"AO7/(AQ4-AO20)","v":0},{"$f":"IF(AP7=0,0,(AP7*((LOG(AP7))/LOG(2))))","v":0},null,{"$f":"N7","v":1111},{"$f":"COUNTIF(L141:L167,AS7)","v":0},{"$f":"AT7/(AV4-AT20)","v":0},{"$f":"IF(AU7=0,0,(AU7*((LOG(AU7))/LOG(2))))","v":0}]
[21,128,21,137,22,143,23,149,null,null,0,2222,null,1112,{"$f":"COUNTIF($L$7:$L$500,N8)","v":1},{"$f":"O8/$Q$4","v":6.2111801242236021E-3},{"$f":"IF(P8=0,0,(P8*((LOG(P8))/LOG(2))))","v":-4.5533645205680845E-2},null,null,{"$f":"N8","v":1112},{"$f":"COUNTIF(L7:L33,T8)","v":0},{"$f":"U8/(W4-U20)","v":0},{"$f":"IF(V8=0,0,(V8*((LOG(V8))/LOG(2))))","v":0},null,{"$f":"N8","v":1112},{"$f":"COUNTIF(L34:L60,Y8)","v":0},{"$f":"Z8/(AB4-Z20)","v":0},{"$f":"IF(AA8=0,0,(AA8*((LOG(AA8))/LOG(2))))","v":0},null,{"$f":"N8","v":1112},{"$f":"COUNTIF(L61:L86,AD8)","v":0},{"$f":"AE8/(AG4-AE20)","v":0},{"$f":"IF(AF8=0,0,(AF8*((LOG(AF8))/LOG(2))))","v":0},null,{"$f":"N8","v":1112},{"$f":"COUNTIF(L87:L113,AI8)","v":0},{"$f":"AJ8/(AL4-AJ20)","v":0},{"$f":"IF(AK8=0,0,(AK8*((LOG(AK8))/LOG(2))))","v":0},null,{"$f":"N8","v":1112},{"$f":"COUNTIF(L114:L140,AN8)","v":1},{"$f":"AO8/(AQ4-AO20)","v":0.04},{"$f":"IF(AP8=0,0,(AP8*((LOG(AP8))/LOG(2))))","v":-0.18575424759098899},null,{"$f":"N8","v":1112},{"$f":"COUNTIF(L141:L167,AS8)","v":0},{"$f":"AT8/(AV4-AT20)","v":0},{"$f":"IF(AU8=0,0,(AU8*((LOG(AU8))/LOG(2))))","v":0}]
[12,241,23,244,24,250,23,257,null,null,0,1222,null,1121,{"$f":"COUNTIF($L$7:$L$500,N9)","v":0},{"$f":"O9/$Q$4","v":0},{"$f":"IF(P9=0,0,(P9*((LOG(P9))/LOG(2))))","v":0},null,null,{"$f":"N9","v":1121},{"$f":"COUNTIF(L7:L33,T9)","v":0},{"$f":"U9/(W4-U20)","v":0},{"$f":"IF(V9=0,0,(V9*((LOG(V9))/LOG(2))))","v":0},null,{"$f":"N9","v":1121},{"$f":"COUNTIF(L34:L60,Y9)","v":0},{"$f":"Z9/(AB4-Z20)","v":0},{"$f":"IF(AA9=0,0,(AA9*((LOG(AA9))/LOG(2))))","v":0},null,{"$f":"N9","v":1121},{"$f":"COUNTIF(L61:L86,AD9)","v":0},{"$f":"AE9/(AG4-AE20)","v":0},{"$f":"IF(AF9=0,0,(AF9*((LOG(AF9))/LOG(2))))","v":0},null,{"$f":"N9","v":1121},{"$f":"COUNTIF(L87:L113,AI9)","v":0},{"$f":"AJ9/(AL4-AJ20)","v":0},{"$f":"IF(AK9=0,0,(AK9*((LOG(AK9))/LOG(2))))","v":0},null,{"$f":"N9","v":1121},{"$f":"COUNTIF(L114:L140,AN9)","v":0},{"$f":"AO9/(AQ4-AO20)","v":0},{"$f":"IF(AP9=0,0,(AP9*((LOG(AP9))/LOG(2))))","v":0},null,{"$f":"N9","v":1121},{"$f":"COUNTIF(L141:L167,AS9)","v":0},{"$f":"AT9/(AV4-AT20)","v":0},{"$f":"IF(AU9=0,0,(AU9*((LOG(AU9))/LOG(2))))","v":0}]
[21,350,21,355,22,358,23,364,null,null,0,2222,null,1122,{"$f":"COUNTIF($L$7:$L$500,N10)","v":10},{"$f":"O10/$Q$4","v":6.2111801242236024E-2},{"$f":"IF(P10=0,0,(P10*((LOG(P10))/LOG(2))))","v":-0.2490055144861649},null,null,{"$f":"N10","v":1122},{"$f":"COUNTIF(L7:L33,T10)","v":1},{"$f":"U10/(W4-U20)","v":4.1666666666666664E-2},{"$f":"IF(V10=0,0,(V10*((LOG(V10))/LOG(2))))","v":-0.19104010419671485},null,{"$f":"N10","v":1122},{"$f":"COUNTIF(L34:L60,Y10)","v":1},{"$f":"Z10/(AB4-Z20)","v":0.04},{"$f":"IF(AA10=0,0,(AA10*((LOG(AA10))/LOG(2))))","v":-0.18575424759098899},null,{"$f":"N10","v":1122},{"$f":"COUNTIF(L61:L86,AD10)","v":3},{"$f":"AE10/(AG4-AE20)","v":0.12},{"$f":"IF(AF10=0,0,(AF10*((LOG(AF10))/LOG(2))))","v":-0.36706724268642821},null,{"$f":"N10","v":1122},{"$f":"COUNTIF(L87:L113,AI10)","v":3},{"$f":"AJ10/(AL4-AJ20)","v":0.12},{"$f":"IF(AK10=0,0,(AK10*((LOG(AK10))/LOG(2))))","v":-0.36706724268642821},null,{"$f":"N10","v":1122},{"$f":"COUNTIF(L114:L140,AN10)","v":0},{"$f":"AO10/(AQ4-AO20)","v":0},{"$f":"IF(AP10=0,0,(AP10*((LOG(AP10))/LOG(2))))","v":0},null,{"$f":"N10","v":1122},{"$f":"COUNTIF(L141:L167,AS10)","v":2},{"$f":"AT10/(AV4-AT20)","v":0.08},{"$f":"IF(AU10=0,0,(AU10*((LOG(AU10))/LOG(2))))","v":-0.29150849518197797}]
[12,468,23,473,24,479,23,485,null,null,0,1222,null,1211,{"$f":"COUNTIF($L$7:$L$500,N11)","v":0},{"$f":"O11/$Q$4","v":0},{"$f":"IF(P11=0,0,(P11*((LOG(P11))/LOG(2))))","v":0},null,null,{"$f":"N11","v":1211},{"$f":"COUNTIF(L7:L33,T11)","v":0},{"$f":"U11/(W4-U20)","v":0},{"$f":"IF(V11=0,0,(V11*((LOG(V11))/LOG(2))))","v":0},null,{"$f":"N11","v":1211},{"$f":"COUNTIF(L34:L60,Y11)","v":0},{"$f":"Z11/(AB4-Z20)","v":0},{"$f":"IF(AA11=0,0,(AA11*((LOG(AA11))/LOG(2))))","v":0},null,{"$f":"N11","v":1211},{"$f":"COUNTIF(L61:L86,AD11)","v":0},{"$f":"AE11/(AG4-AE20)","v":0},{"$f":"IF(AF11=0,0,(AF11*((LOG(AF11))/LOG(2))))","v":0},null,{"$f":"N11","v":1211},{"$f":"COUNTIF(L87:L113,AI11)","v":0},{"$f":"AJ11/(AL4-AJ20)","v":0},{"$f":"IF(AK11=0,0,(AK11*((LOG(AK11))/LOG(2))))","v":0},null,{"$f":"N11","v":1211},{"$f":"COUNTIF(L114:L140,AN11)","v":0},{"$f":"AO11/(AQ4-AO20)","v":0},{"$f":"IF(AP11=0,0,(AP11*((LOG(AP11))/LOG(2))))","v":0},null,{"$f":"N11","v":1211},{"$f":"COUNTIF(L141:L167,AS11)","v":0},{"$f":"AT11/(AV4-AT20)","v":0},{"$f":"IF(AU11=0,0,(AU11*((LOG(AU11))/LOG(2))))","v":0}]
[21,578,21,584,22,589,23,595,null,null,0,2222,null,1212,{"$f":"COUNTIF($L$7:$L$500,N12)","v":4},{"$f":"O12/$Q$4","v":2.4844720496894408E-2},{"$f":"IF(P12=0,0,(P12*((LOG(P12))/LOG(2))))","v":-0.13244513982893458},null,null,{"$f":"N12","v":1212},{"$f":"COUNTIF(L7:L33,T12)","v":0},{"$f":"U12/(W4-U20)","v":0},{"$f":"IF(V12=0,0,(V12*((LOG(V12))/LOG(2))))","v":0},null,{"$f":"N12","v":1212},{"$f":"COUNTIF(L34:L60,Y12)","v":2},{"$f":"Z12/(AB4-Z20)","v":0.08},{"$f":"IF(AA12=0,0,(AA12*((LOG(AA12))/LOG(2))))","v":-0.29150849518197797},null,{"$f":"N12","v":1212},{"$f":"COUNTIF(L61:L86,AD12)","v":0},{"$f":"AE12/(AG4-AE20)","v":0},{"$f":"IF(AF12=0,0,(AF12*((LOG(AF12))/LOG(2))))","v":0},null,{"$f":"N12","v":1212},{"$f":"COUNTIF(L87:L113,AI12)","v":1},{"$f":"AJ12/(AL4-AJ20)","v":0.04},{"$f":"IF(AK12=0,0,(AK12*((LOG(AK12))/LOG(2))))","v":-0.18575424759098899},null,{"$f":"N12","v":1212},{"$f":"COUNTIF(L114:L140,AN12)","v":0},{"$f":"AO12/(AQ4-AO20)","v":0},{"$f":"IF(AP12=0,0,(AP12*((LOG(AP12))/LOG(2))))","v":0},null,{"$f":"N12","v":1212},{"$f":"COUNTIF(L141:L167,AS12)","v":1},{"$f":"AT12/(AV4-AT20)","v":0.04},{"$f":"IF(AU12=0,0,(AU12*((LOG(AU12))/LOG(2))))","v":-0.18575424759098899}]
[21,789,21,794,22,802,23,829,null,null,0,2222,null,1221,{"$f":"COUNTIF($L$7:$L$500,N13)","v":4},{"$f":"O13/$Q$4","v":2.4844720496894408E-2},{"$f":"IF(P13=0,0,(P13*((LOG(P13))/LOG(2))))","v":-0.13244513982893458},null,null,{"$f":"N13","v":1221},{"$f":"COUNTIF(L7:L33,T13)","v":0},{"$f":"U13/(W4-U20)","v":0},{"$f":"IF(V13=0,0,(V13*((LOG(V13))/LOG(2))))","v":0},null,{"$f":"N13","v":1221},{"$f":"COUNTIF(L34:L60,Y13)","v":0},{"$f":"Z13/(AB4-Z20)","v":0},{"$f":"IF(AA13=0,0,(AA13*((LOG(AA13))/LOG(2))))","v":0},null,{"$f":"N13","v":1221},{"$f":"COUNTIF(L61:L86,AD13)","v":2},{"$f":"AE13/(AG4-AE20)","v":0.08},{"$f":"IF(AF13=0,0,(AF13*((LOG(AF13))/LOG(2))))","v":-0.29150849518197797},null,{"$f":"N13","v":1221},{"$f":"COUNTIF(L87:L113,AI13)","v":0},{"$f":"AJ13/(AL4-AJ20)","v":0},{"$f":"IF(AK13=0,0,(AK13*((LOG(AK13))/LOG(2))))","v":0},null,{"$f":"N13","v":1221},{"$f":"COUNTIF(L114:L140,AN13)","v":1},{"$f":"AO13/(AQ4-AO20)","v":0.04},{"$f":"IF(AP13=0,0,(AP13*((LOG(AP13))/LOG(2))))","v":-0.18575424759098899},null,{"$f":"N13","v":1221},{"$f":"COUNTIF(L141:L167,AS13)","v":1},{"$f":"AT13/(AV4-AT20)","v":0.04},{"$f":"IF(AU13=0,0,(AU13*((LOG(AU13))/LOG(2))))","v":-0.18575424759098899}]
[21,953,21,959,22,965,23,971,null,null,0,2222,null,1222,{"$f":"COUNTIF($L$7:$L$500,N14)","v":39},{"$f":"O14/$Q$4","v":0.24223602484472051},{"$f":"IF(P14=0,0,(P14*((LOG(P14))/LOG(2))))","v":-0.49549733981889676},null,null,{"$f":"N14","v":1222},{"$f":"COUNTIF(L7:L33,T14)","v":6},{"$f":"U14/(W4-U20)","v":0.25},{"$f":"IF(V14=0,0,(V14*((LOG(V14))/LOG(2))))","v":-0.5},null,{"$f":"N14","v":1222},{"$f":"COUNTIF(L34:L60,Y14)","v":8},{"$f":"Z14/(AB4-Z20)","v":0.32},{"$f":"IF(AA14=0,0,(AA14*((LOG(AA14))/LOG(2))))","v":-0.52603398072791185},null,{"$f":"N14","v":1222},{"$f":"COUNTIF(L61:L86,AD14)","v":2},{"$f":"AE14/(AG4-AE20)","v":0.08},{"$f":"IF(AF14=0,0,(AF14*((LOG(AF14))/LOG(2))))","v":-0.29150849518197797},null,{"$f":"N14","v":1222},{"$f":"COUNTIF(L87:L113,AI14)","v":8},{"$f":"AJ14/(AL4-AJ20)","v":0.32},{"$f":"IF(AK14=0,0,(AK14*((LOG(AK14))/LOG(2))))","v":-0.52603398072791185},null,{"$f":"N14","v":1222},{"$f":"COUNTIF(L114:L140,AN14)","v":9},{"$f":"AO14/(AQ4-AO20)","v":0.36},{"$f":"IF(AP14=0,0,(AP14*((LOG(AP14))/LOG(2))))","v":-0.53061522779966841},null,{"$f":"N14","v":1222},{"$f":"COUNTIF(L141:L167,AS14)","v":6},{"$f":"AT14/(AV4-AT20)","v":0.24},{"$f":"IF(AU14=0,0,(AU14*((LOG(AU14))/LOG(2))))","v":-0.49413448537285637}]
[21,1165,21,1170,22,1177,23,1180,null,null,0,2222,null,2111,{"$f":"COUNTIF($L$7:$L$500,N15)","v":0},{"$f":"O15/$Q$4","v":0},{"$f":"IF(P15=0,0,(P15*((LOG(P15))/LOG(2))))","v":0},null,null,{"$f":"N15","v":2111},{"$f":"COUNTIF(L7:L33,T15)","v":0},{"$f":"U15/(W4-U20)","v":0},{"$f":"IF(V15=0,0,(V15*((LOG(V15))/LOG(2))))","v":0},null,{"$f":"N15","v":2111},{"$f":"COUNTIF(L34:L60,Y15)","v":0},{"$f":"Z15/(AB4-Z20)","v":0},{"$f":"IF(AA15=0,0,(AA15*((LOG(AA15))/LOG(2))))","v":0},null,{"$f":"N15","v":2111},{"$f":"COUNTIF(L61:L86,AD15)","v":0},{"$f":"AE15/(AG4-AE20)","v":0},{"$f":"IF(AF15=0,0,(AF15*((LOG(AF15))/LOG(2))))","v":0},null,{"$f":"N15","v":2111},{"$f":"COUNTIF(L87:L113,AI15)","v":0},{"$f":"AJ15/(AL4-AJ20)","v":0},{"$f":"IF(AK15=0,0,(AK15*((LOG(AK15))/LOG(2))))","v":0},null,{"$f":"N15","v":2111},{"$f":"COUNTIF(L114:L140,AN15)","v":0},{"$f":"AO15/(AQ4-AO20)","v":0},{"$f":"IF(AP15=0,0,(AP15*((LOG(AP15))/LOG(2))))","v":0},null,{"$f":"N15","v":2111},{"$f":"COUNTIF(L141:L167,AS15)","v":0},{"$f":"AT15/(AV4-AT20)","v":0},{"$f":"IF(AU15=0,0,(AU15*((LOG(AU15))/LOG(2))))","v":0}]
[21,1282,21,1288,22,1299,23,1307,null,null,0,2222,null,2112,{"$f":"COUNTIF($L$7:$L$500,N16)","v":0},{"$f":"O16/$Q$4","v":0},{"$f":"IF(P16=0,0,(P16*((LOG(P16))/LOG(2))))","v":0},null,null,{"$f":"N16","v":2112},{"$f":"COUNTIF(L7:L33,T16)","v":0},{"$f":"U16/(W4-U20)","v":0},{"$f":"IF(V16=0,0,(V16*((LOG(V16))/LOG(2))))","v":0},null,{"$f":"N16","v":2112},{"$f":"COUNTIF(L34:L60,Y16)","v":0},{"$f":"Z16/(AB4-Z20)","v":0},{"$f":"IF(AA16=0,0,(AA16*((LOG(AA16))/LOG(2))))","v":0},null,{"$f":"N16","v":2112},{"$f":"COUNTIF(L61:L86,AD16)","v":0},{"$f":"AE16/(AG4-AE20)","v":0},{"$f":"IF(AF16=0,0,(AF16*((LOG(AF16))/LOG(2))))","v":0},null,{"$f":"N16","v":2112},{"$f":"COUNTIF(L87:L113,AI16)","v":0},{"$f":"AJ16/(AL4-AJ20)","v":0},{"$f":"IF(AK16=0,0,(AK16*((LOG(AK16))/LOG(2))))","v":0},null,{"$f":"N16","v":2112},{"$f":"COUNTIF(L114:L140,AN16)","v":0},{"$f":"AO16/(AQ4-AO20)","v":0},{"$f":"IF(AP16=0,0,(AP16*((LOG(AP16))/LOG(2))))","v":0},null,{"$f":"N16","v":2112},{"$f":"COUNTIF(L141:L167,AS16)","v":0},{"$f":"AT16/(AV4-AT20)","v":0},{"$f":"IF(AU16=0,0,(AU16*((LOG(AU16))/LOG(2))))","v":0}]
[12,1403,23,1415,24,1420,23,1426,null,null,0,1222,null,2121,{"$f":"COUNTIF($L$7:$L$500,N17)","v":2},{"$f":"O17/$Q$4","v":1.2422360248447204E-2},{"$f":"IF(P17=0,0,(P17*((LOG(P17))/LOG(2))))","v":-7.8644930162914489E-2},null,null,{"$f":"N17","v":2121},{"$f":"COUNTIF(L7:L33,T17)","v":2},{"$f":"U17/(W4-U20)","v":8.3333333333333329E-2},{"$f":"IF(V17=0,0,(V17*((LOG(V17))/LOG(2))))","v":-0.29874687506009634},null,{"$f":"N17","v":2121},{"$f":"COUNTIF(L34:L60,Y17)","v":0},{"$f":"Z17/(AB4-Z20)","v":0},{"$f":"IF(AA17=0,0,(AA17*((LOG(AA17))/LOG(2))))","v":0},null,{"$f":"N17","v":2121},{"$f":"COUNTIF(L61:L86,AD17)","v":0},{"$f":"AE17/(AG4-AE20)","v":0},{"$f":"IF(AF17=0,0,(AF17*((LOG(AF17))/LOG(2))))","v":0},null,{"$f":"N17","v":2121},{"$f":"COUNTIF(L87:L113,AI17)","v":0},{"$f":"AJ17/(AL4-AJ20)","v":0},{"$f":"IF(AK17=0,0,(AK17*((LOG(AK17))/LOG(2))))","v":0},null,{"$f":"N17","v":2121},{"$f":"COUNTIF(L114:L140,AN17)","v":0},{"$f":"AO17/(AQ4-AO20)","v":0},{"$f":"IF(AP17=0,0,(AP17*((LOG(AP17))/LOG(2))))","v":0},null,{"$f":"N17","v":2121},{"$f":"COUNTIF(L141:L167,AS17)","v":0},{"$f":"AT17/(AV4-AT20)","v":0},{"$f":"IF(AU17=0,0,(AU17*((LOG(AU17))/LOG(2))))","v":0}]
[12,1526,23,1532,24,1537,23,1543,null,null,0,1222,null,2122,{"$f":"COUNTIF($L$7:$L$500,N18)","v":20},{"$f":"O18/$Q$4","v":0.12422360248447205},{"$f":"IF(P18=0,0,(P18*((LOG(P18))/LOG(2))))","v":-0.37378742648785773},null,null,{"$f":"N18","v":2122},{"$f":"COUNTIF(L7:L33,T18)","v":0},{"$f":"U18/(W4-U20)","v":0},{"$f":"IF(V18=0,0,(V18*((LOG(V18))/LOG(2))))","v":0},null,{"$f":"N18","v":2122},{"$f":"COUNTIF(L34:L60,Y18)","v":5},{"$f":"Z18/(AB4-Z20)","v":0.2},{"$f":"IF(AA18=0,0,(AA18*((LOG(AA18))/LOG(2))))","v":-0.46438561897747244},null,{"$f":"N18","v":2122},{"$f":"COUNTIF(L61:L86,AD18)","v":2},{"$f":"AE18/(AG4-AE20)","v":0.08},{"$f":"IF(AF18=0,0,(AF18*((LOG(AF18))/LOG(2))))","v":-0.29150849518197797},null,{"$f":"N18","v":2122},{"$f":"COUNTIF(L87:L113,AI18)","v":5},{"$f":"AJ18/(AL4-AJ20)","v":0.2},{"$f":"IF(AK18=0,0,(AK18*((LOG(AK18))/LOG(2))))","v":-0.46438561897747244},null,{"$f":"N18","v":2122},{"$f":"COUNTIF(L114:L140,AN18)","v":4},{"$f":"AO18/(AQ4-AO20)","v":0.16},{"$f":"IF(AP18=0,0,(AP18*((LOG(AP18))/LOG(2))))","v":-0.42301699036395596},null,{"$f":"N18","v":2122},{"$f":"COUNTIF(L141:L167,AS18)","v":4},{"$f":"AT18/(AV4-AT20)","v":0.16},{"$f":"IF(AU18=0,0,(AU18*((LOG(AU18))/LOG(2))))","v":-0.42301699036395596}]
[12,1640,14,1643,24,1655,23,1661,null,null,0,1122,null,2211,{"$f":"COUNTIF($L$7:$L$500,N19)","v":0},{"$f":"O19/$Q$4","v":0},{"$f":"IF(P19=0,0,(P19*((LOG(P19))/LOG(2))))","v":0},null,null,{"$f":"N19","v":2211},{"$f":"COUNTIF(L7:L33,T19)","v":0},{"$f":"U19/(W4-U20)","v":0},{"$f":"IF(V19=0,0,(V19*((LOG(V19))/LOG(2))))","v":0},null,{"$f":"N19","v":2211},{"$f":"COUNTIF(L34:L60,Y19)","v":0},{"$f":"Z19/(AB4-Z20)","v":0},{"$f":"IF(AA19=0,0,(AA19*((LOG(AA19))/LOG(2))))","v":0},null,{"$f":"N19","v":2211},{"$f":"COUNTIF(L61:L86,AD19)","v":0},{"$f":"AE19/(AG4-AE20)","v":0},{"$f":"IF(AF19=0,0,(AF19*((LOG(AF19))/LOG(2))))","v":0},null,{"$f":"N19","v":2211},{"$f":"COUNTIF(L87:L113,AI19)","v":0},{"$f":"AJ19/(AL4-AJ20)","v":0},{"$f":"IF(AK19=0,0,(AK19*((LOG(AK19))/LOG(2))))","v":0},null,{"$f":"N19","v":2211},{"$f":"COUNTIF(L114:L140,AN19)","v":0},{"$f":"AO19/(AQ4-AO20)","v":0},{"$f":"IF(AP19=0,0,(AP19*((LOG(AP19))/LOG(2))))","v":0},null,{"$f":"N19","v":2211},{"$f":"COUNTIF(L141:L167,AS19)","v":0},{"$f":"AT19/(AV4-AT20)","v":0},{"$f":"IF(AU19=0,0,(AU19*((LOG(AU19))/LOG(2))))","v":0}]
[21,1772,21,1777,22,1794,23,1827,null,null,0,2222,null,2212,{"$f":"COUNTIF($L$7:$L$500,N20)","v":12},{"$f":"O20/$Q$4","v":7.4534161490683232E-2},{"$f":"IF(P20=0,0,(P20*((LOG(P20))/LOG(2))))","v":-0.27920156850137595},null,null,{"$f":"N20","v":2212},{"$f":"COUNTIF(L7:L33,T20)","v":3},null,null,null,{"$f":"N20","v":2212},{"$f":"COUNTIF(L34:L60,Y20)","v":2},null,null,null,{"$f":"N20","v":2212},{"$f":"COUNTIF(L61:L86,AD20)","v":1},null,null,null,{"$f":"N20","v":2212},{"$f":"COUNTIF(L87:L113,AI20)","v":2},null,null,null,{"$f":"N20","v":2212},{"$f":"COUNTIF(L114:L140,AN20)","v":2},null,null,null,{"$f":"N20","v":2212},{"$f":"COUNTIF(L141:L167,AS20)","v":2}]
[21,1924,21,1928,11,1931,21,1935,null,null,0,2212,null,2221,{"$f":"COUNTIF($L$7:$L$500,N21)","v":6},{"$f":"O21/$Q$4","v":3.7267080745341616E-2},{"$f":"IF(P21=0,0,(P21*((LOG(P21))/LOG(2))))","v":-0.17686786499602961},null,null,{"$f":"N21","v":2221},{"$f":"COUNTIF(L7:L33,T21)","v":0},{"$f":"U21/(W4-U20)","v":0},{"$f":"IF(V21=0,0,(V21*((LOG(V21))/LOG(2))))","v":0},null,{"$f":"N21","v":2221},{"$f":"COUNTIF(L34:L60,Y21)","v":2},{"$f":"Z21/(AB4-Z20)","v":0.08},{"$f":"IF(AA21=0,0,(AA21*((LOG(AA21))/LOG(2))))","v":-0.29150849518197797},null,{"$f":"N21","v":2221},{"$f":"COUNTIF(L61:L86,AD21)","v":2},{"$f":"AE21/(AG4-AE20)","v":0.08},{"$f":"IF(AF21=0,0,(AF21*((LOG(AF21))/LOG(2))))","v":-0.29150849518197797},null,{"$f":"N21","v":2221},{"$f":"COUNTIF(L87:L113,AI21)","v":0},{"$f":"AJ21/(AL4-AJ20)","v":0},{"$f":"IF(AK21=0,0,(AK21*((LOG(AK21))/LOG(2))))","v":0},null,{"$f":"N21","v":2221},{"$f":"COUNTIF(L114:L140,AN21)","v":1},{"$f":"AO21/(AQ4-AO20)","v":0.04},{"$f":"IF(AP21=0,0,(AP21*((LOG(AP21))/LOG(2))))","v":-0.18575424759098899},null,{"$f":"N21","v":2221},{"$f":"COUNTIF(L141:L167,AS21)","v":1},{"$f":"AT21/(AV4-AT20)","v":0.04},{"$f":"IF(AU21=0,0,(AU21*((LOG(AU21))/LOG(2))))","v":-0.18575424759098899}]
[21,2467,21,2472,22,2485,23,2491,null,null,0,2222,null,2222,{"$f":"COUNTIF($L$7:$L$500,N22)","v":63},{"$f":"O22/$Q$4","v":0.39130434782608697},{"$f":"IF(P22=0,0,(P22*((LOG(P22))/LOG(2))))","v":-0.5296840257187958},null,null,{"$f":"N22","v":2222},{"$f":"COUNTIF(L7:L33,T22)","v":15},{"$f":"U22/(W4-U20)","v":0.625},{"$f":"IF(V22=0,0,(V22*((LOG(V22))/LOG(2))))","v":-0.42379494069539858},null,{"$f":"N22","v":2222},{"$f":"COUNTIF(L34:L60,Y22)","v":7},{"$f":"Z22/(AB4-Z20)","v":0.28000000000000003},{"$f":"IF(AA22=0,0,(AA22*((LOG(AA22))/LOG(2))))","v":-0.51422035496079388},null,{"$f":"N22","v":2222},{"$f":"COUNTIF(L61:L86,AD22)","v":14},{"$f":"AE22/(AG4-AE20)","v":0.56000000000000005},{"$f":"IF(AF22=0,0,(AF22*((LOG(AF22))/LOG(2))))","v":-0.46844070992158748},null,{"$f":"N22","v":2222},{"$f":"COUNTIF(L87:L113,AI22)","v":8},{"$f":"AJ22/(AL4-AJ20)","v":0.32},{"$f":"IF(AK22=0,0,(AK22*((LOG(AK22))/LOG(2))))","v":-0.52603398072791185},null,{"$f":"N22","v":2222},{"$f":"COUNTIF(L114:L140,AN22)","v":9},{"$f":"AO22/(AQ4-AO20)","v":0.36},{"$f":"IF(AP22=0,0,(AP22*((LOG(AP22))/LOG(2))))","v":-0.53061522779966841},null,{"$f":"N22","v":2222},{"$f":"COUNTIF(L141:L167,AS22)","v":10},{"$f":"AT22/(AV4-AT20)","v":0.4},{"$f":"IF(AU22=0,0,(AU22*((LOG(AU22))/LOG(2))))","v":-0.52877123795494496}]
[21,2667,21,2671,22,2678,23,2684,null,null,0,2222,null,null,null,{"$f":"SUM(P7:P22)","v":1},{"$f":"-SUM(Q7:Q22)","v":2.4931125950355852},null,null,null,null,{"$f":"SUM(V7:V22)","v":1},{"$f":"-SUM(W7:W22)","v":1.4135819199522097},null,null,null,{"$f":"SUM(AA7:AA22)","v":1},{"$f":"-SUM(AB7:AB22)","v":2.2734111926211233},null,null,null,{"$f":"SUM(AF7:AF22)","v":1},{"$f":"-SUM(AG7:AG22)","v":2.0015419333359277},null,null,null,{"$f":"SUM(AK7:AK22)","v":1},{"$f":"-SUM(AL7:AL22)","v":2.0692750707107135},null,null,null,{"$f":"SUM(AP7:AP22)","v":1},{"$f":"-SUM(AQ7:AQ22)","v":2.0415101887362597},null,null,null,{"$f":"SUM(AU7:AU22)","v":1},{"$f":"-SUM(AV7:AV22)","v":2.2946939516467024}]
[12,2790,23,2813,24,2825,23,2831,null,null,0,1222,null,null,null,"U=",{"$f":"Q23/(LOG(Q4)/LOG(2))","v":0.34008196198191926},null,null,null,null,"U1=",{"$f":"W23/(LOG(W4)/LOG(2))","v":0.29729029746950514},null,null,null,"U2=",{"$f":"AB23/(LOG(AB4)/LOG(2))","v":0.47812092117567956},null,null,null,"U3=",{"$f":"AG23/(LOG(AG4)/LOG(2))","v":0.42582014733878731},null,null,null,"U4=",{"$f":"AL23/(LOG(AL4)/LOG(2))","v":0.43518907014502356},null,null,null,"U5=",{"$f":"AQ23/(LOG(AQ4)/LOG(2))","v":0.42934984009766264},null,null,null,"U6=",{"$f":"AV23/(LOG(AV4)/LOG(2))","v":0.48259689647812265}]
[21,2926,21,2934,22,2941,23,2948,null,null,0,2222]
[21,3054,21,3056,11,3059,21,3066,null,null,0,2212]
[21,3164,21,3172,22,3180,23,3188,null,null,0,2222,null,"Total Target Seq"]
[12,3287,23,3293,24,3297,23,3302,null,null,0,1222,null,{"$f":"COUNTIF(L7:L167,G3)","v":12},null,27,27,26,27,27,27]
[21,3398,12,3400,24,3403,14,3405,null,null,0,2121,null,null,null,"% of reinforcement given in 6 equal intervals based on number of trials "]
[21,3502,21,3506,11,3509,21,3513,null,null,0,2212,null,null,null,"%_1","%_2","%_3","%_4","%_5","%_6"]
[21,4361,21,4366,22,4372,23,4378,null,null,0,2222,null,null,"target sequence",{"$f":"$G$3","v":2212},{"$f":"$G$3","v":2212},{"$f":"$G$3","v":2212},{"$f":"$G$3","v":2212},{"$f":"$G$3","v":2212},{"$f":"$G$3","v":2212}]
[21,4490,21,4495,22,4504,23,4512,null,null,0,2222,null,null,"total reinforcement",{"$f":"U20","v":3},{"$f":"Z20","v":2},{"$f":"AE20","v":1},{"$f":"AJ20","v":2},{"$f":"AO20","v":2},{"$f":"AT20","v":2}]
[21,4611,12,4613,24,4616,14,4621,null,null,0,2121,null,null,"% target"]
[21,4788,21,4794,22,4800,23,4807,null,null,0,2222,null,null,"CCRF"]
[12,4901,23,4911,13,4913,23,4918,null,null,0,1212,null,null,"% CCRf"]
[21,5015,12,5023,24,5029,23,5036,null,null,0,2122,null,null,"average response rate",{"$f":"H33/P28","v":171.14814814814815},{"$f":"(H60-H33)/Q28","v":138.5185185185185},{"$f":"(H86-H60)/R28","v":129.23076923076923},{"$f":"(H113-H86)/S28","v":149.33333333333334},{"$f":"(H140-H113)/T28","v":136.96296296296296},{"$f":"(H167-H140)/U28","v":134.81481481481481}]
[21,5142,21,5146,22,5151,23,5158,null,null,0,2222]
[12,5250,23,5255,24,5261,23,5266,null,null,0,1222]
[21,5362,12,5366,24,5371,23,5377,null,null,0,2122]
[12,5475,23,5480,24,5484,23,5488,null,null,0,1222]
[21,5584,21,5590,22,5596,14,5600,null,null,0,2221]
[12,5694,23,5701,24,5704,23,5716,null,null,0,1222]
[21,5810,21,5816,11,5820,21,5822,null,null,0,2212]
[21,6147,21,6153,22,6169,23,6174,null,null,0,2222]
[12,6274,23,6286,24,6292,23,6297,null,null,0,1222]
[21,6408,21,6417,22,6423,23,6429,null,null,0,2222]
[21,6532,12,6537,24,6550,23,6557,null,null,0,2122]
[21,6654,12,6659,24,6661,23,6667,null,null,0,2122]
[21,6768,21,6772,22,6777,23,6782,null,null,0,2222]
[12,6874,23,6886,13,6892,23,6894,null,null,0,1212]
[12,6990,14,6999,24,7005,23,7010,null,null,0,1122]
[21,7107,21,7112,11,7115,21,7118,null,null,0,2212]
[21,7506,21,7519,22,7525,23,7537,null,null,0,2222]
[12,7630,23,7641,24,7651,23,7658,null,null,0,1222]
[12,7751,23,7759,24,7766,23,7771,null,null,0,1222]
[21,7863,21,7868,22,7874,23,7882,null,null,0,2222]
[12,7980,23,7992,24,7997,23,8003,null,null,0,1222]
[21,8100,21,8103,22,8107,14,8116,null,null,0,2221]
[21,8231,12,8237,24,8243,23,8249,null,null,0,2122]
[12,8342,23,8346,24,8353,23,8361,null,null,0,1222]
[21,8468,21,8473,22,8482,23,8488,null,null,0,2222]
[21,8587,21,8592,22,8603,23,8611,null,null,0,2222]
[21,8710,12,8715,24,8722,23,8728,null,null,0,2122]
[12,8822,23,8833,24,8837,14,8840,null,null,0,1221]
[21,8939,21,8943,22,8948,23,8954,null,null,0,2222]
[12,9063,23,9069,24,9073,23,9078,null,null,0,1222]
[21,9173,21,9180,22,9185,23,9190,null,null,0,2222]
[21,9306,21,9311,22,9317,23,9325,null,null,0,2222]
[21,9423,21,9428,22,9435,23,9440,null,null,0,2222]
[12,9538,14,9549,24,9552,23,9558,null,null,0,1122]
[21,9652,21,9656,11,9658,21,9662,null,null,0,2212]
[21,10066,21,10080,22,10085,23,10092,null,null,0,2222]
[21,10203,21,10206,22,10212,23,10218,null,null,0,2222]
[12,10310,14,10326,24,10330,23,10335,null,null,0,1122]
[21,10440,12,10446,24,10450,23,10459,null,null,0,2122]
[12,10553,23,10563,24,10572,14,10579,null,null,0,1221]
[21,10674,21,10677,22,10682,23,10689,null,null,0,2222]
[21,10784,21,10789,22,10795,23,10802,null,null,0,2222]
[21,10894,21,10897,22,10900,14,10902,null,null,0,2221]
[12,10995,14,11000,24,11006,23,11011,null,null,0,1122]
[21,11109,21,11116,22,11121,23,11127,null,null,0,2222]
[21,11232,21,11236,22,11240,23,11247,null,null,0,2222]
[21,11343,21,11348,22,11355,14,11357,null,null,0,2221]
[21,11452,21,11457,22,11463,23,11470,null,null,0,2222]
[21,11574,21,11580,22,11587,23,11594,null,null,0,2222]
[12,11693,23,11704,24,11713,23,11721,null,null,0,1222]
[21,11815,12,11818,24,11820,23,11834,null,null,0,2122]
[12,11928,23,11940,24,11947,23,11955,null,null,0,1222]
[21,12050,12,12054,24,12061,23,12069,null,null,0,2122]
[12,12174,23,12178,13,12188,23,12194,null,null,0,1212]
[12,12288,23,12295,24,12304,23,12316,null,null,0,1222]
[21,12411,12,12413,24,12423,23,12431,null,null,0,2122]
[21,12525,21,12529,22,12533,23,12540,null,null,0,2222]
[12,12635,23,12645,24,12654,23,12661,null,null,0,1222]
[12,12754,23,12756,24,12761,23,12767,null,null,0,1222]
[21,12862,21,12866,11,12871,21,12879,null,null,0,2212]
[21,13771,21,13775,22,13781,23,13786,null,null,0,2222]
[21,13891,12,13901,24,13914,23,13921,null,null,0,2122]
[21,14015,21,14022,22,14028,23,14034,null,null,0,2222]
[21,14128,21,14133,22,14138,23,14144,null,null,0,2222]
[21,14240,21,14246,22,14252,23,14258,null,null,0,2222]
[21,14350,21,14352,22,14359,23,14365,null,null,0,2222]
[12,14457,14,14460,24,14463,23,14469,null,null,0,1122]
[21,14562,21,14566,11,14568,21,14570,null,null,0,2212]
[12,14772,23,14781,24,14793,23,14800,null,null,0,1222]
[12,14932,23,14937,24,14943,23,14954,null,null,0,1222]
[12,15049,14,15054,24,15064,23,15070,null,null,0,1122]
[12,15164,23,15171,24,15176,23,15181,null,null,0,1222]
[21,15274,21,15283,22,15286,23,15291,null,null,0,2222]
[21,15391,21,15395,22,15403,23,15414,null,null,0,2222]
[12,15507,14,15510,24,15512,23,15518,null,null,0,1122]
[12,15611,23,15622,24,15630,23,15634,null,null,0,1222]
[21,15737,12,15744,24,15746,23,15753,null,null,0,2122]
[12,15848,23,15853,24,15861,23,15868,null,null,0,1222]
[21,15968,21,15973,22,15978,23,15985,null,null,0,2222]
[21,16080,21,16083,22,16089,23,16097,null,null,0,2222]
[12,16191,23,16193,24,16201,23,16206,null,null,0,1222]
[21,16301,21,16306,22,16310,23,16317,null,null,0,2222]
[12,16418,23,16432,24,16437,23,16442,null,null,0,1222]
[21,16537,21,16549,22,16556,23,16563,null,null,0,2222]
[21,16655,12,16659,24,16665,23,16671,null,null,0,2122]
[12,16770,23,16779,24,16782,23,16786,null,null,0,1222]
[12,16878,23,16883,24,16888,23,16895,null,null,0,1222]
[21,16999,21,17004,22,17010,23,17017,null,null,0,2222]
[21,17113,21,17118,22,17124,23,17130,null,null,0,2222]
[21,17233,12,17236,24,17241,23,17247,null,null,0,2122]
[21,17353,21,17367,22,17372,23,17378,null,null,0,2222]
[12,17477,23,17480,24,17491,23,17499,null,null,0,1222]
[12,17593,23,17595,24,17602,23,17610,null,null,0,1222]
[21,17723,21,17730,11,17732,21,17736,null,null,0,2212]
[12,17891,23,17904,24,17910,23,17916,null,null,0,1222]
[12,18041,14,18045,13,18074,23,18083,null,null,0,1112]
[12,18175,23,18195,24,18198,14,18200,null,null,0,1221]
[21,18299,21,18303,22,18308,23,18314,null,null,0,2222]
[21,18405,21,18410,11,18414,21,18419,null,null,0,2212]
[12,18944,23,18955,24,18962,23,18969,null,null,0,1222]
[21,19071,12,19075,24,19085,23,19093,null,null,0,2122]
[21,19191,21,19199,22,19205,14,19210,null,null,0,2221]
[21,19312,12,19316,24,19325,23,19333,null,null,0,2122]
[21,19429,21,19436,22,19443,23,19451,null,null,0,2222]
[21,19550,21,19554,22,19561,23,19568,null,null,0,2222]
[12,19669,23,19677,24,19683,14,19688,null,null,0,1221]
[21,19782,21,19787,22,19794,23,19801,null,null,0,2222]
[12,19905,23,19907,24,19910,23,19915,null,null,0,1222]
[12,20009,23,20014,13,20020,23,20024,null,null,0,1212]
[21,20117,21,20120,22,20127,23,20132,null,null,0,2222]
[12,20227,23,20239,24,20245,23,20250,null,null,0,1222]
[21,20344,12,20346,24,20349,23,20355,null,null,0,2122]
[12,20449,14,20452,24,20465,23,20467,null,null,0,1122]
[21,20564,21,20570,22,20576,23,20583,null,null,0,2222]
[12,20678,23,20680,24,20685,23,20692,null,null,0,1222]
[21,20788,21,20794,22,20803,23,20811,null,null,0,2222]
[21,20918,21,20928,22,20933,23,20941,null,null,0,2222]
[12,21039,14,21047,24,21051,23,21056,null,null,0,1122]
[21,21151,12,21154,24,21159,23,21166,null,null,0,2122]
[12,21261,23,21265,24,21268,23,21272,null,null,0,1222]
[21,21373,21,21377,22,21383,23,21391,null,null,0,2222]
[21,21491,21,21495,22,21503,23,21509,null,null,0,2222]
[21,21604,12,21610,24,21612,23,21622,null,null,0,2122]
[21,21723,21,21727,11,21730,21,21732,null,null,0,2212]
[12,22374,23,22384,24,22390,23,22398,null,null,0,1222]
[21,22499,12,22503,24,22516,23,22524,null,null,0,2122]
[12,22620,23,22623,24,22629,23,22634,null,null,0,1222]
[21,22731,21,22738,22,22745,23,22752,null,null,0,2222]
[21,22849,21,22853,22,22857,23,22862,null,null,0,2222]
[21,22956,21,22960,22,22966,14,22970,null,null,0,2221]
[21,23073,21,23083,11,23088,21,23091,null,null,0,2212]

{"sheet":"!M628930.Gus","index":9,"n_rows":171,"n_cols":48,"rows_kept":171,"cut":false,"hidden":false,"merged":[[4,39,4,42],[5,39,5,40],[4,44,4,47],[5,44,5,45],[4,24,4,27],[5,24,5,25],[4,29,4,32],[5,29,5,30],[4,34,4,37],[5,34,5,35],[1,1,1,2],[5,13,5,14],[26,13,26,14],[27,13,27,14],[4,19,4,22],[5,19,5,20]]}
["Report for:!M628930.Gus"]
["Date:","<date>"]
["Hen:","<hen>",null,null,null,"Correct Sequence",{"$f":"Start!J2","v":2212},null,null,null,null,null,null,null,null,"Total Sequences in Data",{"$f":"4994-COUNTBLANK(L7:L5000)","v":165},null,null,null,null,"Total Sequences in Block Data",{"$f":"COUNTA(L7:L34)","v":28},null,null,null,"Total Sequences in Block Data",{"$f":"COUNTA(L35:L61)","v":27},null,null,null,"Total Sequences in Block Data",{"$f":"COUNTA(L62:L89)","v":28},null,null,null,"Total Sequences in Block Data",{"$f":"COUNTA(L90:L116)","v":27},null,null,null,"Total Sequences in Block Data",{"$f":"COUNTA(L117:L144)","v":28},null,null,null,"Total Sequences in Block Data",{"$f":"COUNTA(L145:L171)","v":27}]
[null,null,null,null,null,null,null,null,null,null,null,null,null,null,null,"Total Sequences in Summary",{"$f":"SUM(O7:O22)","v":165},null,null,null,null,"Total Sequences in Block Summary",{"$f":"SUM(U7:U22)","v":28},null,null,null,"Total Sequences in Block Summary",{"$f":"SUM(Z7:Z22)","v":27},null,null,null,"Total Sequences in Block Summary",{"$f":"SUM(AE7:AE22)","v":28},null,null,null,"Total Sequences in Block Summary",{"$f":"SUM(AJ7:AJ22)","v":27},null,null,null,"Total Sequences in Block Summary",{"$f":"SUM(AO7:AO22)","v":28},null,null,null,"Total Sequences in Block Summary",{"$f":"SUM(AT7:AT22)","v":27}]
[null,null,null,null,null,null,null,null,null,null,null,null,null,null,null,null,null,null,null,"Block 1",null,null,null,null,"Block 2",null,null,null,null,"Block 3",null,null,null,null,"Block 4",null,null,null,null,"Block 5",null,null,null,null,"Block 6"]
["Sequence\nComponent\n1","Time\n1","Sequence\nComponent\n2","Time\n2","Sequence\nComponent\n3","Time\n3","Sequence\nComponent\n4","Time\n4","Sequence\nComponent\n5","Time\n5","Correct?\n0=No 1=Yes","Sequence",null,"Frequency",null,"Relative Frequency","Variability",null,null,"Frequency",null,"Relative Frequency","Variability",null,"Frequency",null,"Relative Frequency","Variability",null,"Frequency",null,"Relative Frequency","Variability",null,"Frequency",null,"Relative Frequency","Variability",null,"Frequency",null,"Relative Frequency","Variability",null,"Frequency",null,"Relative Frequency","Variability"]
[21,21,21,28,22,35,23,42,null,null,0,2222,null,1111,{"$f":"COUNTIF($L$7:$L$500,N7)","v":0},{"$f":"O7/$Q$4","v":0},{"$f":"IF(P7=0,0,(P7*((LOG(P7))/LOG(2))))","v":0},null,null,{"$f":"N7","v":1111},{"$f":"COUNTIF(L7:L34,T7)","v":0},{"$f":"U7/(W4-U20)","v":0},{"$f":"IF(V7=0,0,(V7*((LOG(V7))/LOG(2))))","v":0},null,{"$f":"N7","v":1111},{"$f":"COUNTIF(L35:L61,Y7)","v":0},{"$f":"Z7/(AB4-Z20)","v":0},{"$f":"IF(AA7=0,0,(AA7*((LOG(AA7))/LOG(2))))","v":0},null,{"$f":"N7","v":1111},{"$f":"COUNTIF(L62:L89,AD7)","v":0},{"$f":"AE7/(AG4-AE20)","v":0},{"$f":"IF(AF7=0,0,(AF7*((LOG(AF7))/LOG(2))))","v":0},null,{"$f":"N7","v":1111},{"$f":"COUNTIF(L90:L116,AI7)","v":0},{"$f":"AJ7/(AL4-AJ20)","v":0},{"$f":"IF(AK7=0,0,(AK7*((LOG(AK7))/LOG(2))))","v":0},null,{"$f":"N7","v":1111},{"$f":"COUNTIF(L117:L144,AN7)","v":0},{"$f":"AO7/(AQ4-AO20)","v":0},{"$f":"IF(AP7=0,0,(AP7*((LOG(AP7))/LOG(2))))","v":0},null,{"$f":"N7","v":1111},{"$f":"COUNTIF(L145:L171,AS7)","v":0},{"$f":"AT7/(AV4-AT20)","v":0},{"$f":"IF(AU7=0,0,(AU7*((LOG(AU7))/LOG(2))))","v":0}]
[21,148,21,156,22,163,23,174,null,null,0,2222,null,1112,{"$f":"COUNTIF($L$7:$L$500,N8)","v":0},{"$f":"O8/$Q$4","v":0},{"$f":"IF(P8=0,0,(P8*((LOG(P8))/LOG(2))))","v":0},null,null,{"$f":"N8","v":1112},{"$f":"COUNTIF(L7:L34,T8)","v":0},{"$f":"U8/(W4-U20)","v":0},{"$f":"IF(V8=0,0,(V8*((LOG(V8))/LOG(2))))","v":0},null,{"$f":"N8","v":1112},{"$f":"COUNTIF(L35:L61,Y8)","v":0},{"$f":"Z8/(AB4-Z20)","v":0},{"$f":"IF(AA8=0,0,(AA8*((LOG(AA8))/LOG(2))))","v":0},null,{"$f":"N8","v":1112},{"$f":"COUNTIF(L62:L89,AD8)","v":0},{"$f":"AE8/(AG4-AE20)","v":0},{"$f":"IF(AF8=0,0,(AF8*((LOG(AF8))/LOG(2))))","v":0},null,{"$f":"N8","v":1112},{"$f":"COUNTIF(L90:L116,AI8)","v":0},{"$f":"AJ8/(AL4-AJ20)","v":0},{"$f":"IF(AK8=0,0,(AK8*((LOG(AK8))/LOG(2))))","v":0},null,{"$f":"N8","v":1112},{"$f":"COUNTIF(L117:L144,AN8)","v":0},{"$f":"AO8/(AQ4-AO20)","v":0},{"$f":"IF(AP8=0,0,(AP8*((LOG(AP8))/LOG(2))))","v":0},null,{"$f":"N8","v":1112},{"$f":"COUNTIF(L145:L171,AS8)","v":0},{"$f":"AT8/(AV4-AT20)","v":0},{"$f":"IF(AU8=0,0,(AU8*((LOG(AU8))/LOG(2))))","v":0}]
[12,271,23,280,24,286,23,293,null,null,0,1222,null,1121,{"$f":"COUNTIF($L$7:$L$500,N9)","v":1},{"$f":"O9/$Q$4","v":6.0606060606060606E-3},{"$f":"IF(P9=0,0,(P9*((LOG(P9))/LOG(2))))","v":-4.4644377056035252E-2},null,null,{"$f":"N9","v":1121},{"$f":"COUNTIF(L7:L34,T9)","v":0},{"$f":"U9/(W4-U20)","v":0},{"$f":"IF(V9=0,0,(V9*((LOG(V9))/LOG(2))))","v":0},null,{"$f":"N9","v":1121},{"$f":"COUNTIF(L35:L61,Y9)","v":0},{"$f":"Z9/(AB4-Z20)","v":0},{"$f":"IF(AA9=0,0,(AA9*((LOG(AA9))/LOG(2))))","v":0},null,{"$f":"N9","v":1121},{"$f":"COUNTIF(L62:L89,AD9)","v":0},{"$f":"AE9/(AG4-AE20)","v":0},{"$f":"IF(AF9=0,0,(AF9*((LOG(AF9))/LOG(2))))","v":0},null,{"$f":"N9","v":1121},{"$f":"COUNTIF(L90:L116,AI9)","v":0},{"$f":"AJ9/(AL4-AJ20)","v":0},{"$f":"IF(AK9=0,0,(AK9*((LOG(AK9))/LOG(2))))","v":0},null,{"$f":"N9","v":1121},{"$f":"COUNTIF(L117:L144,AN9)","v":1},{"$f":"AO9/(AQ4-AO20)","v":4.1666666666666664E-2},{"$f":"IF(AP9=0,0,(AP9*((LOG(AP9))/LOG(2))))","v":-0.19104010419671485},null,{"$f":"N9","v":1121},{"$f":"COUNTIF(L145:L171,AS9)","v":0},{"$f":"AT9/(AV4-AT20)","v":0},{"$f":"IF(AU9=0,0,(AU9*((LOG(AU9))/LOG(2))))","v":0}]
[12,391,23,397,24,406,23,414,null,null,0,1222,null,1122,{"$f":"COUNTIF($L$7:$L$500,N10)","v":4},{"$f":"O10/$Q$4","v":2.4242424242424242E-2},{"$f":"IF(P10=0,0,(P10*((LOG(P10))/LOG(2))))","v":-0.13009265973929252},null,null,{"$f":"N10","v":1122},{"$f":"COUNTIF(L7:L34,T10)","v":0},{"$f":"U10/(W4-U20)","v":0},{"$f":"IF(V10=0,0,(V10*((LOG(V10))/LOG(2))))","v":0},null,{"$f":"N10","v":1122},{"$f":"COUNTIF(L35:L61,Y10)","v":1},{"$f":"Z10/(AB4-Z20)","v":3.8461538461538464E-2},{"$f":"IF(AA10=0,0,(AA10*((LOG(AA10))/LOG(2))))","v":-0.18078614300542661},null,{"$f":"N10","v":1122},{"$f":"COUNTIF(L62:L89,AD10)","v":0},{"$f":"AE10/(AG4-AE20)","v":0},{"$f":"IF(AF10=0,0,(AF10*((LOG(AF10))/LOG(2))))","v":0},null,{"$f":"N10","v":1122},{"$f":"COUNTIF(L90:L116,AI10)","v":0},{"$f":"AJ10/(AL4-AJ20)","v":0},{"$f":"IF(AK10=0,0,(AK10*((LOG(AK10))/LOG(2))))","v":0},null,{"$f":"N10","v":1122},{"$f":"COUNTIF(L117:L144,AN10)","v":2},{"$f":"AO10/(AQ4-AO20)","v":8.3333333333333329E-2},{"$f":"IF(AP10=0,0,(AP10*((LOG(AP10))/LOG(2))))","v":-0.29874687506009634},null,{"$f":"N10","v":1122},{"$f":"COUNTIF(L145:L171,AS10)","v":1},{"$f":"AT10/(AV4-AT20)","v":0.04},{"$f":"IF(AU10=0,0,(AU10*((LOG(AU10))/LOG(2))))","v":-0.18575424759098899}]
[12,520,23,523,24,526,23,531,null,null,0,1222,null,1211,{"$f":"COUNTIF($L$7:$L$500,N11)","v":0},{"$f":"O11/$Q$4","v":0},{"$f":"IF(P11=0,0,(P11*((LOG(P11))/LOG(2))))","v":0},null,null,{"$f":"N11","v":1211},{"$f":"COUNTIF(L7:L34,T11)","v":0},{"$f":"U11/(W4-U20)","v":0},{"$f":"IF(V11=0,0,(V11*((LOG(V11))/LOG(2))))","v":0},null,{"$f":"N11","v":1211},{"$f":"COUNTIF(L35:L61,Y11)","v":0},{"$f":"Z11/(AB4-Z20)","v":0},{"$f":"IF(AA11=0,0,(AA11*((LOG(AA11))/LOG(2))))","v":0},null,{"$f":"N11","v":1211},{"$f":"COUNTIF(L62:L89,AD11)","v":0},{"$f":"AE11/(AG4-AE20)","v":0},{"$f":"IF(AF11=0,0,(AF11*((LOG(AF11))/LOG(2))))","v":0},null,{"$f":"N11","v":1211},{"$f":"COUNTIF(L90:L116,AI11)","v":0},{"$f":"AJ11/(AL4-AJ20)","v":0},{"$f":"IF(AK11=0,0,(AK11*((LOG(AK11))/LOG(2))))","v":0},null,{"$f":"N11","v":1211},{"$f":"COUNTIF(L117:L144,AN11)","v":0},{"$f":"AO11/(AQ4-AO20)","v":0},{"$f":"IF(AP11=0,0,(AP11*((LOG(AP11))/LOG(2))))","v":0},null,{"$f":"N11","v":1211},{"$f":"COUNTIF(L145:L171,AS11)","v":0},{"$f":"AT11/(AV4-AT20)","v":0},{"$f":"IF(AU11=0,0,(AU11*((LOG(AU11))/LOG(2))))","v":0}]
[21,627,21,633,22,639,14,644,null,null,0,2221,null,1212,{"$f":"COUNTIF($L$7:$L$500,N12)","v":7},{"$f":"O12/$Q$4","v":4.2424242424242427E-2},{"$f":"IF(P12=0,0,(P12*((LOG(P12))/LOG(2))))","v":-0.19341073360798475},null,null,{"$f":"N12","v":1212},{"$f":"COUNTIF(L7:L34,T12)","v":5},{"$f":"U12/(W4-U20)","v":0.17857142857142858},{"$f":"IF(V12=0,0,(V12*((LOG(V12))/LOG(2))))","v":-0.44382621913754317},null,{"$f":"N12","v":1212},{"$f":"COUNTIF(L35:L61,Y12)","v":0},{"$f":"Z12/(AB4-Z20)","v":0},{"$f":"IF(AA12=0,0,(AA12*((LOG(AA12))/LOG(2))))","v":0},null,{"$f":"N12","v":1212},{"$f":"COUNTIF(L62:L89,AD12)","v":1},{"$f":"AE12/(AG4-AE20)","v":4.5454545454545456E-2},{"$f":"IF(AF12=0,0,(AF12*((LOG(AF12))/LOG(2))))","v":-0.20270143721078623},null,{"$f":"N12","v":1212},{"$f":"COUNTIF(L90:L116,AI12)","v":1},{"$f":"AJ12/(AL4-AJ20)","v":4.3478260869565216E-2},{"$f":"IF(AK12=0,0,(AK12*((LOG(AK12))/LOG(2))))","v":-0.19667660678508753},null,{"$f":"N12","v":1212},{"$f":"COUNTIF(L117:L144,AN12)","v":0},{"$f":"AO12/(AQ4-AO20)","v":0},{"$f":"IF(AP12=0,0,(AP12*((LOG(AP12))/LOG(2))))","v":0},null,{"$f":"N12","v":1212},{"$f":"COUNTIF(L145:L171,AS12)","v":0},{"$f":"AT12/(AV4-AT20)","v":0},{"$f":"IF(AU12=0,0,(AU12*((LOG(AU12))/LOG(2))))","v":0}]
[12,737,23,751,13,755,23,773,null,null,0,1212,null,1221,{"$f":"COUNTIF($L$7:$L$500,N13)","v":4},{"$f":"O13/$Q$4","v":2.4242424242424242E-2},{"$f":"IF(P13=0,0,(P13*((LOG(P13))/LOG(2))))","v":-0.13009265973929252},null,null,{"$f":"N13","v":1221},{"$f":"COUNTIF(L7:L34,T13)","v":2},{"$f":"U13/(W4-U20)","v":7.1428571428571425E-2},{"$f":"IF(V13=0,0,(V13*((LOG(V13))/LOG(2))))","v":-0.27195392300411453},null,{"$f":"N13","v":1221},{"$f":"COUNTIF(L35:L61,Y13)","v":0},{"$f":"Z13/(AB4-Z20)","v":0},{"$f":"IF(AA13=0,0,(AA13*((LOG(AA13))/LOG(2))))","v":0},null,{"$f":"N13","v":1221},{"$f":"COUNTIF(L62:L89,AD13)","v":1},{"$f":"AE13/(AG4-AE20)","v":4.5454545454545456E-2},{"$f":"IF(AF13=0,0,(AF13*((LOG(AF13))/LOG(2))))","v":-0.20270143721078623},null,{"$f":"N13","v":1221},{"$f":"COUNTIF(L90:L116,AI13)","v":0},{"$f":"AJ13/(AL4-AJ20)","v":0},{"$f":"IF(AK13=0,0,(AK13*((LOG(AK13))/LOG(2))))","v":0},null,{"$f":"N13","v":1221},{"$f":"COUNTIF(L117:L144,AN13)","v":0},{"$f":"AO13/(AQ4-AO20)","v":0},{"$f":"IF(AP13=0,0,(AP13*((LOG(AP13))/LOG(2))))","v":0},null,{"$f":"N13","v":1221},{"$f":"COUNTIF(L145:L171,AS13)","v":1},{"$f":"AT13/(AV4-AT20)","v":0.04},{"$f":"IF(AU13=0,0,(AU13*((LOG(AU13))/LOG(2))))","v":-0.18575424759098899}]
[12,878,23,884,24,888,23,893,null,null,0,1222,null,1222,{"$f":"COUNTIF($L$7:$L$500,N14)","v":39},{"$f":"O14/$Q$4","v":0.23636363636363636},{"$f":"IF(P14=0,0,(P14*((LOG(P14))/LOG(2))))","v":-0.49185381709066134},null,null,{"$f":"N14","v":1222},{"$f":"COUNTIF(L7:L34,T14)","v":8},{"$f":"U14/(W4-U20)","v":0.2857142857142857},{"$f":"IF(V14=0,0,(V14*((LOG(V14))/LOG(2))))","v":-0.51638712058788683},null,{"$f":"N14","v":1222},{"$f":"COUNTIF(L35:L61,Y14)","v":9},{"$f":"Z14/(AB4-Z20)","v":0.34615384615384615},{"$f":"IF(AA14=0,0,(AA14*((LOG(AA14))/LOG(2))))","v":-0.52979355578034681},null,{"$f":"N14","v":1222},{"$f":"COUNTIF(L62:L89,AD14)","v":2},{"$f":"AE14/(AG4-AE20)","v":9.0909090909090912E-2},{"$f":"IF(AF14=0,0,(AF14*((LOG(AF14))/LOG(2))))","v":-0.31449378351248153},null,{"$f":"N14","v":1222},{"$f":"COUNTIF(L90:L116,AI14)","v":6},{"$f":"AJ14/(AL4-AJ20)","v":0.2608695652173913},{"$f":"IF(AK14=0,0,(AK14*((LOG(AK14))/LOG(2))))","v":-0.50572159704413644},null,{"$f":"N14","v":1222},{"$f":"COUNTIF(L117:L144,AN14)","v":6},{"$f":"AO14/(AQ4-AO20)","v":0.25},{"$f":"IF(AP14=0,0,(AP14*((LOG(AP14))/LOG(2))))","v":-0.5},null,{"$f":"N14","v":1222},{"$f":"COUNTIF(L145:L171,AS14)","v":8},{"$f":"AT14/(AV4-AT20)","v":0.32},{"$f":"IF(AU14=0,0,(AU14*((LOG(AU14))/LOG(2))))","v":-0.52603398072791185}]
[12,997,23,1003,24,1017,14,1045,null,null,0,1221,null,2111,{"$f":"COUNTIF($L$7:$L$500,N15)","v":0},{"$f":"O15/$Q$4","v":0},{"$f":"IF(P15=0,0,(P15*((LOG(P15))/LOG(2))))","v":0},null,null,{"$f":"N15","v":2111},{"$f":"COUNTIF(L7:L34,T15)","v":0},{"$f":"U15/(W4-U20)","v":0},{"$f":"IF(V15=0,0,(V15*((LOG(V15))/LOG(2))))","v":0},null,{"$f":"N15","v":2111},{"$f":"COUNTIF(L35:L61,Y15)","v":0},{"$f":"Z15/(AB4-Z20)","v":0},{"$f":"IF(AA15=0,0,(AA15*((LOG(AA15))/LOG(2))))","v":0},null,{"$f":"N15","v":2111},{"$f":"COUNTIF(L62:L89,AD15)","v":0},{"$f":"AE15/(AG4-AE20)","v":0},{"$f":"IF(AF15=0,0,(AF15*((LOG(AF15))/LOG(2))))","v":0},null,{"$f":"N15","v":2111},{"$f":"COUNTIF(L90:L116,AI15)","v":0},{"$f":"AJ15/(AL4-AJ20)","v":0},{"$f":"IF(AK15=0,0,(AK15*((LOG(AK15))/LOG(2))))","v":0},null,{"$f":"N15","v":2111},{"$f":"COUNTIF(L117:L144,AN15)","v":0},{"$f":"AO15/(AQ4-AO20)","v":0},{"$f":"IF(AP15=0,0,(AP15*((LOG(AP15))/LOG(2))))","v":0},null,{"$f":"N15","v":2111},{"$f":"COUNTIF(L145:L171,AS15)","v":0},{"$f":"AT15/(AV4-AT20)","v":0},{"$f":"IF(AU15=0,0,(AU15*((LOG(AU15))/LOG(2))))","v":0}]
[12,1139,23,1153,13,1158,23,1184,null,null,0,1212,null,2112,{"$f":"COUNTIF($L$7:$L$500,N16)","v":0},{"$f":"O16/$Q$4","v":0},{"$f":"IF(P16=0,0,(P16*((LOG(P16))/LOG(2))))","v":0},null,null,{"$f":"N16","v":2112},{"$f":"COUNTIF(L7:L34,T16)","v":0},{"$f":"U16/(W4-U20)","v":0},{"$f":"IF(V16=0,0,(V16*((LOG(V16))/LOG(2))))","v":0},null,{"$f":"N16","v":2112},{"$f":"COUNTIF(L35:L61,Y16)","v":0},{"$f":"Z16/(AB4-Z20)","v":0},{"$f":"IF(AA16=0,0,(AA16*((LOG(AA16))/LOG(2))))","v":0},null,{"$f":"N16","v":2112},{"$f":"COUNTIF(L62:L89,AD16)","v":0},{"$f":"AE16/(AG4-AE20)","v":0},{"$f":"IF(AF16=0,0,(AF16*((LOG(AF16))/LOG(2))))","v":0},null,{"$f":"N16","v":2112},{"$f":"COUNTIF(L90:L116,AI16)","v":0},{"$f":"AJ16/(AL4-AJ20)","v":0},{"$f":"IF(AK16=0,0,(AK16*((LOG(AK16))/LOG(2))))","v":0},null,{"$f":"N16","v":2112},{"$f":"COUNTIF(L117:L144,AN16)","v":0},{"$f":"AO16/(AQ4-AO20)","v":0},{"$f":"IF(AP16=0,0,(AP16*((LOG(AP16))/LOG(2))))","v":0},null,{"$f":"N16","v":2112},{"$f":"COUNTIF(L145:L171,AS16)","v":0},{"$f":"AT16/(AV4-AT20)","v":0},{"$f":"IF(AU16=0,0,(AU16*((LOG(AU16))/LOG(2))))","v":0}]
[12,1277,23,1279,13,1283,23,1288,null,null,0,1212,null,2121,{"$f":"COUNTIF($L$7:$L$500,N17)","v":0},{"$f":"O17/$Q$4","v":0},{"$f":"IF(P17=0,0,(P17*((LOG(P17))/LOG(2))))","v":0},null,null,{"$f":"N17","v":2121},{"$f":"COUNTIF(L7:L34,T17)","v":0},{"$f":"U17/(W4-U20)","v":0},{"$f":"IF(V17=0,0,(V17*((LOG(V17))/LOG(2))))","v":0},null,{"$f":"N17","v":2121},{"$f":"COUNTIF(L35:L61,Y17)","v":0},{"$f":"Z17/(AB4-Z20)","v":0},{"$f":"IF(AA17=0,0,(AA17*((LOG(AA17))/LOG(2))))","v":0},null,{"$f":"N17","v":2121},{"$f":"COUNTIF(L62:L89,AD17)","v":0},{"$f":"AE17/(AG4-AE20)","v":0},{"$f":"IF(AF17=0,0,(AF17*((LOG(AF17))/LOG(2))))","v":0},null,{"$f":"N17","v":2121},{"$f":"COUNTIF(L90:L116,AI17)","v":0},{"$f":"AJ17/(AL4-AJ20)","v":0},{"$f":"IF(AK17=0,0,(AK17*((LOG(AK17))/LOG(2))))","v":0},null,{"$f":"N17","v":2121},{"$f":"COUNTIF(L117:L144,AN17)","v":0},{"$f":"AO17/(AQ4-AO20)","v":0},{"$f":"IF(AP17=0,0,(AP17*((LOG(AP17))/LOG(2))))","v":0},null,{"$f":"N17","v":2121},{"$f":"COUNTIF(L145:L171,AS17)","v":0},{"$f":"AT17/(AV4-AT20)","v":0},{"$f":"IF(AU17=0,0,(AU17*((LOG(AU17))/LOG(2))))","v":0}]
[12,1409,23,1414,24,1429,14,1438,null,null,0,1221,null,2122,{"$f":"COUNTIF($L$7:$L$500,N18)","v":19},{"$f":"O18/$Q$4","v":0.11515151515151516},{"$f":"IF(P18=0,0,(P18*((LOG(P18))/LOG(2))))","v":-0.35908787463783259},null,null,{"$f":"N18","v":2122},{"$f":"COUNTIF(L7:L34,T18)","v":2},{"$f":"U18/(W4-U20)","v":7.1428571428571425E-2},{"$f":"IF(V18=0,0,(V18*((LOG(V18))/LOG(2))))","v":-0.27195392300411453},null,{"$f":"N18","v":2122},{"$f":"COUNTIF(L35:L61,Y18)","v":5},{"$f":"Z18/(AB4-Z20)","v":0.19230769230769232},{"$f":"IF(AA18=0,0,(AA18*((LOG(AA18))/LOG(2))))","v":-0.45740608139494804},null,{"$f":"N18","v":2122},{"$f":"COUNTIF(L62:L89,AD18)","v":2},{"$f":"AE18/(AG4-AE20)","v":9.0909090909090912E-2},{"$f":"IF(AF18=0,0,(AF18*((LOG(AF18))/LOG(2))))","v":-0.31449378351248153},null,{"$f":"N18","v":2122},{"$f":"COUNTIF(L90:L116,AI18)","v":3},{"$f":"AJ18/(AL4-AJ20)","v":0.13043478260869565},{"$f":"IF(AK18=0,0,(AK18*((LOG(AK18))/LOG(2))))","v":-0.3832955811307639},null,{"$f":"N18","v":2122},{"$f":"COUNTIF(L117:L144,AN18)","v":5},{"$f":"AO18/(AQ4-AO20)","v":0.20833333333333334},{"$f":"IF(AP18=0,0,(AP18*((LOG(AP18))/LOG(2))))","v":-0.47146550121537367},null,{"$f":"N18","v":2122},{"$f":"COUNTIF(L145:L171,AS18)","v":2},{"$f":"AT18/(AV4-AT20)","v":0.08},{"$f":"IF(AU18=0,0,(AU18*((LOG(AU18))/LOG(2))))","v":-0.29150849518197797}]
[12,1541,23,1553,24,1557,23,1563,null,null,0,1222,null,2211,{"$f":"COUNTIF($L$7:$L$500,N19)","v":0},{"$f":"O19/$Q$4","v":0},{"$f":"IF(P19=0,0,(P19*((LOG(P19))/LOG(2))))","v":0},null,null,{"$f":"N19","v":2211},{"$f":"COUNTIF(L7:L34,T19)","v":0},{"$f":"U19/(W4-U20)","v":0},{"$f":"IF(V19=0,0,(V19*((LOG(V19))/LOG(2))))","v":0},null,{"$f":"N19","v":2211},{"$f":"COUNTIF(L35:L61,Y19)","v":0},{"$f":"Z19/(AB4-Z20)","v":0},{"$f":"IF(AA19=0,0,(AA19*((LOG(AA19))/LOG(2))))","v":0},null,{"$f":"N19","v":2211},{"$f":"COUNTIF(L62:L89,AD19)","v":0},{"$f":"AE19/(AG4-AE20)","v":0},{"$f":"IF(AF19=0,0,(AF19*((LOG(AF19))/LOG(2))))","v":0},null,{"$f":"N19","v":2211},{"$f":"COUNTIF(L90:L116,AI19)","v":0},{"$f":"AJ19/(AL4-AJ20)","v":0},{"$f":"IF(AK19=0,0,(AK19*((LOG(AK19))/LOG(2))))","v":0},null,{"$f":"N19","v":2211},{"$f":"COUNTIF(L117:L144,AN19)","v":0},{"$f":"AO19/(AQ4-AO20)","v":0},{"$f":"IF(AP19=0,0,(AP19*((LOG(AP19))/LOG(2))))","v":0},null,{"$f":"N19","v":2211},{"$f":"COUNTIF(L145:L171,AS19)","v":0},{"$f":"AT19/(AV4-AT20)","v":0},{"$f":"IF(AU19=0,0,(AU19*((LOG(AU19))/LOG(2))))","v":0}]
[12,1661,23,1677,24,1683,23,1688,null,null,0,1222,null,2212,{"$f":"COUNTIF($L$7:$L$500,N20)","v":17},{"$f":"O20/$Q$4","v":0.10303030303030303},{"$f":"IF(P20=0,0,(P20*((LOG(P20))/LOG(2))))","v":-0.33782187479347331},null,null,{"$f":"N20","v":2212},{"$f":"COUNTIF(L7:L34,T20)","v":0},null,null,null,{"$f":"N20","v":2212},{"$f":"COUNTIF(L35:L61,Y20)","v":1},null,null,null,{"$f":"N20","v":2212},{"$f":"COUNTIF(L62:L89,AD20)","v":6},null,null,null,{"$f":"N20","v":2212},{"$f":"COUNTIF(L90:L116,AI20)","v":4},null,null,null,{"$f":"N20","v":2212},{"$f":"COUNTIF(L117:L144,AN20)","v":4},null,null,null,{"$f":"N20","v":2212},{"$f":"COUNTIF(L145:L171,AS20)","v":2}]
[21,1787,21,1795,22,1801,23,1808,null,null,0,2222,null,2221,{"$f":"COUNTIF($L$7:$L$500,N21)","v":6},{"$f":"O21/$Q$4","v":3.6363636363636362E-2},{"$f":"IF(P21=0,0,(P21*((LOG(P21))/LOG(2))))","v":-0.17386762594635127},null,null,{"$f":"N21","v":2221},{"$f":"COUNTIF(L7:L34,T21)","v":2},{"$f":"U21/(W4-U20)","v":7.1428571428571425E-2},{"$f":"IF(V21=0,0,(V21*((LOG(V21))/LOG(2))))","v":-0.27195392300411453},null,{"$f":"N21","v":2221},{"$f":"COUNTIF(L35:L61,Y21)","v":1},{"$f":"Z21/(AB4-Z20)","v":3.8461538461538464E-2},{"$f":"IF(AA21=0,0,(AA21*((LOG(AA21))/LOG(2))))","v":-0.18078614300542661},null,{"$f":"N21","v":2221},{"$f":"COUNTIF(L62:L89,AD21)","v":2},{"$f":"AE21/(AG4-AE20)","v":9.0909090909090912E-2},{"$f":"IF(AF21=0,0,(AF21*((LOG(AF21))/LOG(2))))","v":-0.31449378351248153},null,{"$f":"N21","v":2221},{"$f":"COUNTIF(L90:L116,AI21)","v":1},{"$f":"AJ21/(AL4-AJ20)","v":4.3478260869565216E-2},{"$f":"IF(AK21=0,0,(AK21*((LOG(AK21))/LOG(2))))","v":-0.19667660678508753},null,{"$f":"N21","v":2221},{"$f":"COUNTIF(L117:L144,AN21)","v":0},{"$f":"AO21/(AQ4-AO20)","v":0},{"$f":"IF(AP21=0,0,(AP21*((LOG(AP21))/LOG(2))))","v":0},null,{"$f":"N21","v":2221},{"$f":"COUNTIF(L145:L171,AS21)","v":0},{"$f":"AT21/(AV4-AT20)","v":0},{"$f":"IF(AU21=0,0,(AU21*((LOG(AU21))/LOG(2))))","v":0}]
[21,1905,21,1910,22,1915,23,1925,null,null,0,2222,null,2222,{"$f":"COUNTIF($L$7:$L$500,N22)","v":68},{"$f":"O22/$Q$4","v":0.41212121212121211},{"$f":"IF(P22=0,0,(P22*((LOG(P22))/LOG(2))))","v":-0.52704507493146913},null,null,{"$f":"N22","v":2222},{"$f":"COUNTIF(L7:L34,T22)","v":9},{"$f":"U22/(W4-U20)","v":0.32142857142857145},{"$f":"IF(V22=0,0,(V22*((LOG(V22))/LOG(2))))","v":-0.5263167601977724},null,{"$f":"N22","v":2222},{"$f":"COUNTIF(L35:L61,Y22)","v":10},{"$f":"Z22/(AB4-Z20)","v":0.38461538461538464},{"$f":"IF(AA22=0,0,(AA22*((LOG(AA22))/LOG(2))))","v":-0.53019677817451139},null,{"$f":"N22","v":2222},{"$f":"COUNTIF(L62:L89,AD22)","v":14},{"$f":"AE22/(AG4-AE20)","v":0.63636363636363635},{"$f":"IF(AF22=0,0,(AF22*((LOG(AF22))/LOG(2))))","v":-0.41495789782344106},null,{"$f":"N22","v":2222},{"$f":"COUNTIF(L90:L116,AI22)","v":12},{"$f":"AJ22/(AL4-AJ20)","v":0.52173913043478259},{"$f":"IF(AK22=0,0,(AK22*((LOG(AK22))/LOG(2))))","v":-0.48970406365349045},null,{"$f":"N22","v":2222},{"$f":"COUNTIF(L117:L144,AN22)","v":10},{"$f":"AO22/(AQ4-AO20)","v":0.41666666666666669},{"$f":"IF(AP22=0,0,(AP22*((LOG(AP22))/LOG(2))))","v":-0.52626433576408083},null,{"$f":"N22","v":2222},{"$f":"COUNTIF(L145:L171,AS22)","v":13},{"$f":"AT22/(AV4-AT20)","v":0.52},{"$f":"IF(AU22=0,0,(AU22*((LOG(AU22))/LOG(2))))","v":-0.49057656524948895}]
[21,2031,12,2035,24,2039,23,2047,null,null,0,2122,null,null,null,{"$f":"SUM(P7:P22)","v":1},{"$f":"-SUM(Q7:Q22)","v":2.3879166975423924},null,null,null,null,{"$f":"SUM(V7:V22)","v":1},{"$f":"-SUM(W7:W22)","v":2.3023918689355458},null,null,null,{"$f":"SUM(AA7:AA22)","v":1},{"$f":"-SUM(AB7:AB22)","v":1.8789687013606595},null,null,null,{"$f":"SUM(AF7:AF22)","v":1},{"$f":"-SUM(AG7:AG22)","v":1.7638421227824579},null,null,null,{"$f":"SUM(AK7:AK22)","v":1},{"$f":"-SUM(AL7:AL22)","v":1.7720744553985659},null,null,null,{"$f":"SUM(AP7:AP22)","v":1},{"$f":"-SUM(AQ7:AQ22)","v":1.9875168162362657},null,null,null,{"$f":"SUM(AU7:AU22)","v":1},{"$f":"-SUM(AV7:AV22)","v":1.6796275363413566}]
[21,2150,21,2155,22,2162,23,2168,null,null,0,2222,null,null,null,"U=",{"$f":"Q23/(LOG(Q4)/LOG(2))","v":0.32416674537048795},null,null,null,null,"U1=",{"$f":"W23/(LOG(W4)/LOG(2))","v":0.47893111831029428},null,null,null,"U2=",{"$f":"AB23/(LOG(AB4)/LOG(2))","v":0.39516575323932079},null,null,null,"U3=",{"$f":"AG23/(LOG(AG4)/LOG(2))","v":0.36690490953547339},null,null,null,"U4=",{"$f":"AL23/(LOG(AL4)/LOG(2))","v":0.37268483315163065},null,null,null,"U5=",{"$f":"AQ23/(LOG(AQ4)/LOG(2))","v":0.41343251090468386},null,null,null,"U6=",{"$f":"AV23/(LOG(AV4)/LOG(2))","v":0.35324232919856213}]
[12,2261,23,2271,13,2276,23,2283,null,null,0,1212]
[21,2393,21,2399,22,2406,23,2418,null,null,0,2222]
[21,2519,21,2524,22,2528,23,2534,null,null,0,2222,null,"Total Target Seq"]
[21,2631,21,2638,22,2646,23,2653,null,null,0,2222,null,{"$f":"COUNTIF(L7:L171,G3)","v":17},null,28,27,28,27,28,27]
[12,2755,23,2760,24,2765,23,2769,null,null,0,1222,null,null,null,"% of reinforcement given in 6 equal intervals based on number of trials "]
[21,2864,21,2868,22,2872,14,2875,null,null,0,2221,null,null,null,"%_1","%_2","%_3","%_4","%_5","%_6"]
[12,2974,23,2981,13,2990,23,2998,null,null,0,1212,null,null,"target sequence",{"$f":"$G$3","v":2212},{"$f":"$G$3","v":2212},{"$f":"$G$3","v":2212},{"$f":"$G$3","v":2212},{"$f":"$G$3","v":2212},{"$f":"$G$3","v":2212}]
[12,3095,23,3097,24,3104,23,3108,null,null,0,1222,null,null,"total reinforcement",{"$f":"U20","v":0},{"$f":"Z20","v":1},{"$f":"AE20","v":6},{"$f":"AJ20","v":4},{"$f":"AO20","v":4},{"$f":"AT20","v":2}]
[21,3205,12,3207,24,3211,23,3217,null,null,0,2122,null,null,"% target"]
[21,3312,21,3317,22,3323,23,3329,null,null,0,2222,null,null,"CCRF"]
[21,3427,21,3434,22,3439,23,3447,null,null,0,2222,null,null,"% CCRf"]
[21,3545,21,3558,22,3564,14,3568,null,null,0,2221,null,null,"average response rate",{"$f":"H34/P28","v":118.89285714285714},{"$f":"(H61-H34)/Q28","v":134.37037037037038},{"$f":"(H89-H61)/R28","v":191.60714285714286},{"$f":"(H116-H89)/S28","v":159.18518518518519},{"$f":"(H144-H116)/T28","v":138.32142857142858},{"$f":"(H171-H144)/U28","v":129.7037037037037}]
[21,3664,21,3668,22,3673,23,3681,null,null,0,2222]
[21,3777,21,3784,22,3790,23,3797,null,null,0,2222]
[12,3889,14,3891,24,3904,23,3910,null,null,0,1122]
[12,4005,23,4016,24,4020,23,4025,null,null,0,1222]
[21,4127,21,4131,22,4138,23,4144,null,null,0,2222]
[21,4303,21,4308,22,4314,23,4319,null,null,0,2222]
[12,4427,23,4431,24,4436,23,4442,null,null,0,1222]
[12,4941,23,4949,24,4953,23,4955,null,null,0,1222]
[12,5049,23,5060,24,5066,23,5073,null,null,0,1222]
[12,5176,23,5181,24,5187,23,5195,null,null,0,1222]
[21,5296,21,5301,11,5305,21,5313,null,null,0,2212]
[21,5450,21,5457,22,5463,23,5470,null,null,0,2222]
[12,5565,23,5568,24,5577,23,5583,null,null,0,1222]
[21,5676,12,5678,24,5680,23,5687,null,null,0,2122]
[21,5789,21,5798,22,5804,23,5811,null,null,0,2222]
[21,5913,21,5917,22,5922,23,5928,null,null,0,2222]
[21,6024,12,6027,24,6028,23,6033,null,null,0,2122]
[21,6135,21,6140,22,6145,23,6151,null,null,0,2222]
[12,6244,23,6246,24,6250,23,6256,null,null,0,1222]
[21,6359,12,6365,24,6367,23,6373,null,null,0,2122]
[21,6468,12,6470,24,6475,23,6480,null,null,0,2122]
[21,6575,12,6598,24,6602,23,6609,null,null,0,2122]
[21,6702,21,6709,22,6716,23,6725,null,null,0,2222]
[12,6819,23,6831,24,6836,23,6842,null,null,0,1222]
[12,6935,23,6942,24,6950,23,6957,null,null,0,1222]
[21,7059,21,7064,22,7072,14,7076,null,null,0,2221]
[21,7174,21,7178,22,7184,23,7190,null,null,0,2222]
[21,7287,21,7294,22,7299,23,7306,null,null,0,2222]
[12,7399,23,7410,24,7415,23,7420,null,null,0,1222]
[12,7515,23,7518,24,7528,23,7533,null,null,0,1222]
[21,7630,21,7634,11,7640,21,7644,null,null,0,2212]
[21,8121,21,8127,22,8137,23,8144,null,null,0,2222]
[21,8278,21,8291,22,8296,23,8303,null,null,0,2222]
[21,8400,12,8403,24,8409,23,8415,null,null,0,2122]
[21,8506,12,8511,24,8513,23,8517,null,null,0,2122]
[21,8612,21,8615,11,8617,21,8621,null,null,0,2212]
[21,9068,21,9088,22,9095,23,9101,null,null,0,2222]
[21,9198,21,9202,22,9213,23,9226,null,null,0,2222]
[21,9321,21,9326,11,9330,21,9332,null,null,0,2212]
[21,9592,21,9612,22,9619,23,9629,null,null,0,2222]
[21,9813,21,9825,11,9841,21,9854,null,null,0,2212]
[21,10366,21,10371,22,10375,23,10381,null,null,0,2222]
[21,10510,21,10516,22,10522,23,10541,null,null,0,2222]
[21,10636,21,10642,22,10648,23,10654,null,null,0,2222]
[12,10750,23,10758,24,10762,14,10767,null,null,0,1221]
[21,10864,21,10870,22,10878,14,10884,null,null,0,2221]
[21,10976,21,10982,11,10988,21,10989,null,null,0,2212]
[21,11489,21,11493,22,11504,23,11510,null,null,0,2222]
[21,11613,21,11619,22,11627,23,11636,null,null,0,2222]
[21,11730,21,11736,22,11744,23,11757,null,null,0,2222]
[21,11850,21,11855,22,11862,23,11867,null,null,0,2222]
[21,11964,21,11969,11,11971,21,11975,null,null,0,2212]
[12,12293,23,12310,13,12320,23,12322,null,null,0,1212]
[12,12453,23,12465,13,12476,23,12489,null,null,0,1212]
[21,12581,21,12583,22,12589,23,12595,null,null,0,2222]
[21,12696,21,12701,22,12705,23,12717,null,null,0,2222]
[21,12809,21,12815,22,12822,23,12828,null,null,0,2222]
[21,12920,21,12924,22,12931,23,12940,null,null,0,2222]
[21,13038,21,13042,22,13048,23,13054,null,null,0,2222]
[21,13151,21,13154,11,13156,21,13160,null,null,0,2212]
[12,13436,23,13445,24,13456,23,13463,null,null,0,1222]
[21,13622,21,13626,22,13633,23,13640,null,null,0,2222]
[21,13738,21,13744,22,13752,23,13760,null,null,0,2222]
[21,13854,21,13860,11,13863,21,13866,null,null,0,2212]
[12,14302,23,14312,24,14319,23,14336,null,null,0,1222]
[21,14430,21,14436,22,14444,23,14451,null,null,0,2222]
[21,14546,21,14550,22,14555,23,14560,null,null,0,2222]
[21,14652,21,14657,22,14665,23,14675,null,null,0,2222]
[21,14771,21,14776,22,14783,23,14789,null,null,0,2222]
[12,14889,23,14901,24,14907,23,14912,null,null,0,1222]
[12,15005,23,15007,24,15013,23,15020,null,null,0,1222]
[12,15112,23,15116,24,15121,23,15129,null,null,0,1222]
[21,15224,21,15228,11,15232,21,15234,null,null,0,2212]
[12,15669,23,15678,24,15683,23,15687,null,null,0,1222]
[21,15788,21,15796,11,15799,21,15801,null,null,0,2212]
[21,16129,21,16142,22,16153,23,16160,null,null,0,2222]
[21,16272,12,16274,24,16280,23,16285,null,null,0,2122]
[21,16378,12,16383,24,16385,23,16392,null,null,0,2122]
[21,16487,21,16493,22,16500,14,16505,null,null,0,2221]
[21,16600,12,16604,24,16612,23,16620,null,null,0,2122]
[21,16715,21,16722,22,16728,23,16734,null,null,0,2222]
[21,16832,21,16835,11,16837,21,16841,null,null,0,2212]
[12,17065,23,17074,24,17079,23,17088,null,null,0,1222]
[12,17180,23,17191,24,17202,23,17210,null,null,0,1222]
[21,17314,21,17320,22,17325,23,17330,null,null,0,2222]
[21,17425,21,17429,22,17435,23,17442,null,null,0,2222]
[21,17535,12,17537,24,17540,23,17547,null,null,0,2122]
[21,17639,12,17644,24,17647,23,17653,null,null,0,2122]
[21,17748,21,17753,22,17761,23,17767,null,null,0,2222]
[12,17861,23,17878,24,17882,23,17887,null,null,0,1222]
[21,17984,21,17989,22,17993,23,17999,null,null,0,2222]
[12,18094,14,18101,24,18103,23,18110,null,null,0,1122]
[21,18202,21,18207,22,18214,23,18223,null,null,0,2222]
[12,18316,23,18321,24,18327,23,18333,null,null,0,1222]
[21,18428,21,18434,22,18440,23,18448,null,null,0,2222]
[21,18540,21,18545,11,18549,21,18552,null,null,0,2212]
[12,18870,23,18879,24,18889,23,18894,null,null,0,1222]
[21,18999,12,19004,24,19006,23,19015,null,null,0,2122]
[21,19114,12,19119,24,19123,23,19129,null,null,0,2122]
[21,19222,12,19223,24,19227,23,19234,null,null,0,2122]
[21,19329,21,19336,22,19345,23,19351,null,null,0,2222]
[21,19443,21,19446,11,19448,21,19452,null,null,0,2212]
[12,19864,14,19867,24,19878,23,19882,null,null,0,1122]
[12,20002,23,20013,24,20022,23,20029,null,null,0,1222]
[12,20127,14,20142,24,20151,14,20155,null,null,0,1121]
[21,20250,21,20253,22,20261,23,20269,null,null,0,2222]
[21,20369,21,20375,22,20381,23,20389,null,null,0,2222]
[21,20483,21,20487,11,20489,21,20493,null,null,0,2212]
[12,20758,23,20769,24,20780,23,20785,null,null,0,1222]
[12,20934,23,20945,24,20950,23,20958,null,null,0,1222]
[21,21061,21,21069,22,21075,23,21082,null,null,0,2222]
[21,21178,12,21181,24,21184,23,21189,null,null,0,2122]
[21,21281,21,21284,11,21287,21,21289,null,null,0,2212]
[12,21566,23,21579,24,21583,23,21591,null,null,0,1222]
[21,21685,21,21690,22,21705,23,21712,null,null,0,2222]
[21,21806,12,21809,24,21815,23,21821,null,null,0,2122]
[21,21918,21,21923,22,21928,23,21934,null,null,0,2222]
[12,22027,23,22030,24,22035,23,22044,null,null,0,1222]
[21,22140,21,22147,22,22153,23,22161,null,null,0,2222]
[12,22254,23,22263,24,22268,23,22273,null,null,0,1222]
[21,22380,21,22383,22,22389,23,22395,null,null,0,2222]
[21,22495,21,22499,22,22506,23,22512,null,null,0,2222]
[21,22606,21,22611,22,22617,23,22623,null,null,0,2222]
[12,22716,23,22718,24,22725,23,22730,null,null,0,1222]
[21,22825,21,22832,22,22838,23,22845,null,null,0,2222]
[21,22940,21,22945,22,22952,23,22957,null,null,0,2222]
[21,23056,21,23062,22,23069,23,23075,null,null,0,2222]
[21,23174,21,23180,22,23186,23,23192,null,null,0,2222]
[12,23284,14,23290,24,23296,23,23301,null,null,0,1122]
[12,23395,23,23397,24,23403,23,23410,null,null,0,1222]
[21,23504,21,23511,22,23517,23,23523,null,null,0,2222]
[21,23618,21,23625,22,23634,23,23640,null,null,0,2222]
[12,23733,23,23744,24,23748,23,23752,null,null,0,1222]
[12,23858,23,23867,24,23871,14,23873,null,null,0,1221]
[21,23974,21,23978,11,23987,21,23995,null,null,1,2212]

{"sheet":"!M629A20.Gus","index":10,"n_rows":170,"n_cols":48,"rows_kept":170,"cut":false,"hidden":false,"merged":[[4,39,4,42],[5,39,5,40],[4,44,4,47],[5,44,5,45],[4,24,4,27],[5,24,5,25],[4,29,4,32],[5,29,5,30],[4,34,4,37],[5,34,5,35],[1,1,1,2],[5,13,5,14],[26,13,26,14],[27,13,27,14],[4,19,4,22],[5,19,5,20]]}
["Report for:!M629A20.Gus"]
["Date:","<date>"]
["Hen:","<hen>",null,null,null,"Correct Sequence",{"$f":"Start!J2","v":2212},null,null,null,null,null,null,null,null,"Total Sequences in Data",{"$f":"4994-COUNTBLANK(L7:L5000)","v":164},null,null,null,null,"Total Sequences in Block Data",{"$f":"COUNTA(L7:L33)","v":27},null,null,null,"Total Sequences in Block Data",{"$f":"COUNTA(L34:L61)","v":28},null,null,null,"Total Sequences in Block Data",{"$f":"COUNTA(L62:L88)","v":27},null,null,null,"Total Sequences in Block Data",{"$f":"COUNTA(L89:L115)","v":27},null,null,null,"Total Sequences in Block Data",{"$f":"COUNTA(L116:L143)","v":28},null,null,null,"Total Sequences in Block Data",{"$f":"COUNTA(L144:L170)","v":27}]
[null,null,null,null,null,null,null,null,null,null,null,null,null,null,null,"Total Sequences in Summary",{"$f":"SUM(O7:O22)","v":164},null,null,null,null,"Total Sequences in Block Summary",{"$f":"SUM(U7:U22)","v":27},null,null,null,"Total Sequences in Block Summary",{"$f":"SUM(Z7:Z22)","v":28},null,null,null,"Total Sequences in Block Summary",{"$f":"SUM(AE7:AE22)","v":27},null,null,null,"Total Sequences in Block Summary",{"$f":"SUM(AJ7:AJ22)","v":27},null,null,null,"Total Sequences in Block Summary",{"$f":"SUM(AO7:AO22)","v":28},null,null,null,"Total Sequences in Block Summary",{"$f":"SUM(AT7:AT22)","v":27}]
[null,null,null,null,null,null,null,null,null,null,null,null,null,null,null,null,null,null,null,"Block 1",null,null,null,null,"Block 2",null,null,null,null,"Block 3",null,null,null,null,"Block 4",null,null,null,null,"Block 5",null,null,null,null,"Block 6"]
["Sequence\nComponent\n1","Time\n1","Sequence\nComponent\n2","Time\n2","Sequence\nComponent\n3","Time\n3","Sequence\nComponent\n4","Time\n4","Sequence\nComponent\n5","Time\n5","Correct?\n0=No 1=Yes","Sequence",null,"Frequency",null,"Relative Frequency","Variability",null,null,"Frequency",null,"Relative Frequency","Variability",null,"Frequency",null,"Relative Frequency","Variability",null,"Frequency",null,"Relative Frequency","Variability",null,"Frequency",null,"Relative Frequency","Variability",null,"Frequency",null,"Relative Frequency","Variability",null,"Frequency",null,"Relative Frequency","Variability"]
[21,44,21,52,22,60,23,67,null,null,0,2222,null,1111,{"$f":"COUNTIF($L$7:$L$500,N7)","v":0},{"$f":"O7/$Q$4","v":0},{"$f":"IF(P7=0,0,(P7*((LOG(P7))/LOG(2))))","v":0},null,null,{"$f":"N7","v":1111},{"$f":"COUNTIF(L7:L33,T7)","v":0},{"$f":"U7/(W4-U20)","v":0},{"$f":"IF(V7=0,0,(V7*((LOG(V7))/LOG(2))))","v":0},null,{"$f":"N7","v":1111},{"$f":"COUNTIF(L34:L61,Y7)","v":0},{"$f":"Z7/(AB4-Z20)","v":0},{"$f":"IF(AA7=0,0,(AA7*((LOG(AA7))/LOG(2))))","v":0},null,{"$f":"N7","v":1111},{"$f":"COUNTIF(L62:L88,AD7)","v":0},{"$f":"AE7/(AG4-AE20)","v":0},{"$f":"IF(AF7=0,0,(AF7*((LOG(AF7))/LOG(2))))","v":0},null,{"$f":"N7","v":1111},{"$f":"COUNTIF(L89:L115,AI7)","v":0},{"$f":"AJ7/(AL4-AJ20)","v":0},{"$f":"IF(AK7=0,0,(AK7*((LOG(AK7))/LOG(2))))","v":0},null,{"$f":"N7","v":1111},{"$f":"COUNTIF(L116:L143,AN7)","v":0},{"$f":"AO7/(AQ4-AO20)","v":0},{"$f":"IF(AP7=0,0,(AP7*((LOG(AP7))/LOG(2))))","v":0},null,{"$f":"N7","v":1111},{"$f":"COUNTIF(L144:L170,AS7)","v":0},{"$f":"AT7/(AV4-AT20)","v":0},{"$f":"IF(AU7=0,0,(AU7*((LOG(AU7))/LOG(2))))","v":0}]
[21,221,21,227,22,234,23,240,null,null,0,2222,null,1112,{"$f":"COUNTIF($L$7:$L$500,N8)","v":1},{"$f":"O8/$Q$4","v":6.0975609756097563E-3},{"$f":"IF(P8=0,0,(P8*((LOG(P8))/LOG(2))))","v":-4.4863121979378563E-2},null,null,{"$f":"N8","v":1112},{"$f":"COUNTIF(L7:L33,T8)","v":1},{"$f":"U8/(W4-U20)","v":3.8461538461538464E-2},{"$f":"IF(V8=0,0,(V8*((LOG(V8))/LOG(2))))","v":-0.18078614300542661},null,{"$f":"N8","v":1112},{"$f":"COUNTIF(L34:L61,Y8)","v":0},{"$f":"Z8/(AB4-Z20)","v":0},{"$f":"IF(AA8=0,0,(AA8*((LOG(AA8))/LOG(2))))","v":0},null,{"$f":"N8","v":1112},{"$f":"COUNTIF(L62:L88,AD8)","v":0},{"$f":"AE8/(AG4-AE20)","v":0},{"$f":"IF(AF8=0,0,(AF8*((LOG(AF8))/LOG(2))))","v":0},null,{"$f":"N8","v":1112},{"$f":"COUNTIF(L89:L115,AI8)","v":0},{"$f":"AJ8/(AL4-AJ20)","v":0},{"$f":"IF(AK8=0,0,(AK8*((LOG(AK8))/LOG(2))))","v":0},null,{"$f":"N8","v":1112},{"$f":"COUNTIF(L116:L143,AN8)","v":0},{"$f":"AO8/(AQ4-AO20)","v":0},{"$f":"IF(AP8=0,0,(AP8*((LOG(AP8))/LOG(2))))","v":0},null,{"$f":"N8","v":1112},{"$f":"COUNTIF(L144:L170,AS8)","v":0},{"$f":"AT8/(AV4-AT20)","v":0},{"$f":"IF(AU8=0,0,(AU8*((LOG(AU8))/LOG(2))))","v":0}]
[12,336,23,341,24,344,23,351,null,null,0,1222,null,1121,{"$f":"COUNTIF($L$7:$L$500,N9)","v":1},{"$f":"O9/$Q$4","v":6.0975609756097563E-3},{"$f":"IF(P9=0,0,(P9*((LOG(P9))/LOG(2))))","v":-4.4863121979378563E-2},null,null,{"$f":"N9","v":1121},{"$f":"COUNTIF(L7:L33,T9)","v":1},{"$f":"U9/(W4-U20)","v":3.8461538461538464E-2},{"$f":"IF(V9=0,0,(V9*((LOG(V9))/LOG(2))))","v":-0.18078614300542661},null,{"$f":"N9","v":1121},{"$f":"COUNTIF(L34:L61,Y9)","v":0},{"$f":"Z9/(AB4-Z20)","v":0},{"$f":"IF(AA9=0,0,(AA9*((LOG(AA9))/LOG(2))))","v":0},null,{"$f":"N9","v":1121},{"$f":"COUNTIF(L62:L88,AD9)","v":0},{"$f":"AE9/(AG4-AE20)","v":0},{"$f":"IF(AF9=0,0,(AF9*((LOG(AF9))/LOG(2))))","v":0},null,{"$f":"N9","v":1121},{"$f":"COUNTIF(L89:L115,AI9)","v":0},{"$f":"AJ9/(AL4-AJ20)","v":0},{"$f":"IF(AK9=0,0,(AK9*((LOG(AK9))/LOG(2))))","v":0},null,{"$f":"N9","v":1121},{"$f":"COUNTIF(L116:L143,AN9)","v":0},{"$f":"AO9/(AQ4-AO20)","v":0},{"$f":"IF(AP9=0,0,(AP9*((LOG(AP9))/LOG(2))))","v":0},null,{"$f":"N9","v":1121},{"$f":"COUNTIF(L144:L170,AS9)","v":0},{"$f":"AT9/(AV4-AT20)","v":0},{"$f":"IF(AU9=0,0,(AU9*((LOG(AU9))/LOG(2))))","v":0}]
[21,443,21,446,22,449,23,454,null,null,0,2222,null,1122,{"$f":"COUNTIF($L$7:$L$500,N10)","v":5},{"$f":"O10/$Q$4","v":3.048780487804878E-2},{"$f":"IF(P10=0,0,(P10*((LOG(P10))/LOG(2))))","v":-0.15352511919910736},null,null,{"$f":"N10","v":1122},{"$f":"COUNTIF(L7:L33,T10)","v":3},{"$f":"U10/(W4-U20)","v":0.11538461538461539},{"$f":"IF(V10=0,0,(V10*((LOG(V10))/LOG(2))))","v":-0.35947814047153104},null,{"$f":"N10","v":1122},{"$f":"COUNTIF(L34:L61,Y10)","v":0},{"$f":"Z10/(AB4-Z20)","v":0},{"$f":"IF(AA10=0,0,(AA10*((LOG(AA10))/LOG(2))))","v":0},null,{"$f":"N10","v":1122},{"$f":"COUNTIF(L62:L88,AD10)","v":0},{"$f":"AE10/(AG4-AE20)","v":0},{"$f":"IF(AF10=0,0,(AF10*((LOG(AF10))/LOG(2))))","v":0},null,{"$f":"N10","v":1122},{"$f":"COUNTIF(L89:L115,AI10)","v":0},{"$f":"AJ10/(AL4-AJ20)","v":0},{"$f":"IF(AK10=0,0,(AK10*((LOG(AK10))/LOG(2))))","v":0},null,{"$f":"N10","v":1122},{"$f":"COUNTIF(L116:L143,AN10)","v":0},{"$f":"AO10/(AQ4-AO20)","v":0},{"$f":"IF(AP10=0,0,(AP10*((LOG(AP10))/LOG(2))))","v":0},null,{"$f":"N10","v":1122},{"$f":"COUNTIF(L144:L170,AS10)","v":2},{"$f":"AT10/(AV4-AT20)","v":9.0909090909090912E-2},{"$f":"IF(AU10=0,0,(AU10*((LOG(AU10))/LOG(2))))","v":-0.31449378351248153}]
[12,550,23,561,24,569,23,575,null,null,0,1222,null,1211,{"$f":"COUNTIF($L$7:$L$500,N11)","v":1},{"$f":"O11/$Q$4","v":6.0975609756097563E-3},{"$f":"IF(P11=0,0,(P11*((LOG(P11))/LOG(2))))","v":-4.4863121979378563E-2},null,null,{"$f":"N11","v":1211},{"$f":"COUNTIF(L7:L33,T11)","v":0},{"$f":"U11/(W4-U20)","v":0},{"$f":"IF(V11=0,0,(V11*((LOG(V11))/LOG(2))))","v":0},null,{"$f":"N11","v":1211},{"$f":"COUNTIF(L34:L61,Y11)","v":0},{"$f":"Z11/(AB4-Z20)","v":0},{"$f":"IF(AA11=0,0,(AA11*((LOG(AA11))/LOG(2))))","v":0},null,{"$f":"N11","v":1211},{"$f":"COUNTIF(L62:L88,AD11)","v":0},{"$f":"AE11/(AG4-AE20)","v":0},{"$f":"IF(AF11=0,0,(AF11*((LOG(AF11))/LOG(2))))","v":0},null,{"$f":"N11","v":1211},{"$f":"COUNTIF(L89:L115,AI11)","v":0},{"$f":"AJ11/(AL4-AJ20)","v":0},{"$f":"IF(AK11=0,0,(AK11*((LOG(AK11))/LOG(2))))","v":0},null,{"$f":"N11","v":1211},{"$f":"COUNTIF(L116:L143,AN11)","v":1},{"$f":"AO11/(AQ4-AO20)","v":0.04},{"$f":"IF(AP11=0,0,(AP11*((LOG(AP11))/LOG(2))))","v":-0.18575424759098899},null,{"$f":"N11","v":1211},{"$f":"COUNTIF(L144:L170,AS11)","v":0},{"$f":"AT11/(AV4-AT20)","v":0},{"$f":"IF(AU11=0,0,(AU11*((LOG(AU11))/LOG(2))))","v":0}]
[21,673,21,679,22,684,23,691,null,null,0,2222,null,1212,{"$f":"COUNTIF($L$7:$L$500,N12)","v":2},{"$f":"O12/$Q$4","v":1.2195121951219513E-2},{"$f":"IF(P12=0,0,(P12*((LOG(P12))/LOG(2))))","v":-7.7531122007537603E-2},null,null,{"$f":"N12","v":1212},{"$f":"COUNTIF(L7:L33,T12)","v":0},{"$f":"U12/(W4-U20)","v":0},{"$f":"IF(V12=0,0,(V12*((LOG(V12))/LOG(2))))","v":0},null,{"$f":"N12","v":1212},{"$f":"COUNTIF(L34:L61,Y12)","v":0},{"$f":"Z12/(AB4-Z20)","v":0},{"$f":"IF(AA12=0,0,(AA12*((LOG(AA12))/LOG(2))))","v":0},null,{"$f":"N12","v":1212},{"$f":"COUNTIF(L62:L88,AD12)","v":0},{"$f":"AE12/(AG4-AE20)","v":0},{"$f":"IF(AF12=0,0,(AF12*((LOG(AF12))/LOG(2))))","v":0},null,{"$f":"N12","v":1212},{"$f":"COUNTIF(L89:L115,AI12)","v":1},{"$f":"AJ12/(AL4-AJ20)","v":4.7619047619047616E-2},{"$f":"IF(AK12=0,0,(AK12*((LOG(AK12))/LOG(2))))","v":-0.20915797251327431},null,{"$f":"N12","v":1212},{"$f":"COUNTIF(L116:L143,AN12)","v":0},{"$f":"AO12/(AQ4-AO20)","v":0},{"$f":"IF(AP12=0,0,(AP12*((LOG(AP12))/LOG(2))))","v":0},null,{"$f":"N12","v":1212},{"$f":"COUNTIF(L144:L170,AS12)","v":1},{"$f":"AT12/(AV4-AT20)","v":4.5454545454545456E-2},{"$f":"IF(AU12=0,0,(AU12*((LOG(AU12))/LOG(2))))","v":-0.20270143721078623}]
[21,798,21,805,22,812,23,818,null,null,0,2222,null,1221,{"$f":"COUNTIF($L$7:$L$500,N13)","v":5},{"$f":"O13/$Q$4","v":3.048780487804878E-2},{"$f":"IF(P13=0,0,(P13*((LOG(P13))/LOG(2))))","v":-0.15352511919910736},null,null,{"$f":"N13","v":1221},{"$f":"COUNTIF(L7:L33,T13)","v":1},{"$f":"U13/(W4-U20)","v":3.8461538461538464E-2},{"$f":"IF(V13=0,0,(V13*((LOG(V13))/LOG(2))))","v":-0.18078614300542661},null,{"$f":"N13","v":1221},{"$f":"COUNTIF(L34:L61,Y13)","v":0},{"$f":"Z13/(AB4-Z20)","v":0},{"$f":"IF(AA13=0,0,(AA13*((LOG(AA13))/LOG(2))))","v":0},null,{"$f":"N13","v":1221},{"$f":"COUNTIF(L62:L88,AD13)","v":3},{"$f":"AE13/(AG4-AE20)","v":0.13636363636363635},{"$f":"IF(AF13=0,0,(AF13*((LOG(AF13))/LOG(2))))","v":-0.39197306153401923},null,{"$f":"N13","v":1221},{"$f":"COUNTIF(L89:L115,AI13)","v":1},{"$f":"AJ13/(AL4-AJ20)","v":4.7619047619047616E-2},{"$f":"IF(AK13=0,0,(AK13*((LOG(AK13))/LOG(2))))","v":-0.20915797251327431},null,{"$f":"N13","v":1221},{"$f":"COUNTIF(L116:L143,AN13)","v":0},{"$f":"AO13/(AQ4-AO20)","v":0},{"$f":"IF(AP13=0,0,(AP13*((LOG(AP13))/LOG(2))))","v":0},null,{"$f":"N13","v":1221},{"$f":"COUNTIF(L144:L170,AS13)","v":0},{"$f":"AT13/(AV4-AT20)","v":0},{"$f":"IF(AU13=0,0,(AU13*((LOG(AU13))/LOG(2))))","v":0}]
[12,921,14,923,24,927,14,935,null,null,0,1121,null,1222,{"$f":"COUNTIF($L$7:$L$500,N14)","v":33},{"$f":"O14/$Q$4","v":0.20121951219512196},{"$f":"IF(P14=0,0,(P14*((LOG(P14))/LOG(2))))","v":-0.46545250130224264},null,null,{"$f":"N14","v":1222},{"$f":"COUNTIF(L7:L33,T14)","v":4},{"$f":"U14/(W4-U20)","v":0.15384615384615385},{"$f":"IF(V14=0,0,(V14*((LOG(V14))/LOG(2))))","v":-0.4154522643293988},null,{"$f":"N14","v":1222},{"$f":"COUNTIF(L34:L61,Y14)","v":10},{"$f":"Z14/(AB4-Z20)","v":0.4},{"$f":"IF(AA14=0,0,(AA14*((LOG(AA14))/LOG(2))))","v":-0.52877123795494496},null,{"$f":"N14","v":1222},{"$f":"COUNTIF(L62:L88,AD14)","v":2},{"$f":"AE14/(AG4-AE20)","v":9.0909090909090912E-2},{"$f":"IF(AF14=0,0,(AF14*((LOG(AF14))/LOG(2))))","v":-0.31449378351248153},null,{"$f":"N14","v":1222},{"$f":"COUNTIF(L89:L115,AI14)","v":5},{"$f":"AJ14/(AL4-AJ20)","v":0.23809523809523808},{"$f":"IF(AK14=0,0,(AK14*((LOG(AK14))/LOG(2))))","v":-0.49294983997414238},null,{"$f":"N14","v":1222},{"$f":"COUNTIF(L116:L143,AN14)","v":8},{"$f":"AO14/(AQ4-AO20)","v":0.32},{"$f":"IF(AP14=0,0,(AP14*((LOG(AP14))/LOG(2))))","v":-0.52603398072791185},null,{"$f":"N14","v":1222},{"$f":"COUNTIF(L144:L170,AS14)","v":4},{"$f":"AT14/(AV4-AT20)","v":0.18181818181818182},{"$f":"IF(AU14=0,0,(AU14*((LOG(AU14))/LOG(2))))","v":-0.44716938520678134}]
[21,1040,21,1042,22,1047,23,1060,null,null,0,2222,null,2111,{"$f":"COUNTIF($L$7:$L$500,N15)","v":0},{"$f":"O15/$Q$4","v":0},{"$f":"IF(P15=0,0,(P15*((LOG(P15))/LOG(2))))","v":0},null,null,{"$f":"N15","v":2111},{"$f":"COUNTIF(L7:L33,T15)","v":0},{"$f":"U15/(W4-U20)","v":0},{"$f":"IF(V15=0,0,(V15*((LOG(V15))/LOG(2))))","v":0},null,{"$f":"N15","v":2111},{"$f":"COUNTIF(L34:L61,Y15)","v":0},{"$f":"Z15/(AB4-Z20)","v":0},{"$f":"IF(AA15=0,0,(AA15*((LOG(AA15))/LOG(2))))","v":0},null,{"$f":"N15","v":2111},{"$f":"COUNTIF(L62:L88,AD15)","v":0},{"$f":"AE15/(AG4-AE20)","v":0},{"$f":"IF(AF15=0,0,(AF15*((LOG(AF15))/LOG(2))))","v":0},null,{"$f":"N15","v":2111},{"$f":"COUNTIF(L89:L115,AI15)","v":0},{"$f":"AJ15/(AL4-AJ20)","v":0},{"$f":"IF(AK15=0,0,(AK15*((LOG(AK15))/LOG(2))))","v":0},null,{"$f":"N15","v":2111},{"$f":"COUNTIF(L116:L143,AN15)","v":0},{"$f":"AO15/(AQ4-AO20)","v":0},{"$f":"IF(AP15=0,0,(AP15*((LOG(AP15))/LOG(2))))","v":0},null,{"$f":"N15","v":2111},{"$f":"COUNTIF(L144:L170,AS15)","v":0},{"$f":"AT15/(AV4-AT20)","v":0},{"$f":"IF(AU15=0,0,(AU15*((LOG(AU15))/LOG(2))))","v":0}]
[21,1153,21,1155,22,1160,23,1167,null,null,0,2222,null,2112,{"$f":"COUNTIF($L$7:$L$500,N16)","v":0},{"$f":"O16/$Q$4","v":0},{"$f":"IF(P16=0,0,(P16*((LOG(P16))/LOG(2))))","v":0},null,null,{"$f":"N16","v":2112},{"$f":"COUNTIF(L7:L33,T16)","v":0},{"$f":"U16/(W4-U20)","v":0},{"$f":"IF(V16=0,0,(V16*((LOG(V16))/LOG(2))))","v":0},null,{"$f":"N16","v":2112},{"$f":"COUNTIF(L34:L61,Y16)","v":0},{"$f":"Z16/(AB4-Z20)","v":0},{"$f":"IF(AA16=0,0,(AA16*((LOG(AA16))/LOG(2))))","v":0},null,{"$f":"N16","v":2112},{"$f":"COUNTIF(L62:L88,AD16)","v":0},{"$f":"AE16/(AG4-AE20)","v":0},{"$f":"IF(AF16=0,0,(AF16*((LOG(AF16))/LOG(2))))","v":0},null,{"$f":"N16","v":2112},{"$f":"COUNTIF(L89:L115,AI16)","v":0},{"$f":"AJ16/(AL4-AJ20)","v":0},{"$f":"IF(AK16=0,0,(AK16*((LOG(AK16))/LOG(2))))","v":0},null,{"$f":"N16","v":2112},{"$f":"COUNTIF(L116:L143,AN16)","v":0},{"$f":"AO16/(AQ4-AO20)","v":0},{"$f":"IF(AP16=0,0,(AP16*((LOG(AP16))/LOG(2))))","v":0},null,{"$f":"N16","v":2112},{"$f":"COUNTIF(L144:L170,AS16)","v":0},{"$f":"AT16/(AV4-AT20)","v":0},{"$f":"IF(AU16=0,0,(AU16*((LOG(AU16))/LOG(2))))","v":0}]
[21,1281,21,1285,22,1289,14,1295,null,null,0,2221,null,2121,{"$f":"COUNTIF($L$7:$L$500,N17)","v":1},{"$f":"O17/$Q$4","v":6.0975609756097563E-3},{"$f":"IF(P17=0,0,(P17*((LOG(P17))/LOG(2))))","v":-4.4863121979378563E-2},null,null,{"$f":"N17","v":2121},{"$f":"COUNTIF(L7:L33,T17)","v":0},{"$f":"U17/(W4-U20)","v":0},{"$f":"IF(V17=0,0,(V17*((LOG(V17))/LOG(2))))","v":0},null,{"$f":"N17","v":2121},{"$f":"COUNTIF(L34:L61,Y17)","v":0},{"$f":"Z17/(AB4-Z20)","v":0},{"$f":"IF(AA17=0,0,(AA17*((LOG(AA17))/LOG(2))))","v":0},null,{"$f":"N17","v":2121},{"$f":"COUNTIF(L62:L88,AD17)","v":0},{"$f":"AE17/(AG4-AE20)","v":0},{"$f":"IF(AF17=0,0,(AF17*((LOG(AF17))/LOG(2))))","v":0},null,{"$f":"N17","v":2121},{"$f":"COUNTIF(L89:L115,AI17)","v":1},{"$f":"AJ17/(AL4-AJ20)","v":4.7619047619047616E-2},{"$f":"IF(AK17=0,0,(AK17*((LOG(AK17))/LOG(2))))","v":-0.20915797251327431},null,{"$f":"N17","v":2121},{"$f":"COUNTIF(L116:L143,AN17)","v":0},{"$f":"AO17/(AQ4-AO20)","v":0},{"$f":"IF(AP17=0,0,(AP17*((LOG(AP17))/LOG(2))))","v":0},null,{"$f":"N17","v":2121},{"$f":"COUNTIF(L144:L170,AS17)","v":0},{"$f":"AT17/(AV4-AT20)","v":0},{"$f":"IF(AU17=0,0,(AU17*((LOG(AU17))/LOG(2))))","v":0}]
[12,1392,23,1403,24,1407,23,1413,null,null,0,1222,null,2122,{"$f":"COUNTIF($L$7:$L$500,N18)","v":24},{"$f":"O18/$Q$4","v":0.14634146341463414},{"$f":"IF(P18=0,0,(P18*((LOG(P18))/LOG(2))))","v":-0.40574480544833086},null,null,{"$f":"N18","v":2122},{"$f":"COUNTIF(L7:L33,T18)","v":1},{"$f":"U18/(W4-U20)","v":3.8461538461538464E-2},{"$f":"IF(V18=0,0,(V18*((LOG(V18))/LOG(2))))","v":-0.18078614300542661},null,{"$f":"N18","v":2122},{"$f":"COUNTIF(L34:L61,Y18)","v":5},{"$f":"Z18/(AB4-Z20)","v":0.2},{"$f":"IF(AA18=0,0,(AA18*((LOG(AA18))/LOG(2))))","v":-0.46438561897747244},null,{"$f":"N18","v":2122},{"$f":"COUNTIF(L62:L88,AD18)","v":6},{"$f":"AE18/(AG4-AE20)","v":0.27272727272727271},{"$f":"IF(AF18=0,0,(AF18*((LOG(AF18))/LOG(2))))","v":-0.51121885034076575},null,{"$f":"N18","v":2122},{"$f":"COUNTIF(L89:L115,AI18)","v":2},{"$f":"AJ18/(AL4-AJ20)","v":9.5238095238095233E-2},{"$f":"IF(AK18=0,0,(AK18*((LOG(AK18))/LOG(2))))","v":-0.32307784978845333},null,{"$f":"N18","v":2122},{"$f":"COUNTIF(L116:L143,AN18)","v":7},{"$f":"AO18/(AQ4-AO20)","v":0.28000000000000003},{"$f":"IF(AP18=0,0,(AP18*((LOG(AP18))/LOG(2))))","v":-0.51422035496079388},null,{"$f":"N18","v":2122},{"$f":"COUNTIF(L144:L170,AS18)","v":3},{"$f":"AT18/(AV4-AT20)","v":0.13636363636363635},{"$f":"IF(AU18=0,0,(AU18*((LOG(AU18))/LOG(2))))","v":-0.39197306153401923}]
[21,1508,21,1515,11,1519,21,1526,null,null,0,2212,null,2211,{"$f":"COUNTIF($L$7:$L$500,N19)","v":0},{"$f":"O19/$Q$4","v":0},{"$f":"IF(P19=0,0,(P19*((LOG(P19))/LOG(2))))","v":0},null,null,{"$f":"N19","v":2211},{"$f":"COUNTIF(L7:L33,T19)","v":0},{"$f":"U19/(W4-U20)","v":0},{"$f":"IF(V19=0,0,(V19*((LOG(V19))/LOG(2))))","v":0},null,{"$f":"N19","v":2211},{"$f":"COUNTIF(L34:L61,Y19)","v":0},{"$f":"Z19/(AB4-Z20)","v":0},{"$f":"IF(AA19=0,0,(AA19*((LOG(AA19))/LOG(2))))","v":0},null,{"$f":"N19","v":2211},{"$f":"COUNTIF(L62:L88,AD19)","v":0},{"$f":"AE19/(AG4-AE20)","v":0},{"$f":"IF(AF19=0,0,(AF19*((LOG(AF19))/LOG(2))))","v":0},null,{"$f":"N19","v":2211},{"$f":"COUNTIF(L89:L115,AI19)","v":0},{"$f":"AJ19/(AL4-AJ20)","v":0},{"$f":"IF(AK19=0,0,(AK19*((LOG(AK19))/LOG(2))))","v":0},null,{"$f":"N19","v":2211},{"$f":"COUNTIF(L116:L143,AN19)","v":0},{"$f":"AO19/(AQ4-AO20)","v":0},{"$f":"IF(AP19=0,0,(AP19*((LOG(AP19))/LOG(2))))","v":0},null,{"$f":"N19","v":2211},{"$f":"COUNTIF(L144:L170,AS19)","v":0},{"$f":"AT19/(AV4-AT20)","v":0},{"$f":"IF(AU19=0,0,(AU19*((LOG(AU19))/LOG(2))))","v":0}]
[12,1685,23,1697,24,1701,23,1709,null,null,0,1222,null,2212,{"$f":"COUNTIF($L$7:$L$500,N20)","v":23},{"$f":"O20/$Q$4","v":0.1402439024390244},{"$f":"IF(P20=0,0,(P20*((LOG(P20))/LOG(2))))","v":-0.39744982388356481},null,null,{"$f":"N20","v":2212},{"$f":"COUNTIF(L7:L33,T20)","v":1},null,null,null,{"$f":"N20","v":2212},{"$f":"COUNTIF(L34:L61,Y20)","v":3},null,null,null,{"$f":"N20","v":2212},{"$f":"COUNTIF(L62:L88,AD20)","v":5},null,null,null,{"$f":"N20","v":2212},{"$f":"COUNTIF(L89:L115,AI20)","v":6},null,null,null,{"$f":"N20","v":2212},{"$f":"COUNTIF(L116:L143,AN20)","v":3},null,null,null,{"$f":"N20","v":2212},{"$f":"COUNTIF(L144:L170,AS20)","v":5}]
[21,1804,21,1807,22,1819,23,1826,null,null,0,2222,null,2221,{"$f":"COUNTIF($L$7:$L$500,N21)","v":7},{"$f":"O21/$Q$4","v":4.2682926829268296E-2},{"$f":"IF(P21=0,0,(P21*((LOG(P21))/LOG(2))))","v":-0.19421572913367902},null,null,{"$f":"N21","v":2221},{"$f":"COUNTIF(L7:L33,T21)","v":1},{"$f":"U21/(W4-U20)","v":3.8461538461538464E-2},{"$f":"IF(V21=0,0,(V21*((LOG(V21))/LOG(2))))","v":-0.18078614300542661},null,{"$f":"N21","v":2221},{"$f":"COUNTIF(L34:L61,Y21)","v":2},{"$f":"Z21/(AB4-Z20)","v":0.08},{"$f":"IF(AA21=0,0,(AA21*((LOG(AA21))/LOG(2))))","v":-0.29150849518197797},null,{"$f":"N21","v":2221},{"$f":"COUNTIF(L62:L88,AD21)","v":0},{"$f":"AE21/(AG4-AE20)","v":0},{"$f":"IF(AF21=0,0,(AF21*((LOG(AF21))/LOG(2))))","v":0},null,{"$f":"N21","v":2221},{"$f":"COUNTIF(L89:L115,AI21)","v":2},{"$f":"AJ21/(AL4-AJ20)","v":9.5238095238095233E-2},{"$f":"IF(AK21=0,0,(AK21*((LOG(AK21))/LOG(2))))","v":-0.32307784978845333},null,{"$f":"N21","v":2221},{"$f":"COUNTIF(L116:L143,AN21)","v":1},{"$f":"AO21/(AQ4-AO20)","v":0.04},{"$f":"IF(AP21=0,0,(AP21*((LOG(AP21))/LOG(2))))","v":-0.18575424759098899},null,{"$f":"N21","v":2221},{"$f":"COUNTIF(L144:L170,AS21)","v":1},{"$f":"AT21/(AV4-AT20)","v":4.5454545454545456E-2},{"$f":"IF(AU21=0,0,(AU21*((LOG(AU21))/LOG(2))))","v":-0.20270143721078623}]
[21,1925,21,1929,22,1936,23,1946,null,null,0,2222,null,2222,{"$f":"COUNTIF($L$7:$L$500,N22)","v":61},{"$f":"O22/$Q$4","v":0.37195121951219512},{"$f":"IF(P22=0,0,(P22*((LOG(P22))/LOG(2))))","v":-0.53070545542906733},null,null,{"$f":"N22","v":2222},{"$f":"COUNTIF(L7:L33,T22)","v":14},{"$f":"U22/(W4-U20)","v":0.53846153846153844},{"$f":"IF(V22=0,0,(V22*((LOG(V22))/LOG(2))))","v":-0.48089181327572433},null,{"$f":"N22","v":2222},{"$f":"COUNTIF(L34:L61,Y22)","v":8},{"$f":"Z22/(AB4-Z20)","v":0.32},{"$f":"IF(AA22=0,0,(AA22*((LOG(AA22))/LOG(2))))","v":-0.52603398072791185},null,{"$f":"N22","v":2222},{"$f":"COUNTIF(L62:L88,AD22)","v":11},{"$f":"AE22/(AG4-AE20)","v":0.5},{"$f":"IF(AF22=0,0,(AF22*((LOG(AF22))/LOG(2))))","v":-0.5},null,{"$f":"N22","v":2222},{"$f":"COUNTIF(L89:L115,AI22)","v":9},{"$f":"AJ22/(AL4-AJ20)","v":0.42857142857142855},{"$f":"IF(AK22=0,0,(AK22*((LOG(AK22))/LOG(2))))","v":-0.52388246628704915},null,{"$f":"N22","v":2222},{"$f":"COUNTIF(L116:L143,AN22)","v":8},{"$f":"AO22/(AQ4-AO20)","v":0.32},{"$f":"IF(AP22=0,0,(AP22*((LOG(AP22))/LOG(2))))","v":-0.52603398072791185},null,{"$f":"N22","v":2222},{"$f":"COUNTIF(L144:L170,AS22)","v":11},{"$f":"AT22/(AV4-AT20)","v":0.5},{"$f":"IF(AU22=0,0,(AU22*((LOG(AU22))/LOG(2))))","v":-0.5}]
[12,2037,14,2048,24,2054,23,2057,null,null,0,1122,null,null,null,{"$f":"SUM(P7:P22)","v":1},{"$f":"-SUM(Q7:Q22)","v":2.5576021635201514},null,null,null,null,{"$f":"SUM(V7:V22)","v":1},{"$f":"-SUM(W7:W22)","v":2.1597529331037872},null,null,null,{"$f":"SUM(AA7:AA22)","v":1},{"$f":"-SUM(AB7:AB22)","v":1.8106993328423071},null,null,null,{"$f":"SUM(AF7:AF22)","v":1},{"$f":"-SUM(AG7:AG22)","v":1.7176856953872666},null,null,null,{"$f":"SUM(AK7:AK22)","v":1},{"$f":"-SUM(AL7:AL22)","v":2.2904619233779213},null,null,null,{"$f":"SUM(AP7:AP22)","v":1},{"$f":"-SUM(AQ7:AQ22)","v":1.9377968115985955},null,null,null,{"$f":"SUM(AU7:AU22)","v":1},{"$f":"-SUM(AV7:AV22)","v":2.0590391046748548}]
[21,2152,21,2157,22,2164,23,2172,null,null,0,2222,null,null,null,"U=",{"$f":"Q23/(LOG(Q4)/LOG(2))","v":0.34761591381410989},null,null,null,null,"U1=",{"$f":"W23/(LOG(W4)/LOG(2))","v":0.45421746195280166},null,null,null,"U2=",{"$f":"AB23/(LOG(AB4)/LOG(2))","v":0.37665189323431664},null,null,null,"U3=",{"$f":"AG23/(LOG(AG4)/LOG(2))","v":0.36124633750130192},null,null,null,"U4=",{"$f":"AL23/(LOG(AL4)/LOG(2))","v":0.48170685896054616},null,null,null,"U5=",{"$f":"AQ23/(LOG(AQ4)/LOG(2))","v":0.4030900241435047},null,null,null,"U6=",{"$f":"AV23/(LOG(AV4)/LOG(2))","v":0.43303634496883353}]
[21,2266,21,2272,22,2278,23,2287,null,null,0,2222]
[12,2380,14,2395,24,2406,23,2410,null,null,0,1122]
[12,2506,14,2515,24,2519,23,2524,null,null,0,1122,null,"Total Target Seq"]
[12,2621,14,2634,13,2641,23,2647,null,null,0,1112,null,{"$f":"COUNTIF(L7:L170,G3)","v":23},null,27,28,27,27,28,27]
[21,2747,21,2751,22,2756,23,2770,null,null,0,2222,null,null,null,"% of reinforcement given in 6 equal intervals based on number of trials "]
[21,2871,12,2877,24,2884,23,2891,null,null,0,2122,null,null,null,"%_1","%_2","%_3","%_4","%_5","%_6"]
[12,2993,23,2997,24,3001,14,3005,null,null,0,1221,null,null,"target sequence",{"$f":"$G$3","v":2212},{"$f":"$G$3","v":2212},{"$f":"$G$3","v":2212},{"$f":"$G$3","v":2212},{"$f":"$G$3","v":2212},{"$f":"$G$3","v":2212}]
[21,3104,21,3108,22,3115,23,3121,null,null,0,2222,null,null,"total reinforcement",{"$f":"U20","v":1},{"$f":"Z20","v":3},{"$f":"AE20","v":5},{"$f":"AJ20","v":6},{"$f":"AO20","v":3},{"$f":"AT20","v":5}]
[21,3218,21,3228,22,3235,23,3241,null,null,0,2222,null,null,"% target"]
[21,3335,21,3340,22,3344,23,3350,null,null,0,2222,null,null,"CCRF"]
[21,3442,21,3445,22,3451,23,3459,null,null,0,2222,null,null,"% CCRf"]
[21,3554,21,3559,11,3561,21,3564,null,null,0,2212,null,null,"average response rate",{"$f":"H33/P28","v":120.03703703703704},{"$f":"(H61-H33)/Q28","v":149.46428571428572},{"$f":"(H88-H61)/R28","v":160.62962962962962},{"$f":"(H115-H88)/S28","v":188.33333333333334},{"$f":"(H143-H115)/T28","v":126.10714285714286},{"$f":"(H170-H143)/U28","v":130.85185185185185}]
[12,3946,23,3959,24,3974,23,3980,null,null,0,1222]
[21,4123,21,4128,11,4133,21,4143,null,null,0,2212]
[12,4548,23,4558,24,4574,23,4594,null,null,0,1222]
[12,4691,23,4693,24,4697,23,4702,null,null,0,1222]
[21,4795,12,4801,24,4804,23,4809,null,null,0,2122]
[12,4901,23,4904,24,4909,23,4918,null,null,0,1222]
[12,5011,23,5022,24,5025,23,5029,null,null,0,1222]
[21,5128,21,5134,22,5139,23,5145,null,null,0,2222]
[21,5241,21,5247,22,5253,23,5260,null,null,0,2222]
[12,5353,23,5358,24,5369,23,5381,null,null,0,1222]
[21,5484,21,5491,22,5498,14,5504,null,null,0,2221]
[12,5601,23,5609,24,5615,23,5620,null,null,0,1222]
[21,5720,12,5724,24,5731,23,5739,null,null,0,2122]
[21,5833,12,5834,24,5838,23,5844,null,null,0,2122]
[12,5938,23,5946,24,5949,23,5955,null,null,0,1222]
[21,6059,21,6061,22,6065,23,6071,null,null,0,2222]
[21,6167,12,6169,24,6173,23,6179,null,null,0,2122]
[21,6272,12,6277,24,6279,23,6286,null,null,0,2122]
[21,6378,21,6386,22,6390,23,6395,null,null,0,2222]
[21,6490,21,6498,22,6503,23,6509,null,null,0,2222]
[21,6604,21,6608,11,6610,21,6614,null,null,0,2212]
[21,7064,21,7070,22,7076,23,7084,null,null,0,2222]
[12,7177,23,7179,24,7182,23,7189,null,null,0,1222]
[21,7291,21,7295,22,7299,14,7304,null,null,0,2221]
[12,7398,23,7415,24,7420,23,7426,null,null,0,1222]
[12,7518,23,7521,24,7524,14,7526,null,null,0,1221]
[21,7625,21,7631,22,7636,23,7644,null,null,0,2222]
[21,7751,21,7754,11,7757,21,7759,null,null,0,2212]
[12,8189,23,8201,24,8206,14,8218,null,null,0,1221]
[21,8316,21,8324,22,8331,23,8339,null,null,0,2222]
[21,8431,12,8435,24,8442,23,8449,null,null,0,2122]
[21,8543,12,8547,24,8549,23,8556,null,null,0,2122]
[21,8659,21,8662,22,8666,23,8673,null,null,0,2222]
[21,8769,21,8774,22,8791,23,8798,null,null,0,2222]
[21,8912,21,8927,11,8931,21,8935,null,null,0,2212]
[12,9115,23,9126,24,9131,23,9141,null,null,0,1222]
[21,9236,21,9239,11,9248,21,9250,null,null,0,2212]
[21,9503,21,9513,22,9527,23,9536,null,null,0,2222]
[21,9634,21,9639,22,9646,23,9657,null,null,0,2222]
[21,9752,21,9759,22,9766,23,9772,null,null,0,2222]
[12,9867,23,9875,24,9880,23,9885,null,null,0,1222]
[21,9977,21,9982,11,9986,21,9989,null,null,0,2212]
[21,10191,12,10194,24,10197,23,10209,null,null,0,2122]
[21,10302,21,10307,22,10313,23,10320,null,null,0,2222]
[21,10420,21,10434,11,10438,21,10441,null,null,0,2212]
[21,11056,21,11064,22,11075,23,11081,null,null,0,2222]
[21,11175,21,11180,22,11197,23,11205,null,null,0,2222]
[21,11299,12,11304,24,11314,23,11323,null,null,0,2122]
[21,11422,12,11425,24,11428,23,11433,null,null,0,2122]
[21,11525,12,11529,24,11531,23,11536,null,null,0,2122]
[21,11628,21,11638,22,11645,23,11651,null,null,0,2222]
[12,11743,23,11755,24,11760,14,11763,null,null,0,1221]
[21,11869,21,11871,22,11883,23,11890,null,null,0,2222]
[21,11984,21,11988,11,11992,21,12003,null,null,0,2212]
[21,12279,12,12281,24,12283,14,12286,null,null,0,2121]
[12,12394,23,12401,24,12407,23,12414,null,null,0,1222]
[21,12510,21,12514,11,12516,21,12528,null,null,0,2212]
[12,12640,23,12644,24,12648,23,12654,null,null,0,1222]
[21,12782,12,12786,24,12789,23,12795,null,null,0,2122]
[21,12948,21,12956,22,12958,14,12961,null,null,0,2221]
[21,13590,21,13595,22,13602,23,13608,null,null,0,2222]
[21,13709,21,13715,22,13720,23,13732,null,null,0,2222]
[21,13827,21,13833,11,13836,21,13839,null,null,0,2212]
[21,14089,21,14108,22,14114,23,14120,null,null,0,2222]
[12,14213,23,14222,24,14228,23,14234,null,null,0,1222]
[21,14326,21,14332,11,14334,21,14340,null,null,0,2212]
[21,14854,21,14869,11,14873,21,14883,null,null,0,2212]
[12,15095,23,15107,24,15113,23,15124,null,null,0,1222]
[21,15229,21,15234,22,15237,23,15242,null,null,0,2222]
[21,15337,21,15342,22,15349,23,15356,null,null,0,2222]
[21,15448,21,15453,22,15457,14,15461,null,null,0,2221]
[21,15554,21,15559,11,15561,21,15566,null,null,0,2212]
[12,16103,23,16126,24,16138,23,16147,null,null,0,1222]
[12,16267,23,16282,13,16287,23,16294,null,null,0,1212]
[21,16388,21,16392,22,16397,23,16405,null,null,0,2222]
[12,16499,23,16504,24,16508,14,16511,null,null,0,1221]
[21,16607,21,16613,22,16619,23,16625,null,null,0,2222]
[21,16725,21,16730,22,16734,23,16740,null,null,0,2222]
[21,16833,12,16839,24,16841,23,16848,null,null,0,2122]
[21,16944,21,16948,22,16956,23,16961,null,null,0,2222]
[21,17057,21,17066,11,17070,21,17072,null,null,0,2212]
[12,17222,23,17226,24,17252,23,17259,null,null,0,1222]
[21,17357,12,17363,24,17370,23,17376,null,null,0,2122]
[21,17471,21,17478,22,17482,23,17488,null,null,0,2222]
[21,17584,12,17590,24,17595,23,17601,null,null,0,2122]
[21,17701,21,17705,11,17708,21,17715,null,null,0,2212]
[12,17882,23,17884,24,17888,23,17891,null,null,0,1222]
[12,17984,23,17987,24,17992,23,17999,null,null,0,1222]
[21,18114,12,18118,24,18126,23,18133,null,null,0,2122]
[21,18242,12,18244,24,18251,23,18256,null,null,0,2122]
[12,18349,23,18351,24,18357,23,18362,null,null,0,1222]
[21,18457,21,18462,11,18464,21,18470,null,null,0,2212]
[12,18569,23,18583,13,18589,14,18593,null,null,0,1211]
[12,18792,23,18800,24,18805,23,18810,null,null,0,1222]
[21,18919,21,18931,22,18937,23,18944,null,null,0,2222]
[21,19049,21,19052,22,19056,23,19062,null,null,0,2222]
[21,19157,21,19163,22,19168,23,19175,null,null,0,2222]
[21,19271,12,19276,24,19284,23,19291,null,null,0,2122]
[21,19385,12,19395,24,19396,23,19402,null,null,0,2122]
[21,19580,21,19584,22,19589,23,19594,null,null,0,2222]
[21,19688,12,19693,24,19699,23,19705,null,null,0,2122]
[12,19797,23,19804,24,19807,23,19812,null,null,0,1222]
[21,19918,21,19921,22,19924,14,19927,null,null,0,2221]
[12,20021,23,20028,24,20032,23,20040,null,null,0,1222]
[21,20133,21,20144,22,20152,23,20158,null,null,0,2222]
[12,20258,23,20261,24,20265,23,20271,null,null,0,1222]
[21,20363,21,20366,22,20371,23,20379,null,null,0,2222]
[12,20471,23,20478,24,20484,23,20491,null,null,0,1222]
[21,20705,21,20711,22,20718,23,20724,null,null,0,2222]
[21,20819,21,20822,11,20825,21,20828,null,null,0,2212]
[21,21228,21,21240,22,21246,23,21252,null,null,0,2222]
[21,21345,12,21347,24,21350,23,21357,null,null,0,2122]
[21,21451,21,21460,22,21467,23,21480,null,null,0,2222]
[21,21579,21,21585,22,21591,23,21598,null,null,0,2222]
[21,21697,21,21701,22,21705,23,21711,null,null,0,2222]
[12,21809,23,21813,24,21819,23,21823,null,null,0,1222]
[12,21916,23,21921,24,21928,23,21936,null,null,0,1222]
[21,22028,21,22032,11,22034,21,22037,null,null,0,2212]
[21,22137,21,22140,22,22145,14,22148,null,null,0,2221]
[21,22244,21,22247,22,22251,23,22264,null,null,0,2222]
[21,22359,21,22363,22,22368,23,22376,null,null,0,2222]
[21,22480,21,22486,22,22492,23,22499,null,null,0,2222]
[12,22592,23,22598,13,22601,23,22605,null,null,0,1212]
[21,22699,12,22701,24,22703,23,22709,null,null,0,2122]
[12,22833,14,22842,24,22849,23,22853,null,null,0,1122]
[21,22953,21,22961,22,22968,23,22975,null,null,0,2222]
[21,23069,21,23077,22,23085,23,23094,null,null,0,2222]
[21,23189,21,23196,11,23202,21,23210,null,null,0,2212]
[21,23327,21,23333,22,23335,23,23341,null,null,0,2222]
[21,23433,21,23439,11,23442,21,23444,null,null,0,2212]
[12,23535,14,23539,24,23548,23,23553,null,null,0,1122]
[21,23661,12,23667,24,23670,23,23677,null,null,0,2122]
[12,23772,23,23774,24,23780,23,23787,null,null,0,1222]
[21,23901,21,23906,11,23910,21,23912,null,null,0,2212]

{"sheet":"!M630C30.Gus","index":11,"n_rows":191,"n_cols":48,"rows_kept":191,"cut":false,"hidden":false,"merged":[[4,39,4,42],[5,39,5,40],[4,44,4,47],[5,44,5,45],[4,24,4,27],[5,24,5,25],[4,29,4,32],[5,29,5,30],[4,34,4,37],[5,34,5,35],[1,1,1,2],[5,13,5,14],[26,13,26,14],[27,13,27,14],[4,19,4,22],[5,19,5,20]]}
["Report for:!M630C30.Gus"]
["Date:","<date>"]
["Hen:","<hen>",null,null,null,"Correct Sequence",{"$f":"Start!J2","v":2212},null,null,null,null,null,null,null,null,"Total Sequences in Data",{"$f":"4994-COUNTBLANK(L7:L5000)","v":185},null,null,null,null,"Total Sequences in Block Data",{"$f":"COUNTA(L7:L37)","v":31},null,null,null,"Total Sequences in Block Data",{"$f":"COUNTA(L38:L68)","v":31},null,null,null,"Total Sequences in Block Data",{"$f":"COUNTA(L69:L98)","v":30},null,null,null,"Total Sequences in Block Data",{"$f":"COUNTA(L99:L129)","v":31},null,null,null,"Total Sequences in Block Data",{"$f":"COUNTA(L130:L160)","v":31},null,null,null,"Total Sequences in Block Data",{"$f":"COUNTA(L161:L191)","v":31}]
[null,null,null,null,null,null,null,null,null,null,null,null,null,null,null,"Total Sequences in Summary",{"$f":"SUM(O7:O22)","v":185},null,null,null,null,"Total Sequences in Block Summary",{"$f":"SUM(U7:U22)","v":31},null,null,null,"Total Sequences in Block Summary",{"$f":"SUM(Z7:Z22)","v":31},null,null,null,"Total Sequences in Block Summary",{"$f":"SUM(AE7:AE22)","v":30},null,null,null,"Total Sequences in Block Summary",{"$f":"SUM(AJ7:AJ22)","v":31},null,null,null,"Total Sequences in Block Summary",{"$f":"SUM(AO7:AO22)","v":31},null,null,null,"Total Sequences in Block Summary",{"$f":"SUM(AT7:AT22)","v":31}]
[null,null,null,null,null,null,null,null,null,null,null,null,null,null,null,null,null,null,null,"Block 1",null,null,null,null,"Block 2",null,null,null,null,"Block 3",null,null,null,null,"Block 4",null,null,null,null,"Block 5",null,null,null,null,"Block 6"]
["Sequence\nComponent\n1","Time\n1","Sequence\nComponent\n2","Time\n2","Sequence\nComponent\n3","Time\n3","Sequence\nComponent\n4","Time\n4","Sequence\nComponent\n5","Time\n5","Correct?\n0=No 1=Yes","Sequence",null,"Frequency",null,"Relative Frequency","Variability",null,null,"Frequency",null,"Relative Frequency","Variability",null,"Frequency",null,"Relative Frequency","Variability",null,"Frequency",null,"Relative Frequency","Variability",null,"Frequency",null,"Relative Frequency","Variability",null,"Frequency",null,"Relative Frequency","Variability",null,"Frequency",null,"Relative Frequency","Variability"]
[21,15,21,21,22,27,23,34,null,null,0,2222,null,1111,{"$f":"COUNTIF($L$7:$L$500,N7)","v":0},{"$f":"O7/$Q$4","v":0},{"$f":"IF(P7=0,0,(P7*((LOG(P7))/LOG(2))))","v":0},null,null,{"$f":"N7","v":1111},{"$f":"COUNTIF(L7:L37,T7)","v":0},{"$f":"U7/(W4-U20)","v":0},{"$f":"IF(V7=0,0,(V7*((LOG(V7))/LOG(2))))","v":0},null,{"$f":"N7","v":1111},{"$f":"COUNTIF(L38:L68,Y7)","v":0},{"$f":"Z7/(AB4-Z20)","v":0},{"$f":"IF(AA7=0,0,(AA7*((LOG(AA7))/LOG(2))))","v":0},null,{"$f":"N7","v":1111},{"$f":"COUNTIF(L69:L98,AD7)","v":0},{"$f":"AE7/(AG4-AE20)","v":0},{"$f":"IF(AF7=0,0,(AF7*((LOG(AF7))/LOG(2))))","v":0},null,{"$f":"N7","v":1111},{"$f":"COUNTIF(L99:L129,AI7)","v":0},{"$f":"AJ7/(AL4-AJ20)","v":0},{"$f":"IF(AK7=0,0,(AK7*((LOG(AK7))/LOG(2))))","v":0},null,{"$f":"N7","v":1111},{"$f":"COUNTIF(L130:L160,AN7)","v":0},{"$f":"AO7/(AQ4-AO20)","v":0},{"$f":"IF(AP7=0,0,(AP7*((LOG(AP7))/LOG(2))))","v":0},null,{"$f":"N7","v":1111},{"$f":"COUNTIF(L161:L191,AS7)","v":0},{"$f":"AT7/(AV4-AT20)","v":0},{"$f":"IF(AU7=0,0,(AU7*((LOG(AU7))/LOG(2))))","v":0}]
[21,137,21,141,22,147,23,153,null,null,0,2222,null,1112,{"$f":"COUNTIF($L$7:$L$500,N8)","v":0},{"$f":"O8/$Q$4","v":0},{"$f":"IF(P8=0,0,(P8*((LOG(P8))/LOG(2))))","v":0},null,null,{"$f":"N8","v":1112},{"$f":"COUNTIF(L7:L37,T8)","v":0},{"$f":"U8/(W4-U20)","v":0},{"$f":"IF(V8=0,0,(V8*((LOG(V8))/LOG(2))))","v":0},null,{"$f":"N8","v":1112},{"$f":"COUNTIF(L38:L68,Y8)","v":0},{"$f":"Z8/(AB4-Z20)","v":0},{"$f":"IF(AA8=0,0,(AA8*((LOG(AA8))/LOG(2))))","v":0},null,{"$f":"N8","v":1112},{"$f":"COUNTIF(L69:L98,AD8)","v":0},{"$f":"AE8/(AG4-AE20)","v":0},{"$f":"IF(AF8=0,0,(AF8*((LOG(AF8))/LOG(2))))","v":0},null,{"$f":"N8","v":1112},{"$f":"COUNTIF(L99:L129,AI8)","v":0},{"$f":"AJ8/(AL4-AJ20)","v":0},{"$f":"IF(AK8=0,0,(AK8*((LOG(AK8))/LOG(2))))","v":0},null,{"$f":"N8","v":1112},{"$f":"COUNTIF(L130:L160,AN8)","v":0},{"$f":"AO8/(AQ4-AO20)","v":0},{"$f":"IF(AP8=0,0,(AP8*((LOG(AP8))/LOG(2))))","v":0},null,{"$f":"N8","v":1112},{"$f":"COUNTIF(L161:L191,AS8)","v":0},{"$f":"AT8/(AV4-AT20)","v":0},{"$f":"IF(AU8=0,0,(AU8*((LOG(AU8))/LOG(2))))","v":0}]
[21,251,21,257,22,264,23,269,null,null,0,2222,null,1121,{"$f":"COUNTIF($L$7:$L$500,N9)","v":0},{"$f":"O9/$Q$4","v":0},{"$f":"IF(P9=0,0,(P9*((LOG(P9))/LOG(2))))","v":0},null,null,{"$f":"N9","v":1121},{"$f":"COUNTIF(L7:L37,T9)","v":0},{"$f":"U9/(W4-U20)","v":0},{"$f":"IF(V9=0,0,(V9*((LOG(V9))/LOG(2))))","v":0},null,{"$f":"N9","v":1121},{"$f":"COUNTIF(L38:L68,Y9)","v":0},{"$f":"Z9/(AB4-Z20)","v":0},{"$f":"IF(AA9=0,0,(AA9*((LOG(AA9))/LOG(2))))","v":0},null,{"$f":"N9","v":1121},{"$f":"COUNTIF(L69:L98,AD9)","v":0},{"$f":"AE9/(AG4-AE20)","v":0},{"$f":"IF(AF9=0,0,(AF9*((LOG(AF9))/LOG(2))))","v":0},null,{"$f":"N9","v":1121},{"$f":"COUNTIF(L99:L129,AI9)","v":0},{"$f":"AJ9/(AL4-AJ20)","v":0},{"$f":"IF(AK9=0,0,(AK9*((LOG(AK9))/LOG(2))))","v":0},null,{"$f":"N9","v":1121},{"$f":"COUNTIF(L130:L160,AN9)","v":0},{"$f":"AO9/(AQ4-AO20)","v":0},{"$f":"IF(AP9=0,0,(AP9*((LOG(AP9))/LOG(2))))","v":0},null,{"$f":"N9","v":1121},{"$f":"COUNTIF(L161:L191,AS9)","v":0},{"$f":"AT9/(AV4-AT20)","v":0},{"$f":"IF(AU9=0,0,(AU9*((LOG(AU9))/LOG(2))))","v":0}]
[21,362,21,364,11,367,21,369,null,null,0,2212,null,1122,{"$f":"COUNTIF($L$7:$L$500,N10)","v":10},{"$f":"O10/$Q$4","v":5.4054054054054057E-2},{"$f":"IF(P10=0,0,(P10*((LOG(P10))/LOG(2))))","v":-0.22753801976372701},null,null,{"$f":"N10","v":1122},{"$f":"COUNTIF(L7:L37,T10)","v":2},{"$f":"U10/(W4-U20)","v":6.6666666666666666E-2},{"$f":"IF(V10=0,0,(V10*((LOG(V10))/LOG(2))))","v":-0.26045937304056793},null,{"$f":"N10","v":1122},{"$f":"COUNTIF(L38:L68,Y10)","v":1},{"$f":"Z10/(AB4-Z20)","v":3.7037037037037035E-2},{"$f":"IF(AA10=0,0,(AA10*((LOG(AA10))/LOG(2))))","v":-0.1761069445245729},null,{"$f":"N10","v":1122},{"$f":"COUNTIF(L69:L98,AD10)","v":3},{"$f":"AE10/(AG4-AE20)","v":0.11538461538461539},{"$f":"IF(AF10=0,0,(AF10*((LOG(AF10))/LOG(2))))","v":-0.35947814047153104},null,{"$f":"N10","v":1122},{"$f":"COUNTIF(L99:L129,AI10)","v":0},{"$f":"AJ10/(AL4-AJ20)","v":0},{"$f":"IF(AK10=0,0,(AK10*((LOG(AK10))/LOG(2))))","v":0},null,{"$f":"N10","v":1122},{"$f":"COUNTIF(L130:L160,AN10)","v":2},{"$f":"AO10/(AQ4-AO20)","v":7.407407407407407E-2},{"$f":"IF(AP10=0,0,(AP10*((LOG(AP10))/LOG(2))))","v":-0.27813981497507173},null,{"$f":"N10","v":1122},{"$f":"COUNTIF(L161:L191,AS10)","v":2},{"$f":"AT10/(AV4-AT20)","v":7.407407407407407E-2},{"$f":"IF(AU10=0,0,(AU10*((LOG(AU10))/LOG(2))))","v":-0.27813981497507173}]
[12,528,23,542,24,547,23,553,null,null,0,1222,null,1211,{"$f":"COUNTIF($L$7:$L$500,N11)","v":0},{"$f":"O11/$Q$4","v":0},{"$f":"IF(P11=0,0,(P11*((LOG(P11))/LOG(2))))","v":0},null,null,{"$f":"N11","v":1211},{"$f":"COUNTIF(L7:L37,T11)","v":0},{"$f":"U11/(W4-U20)","v":0},{"$f":"IF(V11=0,0,(V11*((LOG(V11))/LOG(2))))","v":0},null,{"$f":"N11","v":1211},{"$f":"COUNTIF(L38:L68,Y11)","v":0},{"$f":"Z11/(AB4-Z20)","v":0},{"$f":"IF(AA11=0,0,(AA11*((LOG(AA11))/LOG(2))))","v":0},null,{"$f":"N11","v":1211},{"$f":"COUNTIF(L69:L98,AD11)","v":0},{"$f":"AE11/(AG4-AE20)","v":0},{"$f":"IF(AF11=0,0,(AF11*((LOG(AF11))/LOG(2))))","v":0},null,{"$f":"N11","v":1211},{"$f":"COUNTIF(L99:L129,AI11)","v":0},{"$f":"AJ11/(AL4-AJ20)","v":0},{"$f":"IF(AK11=0,0,(AK11*((LOG(AK11))/LOG(2))))","v":0},null,{"$f":"N11","v":1211},{"$f":"COUNTIF(L130:L160,AN11)","v":0},{"$f":"AO11/(AQ4-AO20)","v":0},{"$f":"IF(AP11=0,0,(AP11*((LOG(AP11))/LOG(2))))","v":0},null,{"$f":"N11","v":1211},{"$f":"COUNTIF(L161:L191,AS11)","v":0},{"$f":"AT11/(AV4-AT20)","v":0},{"$f":"IF(AU11=0,0,(AU11*((LOG(AU11))/LOG(2))))","v":0}]
[12,648,14,673,24,680,23,684,null,null,0,1122,null,1212,{"$f":"COUNTIF($L$7:$L$500,N12)","v":7},{"$f":"O12/$Q$4","v":3.783783783783784E-2},{"$f":"IF(P12=0,0,(P12*((LOG(P12))/LOG(2))))","v":-0.17874695010384303},null,null,{"$f":"N12","v":1212},{"$f":"COUNTIF(L7:L37,T12)","v":0},{"$f":"U12/(W4-U20)","v":0},{"$f":"IF(V12=0,0,(V12*((LOG(V12))/LOG(2))))","v":0},null,{"$f":"N12","v":1212},{"$f":"COUNTIF(L38:L68,Y12)","v":0},{"$f":"Z12/(AB4-Z20)","v":0},{"$f":"IF(AA12=0,0,(AA12*((LOG(AA12))/LOG(2))))","v":0},null,{"$f":"N12","v":1212},{"$f":"COUNTIF(L69:L98,AD12)","v":3},{"$f":"AE12/(AG4-AE20)","v":0.11538461538461539},{"$f":"IF(AF12=0,0,(AF12*((LOG(AF12))/LOG(2))))","v":-0.35947814047153104},null,{"$f":"N12","v":1212},{"$f":"COUNTIF(L99:L129,AI12)","v":0},{"$f":"AJ12/(AL4-AJ20)","v":0},{"$f":"IF(AK12=0,0,(AK12*((LOG(AK12))/LOG(2))))","v":0},null,{"$f":"N12","v":1212},{"$f":"COUNTIF(L130:L160,AN12)","v":3},{"$f":"AO12/(AQ4-AO20)","v":0.1111111111111111},{"$f":"IF(AP12=0,0,(AP12*((LOG(AP12))/LOG(2))))","v":-0.3522138890491458},null,{"$f":"N12","v":1212},{"$f":"COUNTIF(L161:L191,AS12)","v":1},{"$f":"AT12/(AV4-AT20)","v":3.7037037037037035E-2},{"$f":"IF(AU12=0,0,(AU12*((LOG(AU12))/LOG(2))))","v":-0.1761069445245729}]
[21,779,21,783,22,796,23,802,null,null,0,2222,null,1221,{"$f":"COUNTIF($L$7:$L$500,N13)","v":4},{"$f":"O13/$Q$4","v":2.1621621621621623E-2},{"$f":"IF(P13=0,0,(P13*((LOG(P13))/LOG(2))))","v":-0.11959743698413648},null,null,{"$f":"N13","v":1221},{"$f":"COUNTIF(L7:L37,T13)","v":2},{"$f":"U13/(W4-U20)","v":6.6666666666666666E-2},{"$f":"IF(V13=0,0,(V13*((LOG(V13))/LOG(2))))","v":-0.26045937304056793},null,{"$f":"N13","v":1221},{"$f":"COUNTIF(L38:L68,Y13)","v":1},{"$f":"Z13/(AB4-Z20)","v":3.7037037037037035E-2},{"$f":"IF(AA13=0,0,(AA13*((LOG(AA13))/LOG(2))))","v":-0.1761069445245729},null,{"$f":"N13","v":1221},{"$f":"COUNTIF(L69:L98,AD13)","v":1},{"$f":"AE13/(AG4-AE20)","v":3.8461538461538464E-2},{"$f":"IF(AF13=0,0,(AF13*((LOG(AF13))/LOG(2))))","v":-0.18078614300542661},null,{"$f":"N13","v":1221},{"$f":"COUNTIF(L99:L129,AI13)","v":0},{"$f":"AJ13/(AL4-AJ20)","v":0},{"$f":"IF(AK13=0,0,(AK13*((LOG(AK13))/LOG(2))))","v":0},null,{"$f":"N13","v":1221},{"$f":"COUNTIF(L130:L160,AN13)","v":0},{"$f":"AO13/(AQ4-AO20)","v":0},{"$f":"IF(AP13=0,0,(AP13*((LOG(AP13))/LOG(2))))","v":0},null,{"$f":"N13","v":1221},{"$f":"COUNTIF(L161:L191,AS13)","v":0},{"$f":"AT13/(AV4-AT20)","v":0},{"$f":"IF(AU13=0,0,(AU13*((LOG(AU13))/LOG(2))))","v":0}]
[21,894,12,897,24,901,23,905,null,null,0,2122,null,1222,{"$f":"COUNTIF($L$7:$L$500,N14)","v":32},{"$f":"O14/$Q$4","v":0.17297297297297298},{"$f":"IF(P14=0,0,(P14*((LOG(P14))/LOG(2))))","v":-0.43786057695417291},null,null,{"$f":"N14","v":1222},{"$f":"COUNTIF(L7:L37,T14)","v":5},{"$f":"U14/(W4-U20)","v":0.16666666666666666},{"$f":"IF(V14=0,0,(V14*((LOG(V14))/LOG(2))))","v":-0.43082708345352599},null,{"$f":"N14","v":1222},{"$f":"COUNTIF(L38:L68,Y14)","v":9},{"$f":"Z14/(AB4-Z20)","v":0.33333333333333331},{"$f":"IF(AA14=0,0,(AA14*((LOG(AA14))/LOG(2))))","v":-0.52832083357371862},null,{"$f":"N14","v":1222},{"$f":"COUNTIF(L69:L98,AD14)","v":4},{"$f":"AE14/(AG4-AE20)","v":0.15384615384615385},{"$f":"IF(AF14=0,0,(AF14*((LOG(AF14))/LOG(2))))","v":-0.4154522643293988},null,{"$f":"N14","v":1222},{"$f":"COUNTIF(L99:L129,AI14)","v":7},{"$f":"AJ14/(AL4-AJ20)","v":0.25925925925925924},{"$f":"IF(AK14=0,0,(AK14*((LOG(AK14))/LOG(2))))","v":-0.5049158541015204},null,{"$f":"N14","v":1222},{"$f":"COUNTIF(L130:L160,AN14)","v":4},{"$f":"AO14/(AQ4-AO20)","v":0.14814814814814814},{"$f":"IF(AP14=0,0,(AP14*((LOG(AP14))/LOG(2))))","v":-0.40813148180199532},null,{"$f":"N14","v":1222},{"$f":"COUNTIF(L161:L191,AS14)","v":3},{"$f":"AT14/(AV4-AT20)","v":0.1111111111111111},{"$f":"IF(AU14=0,0,(AU14*((LOG(AU14))/LOG(2))))","v":-0.3522138890491458}]
[21,997,21,1001,22,1006,23,1012,null,null,0,2222,null,2111,{"$f":"COUNTIF($L$7:$L$500,N15)","v":0},{"$f":"O15/$Q$4","v":0},{"$f":"IF(P15=0,0,(P15*((LOG(P15))/LOG(2))))","v":0},null,null,{"$f":"N15","v":2111},{"$f":"COUNTIF(L7:L37,T15)","v":0},{"$f":"U15/(W4-U20)","v":0},{"$f":"IF(V15=0,0,(V15*((LOG(V15))/LOG(2))))","v":0},null,{"$f":"N15","v":2111},{"$f":"COUNTIF(L38:L68,Y15)","v":0},{"$f":"Z15/(AB4-Z20)","v":0},{"$f":"IF(AA15=0,0,(AA15*((LOG(AA15))/LOG(2))))","v":0},null,{"$f":"N15","v":2111},{"$f":"COUNTIF(L69:L98,AD15)","v":0},{"$f":"AE15/(AG4-AE20)","v":0},{"$f":"IF(AF15=0,0,(AF15*((LOG(AF15))/LOG(2))))","v":0},null,{"$f":"N15","v":2111},{"$f":"COUNTIF(L99:L129,AI15)","v":0},{"$f":"AJ15/(AL4-AJ20)","v":0},{"$f":"IF(AK15=0,0,(AK15*((LOG(AK15))/LOG(2))))","v":0},null,{"$f":"N15","v":2111},{"$f":"COUNTIF(L130:L160,AN15)","v":0},{"$f":"AO15/(AQ4-AO20)","v":0},{"$f":"IF(AP15=0,0,(AP15*((LOG(AP15))/LOG(2))))","v":0},null,{"$f":"N15","v":2111},{"$f":"COUNTIF(L161:L191,AS15)","v":0},{"$f":"AT15/(AV4-AT20)","v":0},{"$f":"IF(AU15=0,0,(AU15*((LOG(AU15))/LOG(2))))","v":0}]
[21,1118,12,1121,24,1125,23,1130,null,null,0,2122,null,2112,{"$f":"COUNTIF($L$7:$L$500,N16)","v":1},{"$f":"O16/$Q$4","v":5.4054054054054057E-3},{"$f":"IF(P16=0,0,(P16*((LOG(P16))/LOG(2))))","v":-4.0710170056844928E-2},null,null,{"$f":"N16","v":2112},{"$f":"COUNTIF(L7:L37,T16)","v":0},{"$f":"U16/(W4-U20)","v":0},{"$f":"IF(V16=0,0,(V16*((LOG(V16))/LOG(2))))","v":0},null,{"$f":"N16","v":2112},{"$f":"COUNTIF(L38:L68,Y16)","v":0},{"$f":"Z16/(AB4-Z20)","v":0},{"$f":"IF(AA16=0,0,(AA16*((LOG(AA16))/LOG(2))))","v":0},null,{"$f":"N16","v":2112},{"$f":"COUNTIF(L69:L98,AD16)","v":1},{"$f":"AE16/(AG4-AE20)","v":3.8461538461538464E-2},{"$f":"IF(AF16=0,0,(AF16*((LOG(AF16))/LOG(2))))","v":-0.18078614300542661},null,{"$f":"N16","v":2112},{"$f":"COUNTIF(L99:L129,AI16)","v":0},{"$f":"AJ16/(AL4-AJ20)","v":0},{"$f":"IF(AK16=0,0,(AK16*((LOG(AK16))/LOG(2))))","v":0},null,{"$f":"N16","v":2112},{"$f":"COUNTIF(L130:L160,AN16)","v":0},{"$f":"AO16/(AQ4-AO20)","v":0},{"$f":"IF(AP16=0,0,(AP16*((LOG(AP16))/LOG(2))))","v":0},null,{"$f":"N16","v":2112},{"$f":"COUNTIF(L161:L191,AS16)","v":0},{"$f":"AT16/(AV4-AT20)","v":0},{"$f":"IF(AU16=0,0,(AU16*((LOG(AU16))/LOG(2))))","v":0}]
[21,1232,21,1238,22,1244,23,1250,null,null,0,2222,null,2121,{"$f":"COUNTIF($L$7:$L$500,N17)","v":2},{"$f":"O17/$Q$4","v":1.0810810810810811E-2},{"$f":"IF(P17=0,0,(P17*((LOG(P17))/LOG(2))))","v":-7.0609529302879045E-2},null,null,{"$f":"N17","v":2121},{"$f":"COUNTIF(L7:L37,T17)","v":0},{"$f":"U17/(W4-U20)","v":0},{"$f":"IF(V17=0,0,(V17*((LOG(V17))/LOG(2))))","v":0},null,{"$f":"N17","v":2121},{"$f":"COUNTIF(L38:L68,Y17)","v":0},{"$f":"Z17/(AB4-Z20)","v":0},{"$f":"IF(AA17=0,0,(AA17*((LOG(AA17))/LOG(2))))","v":0},null,{"$f":"N17","v":2121},{"$f":"COUNTIF(L69:L98,AD17)","v":1},{"$f":"AE17/(AG4-AE20)","v":3.8461538461538464E-2},{"$f":"IF(AF17=0,0,(AF17*((LOG(AF17))/LOG(2))))","v":-0.18078614300542661},null,{"$f":"N17","v":2121},{"$f":"COUNTIF(L99:L129,AI17)","v":0},{"$f":"AJ17/(AL4-AJ20)","v":0},{"$f":"IF(AK17=0,0,(AK17*((LOG(AK17))/LOG(2))))","v":0},null,{"$f":"N17","v":2121},{"$f":"COUNTIF(L130:L160,AN17)","v":0},{"$f":"AO17/(AQ4-AO20)","v":0},{"$f":"IF(AP17=0,0,(AP17*((LOG(AP17))/LOG(2))))","v":0},null,{"$f":"N17","v":2121},{"$f":"COUNTIF(L161:L191,AS17)","v":1},{"$f":"AT17/(AV4-AT20)","v":3.7037037037037035E-2},{"$f":"IF(AU17=0,0,(AU17*((LOG(AU17))/LOG(2))))","v":-0.1761069445245729}]
[21,1354,21,1358,22,1363,23,1370,null,null,0,2222,null,2122,{"$f":"COUNTIF($L$7:$L$500,N18)","v":23},{"$f":"O18/$Q$4","v":0.12432432432432433},{"$f":"IF(P18=0,0,(P18*((LOG(P18))/LOG(2))))","v":-0.3739451275814264},null,null,{"$f":"N18","v":2122},{"$f":"COUNTIF(L7:L37,T18)","v":6},{"$f":"U18/(W4-U20)","v":0.2},{"$f":"IF(V18=0,0,(V18*((LOG(V18))/LOG(2))))","v":-0.46438561897747244},null,{"$f":"N18","v":2122},{"$f":"COUNTIF(L38:L68,Y18)","v":4},{"$f":"Z18/(AB4-Z20)","v":0.14814814814814814},{"$f":"IF(AA18=0,0,(AA18*((LOG(AA18))/LOG(2))))","v":-0.40813148180199532},null,{"$f":"N18","v":2122},{"$f":"COUNTIF(L69:L98,AD18)","v":1},{"$f":"AE18/(AG4-AE20)","v":3.8461538461538464E-2},{"$f":"IF(AF18=0,0,(AF18*((LOG(AF18))/LOG(2))))","v":-0.18078614300542661},null,{"$f":"N18","v":2122},{"$f":"COUNTIF(L99:L129,AI18)","v":4},{"$f":"AJ18/(AL4-AJ20)","v":0.14814814814814814},{"$f":"IF(AK18=0,0,(AK18*((LOG(AK18))/LOG(2))))","v":-0.40813148180199532},null,{"$f":"N18","v":2122},{"$f":"COUNTIF(L130:L160,AN18)","v":4},{"$f":"AO18/(AQ4-AO20)","v":0.14814814814814814},{"$f":"IF(AP18=0,0,(AP18*((LOG(AP18))/LOG(2))))","v":-0.40813148180199532},null,{"$f":"N18","v":2122},{"$f":"COUNTIF(L161:L191,AS18)","v":4},{"$f":"AT18/(AV4-AT20)","v":0.14814814814814814},{"$f":"IF(AU18=0,0,(AU18*((LOG(AU18))/LOG(2))))","v":-0.40813148180199532}]
[12,1466,23,1475,24,1479,14,1483,null,null,0,1221,null,2211,{"$f":"COUNTIF($L$7:$L$500,N19)","v":0},{"$f":"O19/$Q$4","v":0},{"$f":"IF(P19=0,0,(P19*((LOG(P19))/LOG(2))))","v":0},null,null,{"$f":"N19","v":2211},{"$f":"COUNTIF(L7:L37,T19)","v":0},{"$f":"U19/(W4-U20)","v":0},{"$f":"IF(V19=0,0,(V19*((LOG(V19))/LOG(2))))","v":0},null,{"$f":"N19","v":2211},{"$f":"COUNTIF(L38:L68,Y19)","v":0},{"$f":"Z19/(AB4-Z20)","v":0},{"$f":"IF(AA19=0,0,(AA19*((LOG(AA19))/LOG(2))))","v":0},null,{"$f":"N19","v":2211},{"$f":"COUNTIF(L69:L98,AD19)","v":0},{"$f":"AE19/(AG4-AE20)","v":0},{"$f":"IF(AF19=0,0,(AF19*((LOG(AF19))/LOG(2))))","v":0},null,{"$f":"N19","v":2211},{"$f":"COUNTIF(L99:L129,AI19)","v":0},{"$f":"AJ19/(AL4-AJ20)","v":0},{"$f":"IF(AK19=0,0,(AK19*((LOG(AK19))/LOG(2))))","v":0},null,{"$f":"N19","v":2211},{"$f":"COUNTIF(L130:L160,AN19)","v":0},{"$f":"AO19/(AQ4-AO20)","v":0},{"$f":"IF(AP19=0,0,(AP19*((LOG(AP19))/LOG(2))))","v":0},null,{"$f":"N19","v":2211},{"$f":"COUNTIF(L161:L191,AS19)","v":0},{"$f":"AT19/(AV4-AT20)","v":0},{"$f":"IF(AU19=0,0,(AU19*((LOG(AU19))/LOG(2))))","v":0}]
[21,1584,21,1594,22,1601,23,1607,null,null,0,2222,null,2212,{"$f":"COUNTIF($L$7:$L$500,N20)","v":21},{"$f":"O20/$Q$4","v":0.11351351351351352},{"$f":"IF(P20=0,0,(P20*((LOG(P20))/LOG(2))))","v":-0.35632618806750593},null,null,{"$f":"N20","v":2212},{"$f":"COUNTIF(L7:L37,T20)","v":1},null,null,null,{"$f":"N20","v":2212},{"$f":"COUNTIF(L38:L68,Y20)","v":4},null,null,null,{"$f":"N20","v":2212},{"$f":"COUNTIF(L69:L98,AD20)","v":4},null,null,null,{"$f":"N20","v":2212},{"$f":"COUNTIF(L99:L129,AI20)","v":4},null,null,null,{"$f":"N20","v":2212},{"$f":"COUNTIF(L130:L160,AN20)","v":4},null,null,null,{"$f":"N20","v":2212},{"$f":"COUNTIF(L161:L191,AS20)","v":4}]
[21,1708,21,1714,22,1720,14,1724,null,null,0,2221,null,2221,{"$f":"COUNTIF($L$7:$L$500,N21)","v":6},{"$f":"O21/$Q$4","v":3.2432432432432434E-2},{"$f":"IF(P21=0,0,(P21*((LOG(P21))/LOG(2))))","v":-0.16042439869605912},null,null,{"$f":"N21","v":2221},{"$f":"COUNTIF(L7:L37,T21)","v":3},{"$f":"U21/(W4-U20)","v":0.1},{"$f":"IF(V21=0,0,(V21*((LOG(V21))/LOG(2))))","v":-0.33219280948873625},null,{"$f":"N21","v":2221},{"$f":"COUNTIF(L38:L68,Y21)","v":1},{"$f":"Z21/(AB4-Z20)","v":3.7037037037037035E-2},{"$f":"IF(AA21=0,0,(AA21*((LOG(AA21))/LOG(2))))","v":-0.1761069445245729},null,{"$f":"N21","v":2221},{"$f":"COUNTIF(L69:L98,AD21)","v":0},{"$f":"AE21/(AG4-AE20)","v":0},{"$f":"IF(AF21=0,0,(AF21*((LOG(AF21))/LOG(2))))","v":0},null,{"$f":"N21","v":2221},{"$f":"COUNTIF(L99:L129,AI21)","v":2},{"$f":"AJ21/(AL4-AJ20)","v":7.407407407407407E-2},{"$f":"IF(AK21=0,0,(AK21*((LOG(AK21))/LOG(2))))","v":-0.27813981497507173},null,{"$f":"N21","v":2221},{"$f":"COUNTIF(L130:L160,AN21)","v":0},{"$f":"AO21/(AQ4-AO20)","v":0},{"$f":"IF(AP21=0,0,(AP21*((LOG(AP21))/LOG(2))))","v":0},null,{"$f":"N21","v":2221},{"$f":"COUNTIF(L161:L191,AS21)","v":0},{"$f":"AT21/(AV4-AT20)","v":0},{"$f":"IF(AU21=0,0,(AU21*((LOG(AU21))/LOG(2))))","v":0}]
[12,1835,23,1838,24,1843,23,1849,null,null,0,1222,null,2222,{"$f":"COUNTIF($L$7:$L$500,N22)","v":79},{"$f":"O22/$Q$4","v":0.42702702702702705},{"$f":"IF(P22=0,0,(P22*((LOG(P22))/LOG(2))))","v":-0.52421868256647319},null,null,{"$f":"N22","v":2222},{"$f":"COUNTIF(L7:L37,T22)","v":12},{"$f":"U22/(W4-U20)","v":0.4},{"$f":"IF(V22=0,0,(V22*((LOG(V22))/LOG(2))))","v":-0.52877123795494496},null,{"$f":"N22","v":2222},{"$f":"COUNTIF(L38:L68,Y22)","v":11},{"$f":"Z22/(AB4-Z20)","v":0.40740740740740738},{"$f":"IF(AA22=0,0,(AA22*((LOG(AA22))/LOG(2))))","v":-0.52777832291806981},null,{"$f":"N22","v":2222},{"$f":"COUNTIF(L69:L98,AD22)","v":12},{"$f":"AE22/(AG4-AE20)","v":0.46153846153846156},{"$f":"IF(AF22=0,0,(AF22*((LOG(AF22))/LOG(2))))","v":-0.51483563880920125},null,{"$f":"N22","v":2222},{"$f":"COUNTIF(L99:L129,AI22)","v":14},{"$f":"AJ22/(AL4-AJ20)","v":0.51851851851851849},{"$f":"IF(AK22=0,0,(AK22*((LOG(AK22))/LOG(2))))","v":-0.49131318968452231},null,{"$f":"N22","v":2222},{"$f":"COUNTIF(L130:L160,AN22)","v":14},{"$f":"AO22/(AQ4-AO20)","v":0.51851851851851849},{"$f":"IF(AP22=0,0,(AP22*((LOG(AP22))/LOG(2))))","v":-0.49131318968452231},null,{"$f":"N22","v":2222},{"$f":"COUNTIF(L161:L191,AS22)","v":16},{"$f":"AT22/(AV4-AT20)","v":0.59259259259259256},{"$f":"IF(AU22=0,0,(AU22*((LOG(AU22))/LOG(2))))","v":-0.44734074202279617}]
[21,1941,12,1945,24,1946,23,1951,null,null,0,2122,null,null,null,{"$f":"SUM(P7:P22)","v":1},{"$f":"-SUM(Q7:Q22)","v":2.4899770800770682},null,null,null,null,{"$f":"SUM(V7:V22)","v":1},{"$f":"-SUM(W7:W22)","v":2.2770954959558156},null,null,null,{"$f":"SUM(AA7:AA22)","v":1},{"$f":"-SUM(AB7:AB22)","v":1.9925514718675026},null,null,null,{"$f":"SUM(AF7:AF22)","v":1},{"$f":"-SUM(AG7:AG22)","v":2.3723887561033683},null,null,null,{"$f":"SUM(AK7:AK22)","v":1},{"$f":"-SUM(AL7:AL22)","v":1.6825003405631098},null,null,null,{"$f":"SUM(AP7:AP22)","v":1},{"$f":"-SUM(AQ7:AQ22)","v":1.9379298573127302},null,null,null,{"$f":"SUM(AU7:AU22)","v":1},{"$f":"-SUM(AV7:AV22)","v":1.8380398168981547}]
[21,2046,21,2050,22,2054,23,2062,null,null,0,2222,null,null,null,"U=",{"$f":"Q23/(LOG(Q4)/LOG(2))","v":0.33061359235764542},null,null,null,null,"U1=",{"$f":"W23/(LOG(W4)/LOG(2))","v":0.45962964591889505},null,null,null,"U2=",{"$f":"AB23/(LOG(AB4)/LOG(2))","v":0.40219469456427404},null,null,null,"U3=",{"$f":"AG23/(LOG(AG4)/LOG(2))","v":0.48348107826707332},null,null,null,"U4=",{"$f":"AL23/(LOG(AL4)/LOG(2))","v":0.33961115691673566},null,null,null,"U5=",{"$f":"AQ23/(LOG(AQ4)/LOG(2))","v":0.3911693715587537},null,null,null,"U6=",{"$f":"AV23/(LOG(AV4)/LOG(2))","v":0.37100665814242262}]
[12,2155,14,2168,24,2175,23,2182,null,null,0,1122]
[21,2285,12,2289,24,2295,23,2301,null,null,0,2122]
[12,2399,23,2407,24,2412,23,2418,null,null,0,1222,null,"Total Target Seq"]
[12,2520,23,2528,24,2534,23,2539,null,null,0,1222,null,{"$f":"COUNTIF(L7:L191,G3)","v":21},null,31,31,30,31,31,31]
[21,2637,21,2642,22,2648,14,2651,null,null,0,2221,null,null,null,"% of reinforcement given in 6 equal intervals based on number of trials "]
[21,2747,21,2750,22,2756,23,2770,null,null,0,2222,null,null,null,"%_1","%_2","%_3","%_4","%_5","%_6"]
[21,2872,21,2876,22,2881,14,2886,null,null,0,2221,null,null,"target sequence",{"$f":"$G$3","v":2212},{"$f":"$G$3","v":2212},{"$f":"$G$3","v":2212},{"$f":"$G$3","v":2212},{"$f":"$G$3","v":2212},{"$f":"$G$3","v":2212}]
[21,2983,21,2986,22,2992,23,2998,null,null,0,2222,null,null,"total reinforcement",{"$f":"U20","v":1},{"$f":"Z20","v":4},{"$f":"AE20","v":4},{"$f":"AJ20","v":4},{"$f":"AO20","v":4},{"$f":"AT20","v":4}]
[21,3096,12,3099,24,3101,23,3106,null,null,0,2122,null,null,"% target"]
[12,3198,23,3208,24,3211,14,3214,null,null,0,1221,null,null,"CCRF"]
[21,3307,12,3311,24,3314,23,3317,null,null,0,2122,null,null,"% CCRf"]
[12,3410,23,3412,24,3417,23,3424,null,null,0,1222,null,null,"average response rate",{"$f":"H37/P28","v":114.09677419354838},{"$f":"(H68-H37)/Q28","v":129.51612903225808},{"$f":"(H98-H68)/R28","v":128.73333333333332},{"$f":"(H129-H98)/S28","v":129.58064516129033},{"$f":"(H160-H129)/T28","v":136.25806451612902},{"$f":"(H191-H160)/U28","v":129.35483870967741}]
[21,3517,21,3523,22,3530,23,3537,null,null,0,2222]
[12,3631,23,3637,24,3640,23,3647,null,null,0,1222]
[21,3744,12,3746,24,3751,23,3755,null,null,0,2122]
[21,3847,21,3851,22,3854,23,3860,null,null,0,2222]
[21,3967,12,3971,24,3978,23,3985,null,null,0,2122]
[21,4084,21,4088,22,4091,23,4096,null,null,0,2222]
[12,4189,14,4192,24,4194,23,4197,null,null,0,1122]
[21,4295,21,4299,11,4301,21,4316,null,null,0,2212]
[12,4490,23,4500,24,4505,23,4510,null,null,0,1222]
[12,4677,23,4687,24,4698,14,4704,null,null,0,1221]
[21,4803,21,4810,22,4819,23,4827,null,null,0,2222]
[21,4923,21,4925,11,4928,21,4931,null,null,0,2212]
[12,5093,23,5104,24,5117,23,5124,null,null,0,1222]
[12,5226,23,5228,24,5233,23,5246,null,null,0,1222]
[21,5342,12,5350,24,5354,23,5359,null,null,0,2122]
[21,5462,12,5471,24,5479,23,5487,null,null,0,2122]
[21,5582,21,5588,22,5594,23,5600,null,null,0,2222]
[12,5694,23,5698,24,5710,23,5719,null,null,0,1222]
[21,5817,21,5822,11,5827,21,5834,null,null,0,2212]
[12,6049,23,6060,24,6065,23,6071,null,null,0,1222]
[12,6165,23,6183,24,6192,23,6197,null,null,0,1222]
[21,6293,21,6297,11,6303,21,6311,null,null,0,2212]
[12,6468,23,6478,24,6483,23,6490,null,null,0,1222]
[12,6618,23,6629,24,6638,23,6644,null,null,0,1222]
[21,6739,21,6746,22,6754,23,6760,null,null,0,2222]
[21,6852,21,6862,22,6866,23,6872,null,null,0,2222]
[21,6966,21,6970,22,6976,23,6982,null,null,0,2222]
[21,7075,21,7080,22,7091,23,7097,null,null,0,2222]
[21,7192,21,7196,22,7202,23,7208,null,null,0,2222]
[21,7301,21,7306,22,7312,14,7316,null,null,0,2221]
[21,7416,21,7421,22,7426,23,7431,null,null,0,2222]
[21,7532,21,7537,22,7542,23,7552,null,null,0,2222]
[21,7645,12,7648,24,7650,14,7652,null,null,0,2121]
[21,7747,21,7750,22,7759,23,7765,null,null,0,2222]
[12,7857,23,7862,24,7867,23,7873,null,null,0,1222]
[12,7969,23,7975,13,7977,23,7979,null,null,0,1212]
[12,8072,23,8076,24,8083,23,8089,null,null,0,1222]
[21,8185,21,8189,22,8194,23,8201,null,null,0,2222]
[12,8294,23,8306,13,8312,23,8316,null,null,0,1212]
[21,8413,21,8417,22,8423,23,8434,null,null,0,2222]
[21,8538,21,8545,22,8550,23,8557,null,null,0,2222]
[21,8652,12,8655,13,8657,23,8662,null,null,0,2112]
[21,8758,21,8763,22,8768,23,8780,null,null,0,2222]
[21,8889,21,8894,11,8897,21,8904,null,null,0,2212]
[21,9012,21,9018,22,9036,23,9049,null,null,0,2222]
[21,9173,21,9181,22,9184,23,9187,null,null,0,2222]
[21,9284,21,9287,11,9290,21,9296,null,null,0,2212]
[12,9486,23,9499,24,9511,23,9518,null,null,0,1222]
[12,9619,23,9629,13,9633,23,9634,null,null,0,1212]
[21,9731,21,9739,22,9747,23,9753,null,null,0,2222]
[21,9845,21,9853,22,9859,23,9866,null,null,0,2222]
[21,9961,21,9964,11,9967,21,9969,null,null,0,2212]
[12,10197,23,10212,24,10218,23,10224,null,null,0,1222]
[12,10373,14,10387,24,10395,23,10404,null,null,0,1122]
[21,10503,21,10507,22,10513,23,10519,null,null,0,2222]
[12,10635,23,10648,24,10653,14,10656,null,null,0,1221]
[21,10751,21,10754,11,10756,21,10758,null,null,0,2212]
[12,10884,14,10890,24,10900,23,10906,null,null,0,1122]
[21,11026,12,11031,24,11039,23,11045,null,null,0,2122]
[12,11166,14,11168,24,11174,23,11178,null,null,0,1122]
[21,11275,21,11282,22,11289,23,11297,null,null,0,2222]
[21,11392,21,11395,22,11401,23,11414,null,null,0,2222]
[21,11510,21,11516,22,11520,23,11527,null,null,0,2222]
[21,11629,12,11633,24,11639,23,11647,null,null,0,2122]
[21,11747,21,11751,11,11754,21,11760,null,null,0,2212]
[12,12017,23,12021,24,12027,23,12033,null,null,0,1222]
[21,12127,12,12129,24,12133,23,12139,null,null,0,2122]
[21,12231,21,12237,22,12242,23,12248,null,null,0,2222]
[21,12346,12,12351,24,12357,23,12365,null,null,0,2122]
[12,12462,23,12467,24,12471,23,12477,null,null,0,1222]
[21,12575,21,12582,22,12588,23,12594,null,null,0,2222]
[21,12694,21,12698,11,12700,21,12704,null,null,0,2212]
[12,12957,23,12970,24,12978,23,12984,null,null,0,1222]
[12,13076,23,13082,24,13089,23,13095,null,null,0,1222]
[21,13189,21,13196,22,13203,23,13213,null,null,0,2222]
[21,13305,21,13309,22,13313,14,13316,null,null,0,2221]
[21,13409,21,13413,22,13417,23,13422,null,null,0,2222]
[21,13517,21,13523,11,13524,21,13529,null,null,0,2212]
[12,13715,23,13727,24,13739,23,13753,null,null,0,1222]
[21,13850,21,13854,22,13861,23,13868,null,null,0,2222]
[21,13964,21,13968,11,13973,21,13975,null,null,0,2212]
[21,14092,21,14104,22,14117,23,14129,null,null,0,2222]
[21,14257,21,14262,22,14268,14,14273,null,null,0,2221]
[21,14367,21,14371,22,14377,23,14389,null,null,0,2222]
[21,14487,21,14492,22,14498,23,14507,null,null,0,2222]
[12,14601,23,14610,24,14617,23,14623,null,null,0,1222]
[21,14717,21,14727,22,14734,23,14742,null,null,0,2222]
[21,14837,21,14842,22,14848,23,14855,null,null,0,2222]
[21,14947,21,14957,22,14965,23,14971,null,null,0,2222]
[21,15068,21,15081,22,15086,23,15093,null,null,0,2222]
[21,15187,12,15193,24,15199,23,15207,null,null,0,2122]
[12,15299,23,15305,24,15308,23,15315,null,null,0,1222]
[21,15415,21,15418,22,15423,23,15431,null,null,0,2222]
[21,15526,21,15531,22,15540,23,15547,null,null,0,2222]
[21,15640,21,15648,22,15654,23,15661,null,null,0,2222]
[21,15753,12,15755,24,15758,23,15765,null,null,0,2122]
[21,15859,21,15863,11,15865,21,15868,null,null,0,2212]
[12,16093,23,16102,13,16117,23,16124,null,null,0,1212]
[21,16243,12,16246,24,16248,23,16260,null,null,0,2122]
[21,16355,21,16360,22,16366,23,16373,null,null,0,2222]
[21,16468,21,16472,22,16481,23,16489,null,null,0,2222]
[21,16585,21,16591,22,16596,23,16604,null,null,0,2222]
[21,16699,21,16703,22,16709,23,16715,null,null,0,2222]
[21,16807,21,16811,22,16819,23,16826,null,null,0,2222]
[12,16920,23,16923,13,16925,23,16928,null,null,0,1212]
[21,17024,21,17028,22,17032,23,17042,null,null,0,2222]
[21,17137,21,17145,22,17154,23,17162,null,null,0,2222]
[21,17262,21,17267,22,17273,23,17281,null,null,0,2222]
[21,17376,12,17380,24,17383,23,17391,null,null,0,2122]
[12,17484,23,17488,24,17495,23,17503,null,null,0,1222]
[21,17608,21,17612,11,17616,21,17617,null,null,0,2212]
[12,17888,23,17898,24,17902,23,17907,null,null,0,1222]
[12,18011,23,18029,24,18033,23,18038,null,null,0,1222]
[12,18134,23,18136,24,18143,23,18152,null,null,0,1222]
[21,18248,21,18260,22,18265,23,18271,null,null,0,2222]
[21,18366,21,18372,22,18380,23,18385,null,null,0,2222]
[21,18479,21,18483,11,18486,21,18489,null,null,0,2212]
[12,18753,14,18759,24,18767,23,18772,null,null,0,1122]
[21,18869,12,18875,24,18880,23,18885,null,null,0,2122]
[21,18979,21,18985,22,18990,23,18997,null,null,0,2222]
[21,19093,21,19099,11,19103,21,19108,null,null,0,2212]
[12,19369,14,19376,24,19408,23,19413,null,null,0,1122]
[21,19511,21,19524,22,19533,23,19541,null,null,0,2222]
[12,19638,23,19643,13,19646,23,19655,null,null,0,1212]
[21,19753,21,19759,22,19764,23,19771,null,null,0,2222]
[21,19866,21,19872,22,19889,23,19893,null,null,0,2222]
[21,19989,21,19995,22,20002,23,20011,null,null,0,2222]
[21,20104,21,20109,22,20115,23,20121,null,null,0,2222]
[21,20225,12,20233,24,20235,23,20239,null,null,0,2122]
[21,20331,12,20336,24,20344,14,20347,null,null,0,2121]
[21,20442,21,20447,22,20455,23,20460,null,null,0,2222]
[21,20560,21,20562,11,20565,21,20567,null,null,0,2212]
[12,20836,14,20846,24,20858,23,20861,null,null,0,1122]
[12,21004,23,21007,13,21016,23,21018,null,null,0,1212]
[21,21111,21,21114,11,21118,21,21126,null,null,0,2212]
[21,21270,21,21281,22,21287,23,21294,null,null,0,2222]
[21,21391,12,21393,24,21395,23,21401,null,null,0,2122]
[12,21493,23,21495,24,21501,23,21507,null,null,0,1222]
[21,21603,21,21608,22,21614,23,21625,null,null,0,2222]
[21,21722,21,21726,22,21731,23,21739,null,null,0,2222]
[21,21832,21,21838,22,21845,23,21856,null,null,0,2222]
[21,21951,21,21963,11,21966,21,21968,null,null,0,2212]
[12,22106,23,22117,24,22129,23,22136,null,null,0,1222]
[21,22228,21,22233,22,22238,23,22247,null,null,0,2222]
[12,22350,14,22360,24,22365,23,22369,null,null,0,1122]
[21,22469,12,22472,24,22474,23,22480,null,null,0,2122]
[21,22577,12,22581,24,22582,23,22590,null,null,0,2122]
[21,22686,21,22691,22,22697,23,22704,null,null,0,2222]
[21,22799,21,22806,22,22835,23,22840,null,null,0,2222]
[21,22941,21,22948,22,22952,23,22959,null,null,0,2222]
[21,23052,21,23056,22,23062,23,23068,null,null,0,2222]
[21,23162,21,23185,22,23192,23,23197,null,null,0,2222]
[21,23294,21,23302,11,23305,21,23309,null,null,0,2212]
[21,23509,21,23521,22,23531,23,23540,null,null,0,2222]
[12,23644,23,23651,24,23657,23,23665,null,null,0,1222]

{"sheet":"!M701B30.Gus","index":12,"n_rows":192,"n_cols":48,"rows_kept":192,"cut":false,"hidden":false,"merged":[[4,39,4,42],[5,39,5,40],[4,44,4,47],[5,44,5,45],[4,24,4,27],[5,24,5,25],[4,29,4,32],[5,29,5,30],[4,34,4,37],[5,34,5,35],[1,1,1,2],[5,13,5,14],[26,13,26,14],[27,13,27,14],[4,19,4,22],[5,19,5,20]]}
["Report for:!M701B30.Gus"]
["Date:","<date>"]
["Hen:","<hen>",null,null,null,"Correct Sequence",{"$f":"Start!J2","v":2212},null,null,null,null,null,null,null,null,"Total Sequences in Data",{"$f":"4994-COUNTBLANK(L7:L5000)","v":186},null,null,null,null,"Total Sequences in Block Data",{"$f":"COUNTA(L7:L37)","v":31},null,null,null,"Total Sequences in Block Data",{"$f":"COUNTA(L38:L68)","v":31},null,null,null,"Total Sequences in Block Data",{"$f":"COUNTA(L69:L99)","v":31},null,null,null,"Total Sequences in Block Data",{"$f":"COUNTA(L100:L130)","v":31},null,null,null,"Total Sequences in Block Data",{"$f":"COUNTA(L131:L161)","v":31},null,null,null,"Total Sequences in Block Data",{"$f":"COUNTA(L162:L192)","v":31}]
[null,null,null,null,null,null,null,null,null,null,null,null,null,null,null,"Total Sequences in Summary",{"$f":"SUM(O7:O22)","v":185},null,null,null,null,"Total Sequences in Block Summary",{"$f":"SUM(U7:U22)","v":31},null,null,null,"Total Sequences in Block Summary",{"$f":"SUM(Z7:Z22)","v":31},null,null,null,"Total Sequences in Block Summary",{"$f":"SUM(AE7:AE22)","v":31},null,null,null,"Total Sequences in Block Summary",{"$f":"SUM(AJ7:AJ22)","v":31},null,null,null,"Total Sequences in Block Summary",{"$f":"SUM(AO7:AO22)","v":31},null,null,null,"Total Sequences in Block Summary",{"$f":"SUM(AT7:AT22)","v":30}]
[null,null,null,null,null,null,null,null,null,null,null,null,null,null,null,null,null,null,null,"Block 1",null,null,null,null,"Block 2",null,null,null,null,"Block 3",null,null,null,null,"Block 4",null,null,null,null,"Block 5",null,null,null,null,"Block 6"]
["Sequence\nComponent\n1","Time\n1","Sequence\nComponent\n2","Time\n2","Sequence\nComponent\n3","Time\n3","Sequence\nComponent\n4","Time\n4","Sequence\nComponent\n5","Time\n5","Correct?\n0=No 1=Yes","Sequence",null,"Frequency",null,"Relative Frequency","Variability",null,null,"Frequency",null,"Relative Frequency","Variability",null,"Frequency",null,"Relative Frequency","Variability",null,"Frequency",null,"Relative Frequency","Variability",null,"Frequency",null,"Relative Frequency","Variability",null,"Frequency",null,"Relative Frequency","Variability",null,"Frequency",null,"Relative Frequency","Variability"]
[21,85,21,89,22,93,23,99,null,null,0,2222,null,1111,{"$f":"COUNTIF($L$7:$L$500,N7)","v":0},{"$f":"O7/$Q$4","v":0},{"$f":"IF(P7=0,0,(P7*((LOG(P7))/LOG(2))))","v":0},null,null,{"$f":"N7","v":1111},{"$f":"COUNTIF(L7:L37,T7)","v":0},{"$f":"U7/(W4-U20)","v":0},{"$f":"IF(V7=0,0,(V7*((LOG(V7))/LOG(2))))","v":0},null,{"$f":"N7","v":1111},{"$f":"COUNTIF(L38:L68,Y7)","v":0},{"$f":"Z7/(AB4-Z20)","v":0},{"$f":"IF(AA7=0,0,(AA7*((LOG(AA7))/LOG(2))))","v":0},null,{"$f":"N7","v":1111},{"$f":"COUNTIF(L69:L99,AD7)","v":0},{"$f":"AE7/(AG4-AE20)","v":0},{"$f":"IF(AF7=0,0,(AF7*((LOG(AF7))/LOG(2))))","v":0},null,{"$f":"N7","v":1111},{"$f":"COUNTIF(L100:L130,AI7)","v":0},{"$f":"AJ7/(AL4-AJ20)","v":0},{"$f":"IF(AK7=0,0,(AK7*((LOG(AK7))/LOG(2))))","v":0},null,{"$f":"N7","v":1111},{"$f":"COUNTIF(L131:L161,AN7)","v":0},{"$f":"AO7/(AQ4-AO20)","v":0},{"$f":"IF(AP7=0,0,(AP7*((LOG(AP7))/LOG(2))))","v":0},null,{"$f":"N7","v":1111},{"$f":"COUNTIF(L162:L192,AS7)","v":0},{"$f":"AT7/(AV4-AT20)","v":0},{"$f":"IF(AU7=0,0,(AU7*((LOG(AU7))/LOG(2))))","v":0}]
[21,196,21,200,22,205,23,211,null,null,0,2222,null,1112,{"$f":"COUNTIF($L$7:$L$500,N8)","v":3},{"$f":"O8/$Q$4","v":1.6216216216216217E-2},{"$f":"IF(P8=0,0,(P8*((LOG(P8))/LOG(2))))","v":-9.6428415564245779E-2},null,null,{"$f":"N8","v":1112},{"$f":"COUNTIF(L7:L37,T8)","v":0},{"$f":"U8/(W4-U20)","v":0},{"$f":"IF(V8=0,0,(V8*((LOG(V8))/LOG(2))))","v":0},null,{"$f":"N8","v":1112},{"$f":"COUNTIF(L38:L68,Y8)","v":0},{"$f":"Z8/(AB4-Z20)","v":0},{"$f":"IF(AA8=0,0,(AA8*((LOG(AA8))/LOG(2))))","v":0},null,{"$f":"N8","v":1112},{"$f":"COUNTIF(L69:L99,AD8)","v":1},{"$f":"AE8/(AG4-AE20)","v":3.5714285714285712E-2},{"$f":"IF(AF8=0,0,(AF8*((LOG(AF8))/LOG(2))))","v":-0.17169124721634299},null,{"$f":"N8","v":1112},{"$f":"COUNTIF(L100:L130,AI8)","v":1},{"$f":"AJ8/(AL4-AJ20)","v":0.04},{"$f":"IF(AK8=0,0,(AK8*((LOG(AK8))/LOG(2))))","v":-0.18575424759098899},null,{"$f":"N8","v":1112},{"$f":"COUNTIF(L131:L161,AN8)","v":0},{"$f":"AO8/(AQ4-AO20)","v":0},{"$f":"IF(AP8=0,0,(AP8*((LOG(AP8))/LOG(2))))","v":0},null,{"$f":"N8","v":1112},{"$f":"COUNTIF(L162:L192,AS8)","v":1},{"$f":"AT8/(AV4-AT20)","v":4.1666666666666664E-2},{"$f":"IF(AU8=0,0,(AU8*((LOG(AU8))/LOG(2))))","v":-0.19104010419671485}]
[12,318,23,329,13,334,23,339,null,null,0,1212,null,1121,{"$f":"COUNTIF($L$7:$L$500,N9)","v":1},{"$f":"O9/$Q$4","v":5.4054054054054057E-3},{"$f":"IF(P9=0,0,(P9*((LOG(P9))/LOG(2))))","v":-4.0710170056844928E-2},null,null,{"$f":"N9","v":1121},{"$f":"COUNTIF(L7:L37,T9)","v":0},{"$f":"U9/(W4-U20)","v":0},{"$f":"IF(V9=0,0,(V9*((LOG(V9))/LOG(2))))","v":0},null,{"$f":"N9","v":1121},{"$f":"COUNTIF(L38:L68,Y9)","v":1},{"$f":"Z9/(AB4-Z20)","v":3.5714285714285712E-2},{"$f":"IF(AA9=0,0,(AA9*((LOG(AA9))/LOG(2))))","v":-0.17169124721634299},null,{"$f":"N9","v":1121},{"$f":"COUNTIF(L69:L99,AD9)","v":0},{"$f":"AE9/(AG4-AE20)","v":0},{"$f":"IF(AF9=0,0,(AF9*((LOG(AF9))/LOG(2))))","v":0},null,{"$f":"N9","v":1121},{"$f":"COUNTIF(L100:L130,AI9)","v":0},{"$f":"AJ9/(AL4-AJ20)","v":0},{"$f":"IF(AK9=0,0,(AK9*((LOG(AK9))/LOG(2))))","v":0},null,{"$f":"N9","v":1121},{"$f":"COUNTIF(L131:L161,AN9)","v":0},{"$f":"AO9/(AQ4-AO20)","v":0},{"$f":"IF(AP9=0,0,(AP9*((LOG(AP9))/LOG(2))))","v":0},null,{"$f":"N9","v":1121},{"$f":"COUNTIF(L162:L192,AS9)","v":0},{"$f":"AT9/(AV4-AT20)","v":0},{"$f":"IF(AU9=0,0,(AU9*((LOG(AU9))/LOG(2))))","v":0}]
[21,450,21,454,22,457,14,458,null,null,0,2221,null,1122,{"$f":"COUNTIF($L$7:$L$500,N10)","v":5},{"$f":"O10/$Q$4","v":2.7027027027027029E-2},{"$f":"IF(P10=0,0,(P10*((LOG(P10))/LOG(2))))","v":-0.14079603690889056},null,null,{"$f":"N10","v":1122},{"$f":"COUNTIF(L7:L37,T10)","v":0},{"$f":"U10/(W4-U20)","v":0},{"$f":"IF(V10=0,0,(V10*((LOG(V10))/LOG(2))))","v":0},null,{"$f":"N10","v":1122},{"$f":"COUNTIF(L38:L68,Y10)","v":0},{"$f":"Z10/(AB4-Z20)","v":0},{"$f":"IF(AA10=0,0,(AA10*((LOG(AA10))/LOG(2))))","v":0},null,{"$f":"N10","v":1122},{"$f":"COUNTIF(L69:L99,AD10)","v":1},{"$f":"AE10/(AG4-AE20)","v":3.5714285714285712E-2},{"$f":"IF(AF10=0,0,(AF10*((LOG(AF10))/LOG(2))))","v":-0.17169124721634299},null,{"$f":"N10","v":1122},{"$f":"COUNTIF(L100:L130,AI10)","v":2},{"$f":"AJ10/(AL4-AJ20)","v":0.08},{"$f":"IF(AK10=0,0,(AK10*((LOG(AK10))/LOG(2))))","v":-0.29150849518197797},null,{"$f":"N10","v":1122},{"$f":"COUNTIF(L131:L161,AN10)","v":1},{"$f":"AO10/(AQ4-AO20)","v":3.3333333333333333E-2},{"$f":"IF(AP10=0,0,(AP10*((LOG(AP10))/LOG(2))))","v":-0.16356301985361729},null,{"$f":"N10","v":1122},{"$f":"COUNTIF(L162:L192,AS10)","v":1},{"$f":"AT10/(AV4-AT20)","v":4.1666666666666664E-2},{"$f":"IF(AU10=0,0,(AU10*((LOG(AU10))/LOG(2))))","v":-0.19104010419671485}]
[21,552,12,555,24,574,23,581,null,null,0,2122,null,1211,{"$f":"COUNTIF($L$7:$L$500,N11)","v":0},{"$f":"O11/$Q$4","v":0},{"$f":"IF(P11=0,0,(P11*((LOG(P11))/LOG(2))))","v":0},null,null,{"$f":"N11","v":1211},{"$f":"COUNTIF(L7:L37,T11)","v":0},{"$f":"U11/(W4-U20)","v":0},{"$f":"IF(V11=0,0,(V11*((LOG(V11))/LOG(2))))","v":0},null,{"$f":"N11","v":1211},{"$f":"COUNTIF(L38:L68,Y11)","v":0},{"$f":"Z11/(AB4-Z20)","v":0},{"$f":"IF(AA11=0,0,(AA11*((LOG(AA11))/LOG(2))))","v":0},null,{"$f":"N11","v":1211},{"$f":"COUNTIF(L69:L99,AD11)","v":0},{"$f":"AE11/(AG4-AE20)","v":0},{"$f":"IF(AF11=0,0,(AF11*((LOG(AF11))/LOG(2))))","v":0},null,{"$f":"N11","v":1211},{"$f":"COUNTIF(L100:L130,AI11)","v":0},{"$f":"AJ11/(AL4-AJ20)","v":0},{"$f":"IF(AK11=0,0,(AK11*((LOG(AK11))/LOG(2))))","v":0},null,{"$f":"N11","v":1211},{"$f":"COUNTIF(L131:L161,AN11)","v":0},{"$f":"AO11/(AQ4-AO20)","v":0},{"$f":"IF(AP11=0,0,(AP11*((LOG(AP11))/LOG(2))))","v":0},null,{"$f":"N11","v":1211},{"$f":"COUNTIF(L162:L192,AS11)","v":0},{"$f":"AT11/(AV4-AT20)","v":0},{"$f":"IF(AU11=0,0,(AU11*((LOG(AU11))/LOG(2))))","v":0}]
[21,679,12,681,24,684,23,688,null,null,0,2122,null,1212,{"$f":"COUNTIF($L$7:$L$500,N12)","v":4},{"$f":"O12/$Q$4","v":2.1621621621621623E-2},{"$f":"IF(P12=0,0,(P12*((LOG(P12))/LOG(2))))","v":-0.11959743698413648},null,null,{"$f":"N12","v":1212},{"$f":"COUNTIF(L7:L37,T12)","v":2},{"$f":"U12/(W4-U20)","v":7.407407407407407E-2},{"$f":"IF(V12=0,0,(V12*((LOG(V12))/LOG(2))))","v":-0.27813981497507173},null,{"$f":"N12","v":1212},{"$f":"COUNTIF(L38:L68,Y12)","v":0},{"$f":"Z12/(AB4-Z20)","v":0},{"$f":"IF(AA12=0,0,(AA12*((LOG(AA12))/LOG(2))))","v":0},null,{"$f":"N12","v":1212},{"$f":"COUNTIF(L69:L99,AD12)","v":0},{"$f":"AE12/(AG4-AE20)","v":0},{"$f":"IF(AF12=0,0,(AF12*((LOG(AF12))/LOG(2))))","v":0},null,{"$f":"N12","v":1212},{"$f":"COUNTIF(L100:L130,AI12)","v":2},{"$f":"AJ12/(AL4-AJ20)","v":0.08},{"$f":"IF(AK12=0,0,(AK12*((LOG(AK12))/LOG(2))))","v":-0.29150849518197797},null,{"$f":"N12","v":1212},{"$f":"COUNTIF(L131:L161,AN12)","v":0},{"$f":"AO12/(AQ4-AO20)","v":0},{"$f":"IF(AP12=0,0,(AP12*((LOG(AP12))/LOG(2))))","v":0},null,{"$f":"N12","v":1212},{"$f":"COUNTIF(L162:L192,AS12)","v":0},{"$f":"AT12/(AV4-AT20)","v":0},{"$f":"IF(AU12=0,0,(AU12*((LOG(AU12))/LOG(2))))","v":0}]
[21,790,21,795,22,800,14,805,null,null,0,2221,null,1221,{"$f":"COUNTIF($L$7:$L$500,N13)","v":3},{"$f":"O13/$Q$4","v":1.6216216216216217E-2},{"$f":"IF(P13=0,0,(P13*((LOG(P13))/LOG(2))))","v":-9.6428415564245779E-2},null,null,{"$f":"N13","v":1221},{"$f":"COUNTIF(L7:L37,T13)","v":1},{"$f":"U13/(W4-U20)","v":3.7037037037037035E-2},{"$f":"IF(V13=0,0,(V13*((LOG(V13))/LOG(2))))","v":-0.1761069445245729},null,{"$f":"N13","v":1221},{"$f":"COUNTIF(L38:L68,Y13)","v":0},{"$f":"Z13/(AB4-Z20)","v":0},{"$f":"IF(AA13=0,0,(AA13*((LOG(AA13))/LOG(2))))","v":0},null,{"$f":"N13","v":1221},{"$f":"COUNTIF(L69:L99,AD13)","v":1},{"$f":"AE13/(AG4-AE20)","v":3.5714285714285712E-2},{"$f":"IF(AF13=0,0,(AF13*((LOG(AF13))/LOG(2))))","v":-0.17169124721634299},null,{"$f":"N13","v":1221},{"$f":"COUNTIF(L100:L130,AI13)","v":1},{"$f":"AJ13/(AL4-AJ20)","v":0.04},{"$f":"IF(AK13=0,0,(AK13*((LOG(AK13))/LOG(2))))","v":-0.18575424759098899},null,{"$f":"N13","v":1221},{"$f":"COUNTIF(L131:L161,AN13)","v":0},{"$f":"AO13/(AQ4-AO20)","v":0},{"$f":"IF(AP13=0,0,(AP13*((LOG(AP13))/LOG(2))))","v":0},null,{"$f":"N13","v":1221},{"$f":"COUNTIF(L162:L192,AS13)","v":0},{"$f":"AT13/(AV4-AT20)","v":0},{"$f":"IF(AU13=0,0,(AU13*((LOG(AU13))/LOG(2))))","v":0}]
[12,898,23,909,13,915,23,919,null,null,0,1212,null,1222,{"$f":"COUNTIF($L$7:$L$500,N14)","v":40},{"$f":"O14/$Q$4","v":0.21621621621621623},{"$f":"IF(P14=0,0,(P14*((LOG(P14))/LOG(2))))","v":-0.47771964662247562},null,null,{"$f":"N14","v":1222},{"$f":"COUNTIF(L7:L37,T14)","v":8},{"$f":"U14/(W4-U20)","v":0.29629629629629628},{"$f":"IF(V14=0,0,(V14*((LOG(V14))/LOG(2))))","v":-0.51996666730769436},null,{"$f":"N14","v":1222},{"$f":"COUNTIF(L38:L68,Y14)","v":9},{"$f":"Z14/(AB4-Z20)","v":0.32142857142857145},{"$f":"IF(AA14=0,0,(AA14*((LOG(AA14))/LOG(2))))","v":-0.5263167601977724},null,{"$f":"N14","v":1222},{"$f":"COUNTIF(L69:L99,AD14)","v":7},{"$f":"AE14/(AG4-AE20)","v":0.25},{"$f":"IF(AF14=0,0,(AF14*((LOG(AF14))/LOG(2))))","v":-0.5},null,{"$f":"N14","v":1222},{"$f":"COUNTIF(L100:L130,AI14)","v":4},{"$f":"AJ14/(AL4-AJ20)","v":0.16},{"$f":"IF(AK14=0,0,(AK14*((LOG(AK14))/LOG(2))))","v":-0.42301699036395596},null,{"$f":"N14","v":1222},{"$f":"COUNTIF(L131:L161,AN14)","v":7},{"$f":"AO14/(AQ4-AO20)","v":0.23333333333333334},{"$f":"IF(AP14=0,0,(AP14*((LOG(AP14))/LOG(2))))","v":-0.48989165716187993},null,{"$f":"N14","v":1222},{"$f":"COUNTIF(L162:L192,AS14)","v":5},{"$f":"AT14/(AV4-AT20)","v":0.20833333333333334},{"$f":"IF(AU14=0,0,(AU14*((LOG(AU14))/LOG(2))))","v":-0.47146550121537367}]
[21,1018,21,1023,11,1032,21,1039,null,null,0,2212,null,2111,{"$f":"COUNTIF($L$7:$L$500,N15)","v":0},{"$f":"O15/$Q$4","v":0},{"$f":"IF(P15=0,0,(P15*((LOG(P15))/LOG(2))))","v":0},null,null,{"$f":"N15","v":2111},{"$f":"COUNTIF(L7:L37,T15)","v":0},{"$f":"U15/(W4-U20)","v":0},{"$f":"IF(V15=0,0,(V15*((LOG(V15))/LOG(2))))","v":0},null,{"$f":"N15","v":2111},{"$f":"COUNTIF(L38:L68,Y15)","v":0},{"$f":"Z15/(AB4-Z20)","v":0},{"$f":"IF(AA15=0,0,(AA15*((LOG(AA15))/LOG(2))))","v":0},null,{"$f":"N15","v":2111},{"$f":"COUNTIF(L69:L99,AD15)","v":0},{"$f":"AE15/(AG4-AE20)","v":0},{"$f":"IF(AF15=0,0,(AF15*((LOG(AF15))/LOG(2))))","v":0},null,{"$f":"N15","v":2111},{"$f":"COUNTIF(L100:L130,AI15)","v":0},{"$f":"AJ15/(AL4-AJ20)","v":0},{"$f":"IF(AK15=0,0,(AK15*((LOG(AK15))/LOG(2))))","v":0},null,{"$f":"N15","v":2111},{"$f":"COUNTIF(L131:L161,AN15)","v":0},{"$f":"AO15/(AQ4-AO20)","v":0},{"$f":"IF(AP15=0,0,(AP15*((LOG(AP15))/LOG(2))))","v":0},null,{"$f":"N15","v":2111},{"$f":"COUNTIF(L162:L192,AS15)","v":0},{"$f":"AT15/(AV4-AT20)","v":0},{"$f":"IF(AU15=0,0,(AU15*((LOG(AU15))/LOG(2))))","v":0}]
[12,1228,23,1238,24,1249,23,1257,null,null,0,1222,null,2112,{"$f":"COUNTIF($L$7:$L$500,N16)","v":3},{"$f":"O16/$Q$4","v":1.6216216216216217E-2},{"$f":"IF(P16=0,0,(P16*((LOG(P16))/LOG(2))))","v":-9.6428415564245779E-2},null,null,{"$f":"N16","v":2112},{"$f":"COUNTIF(L7:L37,T16)","v":0},{"$f":"U16/(W4-U20)","v":0},{"$f":"IF(V16=0,0,(V16*((LOG(V16))/LOG(2))))","v":0},null,{"$f":"N16","v":2112},{"$f":"COUNTIF(L38:L68,Y16)","v":0},{"$f":"Z16/(AB4-Z20)","v":0},{"$f":"IF(AA16=0,0,(AA16*((LOG(AA16))/LOG(2))))","v":0},null,{"$f":"N16","v":2112},{"$f":"COUNTIF(L69:L99,AD16)","v":0},{"$f":"AE16/(AG4-AE20)","v":0},{"$f":"IF(AF16=0,0,(AF16*((LOG(AF16))/LOG(2))))","v":0},null,{"$f":"N16","v":2112},{"$f":"COUNTIF(L100:L130,AI16)","v":2},{"$f":"AJ16/(AL4-AJ20)","v":0.08},{"$f":"IF(AK16=0,0,(AK16*((LOG(AK16))/LOG(2))))","v":-0.29150849518197797},null,{"$f":"N16","v":2112},{"$f":"COUNTIF(L131:L161,AN16)","v":1},{"$f":"AO16/(AQ4-AO20)","v":3.3333333333333333E-2},{"$f":"IF(AP16=0,0,(AP16*((LOG(AP16))/LOG(2))))","v":-0.16356301985361729},null,{"$f":"N16","v":2112},{"$f":"COUNTIF(L162:L192,AS16)","v":0},{"$f":"AT16/(AV4-AT20)","v":0},{"$f":"IF(AU16=0,0,(AU16*((LOG(AU16))/LOG(2))))","v":0}]
[21,1355,21,1361,22,1364,23,1371,null,null,0,2222,null,2121,{"$f":"COUNTIF($L$7:$L$500,N17)","v":0},{"$f":"O17/$Q$4","v":0},{"$f":"IF(P17=0,0,(P17*((LOG(P17))/LOG(2))))","v":0},null,null,{"$f":"N17","v":2121},{"$f":"COUNTIF(L7:L37,T17)","v":0},{"$f":"U17/(W4-U20)","v":0},{"$f":"IF(V17=0,0,(V17*((LOG(V17))/LOG(2))))","v":0},null,{"$f":"N17","v":2121},{"$f":"COUNTIF(L38:L68,Y17)","v":0},{"$f":"Z17/(AB4-Z20)","v":0},{"$f":"IF(AA17=0,0,(AA17*((LOG(AA17))/LOG(2))))","v":0},null,{"$f":"N17","v":2121},{"$f":"COUNTIF(L69:L99,AD17)","v":0},{"$f":"AE17/(AG4-AE20)","v":0},{"$f":"IF(AF17=0,0,(AF17*((LOG(AF17))/LOG(2))))","v":0},null,{"$f":"N17","v":2121},{"$f":"COUNTIF(L100:L130,AI17)","v":0},{"$f":"AJ17/(AL4-AJ20)","v":0},{"$f":"IF(AK17=0,0,(AK17*((LOG(AK17))/LOG(2))))","v":0},null,{"$f":"N17","v":2121},{"$f":"COUNTIF(L131:L161,AN17)","v":0},{"$f":"AO17/(AQ4-AO20)","v":0},{"$f":"IF(AP17=0,0,(AP17*((LOG(AP17))/LOG(2))))","v":0},null,{"$f":"N17","v":2121},{"$f":"COUNTIF(L162:L192,AS17)","v":0},{"$f":"AT17/(AV4-AT20)","v":0},{"$f":"IF(AU17=0,0,(AU17*((LOG(AU17))/LOG(2))))","v":0}]
[21,1473,21,1480,22,1487,23,1494,null,null,0,2222,null,2122,{"$f":"COUNTIF($L$7:$L$500,N18)","v":24},{"$f":"O18/$Q$4","v":0.12972972972972974},{"$f":"IF(P18=0,0,(P18*((LOG(P18))/LOG(2))))","v":-0.38223813532477696},null,null,{"$f":"N18","v":2122},{"$f":"COUNTIF(L7:L37,T18)","v":4},{"$f":"U18/(W4-U20)","v":0.14814814814814814},{"$f":"IF(V18=0,0,(V18*((LOG(V18))/LOG(2))))","v":-0.40813148180199532},null,{"$f":"N18","v":2122},{"$f":"COUNTIF(L38:L68,Y18)","v":3},{"$f":"Z18/(AB4-Z20)","v":0.10714285714285714},{"$f":"IF(AA18=0,0,(AA18*((LOG(AA18))/LOG(2))))","v":-0.34525633085747659},null,{"$f":"N18","v":2122},{"$f":"COUNTIF(L69:L99,AD18)","v":6},{"$f":"AE18/(AG4-AE20)","v":0.21428571428571427},{"$f":"IF(AF18=0,0,(AF18*((LOG(AF18))/LOG(2))))","v":-0.47622694742923877},null,{"$f":"N18","v":2122},{"$f":"COUNTIF(L100:L130,AI18)","v":4},{"$f":"AJ18/(AL4-AJ20)","v":0.16},{"$f":"IF(AK18=0,0,(AK18*((LOG(AK18))/LOG(2))))","v":-0.42301699036395596},null,{"$f":"N18","v":2122},{"$f":"COUNTIF(L131:L161,AN18)","v":4},{"$f":"AO18/(AQ4-AO20)","v":0.13333333333333333},{"$f":"IF(AP18=0,0,(AP18*((LOG(AP18))/LOG(2))))","v":-0.3875854127478025},null,{"$f":"N18","v":2122},{"$f":"COUNTIF(L162:L192,AS18)","v":3},{"$f":"AT18/(AV4-AT20)","v":0.125},{"$f":"IF(AU18=0,0,(AU18*((LOG(AU18))/LOG(2))))","v":-0.375}]
[21,1599,21,1602,22,1606,14,1608,null,null,0,2221,null,2211,{"$f":"COUNTIF($L$7:$L$500,N19)","v":1},{"$f":"O19/$Q$4","v":5.4054054054054057E-3},{"$f":"IF(P19=0,0,(P19*((LOG(P19))/LOG(2))))","v":-4.0710170056844928E-2},null,null,{"$f":"N19","v":2211},{"$f":"COUNTIF(L7:L37,T19)","v":0},{"$f":"U19/(W4-U20)","v":0},{"$f":"IF(V19=0,0,(V19*((LOG(V19))/LOG(2))))","v":0},null,{"$f":"N19","v":2211},{"$f":"COUNTIF(L38:L68,Y19)","v":1},{"$f":"Z19/(AB4-Z20)","v":3.5714285714285712E-2},{"$f":"IF(AA19=0,0,(AA19*((LOG(AA19))/LOG(2))))","v":-0.17169124721634299},null,{"$f":"N19","v":2211},{"$f":"COUNTIF(L69:L99,AD19)","v":0},{"$f":"AE19/(AG4-AE20)","v":0},{"$f":"IF(AF19=0,0,(AF19*((LOG(AF19))/LOG(2))))","v":0},null,{"$f":"N19","v":2211},{"$f":"COUNTIF(L100:L130,AI19)","v":0},{"$f":"AJ19/(AL4-AJ20)","v":0},{"$f":"IF(AK19=0,0,(AK19*((LOG(AK19))/LOG(2))))","v":0},null,{"$f":"N19","v":2211},{"$f":"COUNTIF(L131:L161,AN19)","v":0},{"$f":"AO19/(AQ4-AO20)","v":0},{"$f":"IF(AP19=0,0,(AP19*((LOG(AP19))/LOG(2))))","v":0},null,{"$f":"N19","v":2211},{"$f":"COUNTIF(L162:L192,AS19)","v":0},{"$f":"AT19/(AV4-AT20)","v":0},{"$f":"IF(AU19=0,0,(AU19*((LOG(AU19))/LOG(2))))","v":0}]
[21,1704,21,1707,22,1713,14,1720,null,null,0,2221,null,2212,{"$f":"COUNTIF($L$7:$L$500,N20)","v":23},{"$f":"O20/$Q$4","v":0.12432432432432433},{"$f":"IF(P20=0,0,(P20*((LOG(P20))/LOG(2))))","v":-0.3739451275814264},null,null,{"$f":"N20","v":2212},{"$f":"COUNTIF(L7:L37,T20)","v":4},null,null,null,{"$f":"N20","v":2212},{"$f":"COUNTIF(L38:L68,Y20)","v":3},null,null,null,{"$f":"N20","v":2212},{"$f":"COUNTIF(L69:L99,AD20)","v":3},null,null,null,{"$f":"N20","v":2212},{"$f":"COUNTIF(L100:L130,AI20)","v":6},null,null,null,{"$f":"N20","v":2212},{"$f":"COUNTIF(L131:L161,AN20)","v":1},null,null,null,{"$f":"N20","v":2212},{"$f":"COUNTIF(L162:L192,AS20)","v":6}]
[21,1816,21,1822,22,1829,23,1835,null,null,0,2222,null,2221,{"$f":"COUNTIF($L$7:$L$500,N21)","v":15},{"$f":"O21/$Q$4","v":8.1081081081081086E-2},{"$f":"IF(P21=0,0,(P21*((LOG(P21))/LOG(2))))","v":-0.29387763769522651},null,null,{"$f":"N21","v":2221},{"$f":"COUNTIF(L7:L37,T21)","v":4},{"$f":"U21/(W4-U20)","v":0.14814814814814814},{"$f":"IF(V21=0,0,(V21*((LOG(V21))/LOG(2))))","v":-0.40813148180199532},null,{"$f":"N21","v":2221},{"$f":"COUNTIF(L38:L68,Y21)","v":4},{"$f":"Z21/(AB4-Z20)","v":0.14285714285714285},{"$f":"IF(AA21=0,0,(AA21*((LOG(AA21))/LOG(2))))","v":-0.40105070315108626},null,{"$f":"N21","v":2221},{"$f":"COUNTIF(L69:L99,AD21)","v":5},{"$f":"AE21/(AG4-AE20)","v":0.17857142857142858},{"$f":"IF(AF21=0,0,(AF21*((LOG(AF21))/LOG(2))))","v":-0.44382621913754317},null,{"$f":"N21","v":2221},{"$f":"COUNTIF(L100:L130,AI21)","v":0},{"$f":"AJ21/(AL4-AJ20)","v":0},{"$f":"IF(AK21=0,0,(AK21*((LOG(AK21))/LOG(2))))","v":0},null,{"$f":"N21","v":2221},{"$f":"COUNTIF(L131:L161,AN21)","v":2},{"$f":"AO21/(AQ4-AO20)","v":6.6666666666666666E-2},{"$f":"IF(AP21=0,0,(AP21*((LOG(AP21))/LOG(2))))","v":-0.26045937304056793},null,{"$f":"N21","v":2221},{"$f":"COUNTIF(L162:L192,AS21)","v":0},{"$f":"AT21/(AV4-AT20)","v":0},{"$f":"IF(AU21=0,0,(AU21*((LOG(AU21))/LOG(2))))","v":0}]
[21,1940,21,1944,22,1952,23,1958,null,null,0,2222,null,2222,{"$f":"COUNTIF($L$7:$L$500,N22)","v":63},{"$f":"O22/$Q$4","v":0.34054054054054056},{"$f":"IF(P22=0,0,(P22*((LOG(P22))/LOG(2))))","v":-0.52923457747044822},null,null,{"$f":"N22","v":2222},{"$f":"COUNTIF(L7:L37,T22)","v":8},{"$f":"U22/(W4-U20)","v":0.29629629629629628},{"$f":"IF(V22=0,0,(V22*((LOG(V22))/LOG(2))))","v":-0.51996666730769436},null,{"$f":"N22","v":2222},{"$f":"COUNTIF(L38:L68,Y22)","v":10},{"$f":"Z22/(AB4-Z20)","v":0.35714285714285715},{"$f":"IF(AA22=0,0,(AA22*((LOG(AA22))/LOG(2))))","v":-0.53050958113222924},null,{"$f":"N22","v":2222},{"$f":"COUNTIF(L69:L99,AD22)","v":7},{"$f":"AE22/(AG4-AE20)","v":0.25},{"$f":"IF(AF22=0,0,(AF22*((LOG(AF22))/LOG(2))))","v":-0.5},null,{"$f":"N22","v":2222},{"$f":"COUNTIF(L100:L130,AI22)","v":9},{"$f":"AJ22/(AL4-AJ20)","v":0.36},{"$f":"IF(AK22=0,0,(AK22*((LOG(AK22))/LOG(2))))","v":-0.53061522779966841},null,{"$f":"N22","v":2222},{"$f":"COUNTIF(L131:L161,AN22)","v":15},{"$f":"AO22/(AQ4-AO20)","v":0.5},{"$f":"IF(AP22=0,0,(AP22*((LOG(AP22))/LOG(2))))","v":-0.5},null,{"$f":"N22","v":2222},{"$f":"COUNTIF(L162:L192,AS22)","v":14},{"$f":"AT22/(AV4-AT20)","v":0.58333333333333337},{"$f":"IF(AU22=0,0,(AU22*((LOG(AU22))/LOG(2))))","v":-0.45360442088707198}]
[21,2074,12,2080,24,2087,23,2095,null,null,0,2122,null,null,null,{"$f":"SUM(P7:P22)","v":1.0000000000000002},{"$f":"-SUM(Q7:Q22)","v":2.688114185393808},null,null,null,null,{"$f":"SUM(V7:V22)","v":1},{"$f":"-SUM(W7:W22)","v":2.3104430577190236},null,null,null,{"$f":"SUM(AA7:AA22)","v":1},{"$f":"-SUM(AB7:AB22)","v":2.1465158697712505},null,null,null,{"$f":"SUM(AF7:AF22)","v":1},{"$f":"-SUM(AG7:AG22)","v":2.4351269082158109},null,null,null,{"$f":"SUM(AK7:AK22)","v":1},{"$f":"-SUM(AL7:AL22)","v":2.6226831892554925},null,null,null,{"$f":"SUM(AP7:AP22)","v":1},{"$f":"-SUM(AQ7:AQ22)","v":1.965062482657485},null,null,null,{"$f":"SUM(AU7:AU22)","v":1},{"$f":"-SUM(AV7:AV22)","v":1.6821501304958753}]
[21,2187,21,2196,11,2205,21,2209,null,null,0,2212,null,null,null,"U=",{"$f":"Q23/(LOG(Q4)/LOG(2))","v":0.35692179442594918},null,null,null,null,"U1=",{"$f":"W23/(LOG(W4)/LOG(2))","v":0.46636082080053876},null,null,null,"U2=",{"$f":"AB23/(LOG(AB4)/LOG(2))","v":0.43327226764730853},null,null,null,"U3=",{"$f":"AG23/(LOG(AG4)/LOG(2))","v":0.49152814213485435},null,null,null,"U4=",{"$f":"AL23/(LOG(AL4)/LOG(2))","v":0.52938620614544973},null,null,null,"U5=",{"$f":"AQ23/(LOG(AQ4)/LOG(2))","v":0.3966460672011668},null,null,null,"U6=",{"$f":"AV23/(LOG(AV4)/LOG(2))","v":0.342813865057708}]
[21,2332,21,2336,22,2340,23,2355,null,null,0,2222]
[12,2451,23,2471,24,2475,23,2482,null,null,0,1222]
[21,2578,21,2580,11,2584,21,2587,null,null,0,2212,null,"Total Target Seq"]
[12,2722,23,2733,24,2743,23,2750,null,null,0,1222,null,{"$f":"COUNTIF(L7:L192,G3)","v":23},null,31,31,31,31,31,31]
[12,2847,23,2853,24,2860,23,2872,null,null,0,1222,null,null,null,"% of reinforcement given in 6 equal intervals based on number of trials "]
[12,2965,23,2977,24,2981,23,2987,null,null,0,1222,null,null,null,"%_1","%_2","%_3","%_4","%_5","%_6"]
[21,3086,21,3090,11,3092,21,3097,null,null,0,2212,null,null,"target sequence",{"$f":"$G$3","v":2212},{"$f":"$G$3","v":2212},{"$f":"$G$3","v":2212},{"$f":"$G$3","v":2212},{"$f":"$G$3","v":2212},{"$f":"$G$3","v":2212}]
[12,3187,23,3194,24,3198,23,3204,null,null,0,1222,null,null,"total reinforcement",{"$f":"U20","v":4},{"$f":"Z20","v":3},{"$f":"AE20","v":3},{"$f":"AJ20","v":6},{"$f":"AO20","v":1},{"$f":"AT20","v":6}]
[12,3297,23,3300,24,3306,23,3313,null,null,0,1222,null,null,"% target"]
[21,3407,21,3413,22,3419,23,3427,null,null,0,2222,null,null,"CCRF"]
[21,3523,12,3526,24,3528,23,3536,null,null,0,2122,null,null,"% CCRf"]
[12,3629,23,3637,24,3641,14,3646,null,null,0,1221,null,null,"average response rate",{"$f":"H37/P28","v":122.3225806451613},{"$f":"(H68-H37)/Q28","v":116.12903225806451},{"$f":"(H99-H68)/R28","v":129.03225806451613},{"$f":"(H130-H99)/S28","v":141.54838709677421},{"$f":"(H161-H130)/T28","v":124.19354838709677},{"$f":"(H192-H161)/U28","v":-633.22580645161293}]
[12,3772,23,3778,24,3785,23,3792,null,null,0,1222]
[21,3889,21,3893,22,3898,23,3906,null,null,0,2222]
[21,4000,21,4008,22,4014,23,4021,null,null,0,2222]
[21,4117,21,4121,11,4125,12,4127,null,null,0,2211]
[21,4222,21,4227,11,4232,21,4238,null,null,0,2212]
[12,4341,23,4349,24,4359,23,4365,null,null,0,1222]
[21,4457,21,4461,22,4472,23,4481,null,null,0,2222]
[12,4577,23,4581,24,4585,23,4589,null,null,0,1222]
[21,4680,21,4684,22,4689,23,4693,null,null,0,2222]
[21,4789,12,4794,24,4800,23,4811,null,null,0,2122]
[21,4907,21,4909,22,4914,23,4919,null,null,0,2222]
[12,5010,23,5014,24,5018,23,5024,null,null,0,1222]
[21,5118,12,5121,24,5130,23,5136,null,null,0,2122]
[12,5231,23,5248,24,5252,23,5258,null,null,0,1222]
[21,5359,21,5363,22,5367,14,5373,null,null,0,2221]
[12,5470,23,5494,24,5498,23,5503,null,null,0,1222]
[21,5595,21,5598,11,5602,21,5609,null,null,0,2212]
[12,5700,14,5707,24,5720,14,5727,null,null,0,1121]
[12,5820,23,5841,24,5847,23,5854,null,null,0,1222]
[21,5950,21,5954,22,5960,14,5969,null,null,0,2221]
[21,6061,21,6064,22,6068,23,6074,null,null,0,2222]
[12,6167,23,6177,24,6182,23,6188,null,null,0,1222]
[21,6293,21,6300,22,6303,14,6306,null,null,0,2221]
[21,6402,21,6408,22,6415,23,6428,null,null,0,2222]
[21,6523,12,6527,24,6530,23,6536,null,null,0,2122]
[21,6632,21,6638,22,6646,23,6653,null,null,0,2222]
[21,6748,21,6752,11,6756,21,6761,null,null,0,2212]
[21,6870,21,6885,22,6893,23,6899,null,null,0,2222]
[12,7003,23,7015,24,7020,23,7025,null,null,0,1222]
[12,7146,23,7160,24,7164,23,7171,null,null,0,1222]
[21,7265,21,7270,22,7281,23,7287,null,null,0,2222]
[21,7381,21,7384,22,7388,14,7392,null,null,0,2221]
[21,7487,12,7492,24,7498,23,7505,null,null,0,2122]
[12,7597,23,7599,24,7604,23,7614,null,null,0,1222]
[21,7717,21,7722,22,7729,14,7733,null,null,0,2221]
[21,7836,21,7838,22,7840,14,7842,null,null,0,2221]
[21,7936,21,7940,22,7944,14,7950,null,null,0,2221]
[21,8049,21,8054,11,8055,21,8060,null,null,0,2212]
[12,8343,14,8349,13,8351,23,8366,null,null,0,1112]
[12,8485,14,8491,24,8502,23,8505,null,null,0,1122]
[21,8601,21,8607,22,8611,23,8617,null,null,0,2222]
[21,8715,21,8720,22,8726,14,8731,null,null,0,2221]
[21,8831,12,8833,24,8840,23,8846,null,null,0,2122]
[21,8941,21,8945,22,8953,14,8959,null,null,0,2221]
[21,9058,21,9062,22,9067,23,9074,null,null,0,2222]
[21,9193,21,9196,11,9200,21,9205,null,null,0,2212]
[12,9333,23,9345,24,9353,23,9359,null,null,0,1222]
[21,9458,12,9471,24,9475,23,9482,null,null,0,2122]
[21,9578,21,9584,22,9588,23,9593,null,null,0,2222]
[12,9808,23,9818,24,9820,23,9826,null,null,0,1222]
[21,9926,12,9931,24,9938,23,9945,null,null,0,2122]
[12,10110,23,10120,24,10123,23,10128,null,null,0,1222]
[21,10222,21,10228,22,10233,23,10239,null,null,0,2222]
[12,10331,23,10337,24,10342,23,10349,null,null,0,1222]
[12,10441,23,10446,24,10452,23,10458,null,null,0,1222]
[21,10563,12,10567,24,10572,23,10579,null,null,0,2122]
[21,10674,12,10680,24,10683,23,10689,null,null,0,2122]
[12,10784,23,10787,24,10791,14,10794,null,null,0,1221]
[21,10899,21,10903,11,10906,21,10908,null,null,0,2212]
[21,11025,21,11032,22,11038,23,11046,null,null,0,2222]
[12,11149,23,11152,24,11159,23,11165,null,null,0,1222]
[21,11258,21,11264,22,11271,23,11278,null,null,0,2222]
[21,11373,21,11379,22,11385,23,11392,null,null,0,2222]
[21,11487,21,11494,11,11498,21,11504,null,null,0,2212]
[12,11678,23,11688,24,11698,23,11704,null,null,0,1222]
[21,11798,12,11804,24,11808,23,11822,null,null,0,2122]
[21,11917,21,11924,22,11932,23,11939,null,null,0,2222]
[21,12054,12,12059,13,12070,23,12074,null,null,0,2112]
[21,12171,21,12176,11,12180,21,12182,null,null,0,2212]
[21,12318,21,12344,22,12351,23,12359,null,null,0,2222]
[21,12456,21,12460,11,12464,21,12468,null,null,0,2212]
[12,12745,23,12755,24,12770,23,12776,null,null,0,1222]
[21,12871,12,12873,24,12878,23,12884,null,null,0,2122]
[21,12976,12,12980,13,12981,23,12986,null,null,0,2112]
[21,13080,21,13084,22,13089,23,13098,null,null,0,2222]
[21,13200,21,13205,22,13210,23,13218,null,null,0,2222]
[21,13315,21,13321,22,13328,23,13335,null,null,0,2222]
[21,13428,21,13433,22,13438,23,13448,null,null,0,2222]
[12,13541,23,13543,24,13549,23,13560,null,null,0,1222]
[21,13656,12,13661,24,13668,23,13675,null,null,0,2122]
[12,13768,14,13775,24,13779,23,13785,null,null,0,1122]
[21,13881,21,13883,11,13887,21,13895,null,null,0,2212]
[12,14050,14,14053,13,14063,23,14076,null,null,0,1112]
[12,14291,23,14303,24,14309,14,14315,null,null,0,1221]
[12,14411,23,14419,24,14424,23,14430,null,null,0,1222]
[21,14531,21,14536,11,14540,21,14551,null,null,0,2212]
[12,14927,14,14933,24,14940,23,14945,null,null,0,1122]
[21,15041,21,15045,22,15050,23,15063,null,null,0,2222]
[21,15159,12,15163,24,15168,23,15174,null,null,0,2122]
[21,15275,21,15278,22,15284,23,15296,null,null,0,2222]
[21,15392,21,15396,11,15398,21,15401,null,null,0,2212]
[12,15528,23,15540,13,15544,23,15556,null,null,0,1212]
[12,15650,23,15658,13,15665,23,15669,null,null,0,1212]
[21,15764,21,15768,22,15772,23,15780,null,null,0,2222]
[21,15905,21,15908,22,15914,23,15919,null,null,0,2222]
[21,16012,21,16017,22,16024,23,16031,null,null,0,2222]
[12,16124,23,16126,24,16130,23,16135,null,null,0,1222]
[21,16246,21,16251,22,16258,23,16265,null,null,0,2222]
[21,16365,21,16369,22,16371,14,16375,null,null,0,2221]
[21,16479,12,16481,24,16483,23,16495,null,null,0,2122]
[12,16596,23,16603,24,16606,23,16610,null,null,0,1222]
[12,16703,23,16714,24,16718,23,16723,null,null,0,1222]
[21,16843,12,16847,24,16849,23,16855,null,null,0,2122]
[21,16953,21,16964,22,16972,23,16980,null,null,0,2222]
[21,17075,21,17079,22,17085,23,17094,null,null,0,2222]
[12,17192,23,17197,24,17205,23,17212,null,null,0,1222]
[12,17305,23,17315,24,17321,23,17331,null,null,0,1222]
[21,17428,21,17431,11,17435,21,17439,null,null,0,2212]
[12,17772,14,17788,24,17796,23,17799,null,null,0,1122]
[12,17892,23,17896,24,17901,23,17911,null,null,0,1222]
[12,18003,23,18005,24,18010,23,18020,null,null,0,1222]
[21,18112,21,18117,22,18123,23,18131,null,null,0,2222]
[21,18226,21,18231,22,18244,23,18249,null,null,0,2222]
[21,18350,21,18358,22,18364,23,18371,null,null,0,2222]
[21,18464,21,18472,22,18478,23,18486,null,null,0,2222]
[21,18578,21,18584,22,18591,23,18598,null,null,0,2222]
[21,18703,21,18707,22,18712,23,18722,null,null,0,2222]
[21,18815,12,18820,24,18827,23,18840,null,null,0,2122]
[21,18939,21,18944,22,18954,14,18958,null,null,0,2221]
[21,19061,12,19065,13,19067,23,19072,null,null,0,2112]
[21,19170,21,19174,22,19182,23,19190,null,null,0,2222]
[21,19286,21,19295,22,19301,23,19307,null,null,0,2222]
[21,19399,21,19402,22,19404,23,19410,null,null,0,2222]
[21,19502,12,19504,24,19510,23,19519,null,null,0,2122]
[21,19612,21,19617,22,19622,23,19630,null,null,0,2222]
[21,19725,21,19731,22,19738,23,19744,null,null,0,2222]
[21,19840,21,19845,11,19848,21,19852,null,null,0,2212]
[12,20031,14,20036,13,20039,23,20065,null,null,0,1112]
[21,20660,21,20666,22,20671,23,20676,null,null,0,2222]
[12,20820,23,20830,24,20835,23,20842,null,null,0,1222]
[12,21008,23,21020,24,21028,23,21034,null,null,0,1222]
[21,21129,21,21133,22,21139,23,21146,null,null,0,2222]
[21,21241,21,21249,11,21251,21,21254,null,null,0,2212]
[21,21373,21,21377,22,21383,23,21409,null,null,0,2222]
[21,21501,21,21505,22,21511,23,21517,null,null,0,2222]
[21,21610,21,21618,22,21623,23,21632,null,null,0,2222]
[21,21723,21,21726,11,21731,21,21733,null,null,0,2212]
[21,21833,21,21840,22,21846,23,21859,null,null,0,2222]
[12,22003,14,22016,24,22025,23,22036,null,null,0,1122]
[12,22128,23,22130,24,22136,23,22143,null,null,0,1222]
[21,22239,12,22241,24,22244,23,22251,null,null,0,2122]
[21,22352,21,22357,22,22362,23,22370,null,null,0,2222]
[21,22469,12,22474,24,22478,23,22484,null,null,0,2122]
[12,22576,23,22579,24,22583,23,22589,null,null,0,1222]
[21,22681,21,22685,22,22691,23,22699,null,null,0,2222]
[21,22794,21,22798,22,22808,23,22814,null,null,0,2222]
[21,22908,21,22912,11,22913,21,22915,null,null,0,2212]
[21,23005,21,23017,22,23023,23,23034,null,null,0,2222]
[21,23126,21,23129,11,23131,21,23134,null,null,0,2212]
[21,23273,21,23289,22,23297,23,23305,null,null,0,2222]
[21,23400,21,23404,22,23409,23,23415,null,null,0,2222]
[21,23507,12,23510,24,23517,23,23522,null,null,0,2122]
[21,23617,21,23622,11,23624,21,23628,null,null,0,2212]
[21,23735,21,23746,22,23754,23,23763,null,null,0,2222]
[12,23863,23,23876,24,23880,23,23886,null,null,0,1222]
[21,23984,21,23997,null,null,null,null,null,null,null,22]

{"sheet":"!M702A20.Gus","index":13,"n_rows":192,"n_cols":48,"rows_kept":192,"cut":false,"hidden":false,"merged":[[4,39,4,42],[5,39,5,40],[4,44,4,47],[5,44,5,45],[4,24,4,27],[5,24,5,25],[4,29,4,32],[5,29,5,30],[4,34,4,37],[5,34,5,35],[1,1,1,2],[5,13,5,14],[26,13,26,14],[27,13,27,14],[4,19,4,22],[5,19,5,20]]}
["Report for:!M702A20.Gus"]
["Date:","<date>"]
["Hen:","<hen>",null,null,null,"Correct Sequence",{"$f":"Start!J2","v":2212},null,null,null,null,null,null,null,null,"Total Sequences in Data",{"$f":"4994-COUNTBLANK(L7:L5000)","v":186},null,null,null,null,"Total Sequences in Block Data",{"$f":"COUNTA(L7:L37)","v":31},null,null,null,"Total Sequences in Block Data",{"$f":"COUNTA(L38:L68)","v":31},null,null,null,"Total Sequences in Block Data",{"$f":"COUNTA(L69:L99)","v":31},null,null,null,"Total Sequences in Block Data",{"$f":"COUNTA(L100:L130)","v":31},null,null,null,"Total Sequences in Block Data",{"$f":"COUNTA(L131:L161)","v":31},null,null,null,"Total Sequences in Block Data",{"$f":"COUNTA(L162:L192)","v":31}]
[null,null,null,null,null,null,null,null,null,null,null,null,null,null,null,"Total Sequences in Summary",{"$f":"SUM(O7:O22)","v":185},null,null,null,null,"Total Sequences in Block Summary",{"$f":"SUM(U7:U22)","v":31},null,null,null,"Total Sequences in Block Summary",{"$f":"SUM(Z7:Z22)","v":31},null,null,null,"Total Sequences in Block Summary",{"$f":"SUM(AE7:AE22)","v":31},null,null,null,"Total Sequences in Block Summary",{"$f":"SUM(AJ7:AJ22)","v":31},null,null,null,"Total Sequences in Block Summary",{"$f":"SUM(AO7:AO22)","v":31},null,null,null,"Total Sequences in Block Summary",{"$f":"SUM(AT7:AT22)","v":30}]
[null,null,null,null,null,null,null,null,null,null,null,null,null,null,null,null,null,null,null,"Block 1",null,null,null,null,"Block 2",null,null,null,null,"Block 3",null,null,null,null,"Block 4",null,null,null,null,"Block 5",null,null,null,null,"Block 6"]
["Sequence\nComponent\n1","Time\n1","Sequence\nComponent\n2","Time\n2","Sequence\nComponent\n3","Time\n3","Sequence\nComponent\n4","Time\n4","Sequence\nComponent\n5","Time\n5","Correct?\n0=No 1=Yes","Sequence",null,"Frequency",null,"Relative Frequency","Variability",null,null,"Frequency",null,"Relative Frequency","Variability",null,"Frequency",null,"Relative Frequency","Variability",null,"Frequency",null,"Relative Frequency","Variability",null,"Frequency",null,"Relative Frequency","Variability",null,"Frequency",null,"Relative Frequency","Variability",null,"Frequency",null,"Relative Frequency","Variability"]
[21,27,21,45,22,52,23,59,null,null,0,2222,null,1111,{"$f":"COUNTIF($L$7:$L$500,N7)","v":0},{"$f":"O7/$Q$4","v":0},{"$f":"IF(P7=0,0,(P7*((LOG(P7))/LOG(2))))","v":0},null,null,{"$f":"N7","v":1111},{"$f":"COUNTIF(L7:L37,T7)","v":0},{"$f":"U7/(W4-U20)","v":0},{"$f":"IF(V7=0,0,(V7*((LOG(V7))/LOG(2))))","v":0},null,{"$f":"N7","v":1111},{"$f":"COUNTIF(L38:L68,Y7)","v":0},{"$f":"Z7/(AB4-Z20)","v":0},{"$f":"IF(AA7=0,0,(AA7*((LOG(AA7))/LOG(2))))","v":0},null,{"$f":"N7","v":1111},{"$f":"COUNTIF(L69:L99,AD7)","v":0},{"$f":"AE7/(AG4-AE20)","v":0},{"$f":"IF(AF7=0,0,(AF7*((LOG(AF7))/LOG(2))))","v":0},null,{"$f":"N7","v":1111},{"$f":"COUNTIF(L100:L130,AI7)","v":0},{"$f":"AJ7/(AL4-AJ20)","v":0},{"$f":"IF(AK7=0,0,(AK7*((LOG(AK7))/LOG(2))))","v":0},null,{"$f":"N7","v":1111},{"$f":"COUNTIF(L131:L161,AN7)","v":0},{"$f":"AO7/(AQ4-AO20)","v":0},{"$f":"IF(AP7=0,0,(AP7*((LOG(AP7))/LOG(2))))","v":0},null,{"$f":"N7","v":1111},{"$f":"COUNTIF(L162:L192,AS7)","v":0},{"$f":"AT7/(AV4-AT20)","v":0},{"$f":"IF(AU7=0,0,(AU7*((LOG(AU7))/LOG(2))))","v":0}]
[21,167,12,173,24,182,23,187,null,null,0,2122,null,1112,{"$f":"COUNTIF($L$7:$L$500,N8)","v":1},{"$f":"O8/$Q$4","v":5.4054054054054057E-3},{"$f":"IF(P8=0,0,(P8*((LOG(P8))/LOG(2))))","v":-4.0710170056844928E-2},null,null,{"$f":"N8","v":1112},{"$f":"COUNTIF(L7:L37,T8)","v":0},{"$f":"U8/(W4-U20)","v":0},{"$f":"IF(V8=0,0,(V8*((LOG(V8))/LOG(2))))","v":0},null,{"$f":"N8","v":1112},{"$f":"COUNTIF(L38:L68,Y8)","v":1},{"$f":"Z8/(AB4-Z20)","v":3.7037037037037035E-2},{"$f":"IF(AA8=0,0,(AA8*((LOG(AA8))/LOG(2))))","v":-0.1761069445245729},null,{"$f":"N8","v":1112},{"$f":"COUNTIF(L69:L99,AD8)","v":0},{"$f":"AE8/(AG4-AE20)","v":0},{"$f":"IF(AF8=0,0,(AF8*((LOG(AF8))/LOG(2))))","v":0},null,{"$f":"N8","v":1112},{"$f":"COUNTIF(L100:L130,AI8)","v":0},{"$f":"AJ8/(AL4-AJ20)","v":0},{"$f":"IF(AK8=0,0,(AK8*((LOG(AK8))/LOG(2))))","v":0},null,{"$f":"N8","v":1112},{"$f":"COUNTIF(L131:L161,AN8)","v":0},{"$f":"AO8/(AQ4-AO20)","v":0},{"$f":"IF(AP8=0,0,(AP8*((LOG(AP8))/LOG(2))))","v":0},null,{"$f":"N8","v":1112},{"$f":"COUNTIF(L162:L192,AS8)","v":0},{"$f":"AT8/(AV4-AT20)","v":0},{"$f":"IF(AU8=0,0,(AU8*((LOG(AU8))/LOG(2))))","v":0}]
[21,281,12,283,24,285,23,290,null,null,0,2122,null,1121,{"$f":"COUNTIF($L$7:$L$500,N9)","v":0},{"$f":"O9/$Q$4","v":0},{"$f":"IF(P9=0,0,(P9*((LOG(P9))/LOG(2))))","v":0},null,null,{"$f":"N9","v":1121},{"$f":"COUNTIF(L7:L37,T9)","v":0},{"$f":"U9/(W4-U20)","v":0},{"$f":"IF(V9=0,0,(V9*((LOG(V9))/LOG(2))))","v":0},null,{"$f":"N9","v":1121},{"$f":"COUNTIF(L38:L68,Y9)","v":0},{"$f":"Z9/(AB4-Z20)","v":0},{"$f":"IF(AA9=0,0,(AA9*((LOG(AA9))/LOG(2))))","v":0},null,{"$f":"N9","v":1121},{"$f":"COUNTIF(L69:L99,AD9)","v":0},{"$f":"AE9/(AG4-AE20)","v":0},{"$f":"IF(AF9=0,0,(AF9*((LOG(AF9))/LOG(2))))","v":0},null,{"$f":"N9","v":1121},{"$f":"COUNTIF(L100:L130,AI9)","v":0},{"$f":"AJ9/(AL4-AJ20)","v":0},{"$f":"IF(AK9=0,0,(AK9*((LOG(AK9))/LOG(2))))","v":0},null,{"$f":"N9","v":1121},{"$f":"COUNTIF(L131:L161,AN9)","v":0},{"$f":"AO9/(AQ4-AO20)","v":0},{"$f":"IF(AP9=0,0,(AP9*((LOG(AP9))/LOG(2))))","v":0},null,{"$f":"N9","v":1121},{"$f":"COUNTIF(L162:L192,AS9)","v":0},{"$f":"AT9/(AV4-AT20)","v":0},{"$f":"IF(AU9=0,0,(AU9*((LOG(AU9))/LOG(2))))","v":0}]
[12,384,23,386,24,392,23,400,null,null,0,1222,null,1122,{"$f":"COUNTIF($L$7:$L$500,N10)","v":5},{"$f":"O10/$Q$4","v":2.7027027027027029E-2},{"$f":"IF(P10=0,0,(P10*((LOG(P10))/LOG(2))))","v":-0.14079603690889056},null,null,{"$f":"N10","v":1122},{"$f":"COUNTIF(L7:L37,T10)","v":2},{"$f":"U10/(W4-U20)","v":7.1428571428571425E-2},{"$f":"IF(V10=0,0,(V10*((LOG(V10))/LOG(2))))","v":-0.27195392300411453},null,{"$f":"N10","v":1122},{"$f":"COUNTIF(L38:L68,Y10)","v":1},{"$f":"Z10/(AB4-Z20)","v":3.7037037037037035E-2},{"$f":"IF(AA10=0,0,(AA10*((LOG(AA10))/LOG(2))))","v":-0.1761069445245729},null,{"$f":"N10","v":1122},{"$f":"COUNTIF(L69:L99,AD10)","v":1},{"$f":"AE10/(AG4-AE20)","v":0.04},{"$f":"IF(AF10=0,0,(AF10*((LOG(AF10))/LOG(2))))","v":-0.18575424759098899},null,{"$f":"N10","v":1122},{"$f":"COUNTIF(L100:L130,AI10)","v":1},{"$f":"AJ10/(AL4-AJ20)","v":3.4482758620689655E-2},{"$f":"IF(AK10=0,0,(AK10*((LOG(AK10))/LOG(2))))","v":-0.16751658603888178},null,{"$f":"N10","v":1122},{"$f":"COUNTIF(L131:L161,AN10)","v":0},{"$f":"AO10/(AQ4-AO20)","v":0},{"$f":"IF(AP10=0,0,(AP10*((LOG(AP10))/LOG(2))))","v":0},null,{"$f":"N10","v":1122},{"$f":"COUNTIF(L162:L192,AS10)","v":0},{"$f":"AT10/(AV4-AT20)","v":0},{"$f":"IF(AU10=0,0,(AU10*((LOG(AU10))/LOG(2))))","v":0}]
[21,496,21,502,22,508,23,516,null,null,0,2222,null,1211,{"$f":"COUNTIF($L$7:$L$500,N11)","v":1},{"$f":"O11/$Q$4","v":5.4054054054054057E-3},{"$f":"IF(P11=0,0,(P11*((LOG(P11))/LOG(2))))","v":-4.0710170056844928E-2},null,null,{"$f":"N11","v":1211},{"$f":"COUNTIF(L7:L37,T11)","v":0},{"$f":"U11/(W4-U20)","v":0},{"$f":"IF(V11=0,0,(V11*((LOG(V11))/LOG(2))))","v":0},null,{"$f":"N11","v":1211},{"$f":"COUNTIF(L38:L68,Y11)","v":0},{"$f":"Z11/(AB4-Z20)","v":0},{"$f":"IF(AA11=0,0,(AA11*((LOG(AA11))/LOG(2))))","v":0},null,{"$f":"N11","v":1211},{"$f":"COUNTIF(L69:L99,AD11)","v":0},{"$f":"AE11/(AG4-AE20)","v":0},{"$f":"IF(AF11=0,0,(AF11*((LOG(AF11))/LOG(2))))","v":0},null,{"$f":"N11","v":1211},{"$f":"COUNTIF(L100:L130,AI11)","v":0},{"$f":"AJ11/(AL4-AJ20)","v":0},{"$f":"IF(AK11=0,0,(AK11*((LOG(AK11))/LOG(2))))","v":0},null,{"$f":"N11","v":1211},{"$f":"COUNTIF(L131:L161,AN11)","v":0},{"$f":"AO11/(AQ4-AO20)","v":0},{"$f":"IF(AP11=0,0,(AP11*((LOG(AP11))/LOG(2))))","v":0},null,{"$f":"N11","v":1211},{"$f":"COUNTIF(L162:L192,AS11)","v":1},{"$f":"AT11/(AV4-AT20)","v":3.7037037037037035E-2},{"$f":"IF(AU11=0,0,(AU11*((LOG(AU11))/LOG(2))))","v":-0.1761069445245729}]
[21,608,21,614,22,620,23,627,null,null,0,2222,null,1212,{"$f":"COUNTIF($L$7:$L$500,N12)","v":4},{"$f":"O12/$Q$4","v":2.1621621621621623E-2},{"$f":"IF(P12=0,0,(P12*((LOG(P12))/LOG(2))))","v":-0.11959743698413648},null,null,{"$f":"N12","v":1212},{"$f":"COUNTIF(L7:L37,T12)","v":0},{"$f":"U12/(W4-U20)","v":0},{"$f":"IF(V12=0,0,(V12*((LOG(V12))/LOG(2))))","v":0},null,{"$f":"N12","v":1212},{"$f":"COUNTIF(L38:L68,Y12)","v":1},{"$f":"Z12/(AB4-Z20)","v":3.7037037037037035E-2},{"$f":"IF(AA12=0,0,(AA12*((LOG(AA12))/LOG(2))))","v":-0.1761069445245729},null,{"$f":"N12","v":1212},{"$f":"COUNTIF(L69:L99,AD12)","v":1},{"$f":"AE12/(AG4-AE20)","v":0.04},{"$f":"IF(AF12=0,0,(AF12*((LOG(AF12))/LOG(2))))","v":-0.18575424759098899},null,{"$f":"N12","v":1212},{"$f":"COUNTIF(L100:L130,AI12)","v":0},{"$f":"AJ12/(AL4-AJ20)","v":0},{"$f":"IF(AK12=0,0,(AK12*((LOG(AK12))/LOG(2))))","v":0},null,{"$f":"N12","v":1212},{"$f":"COUNTIF(L131:L161,AN12)","v":1},{"$f":"AO12/(AQ4-AO20)","v":3.5714285714285712E-2},{"$f":"IF(AP12=0,0,(AP12*((LOG(AP12))/LOG(2))))","v":-0.17169124721634299},null,{"$f":"N12","v":1212},{"$f":"COUNTIF(L162:L192,AS12)","v":1},{"$f":"AT12/(AV4-AT20)","v":3.7037037037037035E-2},{"$f":"IF(AU12=0,0,(AU12*((LOG(AU12))/LOG(2))))","v":-0.1761069445245729}]
[21,730,21,736,11,738,21,765,null,null,0,2212,null,1221,{"$f":"COUNTIF($L$7:$L$500,N13)","v":7},{"$f":"O13/$Q$4","v":3.783783783783784E-2},{"$f":"IF(P13=0,0,(P13*((LOG(P13))/LOG(2))))","v":-0.17874695010384303},null,null,{"$f":"N13","v":1221},{"$f":"COUNTIF(L7:L37,T13)","v":1},{"$f":"U13/(W4-U20)","v":3.5714285714285712E-2},{"$f":"IF(V13=0,0,(V13*((LOG(V13))/LOG(2))))","v":-0.17169124721634299},null,{"$f":"N13","v":1221},{"$f":"COUNTIF(L38:L68,Y13)","v":2},{"$f":"Z13/(AB4-Z20)","v":7.407407407407407E-2},{"$f":"IF(AA13=0,0,(AA13*((LOG(AA13))/LOG(2))))","v":-0.27813981497507173},null,{"$f":"N13","v":1221},{"$f":"COUNTIF(L69:L99,AD13)","v":1},{"$f":"AE13/(AG4-AE20)","v":0.04},{"$f":"IF(AF13=0,0,(AF13*((LOG(AF13))/LOG(2))))","v":-0.18575424759098899},null,{"$f":"N13","v":1221},{"$f":"COUNTIF(L100:L130,AI13)","v":1},{"$f":"AJ13/(AL4-AJ20)","v":3.4482758620689655E-2},{"$f":"IF(AK13=0,0,(AK13*((LOG(AK13))/LOG(2))))","v":-0.16751658603888178},null,{"$f":"N13","v":1221},{"$f":"COUNTIF(L131:L161,AN13)","v":2},{"$f":"AO13/(AQ4-AO20)","v":7.1428571428571425E-2},{"$f":"IF(AP13=0,0,(AP13*((LOG(AP13))/LOG(2))))","v":-0.27195392300411453},null,{"$f":"N13","v":1221},{"$f":"COUNTIF(L162:L192,AS13)","v":0},{"$f":"AT13/(AV4-AT20)","v":0},{"$f":"IF(AU13=0,0,(AU13*((LOG(AU13))/LOG(2))))","v":0}]
[12,1072,23,1093,24,1097,23,1103,null,null,0,1222,null,1222,{"$f":"COUNTIF($L$7:$L$500,N14)","v":27},{"$f":"O14/$Q$4","v":0.14594594594594595},{"$f":"IF(P14=0,0,(P14*((LOG(P14))/LOG(2))))","v":-0.40521803716500965},null,null,{"$f":"N14","v":1222},{"$f":"COUNTIF(L7:L37,T14)","v":6},{"$f":"U14/(W4-U20)","v":0.21428571428571427},{"$f":"IF(V14=0,0,(V14*((LOG(V14))/LOG(2))))","v":-0.47622694742923877},null,{"$f":"N14","v":1222},{"$f":"COUNTIF(L38:L68,Y14)","v":6},{"$f":"Z14/(AB4-Z20)","v":0.22222222222222221},{"$f":"IF(AA14=0,0,(AA14*((LOG(AA14))/LOG(2))))","v":-0.48220555587606945},null,{"$f":"N14","v":1222},{"$f":"COUNTIF(L69:L99,AD14)","v":3},{"$f":"AE14/(AG4-AE20)","v":0.12},{"$f":"IF(AF14=0,0,(AF14*((LOG(AF14))/LOG(2))))","v":-0.36706724268642821},null,{"$f":"N14","v":1222},{"$f":"COUNTIF(L100:L130,AI14)","v":4},{"$f":"AJ14/(AL4-AJ20)","v":0.13793103448275862},{"$f":"IF(AK14=0,0,(AK14*((LOG(AK14))/LOG(2))))","v":-0.39420427519000989},null,{"$f":"N14","v":1222},{"$f":"COUNTIF(L131:L161,AN14)","v":5},{"$f":"AO14/(AQ4-AO20)","v":0.17857142857142858},{"$f":"IF(AP14=0,0,(AP14*((LOG(AP14))/LOG(2))))","v":-0.44382621913754317},null,{"$f":"N14","v":1222},{"$f":"COUNTIF(L162:L192,AS14)","v":3},{"$f":"AT14/(AV4-AT20)","v":0.1111111111111111},{"$f":"IF(AU14=0,0,(AU14*((LOG(AU14))/LOG(2))))","v":-0.3522138890491458}]
[21,1201,12,1204,24,1209,23,1216,null,null,0,2122,null,2111,{"$f":"COUNTIF($L$7:$L$500,N15)","v":0},{"$f":"O15/$Q$4","v":0},{"$f":"IF(P15=0,0,(P15*((LOG(P15))/LOG(2))))","v":0},null,null,{"$f":"N15","v":2111},{"$f":"COUNTIF(L7:L37,T15)","v":0},{"$f":"U15/(W4-U20)","v":0},{"$f":"IF(V15=0,0,(V15*((LOG(V15))/LOG(2))))","v":0},null,{"$f":"N15","v":2111},{"$f":"COUNTIF(L38:L68,Y15)","v":0},{"$f":"Z15/(AB4-Z20)","v":0},{"$f":"IF(AA15=0,0,(AA15*((LOG(AA15))/LOG(2))))","v":0},null,{"$f":"N15","v":2111},{"$f":"COUNTIF(L69:L99,AD15)","v":0},{"$f":"AE15/(AG4-AE20)","v":0},{"$f":"IF(AF15=0,0,(AF15*((LOG(AF15))/LOG(2))))","v":0},null,{"$f":"N15","v":2111},{"$f":"COUNTIF(L100:L130,AI15)","v":0},{"$f":"AJ15/(AL4-AJ20)","v":0},{"$f":"IF(AK15=0,0,(AK15*((LOG(AK15))/LOG(2))))","v":0},null,{"$f":"N15","v":2111},{"$f":"COUNTIF(L131:L161,AN15)","v":0},{"$f":"AO15/(AQ4-AO20)","v":0},{"$f":"IF(AP15=0,0,(AP15*((LOG(AP15))/LOG(2))))","v":0},null,{"$f":"N15","v":2111},{"$f":"COUNTIF(L162:L192,AS15)","v":0},{"$f":"AT15/(AV4-AT20)","v":0},{"$f":"IF(AU15=0,0,(AU15*((LOG(AU15))/LOG(2))))","v":0}]
[21,1319,12,1324,24,1332,23,1341,null,null,0,2122,null,2112,{"$f":"COUNTIF($L$7:$L$500,N16)","v":3},{"$f":"O16/$Q$4","v":1.6216216216216217E-2},{"$f":"IF(P16=0,0,(P16*((LOG(P16))/LOG(2))))","v":-9.6428415564245779E-2},null,null,{"$f":"N16","v":2112},{"$f":"COUNTIF(L7:L37,T16)","v":0},{"$f":"U16/(W4-U20)","v":0},{"$f":"IF(V16=0,0,(V16*((LOG(V16))/LOG(2))))","v":0},null,{"$f":"N16","v":2112},{"$f":"COUNTIF(L38:L68,Y16)","v":0},{"$f":"Z16/(AB4-Z20)","v":0},{"$f":"IF(AA16=0,0,(AA16*((LOG(AA16))/LOG(2))))","v":0},null,{"$f":"N16","v":2112},{"$f":"COUNTIF(L69:L99,AD16)","v":0},{"$f":"AE16/(AG4-AE20)","v":0},{"$f":"IF(AF16=0,0,(AF16*((LOG(AF16))/LOG(2))))","v":0},null,{"$f":"N16","v":2112},{"$f":"COUNTIF(L100:L130,AI16)","v":2},{"$f":"AJ16/(AL4-AJ20)","v":6.8965517241379309E-2},{"$f":"IF(AK16=0,0,(AK16*((LOG(AK16))/LOG(2))))","v":-0.26606765483638428},null,{"$f":"N16","v":2112},{"$f":"COUNTIF(L131:L161,AN16)","v":1},{"$f":"AO16/(AQ4-AO20)","v":3.5714285714285712E-2},{"$f":"IF(AP16=0,0,(AP16*((LOG(AP16))/LOG(2))))","v":-0.17169124721634299},null,{"$f":"N16","v":2112},{"$f":"COUNTIF(L162:L192,AS16)","v":0},{"$f":"AT16/(AV4-AT20)","v":0},{"$f":"IF(AU16=0,0,(AU16*((LOG(AU16))/LOG(2))))","v":0}]
[21,1435,21,1439,22,1446,23,1455,null,null,0,2222,null,2121,{"$f":"COUNTIF($L$7:$L$500,N17)","v":0},{"$f":"O17/$Q$4","v":0},{"$f":"IF(P17=0,0,(P17*((LOG(P17))/LOG(2))))","v":0},null,null,{"$f":"N17","v":2121},{"$f":"COUNTIF(L7:L37,T17)","v":0},{"$f":"U17/(W4-U20)","v":0},{"$f":"IF(V17=0,0,(V17*((LOG(V17))/LOG(2))))","v":0},null,{"$f":"N17","v":2121},{"$f":"COUNTIF(L38:L68,Y17)","v":0},{"$f":"Z17/(AB4-Z20)","v":0},{"$f":"IF(AA17=0,0,(AA17*((LOG(AA17))/LOG(2))))","v":0},null,{"$f":"N17","v":2121},{"$f":"COUNTIF(L69:L99,AD17)","v":0},{"$f":"AE17/(AG4-AE20)","v":0},{"$f":"IF(AF17=0,0,(AF17*((LOG(AF17))/LOG(2))))","v":0},null,{"$f":"N17","v":2121},{"$f":"COUNTIF(L100:L130,AI17)","v":0},{"$f":"AJ17/(AL4-AJ20)","v":0},{"$f":"IF(AK17=0,0,(AK17*((LOG(AK17))/LOG(2))))","v":0},null,{"$f":"N17","v":2121},{"$f":"COUNTIF(L131:L161,AN17)","v":0},{"$f":"AO17/(AQ4-AO20)","v":0},{"$f":"IF(AP17=0,0,(AP17*((LOG(AP17))/LOG(2))))","v":0},null,{"$f":"N17","v":2121},{"$f":"COUNTIF(L162:L192,AS17)","v":0},{"$f":"AT17/(AV4-AT20)","v":0},{"$f":"IF(AU17=0,0,(AU17*((LOG(AU17))/LOG(2))))","v":0}]
[21,1551,21,1557,22,1563,23,1569,null,null,0,2222,null,2122,{"$f":"COUNTIF($L$7:$L$500,N18)","v":23},{"$f":"O18/$Q$4","v":0.12432432432432433},{"$f":"IF(P18=0,0,(P18*((LOG(P18))/LOG(2))))","v":-0.3739451275814264},null,null,{"$f":"N18","v":2122},{"$f":"COUNTIF(L7:L37,T18)","v":6},{"$f":"U18/(W4-U20)","v":0.21428571428571427},{"$f":"IF(V18=0,0,(V18*((LOG(V18))/LOG(2))))","v":-0.47622694742923877},null,{"$f":"N18","v":2122},{"$f":"COUNTIF(L38:L68,Y18)","v":6},{"$f":"Z18/(AB4-Z20)","v":0.22222222222222221},{"$f":"IF(AA18=0,0,(AA18*((LOG(AA18))/LOG(2))))","v":-0.48220555587606945},null,{"$f":"N18","v":2122},{"$f":"COUNTIF(L69:L99,AD18)","v":3},{"$f":"AE18/(AG4-AE20)","v":0.12},{"$f":"IF(AF18=0,0,(AF18*((LOG(AF18))/LOG(2))))","v":-0.36706724268642821},null,{"$f":"N18","v":2122},{"$f":"COUNTIF(L100:L130,AI18)","v":2},{"$f":"AJ18/(AL4-AJ20)","v":6.8965517241379309E-2},{"$f":"IF(AK18=0,0,(AK18*((LOG(AK18))/LOG(2))))","v":-0.26606765483638428},null,{"$f":"N18","v":2122},{"$f":"COUNTIF(L131:L161,AN18)","v":3},{"$f":"AO18/(AQ4-AO20)","v":0.10714285714285714},{"$f":"IF(AP18=0,0,(AP18*((LOG(AP18))/LOG(2))))","v":-0.34525633085747659},null,{"$f":"N18","v":2122},{"$f":"COUNTIF(L162:L192,AS18)","v":3},{"$f":"AT18/(AV4-AT20)","v":0.1111111111111111},{"$f":"IF(AU18=0,0,(AU18*((LOG(AU18))/LOG(2))))","v":-0.3522138890491458}]
[21,1668,12,1674,24,1675,23,1683,null,null,0,2122,null,2211,{"$f":"COUNTIF($L$7:$L$500,N19)","v":1},{"$f":"O19/$Q$4","v":5.4054054054054057E-3},{"$f":"IF(P19=0,0,(P19*((LOG(P19))/LOG(2))))","v":-4.0710170056844928E-2},null,null,{"$f":"N19","v":2211},{"$f":"COUNTIF(L7:L37,T19)","v":0},{"$f":"U19/(W4-U20)","v":0},{"$f":"IF(V19=0,0,(V19*((LOG(V19))/LOG(2))))","v":0},null,{"$f":"N19","v":2211},{"$f":"COUNTIF(L38:L68,Y19)","v":0},{"$f":"Z19/(AB4-Z20)","v":0},{"$f":"IF(AA19=0,0,(AA19*((LOG(AA19))/LOG(2))))","v":0},null,{"$f":"N19","v":2211},{"$f":"COUNTIF(L69:L99,AD19)","v":0},{"$f":"AE19/(AG4-AE20)","v":0},{"$f":"IF(AF19=0,0,(AF19*((LOG(AF19))/LOG(2))))","v":0},null,{"$f":"N19","v":2211},{"$f":"COUNTIF(L100:L130,AI19)","v":0},{"$f":"AJ19/(AL4-AJ20)","v":0},{"$f":"IF(AK19=0,0,(AK19*((LOG(AK19))/LOG(2))))","v":0},null,{"$f":"N19","v":2211},{"$f":"COUNTIF(L131:L161,AN19)","v":0},{"$f":"AO19/(AQ4-AO20)","v":0},{"$f":"IF(AP19=0,0,(AP19*((LOG(AP19))/LOG(2))))","v":0},null,{"$f":"N19","v":2211},{"$f":"COUNTIF(L162:L192,AS19)","v":1},{"$f":"AT19/(AV4-AT20)","v":3.7037037037037035E-2},{"$f":"IF(AU19=0,0,(AU19*((LOG(AU19))/LOG(2))))","v":-0.1761069445245729}]
[21,1775,21,1778,11,1781,21,1782,null,null,0,2212,null,2212,{"$f":"COUNTIF($L$7:$L$500,N20)","v":21},{"$f":"O20/$Q$4","v":0.11351351351351352},{"$f":"IF(P20=0,0,(P20*((LOG(P20))/LOG(2))))","v":-0.35632618806750593},null,null,{"$f":"N20","v":2212},{"$f":"COUNTIF(L7:L37,T20)","v":3},null,null,null,{"$f":"N20","v":2212},{"$f":"COUNTIF(L38:L68,Y20)","v":4},null,null,null,{"$f":"N20","v":2212},{"$f":"COUNTIF(L69:L99,AD20)","v":6},null,null,null,{"$f":"N20","v":2212},{"$f":"COUNTIF(L100:L130,AI20)","v":2},null,null,null,{"$f":"N20","v":2212},{"$f":"COUNTIF(L131:L161,AN20)","v":3},null,null,null,{"$f":"N20","v":2212},{"$f":"COUNTIF(L162:L192,AS20)","v":3}]
[21,1884,21,1888,22,1894,14,1898,null,null,0,2221,null,2221,{"$f":"COUNTIF($L$7:$L$500,N21)","v":10},{"$f":"O21/$Q$4","v":5.4054054054054057E-2},{"$f":"IF(P21=0,0,(P21*((LOG(P21))/LOG(2))))","v":-0.22753801976372701},null,null,{"$f":"N21","v":2221},{"$f":"COUNTIF(L7:L37,T21)","v":2},{"$f":"U21/(W4-U20)","v":7.1428571428571425E-2},{"$f":"IF(V21=0,0,(V21*((LOG(V21))/LOG(2))))","v":-0.27195392300411453},null,{"$f":"N21","v":2221},{"$f":"COUNTIF(L38:L68,Y21)","v":1},{"$f":"Z21/(AB4-Z20)","v":3.7037037037037035E-2},{"$f":"IF(AA21=0,0,(AA21*((LOG(AA21))/LOG(2))))","v":-0.1761069445245729},null,{"$f":"N21","v":2221},{"$f":"COUNTIF(L69:L99,AD21)","v":1},{"$f":"AE21/(AG4-AE20)","v":0.04},{"$f":"IF(AF21=0,0,(AF21*((LOG(AF21))/LOG(2))))","v":-0.18575424759098899},null,{"$f":"N21","v":2221},{"$f":"COUNTIF(L100:L130,AI21)","v":1},{"$f":"AJ21/(AL4-AJ20)","v":3.4482758620689655E-2},{"$f":"IF(AK21=0,0,(AK21*((LOG(AK21))/LOG(2))))","v":-0.16751658603888178},null,{"$f":"N21","v":2221},{"$f":"COUNTIF(L131:L161,AN21)","v":3},{"$f":"AO21/(AQ4-AO20)","v":0.10714285714285714},{"$f":"IF(AP21=0,0,(AP21*((LOG(AP21))/LOG(2))))","v":-0.34525633085747659},null,{"$f":"N21","v":2221},{"$f":"COUNTIF(L162:L192,AS21)","v":2},{"$f":"AT21/(AV4-AT20)","v":7.407407407407407E-2},{"$f":"IF(AU21=0,0,(AU21*((LOG(AU21))/LOG(2))))","v":-0.27813981497507173}]
[21,2052,21,2055,22,2064,14,2068,null,null,0,2221,null,2222,{"$f":"COUNTIF($L$7:$L$500,N22)","v":82},{"$f":"O22/$Q$4","v":0.44324324324324327},{"$f":"IF(P22=0,0,(P22*((LOG(P22))/LOG(2))))","v":-0.52029197504678226},null,null,{"$f":"N22","v":2222},{"$f":"COUNTIF(L7:L37,T22)","v":11},{"$f":"U22/(W4-U20)","v":0.39285714285714285},{"$f":"IF(V22=0,0,(V22*((LOG(V22))/LOG(2))))","v":-0.52954129777226344},null,{"$f":"N22","v":2222},{"$f":"COUNTIF(L38:L68,Y22)","v":9},{"$f":"Z22/(AB4-Z20)","v":0.33333333333333331},{"$f":"IF(AA22=0,0,(AA22*((LOG(AA22))/LOG(2))))","v":-0.52832083357371862},null,{"$f":"N22","v":2222},{"$f":"COUNTIF(L69:L99,AD22)","v":15},{"$f":"AE22/(AG4-AE20)","v":0.6},{"$f":"IF(AF22=0,0,(AF22*((LOG(AF22))/LOG(2))))","v":-0.44217935649972373},null,{"$f":"N22","v":2222},{"$f":"COUNTIF(L100:L130,AI22)","v":18},{"$f":"AJ22/(AL4-AJ20)","v":0.62068965517241381},{"$f":"IF(AK22=0,0,(AK22*((LOG(AK22))/LOG(2))))","v":-0.4270692374598164},null,{"$f":"N22","v":2222},{"$f":"COUNTIF(L131:L161,AN22)","v":13},{"$f":"AO22/(AQ4-AO20)","v":0.4642857142857143},{"$f":"IF(AP22=0,0,(AP22*((LOG(AP22))/LOG(2))))","v":-0.51392491610409474},null,{"$f":"N22","v":2222},{"$f":"COUNTIF(L162:L192,AS22)","v":16},{"$f":"AT22/(AV4-AT20)","v":0.59259259259259256},{"$f":"IF(AU22=0,0,(AU22*((LOG(AU22))/LOG(2))))","v":-0.44734074202279617}]
[21,2171,12,2182,24,2190,23,2198,null,null,0,2122,null,null,null,{"$f":"SUM(P7:P22)","v":1},{"$f":"-SUM(Q7:Q22)","v":2.541018697356102},null,null,null,null,{"$f":"SUM(V7:V22)","v":1},{"$f":"-SUM(W7:W22)","v":2.1975942858553132},null,null,null,{"$f":"SUM(AA7:AA22)","v":0.99999999999999978},{"$f":"-SUM(AB7:AB22)","v":2.4752995383992209},null,null,null,{"$f":"SUM(AF7:AF22)","v":1},{"$f":"-SUM(AG7:AG22)","v":1.9193308322365361},null,null,null,{"$f":"SUM(AK7:AK22)","v":1},{"$f":"-SUM(AL7:AL22)","v":1.8559585804392402},null,null,null,{"$f":"SUM(AP7:AP22)","v":1},{"$f":"-SUM(AQ7:AQ22)","v":2.2636002143933913},null,null,null,{"$f":"SUM(AU7:AU22)","v":1},{"$f":"-SUM(AV7:AV22)","v":1.9582291686698783}]
[12,2292,23,2300,24,2304,23,2309,null,null,0,1222,null,null,null,"U=",{"$f":"Q23/(LOG(Q4)/LOG(2))","v":0.33739078423759766},null,null,null,null,"U1=",{"$f":"W23/(LOG(W4)/LOG(2))","v":0.44358239927793702},null,null,null,"U2=",{"$f":"AB23/(LOG(AB4)/LOG(2))","v":0.49963695084297616},null,null,null,"U3=",{"$f":"AG23/(LOG(AG4)/LOG(2))","v":0.38741517533580638},null,null,null,"U4=",{"$f":"AL23/(LOG(AL4)/LOG(2))","v":0.37462354419587135},null,null,null,"U5=",{"$f":"AQ23/(LOG(AQ4)/LOG(2))","v":0.45690563566235148},null,null,null,"U6=",{"$f":"AV23/(LOG(AV4)/LOG(2))","v":0.39907740564308064}]
[21,2409,21,2413,22,2418,23,2429,null,null,0,2222]
[12,2523,23,2533,24,2538,23,2545,null,null,0,1222]
[21,2641,21,2645,22,2648,23,2654,null,null,0,2222,null,"Total Target Seq"]
[12,2754,23,2762,24,2771,14,2789,null,null,0,1221,null,{"$f":"COUNTIF(L7:L192,G3)","v":21},null,31,31,31,31,31,31]
[21,2896,21,2900,22,2904,23,2923,null,null,0,2222,null,null,null,"% of reinforcement given in 6 equal intervals based on number of trials "]
[12,3015,23,3023,24,3028,23,3033,null,null,0,1222,null,null,null,"%_1","%_2","%_3","%_4","%_5","%_6"]
[12,3126,23,3135,24,3139,23,3145,null,null,0,1222,null,null,"target sequence",{"$f":"$G$3","v":2212},{"$f":"$G$3","v":2212},{"$f":"$G$3","v":2212},{"$f":"$G$3","v":2212},{"$f":"$G$3","v":2212},{"$f":"$G$3","v":2212}]
[12,3240,14,3247,24,3259,23,3263,null,null,0,1122,null,null,"total reinforcement",{"$f":"U20","v":3},{"$f":"Z20","v":4},{"$f":"AE20","v":6},{"$f":"AJ20","v":2},{"$f":"AO20","v":3},{"$f":"AT20","v":3}]
[21,3359,21,3361,11,3366,21,3368,null,null,0,2212,null,null,"% target"]
[21,3493,21,3506,22,3519,23,3536,null,null,0,2222,null,null,"CCRF"]
[21,3635,21,3639,22,3645,23,3653,null,null,0,2222,null,null,"% CCRf"]
[12,3772,14,3797,24,3800,23,3804,null,null,0,1122,null,null,"average response rate",{"$f":"H37/P28","v":126.51612903225806},{"$f":"(H68-H37)/Q28","v":123.93548387096774},{"$f":"(H99-H68)/R28","v":132.16129032258064},{"$f":"(H130-H99)/S28","v":128.64516129032259},{"$f":"(H161-H130)/T28","v":126.45161290322581},{"$f":"(H192-H161)/U28","v":-637.70967741935488}]
[21,3902,21,3906,22,3913,23,3922,null,null,0,2222]
[12,4014,23,4026,24,4030,23,4034,null,null,0,1222]
[21,4135,12,4141,24,4151,23,4158,null,null,0,2122]
[21,4254,21,4259,22,4265,23,4276,null,null,0,2222]
[12,4368,23,4380,24,4384,23,4389,null,null,0,1222]
[21,4487,21,4492,11,4494,21,4500,null,null,0,2212]
[12,4647,23,4661,24,4665,14,4671,null,null,0,1221]
[12,4764,23,4786,24,4789,23,4795,null,null,0,1222]
[12,4887,23,4896,24,4901,14,4904,null,null,0,1221]
[21,4999,21,5013,22,5020,23,5026,null,null,0,2222]
[21,5124,21,5135,11,5138,21,5142,null,null,0,2212]
[12,5305,14,5333,13,5338,23,5356,null,null,0,1112]
[21,5452,12,5455,24,5461,23,5473,null,null,0,2122]
[21,5583,21,5589,22,5599,23,5607,null,null,0,2222]
[21,5700,21,5706,22,5712,23,5721,null,null,0,2222]
[21,5817,21,5823,22,5835,23,5860,null,null,0,2222]
[21,5955,12,5957,24,5960,23,5963,null,null,0,2122]
[12,6056,23,6064,24,6071,23,6078,null,null,0,1222]
[21,6170,21,6175,22,6190,23,6195,null,null,0,2222]
[12,6287,23,6301,24,6306,23,6313,null,null,0,1222]
[12,6405,23,6416,13,6418,23,6425,null,null,0,1212]
[21,6520,21,6524,22,6527,14,6531,null,null,0,2221]
[21,6627,21,6638,22,6647,23,6655,null,null,0,2222]
[21,6806,21,6811,22,6814,23,6819,null,null,0,2222]
[12,6926,14,6935,24,6939,23,6947,null,null,0,1122]
[21,7047,21,7052,11,7054,21,7058,null,null,0,2212]
[21,7152,12,7162,24,7171,23,7182,null,null,0,2122]
[21,7277,12,7284,24,7290,23,7296,null,null,0,2122]
[21,7392,12,7400,24,7403,23,7409,null,null,0,2122]
[21,7513,21,7518,11,7521,21,7523,null,null,0,2212]
[21,7628,21,7640,22,7645,23,7653,null,null,0,2222]
[12,7746,23,7754,24,7759,23,7764,null,null,0,1222]
[21,7859,12,7863,24,7870,23,7878,null,null,0,2122]
[21,7973,21,7978,11,7980,21,7983,null,null,0,2212]
[21,8122,21,8127,22,8133,23,8140,null,null,0,2222]
[21,8253,21,8265,11,8270,21,8272,null,null,0,2212]
[12,8415,23,8428,24,8434,14,8440,null,null,0,1221]
[21,8542,21,8547,11,8548,21,8553,null,null,0,2212]
[21,8829,21,8835,22,8846,23,8859,null,null,0,2222]
[21,8957,21,8963,22,8968,14,8981,null,null,0,2221]
[12,9074,23,9082,24,9089,23,9097,null,null,0,1222]
[21,9194,21,9206,22,9210,23,9217,null,null,0,2222]
[21,9311,21,9315,22,9320,23,9333,null,null,0,2222]
[21,9435,21,9441,22,9449,23,9456,null,null,0,2222]
[21,9549,21,9557,11,9560,21,9563,null,null,0,2212]
[12,9669,23,9683,24,9688,23,9695,null,null,0,1222]
[21,9815,21,9822,22,9834,23,9841,null,null,0,2222]
[21,9970,21,9972,22,9975,23,9981,null,null,0,2222]
[21,10076,21,10085,22,10094,23,10098,null,null,0,2222]
[21,10190,21,10194,22,10206,23,10213,null,null,0,2222]
[21,10305,21,10310,22,10316,23,10322,null,null,0,2222]
[21,10419,21,10423,11,10426,21,10430,null,null,0,2212]
[21,10639,12,10650,24,10672,23,10685,null,null,0,2122]
[21,10781,21,10785,22,10792,23,10800,null,null,0,2222]
[21,10897,21,10903,22,10913,23,10920,null,null,0,2222]
[21,11018,21,11025,22,11032,23,11038,null,null,0,2222]
[12,11134,23,11144,13,11150,23,11156,null,null,0,1212]
[21,11248,12,11250,24,11254,23,11266,null,null,0,2122]
[21,11368,21,11373,11,11377,21,11385,null,null,0,2212]
[12,11478,23,11493,24,11499,23,11503,null,null,0,1222]
[12,11597,14,11599,24,11609,23,11619,null,null,0,1122]
[21,11716,21,11728,22,11734,23,11740,null,null,0,2222]
[21,11840,21,11845,22,11852,23,11861,null,null,0,2222]
[21,11956,21,11960,22,11968,23,11975,null,null,0,2222]
[21,12070,21,12074,22,12080,23,12091,null,null,0,2222]
[21,12189,21,12195,22,12202,23,12211,null,null,0,2222]
[21,12391,12,12395,24,12399,23,12404,null,null,0,2122]
[21,12499,21,12507,22,12514,23,12521,null,null,0,2222]
[21,12616,21,12622,22,12631,23,12637,null,null,0,2222]
[12,12732,23,12738,24,12742,14,12747,null,null,0,1221]
[21,12841,21,12847,22,12857,23,12867,null,null,0,2222]
[21,12966,21,12970,22,12974,23,12979,null,null,0,2222]
[21,13077,21,13082,22,13092,23,13097,null,null,0,2222]
[21,13196,21,13201,22,13207,23,13215,null,null,0,2222]
[21,13309,21,13311,22,13316,23,13325,null,null,0,2222]
[21,13422,21,13428,22,13436,23,13442,null,null,0,2222]
[21,13535,21,13538,22,13541,14,13543,null,null,0,2221]
[12,13636,23,13644,24,13650,23,13660,null,null,0,1222]
[21,13752,21,13755,22,13760,23,13766,null,null,0,2222]
[21,13867,12,13870,24,13877,23,13884,null,null,0,2122]
[12,13978,23,13981,24,13985,23,13992,null,null,0,1222]
[21,14091,12,14094,13,14098,23,14106,null,null,0,2112]
[21,14205,21,14211,22,14218,23,14226,null,null,0,2222]
[21,14321,21,14325,22,14331,23,14347,null,null,0,2222]
[21,14443,12,14448,13,14450,23,14454,null,null,0,2112]
[21,14547,21,14552,22,14558,23,14566,null,null,0,2222]
[12,14658,23,14668,24,14672,23,14678,null,null,0,1222]
[12,14777,23,14793,24,14804,23,14814,null,null,0,1222]
[21,14908,21,14912,11,14916,21,14918,null,null,0,2212]
[12,15186,14,15191,24,15209,23,15222,null,null,0,1122]
[21,15482,21,15492,22,15498,23,15504,null,null,0,2222]
[21,15608,21,15615,22,15622,23,15629,null,null,0,2222]
[21,15728,21,15732,22,15738,23,15745,null,null,0,2222]
[21,15840,21,15843,11,15847,21,15849,null,null,0,2212]
[12,16033,23,16043,24,16052,23,16059,null,null,0,1222]
[21,16169,12,16179,24,16182,23,16191,null,null,0,2122]
[21,16286,21,16295,11,16298,21,16303,null,null,0,2212]
[21,16500,21,16510,22,16518,23,16527,null,null,0,2222]
[21,16621,21,16625,22,16631,23,16638,null,null,0,2222]
[21,16730,21,16736,22,16742,23,16750,null,null,0,2222]
[21,16846,21,16853,22,16857,14,16863,null,null,0,2221]
[12,16956,23,16964,24,16969,14,16973,null,null,0,1221]
[12,17065,23,17072,24,17083,23,17090,null,null,0,1222]
[21,17185,12,17188,24,17190,23,17201,null,null,0,2122]
[12,17294,23,17296,24,17303,14,17310,null,null,0,1221]
[12,17404,23,17413,24,17418,23,17429,null,null,0,1222]
[21,17530,21,17534,22,17537,23,17545,null,null,0,2222]
[21,17640,21,17644,11,17647,21,17654,null,null,0,2212]
[12,17938,23,17953,13,17956,23,17961,null,null,0,1212]
[21,18056,21,18061,22,18068,23,18075,null,null,0,2222]
[21,18174,21,18180,22,18186,23,18194,null,null,0,2222]
[21,18293,21,18298,22,18303,14,18313,null,null,0,2221]
[21,18408,21,18416,22,18420,23,18425,null,null,0,2222]
[21,18521,21,18526,22,18532,23,18543,null,null,0,2222]
[21,18636,21,18640,22,18643,23,18648,null,null,0,2222]
[21,18744,21,18748,22,18752,23,18757,null,null,0,2222]
[12,18852,23,18854,24,18865,23,18872,null,null,0,1222]
[21,18967,12,18968,24,18971,23,18982,null,null,0,2122]
[12,19078,23,19081,24,19088,23,19094,null,null,0,1222]
[21,19190,21,19196,22,19202,23,19208,null,null,0,2222]
[21,19302,21,19307,22,19314,14,19317,null,null,0,2221]
[21,19414,21,19423,22,19429,23,19436,null,null,0,2222]
[21,19533,12,19540,13,19546,23,19549,null,null,0,2112]
[21,19644,21,19653,22,19659,23,19664,null,null,0,2222]
[21,19760,21,19763,11,19766,21,19769,null,null,0,2212]
[21,20260,21,20270,22,20278,23,20285,null,null,0,2222]
[21,20377,21,20384,11,20388,21,20390,null,null,0,2212]
[21,20514,21,20521,22,20530,23,20537,null,null,0,2222]
[21,20689,21,20692,11,20696,21,20702,null,null,0,2212]
[12,20821,23,20836,13,20840,23,20843,null,null,0,1212]
[21,20975,21,20978,11,20983,21,20989,null,null,0,2212]
[12,21149,23,21159,24,21177,23,21183,null,null,0,1222]
[21,21276,21,21280,22,21292,23,21304,null,null,0,2222]
[21,21400,21,21407,22,21415,23,21420,null,null,0,2222]
[21,21515,21,21523,22,21528,23,21534,null,null,0,2222]
[21,21634,21,21639,22,21643,14,21649,null,null,0,2221]
[21,21742,21,21748,22,21754,23,21761,null,null,0,2222]
[21,21858,21,21864,22,21868,23,21872,null,null,0,2222]
[21,21968,21,21974,11,21977,12,21986,null,null,0,2211]
[21,22117,21,22121,22,22126,23,22130,null,null,0,2222]
[12,22223,23,22226,24,22238,23,22244,null,null,0,1222]
[21,22340,21,22349,22,22356,23,22362,null,null,0,2222]
[21,22458,21,22463,22,22475,23,22481,null,null,0,2222]
[21,22583,21,22589,22,22597,23,22609,null,null,0,2222]
[21,22704,21,22707,22,22712,23,22723,null,null,0,2222]
[12,22819,23,22821,24,22825,23,22831,null,null,0,1222]
[21,22930,21,22937,22,22944,23,22952,null,null,0,2222]
[21,23049,21,23054,22,23059,23,23066,null,null,0,2222]
[21,23161,12,23164,24,23168,23,23173,null,null,0,2122]
[12,23267,23,23271,13,23279,14,23281,null,null,0,1211]
[21,23383,21,23388,22,23393,23,23400,null,null,0,2222]
[21,23518,12,23521,24,23528,23,23536,null,null,0,2122]
[21,23638,21,23644,22,23650,23,23658,null,null,0,2222]
[21,23754,12,23760,24,23767,23,23785,null,null,0,2122]
[21,23880,21,23886,22,23893,14,23898,null,null,0,2221]
[21,23994,12,23996,24,23998,null,null,null,null,null,212]

{"sheet":"!M703B00.Gus","index":14,"n_rows":191,"n_cols":48,"rows_kept":191,"cut":false,"hidden":false,"merged":[[4,39,4,42],[5,39,5,40],[4,44,4,47],[5,44,5,45],[4,24,4,27],[5,24,5,25],[4,29,4,32],[5,29,5,30],[4,34,4,37],[5,34,5,35],[1,1,1,2],[5,13,5,14],[26,13,26,14],[27,13,27,14],[4,19,4,22],[5,19,5,20]]}
["Report for:!M703B00.Gus"]
["Date:","<date>"]
["Hen:","<hen>",null,null,null,"Correct Sequence",{"$f":"Start!J2","v":2212},null,null,null,null,null,null,null,null,"Total Sequences in Data",{"$f":"4994-COUNTBLANK(L7:L5000)","v":185},null,null,null,null,"Total Sequences in Block Data",{"$f":"COUNTA(L7:L37)","v":31},null,null,null,"Total Sequences in Block Data",{"$f":"COUNTA(L38:L68)","v":31},null,null,null,"Total Sequences in Block Data",{"$f":"COUNTA(L69:L98)","v":30},null,null,null,"Total Sequences in Block Data",{"$f":"COUNTA(L99:L129)","v":31},null,null,null,"Total Sequences in Block Data",{"$f":"COUNTA(L130:L160)","v":31},null,null,null,"Total Sequences in Block Data",{"$f":"COUNTA(L161:L191)","v":31}]
[null,null,null,null,null,null,null,null,null,null,null,null,null,null,null,"Total Sequences in Summary",{"$f":"SUM(O7:O22)","v":185},null,null,null,null,"Total Sequences in Block Summary",{"$f":"SUM(U7:U22)","v":31},null,null,null,"Total Sequences in Block Summary",{"$f":"SUM(Z7:Z22)","v":31},null,null,null,"Total Sequences in Block Summary",{"$f":"SUM(AE7:AE22)","v":30},null,null,null,"Total Sequences in Block Summary",{"$f":"SUM(AJ7:AJ22)","v":31},null,null,null,"Total Sequences in Block Summary",{"$f":"SUM(AO7:AO22)","v":31},null,null,null,"Total Sequences in Block Summary",{"$f":"SUM(AT7:AT22)","v":31}]
[null,null,null,null,null,null,null,null,null,null,null,null,null,null,null,null,null,null,null,"Block 1",null,null,null,null,"Block 2",null,null,null,null,"Block 3",null,null,null,null,"Block 4",null,null,null,null,"Block 5",null,null,null,null,"Block 6"]
["Sequence\nComponent\n1","Time\n1","Sequence\nComponent\n2","Time\n2","Sequence\nComponent\n3","Time\n3","Sequence\nComponent\n4","Time\n4","Sequence\nComponent\n5","Time\n5","Correct?\n0=No 1=Yes","Sequence",null,"Frequency",null,"Relative Frequency","Variability",null,null,"Frequency",null,"Relative Frequency","Variability",null,"Frequency",null,"Relative Frequency","Variability",null,"Frequency",null,"Relative Frequency","Variability",null,"Frequency",null,"Relative Frequency","Variability",null,"Frequency",null,"Relative Frequency","Variability",null,"Frequency",null,"Relative Frequency","Variability"]
[21,134,21,145,22,156,23,161,null,null,0,2222,null,1111,{"$f":"COUNTIF($L$7:$L$500,N7)","v":0},{"$f":"O7/$Q$4","v":0},{"$f":"IF(P7=0,0,(P7*((LOG(P7))/LOG(2))))","v":0},null,null,{"$f":"N7","v":1111},{"$f":"COUNTIF(L7:L37,T7)","v":0},{"$f":"U7/(W4-U20)","v":0},{"$f":"IF(V7=0,0,(V7*((LOG(V7))/LOG(2))))","v":0},null,{"$f":"N7","v":1111},{"$f":"COUNTIF(L38:L68,Y7)","v":0},{"$f":"Z7/(AB4-Z20)","v":0},{"$f":"IF(AA7=0,0,(AA7*((LOG(AA7))/LOG(2))))","v":0},null,{"$f":"N7","v":1111},{"$f":"COUNTIF(L69:L98,AD7)","v":0},{"$f":"AE7/(AG4-AE20)","v":0},{"$f":"IF(AF7=0,0,(AF7*((LOG(AF7))/LOG(2))))","v":0},null,{"$f":"N7","v":1111},{"$f":"COUNTIF(L99:L129,AI7)","v":0},{"$f":"AJ7/(AL4-AJ20)","v":0},{"$f":"IF(AK7=0,0,(AK7*((LOG(AK7))/LOG(2))))","v":0},null,{"$f":"N7","v":1111},{"$f":"COUNTIF(L130:L160,AN7)","v":0},{"$f":"AO7/(AQ4-AO20)","v":0},{"$f":"IF(AP7=0,0,(AP7*((LOG(AP7))/LOG(2))))","v":0},null,{"$f":"N7","v":1111},{"$f":"COUNTIF(L161:L191,AS7)","v":0},{"$f":"AT7/(AV4-AT20)","v":0},{"$f":"IF(AU7=0,0,(AU7*((LOG(AU7))/LOG(2))))","v":0}]
[21,267,21,278,22,285,23,292,null,null,0,2222,null,1112,{"$f":"COUNTIF($L$7:$L$500,N8)","v":0},{"$f":"O8/$Q$4","v":0},{"$f":"IF(P8=0,0,(P8*((LOG(P8))/LOG(2))))","v":0},null,null,{"$f":"N8","v":1112},{"$f":"COUNTIF(L7:L37,T8)","v":0},{"$f":"U8/(W4-U20)","v":0},{"$f":"IF(V8=0,0,(V8*((LOG(V8))/LOG(2))))","v":0},null,{"$f":"N8","v":1112},{"$f":"COUNTIF(L38:L68,Y8)","v":0},{"$f":"Z8/(AB4-Z20)","v":0},{"$f":"IF(AA8=0,0,(AA8*((LOG(AA8))/LOG(2))))","v":0},null,{"$f":"N8","v":1112},{"$f":"COUNTIF(L69:L98,AD8)","v":0},{"$f":"AE8/(AG4-AE20)","v":0},{"$f":"IF(AF8=0,0,(AF8*((LOG(AF8))/LOG(2))))","v":0},null,{"$f":"N8","v":1112},{"$f":"COUNTIF(L99:L129,AI8)","v":0},{"$f":"AJ8/(AL4-AJ20)","v":0},{"$f":"IF(AK8=0,0,(AK8*((LOG(AK8))/LOG(2))))","v":0},null,{"$f":"N8","v":1112},{"$f":"COUNTIF(L130:L160,AN8)","v":0},{"$f":"AO8/(AQ4-AO20)","v":0},{"$f":"IF(AP8=0,0,(AP8*((LOG(AP8))/LOG(2))))","v":0},null,{"$f":"N8","v":1112},{"$f":"COUNTIF(L161:L191,AS8)","v":0},{"$f":"AT8/(AV4-AT20)","v":0},{"$f":"IF(AU8=0,0,(AU8*((LOG(AU8))/LOG(2))))","v":0}]
[21,396,12,402,24,405,23,416,null,null,0,2122,null,1121,{"$f":"COUNTIF($L$7:$L$500,N9)","v":0},{"$f":"O9/$Q$4","v":0},{"$f":"IF(P9=0,0,(P9*((LOG(P9))/LOG(2))))","v":0},null,null,{"$f":"N9","v":1121},{"$f":"COUNTIF(L7:L37,T9)","v":0},{"$f":"U9/(W4-U20)","v":0},{"$f":"IF(V9=0,0,(V9*((LOG(V9))/LOG(2))))","v":0},null,{"$f":"N9","v":1121},{"$f":"COUNTIF(L38:L68,Y9)","v":0},{"$f":"Z9/(AB4-Z20)","v":0},{"$f":"IF(AA9=0,0,(AA9*((LOG(AA9))/LOG(2))))","v":0},null,{"$f":"N9","v":1121},{"$f":"COUNTIF(L69:L98,AD9)","v":0},{"$f":"AE9/(AG4-AE20)","v":0},{"$f":"IF(AF9=0,0,(AF9*((LOG(AF9))/LOG(2))))","v":0},null,{"$f":"N9","v":1121},{"$f":"COUNTIF(L99:L129,AI9)","v":0},{"$f":"AJ9/(AL4-AJ20)","v":0},{"$f":"IF(AK9=0,0,(AK9*((LOG(AK9))/LOG(2))))","v":0},null,{"$f":"N9","v":1121},{"$f":"COUNTIF(L130:L160,AN9)","v":0},{"$f":"AO9/(AQ4-AO20)","v":0},{"$f":"IF(AP9=0,0,(AP9*((LOG(AP9))/LOG(2))))","v":0},null,{"$f":"N9","v":1121},{"$f":"COUNTIF(L161:L191,AS9)","v":0},{"$f":"AT9/(AV4-AT20)","v":0},{"$f":"IF(AU9=0,0,(AU9*((LOG(AU9))/LOG(2))))","v":0}]
[21,515,21,522,22,527,23,535,null,null,0,2222,null,1122,{"$f":"COUNTIF($L$7:$L$500,N10)","v":0},{"$f":"O10/$Q$4","v":0},{"$f":"IF(P10=0,0,(P10*((LOG(P10))/LOG(2))))","v":0},null,null,{"$f":"N10","v":1122},{"$f":"COUNTIF(L7:L37,T10)","v":0},{"$f":"U10/(W4-U20)","v":0},{"$f":"IF(V10=0,0,(V10*((LOG(V10))/LOG(2))))","v":0},null,{"$f":"N10","v":1122},{"$f":"COUNTIF(L38:L68,Y10)","v":0},{"$f":"Z10/(AB4-Z20)","v":0},{"$f":"IF(AA10=0,0,(AA10*((LOG(AA10))/LOG(2))))","v":0},null,{"$f":"N10","v":1122},{"$f":"COUNTIF(L69:L98,AD10)","v":0},{"$f":"AE10/(AG4-AE20)","v":0},{"$f":"IF(AF10=0,0,(AF10*((LOG(AF10))/LOG(2))))","v":0},null,{"$f":"N10","v":1122},{"$f":"COUNTIF(L99:L129,AI10)","v":0},{"$f":"AJ10/(AL4-AJ20)","v":0},{"$f":"IF(AK10=0,0,(AK10*((LOG(AK10))/LOG(2))))","v":0},null,{"$f":"N10","v":1122},{"$f":"COUNTIF(L130:L160,AN10)","v":0},{"$f":"AO10/(AQ4-AO20)","v":0},{"$f":"IF(AP10=0,0,(AP10*((LOG(AP10))/LOG(2))))","v":0},null,{"$f":"N10","v":1122},{"$f":"COUNTIF(L161:L191,AS10)","v":0},{"$f":"AT10/(AV4-AT20)","v":0},{"$f":"IF(AU10=0,0,(AU10*((LOG(AU10))/LOG(2))))","v":0}]
[21,630,21,635,22,639,14,641,null,null,0,2221,null,1211,{"$f":"COUNTIF($L$7:$L$500,N11)","v":0},{"$f":"O11/$Q$4","v":0},{"$f":"IF(P11=0,0,(P11*((LOG(P11))/LOG(2))))","v":0},null,null,{"$f":"N11","v":1211},{"$f":"COUNTIF(L7:L37,T11)","v":0},{"$f":"U11/(W4-U20)","v":0},{"$f":"IF(V11=0,0,(V11*((LOG(V11))/LOG(2))))","v":0},null,{"$f":"N11","v":1211},{"$f":"COUNTIF(L38:L68,Y11)","v":0},{"$f":"Z11/(AB4-Z20)","v":0},{"$f":"IF(AA11=0,0,(AA11*((LOG(AA11))/LOG(2))))","v":0},null,{"$f":"N11","v":1211},{"$f":"COUNTIF(L69:L98,AD11)","v":0},{"$f":"AE11/(AG4-AE20)","v":0},{"$f":"IF(AF11=0,0,(AF11*((LOG(AF11))/LOG(2))))","v":0},null,{"$f":"N11","v":1211},{"$f":"COUNTIF(L99:L129,AI11)","v":0},{"$f":"AJ11/(AL4-AJ20)","v":0},{"$f":"IF(AK11=0,0,(AK11*((LOG(AK11))/LOG(2))))","v":0},null,{"$f":"N11","v":1211},{"$f":"COUNTIF(L130:L160,AN11)","v":0},{"$f":"AO11/(AQ4-AO20)","v":0},{"$f":"IF(AP11=0,0,(AP11*((LOG(AP11))/LOG(2))))","v":0},null,{"$f":"N11","v":1211},{"$f":"COUNTIF(L161:L191,AS11)","v":0},{"$f":"AT11/(AV4-AT20)","v":0},{"$f":"IF(AU11=0,0,(AU11*((LOG(AU11))/LOG(2))))","v":0}]
[21,738,21,742,11,746,21,753,null,null,0,2212,null,1212,{"$f":"COUNTIF($L$7:$L$500,N12)","v":4},{"$f":"O12/$Q$4","v":2.1621621621621623E-2},{"$f":"IF(P12=0,0,(P12*((LOG(P12))/LOG(2))))","v":-0.11959743698413648},null,null,{"$f":"N12","v":1212},{"$f":"COUNTIF(L7:L37,T12)","v":1},{"$f":"U12/(W4-U20)","v":3.7037037037037035E-2},{"$f":"IF(V12=0,0,(V12*((LOG(V12))/LOG(2))))","v":-0.1761069445245729},null,{"$f":"N12","v":1212},{"$f":"COUNTIF(L38:L68,Y12)","v":1},{"$f":"Z12/(AB4-Z20)","v":3.7037037037037035E-2},{"$f":"IF(AA12=0,0,(AA12*((LOG(AA12))/LOG(2))))","v":-0.1761069445245729},null,{"$f":"N12","v":1212},{"$f":"COUNTIF(L69:L98,AD12)","v":0},{"$f":"AE12/(AG4-AE20)","v":0},{"$f":"IF(AF12=0,0,(AF12*((LOG(AF12))/LOG(2))))","v":0},null,{"$f":"N12","v":1212},{"$f":"COUNTIF(L99:L129,AI12)","v":2},{"$f":"AJ12/(AL4-AJ20)","v":7.1428571428571425E-2},{"$f":"IF(AK12=0,0,(AK12*((LOG(AK12))/LOG(2))))","v":-0.27195392300411453},null,{"$f":"N12","v":1212},{"$f":"COUNTIF(L130:L160,AN12)","v":0},{"$f":"AO12/(AQ4-AO20)","v":0},{"$f":"IF(AP12=0,0,(AP12*((LOG(AP12))/LOG(2))))","v":0},null,{"$f":"N12","v":1212},{"$f":"COUNTIF(L161:L191,AS12)","v":0},{"$f":"AT12/(AV4-AT20)","v":0},{"$f":"IF(AU12=0,0,(AU12*((LOG(AU12))/LOG(2))))","v":0}]
[21,869,21,875,11,888,21,893,null,null,0,2212,null,1221,{"$f":"COUNTIF($L$7:$L$500,N13)","v":5},{"$f":"O13/$Q$4","v":2.7027027027027029E-2},{"$f":"IF(P13=0,0,(P13*((LOG(P13))/LOG(2))))","v":-0.14079603690889056},null,null,{"$f":"N13","v":1221},{"$f":"COUNTIF(L7:L37,T13)","v":1},{"$f":"U13/(W4-U20)","v":3.7037037037037035E-2},{"$f":"IF(V13=0,0,(V13*((LOG(V13))/LOG(2))))","v":-0.1761069445245729},null,{"$f":"N13","v":1221},{"$f":"COUNTIF(L38:L68,Y13)","v":0},{"$f":"Z13/(AB4-Z20)","v":0},{"$f":"IF(AA13=0,0,(AA13*((LOG(AA13))/LOG(2))))","v":0},null,{"$f":"N13","v":1221},{"$f":"COUNTIF(L69:L98,AD13)","v":0},{"$f":"AE13/(AG4-AE20)","v":0},{"$f":"IF(AF13=0,0,(AF13*((LOG(AF13))/LOG(2))))","v":0},null,{"$f":"N13","v":1221},{"$f":"COUNTIF(L99:L129,AI13)","v":0},{"$f":"AJ13/(AL4-AJ20)","v":0},{"$f":"IF(AK13=0,0,(AK13*((LOG(AK13))/LOG(2))))","v":0},null,{"$f":"N13","v":1221},{"$f":"COUNTIF(L130:L160,AN13)","v":1},{"$f":"AO13/(AQ4-AO20)","v":3.3333333333333333E-2},{"$f":"IF(AP13=0,0,(AP13*((LOG(AP13))/LOG(2))))","v":-0.16356301985361729},null,{"$f":"N13","v":1221},{"$f":"COUNTIF(L161:L191,AS13)","v":3},{"$f":"AT13/(AV4-AT20)","v":0.1111111111111111},{"$f":"IF(AU13=0,0,(AU13*((LOG(AU13))/LOG(2))))","v":-0.3522138890491458}]
[21,1335,21,1341,22,1347,23,1360,null,null,0,2222,null,1222,{"$f":"COUNTIF($L$7:$L$500,N14)","v":24},{"$f":"O14/$Q$4","v":0.12972972972972974},{"$f":"IF(P14=0,0,(P14*((LOG(P14))/LOG(2))))","v":-0.38223813532477696},null,null,{"$f":"N14","v":1222},{"$f":"COUNTIF(L7:L37,T14)","v":2},{"$f":"U14/(W4-U20)","v":7.407407407407407E-2},{"$f":"IF(V14=0,0,(V14*((LOG(V14))/LOG(2))))","v":-0.27813981497507173},null,{"$f":"N14","v":1222},{"$f":"COUNTIF(L38:L68,Y14)","v":8},{"$f":"Z14/(AB4-Z20)","v":0.29629629629629628},{"$f":"IF(AA14=0,0,(AA14*((LOG(AA14))/LOG(2))))","v":-0.51996666730769436},null,{"$f":"N14","v":1222},{"$f":"COUNTIF(L69:L98,AD14)","v":3},{"$f":"AE14/(AG4-AE20)","v":0.11538461538461539},{"$f":"IF(AF14=0,0,(AF14*((LOG(AF14))/LOG(2))))","v":-0.35947814047153104},null,{"$f":"N14","v":1222},{"$f":"COUNTIF(L99:L129,AI14)","v":7},{"$f":"AJ14/(AL4-AJ20)","v":0.25},{"$f":"IF(AK14=0,0,(AK14*((LOG(AK14))/LOG(2))))","v":-0.5},null,{"$f":"N14","v":1222},{"$f":"COUNTIF(L130:L160,AN14)","v":4},{"$f":"AO14/(AQ4-AO20)","v":0.13333333333333333},{"$f":"IF(AP14=0,0,(AP14*((LOG(AP14))/LOG(2))))","v":-0.3875854127478025},null,{"$f":"N14","v":1222},{"$f":"COUNTIF(L161:L191,AS14)","v":0},{"$f":"AT14/(AV4-AT20)","v":0},{"$f":"IF(AU14=0,0,(AU14*((LOG(AU14))/LOG(2))))","v":0}]
[21,1454,21,1462,22,1468,23,1474,null,null,0,2222,null,2111,{"$f":"COUNTIF($L$7:$L$500,N15)","v":0},{"$f":"O15/$Q$4","v":0},{"$f":"IF(P15=0,0,(P15*((LOG(P15))/LOG(2))))","v":0},null,null,{"$f":"N15","v":2111},{"$f":"COUNTIF(L7:L37,T15)","v":0},{"$f":"U15/(W4-U20)","v":0},{"$f":"IF(V15=0,0,(V15*((LOG(V15))/LOG(2))))","v":0},null,{"$f":"N15","v":2111},{"$f":"COUNTIF(L38:L68,Y15)","v":0},{"$f":"Z15/(AB4-Z20)","v":0},{"$f":"IF(AA15=0,0,(AA15*((LOG(AA15))/LOG(2))))","v":0},null,{"$f":"N15","v":2111},{"$f":"COUNTIF(L69:L98,AD15)","v":0},{"$f":"AE15/(AG4-AE20)","v":0},{"$f":"IF(AF15=0,0,(AF15*((LOG(AF15))/LOG(2))))","v":0},null,{"$f":"N15","v":2111},{"$f":"COUNTIF(L99:L129,AI15)","v":0},{"$f":"AJ15/(AL4-AJ20)","v":0},{"$f":"IF(AK15=0,0,(AK15*((LOG(AK15))/LOG(2))))","v":0},null,{"$f":"N15","v":2111},{"$f":"COUNTIF(L130:L160,AN15)","v":0},{"$f":"AO15/(AQ4-AO20)","v":0},{"$f":"IF(AP15=0,0,(AP15*((LOG(AP15))/LOG(2))))","v":0},null,{"$f":"N15","v":2111},{"$f":"COUNTIF(L161:L191,AS15)","v":0},{"$f":"AT15/(AV4-AT20)","v":0},{"$f":"IF(AU15=0,0,(AU15*((LOG(AU15))/LOG(2))))","v":0}]
[21,1566,21,1570,22,1577,23,1586,null,null,0,2222,null,2112,{"$f":"COUNTIF($L$7:$L$500,N16)","v":1},{"$f":"O16/$Q$4","v":5.4054054054054057E-3},{"$f":"IF(P16=0,0,(P16*((LOG(P16))/LOG(2))))","v":-4.0710170056844928E-2},null,null,{"$f":"N16","v":2112},{"$f":"COUNTIF(L7:L37,T16)","v":0},{"$f":"U16/(W4-U20)","v":0},{"$f":"IF(V16=0,0,(V16*((LOG(V16))/LOG(2))))","v":0},null,{"$f":"N16","v":2112},{"$f":"COUNTIF(L38:L68,Y16)","v":0},{"$f":"Z16/(AB4-Z20)","v":0},{"$f":"IF(AA16=0,0,(AA16*((LOG(AA16))/LOG(2))))","v":0},null,{"$f":"N16","v":2112},{"$f":"COUNTIF(L69:L98,AD16)","v":0},{"$f":"AE16/(AG4-AE20)","v":0},{"$f":"IF(AF16=0,0,(AF16*((LOG(AF16))/LOG(2))))","v":0},null,{"$f":"N16","v":2112},{"$f":"COUNTIF(L99:L129,AI16)","v":0},{"$f":"AJ16/(AL4-AJ20)","v":0},{"$f":"IF(AK16=0,0,(AK16*((LOG(AK16))/LOG(2))))","v":0},null,{"$f":"N16","v":2112},{"$f":"COUNTIF(L130:L160,AN16)","v":1},{"$f":"AO16/(AQ4-AO20)","v":3.3333333333333333E-2},{"$f":"IF(AP16=0,0,(AP16*((LOG(AP16))/LOG(2))))","v":-0.16356301985361729},null,{"$f":"N16","v":2112},{"$f":"COUNTIF(L161:L191,AS16)","v":0},{"$f":"AT16/(AV4-AT20)","v":0},{"$f":"IF(AU16=0,0,(AU16*((LOG(AU16))/LOG(2))))","v":0}]
[21,1683,21,1686,11,1690,21,1693,null,null,0,2212,null,2121,{"$f":"COUNTIF($L$7:$L$500,N17)","v":1},{"$f":"O17/$Q$4","v":5.4054054054054057E-3},{"$f":"IF(P17=0,0,(P17*((LOG(P17))/LOG(2))))","v":-4.0710170056844928E-2},null,null,{"$f":"N17","v":2121},{"$f":"COUNTIF(L7:L37,T17)","v":1},{"$f":"U17/(W4-U20)","v":3.7037037037037035E-2},{"$f":"IF(V17=0,0,(V17*((LOG(V17))/LOG(2))))","v":-0.1761069445245729},null,{"$f":"N17","v":2121},{"$f":"COUNTIF(L38:L68,Y17)","v":0},{"$f":"Z17/(AB4-Z20)","v":0},{"$f":"IF(AA17=0,0,(AA17*((LOG(AA17))/LOG(2))))","v":0},null,{"$f":"N17","v":2121},{"$f":"COUNTIF(L69:L98,AD17)","v":0},{"$f":"AE17/(AG4-AE20)","v":0},{"$f":"IF(AF17=0,0,(AF17*((LOG(AF17))/LOG(2))))","v":0},null,{"$f":"N17","v":2121},{"$f":"COUNTIF(L99:L129,AI17)","v":0},{"$f":"AJ17/(AL4-AJ20)","v":0},{"$f":"IF(AK17=0,0,(AK17*((LOG(AK17))/LOG(2))))","v":0},null,{"$f":"N17","v":2121},{"$f":"COUNTIF(L130:L160,AN17)","v":0},{"$f":"AO17/(AQ4-AO20)","v":0},{"$f":"IF(AP17=0,0,(AP17*((LOG(AP17))/LOG(2))))","v":0},null,{"$f":"N17","v":2121},{"$f":"COUNTIF(L161:L191,AS17)","v":0},{"$f":"AT17/(AV4-AT20)","v":0},{"$f":"IF(AU17=0,0,(AU17*((LOG(AU17))/LOG(2))))","v":0}]
[12,1785,23,1796,13,1801,23,1804,null,null,0,1212,null,2122,{"$f":"COUNTIF($L$7:$L$500,N18)","v":27},{"$f":"O18/$Q$4","v":0.14594594594594595},{"$f":"IF(P18=0,0,(P18*((LOG(P18))/LOG(2))))","v":-0.40521803716500965},null,null,{"$f":"N18","v":2122},{"$f":"COUNTIF(L7:L37,T18)","v":3},{"$f":"U18/(W4-U20)","v":0.1111111111111111},{"$f":"IF(V18=0,0,(V18*((LOG(V18))/LOG(2))))","v":-0.3522138890491458},null,{"$f":"N18","v":2122},{"$f":"COUNTIF(L38:L68,Y18)","v":2},{"$f":"Z18/(AB4-Z20)","v":7.407407407407407E-2},{"$f":"IF(AA18=0,0,(AA18*((LOG(AA18))/LOG(2))))","v":-0.27813981497507173},null,{"$f":"N18","v":2122},{"$f":"COUNTIF(L69:L98,AD18)","v":5},{"$f":"AE18/(AG4-AE20)","v":0.19230769230769232},{"$f":"IF(AF18=0,0,(AF18*((LOG(AF18))/LOG(2))))","v":-0.45740608139494804},null,{"$f":"N18","v":2122},{"$f":"COUNTIF(L99:L129,AI18)","v":5},{"$f":"AJ18/(AL4-AJ20)","v":0.17857142857142858},{"$f":"IF(AK18=0,0,(AK18*((LOG(AK18))/LOG(2))))","v":-0.44382621913754317},null,{"$f":"N18","v":2122},{"$f":"COUNTIF(L130:L160,AN18)","v":6},{"$f":"AO18/(AQ4-AO20)","v":0.2},{"$f":"IF(AP18=0,0,(AP18*((LOG(AP18))/LOG(2))))","v":-0.46438561897747244},null,{"$f":"N18","v":2122},{"$f":"COUNTIF(L161:L191,AS18)","v":6},{"$f":"AT18/(AV4-AT20)","v":0.22222222222222221},{"$f":"IF(AU18=0,0,(AU18*((LOG(AU18))/LOG(2))))","v":-0.48220555587606945}]
[21,1901,12,1908,24,1916,23,1924,null,null,0,2122,null,2211,{"$f":"COUNTIF($L$7:$L$500,N19)","v":0},{"$f":"O19/$Q$4","v":0},{"$f":"IF(P19=0,0,(P19*((LOG(P19))/LOG(2))))","v":0},null,null,{"$f":"N19","v":2211},{"$f":"COUNTIF(L7:L37,T19)","v":0},{"$f":"U19/(W4-U20)","v":0},{"$f":"IF(V19=0,0,(V19*((LOG(V19))/LOG(2))))","v":0},null,{"$f":"N19","v":2211},{"$f":"COUNTIF(L38:L68,Y19)","v":0},{"$f":"Z19/(AB4-Z20)","v":0},{"$f":"IF(AA19=0,0,(AA19*((LOG(AA19))/LOG(2))))","v":0},null,{"$f":"N19","v":2211},{"$f":"COUNTIF(L69:L98,AD19)","v":0},{"$f":"AE19/(AG4-AE20)","v":0},{"$f":"IF(AF19=0,0,(AF19*((LOG(AF19))/LOG(2))))","v":0},null,{"$f":"N19","v":2211},{"$f":"COUNTIF(L99:L129,AI19)","v":0},{"$f":"AJ19/(AL4-AJ20)","v":0},{"$f":"IF(AK19=0,0,(AK19*((LOG(AK19))/LOG(2))))","v":0},null,{"$f":"N19","v":2211},{"$f":"COUNTIF(L130:L160,AN19)","v":0},{"$f":"AO19/(AQ4-AO20)","v":0},{"$f":"IF(AP19=0,0,(AP19*((LOG(AP19))/LOG(2))))","v":0},null,{"$f":"N19","v":2211},{"$f":"COUNTIF(L161:L191,AS19)","v":0},{"$f":"AT19/(AV4-AT20)","v":0},{"$f":"IF(AU19=0,0,(AU19*((LOG(AU19))/LOG(2))))","v":0}]
[21,2019,21,2022,22,2028,23,2036,null,null,0,2222,null,2212,{"$f":"COUNTIF($L$7:$L$500,N20)","v":20},{"$f":"O20/$Q$4","v":0.10810810810810811},{"$f":"IF(P20=0,0,(P20*((LOG(P20))/LOG(2))))","v":-0.34696793141934595},null,null,{"$f":"N20","v":2212},{"$f":"COUNTIF(L7:L37,T20)","v":4},null,null,null,{"$f":"N20","v":2212},{"$f":"COUNTIF(L38:L68,Y20)","v":4},null,null,null,{"$f":"N20","v":2212},{"$f":"COUNTIF(L69:L98,AD20)","v":4},null,null,null,{"$f":"N20","v":2212},{"$f":"COUNTIF(L99:L129,AI20)","v":3},null,null,null,{"$f":"N20","v":2212},{"$f":"COUNTIF(L130:L160,AN20)","v":1},null,null,null,{"$f":"N20","v":2212},{"$f":"COUNTIF(L161:L191,AS20)","v":4}]
[12,2136,23,2143,24,2148,14,2152,null,null,0,1221,null,2221,{"$f":"COUNTIF($L$7:$L$500,N21)","v":12},{"$f":"O21/$Q$4","v":6.4864864864864868E-2},{"$f":"IF(P21=0,0,(P21*((LOG(P21))/LOG(2))))","v":-0.25598393252725332},null,null,{"$f":"N21","v":2221},{"$f":"COUNTIF(L7:L37,T21)","v":2},{"$f":"U21/(W4-U20)","v":7.407407407407407E-2},{"$f":"IF(V21=0,0,(V21*((LOG(V21))/LOG(2))))","v":-0.27813981497507173},null,{"$f":"N21","v":2221},{"$f":"COUNTIF(L38:L68,Y21)","v":1},{"$f":"Z21/(AB4-Z20)","v":3.7037037037037035E-2},{"$f":"IF(AA21=0,0,(AA21*((LOG(AA21))/LOG(2))))","v":-0.1761069445245729},null,{"$f":"N21","v":2221},{"$f":"COUNTIF(L69:L98,AD21)","v":3},{"$f":"AE21/(AG4-AE20)","v":0.11538461538461539},{"$f":"IF(AF21=0,0,(AF21*((LOG(AF21))/LOG(2))))","v":-0.35947814047153104},null,{"$f":"N21","v":2221},{"$f":"COUNTIF(L99:L129,AI21)","v":1},{"$f":"AJ21/(AL4-AJ20)","v":3.5714285714285712E-2},{"$f":"IF(AK21=0,0,(AK21*((LOG(AK21))/LOG(2))))","v":-0.17169124721634299},null,{"$f":"N21","v":2221},{"$f":"COUNTIF(L130:L160,AN21)","v":3},{"$f":"AO21/(AQ4-AO20)","v":0.1},{"$f":"IF(AP21=0,0,(AP21*((LOG(AP21))/LOG(2))))","v":-0.33219280948873625},null,{"$f":"N21","v":2221},{"$f":"COUNTIF(L161:L191,AS21)","v":2},{"$f":"AT21/(AV4-AT20)","v":7.407407407407407E-2},{"$f":"IF(AU21=0,0,(AU21*((LOG(AU21))/LOG(2))))","v":-0.27813981497507173}]
[21,2247,12,2257,24,2260,23,2270,null,null,0,2122,null,2222,{"$f":"COUNTIF($L$7:$L$500,N22)","v":91},{"$f":"O22/$Q$4","v":0.49189189189189192},{"$f":"IF(P22=0,0,(P22*((LOG(P22))/LOG(2))))","v":-0.50349405756163812},null,null,{"$f":"N22","v":2222},{"$f":"COUNTIF(L7:L37,T22)","v":17},{"$f":"U22/(W4-U20)","v":0.62962962962962965},{"$f":"IF(V22=0,0,(V22*((LOG(V22))/LOG(2))))","v":-0.42023034205641457},null,{"$f":"N22","v":2222},{"$f":"COUNTIF(L38:L68,Y22)","v":15},{"$f":"Z22/(AB4-Z20)","v":0.55555555555555558},{"$f":"IF(AA22=0,0,(AA22*((LOG(AA22))/LOG(2))))","v":-0.4711093925305278},null,{"$f":"N22","v":2222},{"$f":"COUNTIF(L69:L98,AD22)","v":15},{"$f":"AE22/(AG4-AE20)","v":0.57692307692307687},{"$f":"IF(AF22=0,0,(AF22*((LOG(AF22))/LOG(2))))","v":-0.45781680146110021},null,{"$f":"N22","v":2222},{"$f":"COUNTIF(L99:L129,AI22)","v":13},{"$f":"AJ22/(AL4-AJ20)","v":0.4642857142857143},{"$f":"IF(AK22=0,0,(AK22*((LOG(AK22))/LOG(2))))","v":-0.51392491610409474},null,{"$f":"N22","v":2222},{"$f":"COUNTIF(L130:L160,AN22)","v":15},{"$f":"AO22/(AQ4-AO20)","v":0.5},{"$f":"IF(AP22=0,0,(AP22*((LOG(AP22))/LOG(2))))","v":-0.5},null,{"$f":"N22","v":2222},{"$f":"COUNTIF(L161:L191,AS22)","v":16},{"$f":"AT22/(AV4-AT20)","v":0.59259259259259256},{"$f":"IF(AU22=0,0,(AU22*((LOG(AU22))/LOG(2))))","v":-0.44734074202279617}]
[12,2362,23,2367,24,2369,23,2378,null,null,0,1222,null,null,null,{"$f":"SUM(P7:P22)","v":1},{"$f":"-SUM(Q7:Q22)","v":2.2357159080047406},null,null,null,null,{"$f":"SUM(V7:V22)","v":1},{"$f":"-SUM(W7:W22)","v":1.8570446946294226},null,null,null,{"$f":"SUM(AA7:AA22)","v":1},{"$f":"-SUM(AB7:AB22)","v":1.6214297638624398},null,null,null,{"$f":"SUM(AF7:AF22)","v":1},{"$f":"-SUM(AG7:AG22)","v":1.6341791637991103},null,null,null,{"$f":"SUM(AK7:AK22)","v":1},{"$f":"-SUM(AL7:AL22)","v":1.9013963054620953},null,null,null,{"$f":"SUM(AP7:AP22)","v":1},{"$f":"-SUM(AQ7:AQ22)","v":2.0112898809212458},null,null,null,{"$f":"SUM(AU7:AU22)","v":1},{"$f":"-SUM(AV7:AV22)","v":1.5599000019230831}]
[21,2473,12,2476,24,2479,14,2482,null,null,0,2121,null,null,null,"U=",{"$f":"Q23/(LOG(Q4)/LOG(2))","v":0.2968533621256082},null,null,null,null,"U1=",{"$f":"W23/(LOG(W4)/LOG(2))","v":0.37484277535308352},null,null,null,"U2=",{"$f":"AB23/(LOG(AB4)/LOG(2))","v":0.32728411679266334},null,null,null,"U3=",{"$f":"AG23/(LOG(AG4)/LOG(2))","v":0.33303761964076373},null,null,null,"U4=",{"$f":"AL23/(LOG(AL4)/LOG(2))","v":0.38379510748810325},null,null,null,"U5=",{"$f":"AQ23/(LOG(AQ4)/LOG(2))","v":0.4059770253157739},null,null,null,"U6=",{"$f":"AV23/(LOG(AV4)/LOG(2))","v":0.31486439054759013}]
[21,2574,21,2576,22,2589,23,2595,null,null,0,2222]
[21,2688,21,2694,22,2705,23,2714,null,null,0,2222]
[21,2809,21,2815,22,2822,14,2825,null,null,0,2221,null,"Total Target Seq"]
[21,2921,21,2928,22,2943,23,2949,null,null,0,2222,null,{"$f":"COUNTIF(L7:L191,G3)","v":20},null,31,31,30,31,31,31]
[21,3044,21,3049,22,3057,23,3065,null,null,0,2222,null,null,null,"% of reinforcement given in 6 equal intervals based on number of trials "]
[21,3158,21,3163,11,3171,21,3175,null,null,0,2212,null,null,null,"%_1","%_2","%_3","%_4","%_5","%_6"]
[21,3328,21,3355,22,3368,23,3386,null,null,0,2222,null,null,"target sequence",{"$f":"$G$3","v":2212},{"$f":"$G$3","v":2212},{"$f":"$G$3","v":2212},{"$f":"$G$3","v":2212},{"$f":"$G$3","v":2212},{"$f":"$G$3","v":2212}]
[12,3478,23,3480,24,3492,23,3505,null,null,0,1222,null,null,"total reinforcement",{"$f":"U20","v":4},{"$f":"Z20","v":4},{"$f":"AE20","v":4},{"$f":"AJ20","v":3},{"$f":"AO20","v":1},{"$f":"AT20","v":4}]
[21,3599,21,3614,22,3619,23,3626,null,null,0,2222,null,null,"% target"]
[21,3724,21,3730,22,3739,23,3746,null,null,0,2222,null,null,"CCRF"]
[21,3844,21,3851,22,3859,23,3867,null,null,0,2222,null,null,"% CCRf"]
[21,3964,21,3970,22,3978,23,3985,null,null,0,2222,null,null,"average response rate",{"$f":"H37/P28","v":132.2258064516129},{"$f":"(H68-H37)/Q28","v":131.09677419354838},{"$f":"(H98-H68)/R28","v":123},{"$f":"(H129-H98)/S28","v":134.29032258064515},{"$f":"(H160-H129)/T28","v":123.70967741935483},{"$f":"(H191-H160)/U28","v":133.54838709677421}]
[21,4083,21,4085,22,4091,23,4099,null,null,0,2222]
[12,4196,23,4201,13,4205,23,4209,null,null,0,1212]
[21,4303,12,4306,24,4309,23,4317,null,null,0,2122]
[21,4411,21,4417,22,4427,23,4435,null,null,0,2222]
[21,4535,21,4538,22,4541,23,4547,null,null,0,2222]
[12,4639,23,4644,24,4650,23,4658,null,null,0,1222]
[12,4752,23,4756,24,4759,23,4766,null,null,0,1222]
[21,4859,21,4862,11,4865,21,4870,null,null,0,2212]
[21,4968,21,4982,22,4997,23,5005,null,null,0,2222]
[12,5099,23,5101,24,5108,23,5116,null,null,0,1222]
[12,5209,23,5212,24,5220,23,5231,null,null,0,1222]
[12,5326,23,5335,24,5343,23,5351,null,null,0,1222]
[21,5444,21,5452,22,5456,23,5465,null,null,0,2222]
[21,5557,21,5564,22,5569,14,5575,null,null,0,2221]
[21,5669,12,5672,24,5677,23,5701,null,null,0,2122]
[21,5794,21,5798,11,5801,21,5806,null,null,0,2212]
[21,6157,21,6179,22,6188,23,6199,null,null,0,2222]
[21,6296,21,6309,22,6325,23,6333,null,null,0,2222]
[21,6430,21,6434,22,6443,23,6449,null,null,0,2222]
[21,6543,21,6546,11,6551,21,6554,null,null,0,2212]
[21,6661,21,6676,22,6690,23,6700,null,null,0,2222]
[21,6794,21,6800,22,6805,23,6812,null,null,0,2222]
[21,6904,21,6912,22,6919,23,6932,null,null,0,2222]
[21,7029,21,7037,22,7044,23,7056,null,null,0,2222]
[12,7151,23,7161,24,7166,23,7171,null,null,0,1222]
[12,7269,23,7279,24,7282,23,7287,null,null,0,1222]
[21,7385,21,7399,22,7406,23,7416,null,null,0,2222]
[21,7508,21,7512,22,7521,23,7532,null,null,0,2222]
[21,7626,21,7634,11,7640,21,7649,null,null,0,2212]
[21,7827,21,7835,22,7842,23,7848,null,null,0,2222]
[12,8024,23,8037,24,8041,23,8047,null,null,0,1222]
[21,8143,21,8150,22,8157,23,8163,null,null,0,2222]
[21,8258,21,8264,22,8271,23,8280,null,null,0,2222]
[21,8377,12,8381,24,8389,23,8397,null,null,0,2122]
[21,8492,21,8497,22,8510,23,8517,null,null,0,2222]
[21,8616,21,8623,11,8626,21,8629,null,null,0,2212]
[21,8718,21,8725,11,8730,21,8733,null,null,0,2212]
[21,8915,21,8921,22,8952,23,8963,null,null,0,2222]
[21,9125,21,9128,22,9133,14,9136,null,null,0,2221]
[21,9231,21,9236,22,9242,23,9249,null,null,0,2222]
[21,9345,21,9350,22,9360,23,9368,null,null,0,2222]
[21,9460,21,9465,22,9471,23,9482,null,null,0,2222]
[21,9577,21,9583,22,9589,23,9596,null,null,0,2222]
[21,9689,21,9694,22,9702,23,9707,null,null,0,2222]
[12,9799,23,9810,24,9818,23,9825,null,null,0,1222]
[12,9918,23,9922,24,9931,23,9937,null,null,0,1222]
[21,10030,21,10036,22,10041,23,10055,null,null,0,2222]
[21,10149,21,10154,22,10161,14,10166,null,null,0,2221]
[21,10262,12,10267,24,10271,23,10289,null,null,0,2122]
[21,10384,12,10387,24,10390,23,10396,null,null,0,2122]
[21,10489,21,10493,11,10497,21,10499,null,null,0,2212]
[21,10631,21,10638,22,10644,23,10648,null,null,0,2222]
[21,10744,12,10746,24,10751,23,10763,null,null,0,2122]
[21,10856,21,10862,22,10867,23,10874,null,null,0,2222]
[21,10968,21,10972,22,10984,23,10991,null,null,0,2222]
[12,11083,23,11091,24,11096,23,11102,null,null,0,1222]
[21,11200,21,11204,22,11210,23,11217,null,null,0,2222]
[21,11309,21,11315,11,11318,21,11324,null,null,0,2212]
[21,11475,21,11489,22,11497,23,11514,null,null,0,2222]
[21,11608,21,11614,22,11621,23,11628,null,null,0,2222]
[21,11722,21,11731,22,11739,14,11745,null,null,0,2221]
[21,11839,12,11842,24,11845,23,11853,null,null,0,2122]
[21,11948,12,11950,24,11953,23,11958,null,null,0,2122]
[21,12050,21,12056,22,12063,23,12071,null,null,0,2222]
[21,12168,21,12174,22,12188,23,12191,null,null,0,2222]
[21,12289,21,12294,22,12302,23,12310,null,null,0,2222]
[12,12403,23,12407,13,12410,23,12412,null,null,0,1212]
[21,12507,12,12511,24,12516,23,12523,null,null,0,2122]
[12,12615,23,12623,24,12632,23,12637,null,null,0,1222]
[21,12731,21,12735,22,12741,23,12751,null,null,0,2222]
[21,12844,21,12851,22,12861,23,12867,null,null,0,2222]
[12,12959,23,12969,24,12973,23,12977,null,null,0,1222]
[21,13073,21,13078,22,13084,23,13103,null,null,0,2222]
[21,13195,21,13200,11,13204,21,13207,null,null,0,2212]
[21,13334,21,13341,22,13347,23,13355,null,null,0,2222]
[21,13449,12,13452,24,13461,23,13468,null,null,0,2122]
[12,13563,23,13568,24,13572,23,13578,null,null,0,1222]
[21,14055,21,14076,22,14079,14,14081,null,null,0,2221]
[21,14179,21,14184,22,14192,23,14200,null,null,0,2222]
[12,14300,23,14305,24,14317,23,14325,null,null,0,1222]
[12,14422,23,14435,24,14444,23,14451,null,null,0,1222]
[12,14544,23,14552,24,14557,23,14562,null,null,0,1222]
[21,14661,12,14665,24,14674,23,14680,null,null,0,2122]
[21,14775,12,14778,24,14788,23,14795,null,null,0,2122]
[12,14888,23,14897,13,14905,23,14907,null,null,0,1212]
[21,15001,21,15005,11,15008,21,15012,null,null,0,2212]
[21,15251,21,15258,22,15271,23,15277,null,null,0,2222]
[21,15423,21,15427,22,15432,23,15437,null,null,0,2222]
[21,15538,21,15543,22,15549,23,15554,null,null,0,2222]
[21,15652,21,15657,22,15663,23,15671,null,null,0,2222]
[21,15766,21,15769,22,15776,23,15791,null,null,0,2222]
[12,15883,23,15888,24,15895,23,15905,null,null,0,1222]
[21,16000,21,16004,11,16008,21,16016,null,null,0,2212]
[12,16353,23,16363,24,16366,23,16372,null,null,0,1222]
[21,16477,21,16480,22,16484,23,16496,null,null,0,2222]
[21,16593,21,16599,22,16610,23,16619,null,null,0,2222]
[21,16721,21,16725,11,16731,21,16739,null,null,0,2212]
[21,16882,21,16889,22,16897,23,16902,null,null,0,2222]
[21,17009,21,17014,22,17024,23,17032,null,null,0,2222]
[21,17125,21,17130,22,17134,23,17140,null,null,0,2222]
[12,17233,23,17246,24,17256,23,17263,null,null,0,1222]
[21,17357,21,17366,22,17372,23,17379,null,null,0,2222]
[21,17473,21,17477,22,17483,14,17487,null,null,0,2221]
[21,17582,12,17591,24,17595,23,17602,null,null,0,2122]
[21,17695,12,17697,24,17700,23,17705,null,null,0,2122]
[21,17799,21,17805,22,17812,14,17816,null,null,0,2221]
[21,17909,21,17913,22,17919,23,17933,null,null,0,2222]
[21,18031,12,18039,24,18044,23,18050,null,null,0,2122]
[21,18144,21,18149,22,18160,14,18166,null,null,0,2221]
[21,18259,21,18264,22,18272,23,18279,null,null,0,2222]
[21,18374,21,18379,22,18387,23,18393,null,null,0,2222]
[21,18494,12,18496,13,18499,23,18503,null,null,0,2112]
[21,18595,21,18602,22,18610,23,18616,null,null,0,2222]
[21,18714,21,18719,22,18725,23,18734,null,null,0,2222]
[12,18826,23,18833,24,18837,23,18842,null,null,0,1222]
[21,18938,21,18945,22,18954,23,18959,null,null,0,2222]
[21,19055,21,19060,22,19066,23,19072,null,null,0,2222]
[12,19165,23,19171,24,19174,14,19177,null,null,0,1221]
[21,19276,12,19279,24,19281,23,19289,null,null,0,2122]
[21,19387,12,19390,24,19392,23,19397,null,null,0,2122]
[12,19490,23,19499,24,19505,23,19513,null,null,0,1222]
[21,19608,12,19612,24,19614,23,19622,null,null,0,2122]
[21,19718,21,19723,22,19729,23,19736,null,null,0,2222]
[21,19830,21,19839,22,19844,23,19851,null,null,0,2222]
[21,19943,21,19946,11,19949,21,19951,null,null,0,2212]
[21,20083,21,20088,22,20096,23,20106,null,null,0,2222]
[21,20225,21,20229,11,20236,21,20248,null,null,0,2212]
[21,20474,21,20479,22,20486,23,20494,null,null,0,2222]
[21,20590,12,20597,24,20604,23,20611,null,null,0,2122]
[21,20706,21,20712,22,20717,23,20724,null,null,0,2222]
[21,20819,12,20822,24,20824,23,20837,null,null,0,2122]
[21,20935,21,20940,22,20946,23,20957,null,null,0,2222]
[21,21056,21,21062,22,21070,23,21078,null,null,0,2222]
[21,21172,21,21179,22,21185,23,21191,null,null,0,2222]
[21,21283,21,21290,22,21296,23,21316,null,null,0,2222]
[21,21412,21,21420,22,21426,23,21435,null,null,0,2222]
[21,21530,21,21535,11,21541,21,21549,null,null,0,2212]
[21,21914,21,21926,22,21931,23,21937,null,null,0,2222]
[21,22114,21,22118,22,22126,23,22137,null,null,0,2222]
[12,22229,23,22241,24,22246,14,22251,null,null,0,1221]
[21,22346,21,22353,11,22356,21,22359,null,null,0,2212]
[12,22473,23,22486,24,22491,14,22495,null,null,0,1221]
[21,22591,12,22593,24,22596,23,22603,null,null,0,2122]
[21,22695,21,22699,22,22704,23,22712,null,null,0,2222]
[21,22810,21,22816,22,22824,23,22834,null,null,0,2222]
[21,22936,21,22943,22,22951,23,22961,null,null,0,2222]
[21,23057,21,23064,22,23073,23,23082,null,null,0,2222]
[21,23176,12,23178,24,23193,23,23203,null,null,0,2122]
[21,23306,21,23309,22,23313,23,23320,null,null,0,2222]
[21,23415,21,23421,22,23427,14,23435,null,null,0,2221]
[21,23533,21,23542,22,23548,14,23552,null,null,0,2221]
[12,23644,23,23650,24,23653,14,23658,null,null,0,1221]
[21,23755,21,23761,22,23765,23,23771,null,null,0,2222]
[21,23864,12,23868,24,23873,23,23879,null,null,0,2122]
[21,23974,12,23977,24,23982,23,23991,null,null,null,2122]

{"sheet":"!M704A50.Gus","index":15,"n_rows":169,"n_cols":48,"rows_kept":169,"cut":false,"hidden":false,"merged":[[4,39,4,42],[5,39,5,40],[4,44,4,47],[5,44,5,45],[4,24,4,27],[5,24,5,25],[4,29,4,32],[5,29,5,30],[4,34,4,37],[5,34,5,35],[1,1,1,2],[5,13,5,14],[26,13,26,14],[27,13,27,14],[4,19,4,22],[5,19,5,20]]}
["Report for:!M704A50.Gus"]
["Date:","<date>"]
["Hen:","<hen>",null,null,null,"Correct Sequence",{"$f":"Start!J2","v":2212},null,null,null,null,null,null,null,null,"Total Sequences in Data",{"$f":"4994-COUNTBLANK(L7:L5000)","v":163},null,null,null,null,"Total Sequences in Block Data",{"$f":"COUNTA(L7:L33)","v":27},null,null,null,"Total Sequences in Block Data",{"$f":"COUNTA(L34:L60)","v":27},null,null,null,"Total Sequences in Block Data",{"$f":"COUNTA(L61:L88)","v":28},null,null,null,"Total Sequences in Block Data",{"$f":"COUNTA(L89:L115)","v":27},null,null,null,"Total Sequences in Block Data",{"$f":"COUNTA(L116:L142)","v":27},null,null,null,"Total Sequences in Block Data",{"$f":"COUNTA(L143:L169)","v":27}]
[null,null,null,null,null,null,null,null,null,null,null,null,null,null,null,"Total Sequences in Summary",{"$f":"SUM(O7:O22)","v":163},null,null,null,null,"Total Sequences in Block Summary",{"$f":"SUM(U7:U22)","v":27},null,null,null,"Total Sequences in Block Summary",{"$f":"SUM(Z7:Z22)","v":27},null,null,null,"Total Sequences in Block Summary",{"$f":"SUM(AE7:AE22)","v":28},null,null,null,"Total Sequences in Block Summary",{"$f":"SUM(AJ7:AJ22)","v":27},null,null,null,"Total Sequences in Block Summary",{"$f":"SUM(AO7:AO22)","v":27},null,null,null,"Total Sequences in Block Summary",{"$f":"SUM(AT7:AT22)","v":27}]
[null,null,null,null,null,null,null,null,null,null,null,null,null,null,null,null,null,null,null,"Block 1",null,null,null,null,"Block 2",null,null,null,null,"Block 3",null,null,null,null,"Block 4",null,null,null,null,"Block 5",null,null,null,null,"Block 6"]
["Sequence\nComponent\n1","Time\n1","Sequence\nComponent\n2","Time\n2","Sequence\nComponent\n3","Time\n3","Sequence\nComponent\n4","Time\n4","Sequence\nComponent\n5","Time\n5","Correct?\n0=No 1=Yes","Sequence",null,"Frequency",null,"Relative Frequency","Variability",null,null,"Frequency",null,"Relative Frequency","Variability",null,"Frequency",null,"Relative Frequency","Variability",null,"Frequency",null,"Relative Frequency","Variability",null,"Frequency",null,"Relative Frequency","Variability",null,"Frequency",null,"Relative Frequency","Variability",null,"Frequency",null,"Relative Frequency","Variability"]
[21,55,21,58,22,66,23,86,null,null,0,2222,null,1111,{"$f":"COUNTIF($L$7:$L$500,N7)","v":0},{"$f":"O7/$Q$4","v":0},{"$f":"IF(P7=0,0,(P7*((LOG(P7))/LOG(2))))","v":0},null,null,{"$f":"N7","v":1111},{"$f":"COUNTIF(L7:L33,T7)","v":0},{"$f":"U7/(W4-U20)","v":0},{"$f":"IF(V7=0,0,(V7*((LOG(V7))/LOG(2))))","v":0},null,{"$f":"N7","v":1111},{"$f":"COUNTIF(L34:L60,Y7)","v":0},{"$f":"Z7/(AB4-Z20)","v":0},{"$f":"IF(AA7=0,0,(AA7*((LOG(AA7))/LOG(2))))","v":0},null,{"$f":"N7","v":1111},{"$f":"COUNTIF(L61:L88,AD7)","v":0},{"$f":"AE7/(AG4-AE20)","v":0},{"$f":"IF(AF7=0,0,(AF7*((LOG(AF7))/LOG(2))))","v":0},null,{"$f":"N7","v":1111},{"$f":"COUNTIF(L89:L115,AI7)","v":0},{"$f":"AJ7/(AL4-AJ20)","v":0},{"$f":"IF(AK7=0,0,(AK7*((LOG(AK7))/LOG(2))))","v":0},null,{"$f":"N7","v":1111},{"$f":"COUNTIF(L116:L142,AN7)","v":0},{"$f":"AO7/(AQ4-AO20)","v":0},{"$f":"IF(AP7=0,0,(AP7*((LOG(AP7))/LOG(2))))","v":0},null,{"$f":"N7","v":1111},{"$f":"COUNTIF(L143:L169,AS7)","v":0},{"$f":"AT7/(AV4-AT20)","v":0},{"$f":"IF(AU7=0,0,(AU7*((LOG(AU7))/LOG(2))))","v":0}]
[21,182,21,187,22,199,23,210,null,null,0,2222,null,1112,{"$f":"COUNTIF($L$7:$L$500,N8)","v":0},{"$f":"O8/$Q$4","v":0},{"$f":"IF(P8=0,0,(P8*((LOG(P8))/LOG(2))))","v":0},null,null,{"$f":"N8","v":1112},{"$f":"COUNTIF(L7:L33,T8)","v":0},{"$f":"U8/(W4-U20)","v":0},{"$f":"IF(V8=0,0,(V8*((LOG(V8))/LOG(2))))","v":0},null,{"$f":"N8","v":1112},{"$f":"COUNTIF(L34:L60,Y8)","v":0},{"$f":"Z8/(AB4-Z20)","v":0},{"$f":"IF(AA8=0,0,(AA8*((LOG(AA8))/LOG(2))))","v":0},null,{"$f":"N8","v":1112},{"$f":"COUNTIF(L61:L88,AD8)","v":0},{"$f":"AE8/(AG4-AE20)","v":0},{"$f":"IF(AF8=0,0,(AF8*((LOG(AF8))/LOG(2))))","v":0},null,{"$f":"N8","v":1112},{"$f":"COUNTIF(L89:L115,AI8)","v":0},{"$f":"AJ8/(AL4-AJ20)","v":0},{"$f":"IF(AK8=0,0,(AK8*((LOG(AK8))/LOG(2))))","v":0},null,{"$f":"N8","v":1112},{"$f":"COUNTIF(L116:L142,AN8)","v":0},{"$f":"AO8/(AQ4-AO20)","v":0},{"$f":"IF(AP8=0,0,(AP8*((LOG(AP8))/LOG(2))))","v":0},null,{"$f":"N8","v":1112},{"$f":"COUNTIF(L143:L169,AS8)","v":0},{"$f":"AT8/(AV4-AT20)","v":0},{"$f":"IF(AU8=0,0,(AU8*((LOG(AU8))/LOG(2))))","v":0}]
[21,311,12,318,24,323,23,329,null,null,0,2122,null,1121,{"$f":"COUNTIF($L$7:$L$500,N9)","v":0},{"$f":"O9/$Q$4","v":0},{"$f":"IF(P9=0,0,(P9*((LOG(P9))/LOG(2))))","v":0},null,null,{"$f":"N9","v":1121},{"$f":"COUNTIF(L7:L33,T9)","v":0},{"$f":"U9/(W4-U20)","v":0},{"$f":"IF(V9=0,0,(V9*((LOG(V9))/LOG(2))))","v":0},null,{"$f":"N9","v":1121},{"$f":"COUNTIF(L34:L60,Y9)","v":0},{"$f":"Z9/(AB4-Z20)","v":0},{"$f":"IF(AA9=0,0,(AA9*((LOG(AA9))/LOG(2))))","v":0},null,{"$f":"N9","v":1121},{"$f":"COUNTIF(L61:L88,AD9)","v":0},{"$f":"AE9/(AG4-AE20)","v":0},{"$f":"IF(AF9=0,0,(AF9*((LOG(AF9))/LOG(2))))","v":0},null,{"$f":"N9","v":1121},{"$f":"COUNTIF(L89:L115,AI9)","v":0},{"$f":"AJ9/(AL4-AJ20)","v":0},{"$f":"IF(AK9=0,0,(AK9*((LOG(AK9))/LOG(2))))","v":0},null,{"$f":"N9","v":1121},{"$f":"COUNTIF(L116:L142,AN9)","v":0},{"$f":"AO9/(AQ4-AO20)","v":0},{"$f":"IF(AP9=0,0,(AP9*((LOG(AP9))/LOG(2))))","v":0},null,{"$f":"N9","v":1121},{"$f":"COUNTIF(L143:L169,AS9)","v":0},{"$f":"AT9/(AV4-AT20)","v":0},{"$f":"IF(AU9=0,0,(AU9*((LOG(AU9))/LOG(2))))","v":0}]
[21,430,21,434,22,440,23,451,null,null,0,2222,null,1122,{"$f":"COUNTIF($L$7:$L$500,N10)","v":1},{"$f":"O10/$Q$4","v":6.1349693251533744E-3},{"$f":"IF(P10=0,0,(P10*((LOG(P10))/LOG(2))))","v":-4.5084221805098634E-2},null,null,{"$f":"N10","v":1122},{"$f":"COUNTIF(L7:L33,T10)","v":0},{"$f":"U10/(W4-U20)","v":0},{"$f":"IF(V10=0,0,(V10*((LOG(V10))/LOG(2))))","v":0},null,{"$f":"N10","v":1122},{"$f":"COUNTIF(L34:L60,Y10)","v":0},{"$f":"Z10/(AB4-Z20)","v":0},{"$f":"IF(AA10=0,0,(AA10*((LOG(AA10))/LOG(2))))","v":0},null,{"$f":"N10","v":1122},{"$f":"COUNTIF(L61:L88,AD10)","v":1},{"$f":"AE10/(AG4-AE20)","v":4.1666666666666664E-2},{"$f":"IF(AF10=0,0,(AF10*((LOG(AF10))/LOG(2))))","v":-0.19104010419671485},null,{"$f":"N10","v":1122},{"$f":"COUNTIF(L89:L115,AI10)","v":0},{"$f":"AJ10/(AL4-AJ20)","v":0},{"$f":"IF(AK10=0,0,(AK10*((LOG(AK10))/LOG(2))))","v":0},null,{"$f":"N10","v":1122},{"$f":"COUNTIF(L116:L142,AN10)","v":0},{"$f":"AO10/(AQ4-AO20)","v":0},{"$f":"IF(AP10=0,0,(AP10*((LOG(AP10))/LOG(2))))","v":0},null,{"$f":"N10","v":1122},{"$f":"COUNTIF(L143:L169,AS10)","v":0},{"$f":"AT10/(AV4-AT20)","v":0},{"$f":"IF(AU10=0,0,(AU10*((LOG(AU10))/LOG(2))))","v":0}]
[21,544,21,546,22,553,23,558,null,null,0,2222,null,1211,{"$f":"COUNTIF($L$7:$L$500,N11)","v":0},{"$f":"O11/$Q$4","v":0},{"$f":"IF(P11=0,0,(P11*((LOG(P11))/LOG(2))))","v":0},null,null,{"$f":"N11","v":1211},{"$f":"COUNTIF(L7:L33,T11)","v":0},{"$f":"U11/(W4-U20)","v":0},{"$f":"IF(V11=0,0,(V11*((LOG(V11))/LOG(2))))","v":0},null,{"$f":"N11","v":1211},{"$f":"COUNTIF(L34:L60,Y11)","v":0},{"$f":"Z11/(AB4-Z20)","v":0},{"$f":"IF(AA11=0,0,(AA11*((LOG(AA11))/LOG(2))))","v":0},null,{"$f":"N11","v":1211},{"$f":"COUNTIF(L61:L88,AD11)","v":0},{"$f":"AE11/(AG4-AE20)","v":0},{"$f":"IF(AF11=0,0,(AF11*((LOG(AF11))/LOG(2))))","v":0},null,{"$f":"N11","v":1211},{"$f":"COUNTIF(L89:L115,AI11)","v":0},{"$f":"AJ11/(AL4-AJ20)","v":0},{"$f":"IF(AK11=0,0,(AK11*((LOG(AK11))/LOG(2))))","v":0},null,{"$f":"N11","v":1211},{"$f":"COUNTIF(L116:L142,AN11)","v":0},{"$f":"AO11/(AQ4-AO20)","v":0},{"$f":"IF(AP11=0,0,(AP11*((LOG(AP11))/LOG(2))))","v":0},null,{"$f":"N11","v":1211},{"$f":"COUNTIF(L143:L169,AS11)","v":0},{"$f":"AT11/(AV4-AT20)","v":0},{"$f":"IF(AU11=0,0,(AU11*((LOG(AU11))/LOG(2))))","v":0}]
[21,656,21,662,22,669,14,679,null,null,0,2221,null,1212,{"$f":"COUNTIF($L$7:$L$500,N12)","v":4},{"$f":"O12/$Q$4","v":2.4539877300613498E-2},{"$f":"IF(P12=0,0,(P12*((LOG(P12))/LOG(2))))","v":-0.13125713261916755},null,null,{"$f":"N12","v":1212},{"$f":"COUNTIF(L7:L33,T12)","v":0},{"$f":"U12/(W4-U20)","v":0},{"$f":"IF(V12=0,0,(V12*((LOG(V12))/LOG(2))))","v":0},null,{"$f":"N12","v":1212},{"$f":"COUNTIF(L34:L60,Y12)","v":3},{"$f":"Z12/(AB4-Z20)","v":0.12},{"$f":"IF(AA12=0,0,(AA12*((LOG(AA12))/LOG(2))))","v":-0.36706724268642821},null,{"$f":"N12","v":1212},{"$f":"COUNTIF(L61:L88,AD12)","v":0},{"$f":"AE12/(AG4-AE20)","v":0},{"$f":"IF(AF12=0,0,(AF12*((LOG(AF12))/LOG(2))))","v":0},null,{"$f":"N12","v":1212},{"$f":"COUNTIF(L89:L115,AI12)","v":0},{"$f":"AJ12/(AL4-AJ20)","v":0},{"$f":"IF(AK12=0,0,(AK12*((LOG(AK12))/LOG(2))))","v":0},null,{"$f":"N12","v":1212},{"$f":"COUNTIF(L116:L142,AN12)","v":0},{"$f":"AO12/(AQ4-AO20)","v":0},{"$f":"IF(AP12=0,0,(AP12*((LOG(AP12))/LOG(2))))","v":0},null,{"$f":"N12","v":1212},{"$f":"COUNTIF(L143:L169,AS12)","v":1},{"$f":"AT12/(AV4-AT20)","v":4.7619047619047616E-2},{"$f":"IF(AU12=0,0,(AU12*((LOG(AU12))/LOG(2))))","v":-0.20915797251327431}]
[21,815,21,821,22,823,23,830,null,null,0,2222,null,1221,{"$f":"COUNTIF($L$7:$L$500,N13)","v":4},{"$f":"O13/$Q$4","v":2.4539877300613498E-2},{"$f":"IF(P13=0,0,(P13*((LOG(P13))/LOG(2))))","v":-0.13125713261916755},null,null,{"$f":"N13","v":1221},{"$f":"COUNTIF(L7:L33,T13)","v":1},{"$f":"U13/(W4-U20)","v":3.8461538461538464E-2},{"$f":"IF(V13=0,0,(V13*((LOG(V13))/LOG(2))))","v":-0.18078614300542661},null,{"$f":"N13","v":1221},{"$f":"COUNTIF(L34:L60,Y13)","v":2},{"$f":"Z13/(AB4-Z20)","v":0.08},{"$f":"IF(AA13=0,0,(AA13*((LOG(AA13))/LOG(2))))","v":-0.29150849518197797},null,{"$f":"N13","v":1221},{"$f":"COUNTIF(L61:L88,AD13)","v":1},{"$f":"AE13/(AG4-AE20)","v":4.1666666666666664E-2},{"$f":"IF(AF13=0,0,(AF13*((LOG(AF13))/LOG(2))))","v":-0.19104010419671485},null,{"$f":"N13","v":1221},{"$f":"COUNTIF(L89:L115,AI13)","v":0},{"$f":"AJ13/(AL4-AJ20)","v":0},{"$f":"IF(AK13=0,0,(AK13*((LOG(AK13))/LOG(2))))","v":0},null,{"$f":"N13","v":1221},{"$f":"COUNTIF(L116:L142,AN13)","v":0},{"$f":"AO13/(AQ4-AO20)","v":0},{"$f":"IF(AP13=0,0,(AP13*((LOG(AP13))/LOG(2))))","v":0},null,{"$f":"N13","v":1221},{"$f":"COUNTIF(L143:L169,AS13)","v":0},{"$f":"AT13/(AV4-AT20)","v":0},{"$f":"IF(AU13=0,0,(AU13*((LOG(AU13))/LOG(2))))","v":0}]
[21,929,21,934,22,941,23,945,null,null,0,2222,null,1222,{"$f":"COUNTIF($L$7:$L$500,N14)","v":22},{"$f":"O14/$Q$4","v":0.13496932515337423},{"$f":"IF(P14=0,0,(P14*((LOG(P14))/LOG(2))))","v":-0.38996640357707463},null,null,{"$f":"N14","v":1222},{"$f":"COUNTIF(L7:L33,T14)","v":3},{"$f":"U14/(W4-U20)","v":0.11538461538461539},{"$f":"IF(V14=0,0,(V14*((LOG(V14))/LOG(2))))","v":-0.35947814047153104},null,{"$f":"N14","v":1222},{"$f":"COUNTIF(L34:L60,Y14)","v":4},{"$f":"Z14/(AB4-Z20)","v":0.16},{"$f":"IF(AA14=0,0,(AA14*((LOG(AA14))/LOG(2))))","v":-0.42301699036395596},null,{"$f":"N14","v":1222},{"$f":"COUNTIF(L61:L88,AD14)","v":5},{"$f":"AE14/(AG4-AE20)","v":0.20833333333333334},{"$f":"IF(AF14=0,0,(AF14*((LOG(AF14))/LOG(2))))","v":-0.47146550121537367},null,{"$f":"N14","v":1222},{"$f":"COUNTIF(L89:L115,AI14)","v":3},{"$f":"AJ14/(AL4-AJ20)","v":0.14285714285714285},{"$f":"IF(AK14=0,0,(AK14*((LOG(AK14))/LOG(2))))","v":-0.40105070315108626},null,{"$f":"N14","v":1222},{"$f":"COUNTIF(L116:L142,AN14)","v":5},{"$f":"AO14/(AQ4-AO20)","v":0.21739130434782608},{"$f":"IF(AP14=0,0,(AP14*((LOG(AP14))/LOG(2))))","v":-0.47861605677601093},null,{"$f":"N14","v":1222},{"$f":"COUNTIF(L143:L169,AS14)","v":2},{"$f":"AT14/(AV4-AT20)","v":9.5238095238095233E-2},{"$f":"IF(AU14=0,0,(AU14*((LOG(AU14))/LOG(2))))","v":-0.32307784978845333}]
[21,1041,21,1049,22,1062,23,1073,null,null,0,2222,null,2111,{"$f":"COUNTIF($L$7:$L$500,N15)","v":0},{"$f":"O15/$Q$4","v":0},{"$f":"IF(P15=0,0,(P15*((LOG(P15))/LOG(2))))","v":0},null,null,{"$f":"N15","v":2111},{"$f":"COUNTIF(L7:L33,T15)","v":0},{"$f":"U15/(W4-U20)","v":0},{"$f":"IF(V15=0,0,(V15*((LOG(V15))/LOG(2))))","v":0},null,{"$f":"N15","v":2111},{"$f":"COUNTIF(L34:L60,Y15)","v":0},{"$f":"Z15/(AB4-Z20)","v":0},{"$f":"IF(AA15=0,0,(AA15*((LOG(AA15))/LOG(2))))","v":0},null,{"$f":"N15","v":2111},{"$f":"COUNTIF(L61:L88,AD15)","v":0},{"$f":"AE15/(AG4-AE20)","v":0},{"$f":"IF(AF15=0,0,(AF15*((LOG(AF15))/LOG(2))))","v":0},null,{"$f":"N15","v":2111},{"$f":"COUNTIF(L89:L115,AI15)","v":0},{"$f":"AJ15/(AL4-AJ20)","v":0},{"$f":"IF(AK15=0,0,(AK15*((LOG(AK15))/LOG(2))))","v":0},null,{"$f":"N15","v":2111},{"$f":"COUNTIF(L116:L142,AN15)","v":0},{"$f":"AO15/(AQ4-AO20)","v":0},{"$f":"IF(AP15=0,0,(AP15*((LOG(AP15))/LOG(2))))","v":0},null,{"$f":"N15","v":2111},{"$f":"COUNTIF(L143:L169,AS15)","v":0},{"$f":"AT15/(AV4-AT20)","v":0},{"$f":"IF(AU15=0,0,(AU15*((LOG(AU15))/LOG(2))))","v":0}]
[12,1165,23,1175,24,1180,23,1186,null,null,0,1222,null,2112,{"$f":"COUNTIF($L$7:$L$500,N16)","v":2},{"$f":"O16/$Q$4","v":1.2269938650306749E-2},{"$f":"IF(P16=0,0,(P16*((LOG(P16))/LOG(2))))","v":-7.7898504959890522E-2},null,null,{"$f":"N16","v":2112},{"$f":"COUNTIF(L7:L33,T16)","v":0},{"$f":"U16/(W4-U20)","v":0},{"$f":"IF(V16=0,0,(V16*((LOG(V16))/LOG(2))))","v":0},null,{"$f":"N16","v":2112},{"$f":"COUNTIF(L34:L60,Y16)","v":0},{"$f":"Z16/(AB4-Z20)","v":0},{"$f":"IF(AA16=0,0,(AA16*((LOG(AA16))/LOG(2))))","v":0},null,{"$f":"N16","v":2112},{"$f":"COUNTIF(L61:L88,AD16)","v":2},{"$f":"AE16/(AG4-AE20)","v":8.3333333333333329E-2},{"$f":"IF(AF16=0,0,(AF16*((LOG(AF16))/LOG(2))))","v":-0.29874687506009634},null,{"$f":"N16","v":2112},{"$f":"COUNTIF(L89:L115,AI16)","v":0},{"$f":"AJ16/(AL4-AJ20)","v":0},{"$f":"IF(AK16=0,0,(AK16*((LOG(AK16))/LOG(2))))","v":0},null,{"$f":"N16","v":2112},{"$f":"COUNTIF(L116:L142,AN16)","v":0},{"$f":"AO16/(AQ4-AO20)","v":0},{"$f":"IF(AP16=0,0,(AP16*((LOG(AP16))/LOG(2))))","v":0},null,{"$f":"N16","v":2112},{"$f":"COUNTIF(L143:L169,AS16)","v":0},{"$f":"AT16/(AV4-AT20)","v":0},{"$f":"IF(AU16=0,0,(AU16*((LOG(AU16))/LOG(2))))","v":0}]
[21,1290,21,1294,11,1297,21,1300,null,null,0,2212,null,2121,{"$f":"COUNTIF($L$7:$L$500,N17)","v":0},{"$f":"O17/$Q$4","v":0},{"$f":"IF(P17=0,0,(P17*((LOG(P17))/LOG(2))))","v":0},null,null,{"$f":"N17","v":2121},{"$f":"COUNTIF(L7:L33,T17)","v":0},{"$f":"U17/(W4-U20)","v":0},{"$f":"IF(V17=0,0,(V17*((LOG(V17))/LOG(2))))","v":0},null,{"$f":"N17","v":2121},{"$f":"COUNTIF(L34:L60,Y17)","v":0},{"$f":"Z17/(AB4-Z20)","v":0},{"$f":"IF(AA17=0,0,(AA17*((LOG(AA17))/LOG(2))))","v":0},null,{"$f":"N17","v":2121},{"$f":"COUNTIF(L61:L88,AD17)","v":0},{"$f":"AE17/(AG4-AE20)","v":0},{"$f":"IF(AF17=0,0,(AF17*((LOG(AF17))/LOG(2))))","v":0},null,{"$f":"N17","v":2121},{"$f":"COUNTIF(L89:L115,AI17)","v":0},{"$f":"AJ17/(AL4-AJ20)","v":0},{"$f":"IF(AK17=0,0,(AK17*((LOG(AK17))/LOG(2))))","v":0},null,{"$f":"N17","v":2121},{"$f":"COUNTIF(L116:L142,AN17)","v":0},{"$f":"AO17/(AQ4-AO20)","v":0},{"$f":"IF(AP17=0,0,(AP17*((LOG(AP17))/LOG(2))))","v":0},null,{"$f":"N17","v":2121},{"$f":"COUNTIF(L143:L169,AS17)","v":0},{"$f":"AT17/(AV4-AT20)","v":0},{"$f":"IF(AU17=0,0,(AU17*((LOG(AU17))/LOG(2))))","v":0}]
[21,1441,21,1449,22,1458,23,1467,null,null,0,2222,null,2122,{"$f":"COUNTIF($L$7:$L$500,N18)","v":21},{"$f":"O18/$Q$4","v":0.12883435582822086},{"$f":"IF(P18=0,0,(P18*((LOG(P18))/LOG(2))))","v":-0.38088727215029849},null,null,{"$f":"N18","v":2122},{"$f":"COUNTIF(L7:L33,T18)","v":3},{"$f":"U18/(W4-U20)","v":0.11538461538461539},{"$f":"IF(V18=0,0,(V18*((LOG(V18))/LOG(2))))","v":-0.35947814047153104},null,{"$f":"N18","v":2122},{"$f":"COUNTIF(L34:L60,Y18)","v":2},{"$f":"Z18/(AB4-Z20)","v":0.08},{"$f":"IF(AA18=0,0,(AA18*((LOG(AA18))/LOG(2))))","v":-0.29150849518197797},null,{"$f":"N18","v":2122},{"$f":"COUNTIF(L61:L88,AD18)","v":7},{"$f":"AE18/(AG4-AE20)","v":0.29166666666666669},{"$f":"IF(AF18=0,0,(AF18*((LOG(AF18))/LOG(2))))","v":-0.51846887711020273},null,{"$f":"N18","v":2122},{"$f":"COUNTIF(L89:L115,AI18)","v":1},{"$f":"AJ18/(AL4-AJ20)","v":4.7619047619047616E-2},{"$f":"IF(AK18=0,0,(AK18*((LOG(AK18))/LOG(2))))","v":-0.20915797251327431},null,{"$f":"N18","v":2122},{"$f":"COUNTIF(L116:L142,AN18)","v":5},{"$f":"AO18/(AQ4-AO20)","v":0.21739130434782608},{"$f":"IF(AP18=0,0,(AP18*((LOG(AP18))/LOG(2))))","v":-0.47861605677601093},null,{"$f":"N18","v":2122},{"$f":"COUNTIF(L143:L169,AS18)","v":3},{"$f":"AT18/(AV4-AT20)","v":0.14285714285714285},{"$f":"IF(AU18=0,0,(AU18*((LOG(AU18))/LOG(2))))","v":-0.40105070315108626}]
[21,1567,21,1578,22,1587,23,1596,null,null,0,2222,null,2211,{"$f":"COUNTIF($L$7:$L$500,N19)","v":1},{"$f":"O19/$Q$4","v":6.1349693251533744E-3},{"$f":"IF(P19=0,0,(P19*((LOG(P19))/LOG(2))))","v":-4.5084221805098634E-2},null,null,{"$f":"N19","v":2211},{"$f":"COUNTIF(L7:L33,T19)","v":1},{"$f":"U19/(W4-U20)","v":3.8461538461538464E-2},{"$f":"IF(V19=0,0,(V19*((LOG(V19))/LOG(2))))","v":-0.18078614300542661},null,{"$f":"N19","v":2211},{"$f":"COUNTIF(L34:L60,Y19)","v":0},{"$f":"Z19/(AB4-Z20)","v":0},{"$f":"IF(AA19=0,0,(AA19*((LOG(AA19))/LOG(2))))","v":0},null,{"$f":"N19","v":2211},{"$f":"COUNTIF(L61:L88,AD19)","v":0},{"$f":"AE19/(AG4-AE20)","v":0},{"$f":"IF(AF19=0,0,(AF19*((LOG(AF19))/LOG(2))))","v":0},null,{"$f":"N19","v":2211},{"$f":"COUNTIF(L89:L115,AI19)","v":0},{"$f":"AJ19/(AL4-AJ20)","v":0},{"$f":"IF(AK19=0,0,(AK19*((LOG(AK19))/LOG(2))))","v":0},null,{"$f":"N19","v":2211},{"$f":"COUNTIF(L116:L142,AN19)","v":0},{"$f":"AO19/(AQ4-AO20)","v":0},{"$f":"IF(AP19=0,0,(AP19*((LOG(AP19))/LOG(2))))","v":0},null,{"$f":"N19","v":2211},{"$f":"COUNTIF(L143:L169,AS19)","v":0},{"$f":"AT19/(AV4-AT20)","v":0},{"$f":"IF(AU19=0,0,(AU19*((LOG(AU19))/LOG(2))))","v":0}]
[21,1689,21,1697,22,1706,23,1714,null,null,0,2222,null,2212,{"$f":"COUNTIF($L$7:$L$500,N20)","v":23},{"$f":"O20/$Q$4","v":0.1411042944785276},{"$f":"IF(P20=0,0,(P20*((LOG(P20))/LOG(2))))","v":-0.39864308317793545},null,null,{"$f":"N20","v":2212},{"$f":"COUNTIF(L7:L33,T20)","v":1},null,null,null,{"$f":"N20","v":2212},{"$f":"COUNTIF(L34:L60,Y20)","v":2},null,null,null,{"$f":"N20","v":2212},{"$f":"COUNTIF(L61:L88,AD20)","v":4},null,null,null,{"$f":"N20","v":2212},{"$f":"COUNTIF(L89:L115,AI20)","v":6},null,null,null,{"$f":"N20","v":2212},{"$f":"COUNTIF(L116:L142,AN20)","v":4},null,null,null,{"$f":"N20","v":2212},{"$f":"COUNTIF(L143:L169,AS20)","v":6}]
[21,1811,21,1814,22,1820,23,1825,null,null,0,2222,null,2221,{"$f":"COUNTIF($L$7:$L$500,N21)","v":11},{"$f":"O21/$Q$4","v":6.7484662576687116E-2},{"$f":"IF(P21=0,0,(P21*((LOG(P21))/LOG(2))))","v":-0.26246786436522446},null,null,{"$f":"N21","v":2221},{"$f":"COUNTIF(L7:L33,T21)","v":3},{"$f":"U21/(W4-U20)","v":0.11538461538461539},{"$f":"IF(V21=0,0,(V21*((LOG(V21))/LOG(2))))","v":-0.35947814047153104},null,{"$f":"N21","v":2221},{"$f":"COUNTIF(L34:L60,Y21)","v":1},{"$f":"Z21/(AB4-Z20)","v":0.04},{"$f":"IF(AA21=0,0,(AA21*((LOG(AA21))/LOG(2))))","v":-0.18575424759098899},null,{"$f":"N21","v":2221},{"$f":"COUNTIF(L61:L88,AD21)","v":2},{"$f":"AE21/(AG4-AE20)","v":8.3333333333333329E-2},{"$f":"IF(AF21=0,0,(AF21*((LOG(AF21))/LOG(2))))","v":-0.29874687506009634},null,{"$f":"N21","v":2221},{"$f":"COUNTIF(L89:L115,AI21)","v":3},{"$f":"AJ21/(AL4-AJ20)","v":0.14285714285714285},{"$f":"IF(AK21=0,0,(AK21*((LOG(AK21))/LOG(2))))","v":-0.40105070315108626},null,{"$f":"N21","v":2221},{"$f":"COUNTIF(L116:L142,AN21)","v":1},{"$f":"AO21/(AQ4-AO20)","v":4.3478260869565216E-2},{"$f":"IF(AP21=0,0,(AP21*((LOG(AP21))/LOG(2))))","v":-0.19667660678508753},null,{"$f":"N21","v":2221},{"$f":"COUNTIF(L143:L169,AS21)","v":1},{"$f":"AT21/(AV4-AT20)","v":4.7619047619047616E-2},{"$f":"IF(AU21=0,0,(AU21*((LOG(AU21))/LOG(2))))","v":-0.20915797251327431}]
[21,1922,21,1928,11,1943,12,1957,null,null,0,2211,null,2222,{"$f":"COUNTIF($L$7:$L$500,N22)","v":74},{"$f":"O22/$Q$4","v":0.45398773006134968},{"$f":"IF(P22=0,0,(P22*((LOG(P22))/LOG(2))))","v":-0.51721677519360398},null,null,{"$f":"N22","v":2222},{"$f":"COUNTIF(L7:L33,T22)","v":15},{"$f":"U22/(W4-U20)","v":0.57692307692307687},{"$f":"IF(V22=0,0,(V22*((LOG(V22))/LOG(2))))","v":-0.45781680146110021},null,{"$f":"N22","v":2222},{"$f":"COUNTIF(L34:L60,Y22)","v":13},{"$f":"Z22/(AB4-Z20)","v":0.52},{"$f":"IF(AA22=0,0,(AA22*((LOG(AA22))/LOG(2))))","v":-0.49057656524948895},null,{"$f":"N22","v":2222},{"$f":"COUNTIF(L61:L88,AD22)","v":6},{"$f":"AE22/(AG4-AE20)","v":0.25},{"$f":"IF(AF22=0,0,(AF22*((LOG(AF22))/LOG(2))))","v":-0.5},null,{"$f":"N22","v":2222},{"$f":"COUNTIF(L89:L115,AI22)","v":14},{"$f":"AJ22/(AL4-AJ20)","v":0.66666666666666663},{"$f":"IF(AK22=0,0,(AK22*((LOG(AK22))/LOG(2))))","v":-0.38997500048077083},null,{"$f":"N22","v":2222},{"$f":"COUNTIF(L116:L142,AN22)","v":12},{"$f":"AO22/(AQ4-AO20)","v":0.52173913043478259},{"$f":"IF(AP22=0,0,(AP22*((LOG(AP22))/LOG(2))))","v":-0.48970406365349045},null,{"$f":"N22","v":2222},{"$f":"COUNTIF(L143:L169,AS22)","v":14},{"$f":"AT22/(AV4-AT20)","v":0.66666666666666663},{"$f":"IF(AU22=0,0,(AU22*((LOG(AU22))/LOG(2))))","v":-0.38997500048077083}]
[21,2053,21,2059,22,2065,14,2079,null,null,0,2221,null,null,null,{"$f":"SUM(P7:P22)","v":1},{"$f":"-SUM(Q7:Q22)","v":2.3797626122725597},null,null,null,null,{"$f":"SUM(V7:V22)","v":1},{"$f":"-SUM(W7:W22)","v":1.8978235088865465},null,null,null,{"$f":"SUM(AA7:AA22)","v":1},{"$f":"-SUM(AB7:AB22)","v":2.0494320362548182},null,null,null,{"$f":"SUM(AF7:AF22)","v":1},{"$f":"-SUM(AG7:AG22)","v":2.4695083368391986},null,null,null,{"$f":"SUM(AK7:AK22)","v":1},{"$f":"-SUM(AL7:AL22)","v":1.4012343792962176},null,null,null,{"$f":"SUM(AP7:AP22)","v":1},{"$f":"-SUM(AQ7:AQ22)","v":1.6436127839905998},null,null,null,{"$f":"SUM(AU7:AU22)","v":1},{"$f":"-SUM(AV7:AV22)","v":1.5324194984468589}]
[12,2176,23,2179,24,2184,23,2190,null,null,0,1222,null,null,null,"U=",{"$f":"Q23/(LOG(Q4)/LOG(2))","v":0.323833262345185},null,null,null,null,"U1=",{"$f":"W23/(LOG(W4)/LOG(2))","v":0.39913110626130249},null,null,null,"U2=",{"$f":"AB23/(LOG(AB4)/LOG(2))","v":0.4310158831985676},null,null,null,"U3=",{"$f":"AG23/(LOG(AG4)/LOG(2))","v":0.51369378314639191},null,null,null,"U4=",{"$f":"AL23/(LOG(AL4)/LOG(2))","v":0.2946934872084056},null,null,null,"U5=",{"$f":"AQ23/(LOG(AQ4)/LOG(2))","v":0.34566806959002877},null,null,null,"U6=",{"$f":"AV23/(LOG(AV4)/LOG(2))","v":0.3222830188410577}]
[12,2284,23,2293,24,2300,23,2307,null,null,0,1222]
[21,2405,21,2409,22,2416,23,2426,null,null,0,2222]
[12,2518,23,2528,24,2539,14,2574,null,null,0,1221,null,"Total Target Seq"]
[21,2668,12,2673,24,2680,23,2692,null,null,0,2122,null,{"$f":"COUNTIF(L7:L169,G3)","v":23},null,27,27,28,27,27,27]
[21,2788,21,2793,22,2801,14,2807,null,null,0,2221,null,null,null,"% of reinforcement given in 6 equal intervals based on number of trials "]
[21,2905,21,2909,22,2915,23,2924,null,null,0,2222,null,null,null,"%_1","%_2","%_3","%_4","%_5","%_6"]
[21,3019,12,3021,24,3025,23,3034,null,null,0,2122,null,null,"target sequence",{"$f":"$G$3","v":2212},{"$f":"$G$3","v":2212},{"$f":"$G$3","v":2212},{"$f":"$G$3","v":2212},{"$f":"$G$3","v":2212},{"$f":"$G$3","v":2212}]
[21,3127,21,3132,22,3141,23,3147,null,null,0,2222,null,null,"total reinforcement",{"$f":"U20","v":1},{"$f":"Z20","v":2},{"$f":"AE20","v":4},{"$f":"AJ20","v":6},{"$f":"AO20","v":4},{"$f":"AT20","v":6}]
[21,3243,21,3250,22,3261,23,3269,null,null,0,2222,null,null,"% target"]
[21,3366,21,3381,22,3394,23,3402,null,null,0,2222,null,null,"CCRF"]
[21,3504,21,3508,22,3517,23,3525,null,null,0,2222,null,null,"% CCRf"]
[12,3622,23,3628,24,3635,23,3645,null,null,0,1222,null,null,"average response rate",{"$f":"H33/P28","v":121.07407407407408},{"$f":"(H60-H33)/Q28","v":145.59259259259258},{"$f":"(H88-H60)/R28","v":137.07142857142858},{"$f":"(H115-H88)/S28","v":178.81481481481481},{"$f":"(H142-H115)/T28","v":160.96296296296296},{"$f":"(H169-H142)/U28","v":137.74074074074073}]
[21,3743,21,3745,22,3753,23,3759,null,null,0,2222]
[12,3851,23,3860,24,3866,14,3870,null,null,0,1221]
[21,3968,21,3972,22,3978,23,3983,null,null,0,2222]
[21,4079,21,4083,22,4087,23,4091,null,null,0,2222]
[21,4191,21,4196,22,4202,23,4211,null,null,0,2222]
[21,4309,21,4315,22,4323,14,4329,null,null,0,2221]
[21,4430,21,4434,22,4440,23,4458,null,null,0,2222]
[21,4552,21,4556,22,4561,23,4569,null,null,0,2222]
[21,4666,21,4671,22,4677,23,4684,null,null,0,2222]
[12,4778,23,4782,13,4784,23,4787,null,null,0,1212]
[21,4881,21,4884,11,4886,21,4890,null,null,0,2212]
[12,5680,23,5709,24,5717,14,5721,null,null,0,1221]
[21,5813,21,5819,11,5822,21,5825,null,null,0,2212]
[21,5961,21,5968,22,5977,23,5986,null,null,0,2222]
[21,6081,21,6102,22,6113,23,6120,null,null,0,2222]
[21,6219,12,6224,24,6230,23,6246,null,null,0,2122]
[12,6342,23,6350,13,6356,23,6358,null,null,0,1212]
[12,6452,23,6456,24,6463,23,6474,null,null,0,1222]
[12,6566,23,6570,24,6575,23,6585,null,null,0,1222]
[12,6680,23,6691,13,6693,23,6705,null,null,0,1212]
[12,6798,23,6802,24,6810,23,6840,null,null,0,1222]
[21,6934,12,6938,24,6941,23,6953,null,null,0,2122]
[21,7054,21,7060,22,7070,23,7078,null,null,0,2222]
[21,7175,21,7181,22,7189,23,7200,null,null,0,2222]
[21,7295,21,7298,11,7302,21,7306,null,null,0,2212]
[21,7427,21,7432,22,7440,23,7456,null,null,0,2222]
[21,7566,21,7583,22,7592,23,7601,null,null,0,2222]
[21,7696,21,7701,22,7708,23,7716,null,null,0,2222]
[12,7810,23,7819,24,7830,14,7850,null,null,0,1221]
[21,7942,12,7946,24,7959,23,7962,null,null,0,2122]
[21,8054,21,8060,22,8064,14,8067,null,null,0,2221]
[21,8159,12,8162,24,8166,23,8170,null,null,0,2122]
[21,8263,21,8277,22,8290,23,8298,null,null,0,2222]
[21,8398,21,8401,22,8408,23,8416,null,null,0,2222]
[12,8509,23,8521,24,8526,23,8532,null,null,0,1222]
[21,8627,12,8629,24,8631,23,8640,null,null,0,2122]
[21,8733,12,8736,13,8739,23,8743,null,null,0,2112]
[21,8848,12,8856,24,8858,23,8864,null,null,0,2122]
[12,8958,23,8962,24,8971,23,8983,null,null,0,1222]
[21,9079,21,9086,22,9095,14,9100,null,null,0,2221]
[12,9193,23,9195,24,9201,23,9212,null,null,0,1222]
[21,9309,12,9311,24,9316,23,9326,null,null,0,2122]
[21,9422,21,9427,22,9431,23,9441,null,null,0,2222]
[21,9542,12,9543,13,9545,23,9548,null,null,0,2112]
[21,9642,12,9645,24,9647,23,9658,null,null,0,2122]
[12,9751,23,9761,24,9766,23,9774,null,null,0,1222]
[12,9866,23,9870,24,9875,23,9882,null,null,0,1222]
[21,9975,21,9979,11,9981,21,9985,null,null,0,2212]
[12,10364,14,10381,24,10387,23,10393,null,null,0,1122]
[21,10487,21,10493,11,10498,21,10500,null,null,0,2212]
[21,10846,21,10851,11,10859,21,10861,null,null,0,2212]
[21,10991,12,10999,24,11026,23,11038,null,null,0,2122]
[21,11134,21,11136,11,11139,21,11148,null,null,0,2212]
[21,11305,21,11308,11,11310,21,11327,null,null,0,2212]
[21,11710,21,11715,11,11733,21,11736,null,null,0,2212]
[12,12130,23,12144,24,12168,23,12187,null,null,0,1222]
[21,12294,21,12298,11,12307,21,12310,null,null,0,2212]
[21,12629,21,12648,22,12657,23,12666,null,null,0,2222]
[21,12761,21,12767,22,12778,14,12784,null,null,0,2221]
[21,12892,21,12913,22,12919,23,12926,null,null,0,2222]
[21,13020,21,13027,22,13039,23,13044,null,null,0,2222]
[21,13139,21,13145,22,13151,23,13159,null,null,0,2222]
[21,13254,21,13260,22,13273,23,13279,null,null,0,2222]
[21,13382,21,13387,11,13389,21,13393,null,null,0,2212]
[12,13622,23,13631,24,13636,23,13644,null,null,0,1222]
[21,13758,21,13764,22,13770,23,13776,null,null,0,2222]
[21,13871,21,13879,22,13888,23,13895,null,null,0,2222]
[21,13987,21,13989,22,13993,23,13999,null,null,0,2222]
[21,14098,12,14103,24,14115,23,14122,null,null,0,2122]
[21,14217,21,14221,22,14227,14,14232,null,null,0,2221]
[12,14325,23,14328,24,14331,23,14344,null,null,0,1222]
[21,14436,21,14442,22,14450,23,14458,null,null,0,2222]
[21,14553,21,14557,11,14560,21,14563,null,null,0,2212]
[21,15226,21,15231,22,15240,23,15253,null,null,0,2222]
[21,15348,21,15358,22,15376,23,15391,null,null,0,2222]
[21,15483,21,15487,22,15493,14,15499,null,null,0,2221]
[21,15595,21,15602,22,15611,23,15618,null,null,0,2222]
[21,15719,21,15724,22,15729,23,15742,null,null,0,2222]
[21,15841,21,15845,22,15853,23,15866,null,null,0,2222]
[12,15959,23,15961,24,15972,23,15977,null,null,0,1222]
[21,16076,21,16080,22,16094,23,16100,null,null,0,2222]
[21,16202,21,16204,22,16210,23,16219,null,null,0,2222]
[21,16315,21,16321,11,16332,21,16348,null,null,0,2212]
[21,16448,21,16462,22,16467,23,16477,null,null,0,2222]
[21,16589,21,16595,22,16610,23,16616,null,null,0,2222]
[21,16710,21,16715,22,16724,23,16732,null,null,0,2222]
[21,16826,21,16831,22,16836,23,16848,null,null,0,2222]
[21,16944,21,16952,11,16959,21,16970,null,null,0,2212]
[21,17951,21,17966,22,17972,23,17979,null,null,0,2222]
[21,18073,21,18077,22,18082,14,18091,null,null,0,2221]
[12,18184,23,18189,24,18194,23,18208,null,null,0,1222]
[21,18302,12,18306,24,18308,23,18319,null,null,0,2122]
[21,18414,12,18421,24,18423,23,18433,null,null,0,2122]
[21,18525,21,18534,22,18547,23,18553,null,null,0,2222]
[21,18647,12,18650,24,18656,23,18665,null,null,0,2122]
[21,18760,21,18764,22,18769,23,18779,null,null,0,2222]
[21,18876,21,18881,11,18883,21,18889,null,null,0,2212]
[21,19031,21,19040,11,19043,21,19047,null,null,0,2212]
[12,19288,23,19304,24,19309,23,19322,null,null,0,1222]
[21,19420,21,19425,22,19433,23,19444,null,null,0,2222]
[21,19539,12,19546,24,19555,23,19613,null,null,0,2122]
[21,19714,21,19719,22,19725,23,19735,null,null,0,2222]
[21,19833,21,19844,22,19852,23,19859,null,null,0,2222]
[21,19961,12,19965,24,19966,23,19980,null,null,0,2122]
[12,20074,23,20079,24,20086,23,20101,null,null,0,1222]
[12,20193,23,20195,24,20201,23,20212,null,null,0,1222]
[12,20306,23,20311,24,20318,23,20329,null,null,0,1222]
[21,20423,21,20426,22,20432,23,20441,null,null,0,2222]
[21,20534,21,20539,22,20545,23,20555,null,null,0,2222]
[21,20649,21,20654,11,20657,21,20659,null,null,0,2212]
[21,20848,21,20855,22,20862,23,20871,null,null,0,2222]
[21,20990,21,20995,11,21010,21,21013,null,null,0,2212]
[21,21255,21,21262,22,21267,23,21284,null,null,0,2222]
[21,21378,21,21384,22,21391,23,21399,null,null,0,2222]
[21,21494,12,21499,24,21504,23,21519,null,null,0,2122]
[21,21615,12,21623,24,21626,23,21633,null,null,0,2122]
[21,21732,21,21737,22,21743,14,21756,null,null,0,2221]
[21,21858,21,21864,22,21872,23,21883,null,null,0,2222]
[21,21976,21,21982,22,21992,23,21997,null,null,0,2222]
[12,22092,23,22096,13,22098,23,22100,null,null,0,1212]
[21,22192,21,22197,11,22201,21,22216,null,null,0,2212]
[21,22480,21,22486,22,22493,23,22500,null,null,0,2222]
[21,22594,21,22600,22,22611,23,22621,null,null,0,2222]
[21,22717,12,22725,24,22728,23,22734,null,null,0,2122]
[21,22829,21,22833,11,22838,21,22840,null,null,0,2212]
[21,22984,21,22990,22,22997,23,23005,null,null,0,2222]
[21,23099,21,23108,22,23121,23,23131,null,null,0,2222]
[21,23237,21,23243,11,23256,21,23264,null,null,0,2212]
[21,23422,21,23427,22,23439,23,23454,null,null,0,2222]
[21,23550,21,23557,22,23565,23,23572,null,null,0,2222]
[12,23668,23,23673,24,23677,23,23686,null,null,0,1222]
[21,23781,21,23787,22,23803,23,23809,null,null,0,2222]
[21,23906,21,23911,11,23917,21,23931,null,null,1,2212]

{"sheet":"!M705A50.Gus","index":16,"n_rows":159,"n_cols":48,"rows_kept":159,"cut":false,"hidden":false,"merged":[[4,39,4,42],[5,39,5,40],[4,44,4,47],[5,44,5,45],[4,24,4,27],[5,24,5,25],[4,29,4,32],[5,29,5,30],[4,34,4,37],[5,34,5,35],[1,1,1,2],[5,13,5,14],[26,13,26,14],[27,13,27,14],[4,19,4,22],[5,19,5,20]]}
["Report for:!M705A50.Gus"]
["Date:","<date>"]
["Hen:","<hen>",null,null,null,"Correct Sequence",{"$f":"Start!J2","v":2212},null,null,null,null,null,null,null,null,"Total Sequences in Data",{"$f":"4994-COUNTBLANK(L7:L5000)","v":153},null,null,null,null,"Total Sequences in Block Data",{"$f":"COUNTA(L7:L32)","v":26},null,null,null,"Total Sequences in Block Data",{"$f":"COUNTA(L33:L57)","v":25},null,null,null,"Total Sequences in Block Data",{"$f":"COUNTA(L58:L83)","v":26},null,null,null,"Total Sequences in Block Data",{"$f":"COUNTA(L84:L108)","v":25},null,null,null,"Total Sequences in Block Data",{"$f":"COUNTA(L109:L134)","v":26},null,null,null,"Total Sequences in Block Data",{"$f":"COUNTA(L135:L159)","v":25}]
[null,null,null,null,null,null,null,null,null,null,null,null,null,null,null,"Total Sequences in Summary",{"$f":"SUM(O7:O22)","v":153},null,null,null,null,"Total Sequences in Block Summary",{"$f":"SUM(U7:U22)","v":26},null,null,null,"Total Sequences in Block Summary",{"$f":"SUM(Z7:Z22)","v":25},null,null,null,"Total Sequences in Block Summary",{"$f":"SUM(AE7:AE22)","v":26},null,null,null,"Total Sequences in Block Summary",{"$f":"SUM(AJ7:AJ22)","v":25},null,null,null,"Total Sequences in Block Summary",{"$f":"SUM(AO7:AO22)","v":26},null,null,null,"Total Sequences in Block Summary",{"$f":"SUM(AT7:AT22)","v":25}]
[null,null,null,null,null,null,null,null,null,null,null,null,null,null,null,null,null,null,null,"Block 1",null,null,null,null,"Block 2",null,null,null,null,"Block 3",null,null,null,null,"Block 4",null,null,null,null,"Block 5",null,null,null,null,"Block 6"]
["Sequence\nComponent\n1","Time\n1","Sequence\nComponent\n2","Time\n2","Sequence\nComponent\n3","Time\n3","Sequence\nComponent\n4","Time\n4","Sequence\nComponent\n5","Time\n5","Correct?\n0=No 1=Yes","Sequence",null,"Frequency",null,"Relative Frequency","Variability",null,null,"Frequency",null,"Relative Frequency","Variability",null,"Frequency",null,"Relative Frequency","Variability",null,"Frequency",null,"Relative Frequency","Variability",null,"Frequency",null,"Relative Frequency","Variability",null,"Frequency",null,"Relative Frequency","Variability",null,"Frequency",null,"Relative Frequency","Variability"]
[21,7,21,16,22,23,23,30,null,null,0,2222,null,1111,{"$f":"COUNTIF($L$7:$L$500,N7)","v":0},{"$f":"O7/$Q$4","v":0},{"$f":"IF(P7=0,0,(P7*((LOG(P7))/LOG(2))))","v":0},null,null,{"$f":"N7","v":1111},{"$f":"COUNTIF(L7:L32,T7)","v":0},{"$f":"U7/(W4-U20)","v":0},{"$f":"IF(V7=0,0,(V7*((LOG(V7))/LOG(2))))","v":0},null,{"$f":"N7","v":1111},{"$f":"COUNTIF(L33:L57,Y7)","v":0},{"$f":"Z7/(AB4-Z20)","v":0},{"$f":"IF(AA7=0,0,(AA7*((LOG(AA7))/LOG(2))))","v":0},null,{"$f":"N7","v":1111},{"$f":"COUNTIF(L58:L83,AD7)","v":0},{"$f":"AE7/(AG4-AE20)","v":0},{"$f":"IF(AF7=0,0,(AF7*((LOG(AF7))/LOG(2))))","v":0},null,{"$f":"N7","v":1111},{"$f":"COUNTIF(L84:L108,AI7)","v":0},{"$f":"AJ7/(AL4-AJ20)","v":0},{"$f":"IF(AK7=0,0,(AK7*((LOG(AK7))/LOG(2))))","v":0},null,{"$f":"N7","v":1111},{"$f":"COUNTIF(L109:L134,AN7)","v":0},{"$f":"AO7/(AQ4-AO20)","v":0},{"$f":"IF(AP7=0,0,(AP7*((LOG(AP7))/LOG(2))))","v":0},null,{"$f":"N7","v":1111},{"$f":"COUNTIF(L135:L159,AS7)","v":0},{"$f":"AT7/(AV4-AT20)","v":0},{"$f":"IF(AU7=0,0,(AU7*((LOG(AU7))/LOG(2))))","v":0}]
[12,126,23,132,24,140,23,147,null,null,0,1222,null,1112,{"$f":"COUNTIF($L$7:$L$500,N8)","v":0},{"$f":"O8/$Q$4","v":0},{"$f":"IF(P8=0,0,(P8*((LOG(P8))/LOG(2))))","v":0},null,null,{"$f":"N8","v":1112},{"$f":"COUNTIF(L7:L32,T8)","v":0},{"$f":"U8/(W4-U20)","v":0},{"$f":"IF(V8=0,0,(V8*((LOG(V8))/LOG(2))))","v":0},null,{"$f":"N8","v":1112},{"$f":"COUNTIF(L33:L57,Y8)","v":0},{"$f":"Z8/(AB4-Z20)","v":0},{"$f":"IF(AA8=0,0,(AA8*((LOG(AA8))/LOG(2))))","v":0},null,{"$f":"N8","v":1112},{"$f":"COUNTIF(L58:L83,AD8)","v":0},{"$f":"AE8/(AG4-AE20)","v":0},{"$f":"IF(AF8=0,0,(AF8*((LOG(AF8))/LOG(2))))","v":0},null,{"$f":"N8","v":1112},{"$f":"COUNTIF(L84:L108,AI8)","v":0},{"$f":"AJ8/(AL4-AJ20)","v":0},{"$f":"IF(AK8=0,0,(AK8*((LOG(AK8))/LOG(2))))","v":0},null,{"$f":"N8","v":1112},{"$f":"COUNTIF(L109:L134,AN8)","v":0},{"$f":"AO8/(AQ4-AO20)","v":0},{"$f":"IF(AP8=0,0,(AP8*((LOG(AP8))/LOG(2))))","v":0},null,{"$f":"N8","v":1112},{"$f":"COUNTIF(L135:L159,AS8)","v":0},{"$f":"AT8/(AV4-AT20)","v":0},{"$f":"IF(AU8=0,0,(AU8*((LOG(AU8))/LOG(2))))","v":0}]
[21,242,12,250,24,252,23,258,null,null,0,2122,null,1121,{"$f":"COUNTIF($L$7:$L$500,N9)","v":0},{"$f":"O9/$Q$4","v":0},{"$f":"IF(P9=0,0,(P9*((LOG(P9))/LOG(2))))","v":0},null,null,{"$f":"N9","v":1121},{"$f":"COUNTIF(L7:L32,T9)","v":0},{"$f":"U9/(W4-U20)","v":0},{"$f":"IF(V9=0,0,(V9*((LOG(V9))/LOG(2))))","v":0},null,{"$f":"N9","v":1121},{"$f":"COUNTIF(L33:L57,Y9)","v":0},{"$f":"Z9/(AB4-Z20)","v":0},{"$f":"IF(AA9=0,0,(AA9*((LOG(AA9))/LOG(2))))","v":0},null,{"$f":"N9","v":1121},{"$f":"COUNTIF(L58:L83,AD9)","v":0},{"$f":"AE9/(AG4-AE20)","v":0},{"$f":"IF(AF9=0,0,(AF9*((LOG(AF9))/LOG(2))))","v":0},null,{"$f":"N9","v":1121},{"$f":"COUNTIF(L84:L108,AI9)","v":0},{"$f":"AJ9/(AL4-AJ20)","v":0},{"$f":"IF(AK9=0,0,(AK9*((LOG(AK9))/LOG(2))))","v":0},null,{"$f":"N9","v":1121},{"$f":"COUNTIF(L109:L134,AN9)","v":0},{"$f":"AO9/(AQ4-AO20)","v":0},{"$f":"IF(AP9=0,0,(AP9*((LOG(AP9))/LOG(2))))","v":0},null,{"$f":"N9","v":1121},{"$f":"COUNTIF(L135:L159,AS9)","v":0},{"$f":"AT9/(AV4-AT20)","v":0},{"$f":"IF(AU9=0,0,(AU9*((LOG(AU9))/LOG(2))))","v":0}]
[21,354,21,361,11,374,21,379,null,null,0,2212,null,1122,{"$f":"COUNTIF($L$7:$L$500,N10)","v":1},{"$f":"O10/$Q$4","v":6.5359477124183009E-3},{"$f":"IF(P10=0,0,(P10*((LOG(P10))/LOG(2))))","v":-4.743390746857943E-2},null,null,{"$f":"N10","v":1122},{"$f":"COUNTIF(L7:L32,T10)","v":0},{"$f":"U10/(W4-U20)","v":0},{"$f":"IF(V10=0,0,(V10*((LOG(V10))/LOG(2))))","v":0},null,{"$f":"N10","v":1122},{"$f":"COUNTIF(L33:L57,Y10)","v":0},{"$f":"Z10/(AB4-Z20)","v":0},{"$f":"IF(AA10=0,0,(AA10*((LOG(AA10))/LOG(2))))","v":0},null,{"$f":"N10","v":1122},{"$f":"COUNTIF(L58:L83,AD10)","v":1},{"$f":"AE10/(AG4-AE20)","v":0.05},{"$f":"IF(AF10=0,0,(AF10*((LOG(AF10))/LOG(2))))","v":-0.21609640474436814},null,{"$f":"N10","v":1122},{"$f":"COUNTIF(L84:L108,AI10)","v":0},{"$f":"AJ10/(AL4-AJ20)","v":0},{"$f":"IF(AK10=0,0,(AK10*((LOG(AK10))/LOG(2))))","v":0},null,{"$f":"N10","v":1122},{"$f":"COUNTIF(L109:L134,AN10)","v":0},{"$f":"AO10/(AQ4-AO20)","v":0},{"$f":"IF(AP10=0,0,(AP10*((LOG(AP10))/LOG(2))))","v":0},null,{"$f":"N10","v":1122},{"$f":"COUNTIF(L135:L159,AS10)","v":0},{"$f":"AT10/(AV4-AT20)","v":0},{"$f":"IF(AU10=0,0,(AU10*((LOG(AU10))/LOG(2))))","v":0}]
[21,501,21,508,22,515,23,522,null,null,0,2222,null,1211,{"$f":"COUNTIF($L$7:$L$500,N11)","v":0},{"$f":"O11/$Q$4","v":0},{"$f":"IF(P11=0,0,(P11*((LOG(P11))/LOG(2))))","v":0},null,null,{"$f":"N11","v":1211},{"$f":"COUNTIF(L7:L32,T11)","v":0},{"$f":"U11/(W4-U20)","v":0},{"$f":"IF(V11=0,0,(V11*((LOG(V11))/LOG(2))))","v":0},null,{"$f":"N11","v":1211},{"$f":"COUNTIF(L33:L57,Y11)","v":0},{"$f":"Z11/(AB4-Z20)","v":0},{"$f":"IF(AA11=0,0,(AA11*((LOG(AA11))/LOG(2))))","v":0},null,{"$f":"N11","v":1211},{"$f":"COUNTIF(L58:L83,AD11)","v":0},{"$f":"AE11/(AG4-AE20)","v":0},{"$f":"IF(AF11=0,0,(AF11*((LOG(AF11))/LOG(2))))","v":0},null,{"$f":"N11","v":1211},{"$f":"COUNTIF(L84:L108,AI11)","v":0},{"$f":"AJ11/(AL4-AJ20)","v":0},{"$f":"IF(AK11=0,0,(AK11*((LOG(AK11))/LOG(2))))","v":0},null,{"$f":"N11","v":1211},{"$f":"COUNTIF(L109:L134,AN11)","v":0},{"$f":"AO11/(AQ4-AO20)","v":0},{"$f":"IF(AP11=0,0,(AP11*((LOG(AP11))/LOG(2))))","v":0},null,{"$f":"N11","v":1211},{"$f":"COUNTIF(L135:L159,AS11)","v":0},{"$f":"AT11/(AV4-AT20)","v":0},{"$f":"IF(AU11=0,0,(AU11*((LOG(AU11))/LOG(2))))","v":0}]
[12,653,23,663,24,666,23,671,null,null,0,1222,null,1212,{"$f":"COUNTIF($L$7:$L$500,N12)","v":4},{"$f":"O12/$Q$4","v":2.6143790849673203E-2},{"$f":"IF(P12=0,0,(P12*((LOG(P12))/LOG(2))))","v":-0.13744804817497128},null,null,{"$f":"N12","v":1212},{"$f":"COUNTIF(L7:L32,T12)","v":0},{"$f":"U12/(W4-U20)","v":0},{"$f":"IF(V12=0,0,(V12*((LOG(V12))/LOG(2))))","v":0},null,{"$f":"N12","v":1212},{"$f":"COUNTIF(L33:L57,Y12)","v":2},{"$f":"Z12/(AB4-Z20)","v":9.5238095238095233E-2},{"$f":"IF(AA12=0,0,(AA12*((LOG(AA12))/LOG(2))))","v":-0.32307784978845333},null,{"$f":"N12","v":1212},{"$f":"COUNTIF(L58:L83,AD12)","v":0},{"$f":"AE12/(AG4-AE20)","v":0},{"$f":"IF(AF12=0,0,(AF12*((LOG(AF12))/LOG(2))))","v":0},null,{"$f":"N12","v":1212},{"$f":"COUNTIF(L84:L108,AI12)","v":0},{"$f":"AJ12/(AL4-AJ20)","v":0},{"$f":"IF(AK12=0,0,(AK12*((LOG(AK12))/LOG(2))))","v":0},null,{"$f":"N12","v":1212},{"$f":"COUNTIF(L109:L134,AN12)","v":2},{"$f":"AO12/(AQ4-AO20)","v":8.3333333333333329E-2},{"$f":"IF(AP12=0,0,(AP12*((LOG(AP12))/LOG(2))))","v":-0.29874687506009634},null,{"$f":"N12","v":1212},{"$f":"COUNTIF(L135:L159,AS12)","v":0},{"$f":"AT12/(AV4-AT20)","v":0},{"$f":"IF(AU12=0,0,(AU12*((LOG(AU12))/LOG(2))))","v":0}]
[21,1131,21,1139,22,1168,23,1185,null,null,0,2222,null,1221,{"$f":"COUNTIF($L$7:$L$500,N13)","v":2},{"$f":"O13/$Q$4","v":1.3071895424836602E-2},{"$f":"IF(P13=0,0,(P13*((LOG(P13))/LOG(2))))","v":-8.1795919512322249E-2},null,null,{"$f":"N13","v":1221},{"$f":"COUNTIF(L7:L32,T13)","v":0},{"$f":"U13/(W4-U20)","v":0},{"$f":"IF(V13=0,0,(V13*((LOG(V13))/LOG(2))))","v":0},null,{"$f":"N13","v":1221},{"$f":"COUNTIF(L33:L57,Y13)","v":0},{"$f":"Z13/(AB4-Z20)","v":0},{"$f":"IF(AA13=0,0,(AA13*((LOG(AA13))/LOG(2))))","v":0},null,{"$f":"N13","v":1221},{"$f":"COUNTIF(L58:L83,AD13)","v":0},{"$f":"AE13/(AG4-AE20)","v":0},{"$f":"IF(AF13=0,0,(AF13*((LOG(AF13))/LOG(2))))","v":0},null,{"$f":"N13","v":1221},{"$f":"COUNTIF(L84:L108,AI13)","v":1},{"$f":"AJ13/(AL4-AJ20)","v":4.5454545454545456E-2},{"$f":"IF(AK13=0,0,(AK13*((LOG(AK13))/LOG(2))))","v":-0.20270143721078623},null,{"$f":"N13","v":1221},{"$f":"COUNTIF(L109:L134,AN13)","v":1},{"$f":"AO13/(AQ4-AO20)","v":4.1666666666666664E-2},{"$f":"IF(AP13=0,0,(AP13*((LOG(AP13))/LOG(2))))","v":-0.19104010419671485},null,{"$f":"N13","v":1221},{"$f":"COUNTIF(L135:L159,AS13)","v":0},{"$f":"AT13/(AV4-AT20)","v":0},{"$f":"IF(AU13=0,0,(AU13*((LOG(AU13))/LOG(2))))","v":0}]
[21,1280,12,1282,24,1285,23,1298,null,null,0,2122,null,1222,{"$f":"COUNTIF($L$7:$L$500,N14)","v":17},{"$f":"O14/$Q$4","v":0.1111111111111111},{"$f":"IF(P14=0,0,(P14*((LOG(P14))/LOG(2))))","v":-0.3522138890491458},null,null,{"$f":"N14","v":1222},{"$f":"COUNTIF(L7:L32,T14)","v":5},{"$f":"U14/(W4-U20)","v":0.23809523809523808},{"$f":"IF(V14=0,0,(V14*((LOG(V14))/LOG(2))))","v":-0.49294983997414238},null,{"$f":"N14","v":1222},{"$f":"COUNTIF(L33:L57,Y14)","v":2},{"$f":"Z14/(AB4-Z20)","v":9.5238095238095233E-2},{"$f":"IF(AA14=0,0,(AA14*((LOG(AA14))/LOG(2))))","v":-0.32307784978845333},null,{"$f":"N14","v":1222},{"$f":"COUNTIF(L58:L83,AD14)","v":2},{"$f":"AE14/(AG4-AE20)","v":0.1},{"$f":"IF(AF14=0,0,(AF14*((LOG(AF14))/LOG(2))))","v":-0.33219280948873625},null,{"$f":"N14","v":1222},{"$f":"COUNTIF(L84:L108,AI14)","v":3},{"$f":"AJ14/(AL4-AJ20)","v":0.13636363636363635},{"$f":"IF(AK14=0,0,(AK14*((LOG(AK14))/LOG(2))))","v":-0.39197306153401923},null,{"$f":"N14","v":1222},{"$f":"COUNTIF(L109:L134,AN14)","v":3},{"$f":"AO14/(AQ4-AO20)","v":0.125},{"$f":"IF(AP14=0,0,(AP14*((LOG(AP14))/LOG(2))))","v":-0.375},null,{"$f":"N14","v":1222},{"$f":"COUNTIF(L135:L159,AS14)","v":2},{"$f":"AT14/(AV4-AT20)","v":0.1},{"$f":"IF(AU14=0,0,(AU14*((LOG(AU14))/LOG(2))))","v":-0.33219280948873625}]
[12,1392,23,1405,24,1409,23,1416,null,null,0,1222,null,2111,{"$f":"COUNTIF($L$7:$L$500,N15)","v":0},{"$f":"O15/$Q$4","v":0},{"$f":"IF(P15=0,0,(P15*((LOG(P15))/LOG(2))))","v":0},null,null,{"$f":"N15","v":2111},{"$f":"COUNTIF(L7:L32,T15)","v":0},{"$f":"U15/(W4-U20)","v":0},{"$f":"IF(V15=0,0,(V15*((LOG(V15))/LOG(2))))","v":0},null,{"$f":"N15","v":2111},{"$f":"COUNTIF(L33:L57,Y15)","v":0},{"$f":"Z15/(AB4-Z20)","v":0},{"$f":"IF(AA15=0,0,(AA15*((LOG(AA15))/LOG(2))))","v":0},null,{"$f":"N15","v":2111},{"$f":"COUNTIF(L58:L83,AD15)","v":0},{"$f":"AE15/(AG4-AE20)","v":0},{"$f":"IF(AF15=0,0,(AF15*((LOG(AF15))/LOG(2))))","v":0},null,{"$f":"N15","v":2111},{"$f":"COUNTIF(L84:L108,AI15)","v":0},{"$f":"AJ15/(AL4-AJ20)","v":0},{"$f":"IF(AK15=0,0,(AK15*((LOG(AK15))/LOG(2))))","v":0},null,{"$f":"N15","v":2111},{"$f":"COUNTIF(L109:L134,AN15)","v":0},{"$f":"AO15/(AQ4-AO20)","v":0},{"$f":"IF(AP15=0,0,(AP15*((LOG(AP15))/LOG(2))))","v":0},null,{"$f":"N15","v":2111},{"$f":"COUNTIF(L135:L159,AS15)","v":0},{"$f":"AT15/(AV4-AT20)","v":0},{"$f":"IF(AU15=0,0,(AU15*((LOG(AU15))/LOG(2))))","v":0}]
[12,1508,23,1515,24,1521,23,1528,null,null,0,1222,null,2112,{"$f":"COUNTIF($L$7:$L$500,N16)","v":3},{"$f":"O16/$Q$4","v":1.9607843137254902E-2},{"$f":"IF(P16=0,0,(P16*((LOG(P16))/LOG(2))))","v":-0.11122402631316657},null,null,{"$f":"N16","v":2112},{"$f":"COUNTIF(L7:L32,T16)","v":0},{"$f":"U16/(W4-U20)","v":0},{"$f":"IF(V16=0,0,(V16*((LOG(V16))/LOG(2))))","v":0},null,{"$f":"N16","v":2112},{"$f":"COUNTIF(L33:L57,Y16)","v":0},{"$f":"Z16/(AB4-Z20)","v":0},{"$f":"IF(AA16=0,0,(AA16*((LOG(AA16))/LOG(2))))","v":0},null,{"$f":"N16","v":2112},{"$f":"COUNTIF(L58:L83,AD16)","v":0},{"$f":"AE16/(AG4-AE20)","v":0},{"$f":"IF(AF16=0,0,(AF16*((LOG(AF16))/LOG(2))))","v":0},null,{"$f":"N16","v":2112},{"$f":"COUNTIF(L84:L108,AI16)","v":1},{"$f":"AJ16/(AL4-AJ20)","v":4.5454545454545456E-2},{"$f":"IF(AK16=0,0,(AK16*((LOG(AK16))/LOG(2))))","v":-0.20270143721078623},null,{"$f":"N16","v":2112},{"$f":"COUNTIF(L109:L134,AN16)","v":2},{"$f":"AO16/(AQ4-AO20)","v":8.3333333333333329E-2},{"$f":"IF(AP16=0,0,(AP16*((LOG(AP16))/LOG(2))))","v":-0.29874687506009634},null,{"$f":"N16","v":2112},{"$f":"COUNTIF(L135:L159,AS16)","v":0},{"$f":"AT16/(AV4-AT20)","v":0},{"$f":"IF(AU16=0,0,(AU16*((LOG(AU16))/LOG(2))))","v":0}]
[21,1623,21,1625,11,1632,21,1634,null,null,0,2212,null,2121,{"$f":"COUNTIF($L$7:$L$500,N17)","v":0},{"$f":"O17/$Q$4","v":0},{"$f":"IF(P17=0,0,(P17*((LOG(P17))/LOG(2))))","v":0},null,null,{"$f":"N17","v":2121},{"$f":"COUNTIF(L7:L32,T17)","v":0},{"$f":"U17/(W4-U20)","v":0},{"$f":"IF(V17=0,0,(V17*((LOG(V17))/LOG(2))))","v":0},null,{"$f":"N17","v":2121},{"$f":"COUNTIF(L33:L57,Y17)","v":0},{"$f":"Z17/(AB4-Z20)","v":0},{"$f":"IF(AA17=0,0,(AA17*((LOG(AA17))/LOG(2))))","v":0},null,{"$f":"N17","v":2121},{"$f":"COUNTIF(L58:L83,AD17)","v":0},{"$f":"AE17/(AG4-AE20)","v":0},{"$f":"IF(AF17=0,0,(AF17*((LOG(AF17))/LOG(2))))","v":0},null,{"$f":"N17","v":2121},{"$f":"COUNTIF(L84:L108,AI17)","v":0},{"$f":"AJ17/(AL4-AJ20)","v":0},{"$f":"IF(AK17=0,0,(AK17*((LOG(AK17))/LOG(2))))","v":0},null,{"$f":"N17","v":2121},{"$f":"COUNTIF(L109:L134,AN17)","v":0},{"$f":"AO17/(AQ4-AO20)","v":0},{"$f":"IF(AP17=0,0,(AP17*((LOG(AP17))/LOG(2))))","v":0},null,{"$f":"N17","v":2121},{"$f":"COUNTIF(L135:L159,AS17)","v":0},{"$f":"AT17/(AV4-AT20)","v":0},{"$f":"IF(AU17=0,0,(AU17*((LOG(AU17))/LOG(2))))","v":0}]
[21,1723,12,1728,24,1737,23,1747,null,null,0,2122,null,2122,{"$f":"COUNTIF($L$7:$L$500,N18)","v":21},{"$f":"O18/$Q$4","v":0.13725490196078433},{"$f":"IF(P18=0,0,(P18*((LOG(P18))/LOG(2))))","v":-0.39324495959602429},null,null,{"$f":"N18","v":2122},{"$f":"COUNTIF(L7:L32,T18)","v":4},{"$f":"U18/(W4-U20)","v":0.19047619047619047},{"$f":"IF(V18=0,0,(V18*((LOG(V18))/LOG(2))))","v":-0.4556795091007162},null,{"$f":"N18","v":2122},{"$f":"COUNTIF(L33:L57,Y18)","v":2},{"$f":"Z18/(AB4-Z20)","v":9.5238095238095233E-2},{"$f":"IF(AA18=0,0,(AA18*((LOG(AA18))/LOG(2))))","v":-0.32307784978845333},null,{"$f":"N18","v":2122},{"$f":"COUNTIF(L58:L83,AD18)","v":4},{"$f":"AE18/(AG4-AE20)","v":0.2},{"$f":"IF(AF18=0,0,(AF18*((LOG(AF18))/LOG(2))))","v":-0.46438561897747244},null,{"$f":"N18","v":2122},{"$f":"COUNTIF(L84:L108,AI18)","v":4},{"$f":"AJ18/(AL4-AJ20)","v":0.18181818181818182},{"$f":"IF(AK18=0,0,(AK18*((LOG(AK18))/LOG(2))))","v":-0.44716938520678134},null,{"$f":"N18","v":2122},{"$f":"COUNTIF(L109:L134,AN18)","v":2},{"$f":"AO18/(AQ4-AO20)","v":8.3333333333333329E-2},{"$f":"IF(AP18=0,0,(AP18*((LOG(AP18))/LOG(2))))","v":-0.29874687506009634},null,{"$f":"N18","v":2122},{"$f":"COUNTIF(L135:L159,AS18)","v":5},{"$f":"AT18/(AV4-AT20)","v":0.25},{"$f":"IF(AU18=0,0,(AU18*((LOG(AU18))/LOG(2))))","v":-0.5}]
[21,1839,21,1846,11,1852,21,1856,null,null,0,2212,null,2211,{"$f":"COUNTIF($L$7:$L$500,N19)","v":1},{"$f":"O19/$Q$4","v":6.5359477124183009E-3},{"$f":"IF(P19=0,0,(P19*((LOG(P19))/LOG(2))))","v":-4.743390746857943E-2},null,null,{"$f":"N19","v":2211},{"$f":"COUNTIF(L7:L32,T19)","v":0},{"$f":"U19/(W4-U20)","v":0},{"$f":"IF(V19=0,0,(V19*((LOG(V19))/LOG(2))))","v":0},null,{"$f":"N19","v":2211},{"$f":"COUNTIF(L33:L57,Y19)","v":0},{"$f":"Z19/(AB4-Z20)","v":0},{"$f":"IF(AA19=0,0,(AA19*((LOG(AA19))/LOG(2))))","v":0},null,{"$f":"N19","v":2211},{"$f":"COUNTIF(L58:L83,AD19)","v":0},{"$f":"AE19/(AG4-AE20)","v":0},{"$f":"IF(AF19=0,0,(AF19*((LOG(AF19))/LOG(2))))","v":0},null,{"$f":"N19","v":2211},{"$f":"COUNTIF(L84:L108,AI19)","v":1},{"$f":"AJ19/(AL4-AJ20)","v":4.5454545454545456E-2},{"$f":"IF(AK19=0,0,(AK19*((LOG(AK19))/LOG(2))))","v":-0.20270143721078623},null,{"$f":"N19","v":2211},{"$f":"COUNTIF(L109:L134,AN19)","v":0},{"$f":"AO19/(AQ4-AO20)","v":0},{"$f":"IF(AP19=0,0,(AP19*((LOG(AP19))/LOG(2))))","v":0},null,{"$f":"N19","v":2211},{"$f":"COUNTIF(L135:L159,AS19)","v":0},{"$f":"AT19/(AV4-AT20)","v":0},{"$f":"IF(AU19=0,0,(AU19*((LOG(AU19))/LOG(2))))","v":0}]
[12,2159,23,2170,24,2191,23,2201,null,null,0,1222,null,2212,{"$f":"COUNTIF($L$7:$L$500,N20)","v":25},{"$f":"O20/$Q$4","v":0.16339869281045752},{"$f":"IF(P20=0,0,(P20*((LOG(P20))/LOG(2))))","v":-0.42704765570554359},null,null,{"$f":"N20","v":2212},{"$f":"COUNTIF(L7:L32,T20)","v":5},null,null,null,{"$f":"N20","v":2212},{"$f":"COUNTIF(L33:L57,Y20)","v":4},null,null,null,{"$f":"N20","v":2212},{"$f":"COUNTIF(L58:L83,AD20)","v":6},null,null,null,{"$f":"N20","v":2212},{"$f":"COUNTIF(L84:L108,AI20)","v":3},null,null,null,{"$f":"N20","v":2212},{"$f":"COUNTIF(L109:L134,AN20)","v":2},null,null,null,{"$f":"N20","v":2212},{"$f":"COUNTIF(L135:L159,AS20)","v":5}]
[21,2297,21,2312,22,2326,23,2334,null,null,0,2222,null,2221,{"$f":"COUNTIF($L$7:$L$500,N21)","v":8},{"$f":"O21/$Q$4","v":5.2287581699346407E-2},{"$f":"IF(P21=0,0,(P21*((LOG(P21))/LOG(2))))","v":-0.22260851465059614},null,null,{"$f":"N21","v":2221},{"$f":"COUNTIF(L7:L32,T21)","v":1},{"$f":"U21/(W4-U20)","v":4.7619047619047616E-2},{"$f":"IF(V21=0,0,(V21*((LOG(V21))/LOG(2))))","v":-0.20915797251327431},null,{"$f":"N21","v":2221},{"$f":"COUNTIF(L33:L57,Y21)","v":1},{"$f":"Z21/(AB4-Z20)","v":4.7619047619047616E-2},{"$f":"IF(AA21=0,0,(AA21*((LOG(AA21))/LOG(2))))","v":-0.20915797251327431},null,{"$f":"N21","v":2221},{"$f":"COUNTIF(L58:L83,AD21)","v":2},{"$f":"AE21/(AG4-AE20)","v":0.1},{"$f":"IF(AF21=0,0,(AF21*((LOG(AF21))/LOG(2))))","v":-0.33219280948873625},null,{"$f":"N21","v":2221},{"$f":"COUNTIF(L84:L108,AI21)","v":0},{"$f":"AJ21/(AL4-AJ20)","v":0},{"$f":"IF(AK21=0,0,(AK21*((LOG(AK21))/LOG(2))))","v":0},null,{"$f":"N21","v":2221},{"$f":"COUNTIF(L109:L134,AN21)","v":2},{"$f":"AO21/(AQ4-AO20)","v":8.3333333333333329E-2},{"$f":"IF(AP21=0,0,(AP21*((LOG(AP21))/LOG(2))))","v":-0.29874687506009634},null,{"$f":"N21","v":2221},{"$f":"COUNTIF(L135:L159,AS21)","v":2},{"$f":"AT21/(AV4-AT20)","v":0.1},{"$f":"IF(AU21=0,0,(AU21*((LOG(AU21))/LOG(2))))","v":-0.33219280948873625}]
[21,2434,21,2441,22,2446,23,2455,null,null,0,2222,null,2222,{"$f":"COUNTIF($L$7:$L$500,N22)","v":71},{"$f":"O22/$Q$4","v":0.46405228758169936},{"$f":"IF(P22=0,0,(P22*((LOG(P22))/LOG(2))))","v":-0.51400321141402516},null,null,{"$f":"N22","v":2222},{"$f":"COUNTIF(L7:L32,T22)","v":11},{"$f":"U22/(W4-U20)","v":0.52380952380952384},{"$f":"IF(V22=0,0,(V22*((LOG(V22))/LOG(2))))","v":-0.4886544688360045},null,{"$f":"N22","v":2222},{"$f":"COUNTIF(L33:L57,Y22)","v":14},{"$f":"Z22/(AB4-Z20)","v":0.66666666666666663},{"$f":"IF(AA22=0,0,(AA22*((LOG(AA22))/LOG(2))))","v":-0.38997500048077083},null,{"$f":"N22","v":2222},{"$f":"COUNTIF(L58:L83,AD22)","v":11},{"$f":"AE22/(AG4-AE20)","v":0.55000000000000004},{"$f":"IF(AF22=0,0,(AF22*((LOG(AF22))/LOG(2))))","v":-0.47437306193753576},null,{"$f":"N22","v":2222},{"$f":"COUNTIF(L84:L108,AI22)","v":12},{"$f":"AJ22/(AL4-AJ20)","v":0.54545454545454541},{"$f":"IF(AK22=0,0,(AK22*((LOG(AK22))/LOG(2))))","v":-0.47698315522698609},null,{"$f":"N22","v":2222},{"$f":"COUNTIF(L109:L134,AN22)","v":12},{"$f":"AO22/(AQ4-AO20)","v":0.5},{"$f":"IF(AP22=0,0,(AP22*((LOG(AP22))/LOG(2))))","v":-0.5},null,{"$f":"N22","v":2222},{"$f":"COUNTIF(L135:L159,AS22)","v":11},{"$f":"AT22/(AV4-AT20)","v":0.55000000000000004},{"$f":"IF(AU22=0,0,(AU22*((LOG(AU22))/LOG(2))))","v":-0.47437306193753576}]
[21,2550,21,2558,22,2566,14,2572,null,null,0,2221,null,null,null,{"$f":"SUM(P7:P22)","v":1},{"$f":"-SUM(Q7:Q22)","v":2.3344540393529538},null,null,null,null,{"$f":"SUM(V7:V22)","v":1},{"$f":"-SUM(W7:W22)","v":1.6464417904241375},null,null,null,{"$f":"SUM(AA7:AA22)","v":1},{"$f":"-SUM(AB7:AB22)","v":1.5683665223594052},null,null,null,{"$f":"SUM(AF7:AF22)","v":1},{"$f":"-SUM(AG7:AG22)","v":1.8192407046368488},null,null,null,{"$f":"SUM(AK7:AK22)","v":1},{"$f":"-SUM(AL7:AL22)","v":1.9242299136001455},null,null,null,{"$f":"SUM(AP7:AP22)","v":1},{"$f":"-SUM(AQ7:AQ22)","v":2.2610276044371003},null,null,null,{"$f":"SUM(AU7:AU22)","v":1},{"$f":"-SUM(AV7:AV22)","v":1.6387586809150083}]
[21,2667,21,2673,22,2681,23,2688,null,null,0,2222,null,null,null,"U=",{"$f":"Q23/(LOG(Q4)/LOG(2))","v":0.32166587895718957},null,null,null,null,"U1=",{"$f":"W23/(LOG(W4)/LOG(2))","v":0.35027399331806869},null,null,null,"U2=",{"$f":"AB23/(LOG(AB4)/LOG(2))","v":0.33772934782364289},null,null,null,"U3=",{"$f":"AG23/(LOG(AG4)/LOG(2))","v":0.38703628037512922},null,null,null,"U4=",{"$f":"AL23/(LOG(AL4)/LOG(2))","v":0.41436035806558652},null,null,null,"U5=",{"$f":"AQ23/(LOG(AQ4)/LOG(2))","v":0.48102469981920776},null,null,null,"U6=",{"$f":"AV23/(LOG(AV4)/LOG(2))","v":0.35288747410468474}]
[21,2783,21,2787,22,2792,23,2799,null,null,0,2222]
[21,2891,12,2896,24,2902,23,2909,null,null,0,2122]
[21,3006,21,3010,11,3014,21,3016,null,null,0,2212,null,"Total Target Seq"]
[21,3642,21,3646,22,3651,23,3658,null,null,0,2222,null,{"$f":"COUNTIF(L7:L159,G3)","v":25},null,26,25,26,25,26,25]
[21,3761,21,3766,22,3772,23,3780,null,null,0,2222,null,null,null,"% of reinforcement given in 6 equal intervals based on number of trials "]
[21,3878,21,3883,22,3891,23,3901,null,null,0,2222,null,null,null,"%_1","%_2","%_3","%_4","%_5","%_6"]
[21,3994,21,3999,22,4006,23,4018,null,null,0,2222,null,null,"target sequence",{"$f":"$G$3","v":2212},{"$f":"$G$3","v":2212},{"$f":"$G$3","v":2212},{"$f":"$G$3","v":2212},{"$f":"$G$3","v":2212},{"$f":"$G$3","v":2212}]
[21,4114,21,4118,11,4122,21,4134,null,null,0,2212,null,null,"total reinforcement",{"$f":"U20","v":5},{"$f":"Z20","v":4},{"$f":"AE20","v":6},{"$f":"AJ20","v":3},{"$f":"AO20","v":2},{"$f":"AT20","v":5}]
[21,4279,21,4284,22,4291,23,4304,null,null,0,2222,null,null,"% target"]
[21,4401,21,4406,11,4409,21,4416,null,null,0,2212,null,null,"CCRF"]
[21,4605,21,4607,22,4619,23,4628,null,null,0,2222,null,null,"% CCRf"]
[12,4720,23,4728,13,4730,23,4735,null,null,0,1212,null,null,"average response rate",{"$f":"H32/P28","v":159},{"$f":"(H57-H32)/Q28","v":162.63999999999999},{"$f":"(H83-H57)/R28","v":206.15384615384616},{"$f":"(H108-H83)/S28","v":136.96},{"$f":"(H134-H108)/T28","v":134.07692307692307},{"$f":"(H159-H134)/U28","v":140.32}]
[21,4831,21,4838,11,4840,21,4851,null,null,0,2212]
[21,5081,21,5085,22,5104,23,5115,null,null,0,2222]
[21,5226,21,5236,22,5244,23,5259,null,null,0,2222]
[21,5354,21,5362,22,5378,23,5391,null,null,0,2222]
[21,5485,21,5492,22,5502,23,5511,null,null,0,2222]
[21,5608,21,5613,11,5616,21,5638,null,null,0,2212]
[21,5786,21,5792,22,5798,23,5811,null,null,0,2222]
[21,5906,21,5912,22,5923,23,5929,null,null,0,2222]
[21,6027,21,6034,22,6044,23,6055,null,null,0,2222]
[21,6150,21,6168,22,6188,23,6199,null,null,0,2222]
[21,6291,12,6295,24,6299,23,6308,null,null,0,2122]
[21,6403,21,6417,22,6424,23,6432,null,null,0,2222]
[12,6529,23,6532,13,6535,23,6540,null,null,0,1212]
[21,6634,21,6641,22,6650,23,6659,null,null,0,2222]
[12,6755,23,6772,24,6780,23,6789,null,null,0,1222]
[21,6884,21,6889,11,6891,21,6894,null,null,0,2212]
[21,7690,21,7697,22,7705,14,7708,null,null,0,2221]
[21,7817,12,7826,24,7841,23,7849,null,null,0,2122]
[21,7942,21,7948,22,7956,23,7965,null,null,0,2222]
[21,8059,21,8066,22,8076,23,8084,null,null,0,2222]
[12,8179,23,8185,24,8196,23,8200,null,null,0,1222]
[21,8293,21,8300,22,8308,23,8315,null,null,0,2222]
[21,8407,21,8413,11,8418,21,8423,null,null,0,2212]
[21,9946,12,9955,24,9972,23,9979,null,null,0,2122]
[21,10073,21,10078,22,10089,23,10097,null,null,0,2222]
[21,10191,21,10196,22,10204,23,10213,null,null,0,2222]
[21,10306,21,10312,22,10323,23,10331,null,null,0,2222]
[21,10423,21,10431,22,10438,23,10447,null,null,0,2222]
[21,10539,21,10543,22,10549,14,10553,null,null,0,2221]
[21,10653,21,10663,22,10672,14,10678,null,null,0,2221]
[21,10773,12,10776,24,10788,23,10795,null,null,0,2122]
[21,10887,21,10891,22,10899,23,10907,null,null,0,2222]
[21,11004,21,11009,11,11014,21,11021,null,null,0,2212]
[21,11126,21,11130,11,11137,21,11140,null,null,0,2212]
[21,11328,21,11334,22,11348,23,11355,null,null,0,2222]
[21,11450,21,11456,22,11462,23,11469,null,null,0,2222]
[21,11562,12,11565,24,11567,23,11573,null,null,0,2122]
[12,11666,23,11674,24,11682,23,11691,null,null,0,1222]
[21,11786,21,11790,11,11792,21,11794,null,null,0,2212]
[12,12615,14,12627,24,12636,23,12647,null,null,0,1122]
[21,12741,12,12745,24,12747,23,12755,null,null,0,2122]
[21,12856,21,12863,11,12866,21,12887,null,null,0,2212]
[12,13025,23,13035,24,13048,23,13063,null,null,0,1222]
[21,13164,21,13169,22,13175,23,13184,null,null,0,2222]
[21,13279,21,13283,11,13286,21,13289,null,null,0,2212]
[21,13416,21,13421,22,13425,23,13438,null,null,0,2222]
[21,13538,21,13543,22,13548,23,13560,null,null,0,2222]
[21,13659,21,13670,22,13678,23,13687,null,null,0,2222]
[21,13780,21,13785,11,13789,21,13800,null,null,0,2212]
[21,14028,12,14045,24,14064,23,14072,null,null,0,2122]
[21,14167,21,14177,11,14182,21,14183,null,null,0,2212]
[12,14485,23,14493,24,14498,23,14506,null,null,0,1222]
[21,14598,21,14604,11,14612,12,14617,null,null,0,2211]
[12,14709,23,14718,24,14723,23,14730,null,null,0,1222]
[21,14825,21,14837,22,14845,23,14853,null,null,0,2222]
[21,14950,12,14955,24,14959,23,14967,null,null,0,2122]
[21,15062,12,15064,13,15070,23,15071,null,null,0,2112]
[21,15163,12,15167,24,15170,23,15177,null,null,0,2122]
[21,15274,21,15282,22,15290,23,15297,null,null,0,2222]
[21,15395,21,15405,22,15416,23,15422,null,null,0,2222]
[21,15514,21,15523,22,15531,23,15542,null,null,0,2222]
[21,15637,21,15642,22,15649,23,15656,null,null,0,2222]
[21,15751,21,15755,11,15760,21,15770,null,null,0,2212]
[12,15952,23,15961,24,15971,23,15983,null,null,0,1222]
[21,16144,12,16149,24,16153,23,16171,null,null,0,2122]
[21,16263,21,16271,22,16277,23,16285,null,null,0,2222]
[21,16378,21,16389,22,16397,23,16404,null,null,0,2222]
[12,16499,23,16502,24,16510,14,16516,null,null,0,1221]
[21,16613,21,16620,22,16626,23,16629,null,null,0,2222]
[21,16722,21,16729,22,16738,23,16747,null,null,0,2222]
[21,16847,21,16851,22,16856,23,16868,null,null,0,2222]
[21,16960,21,16966,22,16975,23,16984,null,null,0,2222]
[21,17079,21,17084,22,17091,14,17099,null,null,0,2221]
[21,17193,21,17200,22,17205,23,17212,null,null,0,2222]
[12,17308,23,17315,24,17321,23,17330,null,null,0,1222]
[12,17423,23,17434,24,17438,14,17441,null,null,0,1221]
[21,18006,21,18027,22,18032,23,18037,null,null,0,2222]
[21,18135,21,18139,22,18144,23,18150,null,null,0,2222]
[21,18245,21,18256,22,18267,23,18275,null,null,0,2222]
[21,18367,21,18369,22,18376,23,18381,null,null,0,2222]
[21,18477,12,18483,24,18493,23,18503,null,null,0,2122]
[12,18598,23,18602,24,18605,23,18609,null,null,0,1222]
[12,18703,23,18713,13,18715,23,18719,null,null,0,1212]
[21,18833,21,18838,22,18845,23,18851,null,null,0,2222]
[21,18946,21,18950,22,18956,23,18961,null,null,0,2222]
[21,19056,12,19059,13,19062,23,19063,null,null,0,2112]
[21,19158,21,19165,22,19168,23,19172,null,null,0,2222]
[21,19266,12,19270,13,19271,23,19276,null,null,0,2112]
[12,19368,23,19379,24,19391,23,19402,null,null,0,1222]
[21,19498,21,19502,22,19507,14,19512,null,null,0,2221]
[12,19606,23,19612,13,19620,23,19628,null,null,0,1212]
[21,19726,21,19731,22,19737,23,19743,null,null,0,2222]
[21,19847,21,19849,11,19856,21,19859,null,null,0,2212]
[21,19969,21,19974,22,19980,23,19987,null,null,0,2222]
[21,20081,12,20083,24,20088,23,20095,null,null,0,2122]
[21,20191,21,20197,22,20208,23,20215,null,null,0,2222]
[21,20312,21,20316,11,20318,21,20321,null,null,0,2212]
[21,20453,21,20458,22,20465,23,20470,null,null,0,2222]
[21,20683,21,20687,11,20695,21,20704,null,null,0,2212]
[21,20858,12,20867,24,20874,23,20881,null,null,0,2122]
[21,20973,21,20977,22,20982,14,20985,null,null,0,2221]
[12,21084,23,21087,24,21091,23,21099,null,null,0,1222]
[21,21193,21,21201,22,21207,23,21218,null,null,0,2222]
[21,21312,21,21317,22,21325,23,21332,null,null,0,2222]
[21,21428,21,21434,11,21438,21,21441,null,null,0,2212]
[12,21861,23,21876,24,21886,23,21895,null,null,0,1222]
[21,21990,12,21992,24,21996,23,22010,null,null,0,2122]
[21,22107,21,22114,22,22122,23,22134,null,null,0,2222]
[21,22230,21,22235,22,22240,23,22249,null,null,0,2222]
[21,22343,12,22346,24,22348,23,22356,null,null,0,2122]
[21,22453,12,22459,24,22466,23,22476,null,null,0,2122]
[21,22572,21,22577,11,22581,21,22582,null,null,0,2212]
[21,22741,21,22747,22,22756,23,22762,null,null,0,2222]
[21,22855,21,22860,22,22863,23,22870,null,null,0,2222]
[21,22962,21,22967,22,22970,23,22977,null,null,0,2222]
[21,23073,21,23076,22,23081,23,23088,null,null,0,2222]
[21,23182,12,23185,24,23194,23,23201,null,null,0,2122]
[21,23301,21,23305,11,23306,21,23310,null,null,0,2212]
[21,23480,21,23486,22,23491,23,23500,null,null,0,2222]
[21,23602,21,23608,22,23613,14,23618,null,null,0,2221]
[21,23712,21,23717,22,23723,23,23731,null,null,0,2222]
[21,23824,21,23843,22,23866,23,23872,null,null,0,2222]
[21,23965,21,23972,11,23976,21,23978,null,null,1,2212]

{"sheet":"!M706B20.Gus","index":17,"n_rows":178,"n_cols":48,"rows_kept":178,"cut":false,"hidden":false,"merged":[[4,39,4,42],[5,39,5,40],[4,44,4,47],[5,44,5,45],[4,24,4,27],[5,24,5,25],[4,29,4,32],[5,29,5,30],[4,34,4,37],[5,34,5,35],[1,1,1,2],[5,13,5,14],[26,13,26,14],[27,13,27,14],[4,19,4,22],[5,19,5,20]]}
["Report for:!M706B20.Gus"]
["Date:","<date>"]
["Hen:","<hen>",null,null,null,"Correct Sequence",{"$f":"Start!J2","v":2212},null,null,null,null,null,null,null,null,"Total Sequences in Data",{"$f":"4994-COUNTBLANK(L7:L5000)","v":172},null,null,null,null,"Total Sequences in Block Data",{"$f":"COUNTA(L7:L35)","v":29},null,null,null,"Total Sequences in Block Data",{"$f":"COUNTA(L36:L63)","v":28},null,null,null,"Total Sequences in Block Data",{"$f":"COUNTA(L64:L92)","v":29},null,null,null,"Total Sequences in Block Data",{"$f":"COUNTA(L93:L121)","v":29},null,null,null,"Total Sequences in Block Data",{"$f":"COUNTA(L122:L149)","v":28},null,null,null,"Total Sequences in Block Data",{"$f":"COUNTA(L150:L178)","v":29}]
[null,null,null,null,null,null,null,null,null,null,null,null,null,null,null,"Total Sequences in Summary",{"$f":"SUM(O7:O22)","v":172},null,null,null,null,"Total Sequences in Block Summary",{"$f":"SUM(U7:U22)","v":29},null,null,null,"Total Sequences in Block Summary",{"$f":"SUM(Z7:Z22)","v":28},null,null,null,"Total Sequences in Block Summary",{"$f":"SUM(AE7:AE22)","v":29},null,null,null,"Total Sequences in Block Summary",{"$f":"SUM(AJ7:AJ22)","v":29},null,null,null,"Total Sequences in Block Summary",{"$f":"SUM(AO7:AO22)","v":28},null,null,null,"Total Sequences in Block Summary",{"$f":"SUM(AT7:AT22)","v":29}]
[null,null,null,null,null,null,null,null,null,null,null,null,null,null,null,null,null,null,null,"Block 1",null,null,null,null,"Block 2",null,null,null,null,"Block 3",null,null,null,null,"Block 4",null,null,null,null,"Block 5",null,null,null,null,"Block 6"]
["Sequence\nComponent\n1","Time\n1","Sequence\nComponent\n2","Time\n2","Sequence\nComponent\n3","Time\n3","Sequence\nComponent\n4","Time\n4","Sequence\nComponent\n5","Time\n5","Correct?\n0=No 1=Yes","Sequence",null,"Frequency",null,"Relative Frequency","Variability",null,null,"Frequency",null,"Relative Frequency","Variability",null,"Frequency",null,"Relative Frequency","Variability",null,"Frequency",null,"Relative Frequency","Variability",null,"Frequency",null,"Relative Frequency","Variability",null,"Frequency",null,"Relative Frequency","Variability",null,"Frequency",null,"Relative Frequency","Variability"]
[21,48,21,55,22,61,23,71,null,null,0,2222,null,1111,{"$f":"COUNTIF($L$7:$L$500,N7)","v":0},{"$f":"O7/$Q$4","v":0},{"$f":"IF(P7=0,0,(P7*((LOG(P7))/LOG(2))))","v":0},null,null,{"$f":"N7","v":1111},{"$f":"COUNTIF(L7:L35,T7)","v":0},{"$f":"U7/(W4-U20)","v":0},{"$f":"IF(V7=0,0,(V7*((LOG(V7))/LOG(2))))","v":0},null,{"$f":"N7","v":1111},{"$f":"COUNTIF(L36:L63,Y7)","v":0},{"$f":"Z7/(AB4-Z20)","v":0},{"$f":"IF(AA7=0,0,(AA7*((LOG(AA7))/LOG(2))))","v":0},null,{"$f":"N7","v":1111},{"$f":"COUNTIF(L64:L92,AD7)","v":0},{"$f":"AE7/(AG4-AE20)","v":0},{"$f":"IF(AF7=0,0,(AF7*((LOG(AF7))/LOG(2))))","v":0},null,{"$f":"N7","v":1111},{"$f":"COUNTIF(L93:L121,AI7)","v":0},{"$f":"AJ7/(AL4-AJ20)","v":0},{"$f":"IF(AK7=0,0,(AK7*((LOG(AK7))/LOG(2))))","v":0},null,{"$f":"N7","v":1111},{"$f":"COUNTIF(L122:L149,AN7)","v":0},{"$f":"AO7/(AQ4-AO20)","v":0},{"$f":"IF(AP7=0,0,(AP7*((LOG(AP7))/LOG(2))))","v":0},null,{"$f":"N7","v":1111},{"$f":"COUNTIF(L150:L178,AS7)","v":0},{"$f":"AT7/(AV4-AT20)","v":0},{"$f":"IF(AU7=0,0,(AU7*((LOG(AU7))/LOG(2))))","v":0}]
[21,169,21,174,22,180,23,187,null,null,0,2222,null,1112,{"$f":"COUNTIF($L$7:$L$500,N8)","v":0},{"$f":"O8/$Q$4","v":0},{"$f":"IF(P8=0,0,(P8*((LOG(P8))/LOG(2))))","v":0},null,null,{"$f":"N8","v":1112},{"$f":"COUNTIF(L7:L35,T8)","v":0},{"$f":"U8/(W4-U20)","v":0},{"$f":"IF(V8=0,0,(V8*((LOG(V8))/LOG(2))))","v":0},null,{"$f":"N8","v":1112},{"$f":"COUNTIF(L36:L63,Y8)","v":0},{"$f":"Z8/(AB4-Z20)","v":0},{"$f":"IF(AA8=0,0,(AA8*((LOG(AA8))/LOG(2))))","v":0},null,{"$f":"N8","v":1112},{"$f":"COUNTIF(L64:L92,AD8)","v":0},{"$f":"AE8/(AG4-AE20)","v":0},{"$f":"IF(AF8=0,0,(AF8*((LOG(AF8))/LOG(2))))","v":0},null,{"$f":"N8","v":1112},{"$f":"COUNTIF(L93:L121,AI8)","v":0},{"$f":"AJ8/(AL4-AJ20)","v":0},{"$f":"IF(AK8=0,0,(AK8*((LOG(AK8))/LOG(2))))","v":0},null,{"$f":"N8","v":1112},{"$f":"COUNTIF(L122:L149,AN8)","v":0},{"$f":"AO8/(AQ4-AO20)","v":0},{"$f":"IF(AP8=0,0,(AP8*((LOG(AP8))/LOG(2))))","v":0},null,{"$f":"N8","v":1112},{"$f":"COUNTIF(L150:L178,AS8)","v":0},{"$f":"AT8/(AV4-AT20)","v":0},{"$f":"IF(AU8=0,0,(AU8*((LOG(AU8))/LOG(2))))","v":0}]
[21,288,21,292,22,297,23,306,null,null,0,2222,null,1121,{"$f":"COUNTIF($L$7:$L$500,N9)","v":1},{"$f":"O9/$Q$4","v":5.8139534883720929E-3},{"$f":"IF(P9=0,0,(P9*((LOG(P9))/LOG(2))))","v":-4.3175957876174981E-2},null,null,{"$f":"N9","v":1121},{"$f":"COUNTIF(L7:L35,T9)","v":0},{"$f":"U9/(W4-U20)","v":0},{"$f":"IF(V9=0,0,(V9*((LOG(V9))/LOG(2))))","v":0},null,{"$f":"N9","v":1121},{"$f":"COUNTIF(L36:L63,Y9)","v":0},{"$f":"Z9/(AB4-Z20)","v":0},{"$f":"IF(AA9=0,0,(AA9*((LOG(AA9))/LOG(2))))","v":0},null,{"$f":"N9","v":1121},{"$f":"COUNTIF(L64:L92,AD9)","v":1},{"$f":"AE9/(AG4-AE20)","v":5.2631578947368418E-2},{"$f":"IF(AF9=0,0,(AF9*((LOG(AF9))/LOG(2))))","v":-0.22357513228650452},null,{"$f":"N9","v":1121},{"$f":"COUNTIF(L93:L121,AI9)","v":0},{"$f":"AJ9/(AL4-AJ20)","v":0},{"$f":"IF(AK9=0,0,(AK9*((LOG(AK9))/LOG(2))))","v":0},null,{"$f":"N9","v":1121},{"$f":"COUNTIF(L122:L149,AN9)","v":0},{"$f":"AO9/(AQ4-AO20)","v":0},{"$f":"IF(AP9=0,0,(AP9*((LOG(AP9))/LOG(2))))","v":0},null,{"$f":"N9","v":1121},{"$f":"COUNTIF(L150:L178,AS9)","v":0},{"$f":"AT9/(AV4-AT20)","v":0},{"$f":"IF(AU9=0,0,(AU9*((LOG(AU9))/LOG(2))))","v":0}]
[21,402,12,409,24,419,23,425,null,null,0,2122,null,1122,{"$f":"COUNTIF($L$7:$L$500,N10)","v":1},{"$f":"O10/$Q$4","v":5.8139534883720929E-3},{"$f":"IF(P10=0,0,(P10*((LOG(P10))/LOG(2))))","v":-4.3175957876174981E-2},null,null,{"$f":"N10","v":1122},{"$f":"COUNTIF(L7:L35,T10)","v":0},{"$f":"U10/(W4-U20)","v":0},{"$f":"IF(V10=0,0,(V10*((LOG(V10))/LOG(2))))","v":0},null,{"$f":"N10","v":1122},{"$f":"COUNTIF(L36:L63,Y10)","v":0},{"$f":"Z10/(AB4-Z20)","v":0},{"$f":"IF(AA10=0,0,(AA10*((LOG(AA10))/LOG(2))))","v":0},null,{"$f":"N10","v":1122},{"$f":"COUNTIF(L64:L92,AD10)","v":0},{"$f":"AE10/(AG4-AE20)","v":0},{"$f":"IF(AF10=0,0,(AF10*((LOG(AF10))/LOG(2))))","v":0},null,{"$f":"N10","v":1122},{"$f":"COUNTIF(L93:L121,AI10)","v":1},{"$f":"AJ10/(AL4-AJ20)","v":4.1666666666666664E-2},{"$f":"IF(AK10=0,0,(AK10*((LOG(AK10))/LOG(2))))","v":-0.19104010419671485},null,{"$f":"N10","v":1122},{"$f":"COUNTIF(L122:L149,AN10)","v":0},{"$f":"AO10/(AQ4-AO20)","v":0},{"$f":"IF(AP10=0,0,(AP10*((LOG(AP10))/LOG(2))))","v":0},null,{"$f":"N10","v":1122},{"$f":"COUNTIF(L150:L178,AS10)","v":0},{"$f":"AT10/(AV4-AT20)","v":0},{"$f":"IF(AU10=0,0,(AU10*((LOG(AU10))/LOG(2))))","v":0}]
[21,521,21,524,11,527,21,529,null,null,0,2212,null,1211,{"$f":"COUNTIF($L$7:$L$500,N11)","v":0},{"$f":"O11/$Q$4","v":0},{"$f":"IF(P11=0,0,(P11*((LOG(P11))/LOG(2))))","v":0},null,null,{"$f":"N11","v":1211},{"$f":"COUNTIF(L7:L35,T11)","v":0},{"$f":"U11/(W4-U20)","v":0},{"$f":"IF(V11=0,0,(V11*((LOG(V11))/LOG(2))))","v":0},null,{"$f":"N11","v":1211},{"$f":"COUNTIF(L36:L63,Y11)","v":0},{"$f":"Z11/(AB4-Z20)","v":0},{"$f":"IF(AA11=0,0,(AA11*((LOG(AA11))/LOG(2))))","v":0},null,{"$f":"N11","v":1211},{"$f":"COUNTIF(L64:L92,AD11)","v":0},{"$f":"AE11/(AG4-AE20)","v":0},{"$f":"IF(AF11=0,0,(AF11*((LOG(AF11))/LOG(2))))","v":0},null,{"$f":"N11","v":1211},{"$f":"COUNTIF(L93:L121,AI11)","v":0},{"$f":"AJ11/(AL4-AJ20)","v":0},{"$f":"IF(AK11=0,0,(AK11*((LOG(AK11))/LOG(2))))","v":0},null,{"$f":"N11","v":1211},{"$f":"COUNTIF(L122:L149,AN11)","v":0},{"$f":"AO11/(AQ4-AO20)","v":0},{"$f":"IF(AP11=0,0,(AP11*((LOG(AP11))/LOG(2))))","v":0},null,{"$f":"N11","v":1211},{"$f":"COUNTIF(L150:L178,AS11)","v":0},{"$f":"AT11/(AV4-AT20)","v":0},{"$f":"IF(AU11=0,0,(AU11*((LOG(AU11))/LOG(2))))","v":0}]
[21,622,21,631,22,644,23,651,null,null,0,2222,null,1212,{"$f":"COUNTIF($L$7:$L$500,N12)","v":2},{"$f":"O12/$Q$4","v":1.1627906976744186E-2},{"$f":"IF(P12=0,0,(P12*((LOG(P12))/LOG(2))))","v":-7.4724008775605782E-2},null,null,{"$f":"N12","v":1212},{"$f":"COUNTIF(L7:L35,T12)","v":0},{"$f":"U12/(W4-U20)","v":0},{"$f":"IF(V12=0,0,(V12*((LOG(V12))/LOG(2))))","v":0},null,{"$f":"N12","v":1212},{"$f":"COUNTIF(L36:L63,Y12)","v":0},{"$f":"Z12/(AB4-Z20)","v":0},{"$f":"IF(AA12=0,0,(AA12*((LOG(AA12))/LOG(2))))","v":0},null,{"$f":"N12","v":1212},{"$f":"COUNTIF(L64:L92,AD12)","v":0},{"$f":"AE12/(AG4-AE20)","v":0},{"$f":"IF(AF12=0,0,(AF12*((LOG(AF12))/LOG(2))))","v":0},null,{"$f":"N12","v":1212},{"$f":"COUNTIF(L93:L121,AI12)","v":1},{"$f":"AJ12/(AL4-AJ20)","v":4.1666666666666664E-2},{"$f":"IF(AK12=0,0,(AK12*((LOG(AK12))/LOG(2))))","v":-0.19104010419671485},null,{"$f":"N12","v":1212},{"$f":"COUNTIF(L122:L149,AN12)","v":0},{"$f":"AO12/(AQ4-AO20)","v":0},{"$f":"IF(AP12=0,0,(AP12*((LOG(AP12))/LOG(2))))","v":0},null,{"$f":"N12","v":1212},{"$f":"COUNTIF(L150:L178,AS12)","v":1},{"$f":"AT12/(AV4-AT20)","v":4.5454545454545456E-2},{"$f":"IF(AU12=0,0,(AU12*((LOG(AU12))/LOG(2))))","v":-0.20270143721078623}]
[12,744,23,746,24,749,23,755,null,null,0,1222,null,1221,{"$f":"COUNTIF($L$7:$L$500,N13)","v":3},{"$f":"O13/$Q$4","v":1.7441860465116279E-2},{"$f":"IF(P13=0,0,(P13*((LOG(P13))/LOG(2))))","v":-0.1018831788485048},null,null,{"$f":"N13","v":1221},{"$f":"COUNTIF(L7:L35,T13)","v":0},{"$f":"U13/(W4-U20)","v":0},{"$f":"IF(V13=0,0,(V13*((LOG(V13))/LOG(2))))","v":0},null,{"$f":"N13","v":1221},{"$f":"COUNTIF(L36:L63,Y13)","v":0},{"$f":"Z13/(AB4-Z20)","v":0},{"$f":"IF(AA13=0,0,(AA13*((LOG(AA13))/LOG(2))))","v":0},null,{"$f":"N13","v":1221},{"$f":"COUNTIF(L64:L92,AD13)","v":0},{"$f":"AE13/(AG4-AE20)","v":0},{"$f":"IF(AF13=0,0,(AF13*((LOG(AF13))/LOG(2))))","v":0},null,{"$f":"N13","v":1221},{"$f":"COUNTIF(L93:L121,AI13)","v":0},{"$f":"AJ13/(AL4-AJ20)","v":0},{"$f":"IF(AK13=0,0,(AK13*((LOG(AK13))/LOG(2))))","v":0},null,{"$f":"N13","v":1221},{"$f":"COUNTIF(L122:L149,AN13)","v":2},{"$f":"AO13/(AQ4-AO20)","v":8.3333333333333329E-2},{"$f":"IF(AP13=0,0,(AP13*((LOG(AP13))/LOG(2))))","v":-0.29874687506009634},null,{"$f":"N13","v":1221},{"$f":"COUNTIF(L150:L178,AS13)","v":1},{"$f":"AT13/(AV4-AT20)","v":4.5454545454545456E-2},{"$f":"IF(AU13=0,0,(AU13*((LOG(AU13))/LOG(2))))","v":-0.20270143721078623}]
[12,848,23,857,24,861,23,871,null,null,0,1222,null,1222,{"$f":"COUNTIF($L$7:$L$500,N14)","v":22},{"$f":"O14/$Q$4","v":0.12790697674418605},{"$f":"IF(P14=0,0,(P14*((LOG(P14))/LOG(2))))","v":-0.37947865693852101},null,null,{"$f":"N14","v":1222},{"$f":"COUNTIF(L7:L35,T14)","v":7},{"$f":"U14/(W4-U20)","v":0.28000000000000003},{"$f":"IF(V14=0,0,(V14*((LOG(V14))/LOG(2))))","v":-0.51422035496079388},null,{"$f":"N14","v":1222},{"$f":"COUNTIF(L36:L63,Y14)","v":5},{"$f":"Z14/(AB4-Z20)","v":0.21739130434782608},{"$f":"IF(AA14=0,0,(AA14*((LOG(AA14))/LOG(2))))","v":-0.47861605677601093},null,{"$f":"N14","v":1222},{"$f":"COUNTIF(L64:L92,AD14)","v":2},{"$f":"AE14/(AG4-AE20)","v":0.10526315789473684},{"$f":"IF(AF14=0,0,(AF14*((LOG(AF14))/LOG(2))))","v":-0.34188710667827216},null,{"$f":"N14","v":1222},{"$f":"COUNTIF(L93:L121,AI14)","v":4},{"$f":"AJ14/(AL4-AJ20)","v":0.16666666666666666},{"$f":"IF(AK14=0,0,(AK14*((LOG(AK14))/LOG(2))))","v":-0.43082708345352599},null,{"$f":"N14","v":1222},{"$f":"COUNTIF(L122:L149,AN14)","v":1},{"$f":"AO14/(AQ4-AO20)","v":4.1666666666666664E-2},{"$f":"IF(AP14=0,0,(AP14*((LOG(AP14))/LOG(2))))","v":-0.19104010419671485},null,{"$f":"N14","v":1222},{"$f":"COUNTIF(L150:L178,AS14)","v":3},{"$f":"AT14/(AV4-AT20)","v":0.13636363636363635},{"$f":"IF(AU14=0,0,(AU14*((LOG(AU14))/LOG(2))))","v":-0.39197306153401923}]
[21,969,21,974,22,980,23,989,null,null,0,2222,null,2111,{"$f":"COUNTIF($L$7:$L$500,N15)","v":0},{"$f":"O15/$Q$4","v":0},{"$f":"IF(P15=0,0,(P15*((LOG(P15))/LOG(2))))","v":0},null,null,{"$f":"N15","v":2111},{"$f":"COUNTIF(L7:L35,T15)","v":0},{"$f":"U15/(W4-U20)","v":0},{"$f":"IF(V15=0,0,(V15*((LOG(V15))/LOG(2))))","v":0},null,{"$f":"N15","v":2111},{"$f":"COUNTIF(L36:L63,Y15)","v":0},{"$f":"Z15/(AB4-Z20)","v":0},{"$f":"IF(AA15=0,0,(AA15*((LOG(AA15))/LOG(2))))","v":0},null,{"$f":"N15","v":2111},{"$f":"COUNTIF(L64:L92,AD15)","v":0},{"$f":"AE15/(AG4-AE20)","v":0},{"$f":"IF(AF15=0,0,(AF15*((LOG(AF15))/LOG(2))))","v":0},null,{"$f":"N15","v":2111},{"$f":"COUNTIF(L93:L121,AI15)","v":0},{"$f":"AJ15/(AL4-AJ20)","v":0},{"$f":"IF(AK15=0,0,(AK15*((LOG(AK15))/LOG(2))))","v":0},null,{"$f":"N15","v":2111},{"$f":"COUNTIF(L122:L149,AN15)","v":0},{"$f":"AO15/(AQ4-AO20)","v":0},{"$f":"IF(AP15=0,0,(AP15*((LOG(AP15))/LOG(2))))","v":0},null,{"$f":"N15","v":2111},{"$f":"COUNTIF(L150:L178,AS15)","v":0},{"$f":"AT15/(AV4-AT20)","v":0},{"$f":"IF(AU15=0,0,(AU15*((LOG(AU15))/LOG(2))))","v":0}]
[12,1081,23,1090,24,1096,23,1099,null,null,0,1222,null,2112,{"$f":"COUNTIF($L$7:$L$500,N16)","v":1},{"$f":"O16/$Q$4","v":5.8139534883720929E-3},{"$f":"IF(P16=0,0,(P16*((LOG(P16))/LOG(2))))","v":-4.3175957876174981E-2},null,null,{"$f":"N16","v":2112},{"$f":"COUNTIF(L7:L35,T16)","v":0},{"$f":"U16/(W4-U20)","v":0},{"$f":"IF(V16=0,0,(V16*((LOG(V16))/LOG(2))))","v":0},null,{"$f":"N16","v":2112},{"$f":"COUNTIF(L36:L63,Y16)","v":0},{"$f":"Z16/(AB4-Z20)","v":0},{"$f":"IF(AA16=0,0,(AA16*((LOG(AA16))/LOG(2))))","v":0},null,{"$f":"N16","v":2112},{"$f":"COUNTIF(L64:L92,AD16)","v":0},{"$f":"AE16/(AG4-AE20)","v":0},{"$f":"IF(AF16=0,0,(AF16*((LOG(AF16))/LOG(2))))","v":0},null,{"$f":"N16","v":2112},{"$f":"COUNTIF(L93:L121,AI16)","v":0},{"$f":"AJ16/(AL4-AJ20)","v":0},{"$f":"IF(AK16=0,0,(AK16*((LOG(AK16))/LOG(2))))","v":0},null,{"$f":"N16","v":2112},{"$f":"COUNTIF(L122:L149,AN16)","v":0},{"$f":"AO16/(AQ4-AO20)","v":0},{"$f":"IF(AP16=0,0,(AP16*((LOG(AP16))/LOG(2))))","v":0},null,{"$f":"N16","v":2112},{"$f":"COUNTIF(L150:L178,AS16)","v":1},{"$f":"AT16/(AV4-AT20)","v":4.5454545454545456E-2},{"$f":"IF(AU16=0,0,(AU16*((LOG(AU16))/LOG(2))))","v":-0.20270143721078623}]
[21,1201,21,1206,22,1215,23,1219,null,null,0,2222,null,2121,{"$f":"COUNTIF($L$7:$L$500,N17)","v":1},{"$f":"O17/$Q$4","v":5.8139534883720929E-3},{"$f":"IF(P17=0,0,(P17*((LOG(P17))/LOG(2))))","v":-4.3175957876174981E-2},null,null,{"$f":"N17","v":2121},{"$f":"COUNTIF(L7:L35,T17)","v":0},{"$f":"U17/(W4-U20)","v":0},{"$f":"IF(V17=0,0,(V17*((LOG(V17))/LOG(2))))","v":0},null,{"$f":"N17","v":2121},{"$f":"COUNTIF(L36:L63,Y17)","v":1},{"$f":"Z17/(AB4-Z20)","v":4.3478260869565216E-2},{"$f":"IF(AA17=0,0,(AA17*((LOG(AA17))/LOG(2))))","v":-0.19667660678508753},null,{"$f":"N17","v":2121},{"$f":"COUNTIF(L64:L92,AD17)","v":0},{"$f":"AE17/(AG4-AE20)","v":0},{"$f":"IF(AF17=0,0,(AF17*((LOG(AF17))/LOG(2))))","v":0},null,{"$f":"N17","v":2121},{"$f":"COUNTIF(L93:L121,AI17)","v":0},{"$f":"AJ17/(AL4-AJ20)","v":0},{"$f":"IF(AK17=0,0,(AK17*((LOG(AK17))/LOG(2))))","v":0},null,{"$f":"N17","v":2121},{"$f":"COUNTIF(L122:L149,AN17)","v":0},{"$f":"AO17/(AQ4-AO20)","v":0},{"$f":"IF(AP17=0,0,(AP17*((LOG(AP17))/LOG(2))))","v":0},null,{"$f":"N17","v":2121},{"$f":"COUNTIF(L150:L178,AS17)","v":0},{"$f":"AT17/(AV4-AT20)","v":0},{"$f":"IF(AU17=0,0,(AU17*((LOG(AU17))/LOG(2))))","v":0}]
[12,1312,23,1316,24,1321,23,1331,null,null,0,1222,null,2122,{"$f":"COUNTIF($L$7:$L$500,N18)","v":23},{"$f":"O18/$Q$4","v":0.13372093023255813},{"$f":"IF(P18=0,0,(P18*((LOG(P18))/LOG(2))))","v":-0.38815211842347069},null,null,{"$f":"N18","v":2122},{"$f":"COUNTIF(L7:L35,T18)","v":6},{"$f":"U18/(W4-U20)","v":0.24},{"$f":"IF(V18=0,0,(V18*((LOG(V18))/LOG(2))))","v":-0.49413448537285637},null,{"$f":"N18","v":2122},{"$f":"COUNTIF(L36:L63,Y18)","v":1},{"$f":"Z18/(AB4-Z20)","v":4.3478260869565216E-2},{"$f":"IF(AA18=0,0,(AA18*((LOG(AA18))/LOG(2))))","v":-0.19667660678508753},null,{"$f":"N18","v":2122},{"$f":"COUNTIF(L64:L92,AD18)","v":5},{"$f":"AE18/(AG4-AE20)","v":0.26315789473684209},{"$f":"IF(AF18=0,0,(AF18*((LOG(AF18))/LOG(2))))","v":-0.50684195225163764},null,{"$f":"N18","v":2122},{"$f":"COUNTIF(L93:L121,AI18)","v":2},{"$f":"AJ18/(AL4-AJ20)","v":8.3333333333333329E-2},{"$f":"IF(AK18=0,0,(AK18*((LOG(AK18))/LOG(2))))","v":-0.29874687506009634},null,{"$f":"N18","v":2122},{"$f":"COUNTIF(L122:L149,AN18)","v":2},{"$f":"AO18/(AQ4-AO20)","v":8.3333333333333329E-2},{"$f":"IF(AP18=0,0,(AP18*((LOG(AP18))/LOG(2))))","v":-0.29874687506009634},null,{"$f":"N18","v":2122},{"$f":"COUNTIF(L150:L178,AS18)","v":7},{"$f":"AT18/(AV4-AT20)","v":0.31818181818181818},{"$f":"IF(AU18=0,0,(AU18*((LOG(AU18))/LOG(2))))","v":-0.52566076709353871}]
[21,1429,12,1437,24,1440,23,1446,null,null,0,2122,null,2211,{"$f":"COUNTIF($L$7:$L$500,N19)","v":1},{"$f":"O19/$Q$4","v":5.8139534883720929E-3},{"$f":"IF(P19=0,0,(P19*((LOG(P19))/LOG(2))))","v":-4.3175957876174981E-2},null,null,{"$f":"N19","v":2211},{"$f":"COUNTIF(L7:L35,T19)","v":0},{"$f":"U19/(W4-U20)","v":0},{"$f":"IF(V19=0,0,(V19*((LOG(V19))/LOG(2))))","v":0},null,{"$f":"N19","v":2211},{"$f":"COUNTIF(L36:L63,Y19)","v":0},{"$f":"Z19/(AB4-Z20)","v":0},{"$f":"IF(AA19=0,0,(AA19*((LOG(AA19))/LOG(2))))","v":0},null,{"$f":"N19","v":2211},{"$f":"COUNTIF(L64:L92,AD19)","v":0},{"$f":"AE19/(AG4-AE20)","v":0},{"$f":"IF(AF19=0,0,(AF19*((LOG(AF19))/LOG(2))))","v":0},null,{"$f":"N19","v":2211},{"$f":"COUNTIF(L93:L121,AI19)","v":0},{"$f":"AJ19/(AL4-AJ20)","v":0},{"$f":"IF(AK19=0,0,(AK19*((LOG(AK19))/LOG(2))))","v":0},null,{"$f":"N19","v":2211},{"$f":"COUNTIF(L122:L149,AN19)","v":1},{"$f":"AO19/(AQ4-AO20)","v":4.1666666666666664E-2},{"$f":"IF(AP19=0,0,(AP19*((LOG(AP19))/LOG(2))))","v":-0.19104010419671485},null,{"$f":"N19","v":2211},{"$f":"COUNTIF(L150:L178,AS19)","v":0},{"$f":"AT19/(AV4-AT20)","v":0},{"$f":"IF(AU19=0,0,(AU19*((LOG(AU19))/LOG(2))))","v":0}]
[12,1543,23,1546,24,1550,23,1557,null,null,0,1222,null,2212,{"$f":"COUNTIF($L$7:$L$500,N20)","v":35},{"$f":"O20/$Q$4","v":0.20348837209302326},{"$f":"IF(P20=0,0,(P20*((LOG(P20))/LOG(2))))","v":-0.46740907454360237},null,null,{"$f":"N20","v":2212},{"$f":"COUNTIF(L7:L35,T20)","v":4},null,null,null,{"$f":"N20","v":2212},{"$f":"COUNTIF(L36:L63,Y20)","v":5},null,null,null,{"$f":"N20","v":2212},{"$f":"COUNTIF(L64:L92,AD20)","v":10},null,null,null,{"$f":"N20","v":2212},{"$f":"COUNTIF(L93:L121,AI20)","v":5},null,null,null,{"$f":"N20","v":2212},{"$f":"COUNTIF(L122:L149,AN20)","v":4},null,null,null,{"$f":"N20","v":2212},{"$f":"COUNTIF(L150:L178,AS20)","v":7}]
[21,1655,21,1661,22,1670,23,1678,null,null,0,2222,null,2221,{"$f":"COUNTIF($L$7:$L$500,N21)","v":11},{"$f":"O21/$Q$4","v":6.3953488372093026E-2},{"$f":"IF(P21=0,0,(P21*((LOG(P21))/LOG(2))))","v":-0.25369281684135353},null,null,{"$f":"N21","v":2221},{"$f":"COUNTIF(L7:L35,T21)","v":1},{"$f":"U21/(W4-U20)","v":0.04},{"$f":"IF(V21=0,0,(V21*((LOG(V21))/LOG(2))))","v":-0.18575424759098899},null,{"$f":"N21","v":2221},{"$f":"COUNTIF(L36:L63,Y21)","v":1},{"$f":"Z21/(AB4-Z20)","v":4.3478260869565216E-2},{"$f":"IF(AA21=0,0,(AA21*((LOG(AA21))/LOG(2))))","v":-0.19667660678508753},null,{"$f":"N21","v":2221},{"$f":"COUNTIF(L64:L92,AD21)","v":2},{"$f":"AE21/(AG4-AE20)","v":0.10526315789473684},{"$f":"IF(AF21=0,0,(AF21*((LOG(AF21))/LOG(2))))","v":-0.34188710667827216},null,{"$f":"N21","v":2221},{"$f":"COUNTIF(L93:L121,AI21)","v":3},{"$f":"AJ21/(AL4-AJ20)","v":0.125},{"$f":"IF(AK21=0,0,(AK21*((LOG(AK21))/LOG(2))))","v":-0.375},null,{"$f":"N21","v":2221},{"$f":"COUNTIF(L122:L149,AN21)","v":3},{"$f":"AO21/(AQ4-AO20)","v":0.125},{"$f":"IF(AP21=0,0,(AP21*((LOG(AP21))/LOG(2))))","v":-0.375},null,{"$f":"N21","v":2221},{"$f":"COUNTIF(L150:L178,AS21)","v":1},{"$f":"AT21/(AV4-AT20)","v":4.5454545454545456E-2},{"$f":"IF(AU21=0,0,(AU21*((LOG(AU21))/LOG(2))))","v":-0.20270143721078623}]
[21,1777,21,1785,22,1792,14,1795,null,null,0,2221,null,2222,{"$f":"COUNTIF($L$7:$L$500,N22)","v":71},{"$f":"O22/$Q$4","v":0.41279069767441862},{"$f":"IF(P22=0,0,(P22*((LOG(P22))/LOG(2))))","v":-0.52693460522684032},null,null,{"$f":"N22","v":2222},{"$f":"COUNTIF(L7:L35,T22)","v":11},{"$f":"U22/(W4-U20)","v":0.44},{"$f":"IF(V22=0,0,(V22*((LOG(V22))/LOG(2))))","v":-0.52114681130046814},null,{"$f":"N22","v":2222},{"$f":"COUNTIF(L36:L63,Y22)","v":15},{"$f":"Z22/(AB4-Z20)","v":0.65217391304347827},{"$f":"IF(AA22=0,0,(AA22*((LOG(AA22))/LOG(2))))","v":-0.40217697420553983},null,{"$f":"N22","v":2222},{"$f":"COUNTIF(L64:L92,AD22)","v":9},{"$f":"AE22/(AG4-AE20)","v":0.47368421052631576},{"$f":"IF(AF22=0,0,(AF22*((LOG(AF22))/LOG(2))))","v":-0.51063276884270825},null,{"$f":"N22","v":2222},{"$f":"COUNTIF(L93:L121,AI22)","v":13},{"$f":"AJ22/(AL4-AJ20)","v":0.54166666666666663},{"$f":"IF(AK22=0,0,(AK22*((LOG(AK22))/LOG(2))))","v":-0.47911650723086807},null,{"$f":"N22","v":2222},{"$f":"COUNTIF(L122:L149,AN22)","v":15},{"$f":"AO22/(AQ4-AO20)","v":0.625},{"$f":"IF(AP22=0,0,(AP22*((LOG(AP22))/LOG(2))))","v":-0.42379494069539858},null,{"$f":"N22","v":2222},{"$f":"COUNTIF(L150:L178,AS22)","v":8},{"$f":"AT22/(AV4-AT20)","v":0.36363636363636365},{"$f":"IF(AU22=0,0,(AU22*((LOG(AU22))/LOG(2))))","v":-0.53070240677719893}]
[21,1896,21,1899,11,1907,21,1914,null,null,0,2212,null,null,null,{"$f":"SUM(P7:P22)","v":1},{"$f":"-SUM(Q7:Q22)","v":2.4081542489787733},null,null,null,null,{"$f":"SUM(V7:V22)","v":1},{"$f":"-SUM(W7:W22)","v":1.7152558992251072},null,null,null,{"$f":"SUM(AA7:AA22)","v":1},{"$f":"-SUM(AB7:AB22)","v":1.4708228513368136},null,null,null,{"$f":"SUM(AF7:AF22)","v":1},{"$f":"-SUM(AG7:AG22)","v":1.9248240667373948},null,null,null,{"$f":"SUM(AK7:AK22)","v":1},{"$f":"-SUM(AL7:AL22)","v":1.9657706741379202},null,null,null,{"$f":"SUM(AP7:AP22)","v":1},{"$f":"-SUM(AQ7:AQ22)","v":1.778368899209021},null,null,null,{"$f":"SUM(AU7:AU22)","v":0.99999999999999989},{"$f":"-SUM(AV7:AV22)","v":2.2591419842479019}]
[21,2010,12,2018,24,2026,23,2033,null,null,0,2122,null,null,null,"U=",{"$f":"Q23/(LOG(Q4)/LOG(2))","v":0.32427530239263275},null,null,null,null,"U1=",{"$f":"W23/(LOG(W4)/LOG(2))","v":0.3530799937145625},null,null,null,"U2=",{"$f":"AB23/(LOG(AB4)/LOG(2))","v":0.30595262367424375},null,null,null,"U3=",{"$f":"AG23/(LOG(AG4)/LOG(2))","v":0.39621893718150464},null,null,null,"U4=",{"$f":"AL23/(LOG(AL4)/LOG(2))","v":0.40464766661490376},null,null,null,"U5=",{"$f":"AQ23/(LOG(AQ4)/LOG(2))","v":0.36992669108938153},null,null,null,"U6=",{"$f":"AV23/(LOG(AV4)/LOG(2))","v":0.46503722153581134}]
[21,2132,21,2137,22,2144,23,2151,null,null,0,2222]
[21,2244,12,2245,24,2249,23,2254,null,null,0,2122]
[12,2347,23,2350,24,2353,23,2359,null,null,0,1222,null,"Total Target Seq"]
[21,2456,21,2461,11,2463,21,2467,null,null,0,2212,null,{"$f":"COUNTIF(L7:L178,G3)","v":35},null,29,28,29,29,28,29]
[21,2583,21,2589,22,2595,23,2603,null,null,0,2222,null,null,null,"% of reinforcement given in 6 equal intervals based on number of trials "]
[21,2697,21,2701,22,2707,23,2713,null,null,0,2222,null,null,null,"%_1","%_2","%_3","%_4","%_5","%_6"]
[21,2810,21,2814,22,2819,23,2830,null,null,0,2222,null,null,"target sequence",{"$f":"$G$3","v":2212},{"$f":"$G$3","v":2212},{"$f":"$G$3","v":2212},{"$f":"$G$3","v":2212},{"$f":"$G$3","v":2212},{"$f":"$G$3","v":2212}]
[21,2925,12,2929,24,2933,23,2938,null,null,0,2122,null,null,"total reinforcement",{"$f":"U20","v":4},{"$f":"Z20","v":5},{"$f":"AE20","v":10},{"$f":"AJ20","v":5},{"$f":"AO20","v":4},{"$f":"AT20","v":7}]
[21,3032,21,3037,11,3043,21,3047,null,null,0,2212,null,null,"% target"]
[12,3271,23,3283,24,3291,23,3299,null,null,0,1222,null,null,"CCRF"]
[21,3438,12,3441,24,3443,23,3452,null,null,0,2122,null,null,"% CCRf"]
[12,3547,23,3552,24,3558,23,3567,null,null,0,1222,null,null,"average response rate",{"$f":"H35/P28","v":119.03448275862068},{"$f":"(H63-H35)/Q28","v":150.75},{"$f":"(H92-H63)/R28","v":169.58620689655172},{"$f":"(H121-H92)/S28","v":139.9655172413793},{"$f":"(H149-H121)/T28","v":120.85714285714286},{"$f":"(H178-H149)/U28","v":133.72413793103448}]
[21,3660,21,3662,22,3666,23,3672,null,null,0,2222]
[21,3769,21,3774,11,3777,21,3785,null,null,0,2212]
[12,4211,23,4222,24,4234,23,4241,null,null,0,1222]
[21,4333,21,4338,22,4346,23,4356,null,null,0,2222]
[21,4453,21,4459,22,4465,23,4473,null,null,0,2222]
[21,4567,12,4570,24,4577,23,4587,null,null,0,2122]
[21,4683,21,4689,22,4697,23,4712,null,null,0,2222]
[21,4807,21,4814,11,4826,21,4835,null,null,0,2212]
[21,4973,21,4978,11,4982,21,4985,null,null,0,2212]
[12,5320,23,5330,24,5333,23,5352,null,null,0,1222]
[21,5459,21,5465,11,5475,21,5479,null,null,0,2212]
[21,5730,12,5737,24,5756,14,5763,null,null,0,2121]
[21,5861,21,5869,22,5882,23,5888,null,null,0,2222]
[21,5983,21,5991,22,6003,23,6013,null,null,0,2222]
[21,6110,21,6113,22,6120,23,6130,null,null,0,2222]
[21,6225,21,6230,22,6239,23,6247,null,null,0,2222]
[21,6341,21,6350,22,6361,23,6369,null,null,0,2222]
[21,6467,21,6471,11,6474,21,6477,null,null,0,2212]
[12,6715,23,6747,24,6757,23,6763,null,null,0,1222]
[21,6858,21,6863,22,6868,23,6874,null,null,0,2222]
[21,6971,21,6975,22,6981,14,6987,null,null,0,2221]
[21,7079,21,7086,22,7091,23,7099,null,null,0,2222]
[21,7191,21,7196,22,7204,23,7215,null,null,0,2222]
[21,7310,21,7314,22,7320,23,7328,null,null,0,2222]
[21,7426,21,7434,22,7442,23,7452,null,null,0,2222]
[21,7547,21,7552,22,7557,23,7566,null,null,0,2222]
[12,7659,23,7661,24,7665,23,7673,null,null,0,1222]
[12,7765,23,7769,24,7775,23,7784,null,null,0,1222]
[21,7879,21,7882,22,7886,23,7893,null,null,0,2222]
[21,7988,21,7991,22,7996,23,8003,null,null,0,2222]
[21,8099,21,8105,22,8117,23,8124,null,null,0,2222]
[21,8219,21,8223,22,8230,14,8236,null,null,0,2221]
[21,8333,21,8341,22,8349,23,8357,null,null,0,2222]
[21,8452,21,8456,22,8466,23,8473,null,null,0,2222]
[12,8566,23,8574,24,8577,23,8584,null,null,0,1222]
[21,8677,21,8682,11,8684,21,8688,null,null,0,2212]
[21,9046,21,9060,22,9069,23,9076,null,null,0,2222]
[21,9212,21,9214,11,9219,21,9223,null,null,0,2212]
[21,9412,21,9424,11,9429,21,9433,null,null,0,2212]
[21,9751,21,9763,11,9770,21,9777,null,null,0,2212]
[21,9965,21,9972,22,9978,23,9992,null,null,0,2222]
[21,10087,12,10090,24,10097,23,10109,null,null,0,2122]
[21,10204,21,10212,22,10228,14,10233,null,null,0,2221]
[21,10331,21,10335,22,10339,23,10344,null,null,0,2222]
[21,10440,12,10444,24,10446,23,10450,null,null,0,2122]
[21,10543,12,10547,24,10549,23,10554,null,null,0,2122]
[21,10646,21,10649,11,10652,21,10662,null,null,0,2212]
[21,10754,21,10759,11,10765,21,10776,null,null,0,2212]
[21,10947,21,10952,11,10959,21,10960,null,null,0,2212]
[21,11245,21,11251,11,11256,21,11291,null,null,0,2212]
[21,11833,21,11840,11,11845,21,11854,null,null,0,2212]
[21,12132,12,12137,24,12138,23,12147,null,null,0,2122]
[21,12242,12,12245,24,12248,23,12254,null,null,0,2122]
[12,12346,14,12351,24,12353,14,12355,null,null,0,1121]
[21,12451,21,12454,22,12459,23,12479,null,null,0,2222]
[21,12576,21,12580,11,12585,21,12591,null,null,0,2212]
[21,12725,21,12735,22,12740,23,12756,null,null,0,2222]
[12,12850,23,12885,24,12896,23,12904,null,null,0,1222]
[21,13001,21,13008,22,13013,23,13021,null,null,0,2222]
[21,13117,21,13120,22,13124,23,13130,null,null,0,2222]
[21,13225,21,13230,11,13238,21,13240,null,null,0,2212]
[21,13365,21,13376,11,13382,21,13384,null,null,0,2212]
[21,13594,12,13600,24,13603,23,13625,null,null,0,2122]
[21,13732,21,13736,11,13739,21,13760,null,null,0,2212]
[21,13878,21,13884,11,13893,21,13900,null,null,0,2212]
[21,14061,21,14066,22,14073,23,14091,null,null,0,2222]
[12,14187,23,14190,13,14198,23,14204,null,null,0,1212]
[21,14302,21,14309,22,14315,14,14321,null,null,0,2221]
[12,14415,23,14418,24,14425,23,14429,null,null,0,1222]
[21,14528,21,14534,22,14542,23,14553,null,null,0,2222]
[21,14645,21,14651,22,14661,23,14669,null,null,0,2222]
[12,14762,14,14765,24,14769,23,14776,null,null,0,1122]
[21,14871,21,14876,22,14883,23,14895,null,null,0,2222]
[21,14991,21,14998,22,15004,23,15011,null,null,0,2222]
[21,15103,21,15107,22,15113,23,15121,null,null,0,2222]
[12,15214,23,15220,24,15225,23,15231,null,null,0,1222]
[21,15327,21,15334,22,15342,23,15349,null,null,0,2222]
[21,15442,21,15447,22,15453,14,15457,null,null,0,2221]
[21,15552,21,15563,11,15568,21,15571,null,null,0,2212]
[21,16058,21,16073,22,16083,23,16091,null,null,0,2222]
[21,16194,21,16201,22,16209,23,16215,null,null,0,2222]
[21,16311,12,16316,24,16324,23,16334,null,null,0,2122]
[21,16429,21,16434,22,16438,14,16440,null,null,0,2221]
[12,16533,23,16536,24,16541,23,16547,null,null,0,1222]
[21,16639,21,16641,22,16646,23,16650,null,null,0,2222]
[21,16747,21,16750,22,16762,23,16768,null,null,0,2222]
[21,16862,21,16867,22,16884,23,16893,null,null,0,2222]
[21,16989,21,16996,11,17001,21,17010,null,null,0,2212]
[21,17118,21,17121,11,17123,21,17127,null,null,0,2212]
[21,17324,21,17334,22,17345,23,17353,null,null,0,2222]
[21,17445,21,17452,22,17461,23,17467,null,null,0,2222]
[21,17563,21,17568,22,17574,14,17578,null,null,0,2221]
[12,17674,23,17676,24,17681,23,17691,null,null,0,1222]
[21,17790,21,17796,22,17802,23,17809,null,null,0,2222]
[12,17901,23,17908,24,17911,14,17915,null,null,0,1221]
[21,18014,21,18035,22,18044,23,18051,null,null,0,2222]
[21,18143,21,18147,22,18153,14,18156,null,null,0,2221]
[21,18251,21,18255,11,18259,21,18260,null,null,0,2212]
[21,18353,21,18358,22,18365,23,18377,null,null,0,2222]
[21,18472,21,18478,22,18483,23,18496,null,null,0,2222]
[21,18593,21,18598,11,18603,12,18608,null,null,0,2211]
[21,18707,21,18711,22,18716,23,18724,null,null,0,2222]
[21,18818,21,18822,22,18835,23,18842,null,null,0,2222]
[21,18934,21,18939,22,18943,23,18949,null,null,0,2222]
[21,19041,12,19050,24,19056,23,19062,null,null,0,2122]
[21,19169,21,19172,11,19175,21,19182,null,null,0,2212]
[21,19317,21,19323,22,19330,23,19338,null,null,0,2222]
[21,19444,21,19452,22,19467,23,19473,null,null,0,2222]
[21,19565,21,19572,22,19577,23,19584,null,null,0,2222]
[21,19677,21,19682,22,19694,23,19704,null,null,0,2222]
[21,19801,12,19806,24,19810,23,19814,null,null,0,2122]
[12,19907,23,19914,24,19919,14,19924,null,null,0,1221]
[21,20018,21,20022,22,20027,14,20034,null,null,0,2221]
[12,20128,23,20135,24,20140,23,20146,null,null,0,1222]
[21,20245,21,20251,11,20253,21,20255,null,null,0,2212]
[21,20447,21,20464,22,20471,23,20477,null,null,0,2222]
[21,20575,21,20579,22,20593,23,20601,null,null,0,2222]
[21,20694,21,20699,11,20702,21,20709,null,null,0,2212]
[21,20943,21,20948,11,20954,21,20957,null,null,0,2212]
[21,21148,21,21162,22,21174,23,21195,null,null,0,2222]
[12,21291,23,21297,24,21304,23,21318,null,null,0,1222]
[21,21413,21,21417,11,21419,21,21421,null,null,0,2212]
[21,21522,21,21536,22,21545,23,21554,null,null,0,2222]
[21,21648,12,21654,24,21657,23,21663,null,null,0,2122]
[21,21758,21,21763,11,21768,21,21777,null,null,0,2212]
[21,21876,12,21881,13,21888,23,21905,null,null,0,2112]
[21,22000,21,22005,22,22010,14,22014,null,null,0,2221]
[12,22109,23,22117,13,22121,23,22123,null,null,0,1212]
[21,22218,12,22226,24,22228,23,22232,null,null,0,2122]
[21,22349,21,22353,22,22362,23,22367,null,null,0,2222]
[21,22462,12,22467,24,22469,23,22475,null,null,0,2122]
[21,22569,21,22574,11,22578,21,22583,null,null,0,2212]
[21,22684,21,22694,22,22705,23,22718,null,null,0,2222]
[21,22815,21,22822,22,22829,23,22836,null,null,0,2222]
[21,23021,21,23026,11,23028,21,23032,null,null,0,2212]
[21,23146,12,23155,24,23162,23,23169,null,null,0,2122]
[21,23268,12,23274,24,23278,23,23284,null,null,0,2122]
[21,23441,12,23444,24,23450,23,23454,null,null,0,2122]
[21,23550,12,23557,24,23559,23,23570,null,null,0,2122]
[12,23669,23,23675,24,23680,14,23682,null,null,0,1221]
[21,23776,21,23780,22,23790,23,23800,null,null,0,2222]
[12,23896,23,23899,24,23905,23,23912,null,null,null,1222]

{"sheet":"!M707A30.Gus","index":18,"n_rows":172,"n_cols":48,"rows_kept":172,"cut":false,"hidden":false,"merged":[[4,39,4,42],[5,39,5,40],[4,44,4,47],[5,44,5,45],[4,24,4,27],[5,24,5,25],[4,29,4,32],[5,29,5,30],[4,34,4,37],[5,34,5,35],[1,1,1,2],[5,13,5,14],[26,13,26,14],[27,13,27,14],[4,19,4,22],[5,19,5,20]]}
["Report for:!M707A30.Gus"]
["Date:","<date>"]
["Hen:","<hen>",null,null,null,"Correct Sequence",{"$f":"Start!J2","v":2212},null,null,null,null,null,null,null,null,"Total Sequences in Data",{"$f":"4994-COUNTBLANK(L7:L5000)","v":166},null,null,null,null,"Total Sequences in Block Data",{"$f":"COUNTA(L7:L34)","v":28},null,null,null,"Total Sequences in Block Data",{"$f":"COUNTA(L35:L61)","v":27},null,null,null,"Total Sequences in Block Data",{"$f":"COUNTA(L62:L89)","v":28},null,null,null,"Total Sequences in Block Data",{"$f":"COUNTA(L90:L117)","v":28},null,null,null,"Total Sequences in Block Data",{"$f":"COUNTA(L118:L144)","v":27},null,null,null,"Total Sequences in Block Data",{"$f":"COUNTA(L145:L172)","v":28}]
[null,null,null,null,null,null,null,null,null,null,null,null,null,null,null,"Total Sequences in Summary",{"$f":"SUM(O7:O22)","v":166},null,null,null,null,"Total Sequences in Block Summary",{"$f":"SUM(U7:U22)","v":28},null,null,null,"Total Sequences in Block Summary",{"$f":"SUM(Z7:Z22)","v":27},null,null,null,"Total Sequences in Block Summary",{"$f":"SUM(AE7:AE22)","v":28},null,null,null,"Total Sequences in Block Summary",{"$f":"SUM(AJ7:AJ22)","v":28},null,null,null,"Total Sequences in Block Summary",{"$f":"SUM(AO7:AO22)","v":27},null,null,null,"Total Sequences in Block Summary",{"$f":"SUM(AT7:AT22)","v":28}]
[null,null,null,null,null,null,null,null,null,null,null,null,null,null,null,null,null,null,null,"Block 1",null,null,null,null,"Block 2",null,null,null,null,"Block 3",null,null,null,null,"Block 4",null,null,null,null,"Block 5",null,null,null,null,"Block 6"]
["Sequence\nComponent\n1","Time\n1","Sequence\nComponent\n2","Time\n2","Sequence\nComponent\n3","Time\n3","Sequence\nComponent\n4","Time\n4","Sequence\nComponent\n5","Time\n5","Correct?\n0=No 1=Yes","Sequence",null,"Frequency",null,"Relative Frequency","Variability",null,null,"Frequency",null,"Relative Frequency","Variability",null,"Frequency",null,"Relative Frequency","Variability",null,"Frequency",null,"Relative Frequency","Variability",null,"Frequency",null,"Relative Frequency","Variability",null,"Frequency",null,"Relative Frequency","Variability",null,"Frequency",null,"Relative Frequency","Variability"]
[21,37,21,43,22,53,23,75,null,null,0,2222,null,1111,{"$f":"COUNTIF($L$7:$L$500,N7)","v":0},{"$f":"O7/$Q$4","v":0},{"$f":"IF(P7=0,0,(P7*((LOG(P7))/LOG(2))))","v":0},null,null,{"$f":"N7","v":1111},{"$f":"COUNTIF(L7:L34,T7)","v":0},{"$f":"U7/(W4-U20)","v":0},{"$f":"IF(V7=0,0,(V7*((LOG(V7))/LOG(2))))","v":0},null,{"$f":"N7","v":1111},{"$f":"COUNTIF(L35:L61,Y7)","v":0},{"$f":"Z7/(AB4-Z20)","v":0},{"$f":"IF(AA7=0,0,(AA7*((LOG(AA7))/LOG(2))))","v":0},null,{"$f":"N7","v":1111},{"$f":"COUNTIF(L62:L89,AD7)","v":0},{"$f":"AE7/(AG4-AE20)","v":0},{"$f":"IF(AF7=0,0,(AF7*((LOG(AF7))/LOG(2))))","v":0},null,{"$f":"N7","v":1111},{"$f":"COUNTIF(L90:L117,AI7)","v":0},{"$f":"AJ7/(AL4-AJ20)","v":0},{"$f":"IF(AK7=0,0,(AK7*((LOG(AK7))/LOG(2))))","v":0},null,{"$f":"N7","v":1111},{"$f":"COUNTIF(L118:L144,AN7)","v":0},{"$f":"AO7/(AQ4-AO20)","v":0},{"$f":"IF(AP7=0,0,(AP7*((LOG(AP7))/LOG(2))))","v":0},null,{"$f":"N7","v":1111},{"$f":"COUNTIF(L145:L172,AS7)","v":0},{"$f":"AT7/(AV4-AT20)","v":0},{"$f":"IF(AU7=0,0,(AU7*((LOG(AU7))/LOG(2))))","v":0}]
[21,168,21,174,11,177,21,182,null,null,0,2212,null,1112,{"$f":"COUNTIF($L$7:$L$500,N8)","v":0},{"$f":"O8/$Q$4","v":0},{"$f":"IF(P8=0,0,(P8*((LOG(P8))/LOG(2))))","v":0},null,null,{"$f":"N8","v":1112},{"$f":"COUNTIF(L7:L34,T8)","v":0},{"$f":"U8/(W4-U20)","v":0},{"$f":"IF(V8=0,0,(V8*((LOG(V8))/LOG(2))))","v":0},null,{"$f":"N8","v":1112},{"$f":"COUNTIF(L35:L61,Y8)","v":0},{"$f":"Z8/(AB4-Z20)","v":0},{"$f":"IF(AA8=0,0,(AA8*((LOG(AA8))/LOG(2))))","v":0},null,{"$f":"N8","v":1112},{"$f":"COUNTIF(L62:L89,AD8)","v":0},{"$f":"AE8/(AG4-AE20)","v":0},{"$f":"IF(AF8=0,0,(AF8*((LOG(AF8))/LOG(2))))","v":0},null,{"$f":"N8","v":1112},{"$f":"COUNTIF(L90:L117,AI8)","v":0},{"$f":"AJ8/(AL4-AJ20)","v":0},{"$f":"IF(AK8=0,0,(AK8*((LOG(AK8))/LOG(2))))","v":0},null,{"$f":"N8","v":1112},{"$f":"COUNTIF(L118:L144,AN8)","v":0},{"$f":"AO8/(AQ4-AO20)","v":0},{"$f":"IF(AP8=0,0,(AP8*((LOG(AP8))/LOG(2))))","v":0},null,{"$f":"N8","v":1112},{"$f":"COUNTIF(L145:L172,AS8)","v":0},{"$f":"AT8/(AV4-AT20)","v":0},{"$f":"IF(AU8=0,0,(AU8*((LOG(AU8))/LOG(2))))","v":0}]
[12,319,23,350,24,356,23,369,null,null,0,1222,null,1121,{"$f":"COUNTIF($L$7:$L$500,N9)","v":0},{"$f":"O9/$Q$4","v":0},{"$f":"IF(P9=0,0,(P9*((LOG(P9))/LOG(2))))","v":0},null,null,{"$f":"N9","v":1121},{"$f":"COUNTIF(L7:L34,T9)","v":0},{"$f":"U9/(W4-U20)","v":0},{"$f":"IF(V9=0,0,(V9*((LOG(V9))/LOG(2))))","v":0},null,{"$f":"N9","v":1121},{"$f":"COUNTIF(L35:L61,Y9)","v":0},{"$f":"Z9/(AB4-Z20)","v":0},{"$f":"IF(AA9=0,0,(AA9*((LOG(AA9))/LOG(2))))","v":0},null,{"$f":"N9","v":1121},{"$f":"COUNTIF(L62:L89,AD9)","v":0},{"$f":"AE9/(AG4-AE20)","v":0},{"$f":"IF(AF9=0,0,(AF9*((LOG(AF9))/LOG(2))))","v":0},null,{"$f":"N9","v":1121},{"$f":"COUNTIF(L90:L117,AI9)","v":0},{"$f":"AJ9/(AL4-AJ20)","v":0},{"$f":"IF(AK9=0,0,(AK9*((LOG(AK9))/LOG(2))))","v":0},null,{"$f":"N9","v":1121},{"$f":"COUNTIF(L118:L144,AN9)","v":0},{"$f":"AO9/(AQ4-AO20)","v":0},{"$f":"IF(AP9=0,0,(AP9*((LOG(AP9))/LOG(2))))","v":0},null,{"$f":"N9","v":1121},{"$f":"COUNTIF(L145:L172,AS9)","v":0},{"$f":"AT9/(AV4-AT20)","v":0},{"$f":"IF(AU9=0,0,(AU9*((LOG(AU9))/LOG(2))))","v":0}]
[21,473,21,485,22,492,14,496,null,null,0,2221,null,1122,{"$f":"COUNTIF($L$7:$L$500,N10)","v":0},{"$f":"O10/$Q$4","v":0},{"$f":"IF(P10=0,0,(P10*((LOG(P10))/LOG(2))))","v":0},null,null,{"$f":"N10","v":1122},{"$f":"COUNTIF(L7:L34,T10)","v":0},{"$f":"U10/(W4-U20)","v":0},{"$f":"IF(V10=0,0,(V10*((LOG(V10))/LOG(2))))","v":0},null,{"$f":"N10","v":1122},{"$f":"COUNTIF(L35:L61,Y10)","v":0},{"$f":"Z10/(AB4-Z20)","v":0},{"$f":"IF(AA10=0,0,(AA10*((LOG(AA10))/LOG(2))))","v":0},null,{"$f":"N10","v":1122},{"$f":"COUNTIF(L62:L89,AD10)","v":0},{"$f":"AE10/(AG4-AE20)","v":0},{"$f":"IF(AF10=0,0,(AF10*((LOG(AF10))/LOG(2))))","v":0},null,{"$f":"N10","v":1122},{"$f":"COUNTIF(L90:L117,AI10)","v":0},{"$f":"AJ10/(AL4-AJ20)","v":0},{"$f":"IF(AK10=0,0,(AK10*((LOG(AK10))/LOG(2))))","v":0},null,{"$f":"N10","v":1122},{"$f":"COUNTIF(L118:L144,AN10)","v":0},{"$f":"AO10/(AQ4-AO20)","v":0},{"$f":"IF(AP10=0,0,(AP10*((LOG(AP10))/LOG(2))))","v":0},null,{"$f":"N10","v":1122},{"$f":"COUNTIF(L145:L172,AS10)","v":0},{"$f":"AT10/(AV4-AT20)","v":0},{"$f":"IF(AU10=0,0,(AU10*((LOG(AU10))/LOG(2))))","v":0}]
[21,593,21,598,22,611,23,620,null,null,0,2222,null,1211,{"$f":"COUNTIF($L$7:$L$500,N11)","v":0},{"$f":"O11/$Q$4","v":0},{"$f":"IF(P11=0,0,(P11*((LOG(P11))/LOG(2))))","v":0},null,null,{"$f":"N11","v":1211},{"$f":"COUNTIF(L7:L34,T11)","v":0},{"$f":"U11/(W4-U20)","v":0},{"$f":"IF(V11=0,0,(V11*((LOG(V11))/LOG(2))))","v":0},null,{"$f":"N11","v":1211},{"$f":"COUNTIF(L35:L61,Y11)","v":0},{"$f":"Z11/(AB4-Z20)","v":0},{"$f":"IF(AA11=0,0,(AA11*((LOG(AA11))/LOG(2))))","v":0},null,{"$f":"N11","v":1211},{"$f":"COUNTIF(L62:L89,AD11)","v":0},{"$f":"AE11/(AG4-AE20)","v":0},{"$f":"IF(AF11=0,0,(AF11*((LOG(AF11))/LOG(2))))","v":0},null,{"$f":"N11","v":1211},{"$f":"COUNTIF(L90:L117,AI11)","v":0},{"$f":"AJ11/(AL4-AJ20)","v":0},{"$f":"IF(AK11=0,0,(AK11*((LOG(AK11))/LOG(2))))","v":0},null,{"$f":"N11","v":1211},{"$f":"COUNTIF(L118:L144,AN11)","v":0},{"$f":"AO11/(AQ4-AO20)","v":0},{"$f":"IF(AP11=0,0,(AP11*((LOG(AP11))/LOG(2))))","v":0},null,{"$f":"N11","v":1211},{"$f":"COUNTIF(L145:L172,AS11)","v":0},{"$f":"AT11/(AV4-AT20)","v":0},{"$f":"IF(AU11=0,0,(AU11*((LOG(AU11))/LOG(2))))","v":0}]
[21,714,12,718,24,723,23,730,null,null,0,2122,null,1212,{"$f":"COUNTIF($L$7:$L$500,N12)","v":6},{"$f":"O12/$Q$4","v":3.614457831325301E-2},{"$f":"IF(P12=0,0,(P12*((LOG(P12))/LOG(2))))","v":-0.17313531074550972},null,null,{"$f":"N12","v":1212},{"$f":"COUNTIF(L7:L34,T12)","v":1},{"$f":"U12/(W4-U20)","v":4.3478260869565216E-2},{"$f":"IF(V12=0,0,(V12*((LOG(V12))/LOG(2))))","v":-0.19667660678508753},null,{"$f":"N12","v":1212},{"$f":"COUNTIF(L35:L61,Y12)","v":2},{"$f":"Z12/(AB4-Z20)","v":0.1},{"$f":"IF(AA12=0,0,(AA12*((LOG(AA12))/LOG(2))))","v":-0.33219280948873625},null,{"$f":"N12","v":1212},{"$f":"COUNTIF(L62:L89,AD12)","v":0},{"$f":"AE12/(AG4-AE20)","v":0},{"$f":"IF(AF12=0,0,(AF12*((LOG(AF12))/LOG(2))))","v":0},null,{"$f":"N12","v":1212},{"$f":"COUNTIF(L90:L117,AI12)","v":0},{"$f":"AJ12/(AL4-AJ20)","v":0},{"$f":"IF(AK12=0,0,(AK12*((LOG(AK12))/LOG(2))))","v":0},null,{"$f":"N12","v":1212},{"$f":"COUNTIF(L118:L144,AN12)","v":2},{"$f":"AO12/(AQ4-AO20)","v":9.0909090909090912E-2},{"$f":"IF(AP12=0,0,(AP12*((LOG(AP12))/LOG(2))))","v":-0.31449378351248153},null,{"$f":"N12","v":1212},{"$f":"COUNTIF(L145:L172,AS12)","v":1},{"$f":"AT12/(AV4-AT20)","v":4.3478260869565216E-2},{"$f":"IF(AU12=0,0,(AU12*((LOG(AU12))/LOG(2))))","v":-0.19667660678508753}]
[21,823,21,828,11,831,21,835,null,null,0,2212,null,1221,{"$f":"COUNTIF($L$7:$L$500,N13)","v":5},{"$f":"O13/$Q$4","v":3.0120481927710843E-2},{"$f":"IF(P13=0,0,(P13*((LOG(P13))/LOG(2))))","v":-0.15220214868854101},null,null,{"$f":"N13","v":1221},{"$f":"COUNTIF(L7:L34,T13)","v":0},{"$f":"U13/(W4-U20)","v":0},{"$f":"IF(V13=0,0,(V13*((LOG(V13))/LOG(2))))","v":0},null,{"$f":"N13","v":1221},{"$f":"COUNTIF(L35:L61,Y13)","v":0},{"$f":"Z13/(AB4-Z20)","v":0},{"$f":"IF(AA13=0,0,(AA13*((LOG(AA13))/LOG(2))))","v":0},null,{"$f":"N13","v":1221},{"$f":"COUNTIF(L62:L89,AD13)","v":2},{"$f":"AE13/(AG4-AE20)","v":8.3333333333333329E-2},{"$f":"IF(AF13=0,0,(AF13*((LOG(AF13))/LOG(2))))","v":-0.29874687506009634},null,{"$f":"N13","v":1221},{"$f":"COUNTIF(L90:L117,AI13)","v":1},{"$f":"AJ13/(AL4-AJ20)","v":4.5454545454545456E-2},{"$f":"IF(AK13=0,0,(AK13*((LOG(AK13))/LOG(2))))","v":-0.20270143721078623},null,{"$f":"N13","v":1221},{"$f":"COUNTIF(L118:L144,AN13)","v":1},{"$f":"AO13/(AQ4-AO20)","v":4.5454545454545456E-2},{"$f":"IF(AP13=0,0,(AP13*((LOG(AP13))/LOG(2))))","v":-0.20270143721078623},null,{"$f":"N13","v":1221},{"$f":"COUNTIF(L145:L172,AS13)","v":1},{"$f":"AT13/(AV4-AT20)","v":4.3478260869565216E-2},{"$f":"IF(AU13=0,0,(AU13*((LOG(AU13))/LOG(2))))","v":-0.19667660678508753}]
[21,927,12,934,24,937,23,949,null,null,0,2122,null,1222,{"$f":"COUNTIF($L$7:$L$500,N14)","v":18},{"$f":"O14/$Q$4","v":0.10843373493975904},{"$f":"IF(P14=0,0,(P14*((LOG(P14))/LOG(2))))","v":-0.34754252854387363},null,null,{"$f":"N14","v":1222},{"$f":"COUNTIF(L7:L34,T14)","v":2},{"$f":"U14/(W4-U20)","v":8.6956521739130432E-2},{"$f":"IF(V14=0,0,(V14*((LOG(V14))/LOG(2))))","v":-0.30639669183104457},null,{"$f":"N14","v":1222},{"$f":"COUNTIF(L35:L61,Y14)","v":2},{"$f":"Z14/(AB4-Z20)","v":0.1},{"$f":"IF(AA14=0,0,(AA14*((LOG(AA14))/LOG(2))))","v":-0.33219280948873625},null,{"$f":"N14","v":1222},{"$f":"COUNTIF(L62:L89,AD14)","v":5},{"$f":"AE14/(AG4-AE20)","v":0.20833333333333334},{"$f":"IF(AF14=0,0,(AF14*((LOG(AF14))/LOG(2))))","v":-0.47146550121537367},null,{"$f":"N14","v":1222},{"$f":"COUNTIF(L90:L117,AI14)","v":4},{"$f":"AJ14/(AL4-AJ20)","v":0.18181818181818182},{"$f":"IF(AK14=0,0,(AK14*((LOG(AK14))/LOG(2))))","v":-0.44716938520678134},null,{"$f":"N14","v":1222},{"$f":"COUNTIF(L118:L144,AN14)","v":3},{"$f":"AO14/(AQ4-AO20)","v":0.13636363636363635},{"$f":"IF(AP14=0,0,(AP14*((LOG(AP14))/LOG(2))))","v":-0.39197306153401923},null,{"$f":"N14","v":1222},{"$f":"COUNTIF(L145:L172,AS14)","v":2},{"$f":"AT14/(AV4-AT20)","v":8.6956521739130432E-2},{"$f":"IF(AU14=0,0,(AU14*((LOG(AU14))/LOG(2))))","v":-0.30639669183104457}]
[12,1051,23,1054,24,1059,23,1067,null,null,0,1222,null,2111,{"$f":"COUNTIF($L$7:$L$500,N15)","v":0},{"$f":"O15/$Q$4","v":0},{"$f":"IF(P15=0,0,(P15*((LOG(P15))/LOG(2))))","v":0},null,null,{"$f":"N15","v":2111},{"$f":"COUNTIF(L7:L34,T15)","v":0},{"$f":"U15/(W4-U20)","v":0},{"$f":"IF(V15=0,0,(V15*((LOG(V15))/LOG(2))))","v":0},null,{"$f":"N15","v":2111},{"$f":"COUNTIF(L35:L61,Y15)","v":0},{"$f":"Z15/(AB4-Z20)","v":0},{"$f":"IF(AA15=0,0,(AA15*((LOG(AA15))/LOG(2))))","v":0},null,{"$f":"N15","v":2111},{"$f":"COUNTIF(L62:L89,AD15)","v":0},{"$f":"AE15/(AG4-AE20)","v":0},{"$f":"IF(AF15=0,0,(AF15*((LOG(AF15))/LOG(2))))","v":0},null,{"$f":"N15","v":2111},{"$f":"COUNTIF(L90:L117,AI15)","v":0},{"$f":"AJ15/(AL4-AJ20)","v":0},{"$f":"IF(AK15=0,0,(AK15*((LOG(AK15))/LOG(2))))","v":0},null,{"$f":"N15","v":2111},{"$f":"COUNTIF(L118:L144,AN15)","v":0},{"$f":"AO15/(AQ4-AO20)","v":0},{"$f":"IF(AP15=0,0,(AP15*((LOG(AP15))/LOG(2))))","v":0},null,{"$f":"N15","v":2111},{"$f":"COUNTIF(L145:L172,AS15)","v":0},{"$f":"AT15/(AV4-AT20)","v":0},{"$f":"IF(AU15=0,0,(AU15*((LOG(AU15))/LOG(2))))","v":0}]
[21,1160,21,1164,22,1168,14,1171,null,null,0,2221,null,2112,{"$f":"COUNTIF($L$7:$L$500,N16)","v":0},{"$f":"O16/$Q$4","v":0},{"$f":"IF(P16=0,0,(P16*((LOG(P16))/LOG(2))))","v":0},null,null,{"$f":"N16","v":2112},{"$f":"COUNTIF(L7:L34,T16)","v":0},{"$f":"U16/(W4-U20)","v":0},{"$f":"IF(V16=0,0,(V16*((LOG(V16))/LOG(2))))","v":0},null,{"$f":"N16","v":2112},{"$f":"COUNTIF(L35:L61,Y16)","v":0},{"$f":"Z16/(AB4-Z20)","v":0},{"$f":"IF(AA16=0,0,(AA16*((LOG(AA16))/LOG(2))))","v":0},null,{"$f":"N16","v":2112},{"$f":"COUNTIF(L62:L89,AD16)","v":0},{"$f":"AE16/(AG4-AE20)","v":0},{"$f":"IF(AF16=0,0,(AF16*((LOG(AF16))/LOG(2))))","v":0},null,{"$f":"N16","v":2112},{"$f":"COUNTIF(L90:L117,AI16)","v":0},{"$f":"AJ16/(AL4-AJ20)","v":0},{"$f":"IF(AK16=0,0,(AK16*((LOG(AK16))/LOG(2))))","v":0},null,{"$f":"N16","v":2112},{"$f":"COUNTIF(L118:L144,AN16)","v":0},{"$f":"AO16/(AQ4-AO20)","v":0},{"$f":"IF(AP16=0,0,(AP16*((LOG(AP16))/LOG(2))))","v":0},null,{"$f":"N16","v":2112},{"$f":"COUNTIF(L145:L172,AS16)","v":0},{"$f":"AT16/(AV4-AT20)","v":0},{"$f":"IF(AU16=0,0,(AU16*((LOG(AU16))/LOG(2))))","v":0}]
[21,1266,21,1270,22,1275,23,1283,null,null,0,2222,null,2121,{"$f":"COUNTIF($L$7:$L$500,N17)","v":2},{"$f":"O17/$Q$4","v":1.2048192771084338E-2},{"$f":"IF(P17=0,0,(P17*((LOG(P17))/LOG(2))))","v":-7.6807703992131618E-2},null,null,{"$f":"N17","v":2121},{"$f":"COUNTIF(L7:L34,T17)","v":1},{"$f":"U17/(W4-U20)","v":4.3478260869565216E-2},{"$f":"IF(V17=0,0,(V17*((LOG(V17))/LOG(2))))","v":-0.19667660678508753},null,{"$f":"N17","v":2121},{"$f":"COUNTIF(L35:L61,Y17)","v":0},{"$f":"Z17/(AB4-Z20)","v":0},{"$f":"IF(AA17=0,0,(AA17*((LOG(AA17))/LOG(2))))","v":0},null,{"$f":"N17","v":2121},{"$f":"COUNTIF(L62:L89,AD17)","v":0},{"$f":"AE17/(AG4-AE20)","v":0},{"$f":"IF(AF17=0,0,(AF17*((LOG(AF17))/LOG(2))))","v":0},null,{"$f":"N17","v":2121},{"$f":"COUNTIF(L90:L117,AI17)","v":1},{"$f":"AJ17/(AL4-AJ20)","v":4.5454545454545456E-2},{"$f":"IF(AK17=0,0,(AK17*((LOG(AK17))/LOG(2))))","v":-0.20270143721078623},null,{"$f":"N17","v":2121},{"$f":"COUNTIF(L118:L144,AN17)","v":0},{"$f":"AO17/(AQ4-AO20)","v":0},{"$f":"IF(AP17=0,0,(AP17*((LOG(AP17))/LOG(2))))","v":0},null,{"$f":"N17","v":2121},{"$f":"COUNTIF(L145:L172,AS17)","v":0},{"$f":"AT17/(AV4-AT20)","v":0},{"$f":"IF(AU17=0,0,(AU17*((LOG(AU17))/LOG(2))))","v":0}]
[21,1377,21,1381,22,1394,23,1401,null,null,0,2222,null,2122,{"$f":"COUNTIF($L$7:$L$500,N18)","v":36},{"$f":"O18/$Q$4","v":0.21686746987951808},{"$f":"IF(P18=0,0,(P18*((LOG(P18))/LOG(2))))","v":-0.47821758720822921},null,null,{"$f":"N18","v":2122},{"$f":"COUNTIF(L7:L34,T18)","v":3},{"$f":"U18/(W4-U20)","v":0.13043478260869565},{"$f":"IF(V18=0,0,(V18*((LOG(V18))/LOG(2))))","v":-0.3832955811307639},null,{"$f":"N18","v":2122},{"$f":"COUNTIF(L35:L61,Y18)","v":7},{"$f":"Z18/(AB4-Z20)","v":0.35},{"$f":"IF(AA18=0,0,(AA18*((LOG(AA18))/LOG(2))))","v":-0.53010061049041535},null,{"$f":"N18","v":2122},{"$f":"COUNTIF(L62:L89,AD18)","v":6},{"$f":"AE18/(AG4-AE20)","v":0.25},{"$f":"IF(AF18=0,0,(AF18*((LOG(AF18))/LOG(2))))","v":-0.5},null,{"$f":"N18","v":2122},{"$f":"COUNTIF(L90:L117,AI18)","v":8},{"$f":"AJ18/(AL4-AJ20)","v":0.36363636363636365},{"$f":"IF(AK18=0,0,(AK18*((LOG(AK18))/LOG(2))))","v":-0.53070240677719893},null,{"$f":"N18","v":2122},{"$f":"COUNTIF(L118:L144,AN18)","v":5},{"$f":"AO18/(AQ4-AO20)","v":0.22727272727272727},{"$f":"IF(AP18=0,0,(AP18*((LOG(AP18))/LOG(2))))","v":-0.48579625539771243},null,{"$f":"N18","v":2122},{"$f":"COUNTIF(L145:L172,AS18)","v":7},{"$f":"AT18/(AV4-AT20)","v":0.30434782608695654},{"$f":"IF(AU18=0,0,(AU18*((LOG(AU18))/LOG(2))))","v":-0.52232387991286355}]
[21,1493,21,1499,22,1503,23,1510,null,null,0,2222,null,2211,{"$f":"COUNTIF($L$7:$L$500,N19)","v":1},{"$f":"O19/$Q$4","v":6.024096385542169E-3},{"$f":"IF(P19=0,0,(P19*((LOG(P19))/LOG(2))))","v":-4.4427948381607983E-2},null,null,{"$f":"N19","v":2211},{"$f":"COUNTIF(L7:L34,T19)","v":0},{"$f":"U19/(W4-U20)","v":0},{"$f":"IF(V19=0,0,(V19*((LOG(V19))/LOG(2))))","v":0},null,{"$f":"N19","v":2211},{"$f":"COUNTIF(L35:L61,Y19)","v":1},{"$f":"Z19/(AB4-Z20)","v":0.05},{"$f":"IF(AA19=0,0,(AA19*((LOG(AA19))/LOG(2))))","v":-0.21609640474436814},null,{"$f":"N19","v":2211},{"$f":"COUNTIF(L62:L89,AD19)","v":0},{"$f":"AE19/(AG4-AE20)","v":0},{"$f":"IF(AF19=0,0,(AF19*((LOG(AF19))/LOG(2))))","v":0},null,{"$f":"N19","v":2211},{"$f":"COUNTIF(L90:L117,AI19)","v":0},{"$f":"AJ19/(AL4-AJ20)","v":0},{"$f":"IF(AK19=0,0,(AK19*((LOG(AK19))/LOG(2))))","v":0},null,{"$f":"N19","v":2211},{"$f":"COUNTIF(L118:L144,AN19)","v":0},{"$f":"AO19/(AQ4-AO20)","v":0},{"$f":"IF(AP19=0,0,(AP19*((LOG(AP19))/LOG(2))))","v":0},null,{"$f":"N19","v":2211},{"$f":"COUNTIF(L145:L172,AS19)","v":0},{"$f":"AT19/(AV4-AT20)","v":0},{"$f":"IF(AU19=0,0,(AU19*((LOG(AU19))/LOG(2))))","v":0}]
[21,1608,12,1610,24,1612,14,1618,null,null,0,2121,null,2212,{"$f":"COUNTIF($L$7:$L$500,N20)","v":32},{"$f":"O20/$Q$4","v":0.19277108433734941},{"$f":"IF(P20=0,0,(P20*((LOG(P20))/LOG(2))))","v":-0.45783892652470837},null,null,{"$f":"N20","v":2212},{"$f":"COUNTIF(L7:L34,T20)","v":5},null,null,null,{"$f":"N20","v":2212},{"$f":"COUNTIF(L35:L61,Y20)","v":7},null,null,null,{"$f":"N20","v":2212},{"$f":"COUNTIF(L62:L89,AD20)","v":4},null,null,null,{"$f":"N20","v":2212},{"$f":"COUNTIF(L90:L117,AI20)","v":6},null,null,null,{"$f":"N20","v":2212},{"$f":"COUNTIF(L118:L144,AN20)","v":5},null,null,null,{"$f":"N20","v":2212},{"$f":"COUNTIF(L145:L172,AS20)","v":5}]
[21,1713,21,1717,11,1719,21,1723,null,null,0,2212,null,2221,{"$f":"COUNTIF($L$7:$L$500,N21)","v":12},{"$f":"O21/$Q$4","v":7.2289156626506021E-2},{"$f":"IF(P21=0,0,(P21*((LOG(P21))/LOG(2))))","v":-0.27398146486451341},null,null,{"$f":"N21","v":2221},{"$f":"COUNTIF(L7:L34,T21)","v":2},{"$f":"U21/(W4-U20)","v":8.6956521739130432E-2},{"$f":"IF(V21=0,0,(V21*((LOG(V21))/LOG(2))))","v":-0.30639669183104457},null,{"$f":"N21","v":2221},{"$f":"COUNTIF(L35:L61,Y21)","v":1},{"$f":"Z21/(AB4-Z20)","v":0.05},{"$f":"IF(AA21=0,0,(AA21*((LOG(AA21))/LOG(2))))","v":-0.21609640474436814},null,{"$f":"N21","v":2221},{"$f":"COUNTIF(L62:L89,AD21)","v":2},{"$f":"AE21/(AG4-AE20)","v":8.3333333333333329E-2},{"$f":"IF(AF21=0,0,(AF21*((LOG(AF21))/LOG(2))))","v":-0.29874687506009634},null,{"$f":"N21","v":2221},{"$f":"COUNTIF(L90:L117,AI21)","v":4},{"$f":"AJ21/(AL4-AJ20)","v":0.18181818181818182},{"$f":"IF(AK21=0,0,(AK21*((LOG(AK21))/LOG(2))))","v":-0.44716938520678134},null,{"$f":"N21","v":2221},{"$f":"COUNTIF(L118:L144,AN21)","v":0},{"$f":"AO21/(AQ4-AO20)","v":0},{"$f":"IF(AP21=0,0,(AP21*((LOG(AP21))/LOG(2))))","v":0},null,{"$f":"N21","v":2221},{"$f":"COUNTIF(L145:L172,AS21)","v":3},{"$f":"AT21/(AV4-AT20)","v":0.13043478260869565},{"$f":"IF(AU21=0,0,(AU21*((LOG(AU21))/LOG(2))))","v":-0.3832955811307639}]
[21,2304,21,2307,22,2314,23,2327,null,null,0,2222,null,2222,{"$f":"COUNTIF($L$7:$L$500,N22)","v":54},{"$f":"O22/$Q$4","v":0.3253012048192771},{"$f":"IF(P22=0,0,(P22*((LOG(P22))/LOG(2))))","v":-0.5270373745536544},null,null,{"$f":"N22","v":2222},{"$f":"COUNTIF(L7:L34,T22)","v":14},{"$f":"U22/(W4-U20)","v":0.60869565217391308},{"$f":"IF(V22=0,0,(V22*((LOG(V22))/LOG(2))))","v":-0.43595210765181397},null,{"$f":"N22","v":2222},{"$f":"COUNTIF(L35:L61,Y22)","v":7},{"$f":"Z22/(AB4-Z20)","v":0.35},{"$f":"IF(AA22=0,0,(AA22*((LOG(AA22))/LOG(2))))","v":-0.53010061049041535},null,{"$f":"N22","v":2222},{"$f":"COUNTIF(L62:L89,AD22)","v":9},{"$f":"AE22/(AG4-AE20)","v":0.375},{"$f":"IF(AF22=0,0,(AF22*((LOG(AF22))/LOG(2))))","v":-0.53063906222956647},null,{"$f":"N22","v":2222},{"$f":"COUNTIF(L90:L117,AI22)","v":4},{"$f":"AJ22/(AL4-AJ20)","v":0.18181818181818182},{"$f":"IF(AK22=0,0,(AK22*((LOG(AK22))/LOG(2))))","v":-0.44716938520678134},null,{"$f":"N22","v":2222},{"$f":"COUNTIF(L118:L144,AN22)","v":11},{"$f":"AO22/(AQ4-AO20)","v":0.5},{"$f":"IF(AP22=0,0,(AP22*((LOG(AP22))/LOG(2))))","v":-0.5},null,{"$f":"N22","v":2222},{"$f":"COUNTIF(L145:L172,AS22)","v":9},{"$f":"AT22/(AV4-AT20)","v":0.39130434782608697},{"$f":"IF(AU22=0,0,(AU22*((LOG(AU22))/LOG(2))))","v":-0.5296840257187958}]
[21,2424,21,2431,22,2447,23,2470,null,null,0,2222,null,null,null,{"$f":"SUM(P7:P22)","v":1},{"$f":"-SUM(Q7:Q22)","v":2.5311909935027694},null,null,null,null,{"$f":"SUM(V7:V22)","v":1},{"$f":"-SUM(W7:W22)","v":1.8253942860148422},null,null,null,{"$f":"SUM(AA7:AA22)","v":1},{"$f":"-SUM(AB7:AB22)","v":2.1567796494470395},null,null,null,{"$f":"SUM(AF7:AF22)","v":1},{"$f":"-SUM(AG7:AG22)","v":2.0995983135651328},null,null,null,{"$f":"SUM(AK7:AK22)","v":1.0000000000000002},{"$f":"-SUM(AL7:AL22)","v":2.2776134368191152},null,null,null,{"$f":"SUM(AP7:AP22)","v":1},{"$f":"-SUM(AQ7:AQ22)","v":1.8949645376549995},null,null,null,{"$f":"SUM(AU7:AU22)","v":1},{"$f":"-SUM(AV7:AV22)","v":2.135053392163643}]
[21,2566,21,2572,22,2577,23,2585,null,null,0,2222,null,null,null,"U=",{"$f":"Q23/(LOG(Q4)/LOG(2))","v":0.34321050308479378},null,null,null,null,"U1=",{"$f":"W23/(LOG(W4)/LOG(2))","v":0.37970865800637665},null,null,null,"U2=",{"$f":"AB23/(LOG(AB4)/LOG(2))","v":0.45359215091118504},null,null,null,"U3=",{"$f":"AG23/(LOG(AG4)/LOG(2))","v":0.43674709847852888},null,null,null,"U4=",{"$f":"AL23/(LOG(AL4)/LOG(2))","v":0.47377684272254028},null,null,null,"U5=",{"$f":"AQ23/(LOG(AQ4)/LOG(2))","v":0.3985298362564399},null,null,null,"U6=",{"$f":"AV23/(LOG(AV4)/LOG(2))","v":0.44412227238878699}]
[21,2680,21,2684,11,2687,21,2709,null,null,0,2212]
[21,2876,21,2890,22,2910,23,2919,null,null,0,2222]
[21,3034,21,3052,22,3065,23,3075,null,null,0,2222,null,"Total Target Seq"]
[21,3174,12,3177,24,3185,23,3194,null,null,0,2122,null,{"$f":"COUNTIF(L7:L172,G3)","v":32},null,28,27,28,28,27,28]
[21,3289,21,3297,22,3306,23,3316,null,null,0,2222,null,null,null,"% of reinforcement given in 6 equal intervals based on number of trials "]
[21,3414,21,3420,22,3434,23,3442,null,null,0,2222,null,null,null,"%_1","%_2","%_3","%_4","%_5","%_6"]
[21,3537,21,3541,22,3546,23,3554,null,null,0,2222,null,null,"target sequence",{"$f":"$G$3","v":2212},{"$f":"$G$3","v":2212},{"$f":"$G$3","v":2212},{"$f":"$G$3","v":2212},{"$f":"$G$3","v":2212},{"$f":"$G$3","v":2212}]
[12,3648,23,3657,13,3659,23,3664,null,null,0,1212,null,null,"total reinforcement",{"$f":"U20","v":5},{"$f":"Z20","v":7},{"$f":"AE20","v":4},{"$f":"AJ20","v":6},{"$f":"AO20","v":5},{"$f":"AT20","v":5}]
[21,3758,21,3762,11,3770,21,3772,null,null,0,2212,null,null,"% target"]
[21,3922,21,3953,22,3961,23,3987,null,null,0,2222,null,null,"CCRF"]
[21,4082,21,4085,22,4096,23,4103,null,null,0,2222,null,null,"% CCRf"]
[21,4195,12,4199,24,4201,23,4210,null,null,0,2122,null,null,"average response rate",{"$f":"H34/P28","v":142.39285714285714},{"$f":"(H61-H34)/Q28","v":172.40740740740742},{"$f":"(H89-H61)/R28","v":132.28571428571428},{"$f":"(H117-H89)/S28","v":142.07142857142858},{"$f":"(H144-H117)/T28","v":131.92592592592592},{"$f":"(H172-H144)/U28","v":143.5}]
[12,4303,23,4314,24,4323,23,4334,null,null,0,1222]
[21,4430,21,4434,11,4453,12,4454,null,null,0,2211]
[21,4551,21,4553,22,4556,23,4559,null,null,0,2222]
[21,4656,21,4659,22,4665,14,4671,null,null,0,2221]
[21,4769,21,4774,22,4787,23,4795,null,null,0,2222]
[21,4889,21,4894,11,4896,21,4899,null,null,0,2212]
[21,5020,21,5024,11,5027,21,5029,null,null,0,2212]
[21,5259,21,5264,11,5269,21,5272,null,null,0,2212]
[12,5733,23,5749,13,5759,23,5766,null,null,0,1212]
[21,5875,21,5891,22,5899,23,5906,null,null,0,2222]
[21,6005,21,6009,22,6015,23,6022,null,null,0,2222]
[21,6117,21,6121,11,6123,21,6126,null,null,0,2212]
[21,6318,12,6325,24,6332,23,6341,null,null,0,2122]
[12,6444,23,6471,24,6477,23,6487,null,null,0,1222]
[21,6583,12,6589,24,6590,23,6597,null,null,0,2122]
[21,6695,21,6700,22,6708,23,6716,null,null,0,2222]
[21,6808,12,6811,24,6818,23,6828,null,null,0,2122]
[21,6930,12,6935,24,6939,23,6945,null,null,0,2122]
[21,7041,21,7048,11,7053,21,7054,null,null,0,2212]
[12,7913,23,7930,13,7940,23,7948,null,null,0,1212]
[21,8040,21,8048,11,8055,21,8066,null,null,0,2212]
[21,8184,21,8189,11,8199,21,8203,null,null,0,2212]
[21,8383,12,8388,24,8396,23,8404,null,null,0,2122]
[21,8497,12,8499,24,8503,23,8511,null,null,0,2122]
[21,8606,21,8615,22,8629,23,8642,null,null,0,2222]
[21,8737,21,8741,22,8747,23,8755,null,null,0,2222]
[21,8851,21,8854,11,8856,21,8864,null,null,0,2212]
[21,9047,21,9055,22,9061,23,9075,null,null,0,2222]
[21,9168,21,9183,22,9196,23,9205,null,null,0,2222]
[21,9300,21,9303,11,9306,21,9314,null,null,0,2212]
[21,9510,12,9511,24,9515,23,9544,null,null,0,2122]
[12,9679,23,9693,24,9699,23,9705,null,null,0,1222]
[21,9801,21,9808,22,9817,23,9826,null,null,0,2222]
[21,9923,21,9928,11,9935,21,9937,null,null,0,2212]
[21,10246,21,10251,22,10257,14,10259,null,null,0,2221]
[21,10355,12,10359,24,10366,23,10374,null,null,0,2122]
[21,10472,12,10474,24,10481,23,10490,null,null,0,2122]
[12,10590,23,10592,24,10598,23,10607,null,null,0,1222]
[21,10699,21,10703,11,10707,21,10709,null,null,0,2212]
[21,10833,12,10842,24,10851,23,10860,null,null,0,2122]
[21,10957,21,10963,22,10975,23,10983,null,null,0,2222]
[12,11076,23,11084,24,11087,14,11090,null,null,0,1221]
[21,11187,21,11192,22,11199,23,11207,null,null,0,2222]
[12,11300,23,11310,24,11316,14,11321,null,null,0,1221]
[21,11419,21,11424,22,11434,23,11442,null,null,0,2222]
[21,11538,12,11542,24,11551,23,11559,null,null,0,2122]
[21,11654,21,11659,22,11665,14,11671,null,null,0,2221]
[21,11769,21,11773,22,11777,23,11782,null,null,0,2222]
[12,11877,23,11880,24,11883,23,11888,null,null,0,1222]
[21,11983,21,11986,22,11996,23,12008,null,null,0,2222]
[12,12102,23,12110,24,12116,23,12122,null,null,0,1222]
[21,12218,12,12225,24,12227,23,12235,null,null,0,2122]
[12,12330,23,12332,24,12339,23,12346,null,null,0,1222]
[21,12443,12,12445,24,12450,23,12460,null,null,0,2122]
[21,12552,21,12562,22,12571,23,12581,null,null,0,2222]
[21,12677,21,12681,11,12685,21,12686,null,null,0,2212]
[21,12800,21,12813,22,12825,23,12839,null,null,0,2222]
[21,12952,21,12958,22,12970,23,12983,null,null,0,2222]
[12,13076,23,13084,24,13091,23,13096,null,null,0,1222]
[12,13188,23,13192,24,13197,23,13205,null,null,0,1222]
[21,13300,21,13303,11,13306,21,13308,null,null,0,2212]
[21,13524,12,13527,24,13535,23,13555,null,null,0,2122]
[21,13657,21,13661,11,13663,21,13666,null,null,0,2212]
[21,13856,12,13860,24,13891,23,13909,null,null,0,2122]
[21,14003,12,14009,24,14017,23,14025,null,null,0,2122]
[21,14123,12,14126,24,14128,23,14132,null,null,0,2122]
[12,14224,23,14231,24,14234,23,14239,null,null,0,1222]
[21,14334,21,14342,11,14345,21,14347,null,null,0,2212]
[21,14526,21,14531,22,14533,14,14539,null,null,0,2221]
[21,14667,12,14672,24,14688,23,14697,null,null,0,2122]
[21,14792,12,14802,24,14810,14,14817,null,null,0,2121]
[21,14912,21,14915,22,14922,14,14924,null,null,0,2221]
[21,15020,21,15024,22,15031,23,15040,null,null,0,2222]
[21,15134,21,15146,22,15154,14,15160,null,null,0,2221]
[21,15258,21,15262,11,15266,21,15274,null,null,0,2212]
[21,15387,12,15399,24,15414,23,15421,null,null,0,2122]
[21,15516,21,15524,11,15528,21,15537,null,null,0,2212]
[21,15950,12,15963,24,15971,23,15986,null,null,0,2122]
[12,16081,23,16084,24,16092,23,16111,null,null,0,1222]
[12,16205,23,16210,24,16216,14,16219,null,null,0,1221]
[21,16314,21,16317,22,16323,14,16324,null,null,0,2221]
[12,16416,23,16423,13,16427,23,16430,null,null,0,1212]
[12,16523,23,16525,24,16534,14,16539,null,null,0,1221]
[12,16632,23,16641,24,16646,23,16651,null,null,0,1222]
[21,16746,21,16753,22,16760,23,16769,null,null,0,2222]
[21,16865,21,16870,22,16881,23,16889,null,null,0,2222]
[21,16981,21,16987,22,16992,23,16999,null,null,0,2222]
[21,17092,12,17095,24,17097,23,17103,null,null,0,2122]
[21,17197,21,17199,11,17204,21,17205,null,null,0,2212]
[21,17302,12,17307,24,17321,23,17336,null,null,0,2122]
[21,17439,21,17449,22,17457,23,17466,null,null,0,2222]
[21,17561,21,17565,22,17569,23,17575,null,null,0,2222]
[21,17680,12,17685,24,17697,23,17705,null,null,0,2122]
[21,17800,21,17804,22,17809,23,17814,null,null,0,2222]
[21,17910,21,17913,11,17918,21,17923,null,null,0,2212]
[21,18056,21,18062,11,18070,21,18077,null,null,0,2212]
[12,18367,23,18379,24,18401,23,18407,null,null,0,1222]
[21,18513,21,18523,22,18534,23,18541,null,null,0,2222]
[21,18642,12,18645,24,18647,23,18652,null,null,0,2122]
[21,18748,21,18752,22,18758,23,18771,null,null,0,2222]
[21,18866,21,18879,22,18895,23,18903,null,null,0,2222]
[21,19001,21,19009,22,19014,23,19023,null,null,0,2222]
[12,19117,23,19122,24,19127,23,19136,null,null,0,1222]
[12,19228,23,19236,13,19241,23,19244,null,null,0,1212]
[21,19338,12,19342,24,19350,23,19359,null,null,0,2122]
[21,19454,21,19459,11,19462,21,19470,null,null,0,2212]
[21,19715,21,19721,22,19737,23,19745,null,null,0,2222]
[21,19865,21,19868,11,19870,21,19886,null,null,0,2212]
[21,20112,21,20135,22,20149,23,20165,null,null,0,2222]
[21,20325,21,20328,22,20360,23,20366,null,null,0,2222]
[21,20463,21,20466,11,20469,21,20471,null,null,0,2212]
[21,20566,21,20572,22,20580,23,20588,null,null,0,2222]
[12,20683,23,20687,13,20692,23,20694,null,null,0,1212]
[21,20790,21,20794,22,20802,23,20814,null,null,0,2222]
[21,20908,21,20913,22,20918,14,20925,null,null,0,2221]
[12,21019,23,21027,24,21030,14,21033,null,null,0,1221]
[21,21129,21,21135,11,21137,21,21141,null,null,0,2212]
[21,21266,12,21273,24,21288,23,21301,null,null,0,2122]
[21,21478,21,21482,22,21486,23,21492,null,null,0,2222]
[21,21601,21,21605,22,21610,23,21618,null,null,0,2222]
[21,21715,21,21721,11,21723,21,21727,null,null,0,2212]
[21,21943,12,21949,24,21975,23,21983,null,null,0,2122]
[21,22108,12,22112,24,22133,23,22140,null,null,0,2122]
[21,22238,21,22243,22,22254,23,22263,null,null,0,2222]
[21,22356,12,22359,24,22374,23,22384,null,null,0,2122]
[21,22480,21,22485,11,22489,21,22497,null,null,0,2212]
[21,22718,12,22726,24,22735,23,22742,null,null,0,2122]
[21,22854,21,22856,11,22860,21,22872,null,null,0,2212]
[21,23034,12,23043,24,23048,23,23067,null,null,0,2122]
[21,23181,12,23184,24,23200,23,23209,null,null,0,2122]
[12,23303,23,23307,24,23314,23,23320,null,null,0,1222]
[21,23419,21,23424,22,23428,23,23434,null,null,0,2222]
[12,23528,23,23536,24,23546,23,23550,null,null,0,1222]
[21,23651,21,23657,22,23660,14,23663,null,null,0,2221]
[21,23755,21,23772,22,23788,23,23797,null,null,0,2222]
[21,23892,21,23895,22,23900,14,23904,null,null,0,2221]

{"sheet":"!M708A00.Gus","index":19,"n_rows":189,"n_cols":48,"rows_kept":189,"cut":false,"hidden":false,"merged":[[4,39,4,42],[5,39,5,40],[4,44,4,47],[5,44,5,45],[4,24,4,27],[5,24,5,25],[4,29,4,32],[5,29,5,30],[4,34,4,37],[5,34,5,35],[1,1,1,2],[5,13,5,14],[26,13,26,14],[27,13,27,14],[4,19,4,22],[5,19,5,20]]}
["Report for:!M708A00.Gus"]
["Date:","<date>"]
["Hen:","<hen>",null,null,null,"Correct Sequence",{"$f":"Start!J2","v":2212},null,null,null,null,null,null,null,null,"Total Sequences in Data",{"$f":"4994-COUNTBLANK(L7:L5000)","v":183},null,null,null,null,"Total Sequences in Block Data",{"$f":"COUNTA(L7:L37)","v":31},null,null,null,"Total Sequences in Block Data",{"$f":"COUNTA(L38:L67)","v":30},null,null,null,"Total Sequences in Block Data",{"$f":"COUNTA(L68:L98)","v":31},null,null,null,"Total Sequences in Block Data",{"$f":"COUNTA(L99:L128)","v":30},null,null,null,"Total Sequences in Block Data",{"$f":"COUNTA(L129:L159)","v":31},null,null,null,"Total Sequences in Block Data",{"$f":"COUNTA(L160:L189)","v":30}]
[null,null,null,null,null,null,null,null,null,null,null,null,null,null,null,"Total Sequences in Summary",{"$f":"SUM(O7:O22)","v":183},null,null,null,null,"Total Sequences in Block Summary",{"$f":"SUM(U7:U22)","v":31},null,null,null,"Total Sequences in Block Summary",{"$f":"SUM(Z7:Z22)","v":30},null,null,null,"Total Sequences in Block Summary",{"$f":"SUM(AE7:AE22)","v":31},null,null,null,"Total Sequences in Block Summary",{"$f":"SUM(AJ7:AJ22)","v":30},null,null,null,"Total Sequences in Block Summary",{"$f":"SUM(AO7:AO22)","v":31},null,null,null,"Total Sequences in Block Summary",{"$f":"SUM(AT7:AT22)","v":30}]
[null,null,null,null,null,null,null,null,null,null,null,null,null,null,null,null,null,null,null,"Block 1",null,null,null,null,"Block 2",null,null,null,null,"Block 3",null,null,null,null,"Block 4",null,null,null,null,"Block 5",null,null,null,null,"Block 6"]
["Sequence\nComponent\n1","Time\n1","Sequence\nComponent\n2","Time\n2","Sequence\nComponent\n3","Time\n3","Sequence\nComponent\n4","Time\n4","Sequence\nComponent\n5","Time\n5","Correct?\n0=No 1=Yes","Sequence",null,"Frequency",null,"Relative Frequency","Variability",null,null,"Frequency",null,"Relative Frequency","Variability",null,"Frequency",null,"Relative Frequency","Variability",null,"Frequency",null,"Relative Frequency","Variability",null,"Frequency",null,"Relative Frequency","Variability",null,"Frequency",null,"Relative Frequency","Variability",null,"Frequency",null,"Relative Frequency","Variability"]
[21,19,21,25,22,31,14,49,null,null,0,2221,null,1111,{"$f":"COUNTIF($L$7:$L$500,N7)","v":0},{"$f":"O7/$Q$4","v":0},{"$f":"IF(P7=0,0,(P7*((LOG(P7))/LOG(2))))","v":0},null,null,{"$f":"N7","v":1111},{"$f":"COUNTIF(L7:L37,T7)","v":0},{"$f":"U7/(W4-U20)","v":0},{"$f":"IF(V7=0,0,(V7*((LOG(V7))/LOG(2))))","v":0},null,{"$f":"N7","v":1111},{"$f":"COUNTIF(L38:L67,Y7)","v":0},{"$f":"Z7/(AB4-Z20)","v":0},{"$f":"IF(AA7=0,0,(AA7*((LOG(AA7))/LOG(2))))","v":0},null,{"$f":"N7","v":1111},{"$f":"COUNTIF(L68:L98,AD7)","v":0},{"$f":"AE7/(AG4-AE20)","v":0},{"$f":"IF(AF7=0,0,(AF7*((LOG(AF7))/LOG(2))))","v":0},null,{"$f":"N7","v":1111},{"$f":"COUNTIF(L99:L128,AI7)","v":0},{"$f":"AJ7/(AL4-AJ20)","v":0},{"$f":"IF(AK7=0,0,(AK7*((LOG(AK7))/LOG(2))))","v":0},null,{"$f":"N7","v":1111},{"$f":"COUNTIF(L129:L159,AN7)","v":0},{"$f":"AO7/(AQ4-AO20)","v":0},{"$f":"IF(AP7=0,0,(AP7*((LOG(AP7))/LOG(2))))","v":0},null,{"$f":"N7","v":1111},{"$f":"COUNTIF(L160:L189,AS7)","v":0},{"$f":"AT7/(AV4-AT20)","v":0},{"$f":"IF(AU7=0,0,(AU7*((LOG(AU7))/LOG(2))))","v":0}]
[21,154,21,158,22,169,23,177,null,null,0,2222,null,1112,{"$f":"COUNTIF($L$7:$L$500,N8)","v":0},{"$f":"O8/$Q$4","v":0},{"$f":"IF(P8=0,0,(P8*((LOG(P8))/LOG(2))))","v":0},null,null,{"$f":"N8","v":1112},{"$f":"COUNTIF(L7:L37,T8)","v":0},{"$f":"U8/(W4-U20)","v":0},{"$f":"IF(V8=0,0,(V8*((LOG(V8))/LOG(2))))","v":0},null,{"$f":"N8","v":1112},{"$f":"COUNTIF(L38:L67,Y8)","v":0},{"$f":"Z8/(AB4-Z20)","v":0},{"$f":"IF(AA8=0,0,(AA8*((LOG(AA8))/LOG(2))))","v":0},null,{"$f":"N8","v":1112},{"$f":"COUNTIF(L68:L98,AD8)","v":0},{"$f":"AE8/(AG4-AE20)","v":0},{"$f":"IF(AF8=0,0,(AF8*((LOG(AF8))/LOG(2))))","v":0},null,{"$f":"N8","v":1112},{"$f":"COUNTIF(L99:L128,AI8)","v":0},{"$f":"AJ8/(AL4-AJ20)","v":0},{"$f":"IF(AK8=0,0,(AK8*((LOG(AK8))/LOG(2))))","v":0},null,{"$f":"N8","v":1112},{"$f":"COUNTIF(L129:L159,AN8)","v":0},{"$f":"AO8/(AQ4-AO20)","v":0},{"$f":"IF(AP8=0,0,(AP8*((LOG(AP8))/LOG(2))))","v":0},null,{"$f":"N8","v":1112},{"$f":"COUNTIF(L160:L189,AS8)","v":0},{"$f":"AT8/(AV4-AT20)","v":0},{"$f":"IF(AU8=0,0,(AU8*((LOG(AU8))/LOG(2))))","v":0}]
[21,275,12,278,24,282,23,290,null,null,0,2122,null,1121,{"$f":"COUNTIF($L$7:$L$500,N9)","v":0},{"$f":"O9/$Q$4","v":0},{"$f":"IF(P9=0,0,(P9*((LOG(P9))/LOG(2))))","v":0},null,null,{"$f":"N9","v":1121},{"$f":"COUNTIF(L7:L37,T9)","v":0},{"$f":"U9/(W4-U20)","v":0},{"$f":"IF(V9=0,0,(V9*((LOG(V9))/LOG(2))))","v":0},null,{"$f":"N9","v":1121},{"$f":"COUNTIF(L38:L67,Y9)","v":0},{"$f":"Z9/(AB4-Z20)","v":0},{"$f":"IF(AA9=0,0,(AA9*((LOG(AA9))/LOG(2))))","v":0},null,{"$f":"N9","v":1121},{"$f":"COUNTIF(L68:L98,AD9)","v":0},{"$f":"AE9/(AG4-AE20)","v":0},{"$f":"IF(AF9=0,0,(AF9*((LOG(AF9))/LOG(2))))","v":0},null,{"$f":"N9","v":1121},{"$f":"COUNTIF(L99:L128,AI9)","v":0},{"$f":"AJ9/(AL4-AJ20)","v":0},{"$f":"IF(AK9=0,0,(AK9*((LOG(AK9))/LOG(2))))","v":0},null,{"$f":"N9","v":1121},{"$f":"COUNTIF(L129:L159,AN9)","v":0},{"$f":"AO9/(AQ4-AO20)","v":0},{"$f":"IF(AP9=0,0,(AP9*((LOG(AP9))/LOG(2))))","v":0},null,{"$f":"N9","v":1121},{"$f":"COUNTIF(L160:L189,AS9)","v":0},{"$f":"AT9/(AV4-AT20)","v":0},{"$f":"IF(AU9=0,0,(AU9*((LOG(AU9))/LOG(2))))","v":0}]
[12,386,23,391,24,396,23,403,null,null,0,1222,null,1122,{"$f":"COUNTIF($L$7:$L$500,N10)","v":1},{"$f":"O10/$Q$4","v":5.4644808743169399E-3},{"$f":"IF(P10=0,0,(P10*((LOG(P10))/LOG(2))))","v":-4.1069398023410066E-2},null,null,{"$f":"N10","v":1122},{"$f":"COUNTIF(L7:L37,T10)","v":0},{"$f":"U10/(W4-U20)","v":0},{"$f":"IF(V10=0,0,(V10*((LOG(V10))/LOG(2))))","v":0},null,{"$f":"N10","v":1122},{"$f":"COUNTIF(L38:L67,Y10)","v":0},{"$f":"Z10/(AB4-Z20)","v":0},{"$f":"IF(AA10=0,0,(AA10*((LOG(AA10))/LOG(2))))","v":0},null,{"$f":"N10","v":1122},{"$f":"COUNTIF(L68:L98,AD10)","v":0},{"$f":"AE10/(AG4-AE20)","v":0},{"$f":"IF(AF10=0,0,(AF10*((LOG(AF10))/LOG(2))))","v":0},null,{"$f":"N10","v":1122},{"$f":"COUNTIF(L99:L128,AI10)","v":0},{"$f":"AJ10/(AL4-AJ20)","v":0},{"$f":"IF(AK10=0,0,(AK10*((LOG(AK10))/LOG(2))))","v":0},null,{"$f":"N10","v":1122},{"$f":"COUNTIF(L129:L159,AN10)","v":0},{"$f":"AO10/(AQ4-AO20)","v":0},{"$f":"IF(AP10=0,0,(AP10*((LOG(AP10))/LOG(2))))","v":0},null,{"$f":"N10","v":1122},{"$f":"COUNTIF(L160:L189,AS10)","v":1},{"$f":"AT10/(AV4-AT20)","v":3.7037037037037035E-2},{"$f":"IF(AU10=0,0,(AU10*((LOG(AU10))/LOG(2))))","v":-0.1761069445245729}]
[21,504,12,508,24,514,23,519,null,null,0,2122,null,1211,{"$f":"COUNTIF($L$7:$L$500,N11)","v":0},{"$f":"O11/$Q$4","v":0},{"$f":"IF(P11=0,0,(P11*((LOG(P11))/LOG(2))))","v":0},null,null,{"$f":"N11","v":1211},{"$f":"COUNTIF(L7:L37,T11)","v":0},{"$f":"U11/(W4-U20)","v":0},{"$f":"IF(V11=0,0,(V11*((LOG(V11))/LOG(2))))","v":0},null,{"$f":"N11","v":1211},{"$f":"COUNTIF(L38:L67,Y11)","v":0},{"$f":"Z11/(AB4-Z20)","v":0},{"$f":"IF(AA11=0,0,(AA11*((LOG(AA11))/LOG(2))))","v":0},null,{"$f":"N11","v":1211},{"$f":"COUNTIF(L68:L98,AD11)","v":0},{"$f":"AE11/(AG4-AE20)","v":0},{"$f":"IF(AF11=0,0,(AF11*((LOG(AF11))/LOG(2))))","v":0},null,{"$f":"N11","v":1211},{"$f":"COUNTIF(L99:L128,AI11)","v":0},{"$f":"AJ11/(AL4-AJ20)","v":0},{"$f":"IF(AK11=0,0,(AK11*((LOG(AK11))/LOG(2))))","v":0},null,{"$f":"N11","v":1211},{"$f":"COUNTIF(L129:L159,AN11)","v":0},{"$f":"AO11/(AQ4-AO20)","v":0},{"$f":"IF(AP11=0,0,(AP11*((LOG(AP11))/LOG(2))))","v":0},null,{"$f":"N11","v":1211},{"$f":"COUNTIF(L160:L189,AS11)","v":0},{"$f":"AT11/(AV4-AT20)","v":0},{"$f":"IF(AU11=0,0,(AU11*((LOG(AU11))/LOG(2))))","v":0}]
[21,615,21,620,22,626,14,632,null,null,0,2221,null,1212,{"$f":"COUNTIF($L$7:$L$500,N12)","v":3},{"$f":"O12/$Q$4","v":1.6393442622950821E-2},{"$f":"IF(P12=0,0,(P12*((LOG(P12))/LOG(2))))","v":-9.7225202255129275E-2},null,null,{"$f":"N12","v":1212},{"$f":"COUNTIF(L7:L37,T12)","v":0},{"$f":"U12/(W4-U20)","v":0},{"$f":"IF(V12=0,0,(V12*((LOG(V12))/LOG(2))))","v":0},null,{"$f":"N12","v":1212},{"$f":"COUNTIF(L38:L67,Y12)","v":0},{"$f":"Z12/(AB4-Z20)","v":0},{"$f":"IF(AA12=0,0,(AA12*((LOG(AA12))/LOG(2))))","v":0},null,{"$f":"N12","v":1212},{"$f":"COUNTIF(L68:L98,AD12)","v":1},{"$f":"AE12/(AG4-AE20)","v":0.05},{"$f":"IF(AF12=0,0,(AF12*((LOG(AF12))/LOG(2))))","v":-0.21609640474436814},null,{"$f":"N12","v":1212},{"$f":"COUNTIF(L99:L128,AI12)","v":0},{"$f":"AJ12/(AL4-AJ20)","v":0},{"$f":"IF(AK12=0,0,(AK12*((LOG(AK12))/LOG(2))))","v":0},null,{"$f":"N12","v":1212},{"$f":"COUNTIF(L129:L159,AN12)","v":1},{"$f":"AO12/(AQ4-AO20)","v":3.5714285714285712E-2},{"$f":"IF(AP12=0,0,(AP12*((LOG(AP12))/LOG(2))))","v":-0.17169124721634299},null,{"$f":"N12","v":1212},{"$f":"COUNTIF(L160:L189,AS12)","v":1},{"$f":"AT12/(AV4-AT20)","v":3.7037037037037035E-2},{"$f":"IF(AU12=0,0,(AU12*((LOG(AU12))/LOG(2))))","v":-0.1761069445245729}]
[21,732,21,734,11,738,21,747,null,null,0,2212,null,1221,{"$f":"COUNTIF($L$7:$L$500,N13)","v":10},{"$f":"O13/$Q$4","v":5.4644808743169397E-2},{"$f":"IF(P13=0,0,(P13*((LOG(P13))/LOG(2))))","v":-0.22916785483041968},null,null,{"$f":"N13","v":1221},{"$f":"COUNTIF(L7:L37,T13)","v":4},{"$f":"U13/(W4-U20)","v":0.16},{"$f":"IF(V13=0,0,(V13*((LOG(V13))/LOG(2))))","v":-0.42301699036395596},null,{"$f":"N13","v":1221},{"$f":"COUNTIF(L38:L67,Y13)","v":4},{"$f":"Z13/(AB4-Z20)","v":0.16},{"$f":"IF(AA13=0,0,(AA13*((LOG(AA13))/LOG(2))))","v":-0.42301699036395596},null,{"$f":"N13","v":1221},{"$f":"COUNTIF(L68:L98,AD13)","v":0},{"$f":"AE13/(AG4-AE20)","v":0},{"$f":"IF(AF13=0,0,(AF13*((LOG(AF13))/LOG(2))))","v":0},null,{"$f":"N13","v":1221},{"$f":"COUNTIF(L99:L128,AI13)","v":1},{"$f":"AJ13/(AL4-AJ20)","v":3.8461538461538464E-2},{"$f":"IF(AK13=0,0,(AK13*((LOG(AK13))/LOG(2))))","v":-0.18078614300542661},null,{"$f":"N13","v":1221},{"$f":"COUNTIF(L129:L159,AN13)","v":1},{"$f":"AO13/(AQ4-AO20)","v":3.5714285714285712E-2},{"$f":"IF(AP13=0,0,(AP13*((LOG(AP13))/LOG(2))))","v":-0.17169124721634299},null,{"$f":"N13","v":1221},{"$f":"COUNTIF(L160:L189,AS13)","v":0},{"$f":"AT13/(AV4-AT20)","v":0},{"$f":"IF(AU13=0,0,(AU13*((LOG(AU13))/LOG(2))))","v":0}]
[21,840,21,845,11,848,21,859,null,null,0,2212,null,1222,{"$f":"COUNTIF($L$7:$L$500,N14)","v":32},{"$f":"O14/$Q$4","v":0.17486338797814208},{"$f":"IF(P14=0,0,(P14*((LOG(P14))/LOG(2))))","v":-0.43990379685841174},null,null,{"$f":"N14","v":1222},{"$f":"COUNTIF(L7:L37,T14)","v":6},{"$f":"U14/(W4-U20)","v":0.24},{"$f":"IF(V14=0,0,(V14*((LOG(V14))/LOG(2))))","v":-0.49413448537285637},null,{"$f":"N14","v":1222},{"$f":"COUNTIF(L38:L67,Y14)","v":3},{"$f":"Z14/(AB4-Z20)","v":0.12},{"$f":"IF(AA14=0,0,(AA14*((LOG(AA14))/LOG(2))))","v":-0.36706724268642821},null,{"$f":"N14","v":1222},{"$f":"COUNTIF(L68:L98,AD14)","v":4},{"$f":"AE14/(AG4-AE20)","v":0.2},{"$f":"IF(AF14=0,0,(AF14*((LOG(AF14))/LOG(2))))","v":-0.46438561897747244},null,{"$f":"N14","v":1222},{"$f":"COUNTIF(L99:L128,AI14)","v":7},{"$f":"AJ14/(AL4-AJ20)","v":0.26923076923076922},{"$f":"IF(AK14=0,0,(AK14*((LOG(AK14))/LOG(2))))","v":-0.50967667586863141},null,{"$f":"N14","v":1222},{"$f":"COUNTIF(L129:L159,AN14)","v":7},{"$f":"AO14/(AQ4-AO20)","v":0.25},{"$f":"IF(AP14=0,0,(AP14*((LOG(AP14))/LOG(2))))","v":-0.5},null,{"$f":"N14","v":1222},{"$f":"COUNTIF(L160:L189,AS14)","v":5},{"$f":"AT14/(AV4-AT20)","v":0.18518518518518517},{"$f":"IF(AU14=0,0,(AU14*((LOG(AU14))/LOG(2))))","v":-0.45054803838446406}]
[21,991,12,998,24,1006,23,1021,null,null,0,2122,null,2111,{"$f":"COUNTIF($L$7:$L$500,N15)","v":0},{"$f":"O15/$Q$4","v":0},{"$f":"IF(P15=0,0,(P15*((LOG(P15))/LOG(2))))","v":0},null,null,{"$f":"N15","v":2111},{"$f":"COUNTIF(L7:L37,T15)","v":0},{"$f":"U15/(W4-U20)","v":0},{"$f":"IF(V15=0,0,(V15*((LOG(V15))/LOG(2))))","v":0},null,{"$f":"N15","v":2111},{"$f":"COUNTIF(L38:L67,Y15)","v":0},{"$f":"Z15/(AB4-Z20)","v":0},{"$f":"IF(AA15=0,0,(AA15*((LOG(AA15))/LOG(2))))","v":0},null,{"$f":"N15","v":2111},{"$f":"COUNTIF(L68:L98,AD15)","v":0},{"$f":"AE15/(AG4-AE20)","v":0},{"$f":"IF(AF15=0,0,(AF15*((LOG(AF15))/LOG(2))))","v":0},null,{"$f":"N15","v":2111},{"$f":"COUNTIF(L99:L128,AI15)","v":0},{"$f":"AJ15/(AL4-AJ20)","v":0},{"$f":"IF(AK15=0,0,(AK15*((LOG(AK15))/LOG(2))))","v":0},null,{"$f":"N15","v":2111},{"$f":"COUNTIF(L129:L159,AN15)","v":0},{"$f":"AO15/(AQ4-AO20)","v":0},{"$f":"IF(AP15=0,0,(AP15*((LOG(AP15))/LOG(2))))","v":0},null,{"$f":"N15","v":2111},{"$f":"COUNTIF(L160:L189,AS15)","v":0},{"$f":"AT15/(AV4-AT20)","v":0},{"$f":"IF(AU15=0,0,(AU15*((LOG(AU15))/LOG(2))))","v":0}]
[21,1164,21,1167,11,1172,21,1178,null,null,0,2212,null,2112,{"$f":"COUNTIF($L$7:$L$500,N16)","v":0},{"$f":"O16/$Q$4","v":0},{"$f":"IF(P16=0,0,(P16*((LOG(P16))/LOG(2))))","v":0},null,null,{"$f":"N16","v":2112},{"$f":"COUNTIF(L7:L37,T16)","v":0},{"$f":"U16/(W4-U20)","v":0},{"$f":"IF(V16=0,0,(V16*((LOG(V16))/LOG(2))))","v":0},null,{"$f":"N16","v":2112},{"$f":"COUNTIF(L38:L67,Y16)","v":0},{"$f":"Z16/(AB4-Z20)","v":0},{"$f":"IF(AA16=0,0,(AA16*((LOG(AA16))/LOG(2))))","v":0},null,{"$f":"N16","v":2112},{"$f":"COUNTIF(L68:L98,AD16)","v":0},{"$f":"AE16/(AG4-AE20)","v":0},{"$f":"IF(AF16=0,0,(AF16*((LOG(AF16))/LOG(2))))","v":0},null,{"$f":"N16","v":2112},{"$f":"COUNTIF(L99:L128,AI16)","v":0},{"$f":"AJ16/(AL4-AJ20)","v":0},{"$f":"IF(AK16=0,0,(AK16*((LOG(AK16))/LOG(2))))","v":0},null,{"$f":"N16","v":2112},{"$f":"COUNTIF(L129:L159,AN16)","v":0},{"$f":"AO16/(AQ4-AO20)","v":0},{"$f":"IF(AP16=0,0,(AP16*((LOG(AP16))/LOG(2))))","v":0},null,{"$f":"N16","v":2112},{"$f":"COUNTIF(L160:L189,AS16)","v":0},{"$f":"AT16/(AV4-AT20)","v":0},{"$f":"IF(AU16=0,0,(AU16*((LOG(AU16))/LOG(2))))","v":0}]
[12,1344,23,1358,24,1371,23,1377,null,null,0,1222,null,2121,{"$f":"COUNTIF($L$7:$L$500,N17)","v":2},{"$f":"O17/$Q$4","v":1.092896174863388E-2},{"$f":"IF(P17=0,0,(P17*((LOG(P17))/LOG(2))))","v":-7.1209834298186253E-2},null,null,{"$f":"N17","v":2121},{"$f":"COUNTIF(L7:L37,T17)","v":0},{"$f":"U17/(W4-U20)","v":0},{"$f":"IF(V17=0,0,(V17*((LOG(V17))/LOG(2))))","v":0},null,{"$f":"N17","v":2121},{"$f":"COUNTIF(L38:L67,Y17)","v":1},{"$f":"Z17/(AB4-Z20)","v":0.04},{"$f":"IF(AA17=0,0,(AA17*((LOG(AA17))/LOG(2))))","v":-0.18575424759098899},null,{"$f":"N17","v":2121},{"$f":"COUNTIF(L68:L98,AD17)","v":0},{"$f":"AE17/(AG4-AE20)","v":0},{"$f":"IF(AF17=0,0,(AF17*((LOG(AF17))/LOG(2))))","v":0},null,{"$f":"N17","v":2121},{"$f":"COUNTIF(L99:L128,AI17)","v":0},{"$f":"AJ17/(AL4-AJ20)","v":0},{"$f":"IF(AK17=0,0,(AK17*((LOG(AK17))/LOG(2))))","v":0},null,{"$f":"N17","v":2121},{"$f":"COUNTIF(L129:L159,AN17)","v":0},{"$f":"AO17/(AQ4-AO20)","v":0},{"$f":"IF(AP17=0,0,(AP17*((LOG(AP17))/LOG(2))))","v":0},null,{"$f":"N17","v":2121},{"$f":"COUNTIF(L160:L189,AS17)","v":1},{"$f":"AT17/(AV4-AT20)","v":3.7037037037037035E-2},{"$f":"IF(AU17=0,0,(AU17*((LOG(AU17))/LOG(2))))","v":-0.1761069445245729}]
[21,1472,12,1478,24,1486,23,1501,null,null,0,2122,null,2122,{"$f":"COUNTIF($L$7:$L$500,N18)","v":28},{"$f":"O18/$Q$4","v":0.15300546448087432},{"$f":"IF(P18=0,0,(P18*((LOG(P18))/LOG(2))))","v":-0.41439157188164083},null,null,{"$f":"N18","v":2122},{"$f":"COUNTIF(L7:L37,T18)","v":7},{"$f":"U18/(W4-U20)","v":0.28000000000000003},{"$f":"IF(V18=0,0,(V18*((LOG(V18))/LOG(2))))","v":-0.51422035496079388},null,{"$f":"N18","v":2122},{"$f":"COUNTIF(L38:L67,Y18)","v":3},{"$f":"Z18/(AB4-Z20)","v":0.12},{"$f":"IF(AA18=0,0,(AA18*((LOG(AA18))/LOG(2))))","v":-0.36706724268642821},null,{"$f":"N18","v":2122},{"$f":"COUNTIF(L68:L98,AD18)","v":4},{"$f":"AE18/(AG4-AE20)","v":0.2},{"$f":"IF(AF18=0,0,(AF18*((LOG(AF18))/LOG(2))))","v":-0.46438561897747244},null,{"$f":"N18","v":2122},{"$f":"COUNTIF(L99:L128,AI18)","v":5},{"$f":"AJ18/(AL4-AJ20)","v":0.19230769230769232},{"$f":"IF(AK18=0,0,(AK18*((LOG(AK18))/LOG(2))))","v":-0.45740608139494804},null,{"$f":"N18","v":2122},{"$f":"COUNTIF(L129:L159,AN18)","v":5},{"$f":"AO18/(AQ4-AO20)","v":0.17857142857142858},{"$f":"IF(AP18=0,0,(AP18*((LOG(AP18))/LOG(2))))","v":-0.44382621913754317},null,{"$f":"N18","v":2122},{"$f":"COUNTIF(L160:L189,AS18)","v":4},{"$f":"AT18/(AV4-AT20)","v":0.14814814814814814},{"$f":"IF(AU18=0,0,(AU18*((LOG(AU18))/LOG(2))))","v":-0.40813148180199532}]
[12,1592,23,1653,24,1658,23,1665,null,null,0,1222,null,2211,{"$f":"COUNTIF($L$7:$L$500,N19)","v":1},{"$f":"O19/$Q$4","v":5.4644808743169399E-3},{"$f":"IF(P19=0,0,(P19*((LOG(P19))/LOG(2))))","v":-4.1069398023410066E-2},null,null,{"$f":"N19","v":2211},{"$f":"COUNTIF(L7:L37,T19)","v":0},{"$f":"U19/(W4-U20)","v":0},{"$f":"IF(V19=0,0,(V19*((LOG(V19))/LOG(2))))","v":0},null,{"$f":"N19","v":2211},{"$f":"COUNTIF(L38:L67,Y19)","v":0},{"$f":"Z19/(AB4-Z20)","v":0},{"$f":"IF(AA19=0,0,(AA19*((LOG(AA19))/LOG(2))))","v":0},null,{"$f":"N19","v":2211},{"$f":"COUNTIF(L68:L98,AD19)","v":0},{"$f":"AE19/(AG4-AE20)","v":0},{"$f":"IF(AF19=0,0,(AF19*((LOG(AF19))/LOG(2))))","v":0},null,{"$f":"N19","v":2211},{"$f":"COUNTIF(L99:L128,AI19)","v":0},{"$f":"AJ19/(AL4-AJ20)","v":0},{"$f":"IF(AK19=0,0,(AK19*((LOG(AK19))/LOG(2))))","v":0},null,{"$f":"N19","v":2211},{"$f":"COUNTIF(L129:L159,AN19)","v":0},{"$f":"AO19/(AQ4-AO20)","v":0},{"$f":"IF(AP19=0,0,(AP19*((LOG(AP19))/LOG(2))))","v":0},null,{"$f":"N19","v":2211},{"$f":"COUNTIF(L160:L189,AS19)","v":1},{"$f":"AT19/(AV4-AT20)","v":3.7037037037037035E-2},{"$f":"IF(AU19=0,0,(AU19*((LOG(AU19))/LOG(2))))","v":-0.1761069445245729}]
[12,1759,23,1761,24,1768,23,1773,null,null,0,1222,null,2212,{"$f":"COUNTIF($L$7:$L$500,N20)","v":32},{"$f":"O20/$Q$4","v":0.17486338797814208},{"$f":"IF(P20=0,0,(P20*((LOG(P20))/LOG(2))))","v":-0.43990379685841174},null,null,{"$f":"N20","v":2212},{"$f":"COUNTIF(L7:L37,T20)","v":6},null,null,null,{"$f":"N20","v":2212},{"$f":"COUNTIF(L38:L67,Y20)","v":5},null,null,null,{"$f":"N20","v":2212},{"$f":"COUNTIF(L68:L98,AD20)","v":11},null,null,null,{"$f":"N20","v":2212},{"$f":"COUNTIF(L99:L128,AI20)","v":4},null,null,null,{"$f":"N20","v":2212},{"$f":"COUNTIF(L129:L159,AN20)","v":3},null,null,null,{"$f":"N20","v":2212},{"$f":"COUNTIF(L160:L189,AS20)","v":3}]
[21,1865,21,1871,11,1873,21,1880,null,null,0,2212,null,2221,{"$f":"COUNTIF($L$7:$L$500,N21)","v":10},{"$f":"O21/$Q$4","v":5.4644808743169397E-2},{"$f":"IF(P21=0,0,(P21*((LOG(P21))/LOG(2))))","v":-0.22916785483041968},null,null,{"$f":"N21","v":2221},{"$f":"COUNTIF(L7:L37,T21)","v":2},{"$f":"U21/(W4-U20)","v":0.08},{"$f":"IF(V21=0,0,(V21*((LOG(V21))/LOG(2))))","v":-0.29150849518197797},null,{"$f":"N21","v":2221},{"$f":"COUNTIF(L38:L67,Y21)","v":0},{"$f":"Z21/(AB4-Z20)","v":0},{"$f":"IF(AA21=0,0,(AA21*((LOG(AA21))/LOG(2))))","v":0},null,{"$f":"N21","v":2221},{"$f":"COUNTIF(L68:L98,AD21)","v":2},{"$f":"AE21/(AG4-AE20)","v":0.1},{"$f":"IF(AF21=0,0,(AF21*((LOG(AF21))/LOG(2))))","v":-0.33219280948873625},null,{"$f":"N21","v":2221},{"$f":"COUNTIF(L99:L128,AI21)","v":1},{"$f":"AJ21/(AL4-AJ20)","v":3.8461538461538464E-2},{"$f":"IF(AK21=0,0,(AK21*((LOG(AK21))/LOG(2))))","v":-0.18078614300542661},null,{"$f":"N21","v":2221},{"$f":"COUNTIF(L129:L159,AN21)","v":1},{"$f":"AO21/(AQ4-AO20)","v":3.5714285714285712E-2},{"$f":"IF(AP21=0,0,(AP21*((LOG(AP21))/LOG(2))))","v":-0.17169124721634299},null,{"$f":"N21","v":2221},{"$f":"COUNTIF(L160:L189,AS21)","v":4},{"$f":"AT21/(AV4-AT20)","v":0.14814814814814814},{"$f":"IF(AU21=0,0,(AU21*((LOG(AU21))/LOG(2))))","v":-0.40813148180199532}]
[21,1977,12,1982,24,2008,23,2023,null,null,0,2122,null,2222,{"$f":"COUNTIF($L$7:$L$500,N22)","v":64},{"$f":"O22/$Q$4","v":0.34972677595628415},{"$f":"IF(P22=0,0,(P22*((LOG(P22))/LOG(2))))","v":-0.53008081776053939},null,null,{"$f":"N22","v":2222},{"$f":"COUNTIF(L7:L37,T22)","v":6},{"$f":"U22/(W4-U20)","v":0.24},{"$f":"IF(V22=0,0,(V22*((LOG(V22))/LOG(2))))","v":-0.49413448537285637},null,{"$f":"N22","v":2222},{"$f":"COUNTIF(L38:L67,Y22)","v":14},{"$f":"Z22/(AB4-Z20)","v":0.56000000000000005},{"$f":"IF(AA22=0,0,(AA22*((LOG(AA22))/LOG(2))))","v":-0.46844070992158748},null,{"$f":"N22","v":2222},{"$f":"COUNTIF(L68:L98,AD22)","v":9},{"$f":"AE22/(AG4-AE20)","v":0.45},{"$f":"IF(AF22=0,0,(AF22*((LOG(AF22))/LOG(2))))","v":-0.51840139205027258},null,{"$f":"N22","v":2222},{"$f":"COUNTIF(L99:L128,AI22)","v":12},{"$f":"AJ22/(AL4-AJ20)","v":0.46153846153846156},{"$f":"IF(AK22=0,0,(AK22*((LOG(AK22))/LOG(2))))","v":-0.51483563880920125},null,{"$f":"N22","v":2222},{"$f":"COUNTIF(L129:L159,AN22)","v":13},{"$f":"AO22/(AQ4-AO20)","v":0.4642857142857143},{"$f":"IF(AP22=0,0,(AP22*((LOG(AP22))/LOG(2))))","v":-0.51392491610409474},null,{"$f":"N22","v":2222},{"$f":"COUNTIF(L160:L189,AS22)","v":10},{"$f":"AT22/(AV4-AT20)","v":0.37037037037037035},{"$f":"IF(AU22=0,0,(AU22*((LOG(AU22))/LOG(2))))","v":-0.53072570639855787}]
[12,2118,23,2131,24,2134,14,2139,null,null,0,1221,null,null,null,{"$f":"SUM(P7:P22)","v":1},{"$f":"-SUM(Q7:Q22)","v":2.5331895256199788},null,null,null,null,{"$f":"SUM(V7:V22)","v":1},{"$f":"-SUM(W7:W22)","v":2.2170148112524406},null,null,null,{"$f":"SUM(AA7:AA22)","v":1},{"$f":"-SUM(AB7:AB22)","v":1.8113464332493887},null,null,null,{"$f":"SUM(AF7:AF22)","v":1},{"$f":"-SUM(AG7:AG22)","v":1.9954618442383218},null,null,null,{"$f":"SUM(AK7:AK22)","v":1},{"$f":"-SUM(AL7:AL22)","v":1.8434906820836341},null,null,null,{"$f":"SUM(AP7:AP22)","v":1},{"$f":"-SUM(AQ7:AQ22)","v":1.9728248768906669},null,null,null,{"$f":"SUM(AU7:AU22)","v":0.99999999999999989},{"$f":"-SUM(AV7:AV22)","v":2.5019644864853041}]
[21,2234,12,2236,24,2239,23,2247,null,null,0,2122,null,null,null,"U=",{"$f":"Q23/(LOG(Q4)/LOG(2))","v":0.33705304630664279},null,null,null,null,"U1=",{"$f":"W23/(LOG(W4)/LOG(2))","v":0.44750241459029166},null,null,null,"U2=",{"$f":"AB23/(LOG(AB4)/LOG(2))","v":0.36914343166127961},null,null,null,"U3=",{"$f":"AG23/(LOG(AG4)/LOG(2))","v":0.40278215056893768},null,null,null,"U4=",{"$f":"AL23/(LOG(AL4)/LOG(2))","v":0.37569427036614356},null,null,null,"U5=",{"$f":"AQ23/(LOG(AQ4)/LOG(2))","v":0.39821289938682475},null,null,null,"U6=",{"$f":"AV23/(LOG(AV4)/LOG(2))","v":0.50988797034204669}]
[21,2339,21,2345,22,2350,23,2357,null,null,0,2222]
[21,2450,21,2454,11,2457,21,2459,null,null,0,2212]
[21,2569,12,2572,24,2579,23,2605,null,null,0,2122,null,"Total Target Seq"]
[21,2696,21,2702,22,2711,23,2718,null,null,0,2222,null,{"$f":"COUNTIF(L7:L189,G3)","v":32},null,31,30,31,30,31,30]
[21,2815,21,2818,22,2823,23,2830,null,null,0,2222,null,null,null,"% of reinforcement given in 6 equal intervals based on number of trials "]
[21,2925,21,2929,11,2933,21,2935,null,null,0,2212,null,null,null,"%_1","%_2","%_3","%_4","%_5","%_6"]
[12,3022,23,3037,24,3039,23,3044,null,null,0,1222,null,null,"target sequence",{"$f":"$G$3","v":2212},{"$f":"$G$3","v":2212},{"$f":"$G$3","v":2212},{"$f":"$G$3","v":2212},{"$f":"$G$3","v":2212},{"$f":"$G$3","v":2212}]
[12,3219,23,3253,24,3257,14,3259,null,null,0,1221,null,null,"total reinforcement",{"$f":"U20","v":6},{"$f":"Z20","v":5},{"$f":"AE20","v":11},{"$f":"AJ20","v":4},{"$f":"AO20","v":3},{"$f":"AT20","v":3}]
[12,3351,23,3360,24,3365,14,3375,null,null,0,1221,null,null,"% target"]
[21,3480,21,3486,22,3492,23,3500,null,null,0,2222,null,null,"CCRF"]
[21,3596,21,3604,22,3616,23,3629,null,null,0,2222,null,null,"% CCRf"]
[12,3724,23,3731,24,3736,14,3741,null,null,0,1221,null,null,"average response rate",{"$f":"H37/P28","v":124.16129032258064},{"$f":"(H67-H37)/Q28","v":139.96666666666667},{"$f":"(H98-H67)/R28","v":148.80645161290323},{"$f":"(H128-H98)/S28","v":122.4},{"$f":"(H159-H128)/T28","v":125.48387096774194},{"$f":"(H189-H159)/U28","v":123.53333333333333}]
[12,3833,23,3841,24,3845,23,3849,null,null,0,1222]
[21,3942,12,3948,24,3950,23,3958,null,null,0,2122]
[21,4053,21,4057,22,4071,23,4078,null,null,0,2222]
[21,4173,21,4176,22,4188,23,4196,null,null,0,2222]
[21,4291,12,4297,24,4300,23,4304,null,null,0,2122]
[21,4399,21,4402,22,4408,23,4417,null,null,0,2222]
[21,4513,21,4518,22,4529,23,4536,null,null,0,2222]
[21,4630,12,4632,24,4635,14,4638,null,null,0,2121]
[12,4730,23,4739,24,4742,14,4745,null,null,0,1221]
[21,4842,21,4848,22,4855,23,4864,null,null,0,2222]
[21,4960,21,4965,22,4968,23,4974,null,null,0,2222]
[12,5067,23,5072,24,5076,14,5079,null,null,0,1221]
[21,5175,21,5181,22,5185,23,5193,null,null,0,2222]
[21,5293,21,5298,11,5312,21,5314,null,null,0,2212]
[21,5483,21,5489,22,5497,23,5506,null,null,0,2222]
[21,5602,21,5616,22,5625,23,5635,null,null,0,2222]
[12,5732,23,5736,24,5741,23,5746,null,null,0,1222]
[12,5840,23,5846,24,5856,23,5863,null,null,0,1222]
[21,5959,21,5965,22,5977,23,5984,null,null,0,2222]
[21,6080,21,6087,11,6090,21,6092,null,null,0,2212]
[21,6239,21,6264,22,6272,23,6280,null,null,0,2222]
[21,6377,21,6395,22,6405,23,6412,null,null,0,2222]
[12,6505,23,6512,24,6516,14,6520,null,null,0,1221]
[21,6618,21,6622,22,6626,23,6634,null,null,0,2222]
[12,6726,23,6733,24,6737,14,6742,null,null,0,1221]
[21,6836,21,6840,22,6845,23,6852,null,null,0,2222]
[21,6947,21,6952,11,6954,21,6961,null,null,0,2212]
[21,7096,21,7102,11,7114,21,7116,null,null,0,2212]
[21,7535,21,7539,11,7542,21,7565,null,null,0,2212]
[21,7855,12,7867,24,7913,23,7924,null,null,0,2122]
[12,8018,23,8020,24,8034,23,8048,null,null,0,1222]
[21,8145,12,8146,24,8152,23,8162,null,null,0,2122]
[21,8256,21,8261,11,8267,21,8273,null,null,0,2212]
[21,8449,21,8467,22,8484,23,8504,null,null,0,2222]
[21,8598,21,8603,22,8609,23,8618,null,null,0,2222]
[21,8713,21,8718,22,8726,23,8737,null,null,0,2222]
[21,8833,21,8837,22,8845,23,8853,null,null,0,2222]
[21,8948,21,8952,22,8961,23,8967,null,null,0,2222]
[12,9060,23,9067,13,9069,23,9072,null,null,0,1212]
[21,9168,21,9172,22,9178,23,9184,null,null,0,2222]
[21,9279,21,9283,22,9291,23,9298,null,null,0,2222]
[21,9395,21,9397,22,9404,14,9406,null,null,0,2221]
[21,9504,21,9513,11,9517,21,9526,null,null,0,2212]
[12,9628,23,9638,24,9652,23,9668,null,null,0,1222]
[21,9799,21,9809,11,9813,21,9820,null,null,0,2212]
[21,9931,12,9948,24,9958,23,9979,null,null,0,2122]
[21,10079,21,10084,22,10090,23,10096,null,null,0,2222]
[21,10198,21,10203,22,10208,23,10216,null,null,0,2222]
[21,10310,21,10315,11,10322,21,10331,null,null,0,2212]
[12,10435,23,10441,24,10459,23,10480,null,null,0,1222]
[12,10604,23,10618,24,10629,23,10636,null,null,0,1222]
[21,10732,21,10736,11,10740,21,10744,null,null,0,2212]
[21,10883,21,10889,11,10894,21,10933,null,null,0,2212]
[21,11276,21,11279,11,11282,21,11284,null,null,0,2212]
[21,11386,21,11394,11,11403,21,11426,null,null,0,2212]
[21,11555,21,11561,22,11565,14,11571,null,null,0,2221]
[21,11684,21,11687,11,11691,21,11720,null,null,0,2212]
[21,11897,12,11904,24,11919,23,11935,null,null,0,2122]
[21,12056,21,12060,11,12063,21,12065,null,null,0,2212]
[21,12248,21,12255,11,12279,21,12293,null,null,0,2212]
[12,12490,23,12501,24,12509,23,12516,null,null,0,1222]
[21,12638,12,12645,24,12647,23,12661,null,null,0,2122]
[12,12758,23,12765,24,12770,23,12775,null,null,0,1222]
[21,12876,21,12881,11,12895,21,12912,null,null,0,2212]
[21,13021,21,13027,11,13046,21,13062,null,null,0,2212]
[21,13260,21,13264,22,13269,23,13275,null,null,0,2222]
[21,13371,12,13375,24,13396,23,13408,null,null,0,2122]
[21,13504,12,13507,24,13509,23,13515,null,null,0,2122]
[12,13609,23,13612,24,13616,23,13620,null,null,0,1222]
[21,13717,21,13720,11,13723,21,13728,null,null,0,2212]
[12,13818,23,13830,24,13841,23,13855,null,null,0,1222]
[21,13949,21,13953,11,13957,21,13970,null,null,0,2212]
[21,14122,12,14141,24,14144,23,14183,null,null,0,2122]
[21,14282,21,14286,22,14291,23,14297,null,null,0,2222]
[21,14394,21,14401,22,14409,23,14420,null,null,0,2222]
[21,14520,12,14527,24,14531,23,14539,null,null,0,2122]
[12,14634,23,14639,24,14645,23,14654,null,null,0,1222]
[21,14749,21,14751,22,14758,23,14763,null,null,0,2222]
[12,14857,23,14865,24,14873,23,14879,null,null,0,1222]
[21,14971,21,14977,22,14981,23,14987,null,null,0,2222]
[21,15086,21,15094,22,15099,23,15109,null,null,0,2222]
[21,15205,21,15207,22,15209,23,15213,null,null,0,2222]
[21,15310,12,15315,24,15320,23,15326,null,null,0,2122]
[21,15422,21,15428,22,15433,14,15440,null,null,0,2221]
[21,15535,21,15539,22,15545,23,15552,null,null,0,2222]
[21,15644,21,15647,22,15650,23,15660,null,null,0,2222]
[21,15756,21,15760,22,15764,23,15772,null,null,0,2222]
[21,15871,21,15874,22,15878,23,15883,null,null,0,2222]
[12,15976,23,15981,24,15986,23,15991,null,null,0,1222]
[12,16085,23,16091,24,16095,14,16098,null,null,0,1221]
[21,16194,21,16199,22,16211,23,16221,null,null,0,2222]
[12,16318,23,16323,24,16328,23,16333,null,null,0,1222]
[12,16425,23,16432,24,16438,23,16446,null,null,0,1222]
[12,16539,23,16547,24,16551,23,16557,null,null,0,1222]
[12,16650,23,16653,24,16657,23,16666,null,null,0,1222]
[21,16761,21,16764,22,16769,23,16777,null,null,0,2222]
[21,16872,21,16876,22,16880,23,16884,null,null,0,2222]
[21,16981,21,16990,22,16996,23,17003,null,null,0,2222]
[21,17099,12,17106,24,17110,23,17123,null,null,0,2122]
[21,17219,21,17222,11,17225,21,17231,null,null,0,2212]
[21,17343,21,17350,22,17362,23,17369,null,null,0,2222]
[21,17466,21,17474,22,17483,23,17491,null,null,0,2222]
[21,17617,21,17623,22,17626,23,17633,null,null,0,2222]
[12,17727,23,17732,13,17741,23,17747,null,null,0,1212]
[21,17843,12,17845,24,17851,23,17856,null,null,0,2122]
[21,17954,21,17959,22,17964,23,17971,null,null,0,2222]
[21,18066,21,18069,22,18074,14,18077,null,null,0,2221]
[12,18171,23,18178,24,18188,23,18197,null,null,0,1222]
[21,18290,21,18294,11,18296,21,18301,null,null,0,2212]
[21,18476,21,18482,11,18487,21,18500,null,null,0,2212]
[21,18763,12,18765,24,18795,23,18802,null,null,0,2122]
[21,18902,21,18906,22,18913,23,18928,null,null,0,2222]
[12,19025,23,19028,24,19032,23,19038,null,null,0,1222]
[21,19165,12,19174,24,19181,23,19188,null,null,0,2122]
[21,19284,21,19290,22,19295,23,19304,null,null,0,2222]
[21,19398,21,19403,22,19408,23,19416,null,null,0,2222]
[21,19513,12,19515,24,19524,23,19529,null,null,0,2122]
[21,19626,21,19631,22,19639,23,19651,null,null,0,2222]
[12,19746,23,19758,24,19762,23,19769,null,null,0,1222]
[12,19863,23,19870,24,19874,14,19880,null,null,0,1221]
[12,19974,23,19982,24,19986,23,19990,null,null,0,1222]
[21,20090,21,20094,22,20100,23,20108,null,null,0,2222]
[21,20206,21,20210,22,20215,23,20223,null,null,0,2222]
[21,20322,12,20327,24,20331,23,20339,null,null,0,2122]
[21,20433,21,20436,22,20441,23,20451,null,null,0,2222]
[21,20551,12,20555,24,20558,23,20565,null,null,0,2122]
[21,20661,21,20664,22,20668,23,20675,null,null,0,2222]
[21,20774,21,20778,22,20781,23,20787,null,null,0,2222]
[21,20883,12,20889,24,20896,23,20904,null,null,0,2122]
[21,20999,21,21005,22,21009,23,21014,null,null,0,2222]
[21,21109,21,21112,11,21115,12,21121,null,null,0,2211]
[21,21217,21,21219,22,21222,14,21226,null,null,0,2221]
[21,21324,21,21327,22,21342,23,21349,null,null,0,2222]
[12,21441,23,21450,13,21454,23,21459,null,null,0,1212]
[21,21553,21,21558,22,21563,23,21574,null,null,0,2222]
[12,21666,23,21674,24,21679,23,21682,null,null,0,1222]
[21,21775,21,21781,22,21787,14,21792,null,null,0,2221]
[21,21888,21,21893,22,21897,23,21903,null,null,0,2222]
[12,22007,23,22012,24,22015,23,22021,null,null,0,1222]
[12,22114,23,22117,24,22119,23,22125,null,null,0,1222]
[21,22219,21,22225,22,22231,23,22238,null,null,0,2222]
[12,22331,23,22333,24,22337,23,22342,null,null,0,1222]
[21,22436,12,22440,24,22446,23,22451,null,null,0,2122]
[21,22545,21,22549,22,22554,14,22556,null,null,0,2221]
[21,22652,21,22655,22,22661,14,22664,null,null,0,2221]
[12,22758,23,22765,24,22771,23,22779,null,null,0,1222]
[12,22922,14,22925,24,22937,23,22942,null,null,0,1122]
[21,23050,21,23056,11,23059,21,23064,null,null,0,2212]
[21,23322,21,23329,22,23337,23,23343,null,null,0,2222]
[21,23537,21,23544,22,23550,23,23557,null,null,0,2222]
[21,23649,21,23652,11,23657,21,23665,null,null,0,2212]
[21,23793,12,23799,24,23805,14,23811,null,null,0,2121]
[21,23904,21,23916,11,23921,21,23929,null,null,1,2212]

{"sheet":"!M709A20.Gus","index":20,"n_rows":196,"n_cols":48,"rows_kept":196,"cut":false,"hidden":false,"merged":[[4,39,4,42],[5,39,5,40],[4,44,4,47],[5,44,5,45],[4,24,4,27],[5,24,5,25],[4,29,4,32],[5,29,5,30],[4,34,4,37],[5,34,5,35],[1,1,1,2],[5,13,5,14],[26,13,26,14],[27,13,27,14],[4,19,4,22],[5,19,5,20]]}
["Report for:!M709A20.Gus"]
["Date:","<date>"]
["Hen:","<hen>",null,null,null,"Correct Sequence",{"$f":"Start!J2","v":2212},null,null,null,null,null,null,null,null,"Total Sequences in Data",{"$f":"4994-COUNTBLANK(L7:L5000)","v":190},null,null,null,null,"Total Sequences in Block Data",{"$f":"COUNTA(L7:L38)","v":32},null,null,null,"Total Sequences in Block Data",{"$f":"COUNTA(L39:L69)","v":31},null,null,null,"Total Sequences in Block Data",{"$f":"COUNTA(L70:L101)","v":32},null,null,null,"Total Sequences in Block Data",{"$f":"COUNTA(L102:L133)","v":32},null,null,null,"Total Sequences in Block Data",{"$f":"COUNTA(L134:L164)","v":31},null,null,null,"Total Sequences in Block Data",{"$f":"COUNTA(L165:L196)","v":32}]
[null,null,null,null,null,null,null,null,null,null,null,null,null,null,null,"Total Sequences in Summary",{"$f":"SUM(O7:O22)","v":190},null,null,null,null,"Total Sequences in Block Summary",{"$f":"SUM(U7:U22)","v":32},null,null,null,"Total Sequences in Block Summary",{"$f":"SUM(Z7:Z22)","v":31},null,null,null,"Total Sequences in Block Summary",{"$f":"SUM(AE7:AE22)","v":32},null,null,null,"Total Sequences in Block Summary",{"$f":"SUM(AJ7:AJ22)","v":32},null,null,null,"Total Sequences in Block Summary",{"$f":"SUM(AO7:AO22)","v":31},null,null,null,"Total Sequences in Block Summary",{"$f":"SUM(AT7:AT22)","v":32}]
[null,null,null,null,null,null,null,null,null,null,null,null,null,null,null,null,null,null,null,"Block 1",null,null,null,null,"Block 2",null,null,null,null,"Block 3",null,null,null,null,"Block 4",null,null,null,null,"Block 5",null,null,null,null,"Block 6"]
["Sequence\nComponent\n1","Time\n1","Sequence\nComponent\n2","Time\n2","Sequence\nComponent\n3","Time\n3","Sequence\nComponent\n4","Time\n4","Sequence\nComponent\n5","Time\n5","Correct?\n0=No 1=Yes","Sequence",null,"Frequency",null,"Relative Frequency","Variability",null,null,"Frequency",null,"Relative Frequency","Variability",null,"Frequency",null,"Relative Frequency","Variability",null,"Frequency",null,"Relative Frequency","Variability",null,"Frequency",null,"Relative Frequency","Variability",null,"Frequency",null,"Relative Frequency","Variability",null,"Frequency",null,"Relative Frequency","Variability"]
[21,2,12,14,24,21,23,28,null,null,0,2122,null,1111,{"$f":"COUNTIF($L$7:$L$500,N7)","v":0},{"$f":"O7/$Q$4","v":0},{"$f":"IF(P7=0,0,(P7*((LOG(P7))/LOG(2))))","v":0},null,null,{"$f":"N7","v":1111},{"$f":"COUNTIF(L7:L38,T7)","v":0},{"$f":"U7/(W4-U20)","v":0},{"$f":"IF(V7=0,0,(V7*((LOG(V7))/LOG(2))))","v":0},null,{"$f":"N7","v":1111},{"$f":"COUNTIF(L39:L69,Y7)","v":0},{"$f":"Z7/(AB4-Z20)","v":0},{"$f":"IF(AA7=0,0,(AA7*((LOG(AA7))/LOG(2))))","v":0},null,{"$f":"N7","v":1111},{"$f":"COUNTIF(L70:L101,AD7)","v":0},{"$f":"AE7/(AG4-AE20)","v":0},{"$f":"IF(AF7=0,0,(AF7*((LOG(AF7))/LOG(2))))","v":0},null,{"$f":"N7","v":1111},{"$f":"COUNTIF(L102:L133,AI7)","v":0},{"$f":"AJ7/(AL4-AJ20)","v":0},{"$f":"IF(AK7=0,0,(AK7*((LOG(AK7))/LOG(2))))","v":0},null,{"$f":"N7","v":1111},{"$f":"COUNTIF(L134:L164,AN7)","v":0},{"$f":"AO7/(AQ4-AO20)","v":0},{"$f":"IF(AP7=0,0,(AP7*((LOG(AP7))/LOG(2))))","v":0},null,{"$f":"N7","v":1111},{"$f":"COUNTIF(L165:L196,AS7)","v":0},{"$f":"AT7/(AV4-AT20)","v":0},{"$f":"IF(AU7=0,0,(AU7*((LOG(AU7))/LOG(2))))","v":0}]
[12,120,23,124,24,134,23,142,null,null,0,1222,null,1112,{"$f":"COUNTIF($L$7:$L$500,N8)","v":0},{"$f":"O8/$Q$4","v":0},{"$f":"IF(P8=0,0,(P8*((LOG(P8))/LOG(2))))","v":0},null,null,{"$f":"N8","v":1112},{"$f":"COUNTIF(L7:L38,T8)","v":0},{"$f":"U8/(W4-U20)","v":0},{"$f":"IF(V8=0,0,(V8*((LOG(V8))/LOG(2))))","v":0},null,{"$f":"N8","v":1112},{"$f":"COUNTIF(L39:L69,Y8)","v":0},{"$f":"Z8/(AB4-Z20)","v":0},{"$f":"IF(AA8=0,0,(AA8*((LOG(AA8))/LOG(2))))","v":0},null,{"$f":"N8","v":1112},{"$f":"COUNTIF(L70:L101,AD8)","v":0},{"$f":"AE8/(AG4-AE20)","v":0},{"$f":"IF(AF8=0,0,(AF8*((LOG(AF8))/LOG(2))))","v":0},null,{"$f":"N8","v":1112},{"$f":"COUNTIF(L102:L133,AI8)","v":0},{"$f":"AJ8/(AL4-AJ20)","v":0},{"$f":"IF(AK8=0,0,(AK8*((LOG(AK8))/LOG(2))))","v":0},null,{"$f":"N8","v":1112},{"$f":"COUNTIF(L134:L164,AN8)","v":0},{"$f":"AO8/(AQ4-AO20)","v":0},{"$f":"IF(AP8=0,0,(AP8*((LOG(AP8))/LOG(2))))","v":0},null,{"$f":"N8","v":1112},{"$f":"COUNTIF(L165:L196,AS8)","v":0},{"$f":"AT8/(AV4-AT20)","v":0},{"$f":"IF(AU8=0,0,(AU8*((LOG(AU8))/LOG(2))))","v":0}]
[12,237,23,240,24,244,23,251,null,null,0,1222,null,1121,{"$f":"COUNTIF($L$7:$L$500,N9)","v":0},{"$f":"O9/$Q$4","v":0},{"$f":"IF(P9=0,0,(P9*((LOG(P9))/LOG(2))))","v":0},null,null,{"$f":"N9","v":1121},{"$f":"COUNTIF(L7:L38,T9)","v":0},{"$f":"U9/(W4-U20)","v":0},{"$f":"IF(V9=0,0,(V9*((LOG(V9))/LOG(2))))","v":0},null,{"$f":"N9","v":1121},{"$f":"COUNTIF(L39:L69,Y9)","v":0},{"$f":"Z9/(AB4-Z20)","v":0},{"$f":"IF(AA9=0,0,(AA9*((LOG(AA9))/LOG(2))))","v":0},null,{"$f":"N9","v":1121},{"$f":"COUNTIF(L70:L101,AD9)","v":0},{"$f":"AE9/(AG4-AE20)","v":0},{"$f":"IF(AF9=0,0,(AF9*((LOG(AF9))/LOG(2))))","v":0},null,{"$f":"N9","v":1121},{"$f":"COUNTIF(L102:L133,AI9)","v":0},{"$f":"AJ9/(AL4-AJ20)","v":0},{"$f":"IF(AK9=0,0,(AK9*((LOG(AK9))/LOG(2))))","v":0},null,{"$f":"N9","v":1121},{"$f":"COUNTIF(L134:L164,AN9)","v":0},{"$f":"AO9/(AQ4-AO20)","v":0},{"$f":"IF(AP9=0,0,(AP9*((LOG(AP9))/LOG(2))))","v":0},null,{"$f":"N9","v":1121},{"$f":"COUNTIF(L165:L196,AS9)","v":0},{"$f":"AT9/(AV4-AT20)","v":0},{"$f":"IF(AU9=0,0,(AU9*((LOG(AU9))/LOG(2))))","v":0}]
[21,350,12,354,24,360,23,368,null,null,0,2122,null,1122,{"$f":"COUNTIF($L$7:$L$500,N10)","v":3},{"$f":"O10/$Q$4","v":1.5789473684210527E-2},{"$f":"IF(P10=0,0,(P10*((LOG(P10))/LOG(2))))","v":-9.4498312225417769E-2},null,null,{"$f":"N10","v":1122},{"$f":"COUNTIF(L7:L38,T10)","v":1},{"$f":"U10/(W4-U20)","v":3.7037037037037035E-2},{"$f":"IF(V10=0,0,(V10*((LOG(V10))/LOG(2))))","v":-0.1761069445245729},null,{"$f":"N10","v":1122},{"$f":"COUNTIF(L39:L69,Y10)","v":0},{"$f":"Z10/(AB4-Z20)","v":0},{"$f":"IF(AA10=0,0,(AA10*((LOG(AA10))/LOG(2))))","v":0},null,{"$f":"N10","v":1122},{"$f":"COUNTIF(L70:L101,AD10)","v":2},{"$f":"AE10/(AG4-AE20)","v":8.3333333333333329E-2},{"$f":"IF(AF10=0,0,(AF10*((LOG(AF10))/LOG(2))))","v":-0.29874687506009634},null,{"$f":"N10","v":1122},{"$f":"COUNTIF(L102:L133,AI10)","v":0},{"$f":"AJ10/(AL4-AJ20)","v":0},{"$f":"IF(AK10=0,0,(AK10*((LOG(AK10))/LOG(2))))","v":0},null,{"$f":"N10","v":1122},{"$f":"COUNTIF(L134:L164,AN10)","v":0},{"$f":"AO10/(AQ4-AO20)","v":0},{"$f":"IF(AP10=0,0,(AP10*((LOG(AP10))/LOG(2))))","v":0},null,{"$f":"N10","v":1122},{"$f":"COUNTIF(L165:L196,AS10)","v":0},{"$f":"AT10/(AV4-AT20)","v":0},{"$f":"IF(AU10=0,0,(AU10*((LOG(AU10))/LOG(2))))","v":0}]
[12,470,23,475,24,481,23,490,null,null,0,1222,null,1211,{"$f":"COUNTIF($L$7:$L$500,N11)","v":0},{"$f":"O11/$Q$4","v":0},{"$f":"IF(P11=0,0,(P11*((LOG(P11))/LOG(2))))","v":0},null,null,{"$f":"N11","v":1211},{"$f":"COUNTIF(L7:L38,T11)","v":0},{"$f":"U11/(W4-U20)","v":0},{"$f":"IF(V11=0,0,(V11*((LOG(V11))/LOG(2))))","v":0},null,{"$f":"N11","v":1211},{"$f":"COUNTIF(L39:L69,Y11)","v":0},{"$f":"Z11/(AB4-Z20)","v":0},{"$f":"IF(AA11=0,0,(AA11*((LOG(AA11))/LOG(2))))","v":0},null,{"$f":"N11","v":1211},{"$f":"COUNTIF(L70:L101,AD11)","v":0},{"$f":"AE11/(AG4-AE20)","v":0},{"$f":"IF(AF11=0,0,(AF11*((LOG(AF11))/LOG(2))))","v":0},null,{"$f":"N11","v":1211},{"$f":"COUNTIF(L102:L133,AI11)","v":0},{"$f":"AJ11/(AL4-AJ20)","v":0},{"$f":"IF(AK11=0,0,(AK11*((LOG(AK11))/LOG(2))))","v":0},null,{"$f":"N11","v":1211},{"$f":"COUNTIF(L134:L164,AN11)","v":0},{"$f":"AO11/(AQ4-AO20)","v":0},{"$f":"IF(AP11=0,0,(AP11*((LOG(AP11))/LOG(2))))","v":0},null,{"$f":"N11","v":1211},{"$f":"COUNTIF(L165:L196,AS11)","v":0},{"$f":"AT11/(AV4-AT20)","v":0},{"$f":"IF(AU11=0,0,(AU11*((LOG(AU11))/LOG(2))))","v":0}]
[21,583,21,586,22,588,23,593,null,null,0,2222,null,1212,{"$f":"COUNTIF($L$7:$L$500,N12)","v":6},{"$f":"O12/$Q$4","v":3.1578947368421054E-2},{"$f":"IF(P12=0,0,(P12*((LOG(P12))/LOG(2))))","v":-0.15741767708241444},null,null,{"$f":"N12","v":1212},{"$f":"COUNTIF(L7:L38,T12)","v":0},{"$f":"U12/(W4-U20)","v":0},{"$f":"IF(V12=0,0,(V12*((LOG(V12))/LOG(2))))","v":0},null,{"$f":"N12","v":1212},{"$f":"COUNTIF(L39:L69,Y12)","v":0},{"$f":"Z12/(AB4-Z20)","v":0},{"$f":"IF(AA12=0,0,(AA12*((LOG(AA12))/LOG(2))))","v":0},null,{"$f":"N12","v":1212},{"$f":"COUNTIF(L70:L101,AD12)","v":0},{"$f":"AE12/(AG4-AE20)","v":0},{"$f":"IF(AF12=0,0,(AF12*((LOG(AF12))/LOG(2))))","v":0},null,{"$f":"N12","v":1212},{"$f":"COUNTIF(L102:L133,AI12)","v":1},{"$f":"AJ12/(AL4-AJ20)","v":3.8461538461538464E-2},{"$f":"IF(AK12=0,0,(AK12*((LOG(AK12))/LOG(2))))","v":-0.18078614300542661},null,{"$f":"N12","v":1212},{"$f":"COUNTIF(L134:L164,AN12)","v":3},{"$f":"AO12/(AQ4-AO20)","v":0.11538461538461539},{"$f":"IF(AP12=0,0,(AP12*((LOG(AP12))/LOG(2))))","v":-0.35947814047153104},null,{"$f":"N12","v":1212},{"$f":"COUNTIF(L165:L196,AS12)","v":2},{"$f":"AT12/(AV4-AT20)","v":7.1428571428571425E-2},{"$f":"IF(AU12=0,0,(AU12*((LOG(AU12))/LOG(2))))","v":-0.27195392300411453}]
[21,690,12,692,24,695,23,699,null,null,0,2122,null,1221,{"$f":"COUNTIF($L$7:$L$500,N13)","v":8},{"$f":"O13/$Q$4","v":4.2105263157894736E-2},{"$f":"IF(P13=0,0,(P13*((LOG(P13))/LOG(2))))","v":-0.19241497298235569},null,null,{"$f":"N13","v":1221},{"$f":"COUNTIF(L7:L38,T13)","v":1},{"$f":"U13/(W4-U20)","v":3.7037037037037035E-2},{"$f":"IF(V13=0,0,(V13*((LOG(V13))/LOG(2))))","v":-0.1761069445245729},null,{"$f":"N13","v":1221},{"$f":"COUNTIF(L39:L69,Y13)","v":1},{"$f":"Z13/(AB4-Z20)","v":4.3478260869565216E-2},{"$f":"IF(AA13=0,0,(AA13*((LOG(AA13))/LOG(2))))","v":-0.19667660678508753},null,{"$f":"N13","v":1221},{"$f":"COUNTIF(L70:L101,AD13)","v":2},{"$f":"AE13/(AG4-AE20)","v":8.3333333333333329E-2},{"$f":"IF(AF13=0,0,(AF13*((LOG(AF13))/LOG(2))))","v":-0.29874687506009634},null,{"$f":"N13","v":1221},{"$f":"COUNTIF(L102:L133,AI13)","v":1},{"$f":"AJ13/(AL4-AJ20)","v":3.8461538461538464E-2},{"$f":"IF(AK13=0,0,(AK13*((LOG(AK13))/LOG(2))))","v":-0.18078614300542661},null,{"$f":"N13","v":1221},{"$f":"COUNTIF(L134:L164,AN13)","v":1},{"$f":"AO13/(AQ4-AO20)","v":3.8461538461538464E-2},{"$f":"IF(AP13=0,0,(AP13*((LOG(AP13))/LOG(2))))","v":-0.18078614300542661},null,{"$f":"N13","v":1221},{"$f":"COUNTIF(L165:L196,AS13)","v":2},{"$f":"AT13/(AV4-AT20)","v":7.1428571428571425E-2},{"$f":"IF(AU13=0,0,(AU13*((LOG(AU13))/LOG(2))))","v":-0.27195392300411453}]
[21,794,12,797,24,799,23,808,null,null,0,2122,null,1222,{"$f":"COUNTIF($L$7:$L$500,N14)","v":32},{"$f":"O14/$Q$4","v":0.16842105263157894},{"$f":"IF(P14=0,0,(P14*((LOG(P14))/LOG(2))))","v":-0.43281778666626491},null,null,{"$f":"N14","v":1222},{"$f":"COUNTIF(L7:L38,T14)","v":5},{"$f":"U14/(W4-U20)","v":0.18518518518518517},{"$f":"IF(V14=0,0,(V14*((LOG(V14))/LOG(2))))","v":-0.45054803838446406},null,{"$f":"N14","v":1222},{"$f":"COUNTIF(L39:L69,Y14)","v":3},{"$f":"Z14/(AB4-Z20)","v":0.13043478260869565},{"$f":"IF(AA14=0,0,(AA14*((LOG(AA14))/LOG(2))))","v":-0.3832955811307639},null,{"$f":"N14","v":1222},{"$f":"COUNTIF(L70:L101,AD14)","v":5},{"$f":"AE14/(AG4-AE20)","v":0.20833333333333334},{"$f":"IF(AF14=0,0,(AF14*((LOG(AF14))/LOG(2))))","v":-0.47146550121537367},null,{"$f":"N14","v":1222},{"$f":"COUNTIF(L102:L133,AI14)","v":10},{"$f":"AJ14/(AL4-AJ20)","v":0.38461538461538464},{"$f":"IF(AK14=0,0,(AK14*((LOG(AK14))/LOG(2))))","v":-0.53019677817451139},null,{"$f":"N14","v":1222},{"$f":"COUNTIF(L134:L164,AN14)","v":4},{"$f":"AO14/(AQ4-AO20)","v":0.15384615384615385},{"$f":"IF(AP14=0,0,(AP14*((LOG(AP14))/LOG(2))))","v":-0.4154522643293988},null,{"$f":"N14","v":1222},{"$f":"COUNTIF(L165:L196,AS14)","v":5},{"$f":"AT14/(AV4-AT20)","v":0.17857142857142858},{"$f":"IF(AU14=0,0,(AU14*((LOG(AU14))/LOG(2))))","v":-0.44382621913754317}]
[21,908,21,912,22,919,23,928,null,null,0,2222,null,2111,{"$f":"COUNTIF($L$7:$L$500,N15)","v":0},{"$f":"O15/$Q$4","v":0},{"$f":"IF(P15=0,0,(P15*((LOG(P15))/LOG(2))))","v":0},null,null,{"$f":"N15","v":2111},{"$f":"COUNTIF(L7:L38,T15)","v":0},{"$f":"U15/(W4-U20)","v":0},{"$f":"IF(V15=0,0,(V15*((LOG(V15))/LOG(2))))","v":0},null,{"$f":"N15","v":2111},{"$f":"COUNTIF(L39:L69,Y15)","v":0},{"$f":"Z15/(AB4-Z20)","v":0},{"$f":"IF(AA15=0,0,(AA15*((LOG(AA15))/LOG(2))))","v":0},null,{"$f":"N15","v":2111},{"$f":"COUNTIF(L70:L101,AD15)","v":0},{"$f":"AE15/(AG4-AE20)","v":0},{"$f":"IF(AF15=0,0,(AF15*((LOG(AF15))/LOG(2))))","v":0},null,{"$f":"N15","v":2111},{"$f":"COUNTIF(L102:L133,AI15)","v":0},{"$f":"AJ15/(AL4-AJ20)","v":0},{"$f":"IF(AK15=0,0,(AK15*((LOG(AK15))/LOG(2))))","v":0},null,{"$f":"N15","v":2111},{"$f":"COUNTIF(L134:L164,AN15)","v":0},{"$f":"AO15/(AQ4-AO20)","v":0},{"$f":"IF(AP15=0,0,(AP15*((LOG(AP15))/LOG(2))))","v":0},null,{"$f":"N15","v":2111},{"$f":"COUNTIF(L165:L196,AS15)","v":0},{"$f":"AT15/(AV4-AT20)","v":0},{"$f":"IF(AU15=0,0,(AU15*((LOG(AU15))/LOG(2))))","v":0}]
[12,1020,23,1025,24,1031,23,1039,null,null,0,1222,null,2112,{"$f":"COUNTIF($L$7:$L$500,N16)","v":0},{"$f":"O16/$Q$4","v":0},{"$f":"IF(P16=0,0,(P16*((LOG(P16))/LOG(2))))","v":0},null,null,{"$f":"N16","v":2112},{"$f":"COUNTIF(L7:L38,T16)","v":0},{"$f":"U16/(W4-U20)","v":0},{"$f":"IF(V16=0,0,(V16*((LOG(V16))/LOG(2))))","v":0},null,{"$f":"N16","v":2112},{"$f":"COUNTIF(L39:L69,Y16)","v":0},{"$f":"Z16/(AB4-Z20)","v":0},{"$f":"IF(AA16=0,0,(AA16*((LOG(AA16))/LOG(2))))","v":0},null,{"$f":"N16","v":2112},{"$f":"COUNTIF(L70:L101,AD16)","v":0},{"$f":"AE16/(AG4-AE20)","v":0},{"$f":"IF(AF16=0,0,(AF16*((LOG(AF16))/LOG(2))))","v":0},null,{"$f":"N16","v":2112},{"$f":"COUNTIF(L102:L133,AI16)","v":0},{"$f":"AJ16/(AL4-AJ20)","v":0},{"$f":"IF(AK16=0,0,(AK16*((LOG(AK16))/LOG(2))))","v":0},null,{"$f":"N16","v":2112},{"$f":"COUNTIF(L134:L164,AN16)","v":0},{"$f":"AO16/(AQ4-AO20)","v":0},{"$f":"IF(AP16=0,0,(AP16*((LOG(AP16))/LOG(2))))","v":0},null,{"$f":"N16","v":2112},{"$f":"COUNTIF(L165:L196,AS16)","v":0},{"$f":"AT16/(AV4-AT20)","v":0},{"$f":"IF(AU16=0,0,(AU16*((LOG(AU16))/LOG(2))))","v":0}]
[21,1135,21,1139,22,1145,23,1154,null,null,0,2222,null,2121,{"$f":"COUNTIF($L$7:$L$500,N17)","v":1},{"$f":"O17/$Q$4","v":5.263157894736842E-3},{"$f":"IF(P17=0,0,(P17*((LOG(P17))/LOG(2))))","v":-3.9841345307004991E-2},null,null,{"$f":"N17","v":2121},{"$f":"COUNTIF(L7:L38,T17)","v":0},{"$f":"U17/(W4-U20)","v":0},{"$f":"IF(V17=0,0,(V17*((LOG(V17))/LOG(2))))","v":0},null,{"$f":"N17","v":2121},{"$f":"COUNTIF(L39:L69,Y17)","v":1},{"$f":"Z17/(AB4-Z20)","v":4.3478260869565216E-2},{"$f":"IF(AA17=0,0,(AA17*((LOG(AA17))/LOG(2))))","v":-0.19667660678508753},null,{"$f":"N17","v":2121},{"$f":"COUNTIF(L70:L101,AD17)","v":0},{"$f":"AE17/(AG4-AE20)","v":0},{"$f":"IF(AF17=0,0,(AF17*((LOG(AF17))/LOG(2))))","v":0},null,{"$f":"N17","v":2121},{"$f":"COUNTIF(L102:L133,AI17)","v":0},{"$f":"AJ17/(AL4-AJ20)","v":0},{"$f":"IF(AK17=0,0,(AK17*((LOG(AK17))/LOG(2))))","v":0},null,{"$f":"N17","v":2121},{"$f":"COUNTIF(L134:L164,AN17)","v":0},{"$f":"AO17/(AQ4-AO20)","v":0},{"$f":"IF(AP17=0,0,(AP17*((LOG(AP17))/LOG(2))))","v":0},null,{"$f":"N17","v":2121},{"$f":"COUNTIF(L165:L196,AS17)","v":0},{"$f":"AT17/(AV4-AT20)","v":0},{"$f":"IF(AU17=0,0,(AU17*((LOG(AU17))/LOG(2))))","v":0}]
[21,1254,21,1257,22,1263,23,1270,null,null,0,2222,null,2122,{"$f":"COUNTIF($L$7:$L$500,N18)","v":33},{"$f":"O18/$Q$4","v":0.1736842105263158},{"$f":"IF(P18=0,0,(P18*((LOG(P18))/LOG(2))))","v":-0.43863278492680169},null,null,{"$f":"N18","v":2122},{"$f":"COUNTIF(L7:L38,T18)","v":8},{"$f":"U18/(W4-U20)","v":0.29629629629629628},{"$f":"IF(V18=0,0,(V18*((LOG(V18))/LOG(2))))","v":-0.51996666730769436},null,{"$f":"N18","v":2122},{"$f":"COUNTIF(L39:L69,Y18)","v":6},{"$f":"Z18/(AB4-Z20)","v":0.2608695652173913},{"$f":"IF(AA18=0,0,(AA18*((LOG(AA18))/LOG(2))))","v":-0.50572159704413644},null,{"$f":"N18","v":2122},{"$f":"COUNTIF(L70:L101,AD18)","v":3},{"$f":"AE18/(AG4-AE20)","v":0.125},{"$f":"IF(AF18=0,0,(AF18*((LOG(AF18))/LOG(2))))","v":-0.375},null,{"$f":"N18","v":2122},{"$f":"COUNTIF(L102:L133,AI18)","v":5},{"$f":"AJ18/(AL4-AJ20)","v":0.19230769230769232},{"$f":"IF(AK18=0,0,(AK18*((LOG(AK18))/LOG(2))))","v":-0.45740608139494804},null,{"$f":"N18","v":2122},{"$f":"COUNTIF(L134:L164,AN18)","v":8},{"$f":"AO18/(AQ4-AO20)","v":0.30769230769230771},{"$f":"IF(AP18=0,0,(AP18*((LOG(AP18))/LOG(2))))","v":-0.52321222096648989},null,{"$f":"N18","v":2122},{"$f":"COUNTIF(L165:L196,AS18)","v":3},{"$f":"AT18/(AV4-AT20)","v":0.10714285714285714},{"$f":"IF(AU18=0,0,(AU18*((LOG(AU18))/LOG(2))))","v":-0.34525633085747659}]
[21,1369,12,1371,24,1375,23,1378,null,null,0,2122,null,2211,{"$f":"COUNTIF($L$7:$L$500,N19)","v":0},{"$f":"O19/$Q$4","v":0},{"$f":"IF(P19=0,0,(P19*((LOG(P19))/LOG(2))))","v":0},null,null,{"$f":"N19","v":2211},{"$f":"COUNTIF(L7:L38,T19)","v":0},{"$f":"U19/(W4-U20)","v":0},{"$f":"IF(V19=0,0,(V19*((LOG(V19))/LOG(2))))","v":0},null,{"$f":"N19","v":2211},{"$f":"COUNTIF(L39:L69,Y19)","v":0},{"$f":"Z19/(AB4-Z20)","v":0},{"$f":"IF(AA19=0,0,(AA19*((LOG(AA19))/LOG(2))))","v":0},null,{"$f":"N19","v":2211},{"$f":"COUNTIF(L70:L101,AD19)","v":0},{"$f":"AE19/(AG4-AE20)","v":0},{"$f":"IF(AF19=0,0,(AF19*((LOG(AF19))/LOG(2))))","v":0},null,{"$f":"N19","v":2211},{"$f":"COUNTIF(L102:L133,AI19)","v":0},{"$f":"AJ19/(AL4-AJ20)","v":0},{"$f":"IF(AK19=0,0,(AK19*((LOG(AK19))/LOG(2))))","v":0},null,{"$f":"N19","v":2211},{"$f":"COUNTIF(L134:L164,AN19)","v":0},{"$f":"AO19/(AQ4-AO20)","v":0},{"$f":"IF(AP19=0,0,(AP19*((LOG(AP19))/LOG(2))))","v":0},null,{"$f":"N19","v":2211},{"$f":"COUNTIF(L165:L196,AS19)","v":0},{"$f":"AT19/(AV4-AT20)","v":0},{"$f":"IF(AU19=0,0,(AU19*((LOG(AU19))/LOG(2))))","v":0}]
[21,1474,12,1478,24,1481,23,1486,null,null,0,2122,null,2212,{"$f":"COUNTIF($L$7:$L$500,N20)","v":36},{"$f":"O20/$Q$4","v":0.18947368421052632},{"$f":"IF(P20=0,0,(P20*((LOG(P20))/LOG(2))))","v":-0.45472369393679413},null,null,{"$f":"N20","v":2212},{"$f":"COUNTIF(L7:L38,T20)","v":5},null,null,null,{"$f":"N20","v":2212},{"$f":"COUNTIF(L39:L69,Y20)","v":8},null,null,null,{"$f":"N20","v":2212},{"$f":"COUNTIF(L70:L101,AD20)","v":8},null,null,null,{"$f":"N20","v":2212},{"$f":"COUNTIF(L102:L133,AI20)","v":6},null,null,null,{"$f":"N20","v":2212},{"$f":"COUNTIF(L134:L164,AN20)","v":5},null,null,null,{"$f":"N20","v":2212},{"$f":"COUNTIF(L165:L196,AS20)","v":4}]
[12,1580,23,1587,24,1593,23,1595,null,null,0,1222,null,2221,{"$f":"COUNTIF($L$7:$L$500,N21)","v":17},{"$f":"O21/$Q$4","v":8.9473684210526316E-2},{"$f":"IF(P21=0,0,(P21*((LOG(P21))/LOG(2))))","v":-0.31158251073879129},null,null,{"$f":"N21","v":2221},{"$f":"COUNTIF(L7:L38,T21)","v":3},{"$f":"U21/(W4-U20)","v":0.1111111111111111},{"$f":"IF(V21=0,0,(V21*((LOG(V21))/LOG(2))))","v":-0.3522138890491458},null,{"$f":"N21","v":2221},{"$f":"COUNTIF(L39:L69,Y21)","v":3},{"$f":"Z21/(AB4-Z20)","v":0.13043478260869565},{"$f":"IF(AA21=0,0,(AA21*((LOG(AA21))/LOG(2))))","v":-0.3832955811307639},null,{"$f":"N21","v":2221},{"$f":"COUNTIF(L70:L101,AD21)","v":1},{"$f":"AE21/(AG4-AE20)","v":4.1666666666666664E-2},{"$f":"IF(AF21=0,0,(AF21*((LOG(AF21))/LOG(2))))","v":-0.19104010419671485},null,{"$f":"N21","v":2221},{"$f":"COUNTIF(L102:L133,AI21)","v":3},{"$f":"AJ21/(AL4-AJ20)","v":0.11538461538461539},{"$f":"IF(AK21=0,0,(AK21*((LOG(AK21))/LOG(2))))","v":-0.35947814047153104},null,{"$f":"N21","v":2221},{"$f":"COUNTIF(L134:L164,AN21)","v":3},{"$f":"AO21/(AQ4-AO20)","v":0.11538461538461539},{"$f":"IF(AP21=0,0,(AP21*((LOG(AP21))/LOG(2))))","v":-0.35947814047153104},null,{"$f":"N21","v":2221},{"$f":"COUNTIF(L165:L196,AS21)","v":4},{"$f":"AT21/(AV4-AT20)","v":0.14285714285714285},{"$f":"IF(AU21=0,0,(AU21*((LOG(AU21))/LOG(2))))","v":-0.40105070315108626}]
[21,1693,21,1697,11,1700,21,1708,null,null,0,2212,null,2222,{"$f":"COUNTIF($L$7:$L$500,N22)","v":54},{"$f":"O22/$Q$4","v":0.28421052631578947},{"$f":"IF(P22=0,0,(P22*((LOG(P22))/LOG(2))))","v":-0.51583304070023095},null,null,{"$f":"N22","v":2222},{"$f":"COUNTIF(L7:L38,T22)","v":9},{"$f":"U22/(W4-U20)","v":0.33333333333333331},{"$f":"IF(V22=0,0,(V22*((LOG(V22))/LOG(2))))","v":-0.52832083357371862},null,{"$f":"N22","v":2222},{"$f":"COUNTIF(L39:L69,Y22)","v":9},{"$f":"Z22/(AB4-Z20)","v":0.39130434782608697},{"$f":"IF(AA22=0,0,(AA22*((LOG(AA22))/LOG(2))))","v":-0.5296840257187958},null,{"$f":"N22","v":2222},{"$f":"COUNTIF(L70:L101,AD22)","v":11},{"$f":"AE22/(AG4-AE20)","v":0.45833333333333331},{"$f":"IF(AF22=0,0,(AF22*((LOG(AF22))/LOG(2))))","v":-0.51586832095510204},null,{"$f":"N22","v":2222},{"$f":"COUNTIF(L102:L133,AI22)","v":6},{"$f":"AJ22/(AL4-AJ20)","v":0.23076923076923078},{"$f":"IF(AK22=0,0,(AK22*((LOG(AK22))/LOG(2))))","v":-0.48818705017383146},null,{"$f":"N22","v":2222},{"$f":"COUNTIF(L134:L164,AN22)","v":7},{"$f":"AO22/(AQ4-AO20)","v":0.26923076923076922},{"$f":"IF(AP22=0,0,(AP22*((LOG(AP22))/LOG(2))))","v":-0.50967667586863141},null,{"$f":"N22","v":2222},{"$f":"COUNTIF(L165:L196,AS22)","v":12},{"$f":"AT22/(AV4-AT20)","v":0.42857142857142855},{"$f":"IF(AU22=0,0,(AU22*((LOG(AU22))/LOG(2))))","v":-0.52388246628704915}]
[21,1815,21,1821,22,1832,23,1841,null,null,0,2222,null,null,null,{"$f":"SUM(P7:P22)","v":1},{"$f":"-SUM(Q7:Q22)","v":2.6377621245660761},null,null,null,null,{"$f":"SUM(V7:V22)","v":1},{"$f":"-SUM(W7:W22)","v":2.2032633173641685},null,null,null,{"$f":"SUM(AA7:AA22)","v":1},{"$f":"-SUM(AB7:AB22)","v":2.1953499985946352},null,null,null,{"$f":"SUM(AF7:AF22)","v":1},{"$f":"-SUM(AG7:AG22)","v":2.1508676764873833},null,null,null,{"$f":"SUM(AK7:AK22)","v":1},{"$f":"-SUM(AL7:AL22)","v":2.1968403362256752},null,null,null,{"$f":"SUM(AP7:AP22)","v":1},{"$f":"-SUM(AQ7:AQ22)","v":2.3480835851130091},null,null,null,{"$f":"SUM(AU7:AU22)","v":1},{"$f":"-SUM(AV7:AV22)","v":2.2579235654413843}]
[12,1935,23,1936,24,1943,14,1949,null,null,0,1221,null,null,null,"U=",{"$f":"Q23/(LOG(Q4)/LOG(2))","v":0.34845606852303851},null,null,null,null,"U1=",{"$f":"W23/(LOG(W4)/LOG(2))","v":0.44065266347283372},null,null,null,"U2=",{"$f":"AB23/(LOG(AB4)/LOG(2))","v":0.44312939194434131},null,null,null,"U3=",{"$f":"AG23/(LOG(AG4)/LOG(2))","v":0.43017353529747665},null,null,null,"U4=",{"$f":"AL23/(LOG(AL4)/LOG(2))","v":0.43936806724513505},null,null,null,"U5=",{"$f":"AQ23/(LOG(AQ4)/LOG(2))","v":0.47395852687348322},null,null,null,"U6=",{"$f":"AV23/(LOG(AV4)/LOG(2))","v":0.45158471308827686}]
[21,2044,12,2049,24,2058,23,2066,null,null,0,2122]
[21,2162,21,2167,22,2172,23,2179,null,null,0,2222]
[21,2271,21,2274,22,2278,14,2280,null,null,0,2221,null,"Total Target Seq"]
[21,2376,21,2379,11,2381,21,2383,null,null,0,2212,null,{"$f":"COUNTIF(L7:L196,G3)","v":36},null,32,31,32,32,31,32]
[12,2500,14,2513,24,2527,23,2536,null,null,0,1122,null,null,null,"% of reinforcement given in 6 equal intervals based on number of trials "]
[21,2632,21,2642,22,2649,23,2656,null,null,0,2222,null,null,null,"%_1","%_2","%_3","%_4","%_5","%_6"]
[21,2752,12,2757,24,2762,23,2775,null,null,0,2122,null,null,"target sequence",{"$f":"$G$3","v":2212},{"$f":"$G$3","v":2212},{"$f":"$G$3","v":2212},{"$f":"$G$3","v":2212},{"$f":"$G$3","v":2212},{"$f":"$G$3","v":2212}]
[21,2875,21,2878,11,2882,21,2886,null,null,0,2212,null,null,"total reinforcement",{"$f":"U20","v":5},{"$f":"Z20","v":8},{"$f":"AE20","v":8},{"$f":"AJ20","v":6},{"$f":"AO20","v":5},{"$f":"AT20","v":4}]
[21,2986,21,2995,22,3002,23,3009,null,null,0,2222,null,null,"% target"]
[21,3122,21,3124,22,3130,23,3137,null,null,0,2222,null,null,"CCRF"]
[21,3232,21,3236,22,3242,14,3254,null,null,0,2221,null,null,"% CCRf"]
[21,3351,21,3356,22,3362,14,3370,null,null,0,2221,null,null,"average response rate",{"$f":"H38/P28","v":113.78125},{"$f":"(H69-H38)/Q28","v":139.35483870967741},{"$f":"(H101-H69)/R28","v":127.625},{"$f":"(H133-H101)/S28","v":119.59375},{"$f":"(H164-H133)/T28","v":134.45161290322579},{"$f":"(H196-H164)/U28","v":122}]
[21,3462,21,3464,11,3467,21,3470,null,null,0,2212]
[21,3608,21,3614,11,3619,21,3641,null,null,0,2212]
[12,3922,23,3933,24,3989,23,4006,null,null,0,1222]
[21,4100,21,4110,22,4118,23,4124,null,null,0,2222]
[21,4218,12,4220,24,4222,23,4234,null,null,0,2122]
[21,4329,21,4332,22,4337,23,4344,null,null,0,2222]
[21,4439,21,4444,11,4447,21,4452,null,null,0,2212]
[21,4585,12,4591,24,4598,23,4608,null,null,0,2122]
[12,4704,23,4706,24,4712,23,4718,null,null,0,1222]
[21,4813,21,4819,11,4832,21,4840,null,null,0,2212]
[12,4969,23,4972,24,4992,23,5000,null,null,0,1222]
[21,5100,12,5103,24,5116,23,5129,null,null,0,2122]
[21,5224,12,5231,24,5233,23,5240,null,null,0,2122]
[21,5337,21,5339,11,5343,21,5345,null,null,0,2212]
[21,5480,21,5485,22,5498,14,5511,null,null,0,2221]
[21,5605,21,5610,22,5616,23,5625,null,null,0,2222]
[12,5718,23,5727,24,5731,14,5734,null,null,0,1221]
[21,5830,21,5834,11,5836,21,5840,null,null,0,2212]
[21,5956,21,5965,22,5973,23,5987,null,null,0,2222]
[21,6082,12,6084,24,6092,23,6099,null,null,0,2122]
[21,6194,21,6198,22,6204,14,6209,null,null,0,2221]
[21,6302,21,6309,22,6318,23,6326,null,null,0,2222]
[21,6421,21,6425,22,6431,23,6440,null,null,0,2222]
[21,6535,21,6538,11,6542,21,6545,null,null,0,2212]
[21,6721,21,6727,22,6737,23,6745,null,null,0,2222]
[21,6848,21,6852,22,6857,23,6863,null,null,0,2222]
[21,6958,12,6961,24,6970,14,6976,null,null,0,2121]
[21,7079,21,7083,11,7088,21,7095,null,null,0,2212]
[21,7248,21,7253,11,7256,21,7265,null,null,0,2212]
[21,7470,12,7475,24,7491,23,7496,null,null,0,2122]
[21,7592,21,7596,11,7600,21,7625,null,null,0,2212]
[21,7822,21,7827,22,7840,14,7844,null,null,0,2221]
[21,7940,21,7943,22,7947,23,7961,null,null,0,2222]
[12,8054,23,8061,24,8067,23,8073,null,null,0,1222]
[21,8164,21,8170,22,8174,23,8179,null,null,0,2222]
[21,8286,21,8293,22,8297,23,8303,null,null,0,2222]
[12,8395,23,8400,24,8408,23,8415,null,null,0,1222]
[21,8513,21,8518,22,8525,23,8532,null,null,0,2222]
[21,8628,21,8630,11,8634,21,8635,null,null,0,2212]
[21,8735,21,8740,11,8742,21,8758,null,null,0,2212]
[21,8934,21,8938,22,8954,23,8966,null,null,0,2222]
[12,9086,23,9106,24,9109,14,9112,null,null,0,1221]
[21,9207,21,9212,22,9226,23,9240,null,null,0,2222]
[12,9333,23,9341,24,9345,14,9351,null,null,0,1221]
[21,9446,21,9453,22,9458,23,9465,null,null,0,2222]
[21,9575,21,9581,22,9584,14,9586,null,null,0,2221]
[21,9682,21,9684,22,9691,23,9702,null,null,0,2222]
[21,9801,21,9804,22,9809,23,9816,null,null,0,2222]
[21,9911,21,9915,11,9918,21,9921,null,null,0,2212]
[12,10097,23,10102,24,10120,23,10129,null,null,0,1222]
[12,10253,14,10257,24,10261,23,10271,null,null,0,1122]
[21,10366,21,10371,22,10376,23,10387,null,null,0,2222]
[21,10482,21,10488,11,10491,21,10494,null,null,0,2212]
[21,10598,12,10604,24,10657,23,10670,null,null,0,2122]
[12,10764,14,10767,24,10773,23,10777,null,null,0,1122]
[21,10873,21,10877,22,10886,23,10893,null,null,0,2222]
[21,10986,21,10990,11,10993,21,10995,null,null,0,2212]
[21,11154,12,11157,24,11160,23,11170,null,null,0,2122]
[12,11280,23,11283,24,11300,23,11308,null,null,0,1222]
[21,11407,21,11411,11,11415,21,11427,null,null,0,2212]
[12,11515,23,11518,24,11524,23,11529,null,null,0,1222]
[21,11624,21,11627,11,11630,21,11633,null,null,0,2212]
[21,11762,21,11777,22,11790,23,11798,null,null,0,2222]
[21,11894,21,11900,11,11902,21,11916,null,null,0,2212]
[21,12011,12,12018,24,12029,23,12045,null,null,0,2122]
[21,12140,21,12147,22,12154,14,12162,null,null,0,2221]
[21,12258,12,12260,24,12266,23,12280,null,null,0,2122]
[21,12377,21,12379,22,12384,23,12388,null,null,0,2222]
[21,12492,21,12495,11,12498,21,12500,null,null,0,2212]
[12,12635,23,12637,24,12643,23,12648,null,null,0,1222]
[21,12743,21,12747,22,12753,14,12756,null,null,0,2221]
[12,12853,23,12856,24,12864,23,12870,null,null,0,1222]
[12,12963,23,12970,24,12975,14,12978,null,null,0,1221]
[12,13071,23,13078,24,13082,23,13090,null,null,0,1222]
[21,13187,21,13193,11,13197,21,13217,null,null,0,2212]
[21,13368,21,13374,22,13379,23,13387,null,null,0,2222]
[21,13482,21,13485,11,13489,21,13498,null,null,0,2212]
[21,13624,21,13630,22,13637,23,13653,null,null,0,2222]
[21,13748,21,13753,22,13758,14,13764,null,null,0,2221]
[21,13859,21,13864,22,13871,23,13878,null,null,0,2222]
[12,13975,23,13980,24,13985,23,13992,null,null,0,1222]
[12,14085,23,14092,13,14094,23,14098,null,null,0,1212]
[12,14191,23,14199,24,14205,23,14211,null,null,0,1222]
[12,14311,23,14317,24,14324,23,14334,null,null,0,1222]
[12,14428,23,14438,24,14443,23,14448,null,null,0,1222]
[21,14548,12,14555,24,14558,23,14565,null,null,0,2122]
[12,14659,23,14664,24,14669,23,14678,null,null,0,1222]
[21,14773,12,14779,24,14784,23,14792,null,null,0,2122]
[12,14884,23,14891,24,14895,23,14899,null,null,0,1222]
[21,14995,21,14998,11,15001,21,15004,null,null,0,2212]
[21,15114,12,15120,24,15140,23,15147,null,null,0,2122]
[21,15247,12,15253,24,15266,23,15279,null,null,0,2122]
[12,15374,23,15376,24,15382,23,15387,null,null,0,1222]
[21,15484,21,15487,22,15495,23,15504,null,null,0,2222]
[21,15599,21,15603,22,15609,23,15617,null,null,0,2222]
[21,15713,21,15715,11,15718,21,15729,null,null,0,2212]
[21,15858,21,15863,11,15866,21,15872,null,null,0,2212]
[21,16144,21,16148,22,16155,23,16167,null,null,0,2222]
[21,16267,21,16276,22,16283,23,16290,null,null,0,2222]
[21,16386,21,16390,11,16396,21,16406,null,null,0,2212]
[12,16570,23,16590,24,16606,23,16615,null,null,0,1222]
[21,16714,12,16719,24,16728,23,16735,null,null,0,2122]
[21,16830,12,16835,24,16838,23,16850,null,null,0,2122]
[21,16957,21,16962,11,16964,21,16972,null,null,0,2212]
[21,17106,21,17112,11,17114,21,17125,null,null,0,2212]
[21,17318,21,17323,22,17329,23,17341,null,null,0,2222]
[12,17438,23,17454,24,17468,23,17475,null,null,0,1222]
[21,17567,21,17573,22,17578,23,17590,null,null,0,2222]
[21,17693,21,17698,22,17701,23,17708,null,null,0,2222]
[21,17807,21,17811,22,17813,14,17815,null,null,0,2221]
[21,17914,21,17917,11,17921,21,17926,null,null,0,2212]
[21,18199,12,18203,24,18207,23,18220,null,null,0,2122]
[12,18315,23,18320,13,18323,23,18328,null,null,0,1212]
[12,18420,23,18429,13,18433,23,18446,null,null,0,1212]
[21,18542,21,18544,22,18550,14,18553,null,null,0,2221]
[21,18649,21,18652,22,18657,23,18662,null,null,0,2222]
[21,18761,21,18764,22,18766,14,18768,null,null,0,2221]
[21,18863,12,18868,24,18870,23,18875,null,null,0,2122]
[12,18967,23,18975,24,18979,23,18983,null,null,0,1222]
[21,19078,21,19081,11,19083,21,19091,null,null,0,2212]
[21,19237,12,19245,24,19249,23,19262,null,null,0,2122]
[21,19358,21,19372,22,19383,23,19391,null,null,0,2222]
[21,19490,12,19496,24,19502,23,19511,null,null,0,2122]
[21,19609,12,19614,24,19618,23,19625,null,null,0,2122]
[12,19719,23,19722,24,19725,23,19730,null,null,0,1222]
[21,19821,12,19825,24,19828,23,19833,null,null,0,2122]
[12,19926,23,19930,13,19937,23,19939,null,null,0,1212]
[12,20031,23,20034,24,20038,14,20040,null,null,0,1221]
[21,20137,21,20142,22,20148,23,20157,null,null,0,2222]
[21,20252,21,20257,11,20260,21,20263,null,null,0,2212]
[21,20353,21,20359,22,20372,23,20387,null,null,0,2222]
[12,20484,23,20493,24,20497,14,20501,null,null,0,1221]
[12,20595,23,20601,24,20603,23,20609,null,null,0,1222]
[21,20704,12,20710,24,20718,23,20727,null,null,0,2122]
[21,20820,12,20824,24,20831,23,20840,null,null,0,2122]
[21,20936,12,20938,24,20941,23,20950,null,null,0,2122]
[21,21051,21,21055,22,21065,23,21073,null,null,0,2222]
[21,21167,21,21170,22,21175,23,21185,null,null,0,2222]
[21,21280,21,21285,22,21291,23,21297,null,null,0,2222]
[21,21390,21,21392,22,21397,14,21401,null,null,0,2221]
[12,21494,23,21503,13,21504,23,21510,null,null,0,1212]
[12,21602,23,21605,24,21614,23,21622,null,null,0,1222]
[21,21720,21,21724,11,21733,21,21735,null,null,0,2212]
[12,21933,23,21937,24,21945,23,21958,null,null,0,1222]
[21,22062,21,22065,22,22071,23,22080,null,null,0,2222]
[21,22177,21,22180,11,22182,21,22189,null,null,0,2212]
[12,22341,23,22348,24,22363,23,22377,null,null,0,1222]
[21,22526,21,22528,22,22534,23,22540,null,null,0,2222]
[21,22636,21,22640,11,22642,21,22655,null,null,0,2212]
[21,22797,21,22802,22,22821,14,22833,null,null,0,2221]
[21,22928,21,22937,22,22944,23,22955,null,null,0,2222]
[12,23050,23,23056,13,23058,23,23061,null,null,0,1212]
[12,23153,23,23163,24,23168,23,23174,null,null,0,1222]
[21,23271,21,23276,22,23282,23,23289,null,null,0,2222]
[12,23382,23,23389,24,23393,14,23396,null,null,0,1221]
[21,23496,21,23500,22,23503,23,23510,null,null,0,2222]
[21,23609,21,23614,22,23619,23,23625,null,null,0,2222]
[21,23721,21,23724,22,23728,23,23736,null,null,0,2222]
[21,23830,21,23833,22,23837,14,23840,null,null,0,2221]
[21,23932,21,23936,22,23940,14,23944,null,null,null,2221]

{"sheet":"!M710A40.Gus","index":21,"n_rows":196,"n_cols":48,"rows_kept":196,"cut":false,"hidden":false,"merged":[[4,39,4,42],[5,39,5,40],[4,44,4,47],[5,44,5,45],[4,24,4,27],[5,24,5,25],[4,29,4,32],[5,29,5,30],[4,34,4,37],[5,34,5,35],[1,1,1,2],[5,13,5,14],[26,13,26,14],[27,13,27,14],[4,19,4,22],[5,19,5,20]]}
["Report for:!M710A40.Gus"]
["Date:","<date>"]
["Hen:","<hen>",null,null,null,"Correct Sequence",{"$f":"Start!J2","v":2212},null,null,null,null,null,null,null,null,"Total Sequences in Data",{"$f":"4994-COUNTBLANK(L7:L5000)","v":190},null,null,null,null,"Total Sequences in Block Data",{"$f":"COUNTA(L7:L38)","v":32},null,null,null,"Total Sequences in Block Data",{"$f":"COUNTA(L39:L69)","v":31},null,null,null,"Total Sequences in Block Data",{"$f":"COUNTA(L70:L101)","v":32},null,null,null,"Total Sequences in Block Data",{"$f":"COUNTA(L102:L133)","v":32},null,null,null,"Total Sequences in Block Data",{"$f":"COUNTA(L134:L164)","v":31},null,null,null,"Total Sequences in Block Data",{"$f":"COUNTA(L165:L196)","v":32}]
[null,null,null,null,null,null,null,null,null,null,null,null,null,null,null,"Total Sequences in Summary",{"$f":"SUM(O7:O22)","v":190},null,null,null,null,"Total Sequences in Block Summary",{"$f":"SUM(U7:U22)","v":32},null,null,null,"Total Sequences in Block Summary",{"$f":"SUM(Z7:Z22)","v":31},null,null,null,"Total Sequences in Block Summary",{"$f":"SUM(AE7:AE22)","v":32},null,null,null,"Total Sequences in Block Summary",{"$f":"SUM(AJ7:AJ22)","v":32},null,null,null,"Total Sequences in Block Summary",{"$f":"SUM(AO7:AO22)","v":31},null,null,null,"Total Sequences in Block Summary",{"$f":"SUM(AT7:AT22)","v":32}]
[null,null,null,null,null,null,null,null,null,null,null,null,null,null,null,null,null,null,null,"Block 1",null,null,null,null,"Block 2",null,null,null,null,"Block 3",null,null,null,null,"Block 4",null,null,null,null,"Block 5",null,null,null,null,"Block 6"]
["Sequence\nComponent\n1","Time\n1","Sequence\nComponent\n2","Time\n2","Sequence\nComponent\n3","Time\n3","Sequence\nComponent\n4","Time\n4","Sequence\nComponent\n5","Time\n5","Correct?\n0=No 1=Yes","Sequence",null,"Frequency",null,"Relative Frequency","Variability",null,null,"Frequency",null,"Relative Frequency","Variability",null,"Frequency",null,"Relative Frequency","Variability",null,"Frequency",null,"Relative Frequency","Variability",null,"Frequency",null,"Relative Frequency","Variability",null,"Frequency",null,"Relative Frequency","Variability",null,"Frequency",null,"Relative Frequency","Variability"]
[21,23,21,29,22,35,23,43,null,null,0,2222,null,1111,{"$f":"COUNTIF($L$7:$L$500,N7)","v":0},{"$f":"O7/$Q$4","v":0},{"$f":"IF(P7=0,0,(P7*((LOG(P7))/LOG(2))))","v":0},null,null,{"$f":"N7","v":1111},{"$f":"COUNTIF(L7:L38,T7)","v":0},{"$f":"U7/(W4-U20)","v":0},{"$f":"IF(V7=0,0,(V7*((LOG(V7))/LOG(2))))","v":0},null,{"$f":"N7","v":1111},{"$f":"COUNTIF(L39:L69,Y7)","v":0},{"$f":"Z7/(AB4-Z20)","v":0},{"$f":"IF(AA7=0,0,(AA7*((LOG(AA7))/LOG(2))))","v":0},null,{"$f":"N7","v":1111},{"$f":"COUNTIF(L70:L101,AD7)","v":0},{"$f":"AE7/(AG4-AE20)","v":0},{"$f":"IF(AF7=0,0,(AF7*((LOG(AF7))/LOG(2))))","v":0},null,{"$f":"N7","v":1111},{"$f":"COUNTIF(L102:L133,AI7)","v":0},{"$f":"AJ7/(AL4-AJ20)","v":0},{"$f":"IF(AK7=0,0,(AK7*((LOG(AK7))/LOG(2))))","v":0},null,{"$f":"N7","v":1111},{"$f":"COUNTIF(L134:L164,AN7)","v":0},{"$f":"AO7/(AQ4-AO20)","v":0},{"$f":"IF(AP7=0,0,(AP7*((LOG(AP7))/LOG(2))))","v":0},null,{"$f":"N7","v":1111},{"$f":"COUNTIF(L165:L196,AS7)","v":0},{"$f":"AT7/(AV4-AT20)","v":0},{"$f":"IF(AU7=0,0,(AU7*((LOG(AU7))/LOG(2))))","v":0}]
[12,135,23,150,13,154,23,160,null,null,0,1212,null,1112,{"$f":"COUNTIF($L$7:$L$500,N8)","v":0},{"$f":"O8/$Q$4","v":0},{"$f":"IF(P8=0,0,(P8*((LOG(P8))/LOG(2))))","v":0},null,null,{"$f":"N8","v":1112},{"$f":"COUNTIF(L7:L38,T8)","v":0},{"$f":"U8/(W4-U20)","v":0},{"$f":"IF(V8=0,0,(V8*((LOG(V8))/LOG(2))))","v":0},null,{"$f":"N8","v":1112},{"$f":"COUNTIF(L39:L69,Y8)","v":0},{"$f":"Z8/(AB4-Z20)","v":0},{"$f":"IF(AA8=0,0,(AA8*((LOG(AA8))/LOG(2))))","v":0},null,{"$f":"N8","v":1112},{"$f":"COUNTIF(L70:L101,AD8)","v":0},{"$f":"AE8/(AG4-AE20)","v":0},{"$f":"IF(AF8=0,0,(AF8*((LOG(AF8))/LOG(2))))","v":0},null,{"$f":"N8","v":1112},{"$f":"COUNTIF(L102:L133,AI8)","v":0},{"$f":"AJ8/(AL4-AJ20)","v":0},{"$f":"IF(AK8=0,0,(AK8*((LOG(AK8))/LOG(2))))","v":0},null,{"$f":"N8","v":1112},{"$f":"COUNTIF(L134:L164,AN8)","v":0},{"$f":"AO8/(AQ4-AO20)","v":0},{"$f":"IF(AP8=0,0,(AP8*((LOG(AP8))/LOG(2))))","v":0},null,{"$f":"N8","v":1112},{"$f":"COUNTIF(L165:L196,AS8)","v":0},{"$f":"AT8/(AV4-AT20)","v":0},{"$f":"IF(AU8=0,0,(AU8*((LOG(AU8))/LOG(2))))","v":0}]
[12,253,23,262,13,266,23,270,null,null,0,1212,null,1121,{"$f":"COUNTIF($L$7:$L$500,N9)","v":0},{"$f":"O9/$Q$4","v":0},{"$f":"IF(P9=0,0,(P9*((LOG(P9))/LOG(2))))","v":0},null,null,{"$f":"N9","v":1121},{"$f":"COUNTIF(L7:L38,T9)","v":0},{"$f":"U9/(W4-U20)","v":0},{"$f":"IF(V9=0,0,(V9*((LOG(V9))/LOG(2))))","v":0},null,{"$f":"N9","v":1121},{"$f":"COUNTIF(L39:L69,Y9)","v":0},{"$f":"Z9/(AB4-Z20)","v":0},{"$f":"IF(AA9=0,0,(AA9*((LOG(AA9))/LOG(2))))","v":0},null,{"$f":"N9","v":1121},{"$f":"COUNTIF(L70:L101,AD9)","v":0},{"$f":"AE9/(AG4-AE20)","v":0},{"$f":"IF(AF9=0,0,(AF9*((LOG(AF9))/LOG(2))))","v":0},null,{"$f":"N9","v":1121},{"$f":"COUNTIF(L102:L133,AI9)","v":0},{"$f":"AJ9/(AL4-AJ20)","v":0},{"$f":"IF(AK9=0,0,(AK9*((LOG(AK9))/LOG(2))))","v":0},null,{"$f":"N9","v":1121},{"$f":"COUNTIF(L134:L164,AN9)","v":0},{"$f":"AO9/(AQ4-AO20)","v":0},{"$f":"IF(AP9=0,0,(AP9*((LOG(AP9))/LOG(2))))","v":0},null,{"$f":"N9","v":1121},{"$f":"COUNTIF(L165:L196,AS9)","v":0},{"$f":"AT9/(AV4-AT20)","v":0},{"$f":"IF(AU9=0,0,(AU9*((LOG(AU9))/LOG(2))))","v":0}]
[21,370,21,374,22,383,23,392,null,null,0,2222,null,1122,{"$f":"COUNTIF($L$7:$L$500,N10)","v":2},{"$f":"O10/$Q$4","v":1.0526315789473684E-2},{"$f":"IF(P10=0,0,(P10*((LOG(P10))/LOG(2))))","v":-6.9156374824536293E-2},null,null,{"$f":"N10","v":1122},{"$f":"COUNTIF(L7:L38,T10)","v":0},{"$f":"U10/(W4-U20)","v":0},{"$f":"IF(V10=0,0,(V10*((LOG(V10))/LOG(2))))","v":0},null,{"$f":"N10","v":1122},{"$f":"COUNTIF(L39:L69,Y10)","v":0},{"$f":"Z10/(AB4-Z20)","v":0},{"$f":"IF(AA10=0,0,(AA10*((LOG(AA10))/LOG(2))))","v":0},null,{"$f":"N10","v":1122},{"$f":"COUNTIF(L70:L101,AD10)","v":1},{"$f":"AE10/(AG4-AE20)","v":0.04},{"$f":"IF(AF10=0,0,(AF10*((LOG(AF10))/LOG(2))))","v":-0.18575424759098899},null,{"$f":"N10","v":1122},{"$f":"COUNTIF(L102:L133,AI10)","v":1},{"$f":"AJ10/(AL4-AJ20)","v":4.3478260869565216E-2},{"$f":"IF(AK10=0,0,(AK10*((LOG(AK10))/LOG(2))))","v":-0.19667660678508753},null,{"$f":"N10","v":1122},{"$f":"COUNTIF(L134:L164,AN10)","v":0},{"$f":"AO10/(AQ4-AO20)","v":0},{"$f":"IF(AP10=0,0,(AP10*((LOG(AP10))/LOG(2))))","v":0},null,{"$f":"N10","v":1122},{"$f":"COUNTIF(L165:L196,AS10)","v":0},{"$f":"AT10/(AV4-AT20)","v":0},{"$f":"IF(AU10=0,0,(AU10*((LOG(AU10))/LOG(2))))","v":0}]
[12,485,23,495,13,498,23,503,null,null,0,1212,null,1211,{"$f":"COUNTIF($L$7:$L$500,N11)","v":0},{"$f":"O11/$Q$4","v":0},{"$f":"IF(P11=0,0,(P11*((LOG(P11))/LOG(2))))","v":0},null,null,{"$f":"N11","v":1211},{"$f":"COUNTIF(L7:L38,T11)","v":0},{"$f":"U11/(W4-U20)","v":0},{"$f":"IF(V11=0,0,(V11*((LOG(V11))/LOG(2))))","v":0},null,{"$f":"N11","v":1211},{"$f":"COUNTIF(L39:L69,Y11)","v":0},{"$f":"Z11/(AB4-Z20)","v":0},{"$f":"IF(AA11=0,0,(AA11*((LOG(AA11))/LOG(2))))","v":0},null,{"$f":"N11","v":1211},{"$f":"COUNTIF(L70:L101,AD11)","v":0},{"$f":"AE11/(AG4-AE20)","v":0},{"$f":"IF(AF11=0,0,(AF11*((LOG(AF11))/LOG(2))))","v":0},null,{"$f":"N11","v":1211},{"$f":"COUNTIF(L102:L133,AI11)","v":0},{"$f":"AJ11/(AL4-AJ20)","v":0},{"$f":"IF(AK11=0,0,(AK11*((LOG(AK11))/LOG(2))))","v":0},null,{"$f":"N11","v":1211},{"$f":"COUNTIF(L134:L164,AN11)","v":0},{"$f":"AO11/(AQ4-AO20)","v":0},{"$f":"IF(AP11=0,0,(AP11*((LOG(AP11))/LOG(2))))","v":0},null,{"$f":"N11","v":1211},{"$f":"COUNTIF(L165:L196,AS11)","v":0},{"$f":"AT11/(AV4-AT20)","v":0},{"$f":"IF(AU11=0,0,(AU11*((LOG(AU11))/LOG(2))))","v":0}]
[21,602,21,606,22,610,23,616,null,null,0,2222,null,1212,{"$f":"COUNTIF($L$7:$L$500,N12)","v":12},{"$f":"O12/$Q$4","v":6.3157894736842107E-2},{"$f":"IF(P12=0,0,(P12*((LOG(P12))/LOG(2))))","v":-0.25167745942798686},null,null,{"$f":"N12","v":1212},{"$f":"COUNTIF(L7:L38,T12)","v":5},{"$f":"U12/(W4-U20)","v":0.16666666666666666},{"$f":"IF(V12=0,0,(V12*((LOG(V12))/LOG(2))))","v":-0.43082708345352599},null,{"$f":"N12","v":1212},{"$f":"COUNTIF(L39:L69,Y12)","v":4},{"$f":"Z12/(AB4-Z20)","v":0.16666666666666666},{"$f":"IF(AA12=0,0,(AA12*((LOG(AA12))/LOG(2))))","v":-0.43082708345352599},null,{"$f":"N12","v":1212},{"$f":"COUNTIF(L70:L101,AD12)","v":0},{"$f":"AE12/(AG4-AE20)","v":0},{"$f":"IF(AF12=0,0,(AF12*((LOG(AF12))/LOG(2))))","v":0},null,{"$f":"N12","v":1212},{"$f":"COUNTIF(L102:L133,AI12)","v":0},{"$f":"AJ12/(AL4-AJ20)","v":0},{"$f":"IF(AK12=0,0,(AK12*((LOG(AK12))/LOG(2))))","v":0},null,{"$f":"N12","v":1212},{"$f":"COUNTIF(L134:L164,AN12)","v":2},{"$f":"AO12/(AQ4-AO20)","v":7.407407407407407E-2},{"$f":"IF(AP12=0,0,(AP12*((LOG(AP12))/LOG(2))))","v":-0.27813981497507173},null,{"$f":"N12","v":1212},{"$f":"COUNTIF(L165:L196,AS12)","v":1},{"$f":"AT12/(AV4-AT20)","v":3.8461538461538464E-2},{"$f":"IF(AU12=0,0,(AU12*((LOG(AU12))/LOG(2))))","v":-0.18078614300542661}]
[12,709,23,716,13,718,23,724,null,null,0,1212,null,1221,{"$f":"COUNTIF($L$7:$L$500,N13)","v":12},{"$f":"O13/$Q$4","v":6.3157894736842107E-2},{"$f":"IF(P13=0,0,(P13*((LOG(P13))/LOG(2))))","v":-0.25167745942798686},null,null,{"$f":"N13","v":1221},{"$f":"COUNTIF(L7:L38,T13)","v":4},{"$f":"U13/(W4-U20)","v":0.13333333333333333},{"$f":"IF(V13=0,0,(V13*((LOG(V13))/LOG(2))))","v":-0.3875854127478025},null,{"$f":"N13","v":1221},{"$f":"COUNTIF(L39:L69,Y13)","v":1},{"$f":"Z13/(AB4-Z20)","v":4.1666666666666664E-2},{"$f":"IF(AA13=0,0,(AA13*((LOG(AA13))/LOG(2))))","v":-0.19104010419671485},null,{"$f":"N13","v":1221},{"$f":"COUNTIF(L70:L101,AD13)","v":4},{"$f":"AE13/(AG4-AE20)","v":0.16},{"$f":"IF(AF13=0,0,(AF13*((LOG(AF13))/LOG(2))))","v":-0.42301699036395596},null,{"$f":"N13","v":1221},{"$f":"COUNTIF(L102:L133,AI13)","v":1},{"$f":"AJ13/(AL4-AJ20)","v":4.3478260869565216E-2},{"$f":"IF(AK13=0,0,(AK13*((LOG(AK13))/LOG(2))))","v":-0.19667660678508753},null,{"$f":"N13","v":1221},{"$f":"COUNTIF(L134:L164,AN13)","v":1},{"$f":"AO13/(AQ4-AO20)","v":3.7037037037037035E-2},{"$f":"IF(AP13=0,0,(AP13*((LOG(AP13))/LOG(2))))","v":-0.1761069445245729},null,{"$f":"N13","v":1221},{"$f":"COUNTIF(L165:L196,AS13)","v":1},{"$f":"AT13/(AV4-AT20)","v":3.8461538461538464E-2},{"$f":"IF(AU13=0,0,(AU13*((LOG(AU13))/LOG(2))))","v":-0.18078614300542661}]
[21,821,12,824,24,825,23,831,null,null,0,2122,null,1222,{"$f":"COUNTIF($L$7:$L$500,N14)","v":35},{"$f":"O14/$Q$4","v":0.18421052631578946},{"$f":"IF(P14=0,0,(P14*((LOG(P14))/LOG(2))))","v":-0.44957916157110184},null,null,{"$f":"N14","v":1222},{"$f":"COUNTIF(L7:L38,T14)","v":4},{"$f":"U14/(W4-U20)","v":0.13333333333333333},{"$f":"IF(V14=0,0,(V14*((LOG(V14))/LOG(2))))","v":-0.3875854127478025},null,{"$f":"N14","v":1222},{"$f":"COUNTIF(L39:L69,Y14)","v":2},{"$f":"Z14/(AB4-Z20)","v":8.3333333333333329E-2},{"$f":"IF(AA14=0,0,(AA14*((LOG(AA14))/LOG(2))))","v":-0.29874687506009634},null,{"$f":"N14","v":1222},{"$f":"COUNTIF(L70:L101,AD14)","v":8},{"$f":"AE14/(AG4-AE20)","v":0.32},{"$f":"IF(AF14=0,0,(AF14*((LOG(AF14))/LOG(2))))","v":-0.52603398072791185},null,{"$f":"N14","v":1222},{"$f":"COUNTIF(L102:L133,AI14)","v":4},{"$f":"AJ14/(AL4-AJ20)","v":0.17391304347826086},{"$f":"IF(AK14=0,0,(AK14*((LOG(AK14))/LOG(2))))","v":-0.43888034018382832},null,{"$f":"N14","v":1222},{"$f":"COUNTIF(L134:L164,AN14)","v":11},{"$f":"AO14/(AQ4-AO20)","v":0.40740740740740738},{"$f":"IF(AP14=0,0,(AP14*((LOG(AP14))/LOG(2))))","v":-0.52777832291806981},null,{"$f":"N14","v":1222},{"$f":"COUNTIF(L165:L196,AS14)","v":6},{"$f":"AT14/(AV4-AT20)","v":0.23076923076923078},{"$f":"IF(AU14=0,0,(AU14*((LOG(AU14))/LOG(2))))","v":-0.48818705017383146}]
[21,930,12,931,24,933,23,939,null,null,0,2122,null,2111,{"$f":"COUNTIF($L$7:$L$500,N15)","v":1},{"$f":"O15/$Q$4","v":5.263157894736842E-3},{"$f":"IF(P15=0,0,(P15*((LOG(P15))/LOG(2))))","v":-3.9841345307004991E-2},null,null,{"$f":"N15","v":2111},{"$f":"COUNTIF(L7:L38,T15)","v":0},{"$f":"U15/(W4-U20)","v":0},{"$f":"IF(V15=0,0,(V15*((LOG(V15))/LOG(2))))","v":0},null,{"$f":"N15","v":2111},{"$f":"COUNTIF(L39:L69,Y15)","v":0},{"$f":"Z15/(AB4-Z20)","v":0},{"$f":"IF(AA15=0,0,(AA15*((LOG(AA15))/LOG(2))))","v":0},null,{"$f":"N15","v":2111},{"$f":"COUNTIF(L70:L101,AD15)","v":1},{"$f":"AE15/(AG4-AE20)","v":0.04},{"$f":"IF(AF15=0,0,(AF15*((LOG(AF15))/LOG(2))))","v":-0.18575424759098899},null,{"$f":"N15","v":2111},{"$f":"COUNTIF(L102:L133,AI15)","v":0},{"$f":"AJ15/(AL4-AJ20)","v":0},{"$f":"IF(AK15=0,0,(AK15*((LOG(AK15))/LOG(2))))","v":0},null,{"$f":"N15","v":2111},{"$f":"COUNTIF(L134:L164,AN15)","v":0},{"$f":"AO15/(AQ4-AO20)","v":0},{"$f":"IF(AP15=0,0,(AP15*((LOG(AP15))/LOG(2))))","v":0},null,{"$f":"N15","v":2111},{"$f":"COUNTIF(L165:L196,AS15)","v":0},{"$f":"AT15/(AV4-AT20)","v":0},{"$f":"IF(AU15=0,0,(AU15*((LOG(AU15))/LOG(2))))","v":0}]
[21,1037,12,1042,24,1048,23,1056,null,null,0,2122,null,2112,{"$f":"COUNTIF($L$7:$L$500,N16)","v":0},{"$f":"O16/$Q$4","v":0},{"$f":"IF(P16=0,0,(P16*((LOG(P16))/LOG(2))))","v":0},null,null,{"$f":"N16","v":2112},{"$f":"COUNTIF(L7:L38,T16)","v":0},{"$f":"U16/(W4-U20)","v":0},{"$f":"IF(V16=0,0,(V16*((LOG(V16))/LOG(2))))","v":0},null,{"$f":"N16","v":2112},{"$f":"COUNTIF(L39:L69,Y16)","v":0},{"$f":"Z16/(AB4-Z20)","v":0},{"$f":"IF(AA16=0,0,(AA16*((LOG(AA16))/LOG(2))))","v":0},null,{"$f":"N16","v":2112},{"$f":"COUNTIF(L70:L101,AD16)","v":0},{"$f":"AE16/(AG4-AE20)","v":0},{"$f":"IF(AF16=0,0,(AF16*((LOG(AF16))/LOG(2))))","v":0},null,{"$f":"N16","v":2112},{"$f":"COUNTIF(L102:L133,AI16)","v":0},{"$f":"AJ16/(AL4-AJ20)","v":0},{"$f":"IF(AK16=0,0,(AK16*((LOG(AK16))/LOG(2))))","v":0},null,{"$f":"N16","v":2112},{"$f":"COUNTIF(L134:L164,AN16)","v":0},{"$f":"AO16/(AQ4-AO20)","v":0},{"$f":"IF(AP16=0,0,(AP16*((LOG(AP16))/LOG(2))))","v":0},null,{"$f":"N16","v":2112},{"$f":"COUNTIF(L165:L196,AS16)","v":0},{"$f":"AT16/(AV4-AT20)","v":0},{"$f":"IF(AU16=0,0,(AU16*((LOG(AU16))/LOG(2))))","v":0}]
[12,1148,23,1157,24,1161,23,1165,null,null,0,1222,null,2121,{"$f":"COUNTIF($L$7:$L$500,N17)","v":2},{"$f":"O17/$Q$4","v":1.0526315789473684E-2},{"$f":"IF(P17=0,0,(P17*((LOG(P17))/LOG(2))))","v":-6.9156374824536293E-2},null,null,{"$f":"N17","v":2121},{"$f":"COUNTIF(L7:L38,T17)","v":0},{"$f":"U17/(W4-U20)","v":0},{"$f":"IF(V17=0,0,(V17*((LOG(V17))/LOG(2))))","v":0},null,{"$f":"N17","v":2121},{"$f":"COUNTIF(L39:L69,Y17)","v":0},{"$f":"Z17/(AB4-Z20)","v":0},{"$f":"IF(AA17=0,0,(AA17*((LOG(AA17))/LOG(2))))","v":0},null,{"$f":"N17","v":2121},{"$f":"COUNTIF(L70:L101,AD17)","v":0},{"$f":"AE17/(AG4-AE20)","v":0},{"$f":"IF(AF17=0,0,(AF17*((LOG(AF17))/LOG(2))))","v":0},null,{"$f":"N17","v":2121},{"$f":"COUNTIF(L102:L133,AI17)","v":0},{"$f":"AJ17/(AL4-AJ20)","v":0},{"$f":"IF(AK17=0,0,(AK17*((LOG(AK17))/LOG(2))))","v":0},null,{"$f":"N17","v":2121},{"$f":"COUNTIF(L134:L164,AN17)","v":1},{"$f":"AO17/(AQ4-AO20)","v":3.7037037037037035E-2},{"$f":"IF(AP17=0,0,(AP17*((LOG(AP17))/LOG(2))))","v":-0.1761069445245729},null,{"$f":"N17","v":2121},{"$f":"COUNTIF(L165:L196,AS17)","v":1},{"$f":"AT17/(AV4-AT20)","v":3.8461538461538464E-2},{"$f":"IF(AU17=0,0,(AU17*((LOG(AU17))/LOG(2))))","v":-0.18078614300542661}]
[21,1261,12,1266,24,1267,23,1272,null,null,0,2122,null,2122,{"$f":"COUNTIF($L$7:$L$500,N18)","v":43},{"$f":"O18/$Q$4","v":0.22631578947368422},{"$f":"IF(P18=0,0,(P18*((LOG(P18))/LOG(2))))","v":-0.48512845634758184},null,null,{"$f":"N18","v":2122},{"$f":"COUNTIF(L7:L38,T18)","v":11},{"$f":"U18/(W4-U20)","v":0.36666666666666664},{"$f":"IF(V18=0,0,(V18*((LOG(V18))/LOG(2))))","v":-0.53073495822278116},null,{"$f":"N18","v":2122},{"$f":"COUNTIF(L39:L69,Y18)","v":9},{"$f":"Z18/(AB4-Z20)","v":0.375},{"$f":"IF(AA18=0,0,(AA18*((LOG(AA18))/LOG(2))))","v":-0.53063906222956647},null,{"$f":"N18","v":2122},{"$f":"COUNTIF(L70:L101,AD18)","v":6},{"$f":"AE18/(AG4-AE20)","v":0.24},{"$f":"IF(AF18=0,0,(AF18*((LOG(AF18))/LOG(2))))","v":-0.49413448537285637},null,{"$f":"N18","v":2122},{"$f":"COUNTIF(L102:L133,AI18)","v":9},{"$f":"AJ18/(AL4-AJ20)","v":0.39130434782608697},{"$f":"IF(AK18=0,0,(AK18*((LOG(AK18))/LOG(2))))","v":-0.5296840257187958},null,{"$f":"N18","v":2122},{"$f":"COUNTIF(L134:L164,AN18)","v":3},{"$f":"AO18/(AQ4-AO20)","v":0.1111111111111111},{"$f":"IF(AP18=0,0,(AP18*((LOG(AP18))/LOG(2))))","v":-0.3522138890491458},null,{"$f":"N18","v":2122},{"$f":"COUNTIF(L165:L196,AS18)","v":5},{"$f":"AT18/(AV4-AT20)","v":0.19230769230769232},{"$f":"IF(AU18=0,0,(AU18*((LOG(AU18))/LOG(2))))","v":-0.45740608139494804}]
[21,1371,12,1373,24,1379,23,1386,null,null,0,2122,null,2211,{"$f":"COUNTIF($L$7:$L$500,N19)","v":0},{"$f":"O19/$Q$4","v":0},{"$f":"IF(P19=0,0,(P19*((LOG(P19))/LOG(2))))","v":0},null,null,{"$f":"N19","v":2211},{"$f":"COUNTIF(L7:L38,T19)","v":0},{"$f":"U19/(W4-U20)","v":0},{"$f":"IF(V19=0,0,(V19*((LOG(V19))/LOG(2))))","v":0},null,{"$f":"N19","v":2211},{"$f":"COUNTIF(L39:L69,Y19)","v":0},{"$f":"Z19/(AB4-Z20)","v":0},{"$f":"IF(AA19=0,0,(AA19*((LOG(AA19))/LOG(2))))","v":0},null,{"$f":"N19","v":2211},{"$f":"COUNTIF(L70:L101,AD19)","v":0},{"$f":"AE19/(AG4-AE20)","v":0},{"$f":"IF(AF19=0,0,(AF19*((LOG(AF19))/LOG(2))))","v":0},null,{"$f":"N19","v":2211},{"$f":"COUNTIF(L102:L133,AI19)","v":0},{"$f":"AJ19/(AL4-AJ20)","v":0},{"$f":"IF(AK19=0,0,(AK19*((LOG(AK19))/LOG(2))))","v":0},null,{"$f":"N19","v":2211},{"$f":"COUNTIF(L134:L164,AN19)","v":0},{"$f":"AO19/(AQ4-AO20)","v":0},{"$f":"IF(AP19=0,0,(AP19*((LOG(AP19))/LOG(2))))","v":0},null,{"$f":"N19","v":2211},{"$f":"COUNTIF(L165:L196,AS19)","v":0},{"$f":"AT19/(AV4-AT20)","v":0},{"$f":"IF(AU19=0,0,(AU19*((LOG(AU19))/LOG(2))))","v":0}]
[12,1481,23,1484,24,1489,23,1496,null,null,0,1222,null,2212,{"$f":"COUNTIF($L$7:$L$500,N20)","v":35},{"$f":"O20/$Q$4","v":0.18421052631578946},{"$f":"IF(P20=0,0,(P20*((LOG(P20))/LOG(2))))","v":-0.44957916157110184},null,null,{"$f":"N20","v":2212},{"$f":"COUNTIF(L7:L38,T20)","v":2},null,null,null,{"$f":"N20","v":2212},{"$f":"COUNTIF(L39:L69,Y20)","v":7},null,null,null,{"$f":"N20","v":2212},{"$f":"COUNTIF(L70:L101,AD20)","v":7},null,null,null,{"$f":"N20","v":2212},{"$f":"COUNTIF(L102:L133,AI20)","v":9},null,null,null,{"$f":"N20","v":2212},{"$f":"COUNTIF(L134:L164,AN20)","v":4},null,null,null,{"$f":"N20","v":2212},{"$f":"COUNTIF(L165:L196,AS20)","v":6}]
[21,1593,21,1595,22,1599,14,1604,null,null,0,2221,null,2221,{"$f":"COUNTIF($L$7:$L$500,N21)","v":5},{"$f":"O21/$Q$4","v":2.6315789473684209E-2},{"$f":"IF(P21=0,0,(P21*((LOG(P21))/LOG(2))))","v":-0.13810335561693646},null,null,{"$f":"N21","v":2221},{"$f":"COUNTIF(L7:L38,T21)","v":1},{"$f":"U21/(W4-U20)","v":3.3333333333333333E-2},{"$f":"IF(V21=0,0,(V21*((LOG(V21))/LOG(2))))","v":-0.16356301985361729},null,{"$f":"N21","v":2221},{"$f":"COUNTIF(L39:L69,Y21)","v":0},{"$f":"Z21/(AB4-Z20)","v":0},{"$f":"IF(AA21=0,0,(AA21*((LOG(AA21))/LOG(2))))","v":0},null,{"$f":"N21","v":2221},{"$f":"COUNTIF(L70:L101,AD21)","v":0},{"$f":"AE21/(AG4-AE20)","v":0},{"$f":"IF(AF21=0,0,(AF21*((LOG(AF21))/LOG(2))))","v":0},null,{"$f":"N21","v":2221},{"$f":"COUNTIF(L102:L133,AI21)","v":1},{"$f":"AJ21/(AL4-AJ20)","v":4.3478260869565216E-2},{"$f":"IF(AK21=0,0,(AK21*((LOG(AK21))/LOG(2))))","v":-0.19667660678508753},null,{"$f":"N21","v":2221},{"$f":"COUNTIF(L134:L164,AN21)","v":2},{"$f":"AO21/(AQ4-AO20)","v":7.407407407407407E-2},{"$f":"IF(AP21=0,0,(AP21*((LOG(AP21))/LOG(2))))","v":-0.27813981497507173},null,{"$f":"N21","v":2221},{"$f":"COUNTIF(L165:L196,AS21)","v":1},{"$f":"AT21/(AV4-AT20)","v":3.8461538461538464E-2},{"$f":"IF(AU21=0,0,(AU21*((LOG(AU21))/LOG(2))))","v":-0.18078614300542661}]
[21,1704,12,1709,24,1712,23,1717,null,null,0,2122,null,2222,{"$f":"COUNTIF($L$7:$L$500,N22)","v":43},{"$f":"O22/$Q$4","v":0.22631578947368422},{"$f":"IF(P22=0,0,(P22*((LOG(P22))/LOG(2))))","v":-0.48512845634758184},null,null,{"$f":"N22","v":2222},{"$f":"COUNTIF(L7:L38,T22)","v":5},{"$f":"U22/(W4-U20)","v":0.16666666666666666},{"$f":"IF(V22=0,0,(V22*((LOG(V22))/LOG(2))))","v":-0.43082708345352599},null,{"$f":"N22","v":2222},{"$f":"COUNTIF(L39:L69,Y22)","v":8},{"$f":"Z22/(AB4-Z20)","v":0.33333333333333331},{"$f":"IF(AA22=0,0,(AA22*((LOG(AA22))/LOG(2))))","v":-0.52832083357371862},null,{"$f":"N22","v":2222},{"$f":"COUNTIF(L70:L101,AD22)","v":5},{"$f":"AE22/(AG4-AE20)","v":0.2},{"$f":"IF(AF22=0,0,(AF22*((LOG(AF22))/LOG(2))))","v":-0.46438561897747244},null,{"$f":"N22","v":2222},{"$f":"COUNTIF(L102:L133,AI22)","v":7},{"$f":"AJ22/(AL4-AJ20)","v":0.30434782608695654},{"$f":"IF(AK22=0,0,(AK22*((LOG(AK22))/LOG(2))))","v":-0.52232387991286355},null,{"$f":"N22","v":2222},{"$f":"COUNTIF(L134:L164,AN22)","v":7},{"$f":"AO22/(AQ4-AO20)","v":0.25925925925925924},{"$f":"IF(AP22=0,0,(AP22*((LOG(AP22))/LOG(2))))","v":-0.5049158541015204},null,{"$f":"N22","v":2222},{"$f":"COUNTIF(L165:L196,AS22)","v":11},{"$f":"AT22/(AV4-AT20)","v":0.42307692307692307},{"$f":"IF(AU22=0,0,(AU22*((LOG(AU22))/LOG(2))))","v":-0.52504188825160547}]
[12,1809,23,1817,24,1820,14,1824,null,null,0,1221,null,null,null,{"$f":"SUM(P7:P22)","v":1},{"$f":"-SUM(Q7:Q22)","v":2.6890276052663551},null,null,null,null,{"$f":"SUM(V7:V22)","v":1},{"$f":"-SUM(W7:W22)","v":2.3311229704790555},null,null,null,{"$f":"SUM(AA7:AA22)","v":1},{"$f":"-SUM(AB7:AB22)","v":1.9795739585136223},null,null,null,{"$f":"SUM(AF7:AF22)","v":1},{"$f":"-SUM(AG7:AG22)","v":2.2790795706241749},null,null,null,{"$f":"SUM(AK7:AK22)","v":1},{"$f":"-SUM(AL7:AL22)","v":2.0809180661707503},null,null,null,{"$f":"SUM(AP7:AP22)","v":1},{"$f":"-SUM(AQ7:AQ22)","v":2.2934015850680254},null,null,null,{"$f":"SUM(AU7:AU22)","v":1},{"$f":"-SUM(AV7:AV22)","v":2.1937795918420915}]
[12,1918,23,1920,24,1922,14,1926,null,null,0,1221,null,null,null,"U=",{"$f":"Q23/(LOG(Q4)/LOG(2))","v":0.3552283880166705},null,null,null,null,"U1=",{"$f":"W23/(LOG(W4)/LOG(2))","v":0.46622459409581107},null,null,null,"U2=",{"$f":"AB23/(LOG(AB4)/LOG(2))","v":0.39957519534768632},null,null,null,"U3=",{"$f":"AG23/(LOG(AG4)/LOG(2))","v":0.45581591412483496},null,null,null,"U4=",{"$f":"AL23/(LOG(AL4)/LOG(2))","v":0.41618361323415004},null,null,null,"U5=",{"$f":"AQ23/(LOG(AQ4)/LOG(2))","v":0.46292101511192091},null,null,null,"U6=",{"$f":"AV23/(LOG(AV4)/LOG(2))","v":0.43875591836841832}]
[21,2020,12,2023,24,2028,23,2037,null,null,0,2122]
[21,2135,12,2140,24,2142,23,2148,null,null,0,2122]
[12,2241,23,2243,24,2247,23,2254,null,null,0,1222,null,"Total Target Seq"]
[12,2347,23,2352,24,2356,23,2362,null,null,0,1222,null,{"$f":"COUNTIF(L7:L196,G3)","v":35},null,32,31,32,32,31,32]
[21,2461,21,2465,22,2473,23,2481,null,null,0,2222,null,null,null,"% of reinforcement given in 6 equal intervals based on number of trials "]
[21,2577,12,2581,24,2583,23,2588,null,null,0,2122,null,null,null,"%_1","%_2","%_3","%_4","%_5","%_6"]
[12,2687,23,2693,13,2696,23,2698,null,null,0,1212,null,null,"target sequence",{"$f":"$G$3","v":2212},{"$f":"$G$3","v":2212},{"$f":"$G$3","v":2212},{"$f":"$G$3","v":2212},{"$f":"$G$3","v":2212},{"$f":"$G$3","v":2212}]
[12,2790,23,2798,24,2802,14,2804,null,null,0,1221,null,null,"total reinforcement",{"$f":"U20","v":2},{"$f":"Z20","v":7},{"$f":"AE20","v":7},{"$f":"AJ20","v":9},{"$f":"AO20","v":4},{"$f":"AT20","v":6}]
[12,2897,23,2906,24,2910,14,2912,null,null,0,1221,null,null,"% target"]
[21,3012,21,3015,11,3017,21,3020,null,null,0,2212,null,null,"CCRF"]
[21,3140,21,3149,22,3172,23,3210,null,null,0,2222,null,null,"% CCRf"]
[21,3326,12,3330,24,3334,23,3341,null,null,0,2122,null,null,"average response rate",{"$f":"H38/P28","v":112.59375},{"$f":"(H69-H38)/Q28","v":116.29032258064517},{"$f":"(H101-H69)/R28","v":126.28125},{"$f":"(H133-H101)/S28","v":148.46875},{"$f":"(H164-H133)/T28","v":122.03225806451613},{"$f":"(H196-H164)/U28","v":131.28125}]
[21,3438,21,3442,11,3443,21,3446,null,null,0,2212]
[21,3575,12,3583,24,3594,23,3603,null,null,0,2122]
[12,3698,23,3713,24,3718,23,3724,null,null,0,1222]
[21,3819,12,3823,24,3827,23,3832,null,null,0,2122]
[21,3928,21,3931,11,3933,21,3935,null,null,0,2212]
[21,4029,21,4036,22,4042,23,4050,null,null,0,2222]
[21,4145,12,4147,24,4153,23,4160,null,null,0,2122]
[21,4254,21,4260,22,4265,23,4272,null,null,0,2222]
[21,4370,21,4374,11,4375,21,4378,null,null,0,2212]
[21,4491,12,4494,24,4497,23,4505,null,null,0,2122]
[12,4598,23,4610,13,4613,23,4616,null,null,0,1212]
[12,4709,23,4716,13,4719,23,4724,null,null,0,1212]
[21,4820,21,4823,11,4825,21,4829,null,null,0,2212]
[21,4926,12,4927,24,4934,23,4944,null,null,0,2122]
[21,5041,21,5047,22,5060,23,5070,null,null,0,2222]
[12,5162,23,5171,24,5174,23,5186,null,null,0,1222]
[21,5287,21,5291,11,5294,21,5297,null,null,0,2212]
[21,5391,12,5395,24,5402,23,5412,null,null,0,2122]
[21,5542,12,5544,24,5551,23,5556,null,null,0,2122]
[12,5649,23,5657,13,5662,23,5663,null,null,0,1212]
[21,5756,21,5758,11,5760,21,5766,null,null,0,2212]
[21,5858,21,5864,22,5872,23,5879,null,null,0,2222]
[12,5973,23,5979,24,5983,14,5986,null,null,0,1221]
[21,6082,21,6086,11,6087,21,6090,null,null,0,2212]
[21,6213,12,6219,24,6233,23,6243,null,null,0,2122]
[12,6379,23,6391,13,6398,23,6407,null,null,0,1212]
[21,6501,21,6505,22,6513,23,6521,null,null,0,2222]
[21,6616,21,6623,22,6631,23,6637,null,null,0,2222]
[21,6732,12,6738,24,6741,23,6749,null,null,0,2122]
[21,6844,21,6848,11,6850,21,6853,null,null,0,2212]
[21,6945,12,6949,24,6976,23,6983,null,null,0,2122]
[21,7077,21,7081,22,7088,23,7095,null,null,0,2222]
[21,7189,21,7194,22,7201,23,7208,null,null,0,2222]
[21,7305,21,7308,11,7311,21,7318,null,null,0,2212]
[21,7408,12,7411,24,7427,23,7438,null,null,0,2122]
[21,7537,12,7542,24,7545,23,7551,null,null,0,2122]
[12,7645,23,7646,24,7649,23,7654,null,null,0,1222]
[21,7746,21,7748,11,7753,21,7758,null,null,0,2212]
[12,7876,23,7878,24,7886,23,7897,null,null,0,1222]
[21,7995,21,8004,22,8012,23,8020,null,null,0,2222]
[21,8115,12,8118,24,8126,23,8136,null,null,0,2122]
[21,8232,21,8235,22,8245,23,8254,null,null,0,2222]
[21,8346,21,8351,11,8353,21,8360,null,null,0,2212]
[21,8468,21,8473,11,8475,21,8488,null,null,0,2212]
[12,8699,23,8701,24,8707,23,8714,null,null,0,1222]
[21,8865,21,8871,22,8880,23,8901,null,null,0,2222]
[21,9000,21,9003,11,9006,21,9007,null,null,0,2212]
[12,9101,23,9106,24,9112,23,9117,null,null,0,1222]
[12,9210,23,9216,24,9218,23,9223,null,null,0,1222]
[21,9318,12,9322,24,9328,23,9336,null,null,0,2122]
[21,9455,12,9458,13,9474,14,9488,null,null,0,2111]
[12,9581,23,9588,24,9592,14,9595,null,null,0,1221]
[12,9828,23,9838,24,9843,14,9849,null,null,0,1221]
[12,9944,23,9950,24,9956,14,9958,null,null,0,1221]
[21,10055,21,10061,22,10068,23,10077,null,null,0,2222]
[12,10169,23,10171,24,10174,14,10177,null,null,0,1221]
[12,10273,23,10278,24,10286,23,10295,null,null,0,1222]
[12,10390,23,10394,24,10397,23,10402,null,null,0,1222]
[21,10497,21,10504,22,10510,23,10516,null,null,0,2222]
[21,10614,21,10618,11,10621,21,10624,null,null,0,2212]
[21,10780,12,10783,24,10791,23,10807,null,null,0,2122]
[21,10902,12,10906,24,10912,23,10923,null,null,0,2122]
[12,11016,14,11021,24,11023,23,11026,null,null,0,1122]
[12,11129,23,11133,24,11136,23,11143,null,null,0,1222]
[21,11239,21,11244,11,11246,21,11249,null,null,0,2212]
[21,11438,12,11442,24,11459,23,11468,null,null,0,2122]
[12,11562,23,11565,24,11570,23,11577,null,null,0,1222]
[21,11677,21,11681,11,11684,21,11695,null,null,0,2212]
[21,12354,21,12362,22,12374,23,12391,null,null,0,2222]
[21,12488,21,12494,11,12500,21,12502,null,null,0,2212]
[21,12601,12,12607,24,12616,23,12623,null,null,0,2122]
[21,12719,21,12722,11,12725,21,12729,null,null,0,2212]
[21,12850,21,12858,22,12873,23,12880,null,null,0,2222]
[12,12974,23,12982,24,12987,14,12992,null,null,0,1221]
[21,13090,12,13094,24,13101,23,13110,null,null,0,2122]
[21,13205,12,13208,24,13214,23,13223,null,null,0,2122]
[21,13315,21,13319,22,13324,23,13331,null,null,0,2222]
[21,13426,21,13431,22,13442,23,13449,null,null,0,2222]
[21,13544,21,13547,11,13549,21,13556,null,null,0,2212]
[21,13704,21,13715,22,13721,23,13735,null,null,0,2222]
[12,13830,23,13838,24,13846,23,13854,null,null,0,1222]
[12,13947,23,13954,24,13959,23,13968,null,null,0,1222]
[21,14061,21,14063,22,14074,14,14078,null,null,0,2221]
[21,14173,21,14176,11,14179,21,14181,null,null,0,2212]
[21,14347,21,14352,22,14360,23,14372,null,null,0,2222]
[12,14478,23,14480,24,14486,23,14494,null,null,0,1222]
[21,14588,21,14594,11,14600,21,14604,null,null,0,2212]
[21,14719,21,14733,11,14748,21,14755,null,null,0,2212]
[12,14980,14,14995,24,14998,23,15008,null,null,0,1122]
[21,15105,12,15114,24,15120,23,15137,null,null,0,2122]
[21,15234,12,15238,24,15243,23,15252,null,null,0,2122]
[21,15348,21,15351,11,15356,21,15358,null,null,0,2212]
[21,15458,21,15465,22,15478,23,15485,null,null,0,2222]
[21,15581,12,15585,24,15588,23,15596,null,null,0,2122]
[21,15693,21,15698,11,15701,21,15712,null,null,0,2212]
[21,15844,12,15852,24,15854,23,15869,null,null,0,2122]
[21,15967,12,15971,24,15990,23,16000,null,null,0,2122]
[21,16097,21,16102,11,16104,21,16106,null,null,0,2212]
[12,16216,23,16230,24,16243,23,16261,null,null,0,1222]
[21,16360,12,16365,24,16368,14,16374,null,null,0,2121]
[21,16470,21,16475,22,16480,23,16489,null,null,0,2222]
[21,16588,21,16590,22,16595,23,16602,null,null,0,2222]
[21,16698,21,16705,22,16713,23,16719,null,null,0,2222]
[12,16815,23,16822,24,16832,23,16839,null,null,0,1222]
[12,16933,23,16944,24,16947,14,16950,null,null,0,1221]
[21,17046,21,17050,11,17053,21,17056,null,null,0,2212]
[21,17165,21,17179,22,17185,23,17195,null,null,0,2222]
[12,17291,23,17292,24,17298,23,17302,null,null,0,1222]
[21,17397,12,17400,24,17407,23,17415,null,null,0,2122]
[21,17507,21,17510,11,17512,21,17514,null,null,0,2212]
[12,17791,23,17795,24,17803,23,17815,null,null,0,1222]
[12,17910,23,17913,24,17918,23,17923,null,null,0,1222]
[21,18019,21,18023,22,18029,23,18036,null,null,0,2222]
[21,18131,21,18135,11,18138,21,18141,null,null,0,2212]
[12,18246,23,18256,24,18262,23,18272,null,null,0,1222]
[12,18427,23,18437,13,18439,23,18445,null,null,0,1212]
[12,18540,23,18542,24,18548,23,18555,null,null,0,1222]
[12,18647,23,18655,13,18659,23,18666,null,null,0,1212]
[21,18762,21,18767,22,18772,14,18777,null,null,0,2221]
[21,18873,21,18876,22,18881,14,18886,null,null,0,2221]
[21,18984,21,18989,22,18995,23,19004,null,null,0,2222]
[12,19097,23,19101,24,19107,23,19113,null,null,0,1222]
[12,19204,23,19208,24,19212,23,19216,null,null,0,1222]
[12,19309,23,19314,24,19319,23,19328,null,null,0,1222]
[21,19424,12,19427,24,19430,23,19438,null,null,0,2122]
[12,19532,23,19539,24,19546,23,19555,null,null,0,1222]
[21,19650,12,19653,24,19656,23,19666,null,null,0,2122]
[21,19769,21,19773,22,19778,23,19783,null,null,0,2222]
[21,19884,21,19888,11,19892,21,19894,null,null,0,2212]
[21,19982,21,19989,11,19992,21,19996,null,null,0,2212]
[21,20362,12,20366,24,20373,23,20379,null,null,0,2122]
[21,20476,21,20481,11,20485,21,20489,null,null,0,2212]
[21,20633,12,20637,24,20657,23,20664,null,null,0,2122]
[21,20766,12,20771,24,20785,23,20798,null,null,0,2122]
[21,20894,21,20898,22,20904,23,20911,null,null,0,2222]
[21,21009,21,21014,22,21018,23,21028,null,null,0,2222]
[21,21128,21,21137,22,21142,14,21149,null,null,0,2221]
[21,21244,21,21249,22,21254,23,21263,null,null,0,2222]
[21,21366,12,21368,24,21377,14,21381,null,null,0,2121]
[21,21476,21,21480,22,21486,23,21495,null,null,0,2222]
[21,21595,21,21599,11,21602,21,21606,null,null,0,2212]
[12,21708,23,21721,24,21730,23,21739,null,null,0,1222]
[12,21835,23,21837,13,21843,23,21849,null,null,0,1212]
[21,21946,12,21950,24,21955,23,21962,null,null,0,2122]
[12,22055,23,22065,24,22070,23,22077,null,null,0,1222]
[21,22175,21,22180,22,22190,23,22198,null,null,0,2222]
[21,22292,21,22296,22,22300,23,22307,null,null,0,2222]
[21,22404,21,22410,11,22415,21,22422,null,null,0,2212]
[21,22557,21,22565,22,22576,23,22584,null,null,0,2222]
[21,22679,12,22682,24,22688,23,22698,null,null,0,2122]
[12,22791,23,22798,24,22803,14,22805,null,null,0,1221]
[21,22949,21,22953,11,22956,21,22959,null,null,0,2212]
[12,23169,23,23183,24,23190,23,23196,null,null,0,1222]
[12,23304,23,23306,24,23315,23,23322,null,null,0,1222]
[21,23417,21,23421,22,23428,23,23435,null,null,0,2222]
[21,23530,21,23533,22,23537,23,23542,null,null,0,2222]
[12,23636,23,23642,24,23647,23,23654,null,null,0,1222]
[21,23748,21,23751,22,23757,23,23764,null,null,0,2222]
[21,23859,21,23862,22,23867,23,23874,null,null,0,2222]
[12,23967,23,23975,24,23980,23,23984,null,null,null,1222]

{"sheet":"!M711A10.Gus","index":22,"n_rows":199,"n_cols":48,"rows_kept":199,"cut":false,"hidden":false,"merged":[[4,39,4,42],[5,39,5,40],[4,44,4,47],[5,44,5,45],[4,24,4,27],[5,24,5,25],[4,29,4,32],[5,29,5,30],[4,34,4,37],[5,34,5,35],[1,1,1,2],[5,13,5,14],[26,13,26,14],[27,13,27,14],[4,19,4,22],[5,19,5,20]]}
["Report for:!M711A10.Gus"]
["Date:","<date>"]
["Hen:","<hen>",null,null,null,"Correct Sequence",{"$f":"Start!J2","v":2212},null,null,null,null,null,null,null,null,"Total Sequences in Data",{"$f":"4994-COUNTBLANK(L7:L5000)","v":193},null,null,null,null,"Total Sequences in Block Data",{"$f":"COUNTA(L7:L38)","v":32},null,null,null,"Total Sequences in Block Data",{"$f":"COUNTA(L39:L70)","v":32},null,null,null,"Total Sequences in Block Data",{"$f":"COUNTA(L71:L103)","v":33},null,null,null,"Total Sequences in Block Data",{"$f":"COUNTA(L104:L135)","v":32},null,null,null,"Total Sequences in Block Data",{"$f":"COUNTA(L136:L167)","v":32},null,null,null,"Total Sequences in Block Data",{"$f":"COUNTA(L168:L199)","v":32}]
[null,null,null,null,null,null,null,null,null,null,null,null,null,null,null,"Total Sequences in Summary",{"$f":"SUM(O7:O22)","v":193},null,null,null,null,"Total Sequences in Block Summary",{"$f":"SUM(U7:U22)","v":32},null,null,null,"Total Sequences in Block Summary",{"$f":"SUM(Z7:Z22)","v":32},null,null,null,"Total Sequences in Block Summary",{"$f":"SUM(AE7:AE22)","v":33},null,null,null,"Total Sequences in Block Summary",{"$f":"SUM(AJ7:AJ22)","v":32},null,null,null,"Total Sequences in Block Summary",{"$f":"SUM(AO7:AO22)","v":32},null,null,null,"Total Sequences in Block Summary",{"$f":"SUM(AT7:AT22)","v":32}]
[null,null,null,null,null,null,null,null,null,null,null,null,null,null,null,null,null,null,null,"Block 1",null,null,null,null,"Block 2",null,null,null,null,"Block 3",null,null,null,null,"Block 4",null,null,null,null,"Block 5",null,null,null,null,"Block 6"]
["Sequence\nComponent\n1","Time\n1","Sequence\nComponent\n2","Time\n2","Sequence\nComponent\n3","Time\n3","Sequence\nComponent\n4","Time\n4","Sequence\nComponent\n5","Time\n5","Correct?\n0=No 1=Yes","Sequence",null,"Frequency",null,"Relative Frequency","Variability",null,null,"Frequency",null,"Relative Frequency","Variability",null,"Frequency",null,"Relative Frequency","Variability",null,"Frequency",null,"Relative Frequency","Variability",null,"Frequency",null,"Relative Frequency","Variability",null,"Frequency",null,"Relative Frequency","Variability",null,"Frequency",null,"Relative Frequency","Variability"]
[12,3,23,20,24,22,23,29,null,null,0,1222,null,1111,{"$f":"COUNTIF($L$7:$L$500,N7)","v":0},{"$f":"O7/$Q$4","v":0},{"$f":"IF(P7=0,0,(P7*((LOG(P7))/LOG(2))))","v":0},null,null,{"$f":"N7","v":1111},{"$f":"COUNTIF(L7:L38,T7)","v":0},{"$f":"U7/(W4-U20)","v":0},{"$f":"IF(V7=0,0,(V7*((LOG(V7))/LOG(2))))","v":0},null,{"$f":"N7","v":1111},{"$f":"COUNTIF(L39:L70,Y7)","v":0},{"$f":"Z7/(AB4-Z20)","v":0},{"$f":"IF(AA7=0,0,(AA7*((LOG(AA7))/LOG(2))))","v":0},null,{"$f":"N7","v":1111},{"$f":"COUNTIF(L71:L103,AD7)","v":0},{"$f":"AE7/(AG4-AE20)","v":0},{"$f":"IF(AF7=0,0,(AF7*((LOG(AF7))/LOG(2))))","v":0},null,{"$f":"N7","v":1111},{"$f":"COUNTIF(L104:L135,AI7)","v":0},{"$f":"AJ7/(AL4-AJ20)","v":0},{"$f":"IF(AK7=0,0,(AK7*((LOG(AK7))/LOG(2))))","v":0},null,{"$f":"N7","v":1111},{"$f":"COUNTIF(L136:L167,AN7)","v":0},{"$f":"AO7/(AQ4-AO20)","v":0},{"$f":"IF(AP7=0,0,(AP7*((LOG(AP7))/LOG(2))))","v":0},null,{"$f":"N7","v":1111},{"$f":"COUNTIF(L168:L199,AS7)","v":0},{"$f":"AT7/(AV4-AT20)","v":0},{"$f":"IF(AU7=0,0,(AU7*((LOG(AU7))/LOG(2))))","v":0}]
[21,125,21,131,22,139,23,145,null,null,0,2222,null,1112,{"$f":"COUNTIF($L$7:$L$500,N8)","v":0},{"$f":"O8/$Q$4","v":0},{"$f":"IF(P8=0,0,(P8*((LOG(P8))/LOG(2))))","v":0},null,null,{"$f":"N8","v":1112},{"$f":"COUNTIF(L7:L38,T8)","v":0},{"$f":"U8/(W4-U20)","v":0},{"$f":"IF(V8=0,0,(V8*((LOG(V8))/LOG(2))))","v":0},null,{"$f":"N8","v":1112},{"$f":"COUNTIF(L39:L70,Y8)","v":0},{"$f":"Z8/(AB4-Z20)","v":0},{"$f":"IF(AA8=0,0,(AA8*((LOG(AA8))/LOG(2))))","v":0},null,{"$f":"N8","v":1112},{"$f":"COUNTIF(L71:L103,AD8)","v":0},{"$f":"AE8/(AG4-AE20)","v":0},{"$f":"IF(AF8=0,0,(AF8*((LOG(AF8))/LOG(2))))","v":0},null,{"$f":"N8","v":1112},{"$f":"COUNTIF(L104:L135,AI8)","v":0},{"$f":"AJ8/(AL4-AJ20)","v":0},{"$f":"IF(AK8=0,0,(AK8*((LOG(AK8))/LOG(2))))","v":0},null,{"$f":"N8","v":1112},{"$f":"COUNTIF(L136:L167,AN8)","v":0},{"$f":"AO8/(AQ4-AO20)","v":0},{"$f":"IF(AP8=0,0,(AP8*((LOG(AP8))/LOG(2))))","v":0},null,{"$f":"N8","v":1112},{"$f":"COUNTIF(L168:L199,AS8)","v":0},{"$f":"AT8/(AV4-AT20)","v":0},{"$f":"IF(AU8=0,0,(AU8*((LOG(AU8))/LOG(2))))","v":0}]
[21,444,21,451,22,457,23,463,null,null,0,2222,null,1121,{"$f":"COUNTIF($L$7:$L$500,N9)","v":0},{"$f":"O9/$Q$4","v":0},{"$f":"IF(P9=0,0,(P9*((LOG(P9))/LOG(2))))","v":0},null,null,{"$f":"N9","v":1121},{"$f":"COUNTIF(L7:L38,T9)","v":0},{"$f":"U9/(W4-U20)","v":0},{"$f":"IF(V9=0,0,(V9*((LOG(V9))/LOG(2))))","v":0},null,{"$f":"N9","v":1121},{"$f":"COUNTIF(L39:L70,Y9)","v":0},{"$f":"Z9/(AB4-Z20)","v":0},{"$f":"IF(AA9=0,0,(AA9*((LOG(AA9))/LOG(2))))","v":0},null,{"$f":"N9","v":1121},{"$f":"COUNTIF(L71:L103,AD9)","v":0},{"$f":"AE9/(AG4-AE20)","v":0},{"$f":"IF(AF9=0,0,(AF9*((LOG(AF9))/LOG(2))))","v":0},null,{"$f":"N9","v":1121},{"$f":"COUNTIF(L104:L135,AI9)","v":0},{"$f":"AJ9/(AL4-AJ20)","v":0},{"$f":"IF(AK9=0,0,(AK9*((LOG(AK9))/LOG(2))))","v":0},null,{"$f":"N9","v":1121},{"$f":"COUNTIF(L136:L167,AN9)","v":0},{"$f":"AO9/(AQ4-AO20)","v":0},{"$f":"IF(AP9=0,0,(AP9*((LOG(AP9))/LOG(2))))","v":0},null,{"$f":"N9","v":1121},{"$f":"COUNTIF(L168:L199,AS9)","v":0},{"$f":"AT9/(AV4-AT20)","v":0},{"$f":"IF(AU9=0,0,(AU9*((LOG(AU9))/LOG(2))))","v":0}]
[12,557,23,562,24,566,23,570,null,null,0,1222,null,1122,{"$f":"COUNTIF($L$7:$L$500,N10)","v":2},{"$f":"O10/$Q$4","v":1.0362694300518135E-2},{"$f":"IF(P10=0,0,(P10*((LOG(P10))/LOG(2))))","v":-6.8315616966508605E-2},null,null,{"$f":"N10","v":1122},{"$f":"COUNTIF(L7:L38,T10)","v":1},{"$f":"U10/(W4-U20)","v":3.8461538461538464E-2},{"$f":"IF(V10=0,0,(V10*((LOG(V10))/LOG(2))))","v":-0.18078614300542661},null,{"$f":"N10","v":1122},{"$f":"COUNTIF(L39:L70,Y10)","v":0},{"$f":"Z10/(AB4-Z20)","v":0},{"$f":"IF(AA10=0,0,(AA10*((LOG(AA10))/LOG(2))))","v":0},null,{"$f":"N10","v":1122},{"$f":"COUNTIF(L71:L103,AD10)","v":0},{"$f":"AE10/(AG4-AE20)","v":0},{"$f":"IF(AF10=0,0,(AF10*((LOG(AF10))/LOG(2))))","v":0},null,{"$f":"N10","v":1122},{"$f":"COUNTIF(L104:L135,AI10)","v":0},{"$f":"AJ10/(AL4-AJ20)","v":0},{"$f":"IF(AK10=0,0,(AK10*((LOG(AK10))/LOG(2))))","v":0},null,{"$f":"N10","v":1122},{"$f":"COUNTIF(L136:L167,AN10)","v":0},{"$f":"AO10/(AQ4-AO20)","v":0},{"$f":"IF(AP10=0,0,(AP10*((LOG(AP10))/LOG(2))))","v":0},null,{"$f":"N10","v":1122},{"$f":"COUNTIF(L168:L199,AS10)","v":1},{"$f":"AT10/(AV4-AT20)","v":0.04},{"$f":"IF(AU10=0,0,(AU10*((LOG(AU10))/LOG(2))))","v":-0.18575424759098899}]
[12,663,23,672,13,677,23,679,null,null,0,1212,null,1211,{"$f":"COUNTIF($L$7:$L$500,N11)","v":0},{"$f":"O11/$Q$4","v":0},{"$f":"IF(P11=0,0,(P11*((LOG(P11))/LOG(2))))","v":0},null,null,{"$f":"N11","v":1211},{"$f":"COUNTIF(L7:L38,T11)","v":0},{"$f":"U11/(W4-U20)","v":0},{"$f":"IF(V11=0,0,(V11*((LOG(V11))/LOG(2))))","v":0},null,{"$f":"N11","v":1211},{"$f":"COUNTIF(L39:L70,Y11)","v":0},{"$f":"Z11/(AB4-Z20)","v":0},{"$f":"IF(AA11=0,0,(AA11*((LOG(AA11))/LOG(2))))","v":0},null,{"$f":"N11","v":1211},{"$f":"COUNTIF(L71:L103,AD11)","v":0},{"$f":"AE11/(AG4-AE20)","v":0},{"$f":"IF(AF11=0,0,(AF11*((LOG(AF11))/LOG(2))))","v":0},null,{"$f":"N11","v":1211},{"$f":"COUNTIF(L104:L135,AI11)","v":0},{"$f":"AJ11/(AL4-AJ20)","v":0},{"$f":"IF(AK11=0,0,(AK11*((LOG(AK11))/LOG(2))))","v":0},null,{"$f":"N11","v":1211},{"$f":"COUNTIF(L136:L167,AN11)","v":0},{"$f":"AO11/(AQ4-AO20)","v":0},{"$f":"IF(AP11=0,0,(AP11*((LOG(AP11))/LOG(2))))","v":0},null,{"$f":"N11","v":1211},{"$f":"COUNTIF(L168:L199,AS11)","v":0},{"$f":"AT11/(AV4-AT20)","v":0},{"$f":"IF(AU11=0,0,(AU11*((LOG(AU11))/LOG(2))))","v":0}]
[21,777,21,782,22,790,14,798,null,null,0,2221,null,1212,{"$f":"COUNTIF($L$7:$L$500,N12)","v":3},{"$f":"O12/$Q$4","v":1.5544041450777202E-2},{"$f":"IF(P12=0,0,(P12*((LOG(P12))/LOG(2))))","v":-9.3380744091402956E-2},null,null,{"$f":"N12","v":1212},{"$f":"COUNTIF(L7:L38,T12)","v":2},{"$f":"U12/(W4-U20)","v":7.6923076923076927E-2},{"$f":"IF(V12=0,0,(V12*((LOG(V12))/LOG(2))))","v":-0.28464920908777636},null,{"$f":"N12","v":1212},{"$f":"COUNTIF(L39:L70,Y12)","v":0},{"$f":"Z12/(AB4-Z20)","v":0},{"$f":"IF(AA12=0,0,(AA12*((LOG(AA12))/LOG(2))))","v":0},null,{"$f":"N12","v":1212},{"$f":"COUNTIF(L71:L103,AD12)","v":0},{"$f":"AE12/(AG4-AE20)","v":0},{"$f":"IF(AF12=0,0,(AF12*((LOG(AF12))/LOG(2))))","v":0},null,{"$f":"N12","v":1212},{"$f":"COUNTIF(L104:L135,AI12)","v":1},{"$f":"AJ12/(AL4-AJ20)","v":3.8461538461538464E-2},{"$f":"IF(AK12=0,0,(AK12*((LOG(AK12))/LOG(2))))","v":-0.18078614300542661},null,{"$f":"N12","v":1212},{"$f":"COUNTIF(L136:L167,AN12)","v":0},{"$f":"AO12/(AQ4-AO20)","v":0},{"$f":"IF(AP12=0,0,(AP12*((LOG(AP12))/LOG(2))))","v":0},null,{"$f":"N12","v":1212},{"$f":"COUNTIF(L168:L199,AS12)","v":0},{"$f":"AT12/(AV4-AT20)","v":0},{"$f":"IF(AU12=0,0,(AU12*((LOG(AU12))/LOG(2))))","v":0}]
[21,897,21,901,22,917,23,927,null,null,0,2222,null,1221,{"$f":"COUNTIF($L$7:$L$500,N13)","v":5},{"$f":"O13/$Q$4","v":2.5906735751295335E-2},{"$f":"IF(P13=0,0,(P13*((LOG(P13))/LOG(2))))","v":-0.13654220057981134},null,null,{"$f":"N13","v":1221},{"$f":"COUNTIF(L7:L38,T13)","v":0},{"$f":"U13/(W4-U20)","v":0},{"$f":"IF(V13=0,0,(V13*((LOG(V13))/LOG(2))))","v":0},null,{"$f":"N13","v":1221},{"$f":"COUNTIF(L39:L70,Y13)","v":3},{"$f":"Z13/(AB4-Z20)","v":0.10344827586206896},{"$f":"IF(AA13=0,0,(AA13*((LOG(AA13))/LOG(2))))","v":-0.33858812011100858},null,{"$f":"N13","v":1221},{"$f":"COUNTIF(L71:L103,AD13)","v":0},{"$f":"AE13/(AG4-AE20)","v":0},{"$f":"IF(AF13=0,0,(AF13*((LOG(AF13))/LOG(2))))","v":0},null,{"$f":"N13","v":1221},{"$f":"COUNTIF(L104:L135,AI13)","v":0},{"$f":"AJ13/(AL4-AJ20)","v":0},{"$f":"IF(AK13=0,0,(AK13*((LOG(AK13))/LOG(2))))","v":0},null,{"$f":"N13","v":1221},{"$f":"COUNTIF(L136:L167,AN13)","v":1},{"$f":"AO13/(AQ4-AO20)","v":4.5454545454545456E-2},{"$f":"IF(AP13=0,0,(AP13*((LOG(AP13))/LOG(2))))","v":-0.20270143721078623},null,{"$f":"N13","v":1221},{"$f":"COUNTIF(L168:L199,AS13)","v":1},{"$f":"AT13/(AV4-AT20)","v":0.04},{"$f":"IF(AU13=0,0,(AU13*((LOG(AU13))/LOG(2))))","v":-0.18575424759098899}]
[12,1019,23,1028,13,1031,23,1038,null,null,0,1212,null,1222,{"$f":"COUNTIF($L$7:$L$500,N14)","v":25},{"$f":"O14/$Q$4","v":0.12953367875647667},{"$f":"IF(P14=0,0,(P14*((LOG(P14))/LOG(2))))","v":-0.38194311496027922},null,null,{"$f":"N14","v":1222},{"$f":"COUNTIF(L7:L38,T14)","v":7},{"$f":"U14/(W4-U20)","v":0.26923076923076922},{"$f":"IF(V14=0,0,(V14*((LOG(V14))/LOG(2))))","v":-0.50967667586863141},null,{"$f":"N14","v":1222},{"$f":"COUNTIF(L39:L70,Y14)","v":5},{"$f":"Z14/(AB4-Z20)","v":0.17241379310344829},{"$f":"IF(AA14=0,0,(AA14*((LOG(AA14))/LOG(2))))","v":-0.43725050004141547},null,{"$f":"N14","v":1222},{"$f":"COUNTIF(L71:L103,AD14)","v":4},{"$f":"AE14/(AG4-AE20)","v":0.14814814814814814},{"$f":"IF(AF14=0,0,(AF14*((LOG(AF14))/LOG(2))))","v":-0.40813148180199532},null,{"$f":"N14","v":1222},{"$f":"COUNTIF(L104:L135,AI14)","v":3},{"$f":"AJ14/(AL4-AJ20)","v":0.11538461538461539},{"$f":"IF(AK14=0,0,(AK14*((LOG(AK14))/LOG(2))))","v":-0.35947814047153104},null,{"$f":"N14","v":1222},{"$f":"COUNTIF(L136:L167,AN14)","v":2},{"$f":"AO14/(AQ4-AO20)","v":9.0909090909090912E-2},{"$f":"IF(AP14=0,0,(AP14*((LOG(AP14))/LOG(2))))","v":-0.31449378351248153},null,{"$f":"N14","v":1222},{"$f":"COUNTIF(L168:L199,AS14)","v":4},{"$f":"AT14/(AV4-AT20)","v":0.16},{"$f":"IF(AU14=0,0,(AU14*((LOG(AU14))/LOG(2))))","v":-0.42301699036395596}]
[12,1130,23,1139,24,1144,23,1147,null,null,0,1222,null,2111,{"$f":"COUNTIF($L$7:$L$500,N15)","v":0},{"$f":"O15/$Q$4","v":0},{"$f":"IF(P15=0,0,(P15*((LOG(P15))/LOG(2))))","v":0},null,null,{"$f":"N15","v":2111},{"$f":"COUNTIF(L7:L38,T15)","v":0},{"$f":"U15/(W4-U20)","v":0},{"$f":"IF(V15=0,0,(V15*((LOG(V15))/LOG(2))))","v":0},null,{"$f":"N15","v":2111},{"$f":"COUNTIF(L39:L70,Y15)","v":0},{"$f":"Z15/(AB4-Z20)","v":0},{"$f":"IF(AA15=0,0,(AA15*((LOG(AA15))/LOG(2))))","v":0},null,{"$f":"N15","v":2111},{"$f":"COUNTIF(L71:L103,AD15)","v":0},{"$f":"AE15/(AG4-AE20)","v":0},{"$f":"IF(AF15=0,0,(AF15*((LOG(AF15))/LOG(2))))","v":0},null,{"$f":"N15","v":2111},{"$f":"COUNTIF(L104:L135,AI15)","v":0},{"$f":"AJ15/(AL4-AJ20)","v":0},{"$f":"IF(AK15=0,0,(AK15*((LOG(AK15))/LOG(2))))","v":0},null,{"$f":"N15","v":2111},{"$f":"COUNTIF(L136:L167,AN15)","v":0},{"$f":"AO15/(AQ4-AO20)","v":0},{"$f":"IF(AP15=0,0,(AP15*((LOG(AP15))/LOG(2))))","v":0},null,{"$f":"N15","v":2111},{"$f":"COUNTIF(L168:L199,AS15)","v":0},{"$f":"AT15/(AV4-AT20)","v":0},{"$f":"IF(AU15=0,0,(AU15*((LOG(AU15))/LOG(2))))","v":0}]
[21,1243,21,1246,22,1250,23,1256,null,null,0,2222,null,2112,{"$f":"COUNTIF($L$7:$L$500,N16)","v":1},{"$f":"O16/$Q$4","v":5.1813471502590676E-3},{"$f":"IF(P16=0,0,(P16*((LOG(P16))/LOG(2))))","v":-3.9339155633513374E-2},null,null,{"$f":"N16","v":2112},{"$f":"COUNTIF(L7:L38,T16)","v":0},{"$f":"U16/(W4-U20)","v":0},{"$f":"IF(V16=0,0,(V16*((LOG(V16))/LOG(2))))","v":0},null,{"$f":"N16","v":2112},{"$f":"COUNTIF(L39:L70,Y16)","v":0},{"$f":"Z16/(AB4-Z20)","v":0},{"$f":"IF(AA16=0,0,(AA16*((LOG(AA16))/LOG(2))))","v":0},null,{"$f":"N16","v":2112},{"$f":"COUNTIF(L71:L103,AD16)","v":0},{"$f":"AE16/(AG4-AE20)","v":0},{"$f":"IF(AF16=0,0,(AF16*((LOG(AF16))/LOG(2))))","v":0},null,{"$f":"N16","v":2112},{"$f":"COUNTIF(L104:L135,AI16)","v":1},{"$f":"AJ16/(AL4-AJ20)","v":3.8461538461538464E-2},{"$f":"IF(AK16=0,0,(AK16*((LOG(AK16))/LOG(2))))","v":-0.18078614300542661},null,{"$f":"N16","v":2112},{"$f":"COUNTIF(L136:L167,AN16)","v":0},{"$f":"AO16/(AQ4-AO20)","v":0},{"$f":"IF(AP16=0,0,(AP16*((LOG(AP16))/LOG(2))))","v":0},null,{"$f":"N16","v":2112},{"$f":"COUNTIF(L168:L199,AS16)","v":0},{"$f":"AT16/(AV4-AT20)","v":0},{"$f":"IF(AU16=0,0,(AU16*((LOG(AU16))/LOG(2))))","v":0}]
[12,1349,23,1357,24,1360,23,1364,null,null,0,1222,null,2121,{"$f":"COUNTIF($L$7:$L$500,N17)","v":1},{"$f":"O17/$Q$4","v":5.1813471502590676E-3},{"$f":"IF(P17=0,0,(P17*((LOG(P17))/LOG(2))))","v":-3.9339155633513374E-2},null,null,{"$f":"N17","v":2121},{"$f":"COUNTIF(L7:L38,T17)","v":0},{"$f":"U17/(W4-U20)","v":0},{"$f":"IF(V17=0,0,(V17*((LOG(V17))/LOG(2))))","v":0},null,{"$f":"N17","v":2121},{"$f":"COUNTIF(L39:L70,Y17)","v":0},{"$f":"Z17/(AB4-Z20)","v":0},{"$f":"IF(AA17=0,0,(AA17*((LOG(AA17))/LOG(2))))","v":0},null,{"$f":"N17","v":2121},{"$f":"COUNTIF(L71:L103,AD17)","v":0},{"$f":"AE17/(AG4-AE20)","v":0},{"$f":"IF(AF17=0,0,(AF17*((LOG(AF17))/LOG(2))))","v":0},null,{"$f":"N17","v":2121},{"$f":"COUNTIF(L104:L135,AI17)","v":1},{"$f":"AJ17/(AL4-AJ20)","v":3.8461538461538464E-2},{"$f":"IF(AK17=0,0,(AK17*((LOG(AK17))/LOG(2))))","v":-0.18078614300542661},null,{"$f":"N17","v":2121},{"$f":"COUNTIF(L136:L167,AN17)","v":0},{"$f":"AO17/(AQ4-AO20)","v":0},{"$f":"IF(AP17=0,0,(AP17*((LOG(AP17))/LOG(2))))","v":0},null,{"$f":"N17","v":2121},{"$f":"COUNTIF(L168:L199,AS17)","v":0},{"$f":"AT17/(AV4-AT20)","v":0},{"$f":"IF(AU17=0,0,(AU17*((LOG(AU17))/LOG(2))))","v":0}]
[21,1461,12,1466,24,1473,23,1480,null,null,0,2122,null,2122,{"$f":"COUNTIF($L$7:$L$500,N18)","v":41},{"$f":"O18/$Q$4","v":0.21243523316062177},{"$f":"IF(P18=0,0,(P18*((LOG(P18))/LOG(2))))","v":-0.47477257170284909},null,null,{"$f":"N18","v":2122},{"$f":"COUNTIF(L7:L38,T18)","v":4},{"$f":"U18/(W4-U20)","v":0.15384615384615385},{"$f":"IF(V18=0,0,(V18*((LOG(V18))/LOG(2))))","v":-0.4154522643293988},null,{"$f":"N18","v":2122},{"$f":"COUNTIF(L39:L70,Y18)","v":8},{"$f":"Z18/(AB4-Z20)","v":0.27586206896551724},{"$f":"IF(AA18=0,0,(AA18*((LOG(AA18))/LOG(2))))","v":-0.51254648141450265},null,{"$f":"N18","v":2122},{"$f":"COUNTIF(L71:L103,AD18)","v":10},{"$f":"AE18/(AG4-AE20)","v":0.37037037037037035},{"$f":"IF(AF18=0,0,(AF18*((LOG(AF18))/LOG(2))))","v":-0.53072570639855787},null,{"$f":"N18","v":2122},{"$f":"COUNTIF(L104:L135,AI18)","v":7},{"$f":"AJ18/(AL4-AJ20)","v":0.26923076923076922},{"$f":"IF(AK18=0,0,(AK18*((LOG(AK18))/LOG(2))))","v":-0.50967667586863141},null,{"$f":"N18","v":2122},{"$f":"COUNTIF(L136:L167,AN18)","v":7},{"$f":"AO18/(AQ4-AO20)","v":0.31818181818181818},{"$f":"IF(AP18=0,0,(AP18*((LOG(AP18))/LOG(2))))","v":-0.52566076709353871},null,{"$f":"N18","v":2122},{"$f":"COUNTIF(L168:L199,AS18)","v":5},{"$f":"AT18/(AV4-AT20)","v":0.2},{"$f":"IF(AU18=0,0,(AU18*((LOG(AU18))/LOG(2))))","v":-0.46438561897747244}]
[21,1576,21,1578,22,1584,23,1589,null,null,0,2222,null,2211,{"$f":"COUNTIF($L$7:$L$500,N19)","v":1},{"$f":"O19/$Q$4","v":5.1813471502590676E-3},{"$f":"IF(P19=0,0,(P19*((LOG(P19))/LOG(2))))","v":-3.9339155633513374E-2},null,null,{"$f":"N19","v":2211},{"$f":"COUNTIF(L7:L38,T19)","v":0},{"$f":"U19/(W4-U20)","v":0},{"$f":"IF(V19=0,0,(V19*((LOG(V19))/LOG(2))))","v":0},null,{"$f":"N19","v":2211},{"$f":"COUNTIF(L39:L70,Y19)","v":0},{"$f":"Z19/(AB4-Z20)","v":0},{"$f":"IF(AA19=0,0,(AA19*((LOG(AA19))/LOG(2))))","v":0},null,{"$f":"N19","v":2211},{"$f":"COUNTIF(L71:L103,AD19)","v":0},{"$f":"AE19/(AG4-AE20)","v":0},{"$f":"IF(AF19=0,0,(AF19*((LOG(AF19))/LOG(2))))","v":0},null,{"$f":"N19","v":2211},{"$f":"COUNTIF(L104:L135,AI19)","v":1},{"$f":"AJ19/(AL4-AJ20)","v":3.8461538461538464E-2},{"$f":"IF(AK19=0,0,(AK19*((LOG(AK19))/LOG(2))))","v":-0.18078614300542661},null,{"$f":"N19","v":2211},{"$f":"COUNTIF(L136:L167,AN19)","v":0},{"$f":"AO19/(AQ4-AO20)","v":0},{"$f":"IF(AP19=0,0,(AP19*((LOG(AP19))/LOG(2))))","v":0},null,{"$f":"N19","v":2211},{"$f":"COUNTIF(L168:L199,AS19)","v":0},{"$f":"AT19/(AV4-AT20)","v":0},{"$f":"IF(AU19=0,0,(AU19*((LOG(AU19))/LOG(2))))","v":0}]
[21,1691,21,1695,22,1703,23,1709,null,null,0,2222,null,2212,{"$f":"COUNTIF($L$7:$L$500,N20)","v":38},{"$f":"O20/$Q$4","v":0.19689119170984457},{"$f":"IF(P20=0,0,(P20*((LOG(P20))/LOG(2))))","v":-0.46161721194471916},null,null,{"$f":"N20","v":2212},{"$f":"COUNTIF(L7:L38,T20)","v":6},null,null,null,{"$f":"N20","v":2212},{"$f":"COUNTIF(L39:L70,Y20)","v":3},null,null,null,{"$f":"N20","v":2212},{"$f":"COUNTIF(L71:L103,AD20)","v":6},null,null,null,{"$f":"N20","v":2212},{"$f":"COUNTIF(L104:L135,AI20)","v":6},null,null,null,{"$f":"N20","v":2212},{"$f":"COUNTIF(L136:L167,AN20)","v":10},null,null,null,{"$f":"N20","v":2212},{"$f":"COUNTIF(L168:L199,AS20)","v":7}]
[21,1804,21,1808,22,1813,23,1822,null,null,0,2222,null,2221,{"$f":"COUNTIF($L$7:$L$500,N21)","v":12},{"$f":"O21/$Q$4","v":6.2176165803108807E-2},{"$f":"IF(P21=0,0,(P21*((LOG(P21))/LOG(2))))","v":-0.24917064475939427},null,null,{"$f":"N21","v":2221},{"$f":"COUNTIF(L7:L38,T21)","v":1},{"$f":"U21/(W4-U20)","v":3.8461538461538464E-2},{"$f":"IF(V21=0,0,(V21*((LOG(V21))/LOG(2))))","v":-0.18078614300542661},null,{"$f":"N21","v":2221},{"$f":"COUNTIF(L39:L70,Y21)","v":3},{"$f":"Z21/(AB4-Z20)","v":0.10344827586206896},{"$f":"IF(AA21=0,0,(AA21*((LOG(AA21))/LOG(2))))","v":-0.33858812011100858},null,{"$f":"N21","v":2221},{"$f":"COUNTIF(L71:L103,AD21)","v":2},{"$f":"AE21/(AG4-AE20)","v":7.407407407407407E-2},{"$f":"IF(AF21=0,0,(AF21*((LOG(AF21))/LOG(2))))","v":-0.27813981497507173},null,{"$f":"N21","v":2221},{"$f":"COUNTIF(L104:L135,AI21)","v":3},{"$f":"AJ21/(AL4-AJ20)","v":0.11538461538461539},{"$f":"IF(AK21=0,0,(AK21*((LOG(AK21))/LOG(2))))","v":-0.35947814047153104},null,{"$f":"N21","v":2221},{"$f":"COUNTIF(L136:L167,AN21)","v":2},{"$f":"AO21/(AQ4-AO20)","v":9.0909090909090912E-2},{"$f":"IF(AP21=0,0,(AP21*((LOG(AP21))/LOG(2))))","v":-0.31449378351248153},null,{"$f":"N21","v":2221},{"$f":"COUNTIF(L168:L199,AS21)","v":1},{"$f":"AT21/(AV4-AT20)","v":0.04},{"$f":"IF(AU21=0,0,(AU21*((LOG(AU21))/LOG(2))))","v":-0.18575424759098899}]
[21,1922,21,1924,22,1929,23,1938,null,null,0,2222,null,2222,{"$f":"COUNTIF($L$7:$L$500,N22)","v":64},{"$f":"O22/$Q$4","v":0.33160621761658032},{"$f":"IF(P22=0,0,(P22*((LOG(P22))/LOG(2))))","v":-0.5280686548453738},null,null,{"$f":"N22","v":2222},{"$f":"COUNTIF(L7:L38,T22)","v":11},{"$f":"U22/(W4-U20)","v":0.42307692307692307},{"$f":"IF(V22=0,0,(V22*((LOG(V22))/LOG(2))))","v":-0.52504188825160547},null,{"$f":"N22","v":2222},{"$f":"COUNTIF(L39:L70,Y22)","v":10},{"$f":"Z22/(AB4-Z20)","v":0.34482758620689657},{"$f":"IF(AA22=0,0,(AA22*((LOG(AA22))/LOG(2))))","v":-0.52967341387593436},null,{"$f":"N22","v":2222},{"$f":"COUNTIF(L71:L103,AD22)","v":11},{"$f":"AE22/(AG4-AE20)","v":0.40740740740740738},{"$f":"IF(AF22=0,0,(AF22*((LOG(AF22))/LOG(2))))","v":-0.52777832291806981},null,{"$f":"N22","v":2222},{"$f":"COUNTIF(L104:L135,AI22)","v":9},{"$f":"AJ22/(AL4-AJ20)","v":0.34615384615384615},{"$f":"IF(AK22=0,0,(AK22*((LOG(AK22))/LOG(2))))","v":-0.52979355578034681},null,{"$f":"N22","v":2222},{"$f":"COUNTIF(L136:L167,AN22)","v":10},{"$f":"AO22/(AQ4-AO20)","v":0.45454545454545453},{"$f":"IF(AP22=0,0,(AP22*((LOG(AP22))/LOG(2))))","v":-0.51704705624997038},null,{"$f":"N22","v":2222},{"$f":"COUNTIF(L168:L199,AS22)","v":13},{"$f":"AT22/(AV4-AT20)","v":0.52},{"$f":"IF(AU22=0,0,(AU22*((LOG(AU22))/LOG(2))))","v":-0.49057656524948895}]
[21,2036,21,2039,22,2043,23,2049,null,null,0,2222,null,null,null,{"$f":"SUM(P7:P22)","v":1},{"$f":"-SUM(Q7:Q22)","v":2.5118282267508785},null,null,null,null,{"$f":"SUM(V7:V22)","v":1},{"$f":"-SUM(W7:W22)","v":2.0963923235482653},null,null,null,{"$f":"SUM(AA7:AA22)","v":1},{"$f":"-SUM(AB7:AB22)","v":2.1566466355538698},null,null,null,{"$f":"SUM(AF7:AF22)","v":1},{"$f":"-SUM(AG7:AG22)","v":1.7447753260936949},null,null,null,{"$f":"SUM(AK7:AK22)","v":1},{"$f":"-SUM(AL7:AL22)","v":2.4815710846137469},null,null,null,{"$f":"SUM(AP7:AP22)","v":1},{"$f":"-SUM(AQ7:AQ22)","v":1.8743968275792584},null,null,null,{"$f":"SUM(AU7:AU22)","v":1},{"$f":"-SUM(AV7:AV22)","v":1.9352419173638842}]
[21,2148,21,2153,11,2157,21,2159,null,null,0,2212,null,null,null,"U=",{"$f":"Q23/(LOG(Q4)/LOG(2))","v":0.33083206324664105},null,null,null,null,"U1=",{"$f":"W23/(LOG(W4)/LOG(2))","v":0.41927846470965308},null,null,null,"U2=",{"$f":"AB23/(LOG(AB4)/LOG(2))","v":0.43132932711077399},null,null,null,"U3=",{"$f":"AG23/(LOG(AG4)/LOG(2))","v":0.34588402190818424},null,null,null,"U4=",{"$f":"AL23/(LOG(AL4)/LOG(2))","v":0.49631421692274935},null,null,null,"U5=",{"$f":"AQ23/(LOG(AQ4)/LOG(2))","v":0.37487936551585166},null,null,null,"U6=",{"$f":"AV23/(LOG(AV4)/LOG(2))","v":0.38704838347277681}]
[21,2402,21,2409,22,2417,23,2423,null,null,0,2222]
[21,2520,21,2523,11,2525,21,2529,null,null,0,2212]
[21,2721,21,2732,22,2748,23,2754,null,null,0,2222,null,"Total Target Seq"]
[12,2850,23,2860,24,2862,23,2869,null,null,0,1222,null,{"$f":"COUNTIF(L7:L199,G3)","v":38},null,32,32,33,32,32,32]
[12,2967,23,2969,24,2979,23,2986,null,null,0,1222,null,null,null,"% of reinforcement given in 6 equal intervals based on number of trials "]
[21,3082,12,3085,24,3090,23,3098,null,null,0,2122,null,null,null,"%_1","%_2","%_3","%_4","%_5","%_6"]
[21,3193,12,3197,24,3207,23,3216,null,null,0,2122,null,null,"target sequence",{"$f":"$G$3","v":2212},{"$f":"$G$3","v":2212},{"$f":"$G$3","v":2212},{"$f":"$G$3","v":2212},{"$f":"$G$3","v":2212},{"$f":"$G$3","v":2212}]
[21,3312,21,3316,11,3318,21,3322,null,null,0,2212,null,null,"total reinforcement",{"$f":"U20","v":6},{"$f":"Z20","v":3},{"$f":"AE20","v":6},{"$f":"AJ20","v":6},{"$f":"AO20","v":10},{"$f":"AT20","v":7}]
[21,3422,21,3426,11,3430,21,3434,null,null,0,2212,null,null,"% target"]
[21,3737,21,3743,11,3749,21,3766,null,null,0,2212,null,null,"CCRF"]
[21,4058,12,4061,24,4065,23,4071,null,null,0,2122,null,null,"% CCRf"]
[12,4164,14,4177,24,4184,23,4191,null,null,0,1122,null,null,"average response rate",{"$f":"H38/P28","v":138.1875},{"$f":"(H70-H38)/Q28","v":114.09375},{"$f":"(H103-H70)/R28","v":118.90909090909091},{"$f":"(H135-H103)/S28","v":120.125},{"$f":"(H167-H135)/T28","v":127.75},{"$f":"(H199-H167)/U28","v":125.40625}]
[12,4285,23,4289,24,4295,23,4304,null,null,0,1222]
[21,4406,21,4411,11,4414,21,4422,null,null,0,2212]
[21,4519,12,4524,24,4527,23,4535,null,null,0,2122]
[21,4629,21,4632,22,4639,23,4647,null,null,0,2222]
[21,4743,21,4747,22,4754,14,4759,null,null,0,2221]
[21,4856,21,4859,22,4866,23,4875,null,null,0,2222]
[21,4970,21,4974,22,4980,23,4986,null,null,0,2222]
[21,5081,21,5085,22,5090,23,5096,null,null,0,2222]
[21,5192,12,5195,24,5200,23,5205,null,null,0,2122]
[21,5304,21,5307,22,5312,23,5321,null,null,0,2222]
[21,5419,21,5423,22,5428,23,5435,null,null,0,2222]
[12,5529,23,5534,24,5537,14,5542,null,null,0,1221]
[21,5641,21,5647,11,5651,21,5654,null,null,0,2212]
[21,5750,21,5760,22,5770,23,5776,null,null,0,2222]
[21,5873,12,5878,24,5884,23,5893,null,null,0,2122]
[21,5990,21,5995,22,6001,23,6015,null,null,0,2222]
[21,6110,12,6115,24,6121,23,6128,null,null,0,2122]
[12,6222,23,6230,24,6239,14,6244,null,null,0,1221]
[21,6341,21,6344,11,6346,21,6349,null,null,0,2212]
[12,6437,23,6448,24,6463,23,6472,null,null,0,1222]
[12,6568,23,6570,24,6574,23,6590,null,null,0,1222]
[21,6691,12,6698,24,6700,23,6707,null,null,0,2122]
[21,6800,21,6806,22,6810,14,6815,null,null,0,2221]
[12,6910,23,6921,24,6925,23,6930,null,null,0,1222]
[12,7022,23,7032,24,7035,14,7038,null,null,0,1221]
[21,7135,12,7141,24,7145,23,7151,null,null,0,2122]
[12,7245,23,7253,24,7255,23,7259,null,null,0,1222]
[21,7351,21,7355,22,7358,23,7364,null,null,0,2222]
[12,7459,23,7461,24,7464,23,7468,null,null,0,1222]
[21,7565,21,7570,22,7575,23,7583,null,null,0,2222]
[21,7678,12,7680,24,7683,23,7690,null,null,0,2122]
[21,7790,21,7794,11,7798,21,7801,null,null,0,2212]
[21,7917,21,7929,22,7943,14,7950,null,null,0,2221]
[21,8048,12,8052,24,8065,23,8073,null,null,0,2122]
[21,8169,21,8172,22,8177,23,8184,null,null,0,2222]
[21,8279,21,8281,22,8286,23,8291,null,null,0,2222]
[21,8385,21,8389,22,8393,14,8399,null,null,0,2221]
[21,8495,21,8498,22,8502,23,8507,null,null,0,2222]
[21,8600,21,8604,22,8608,23,8612,null,null,0,2222]
[21,8708,12,8711,24,8714,23,8719,null,null,0,2122]
[21,8814,21,8818,11,8825,21,8834,null,null,0,2212]
[21,8957,12,8964,24,8968,23,8983,null,null,0,2122]
[21,9095,12,9100,24,9112,23,9118,null,null,0,2122]
[21,9212,21,9216,11,9221,21,9228,null,null,0,2212]
[21,9345,12,9354,24,9355,23,9368,null,null,0,2122]
[21,9467,12,9469,24,9472,23,9483,null,null,0,2122]
[21,9580,21,9583,11,9589,21,9598,null,null,0,2212]
[21,9701,12,9704,24,9721,23,9732,null,null,0,2122]
[21,9852,12,9854,24,9857,23,9863,null,null,0,2122]
[21,9962,12,9969,24,9971,23,9977,null,null,0,2122]
[12,10069,23,10078,24,10082,23,10086,null,null,0,1222]
[21,10181,21,10185,22,10191,23,10199,null,null,0,2222]
[21,10296,21,10300,11,10303,21,10305,null,null,0,2212]
[21,10412,21,10420,11,10423,21,10436,null,null,0,2212]
[12,10567,23,10572,24,10581,23,10588,null,null,0,1222]
[21,10694,21,10699,22,10710,23,10721,null,null,0,2222]
[12,10816,23,10821,24,10831,23,10839,null,null,0,1222]
[21,10937,12,10939,24,10945,23,10954,null,null,0,2122]
[21,11049,21,11052,22,11056,23,11063,null,null,0,2222]
[21,11156,21,11160,22,11163,23,11168,null,null,0,2222]
[21,11264,21,11271,22,11275,23,11281,null,null,0,2222]
[21,11379,21,11383,22,11387,23,11393,null,null,0,2222]
[21,11489,21,11493,11,11496,21,11502,null,null,0,2212]
[21,11635,21,11646,22,11656,23,11664,null,null,0,2222]
[12,11758,23,11764,24,11767,23,11771,null,null,0,1222]
[21,11870,12,11873,24,11876,23,11889,null,null,0,2122]
[21,11985,21,11989,22,11993,14,11997,null,null,0,2221]
[12,12089,23,12098,24,12101,23,12105,null,null,0,1222]
[21,12200,21,12204,22,12209,23,12216,null,null,0,2222]
[21,12313,21,12318,11,12321,12,12323,null,null,0,2211]
[21,12418,21,12421,22,12425,14,12428,null,null,0,2221]
[21,12524,21,12527,11,12533,21,12543,null,null,0,2212]
[12,12658,23,12666,24,12672,23,12685,null,null,0,1222]
[21,12781,12,12784,24,12787,23,12796,null,null,0,2122]
[21,12894,21,12898,22,12904,23,12911,null,null,0,2222]
[21,13005,21,13009,22,13015,23,13022,null,null,0,2222]
[21,13117,21,13121,22,13126,23,13132,null,null,0,2222]
[21,13229,21,13234,22,13239,23,13245,null,null,0,2222]
[21,13341,21,13345,11,13349,21,13354,null,null,0,2212]
[21,13482,21,13488,22,13501,14,13506,null,null,0,2221]
[12,13606,23,13620,24,13624,23,13629,null,null,0,1222]
[21,13726,12,13731,24,13737,23,13744,null,null,0,2122]
[21,13839,21,13842,22,13849,23,13857,null,null,0,2222]
[21,13952,21,13957,11,13963,21,13971,null,null,0,2212]
[21,14095,12,14106,24,14114,23,14121,null,null,0,2122]
[21,14253,12,14257,24,14264,23,14273,null,null,0,2122]
[21,14368,12,14372,24,14379,23,14387,null,null,0,2122]
[21,14486,12,14498,13,14500,23,14504,null,null,0,2112]
[21,14603,21,14606,11,14610,21,14618,null,null,0,2212]
[21,14730,12,14736,24,14746,23,14760,null,null,0,2122]
[21,14879,21,14885,22,14890,14,14895,null,null,0,2221]
[21,14990,21,14995,11,14997,21,15000,null,null,0,2212]
[21,15103,21,15107,22,15112,23,15118,null,null,0,2222]
[21,15214,12,15218,24,15222,23,15234,null,null,0,2122]
[12,15326,23,15333,13,15337,23,15343,null,null,0,1212]
[21,15437,21,15440,11,15444,21,15446,null,null,0,2212]
[21,15601,21,15609,22,15614,23,15626,null,null,0,2222]
[21,15723,21,15726,22,15729,23,15735,null,null,0,2222]
[21,15827,12,15832,24,15835,14,15841,null,null,0,2121]
[12,15933,23,15939,24,15942,14,15945,null,null,0,1221]
[21,16037,21,16041,11,16043,21,16046,null,null,0,2212]
[21,16185,21,16192,11,16199,21,16201,null,null,0,2212]
[21,16384,21,16390,22,16398,23,16408,null,null,0,2222]
[12,16533,23,16539,24,16550,23,16558,null,null,0,1222]
[12,16655,23,16662,24,16669,23,16682,null,null,0,1222]
[21,16782,21,16786,22,16791,23,16798,null,null,0,2222]
[21,16894,21,16897,22,16902,23,16911,null,null,0,2222]
[21,17006,21,17008,22,17011,23,17014,null,null,0,2222]
[21,17109,21,17113,22,17117,23,17124,null,null,0,2222]
[21,17219,21,17222,11,17226,21,17231,null,null,0,2212]
[21,17330,21,17336,22,17352,23,17359,null,null,0,2222]
[21,17455,21,17458,11,17462,21,17467,null,null,0,2212]
[21,17572,21,17579,11,17583,21,17591,null,null,0,2212]
[21,17760,12,17764,24,17766,23,17777,null,null,0,2122]
[21,17904,12,17913,24,17918,23,17928,null,null,0,2122]
[21,18025,21,18029,22,18034,23,18041,null,null,0,2222]
[21,18136,21,18139,22,18144,23,18151,null,null,0,2222]
[21,18246,12,18251,24,18257,23,18266,null,null,0,2122]
[21,18361,12,18363,24,18366,23,18371,null,null,0,2122]
[21,18471,21,18474,22,18479,14,18484,null,null,0,2221]
[21,18579,21,18586,22,18594,23,18601,null,null,0,2222]
[21,18699,21,18704,22,18708,14,18711,null,null,0,2221]
[21,18808,12,18811,24,18817,23,18825,null,null,0,2122]
[21,18916,21,18921,11,18923,21,18930,null,null,0,2212]
[21,19088,12,19090,24,19111,23,19123,null,null,0,2122]
[21,19224,21,19230,22,19236,23,19244,null,null,0,2222]
[21,19339,21,19344,11,19346,21,19349,null,null,0,2212]
[21,19453,12,19454,24,19461,23,19475,null,null,0,2122]
[21,19570,21,19574,11,19577,21,19583,null,null,0,2212]
[21,19699,21,19705,11,19707,21,19711,null,null,0,2212]
[21,19903,21,19909,11,19916,21,19929,null,null,0,2212]
[12,20154,23,20158,24,20165,23,20173,null,null,0,1222]
[21,20277,21,20279,22,20286,23,20292,null,null,0,2222]
[21,20387,21,20391,11,20394,21,20396,null,null,0,2212]
[12,20517,23,20535,24,20545,23,20561,null,null,0,1222]
[21,20657,12,20661,24,20664,23,20675,null,null,0,2122]
[12,20768,14,20774,24,20778,23,20783,null,null,0,1122]
[21,20878,21,20885,22,20894,23,20902,null,null,0,2222]
[21,20997,21,21001,22,21010,23,21016,null,null,0,2222]
[21,21112,21,21115,22,21121,23,21128,null,null,0,2222]
[21,21223,21,21226,11,21231,21,21239,null,null,0,2212]
[21,21369,12,21379,24,21393,23,21401,null,null,0,2122]
[21,21497,12,21505,24,21513,23,21520,null,null,0,2122]
[21,21613,21,21617,22,21621,14,21625,null,null,0,2221]
[21,21724,21,21726,11,21730,21,21739,null,null,0,2212]
[21,21864,21,21871,22,21877,23,21890,null,null,0,2222]
[21,21985,21,21990,22,21995,23,22002,null,null,0,2222]
[21,22097,21,22099,11,22103,21,22109,null,null,0,2212]
[21,22253,21,22275,22,22287,23,22297,null,null,0,2222]
[12,22390,23,22401,24,22406,14,22410,null,null,0,1221]
[21,22505,21,22508,11,22511,21,22513,null,null,0,2212]
[21,22608,21,22616,22,22623,23,22635,null,null,0,2222]
[21,22740,12,22742,24,22745,23,22752,null,null,0,2122]
[21,22844,21,22851,11,22853,21,22856,null,null,0,2212]
[21,23014,21,23019,22,23024,23,23035,null,null,0,2222]
[21,23131,12,23138,24,23141,23,23146,null,null,0,2122]
[12,23243,23,23250,24,23253,23,23258,null,null,0,1222]
[21,23350,21,23355,22,23361,23,23369,null,null,0,2222]
[21,23462,21,23468,22,23476,23,23484,null,null,0,2222]
[21,23576,21,23581,22,23585,23,23591,null,null,0,2222]
[12,23686,23,23690,24,23694,23,23700,null,null,0,1222]
[21,23795,21,23799,11,23803,21,23804,null,null,0,2212]
[21,23913,21,23926,22,23934,23,23942,null,null,null,2222]

{"sheet":"!M712A40.Gus","index":23,"n_rows":189,"n_cols":48,"rows_kept":189,"cut":false,"hidden":false,"merged":[[4,39,4,42],[5,39,5,40],[4,44,4,47],[5,44,5,45],[4,24,4,27],[5,24,5,25],[4,29,4,32],[5,29,5,30],[4,34,4,37],[5,34,5,35],[1,1,1,2],[5,13,5,14],[26,13,26,14],[27,13,27,14],[4,19,4,22],[5,19,5,20]]}
["Report for:!M712A40.Gus"]
["Date:","<date>"]
["Hen:","<hen>",null,null,null,"Correct Sequence",{"$f":"Start!J2","v":2212},null,null,null,null,null,null,null,null,"Total Sequences in Data",{"$f":"4994-COUNTBLANK(L7:L5000)","v":183},null,null,null,null,"Total Sequences in Block Data",{"$f":"COUNTA(L7:L37)","v":31},null,null,null,"Total Sequences in Block Data",{"$f":"COUNTA(L38:L67)","v":30},null,null,null,"Total Sequences in Block Data",{"$f":"COUNTA(L68:L98)","v":31},null,null,null,"Total Sequences in Block Data",{"$f":"COUNTA(L99:L128)","v":30},null,null,null,"Total Sequences in Block Data",{"$f":"COUNTA(L129:L159)","v":31},null,null,null,"Total Sequences in Block Data",{"$f":"COUNTA(L160:L189)","v":30}]
[null,null,null,null,null,null,null,null,null,null,null,null,null,null,null,"Total Sequences in Summary",{"$f":"SUM(O7:O22)","v":183},null,null,null,null,"Total Sequences in Block Summary",{"$f":"SUM(U7:U22)","v":31},null,null,null,"Total Sequences in Block Summary",{"$f":"SUM(Z7:Z22)","v":30},null,null,null,"Total Sequences in Block Summary",{"$f":"SUM(AE7:AE22)","v":31},null,null,null,"Total Sequences in Block Summary",{"$f":"SUM(AJ7:AJ22)","v":30},null,null,null,"Total Sequences in Block Summary",{"$f":"SUM(AO7:AO22)","v":31},null,null,null,"Total Sequences in Block Summary",{"$f":"SUM(AT7:AT22)","v":30}]
[null,null,null,null,null,null,null,null,null,null,null,null,null,null,null,null,null,null,null,"Block 1",null,null,null,null,"Block 2",null,null,null,null,"Block 3",null,null,null,null,"Block 4",null,null,null,null,"Block 5",null,null,null,null,"Block 6"]
["Sequence\nComponent\n1","Time\n1","Sequence\nComponent\n2","Time\n2","Sequence\nComponent\n3","Time\n3","Sequence\nComponent\n4","Time\n4","Sequence\nComponent\n5","Time\n5","Correct?\n0=No 1=Yes","Sequence",null,"Frequency",null,"Relative Frequency","Variability",null,null,"Frequency",null,"Relative Frequency","Variability",null,"Frequency",null,"Relative Frequency","Variability",null,"Frequency",null,"Relative Frequency","Variability",null,"Frequency",null,"Relative Frequency","Variability",null,"Frequency",null,"Relative Frequency","Variability",null,"Frequency",null,"Relative Frequency","Variability"]
[12,14,23,21,24,27,23,34,null,null,0,1222,null,1111,{"$f":"COUNTIF($L$7:$L$500,N7)","v":0},{"$f":"O7/$Q$4","v":0},{"$f":"IF(P7=0,0,(P7*((LOG(P7))/LOG(2))))","v":0},null,null,{"$f":"N7","v":1111},{"$f":"COUNTIF(L7:L37,T7)","v":0},{"$f":"U7/(W4-U20)","v":0},{"$f":"IF(V7=0,0,(V7*((LOG(V7))/LOG(2))))","v":0},null,{"$f":"N7","v":1111},{"$f":"COUNTIF(L38:L67,Y7)","v":0},{"$f":"Z7/(AB4-Z20)","v":0},{"$f":"IF(AA7=0,0,(AA7*((LOG(AA7))/LOG(2))))","v":0},null,{"$f":"N7","v":1111},{"$f":"COUNTIF(L68:L98,AD7)","v":0},{"$f":"AE7/(AG4-AE20)","v":0},{"$f":"IF(AF7=0,0,(AF7*((LOG(AF7))/LOG(2))))","v":0},null,{"$f":"N7","v":1111},{"$f":"COUNTIF(L99:L128,AI7)","v":0},{"$f":"AJ7/(AL4-AJ20)","v":0},{"$f":"IF(AK7=0,0,(AK7*((LOG(AK7))/LOG(2))))","v":0},null,{"$f":"N7","v":1111},{"$f":"COUNTIF(L129:L159,AN7)","v":0},{"$f":"AO7/(AQ4-AO20)","v":0},{"$f":"IF(AP7=0,0,(AP7*((LOG(AP7))/LOG(2))))","v":0},null,{"$f":"N7","v":1111},{"$f":"COUNTIF(L160:L189,AS7)","v":0},{"$f":"AT7/(AV4-AT20)","v":0},{"$f":"IF(AU7=0,0,(AU7*((LOG(AU7))/LOG(2))))","v":0}]
[21,130,12,134,24,138,23,143,null,null,0,2122,null,1112,{"$f":"COUNTIF($L$7:$L$500,N8)","v":0},{"$f":"O8/$Q$4","v":0},{"$f":"IF(P8=0,0,(P8*((LOG(P8))/LOG(2))))","v":0},null,null,{"$f":"N8","v":1112},{"$f":"COUNTIF(L7:L37,T8)","v":0},{"$f":"U8/(W4-U20)","v":0},{"$f":"IF(V8=0,0,(V8*((LOG(V8))/LOG(2))))","v":0},null,{"$f":"N8","v":1112},{"$f":"COUNTIF(L38:L67,Y8)","v":0},{"$f":"Z8/(AB4-Z20)","v":0},{"$f":"IF(AA8=0,0,(AA8*((LOG(AA8))/LOG(2))))","v":0},null,{"$f":"N8","v":1112},{"$f":"COUNTIF(L68:L98,AD8)","v":0},{"$f":"AE8/(AG4-AE20)","v":0},{"$f":"IF(AF8=0,0,(AF8*((LOG(AF8))/LOG(2))))","v":0},null,{"$f":"N8","v":1112},{"$f":"COUNTIF(L99:L128,AI8)","v":0},{"$f":"AJ8/(AL4-AJ20)","v":0},{"$f":"IF(AK8=0,0,(AK8*((LOG(AK8))/LOG(2))))","v":0},null,{"$f":"N8","v":1112},{"$f":"COUNTIF(L129:L159,AN8)","v":0},{"$f":"AO8/(AQ4-AO20)","v":0},{"$f":"IF(AP8=0,0,(AP8*((LOG(AP8))/LOG(2))))","v":0},null,{"$f":"N8","v":1112},{"$f":"COUNTIF(L160:L189,AS8)","v":0},{"$f":"AT8/(AV4-AT20)","v":0},{"$f":"IF(AU8=0,0,(AU8*((LOG(AU8))/LOG(2))))","v":0}]
[21,244,12,248,24,251,23,254,null,null,0,2122,null,1121,{"$f":"COUNTIF($L$7:$L$500,N9)","v":0},{"$f":"O9/$Q$4","v":0},{"$f":"IF(P9=0,0,(P9*((LOG(P9))/LOG(2))))","v":0},null,null,{"$f":"N9","v":1121},{"$f":"COUNTIF(L7:L37,T9)","v":0},{"$f":"U9/(W4-U20)","v":0},{"$f":"IF(V9=0,0,(V9*((LOG(V9))/LOG(2))))","v":0},null,{"$f":"N9","v":1121},{"$f":"COUNTIF(L38:L67,Y9)","v":0},{"$f":"Z9/(AB4-Z20)","v":0},{"$f":"IF(AA9=0,0,(AA9*((LOG(AA9))/LOG(2))))","v":0},null,{"$f":"N9","v":1121},{"$f":"COUNTIF(L68:L98,AD9)","v":0},{"$f":"AE9/(AG4-AE20)","v":0},{"$f":"IF(AF9=0,0,(AF9*((LOG(AF9))/LOG(2))))","v":0},null,{"$f":"N9","v":1121},{"$f":"COUNTIF(L99:L128,AI9)","v":0},{"$f":"AJ9/(AL4-AJ20)","v":0},{"$f":"IF(AK9=0,0,(AK9*((LOG(AK9))/LOG(2))))","v":0},null,{"$f":"N9","v":1121},{"$f":"COUNTIF(L129:L159,AN9)","v":0},{"$f":"AO9/(AQ4-AO20)","v":0},{"$f":"IF(AP9=0,0,(AP9*((LOG(AP9))/LOG(2))))","v":0},null,{"$f":"N9","v":1121},{"$f":"COUNTIF(L160:L189,AS9)","v":0},{"$f":"AT9/(AV4-AT20)","v":0},{"$f":"IF(AU9=0,0,(AU9*((LOG(AU9))/LOG(2))))","v":0}]
[12,346,23,358,13,360,23,362,null,null,0,1212,null,1122,{"$f":"COUNTIF($L$7:$L$500,N10)","v":4},{"$f":"O10/$Q$4","v":2.185792349726776E-2},{"$f":"IF(P10=0,0,(P10*((LOG(P10))/LOG(2))))","v":-0.12056174509910474},null,null,{"$f":"N10","v":1122},{"$f":"COUNTIF(L7:L37,T10)","v":1},{"$f":"U10/(W4-U20)","v":3.5714285714285712E-2},{"$f":"IF(V10=0,0,(V10*((LOG(V10))/LOG(2))))","v":-0.17169124721634299},null,{"$f":"N10","v":1122},{"$f":"COUNTIF(L38:L67,Y10)","v":1},{"$f":"Z10/(AB4-Z20)","v":3.7037037037037035E-2},{"$f":"IF(AA10=0,0,(AA10*((LOG(AA10))/LOG(2))))","v":-0.1761069445245729},null,{"$f":"N10","v":1122},{"$f":"COUNTIF(L68:L98,AD10)","v":0},{"$f":"AE10/(AG4-AE20)","v":0},{"$f":"IF(AF10=0,0,(AF10*((LOG(AF10))/LOG(2))))","v":0},null,{"$f":"N10","v":1122},{"$f":"COUNTIF(L99:L128,AI10)","v":2},{"$f":"AJ10/(AL4-AJ20)","v":0.1},{"$f":"IF(AK10=0,0,(AK10*((LOG(AK10))/LOG(2))))","v":-0.33219280948873625},null,{"$f":"N10","v":1122},{"$f":"COUNTIF(L129:L159,AN10)","v":0},{"$f":"AO10/(AQ4-AO20)","v":0},{"$f":"IF(AP10=0,0,(AP10*((LOG(AP10))/LOG(2))))","v":0},null,{"$f":"N10","v":1122},{"$f":"COUNTIF(L160:L189,AS10)","v":0},{"$f":"AT10/(AV4-AT20)","v":0},{"$f":"IF(AU10=0,0,(AU10*((LOG(AU10))/LOG(2))))","v":0}]
[21,464,21,471,22,476,14,485,null,null,0,2221,null,1211,{"$f":"COUNTIF($L$7:$L$500,N11)","v":0},{"$f":"O11/$Q$4","v":0},{"$f":"IF(P11=0,0,(P11*((LOG(P11))/LOG(2))))","v":0},null,null,{"$f":"N11","v":1211},{"$f":"COUNTIF(L7:L37,T11)","v":0},{"$f":"U11/(W4-U20)","v":0},{"$f":"IF(V11=0,0,(V11*((LOG(V11))/LOG(2))))","v":0},null,{"$f":"N11","v":1211},{"$f":"COUNTIF(L38:L67,Y11)","v":0},{"$f":"Z11/(AB4-Z20)","v":0},{"$f":"IF(AA11=0,0,(AA11*((LOG(AA11))/LOG(2))))","v":0},null,{"$f":"N11","v":1211},{"$f":"COUNTIF(L68:L98,AD11)","v":0},{"$f":"AE11/(AG4-AE20)","v":0},{"$f":"IF(AF11=0,0,(AF11*((LOG(AF11))/LOG(2))))","v":0},null,{"$f":"N11","v":1211},{"$f":"COUNTIF(L99:L128,AI11)","v":0},{"$f":"AJ11/(AL4-AJ20)","v":0},{"$f":"IF(AK11=0,0,(AK11*((LOG(AK11))/LOG(2))))","v":0},null,{"$f":"N11","v":1211},{"$f":"COUNTIF(L129:L159,AN11)","v":0},{"$f":"AO11/(AQ4-AO20)","v":0},{"$f":"IF(AP11=0,0,(AP11*((LOG(AP11))/LOG(2))))","v":0},null,{"$f":"N11","v":1211},{"$f":"COUNTIF(L160:L189,AS11)","v":0},{"$f":"AT11/(AV4-AT20)","v":0},{"$f":"IF(AU11=0,0,(AU11*((LOG(AU11))/LOG(2))))","v":0}]
[21,583,12,586,24,591,23,597,null,null,0,2122,null,1212,{"$f":"COUNTIF($L$7:$L$500,N12)","v":7},{"$f":"O12/$Q$4","v":3.825136612021858E-2},{"$f":"IF(P12=0,0,(P12*((LOG(P12))/LOG(2))))","v":-0.18010062521084735},null,null,{"$f":"N12","v":1212},{"$f":"COUNTIF(L7:L37,T12)","v":5},{"$f":"U12/(W4-U20)","v":0.17857142857142858},{"$f":"IF(V12=0,0,(V12*((LOG(V12))/LOG(2))))","v":-0.44382621913754317},null,{"$f":"N12","v":1212},{"$f":"COUNTIF(L38:L67,Y12)","v":0},{"$f":"Z12/(AB4-Z20)","v":0},{"$f":"IF(AA12=0,0,(AA12*((LOG(AA12))/LOG(2))))","v":0},null,{"$f":"N12","v":1212},{"$f":"COUNTIF(L68:L98,AD12)","v":1},{"$f":"AE12/(AG4-AE20)","v":0.04},{"$f":"IF(AF12=0,0,(AF12*((LOG(AF12))/LOG(2))))","v":-0.18575424759098899},null,{"$f":"N12","v":1212},{"$f":"COUNTIF(L99:L128,AI12)","v":1},{"$f":"AJ12/(AL4-AJ20)","v":0.05},{"$f":"IF(AK12=0,0,(AK12*((LOG(AK12))/LOG(2))))","v":-0.21609640474436814},null,{"$f":"N12","v":1212},{"$f":"COUNTIF(L129:L159,AN12)","v":0},{"$f":"AO12/(AQ4-AO20)","v":0},{"$f":"IF(AP12=0,0,(AP12*((LOG(AP12))/LOG(2))))","v":0},null,{"$f":"N12","v":1212},{"$f":"COUNTIF(L160:L189,AS12)","v":0},{"$f":"AT12/(AV4-AT20)","v":0},{"$f":"IF(AU12=0,0,(AU12*((LOG(AU12))/LOG(2))))","v":0}]
[21,695,12,700,24,705,23,713,null,null,0,2122,null,1221,{"$f":"COUNTIF($L$7:$L$500,N13)","v":3},{"$f":"O13/$Q$4","v":1.6393442622950821E-2},{"$f":"IF(P13=0,0,(P13*((LOG(P13))/LOG(2))))","v":-9.7225202255129275E-2},null,null,{"$f":"N13","v":1221},{"$f":"COUNTIF(L7:L37,T13)","v":0},{"$f":"U13/(W4-U20)","v":0},{"$f":"IF(V13=0,0,(V13*((LOG(V13))/LOG(2))))","v":0},null,{"$f":"N13","v":1221},{"$f":"COUNTIF(L38:L67,Y13)","v":1},{"$f":"Z13/(AB4-Z20)","v":3.7037037037037035E-2},{"$f":"IF(AA13=0,0,(AA13*((LOG(AA13))/LOG(2))))","v":-0.1761069445245729},null,{"$f":"N13","v":1221},{"$f":"COUNTIF(L68:L98,AD13)","v":1},{"$f":"AE13/(AG4-AE20)","v":0.04},{"$f":"IF(AF13=0,0,(AF13*((LOG(AF13))/LOG(2))))","v":-0.18575424759098899},null,{"$f":"N13","v":1221},{"$f":"COUNTIF(L99:L128,AI13)","v":0},{"$f":"AJ13/(AL4-AJ20)","v":0},{"$f":"IF(AK13=0,0,(AK13*((LOG(AK13))/LOG(2))))","v":0},null,{"$f":"N13","v":1221},{"$f":"COUNTIF(L129:L159,AN13)","v":0},{"$f":"AO13/(AQ4-AO20)","v":0},{"$f":"IF(AP13=0,0,(AP13*((LOG(AP13))/LOG(2))))","v":0},null,{"$f":"N13","v":1221},{"$f":"COUNTIF(L160:L189,AS13)","v":1},{"$f":"AT13/(AV4-AT20)","v":4.3478260869565216E-2},{"$f":"IF(AU13=0,0,(AU13*((LOG(AU13))/LOG(2))))","v":-0.19667660678508753}]
[21,810,12,813,24,822,23,829,null,null,0,2122,null,1222,{"$f":"COUNTIF($L$7:$L$500,N14)","v":30},{"$f":"O14/$Q$4","v":0.16393442622950818},{"$f":"IF(P14=0,0,(P14*((LOG(P14))/LOG(2))))","v":-0.42767364634024979},null,null,{"$f":"N14","v":1222},{"$f":"COUNTIF(L7:L37,T14)","v":3},{"$f":"U14/(W4-U20)","v":0.10714285714285714},{"$f":"IF(V14=0,0,(V14*((LOG(V14))/LOG(2))))","v":-0.34525633085747659},null,{"$f":"N14","v":1222},{"$f":"COUNTIF(L38:L67,Y14)","v":5},{"$f":"Z14/(AB4-Z20)","v":0.18518518518518517},{"$f":"IF(AA14=0,0,(AA14*((LOG(AA14))/LOG(2))))","v":-0.45054803838446406},null,{"$f":"N14","v":1222},{"$f":"COUNTIF(L68:L98,AD14)","v":5},{"$f":"AE14/(AG4-AE20)","v":0.2},{"$f":"IF(AF14=0,0,(AF14*((LOG(AF14))/LOG(2))))","v":-0.46438561897747244},null,{"$f":"N14","v":1222},{"$f":"COUNTIF(L99:L128,AI14)","v":5},{"$f":"AJ14/(AL4-AJ20)","v":0.25},{"$f":"IF(AK14=0,0,(AK14*((LOG(AK14))/LOG(2))))","v":-0.5},null,{"$f":"N14","v":1222},{"$f":"COUNTIF(L129:L159,AN14)","v":6},{"$f":"AO14/(AQ4-AO20)","v":0.23076923076923078},{"$f":"IF(AP14=0,0,(AP14*((LOG(AP14))/LOG(2))))","v":-0.48818705017383146},null,{"$f":"N14","v":1222},{"$f":"COUNTIF(L160:L189,AS14)","v":6},{"$f":"AT14/(AV4-AT20)","v":0.2608695652173913},{"$f":"IF(AU14=0,0,(AU14*((LOG(AU14))/LOG(2))))","v":-0.50572159704413644}]
[12,922,23,931,24,936,23,939,null,null,0,1222,null,2111,{"$f":"COUNTIF($L$7:$L$500,N15)","v":0},{"$f":"O15/$Q$4","v":0},{"$f":"IF(P15=0,0,(P15*((LOG(P15))/LOG(2))))","v":0},null,null,{"$f":"N15","v":2111},{"$f":"COUNTIF(L7:L37,T15)","v":0},{"$f":"U15/(W4-U20)","v":0},{"$f":"IF(V15=0,0,(V15*((LOG(V15))/LOG(2))))","v":0},null,{"$f":"N15","v":2111},{"$f":"COUNTIF(L38:L67,Y15)","v":0},{"$f":"Z15/(AB4-Z20)","v":0},{"$f":"IF(AA15=0,0,(AA15*((LOG(AA15))/LOG(2))))","v":0},null,{"$f":"N15","v":2111},{"$f":"COUNTIF(L68:L98,AD15)","v":0},{"$f":"AE15/(AG4-AE20)","v":0},{"$f":"IF(AF15=0,0,(AF15*((LOG(AF15))/LOG(2))))","v":0},null,{"$f":"N15","v":2111},{"$f":"COUNTIF(L99:L128,AI15)","v":0},{"$f":"AJ15/(AL4-AJ20)","v":0},{"$f":"IF(AK15=0,0,(AK15*((LOG(AK15))/LOG(2))))","v":0},null,{"$f":"N15","v":2111},{"$f":"COUNTIF(L129:L159,AN15)","v":0},{"$f":"AO15/(AQ4-AO20)","v":0},{"$f":"IF(AP15=0,0,(AP15*((LOG(AP15))/LOG(2))))","v":0},null,{"$f":"N15","v":2111},{"$f":"COUNTIF(L160:L189,AS15)","v":0},{"$f":"AT15/(AV4-AT20)","v":0},{"$f":"IF(AU15=0,0,(AU15*((LOG(AU15))/LOG(2))))","v":0}]
[21,1036,21,1040,22,1046,23,1054,null,null,0,2222,null,2112,{"$f":"COUNTIF($L$7:$L$500,N16)","v":0},{"$f":"O16/$Q$4","v":0},{"$f":"IF(P16=0,0,(P16*((LOG(P16))/LOG(2))))","v":0},null,null,{"$f":"N16","v":2112},{"$f":"COUNTIF(L7:L37,T16)","v":0},{"$f":"U16/(W4-U20)","v":0},{"$f":"IF(V16=0,0,(V16*((LOG(V16))/LOG(2))))","v":0},null,{"$f":"N16","v":2112},{"$f":"COUNTIF(L38:L67,Y16)","v":0},{"$f":"Z16/(AB4-Z20)","v":0},{"$f":"IF(AA16=0,0,(AA16*((LOG(AA16))/LOG(2))))","v":0},null,{"$f":"N16","v":2112},{"$f":"COUNTIF(L68:L98,AD16)","v":0},{"$f":"AE16/(AG4-AE20)","v":0},{"$f":"IF(AF16=0,0,(AF16*((LOG(AF16))/LOG(2))))","v":0},null,{"$f":"N16","v":2112},{"$f":"COUNTIF(L99:L128,AI16)","v":0},{"$f":"AJ16/(AL4-AJ20)","v":0},{"$f":"IF(AK16=0,0,(AK16*((LOG(AK16))/LOG(2))))","v":0},null,{"$f":"N16","v":2112},{"$f":"COUNTIF(L129:L159,AN16)","v":0},{"$f":"AO16/(AQ4-AO20)","v":0},{"$f":"IF(AP16=0,0,(AP16*((LOG(AP16))/LOG(2))))","v":0},null,{"$f":"N16","v":2112},{"$f":"COUNTIF(L160:L189,AS16)","v":0},{"$f":"AT16/(AV4-AT20)","v":0},{"$f":"IF(AU16=0,0,(AU16*((LOG(AU16))/LOG(2))))","v":0}]
[21,1155,12,1156,24,1158,23,1162,null,null,0,2122,null,2121,{"$f":"COUNTIF($L$7:$L$500,N17)","v":1},{"$f":"O17/$Q$4","v":5.4644808743169399E-3},{"$f":"IF(P17=0,0,(P17*((LOG(P17))/LOG(2))))","v":-4.1069398023410066E-2},null,null,{"$f":"N17","v":2121},{"$f":"COUNTIF(L7:L37,T17)","v":0},{"$f":"U17/(W4-U20)","v":0},{"$f":"IF(V17=0,0,(V17*((LOG(V17))/LOG(2))))","v":0},null,{"$f":"N17","v":2121},{"$f":"COUNTIF(L38:L67,Y17)","v":1},{"$f":"Z17/(AB4-Z20)","v":3.7037037037037035E-2},{"$f":"IF(AA17=0,0,(AA17*((LOG(AA17))/LOG(2))))","v":-0.1761069445245729},null,{"$f":"N17","v":2121},{"$f":"COUNTIF(L68:L98,AD17)","v":0},{"$f":"AE17/(AG4-AE20)","v":0},{"$f":"IF(AF17=0,0,(AF17*((LOG(AF17))/LOG(2))))","v":0},null,{"$f":"N17","v":2121},{"$f":"COUNTIF(L99:L128,AI17)","v":0},{"$f":"AJ17/(AL4-AJ20)","v":0},{"$f":"IF(AK17=0,0,(AK17*((LOG(AK17))/LOG(2))))","v":0},null,{"$f":"N17","v":2121},{"$f":"COUNTIF(L129:L159,AN17)","v":0},{"$f":"AO17/(AQ4-AO20)","v":0},{"$f":"IF(AP17=0,0,(AP17*((LOG(AP17))/LOG(2))))","v":0},null,{"$f":"N17","v":2121},{"$f":"COUNTIF(L160:L189,AS17)","v":0},{"$f":"AT17/(AV4-AT20)","v":0},{"$f":"IF(AU17=0,0,(AU17*((LOG(AU17))/LOG(2))))","v":0}]
[21,1259,12,1265,24,1270,23,1277,null,null,0,2122,null,2122,{"$f":"COUNTIF($L$7:$L$500,N18)","v":35},{"$f":"O18/$Q$4","v":0.19125683060109289},{"$f":"IF(P18=0,0,(P18*((LOG(P18))/LOG(2))))","v":-0.45641851774244618},null,null,{"$f":"N18","v":2122},{"$f":"COUNTIF(L7:L37,T18)","v":10},{"$f":"U18/(W4-U20)","v":0.35714285714285715},{"$f":"IF(V18=0,0,(V18*((LOG(V18))/LOG(2))))","v":-0.53050958113222924},null,{"$f":"N18","v":2122},{"$f":"COUNTIF(L38:L67,Y18)","v":7},{"$f":"Z18/(AB4-Z20)","v":0.25925925925925924},{"$f":"IF(AA18=0,0,(AA18*((LOG(AA18))/LOG(2))))","v":-0.5049158541015204},null,{"$f":"N18","v":2122},{"$f":"COUNTIF(L68:L98,AD18)","v":5},{"$f":"AE18/(AG4-AE20)","v":0.2},{"$f":"IF(AF18=0,0,(AF18*((LOG(AF18))/LOG(2))))","v":-0.46438561897747244},null,{"$f":"N18","v":2122},{"$f":"COUNTIF(L99:L128,AI18)","v":3},{"$f":"AJ18/(AL4-AJ20)","v":0.15},{"$f":"IF(AK18=0,0,(AK18*((LOG(AK18))/LOG(2))))","v":-0.41054483912493089},null,{"$f":"N18","v":2122},{"$f":"COUNTIF(L129:L159,AN18)","v":6},{"$f":"AO18/(AQ4-AO20)","v":0.23076923076923078},{"$f":"IF(AP18=0,0,(AP18*((LOG(AP18))/LOG(2))))","v":-0.48818705017383146},null,{"$f":"N18","v":2122},{"$f":"COUNTIF(L160:L189,AS18)","v":4},{"$f":"AT18/(AV4-AT20)","v":0.17391304347826086},{"$f":"IF(AU18=0,0,(AU18*((LOG(AU18))/LOG(2))))","v":-0.43888034018382832}]
[21,1369,21,1372,22,1377,14,1380,null,null,0,2221,null,2211,{"$f":"COUNTIF($L$7:$L$500,N19)","v":1},{"$f":"O19/$Q$4","v":5.4644808743169399E-3},{"$f":"IF(P19=0,0,(P19*((LOG(P19))/LOG(2))))","v":-4.1069398023410066E-2},null,null,{"$f":"N19","v":2211},{"$f":"COUNTIF(L7:L37,T19)","v":0},{"$f":"U19/(W4-U20)","v":0},{"$f":"IF(V19=0,0,(V19*((LOG(V19))/LOG(2))))","v":0},null,{"$f":"N19","v":2211},{"$f":"COUNTIF(L38:L67,Y19)","v":0},{"$f":"Z19/(AB4-Z20)","v":0},{"$f":"IF(AA19=0,0,(AA19*((LOG(AA19))/LOG(2))))","v":0},null,{"$f":"N19","v":2211},{"$f":"COUNTIF(L68:L98,AD19)","v":0},{"$f":"AE19/(AG4-AE20)","v":0},{"$f":"IF(AF19=0,0,(AF19*((LOG(AF19))/LOG(2))))","v":0},null,{"$f":"N19","v":2211},{"$f":"COUNTIF(L99:L128,AI19)","v":1},{"$f":"AJ19/(AL4-AJ20)","v":0.05},{"$f":"IF(AK19=0,0,(AK19*((LOG(AK19))/LOG(2))))","v":-0.21609640474436814},null,{"$f":"N19","v":2211},{"$f":"COUNTIF(L129:L159,AN19)","v":0},{"$f":"AO19/(AQ4-AO20)","v":0},{"$f":"IF(AP19=0,0,(AP19*((LOG(AP19))/LOG(2))))","v":0},null,{"$f":"N19","v":2211},{"$f":"COUNTIF(L160:L189,AS19)","v":0},{"$f":"AT19/(AV4-AT20)","v":0},{"$f":"IF(AU19=0,0,(AU19*((LOG(AU19))/LOG(2))))","v":0}]
[12,1475,23,1480,13,1484,23,1486,null,null,0,1212,null,2212,{"$f":"COUNTIF($L$7:$L$500,N20)","v":34},{"$f":"O20/$Q$4","v":0.18579234972677597},{"$f":"IF(P20=0,0,(P20*((LOG(P20))/LOG(2))))","v":-0.45114785737238194},null,null,{"$f":"N20","v":2212},{"$f":"COUNTIF(L7:L37,T20)","v":3},null,null,null,{"$f":"N20","v":2212},{"$f":"COUNTIF(L38:L67,Y20)","v":3},null,null,null,{"$f":"N20","v":2212},{"$f":"COUNTIF(L68:L98,AD20)","v":6},null,null,null,{"$f":"N20","v":2212},{"$f":"COUNTIF(L99:L128,AI20)","v":10},null,null,null,{"$f":"N20","v":2212},{"$f":"COUNTIF(L129:L159,AN20)","v":5},null,null,null,{"$f":"N20","v":2212},{"$f":"COUNTIF(L160:L189,AS20)","v":7}]
[21,1583,21,1587,22,1591,23,1598,null,null,0,2222,null,2221,{"$f":"COUNTIF($L$7:$L$500,N21)","v":18},{"$f":"O21/$Q$4","v":9.8360655737704916E-2},{"$f":"IF(P21=0,0,(P21*((LOG(P21))/LOG(2))))","v":-0.32909260690246528},null,null,{"$f":"N21","v":2221},{"$f":"COUNTIF(L7:L37,T21)","v":3},{"$f":"U21/(W4-U20)","v":0.10714285714285714},{"$f":"IF(V21=0,0,(V21*((LOG(V21))/LOG(2))))","v":-0.34525633085747659},null,{"$f":"N21","v":2221},{"$f":"COUNTIF(L38:L67,Y21)","v":1},{"$f":"Z21/(AB4-Z20)","v":3.7037037037037035E-2},{"$f":"IF(AA21=0,0,(AA21*((LOG(AA21))/LOG(2))))","v":-0.1761069445245729},null,{"$f":"N21","v":2221},{"$f":"COUNTIF(L68:L98,AD21)","v":2},{"$f":"AE21/(AG4-AE20)","v":0.08},{"$f":"IF(AF21=0,0,(AF21*((LOG(AF21))/LOG(2))))","v":-0.29150849518197797},null,{"$f":"N21","v":2221},{"$f":"COUNTIF(L99:L128,AI21)","v":3},{"$f":"AJ21/(AL4-AJ20)","v":0.15},{"$f":"IF(AK21=0,0,(AK21*((LOG(AK21))/LOG(2))))","v":-0.41054483912493089},null,{"$f":"N21","v":2221},{"$f":"COUNTIF(L129:L159,AN21)","v":5},{"$f":"AO21/(AQ4-AO20)","v":0.19230769230769232},{"$f":"IF(AP21=0,0,(AP21*((LOG(AP21))/LOG(2))))","v":-0.45740608139494804},null,{"$f":"N21","v":2221},{"$f":"COUNTIF(L160:L189,AS21)","v":4},{"$f":"AT21/(AV4-AT20)","v":0.17391304347826086},{"$f":"IF(AU21=0,0,(AU21*((LOG(AU21))/LOG(2))))","v":-0.43888034018382832}]
[21,1692,21,1696,22,1701,23,1708,null,null,0,2222,null,2222,{"$f":"COUNTIF($L$7:$L$500,N22)","v":50},{"$f":"O22/$Q$4","v":0.27322404371584702},{"$f":"IF(P22=0,0,(P22*((LOG(P22))/LOG(2))))","v":-0.51143269084954046},null,null,{"$f":"N22","v":2222},{"$f":"COUNTIF(L7:L37,T22)","v":6},{"$f":"U22/(W4-U20)","v":0.21428571428571427},{"$f":"IF(V22=0,0,(V22*((LOG(V22))/LOG(2))))","v":-0.47622694742923877},null,{"$f":"N22","v":2222},{"$f":"COUNTIF(L38:L67,Y22)","v":11},{"$f":"Z22/(AB4-Z20)","v":0.40740740740740738},{"$f":"IF(AA22=0,0,(AA22*((LOG(AA22))/LOG(2))))","v":-0.52777832291806981},null,{"$f":"N22","v":2222},{"$f":"COUNTIF(L68:L98,AD22)","v":11},{"$f":"AE22/(AG4-AE20)","v":0.44},{"$f":"IF(AF22=0,0,(AF22*((LOG(AF22))/LOG(2))))","v":-0.52114681130046814},null,{"$f":"N22","v":2222},{"$f":"COUNTIF(L99:L128,AI22)","v":5},{"$f":"AJ22/(AL4-AJ20)","v":0.25},{"$f":"IF(AK22=0,0,(AK22*((LOG(AK22))/LOG(2))))","v":-0.5},null,{"$f":"N22","v":2222},{"$f":"COUNTIF(L129:L159,AN22)","v":9},{"$f":"AO22/(AQ4-AO20)","v":0.34615384615384615},{"$f":"IF(AP22=0,0,(AP22*((LOG(AP22))/LOG(2))))","v":-0.52979355578034681},null,{"$f":"N22","v":2222},{"$f":"COUNTIF(L160:L189,AS22)","v":8},{"$f":"AT22/(AV4-AT20)","v":0.34782608695652173},{"$f":"IF(AU22=0,0,(AU22*((LOG(AU22))/LOG(2))))","v":-0.52993459341113491}]
[21,1804,12,1807,24,1815,23,1821,null,null,0,2122,null,null,null,{"$f":"SUM(P7:P22)","v":1},{"$f":"-SUM(Q7:Q22)","v":2.6557916878189851},null,null,null,null,{"$f":"SUM(V7:V22)","v":1},{"$f":"-SUM(W7:W22)","v":2.3127666566303073},null,null,null,{"$f":"SUM(AA7:AA22)","v":1},{"$f":"-SUM(AB7:AB22)","v":2.1876699935023458},null,null,null,{"$f":"SUM(AF7:AF22)","v":1},{"$f":"-SUM(AG7:AG22)","v":2.1129350396193689},null,null,null,{"$f":"SUM(AK7:AK22)","v":1},{"$f":"-SUM(AL7:AL22)","v":2.585475297227334},null,null,null,{"$f":"SUM(AP7:AP22)","v":1},{"$f":"-SUM(AQ7:AQ22)","v":1.9635737375229578},null,null,null,{"$f":"SUM(AU7:AU22)","v":1},{"$f":"-SUM(AV7:AV22)","v":2.1100934776080158}]
[12,1915,23,1923,13,1927,23,1940,null,null,0,1212,null,null,null,"U=",{"$f":"Q23/(LOG(Q4)/LOG(2))","v":0.35336585347524285},null,null,null,null,"U1=",{"$f":"W23/(LOG(W4)/LOG(2))","v":0.46682983711836451},null,null,null,"U2=",{"$f":"AB23/(LOG(AB4)/LOG(2))","v":0.44583630934429791},null,null,null,"U3=",{"$f":"AG23/(LOG(AG4)/LOG(2))","v":0.4264940077544826},null,null,null,"U4=",{"$f":"AL23/(LOG(AL4)/LOG(2))","v":0.52690705994978504},null,null,null,"U5=",{"$f":"AQ23/(LOG(AQ4)/LOG(2))","v":0.39634556535560894},null,null,null,"U6=",{"$f":"AV23/(LOG(AV4)/LOG(2))","v":0.43002659963449552}]
[12,2034,23,2042,13,2045,23,2050,null,null,0,1212]
[21,2148,21,2155,11,2159,21,2169,null,null,0,2212]
[21,2301,21,2307,22,2315,23,2323,null,null,0,2222,null,"Total Target Seq"]
[21,2418,21,2428,22,2436,23,2444,null,null,0,2222,null,{"$f":"COUNTIF(L7:L189,G3)","v":34},null,31,30,31,30,31,30]
[12,2536,23,2542,13,2545,23,2547,null,null,0,1212,null,null,null,"% of reinforcement given in 6 equal intervals based on number of trials "]
[21,2643,12,2646,24,2651,23,2658,null,null,0,2122,null,null,null,"%_1","%_2","%_3","%_4","%_5","%_6"]
[12,2750,14,2754,24,2756,23,2759,null,null,0,1122,null,null,"target sequence",{"$f":"$G$3","v":2212},{"$f":"$G$3","v":2212},{"$f":"$G$3","v":2212},{"$f":"$G$3","v":2212},{"$f":"$G$3","v":2212},{"$f":"$G$3","v":2212}]
[21,2856,21,2865,22,2872,14,2877,null,null,0,2221,null,null,"total reinforcement",{"$f":"U20","v":3},{"$f":"Z20","v":3},{"$f":"AE20","v":6},{"$f":"AJ20","v":10},{"$f":"AO20","v":5},{"$f":"AT20","v":7}]
[21,2972,21,2976,11,2979,21,2981,null,null,0,2212,null,null,"% target"]
[21,3088,12,3095,24,3108,23,3116,null,null,0,2122,null,null,"CCRF"]
[12,3210,23,3216,24,3220,23,3228,null,null,0,1222,null,null,"% CCRf"]
[21,3325,21,3328,11,3334,21,3341,null,null,0,2212,null,null,"average response rate",{"$f":"H37/P28","v":112.7741935483871},{"$f":"(H67-H37)/Q28","v":118.26666666666667},{"$f":"(H98-H67)/R28","v":150.87096774193549},{"$f":"(H128-H98)/S28","v":144.9},{"$f":"(H159-H128)/T28","v":128.51612903225808},{"$f":"(H189-H159)/U28","v":128.86666666666667}]
[21,3452,21,3476,22,3487,23,3496,null,null,0,2222]
[21,3595,12,3598,24,3602,23,3608,null,null,0,2122]
[21,3706,21,3710,22,3713,23,3719,null,null,0,2222]
[21,3815,12,3819,24,3824,23,3829,null,null,0,2122]
[21,3926,21,3929,22,3937,23,3943,null,null,0,2222]
[12,4038,23,4043,24,4047,23,4051,null,null,0,1222]
[21,4150,21,4153,22,4159,14,4163,null,null,0,2221]
[21,4261,21,4263,11,4265,21,4267,null,null,0,2212]
[21,4435,12,4437,24,4446,23,4460,null,null,0,2122]
[21,4555,12,4558,24,4561,23,4566,null,null,0,2122]
[21,4658,21,4660,22,4664,23,4669,null,null,0,2222]
[21,4766,21,4769,22,4775,23,4783,null,null,0,2222]
[12,4876,23,4883,24,4887,14,4892,null,null,0,1221]
[21,4985,12,4988,24,4990,14,4992,null,null,0,2121]
[12,5087,23,5091,24,5094,23,5097,null,null,0,1222]
[21,5193,21,5197,11,5203,21,5211,null,null,0,2212]
[21,5357,21,5376,22,5392,23,5407,null,null,0,2222]
[21,5504,12,5510,24,5519,23,5528,null,null,0,2122]
[21,5621,21,5625,22,5629,23,5636,null,null,0,2222]
[21,5731,21,5736,22,5742,23,5751,null,null,0,2222]
[21,5847,12,5856,24,5861,23,5868,null,null,0,2122]
[21,5963,21,5969,22,5975,23,5982,null,null,0,2222]
[12,6076,23,6083,24,6088,23,6094,null,null,0,1222]
[21,6187,12,6189,24,6193,23,6197,null,null,0,2122]
[12,6293,23,6298,24,6305,23,6312,null,null,0,1222]
[21,6407,21,6410,22,6414,23,6420,null,null,0,2222]
[21,6517,21,6523,22,6528,23,6535,null,null,0,2222]
[12,6629,23,6633,24,6639,23,6643,null,null,0,1222]
[21,6738,21,6742,11,6746,21,6749,null,null,0,2212]
[21,6891,21,6899,22,6911,23,6921,null,null,0,2222]
[12,7016,14,7031,24,7039,23,7044,null,null,0,1122]
[12,7138,23,7140,24,7144,14,7146,null,null,0,1221]
[21,7243,21,7245,22,7249,23,7255,null,null,0,2222]
[21,7349,21,7354,22,7362,23,7370,null,null,0,2222]
[21,7463,21,7468,11,7471,21,7479,null,null,0,2212]
[12,7616,23,7618,24,7634,23,7642,null,null,0,1222]
[21,7752,21,7760,22,7767,23,7775,null,null,0,2222]
[21,7871,21,7874,22,7877,14,7880,null,null,0,2221]
[21,7975,21,7981,22,7989,23,7998,null,null,0,2222]
[21,8091,12,8097,24,8102,23,8108,null,null,0,2122]
[21,8204,21,8208,22,8211,14,8217,null,null,0,2221]
[12,8309,23,8317,13,8324,23,8333,null,null,0,1212]
[12,8427,23,8432,24,8435,23,8439,null,null,0,1222]
[21,8533,12,8536,24,8542,23,8548,null,null,0,2122]
[21,8642,21,8646,22,8652,23,8661,null,null,0,2222]
[21,8757,12,8761,24,8763,23,8770,null,null,0,2122]
[21,8869,12,8872,24,8874,23,8879,null,null,0,2122]
[21,8979,21,8982,11,8985,21,8987,null,null,0,2212]
[21,9142,12,9147,24,9153,23,9167,null,null,0,2122]
[21,9261,21,9269,22,9275,23,9283,null,null,0,2222]
[21,9380,21,9383,22,9387,23,9394,null,null,0,2222]
[21,9492,21,9494,22,9497,23,9504,null,null,0,2222]
[12,9596,23,9599,24,9601,23,9608,null,null,0,1222]
[21,9705,21,9708,11,9711,21,9713,null,null,0,2212]
[21,9837,21,9851,22,9867,23,9873,null,null,0,2222]
[21,9968,21,9972,11,9975,21,9977,null,null,0,2212]
[12,10310,23,10312,24,10331,23,10343,null,null,0,1222]
[21,10435,21,10439,11,10441,21,10448,null,null,0,2212]
[21,11192,21,11196,11,11200,21,11212,null,null,0,2212]
[21,11457,21,11476,22,11490,23,11498,null,null,0,2222]
[21,11593,21,11597,22,11604,23,11612,null,null,0,2222]
[12,11708,23,11710,24,11712,23,11721,null,null,0,1222]
[21,11813,21,11819,11,11821,21,11827,null,null,0,2212]
[21,11951,21,11956,11,11960,21,11964,null,null,0,2212]
[21,12164,21,12169,22,12174,23,12186,null,null,0,2222]
[21,12283,12,12287,24,12292,23,12306,null,null,0,2122]
[21,12399,21,12402,11,12404,21,12410,null,null,0,2212]
[21,12566,21,12573,22,12585,23,12597,null,null,0,2222]
[12,12691,14,12693,24,12700,23,12713,null,null,0,1122]
[21,12805,21,12811,22,12815,14,12819,null,null,0,2221]
[21,12915,21,12918,22,12922,23,12926,null,null,0,2222]
[12,13021,23,13025,24,13031,23,13051,null,null,0,1222]
[21,13147,21,13151,11,13157,21,13159,null,null,0,2212]
[21,13392,12,13396,24,13408,23,13416,null,null,0,2122]
[21,13511,21,13516,22,13523,23,13530,null,null,0,2222]
[21,13626,12,13633,24,13643,23,13649,null,null,0,2122]
[21,13741,21,13745,22,13748,14,13751,null,null,0,2221]
[12,13845,23,13852,24,13856,23,13862,null,null,0,1222]
[21,13961,21,13965,22,13970,14,13975,null,null,0,2221]
[12,14067,23,14074,24,14078,23,14083,null,null,0,1222]
[21,14181,21,14184,11,14186,21,14192,null,null,0,2212]
[21,14390,21,14395,22,14403,23,14417,null,null,0,2222]
[12,14521,23,14536,24,14542,23,14551,null,null,0,1222]
[21,14646,21,14654,11,14662,21,14668,null,null,0,2212]
[12,14835,23,14844,13,14849,23,14853,null,null,0,1212]
[21,14958,21,14962,11,14967,21,14990,null,null,0,2212]
[12,15151,23,15175,24,15184,23,15194,null,null,0,1222]
[21,15290,21,15294,11,15298,21,15301,null,null,0,2212]
[21,15561,21,15568,11,15571,12,15582,null,null,0,2211]
[21,15678,21,15682,11,15684,21,15687,null,null,0,2212]
[21,15820,21,15827,11,15839,21,15853,null,null,0,2212]
[12,16035,14,16045,24,16054,23,16068,null,null,0,1122]
[21,16167,21,16170,22,16176,14,16179,null,null,0,2221]
[21,16276,12,16282,24,16289,23,16303,null,null,0,2122]
[12,16398,23,16400,24,16404,23,16409,null,null,0,1222]
[21,16501,12,16505,24,16507,23,16513,null,null,0,2122]
[21,16605,21,16611,22,16613,14,16616,null,null,0,2221]
[21,16711,21,16720,11,16724,21,16726,null,null,0,2212]
[12,16937,23,16942,24,16951,23,16963,null,null,0,1222]
[21,17060,21,17064,22,17070,14,17076,null,null,0,2221]
[21,17167,12,17170,24,17173,23,17178,null,null,0,2122]
[21,17273,21,17281,22,17287,23,17298,null,null,0,2222]
[21,17393,21,17396,22,17399,23,17405,null,null,0,2222]
[21,17503,21,17508,22,17514,23,17520,null,null,0,2222]
[21,17617,21,17622,11,17625,21,17629,null,null,0,2212]
[21,17798,12,17804,24,17810,23,17825,null,null,0,2122]
[12,17923,23,17931,24,17936,23,17943,null,null,0,1222]
[21,18042,21,18048,22,18055,23,18062,null,null,0,2222]
[21,18157,21,18160,11,18164,21,18167,null,null,0,2212]
[12,18292,23,18299,24,18307,23,18315,null,null,0,1222]
[21,18407,21,18411,22,18416,14,18420,null,null,0,2221]
[21,18517,21,18521,11,18524,21,18535,null,null,0,2212]
[21,18787,21,18799,22,18811,23,18824,null,null,0,2222]
[12,18916,23,18926,24,18934,23,18944,null,null,0,1222]
[12,19038,23,19040,24,19044,23,19052,null,null,0,1222]
[21,19145,21,19148,22,19153,23,19158,null,null,0,2222]
[21,19252,21,19256,22,19260,14,19267,null,null,0,2221]
[21,19363,12,19370,24,19375,23,19379,null,null,0,2122]
[21,19478,21,19482,11,19486,21,19488,null,null,0,2212]
[21,19690,12,19699,24,19706,23,19719,null,null,0,2122]
[21,19811,21,19817,22,19824,23,19831,null,null,0,2222]
[21,19928,21,19932,22,19936,23,19941,null,null,0,2222]
[21,20035,21,20042,22,20046,23,20052,null,null,0,2222]
[21,20147,21,20153,11,20154,21,20158,null,null,0,2212]
[21,20348,21,20352,11,20358,21,20364,null,null,0,2212]
[21,20585,21,20590,22,20596,23,20605,null,null,0,2222]
[21,20700,21,20706,11,20712,21,20719,null,null,0,2212]
[21,20819,21,20826,22,20833,23,20840,null,null,0,2222]
[12,20933,23,20940,24,20946,23,20953,null,null,0,1222]
[21,21049,21,21054,22,21059,23,21066,null,null,0,2222]
[21,21168,12,21172,24,21180,23,21190,null,null,0,2122]
[21,21285,21,21288,22,21293,14,21296,null,null,0,2221]
[21,21390,21,21395,22,21400,14,21403,null,null,0,2221]
[12,21497,23,21504,24,21508,23,21513,null,null,0,1222]
[21,21609,21,21612,11,21615,21,21617,null,null,0,2212]
[21,21761,12,21768,24,21776,23,21792,null,null,0,2122]
[21,21886,21,21892,22,21900,23,21908,null,null,0,2222]
[12,22002,23,22008,24,22011,23,22016,null,null,0,1222]
[21,22109,21,22112,22,22116,14,22120,null,null,0,2221]
[21,22216,21,22223,11,22226,21,22228,null,null,0,2212]
[21,22436,21,22451,22,22465,23,22473,null,null,0,2222]
[12,22567,23,22573,24,22579,23,22584,null,null,0,1222]
[12,22676,23,22690,24,22695,14,22700,null,null,0,1221]
[12,22794,23,22799,24,22804,23,22808,null,null,0,1222]
[21,22902,21,22905,11,22908,21,22911,null,null,0,2212]
[21,23046,21,23066,22,23074,23,23082,null,null,0,2222]
[21,23177,21,23181,11,23183,21,23190,null,null,0,2212]
[21,23338,12,23350,24,23352,23,23360,null,null,0,2122]
[12,23452,23,23463,24,23466,23,23478,null,null,0,1222]
[21,23574,12,23578,24,23587,23,23596,null,null,0,2122]
[21,23690,21,23692,22,23695,14,23698,null,null,0,2221]
[21,23793,21,23797,22,23802,23,23809,null,null,0,2222]
[21,23901,21,23907,22,23909,23,23918,null,null,null,2222]

{"sheet":"!M713B10.Gus","index":24,"n_rows":190,"n_cols":48,"rows_kept":190,"cut":false,"hidden":false,"merged":[[4,39,4,42],[5,39,5,40],[4,44,4,47],[5,44,5,45],[4,24,4,27],[5,24,5,25],[4,29,4,32],[5,29,5,30],[4,34,4,37],[5,34,5,35],[1,1,1,2],[5,13,5,14],[26,13,26,14],[27,13,27,14],[4,19,4,22],[5,19,5,20]]}
["Report for:!M713B10.Gus"]
["Date:","<date>"]
["Hen:","<hen>",null,null,null,"Correct Sequence",{"$f":"Start!J2","v":2212},null,null,null,null,null,null,null,null,"Total Sequences in Data",{"$f":"4994-COUNTBLANK(L7:L5000)","v":184},null,null,null,null,"Total Sequences in Block Data",{"$f":"COUNTA(L7:L37)","v":31},null,null,null,"Total Sequences in Block Data",{"$f":"COUNTA(L38:L67)","v":30},null,null,null,"Total Sequences in Block Data",{"$f":"COUNTA(L68:L98)","v":31},null,null,null,"Total Sequences in Block Data",{"$f":"COUNTA(L99:L129)","v":31},null,null,null,"Total Sequences in Block Data",{"$f":"COUNTA(L130:L159)","v":30},null,null,null,"Total Sequences in Block Data",{"$f":"COUNTA(L160:L190)","v":31}]
[null,null,null,null,null,null,null,null,null,null,null,null,null,null,null,"Total Sequences in Summary",{"$f":"SUM(O7:O22)","v":184},null,null,null,null,"Total Sequences in Block Summary",{"$f":"SUM(U7:U22)","v":31},null,null,null,"Total Sequences in Block Summary",{"$f":"SUM(Z7:Z22)","v":30},null,null,null,"Total Sequences in Block Summary",{"$f":"SUM(AE7:AE22)","v":31},null,null,null,"Total Sequences in Block Summary",{"$f":"SUM(AJ7:AJ22)","v":31},null,null,null,"Total Sequences in Block Summary",{"$f":"SUM(AO7:AO22)","v":30},null,null,null,"Total Sequences in Block Summary",{"$f":"SUM(AT7:AT22)","v":31}]
[null,null,null,null,null,null,null,null,null,null,null,null,null,null,null,null,null,null,null,"Block 1",null,null,null,null,"Block 2",null,null,null,null,"Block 3",null,null,null,null,"Block 4",null,null,null,null,"Block 5",null,null,null,null,"Block 6"]
["Sequence\nComponent\n1","Time\n1","Sequence\nComponent\n2","Time\n2","Sequence\nComponent\n3","Time\n3","Sequence\nComponent\n4","Time\n4","Sequence\nComponent\n5","Time\n5","Correct?\n0=No 1=Yes","Sequence",null,"Frequency",null,"Relative Frequency","Variability",null,null,"Frequency",null,"Relative Frequency","Variability",null,"Frequency",null,"Relative Frequency","Variability",null,"Frequency",null,"Relative Frequency","Variability",null,"Frequency",null,"Relative Frequency","Variability",null,"Frequency",null,"Relative Frequency","Variability",null,"Frequency",null,"Relative Frequency","Variability"]
[21,124,21,134,22,138,23,144,null,null,0,2222,null,1111,{"$f":"COUNTIF($L$7:$L$500,N7)","v":0},{"$f":"O7/$Q$4","v":0},{"$f":"IF(P7=0,0,(P7*((LOG(P7))/LOG(2))))","v":0},null,null,{"$f":"N7","v":1111},{"$f":"COUNTIF(L7:L37,T7)","v":0},{"$f":"U7/(W4-U20)","v":0},{"$f":"IF(V7=0,0,(V7*((LOG(V7))/LOG(2))))","v":0},null,{"$f":"N7","v":1111},{"$f":"COUNTIF(L38:L67,Y7)","v":0},{"$f":"Z7/(AB4-Z20)","v":0},{"$f":"IF(AA7=0,0,(AA7*((LOG(AA7))/LOG(2))))","v":0},null,{"$f":"N7","v":1111},{"$f":"COUNTIF(L68:L98,AD7)","v":0},{"$f":"AE7/(AG4-AE20)","v":0},{"$f":"IF(AF7=0,0,(AF7*((LOG(AF7))/LOG(2))))","v":0},null,{"$f":"N7","v":1111},{"$f":"COUNTIF(L99:L129,AI7)","v":0},{"$f":"AJ7/(AL4-AJ20)","v":0},{"$f":"IF(AK7=0,0,(AK7*((LOG(AK7))/LOG(2))))","v":0},null,{"$f":"N7","v":1111},{"$f":"COUNTIF(L130:L159,AN7)","v":0},{"$f":"AO7/(AQ4-AO20)","v":0},{"$f":"IF(AP7=0,0,(AP7*((LOG(AP7))/LOG(2))))","v":0},null,{"$f":"N7","v":1111},{"$f":"COUNTIF(L160:L190,AS7)","v":0},{"$f":"AT7/(AV4-AT20)","v":0},{"$f":"IF(AU7=0,0,(AU7*((LOG(AU7))/LOG(2))))","v":0}]
[21,244,12,246,24,251,23,261,null,null,0,2122,null,1112,{"$f":"COUNTIF($L$7:$L$500,N8)","v":0},{"$f":"O8/$Q$4","v":0},{"$f":"IF(P8=0,0,(P8*((LOG(P8))/LOG(2))))","v":0},null,null,{"$f":"N8","v":1112},{"$f":"COUNTIF(L7:L37,T8)","v":0},{"$f":"U8/(W4-U20)","v":0},{"$f":"IF(V8=0,0,(V8*((LOG(V8))/LOG(2))))","v":0},null,{"$f":"N8","v":1112},{"$f":"COUNTIF(L38:L67,Y8)","v":0},{"$f":"Z8/(AB4-Z20)","v":0},{"$f":"IF(AA8=0,0,(AA8*((LOG(AA8))/LOG(2))))","v":0},null,{"$f":"N8","v":1112},{"$f":"COUNTIF(L68:L98,AD8)","v":0},{"$f":"AE8/(AG4-AE20)","v":0},{"$f":"IF(AF8=0,0,(AF8*((LOG(AF8))/LOG(2))))","v":0},null,{"$f":"N8","v":1112},{"$f":"COUNTIF(L99:L129,AI8)","v":0},{"$f":"AJ8/(AL4-AJ20)","v":0},{"$f":"IF(AK8=0,0,(AK8*((LOG(AK8))/LOG(2))))","v":0},null,{"$f":"N8","v":1112},{"$f":"COUNTIF(L130:L159,AN8)","v":0},{"$f":"AO8/(AQ4-AO20)","v":0},{"$f":"IF(AP8=0,0,(AP8*((LOG(AP8))/LOG(2))))","v":0},null,{"$f":"N8","v":1112},{"$f":"COUNTIF(L160:L190,AS8)","v":0},{"$f":"AT8/(AV4-AT20)","v":0},{"$f":"IF(AU8=0,0,(AU8*((LOG(AU8))/LOG(2))))","v":0}]
[21,358,12,361,24,367,23,372,null,null,0,2122,null,1121,{"$f":"COUNTIF($L$7:$L$500,N9)","v":1},{"$f":"O9/$Q$4","v":5.434782608695652E-3},{"$f":"IF(P9=0,0,(P9*((LOG(P9))/LOG(2))))","v":-4.0888923674222893E-2},null,null,{"$f":"N9","v":1121},{"$f":"COUNTIF(L7:L37,T9)","v":0},{"$f":"U9/(W4-U20)","v":0},{"$f":"IF(V9=0,0,(V9*((LOG(V9))/LOG(2))))","v":0},null,{"$f":"N9","v":1121},{"$f":"COUNTIF(L38:L67,Y9)","v":0},{"$f":"Z9/(AB4-Z20)","v":0},{"$f":"IF(AA9=0,0,(AA9*((LOG(AA9))/LOG(2))))","v":0},null,{"$f":"N9","v":1121},{"$f":"COUNTIF(L68:L98,AD9)","v":1},{"$f":"AE9/(AG4-AE20)","v":3.8461538461538464E-2},{"$f":"IF(AF9=0,0,(AF9*((LOG(AF9))/LOG(2))))","v":-0.18078614300542661},null,{"$f":"N9","v":1121},{"$f":"COUNTIF(L99:L129,AI9)","v":0},{"$f":"AJ9/(AL4-AJ20)","v":0},{"$f":"IF(AK9=0,0,(AK9*((LOG(AK9))/LOG(2))))","v":0},null,{"$f":"N9","v":1121},{"$f":"COUNTIF(L130:L159,AN9)","v":0},{"$f":"AO9/(AQ4-AO20)","v":0},{"$f":"IF(AP9=0,0,(AP9*((LOG(AP9))/LOG(2))))","v":0},null,{"$f":"N9","v":1121},{"$f":"COUNTIF(L160:L190,AS9)","v":0},{"$f":"AT9/(AV4-AT20)","v":0},{"$f":"IF(AU9=0,0,(AU9*((LOG(AU9))/LOG(2))))","v":0}]
[21,471,21,478,22,481,23,490,null,null,0,2222,null,1122,{"$f":"COUNTIF($L$7:$L$500,N10)","v":1},{"$f":"O10/$Q$4","v":5.434782608695652E-3},{"$f":"IF(P10=0,0,(P10*((LOG(P10))/LOG(2))))","v":-4.0888923674222893E-2},null,null,{"$f":"N10","v":1122},{"$f":"COUNTIF(L7:L37,T10)","v":0},{"$f":"U10/(W4-U20)","v":0},{"$f":"IF(V10=0,0,(V10*((LOG(V10))/LOG(2))))","v":0},null,{"$f":"N10","v":1122},{"$f":"COUNTIF(L38:L67,Y10)","v":0},{"$f":"Z10/(AB4-Z20)","v":0},{"$f":"IF(AA10=0,0,(AA10*((LOG(AA10))/LOG(2))))","v":0},null,{"$f":"N10","v":1122},{"$f":"COUNTIF(L68:L98,AD10)","v":0},{"$f":"AE10/(AG4-AE20)","v":0},{"$f":"IF(AF10=0,0,(AF10*((LOG(AF10))/LOG(2))))","v":0},null,{"$f":"N10","v":1122},{"$f":"COUNTIF(L99:L129,AI10)","v":0},{"$f":"AJ10/(AL4-AJ20)","v":0},{"$f":"IF(AK10=0,0,(AK10*((LOG(AK10))/LOG(2))))","v":0},null,{"$f":"N10","v":1122},{"$f":"COUNTIF(L130:L159,AN10)","v":1},{"$f":"AO10/(AQ4-AO20)","v":3.7037037037037035E-2},{"$f":"IF(AP10=0,0,(AP10*((LOG(AP10))/LOG(2))))","v":-0.1761069445245729},null,{"$f":"N10","v":1122},{"$f":"COUNTIF(L160:L190,AS10)","v":0},{"$f":"AT10/(AV4-AT20)","v":0},{"$f":"IF(AU10=0,0,(AU10*((LOG(AU10))/LOG(2))))","v":0}]
[21,587,21,592,22,596,23,601,null,null,0,2222,null,1211,{"$f":"COUNTIF($L$7:$L$500,N11)","v":0},{"$f":"O11/$Q$4","v":0},{"$f":"IF(P11=0,0,(P11*((LOG(P11))/LOG(2))))","v":0},null,null,{"$f":"N11","v":1211},{"$f":"COUNTIF(L7:L37,T11)","v":0},{"$f":"U11/(W4-U20)","v":0},{"$f":"IF(V11=0,0,(V11*((LOG(V11))/LOG(2))))","v":0},null,{"$f":"N11","v":1211},{"$f":"COUNTIF(L38:L67,Y11)","v":0},{"$f":"Z11/(AB4-Z20)","v":0},{"$f":"IF(AA11=0,0,(AA11*((LOG(AA11))/LOG(2))))","v":0},null,{"$f":"N11","v":1211},{"$f":"COUNTIF(L68:L98,AD11)","v":0},{"$f":"AE11/(AG4-AE20)","v":0},{"$f":"IF(AF11=0,0,(AF11*((LOG(AF11))/LOG(2))))","v":0},null,{"$f":"N11","v":1211},{"$f":"COUNTIF(L99:L129,AI11)","v":0},{"$f":"AJ11/(AL4-AJ20)","v":0},{"$f":"IF(AK11=0,0,(AK11*((LOG(AK11))/LOG(2))))","v":0},null,{"$f":"N11","v":1211},{"$f":"COUNTIF(L130:L159,AN11)","v":0},{"$f":"AO11/(AQ4-AO20)","v":0},{"$f":"IF(AP11=0,0,(AP11*((LOG(AP11))/LOG(2))))","v":0},null,{"$f":"N11","v":1211},{"$f":"COUNTIF(L160:L190,AS11)","v":0},{"$f":"AT11/(AV4-AT20)","v":0},{"$f":"IF(AU11=0,0,(AU11*((LOG(AU11))/LOG(2))))","v":0}]
[21,698,12,701,24,706,23,711,null,null,0,2122,null,1212,{"$f":"COUNTIF($L$7:$L$500,N12)","v":6},{"$f":"O12/$Q$4","v":3.2608695652173912E-2},{"$f":"IF(P12=0,0,(P12*((LOG(P12))/LOG(2))))","v":-0.16104128658703878},null,null,{"$f":"N12","v":1212},{"$f":"COUNTIF(L7:L37,T12)","v":1},{"$f":"U12/(W4-U20)","v":3.7037037037037035E-2},{"$f":"IF(V12=0,0,(V12*((LOG(V12))/LOG(2))))","v":-0.1761069445245729},null,{"$f":"N12","v":1212},{"$f":"COUNTIF(L38:L67,Y12)","v":1},{"$f":"Z12/(AB4-Z20)","v":4.3478260869565216E-2},{"$f":"IF(AA12=0,0,(AA12*((LOG(AA12))/LOG(2))))","v":-0.19667660678508753},null,{"$f":"N12","v":1212},{"$f":"COUNTIF(L68:L98,AD12)","v":2},{"$f":"AE12/(AG4-AE20)","v":7.6923076923076927E-2},{"$f":"IF(AF12=0,0,(AF12*((LOG(AF12))/LOG(2))))","v":-0.28464920908777636},null,{"$f":"N12","v":1212},{"$f":"COUNTIF(L99:L129,AI12)","v":1},{"$f":"AJ12/(AL4-AJ20)","v":0.04},{"$f":"IF(AK12=0,0,(AK12*((LOG(AK12))/LOG(2))))","v":-0.18575424759098899},null,{"$f":"N12","v":1212},{"$f":"COUNTIF(L130:L159,AN12)","v":0},{"$f":"AO12/(AQ4-AO20)","v":0},{"$f":"IF(AP12=0,0,(AP12*((LOG(AP12))/LOG(2))))","v":0},null,{"$f":"N12","v":1212},{"$f":"COUNTIF(L160:L190,AS12)","v":1},{"$f":"AT12/(AV4-AT20)","v":4.1666666666666664E-2},{"$f":"IF(AU12=0,0,(AU12*((LOG(AU12))/LOG(2))))","v":-0.19104010419671485}]
[21,810,21,814,22,820,23,828,null,null,0,2222,null,1221,{"$f":"COUNTIF($L$7:$L$500,N13)","v":7},{"$f":"O13/$Q$4","v":3.8043478260869568E-2},{"$f":"IF(P13=0,0,(P13*((LOG(P13))/LOG(2))))","v":-0.17942091977171665},null,null,{"$f":"N13","v":1221},{"$f":"COUNTIF(L7:L37,T13)","v":1},{"$f":"U13/(W4-U20)","v":3.7037037037037035E-2},{"$f":"IF(V13=0,0,(V13*((LOG(V13))/LOG(2))))","v":-0.1761069445245729},null,{"$f":"N13","v":1221},{"$f":"COUNTIF(L38:L67,Y13)","v":1},{"$f":"Z13/(AB4-Z20)","v":4.3478260869565216E-2},{"$f":"IF(AA13=0,0,(AA13*((LOG(AA13))/LOG(2))))","v":-0.19667660678508753},null,{"$f":"N13","v":1221},{"$f":"COUNTIF(L68:L98,AD13)","v":0},{"$f":"AE13/(AG4-AE20)","v":0},{"$f":"IF(AF13=0,0,(AF13*((LOG(AF13))/LOG(2))))","v":0},null,{"$f":"N13","v":1221},{"$f":"COUNTIF(L99:L129,AI13)","v":1},{"$f":"AJ13/(AL4-AJ20)","v":0.04},{"$f":"IF(AK13=0,0,(AK13*((LOG(AK13))/LOG(2))))","v":-0.18575424759098899},null,{"$f":"N13","v":1221},{"$f":"COUNTIF(L130:L159,AN13)","v":3},{"$f":"AO13/(AQ4-AO20)","v":0.1111111111111111},{"$f":"IF(AP13=0,0,(AP13*((LOG(AP13))/LOG(2))))","v":-0.3522138890491458},null,{"$f":"N13","v":1221},{"$f":"COUNTIF(L160:L190,AS13)","v":1},{"$f":"AT13/(AV4-AT20)","v":4.1666666666666664E-2},{"$f":"IF(AU13=0,0,(AU13*((LOG(AU13))/LOG(2))))","v":-0.19104010419671485}]
[21,927,12,931,24,935,23,939,null,null,0,2122,null,1222,{"$f":"COUNTIF($L$7:$L$500,N14)","v":31},{"$f":"O14/$Q$4","v":0.16847826086956522},{"$f":"IF(P14=0,0,(P14*((LOG(P14))/LOG(2))))","v":-0.43288225552051235},null,null,{"$f":"N14","v":1222},{"$f":"COUNTIF(L7:L37,T14)","v":4},{"$f":"U14/(W4-U20)","v":0.14814814814814814},{"$f":"IF(V14=0,0,(V14*((LOG(V14))/LOG(2))))","v":-0.40813148180199532},null,{"$f":"N14","v":1222},{"$f":"COUNTIF(L38:L67,Y14)","v":3},{"$f":"Z14/(AB4-Z20)","v":0.13043478260869565},{"$f":"IF(AA14=0,0,(AA14*((LOG(AA14))/LOG(2))))","v":-0.3832955811307639},null,{"$f":"N14","v":1222},{"$f":"COUNTIF(L68:L98,AD14)","v":8},{"$f":"AE14/(AG4-AE20)","v":0.30769230769230771},{"$f":"IF(AF14=0,0,(AF14*((LOG(AF14))/LOG(2))))","v":-0.52321222096648989},null,{"$f":"N14","v":1222},{"$f":"COUNTIF(L99:L129,AI14)","v":5},{"$f":"AJ14/(AL4-AJ20)","v":0.2},{"$f":"IF(AK14=0,0,(AK14*((LOG(AK14))/LOG(2))))","v":-0.46438561897747244},null,{"$f":"N14","v":1222},{"$f":"COUNTIF(L130:L159,AN14)","v":6},{"$f":"AO14/(AQ4-AO20)","v":0.22222222222222221},{"$f":"IF(AP14=0,0,(AP14*((LOG(AP14))/LOG(2))))","v":-0.48220555587606945},null,{"$f":"N14","v":1222},{"$f":"COUNTIF(L160:L190,AS14)","v":5},{"$f":"AT14/(AV4-AT20)","v":0.20833333333333334},{"$f":"IF(AU14=0,0,(AU14*((LOG(AU14))/LOG(2))))","v":-0.47146550121537367}]
[12,1031,23,1040,13,1043,23,1050,null,null,0,1212,null,2111,{"$f":"COUNTIF($L$7:$L$500,N15)","v":0},{"$f":"O15/$Q$4","v":0},{"$f":"IF(P15=0,0,(P15*((LOG(P15))/LOG(2))))","v":0},null,null,{"$f":"N15","v":2111},{"$f":"COUNTIF(L7:L37,T15)","v":0},{"$f":"U15/(W4-U20)","v":0},{"$f":"IF(V15=0,0,(V15*((LOG(V15))/LOG(2))))","v":0},null,{"$f":"N15","v":2111},{"$f":"COUNTIF(L38:L67,Y15)","v":0},{"$f":"Z15/(AB4-Z20)","v":0},{"$f":"IF(AA15=0,0,(AA15*((LOG(AA15))/LOG(2))))","v":0},null,{"$f":"N15","v":2111},{"$f":"COUNTIF(L68:L98,AD15)","v":0},{"$f":"AE15/(AG4-AE20)","v":0},{"$f":"IF(AF15=0,0,(AF15*((LOG(AF15))/LOG(2))))","v":0},null,{"$f":"N15","v":2111},{"$f":"COUNTIF(L99:L129,AI15)","v":0},{"$f":"AJ15/(AL4-AJ20)","v":0},{"$f":"IF(AK15=0,0,(AK15*((LOG(AK15))/LOG(2))))","v":0},null,{"$f":"N15","v":2111},{"$f":"COUNTIF(L130:L159,AN15)","v":0},{"$f":"AO15/(AQ4-AO20)","v":0},{"$f":"IF(AP15=0,0,(AP15*((LOG(AP15))/LOG(2))))","v":0},null,{"$f":"N15","v":2111},{"$f":"COUNTIF(L160:L190,AS15)","v":0},{"$f":"AT15/(AV4-AT20)","v":0},{"$f":"IF(AU15=0,0,(AU15*((LOG(AU15))/LOG(2))))","v":0}]
[21,1147,12,1152,24,1158,23,1165,null,null,0,2122,null,2112,{"$f":"COUNTIF($L$7:$L$500,N16)","v":0},{"$f":"O16/$Q$4","v":0},{"$f":"IF(P16=0,0,(P16*((LOG(P16))/LOG(2))))","v":0},null,null,{"$f":"N16","v":2112},{"$f":"COUNTIF(L7:L37,T16)","v":0},{"$f":"U16/(W4-U20)","v":0},{"$f":"IF(V16=0,0,(V16*((LOG(V16))/LOG(2))))","v":0},null,{"$f":"N16","v":2112},{"$f":"COUNTIF(L38:L67,Y16)","v":0},{"$f":"Z16/(AB4-Z20)","v":0},{"$f":"IF(AA16=0,0,(AA16*((LOG(AA16))/LOG(2))))","v":0},null,{"$f":"N16","v":2112},{"$f":"COUNTIF(L68:L98,AD16)","v":0},{"$f":"AE16/(AG4-AE20)","v":0},{"$f":"IF(AF16=0,0,(AF16*((LOG(AF16))/LOG(2))))","v":0},null,{"$f":"N16","v":2112},{"$f":"COUNTIF(L99:L129,AI16)","v":0},{"$f":"AJ16/(AL4-AJ20)","v":0},{"$f":"IF(AK16=0,0,(AK16*((LOG(AK16))/LOG(2))))","v":0},null,{"$f":"N16","v":2112},{"$f":"COUNTIF(L130:L159,AN16)","v":0},{"$f":"AO16/(AQ4-AO20)","v":0},{"$f":"IF(AP16=0,0,(AP16*((LOG(AP16))/LOG(2))))","v":0},null,{"$f":"N16","v":2112},{"$f":"COUNTIF(L160:L190,AS16)","v":0},{"$f":"AT16/(AV4-AT20)","v":0},{"$f":"IF(AU16=0,0,(AU16*((LOG(AU16))/LOG(2))))","v":0}]
[21,1264,12,1268,24,1272,23,1277,null,null,0,2122,null,2121,{"$f":"COUNTIF($L$7:$L$500,N17)","v":3},{"$f":"O17/$Q$4","v":1.6304347826086956E-2},{"$f":"IF(P17=0,0,(P17*((LOG(P17))/LOG(2))))","v":-9.6824991119606366E-2},null,null,{"$f":"N17","v":2121},{"$f":"COUNTIF(L7:L37,T17)","v":0},{"$f":"U17/(W4-U20)","v":0},{"$f":"IF(V17=0,0,(V17*((LOG(V17))/LOG(2))))","v":0},null,{"$f":"N17","v":2121},{"$f":"COUNTIF(L38:L67,Y17)","v":1},{"$f":"Z17/(AB4-Z20)","v":4.3478260869565216E-2},{"$f":"IF(AA17=0,0,(AA17*((LOG(AA17))/LOG(2))))","v":-0.19667660678508753},null,{"$f":"N17","v":2121},{"$f":"COUNTIF(L68:L98,AD17)","v":0},{"$f":"AE17/(AG4-AE20)","v":0},{"$f":"IF(AF17=0,0,(AF17*((LOG(AF17))/LOG(2))))","v":0},null,{"$f":"N17","v":2121},{"$f":"COUNTIF(L99:L129,AI17)","v":1},{"$f":"AJ17/(AL4-AJ20)","v":0.04},{"$f":"IF(AK17=0,0,(AK17*((LOG(AK17))/LOG(2))))","v":-0.18575424759098899},null,{"$f":"N17","v":2121},{"$f":"COUNTIF(L130:L159,AN17)","v":0},{"$f":"AO17/(AQ4-AO20)","v":0},{"$f":"IF(AP17=0,0,(AP17*((LOG(AP17))/LOG(2))))","v":0},null,{"$f":"N17","v":2121},{"$f":"COUNTIF(L160:L190,AS17)","v":1},{"$f":"AT17/(AV4-AT20)","v":4.1666666666666664E-2},{"$f":"IF(AU17=0,0,(AU17*((LOG(AU17))/LOG(2))))","v":-0.19104010419671485}]
[12,1369,23,1378,24,1382,23,1387,null,null,0,1222,null,2122,{"$f":"COUNTIF($L$7:$L$500,N18)","v":39},{"$f":"O18/$Q$4","v":0.21195652173913043},{"$f":"IF(P18=0,0,(P18*((LOG(P18))/LOG(2))))","v":-0.4743925529923686},null,null,{"$f":"N18","v":2122},{"$f":"COUNTIF(L7:L37,T18)","v":11},{"$f":"U18/(W4-U20)","v":0.40740740740740738},{"$f":"IF(V18=0,0,(V18*((LOG(V18))/LOG(2))))","v":-0.52777832291806981},null,{"$f":"N18","v":2122},{"$f":"COUNTIF(L38:L67,Y18)","v":8},{"$f":"Z18/(AB4-Z20)","v":0.34782608695652173},{"$f":"IF(AA18=0,0,(AA18*((LOG(AA18))/LOG(2))))","v":-0.52993459341113491},null,{"$f":"N18","v":2122},{"$f":"COUNTIF(L68:L98,AD18)","v":4},{"$f":"AE18/(AG4-AE20)","v":0.15384615384615385},{"$f":"IF(AF18=0,0,(AF18*((LOG(AF18))/LOG(2))))","v":-0.4154522643293988},null,{"$f":"N18","v":2122},{"$f":"COUNTIF(L99:L129,AI18)","v":5},{"$f":"AJ18/(AL4-AJ20)","v":0.2},{"$f":"IF(AK18=0,0,(AK18*((LOG(AK18))/LOG(2))))","v":-0.46438561897747244},null,{"$f":"N18","v":2122},{"$f":"COUNTIF(L130:L159,AN18)","v":5},{"$f":"AO18/(AQ4-AO20)","v":0.18518518518518517},{"$f":"IF(AP18=0,0,(AP18*((LOG(AP18))/LOG(2))))","v":-0.45054803838446406},null,{"$f":"N18","v":2122},{"$f":"COUNTIF(L160:L190,AS18)","v":6},{"$f":"AT18/(AV4-AT20)","v":0.25},{"$f":"IF(AU18=0,0,(AU18*((LOG(AU18))/LOG(2))))","v":-0.5}]
[21,1483,12,1489,24,1492,23,1496,null,null,0,2122,null,2211,{"$f":"COUNTIF($L$7:$L$500,N19)","v":1},{"$f":"O19/$Q$4","v":5.434782608695652E-3},{"$f":"IF(P19=0,0,(P19*((LOG(P19))/LOG(2))))","v":-4.0888923674222893E-2},null,null,{"$f":"N19","v":2211},{"$f":"COUNTIF(L7:L37,T19)","v":0},{"$f":"U19/(W4-U20)","v":0},{"$f":"IF(V19=0,0,(V19*((LOG(V19))/LOG(2))))","v":0},null,{"$f":"N19","v":2211},{"$f":"COUNTIF(L38:L67,Y19)","v":0},{"$f":"Z19/(AB4-Z20)","v":0},{"$f":"IF(AA19=0,0,(AA19*((LOG(AA19))/LOG(2))))","v":0},null,{"$f":"N19","v":2211},{"$f":"COUNTIF(L68:L98,AD19)","v":0},{"$f":"AE19/(AG4-AE20)","v":0},{"$f":"IF(AF19=0,0,(AF19*((LOG(AF19))/LOG(2))))","v":0},null,{"$f":"N19","v":2211},{"$f":"COUNTIF(L99:L129,AI19)","v":0},{"$f":"AJ19/(AL4-AJ20)","v":0},{"$f":"IF(AK19=0,0,(AK19*((LOG(AK19))/LOG(2))))","v":0},null,{"$f":"N19","v":2211},{"$f":"COUNTIF(L130:L159,AN19)","v":1},{"$f":"AO19/(AQ4-AO20)","v":3.7037037037037035E-2},{"$f":"IF(AP19=0,0,(AP19*((LOG(AP19))/LOG(2))))","v":-0.1761069445245729},null,{"$f":"N19","v":2211},{"$f":"COUNTIF(L160:L190,AS19)","v":0},{"$f":"AT19/(AV4-AT20)","v":0},{"$f":"IF(AU19=0,0,(AU19*((LOG(AU19))/LOG(2))))","v":0}]
[21,1593,21,1596,22,1600,23,1604,null,null,0,2222,null,2212,{"$f":"COUNTIF($L$7:$L$500,N20)","v":32},{"$f":"O20/$Q$4","v":0.17391304347826086},{"$f":"IF(P20=0,0,(P20*((LOG(P20))/LOG(2))))","v":-0.43888034018382832},null,null,{"$f":"N20","v":2212},{"$f":"COUNTIF(L7:L37,T20)","v":4},null,null,null,{"$f":"N20","v":2212},{"$f":"COUNTIF(L38:L67,Y20)","v":7},null,null,null,{"$f":"N20","v":2212},{"$f":"COUNTIF(L68:L98,AD20)","v":5},null,null,null,{"$f":"N20","v":2212},{"$f":"COUNTIF(L99:L129,AI20)","v":6},null,null,null,{"$f":"N20","v":2212},{"$f":"COUNTIF(L130:L159,AN20)","v":3},null,null,null,{"$f":"N20","v":2212},{"$f":"COUNTIF(L160:L190,AS20)","v":7}]
[21,1698,21,1702,22,1704,23,1709,null,null,0,2222,null,2221,{"$f":"COUNTIF($L$7:$L$500,N21)","v":12},{"$f":"O21/$Q$4","v":6.5217391304347824E-2},{"$f":"IF(P21=0,0,(P21*((LOG(P21))/LOG(2))))","v":-0.25686518186972979},null,null,{"$f":"N21","v":2221},{"$f":"COUNTIF(L7:L37,T21)","v":1},{"$f":"U21/(W4-U20)","v":3.7037037037037035E-2},{"$f":"IF(V21=0,0,(V21*((LOG(V21))/LOG(2))))","v":-0.1761069445245729},null,{"$f":"N21","v":2221},{"$f":"COUNTIF(L38:L67,Y21)","v":1},{"$f":"Z21/(AB4-Z20)","v":4.3478260869565216E-2},{"$f":"IF(AA21=0,0,(AA21*((LOG(AA21))/LOG(2))))","v":-0.19667660678508753},null,{"$f":"N21","v":2221},{"$f":"COUNTIF(L68:L98,AD21)","v":2},{"$f":"AE21/(AG4-AE20)","v":7.6923076923076927E-2},{"$f":"IF(AF21=0,0,(AF21*((LOG(AF21))/LOG(2))))","v":-0.28464920908777636},null,{"$f":"N21","v":2221},{"$f":"COUNTIF(L99:L129,AI21)","v":3},{"$f":"AJ21/(AL4-AJ20)","v":0.12},{"$f":"IF(AK21=0,0,(AK21*((LOG(AK21))/LOG(2))))","v":-0.36706724268642821},null,{"$f":"N21","v":2221},{"$f":"COUNTIF(L130:L159,AN21)","v":4},{"$f":"AO21/(AQ4-AO20)","v":0.14814814814814814},{"$f":"IF(AP21=0,0,(AP21*((LOG(AP21))/LOG(2))))","v":-0.40813148180199532},null,{"$f":"N21","v":2221},{"$f":"COUNTIF(L160:L190,AS21)","v":1},{"$f":"AT21/(AV4-AT20)","v":4.1666666666666664E-2},{"$f":"IF(AU21=0,0,(AU21*((LOG(AU21))/LOG(2))))","v":-0.19104010419671485}]
[21,1807,12,1810,24,1814,23,1819,null,null,0,2122,null,2222,{"$f":"COUNTIF($L$7:$L$500,N22)","v":51},{"$f":"O22/$Q$4","v":0.27717391304347827},{"$f":"IF(P22=0,0,(P22*((LOG(P22))/LOG(2))))","v":-0.5130867789041379},null,null,{"$f":"N22","v":2222},{"$f":"COUNTIF(L7:L37,T22)","v":9},{"$f":"U22/(W4-U20)","v":0.33333333333333331},{"$f":"IF(V22=0,0,(V22*((LOG(V22))/LOG(2))))","v":-0.52832083357371862},null,{"$f":"N22","v":2222},{"$f":"COUNTIF(L38:L67,Y22)","v":8},{"$f":"Z22/(AB4-Z20)","v":0.34782608695652173},{"$f":"IF(AA22=0,0,(AA22*((LOG(AA22))/LOG(2))))","v":-0.52993459341113491},null,{"$f":"N22","v":2222},{"$f":"COUNTIF(L68:L98,AD22)","v":9},{"$f":"AE22/(AG4-AE20)","v":0.34615384615384615},{"$f":"IF(AF22=0,0,(AF22*((LOG(AF22))/LOG(2))))","v":-0.52979355578034681},null,{"$f":"N22","v":2222},{"$f":"COUNTIF(L99:L129,AI22)","v":9},{"$f":"AJ22/(AL4-AJ20)","v":0.36},{"$f":"IF(AK22=0,0,(AK22*((LOG(AK22))/LOG(2))))","v":-0.53061522779966841},null,{"$f":"N22","v":2222},{"$f":"COUNTIF(L130:L159,AN22)","v":7},{"$f":"AO22/(AQ4-AO20)","v":0.25925925925925924},{"$f":"IF(AP22=0,0,(AP22*((LOG(AP22))/LOG(2))))","v":-0.5049158541015204},null,{"$f":"N22","v":2222},{"$f":"COUNTIF(L160:L190,AS22)","v":9},{"$f":"AT22/(AV4-AT20)","v":0.375},{"$f":"IF(AU22=0,0,(AU22*((LOG(AU22))/LOG(2))))","v":-0.53063906222956647}]
[12,1913,23,1921,24,1925,23,1930,null,null,0,1222,null,null,null,{"$f":"SUM(P7:P22)","v":1},{"$f":"-SUM(Q7:Q22)","v":2.6760610779716076},null,null,null,null,{"$f":"SUM(V7:V22)","v":0.99999999999999978},{"$f":"-SUM(W7:W22)","v":1.9925514718675026},null,null,null,{"$f":"SUM(AA7:AA22)","v":1},{"$f":"-SUM(AB7:AB22)","v":2.2298711950933838},null,null,null,{"$f":"SUM(AF7:AF22)","v":1},{"$f":"-SUM(AG7:AG22)","v":2.218542602257215},null,null,null,{"$f":"SUM(AK7:AK22)","v":1},{"$f":"-SUM(AL7:AL22)","v":2.3837164512140085},null,null,null,{"$f":"SUM(AP7:AP22)","v":1},{"$f":"-SUM(AQ7:AQ22)","v":2.5502287082623409},null,null,null,{"$f":"SUM(AU7:AU22)","v":1},{"$f":"-SUM(AV7:AV22)","v":2.2662649802317993}]
[21,2043,12,2049,24,2056,23,2063,null,null,0,2122,null,null,null,"U=",{"$f":"Q23/(LOG(Q4)/LOG(2))","v":0.35569070788566903},null,null,null,null,"U1=",{"$f":"W23/(LOG(W4)/LOG(2))","v":0.40219469456427404},null,null,null,"U2=",{"$f":"AB23/(LOG(AB4)/LOG(2))","v":0.45443670520981944},null,null,null,"U3=",{"$f":"AG23/(LOG(AG4)/LOG(2))","v":0.44781079780909372},null,null,null,"U4=",{"$f":"AL23/(LOG(AL4)/LOG(2))","v":0.48115098834827225},null,null,null,"U5=",{"$f":"AQ23/(LOG(AQ4)/LOG(2))","v":0.51972397969188455},null,null,null,"U6=",{"$f":"AV23/(LOG(AV4)/LOG(2))","v":0.45744351621278928}]
[12,2170,23,2175,24,2180,23,2187,null,null,0,1222]
[12,2280,23,2289,24,2292,14,2296,null,null,0,1221]
[12,2389,23,2399,24,2401,23,2407,null,null,0,1222,null,"Total Target Seq"]
[21,2504,21,2509,22,2513,23,2519,null,null,0,2222,null,{"$f":"COUNTIF(L7:L190,G3)","v":32},null,31,30,31,31,30,31]
[21,2617,21,2619,22,2625,14,2630,null,null,0,2221,null,null,null,"% of reinforcement given in 6 equal intervals based on number of trials "]
[21,2727,21,2731,11,2733,21,2736,null,null,0,2212,null,null,null,"%_1","%_2","%_3","%_4","%_5","%_6"]
[21,3184,21,3187,22,3192,23,3196,null,null,0,2222,null,null,"target sequence",{"$f":"$G$3","v":2212},{"$f":"$G$3","v":2212},{"$f":"$G$3","v":2212},{"$f":"$G$3","v":2212},{"$f":"$G$3","v":2212},{"$f":"$G$3","v":2212}]
[21,3293,12,3296,24,3301,23,3307,null,null,0,2122,null,null,"total reinforcement",{"$f":"U20","v":4},{"$f":"Z20","v":7},{"$f":"AE20","v":5},{"$f":"AJ20","v":6},{"$f":"AO20","v":3},{"$f":"AT20","v":7}]
[21,3411,12,3413,24,3419,23,3426,null,null,0,2122,null,null,"% target"]
[21,3594,21,3605,22,3614,23,3622,null,null,0,2222,null,null,"CCRF"]
[21,3718,21,3722,11,3726,21,3728,null,null,0,2212,null,null,"% CCRf"]
[21,3885,21,3898,11,3905,21,3912,null,null,0,2212,null,null,"average response rate",{"$f":"H37/P28","v":133.83870967741936},{"$f":"(H67-H37)/Q28","v":138.5},{"$f":"(H98-H67)/R28","v":126.96774193548387},{"$f":"(H129-H98)/S28","v":131.67741935483872},{"$f":"(H159-H129)/T28","v":121.4},{"$f":"(H190-H159)/U28","v":129.70967741935485}]
[21,4124,21,4130,11,4141,21,4149,null,null,0,2212]
[21,4296,21,4303,22,4311,23,4320,null,null,0,2222]
[21,4423,21,4428,11,4430,21,4433,null,null,0,2212]
[21,4552,21,4559,22,4564,23,4571,null,null,0,2222]
[21,4682,21,4699,22,4712,23,4724,null,null,0,2222]
[21,4827,12,4830,24,4835,23,4842,null,null,0,2122]
[21,4941,12,4946,24,4948,23,4953,null,null,0,2122]
[21,5048,21,5052,11,5054,21,5056,null,null,0,2212]
[21,5176,12,5181,24,5188,23,5195,null,null,0,2122]
[21,5290,21,5296,22,5302,23,5309,null,null,0,2222]
[21,5406,21,5410,11,5411,21,5414,null,null,0,2212]
[21,5781,12,5783,24,5790,14,5792,null,null,0,2121]
[12,5885,23,5887,24,5891,23,5898,null,null,0,1222]
[12,5991,23,5994,24,6002,23,6010,null,null,0,1222]
[21,6106,12,6109,24,6112,23,6120,null,null,0,2122]
[21,6216,21,6218,22,6220,14,6223,null,null,0,2221]
[21,6318,21,6321,11,6324,21,6326,null,null,0,2212]
[21,6520,12,6526,24,6528,23,6546,null,null,0,2122]
[21,6641,21,6645,22,6650,23,6656,null,null,0,2222]
[21,6752,21,6754,22,6758,23,6766,null,null,0,2222]
[12,6859,23,6867,24,6872,23,6876,null,null,0,1222]
[21,6968,12,6970,24,6977,23,6988,null,null,0,2122]
[21,7083,12,7090,24,7098,23,7104,null,null,0,2122]
[12,7198,23,7206,24,7209,14,7213,null,null,0,1221]
[12,7305,23,7315,13,7318,23,7325,null,null,0,1212]
[21,7421,21,7425,11,7429,21,7443,null,null,0,2212]
[21,7790,21,7796,22,7810,23,7827,null,null,0,2222]
[21,7945,12,7949,24,7950,23,7957,null,null,0,2122]
[21,8055,21,8058,22,8062,23,8068,null,null,0,2222]
[21,8163,21,8167,11,8172,21,8175,null,null,0,2212]
[21,8292,21,8297,11,8301,21,8304,null,null,0,2212]
[21,8456,21,8463,22,8471,23,8483,null,null,0,2222]
[21,8580,21,8585,22,8591,23,8598,null,null,0,2222]
[12,8693,23,8697,24,8703,23,8712,null,null,0,1222]
[12,8805,23,8812,13,8823,23,8830,null,null,0,1212]
[21,8925,21,8928,11,8932,21,8937,null,null,0,2212]
[21,9127,21,9152,22,9160,23,9168,null,null,0,2222]
[21,9264,21,9268,11,9271,21,9273,null,null,0,2212]
[12,9385,23,9387,24,9398,23,9405,null,null,0,1222]
[21,9500,21,9502,11,9505,21,9508,null,null,0,2212]
[12,9721,23,9729,24,9737,23,9744,null,null,0,1222]
[21,9840,21,9846,22,9852,23,9864,null,null,0,2222]
[21,9963,21,9967,11,9969,21,9974,null,null,0,2212]
[21,10227,12,10234,24,10236,23,10243,null,null,0,2122]
[21,10335,21,10341,22,10348,23,10355,null,null,0,2222]
[12,10448,23,10455,24,10459,23,10465,null,null,0,1222]
[21,10561,12,10565,24,10573,23,10583,null,null,0,2122]
[12,10677,23,10681,24,10683,23,10688,null,null,0,1222]
[21,10783,21,10789,22,10796,14,10800,null,null,0,2221]
[12,10896,23,10901,13,10904,23,10910,null,null,0,1212]
[12,11002,23,11004,24,11016,23,11023,null,null,0,1222]
[12,11118,14,11120,24,11126,14,11129,null,null,0,1121]
[21,11223,21,11229,22,11235,23,11244,null,null,0,2222]
[21,11341,12,11344,24,11347,23,11351,null,null,0,2122]
[21,11446,21,11452,22,11458,23,11465,null,null,0,2222]
[21,11559,21,11563,22,11568,14,11573,null,null,0,2221]
[21,11669,21,11672,22,11675,23,11680,null,null,0,2222]
[21,11777,21,11779,22,11784,23,11789,null,null,0,2222]
[12,11883,23,11892,24,11897,23,11904,null,null,0,1222]
[21,11996,12,12000,24,12009,23,12017,null,null,0,2122]
[12,12112,23,12115,24,12119,23,12126,null,null,0,1222]
[21,12221,21,12227,11,12230,21,12240,null,null,0,2212]
[21,12389,21,12397,22,12403,23,12412,null,null,0,2222]
[21,12506,12,12509,24,12511,23,12524,null,null,0,2122]
[21,12618,21,12623,22,12627,23,12634,null,null,0,2222]
[21,12728,21,12731,22,12736,14,12743,null,null,0,2221]
[21,12838,21,12840,22,12844,23,12849,null,null,0,2222]
[21,12942,21,12946,22,12951,23,12956,null,null,0,2222]
[21,13048,21,13051,22,13054,23,13059,null,null,0,2222]
[12,13153,23,13165,13,13168,23,13169,null,null,0,1212]
[21,13267,21,13271,11,13274,21,13276,null,null,0,2212]
[21,13407,12,13415,24,13423,23,13431,null,null,0,2122]
[21,13570,21,13578,22,13591,23,13598,null,null,0,2222]
[21,13693,21,13696,11,13700,21,13706,null,null,0,2212]
[12,14058,23,14061,24,14071,23,14079,null,null,0,1222]
[21,14179,21,14184,11,14187,21,14198,null,null,0,2212]
[21,14327,21,14335,22,14343,23,14350,null,null,0,2222]
[21,14445,21,14450,11,14455,21,14467,null,null,0,2212]
[12,14681,23,14689,24,14703,23,14711,null,null,0,1222]
[12,14803,23,14806,24,14812,23,14818,null,null,0,1222]
[21,14917,21,14922,11,14924,21,14927,null,null,0,2212]
[21,15031,12,15034,24,15042,23,15049,null,null,0,2122]
[21,15142,12,15145,24,15149,23,15155,null,null,0,2122]
[21,15249,21,15256,22,15264,23,15272,null,null,0,2222]
[12,15364,23,15373,24,15378,23,15382,null,null,0,1222]
[21,15478,21,15483,22,15490,14,15494,null,null,0,2221]
[21,15590,21,15594,11,15599,21,15603,null,null,0,2212]
[21,15736,12,15743,24,15750,23,15758,null,null,0,2122]
[21,15858,21,15860,22,15863,23,15867,null,null,0,2222]
[12,15966,23,15975,24,15981,23,15989,null,null,0,1222]
[21,16088,12,16091,24,16098,14,16105,null,null,0,2121]
[21,16204,21,16211,22,16216,14,16218,null,null,0,2221]
[12,16313,23,16317,24,16320,14,16322,null,null,0,1221]
[21,16415,21,16417,22,16422,14,16424,null,null,0,2221]
[12,16520,23,16525,24,16533,14,16536,null,null,0,1221]
[21,16631,21,16634,22,16639,23,16645,null,null,0,2222]
[21,16742,21,16747,22,16750,23,16757,null,null,0,2222]
[12,16849,23,16858,24,16864,23,16869,null,null,0,1222]
[21,16965,12,16972,24,16977,23,16986,null,null,0,2122]
[21,17082,21,17086,11,17089,21,17095,null,null,0,2212]
[21,17427,21,17436,11,17440,12,17445,null,null,0,2211]
[12,17540,23,17544,24,17550,23,17559,null,null,0,1222]
[21,17653,21,17654,11,17660,21,17667,null,null,0,2212]
[21,17771,21,17777,22,17785,23,17792,null,null,0,2222]
[21,17886,21,17889,22,17891,23,17896,null,null,0,2222]
[21,17988,21,17992,22,17996,14,18000,null,null,0,2221]
[21,18095,21,18098,22,18103,23,18112,null,null,0,2222]
[21,18209,21,18213,11,18218,21,18226,null,null,0,2212]
[21,18369,12,18375,24,18390,23,18397,null,null,0,2122]
[12,18489,23,18495,24,18502,23,18509,null,null,0,1222]
[12,18606,23,18614,24,18617,14,18621,null,null,0,1221]
[12,18727,23,18736,24,18745,23,18753,null,null,0,1222]
[12,18847,23,18851,24,18855,23,18861,null,null,0,1222]
[12,18957,23,18959,24,18963,23,18967,null,null,0,1222]
[21,19069,21,19073,22,19077,23,19083,null,null,0,2222]
[21,19179,12,19185,24,19187,23,19193,null,null,0,2122]
[12,19285,23,19291,24,19296,14,19301,null,null,0,1221]
[21,19401,12,19407,24,19409,23,19413,null,null,0,2122]
[21,19508,21,19511,22,19514,14,19517,null,null,0,2221]
[21,19613,21,19624,22,19630,23,19635,null,null,0,2222]
[21,19734,12,19737,24,19742,23,19749,null,null,0,2122]
[21,19845,21,19852,22,19857,14,19862,null,null,0,2221]
[12,19955,14,19958,24,19962,23,19964,null,null,0,1122]
[12,20060,23,20064,24,20067,23,20073,null,null,0,1222]
[21,20166,21,20174,11,20177,21,20185,null,null,0,2212]
[21,20314,12,20322,24,20328,23,20335,null,null,0,2122]
[21,20437,21,20442,22,20450,14,20457,null,null,0,2221]
[12,20552,23,20557,24,20561,14,20564,null,null,0,1221]
[21,20660,21,20667,11,20670,21,20672,null,null,0,2212]
[21,20820,12,20824,24,20838,23,20844,null,null,0,2122]
[21,20940,21,20946,11,20948,21,20956,null,null,0,2212]
[21,21124,12,21127,24,21130,14,21136,null,null,0,2121]
[12,21258,23,21273,24,21285,23,21294,null,null,0,1222]
[12,21390,23,21395,24,21402,23,21406,null,null,0,1222]
[21,21501,21,21505,22,21510,23,21517,null,null,0,2222]
[21,21613,21,21616,22,21620,23,21628,null,null,0,2222]
[21,21722,21,21726,11,21729,21,21732,null,null,0,2212]
[12,22028,23,22039,24,22046,23,22060,null,null,0,1222]
[21,22167,21,22171,11,22175,21,22177,null,null,0,2212]
[21,22288,21,22294,11,22298,21,22301,null,null,0,2212]
[12,22469,23,22482,24,22496,23,22508,null,null,0,1222]
[12,22602,23,22605,13,22607,23,22609,null,null,0,1212]
[21,22706,12,22708,24,22711,23,22715,null,null,0,2122]
[21,22812,21,22814,22,22819,23,22823,null,null,0,2222]
[21,22920,21,22924,22,22927,23,22932,null,null,0,2222]
[21,23030,21,23034,22,23040,23,23048,null,null,0,2222]
[21,23145,12,23152,24,23159,23,23168,null,null,0,2122]
[21,23263,21,23266,22,23271,23,23277,null,null,0,2222]
[21,23371,21,23375,22,23379,23,23386,null,null,0,2222]
[21,23492,12,23495,24,23506,23,23514,null,null,0,2122]
[21,23610,21,23614,11,23616,21,23619,null,null,0,2212]
[21,23741,21,23746,22,23756,23,23761,null,null,0,2222]
[21,23857,21,23863,22,23869,23,23876,null,null,0,2222]
[21,23972,12,23977,24,23980,23,23985,null,null,null,2122]

{"sheet":"!M714950.Gus","index":25,"n_rows":192,"n_cols":48,"rows_kept":192,"cut":false,"hidden":false,"merged":[[4,39,4,42],[5,39,5,40],[4,44,4,47],[5,44,5,45],[4,24,4,27],[5,24,5,25],[4,29,4,32],[5,29,5,30],[4,34,4,37],[5,34,5,35],[1,1,1,2],[5,13,5,14],[26,13,26,14],[27,13,27,14],[4,19,4,22],[5,19,5,20]]}
["Report for:!M714950.Gus"]
["Date:","<date>"]
["Hen:","<hen>",null,null,null,"Correct Sequence",{"$f":"Start!J2","v":2212},null,null,null,null,null,null,null,null,"Total Sequences in Data",{"$f":"4994-COUNTBLANK(L7:L5000)","v":186},null,null,null,null,"Total Sequences in Block Data",{"$f":"COUNTA(L7:L37)","v":31},null,null,null,"Total Sequences in Block Data",{"$f":"COUNTA(L38:L68)","v":31},null,null,null,"Total Sequences in Block Data",{"$f":"COUNTA(L69:L99)","v":31},null,null,null,"Total Sequences in Block Data",{"$f":"COUNTA(L100:L130)","v":31},null,null,null,"Total Sequences in Block Data",{"$f":"COUNTA(L131:L161)","v":31},null,null,null,"Total Sequences in Block Data",{"$f":"COUNTA(L162:L192)","v":31}]
[null,null,null,null,null,null,null,null,null,null,null,null,null,null,null,"Total Sequences in Summary",{"$f":"SUM(O7:O22)","v":186},null,null,null,null,"Total Sequences in Block Summary",{"$f":"SUM(U7:U22)","v":31},null,null,null,"Total Sequences in Block Summary",{"$f":"SUM(Z7:Z22)","v":31},null,null,null,"Total Sequences in Block Summary",{"$f":"SUM(AE7:AE22)","v":31},null,null,null,"Total Sequences in Block Summary",{"$f":"SUM(AJ7:AJ22)","v":31},null,null,null,"Total Sequences in Block Summary",{"$f":"SUM(AO7:AO22)","v":31},null,null,null,"Total Sequences in Block Summary",{"$f":"SUM(AT7:AT22)","v":31}]
[null,null,null,null,null,null,null,null,null,null,null,null,null,null,null,null,null,null,null,"Block 1",null,null,null,null,"Block 2",null,null,null,null,"Block 3",null,null,null,null,"Block 4",null,null,null,null,"Block 5",null,null,null,null,"Block 6"]
["Sequence\nComponent\n1","Time\n1","Sequence\nComponent\n2","Time\n2","Sequence\nComponent\n3","Time\n3","Sequence\nComponent\n4","Time\n4","Sequence\nComponent\n5","Time\n5","Correct?\n0=No 1=Yes","Sequence",null,"Frequency",null,"Relative Frequency","Variability",null,null,"Frequency",null,"Relative Frequency","Variability",null,"Frequency",null,"Relative Frequency","Variability",null,"Frequency",null,"Relative Frequency","Variability",null,"Frequency",null,"Relative Frequency","Variability",null,"Frequency",null,"Relative Frequency","Variability",null,"Frequency",null,"Relative Frequency","Variability"]
[21,65,21,70,22,77,23,85,null,null,0,2222,null,1111,{"$f":"COUNTIF($L$7:$L$500,N7)","v":0},{"$f":"O7/$Q$4","v":0},{"$f":"IF(P7=0,0,(P7*((LOG(P7))/LOG(2))))","v":0},null,null,{"$f":"N7","v":1111},{"$f":"COUNTIF(L7:L37,T7)","v":0},{"$f":"U7/(W4-U20)","v":0},{"$f":"IF(V7=0,0,(V7*((LOG(V7))/LOG(2))))","v":0},null,{"$f":"N7","v":1111},{"$f":"COUNTIF(L38:L68,Y7)","v":0},{"$f":"Z7/(AB4-Z20)","v":0},{"$f":"IF(AA7=0,0,(AA7*((LOG(AA7))/LOG(2))))","v":0},null,{"$f":"N7","v":1111},{"$f":"COUNTIF(L69:L99,AD7)","v":0},{"$f":"AE7/(AG4-AE20)","v":0},{"$f":"IF(AF7=0,0,(AF7*((LOG(AF7))/LOG(2))))","v":0},null,{"$f":"N7","v":1111},{"$f":"COUNTIF(L100:L130,AI7)","v":0},{"$f":"AJ7/(AL4-AJ20)","v":0},{"$f":"IF(AK7=0,0,(AK7*((LOG(AK7))/LOG(2))))","v":0},null,{"$f":"N7","v":1111},{"$f":"COUNTIF(L131:L161,AN7)","v":0},{"$f":"AO7/(AQ4-AO20)","v":0},{"$f":"IF(AP7=0,0,(AP7*((LOG(AP7))/LOG(2))))","v":0},null,{"$f":"N7","v":1111},{"$f":"COUNTIF(L162:L192,AS7)","v":0},{"$f":"AT7/(AV4-AT20)","v":0},{"$f":"IF(AU7=0,0,(AU7*((LOG(AU7))/LOG(2))))","v":0}]
[21,189,21,194,22,198,23,202,null,null,0,2222,null,1112,{"$f":"COUNTIF($L$7:$L$500,N8)","v":0},{"$f":"O8/$Q$4","v":0},{"$f":"IF(P8=0,0,(P8*((LOG(P8))/LOG(2))))","v":0},null,null,{"$f":"N8","v":1112},{"$f":"COUNTIF(L7:L37,T8)","v":0},{"$f":"U8/(W4-U20)","v":0},{"$f":"IF(V8=0,0,(V8*((LOG(V8))/LOG(2))))","v":0},null,{"$f":"N8","v":1112},{"$f":"COUNTIF(L38:L68,Y8)","v":0},{"$f":"Z8/(AB4-Z20)","v":0},{"$f":"IF(AA8=0,0,(AA8*((LOG(AA8))/LOG(2))))","v":0},null,{"$f":"N8","v":1112},{"$f":"COUNTIF(L69:L99,AD8)","v":0},{"$f":"AE8/(AG4-AE20)","v":0},{"$f":"IF(AF8=0,0,(AF8*((LOG(AF8))/LOG(2))))","v":0},null,{"$f":"N8","v":1112},{"$f":"COUNTIF(L100:L130,AI8)","v":0},{"$f":"AJ8/(AL4-AJ20)","v":0},{"$f":"IF(AK8=0,0,(AK8*((LOG(AK8))/LOG(2))))","v":0},null,{"$f":"N8","v":1112},{"$f":"COUNTIF(L131:L161,AN8)","v":0},{"$f":"AO8/(AQ4-AO20)","v":0},{"$f":"IF(AP8=0,0,(AP8*((LOG(AP8))/LOG(2))))","v":0},null,{"$f":"N8","v":1112},{"$f":"COUNTIF(L162:L192,AS8)","v":0},{"$f":"AT8/(AV4-AT20)","v":0},{"$f":"IF(AU8=0,0,(AU8*((LOG(AU8))/LOG(2))))","v":0}]
[12,294,23,312,24,315,23,321,null,null,0,1222,null,1121,{"$f":"COUNTIF($L$7:$L$500,N9)","v":0},{"$f":"O9/$Q$4","v":0},{"$f":"IF(P9=0,0,(P9*((LOG(P9))/LOG(2))))","v":0},null,null,{"$f":"N9","v":1121},{"$f":"COUNTIF(L7:L37,T9)","v":0},{"$f":"U9/(W4-U20)","v":0},{"$f":"IF(V9=0,0,(V9*((LOG(V9))/LOG(2))))","v":0},null,{"$f":"N9","v":1121},{"$f":"COUNTIF(L38:L68,Y9)","v":0},{"$f":"Z9/(AB4-Z20)","v":0},{"$f":"IF(AA9=0,0,(AA9*((LOG(AA9))/LOG(2))))","v":0},null,{"$f":"N9","v":1121},{"$f":"COUNTIF(L69:L99,AD9)","v":0},{"$f":"AE9/(AG4-AE20)","v":0},{"$f":"IF(AF9=0,0,(AF9*((LOG(AF9))/LOG(2))))","v":0},null,{"$f":"N9","v":1121},{"$f":"COUNTIF(L100:L130,AI9)","v":0},{"$f":"AJ9/(AL4-AJ20)","v":0},{"$f":"IF(AK9=0,0,(AK9*((LOG(AK9))/LOG(2))))","v":0},null,{"$f":"N9","v":1121},{"$f":"COUNTIF(L131:L161,AN9)","v":0},{"$f":"AO9/(AQ4-AO20)","v":0},{"$f":"IF(AP9=0,0,(AP9*((LOG(AP9))/LOG(2))))","v":0},null,{"$f":"N9","v":1121},{"$f":"COUNTIF(L162:L192,AS9)","v":0},{"$f":"AT9/(AV4-AT20)","v":0},{"$f":"IF(AU9=0,0,(AU9*((LOG(AU9))/LOG(2))))","v":0}]
[12,417,23,455,24,459,23,466,null,null,0,1222,null,1122,{"$f":"COUNTIF($L$7:$L$500,N10)","v":2},{"$f":"O10/$Q$4","v":1.0752688172043012E-2},{"$f":"IF(P10=0,0,(P10*((LOG(P10))/LOG(2))))","v":-7.0313535603312161E-2},null,null,{"$f":"N10","v":1122},{"$f":"COUNTIF(L7:L37,T10)","v":0},{"$f":"U10/(W4-U20)","v":0},{"$f":"IF(V10=0,0,(V10*((LOG(V10))/LOG(2))))","v":0},null,{"$f":"N10","v":1122},{"$f":"COUNTIF(L38:L68,Y10)","v":0},{"$f":"Z10/(AB4-Z20)","v":0},{"$f":"IF(AA10=0,0,(AA10*((LOG(AA10))/LOG(2))))","v":0},null,{"$f":"N10","v":1122},{"$f":"COUNTIF(L69:L99,AD10)","v":0},{"$f":"AE10/(AG4-AE20)","v":0},{"$f":"IF(AF10=0,0,(AF10*((LOG(AF10))/LOG(2))))","v":0},null,{"$f":"N10","v":1122},{"$f":"COUNTIF(L100:L130,AI10)","v":0},{"$f":"AJ10/(AL4-AJ20)","v":0},{"$f":"IF(AK10=0,0,(AK10*((LOG(AK10))/LOG(2))))","v":0},null,{"$f":"N10","v":1122},{"$f":"COUNTIF(L131:L161,AN10)","v":1},{"$f":"AO10/(AQ4-AO20)","v":0.04},{"$f":"IF(AP10=0,0,(AP10*((LOG(AP10))/LOG(2))))","v":-0.18575424759098899},null,{"$f":"N10","v":1122},{"$f":"COUNTIF(L162:L192,AS10)","v":1},{"$f":"AT10/(AV4-AT20)","v":3.8461538461538464E-2},{"$f":"IF(AU10=0,0,(AU10*((LOG(AU10))/LOG(2))))","v":-0.18078614300542661}]
[12,560,23,572,24,578,14,581,null,null,0,1221,null,1211,{"$f":"COUNTIF($L$7:$L$500,N11)","v":0},{"$f":"O11/$Q$4","v":0},{"$f":"IF(P11=0,0,(P11*((LOG(P11))/LOG(2))))","v":0},null,null,{"$f":"N11","v":1211},{"$f":"COUNTIF(L7:L37,T11)","v":0},{"$f":"U11/(W4-U20)","v":0},{"$f":"IF(V11=0,0,(V11*((LOG(V11))/LOG(2))))","v":0},null,{"$f":"N11","v":1211},{"$f":"COUNTIF(L38:L68,Y11)","v":0},{"$f":"Z11/(AB4-Z20)","v":0},{"$f":"IF(AA11=0,0,(AA11*((LOG(AA11))/LOG(2))))","v":0},null,{"$f":"N11","v":1211},{"$f":"COUNTIF(L69:L99,AD11)","v":0},{"$f":"AE11/(AG4-AE20)","v":0},{"$f":"IF(AF11=0,0,(AF11*((LOG(AF11))/LOG(2))))","v":0},null,{"$f":"N11","v":1211},{"$f":"COUNTIF(L100:L130,AI11)","v":0},{"$f":"AJ11/(AL4-AJ20)","v":0},{"$f":"IF(AK11=0,0,(AK11*((LOG(AK11))/LOG(2))))","v":0},null,{"$f":"N11","v":1211},{"$f":"COUNTIF(L131:L161,AN11)","v":0},{"$f":"AO11/(AQ4-AO20)","v":0},{"$f":"IF(AP11=0,0,(AP11*((LOG(AP11))/LOG(2))))","v":0},null,{"$f":"N11","v":1211},{"$f":"COUNTIF(L162:L192,AS11)","v":0},{"$f":"AT11/(AV4-AT20)","v":0},{"$f":"IF(AU11=0,0,(AU11*((LOG(AU11))/LOG(2))))","v":0}]
[12,676,23,683,24,690,23,697,null,null,0,1222,null,1212,{"$f":"COUNTIF($L$7:$L$500,N12)","v":5},{"$f":"O12/$Q$4","v":2.6881720430107527E-2},{"$f":"IF(P12=0,0,(P12*((LOG(P12))/LOG(2))))","v":-0.1402481375328137},null,null,{"$f":"N12","v":1212},{"$f":"COUNTIF(L7:L37,T12)","v":1},{"$f":"U12/(W4-U20)","v":3.2258064516129031E-2},{"$f":"IF(V12=0,0,(V12*((LOG(V12))/LOG(2))))","v":-0.15981278420602821},null,{"$f":"N12","v":1212},{"$f":"COUNTIF(L38:L68,Y12)","v":0},{"$f":"Z12/(AB4-Z20)","v":0},{"$f":"IF(AA12=0,0,(AA12*((LOG(AA12))/LOG(2))))","v":0},null,{"$f":"N12","v":1212},{"$f":"COUNTIF(L69:L99,AD12)","v":0},{"$f":"AE12/(AG4-AE20)","v":0},{"$f":"IF(AF12=0,0,(AF12*((LOG(AF12))/LOG(2))))","v":0},null,{"$f":"N12","v":1212},{"$f":"COUNTIF(L100:L130,AI12)","v":1},{"$f":"AJ12/(AL4-AJ20)","v":0.04},{"$f":"IF(AK12=0,0,(AK12*((LOG(AK12))/LOG(2))))","v":-0.18575424759098899},null,{"$f":"N12","v":1212},{"$f":"COUNTIF(L131:L161,AN12)","v":2},{"$f":"AO12/(AQ4-AO20)","v":0.08},{"$f":"IF(AP12=0,0,(AP12*((LOG(AP12))/LOG(2))))","v":-0.29150849518197797},null,{"$f":"N12","v":1212},{"$f":"COUNTIF(L162:L192,AS12)","v":1},{"$f":"AT12/(AV4-AT20)","v":3.8461538461538464E-2},{"$f":"IF(AU12=0,0,(AU12*((LOG(AU12))/LOG(2))))","v":-0.18078614300542661}]
[12,790,23,800,24,802,23,806,null,null,0,1222,null,1221,{"$f":"COUNTIF($L$7:$L$500,N13)","v":12},{"$f":"O13/$Q$4","v":6.4516129032258063E-2},{"$f":"IF(P13=0,0,(P13*((LOG(P13))/LOG(2))))","v":-0.25510943937979835},null,null,{"$f":"N13","v":1221},{"$f":"COUNTIF(L7:L37,T13)","v":4},{"$f":"U13/(W4-U20)","v":0.12903225806451613},{"$f":"IF(V13=0,0,(V13*((LOG(V13))/LOG(2))))","v":-0.38118662069508069},null,{"$f":"N13","v":1221},{"$f":"COUNTIF(L38:L68,Y13)","v":3},{"$f":"Z13/(AB4-Z20)","v":0.12},{"$f":"IF(AA13=0,0,(AA13*((LOG(AA13))/LOG(2))))","v":-0.36706724268642821},null,{"$f":"N13","v":1221},{"$f":"COUNTIF(L69:L99,AD13)","v":1},{"$f":"AE13/(AG4-AE20)","v":3.8461538461538464E-2},{"$f":"IF(AF13=0,0,(AF13*((LOG(AF13))/LOG(2))))","v":-0.18078614300542661},null,{"$f":"N13","v":1221},{"$f":"COUNTIF(L100:L130,AI13)","v":1},{"$f":"AJ13/(AL4-AJ20)","v":0.04},{"$f":"IF(AK13=0,0,(AK13*((LOG(AK13))/LOG(2))))","v":-0.18575424759098899},null,{"$f":"N13","v":1221},{"$f":"COUNTIF(L131:L161,AN13)","v":2},{"$f":"AO13/(AQ4-AO20)","v":0.08},{"$f":"IF(AP13=0,0,(AP13*((LOG(AP13))/LOG(2))))","v":-0.29150849518197797},null,{"$f":"N13","v":1221},{"$f":"COUNTIF(L162:L192,AS13)","v":1},{"$f":"AT13/(AV4-AT20)","v":3.8461538461538464E-2},{"$f":"IF(AU13=0,0,(AU13*((LOG(AU13))/LOG(2))))","v":-0.18078614300542661}]
[12,912,23,917,24,922,23,929,null,null,0,1222,null,1222,{"$f":"COUNTIF($L$7:$L$500,N14)","v":33},{"$f":"O14/$Q$4","v":0.17741935483870969},{"$f":"IF(P14=0,0,(P14*((LOG(P14))/LOG(2))))","v":-0.44261954208460258},null,null,{"$f":"N14","v":1222},{"$f":"COUNTIF(L7:L37,T14)","v":7},{"$f":"U14/(W4-U20)","v":0.22580645161290322},{"$f":"IF(V14=0,0,(V14*((LOG(V14))/LOG(2))))","v":-0.48477063607435156},null,{"$f":"N14","v":1222},{"$f":"COUNTIF(L38:L68,Y14)","v":4},{"$f":"Z14/(AB4-Z20)","v":0.16},{"$f":"IF(AA14=0,0,(AA14*((LOG(AA14))/LOG(2))))","v":-0.42301699036395596},null,{"$f":"N14","v":1222},{"$f":"COUNTIF(L69:L99,AD14)","v":7},{"$f":"AE14/(AG4-AE20)","v":0.26923076923076922},{"$f":"IF(AF14=0,0,(AF14*((LOG(AF14))/LOG(2))))","v":-0.50967667586863141},null,{"$f":"N14","v":1222},{"$f":"COUNTIF(L100:L130,AI14)","v":5},{"$f":"AJ14/(AL4-AJ20)","v":0.2},{"$f":"IF(AK14=0,0,(AK14*((LOG(AK14))/LOG(2))))","v":-0.46438561897747244},null,{"$f":"N14","v":1222},{"$f":"COUNTIF(L131:L161,AN14)","v":6},{"$f":"AO14/(AQ4-AO20)","v":0.24},{"$f":"IF(AP14=0,0,(AP14*((LOG(AP14))/LOG(2))))","v":-0.49413448537285637},null,{"$f":"N14","v":1222},{"$f":"COUNTIF(L162:L192,AS14)","v":4},{"$f":"AT14/(AV4-AT20)","v":0.15384615384615385},{"$f":"IF(AU14=0,0,(AU14*((LOG(AU14))/LOG(2))))","v":-0.4154522643293988}]
[21,1030,21,1033,22,1039,23,1052,null,null,0,2222,null,2111,{"$f":"COUNTIF($L$7:$L$500,N15)","v":0},{"$f":"O15/$Q$4","v":0},{"$f":"IF(P15=0,0,(P15*((LOG(P15))/LOG(2))))","v":0},null,null,{"$f":"N15","v":2111},{"$f":"COUNTIF(L7:L37,T15)","v":0},{"$f":"U15/(W4-U20)","v":0},{"$f":"IF(V15=0,0,(V15*((LOG(V15))/LOG(2))))","v":0},null,{"$f":"N15","v":2111},{"$f":"COUNTIF(L38:L68,Y15)","v":0},{"$f":"Z15/(AB4-Z20)","v":0},{"$f":"IF(AA15=0,0,(AA15*((LOG(AA15))/LOG(2))))","v":0},null,{"$f":"N15","v":2111},{"$f":"COUNTIF(L69:L99,AD15)","v":0},{"$f":"AE15/(AG4-AE20)","v":0},{"$f":"IF(AF15=0,0,(AF15*((LOG(AF15))/LOG(2))))","v":0},null,{"$f":"N15","v":2111},{"$f":"COUNTIF(L100:L130,AI15)","v":0},{"$f":"AJ15/(AL4-AJ20)","v":0},{"$f":"IF(AK15=0,0,(AK15*((LOG(AK15))/LOG(2))))","v":0},null,{"$f":"N15","v":2111},{"$f":"COUNTIF(L131:L161,AN15)","v":0},{"$f":"AO15/(AQ4-AO20)","v":0},{"$f":"IF(AP15=0,0,(AP15*((LOG(AP15))/LOG(2))))","v":0},null,{"$f":"N15","v":2111},{"$f":"COUNTIF(L162:L192,AS15)","v":0},{"$f":"AT15/(AV4-AT20)","v":0},{"$f":"IF(AU15=0,0,(AU15*((LOG(AU15))/LOG(2))))","v":0}]
[21,1148,12,1157,24,1162,23,1170,null,null,0,2122,null,2112,{"$f":"COUNTIF($L$7:$L$500,N16)","v":0},{"$f":"O16/$Q$4","v":0},{"$f":"IF(P16=0,0,(P16*((LOG(P16))/LOG(2))))","v":0},null,null,{"$f":"N16","v":2112},{"$f":"COUNTIF(L7:L37,T16)","v":0},{"$f":"U16/(W4-U20)","v":0},{"$f":"IF(V16=0,0,(V16*((LOG(V16))/LOG(2))))","v":0},null,{"$f":"N16","v":2112},{"$f":"COUNTIF(L38:L68,Y16)","v":0},{"$f":"Z16/(AB4-Z20)","v":0},{"$f":"IF(AA16=0,0,(AA16*((LOG(AA16))/LOG(2))))","v":0},null,{"$f":"N16","v":2112},{"$f":"COUNTIF(L69:L99,AD16)","v":0},{"$f":"AE16/(AG4-AE20)","v":0},{"$f":"IF(AF16=0,0,(AF16*((LOG(AF16))/LOG(2))))","v":0},null,{"$f":"N16","v":2112},{"$f":"COUNTIF(L100:L130,AI16)","v":0},{"$f":"AJ16/(AL4-AJ20)","v":0},{"$f":"IF(AK16=0,0,(AK16*((LOG(AK16))/LOG(2))))","v":0},null,{"$f":"N16","v":2112},{"$f":"COUNTIF(L131:L161,AN16)","v":0},{"$f":"AO16/(AQ4-AO20)","v":0},{"$f":"IF(AP16=0,0,(AP16*((LOG(AP16))/LOG(2))))","v":0},null,{"$f":"N16","v":2112},{"$f":"COUNTIF(L162:L192,AS16)","v":0},{"$f":"AT16/(AV4-AT20)","v":0},{"$f":"IF(AU16=0,0,(AU16*((LOG(AU16))/LOG(2))))","v":0}]
[21,1269,21,1275,22,1279,23,1286,null,null,0,2222,null,2121,{"$f":"COUNTIF($L$7:$L$500,N17)","v":0},{"$f":"O17/$Q$4","v":0},{"$f":"IF(P17=0,0,(P17*((LOG(P17))/LOG(2))))","v":0},null,null,{"$f":"N17","v":2121},{"$f":"COUNTIF(L7:L37,T17)","v":0},{"$f":"U17/(W4-U20)","v":0},{"$f":"IF(V17=0,0,(V17*((LOG(V17))/LOG(2))))","v":0},null,{"$f":"N17","v":2121},{"$f":"COUNTIF(L38:L68,Y17)","v":0},{"$f":"Z17/(AB4-Z20)","v":0},{"$f":"IF(AA17=0,0,(AA17*((LOG(AA17))/LOG(2))))","v":0},null,{"$f":"N17","v":2121},{"$f":"COUNTIF(L69:L99,AD17)","v":0},{"$f":"AE17/(AG4-AE20)","v":0},{"$f":"IF(AF17=0,0,(AF17*((LOG(AF17))/LOG(2))))","v":0},null,{"$f":"N17","v":2121},{"$f":"COUNTIF(L100:L130,AI17)","v":0},{"$f":"AJ17/(AL4-AJ20)","v":0},{"$f":"IF(AK17=0,0,(AK17*((LOG(AK17))/LOG(2))))","v":0},null,{"$f":"N17","v":2121},{"$f":"COUNTIF(L131:L161,AN17)","v":0},{"$f":"AO17/(AQ4-AO20)","v":0},{"$f":"IF(AP17=0,0,(AP17*((LOG(AP17))/LOG(2))))","v":0},null,{"$f":"N17","v":2121},{"$f":"COUNTIF(L162:L192,AS17)","v":0},{"$f":"AT17/(AV4-AT20)","v":0},{"$f":"IF(AU17=0,0,(AU17*((LOG(AU17))/LOG(2))))","v":0}]
[21,1419,21,1425,22,1432,23,1439,null,null,0,2222,null,2122,{"$f":"COUNTIF($L$7:$L$500,N18)","v":30},{"$f":"O18/$Q$4","v":0.16129032258064516},{"$f":"IF(P18=0,0,(P18*((LOG(P18))/LOG(2))))","v":-0.42455938959669559},null,null,{"$f":"N18","v":2122},{"$f":"COUNTIF(L7:L37,T18)","v":3},{"$f":"U18/(W4-U20)","v":9.6774193548387094E-2},{"$f":"IF(V18=0,0,(V18*((LOG(V18))/LOG(2))))","v":-0.32605488480635986},null,{"$f":"N18","v":2122},{"$f":"COUNTIF(L38:L68,Y18)","v":5},{"$f":"Z18/(AB4-Z20)","v":0.2},{"$f":"IF(AA18=0,0,(AA18*((LOG(AA18))/LOG(2))))","v":-0.46438561897747244},null,{"$f":"N18","v":2122},{"$f":"COUNTIF(L69:L99,AD18)","v":5},{"$f":"AE18/(AG4-AE20)","v":0.19230769230769232},{"$f":"IF(AF18=0,0,(AF18*((LOG(AF18))/LOG(2))))","v":-0.45740608139494804},null,{"$f":"N18","v":2122},{"$f":"COUNTIF(L100:L130,AI18)","v":6},{"$f":"AJ18/(AL4-AJ20)","v":0.24},{"$f":"IF(AK18=0,0,(AK18*((LOG(AK18))/LOG(2))))","v":-0.49413448537285637},null,{"$f":"N18","v":2122},{"$f":"COUNTIF(L131:L161,AN18)","v":7},{"$f":"AO18/(AQ4-AO20)","v":0.28000000000000003},{"$f":"IF(AP18=0,0,(AP18*((LOG(AP18))/LOG(2))))","v":-0.51422035496079388},null,{"$f":"N18","v":2122},{"$f":"COUNTIF(L162:L192,AS18)","v":4},{"$f":"AT18/(AV4-AT20)","v":0.15384615384615385},{"$f":"IF(AU18=0,0,(AU18*((LOG(AU18))/LOG(2))))","v":-0.4154522643293988}]
[12,1533,23,1548,24,1552,14,1555,null,null,0,1221,null,2211,{"$f":"COUNTIF($L$7:$L$500,N19)","v":2},{"$f":"O19/$Q$4","v":1.0752688172043012E-2},{"$f":"IF(P19=0,0,(P19*((LOG(P19))/LOG(2))))","v":-7.0313535603312161E-2},null,null,{"$f":"N19","v":2211},{"$f":"COUNTIF(L7:L37,T19)","v":0},{"$f":"U19/(W4-U20)","v":0},{"$f":"IF(V19=0,0,(V19*((LOG(V19))/LOG(2))))","v":0},null,{"$f":"N19","v":2211},{"$f":"COUNTIF(L38:L68,Y19)","v":1},{"$f":"Z19/(AB4-Z20)","v":0.04},{"$f":"IF(AA19=0,0,(AA19*((LOG(AA19))/LOG(2))))","v":-0.18575424759098899},null,{"$f":"N19","v":2211},{"$f":"COUNTIF(L69:L99,AD19)","v":1},{"$f":"AE19/(AG4-AE20)","v":3.8461538461538464E-2},{"$f":"IF(AF19=0,0,(AF19*((LOG(AF19))/LOG(2))))","v":-0.18078614300542661},null,{"$f":"N19","v":2211},{"$f":"COUNTIF(L100:L130,AI19)","v":0},{"$f":"AJ19/(AL4-AJ20)","v":0},{"$f":"IF(AK19=0,0,(AK19*((LOG(AK19))/LOG(2))))","v":0},null,{"$f":"N19","v":2211},{"$f":"COUNTIF(L131:L161,AN19)","v":0},{"$f":"AO19/(AQ4-AO20)","v":0},{"$f":"IF(AP19=0,0,(AP19*((LOG(AP19))/LOG(2))))","v":0},null,{"$f":"N19","v":2211},{"$f":"COUNTIF(L162:L192,AS19)","v":0},{"$f":"AT19/(AV4-AT20)","v":0},{"$f":"IF(AU19=0,0,(AU19*((LOG(AU19))/LOG(2))))","v":0}]
[21,1655,21,1659,22,1665,23,1672,null,null,0,2222,null,2212,{"$f":"COUNTIF($L$7:$L$500,N20)","v":28},{"$f":"O20/$Q$4","v":0.15053763440860216},{"$f":"IF(P20=0,0,(P20*((LOG(P20))/LOG(2))))","v":-0.41123929512587076},null,null,{"$f":"N20","v":2212},{"$f":"COUNTIF(L7:L37,T20)","v":0},null,null,null,{"$f":"N20","v":2212},{"$f":"COUNTIF(L38:L68,Y20)","v":6},null,null,null,{"$f":"N20","v":2212},{"$f":"COUNTIF(L69:L99,AD20)","v":5},null,null,null,{"$f":"N20","v":2212},{"$f":"COUNTIF(L100:L130,AI20)","v":6},null,null,null,{"$f":"N20","v":2212},{"$f":"COUNTIF(L131:L161,AN20)","v":6},null,null,null,{"$f":"N20","v":2212},{"$f":"COUNTIF(L162:L192,AS20)","v":5}]
[21,1775,12,1782,24,1788,23,1796,null,null,0,2122,null,2221,{"$f":"COUNTIF($L$7:$L$500,N21)","v":11},{"$f":"O21/$Q$4","v":5.9139784946236562E-2},{"$f":"IF(P21=0,0,(P21*((LOG(P21))/LOG(2))))","v":-0.24127418880203269},null,null,{"$f":"N21","v":2221},{"$f":"COUNTIF(L7:L37,T21)","v":1},{"$f":"U21/(W4-U20)","v":3.2258064516129031E-2},{"$f":"IF(V21=0,0,(V21*((LOG(V21))/LOG(2))))","v":-0.15981278420602821},null,{"$f":"N21","v":2221},{"$f":"COUNTIF(L38:L68,Y21)","v":1},{"$f":"Z21/(AB4-Z20)","v":0.04},{"$f":"IF(AA21=0,0,(AA21*((LOG(AA21))/LOG(2))))","v":-0.18575424759098899},null,{"$f":"N21","v":2221},{"$f":"COUNTIF(L69:L99,AD21)","v":4},{"$f":"AE21/(AG4-AE20)","v":0.15384615384615385},{"$f":"IF(AF21=0,0,(AF21*((LOG(AF21))/LOG(2))))","v":-0.4154522643293988},null,{"$f":"N21","v":2221},{"$f":"COUNTIF(L100:L130,AI21)","v":2},{"$f":"AJ21/(AL4-AJ20)","v":0.08},{"$f":"IF(AK21=0,0,(AK21*((LOG(AK21))/LOG(2))))","v":-0.29150849518197797},null,{"$f":"N21","v":2221},{"$f":"COUNTIF(L131:L161,AN21)","v":1},{"$f":"AO21/(AQ4-AO20)","v":0.04},{"$f":"IF(AP21=0,0,(AP21*((LOG(AP21))/LOG(2))))","v":-0.18575424759098899},null,{"$f":"N21","v":2221},{"$f":"COUNTIF(L162:L192,AS21)","v":2},{"$f":"AT21/(AV4-AT20)","v":7.6923076923076927E-2},{"$f":"IF(AU21=0,0,(AU21*((LOG(AU21))/LOG(2))))","v":-0.28464920908777636}]
[21,1906,12,1909,24,1917,23,1925,null,null,0,2122,null,2222,{"$f":"COUNTIF($L$7:$L$500,N22)","v":63},{"$f":"O22/$Q$4","v":0.33870967741935482},{"$f":"IF(P22=0,0,(P22*((LOG(P22))/LOG(2))))","v":-0.5290234941898454},null,null,{"$f":"N22","v":2222},{"$f":"COUNTIF(L7:L37,T22)","v":15},{"$f":"U22/(W4-U20)","v":0.4838709677419355},{"$f":"IF(V22=0,0,(V22*((LOG(V22))/LOG(2))))","v":-0.50676082973146286},null,{"$f":"N22","v":2222},{"$f":"COUNTIF(L38:L68,Y22)","v":11},{"$f":"Z22/(AB4-Z20)","v":0.44},{"$f":"IF(AA22=0,0,(AA22*((LOG(AA22))/LOG(2))))","v":-0.52114681130046814},null,{"$f":"N22","v":2222},{"$f":"COUNTIF(L69:L99,AD22)","v":8},{"$f":"AE22/(AG4-AE20)","v":0.30769230769230771},{"$f":"IF(AF22=0,0,(AF22*((LOG(AF22))/LOG(2))))","v":-0.52321222096648989},null,{"$f":"N22","v":2222},{"$f":"COUNTIF(L100:L130,AI22)","v":10},{"$f":"AJ22/(AL4-AJ20)","v":0.4},{"$f":"IF(AK22=0,0,(AK22*((LOG(AK22))/LOG(2))))","v":-0.52877123795494496},null,{"$f":"N22","v":2222},{"$f":"COUNTIF(L131:L161,AN22)","v":6},{"$f":"AO22/(AQ4-AO20)","v":0.24},{"$f":"IF(AP22=0,0,(AP22*((LOG(AP22))/LOG(2))))","v":-0.49413448537285637},null,{"$f":"N22","v":2222},{"$f":"COUNTIF(L162:L192,AS22)","v":13},{"$f":"AT22/(AV4-AT20)","v":0.5},{"$f":"IF(AU22=0,0,(AU22*((LOG(AU22))/LOG(2))))","v":-0.5}]
[12,2017,23,2028,24,2030,14,2032,null,null,0,1221,null,null,null,{"$f":"SUM(P7:P22)","v":0.99999999999999978},{"$f":"-SUM(Q7:Q22)","v":2.5847005579182838},null,null,null,null,{"$f":"SUM(V7:V22)","v":1},{"$f":"-SUM(W7:W22)","v":2.0183985397193114},null,null,null,{"$f":"SUM(AA7:AA22)","v":1},{"$f":"-SUM(AB7:AB22)","v":2.1471251585103026},null,null,null,{"$f":"SUM(AF7:AF22)","v":1},{"$f":"-SUM(AG7:AG22)","v":2.2673195285703214},null,null,null,{"$f":"SUM(AK7:AK22)","v":1},{"$f":"-SUM(AL7:AL22)","v":2.1503083326692298},null,null,null,{"$f":"SUM(AP7:AP22)","v":1},{"$f":"-SUM(AQ7:AQ22)","v":2.4570148112524404},null,null,null,{"$f":"SUM(AU7:AU22)","v":1},{"$f":"-SUM(AV7:AV22)","v":2.1579121667628538}]
[21,2129,21,2136,22,2142,23,2148,null,null,0,2222,null,null,null,"U=",{"$f":"Q23/(LOG(Q4)/LOG(2))","v":0.34283673055275643},null,null,null,null,"U1=",{"$f":"W23/(LOG(W4)/LOG(2))","v":0.40741190160098723},null,null,null,"U2=",{"$f":"AB23/(LOG(AB4)/LOG(2))","v":0.43339525202275098},null,null,null,"U3=",{"$f":"AG23/(LOG(AG4)/LOG(2))","v":0.45765637583167662},null,null,null,"U4=",{"$f":"AL23/(LOG(AL4)/LOG(2))","v":0.43403777281916217},null,null,null,"U5=",{"$f":"AQ23/(LOG(AQ4)/LOG(2))","v":0.49594619536999557},null,null,null,"U6=",{"$f":"AV23/(LOG(AV4)/LOG(2))","v":0.43557259978548202}]
[21,2245,21,2248,22,2252,23,2257,null,null,0,2222]
[12,2350,23,2359,24,2365,14,2366,null,null,0,1221]
[21,2471,21,2484,22,2489,23,2495,null,null,0,2222,null,"Total Target Seq"]
[21,2596,21,2600,22,2606,23,2616,null,null,0,2222,null,{"$f":"COUNTIF(L7:L192,G3)","v":28},null,31,31,31,31,31,31]
[21,2720,21,2725,22,2730,23,2737,null,null,0,2222,null,null,null,"% of reinforcement given in 6 equal intervals based on number of trials "]
[21,2834,21,2840,22,2846,23,2852,null,null,0,2222,null,null,null,"%_1","%_2","%_3","%_4","%_5","%_6"]
[12,2944,23,2954,24,2959,23,2963,null,null,0,1222,null,null,"target sequence",{"$f":"$G$3","v":2212},{"$f":"$G$3","v":2212},{"$f":"$G$3","v":2212},{"$f":"$G$3","v":2212},{"$f":"$G$3","v":2212},{"$f":"$G$3","v":2212}]
[21,3059,21,3066,22,3071,14,3073,null,null,0,2221,null,null,"total reinforcement",{"$f":"U20","v":0},{"$f":"Z20","v":6},{"$f":"AE20","v":5},{"$f":"AJ20","v":6},{"$f":"AO20","v":6},{"$f":"AT20","v":5}]
[21,3174,21,3180,22,3185,23,3192,null,null,0,2222,null,null,"% target"]
[21,3289,21,3293,22,3295,23,3300,null,null,0,2222,null,null,"CCRF"]
[21,3401,21,3404,22,3408,23,3412,null,null,0,2222,null,null,"% CCRf"]
[12,3518,23,3523,24,3526,23,3533,null,null,0,1222,null,null,"average response rate",{"$f":"H37/P28","v":117.61290322580645},{"$f":"(H68-H37)/Q28","v":125.96774193548387},{"$f":"(H99-H68)/R28","v":127.25806451612904},{"$f":"(H130-H99)/S28","v":140.38709677419354},{"$f":"(H161-H130)/T28","v":132.61290322580646},{"$f":"(H192-H161)/U28","v":128.12903225806451}]
[12,3625,23,3640,13,3643,23,3646,null,null,0,1212]
[21,3749,12,3754,24,3758,23,3763,null,null,0,2122]
[21,3864,21,3867,11,3871,21,3879,null,null,0,2212]
[21,3997,21,4004,22,4010,23,4018,null,null,0,2222]
[21,4149,12,4153,24,4156,23,4161,null,null,0,2122]
[12,4255,23,4259,24,4263,14,4267,null,null,0,1221]
[21,4366,12,4371,24,4380,23,4388,null,null,0,2122]
[21,4483,21,4491,11,4493,21,4496,null,null,0,2212]
[21,4601,21,4607,11,4614,21,4627,null,null,0,2212]
[21,4759,12,4770,24,4778,23,4792,null,null,0,2122]
[21,4894,21,4900,11,4904,21,4906,null,null,0,2212]
[21,5199,12,5205,24,5214,23,5228,null,null,0,2122]
[21,5325,21,5331,22,5338,23,5345,null,null,0,2222]
[12,5438,23,5448,24,5451,14,5454,null,null,0,1221]
[21,5552,21,5555,22,5559,23,5564,null,null,0,2222]
[12,5659,23,5669,24,5672,14,5676,null,null,0,1221]
[21,5777,21,5783,22,5787,23,5795,null,null,0,2222]
[21,5894,21,5897,22,5903,14,5909,null,null,0,2221]
[12,6002,23,6015,24,6019,23,6024,null,null,0,1222]
[21,6122,21,6129,22,6133,23,6140,null,null,0,2222]
[21,6239,21,6245,22,6249,23,6253,null,null,0,2222]
[12,6346,23,6360,24,6366,23,6372,null,null,0,1222]
[21,6470,21,6475,22,6478,23,6482,null,null,0,2222]
[12,6576,23,6590,24,6592,23,6596,null,null,0,1222]
[21,6697,21,6699,22,6705,23,6710,null,null,0,2222]
[21,6807,21,6810,11,6814,12,6820,null,null,0,2211]
[21,6918,21,6921,22,6927,23,6933,null,null,0,2222]
[21,7032,21,7036,11,7039,21,7041,null,null,0,2212]
[12,7143,23,7151,24,7159,23,7166,null,null,0,1222]
[21,7266,21,7275,11,7279,21,7287,null,null,0,2212]
[21,7401,21,7412,22,7424,23,7431,null,null,0,2222]
[21,7530,21,7536,22,7542,23,7551,null,null,0,2222]
[21,7647,21,7653,11,7657,21,7659,null,null,0,2212]
[12,7809,23,7825,24,7837,23,7849,null,null,0,1222]
[21,7964,21,7971,22,7975,23,7987,null,null,0,2222]
[21,8086,21,8089,22,8093,23,8099,null,null,0,2222]
[21,8196,21,8203,11,8206,21,8208,null,null,0,2212]
[21,8336,12,8344,24,8355,23,8363,null,null,0,2122]
[21,8459,21,8463,22,8467,14,8472,null,null,0,2221]
[21,8571,12,8577,24,8579,23,8584,null,null,0,2122]
[21,8688,21,8690,22,8693,14,8695,null,null,0,2221]
[12,8788,23,8796,24,8799,23,8804,null,null,0,1222]
[12,8897,23,8906,24,8908,23,8913,null,null,0,1222]
[21,9009,21,9014,22,9017,23,9022,null,null,0,2222]
[21,9117,21,9122,11,9125,12,9129,null,null,0,2211]
[12,9223,23,9230,24,9233,23,9238,null,null,0,1222]
[21,9338,21,9342,22,9345,23,9352,null,null,0,2222]
[21,9448,21,9452,22,9456,23,9462,null,null,0,2222]
[12,9555,23,9563,24,9570,23,9575,null,null,0,1222]
[21,9677,21,9679,11,9683,21,9686,null,null,0,2212]
[21,9790,21,9803,11,9817,21,9824,null,null,0,2212]
[21,10205,21,10221,22,10235,23,10247,null,null,0,2222]
[21,10343,12,10349,24,10351,23,10354,null,null,0,2122]
[21,10454,12,10458,24,10464,23,10473,null,null,0,2122]
[12,10565,23,10573,24,10579,14,10583,null,null,0,1221]
[21,10678,21,10681,22,10684,14,10687,null,null,0,2221]
[12,10779,23,10791,24,10797,23,10804,null,null,0,1222]
[12,10908,23,10918,24,10922,23,10930,null,null,0,1222]
[21,11028,21,11031,22,11036,14,11041,null,null,0,2221]
[21,11141,21,11145,22,11148,23,11154,null,null,0,2222]
[21,11250,21,11258,22,11262,23,11270,null,null,0,2222]
[21,11374,12,11376,24,11379,23,11389,null,null,0,2122]
[21,11485,21,11489,11,11492,21,11496,null,null,0,2212]
[21,11601,21,11606,22,11619,23,11625,null,null,0,2222]
[21,11723,12,11726,24,11731,23,11739,null,null,0,2122]
[12,11838,23,11842,24,11847,14,11849,null,null,0,1221]
[21,11946,21,11952,22,11957,14,11960,null,null,0,2221]
[21,12065,21,12069,22,12074,23,12080,null,null,0,2222]
[21,12183,12,12188,24,12197,23,12204,null,null,0,2122]
[21,12306,21,12311,11,12315,21,12318,null,null,0,2212]
[21,12602,12,12605,24,12618,23,12625,null,null,0,2122]
[21,12724,21,12728,11,12738,21,12742,null,null,0,2212]
[21,12869,21,12878,22,12884,23,12890,null,null,0,2222]
[12,12985,23,12995,13,13000,23,13006,null,null,0,1212]
[21,13104,21,13107,22,13116,23,13126,null,null,0,2222]
[12,13218,23,13230,24,13234,23,13240,null,null,0,1222]
[12,13512,23,13516,24,13518,23,13524,null,null,0,1222]
[21,13620,21,13626,22,13630,23,13634,null,null,0,2222]
[21,13730,21,13738,22,13746,23,13751,null,null,0,2222]
[21,13852,21,13856,22,13859,23,13865,null,null,0,2222]
[21,13967,21,13971,22,13975,14,13979,null,null,0,2221]
[21,14076,21,14078,22,14083,23,14088,null,null,0,2222]
[21,14188,21,14193,11,14196,21,14205,null,null,0,2212]
[12,14323,23,14360,24,14378,23,14388,null,null,0,1222]
[12,14499,23,14502,24,14507,23,14518,null,null,0,1222]
[21,14615,12,14622,24,14627,23,14640,null,null,0,2122]
[21,14738,21,14742,22,14746,23,14750,null,null,0,2222]
[21,14850,21,14855,22,14858,23,14863,null,null,0,2222]
[21,14964,21,14967,11,14971,21,14976,null,null,0,2212]
[21,15102,21,15110,11,15112,21,15128,null,null,0,2212]
[21,15351,21,15357,11,15361,21,15374,null,null,0,2212]
[21,15568,12,15578,24,15594,23,15602,null,null,0,2122]
[12,15699,23,15705,24,15709,23,15718,null,null,0,1222]
[21,15820,12,15823,24,15838,23,15848,null,null,0,2122]
[21,15946,21,15950,11,15953,21,15955,null,null,0,2212]
[12,16186,23,16194,24,16206,23,16213,null,null,0,1222]
[12,16308,23,16312,24,16315,23,16320,null,null,0,1222]
[21,16420,12,16425,24,16432,23,16438,null,null,0,2122]
[21,16537,21,16546,22,16556,23,16563,null,null,0,2222]
[12,16656,23,16667,24,16671,14,16674,null,null,0,1221]
[21,16773,21,16776,22,16782,23,16790,null,null,0,2222]
[12,16886,23,16892,24,16896,23,16904,null,null,0,1222]
[21,17001,21,17004,11,17007,21,17014,null,null,0,2212]
[21,17174,21,17191,22,17199,23,17213,null,null,0,2222]
[21,17309,21,17316,11,17320,21,17322,null,null,0,2212]
[12,17634,14,17647,24,17660,23,17666,null,null,0,1122]
[21,17762,21,17765,11,17768,21,17775,null,null,0,2212]
[12,17935,23,17958,24,17969,23,17978,null,null,0,1222]
[21,18075,12,18078,24,18080,23,18085,null,null,0,2122]
[12,18181,23,18186,24,18193,23,18199,null,null,0,1222]
[21,18297,12,18303,24,18306,23,18311,null,null,0,2122]
[21,18412,21,18419,22,18425,23,18435,null,null,0,2222]
[12,18527,23,18539,13,18543,23,18549,null,null,0,1212]
[21,18672,12,18678,24,18684,23,18690,null,null,0,2122]
[21,18790,21,18793,22,18803,23,18809,null,null,0,2222]
[21,18909,12,18913,24,18919,23,18926,null,null,0,2122]
[21,19022,12,19027,24,19029,23,19034,null,null,0,2122]
[21,19131,21,19135,22,19139,14,19147,null,null,0,2221]
[12,19240,23,19249,13,19254,23,19260,null,null,0,1212]
[21,19356,21,19361,11,19363,21,19379,null,null,0,2212]
[12,19488,23,19491,24,19508,23,19515,null,null,0,1222]
[21,19610,21,19615,22,19620,23,19628,null,null,0,2222]
[21,19725,12,19732,24,19734,23,19746,null,null,0,2122]
[12,19838,23,19844,24,19846,14,19848,null,null,0,1221]
[21,19946,21,19950,11,19953,21,19959,null,null,0,2212]
[12,20112,14,20122,24,20131,23,20152,null,null,0,1122]
[21,20254,21,20259,11,20265,21,20267,null,null,0,2212]
[12,20500,23,20514,24,20529,23,20537,null,null,0,1222]
[21,20634,21,20637,22,20639,23,20647,null,null,0,2222]
[21,20760,21,20763,11,20765,21,20769,null,null,0,2212]
[21,20918,21,20924,22,20941,23,20946,null,null,0,2222]
[21,21054,21,21058,22,21070,23,21077,null,null,0,2222]
[21,21174,12,21177,24,21179,23,21192,null,null,0,2122]
[21,21288,21,21291,22,21296,23,21301,null,null,0,2222]
[21,21404,21,21408,22,21413,23,21418,null,null,0,2222]
[21,21519,12,21523,24,21531,23,21542,null,null,0,2122]
[21,21643,21,21649,22,21657,23,21665,null,null,0,2222]
[21,21761,21,21766,22,21771,23,21778,null,null,0,2222]
[21,21875,21,21877,22,21881,14,21883,null,null,0,2221]
[21,21984,21,21989,22,21992,23,21998,null,null,0,2222]
[21,22093,21,22098,22,22101,23,22109,null,null,0,2222]
[12,22201,23,22211,24,22215,14,22223,null,null,0,1221]
[21,22326,21,22329,22,22332,23,22346,null,null,0,2222]
[21,22445,21,22449,22,22453,23,22458,null,null,0,2222]
[21,22556,21,22560,22,22566,23,22572,null,null,0,2222]
[21,22667,21,22671,22,22677,14,22681,null,null,0,2221]
[21,22777,21,22786,11,22789,21,22797,null,null,0,2212]
[12,22917,23,22924,24,22942,23,22956,null,null,0,1222]
[21,23054,12,23058,24,23074,23,23083,null,null,0,2122]
[21,23179,12,23190,24,23193,23,23201,null,null,0,2122]
[21,23298,21,23304,11,23306,21,23309,null,null,0,2212]
[21,23427,21,23432,22,23439,23,23446,null,null,0,2222]
[12,23541,23,23547,24,23551,23,23557,null,null,0,1222]
[21,23655,21,23660,11,23662,21,23665,null,null,0,2212]
[12,23791,23,23796,24,23809,23,23817,null,null,0,1222]
[12,23911,23,23922,13,23927,23,23931,null,null,null,1212]

{"sheet":"!M715920.Gus","index":26,"n_rows":168,"n_cols":48,"rows_kept":168,"cut":false,"hidden":false,"merged":[[4,39,4,42],[5,39,5,40],[4,44,4,47],[5,44,5,45],[4,24,4,27],[5,24,5,25],[4,29,4,32],[5,29,5,30],[4,34,4,37],[5,34,5,35],[1,1,1,2],[5,13,5,14],[26,13,26,14],[27,13,27,14],[4,19,4,22],[5,19,5,20]]}
["Report for:!M715920.Gus"]
["Date:","<date>"]
["Hen:","<hen>",null,null,null,"Correct Sequence",{"$f":"Start!J2","v":2212},null,null,null,null,null,null,null,null,"Total Sequences in Data",{"$f":"4994-COUNTBLANK(L7:L5000)","v":162},null,null,null,null,"Total Sequences in Block Data",{"$f":"COUNTA(L7:L33)","v":27},null,null,null,"Total Sequences in Block Data",{"$f":"COUNTA(L34:L60)","v":27},null,null,null,"Total Sequences in Block Data",{"$f":"COUNTA(L61:L87)","v":27},null,null,null,"Total Sequences in Block Data",{"$f":"COUNTA(L88:L114)","v":27},null,null,null,"Total Sequences in Block Data",{"$f":"COUNTA(L115:L141)","v":27},null,null,null,"Total Sequences in Block Data",{"$f":"COUNTA(L142:L168)","v":27}]
[null,null,null,null,null,null,null,null,null,null,null,null,null,null,null,"Total Sequences in Summary",{"$f":"SUM(O7:O22)","v":162},null,null,null,null,"Total Sequences in Block Summary",{"$f":"SUM(U7:U22)","v":27},null,null,null,"Total Sequences in Block Summary",{"$f":"SUM(Z7:Z22)","v":27},null,null,null,"Total Sequences in Block Summary",{"$f":"SUM(AE7:AE22)","v":27},null,null,null,"Total Sequences in Block Summary",{"$f":"SUM(AJ7:AJ22)","v":27},null,null,null,"Total Sequences in Block Summary",{"$f":"SUM(AO7:AO22)","v":27},null,null,null,"Total Sequences in Block Summary",{"$f":"SUM(AT7:AT22)","v":27}]
[null,null,null,null,null,null,null,null,null,null,null,null,null,null,null,null,null,null,null,"Block 1",null,null,null,null,"Block 2",null,null,null,null,"Block 3",null,null,null,null,"Block 4",null,null,null,null,"Block 5",null,null,null,null,"Block 6"]
["Sequence\nComponent\n1","Time\n1","Sequence\nComponent\n2","Time\n2","Sequence\nComponent\n3","Time\n3","Sequence\nComponent\n4","Time\n4","Sequence\nComponent\n5","Time\n5","Correct?\n0=No 1=Yes","Sequence",null,"Frequency",null,"Relative Frequency","Variability",null,null,"Frequency",null,"Relative Frequency","Variability",null,"Frequency",null,"Relative Frequency","Variability",null,"Frequency",null,"Relative Frequency","Variability",null,"Frequency",null,"Relative Frequency","Variability",null,"Frequency",null,"Relative Frequency","Variability",null,"Frequency",null,"Relative Frequency","Variability"]
[21,116,21,123,22,127,23,166,null,null,0,2222,null,1111,{"$f":"COUNTIF($L$7:$L$500,N7)","v":0},{"$f":"O7/$Q$4","v":0},{"$f":"IF(P7=0,0,(P7*((LOG(P7))/LOG(2))))","v":0},null,null,{"$f":"N7","v":1111},{"$f":"COUNTIF(L7:L33,T7)","v":0},{"$f":"U7/(W4-U20)","v":0},{"$f":"IF(V7=0,0,(V7*((LOG(V7))/LOG(2))))","v":0},null,{"$f":"N7","v":1111},{"$f":"COUNTIF(L34:L60,Y7)","v":0},{"$f":"Z7/(AB4-Z20)","v":0},{"$f":"IF(AA7=0,0,(AA7*((LOG(AA7))/LOG(2))))","v":0},null,{"$f":"N7","v":1111},{"$f":"COUNTIF(L61:L87,AD7)","v":0},{"$f":"AE7/(AG4-AE20)","v":0},{"$f":"IF(AF7=0,0,(AF7*((LOG(AF7))/LOG(2))))","v":0},null,{"$f":"N7","v":1111},{"$f":"COUNTIF(L88:L114,AI7)","v":0},{"$f":"AJ7/(AL4-AJ20)","v":0},{"$f":"IF(AK7=0,0,(AK7*((LOG(AK7))/LOG(2))))","v":0},null,{"$f":"N7","v":1111},{"$f":"COUNTIF(L115:L141,AN7)","v":0},{"$f":"AO7/(AQ4-AO20)","v":0},{"$f":"IF(AP7=0,0,(AP7*((LOG(AP7))/LOG(2))))","v":0},null,{"$f":"N7","v":1111},{"$f":"COUNTIF(L142:L168,AS7)","v":0},{"$f":"AT7/(AV4-AT20)","v":0},{"$f":"IF(AU7=0,0,(AU7*((LOG(AU7))/LOG(2))))","v":0}]
[12,581,23,595,24,602,23,609,null,null,0,1222,null,1112,{"$f":"COUNTIF($L$7:$L$500,N8)","v":0},{"$f":"O8/$Q$4","v":0},{"$f":"IF(P8=0,0,(P8*((LOG(P8))/LOG(2))))","v":0},null,null,{"$f":"N8","v":1112},{"$f":"COUNTIF(L7:L33,T8)","v":0},{"$f":"U8/(W4-U20)","v":0},{"$f":"IF(V8=0,0,(V8*((LOG(V8))/LOG(2))))","v":0},null,{"$f":"N8","v":1112},{"$f":"COUNTIF(L34:L60,Y8)","v":0},{"$f":"Z8/(AB4-Z20)","v":0},{"$f":"IF(AA8=0,0,(AA8*((LOG(AA8))/LOG(2))))","v":0},null,{"$f":"N8","v":1112},{"$f":"COUNTIF(L61:L87,AD8)","v":0},{"$f":"AE8/(AG4-AE20)","v":0},{"$f":"IF(AF8=0,0,(AF8*((LOG(AF8))/LOG(2))))","v":0},null,{"$f":"N8","v":1112},{"$f":"COUNTIF(L88:L114,AI8)","v":0},{"$f":"AJ8/(AL4-AJ20)","v":0},{"$f":"IF(AK8=0,0,(AK8*((LOG(AK8))/LOG(2))))","v":0},null,{"$f":"N8","v":1112},{"$f":"COUNTIF(L115:L141,AN8)","v":0},{"$f":"AO8/(AQ4-AO20)","v":0},{"$f":"IF(AP8=0,0,(AP8*((LOG(AP8))/LOG(2))))","v":0},null,{"$f":"N8","v":1112},{"$f":"COUNTIF(L142:L168,AS8)","v":0},{"$f":"AT8/(AV4-AT20)","v":0},{"$f":"IF(AU8=0,0,(AU8*((LOG(AU8))/LOG(2))))","v":0}]
[21,704,21,712,22,718,23,723,null,null,0,2222,null,1121,{"$f":"COUNTIF($L$7:$L$500,N9)","v":0},{"$f":"O9/$Q$4","v":0},{"$f":"IF(P9=0,0,(P9*((LOG(P9))/LOG(2))))","v":0},null,null,{"$f":"N9","v":1121},{"$f":"COUNTIF(L7:L33,T9)","v":0},{"$f":"U9/(W4-U20)","v":0},{"$f":"IF(V9=0,0,(V9*((LOG(V9))/LOG(2))))","v":0},null,{"$f":"N9","v":1121},{"$f":"COUNTIF(L34:L60,Y9)","v":0},{"$f":"Z9/(AB4-Z20)","v":0},{"$f":"IF(AA9=0,0,(AA9*((LOG(AA9))/LOG(2))))","v":0},null,{"$f":"N9","v":1121},{"$f":"COUNTIF(L61:L87,AD9)","v":0},{"$f":"AE9/(AG4-AE20)","v":0},{"$f":"IF(AF9=0,0,(AF9*((LOG(AF9))/LOG(2))))","v":0},null,{"$f":"N9","v":1121},{"$f":"COUNTIF(L88:L114,AI9)","v":0},{"$f":"AJ9/(AL4-AJ20)","v":0},{"$f":"IF(AK9=0,0,(AK9*((LOG(AK9))/LOG(2))))","v":0},null,{"$f":"N9","v":1121},{"$f":"COUNTIF(L115:L141,AN9)","v":0},{"$f":"AO9/(AQ4-AO20)","v":0},{"$f":"IF(AP9=0,0,(AP9*((LOG(AP9))/LOG(2))))","v":0},null,{"$f":"N9","v":1121},{"$f":"COUNTIF(L142:L168,AS9)","v":0},{"$f":"AT9/(AV4-AT20)","v":0},{"$f":"IF(AU9=0,0,(AU9*((LOG(AU9))/LOG(2))))","v":0}]
[21,820,21,827,11,829,21,834,null,null,0,2212,null,1122,{"$f":"COUNTIF($L$7:$L$500,N10)","v":0},{"$f":"O10/$Q$4","v":0},{"$f":"IF(P10=0,0,(P10*((LOG(P10))/LOG(2))))","v":0},null,null,{"$f":"N10","v":1122},{"$f":"COUNTIF(L7:L33,T10)","v":0},{"$f":"U10/(W4-U20)","v":0},{"$f":"IF(V10=0,0,(V10*((LOG(V10))/LOG(2))))","v":0},null,{"$f":"N10","v":1122},{"$f":"COUNTIF(L34:L60,Y10)","v":0},{"$f":"Z10/(AB4-Z20)","v":0},{"$f":"IF(AA10=0,0,(AA10*((LOG(AA10))/LOG(2))))","v":0},null,{"$f":"N10","v":1122},{"$f":"COUNTIF(L61:L87,AD10)","v":0},{"$f":"AE10/(AG4-AE20)","v":0},{"$f":"IF(AF10=0,0,(AF10*((LOG(AF10))/LOG(2))))","v":0},null,{"$f":"N10","v":1122},{"$f":"COUNTIF(L88:L114,AI10)","v":0},{"$f":"AJ10/(AL4-AJ20)","v":0},{"$f":"IF(AK10=0,0,(AK10*((LOG(AK10))/LOG(2))))","v":0},null,{"$f":"N10","v":1122},{"$f":"COUNTIF(L115:L141,AN10)","v":0},{"$f":"AO10/(AQ4-AO20)","v":0},{"$f":"IF(AP10=0,0,(AP10*((LOG(AP10))/LOG(2))))","v":0},null,{"$f":"N10","v":1122},{"$f":"COUNTIF(L142:L168,AS10)","v":0},{"$f":"AT10/(AV4-AT20)","v":0},{"$f":"IF(AU10=0,0,(AU10*((LOG(AU10))/LOG(2))))","v":0}]
[21,1007,21,1012,22,1020,23,1030,null,null,0,2222,null,1211,{"$f":"COUNTIF($L$7:$L$500,N11)","v":1},{"$f":"O11/$Q$4","v":6.1728395061728392E-3},{"$f":"IF(P11=0,0,(P11*((LOG(P11))/LOG(2))))","v":-4.5307716067189037E-2},null,null,{"$f":"N11","v":1211},{"$f":"COUNTIF(L7:L33,T11)","v":0},{"$f":"U11/(W4-U20)","v":0},{"$f":"IF(V11=0,0,(V11*((LOG(V11))/LOG(2))))","v":0},null,{"$f":"N11","v":1211},{"$f":"COUNTIF(L34:L60,Y11)","v":0},{"$f":"Z11/(AB4-Z20)","v":0},{"$f":"IF(AA11=0,0,(AA11*((LOG(AA11))/LOG(2))))","v":0},null,{"$f":"N11","v":1211},{"$f":"COUNTIF(L61:L87,AD11)","v":0},{"$f":"AE11/(AG4-AE20)","v":0},{"$f":"IF(AF11=0,0,(AF11*((LOG(AF11))/LOG(2))))","v":0},null,{"$f":"N11","v":1211},{"$f":"COUNTIF(L88:L114,AI11)","v":0},{"$f":"AJ11/(AL4-AJ20)","v":0},{"$f":"IF(AK11=0,0,(AK11*((LOG(AK11))/LOG(2))))","v":0},null,{"$f":"N11","v":1211},{"$f":"COUNTIF(L115:L141,AN11)","v":0},{"$f":"AO11/(AQ4-AO20)","v":0},{"$f":"IF(AP11=0,0,(AP11*((LOG(AP11))/LOG(2))))","v":0},null,{"$f":"N11","v":1211},{"$f":"COUNTIF(L142:L168,AS11)","v":1},{"$f":"AT11/(AV4-AT20)","v":4.3478260869565216E-2},{"$f":"IF(AU11=0,0,(AU11*((LOG(AU11))/LOG(2))))","v":-0.19667660678508753}]
[21,1124,21,1133,22,1141,14,1146,null,null,0,2221,null,1212,{"$f":"COUNTIF($L$7:$L$500,N12)","v":3},{"$f":"O12/$Q$4","v":1.8518518518518517E-2},{"$f":"IF(P12=0,0,(P12*((LOG(P12))/LOG(2))))","v":-0.10657199078080498},null,null,{"$f":"N12","v":1212},{"$f":"COUNTIF(L7:L33,T12)","v":2},{"$f":"U12/(W4-U20)","v":8.6956521739130432E-2},{"$f":"IF(V12=0,0,(V12*((LOG(V12))/LOG(2))))","v":-0.30639669183104457},null,{"$f":"N12","v":1212},{"$f":"COUNTIF(L34:L60,Y12)","v":0},{"$f":"Z12/(AB4-Z20)","v":0},{"$f":"IF(AA12=0,0,(AA12*((LOG(AA12))/LOG(2))))","v":0},null,{"$f":"N12","v":1212},{"$f":"COUNTIF(L61:L87,AD12)","v":0},{"$f":"AE12/(AG4-AE20)","v":0},{"$f":"IF(AF12=0,0,(AF12*((LOG(AF12))/LOG(2))))","v":0},null,{"$f":"N12","v":1212},{"$f":"COUNTIF(L88:L114,AI12)","v":0},{"$f":"AJ12/(AL4-AJ20)","v":0},{"$f":"IF(AK12=0,0,(AK12*((LOG(AK12))/LOG(2))))","v":0},null,{"$f":"N12","v":1212},{"$f":"COUNTIF(L115:L141,AN12)","v":0},{"$f":"AO12/(AQ4-AO20)","v":0},{"$f":"IF(AP12=0,0,(AP12*((LOG(AP12))/LOG(2))))","v":0},null,{"$f":"N12","v":1212},{"$f":"COUNTIF(L142:L168,AS12)","v":1},{"$f":"AT12/(AV4-AT20)","v":4.3478260869565216E-2},{"$f":"IF(AU12=0,0,(AU12*((LOG(AU12))/LOG(2))))","v":-0.19667660678508753}]
[12,1244,23,1253,13,1258,23,1261,null,null,0,1212,null,1221,{"$f":"COUNTIF($L$7:$L$500,N13)","v":4},{"$f":"O13/$Q$4","v":2.4691358024691357E-2},{"$f":"IF(P13=0,0,(P13*((LOG(P13))/LOG(2))))","v":-0.13184814821937343},null,null,{"$f":"N13","v":1221},{"$f":"COUNTIF(L7:L33,T13)","v":0},{"$f":"U13/(W4-U20)","v":0},{"$f":"IF(V13=0,0,(V13*((LOG(V13))/LOG(2))))","v":0},null,{"$f":"N13","v":1221},{"$f":"COUNTIF(L34:L60,Y13)","v":0},{"$f":"Z13/(AB4-Z20)","v":0},{"$f":"IF(AA13=0,0,(AA13*((LOG(AA13))/LOG(2))))","v":0},null,{"$f":"N13","v":1221},{"$f":"COUNTIF(L61:L87,AD13)","v":0},{"$f":"AE13/(AG4-AE20)","v":0},{"$f":"IF(AF13=0,0,(AF13*((LOG(AF13))/LOG(2))))","v":0},null,{"$f":"N13","v":1221},{"$f":"COUNTIF(L88:L114,AI13)","v":0},{"$f":"AJ13/(AL4-AJ20)","v":0},{"$f":"IF(AK13=0,0,(AK13*((LOG(AK13))/LOG(2))))","v":0},null,{"$f":"N13","v":1221},{"$f":"COUNTIF(L115:L141,AN13)","v":3},{"$f":"AO13/(AQ4-AO20)","v":0.15789473684210525},{"$f":"IF(AP13=0,0,(AP13*((LOG(AP13))/LOG(2))))","v":-0.42046815990354147},null,{"$f":"N13","v":1221},{"$f":"COUNTIF(L142:L168,AS13)","v":1},{"$f":"AT13/(AV4-AT20)","v":4.3478260869565216E-2},{"$f":"IF(AU13=0,0,(AU13*((LOG(AU13))/LOG(2))))","v":-0.19667660678508753}]
[21,1358,21,1362,22,1366,23,1370,null,null,0,2222,null,1222,{"$f":"COUNTIF($L$7:$L$500,N14)","v":21},{"$f":"O14/$Q$4","v":0.12962962962962962},{"$f":"IF(P14=0,0,(P14*((LOG(P14))/LOG(2))))","v":-0.38208755668038979},null,null,{"$f":"N14","v":1222},{"$f":"COUNTIF(L7:L33,T14)","v":2},{"$f":"U14/(W4-U20)","v":8.6956521739130432E-2},{"$f":"IF(V14=0,0,(V14*((LOG(V14))/LOG(2))))","v":-0.30639669183104457},null,{"$f":"N14","v":1222},{"$f":"COUNTIF(L34:L60,Y14)","v":2},{"$f":"Z14/(AB4-Z20)","v":9.5238095238095233E-2},{"$f":"IF(AA14=0,0,(AA14*((LOG(AA14))/LOG(2))))","v":-0.32307784978845333},null,{"$f":"N14","v":1222},{"$f":"COUNTIF(L61:L87,AD14)","v":3},{"$f":"AE14/(AG4-AE20)","v":0.15},{"$f":"IF(AF14=0,0,(AF14*((LOG(AF14))/LOG(2))))","v":-0.41054483912493089},null,{"$f":"N14","v":1222},{"$f":"COUNTIF(L88:L114,AI14)","v":6},{"$f":"AJ14/(AL4-AJ20)","v":0.33333333333333331},{"$f":"IF(AK14=0,0,(AK14*((LOG(AK14))/LOG(2))))","v":-0.52832083357371862},null,{"$f":"N14","v":1222},{"$f":"COUNTIF(L115:L141,AN14)","v":3},{"$f":"AO14/(AQ4-AO20)","v":0.15789473684210525},{"$f":"IF(AP14=0,0,(AP14*((LOG(AP14))/LOG(2))))","v":-0.42046815990354147},null,{"$f":"N14","v":1222},{"$f":"COUNTIF(L142:L168,AS14)","v":5},{"$f":"AT14/(AV4-AT20)","v":0.21739130434782608},{"$f":"IF(AU14=0,0,(AU14*((LOG(AU14))/LOG(2))))","v":-0.47861605677601093}]
[21,1471,21,1477,11,1481,21,1482,null,null,0,2212,null,2111,{"$f":"COUNTIF($L$7:$L$500,N15)","v":0},{"$f":"O15/$Q$4","v":0},{"$f":"IF(P15=0,0,(P15*((LOG(P15))/LOG(2))))","v":0},null,null,{"$f":"N15","v":2111},{"$f":"COUNTIF(L7:L33,T15)","v":0},{"$f":"U15/(W4-U20)","v":0},{"$f":"IF(V15=0,0,(V15*((LOG(V15))/LOG(2))))","v":0},null,{"$f":"N15","v":2111},{"$f":"COUNTIF(L34:L60,Y15)","v":0},{"$f":"Z15/(AB4-Z20)","v":0},{"$f":"IF(AA15=0,0,(AA15*((LOG(AA15))/LOG(2))))","v":0},null,{"$f":"N15","v":2111},{"$f":"COUNTIF(L61:L87,AD15)","v":0},{"$f":"AE15/(AG4-AE20)","v":0},{"$f":"IF(AF15=0,0,(AF15*((LOG(AF15))/LOG(2))))","v":0},null,{"$f":"N15","v":2111},{"$f":"COUNTIF(L88:L114,AI15)","v":0},{"$f":"AJ15/(AL4-AJ20)","v":0},{"$f":"IF(AK15=0,0,(AK15*((LOG(AK15))/LOG(2))))","v":0},null,{"$f":"N15","v":2111},{"$f":"COUNTIF(L115:L141,AN15)","v":0},{"$f":"AO15/(AQ4-AO20)","v":0},{"$f":"IF(AP15=0,0,(AP15*((LOG(AP15))/LOG(2))))","v":0},null,{"$f":"N15","v":2111},{"$f":"COUNTIF(L142:L168,AS15)","v":0},{"$f":"AT15/(AV4-AT20)","v":0},{"$f":"IF(AU15=0,0,(AU15*((LOG(AU15))/LOG(2))))","v":0}]
[21,1808,21,1818,22,1823,23,1829,null,null,0,2222,null,2112,{"$f":"COUNTIF($L$7:$L$500,N16)","v":2},{"$f":"O16/$Q$4","v":1.2345679012345678E-2},{"$f":"IF(P16=0,0,(P16*((LOG(P16))/LOG(2))))","v":-7.8269753122032396E-2},null,null,{"$f":"N16","v":2112},{"$f":"COUNTIF(L7:L33,T16)","v":0},{"$f":"U16/(W4-U20)","v":0},{"$f":"IF(V16=0,0,(V16*((LOG(V16))/LOG(2))))","v":0},null,{"$f":"N16","v":2112},{"$f":"COUNTIF(L34:L60,Y16)","v":0},{"$f":"Z16/(AB4-Z20)","v":0},{"$f":"IF(AA16=0,0,(AA16*((LOG(AA16))/LOG(2))))","v":0},null,{"$f":"N16","v":2112},{"$f":"COUNTIF(L61:L87,AD16)","v":0},{"$f":"AE16/(AG4-AE20)","v":0},{"$f":"IF(AF16=0,0,(AF16*((LOG(AF16))/LOG(2))))","v":0},null,{"$f":"N16","v":2112},{"$f":"COUNTIF(L88:L114,AI16)","v":1},{"$f":"AJ16/(AL4-AJ20)","v":5.5555555555555552E-2},{"$f":"IF(AK16=0,0,(AK16*((LOG(AK16))/LOG(2))))","v":-0.23166250008012845},null,{"$f":"N16","v":2112},{"$f":"COUNTIF(L115:L141,AN16)","v":1},{"$f":"AO16/(AQ4-AO20)","v":5.2631578947368418E-2},{"$f":"IF(AP16=0,0,(AP16*((LOG(AP16))/LOG(2))))","v":-0.22357513228650452},null,{"$f":"N16","v":2112},{"$f":"COUNTIF(L142:L168,AS16)","v":0},{"$f":"AT16/(AV4-AT20)","v":0},{"$f":"IF(AU16=0,0,(AU16*((LOG(AU16))/LOG(2))))","v":0}]
[21,1925,21,1928,22,1937,23,1944,null,null,0,2222,null,2121,{"$f":"COUNTIF($L$7:$L$500,N17)","v":0},{"$f":"O17/$Q$4","v":0},{"$f":"IF(P17=0,0,(P17*((LOG(P17))/LOG(2))))","v":0},null,null,{"$f":"N17","v":2121},{"$f":"COUNTIF(L7:L33,T17)","v":0},{"$f":"U17/(W4-U20)","v":0},{"$f":"IF(V17=0,0,(V17*((LOG(V17))/LOG(2))))","v":0},null,{"$f":"N17","v":2121},{"$f":"COUNTIF(L34:L60,Y17)","v":0},{"$f":"Z17/(AB4-Z20)","v":0},{"$f":"IF(AA17=0,0,(AA17*((LOG(AA17))/LOG(2))))","v":0},null,{"$f":"N17","v":2121},{"$f":"COUNTIF(L61:L87,AD17)","v":0},{"$f":"AE17/(AG4-AE20)","v":0},{"$f":"IF(AF17=0,0,(AF17*((LOG(AF17))/LOG(2))))","v":0},null,{"$f":"N17","v":2121},{"$f":"COUNTIF(L88:L114,AI17)","v":0},{"$f":"AJ17/(AL4-AJ20)","v":0},{"$f":"IF(AK17=0,0,(AK17*((LOG(AK17))/LOG(2))))","v":0},null,{"$f":"N17","v":2121},{"$f":"COUNTIF(L115:L141,AN17)","v":0},{"$f":"AO17/(AQ4-AO20)","v":0},{"$f":"IF(AP17=0,0,(AP17*((LOG(AP17))/LOG(2))))","v":0},null,{"$f":"N17","v":2121},{"$f":"COUNTIF(L142:L168,AS17)","v":0},{"$f":"AT17/(AV4-AT20)","v":0},{"$f":"IF(AU17=0,0,(AU17*((LOG(AU17))/LOG(2))))","v":0}]
[12,2040,23,2046,13,2055,23,2066,null,null,0,1212,null,2122,{"$f":"COUNTIF($L$7:$L$500,N18)","v":25},{"$f":"O18/$Q$4","v":0.15432098765432098},{"$f":"IF(P18=0,0,(P18*((LOG(P18))/LOG(2))))","v":-0.41604842794905866},null,null,{"$f":"N18","v":2122},{"$f":"COUNTIF(L7:L33,T18)","v":3},{"$f":"U18/(W4-U20)","v":0.13043478260869565},{"$f":"IF(V18=0,0,(V18*((LOG(V18))/LOG(2))))","v":-0.3832955811307639},null,{"$f":"N18","v":2122},{"$f":"COUNTIF(L34:L60,Y18)","v":5},{"$f":"Z18/(AB4-Z20)","v":0.23809523809523808},{"$f":"IF(AA18=0,0,(AA18*((LOG(AA18))/LOG(2))))","v":-0.49294983997414238},null,{"$f":"N18","v":2122},{"$f":"COUNTIF(L61:L87,AD18)","v":5},{"$f":"AE18/(AG4-AE20)","v":0.25},{"$f":"IF(AF18=0,0,(AF18*((LOG(AF18))/LOG(2))))","v":-0.5},null,{"$f":"N18","v":2122},{"$f":"COUNTIF(L88:L114,AI18)","v":4},{"$f":"AJ18/(AL4-AJ20)","v":0.22222222222222221},{"$f":"IF(AK18=0,0,(AK18*((LOG(AK18))/LOG(2))))","v":-0.48220555587606945},null,{"$f":"N18","v":2122},{"$f":"COUNTIF(L115:L141,AN18)","v":5},{"$f":"AO18/(AQ4-AO20)","v":0.26315789473684209},{"$f":"IF(AP18=0,0,(AP18*((LOG(AP18))/LOG(2))))","v":-0.50684195225163764},null,{"$f":"N18","v":2122},{"$f":"COUNTIF(L142:L168,AS18)","v":3},{"$f":"AT18/(AV4-AT20)","v":0.13043478260869565},{"$f":"IF(AU18=0,0,(AU18*((LOG(AU18))/LOG(2))))","v":-0.3832955811307639}]
[21,2164,12,2169,24,2174,23,2182,null,null,0,2122,null,2211,{"$f":"COUNTIF($L$7:$L$500,N19)","v":0},{"$f":"O19/$Q$4","v":0},{"$f":"IF(P19=0,0,(P19*((LOG(P19))/LOG(2))))","v":0},null,null,{"$f":"N19","v":2211},{"$f":"COUNTIF(L7:L33,T19)","v":0},{"$f":"U19/(W4-U20)","v":0},{"$f":"IF(V19=0,0,(V19*((LOG(V19))/LOG(2))))","v":0},null,{"$f":"N19","v":2211},{"$f":"COUNTIF(L34:L60,Y19)","v":0},{"$f":"Z19/(AB4-Z20)","v":0},{"$f":"IF(AA19=0,0,(AA19*((LOG(AA19))/LOG(2))))","v":0},null,{"$f":"N19","v":2211},{"$f":"COUNTIF(L61:L87,AD19)","v":0},{"$f":"AE19/(AG4-AE20)","v":0},{"$f":"IF(AF19=0,0,(AF19*((LOG(AF19))/LOG(2))))","v":0},null,{"$f":"N19","v":2211},{"$f":"COUNTIF(L88:L114,AI19)","v":0},{"$f":"AJ19/(AL4-AJ20)","v":0},{"$f":"IF(AK19=0,0,(AK19*((LOG(AK19))/LOG(2))))","v":0},null,{"$f":"N19","v":2211},{"$f":"COUNTIF(L115:L141,AN19)","v":0},{"$f":"AO19/(AQ4-AO20)","v":0},{"$f":"IF(AP19=0,0,(AP19*((LOG(AP19))/LOG(2))))","v":0},null,{"$f":"N19","v":2211},{"$f":"COUNTIF(L142:L168,AS19)","v":0},{"$f":"AT19/(AV4-AT20)","v":0},{"$f":"IF(AU19=0,0,(AU19*((LOG(AU19))/LOG(2))))","v":0}]
[21,2274,21,2278,22,2283,23,2291,null,null,0,2222,null,2212,{"$f":"COUNTIF($L$7:$L$500,N20)","v":38},{"$f":"O20/$Q$4","v":0.23456790123456789},{"$f":"IF(P20=0,0,(P20*((LOG(P20))/LOG(2))))","v":-0.49069786789357706},null,null,{"$f":"N20","v":2212},{"$f":"COUNTIF(L7:L33,T20)","v":4},null,null,null,{"$f":"N20","v":2212},{"$f":"COUNTIF(L34:L60,Y20)","v":6},null,null,null,{"$f":"N20","v":2212},{"$f":"COUNTIF(L61:L87,AD20)","v":7},null,null,null,{"$f":"N20","v":2212},{"$f":"COUNTIF(L88:L114,AI20)","v":9},null,null,null,{"$f":"N20","v":2212},{"$f":"COUNTIF(L115:L141,AN20)","v":8},null,null,null,{"$f":"N20","v":2212},{"$f":"COUNTIF(L142:L168,AS20)","v":4}]
[21,2389,21,2394,22,2399,23,2403,null,null,0,2222,null,2221,{"$f":"COUNTIF($L$7:$L$500,N21)","v":14},{"$f":"O21/$Q$4","v":8.6419753086419748E-2},{"$f":"IF(P21=0,0,(P21*((LOG(P21))/LOG(2))))","v":-0.30527735266406353},null,null,{"$f":"N21","v":2221},{"$f":"COUNTIF(L7:L33,T21)","v":3},{"$f":"U21/(W4-U20)","v":0.13043478260869565},{"$f":"IF(V21=0,0,(V21*((LOG(V21))/LOG(2))))","v":-0.3832955811307639},null,{"$f":"N21","v":2221},{"$f":"COUNTIF(L34:L60,Y21)","v":4},{"$f":"Z21/(AB4-Z20)","v":0.19047619047619047},{"$f":"IF(AA21=0,0,(AA21*((LOG(AA21))/LOG(2))))","v":-0.4556795091007162},null,{"$f":"N21","v":2221},{"$f":"COUNTIF(L61:L87,AD21)","v":1},{"$f":"AE21/(AG4-AE20)","v":0.05},{"$f":"IF(AF21=0,0,(AF21*((LOG(AF21))/LOG(2))))","v":-0.21609640474436814},null,{"$f":"N21","v":2221},{"$f":"COUNTIF(L88:L114,AI21)","v":2},{"$f":"AJ21/(AL4-AJ20)","v":0.1111111111111111},{"$f":"IF(AK21=0,0,(AK21*((LOG(AK21))/LOG(2))))","v":-0.3522138890491458},null,{"$f":"N21","v":2221},{"$f":"COUNTIF(L115:L141,AN21)","v":0},{"$f":"AO21/(AQ4-AO20)","v":0},{"$f":"IF(AP21=0,0,(AP21*((LOG(AP21))/LOG(2))))","v":0},null,{"$f":"N21","v":2221},{"$f":"COUNTIF(L142:L168,AS21)","v":4},{"$f":"AT21/(AV4-AT20)","v":0.17391304347826086},{"$f":"IF(AU21=0,0,(AU21*((LOG(AU21))/LOG(2))))","v":-0.43888034018382832}]
[21,2501,21,2505,22,2510,23,2517,null,null,0,2222,null,2222,{"$f":"COUNTIF($L$7:$L$500,N22)","v":54},{"$f":"O22/$Q$4","v":0.33333333333333331},{"$f":"IF(P22=0,0,(P22*((LOG(P22))/LOG(2))))","v":-0.52832083357371862},null,null,{"$f":"N22","v":2222},{"$f":"COUNTIF(L7:L33,T22)","v":13},{"$f":"U22/(W4-U20)","v":0.56521739130434778},{"$f":"IF(V22=0,0,(V22*((LOG(V22))/LOG(2))))","v":-0.46524300403943353},null,{"$f":"N22","v":2222},{"$f":"COUNTIF(L34:L60,Y22)","v":10},{"$f":"Z22/(AB4-Z20)","v":0.47619047619047616},{"$f":"IF(AA22=0,0,(AA22*((LOG(AA22))/LOG(2))))","v":-0.50970920375780859},null,{"$f":"N22","v":2222},{"$f":"COUNTIF(L61:L87,AD22)","v":11},{"$f":"AE22/(AG4-AE20)","v":0.55000000000000004},{"$f":"IF(AF22=0,0,(AF22*((LOG(AF22))/LOG(2))))","v":-0.47437306193753576},null,{"$f":"N22","v":2222},{"$f":"COUNTIF(L88:L114,AI22)","v":5},{"$f":"AJ22/(AL4-AJ20)","v":0.27777777777777779},{"$f":"IF(AK22=0,0,(AK22*((LOG(AK22))/LOG(2))))","v":-0.51333247404304172},null,{"$f":"N22","v":2222},{"$f":"COUNTIF(L115:L141,AN22)","v":7},{"$f":"AO22/(AQ4-AO20)","v":0.36842105263157893},{"$f":"IF(AP22=0,0,(AP22*((LOG(AP22))/LOG(2))))","v":-0.53073727051062469},null,{"$f":"N22","v":2222},{"$f":"COUNTIF(L142:L168,AS22)","v":8},{"$f":"AT22/(AV4-AT20)","v":0.34782608695652173},{"$f":"IF(AU22=0,0,(AU22*((LOG(AU22))/LOG(2))))","v":-0.52993459341113491}]
[21,2615,21,2619,22,2623,23,2631,null,null,0,2222,null,null,null,{"$f":"SUM(P7:P22)","v":0.99999999999999978},{"$f":"-SUM(Q7:Q22)","v":2.4844296469502076},null,null,null,null,{"$f":"SUM(V7:V22)","v":1},{"$f":"-SUM(W7:W22)","v":1.8446275499630505},null,null,null,{"$f":"SUM(AA7:AA22)","v":0.99999999999999989},{"$f":"-SUM(AB7:AB22)","v":1.7814164026211206},null,null,null,{"$f":"SUM(AF7:AF22)","v":1},{"$f":"-SUM(AG7:AG22)","v":1.6010143058068347},null,null,null,{"$f":"SUM(AK7:AK22)","v":0.99999999999999989},{"$f":"-SUM(AL7:AL22)","v":2.107735252622104},null,null,null,{"$f":"SUM(AP7:AP22)","v":1},{"$f":"-SUM(AQ7:AQ22)","v":2.1020906748558499},null,null,null,{"$f":"SUM(AU7:AU22)","v":1},{"$f":"-SUM(AV7:AV22)","v":2.4207563918570005}]
[21,2729,21,2733,22,2738,23,2744,null,null,0,2222,null,null,null,"U=",{"$f":"Q23/(LOG(Q4)/LOG(2))","v":0.33848507067226241},null,null,null,null,"U1=",{"$f":"W23/(LOG(W4)/LOG(2))","v":0.38794346850976957},null,null,null,"U2=",{"$f":"AB23/(LOG(AB4)/LOG(2))","v":0.37464953730463196},null,null,null,"U3=",{"$f":"AG23/(LOG(AG4)/LOG(2))","v":0.33670918714236142},null,null,null,"U4=",{"$f":"AL23/(LOG(AL4)/LOG(2))","v":0.44327762784357927},null,null,null,"U5=",{"$f":"AQ23/(LOG(AQ4)/LOG(2))","v":0.44209051715722003},null,null,null,"U6=",{"$f":"AV23/(LOG(AV4)/LOG(2))","v":0.50910907792362259}]
[12,2839,23,2846,24,2850,23,2855,null,null,0,1222]
[21,2952,21,2954,22,2958,14,2961,null,null,0,2221]
[21,3066,12,3071,24,3080,23,3087,null,null,0,2122,null,"Total Target Seq"]
[21,3181,21,3187,11,3193,21,3195,null,null,0,2212,null,{"$f":"COUNTIF(L7:L168,G3)","v":38},null,27,27,27,27,27,27]
[21,3294,21,3300,11,3304,21,3316,null,null,0,2212,null,null,null,"% of reinforcement given in 6 equal intervals based on number of trials "]
[21,3490,21,3495,22,3502,23,3515,null,null,0,2222,null,null,null,"%_1","%_2","%_3","%_4","%_5","%_6"]
[21,3610,21,3625,22,3633,23,3642,null,null,0,2222,null,null,"target sequence",{"$f":"$G$3","v":2212},{"$f":"$G$3","v":2212},{"$f":"$G$3","v":2212},{"$f":"$G$3","v":2212},{"$f":"$G$3","v":2212},{"$f":"$G$3","v":2212}]
[21,3742,12,3750,24,3755,23,3768,null,null,0,2122,null,null,"total reinforcement",{"$f":"U20","v":4},{"$f":"Z20","v":6},{"$f":"AE20","v":7},{"$f":"AJ20","v":9},{"$f":"AO20","v":8},{"$f":"AT20","v":4}]
[21,3866,21,3869,22,3873,14,3878,null,null,0,2221,null,null,"% target"]
[21,3975,21,3980,22,3986,23,3994,null,null,0,2222,null,null,"CCRF"]
[21,4089,21,4093,22,4099,23,4105,null,null,0,2222,null,null,"% CCRf"]
[21,4201,21,4209,22,4214,23,4224,null,null,0,2222,null,null,"average response rate",{"$f":"H33/P28","v":143.62962962962962},{"$f":"(H60-H33)/Q28","v":161.44444444444446},{"$f":"(H87-H60)/R28","v":158.85185185185185},{"$f":"(H114-H87)/S28","v":157.22222222222223},{"$f":"(H141-H114)/T28","v":142.07407407407408},{"$f":"(H168-H141)/U28","v":124.81481481481481}]
[21,4332,21,4338,22,4342,23,4349,null,null,0,2222]
[21,4446,21,4453,11,4455,21,4457,null,null,0,2212]
[21,4562,12,4566,24,4571,23,4578,null,null,0,2122]
[12,4698,23,4704,24,4710,23,4719,null,null,0,1222]
[21,4817,12,4824,24,4829,23,4836,null,null,0,2122]
[21,4933,21,4937,22,4939,14,4942,null,null,0,2221]
[21,5040,21,5043,22,5048,23,5055,null,null,0,2222]
[21,5152,21,5155,22,5159,14,5164,null,null,0,2221]
[21,5258,21,5263,22,5267,23,5271,null,null,0,2222]
[21,5363,21,5367,22,5373,23,5379,null,null,0,2222]
[21,5472,21,5476,22,5486,23,5493,null,null,0,2222]
[21,5589,21,5594,11,5596,21,5598,null,null,0,2212]
[21,5725,21,5732,22,5753,23,5763,null,null,0,2222]
[21,5860,21,5865,11,5869,21,5872,null,null,0,2212]
[21,6349,21,6360,11,6363,21,6371,null,null,0,2212]
[21,6609,12,6614,24,6629,23,6638,null,null,0,2122]
[21,6730,12,6735,24,6740,23,6746,null,null,0,2122]
[21,6841,21,6844,22,6849,14,6851,null,null,0,2221]
[21,6947,12,6953,24,6959,23,6967,null,null,0,2122]
[12,7060,23,7067,24,7070,23,7075,null,null,0,1222]
[21,7176,21,7179,11,7183,21,7185,null,null,0,2212]
[21,7931,21,7937,11,7944,21,7946,null,null,0,2212]
[21,8103,21,8104,22,8112,14,8118,null,null,0,2221]
[21,8215,21,8220,22,8229,23,8237,null,null,0,2222]
[21,8330,12,8335,24,8338,23,8345,null,null,0,2122]
[21,8442,21,8444,22,8448,23,8461,null,null,0,2222]
[21,8561,21,8564,22,8568,23,8576,null,null,0,2222]
[21,8672,21,8682,22,8690,23,8697,null,null,0,2222]
[21,8789,21,8796,22,8800,23,8803,null,null,0,2222]
[21,8899,21,8904,22,8907,23,8914,null,null,0,2222]
[21,9014,12,9021,24,9027,23,9035,null,null,0,2122]
[21,9131,21,9139,11,9142,21,9149,null,null,0,2212]
[21,9294,21,9298,11,9303,21,9310,null,null,0,2212]
[21,9455,12,9458,24,9478,23,9491,null,null,0,2122]
[21,9583,21,9588,11,9595,21,9601,null,null,0,2212]
[21,9779,21,9786,22,9805,23,9813,null,null,0,2222]
[21,9913,21,9921,22,9927,23,9936,null,null,0,2222]
[21,10038,21,10042,22,10048,23,10056,null,null,0,2222]
[21,10151,21,10153,22,10160,14,10162,null,null,0,2221]
[12,10256,23,10265,24,10267,23,10271,null,null,0,1222]
[12,10364,23,10373,24,10382,23,10387,null,null,0,1222]
[21,10484,21,10488,22,10492,23,10497,null,null,0,2222]
[12,10590,23,10596,24,10598,23,10602,null,null,0,1222]
[21,10693,21,10700,22,10704,23,10709,null,null,0,2222]
[21,10805,21,10813,11,10815,21,10818,null,null,0,2212]
[21,11589,21,11594,22,11601,23,11607,null,null,0,2222]
[21,11709,21,11713,11,11715,21,11719,null,null,0,2212]
[21,11947,12,11950,24,11988,23,11996,null,null,0,2122]
[21,12099,21,12101,11,12104,21,12115,null,null,0,2212]
[21,12247,21,12249,11,12257,21,12261,null,null,0,2212]
[21,12487,12,12493,24,12507,23,12526,null,null,0,2122]
[21,12621,21,12625,11,12627,21,12630,null,null,0,2212]
[12,12978,23,13009,24,13023,23,13040,null,null,0,1222]
[21,13137,21,13142,22,13145,14,13146,null,null,0,2221]
[21,13246,21,13249,11,13253,21,13260,null,null,0,2212]
[21,13452,12,13457,24,13467,23,13480,null,null,0,2122]
[21,13576,21,13584,11,13585,21,13591,null,null,0,2212]
[21,13807,21,13813,22,13828,23,13856,null,null,0,2222]
[21,13967,21,13972,22,13983,23,13991,null,null,0,2222]
[12,14086,23,14097,24,14101,23,14106,null,null,0,1222]
[21,14209,12,14215,13,14219,23,14222,null,null,0,2112]
[21,14324,21,14326,22,14329,23,14334,null,null,0,2222]
[21,14430,21,14436,11,14439,21,14449,null,null,0,2212]
[21,14566,21,14571,11,14574,21,14578,null,null,0,2212]
[12,14783,23,14802,24,14810,23,14818,null,null,0,1222]
[21,14910,21,14915,22,14920,23,14925,null,null,0,2222]
[21,15025,21,15029,11,15033,21,15041,null,null,0,2212]
[21,15515,21,15536,22,15543,23,15552,null,null,0,2222]
[12,15646,23,15657,24,15663,23,15672,null,null,0,1222]
[21,15769,21,15773,11,15777,21,15793,null,null,0,2212]
[21,15892,12,15897,24,15909,23,15917,null,null,0,2122]
[21,16011,12,16014,24,16020,23,16026,null,null,0,2122]
[12,16142,23,16150,24,16156,23,16161,null,null,0,1222]
[21,16253,21,16257,22,16260,14,16262,null,null,0,2221]
[21,16358,21,16365,11,16368,21,16375,null,null,0,2212]
[12,16510,23,16515,24,16527,23,16541,null,null,0,1222]
[21,16637,12,16643,24,16648,23,16654,null,null,0,2122]
[21,16755,21,16759,11,16765,21,16771,null,null,0,2212]
[12,16994,23,17007,24,17020,23,17030,null,null,0,1222]
[21,17128,21,17134,11,17142,21,17146,null,null,0,2212]
[12,17353,23,17355,24,17367,14,17382,null,null,0,1221]
[21,17482,21,17486,11,17490,21,17493,null,null,0,2212]
[21,17672,12,17678,24,17689,23,17698,null,null,0,2122]
[21,17792,21,17797,22,17806,23,17812,null,null,0,2222]
[21,17907,21,17911,11,17914,21,17923,null,null,0,2212]
[21,18069,12,18076,24,18084,23,18093,null,null,0,2122]
[12,18186,23,18191,24,18198,23,18207,null,null,0,1222]
[21,18298,21,18310,11,18311,21,18313,null,null,0,2212]
[21,18427,12,18432,13,18443,23,18445,null,null,0,2112]
[21,18541,21,18547,22,18558,23,18564,null,null,0,2222]
[21,18659,21,18663,11,18666,21,18672,null,null,0,2212]
[12,18856,23,18869,24,18878,23,18887,null,null,0,1222]
[12,18980,23,18990,24,18994,14,18998,null,null,0,1221]
[21,19094,12,19101,24,19104,23,19115,null,null,0,2122]
[21,19213,21,19216,22,19220,23,19226,null,null,0,2222]
[21,19326,21,19330,11,19333,21,19345,null,null,0,2212]
[21,19467,21,19472,22,19480,23,19487,null,null,0,2222]
[21,19584,21,19589,22,19593,23,19600,null,null,0,2222]
[21,19697,21,19703,11,19707,21,19711,null,null,0,2212]
[21,19858,21,19864,11,19872,21,19881,null,null,0,2212]
[21,20136,12,20142,24,20147,23,20157,null,null,0,2122]
[12,20250,23,20252,24,20257,14,20262,null,null,0,1221]
[21,20361,21,20366,22,20370,23,20377,null,null,0,2222]
[21,20476,21,20480,22,20488,23,20502,null,null,0,2222]
[21,20599,12,20602,24,20605,23,20607,null,null,0,2122]
[21,20701,21,20707,22,20715,23,20722,null,null,0,2222]
[21,20818,21,20822,22,20825,14,20827,null,null,0,2221]
[21,20924,21,20928,22,20934,23,20944,null,null,0,2222]
[12,21036,23,21042,24,21055,23,21063,null,null,0,1222]
[12,21156,23,21164,24,21171,23,21178,null,null,0,1222]
[21,21271,21,21275,22,21278,23,21283,null,null,0,2222]
[21,21377,21,21382,22,21389,14,21397,null,null,0,2221]
[21,21489,21,21491,22,21497,14,21499,null,null,0,2221]
[21,21591,21,21597,22,21598,23,21604,null,null,0,2222]
[21,21699,21,21704,22,21713,23,21720,null,null,0,2222]
[21,21816,12,21821,24,21823,23,21827,null,null,0,2122]
[21,21922,21,21925,11,21927,21,21928,null,null,0,2212]
[21,22140,12,22145,24,22158,23,22170,null,null,0,2122]
[21,22267,21,22272,11,22277,21,22279,null,null,0,2212]
[12,22460,23,22492,24,22500,23,22507,null,null,0,1222]
[12,22601,23,22604,13,22611,23,22615,null,null,0,1212]
[21,22710,21,22714,11,22716,21,22718,null,null,0,2212]
[12,22865,23,22868,24,22875,23,22882,null,null,0,1222]
[21,22979,21,22987,22,22994,23,23009,null,null,0,2222]
[12,23102,23,23109,24,23112,14,23115,null,null,0,1221]
[21,23211,21,23218,22,23224,23,23230,null,null,0,2222]
[21,23326,12,23334,24,23341,23,23355,null,null,0,2122]
[21,23453,21,23457,22,23462,14,23464,null,null,0,2221]
[12,23556,23,23566,13,23568,14,23573,null,null,0,1211]
[12,23668,23,23671,24,23674,23,23680,null,null,0,1222]
[21,23783,21,23787,11,23789,21,23792,null,null,0,2212]
[21,23948,21,23963,22,23971,23,23977,null,null,null,2222]

{"sheet":"!M716A10.Gus","index":27,"n_rows":194,"n_cols":48,"rows_kept":194,"cut":false,"hidden":false,"merged":[[4,39,4,42],[5,39,5,40],[4,44,4,47],[5,44,5,45],[4,24,4,27],[5,24,5,25],[4,29,4,32],[5,29,5,30],[4,34,4,37],[5,34,5,35],[1,1,1,2],[5,13,5,14],[26,13,26,14],[27,13,27,14],[4,19,4,22],[5,19,5,20]]}
["Report for:!M716A10.Gus"]
["Date:","<date>"]
["Hen:","<hen>",null,null,null,"Correct Sequence",{"$f":"Start!J2","v":2212},null,null,null,null,null,null,null,null,"Total Sequences in Data",{"$f":"4994-COUNTBLANK(L7:L5000)","v":188},null,null,null,null,"Total Sequences in Block Data",{"$f":"COUNTA(L7:L37)","v":31},null,null,null,"Total Sequences in Block Data",{"$f":"COUNTA(L38:L69)","v":32},null,null,null,"Total Sequences in Block Data",{"$f":"COUNTA(L70:L100)","v":31},null,null,null,"Total Sequences in Block Data",{"$f":"COUNTA(L101:L131)","v":31},null,null,null,"Total Sequences in Block Data",{"$f":"COUNTA(L132:L163)","v":32},null,null,null,"Total Sequences in Block Data",{"$f":"COUNTA(L164:L194)","v":31}]
[null,null,null,null,null,null,null,null,null,null,null,null,null,null,null,"Total Sequences in Summary",{"$f":"SUM(O7:O22)","v":188},null,null,null,null,"Total Sequences in Block Summary",{"$f":"SUM(U7:U22)","v":31},null,null,null,"Total Sequences in Block Summary",{"$f":"SUM(Z7:Z22)","v":32},null,null,null,"Total Sequences in Block Summary",{"$f":"SUM(AE7:AE22)","v":31},null,null,null,"Total Sequences in Block Summary",{"$f":"SUM(AJ7:AJ22)","v":31},null,null,null,"Total Sequences in Block Summary",{"$f":"SUM(AO7:AO22)","v":32},null,null,null,"Total Sequences in Block Summary",{"$f":"SUM(AT7:AT22)","v":31}]
[null,null,null,null,null,null,null,null,null,null,null,null,null,null,null,null,null,null,null,"Block 1",null,null,null,null,"Block 2",null,null,null,null,"Block 3",null,null,null,null,"Block 4",null,null,null,null,"Block 5",null,null,null,null,"Block 6"]
["Sequence\nComponent\n1","Time\n1","Sequence\nComponent\n2","Time\n2","Sequence\nComponent\n3","Time\n3","Sequence\nComponent\n4","Time\n4","Sequence\nComponent\n5","Time\n5","Correct?\n0=No 1=Yes","Sequence",null,"Frequency",null,"Relative Frequency","Variability",null,null,"Frequency",null,"Relative Frequency","Variability",null,"Frequency",null,"Relative Frequency","Variability",null,"Frequency",null,"Relative Frequency","Variability",null,"Frequency",null,"Relative Frequency","Variability",null,"Frequency",null,"Relative Frequency","Variability",null,"Frequency",null,"Relative Frequency","Variability"]
[21,77,21,82,22,95,23,102,null,null,0,2222,null,1111,{"$f":"COUNTIF($L$7:$L$500,N7)","v":0},{"$f":"O7/$Q$4","v":0},{"$f":"IF(P7=0,0,(P7*((LOG(P7))/LOG(2))))","v":0},null,null,{"$f":"N7","v":1111},{"$f":"COUNTIF(L7:L37,T7)","v":0},{"$f":"U7/(W4-U20)","v":0},{"$f":"IF(V7=0,0,(V7*((LOG(V7))/LOG(2))))","v":0},null,{"$f":"N7","v":1111},{"$f":"COUNTIF(L38:L69,Y7)","v":0},{"$f":"Z7/(AB4-Z20)","v":0},{"$f":"IF(AA7=0,0,(AA7*((LOG(AA7))/LOG(2))))","v":0},null,{"$f":"N7","v":1111},{"$f":"COUNTIF(L70:L100,AD7)","v":0},{"$f":"AE7/(AG4-AE20)","v":0},{"$f":"IF(AF7=0,0,(AF7*((LOG(AF7))/LOG(2))))","v":0},null,{"$f":"N7","v":1111},{"$f":"COUNTIF(L101:L131,AI7)","v":0},{"$f":"AJ7/(AL4-AJ20)","v":0},{"$f":"IF(AK7=0,0,(AK7*((LOG(AK7))/LOG(2))))","v":0},null,{"$f":"N7","v":1111},{"$f":"COUNTIF(L132:L163,AN7)","v":0},{"$f":"AO7/(AQ4-AO20)","v":0},{"$f":"IF(AP7=0,0,(AP7*((LOG(AP7))/LOG(2))))","v":0},null,{"$f":"N7","v":1111},{"$f":"COUNTIF(L164:L194,AS7)","v":0},{"$f":"AT7/(AV4-AT20)","v":0},{"$f":"IF(AU7=0,0,(AU7*((LOG(AU7))/LOG(2))))","v":0}]
[21,206,12,211,24,213,23,218,null,null,0,2122,null,1112,{"$f":"COUNTIF($L$7:$L$500,N8)","v":0},{"$f":"O8/$Q$4","v":0},{"$f":"IF(P8=0,0,(P8*((LOG(P8))/LOG(2))))","v":0},null,null,{"$f":"N8","v":1112},{"$f":"COUNTIF(L7:L37,T8)","v":0},{"$f":"U8/(W4-U20)","v":0},{"$f":"IF(V8=0,0,(V8*((LOG(V8))/LOG(2))))","v":0},null,{"$f":"N8","v":1112},{"$f":"COUNTIF(L38:L69,Y8)","v":0},{"$f":"Z8/(AB4-Z20)","v":0},{"$f":"IF(AA8=0,0,(AA8*((LOG(AA8))/LOG(2))))","v":0},null,{"$f":"N8","v":1112},{"$f":"COUNTIF(L70:L100,AD8)","v":0},{"$f":"AE8/(AG4-AE20)","v":0},{"$f":"IF(AF8=0,0,(AF8*((LOG(AF8))/LOG(2))))","v":0},null,{"$f":"N8","v":1112},{"$f":"COUNTIF(L101:L131,AI8)","v":0},{"$f":"AJ8/(AL4-AJ20)","v":0},{"$f":"IF(AK8=0,0,(AK8*((LOG(AK8))/LOG(2))))","v":0},null,{"$f":"N8","v":1112},{"$f":"COUNTIF(L132:L163,AN8)","v":0},{"$f":"AO8/(AQ4-AO20)","v":0},{"$f":"IF(AP8=0,0,(AP8*((LOG(AP8))/LOG(2))))","v":0},null,{"$f":"N8","v":1112},{"$f":"COUNTIF(L164:L194,AS8)","v":0},{"$f":"AT8/(AV4-AT20)","v":0},{"$f":"IF(AU8=0,0,(AU8*((LOG(AU8))/LOG(2))))","v":0}]
[21,317,21,318,22,321,23,324,null,null,0,2222,null,1121,{"$f":"COUNTIF($L$7:$L$500,N9)","v":0},{"$f":"O9/$Q$4","v":0},{"$f":"IF(P9=0,0,(P9*((LOG(P9))/LOG(2))))","v":0},null,null,{"$f":"N9","v":1121},{"$f":"COUNTIF(L7:L37,T9)","v":0},{"$f":"U9/(W4-U20)","v":0},{"$f":"IF(V9=0,0,(V9*((LOG(V9))/LOG(2))))","v":0},null,{"$f":"N9","v":1121},{"$f":"COUNTIF(L38:L69,Y9)","v":0},{"$f":"Z9/(AB4-Z20)","v":0},{"$f":"IF(AA9=0,0,(AA9*((LOG(AA9))/LOG(2))))","v":0},null,{"$f":"N9","v":1121},{"$f":"COUNTIF(L70:L100,AD9)","v":0},{"$f":"AE9/(AG4-AE20)","v":0},{"$f":"IF(AF9=0,0,(AF9*((LOG(AF9))/LOG(2))))","v":0},null,{"$f":"N9","v":1121},{"$f":"COUNTIF(L101:L131,AI9)","v":0},{"$f":"AJ9/(AL4-AJ20)","v":0},{"$f":"IF(AK9=0,0,(AK9*((LOG(AK9))/LOG(2))))","v":0},null,{"$f":"N9","v":1121},{"$f":"COUNTIF(L132:L163,AN9)","v":0},{"$f":"AO9/(AQ4-AO20)","v":0},{"$f":"IF(AP9=0,0,(AP9*((LOG(AP9))/LOG(2))))","v":0},null,{"$f":"N9","v":1121},{"$f":"COUNTIF(L164:L194,AS9)","v":0},{"$f":"AT9/(AV4-AT20)","v":0},{"$f":"IF(AU9=0,0,(AU9*((LOG(AU9))/LOG(2))))","v":0}]
[21,430,21,433,22,440,23,445,null,null,0,2222,null,1122,{"$f":"COUNTIF($L$7:$L$500,N10)","v":1},{"$f":"O10/$Q$4","v":5.3191489361702126E-3},{"$f":"IF(P10=0,0,(P10*((LOG(P10))/LOG(2))))","v":-4.0183983253604456E-2},null,null,{"$f":"N10","v":1122},{"$f":"COUNTIF(L7:L37,T10)","v":0},{"$f":"U10/(W4-U20)","v":0},{"$f":"IF(V10=0,0,(V10*((LOG(V10))/LOG(2))))","v":0},null,{"$f":"N10","v":1122},{"$f":"COUNTIF(L38:L69,Y10)","v":0},{"$f":"Z10/(AB4-Z20)","v":0},{"$f":"IF(AA10=0,0,(AA10*((LOG(AA10))/LOG(2))))","v":0},null,{"$f":"N10","v":1122},{"$f":"COUNTIF(L70:L100,AD10)","v":1},{"$f":"AE10/(AG4-AE20)","v":4.1666666666666664E-2},{"$f":"IF(AF10=0,0,(AF10*((LOG(AF10))/LOG(2))))","v":-0.19104010419671485},null,{"$f":"N10","v":1122},{"$f":"COUNTIF(L101:L131,AI10)","v":0},{"$f":"AJ10/(AL4-AJ20)","v":0},{"$f":"IF(AK10=0,0,(AK10*((LOG(AK10))/LOG(2))))","v":0},null,{"$f":"N10","v":1122},{"$f":"COUNTIF(L132:L163,AN10)","v":0},{"$f":"AO10/(AQ4-AO20)","v":0},{"$f":"IF(AP10=0,0,(AP10*((LOG(AP10))/LOG(2))))","v":0},null,{"$f":"N10","v":1122},{"$f":"COUNTIF(L164:L194,AS10)","v":0},{"$f":"AT10/(AV4-AT20)","v":0},{"$f":"IF(AU10=0,0,(AU10*((LOG(AU10))/LOG(2))))","v":0}]
[21,548,12,554,24,558,23,569,null,null,0,2122,null,1211,{"$f":"COUNTIF($L$7:$L$500,N11)","v":0},{"$f":"O11/$Q$4","v":0},{"$f":"IF(P11=0,0,(P11*((LOG(P11))/LOG(2))))","v":0},null,null,{"$f":"N11","v":1211},{"$f":"COUNTIF(L7:L37,T11)","v":0},{"$f":"U11/(W4-U20)","v":0},{"$f":"IF(V11=0,0,(V11*((LOG(V11))/LOG(2))))","v":0},null,{"$f":"N11","v":1211},{"$f":"COUNTIF(L38:L69,Y11)","v":0},{"$f":"Z11/(AB4-Z20)","v":0},{"$f":"IF(AA11=0,0,(AA11*((LOG(AA11))/LOG(2))))","v":0},null,{"$f":"N11","v":1211},{"$f":"COUNTIF(L70:L100,AD11)","v":0},{"$f":"AE11/(AG4-AE20)","v":0},{"$f":"IF(AF11=0,0,(AF11*((LOG(AF11))/LOG(2))))","v":0},null,{"$f":"N11","v":1211},{"$f":"COUNTIF(L101:L131,AI11)","v":0},{"$f":"AJ11/(AL4-AJ20)","v":0},{"$f":"IF(AK11=0,0,(AK11*((LOG(AK11))/LOG(2))))","v":0},null,{"$f":"N11","v":1211},{"$f":"COUNTIF(L132:L163,AN11)","v":0},{"$f":"AO11/(AQ4-AO20)","v":0},{"$f":"IF(AP11=0,0,(AP11*((LOG(AP11))/LOG(2))))","v":0},null,{"$f":"N11","v":1211},{"$f":"COUNTIF(L164:L194,AS11)","v":0},{"$f":"AT11/(AV4-AT20)","v":0},{"$f":"IF(AU11=0,0,(AU11*((LOG(AU11))/LOG(2))))","v":0}]
[12,663,23,670,13,675,23,677,null,null,0,1212,null,1212,{"$f":"COUNTIF($L$7:$L$500,N12)","v":2},{"$f":"O12/$Q$4","v":1.0638297872340425E-2},{"$f":"IF(P12=0,0,(P12*((LOG(P12))/LOG(2))))","v":-6.9729668634868486E-2},null,null,{"$f":"N12","v":1212},{"$f":"COUNTIF(L7:L37,T12)","v":1},{"$f":"U12/(W4-U20)","v":0.04},{"$f":"IF(V12=0,0,(V12*((LOG(V12))/LOG(2))))","v":-0.18575424759098899},null,{"$f":"N12","v":1212},{"$f":"COUNTIF(L38:L69,Y12)","v":0},{"$f":"Z12/(AB4-Z20)","v":0},{"$f":"IF(AA12=0,0,(AA12*((LOG(AA12))/LOG(2))))","v":0},null,{"$f":"N12","v":1212},{"$f":"COUNTIF(L70:L100,AD12)","v":0},{"$f":"AE12/(AG4-AE20)","v":0},{"$f":"IF(AF12=0,0,(AF12*((LOG(AF12))/LOG(2))))","v":0},null,{"$f":"N12","v":1212},{"$f":"COUNTIF(L101:L131,AI12)","v":0},{"$f":"AJ12/(AL4-AJ20)","v":0},{"$f":"IF(AK12=0,0,(AK12*((LOG(AK12))/LOG(2))))","v":0},null,{"$f":"N12","v":1212},{"$f":"COUNTIF(L132:L163,AN12)","v":1},{"$f":"AO12/(AQ4-AO20)","v":4.1666666666666664E-2},{"$f":"IF(AP12=0,0,(AP12*((LOG(AP12))/LOG(2))))","v":-0.19104010419671485},null,{"$f":"N12","v":1212},{"$f":"COUNTIF(L164:L194,AS12)","v":0},{"$f":"AT12/(AV4-AT20)","v":0},{"$f":"IF(AU12=0,0,(AU12*((LOG(AU12))/LOG(2))))","v":0}]
[21,774,21,779,22,782,23,787,null,null,0,2222,null,1221,{"$f":"COUNTIF($L$7:$L$500,N13)","v":6},{"$f":"O13/$Q$4","v":3.1914893617021274E-2},{"$f":"IF(P13=0,0,(P13*((LOG(P13))/LOG(2))))","v":-0.15860509630712172},null,null,{"$f":"N13","v":1221},{"$f":"COUNTIF(L7:L37,T13)","v":2},{"$f":"U13/(W4-U20)","v":0.08},{"$f":"IF(V13=0,0,(V13*((LOG(V13))/LOG(2))))","v":-0.29150849518197797},null,{"$f":"N13","v":1221},{"$f":"COUNTIF(L38:L69,Y13)","v":2},{"$f":"Z13/(AB4-Z20)","v":6.8965517241379309E-2},{"$f":"IF(AA13=0,0,(AA13*((LOG(AA13))/LOG(2))))","v":-0.26606765483638428},null,{"$f":"N13","v":1221},{"$f":"COUNTIF(L70:L100,AD13)","v":1},{"$f":"AE13/(AG4-AE20)","v":4.1666666666666664E-2},{"$f":"IF(AF13=0,0,(AF13*((LOG(AF13))/LOG(2))))","v":-0.19104010419671485},null,{"$f":"N13","v":1221},{"$f":"COUNTIF(L101:L131,AI13)","v":1},{"$f":"AJ13/(AL4-AJ20)","v":4.1666666666666664E-2},{"$f":"IF(AK13=0,0,(AK13*((LOG(AK13))/LOG(2))))","v":-0.19104010419671485},null,{"$f":"N13","v":1221},{"$f":"COUNTIF(L132:L163,AN13)","v":0},{"$f":"AO13/(AQ4-AO20)","v":0},{"$f":"IF(AP13=0,0,(AP13*((LOG(AP13))/LOG(2))))","v":0},null,{"$f":"N13","v":1221},{"$f":"COUNTIF(L164:L194,AS13)","v":0},{"$f":"AT13/(AV4-AT20)","v":0},{"$f":"IF(AU13=0,0,(AU13*((LOG(AU13))/LOG(2))))","v":0}]
[21,891,21,898,11,904,21,906,null,null,0,2212,null,1222,{"$f":"COUNTIF($L$7:$L$500,N14)","v":17},{"$f":"O14/$Q$4","v":9.0425531914893623E-2},{"$f":"IF(P14=0,0,(P14*((LOG(P14))/LOG(2))))","v":-0.31351671370885142},null,null,{"$f":"N14","v":1222},{"$f":"COUNTIF(L7:L37,T14)","v":1},{"$f":"U14/(W4-U20)","v":0.04},{"$f":"IF(V14=0,0,(V14*((LOG(V14))/LOG(2))))","v":-0.18575424759098899},null,{"$f":"N14","v":1222},{"$f":"COUNTIF(L38:L69,Y14)","v":1},{"$f":"Z14/(AB4-Z20)","v":3.4482758620689655E-2},{"$f":"IF(AA14=0,0,(AA14*((LOG(AA14))/LOG(2))))","v":-0.16751658603888178},null,{"$f":"N14","v":1222},{"$f":"COUNTIF(L70:L100,AD14)","v":5},{"$f":"AE14/(AG4-AE20)","v":0.20833333333333334},{"$f":"IF(AF14=0,0,(AF14*((LOG(AF14))/LOG(2))))","v":-0.47146550121537367},null,{"$f":"N14","v":1222},{"$f":"COUNTIF(L101:L131,AI14)","v":4},{"$f":"AJ14/(AL4-AJ20)","v":0.16666666666666666},{"$f":"IF(AK14=0,0,(AK14*((LOG(AK14))/LOG(2))))","v":-0.43082708345352599},null,{"$f":"N14","v":1222},{"$f":"COUNTIF(L132:L163,AN14)","v":5},{"$f":"AO14/(AQ4-AO20)","v":0.20833333333333334},{"$f":"IF(AP14=0,0,(AP14*((LOG(AP14))/LOG(2))))","v":-0.47146550121537367},null,{"$f":"N14","v":1222},{"$f":"COUNTIF(L164:L194,AS14)","v":1},{"$f":"AT14/(AV4-AT20)","v":3.8461538461538464E-2},{"$f":"IF(AU14=0,0,(AU14*((LOG(AU14))/LOG(2))))","v":-0.18078614300542661}]
[21,1451,12,1457,24,1462,23,1468,null,null,0,2122,null,2111,{"$f":"COUNTIF($L$7:$L$500,N15)","v":0},{"$f":"O15/$Q$4","v":0},{"$f":"IF(P15=0,0,(P15*((LOG(P15))/LOG(2))))","v":0},null,null,{"$f":"N15","v":2111},{"$f":"COUNTIF(L7:L37,T15)","v":0},{"$f":"U15/(W4-U20)","v":0},{"$f":"IF(V15=0,0,(V15*((LOG(V15))/LOG(2))))","v":0},null,{"$f":"N15","v":2111},{"$f":"COUNTIF(L38:L69,Y15)","v":0},{"$f":"Z15/(AB4-Z20)","v":0},{"$f":"IF(AA15=0,0,(AA15*((LOG(AA15))/LOG(2))))","v":0},null,{"$f":"N15","v":2111},{"$f":"COUNTIF(L70:L100,AD15)","v":0},{"$f":"AE15/(AG4-AE20)","v":0},{"$f":"IF(AF15=0,0,(AF15*((LOG(AF15))/LOG(2))))","v":0},null,{"$f":"N15","v":2111},{"$f":"COUNTIF(L101:L131,AI15)","v":0},{"$f":"AJ15/(AL4-AJ20)","v":0},{"$f":"IF(AK15=0,0,(AK15*((LOG(AK15))/LOG(2))))","v":0},null,{"$f":"N15","v":2111},{"$f":"COUNTIF(L132:L163,AN15)","v":0},{"$f":"AO15/(AQ4-AO20)","v":0},{"$f":"IF(AP15=0,0,(AP15*((LOG(AP15))/LOG(2))))","v":0},null,{"$f":"N15","v":2111},{"$f":"COUNTIF(L164:L194,AS15)","v":0},{"$f":"AT15/(AV4-AT20)","v":0},{"$f":"IF(AU15=0,0,(AU15*((LOG(AU15))/LOG(2))))","v":0}]
[21,1560,12,1565,24,1569,23,1576,null,null,0,2122,null,2112,{"$f":"COUNTIF($L$7:$L$500,N16)","v":1},{"$f":"O16/$Q$4","v":5.3191489361702126E-3},{"$f":"IF(P16=0,0,(P16*((LOG(P16))/LOG(2))))","v":-4.0183983253604456E-2},null,null,{"$f":"N16","v":2112},{"$f":"COUNTIF(L7:L37,T16)","v":0},{"$f":"U16/(W4-U20)","v":0},{"$f":"IF(V16=0,0,(V16*((LOG(V16))/LOG(2))))","v":0},null,{"$f":"N16","v":2112},{"$f":"COUNTIF(L38:L69,Y16)","v":0},{"$f":"Z16/(AB4-Z20)","v":0},{"$f":"IF(AA16=0,0,(AA16*((LOG(AA16))/LOG(2))))","v":0},null,{"$f":"N16","v":2112},{"$f":"COUNTIF(L70:L100,AD16)","v":0},{"$f":"AE16/(AG4-AE20)","v":0},{"$f":"IF(AF16=0,0,(AF16*((LOG(AF16))/LOG(2))))","v":0},null,{"$f":"N16","v":2112},{"$f":"COUNTIF(L101:L131,AI16)","v":0},{"$f":"AJ16/(AL4-AJ20)","v":0},{"$f":"IF(AK16=0,0,(AK16*((LOG(AK16))/LOG(2))))","v":0},null,{"$f":"N16","v":2112},{"$f":"COUNTIF(L132:L163,AN16)","v":0},{"$f":"AO16/(AQ4-AO20)","v":0},{"$f":"IF(AP16=0,0,(AP16*((LOG(AP16))/LOG(2))))","v":0},null,{"$f":"N16","v":2112},{"$f":"COUNTIF(L164:L194,AS16)","v":1},{"$f":"AT16/(AV4-AT20)","v":3.8461538461538464E-2},{"$f":"IF(AU16=0,0,(AU16*((LOG(AU16))/LOG(2))))","v":-0.18078614300542661}]
[21,1673,12,1679,24,1682,23,1688,null,null,0,2122,null,2121,{"$f":"COUNTIF($L$7:$L$500,N17)","v":0},{"$f":"O17/$Q$4","v":0},{"$f":"IF(P17=0,0,(P17*((LOG(P17))/LOG(2))))","v":0},null,null,{"$f":"N17","v":2121},{"$f":"COUNTIF(L7:L37,T17)","v":0},{"$f":"U17/(W4-U20)","v":0},{"$f":"IF(V17=0,0,(V17*((LOG(V17))/LOG(2))))","v":0},null,{"$f":"N17","v":2121},{"$f":"COUNTIF(L38:L69,Y17)","v":0},{"$f":"Z17/(AB4-Z20)","v":0},{"$f":"IF(AA17=0,0,(AA17*((LOG(AA17))/LOG(2))))","v":0},null,{"$f":"N17","v":2121},{"$f":"COUNTIF(L70:L100,AD17)","v":0},{"$f":"AE17/(AG4-AE20)","v":0},{"$f":"IF(AF17=0,0,(AF17*((LOG(AF17))/LOG(2))))","v":0},null,{"$f":"N17","v":2121},{"$f":"COUNTIF(L101:L131,AI17)","v":0},{"$f":"AJ17/(AL4-AJ20)","v":0},{"$f":"IF(AK17=0,0,(AK17*((LOG(AK17))/LOG(2))))","v":0},null,{"$f":"N17","v":2121},{"$f":"COUNTIF(L132:L163,AN17)","v":0},{"$f":"AO17/(AQ4-AO20)","v":0},{"$f":"IF(AP17=0,0,(AP17*((LOG(AP17))/LOG(2))))","v":0},null,{"$f":"N17","v":2121},{"$f":"COUNTIF(L164:L194,AS17)","v":0},{"$f":"AT17/(AV4-AT20)","v":0},{"$f":"IF(AU17=0,0,(AU17*((LOG(AU17))/LOG(2))))","v":0}]
[21,1780,21,1786,22,1792,23,1797,null,null,0,2222,null,2122,{"$f":"COUNTIF($L$7:$L$500,N18)","v":29},{"$f":"O18/$Q$4","v":0.15425531914893617},{"$f":"IF(P18=0,0,(P18*((LOG(P18))/LOG(2))))","v":-0.41596610553165903},null,null,{"$f":"N18","v":2122},{"$f":"COUNTIF(L7:L37,T18)","v":6},{"$f":"U18/(W4-U20)","v":0.24},{"$f":"IF(V18=0,0,(V18*((LOG(V18))/LOG(2))))","v":-0.49413448537285637},null,{"$f":"N18","v":2122},{"$f":"COUNTIF(L38:L69,Y18)","v":3},{"$f":"Z18/(AB4-Z20)","v":0.10344827586206896},{"$f":"IF(AA18=0,0,(AA18*((LOG(AA18))/LOG(2))))","v":-0.33858812011100858},null,{"$f":"N18","v":2122},{"$f":"COUNTIF(L70:L100,AD18)","v":4},{"$f":"AE18/(AG4-AE20)","v":0.16666666666666666},{"$f":"IF(AF18=0,0,(AF18*((LOG(AF18))/LOG(2))))","v":-0.43082708345352599},null,{"$f":"N18","v":2122},{"$f":"COUNTIF(L101:L131,AI18)","v":2},{"$f":"AJ18/(AL4-AJ20)","v":8.3333333333333329E-2},{"$f":"IF(AK18=0,0,(AK18*((LOG(AK18))/LOG(2))))","v":-0.29874687506009634},null,{"$f":"N18","v":2122},{"$f":"COUNTIF(L132:L163,AN18)","v":7},{"$f":"AO18/(AQ4-AO20)","v":0.29166666666666669},{"$f":"IF(AP18=0,0,(AP18*((LOG(AP18))/LOG(2))))","v":-0.51846887711020273},null,{"$f":"N18","v":2122},{"$f":"COUNTIF(L164:L194,AS18)","v":7},{"$f":"AT18/(AV4-AT20)","v":0.26923076923076922},{"$f":"IF(AU18=0,0,(AU18*((LOG(AU18))/LOG(2))))","v":-0.50967667586863141}]
[21,1894,21,1897,22,1901,14,1907,null,null,0,2221,null,2211,{"$f":"COUNTIF($L$7:$L$500,N19)","v":0},{"$f":"O19/$Q$4","v":0},{"$f":"IF(P19=0,0,(P19*((LOG(P19))/LOG(2))))","v":0},null,null,{"$f":"N19","v":2211},{"$f":"COUNTIF(L7:L37,T19)","v":0},{"$f":"U19/(W4-U20)","v":0},{"$f":"IF(V19=0,0,(V19*((LOG(V19))/LOG(2))))","v":0},null,{"$f":"N19","v":2211},{"$f":"COUNTIF(L38:L69,Y19)","v":0},{"$f":"Z19/(AB4-Z20)","v":0},{"$f":"IF(AA19=0,0,(AA19*((LOG(AA19))/LOG(2))))","v":0},null,{"$f":"N19","v":2211},{"$f":"COUNTIF(L70:L100,AD19)","v":0},{"$f":"AE19/(AG4-AE20)","v":0},{"$f":"IF(AF19=0,0,(AF19*((LOG(AF19))/LOG(2))))","v":0},null,{"$f":"N19","v":2211},{"$f":"COUNTIF(L101:L131,AI19)","v":0},{"$f":"AJ19/(AL4-AJ20)","v":0},{"$f":"IF(AK19=0,0,(AK19*((LOG(AK19))/LOG(2))))","v":0},null,{"$f":"N19","v":2211},{"$f":"COUNTIF(L132:L163,AN19)","v":0},{"$f":"AO19/(AQ4-AO20)","v":0},{"$f":"IF(AP19=0,0,(AP19*((LOG(AP19))/LOG(2))))","v":0},null,{"$f":"N19","v":2211},{"$f":"COUNTIF(L164:L194,AS19)","v":0},{"$f":"AT19/(AV4-AT20)","v":0},{"$f":"IF(AU19=0,0,(AU19*((LOG(AU19))/LOG(2))))","v":0}]
[21,2003,21,2011,11,2013,21,2015,null,null,0,2212,null,2212,{"$f":"COUNTIF($L$7:$L$500,N20)","v":36},{"$f":"O20/$Q$4","v":0.19148936170212766},{"$f":"IF(P20=0,0,(P20*((LOG(P20))/LOG(2))))","v":-0.45663775855570055},null,null,{"$f":"N20","v":2212},{"$f":"COUNTIF(L7:L37,T20)","v":6},null,null,null,{"$f":"N20","v":2212},{"$f":"COUNTIF(L38:L69,Y20)","v":3},null,null,null,{"$f":"N20","v":2212},{"$f":"COUNTIF(L70:L100,AD20)","v":7},null,null,null,{"$f":"N20","v":2212},{"$f":"COUNTIF(L101:L131,AI20)","v":7},null,null,null,{"$f":"N20","v":2212},{"$f":"COUNTIF(L132:L163,AN20)","v":8},null,null,null,{"$f":"N20","v":2212},{"$f":"COUNTIF(L164:L194,AS20)","v":5}]
[21,2139,21,2146,22,2156,23,2168,null,null,0,2222,null,2221,{"$f":"COUNTIF($L$7:$L$500,N21)","v":24},{"$f":"O21/$Q$4","v":0.1276595744680851},{"$f":"IF(P21=0,0,(P21*((LOG(P21))/LOG(2))))","v":-0.37910123629231673},null,null,{"$f":"N21","v":2221},{"$f":"COUNTIF(L7:L37,T21)","v":1},{"$f":"U21/(W4-U20)","v":0.04},{"$f":"IF(V21=0,0,(V21*((LOG(V21))/LOG(2))))","v":-0.18575424759098899},null,{"$f":"N21","v":2221},{"$f":"COUNTIF(L38:L69,Y21)","v":10},{"$f":"Z21/(AB4-Z20)","v":0.34482758620689657},{"$f":"IF(AA21=0,0,(AA21*((LOG(AA21))/LOG(2))))","v":-0.52967341387593436},null,{"$f":"N21","v":2221},{"$f":"COUNTIF(L70:L100,AD21)","v":6},{"$f":"AE21/(AG4-AE20)","v":0.25},{"$f":"IF(AF21=0,0,(AF21*((LOG(AF21))/LOG(2))))","v":-0.5},null,{"$f":"N21","v":2221},{"$f":"COUNTIF(L101:L131,AI21)","v":5},{"$f":"AJ21/(AL4-AJ20)","v":0.20833333333333334},{"$f":"IF(AK21=0,0,(AK21*((LOG(AK21))/LOG(2))))","v":-0.47146550121537367},null,{"$f":"N21","v":2221},{"$f":"COUNTIF(L132:L163,AN21)","v":1},{"$f":"AO21/(AQ4-AO20)","v":4.1666666666666664E-2},{"$f":"IF(AP21=0,0,(AP21*((LOG(AP21))/LOG(2))))","v":-0.19104010419671485},null,{"$f":"N21","v":2221},{"$f":"COUNTIF(L164:L194,AS21)","v":1},{"$f":"AT21/(AV4-AT20)","v":3.8461538461538464E-2},{"$f":"IF(AU21=0,0,(AU21*((LOG(AU21))/LOG(2))))","v":-0.18078614300542661}]
[21,2265,21,2272,22,2282,23,2288,null,null,0,2222,null,2222,{"$f":"COUNTIF($L$7:$L$500,N22)","v":72},{"$f":"O22/$Q$4","v":0.38297872340425532},{"$f":"IF(P22=0,0,(P22*((LOG(P22))/LOG(2))))","v":-0.53029679370714577},null,null,{"$f":"N22","v":2222},{"$f":"COUNTIF(L7:L37,T22)","v":14},{"$f":"U22/(W4-U20)","v":0.56000000000000005},{"$f":"IF(V22=0,0,(V22*((LOG(V22))/LOG(2))))","v":-0.46844070992158748},null,{"$f":"N22","v":2222},{"$f":"COUNTIF(L38:L69,Y22)","v":13},{"$f":"Z22/(AB4-Z20)","v":0.44827586206896552},{"$f":"IF(AA22=0,0,(AA22*((LOG(AA22))/LOG(2))))","v":-0.51889781382152544},null,{"$f":"N22","v":2222},{"$f":"COUNTIF(L70:L100,AD22)","v":7},{"$f":"AE22/(AG4-AE20)","v":0.29166666666666669},{"$f":"IF(AF22=0,0,(AF22*((LOG(AF22))/LOG(2))))","v":-0.51846887711020273},null,{"$f":"N22","v":2222},{"$f":"COUNTIF(L101:L131,AI22)","v":12},{"$f":"AJ22/(AL4-AJ20)","v":0.5},{"$f":"IF(AK22=0,0,(AK22*((LOG(AK22))/LOG(2))))","v":-0.5},null,{"$f":"N22","v":2222},{"$f":"COUNTIF(L132:L163,AN22)","v":10},{"$f":"AO22/(AQ4-AO20)","v":0.41666666666666669},{"$f":"IF(AP22=0,0,(AP22*((LOG(AP22))/LOG(2))))","v":-0.52626433576408083},null,{"$f":"N22","v":2222},{"$f":"COUNTIF(L164:L194,AS22)","v":16},{"$f":"AT22/(AV4-AT20)","v":0.61538461538461542},{"$f":"IF(AU22=0,0,(AU22*((LOG(AU22))/LOG(2))))","v":-0.43103982654836437}]
[21,2382,21,2390,22,2398,23,2406,null,null,0,2222,null,null,null,{"$f":"SUM(P7:P22)","v":1},{"$f":"-SUM(Q7:Q22)","v":2.4042213392448728},null,null,null,null,{"$f":"SUM(V7:V22)","v":1},{"$f":"-SUM(W7:W22)","v":1.8113464332493889},null,null,null,{"$f":"SUM(AA7:AA22)","v":1},{"$f":"-SUM(AB7:AB22)","v":1.8207435886837344},null,null,null,{"$f":"SUM(AF7:AF22)","v":1},{"$f":"-SUM(AG7:AG22)","v":2.3028416701725321},null,null,null,{"$f":"SUM(AK7:AK22)","v":1},{"$f":"-SUM(AL7:AL22)","v":1.8920795639257109},null,null,null,{"$f":"SUM(AP7:AP22)","v":1},{"$f":"-SUM(AQ7:AQ22)","v":1.8982789224830872},null,null,null,{"$f":"SUM(AU7:AU22)","v":1},{"$f":"-SUM(AV7:AV22)","v":1.4830749314332756}]
[21,2502,21,2507,11,2510,21,2518,null,null,0,2212,null,null,null,"U=",{"$f":"Q23/(LOG(Q4)/LOG(2))","v":0.3182464838852177},null,null,null,null,"U1=",{"$f":"W23/(LOG(W4)/LOG(2))","v":0.36561862303513365},null,null,null,"U2=",{"$f":"AB23/(LOG(AB4)/LOG(2))","v":0.3641487177367469},null,null,null,"U3=",{"$f":"AG23/(LOG(AG4)/LOG(2))","v":0.46482648766752288},null,null,null,"U4=",{"$f":"AL23/(LOG(AL4)/LOG(2))","v":0.38191453171906259},null,null,null,"U5=",{"$f":"AQ23/(LOG(AQ4)/LOG(2))","v":0.37965578449661741},null,null,null,"U6=",{"$f":"AV23/(LOG(AV4)/LOG(2))","v":0.29935732024261708}]
[21,2683,21,2690,11,2695,21,2701,null,null,0,2212]
[21,2971,12,2977,24,2991,23,2998,null,null,0,2122]
[12,3090,23,3095,24,3099,14,3102,null,null,0,1221,null,"Total Target Seq"]
[21,3198,21,3201,22,3204,23,3213,null,null,0,2222,null,{"$f":"COUNTIF(L7:L194,G3)","v":36},null,31,32,31,31,32,31]
[12,3305,23,3311,24,3317,14,3318,null,null,0,1221,null,null,null,"% of reinforcement given in 6 equal intervals based on number of trials "]
[12,3413,23,3420,24,3426,23,3432,null,null,0,1222,null,null,null,"%_1","%_2","%_3","%_4","%_5","%_6"]
[21,3531,21,3537,22,3543,23,3551,null,null,0,2222,null,null,"target sequence",{"$f":"$G$3","v":2212},{"$f":"$G$3","v":2212},{"$f":"$G$3","v":2212},{"$f":"$G$3","v":2212},{"$f":"$G$3","v":2212},{"$f":"$G$3","v":2212}]
[21,3647,21,3654,22,3659,23,3667,null,null,0,2222,null,null,"total reinforcement",{"$f":"U20","v":6},{"$f":"Z20","v":3},{"$f":"AE20","v":7},{"$f":"AJ20","v":7},{"$f":"AO20","v":8},{"$f":"AT20","v":5}]
[21,3764,21,3768,22,3774,23,3783,null,null,0,2222,null,null,"% target"]
[21,3881,21,3886,22,3891,23,3899,null,null,0,2222,null,null,"CCRF"]
[21,3995,21,3999,11,4001,21,4003,null,null,0,2212,null,null,"% CCRf"]
[21,4211,21,4217,22,4224,23,4234,null,null,0,2222,null,null,"average response rate",{"$f":"H37/P28","v":140.45161290322579},{"$f":"(H69-H37)/Q28","v":114.21875},{"$f":"(H100-H69)/R28","v":132.54838709677421},{"$f":"(H131-H100)/S28","v":125.70967741935483},{"$f":"(H163-H131)/T28","v":121.6875},{"$f":"(H194-H163)/U28","v":129.29032258064515}]
[21,4333,21,4339,11,4344,21,4354,null,null,0,2212]
[21,4483,21,4500,22,4516,23,4526,null,null,0,2222]
[21,4622,21,4626,11,4629,21,4631,null,null,0,2212]
[21,4753,21,4765,22,4771,14,4778,null,null,0,2221]
[21,4875,12,4881,24,4884,23,4891,null,null,0,2122]
[21,4983,21,4992,22,4996,14,4999,null,null,0,2221]
[21,5094,21,5097,22,5102,14,5107,null,null,0,2221]
[21,5204,21,5208,22,5212,14,5215,null,null,0,2221]
[12,5311,23,5316,24,5319,23,5325,null,null,0,1222]
[21,5421,21,5427,11,5431,21,5439,null,null,0,2212]
[21,5536,21,5542,22,5556,23,5566,null,null,0,2222]
[21,5658,21,5663,22,5671,23,5681,null,null,0,2222]
[21,5785,21,5788,22,5793,14,5797,null,null,0,2221]
[21,5897,21,5900,22,5904,23,5909,null,null,0,2222]
[21,6005,12,6010,24,6020,23,6025,null,null,0,2122]
[21,6118,21,6122,22,6126,14,6128,null,null,0,2221]
[21,6224,21,6227,22,6232,23,6239,null,null,0,2222]
[21,6335,21,6339,22,6344,23,6348,null,null,0,2222]
[12,6442,23,6449,24,6451,14,6454,null,null,0,1221]
[21,6550,21,6555,22,6558,14,6561,null,null,0,2221]
[21,6669,21,6675,22,6688,23,6696,null,null,0,2222]
[21,6792,21,6794,22,6798,23,6804,null,null,0,2222]
[21,6899,21,6903,22,6909,14,6915,null,null,0,2221]
[21,7013,21,7017,22,7021,14,7024,null,null,0,2221]
[21,7123,21,7131,22,7136,23,7144,null,null,0,2222]
[21,7240,21,7245,22,7249,23,7256,null,null,0,2222]
[21,7352,21,7356,22,7359,23,7365,null,null,0,2222]
[12,7458,23,7462,24,7464,14,7468,null,null,0,1221]
[21,7560,21,7565,22,7570,14,7573,null,null,0,2221]
[21,7669,21,7677,22,7680,23,7685,null,null,0,2222]
[21,7780,21,7783,22,7787,23,7791,null,null,0,2222]
[21,7888,12,7892,24,7895,23,7900,null,null,0,2122]
[21,7995,21,8002,11,8006,21,8009,null,null,0,2212]
[21,8210,12,8220,24,8223,23,8239,null,null,0,2122]
[21,8332,21,8334,22,8337,14,8340,null,null,0,2221]
[21,8460,21,8465,22,8469,23,8475,null,null,0,2222]
[21,8568,21,8572,22,8578,23,8586,null,null,0,2222]
[12,8679,23,8687,24,8695,23,8700,null,null,0,1222]
[21,8796,21,8803,11,8805,21,8809,null,null,0,2212]
[21,8909,12,8919,24,8928,23,8939,null,null,0,2122]
[12,9033,23,9043,24,9051,23,9057,null,null,0,1222]
[21,9152,21,9156,22,9162,14,9166,null,null,0,2221]
[21,9261,21,9267,11,9270,21,9278,null,null,0,2212]
[12,9519,14,9521,24,9523,23,9530,null,null,0,1122]
[12,9626,23,9630,24,9633,14,9636,null,null,0,1221]
[21,9739,21,9741,22,9746,14,9748,null,null,0,2221]
[21,9843,21,9847,11,9852,21,9858,null,null,0,2212]
[21,9997,12,10002,24,10007,23,10021,null,null,0,2122]
[21,10114,21,10118,22,10122,23,10129,null,null,0,2222]
[21,10231,12,10238,24,10243,23,10251,null,null,0,2122]
[21,10348,21,10351,22,10355,23,10360,null,null,0,2222]
[21,10456,21,10458,22,10462,14,10465,null,null,0,2221]
[21,10565,21,10567,11,10573,21,10583,null,null,0,2212]
[21,10696,21,10701,11,10707,21,10709,null,null,0,2212]
[21,10902,21,10907,11,10912,21,10914,null,null,0,2212]
[12,11184,23,11196,24,11210,23,11218,null,null,0,1222]
[12,11317,23,11330,24,11333,23,11337,null,null,0,1222]
[21,11429,21,11433,11,11435,21,11437,null,null,0,2212]
[21,11529,21,11542,22,11552,23,11561,null,null,0,2222]
[21,11657,21,11661,22,11668,14,11675,null,null,0,2221]
[21,11773,21,11781,22,11787,23,11797,null,null,0,2222]
[21,11893,21,11896,22,11900,14,11902,null,null,0,2221]
[12,11996,23,12002,24,12007,23,12011,null,null,0,1222]
[21,12103,21,12108,22,12111,23,12118,null,null,0,2222]
[21,12213,21,12219,22,12225,23,12233,null,null,0,2222]
[21,12328,21,12331,22,12337,23,12345,null,null,0,2222]
[12,12439,23,12444,24,12449,23,12457,null,null,0,1222]
[21,12551,21,12553,22,12557,23,12561,null,null,0,2222]
[21,12657,21,12660,22,12665,23,12673,null,null,0,2222]
[21,12765,21,12769,22,12773,14,12776,null,null,0,2221]
[21,12872,21,12876,22,12881,23,12893,null,null,0,2222]
[21,12985,21,12991,22,12997,23,13005,null,null,0,2222]
[21,13100,12,13104,24,13111,23,13120,null,null,0,2122]
[21,13214,21,13216,22,13219,14,13223,null,null,0,2221]
[21,13319,21,13324,22,13330,23,13335,null,null,0,2222]
[12,13430,23,13432,24,13437,23,13443,null,null,0,1222]
[21,13540,21,13544,11,13547,21,13553,null,null,0,2212]
[21,13693,21,13700,22,13708,23,13715,null,null,0,2222]
[21,13810,21,13816,22,13823,23,13830,null,null,0,2222]
[21,13932,21,13938,22,13943,23,13950,null,null,0,2222]
[21,14046,21,14050,22,14054,14,14058,null,null,0,2221]
[21,14173,21,14176,11,14178,21,14180,null,null,0,2212]
[21,14294,21,14300,11,14302,21,14313,null,null,0,2212]
[21,14539,21,14548,22,14555,23,14565,null,null,0,2222]
[12,14666,23,14678,24,14687,23,14696,null,null,0,1222]
[21,14791,21,14794,22,14798,14,14801,null,null,0,2221]
[12,14894,23,14901,24,14906,14,14910,null,null,0,1221]
[21,15004,21,15006,22,15010,14,15015,null,null,0,2221]
[21,15113,21,15116,11,15119,21,15122,null,null,0,2212]
[21,15210,21,15214,11,15217,21,15220,null,null,0,2212]
[21,15433,12,15443,24,15450,23,15457,null,null,0,2122]
[21,15549,21,15552,11,15556,21,15563,null,null,0,2212]
[21,15710,21,15715,11,15719,21,15731,null,null,0,2212]
[21,15885,21,15892,22,15898,23,15904,null,null,0,2222]
[12,15997,23,15999,24,16005,23,16015,null,null,0,1222]
[21,16111,12,16116,24,16120,23,16126,null,null,0,2122]
[21,16224,21,16229,22,16232,14,16235,null,null,0,2221]
[21,16330,21,16336,22,16340,23,16346,null,null,0,2222]
[21,16444,21,16453,22,16459,23,16467,null,null,0,2222]
[21,16565,21,16567,22,16571,23,16575,null,null,0,2222]
[21,16669,21,16673,11,16677,21,16685,null,null,0,2212]
[12,16805,23,16825,24,16854,23,16859,null,null,0,1222]
[21,16955,21,16959,11,16961,21,16967,null,null,0,2212]
[21,17061,21,17067,22,17075,23,17083,null,null,0,2222]
[21,17177,21,17182,22,17189,23,17199,null,null,0,2222]
[21,17295,12,17299,24,17304,23,17310,null,null,0,2122]
[21,17405,21,17408,11,17411,21,17418,null,null,0,2212]
[21,17508,21,17514,22,17528,23,17536,null,null,0,2222]
[12,17630,23,17637,13,17640,23,17648,null,null,0,1212]
[21,17748,21,17751,11,17755,21,17757,null,null,0,2212]
[21,17889,12,17892,24,17899,23,17908,null,null,0,2122]
[21,18003,21,18006,11,18010,21,18014,null,null,0,2212]
[21,18171,21,18175,11,18180,21,18186,null,null,0,2212]
[21,18376,21,18390,22,18398,23,18406,null,null,0,2222]
[12,18502,23,18510,24,18516,23,18521,null,null,0,1222]
[21,18614,12,18620,24,18622,23,18627,null,null,0,2122]
[12,18720,23,18725,24,18733,23,18741,null,null,0,1222]
[12,18837,23,18840,24,18844,23,18849,null,null,0,1222]
[21,18945,12,18953,24,18955,23,18960,null,null,0,2122]
[12,19054,23,19057,24,19064,23,19071,null,null,0,1222]
[21,19167,12,19173,24,19178,23,19184,null,null,0,2122]
[21,19281,21,19285,22,19290,23,19297,null,null,0,2222]
[21,19390,21,19394,11,19397,21,19403,null,null,0,2212]
[21,19538,21,19552,22,19567,23,19573,null,null,0,2222]
[21,19668,21,19673,22,19679,23,19687,null,null,0,2222]
[21,19782,12,19789,24,19795,23,19803,null,null,0,2122]
[21,19895,21,19898,11,19903,21,19909,null,null,0,2212]
[21,20085,21,20093,22,20102,23,20110,null,null,0,2222]
[21,20211,21,20216,22,20222,23,20230,null,null,0,2222]
[21,20322,21,20327,11,20330,21,20332,null,null,0,2212]
[21,20460,21,20465,22,20472,23,20480,null,null,0,2222]
[21,20576,12,20582,24,20590,23,20599,null,null,0,2122]
[21,20697,21,20702,11,20706,21,20709,null,null,0,2212]
[21,20969,21,20976,22,20987,23,20995,null,null,0,2222]
[21,21093,21,21100,22,21108,23,21116,null,null,0,2222]
[21,21211,21,21215,22,21219,14,21222,null,null,0,2221]
[21,21318,12,21326,24,21327,23,21337,null,null,0,2122]
[21,21429,12,21431,24,21433,23,21437,null,null,0,2122]
[21,21532,12,21538,24,21544,23,21550,null,null,0,2122]
[21,21642,12,21645,24,21647,23,21653,null,null,0,2122]
[21,21745,21,21749,22,21754,23,21760,null,null,0,2222]
[21,21858,21,21861,22,21865,23,21870,null,null,0,2222]
[21,21976,21,21979,11,21988,21,22000,null,null,0,2212]
[21,22129,12,22134,13,22142,23,22144,null,null,0,2112]
[21,22239,21,22243,22,22250,23,22258,null,null,0,2222]
[21,22353,21,22356,11,22361,21,22366,null,null,0,2212]
[21,22562,21,22574,22,22582,23,22589,null,null,0,2222]
[12,22680,23,22683,24,22690,23,22698,null,null,0,1222]
[21,22793,21,22797,22,22803,23,22810,null,null,0,2222]
[21,22902,21,22910,22,22918,23,22924,null,null,0,2222]
[21,23022,21,23026,22,23030,23,23035,null,null,0,2222]
[21,23132,21,23136,22,23142,23,23150,null,null,0,2222]
[21,23242,21,23246,11,23249,21,23259,null,null,0,2212]
[21,23445,21,23453,22,23460,23,23467,null,null,0,2222]
[21,23562,21,23566,22,23572,23,23578,null,null,0,2222]
[21,23676,12,23679,24,23685,23,23692,null,null,0,2122]
[21,23788,21,23793,22,23798,23,23807,null,null,0,2222]
[21,23903,12,23909,24,23912,23,23917,null,null,null,2122]

{"sheet":"!M717950.Gus","index":28,"n_rows":205,"n_cols":48,"rows_kept":205,"cut":false,"hidden":false,"merged":[[4,39,4,42],[5,39,5,40],[4,44,4,47],[5,44,5,45],[4,24,4,27],[5,24,5,25],[4,29,4,32],[5,29,5,30],[4,34,4,37],[5,34,5,35],[1,1,1,2],[5,13,5,14],[26,13,26,14],[27,13,27,14],[4,19,4,22],[5,19,5,20]]}
["Report for:!M717950.Gus"]
["Date:","<date>"]
["Hen:","<hen>",null,null,null,"Correct Sequence",{"$f":"Start!J2","v":2212},null,null,null,null,null,null,null,null,"Total Sequences in Data",{"$f":"4994-COUNTBLANK(L7:L5000)","v":199},null,null,null,null,"Total Sequences in Block Data",{"$f":"COUNTA(L7:L39)","v":33},null,null,null,"Total Sequences in Block Data",{"$f":"COUNTA(L40:L72)","v":33},null,null,null,"Total Sequences in Block Data",{"$f":"COUNTA(L73:L106)","v":34},null,null,null,"Total Sequences in Block Data",{"$f":"COUNTA(L107:L139)","v":33},null,null,null,"Total Sequences in Block Data",{"$f":"COUNTA(L140:L172)","v":33},null,null,null,"Total Sequences in Block Data",{"$f":"COUNTA(L173:L205)","v":33}]
[null,null,null,null,null,null,null,null,null,null,null,null,null,null,null,"Total Sequences in Summary",{"$f":"SUM(O7:O22)","v":199},null,null,null,null,"Total Sequences in Block Summary",{"$f":"SUM(U7:U22)","v":33},null,null,null,"Total Sequences in Block Summary",{"$f":"SUM(Z7:Z22)","v":33},null,null,null,"Total Sequences in Block Summary",{"$f":"SUM(AE7:AE22)","v":34},null,null,null,"Total Sequences in Block Summary",{"$f":"SUM(AJ7:AJ22)","v":33},null,null,null,"Total Sequences in Block Summary",{"$f":"SUM(AO7:AO22)","v":33},null,null,null,"Total Sequences in Block Summary",{"$f":"SUM(AT7:AT22)","v":33}]
[null,null,null,null,null,null,null,null,null,null,null,null,null,null,null,null,null,null,null,"Block 1",null,null,null,null,"Block 2",null,null,null,null,"Block 3",null,null,null,null,"Block 4",null,null,null,null,"Block 5",null,null,null,null,"Block 6"]
["Sequence\nComponent\n1","Time\n1","Sequence\nComponent\n2","Time\n2","Sequence\nComponent\n3","Time\n3","Sequence\nComponent\n4","Time\n4","Sequence\nComponent\n5","Time\n5","Correct?\n0=No 1=Yes","Sequence",null,"Frequency",null,"Relative Frequency","Variability",null,null,"Frequency",null,"Relative Frequency","Variability",null,"Frequency",null,"Relative Frequency","Variability",null,"Frequency",null,"Relative Frequency","Variability",null,"Frequency",null,"Relative Frequency","Variability",null,"Frequency",null,"Relative Frequency","Variability",null,"Frequency",null,"Relative Frequency","Variability"]
[21,41,21,47,22,54,23,61,null,null,0,2222,null,1111,{"$f":"COUNTIF($L$7:$L$500,N7)","v":0},{"$f":"O7/$Q$4","v":0},{"$f":"IF(P7=0,0,(P7*((LOG(P7))/LOG(2))))","v":0},null,null,{"$f":"N7","v":1111},{"$f":"COUNTIF(L7:L39,T7)","v":0},{"$f":"U7/(W4-U20)","v":0},{"$f":"IF(V7=0,0,(V7*((LOG(V7))/LOG(2))))","v":0},null,{"$f":"N7","v":1111},{"$f":"COUNTIF(L40:L72,Y7)","v":0},{"$f":"Z7/(AB4-Z20)","v":0},{"$f":"IF(AA7=0,0,(AA7*((LOG(AA7))/LOG(2))))","v":0},null,{"$f":"N7","v":1111},{"$f":"COUNTIF(L73:L106,AD7)","v":0},{"$f":"AE7/(AG4-AE20)","v":0},{"$f":"IF(AF7=0,0,(AF7*((LOG(AF7))/LOG(2))))","v":0},null,{"$f":"N7","v":1111},{"$f":"COUNTIF(L107:L139,AI7)","v":0},{"$f":"AJ7/(AL4-AJ20)","v":0},{"$f":"IF(AK7=0,0,(AK7*((LOG(AK7))/LOG(2))))","v":0},null,{"$f":"N7","v":1111},{"$f":"COUNTIF(L140:L172,AN7)","v":0},{"$f":"AO7/(AQ4-AO20)","v":0},{"$f":"IF(AP7=0,0,(AP7*((LOG(AP7))/LOG(2))))","v":0},null,{"$f":"N7","v":1111},{"$f":"COUNTIF(L173:L205,AS7)","v":0},{"$f":"AT7/(AV4-AT20)","v":0},{"$f":"IF(AU7=0,0,(AU7*((LOG(AU7))/LOG(2))))","v":0}]
[12,172,23,181,24,187,23,194,null,null,0,1222,null,1112,{"$f":"COUNTIF($L$7:$L$500,N8)","v":0},{"$f":"O8/$Q$4","v":0},{"$f":"IF(P8=0,0,(P8*((LOG(P8))/LOG(2))))","v":0},null,null,{"$f":"N8","v":1112},{"$f":"COUNTIF(L7:L39,T8)","v":0},{"$f":"U8/(W4-U20)","v":0},{"$f":"IF(V8=0,0,(V8*((LOG(V8))/LOG(2))))","v":0},null,{"$f":"N8","v":1112},{"$f":"COUNTIF(L40:L72,Y8)","v":0},{"$f":"Z8/(AB4-Z20)","v":0},{"$f":"IF(AA8=0,0,(AA8*((LOG(AA8))/LOG(2))))","v":0},null,{"$f":"N8","v":1112},{"$f":"COUNTIF(L73:L106,AD8)","v":0},{"$f":"AE8/(AG4-AE20)","v":0},{"$f":"IF(AF8=0,0,(AF8*((LOG(AF8))/LOG(2))))","v":0},null,{"$f":"N8","v":1112},{"$f":"COUNTIF(L107:L139,AI8)","v":0},{"$f":"AJ8/(AL4-AJ20)","v":0},{"$f":"IF(AK8=0,0,(AK8*((LOG(AK8))/LOG(2))))","v":0},null,{"$f":"N8","v":1112},{"$f":"COUNTIF(L140:L172,AN8)","v":0},{"$f":"AO8/(AQ4-AO20)","v":0},{"$f":"IF(AP8=0,0,(AP8*((LOG(AP8))/LOG(2))))","v":0},null,{"$f":"N8","v":1112},{"$f":"COUNTIF(L173:L205,AS8)","v":0},{"$f":"AT8/(AV4-AT20)","v":0},{"$f":"IF(AU8=0,0,(AU8*((LOG(AU8))/LOG(2))))","v":0}]
[21,296,21,298,11,303,21,305,null,null,0,2212,null,1121,{"$f":"COUNTIF($L$7:$L$500,N9)","v":0},{"$f":"O9/$Q$4","v":0},{"$f":"IF(P9=0,0,(P9*((LOG(P9))/LOG(2))))","v":0},null,null,{"$f":"N9","v":1121},{"$f":"COUNTIF(L7:L39,T9)","v":0},{"$f":"U9/(W4-U20)","v":0},{"$f":"IF(V9=0,0,(V9*((LOG(V9))/LOG(2))))","v":0},null,{"$f":"N9","v":1121},{"$f":"COUNTIF(L40:L72,Y9)","v":0},{"$f":"Z9/(AB4-Z20)","v":0},{"$f":"IF(AA9=0,0,(AA9*((LOG(AA9))/LOG(2))))","v":0},null,{"$f":"N9","v":1121},{"$f":"COUNTIF(L73:L106,AD9)","v":0},{"$f":"AE9/(AG4-AE20)","v":0},{"$f":"IF(AF9=0,0,(AF9*((LOG(AF9))/LOG(2))))","v":0},null,{"$f":"N9","v":1121},{"$f":"COUNTIF(L107:L139,AI9)","v":0},{"$f":"AJ9/(AL4-AJ20)","v":0},{"$f":"IF(AK9=0,0,(AK9*((LOG(AK9))/LOG(2))))","v":0},null,{"$f":"N9","v":1121},{"$f":"COUNTIF(L140:L172,AN9)","v":0},{"$f":"AO9/(AQ4-AO20)","v":0},{"$f":"IF(AP9=0,0,(AP9*((LOG(AP9))/LOG(2))))","v":0},null,{"$f":"N9","v":1121},{"$f":"COUNTIF(L173:L205,AS9)","v":0},{"$f":"AT9/(AV4-AT20)","v":0},{"$f":"IF(AU9=0,0,(AU9*((LOG(AU9))/LOG(2))))","v":0}]
[21,424,21,430,22,436,23,450,null,null,0,2222,null,1122,{"$f":"COUNTIF($L$7:$L$500,N10)","v":3},{"$f":"O10/$Q$4","v":1.507537688442211E-2},{"$f":"IF(P10=0,0,(P10*((LOG(P10))/LOG(2))))","v":-9.1231087233504912E-2},null,null,{"$f":"N10","v":1122},{"$f":"COUNTIF(L7:L39,T10)","v":0},{"$f":"U10/(W4-U20)","v":0},{"$f":"IF(V10=0,0,(V10*((LOG(V10))/LOG(2))))","v":0},null,{"$f":"N10","v":1122},{"$f":"COUNTIF(L40:L72,Y10)","v":0},{"$f":"Z10/(AB4-Z20)","v":0},{"$f":"IF(AA10=0,0,(AA10*((LOG(AA10))/LOG(2))))","v":0},null,{"$f":"N10","v":1122},{"$f":"COUNTIF(L73:L106,AD10)","v":0},{"$f":"AE10/(AG4-AE20)","v":0},{"$f":"IF(AF10=0,0,(AF10*((LOG(AF10))/LOG(2))))","v":0},null,{"$f":"N10","v":1122},{"$f":"COUNTIF(L107:L139,AI10)","v":1},{"$f":"AJ10/(AL4-AJ20)","v":4.3478260869565216E-2},{"$f":"IF(AK10=0,0,(AK10*((LOG(AK10))/LOG(2))))","v":-0.19667660678508753},null,{"$f":"N10","v":1122},{"$f":"COUNTIF(L140:L172,AN10)","v":1},{"$f":"AO10/(AQ4-AO20)","v":3.5714285714285712E-2},{"$f":"IF(AP10=0,0,(AP10*((LOG(AP10))/LOG(2))))","v":-0.17169124721634299},null,{"$f":"N10","v":1122},{"$f":"COUNTIF(L173:L205,AS10)","v":1},{"$f":"AT10/(AV4-AT20)","v":3.3333333333333333E-2},{"$f":"IF(AU10=0,0,(AU10*((LOG(AU10))/LOG(2))))","v":-0.16356301985361729}]
[21,551,12,556,24,562,23,572,null,null,0,2122,null,1211,{"$f":"COUNTIF($L$7:$L$500,N11)","v":0},{"$f":"O11/$Q$4","v":0},{"$f":"IF(P11=0,0,(P11*((LOG(P11))/LOG(2))))","v":0},null,null,{"$f":"N11","v":1211},{"$f":"COUNTIF(L7:L39,T11)","v":0},{"$f":"U11/(W4-U20)","v":0},{"$f":"IF(V11=0,0,(V11*((LOG(V11))/LOG(2))))","v":0},null,{"$f":"N11","v":1211},{"$f":"COUNTIF(L40:L72,Y11)","v":0},{"$f":"Z11/(AB4-Z20)","v":0},{"$f":"IF(AA11=0,0,(AA11*((LOG(AA11))/LOG(2))))","v":0},null,{"$f":"N11","v":1211},{"$f":"COUNTIF(L73:L106,AD11)","v":0},{"$f":"AE11/(AG4-AE20)","v":0},{"$f":"IF(AF11=0,0,(AF11*((LOG(AF11))/LOG(2))))","v":0},null,{"$f":"N11","v":1211},{"$f":"COUNTIF(L107:L139,AI11)","v":0},{"$f":"AJ11/(AL4-AJ20)","v":0},{"$f":"IF(AK11=0,0,(AK11*((LOG(AK11))/LOG(2))))","v":0},null,{"$f":"N11","v":1211},{"$f":"COUNTIF(L140:L172,AN11)","v":0},{"$f":"AO11/(AQ4-AO20)","v":0},{"$f":"IF(AP11=0,0,(AP11*((LOG(AP11))/LOG(2))))","v":0},null,{"$f":"N11","v":1211},{"$f":"COUNTIF(L173:L205,AS11)","v":0},{"$f":"AT11/(AV4-AT20)","v":0},{"$f":"IF(AU11=0,0,(AU11*((LOG(AU11))/LOG(2))))","v":0}]
[21,671,12,674,24,679,23,684,null,null,0,2122,null,1212,{"$f":"COUNTIF($L$7:$L$500,N12)","v":7},{"$f":"O12/$Q$4","v":3.5175879396984924E-2},{"$f":"IF(P12=0,0,(P12*((LOG(P12))/LOG(2))))","v":-0.16987380848945888},null,null,{"$f":"N12","v":1212},{"$f":"COUNTIF(L7:L39,T12)","v":3},{"$f":"U12/(W4-U20)","v":0.11538461538461539},{"$f":"IF(V12=0,0,(V12*((LOG(V12))/LOG(2))))","v":-0.35947814047153104},null,{"$f":"N12","v":1212},{"$f":"COUNTIF(L40:L72,Y12)","v":2},{"$f":"Z12/(AB4-Z20)","v":7.6923076923076927E-2},{"$f":"IF(AA12=0,0,(AA12*((LOG(AA12))/LOG(2))))","v":-0.28464920908777636},null,{"$f":"N12","v":1212},{"$f":"COUNTIF(L73:L106,AD12)","v":0},{"$f":"AE12/(AG4-AE20)","v":0},{"$f":"IF(AF12=0,0,(AF12*((LOG(AF12))/LOG(2))))","v":0},null,{"$f":"N12","v":1212},{"$f":"COUNTIF(L107:L139,AI12)","v":0},{"$f":"AJ12/(AL4-AJ20)","v":0},{"$f":"IF(AK12=0,0,(AK12*((LOG(AK12))/LOG(2))))","v":0},null,{"$f":"N12","v":1212},{"$f":"COUNTIF(L140:L172,AN12)","v":1},{"$f":"AO12/(AQ4-AO20)","v":3.5714285714285712E-2},{"$f":"IF(AP12=0,0,(AP12*((LOG(AP12))/LOG(2))))","v":-0.17169124721634299},null,{"$f":"N12","v":1212},{"$f":"COUNTIF(L173:L205,AS12)","v":1},{"$f":"AT12/(AV4-AT20)","v":3.3333333333333333E-2},{"$f":"IF(AU12=0,0,(AU12*((LOG(AU12))/LOG(2))))","v":-0.16356301985361729}]
[21,785,21,791,22,796,23,803,null,null,0,2222,null,1221,{"$f":"COUNTIF($L$7:$L$500,N13)","v":3},{"$f":"O13/$Q$4","v":1.507537688442211E-2},{"$f":"IF(P13=0,0,(P13*((LOG(P13))/LOG(2))))","v":-9.1231087233504912E-2},null,null,{"$f":"N13","v":1221},{"$f":"COUNTIF(L7:L39,T13)","v":0},{"$f":"U13/(W4-U20)","v":0},{"$f":"IF(V13=0,0,(V13*((LOG(V13))/LOG(2))))","v":0},null,{"$f":"N13","v":1221},{"$f":"COUNTIF(L40:L72,Y13)","v":1},{"$f":"Z13/(AB4-Z20)","v":3.8461538461538464E-2},{"$f":"IF(AA13=0,0,(AA13*((LOG(AA13))/LOG(2))))","v":-0.18078614300542661},null,{"$f":"N13","v":1221},{"$f":"COUNTIF(L73:L106,AD13)","v":0},{"$f":"AE13/(AG4-AE20)","v":0},{"$f":"IF(AF13=0,0,(AF13*((LOG(AF13))/LOG(2))))","v":0},null,{"$f":"N13","v":1221},{"$f":"COUNTIF(L107:L139,AI13)","v":0},{"$f":"AJ13/(AL4-AJ20)","v":0},{"$f":"IF(AK13=0,0,(AK13*((LOG(AK13))/LOG(2))))","v":0},null,{"$f":"N13","v":1221},{"$f":"COUNTIF(L140:L172,AN13)","v":0},{"$f":"AO13/(AQ4-AO20)","v":0},{"$f":"IF(AP13=0,0,(AP13*((LOG(AP13))/LOG(2))))","v":0},null,{"$f":"N13","v":1221},{"$f":"COUNTIF(L173:L205,AS13)","v":2},{"$f":"AT13/(AV4-AT20)","v":6.6666666666666666E-2},{"$f":"IF(AU13=0,0,(AU13*((LOG(AU13))/LOG(2))))","v":-0.26045937304056793}]
[21,901,21,904,11,908,21,913,null,null,0,2212,null,1222,{"$f":"COUNTIF($L$7:$L$500,N14)","v":30},{"$f":"O14/$Q$4","v":0.15075376884422109},{"$f":"IF(P14=0,0,(P14*((LOG(P14))/LOG(2))))","v":-0.41151769220127593},null,null,{"$f":"N14","v":1222},{"$f":"COUNTIF(L7:L39,T14)","v":6},{"$f":"U14/(W4-U20)","v":0.23076923076923078},{"$f":"IF(V14=0,0,(V14*((LOG(V14))/LOG(2))))","v":-0.48818705017383146},null,{"$f":"N14","v":1222},{"$f":"COUNTIF(L40:L72,Y14)","v":4},{"$f":"Z14/(AB4-Z20)","v":0.15384615384615385},{"$f":"IF(AA14=0,0,(AA14*((LOG(AA14))/LOG(2))))","v":-0.4154522643293988},null,{"$f":"N14","v":1222},{"$f":"COUNTIF(L73:L106,AD14)","v":7},{"$f":"AE14/(AG4-AE20)","v":0.25925925925925924},{"$f":"IF(AF14=0,0,(AF14*((LOG(AF14))/LOG(2))))","v":-0.5049158541015204},null,{"$f":"N14","v":1222},{"$f":"COUNTIF(L107:L139,AI14)","v":5},{"$f":"AJ14/(AL4-AJ20)","v":0.21739130434782608},{"$f":"IF(AK14=0,0,(AK14*((LOG(AK14))/LOG(2))))","v":-0.47861605677601093},null,{"$f":"N14","v":1222},{"$f":"COUNTIF(L140:L172,AN14)","v":3},{"$f":"AO14/(AQ4-AO20)","v":0.10714285714285714},{"$f":"IF(AP14=0,0,(AP14*((LOG(AP14))/LOG(2))))","v":-0.34525633085747659},null,{"$f":"N14","v":1222},{"$f":"COUNTIF(L173:L205,AS14)","v":5},{"$f":"AT14/(AV4-AT20)","v":0.16666666666666666},{"$f":"IF(AU14=0,0,(AU14*((LOG(AU14))/LOG(2))))","v":-0.43082708345352599}]
[21,1005,21,1008,22,1014,23,1021,null,null,0,2222,null,2111,{"$f":"COUNTIF($L$7:$L$500,N15)","v":0},{"$f":"O15/$Q$4","v":0},{"$f":"IF(P15=0,0,(P15*((LOG(P15))/LOG(2))))","v":0},null,null,{"$f":"N15","v":2111},{"$f":"COUNTIF(L7:L39,T15)","v":0},{"$f":"U15/(W4-U20)","v":0},{"$f":"IF(V15=0,0,(V15*((LOG(V15))/LOG(2))))","v":0},null,{"$f":"N15","v":2111},{"$f":"COUNTIF(L40:L72,Y15)","v":0},{"$f":"Z15/(AB4-Z20)","v":0},{"$f":"IF(AA15=0,0,(AA15*((LOG(AA15))/LOG(2))))","v":0},null,{"$f":"N15","v":2111},{"$f":"COUNTIF(L73:L106,AD15)","v":0},{"$f":"AE15/(AG4-AE20)","v":0},{"$f":"IF(AF15=0,0,(AF15*((LOG(AF15))/LOG(2))))","v":0},null,{"$f":"N15","v":2111},{"$f":"COUNTIF(L107:L139,AI15)","v":0},{"$f":"AJ15/(AL4-AJ20)","v":0},{"$f":"IF(AK15=0,0,(AK15*((LOG(AK15))/LOG(2))))","v":0},null,{"$f":"N15","v":2111},{"$f":"COUNTIF(L140:L172,AN15)","v":0},{"$f":"AO15/(AQ4-AO20)","v":0},{"$f":"IF(AP15=0,0,(AP15*((LOG(AP15))/LOG(2))))","v":0},null,{"$f":"N15","v":2111},{"$f":"COUNTIF(L173:L205,AS15)","v":0},{"$f":"AT15/(AV4-AT20)","v":0},{"$f":"IF(AU15=0,0,(AU15*((LOG(AU15))/LOG(2))))","v":0}]
[12,1123,23,1134,24,1138,23,1144,null,null,0,1222,null,2112,{"$f":"COUNTIF($L$7:$L$500,N16)","v":3},{"$f":"O16/$Q$4","v":1.507537688442211E-2},{"$f":"IF(P16=0,0,(P16*((LOG(P16))/LOG(2))))","v":-9.1231087233504912E-2},null,null,{"$f":"N16","v":2112},{"$f":"COUNTIF(L7:L39,T16)","v":0},{"$f":"U16/(W4-U20)","v":0},{"$f":"IF(V16=0,0,(V16*((LOG(V16))/LOG(2))))","v":0},null,{"$f":"N16","v":2112},{"$f":"COUNTIF(L40:L72,Y16)","v":1},{"$f":"Z16/(AB4-Z20)","v":3.8461538461538464E-2},{"$f":"IF(AA16=0,0,(AA16*((LOG(AA16))/LOG(2))))","v":-0.18078614300542661},null,{"$f":"N16","v":2112},{"$f":"COUNTIF(L73:L106,AD16)","v":0},{"$f":"AE16/(AG4-AE20)","v":0},{"$f":"IF(AF16=0,0,(AF16*((LOG(AF16))/LOG(2))))","v":0},null,{"$f":"N16","v":2112},{"$f":"COUNTIF(L107:L139,AI16)","v":0},{"$f":"AJ16/(AL4-AJ20)","v":0},{"$f":"IF(AK16=0,0,(AK16*((LOG(AK16))/LOG(2))))","v":0},null,{"$f":"N16","v":2112},{"$f":"COUNTIF(L140:L172,AN16)","v":2},{"$f":"AO16/(AQ4-AO20)","v":7.1428571428571425E-2},{"$f":"IF(AP16=0,0,(AP16*((LOG(AP16))/LOG(2))))","v":-0.27195392300411453},null,{"$f":"N16","v":2112},{"$f":"COUNTIF(L173:L205,AS16)","v":0},{"$f":"AT16/(AV4-AT20)","v":0},{"$f":"IF(AU16=0,0,(AU16*((LOG(AU16))/LOG(2))))","v":0}]
[21,1245,21,1248,22,1253,23,1259,null,null,0,2222,null,2121,{"$f":"COUNTIF($L$7:$L$500,N17)","v":1},{"$f":"O17/$Q$4","v":5.0251256281407036E-3},{"$f":"IF(P17=0,0,(P17*((LOG(P17))/LOG(2))))","v":-3.8374998093184169E-2},null,null,{"$f":"N17","v":2121},{"$f":"COUNTIF(L7:L39,T17)","v":0},{"$f":"U17/(W4-U20)","v":0},{"$f":"IF(V17=0,0,(V17*((LOG(V17))/LOG(2))))","v":0},null,{"$f":"N17","v":2121},{"$f":"COUNTIF(L40:L72,Y17)","v":0},{"$f":"Z17/(AB4-Z20)","v":0},{"$f":"IF(AA17=0,0,(AA17*((LOG(AA17))/LOG(2))))","v":0},null,{"$f":"N17","v":2121},{"$f":"COUNTIF(L73:L106,AD17)","v":0},{"$f":"AE17/(AG4-AE20)","v":0},{"$f":"IF(AF17=0,0,(AF17*((LOG(AF17))/LOG(2))))","v":0},null,{"$f":"N17","v":2121},{"$f":"COUNTIF(L107:L139,AI17)","v":0},{"$f":"AJ17/(AL4-AJ20)","v":0},{"$f":"IF(AK17=0,0,(AK17*((LOG(AK17))/LOG(2))))","v":0},null,{"$f":"N17","v":2121},{"$f":"COUNTIF(L140:L172,AN17)","v":0},{"$f":"AO17/(AQ4-AO20)","v":0},{"$f":"IF(AP17=0,0,(AP17*((LOG(AP17))/LOG(2))))","v":0},null,{"$f":"N17","v":2121},{"$f":"COUNTIF(L173:L205,AS17)","v":1},{"$f":"AT17/(AV4-AT20)","v":3.3333333333333333E-2},{"$f":"IF(AU17=0,0,(AU17*((LOG(AU17))/LOG(2))))","v":-0.16356301985361729}]
[21,1359,21,1363,11,1366,21,1367,null,null,0,2212,null,2122,{"$f":"COUNTIF($L$7:$L$500,N18)","v":41},{"$f":"O18/$Q$4","v":0.20603015075376885},{"$f":"IF(P18=0,0,(P18*((LOG(P18))/LOG(2))))","v":-0.46955767463793047},null,null,{"$f":"N18","v":2122},{"$f":"COUNTIF(L7:L39,T18)","v":7},{"$f":"U18/(W4-U20)","v":0.26923076923076922},{"$f":"IF(V18=0,0,(V18*((LOG(V18))/LOG(2))))","v":-0.50967667586863141},null,{"$f":"N18","v":2122},{"$f":"COUNTIF(L40:L72,Y18)","v":7},{"$f":"Z18/(AB4-Z20)","v":0.26923076923076922},{"$f":"IF(AA18=0,0,(AA18*((LOG(AA18))/LOG(2))))","v":-0.50967667586863141},null,{"$f":"N18","v":2122},{"$f":"COUNTIF(L73:L106,AD18)","v":7},{"$f":"AE18/(AG4-AE20)","v":0.25925925925925924},{"$f":"IF(AF18=0,0,(AF18*((LOG(AF18))/LOG(2))))","v":-0.5049158541015204},null,{"$f":"N18","v":2122},{"$f":"COUNTIF(L107:L139,AI18)","v":4},{"$f":"AJ18/(AL4-AJ20)","v":0.17391304347826086},{"$f":"IF(AK18=0,0,(AK18*((LOG(AK18))/LOG(2))))","v":-0.43888034018382832},null,{"$f":"N18","v":2122},{"$f":"COUNTIF(L140:L172,AN18)","v":7},{"$f":"AO18/(AQ4-AO20)","v":0.25},{"$f":"IF(AP18=0,0,(AP18*((LOG(AP18))/LOG(2))))","v":-0.5},null,{"$f":"N18","v":2122},{"$f":"COUNTIF(L173:L205,AS18)","v":9},{"$f":"AT18/(AV4-AT20)","v":0.3},{"$f":"IF(AU18=0,0,(AU18*((LOG(AU18))/LOG(2))))","v":-0.52108967824986185}]
[21,1458,21,1463,11,1472,21,1482,null,null,0,2212,null,2211,{"$f":"COUNTIF($L$7:$L$500,N19)","v":0},{"$f":"O19/$Q$4","v":0},{"$f":"IF(P19=0,0,(P19*((LOG(P19))/LOG(2))))","v":0},null,null,{"$f":"N19","v":2211},{"$f":"COUNTIF(L7:L39,T19)","v":0},{"$f":"U19/(W4-U20)","v":0},{"$f":"IF(V19=0,0,(V19*((LOG(V19))/LOG(2))))","v":0},null,{"$f":"N19","v":2211},{"$f":"COUNTIF(L40:L72,Y19)","v":0},{"$f":"Z19/(AB4-Z20)","v":0},{"$f":"IF(AA19=0,0,(AA19*((LOG(AA19))/LOG(2))))","v":0},null,{"$f":"N19","v":2211},{"$f":"COUNTIF(L73:L106,AD19)","v":0},{"$f":"AE19/(AG4-AE20)","v":0},{"$f":"IF(AF19=0,0,(AF19*((LOG(AF19))/LOG(2))))","v":0},null,{"$f":"N19","v":2211},{"$f":"COUNTIF(L107:L139,AI19)","v":0},{"$f":"AJ19/(AL4-AJ20)","v":0},{"$f":"IF(AK19=0,0,(AK19*((LOG(AK19))/LOG(2))))","v":0},null,{"$f":"N19","v":2211},{"$f":"COUNTIF(L140:L172,AN19)","v":0},{"$f":"AO19/(AQ4-AO20)","v":0},{"$f":"IF(AP19=0,0,(AP19*((LOG(AP19))/LOG(2))))","v":0},null,{"$f":"N19","v":2211},{"$f":"COUNTIF(L173:L205,AS19)","v":0},{"$f":"AT19/(AV4-AT20)","v":0},{"$f":"IF(AU19=0,0,(AU19*((LOG(AU19))/LOG(2))))","v":0}]
[12,1668,23,1683,24,1693,23,1701,null,null,0,1222,null,2212,{"$f":"COUNTIF($L$7:$L$500,N20)","v":39},{"$f":"O20/$Q$4","v":0.19597989949748743},{"$f":"IF(P20=0,0,(P20*((LOG(P20))/LOG(2))))","v":-0.46079232997776187},null,null,{"$f":"N20","v":2212},{"$f":"COUNTIF(L7:L39,T20)","v":7},null,null,null,{"$f":"N20","v":2212},{"$f":"COUNTIF(L40:L72,Y20)","v":7},null,null,null,{"$f":"N20","v":2212},{"$f":"COUNTIF(L73:L106,AD20)","v":7},null,null,null,{"$f":"N20","v":2212},{"$f":"COUNTIF(L107:L139,AI20)","v":10},null,null,null,{"$f":"N20","v":2212},{"$f":"COUNTIF(L140:L172,AN20)","v":5},null,null,null,{"$f":"N20","v":2212},{"$f":"COUNTIF(L173:L205,AS20)","v":3}]
[12,1794,23,1796,13,1798,23,1800,null,null,0,1212,null,2221,{"$f":"COUNTIF($L$7:$L$500,N21)","v":11},{"$f":"O21/$Q$4","v":5.5276381909547742E-2},{"$f":"IF(P21=0,0,(P21*((LOG(P21))/LOG(2))))","v":-0.23090011568326568},null,null,{"$f":"N21","v":2221},{"$f":"COUNTIF(L7:L39,T21)","v":0},{"$f":"U21/(W4-U20)","v":0},{"$f":"IF(V21=0,0,(V21*((LOG(V21))/LOG(2))))","v":0},null,{"$f":"N21","v":2221},{"$f":"COUNTIF(L40:L72,Y21)","v":3},{"$f":"Z21/(AB4-Z20)","v":0.11538461538461539},{"$f":"IF(AA21=0,0,(AA21*((LOG(AA21))/LOG(2))))","v":-0.35947814047153104},null,{"$f":"N21","v":2221},{"$f":"COUNTIF(L73:L106,AD21)","v":0},{"$f":"AE21/(AG4-AE20)","v":0},{"$f":"IF(AF21=0,0,(AF21*((LOG(AF21))/LOG(2))))","v":0},null,{"$f":"N21","v":2221},{"$f":"COUNTIF(L107:L139,AI21)","v":1},{"$f":"AJ21/(AL4-AJ20)","v":4.3478260869565216E-2},{"$f":"IF(AK21=0,0,(AK21*((LOG(AK21))/LOG(2))))","v":-0.19667660678508753},null,{"$f":"N21","v":2221},{"$f":"COUNTIF(L140:L172,AN21)","v":4},{"$f":"AO21/(AQ4-AO20)","v":0.14285714285714285},{"$f":"IF(AP21=0,0,(AP21*((LOG(AP21))/LOG(2))))","v":-0.40105070315108626},null,{"$f":"N21","v":2221},{"$f":"COUNTIF(L173:L205,AS21)","v":3},{"$f":"AT21/(AV4-AT20)","v":0.1},{"$f":"IF(AU21=0,0,(AU21*((LOG(AU21))/LOG(2))))","v":-0.33219280948873625}]
[21,1897,12,1900,24,1904,23,1913,null,null,0,2122,null,2222,{"$f":"COUNTIF($L$7:$L$500,N22)","v":61},{"$f":"O22/$Q$4","v":0.30653266331658291},{"$f":"IF(P22=0,0,(P22*((LOG(P22))/LOG(2))))","v":-0.52291017216998259},null,null,{"$f":"N22","v":2222},{"$f":"COUNTIF(L7:L39,T22)","v":10},{"$f":"U22/(W4-U20)","v":0.38461538461538464},{"$f":"IF(V22=0,0,(V22*((LOG(V22))/LOG(2))))","v":-0.53019677817451139},null,{"$f":"N22","v":2222},{"$f":"COUNTIF(L40:L72,Y22)","v":8},{"$f":"Z22/(AB4-Z20)","v":0.30769230769230771},{"$f":"IF(AA22=0,0,(AA22*((LOG(AA22))/LOG(2))))","v":-0.52321222096648989},null,{"$f":"N22","v":2222},{"$f":"COUNTIF(L73:L106,AD22)","v":13},{"$f":"AE22/(AG4-AE20)","v":0.48148148148148145},{"$f":"IF(AF22=0,0,(AF22*((LOG(AF22))/LOG(2))))","v":-0.50769708119595902},null,{"$f":"N22","v":2222},{"$f":"COUNTIF(L107:L139,AI22)","v":12},{"$f":"AJ22/(AL4-AJ20)","v":0.52173913043478259},{"$f":"IF(AK22=0,0,(AK22*((LOG(AK22))/LOG(2))))","v":-0.48970406365349045},null,{"$f":"N22","v":2222},{"$f":"COUNTIF(L140:L172,AN22)","v":10},{"$f":"AO22/(AQ4-AO20)","v":0.35714285714285715},{"$f":"IF(AP22=0,0,(AP22*((LOG(AP22))/LOG(2))))","v":-0.53050958113222924},null,{"$f":"N22","v":2222},{"$f":"COUNTIF(L173:L205,AS22)","v":8},{"$f":"AT22/(AV4-AT20)","v":0.26666666666666666},{"$f":"IF(AU22=0,0,(AU22*((LOG(AU22))/LOG(2))))","v":-0.50850415882893829}]
[21,2010,12,2014,24,2017,23,2023,null,null,0,2122,null,null,null,{"$f":"SUM(P7:P22)","v":1},{"$f":"-SUM(Q7:Q22)","v":2.5776200529533746},null,null,null,null,{"$f":"SUM(V7:V22)","v":1},{"$f":"-SUM(W7:W22)","v":1.8875386446885052},null,null,null,{"$f":"SUM(AA7:AA22)","v":1},{"$f":"-SUM(AB7:AB22)","v":2.4540407967346809},null,null,null,{"$f":"SUM(AF7:AF22)","v":1},{"$f":"-SUM(AG7:AG22)","v":1.5175287893989999},null,null,null,{"$f":"SUM(AK7:AK22)","v":1},{"$f":"-SUM(AL7:AL22)","v":1.8005536741835049},null,null,null,{"$f":"SUM(AP7:AP22)","v":1},{"$f":"-SUM(AQ7:AQ22)","v":2.3921530325775926},null,null,null,{"$f":"SUM(AU7:AU22)","v":1},{"$f":"-SUM(AV7:AV22)","v":2.5437621626224822}]
[21,2122,21,2125,22,2134,23,2144,null,null,0,2222,null,null,null,"U=",{"$f":"Q23/(LOG(Q4)/LOG(2))","v":0.33753394739597326},null,null,null,null,"U1=",{"$f":"W23/(LOG(W4)/LOG(2))","v":0.37418540265219452},null,null,null,"U2=",{"$f":"AB23/(LOG(AB4)/LOG(2))","v":0.48648871175965652},null,null,null,"U3=",{"$f":"AG23/(LOG(AG4)/LOG(2))","v":0.29828793580456675},null,null,null,"U4=",{"$f":"AL23/(LOG(AL4)/LOG(2))","v":0.35694151400138802},null,null,null,"U5=",{"$f":"AQ23/(LOG(AQ4)/LOG(2))","v":0.47422008986122338},null,null,null,"U6=",{"$f":"AV23/(LOG(AV4)/LOG(2))","v":0.50427506305672998}]
[21,2242,21,2245,11,2248,21,2250,null,null,0,2212]
[21,2340,21,2351,22,2365,23,2373,null,null,0,2222]
[12,2467,23,2469,24,2475,23,2482,null,null,0,1222,null,"Total Target Seq"]
[21,2579,12,2583,24,2587,23,2593,null,null,0,2122,null,{"$f":"COUNTIF(L7:L205,G3)","v":39},null,33,33,34,33,33,33]
[21,2688,21,2692,11,2697,21,2707,null,null,0,2212,null,null,null,"% of reinforcement given in 6 equal intervals based on number of trials "]
[21,2805,21,2812,22,2822,23,2830,null,null,0,2222,null,null,null,"%_1","%_2","%_3","%_4","%_5","%_6"]
[12,2926,23,2930,13,2934,23,2937,null,null,0,1212,null,null,"target sequence",{"$f":"$G$3","v":2212},{"$f":"$G$3","v":2212},{"$f":"$G$3","v":2212},{"$f":"$G$3","v":2212},{"$f":"$G$3","v":2212},{"$f":"$G$3","v":2212}]
[12,3033,23,3035,24,3040,23,3046,null,null,0,1222,null,null,"total reinforcement",{"$f":"U20","v":7},{"$f":"Z20","v":7},{"$f":"AE20","v":7},{"$f":"AJ20","v":10},{"$f":"AO20","v":5},{"$f":"AT20","v":3}]
[12,3138,23,3148,13,3153,23,3155,null,null,0,1212,null,null,"% target"]
[21,3258,21,3262,22,3269,23,3283,null,null,0,2222,null,null,"CCRF"]
[21,3381,21,3385,22,3391,23,3398,null,null,0,2222,null,null,"% CCRf"]
[21,3494,21,3497,11,3500,21,3502,null,null,0,2212,null,null,"average response rate",{"$f":"H39/P28","v":117.33333333333333},{"$f":"(H72-H39)/Q28","v":118.24242424242425},{"$f":"(H106-H72)/R28","v":118.17647058823529},{"$f":"(H139-H106)/S28","v":124.96969696969697},{"$f":"(H172-H139)/T28","v":120.3030303030303},{"$f":"(H205-H172)/U28","v":121.93939393939394}]
[21,3604,12,3609,24,3620,23,3645,null,null,0,2122]
[21,3742,12,3746,24,3751,23,3757,null,null,0,2122]
[12,3852,23,3861,24,3866,23,3872,null,null,0,1222]
[21,3969,21,3972,22,3976,14,3981,null,null,0,2221]
[21,4081,12,4088,24,4093,23,4101,null,null,0,2122]
[21,4198,21,4202,11,4206,21,4208,null,null,0,2212]
[21,4298,21,4304,11,4309,21,4315,null,null,0,2212]
[21,4521,12,4526,24,4535,23,4549,null,null,0,2122]
[12,4646,23,4656,24,4660,23,4666,null,null,0,1222]
[21,4761,12,4767,24,4770,23,4778,null,null,0,2122]
[12,4871,23,4879,24,4883,23,4888,null,null,0,1222]
[21,4984,21,4988,22,4994,23,5004,null,null,0,2222]
[21,5102,21,5105,11,5108,21,5112,null,null,0,2212]
[21,5202,21,5216,22,5226,23,5234,null,null,0,2222]
[21,5332,21,5336,11,5339,21,5348,null,null,0,2212]
[21,5441,21,5448,22,5456,23,5464,null,null,0,2222]
[21,5560,12,5564,24,5570,23,5579,null,null,0,2122]
[21,5674,21,5678,11,5680,21,5685,null,null,0,2212]
[21,5780,21,5800,22,5815,23,5823,null,null,0,2222]
[12,5919,23,5926,24,5933,23,5942,null,null,0,1222]
[21,6034,21,6038,22,6041,23,6046,null,null,0,2222]
[21,6141,21,6145,22,6149,14,6155,null,null,0,2221]
[21,6257,12,6260,13,6262,23,6267,null,null,0,2112]
[21,6359,21,6361,22,6363,14,6366,null,null,0,2221]
[21,6465,21,6469,11,6471,21,6473,null,null,0,2212]
[12,6561,23,6567,13,6581,23,6590,null,null,0,1212]
[21,6692,21,6704,22,6713,23,6723,null,null,0,2222]
[21,6818,12,6825,24,6831,23,6840,null,null,0,2122]
[12,6936,23,6945,24,6950,23,6957,null,null,0,1222]
[21,7052,21,7056,22,7060,23,7066,null,null,0,2222]
[21,7163,21,7167,11,7172,21,7180,null,null,0,2212]
[21,7310,12,7315,24,7324,23,7340,null,null,0,2122]
[21,7434,12,7439,24,7441,23,7450,null,null,0,2122]
[12,7542,23,7545,13,7550,23,7553,null,null,0,1212]
[21,7649,21,7651,22,7657,23,7665,null,null,0,2222]
[12,7760,23,7767,24,7770,14,7774,null,null,0,1221]
[21,7869,12,7873,24,7880,23,7888,null,null,0,2122]
[21,7983,21,7987,11,7990,21,7992,null,null,0,2212]
[21,8090,21,8100,22,8105,23,8113,null,null,0,2222]
[21,8208,12,8211,24,8219,23,8228,null,null,0,2122]
[21,8323,21,8328,22,8333,23,8341,null,null,0,2222]
[12,8434,23,8443,24,8447,23,8453,null,null,0,1222]
[21,8548,21,8551,11,8554,21,8562,null,null,0,2212]
[21,8665,21,8674,22,8693,23,8701,null,null,0,2222]
[21,8793,21,8800,22,8814,23,8821,null,null,0,2222]
[12,8915,23,8919,24,8926,23,8933,null,null,0,1222]
[21,9028,21,9032,11,9033,21,9037,null,null,0,2212]
[21,9125,21,9138,22,9147,23,9160,null,null,0,2222]
[21,9258,21,9265,22,9272,23,9280,null,null,0,2222]
[21,9373,21,9375,11,9380,21,9384,null,null,0,2212]
[21,9481,12,9485,24,9492,23,9506,null,null,0,2122]
[21,9600,21,9606,22,9614,23,9623,null,null,0,2222]
[21,9717,21,9723,22,9730,23,9738,null,null,0,2222]
[21,9833,12,9839,24,9842,23,9851,null,null,0,2122]
[21,9942,21,9946,22,9954,23,9962,null,null,0,2222]
[21,10058,21,10062,11,10066,21,10068,null,null,0,2212]
[21,10158,21,10167,22,10175,23,10183,null,null,0,2222]
[21,10277,21,10283,22,10292,23,10298,null,null,0,2222]
[21,10394,12,10399,24,10401,23,10405,null,null,0,2122]
[12,10498,23,10503,24,10509,23,10516,null,null,0,1222]
[21,10608,21,10611,11,10615,21,10617,null,null,0,2212]
[12,10818,23,10828,24,10838,23,10850,null,null,0,1222]
[21,10950,21,10954,11,10958,21,10960,null,null,0,2212]
[12,11081,23,11086,24,11103,23,11116,null,null,0,1222]
[21,11213,21,11218,22,11227,23,11234,null,null,0,2222]
[21,11333,12,11338,24,11344,23,11351,null,null,0,2122]
[21,11446,12,11449,24,11455,23,11460,null,null,0,2122]
[12,11555,23,11561,24,11569,23,11577,null,null,0,1222]
[21,11672,21,11676,22,11680,23,11687,null,null,0,2222]
[12,11780,23,11783,24,11787,23,11792,null,null,0,1222]
[12,11884,23,11892,24,11896,23,11902,null,null,0,1222]
[21,11998,21,12002,11,12005,21,12011,null,null,0,2212]
[21,12188,12,12193,24,12198,23,12205,null,null,0,2122]
[21,12301,21,12305,22,12315,23,12323,null,null,0,2222]
[21,12417,12,12424,24,12426,23,12433,null,null,0,2122]
[21,12528,21,12529,11,12531,21,12534,null,null,0,2212]
[12,12643,23,12651,24,12665,23,12670,null,null,0,1222]
[21,12762,21,12766,22,12772,23,12779,null,null,0,2222]
[21,12872,21,12874,11,12881,21,12888,null,null,0,2212]
[12,13010,23,13013,24,13020,23,13027,null,null,0,1222]
[21,13122,21,13126,11,13134,21,13142,null,null,0,2212]
[12,13262,23,13267,24,13283,23,13292,null,null,0,1222]
[21,13385,21,13391,22,13400,23,13408,null,null,0,2222]
[21,13501,21,13507,22,13514,23,13521,null,null,0,2222]
[21,13614,21,13619,11,13623,21,13631,null,null,0,2212]
[21,13814,21,13820,22,13831,23,13837,null,null,0,2222]
[21,13932,21,13936,11,13939,21,13947,null,null,0,2212]
[21,14078,12,14084,24,14096,23,14119,null,null,0,2122]
[21,14210,12,14222,24,14229,23,14236,null,null,0,2122]
[21,14338,21,14342,11,14346,21,14355,null,null,0,2212]
[21,14465,21,14479,22,14487,23,14497,null,null,0,2222]
[21,14592,21,14596,11,14600,21,14601,null,null,0,2212]
[12,14731,14,14742,24,14745,23,14753,null,null,0,1122]
[21,14845,21,14850,22,14853,23,14859,null,null,0,2222]
[21,14955,21,14962,11,14966,21,14968,null,null,0,2212]
[12,15088,23,15098,24,15107,23,15115,null,null,0,1222]
[21,15210,21,15217,22,15226,23,15234,null,null,0,2222]
[21,15328,21,15331,11,15337,21,15343,null,null,0,2212]
[21,15458,21,15461,22,15467,14,15469,null,null,0,2221]
[21,15562,21,15566,22,15571,23,15578,null,null,0,2222]
[21,15674,21,15678,22,15684,23,15692,null,null,0,2222]
[21,15789,21,15793,22,15799,23,15804,null,null,0,2222]
[21,15900,21,15903,22,15909,23,15916,null,null,0,2222]
[21,16014,12,16017,13,16021,23,16028,null,null,0,2112]
[21,16122,21,16127,11,16130,21,16138,null,null,0,2212]
[21,16246,12,16253,24,16258,23,16264,null,null,0,2122]
[21,16358,21,16363,22,16370,23,16377,null,null,0,2222]
[21,16468,12,16472,13,16474,23,16476,null,null,0,2112]
[21,16570,21,16573,22,16577,14,16580,null,null,0,2221]
[21,16673,21,16677,22,16681,23,16687,null,null,0,2222]
[21,16781,21,16785,22,16790,23,16794,null,null,0,2222]
[21,16890,12,16896,24,16899,23,16904,null,null,0,2122]
[21,16996,21,16999,22,17002,14,17005,null,null,0,2221]
[21,17103,12,17107,24,17111,23,17118,null,null,0,2122]
[21,17213,21,17217,22,17222,23,17229,null,null,0,2222]
[21,17324,21,17328,11,17332,21,17337,null,null,0,2212]
[21,17490,12,17494,24,17501,23,17514,null,null,0,2122]
[12,17606,14,17609,24,17611,23,17615,null,null,0,1122]
[21,17712,21,17717,22,17721,23,17727,null,null,0,2222]
[21,17822,12,17829,24,17844,23,17854,null,null,0,2122]
[21,17951,21,17956,22,17959,14,17962,null,null,0,2221]
[12,18057,23,18061,13,18067,23,18072,null,null,0,1212]
[21,18165,21,18169,22,18176,23,18181,null,null,0,2222]
[12,18273,23,18282,24,18287,23,18295,null,null,0,1222]
[21,18390,21,18394,11,18397,21,18408,null,null,0,2212]
[21,18588,21,18602,22,18610,23,18617,null,null,0,2222]
[21,18714,21,18723,22,18730,23,18739,null,null,0,2222]
[21,18834,21,18838,22,18843,14,18846,null,null,0,2221]
[21,18941,12,18947,24,18949,23,18955,null,null,0,2122]
[21,19050,21,19054,11,19057,21,19060,null,null,0,2212]
[12,19175,23,19184,24,19192,23,19199,null,null,0,1222]
[21,19295,12,19299,24,19302,23,19310,null,null,0,2122]
[21,19404,21,19408,11,19411,21,19417,null,null,0,2212]
[12,19639,23,19649,24,19652,23,19657,null,null,0,1222]
[21,19756,21,19759,22,19766,23,19773,null,null,0,2222]
[21,19870,21,19874,22,19880,23,19886,null,null,0,2222]
[21,19977,21,19983,11,19986,21,19988,null,null,0,2212]
[21,20111,12,20117,24,20126,23,20137,null,null,0,2122]
[12,20229,14,20234,24,20239,23,20247,null,null,0,1122]
[21,20347,21,20350,22,20354,23,20359,null,null,0,2222]
[21,20454,21,20458,11,20461,21,20464,null,null,0,2212]
[21,20594,21,20604,22,20611,23,20622,null,null,0,2222]
[21,20715,12,20720,24,20723,23,20728,null,null,0,2122]
[12,20822,23,20830,24,20839,23,20846,null,null,0,1222]
[12,20938,23,20942,24,20945,23,20951,null,null,0,1222]
[21,21048,21,21053,22,21057,23,21063,null,null,0,2222]
[21,21157,21,21160,22,21165,14,21171,null,null,0,2221]
[21,21266,21,21272,22,21277,23,21285,null,null,0,2222]
[21,21383,21,21385,22,21391,14,21393,null,null,0,2221]
[21,21490,12,21498,24,21505,14,21514,null,null,0,2121]
[21,21606,12,21609,24,21613,23,21618,null,null,0,2122]
[12,21710,23,21715,24,21718,23,21723,null,null,0,1222]
[21,21819,12,21823,24,21827,23,21833,null,null,0,2122]
[12,21926,23,21931,24,21937,23,21944,null,null,0,1222]
[21,22041,12,22045,24,22054,23,22060,null,null,0,2122]
[21,22153,21,22157,22,22161,23,22166,null,null,0,2222]
[21,22258,21,22261,22,22264,14,22266,null,null,0,2221]
[21,22362,12,22365,24,22370,23,22376,null,null,0,2122]
[12,22470,23,22474,24,22480,14,22483,null,null,0,1221]
[21,22575,21,22579,22,22588,23,22596,null,null,0,2222]
[12,22692,23,22696,24,22700,23,22705,null,null,0,1222]
[21,22800,21,22803,22,22807,23,22811,null,null,0,2222]
[21,22908,12,22914,24,22920,23,22923,null,null,0,2122]
[12,23015,23,23025,24,23029,14,23033,null,null,0,1221]
[21,23125,21,23130,11,23132,21,23139,null,null,0,2212]
[21,23518,12,23523,24,23535,23,23544,null,null,0,2122]
[12,23636,23,23638,13,23644,23,23646,null,null,0,1212]
[21,23742,21,23745,22,23749,23,23755,null,null,0,2222]
[21,23896,12,23898,24,23904,23,23910,null,null,0,2122]

{"sheet":"!M718A50.Gus","index":29,"n_rows":185,"n_cols":48,"rows_kept":185,"cut":false,"hidden":false,"merged":[[4,39,4,42],[5,39,5,40],[4,44,4,47],[5,44,5,45],[4,24,4,27],[5,24,5,25],[4,29,4,32],[5,29,5,30],[4,34,4,37],[5,34,5,35],[1,1,1,2],[5,13,5,14],[26,13,26,14],[27,13,27,14],[4,19,4,22],[5,19,5,20]]}
["Report for:!M718A50.Gus"]
["Date:","<date>"]
["Hen:","<hen>",null,null,null,"Correct Sequence",{"$f":"Start!J2","v":2212},null,null,null,null,null,null,null,null,"Total Sequences in Data",{"$f":"4994-COUNTBLANK(L7:L5000)","v":179},null,null,null,null,"Total Sequences in Block Data",{"$f":"COUNTA(L7:L36)","v":30},null,null,null,"Total Sequences in Block Data",{"$f":"COUNTA(L37:L66)","v":30},null,null,null,"Total Sequences in Block Data",{"$f":"COUNTA(L67:L95)","v":29},null,null,null,"Total Sequences in Block Data",{"$f":"COUNTA(L96:L125)","v":30},null,null,null,"Total Sequences in Block Data",{"$f":"COUNTA(L126:L155)","v":30},null,null,null,"Total Sequences in Block Data",{"$f":"COUNTA(L156:L185)","v":30}]
[null,null,null,null,null,null,null,null,null,null,null,null,null,null,null,"Total Sequences in Summary",{"$f":"SUM(O7:O22)","v":179},null,null,null,null,"Total Sequences in Block Summary",{"$f":"SUM(U7:U22)","v":30},null,null,null,"Total Sequences in Block Summary",{"$f":"SUM(Z7:Z22)","v":30},null,null,null,"Total Sequences in Block Summary",{"$f":"SUM(AE7:AE22)","v":29},null,null,null,"Total Sequences in Block Summary",{"$f":"SUM(AJ7:AJ22)","v":30},null,null,null,"Total Sequences in Block Summary",{"$f":"SUM(AO7:AO22)","v":30},null,null,null,"Total Sequences in Block Summary",{"$f":"SUM(AT7:AT22)","v":30}]
[null,null,null,null,null,null,null,null,null,null,null,null,null,null,null,null,null,null,null,"Block 1",null,null,null,null,"Block 2",null,null,null,null,"Block 3",null,null,null,null,"Block 4",null,null,null,null,"Block 5",null,null,null,null,"Block 6"]
["Sequence\nComponent\n1","Time\n1","Sequence\nComponent\n2","Time\n2","Sequence\nComponent\n3","Time\n3","Sequence\nComponent\n4","Time\n4","Sequence\nComponent\n5","Time\n5","Correct?\n0=No 1=Yes","Sequence",null,"Frequency",null,"Relative Frequency","Variability",null,null,"Frequency",null,"Relative Frequency","Variability",null,"Frequency",null,"Relative Frequency","Variability",null,"Frequency",null,"Relative Frequency","Variability",null,"Frequency",null,"Relative Frequency","Variability",null,"Frequency",null,"Relative Frequency","Variability",null,"Frequency",null,"Relative Frequency","Variability"]
[21,409,21,414,22,420,23,443,null,null,0,2222,null,1111,{"$f":"COUNTIF($L$7:$L$500,N7)","v":0},{"$f":"O7/$Q$4","v":0},{"$f":"IF(P7=0,0,(P7*((LOG(P7))/LOG(2))))","v":0},null,null,{"$f":"N7","v":1111},{"$f":"COUNTIF(L7:L36,T7)","v":0},{"$f":"U7/(W4-U20)","v":0},{"$f":"IF(V7=0,0,(V7*((LOG(V7))/LOG(2))))","v":0},null,{"$f":"N7","v":1111},{"$f":"COUNTIF(L37:L66,Y7)","v":0},{"$f":"Z7/(AB4-Z20)","v":0},{"$f":"IF(AA7=0,0,(AA7*((LOG(AA7))/LOG(2))))","v":0},null,{"$f":"N7","v":1111},{"$f":"COUNTIF(L67:L95,AD7)","v":0},{"$f":"AE7/(AG4-AE20)","v":0},{"$f":"IF(AF7=0,0,(AF7*((LOG(AF7))/LOG(2))))","v":0},null,{"$f":"N7","v":1111},{"$f":"COUNTIF(L96:L125,AI7)","v":0},{"$f":"AJ7/(AL4-AJ20)","v":0},{"$f":"IF(AK7=0,0,(AK7*((LOG(AK7))/LOG(2))))","v":0},null,{"$f":"N7","v":1111},{"$f":"COUNTIF(L126:L155,AN7)","v":0},{"$f":"AO7/(AQ4-AO20)","v":0},{"$f":"IF(AP7=0,0,(AP7*((LOG(AP7))/LOG(2))))","v":0},null,{"$f":"N7","v":1111},{"$f":"COUNTIF(L156:L185,AS7)","v":0},{"$f":"AT7/(AV4-AT20)","v":0},{"$f":"IF(AU7=0,0,(AU7*((LOG(AU7))/LOG(2))))","v":0}]
[21,550,21,559,11,564,21,566,null,null,0,2212,null,1112,{"$f":"COUNTIF($L$7:$L$500,N8)","v":0},{"$f":"O8/$Q$4","v":0},{"$f":"IF(P8=0,0,(P8*((LOG(P8))/LOG(2))))","v":0},null,null,{"$f":"N8","v":1112},{"$f":"COUNTIF(L7:L36,T8)","v":0},{"$f":"U8/(W4-U20)","v":0},{"$f":"IF(V8=0,0,(V8*((LOG(V8))/LOG(2))))","v":0},null,{"$f":"N8","v":1112},{"$f":"COUNTIF(L37:L66,Y8)","v":0},{"$f":"Z8/(AB4-Z20)","v":0},{"$f":"IF(AA8=0,0,(AA8*((LOG(AA8))/LOG(2))))","v":0},null,{"$f":"N8","v":1112},{"$f":"COUNTIF(L67:L95,AD8)","v":0},{"$f":"AE8/(AG4-AE20)","v":0},{"$f":"IF(AF8=0,0,(AF8*((LOG(AF8))/LOG(2))))","v":0},null,{"$f":"N8","v":1112},{"$f":"COUNTIF(L96:L125,AI8)","v":0},{"$f":"AJ8/(AL4-AJ20)","v":0},{"$f":"IF(AK8=0,0,(AK8*((LOG(AK8))/LOG(2))))","v":0},null,{"$f":"N8","v":1112},{"$f":"COUNTIF(L126:L155,AN8)","v":0},{"$f":"AO8/(AQ4-AO20)","v":0},{"$f":"IF(AP8=0,0,(AP8*((LOG(AP8))/LOG(2))))","v":0},null,{"$f":"N8","v":1112},{"$f":"COUNTIF(L156:L185,AS8)","v":0},{"$f":"AT8/(AV4-AT20)","v":0},{"$f":"IF(AU8=0,0,(AU8*((LOG(AU8))/LOG(2))))","v":0}]
[21,989,21,993,22,999,23,1006,null,null,0,2222,null,1121,{"$f":"COUNTIF($L$7:$L$500,N9)","v":0},{"$f":"O9/$Q$4","v":0},{"$f":"IF(P9=0,0,(P9*((LOG(P9))/LOG(2))))","v":0},null,null,{"$f":"N9","v":1121},{"$f":"COUNTIF(L7:L36,T9)","v":0},{"$f":"U9/(W4-U20)","v":0},{"$f":"IF(V9=0,0,(V9*((LOG(V9))/LOG(2))))","v":0},null,{"$f":"N9","v":1121},{"$f":"COUNTIF(L37:L66,Y9)","v":0},{"$f":"Z9/(AB4-Z20)","v":0},{"$f":"IF(AA9=0,0,(AA9*((LOG(AA9))/LOG(2))))","v":0},null,{"$f":"N9","v":1121},{"$f":"COUNTIF(L67:L95,AD9)","v":0},{"$f":"AE9/(AG4-AE20)","v":0},{"$f":"IF(AF9=0,0,(AF9*((LOG(AF9))/LOG(2))))","v":0},null,{"$f":"N9","v":1121},{"$f":"COUNTIF(L96:L125,AI9)","v":0},{"$f":"AJ9/(AL4-AJ20)","v":0},{"$f":"IF(AK9=0,0,(AK9*((LOG(AK9))/LOG(2))))","v":0},null,{"$f":"N9","v":1121},{"$f":"COUNTIF(L126:L155,AN9)","v":0},{"$f":"AO9/(AQ4-AO20)","v":0},{"$f":"IF(AP9=0,0,(AP9*((LOG(AP9))/LOG(2))))","v":0},null,{"$f":"N9","v":1121},{"$f":"COUNTIF(L156:L185,AS9)","v":0},{"$f":"AT9/(AV4-AT20)","v":0},{"$f":"IF(AU9=0,0,(AU9*((LOG(AU9))/LOG(2))))","v":0}]
[12,1099,23,1101,24,1107,23,1115,null,null,0,1222,null,1122,{"$f":"COUNTIF($L$7:$L$500,N10)","v":1},{"$f":"O10/$Q$4","v":5.5865921787709499E-3},{"$f":"IF(P10=0,0,(P10*((LOG(P10))/LOG(2))))","v":-4.1809026688627134E-2},null,null,{"$f":"N10","v":1122},{"$f":"COUNTIF(L7:L36,T10)","v":0},{"$f":"U10/(W4-U20)","v":0},{"$f":"IF(V10=0,0,(V10*((LOG(V10))/LOG(2))))","v":0},null,{"$f":"N10","v":1122},{"$f":"COUNTIF(L37:L66,Y10)","v":0},{"$f":"Z10/(AB4-Z20)","v":0},{"$f":"IF(AA10=0,0,(AA10*((LOG(AA10))/LOG(2))))","v":0},null,{"$f":"N10","v":1122},{"$f":"COUNTIF(L67:L95,AD10)","v":1},{"$f":"AE10/(AG4-AE20)","v":0.04},{"$f":"IF(AF10=0,0,(AF10*((LOG(AF10))/LOG(2))))","v":-0.18575424759098899},null,{"$f":"N10","v":1122},{"$f":"COUNTIF(L96:L125,AI10)","v":0},{"$f":"AJ10/(AL4-AJ20)","v":0},{"$f":"IF(AK10=0,0,(AK10*((LOG(AK10))/LOG(2))))","v":0},null,{"$f":"N10","v":1122},{"$f":"COUNTIF(L126:L155,AN10)","v":0},{"$f":"AO10/(AQ4-AO20)","v":0},{"$f":"IF(AP10=0,0,(AP10*((LOG(AP10))/LOG(2))))","v":0},null,{"$f":"N10","v":1122},{"$f":"COUNTIF(L156:L185,AS10)","v":0},{"$f":"AT10/(AV4-AT20)","v":0},{"$f":"IF(AU10=0,0,(AU10*((LOG(AU10))/LOG(2))))","v":0}]
[21,1211,12,1215,24,1218,23,1225,null,null,0,2122,null,1211,{"$f":"COUNTIF($L$7:$L$500,N11)","v":0},{"$f":"O11/$Q$4","v":0},{"$f":"IF(P11=0,0,(P11*((LOG(P11))/LOG(2))))","v":0},null,null,{"$f":"N11","v":1211},{"$f":"COUNTIF(L7:L36,T11)","v":0},{"$f":"U11/(W4-U20)","v":0},{"$f":"IF(V11=0,0,(V11*((LOG(V11))/LOG(2))))","v":0},null,{"$f":"N11","v":1211},{"$f":"COUNTIF(L37:L66,Y11)","v":0},{"$f":"Z11/(AB4-Z20)","v":0},{"$f":"IF(AA11=0,0,(AA11*((LOG(AA11))/LOG(2))))","v":0},null,{"$f":"N11","v":1211},{"$f":"COUNTIF(L67:L95,AD11)","v":0},{"$f":"AE11/(AG4-AE20)","v":0},{"$f":"IF(AF11=0,0,(AF11*((LOG(AF11))/LOG(2))))","v":0},null,{"$f":"N11","v":1211},{"$f":"COUNTIF(L96:L125,AI11)","v":0},{"$f":"AJ11/(AL4-AJ20)","v":0},{"$f":"IF(AK11=0,0,(AK11*((LOG(AK11))/LOG(2))))","v":0},null,{"$f":"N11","v":1211},{"$f":"COUNTIF(L126:L155,AN11)","v":0},{"$f":"AO11/(AQ4-AO20)","v":0},{"$f":"IF(AP11=0,0,(AP11*((LOG(AP11))/LOG(2))))","v":0},null,{"$f":"N11","v":1211},{"$f":"COUNTIF(L156:L185,AS11)","v":0},{"$f":"AT11/(AV4-AT20)","v":0},{"$f":"IF(AU11=0,0,(AU11*((LOG(AU11))/LOG(2))))","v":0}]
[21,1319,21,1327,22,1339,23,1344,null,null,0,2222,null,1212,{"$f":"COUNTIF($L$7:$L$500,N12)","v":6},{"$f":"O12/$Q$4","v":3.3519553072625698E-2},{"$f":"IF(P12=0,0,(P12*((LOG(P12))/LOG(2))))","v":-0.16420737239809274},null,null,{"$f":"N12","v":1212},{"$f":"COUNTIF(L7:L36,T12)","v":1},{"$f":"U12/(W4-U20)","v":3.8461538461538464E-2},{"$f":"IF(V12=0,0,(V12*((LOG(V12))/LOG(2))))","v":-0.18078614300542661},null,{"$f":"N12","v":1212},{"$f":"COUNTIF(L37:L66,Y12)","v":2},{"$f":"Z12/(AB4-Z20)","v":8.3333333333333329E-2},{"$f":"IF(AA12=0,0,(AA12*((LOG(AA12))/LOG(2))))","v":-0.29874687506009634},null,{"$f":"N12","v":1212},{"$f":"COUNTIF(L67:L95,AD12)","v":1},{"$f":"AE12/(AG4-AE20)","v":0.04},{"$f":"IF(AF12=0,0,(AF12*((LOG(AF12))/LOG(2))))","v":-0.18575424759098899},null,{"$f":"N12","v":1212},{"$f":"COUNTIF(L96:L125,AI12)","v":0},{"$f":"AJ12/(AL4-AJ20)","v":0},{"$f":"IF(AK12=0,0,(AK12*((LOG(AK12))/LOG(2))))","v":0},null,{"$f":"N12","v":1212},{"$f":"COUNTIF(L126:L155,AN12)","v":1},{"$f":"AO12/(AQ4-AO20)","v":4.1666666666666664E-2},{"$f":"IF(AP12=0,0,(AP12*((LOG(AP12))/LOG(2))))","v":-0.19104010419671485},null,{"$f":"N12","v":1212},{"$f":"COUNTIF(L156:L185,AS12)","v":1},{"$f":"AT12/(AV4-AT20)","v":4.1666666666666664E-2},{"$f":"IF(AU12=0,0,(AU12*((LOG(AU12))/LOG(2))))","v":-0.19104010419671485}]
[12,1438,23,1439,24,1443,23,1449,null,null,0,1222,null,1221,{"$f":"COUNTIF($L$7:$L$500,N13)","v":6},{"$f":"O13/$Q$4","v":3.3519553072625698E-2},{"$f":"IF(P13=0,0,(P13*((LOG(P13))/LOG(2))))","v":-0.16420737239809274},null,null,{"$f":"N13","v":1221},{"$f":"COUNTIF(L7:L36,T13)","v":0},{"$f":"U13/(W4-U20)","v":0},{"$f":"IF(V13=0,0,(V13*((LOG(V13))/LOG(2))))","v":0},null,{"$f":"N13","v":1221},{"$f":"COUNTIF(L37:L66,Y13)","v":2},{"$f":"Z13/(AB4-Z20)","v":8.3333333333333329E-2},{"$f":"IF(AA13=0,0,(AA13*((LOG(AA13))/LOG(2))))","v":-0.29874687506009634},null,{"$f":"N13","v":1221},{"$f":"COUNTIF(L67:L95,AD13)","v":0},{"$f":"AE13/(AG4-AE20)","v":0},{"$f":"IF(AF13=0,0,(AF13*((LOG(AF13))/LOG(2))))","v":0},null,{"$f":"N13","v":1221},{"$f":"COUNTIF(L96:L125,AI13)","v":2},{"$f":"AJ13/(AL4-AJ20)","v":7.6923076923076927E-2},{"$f":"IF(AK13=0,0,(AK13*((LOG(AK13))/LOG(2))))","v":-0.28464920908777636},null,{"$f":"N13","v":1221},{"$f":"COUNTIF(L126:L155,AN13)","v":1},{"$f":"AO13/(AQ4-AO20)","v":4.1666666666666664E-2},{"$f":"IF(AP13=0,0,(AP13*((LOG(AP13))/LOG(2))))","v":-0.19104010419671485},null,{"$f":"N13","v":1221},{"$f":"COUNTIF(L156:L185,AS13)","v":1},{"$f":"AT13/(AV4-AT20)","v":4.1666666666666664E-2},{"$f":"IF(AU13=0,0,(AU13*((LOG(AU13))/LOG(2))))","v":-0.19104010419671485}]
[12,1541,23,1551,24,1554,23,1560,null,null,0,1222,null,1222,{"$f":"COUNTIF($L$7:$L$500,N14)","v":26},{"$f":"O14/$Q$4","v":0.14525139664804471},{"$f":"IF(P14=0,0,(P14*((LOG(P14))/LOG(2))))","v":-0.40428925998437021},null,null,{"$f":"N14","v":1222},{"$f":"COUNTIF(L7:L36,T14)","v":6},{"$f":"U14/(W4-U20)","v":0.23076923076923078},{"$f":"IF(V14=0,0,(V14*((LOG(V14))/LOG(2))))","v":-0.48818705017383146},null,{"$f":"N14","v":1222},{"$f":"COUNTIF(L37:L66,Y14)","v":3},{"$f":"Z14/(AB4-Z20)","v":0.125},{"$f":"IF(AA14=0,0,(AA14*((LOG(AA14))/LOG(2))))","v":-0.375},null,{"$f":"N14","v":1222},{"$f":"COUNTIF(L67:L95,AD14)","v":4},{"$f":"AE14/(AG4-AE20)","v":0.16},{"$f":"IF(AF14=0,0,(AF14*((LOG(AF14))/LOG(2))))","v":-0.42301699036395596},null,{"$f":"N14","v":1222},{"$f":"COUNTIF(L96:L125,AI14)","v":1},{"$f":"AJ14/(AL4-AJ20)","v":3.8461538461538464E-2},{"$f":"IF(AK14=0,0,(AK14*((LOG(AK14))/LOG(2))))","v":-0.18078614300542661},null,{"$f":"N14","v":1222},{"$f":"COUNTIF(L126:L155,AN14)","v":5},{"$f":"AO14/(AQ4-AO20)","v":0.20833333333333334},{"$f":"IF(AP14=0,0,(AP14*((LOG(AP14))/LOG(2))))","v":-0.47146550121537367},null,{"$f":"N14","v":1222},{"$f":"COUNTIF(L156:L185,AS14)","v":7},{"$f":"AT14/(AV4-AT20)","v":0.29166666666666669},{"$f":"IF(AU14=0,0,(AU14*((LOG(AU14))/LOG(2))))","v":-0.51846887711020273}]
[21,1656,12,1661,24,1662,23,1668,null,null,0,2122,null,2111,{"$f":"COUNTIF($L$7:$L$500,N15)","v":0},{"$f":"O15/$Q$4","v":0},{"$f":"IF(P15=0,0,(P15*((LOG(P15))/LOG(2))))","v":0},null,null,{"$f":"N15","v":2111},{"$f":"COUNTIF(L7:L36,T15)","v":0},{"$f":"U15/(W4-U20)","v":0},{"$f":"IF(V15=0,0,(V15*((LOG(V15))/LOG(2))))","v":0},null,{"$f":"N15","v":2111},{"$f":"COUNTIF(L37:L66,Y15)","v":0},{"$f":"Z15/(AB4-Z20)","v":0},{"$f":"IF(AA15=0,0,(AA15*((LOG(AA15))/LOG(2))))","v":0},null,{"$f":"N15","v":2111},{"$f":"COUNTIF(L67:L95,AD15)","v":0},{"$f":"AE15/(AG4-AE20)","v":0},{"$f":"IF(AF15=0,0,(AF15*((LOG(AF15))/LOG(2))))","v":0},null,{"$f":"N15","v":2111},{"$f":"COUNTIF(L96:L125,AI15)","v":0},{"$f":"AJ15/(AL4-AJ20)","v":0},{"$f":"IF(AK15=0,0,(AK15*((LOG(AK15))/LOG(2))))","v":0},null,{"$f":"N15","v":2111},{"$f":"COUNTIF(L126:L155,AN15)","v":0},{"$f":"AO15/(AQ4-AO20)","v":0},{"$f":"IF(AP15=0,0,(AP15*((LOG(AP15))/LOG(2))))","v":0},null,{"$f":"N15","v":2111},{"$f":"COUNTIF(L156:L185,AS15)","v":0},{"$f":"AT15/(AV4-AT20)","v":0},{"$f":"IF(AU15=0,0,(AU15*((LOG(AU15))/LOG(2))))","v":0}]
[21,1760,12,1761,24,1764,14,1768,null,null,0,2121,null,2112,{"$f":"COUNTIF($L$7:$L$500,N16)","v":1},{"$f":"O16/$Q$4","v":5.5865921787709499E-3},{"$f":"IF(P16=0,0,(P16*((LOG(P16))/LOG(2))))","v":-4.1809026688627134E-2},null,null,{"$f":"N16","v":2112},{"$f":"COUNTIF(L7:L36,T16)","v":0},{"$f":"U16/(W4-U20)","v":0},{"$f":"IF(V16=0,0,(V16*((LOG(V16))/LOG(2))))","v":0},null,{"$f":"N16","v":2112},{"$f":"COUNTIF(L37:L66,Y16)","v":1},{"$f":"Z16/(AB4-Z20)","v":4.1666666666666664E-2},{"$f":"IF(AA16=0,0,(AA16*((LOG(AA16))/LOG(2))))","v":-0.19104010419671485},null,{"$f":"N16","v":2112},{"$f":"COUNTIF(L67:L95,AD16)","v":0},{"$f":"AE16/(AG4-AE20)","v":0},{"$f":"IF(AF16=0,0,(AF16*((LOG(AF16))/LOG(2))))","v":0},null,{"$f":"N16","v":2112},{"$f":"COUNTIF(L96:L125,AI16)","v":0},{"$f":"AJ16/(AL4-AJ20)","v":0},{"$f":"IF(AK16=0,0,(AK16*((LOG(AK16))/LOG(2))))","v":0},null,{"$f":"N16","v":2112},{"$f":"COUNTIF(L126:L155,AN16)","v":0},{"$f":"AO16/(AQ4-AO20)","v":0},{"$f":"IF(AP16=0,0,(AP16*((LOG(AP16))/LOG(2))))","v":0},null,{"$f":"N16","v":2112},{"$f":"COUNTIF(L156:L185,AS16)","v":0},{"$f":"AT16/(AV4-AT20)","v":0},{"$f":"IF(AU16=0,0,(AU16*((LOG(AU16))/LOG(2))))","v":0}]
[21,1866,21,1872,22,1876,23,1882,null,null,0,2222,null,2121,{"$f":"COUNTIF($L$7:$L$500,N17)","v":3},{"$f":"O17/$Q$4","v":1.6759776536312849E-2},{"$f":"IF(P17=0,0,(P17*((LOG(P17))/LOG(2))))","v":-9.8863462735359217E-2},null,null,{"$f":"N17","v":2121},{"$f":"COUNTIF(L7:L36,T17)","v":1},{"$f":"U17/(W4-U20)","v":3.8461538461538464E-2},{"$f":"IF(V17=0,0,(V17*((LOG(V17))/LOG(2))))","v":-0.18078614300542661},null,{"$f":"N17","v":2121},{"$f":"COUNTIF(L37:L66,Y17)","v":1},{"$f":"Z17/(AB4-Z20)","v":4.1666666666666664E-2},{"$f":"IF(AA17=0,0,(AA17*((LOG(AA17))/LOG(2))))","v":-0.19104010419671485},null,{"$f":"N17","v":2121},{"$f":"COUNTIF(L67:L95,AD17)","v":1},{"$f":"AE17/(AG4-AE20)","v":0.04},{"$f":"IF(AF17=0,0,(AF17*((LOG(AF17))/LOG(2))))","v":-0.18575424759098899},null,{"$f":"N17","v":2121},{"$f":"COUNTIF(L96:L125,AI17)","v":0},{"$f":"AJ17/(AL4-AJ20)","v":0},{"$f":"IF(AK17=0,0,(AK17*((LOG(AK17))/LOG(2))))","v":0},null,{"$f":"N17","v":2121},{"$f":"COUNTIF(L126:L155,AN17)","v":0},{"$f":"AO17/(AQ4-AO20)","v":0},{"$f":"IF(AP17=0,0,(AP17*((LOG(AP17))/LOG(2))))","v":0},null,{"$f":"N17","v":2121},{"$f":"COUNTIF(L156:L185,AS17)","v":0},{"$f":"AT17/(AV4-AT20)","v":0},{"$f":"IF(AU17=0,0,(AU17*((LOG(AU17))/LOG(2))))","v":0}]
[21,1977,21,1980,22,1985,14,1989,null,null,0,2221,null,2122,{"$f":"COUNTIF($L$7:$L$500,N18)","v":27},{"$f":"O18/$Q$4","v":0.15083798882681565},{"$f":"IF(P18=0,0,(P18*((LOG(P18))/LOG(2))))","v":-0.4116260526688339},null,null,{"$f":"N18","v":2122},{"$f":"COUNTIF(L7:L36,T18)","v":5},{"$f":"U18/(W4-U20)","v":0.19230769230769232},{"$f":"IF(V18=0,0,(V18*((LOG(V18))/LOG(2))))","v":-0.45740608139494804},null,{"$f":"N18","v":2122},{"$f":"COUNTIF(L37:L66,Y18)","v":6},{"$f":"Z18/(AB4-Z20)","v":0.25},{"$f":"IF(AA18=0,0,(AA18*((LOG(AA18))/LOG(2))))","v":-0.5},null,{"$f":"N18","v":2122},{"$f":"COUNTIF(L67:L95,AD18)","v":4},{"$f":"AE18/(AG4-AE20)","v":0.16},{"$f":"IF(AF18=0,0,(AF18*((LOG(AF18))/LOG(2))))","v":-0.42301699036395596},null,{"$f":"N18","v":2122},{"$f":"COUNTIF(L96:L125,AI18)","v":3},{"$f":"AJ18/(AL4-AJ20)","v":0.11538461538461539},{"$f":"IF(AK18=0,0,(AK18*((LOG(AK18))/LOG(2))))","v":-0.35947814047153104},null,{"$f":"N18","v":2122},{"$f":"COUNTIF(L126:L155,AN18)","v":4},{"$f":"AO18/(AQ4-AO20)","v":0.16666666666666666},{"$f":"IF(AP18=0,0,(AP18*((LOG(AP18))/LOG(2))))","v":-0.43082708345352599},null,{"$f":"N18","v":2122},{"$f":"COUNTIF(L156:L185,AS18)","v":5},{"$f":"AT18/(AV4-AT20)","v":0.20833333333333334},{"$f":"IF(AU18=0,0,(AU18*((LOG(AU18))/LOG(2))))","v":-0.47146550121537367}]
[21,2087,21,2091,22,2096,14,2103,null,null,0,2221,null,2211,{"$f":"COUNTIF($L$7:$L$500,N19)","v":0},{"$f":"O19/$Q$4","v":0},{"$f":"IF(P19=0,0,(P19*((LOG(P19))/LOG(2))))","v":0},null,null,{"$f":"N19","v":2211},{"$f":"COUNTIF(L7:L36,T19)","v":0},{"$f":"U19/(W4-U20)","v":0},{"$f":"IF(V19=0,0,(V19*((LOG(V19))/LOG(2))))","v":0},null,{"$f":"N19","v":2211},{"$f":"COUNTIF(L37:L66,Y19)","v":0},{"$f":"Z19/(AB4-Z20)","v":0},{"$f":"IF(AA19=0,0,(AA19*((LOG(AA19))/LOG(2))))","v":0},null,{"$f":"N19","v":2211},{"$f":"COUNTIF(L67:L95,AD19)","v":0},{"$f":"AE19/(AG4-AE20)","v":0},{"$f":"IF(AF19=0,0,(AF19*((LOG(AF19))/LOG(2))))","v":0},null,{"$f":"N19","v":2211},{"$f":"COUNTIF(L96:L125,AI19)","v":0},{"$f":"AJ19/(AL4-AJ20)","v":0},{"$f":"IF(AK19=0,0,(AK19*((LOG(AK19))/LOG(2))))","v":0},null,{"$f":"N19","v":2211},{"$f":"COUNTIF(L126:L155,AN19)","v":0},{"$f":"AO19/(AQ4-AO20)","v":0},{"$f":"IF(AP19=0,0,(AP19*((LOG(AP19))/LOG(2))))","v":0},null,{"$f":"N19","v":2211},{"$f":"COUNTIF(L156:L185,AS19)","v":0},{"$f":"AT19/(AV4-AT20)","v":0},{"$f":"IF(AU19=0,0,(AU19*((LOG(AU19))/LOG(2))))","v":0}]
[21,2199,21,2203,22,2208,23,2216,null,null,0,2222,null,2212,{"$f":"COUNTIF($L$7:$L$500,N20)","v":30},{"$f":"O20/$Q$4","v":0.16759776536312848},{"$f":"IF(P20=0,0,(P20*((LOG(P20))/LOG(2))))","v":-0.43188690195347557},null,null,{"$f":"N20","v":2212},{"$f":"COUNTIF(L7:L36,T20)","v":4},null,null,null,{"$f":"N20","v":2212},{"$f":"COUNTIF(L37:L66,Y20)","v":6},null,null,null,{"$f":"N20","v":2212},{"$f":"COUNTIF(L67:L95,AD20)","v":4},null,null,null,{"$f":"N20","v":2212},{"$f":"COUNTIF(L96:L125,AI20)","v":4},null,null,null,{"$f":"N20","v":2212},{"$f":"COUNTIF(L126:L155,AN20)","v":6},null,null,null,{"$f":"N20","v":2212},{"$f":"COUNTIF(L156:L185,AS20)","v":6}]
[21,2312,12,2317,24,2319,23,2324,null,null,0,2122,null,2221,{"$f":"COUNTIF($L$7:$L$500,N21)","v":22},{"$f":"O21/$Q$4","v":0.12290502793296089},{"$f":"IF(P21=0,0,(P21*((LOG(P21))/LOG(2))))","v":-0.37171201949605082},null,null,{"$f":"N21","v":2221},{"$f":"COUNTIF(L7:L36,T21)","v":3},{"$f":"U21/(W4-U20)","v":0.11538461538461539},{"$f":"IF(V21=0,0,(V21*((LOG(V21))/LOG(2))))","v":-0.35947814047153104},null,{"$f":"N21","v":2221},{"$f":"COUNTIF(L37:L66,Y21)","v":4},{"$f":"Z21/(AB4-Z20)","v":0.16666666666666666},{"$f":"IF(AA21=0,0,(AA21*((LOG(AA21))/LOG(2))))","v":-0.43082708345352599},null,{"$f":"N21","v":2221},{"$f":"COUNTIF(L67:L95,AD21)","v":5},{"$f":"AE21/(AG4-AE20)","v":0.2},{"$f":"IF(AF21=0,0,(AF21*((LOG(AF21))/LOG(2))))","v":-0.46438561897747244},null,{"$f":"N21","v":2221},{"$f":"COUNTIF(L96:L125,AI21)","v":7},{"$f":"AJ21/(AL4-AJ20)","v":0.26923076923076922},{"$f":"IF(AK21=0,0,(AK21*((LOG(AK21))/LOG(2))))","v":-0.50967667586863141},null,{"$f":"N21","v":2221},{"$f":"COUNTIF(L126:L155,AN21)","v":2},{"$f":"AO21/(AQ4-AO20)","v":8.3333333333333329E-2},{"$f":"IF(AP21=0,0,(AP21*((LOG(AP21))/LOG(2))))","v":-0.29874687506009634},null,{"$f":"N21","v":2221},{"$f":"COUNTIF(L156:L185,AS21)","v":1},{"$f":"AT21/(AV4-AT20)","v":4.1666666666666664E-2},{"$f":"IF(AU21=0,0,(AU21*((LOG(AU21))/LOG(2))))","v":-0.19104010419671485}]
[21,2421,21,2425,22,2430,23,2436,null,null,0,2222,null,2222,{"$f":"COUNTIF($L$7:$L$500,N22)","v":57},{"$f":"O22/$Q$4","v":0.31843575418994413},{"$f":"IF(P22=0,0,(P22*((LOG(P22))/LOG(2))))","v":-0.52571379048420308},null,null,{"$f":"N22","v":2222},{"$f":"COUNTIF(L7:L36,T22)","v":10},{"$f":"U22/(W4-U20)","v":0.38461538461538464},{"$f":"IF(V22=0,0,(V22*((LOG(V22))/LOG(2))))","v":-0.53019677817451139},null,{"$f":"N22","v":2222},{"$f":"COUNTIF(L37:L66,Y22)","v":5},{"$f":"Z22/(AB4-Z20)","v":0.20833333333333334},{"$f":"IF(AA22=0,0,(AA22*((LOG(AA22))/LOG(2))))","v":-0.47146550121537367},null,{"$f":"N22","v":2222},{"$f":"COUNTIF(L67:L95,AD22)","v":9},{"$f":"AE22/(AG4-AE20)","v":0.36},{"$f":"IF(AF22=0,0,(AF22*((LOG(AF22))/LOG(2))))","v":-0.53061522779966841},null,{"$f":"N22","v":2222},{"$f":"COUNTIF(L96:L125,AI22)","v":13},{"$f":"AJ22/(AL4-AJ20)","v":0.5},{"$f":"IF(AK22=0,0,(AK22*((LOG(AK22))/LOG(2))))","v":-0.5},null,{"$f":"N22","v":2222},{"$f":"COUNTIF(L126:L155,AN22)","v":11},{"$f":"AO22/(AQ4-AO20)","v":0.45833333333333331},{"$f":"IF(AP22=0,0,(AP22*((LOG(AP22))/LOG(2))))","v":-0.51586832095510204},null,{"$f":"N22","v":2222},{"$f":"COUNTIF(L156:L185,AS22)","v":9},{"$f":"AT22/(AV4-AT20)","v":0.375},{"$f":"IF(AU22=0,0,(AU22*((LOG(AU22))/LOG(2))))","v":-0.53063906222956647}]
[12,2531,23,2535,13,2538,23,2541,null,null,0,1212,null,null,null,{"$f":"SUM(P7:P22)","v":1},{"$f":"-SUM(Q7:Q22)","v":2.6561242854957321},null,null,null,null,{"$f":"SUM(V7:V22)","v":1},{"$f":"-SUM(W7:W22)","v":2.1968403362256752},null,null,null,{"$f":"SUM(AA7:AA22)","v":1},{"$f":"-SUM(AB7:AB22)","v":2.7568665431825226},null,null,null,{"$f":"SUM(AF7:AF22)","v":0.99999999999999989},{"$f":"-SUM(AG7:AG22)","v":2.3982975702780198},null,null,null,{"$f":"SUM(AK7:AK22)","v":1},{"$f":"-SUM(AL7:AL22)","v":1.8345901684333654},null,null,null,{"$f":"SUM(AP7:AP22)","v":1},{"$f":"-SUM(AQ7:AQ22)","v":2.0989879890775276},null,null,null,{"$f":"SUM(AU7:AU22)","v":1},{"$f":"-SUM(AV7:AV22)","v":2.0936937531452875}]
[21,2638,21,2642,11,2644,21,2647,null,null,0,2212,null,null,null,"U=",{"$f":"Q23/(LOG(Q4)/LOG(2))","v":0.35491577619601572},null,null,null,null,"U1=",{"$f":"W23/(LOG(W4)/LOG(2))","v":0.44770517977143492},null,null,null,"U2=",{"$f":"AB23/(LOG(AB4)/LOG(2))","v":0.56183574699012317},null,null,null,"U3=",{"$f":"AG23/(LOG(AG4)/LOG(2))","v":0.49368195813928661},null,null,null,"U4=",{"$f":"AL23/(LOG(AL4)/LOG(2))","v":0.37388038976765736},null,null,null,"U5=",{"$f":"AQ23/(LOG(AQ4)/LOG(2))","v":0.4277633560764616},null,null,null,"U6=",{"$f":"AV23/(LOG(AV4)/LOG(2))","v":0.42668441701534249}]
[21,2791,21,2795,22,2804,23,2812,null,null,0,2222]
[21,2906,21,2909,22,2915,23,2922,null,null,0,2222]
[12,3015,23,3021,24,3024,23,3031,null,null,0,1222,null,"Total Target Seq"]
[21,3125,21,3130,22,3134,14,3140,null,null,0,2221,null,{"$f":"COUNTIF(L7:L185,G3)","v":30},null,30,30,29,30,30,30]
[21,3241,21,3245,11,3249,21,3257,null,null,0,2212,null,null,null,"% of reinforcement given in 6 equal intervals based on number of trials "]
[12,3537,23,3551,24,3560,23,3567,null,null,0,1222,null,null,null,"%_1","%_2","%_3","%_4","%_5","%_6"]
[21,3661,21,3666,11,3668,21,3676,null,null,0,2212,null,null,"target sequence",{"$f":"$G$3","v":2212},{"$f":"$G$3","v":2212},{"$f":"$G$3","v":2212},{"$f":"$G$3","v":2212},{"$f":"$G$3","v":2212},{"$f":"$G$3","v":2212}]
[21,3947,12,3953,24,3959,23,3975,null,null,0,2122,null,null,"total reinforcement",{"$f":"U20","v":4},{"$f":"Z20","v":6},{"$f":"AE20","v":4},{"$f":"AJ20","v":4},{"$f":"AO20","v":6},{"$f":"AT20","v":6}]
[12,4068,23,4070,24,4075,23,4080,null,null,0,1222,null,null,"% target"]
[21,4175,12,4182,24,4188,23,4197,null,null,0,2122,null,null,"CCRF"]
[21,4292,21,4295,22,4302,23,4309,null,null,0,2222,null,null,"% CCRf"]
[21,4411,21,4415,22,4421,23,4429,null,null,0,2222,null,null,"average response rate",{"$f":"H36/P28","v":147.63333333333333},{"$f":"(H66-H36)/Q28","v":131.19999999999999},{"$f":"(H95-H66)/R28","v":130.17241379310346},{"$f":"(H125-H95)/S28","v":121.96666666666667},{"$f":"(H155-H125)/T28","v":138.06666666666666},{"$f":"(H185-H155)/U28","v":133}]
[21,4525,21,4529,22,4537,23,4547,null,null,0,2222]
[12,4640,23,4653,24,4656,23,4662,null,null,0,1222]
[21,4757,21,4764,11,4768,21,4776,null,null,0,2212]
[21,4996,21,5002,11,5009,21,5011,null,null,0,2212]
[12,5254,23,5259,24,5274,23,5281,null,null,0,1222]
[21,5377,21,5381,22,5386,14,5391,null,null,0,2221]
[21,5484,12,5489,24,5493,23,5499,null,null,0,2122]
[21,5598,12,5604,24,5610,23,5617,null,null,0,2122]
[12,5711,23,5718,24,5721,14,5725,null,null,0,1221]
[21,5820,21,5827,11,5828,21,5832,null,null,0,2212]
[21,5981,21,5992,22,5999,23,6008,null,null,0,2222]
[21,6103,21,6111,22,6120,23,6130,null,null,0,2222]
[21,6224,12,6233,24,6237,23,6242,null,null,0,2122]
[21,6339,12,6347,24,6353,23,6362,null,null,0,2122]
[21,6454,21,6458,22,6461,23,6466,null,null,0,2222]
[21,6562,21,6571,22,6576,14,6582,null,null,0,2221]
[21,6677,21,6681,11,6685,21,6693,null,null,0,2212]
[21,6864,12,6868,24,6877,14,6880,null,null,0,2121]
[21,6975,21,6983,22,6988,14,6997,null,null,0,2221]
[12,7090,23,7098,13,7105,23,7111,null,null,0,1212]
[21,7206,12,7217,13,7219,23,7224,null,null,0,2112]
[21,7318,21,7324,22,7329,14,7334,null,null,0,2221]
[12,7427,23,7436,24,7447,14,7451,null,null,0,1221]
[12,7544,23,7553,13,7559,23,7560,null,null,0,1212]
[21,7657,12,7661,24,7663,23,7672,null,null,0,2122]
[21,7767,21,7771,11,7776,21,7782,null,null,0,2212]
[21,8014,21,8029,22,8036,23,8045,null,null,0,2222]
[12,8138,23,8141,24,8146,23,8153,null,null,0,1222]
[21,8250,12,8256,24,8259,23,8265,null,null,0,2122]
[21,8358,21,8361,11,8363,21,8365,null,null,0,2212]
[21,8585,21,8591,22,8599,23,8606,null,null,0,2222]
[21,8698,21,8703,22,8712,23,8718,null,null,0,2222]
[21,8814,21,8816,22,8822,23,8828,null,null,0,2222]
[21,8923,21,8926,22,8929,23,8934,null,null,0,2222]
[21,9026,12,9035,24,9042,23,9052,null,null,0,2122]
[21,9150,21,9157,22,9161,14,9167,null,null,0,2221]
[21,9262,21,9265,11,9269,21,9271,null,null,0,2212]
[12,9422,23,9459,24,9477,23,9485,null,null,0,1222]
[12,9578,23,9585,24,9590,23,9594,null,null,0,1222]
[21,9689,21,9694,11,9697,21,9699,null,null,0,2212]
[12,9997,14,10009,24,10013,23,10022,null,null,0,1122]
[21,10114,12,10118,24,10124,14,10134,null,null,0,2121]
[21,10227,21,10229,22,10232,14,10235,null,null,0,2221]
[21,10330,21,10334,22,10338,23,10343,null,null,0,2222]
[21,10438,21,10443,11,10446,21,10448,null,null,0,2212]
[21,10549,12,10556,24,10560,23,10577,null,null,0,2122]
[21,10674,21,10678,22,10682,23,10690,null,null,0,2222]
[21,10783,21,10787,22,10790,23,10796,null,null,0,2222]
[21,10892,21,10896,22,10900,14,10902,null,null,0,2221]
[21,11000,21,11004,22,11009,14,11018,null,null,0,2221]
[21,11113,12,11116,24,11121,23,11128,null,null,0,2122]
[12,11221,23,11225,24,11230,23,11235,null,null,0,1222]
[12,11327,23,11333,24,11340,23,11345,null,null,0,1222]
[21,11444,21,11446,22,11450,14,11451,null,null,0,2221]
[12,11545,23,11550,13,11555,23,11557,null,null,0,1212]
[21,11649,21,11656,22,11660,23,11666,null,null,0,2222]
[21,11758,12,11764,24,11768,23,11773,null,null,0,2122]
[21,11865,21,11875,11,11878,21,11885,null,null,0,2212]
[21,12120,21,12126,22,12132,23,12140,null,null,0,2222]
[12,12235,23,12243,24,12250,14,12258,null,null,0,1221]
[21,12351,21,12353,22,12357,14,12361,null,null,0,2221]
[21,12454,21,12458,22,12462,23,12467,null,null,0,2222]
[21,12562,21,12565,22,12568,14,12572,null,null,0,2221]
[21,12666,21,12670,22,12677,23,12685,null,null,0,2222]
[21,12777,21,12780,22,12784,23,12789,null,null,0,2222]
[21,12887,21,12890,22,12894,23,12901,null,null,0,2222]
[21,13006,21,13010,22,13014,23,13018,null,null,0,2222]
[21,13111,21,13115,22,13118,14,13122,null,null,0,2221]
[21,13218,21,13226,11,13230,21,13236,null,null,0,2212]
[21,13516,21,13525,22,13540,23,13553,null,null,0,2222]
[21,13656,12,13662,24,13665,23,13671,null,null,0,2122]
[12,13764,23,13770,24,13775,23,13779,null,null,0,1222]
[21,13877,12,13880,24,13884,23,13891,null,null,0,2122]
[21,13983,21,13990,22,13993,14,13996,null,null,0,2221]
[21,14090,21,14099,22,14103,14,14107,null,null,0,2221]
[21,14209,21,14215,11,14218,21,14221,null,null,0,2212]
[21,14350,21,14358,22,14366,23,14372,null,null,0,2222]
[21,14466,12,14470,24,14475,23,14481,null,null,0,2122]
[12,14575,23,14584,24,14587,14,14591,null,null,0,1221]
[21,14690,21,14694,22,14701,14,14703,null,null,0,2221]
[21,14799,21,14804,22,14810,23,14819,null,null,0,2222]
[21,14914,21,14921,22,14927,23,14937,null,null,0,2222]
[21,15031,21,15034,22,15040,23,15050,null,null,0,2222]
[21,15142,21,15144,22,15149,23,15154,null,null,0,2222]
[21,15248,21,15252,22,15256,23,15262,null,null,0,2222]
[21,15362,21,15365,22,15369,14,15373,null,null,0,2221]
[21,15473,21,15479,22,15485,23,15494,null,null,0,2222]
[21,15588,21,15592,11,15595,21,15597,null,null,0,2212]
[21,15780,21,15788,11,15794,21,15799,null,null,0,2212]
[21,16093,12,16100,24,16113,23,16124,null,null,0,2122]
[21,16221,12,16224,24,16226,23,16230,null,null,0,2122]
[12,16324,23,16327,24,16333,23,16340,null,null,0,1222]
[21,16436,21,16445,22,16452,23,16460,null,null,0,2222]
[12,16556,23,16560,24,16565,23,16572,null,null,0,1222]
[21,16664,21,16668,22,16673,23,16677,null,null,0,2222]
[21,16769,21,16774,11,16778,21,16786,null,null,0,2212]
[12,16966,23,16980,24,16991,23,16997,null,null,0,1222]
[21,17091,21,17097,22,17103,23,17112,null,null,0,2222]
[21,17206,12,17209,24,17211,23,17216,null,null,0,2122]
[12,17309,23,17318,13,17320,23,17322,null,null,0,1212]
[21,17417,12,17421,24,17425,23,17433,null,null,0,2122]
[21,17528,21,17534,22,17542,23,17551,null,null,0,2222]
[12,17644,23,17651,24,17656,14,17662,null,null,0,1221]
[21,17760,21,17768,11,17770,21,17775,null,null,0,2212]
[21,17993,21,18001,22,18012,23,18021,null,null,0,2222]
[21,18116,21,18119,11,18121,21,18123,null,null,0,2212]
[21,18256,21,18264,11,18270,21,18277,null,null,0,2212]
[12,18411,23,18419,24,18433,23,18445,null,null,0,1222]
[21,18620,21,18626,22,18629,23,18632,null,null,0,2222]
[21,18730,21,18739,11,18743,21,18746,null,null,0,2212]
[21,18966,21,18978,22,18988,23,18994,null,null,0,2222]
[21,19088,21,19092,22,19095,14,19098,null,null,0,2221]
[21,19193,21,19198,11,19201,21,19203,null,null,0,2212]
[21,19349,21,19364,22,19373,23,19384,null,null,0,2222]
[21,19477,21,19483,22,19490,23,19499,null,null,0,2222]
[21,19591,21,19597,22,19601,23,19608,null,null,0,2222]
[12,19703,23,19707,24,19709,23,19714,null,null,0,1222]
[21,19810,21,19814,22,19824,23,19832,null,null,0,2222]
[21,19927,21,19931,22,19937,14,19941,null,null,0,2221]
[12,20034,23,20037,24,20040,23,20045,null,null,0,1222]
[12,20137,23,20145,24,20148,14,20152,null,null,0,1221]
[21,20244,12,20247,24,20252,23,20257,null,null,0,2122]
[21,20353,21,20359,22,20367,23,20375,null,null,0,2222]
[21,20468,21,20473,22,20480,23,20488,null,null,0,2222]
[21,20584,21,20589,11,20591,21,20595,null,null,0,2212]
[21,20798,21,20806,22,20816,23,20823,null,null,0,2222]
[12,20915,23,20922,24,20930,23,20938,null,null,0,1222]
[21,21030,21,21035,22,21038,23,21043,null,null,0,2222]
[21,21135,12,21138,24,21145,23,21154,null,null,0,2122]
[21,21253,21,21257,11,21260,21,21262,null,null,0,2212]
[21,21497,21,21503,22,21510,23,21519,null,null,0,2222]
[21,21627,21,21630,22,21634,14,21636,null,null,0,2221]
[12,21728,23,21734,13,21740,23,21743,null,null,0,1212]
[21,21835,21,21843,11,21847,21,21849,null,null,0,2212]
[21,22026,12,22031,24,22035,23,22044,null,null,0,2122]
[12,22138,23,22146,24,22151,23,22158,null,null,0,1222]
[21,22253,21,22256,22,22261,23,22268,null,null,0,2222]
[21,22366,21,22371,22,22378,23,22386,null,null,0,2222]
[12,22479,23,22489,24,22493,23,22498,null,null,0,1222]
[21,22592,12,22596,24,22603,23,22613,null,null,0,2122]
[12,22706,23,22712,24,22720,23,22729,null,null,0,1222]
[12,22823,23,22828,24,22830,23,22835,null,null,0,1222]
[21,22932,21,22936,22,22940,23,22948,null,null,0,2222]
[21,23041,21,23045,11,23049,21,23051,null,null,0,2212]
[12,23317,23,23325,24,23334,23,23345,null,null,0,1222]
[21,23444,21,23447,11,23449,21,23459,null,null,0,2212]
[21,23672,12,23676,24,23694,23,23706,null,null,0,2122]
[21,23800,21,23804,22,23814,23,23821,null,null,0,2222]
[21,23917,21,23920,11,23922,21,23931,null,null,1,2212]

{"sheet":"!M719A50.Gus","index":30,"n_rows":182,"n_cols":48,"rows_kept":182,"cut":false,"hidden":false,"merged":[[4,39,4,42],[5,39,5,40],[4,44,4,47],[5,44,5,45],[4,24,4,27],[5,24,5,25],[4,29,4,32],[5,29,5,30],[4,34,4,37],[5,34,5,35],[1,1,1,2],[5,13,5,14],[26,13,26,14],[27,13,27,14],[4,19,4,22],[5,19,5,20]]}
["Report for:!M719A50.Gus"]
["Date:","<date>"]
["Hen:","<hen>",null,null,null,"Correct Sequence",{"$f":"Start!J2","v":2212},null,null,null,null,null,null,null,null,"Total Sequences in Data",{"$f":"4994-COUNTBLANK(L7:L5000)","v":176},null,null,null,null,"Total Sequences in Block Data",{"$f":"COUNTA(L7:L35)","v":29},null,null,null,"Total Sequences in Block Data",{"$f":"COUNTA(L36:L65)","v":30},null,null,null,"Total Sequences in Block Data",{"$f":"COUNTA(L66:L94)","v":29},null,null,null,"Total Sequences in Block Data",{"$f":"COUNTA(L95:L123)","v":29},null,null,null,"Total Sequences in Block Data",{"$f":"COUNTA(L124:L153)","v":30},null,null,null,"Total Sequences in Block Data",{"$f":"COUNTA(L154:L182)","v":29}]
[null,null,null,null,null,null,null,null,null,null,null,null,null,null,null,"Total Sequences in Summary",{"$f":"SUM(O7:O22)","v":176},null,null,null,null,"Total Sequences in Block Summary",{"$f":"SUM(U7:U22)","v":29},null,null,null,"Total Sequences in Block Summary",{"$f":"SUM(Z7:Z22)","v":30},null,null,null,"Total Sequences in Block Summary",{"$f":"SUM(AE7:AE22)","v":29},null,null,null,"Total Sequences in Block Summary",{"$f":"SUM(AJ7:AJ22)","v":29},null,null,null,"Total Sequences in Block Summary",{"$f":"SUM(AO7:AO22)","v":30},null,null,null,"Total Sequences in Block Summary",{"$f":"SUM(AT7:AT22)","v":29}]
[null,null,null,null,null,null,null,null,null,null,null,null,null,null,null,null,null,null,null,"Block 1",null,null,null,null,"Block 2",null,null,null,null,"Block 3",null,null,null,null,"Block 4",null,null,null,null,"Block 5",null,null,null,null,"Block 6"]
["Sequence\nComponent\n1","Time\n1","Sequence\nComponent\n2","Time\n2","Sequence\nComponent\n3","Time\n3","Sequence\nComponent\n4","Time\n4","Sequence\nComponent\n5","Time\n5","Correct?\n0=No 1=Yes","Sequence",null,"Frequency",null,"Relative Frequency","Variability",null,null,"Frequency",null,"Relative Frequency","Variability",null,"Frequency",null,"Relative Frequency","Variability",null,"Frequency",null,"Relative Frequency","Variability",null,"Frequency",null,"Relative Frequency","Variability",null,"Frequency",null,"Relative Frequency","Variability",null,"Frequency",null,"Relative Frequency","Variability"]
[21,43,21,46,22,52,23,64,null,null,0,2222,null,1111,{"$f":"COUNTIF($L$7:$L$500,N7)","v":0},{"$f":"O7/$Q$4","v":0},{"$f":"IF(P7=0,0,(P7*((LOG(P7))/LOG(2))))","v":0},null,null,{"$f":"N7","v":1111},{"$f":"COUNTIF(L7:L35,T7)","v":0},{"$f":"U7/(W4-U20)","v":0},{"$f":"IF(V7=0,0,(V7*((LOG(V7))/LOG(2))))","v":0},null,{"$f":"N7","v":1111},{"$f":"COUNTIF(L36:L65,Y7)","v":0},{"$f":"Z7/(AB4-Z20)","v":0},{"$f":"IF(AA7=0,0,(AA7*((LOG(AA7))/LOG(2))))","v":0},null,{"$f":"N7","v":1111},{"$f":"COUNTIF(L66:L94,AD7)","v":0},{"$f":"AE7/(AG4-AE20)","v":0},{"$f":"IF(AF7=0,0,(AF7*((LOG(AF7))/LOG(2))))","v":0},null,{"$f":"N7","v":1111},{"$f":"COUNTIF(L95:L123,AI7)","v":0},{"$f":"AJ7/(AL4-AJ20)","v":0},{"$f":"IF(AK7=0,0,(AK7*((LOG(AK7))/LOG(2))))","v":0},null,{"$f":"N7","v":1111},{"$f":"COUNTIF(L124:L153,AN7)","v":0},{"$f":"AO7/(AQ4-AO20)","v":0},{"$f":"IF(AP7=0,0,(AP7*((LOG(AP7))/LOG(2))))","v":0},null,{"$f":"N7","v":1111},{"$f":"COUNTIF(L154:L182,AS7)","v":0},{"$f":"AT7/(AV4-AT20)","v":0},{"$f":"IF(AU7=0,0,(AU7*((LOG(AU7))/LOG(2))))","v":0}]
[21,161,12,164,24,168,23,175,null,null,0,2122,null,1112,{"$f":"COUNTIF($L$7:$L$500,N8)","v":0},{"$f":"O8/$Q$4","v":0},{"$f":"IF(P8=0,0,(P8*((LOG(P8))/LOG(2))))","v":0},null,null,{"$f":"N8","v":1112},{"$f":"COUNTIF(L7:L35,T8)","v":0},{"$f":"U8/(W4-U20)","v":0},{"$f":"IF(V8=0,0,(V8*((LOG(V8))/LOG(2))))","v":0},null,{"$f":"N8","v":1112},{"$f":"COUNTIF(L36:L65,Y8)","v":0},{"$f":"Z8/(AB4-Z20)","v":0},{"$f":"IF(AA8=0,0,(AA8*((LOG(AA8))/LOG(2))))","v":0},null,{"$f":"N8","v":1112},{"$f":"COUNTIF(L66:L94,AD8)","v":0},{"$f":"AE8/(AG4-AE20)","v":0},{"$f":"IF(AF8=0,0,(AF8*((LOG(AF8))/LOG(2))))","v":0},null,{"$f":"N8","v":1112},{"$f":"COUNTIF(L95:L123,AI8)","v":0},{"$f":"AJ8/(AL4-AJ20)","v":0},{"$f":"IF(AK8=0,0,(AK8*((LOG(AK8))/LOG(2))))","v":0},null,{"$f":"N8","v":1112},{"$f":"COUNTIF(L124:L153,AN8)","v":0},{"$f":"AO8/(AQ4-AO20)","v":0},{"$f":"IF(AP8=0,0,(AP8*((LOG(AP8))/LOG(2))))","v":0},null,{"$f":"N8","v":1112},{"$f":"COUNTIF(L154:L182,AS8)","v":0},{"$f":"AT8/(AV4-AT20)","v":0},{"$f":"IF(AU8=0,0,(AU8*((LOG(AU8))/LOG(2))))","v":0}]
[21,272,12,274,24,279,23,284,null,null,0,2122,null,1121,{"$f":"COUNTIF($L$7:$L$500,N9)","v":0},{"$f":"O9/$Q$4","v":0},{"$f":"IF(P9=0,0,(P9*((LOG(P9))/LOG(2))))","v":0},null,null,{"$f":"N9","v":1121},{"$f":"COUNTIF(L7:L35,T9)","v":0},{"$f":"U9/(W4-U20)","v":0},{"$f":"IF(V9=0,0,(V9*((LOG(V9))/LOG(2))))","v":0},null,{"$f":"N9","v":1121},{"$f":"COUNTIF(L36:L65,Y9)","v":0},{"$f":"Z9/(AB4-Z20)","v":0},{"$f":"IF(AA9=0,0,(AA9*((LOG(AA9))/LOG(2))))","v":0},null,{"$f":"N9","v":1121},{"$f":"COUNTIF(L66:L94,AD9)","v":0},{"$f":"AE9/(AG4-AE20)","v":0},{"$f":"IF(AF9=0,0,(AF9*((LOG(AF9))/LOG(2))))","v":0},null,{"$f":"N9","v":1121},{"$f":"COUNTIF(L95:L123,AI9)","v":0},{"$f":"AJ9/(AL4-AJ20)","v":0},{"$f":"IF(AK9=0,0,(AK9*((LOG(AK9))/LOG(2))))","v":0},null,{"$f":"N9","v":1121},{"$f":"COUNTIF(L124:L153,AN9)","v":0},{"$f":"AO9/(AQ4-AO20)","v":0},{"$f":"IF(AP9=0,0,(AP9*((LOG(AP9))/LOG(2))))","v":0},null,{"$f":"N9","v":1121},{"$f":"COUNTIF(L154:L182,AS9)","v":0},{"$f":"AT9/(AV4-AT20)","v":0},{"$f":"IF(AU9=0,0,(AU9*((LOG(AU9))/LOG(2))))","v":0}]
[21,381,21,388,11,390,21,396,null,null,0,2212,null,1122,{"$f":"COUNTIF($L$7:$L$500,N10)","v":2},{"$f":"O10/$Q$4","v":1.1363636363636364E-2},{"$f":"IF(P10=0,0,(P10*((LOG(P10))/LOG(2))))","v":-7.3402632029969286E-2},null,null,{"$f":"N10","v":1122},{"$f":"COUNTIF(L7:L35,T10)","v":1},{"$f":"U10/(W4-U20)","v":0.05},{"$f":"IF(V10=0,0,(V10*((LOG(V10))/LOG(2))))","v":-0.21609640474436814},null,{"$f":"N10","v":1122},{"$f":"COUNTIF(L36:L65,Y10)","v":0},{"$f":"Z10/(AB4-Z20)","v":0},{"$f":"IF(AA10=0,0,(AA10*((LOG(AA10))/LOG(2))))","v":0},null,{"$f":"N10","v":1122},{"$f":"COUNTIF(L66:L94,AD10)","v":1},{"$f":"AE10/(AG4-AE20)","v":4.1666666666666664E-2},{"$f":"IF(AF10=0,0,(AF10*((LOG(AF10))/LOG(2))))","v":-0.19104010419671485},null,{"$f":"N10","v":1122},{"$f":"COUNTIF(L95:L123,AI10)","v":0},{"$f":"AJ10/(AL4-AJ20)","v":0},{"$f":"IF(AK10=0,0,(AK10*((LOG(AK10))/LOG(2))))","v":0},null,{"$f":"N10","v":1122},{"$f":"COUNTIF(L124:L153,AN10)","v":0},{"$f":"AO10/(AQ4-AO20)","v":0},{"$f":"IF(AP10=0,0,(AP10*((LOG(AP10))/LOG(2))))","v":0},null,{"$f":"N10","v":1122},{"$f":"COUNTIF(L154:L182,AS10)","v":0},{"$f":"AT10/(AV4-AT20)","v":0},{"$f":"IF(AU10=0,0,(AU10*((LOG(AU10))/LOG(2))))","v":0}]
[21,544,21,550,11,561,21,572,null,null,0,2212,null,1211,{"$f":"COUNTIF($L$7:$L$500,N11)","v":0},{"$f":"O11/$Q$4","v":0},{"$f":"IF(P11=0,0,(P11*((LOG(P11))/LOG(2))))","v":0},null,null,{"$f":"N11","v":1211},{"$f":"COUNTIF(L7:L35,T11)","v":0},{"$f":"U11/(W4-U20)","v":0},{"$f":"IF(V11=0,0,(V11*((LOG(V11))/LOG(2))))","v":0},null,{"$f":"N11","v":1211},{"$f":"COUNTIF(L36:L65,Y11)","v":0},{"$f":"Z11/(AB4-Z20)","v":0},{"$f":"IF(AA11=0,0,(AA11*((LOG(AA11))/LOG(2))))","v":0},null,{"$f":"N11","v":1211},{"$f":"COUNTIF(L66:L94,AD11)","v":0},{"$f":"AE11/(AG4-AE20)","v":0},{"$f":"IF(AF11=0,0,(AF11*((LOG(AF11))/LOG(2))))","v":0},null,{"$f":"N11","v":1211},{"$f":"COUNTIF(L95:L123,AI11)","v":0},{"$f":"AJ11/(AL4-AJ20)","v":0},{"$f":"IF(AK11=0,0,(AK11*((LOG(AK11))/LOG(2))))","v":0},null,{"$f":"N11","v":1211},{"$f":"COUNTIF(L124:L153,AN11)","v":0},{"$f":"AO11/(AQ4-AO20)","v":0},{"$f":"IF(AP11=0,0,(AP11*((LOG(AP11))/LOG(2))))","v":0},null,{"$f":"N11","v":1211},{"$f":"COUNTIF(L154:L182,AS11)","v":0},{"$f":"AT11/(AV4-AT20)","v":0},{"$f":"IF(AU11=0,0,(AU11*((LOG(AU11))/LOG(2))))","v":0}]
[21,812,21,817,22,828,23,835,null,null,0,2222,null,1212,{"$f":"COUNTIF($L$7:$L$500,N12)","v":4},{"$f":"O12/$Q$4","v":2.2727272727272728E-2},{"$f":"IF(P12=0,0,(P12*((LOG(P12))/LOG(2))))","v":-0.12407799133266585},null,null,{"$f":"N12","v":1212},{"$f":"COUNTIF(L7:L35,T12)","v":1},{"$f":"U12/(W4-U20)","v":0.05},{"$f":"IF(V12=0,0,(V12*((LOG(V12))/LOG(2))))","v":-0.21609640474436814},null,{"$f":"N12","v":1212},{"$f":"COUNTIF(L36:L65,Y12)","v":1},{"$f":"Z12/(AB4-Z20)","v":0.04},{"$f":"IF(AA12=0,0,(AA12*((LOG(AA12))/LOG(2))))","v":-0.18575424759098899},null,{"$f":"N12","v":1212},{"$f":"COUNTIF(L66:L94,AD12)","v":1},{"$f":"AE12/(AG4-AE20)","v":4.1666666666666664E-2},{"$f":"IF(AF12=0,0,(AF12*((LOG(AF12))/LOG(2))))","v":-0.19104010419671485},null,{"$f":"N12","v":1212},{"$f":"COUNTIF(L95:L123,AI12)","v":0},{"$f":"AJ12/(AL4-AJ20)","v":0},{"$f":"IF(AK12=0,0,(AK12*((LOG(AK12))/LOG(2))))","v":0},null,{"$f":"N12","v":1212},{"$f":"COUNTIF(L124:L153,AN12)","v":0},{"$f":"AO12/(AQ4-AO20)","v":0},{"$f":"IF(AP12=0,0,(AP12*((LOG(AP12))/LOG(2))))","v":0},null,{"$f":"N12","v":1212},{"$f":"COUNTIF(L154:L182,AS12)","v":1},{"$f":"AT12/(AV4-AT20)","v":4.3478260869565216E-2},{"$f":"IF(AU12=0,0,(AU12*((LOG(AU12))/LOG(2))))","v":-0.19667660678508753}]
[12,929,23,933,24,938,23,943,null,null,0,1222,null,1221,{"$f":"COUNTIF($L$7:$L$500,N13)","v":2},{"$f":"O13/$Q$4","v":1.1363636363636364E-2},{"$f":"IF(P13=0,0,(P13*((LOG(P13))/LOG(2))))","v":-7.3402632029969286E-2},null,null,{"$f":"N13","v":1221},{"$f":"COUNTIF(L7:L35,T13)","v":0},{"$f":"U13/(W4-U20)","v":0},{"$f":"IF(V13=0,0,(V13*((LOG(V13))/LOG(2))))","v":0},null,{"$f":"N13","v":1221},{"$f":"COUNTIF(L36:L65,Y13)","v":1},{"$f":"Z13/(AB4-Z20)","v":0.04},{"$f":"IF(AA13=0,0,(AA13*((LOG(AA13))/LOG(2))))","v":-0.18575424759098899},null,{"$f":"N13","v":1221},{"$f":"COUNTIF(L66:L94,AD13)","v":1},{"$f":"AE13/(AG4-AE20)","v":4.1666666666666664E-2},{"$f":"IF(AF13=0,0,(AF13*((LOG(AF13))/LOG(2))))","v":-0.19104010419671485},null,{"$f":"N13","v":1221},{"$f":"COUNTIF(L95:L123,AI13)","v":0},{"$f":"AJ13/(AL4-AJ20)","v":0},{"$f":"IF(AK13=0,0,(AK13*((LOG(AK13))/LOG(2))))","v":0},null,{"$f":"N13","v":1221},{"$f":"COUNTIF(L124:L153,AN13)","v":0},{"$f":"AO13/(AQ4-AO20)","v":0},{"$f":"IF(AP13=0,0,(AP13*((LOG(AP13))/LOG(2))))","v":0},null,{"$f":"N13","v":1221},{"$f":"COUNTIF(L154:L182,AS13)","v":0},{"$f":"AT13/(AV4-AT20)","v":0},{"$f":"IF(AU13=0,0,(AU13*((LOG(AU13))/LOG(2))))","v":0}]
[12,1035,23,1044,13,1050,23,1053,null,null,0,1212,null,1222,{"$f":"COUNTIF($L$7:$L$500,N14)","v":25},{"$f":"O14/$Q$4","v":0.14204545454545456},{"$f":"IF(P14=0,0,(P14*((LOG(P14))/LOG(2))))","v":-0.39993969159979725},null,null,{"$f":"N14","v":1222},{"$f":"COUNTIF(L7:L35,T14)","v":2},{"$f":"U14/(W4-U20)","v":0.1},{"$f":"IF(V14=0,0,(V14*((LOG(V14))/LOG(2))))","v":-0.33219280948873625},null,{"$f":"N14","v":1222},{"$f":"COUNTIF(L36:L65,Y14)","v":3},{"$f":"Z14/(AB4-Z20)","v":0.12},{"$f":"IF(AA14=0,0,(AA14*((LOG(AA14))/LOG(2))))","v":-0.36706724268642821},null,{"$f":"N14","v":1222},{"$f":"COUNTIF(L66:L94,AD14)","v":7},{"$f":"AE14/(AG4-AE20)","v":0.29166666666666669},{"$f":"IF(AF14=0,0,(AF14*((LOG(AF14))/LOG(2))))","v":-0.51846887711020273},null,{"$f":"N14","v":1222},{"$f":"COUNTIF(L95:L123,AI14)","v":4},{"$f":"AJ14/(AL4-AJ20)","v":0.2},{"$f":"IF(AK14=0,0,(AK14*((LOG(AK14))/LOG(2))))","v":-0.46438561897747244},null,{"$f":"N14","v":1222},{"$f":"COUNTIF(L124:L153,AN14)","v":5},{"$f":"AO14/(AQ4-AO20)","v":0.20833333333333334},{"$f":"IF(AP14=0,0,(AP14*((LOG(AP14))/LOG(2))))","v":-0.47146550121537367},null,{"$f":"N14","v":1222},{"$f":"COUNTIF(L154:L182,AS14)","v":4},{"$f":"AT14/(AV4-AT20)","v":0.17391304347826086},{"$f":"IF(AU14=0,0,(AU14*((LOG(AU14))/LOG(2))))","v":-0.43888034018382832}]
[12,1145,14,1147,24,1154,23,1158,null,null,0,1122,null,2111,{"$f":"COUNTIF($L$7:$L$500,N15)","v":0},{"$f":"O15/$Q$4","v":0},{"$f":"IF(P15=0,0,(P15*((LOG(P15))/LOG(2))))","v":0},null,null,{"$f":"N15","v":2111},{"$f":"COUNTIF(L7:L35,T15)","v":0},{"$f":"U15/(W4-U20)","v":0},{"$f":"IF(V15=0,0,(V15*((LOG(V15))/LOG(2))))","v":0},null,{"$f":"N15","v":2111},{"$f":"COUNTIF(L36:L65,Y15)","v":0},{"$f":"Z15/(AB4-Z20)","v":0},{"$f":"IF(AA15=0,0,(AA15*((LOG(AA15))/LOG(2))))","v":0},null,{"$f":"N15","v":2111},{"$f":"COUNTIF(L66:L94,AD15)","v":0},{"$f":"AE15/(AG4-AE20)","v":0},{"$f":"IF(AF15=0,0,(AF15*((LOG(AF15))/LOG(2))))","v":0},null,{"$f":"N15","v":2111},{"$f":"COUNTIF(L95:L123,AI15)","v":0},{"$f":"AJ15/(AL4-AJ20)","v":0},{"$f":"IF(AK15=0,0,(AK15*((LOG(AK15))/LOG(2))))","v":0},null,{"$f":"N15","v":2111},{"$f":"COUNTIF(L124:L153,AN15)","v":0},{"$f":"AO15/(AQ4-AO20)","v":0},{"$f":"IF(AP15=0,0,(AP15*((LOG(AP15))/LOG(2))))","v":0},null,{"$f":"N15","v":2111},{"$f":"COUNTIF(L154:L182,AS15)","v":0},{"$f":"AT15/(AV4-AT20)","v":0},{"$f":"IF(AU15=0,0,(AU15*((LOG(AU15))/LOG(2))))","v":0}]
[21,1255,21,1259,22,1265,14,1270,null,null,0,2221,null,2112,{"$f":"COUNTIF($L$7:$L$500,N16)","v":1},{"$f":"O16/$Q$4","v":5.681818181818182E-3},{"$f":"IF(P16=0,0,(P16*((LOG(P16))/LOG(2))))","v":-4.2383134196802827E-2},null,null,{"$f":"N16","v":2112},{"$f":"COUNTIF(L7:L35,T16)","v":0},{"$f":"U16/(W4-U20)","v":0},{"$f":"IF(V16=0,0,(V16*((LOG(V16))/LOG(2))))","v":0},null,{"$f":"N16","v":2112},{"$f":"COUNTIF(L36:L65,Y16)","v":1},{"$f":"Z16/(AB4-Z20)","v":0.04},{"$f":"IF(AA16=0,0,(AA16*((LOG(AA16))/LOG(2))))","v":-0.18575424759098899},null,{"$f":"N16","v":2112},{"$f":"COUNTIF(L66:L94,AD16)","v":0},{"$f":"AE16/(AG4-AE20)","v":0},{"$f":"IF(AF16=0,0,(AF16*((LOG(AF16))/LOG(2))))","v":0},null,{"$f":"N16","v":2112},{"$f":"COUNTIF(L95:L123,AI16)","v":0},{"$f":"AJ16/(AL4-AJ20)","v":0},{"$f":"IF(AK16=0,0,(AK16*((LOG(AK16))/LOG(2))))","v":0},null,{"$f":"N16","v":2112},{"$f":"COUNTIF(L124:L153,AN16)","v":0},{"$f":"AO16/(AQ4-AO20)","v":0},{"$f":"IF(AP16=0,0,(AP16*((LOG(AP16))/LOG(2))))","v":0},null,{"$f":"N16","v":2112},{"$f":"COUNTIF(L154:L182,AS16)","v":0},{"$f":"AT16/(AV4-AT20)","v":0},{"$f":"IF(AU16=0,0,(AU16*((LOG(AU16))/LOG(2))))","v":0}]
[21,1366,21,1369,11,1371,21,1374,null,null,0,2212,null,2121,{"$f":"COUNTIF($L$7:$L$500,N17)","v":3},{"$f":"O17/$Q$4","v":1.7045454545454544E-2},{"$f":"IF(P17=0,0,(P17*((LOG(P17))/LOG(2))))","v":-0.10013299632811604},null,null,{"$f":"N17","v":2121},{"$f":"COUNTIF(L7:L35,T17)","v":0},{"$f":"U17/(W4-U20)","v":0},{"$f":"IF(V17=0,0,(V17*((LOG(V17))/LOG(2))))","v":0},null,{"$f":"N17","v":2121},{"$f":"COUNTIF(L36:L65,Y17)","v":2},{"$f":"Z17/(AB4-Z20)","v":0.08},{"$f":"IF(AA17=0,0,(AA17*((LOG(AA17))/LOG(2))))","v":-0.29150849518197797},null,{"$f":"N17","v":2121},{"$f":"COUNTIF(L66:L94,AD17)","v":0},{"$f":"AE17/(AG4-AE20)","v":0},{"$f":"IF(AF17=0,0,(AF17*((LOG(AF17))/LOG(2))))","v":0},null,{"$f":"N17","v":2121},{"$f":"COUNTIF(L95:L123,AI17)","v":0},{"$f":"AJ17/(AL4-AJ20)","v":0},{"$f":"IF(AK17=0,0,(AK17*((LOG(AK17))/LOG(2))))","v":0},null,{"$f":"N17","v":2121},{"$f":"COUNTIF(L124:L153,AN17)","v":1},{"$f":"AO17/(AQ4-AO20)","v":4.1666666666666664E-2},{"$f":"IF(AP17=0,0,(AP17*((LOG(AP17))/LOG(2))))","v":-0.19104010419671485},null,{"$f":"N17","v":2121},{"$f":"COUNTIF(L154:L182,AS17)","v":0},{"$f":"AT17/(AV4-AT20)","v":0},{"$f":"IF(AU17=0,0,(AU17*((LOG(AU17))/LOG(2))))","v":0}]
[21,1519,12,1529,24,1536,23,1545,null,null,0,2122,null,2122,{"$f":"COUNTIF($L$7:$L$500,N18)","v":23},{"$f":"O18/$Q$4","v":0.13068181818181818},{"$f":"IF(P18=0,0,(P18*((LOG(P18))/LOG(2))))","v":-0.38366478545083266},null,null,{"$f":"N18","v":2122},{"$f":"COUNTIF(L7:L35,T18)","v":6},{"$f":"U18/(W4-U20)","v":0.3},{"$f":"IF(V18=0,0,(V18*((LOG(V18))/LOG(2))))","v":-0.52108967824986185},null,{"$f":"N18","v":2122},{"$f":"COUNTIF(L36:L65,Y18)","v":6},{"$f":"Z18/(AB4-Z20)","v":0.24},{"$f":"IF(AA18=0,0,(AA18*((LOG(AA18))/LOG(2))))","v":-0.49413448537285637},null,{"$f":"N18","v":2122},{"$f":"COUNTIF(L66:L94,AD18)","v":2},{"$f":"AE18/(AG4-AE20)","v":8.3333333333333329E-2},{"$f":"IF(AF18=0,0,(AF18*((LOG(AF18))/LOG(2))))","v":-0.29874687506009634},null,{"$f":"N18","v":2122},{"$f":"COUNTIF(L95:L123,AI18)","v":3},{"$f":"AJ18/(AL4-AJ20)","v":0.15},{"$f":"IF(AK18=0,0,(AK18*((LOG(AK18))/LOG(2))))","v":-0.41054483912493089},null,{"$f":"N18","v":2122},{"$f":"COUNTIF(L124:L153,AN18)","v":3},{"$f":"AO18/(AQ4-AO20)","v":0.125},{"$f":"IF(AP18=0,0,(AP18*((LOG(AP18))/LOG(2))))","v":-0.375},null,{"$f":"N18","v":2122},{"$f":"COUNTIF(L154:L182,AS18)","v":3},{"$f":"AT18/(AV4-AT20)","v":0.13043478260869565},{"$f":"IF(AU18=0,0,(AU18*((LOG(AU18))/LOG(2))))","v":-0.3832955811307639}]
[21,1640,21,1643,11,1646,21,1649,null,null,0,2212,null,2211,{"$f":"COUNTIF($L$7:$L$500,N19)","v":1},{"$f":"O19/$Q$4","v":5.681818181818182E-3},{"$f":"IF(P19=0,0,(P19*((LOG(P19))/LOG(2))))","v":-4.2383134196802827E-2},null,null,{"$f":"N19","v":2211},{"$f":"COUNTIF(L7:L35,T19)","v":0},{"$f":"U19/(W4-U20)","v":0},{"$f":"IF(V19=0,0,(V19*((LOG(V19))/LOG(2))))","v":0},null,{"$f":"N19","v":2211},{"$f":"COUNTIF(L36:L65,Y19)","v":0},{"$f":"Z19/(AB4-Z20)","v":0},{"$f":"IF(AA19=0,0,(AA19*((LOG(AA19))/LOG(2))))","v":0},null,{"$f":"N19","v":2211},{"$f":"COUNTIF(L66:L94,AD19)","v":1},{"$f":"AE19/(AG4-AE20)","v":4.1666666666666664E-2},{"$f":"IF(AF19=0,0,(AF19*((LOG(AF19))/LOG(2))))","v":-0.19104010419671485},null,{"$f":"N19","v":2211},{"$f":"COUNTIF(L95:L123,AI19)","v":0},{"$f":"AJ19/(AL4-AJ20)","v":0},{"$f":"IF(AK19=0,0,(AK19*((LOG(AK19))/LOG(2))))","v":0},null,{"$f":"N19","v":2211},{"$f":"COUNTIF(L124:L153,AN19)","v":0},{"$f":"AO19/(AQ4-AO20)","v":0},{"$f":"IF(AP19=0,0,(AP19*((LOG(AP19))/LOG(2))))","v":0},null,{"$f":"N19","v":2211},{"$f":"COUNTIF(L154:L182,AS19)","v":0},{"$f":"AT19/(AV4-AT20)","v":0},{"$f":"IF(AU19=0,0,(AU19*((LOG(AU19))/LOG(2))))","v":0}]
[21,1775,21,1781,22,1793,23,1803,null,null,0,2222,null,2212,{"$f":"COUNTIF($L$7:$L$500,N20)","v":40},{"$f":"O20/$Q$4","v":0.22727272727272727},{"$f":"IF(P20=0,0,(P20*((LOG(P20))/LOG(2))))","v":-0.48579625539771243},null,null,{"$f":"N20","v":2212},{"$f":"COUNTIF(L7:L35,T20)","v":9},null,null,null,{"$f":"N20","v":2212},{"$f":"COUNTIF(L36:L65,Y20)","v":5},null,null,null,{"$f":"N20","v":2212},{"$f":"COUNTIF(L66:L94,AD20)","v":5},null,null,null,{"$f":"N20","v":2212},{"$f":"COUNTIF(L95:L123,AI20)","v":9},null,null,null,{"$f":"N20","v":2212},{"$f":"COUNTIF(L124:L153,AN20)","v":6},null,null,null,{"$f":"N20","v":2212},{"$f":"COUNTIF(L154:L182,AS20)","v":6}]
[21,1898,21,1901,22,1910,23,1919,null,null,0,2222,null,2221,{"$f":"COUNTIF($L$7:$L$500,N21)","v":14},{"$f":"O21/$Q$4","v":7.9545454545454544E-2},{"$f":"IF(P21=0,0,(P21*((LOG(P21))/LOG(2))))","v":-0.29050610086429379},null,null,{"$f":"N21","v":2221},{"$f":"COUNTIF(L7:L35,T21)","v":4},{"$f":"U21/(W4-U20)","v":0.2},{"$f":"IF(V21=0,0,(V21*((LOG(V21))/LOG(2))))","v":-0.46438561897747244},null,{"$f":"N21","v":2221},{"$f":"COUNTIF(L36:L65,Y21)","v":2},{"$f":"Z21/(AB4-Z20)","v":0.08},{"$f":"IF(AA21=0,0,(AA21*((LOG(AA21))/LOG(2))))","v":-0.29150849518197797},null,{"$f":"N21","v":2221},{"$f":"COUNTIF(L66:L94,AD21)","v":2},{"$f":"AE21/(AG4-AE20)","v":8.3333333333333329E-2},{"$f":"IF(AF21=0,0,(AF21*((LOG(AF21))/LOG(2))))","v":-0.29874687506009634},null,{"$f":"N21","v":2221},{"$f":"COUNTIF(L95:L123,AI21)","v":0},{"$f":"AJ21/(AL4-AJ20)","v":0},{"$f":"IF(AK21=0,0,(AK21*((LOG(AK21))/LOG(2))))","v":0},null,{"$f":"N21","v":2221},{"$f":"COUNTIF(L124:L153,AN21)","v":3},{"$f":"AO21/(AQ4-AO20)","v":0.125},{"$f":"IF(AP21=0,0,(AP21*((LOG(AP21))/LOG(2))))","v":-0.375},null,{"$f":"N21","v":2221},{"$f":"COUNTIF(L154:L182,AS21)","v":3},{"$f":"AT21/(AV4-AT20)","v":0.13043478260869565},{"$f":"IF(AU21=0,0,(AU21*((LOG(AU21))/LOG(2))))","v":-0.3832955811307639}]
[21,2015,21,2018,22,2023,23,2030,null,null,0,2222,null,2222,{"$f":"COUNTIF($L$7:$L$500,N22)","v":61},{"$f":"O22/$Q$4","v":0.34659090909090912},{"$f":"IF(P22=0,0,(P22*((LOG(P22))/LOG(2))))","v":-0.52983154059965376},null,null,{"$f":"N22","v":2222},{"$f":"COUNTIF(L7:L35,T22)","v":6},{"$f":"U22/(W4-U20)","v":0.3},{"$f":"IF(V22=0,0,(V22*((LOG(V22))/LOG(2))))","v":-0.52108967824986185},null,{"$f":"N22","v":2222},{"$f":"COUNTIF(L36:L65,Y22)","v":9},{"$f":"Z22/(AB4-Z20)","v":0.36},{"$f":"IF(AA22=0,0,(AA22*((LOG(AA22))/LOG(2))))","v":-0.53061522779966841},null,{"$f":"N22","v":2222},{"$f":"COUNTIF(L66:L94,AD22)","v":9},{"$f":"AE22/(AG4-AE20)","v":0.375},{"$f":"IF(AF22=0,0,(AF22*((LOG(AF22))/LOG(2))))","v":-0.53063906222956647},null,{"$f":"N22","v":2222},{"$f":"COUNTIF(L95:L123,AI22)","v":13},{"$f":"AJ22/(AL4-AJ20)","v":0.65},{"$f":"IF(AK22=0,0,(AK22*((LOG(AK22))/LOG(2))))","v":-0.40396744488507563},null,{"$f":"N22","v":2222},{"$f":"COUNTIF(L124:L153,AN22)","v":12},{"$f":"AO22/(AQ4-AO20)","v":0.5},{"$f":"IF(AP22=0,0,(AP22*((LOG(AP22))/LOG(2))))","v":-0.5},null,{"$f":"N22","v":2222},{"$f":"COUNTIF(L154:L182,AS22)","v":12},{"$f":"AT22/(AV4-AT20)","v":0.52173913043478259},{"$f":"IF(AU22=0,0,(AU22*((LOG(AU22))/LOG(2))))","v":-0.48970406365349045}]
[21,2129,21,2134,22,2140,14,2147,null,null,0,2221,null,null,null,{"$f":"SUM(P7:P22)","v":1},{"$f":"-SUM(Q7:Q22)","v":2.5455208940266161},null,null,null,null,{"$f":"SUM(V7:V22)","v":1},{"$f":"-SUM(W7:W22)","v":2.2709505944546686},null,null,null,{"$f":"SUM(AA7:AA22)","v":1},{"$f":"-SUM(AB7:AB22)","v":2.532096688995876},null,null,null,{"$f":"SUM(AF7:AF22)","v":1},{"$f":"-SUM(AG7:AG22)","v":2.4107621062468212},null,null,null,{"$f":"SUM(AK7:AK22)","v":1},{"$f":"-SUM(AL7:AL22)","v":1.278897902987479},null,null,null,{"$f":"SUM(AP7:AP22)","v":1},{"$f":"-SUM(AQ7:AQ22)","v":1.9125056054120886},null,null,null,{"$f":"SUM(AU7:AU22)","v":1},{"$f":"-SUM(AV7:AV22)","v":1.8918521728839341}]
[21,2242,21,2246,22,2251,23,2259,null,null,0,2222,null,null,null,"U=",{"$f":"Q23/(LOG(Q4)/LOG(2))","v":0.34124863986508885},null,null,null,null,"U1=",{"$f":"W23/(LOG(W4)/LOG(2))","v":0.46746798654263422},null,null,null,"U2=",{"$f":"AB23/(LOG(AB4)/LOG(2))","v":0.51602876397162933},null,null,null,"U3=",{"$f":"AG23/(LOG(AG4)/LOG(2))","v":0.49624774338655353},null,null,null,"U4=",{"$f":"AL23/(LOG(AL4)/LOG(2))","v":0.26325708237026457},null,null,null,"U5=",{"$f":"AQ23/(LOG(AQ4)/LOG(2))","v":0.38975916991581361},null,null,null,"U6=",{"$f":"AV23/(LOG(AV4)/LOG(2))","v":0.3894317772715481}]
[21,2358,21,2362,11,2365,21,2370,null,null,0,2212]
[21,2834,21,2852,22,2859,14,2865,null,null,0,2221]
[21,2964,21,2969,22,2973,14,2977,null,null,0,2221,null,"Total Target Seq"]
[21,3074,12,3081,24,3083,23,3091,null,null,0,2122,null,{"$f":"COUNTIF(L7:L182,G3)","v":40},null,29,30,29,29,30,29]
[21,3209,21,3211,11,3218,21,3228,null,null,0,2212,null,null,null,"% of reinforcement given in 6 equal intervals based on number of trials "]
[12,3341,23,3344,24,3357,23,3365,null,null,0,1222,null,null,null,"%_1","%_2","%_3","%_4","%_5","%_6"]
[21,3462,21,3468,11,3469,21,3473,null,null,0,2212,null,null,"target sequence",{"$f":"$G$3","v":2212},{"$f":"$G$3","v":2212},{"$f":"$G$3","v":2212},{"$f":"$G$3","v":2212},{"$f":"$G$3","v":2212},{"$f":"$G$3","v":2212}]
[21,3739,12,3743,24,3755,23,3770,null,null,0,2122,null,null,"total reinforcement",{"$f":"U20","v":9},{"$f":"Z20","v":5},{"$f":"AE20","v":5},{"$f":"AJ20","v":9},{"$f":"AO20","v":6},{"$f":"AT20","v":6}]
[21,3867,21,3872,11,3875,21,3877,null,null,0,2212,null,null,"% target"]
[21,3987,12,3989,24,3993,23,4002,null,null,0,2122,null,null,"CCRF"]
[21,4098,21,4103,11,4105,21,4114,null,null,0,2212,null,null,"% CCRf"]
[21,4205,21,4208,22,4218,23,4225,null,null,0,2222,null,null,"average response rate",{"$f":"H35/P28","v":141.86206896551724},{"$f":"(H65-H35)/Q28","v":119.73333333333333},{"$f":"(H94-H65)/R28","v":134.82758620689654},{"$f":"(H123-H94)/S28","v":131.9655172413793},{"$f":"(H153-H123)/T28","v":138.93333333333334},{"$f":"(H182-H153)/U28","v":140.58620689655172}]
[12,4323,23,4329,13,4332,23,4334,null,null,0,1212]
[21,4430,12,4438,24,4440,23,4449,null,null,0,2122]
[21,4543,21,4547,11,4550,21,4558,null,null,0,2212]
[21,4720,12,4726,24,4729,23,4740,null,null,0,2122]
[21,4835,12,4841,24,4846,23,4857,null,null,0,2122]
[21,4951,12,4956,24,4959,23,4967,null,null,0,2122]
[21,5061,21,5065,22,5070,23,5076,null,null,0,2222]
[21,5170,21,5176,22,5182,23,5188,null,null,0,2222]
[21,5284,21,5287,11,5290,21,5299,null,null,0,2212]
[21,5390,12,5395,24,5398,14,5403,null,null,0,2121]
[21,5498,21,5506,22,5513,23,5524,null,null,0,2222]
[21,5616,21,5623,22,5629,14,5634,null,null,0,2221]
[12,5728,23,5729,24,5733,23,5741,null,null,0,1222]
[12,5834,23,5842,24,5845,23,5850,null,null,0,1222]
[21,5946,21,5949,11,5951,21,5954,null,null,0,2212]
[21,6186,12,6189,24,6200,14,6208,null,null,0,2121]
[21,6316,12,6325,13,6328,23,6336,null,null,0,2112]
[21,6431,21,6439,22,6450,23,6457,null,null,0,2222]
[21,6549,12,6556,24,6559,23,6567,null,null,0,2122]
[21,6664,21,6666,22,6674,23,6682,null,null,0,2222]
[21,6776,12,6782,24,6790,23,6800,null,null,0,2122]
[21,6896,21,6901,11,6902,21,6905,null,null,0,2212]
[21,7015,21,7027,22,7047,23,7053,null,null,0,2222]
[21,7147,21,7151,22,7155,14,7160,null,null,0,2221]
[21,7255,21,7259,22,7263,23,7269,null,null,0,2222]
[12,7362,23,7367,24,7371,23,7382,null,null,0,1222]
[21,7473,21,7479,22,7490,23,7496,null,null,0,2222]
[12,7590,23,7596,24,7600,14,7604,null,null,0,1221]
[21,7697,21,7701,11,7703,21,7706,null,null,0,2212]
[12,7841,23,7848,24,7857,23,7871,null,null,0,1222]
[12,7964,23,7966,24,7973,23,7980,null,null,0,1222]
[21,8076,21,8080,22,8086,23,8096,null,null,0,2222]
[21,8191,21,8194,22,8199,23,8208,null,null,0,2222]
[12,8301,23,8308,13,8314,23,8316,null,null,0,1212]
[12,8413,23,8415,24,8420,23,8426,null,null,0,1222]
[21,8521,12,8529,24,8531,23,8539,null,null,0,2122]
[21,8635,12,8641,24,8648,23,8657,null,null,0,2122]
[21,8755,21,8758,11,8762,21,8768,null,null,0,2212]
[21,8886,21,8893,22,8901,23,8908,null,null,0,2222]
[12,9001,23,9004,24,9008,23,9017,null,null,0,1222]
[21,9109,21,9113,11,9119,21,9121,null,null,0,2212]
[12,9489,23,9494,24,9499,23,9505,null,null,0,1222]
[21,9600,21,9608,22,9620,23,9626,null,null,0,2222]
[21,9723,21,9727,11,9733,21,9741,null,null,0,2212]
[12,9921,23,9928,24,9935,23,9943,null,null,0,1222]
[21,10041,21,10046,11,10050,12,10065,null,null,0,2211]
[21,10161,21,10164,22,10170,23,10180,null,null,0,2222]
[21,10274,21,10276,11,10279,21,10283,null,null,0,2212]
[12,10554,14,10566,24,10575,23,10580,null,null,0,1122]
[21,10676,21,10683,22,10689,23,10700,null,null,0,2222]
[21,10798,21,10802,11,10804,21,10808,null,null,0,2212]
[21,10905,21,10910,22,10916,14,10921,null,null,0,2221]
[21,11017,21,11020,22,11022,23,11027,null,null,0,2222]
[12,11138,23,11142,24,11149,23,11154,null,null,0,1222]
[21,11249,21,11254,22,11260,14,11266,null,null,0,2221]
[12,11361,23,11368,24,11378,14,11382,null,null,0,1221]
[21,11478,21,11485,22,11493,23,11501,null,null,0,2222]
[21,11600,21,11604,22,11609,23,11616,null,null,0,2222]
[21,11711,21,11718,22,11725,23,11733,null,null,0,2222]
[12,11828,23,11833,24,11841,23,11849,null,null,0,1222]
[21,11945,21,11950,22,11956,23,11965,null,null,0,2222]
[21,12061,21,12063,11,12067,21,12076,null,null,0,2212]
[21,12171,21,12177,11,12181,21,12189,null,null,0,2212]
[21,12342,21,12347,22,12352,23,12360,null,null,0,2222]
[21,12454,21,12459,11,12461,21,12464,null,null,0,2212]
[21,12701,12,12706,24,12713,23,12718,null,null,0,2122]
[21,12841,21,12845,11,12848,21,12852,null,null,0,2212]
[21,12960,21,12965,22,12971,23,12979,null,null,0,2222]
[21,13076,12,13079,24,13086,23,13095,null,null,0,2122]
[21,13190,21,13196,22,13202,23,13211,null,null,0,2222]
[21,13309,12,13316,24,13318,23,13325,null,null,0,2122]
[21,13420,21,13423,11,13426,21,13433,null,null,0,2212]
[21,13526,21,13533,11,13537,21,13544,null,null,0,2212]
[12,13764,23,13784,24,13799,23,13805,null,null,0,1222]
[21,13901,21,13905,22,13911,23,13919,null,null,0,2222]
[21,14017,21,14021,22,14024,23,14029,null,null,0,2222]
[21,14124,21,14130,22,14135,23,14142,null,null,0,2222]
[21,14237,21,14251,11,14256,21,14259,null,null,0,2212]
[21,14379,21,14388,22,14396,23,14403,null,null,0,2222]
[21,14496,21,14501,22,14507,23,14514,null,null,0,2222]
[12,14609,23,14616,24,14619,23,14624,null,null,0,1222]
[21,14719,21,14723,11,14726,21,14731,null,null,0,2212]
[12,14960,23,14962,24,14976,23,14991,null,null,0,1222]
[21,15084,21,15087,22,15094,23,15102,null,null,0,2222]
[21,15197,21,15203,22,15212,23,15219,null,null,0,2222]
[21,15315,21,15318,22,15324,23,15336,null,null,0,2222]
[21,15428,21,15434,11,15436,21,15443,null,null,0,2212]
[21,15771,21,15781,22,15787,23,15797,null,null,0,2222]
[21,15932,21,15935,11,15938,21,15945,null,null,0,2212]
[21,16060,12,16069,24,16079,23,16087,null,null,0,2122]
[12,16178,23,16181,24,16190,23,16198,null,null,0,1222]
[12,16291,23,16299,24,16304,23,16311,null,null,0,1222]
[21,16407,21,16413,22,16423,23,16434,null,null,0,2222]
[21,16528,21,16532,22,16538,14,16543,null,null,0,2221]
[21,16637,21,16643,22,16647,23,16655,null,null,0,2222]
[21,16752,21,16755,11,16757,21,16760,null,null,0,2212]
[21,16904,21,16918,22,16926,23,16934,null,null,0,2222]
[21,17043,21,17051,22,17057,23,17068,null,null,0,2222]
[21,17162,21,17170,22,17179,23,17186,null,null,0,2222]
[21,17281,21,17290,11,17299,21,17302,null,null,0,2212]
[21,17458,21,17463,11,17470,21,17477,null,null,0,2212]
[12,17673,23,17678,24,17691,23,17706,null,null,0,1222]
[21,17801,21,17805,22,17815,14,17820,null,null,0,2221]
[21,17914,21,17918,22,17923,23,17929,null,null,0,2222]
[21,18023,21,18029,22,18037,14,18042,null,null,0,2221]
[21,18137,21,18144,22,18150,23,18157,null,null,0,2222]
[12,18252,23,18257,24,18261,23,18268,null,null,0,1222]
[21,18360,21,18362,22,18366,23,18370,null,null,0,2222]
[12,18464,23,18468,24,18473,23,18477,null,null,0,1222]
[21,18572,12,18579,24,18585,23,18593,null,null,0,2122]
[21,18688,21,18690,22,18694,23,18701,null,null,0,2222]
[21,18799,21,18805,11,18811,21,18818,null,null,0,2212]
[21,19142,12,19154,24,19156,23,19163,null,null,0,2122]
[21,19260,21,19266,22,19274,23,19281,null,null,0,2222]
[21,19375,21,19378,22,19382,23,19387,null,null,0,2222]
[21,19484,12,19489,24,19496,14,19504,null,null,0,2121]
[21,19599,21,19605,11,19606,21,19611,null,null,0,2212]
[21,19802,21,19819,22,19825,23,19834,null,null,0,2222]
[12,19928,23,19931,24,19936,23,19944,null,null,0,1222]
[21,20040,21,20045,22,20051,14,20056,null,null,0,2221]
[21,20153,21,20157,22,20163,23,20170,null,null,0,2222]
[12,20262,23,20270,13,20272,23,20274,null,null,0,1212]
[12,20368,23,20375,24,20377,23,20382,null,null,0,1222]
[21,20477,21,20479,22,20484,14,20488,null,null,0,2221]
[21,20583,21,20588,22,20593,23,20603,null,null,0,2222]
[21,20699,21,20703,22,20708,23,20716,null,null,0,2222]
[21,20812,21,20819,22,20824,23,20831,null,null,0,2222]
[21,20925,21,20930,22,20936,23,20945,null,null,0,2222]
[21,21039,12,21047,24,21052,23,21056,null,null,0,2122]
[21,21149,21,21154,22,21157,23,21162,null,null,0,2222]
[21,21262,21,21266,22,21270,23,21275,null,null,0,2222]
[21,21372,21,21376,22,21381,23,21387,null,null,0,2222]
[21,21482,21,21485,11,21487,21,21490,null,null,0,2212]
[21,21764,21,21769,22,21774,23,21779,null,null,0,2222]
[12,21873,23,21882,24,21889,23,21897,null,null,0,1222]
[21,21992,21,22000,11,22005,21,22018,null,null,0,2212]
[21,22139,21,22145,22,22150,23,22159,null,null,0,2222]
[21,22255,21,22261,11,22263,21,22270,null,null,0,2212]
[21,22565,21,22572,11,22579,21,22581,null,null,0,2212]
[21,22827,21,22832,22,22837,23,22844,null,null,0,2222]
[21,22940,12,22945,24,22952,23,22961,null,null,0,2122]
[12,23058,23,23064,24,23070,23,23079,null,null,0,1222]
[21,23174,21,23179,22,23184,14,23191,null,null,0,2221]
[21,23285,12,23288,24,23292,23,23297,null,null,0,2122]
[21,23392,21,23395,11,23400,21,23409,null,null,0,2212]
[21,23666,21,23671,11,23679,21,23688,null,null,1,2212]

{"sheet":"!M720A30.Gus","index":31,"n_rows":190,"n_cols":48,"rows_kept":190,"cut":false,"hidden":false,"merged":[[4,39,4,42],[5,39,5,40],[4,44,4,47],[5,44,5,45],[4,24,4,27],[5,24,5,25],[4,29,4,32],[5,29,5,30],[4,34,4,37],[5,34,5,35],[1,1,1,2],[5,13,5,14],[26,13,26,14],[27,13,27,14],[4,19,4,22],[5,19,5,20]]}
["Report for:!M720A30.Gus"]
["Date:","<date>"]
["Hen:","<hen>",null,null,null,"Correct Sequence",{"$f":"Start!J2","v":2212},null,null,null,null,null,null,null,null,"Total Sequences in Data",{"$f":"4994-COUNTBLANK(L7:L5000)","v":184},null,null,null,null,"Total Sequences in Block Data",{"$f":"COUNTA(L7:L37)","v":31},null,null,null,"Total Sequences in Block Data",{"$f":"COUNTA(L38:L67)","v":30},null,null,null,"Total Sequences in Block Data",{"$f":"COUNTA(L68:L98)","v":31},null,null,null,"Total Sequences in Block Data",{"$f":"COUNTA(L99:L129)","v":31},null,null,null,"Total Sequences in Block Data",{"$f":"COUNTA(L130:L159)","v":30},null,null,null,"Total Sequences in Block Data",{"$f":"COUNTA(L160:L190)","v":31}]
[null,null,null,null,null,null,null,null,null,null,null,null,null,null,null,"Total Sequences in Summary",{"$f":"SUM(O7:O22)","v":183},null,null,null,null,"Total Sequences in Block Summary",{"$f":"SUM(U7:U22)","v":31},null,null,null,"Total Sequences in Block Summary",{"$f":"SUM(Z7:Z22)","v":30},null,null,null,"Total Sequences in Block Summary",{"$f":"SUM(AE7:AE22)","v":31},null,null,null,"Total Sequences in Block Summary",{"$f":"SUM(AJ7:AJ22)","v":31},null,null,null,"Total Sequences in Block Summary",{"$f":"SUM(AO7:AO22)","v":30},null,null,null,"Total Sequences in Block Summary",{"$f":"SUM(AT7:AT22)","v":30}]
[null,null,null,null,null,null,null,null,null,null,null,null,null,null,null,null,null,null,null,"Block 1",null,null,null,null,"Block 2",null,null,null,null,"Block 3",null,null,null,null,"Block 4",null,null,null,null,"Block 5",null,null,null,null,"Block 6"]
["Sequence\nComponent\n1","Time\n1","Sequence\nComponent\n2","Time\n2","Sequence\nComponent\n3","Time\n3","Sequence\nComponent\n4","Time\n4","Sequence\nComponent\n5","Time\n5","Correct?\n0=No 1=Yes","Sequence",null,"Frequency",null,"Relative Frequency","Variability",null,null,"Frequency",null,"Relative Frequency","Variability",null,"Frequency",null,"Relative Frequency","Variability",null,"Frequency",null,"Relative Frequency","Variability",null,"Frequency",null,"Relative Frequency","Variability",null,"Frequency",null,"Relative Frequency","Variability",null,"Frequency",null,"Relative Frequency","Variability"]
[21,14,21,20,22,26,23,39,null,null,0,2222,null,1111,{"$f":"COUNTIF($L$7:$L$500,N7)","v":0},{"$f":"O7/$Q$4","v":0},{"$f":"IF(P7=0,0,(P7*((LOG(P7))/LOG(2))))","v":0},null,null,{"$f":"N7","v":1111},{"$f":"COUNTIF(L7:L37,T7)","v":0},{"$f":"U7/(W4-U20)","v":0},{"$f":"IF(V7=0,0,(V7*((LOG(V7))/LOG(2))))","v":0},null,{"$f":"N7","v":1111},{"$f":"COUNTIF(L38:L67,Y7)","v":0},{"$f":"Z7/(AB4-Z20)","v":0},{"$f":"IF(AA7=0,0,(AA7*((LOG(AA7))/LOG(2))))","v":0},null,{"$f":"N7","v":1111},{"$f":"COUNTIF(L68:L98,AD7)","v":0},{"$f":"AE7/(AG4-AE20)","v":0},{"$f":"IF(AF7=0,0,(AF7*((LOG(AF7))/LOG(2))))","v":0},null,{"$f":"N7","v":1111},{"$f":"COUNTIF(L99:L129,AI7)","v":0},{"$f":"AJ7/(AL4-AJ20)","v":0},{"$f":"IF(AK7=0,0,(AK7*((LOG(AK7))/LOG(2))))","v":0},null,{"$f":"N7","v":1111},{"$f":"COUNTIF(L130:L159,AN7)","v":0},{"$f":"AO7/(AQ4-AO20)","v":0},{"$f":"IF(AP7=0,0,(AP7*((LOG(AP7))/LOG(2))))","v":0},null,{"$f":"N7","v":1111},{"$f":"COUNTIF(L160:L190,AS7)","v":0},{"$f":"AT7/(AV4-AT20)","v":0},{"$f":"IF(AU7=0,0,(AU7*((LOG(AU7))/LOG(2))))","v":0}]
[21,135,21,140,22,144,14,148,null,null,0,2221,null,1112,{"$f":"COUNTIF($L$7:$L$500,N8)","v":0},{"$f":"O8/$Q$4","v":0},{"$f":"IF(P8=0,0,(P8*((LOG(P8))/LOG(2))))","v":0},null,null,{"$f":"N8","v":1112},{"$f":"COUNTIF(L7:L37,T8)","v":0},{"$f":"U8/(W4-U20)","v":0},{"$f":"IF(V8=0,0,(V8*((LOG(V8))/LOG(2))))","v":0},null,{"$f":"N8","v":1112},{"$f":"COUNTIF(L38:L67,Y8)","v":0},{"$f":"Z8/(AB4-Z20)","v":0},{"$f":"IF(AA8=0,0,(AA8*((LOG(AA8))/LOG(2))))","v":0},null,{"$f":"N8","v":1112},{"$f":"COUNTIF(L68:L98,AD8)","v":0},{"$f":"AE8/(AG4-AE20)","v":0},{"$f":"IF(AF8=0,0,(AF8*((LOG(AF8))/LOG(2))))","v":0},null,{"$f":"N8","v":1112},{"$f":"COUNTIF(L99:L129,AI8)","v":0},{"$f":"AJ8/(AL4-AJ20)","v":0},{"$f":"IF(AK8=0,0,(AK8*((LOG(AK8))/LOG(2))))","v":0},null,{"$f":"N8","v":1112},{"$f":"COUNTIF(L130:L159,AN8)","v":0},{"$f":"AO8/(AQ4-AO20)","v":0},{"$f":"IF(AP8=0,0,(AP8*((LOG(AP8))/LOG(2))))","v":0},null,{"$f":"N8","v":1112},{"$f":"COUNTIF(L160:L190,AS8)","v":0},{"$f":"AT8/(AV4-AT20)","v":0},{"$f":"IF(AU8=0,0,(AU8*((LOG(AU8))/LOG(2))))","v":0}]
[12,241,23,251,13,255,23,259,null,null,0,1212,null,1121,{"$f":"COUNTIF($L$7:$L$500,N9)","v":0},{"$f":"O9/$Q$4","v":0},{"$f":"IF(P9=0,0,(P9*((LOG(P9))/LOG(2))))","v":0},null,null,{"$f":"N9","v":1121},{"$f":"COUNTIF(L7:L37,T9)","v":0},{"$f":"U9/(W4-U20)","v":0},{"$f":"IF(V9=0,0,(V9*((LOG(V9))/LOG(2))))","v":0},null,{"$f":"N9","v":1121},{"$f":"COUNTIF(L38:L67,Y9)","v":0},{"$f":"Z9/(AB4-Z20)","v":0},{"$f":"IF(AA9=0,0,(AA9*((LOG(AA9))/LOG(2))))","v":0},null,{"$f":"N9","v":1121},{"$f":"COUNTIF(L68:L98,AD9)","v":0},{"$f":"AE9/(AG4-AE20)","v":0},{"$f":"IF(AF9=0,0,(AF9*((LOG(AF9))/LOG(2))))","v":0},null,{"$f":"N9","v":1121},{"$f":"COUNTIF(L99:L129,AI9)","v":0},{"$f":"AJ9/(AL4-AJ20)","v":0},{"$f":"IF(AK9=0,0,(AK9*((LOG(AK9))/LOG(2))))","v":0},null,{"$f":"N9","v":1121},{"$f":"COUNTIF(L130:L159,AN9)","v":0},{"$f":"AO9/(AQ4-AO20)","v":0},{"$f":"IF(AP9=0,0,(AP9*((LOG(AP9))/LOG(2))))","v":0},null,{"$f":"N9","v":1121},{"$f":"COUNTIF(L160:L190,AS9)","v":0},{"$f":"AT9/(AV4-AT20)","v":0},{"$f":"IF(AU9=0,0,(AU9*((LOG(AU9))/LOG(2))))","v":0}]
[21,361,12,363,24,366,23,372,null,null,0,2122,null,1122,{"$f":"COUNTIF($L$7:$L$500,N10)","v":0},{"$f":"O10/$Q$4","v":0},{"$f":"IF(P10=0,0,(P10*((LOG(P10))/LOG(2))))","v":0},null,null,{"$f":"N10","v":1122},{"$f":"COUNTIF(L7:L37,T10)","v":0},{"$f":"U10/(W4-U20)","v":0},{"$f":"IF(V10=0,0,(V10*((LOG(V10))/LOG(2))))","v":0},null,{"$f":"N10","v":1122},{"$f":"COUNTIF(L38:L67,Y10)","v":0},{"$f":"Z10/(AB4-Z20)","v":0},{"$f":"IF(AA10=0,0,(AA10*((LOG(AA10))/LOG(2))))","v":0},null,{"$f":"N10","v":1122},{"$f":"COUNTIF(L68:L98,AD10)","v":0},{"$f":"AE10/(AG4-AE20)","v":0},{"$f":"IF(AF10=0,0,(AF10*((LOG(AF10))/LOG(2))))","v":0},null,{"$f":"N10","v":1122},{"$f":"COUNTIF(L99:L129,AI10)","v":0},{"$f":"AJ10/(AL4-AJ20)","v":0},{"$f":"IF(AK10=0,0,(AK10*((LOG(AK10))/LOG(2))))","v":0},null,{"$f":"N10","v":1122},{"$f":"COUNTIF(L130:L159,AN10)","v":0},{"$f":"AO10/(AQ4-AO20)","v":0},{"$f":"IF(AP10=0,0,(AP10*((LOG(AP10))/LOG(2))))","v":0},null,{"$f":"N10","v":1122},{"$f":"COUNTIF(L160:L190,AS10)","v":0},{"$f":"AT10/(AV4-AT20)","v":0},{"$f":"IF(AU10=0,0,(AU10*((LOG(AU10))/LOG(2))))","v":0}]
[21,476,21,483,22,489,23,499,null,null,0,2222,null,1211,{"$f":"COUNTIF($L$7:$L$500,N11)","v":0},{"$f":"O11/$Q$4","v":0},{"$f":"IF(P11=0,0,(P11*((LOG(P11))/LOG(2))))","v":0},null,null,{"$f":"N11","v":1211},{"$f":"COUNTIF(L7:L37,T11)","v":0},{"$f":"U11/(W4-U20)","v":0},{"$f":"IF(V11=0,0,(V11*((LOG(V11))/LOG(2))))","v":0},null,{"$f":"N11","v":1211},{"$f":"COUNTIF(L38:L67,Y11)","v":0},{"$f":"Z11/(AB4-Z20)","v":0},{"$f":"IF(AA11=0,0,(AA11*((LOG(AA11))/LOG(2))))","v":0},null,{"$f":"N11","v":1211},{"$f":"COUNTIF(L68:L98,AD11)","v":0},{"$f":"AE11/(AG4-AE20)","v":0},{"$f":"IF(AF11=0,0,(AF11*((LOG(AF11))/LOG(2))))","v":0},null,{"$f":"N11","v":1211},{"$f":"COUNTIF(L99:L129,AI11)","v":0},{"$f":"AJ11/(AL4-AJ20)","v":0},{"$f":"IF(AK11=0,0,(AK11*((LOG(AK11))/LOG(2))))","v":0},null,{"$f":"N11","v":1211},{"$f":"COUNTIF(L130:L159,AN11)","v":0},{"$f":"AO11/(AQ4-AO20)","v":0},{"$f":"IF(AP11=0,0,(AP11*((LOG(AP11))/LOG(2))))","v":0},null,{"$f":"N11","v":1211},{"$f":"COUNTIF(L160:L190,AS11)","v":0},{"$f":"AT11/(AV4-AT20)","v":0},{"$f":"IF(AU11=0,0,(AU11*((LOG(AU11))/LOG(2))))","v":0}]
[21,598,21,601,22,606,14,608,null,null,0,2221,null,1212,{"$f":"COUNTIF($L$7:$L$500,N12)","v":7},{"$f":"O12/$Q$4","v":3.825136612021858E-2},{"$f":"IF(P12=0,0,(P12*((LOG(P12))/LOG(2))))","v":-0.18010062521084735},null,null,{"$f":"N12","v":1212},{"$f":"COUNTIF(L7:L37,T12)","v":2},{"$f":"U12/(W4-U20)","v":7.407407407407407E-2},{"$f":"IF(V12=0,0,(V12*((LOG(V12))/LOG(2))))","v":-0.27813981497507173},null,{"$f":"N12","v":1212},{"$f":"COUNTIF(L38:L67,Y12)","v":0},{"$f":"Z12/(AB4-Z20)","v":0},{"$f":"IF(AA12=0,0,(AA12*((LOG(AA12))/LOG(2))))","v":0},null,{"$f":"N12","v":1212},{"$f":"COUNTIF(L68:L98,AD12)","v":1},{"$f":"AE12/(AG4-AE20)","v":3.7037037037037035E-2},{"$f":"IF(AF12=0,0,(AF12*((LOG(AF12))/LOG(2))))","v":-0.1761069445245729},null,{"$f":"N12","v":1212},{"$f":"COUNTIF(L99:L129,AI12)","v":2},{"$f":"AJ12/(AL4-AJ20)","v":8.6956521739130432E-2},{"$f":"IF(AK12=0,0,(AK12*((LOG(AK12))/LOG(2))))","v":-0.30639669183104457},null,{"$f":"N12","v":1212},{"$f":"COUNTIF(L130:L159,AN12)","v":2},{"$f":"AO12/(AQ4-AO20)","v":6.8965517241379309E-2},{"$f":"IF(AP12=0,0,(AP12*((LOG(AP12))/LOG(2))))","v":-0.26606765483638428},null,{"$f":"N12","v":1212},{"$f":"COUNTIF(L160:L190,AS12)","v":0},{"$f":"AT12/(AV4-AT20)","v":0},{"$f":"IF(AU12=0,0,(AU12*((LOG(AU12))/LOG(2))))","v":0}]
[21,704,21,710,11,714,21,728,null,null,0,2212,null,1221,{"$f":"COUNTIF($L$7:$L$500,N13)","v":12},{"$f":"O13/$Q$4","v":6.5573770491803282E-2},{"$f":"IF(P13=0,0,(P13*((LOG(P13))/LOG(2))))","v":-0.25775326803691057},null,null,{"$f":"N13","v":1221},{"$f":"COUNTIF(L7:L37,T13)","v":3},{"$f":"U13/(W4-U20)","v":0.1111111111111111},{"$f":"IF(V13=0,0,(V13*((LOG(V13))/LOG(2))))","v":-0.3522138890491458},null,{"$f":"N13","v":1221},{"$f":"COUNTIF(L38:L67,Y13)","v":0},{"$f":"Z13/(AB4-Z20)","v":0},{"$f":"IF(AA13=0,0,(AA13*((LOG(AA13))/LOG(2))))","v":0},null,{"$f":"N13","v":1221},{"$f":"COUNTIF(L68:L98,AD13)","v":2},{"$f":"AE13/(AG4-AE20)","v":7.407407407407407E-2},{"$f":"IF(AF13=0,0,(AF13*((LOG(AF13))/LOG(2))))","v":-0.27813981497507173},null,{"$f":"N13","v":1221},{"$f":"COUNTIF(L99:L129,AI13)","v":3},{"$f":"AJ13/(AL4-AJ20)","v":0.13043478260869565},{"$f":"IF(AK13=0,0,(AK13*((LOG(AK13))/LOG(2))))","v":-0.3832955811307639},null,{"$f":"N13","v":1221},{"$f":"COUNTIF(L130:L159,AN13)","v":2},{"$f":"AO13/(AQ4-AO20)","v":6.8965517241379309E-2},{"$f":"IF(AP13=0,0,(AP13*((LOG(AP13))/LOG(2))))","v":-0.26606765483638428},null,{"$f":"N13","v":1221},{"$f":"COUNTIF(L160:L190,AS13)","v":2},{"$f":"AT13/(AV4-AT20)","v":8.6956521739130432E-2},{"$f":"IF(AU13=0,0,(AU13*((LOG(AU13))/LOG(2))))","v":-0.30639669183104457}]
[21,859,21,863,11,867,21,870,null,null,0,2212,null,1222,{"$f":"COUNTIF($L$7:$L$500,N14)","v":25},{"$f":"O14/$Q$4","v":0.13661202185792351},{"$f":"IF(P14=0,0,(P14*((LOG(P14))/LOG(2))))","v":-0.39232836728269366},null,null,{"$f":"N14","v":1222},{"$f":"COUNTIF(L7:L37,T14)","v":3},{"$f":"U14/(W4-U20)","v":0.1111111111111111},{"$f":"IF(V14=0,0,(V14*((LOG(V14))/LOG(2))))","v":-0.3522138890491458},null,{"$f":"N14","v":1222},{"$f":"COUNTIF(L38:L67,Y14)","v":8},{"$f":"Z14/(AB4-Z20)","v":0.2857142857142857},{"$f":"IF(AA14=0,0,(AA14*((LOG(AA14))/LOG(2))))","v":-0.51638712058788683},null,{"$f":"N14","v":1222},{"$f":"COUNTIF(L68:L98,AD14)","v":3},{"$f":"AE14/(AG4-AE20)","v":0.1111111111111111},{"$f":"IF(AF14=0,0,(AF14*((LOG(AF14))/LOG(2))))","v":-0.3522138890491458},null,{"$f":"N14","v":1222},{"$f":"COUNTIF(L99:L129,AI14)","v":1},{"$f":"AJ14/(AL4-AJ20)","v":4.3478260869565216E-2},{"$f":"IF(AK14=0,0,(AK14*((LOG(AK14))/LOG(2))))","v":-0.19667660678508753},null,{"$f":"N14","v":1222},{"$f":"COUNTIF(L130:L159,AN14)","v":7},{"$f":"AO14/(AQ4-AO20)","v":0.2413793103448276},{"$f":"IF(AP14=0,0,(AP14*((LOG(AP14))/LOG(2))))","v":-0.49497870729275095},null,{"$f":"N14","v":1222},{"$f":"COUNTIF(L160:L190,AS14)","v":3},{"$f":"AT14/(AV4-AT20)","v":0.13043478260869565},{"$f":"IF(AU14=0,0,(AU14*((LOG(AU14))/LOG(2))))","v":-0.3832955811307639}]
[21,1026,21,1036,22,1041,23,1047,null,null,0,2222,null,2111,{"$f":"COUNTIF($L$7:$L$500,N15)","v":0},{"$f":"O15/$Q$4","v":0},{"$f":"IF(P15=0,0,(P15*((LOG(P15))/LOG(2))))","v":0},null,null,{"$f":"N15","v":2111},{"$f":"COUNTIF(L7:L37,T15)","v":0},{"$f":"U15/(W4-U20)","v":0},{"$f":"IF(V15=0,0,(V15*((LOG(V15))/LOG(2))))","v":0},null,{"$f":"N15","v":2111},{"$f":"COUNTIF(L38:L67,Y15)","v":0},{"$f":"Z15/(AB4-Z20)","v":0},{"$f":"IF(AA15=0,0,(AA15*((LOG(AA15))/LOG(2))))","v":0},null,{"$f":"N15","v":2111},{"$f":"COUNTIF(L68:L98,AD15)","v":0},{"$f":"AE15/(AG4-AE20)","v":0},{"$f":"IF(AF15=0,0,(AF15*((LOG(AF15))/LOG(2))))","v":0},null,{"$f":"N15","v":2111},{"$f":"COUNTIF(L99:L129,AI15)","v":0},{"$f":"AJ15/(AL4-AJ20)","v":0},{"$f":"IF(AK15=0,0,(AK15*((LOG(AK15))/LOG(2))))","v":0},null,{"$f":"N15","v":2111},{"$f":"COUNTIF(L130:L159,AN15)","v":0},{"$f":"AO15/(AQ4-AO20)","v":0},{"$f":"IF(AP15=0,0,(AP15*((LOG(AP15))/LOG(2))))","v":0},null,{"$f":"N15","v":2111},{"$f":"COUNTIF(L160:L190,AS15)","v":0},{"$f":"AT15/(AV4-AT20)","v":0},{"$f":"IF(AU15=0,0,(AU15*((LOG(AU15))/LOG(2))))","v":0}]
[12,1142,23,1145,24,1155,23,1160,null,null,0,1222,null,2112,{"$f":"COUNTIF($L$7:$L$500,N16)","v":0},{"$f":"O16/$Q$4","v":0},{"$f":"IF(P16=0,0,(P16*((LOG(P16))/LOG(2))))","v":0},null,null,{"$f":"N16","v":2112},{"$f":"COUNTIF(L7:L37,T16)","v":0},{"$f":"U16/(W4-U20)","v":0},{"$f":"IF(V16=0,0,(V16*((LOG(V16))/LOG(2))))","v":0},null,{"$f":"N16","v":2112},{"$f":"COUNTIF(L38:L67,Y16)","v":0},{"$f":"Z16/(AB4-Z20)","v":0},{"$f":"IF(AA16=0,0,(AA16*((LOG(AA16))/LOG(2))))","v":0},null,{"$f":"N16","v":2112},{"$f":"COUNTIF(L68:L98,AD16)","v":0},{"$f":"AE16/(AG4-AE20)","v":0},{"$f":"IF(AF16=0,0,(AF16*((LOG(AF16))/LOG(2))))","v":0},null,{"$f":"N16","v":2112},{"$f":"COUNTIF(L99:L129,AI16)","v":0},{"$f":"AJ16/(AL4-AJ20)","v":0},{"$f":"IF(AK16=0,0,(AK16*((LOG(AK16))/LOG(2))))","v":0},null,{"$f":"N16","v":2112},{"$f":"COUNTIF(L130:L159,AN16)","v":0},{"$f":"AO16/(AQ4-AO20)","v":0},{"$f":"IF(AP16=0,0,(AP16*((LOG(AP16))/LOG(2))))","v":0},null,{"$f":"N16","v":2112},{"$f":"COUNTIF(L160:L190,AS16)","v":0},{"$f":"AT16/(AV4-AT20)","v":0},{"$f":"IF(AU16=0,0,(AU16*((LOG(AU16))/LOG(2))))","v":0}]
[21,1255,12,1261,24,1268,23,1278,null,null,0,2122,null,2121,{"$f":"COUNTIF($L$7:$L$500,N17)","v":3},{"$f":"O17/$Q$4","v":1.6393442622950821E-2},{"$f":"IF(P17=0,0,(P17*((LOG(P17))/LOG(2))))","v":-9.7225202255129275E-2},null,null,{"$f":"N17","v":2121},{"$f":"COUNTIF(L7:L37,T17)","v":1},{"$f":"U17/(W4-U20)","v":3.7037037037037035E-2},{"$f":"IF(V17=0,0,(V17*((LOG(V17))/LOG(2))))","v":-0.1761069445245729},null,{"$f":"N17","v":2121},{"$f":"COUNTIF(L38:L67,Y17)","v":1},{"$f":"Z17/(AB4-Z20)","v":3.5714285714285712E-2},{"$f":"IF(AA17=0,0,(AA17*((LOG(AA17))/LOG(2))))","v":-0.17169124721634299},null,{"$f":"N17","v":2121},{"$f":"COUNTIF(L68:L98,AD17)","v":0},{"$f":"AE17/(AG4-AE20)","v":0},{"$f":"IF(AF17=0,0,(AF17*((LOG(AF17))/LOG(2))))","v":0},null,{"$f":"N17","v":2121},{"$f":"COUNTIF(L99:L129,AI17)","v":0},{"$f":"AJ17/(AL4-AJ20)","v":0},{"$f":"IF(AK17=0,0,(AK17*((LOG(AK17))/LOG(2))))","v":0},null,{"$f":"N17","v":2121},{"$f":"COUNTIF(L130:L159,AN17)","v":1},{"$f":"AO17/(AQ4-AO20)","v":3.4482758620689655E-2},{"$f":"IF(AP17=0,0,(AP17*((LOG(AP17))/LOG(2))))","v":-0.16751658603888178},null,{"$f":"N17","v":2121},{"$f":"COUNTIF(L160:L190,AS17)","v":0},{"$f":"AT17/(AV4-AT20)","v":0},{"$f":"IF(AU17=0,0,(AU17*((LOG(AU17))/LOG(2))))","v":0}]
[12,1374,23,1383,24,1387,23,1392,null,null,0,1222,null,2122,{"$f":"COUNTIF($L$7:$L$500,N18)","v":40},{"$f":"O18/$Q$4","v":0.21857923497267759},{"$f":"IF(P18=0,0,(P18*((LOG(P18))/LOG(2))))","v":-0.47951294937632349},null,null,{"$f":"N18","v":2122},{"$f":"COUNTIF(L7:L37,T18)","v":3},{"$f":"U18/(W4-U20)","v":0.1111111111111111},{"$f":"IF(V18=0,0,(V18*((LOG(V18))/LOG(2))))","v":-0.3522138890491458},null,{"$f":"N18","v":2122},{"$f":"COUNTIF(L38:L67,Y18)","v":4},{"$f":"Z18/(AB4-Z20)","v":0.14285714285714285},{"$f":"IF(AA18=0,0,(AA18*((LOG(AA18))/LOG(2))))","v":-0.40105070315108626},null,{"$f":"N18","v":2122},{"$f":"COUNTIF(L68:L98,AD18)","v":5},{"$f":"AE18/(AG4-AE20)","v":0.18518518518518517},{"$f":"IF(AF18=0,0,(AF18*((LOG(AF18))/LOG(2))))","v":-0.45054803838446406},null,{"$f":"N18","v":2122},{"$f":"COUNTIF(L99:L129,AI18)","v":11},{"$f":"AJ18/(AL4-AJ20)","v":0.47826086956521741},{"$f":"IF(AK18=0,0,(AK18*((LOG(AK18))/LOG(2))))","v":-0.5089319005050813},null,{"$f":"N18","v":2122},{"$f":"COUNTIF(L130:L159,AN18)","v":11},{"$f":"AO18/(AQ4-AO20)","v":0.37931034482758619},{"$f":"IF(AP18=0,0,(AP18*((LOG(AP18))/LOG(2))))","v":-0.53048424625493174},null,{"$f":"N18","v":2122},{"$f":"COUNTIF(L160:L190,AS18)","v":6},{"$f":"AT18/(AV4-AT20)","v":0.2608695652173913},{"$f":"IF(AU18=0,0,(AU18*((LOG(AU18))/LOG(2))))","v":-0.50572159704413644}]
[21,1491,21,1494,22,1498,14,1500,null,null,0,2221,null,2211,{"$f":"COUNTIF($L$7:$L$500,N19)","v":0},{"$f":"O19/$Q$4","v":0},{"$f":"IF(P19=0,0,(P19*((LOG(P19))/LOG(2))))","v":0},null,null,{"$f":"N19","v":2211},{"$f":"COUNTIF(L7:L37,T19)","v":0},{"$f":"U19/(W4-U20)","v":0},{"$f":"IF(V19=0,0,(V19*((LOG(V19))/LOG(2))))","v":0},null,{"$f":"N19","v":2211},{"$f":"COUNTIF(L38:L67,Y19)","v":0},{"$f":"Z19/(AB4-Z20)","v":0},{"$f":"IF(AA19=0,0,(AA19*((LOG(AA19))/LOG(2))))","v":0},null,{"$f":"N19","v":2211},{"$f":"COUNTIF(L68:L98,AD19)","v":0},{"$f":"AE19/(AG4-AE20)","v":0},{"$f":"IF(AF19=0,0,(AF19*((LOG(AF19))/LOG(2))))","v":0},null,{"$f":"N19","v":2211},{"$f":"COUNTIF(L99:L129,AI19)","v":0},{"$f":"AJ19/(AL4-AJ20)","v":0},{"$f":"IF(AK19=0,0,(AK19*((LOG(AK19))/LOG(2))))","v":0},null,{"$f":"N19","v":2211},{"$f":"COUNTIF(L130:L159,AN19)","v":0},{"$f":"AO19/(AQ4-AO20)","v":0},{"$f":"IF(AP19=0,0,(AP19*((LOG(AP19))/LOG(2))))","v":0},null,{"$f":"N19","v":2211},{"$f":"COUNTIF(L160:L190,AS19)","v":0},{"$f":"AT19/(AV4-AT20)","v":0},{"$f":"IF(AU19=0,0,(AU19*((LOG(AU19))/LOG(2))))","v":0}]
[21,1596,21,1600,22,1603,23,1613,null,null,0,2222,null,2212,{"$f":"COUNTIF($L$7:$L$500,N20)","v":26},{"$f":"O20/$Q$4","v":0.14207650273224043},{"$f":"IF(P20=0,0,(P20*((LOG(P20))/LOG(2))))","v":-0.39998231215145741},null,null,{"$f":"N20","v":2212},{"$f":"COUNTIF(L7:L37,T20)","v":4},null,null,null,{"$f":"N20","v":2212},{"$f":"COUNTIF(L38:L67,Y20)","v":2},null,null,null,{"$f":"N20","v":2212},{"$f":"COUNTIF(L68:L98,AD20)","v":4},null,null,null,{"$f":"N20","v":2212},{"$f":"COUNTIF(L99:L129,AI20)","v":8},null,null,null,{"$f":"N20","v":2212},{"$f":"COUNTIF(L130:L159,AN20)","v":1},null,null,null,{"$f":"N20","v":2212},{"$f":"COUNTIF(L160:L190,AS20)","v":7}]
[21,1709,21,1715,22,1721,23,1727,null,null,0,2222,null,2221,{"$f":"COUNTIF($L$7:$L$500,N21)","v":19},{"$f":"O21/$Q$4","v":0.10382513661202186},{"$f":"IF(P21=0,0,(P21*((LOG(P21))/LOG(2))))","v":-0.33927690804354471},null,null,{"$f":"N21","v":2221},{"$f":"COUNTIF(L7:L37,T21)","v":6},{"$f":"U21/(W4-U20)","v":0.22222222222222221},{"$f":"IF(V21=0,0,(V21*((LOG(V21))/LOG(2))))","v":-0.48220555587606945},null,{"$f":"N21","v":2221},{"$f":"COUNTIF(L38:L67,Y21)","v":3},{"$f":"Z21/(AB4-Z20)","v":0.10714285714285714},{"$f":"IF(AA21=0,0,(AA21*((LOG(AA21))/LOG(2))))","v":-0.34525633085747659},null,{"$f":"N21","v":2221},{"$f":"COUNTIF(L68:L98,AD21)","v":4},{"$f":"AE21/(AG4-AE20)","v":0.14814814814814814},{"$f":"IF(AF21=0,0,(AF21*((LOG(AF21))/LOG(2))))","v":-0.40813148180199532},null,{"$f":"N21","v":2221},{"$f":"COUNTIF(L99:L129,AI21)","v":2},{"$f":"AJ21/(AL4-AJ20)","v":8.6956521739130432E-2},{"$f":"IF(AK21=0,0,(AK21*((LOG(AK21))/LOG(2))))","v":-0.30639669183104457},null,{"$f":"N21","v":2221},{"$f":"COUNTIF(L130:L159,AN21)","v":3},{"$f":"AO21/(AQ4-AO20)","v":0.10344827586206896},{"$f":"IF(AP21=0,0,(AP21*((LOG(AP21))/LOG(2))))","v":-0.33858812011100858},null,{"$f":"N21","v":2221},{"$f":"COUNTIF(L160:L190,AS21)","v":1},{"$f":"AT21/(AV4-AT20)","v":4.3478260869565216E-2},{"$f":"IF(AU21=0,0,(AU21*((LOG(AU21))/LOG(2))))","v":-0.19667660678508753}]
[21,1823,21,1827,22,1833,23,1842,null,null,0,2222,null,2222,{"$f":"COUNTIF($L$7:$L$500,N22)","v":51},{"$f":"O22/$Q$4","v":0.27868852459016391},{"$f":"IF(P22=0,0,(P22*((LOG(P22))/LOG(2))))","v":-0.5136994497920212},null,null,{"$f":"N22","v":2222},{"$f":"COUNTIF(L7:L37,T22)","v":9},{"$f":"U22/(W4-U20)","v":0.33333333333333331},{"$f":"IF(V22=0,0,(V22*((LOG(V22))/LOG(2))))","v":-0.52832083357371862},null,{"$f":"N22","v":2222},{"$f":"COUNTIF(L38:L67,Y22)","v":12},{"$f":"Z22/(AB4-Z20)","v":0.42857142857142855},{"$f":"IF(AA22=0,0,(AA22*((LOG(AA22))/LOG(2))))","v":-0.52388246628704915},null,{"$f":"N22","v":2222},{"$f":"COUNTIF(L68:L98,AD22)","v":12},{"$f":"AE22/(AG4-AE20)","v":0.44444444444444442},{"$f":"IF(AF22=0,0,(AF22*((LOG(AF22))/LOG(2))))","v":-0.51996666730769447},null,{"$f":"N22","v":2222},{"$f":"COUNTIF(L99:L129,AI22)","v":4},{"$f":"AJ22/(AL4-AJ20)","v":0.17391304347826086},{"$f":"IF(AK22=0,0,(AK22*((LOG(AK22))/LOG(2))))","v":-0.43888034018382832},null,{"$f":"N22","v":2222},{"$f":"COUNTIF(L130:L159,AN22)","v":3},{"$f":"AO22/(AQ4-AO20)","v":0.10344827586206896},{"$f":"IF(AP22=0,0,(AP22*((LOG(AP22))/LOG(2))))","v":-0.33858812011100858},null,{"$f":"N22","v":2222},{"$f":"COUNTIF(L160:L190,AS22)","v":11},{"$f":"AT22/(AV4-AT20)","v":0.47826086956521741},{"$f":"IF(AU22=0,0,(AU22*((LOG(AU22))/LOG(2))))","v":-0.5089319005050813}]
[21,1939,21,1943,22,1948,14,1949,null,null,0,2221,null,null,null,{"$f":"SUM(P7:P22)","v":1},{"$f":"-SUM(Q7:Q22)","v":2.6598790821489278},null,null,null,null,{"$f":"SUM(V7:V22)","v":1},{"$f":"-SUM(W7:W22)","v":2.5214148160968701},null,null,null,{"$f":"SUM(AA7:AA22)","v":1},{"$f":"-SUM(AB7:AB22)","v":1.9582678680998418},null,null,null,{"$f":"SUM(AF7:AF22)","v":1},{"$f":"-SUM(AG7:AG22)","v":2.1851068360429444},null,null,null,{"$f":"SUM(AK7:AK22)","v":0.99999999999999989},{"$f":"-SUM(AL7:AL22)","v":2.1405778122668502},null,null,null,{"$f":"SUM(AP7:AP22)","v":1},{"$f":"-SUM(AQ7:AQ22)","v":2.4022910894813503},null,null,null,{"$f":"SUM(AU7:AU22)","v":1},{"$f":"-SUM(AV7:AV22)","v":1.9010223772961137}]
[21,2045,21,2049,22,2052,23,2057,null,null,0,2222,null,null,null,"U=",{"$f":"Q23/(LOG(Q4)/LOG(2))","v":0.35390970094359464},null,null,null,null,"U1=",{"$f":"W23/(LOG(W4)/LOG(2))","v":0.50894527752372654},null,null,null,"U2=",{"$f":"AB23/(LOG(AB4)/LOG(2))","v":0.39908529239523238},null,null,null,"U3=",{"$f":"AG23/(LOG(AG4)/LOG(2))","v":0.44106181893957058},null,null,null,"U4=",{"$f":"AL23/(LOG(AL4)/LOG(2))","v":0.43207367616397335},null,null,null,"U5=",{"$f":"AQ23/(LOG(AQ4)/LOG(2))","v":0.48957502570595518},null,null,null,"U6=",{"$f":"AV23/(LOG(AV4)/LOG(2))","v":0.38741894490116752}]
[21,2155,21,2158,11,2160,21,2163,null,null,0,2212]
[21,2260,12,2263,24,2267,14,2278,null,null,0,2121]
[12,2370,23,2377,24,2382,23,2391,null,null,0,1222,null,"Total Target Seq"]
[12,2484,23,2493,24,2496,14,2498,null,null,0,1221,null,{"$f":"COUNTIF(L7:L190,G3)","v":26},null,31,30,31,31,30,31]
[12,2591,23,2599,13,2605,23,2607,null,null,0,1212,null,null,null,"% of reinforcement given in 6 equal intervals based on number of trials "]
[21,2703,21,2710,22,2715,14,2721,null,null,0,2221,null,null,null,"%_1","%_2","%_3","%_4","%_5","%_6"]
[12,2815,23,2824,24,2827,14,2832,null,null,0,1221,null,null,"target sequence",{"$f":"$G$3","v":2212},{"$f":"$G$3","v":2212},{"$f":"$G$3","v":2212},{"$f":"$G$3","v":2212},{"$f":"$G$3","v":2212},{"$f":"$G$3","v":2212}]
[21,2931,21,2935,22,2940,14,2945,null,null,0,2221,null,null,"total reinforcement",{"$f":"U20","v":4},{"$f":"Z20","v":2},{"$f":"AE20","v":4},{"$f":"AJ20","v":8},{"$f":"AO20","v":1},{"$f":"AT20","v":7}]
[12,3039,23,3043,24,3046,14,3048,null,null,0,1221,null,null,"% target"]
[21,3144,21,3147,11,3150,21,3153,null,null,0,2212,null,null,"CCRF"]
[21,3248,21,3261,22,3270,23,3277,null,null,0,2222,null,null,"% CCRf"]
[21,3373,21,3377,22,3383,23,3390,null,null,0,2222,null,null,"average response rate",{"$f":"H37/P28","v":112.90322580645162},{"$f":"(H67-H37)/Q28","v":139.6},{"$f":"(H98-H67)/R28","v":119.61290322580645},{"$f":"(H129-H98)/S28","v":149.06451612903226},{"$f":"(H159-H129)/T28","v":119.53333333333333},{"$f":"(H190-H159)/U28","v":-632.35483870967744}]
[21,3487,12,3492,24,3495,23,3500,null,null,0,2122]
[12,3592,23,3600,24,3602,23,3607,null,null,0,1222]
[12,3701,23,3711,24,3714,23,3718,null,null,0,1222]
[21,3814,21,3818,22,3822,14,3827,null,null,0,2221]
[12,3921,23,3929,24,3932,23,3937,null,null,0,1222]
[21,4036,12,4041,24,4043,23,4052,null,null,0,2122]
[12,4145,23,4151,24,4154,23,4159,null,null,0,1222]
[21,4257,21,4264,22,4269,23,4277,null,null,0,2222]
[21,4375,12,4379,24,4381,14,4385,null,null,0,2121]
[21,4481,21,4484,22,4488,23,4492,null,null,0,2222]
[21,4593,21,4597,22,4604,23,4610,null,null,0,2222]
[21,4709,21,4713,22,4717,23,4721,null,null,0,2222]
[21,4821,12,4828,24,4830,23,4840,null,null,0,2122]
[21,4937,21,4940,11,4943,21,4946,null,null,0,2212]
[21,5679,12,5683,24,5691,23,5701,null,null,0,2122]
[21,5809,21,5814,22,5831,23,5841,null,null,0,2222]
[21,5937,21,5944,22,5949,23,5957,null,null,0,2222]
[21,6055,21,6057,22,6061,23,6067,null,null,0,2222]
[12,6163,23,6165,24,6169,23,6177,null,null,0,1222]
[12,6270,23,6275,24,6282,23,6293,null,null,0,1222]
[21,6389,21,6393,22,6398,23,6407,null,null,0,2222]
[21,6504,21,6510,22,6514,14,6520,null,null,0,2221]
[21,6619,21,6623,22,6626,23,6630,null,null,0,2222]
[21,6727,21,6730,22,6734,23,6740,null,null,0,2222]
[21,6839,12,6844,24,6850,23,6859,null,null,0,2122]
[21,6961,21,6965,22,6970,23,6974,null,null,0,2222]
[21,7070,21,7074,22,7077,14,7081,null,null,0,2221]
[21,7177,21,7181,22,7184,23,7188,null,null,0,2222]
[12,7280,23,7289,24,7292,23,7297,null,null,0,1222]
[21,7396,21,7404,11,7406,21,7408,null,null,0,2212]
[12,7671,23,7674,24,7680,23,7688,null,null,0,1222]
[21,7790,21,7794,22,7798,14,7802,null,null,0,2221]
[12,7895,23,7903,24,7907,14,7911,null,null,0,1221]
[21,8011,21,8015,22,8020,23,8025,null,null,0,2222]
[21,8122,21,8132,22,8137,23,8148,null,null,0,2222]
[21,8248,21,8251,22,8255,23,8261,null,null,0,2222]
[12,8357,23,8361,13,8366,23,8368,null,null,0,1212]
[21,8465,21,8469,22,8473,14,8478,null,null,0,2221]
[12,8570,23,8579,24,8583,23,8587,null,null,0,1222]
[12,8681,23,8690,24,8694,23,8697,null,null,0,1222]
[21,8794,21,8801,22,8807,23,8815,null,null,0,2222]
[21,8914,12,8922,24,8924,23,8930,null,null,0,2122]
[21,9027,21,9031,22,9034,23,9039,null,null,0,2222]
[21,9135,21,9139,11,9142,21,9145,null,null,0,2212]
[21,9245,12,9249,24,9254,23,9266,null,null,0,2122]
[21,9362,12,9365,24,9371,23,9378,null,null,0,2122]
[12,9471,23,9476,24,9484,14,9486,null,null,0,1221]
[21,9587,21,9593,22,9596,23,9601,null,null,0,2222]
[21,9697,21,9705,22,9709,23,9715,null,null,0,2222]
[21,9813,21,9819,11,9824,21,9831,null,null,0,2212]
[21,10074,21,10092,22,10099,23,10110,null,null,0,2222]
[21,10208,21,10215,11,10216,21,10220,null,null,0,2212]
[21,10310,21,10315,22,10322,23,10329,null,null,0,2222]
[21,10424,21,10429,22,10433,23,10442,null,null,0,2222]
[12,10538,23,10543,24,10546,23,10551,null,null,0,1222]
[21,10650,21,10652,22,10658,23,10666,null,null,0,2222]
[21,10765,21,10769,22,10774,14,10777,null,null,0,2221]
[21,10869,21,10874,11,10876,21,10878,null,null,0,2212]
[21,11038,12,11047,24,11052,23,11061,null,null,0,2122]
[21,11162,21,11164,22,11169,14,11173,null,null,0,2221]
[21,11271,21,11275,22,11277,23,11281,null,null,0,2222]
[21,11382,12,11389,24,11392,23,11396,null,null,0,2122]
[21,11492,21,11496,22,11500,23,11508,null,null,0,2222]
[21,11601,21,11604,22,11612,23,11618,null,null,0,2222]
[21,11719,21,11725,22,11734,23,11746,null,null,0,2222]
[12,11838,23,11846,24,11850,23,11853,null,null,0,1222]
[21,11950,12,11957,24,11959,23,11963,null,null,0,2122]
[21,12062,12,12067,24,12071,23,12077,null,null,0,2122]
[21,12174,21,12177,22,12181,14,12188,null,null,0,2221]
[12,12284,23,12288,24,12292,14,12295,null,null,0,1221]
[21,12392,21,12394,11,12397,21,12404,null,null,0,2212]
[21,12593,12,12605,24,12609,23,12615,null,null,0,2122]
[12,12710,23,12714,24,12718,14,12721,null,null,0,1221]
[21,12821,21,12826,11,12828,21,12834,null,null,0,2212]
[21,12958,12,12962,24,12978,23,12989,null,null,0,2122]
[21,13085,21,13088,11,13096,21,13100,null,null,0,2212]
[21,13348,12,13351,24,13359,23,13371,null,null,0,2122]
[21,13471,12,13477,24,13482,23,13487,null,null,0,2122]
[12,13580,23,13588,13,13593,23,13598,null,null,0,1212]
[12,13693,23,13700,13,13707,23,13710,null,null,0,1212]
[21,13806,21,13811,11,13814,21,13822,null,null,0,2212]
[21,14103,21,14106,11,14110,21,14117,null,null,0,2212]
[21,14310,21,14314,11,14327,21,14332,null,null,0,2212]
[21,14610,12,14614,24,14617,23,14624,null,null,0,2122]
[21,14727,12,14736,24,14750,23,14759,null,null,0,2122]
[21,14857,12,14864,24,14868,23,14876,null,null,0,2122]
[21,14972,21,14977,11,14985,21,14988,null,null,0,2212]
[21,15152,12,15155,24,15157,23,15166,null,null,0,2122]
[21,15270,12,15273,24,15277,23,15283,null,null,0,2122]
[12,15376,23,15380,24,15384,14,15386,null,null,0,1221]
[21,15482,21,15488,22,15493,14,15500,null,null,0,2221]
[21,15596,21,15598,11,15602,21,15604,null,null,0,2212]
[21,15992,21,16000,22,16009,23,16017,null,null,0,2222]
[21,16114,12,16118,24,16122,23,16133,null,null,0,2122]
[21,16228,12,16234,24,16236,23,16241,null,null,0,2122]
[21,16338,12,16344,24,16347,23,16351,null,null,0,2122]
[12,16446,23,16453,24,16457,23,16462,null,null,0,1222]
[12,16554,23,16558,13,16568,23,16574,null,null,0,1212]
[21,16670,12,16676,24,16686,23,16698,null,null,0,2122]
[21,16796,21,16798,22,16804,14,16809,null,null,0,2221]
[21,16906,12,16912,24,16916,23,16932,null,null,0,2122]
[12,17025,23,17028,24,17036,23,17042,null,null,0,1222]
[21,17140,12,17146,24,17150,23,17158,null,null,0,2122]
[21,17254,12,17261,24,17269,23,17279,null,null,0,2122]
[21,17375,12,17384,24,17390,23,17399,null,null,0,2122]
[12,17491,23,17500,24,17503,23,17507,null,null,0,1222]
[12,17601,23,17609,24,17613,14,17617,null,null,0,1221]
[21,17718,12,17724,24,17731,23,17739,null,null,0,2122]
[12,17832,23,17834,24,17838,23,17844,null,null,0,1222]
[12,17938,23,17949,13,17954,23,17956,null,null,0,1212]
[21,18055,21,18062,22,18068,23,18078,null,null,0,2222]
[21,18170,21,18173,22,18181,14,18184,null,null,0,2221]
[12,18277,23,18286,24,18288,14,18291,null,null,0,1221]
[21,18388,21,18392,22,18398,23,18408,null,null,0,2222]
[21,18504,21,18511,22,18520,23,18527,null,null,0,2222]
[12,18622,23,18624,24,18630,23,18634,null,null,0,1222]
[21,18730,12,18738,24,18742,23,18751,null,null,0,2122]
[21,18849,12,18852,24,18854,14,18856,null,null,0,2121]
[12,18949,23,18952,24,18954,23,18956,null,null,0,1222]
[21,19062,12,19072,24,19075,23,19080,null,null,0,2122]
[21,19178,21,19184,11,19187,21,19195,null,null,0,2212]
[12,19476,23,19480,24,19488,23,19497,null,null,0,1222]
[21,19593,21,19595,22,19599,14,19603,null,null,0,2221]
[21,19700,21,19710,11,19713,21,19717,null,null,0,2212]
[21,19836,21,19843,22,19849,23,19854,null,null,0,2222]
[21,19951,12,19956,24,19968,23,19977,null,null,0,2122]
[21,20075,21,20077,22,20083,23,20089,null,null,0,2222]
[12,20183,23,20189,24,20194,14,20197,null,null,0,1221]
[21,20293,21,20304,11,20306,21,20310,null,null,0,2212]
[21,20514,21,20523,22,20529,23,20537,null,null,0,2222]
[21,20640,21,20644,11,20648,21,20650,null,null,0,2212]
[21,20806,21,20818,22,20827,23,20834,null,null,0,2222]
[21,20930,12,20933,24,20951,23,20959,null,null,0,2122]
[21,21055,12,21061,24,21067,23,21074,null,null,0,2122]
[12,21170,23,21175,24,21179,23,21184,null,null,0,1222]
[21,21279,21,21283,11,21285,21,21290,null,null,0,2212]
[21,21436,21,21442,22,21451,23,21458,null,null,0,2222]
[21,21554,12,21558,24,21563,23,21571,null,null,0,2122]
[21,21667,21,21670,22,21674,14,21679,null,null,0,2221]
[21,21776,21,21780,22,21785,23,21792,null,null,0,2222]
[21,21890,12,21896,24,21905,23,21912,null,null,0,2122]
[21,22008,21,22011,22,22016,23,22020,null,null,0,2222]
[21,22116,21,22122,11,22125,21,22127,null,null,0,2212]
[12,22279,23,22289,24,22298,23,22304,null,null,0,1222]
[12,22398,23,22402,24,22405,14,22409,null,null,0,1221]
[21,22507,21,22512,22,22516,23,22522,null,null,0,2222]
[21,22617,21,22623,22,22627,23,22632,null,null,0,2222]
[21,22731,21,22733,11,22737,21,22745,null,null,0,2212]
[21,22873,21,22879,22,22887,23,22893,null,null,0,2222]
[21,22994,21,22999,22,23016,23,23026,null,null,0,2222]
[12,23119,23,23124,24,23127,23,23131,null,null,0,1222]
[21,23227,12,23233,24,23238,23,23246,null,null,0,2122]
[21,23343,21,23345,11,23347,21,23350,null,null,0,2212]
[21,23998,null,null,null,null,null,null,null,null,null,2]

{"sheet":"!M721B50.Gus","index":32,"n_rows":181,"n_cols":48,"rows_kept":181,"cut":false,"hidden":false,"merged":[[4,39,4,42],[5,39,5,40],[4,44,4,47],[5,44,5,45],[4,24,4,27],[5,24,5,25],[4,29,4,32],[5,29,5,30],[4,34,4,37],[5,34,5,35],[1,1,1,2],[5,13,5,14],[26,13,26,14],[27,13,27,14],[4,19,4,22],[5,19,5,20]]}
["Report for:!M721B50.Gus"]
["Date:","<date>"]
["Hen:","<hen>",null,null,null,"Correct Sequence",{"$f":"Start!J2","v":2212},null,null,null,null,null,null,null,null,"Total Sequences in Data",{"$f":"4994-COUNTBLANK(L7:L5000)","v":175},null,null,null,null,"Total Sequences in Block Data",{"$f":"COUNTA(L7:L35)","v":29},null,null,null,"Total Sequences in Block Data",{"$f":"COUNTA(L36:L64)","v":29},null,null,null,"Total Sequences in Block Data",{"$f":"COUNTA(L65:L94)","v":30},null,null,null,"Total Sequences in Block Data",{"$f":"COUNTA(L95:L123)","v":29},null,null,null,"Total Sequences in Block Data",{"$f":"COUNTA(L124:L152)","v":29},null,null,null,"Total Sequences in Block Data",{"$f":"COUNTA(L153:L181)","v":29}]
[null,null,null,null,null,null,null,null,null,null,null,null,null,null,null,"Total Sequences in Summary",{"$f":"SUM(O7:O22)","v":175},null,null,null,null,"Total Sequences in Block Summary",{"$f":"SUM(U7:U22)","v":29},null,null,null,"Total Sequences in Block Summary",{"$f":"SUM(Z7:Z22)","v":29},null,null,null,"Total Sequences in Block Summary",{"$f":"SUM(AE7:AE22)","v":30},null,null,null,"Total Sequences in Block Summary",{"$f":"SUM(AJ7:AJ22)","v":29},null,null,null,"Total Sequences in Block Summary",{"$f":"SUM(AO7:AO22)","v":29},null,null,null,"Total Sequences in Block Summary",{"$f":"SUM(AT7:AT22)","v":29}]
[null,null,null,null,null,null,null,null,null,null,null,null,null,null,null,null,null,null,null,"Block 1",null,null,null,null,"Block 2",null,null,null,null,"Block 3",null,null,null,null,"Block 4",null,null,null,null,"Block 5",null,null,null,null,"Block 6"]
["Sequence\nComponent\n1","Time\n1","Sequence\nComponent\n2","Time\n2","Sequence\nComponent\n3","Time\n3","Sequence\nComponent\n4","Time\n4","Sequence\nComponent\n5","Time\n5","Correct?\n0=No 1=Yes","Sequence",null,"Frequency",null,"Relative Frequency","Variability",null,null,"Frequency",null,"Relative Frequency","Variability",null,"Frequency",null,"Relative Frequency","Variability",null,"Frequency",null,"Relative Frequency","Variability",null,"Frequency",null,"Relative Frequency","Variability",null,"Frequency",null,"Relative Frequency","Variability",null,"Frequency",null,"Relative Frequency","Variability"]
[12,43,23,50,24,56,23,61,null,null,0,1222,null,1111,{"$f":"COUNTIF($L$7:$L$500,N7)","v":0},{"$f":"O7/$Q$4","v":0},{"$f":"IF(P7=0,0,(P7*((LOG(P7))/LOG(2))))","v":0},null,null,{"$f":"N7","v":1111},{"$f":"COUNTIF(L7:L35,T7)","v":0},{"$f":"U7/(W4-U20)","v":0},{"$f":"IF(V7=0,0,(V7*((LOG(V7))/LOG(2))))","v":0},null,{"$f":"N7","v":1111},{"$f":"COUNTIF(L36:L64,Y7)","v":0},{"$f":"Z7/(AB4-Z20)","v":0},{"$f":"IF(AA7=0,0,(AA7*((LOG(AA7))/LOG(2))))","v":0},null,{"$f":"N7","v":1111},{"$f":"COUNTIF(L65:L94,AD7)","v":0},{"$f":"AE7/(AG4-AE20)","v":0},{"$f":"IF(AF7=0,0,(AF7*((LOG(AF7))/LOG(2))))","v":0},null,{"$f":"N7","v":1111},{"$f":"COUNTIF(L95:L123,AI7)","v":0},{"$f":"AJ7/(AL4-AJ20)","v":0},{"$f":"IF(AK7=0,0,(AK7*((LOG(AK7))/LOG(2))))","v":0},null,{"$f":"N7","v":1111},{"$f":"COUNTIF(L124:L152,AN7)","v":0},{"$f":"AO7/(AQ4-AO20)","v":0},{"$f":"IF(AP7=0,0,(AP7*((LOG(AP7))/LOG(2))))","v":0},null,{"$f":"N7","v":1111},{"$f":"COUNTIF(L153:L181,AS7)","v":0},{"$f":"AT7/(AV4-AT20)","v":0},{"$f":"IF(AU7=0,0,(AU7*((LOG(AU7))/LOG(2))))","v":0}]
[21,159,12,166,24,170,23,175,null,null,0,2122,null,1112,{"$f":"COUNTIF($L$7:$L$500,N8)","v":0},{"$f":"O8/$Q$4","v":0},{"$f":"IF(P8=0,0,(P8*((LOG(P8))/LOG(2))))","v":0},null,null,{"$f":"N8","v":1112},{"$f":"COUNTIF(L7:L35,T8)","v":0},{"$f":"U8/(W4-U20)","v":0},{"$f":"IF(V8=0,0,(V8*((LOG(V8))/LOG(2))))","v":0},null,{"$f":"N8","v":1112},{"$f":"COUNTIF(L36:L64,Y8)","v":0},{"$f":"Z8/(AB4-Z20)","v":0},{"$f":"IF(AA8=0,0,(AA8*((LOG(AA8))/LOG(2))))","v":0},null,{"$f":"N8","v":1112},{"$f":"COUNTIF(L65:L94,AD8)","v":0},{"$f":"AE8/(AG4-AE20)","v":0},{"$f":"IF(AF8=0,0,(AF8*((LOG(AF8))/LOG(2))))","v":0},null,{"$f":"N8","v":1112},{"$f":"COUNTIF(L95:L123,AI8)","v":0},{"$f":"AJ8/(AL4-AJ20)","v":0},{"$f":"IF(AK8=0,0,(AK8*((LOG(AK8))/LOG(2))))","v":0},null,{"$f":"N8","v":1112},{"$f":"COUNTIF(L124:L152,AN8)","v":0},{"$f":"AO8/(AQ4-AO20)","v":0},{"$f":"IF(AP8=0,0,(AP8*((LOG(AP8))/LOG(2))))","v":0},null,{"$f":"N8","v":1112},{"$f":"COUNTIF(L153:L181,AS8)","v":0},{"$f":"AT8/(AV4-AT20)","v":0},{"$f":"IF(AU8=0,0,(AU8*((LOG(AU8))/LOG(2))))","v":0}]
[21,284,21,289,22,297,23,304,null,null,0,2222,null,1121,{"$f":"COUNTIF($L$7:$L$500,N9)","v":0},{"$f":"O9/$Q$4","v":0},{"$f":"IF(P9=0,0,(P9*((LOG(P9))/LOG(2))))","v":0},null,null,{"$f":"N9","v":1121},{"$f":"COUNTIF(L7:L35,T9)","v":0},{"$f":"U9/(W4-U20)","v":0},{"$f":"IF(V9=0,0,(V9*((LOG(V9))/LOG(2))))","v":0},null,{"$f":"N9","v":1121},{"$f":"COUNTIF(L36:L64,Y9)","v":0},{"$f":"Z9/(AB4-Z20)","v":0},{"$f":"IF(AA9=0,0,(AA9*((LOG(AA9))/LOG(2))))","v":0},null,{"$f":"N9","v":1121},{"$f":"COUNTIF(L65:L94,AD9)","v":0},{"$f":"AE9/(AG4-AE20)","v":0},{"$f":"IF(AF9=0,0,(AF9*((LOG(AF9))/LOG(2))))","v":0},null,{"$f":"N9","v":1121},{"$f":"COUNTIF(L95:L123,AI9)","v":0},{"$f":"AJ9/(AL4-AJ20)","v":0},{"$f":"IF(AK9=0,0,(AK9*((LOG(AK9))/LOG(2))))","v":0},null,{"$f":"N9","v":1121},{"$f":"COUNTIF(L124:L152,AN9)","v":0},{"$f":"AO9/(AQ4-AO20)","v":0},{"$f":"IF(AP9=0,0,(AP9*((LOG(AP9))/LOG(2))))","v":0},null,{"$f":"N9","v":1121},{"$f":"COUNTIF(L153:L181,AS9)","v":0},{"$f":"AT9/(AV4-AT20)","v":0},{"$f":"IF(AU9=0,0,(AU9*((LOG(AU9))/LOG(2))))","v":0}]
[21,403,12,409,24,417,23,428,null,null,0,2122,null,1122,{"$f":"COUNTIF($L$7:$L$500,N10)","v":1},{"$f":"O10/$Q$4","v":5.7142857142857143E-3},{"$f":"IF(P10=0,0,(P10*((LOG(P10))/LOG(2))))","v":-4.2578349210470448E-2},null,null,{"$f":"N10","v":1122},{"$f":"COUNTIF(L7:L35,T10)","v":0},{"$f":"U10/(W4-U20)","v":0},{"$f":"IF(V10=0,0,(V10*((LOG(V10))/LOG(2))))","v":0},null,{"$f":"N10","v":1122},{"$f":"COUNTIF(L36:L64,Y10)","v":0},{"$f":"Z10/(AB4-Z20)","v":0},{"$f":"IF(AA10=0,0,(AA10*((LOG(AA10))/LOG(2))))","v":0},null,{"$f":"N10","v":1122},{"$f":"COUNTIF(L65:L94,AD10)","v":1},{"$f":"AE10/(AG4-AE20)","v":3.8461538461538464E-2},{"$f":"IF(AF10=0,0,(AF10*((LOG(AF10))/LOG(2))))","v":-0.18078614300542661},null,{"$f":"N10","v":1122},{"$f":"COUNTIF(L95:L123,AI10)","v":0},{"$f":"AJ10/(AL4-AJ20)","v":0},{"$f":"IF(AK10=0,0,(AK10*((LOG(AK10))/LOG(2))))","v":0},null,{"$f":"N10","v":1122},{"$f":"COUNTIF(L124:L152,AN10)","v":0},{"$f":"AO10/(AQ4-AO20)","v":0},{"$f":"IF(AP10=0,0,(AP10*((LOG(AP10))/LOG(2))))","v":0},null,{"$f":"N10","v":1122},{"$f":"COUNTIF(L153:L181,AS10)","v":0},{"$f":"AT10/(AV4-AT20)","v":0},{"$f":"IF(AU10=0,0,(AU10*((LOG(AU10))/LOG(2))))","v":0}]
[21,525,12,528,24,531,23,536,null,null,0,2122,null,1211,{"$f":"COUNTIF($L$7:$L$500,N11)","v":0},{"$f":"O11/$Q$4","v":0},{"$f":"IF(P11=0,0,(P11*((LOG(P11))/LOG(2))))","v":0},null,null,{"$f":"N11","v":1211},{"$f":"COUNTIF(L7:L35,T11)","v":0},{"$f":"U11/(W4-U20)","v":0},{"$f":"IF(V11=0,0,(V11*((LOG(V11))/LOG(2))))","v":0},null,{"$f":"N11","v":1211},{"$f":"COUNTIF(L36:L64,Y11)","v":0},{"$f":"Z11/(AB4-Z20)","v":0},{"$f":"IF(AA11=0,0,(AA11*((LOG(AA11))/LOG(2))))","v":0},null,{"$f":"N11","v":1211},{"$f":"COUNTIF(L65:L94,AD11)","v":0},{"$f":"AE11/(AG4-AE20)","v":0},{"$f":"IF(AF11=0,0,(AF11*((LOG(AF11))/LOG(2))))","v":0},null,{"$f":"N11","v":1211},{"$f":"COUNTIF(L95:L123,AI11)","v":0},{"$f":"AJ11/(AL4-AJ20)","v":0},{"$f":"IF(AK11=0,0,(AK11*((LOG(AK11))/LOG(2))))","v":0},null,{"$f":"N11","v":1211},{"$f":"COUNTIF(L124:L152,AN11)","v":0},{"$f":"AO11/(AQ4-AO20)","v":0},{"$f":"IF(AP11=0,0,(AP11*((LOG(AP11))/LOG(2))))","v":0},null,{"$f":"N11","v":1211},{"$f":"COUNTIF(L153:L181,AS11)","v":0},{"$f":"AT11/(AV4-AT20)","v":0},{"$f":"IF(AU11=0,0,(AU11*((LOG(AU11))/LOG(2))))","v":0}]
[12,628,23,639,24,641,14,644,null,null,0,1221,null,1212,{"$f":"COUNTIF($L$7:$L$500,N12)","v":5},{"$f":"O12/$Q$4","v":2.8571428571428571E-2},{"$f":"IF(P12=0,0,(P12*((LOG(P12))/LOG(2))))","v":-0.14655094334128474},null,null,{"$f":"N12","v":1212},{"$f":"COUNTIF(L7:L35,T12)","v":1},{"$f":"U12/(W4-U20)","v":4.1666666666666664E-2},{"$f":"IF(V12=0,0,(V12*((LOG(V12))/LOG(2))))","v":-0.19104010419671485},null,{"$f":"N12","v":1212},{"$f":"COUNTIF(L36:L64,Y12)","v":0},{"$f":"Z12/(AB4-Z20)","v":0},{"$f":"IF(AA12=0,0,(AA12*((LOG(AA12))/LOG(2))))","v":0},null,{"$f":"N12","v":1212},{"$f":"COUNTIF(L65:L94,AD12)","v":1},{"$f":"AE12/(AG4-AE20)","v":3.8461538461538464E-2},{"$f":"IF(AF12=0,0,(AF12*((LOG(AF12))/LOG(2))))","v":-0.18078614300542661},null,{"$f":"N12","v":1212},{"$f":"COUNTIF(L95:L123,AI12)","v":2},{"$f":"AJ12/(AL4-AJ20)","v":0.08},{"$f":"IF(AK12=0,0,(AK12*((LOG(AK12))/LOG(2))))","v":-0.29150849518197797},null,{"$f":"N12","v":1212},{"$f":"COUNTIF(L124:L152,AN12)","v":0},{"$f":"AO12/(AQ4-AO20)","v":0},{"$f":"IF(AP12=0,0,(AP12*((LOG(AP12))/LOG(2))))","v":0},null,{"$f":"N12","v":1212},{"$f":"COUNTIF(L153:L181,AS12)","v":1},{"$f":"AT12/(AV4-AT20)","v":4.3478260869565216E-2},{"$f":"IF(AU12=0,0,(AU12*((LOG(AU12))/LOG(2))))","v":-0.19667660678508753}]
[21,746,12,751,24,754,23,759,null,null,0,2122,null,1221,{"$f":"COUNTIF($L$7:$L$500,N13)","v":10},{"$f":"O13/$Q$4","v":5.7142857142857141E-2},{"$f":"IF(P13=0,0,(P13*((LOG(P13))/LOG(2))))","v":-0.23595902953971234},null,null,{"$f":"N13","v":1221},{"$f":"COUNTIF(L7:L35,T13)","v":1},{"$f":"U13/(W4-U20)","v":4.1666666666666664E-2},{"$f":"IF(V13=0,0,(V13*((LOG(V13))/LOG(2))))","v":-0.19104010419671485},null,{"$f":"N13","v":1221},{"$f":"COUNTIF(L36:L64,Y13)","v":0},{"$f":"Z13/(AB4-Z20)","v":0},{"$f":"IF(AA13=0,0,(AA13*((LOG(AA13))/LOG(2))))","v":0},null,{"$f":"N13","v":1221},{"$f":"COUNTIF(L65:L94,AD13)","v":2},{"$f":"AE13/(AG4-AE20)","v":7.6923076923076927E-2},{"$f":"IF(AF13=0,0,(AF13*((LOG(AF13))/LOG(2))))","v":-0.28464920908777636},null,{"$f":"N13","v":1221},{"$f":"COUNTIF(L95:L123,AI13)","v":2},{"$f":"AJ13/(AL4-AJ20)","v":0.08},{"$f":"IF(AK13=0,0,(AK13*((LOG(AK13))/LOG(2))))","v":-0.29150849518197797},null,{"$f":"N13","v":1221},{"$f":"COUNTIF(L124:L152,AN13)","v":2},{"$f":"AO13/(AQ4-AO20)","v":7.407407407407407E-2},{"$f":"IF(AP13=0,0,(AP13*((LOG(AP13))/LOG(2))))","v":-0.27813981497507173},null,{"$f":"N13","v":1221},{"$f":"COUNTIF(L153:L181,AS13)","v":3},{"$f":"AT13/(AV4-AT20)","v":0.13043478260869565},{"$f":"IF(AU13=0,0,(AU13*((LOG(AU13))/LOG(2))))","v":-0.3832955811307639}]
[21,857,12,864,24,869,23,877,null,null,0,2122,null,1222,{"$f":"COUNTIF($L$7:$L$500,N14)","v":21},{"$f":"O14/$Q$4","v":0.12},{"$f":"IF(P14=0,0,(P14*((LOG(P14))/LOG(2))))","v":-0.36706724268642821},null,null,{"$f":"N14","v":1222},{"$f":"COUNTIF(L7:L35,T14)","v":5},{"$f":"U14/(W4-U20)","v":0.20833333333333334},{"$f":"IF(V14=0,0,(V14*((LOG(V14))/LOG(2))))","v":-0.47146550121537367},null,{"$f":"N14","v":1222},{"$f":"COUNTIF(L36:L64,Y14)","v":2},{"$f":"Z14/(AB4-Z20)","v":0.11764705882352941},{"$f":"IF(AA14=0,0,(AA14*((LOG(AA14))/LOG(2))))","v":-0.36323092250003997},null,{"$f":"N14","v":1222},{"$f":"COUNTIF(L65:L94,AD14)","v":2},{"$f":"AE14/(AG4-AE20)","v":7.6923076923076927E-2},{"$f":"IF(AF14=0,0,(AF14*((LOG(AF14))/LOG(2))))","v":-0.28464920908777636},null,{"$f":"N14","v":1222},{"$f":"COUNTIF(L95:L123,AI14)","v":2},{"$f":"AJ14/(AL4-AJ20)","v":0.08},{"$f":"IF(AK14=0,0,(AK14*((LOG(AK14))/LOG(2))))","v":-0.29150849518197797},null,{"$f":"N14","v":1222},{"$f":"COUNTIF(L124:L152,AN14)","v":7},{"$f":"AO14/(AQ4-AO20)","v":0.25925925925925924},{"$f":"IF(AP14=0,0,(AP14*((LOG(AP14))/LOG(2))))","v":-0.5049158541015204},null,{"$f":"N14","v":1222},{"$f":"COUNTIF(L153:L181,AS14)","v":3},{"$f":"AT14/(AV4-AT20)","v":0.13043478260869565},{"$f":"IF(AU14=0,0,(AU14*((LOG(AU14))/LOG(2))))","v":-0.3832955811307639}]
[21,978,12,984,24,989,23,994,null,null,0,2122,null,2111,{"$f":"COUNTIF($L$7:$L$500,N15)","v":0},{"$f":"O15/$Q$4","v":0},{"$f":"IF(P15=0,0,(P15*((LOG(P15))/LOG(2))))","v":0},null,null,{"$f":"N15","v":2111},{"$f":"COUNTIF(L7:L35,T15)","v":0},{"$f":"U15/(W4-U20)","v":0},{"$f":"IF(V15=0,0,(V15*((LOG(V15))/LOG(2))))","v":0},null,{"$f":"N15","v":2111},{"$f":"COUNTIF(L36:L64,Y15)","v":0},{"$f":"Z15/(AB4-Z20)","v":0},{"$f":"IF(AA15=0,0,(AA15*((LOG(AA15))/LOG(2))))","v":0},null,{"$f":"N15","v":2111},{"$f":"COUNTIF(L65:L94,AD15)","v":0},{"$f":"AE15/(AG4-AE20)","v":0},{"$f":"IF(AF15=0,0,(AF15*((LOG(AF15))/LOG(2))))","v":0},null,{"$f":"N15","v":2111},{"$f":"COUNTIF(L95:L123,AI15)","v":0},{"$f":"AJ15/(AL4-AJ20)","v":0},{"$f":"IF(AK15=0,0,(AK15*((LOG(AK15))/LOG(2))))","v":0},null,{"$f":"N15","v":2111},{"$f":"COUNTIF(L124:L152,AN15)","v":0},{"$f":"AO15/(AQ4-AO20)","v":0},{"$f":"IF(AP15=0,0,(AP15*((LOG(AP15))/LOG(2))))","v":0},null,{"$f":"N15","v":2111},{"$f":"COUNTIF(L153:L181,AS15)","v":0},{"$f":"AT15/(AV4-AT20)","v":0},{"$f":"IF(AU15=0,0,(AU15*((LOG(AU15))/LOG(2))))","v":0}]
[21,1093,21,1095,11,1098,21,1103,null,null,0,2212,null,2112,{"$f":"COUNTIF($L$7:$L$500,N16)","v":0},{"$f":"O16/$Q$4","v":0},{"$f":"IF(P16=0,0,(P16*((LOG(P16))/LOG(2))))","v":0},null,null,{"$f":"N16","v":2112},{"$f":"COUNTIF(L7:L35,T16)","v":0},{"$f":"U16/(W4-U20)","v":0},{"$f":"IF(V16=0,0,(V16*((LOG(V16))/LOG(2))))","v":0},null,{"$f":"N16","v":2112},{"$f":"COUNTIF(L36:L64,Y16)","v":0},{"$f":"Z16/(AB4-Z20)","v":0},{"$f":"IF(AA16=0,0,(AA16*((LOG(AA16))/LOG(2))))","v":0},null,{"$f":"N16","v":2112},{"$f":"COUNTIF(L65:L94,AD16)","v":0},{"$f":"AE16/(AG4-AE20)","v":0},{"$f":"IF(AF16=0,0,(AF16*((LOG(AF16))/LOG(2))))","v":0},null,{"$f":"N16","v":2112},{"$f":"COUNTIF(L95:L123,AI16)","v":0},{"$f":"AJ16/(AL4-AJ20)","v":0},{"$f":"IF(AK16=0,0,(AK16*((LOG(AK16))/LOG(2))))","v":0},null,{"$f":"N16","v":2112},{"$f":"COUNTIF(L124:L152,AN16)","v":0},{"$f":"AO16/(AQ4-AO20)","v":0},{"$f":"IF(AP16=0,0,(AP16*((LOG(AP16))/LOG(2))))","v":0},null,{"$f":"N16","v":2112},{"$f":"COUNTIF(L153:L181,AS16)","v":0},{"$f":"AT16/(AV4-AT20)","v":0},{"$f":"IF(AU16=0,0,(AU16*((LOG(AU16))/LOG(2))))","v":0}]
[21,1304,21,1319,22,1327,23,1341,null,null,0,2222,null,2121,{"$f":"COUNTIF($L$7:$L$500,N17)","v":0},{"$f":"O17/$Q$4","v":0},{"$f":"IF(P17=0,0,(P17*((LOG(P17))/LOG(2))))","v":0},null,null,{"$f":"N17","v":2121},{"$f":"COUNTIF(L7:L35,T17)","v":0},{"$f":"U17/(W4-U20)","v":0},{"$f":"IF(V17=0,0,(V17*((LOG(V17))/LOG(2))))","v":0},null,{"$f":"N17","v":2121},{"$f":"COUNTIF(L36:L64,Y17)","v":0},{"$f":"Z17/(AB4-Z20)","v":0},{"$f":"IF(AA17=0,0,(AA17*((LOG(AA17))/LOG(2))))","v":0},null,{"$f":"N17","v":2121},{"$f":"COUNTIF(L65:L94,AD17)","v":0},{"$f":"AE17/(AG4-AE20)","v":0},{"$f":"IF(AF17=0,0,(AF17*((LOG(AF17))/LOG(2))))","v":0},null,{"$f":"N17","v":2121},{"$f":"COUNTIF(L95:L123,AI17)","v":0},{"$f":"AJ17/(AL4-AJ20)","v":0},{"$f":"IF(AK17=0,0,(AK17*((LOG(AK17))/LOG(2))))","v":0},null,{"$f":"N17","v":2121},{"$f":"COUNTIF(L124:L152,AN17)","v":0},{"$f":"AO17/(AQ4-AO20)","v":0},{"$f":"IF(AP17=0,0,(AP17*((LOG(AP17))/LOG(2))))","v":0},null,{"$f":"N17","v":2121},{"$f":"COUNTIF(L153:L181,AS17)","v":0},{"$f":"AT17/(AV4-AT20)","v":0},{"$f":"IF(AU17=0,0,(AU17*((LOG(AU17))/LOG(2))))","v":0}]
[12,1435,23,1439,13,1444,23,1446,null,null,0,1212,null,2122,{"$f":"COUNTIF($L$7:$L$500,N18)","v":49},{"$f":"O18/$Q$4","v":0.28000000000000003},{"$f":"IF(P18=0,0,(P18*((LOG(P18))/LOG(2))))","v":-0.51422035496079388},null,null,{"$f":"N18","v":2122},{"$f":"COUNTIF(L7:L35,T18)","v":12},{"$f":"U18/(W4-U20)","v":0.5},{"$f":"IF(V18=0,0,(V18*((LOG(V18))/LOG(2))))","v":-0.5},null,{"$f":"N18","v":2122},{"$f":"COUNTIF(L36:L64,Y18)","v":9},{"$f":"Z18/(AB4-Z20)","v":0.52941176470588236},{"$f":"IF(AA18=0,0,(AA18*((LOG(AA18))/LOG(2))))","v":-0.48575532695719081},null,{"$f":"N18","v":2122},{"$f":"COUNTIF(L65:L94,AD18)","v":7},{"$f":"AE18/(AG4-AE20)","v":0.26923076923076922},{"$f":"IF(AF18=0,0,(AF18*((LOG(AF18))/LOG(2))))","v":-0.50967667586863141},null,{"$f":"N18","v":2122},{"$f":"COUNTIF(L95:L123,AI18)","v":6},{"$f":"AJ18/(AL4-AJ20)","v":0.24},{"$f":"IF(AK18=0,0,(AK18*((LOG(AK18))/LOG(2))))","v":-0.49413448537285637},null,{"$f":"N18","v":2122},{"$f":"COUNTIF(L124:L152,AN18)","v":5},{"$f":"AO18/(AQ4-AO20)","v":0.18518518518518517},{"$f":"IF(AP18=0,0,(AP18*((LOG(AP18))/LOG(2))))","v":-0.45054803838446406},null,{"$f":"N18","v":2122},{"$f":"COUNTIF(L153:L181,AS18)","v":10},{"$f":"AT18/(AV4-AT20)","v":0.43478260869565216},{"$f":"IF(AU18=0,0,(AU18*((LOG(AU18))/LOG(2))))","v":-0.52244950485636987}]
[21,1546,21,1549,11,1554,21,1556,null,null,0,2212,null,2211,{"$f":"COUNTIF($L$7:$L$500,N19)","v":2},{"$f":"O19/$Q$4","v":1.1428571428571429E-2},{"$f":"IF(P19=0,0,(P19*((LOG(P19))/LOG(2))))","v":-7.3728126992369469E-2},null,null,{"$f":"N19","v":2211},{"$f":"COUNTIF(L7:L35,T19)","v":0},{"$f":"U19/(W4-U20)","v":0},{"$f":"IF(V19=0,0,(V19*((LOG(V19))/LOG(2))))","v":0},null,{"$f":"N19","v":2211},{"$f":"COUNTIF(L36:L64,Y19)","v":1},{"$f":"Z19/(AB4-Z20)","v":5.8823529411764705E-2},{"$f":"IF(AA19=0,0,(AA19*((LOG(AA19))/LOG(2))))","v":-0.24043899066178465},null,{"$f":"N19","v":2211},{"$f":"COUNTIF(L65:L94,AD19)","v":1},{"$f":"AE19/(AG4-AE20)","v":3.8461538461538464E-2},{"$f":"IF(AF19=0,0,(AF19*((LOG(AF19))/LOG(2))))","v":-0.18078614300542661},null,{"$f":"N19","v":2211},{"$f":"COUNTIF(L95:L123,AI19)","v":0},{"$f":"AJ19/(AL4-AJ20)","v":0},{"$f":"IF(AK19=0,0,(AK19*((LOG(AK19))/LOG(2))))","v":0},null,{"$f":"N19","v":2211},{"$f":"COUNTIF(L124:L152,AN19)","v":0},{"$f":"AO19/(AQ4-AO20)","v":0},{"$f":"IF(AP19=0,0,(AP19*((LOG(AP19))/LOG(2))))","v":0},null,{"$f":"N19","v":2211},{"$f":"COUNTIF(L153:L181,AS19)","v":0},{"$f":"AT19/(AV4-AT20)","v":0},{"$f":"IF(AU19=0,0,(AU19*((LOG(AU19))/LOG(2))))","v":0}]
[21,1665,12,1669,24,1681,23,1689,null,null,0,2122,null,2212,{"$f":"COUNTIF($L$7:$L$500,N20)","v":33},{"$f":"O20/$Q$4","v":0.18857142857142858},{"$f":"IF(P20=0,0,(P20*((LOG(P20))/LOG(2))))","v":-0.45385691858078792},null,null,{"$f":"N20","v":2212},{"$f":"COUNTIF(L7:L35,T20)","v":5},null,null,null,{"$f":"N20","v":2212},{"$f":"COUNTIF(L36:L64,Y20)","v":12},null,null,null,{"$f":"N20","v":2212},{"$f":"COUNTIF(L65:L94,AD20)","v":4},null,null,null,{"$f":"N20","v":2212},{"$f":"COUNTIF(L95:L123,AI20)","v":4},null,null,null,{"$f":"N20","v":2212},{"$f":"COUNTIF(L124:L152,AN20)","v":2},null,null,null,{"$f":"N20","v":2212},{"$f":"COUNTIF(L153:L181,AS20)","v":6}]
[12,1792,23,1796,24,1803,23,1809,null,null,0,1222,null,2221,{"$f":"COUNTIF($L$7:$L$500,N21)","v":17},{"$f":"O21/$Q$4","v":9.7142857142857142E-2},{"$f":"IF(P21=0,0,(P21*((LOG(P21))/LOG(2))))","v":-0.32676411771367897},null,null,{"$f":"N21","v":2221},{"$f":"COUNTIF(L7:L35,T21)","v":0},{"$f":"U21/(W4-U20)","v":0},{"$f":"IF(V21=0,0,(V21*((LOG(V21))/LOG(2))))","v":0},null,{"$f":"N21","v":2221},{"$f":"COUNTIF(L36:L64,Y21)","v":0},{"$f":"Z21/(AB4-Z20)","v":0},{"$f":"IF(AA21=0,0,(AA21*((LOG(AA21))/LOG(2))))","v":0},null,{"$f":"N21","v":2221},{"$f":"COUNTIF(L65:L94,AD21)","v":4},{"$f":"AE21/(AG4-AE20)","v":0.15384615384615385},{"$f":"IF(AF21=0,0,(AF21*((LOG(AF21))/LOG(2))))","v":-0.4154522643293988},null,{"$f":"N21","v":2221},{"$f":"COUNTIF(L95:L123,AI21)","v":5},{"$f":"AJ21/(AL4-AJ20)","v":0.2},{"$f":"IF(AK21=0,0,(AK21*((LOG(AK21))/LOG(2))))","v":-0.46438561897747244},null,{"$f":"N21","v":2221},{"$f":"COUNTIF(L124:L152,AN21)","v":7},{"$f":"AO21/(AQ4-AO20)","v":0.25925925925925924},{"$f":"IF(AP21=0,0,(AP21*((LOG(AP21))/LOG(2))))","v":-0.5049158541015204},null,{"$f":"N21","v":2221},{"$f":"COUNTIF(L153:L181,AS21)","v":1},{"$f":"AT21/(AV4-AT20)","v":4.3478260869565216E-2},{"$f":"IF(AU21=0,0,(AU21*((LOG(AU21))/LOG(2))))","v":-0.19667660678508753}]
[21,1909,12,1915,24,1918,23,1926,null,null,0,2122,null,2222,{"$f":"COUNTIF($L$7:$L$500,N22)","v":37},{"$f":"O22/$Q$4","v":0.21142857142857144},{"$f":"IF(P22=0,0,(P22*((LOG(P22))/LOG(2))))","v":-0.47397163776871443},null,null,{"$f":"N22","v":2222},{"$f":"COUNTIF(L7:L35,T22)","v":5},{"$f":"U22/(W4-U20)","v":0.20833333333333334},{"$f":"IF(V22=0,0,(V22*((LOG(V22))/LOG(2))))","v":-0.47146550121537367},null,{"$f":"N22","v":2222},{"$f":"COUNTIF(L36:L64,Y22)","v":5},{"$f":"Z22/(AB4-Z20)","v":0.29411764705882354},{"$f":"IF(AA22=0,0,(AA22*((LOG(AA22))/LOG(2))))","v":-0.51927492540087561},null,{"$f":"N22","v":2222},{"$f":"COUNTIF(L65:L94,AD22)","v":8},{"$f":"AE22/(AG4-AE20)","v":0.30769230769230771},{"$f":"IF(AF22=0,0,(AF22*((LOG(AF22))/LOG(2))))","v":-0.52321222096648989},null,{"$f":"N22","v":2222},{"$f":"COUNTIF(L95:L123,AI22)","v":8},{"$f":"AJ22/(AL4-AJ20)","v":0.32},{"$f":"IF(AK22=0,0,(AK22*((LOG(AK22))/LOG(2))))","v":-0.52603398072791185},null,{"$f":"N22","v":2222},{"$f":"COUNTIF(L124:L152,AN22)","v":6},{"$f":"AO22/(AQ4-AO20)","v":0.22222222222222221},{"$f":"IF(AP22=0,0,(AP22*((LOG(AP22))/LOG(2))))","v":-0.48220555587606945},null,{"$f":"N22","v":2222},{"$f":"COUNTIF(L153:L181,AS22)","v":5},{"$f":"AT22/(AV4-AT20)","v":0.21739130434782608},{"$f":"IF(AU22=0,0,(AU22*((LOG(AU22))/LOG(2))))","v":-0.47861605677601093}]
[21,2027,21,2031,11,2032,21,2043,null,null,0,2212,null,null,null,{"$f":"SUM(P7:P22)","v":1.0000000000000002},{"$f":"-SUM(Q7:Q22)","v":2.6346967207942407},null,null,null,null,{"$f":"SUM(V7:V22)","v":1},{"$f":"-SUM(W7:W22)","v":1.8250112108241769},null,null,null,{"$f":"SUM(AA7:AA22)","v":1},{"$f":"-SUM(AB7:AB22)","v":1.6087001655198909},null,null,null,{"$f":"SUM(AF7:AF22)","v":1},{"$f":"-SUM(AG7:AG22)","v":2.5599980083563527},null,null,null,{"$f":"SUM(AK7:AK22)","v":1},{"$f":"-SUM(AL7:AL22)","v":2.3590795706241745},null,null,null,{"$f":"SUM(AP7:AP22)","v":0.99999999999999989},{"$f":"-SUM(AQ7:AQ22)","v":2.2207251174386462},null,null,null,{"$f":"SUM(AU7:AU22)","v":0.99999999999999989},{"$f":"-SUM(AV7:AV22)","v":2.1610099374640841}]
[12,2181,23,2188,24,2195,23,2201,null,null,0,1222,null,null,null,"U=",{"$f":"Q23/(LOG(Q4)/LOG(2))","v":0.35359308456720695},null,null,null,null,"U1=",{"$f":"W23/(LOG(W4)/LOG(2))","v":0.37567277695293899},null,null,null,"U2=",{"$f":"AB23/(LOG(AB4)/LOG(2))","v":0.33114583345084619},null,null,null,"U3=",{"$f":"AG23/(LOG(AG4)/LOG(2))","v":0.52171491466458497},null,null,null,"U4=",{"$f":"AL23/(LOG(AL4)/LOG(2))","v":0.48560905713510816},null,null,null,"U5=",{"$f":"AQ23/(LOG(AQ4)/LOG(2))","v":0.45712923119007165},null,null,null,"U6=",{"$f":"AV23/(LOG(AV4)/LOG(2))","v":0.44483705054250328}]
[12,2358,23,2367,24,2370,23,2375,null,null,0,1222]
[21,2475,12,2480,24,2485,23,2492,null,null,0,2122]
[21,2588,12,2593,24,2597,23,2611,null,null,0,2122,null,"Total Target Seq"]
[21,2707,21,2713,11,2715,21,2717,null,null,0,2212,null,{"$f":"COUNTIF(L7:L181,G3)","v":33},null,29,29,30,29,29,29]
[21,3063,12,3066,24,3074,23,3082,null,null,0,2122,null,null,null,"% of reinforcement given in 6 equal intervals based on number of trials "]
[12,3178,23,3181,24,3185,23,3194,null,null,0,1222,null,null,null,"%_1","%_2","%_3","%_4","%_5","%_6"]
[21,3295,21,3302,22,3310,23,3320,null,null,0,2222,null,null,"target sequence",{"$f":"$G$3","v":2212},{"$f":"$G$3","v":2212},{"$f":"$G$3","v":2212},{"$f":"$G$3","v":2212},{"$f":"$G$3","v":2212},{"$f":"$G$3","v":2212}]
[21,3416,21,3418,22,3422,23,3428,null,null,0,2222,null,null,"total reinforcement",{"$f":"U20","v":5},{"$f":"Z20","v":12},{"$f":"AE20","v":4},{"$f":"AJ20","v":4},{"$f":"AO20","v":2},{"$f":"AT20","v":6}]
[21,3527,21,3531,11,3536,21,3543,null,null,0,2212,null,null,"% target"]
[21,3724,21,3730,22,3738,23,3746,null,null,0,2222,null,null,"CCRF"]
[21,3844,12,3849,24,3852,23,3858,null,null,0,2122,null,null,"% CCRf"]
[21,3957,21,3960,22,3968,23,3978,null,null,0,2222,null,null,"average response rate",{"$f":"H35/P28","v":133.0344827586207},{"$f":"(H64-H35)/Q28","v":170.48275862068965},{"$f":"(H94-H64)/R28","v":131},{"$f":"(H123-H94)/S28","v":124.82758620689656},{"$f":"(H152-H123)/T28","v":127.06896551724138},{"$f":"(H181-H152)/U28","v":131.27586206896552}]
[21,4074,21,4077,11,4080,21,4083,null,null,0,2212]
[21,4468,12,4471,24,4475,23,4482,null,null,0,2122]
[21,4581,21,4585,11,4594,21,4602,null,null,0,2212]
[21,4830,21,4836,11,4847,12,4853,null,null,0,2211]
[21,4949,12,4955,24,4959,23,4966,null,null,0,2122]
[21,5065,21,5069,11,5071,21,5075,null,null,0,2212]
[21,5432,21,5437,11,5444,21,5450,null,null,0,2212]
[21,5566,21,5580,11,5587,21,5595,null,null,0,2212]
[21,5809,21,5814,11,5819,21,5825,null,null,0,2212]
[21,6031,12,6036,24,6050,23,6059,null,null,0,2122]
[21,6198,12,6203,24,6210,23,6217,null,null,0,2122]
[21,6315,21,6320,22,6325,23,6331,null,null,0,2222]
[12,6423,23,6430,24,6434,23,6439,null,null,0,1222]
[21,6540,21,6544,11,6547,21,6554,null,null,0,2212]
[21,6800,21,6814,22,6822,23,6830,null,null,0,2222]
[21,6926,12,6932,24,6940,23,6948,null,null,0,2122]
[21,7044,21,7052,11,7054,21,7060,null,null,0,2212]
[21,7248,12,7254,24,7260,23,7269,null,null,0,2122]
[21,7366,12,7368,24,7373,23,7378,null,null,0,2122]
[21,7471,21,7475,11,7478,21,7482,null,null,0,2212]
[21,7634,21,7639,22,7660,23,7669,null,null,0,2222]
[12,7770,23,7775,24,7782,23,7788,null,null,0,1222]
[21,7884,21,7887,11,7890,21,7892,null,null,0,2212]
[21,8025,21,8030,22,8042,23,8052,null,null,0,2222]
[21,8147,21,8155,11,8162,21,8169,null,null,0,2212]
[21,8423,21,8427,11,8431,21,8445,null,null,0,2212]
[21,8653,12,8663,24,8682,23,8690,null,null,0,2122]
[21,8785,12,8791,24,8795,23,8802,null,null,0,2122]
[21,8900,12,8911,24,8919,23,8927,null,null,0,2122]
[21,9022,21,9028,22,9035,23,9044,null,null,0,2222]
[12,9136,23,9145,24,9149,23,9155,null,null,0,1222]
[21,9252,21,9255,22,9260,23,9267,null,null,0,2222]
[21,9363,21,9371,22,9376,23,9383,null,null,0,2222]
[21,9478,21,9487,22,9494,23,9501,null,null,0,2222]
[21,9595,12,9604,24,9612,23,9621,null,null,0,2122]
[21,9720,21,9724,22,9728,14,9731,null,null,0,2221]
[21,9827,21,9835,22,9842,23,9853,null,null,0,2222]
[21,9945,21,9949,22,9956,23,9961,null,null,0,2222]
[21,10057,12,10064,24,10070,23,10080,null,null,0,2122]
[21,10177,12,10183,24,10188,23,10195,null,null,0,2122]
[12,10291,23,10295,24,10298,14,10302,null,null,0,1221]
[12,10395,23,10399,24,10401,23,10405,null,null,0,1222]
[21,10500,12,10508,24,10511,23,10518,null,null,0,2122]
[21,10613,21,10617,11,10621,21,10626,null,null,0,2212]
[21,10764,21,10772,11,10778,21,10784,null,null,0,2212]
[21,11033,21,11047,11,11052,12,11057,null,null,0,2211]
[12,11153,23,11156,24,11160,14,11163,null,null,0,1221]
[21,11260,12,11266,24,11275,23,11282,null,null,0,2122]
[21,11374,21,11381,22,11385,14,11390,null,null,0,2221]
[21,11486,21,11492,11,11495,21,11498,null,null,0,2212]
[21,11850,21,11854,22,11860,23,11867,null,null,0,2222]
[21,11963,21,11971,22,11977,23,11984,null,null,0,2222]
[21,12080,21,12089,22,12095,14,12101,null,null,0,2221]
[21,12216,21,12220,11,12223,21,12224,null,null,0,2212]
[21,12382,12,12395,24,12398,23,12405,null,null,0,2122]
[12,12497,14,12503,24,12507,23,12509,null,null,0,1122]
[12,12601,23,12610,13,12614,23,12617,null,null,0,1212]
[21,12713,21,12719,22,12727,14,12732,null,null,0,2221]
[21,12828,12,12834,24,12840,23,12848,null,null,0,2122]
[21,12944,21,12948,22,12950,23,12955,null,null,0,2222]
[21,13052,21,13059,22,13064,23,13072,null,null,0,2222]
[12,13166,23,13171,24,13176,14,13179,null,null,0,1221]
[12,13273,23,13276,24,13279,23,13285,null,null,0,1222]
[21,13381,21,13385,22,13391,14,13398,null,null,0,2221]
[21,13490,12,13493,24,13496,23,13500,null,null,0,2122]
[21,13597,12,13604,24,13610,23,13620,null,null,0,2122]
[21,13718,12,13724,24,13731,23,13741,null,null,0,2122]
[21,13836,12,13840,24,13844,23,13850,null,null,0,2122]
[21,13946,21,13950,22,13955,23,13962,null,null,0,2222]
[21,14061,21,14063,22,14070,14,14075,null,null,0,2221]
[21,14169,21,14174,22,14182,23,14190,null,null,0,2222]
[21,14287,21,14290,22,14293,14,14296,null,null,0,2221]
[21,14393,21,14397,22,14401,23,14413,null,null,0,2222]
[21,14511,21,14515,22,14521,14,14525,null,null,0,2221]
[21,14626,21,14628,22,14633,14,14637,null,null,0,2221]
[21,14732,21,14736,11,14739,21,14740,null,null,0,2212]
[21,14884,21,14898,11,14903,21,14910,null,null,0,2212]
[21,15209,21,15213,11,15216,21,15220,null,null,0,2212]
[21,15399,21,15405,22,15412,23,15422,null,null,0,2222]
[21,15535,21,15539,22,15545,23,15551,null,null,0,2222]
[21,15647,12,15653,24,15656,23,15661,null,null,0,2122]
[12,15753,23,15761,24,15764,23,15768,null,null,0,1222]
[21,15863,21,15866,11,15868,21,15876,null,null,0,2212]
[21,16005,21,16011,22,16022,23,16028,null,null,0,2222]
[12,16120,23,16126,13,16133,23,16140,null,null,0,1212]
[12,16235,23,16240,24,16245,14,16247,null,null,0,1221]
[12,16342,23,16346,13,16349,23,16352,null,null,0,1212]
[12,16444,23,16447,24,16450,23,16456,null,null,0,1222]
[12,16549,23,16557,24,16561,14,16566,null,null,0,1221]
[21,16664,21,16667,22,16671,14,16674,null,null,0,2221]
[21,16779,21,16785,22,16790,23,16795,null,null,0,2222]
[12,16891,23,16893,24,16898,23,16903,null,null,0,1222]
[21,17081,21,17087,22,17093,23,17099,null,null,0,2222]
[12,17191,23,17199,24,17206,23,17213,null,null,0,1222]
[21,17312,21,17317,22,17326,23,17334,null,null,0,2222]
[21,17431,21,17441,22,17447,14,17452,null,null,0,2221]
[21,17548,21,17552,11,17554,21,17557,null,null,0,2212]
[21,17893,12,17898,24,17903,23,17911,null,null,0,2122]
[21,18009,21,18012,22,18018,14,18023,null,null,0,2221]
[21,18120,21,18123,22,18127,14,18130,null,null,0,2221]
[21,18228,21,18232,22,18241,14,18250,null,null,0,2221]
[21,18345,12,18351,24,18357,23,18368,null,null,0,2122]
[21,18463,21,18467,22,18471,23,18479,null,null,0,2222]
[12,18571,23,18575,24,18580,23,18584,null,null,0,1222]
[21,18681,21,18685,11,18691,21,18699,null,null,0,2212]
[21,18805,21,18811,22,18817,23,18822,null,null,0,2222]
[21,18918,21,18921,22,18926,14,18930,null,null,0,2221]
[21,19026,12,19032,24,19034,23,19040,null,null,0,2122]
[21,19137,21,19140,22,19145,23,19153,null,null,0,2222]
[12,19254,23,19314,24,19318,14,19324,null,null,0,1221]
[12,19418,23,19423,24,19426,23,19439,null,null,0,1222]
[21,19534,12,19541,24,19555,23,19565,null,null,0,2122]
[21,19660,21,19664,22,19668,14,19670,null,null,0,2221]
[21,19769,12,19772,24,19779,23,19788,null,null,0,2122]
[12,19907,23,19918,24,19922,23,19927,null,null,0,1222]
[12,20019,23,20022,24,20030,23,20037,null,null,0,1222]
[21,20135,21,20138,11,20142,21,20144,null,null,0,2212]
[21,20263,21,20269,22,20281,23,20289,null,null,0,2222]
[21,20386,21,20388,11,20392,21,20395,null,null,0,2212]
[21,20496,12,20504,24,20510,23,20518,null,null,0,2122]
[21,20618,21,20623,22,20628,23,20637,null,null,0,2222]
[21,20733,12,20739,24,20745,23,20751,null,null,0,2122]
[12,20845,23,20849,24,20854,23,20862,null,null,0,1222]
[21,20957,12,20961,24,20964,23,20972,null,null,0,2122]
[12,21065,23,21068,24,21072,14,21078,null,null,0,1221]
[21,21175,21,21180,22,21191,23,21201,null,null,0,2222]
[12,21294,23,21301,24,21304,14,21308,null,null,0,1221]
[21,21403,21,21407,22,21413,14,21421,null,null,0,2221]
[21,21514,21,21518,22,21523,23,21529,null,null,0,2222]
[21,21624,12,21630,24,21632,23,21639,null,null,0,2122]
[12,21732,23,21735,13,21738,23,21743,null,null,0,1212]
[21,21838,12,21842,24,21845,23,21850,null,null,0,2122]
[21,21942,12,21946,24,21949,23,21953,null,null,0,2122]
[21,22049,21,22053,11,22055,21,22057,null,null,0,2212]
[21,22243,21,22250,22,22258,23,22267,null,null,0,2222]
[12,22366,23,22371,24,22377,23,22384,null,null,0,1222]
[21,22481,21,22485,11,22487,21,22494,null,null,0,2212]
[21,22830,12,22835,24,22841,23,22846,null,null,0,2122]
[21,22942,12,22947,24,22953,23,22966,null,null,0,2122]
[12,23064,23,23068,24,23073,23,23078,null,null,0,1222]
[21,23175,12,23177,24,23180,23,23185,null,null,0,2122]
[21,23282,21,23285,11,23289,21,23298,null,null,0,2212]
[21,23590,12,23598,24,23607,23,23621,null,null,0,2122]
[12,23713,23,23720,24,23723,14,23726,null,null,0,1221]
[21,23824,21,23829,11,23834,21,23844,null,null,0,2212]