{"text_format":"1","workbook":"xlsx","n_sheets":32,"sheets":["Sample Report","Summary","Start","!N127950.Gus","!N128910.Gus","!N129A20.Gus","!N130920.Gus","!N131920.Gus","!N201920.Gus","!N202B00.Gus","!N204A10.Gus","!N205920.Gus","!N206A30.Gus","!N207A10.Gus","!N208930.Gus","!N209940.Gus","!N210940.Gus","!N211A50.Gus","!N212A00.Gus","!N213A30.Gus","!N214910.Gus","!N215920.Gus","!N216A10.Gus","!N217930.Gus","!N218A10.Gus","!N219A40.Gus","!N220940.Gus","!N221A10.Gus","!N222A10.Gus","!N223950.Gus","!N224900.Gus","!N225A00.Gus"],"not_rendered":{"charts":0,"images":0,"macros":1,"external_links":0,"defined_names":0,"comments":0,"pivot_tables":0},"unopened":[],"bounds":{"document_bytes":16777216,"sheet_cells":100000,"rows_first":2000,"rows_last":500,"rows_between":2000,"halvings":0,"cell_chars":16384,"cell_head_chars":4096},"cells_cut":0,"cells_raw":0,"read":"whole","date_system":"1900"}

{"sheet":"Sample Report","index":0,"n_rows":12,"n_cols":11,"rows_kept":12,"cut":false,"hidden":true,"merged":[[7,0,7,6]]}
[]
["Date"]
["Hen"]
["Program"]
["Start at 999999"]
["Sequence component 1","Time 1","Seqeunce Component 2","Time 2","Seqeunce Component 3","Time 3","Correct   0 = No 1=Yes",null,null,"Seqeunce","Time"]
[12,7,12,42,13,18,"if 77 new line,                                  if 31 or 41 = yes new line on 77, ",null,null,"=string of Seqeunce compponent 1, 2 & 3","=time 3"]
["This continues until ther is a 1 on its own to indicate start of summary data"]
[null,null,null,null,null,null,null,null,null,"10-19 =1"]
["Summary Data ",null,null,null,null,null,null,null,null,"20-29 =2"]
["Correct","Incorrect","Rft","total","Av Correct","Av Incorrect","Percent correct","Time",null,"in this example the seqeunce would be 111"]
[40,33,40,73,23.95,15,54,806]

{"sheet":"Summary","index":1,"n_rows":32,"n_cols":24,"rows_kept":32,"cut":false,"hidden":false,"merged":[]}
[]
["Day","Date","Average Response Rate","Target %","RF for non correct sequence","U Value",null,null,null,null,"Block 1","Block 2","Block 3","Block 4","Block 5","Block 6"]
[1,{"$f":"'!N127950.Gus'!B2:C2","v":"<date>"},{"$f":"('!N127950.Gus'!F190/60)/'!N127950.Gus'!Q3","v":2.1628623188405798},{"$f":"'!N127950.Gus'!N20/'!N127950.Gus'!Q3","v":5.434782608695652E-3},{"$f":"SUM('!N127950.Gus'!L20:Q20)/'!N127950.Gus'!Q3","v":1},{"$f":"'!N127950.Gus'!Q16","v":0.27272522597691407},null,null,null,"Average Response Rate",{"$f":"AVERAGE(C3:C7)","v":2.1560700185422093},{"$f":"AVERAGE(C8:C12)","v":2.1349341592460398},{"$f":"AVERAGE(C13:C17)","v":2.1884231411151629},{"$f":"AVERAGE(C18:C22)","v":2.4281590324267959},{"$f":"AVERAGE(C23:C27)","v":5.7582955581757975},{"$f":"AVERAGE(C28:C32)","v":2.9289712009227005}]
[2,{"$f":"'!N128910.Gus'!B2:C2","v":"<date>"},{"$f":"('!N128910.Gus'!F191/60)/'!N128910.Gus'!Q3","v":2.1579279279279278},{"$f":"'!N128910.Gus'!N20/'!N128910.Gus'!Q3","v":0},{"$f":"SUM('!N128910.Gus'!L20:Q20)/'!N128910.Gus'!Q3","v":0.94054054054054059},{"$f":"'!N128910.Gus'!Q16","v":0.27029006342794715},null,null,null,"Target %",{"$f":"AVERAGE(D3:D7)","v":3.3468435273888478E-3},{"$f":"AVERAGE(D8:D12)","v":8.4255435958705827E-3},{"$f":"AVERAGE(D13:D17)","v":3.2974910394265233E-3},{"$f":"AVERAGE(D18:D22)","v":1.5526634701995747E-2},{"$f":"AVERAGE(D23:D27)","v":1.4775468368282741E-2},{"$f":"AVERAGE(D28:D32)","v":1.4260410641989589E-2}]
[3,{"$f":"'!N129A20.Gus'!B2:C2","v":"<date>"},{"$f":"('!N129A20.Gus'!F195/60)/'!N129A20.Gus'!Q3","v":2.0965789473684211},{"$f":"'!N129A20.Gus'!N20/'!N129A20.Gus'!Q3","v":0},{"$f":"SUM('!N129A20.Gus'!L20:Q20)/'!N129A20.Gus'!Q3","v":0.97368421052631582},{"$f":"'!N129A20.Gus'!Q16","v":0.26852535363604429},null,null,null,"CCRF",{"$f":"AVERAGE(E3:E7)","v":1.2020181185390819},{"$f":"AVERAGE(E8:E12)","v":1.0976646413214823},{"$f":"AVERAGE(E13:E17)","v":1.2245936223159535},{"$f":"AVERAGE(E18:E22)","v":1.4839777846345608},{"$f":"AVERAGE(E23:E27)","v":1.1740216478240428},{"$f":"AVERAGE(E28:E32)","v":2.3148912363646144}]
[4,{"$f":"'!N130920.Gus'!B2:C2","v":"<date>"},{"$f":"('!N130920.Gus'!F195/60)/'!N130920.Gus'!Q3","v":2.1071428571428572},{"$f":"'!N130920.Gus'!N20/'!N130920.Gus'!Q3","v":0},{"$f":"SUM('!N130920.Gus'!L20:Q20)/'!N130920.Gus'!Q3","v":1.5026455026455026},{"$f":"'!N130920.Gus'!Q16","v":0.29446092269521201},null,null,null,"U Value",{"$f":"AVERAGE(F3:F7)","v":0.28706312367870296},{"$f":"AVERAGE(F8:F12)","v":0.30393285730848685},{"$f":"AVERAGE(F13:F17)","v":0.26812686136461594},{"$f":"AVERAGE(F18:F22)","v":0.27579238540564582},{"$f":"AVERAGE(F23:F27)","v":0.41788367785310354},{"$f":"AVERAGE(F28:F32)","v":0.30437852466874532}]
[5,{"$f":"'!N131920.Gus'!B2:C2","v":"<date>"},{"$f":"('!N131920.Gus'!F183/60)/'!N131920.Gus'!Q3","v":2.2558380414312618},{"$f":"'!N131920.Gus'!N20/'!N131920.Gus'!Q3","v":1.1299435028248588E-2},{"$f":"SUM('!N131920.Gus'!L20:Q20)/'!N131920.Gus'!Q3","v":1.5932203389830508},{"$f":"'!N131920.Gus'!Q16","v":0.32931405265739727}]
[6,{"$f":"'!N201920.Gus'!B2:C2","v":"<date>"},{"$f":"('!N201920.Gus'!F189/60)/'!N201920.Gus'!Q3","v":2.184790528233151},{"$f":"'!N201920.Gus'!N20/'!N201920.Gus'!Q3","v":5.4644808743169399E-3},{"$f":"SUM('!N201920.Gus'!L20:Q20)/'!N201920.Gus'!Q3","v":1},{"$f":"'!N201920.Gus'!Q16","v":0.31579201221342285}]
[7,{"$f":"'!N202B00.Gus'!B2:C2","v":"<date>"},{"$f":"('!N202B00.Gus'!F200/60)/'!N202B00.Gus'!Q3","v":2.0534364261168387},{"$f":"'!N202B00.Gus'!N20/'!N202B00.Gus'!Q3","v":1.5463917525773196E-2},{"$f":"SUM('!N202B00.Gus'!L20:Q20)/'!N202B00.Gus'!Q3","v":0.92783505154639179},{"$f":"'!N202B00.Gus'!Q16","v":0.30690755455827001},{"$f":"K3","v":2.1560700185422093},{"$f":"L3","v":2.1349341592460398},2.1884231411151629,2.4281590324267959,5.7582955581757975,2.9289712009227005,{"$f":"K4","v":3.3468435273888478E-3},{"$f":"L4","v":8.4255435958705827E-3},3.2974910394265233E-3,1.5526634701995747E-2,1.4775468368282741E-2,1.4260410641989589E-2,{"$f":"K6","v":0.28706312367870296},{"$f":"L6","v":0.30393285730848685},0.26812686136461594,0.27579238540564582,0.41788367785310354,0.30437852466874532]
[8,{"$f":"'!N204A10.Gus'!B2:C2","v":"<date>"},{"$f":"('!N204A10.Gus'!F204/60)/'!N204A10.Gus'!Q3","v":1.995393634840871},{"$f":"'!N204A10.Gus'!N20/'!N204A10.Gus'!Q3","v":1.0050251256281407E-2},{"$f":"SUM('!N204A10.Gus'!L20:Q20)/'!N204A10.Gus'!Q3","v":0.95477386934673369},{"$f":"'!N204A10.Gus'!Q16","v":0.30779404771957408}]
[9,{"$f":"'!N205920.Gus'!B2:C2","v":"<date>"},{"$f":"('!N205920.Gus'!F180/60)/'!N205920.Gus'!Q3","v":2.2762857142857142},{"$f":"'!N205920.Gus'!N20/'!N205920.Gus'!Q3","v":5.7142857142857143E-3},{"$f":"SUM('!N205920.Gus'!L20:Q20)/'!N205920.Gus'!Q3","v":1.6057142857142856},{"$f":"'!N205920.Gus'!Q16","v":0.31288374170632188}]
[10,{"$f":"'!N206A30.Gus'!B2:C2","v":"<date>"},{"$f":"('!N206A30.Gus'!F190/60)/'!N206A30.Gus'!Q3","v":2.1647644927536231},{"$f":"'!N206A30.Gus'!N20/'!N206A30.Gus'!Q3","v":5.434782608695652E-3},{"$f":"SUM('!N206A30.Gus'!L20:Q20)/'!N206A30.Gus'!Q3","v":1},{"$f":"'!N206A30.Gus'!Q16","v":0.27628693034484564}]
[11,{"$f":"'!N207A10.Gus'!B2:C2","v":"<date>"},{"$f":"('!N207A10.Gus'!F195/60)/'!N207A10.Gus'!Q3","v":2.111816578483245},{"$f":"'!N207A10.Gus'!N20/'!N207A10.Gus'!Q3","v":0},{"$f":"SUM('!N207A10.Gus'!L20:Q20)/'!N207A10.Gus'!Q3","v":0.97883597883597884},{"$f":"'!N207A10.Gus'!Q16","v":0.2644621866606669}]
[12,{"$f":"'!N208930.Gus'!B2:C2","v":"<date>"},{"$f":"('!N208930.Gus'!F186/60)/'!N208930.Gus'!Q3","v":2.2109259259259257},{"$f":"'!N208930.Gus'!N20/'!N208930.Gus'!Q3","v":1.1111111111111112E-2},{"$f":"SUM('!N208930.Gus'!L20:Q20)/'!N208930.Gus'!Q3","v":1.5777777777777777},{"$f":"'!N208930.Gus'!Q16","v":0.27082039335671176}]
[13,{"$f":"'!N209940.Gus'!B2:C2","v":"<date>"},{"$f":"('!N209940.Gus'!F192/60)/'!N209940.Gus'!Q3","v":2.1402329749103943},{"$f":"'!N209940.Gus'!N20/'!N209940.Gus'!Q3","v":5.3763440860215058E-3},{"$f":"SUM('!N209940.Gus'!L20:Q20)/'!N209940.Gus'!Q3","v":1.532258064516129},{"$f":"'!N209940.Gus'!Q16","v":0.26451254086400289}]
[14,{"$f":"'!N210940.Gus'!B2:C2","v":"<date>"},{"$f":"('!N210940.Gus'!F187/60)/'!N210940.Gus'!Q3","v":2.2028545119705338},{"$f":"'!N210940.Gus'!N20/'!N210940.Gus'!Q3","v":0},{"$f":"SUM('!N210940.Gus'!L20:Q20)/'!N210940.Gus'!Q3","v":1.0055248618784531},{"$f":"'!N210940.Gus'!Q16","v":0.26696757661970577}]
[15,{"$f":"'!N211A50.Gus'!B2:C2","v":"<date>"},{"$f":"('!N211A50.Gus'!F181/60)/'!N211A50.Gus'!Q3","v":2.2762857142857142},{"$f":"'!N211A50.Gus'!N20/'!N211A50.Gus'!Q3","v":0},{"$f":"SUM('!N211A50.Gus'!L20:Q20)/'!N211A50.Gus'!Q3","v":1.0285714285714285},{"$f":"'!N211A50.Gus'!Q16","v":0.27387160932199239}]
[16,{"$f":"'!N212A00.Gus'!B2:C2","v":"<date>"},{"$f":"('!N212A00.Gus'!F177/60)/'!N212A00.Gus'!Q3","v":2.283918128654971},{"$f":"'!N212A00.Gus'!N20/'!N212A00.Gus'!Q3","v":4.0935672514619881E-2},{"$f":"SUM('!N212A00.Gus'!L20:Q20)/'!N212A00.Gus'!Q3","v":1.0877192982456141},{"$f":"'!N212A00.Gus'!Q16","v":0.30627832509568953}]
[17,{"$f":"'!N213A30.Gus'!B2:C2","v":"<date>"},{"$f":"('!N213A30.Gus'!F167/60)/'!N213A30.Gus'!Q3","v":2.3836438923395442},{"$f":"'!N213A30.Gus'!N20/'!N213A30.Gus'!Q3","v":0},{"$f":"SUM('!N213A30.Gus'!L20:Q20)/'!N213A30.Gus'!Q3","v":1.7142857142857142},{"$f":"'!N213A30.Gus'!Q16","v":0.29033275296934485}]
[18,{"$f":"'!N214910.Gus'!B2:C2","v":"<date>"},{"$f":"('!N214910.Gus'!F162/60)/'!N214910.Gus'!Q3","v":2.5635683760683761},{"$f":"'!N214910.Gus'!N20/'!N214910.Gus'!Q3","v":1.282051282051282E-2},{"$f":"SUM('!N214910.Gus'!L20:Q20)/'!N214910.Gus'!Q3","v":1.7692307692307692},{"$f":"'!N214910.Gus'!Q16","v":0.25061158435264663}]
[19,{"$f":"'!N215920.Gus'!B2:C2","v":"<date>"},{"$f":"('!N215920.Gus'!F159/60)/'!N215920.Gus'!Q3","v":2.606100217864924},{"$f":"'!N215920.Gus'!N20/'!N215920.Gus'!Q3","v":6.5359477124183009E-3},{"$f":"SUM('!N215920.Gus'!L20:Q20)/'!N215920.Gus'!Q3","v":1.7908496732026145},{"$f":"'!N215920.Gus'!Q16","v":0.25408516475629611}]
[20,{"$f":"'!N216A10.Gus'!B2:C2","v":"<date>"},{"$f":"('!N216A10.Gus'!F179/60)/'!N216A10.Gus'!Q3","v":2.3035645472061654},{"$f":"'!N216A10.Gus'!N20/'!N216A10.Gus'!Q3","v":1.7341040462427744E-2},{"$f":"SUM('!N216A10.Gus'!L20:Q20)/'!N216A10.Gus'!Q3","v":1.0578034682080926},{"$f":"'!N216A10.Gus'!Q16","v":0.27765409985425199}]
[21,{"$f":"'!N217930.Gus'!B2:C2","v":"<date>"},{"$f":"('!N217930.Gus'!F154/60)/'!N217930.Gus'!Q3","v":2.6900900900900901},{"$f":"'!N217930.Gus'!N20/'!N217930.Gus'!Q3","v":2.0270270270270271E-2},{"$f":"SUM('!N217930.Gus'!L20:Q20)/'!N217930.Gus'!Q3","v":1.1756756756756757},{"$f":"'!N217930.Gus'!Q16","v":0.24488108164592523}]
[22,{"$f":"'!N218A10.Gus'!B2:C2","v":"<date>"},{"$f":"('!N218A10.Gus'!F172/60)/'!N218A10.Gus'!Q3","v":2.3831337325349304},{"$f":"'!N218A10.Gus'!N20/'!N218A10.Gus'!Q3","v":5.9880239520958087E-3},{"$f":"SUM('!N218A10.Gus'!L20:Q20)/'!N218A10.Gus'!Q3","v":1.6646706586826348},{"$f":"'!N218A10.Gus'!Q16","v":0.26962227038168718}]
[23,{"$f":"'!N219A40.Gus'!B2:C2","v":"<date>"},{"$f":"('!N219A40.Gus'!F173/60)/'!N219A40.Gus'!Q3","v":2.371230158730159},{"$f":"'!N219A40.Gus'!N20/'!N219A40.Gus'!Q3","v":2.976190476190476E-2},{"$f":"SUM('!N219A40.Gus'!L20:Q20)/'!N219A40.Gus'!Q3","v":1.625},{"$f":"'!N219A40.Gus'!Q16","v":0.28912819570224796}]
[24,{"$f":"'!N220940.Gus'!B2:C2","v":"<date>"},{"$f":"('!N220940.Gus'!F9/60)/'!N220940.Gus'!Q3","v":18.966666666666665},{"$f":"'!N220940.Gus'!N20/'!N220940.Gus'!Q3","v":0},{"$f":"SUM('!N220940.Gus'!L20:Q20)/'!N220940.Gus'!Q3","v":0.33333333333333331},{"$f":"'!N220940.Gus'!Q16","v":0.99999999999999989}]
[25,{"$f":"'!N221A10.Gus'!B2:C2","v":"<date>"},{"$f":"('!N221A10.Gus'!F174/60)/'!N221A10.Gus'!Q3","v":2.3803571428571426},{"$f":"'!N221A10.Gus'!N20/'!N221A10.Gus'!Q3","v":1.7857142857142856E-2},{"$f":"SUM('!N221A10.Gus'!L20:Q20)/'!N221A10.Gus'!Q3","v":1.0714285714285714},{"$f":"'!N221A10.Gus'!Q16","v":0.28578684153565725}]
[26,{"$f":"'!N222A10.Gus'!B2:C2","v":"<date>"},{"$f":"('!N222A10.Gus'!F158/60)/'!N222A10.Gus'!Q3","v":2.5103070175438598},{"$f":"'!N222A10.Gus'!N20/'!N222A10.Gus'!Q3","v":3.2894736842105261E-2},{"$f":"SUM('!N222A10.Gus'!L20:Q20)/'!N222A10.Gus'!Q3","v":1.763157894736842},{"$f":"'!N222A10.Gus'!Q16","v":0.30074303949763376}]
[27,{"$f":"'!N223950.Gus'!B2:C2","v":"<date>"},{"$f":"('!N223950.Gus'!F97/60)/'!N223950.Gus'!Q3","v":3.7756410256410255},{"$f":"'!N223950.Gus'!N20/'!N223950.Gus'!Q3","v":1.098901098901099E-2},{"$f":"SUM('!N223950.Gus'!L20:Q20)/'!N223950.Gus'!Q3","v":2.7802197802197801},{"$f":"'!N223950.Gus'!Q16","v":0.31280944303438141}]
[28,{"$f":"'!N224900.Gus'!B2:C2","v":"<date>"},{"$f":"('!N224900.Gus'!F92/60)/'!N224900.Gus'!Q3","v":2.8058139534883724},{"$f":"'!N224900.Gus'!N20/'!N224900.Gus'!Q3","v":0},{"$f":"SUM('!N224900.Gus'!L20:Q20)/'!N224900.Gus'!Q3","v":2.9069767441860463},{"$f":"'!N224900.Gus'!Q16","v":0.30739122763980287}]
[29,{"$f":"'!N225A00.Gus'!B2:C2","v":"<date>"},{"$f":"('!N225A00.Gus'!F158/60)/'!N225A00.Gus'!Q3","v":2.6241228070175437},{"$f":"'!N225A00.Gus'!N20/'!N225A00.Gus'!Q3","v":1.3157894736842105E-2},{"$f":"SUM('!N225A00.Gus'!L20:Q20)/'!N225A00.Gus'!Q3","v":1.8092105263157894},{"$f":"'!N225A00.Gus'!Q16","v":0.29657038850316325}]
[30]

{"sheet":"Start","index":2,"n_rows":35,"n_cols":10,"rows_kept":35,"cut":false,"hidden":false,"merged":[]}
[null,null,null,null,null,"Use Folder 51",null,"Auto Clean Up",null,"Correct sequence"]
[null,null,null,null,null,false,null,true,null,211]
[]
["Working with Folder",null,null,null,null,null,"Process All/Or Pick A number: ALL or an integer"]
["F:\\Possum Chapter\\Raw Data\\Gus\\Repeat Phase 1 Any\\",null,null,null,null,null,"ALL"]
["Filenames:"]
["!N219A40.Gus",null,null,null,null,null,"Paint Cells"]
["!N220940.Gus",null,null,null,null,null,false]
["!N221A10.Gus"]
["!N222A10.Gus"]
["!N223950.Gus"]
["!N224900.Gus"]
["!N225A00.Gus"]
["!N127950.Gus"]
["!N128910.Gus"]
["!N129A20.Gus"]
["!N130920.Gus"]
["!N131920.Gus"]
["!N201920.Gus"]
["!N202B00.Gus"]
["!N204A10.Gus"]
["!N205920.Gus"]
["!N206A30.Gus"]
["!N207A10.Gus"]
["!N208930.Gus"]
["!N209940.Gus"]
["!N210940.Gus"]
["!N211A50.Gus"]
["!N212A00.Gus"]
["!N213A30.Gus"]
["!N214910.Gus"]
["!N215920.Gus"]
["!N216A10.Gus"]
["!N217930.Gus"]
["!N218A10.Gus"]

{"sheet":"!N127950.Gus","index":3,"n_rows":190,"n_cols":48,"rows_kept":190,"cut":false,"hidden":false,"merged":[[4,39,4,42],[5,39,5,40],[4,44,4,47],[5,44,5,45],[4,24,4,27],[5,24,5,25],[4,29,4,32],[5,29,5,30],[4,34,4,37],[5,34,5,35],[1,1,1,2],[5,13,5,14],[18,13,18,14],[19,13,19,14],[4,19,4,22],[5,19,5,20]]}
["Report for:!N127950.Gus"]
["Date:","<date>"]
["Hen:","<hen>",null,null,null,"Correct Sequence",{"$f":"Start!J2","v":211},null,null,null,null,null,null,null,null,"Total Sequences in Data",{"$f":"4994-COUNTBLANK(L7:L5000)","v":184},null,null,null,null,"Total Sequences in Block Data",{"$f":"COUNTA(L7:L37)","v":31},null,null,null,"Total Sequences in Block Data",{"$f":"COUNTA(L38:L67)","v":30},null,null,null,"Total Sequences in Block Data",{"$f":"COUNTA(L68:L98)","v":31},null,null,null,"Total Sequences in Block Data",{"$f":"COUNTA(L99:L129)","v":31},null,null,null,"Total Sequences in Block Data",{"$f":"COUNTA(L130:L159)","v":30},null,null,null,"Total Sequences in Block Data",{"$f":"COUNTA(L160:L190)","v":31}]
[null,null,null,null,null,null,null,null,null,null,null,null,null,null,null,"Total Sequences in Summary",{"$f":"SUM(O7:O14)","v":184},null,null,null,null,"Total Sequences in Block Summary",{"$f":"SUM(U7:U14)","v":31},null,null,null,"Total Sequences in Block Summary",{"$f":"SUM(Z7:Z14)","v":30},null,null,null,"Total Sequences in Block Summary",{"$f":"SUM(AE7:AE14)","v":31},null,null,null,"Total Sequences in Block Summary",{"$f":"SUM(AJ7:AJ14)","v":31},null,null,null,"Total Sequences in Block Summary",{"$f":"SUM(AO7:AO14)","v":30},null,null,null,"Total Sequences in Block Summary",{"$f":"SUM(AT7:AT14)","v":31}]
[null,null,null,null,null,null,null,null,null,null,null,null,null,null,null,null,null,null,null,"Block 1",null,null,null,null,"Block 2",null,null,null,null,"Block 3",null,null,null,null,"Block 4",null,null,null,null,"Block 5",null,null,null,null,"Block 6"]
["Sequence\nComponent\n1","Time\n1","Sequence\nComponent\n2","Time\n2","Sequence\nComponent\n3","Time\n3","Sequence\nComponent\n4","Time\n4","Sequence\nComponent\n5","Time\n5","Correct?\n0=No 1=Yes","Sequence",null,"Frequency",null,"Relative Frequency","Variability",null,null,"Frequency",null,"Relative Frequency","Variability",null,"Frequency",null,"Relative Frequency","Variability",null,"Frequency",null,"Relative Frequency","Variability",null,"Frequency",null,"Relative Frequency","Variability",null,"Frequency",null,"Relative Frequency","Variability",null,"Frequency",null,"Relative Frequency","Variability"]
[12,14,13,17,13,31,null,null,null,null,0,111,null,111,{"$f":"COUNTIF($L$7:$L$500,N7)","v":19},{"$f":"O7/$Q$4","v":0.10326086956521739},{"$f":"IF(P7=0,0,(P7*((LOG(P7))/LOG(2))))","v":-0.3382448609220387},null,null,{"$f":"N7","v":111},{"$f":"COUNTIF(L7:L37,T7)","v":2},{"$f":"U7/(W4-U11)","v":6.4516129032258063E-2},{"$f":"IF(V7=0,0,(V7*((LOG(V7))/LOG(2))))","v":-0.25510943937979835},null,{"$f":"N7","v":111},{"$f":"COUNTIF(L38:L67,Y7)","v":2},{"$f":"Z7/(AB4-Z11)","v":6.6666666666666666E-2},{"$f":"IF(AA7=0,0,(AA7*((LOG(AA7))/LOG(2))))","v":-0.26045937304056793},null,{"$f":"N7","v":111},{"$f":"COUNTIF(L68:L98,AD7)","v":4},{"$f":"AE7/(AG4-AE11)","v":0.12903225806451613},{"$f":"IF(AF7=0,0,(AF7*((LOG(AF7))/LOG(2))))","v":-0.38118662069508069},null,{"$f":"N7","v":111},{"$f":"COUNTIF(L99:L129,AI7)","v":6},{"$f":"AJ7/(AL4-AJ11)","v":0.19354838709677419},{"$f":"IF(AK7=0,0,(AK7*((LOG(AK7))/LOG(2))))","v":-0.45856138251594558},null,{"$f":"N7","v":111},{"$f":"COUNTIF(L130:L159,AN7)","v":2},{"$f":"AO7/(AQ4-AO11)","v":6.6666666666666666E-2},{"$f":"IF(AP7=0,0,(AP7*((LOG(AP7))/LOG(2))))","v":-0.26045937304056793},null,{"$f":"N7","v":111},{"$f":"COUNTIF(L160:L190,AS7)","v":3},{"$f":"AT7/(AV4-AT11)","v":0.1},{"$f":"IF(AU7=0,0,(AU7*((LOG(AU7))/LOG(2))))","v":-0.33219280948873625}]
[21,140,22,149,24,156,null,null,null,null,0,222,null,112,{"$f":"COUNTIF($L$7:$L$500,N8)","v":57},{"$f":"O8/$Q$4","v":0.30978260869565216},{"$f":"IF(P8=0,0,(P8*((LOG(P8))/LOG(2))))","v":-0.52374076460793184},null,null,{"$f":"N8","v":112},{"$f":"COUNTIF(L7:L37,T8)","v":6},{"$f":"U8/(W4-U11)","v":0.19354838709677419},{"$f":"IF(V8=0,0,(V8*((LOG(V8))/LOG(2))))","v":-0.45856138251594558},null,{"$f":"N8","v":112},{"$f":"COUNTIF(L38:L67,Y8)","v":7},{"$f":"Z8/(AB4-Z11)","v":0.23333333333333334},{"$f":"IF(AA8=0,0,(AA8*((LOG(AA8))/LOG(2))))","v":-0.48989165716187993},null,{"$f":"N8","v":112},{"$f":"COUNTIF(L68:L98,AD8)","v":10},{"$f":"AE8/(AG4-AE11)","v":0.32258064516129031},{"$f":"IF(AF8=0,0,(AF8*((LOG(AF8))/LOG(2))))","v":-0.52653813403210092},null,{"$f":"N8","v":112},{"$f":"COUNTIF(L99:L129,AI8)","v":12},{"$f":"AJ8/(AL4-AJ11)","v":0.38709677419354838},{"$f":"IF(AK8=0,0,(AK8*((LOG(AK8))/LOG(2))))","v":-0.5300259908383429},null,{"$f":"N8","v":112},{"$f":"COUNTIF(L130:L159,AN8)","v":10},{"$f":"AO8/(AQ4-AO11)","v":0.33333333333333331},{"$f":"IF(AP8=0,0,(AP8*((LOG(AP8))/LOG(2))))","v":-0.52832083357371862},null,{"$f":"N8","v":112},{"$f":"COUNTIF(L160:L190,AS8)","v":12},{"$f":"AT8/(AV4-AT11)","v":0.4},{"$f":"IF(AU8=0,0,(AU8*((LOG(AU8))/LOG(2))))","v":-0.52877123795494496}]
[12,256,24,260,24,266,null,null,null,null,0,122,null,121,{"$f":"COUNTIF($L$7:$L$500,N9)","v":11},{"$f":"O9/$Q$4","v":5.9782608695652176E-2},{"$f":"IF(P9=0,0,(P9*((LOG(P9))/LOG(2))))","v":-0.24296431365009172},null,null,{"$f":"N9","v":121},{"$f":"COUNTIF(L7:L37,T9)","v":0},{"$f":"U9/(W4-U11)","v":0},{"$f":"IF(V9=0,0,(V9*((LOG(V9))/LOG(2))))","v":0},null,{"$f":"N9","v":121},{"$f":"COUNTIF(L38:L67,Y9)","v":2},{"$f":"Z9/(AB4-Z11)","v":6.6666666666666666E-2},{"$f":"IF(AA9=0,0,(AA9*((LOG(AA9))/LOG(2))))","v":-0.26045937304056793},null,{"$f":"N9","v":121},{"$f":"COUNTIF(L68:L98,AD9)","v":1},{"$f":"AE9/(AG4-AE11)","v":3.2258064516129031E-2},{"$f":"IF(AF9=0,0,(AF9*((LOG(AF9))/LOG(2))))","v":-0.15981278420602821},null,{"$f":"N9","v":121},{"$f":"COUNTIF(L99:L129,AI9)","v":2},{"$f":"AJ9/(AL4-AJ11)","v":6.4516129032258063E-2},{"$f":"IF(AK9=0,0,(AK9*((LOG(AK9))/LOG(2))))","v":-0.25510943937979835},null,{"$f":"N9","v":121},{"$f":"COUNTIF(L130:L159,AN9)","v":3},{"$f":"AO9/(AQ4-AO11)","v":0.1},{"$f":"IF(AP9=0,0,(AP9*((LOG(AP9))/LOG(2))))","v":-0.33219280948873625},null,{"$f":"N9","v":121},{"$f":"COUNTIF(L160:L190,AS9)","v":3},{"$f":"AT9/(AV4-AT11)","v":0.1},{"$f":"IF(AU9=0,0,(AU9*((LOG(AU9))/LOG(2))))","v":-0.33219280948873625}]
[12,380,13,381,24,403,null,null,null,null,0,112,null,122,{"$f":"COUNTIF($L$7:$L$500,N10)","v":76},{"$f":"O10/$Q$4","v":0.41304347826086957},{"$f":"IF(P10=0,0,(P10*((LOG(P10))/LOG(2))))","v":-0.52689248716641568},null,null,{"$f":"N10","v":122},{"$f":"COUNTIF(L7:L37,T10)","v":19},{"$f":"U10/(W4-U11)","v":0.61290322580645162},{"$f":"IF(V10=0,0,(V10*((LOG(V10))/LOG(2))))","v":-0.43287442393298403},null,{"$f":"N10","v":122},{"$f":"COUNTIF(L38:L67,Y10)","v":16},{"$f":"Z10/(AB4-Z11)","v":0.53333333333333333},{"$f":"IF(AA10=0,0,(AA10*((LOG(AA10))/LOG(2))))","v":-0.4836749843245432},null,{"$f":"N10","v":122},{"$f":"COUNTIF(L68:L98,AD10)","v":11},{"$f":"AE10/(AG4-AE11)","v":0.35483870967741937},{"$f":"IF(AF10=0,0,(AF10*((LOG(AF10))/LOG(2))))","v":-0.53040037449178568},null,{"$f":"N10","v":122},{"$f":"COUNTIF(L99:L129,AI10)","v":10},{"$f":"AJ10/(AL4-AJ11)","v":0.32258064516129031},{"$f":"IF(AK10=0,0,(AK10*((LOG(AK10))/LOG(2))))","v":-0.52653813403210092},null,{"$f":"N10","v":122},{"$f":"COUNTIF(L130:L159,AN10)","v":12},{"$f":"AO10/(AQ4-AO11)","v":0.4},{"$f":"IF(AP10=0,0,(AP10*((LOG(AP10))/LOG(2))))","v":-0.52877123795494496},null,{"$f":"N10","v":122},{"$f":"COUNTIF(L160:L190,AS10)","v":8},{"$f":"AT10/(AV4-AT11)","v":0.26666666666666666},{"$f":"IF(AU10=0,0,(AU10*((LOG(AU10))/LOG(2))))","v":-0.50850415882893829}]
[12,527,24,547,24,568,null,null,null,null,0,122,null,211,{"$f":"COUNTIF($L$7:$L$500,N11)","v":1},{"$f":"O11/$Q$4","v":5.434782608695652E-3},{"$f":"IF(P11=0,0,(P11*((LOG(P11))/LOG(2))))","v":-4.0888923674222893E-2},null,null,{"$f":"N11","v":211},{"$f":"COUNTIF(L7:L37,T11)","v":0},null,null,null,{"$f":"N11","v":211},{"$f":"COUNTIF(L38:L67,Y11)","v":0},null,null,null,{"$f":"N11","v":211},{"$f":"COUNTIF(L68:L98,AD11)","v":0},null,null,null,{"$f":"N11","v":211},{"$f":"COUNTIF(L99:L129,AI11)","v":0},null,null,null,{"$f":"N11","v":211},{"$f":"COUNTIF(L130:L159,AN11)","v":0},null,null,null,{"$f":"N11","v":211},{"$f":"COUNTIF(L160:L190,AS11)","v":1}]
[21,740,22,748,24,755,null,null,null,null,0,222,null,212,{"$f":"COUNTIF($L$7:$L$500,N12)","v":1},{"$f":"O12/$Q$4","v":5.434782608695652E-3},{"$f":"IF(P12=0,0,(P12*((LOG(P12))/LOG(2))))","v":-4.0888923674222893E-2},null,null,{"$f":"N12","v":212},{"$f":"COUNTIF(L7:L37,T12)","v":0},{"$f":"U12/(W4-U11)","v":0},{"$f":"IF(V12=0,0,(V12*((LOG(V12))/LOG(2))))","v":0},null,{"$f":"N12","v":212},{"$f":"COUNTIF(L38:L67,Y12)","v":0},{"$f":"Z12/(AB4-Z11)","v":0},{"$f":"IF(AA12=0,0,(AA12*((LOG(AA12))/LOG(2))))","v":0},null,{"$f":"N12","v":212},{"$f":"COUNTIF(L68:L98,AD12)","v":0},{"$f":"AE12/(AG4-AE11)","v":0},{"$f":"IF(AF12=0,0,(AF12*((LOG(AF12))/LOG(2))))","v":0},null,{"$f":"N12","v":212},{"$f":"COUNTIF(L99:L129,AI12)","v":0},{"$f":"AJ12/(AL4-AJ11)","v":0},{"$f":"IF(AK12=0,0,(AK12*((LOG(AK12))/LOG(2))))","v":0},null,{"$f":"N12","v":212},{"$f":"COUNTIF(L130:L159,AN12)","v":0},{"$f":"AO12/(AQ4-AO11)","v":0},{"$f":"IF(AP12=0,0,(AP12*((LOG(AP12))/LOG(2))))","v":0},null,{"$f":"N12","v":212},{"$f":"COUNTIF(L160:L190,AS12)","v":1},{"$f":"AT12/(AV4-AT11)","v":3.3333333333333333E-2},{"$f":"IF(AU12=0,0,(AU12*((LOG(AU12))/LOG(2))))","v":-0.16356301985361729}]
[12,925,24,940,24,959,null,null,null,null,0,122,null,221,{"$f":"COUNTIF($L$7:$L$500,N13)","v":0},{"$f":"O13/$Q$4","v":0},{"$f":"IF(P13=0,0,(P13*((LOG(P13))/LOG(2))))","v":0},null,null,{"$f":"N13","v":221},{"$f":"COUNTIF(L7:L37,T13)","v":0},{"$f":"U13/(W4-U11)","v":0},{"$f":"IF(V13=0,0,(V13*((LOG(V13))/LOG(2))))","v":0},null,{"$f":"N13","v":221},{"$f":"COUNTIF(L38:L67,Y13)","v":0},{"$f":"Z13/(AB4-Z11)","v":0},{"$f":"IF(AA13=0,0,(AA13*((LOG(AA13))/LOG(2))))","v":0},null,{"$f":"N13","v":221},{"$f":"COUNTIF(L68:L98,AD13)","v":0},{"$f":"AE13/(AG4-AE11)","v":0},{"$f":"IF(AF13=0,0,(AF13*((LOG(AF13))/LOG(2))))","v":0},null,{"$f":"N13","v":221},{"$f":"COUNTIF(L99:L129,AI13)","v":0},{"$f":"AJ13/(AL4-AJ11)","v":0},{"$f":"IF(AK13=0,0,(AK13*((LOG(AK13))/LOG(2))))","v":0},null,{"$f":"N13","v":221},{"$f":"COUNTIF(L130:L159,AN13)","v":0},{"$f":"AO13/(AQ4-AO11)","v":0},{"$f":"IF(AP13=0,0,(AP13*((LOG(AP13))/LOG(2))))","v":0},null,{"$f":"N13","v":221},{"$f":"COUNTIF(L160:L190,AS13)","v":0},{"$f":"AT13/(AV4-AT11)","v":0},{"$f":"IF(AU13=0,0,(AU13*((LOG(AU13))/LOG(2))))","v":0}]
[12,1076,24,1083,24,1091,null,null,null,null,0,122,null,222,{"$f":"COUNTIF($L$7:$L$500,N14)","v":19},{"$f":"O14/$Q$4","v":0.10326086956521739},{"$f":"IF(P14=0,0,(P14*((LOG(P14))/LOG(2))))","v":-0.3382448609220387},null,null,{"$f":"N14","v":222},{"$f":"COUNTIF(L7:L37,T14)","v":4},{"$f":"U14/(W4-U11)","v":0.12903225806451613},{"$f":"IF(V14=0,0,(V14*((LOG(V14))/LOG(2))))","v":-0.38118662069508069},null,{"$f":"N14","v":222},{"$f":"COUNTIF(L38:L67,Y14)","v":3},{"$f":"Z14/(AB4-Z11)","v":0.1},{"$f":"IF(AA14=0,0,(AA14*((LOG(AA14))/LOG(2))))","v":-0.33219280948873625},null,{"$f":"N14","v":222},{"$f":"COUNTIF(L68:L98,AD14)","v":5},{"$f":"AE14/(AG4-AE11)","v":0.16129032258064516},{"$f":"IF(AF14=0,0,(AF14*((LOG(AF14))/LOG(2))))","v":-0.42455938959669559},null,{"$f":"N14","v":222},{"$f":"COUNTIF(L99:L129,AI14)","v":1},{"$f":"AJ14/(AL4-AJ11)","v":3.2258064516129031E-2},{"$f":"IF(AK14=0,0,(AK14*((LOG(AK14))/LOG(2))))","v":-0.15981278420602821},null,{"$f":"N14","v":222},{"$f":"COUNTIF(L130:L159,AN14)","v":3},{"$f":"AO14/(AQ4-AO11)","v":0.1},{"$f":"IF(AP14=0,0,(AP14*((LOG(AP14))/LOG(2))))","v":-0.33219280948873625},null,{"$f":"N14","v":222},{"$f":"COUNTIF(L160:L190,AS14)","v":3},{"$f":"AT14/(AV4-AT11)","v":0.1},{"$f":"IF(AU14=0,0,(AU14*((LOG(AU14))/LOG(2))))","v":-0.33219280948873625}]
[21,1194,22,1203,24,1210,null,null,null,null,0,222,null,null,null,{"$f":"SUM(P7:P14)","v":1},{"$f":"-SUM(Q7:Q14)","v":2.0518651346169623},null,null,null,null,{"$f":"SUM(V7:V14)","v":1},{"$f":"-SUM(W7:W14)","v":1.5277318665238087},null,null,null,{"$f":"SUM(AA7:AA14)","v":0.99999999999999989},{"$f":"-SUM(AB7:AB14)","v":1.8266781970562953},null,null,null,{"$f":"SUM(AF7:AF14)","v":1},{"$f":"-SUM(AG7:AG14)","v":2.0224973030216913},null,null,null,{"$f":"SUM(AK7:AK14)","v":0.99999999999999978},{"$f":"-SUM(AL7:AL14)","v":1.9300477309722159},null,null,null,{"$f":"SUM(AP7:AP14)","v":1},{"$f":"-SUM(AQ7:AQ14)","v":1.9819370635467042},null,null,null,{"$f":"SUM(AU7:AU14)","v":1},{"$f":"-SUM(AV7:AV14)","v":2.1974168451037093}]
[12,1308,24,1319,24,1330,null,null,null,null,0,122,null,null,null,"U=",{"$f":"Q15/(LOG(Q4)/LOG(2))","v":0.27272522597691407},null,null,null,null,"U1=",{"$f":"W15/(LOG(W4)/LOG(2))","v":0.30837128180019729},null,null,null,"U2=",{"$f":"AB15/(LOG(AB4)/LOG(2))","v":0.37226796918828864},null,null,null,"U3=",{"$f":"AG15/(LOG(AG4)/LOG(2))","v":0.4082392332296888},null,null,null,"U4=",{"$f":"AL15/(LOG(AL4)/LOG(2))","v":0.38957837155659619},null,null,null,"U5=",{"$f":"AQ15/(LOG(AQ4)/LOG(2))","v":0.40390895719592013},null,null,null,"U6=",{"$f":"AV15/(LOG(AV4)/LOG(2))","v":0.44354658302430333}]
[12,1427,24,1436,24,1443,null,null,null,null,0,122]
[12,1537,24,1546,24,1555,null,null,null,null,0,122]
[12,1653,24,1663,24,1673,null,null,null,null,0,122,null,"Total Target Seq"]
[12,1770,24,1775,24,1783,null,null,null,null,0,122,null,{"$f":"COUNTIF(L7:L190,G3)","v":1},null,31,30,31,31,30,31]
[12,1883,24,1887,24,1896,null,null,null,null,0,122,null,null,null,"% of reinforcement given in 6 equal intervals based on number of trials "]
[12,1991,24,1997,24,2005,null,null,null,null,0,122,null,null,null,"%_1","%_2","%_3","%_4","%_5","%_6"]
[12,2095,13,2099,13,2122,null,null,null,null,0,111,null,null,"target sequence",{"$f":"$G$3","v":211},{"$f":"$G$3","v":211},{"$f":"$G$3","v":211},{"$f":"$G$3","v":211},{"$f":"$G$3","v":211},{"$f":"$G$3","v":211}]
[12,2214,24,2224,24,2234,null,null,null,null,0,122,null,null,"total reinforcement",{"$f":"U11","v":0},{"$f":"Z11","v":0},{"$f":"AE11","v":0},{"$f":"AJ11","v":0},{"$f":"AO11","v":0},{"$f":"AT11","v":1}]
[12,2329,24,2336,24,2339,null,null,null,null,0,122,null,null,"% target"]
[12,2437,24,2452,24,2459,null,null,null,null,0,122,null,null,"CCRF"]
[12,2555,24,2566,24,2573,null,null,null,null,0,122,null,null,"% CCRf"]
[12,2666,13,2675,24,2680,null,null,null,null,0,112,null,null,"average response rate",{"$f":"F37/P20","v":120.80645161290323},{"$f":"(F67-F37)/Q20","v":124.8},{"$f":"(F98-F67)/R20","v":160.48387096774192},{"$f":"(F129-F98)/S20","v":126.51612903225806},{"$f":"(F159-F129)/T20","v":117.53333333333333},{"$f":"(F190-F159)/U20","v":127.93548387096774}]
[21,2782,22,2789,24,2799,null,null,null,null,0,222]
[12,2901,13,2904,24,2909,null,null,null,null,0,112]
[12,3005,13,3008,24,3025,null,null,null,null,0,112]
[12,3123,24,3129,24,3135,null,null,null,null,0,122]
[12,3231,24,3235,24,3252,null,null,null,null,0,122]
[12,3352,13,3358,24,3365,null,null,null,null,0,112]
[12,3467,13,3473,24,3481,null,null,null,null,0,112]
[12,3596,24,3612,24,3623,null,null,null,null,0,122]
[12,3725,24,3738,24,3745,null,null,null,null,0,122]
[12,3850,24,3866,24,3874,null,null,null,null,0,122]
[12,3972,24,3982,24,3989,null,null,null,null,0,122]
[12,4091,24,4100,24,4107,null,null,null,null,0,122]
[12,4203,24,4207,24,4217,null,null,null,null,0,122]
[21,4321,22,4327,24,4333,null,null,null,null,0,222]
[12,4430,13,4435,24,4447,null,null,null,null,0,112]
[12,4552,24,4567,24,4578,null,null,null,null,0,122]
[12,4673,24,4685,24,4697,null,null,null,null,0,122]
[12,4794,13,4797,24,4815,null,null,null,null,0,112]
[12,4913,13,4917,24,4927,null,null,null,null,0,112]
[12,5023,13,5028,24,5041,null,null,null,null,0,112]
[12,5191,13,5195,24,5206,null,null,null,null,0,112]
[12,5303,13,5305,13,5307,null,null,null,null,0,111]
[12,5481,24,5500,24,5514,null,null,null,null,0,122]
[21,5622,22,5638,24,5645,null,null,null,null,0,222]
[12,5741,24,5750,24,5755,null,null,null,null,0,122]
[12,5846,13,5855,13,5857,null,null,null,null,0,111]
[21,5956,22,5965,24,5973,null,null,null,null,0,222]
[12,6089,24,6102,24,6110,null,null,null,null,0,122]
[12,6231,13,6236,24,6246,null,null,null,null,0,112]
[12,6349,24,6363,24,6371,null,null,null,null,0,122]
[12,6468,24,6477,24,6491,null,null,null,null,0,122]
[12,6598,24,6608,13,6613,null,null,null,null,0,121]
[12,6710,24,6720,24,6729,null,null,null,null,0,122]
[12,6825,24,6837,24,6846,null,null,null,null,0,122]
[12,6940,24,6951,24,6957,null,null,null,null,0,122]
[12,7049,13,7053,24,7065,null,null,null,null,0,112]
[12,7159,24,7175,13,7183,null,null,null,null,0,121]
[12,7316,24,7360,24,7374,null,null,null,null,0,122]
[12,7469,24,7480,24,7489,null,null,null,null,0,122]
[12,7636,24,7647,24,7657,null,null,null,null,0,122]
[12,7762,24,7787,24,7795,null,null,null,null,0,122]
[12,7890,24,7896,24,7905,null,null,null,null,0,122]
[12,7997,24,8004,24,8013,null,null,null,null,0,122]
[12,8105,13,8113,24,8117,null,null,null,null,0,112]
[12,8220,24,8234,24,8244,null,null,null,null,0,122]
[12,8342,13,8354,24,8362,null,null,null,null,0,112]
[12,8455,24,8467,24,8475,null,null,null,null,0,122]
[21,8575,22,8585,24,8592,null,null,null,null,0,222]
[12,8689,13,8696,24,8706,null,null,null,null,0,112]
[12,8814,24,8829,13,8833,null,null,null,null,0,121]
[12,8936,13,8942,24,8960,null,null,null,null,0,112]
[12,9053,13,9062,24,9079,null,null,null,null,0,112]
[21,9191,22,9198,24,9205,null,null,null,null,0,222]
[12,10150,13,10156,13,10163,null,null,null,null,0,111]
[12,10261,24,10276,24,10287,null,null,null,null,0,122]
[12,10498,24,10513,24,10519,null,null,null,null,0,122]
[12,10827,13,10831,13,10841,null,null,null,null,0,111]
[21,10949,22,10960,24,10973,null,null,null,null,0,222]
[21,11082,22,11088,24,11097,null,null,null,null,0,222]
[21,11196,22,11201,24,11209,null,null,null,null,0,222]
[12,11300,13,11306,24,11319,null,null,null,null,0,112]
[12,11503,13,11508,24,11527,null,null,null,null,0,112]
[12,11639,13,11643,24,11652,null,null,null,null,0,112]
[12,11744,13,11748,24,11764,null,null,null,null,0,112]
[12,11886,24,11903,24,11910,null,null,null,null,0,122]
[12,12018,24,12021,24,12028,null,null,null,null,0,122]
[12,12120,13,12128,13,12131,null,null,null,null,0,111]
[12,12228,13,12231,13,12235,null,null,null,null,0,111]
[12,12325,13,12329,24,12344,null,null,null,null,0,112]
[12,12439,24,12456,24,12464,null,null,null,null,0,122]
[12,12567,24,12569,24,12576,null,null,null,null,0,122]
[21,12677,22,12681,24,12688,null,null,null,null,0,222]
[12,12780,13,12790,24,12801,null,null,null,null,0,112]
[12,12897,13,12900,24,12913,null,null,null,null,0,112]
[12,13013,13,13020,24,13027,null,null,null,null,0,112]
[12,13125,13,13129,24,13144,null,null,null,null,0,112]
[12,13241,13,13244,24,13255,null,null,null,null,0,112]
[12,13356,13,13358,13,13361,null,null,null,null,0,111]
[12,13470,24,13475,24,13481,null,null,null,null,0,122]
[12,13592,13,13598,13,13605,null,null,null,null,0,111]
[12,13704,24,13711,24,13719,null,null,null,null,0,122]
[12,13817,24,13821,24,13828,null,null,null,null,0,122]
[12,13930,13,13934,13,13938,null,null,null,null,0,111]
[12,14032,13,14040,13,14047,null,null,null,null,0,111]
[12,14187,24,14200,24,14206,null,null,null,null,0,122]
[12,14316,13,14321,24,14343,null,null,null,null,0,112]
[12,14438,24,14452,13,14457,null,null,null,null,0,121]
[12,14550,13,14561,24,14578,null,null,null,null,0,112]
[12,14682,13,14686,13,14692,null,null,null,null,0,111]
[12,14794,13,14801,24,14819,null,null,null,null,0,112]
[12,14913,24,14919,24,14925,null,null,null,null,0,122]
[12,15035,13,15043,24,15055,null,null,null,null,0,112]
[12,15208,13,15214,24,15228,null,null,null,null,0,112]
[12,15328,24,15335,24,15341,null,null,null,null,0,122]
[12,15439,13,15443,24,15456,null,null,null,null,0,112]
[12,15606,24,15623,24,15633,null,null,null,null,0,122]
[12,15805,13,15812,24,15826,null,null,null,null,0,112]
[12,15952,24,15965,13,15972,null,null,null,null,0,121]
[12,16116,24,16135,24,16153,null,null,null,null,0,122]
[12,16255,24,16269,24,16276,null,null,null,null,0,122]
[12,16371,13,16380,13,16386,null,null,null,null,0,111]
[21,16490,22,16495,24,16502,null,null,null,null,0,222]
[12,16603,13,16608,24,16614,null,null,null,null,0,112]
[12,16713,24,16717,24,16723,null,null,null,null,0,122]
[12,16817,24,16834,24,16844,null,null,null,null,0,122]
[12,16944,24,16960,24,16973,null,null,null,null,0,122]
[12,17081,24,17093,24,17100,null,null,null,null,0,122]
[12,17193,24,17206,24,17215,null,null,null,null,0,122]
[12,17307,13,17314,24,17325,null,null,null,null,0,112]
[12,17422,24,17426,13,17429,null,null,null,null,0,121]
[12,17531,24,17543,13,17545,null,null,null,null,0,121]
[12,17638,13,17647,24,17667,null,null,null,null,0,112]
[12,17768,13,17783,24,17786,null,null,null,null,0,112]
[12,17884,24,17896,24,17905,null,null,null,null,0,122]
[12,18001,13,18005,24,18018,null,null,null,null,0,112]
[21,18128,22,18134,24,18142,null,null,null,null,0,222]
[12,18241,13,18244,24,18250,null,null,null,null,0,112]
[12,18351,24,18362,13,18367,null,null,null,null,0,121]
[12,18461,24,18468,24,18474,null,null,null,null,0,122]
[12,18566,24,18577,24,18583,null,null,null,null,0,122]
[21,18690,22,18696,24,18705,null,null,null,null,0,222]
[12,18839,13,18841,13,18846,null,null,null,null,0,111]
[12,18943,24,18947,24,18954,null,null,null,null,0,122]
[12,19055,13,19058,24,19072,null,null,null,null,0,112]
[12,19166,24,19173,24,19179,null,null,null,null,0,122]
[12,19271,24,19280,24,19287,null,null,null,null,0,122]
[12,19402,13,19406,24,19417,null,null,null,null,0,112]
[12,19542,13,19546,24,19567,null,null,null,null,0,112]
[12,19662,13,19669,13,19676,null,null,null,null,0,111]
[12,19780,13,19792,24,19794,null,null,null,null,0,112]
[12,19891,24,19904,24,19912,null,null,null,null,0,122]
[12,20005,13,20008,24,20012,null,null,null,null,0,112]
[12,20110,24,20124,24,20131,null,null,null,null,0,122]
[21,20326,22,20338,24,20347,null,null,null,null,0,222]
[12,20523,13,20537,24,20550,null,null,null,null,0,112]
[21,20659,11,20661,11,20682,null,null,null,null,0,211]
[12,20815,13,20828,24,20835,null,null,null,null,0,112]
[12,20953,13,20958,24,20973,null,null,null,null,0,112]
[12,21099,24,21112,13,21114,null,null,null,null,0,121]
[12,21211,24,21215,24,21222,null,null,null,null,0,122]
[12,21317,24,21329,24,21337,null,null,null,null,0,122]
[12,21430,13,21439,13,21443,null,null,null,null,0,111]
[12,21563,13,21568,24,21581,null,null,null,null,0,112]
[12,21683,13,21688,24,21701,null,null,null,null,0,112]
[12,21792,13,21801,13,21807,null,null,null,null,0,111]
[12,21900,24,21908,13,21913,null,null,null,null,0,121]
[12,22019,24,22021,24,22027,null,null,null,null,0,122]
[21,22126,11,22131,22,22134,null,null,null,null,0,212]
[21,22234,22,22240,24,22248,null,null,null,null,0,222]
[12,22342,13,22345,24,22351,null,null,null,null,0,112]
[12,22485,13,22493,13,22498,null,null,null,null,0,111]
[12,22591,13,22600,24,22602,null,null,null,null,0,112]
[12,22754,13,22760,24,22777,null,null,null,null,0,112]
[12,22878,24,22901,13,22906,null,null,null,null,0,121]
[12,23073,24,23076,24,23083,null,null,null,null,0,122]
[12,23178,24,23186,24,23192,null,null,null,null,0,122]
[12,23284,13,23290,24,23300,null,null,null,null,0,112]
[21,23392,22,23399,24,23405,null,null,null,null,0,222]
[12,23527,13,23531,24,23547,null,null,null,null,0,112]
[12,23646,24,23658,24,23667,null,null,null,null,0,122]
[12,23762,24,23768,24,23774,null,null,null,null,0,122]
[12,23867,13,23873,24,23878,null,null,null,null,0,112]

{"sheet":"!N128910.Gus","index":4,"n_rows":191,"n_cols":48,"rows_kept":191,"cut":false,"hidden":false,"merged":[[4,39,4,42],[5,39,5,40],[4,44,4,47],[5,44,5,45],[4,24,4,27],[5,24,5,25],[4,29,4,32],[5,29,5,30],[4,34,4,37],[5,34,5,35],[1,1,1,2],[5,13,5,14],[18,13,18,14],[19,13,19,14],[4,19,4,22],[5,19,5,20]]}
["Report for:!N128910.Gus"]
["Date:","<date>"]
["Hen:","<hen>",null,null,null,"Correct Sequence",{"$f":"Start!J2","v":211},null,null,null,null,null,null,null,null,"Total Sequences in Data",{"$f":"4994-COUNTBLANK(L7:L5000)","v":185},null,null,null,null,"Total Sequences in Block Data",{"$f":"COUNTA(L7:L37)","v":31},null,null,null,"Total Sequences in Block Data",{"$f":"COUNTA(L38:L68)","v":31},null,null,null,"Total Sequences in Block Data",{"$f":"COUNTA(L69:L98)","v":30},null,null,null,"Total Sequences in Block Data",{"$f":"COUNTA(L99:L129)","v":31},null,null,null,"Total Sequences in Block Data",{"$f":"COUNTA(L130:L160)","v":31},null,null,null,"Total Sequences in Block Data",{"$f":"COUNTA(L161:L191)","v":31}]
[null,null,null,null,null,null,null,null,null,null,null,null,null,null,null,"Total Sequences in Summary",{"$f":"SUM(O7:O14)","v":185},null,null,null,null,"Total Sequences in Block Summary",{"$f":"SUM(U7:U14)","v":31},null,null,null,"Total Sequences in Block Summary",{"$f":"SUM(Z7:Z14)","v":31},null,null,null,"Total Sequences in Block Summary",{"$f":"SUM(AE7:AE14)","v":30},null,null,null,"Total Sequences in Block Summary",{"$f":"SUM(AJ7:AJ14)","v":31},null,null,null,"Total Sequences in Block Summary",{"$f":"SUM(AO7:AO14)","v":31},null,null,null,"Total Sequences in Block Summary",{"$f":"SUM(AT7:AT14)","v":31}]
[null,null,null,null,null,null,null,null,null,null,null,null,null,null,null,null,null,null,null,"Block 1",null,null,null,null,"Block 2",null,null,null,null,"Block 3",null,null,null,null,"Block 4",null,null,null,null,"Block 5",null,null,null,null,"Block 6"]
["Sequence\nComponent\n1","Time\n1","Sequence\nComponent\n2","Time\n2","Sequence\nComponent\n3","Time\n3","Sequence\nComponent\n4","Time\n4","Sequence\nComponent\n5","Time\n5","Correct?\n0=No 1=Yes","Sequence",null,"Frequency",null,"Relative Frequency","Variability",null,null,"Frequency",null,"Relative Frequency","Variability",null,"Frequency",null,"Relative Frequency","Variability",null,"Frequency",null,"Relative Frequency","Variability",null,"Frequency",null,"Relative Frequency","Variability",null,"Frequency",null,"Relative Frequency","Variability",null,"Frequency",null,"Relative Frequency","Variability"]
[12,14,13,24,24,30,null,null,null,null,0,112,null,111,{"$f":"COUNTIF($L$7:$L$500,N7)","v":25},{"$f":"O7/$Q$4","v":0.13513513513513514},{"$f":"IF(P7=0,0,(P7*((LOG(P7))/LOG(2))))","v":-0.39020611766778207},null,null,{"$f":"N7","v":111},{"$f":"COUNTIF(L7:L37,T7)","v":4},{"$f":"U7/(W4-U11)","v":0.12903225806451613},{"$f":"IF(V7=0,0,(V7*((LOG(V7))/LOG(2))))","v":-0.38118662069508069},null,{"$f":"N7","v":111},{"$f":"COUNTIF(L38:L68,Y7)","v":3},{"$f":"Z7/(AB4-Z11)","v":9.6774193548387094E-2},{"$f":"IF(AA7=0,0,(AA7*((LOG(AA7))/LOG(2))))","v":-0.32605488480635986},null,{"$f":"N7","v":111},{"$f":"COUNTIF(L69:L98,AD7)","v":3},{"$f":"AE7/(AG4-AE11)","v":0.1},{"$f":"IF(AF7=0,0,(AF7*((LOG(AF7))/LOG(2))))","v":-0.33219280948873625},null,{"$f":"N7","v":111},{"$f":"COUNTIF(L99:L129,AI7)","v":4},{"$f":"AJ7/(AL4-AJ11)","v":0.12903225806451613},{"$f":"IF(AK7=0,0,(AK7*((LOG(AK7))/LOG(2))))","v":-0.38118662069508069},null,{"$f":"N7","v":111},{"$f":"COUNTIF(L130:L160,AN7)","v":4},{"$f":"AO7/(AQ4-AO11)","v":0.12903225806451613},{"$f":"IF(AP7=0,0,(AP7*((LOG(AP7))/LOG(2))))","v":-0.38118662069508069},null,{"$f":"N7","v":111},{"$f":"COUNTIF(L161:L191,AS7)","v":7},{"$f":"AT7/(AV4-AT11)","v":0.22580645161290322},{"$f":"IF(AU7=0,0,(AU7*((LOG(AU7))/LOG(2))))","v":-0.48477063607435156}]
[12,128,13,155,24,168,null,null,null,null,0,112,null,112,{"$f":"COUNTIF($L$7:$L$500,N8)","v":82},{"$f":"O8/$Q$4","v":0.44324324324324327},{"$f":"IF(P8=0,0,(P8*((LOG(P8))/LOG(2))))","v":-0.52029197504678226},null,null,{"$f":"N8","v":112},{"$f":"COUNTIF(L7:L37,T8)","v":11},{"$f":"U8/(W4-U11)","v":0.35483870967741937},{"$f":"IF(V8=0,0,(V8*((LOG(V8))/LOG(2))))","v":-0.53040037449178568},null,{"$f":"N8","v":112},{"$f":"COUNTIF(L38:L68,Y8)","v":9},{"$f":"Z8/(AB4-Z11)","v":0.29032258064516131},{"$f":"IF(AA8=0,0,(AA8*((LOG(AA8))/LOG(2))))","v":-0.5180142509839053},null,{"$f":"N8","v":112},{"$f":"COUNTIF(L69:L98,AD8)","v":15},{"$f":"AE8/(AG4-AE11)","v":0.5},{"$f":"IF(AF8=0,0,(AF8*((LOG(AF8))/LOG(2))))","v":-0.5},null,{"$f":"N8","v":112},{"$f":"COUNTIF(L99:L129,AI8)","v":20},{"$f":"AJ8/(AL4-AJ11)","v":0.64516129032258063},{"$f":"IF(AK8=0,0,(AK8*((LOG(AK8))/LOG(2))))","v":-0.40791497774162117},null,{"$f":"N8","v":112},{"$f":"COUNTIF(L130:L160,AN8)","v":10},{"$f":"AO8/(AQ4-AO11)","v":0.32258064516129031},{"$f":"IF(AP8=0,0,(AP8*((LOG(AP8))/LOG(2))))","v":-0.52653813403210092},null,{"$f":"N8","v":112},{"$f":"COUNTIF(L161:L191,AS8)","v":17},{"$f":"AT8/(AV4-AT11)","v":0.54838709677419351},{"$f":"IF(AU8=0,0,(AU8*((LOG(AU8))/LOG(2))))","v":-0.47530545081681003}]
[12,333,13,338,13,341,null,null,null,null,0,111,null,121,{"$f":"COUNTIF($L$7:$L$500,N9)","v":12},{"$f":"O9/$Q$4","v":6.4864864864864868E-2},{"$f":"IF(P9=0,0,(P9*((LOG(P9))/LOG(2))))","v":-0.25598393252725332},null,null,{"$f":"N9","v":121},{"$f":"COUNTIF(L7:L37,T9)","v":2},{"$f":"U9/(W4-U11)","v":6.4516129032258063E-2},{"$f":"IF(V9=0,0,(V9*((LOG(V9))/LOG(2))))","v":-0.25510943937979835},null,{"$f":"N9","v":121},{"$f":"COUNTIF(L38:L68,Y9)","v":3},{"$f":"Z9/(AB4-Z11)","v":9.6774193548387094E-2},{"$f":"IF(AA9=0,0,(AA9*((LOG(AA9))/LOG(2))))","v":-0.32605488480635986},null,{"$f":"N9","v":121},{"$f":"COUNTIF(L69:L98,AD9)","v":1},{"$f":"AE9/(AG4-AE11)","v":3.3333333333333333E-2},{"$f":"IF(AF9=0,0,(AF9*((LOG(AF9))/LOG(2))))","v":-0.16356301985361729},null,{"$f":"N9","v":121},{"$f":"COUNTIF(L99:L129,AI9)","v":2},{"$f":"AJ9/(AL4-AJ11)","v":6.4516129032258063E-2},{"$f":"IF(AK9=0,0,(AK9*((LOG(AK9))/LOG(2))))","v":-0.25510943937979835},null,{"$f":"N9","v":121},{"$f":"COUNTIF(L130:L160,AN9)","v":3},{"$f":"AO9/(AQ4-AO11)","v":9.6774193548387094E-2},{"$f":"IF(AP9=0,0,(AP9*((LOG(AP9))/LOG(2))))","v":-0.32605488480635986},null,{"$f":"N9","v":121},{"$f":"COUNTIF(L161:L191,AS9)","v":1},{"$f":"AT9/(AV4-AT11)","v":3.2258064516129031E-2},{"$f":"IF(AU9=0,0,(AU9*((LOG(AU9))/LOG(2))))","v":-0.15981278420602821}]
[12,502,13,506,13,511,null,null,null,null,0,111,null,122,{"$f":"COUNTIF($L$7:$L$500,N10)","v":54},{"$f":"O10/$Q$4","v":0.29189189189189191},{"$f":"IF(P10=0,0,(P10*((LOG(P10))/LOG(2))))","v":-0.51854418243812728},null,null,{"$f":"N10","v":122},{"$f":"COUNTIF(L7:L37,T10)","v":13},{"$f":"U10/(W4-U11)","v":0.41935483870967744},{"$f":"IF(V10=0,0,(V10*((LOG(V10))/LOG(2))))","v":-0.52576889352242517},null,{"$f":"N10","v":122},{"$f":"COUNTIF(L38:L68,Y10)","v":12},{"$f":"Z10/(AB4-Z11)","v":0.38709677419354838},{"$f":"IF(AA10=0,0,(AA10*((LOG(AA10))/LOG(2))))","v":-0.5300259908383429},null,{"$f":"N10","v":122},{"$f":"COUNTIF(L69:L98,AD10)","v":7},{"$f":"AE10/(AG4-AE11)","v":0.23333333333333334},{"$f":"IF(AF10=0,0,(AF10*((LOG(AF10))/LOG(2))))","v":-0.48989165716187993},null,{"$f":"N10","v":122},{"$f":"COUNTIF(L99:L129,AI10)","v":4},{"$f":"AJ10/(AL4-AJ11)","v":0.12903225806451613},{"$f":"IF(AK10=0,0,(AK10*((LOG(AK10))/LOG(2))))","v":-0.38118662069508069},null,{"$f":"N10","v":122},{"$f":"COUNTIF(L130:L160,AN10)","v":13},{"$f":"AO10/(AQ4-AO11)","v":0.41935483870967744},{"$f":"IF(AP10=0,0,(AP10*((LOG(AP10))/LOG(2))))","v":-0.52576889352242517},null,{"$f":"N10","v":122},{"$f":"COUNTIF(L161:L191,AS10)","v":5},{"$f":"AT10/(AV4-AT11)","v":0.16129032258064516},{"$f":"IF(AU10=0,0,(AU10*((LOG(AU10))/LOG(2))))","v":-0.42455938959669559}]
[12,655,13,660,13,665,null,null,null,null,0,111,null,211,{"$f":"COUNTIF($L$7:$L$500,N11)","v":0},{"$f":"O11/$Q$4","v":0},{"$f":"IF(P11=0,0,(P11*((LOG(P11))/LOG(2))))","v":0},null,null,{"$f":"N11","v":211},{"$f":"COUNTIF(L7:L37,T11)","v":0},null,null,null,{"$f":"N11","v":211},{"$f":"COUNTIF(L38:L68,Y11)","v":0},null,null,null,{"$f":"N11","v":211},{"$f":"COUNTIF(L69:L98,AD11)","v":0},null,null,null,{"$f":"N11","v":211},{"$f":"COUNTIF(L99:L129,AI11)","v":0},null,null,null,{"$f":"N11","v":211},{"$f":"COUNTIF(L130:L160,AN11)","v":0},null,null,null,{"$f":"N11","v":211},{"$f":"COUNTIF(L161:L191,AS11)","v":0}]
[12,768,24,772,24,778,null,null,null,null,0,122,null,212,{"$f":"COUNTIF($L$7:$L$500,N12)","v":4},{"$f":"O12/$Q$4","v":2.1621621621621623E-2},{"$f":"IF(P12=0,0,(P12*((LOG(P12))/LOG(2))))","v":-0.11959743698413648},null,null,{"$f":"N12","v":212},{"$f":"COUNTIF(L7:L37,T12)","v":0},{"$f":"U12/(W4-U11)","v":0},{"$f":"IF(V12=0,0,(V12*((LOG(V12))/LOG(2))))","v":0},null,{"$f":"N12","v":212},{"$f":"COUNTIF(L38:L68,Y12)","v":2},{"$f":"Z12/(AB4-Z11)","v":6.4516129032258063E-2},{"$f":"IF(AA12=0,0,(AA12*((LOG(AA12))/LOG(2))))","v":-0.25510943937979835},null,{"$f":"N12","v":212},{"$f":"COUNTIF(L69:L98,AD12)","v":2},{"$f":"AE12/(AG4-AE11)","v":6.6666666666666666E-2},{"$f":"IF(AF12=0,0,(AF12*((LOG(AF12))/LOG(2))))","v":-0.26045937304056793},null,{"$f":"N12","v":212},{"$f":"COUNTIF(L99:L129,AI12)","v":0},{"$f":"AJ12/(AL4-AJ11)","v":0},{"$f":"IF(AK12=0,0,(AK12*((LOG(AK12))/LOG(2))))","v":0},null,{"$f":"N12","v":212},{"$f":"COUNTIF(L130:L160,AN12)","v":0},{"$f":"AO12/(AQ4-AO11)","v":0},{"$f":"IF(AP12=0,0,(AP12*((LOG(AP12))/LOG(2))))","v":0},null,{"$f":"N12","v":212},{"$f":"COUNTIF(L161:L191,AS12)","v":0},{"$f":"AT12/(AV4-AT11)","v":0},{"$f":"IF(AU12=0,0,(AU12*((LOG(AU12))/LOG(2))))","v":0}]
[12,949,24,962,13,967,null,null,null,null,0,121,null,221,{"$f":"COUNTIF($L$7:$L$500,N13)","v":2},{"$f":"O13/$Q$4","v":1.0810810810810811E-2},{"$f":"IF(P13=0,0,(P13*((LOG(P13))/LOG(2))))","v":-7.0609529302879045E-2},null,null,{"$f":"N13","v":221},{"$f":"COUNTIF(L7:L37,T13)","v":0},{"$f":"U13/(W4-U11)","v":0},{"$f":"IF(V13=0,0,(V13*((LOG(V13))/LOG(2))))","v":0},null,{"$f":"N13","v":221},{"$f":"COUNTIF(L38:L68,Y13)","v":0},{"$f":"Z13/(AB4-Z11)","v":0},{"$f":"IF(AA13=0,0,(AA13*((LOG(AA13))/LOG(2))))","v":0},null,{"$f":"N13","v":221},{"$f":"COUNTIF(L69:L98,AD13)","v":1},{"$f":"AE13/(AG4-AE11)","v":3.3333333333333333E-2},{"$f":"IF(AF13=0,0,(AF13*((LOG(AF13))/LOG(2))))","v":-0.16356301985361729},null,{"$f":"N13","v":221},{"$f":"COUNTIF(L99:L129,AI13)","v":0},{"$f":"AJ13/(AL4-AJ11)","v":0},{"$f":"IF(AK13=0,0,(AK13*((LOG(AK13))/LOG(2))))","v":0},null,{"$f":"N13","v":221},{"$f":"COUNTIF(L130:L160,AN13)","v":1},{"$f":"AO13/(AQ4-AO11)","v":3.2258064516129031E-2},{"$f":"IF(AP13=0,0,(AP13*((LOG(AP13))/LOG(2))))","v":-0.15981278420602821},null,{"$f":"N13","v":221},{"$f":"COUNTIF(L161:L191,AS13)","v":0},{"$f":"AT13/(AV4-AT11)","v":0},{"$f":"IF(AU13=0,0,(AU13*((LOG(AU13))/LOG(2))))","v":0}]
[12,1094,13,1101,24,1119,null,null,null,null,0,112,null,222,{"$f":"COUNTIF($L$7:$L$500,N14)","v":6},{"$f":"O14/$Q$4","v":3.2432432432432434E-2},{"$f":"IF(P14=0,0,(P14*((LOG(P14))/LOG(2))))","v":-0.16042439869605912},null,null,{"$f":"N14","v":222},{"$f":"COUNTIF(L7:L37,T14)","v":1},{"$f":"U14/(W4-U11)","v":3.2258064516129031E-2},{"$f":"IF(V14=0,0,(V14*((LOG(V14))/LOG(2))))","v":-0.15981278420602821},null,{"$f":"N14","v":222},{"$f":"COUNTIF(L38:L68,Y14)","v":2},{"$f":"Z14/(AB4-Z11)","v":6.4516129032258063E-2},{"$f":"IF(AA14=0,0,(AA14*((LOG(AA14))/LOG(2))))","v":-0.25510943937979835},null,{"$f":"N14","v":222},{"$f":"COUNTIF(L69:L98,AD14)","v":1},{"$f":"AE14/(AG4-AE11)","v":3.3333333333333333E-2},{"$f":"IF(AF14=0,0,(AF14*((LOG(AF14))/LOG(2))))","v":-0.16356301985361729},null,{"$f":"N14","v":222},{"$f":"COUNTIF(L99:L129,AI14)","v":1},{"$f":"AJ14/(AL4-AJ11)","v":3.2258064516129031E-2},{"$f":"IF(AK14=0,0,(AK14*((LOG(AK14))/LOG(2))))","v":-0.15981278420602821},null,{"$f":"N14","v":222},{"$f":"COUNTIF(L130:L160,AN14)","v":0},{"$f":"AO14/(AQ4-AO11)","v":0},{"$f":"IF(AP14=0,0,(AP14*((LOG(AP14))/LOG(2))))","v":0},null,{"$f":"N14","v":222},{"$f":"COUNTIF(L161:L191,AS14)","v":1},{"$f":"AT14/(AV4-AT11)","v":3.2258064516129031E-2},{"$f":"IF(AU14=0,0,(AU14*((LOG(AU14))/LOG(2))))","v":-0.15981278420602821}]
[12,1226,24,1233,24,1238,null,null,null,null,0,122,null,null,null,{"$f":"SUM(P7:P14)","v":1},{"$f":"-SUM(Q7:Q14)","v":2.0356575726630193},null,null,null,null,{"$f":"SUM(V7:V14)","v":1},{"$f":"-SUM(W7:W14)","v":1.8522781122951182},null,null,null,{"$f":"SUM(AA7:AA14)","v":1},{"$f":"-SUM(AB7:AB14)","v":2.2103688901945646},null,null,null,{"$f":"SUM(AF7:AF14)","v":1},{"$f":"-SUM(AG7:AG14)","v":2.0732328992520359},null,null,null,{"$f":"SUM(AK7:AK14)","v":0.99999999999999989},{"$f":"-SUM(AL7:AL14)","v":1.585210442717609},null,null,null,{"$f":"SUM(AP7:AP14)","v":1},{"$f":"-SUM(AQ7:AQ14)","v":1.9193613172619948},null,null,null,{"$f":"SUM(AU7:AU14)","v":0.99999999999999989},{"$f":"-SUM(AV7:AV14)","v":1.7042610448999134}]
[12,1339,24,1345,24,1353,null,null,null,null,0,122,null,null,null,"U=",{"$f":"Q15/(LOG(Q4)/LOG(2))","v":0.27029006342794715},null,null,null,null,"U1=",{"$f":"W15/(LOG(W4)/LOG(2))","v":0.37388064506278579},null,null,null,"U2=",{"$f":"AB15/(LOG(AB4)/LOG(2))","v":0.44616094149526264},null,null,null,"U3=",{"$f":"AG15/(LOG(AG4)/LOG(2))","v":0.42251459633265531},null,null,null,"U4=",{"$f":"AL15/(LOG(AL4)/LOG(2))","v":0.31997327990295554},null,null,null,"U5=",{"$f":"AQ15/(LOG(AQ4)/LOG(2))","v":0.38742132871034962},null,null,null,"U6=",{"$f":"AV15/(LOG(AV4)/LOG(2))","v":0.34400353521050259}]
[12,1507,13,1511,24,1525,null,null,null,null,0,112]
[12,1626,24,1637,24,1651,null,null,null,null,0,122]
[12,1750,13,1753,24,1764,null,null,null,null,0,112,null,"Total Target Seq"]
[12,1862,13,1865,24,1874,null,null,null,null,0,112,null,{"$f":"COUNTIF(L7:L191,G3)","v":0},null,31,31,30,31,31,31]
[12,1965,24,1977,24,1985,null,null,null,null,0,122,null,null,null,"% of reinforcement given in 6 equal intervals based on number of trials "]
[12,2086,24,2088,24,2099,null,null,null,null,0,122,null,null,null,"%_1","%_2","%_3","%_4","%_5","%_6"]
[12,2189,13,2193,24,2203,null,null,null,null,0,112,null,null,"target sequence",{"$f":"$G$3","v":211},{"$f":"$G$3","v":211},{"$f":"$G$3","v":211},{"$f":"$G$3","v":211},{"$f":"$G$3","v":211},{"$f":"$G$3","v":211}]
[12,2303,24,2309,24,2321,null,null,null,null,0,122,null,null,"total reinforcement",{"$f":"U11","v":0},{"$f":"Z11","v":0},{"$f":"AE11","v":0},{"$f":"AJ11","v":0},{"$f":"AO11","v":0},{"$f":"AT11","v":0}]
[12,2423,24,2439,24,2453,null,null,null,null,0,122,null,null,"% target"]
[12,2554,24,2559,24,2572,null,null,null,null,0,122,null,null,"CCRF"]
[21,2679,22,2686,24,2692,null,null,null,null,0,222,null,null,"% CCRf"]
[12,2794,13,2816,13,2822,null,null,null,null,0,111,null,null,"average response rate",{"$f":"F37/P20","v":127.80645161290323},{"$f":"(F68-F37)/Q20","v":133.48387096774192},{"$f":"(F98-F68)/R20","v":126.73333333333333},{"$f":"(F129-F98)/S20","v":128.90322580645162},{"$f":"(F160-F129)/T20","v":124.2258064516129},{"$f":"(F191-F160)/U20","v":135.61290322580646}]
[12,2922,24,2938,24,2950,null,null,null,null,0,122]
[12,3070,13,3075,24,3086,null,null,null,null,0,112]
[12,3184,24,3189,24,3198,null,null,null,null,0,122]
[12,3301,13,3309,24,3328,null,null,null,null,0,112]
[12,3422,24,3433,13,3439,null,null,null,null,0,121]
[12,3568,24,3580,24,3592,null,null,null,null,0,122]
[12,3702,13,3707,24,3719,null,null,null,null,0,112]
[12,3820,13,3823,24,3839,null,null,null,null,0,112]
[12,3942,24,3952,24,3962,null,null,null,null,0,122]
[12,4059,13,4062,24,4071,null,null,null,null,0,112]
[21,4177,22,4183,24,4193,null,null,null,null,0,222]
[12,4300,24,4315,24,4323,null,null,null,null,0,122]
[12,4432,24,4446,13,4450,null,null,null,null,0,121]
[12,4571,13,4574,24,4589,null,null,null,null,0,112]
[12,4681,13,4686,24,4703,null,null,null,null,0,112]
[12,4913,13,4916,24,4939,null,null,null,null,0,112]
[12,5040,13,5042,13,5046,null,null,null,null,0,111]
[12,5144,24,5151,24,5158,null,null,null,null,0,122]
[12,5310,24,5337,24,5340,null,null,null,null,0,122]
[12,5506,24,5531,24,5540,null,null,null,null,0,122]
[12,5680,24,5698,24,5705,null,null,null,null,0,122]
[12,5819,24,5830,24,5840,null,null,null,null,0,122]
[12,5956,13,5960,24,5975,null,null,null,null,0,112]
[12,6070,24,6079,24,6089,null,null,null,null,0,122]
[12,6181,13,6192,24,6204,null,null,null,null,0,112]
[21,6384,11,6386,22,6392,null,null,null,null,0,212]
[12,6498,24,6508,24,6515,null,null,null,null,0,122]
[12,6610,24,6623,24,6637,null,null,null,null,0,122]
[12,6749,13,6754,24,6768,null,null,null,null,0,112]
[12,6871,13,6875,13,6878,null,null,null,null,0,111]
[12,6980,24,6987,24,6990,null,null,null,null,0,122]
[12,7089,13,7097,24,7102,null,null,null,null,0,112]
[12,7196,24,7203,13,7205,null,null,null,null,0,121]
[12,7311,24,7328,24,7336,null,null,null,null,0,122]
[12,7489,13,7493,24,7507,null,null,null,null,0,112]
[12,7608,24,7624,13,7630,null,null,null,null,0,121]
[12,7728,24,7740,24,7751,null,null,null,null,0,122]
[21,7862,22,7870,24,7880,null,null,null,null,0,222]
[12,7972,13,7981,13,7984,null,null,null,null,0,111]
[21,8087,11,8092,22,8100,null,null,null,null,0,212]
[12,8193,13,8198,24,8204,null,null,null,null,0,112]
[12,8297,24,8322,24,8328,null,null,null,null,0,122]
[21,8445,11,8452,22,8459,null,null,null,null,0,212]
[12,8556,24,8559,24,8569,null,null,null,null,0,122]
[12,8662,13,8674,24,8678,null,null,null,null,0,112]
[21,8788,22,8793,13,8799,null,null,null,null,0,221]
[12,8896,13,8900,24,8925,null,null,null,null,0,112]
[12,9077,13,9081,24,9100,null,null,null,null,0,112]
[12,9203,13,9214,24,9222,null,null,null,null,0,112]
[12,9329,24,9332,24,9338,null,null,null,null,0,122]
[12,9441,24,9449,24,9460,null,null,null,null,0,122]
[12,9580,13,9590,24,9603,null,null,null,null,0,112]
[12,9726,13,9749,24,9772,null,null,null,null,0,112]
[12,9873,13,9878,24,9893,null,null,null,null,0,112]
[21,9998,22,10009,24,10018,null,null,null,null,0,222]
[12,10121,13,10126,24,10140,null,null,null,null,0,112]
[12,10245,13,10248,24,10265,null,null,null,null,0,112]
[12,10370,24,10388,13,10393,null,null,null,null,0,121]
[12,10531,13,10535,24,10552,null,null,null,null,0,112]
[12,10659,13,10665,24,10685,null,null,null,null,0,112]
[12,10784,13,10787,24,10799,null,null,null,null,0,112]
[12,10894,24,10902,24,10908,null,null,null,null,0,122]
[12,11005,24,11020,24,11027,null,null,null,null,0,122]
[12,11128,13,11131,13,11135,null,null,null,null,0,111]
[12,11236,24,11244,24,11251,null,null,null,null,0,122]
[21,11358,11,11361,22,11365,null,null,null,null,0,212]
[12,11463,13,11471,24,11481,null,null,null,null,0,112]
[12,11578,13,11583,13,11592,null,null,null,null,0,111]
[12,11713,13,11719,24,11745,null,null,null,null,0,112]
[12,11887,13,11894,13,11902,null,null,null,null,0,111]
[12,11995,13,12007,24,12009,null,null,null,null,0,112]
[12,12123,13,12126,24,12141,null,null,null,null,0,112]
[12,12241,13,12246,13,12257,null,null,null,null,0,111]
[12,12350,13,12358,24,12361,null,null,null,null,0,112]
[12,12483,13,12487,13,12491,null,null,null,null,0,111]
[12,12585,13,12599,24,12608,null,null,null,null,0,112]
[12,12710,13,12714,24,12727,null,null,null,null,0,112]
[12,12819,13,12822,24,12832,null,null,null,null,0,112]
[21,12960,22,12968,24,12976,null,null,null,null,0,222]
[12,13076,13,13084,24,13097,null,null,null,null,0,112]
[12,13200,13,13204,24,13231,null,null,null,null,0,112]
[12,13332,13,13337,24,13350,null,null,null,null,0,112]
[12,13456,13,13472,24,13475,null,null,null,null,0,112]
[12,13569,24,13581,24,13587,null,null,null,null,0,122]
[12,13705,13,13717,24,13727,null,null,null,null,0,112]
[12,13832,13,13845,13,13862,null,null,null,null,0,111]
[12,14048,13,14062,24,14066,null,null,null,null,0,112]
[12,14169,13,14182,24,14186,null,null,null,null,0,112]
[12,14317,24,14331,13,14334,null,null,null,null,0,121]
[12,14439,13,14448,24,14456,null,null,null,null,0,112]
[12,14594,13,14606,24,14610,null,null,null,null,0,112]
[12,14703,13,14710,13,14714,null,null,null,null,0,111]
[12,14809,24,14816,24,14823,null,null,null,null,0,122]
[12,14929,13,14942,24,14945,null,null,null,null,0,112]
[12,15086,24,15099,13,15102,null,null,null,null,0,121]
[12,15268,24,15280,24,15287,null,null,null,null,0,122]
[12,15396,13,15404,24,15410,null,null,null,null,0,112]
[12,15541,13,15554,24,15563,null,null,null,null,0,112]
[12,15659,24,15665,24,15673,null,null,null,null,0,122]
[12,15773,13,15776,24,15789,null,null,null,null,0,112]
[12,15883,13,15892,24,15898,null,null,null,null,0,112]
[12,15992,13,16003,24,16009,null,null,null,null,0,112]
[12,16106,13,16109,13,16112,null,null,null,null,0,111]
[12,16213,13,16218,24,16229,null,null,null,null,0,112]
[12,16336,24,16350,24,16364,null,null,null,null,0,122]
[12,16467,24,16475,24,16482,null,null,null,null,0,122]
[12,16640,24,16654,13,16659,null,null,null,null,0,121]
[12,16768,13,16776,24,16789,null,null,null,null,0,112]
[12,16883,24,16898,24,16904,null,null,null,null,0,122]
[12,17003,24,17018,13,17019,null,null,null,null,0,121]
[12,17116,13,17121,24,17124,null,null,null,null,0,112]
[12,17224,24,17230,24,17238,null,null,null,null,0,122]
[21,17347,22,17354,13,17362,null,null,null,null,0,221]
[12,17485,13,17489,24,17501,null,null,null,null,0,112]
[12,17617,24,17628,24,17635,null,null,null,null,0,122]
[12,17781,24,17789,24,17796,null,null,null,null,0,122]
[12,17902,13,17906,13,17912,null,null,null,null,0,111]
[12,18010,24,18016,24,18022,null,null,null,null,0,122]
[12,18120,24,18127,24,18136,null,null,null,null,0,122]
[12,18231,13,18236,24,18240,null,null,null,null,0,112]
[12,18342,24,18347,24,18354,null,null,null,null,0,122]
[12,18454,13,18456,24,18469,null,null,null,null,0,112]
[12,18571,24,18595,24,18602,null,null,null,null,0,122]
[12,18732,24,18744,13,18746,null,null,null,null,0,121]
[12,18960,13,18963,13,18969,null,null,null,null,0,111]
[12,19069,24,19074,24,19085,null,null,null,null,0,122]
[12,19182,13,19188,24,19200,null,null,null,null,0,112]
[12,19296,13,19299,13,19302,null,null,null,null,0,111]
[12,19405,13,19409,24,19422,null,null,null,null,0,112]
[12,19515,24,19526,24,19531,null,null,null,null,0,122]
[12,19627,24,19634,24,19641,null,null,null,null,0,122]
[12,19734,13,19743,24,19749,null,null,null,null,0,112]
[12,19844,13,19853,24,19856,null,null,null,null,0,112]
[12,19957,13,19962,13,19970,null,null,null,null,0,111]
[12,20069,13,20072,24,20084,null,null,null,null,0,112]
[12,20339,13,20344,24,20356,null,null,null,null,0,112]
[12,20463,13,20467,13,20476,null,null,null,null,0,111]
[12,20574,13,20587,24,20597,null,null,null,null,0,112]
[12,20764,24,20776,13,20782,null,null,null,null,0,121]
[12,20991,13,20995,13,21000,null,null,null,null,0,111]
[12,21104,24,21108,24,21115,null,null,null,null,0,122]
[12,21223,13,21227,24,21244,null,null,null,null,0,112]
[12,21378,13,21381,24,21392,null,null,null,null,0,112]
[12,21560,24,21583,24,21592,null,null,null,null,0,122]
[12,21695,13,21699,24,21716,null,null,null,null,0,112]
[12,21818,13,21824,24,21838,null,null,null,null,0,112]
[12,21936,13,21940,13,21944,null,null,null,null,0,111]
[12,22087,13,22090,24,22112,null,null,null,null,0,112]
[12,22256,13,22268,24,22275,null,null,null,null,0,112]
[12,22382,13,22397,24,22408,null,null,null,null,0,112]
[12,22512,13,22526,24,22536,null,null,null,null,0,112]
[12,22632,24,22638,24,22645,null,null,null,null,0,122]
[12,22747,13,22750,13,22753,null,null,null,null,0,111]
[12,22854,13,22858,24,22871,null,null,null,null,0,112]
[12,22968,24,22976,24,22982,null,null,null,null,0,122]
[12,23112,13,23125,24,23132,null,null,null,null,0,112]
[12,23225,13,23233,24,23245,null,null,null,null,0,112]
[12,23345,13,23347,13,23353,null,null,null,null,0,111]
[12,23447,13,23454,13,23457,null,null,null,null,0,111]
[21,23562,22,23567,24,23573,null,null,null,null,0,222]
[12,23663,24,23669,24,23676,null,null,null,null,0,122]
[12,23802,13,23809,24,23823,null,null,null,null,0,112]
[12,23938,13,23947,24,23953,null,null,null,null,null,112]

{"sheet":"!N129A20.Gus","index":5,"n_rows":196,"n_cols":48,"rows_kept":196,"cut":false,"hidden":false,"merged":[[4,39,4,42],[5,39,5,40],[4,44,4,47],[5,44,5,45],[4,24,4,27],[5,24,5,25],[4,29,4,32],[5,29,5,30],[4,34,4,37],[5,34,5,35],[1,1,1,2],[5,13,5,14],[18,13,18,14],[19,13,19,14],[4,19,4,22],[5,19,5,20]]}
["Report for:!N129A20.Gus"]
["Date:","<date>"]
["Hen:","<hen>",null,null,null,"Correct Sequence",{"$f":"Start!J2","v":211},null,null,null,null,null,null,null,null,"Total Sequences in Data",{"$f":"4994-COUNTBLANK(L7:L5000)","v":190},null,null,null,null,"Total Sequences in Block Data",{"$f":"COUNTA(L7:L38)","v":32},null,null,null,"Total Sequences in Block Data",{"$f":"COUNTA(L39:L69)","v":31},null,null,null,"Total Sequences in Block Data",{"$f":"COUNTA(L70:L101)","v":32},null,null,null,"Total Sequences in Block Data",{"$f":"COUNTA(L102:L133)","v":32},null,null,null,"Total Sequences in Block Data",{"$f":"COUNTA(L134:L164)","v":31},null,null,null,"Total Sequences in Block Data",{"$f":"COUNTA(L165:L196)","v":32}]
[null,null,null,null,null,null,null,null,null,null,null,null,null,null,null,"Total Sequences in Summary",{"$f":"SUM(O7:O14)","v":189},null,null,null,null,"Total Sequences in Block Summary",{"$f":"SUM(U7:U14)","v":32},null,null,null,"Total Sequences in Block Summary",{"$f":"SUM(Z7:Z14)","v":31},null,null,null,"Total Sequences in Block Summary",{"$f":"SUM(AE7:AE14)","v":32},null,null,null,"Total Sequences in Block Summary",{"$f":"SUM(AJ7:AJ14)","v":32},null,null,null,"Total Sequences in Block Summary",{"$f":"SUM(AO7:AO14)","v":31},null,null,null,"Total Sequences in Block Summary",{"$f":"SUM(AT7:AT14)","v":31}]
[null,null,null,null,null,null,null,null,null,null,null,null,null,null,null,null,null,null,null,"Block 1",null,null,null,null,"Block 2",null,null,null,null,"Block 3",null,null,null,null,"Block 4",null,null,null,null,"Block 5",null,null,null,null,"Block 6"]
["Sequence\nComponent\n1","Time\n1","Sequence\nComponent\n2","Time\n2","Sequence\nComponent\n3","Time\n3","Sequence\nComponent\n4","Time\n4","Sequence\nComponent\n5","Time\n5","Correct?\n0=No 1=Yes","Sequence",null,"Frequency",null,"Relative Frequency","Variability",null,null,"Frequency",null,"Relative Frequency","Variability",null,"Frequency",null,"Relative Frequency","Variability",null,"Frequency",null,"Relative Frequency","Variability",null,"Frequency",null,"Relative Frequency","Variability",null,"Frequency",null,"Relative Frequency","Variability",null,"Frequency",null,"Relative Frequency","Variability"]
[12,19,13,27,24,40,null,null,null,null,0,112,null,111,{"$f":"COUNTIF($L$7:$L$500,N7)","v":27},{"$f":"O7/$Q$4","v":0.14285714285714285},{"$f":"IF(P7=0,0,(P7*((LOG(P7))/LOG(2))))","v":-0.40105070315108626},null,null,{"$f":"N7","v":111},{"$f":"COUNTIF(L7:L38,T7)","v":4},{"$f":"U7/(W4-U11)","v":0.125},{"$f":"IF(V7=0,0,(V7*((LOG(V7))/LOG(2))))","v":-0.375},null,{"$f":"N7","v":111},{"$f":"COUNTIF(L39:L69,Y7)","v":7},{"$f":"Z7/(AB4-Z11)","v":0.22580645161290322},{"$f":"IF(AA7=0,0,(AA7*((LOG(AA7))/LOG(2))))","v":-0.48477063607435156},null,{"$f":"N7","v":111},{"$f":"COUNTIF(L70:L101,AD7)","v":7},{"$f":"AE7/(AG4-AE11)","v":0.21875},{"$f":"IF(AF7=0,0,(AF7*((LOG(AF7))/LOG(2))))","v":-0.47964111079989907},null,{"$f":"N7","v":111},{"$f":"COUNTIF(L102:L133,AI7)","v":3},{"$f":"AJ7/(AL4-AJ11)","v":9.375E-2},{"$f":"IF(AK7=0,0,(AK7*((LOG(AK7))/LOG(2))))","v":-0.32015976555739156},null,{"$f":"N7","v":111},{"$f":"COUNTIF(L134:L164,AN7)","v":5},{"$f":"AO7/(AQ4-AO11)","v":0.16129032258064516},{"$f":"IF(AP7=0,0,(AP7*((LOG(AP7))/LOG(2))))","v":-0.42455938959669559},null,{"$f":"N7","v":111},{"$f":"COUNTIF(L165:L196,AS7)","v":1},{"$f":"AT7/(AV4-AT11)","v":3.2258064516129031E-2},{"$f":"IF(AU7=0,0,(AU7*((LOG(AU7))/LOG(2))))","v":-0.15981278420602821}]
[12,140,13,142,24,149,null,null,null,null,0,112,null,112,{"$f":"COUNTIF($L$7:$L$500,N8)","v":63},{"$f":"O8/$Q$4","v":0.33333333333333331},{"$f":"IF(P8=0,0,(P8*((LOG(P8))/LOG(2))))","v":-0.52832083357371862},null,null,{"$f":"N8","v":112},{"$f":"COUNTIF(L7:L38,T8)","v":11},{"$f":"U8/(W4-U11)","v":0.34375},{"$f":"IF(V8=0,0,(V8*((LOG(V8))/LOG(2))))","v":-0.52957038109342913},null,{"$f":"N8","v":112},{"$f":"COUNTIF(L39:L69,Y8)","v":10},{"$f":"Z8/(AB4-Z11)","v":0.32258064516129031},{"$f":"IF(AA8=0,0,(AA8*((LOG(AA8))/LOG(2))))","v":-0.52653813403210092},null,{"$f":"N8","v":112},{"$f":"COUNTIF(L70:L101,AD8)","v":12},{"$f":"AE8/(AG4-AE11)","v":0.375},{"$f":"IF(AF8=0,0,(AF8*((LOG(AF8))/LOG(2))))","v":-0.53063906222956647},null,{"$f":"N8","v":112},{"$f":"COUNTIF(L102:L133,AI8)","v":12},{"$f":"AJ8/(AL4-AJ11)","v":0.375},{"$f":"IF(AK8=0,0,(AK8*((LOG(AK8))/LOG(2))))","v":-0.53063906222956647},null,{"$f":"N8","v":112},{"$f":"COUNTIF(L134:L164,AN8)","v":8},{"$f":"AO8/(AQ4-AO11)","v":0.25806451612903225},{"$f":"IF(AP8=0,0,(AP8*((LOG(AP8))/LOG(2))))","v":-0.50430872526112902},null,{"$f":"N8","v":112},{"$f":"COUNTIF(L165:L196,AS8)","v":10},{"$f":"AT8/(AV4-AT11)","v":0.32258064516129031},{"$f":"IF(AU8=0,0,(AU8*((LOG(AU8))/LOG(2))))","v":-0.52653813403210092}]
[12,241,13,254,13,266,null,null,null,null,0,111,null,121,{"$f":"COUNTIF($L$7:$L$500,N9)","v":15},{"$f":"O9/$Q$4","v":7.9365079365079361E-2},{"$f":"IF(P9=0,0,(P9*((LOG(P9))/LOG(2))))","v":-0.29010728798512331},null,null,{"$f":"N9","v":121},{"$f":"COUNTIF(L7:L38,T9)","v":0},{"$f":"U9/(W4-U11)","v":0},{"$f":"IF(V9=0,0,(V9*((LOG(V9))/LOG(2))))","v":0},null,{"$f":"N9","v":121},{"$f":"COUNTIF(L39:L69,Y9)","v":0},{"$f":"Z9/(AB4-Z11)","v":0},{"$f":"IF(AA9=0,0,(AA9*((LOG(AA9))/LOG(2))))","v":0},null,{"$f":"N9","v":121},{"$f":"COUNTIF(L70:L101,AD9)","v":2},{"$f":"AE9/(AG4-AE11)","v":6.25E-2},{"$f":"IF(AF9=0,0,(AF9*((LOG(AF9))/LOG(2))))","v":-0.25},null,{"$f":"N9","v":121},{"$f":"COUNTIF(L102:L133,AI9)","v":5},{"$f":"AJ9/(AL4-AJ11)","v":0.15625},{"$f":"IF(AK9=0,0,(AK9*((LOG(AK9))/LOG(2))))","v":-0.41844873517384967},null,{"$f":"N9","v":121},{"$f":"COUNTIF(L134:L164,AN9)","v":3},{"$f":"AO9/(AQ4-AO11)","v":9.6774193548387094E-2},{"$f":"IF(AP9=0,0,(AP9*((LOG(AP9))/LOG(2))))","v":-0.32605488480635986},null,{"$f":"N9","v":121},{"$f":"COUNTIF(L165:L196,AS9)","v":5},{"$f":"AT9/(AV4-AT11)","v":0.16129032258064516},{"$f":"IF(AU9=0,0,(AU9*((LOG(AU9))/LOG(2))))","v":-0.42455938959669559}]
[12,386,13,389,13,393,null,null,null,null,0,111,null,122,{"$f":"COUNTIF($L$7:$L$500,N10)","v":75},{"$f":"O10/$Q$4","v":0.3968253968253968},{"$f":"IF(P10=0,0,(P10*((LOG(P10))/LOG(2))))","v":-0.52913640227190151},null,null,{"$f":"N10","v":122},{"$f":"COUNTIF(L7:L38,T10)","v":15},{"$f":"U10/(W4-U11)","v":0.46875},{"$f":"IF(V10=0,0,(V10*((LOG(V10))/LOG(2))))","v":-0.512395033308507},null,{"$f":"N10","v":122},{"$f":"COUNTIF(L39:L69,Y10)","v":13},{"$f":"Z10/(AB4-Z11)","v":0.41935483870967744},{"$f":"IF(AA10=0,0,(AA10*((LOG(AA10))/LOG(2))))","v":-0.52576889352242517},null,{"$f":"N10","v":122},{"$f":"COUNTIF(L70:L101,AD10)","v":10},{"$f":"AE10/(AG4-AE11)","v":0.3125},{"$f":"IF(AF10=0,0,(AF10*((LOG(AF10))/LOG(2))))","v":-0.52439747034769923},null,{"$f":"N10","v":122},{"$f":"COUNTIF(L102:L133,AI10)","v":10},{"$f":"AJ10/(AL4-AJ11)","v":0.3125},{"$f":"IF(AK10=0,0,(AK10*((LOG(AK10))/LOG(2))))","v":-0.52439747034769923},null,{"$f":"N10","v":122},{"$f":"COUNTIF(L134:L164,AN10)","v":13},{"$f":"AO10/(AQ4-AO11)","v":0.41935483870967744},{"$f":"IF(AP10=0,0,(AP10*((LOG(AP10))/LOG(2))))","v":-0.52576889352242517},null,{"$f":"N10","v":122},{"$f":"COUNTIF(L165:L196,AS10)","v":14},{"$f":"AT10/(AV4-AT11)","v":0.45161290322580644},{"$f":"IF(AU10=0,0,(AU10*((LOG(AU10))/LOG(2))))","v":-0.51792836892289662}]
[12,486,13,499,24,503,null,null,null,null,0,112,null,211,{"$f":"COUNTIF($L$7:$L$500,N11)","v":0},{"$f":"O11/$Q$4","v":0},{"$f":"IF(P11=0,0,(P11*((LOG(P11))/LOG(2))))","v":0},null,null,{"$f":"N11","v":211},{"$f":"COUNTIF(L7:L38,T11)","v":0},null,null,null,{"$f":"N11","v":211},{"$f":"COUNTIF(L39:L69,Y11)","v":0},null,null,null,{"$f":"N11","v":211},{"$f":"COUNTIF(L70:L101,AD11)","v":0},null,null,null,{"$f":"N11","v":211},{"$f":"COUNTIF(L102:L133,AI11)","v":0},null,null,null,{"$f":"N11","v":211},{"$f":"COUNTIF(L134:L164,AN11)","v":0},null,null,null,{"$f":"N11","v":211},{"$f":"COUNTIF(L165:L196,AS11)","v":0}]
[12,605,24,612,24,619,null,null,null,null,0,122,null,212,{"$f":"COUNTIF($L$7:$L$500,N12)","v":4},{"$f":"O12/$Q$4","v":2.1164021164021163E-2},{"$f":"IF(P12=0,0,(P12*((LOG(P12))/LOG(2))))","v":-0.11771941638563116},null,null,{"$f":"N12","v":212},{"$f":"COUNTIF(L7:L38,T12)","v":2},{"$f":"U12/(W4-U11)","v":6.25E-2},{"$f":"IF(V12=0,0,(V12*((LOG(V12))/LOG(2))))","v":-0.25},null,{"$f":"N12","v":212},{"$f":"COUNTIF(L39:L69,Y12)","v":0},{"$f":"Z12/(AB4-Z11)","v":0},{"$f":"IF(AA12=0,0,(AA12*((LOG(AA12))/LOG(2))))","v":0},null,{"$f":"N12","v":212},{"$f":"COUNTIF(L70:L101,AD12)","v":0},{"$f":"AE12/(AG4-AE11)","v":0},{"$f":"IF(AF12=0,0,(AF12*((LOG(AF12))/LOG(2))))","v":0},null,{"$f":"N12","v":212},{"$f":"COUNTIF(L102:L133,AI12)","v":1},{"$f":"AJ12/(AL4-AJ11)","v":3.125E-2},{"$f":"IF(AK12=0,0,(AK12*((LOG(AK12))/LOG(2))))","v":-0.15625},null,{"$f":"N12","v":212},{"$f":"COUNTIF(L134:L164,AN12)","v":1},{"$f":"AO12/(AQ4-AO11)","v":3.2258064516129031E-2},{"$f":"IF(AP12=0,0,(AP12*((LOG(AP12))/LOG(2))))","v":-0.15981278420602821},null,{"$f":"N12","v":212},{"$f":"COUNTIF(L165:L196,AS12)","v":0},{"$f":"AT12/(AV4-AT11)","v":0},{"$f":"IF(AU12=0,0,(AU12*((LOG(AU12))/LOG(2))))","v":0}]
[12,722,13,729,24,742,null,null,null,null,0,112,null,221,{"$f":"COUNTIF($L$7:$L$500,N13)","v":2},{"$f":"O13/$Q$4","v":1.0582010582010581E-2},{"$f":"IF(P13=0,0,(P13*((LOG(P13))/LOG(2))))","v":-6.9441718774826161E-2},null,null,{"$f":"N13","v":221},{"$f":"COUNTIF(L7:L38,T13)","v":0},{"$f":"U13/(W4-U11)","v":0},{"$f":"IF(V13=0,0,(V13*((LOG(V13))/LOG(2))))","v":0},null,{"$f":"N13","v":221},{"$f":"COUNTIF(L39:L69,Y13)","v":1},{"$f":"Z13/(AB4-Z11)","v":3.2258064516129031E-2},{"$f":"IF(AA13=0,0,(AA13*((LOG(AA13))/LOG(2))))","v":-0.15981278420602821},null,{"$f":"N13","v":221},{"$f":"COUNTIF(L70:L101,AD13)","v":1},{"$f":"AE13/(AG4-AE11)","v":3.125E-2},{"$f":"IF(AF13=0,0,(AF13*((LOG(AF13))/LOG(2))))","v":-0.15625},null,{"$f":"N13","v":221},{"$f":"COUNTIF(L102:L133,AI13)","v":0},{"$f":"AJ13/(AL4-AJ11)","v":0},{"$f":"IF(AK13=0,0,(AK13*((LOG(AK13))/LOG(2))))","v":0},null,{"$f":"N13","v":221},{"$f":"COUNTIF(L134:L164,AN13)","v":0},{"$f":"AO13/(AQ4-AO11)","v":0},{"$f":"IF(AP13=0,0,(AP13*((LOG(AP13))/LOG(2))))","v":0},null,{"$f":"N13","v":221},{"$f":"COUNTIF(L165:L196,AS13)","v":0},{"$f":"AT13/(AV4-AT11)","v":0},{"$f":"IF(AU13=0,0,(AU13*((LOG(AU13))/LOG(2))))","v":0}]
[12,841,24,848,24,854,null,null,null,null,0,122,null,222,{"$f":"COUNTIF($L$7:$L$500,N14)","v":3},{"$f":"O14/$Q$4","v":1.5873015873015872E-2},{"$f":"IF(P14=0,0,(P14*((LOG(P14))/LOG(2))))","v":-9.4877459103173273E-2},null,null,{"$f":"N14","v":222},{"$f":"COUNTIF(L7:L38,T14)","v":0},{"$f":"U14/(W4-U11)","v":0},{"$f":"IF(V14=0,0,(V14*((LOG(V14))/LOG(2))))","v":0},null,{"$f":"N14","v":222},{"$f":"COUNTIF(L39:L69,Y14)","v":0},{"$f":"Z14/(AB4-Z11)","v":0},{"$f":"IF(AA14=0,0,(AA14*((LOG(AA14))/LOG(2))))","v":0},null,{"$f":"N14","v":222},{"$f":"COUNTIF(L70:L101,AD14)","v":0},{"$f":"AE14/(AG4-AE11)","v":0},{"$f":"IF(AF14=0,0,(AF14*((LOG(AF14))/LOG(2))))","v":0},null,{"$f":"N14","v":222},{"$f":"COUNTIF(L102:L133,AI14)","v":1},{"$f":"AJ14/(AL4-AJ11)","v":3.125E-2},{"$f":"IF(AK14=0,0,(AK14*((LOG(AK14))/LOG(2))))","v":-0.15625},null,{"$f":"N14","v":222},{"$f":"COUNTIF(L134:L164,AN14)","v":1},{"$f":"AO14/(AQ4-AO11)","v":3.2258064516129031E-2},{"$f":"IF(AP14=0,0,(AP14*((LOG(AP14))/LOG(2))))","v":-0.15981278420602821},null,{"$f":"N14","v":222},{"$f":"COUNTIF(L165:L196,AS14)","v":1},{"$f":"AT14/(AV4-AT11)","v":3.2258064516129031E-2},{"$f":"IF(AU14=0,0,(AU14*((LOG(AU14))/LOG(2))))","v":-0.15981278420602821}]
[12,949,13,955,24,960,null,null,null,null,0,112,null,null,null,{"$f":"SUM(P7:P14)","v":1},{"$f":"-SUM(Q7:Q14)","v":2.0306538212454606},null,null,null,null,{"$f":"SUM(V7:V14)","v":1},{"$f":"-SUM(W7:W14)","v":1.6669654144019361},null,null,null,{"$f":"SUM(AA7:AA14)","v":1},{"$f":"-SUM(AB7:AB14)","v":1.6968904478349058},null,null,null,{"$f":"SUM(AF7:AF14)","v":1},{"$f":"-SUM(AG7:AG14)","v":1.9409276433771647},null,null,null,{"$f":"SUM(AK7:AK14)","v":1},{"$f":"-SUM(AL7:AL14)","v":2.1061450333085068},null,null,null,{"$f":"SUM(AP7:AP14)","v":1},{"$f":"-SUM(AQ7:AQ14)","v":2.1003174615986659},null,null,null,{"$f":"SUM(AU7:AU14)","v":1},{"$f":"-SUM(AV7:AV14)","v":1.7886514609637496}]
[12,1053,13,1062,24,1069,null,null,null,null,0,112,null,null,null,"U=",{"$f":"Q15/(LOG(Q4)/LOG(2))","v":0.26852535363604429},null,null,null,null,"U1=",{"$f":"W15/(LOG(W4)/LOG(2))","v":0.33339308288038721},null,null,null,"U2=",{"$f":"AB15/(LOG(AB4)/LOG(2))","v":0.34251578692536611},null,null,null,"U3=",{"$f":"AG15/(LOG(AG4)/LOG(2))","v":0.38818552867543293},null,null,null,"U4=",{"$f":"AL15/(LOG(AL4)/LOG(2))","v":0.42122900666170138},null,null,null,"U5=",{"$f":"AQ15/(LOG(AQ4)/LOG(2))","v":0.42394716115612535},null,null,null,"U6=",{"$f":"AV15/(LOG(AV4)/LOG(2))","v":0.36103766360927131}]
[12,1169,24,1175,24,1183,null,null,null,null,0,122]
[12,1276,13,1282,24,1290,null,null,null,null,0,112]
[12,1384,24,1395,24,1401,null,null,null,null,0,122,null,"Total Target Seq"]
[12,1488,24,1498,24,1505,null,null,null,null,0,122,null,{"$f":"COUNTIF(L7:L196,G3)","v":0},null,32,31,32,32,31,32]
[12,1597,13,1609,24,1621,null,null,null,null,0,112,null,null,null,"% of reinforcement given in 6 equal intervals based on number of trials "]
[12,1762,13,1766,13,1770,null,null,null,null,0,111,null,null,null,"%_1","%_2","%_3","%_4","%_5","%_6"]
[12,1875,24,1884,24,1889,null,null,null,null,0,122,null,null,"target sequence",{"$f":"$G$3","v":211},{"$f":"$G$3","v":211},{"$f":"$G$3","v":211},{"$f":"$G$3","v":211},{"$f":"$G$3","v":211},{"$f":"$G$3","v":211}]
[12,1982,13,1992,24,2002,null,null,null,null,0,112,null,null,"total reinforcement",{"$f":"U11","v":0},{"$f":"Z11","v":0},{"$f":"AE11","v":0},{"$f":"AJ11","v":0},{"$f":"AO11","v":0},{"$f":"AT11","v":0}]
[12,2094,13,2102,13,2106,null,null,null,null,0,111,null,null,"% target"]
[12,2201,24,2204,24,2209,null,null,null,null,0,122,null,null,"CCRF"]
[12,2347,24,2353,24,2361,null,null,null,null,0,122,null,null,"% CCRf"]
[12,2486,24,2493,24,2506,null,null,null,null,0,122,null,null,"average response rate",{"$f":"F38/P20","v":118.09375},{"$f":"(F69-F38)/Q20","v":116.48387096774194},{"$f":"(F101-F69)/R20","v":122.3125},{"$f":"(F133-F101)/S20","v":126.25},{"$f":"(F164-F133)/T20","v":134.32258064516128},{"$f":"(F196-F164)/U20","v":-609.625}]
[12,2606,24,2621,24,2627,null,null,null,null,0,122]
[12,2722,24,2729,24,2735,null,null,null,null,0,122]
[12,2840,24,2850,24,2859,null,null,null,null,0,122]
[12,2971,13,2982,24,2993,null,null,null,null,0,112]
[12,3116,24,3131,24,3139,null,null,null,null,0,122]
[12,3247,24,3259,24,3271,null,null,null,null,0,122]
[12,3393,13,3407,24,3411,null,null,null,null,0,112]
[12,3515,24,3525,24,3538,null,null,null,null,0,122]
[21,3657,11,3668,22,3672,null,null,null,null,0,212]
[21,3774,11,3777,22,3779,null,null,null,null,0,212]
[21,3882,22,3886,13,3893,null,null,null,null,0,221]
[12,3988,24,4003,24,4012,null,null,null,null,0,122]
[12,4106,13,4116,24,4121,null,null,null,null,0,112]
[12,4215,13,4221,24,4224,null,null,null,null,0,112]
[12,4327,24,4332,24,4337,null,null,null,null,0,122]
[12,4432,24,4444,24,4450,null,null,null,null,0,122]
[12,4555,13,4560,24,4565,null,null,null,null,0,112]
[12,4667,13,4671,24,4676,null,null,null,null,0,112]
[12,4773,24,4781,24,4790,null,null,null,null,0,122]
[12,4882,13,4892,24,4897,null,null,null,null,0,112]
[12,4990,13,4997,13,5001,null,null,null,null,0,111]
[12,5094,13,5103,13,5105,null,null,null,null,0,111]
[12,5198,24,5203,24,5210,null,null,null,null,0,122]
[12,5310,24,5320,24,5335,null,null,null,null,0,122]
[12,5429,24,5446,24,5454,null,null,null,null,0,122]
[12,5557,24,5570,24,5578,null,null,null,null,0,122]
[12,5672,13,5677,24,5683,null,null,null,null,0,112]
[12,5776,24,5785,24,5791,null,null,null,null,0,122]
[12,5888,13,5891,24,5902,null,null,null,null,0,112]
[12,6000,24,6006,24,6013,null,null,null,null,0,122]
[12,6105,13,6113,13,6117,null,null,null,null,0,111]
[12,6229,13,6233,24,6251,null,null,null,null,0,112]
[12,6412,13,6417,24,6434,null,null,null,null,0,112]
[12,6527,13,6539,13,6544,null,null,null,null,0,111]
[12,6648,24,6661,24,6667,null,null,null,null,0,122]
[12,6812,13,6825,13,6830,null,null,null,null,0,111]
[12,6923,24,6937,24,6943,null,null,null,null,0,122]
[12,7047,13,7051,24,7065,null,null,null,null,0,112]
[12,7166,13,7168,13,7172,null,null,null,null,0,111]
[12,7266,13,7274,13,7278,null,null,null,null,0,111]
[12,7378,24,7384,24,7390,null,null,null,null,0,122]
[12,7485,24,7491,24,7499,null,null,null,null,0,122]
[12,7615,13,7620,24,7630,null,null,null,null,0,112]
[12,7751,13,7756,13,7759,null,null,null,null,0,111]
[12,7864,24,7876,24,7886,null,null,null,null,0,122]
[12,7986,13,7989,24,8002,null,null,null,null,0,112]
[12,8099,24,8104,24,8110,null,null,null,null,0,122]
[21,8211,22,8218,13,8224,null,null,null,null,0,221]
[12,8317,13,8323,24,8328,null,null,null,null,0,112]
[12,8421,24,8430,24,8436,null,null,null,null,0,122]
[12,8530,13,8540,24,8546,null,null,null,null,0,112]
[12,8643,24,8649,13,8652,null,null,null,null,0,121]
[12,8746,24,8757,24,8765,null,null,null,null,0,122]
[12,9004,13,9011,24,9025,null,null,null,null,0,112]
[12,9138,24,9151,24,9156,null,null,null,null,0,122]
[12,9249,13,9257,24,9262,null,null,null,null,0,112]
[12,9358,13,9361,24,9377,null,null,null,null,0,112]
[12,9473,13,9477,13,9489,null,null,null,null,0,111]
[12,9585,13,9588,13,9591,null,null,null,null,0,111]
[12,9686,24,9691,24,9696,null,null,null,null,0,122]
[12,9792,13,9796,24,9807,null,null,null,null,0,112]
[12,9900,13,9906,13,9909,null,null,null,null,0,111]
[12,10006,13,10011,24,10016,null,null,null,null,0,112]
[12,10118,24,10121,24,10128,null,null,null,null,0,122]
[12,10219,13,10224,13,10247,null,null,null,null,0,111]
[12,10362,13,10368,13,10375,null,null,null,null,0,111]
[12,10564,13,10573,13,10579,null,null,null,null,0,111]
[12,10674,24,10683,13,10687,null,null,null,null,0,121]
[12,10779,24,10791,24,10795,null,null,null,null,0,122]
[12,10892,24,10898,24,10908,null,null,null,null,0,122]
[12,11002,13,11010,24,11015,null,null,null,null,0,112]
[12,11114,13,11117,24,11127,null,null,null,null,0,112]
[12,11290,13,11301,24,11304,null,null,null,null,0,112]
[21,11406,11,11410,22,11418,null,null,null,null,0,212]
[12,11511,24,11523,24,11529,null,null,null,null,0,122]
[12,11622,24,11632,24,11638,null,null,null,null,0,122]
[12,11730,13,11740,24,11747,null,null,null,null,0,112]
[12,11876,13,11889,24,11895,null,null,null,null,0,112]
[12,11999,13,12003,13,12006,null,null,null,null,0,111]
[12,12095,24,12105,24,12117,null,null,null,null,0,122]
[12,12255,24,12268,13,12271,null,null,null,null,0,121]
[12,12481,24,12496,13,12499,null,null,null,null,0,121]
[12,12619,24,12635,24,12642,null,null,null,null,0,122]
[12,12769,13,12776,24,12795,null,null,null,null,0,112]
[12,12925,24,12931,13,12944,null,null,null,null,0,121]
[12,13090,13,13093,24,13110,null,null,null,null,0,112]
[12,13210,13,13214,24,13225,null,null,null,null,0,112]
[12,13329,13,13332,24,13339,null,null,null,null,0,112]
[12,13440,13,13443,13,13455,null,null,null,null,0,111]
[12,13557,24,13567,24,13575,null,null,null,null,0,122]
[12,13681,24,13684,24,13694,null,null,null,null,0,122]
[12,13797,24,13810,13,13815,null,null,null,null,0,121]
[12,13942,13,13946,24,13970,null,null,null,null,0,112]
[12,14095,24,14106,24,14115,null,null,null,null,0,122]
[12,14214,24,14220,24,14226,null,null,null,null,0,122]
[12,14318,13,14329,24,14340,null,null,null,null,0,112]
[12,14434,13,14440,24,14445,null,null,null,null,0,112]
[12,14541,24,14548,13,14552,null,null,null,null,0,121]
[12,14647,13,14651,24,14654,null,null,null,null,0,112]
[12,14753,13,14759,24,14773,null,null,null,null,0,112]
[12,14882,13,14885,13,14888,null,null,null,null,0,111]
[21,15000,22,15005,24,15011,null,null,null,null,0,222]
[12,15105,24,15112,24,15118,null,null,null,null,0,122]
[12,15216,24,15222,24,15232,null,null,null,null,0,122]
[12,15326,13,15334,24,15344,null,null,null,null,0,112]
[12,15440,24,15445,24,15453,null,null,null,null,0,122]
[12,15549,24,15553,24,15559,null,null,null,null,0,122]
[12,15655,24,15660,24,15667,null,null,null,null,0,122]
[12,15759,13,15767,13,15771,null,null,null,null,0,111]
[12,15873,24,15882,24,15890,null,null,null,null,0,122]
[12,15984,13,15989,24,15994,null,null,null,null,0,112]
[12,16089,13,16096,24,16101,null,null,null,null,0,112]
[12,16210,24,16225,24,16230,null,null,null,null,0,122]
[12,16335,13,16343,13,16349,null,null,null,null,0,111]
[12,16446,13,16452,24,16465,null,null,null,null,0,112]
[12,16558,13,16568,13,16569,null,null,null,null,0,111]
[12,16667,13,16670,24,16679,null,null,null,null,0,112]
[12,16771,13,16777,13,16781,null,null,null,null,0,111]
[12,16879,13,16882,24,16893,null,null,null,null,0,112]
[12,16987,24,17002,24,17008,null,null,null,null,0,122]
[12,17107,24,17110,24,17116,null,null,null,null,0,122]
[21,17226,22,17232,24,17241,null,null,null,null,0,222]
[12,17333,13,17342,24,17346,null,null,null,null,0,112]
[12,17443,13,17448,24,17455,null,null,null,null,0,112]
[21,17559,11,17562,22,17564,null,null,null,null,0,212]
[12,17691,24,17704,13,17708,null,null,null,null,0,121]
[12,17852,13,17857,13,17862,null,null,null,null,0,111]
[12,17955,24,17962,24,17969,null,null,null,null,0,122]
[12,18080,24,18091,24,18096,null,null,null,null,0,122]
[12,18216,24,18227,13,18233,null,null,null,null,0,121]
[12,18781,13,18785,24,18806,null,null,null,null,0,112]
[12,18901,24,18908,24,18915,null,null,null,null,0,122]
[12,19012,24,19022,24,19029,null,null,null,null,0,122]
[12,19122,24,19135,24,19139,null,null,null,null,0,122]
[12,19285,24,19299,24,19312,null,null,null,null,0,122]
[12,19490,24,19505,13,19508,null,null,null,null,0,121]
[12,19611,13,19624,24,19630,null,null,null,null,0,112]
[12,19723,24,19735,24,19744,null,null,null,null,0,122]
[12,19868,24,19882,13,19892,null,null,null,null,0,121]
[12,19984,13,19995,24,20009,null,null,null,null,0,112]
[12,20139,24,20152,13,20155,null,null,null,null,0,121]
[12,20340,24,20351,24,20358,null,null,null,null,0,122]
[12,20468,24,20482,24,20491,null,null,null,null,0,122]
[12,20588,13,20591,24,20603,null,null,null,null,0,112]
[12,20696,24,20712,24,20719,null,null,null,null,0,122]
[21,20851,22,20858,24,20868,null,null,null,null,0,222]
[12,20965,24,20976,24,20980,null,null,null,null,0,122]
[12,21079,13,21085,24,21092,null,null,null,null,0,112]
[12,21191,13,21195,24,21206,null,null,null,null,0,112]
[12,21304,24,21306,24,21311,null,null,null,null,0,122]
[12,21579,24,21604,24,21624,null,null,null,null,0,122]
[12,21720,24,21727,13,21731,null,null,null,null,0,121]
[12,21835,13,21852,24,21859,null,null,null,null,0,112]
[12,22026,24,22038,24,22062,null,null,null,null,0,122]
[12,22228,24,22233,24,22240,null,null,null,null,0,122]
[12,22347,24,22360,24,22373,null,null,null,null,0,122]
[12,22466,24,22480,13,22483,null,null,null,null,0,121]
[12,22575,13,22584,13,22587,null,null,null,null,0,111]
[12,22687,24,22700,24,22711,null,null,null,null,0,122]
[12,22817,24,22823,24,22831,null,null,null,null,0,122]
[12,22931,13,22935,24,22945,null,null,null,null,0,112]
[12,23040,24,23047,24,23054,null,null,null,null,0,122]
[12,23173,13,23191,24,23198,null,null,null,null,0,112]
[12,23408,24,23420,24,23426,null,null,null,null,0,122]
[12,23593,24,23605,13,23610,null,null,null,null,0,121]
[12,23732,13,23740,24,23750,null,null,null,null,0,112]
[12,23874,13,23888,24,23901,null,null,null,null,0,112]
[12,23994,24,24001,null,null,null,null,null,null,null,12]

{"sheet":"!N130920.Gus","index":6,"n_rows":195,"n_cols":48,"rows_kept":195,"cut":false,"hidden":false,"merged":[[4,39,4,42],[5,39,5,40],[4,44,4,47],[5,44,5,45],[4,24,4,27],[5,24,5,25],[4,29,4,32],[5,29,5,30],[4,34,4,37],[5,34,5,35],[1,1,1,2],[5,13,5,14],[18,13,18,14],[19,13,19,14],[4,19,4,22],[5,19,5,20]]}
["Report for:!N130920.Gus"]
["Date:","<date>"]
["Hen:","<hen>",null,null,null,"Correct Sequence",{"$f":"Start!J2","v":211},null,null,null,null,null,null,null,null,"Total Sequences in Data",{"$f":"4994-COUNTBLANK(L7:L5000)","v":189},null,null,null,null,"Total Sequences in Block Data",{"$f":"COUNTA(L7:L38)","v":32},null,null,null,"Total Sequences in Block Data",{"$f":"COUNTA(L39:L69)","v":31},null,null,null,"Total Sequences in Block Data",{"$f":"COUNTA(L70:L101)","v":32},null,null,null,"Total Sequences in Block Data",{"$f":"COUNTA(L102:L132)","v":31},null,null,null,"Total Sequences in Block Data",{"$f":"COUNTA(L133:L164)","v":32},null,null,null,"Total Sequences in Block Data",{"$f":"COUNTA(L165:L195)","v":31}]
[null,null,null,null,null,null,null,null,null,null,null,null,null,null,null,"Total Sequences in Summary",{"$f":"SUM(O7:O14)","v":189},null,null,null,null,"Total Sequences in Block Summary",{"$f":"SUM(U7:U14)","v":32},null,null,null,"Total Sequences in Block Summary",{"$f":"SUM(Z7:Z14)","v":31},null,null,null,"Total Sequences in Block Summary",{"$f":"SUM(AE7:AE14)","v":32},null,null,null,"Total Sequences in Block Summary",{"$f":"SUM(AJ7:AJ14)","v":31},null,null,null,"Total Sequences in Block Summary",{"$f":"SUM(AO7:AO14)","v":32},null,null,null,"Total Sequences in Block Summary",{"$f":"SUM(AT7:AT14)","v":31}]
[null,null,null,null,null,null,null,null,null,null,null,null,null,null,null,null,null,null,null,"Block 1",null,null,null,null,"Block 2",null,null,null,null,"Block 3",null,null,null,null,"Block 4",null,null,null,null,"Block 5",null,null,null,null,"Block 6"]
["Sequence\nComponent\n1","Time\n1","Sequence\nComponent\n2","Time\n2","Sequence\nComponent\n3","Time\n3","Sequence\nComponent\n4","Time\n4","Sequence\nComponent\n5","Time\n5","Correct?\n0=No 1=Yes","Sequence",null,"Frequency",null,"Relative Frequency","Variability",null,null,"Frequency",null,"Relative Frequency","Variability",null,"Frequency",null,"Relative Frequency","Variability",null,"Frequency",null,"Relative Frequency","Variability",null,"Frequency",null,"Relative Frequency","Variability",null,"Frequency",null,"Relative Frequency","Variability",null,"Frequency",null,"Relative Frequency","Variability"]
[12,14,13,19,13,23,null,null,null,null,0,111,null,111,{"$f":"COUNTIF($L$7:$L$500,N7)","v":7},{"$f":"O7/$Q$4","v":3.7037037037037035E-2},{"$f":"IF(P7=0,0,(P7*((LOG(P7))/LOG(2))))","v":-0.1761069445245729},null,null,{"$f":"N7","v":111},{"$f":"COUNTIF(L7:L38,T7)","v":2},{"$f":"U7/(W4-U11)","v":6.25E-2},{"$f":"IF(V7=0,0,(V7*((LOG(V7))/LOG(2))))","v":-0.25},null,{"$f":"N7","v":111},{"$f":"COUNTIF(L39:L69,Y7)","v":0},{"$f":"Z7/(AB4-Z11)","v":0},{"$f":"IF(AA7=0,0,(AA7*((LOG(AA7))/LOG(2))))","v":0},null,{"$f":"N7","v":111},{"$f":"COUNTIF(L70:L101,AD7)","v":0},{"$f":"AE7/(AG4-AE11)","v":0},{"$f":"IF(AF7=0,0,(AF7*((LOG(AF7))/LOG(2))))","v":0},null,{"$f":"N7","v":111},{"$f":"COUNTIF(L102:L132,AI7)","v":2},{"$f":"AJ7/(AL4-AJ11)","v":6.4516129032258063E-2},{"$f":"IF(AK7=0,0,(AK7*((LOG(AK7))/LOG(2))))","v":-0.25510943937979835},null,{"$f":"N7","v":111},{"$f":"COUNTIF(L133:L164,AN7)","v":3},{"$f":"AO7/(AQ4-AO11)","v":9.375E-2},{"$f":"IF(AP7=0,0,(AP7*((LOG(AP7))/LOG(2))))","v":-0.32015976555739156},null,{"$f":"N7","v":111},{"$f":"COUNTIF(L165:L195,AS7)","v":0},{"$f":"AT7/(AV4-AT11)","v":0},{"$f":"IF(AU7=0,0,(AU7*((LOG(AU7))/LOG(2))))","v":0}]
[12,119,24,125,24,133,null,null,null,null,0,122,null,112,{"$f":"COUNTIF($L$7:$L$500,N8)","v":41},{"$f":"O8/$Q$4","v":0.21693121693121692},{"$f":"IF(P8=0,0,(P8*((LOG(P8))/LOG(2))))","v":-0.47826617568107166},null,null,{"$f":"N8","v":112},{"$f":"COUNTIF(L7:L38,T8)","v":11},{"$f":"U8/(W4-U11)","v":0.34375},{"$f":"IF(V8=0,0,(V8*((LOG(V8))/LOG(2))))","v":-0.52957038109342913},null,{"$f":"N8","v":112},{"$f":"COUNTIF(L39:L69,Y8)","v":4},{"$f":"Z8/(AB4-Z11)","v":0.12903225806451613},{"$f":"IF(AA8=0,0,(AA8*((LOG(AA8))/LOG(2))))","v":-0.38118662069508069},null,{"$f":"N8","v":112},{"$f":"COUNTIF(L70:L101,AD8)","v":3},{"$f":"AE8/(AG4-AE11)","v":9.375E-2},{"$f":"IF(AF8=0,0,(AF8*((LOG(AF8))/LOG(2))))","v":-0.32015976555739156},null,{"$f":"N8","v":112},{"$f":"COUNTIF(L102:L132,AI8)","v":5},{"$f":"AJ8/(AL4-AJ11)","v":0.16129032258064516},{"$f":"IF(AK8=0,0,(AK8*((LOG(AK8))/LOG(2))))","v":-0.42455938959669559},null,{"$f":"N8","v":112},{"$f":"COUNTIF(L133:L164,AN8)","v":10},{"$f":"AO8/(AQ4-AO11)","v":0.3125},{"$f":"IF(AP8=0,0,(AP8*((LOG(AP8))/LOG(2))))","v":-0.52439747034769923},null,{"$f":"N8","v":112},{"$f":"COUNTIF(L165:L195,AS8)","v":8},{"$f":"AT8/(AV4-AT11)","v":0.25806451612903225},{"$f":"IF(AU8=0,0,(AU8*((LOG(AU8))/LOG(2))))","v":-0.50430872526112902}]
[12,232,13,235,24,245,null,null,null,null,0,112,null,121,{"$f":"COUNTIF($L$7:$L$500,N9)","v":14},{"$f":"O9/$Q$4","v":7.407407407407407E-2},{"$f":"IF(P9=0,0,(P9*((LOG(P9))/LOG(2))))","v":-0.27813981497507173},null,null,{"$f":"N9","v":121},{"$f":"COUNTIF(L7:L38,T9)","v":2},{"$f":"U9/(W4-U11)","v":6.25E-2},{"$f":"IF(V9=0,0,(V9*((LOG(V9))/LOG(2))))","v":-0.25},null,{"$f":"N9","v":121},{"$f":"COUNTIF(L39:L69,Y9)","v":1},{"$f":"Z9/(AB4-Z11)","v":3.2258064516129031E-2},{"$f":"IF(AA9=0,0,(AA9*((LOG(AA9))/LOG(2))))","v":-0.15981278420602821},null,{"$f":"N9","v":121},{"$f":"COUNTIF(L70:L101,AD9)","v":2},{"$f":"AE9/(AG4-AE11)","v":6.25E-2},{"$f":"IF(AF9=0,0,(AF9*((LOG(AF9))/LOG(2))))","v":-0.25},null,{"$f":"N9","v":121},{"$f":"COUNTIF(L102:L132,AI9)","v":3},{"$f":"AJ9/(AL4-AJ11)","v":9.6774193548387094E-2},{"$f":"IF(AK9=0,0,(AK9*((LOG(AK9))/LOG(2))))","v":-0.32605488480635986},null,{"$f":"N9","v":121},{"$f":"COUNTIF(L133:L164,AN9)","v":5},{"$f":"AO9/(AQ4-AO11)","v":0.15625},{"$f":"IF(AP9=0,0,(AP9*((LOG(AP9))/LOG(2))))","v":-0.41844873517384967},null,{"$f":"N9","v":121},{"$f":"COUNTIF(L165:L195,AS9)","v":1},{"$f":"AT9/(AV4-AT11)","v":3.2258064516129031E-2},{"$f":"IF(AU9=0,0,(AU9*((LOG(AU9))/LOG(2))))","v":-0.15981278420602821}]
[12,342,13,350,24,362,null,null,null,null,0,112,null,122,{"$f":"COUNTIF($L$7:$L$500,N10)","v":87},{"$f":"O10/$Q$4","v":0.46031746031746029},{"$f":"IF(P10=0,0,(P10*((LOG(P10))/LOG(2))))","v":-0.5152328400444125},null,null,{"$f":"N10","v":122},{"$f":"COUNTIF(L7:L38,T10)","v":10},{"$f":"U10/(W4-U11)","v":0.3125},{"$f":"IF(V10=0,0,(V10*((LOG(V10))/LOG(2))))","v":-0.52439747034769923},null,{"$f":"N10","v":122},{"$f":"COUNTIF(L39:L69,Y10)","v":18},{"$f":"Z10/(AB4-Z11)","v":0.58064516129032262},{"$f":"IF(AA10=0,0,(AA10*((LOG(AA10))/LOG(2))))","v":-0.45538334067748809},null,{"$f":"N10","v":122},{"$f":"COUNTIF(L70:L101,AD10)","v":21},{"$f":"AE10/(AG4-AE11)","v":0.65625},{"$f":"IF(AF10=0,0,(AF10*((LOG(AF10))/LOG(2))))","v":-0.3987916913014386},null,{"$f":"N10","v":122},{"$f":"COUNTIF(L102:L132,AI10)","v":19},{"$f":"AJ10/(AL4-AJ11)","v":0.61290322580645162},{"$f":"IF(AK10=0,0,(AK10*((LOG(AK10))/LOG(2))))","v":-0.43287442393298403},null,{"$f":"N10","v":122},{"$f":"COUNTIF(L133:L164,AN10)","v":7},{"$f":"AO10/(AQ4-AO11)","v":0.21875},{"$f":"IF(AP10=0,0,(AP10*((LOG(AP10))/LOG(2))))","v":-0.47964111079989907},null,{"$f":"N10","v":122},{"$f":"COUNTIF(L165:L195,AS10)","v":12},{"$f":"AT10/(AV4-AT11)","v":0.38709677419354838},{"$f":"IF(AU10=0,0,(AU10*((LOG(AU10))/LOG(2))))","v":-0.5300259908383429}]
[21,465,11,468,22,471,null,null,null,null,0,212,null,211,{"$f":"COUNTIF($L$7:$L$500,N11)","v":0},{"$f":"O11/$Q$4","v":0},{"$f":"IF(P11=0,0,(P11*((LOG(P11))/LOG(2))))","v":0},null,null,{"$f":"N11","v":211},{"$f":"COUNTIF(L7:L38,T11)","v":0},null,null,null,{"$f":"N11","v":211},{"$f":"COUNTIF(L39:L69,Y11)","v":0},null,null,null,{"$f":"N11","v":211},{"$f":"COUNTIF(L70:L101,AD11)","v":0},null,null,null,{"$f":"N11","v":211},{"$f":"COUNTIF(L102:L132,AI11)","v":0},null,null,null,{"$f":"N11","v":211},{"$f":"COUNTIF(L133:L164,AN11)","v":0},null,null,null,{"$f":"N11","v":211},{"$f":"COUNTIF(L165:L195,AS11)","v":0}]
[12,566,13,570,24,573,null,null,null,null,0,112,null,212,{"$f":"COUNTIF($L$7:$L$500,N12)","v":14},{"$f":"O12/$Q$4","v":7.407407407407407E-2},{"$f":"IF(P12=0,0,(P12*((LOG(P12))/LOG(2))))","v":-0.27813981497507173},null,null,{"$f":"N12","v":212},{"$f":"COUNTIF(L7:L38,T12)","v":2},{"$f":"U12/(W4-U11)","v":6.25E-2},{"$f":"IF(V12=0,0,(V12*((LOG(V12))/LOG(2))))","v":-0.25},null,{"$f":"N12","v":212},{"$f":"COUNTIF(L39:L69,Y12)","v":2},{"$f":"Z12/(AB4-Z11)","v":6.4516129032258063E-2},{"$f":"IF(AA12=0,0,(AA12*((LOG(AA12))/LOG(2))))","v":-0.25510943937979835},null,{"$f":"N12","v":212},{"$f":"COUNTIF(L70:L101,AD12)","v":3},{"$f":"AE12/(AG4-AE11)","v":9.375E-2},{"$f":"IF(AF12=0,0,(AF12*((LOG(AF12))/LOG(2))))","v":-0.32015976555739156},null,{"$f":"N12","v":212},{"$f":"COUNTIF(L102:L132,AI12)","v":0},{"$f":"AJ12/(AL4-AJ11)","v":0},{"$f":"IF(AK12=0,0,(AK12*((LOG(AK12))/LOG(2))))","v":0},null,{"$f":"N12","v":212},{"$f":"COUNTIF(L133:L164,AN12)","v":2},{"$f":"AO12/(AQ4-AO11)","v":6.25E-2},{"$f":"IF(AP12=0,0,(AP12*((LOG(AP12))/LOG(2))))","v":-0.25},null,{"$f":"N12","v":212},{"$f":"COUNTIF(L165:L195,AS12)","v":5},{"$f":"AT12/(AV4-AT11)","v":0.16129032258064516},{"$f":"IF(AU12=0,0,(AU12*((LOG(AU12))/LOG(2))))","v":-0.42455938959669559}]
[12,676,13,692,24,696,null,null,null,null,0,112,null,221,{"$f":"COUNTIF($L$7:$L$500,N13)","v":6},{"$f":"O13/$Q$4","v":3.1746031746031744E-2},{"$f":"IF(P13=0,0,(P13*((LOG(P13))/LOG(2))))","v":-0.15800888646031477},null,null,{"$f":"N13","v":221},{"$f":"COUNTIF(L7:L38,T13)","v":2},{"$f":"U13/(W4-U11)","v":6.25E-2},{"$f":"IF(V13=0,0,(V13*((LOG(V13))/LOG(2))))","v":-0.25},null,{"$f":"N13","v":221},{"$f":"COUNTIF(L39:L69,Y13)","v":0},{"$f":"Z13/(AB4-Z11)","v":0},{"$f":"IF(AA13=0,0,(AA13*((LOG(AA13))/LOG(2))))","v":0},null,{"$f":"N13","v":221},{"$f":"COUNTIF(L70:L101,AD13)","v":0},{"$f":"AE13/(AG4-AE11)","v":0},{"$f":"IF(AF13=0,0,(AF13*((LOG(AF13))/LOG(2))))","v":0},null,{"$f":"N13","v":221},{"$f":"COUNTIF(L102:L132,AI13)","v":1},{"$f":"AJ13/(AL4-AJ11)","v":3.2258064516129031E-2},{"$f":"IF(AK13=0,0,(AK13*((LOG(AK13))/LOG(2))))","v":-0.15981278420602821},null,{"$f":"N13","v":221},{"$f":"COUNTIF(L133:L164,AN13)","v":1},{"$f":"AO13/(AQ4-AO11)","v":3.125E-2},{"$f":"IF(AP13=0,0,(AP13*((LOG(AP13))/LOG(2))))","v":-0.15625},null,{"$f":"N13","v":221},{"$f":"COUNTIF(L165:L195,AS13)","v":2},{"$f":"AT13/(AV4-AT11)","v":6.4516129032258063E-2},{"$f":"IF(AU13=0,0,(AU13*((LOG(AU13))/LOG(2))))","v":-0.25510943937979835}]
[12,814,24,820,24,824,null,null,null,null,0,122,null,222,{"$f":"COUNTIF($L$7:$L$500,N14)","v":20},{"$f":"O14/$Q$4","v":0.10582010582010581},{"$f":"IF(P14=0,0,(P14*((LOG(P14))/LOG(2))))","v":-0.34289040522049841},null,null,{"$f":"N14","v":222},{"$f":"COUNTIF(L7:L38,T14)","v":3},{"$f":"U14/(W4-U11)","v":9.375E-2},{"$f":"IF(V14=0,0,(V14*((LOG(V14))/LOG(2))))","v":-0.32015976555739156},null,{"$f":"N14","v":222},{"$f":"COUNTIF(L39:L69,Y14)","v":6},{"$f":"Z14/(AB4-Z11)","v":0.19354838709677419},{"$f":"IF(AA14=0,0,(AA14*((LOG(AA14))/LOG(2))))","v":-0.45856138251594558},null,{"$f":"N14","v":222},{"$f":"COUNTIF(L70:L101,AD14)","v":3},{"$f":"AE14/(AG4-AE11)","v":9.375E-2},{"$f":"IF(AF14=0,0,(AF14*((LOG(AF14))/LOG(2))))","v":-0.32015976555739156},null,{"$f":"N14","v":222},{"$f":"COUNTIF(L102:L132,AI14)","v":1},{"$f":"AJ14/(AL4-AJ11)","v":3.2258064516129031E-2},{"$f":"IF(AK14=0,0,(AK14*((LOG(AK14))/LOG(2))))","v":-0.15981278420602821},null,{"$f":"N14","v":222},{"$f":"COUNTIF(L133:L164,AN14)","v":4},{"$f":"AO14/(AQ4-AO11)","v":0.125},{"$f":"IF(AP14=0,0,(AP14*((LOG(AP14))/LOG(2))))","v":-0.375},null,{"$f":"N14","v":222},{"$f":"COUNTIF(L165:L195,AS14)","v":3},{"$f":"AT14/(AV4-AT11)","v":9.6774193548387094E-2},{"$f":"IF(AU14=0,0,(AU14*((LOG(AU14))/LOG(2))))","v":-0.32605488480635986}]
[12,939,13,957,24,963,null,null,null,null,0,112,null,null,null,{"$f":"SUM(P7:P14)","v":1},{"$f":"-SUM(Q7:Q14)","v":2.2267848818810139},null,null,null,null,{"$f":"SUM(V7:V14)","v":1},{"$f":"-SUM(W7:W14)","v":2.3741276169985199},null,null,null,{"$f":"SUM(AA7:AA14)","v":1},{"$f":"-SUM(AB7:AB14)","v":1.7100535674743409},null,null,null,{"$f":"SUM(AF7:AF14)","v":1},{"$f":"-SUM(AG7:AG14)","v":1.6092709879736133},null,null,null,{"$f":"SUM(AK7:AK14)","v":1},{"$f":"-SUM(AL7:AL14)","v":1.7582237061278942},null,null,null,{"$f":"SUM(AP7:AP14)","v":1},{"$f":"-SUM(AQ7:AQ14)","v":2.5238970818788395},null,null,null,{"$f":"SUM(AU7:AU14)","v":0.99999999999999989},{"$f":"-SUM(AV7:AV14)","v":2.1998712140883541}]
[12,1070,24,1086,24,1093,null,null,null,null,0,122,null,null,null,"U=",{"$f":"Q15/(LOG(Q4)/LOG(2))","v":0.29446092269521201},null,null,null,null,"U1=",{"$f":"W15/(LOG(W4)/LOG(2))","v":0.47482552339970396},null,null,null,"U2=",{"$f":"AB15/(LOG(AB4)/LOG(2))","v":0.34517275060115699},null,null,null,"U3=",{"$f":"AG15/(LOG(AG4)/LOG(2))","v":0.32185419759472267},null,null,null,"U4=",{"$f":"AL15/(LOG(AL4)/LOG(2))","v":0.35489584908890981},null,null,null,"U5=",{"$f":"AQ15/(LOG(AQ4)/LOG(2))","v":0.50477941637576795},null,null,null,"U6=",{"$f":"AV15/(LOG(AV4)/LOG(2))","v":0.44404199516198933}]
[12,1199,24,1212,24,1221,null,null,null,null,0,122]
[12,1330,24,1334,24,1341,null,null,null,null,0,122]
[12,1437,24,1447,13,1453,null,null,null,null,0,121,null,"Total Target Seq"]
[21,1552,22,1557,13,1559,null,null,null,null,0,221,null,{"$f":"COUNTIF(L7:L195,G3)","v":0},null,32,31,32,31,32,31]
[12,1703,13,1721,24,1726,null,null,null,null,0,112,null,null,null,"% of reinforcement given in 6 equal intervals based on number of trials "]
[21,1843,11,1847,22,1850,null,null,null,null,0,212,null,null,null,"%_1","%_2","%_3","%_4","%_5","%_6"]
[21,1958,22,1964,24,1972,null,null,null,null,0,222,null,null,"target sequence",{"$f":"$G$3","v":211},{"$f":"$G$3","v":211},{"$f":"$G$3","v":211},{"$f":"$G$3","v":211},{"$f":"$G$3","v":211},{"$f":"$G$3","v":211}]
[12,2070,24,2075,24,2081,null,null,null,null,0,122,null,null,"total reinforcement",{"$f":"U11","v":0},{"$f":"Z11","v":0},{"$f":"AE11","v":0},{"$f":"AJ11","v":0},{"$f":"AO11","v":0},{"$f":"AT11","v":0}]
[12,2175,13,2187,24,2190,null,null,null,null,0,112,null,null,"% target"]
[12,2283,13,2292,24,2298,null,null,null,null,0,112,null,null,"CCRF"]
[21,2406,22,2412,13,2417,null,null,null,null,0,221,null,null,"% CCRf"]
[21,2515,22,2519,24,2526,null,null,null,null,0,222,null,null,"average response rate",{"$f":"F38/P20","v":121.03125},{"$f":"(F69-F38)/Q20","v":127.93548387096774},{"$f":"(F101-F69)/R20","v":121.34375},{"$f":"(F132-F101)/S20","v":128.54838709677421},{"$f":"(F164-F132)/T20","v":124.8125},{"$f":"(F195-F164)/U20","v":135.29032258064515}]
[12,2674,13,2688,24,2692,null,null,null,null,0,112]
[12,2794,24,2801,24,2806,null,null,null,null,0,122]
[12,2984,24,2992,24,2999,null,null,null,null,0,122]
[12,3094,24,3101,24,3107,null,null,null,null,0,122]
[12,3208,24,3218,24,3225,null,null,null,null,0,122]
[12,3325,13,3327,13,3339,null,null,null,null,0,111]
[12,3431,13,3439,24,3445,null,null,null,null,0,112]
[21,3547,22,3554,24,3560,null,null,null,null,0,222]
[12,3664,24,3675,13,3684,null,null,null,null,0,121]
[12,3858,13,3869,24,3873,null,null,null,null,0,112]
[21,4008,22,4015,24,4022,null,null,null,null,0,222]
[12,4124,24,4140,13,4146,null,null,null,null,0,121]
[12,4242,24,4258,24,4265,null,null,null,null,0,122]
[21,4408,22,4410,24,4424,null,null,null,null,0,222]
[12,4523,13,4535,24,4540,null,null,null,null,0,112]
[12,4656,24,4671,24,4680,null,null,null,null,0,122]
[12,4783,24,4796,24,4803,null,null,null,null,0,122]
[12,4904,24,4910,24,4917,null,null,null,null,0,122]
[12,5017,24,5027,24,5034,null,null,null,null,0,122]
[12,5130,24,5133,24,5140,null,null,null,null,0,122]
[12,5236,24,5242,24,5248,null,null,null,null,0,122]
[21,5350,22,5354,24,5360,null,null,null,null,0,222]
[12,5454,13,5462,24,5464,null,null,null,null,0,112]
[12,5559,24,5567,24,5573,null,null,null,null,0,122]
[12,5661,24,5672,24,5678,null,null,null,null,0,122]
[12,5773,13,5781,24,5790,null,null,null,null,0,112]
[12,5971,24,5975,24,5981,null,null,null,null,0,122]
[21,6092,22,6101,24,6110,null,null,null,null,0,222]
[12,6237,24,6247,24,6254,null,null,null,null,0,122]
[21,6394,11,6402,22,6409,null,null,null,null,0,212]
[12,6515,24,6520,24,6534,null,null,null,null,0,122]
[12,6659,24,6662,24,6669,null,null,null,null,0,122]
[12,6818,24,6819,24,6826,null,null,null,null,0,122]
[21,6959,22,6965,24,6974,null,null,null,null,0,222]
[12,7108,24,7110,24,7116,null,null,null,null,0,122]
[21,7239,11,7241,22,7253,null,null,null,null,0,212]
[21,7357,22,7363,24,7372,null,null,null,null,0,222]
[12,7465,13,7475,24,7488,null,null,null,null,0,112]
[12,7580,24,7592,24,7598,null,null,null,null,0,122]
[12,7705,24,7716,24,7730,null,null,null,null,0,122]
[12,7828,24,7831,24,7839,null,null,null,null,0,122]
[12,7957,24,7970,13,7975,null,null,null,null,0,121]
[21,8102,22,8108,24,8115,null,null,null,null,0,222]
[12,8208,24,8217,24,8219,null,null,null,null,0,122]
[12,8313,24,8320,24,8329,null,null,null,null,0,122]
[12,8426,24,8431,24,8434,null,null,null,null,0,122]
[12,8560,24,8575,24,8581,null,null,null,null,0,122]
[21,8684,22,8689,24,8695,null,null,null,null,0,222]
[12,8867,24,8881,24,8886,null,null,null,null,0,122]
[12,8990,24,8994,24,8999,null,null,null,null,0,122]
[12,9097,24,9101,24,9106,null,null,null,null,0,122]
[21,9215,11,9220,22,9230,null,null,null,null,0,212]
[12,9320,24,9330,24,9338,null,null,null,null,0,122]
[12,9450,24,9462,24,9473,null,null,null,null,0,122]
[12,9567,24,9579,13,9586,null,null,null,null,0,121]
[12,9681,24,9684,24,9690,null,null,null,null,0,122]
[12,9787,24,9793,24,9799,null,null,null,null,0,122]
[12,9893,13,9908,24,9915,null,null,null,null,0,112]
[12,10035,24,10042,24,10048,null,null,null,null,0,122]
[12,10157,24,10166,24,10174,null,null,null,null,0,122]
[12,10310,13,10320,24,10330,null,null,null,null,0,112]
[12,10431,24,10433,24,10437,null,null,null,null,0,122]
[12,10540,24,10550,24,10552,null,null,null,null,0,122]
[12,10646,24,10652,24,10658,null,null,null,null,0,122]
[12,10759,24,10769,24,10775,null,null,null,null,0,122]
[21,10904,11,10906,22,10916,null,null,null,null,0,212]
[12,11025,24,11031,24,11037,null,null,null,null,0,122]
[12,11132,24,11141,24,11147,null,null,null,null,0,122]
[12,11242,24,11246,24,11251,null,null,null,null,0,122]
[12,11356,13,11359,24,11371,null,null,null,null,0,112]
[12,11466,24,11469,24,11482,null,null,null,null,0,122]
[21,11599,11,11602,22,11606,null,null,null,null,0,212]
[21,11708,22,11714,24,11722,null,null,null,null,0,222]
[12,11870,24,11887,13,11891,null,null,null,null,0,121]
[12,11984,13,11986,13,11993,null,null,null,null,0,111]
[12,12080,24,12100,24,12108,null,null,null,null,0,122]
[12,12209,13,12213,24,12224,null,null,null,null,0,112]
[12,12328,24,12339,24,12346,null,null,null,null,0,122]
[12,12446,13,12449,24,12461,null,null,null,null,0,112]
[12,12560,24,12574,24,12580,null,null,null,null,0,122]
[21,12680,22,12685,24,12694,null,null,null,null,0,222]
[12,12785,24,12789,24,12794,null,null,null,null,0,122]
[12,12925,13,12934,24,12940,null,null,null,null,0,112]
[12,13040,13,13045,24,13055,null,null,null,null,0,112]
[12,13157,24,13165,24,13172,null,null,null,null,0,122]
[12,13261,24,13267,24,13270,null,null,null,null,0,122]
[12,13362,24,13367,24,13373,null,null,null,null,0,122]
[12,13526,13,13540,24,13563,null,null,null,null,0,112]
[12,13733,24,13745,13,13751,null,null,null,null,0,121]
[12,13845,24,13856,24,13862,null,null,null,null,0,122]
[12,13959,24,13961,24,13966,null,null,null,null,0,122]
[12,14180,24,14194,24,14199,null,null,null,null,0,122]
[12,14295,24,14307,24,14312,null,null,null,null,0,122]
[12,14443,24,14457,24,14463,null,null,null,null,0,122]
[12,14556,13,14567,13,14577,null,null,null,null,0,111]
[12,14675,24,14677,24,14684,null,null,null,null,0,122]
[12,14783,24,14786,24,14794,null,null,null,null,0,122]
[12,14890,24,14895,24,14901,null,null,null,null,0,122]
[21,15005,22,15010,13,15014,null,null,null,null,0,221]
[12,15113,24,15128,24,15143,null,null,null,null,0,122]
[12,15244,24,15256,24,15264,null,null,null,null,0,122]
[12,15361,24,15365,24,15373,null,null,null,null,0,122]
[12,15466,24,15475,24,15488,null,null,null,null,0,122]
[12,15684,24,15697,13,15707,null,null,null,null,0,121]
[12,15820,24,15840,24,15849,null,null,null,null,0,122]
[21,15983,22,15996,24,16003,null,null,null,null,0,222]
[12,16096,13,16110,24,16119,null,null,null,null,0,112]
[21,16251,11,16255,22,16261,null,null,null,null,0,212]
[21,16360,22,16365,13,16370,null,null,null,null,0,221]
[12,16475,24,16485,13,16491,null,null,null,null,0,121]
[21,16660,22,16666,24,16674,null,null,null,null,0,222]
[12,16791,24,16795,24,16801,null,null,null,null,0,122]
[12,16894,13,16916,24,16924,null,null,null,null,0,112]
[12,17020,24,17032,13,17042,null,null,null,null,0,121]
[12,17205,24,17217,13,17221,null,null,null,null,0,121]
[12,17322,13,17334,24,17340,null,null,null,null,0,112]
[21,17439,22,17445,24,17454,null,null,null,null,0,222]
[12,17555,24,17561,24,17567,null,null,null,null,0,122]
[12,17660,13,17674,24,17677,null,null,null,null,0,112]
[21,17830,11,17832,22,17835,null,null,null,null,0,212]
[12,17928,24,17939,13,17950,null,null,null,null,0,121]
[12,18072,24,18084,13,18088,null,null,null,null,0,121]
[12,18192,13,18196,24,18207,null,null,null,null,0,112]
[12,18306,13,18310,24,18322,null,null,null,null,0,112]
[12,18442,13,18451,13,18465,null,null,null,null,0,111]
[12,18556,13,18561,24,18572,null,null,null,null,0,112]
[12,18675,13,18680,24,18694,null,null,null,null,0,112]
[12,18798,13,18804,24,18819,null,null,null,null,0,112]
[12,18912,13,18915,24,18925,null,null,null,null,0,112]
[12,19019,13,19025,13,19029,null,null,null,null,0,111]
[12,19131,24,19136,24,19143,null,null,null,null,0,122]
[12,19244,24,19247,24,19253,null,null,null,null,0,122]
[12,19351,24,19354,24,19366,null,null,null,null,0,122]
[12,19459,24,19467,24,19472,null,null,null,null,0,122]
[12,19570,13,19573,13,19577,null,null,null,null,0,111]
[21,19689,22,19694,24,19701,null,null,null,null,0,222]
[12,19803,24,19806,24,19811,null,null,null,null,0,122]
[12,19909,13,19914,24,19923,null,null,null,null,0,112]
[12,20020,24,20023,24,20029,null,null,null,null,0,122]
[12,20138,13,20153,24,20160,null,null,null,null,0,112]
[12,20273,24,20289,24,20294,null,null,null,null,0,122]
[12,20435,24,20439,24,20448,null,null,null,null,0,122]
[12,20553,13,20557,24,20566,null,null,null,null,0,112]
[12,20659,13,20669,24,20681,null,null,null,null,0,112]
[12,20810,24,20822,24,20829,null,null,null,null,0,122]
[21,20933,22,20938,24,20946,null,null,null,null,0,222]
[21,21051,22,21056,13,21060,null,null,null,null,0,221]
[12,21158,13,21162,24,21172,null,null,null,null,0,112]
[12,21266,24,21271,24,21275,null,null,null,null,0,122]
[21,21381,11,21382,22,21387,null,null,null,null,0,212]
[12,21486,13,21489,24,21499,null,null,null,null,0,112]
[12,21648,13,21662,24,21669,null,null,null,null,0,112]
[12,21873,24,21889,13,21893,null,null,null,null,0,121]
[12,22015,13,22026,24,22028,null,null,null,null,0,112]
[12,22141,24,22144,24,22152,null,null,null,null,0,122]
[21,22310,11,22316,22,22320,null,null,null,null,0,212]
[21,22567,11,22575,22,22592,null,null,null,null,0,212]
[12,22685,24,22700,24,22706,null,null,null,null,0,122]
[21,22865,22,22870,13,22872,null,null,null,null,0,221]
[21,23002,11,23005,22,23010,null,null,null,null,0,212]
[12,23102,24,23118,24,23126,null,null,null,null,0,122]
[21,23223,11,23225,22,23227,null,null,null,null,0,212]
[21,23331,22,23337,24,23342,null,null,null,null,0,222]
[12,23435,24,23438,24,23446,null,null,null,null,0,122]
[21,23626,22,23643,24,23650,null,null,null,null,0,222]
[12,23787,24,23789,24,23794,null,null,null,null,0,122]
[12,23889,24,23891,24,23895,null,null,null,null,0,122]

{"sheet":"!N131920.Gus","index":7,"n_rows":183,"n_cols":48,"rows_kept":183,"cut":false,"hidden":false,"merged":[[4,39,4,42],[5,39,5,40],[4,44,4,47],[5,44,5,45],[4,24,4,27],[5,24,5,25],[4,29,4,32],[5,29,5,30],[4,34,4,37],[5,34,5,35],[1,1,1,2],[5,13,5,14],[18,13,18,14],[19,13,19,14],[4,19,4,22],[5,19,5,20]]}
["Report for:!N131920.Gus"]
["Date:","<date>"]
["Hen:","<hen>",null,null,null,"Correct Sequence",{"$f":"Start!J2","v":211},null,null,null,null,null,null,null,null,"Total Sequences in Data",{"$f":"4994-COUNTBLANK(L7:L5000)","v":177},null,null,null,null,"Total Sequences in Block Data",{"$f":"COUNTA(L7:L36)","v":30},null,null,null,"Total Sequences in Block Data",{"$f":"COUNTA(L37:L65)","v":29},null,null,null,"Total Sequences in Block Data",{"$f":"COUNTA(L66:L95)","v":30},null,null,null,"Total Sequences in Block Data",{"$f":"COUNTA(L96:L124)","v":29},null,null,null,"Total Sequences in Block Data",{"$f":"COUNTA(L125:L154)","v":30},null,null,null,"Total Sequences in Block Data",{"$f":"COUNTA(L155:L183)","v":29}]
[null,null,null,null,null,null,null,null,null,null,null,null,null,null,null,"Total Sequences in Summary",{"$f":"SUM(O7:O14)","v":177},null,null,null,null,"Total Sequences in Block Summary",{"$f":"SUM(U7:U14)","v":30},null,null,null,"Total Sequences in Block Summary",{"$f":"SUM(Z7:Z14)","v":29},null,null,null,"Total Sequences in Block Summary",{"$f":"SUM(AE7:AE14)","v":30},null,null,null,"Total Sequences in Block Summary",{"$f":"SUM(AJ7:AJ14)","v":29},null,null,null,"Total Sequences in Block Summary",{"$f":"SUM(AO7:AO14)","v":30},null,null,null,"Total Sequences in Block Summary",{"$f":"SUM(AT7:AT14)","v":29}]
[null,null,null,null,null,null,null,null,null,null,null,null,null,null,null,null,null,null,null,"Block 1",null,null,null,null,"Block 2",null,null,null,null,"Block 3",null,null,null,null,"Block 4",null,null,null,null,"Block 5",null,null,null,null,"Block 6"]
["Sequence\nComponent\n1","Time\n1","Sequence\nComponent\n2","Time\n2","Sequence\nComponent\n3","Time\n3","Sequence\nComponent\n4","Time\n4","Sequence\nComponent\n5","Time\n5","Correct?\n0=No 1=Yes","Sequence",null,"Frequency",null,"Relative Frequency","Variability",null,null,"Frequency",null,"Relative Frequency","Variability",null,"Frequency",null,"Relative Frequency","Variability",null,"Frequency",null,"Relative Frequency","Variability",null,"Frequency",null,"Relative Frequency","Variability",null,"Frequency",null,"Relative Frequency","Variability",null,"Frequency",null,"Relative Frequency","Variability"]
[12,38,13,42,13,59,null,null,null,null,0,111,null,111,{"$f":"COUNTIF($L$7:$L$500,N7)","v":6},{"$f":"O7/$Q$4","v":3.3898305084745763E-2},{"$f":"IF(P7=0,0,(P7*((LOG(P7))/LOG(2))))","v":-0.16551332370718108},null,null,{"$f":"N7","v":111},{"$f":"COUNTIF(L7:L36,T7)","v":2},{"$f":"U7/(W4-U11)","v":6.8965517241379309E-2},{"$f":"IF(V7=0,0,(V7*((LOG(V7))/LOG(2))))","v":-0.26606765483638428},null,{"$f":"N7","v":111},{"$f":"COUNTIF(L37:L65,Y7)","v":1},{"$f":"Z7/(AB4-Z11)","v":3.4482758620689655E-2},{"$f":"IF(AA7=0,0,(AA7*((LOG(AA7))/LOG(2))))","v":-0.16751658603888178},null,{"$f":"N7","v":111},{"$f":"COUNTIF(L66:L95,AD7)","v":0},{"$f":"AE7/(AG4-AE11)","v":0},{"$f":"IF(AF7=0,0,(AF7*((LOG(AF7))/LOG(2))))","v":0},null,{"$f":"N7","v":111},{"$f":"COUNTIF(L96:L124,AI7)","v":1},{"$f":"AJ7/(AL4-AJ11)","v":3.4482758620689655E-2},{"$f":"IF(AK7=0,0,(AK7*((LOG(AK7))/LOG(2))))","v":-0.16751658603888178},null,{"$f":"N7","v":111},{"$f":"COUNTIF(L125:L154,AN7)","v":2},{"$f":"AO7/(AQ4-AO11)","v":6.6666666666666666E-2},{"$f":"IF(AP7=0,0,(AP7*((LOG(AP7))/LOG(2))))","v":-0.26045937304056793},null,{"$f":"N7","v":111},{"$f":"COUNTIF(L155:L183,AS7)","v":0},{"$f":"AT7/(AV4-AT11)","v":0},{"$f":"IF(AU7=0,0,(AU7*((LOG(AU7))/LOG(2))))","v":0}]
[12,169,24,175,24,181,null,null,null,null,0,122,null,112,{"$f":"COUNTIF($L$7:$L$500,N8)","v":48},{"$f":"O8/$Q$4","v":0.2711864406779661},{"$f":"IF(P8=0,0,(P8*((LOG(P8))/LOG(2))))","v":-0.51054726762355018},null,null,{"$f":"N8","v":112},{"$f":"COUNTIF(L7:L36,T8)","v":7},{"$f":"U8/(W4-U11)","v":0.2413793103448276},{"$f":"IF(V8=0,0,(V8*((LOG(V8))/LOG(2))))","v":-0.49497870729275095},null,{"$f":"N8","v":112},{"$f":"COUNTIF(L37:L65,Y8)","v":9},{"$f":"Z8/(AB4-Z11)","v":0.31034482758620691},{"$f":"IF(AA8=0,0,(AA8*((LOG(AA8))/LOG(2))))","v":-0.52387944631611505},null,{"$f":"N8","v":112},{"$f":"COUNTIF(L66:L95,AD8)","v":7},{"$f":"AE8/(AG4-AE11)","v":0.2413793103448276},{"$f":"IF(AF8=0,0,(AF8*((LOG(AF8))/LOG(2))))","v":-0.49497870729275095},null,{"$f":"N8","v":112},{"$f":"COUNTIF(L96:L124,AI8)","v":12},{"$f":"AJ8/(AL4-AJ11)","v":0.41379310344827586},{"$f":"IF(AK8=0,0,(AK8*((LOG(AK8))/LOG(2))))","v":-0.5267662735474824},null,{"$f":"N8","v":112},{"$f":"COUNTIF(L125:L154,AN8)","v":8},{"$f":"AO8/(AQ4-AO11)","v":0.26666666666666666},{"$f":"IF(AP8=0,0,(AP8*((LOG(AP8))/LOG(2))))","v":-0.50850415882893829},null,{"$f":"N8","v":112},{"$f":"COUNTIF(L155:L183,AS8)","v":5},{"$f":"AT8/(AV4-AT11)","v":0.17241379310344829},{"$f":"IF(AU8=0,0,(AU8*((LOG(AU8))/LOG(2))))","v":-0.43725050004141547}]
[12,276,24,294,24,301,null,null,null,null,0,122,null,121,{"$f":"COUNTIF($L$7:$L$500,N9)","v":25},{"$f":"O9/$Q$4","v":0.14124293785310735},{"$f":"IF(P9=0,0,(P9*((LOG(P9))/LOG(2))))","v":-0.39883465541077301},null,null,{"$f":"N9","v":121},{"$f":"COUNTIF(L7:L36,T9)","v":2},{"$f":"U9/(W4-U11)","v":6.8965517241379309E-2},{"$f":"IF(V9=0,0,(V9*((LOG(V9))/LOG(2))))","v":-0.26606765483638428},null,{"$f":"N9","v":121},{"$f":"COUNTIF(L37:L65,Y9)","v":7},{"$f":"Z9/(AB4-Z11)","v":0.2413793103448276},{"$f":"IF(AA9=0,0,(AA9*((LOG(AA9))/LOG(2))))","v":-0.49497870729275095},null,{"$f":"N9","v":121},{"$f":"COUNTIF(L66:L95,AD9)","v":4},{"$f":"AE9/(AG4-AE11)","v":0.13793103448275862},{"$f":"IF(AF9=0,0,(AF9*((LOG(AF9))/LOG(2))))","v":-0.39420427519000989},null,{"$f":"N9","v":121},{"$f":"COUNTIF(L96:L124,AI9)","v":4},{"$f":"AJ9/(AL4-AJ11)","v":0.13793103448275862},{"$f":"IF(AK9=0,0,(AK9*((LOG(AK9))/LOG(2))))","v":-0.39420427519000989},null,{"$f":"N9","v":121},{"$f":"COUNTIF(L125:L154,AN9)","v":5},{"$f":"AO9/(AQ4-AO11)","v":0.16666666666666666},{"$f":"IF(AP9=0,0,(AP9*((LOG(AP9))/LOG(2))))","v":-0.43082708345352599},null,{"$f":"N9","v":121},{"$f":"COUNTIF(L155:L183,AS9)","v":3},{"$f":"AT9/(AV4-AT11)","v":0.10344827586206896},{"$f":"IF(AU9=0,0,(AU9*((LOG(AU9))/LOG(2))))","v":-0.33858812011100858}]
[12,399,13,402,13,404,null,null,null,null,0,111,null,122,{"$f":"COUNTIF($L$7:$L$500,N10)","v":59},{"$f":"O10/$Q$4","v":0.33333333333333331},{"$f":"IF(P10=0,0,(P10*((LOG(P10))/LOG(2))))","v":-0.52832083357371862},null,null,{"$f":"N10","v":122},{"$f":"COUNTIF(L7:L36,T10)","v":10},{"$f":"U10/(W4-U11)","v":0.34482758620689657},{"$f":"IF(V10=0,0,(V10*((LOG(V10))/LOG(2))))","v":-0.52967341387593436},null,{"$f":"N10","v":122},{"$f":"COUNTIF(L37:L65,Y10)","v":10},{"$f":"Z10/(AB4-Z11)","v":0.34482758620689657},{"$f":"IF(AA10=0,0,(AA10*((LOG(AA10))/LOG(2))))","v":-0.52967341387593436},null,{"$f":"N10","v":122},{"$f":"COUNTIF(L66:L95,AD10)","v":11},{"$f":"AE10/(AG4-AE11)","v":0.37931034482758619},{"$f":"IF(AF10=0,0,(AF10*((LOG(AF10))/LOG(2))))","v":-0.53048424625493174},null,{"$f":"N10","v":122},{"$f":"COUNTIF(L96:L124,AI10)","v":7},{"$f":"AJ10/(AL4-AJ11)","v":0.2413793103448276},{"$f":"IF(AK10=0,0,(AK10*((LOG(AK10))/LOG(2))))","v":-0.49497870729275095},null,{"$f":"N10","v":122},{"$f":"COUNTIF(L125:L154,AN10)","v":9},{"$f":"AO10/(AQ4-AO11)","v":0.3},{"$f":"IF(AP10=0,0,(AP10*((LOG(AP10))/LOG(2))))","v":-0.52108967824986185},null,{"$f":"N10","v":122},{"$f":"COUNTIF(L155:L183,AS10)","v":12},{"$f":"AT10/(AV4-AT11)","v":0.41379310344827586},{"$f":"IF(AU10=0,0,(AU10*((LOG(AU10))/LOG(2))))","v":-0.5267662735474824}]
[12,506,13,519,24,522,null,null,null,null,0,112,null,211,{"$f":"COUNTIF($L$7:$L$500,N11)","v":2},{"$f":"O11/$Q$4","v":1.1299435028248588E-2},{"$f":"IF(P11=0,0,(P11*((LOG(P11))/LOG(2))))","v":-7.3080288701502794E-2},null,null,{"$f":"N11","v":211},{"$f":"COUNTIF(L7:L36,T11)","v":1},null,null,null,{"$f":"N11","v":211},{"$f":"COUNTIF(L37:L65,Y11)","v":0},null,null,null,{"$f":"N11","v":211},{"$f":"COUNTIF(L66:L95,AD11)","v":1},null,null,null,{"$f":"N11","v":211},{"$f":"COUNTIF(L96:L124,AI11)","v":0},null,null,null,{"$f":"N11","v":211},{"$f":"COUNTIF(L125:L154,AN11)","v":0},null,null,null,{"$f":"N11","v":211},{"$f":"COUNTIF(L155:L183,AS11)","v":0}]
[21,625,11,627,22,629,null,null,null,null,0,212,null,212,{"$f":"COUNTIF($L$7:$L$500,N12)","v":12},{"$f":"O12/$Q$4","v":6.7796610169491525E-2},{"$f":"IF(P12=0,0,(P12*((LOG(P12))/LOG(2))))","v":-0.2632300372448706},null,null,{"$f":"N12","v":212},{"$f":"COUNTIF(L7:L36,T12)","v":4},{"$f":"U12/(W4-U11)","v":0.13793103448275862},{"$f":"IF(V12=0,0,(V12*((LOG(V12))/LOG(2))))","v":-0.39420427519000989},null,{"$f":"N12","v":212},{"$f":"COUNTIF(L37:L65,Y12)","v":1},{"$f":"Z12/(AB4-Z11)","v":3.4482758620689655E-2},{"$f":"IF(AA12=0,0,(AA12*((LOG(AA12))/LOG(2))))","v":-0.16751658603888178},null,{"$f":"N12","v":212},{"$f":"COUNTIF(L66:L95,AD12)","v":2},{"$f":"AE12/(AG4-AE11)","v":6.8965517241379309E-2},{"$f":"IF(AF12=0,0,(AF12*((LOG(AF12))/LOG(2))))","v":-0.26606765483638428},null,{"$f":"N12","v":212},{"$f":"COUNTIF(L96:L124,AI12)","v":1},{"$f":"AJ12/(AL4-AJ11)","v":3.4482758620689655E-2},{"$f":"IF(AK12=0,0,(AK12*((LOG(AK12))/LOG(2))))","v":-0.16751658603888178},null,{"$f":"N12","v":212},{"$f":"COUNTIF(L125:L154,AN12)","v":1},{"$f":"AO12/(AQ4-AO11)","v":3.3333333333333333E-2},{"$f":"IF(AP12=0,0,(AP12*((LOG(AP12))/LOG(2))))","v":-0.16356301985361729},null,{"$f":"N12","v":212},{"$f":"COUNTIF(L155:L183,AS12)","v":3},{"$f":"AT12/(AV4-AT11)","v":0.10344827586206896},{"$f":"IF(AU12=0,0,(AU12*((LOG(AU12))/LOG(2))))","v":-0.33858812011100858}]
[12,724,13,729,24,755,null,null,null,null,0,112,null,221,{"$f":"COUNTIF($L$7:$L$500,N13)","v":7},{"$f":"O13/$Q$4","v":3.954802259887006E-2},{"$f":"IF(P13=0,0,(P13*((LOG(P13))/LOG(2))))","v":-0.18430369715354664},null,null,{"$f":"N13","v":221},{"$f":"COUNTIF(L7:L36,T13)","v":1},{"$f":"U13/(W4-U11)","v":3.4482758620689655E-2},{"$f":"IF(V13=0,0,(V13*((LOG(V13))/LOG(2))))","v":-0.16751658603888178},null,{"$f":"N13","v":221},{"$f":"COUNTIF(L37:L65,Y13)","v":1},{"$f":"Z13/(AB4-Z11)","v":3.4482758620689655E-2},{"$f":"IF(AA13=0,0,(AA13*((LOG(AA13))/LOG(2))))","v":-0.16751658603888178},null,{"$f":"N13","v":221},{"$f":"COUNTIF(L66:L95,AD13)","v":1},{"$f":"AE13/(AG4-AE11)","v":3.4482758620689655E-2},{"$f":"IF(AF13=0,0,(AF13*((LOG(AF13))/LOG(2))))","v":-0.16751658603888178},null,{"$f":"N13","v":221},{"$f":"COUNTIF(L96:L124,AI13)","v":1},{"$f":"AJ13/(AL4-AJ11)","v":3.4482758620689655E-2},{"$f":"IF(AK13=0,0,(AK13*((LOG(AK13))/LOG(2))))","v":-0.16751658603888178},null,{"$f":"N13","v":221},{"$f":"COUNTIF(L125:L154,AN13)","v":2},{"$f":"AO13/(AQ4-AO11)","v":6.6666666666666666E-2},{"$f":"IF(AP13=0,0,(AP13*((LOG(AP13))/LOG(2))))","v":-0.26045937304056793},null,{"$f":"N13","v":221},{"$f":"COUNTIF(L155:L183,AS13)","v":1},{"$f":"AT13/(AV4-AT11)","v":3.4482758620689655E-2},{"$f":"IF(AU13=0,0,(AU13*((LOG(AU13))/LOG(2))))","v":-0.16751658603888178}]
[12,874,24,887,24,891,null,null,null,null,0,122,null,222,{"$f":"COUNTIF($L$7:$L$500,N14)","v":18},{"$f":"O14/$Q$4","v":0.10169491525423729},{"$f":"IF(P14=0,0,(P14*((LOG(P14))/LOG(2))))","v":-0.33535734392956118},null,null,{"$f":"N14","v":222},{"$f":"COUNTIF(L7:L36,T14)","v":3},{"$f":"U14/(W4-U11)","v":0.10344827586206896},{"$f":"IF(V14=0,0,(V14*((LOG(V14))/LOG(2))))","v":-0.33858812011100858},null,{"$f":"N14","v":222},{"$f":"COUNTIF(L37:L65,Y14)","v":0},{"$f":"Z14/(AB4-Z11)","v":0},{"$f":"IF(AA14=0,0,(AA14*((LOG(AA14))/LOG(2))))","v":0},null,{"$f":"N14","v":222},{"$f":"COUNTIF(L66:L95,AD14)","v":4},{"$f":"AE14/(AG4-AE11)","v":0.13793103448275862},{"$f":"IF(AF14=0,0,(AF14*((LOG(AF14))/LOG(2))))","v":-0.39420427519000989},null,{"$f":"N14","v":222},{"$f":"COUNTIF(L96:L124,AI14)","v":3},{"$f":"AJ14/(AL4-AJ11)","v":0.10344827586206896},{"$f":"IF(AK14=0,0,(AK14*((LOG(AK14))/LOG(2))))","v":-0.33858812011100858},null,{"$f":"N14","v":222},{"$f":"COUNTIF(L125:L154,AN14)","v":3},{"$f":"AO14/(AQ4-AO11)","v":0.1},{"$f":"IF(AP14=0,0,(AP14*((LOG(AP14))/LOG(2))))","v":-0.33219280948873625},null,{"$f":"N14","v":222},{"$f":"COUNTIF(L155:L183,AS14)","v":5},{"$f":"AT14/(AV4-AT11)","v":0.17241379310344829},{"$f":"IF(AU14=0,0,(AU14*((LOG(AU14))/LOG(2))))","v":-0.43725050004141547}]
[21,1081,22,1087,24,1094,null,null,null,null,0,222,null,null,null,{"$f":"SUM(P7:P14)","v":1},{"$f":"-SUM(Q7:Q14)","v":2.4591874473447044},null,null,null,null,{"$f":"SUM(V7:V14)","v":0.99999999999999989},{"$f":"-SUM(W7:W14)","v":2.4570964121813539},null,null,null,{"$f":"SUM(AA7:AA14)","v":1},{"$f":"-SUM(AB7:AB14)","v":2.0510813256014457},null,null,null,{"$f":"SUM(AF7:AF14)","v":1},{"$f":"-SUM(AG7:AG14)","v":2.2474557448029686},null,null,null,{"$f":"SUM(AK7:AK14)","v":1},{"$f":"-SUM(AL7:AL14)","v":2.2570871342578975},null,null,null,{"$f":"SUM(AP7:AP14)","v":1},{"$f":"-SUM(AQ7:AQ14)","v":2.4770954959558154},null,null,null,{"$f":"SUM(AU7:AU14)","v":1},{"$f":"-SUM(AV7:AV14)","v":2.2459600998912124}]
[12,1214,24,1226,24,1233,null,null,null,null,0,122,null,null,null,"U=",{"$f":"Q15/(LOG(Q4)/LOG(2))","v":0.32931405265739727},null,null,null,null,"U1=",{"$f":"W15/(LOG(W4)/LOG(2))","v":0.50074407902641282},null,null,null,"U2=",{"$f":"AB15/(LOG(AB4)/LOG(2))","v":0.42220859399380661},null,null,null,"U3=",{"$f":"AG15/(LOG(AG4)/LOG(2))","v":0.45802034934594965},null,null,null,"U4=",{"$f":"AL15/(LOG(AL4)/LOG(2))","v":0.46461423717418759},null,null,null,"U5=",{"$f":"AQ15/(LOG(AQ4)/LOG(2))","v":0.50481979324599613},null,null,null,"U6=",{"$f":"AV15/(LOG(AV4)/LOG(2))","v":0.46232377239512706}]
[21,1334,11,1342,22,1345,null,null,null,null,0,212]
[21,1446,22,1452,24,1458,null,null,null,null,0,222]
[12,1562,13,1570,24,1575,null,null,null,null,0,112,null,"Total Target Seq"]
[21,1681,22,1688,13,1693,null,null,null,null,0,221,null,{"$f":"COUNTIF(L7:L183,G3)","v":2},null,30,29,30,29,30,29]
[12,1796,24,1802,24,1810,null,null,null,null,0,122,null,null,null,"% of reinforcement given in 6 equal intervals based on number of trials "]
[21,1917,11,1920,22,1931,null,null,null,null,0,212,null,null,null,"%_1","%_2","%_3","%_4","%_5","%_6"]
[12,2022,24,2035,24,2042,null,null,null,null,0,122,null,null,"target sequence",{"$f":"$G$3","v":211},{"$f":"$G$3","v":211},{"$f":"$G$3","v":211},{"$f":"$G$3","v":211},{"$f":"$G$3","v":211},{"$f":"$G$3","v":211}]
[12,2143,13,2149,24,2155,null,null,null,null,0,112,null,null,"total reinforcement",{"$f":"U11","v":1},{"$f":"Z11","v":0},{"$f":"AE11","v":1},{"$f":"AJ11","v":0},{"$f":"AO11","v":0},{"$f":"AT11","v":0}]
[21,2260,22,2264,24,2269,null,null,null,null,0,222,null,null,"% target"]
[12,2392,24,2402,13,2406,null,null,null,null,0,121,null,null,"CCRF"]
[21,2556,11,2561,11,2568,null,null,null,null,0,211,null,null,"% CCRf"]
[21,2676,11,2681,22,2701,null,null,null,null,0,212,null,null,"average response rate",{"$f":"F36/P20","v":129.33333333333334},{"$f":"(F65-F36)/Q20","v":141.0344827586207},{"$f":"(F95-F65)/R20","v":130.86666666666667},{"$f":"(F124-F95)/S20","v":135.51724137931035},{"$f":"(F154-F124)/T20","v":143.13333333333333},{"$f":"(F183-F154)/U20","v":132.31034482758622}]
[12,2815,24,2821,24,2830,null,null,null,null,0,122]
[12,2982,24,2999,24,3006,null,null,null,null,0,122]
[12,3125,24,3137,13,3141,null,null,null,null,0,121]
[12,3336,13,3342,24,3350,null,null,null,null,0,112]
[12,3509,24,3512,24,3518,null,null,null,null,0,122]
[12,3625,13,3628,24,3640,null,null,null,null,0,112]
[12,3738,24,3744,24,3751,null,null,null,null,0,122]
[12,3851,13,3867,24,3880,null,null,null,null,0,112]
[12,3981,24,3988,24,3997,null,null,null,null,0,122]
[12,4088,13,4103,24,4113,null,null,null,null,0,112]
[12,4309,24,4322,13,4325,null,null,null,null,0,121]
[12,4428,13,4445,24,4450,null,null,null,null,0,112]
[12,4591,13,4605,24,4612,null,null,null,null,0,112]
[12,4704,13,4714,24,4719,null,null,null,null,0,112]
[12,4833,13,4846,24,4853,null,null,null,null,0,112]
[12,4959,13,4963,13,4966,null,null,null,null,0,111]
[12,5083,24,5086,24,5092,null,null,null,null,0,122]
[12,5191,24,5199,24,5211,null,null,null,null,0,122]
[12,5306,24,5310,24,5315,null,null,null,null,0,122]
[12,5417,24,5429,24,5436,null,null,null,null,0,122]
[12,5528,24,5538,24,5548,null,null,null,null,0,122]
[12,5694,24,5704,13,5711,null,null,null,null,0,121]
[12,5856,24,5870,13,5882,null,null,null,null,0,121]
[21,6040,11,6047,22,6056,null,null,null,null,0,212]
[21,6164,22,6171,13,6178,null,null,null,null,0,221]
[12,6314,13,6329,24,6333,null,null,null,null,0,112]
[12,6496,24,6509,13,6512,null,null,null,null,0,121]
[12,6704,24,6720,13,6723,null,null,null,null,0,121]
[12,6843,24,6856,13,6861,null,null,null,null,0,121]
[12,7022,24,7026,24,7032,null,null,null,null,0,122]
[12,7131,24,7137,24,7148,null,null,null,null,0,122]
[12,7264,13,7269,24,7279,null,null,null,null,0,112]
[12,7378,13,7381,24,7398,null,null,null,null,0,112]
[12,7623,24,7635,13,7638,null,null,null,null,0,121]
[12,7732,13,7741,24,7749,null,null,null,null,0,112]
[12,7846,24,7852,24,7861,null,null,null,null,0,122]
[12,7954,24,7964,24,7970,null,null,null,null,0,122]
[21,8068,11,8072,22,8079,null,null,null,null,0,212]
[21,8180,22,8186,24,8192,null,null,null,null,0,222]
[12,8289,24,8296,24,8302,null,null,null,null,0,122]
[21,8416,22,8422,24,8428,null,null,null,null,0,222]
[12,8530,24,8541,24,8549,null,null,null,null,0,122]
[21,8663,11,8668,22,8672,null,null,null,null,0,212]
[21,8776,22,8782,24,8789,null,null,null,null,0,222]
[12,8885,24,8891,24,8896,null,null,null,null,0,122]
[12,8992,24,8995,24,9004,null,null,null,null,0,122]
[12,9097,13,9105,24,9112,null,null,null,null,0,112]
[12,9205,24,9216,24,9224,null,null,null,null,0,122]
[21,9327,22,9333,13,9335,null,null,null,null,0,221]
[12,9435,24,9443,24,9447,null,null,null,null,0,122]
[12,9542,24,9548,24,9554,null,null,null,null,0,122]
[12,9695,24,9712,13,9716,null,null,null,null,0,121]
[12,9929,24,9941,13,9945,null,null,null,null,0,121]
[21,10055,11,10059,11,10065,null,null,null,null,0,211]
[12,10310,13,10327,24,10332,null,null,null,null,0,112]
[12,10509,24,10525,13,10531,null,null,null,null,0,121]
[21,10639,22,10647,24,10654,null,null,null,null,0,222]
[12,10753,13,10760,24,10776,null,null,null,null,0,112]
[12,10875,24,10882,24,10892,null,null,null,null,0,122]
[12,10989,13,10993,24,10998,null,null,null,null,0,112]
[12,11104,24,11106,24,11113,null,null,null,null,0,122]
[12,11213,13,11216,24,11229,null,null,null,null,0,112]
[12,11326,24,11339,13,11345,null,null,null,null,0,121]
[12,11440,13,11447,24,11450,null,null,null,null,0,112]
[12,11548,24,11558,24,11564,null,null,null,null,0,122]
[12,11755,24,11764,24,11770,null,null,null,null,0,122]
[12,11879,13,11894,24,11896,null,null,null,null,0,112]
[12,11999,13,12016,24,12024,null,null,null,null,0,112]
[12,12131,13,12146,24,12154,null,null,null,null,0,112]
[12,12288,13,12304,24,12310,null,null,null,null,0,112]
[21,12409,22,12415,24,12422,null,null,null,null,0,222]
[12,12519,13,12529,24,12532,null,null,null,null,0,112]
[12,12624,24,12629,24,12634,null,null,null,null,0,122]
[12,12728,24,12731,24,12736,null,null,null,null,0,122]
[12,12828,13,12837,24,12843,null,null,null,null,0,112]
[21,12950,22,12955,13,12962,null,null,null,null,0,221]
[12,13074,13,13081,24,13091,null,null,null,null,0,112]
[12,13385,24,13397,13,13406,null,null,null,null,0,121]
[12,13514,13,13531,24,13537,null,null,null,null,0,112]
[12,13734,13,13736,24,13751,null,null,null,null,0,112]
[12,13899,13,13910,24,13922,null,null,null,null,0,112]
[12,14024,13,14039,13,14045,null,null,null,null,0,111]
[12,14142,24,14152,24,14158,null,null,null,null,0,122]
[12,14253,24,14265,13,14271,null,null,null,null,0,121]
[12,14425,24,14441,13,14445,null,null,null,null,0,121]
[12,14540,13,14547,24,14554,null,null,null,null,0,112]
[12,14654,24,14666,13,14670,null,null,null,null,0,121]
[12,14770,24,14781,24,14787,null,null,null,null,0,122]
[12,14883,13,14887,24,14893,null,null,null,null,0,112]
[12,14988,13,15001,24,15006,null,null,null,null,0,112]
[21,15270,11,15274,22,15277,null,null,null,null,0,212]
[12,15369,24,15378,24,15389,null,null,null,null,0,122]
[12,15482,24,15486,24,15490,null,null,null,null,0,122]
[21,15590,22,15595,24,15601,null,null,null,null,0,222]
[21,15700,22,15703,24,15710,null,null,null,null,0,222]
[12,15808,24,15818,24,15826,null,null,null,null,0,122]
[12,15918,13,15922,24,15934,null,null,null,null,0,112]
[12,16026,24,16047,24,16052,null,null,null,null,0,122]
[12,16227,13,16244,24,16246,null,null,null,null,0,112]
[12,16408,24,16421,13,16423,null,null,null,null,0,121]
[12,16516,13,16525,13,16530,null,null,null,null,0,111]
[12,16630,24,16642,24,16648,null,null,null,null,0,122]
[12,16742,13,16750,24,16766,null,null,null,null,0,112]
[21,16873,22,16879,24,16885,null,null,null,null,0,222]
[12,16982,24,16993,24,16997,null,null,null,null,0,122]
[21,17103,22,17112,13,17118,null,null,null,null,0,221]
[12,17222,24,17227,24,17233,null,null,null,null,0,122]
[12,17332,24,17349,24,17355,null,null,null,null,0,122]
[12,17453,24,17462,13,17466,null,null,null,null,0,121]
[12,17610,24,17621,24,17633,null,null,null,null,0,122]
[12,17906,24,17914,24,17925,null,null,null,null,0,122]
[12,18109,13,18127,13,18151,null,null,null,null,0,111]
[12,18315,24,18329,13,18339,null,null,null,null,0,121]
[12,18497,24,18510,13,18517,null,null,null,null,0,121]
[21,18692,22,18698,24,18705,null,null,null,null,0,222]
[12,18801,24,18803,24,18809,null,null,null,null,0,122]
[12,18908,24,18921,13,18923,null,null,null,null,0,121]
[12,19018,13,19025,24,19026,null,null,null,null,0,112]
[12,19251,13,19262,24,19266,null,null,null,null,0,112]
[12,19424,13,19439,24,19444,null,null,null,null,0,112]
[12,19542,13,19551,24,19555,null,null,null,null,0,112]
[21,19660,11,19667,22,19675,null,null,null,null,0,212]
[21,19779,22,19785,13,19793,null,null,null,null,0,221]
[12,19885,13,19893,24,19902,null,null,null,null,0,112]
[21,20006,22,20010,24,20016,null,null,null,null,0,222]
[12,20105,24,20110,24,20120,null,null,null,null,0,122]
[12,20242,24,20251,24,20258,null,null,null,null,0,122]
[12,20360,13,20377,24,20383,null,null,null,null,0,112]
[12,20511,13,20526,24,20530,null,null,null,null,0,112]
[21,20706,11,20713,22,20721,null,null,null,null,0,212]
[21,20824,22,20830,24,20841,null,null,null,null,0,222]
[12,20945,24,20962,13,20966,null,null,null,null,0,121]
[12,21081,24,21085,24,21089,null,null,null,null,0,122]
[12,21176,24,21195,24,21201,null,null,null,null,0,122]
[12,21377,24,21390,13,21393,null,null,null,null,0,121]
[21,21509,22,21515,24,21521,null,null,null,null,0,222]
[21,21623,22,21629,24,21636,null,null,null,null,0,222]
[12,21732,13,21744,24,21746,null,null,null,null,0,112]
[21,21896,22,21902,13,21904,null,null,null,null,0,221]
[12,22026,24,22036,24,22039,null,null,null,null,0,122]
[21,22136,22,22151,24,22158,null,null,null,null,0,222]
[12,22253,24,22256,24,22262,null,null,null,null,0,122]
[12,22382,24,22393,24,22399,null,null,null,null,0,122]
[12,22492,13,22501,24,22518,null,null,null,null,0,112]
[12,22633,24,22638,24,22646,null,null,null,null,0,122]
[12,22771,24,22785,24,22792,null,null,null,null,0,122]
[12,22933,13,22940,24,22952,null,null,null,null,0,112]
[21,23083,11,23085,22,23090,null,null,null,null,0,212]
[21,23185,22,23190,24,23196,null,null,null,null,0,222]
[12,23298,24,23304,24,23311,null,null,null,null,0,122]
[12,23411,24,23414,24,23420,null,null,null,null,0,122]
[12,23513,24,23516,24,23521,null,null,null,null,0,122]
[12,23618,24,23634,13,23638,null,null,null,null,0,121]
[21,23818,11,23824,22,23836,null,null,null,null,0,212]
[12,23936,24,23951,24,23957,null,null,null,null,null,122]

{"sheet":"!N201920.Gus","index":8,"n_rows":189,"n_cols":48,"rows_kept":189,"cut":false,"hidden":false,"merged":[[4,39,4,42],[5,39,5,40],[4,44,4,47],[5,44,5,45],[4,24,4,27],[5,24,5,25],[4,29,4,32],[5,29,5,30],[4,34,4,37],[5,34,5,35],[1,1,1,2],[5,13,5,14],[18,13,18,14],[19,13,19,14],[4,19,4,22],[5,19,5,20]]}
["Report for:!N201920.Gus"]
["Date:","<date>"]
["Hen:","<hen>",null,null,null,"Correct Sequence",{"$f":"Start!J2","v":211},null,null,null,null,null,null,null,null,"Total Sequences in Data",{"$f":"4994-COUNTBLANK(L7:L5000)","v":183},null,null,null,null,"Total Sequences in Block Data",{"$f":"COUNTA(L7:L37)","v":31},null,null,null,"Total Sequences in Block Data",{"$f":"COUNTA(L38:L67)","v":30},null,null,null,"Total Sequences in Block Data",{"$f":"COUNTA(L68:L98)","v":31},null,null,null,"Total Sequences in Block Data",{"$f":"COUNTA(L99:L128)","v":30},null,null,null,"Total Sequences in Block Data",{"$f":"COUNTA(L129:L159)","v":31},null,null,null,"Total Sequences in Block Data",{"$f":"COUNTA(L160:L189)","v":30}]
[null,null,null,null,null,null,null,null,null,null,null,null,null,null,null,"Total Sequences in Summary",{"$f":"SUM(O7:O14)","v":183},null,null,null,null,"Total Sequences in Block Summary",{"$f":"SUM(U7:U14)","v":31},null,null,null,"Total Sequences in Block Summary",{"$f":"SUM(Z7:Z14)","v":30},null,null,null,"Total Sequences in Block Summary",{"$f":"SUM(AE7:AE14)","v":31},null,null,null,"Total Sequences in Block Summary",{"$f":"SUM(AJ7:AJ14)","v":30},null,null,null,"Total Sequences in Block Summary",{"$f":"SUM(AO7:AO14)","v":31},null,null,null,"Total Sequences in Block Summary",{"$f":"SUM(AT7:AT14)","v":30}]
[null,null,null,null,null,null,null,null,null,null,null,null,null,null,null,null,null,null,null,"Block 1",null,null,null,null,"Block 2",null,null,null,null,"Block 3",null,null,null,null,"Block 4",null,null,null,null,"Block 5",null,null,null,null,"Block 6"]
["Sequence\nComponent\n1","Time\n1","Sequence\nComponent\n2","Time\n2","Sequence\nComponent\n3","Time\n3","Sequence\nComponent\n4","Time\n4","Sequence\nComponent\n5","Time\n5","Correct?\n0=No 1=Yes","Sequence",null,"Frequency",null,"Relative Frequency","Variability",null,null,"Frequency",null,"Relative Frequency","Variability",null,"Frequency",null,"Relative Frequency","Variability",null,"Frequency",null,"Relative Frequency","Variability",null,"Frequency",null,"Relative Frequency","Variability",null,"Frequency",null,"Relative Frequency","Variability",null,"Frequency",null,"Relative Frequency","Variability"]
[12,12,13,33,24,53,null,null,null,null,0,112,null,111,{"$f":"COUNTIF($L$7:$L$500,N7)","v":3},{"$f":"O7/$Q$4","v":1.6393442622950821E-2},{"$f":"IF(P7=0,0,(P7*((LOG(P7))/LOG(2))))","v":-9.7225202255129275E-2},null,null,{"$f":"N7","v":111},{"$f":"COUNTIF(L7:L37,T7)","v":2},{"$f":"U7/(W4-U11)","v":6.4516129032258063E-2},{"$f":"IF(V7=0,0,(V7*((LOG(V7))/LOG(2))))","v":-0.25510943937979835},null,{"$f":"N7","v":111},{"$f":"COUNTIF(L38:L67,Y7)","v":0},{"$f":"Z7/(AB4-Z11)","v":0},{"$f":"IF(AA7=0,0,(AA7*((LOG(AA7))/LOG(2))))","v":0},null,{"$f":"N7","v":111},{"$f":"COUNTIF(L68:L98,AD7)","v":1},{"$f":"AE7/(AG4-AE11)","v":3.2258064516129031E-2},{"$f":"IF(AF7=0,0,(AF7*((LOG(AF7))/LOG(2))))","v":-0.15981278420602821},null,{"$f":"N7","v":111},{"$f":"COUNTIF(L99:L128,AI7)","v":0},{"$f":"AJ7/(AL4-AJ11)","v":0},{"$f":"IF(AK7=0,0,(AK7*((LOG(AK7))/LOG(2))))","v":0},null,{"$f":"N7","v":111},{"$f":"COUNTIF(L129:L159,AN7)","v":0},{"$f":"AO7/(AQ4-AO11)","v":0},{"$f":"IF(AP7=0,0,(AP7*((LOG(AP7))/LOG(2))))","v":0},null,{"$f":"N7","v":111},{"$f":"COUNTIF(L160:L189,AS7)","v":0},{"$f":"AT7/(AV4-AT11)","v":0},{"$f":"IF(AU7=0,0,(AU7*((LOG(AU7))/LOG(2))))","v":0}]
[12,155,13,161,24,175,null,null,null,null,0,112,null,112,{"$f":"COUNTIF($L$7:$L$500,N8)","v":21},{"$f":"O8/$Q$4","v":0.11475409836065574},{"$f":"IF(P8=0,0,(P8*((LOG(P8))/LOG(2))))","v":-0.35842093292683563},null,null,{"$f":"N8","v":112},{"$f":"COUNTIF(L7:L37,T8)","v":6},{"$f":"U8/(W4-U11)","v":0.19354838709677419},{"$f":"IF(V8=0,0,(V8*((LOG(V8))/LOG(2))))","v":-0.45856138251594558},null,{"$f":"N8","v":112},{"$f":"COUNTIF(L38:L67,Y8)","v":2},{"$f":"Z8/(AB4-Z11)","v":6.8965517241379309E-2},{"$f":"IF(AA8=0,0,(AA8*((LOG(AA8))/LOG(2))))","v":-0.26606765483638428},null,{"$f":"N8","v":112},{"$f":"COUNTIF(L68:L98,AD8)","v":5},{"$f":"AE8/(AG4-AE11)","v":0.16129032258064516},{"$f":"IF(AF8=0,0,(AF8*((LOG(AF8))/LOG(2))))","v":-0.42455938959669559},null,{"$f":"N8","v":112},{"$f":"COUNTIF(L99:L128,AI8)","v":2},{"$f":"AJ8/(AL4-AJ11)","v":6.6666666666666666E-2},{"$f":"IF(AK8=0,0,(AK8*((LOG(AK8))/LOG(2))))","v":-0.26045937304056793},null,{"$f":"N8","v":112},{"$f":"COUNTIF(L129:L159,AN8)","v":5},{"$f":"AO8/(AQ4-AO11)","v":0.16129032258064516},{"$f":"IF(AP8=0,0,(AP8*((LOG(AP8))/LOG(2))))","v":-0.42455938959669559},null,{"$f":"N8","v":112},{"$f":"COUNTIF(L160:L189,AS8)","v":1},{"$f":"AT8/(AV4-AT11)","v":3.3333333333333333E-2},{"$f":"IF(AU8=0,0,(AU8*((LOG(AU8))/LOG(2))))","v":-0.16356301985361729}]
[12,270,13,275,24,286,null,null,null,null,0,112,null,121,{"$f":"COUNTIF($L$7:$L$500,N9)","v":7},{"$f":"O9/$Q$4","v":3.825136612021858E-2},{"$f":"IF(P9=0,0,(P9*((LOG(P9))/LOG(2))))","v":-0.18010062521084735},null,null,{"$f":"N9","v":121},{"$f":"COUNTIF(L7:L37,T9)","v":2},{"$f":"U9/(W4-U11)","v":6.4516129032258063E-2},{"$f":"IF(V9=0,0,(V9*((LOG(V9))/LOG(2))))","v":-0.25510943937979835},null,{"$f":"N9","v":121},{"$f":"COUNTIF(L38:L67,Y9)","v":1},{"$f":"Z9/(AB4-Z11)","v":3.4482758620689655E-2},{"$f":"IF(AA9=0,0,(AA9*((LOG(AA9))/LOG(2))))","v":-0.16751658603888178},null,{"$f":"N9","v":121},{"$f":"COUNTIF(L68:L98,AD9)","v":1},{"$f":"AE9/(AG4-AE11)","v":3.2258064516129031E-2},{"$f":"IF(AF9=0,0,(AF9*((LOG(AF9))/LOG(2))))","v":-0.15981278420602821},null,{"$f":"N9","v":121},{"$f":"COUNTIF(L99:L128,AI9)","v":1},{"$f":"AJ9/(AL4-AJ11)","v":3.3333333333333333E-2},{"$f":"IF(AK9=0,0,(AK9*((LOG(AK9))/LOG(2))))","v":-0.16356301985361729},null,{"$f":"N9","v":121},{"$f":"COUNTIF(L129:L159,AN9)","v":0},{"$f":"AO9/(AQ4-AO11)","v":0},{"$f":"IF(AP9=0,0,(AP9*((LOG(AP9))/LOG(2))))","v":0},null,{"$f":"N9","v":121},{"$f":"COUNTIF(L160:L189,AS9)","v":2},{"$f":"AT9/(AV4-AT11)","v":6.6666666666666666E-2},{"$f":"IF(AU9=0,0,(AU9*((LOG(AU9))/LOG(2))))","v":-0.26045937304056793}]
[12,444,24,456,24,463,null,null,null,null,0,122,null,122,{"$f":"COUNTIF($L$7:$L$500,N10)","v":68},{"$f":"O10/$Q$4","v":0.37158469945355194},{"$f":"IF(P10=0,0,(P10*((LOG(P10))/LOG(2))))","v":-0.53071101529121212},null,null,{"$f":"N10","v":122},{"$f":"COUNTIF(L7:L37,T10)","v":11},{"$f":"U10/(W4-U11)","v":0.35483870967741937},{"$f":"IF(V10=0,0,(V10*((LOG(V10))/LOG(2))))","v":-0.53040037449178568},null,{"$f":"N10","v":122},{"$f":"COUNTIF(L38:L67,Y10)","v":12},{"$f":"Z10/(AB4-Z11)","v":0.41379310344827586},{"$f":"IF(AA10=0,0,(AA10*((LOG(AA10))/LOG(2))))","v":-0.5267662735474824},null,{"$f":"N10","v":122},{"$f":"COUNTIF(L68:L98,AD10)","v":12},{"$f":"AE10/(AG4-AE11)","v":0.38709677419354838},{"$f":"IF(AF10=0,0,(AF10*((LOG(AF10))/LOG(2))))","v":-0.5300259908383429},null,{"$f":"N10","v":122},{"$f":"COUNTIF(L99:L128,AI10)","v":14},{"$f":"AJ10/(AL4-AJ11)","v":0.46666666666666667},{"$f":"IF(AK10=0,0,(AK10*((LOG(AK10))/LOG(2))))","v":-0.51311664765709342},null,{"$f":"N10","v":122},{"$f":"COUNTIF(L129:L159,AN10)","v":6},{"$f":"AO10/(AQ4-AO11)","v":0.19354838709677419},{"$f":"IF(AP10=0,0,(AP10*((LOG(AP10))/LOG(2))))","v":-0.45856138251594558},null,{"$f":"N10","v":122},{"$f":"COUNTIF(L160:L189,AS10)","v":13},{"$f":"AT10/(AV4-AT11)","v":0.43333333333333335},{"$f":"IF(AU10=0,0,(AU10*((LOG(AU10))/LOG(2))))","v":-0.52279538023588479}]
[12,558,13,570,24,583,null,null,null,null,0,112,null,211,{"$f":"COUNTIF($L$7:$L$500,N11)","v":1},{"$f":"O11/$Q$4","v":5.4644808743169399E-3},{"$f":"IF(P11=0,0,(P11*((LOG(P11))/LOG(2))))","v":-4.1069398023410066E-2},null,null,{"$f":"N11","v":211},{"$f":"COUNTIF(L7:L37,T11)","v":0},null,null,null,{"$f":"N11","v":211},{"$f":"COUNTIF(L38:L67,Y11)","v":1},null,null,null,{"$f":"N11","v":211},{"$f":"COUNTIF(L68:L98,AD11)","v":0},null,null,null,{"$f":"N11","v":211},{"$f":"COUNTIF(L99:L128,AI11)","v":0},null,null,null,{"$f":"N11","v":211},{"$f":"COUNTIF(L129:L159,AN11)","v":0},null,null,null,{"$f":"N11","v":211},{"$f":"COUNTIF(L160:L189,AS11)","v":0}]
[12,694,24,701,24,712,null,null,null,null,0,122,null,212,{"$f":"COUNTIF($L$7:$L$500,N12)","v":34},{"$f":"O12/$Q$4","v":0.18579234972677597},{"$f":"IF(P12=0,0,(P12*((LOG(P12))/LOG(2))))","v":-0.45114785737238194},null,null,{"$f":"N12","v":212},{"$f":"COUNTIF(L7:L37,T12)","v":4},{"$f":"U12/(W4-U11)","v":0.12903225806451613},{"$f":"IF(V12=0,0,(V12*((LOG(V12))/LOG(2))))","v":-0.38118662069508069},null,{"$f":"N12","v":212},{"$f":"COUNTIF(L38:L67,Y12)","v":3},{"$f":"Z12/(AB4-Z11)","v":0.10344827586206896},{"$f":"IF(AA12=0,0,(AA12*((LOG(AA12))/LOG(2))))","v":-0.33858812011100858},null,{"$f":"N12","v":212},{"$f":"COUNTIF(L68:L98,AD12)","v":5},{"$f":"AE12/(AG4-AE11)","v":0.16129032258064516},{"$f":"IF(AF12=0,0,(AF12*((LOG(AF12))/LOG(2))))","v":-0.42455938959669559},null,{"$f":"N12","v":212},{"$f":"COUNTIF(L99:L128,AI12)","v":3},{"$f":"AJ12/(AL4-AJ11)","v":0.1},{"$f":"IF(AK12=0,0,(AK12*((LOG(AK12))/LOG(2))))","v":-0.33219280948873625},null,{"$f":"N12","v":212},{"$f":"COUNTIF(L129:L159,AN12)","v":9},{"$f":"AO12/(AQ4-AO11)","v":0.29032258064516131},{"$f":"IF(AP12=0,0,(AP12*((LOG(AP12))/LOG(2))))","v":-0.5180142509839053},null,{"$f":"N12","v":212},{"$f":"COUNTIF(L160:L189,AS12)","v":10},{"$f":"AT12/(AV4-AT11)","v":0.33333333333333331},{"$f":"IF(AU12=0,0,(AU12*((LOG(AU12))/LOG(2))))","v":-0.52832083357371862}]
[12,810,24,829,24,835,null,null,null,null,0,122,null,221,{"$f":"COUNTIF($L$7:$L$500,N13)","v":11},{"$f":"O13/$Q$4","v":6.0109289617486336E-2},{"$f":"IF(P13=0,0,(P13*((LOG(P13))/LOG(2))))","v":-0.24381940118095191},null,null,{"$f":"N13","v":221},{"$f":"COUNTIF(L7:L37,T13)","v":1},{"$f":"U13/(W4-U11)","v":3.2258064516129031E-2},{"$f":"IF(V13=0,0,(V13*((LOG(V13))/LOG(2))))","v":-0.15981278420602821},null,{"$f":"N13","v":221},{"$f":"COUNTIF(L38:L67,Y13)","v":3},{"$f":"Z13/(AB4-Z11)","v":0.10344827586206896},{"$f":"IF(AA13=0,0,(AA13*((LOG(AA13))/LOG(2))))","v":-0.33858812011100858},null,{"$f":"N13","v":221},{"$f":"COUNTIF(L68:L98,AD13)","v":0},{"$f":"AE13/(AG4-AE11)","v":0},{"$f":"IF(AF13=0,0,(AF13*((LOG(AF13))/LOG(2))))","v":0},null,{"$f":"N13","v":221},{"$f":"COUNTIF(L99:L128,AI13)","v":1},{"$f":"AJ13/(AL4-AJ11)","v":3.3333333333333333E-2},{"$f":"IF(AK13=0,0,(AK13*((LOG(AK13))/LOG(2))))","v":-0.16356301985361729},null,{"$f":"N13","v":221},{"$f":"COUNTIF(L129:L159,AN13)","v":4},{"$f":"AO13/(AQ4-AO11)","v":0.12903225806451613},{"$f":"IF(AP13=0,0,(AP13*((LOG(AP13))/LOG(2))))","v":-0.38118662069508069},null,{"$f":"N13","v":221},{"$f":"COUNTIF(L160:L189,AS13)","v":2},{"$f":"AT13/(AV4-AT11)","v":6.6666666666666666E-2},{"$f":"IF(AU13=0,0,(AU13*((LOG(AU13))/LOG(2))))","v":-0.26045937304056793}]
[21,929,11,932,22,935,null,null,null,null,0,212,null,222,{"$f":"COUNTIF($L$7:$L$500,N14)","v":38},{"$f":"O14/$Q$4","v":0.20765027322404372},{"$f":"IF(P14=0,0,(P14*((LOG(P14))/LOG(2))))","v":-0.47090354286304575},null,null,{"$f":"N14","v":222},{"$f":"COUNTIF(L7:L37,T14)","v":5},{"$f":"U14/(W4-U11)","v":0.16129032258064516},{"$f":"IF(V14=0,0,(V14*((LOG(V14))/LOG(2))))","v":-0.42455938959669559},null,{"$f":"N14","v":222},{"$f":"COUNTIF(L38:L67,Y14)","v":8},{"$f":"Z14/(AB4-Z11)","v":0.27586206896551724},{"$f":"IF(AA14=0,0,(AA14*((LOG(AA14))/LOG(2))))","v":-0.51254648141450265},null,{"$f":"N14","v":222},{"$f":"COUNTIF(L68:L98,AD14)","v":7},{"$f":"AE14/(AG4-AE11)","v":0.22580645161290322},{"$f":"IF(AF14=0,0,(AF14*((LOG(AF14))/LOG(2))))","v":-0.48477063607435156},null,{"$f":"N14","v":222},{"$f":"COUNTIF(L99:L128,AI14)","v":9},{"$f":"AJ14/(AL4-AJ11)","v":0.3},{"$f":"IF(AK14=0,0,(AK14*((LOG(AK14))/LOG(2))))","v":-0.52108967824986185},null,{"$f":"N14","v":222},{"$f":"COUNTIF(L129:L159,AN14)","v":7},{"$f":"AO14/(AQ4-AO11)","v":0.22580645161290322},{"$f":"IF(AP14=0,0,(AP14*((LOG(AP14))/LOG(2))))","v":-0.48477063607435156},null,{"$f":"N14","v":222},{"$f":"COUNTIF(L160:L189,AS14)","v":2},{"$f":"AT14/(AV4-AT11)","v":6.6666666666666666E-2},{"$f":"IF(AU14=0,0,(AU14*((LOG(AU14))/LOG(2))))","v":-0.26045937304056793}]
[21,1041,22,1046,24,1052,null,null,null,null,0,222,null,null,null,{"$f":"SUM(P7:P14)","v":1},{"$f":"-SUM(Q7:Q14)","v":2.3733979751238143},null,null,null,null,{"$f":"SUM(V7:V14)","v":1},{"$f":"-SUM(W7:W14)","v":2.4647394302651326},null,null,null,{"$f":"SUM(AA7:AA14)","v":1},{"$f":"-SUM(AB7:AB14)","v":2.150073236059268},null,null,null,{"$f":"SUM(AF7:AF14)","v":1},{"$f":"-SUM(AG7:AG14)","v":2.183540974518142},null,null,null,{"$f":"SUM(AK7:AK14)","v":1},{"$f":"-SUM(AL7:AL14)","v":1.9539845481434939},null,null,null,{"$f":"SUM(AP7:AP14)","v":1},{"$f":"-SUM(AQ7:AQ14)","v":2.2670922798659787},null,null,null,{"$f":"SUM(AU7:AU14)","v":1},{"$f":"-SUM(AV7:AV14)","v":1.9960573527849246}]
[12,1161,13,1174,13,1179,null,null,null,null,0,111,null,null,null,"U=",{"$f":"Q15/(LOG(Q4)/LOG(2))","v":0.31579201221342285},null,null,null,null,"U1=",{"$f":"W15/(LOG(W4)/LOG(2))","v":0.49750540266190224},null,null,null,"U2=",{"$f":"AB15/(LOG(AB4)/LOG(2))","v":0.43817427639073553},null,null,null,"U3=",{"$f":"AG15/(LOG(AG4)/LOG(2))","v":0.44074575122107518},null,null,null,"U4=",{"$f":"AL15/(LOG(AL4)/LOG(2))","v":0.39821237300302476},null,null,null,"U5=",{"$f":"AQ15/(LOG(AQ4)/LOG(2))","v":0.45761050588827812},null,null,null,"U6=",{"$f":"AV15/(LOG(AV4)/LOG(2))","v":0.40678660220615481}]
[12,1324,24,1332,24,1339,null,null,null,null,0,122]
[12,1432,13,1449,24,1461,null,null,null,null,0,112]
[12,1555,13,1567,13,1570,null,null,null,null,0,111,null,"Total Target Seq"]
[12,1665,24,1678,13,1680,null,null,null,null,0,121,null,{"$f":"COUNTIF(L7:L189,G3)","v":1},null,31,30,31,30,31,30]
[12,1801,24,1808,24,1812,null,null,null,null,0,122,null,null,null,"% of reinforcement given in 6 equal intervals based on number of trials "]
[12,1954,24,1958,24,1965,null,null,null,null,0,122,null,null,null,"%_1","%_2","%_3","%_4","%_5","%_6"]
[12,2067,24,2071,24,2076,null,null,null,null,0,122,null,null,"target sequence",{"$f":"$G$3","v":211},{"$f":"$G$3","v":211},{"$f":"$G$3","v":211},{"$f":"$G$3","v":211},{"$f":"$G$3","v":211},{"$f":"$G$3","v":211}]
[12,2173,24,2175,24,2183,null,null,null,null,0,122,null,null,"total reinforcement",{"$f":"U11","v":0},{"$f":"Z11","v":1},{"$f":"AE11","v":0},{"$f":"AJ11","v":0},{"$f":"AO11","v":0},{"$f":"AT11","v":0}]
[21,2287,22,2291,24,2298,null,null,null,null,0,222,null,null,"% target"]
[12,2389,13,2391,24,2395,null,null,null,null,0,112,null,null,"CCRF"]
[12,2535,24,2545,24,2559,null,null,null,null,0,122,null,null,"% CCRf"]
[21,2664,11,2668,22,2675,null,null,null,null,0,212,null,null,"average response rate",{"$f":"F37/P20","v":126.29032258064517},{"$f":"(F67-F37)/Q20","v":117.43333333333334},{"$f":"(F98-F67)/R20","v":137.58064516129033},{"$f":"(F128-F98)/S20","v":131.16666666666666},{"$f":"(F159-F128)/T20","v":131.87096774193549},{"$f":"(F189-F159)/U20","v":142.1}]
[21,2779,22,2785,24,2791,null,null,null,null,0,222]
[12,2888,24,2892,24,2896,null,null,null,null,0,122]
[12,2991,24,2994,24,2999,null,null,null,null,0,122]
[21,3100,22,3106,24,3112,null,null,null,null,0,222]
[21,3215,22,3220,13,3221,null,null,null,null,0,221]
[21,3419,11,3423,22,3435,null,null,null,null,0,212]
[21,3548,22,3555,24,3574,null,null,null,null,0,222]
[12,3772,24,3782,13,3787,null,null,null,null,0,121]
[21,3904,11,3908,22,3915,null,null,null,null,0,212]
[21,4022,22,4026,24,4032,null,null,null,null,0,222]
[12,4130,13,4138,24,4141,null,null,null,null,0,112]
[12,4237,24,4239,24,4248,null,null,null,null,0,122]
[12,4337,24,4341,24,4347,null,null,null,null,0,122]
[21,4472,11,4478,22,4480,null,null,null,null,0,212]
[21,4592,22,4599,24,4606,null,null,null,null,0,222]
[21,4741,11,4745,22,4747,null,null,null,null,0,212]
[21,4853,22,4857,24,4863,null,null,null,null,0,222]
[21,4965,22,4972,24,4978,null,null,null,null,0,222]
[21,5079,11,5082,11,5091,null,null,null,null,0,211]
[12,5186,24,5201,24,5213,null,null,null,null,0,122]
[21,5330,11,5332,22,5337,null,null,null,null,0,212]
[12,5432,24,5443,24,5450,null,null,null,null,0,122]
[12,5556,24,5570,24,5577,null,null,null,null,0,122]
[12,5674,24,5677,24,5682,null,null,null,null,0,122]
[12,5778,24,5784,24,5789,null,null,null,null,0,122]
[12,5884,24,5890,24,5898,null,null,null,null,0,122]
[12,5994,24,5999,13,6003,null,null,null,null,0,121]
[21,6110,22,6118,24,6124,null,null,null,null,0,222]
[12,6217,24,6230,24,6235,null,null,null,null,0,122]
[12,6341,24,6343,24,6349,null,null,null,null,0,122]
[21,6451,22,6457,13,6460,null,null,null,null,0,221]
[12,6549,24,6556,24,6561,null,null,null,null,0,122]
[21,6723,22,6730,24,6735,null,null,null,null,0,222]
[12,6842,13,6852,24,6862,null,null,null,null,0,112]
[12,6960,24,6965,24,6974,null,null,null,null,0,122]
[21,7073,22,7077,24,7085,null,null,null,null,0,222]
[21,7188,22,7193,24,7198,null,null,null,null,0,222]
[21,7305,22,7309,13,7314,null,null,null,null,0,221]
[21,7425,22,7431,13,7438,null,null,null,null,0,221]
[21,7542,22,7547,24,7553,null,null,null,null,0,222]
[12,7650,24,7654,24,7663,null,null,null,null,0,122]
[12,7768,13,7775,24,7783,null,null,null,null,0,112]
[12,7878,24,7895,24,7901,null,null,null,null,0,122]
[12,8000,24,8003,24,8009,null,null,null,null,0,122]
[21,8166,22,8172,24,8177,null,null,null,null,0,222]
[12,8312,13,8325,24,8343,null,null,null,null,0,112]
[12,8466,13,8478,13,8483,null,null,null,null,0,111]
[12,8589,24,8601,24,8605,null,null,null,null,0,122]
[12,9020,24,9036,24,9044,null,null,null,null,0,122]
[12,9165,24,9178,24,9192,null,null,null,null,0,122]
[21,9293,11,9297,22,9303,null,null,null,null,0,212]
[21,9406,22,9418,24,9429,null,null,null,null,0,222]
[21,9534,22,9538,24,9545,null,null,null,null,0,222]
[12,9646,24,9652,24,9656,null,null,null,null,0,122]
[12,9759,24,9767,24,9780,null,null,null,null,0,122]
[12,9873,24,9886,24,9891,null,null,null,null,0,122]
[21,9995,22,9997,24,10006,null,null,null,null,0,222]
[21,10135,11,10142,22,10146,null,null,null,null,0,212]
[21,10256,22,10262,24,10270,null,null,null,null,0,222]
[12,10415,24,10426,24,10437,null,null,null,null,0,122]
[12,10541,13,10546,24,10559,null,null,null,null,0,112]
[12,10646,13,10653,24,10658,null,null,null,null,0,112]
[12,10781,24,10793,13,10799,null,null,null,null,0,121]
[21,10935,11,10940,22,10955,null,null,null,null,0,212]
[21,11075,22,11087,24,11093,null,null,null,null,0,222]
[21,11199,11,11206,22,11217,null,null,null,null,0,212]
[12,11322,24,11327,24,11334,null,null,null,null,0,122]
[12,11469,24,11483,24,11487,null,null,null,null,0,122]
[21,11586,11,11589,22,11594,null,null,null,null,0,212]
[12,11692,13,11696,24,11703,null,null,null,null,0,112]
[12,11806,24,11819,24,11828,null,null,null,null,0,122]
[12,11955,24,11971,24,11979,null,null,null,null,0,122]
[21,12129,22,12134,24,12141,null,null,null,null,0,222]
[12,12248,24,12256,24,12261,null,null,null,null,0,122]
[21,12370,11,12373,22,12382,null,null,null,null,0,212]
[21,12493,22,12499,24,12507,null,null,null,null,0,222]
[12,12612,24,12627,24,12633,null,null,null,null,0,122]
[12,12767,24,12771,24,12777,null,null,null,null,0,122]
[12,12871,24,12890,24,12896,null,null,null,null,0,122]
[21,13032,22,13044,24,13055,null,null,null,null,0,222]
[21,13165,22,13168,24,13174,null,null,null,null,0,222]
[12,13286,24,13289,24,13295,null,null,null,null,0,122]
[12,13387,24,13395,13,13397,null,null,null,null,0,121]
[12,13601,24,13608,24,13616,null,null,null,null,0,122]
[12,13712,24,13717,24,13724,null,null,null,null,0,122]
[12,13819,24,13826,24,13831,null,null,null,null,0,122]
[21,13952,22,13959,24,13967,null,null,null,null,0,222]
[12,14072,24,14078,24,14087,null,null,null,null,0,122]
[21,14187,22,14191,24,14199,null,null,null,null,0,222]
[21,14299,11,14303,22,14305,null,null,null,null,0,212]
[12,14400,13,14410,24,14421,null,null,null,null,0,112]
[21,14530,22,14534,24,14541,null,null,null,null,0,222]
[12,14641,24,14647,24,14657,null,null,null,null,0,122]
[21,14750,22,14759,24,14766,null,null,null,null,0,222]
[21,14940,11,14947,22,14950,null,null,null,null,0,212]
[12,15045,24,15060,24,15068,null,null,null,null,0,122]
[21,15233,22,15243,24,15249,null,null,null,null,0,222]
[12,15349,13,15357,24,15363,null,null,null,null,0,112]
[21,15528,22,15532,13,15535,null,null,null,null,0,221]
[12,15627,24,15634,24,15638,null,null,null,null,0,122]
[12,15738,24,15744,24,15749,null,null,null,null,0,122]
[21,15856,22,15865,13,15869,null,null,null,null,0,221]
[12,15961,13,15977,24,15985,null,null,null,null,0,112]
[21,16089,22,16093,13,16097,null,null,null,null,0,221]
[21,16239,11,16245,22,16249,null,null,null,null,0,212]
[21,16359,22,16370,24,16378,null,null,null,null,0,222]
[21,16489,11,16494,22,16500,null,null,null,null,0,212]
[12,16603,24,16620,24,16625,null,null,null,null,0,122]
[21,16770,11,16776,22,16782,null,null,null,null,0,212]
[12,16893,24,16907,24,16910,null,null,null,null,0,122]
[12,17098,24,17104,24,17112,null,null,null,null,0,122]
[21,17249,11,17251,22,17253,null,null,null,null,0,212]
[12,17360,13,17367,24,17370,null,null,null,null,0,112]
[21,17474,22,17479,13,17486,null,null,null,null,0,221]
[12,17579,24,17582,24,17585,null,null,null,null,0,122]
[21,17681,11,17682,22,17687,null,null,null,null,0,212]
[21,17787,22,17791,24,17797,null,null,null,null,0,222]
[21,17948,22,17951,24,17958,null,null,null,null,0,222]
[12,18057,13,18060,24,18072,null,null,null,null,0,112]
[21,18172,22,18177,24,18182,null,null,null,null,0,222]
[12,18289,13,18294,24,18305,null,null,null,null,0,112]
[21,18398,11,18401,22,18403,null,null,null,null,0,212]
[21,18571,11,18577,22,18582,null,null,null,null,0,212]
[21,18724,22,18728,13,18733,null,null,null,null,0,221]
[21,18969,22,18975,24,18982,null,null,null,null,0,222]
[21,19108,11,19115,22,19126,null,null,null,null,0,212]
[21,19242,22,19249,24,19256,null,null,null,null,0,222]
[12,19369,13,19372,24,19383,null,null,null,null,0,112]
[21,19488,11,19496,22,19502,null,null,null,null,0,212]
[12,19599,24,19604,24,19609,null,null,null,null,0,122]
[21,19716,22,19720,24,19726,null,null,null,null,0,222]
[21,19819,11,19825,22,19828,null,null,null,null,0,212]
[21,19934,11,19941,22,19951,null,null,null,null,0,212]
[21,20053,22,20061,24,20067,null,null,null,null,0,222]
[12,20166,24,20172,24,20180,null,null,null,null,0,122]
[21,20280,22,20289,13,20291,null,null,null,null,0,221]
[12,20383,24,20399,24,20402,null,null,null,null,0,122]
[21,20501,11,20506,22,20510,null,null,null,null,0,212]
[21,20611,11,20616,22,20621,null,null,null,null,0,212]
[12,20755,24,20774,13,20778,null,null,null,null,0,121]
[12,20879,24,20883,24,20890,null,null,null,null,0,122]
[21,20991,11,20997,22,21001,null,null,null,null,0,212]
[12,21099,24,21103,24,21108,null,null,null,null,0,122]
[12,21218,24,21220,24,21229,null,null,null,null,0,122]
[21,21332,22,21335,13,21338,null,null,null,null,0,221]
[21,21436,22,21443,24,21448,null,null,null,null,0,222]
[12,21665,24,21684,24,21690,null,null,null,null,0,122]
[12,21928,24,21931,24,21937,null,null,null,null,0,122]
[21,22181,11,22183,22,22189,null,null,null,null,0,212]
[12,22280,24,22293,24,22300,null,null,null,null,0,122]
[21,22445,11,22449,22,22455,null,null,null,null,0,212]
[12,22548,13,22550,24,22565,null,null,null,null,0,112]
[12,22676,24,22686,24,22692,null,null,null,null,0,122]
[21,22804,11,22812,22,22816,null,null,null,null,0,212]
[12,22909,24,22915,24,22920,null,null,null,null,0,122]
[21,23163,11,23168,22,23173,null,null,null,null,0,212]
[12,23268,24,23276,24,23281,null,null,null,null,0,122]
[12,23597,24,23612,13,23616,null,null,null,null,0,121]
[12,23714,24,23716,24,23721,null,null,null,null,0,122]
[12,23850,24,23856,24,23863,null,null,null,null,0,122]
[21,23978,11,23986,22,23989,null,null,null,null,null,212]

{"sheet":"!N202B00.Gus","index":9,"n_rows":200,"n_cols":48,"rows_kept":200,"cut":false,"hidden":false,"merged":[[4,39,4,42],[5,39,5,40],[4,44,4,47],[5,44,5,45],[4,24,4,27],[5,24,5,25],[4,29,4,32],[5,29,5,30],[4,34,4,37],[5,34,5,35],[1,1,1,2],[5,13,5,14],[18,13,18,14],[19,13,19,14],[4,19,4,22],[5,19,5,20]]}
["Report for:!N202B00.Gus"]
["Date:","<date>"]
["Hen:","<hen>",null,null,null,"Correct Sequence",{"$f":"Start!J2","v":211},null,null,null,null,null,null,null,null,"Total Sequences in Data",{"$f":"4994-COUNTBLANK(L7:L5000)","v":194},null,null,null,null,"Total Sequences in Block Data",{"$f":"COUNTA(L7:L38)","v":32},null,null,null,"Total Sequences in Block Data",{"$f":"COUNTA(L39:L71)","v":33},null,null,null,"Total Sequences in Block Data",{"$f":"COUNTA(L72:L103)","v":32},null,null,null,"Total Sequences in Block Data",{"$f":"COUNTA(L104:L135)","v":32},null,null,null,"Total Sequences in Block Data",{"$f":"COUNTA(L136:L168)","v":33},null,null,null,"Total Sequences in Block Data",{"$f":"COUNTA(L169:L200)","v":32}]
[null,null,null,null,null,null,null,null,null,null,null,null,null,null,null,"Total Sequences in Summary",{"$f":"SUM(O7:O14)","v":194},null,null,null,null,"Total Sequences in Block Summary",{"$f":"SUM(U7:U14)","v":32},null,null,null,"Total Sequences in Block Summary",{"$f":"SUM(Z7:Z14)","v":33},null,null,null,"Total Sequences in Block Summary",{"$f":"SUM(AE7:AE14)","v":32},null,null,null,"Total Sequences in Block Summary",{"$f":"SUM(AJ7:AJ14)","v":32},null,null,null,"Total Sequences in Block Summary",{"$f":"SUM(AO7:AO14)","v":33},null,null,null,"Total Sequences in Block Summary",{"$f":"SUM(AT7:AT14)","v":32}]
[null,null,null,null,null,null,null,null,null,null,null,null,null,null,null,null,null,null,null,"Block 1",null,null,null,null,"Block 2",null,null,null,null,"Block 3",null,null,null,null,"Block 4",null,null,null,null,"Block 5",null,null,null,null,"Block 6"]
["Sequence\nComponent\n1","Time\n1","Sequence\nComponent\n2","Time\n2","Sequence\nComponent\n3","Time\n3","Sequence\nComponent\n4","Time\n4","Sequence\nComponent\n5","Time\n5","Correct?\n0=No 1=Yes","Sequence",null,"Frequency",null,"Relative Frequency","Variability",null,null,"Frequency",null,"Relative Frequency","Variability",null,"Frequency",null,"Relative Frequency","Variability",null,"Frequency",null,"Relative Frequency","Variability",null,"Frequency",null,"Relative Frequency","Variability",null,"Frequency",null,"Relative Frequency","Variability",null,"Frequency",null,"Relative Frequency","Variability"]
[12,9,24,12,24,17,null,null,null,null,0,122,null,111,{"$f":"COUNTIF($L$7:$L$500,N7)","v":1},{"$f":"O7/$Q$4","v":5.1546391752577319E-3},{"$f":"IF(P7=0,0,(P7*((LOG(P7))/LOG(2))))","v":-3.9174808464882103E-2},null,null,{"$f":"N7","v":111},{"$f":"COUNTIF(L7:L38,T7)","v":1},{"$f":"U7/(W4-U11)","v":3.125E-2},{"$f":"IF(V7=0,0,(V7*((LOG(V7))/LOG(2))))","v":-0.15625},null,{"$f":"N7","v":111},{"$f":"COUNTIF(L39:L71,Y7)","v":0},{"$f":"Z7/(AB4-Z11)","v":0},{"$f":"IF(AA7=0,0,(AA7*((LOG(AA7))/LOG(2))))","v":0},null,{"$f":"N7","v":111},{"$f":"COUNTIF(L72:L103,AD7)","v":0},{"$f":"AE7/(AG4-AE11)","v":0},{"$f":"IF(AF7=0,0,(AF7*((LOG(AF7))/LOG(2))))","v":0},null,{"$f":"N7","v":111},{"$f":"COUNTIF(L104:L135,AI7)","v":0},{"$f":"AJ7/(AL4-AJ11)","v":0},{"$f":"IF(AK7=0,0,(AK7*((LOG(AK7))/LOG(2))))","v":0},null,{"$f":"N7","v":111},{"$f":"COUNTIF(L136:L168,AN7)","v":0},{"$f":"AO7/(AQ4-AO11)","v":0},{"$f":"IF(AP7=0,0,(AP7*((LOG(AP7))/LOG(2))))","v":0},null,{"$f":"N7","v":111},{"$f":"COUNTIF(L169:L200,AS7)","v":0},{"$f":"AT7/(AV4-AT11)","v":0},{"$f":"IF(AU7=0,0,(AU7*((LOG(AU7))/LOG(2))))","v":0}]
[12,111,13,119,24,124,null,null,null,null,0,112,null,112,{"$f":"COUNTIF($L$7:$L$500,N8)","v":14},{"$f":"O8/$Q$4","v":7.2164948453608241E-2},{"$f":"IF(P8=0,0,(P8*((LOG(P8))/LOG(2))))","v":-0.27368974681347075},null,null,{"$f":"N8","v":112},{"$f":"COUNTIF(L7:L38,T8)","v":6},{"$f":"U8/(W4-U11)","v":0.1875},{"$f":"IF(V8=0,0,(V8*((LOG(V8))/LOG(2))))","v":-0.45281953111478312},null,{"$f":"N8","v":112},{"$f":"COUNTIF(L39:L71,Y8)","v":2},{"$f":"Z8/(AB4-Z11)","v":6.0606060606060608E-2},{"$f":"IF(AA8=0,0,(AA8*((LOG(AA8))/LOG(2))))","v":-0.24511479511263354},null,{"$f":"N8","v":112},{"$f":"COUNTIF(L72:L103,AD8)","v":0},{"$f":"AE8/(AG4-AE11)","v":0},{"$f":"IF(AF8=0,0,(AF8*((LOG(AF8))/LOG(2))))","v":0},null,{"$f":"N8","v":112},{"$f":"COUNTIF(L104:L135,AI8)","v":1},{"$f":"AJ8/(AL4-AJ11)","v":3.2258064516129031E-2},{"$f":"IF(AK8=0,0,(AK8*((LOG(AK8))/LOG(2))))","v":-0.15981278420602821},null,{"$f":"N8","v":112},{"$f":"COUNTIF(L136:L168,AN8)","v":3},{"$f":"AO8/(AQ4-AO11)","v":9.6774193548387094E-2},{"$f":"IF(AP8=0,0,(AP8*((LOG(AP8))/LOG(2))))","v":-0.32605488480635986},null,{"$f":"N8","v":112},{"$f":"COUNTIF(L169:L200,AS8)","v":2},{"$f":"AT8/(AV4-AT11)","v":6.25E-2},{"$f":"IF(AU8=0,0,(AU8*((LOG(AU8))/LOG(2))))","v":-0.25}]
[12,220,24,226,24,232,null,null,null,null,0,122,null,121,{"$f":"COUNTIF($L$7:$L$500,N9)","v":14},{"$f":"O9/$Q$4","v":7.2164948453608241E-2},{"$f":"IF(P9=0,0,(P9*((LOG(P9))/LOG(2))))","v":-0.27368974681347075},null,null,{"$f":"N9","v":121},{"$f":"COUNTIF(L7:L38,T9)","v":2},{"$f":"U9/(W4-U11)","v":6.25E-2},{"$f":"IF(V9=0,0,(V9*((LOG(V9))/LOG(2))))","v":-0.25},null,{"$f":"N9","v":121},{"$f":"COUNTIF(L39:L71,Y9)","v":4},{"$f":"Z9/(AB4-Z11)","v":0.12121212121212122},{"$f":"IF(AA9=0,0,(AA9*((LOG(AA9))/LOG(2))))","v":-0.36901746901314586},null,{"$f":"N9","v":121},{"$f":"COUNTIF(L72:L103,AD9)","v":2},{"$f":"AE9/(AG4-AE11)","v":6.25E-2},{"$f":"IF(AF9=0,0,(AF9*((LOG(AF9))/LOG(2))))","v":-0.25},null,{"$f":"N9","v":121},{"$f":"COUNTIF(L104:L135,AI9)","v":2},{"$f":"AJ9/(AL4-AJ11)","v":6.4516129032258063E-2},{"$f":"IF(AK9=0,0,(AK9*((LOG(AK9))/LOG(2))))","v":-0.25510943937979835},null,{"$f":"N9","v":121},{"$f":"COUNTIF(L136:L168,AN9)","v":3},{"$f":"AO9/(AQ4-AO11)","v":9.6774193548387094E-2},{"$f":"IF(AP9=0,0,(AP9*((LOG(AP9))/LOG(2))))","v":-0.32605488480635986},null,{"$f":"N9","v":121},{"$f":"COUNTIF(L169:L200,AS9)","v":1},{"$f":"AT9/(AV4-AT11)","v":3.125E-2},{"$f":"IF(AU9=0,0,(AU9*((LOG(AU9))/LOG(2))))","v":-0.15625}]
[12,326,13,330,24,340,null,null,null,null,0,112,null,122,{"$f":"COUNTIF($L$7:$L$500,N10)","v":77},{"$f":"O10/$Q$4","v":0.39690721649484534},{"$f":"IF(P10=0,0,(P10*((LOG(P10))/LOG(2))))","v":-0.52912744956134761},null,null,{"$f":"N10","v":122},{"$f":"COUNTIF(L7:L38,T10)","v":13},{"$f":"U10/(W4-U11)","v":0.40625},{"$f":"IF(V10=0,0,(V10*((LOG(V10))/LOG(2))))","v":-0.52794636450518129},null,{"$f":"N10","v":122},{"$f":"COUNTIF(L39:L71,Y10)","v":16},{"$f":"Z10/(AB4-Z11)","v":0.48484848484848486},{"$f":"IF(AA10=0,0,(AA10*((LOG(AA10))/LOG(2))))","v":-0.50637290635561383},null,{"$f":"N10","v":122},{"$f":"COUNTIF(L72:L103,AD10)","v":13},{"$f":"AE10/(AG4-AE11)","v":0.40625},{"$f":"IF(AF10=0,0,(AF10*((LOG(AF10))/LOG(2))))","v":-0.52794636450518129},null,{"$f":"N10","v":122},{"$f":"COUNTIF(L104:L135,AI10)","v":12},{"$f":"AJ10/(AL4-AJ11)","v":0.38709677419354838},{"$f":"IF(AK10=0,0,(AK10*((LOG(AK10))/LOG(2))))","v":-0.5300259908383429},null,{"$f":"N10","v":122},{"$f":"COUNTIF(L136:L168,AN10)","v":7},{"$f":"AO10/(AQ4-AO11)","v":0.22580645161290322},{"$f":"IF(AP10=0,0,(AP10*((LOG(AP10))/LOG(2))))","v":-0.48477063607435156},null,{"$f":"N10","v":122},{"$f":"COUNTIF(L169:L200,AS10)","v":16},{"$f":"AT10/(AV4-AT11)","v":0.5},{"$f":"IF(AU10=0,0,(AU10*((LOG(AU10))/LOG(2))))","v":-0.5}]
[12,442,13,445,24,457,null,null,null,null,0,112,null,211,{"$f":"COUNTIF($L$7:$L$500,N11)","v":3},{"$f":"O11/$Q$4","v":1.5463917525773196E-2},{"$f":"IF(P11=0,0,(P11*((LOG(P11))/LOG(2))))","v":-9.3014696002051117E-2},null,null,{"$f":"N11","v":211},{"$f":"COUNTIF(L7:L38,T11)","v":0},null,null,null,{"$f":"N11","v":211},{"$f":"COUNTIF(L39:L71,Y11)","v":0},null,null,null,{"$f":"N11","v":211},{"$f":"COUNTIF(L72:L103,AD11)","v":0},null,null,null,{"$f":"N11","v":211},{"$f":"COUNTIF(L104:L135,AI11)","v":1},null,null,null,{"$f":"N11","v":211},{"$f":"COUNTIF(L136:L168,AN11)","v":2},null,null,null,{"$f":"N11","v":211},{"$f":"COUNTIF(L169:L200,AS11)","v":0}]
[12,550,13,557,13,560,null,null,null,null,0,111,null,212,{"$f":"COUNTIF($L$7:$L$500,N12)","v":34},{"$f":"O12/$Q$4","v":0.17525773195876287},{"$f":"IF(P12=0,0,(P12*((LOG(P12))/LOG(2))))","v":-0.44032628882397318},null,null,{"$f":"N12","v":212},{"$f":"COUNTIF(L7:L38,T12)","v":4},{"$f":"U12/(W4-U11)","v":0.125},{"$f":"IF(V12=0,0,(V12*((LOG(V12))/LOG(2))))","v":-0.375},null,{"$f":"N12","v":212},{"$f":"COUNTIF(L39:L71,Y12)","v":6},{"$f":"Z12/(AB4-Z11)","v":0.18181818181818182},{"$f":"IF(AA12=0,0,(AA12*((LOG(AA12))/LOG(2))))","v":-0.44716938520678134},null,{"$f":"N12","v":212},{"$f":"COUNTIF(L72:L103,AD12)","v":4},{"$f":"AE12/(AG4-AE11)","v":0.125},{"$f":"IF(AF12=0,0,(AF12*((LOG(AF12))/LOG(2))))","v":-0.375},null,{"$f":"N12","v":212},{"$f":"COUNTIF(L104:L135,AI12)","v":9},{"$f":"AJ12/(AL4-AJ11)","v":0.29032258064516131},{"$f":"IF(AK12=0,0,(AK12*((LOG(AK12))/LOG(2))))","v":-0.5180142509839053},null,{"$f":"N12","v":212},{"$f":"COUNTIF(L136:L168,AN12)","v":6},{"$f":"AO12/(AQ4-AO11)","v":0.19354838709677419},{"$f":"IF(AP12=0,0,(AP12*((LOG(AP12))/LOG(2))))","v":-0.45856138251594558},null,{"$f":"N12","v":212},{"$f":"COUNTIF(L169:L200,AS12)","v":5},{"$f":"AT12/(AV4-AT11)","v":0.15625},{"$f":"IF(AU12=0,0,(AU12*((LOG(AU12))/LOG(2))))","v":-0.41844873517384967}]
[12,652,24,666,13,669,null,null,null,null,0,121,null,221,{"$f":"COUNTIF($L$7:$L$500,N13)","v":9},{"$f":"O13/$Q$4","v":4.6391752577319589E-2},{"$f":"IF(P13=0,0,(P13*((LOG(P13))/LOG(2))))","v":-0.20551489982836774},null,null,{"$f":"N13","v":221},{"$f":"COUNTIF(L7:L38,T13)","v":0},{"$f":"U13/(W4-U11)","v":0},{"$f":"IF(V13=0,0,(V13*((LOG(V13))/LOG(2))))","v":0},null,{"$f":"N13","v":221},{"$f":"COUNTIF(L39:L71,Y13)","v":1},{"$f":"Z13/(AB4-Z11)","v":3.0303030303030304E-2},{"$f":"IF(AA13=0,0,(AA13*((LOG(AA13))/LOG(2))))","v":-0.15286042785934709},null,{"$f":"N13","v":221},{"$f":"COUNTIF(L72:L103,AD13)","v":1},{"$f":"AE13/(AG4-AE11)","v":3.125E-2},{"$f":"IF(AF13=0,0,(AF13*((LOG(AF13))/LOG(2))))","v":-0.15625},null,{"$f":"N13","v":221},{"$f":"COUNTIF(L104:L135,AI13)","v":1},{"$f":"AJ13/(AL4-AJ11)","v":3.2258064516129031E-2},{"$f":"IF(AK13=0,0,(AK13*((LOG(AK13))/LOG(2))))","v":-0.15981278420602821},null,{"$f":"N13","v":221},{"$f":"COUNTIF(L136:L168,AN13)","v":2},{"$f":"AO13/(AQ4-AO11)","v":6.4516129032258063E-2},{"$f":"IF(AP13=0,0,(AP13*((LOG(AP13))/LOG(2))))","v":-0.25510943937979835},null,{"$f":"N13","v":221},{"$f":"COUNTIF(L169:L200,AS13)","v":4},{"$f":"AT13/(AV4-AT11)","v":0.125},{"$f":"IF(AU13=0,0,(AU13*((LOG(AU13))/LOG(2))))","v":-0.375}]
[12,775,24,777,24,783,null,null,null,null,0,122,null,222,{"$f":"COUNTIF($L$7:$L$500,N14)","v":42},{"$f":"O14/$Q$4","v":0.21649484536082475},{"$f":"IF(P14=0,0,(P14*((LOG(P14))/LOG(2))))","v":-0.47793302894407952},null,null,{"$f":"N14","v":222},{"$f":"COUNTIF(L7:L38,T14)","v":6},{"$f":"U14/(W4-U11)","v":0.1875},{"$f":"IF(V14=0,0,(V14*((LOG(V14))/LOG(2))))","v":-0.45281953111478312},null,{"$f":"N14","v":222},{"$f":"COUNTIF(L39:L71,Y14)","v":4},{"$f":"Z14/(AB4-Z11)","v":0.12121212121212122},{"$f":"IF(AA14=0,0,(AA14*((LOG(AA14))/LOG(2))))","v":-0.36901746901314586},null,{"$f":"N14","v":222},{"$f":"COUNTIF(L72:L103,AD14)","v":12},{"$f":"AE14/(AG4-AE11)","v":0.375},{"$f":"IF(AF14=0,0,(AF14*((LOG(AF14))/LOG(2))))","v":-0.53063906222956647},null,{"$f":"N14","v":222},{"$f":"COUNTIF(L104:L135,AI14)","v":6},{"$f":"AJ14/(AL4-AJ11)","v":0.19354838709677419},{"$f":"IF(AK14=0,0,(AK14*((LOG(AK14))/LOG(2))))","v":-0.45856138251594558},null,{"$f":"N14","v":222},{"$f":"COUNTIF(L136:L168,AN14)","v":10},{"$f":"AO14/(AQ4-AO11)","v":0.32258064516129031},{"$f":"IF(AP14=0,0,(AP14*((LOG(AP14))/LOG(2))))","v":-0.52653813403210092},null,{"$f":"N14","v":222},{"$f":"COUNTIF(L169:L200,AS14)","v":4},{"$f":"AT14/(AV4-AT11)","v":0.125},{"$f":"IF(AU14=0,0,(AU14*((LOG(AU14))/LOG(2))))","v":-0.375}]
[12,880,24,884,13,889,null,null,null,null,0,121,null,null,null,{"$f":"SUM(P7:P14)","v":1},{"$f":"-SUM(Q7:Q14)","v":2.3324706652516429},null,null,null,null,{"$f":"SUM(V7:V14)","v":1},{"$f":"-SUM(W7:W14)","v":2.2148354267347474},null,null,null,{"$f":"SUM(AA7:AA14)","v":1},{"$f":"-SUM(AB7:AB14)","v":2.0895524525606675},null,null,null,{"$f":"SUM(AF7:AF14)","v":1},{"$f":"-SUM(AG7:AG14)","v":1.8398354267347476},null,null,null,{"$f":"SUM(AK7:AK14)","v":1},{"$f":"-SUM(AL7:AL14)","v":2.0813366321300486},null,null,null,{"$f":"SUM(AP7:AP14)","v":0.99999999999999978},{"$f":"-SUM(AQ7:AQ14)","v":2.377089361614916},null,null,null,{"$f":"SUM(AU7:AU14)","v":1},{"$f":"-SUM(AV7:AV14)","v":2.0746987351738495}]
[12,1052,24,1072,24,1077,null,null,null,null,0,122,null,null,null,"U=",{"$f":"Q15/(LOG(Q4)/LOG(2))","v":0.30690755455827001},null,null,null,null,"U1=",{"$f":"W15/(LOG(W4)/LOG(2))","v":0.44296708534694951},null,null,null,"U2=",{"$f":"AB15/(LOG(AB4)/LOG(2))","v":0.41423259228333592},null,null,null,"U3=",{"$f":"AG15/(LOG(AG4)/LOG(2))","v":0.36796708534694955},null,null,null,"U4=",{"$f":"AL15/(LOG(AL4)/LOG(2))","v":0.41626732642600972},null,null,null,"U5=",{"$f":"AQ15/(LOG(AQ4)/LOG(2))","v":0.47123386979073606},null,null,null,"U6=",{"$f":"AV15/(LOG(AV4)/LOG(2))","v":0.41493974703476988}]
[12,1296,13,1300,24,1308,null,null,null,null,0,112]
[12,1408,24,1413,24,1417,null,null,null,null,0,122]
[12,1511,13,1524,24,1532,null,null,null,null,0,112,null,"Total Target Seq"]
[12,1629,13,1639,24,1643,null,null,null,null,0,112,null,{"$f":"COUNTIF(L7:L200,G3)","v":3},null,32,33,32,32,33,32]
[12,1739,24,1744,24,1750,null,null,null,null,0,122,null,null,null,"% of reinforcement given in 6 equal intervals based on number of trials "]
[21,1847,11,1853,22,1864,null,null,null,null,0,212,null,null,null,"%_1","%_2","%_3","%_4","%_5","%_6"]
[21,1974,22,1978,24,1984,null,null,null,null,0,222,null,null,"target sequence",{"$f":"$G$3","v":211},{"$f":"$G$3","v":211},{"$f":"$G$3","v":211},{"$f":"$G$3","v":211},{"$f":"$G$3","v":211},{"$f":"$G$3","v":211}]
[21,2190,22,2192,24,2197,null,null,null,null,0,222,null,null,"total reinforcement",{"$f":"U11","v":0},{"$f":"Z11","v":0},{"$f":"AE11","v":0},{"$f":"AJ11","v":1},{"$f":"AO11","v":2},{"$f":"AT11","v":0}]
[21,2311,22,2313,24,2321,null,null,null,null,0,222,null,null,"% target"]
[12,2428,24,2431,24,2433,null,null,null,null,0,122,null,null,"CCRF"]
[12,2531,24,2534,24,2538,null,null,null,null,0,122,null,null,"% CCRf"]
[12,2640,24,2649,24,2654,null,null,null,null,0,122,null,null,"average response rate",{"$f":"F38/P20","v":123.40625},{"$f":"(F71-F38)/Q20","v":117.51515151515152},{"$f":"(F103-F71)/R20","v":119},{"$f":"(F135-F103)/S20","v":128.5},{"$f":"(F168-F135)/T20","v":120.09090909090909},{"$f":"(F200-F168)/U20","v":131}]
[21,2757,22,2760,24,2768,null,null,null,null,0,222]
[12,2869,24,2874,24,2886,null,null,null,null,0,122]
[21,3101,11,3104,22,3107,null,null,null,null,0,212]
[21,3211,22,3217,24,3223,null,null,null,null,0,222]
[12,3331,24,3343,24,3349,null,null,null,null,0,122]
[21,3448,11,3451,22,3463,null,null,null,null,0,212]
[12,3569,24,3583,24,3592,null,null,null,null,0,122]
[21,3691,11,3694,22,3701,null,null,null,null,0,212]
[21,3797,22,3804,24,3809,null,null,null,null,0,222]
[12,3934,24,3939,24,3949,null,null,null,null,0,122]
[12,4073,24,4088,24,4100,null,null,null,null,0,122]
[12,4216,24,4218,24,4230,null,null,null,null,0,122]
[12,4330,24,4340,13,4344,null,null,null,null,0,121]
[12,4461,24,4480,24,4487,null,null,null,null,0,122]
[21,4621,11,4628,22,4632,null,null,null,null,0,212]
[21,4732,22,4738,24,4744,null,null,null,null,0,222]
[12,4841,24,4845,24,4850,null,null,null,null,0,122]
[12,4947,24,4959,24,4965,null,null,null,null,0,122]
[12,5059,24,5061,13,5064,null,null,null,null,0,121]
[12,5164,24,5176,24,5183,null,null,null,null,0,122]
[21,5273,22,5280,24,5292,null,null,null,null,0,222]
[12,5424,24,5434,13,5439,null,null,null,null,0,121]
[21,5539,11,5542,22,5545,null,null,null,null,0,212]
[12,5638,24,5648,24,5654,null,null,null,null,0,122]
[21,5773,11,5776,22,5782,null,null,null,null,0,212]
[21,5892,22,5898,24,5905,null,null,null,null,0,222]
[12,5997,24,6009,24,6015,null,null,null,null,0,122]
[12,6116,24,6122,24,6132,null,null,null,null,0,122]
[21,6228,11,6229,22,6233,null,null,null,null,0,212]
[21,6338,22,6345,24,6353,null,null,null,null,0,222]
[12,6451,24,6454,24,6459,null,null,null,null,0,122]
[12,6557,24,6568,13,6571,null,null,null,null,0,121]
[21,6681,11,6683,22,6687,null,null,null,null,0,212]
[12,6785,24,6793,24,6799,null,null,null,null,0,122]
[12,6903,24,6907,24,6912,null,null,null,null,0,122]
[12,7006,24,7015,24,7021,null,null,null,null,0,122]
[21,7127,22,7132,13,7134,null,null,null,null,0,221]
[12,7227,13,7230,24,7236,null,null,null,null,0,112]
[12,7340,24,7346,24,7353,null,null,null,null,0,122]
[12,7458,24,7462,24,7473,null,null,null,null,0,122]
[12,7578,24,7585,24,7592,null,null,null,null,0,122]
[21,7706,11,7709,22,7712,null,null,null,null,0,212]
[12,7811,13,7819,24,7827,null,null,null,null,0,112]
[21,8058,11,8062,22,8071,null,null,null,null,0,212]
[21,8171,22,8178,24,8183,null,null,null,null,0,222]
[12,8280,24,8285,24,8294,null,null,null,null,0,122]
[21,8390,11,8396,22,8400,null,null,null,null,0,212]
[21,8505,22,8513,24,8520,null,null,null,null,0,222]
[21,8704,22,8709,24,8715,null,null,null,null,0,222]
[21,8808,22,8817,24,8820,null,null,null,null,0,222]
[12,8942,24,8953,13,8956,null,null,null,null,0,121]
[21,9054,22,9062,24,9069,null,null,null,null,0,222]
[21,9174,22,9182,24,9189,null,null,null,null,0,222]
[21,9287,22,9291,24,9296,null,null,null,null,0,222]
[12,9392,24,9394,24,9397,null,null,null,null,0,122]
[12,9491,24,9497,24,9503,null,null,null,null,0,122]
[21,9598,11,9603,22,9607,null,null,null,null,0,212]
[21,9711,22,9715,24,9723,null,null,null,null,0,222]
[21,9826,22,9831,13,9834,null,null,null,null,0,221]
[12,9933,24,9935,24,9940,null,null,null,null,0,122]
[12,10035,24,10039,24,10044,null,null,null,null,0,122]
[21,10143,22,10147,24,10153,null,null,null,null,0,222]
[12,10249,24,10252,24,10260,null,null,null,null,0,122]
[12,10359,24,10365,24,10371,null,null,null,null,0,122]
[12,10465,24,10477,24,10480,null,null,null,null,0,122]
[12,10575,24,10582,24,10585,null,null,null,null,0,122]
[21,10681,22,10687,24,10693,null,null,null,null,0,222]
[21,10790,22,10795,24,10801,null,null,null,null,0,222]
[21,10901,22,10903,24,10909,null,null,null,null,0,222]
[21,11018,11,11022,22,11031,null,null,null,null,0,212]
[12,11125,24,11133,24,11135,null,null,null,null,0,122]
[12,11306,24,11310,24,11316,null,null,null,null,0,122]
[12,11411,24,11420,13,11422,null,null,null,null,0,121]
[12,11521,24,11529,24,11535,null,null,null,null,0,122]
[12,11629,24,11630,24,11635,null,null,null,null,0,122]
[21,11732,11,11734,22,11742,null,null,null,null,0,212]
[12,11846,24,11854,24,11859,null,null,null,null,0,122]
[12,11956,24,11962,24,11967,null,null,null,null,0,122]
[12,12064,24,12070,24,12076,null,null,null,null,0,122]
[21,12173,11,12176,22,12183,null,null,null,null,0,212]
[12,12275,13,12282,24,12289,null,null,null,null,0,112]
[21,12386,22,12392,24,12399,null,null,null,null,0,222]
[21,12490,11,12492,22,12500,null,null,null,null,0,212]
[21,12598,22,12603,24,12610,null,null,null,null,0,222]
[21,12743,22,12746,13,12749,null,null,null,null,0,221]
[21,12861,11,12863,22,12868,null,null,null,null,0,212]
[21,12968,22,12973,24,12978,null,null,null,null,0,222]
[12,13085,24,13092,24,13098,null,null,null,null,0,122]
[21,13210,11,13213,11,13215,null,null,null,null,0,211]
[21,13390,22,13395,24,13404,null,null,null,null,0,222]
[12,13579,24,13589,13,13592,null,null,null,null,0,121]
[12,13693,24,13699,24,13705,null,null,null,null,0,122]
[12,13798,24,13803,24,13811,null,null,null,null,0,122]
[21,13929,11,13939,22,13947,null,null,null,null,0,212]
[21,14058,11,14062,22,14072,null,null,null,null,0,212]
[12,14165,24,14172,24,14177,null,null,null,null,0,122]
[21,14278,11,14280,22,14284,null,null,null,null,0,212]
[12,14378,24,14387,13,14388,null,null,null,null,0,121]
[12,14486,24,14489,24,14502,null,null,null,null,0,122]
[21,14690,22,14697,24,14703,null,null,null,null,0,222]
[12,14844,24,14847,24,14865,null,null,null,null,0,122]
[12,15123,24,15135,24,15141,null,null,null,null,0,122]
[21,15241,22,15246,24,15254,null,null,null,null,0,222]
[21,15409,11,15410,22,15414,null,null,null,null,0,212]
[12,15512,24,15522,24,15527,null,null,null,null,0,122]
[21,15630,11,15634,22,15640,null,null,null,null,0,212]
[12,15733,24,15742,24,15747,null,null,null,null,0,122]
[21,15867,11,15875,22,15882,null,null,null,null,0,212]
[12,16022,24,16027,24,16032,null,null,null,null,0,122]
[12,16129,24,16131,24,16137,null,null,null,null,0,122]
[21,16235,11,16238,22,16247,null,null,null,null,0,212]
[12,16342,13,16346,24,16352,null,null,null,null,0,112]
[21,16452,22,16458,24,16464,null,null,null,null,0,222]
[12,16557,13,16571,24,16582,null,null,null,null,0,112]
[12,16678,24,16684,24,16690,null,null,null,null,0,122]
[21,16786,22,16798,24,16806,null,null,null,null,0,222]
[21,16903,11,16909,22,16912,null,null,null,null,0,212]
[21,17010,22,17016,13,17019,null,null,null,null,0,221]
[21,17175,11,17179,22,17184,null,null,null,null,0,212]
[21,17290,22,17293,24,17299,null,null,null,null,0,222]
[12,17391,24,17395,13,17403,null,null,null,null,0,121]
[12,17499,24,17504,24,17508,null,null,null,null,0,122]
[21,17607,22,17611,24,17616,null,null,null,null,0,222]
[12,17716,24,17721,24,17726,null,null,null,null,0,122]
[21,17830,22,17834,24,17840,null,null,null,null,0,222]
[21,17946,11,17951,11,17955,null,null,null,null,0,211]
[21,18074,11,18082,11,18089,null,null,null,null,0,211]
[21,18240,11,18251,22,18255,null,null,null,null,0,212]
[21,18471,11,18474,22,18481,null,null,null,null,0,212]
[12,18576,13,18584,24,18590,null,null,null,null,0,112]
[21,18685,22,18691,24,18699,null,null,null,null,0,222]
[21,18798,22,18807,13,18809,null,null,null,null,0,221]
[21,18902,22,18913,24,18920,null,null,null,null,0,222]
[12,19019,24,19027,13,19032,null,null,null,null,0,121]
[21,19134,22,19138,24,19144,null,null,null,null,0,222]
[12,19241,24,19246,13,19251,null,null,null,null,0,121]
[21,19347,22,19351,24,19358,null,null,null,null,0,222]
[12,19451,24,19458,24,19463,null,null,null,null,0,122]
[12,19573,24,19580,24,19586,null,null,null,null,0,122]
[21,19688,22,19703,24,19710,null,null,null,null,0,222]
[12,19879,24,19889,24,19899,null,null,null,null,0,122]
[21,19995,22,20002,24,20007,null,null,null,null,0,222]
[12,20121,24,20128,24,20133,null,null,null,null,0,122]
[21,20245,11,20249,22,20255,null,null,null,null,0,212]
[12,20351,24,20359,24,20365,null,null,null,null,0,122]
[21,20493,11,20501,22,20505,null,null,null,null,0,212]
[12,20964,24,20974,24,20982,null,null,null,null,0,122]
[12,21081,24,21084,24,21088,null,null,null,null,0,122]
[21,21194,22,21203,24,21210,null,null,null,null,0,222]
[21,21316,22,21318,24,21324,null,null,null,null,0,222]
[21,21435,22,21442,13,21444,null,null,null,null,0,221]
[12,21556,24,21569,24,21575,null,null,null,null,0,122]
[12,21669,24,21673,24,21681,null,null,null,null,0,122]
[21,21785,22,21790,13,21792,null,null,null,null,0,221]
[21,21897,11,21901,22,21908,null,null,null,null,0,212]
[21,22007,11,22009,22,22013,null,null,null,null,0,212]
[12,22106,13,22110,24,22116,null,null,null,null,0,112]
[12,22213,24,22219,24,22225,null,null,null,null,0,122]
[21,22330,22,22335,13,22338,null,null,null,null,0,221]
[12,22444,24,22453,24,22458,null,null,null,null,0,122]
[12,22564,24,22570,24,22575,null,null,null,null,0,122]
[21,22678,22,22682,13,22684,null,null,null,null,0,221]
[12,22780,24,22783,13,22787,null,null,null,null,0,121]
[12,22879,24,22884,24,22890,null,null,null,null,0,122]
[12,23091,24,23096,24,23102,null,null,null,null,0,122]
[12,23206,24,23210,24,23215,null,null,null,null,0,122]
[12,23320,24,23324,24,23330,null,null,null,null,0,122]
[12,23429,24,23433,24,23438,null,null,null,null,0,122]
[12,23565,13,23568,24,23573,null,null,null,null,0,112]
[21,23679,11,23683,22,23690,null,null,null,null,0,212]
[21,23784,22,23789,24,23795,null,null,null,null,0,222]
[12,23893,24,23897,24,23902,null,null,null,null,0,122]

{"sheet":"!N204A10.Gus","index":10,"n_rows":205,"n_cols":48,"rows_kept":205,"cut":false,"hidden":false,"merged":[[4,39,4,42],[5,39,5,40],[4,44,4,47],[5,44,5,45],[4,24,4,27],[5,24,5,25],[4,29,4,32],[5,29,5,30],[4,34,4,37],[5,34,5,35],[1,1,1,2],[5,13,5,14],[18,13,18,14],[19,13,19,14],[4,19,4,22],[5,19,5,20]]}
["Report for:!N204A10.Gus"]
["Date:","<date>"]
["Hen:","<hen>",null,null,null,"Correct Sequence",{"$f":"Start!J2","v":211},null,null,null,null,null,null,null,null,"Total Sequences in Data",{"$f":"4994-COUNTBLANK(L7:L5000)","v":199},null,null,null,null,"Total Sequences in Block Data",{"$f":"COUNTA(L7:L39)","v":33},null,null,null,"Total Sequences in Block Data",{"$f":"COUNTA(L40:L72)","v":33},null,null,null,"Total Sequences in Block Data",{"$f":"COUNTA(L73:L106)","v":34},null,null,null,"Total Sequences in Block Data",{"$f":"COUNTA(L107:L139)","v":33},null,null,null,"Total Sequences in Block Data",{"$f":"COUNTA(L140:L172)","v":33},null,null,null,"Total Sequences in Block Data",{"$f":"COUNTA(L173:L205)","v":33}]
[null,null,null,null,null,null,null,null,null,null,null,null,null,null,null,"Total Sequences in Summary",{"$f":"SUM(O7:O14)","v":198},null,null,null,null,"Total Sequences in Block Summary",{"$f":"SUM(U7:U14)","v":33},null,null,null,"Total Sequences in Block Summary",{"$f":"SUM(Z7:Z14)","v":33},null,null,null,"Total Sequences in Block Summary",{"$f":"SUM(AE7:AE14)","v":34},null,null,null,"Total Sequences in Block Summary",{"$f":"SUM(AJ7:AJ14)","v":33},null,null,null,"Total Sequences in Block Summary",{"$f":"SUM(AO7:AO14)","v":33},null,null,null,"Total Sequences in Block Summary",{"$f":"SUM(AT7:AT14)","v":32}]
[null,null,null,null,null,null,null,null,null,null,null,null,null,null,null,null,null,null,null,"Block 1",null,null,null,null,"Block 2",null,null,null,null,"Block 3",null,null,null,null,"Block 4",null,null,null,null,"Block 5",null,null,null,null,"Block 6"]
["Sequence\nComponent\n1","Time\n1","Sequence\nComponent\n2","Time\n2","Sequence\nComponent\n3","Time\n3","Sequence\nComponent\n4","Time\n4","Sequence\nComponent\n5","Time\n5","Correct?\n0=No 1=Yes","Sequence",null,"Frequency",null,"Relative Frequency","Variability",null,null,"Frequency",null,"Relative Frequency","Variability",null,"Frequency",null,"Relative Frequency","Variability",null,"Frequency",null,"Relative Frequency","Variability",null,"Frequency",null,"Relative Frequency","Variability",null,"Frequency",null,"Relative Frequency","Variability",null,"Frequency",null,"Relative Frequency","Variability"]
[12,67,24,75,24,87,null,null,null,null,0,122,null,111,{"$f":"COUNTIF($L$7:$L$500,N7)","v":4},{"$f":"O7/$Q$4","v":2.0202020202020204E-2},{"$f":"IF(P7=0,0,(P7*((LOG(P7))/LOG(2))))","v":-0.11372437616322445},null,null,{"$f":"N7","v":111},{"$f":"COUNTIF(L7:L39,T7)","v":3},{"$f":"U7/(W4-U11)","v":9.375E-2},{"$f":"IF(V7=0,0,(V7*((LOG(V7))/LOG(2))))","v":-0.32015976555739156},null,{"$f":"N7","v":111},{"$f":"COUNTIF(L40:L72,Y7)","v":1},{"$f":"Z7/(AB4-Z11)","v":3.0303030303030304E-2},{"$f":"IF(AA7=0,0,(AA7*((LOG(AA7))/LOG(2))))","v":-0.15286042785934709},null,{"$f":"N7","v":111},{"$f":"COUNTIF(L73:L106,AD7)","v":0},{"$f":"AE7/(AG4-AE11)","v":0},{"$f":"IF(AF7=0,0,(AF7*((LOG(AF7))/LOG(2))))","v":0},null,{"$f":"N7","v":111},{"$f":"COUNTIF(L107:L139,AI7)","v":0},{"$f":"AJ7/(AL4-AJ11)","v":0},{"$f":"IF(AK7=0,0,(AK7*((LOG(AK7))/LOG(2))))","v":0},null,{"$f":"N7","v":111},{"$f":"COUNTIF(L140:L172,AN7)","v":0},{"$f":"AO7/(AQ4-AO11)","v":0},{"$f":"IF(AP7=0,0,(AP7*((LOG(AP7))/LOG(2))))","v":0},null,{"$f":"N7","v":111},{"$f":"COUNTIF(L173:L205,AS7)","v":0},{"$f":"AT7/(AV4-AT11)","v":0},{"$f":"IF(AU7=0,0,(AU7*((LOG(AU7))/LOG(2))))","v":0}]
[12,195,13,200,24,206,null,null,null,null,0,112,null,112,{"$f":"COUNTIF($L$7:$L$500,N8)","v":16},{"$f":"O8/$Q$4","v":8.0808080808080815E-2},{"$f":"IF(P8=0,0,(P8*((LOG(P8))/LOG(2))))","v":-0.2932813430367362},null,null,{"$f":"N8","v":112},{"$f":"COUNTIF(L7:L39,T8)","v":7},{"$f":"U8/(W4-U11)","v":0.21875},{"$f":"IF(V8=0,0,(V8*((LOG(V8))/LOG(2))))","v":-0.47964111079989907},null,{"$f":"N8","v":112},{"$f":"COUNTIF(L40:L72,Y8)","v":4},{"$f":"Z8/(AB4-Z11)","v":0.12121212121212122},{"$f":"IF(AA8=0,0,(AA8*((LOG(AA8))/LOG(2))))","v":-0.36901746901314586},null,{"$f":"N8","v":112},{"$f":"COUNTIF(L73:L106,AD8)","v":1},{"$f":"AE8/(AG4-AE11)","v":3.0303030303030304E-2},{"$f":"IF(AF8=0,0,(AF8*((LOG(AF8))/LOG(2))))","v":-0.15286042785934709},null,{"$f":"N8","v":112},{"$f":"COUNTIF(L107:L139,AI8)","v":1},{"$f":"AJ8/(AL4-AJ11)","v":3.0303030303030304E-2},{"$f":"IF(AK8=0,0,(AK8*((LOG(AK8))/LOG(2))))","v":-0.15286042785934709},null,{"$f":"N8","v":112},{"$f":"COUNTIF(L140:L172,AN8)","v":0},{"$f":"AO8/(AQ4-AO11)","v":0},{"$f":"IF(AP8=0,0,(AP8*((LOG(AP8))/LOG(2))))","v":0},null,{"$f":"N8","v":112},{"$f":"COUNTIF(L173:L205,AS8)","v":3},{"$f":"AT8/(AV4-AT11)","v":9.375E-2},{"$f":"IF(AU8=0,0,(AU8*((LOG(AU8))/LOG(2))))","v":-0.32015976555739156}]
[12,301,13,304,13,309,null,null,null,null,0,111,null,121,{"$f":"COUNTIF($L$7:$L$500,N9)","v":8},{"$f":"O9/$Q$4","v":4.0404040404040407E-2},{"$f":"IF(P9=0,0,(P9*((LOG(P9))/LOG(2))))","v":-0.18704471192240849},null,null,{"$f":"N9","v":121},{"$f":"COUNTIF(L7:L39,T9)","v":1},{"$f":"U9/(W4-U11)","v":3.125E-2},{"$f":"IF(V9=0,0,(V9*((LOG(V9))/LOG(2))))","v":-0.15625},null,{"$f":"N9","v":121},{"$f":"COUNTIF(L40:L72,Y9)","v":3},{"$f":"Z9/(AB4-Z11)","v":9.0909090909090912E-2},{"$f":"IF(AA9=0,0,(AA9*((LOG(AA9))/LOG(2))))","v":-0.31449378351248153},null,{"$f":"N9","v":121},{"$f":"COUNTIF(L73:L106,AD9)","v":0},{"$f":"AE9/(AG4-AE11)","v":0},{"$f":"IF(AF9=0,0,(AF9*((LOG(AF9))/LOG(2))))","v":0},null,{"$f":"N9","v":121},{"$f":"COUNTIF(L107:L139,AI9)","v":2},{"$f":"AJ9/(AL4-AJ11)","v":6.0606060606060608E-2},{"$f":"IF(AK9=0,0,(AK9*((LOG(AK9))/LOG(2))))","v":-0.24511479511263354},null,{"$f":"N9","v":121},{"$f":"COUNTIF(L140:L172,AN9)","v":1},{"$f":"AO9/(AQ4-AO11)","v":3.0303030303030304E-2},{"$f":"IF(AP9=0,0,(AP9*((LOG(AP9))/LOG(2))))","v":-0.15286042785934709},null,{"$f":"N9","v":121},{"$f":"COUNTIF(L173:L205,AS9)","v":1},{"$f":"AT9/(AV4-AT11)","v":3.125E-2},{"$f":"IF(AU9=0,0,(AU9*((LOG(AU9))/LOG(2))))","v":-0.15625}]
[12,427,24,439,24,444,null,null,null,null,0,122,null,122,{"$f":"COUNTIF($L$7:$L$500,N10)","v":80},{"$f":"O10/$Q$4","v":0.40404040404040403},{"$f":"IF(P10=0,0,(P10*((LOG(P10))/LOG(2))))","v":-0.52825394957262517},null,null,{"$f":"N10","v":122},{"$f":"COUNTIF(L7:L39,T10)","v":12},{"$f":"U10/(W4-U11)","v":0.375},{"$f":"IF(V10=0,0,(V10*((LOG(V10))/LOG(2))))","v":-0.53063906222956647},null,{"$f":"N10","v":122},{"$f":"COUNTIF(L40:L72,Y10)","v":17},{"$f":"Z10/(AB4-Z11)","v":0.51515151515151514},{"$f":"IF(AA10=0,0,(AA10*((LOG(AA10))/LOG(2))))","v":-0.49296459781327084},null,{"$f":"N10","v":122},{"$f":"COUNTIF(L73:L106,AD10)","v":15},{"$f":"AE10/(AG4-AE11)","v":0.45454545454545453},{"$f":"IF(AF10=0,0,(AF10*((LOG(AF10))/LOG(2))))","v":-0.51704705624997038},null,{"$f":"N10","v":122},{"$f":"COUNTIF(L107:L139,AI10)","v":12},{"$f":"AJ10/(AL4-AJ11)","v":0.36363636363636365},{"$f":"IF(AK10=0,0,(AK10*((LOG(AK10))/LOG(2))))","v":-0.53070240677719893},null,{"$f":"N10","v":122},{"$f":"COUNTIF(L140:L172,AN10)","v":14},{"$f":"AO10/(AQ4-AO11)","v":0.42424242424242425},{"$f":"IF(AP10=0,0,(AP10*((LOG(AP10))/LOG(2))))","v":-0.52480450794581479},null,{"$f":"N10","v":122},{"$f":"COUNTIF(L173:L205,AS10)","v":10},{"$f":"AT10/(AV4-AT11)","v":0.3125},{"$f":"IF(AU10=0,0,(AU10*((LOG(AU10))/LOG(2))))","v":-0.52439747034769923}]
[12,539,13,550,24,568,null,null,null,null,0,112,null,211,{"$f":"COUNTIF($L$7:$L$500,N11)","v":2},{"$f":"O11/$Q$4","v":1.0101010101010102E-2},{"$f":"IF(P11=0,0,(P11*((LOG(P11))/LOG(2))))","v":-6.6963198182622322E-2},null,null,{"$f":"N11","v":211},{"$f":"COUNTIF(L7:L39,T11)","v":1},null,null,null,{"$f":"N11","v":211},{"$f":"COUNTIF(L40:L72,Y11)","v":0},null,null,null,{"$f":"N11","v":211},{"$f":"COUNTIF(L73:L106,AD11)","v":1},null,null,null,{"$f":"N11","v":211},{"$f":"COUNTIF(L107:L139,AI11)","v":0},null,null,null,{"$f":"N11","v":211},{"$f":"COUNTIF(L140:L172,AN11)","v":0},null,null,null,{"$f":"N11","v":211},{"$f":"COUNTIF(L173:L205,AS11)","v":0}]
[12,664,13,689,24,703,null,null,null,null,0,112,null,212,{"$f":"COUNTIF($L$7:$L$500,N12)","v":31},{"$f":"O12/$Q$4","v":0.15656565656565657},{"$f":"IF(P12=0,0,(P12*((LOG(P12))/LOG(2))))","v":-0.41883823030542811},null,null,{"$f":"N12","v":212},{"$f":"COUNTIF(L7:L39,T12)","v":4},{"$f":"U12/(W4-U11)","v":0.125},{"$f":"IF(V12=0,0,(V12*((LOG(V12))/LOG(2))))","v":-0.375},null,{"$f":"N12","v":212},{"$f":"COUNTIF(L40:L72,Y12)","v":3},{"$f":"Z12/(AB4-Z11)","v":9.0909090909090912E-2},{"$f":"IF(AA12=0,0,(AA12*((LOG(AA12))/LOG(2))))","v":-0.31449378351248153},null,{"$f":"N12","v":212},{"$f":"COUNTIF(L73:L106,AD12)","v":4},{"$f":"AE12/(AG4-AE11)","v":0.12121212121212122},{"$f":"IF(AF12=0,0,(AF12*((LOG(AF12))/LOG(2))))","v":-0.36901746901314586},null,{"$f":"N12","v":212},{"$f":"COUNTIF(L107:L139,AI12)","v":8},{"$f":"AJ12/(AL4-AJ11)","v":0.24242424242424243},{"$f":"IF(AK12=0,0,(AK12*((LOG(AK12))/LOG(2))))","v":-0.49561069560204934},null,{"$f":"N12","v":212},{"$f":"COUNTIF(L140:L172,AN12)","v":4},{"$f":"AO12/(AQ4-AO11)","v":0.12121212121212122},{"$f":"IF(AP12=0,0,(AP12*((LOG(AP12))/LOG(2))))","v":-0.36901746901314586},null,{"$f":"N12","v":212},{"$f":"COUNTIF(L173:L205,AS12)","v":8},{"$f":"AT12/(AV4-AT11)","v":0.25},{"$f":"IF(AU12=0,0,(AU12*((LOG(AU12))/LOG(2))))","v":-0.5}]
[21,818,22,824,24,830,null,null,null,null,0,222,null,221,{"$f":"COUNTIF($L$7:$L$500,N13)","v":13},{"$f":"O13/$Q$4","v":6.5656565656565663E-2},{"$f":"IF(P13=0,0,(P13*((LOG(P13))/LOG(2))))","v":-0.25795919053131677},null,null,{"$f":"N13","v":221},{"$f":"COUNTIF(L7:L39,T13)","v":0},{"$f":"U13/(W4-U11)","v":0},{"$f":"IF(V13=0,0,(V13*((LOG(V13))/LOG(2))))","v":0},null,{"$f":"N13","v":221},{"$f":"COUNTIF(L40:L72,Y13)","v":0},{"$f":"Z13/(AB4-Z11)","v":0},{"$f":"IF(AA13=0,0,(AA13*((LOG(AA13))/LOG(2))))","v":0},null,{"$f":"N13","v":221},{"$f":"COUNTIF(L73:L106,AD13)","v":6},{"$f":"AE13/(AG4-AE11)","v":0.18181818181818182},{"$f":"IF(AF13=0,0,(AF13*((LOG(AF13))/LOG(2))))","v":-0.44716938520678134},null,{"$f":"N13","v":221},{"$f":"COUNTIF(L107:L139,AI13)","v":1},{"$f":"AJ13/(AL4-AJ11)","v":3.0303030303030304E-2},{"$f":"IF(AK13=0,0,(AK13*((LOG(AK13))/LOG(2))))","v":-0.15286042785934709},null,{"$f":"N13","v":221},{"$f":"COUNTIF(L140:L172,AN13)","v":5},{"$f":"AO13/(AQ4-AO11)","v":0.15151515151515152},{"$f":"IF(AP13=0,0,(AP13*((LOG(AP13))/LOG(2))))","v":-0.41249485219258958},null,{"$f":"N13","v":221},{"$f":"COUNTIF(L173:L205,AS13)","v":1},{"$f":"AT13/(AV4-AT11)","v":3.125E-2},{"$f":"IF(AU13=0,0,(AU13*((LOG(AU13))/LOG(2))))","v":-0.15625}]
[12,1142,13,1147,13,1163,null,null,null,null,0,111,null,222,{"$f":"COUNTIF($L$7:$L$500,N14)","v":44},{"$f":"O14/$Q$4","v":0.22222222222222221},{"$f":"IF(P14=0,0,(P14*((LOG(P14))/LOG(2))))","v":-0.48220555587606945},null,null,{"$f":"N14","v":222},{"$f":"COUNTIF(L7:L39,T14)","v":5},{"$f":"U14/(W4-U11)","v":0.15625},{"$f":"IF(V14=0,0,(V14*((LOG(V14))/LOG(2))))","v":-0.41844873517384967},null,{"$f":"N14","v":222},{"$f":"COUNTIF(L40:L72,Y14)","v":5},{"$f":"Z14/(AB4-Z11)","v":0.15151515151515152},{"$f":"IF(AA14=0,0,(AA14*((LOG(AA14))/LOG(2))))","v":-0.41249485219258958},null,{"$f":"N14","v":222},{"$f":"COUNTIF(L73:L106,AD14)","v":7},{"$f":"AE14/(AG4-AE11)","v":0.21212121212121213},{"$f":"IF(AF14=0,0,(AF14*((LOG(AF14))/LOG(2))))","v":-0.47452346609411955},null,{"$f":"N14","v":222},{"$f":"COUNTIF(L107:L139,AI14)","v":9},{"$f":"AJ14/(AL4-AJ11)","v":0.27272727272727271},{"$f":"IF(AK14=0,0,(AK14*((LOG(AK14))/LOG(2))))","v":-0.51121885034076575},null,{"$f":"N14","v":222},{"$f":"COUNTIF(L140:L172,AN14)","v":9},{"$f":"AO14/(AQ4-AO11)","v":0.27272727272727271},{"$f":"IF(AP14=0,0,(AP14*((LOG(AP14))/LOG(2))))","v":-0.51121885034076575},null,{"$f":"N14","v":222},{"$f":"COUNTIF(L173:L205,AS14)","v":9},{"$f":"AT14/(AV4-AT11)","v":0.28125},{"$f":"IF(AU14=0,0,(AU14*((LOG(AU14))/LOG(2))))","v":-0.5147085933443496}]
[12,1256,13,1259,13,1264,null,null,null,null,0,111,null,null,null,{"$f":"SUM(P7:P14)","v":0.99999999999999989},{"$f":"-SUM(Q7:Q14)","v":2.3482705555904313},null,null,null,null,{"$f":"SUM(V7:V14)","v":1},{"$f":"-SUM(W7:W14)","v":2.2801386737607068},null,null,null,{"$f":"SUM(AA7:AA14)","v":1},{"$f":"-SUM(AB7:AB14)","v":2.0563249139033166},null,null,null,{"$f":"SUM(AF7:AF14)","v":1},{"$f":"-SUM(AG7:AG14)","v":1.9606178044233642},null,null,null,{"$f":"SUM(AK7:AK14)","v":1},{"$f":"-SUM(AL7:AL14)","v":2.0883676035513417},null,null,null,{"$f":"SUM(AP7:AP14)","v":1},{"$f":"-SUM(AQ7:AQ14)","v":1.9703961073516629},null,null,null,{"$f":"SUM(AU7:AU14)","v":1},{"$f":"-SUM(AV7:AV14)","v":2.1717658292494404}]
[21,1372,22,1375,24,1380,null,null,null,null,0,222,null,null,null,"U=",{"$f":"Q15/(LOG(Q4)/LOG(2))","v":0.30779404771957408},null,null,null,null,"U1=",{"$f":"W15/(LOG(W4)/LOG(2))","v":0.45201437869622585},null,null,null,"U2=",{"$f":"AB15/(LOG(AB4)/LOG(2))","v":0.40764556956640818},null,null,null,"U3=",{"$f":"AG15/(LOG(AG4)/LOG(2))","v":0.38538223582218945},null,null,null,"U4=",{"$f":"AL15/(LOG(AL4)/LOG(2))","v":0.41399770797784935},null,null,null,"U5=",{"$f":"AQ15/(LOG(AQ4)/LOG(2))","v":0.39061105471319879},null,null,null,"U6=",{"$f":"AV15/(LOG(AV4)/LOG(2))","v":0.43435316584988809}]
[12,1484,24,1493,24,1498,null,null,null,null,0,122]
[12,1596,13,1605,24,1614,null,null,null,null,0,112]
[12,1712,24,1716,24,1719,null,null,null,null,0,122,null,"Total Target Seq"]
[12,1826,24,1834,24,1839,null,null,null,null,0,122,null,{"$f":"COUNTIF(L7:L205,G3)","v":2},null,33,33,34,33,33,33]
[21,1933,11,1936,11,1940,null,null,null,null,0,211,null,null,null,"% of reinforcement given in 6 equal intervals based on number of trials "]
[21,2052,11,2054,22,2059,null,null,null,null,0,212,null,null,null,"%_1","%_2","%_3","%_4","%_5","%_6"]
[12,2204,24,2210,24,2223,null,null,null,null,0,122,null,null,"target sequence",{"$f":"$G$3","v":211},{"$f":"$G$3","v":211},{"$f":"$G$3","v":211},{"$f":"$G$3","v":211},{"$f":"$G$3","v":211},{"$f":"$G$3","v":211}]
[12,2341,24,2352,13,2355,null,null,null,null,0,121,null,null,"total reinforcement",{"$f":"U11","v":1},{"$f":"Z11","v":0},{"$f":"AE11","v":1},{"$f":"AJ11","v":0},{"$f":"AO11","v":0},{"$f":"AT11","v":0}]
[12,2443,24,2449,24,2455,null,null,null,null,0,122,null,null,"% target"]
[21,2573,22,2580,24,2587,null,null,null,null,0,222,null,null,"CCRF"]
[12,2693,13,2708,24,2710,null,null,null,null,0,112,null,null,"% CCRf"]
[12,2814,13,2820,24,2825,null,null,null,null,0,112,null,null,"average response rate",{"$f":"F39/P20","v":123.36363636363636},{"$f":"(F72-F39)/Q20","v":113.21212121212122},{"$f":"(F106-F72)/R20","v":121.88235294117646},{"$f":"(F139-F106)/S20","v":118.60606060606061},{"$f":"(F172-F139)/T20","v":116.87878787878788},{"$f":"(F205-F172)/U20","v":-597.63636363636363}]
[21,2921,11,2924,22,2927,null,null,null,null,0,212]
[12,3030,24,3039,24,3045,null,null,null,null,0,122]
[12,3152,24,3164,24,3170,null,null,null,null,0,122]
[12,3269,24,3273,24,3279,null,null,null,null,0,122]
[12,3372,24,3377,24,3386,null,null,null,null,0,122]
[12,3480,13,3483,24,3494,null,null,null,null,0,112]
[21,3596,22,3600,24,3605,null,null,null,null,0,222]
[21,3708,11,3712,22,3722,null,null,null,null,0,212]
[21,3823,11,3827,22,3833,null,null,null,null,0,212]
[21,3936,22,3943,24,3950,null,null,null,null,0,222]
[12,4061,24,4066,24,4071,null,null,null,null,0,122]
[12,4165,24,4178,24,4181,null,null,null,null,0,122]
[12,4281,24,4284,24,4288,null,null,null,null,0,122]
[12,4380,13,4388,13,4396,null,null,null,null,0,111]
[12,4493,24,4496,24,4507,null,null,null,null,0,122]
[12,4597,24,4601,24,4609,null,null,null,null,0,122]
[21,4727,22,4734,24,4741,null,null,null,null,0,222]
[21,4846,22,4850,24,4857,null,null,null,null,0,222]
[12,4950,24,4957,24,4961,null,null,null,null,0,122]
[12,5055,24,5061,13,5063,null,null,null,null,0,121]
[12,5167,24,5170,24,5176,null,null,null,null,0,122]
[12,5274,13,5285,24,5290,null,null,null,null,0,112]
[12,5387,24,5390,24,5396,null,null,null,null,0,122]
[21,5502,11,5509,22,5514,null,null,null,null,0,212]
[21,5622,22,5628,24,5636,null,null,null,null,0,222]
[21,5805,11,5809,22,5815,null,null,null,null,0,212]
[12,5910,13,5919,24,5927,null,null,null,null,0,112]
[21,6023,22,6027,24,6033,null,null,null,null,0,222]
[12,6132,24,6143,24,6149,null,null,null,null,0,122]
[12,6243,24,6262,24,6264,null,null,null,null,0,122]
[12,6360,24,6362,24,6368,null,null,null,null,0,122]
[12,6471,13,6481,24,6495,null,null,null,null,0,112]
[12,6583,24,6594,24,6603,null,null,null,null,0,122]
[12,6704,24,6709,24,6715,null,null,null,null,0,122]
[12,6821,13,6825,24,6831,null,null,null,null,0,112]
[12,6923,24,6933,13,6936,null,null,null,null,0,121]
[12,7029,24,7033,24,7037,null,null,null,null,0,122]
[12,7132,24,7142,24,7150,null,null,null,null,0,122]
[21,7246,11,7249,22,7251,null,null,null,null,0,212]
[21,7357,22,7367,24,7373,null,null,null,null,0,222]
[12,7469,24,7476,24,7491,null,null,null,null,0,122]
[12,7588,24,7593,13,7595,null,null,null,null,0,121]
[12,7693,24,7696,24,7703,null,null,null,null,0,122]
[12,7798,24,7804,24,7807,null,null,null,null,0,122]
[12,7904,13,7908,24,7920,null,null,null,null,0,112]
[12,8012,24,8031,24,8038,null,null,null,null,0,122]
[21,8131,22,8136,24,8144,null,null,null,null,0,222]
[21,8260,22,8266,13,8268,null,null,null,null,0,221]
[12,8450,24,8456,24,8459,null,null,null,null,0,122]
[12,8558,24,8562,24,8572,null,null,null,null,0,122]
[12,8679,24,8691,24,8696,null,null,null,null,0,122]
[12,8790,24,8793,24,8797,null,null,null,null,0,122]
[12,8898,24,8901,24,8907,null,null,null,null,0,122]
[21,9018,11,9031,22,9052,null,null,null,null,0,212]
[21,9241,11,9244,11,9247,null,null,null,null,0,211]
[21,9371,11,9377,22,9390,null,null,null,null,0,212]
[21,9522,22,9526,24,9531,null,null,null,null,0,222]
[21,9634,22,9642,24,9654,null,null,null,null,0,222]
[21,9783,11,9790,22,9800,null,null,null,null,0,212]
[12,9896,24,9900,24,9910,null,null,null,null,0,122]
[21,10007,22,10011,24,10016,null,null,null,null,0,222]
[12,10109,24,10114,24,10120,null,null,null,null,0,122]
[12,10212,24,10214,24,10219,null,null,null,null,0,122]
[21,10315,22,10318,13,10323,null,null,null,null,0,221]
[21,10451,11,10458,22,10465,null,null,null,null,0,212]
[21,10571,22,10577,24,10582,null,null,null,null,0,222]
[12,10684,24,10688,24,10695,null,null,null,null,0,122]
[21,10790,22,10792,13,10797,null,null,null,null,0,221]
[21,10892,22,10896,13,10901,null,null,null,null,0,221]
[12,10998,24,11002,24,11008,null,null,null,null,0,122]
[21,11108,22,11113,13,11116,null,null,null,null,0,221]
[12,11248,24,11261,24,11266,null,null,null,null,0,122]
[12,11382,24,11392,24,11397,null,null,null,null,0,122]
[12,11497,24,11501,24,11505,null,null,null,null,0,122]
[21,11598,22,11603,13,11608,null,null,null,null,0,221]
[12,11710,24,11722,24,11729,null,null,null,null,0,122]
[21,11828,22,11833,24,11840,null,null,null,null,0,222]
[21,11941,22,11946,24,11951,null,null,null,null,0,222]
[21,12049,22,12058,24,12063,null,null,null,null,0,222]
[12,12160,24,12161,13,12166,null,null,null,null,0,121]
[21,12258,22,12263,13,12268,null,null,null,null,0,221]
[21,12492,11,12495,22,12501,null,null,null,null,0,212]
[21,12602,22,12607,24,12616,null,null,null,null,0,222]
[21,12711,11,12718,22,12725,null,null,null,null,0,212]
[21,12820,22,12828,24,12835,null,null,null,null,0,222]
[12,12934,24,12938,24,12943,null,null,null,null,0,122]
[21,13044,11,13046,22,13050,null,null,null,null,0,212]
[21,13218,22,13223,24,13227,null,null,null,null,0,222]
[12,13322,24,13327,24,13333,null,null,null,null,0,122]
[21,13440,11,13446,22,13454,null,null,null,null,0,212]
[21,13566,22,13571,24,13579,null,null,null,null,0,222]
[12,13682,24,13686,24,13692,null,null,null,null,0,122]
[12,13785,13,13787,24,13792,null,null,null,null,0,112]
[21,13888,11,13890,22,13897,null,null,null,null,0,212]
[21,14001,11,14005,22,14012,null,null,null,null,0,212]
[21,14123,22,14132,24,14139,null,null,null,null,0,222]
[12,14230,24,14234,24,14238,null,null,null,null,0,122]
[12,14338,24,14341,24,14350,null,null,null,null,0,122]
[12,14480,24,14491,24,14499,null,null,null,null,0,122]
[12,14600,24,14605,24,14612,null,null,null,null,0,122]
[12,14709,24,14713,24,14719,null,null,null,null,0,122]
[12,14812,24,14823,24,14826,null,null,null,null,0,122]
[21,14926,22,14929,24,14935,null,null,null,null,0,222]
[12,15035,24,15037,24,15046,null,null,null,null,0,122]
[21,15134,22,15145,24,15155,null,null,null,null,0,222]
[21,15305,11,15310,22,15317,null,null,null,null,0,212]
[21,15416,22,15418,24,15424,null,null,null,null,0,222]
[21,15520,11,15523,22,15528,null,null,null,null,0,212]
[12,15621,24,15639,13,15644,null,null,null,null,0,121]
[12,15742,24,15747,24,15753,null,null,null,null,0,122]
[12,15850,24,15857,24,15865,null,null,null,null,0,122]
[12,15965,24,15967,24,15973,null,null,null,null,0,122]
[21,16079,11,16083,22,16090,null,null,null,null,0,212]
[21,16194,22,16201,24,16207,null,null,null,null,0,222]
[12,16347,24,16351,24,16356,null,null,null,null,0,122]
[12,16453,24,16458,24,16464,null,null,null,null,0,122]
[21,16561,22,16567,24,16574,null,null,null,null,0,222]
[21,16676,22,16679,24,16685,null,null,null,null,0,222]
[21,16814,11,16818,22,16820,null,null,null,null,0,212]
[21,16964,22,16967,13,16972,null,null,null,null,0,221]
[21,17089,22,17091,24,17096,null,null,null,null,0,222]
[12,17190,24,17195,24,17204,null,null,null,null,0,122]
[21,17302,22,17308,24,17324,null,null,null,null,0,222]
[21,17422,22,17426,24,17431,null,null,null,null,0,222]
[12,17524,24,17531,24,17536,null,null,null,null,0,122]
[12,17634,24,17636,24,17641,null,null,null,null,0,122]
[12,17735,24,17741,24,17748,null,null,null,null,0,122]
[12,17841,24,17850,24,17854,null,null,null,null,0,122]
[21,17946,22,17952,13,17956,null,null,null,null,0,221]
[21,18066,22,18072,24,18078,null,null,null,null,0,222]
[12,18217,24,18228,24,18232,null,null,null,null,0,122]
[12,18326,24,18329,24,18332,null,null,null,null,0,122]
[21,18434,22,18438,13,18440,null,null,null,null,0,221]
[12,18534,24,18536,24,18541,null,null,null,null,0,122]
[21,18638,11,18645,22,18648,null,null,null,null,0,212]
[12,18747,24,18757,24,18764,null,null,null,null,0,122]
[21,18860,22,18864,24,18871,null,null,null,null,0,222]
[21,18967,22,18971,24,18979,null,null,null,null,0,222]
[12,19074,24,19079,13,19084,null,null,null,null,0,121]
[12,19184,24,19187,24,19192,null,null,null,null,0,122]
[21,19294,22,19299,13,19301,null,null,null,null,0,221]
[21,19417,22,19424,13,19428,null,null,null,null,0,221]
[12,19597,24,19609,24,19615,null,null,null,null,0,122]
[21,19712,11,19715,22,19722,null,null,null,null,0,212]
[21,19825,22,19830,24,19836,null,null,null,null,0,222]
[12,19928,24,19932,24,19936,null,null,null,null,0,122]
[21,20038,22,20044,24,20050,null,null,null,null,0,222]
[12,20144,24,20148,24,20154,null,null,null,null,0,122]
[12,20252,24,20256,24,20261,null,null,null,null,0,122]
[12,20356,24,20361,24,20366,null,null,null,null,0,122]
[21,20477,22,20483,24,20496,null,null,null,null,0,222]
[21,20636,11,20641,22,20646,null,null,null,null,0,212]
[21,20743,11,20750,22,20753,null,null,null,null,0,212]
[12,20854,13,20859,24,20866,null,null,null,null,0,112]
[21,20966,11,20968,22,20972,null,null,null,null,0,212]
[21,21071,22,21078,13,21083,null,null,null,null,0,221]
[21,21180,22,21184,24,21191,null,null,null,null,0,222]
[12,21284,24,21295,24,21299,null,null,null,null,0,122]
[12,21392,24,21397,13,21399,null,null,null,null,0,121]
[12,21497,13,21500,24,21506,null,null,null,null,0,112]
[12,21634,24,21643,24,21649,null,null,null,null,0,122]
[12,21762,24,21774,24,21780,null,null,null,null,0,122]
[12,21876,24,21880,24,21885,null,null,null,null,0,122]
[21,22012,11,22017,22,22020,null,null,null,null,0,212]
[12,22255,24,22267,24,22274,null,null,null,null,0,122]
[21,22474,22,22483,24,22490,null,null,null,null,0,222]
[21,22590,11,22595,22,22601,null,null,null,null,0,212]
[21,22711,22,22719,24,22725,null,null,null,null,0,222]
[21,22846,11,22853,22,22855,null,null,null,null,0,212]
[21,23052,22,23059,24,23066,null,null,null,null,0,222]
[12,23163,24,23166,24,23170,null,null,null,null,0,122]
[21,23266,22,23270,24,23275,null,null,null,null,0,222]
[21,23408,11,23413,22,23419,null,null,null,null,0,212]
[12,23588,13,23593,24,23602,null,null,null,null,0,112]
[21,23707,11,23712,22,23716,null,null,null,null,0,212]
[21,23813,22,23818,24,23825,null,null,null,null,0,222]
[21,23936,22,23958,null,null,null,null,null,null,null,22]

{"sheet":"!N205920.Gus","index":11,"n_rows":181,"n_cols":48,"rows_kept":181,"cut":false,"hidden":false,"merged":[[4,39,4,42],[5,39,5,40],[4,44,4,47],[5,44,5,45],[4,24,4,27],[5,24,5,25],[4,29,4,32],[5,29,5,30],[4,34,4,37],[5,34,5,35],[1,1,1,2],[5,13,5,14],[18,13,18,14],[19,13,19,14],[4,19,4,22],[5,19,5,20]]}
["Report for:!N205920.Gus"]
["Date:","<date>"]
["Hen:","<hen>",null,null,null,"Correct Sequence",{"$f":"Start!J2","v":211},null,null,null,null,null,null,null,null,"Total Sequences in Data",{"$f":"4994-COUNTBLANK(L7:L5000)","v":175},null,null,null,null,"Total Sequences in Block Data",{"$f":"COUNTA(L7:L35)","v":29},null,null,null,"Total Sequences in Block Data",{"$f":"COUNTA(L36:L64)","v":29},null,null,null,"Total Sequences in Block Data",{"$f":"COUNTA(L65:L94)","v":30},null,null,null,"Total Sequences in Block Data",{"$f":"COUNTA(L95:L123)","v":29},null,null,null,"Total Sequences in Block Data",{"$f":"COUNTA(L124:L152)","v":29},null,null,null,"Total Sequences in Block Data",{"$f":"COUNTA(L153:L181)","v":29}]
[null,null,null,null,null,null,null,null,null,null,null,null,null,null,null,"Total Sequences in Summary",{"$f":"SUM(O7:O14)","v":174},null,null,null,null,"Total Sequences in Block Summary",{"$f":"SUM(U7:U14)","v":29},null,null,null,"Total Sequences in Block Summary",{"$f":"SUM(Z7:Z14)","v":29},null,null,null,"Total Sequences in Block Summary",{"$f":"SUM(AE7:AE14)","v":30},null,null,null,"Total Sequences in Block Summary",{"$f":"SUM(AJ7:AJ14)","v":29},null,null,null,"Total Sequences in Block Summary",{"$f":"SUM(AO7:AO14)","v":29},null,null,null,"Total Sequences in Block Summary",{"$f":"SUM(AT7:AT14)","v":28}]
[null,null,null,null,null,null,null,null,null,null,null,null,null,null,null,null,null,null,null,"Block 1",null,null,null,null,"Block 2",null,null,null,null,"Block 3",null,null,null,null,"Block 4",null,null,null,null,"Block 5",null,null,null,null,"Block 6"]
["Sequence\nComponent\n1","Time\n1","Sequence\nComponent\n2","Time\n2","Sequence\nComponent\n3","Time\n3","Sequence\nComponent\n4","Time\n4","Sequence\nComponent\n5","Time\n5","Correct?\n0=No 1=Yes","Sequence",null,"Frequency",null,"Relative Frequency","Variability",null,null,"Frequency",null,"Relative Frequency","Variability",null,"Frequency",null,"Relative Frequency","Variability",null,"Frequency",null,"Relative Frequency","Variability",null,"Frequency",null,"Relative Frequency","Variability",null,"Frequency",null,"Relative Frequency","Variability",null,"Frequency",null,"Relative Frequency","Variability"]
[21,51,22,57,24,64,null,null,null,null,0,222,null,111,{"$f":"COUNTIF($L$7:$L$500,N7)","v":0},{"$f":"O7/$Q$4","v":0},{"$f":"IF(P7=0,0,(P7*((LOG(P7))/LOG(2))))","v":0},null,null,{"$f":"N7","v":111},{"$f":"COUNTIF(L7:L35,T7)","v":0},{"$f":"U7/(W4-U11)","v":0},{"$f":"IF(V7=0,0,(V7*((LOG(V7))/LOG(2))))","v":0},null,{"$f":"N7","v":111},{"$f":"COUNTIF(L36:L64,Y7)","v":0},{"$f":"Z7/(AB4-Z11)","v":0},{"$f":"IF(AA7=0,0,(AA7*((LOG(AA7))/LOG(2))))","v":0},null,{"$f":"N7","v":111},{"$f":"COUNTIF(L65:L94,AD7)","v":0},{"$f":"AE7/(AG4-AE11)","v":0},{"$f":"IF(AF7=0,0,(AF7*((LOG(AF7))/LOG(2))))","v":0},null,{"$f":"N7","v":111},{"$f":"COUNTIF(L95:L123,AI7)","v":0},{"$f":"AJ7/(AL4-AJ11)","v":0},{"$f":"IF(AK7=0,0,(AK7*((LOG(AK7))/LOG(2))))","v":0},null,{"$f":"N7","v":111},{"$f":"COUNTIF(L124:L152,AN7)","v":0},{"$f":"AO7/(AQ4-AO11)","v":0},{"$f":"IF(AP7=0,0,(AP7*((LOG(AP7))/LOG(2))))","v":0},null,{"$f":"N7","v":111},{"$f":"COUNTIF(L153:L181,AS7)","v":0},{"$f":"AT7/(AV4-AT11)","v":0},{"$f":"IF(AU7=0,0,(AU7*((LOG(AU7))/LOG(2))))","v":0}]
[12,166,24,181,24,188,null,null,null,null,0,122,null,112,{"$f":"COUNTIF($L$7:$L$500,N8)","v":8},{"$f":"O8/$Q$4","v":4.5977011494252873E-2},{"$f":"IF(P8=0,0,(P8*((LOG(P8))/LOG(2))))","v":-0.20427326417695305},null,null,{"$f":"N8","v":112},{"$f":"COUNTIF(L7:L35,T8)","v":2},{"$f":"U8/(W4-U11)","v":6.8965517241379309E-2},{"$f":"IF(V8=0,0,(V8*((LOG(V8))/LOG(2))))","v":-0.26606765483638428},null,{"$f":"N8","v":112},{"$f":"COUNTIF(L36:L64,Y8)","v":1},{"$f":"Z8/(AB4-Z11)","v":3.4482758620689655E-2},{"$f":"IF(AA8=0,0,(AA8*((LOG(AA8))/LOG(2))))","v":-0.16751658603888178},null,{"$f":"N8","v":112},{"$f":"COUNTIF(L65:L94,AD8)","v":1},{"$f":"AE8/(AG4-AE11)","v":3.3333333333333333E-2},{"$f":"IF(AF8=0,0,(AF8*((LOG(AF8))/LOG(2))))","v":-0.16356301985361729},null,{"$f":"N8","v":112},{"$f":"COUNTIF(L95:L123,AI8)","v":1},{"$f":"AJ8/(AL4-AJ11)","v":3.5714285714285712E-2},{"$f":"IF(AK8=0,0,(AK8*((LOG(AK8))/LOG(2))))","v":-0.17169124721634299},null,{"$f":"N8","v":112},{"$f":"COUNTIF(L124:L152,AN8)","v":2},{"$f":"AO8/(AQ4-AO11)","v":6.8965517241379309E-2},{"$f":"IF(AP8=0,0,(AP8*((LOG(AP8))/LOG(2))))","v":-0.26606765483638428},null,{"$f":"N8","v":112},{"$f":"COUNTIF(L153:L181,AS8)","v":1},{"$f":"AT8/(AV4-AT11)","v":3.5714285714285712E-2},{"$f":"IF(AU8=0,0,(AU8*((LOG(AU8))/LOG(2))))","v":-0.17169124721634299}]
[12,305,24,311,24,313,null,null,null,null,0,122,null,121,{"$f":"COUNTIF($L$7:$L$500,N9)","v":8},{"$f":"O9/$Q$4","v":4.5977011494252873E-2},{"$f":"IF(P9=0,0,(P9*((LOG(P9))/LOG(2))))","v":-0.20427326417695305},null,null,{"$f":"N9","v":121},{"$f":"COUNTIF(L7:L35,T9)","v":2},{"$f":"U9/(W4-U11)","v":6.8965517241379309E-2},{"$f":"IF(V9=0,0,(V9*((LOG(V9))/LOG(2))))","v":-0.26606765483638428},null,{"$f":"N9","v":121},{"$f":"COUNTIF(L36:L64,Y9)","v":4},{"$f":"Z9/(AB4-Z11)","v":0.13793103448275862},{"$f":"IF(AA9=0,0,(AA9*((LOG(AA9))/LOG(2))))","v":-0.39420427519000989},null,{"$f":"N9","v":121},{"$f":"COUNTIF(L65:L94,AD9)","v":1},{"$f":"AE9/(AG4-AE11)","v":3.3333333333333333E-2},{"$f":"IF(AF9=0,0,(AF9*((LOG(AF9))/LOG(2))))","v":-0.16356301985361729},null,{"$f":"N9","v":121},{"$f":"COUNTIF(L95:L123,AI9)","v":1},{"$f":"AJ9/(AL4-AJ11)","v":3.5714285714285712E-2},{"$f":"IF(AK9=0,0,(AK9*((LOG(AK9))/LOG(2))))","v":-0.17169124721634299},null,{"$f":"N9","v":121},{"$f":"COUNTIF(L124:L152,AN9)","v":0},{"$f":"AO9/(AQ4-AO11)","v":0},{"$f":"IF(AP9=0,0,(AP9*((LOG(AP9))/LOG(2))))","v":0},null,{"$f":"N9","v":121},{"$f":"COUNTIF(L153:L181,AS9)","v":0},{"$f":"AT9/(AV4-AT11)","v":0},{"$f":"IF(AU9=0,0,(AU9*((LOG(AU9))/LOG(2))))","v":0}]
[12,411,13,420,24,425,null,null,null,null,0,112,null,122,{"$f":"COUNTIF($L$7:$L$500,N10)","v":44},{"$f":"O10/$Q$4","v":0.25287356321839083},{"$f":"IF(P10=0,0,(P10*((LOG(P10))/LOG(2))))","v":-0.50157771607645385},null,null,{"$f":"N10","v":122},{"$f":"COUNTIF(L7:L35,T10)","v":12},{"$f":"U10/(W4-U11)","v":0.41379310344827586},{"$f":"IF(V10=0,0,(V10*((LOG(V10))/LOG(2))))","v":-0.5267662735474824},null,{"$f":"N10","v":122},{"$f":"COUNTIF(L36:L64,Y10)","v":6},{"$f":"Z10/(AB4-Z11)","v":0.20689655172413793},{"$f":"IF(AA10=0,0,(AA10*((LOG(AA10))/LOG(2))))","v":-0.4702796884978791},null,{"$f":"N10","v":122},{"$f":"COUNTIF(L65:L94,AD10)","v":9},{"$f":"AE10/(AG4-AE11)","v":0.3},{"$f":"IF(AF10=0,0,(AF10*((LOG(AF10))/LOG(2))))","v":-0.52108967824986185},null,{"$f":"N10","v":122},{"$f":"COUNTIF(L95:L123,AI10)","v":4},{"$f":"AJ10/(AL4-AJ11)","v":0.14285714285714285},{"$f":"IF(AK10=0,0,(AK10*((LOG(AK10))/LOG(2))))","v":-0.40105070315108626},null,{"$f":"N10","v":122},{"$f":"COUNTIF(L124:L152,AN10)","v":7},{"$f":"AO10/(AQ4-AO11)","v":0.2413793103448276},{"$f":"IF(AP10=0,0,(AP10*((LOG(AP10))/LOG(2))))","v":-0.49497870729275095},null,{"$f":"N10","v":122},{"$f":"COUNTIF(L153:L181,AS10)","v":6},{"$f":"AT10/(AV4-AT11)","v":0.21428571428571427},{"$f":"IF(AU10=0,0,(AU10*((LOG(AU10))/LOG(2))))","v":-0.47622694742923877}]
[12,523,24,529,24,538,null,null,null,null,0,122,null,211,{"$f":"COUNTIF($L$7:$L$500,N11)","v":1},{"$f":"O11/$Q$4","v":5.7471264367816091E-3},{"$f":"IF(P11=0,0,(P11*((LOG(P11))/LOG(2))))","v":-4.2775537332463962E-2},null,null,{"$f":"N11","v":211},{"$f":"COUNTIF(L7:L35,T11)","v":0},null,null,null,{"$f":"N11","v":211},{"$f":"COUNTIF(L36:L64,Y11)","v":0},null,null,null,{"$f":"N11","v":211},{"$f":"COUNTIF(L65:L94,AD11)","v":0},null,null,null,{"$f":"N11","v":211},{"$f":"COUNTIF(L95:L123,AI11)","v":1},null,null,null,{"$f":"N11","v":211},{"$f":"COUNTIF(L124:L152,AN11)","v":0},null,null,null,{"$f":"N11","v":211},{"$f":"COUNTIF(L153:L181,AS11)","v":0}]
[12,914,24,923,24,934,null,null,null,null,0,122,null,212,{"$f":"COUNTIF($L$7:$L$500,N12)","v":45},{"$f":"O12/$Q$4","v":0.25862068965517243},{"$f":"IF(P12=0,0,(P12*((LOG(P12))/LOG(2))))","v":-0.50459234470320347},null,null,{"$f":"N12","v":212},{"$f":"COUNTIF(L7:L35,T12)","v":3},{"$f":"U12/(W4-U11)","v":0.10344827586206896},{"$f":"IF(V12=0,0,(V12*((LOG(V12))/LOG(2))))","v":-0.33858812011100858},null,{"$f":"N12","v":212},{"$f":"COUNTIF(L36:L64,Y12)","v":6},{"$f":"Z12/(AB4-Z11)","v":0.20689655172413793},{"$f":"IF(AA12=0,0,(AA12*((LOG(AA12))/LOG(2))))","v":-0.4702796884978791},null,{"$f":"N12","v":212},{"$f":"COUNTIF(L65:L94,AD12)","v":8},{"$f":"AE12/(AG4-AE11)","v":0.26666666666666666},{"$f":"IF(AF12=0,0,(AF12*((LOG(AF12))/LOG(2))))","v":-0.50850415882893829},null,{"$f":"N12","v":212},{"$f":"COUNTIF(L95:L123,AI12)","v":10},{"$f":"AJ12/(AL4-AJ11)","v":0.35714285714285715},{"$f":"IF(AK12=0,0,(AK12*((LOG(AK12))/LOG(2))))","v":-0.53050958113222924},null,{"$f":"N12","v":212},{"$f":"COUNTIF(L124:L152,AN12)","v":7},{"$f":"AO12/(AQ4-AO11)","v":0.2413793103448276},{"$f":"IF(AP12=0,0,(AP12*((LOG(AP12))/LOG(2))))","v":-0.49497870729275095},null,{"$f":"N12","v":212},{"$f":"COUNTIF(L153:L181,AS12)","v":11},{"$f":"AT12/(AV4-AT11)","v":0.39285714285714285},{"$f":"IF(AU12=0,0,(AU12*((LOG(AU12))/LOG(2))))","v":-0.52954129777226344}]
[21,1110,11,1113,22,1115,null,null,null,null,0,212,null,221,{"$f":"COUNTIF($L$7:$L$500,N13)","v":20},{"$f":"O13/$Q$4","v":0.11494252873563218},{"$f":"IF(P13=0,0,(P13*((LOG(P13))/LOG(2))))","v":-0.35873740240935242},null,null,{"$f":"N13","v":221},{"$f":"COUNTIF(L7:L35,T13)","v":3},{"$f":"U13/(W4-U11)","v":0.10344827586206896},{"$f":"IF(V13=0,0,(V13*((LOG(V13))/LOG(2))))","v":-0.33858812011100858},null,{"$f":"N13","v":221},{"$f":"COUNTIF(L36:L64,Y13)","v":4},{"$f":"Z13/(AB4-Z11)","v":0.13793103448275862},{"$f":"IF(AA13=0,0,(AA13*((LOG(AA13))/LOG(2))))","v":-0.39420427519000989},null,{"$f":"N13","v":221},{"$f":"COUNTIF(L65:L94,AD13)","v":3},{"$f":"AE13/(AG4-AE11)","v":0.1},{"$f":"IF(AF13=0,0,(AF13*((LOG(AF13))/LOG(2))))","v":-0.33219280948873625},null,{"$f":"N13","v":221},{"$f":"COUNTIF(L95:L123,AI13)","v":6},{"$f":"AJ13/(AL4-AJ11)","v":0.21428571428571427},{"$f":"IF(AK13=0,0,(AK13*((LOG(AK13))/LOG(2))))","v":-0.47622694742923877},null,{"$f":"N13","v":221},{"$f":"COUNTIF(L124:L152,AN13)","v":3},{"$f":"AO13/(AQ4-AO11)","v":0.10344827586206896},{"$f":"IF(AP13=0,0,(AP13*((LOG(AP13))/LOG(2))))","v":-0.33858812011100858},null,{"$f":"N13","v":221},{"$f":"COUNTIF(L153:L181,AS13)","v":1},{"$f":"AT13/(AV4-AT11)","v":3.5714285714285712E-2},{"$f":"IF(AU13=0,0,(AU13*((LOG(AU13))/LOG(2))))","v":-0.17169124721634299}]
[12,1209,24,1221,13,1224,null,null,null,null,0,121,null,222,{"$f":"COUNTIF($L$7:$L$500,N14)","v":48},{"$f":"O14/$Q$4","v":0.27586206896551724},{"$f":"IF(P14=0,0,(P14*((LOG(P14))/LOG(2))))","v":-0.51254648141450265},null,null,{"$f":"N14","v":222},{"$f":"COUNTIF(L7:L35,T14)","v":7},{"$f":"U14/(W4-U11)","v":0.2413793103448276},{"$f":"IF(V14=0,0,(V14*((LOG(V14))/LOG(2))))","v":-0.49497870729275095},null,{"$f":"N14","v":222},{"$f":"COUNTIF(L36:L64,Y14)","v":8},{"$f":"Z14/(AB4-Z11)","v":0.27586206896551724},{"$f":"IF(AA14=0,0,(AA14*((LOG(AA14))/LOG(2))))","v":-0.51254648141450265},null,{"$f":"N14","v":222},{"$f":"COUNTIF(L65:L94,AD14)","v":8},{"$f":"AE14/(AG4-AE11)","v":0.26666666666666666},{"$f":"IF(AF14=0,0,(AF14*((LOG(AF14))/LOG(2))))","v":-0.50850415882893829},null,{"$f":"N14","v":222},{"$f":"COUNTIF(L95:L123,AI14)","v":6},{"$f":"AJ14/(AL4-AJ11)","v":0.21428571428571427},{"$f":"IF(AK14=0,0,(AK14*((LOG(AK14))/LOG(2))))","v":-0.47622694742923877},null,{"$f":"N14","v":222},{"$f":"COUNTIF(L124:L152,AN14)","v":10},{"$f":"AO14/(AQ4-AO11)","v":0.34482758620689657},{"$f":"IF(AP14=0,0,(AP14*((LOG(AP14))/LOG(2))))","v":-0.52967341387593436},null,{"$f":"N14","v":222},{"$f":"COUNTIF(L153:L181,AS14)","v":9},{"$f":"AT14/(AV4-AT11)","v":0.32142857142857145},{"$f":"IF(AU14=0,0,(AU14*((LOG(AU14))/LOG(2))))","v":-0.5263167601977724}]
[21,1321,11,1327,22,1334,null,null,null,null,0,212,null,null,null,{"$f":"SUM(P7:P14)","v":1},{"$f":"-SUM(Q7:Q14)","v":2.3287760102898822},null,null,null,null,{"$f":"SUM(V7:V14)","v":1},{"$f":"-SUM(W7:W14)","v":2.2310565307350192},null,null,null,{"$f":"SUM(AA7:AA14)","v":0.99999999999999989},{"$f":"-SUM(AB7:AB14)","v":2.4090309948291626},null,null,null,{"$f":"SUM(AF7:AF14)","v":1},{"$f":"-SUM(AG7:AG14)","v":2.1974168451037093},null,null,null,{"$f":"SUM(AK7:AK14)","v":1},{"$f":"-SUM(AL7:AL14)","v":2.227396673574479},null,null,null,{"$f":"SUM(AP7:AP14)","v":1},{"$f":"-SUM(AQ7:AQ14)","v":2.1242866034088292},null,null,null,{"$f":"SUM(AU7:AU14)","v":1},{"$f":"-SUM(AV7:AV14)","v":1.8754674998319607}]
[21,1507,22,1520,24,1527,null,null,null,null,0,222,null,null,null,"U=",{"$f":"Q15/(LOG(Q4)/LOG(2))","v":0.31288374170632188},null,null,null,null,"U1=",{"$f":"W15/(LOG(W4)/LOG(2))","v":0.45925591989196968},null,null,null,"U2=",{"$f":"AB15/(LOG(AB4)/LOG(2))","v":0.49589139958459238},null,null,null,"U3=",{"$f":"AG15/(LOG(AG4)/LOG(2))","v":0.44782266942538196},null,null,null,"U4=",{"$f":"AL15/(LOG(AL4)/LOG(2))","v":0.45850254988821482},null,null,null,"U5=",{"$f":"AQ15/(LOG(AQ4)/LOG(2))","v":0.43727766854984268},null,null,null,"U6=",{"$f":"AV15/(LOG(AV4)/LOG(2))","v":0.39012461743291438}]
[21,1634,22,1637,13,1643,null,null,null,null,0,221]
[21,1748,22,1750,24,1754,null,null,null,null,0,222]
[12,1848,24,1863,13,1866,null,null,null,null,0,121,null,"Total Target Seq"]
[21,1960,22,1964,24,1969,null,null,null,null,0,222,null,{"$f":"COUNTIF(L7:L181,G3)","v":1},null,29,29,30,29,29,29]
[12,2102,24,2106,24,2108,null,null,null,null,0,122,null,null,null,"% of reinforcement given in 6 equal intervals based on number of trials "]
[21,2212,22,2216,24,2223,null,null,null,null,0,222,null,null,null,"%_1","%_2","%_3","%_4","%_5","%_6"]
[21,2329,22,2333,13,2336,null,null,null,null,0,221,null,null,"target sequence",{"$f":"$G$3","v":211},{"$f":"$G$3","v":211},{"$f":"$G$3","v":211},{"$f":"$G$3","v":211},{"$f":"$G$3","v":211},{"$f":"$G$3","v":211}]
[12,2434,13,2444,24,2451,null,null,null,null,0,112,null,null,"total reinforcement",{"$f":"U11","v":0},{"$f":"Z11","v":0},{"$f":"AE11","v":0},{"$f":"AJ11","v":1},{"$f":"AO11","v":0},{"$f":"AT11","v":0}]
[12,2545,24,2554,24,2562,null,null,null,null,0,122,null,null,"% target"]
[21,2664,22,2668,13,2673,null,null,null,null,0,221,null,null,"CCRF"]
[12,2768,24,2772,24,2778,null,null,null,null,0,122,null,null,"% CCRf"]
[12,2873,24,2878,24,2880,null,null,null,null,0,122,null,null,"average response rate",{"$f":"F35/P20","v":137.79310344827587},{"$f":"(F64-F35)/Q20","v":118.58620689655173},{"$f":"(F94-F64)/R20","v":145.93333333333334},{"$f":"(F123-F94)/S20","v":145.58620689655172},{"$f":"(F152-F123)/T20","v":133.82758620689654},{"$f":"(F181-F152)/U20","v":-686.75862068965512}]
[12,2990,24,3003,24,3016,null,null,null,null,0,122]
[12,3332,24,3353,24,3361,null,null,null,null,0,122]
[21,3516,22,3520,24,3529,null,null,null,null,0,222]
[21,3662,11,3667,22,3669,null,null,null,null,0,212]
[12,3763,24,3770,24,3776,null,null,null,null,0,122]
[12,3871,24,3883,24,3888,null,null,null,null,0,122]
[21,3984,22,3989,24,3996,null,null,null,null,0,222]
[21,4119,22,4128,24,4135,null,null,null,null,0,222]
[12,4229,24,4237,13,4244,null,null,null,null,0,121]
[21,4342,22,4350,13,4353,null,null,null,null,0,221]
[21,4453,11,4459,22,4463,null,null,null,null,0,212]
[21,4566,22,4570,24,4576,null,null,null,null,0,222]
[21,4677,22,4680,24,4685,null,null,null,null,0,222]
[21,4789,11,4794,22,4797,null,null,null,null,0,212]
[12,4890,13,4898,24,4904,null,null,null,null,0,112]
[12,5019,24,5028,24,5033,null,null,null,null,0,122]
[21,5153,22,5159,24,5165,null,null,null,null,0,222]
[21,5288,11,5290,22,5294,null,null,null,null,0,212]
[21,5394,22,5398,13,5401,null,null,null,null,0,221]
[21,5516,22,5521,24,5529,null,null,null,null,0,222]
[21,5626,22,5630,13,5633,null,null,null,null,0,221]
[12,5725,24,5738,24,5744,null,null,null,null,0,122]
[12,5838,24,5845,24,5850,null,null,null,null,0,122]
[21,5947,22,5956,24,5963,null,null,null,null,0,222]
[12,6062,24,6067,24,6072,null,null,null,null,0,122]
[12,6175,24,6182,24,6186,null,null,null,null,0,122]
[12,6290,24,6294,24,6298,null,null,null,null,0,122]
[12,6397,24,6402,13,6406,null,null,null,null,0,121]
[21,6525,11,6533,22,6541,null,null,null,null,0,212]
[21,6781,11,6784,22,6788,null,null,null,null,0,212]
[21,6888,22,6892,24,6898,null,null,null,null,0,222]
[21,6996,22,7000,13,7004,null,null,null,null,0,221]
[12,7099,24,7101,13,7111,null,null,null,null,0,121]
[21,7208,11,7211,22,7216,null,null,null,null,0,212]
[12,7309,24,7316,13,7321,null,null,null,null,0,121]
[21,7421,22,7428,24,7435,null,null,null,null,0,222]
[21,7534,22,7537,24,7543,null,null,null,null,0,222]
[21,7645,22,7649,24,7657,null,null,null,null,0,222]
[12,7750,24,7754,24,7762,null,null,null,null,0,122]
[12,7856,24,7859,24,7863,null,null,null,null,0,122]
[21,7959,22,7963,13,7965,null,null,null,null,0,221]
[21,8465,11,8467,22,8484,null,null,null,null,0,212]
[21,8623,11,8628,22,8635,null,null,null,null,0,212]
[21,8836,11,8839,22,8849,null,null,null,null,0,212]
[12,8955,24,8960,24,8964,null,null,null,null,0,122]
[21,9072,22,9077,24,9084,null,null,null,null,0,222]
[12,9176,24,9183,24,9184,null,null,null,null,0,122]
[21,9301,22,9306,13,9310,null,null,null,null,0,221]
[21,9431,11,9437,22,9440,null,null,null,null,0,212]
[21,9760,11,9761,22,9773,null,null,null,null,0,212]
[21,9923,22,9927,24,9933,null,null,null,null,0,222]
[21,10037,22,10042,24,10050,null,null,null,null,0,222]
[12,10149,13,10153,24,10160,null,null,null,null,0,112]
[21,10279,11,10285,22,10291,null,null,null,null,0,212]
[12,10385,24,10390,24,10394,null,null,null,null,0,122]
[12,10490,24,10497,24,10502,null,null,null,null,0,122]
[12,10603,24,10614,24,10622,null,null,null,null,0,122]
[12,10714,24,10717,13,10720,null,null,null,null,0,121]
[21,10826,22,10831,24,10837,null,null,null,null,0,222]
[21,10945,22,10955,24,10963,null,null,null,null,0,222]
[12,11059,24,11064,24,11071,null,null,null,null,0,122]
[12,11160,24,11169,24,11176,null,null,null,null,0,122]
[21,11332,11,11336,22,11343,null,null,null,null,0,212]
[21,11449,22,11456,24,11464,null,null,null,null,0,222]
[21,11579,22,11591,13,11597,null,null,null,null,0,221]
[21,11803,11,11808,22,11813,null,null,null,null,0,212]
[21,11910,11,11914,22,11920,null,null,null,null,0,212]
[21,12082,11,12093,22,12096,null,null,null,null,0,212]
[21,12199,11,12201,22,12204,null,null,null,null,0,212]
[21,12308,11,12313,22,12318,null,null,null,null,0,212]
[21,12419,11,12425,22,12427,null,null,null,null,0,212]
[21,12618,22,12621,13,12623,null,null,null,null,0,221]
[21,12713,11,12719,22,12726,null,null,null,null,0,212]
[21,12873,22,12883,24,12890,null,null,null,null,0,222]
[21,12999,11,13003,22,13010,null,null,null,null,0,212]
[21,13106,22,13112,24,13116,null,null,null,null,0,222]
[12,13218,24,13220,24,13225,null,null,null,null,0,122]
[12,13320,13,13324,24,13326,null,null,null,null,0,112]
[21,13419,22,13423,13,13428,null,null,null,null,0,221]
[21,13570,22,13576,13,13579,null,null,null,null,0,221]
[12,13672,24,13684,13,13688,null,null,null,null,0,121]
[21,13789,22,13795,24,13800,null,null,null,null,0,222]
[21,13892,22,13895,24,13900,null,null,null,null,0,222]
[21,14024,22,14027,13,14032,null,null,null,null,0,221]
[21,14201,11,14206,22,14212,null,null,null,null,0,212]
[21,14341,11,14345,22,14354,null,null,null,null,0,212]
[12,14582,24,14588,24,14599,null,null,null,null,0,122]
[21,14700,22,14705,13,14707,null,null,null,null,0,221]
[21,14934,11,14940,11,14946,null,null,null,null,0,211]
[21,15381,11,15386,22,15395,null,null,null,null,0,212]
[21,15511,22,15533,24,15542,null,null,null,null,0,222]
[21,15699,22,15708,13,15712,null,null,null,null,0,221]
[21,15815,22,15820,24,15827,null,null,null,null,0,222]
[12,15922,24,15926,24,15930,null,null,null,null,0,122]
[12,16022,24,16030,24,16035,null,null,null,null,0,122]
[21,16136,22,16140,13,16142,null,null,null,null,0,221]
[12,16237,24,16243,24,16250,null,null,null,null,0,122]
[21,16357,22,16362,24,16367,null,null,null,null,0,222]
[21,16467,11,16470,22,16476,null,null,null,null,0,212]
[21,16590,22,16594,24,16601,null,null,null,null,0,222]
[21,16757,22,16768,24,16775,null,null,null,null,0,222]
[12,16913,24,16925,24,16930,null,null,null,null,0,122]
[12,17031,24,17033,24,17038,null,null,null,null,0,122]
[21,17145,22,17149,24,17154,null,null,null,null,0,222]
[12,17247,13,17253,24,17255,null,null,null,null,0,112]
[12,17346,13,17356,24,17359,null,null,null,null,0,112]
[21,17465,22,17475,13,17482,null,null,null,null,0,221]
[12,17574,24,17582,24,17589,null,null,null,null,0,122]
[21,17813,11,17821,22,17831,null,null,null,null,0,212]
[21,18092,11,18099,22,18101,null,null,null,null,0,212]
[21,18205,11,18214,22,18226,null,null,null,null,0,212]
[21,18391,11,18398,22,18404,null,null,null,null,0,212]
[21,18509,22,18513,13,18517,null,null,null,null,0,221]
[21,18615,22,18619,24,18624,null,null,null,null,0,222]
[21,18725,22,18731,24,18736,null,null,null,null,0,222]
[12,18828,24,18841,24,18845,null,null,null,null,0,122]
[21,18946,11,18951,22,18953,null,null,null,null,0,212]
[21,19051,22,19057,24,19065,null,null,null,null,0,222]
[21,19166,22,19173,24,19180,null,null,null,null,0,222]
[12,19273,24,19282,24,19285,null,null,null,null,0,122]
[21,19387,22,19393,24,19399,null,null,null,null,0,222]
[12,19492,24,19506,24,19510,null,null,null,null,0,122]
[21,19665,22,19673,24,19679,null,null,null,null,0,222]
[21,19899,11,19908,22,19916,null,null,null,null,0,212]
[21,20014,11,20017,22,20023,null,null,null,null,0,212]
[21,20126,22,20133,24,20139,null,null,null,null,0,222]
[21,20237,11,20241,22,20247,null,null,null,null,0,212]
[21,20342,22,20347,24,20354,null,null,null,null,0,222]
[21,20452,22,20460,24,20466,null,null,null,null,0,222]
[21,20562,22,20568,24,20572,null,null,null,null,0,222]
[21,20718,11,20725,22,20732,null,null,null,null,0,212]
[21,20832,11,20836,22,20840,null,null,null,null,0,212]
[12,20940,24,20945,24,20951,null,null,null,null,0,122]
[21,21092,11,21095,22,21102,null,null,null,null,0,212]
[12,21314,24,21326,24,21332,null,null,null,null,0,122]
[12,21428,13,21431,24,21433,null,null,null,null,0,112]
[21,21539,11,21547,22,21559,null,null,null,null,0,212]
[21,21856,11,21864,22,21876,null,null,null,null,0,212]
[21,22288,11,22293,22,22301,null,null,null,null,0,212]
[12,22395,24,22402,24,22408,null,null,null,null,0,122]
[21,22503,22,22508,24,22514,null,null,null,null,0,222]
[21,22618,22,22623,24,22628,null,null,null,null,0,222]
[21,22761,11,22769,22,22777,null,null,null,null,0,212]
[21,22931,11,22939,22,22941,null,null,null,null,0,212]
[21,23044,22,23051,24,23059,null,null,null,null,0,222]
[21,23157,22,23163,24,23170,null,null,null,null,0,222]
[12,23263,24,23272,24,23280,null,null,null,null,0,122]
[12,23374,24,23385,24,23390,null,null,null,null,0,122]
[21,23502,22,23507,13,23511,null,null,null,null,0,221]
[21,23667,11,23670,22,23678,null,null,null,null,0,212]
[12,23771,24,23783,24,23789,null,null,null,null,0,122]
[21,23890,22,23894,24,23901,null,null,null,null,0,222]
[21,23999,null,null,null,null,null,null,null,null,null,2]

{"sheet":"!N206A30.Gus","index":12,"n_rows":190,"n_cols":48,"rows_kept":190,"cut":false,"hidden":false,"merged":[[4,39,4,42],[5,39,5,40],[4,44,4,47],[5,44,5,45],[4,24,4,27],[5,24,5,25],[4,29,4,32],[5,29,5,30],[4,34,4,37],[5,34,5,35],[1,1,1,2],[5,13,5,14],[18,13,18,14],[19,13,19,14],[4,19,4,22],[5,19,5,20]]}
["Report for:!N206A30.Gus"]
["Date:","<date>"]
["Hen:","<hen>",null,null,null,"Correct Sequence",{"$f":"Start!J2","v":211},null,null,null,null,null,null,null,null,"Total Sequences in Data",{"$f":"4994-COUNTBLANK(L7:L5000)","v":184},null,null,null,null,"Total Sequences in Block Data",{"$f":"COUNTA(L7:L37)","v":31},null,null,null,"Total Sequences in Block Data",{"$f":"COUNTA(L38:L67)","v":30},null,null,null,"Total Sequences in Block Data",{"$f":"COUNTA(L68:L98)","v":31},null,null,null,"Total Sequences in Block Data",{"$f":"COUNTA(L99:L129)","v":31},null,null,null,"Total Sequences in Block Data",{"$f":"COUNTA(L130:L159)","v":30},null,null,null,"Total Sequences in Block Data",{"$f":"COUNTA(L160:L190)","v":31}]
[null,null,null,null,null,null,null,null,null,null,null,null,null,null,null,"Total Sequences in Summary",{"$f":"SUM(O7:O14)","v":184},null,null,null,null,"Total Sequences in Block Summary",{"$f":"SUM(U7:U14)","v":31},null,null,null,"Total Sequences in Block Summary",{"$f":"SUM(Z7:Z14)","v":30},null,null,null,"Total Sequences in Block Summary",{"$f":"SUM(AE7:AE14)","v":31},null,null,null,"Total Sequences in Block Summary",{"$f":"SUM(AJ7:AJ14)","v":31},null,null,null,"Total Sequences in Block Summary",{"$f":"SUM(AO7:AO14)","v":30},null,null,null,"Total Sequences in Block Summary",{"$f":"SUM(AT7:AT14)","v":31}]
[null,null,null,null,null,null,null,null,null,null,null,null,null,null,null,null,null,null,null,"Block 1",null,null,null,null,"Block 2",null,null,null,null,"Block 3",null,null,null,null,"Block 4",null,null,null,null,"Block 5",null,null,null,null,"Block 6"]
["Sequence\nComponent\n1","Time\n1","Sequence\nComponent\n2","Time\n2","Sequence\nComponent\n3","Time\n3","Sequence\nComponent\n4","Time\n4","Sequence\nComponent\n5","Time\n5","Correct?\n0=No 1=Yes","Sequence",null,"Frequency",null,"Relative Frequency","Variability",null,null,"Frequency",null,"Relative Frequency","Variability",null,"Frequency",null,"Relative Frequency","Variability",null,"Frequency",null,"Relative Frequency","Variability",null,"Frequency",null,"Relative Frequency","Variability",null,"Frequency",null,"Relative Frequency","Variability",null,"Frequency",null,"Relative Frequency","Variability"]
[12,78,24,91,24,97,null,null,null,null,0,122,null,111,{"$f":"COUNTIF($L$7:$L$500,N7)","v":1},{"$f":"O7/$Q$4","v":5.434782608695652E-3},{"$f":"IF(P7=0,0,(P7*((LOG(P7))/LOG(2))))","v":-4.0888923674222893E-2},null,null,{"$f":"N7","v":111},{"$f":"COUNTIF(L7:L37,T7)","v":1},{"$f":"U7/(W4-U11)","v":3.2258064516129031E-2},{"$f":"IF(V7=0,0,(V7*((LOG(V7))/LOG(2))))","v":-0.15981278420602821},null,{"$f":"N7","v":111},{"$f":"COUNTIF(L38:L67,Y7)","v":0},{"$f":"Z7/(AB4-Z11)","v":0},{"$f":"IF(AA7=0,0,(AA7*((LOG(AA7))/LOG(2))))","v":0},null,{"$f":"N7","v":111},{"$f":"COUNTIF(L68:L98,AD7)","v":0},{"$f":"AE7/(AG4-AE11)","v":0},{"$f":"IF(AF7=0,0,(AF7*((LOG(AF7))/LOG(2))))","v":0},null,{"$f":"N7","v":111},{"$f":"COUNTIF(L99:L129,AI7)","v":0},{"$f":"AJ7/(AL4-AJ11)","v":0},{"$f":"IF(AK7=0,0,(AK7*((LOG(AK7))/LOG(2))))","v":0},null,{"$f":"N7","v":111},{"$f":"COUNTIF(L130:L159,AN7)","v":0},{"$f":"AO7/(AQ4-AO11)","v":0},{"$f":"IF(AP7=0,0,(AP7*((LOG(AP7))/LOG(2))))","v":0},null,{"$f":"N7","v":111},{"$f":"COUNTIF(L160:L190,AS7)","v":0},{"$f":"AT7/(AV4-AT11)","v":0},{"$f":"IF(AU7=0,0,(AU7*((LOG(AU7))/LOG(2))))","v":0}]
[12,193,24,196,24,198,null,null,null,null,0,122,null,112,{"$f":"COUNTIF($L$7:$L$500,N8)","v":2},{"$f":"O8/$Q$4","v":1.0869565217391304E-2},{"$f":"IF(P8=0,0,(P8*((LOG(P8))/LOG(2))))","v":-7.090828213105449E-2},null,null,{"$f":"N8","v":112},{"$f":"COUNTIF(L7:L37,T8)","v":1},{"$f":"U8/(W4-U11)","v":3.2258064516129031E-2},{"$f":"IF(V8=0,0,(V8*((LOG(V8))/LOG(2))))","v":-0.15981278420602821},null,{"$f":"N8","v":112},{"$f":"COUNTIF(L38:L67,Y8)","v":1},{"$f":"Z8/(AB4-Z11)","v":3.4482758620689655E-2},{"$f":"IF(AA8=0,0,(AA8*((LOG(AA8))/LOG(2))))","v":-0.16751658603888178},null,{"$f":"N8","v":112},{"$f":"COUNTIF(L68:L98,AD8)","v":0},{"$f":"AE8/(AG4-AE11)","v":0},{"$f":"IF(AF8=0,0,(AF8*((LOG(AF8))/LOG(2))))","v":0},null,{"$f":"N8","v":112},{"$f":"COUNTIF(L99:L129,AI8)","v":0},{"$f":"AJ8/(AL4-AJ11)","v":0},{"$f":"IF(AK8=0,0,(AK8*((LOG(AK8))/LOG(2))))","v":0},null,{"$f":"N8","v":112},{"$f":"COUNTIF(L130:L159,AN8)","v":0},{"$f":"AO8/(AQ4-AO11)","v":0},{"$f":"IF(AP8=0,0,(AP8*((LOG(AP8))/LOG(2))))","v":0},null,{"$f":"N8","v":112},{"$f":"COUNTIF(L160:L190,AS8)","v":0},{"$f":"AT8/(AV4-AT11)","v":0},{"$f":"IF(AU8=0,0,(AU8*((LOG(AU8))/LOG(2))))","v":0}]
[12,294,24,298,24,312,null,null,null,null,0,122,null,121,{"$f":"COUNTIF($L$7:$L$500,N9)","v":2},{"$f":"O9/$Q$4","v":1.0869565217391304E-2},{"$f":"IF(P9=0,0,(P9*((LOG(P9))/LOG(2))))","v":-7.090828213105449E-2},null,null,{"$f":"N9","v":121},{"$f":"COUNTIF(L7:L37,T9)","v":0},{"$f":"U9/(W4-U11)","v":0},{"$f":"IF(V9=0,0,(V9*((LOG(V9))/LOG(2))))","v":0},null,{"$f":"N9","v":121},{"$f":"COUNTIF(L38:L67,Y9)","v":0},{"$f":"Z9/(AB4-Z11)","v":0},{"$f":"IF(AA9=0,0,(AA9*((LOG(AA9))/LOG(2))))","v":0},null,{"$f":"N9","v":121},{"$f":"COUNTIF(L68:L98,AD9)","v":0},{"$f":"AE9/(AG4-AE11)","v":0},{"$f":"IF(AF9=0,0,(AF9*((LOG(AF9))/LOG(2))))","v":0},null,{"$f":"N9","v":121},{"$f":"COUNTIF(L99:L129,AI9)","v":1},{"$f":"AJ9/(AL4-AJ11)","v":3.2258064516129031E-2},{"$f":"IF(AK9=0,0,(AK9*((LOG(AK9))/LOG(2))))","v":-0.15981278420602821},null,{"$f":"N9","v":121},{"$f":"COUNTIF(L130:L159,AN9)","v":1},{"$f":"AO9/(AQ4-AO11)","v":3.3333333333333333E-2},{"$f":"IF(AP9=0,0,(AP9*((LOG(AP9))/LOG(2))))","v":-0.16356301985361729},null,{"$f":"N9","v":121},{"$f":"COUNTIF(L160:L190,AS9)","v":0},{"$f":"AT9/(AV4-AT11)","v":0},{"$f":"IF(AU9=0,0,(AU9*((LOG(AU9))/LOG(2))))","v":0}]
[12,412,24,417,24,420,null,null,null,null,0,122,null,122,{"$f":"COUNTIF($L$7:$L$500,N10)","v":45},{"$f":"O10/$Q$4","v":0.24456521739130435},{"$f":"IF(P10=0,0,(P10*((LOG(P10))/LOG(2))))","v":-0.49688531895505555},null,null,{"$f":"N10","v":122},{"$f":"COUNTIF(L7:L37,T10)","v":14},{"$f":"U10/(W4-U11)","v":0.45161290322580644},{"$f":"IF(V10=0,0,(V10*((LOG(V10))/LOG(2))))","v":-0.51792836892289662},null,{"$f":"N10","v":122},{"$f":"COUNTIF(L38:L67,Y10)","v":11},{"$f":"Z10/(AB4-Z11)","v":0.37931034482758619},{"$f":"IF(AA10=0,0,(AA10*((LOG(AA10))/LOG(2))))","v":-0.53048424625493174},null,{"$f":"N10","v":122},{"$f":"COUNTIF(L68:L98,AD10)","v":4},{"$f":"AE10/(AG4-AE11)","v":0.12903225806451613},{"$f":"IF(AF10=0,0,(AF10*((LOG(AF10))/LOG(2))))","v":-0.38118662069508069},null,{"$f":"N10","v":122},{"$f":"COUNTIF(L99:L129,AI10)","v":5},{"$f":"AJ10/(AL4-AJ11)","v":0.16129032258064516},{"$f":"IF(AK10=0,0,(AK10*((LOG(AK10))/LOG(2))))","v":-0.42455938959669559},null,{"$f":"N10","v":122},{"$f":"COUNTIF(L130:L159,AN10)","v":7},{"$f":"AO10/(AQ4-AO11)","v":0.23333333333333334},{"$f":"IF(AP10=0,0,(AP10*((LOG(AP10))/LOG(2))))","v":-0.48989165716187993},null,{"$f":"N10","v":122},{"$f":"COUNTIF(L160:L190,AS10)","v":4},{"$f":"AT10/(AV4-AT11)","v":0.12903225806451613},{"$f":"IF(AU10=0,0,(AU10*((LOG(AU10))/LOG(2))))","v":-0.38118662069508069}]
[21,522,11,524,22,525,null,null,null,null,0,212,null,211,{"$f":"COUNTIF($L$7:$L$500,N11)","v":1},{"$f":"O11/$Q$4","v":5.434782608695652E-3},{"$f":"IF(P11=0,0,(P11*((LOG(P11))/LOG(2))))","v":-4.0888923674222893E-2},null,null,{"$f":"N11","v":211},{"$f":"COUNTIF(L7:L37,T11)","v":0},null,null,null,{"$f":"N11","v":211},{"$f":"COUNTIF(L38:L67,Y11)","v":1},null,null,null,{"$f":"N11","v":211},{"$f":"COUNTIF(L68:L98,AD11)","v":0},null,null,null,{"$f":"N11","v":211},{"$f":"COUNTIF(L99:L129,AI11)","v":0},null,null,null,{"$f":"N11","v":211},{"$f":"COUNTIF(L130:L159,AN11)","v":0},null,null,null,{"$f":"N11","v":211},{"$f":"COUNTIF(L160:L190,AS11)","v":0}]
[12,622,24,633,24,644,null,null,null,null,0,122,null,212,{"$f":"COUNTIF($L$7:$L$500,N12)","v":35},{"$f":"O12/$Q$4","v":0.19021739130434784},{"$f":"IF(P12=0,0,(P12*((LOG(P12))/LOG(2))))","v":-0.45543349385283494},null,null,{"$f":"N12","v":212},{"$f":"COUNTIF(L7:L37,T12)","v":6},{"$f":"U12/(W4-U11)","v":0.19354838709677419},{"$f":"IF(V12=0,0,(V12*((LOG(V12))/LOG(2))))","v":-0.45856138251594558},null,{"$f":"N12","v":212},{"$f":"COUNTIF(L38:L67,Y12)","v":5},{"$f":"Z12/(AB4-Z11)","v":0.17241379310344829},{"$f":"IF(AA12=0,0,(AA12*((LOG(AA12))/LOG(2))))","v":-0.43725050004141547},null,{"$f":"N12","v":212},{"$f":"COUNTIF(L68:L98,AD12)","v":11},{"$f":"AE12/(AG4-AE11)","v":0.35483870967741937},{"$f":"IF(AF12=0,0,(AF12*((LOG(AF12))/LOG(2))))","v":-0.53040037449178568},null,{"$f":"N12","v":212},{"$f":"COUNTIF(L99:L129,AI12)","v":5},{"$f":"AJ12/(AL4-AJ11)","v":0.16129032258064516},{"$f":"IF(AK12=0,0,(AK12*((LOG(AK12))/LOG(2))))","v":-0.42455938959669559},null,{"$f":"N12","v":212},{"$f":"COUNTIF(L130:L159,AN12)","v":3},{"$f":"AO12/(AQ4-AO11)","v":0.1},{"$f":"IF(AP12=0,0,(AP12*((LOG(AP12))/LOG(2))))","v":-0.33219280948873625},null,{"$f":"N12","v":212},{"$f":"COUNTIF(L160:L190,AS12)","v":5},{"$f":"AT12/(AV4-AT11)","v":0.16129032258064516},{"$f":"IF(AU12=0,0,(AU12*((LOG(AU12))/LOG(2))))","v":-0.42455938959669559}]
[12,752,13,761,13,767,null,null,null,null,0,111,null,221,{"$f":"COUNTIF($L$7:$L$500,N13)","v":23},{"$f":"O13/$Q$4","v":0.125},{"$f":"IF(P13=0,0,(P13*((LOG(P13))/LOG(2))))","v":-0.375},null,null,{"$f":"N13","v":221},{"$f":"COUNTIF(L7:L37,T13)","v":5},{"$f":"U13/(W4-U11)","v":0.16129032258064516},{"$f":"IF(V13=0,0,(V13*((LOG(V13))/LOG(2))))","v":-0.42455938959669559},null,{"$f":"N13","v":221},{"$f":"COUNTIF(L38:L67,Y13)","v":4},{"$f":"Z13/(AB4-Z11)","v":0.13793103448275862},{"$f":"IF(AA13=0,0,(AA13*((LOG(AA13))/LOG(2))))","v":-0.39420427519000989},null,{"$f":"N13","v":221},{"$f":"COUNTIF(L68:L98,AD13)","v":4},{"$f":"AE13/(AG4-AE11)","v":0.12903225806451613},{"$f":"IF(AF13=0,0,(AF13*((LOG(AF13))/LOG(2))))","v":-0.38118662069508069},null,{"$f":"N13","v":221},{"$f":"COUNTIF(L99:L129,AI13)","v":3},{"$f":"AJ13/(AL4-AJ11)","v":9.6774193548387094E-2},{"$f":"IF(AK13=0,0,(AK13*((LOG(AK13))/LOG(2))))","v":-0.32605488480635986},null,{"$f":"N13","v":221},{"$f":"COUNTIF(L130:L159,AN13)","v":5},{"$f":"AO13/(AQ4-AO11)","v":0.16666666666666666},{"$f":"IF(AP13=0,0,(AP13*((LOG(AP13))/LOG(2))))","v":-0.43082708345352599},null,{"$f":"N13","v":221},{"$f":"COUNTIF(L160:L190,AS13)","v":2},{"$f":"AT13/(AV4-AT11)","v":6.4516129032258063E-2},{"$f":"IF(AU13=0,0,(AU13*((LOG(AU13))/LOG(2))))","v":-0.25510943937979835}]
[12,860,13,872,24,886,null,null,null,null,0,112,null,222,{"$f":"COUNTIF($L$7:$L$500,N14)","v":75},{"$f":"O14/$Q$4","v":0.40760869565217389},{"$f":"IF(P14=0,0,(P14*((LOG(P14))/LOG(2))))","v":-0.5277486136798093},null,null,{"$f":"N14","v":222},{"$f":"COUNTIF(L7:L37,T14)","v":4},{"$f":"U14/(W4-U11)","v":0.12903225806451613},{"$f":"IF(V14=0,0,(V14*((LOG(V14))/LOG(2))))","v":-0.38118662069508069},null,{"$f":"N14","v":222},{"$f":"COUNTIF(L38:L67,Y14)","v":8},{"$f":"Z14/(AB4-Z11)","v":0.27586206896551724},{"$f":"IF(AA14=0,0,(AA14*((LOG(AA14))/LOG(2))))","v":-0.51254648141450265},null,{"$f":"N14","v":222},{"$f":"COUNTIF(L68:L98,AD14)","v":12},{"$f":"AE14/(AG4-AE11)","v":0.38709677419354838},{"$f":"IF(AF14=0,0,(AF14*((LOG(AF14))/LOG(2))))","v":-0.5300259908383429},null,{"$f":"N14","v":222},{"$f":"COUNTIF(L99:L129,AI14)","v":17},{"$f":"AJ14/(AL4-AJ11)","v":0.54838709677419351},{"$f":"IF(AK14=0,0,(AK14*((LOG(AK14))/LOG(2))))","v":-0.47530545081681003},null,{"$f":"N14","v":222},{"$f":"COUNTIF(L130:L159,AN14)","v":14},{"$f":"AO14/(AQ4-AO11)","v":0.46666666666666667},{"$f":"IF(AP14=0,0,(AP14*((LOG(AP14))/LOG(2))))","v":-0.51311664765709342},null,{"$f":"N14","v":222},{"$f":"COUNTIF(L160:L190,AS14)","v":20},{"$f":"AT14/(AV4-AT11)","v":0.64516129032258063},{"$f":"IF(AU14=0,0,(AU14*((LOG(AU14))/LOG(2))))","v":-0.40791497774162117}]
[12,1045,24,1059,24,1065,null,null,null,null,0,122,null,null,null,{"$f":"SUM(P7:P14)","v":1},{"$f":"-SUM(Q7:Q14)","v":2.0786618380982542},null,null,null,null,{"$f":"SUM(V7:V14)","v":1},{"$f":"-SUM(W7:W14)","v":2.101861330142675},null,null,null,{"$f":"SUM(AA7:AA14)","v":1},{"$f":"-SUM(AB7:AB14)","v":2.0420020889397414},null,null,null,{"$f":"SUM(AF7:AF14)","v":1},{"$f":"-SUM(AG7:AG14)","v":1.8227996067202901},null,null,null,{"$f":"SUM(AK7:AK14)","v":1},{"$f":"-SUM(AL7:AL14)","v":1.8102918990225891},null,null,null,{"$f":"SUM(AP7:AP14)","v":1},{"$f":"-SUM(AQ7:AQ14)","v":1.9295912176148529},null,null,null,{"$f":"SUM(AU7:AU14)","v":1},{"$f":"-SUM(AV7:AV14)","v":1.4687704274131959}]
[21,1542,11,1547,22,1551,null,null,null,null,0,212,null,null,null,"U=",{"$f":"Q15/(LOG(Q4)/LOG(2))","v":0.27628693034484564},null,null,null,null,"U1=",{"$f":"W15/(LOG(W4)/LOG(2))","v":0.4242587896115364},null,null,null,"U2=",{"$f":"AB15/(LOG(AB4)/LOG(2))","v":0.4161499118743866},null,null,null,"U3=",{"$f":"AG15/(LOG(AG4)/LOG(2))","v":0.36793043563870143},null,null,null,"U4=",{"$f":"AL15/(LOG(AL4)/LOG(2))","v":0.36540576626468457},null,null,null,"U5=",{"$f":"AQ15/(LOG(AQ4)/LOG(2))","v":0.39324113305924613},null,null,null,"U6=",{"$f":"AV15/(LOG(AV4)/LOG(2))","v":0.29646996917215401}]
[21,1652,11,1661,22,1668,null,null,null,null,0,212]
[21,1786,11,1788,22,1792,null,null,null,null,0,212]
[12,1886,24,1890,24,1897,null,null,null,null,0,122,null,"Total Target Seq"]
[12,1990,24,2000,24,2002,null,null,null,null,0,122,null,{"$f":"COUNTIF(L7:L190,G3)","v":1},null,31,30,31,31,30,31]
[21,2099,22,2105,24,2120,null,null,null,null,0,222,null,null,null,"% of reinforcement given in 6 equal intervals based on number of trials "]
[21,2217,11,2221,22,2228,null,null,null,null,0,212,null,null,null,"%_1","%_2","%_3","%_4","%_5","%_6"]
[21,2404,11,2412,22,2419,null,null,null,null,0,212,null,null,"target sequence",{"$f":"$G$3","v":211},{"$f":"$G$3","v":211},{"$f":"$G$3","v":211},{"$f":"$G$3","v":211},{"$f":"$G$3","v":211},{"$f":"$G$3","v":211}]
[21,2561,22,2564,13,2566,null,null,null,null,0,221,null,null,"total reinforcement",{"$f":"U11","v":0},{"$f":"Z11","v":1},{"$f":"AE11","v":0},{"$f":"AJ11","v":0},{"$f":"AO11","v":0},{"$f":"AT11","v":0}]
[12,2669,24,2676,24,2683,null,null,null,null,0,122,null,null,"% target"]
[21,2782,22,2787,13,2790,null,null,null,null,0,221,null,null,"CCRF"]
[12,2884,24,2889,24,2895,null,null,null,null,0,122,null,null,"% CCRf"]
[21,2986,22,2992,24,3001,null,null,null,null,0,222,null,null,"average response rate",{"$f":"F37/P20","v":131.38709677419354},{"$f":"(F67-F37)/Q20","v":129.5},{"$f":"(F98-F67)/R20","v":127.87096774193549},{"$f":"(F129-F98)/S20","v":115.19354838709677},{"$f":"(F159-F129)/T20","v":138.06666666666666},{"$f":"(F190-F159)/U20","v":137.54838709677421}]
[21,3183,22,3188,13,3189,null,null,null,null,0,221]
[12,3305,24,3312,24,3317,null,null,null,null,0,122]
[21,3419,22,3423,13,3427,null,null,null,null,0,221]
[21,3528,22,3533,24,3539,null,null,null,null,0,222]
[12,3637,24,3640,24,3646,null,null,null,null,0,122]
[21,3752,22,3759,24,3767,null,null,null,null,0,222]
[12,3867,24,3871,24,3876,null,null,null,null,0,122]
[12,3970,24,3974,24,3980,null,null,null,null,0,122]
[21,4067,22,4069,13,4073,null,null,null,null,0,221]
[21,4236,11,4240,22,4247,null,null,null,null,0,212]
[21,4350,11,4354,22,4360,null,null,null,null,0,212]
[21,4471,22,4475,24,4480,null,null,null,null,0,222]
[12,4583,24,4591,24,4597,null,null,null,null,0,122]
[12,4690,24,4700,24,4705,null,null,null,null,0,122]
[12,4798,24,4809,24,4812,null,null,null,null,0,122]
[12,4904,24,4920,24,4924,null,null,null,null,0,122]
[12,5017,13,5028,24,5033,null,null,null,null,0,112]
[12,5131,24,5134,24,5144,null,null,null,null,0,122]
[12,5243,24,5253,24,5260,null,null,null,null,0,122]
[21,5361,22,5366,13,5369,null,null,null,null,0,221]
[21,5465,11,5474,22,5475,null,null,null,null,0,212]
[21,5595,11,5598,22,5604,null,null,null,null,0,212]
[21,5755,22,5761,24,5768,null,null,null,null,0,222]
[12,5862,24,5869,24,5874,null,null,null,null,0,122]
[21,5976,22,5978,13,5983,null,null,null,null,0,221]
[21,6093,11,6095,22,6100,null,null,null,null,0,212]
[12,6194,24,6196,24,6202,null,null,null,null,0,122]
[12,6309,24,6314,24,6324,null,null,null,null,0,122]
[21,6428,22,6432,24,6437,null,null,null,null,0,222]
[21,6541,22,6545,24,6551,null,null,null,null,0,222]
[21,6660,22,6667,24,6673,null,null,null,null,0,222]
[21,6782,22,6787,13,6794,null,null,null,null,0,221]
[21,6891,22,6893,24,6898,null,null,null,null,0,222]
[21,7044,11,7050,11,7054,null,null,null,null,0,211]
[21,7482,22,7494,24,7511,null,null,null,null,0,222]
[21,7620,22,7628,24,7634,null,null,null,null,0,222]
[21,7740,22,7742,13,7748,null,null,null,null,0,221]
[12,7844,24,7848,24,7852,null,null,null,null,0,122]
[12,7953,24,7955,24,7958,null,null,null,null,0,122]
[12,8087,24,8090,24,8095,null,null,null,null,0,122]
[21,8193,22,8197,24,8203,null,null,null,null,0,222]
[21,8304,11,8307,22,8309,null,null,null,null,0,212]
[12,8404,24,8411,24,8421,null,null,null,null,0,122]
[12,8513,24,8525,24,8529,null,null,null,null,0,122]
[21,8628,22,8631,24,8642,null,null,null,null,0,222]
[21,8808,11,8813,22,8822,null,null,null,null,0,212]
[21,9009,22,9018,13,9020,null,null,null,null,0,221]
[21,9120,22,9127,24,9134,null,null,null,null,0,222]
[21,9233,22,9239,24,9245,null,null,null,null,0,222]
[21,9392,22,9405,24,9413,null,null,null,null,0,222]
[21,9516,11,9520,22,9522,null,null,null,null,0,212]
[21,9636,22,9640,24,9646,null,null,null,null,0,222]
[21,9748,22,9754,24,9756,null,null,null,null,0,222]
[21,9855,11,9859,22,9861,null,null,null,null,0,212]
[21,9958,22,9960,24,9964,null,null,null,null,0,222]
[21,10097,11,10105,22,10108,null,null,null,null,0,212]
[21,10223,22,10225,24,10230,null,null,null,null,0,222]
[21,10406,11,10410,22,10412,null,null,null,null,0,212]
[21,10526,11,10530,22,10532,null,null,null,null,0,212]
[21,10645,11,10653,22,10658,null,null,null,null,0,212]
[21,10762,22,10771,13,10781,null,null,null,null,0,221]
[21,10905,11,10909,22,10915,null,null,null,null,0,212]
[21,11011,22,11017,13,11020,null,null,null,null,0,221]
[12,11233,24,11238,24,11243,null,null,null,null,0,122]
[21,11351,22,11354,24,11359,null,null,null,null,0,222]
[21,11454,11,11457,22,11464,null,null,null,null,0,212]
[21,11559,11,11573,22,11581,null,null,null,null,0,212]
[21,11684,22,11688,24,11693,null,null,null,null,0,222]
[21,11796,22,11803,13,11808,null,null,null,null,0,221]
[21,11908,22,11914,24,11922,null,null,null,null,0,222]
[21,12029,22,12034,24,12041,null,null,null,null,0,222]
[21,12155,22,12166,24,12177,null,null,null,null,0,222]
[21,12277,22,12283,24,12290,null,null,null,null,0,222]
[21,12403,11,12405,22,12411,null,null,null,null,0,212]
[21,12509,22,12511,24,12516,null,null,null,null,0,222]
[21,12632,22,12642,24,12649,null,null,null,null,0,222]
[21,12758,22,12767,24,12773,null,null,null,null,0,222]
[12,12865,24,12870,24,12872,null,null,null,null,0,122]
[21,12969,22,12973,24,12979,null,null,null,null,0,222]
[21,13078,22,13081,24,13094,null,null,null,null,0,222]
[12,13185,24,13198,24,13205,null,null,null,null,0,122]
[21,13302,22,13307,24,13320,null,null,null,null,0,222]
[21,13442,22,13452,24,13458,null,null,null,null,0,222]
[21,13563,22,13567,13,13569,null,null,null,null,0,221]
[21,13673,22,13679,24,13686,null,null,null,null,0,222]
[21,13786,22,13790,13,13796,null,null,null,null,0,221]
[21,13898,22,13901,24,13907,null,null,null,null,0,222]
[21,13997,11,14000,22,14007,null,null,null,null,0,212]
[21,14132,11,14136,22,14137,null,null,null,null,0,212]
[12,14238,24,14240,24,14246,null,null,null,null,0,122]
[12,14345,24,14349,13,14353,null,null,null,null,0,121]
[21,14449,11,14454,22,14456,null,null,null,null,0,212]
[21,14555,22,14562,24,14568,null,null,null,null,0,222]
[21,14692,22,14701,13,14705,null,null,null,null,0,221]
[21,14806,22,14812,24,14819,null,null,null,null,0,222]
[21,14923,11,14929,22,14935,null,null,null,null,0,212]
[21,15035,22,15040,24,15060,null,null,null,null,0,222]
[21,15159,22,15164,24,15167,null,null,null,null,0,222]
[12,15267,24,15270,24,15274,null,null,null,null,0,122]
[12,15367,24,15374,24,15378,null,null,null,null,0,122]
[21,15483,22,15487,24,15493,null,null,null,null,0,222]
[21,15585,22,15590,13,15595,null,null,null,null,0,221]
[21,15716,22,15724,13,15728,null,null,null,null,0,221]
[21,15890,22,15899,24,15906,null,null,null,null,0,222]
[21,16005,22,16008,24,16015,null,null,null,null,0,222]
[12,16115,24,16118,24,16123,null,null,null,null,0,122]
[21,16228,11,16231,22,16233,null,null,null,null,0,212]
[21,16331,22,16338,24,16344,null,null,null,null,0,222]
[12,16438,24,16463,24,16469,null,null,null,null,0,122]
[21,16567,22,16572,13,16580,null,null,null,null,0,221]
[21,16712,22,16717,24,16730,null,null,null,null,0,222]
[12,16831,24,16836,24,16849,null,null,null,null,0,122]
[21,16948,22,16953,24,16955,null,null,null,null,0,222]
[21,17052,22,17055,24,17062,null,null,null,null,0,222]
[12,17153,24,17173,24,17179,null,null,null,null,0,122]
[12,17271,24,17281,24,17285,null,null,null,null,0,122]
[12,17384,24,17394,24,17400,null,null,null,null,0,122]
[21,17499,22,17506,24,17512,null,null,null,null,0,222]
[12,17623,24,17631,13,17641,null,null,null,null,0,121]
[21,18181,22,18196,24,18203,null,null,null,null,0,222]
[21,18306,22,18321,24,18327,null,null,null,null,0,222]
[21,18427,22,18432,24,18437,null,null,null,null,0,222]
[21,18542,22,18548,24,18555,null,null,null,null,0,222]
[21,18676,22,18681,13,18686,null,null,null,null,0,221]
[21,18832,11,18839,22,18845,null,null,null,null,0,212]
[21,18945,22,18950,24,18956,null,null,null,null,0,222]
[12,19059,24,19064,24,19071,null,null,null,null,0,122]
[21,19200,11,19204,22,19205,null,null,null,null,0,212]
[21,19389,22,19399,24,19407,null,null,null,null,0,222]
[21,19518,22,19523,24,19529,null,null,null,null,0,222]
[21,19627,22,19631,13,19635,null,null,null,null,0,221]
[12,19729,24,19742,24,19750,null,null,null,null,0,122]
[21,19848,22,19850,24,19856,null,null,null,null,0,222]
[21,19958,22,19962,24,19967,null,null,null,null,0,222]
[21,20130,22,20137,24,20147,null,null,null,null,0,222]
[21,20319,22,20324,24,20330,null,null,null,null,0,222]
[21,20437,22,20442,24,20447,null,null,null,null,0,222]
[21,20555,22,20561,24,20568,null,null,null,null,0,222]
[21,20669,22,20677,24,20683,null,null,null,null,0,222]
[21,20793,22,20802,13,20807,null,null,null,null,0,221]
[21,20921,11,20936,22,20938,null,null,null,null,0,212]
[21,21040,11,21048,22,21054,null,null,null,null,0,212]
[21,21154,22,21159,13,21162,null,null,null,null,0,221]
[12,21256,24,21264,24,21267,null,null,null,null,0,122]
[21,21377,22,21381,24,21386,null,null,null,null,0,222]
[21,21485,11,21488,22,21491,null,null,null,null,0,212]
[12,21584,24,21593,24,21598,null,null,null,null,0,122]
[12,21698,24,21701,24,21707,null,null,null,null,0,122]
[21,21809,22,21813,24,21820,null,null,null,null,0,222]
[21,21922,22,21924,24,21928,null,null,null,null,0,222]
[21,22031,22,22037,24,22044,null,null,null,null,0,222]
[21,22144,22,22148,24,22155,null,null,null,null,0,222]
[21,22539,22,22550,24,22556,null,null,null,null,0,222]
[21,22744,22,22765,24,22774,null,null,null,null,0,222]
[21,22884,11,22890,22,22897,null,null,null,null,0,212]
[21,23037,22,23044,24,23051,null,null,null,null,0,222]
[21,23232,22,23237,24,23253,null,null,null,null,0,222]
[21,23426,22,23434,24,23443,null,null,null,null,0,222]
[21,23543,11,23549,22,23553,null,null,null,null,0,212]
[21,23660,22,23664,24,23670,null,null,null,null,0,222]
[21,23773,22,23784,24,23792,null,null,null,null,0,222]
[21,23892,22,23895,24,23899,null,null,null,null,0,222]

{"sheet":"!N207A10.Gus","index":13,"n_rows":195,"n_cols":48,"rows_kept":195,"cut":false,"hidden":false,"merged":[[4,39,4,42],[5,39,5,40],[4,44,4,47],[5,44,5,45],[4,24,4,27],[5,24,5,25],[4,29,4,32],[5,29,5,30],[4,34,4,37],[5,34,5,35],[1,1,1,2],[5,13,5,14],[18,13,18,14],[19,13,19,14],[4,19,4,22],[5,19,5,20]]}
["Report for:!N207A10.Gus"]
["Date:","<date>"]
["Hen:","<hen>",null,null,null,"Correct Sequence",{"$f":"Start!J2","v":211},null,null,null,null,null,null,null,null,"Total Sequences in Data",{"$f":"4994-COUNTBLANK(L7:L5000)","v":189},null,null,null,null,"Total Sequences in Block Data",{"$f":"COUNTA(L7:L38)","v":32},null,null,null,"Total Sequences in Block Data",{"$f":"COUNTA(L39:L69)","v":31},null,null,null,"Total Sequences in Block Data",{"$f":"COUNTA(L70:L101)","v":32},null,null,null,"Total Sequences in Block Data",{"$f":"COUNTA(L102:L132)","v":31},null,null,null,"Total Sequences in Block Data",{"$f":"COUNTA(L133:L164)","v":32},null,null,null,"Total Sequences in Block Data",{"$f":"COUNTA(L165:L195)","v":31}]
[null,null,null,null,null,null,null,null,null,null,null,null,null,null,null,"Total Sequences in Summary",{"$f":"SUM(O7:O14)","v":189},null,null,null,null,"Total Sequences in Block Summary",{"$f":"SUM(U7:U14)","v":32},null,null,null,"Total Sequences in Block Summary",{"$f":"SUM(Z7:Z14)","v":31},null,null,null,"Total Sequences in Block Summary",{"$f":"SUM(AE7:AE14)","v":32},null,null,null,"Total Sequences in Block Summary",{"$f":"SUM(AJ7:AJ14)","v":31},null,null,null,"Total Sequences in Block Summary",{"$f":"SUM(AO7:AO14)","v":32},null,null,null,"Total Sequences in Block Summary",{"$f":"SUM(AT7:AT14)","v":31}]
[null,null,null,null,null,null,null,null,null,null,null,null,null,null,null,null,null,null,null,"Block 1",null,null,null,null,"Block 2",null,null,null,null,"Block 3",null,null,null,null,"Block 4",null,null,null,null,"Block 5",null,null,null,null,"Block 6"]
["Sequence\nComponent\n1","Time\n1","Sequence\nComponent\n2","Time\n2","Sequence\nComponent\n3","Time\n3","Sequence\nComponent\n4","Time\n4","Sequence\nComponent\n5","Time\n5","Correct?\n0=No 1=Yes","Sequence",null,"Frequency",null,"Relative Frequency","Variability",null,null,"Frequency",null,"Relative Frequency","Variability",null,"Frequency",null,"Relative Frequency","Variability",null,"Frequency",null,"Relative Frequency","Variability",null,"Frequency",null,"Relative Frequency","Variability",null,"Frequency",null,"Relative Frequency","Variability",null,"Frequency",null,"Relative Frequency","Variability"]
[12,29,13,51,24,54,null,null,null,null,0,112,null,111,{"$f":"COUNTIF($L$7:$L$500,N7)","v":1},{"$f":"O7/$Q$4","v":5.2910052910052907E-3},{"$f":"IF(P7=0,0,(P7*((LOG(P7))/LOG(2))))","v":-4.0011864678418371E-2},null,null,{"$f":"N7","v":111},{"$f":"COUNTIF(L7:L38,T7)","v":1},{"$f":"U7/(W4-U11)","v":3.125E-2},{"$f":"IF(V7=0,0,(V7*((LOG(V7))/LOG(2))))","v":-0.15625},null,{"$f":"N7","v":111},{"$f":"COUNTIF(L39:L69,Y7)","v":0},{"$f":"Z7/(AB4-Z11)","v":0},{"$f":"IF(AA7=0,0,(AA7*((LOG(AA7))/LOG(2))))","v":0},null,{"$f":"N7","v":111},{"$f":"COUNTIF(L70:L101,AD7)","v":0},{"$f":"AE7/(AG4-AE11)","v":0},{"$f":"IF(AF7=0,0,(AF7*((LOG(AF7))/LOG(2))))","v":0},null,{"$f":"N7","v":111},{"$f":"COUNTIF(L102:L132,AI7)","v":0},{"$f":"AJ7/(AL4-AJ11)","v":0},{"$f":"IF(AK7=0,0,(AK7*((LOG(AK7))/LOG(2))))","v":0},null,{"$f":"N7","v":111},{"$f":"COUNTIF(L133:L164,AN7)","v":0},{"$f":"AO7/(AQ4-AO11)","v":0},{"$f":"IF(AP7=0,0,(AP7*((LOG(AP7))/LOG(2))))","v":0},null,{"$f":"N7","v":111},{"$f":"COUNTIF(L165:L195,AS7)","v":0},{"$f":"AT7/(AV4-AT11)","v":0},{"$f":"IF(AU7=0,0,(AU7*((LOG(AU7))/LOG(2))))","v":0}]
[12,155,24,162,24,167,null,null,null,null,0,122,null,112,{"$f":"COUNTIF($L$7:$L$500,N8)","v":3},{"$f":"O8/$Q$4","v":1.5873015873015872E-2},{"$f":"IF(P8=0,0,(P8*((LOG(P8))/LOG(2))))","v":-9.4877459103173273E-2},null,null,{"$f":"N8","v":112},{"$f":"COUNTIF(L7:L38,T8)","v":2},{"$f":"U8/(W4-U11)","v":6.25E-2},{"$f":"IF(V8=0,0,(V8*((LOG(V8))/LOG(2))))","v":-0.25},null,{"$f":"N8","v":112},{"$f":"COUNTIF(L39:L69,Y8)","v":0},{"$f":"Z8/(AB4-Z11)","v":0},{"$f":"IF(AA8=0,0,(AA8*((LOG(AA8))/LOG(2))))","v":0},null,{"$f":"N8","v":112},{"$f":"COUNTIF(L70:L101,AD8)","v":1},{"$f":"AE8/(AG4-AE11)","v":3.125E-2},{"$f":"IF(AF8=0,0,(AF8*((LOG(AF8))/LOG(2))))","v":-0.15625},null,{"$f":"N8","v":112},{"$f":"COUNTIF(L102:L132,AI8)","v":0},{"$f":"AJ8/(AL4-AJ11)","v":0},{"$f":"IF(AK8=0,0,(AK8*((LOG(AK8))/LOG(2))))","v":0},null,{"$f":"N8","v":112},{"$f":"COUNTIF(L133:L164,AN8)","v":0},{"$f":"AO8/(AQ4-AO11)","v":0},{"$f":"IF(AP8=0,0,(AP8*((LOG(AP8))/LOG(2))))","v":0},null,{"$f":"N8","v":112},{"$f":"COUNTIF(L165:L195,AS8)","v":0},{"$f":"AT8/(AV4-AT11)","v":0},{"$f":"IF(AU8=0,0,(AU8*((LOG(AU8))/LOG(2))))","v":0}]
[12,268,24,274,24,278,null,null,null,null,0,122,null,121,{"$f":"COUNTIF($L$7:$L$500,N9)","v":1},{"$f":"O9/$Q$4","v":5.2910052910052907E-3},{"$f":"IF(P9=0,0,(P9*((LOG(P9))/LOG(2))))","v":-4.0011864678418371E-2},null,null,{"$f":"N9","v":121},{"$f":"COUNTIF(L7:L38,T9)","v":0},{"$f":"U9/(W4-U11)","v":0},{"$f":"IF(V9=0,0,(V9*((LOG(V9))/LOG(2))))","v":0},null,{"$f":"N9","v":121},{"$f":"COUNTIF(L39:L69,Y9)","v":0},{"$f":"Z9/(AB4-Z11)","v":0},{"$f":"IF(AA9=0,0,(AA9*((LOG(AA9))/LOG(2))))","v":0},null,{"$f":"N9","v":121},{"$f":"COUNTIF(L70:L101,AD9)","v":0},{"$f":"AE9/(AG4-AE11)","v":0},{"$f":"IF(AF9=0,0,(AF9*((LOG(AF9))/LOG(2))))","v":0},null,{"$f":"N9","v":121},{"$f":"COUNTIF(L102:L132,AI9)","v":1},{"$f":"AJ9/(AL4-AJ11)","v":3.2258064516129031E-2},{"$f":"IF(AK9=0,0,(AK9*((LOG(AK9))/LOG(2))))","v":-0.15981278420602821},null,{"$f":"N9","v":121},{"$f":"COUNTIF(L133:L164,AN9)","v":0},{"$f":"AO9/(AQ4-AO11)","v":0},{"$f":"IF(AP9=0,0,(AP9*((LOG(AP9))/LOG(2))))","v":0},null,{"$f":"N9","v":121},{"$f":"COUNTIF(L165:L195,AS9)","v":0},{"$f":"AT9/(AV4-AT11)","v":0},{"$f":"IF(AU9=0,0,(AU9*((LOG(AU9))/LOG(2))))","v":0}]
[12,370,13,379,24,383,null,null,null,null,0,112,null,122,{"$f":"COUNTIF($L$7:$L$500,N10)","v":37},{"$f":"O10/$Q$4","v":0.19576719576719576},{"$f":"IF(P10=0,0,(P10*((LOG(P10))/LOG(2))))","v":-0.46059891623232041},null,null,{"$f":"N10","v":122},{"$f":"COUNTIF(L7:L38,T10)","v":10},{"$f":"U10/(W4-U11)","v":0.3125},{"$f":"IF(V10=0,0,(V10*((LOG(V10))/LOG(2))))","v":-0.52439747034769923},null,{"$f":"N10","v":122},{"$f":"COUNTIF(L39:L69,Y10)","v":8},{"$f":"Z10/(AB4-Z11)","v":0.25806451612903225},{"$f":"IF(AA10=0,0,(AA10*((LOG(AA10))/LOG(2))))","v":-0.50430872526112902},null,{"$f":"N10","v":122},{"$f":"COUNTIF(L70:L101,AD10)","v":4},{"$f":"AE10/(AG4-AE11)","v":0.125},{"$f":"IF(AF10=0,0,(AF10*((LOG(AF10))/LOG(2))))","v":-0.375},null,{"$f":"N10","v":122},{"$f":"COUNTIF(L102:L132,AI10)","v":4},{"$f":"AJ10/(AL4-AJ11)","v":0.12903225806451613},{"$f":"IF(AK10=0,0,(AK10*((LOG(AK10))/LOG(2))))","v":-0.38118662069508069},null,{"$f":"N10","v":122},{"$f":"COUNTIF(L133:L164,AN10)","v":8},{"$f":"AO10/(AQ4-AO11)","v":0.25},{"$f":"IF(AP10=0,0,(AP10*((LOG(AP10))/LOG(2))))","v":-0.5},null,{"$f":"N10","v":122},{"$f":"COUNTIF(L165:L195,AS10)","v":3},{"$f":"AT10/(AV4-AT11)","v":9.6774193548387094E-2},{"$f":"IF(AU10=0,0,(AU10*((LOG(AU10))/LOG(2))))","v":-0.32605488480635986}]
[12,474,24,488,24,494,null,null,null,null,0,122,null,211,{"$f":"COUNTIF($L$7:$L$500,N11)","v":0},{"$f":"O11/$Q$4","v":0},{"$f":"IF(P11=0,0,(P11*((LOG(P11))/LOG(2))))","v":0},null,null,{"$f":"N11","v":211},{"$f":"COUNTIF(L7:L38,T11)","v":0},null,null,null,{"$f":"N11","v":211},{"$f":"COUNTIF(L39:L69,Y11)","v":0},null,null,null,{"$f":"N11","v":211},{"$f":"COUNTIF(L70:L101,AD11)","v":0},null,null,null,{"$f":"N11","v":211},{"$f":"COUNTIF(L102:L132,AI11)","v":0},null,null,null,{"$f":"N11","v":211},{"$f":"COUNTIF(L133:L164,AN11)","v":0},null,null,null,{"$f":"N11","v":211},{"$f":"COUNTIF(L165:L195,AS11)","v":0}]
[12,593,24,596,24,602,null,null,null,null,0,122,null,212,{"$f":"COUNTIF($L$7:$L$500,N12)","v":44},{"$f":"O12/$Q$4","v":0.23280423280423279},{"$f":"IF(P12=0,0,(P12*((LOG(P12))/LOG(2))))","v":-0.48954325632638157},null,null,{"$f":"N12","v":212},{"$f":"COUNTIF(L7:L38,T12)","v":6},{"$f":"U12/(W4-U11)","v":0.1875},{"$f":"IF(V12=0,0,(V12*((LOG(V12))/LOG(2))))","v":-0.45281953111478312},null,{"$f":"N12","v":212},{"$f":"COUNTIF(L39:L69,Y12)","v":9},{"$f":"Z12/(AB4-Z11)","v":0.29032258064516131},{"$f":"IF(AA12=0,0,(AA12*((LOG(AA12))/LOG(2))))","v":-0.5180142509839053},null,{"$f":"N12","v":212},{"$f":"COUNTIF(L70:L101,AD12)","v":7},{"$f":"AE12/(AG4-AE11)","v":0.21875},{"$f":"IF(AF12=0,0,(AF12*((LOG(AF12))/LOG(2))))","v":-0.47964111079989907},null,{"$f":"N12","v":212},{"$f":"COUNTIF(L102:L132,AI12)","v":8},{"$f":"AJ12/(AL4-AJ11)","v":0.25806451612903225},{"$f":"IF(AK12=0,0,(AK12*((LOG(AK12))/LOG(2))))","v":-0.50430872526112902},null,{"$f":"N12","v":212},{"$f":"COUNTIF(L133:L164,AN12)","v":5},{"$f":"AO12/(AQ4-AO11)","v":0.15625},{"$f":"IF(AP12=0,0,(AP12*((LOG(AP12))/LOG(2))))","v":-0.41844873517384967},null,{"$f":"N12","v":212},{"$f":"COUNTIF(L165:L195,AS12)","v":9},{"$f":"AT12/(AV4-AT11)","v":0.29032258064516131},{"$f":"IF(AU12=0,0,(AU12*((LOG(AU12))/LOG(2))))","v":-0.5180142509839053}]
[12,696,13,702,13,714,null,null,null,null,0,111,null,221,{"$f":"COUNTIF($L$7:$L$500,N13)","v":21},{"$f":"O13/$Q$4","v":0.1111111111111111},{"$f":"IF(P13=0,0,(P13*((LOG(P13))/LOG(2))))","v":-0.3522138890491458},null,null,{"$f":"N13","v":221},{"$f":"COUNTIF(L7:L38,T13)","v":4},{"$f":"U13/(W4-U11)","v":0.125},{"$f":"IF(V13=0,0,(V13*((LOG(V13))/LOG(2))))","v":-0.375},null,{"$f":"N13","v":221},{"$f":"COUNTIF(L39:L69,Y13)","v":2},{"$f":"Z13/(AB4-Z11)","v":6.4516129032258063E-2},{"$f":"IF(AA13=0,0,(AA13*((LOG(AA13))/LOG(2))))","v":-0.25510943937979835},null,{"$f":"N13","v":221},{"$f":"COUNTIF(L70:L101,AD13)","v":3},{"$f":"AE13/(AG4-AE11)","v":9.375E-2},{"$f":"IF(AF13=0,0,(AF13*((LOG(AF13))/LOG(2))))","v":-0.32015976555739156},null,{"$f":"N13","v":221},{"$f":"COUNTIF(L102:L132,AI13)","v":5},{"$f":"AJ13/(AL4-AJ11)","v":0.16129032258064516},{"$f":"IF(AK13=0,0,(AK13*((LOG(AK13))/LOG(2))))","v":-0.42455938959669559},null,{"$f":"N13","v":221},{"$f":"COUNTIF(L133:L164,AN13)","v":1},{"$f":"AO13/(AQ4-AO11)","v":3.125E-2},{"$f":"IF(AP13=0,0,(AP13*((LOG(AP13))/LOG(2))))","v":-0.15625},null,{"$f":"N13","v":221},{"$f":"COUNTIF(L165:L195,AS13)","v":6},{"$f":"AT13/(AV4-AT11)","v":0.19354838709677419},{"$f":"IF(AU13=0,0,(AU13*((LOG(AU13))/LOG(2))))","v":-0.45856138251594558}]
[12,816,24,822,24,829,null,null,null,null,0,122,null,222,{"$f":"COUNTIF($L$7:$L$500,N14)","v":82},{"$f":"O14/$Q$4","v":0.43386243386243384},{"$f":"IF(P14=0,0,(P14*((LOG(P14))/LOG(2))))","v":-0.52266991749970948},null,null,{"$f":"N14","v":222},{"$f":"COUNTIF(L7:L38,T14)","v":9},{"$f":"U14/(W4-U11)","v":0.28125},{"$f":"IF(V14=0,0,(V14*((LOG(V14))/LOG(2))))","v":-0.5147085933443496},null,{"$f":"N14","v":222},{"$f":"COUNTIF(L39:L69,Y14)","v":12},{"$f":"Z14/(AB4-Z11)","v":0.38709677419354838},{"$f":"IF(AA14=0,0,(AA14*((LOG(AA14))/LOG(2))))","v":-0.5300259908383429},null,{"$f":"N14","v":222},{"$f":"COUNTIF(L70:L101,AD14)","v":17},{"$f":"AE14/(AG4-AE11)","v":0.53125},{"$f":"IF(AF14=0,0,(AF14*((LOG(AF14))/LOG(2))))","v":-0.48478536558575719},null,{"$f":"N14","v":222},{"$f":"COUNTIF(L102:L132,AI14)","v":13},{"$f":"AJ14/(AL4-AJ11)","v":0.41935483870967744},{"$f":"IF(AK14=0,0,(AK14*((LOG(AK14))/LOG(2))))","v":-0.52576889352242517},null,{"$f":"N14","v":222},{"$f":"COUNTIF(L133:L164,AN14)","v":18},{"$f":"AO14/(AQ4-AO11)","v":0.5625},{"$f":"IF(AP14=0,0,(AP14*((LOG(AP14))/LOG(2))))","v":-0.4669171866886993},null,{"$f":"N14","v":222},{"$f":"COUNTIF(L165:L195,AS14)","v":13},{"$f":"AT14/(AV4-AT11)","v":0.41935483870967744},{"$f":"IF(AU14=0,0,(AU14*((LOG(AU14))/LOG(2))))","v":-0.52576889352242517}]
[21,937,22,942,24,952,null,null,null,null,0,222,null,null,null,{"$f":"SUM(P7:P14)","v":0.99999999999999989},{"$f":"-SUM(Q7:Q14)","v":1.9999271675675674},null,null,null,null,{"$f":"SUM(V7:V14)","v":1},{"$f":"-SUM(W7:W14)","v":2.273175594806832},null,null,null,{"$f":"SUM(AA7:AA14)","v":0.99999999999999989},{"$f":"-SUM(AB7:AB14)","v":1.8074584064631756},null,null,null,{"$f":"SUM(AF7:AF14)","v":1},{"$f":"-SUM(AG7:AG14)","v":1.8158362419430478},null,null,null,{"$f":"SUM(AK7:AK14)","v":1},{"$f":"-SUM(AL7:AL14)","v":1.9956364132813587},null,null,null,{"$f":"SUM(AP7:AP14)","v":1},{"$f":"-SUM(AQ7:AQ14)","v":1.5416159218625491},null,null,null,{"$f":"SUM(AU7:AU14)","v":1},{"$f":"-SUM(AV7:AV14)","v":1.828399411828636}]
[21,1113,22,1123,24,1129,null,null,null,null,0,222,null,null,null,"U=",{"$f":"Q15/(LOG(Q4)/LOG(2))","v":0.2644621866606669},null,null,null,null,"U1=",{"$f":"W15/(LOG(W4)/LOG(2))","v":0.45463511896136638},null,null,null,"U2=",{"$f":"AB15/(LOG(AB4)/LOG(2))","v":0.36483382837972977},null,null,null,"U3=",{"$f":"AG15/(LOG(AG4)/LOG(2))","v":0.36316724838860959},null,null,null,"U4=",{"$f":"AL15/(LOG(AL4)/LOG(2))","v":0.40281738717082016},null,null,null,"U5=",{"$f":"AQ15/(LOG(AQ4)/LOG(2))","v":0.30832318437250983},null,null,null,"U6=",{"$f":"AV15/(LOG(AV4)/LOG(2))","v":0.36906075118485882}]
[21,1399,22,1405,24,1409,null,null,null,null,0,222]
[21,1520,22,1524,24,1529,null,null,null,null,0,222]
[12,1623,24,1632,24,1639,null,null,null,null,0,122,null,"Total Target Seq"]
[12,1733,24,1737,24,1742,null,null,null,null,0,122,null,{"$f":"COUNTIF(L7:L195,G3)","v":0},null,32,31,32,31,32,31]
[21,1847,22,1851,13,1855,null,null,null,null,0,221,null,null,null,"% of reinforcement given in 6 equal intervals based on number of trials "]
[21,1962,22,1967,13,1972,null,null,null,null,0,221,null,null,null,"%_1","%_2","%_3","%_4","%_5","%_6"]
[21,2076,22,2079,13,2086,null,null,null,null,0,221,null,null,"target sequence",{"$f":"$G$3","v":211},{"$f":"$G$3","v":211},{"$f":"$G$3","v":211},{"$f":"$G$3","v":211},{"$f":"$G$3","v":211},{"$f":"$G$3","v":211}]
[12,2177,24,2187,24,2193,null,null,null,null,0,122,null,null,"total reinforcement",{"$f":"U11","v":0},{"$f":"Z11","v":0},{"$f":"AE11","v":0},{"$f":"AJ11","v":0},{"$f":"AO11","v":0},{"$f":"AT11","v":0}]
[12,2292,24,2300,24,2305,null,null,null,null,0,122,null,null,"% target"]
[21,2408,22,2418,24,2425,null,null,null,null,0,222,null,null,"CCRF"]
[21,2581,11,2596,22,2603,null,null,null,null,0,212,null,null,"% CCRf"]
[21,2801,11,2805,22,2807,null,null,null,null,0,212,null,null,"average response rate",{"$f":"F38/P20","v":132.03125},{"$f":"(F69-F38)/Q20","v":135.45161290322579},{"$f":"(F101-F69)/R20","v":116.4375},{"$f":"(F132-F101)/S20","v":130.19354838709677},{"$f":"(F164-F132)/T20","v":122.28125},{"$f":"(F195-F164)/U20","v":124.16129032258064}]
[21,2921,22,2927,24,2932,null,null,null,null,0,222]
[21,3024,22,3038,24,3046,null,null,null,null,0,222]
[21,3183,11,3186,22,3194,null,null,null,null,0,212]
[21,3313,22,3318,24,3323,null,null,null,null,0,222]
[21,3420,11,3427,22,3437,null,null,null,null,0,212]
[12,3600,24,3608,24,3618,null,null,null,null,0,122]
[21,3726,11,3731,22,3738,null,null,null,null,0,212]
[21,3842,22,3846,24,3858,null,null,null,null,0,222]
[21,3962,11,3969,22,3983,null,null,null,null,0,212]
[21,4216,22,4219,13,4225,null,null,null,null,0,221]
[21,4327,22,4332,24,4336,null,null,null,null,0,222]
[21,4432,22,4435,24,4441,null,null,null,null,0,222]
[12,4550,24,4555,24,4562,null,null,null,null,0,122]
[21,4666,11,4673,22,4679,null,null,null,null,0,212]
[21,4771,22,4778,24,4783,null,null,null,null,0,222]
[12,4875,24,4885,24,4890,null,null,null,null,0,122]
[21,4991,22,4998,24,5006,null,null,null,null,0,222]
[21,5113,11,5120,22,5123,null,null,null,null,0,212]
[21,5240,22,5245,13,5249,null,null,null,null,0,221]
[21,5528,11,5532,22,5539,null,null,null,null,0,212]
[21,5664,22,5667,24,5679,null,null,null,null,0,222]
[21,5815,22,5820,24,5828,null,null,null,null,0,222]
[21,5938,22,5943,24,5949,null,null,null,null,0,222]
[12,6044,24,6050,24,6056,null,null,null,null,0,122]
[21,6158,22,6160,24,6165,null,null,null,null,0,222]
[12,6258,24,6267,24,6274,null,null,null,null,0,122]
[21,6362,11,6369,22,6372,null,null,null,null,0,212]
[12,6547,24,6558,24,6566,null,null,null,null,0,122]
[21,6965,22,6976,13,6989,null,null,null,null,0,221]
[21,7093,11,7102,22,7108,null,null,null,null,0,212]
[21,7314,11,7319,22,7325,null,null,null,null,0,212]
[12,7422,24,7426,24,7432,null,null,null,null,0,122]
[21,7531,11,7539,22,7546,null,null,null,null,0,212]
[21,7648,11,7653,22,7665,null,null,null,null,0,212]
[12,7759,24,7773,24,7780,null,null,null,null,0,122]
[12,7873,24,7878,24,7881,null,null,null,null,0,122]
[21,7984,22,7990,24,7995,null,null,null,null,0,222]
[21,8087,22,8090,24,8094,null,null,null,null,0,222]
[21,8195,22,8201,24,8208,null,null,null,null,0,222]
[21,8299,11,8308,22,8310,null,null,null,null,0,212]
[21,8411,22,8416,24,8424,null,null,null,null,0,222]
[21,8523,11,8525,22,8529,null,null,null,null,0,212]
[21,8625,22,8630,24,8635,null,null,null,null,0,222]
[21,8736,22,8738,24,8741,null,null,null,null,0,222]
[21,8844,22,8848,24,8852,null,null,null,null,0,222]
[21,8990,11,8998,22,9000,null,null,null,null,0,212]
[21,9097,11,9104,22,9106,null,null,null,null,0,212]
[21,9277,22,9287,24,9298,null,null,null,null,0,222]
[21,9416,22,9421,13,9423,null,null,null,null,0,221]
[21,9532,22,9539,24,9543,null,null,null,null,0,222]
[12,9636,13,9643,24,9645,null,null,null,null,0,112]
[12,9739,24,9741,24,9746,null,null,null,null,0,122]
[21,9844,22,9851,24,9856,null,null,null,null,0,222]
[21,9984,11,9991,22,9995,null,null,null,null,0,212]
[21,10095,22,10100,24,10106,null,null,null,null,0,222]
[12,10206,24,10219,24,10225,null,null,null,null,0,122]
[21,10323,22,10326,24,10331,null,null,null,null,0,222]
[21,10429,22,10433,24,10439,null,null,null,null,0,222]
[12,10532,24,10539,24,10543,null,null,null,null,0,122]
[21,10633,22,10638,24,10644,null,null,null,null,0,222]
[21,10825,11,10829,22,10836,null,null,null,null,0,212]
[21,10942,11,10945,22,10955,null,null,null,null,0,212]
[12,11049,24,11057,24,11061,null,null,null,null,0,122]
[21,11157,22,11163,24,11170,null,null,null,null,0,222]
[21,11265,11,11268,22,11270,null,null,null,null,0,212]
[21,11364,22,11374,24,11379,null,null,null,null,0,222]
[21,11475,22,11484,13,11487,null,null,null,null,0,221]
[21,11576,22,11581,24,11589,null,null,null,null,0,222]
[21,11701,22,11705,24,11715,null,null,null,null,0,222]
[21,11816,22,11821,24,11826,null,null,null,null,0,222]
[21,11926,22,11930,24,11935,null,null,null,null,0,222]
[21,12034,22,12039,13,12043,null,null,null,null,0,221]
[21,12146,22,12148,24,12150,null,null,null,null,0,222]
[21,12249,22,12253,24,12259,null,null,null,null,0,222]
[12,12352,24,12356,24,12362,null,null,null,null,0,122]
[21,12460,22,12469,13,12473,null,null,null,null,0,221]
[21,12571,22,12574,24,12579,null,null,null,null,0,222]
[21,12675,22,12679,24,12684,null,null,null,null,0,222]
[21,12810,22,12819,24,12825,null,null,null,null,0,222]
[21,12921,11,12924,22,12929,null,null,null,null,0,212]
[21,13040,11,13047,22,13054,null,null,null,null,0,212]
[21,13410,11,13413,22,13415,null,null,null,null,0,212]
[21,13515,11,13518,22,13528,null,null,null,null,0,212]
[21,13628,22,13634,24,13642,null,null,null,null,0,222]
[21,13741,22,13744,13,13747,null,null,null,null,0,221]
[21,13857,11,13861,22,13865,null,null,null,null,0,212]
[12,13958,24,13967,24,13971,null,null,null,null,0,122]
[21,14069,22,14078,24,14087,null,null,null,null,0,222]
[21,14304,11,14308,22,14310,null,null,null,null,0,212]
[21,14452,11,14456,22,14460,null,null,null,null,0,212]
[21,14565,22,14571,24,14575,null,null,null,null,0,222]
[12,14671,24,14678,24,14682,null,null,null,null,0,122]
[21,14772,22,14777,13,14786,null,null,null,null,0,221]
[21,14942,22,14954,24,14961,null,null,null,null,0,222]
[21,15079,22,15081,24,15083,null,null,null,null,0,222]
[21,15205,22,15210,13,15213,null,null,null,null,0,221]
[21,15354,22,15359,24,15363,null,null,null,null,0,222]
[21,15466,11,15470,22,15476,null,null,null,null,0,212]
[21,15585,22,15590,24,15597,null,null,null,null,0,222]
[21,15694,22,15697,13,15699,null,null,null,null,0,221]
[12,15792,24,15798,13,15800,null,null,null,null,0,121]
[21,15921,22,15935,24,15942,null,null,null,null,0,222]
[12,16067,24,16072,24,16079,null,null,null,null,0,122]
[21,16178,22,16181,24,16186,null,null,null,null,0,222]
[21,16300,22,16306,24,16311,null,null,null,null,0,222]
[12,16407,24,16410,24,16415,null,null,null,null,0,122]
[12,16523,24,16528,24,16533,null,null,null,null,0,122]
[21,16643,22,16648,24,16654,null,null,null,null,0,222]
[12,16751,24,16755,24,16761,null,null,null,null,0,122]
[21,16882,22,16887,24,16894,null,null,null,null,0,222]
[21,17056,22,17058,24,17077,null,null,null,null,0,222]
[21,17301,11,17311,22,17313,null,null,null,null,0,212]
[21,17416,11,17421,22,17424,null,null,null,null,0,212]
[12,17521,24,17523,24,17533,null,null,null,null,0,122]
[21,17631,22,17633,24,17639,null,null,null,null,0,222]
[21,17750,22,17755,24,17775,null,null,null,null,0,222]
[12,17909,24,17911,24,17916,null,null,null,null,0,122]
[21,18022,22,18024,24,18026,null,null,null,null,0,222]
[21,18169,22,18175,24,18181,null,null,null,null,0,222]
[21,18283,11,18289,22,18295,null,null,null,null,0,212]
[21,18397,22,18400,24,18405,null,null,null,null,0,222]
[21,18504,22,18508,24,18514,null,null,null,null,0,222]
[21,18616,22,18618,24,18622,null,null,null,null,0,222]
[21,18724,22,18727,24,18734,null,null,null,null,0,222]
[12,18826,24,18831,24,18837,null,null,null,null,0,122]
[21,18938,22,18942,24,18949,null,null,null,null,0,222]
[21,19048,22,19052,24,19059,null,null,null,null,0,222]
[21,19191,22,19195,24,19202,null,null,null,null,0,222]
[21,19303,22,19307,24,19312,null,null,null,null,0,222]
[21,19419,22,19421,24,19427,null,null,null,null,0,222]
[21,19541,22,19546,13,19549,null,null,null,null,0,221]
[12,19641,24,19646,24,19648,null,null,null,null,0,122]
[21,19758,11,19760,22,19764,null,null,null,null,0,212]
[21,19861,22,19864,24,19872,null,null,null,null,0,222]
[12,19970,24,19981,24,19985,null,null,null,null,0,122]
[21,20087,11,20096,22,20099,null,null,null,null,0,212]
[21,20201,22,20211,24,20220,null,null,null,null,0,222]
[21,20441,11,20451,22,20457,null,null,null,null,0,212]
[21,20555,11,20563,22,20569,null,null,null,null,0,212]
[21,20668,22,20673,24,20680,null,null,null,null,0,222]
[21,20777,22,20783,24,20790,null,null,null,null,0,222]
[21,20893,22,20897,13,20900,null,null,null,null,0,221]
[12,20993,24,21000,24,21004,null,null,null,null,0,122]
[21,21102,22,21108,24,21111,null,null,null,null,0,222]
[21,21213,11,21219,22,21226,null,null,null,null,0,212]
[21,21332,22,21336,24,21343,null,null,null,null,0,222]
[21,21440,22,21446,13,21452,null,null,null,null,0,221]
[21,21549,22,21553,24,21557,null,null,null,null,0,222]
[21,21698,22,21704,24,21711,null,null,null,null,0,222]
[21,21893,11,21898,22,21903,null,null,null,null,0,212]
[21,22006,22,22013,24,22020,null,null,null,null,0,222]
[21,22120,22,22125,13,22129,null,null,null,null,0,221]
[21,22255,11,22262,22,22265,null,null,null,null,0,212]
[21,22406,22,22420,13,22424,null,null,null,null,0,221]
[21,22536,11,22540,22,22547,null,null,null,null,0,212]
[21,22661,11,22665,22,22673,null,null,null,null,0,212]
[21,22770,22,22774,24,22779,null,null,null,null,0,222]
[21,22875,22,22884,24,22892,null,null,null,null,0,222]
[21,22988,22,22991,24,22997,null,null,null,null,0,222]
[12,23093,24,23095,24,23104,null,null,null,null,0,122]
[12,23218,24,23221,24,23228,null,null,null,null,0,122]
[21,23361,22,23372,24,23382,null,null,null,null,0,222]
[21,23488,22,23500,24,23508,null,null,null,null,0,222]
[21,23611,11,23616,22,23621,null,null,null,null,0,212]
[21,23718,11,23730,22,23746,null,null,null,null,0,212]
[21,23838,22,23841,13,23844,null,null,null,null,0,221]
[21,23941,22,23944,13,23948,null,null,null,null,null,221]

{"sheet":"!N208930.Gus","index":14,"n_rows":186,"n_cols":48,"rows_kept":186,"cut":false,"hidden":false,"merged":[[4,39,4,42],[5,39,5,40],[4,44,4,47],[5,44,5,45],[4,24,4,27],[5,24,5,25],[4,29,4,32],[5,29,5,30],[4,34,4,37],[5,34,5,35],[1,1,1,2],[5,13,5,14],[18,13,18,14],[19,13,19,14],[4,19,4,22],[5,19,5,20]]}
["Report for:!N208930.Gus"]
["Date:","<date>"]
["Hen:","<hen>",null,null,null,"Correct Sequence",{"$f":"Start!J2","v":211},null,null,null,null,null,null,null,null,"Total Sequences in Data",{"$f":"4994-COUNTBLANK(L7:L5000)","v":180},null,null,null,null,"Total Sequences in Block Data",{"$f":"COUNTA(L7:L36)","v":30},null,null,null,"Total Sequences in Block Data",{"$f":"COUNTA(L37:L66)","v":30},null,null,null,"Total Sequences in Block Data",{"$f":"COUNTA(L67:L96)","v":30},null,null,null,"Total Sequences in Block Data",{"$f":"COUNTA(L97:L126)","v":30},null,null,null,"Total Sequences in Block Data",{"$f":"COUNTA(L127:L156)","v":30},null,null,null,"Total Sequences in Block Data",{"$f":"COUNTA(L157:L186)","v":30}]
[null,null,null,null,null,null,null,null,null,null,null,null,null,null,null,"Total Sequences in Summary",{"$f":"SUM(O7:O14)","v":180},null,null,null,null,"Total Sequences in Block Summary",{"$f":"SUM(U7:U14)","v":30},null,null,null,"Total Sequences in Block Summary",{"$f":"SUM(Z7:Z14)","v":30},null,null,null,"Total Sequences in Block Summary",{"$f":"SUM(AE7:AE14)","v":30},null,null,null,"Total Sequences in Block Summary",{"$f":"SUM(AJ7:AJ14)","v":30},null,null,null,"Total Sequences in Block Summary",{"$f":"SUM(AO7:AO14)","v":30},null,null,null,"Total Sequences in Block Summary",{"$f":"SUM(AT7:AT14)","v":30}]
[null,null,null,null,null,null,null,null,null,null,null,null,null,null,null,null,null,null,null,"Block 1",null,null,null,null,"Block 2",null,null,null,null,"Block 3",null,null,null,null,"Block 4",null,null,null,null,"Block 5",null,null,null,null,"Block 6"]
["Sequence\nComponent\n1","Time\n1","Sequence\nComponent\n2","Time\n2","Sequence\nComponent\n3","Time\n3","Sequence\nComponent\n4","Time\n4","Sequence\nComponent\n5","Time\n5","Correct?\n0=No 1=Yes","Sequence",null,"Frequency",null,"Relative Frequency","Variability",null,null,"Frequency",null,"Relative Frequency","Variability",null,"Frequency",null,"Relative Frequency","Variability",null,"Frequency",null,"Relative Frequency","Variability",null,"Frequency",null,"Relative Frequency","Variability",null,"Frequency",null,"Relative Frequency","Variability",null,"Frequency",null,"Relative Frequency","Variability"]
[12,39,13,40,24,50,null,null,null,null,0,112,null,111,{"$f":"COUNTIF($L$7:$L$500,N7)","v":0},{"$f":"O7/$Q$4","v":0},{"$f":"IF(P7=0,0,(P7*((LOG(P7))/LOG(2))))","v":0},null,null,{"$f":"N7","v":111},{"$f":"COUNTIF(L7:L36,T7)","v":0},{"$f":"U7/(W4-U11)","v":0},{"$f":"IF(V7=0,0,(V7*((LOG(V7))/LOG(2))))","v":0},null,{"$f":"N7","v":111},{"$f":"COUNTIF(L37:L66,Y7)","v":0},{"$f":"Z7/(AB4-Z11)","v":0},{"$f":"IF(AA7=0,0,(AA7*((LOG(AA7))/LOG(2))))","v":0},null,{"$f":"N7","v":111},{"$f":"COUNTIF(L67:L96,AD7)","v":0},{"$f":"AE7/(AG4-AE11)","v":0},{"$f":"IF(AF7=0,0,(AF7*((LOG(AF7))/LOG(2))))","v":0},null,{"$f":"N7","v":111},{"$f":"COUNTIF(L97:L126,AI7)","v":0},{"$f":"AJ7/(AL4-AJ11)","v":0},{"$f":"IF(AK7=0,0,(AK7*((LOG(AK7))/LOG(2))))","v":0},null,{"$f":"N7","v":111},{"$f":"COUNTIF(L127:L156,AN7)","v":0},{"$f":"AO7/(AQ4-AO11)","v":0},{"$f":"IF(AP7=0,0,(AP7*((LOG(AP7))/LOG(2))))","v":0},null,{"$f":"N7","v":111},{"$f":"COUNTIF(L157:L186,AS7)","v":0},{"$f":"AT7/(AV4-AT11)","v":0},{"$f":"IF(AU7=0,0,(AU7*((LOG(AU7))/LOG(2))))","v":0}]
[21,158,22,160,24,165,null,null,null,null,0,222,null,112,{"$f":"COUNTIF($L$7:$L$500,N8)","v":1},{"$f":"O8/$Q$4","v":5.5555555555555558E-3},{"$f":"IF(P8=0,0,(P8*((LOG(P8))/LOG(2))))","v":-4.1621406090720417E-2},null,null,{"$f":"N8","v":112},{"$f":"COUNTIF(L7:L36,T8)","v":1},{"$f":"U8/(W4-U11)","v":3.4482758620689655E-2},{"$f":"IF(V8=0,0,(V8*((LOG(V8))/LOG(2))))","v":-0.16751658603888178},null,{"$f":"N8","v":112},{"$f":"COUNTIF(L37:L66,Y8)","v":0},{"$f":"Z8/(AB4-Z11)","v":0},{"$f":"IF(AA8=0,0,(AA8*((LOG(AA8))/LOG(2))))","v":0},null,{"$f":"N8","v":112},{"$f":"COUNTIF(L67:L96,AD8)","v":0},{"$f":"AE8/(AG4-AE11)","v":0},{"$f":"IF(AF8=0,0,(AF8*((LOG(AF8))/LOG(2))))","v":0},null,{"$f":"N8","v":112},{"$f":"COUNTIF(L97:L126,AI8)","v":0},{"$f":"AJ8/(AL4-AJ11)","v":0},{"$f":"IF(AK8=0,0,(AK8*((LOG(AK8))/LOG(2))))","v":0},null,{"$f":"N8","v":112},{"$f":"COUNTIF(L127:L156,AN8)","v":0},{"$f":"AO8/(AQ4-AO11)","v":0},{"$f":"IF(AP8=0,0,(AP8*((LOG(AP8))/LOG(2))))","v":0},null,{"$f":"N8","v":112},{"$f":"COUNTIF(L157:L186,AS8)","v":0},{"$f":"AT8/(AV4-AT11)","v":0},{"$f":"IF(AU8=0,0,(AU8*((LOG(AU8))/LOG(2))))","v":0}]
[12,274,24,279,24,296,null,null,null,null,0,122,null,121,{"$f":"COUNTIF($L$7:$L$500,N9)","v":3},{"$f":"O9/$Q$4","v":1.6666666666666666E-2},{"$f":"IF(P9=0,0,(P9*((LOG(P9))/LOG(2))))","v":-9.8448176593475309E-2},null,null,{"$f":"N9","v":121},{"$f":"COUNTIF(L7:L36,T9)","v":1},{"$f":"U9/(W4-U11)","v":3.4482758620689655E-2},{"$f":"IF(V9=0,0,(V9*((LOG(V9))/LOG(2))))","v":-0.16751658603888178},null,{"$f":"N9","v":121},{"$f":"COUNTIF(L37:L66,Y9)","v":1},{"$f":"Z9/(AB4-Z11)","v":3.3333333333333333E-2},{"$f":"IF(AA9=0,0,(AA9*((LOG(AA9))/LOG(2))))","v":-0.16356301985361729},null,{"$f":"N9","v":121},{"$f":"COUNTIF(L67:L96,AD9)","v":1},{"$f":"AE9/(AG4-AE11)","v":3.3333333333333333E-2},{"$f":"IF(AF9=0,0,(AF9*((LOG(AF9))/LOG(2))))","v":-0.16356301985361729},null,{"$f":"N9","v":121},{"$f":"COUNTIF(L97:L126,AI9)","v":0},{"$f":"AJ9/(AL4-AJ11)","v":0},{"$f":"IF(AK9=0,0,(AK9*((LOG(AK9))/LOG(2))))","v":0},null,{"$f":"N9","v":121},{"$f":"COUNTIF(L127:L156,AN9)","v":0},{"$f":"AO9/(AQ4-AO11)","v":0},{"$f":"IF(AP9=0,0,(AP9*((LOG(AP9))/LOG(2))))","v":0},null,{"$f":"N9","v":121},{"$f":"COUNTIF(L157:L186,AS9)","v":0},{"$f":"AT9/(AV4-AT11)","v":0},{"$f":"IF(AU9=0,0,(AU9*((LOG(AU9))/LOG(2))))","v":0}]
[12,403,24,419,13,422,null,null,null,null,0,121,null,122,{"$f":"COUNTIF($L$7:$L$500,N10)","v":31},{"$f":"O10/$Q$4","v":0.17222222222222222},{"$f":"IF(P10=0,0,(P10*((LOG(P10))/LOG(2))))","v":-0.43704089091237103},null,null,{"$f":"N10","v":122},{"$f":"COUNTIF(L7:L36,T10)","v":4},{"$f":"U10/(W4-U11)","v":0.13793103448275862},{"$f":"IF(V10=0,0,(V10*((LOG(V10))/LOG(2))))","v":-0.39420427519000989},null,{"$f":"N10","v":122},{"$f":"COUNTIF(L37:L66,Y10)","v":9},{"$f":"Z10/(AB4-Z11)","v":0.3},{"$f":"IF(AA10=0,0,(AA10*((LOG(AA10))/LOG(2))))","v":-0.52108967824986185},null,{"$f":"N10","v":122},{"$f":"COUNTIF(L67:L96,AD10)","v":8},{"$f":"AE10/(AG4-AE11)","v":0.26666666666666666},{"$f":"IF(AF10=0,0,(AF10*((LOG(AF10))/LOG(2))))","v":-0.50850415882893829},null,{"$f":"N10","v":122},{"$f":"COUNTIF(L97:L126,AI10)","v":2},{"$f":"AJ10/(AL4-AJ11)","v":6.8965517241379309E-2},{"$f":"IF(AK10=0,0,(AK10*((LOG(AK10))/LOG(2))))","v":-0.26606765483638428},null,{"$f":"N10","v":122},{"$f":"COUNTIF(L127:L156,AN10)","v":4},{"$f":"AO10/(AQ4-AO11)","v":0.13333333333333333},{"$f":"IF(AP10=0,0,(AP10*((LOG(AP10))/LOG(2))))","v":-0.3875854127478025},null,{"$f":"N10","v":122},{"$f":"COUNTIF(L157:L186,AS10)","v":4},{"$f":"AT10/(AV4-AT11)","v":0.13333333333333333},{"$f":"IF(AU10=0,0,(AU10*((LOG(AU10))/LOG(2))))","v":-0.3875854127478025}]
[12,535,24,541,24,554,null,null,null,null,0,122,null,211,{"$f":"COUNTIF($L$7:$L$500,N11)","v":2},{"$f":"O11/$Q$4","v":1.1111111111111112E-2},{"$f":"IF(P11=0,0,(P11*((LOG(P11))/LOG(2))))","v":-7.2131701070329707E-2},null,null,{"$f":"N11","v":211},{"$f":"COUNTIF(L7:L36,T11)","v":1},null,null,null,{"$f":"N11","v":211},{"$f":"COUNTIF(L37:L66,Y11)","v":0},null,null,null,{"$f":"N11","v":211},{"$f":"COUNTIF(L67:L96,AD11)","v":0},null,null,null,{"$f":"N11","v":211},{"$f":"COUNTIF(L97:L126,AI11)","v":1},null,null,null,{"$f":"N11","v":211},{"$f":"COUNTIF(L127:L156,AN11)","v":0},null,null,null,{"$f":"N11","v":211},{"$f":"COUNTIF(L157:L186,AS11)","v":0}]
[12,741,24,755,24,767,null,null,null,null,0,122,null,212,{"$f":"COUNTIF($L$7:$L$500,N12)","v":38},{"$f":"O12/$Q$4","v":0.21111111111111111},{"$f":"IF(P12=0,0,(P12*((LOG(P12))/LOG(2))))","v":-0.47371762305372994},null,null,{"$f":"N12","v":212},{"$f":"COUNTIF(L7:L36,T12)","v":5},{"$f":"U12/(W4-U11)","v":0.17241379310344829},{"$f":"IF(V12=0,0,(V12*((LOG(V12))/LOG(2))))","v":-0.43725050004141547},null,{"$f":"N12","v":212},{"$f":"COUNTIF(L37:L66,Y12)","v":4},{"$f":"Z12/(AB4-Z11)","v":0.13333333333333333},{"$f":"IF(AA12=0,0,(AA12*((LOG(AA12))/LOG(2))))","v":-0.3875854127478025},null,{"$f":"N12","v":212},{"$f":"COUNTIF(L67:L96,AD12)","v":9},{"$f":"AE12/(AG4-AE11)","v":0.3},{"$f":"IF(AF12=0,0,(AF12*((LOG(AF12))/LOG(2))))","v":-0.52108967824986185},null,{"$f":"N12","v":212},{"$f":"COUNTIF(L97:L126,AI12)","v":4},{"$f":"AJ12/(AL4-AJ11)","v":0.13793103448275862},{"$f":"IF(AK12=0,0,(AK12*((LOG(AK12))/LOG(2))))","v":-0.39420427519000989},null,{"$f":"N12","v":212},{"$f":"COUNTIF(L127:L156,AN12)","v":7},{"$f":"AO12/(AQ4-AO11)","v":0.23333333333333334},{"$f":"IF(AP12=0,0,(AP12*((LOG(AP12))/LOG(2))))","v":-0.48989165716187993},null,{"$f":"N12","v":212},{"$f":"COUNTIF(L157:L186,AS12)","v":9},{"$f":"AT12/(AV4-AT11)","v":0.3},{"$f":"IF(AU12=0,0,(AU12*((LOG(AU12))/LOG(2))))","v":-0.52108967824986185}]
[21,938,22,944,24,947,null,null,null,null,0,222,null,221,{"$f":"COUNTIF($L$7:$L$500,N13)","v":24},{"$f":"O13/$Q$4","v":0.13333333333333333},{"$f":"IF(P13=0,0,(P13*((LOG(P13))/LOG(2))))","v":-0.3875854127478025},null,null,{"$f":"N13","v":221},{"$f":"COUNTIF(L7:L36,T13)","v":4},{"$f":"U13/(W4-U11)","v":0.13793103448275862},{"$f":"IF(V13=0,0,(V13*((LOG(V13))/LOG(2))))","v":-0.39420427519000989},null,{"$f":"N13","v":221},{"$f":"COUNTIF(L37:L66,Y13)","v":4},{"$f":"Z13/(AB4-Z11)","v":0.13333333333333333},{"$f":"IF(AA13=0,0,(AA13*((LOG(AA13))/LOG(2))))","v":-0.3875854127478025},null,{"$f":"N13","v":221},{"$f":"COUNTIF(L67:L96,AD13)","v":3},{"$f":"AE13/(AG4-AE11)","v":0.1},{"$f":"IF(AF13=0,0,(AF13*((LOG(AF13))/LOG(2))))","v":-0.33219280948873625},null,{"$f":"N13","v":221},{"$f":"COUNTIF(L97:L126,AI13)","v":4},{"$f":"AJ13/(AL4-AJ11)","v":0.13793103448275862},{"$f":"IF(AK13=0,0,(AK13*((LOG(AK13))/LOG(2))))","v":-0.39420427519000989},null,{"$f":"N13","v":221},{"$f":"COUNTIF(L127:L156,AN13)","v":4},{"$f":"AO13/(AQ4-AO11)","v":0.13333333333333333},{"$f":"IF(AP13=0,0,(AP13*((LOG(AP13))/LOG(2))))","v":-0.3875854127478025},null,{"$f":"N13","v":221},{"$f":"COUNTIF(L157:L186,AS13)","v":5},{"$f":"AT13/(AV4-AT11)","v":0.16666666666666666},{"$f":"IF(AU13=0,0,(AU13*((LOG(AU13))/LOG(2))))","v":-0.43082708345352599}]
[21,1139,22,1146,24,1151,null,null,null,null,0,222,null,222,{"$f":"COUNTIF($L$7:$L$500,N14)","v":81},{"$f":"O14/$Q$4","v":0.45},{"$f":"IF(P14=0,0,(P14*((LOG(P14))/LOG(2))))","v":-0.51840139205027258},null,null,{"$f":"N14","v":222},{"$f":"COUNTIF(L7:L36,T14)","v":14},{"$f":"U14/(W4-U11)","v":0.48275862068965519},{"$f":"IF(V14=0,0,(V14*((LOG(V14))/LOG(2))))","v":-0.50719879389584666},null,{"$f":"N14","v":222},{"$f":"COUNTIF(L37:L66,Y14)","v":12},{"$f":"Z14/(AB4-Z11)","v":0.4},{"$f":"IF(AA14=0,0,(AA14*((LOG(AA14))/LOG(2))))","v":-0.52877123795494496},null,{"$f":"N14","v":222},{"$f":"COUNTIF(L67:L96,AD14)","v":9},{"$f":"AE14/(AG4-AE11)","v":0.3},{"$f":"IF(AF14=0,0,(AF14*((LOG(AF14))/LOG(2))))","v":-0.52108967824986185},null,{"$f":"N14","v":222},{"$f":"COUNTIF(L97:L126,AI14)","v":19},{"$f":"AJ14/(AL4-AJ11)","v":0.65517241379310343},{"$f":"IF(AK14=0,0,(AK14*((LOG(AK14))/LOG(2))))","v":-0.39969021213778433},null,{"$f":"N14","v":222},{"$f":"COUNTIF(L127:L156,AN14)","v":15},{"$f":"AO14/(AQ4-AO11)","v":0.5},{"$f":"IF(AP14=0,0,(AP14*((LOG(AP14))/LOG(2))))","v":-0.5},null,{"$f":"N14","v":222},{"$f":"COUNTIF(L157:L186,AS14)","v":12},{"$f":"AT14/(AV4-AT11)","v":0.4},{"$f":"IF(AU14=0,0,(AU14*((LOG(AU14))/LOG(2))))","v":-0.52877123795494496}]
[21,1318,11,1321,22,1323,null,null,null,null,0,212,null,null,null,{"$f":"SUM(P7:P14)","v":1},{"$f":"-SUM(Q7:Q14)","v":2.0289466025187015},null,null,null,null,{"$f":"SUM(V7:V14)","v":1},{"$f":"-SUM(W7:W14)","v":2.0678910163950457},null,null,null,{"$f":"SUM(AA7:AA14)","v":1},{"$f":"-SUM(AB7:AB14)","v":1.9885947615540291},null,null,null,{"$f":"SUM(AF7:AF14)","v":1},{"$f":"-SUM(AG7:AG14)","v":2.0464393446710156},null,null,null,{"$f":"SUM(AK7:AK14)","v":1},{"$f":"-SUM(AL7:AL14)","v":1.4541664173541884},null,null,null,{"$f":"SUM(AP7:AP14)","v":1},{"$f":"-SUM(AQ7:AQ14)","v":1.765062482657485},null,null,null,{"$f":"SUM(AU7:AU14)","v":1},{"$f":"-SUM(AV7:AV14)","v":1.8682734124061353}]
[21,1769,22,1777,24,1784,null,null,null,null,0,222,null,null,null,"U=",{"$f":"Q15/(LOG(Q4)/LOG(2))","v":0.27082039335671176},null,null,null,null,"U1=",{"$f":"W15/(LOG(W4)/LOG(2))","v":0.42142594706426301},null,null,null,"U2=",{"$f":"AB15/(LOG(AB4)/LOG(2))","v":0.4052657630748373},null,null,null,"U3=",{"$f":"AG15/(LOG(AG4)/LOG(2))","v":0.41705420261509424},null,null,null,"U4=",{"$f":"AL15/(LOG(AL4)/LOG(2))","v":0.29635191350212947},null,null,null,"U5=",{"$f":"AQ15/(LOG(AQ4)/LOG(2))","v":0.3597109917708679},null,null,null,"U6=",{"$f":"AV15/(LOG(AV4)/LOG(2))","v":0.38074486805924901}]
[21,1898,22,1903,24,1908,null,null,null,null,0,222]
[12,2014,24,2020,24,2025,null,null,null,null,0,122]
[21,2128,22,2133,24,2139,null,null,null,null,0,222,null,"Total Target Seq"]
[21,2252,22,2256,24,2261,null,null,null,null,0,222,null,{"$f":"COUNTIF(L7:L186,G3)","v":2},null,30,30,30,30,30,30]
[21,2424,22,2433,24,2441,null,null,null,null,0,222,null,null,null,"% of reinforcement given in 6 equal intervals based on number of trials "]
[21,2637,11,2640,22,2652,null,null,null,null,0,212,null,null,null,"%_1","%_2","%_3","%_4","%_5","%_6"]
[21,2776,11,2781,22,2785,null,null,null,null,0,212,null,null,"target sequence",{"$f":"$G$3","v":211},{"$f":"$G$3","v":211},{"$f":"$G$3","v":211},{"$f":"$G$3","v":211},{"$f":"$G$3","v":211},{"$f":"$G$3","v":211}]
[21,2885,11,2890,22,2894,null,null,null,null,0,212,null,null,"total reinforcement",{"$f":"U11","v":1},{"$f":"Z11","v":0},{"$f":"AE11","v":0},{"$f":"AJ11","v":1},{"$f":"AO11","v":0},{"$f":"AT11","v":0}]
[21,2997,22,2999,24,3009,null,null,null,null,0,222,null,null,"% target"]
[21,3115,22,3121,24,3126,null,null,null,null,0,222,null,null,"CCRF"]
[21,3244,22,3247,24,3254,null,null,null,null,0,222,null,null,"% CCRf"]
[21,3348,22,3357,13,3362,null,null,null,null,0,221,null,null,"average response rate",{"$f":"F36/P20","v":155.03333333333333},{"$f":"(F66-F36)/Q20","v":126.33333333333333},{"$f":"(F96-F66)/R20","v":132.80000000000001},{"$f":"(F126-F96)/S20","v":124.13333333333334},{"$f":"(F156-F126)/T20","v":124.2},{"$f":"(F186-F156)/U20","v":133.43333333333334}]
[21,3552,22,3561,13,3568,null,null,null,null,0,221]
[21,3691,11,3696,11,3699,null,null,null,null,0,211]
[21,3977,22,3983,24,3989,null,null,null,null,0,222]
[21,4110,22,4115,24,4127,null,null,null,null,0,222]
[21,4299,11,4309,22,4314,null,null,null,null,0,212]
[21,4417,22,4419,24,4424,null,null,null,null,0,222]
[21,4532,22,4536,13,4541,null,null,null,null,0,221]
[21,4639,22,4646,13,4651,null,null,null,null,0,221]
[21,4751,22,4757,13,4759,null,null,null,null,0,221]
[21,4858,11,4866,22,4872,null,null,null,null,0,212]
[12,4983,24,4988,24,4996,null,null,null,null,0,122]
[21,5104,22,5107,13,5110,null,null,null,null,0,221]
[21,5210,22,5215,24,5220,null,null,null,null,0,222]
[12,5316,24,5318,24,5337,null,null,null,null,0,122]
[12,5432,24,5436,24,5441,null,null,null,null,0,122]
[21,5544,22,5552,24,5558,null,null,null,null,0,222]
[12,5655,24,5659,13,5663,null,null,null,null,0,121]
[21,5906,22,5911,24,5916,null,null,null,null,0,222]
[21,6016,11,6022,22,6025,null,null,null,null,0,212]
[12,6156,24,6172,24,6179,null,null,null,null,0,122]
[21,6272,11,6279,22,6285,null,null,null,null,0,212]
[21,6485,22,6488,24,6494,null,null,null,null,0,222]
[21,6682,22,6687,24,6692,null,null,null,null,0,222]
[21,6792,22,6796,24,6803,null,null,null,null,0,222]
[21,6911,22,6914,24,6918,null,null,null,null,0,222]
[12,7011,24,7016,24,7020,null,null,null,null,0,122]
[12,7113,24,7123,24,7128,null,null,null,null,0,122]
[12,7228,24,7231,24,7239,null,null,null,null,0,122]
[12,7331,24,7340,24,7344,null,null,null,null,0,122]
[21,7447,22,7451,24,7457,null,null,null,null,0,222]
[21,7560,22,7565,24,7572,null,null,null,null,0,222]
[12,7670,24,7678,24,7682,null,null,null,null,0,122]
[21,7781,22,7787,13,7792,null,null,null,null,0,221]
[21,7994,11,8001,22,8010,null,null,null,null,0,212]
[21,8107,22,8111,24,8115,null,null,null,null,0,222]
[21,8215,22,8219,13,8222,null,null,null,null,0,221]
[21,8323,22,8330,24,8334,null,null,null,null,0,222]
[21,8434,22,8437,24,8441,null,null,null,null,0,222]
[12,8540,24,8543,24,8548,null,null,null,null,0,122]
[12,8641,24,8646,13,8651,null,null,null,null,0,121]
[12,8803,24,8815,24,8823,null,null,null,null,0,122]
[21,8920,22,8926,24,8936,null,null,null,null,0,222]
[21,9104,22,9111,24,9113,null,null,null,null,0,222]
[21,9240,11,9247,22,9249,null,null,null,null,0,212]
[21,9358,11,9362,22,9375,null,null,null,null,0,212]
[21,9488,11,9494,22,9499,null,null,null,null,0,212]
[21,9590,11,9597,22,9605,null,null,null,null,0,212]
[21,9762,11,9768,22,9775,null,null,null,null,0,212]
[21,9908,11,9913,22,9920,null,null,null,null,0,212]
[21,10019,11,10026,22,10031,null,null,null,null,0,212]
[12,10124,24,10136,24,10140,null,null,null,null,0,122]
[21,10247,22,10251,24,10261,null,null,null,null,0,222]
[21,10460,22,10463,24,10470,null,null,null,null,0,222]
[21,10571,22,10575,24,10581,null,null,null,null,0,222]
[12,10674,24,10680,24,10685,null,null,null,null,0,122]
[21,10783,22,10787,24,10791,null,null,null,null,0,222]
[21,10889,22,10895,24,10900,null,null,null,null,0,222]
[12,10990,24,10999,24,11012,null,null,null,null,0,122]
[21,11124,22,11130,13,11136,null,null,null,null,0,221]
[21,11271,22,11281,13,11285,null,null,null,null,0,221]
[21,11389,11,11392,22,11398,null,null,null,null,0,212]
[12,11492,24,11500,24,11504,null,null,null,null,0,122]
[12,11596,24,11602,24,11604,null,null,null,null,0,122]
[12,11701,24,11705,24,11709,null,null,null,null,0,122]
[21,11861,22,11865,24,11876,null,null,null,null,0,222]
[21,12024,22,12029,13,12038,null,null,null,null,0,221]
[21,12278,22,12302,24,12309,null,null,null,null,0,222]
[21,12412,11,12420,22,12425,null,null,null,null,0,212]
[21,12529,22,12538,24,12549,null,null,null,null,0,222]
[21,12708,11,12714,22,12719,null,null,null,null,0,212]
[21,12817,22,12822,24,12828,null,null,null,null,0,222]
[21,12929,22,12933,13,12939,null,null,null,null,0,221]
[21,13071,22,13078,24,13085,null,null,null,null,0,222]
[21,13181,22,13185,24,13191,null,null,null,null,0,222]
[21,13287,11,13291,22,13298,null,null,null,null,0,212]
[12,13392,24,13395,24,13399,null,null,null,null,0,122]
[21,13486,22,13489,13,13494,null,null,null,null,0,221]
[12,13588,24,13593,24,13597,null,null,null,null,0,122]
[21,13694,22,13697,24,13703,null,null,null,null,0,222]
[21,13797,22,13800,24,13805,null,null,null,null,0,222]
[21,13898,22,13903,24,13908,null,null,null,null,0,222]
[21,14069,22,14080,24,14090,null,null,null,null,0,222]
[21,14189,22,14192,24,14195,null,null,null,null,0,222]
[21,14294,22,14298,24,14302,null,null,null,null,0,222]
[21,14410,22,14416,24,14422,null,null,null,null,0,222]
[21,14538,22,14548,24,14554,null,null,null,null,0,222]
[21,14670,11,14680,22,14682,null,null,null,null,0,212]
[21,14807,11,14811,11,14818,null,null,null,null,0,211]
[21,14957,22,14960,13,14969,null,null,null,null,0,221]
[21,15102,22,15106,13,15111,null,null,null,null,0,221]
[21,15206,22,15213,24,15219,null,null,null,null,0,222]
[21,15316,22,15318,24,15322,null,null,null,null,0,222]
[21,15418,22,15422,24,15428,null,null,null,null,0,222]
[21,15589,22,15604,24,15611,null,null,null,null,0,222]
[21,15802,22,15811,24,15818,null,null,null,null,0,222]
[21,15924,22,15929,24,15934,null,null,null,null,0,222]
[21,16034,22,16038,24,16046,null,null,null,null,0,222]
[21,16142,11,16144,22,16149,null,null,null,null,0,212]
[21,16244,22,16251,24,16259,null,null,null,null,0,222]
[21,16387,22,16394,24,16399,null,null,null,null,0,222]
[21,16501,22,16505,24,16510,null,null,null,null,0,222]
[21,16607,22,16612,24,16617,null,null,null,null,0,222]
[12,16711,24,16715,24,16720,null,null,null,null,0,122]
[21,16821,22,16824,24,16830,null,null,null,null,0,222]
[21,16933,22,16938,24,16948,null,null,null,null,0,222]
[21,17048,11,17056,22,17062,null,null,null,null,0,212]
[21,17260,11,17269,22,17279,null,null,null,null,0,212]
[21,17377,22,17382,24,17389,null,null,null,null,0,222]
[21,17488,22,17492,13,17495,null,null,null,null,0,221]
[21,17591,22,17595,24,17598,null,null,null,null,0,222]
[21,17758,22,17764,13,17769,null,null,null,null,0,221]
[12,17861,24,17872,24,17876,null,null,null,null,0,122]
[21,17974,11,17980,22,17982,null,null,null,null,0,212]
[21,18104,11,18109,22,18115,null,null,null,null,0,212]
[21,18221,11,18225,22,18235,null,null,null,null,0,212]
[21,18336,22,18343,24,18350,null,null,null,null,0,222]
[21,18450,22,18454,24,18458,null,null,null,null,0,222]
[21,18558,22,18565,13,18569,null,null,null,null,0,221]
[21,18665,22,18669,24,18673,null,null,null,null,0,222]
[21,18771,22,18774,24,18780,null,null,null,null,0,222]
[21,18890,22,18899,24,18906,null,null,null,null,0,222]
[21,19005,11,19029,22,19037,null,null,null,null,0,212]
[21,19279,22,19293,24,19298,null,null,null,null,0,222]
[21,19416,11,19418,22,19421,null,null,null,null,0,212]
[12,19516,24,19525,24,19530,null,null,null,null,0,122]
[21,19640,22,19652,13,19658,null,null,null,null,0,221]
[21,19764,22,19766,24,19771,null,null,null,null,0,222]
[12,19864,24,19868,24,19875,null,null,null,null,0,122]
[21,19979,22,19987,24,19992,null,null,null,null,0,222]
[21,20091,11,20098,22,20101,null,null,null,null,0,212]
[21,20476,22,20484,24,20489,null,null,null,null,0,222]
[21,20602,22,20608,13,20612,null,null,null,null,0,221]
[21,20790,11,20794,22,20796,null,null,null,null,0,212]
[12,20892,24,20899,24,20903,null,null,null,null,0,122]
[21,21003,11,21009,22,21016,null,null,null,null,0,212]
[21,21117,22,21124,24,21132,null,null,null,null,0,222]
[21,21229,22,21233,24,21238,null,null,null,null,0,222]
[21,21343,22,21349,24,21355,null,null,null,null,0,222]
[21,21466,22,21471,13,21477,null,null,null,null,0,221]
[21,21627,22,21632,24,21639,null,null,null,null,0,222]
[21,21789,11,21793,22,21797,null,null,null,null,0,212]
[21,21903,11,21907,22,21912,null,null,null,null,0,212]
[21,22018,22,22023,24,22029,null,null,null,null,0,222]
[21,22128,22,22132,13,22136,null,null,null,null,0,221]
[12,22233,24,22240,24,22247,null,null,null,null,0,122]
[21,22350,22,22359,24,22366,null,null,null,null,0,222]
[21,22467,22,22471,24,22475,null,null,null,null,0,222]
[12,22568,24,22574,24,22577,null,null,null,null,0,122]
[12,22669,24,22675,24,22679,null,null,null,null,0,122]
[21,22793,22,22799,24,22805,null,null,null,null,0,222]
[21,22904,22,22910,24,22917,null,null,null,null,0,222]
[21,23028,11,23036,22,23038,null,null,null,null,0,212]
[21,23225,11,23230,22,23233,null,null,null,null,0,212]
[21,23355,11,23362,22,23368,null,null,null,null,0,212]
[21,23516,11,23520,22,23527,null,null,null,null,0,212]
[21,23625,22,23627,13,23633,null,null,null,null,0,221]
[21,23729,22,23735,13,23738,null,null,null,null,0,221]
[21,23866,22,23872,24,23878,null,null,null,null,0,222]

{"sheet":"!N209940.Gus","index":15,"n_rows":192,"n_cols":48,"rows_kept":192,"cut":false,"hidden":false,"merged":[[4,39,4,42],[5,39,5,40],[4,44,4,47],[5,44,5,45],[4,24,4,27],[5,24,5,25],[4,29,4,32],[5,29,5,30],[4,34,4,37],[5,34,5,35],[1,1,1,2],[5,13,5,14],[18,13,18,14],[19,13,19,14],[4,19,4,22],[5,19,5,20]]}
["Report for:!N209940.Gus"]
["Date:","<date>"]
["Hen:","<hen>",null,null,null,"Correct Sequence",{"$f":"Start!J2","v":211},null,null,null,null,null,null,null,null,"Total Sequences in Data",{"$f":"4994-COUNTBLANK(L7:L5000)","v":186},null,null,null,null,"Total Sequences in Block Data",{"$f":"COUNTA(L7:L37)","v":31},null,null,null,"Total Sequences in Block Data",{"$f":"COUNTA(L38:L68)","v":31},null,null,null,"Total Sequences in Block Data",{"$f":"COUNTA(L69:L99)","v":31},null,null,null,"Total Sequences in Block Data",{"$f":"COUNTA(L100:L130)","v":31},null,null,null,"Total Sequences in Block Data",{"$f":"COUNTA(L131:L161)","v":31},null,null,null,"Total Sequences in Block Data",{"$f":"COUNTA(L162:L192)","v":31}]
[null,null,null,null,null,null,null,null,null,null,null,null,null,null,null,"Total Sequences in Summary",{"$f":"SUM(O7:O14)","v":186},null,null,null,null,"Total Sequences in Block Summary",{"$f":"SUM(U7:U14)","v":31},null,null,null,"Total Sequences in Block Summary",{"$f":"SUM(Z7:Z14)","v":31},null,null,null,"Total Sequences in Block Summary",{"$f":"SUM(AE7:AE14)","v":31},null,null,null,"Total Sequences in Block Summary",{"$f":"SUM(AJ7:AJ14)","v":31},null,null,null,"Total Sequences in Block Summary",{"$f":"SUM(AO7:AO14)","v":31},null,null,null,"Total Sequences in Block Summary",{"$f":"SUM(AT7:AT14)","v":31}]
[null,null,null,null,null,null,null,null,null,null,null,null,null,null,null,null,null,null,null,"Block 1",null,null,null,null,"Block 2",null,null,null,null,"Block 3",null,null,null,null,"Block 4",null,null,null,null,"Block 5",null,null,null,null,"Block 6"]
["Sequence\nComponent\n1","Time\n1","Sequence\nComponent\n2","Time\n2","Sequence\nComponent\n3","Time\n3","Sequence\nComponent\n4","Time\n4","Sequence\nComponent\n5","Time\n5","Correct?\n0=No 1=Yes","Sequence",null,"Frequency",null,"Relative Frequency","Variability",null,null,"Frequency",null,"Relative Frequency","Variability",null,"Frequency",null,"Relative Frequency","Variability",null,"Frequency",null,"Relative Frequency","Variability",null,"Frequency",null,"Relative Frequency","Variability",null,"Frequency",null,"Relative Frequency","Variability",null,"Frequency",null,"Relative Frequency","Variability"]
[12,19,24,33,24,35,null,null,null,null,0,122,null,111,{"$f":"COUNTIF($L$7:$L$500,N7)","v":0},{"$f":"O7/$Q$4","v":0},{"$f":"IF(P7=0,0,(P7*((LOG(P7))/LOG(2))))","v":0},null,null,{"$f":"N7","v":111},{"$f":"COUNTIF(L7:L37,T7)","v":0},{"$f":"U7/(W4-U11)","v":0},{"$f":"IF(V7=0,0,(V7*((LOG(V7))/LOG(2))))","v":0},null,{"$f":"N7","v":111},{"$f":"COUNTIF(L38:L68,Y7)","v":0},{"$f":"Z7/(AB4-Z11)","v":0},{"$f":"IF(AA7=0,0,(AA7*((LOG(AA7))/LOG(2))))","v":0},null,{"$f":"N7","v":111},{"$f":"COUNTIF(L69:L99,AD7)","v":0},{"$f":"AE7/(AG4-AE11)","v":0},{"$f":"IF(AF7=0,0,(AF7*((LOG(AF7))/LOG(2))))","v":0},null,{"$f":"N7","v":111},{"$f":"COUNTIF(L100:L130,AI7)","v":0},{"$f":"AJ7/(AL4-AJ11)","v":0},{"$f":"IF(AK7=0,0,(AK7*((LOG(AK7))/LOG(2))))","v":0},null,{"$f":"N7","v":111},{"$f":"COUNTIF(L131:L161,AN7)","v":0},{"$f":"AO7/(AQ4-AO11)","v":0},{"$f":"IF(AP7=0,0,(AP7*((LOG(AP7))/LOG(2))))","v":0},null,{"$f":"N7","v":111},{"$f":"COUNTIF(L162:L192,AS7)","v":0},{"$f":"AT7/(AV4-AT11)","v":0},{"$f":"IF(AU7=0,0,(AU7*((LOG(AU7))/LOG(2))))","v":0}]
[21,153,11,158,22,166,null,null,null,null,0,212,null,112,{"$f":"COUNTIF($L$7:$L$500,N8)","v":4},{"$f":"O8/$Q$4","v":2.1505376344086023E-2},{"$f":"IF(P8=0,0,(P8*((LOG(P8))/LOG(2))))","v":-0.11912169486253833},null,null,{"$f":"N8","v":112},{"$f":"COUNTIF(L7:L37,T8)","v":0},{"$f":"U8/(W4-U11)","v":0},{"$f":"IF(V8=0,0,(V8*((LOG(V8))/LOG(2))))","v":0},null,{"$f":"N8","v":112},{"$f":"COUNTIF(L38:L68,Y8)","v":1},{"$f":"Z8/(AB4-Z11)","v":3.2258064516129031E-2},{"$f":"IF(AA8=0,0,(AA8*((LOG(AA8))/LOG(2))))","v":-0.15981278420602821},null,{"$f":"N8","v":112},{"$f":"COUNTIF(L69:L99,AD8)","v":1},{"$f":"AE8/(AG4-AE11)","v":3.3333333333333333E-2},{"$f":"IF(AF8=0,0,(AF8*((LOG(AF8))/LOG(2))))","v":-0.16356301985361729},null,{"$f":"N8","v":112},{"$f":"COUNTIF(L100:L130,AI8)","v":0},{"$f":"AJ8/(AL4-AJ11)","v":0},{"$f":"IF(AK8=0,0,(AK8*((LOG(AK8))/LOG(2))))","v":0},null,{"$f":"N8","v":112},{"$f":"COUNTIF(L131:L161,AN8)","v":0},{"$f":"AO8/(AQ4-AO11)","v":0},{"$f":"IF(AP8=0,0,(AP8*((LOG(AP8))/LOG(2))))","v":0},null,{"$f":"N8","v":112},{"$f":"COUNTIF(L162:L192,AS8)","v":2},{"$f":"AT8/(AV4-AT11)","v":6.4516129032258063E-2},{"$f":"IF(AU8=0,0,(AU8*((LOG(AU8))/LOG(2))))","v":-0.25510943937979835}]
[21,271,22,280,24,286,null,null,null,null,0,222,null,121,{"$f":"COUNTIF($L$7:$L$500,N9)","v":1},{"$f":"O9/$Q$4","v":5.3763440860215058E-3},{"$f":"IF(P9=0,0,(P9*((LOG(P9))/LOG(2))))","v":-4.0533111887677595E-2},null,null,{"$f":"N9","v":121},{"$f":"COUNTIF(L7:L37,T9)","v":1},{"$f":"U9/(W4-U11)","v":3.2258064516129031E-2},{"$f":"IF(V9=0,0,(V9*((LOG(V9))/LOG(2))))","v":-0.15981278420602821},null,{"$f":"N9","v":121},{"$f":"COUNTIF(L38:L68,Y9)","v":0},{"$f":"Z9/(AB4-Z11)","v":0},{"$f":"IF(AA9=0,0,(AA9*((LOG(AA9))/LOG(2))))","v":0},null,{"$f":"N9","v":121},{"$f":"COUNTIF(L69:L99,AD9)","v":0},{"$f":"AE9/(AG4-AE11)","v":0},{"$f":"IF(AF9=0,0,(AF9*((LOG(AF9))/LOG(2))))","v":0},null,{"$f":"N9","v":121},{"$f":"COUNTIF(L100:L130,AI9)","v":0},{"$f":"AJ9/(AL4-AJ11)","v":0},{"$f":"IF(AK9=0,0,(AK9*((LOG(AK9))/LOG(2))))","v":0},null,{"$f":"N9","v":121},{"$f":"COUNTIF(L131:L161,AN9)","v":0},{"$f":"AO9/(AQ4-AO11)","v":0},{"$f":"IF(AP9=0,0,(AP9*((LOG(AP9))/LOG(2))))","v":0},null,{"$f":"N9","v":121},{"$f":"COUNTIF(L162:L192,AS9)","v":0},{"$f":"AT9/(AV4-AT11)","v":0},{"$f":"IF(AU9=0,0,(AU9*((LOG(AU9))/LOG(2))))","v":0}]
[12,379,24,386,24,395,null,null,null,null,0,122,null,122,{"$f":"COUNTIF($L$7:$L$500,N10)","v":39},{"$f":"O10/$Q$4","v":0.20967741935483872},{"$f":"IF(P10=0,0,(P10*((LOG(P10))/LOG(2))))","v":-0.47256186611605122},null,null,{"$f":"N10","v":122},{"$f":"COUNTIF(L7:L37,T10)","v":5},{"$f":"U10/(W4-U11)","v":0.16129032258064516},{"$f":"IF(V10=0,0,(V10*((LOG(V10))/LOG(2))))","v":-0.42455938959669559},null,{"$f":"N10","v":122},{"$f":"COUNTIF(L38:L68,Y10)","v":6},{"$f":"Z10/(AB4-Z11)","v":0.19354838709677419},{"$f":"IF(AA10=0,0,(AA10*((LOG(AA10))/LOG(2))))","v":-0.45856138251594558},null,{"$f":"N10","v":122},{"$f":"COUNTIF(L69:L99,AD10)","v":5},{"$f":"AE10/(AG4-AE11)","v":0.16666666666666666},{"$f":"IF(AF10=0,0,(AF10*((LOG(AF10))/LOG(2))))","v":-0.43082708345352599},null,{"$f":"N10","v":122},{"$f":"COUNTIF(L100:L130,AI10)","v":11},{"$f":"AJ10/(AL4-AJ11)","v":0.35483870967741937},{"$f":"IF(AK10=0,0,(AK10*((LOG(AK10))/LOG(2))))","v":-0.53040037449178568},null,{"$f":"N10","v":122},{"$f":"COUNTIF(L131:L161,AN10)","v":5},{"$f":"AO10/(AQ4-AO11)","v":0.16129032258064516},{"$f":"IF(AP10=0,0,(AP10*((LOG(AP10))/LOG(2))))","v":-0.42455938959669559},null,{"$f":"N10","v":122},{"$f":"COUNTIF(L162:L192,AS10)","v":7},{"$f":"AT10/(AV4-AT11)","v":0.22580645161290322},{"$f":"IF(AU10=0,0,(AU10*((LOG(AU10))/LOG(2))))","v":-0.48477063607435156}]
[21,493,22,496,24,498,null,null,null,null,0,222,null,211,{"$f":"COUNTIF($L$7:$L$500,N11)","v":1},{"$f":"O11/$Q$4","v":5.3763440860215058E-3},{"$f":"IF(P11=0,0,(P11*((LOG(P11))/LOG(2))))","v":-4.0533111887677595E-2},null,null,{"$f":"N11","v":211},{"$f":"COUNTIF(L7:L37,T11)","v":0},null,null,null,{"$f":"N11","v":211},{"$f":"COUNTIF(L38:L68,Y11)","v":0},null,null,null,{"$f":"N11","v":211},{"$f":"COUNTIF(L69:L99,AD11)","v":1},null,null,null,{"$f":"N11","v":211},{"$f":"COUNTIF(L100:L130,AI11)","v":0},null,null,null,{"$f":"N11","v":211},{"$f":"COUNTIF(L131:L161,AN11)","v":0},null,null,null,{"$f":"N11","v":211},{"$f":"COUNTIF(L162:L192,AS11)","v":0}]
[12,593,24,597,24,605,null,null,null,null,0,122,null,212,{"$f":"COUNTIF($L$7:$L$500,N12)","v":33},{"$f":"O12/$Q$4","v":0.17741935483870969},{"$f":"IF(P12=0,0,(P12*((LOG(P12))/LOG(2))))","v":-0.44261954208460258},null,null,{"$f":"N12","v":212},{"$f":"COUNTIF(L7:L37,T12)","v":7},{"$f":"U12/(W4-U11)","v":0.22580645161290322},{"$f":"IF(V12=0,0,(V12*((LOG(V12))/LOG(2))))","v":-0.48477063607435156},null,{"$f":"N12","v":212},{"$f":"COUNTIF(L38:L68,Y12)","v":1},{"$f":"Z12/(AB4-Z11)","v":3.2258064516129031E-2},{"$f":"IF(AA12=0,0,(AA12*((LOG(AA12))/LOG(2))))","v":-0.15981278420602821},null,{"$f":"N12","v":212},{"$f":"COUNTIF(L69:L99,AD12)","v":8},{"$f":"AE12/(AG4-AE11)","v":0.26666666666666666},{"$f":"IF(AF12=0,0,(AF12*((LOG(AF12))/LOG(2))))","v":-0.50850415882893829},null,{"$f":"N12","v":212},{"$f":"COUNTIF(L100:L130,AI12)","v":3},{"$f":"AJ12/(AL4-AJ11)","v":9.6774193548387094E-2},{"$f":"IF(AK12=0,0,(AK12*((LOG(AK12))/LOG(2))))","v":-0.32605488480635986},null,{"$f":"N12","v":212},{"$f":"COUNTIF(L131:L161,AN12)","v":11},{"$f":"AO12/(AQ4-AO11)","v":0.35483870967741937},{"$f":"IF(AP12=0,0,(AP12*((LOG(AP12))/LOG(2))))","v":-0.53040037449178568},null,{"$f":"N12","v":212},{"$f":"COUNTIF(L162:L192,AS12)","v":3},{"$f":"AT12/(AV4-AT11)","v":9.6774193548387094E-2},{"$f":"IF(AU12=0,0,(AU12*((LOG(AU12))/LOG(2))))","v":-0.32605488480635986}]
[21,711,22,718,24,723,null,null,null,null,0,222,null,221,{"$f":"COUNTIF($L$7:$L$500,N13)","v":22},{"$f":"O13/$Q$4","v":0.11827956989247312},{"$f":"IF(P13=0,0,(P13*((LOG(P13))/LOG(2))))","v":-0.3642688077115922},null,null,{"$f":"N13","v":221},{"$f":"COUNTIF(L7:L37,T13)","v":2},{"$f":"U13/(W4-U11)","v":6.4516129032258063E-2},{"$f":"IF(V13=0,0,(V13*((LOG(V13))/LOG(2))))","v":-0.25510943937979835},null,{"$f":"N13","v":221},{"$f":"COUNTIF(L38:L68,Y13)","v":7},{"$f":"Z13/(AB4-Z11)","v":0.22580645161290322},{"$f":"IF(AA13=0,0,(AA13*((LOG(AA13))/LOG(2))))","v":-0.48477063607435156},null,{"$f":"N13","v":221},{"$f":"COUNTIF(L69:L99,AD13)","v":4},{"$f":"AE13/(AG4-AE11)","v":0.13333333333333333},{"$f":"IF(AF13=0,0,(AF13*((LOG(AF13))/LOG(2))))","v":-0.3875854127478025},null,{"$f":"N13","v":221},{"$f":"COUNTIF(L100:L130,AI13)","v":3},{"$f":"AJ13/(AL4-AJ11)","v":9.6774193548387094E-2},{"$f":"IF(AK13=0,0,(AK13*((LOG(AK13))/LOG(2))))","v":-0.32605488480635986},null,{"$f":"N13","v":221},{"$f":"COUNTIF(L131:L161,AN13)","v":2},{"$f":"AO13/(AQ4-AO11)","v":6.4516129032258063E-2},{"$f":"IF(AP13=0,0,(AP13*((LOG(AP13))/LOG(2))))","v":-0.25510943937979835},null,{"$f":"N13","v":221},{"$f":"COUNTIF(L162:L192,AS13)","v":4},{"$f":"AT13/(AV4-AT11)","v":0.12903225806451613},{"$f":"IF(AU13=0,0,(AU13*((LOG(AU13))/LOG(2))))","v":-0.38118662069508069}]
[21,828,22,832,24,837,null,null,null,null,0,222,null,222,{"$f":"COUNTIF($L$7:$L$500,N14)","v":86},{"$f":"O14/$Q$4","v":0.46236559139784944},{"$f":"IF(P14=0,0,(P14*((LOG(P14))/LOG(2))))","v":-0.5145639185532811},null,null,{"$f":"N14","v":222},{"$f":"COUNTIF(L7:L37,T14)","v":16},{"$f":"U14/(W4-U11)","v":0.5161290322580645},{"$f":"IF(V14=0,0,(V14*((LOG(V14))/LOG(2))))","v":-0.49248841826419365},null,{"$f":"N14","v":222},{"$f":"COUNTIF(L38:L68,Y14)","v":16},{"$f":"Z14/(AB4-Z11)","v":0.5161290322580645},{"$f":"IF(AA14=0,0,(AA14*((LOG(AA14))/LOG(2))))","v":-0.49248841826419365},null,{"$f":"N14","v":222},{"$f":"COUNTIF(L69:L99,AD14)","v":12},{"$f":"AE14/(AG4-AE11)","v":0.4},{"$f":"IF(AF14=0,0,(AF14*((LOG(AF14))/LOG(2))))","v":-0.52877123795494496},null,{"$f":"N14","v":222},{"$f":"COUNTIF(L100:L130,AI14)","v":14},{"$f":"AJ14/(AL4-AJ11)","v":0.45161290322580644},{"$f":"IF(AK14=0,0,(AK14*((LOG(AK14))/LOG(2))))","v":-0.51792836892289662},null,{"$f":"N14","v":222},{"$f":"COUNTIF(L131:L161,AN14)","v":13},{"$f":"AO14/(AQ4-AO11)","v":0.41935483870967744},{"$f":"IF(AP14=0,0,(AP14*((LOG(AP14))/LOG(2))))","v":-0.52576889352242517},null,{"$f":"N14","v":222},{"$f":"COUNTIF(L162:L192,AS14)","v":15},{"$f":"AT14/(AV4-AT11)","v":0.4838709677419355},{"$f":"IF(AU14=0,0,(AU14*((LOG(AU14))/LOG(2))))","v":-0.50676082973146286}]
[12,941,24,949,13,954,null,null,null,null,0,121,null,null,null,{"$f":"SUM(P7:P14)","v":1},{"$f":"-SUM(Q7:Q14)","v":1.9942020531034206},null,null,null,null,{"$f":"SUM(V7:V14)","v":1},{"$f":"-SUM(W7:W14)","v":1.8167406675210676},null,null,null,{"$f":"SUM(AA7:AA14)","v":1},{"$f":"-SUM(AB7:AB14)","v":1.7554460052665473},null,null,null,{"$f":"SUM(AF7:AF14)","v":1},{"$f":"-SUM(AG7:AG14)","v":2.019250912838829},null,null,null,{"$f":"SUM(AK7:AK14)","v":1},{"$f":"-SUM(AL7:AL14)","v":1.700438513027402},null,null,null,{"$f":"SUM(AP7:AP14)","v":1},{"$f":"-SUM(AQ7:AQ14)","v":1.7358380969907048},null,null,null,{"$f":"SUM(AU7:AU14)","v":1},{"$f":"-SUM(AV7:AV14)","v":1.9538824106870534}]
[21,1109,22,1127,24,1134,null,null,null,null,0,222,null,null,null,"U=",{"$f":"Q15/(LOG(Q4)/LOG(2))","v":0.26451254086400289},null,null,null,null,"U1=",{"$f":"W15/(LOG(W4)/LOG(2))","v":0.36670744429568186},null,null,null,"U2=",{"$f":"AB15/(LOG(AB4)/LOG(2))","v":0.35433517270724862},null,null,null,"U3=",{"$f":"AG15/(LOG(AG4)/LOG(2))","v":0.40758395233658895},null,null,null,"U4=",{"$f":"AL15/(LOG(AL4)/LOG(2))","v":0.34323196064360523},null,null,null,"U5=",{"$f":"AQ15/(LOG(AQ4)/LOG(2))","v":0.35037733433198426},null,null,null,"U6=",{"$f":"AV15/(LOG(AV4)/LOG(2))","v":0.39438937988601303}]
[21,1290,22,1294,13,1296,null,null,null,null,0,221]
[21,1406,11,1414,22,1419,null,null,null,null,0,212]
[21,1639,11,1644,22,1648,null,null,null,null,0,212,null,"Total Target Seq"]
[21,1817,22,1819,24,1825,null,null,null,null,0,222,null,{"$f":"COUNTIF(L7:L192,G3)","v":1},null,31,31,31,31,31,31]
[21,1927,22,1938,13,1943,null,null,null,null,0,221,null,null,null,"% of reinforcement given in 6 equal intervals based on number of trials "]
[21,2048,22,2052,24,2059,null,null,null,null,0,222,null,null,null,"%_1","%_2","%_3","%_4","%_5","%_6"]
[21,2161,22,2163,24,2173,null,null,null,null,0,222,null,null,"target sequence",{"$f":"$G$3","v":211},{"$f":"$G$3","v":211},{"$f":"$G$3","v":211},{"$f":"$G$3","v":211},{"$f":"$G$3","v":211},{"$f":"$G$3","v":211}]
[21,2339,11,2348,22,2355,null,null,null,null,0,212,null,null,"total reinforcement",{"$f":"U11","v":0},{"$f":"Z11","v":0},{"$f":"AE11","v":1},{"$f":"AJ11","v":0},{"$f":"AO11","v":0},{"$f":"AT11","v":0}]
[21,2558,22,2575,24,2584,null,null,null,null,0,222,null,null,"% target"]
[21,2806,11,2816,22,2819,null,null,null,null,0,212,null,null,"CCRF"]
[21,2923,22,2928,24,2931,null,null,null,null,0,222,null,null,"% CCRf"]
[12,3025,24,3032,24,3036,null,null,null,null,0,122,null,null,"average response rate",{"$f":"F37/P20","v":135.12903225806451},{"$f":"(F68-F37)/Q20","v":122.16129032258064},{"$f":"(F99-F68)/R20","v":136.61290322580646},{"$f":"(F130-F99)/S20","v":122.64516129032258},{"$f":"(F161-F130)/T20","v":137.90322580645162},{"$f":"(F192-F161)/U20","v":116.03225806451613}]
[21,3149,22,3153,24,3160,null,null,null,null,0,222]
[21,3259,22,3263,24,3267,null,null,null,null,0,222]
[21,3364,22,3369,24,3372,null,null,null,null,0,222]
[12,3464,24,3474,24,3478,null,null,null,null,0,122]
[21,3621,11,3633,22,3641,null,null,null,null,0,212]
[21,3856,11,3860,22,3865,null,null,null,null,0,212]
[21,3962,22,3967,24,3973,null,null,null,null,0,222]
[21,4074,22,4078,24,4080,null,null,null,null,0,222]
[21,4180,22,4185,24,4189,null,null,null,null,0,222]
[21,4287,22,4296,24,4304,null,null,null,null,0,222]
[21,4411,22,4416,24,4422,null,null,null,null,0,222]
[21,4525,22,4531,24,4540,null,null,null,null,0,222]
[21,4641,22,4644,24,4653,null,null,null,null,0,222]
[21,4757,22,4764,13,4768,null,null,null,null,0,221]
[12,4868,24,4872,24,4876,null,null,null,null,0,122]
[21,5055,22,5059,13,5065,null,null,null,null,0,221]
[21,5224,22,5234,13,5236,null,null,null,null,0,221]
[21,5372,22,5378,24,5385,null,null,null,null,0,222]
[21,5483,22,5488,24,5494,null,null,null,null,0,222]
[21,5595,22,5597,13,5606,null,null,null,null,0,221]
[21,5707,22,5710,24,5714,null,null,null,null,0,222]
[21,5814,22,5818,24,5824,null,null,null,null,0,222]
[21,5919,22,5926,24,5938,null,null,null,null,0,222]
[12,6039,24,6045,24,6050,null,null,null,null,0,122]
[21,6150,22,6155,24,6161,null,null,null,null,0,222]
[12,6257,24,6262,24,6267,null,null,null,null,0,122]
[12,6359,24,6369,24,6373,null,null,null,null,0,122]
[21,6463,22,6469,24,6476,null,null,null,null,0,222]
[21,6649,22,6655,24,6661,null,null,null,null,0,222]
[12,6816,24,6823,24,6829,null,null,null,null,0,122]
[21,6932,22,6937,24,6944,null,null,null,null,0,222]
[21,7050,22,7052,13,7059,null,null,null,null,0,221]
[21,7172,22,7178,24,7185,null,null,null,null,0,222]
[21,7292,11,7294,22,7298,null,null,null,null,0,212]
[21,7394,22,7398,24,7404,null,null,null,null,0,222]
[21,7510,22,7514,13,7517,null,null,null,null,0,221]
[21,7642,22,7652,13,7658,null,null,null,null,0,221]
[21,7756,22,7760,24,7767,null,null,null,null,0,222]
[12,7866,13,7869,24,7873,null,null,null,null,0,112]
[12,7967,24,7972,24,7976,null,null,null,null,0,122]
[12,8075,24,8078,24,8082,null,null,null,null,0,122]
[12,8184,24,8191,24,8197,null,null,null,null,0,122]
[12,8366,24,8369,24,8376,null,null,null,null,0,122]
[21,8563,11,8567,22,8569,null,null,null,null,0,212]
[21,8692,11,8694,22,8701,null,null,null,null,0,212]
[21,8801,22,8806,24,8813,null,null,null,null,0,222]
[21,8910,22,8914,24,8920,null,null,null,null,0,222]
[21,9035,22,9041,24,9049,null,null,null,null,0,222]
[21,9224,11,9229,22,9236,null,null,null,null,0,212]
[21,9479,11,9483,22,9490,null,null,null,null,0,212]
[21,9586,11,9593,11,9596,null,null,null,null,0,211]
[12,9732,24,9736,24,9750,null,null,null,null,0,122]
[21,9967,22,9977,24,9985,null,null,null,null,0,222]
[12,10084,24,10094,24,10100,null,null,null,null,0,122]
[21,10199,22,10203,24,10208,null,null,null,null,0,222]
[21,10308,22,10315,24,10322,null,null,null,null,0,222]
[21,10495,22,10501,24,10509,null,null,null,null,0,222]
[21,10628,11,10634,22,10648,null,null,null,null,0,212]
[21,10760,22,10766,24,10772,null,null,null,null,0,222]
[21,10871,22,10875,13,10879,null,null,null,null,0,221]
[21,10978,22,10989,24,11000,null,null,null,null,0,222]
[21,11100,22,11104,24,11110,null,null,null,null,0,222]
[12,11231,13,11233,24,11250,null,null,null,null,0,112]
[21,11343,22,11348,13,11353,null,null,null,null,0,221]
[21,11497,11,11503,22,11509,null,null,null,null,0,212]
[21,11608,22,11610,24,11615,null,null,null,null,0,222]
[21,11714,22,11717,13,11721,null,null,null,null,0,221]
[21,11817,22,11829,13,11835,null,null,null,null,0,221]
[21,11941,11,11954,22,11955,null,null,null,null,0,212]
[21,12086,11,12093,22,12097,null,null,null,null,0,212]
[21,12196,22,12205,24,12211,null,null,null,null,0,222]
[21,12321,22,12327,24,12340,null,null,null,null,0,222]
[21,12472,11,12478,22,12485,null,null,null,null,0,212]
[12,12593,24,12602,24,12607,null,null,null,null,0,122]
[21,12702,22,12708,24,12713,null,null,null,null,0,222]
[21,12816,22,12821,24,12828,null,null,null,null,0,222]
[21,12926,22,12930,24,12934,null,null,null,null,0,222]
[21,13091,22,13102,13,13105,null,null,null,null,0,221]
[21,13229,22,13235,13,13237,null,null,null,null,0,221]
[21,13359,22,13365,24,13371,null,null,null,null,0,222]
[12,13466,24,13468,24,13476,null,null,null,null,0,122]
[21,13572,22,13575,24,13580,null,null,null,null,0,222]
[12,13675,24,13678,24,13681,null,null,null,null,0,122]
[12,13785,24,13787,24,13793,null,null,null,null,0,122]
[21,13956,22,13962,13,13964,null,null,null,null,0,221]
[12,14068,24,14074,24,14076,null,null,null,null,0,122]
[12,14169,24,14172,24,14180,null,null,null,null,0,122]
[21,14279,22,14285,24,14292,null,null,null,null,0,222]
[21,14396,22,14405,24,14412,null,null,null,null,0,222]
[21,14510,11,14513,22,14518,null,null,null,null,0,212]
[21,14619,22,14623,24,14629,null,null,null,null,0,222]
[21,14762,22,14766,24,14773,null,null,null,null,0,222]
[21,14942,22,14949,24,14957,null,null,null,null,0,222]
[12,15052,24,15057,24,15066,null,null,null,null,0,122]
[21,15177,22,15183,24,15188,null,null,null,null,0,222]
[12,15282,24,15285,24,15289,null,null,null,null,0,122]
[21,15384,22,15392,24,15399,null,null,null,null,0,222]
[21,15525,22,15535,24,15545,null,null,null,null,0,222]
[21,15697,11,15700,22,15703,null,null,null,null,0,212]
[12,15800,24,15808,24,15812,null,null,null,null,0,122]
[12,15905,24,15908,24,15913,null,null,null,null,0,122]
[12,16006,24,16008,24,16013,null,null,null,null,0,122]
[12,16106,24,16113,24,16117,null,null,null,null,0,122]
[21,16224,22,16228,24,16233,null,null,null,null,0,222]
[21,16330,22,16334,24,16341,null,null,null,null,0,222]
[21,16442,22,16444,24,16450,null,null,null,null,0,222]
[21,16584,11,16592,22,16594,null,null,null,null,0,212]
[21,16773,11,16778,22,16784,null,null,null,null,0,212]
[21,16942,11,16949,22,16956,null,null,null,null,0,212]
[21,17071,11,17079,22,17082,null,null,null,null,0,212]
[12,17177,24,17190,24,17196,null,null,null,null,0,122]
[21,17295,11,17301,22,17307,null,null,null,null,0,212]
[21,17426,11,17432,22,17433,null,null,null,null,0,212]
[12,17536,24,17537,24,17546,null,null,null,null,0,122]
[21,17642,22,17646,13,17651,null,null,null,null,0,221]
[21,17749,22,17753,24,17757,null,null,null,null,0,222]
[21,17863,22,17872,24,17880,null,null,null,null,0,222]
[21,18038,11,18049,22,18051,null,null,null,null,0,212]
[12,18152,24,18162,24,18169,null,null,null,null,0,122]
[21,18273,11,18280,22,18286,null,null,null,null,0,212]
[21,18387,22,18391,24,18396,null,null,null,null,0,222]
[21,18546,22,18552,24,18560,null,null,null,null,0,222]
[21,18783,22,18796,24,18802,null,null,null,null,0,222]
[21,19227,11,19242,22,19245,null,null,null,null,0,212]
[21,19362,11,19369,22,19381,null,null,null,null,0,212]
[12,19480,24,19493,24,19500,null,null,null,null,0,122]
[21,19605,22,19609,13,19613,null,null,null,null,0,221]
[21,19711,22,19714,24,19720,null,null,null,null,0,222]
[21,19816,22,19823,24,19828,null,null,null,null,0,222]
[21,19924,22,19933,24,19940,null,null,null,null,0,222]
[21,20048,11,20057,22,20065,null,null,null,null,0,212]
[21,20168,22,20175,24,20180,null,null,null,null,0,222]
[21,20278,22,20282,24,20288,null,null,null,null,0,222]
[12,20385,13,20400,24,20406,null,null,null,null,0,112]
[12,20500,24,20504,24,20509,null,null,null,null,0,122]
[21,20645,22,20651,24,20662,null,null,null,null,0,222]
[21,20798,22,20808,13,20811,null,null,null,null,0,221]
[12,20916,24,20923,24,20928,null,null,null,null,0,122]
[21,21023,22,21028,24,21034,null,null,null,null,0,222]
[21,21129,22,21134,24,21138,null,null,null,null,0,222]
[21,21238,11,21242,22,21248,null,null,null,null,0,212]
[21,21369,22,21378,13,21382,null,null,null,null,0,221]
[21,21498,11,21504,22,21510,null,null,null,null,0,212]
[21,21614,22,21623,13,21627,null,null,null,null,0,221]
[21,21722,22,21727,24,21733,null,null,null,null,0,222]
[21,21830,22,21834,24,21840,null,null,null,null,0,222]
[21,21937,22,21944,24,21956,null,null,null,null,0,222]
[12,22050,24,22053,24,22057,null,null,null,null,0,122]
[21,22152,22,22156,24,22161,null,null,null,null,0,222]
[21,22270,22,22280,13,22282,null,null,null,null,0,221]
[21,22393,22,22396,24,22406,null,null,null,null,0,222]
[12,22516,24,22527,24,22534,null,null,null,null,0,122]
[12,22634,24,22637,24,22642,null,null,null,null,0,122]
[21,22739,22,22743,24,22748,null,null,null,null,0,222]
[21,22844,22,22847,24,22852,null,null,null,null,0,222]
[21,22954,22,22956,24,22962,null,null,null,null,0,222]
[21,23066,22,23070,24,23077,null,null,null,null,0,222]
[12,23171,24,23179,24,23184,null,null,null,null,0,122]
[21,23277,22,23282,24,23286,null,null,null,null,0,222]
[21,23390,22,23396,24,23404,null,null,null,null,0,222]
[12,23499,24,23508,24,23521,null,null,null,null,0,122]
[12,23612,13,23632,24,23642,null,null,null,null,0,112]
[21,23745,11,23749,22,23751,null,null,null,null,0,212]
[21,23870,22,23876,24,23885,null,null,null,null,0,222]

{"sheet":"!N210940.Gus","index":16,"n_rows":187,"n_cols":48,"rows_kept":187,"cut":false,"hidden":false,"merged":[[4,39,4,42],[5,39,5,40],[4,44,4,47],[5,44,5,45],[4,24,4,27],[5,24,5,25],[4,29,4,32],[5,29,5,30],[4,34,4,37],[5,34,5,35],[1,1,1,2],[5,13,5,14],[18,13,18,14],[19,13,19,14],[4,19,4,22],[5,19,5,20]]}
["Report for:!N210940.Gus"]
["Date:","<date>"]
["Hen:","<hen>",null,null,null,"Correct Sequence",{"$f":"Start!J2","v":211},null,null,null,null,null,null,null,null,"Total Sequences in Data",{"$f":"4994-COUNTBLANK(L7:L5000)","v":181},null,null,null,null,"Total Sequences in Block Data",{"$f":"COUNTA(L7:L36)","v":30},null,null,null,"Total Sequences in Block Data",{"$f":"COUNTA(L37:L66)","v":30},null,null,null,"Total Sequences in Block Data",{"$f":"COUNTA(L67:L97)","v":31},null,null,null,"Total Sequences in Block Data",{"$f":"COUNTA(L98:L127)","v":30},null,null,null,"Total Sequences in Block Data",{"$f":"COUNTA(L128:L157)","v":30},null,null,null,"Total Sequences in Block Data",{"$f":"COUNTA(L158:L187)","v":30}]
[null,null,null,null,null,null,null,null,null,null,null,null,null,null,null,"Total Sequences in Summary",{"$f":"SUM(O7:O14)","v":181},null,null,null,null,"Total Sequences in Block Summary",{"$f":"SUM(U7:U14)","v":30},null,null,null,"Total Sequences in Block Summary",{"$f":"SUM(Z7:Z14)","v":30},null,null,null,"Total Sequences in Block Summary",{"$f":"SUM(AE7:AE14)","v":31},null,null,null,"Total Sequences in Block Summary",{"$f":"SUM(AJ7:AJ14)","v":30},null,null,null,"Total Sequences in Block Summary",{"$f":"SUM(AO7:AO14)","v":30},null,null,null,"Total Sequences in Block Summary",{"$f":"SUM(AT7:AT14)","v":30}]
[null,null,null,null,null,null,null,null,null,null,null,null,null,null,null,null,null,null,null,"Block 1",null,null,null,null,"Block 2",null,null,null,null,"Block 3",null,null,null,null,"Block 4",null,null,null,null,"Block 5",null,null,null,null,"Block 6"]
["Sequence\nComponent\n1","Time\n1","Sequence\nComponent\n2","Time\n2","Sequence\nComponent\n3","Time\n3","Sequence\nComponent\n4","Time\n4","Sequence\nComponent\n5","Time\n5","Correct?\n0=No 1=Yes","Sequence",null,"Frequency",null,"Relative Frequency","Variability",null,null,"Frequency",null,"Relative Frequency","Variability",null,"Frequency",null,"Relative Frequency","Variability",null,"Frequency",null,"Relative Frequency","Variability",null,"Frequency",null,"Relative Frequency","Variability",null,"Frequency",null,"Relative Frequency","Variability",null,"Frequency",null,"Relative Frequency","Variability"]
[12,13,13,17,24,27,null,null,null,null,0,112,null,111,{"$f":"COUNTIF($L$7:$L$500,N7)","v":0},{"$f":"O7/$Q$4","v":0},{"$f":"IF(P7=0,0,(P7*((LOG(P7))/LOG(2))))","v":0},null,null,{"$f":"N7","v":111},{"$f":"COUNTIF(L7:L36,T7)","v":0},{"$f":"U7/(W4-U11)","v":0},{"$f":"IF(V7=0,0,(V7*((LOG(V7))/LOG(2))))","v":0},null,{"$f":"N7","v":111},{"$f":"COUNTIF(L37:L66,Y7)","v":0},{"$f":"Z7/(AB4-Z11)","v":0},{"$f":"IF(AA7=0,0,(AA7*((LOG(AA7))/LOG(2))))","v":0},null,{"$f":"N7","v":111},{"$f":"COUNTIF(L67:L97,AD7)","v":0},{"$f":"AE7/(AG4-AE11)","v":0},{"$f":"IF(AF7=0,0,(AF7*((LOG(AF7))/LOG(2))))","v":0},null,{"$f":"N7","v":111},{"$f":"COUNTIF(L98:L127,AI7)","v":0},{"$f":"AJ7/(AL4-AJ11)","v":0},{"$f":"IF(AK7=0,0,(AK7*((LOG(AK7))/LOG(2))))","v":0},null,{"$f":"N7","v":111},{"$f":"COUNTIF(L128:L157,AN7)","v":0},{"$f":"AO7/(AQ4-AO11)","v":0},{"$f":"IF(AP7=0,0,(AP7*((LOG(AP7))/LOG(2))))","v":0},null,{"$f":"N7","v":111},{"$f":"COUNTIF(L158:L187,AS7)","v":0},{"$f":"AT7/(AV4-AT11)","v":0},{"$f":"IF(AU7=0,0,(AU7*((LOG(AU7))/LOG(2))))","v":0}]
[12,119,24,147,24,156,null,null,null,null,0,122,null,112,{"$f":"COUNTIF($L$7:$L$500,N8)","v":2},{"$f":"O8/$Q$4","v":1.1049723756906077E-2},{"$f":"IF(P8=0,0,(P8*((LOG(P8))/LOG(2))))","v":-7.1821501514731545E-2},null,null,{"$f":"N8","v":112},{"$f":"COUNTIF(L7:L36,T8)","v":2},{"$f":"U8/(W4-U11)","v":6.6666666666666666E-2},{"$f":"IF(V8=0,0,(V8*((LOG(V8))/LOG(2))))","v":-0.26045937304056793},null,{"$f":"N8","v":112},{"$f":"COUNTIF(L37:L66,Y8)","v":0},{"$f":"Z8/(AB4-Z11)","v":0},{"$f":"IF(AA8=0,0,(AA8*((LOG(AA8))/LOG(2))))","v":0},null,{"$f":"N8","v":112},{"$f":"COUNTIF(L67:L97,AD8)","v":0},{"$f":"AE8/(AG4-AE11)","v":0},{"$f":"IF(AF8=0,0,(AF8*((LOG(AF8))/LOG(2))))","v":0},null,{"$f":"N8","v":112},{"$f":"COUNTIF(L98:L127,AI8)","v":0},{"$f":"AJ8/(AL4-AJ11)","v":0},{"$f":"IF(AK8=0,0,(AK8*((LOG(AK8))/LOG(2))))","v":0},null,{"$f":"N8","v":112},{"$f":"COUNTIF(L128:L157,AN8)","v":0},{"$f":"AO8/(AQ4-AO11)","v":0},{"$f":"IF(AP8=0,0,(AP8*((LOG(AP8))/LOG(2))))","v":0},null,{"$f":"N8","v":112},{"$f":"COUNTIF(L158:L187,AS8)","v":0},{"$f":"AT8/(AV4-AT11)","v":0},{"$f":"IF(AU8=0,0,(AU8*((LOG(AU8))/LOG(2))))","v":0}]
[21,267,22,272,24,279,null,null,null,null,0,222,null,121,{"$f":"COUNTIF($L$7:$L$500,N9)","v":6},{"$f":"O9/$Q$4","v":3.3149171270718231E-2},{"$f":"IF(P9=0,0,(P9*((LOG(P9))/LOG(2))))","v":-0.16292431115012318},null,null,{"$f":"N9","v":121},{"$f":"COUNTIF(L7:L36,T9)","v":0},{"$f":"U9/(W4-U11)","v":0},{"$f":"IF(V9=0,0,(V9*((LOG(V9))/LOG(2))))","v":0},null,{"$f":"N9","v":121},{"$f":"COUNTIF(L37:L66,Y9)","v":1},{"$f":"Z9/(AB4-Z11)","v":3.3333333333333333E-2},{"$f":"IF(AA9=0,0,(AA9*((LOG(AA9))/LOG(2))))","v":-0.16356301985361729},null,{"$f":"N9","v":121},{"$f":"COUNTIF(L67:L97,AD9)","v":1},{"$f":"AE9/(AG4-AE11)","v":3.2258064516129031E-2},{"$f":"IF(AF9=0,0,(AF9*((LOG(AF9))/LOG(2))))","v":-0.15981278420602821},null,{"$f":"N9","v":121},{"$f":"COUNTIF(L98:L127,AI9)","v":0},{"$f":"AJ9/(AL4-AJ11)","v":0},{"$f":"IF(AK9=0,0,(AK9*((LOG(AK9))/LOG(2))))","v":0},null,{"$f":"N9","v":121},{"$f":"COUNTIF(L128:L157,AN9)","v":2},{"$f":"AO9/(AQ4-AO11)","v":6.6666666666666666E-2},{"$f":"IF(AP9=0,0,(AP9*((LOG(AP9))/LOG(2))))","v":-0.26045937304056793},null,{"$f":"N9","v":121},{"$f":"COUNTIF(L158:L187,AS9)","v":2},{"$f":"AT9/(AV4-AT11)","v":6.6666666666666666E-2},{"$f":"IF(AU9=0,0,(AU9*((LOG(AU9))/LOG(2))))","v":-0.26045937304056793}]
[12,376,13,393,24,398,null,null,null,null,0,112,null,122,{"$f":"COUNTIF($L$7:$L$500,N10)","v":38},{"$f":"O10/$Q$4","v":0.20994475138121546},{"$f":"IF(P10=0,0,(P10*((LOG(P10))/LOG(2))))","v":-0.47277844308456102},null,null,{"$f":"N10","v":122},{"$f":"COUNTIF(L7:L36,T10)","v":10},{"$f":"U10/(W4-U11)","v":0.33333333333333331},{"$f":"IF(V10=0,0,(V10*((LOG(V10))/LOG(2))))","v":-0.52832083357371862},null,{"$f":"N10","v":122},{"$f":"COUNTIF(L37:L66,Y10)","v":11},{"$f":"Z10/(AB4-Z11)","v":0.36666666666666664},{"$f":"IF(AA10=0,0,(AA10*((LOG(AA10))/LOG(2))))","v":-0.53073495822278116},null,{"$f":"N10","v":122},{"$f":"COUNTIF(L67:L97,AD10)","v":5},{"$f":"AE10/(AG4-AE11)","v":0.16129032258064516},{"$f":"IF(AF10=0,0,(AF10*((LOG(AF10))/LOG(2))))","v":-0.42455938959669559},null,{"$f":"N10","v":122},{"$f":"COUNTIF(L98:L127,AI10)","v":5},{"$f":"AJ10/(AL4-AJ11)","v":0.16666666666666666},{"$f":"IF(AK10=0,0,(AK10*((LOG(AK10))/LOG(2))))","v":-0.43082708345352599},null,{"$f":"N10","v":122},{"$f":"COUNTIF(L128:L157,AN10)","v":3},{"$f":"AO10/(AQ4-AO11)","v":0.1},{"$f":"IF(AP10=0,0,(AP10*((LOG(AP10))/LOG(2))))","v":-0.33219280948873625},null,{"$f":"N10","v":122},{"$f":"COUNTIF(L158:L187,AS10)","v":4},{"$f":"AT10/(AV4-AT11)","v":0.13333333333333333},{"$f":"IF(AU10=0,0,(AU10*((LOG(AU10))/LOG(2))))","v":-0.3875854127478025}]
[12,501,24,512,24,518,null,null,null,null,0,122,null,211,{"$f":"COUNTIF($L$7:$L$500,N11)","v":0},{"$f":"O11/$Q$4","v":0},{"$f":"IF(P11=0,0,(P11*((LOG(P11))/LOG(2))))","v":0},null,null,{"$f":"N11","v":211},{"$f":"COUNTIF(L7:L36,T11)","v":0},null,null,null,{"$f":"N11","v":211},{"$f":"COUNTIF(L37:L66,Y11)","v":0},null,null,null,{"$f":"N11","v":211},{"$f":"COUNTIF(L67:L97,AD11)","v":0},null,null,null,{"$f":"N11","v":211},{"$f":"COUNTIF(L98:L127,AI11)","v":0},null,null,null,{"$f":"N11","v":211},{"$f":"COUNTIF(L128:L157,AN11)","v":0},null,null,null,{"$f":"N11","v":211},{"$f":"COUNTIF(L158:L187,AS11)","v":0}]
[21,621,11,627,22,634,null,null,null,null,0,212,null,212,{"$f":"COUNTIF($L$7:$L$500,N12)","v":35},{"$f":"O12/$Q$4","v":0.19337016574585636},{"$f":"IF(P12=0,0,(P12*((LOG(P12))/LOG(2))))","v":-0.4583961351096042},null,null,{"$f":"N12","v":212},{"$f":"COUNTIF(L7:L36,T12)","v":5},{"$f":"U12/(W4-U11)","v":0.16666666666666666},{"$f":"IF(V12=0,0,(V12*((LOG(V12))/LOG(2))))","v":-0.43082708345352599},null,{"$f":"N12","v":212},{"$f":"COUNTIF(L37:L66,Y12)","v":3},{"$f":"Z12/(AB4-Z11)","v":0.1},{"$f":"IF(AA12=0,0,(AA12*((LOG(AA12))/LOG(2))))","v":-0.33219280948873625},null,{"$f":"N12","v":212},{"$f":"COUNTIF(L67:L97,AD12)","v":10},{"$f":"AE12/(AG4-AE11)","v":0.32258064516129031},{"$f":"IF(AF12=0,0,(AF12*((LOG(AF12))/LOG(2))))","v":-0.52653813403210092},null,{"$f":"N12","v":212},{"$f":"COUNTIF(L98:L127,AI12)","v":5},{"$f":"AJ12/(AL4-AJ11)","v":0.16666666666666666},{"$f":"IF(AK12=0,0,(AK12*((LOG(AK12))/LOG(2))))","v":-0.43082708345352599},null,{"$f":"N12","v":212},{"$f":"COUNTIF(L128:L157,AN12)","v":6},{"$f":"AO12/(AQ4-AO11)","v":0.2},{"$f":"IF(AP12=0,0,(AP12*((LOG(AP12))/LOG(2))))","v":-0.46438561897747244},null,{"$f":"N12","v":212},{"$f":"COUNTIF(L158:L187,AS12)","v":6},{"$f":"AT12/(AV4-AT11)","v":0.2},{"$f":"IF(AU12=0,0,(AU12*((LOG(AU12))/LOG(2))))","v":-0.46438561897747244}]
[12,791,24,825,24,829,null,null,null,null,0,122,null,221,{"$f":"COUNTIF($L$7:$L$500,N13)","v":17},{"$f":"O13/$Q$4","v":9.3922651933701654E-2},{"$f":"IF(P13=0,0,(P13*((LOG(P13))/LOG(2))))","v":-0.32050006507822498},null,null,{"$f":"N13","v":221},{"$f":"COUNTIF(L7:L36,T13)","v":2},{"$f":"U13/(W4-U11)","v":6.6666666666666666E-2},{"$f":"IF(V13=0,0,(V13*((LOG(V13))/LOG(2))))","v":-0.26045937304056793},null,{"$f":"N13","v":221},{"$f":"COUNTIF(L37:L66,Y13)","v":4},{"$f":"Z13/(AB4-Z11)","v":0.13333333333333333},{"$f":"IF(AA13=0,0,(AA13*((LOG(AA13))/LOG(2))))","v":-0.3875854127478025},null,{"$f":"N13","v":221},{"$f":"COUNTIF(L67:L97,AD13)","v":3},{"$f":"AE13/(AG4-AE11)","v":9.6774193548387094E-2},{"$f":"IF(AF13=0,0,(AF13*((LOG(AF13))/LOG(2))))","v":-0.32605488480635986},null,{"$f":"N13","v":221},{"$f":"COUNTIF(L98:L127,AI13)","v":6},{"$f":"AJ13/(AL4-AJ11)","v":0.2},{"$f":"IF(AK13=0,0,(AK13*((LOG(AK13))/LOG(2))))","v":-0.46438561897747244},null,{"$f":"N13","v":221},{"$f":"COUNTIF(L128:L157,AN13)","v":2},{"$f":"AO13/(AQ4-AO11)","v":6.6666666666666666E-2},{"$f":"IF(AP13=0,0,(AP13*((LOG(AP13))/LOG(2))))","v":-0.26045937304056793},null,{"$f":"N13","v":221},{"$f":"COUNTIF(L158:L187,AS13)","v":0},{"$f":"AT13/(AV4-AT11)","v":0},{"$f":"IF(AU13=0,0,(AU13*((LOG(AU13))/LOG(2))))","v":0}]
[12,948,24,953,24,958,null,null,null,null,0,122,null,222,{"$f":"COUNTIF($L$7:$L$500,N14)","v":83},{"$f":"O14/$Q$4","v":0.4585635359116022},{"$f":"IF(P14=0,0,(P14*((LOG(P14))/LOG(2))))","v":-0.51579522555862589},null,null,{"$f":"N14","v":222},{"$f":"COUNTIF(L7:L36,T14)","v":11},{"$f":"U14/(W4-U11)","v":0.36666666666666664},{"$f":"IF(V14=0,0,(V14*((LOG(V14))/LOG(2))))","v":-0.53073495822278116},null,{"$f":"N14","v":222},{"$f":"COUNTIF(L37:L66,Y14)","v":11},{"$f":"Z14/(AB4-Z11)","v":0.36666666666666664},{"$f":"IF(AA14=0,0,(AA14*((LOG(AA14))/LOG(2))))","v":-0.53073495822278116},null,{"$f":"N14","v":222},{"$f":"COUNTIF(L67:L97,AD14)","v":12},{"$f":"AE14/(AG4-AE11)","v":0.38709677419354838},{"$f":"IF(AF14=0,0,(AF14*((LOG(AF14))/LOG(2))))","v":-0.5300259908383429},null,{"$f":"N14","v":222},{"$f":"COUNTIF(L98:L127,AI14)","v":14},{"$f":"AJ14/(AL4-AJ11)","v":0.46666666666666667},{"$f":"IF(AK14=0,0,(AK14*((LOG(AK14))/LOG(2))))","v":-0.51311664765709342},null,{"$f":"N14","v":222},{"$f":"COUNTIF(L128:L157,AN14)","v":17},{"$f":"AO14/(AQ4-AO11)","v":0.56666666666666665},{"$f":"IF(AP14=0,0,(AP14*((LOG(AP14))/LOG(2))))","v":-0.46434239413630152},null,{"$f":"N14","v":222},{"$f":"COUNTIF(L158:L187,AS14)","v":18},{"$f":"AT14/(AV4-AT11)","v":0.6},{"$f":"IF(AU14=0,0,(AU14*((LOG(AU14))/LOG(2))))","v":-0.44217935649972373}]
[12,1056,24,1069,24,1074,null,null,null,null,0,122,null,null,null,{"$f":"SUM(P7:P14)","v":1},{"$f":"-SUM(Q7:Q14)","v":2.0022156814958709},null,null,null,null,{"$f":"SUM(V7:V14)","v":1},{"$f":"-SUM(W7:W14)","v":2.0108016213311615},null,null,null,{"$f":"SUM(AA7:AA14)","v":1},{"$f":"-SUM(AB7:AB14)","v":1.9448111585357184},null,null,null,{"$f":"SUM(AF7:AF14)","v":1},{"$f":"-SUM(AG7:AG14)","v":1.9669911834795275},null,null,null,{"$f":"SUM(AK7:AK14)","v":1},{"$f":"-SUM(AL7:AL14)","v":1.8391564335416177},null,null,null,{"$f":"SUM(AP7:AP14)","v":1},{"$f":"-SUM(AQ7:AQ14)","v":1.7818395686836461},null,null,null,{"$f":"SUM(AU7:AU14)","v":1},{"$f":"-SUM(AV7:AV14)","v":1.5546097612655667}]
[12,1166,24,1173,24,1177,null,null,null,null,0,122,null,null,null,"U=",{"$f":"Q15/(LOG(Q4)/LOG(2))","v":0.26696757661970577},null,null,null,null,"U1=",{"$f":"W15/(LOG(W4)/LOG(2))","v":0.40979141110885026},null,null,null,"U2=",{"$f":"AB15/(LOG(AB4)/LOG(2))","v":0.39634288163592862},null,null,null,"U3=",{"$f":"AG15/(LOG(AG4)/LOG(2))","v":0.39703537370038622},null,null,null,"U4=",{"$f":"AL15/(LOG(AL4)/LOG(2))","v":0.3748109719804214},null,null,null,"U5=",{"$f":"AQ15/(LOG(AQ4)/LOG(2))","v":0.36313007880761089},null,null,null,"U6=",{"$f":"AV15/(LOG(AV4)/LOG(2))","v":0.31682176950447677}]
[21,1279,22,1285,24,1291,null,null,null,null,0,222]
[21,1409,22,1423,24,1430,null,null,null,null,0,222]
[21,1675,11,1677,22,1681,null,null,null,null,0,212,null,"Total Target Seq"]
[12,1776,24,1784,24,1793,null,null,null,null,0,122,null,{"$f":"COUNTIF(L7:L187,G3)","v":0},null,30,30,31,30,30,30]
[21,1907,22,1912,24,1919,null,null,null,null,0,222,null,null,null,"% of reinforcement given in 6 equal intervals based on number of trials "]
[21,2021,22,2024,24,2028,null,null,null,null,0,222,null,null,null,"%_1","%_2","%_3","%_4","%_5","%_6"]
[21,2133,22,2137,24,2141,null,null,null,null,0,222,null,null,"target sequence",{"$f":"$G$3","v":211},{"$f":"$G$3","v":211},{"$f":"$G$3","v":211},{"$f":"$G$3","v":211},{"$f":"$G$3","v":211},{"$f":"$G$3","v":211}]
[12,2233,24,2241,24,2245,null,null,null,null,0,122,null,null,"total reinforcement",{"$f":"U11","v":0},{"$f":"Z11","v":0},{"$f":"AE11","v":0},{"$f":"AJ11","v":0},{"$f":"AO11","v":0},{"$f":"AT11","v":0}]
[21,2363,22,2367,24,2377,null,null,null,null,0,222,null,null,"% target"]
[21,2589,11,2597,22,2607,null,null,null,null,0,212,null,null,"CCRF"]
[12,2704,24,2734,24,2741,null,null,null,null,0,122,null,null,"% CCRf"]
[21,2841,22,2846,24,2853,null,null,null,null,0,222,null,null,"average response rate",{"$f":"F36/P20","v":130.23333333333332},{"$f":"(F66-F36)/Q20","v":124.4},{"$f":"(F97-F66)/R20","v":141.03225806451613},{"$f":"(F127-F97)/S20","v":130.23333333333332},{"$f":"(F157-F127)/T20","v":131.5},{"$f":"(F187-F157)/U20","v":135.33333333333334}]
[21,2967,22,2972,24,2979,null,null,null,null,0,222]
[21,3085,22,3088,24,3093,null,null,null,null,0,222]
[21,3195,22,3198,13,3202,null,null,null,null,0,221]
[21,3316,22,3322,13,3328,null,null,null,null,0,221]
[21,3420,11,3431,22,3433,null,null,null,null,0,212]
[21,3662,11,3667,22,3674,null,null,null,null,0,212]
[21,3786,22,3791,24,3796,null,null,null,null,0,222]
[12,3888,24,3903,24,3907,null,null,null,null,0,122]
[12,4003,24,4006,24,4010,null,null,null,null,0,122]
[21,4117,22,4122,24,4141,null,null,null,null,0,222]
[12,4236,24,4241,24,4246,null,null,null,null,0,122]
[12,4339,24,4347,24,4349,null,null,null,null,0,122]
[12,4447,24,4457,24,4464,null,null,null,null,0,122]
[21,4563,11,4566,22,4571,null,null,null,null,0,212]
[12,4665,24,4689,13,4692,null,null,null,null,0,121]
[12,4785,24,4790,24,4794,null,null,null,null,0,122]
[21,4893,22,4899,24,4906,null,null,null,null,0,222]
[21,5167,22,5177,13,5179,null,null,null,null,0,221]
[21,5287,22,5292,24,5299,null,null,null,null,0,222]
[21,5398,22,5406,13,5410,null,null,null,null,0,221]
[12,5496,24,5499,24,5506,null,null,null,null,0,122]
[21,5606,11,5609,22,5611,null,null,null,null,0,212]
[21,5708,22,5710,24,5714,null,null,null,null,0,222]
[12,5807,24,5812,24,5817,null,null,null,null,0,122]
[21,5918,22,5928,13,5931,null,null,null,null,0,221]
[21,6177,22,6181,24,6188,null,null,null,null,0,222]
[12,6283,24,6316,24,6321,null,null,null,null,0,122]
[12,6426,24,6429,24,6433,null,null,null,null,0,122]
[21,6535,22,6540,24,6545,null,null,null,null,0,222]
[21,6656,22,6661,24,6665,null,null,null,null,0,222]
[21,6763,22,6766,24,6770,null,null,null,null,0,222]
[21,6870,22,6874,24,6879,null,null,null,null,0,222]
[21,6978,11,6987,22,6989,null,null,null,null,0,212]
[21,7200,22,7208,13,7212,null,null,null,null,0,221]
[12,7318,24,7323,24,7328,null,null,null,null,0,122]
[21,7424,22,7427,24,7431,null,null,null,null,0,222]
[12,7526,24,7530,24,7534,null,null,null,null,0,122]
[21,7631,22,7633,24,7639,null,null,null,null,0,222]
[21,7743,22,7748,24,7755,null,null,null,null,0,222]
[12,7847,24,7855,24,7859,null,null,null,null,0,122]
[21,7958,11,7970,22,7982,null,null,null,null,0,212]
[21,8130,11,8136,22,8140,null,null,null,null,0,212]
[21,8235,22,8245,24,8252,null,null,null,null,0,222]
[21,8350,22,8356,24,8362,null,null,null,null,0,222]
[21,8457,22,8461,13,8463,null,null,null,null,0,221]
[21,8560,11,8562,22,8564,null,null,null,null,0,212]
[12,8664,24,8673,24,8679,null,null,null,null,0,122]
[21,8777,22,8785,24,8795,null,null,null,null,0,222]
[12,8887,24,8896,13,8900,null,null,null,null,0,121]
[21,8997,22,8998,24,9002,null,null,null,null,0,222]
[21,9106,22,9112,13,9115,null,null,null,null,0,221]
[12,9209,24,9213,24,9218,null,null,null,null,0,122]
[21,9314,22,9317,24,9320,null,null,null,null,0,222]
[21,9440,22,9443,24,9448,null,null,null,null,0,222]
[21,9626,11,9634,22,9642,null,null,null,null,0,212]
[21,10056,11,10064,22,10069,null,null,null,null,0,212]
[21,10195,11,10203,22,10212,null,null,null,null,0,212]
[21,10445,11,10451,22,10458,null,null,null,null,0,212]
[21,10696,22,10706,24,10717,null,null,null,null,0,222]
[21,10814,11,10821,22,10823,null,null,null,null,0,212]
[21,10926,22,10930,24,10937,null,null,null,null,0,222]
[21,11045,11,11054,22,11063,null,null,null,null,0,212]
[21,11184,22,11186,13,11192,null,null,null,null,0,221]
[21,11291,22,11295,24,11302,null,null,null,null,0,222]
[21,11559,11,11569,22,11578,null,null,null,null,0,212]
[12,11671,24,11676,24,11682,null,null,null,null,0,122]
[12,11784,24,11794,24,11799,null,null,null,null,0,122]
[21,11893,22,11897,24,11903,null,null,null,null,0,222]
[21,12002,22,12007,24,12011,null,null,null,null,0,222]
[21,12101,22,12107,13,12112,null,null,null,null,0,221]
[21,12316,22,12324,24,12329,null,null,null,null,0,222]
[21,12494,11,12503,22,12509,null,null,null,null,0,212]
[21,12632,22,12635,13,12639,null,null,null,null,0,221]
[21,12743,22,12748,13,12753,null,null,null,null,0,221]
[12,12846,24,12854,24,12869,null,null,null,null,0,122]
[21,12995,22,13004,24,13010,null,null,null,null,0,222]
[21,13122,11,13129,22,13131,null,null,null,null,0,212]
[12,13224,24,13233,24,13240,null,null,null,null,0,122]
[21,13337,22,13341,13,13343,null,null,null,null,0,221]
[12,13436,24,13450,24,13458,null,null,null,null,0,122]
[21,13569,22,13572,24,13579,null,null,null,null,0,222]
[21,13714,22,13725,13,13729,null,null,null,null,0,221]
[21,13828,22,13831,13,13836,null,null,null,null,0,221]
[21,13955,22,13960,24,13966,null,null,null,null,0,222]
[21,14064,11,14066,22,14068,null,null,null,null,0,212]
[12,14160,24,14168,24,14172,null,null,null,null,0,122]
[12,14294,24,14301,24,14309,null,null,null,null,0,122]
[21,14558,22,14561,24,14569,null,null,null,null,0,222]
[21,14667,22,14670,24,14672,null,null,null,null,0,222]
[21,14770,22,14773,24,14777,null,null,null,null,0,222]
[21,14880,11,14883,22,14885,null,null,null,null,0,212]
[21,14986,22,14991,24,14997,null,null,null,null,0,222]
[21,15095,22,15098,24,15104,null,null,null,null,0,222]
[21,15200,22,15207,24,15211,null,null,null,null,0,222]
[21,15309,22,15314,24,15323,null,null,null,null,0,222]
[21,15525,22,15530,24,15539,null,null,null,null,0,222]
[21,15686,11,15693,22,15697,null,null,null,null,0,212]
[21,15800,22,15805,24,15816,null,null,null,null,0,222]
[21,15909,22,15914,24,15918,null,null,null,null,0,222]
[12,16014,24,16017,24,16022,null,null,null,null,0,122]
[21,16120,22,16124,13,16125,null,null,null,null,0,221]
[21,16223,22,16228,24,16234,null,null,null,null,0,222]
[21,16346,22,16355,24,16362,null,null,null,null,0,222]
[21,16461,22,16466,24,16471,null,null,null,null,0,222]
[21,16568,11,16571,22,16574,null,null,null,null,0,212]
[21,16678,22,16683,24,16689,null,null,null,null,0,222]
[21,16813,22,16824,24,16831,null,null,null,null,0,222]
[21,17061,11,17072,22,17074,null,null,null,null,0,212]
[21,17427,22,17432,24,17438,null,null,null,null,0,222]
[21,17554,11,17560,22,17567,null,null,null,null,0,212]
[21,17665,22,17674,24,17681,null,null,null,null,0,222]
[21,17780,22,17782,24,17786,null,null,null,null,0,222]
[21,17882,11,17888,22,17891,null,null,null,null,0,212]
[21,17989,22,17993,13,17996,null,null,null,null,0,221]
[21,18126,22,18137,24,18146,null,null,null,null,0,222]
[21,18345,11,18353,22,18359,null,null,null,null,0,212]
[21,18459,22,18464,24,18470,null,null,null,null,0,222]
[12,18566,24,18576,24,18581,null,null,null,null,0,122]
[21,18676,11,18678,22,18681,null,null,null,null,0,212]
[21,18784,22,18791,24,18798,null,null,null,null,0,222]
[12,18893,24,18902,13,18904,null,null,null,null,0,121]
[21,18999,22,19002,24,19006,null,null,null,null,0,222]
[12,19130,24,19133,13,19138,null,null,null,null,0,121]
[21,19302,22,19312,24,19319,null,null,null,null,0,222]
[12,19423,24,19426,24,19430,null,null,null,null,0,122]
[21,19523,22,19525,24,19533,null,null,null,null,0,222]
[21,19628,22,19633,24,19636,null,null,null,null,0,222]
[21,19739,22,19746,24,19759,null,null,null,null,0,222]
[21,19855,22,19859,24,19863,null,null,null,null,0,222]
[21,19958,22,19962,24,19967,null,null,null,null,0,222]
[12,20065,24,20067,13,20071,null,null,null,null,0,121]
[12,20175,24,20183,24,20189,null,null,null,null,0,122]
[21,20289,11,20293,22,20301,null,null,null,null,0,212]
[21,20410,11,20413,22,20420,null,null,null,null,0,212]
[12,20515,24,20528,13,20531,null,null,null,null,0,121]
[21,20632,22,20641,24,20646,null,null,null,null,0,222]
[21,20839,22,20850,24,20857,null,null,null,null,0,222]
[21,21025,22,21029,24,21038,null,null,null,null,0,222]
[21,21139,22,21144,24,21148,null,null,null,null,0,222]
[21,21246,22,21250,24,21256,null,null,null,null,0,222]
[12,21349,24,21352,24,21356,null,null,null,null,0,122]
[12,21545,24,21551,24,21565,null,null,null,null,0,122]
[21,21780,22,21790,24,21800,null,null,null,null,0,222]
[21,21901,22,21906,24,21913,null,null,null,null,0,222]
[21,22007,22,22010,24,22015,null,null,null,null,0,222]
[21,22113,11,22124,22,22129,null,null,null,null,0,212]
[21,22321,11,22327,22,22331,null,null,null,null,0,212]
[21,22455,22,22457,24,22467,null,null,null,null,0,222]
[21,22618,11,22628,22,22630,null,null,null,null,0,212]
[12,22723,24,22732,24,22737,null,null,null,null,0,122]
[21,22878,11,22886,22,22891,null,null,null,null,0,212]
[21,23043,22,23056,24,23063,null,null,null,null,0,222]
[21,23159,22,23163,24,23169,null,null,null,null,0,222]
[21,23271,22,23276,24,23279,null,null,null,null,0,222]
[21,23378,22,23382,24,23385,null,null,null,null,0,222]
[21,23536,22,23541,24,23547,null,null,null,null,0,222]
[21,23651,22,23657,24,23663,null,null,null,null,0,222]
[21,23762,22,23765,24,23767,null,null,null,null,0,222]
[21,23913,22,23917,24,23923,null,null,null,null,null,222]

{"sheet":"!N211A50.Gus","index":17,"n_rows":181,"n_cols":48,"rows_kept":181,"cut":false,"hidden":false,"merged":[[4,39,4,42],[5,39,5,40],[4,44,4,47],[5,44,5,45],[4,24,4,27],[5,24,5,25],[4,29,4,32],[5,29,5,30],[4,34,4,37],[5,34,5,35],[1,1,1,2],[5,13,5,14],[18,13,18,14],[19,13,19,14],[4,19,4,22],[5,19,5,20]]}
["Report for:!N211A50.Gus"]
["Date:","<date>"]
["Hen:","<hen>",null,null,null,"Correct Sequence",{"$f":"Start!J2","v":211},null,null,null,null,null,null,null,null,"Total Sequences in Data",{"$f":"4994-COUNTBLANK(L7:L5000)","v":175},null,null,null,null,"Total Sequences in Block Data",{"$f":"COUNTA(L7:L35)","v":29},null,null,null,"Total Sequences in Block Data",{"$f":"COUNTA(L36:L64)","v":29},null,null,null,"Total Sequences in Block Data",{"$f":"COUNTA(L65:L94)","v":30},null,null,null,"Total Sequences in Block Data",{"$f":"COUNTA(L95:L123)","v":29},null,null,null,"Total Sequences in Block Data",{"$f":"COUNTA(L124:L152)","v":29},null,null,null,"Total Sequences in Block Data",{"$f":"COUNTA(L153:L181)","v":29}]
[null,null,null,null,null,null,null,null,null,null,null,null,null,null,null,"Total Sequences in Summary",{"$f":"SUM(O7:O14)","v":175},null,null,null,null,"Total Sequences in Block Summary",{"$f":"SUM(U7:U14)","v":29},null,null,null,"Total Sequences in Block Summary",{"$f":"SUM(Z7:Z14)","v":29},null,null,null,"Total Sequences in Block Summary",{"$f":"SUM(AE7:AE14)","v":30},null,null,null,"Total Sequences in Block Summary",{"$f":"SUM(AJ7:AJ14)","v":29},null,null,null,"Total Sequences in Block Summary",{"$f":"SUM(AO7:AO14)","v":29},null,null,null,"Total Sequences in Block Summary",{"$f":"SUM(AT7:AT14)","v":29}]
[null,null,null,null,null,null,null,null,null,null,null,null,null,null,null,null,null,null,null,"Block 1",null,null,null,null,"Block 2",null,null,null,null,"Block 3",null,null,null,null,"Block 4",null,null,null,null,"Block 5",null,null,null,null,"Block 6"]
["Sequence\nComponent\n1","Time\n1","Sequence\nComponent\n2","Time\n2","Sequence\nComponent\n3","Time\n3","Sequence\nComponent\n4","Time\n4","Sequence\nComponent\n5","Time\n5","Correct?\n0=No 1=Yes","Sequence",null,"Frequency",null,"Relative Frequency","Variability",null,null,"Frequency",null,"Relative Frequency","Variability",null,"Frequency",null,"Relative Frequency","Variability",null,"Frequency",null,"Relative Frequency","Variability",null,"Frequency",null,"Relative Frequency","Variability",null,"Frequency",null,"Relative Frequency","Variability",null,"Frequency",null,"Relative Frequency","Variability"]
[21,26,11,39,22,49,null,null,null,null,0,212,null,111,{"$f":"COUNTIF($L$7:$L$500,N7)","v":0},{"$f":"O7/$Q$4","v":0},{"$f":"IF(P7=0,0,(P7*((LOG(P7))/LOG(2))))","v":0},null,null,{"$f":"N7","v":111},{"$f":"COUNTIF(L7:L35,T7)","v":0},{"$f":"U7/(W4-U11)","v":0},{"$f":"IF(V7=0,0,(V7*((LOG(V7))/LOG(2))))","v":0},null,{"$f":"N7","v":111},{"$f":"COUNTIF(L36:L64,Y7)","v":0},{"$f":"Z7/(AB4-Z11)","v":0},{"$f":"IF(AA7=0,0,(AA7*((LOG(AA7))/LOG(2))))","v":0},null,{"$f":"N7","v":111},{"$f":"COUNTIF(L65:L94,AD7)","v":0},{"$f":"AE7/(AG4-AE11)","v":0},{"$f":"IF(AF7=0,0,(AF7*((LOG(AF7))/LOG(2))))","v":0},null,{"$f":"N7","v":111},{"$f":"COUNTIF(L95:L123,AI7)","v":0},{"$f":"AJ7/(AL4-AJ11)","v":0},{"$f":"IF(AK7=0,0,(AK7*((LOG(AK7))/LOG(2))))","v":0},null,{"$f":"N7","v":111},{"$f":"COUNTIF(L124:L152,AN7)","v":0},{"$f":"AO7/(AQ4-AO11)","v":0},{"$f":"IF(AP7=0,0,(AP7*((LOG(AP7))/LOG(2))))","v":0},null,{"$f":"N7","v":111},{"$f":"COUNTIF(L153:L181,AS7)","v":0},{"$f":"AT7/(AV4-AT11)","v":0},{"$f":"IF(AU7=0,0,(AU7*((LOG(AU7))/LOG(2))))","v":0}]
[12,166,24,171,24,178,null,null,null,null,0,122,null,112,{"$f":"COUNTIF($L$7:$L$500,N8)","v":3},{"$f":"O8/$Q$4","v":1.7142857142857144E-2},{"$f":"IF(P8=0,0,(P8*((LOG(P8))/LOG(2))))","v":-0.10056426190476297},null,null,{"$f":"N8","v":112},{"$f":"COUNTIF(L7:L35,T8)","v":0},{"$f":"U8/(W4-U11)","v":0},{"$f":"IF(V8=0,0,(V8*((LOG(V8))/LOG(2))))","v":0},null,{"$f":"N8","v":112},{"$f":"COUNTIF(L36:L64,Y8)","v":1},{"$f":"Z8/(AB4-Z11)","v":3.4482758620689655E-2},{"$f":"IF(AA8=0,0,(AA8*((LOG(AA8))/LOG(2))))","v":-0.16751658603888178},null,{"$f":"N8","v":112},{"$f":"COUNTIF(L65:L94,AD8)","v":1},{"$f":"AE8/(AG4-AE11)","v":3.3333333333333333E-2},{"$f":"IF(AF8=0,0,(AF8*((LOG(AF8))/LOG(2))))","v":-0.16356301985361729},null,{"$f":"N8","v":112},{"$f":"COUNTIF(L95:L123,AI8)","v":0},{"$f":"AJ8/(AL4-AJ11)","v":0},{"$f":"IF(AK8=0,0,(AK8*((LOG(AK8))/LOG(2))))","v":0},null,{"$f":"N8","v":112},{"$f":"COUNTIF(L124:L152,AN8)","v":0},{"$f":"AO8/(AQ4-AO11)","v":0},{"$f":"IF(AP8=0,0,(AP8*((LOG(AP8))/LOG(2))))","v":0},null,{"$f":"N8","v":112},{"$f":"COUNTIF(L153:L181,AS8)","v":1},{"$f":"AT8/(AV4-AT11)","v":3.4482758620689655E-2},{"$f":"IF(AU8=0,0,(AU8*((LOG(AU8))/LOG(2))))","v":-0.16751658603888178}]
[12,284,24,298,24,304,null,null,null,null,0,122,null,121,{"$f":"COUNTIF($L$7:$L$500,N9)","v":3},{"$f":"O9/$Q$4","v":1.7142857142857144E-2},{"$f":"IF(P9=0,0,(P9*((LOG(P9))/LOG(2))))","v":-0.10056426190476297},null,null,{"$f":"N9","v":121},{"$f":"COUNTIF(L7:L35,T9)","v":1},{"$f":"U9/(W4-U11)","v":3.4482758620689655E-2},{"$f":"IF(V9=0,0,(V9*((LOG(V9))/LOG(2))))","v":-0.16751658603888178},null,{"$f":"N9","v":121},{"$f":"COUNTIF(L36:L64,Y9)","v":0},{"$f":"Z9/(AB4-Z11)","v":0},{"$f":"IF(AA9=0,0,(AA9*((LOG(AA9))/LOG(2))))","v":0},null,{"$f":"N9","v":121},{"$f":"COUNTIF(L65:L94,AD9)","v":0},{"$f":"AE9/(AG4-AE11)","v":0},{"$f":"IF(AF9=0,0,(AF9*((LOG(AF9))/LOG(2))))","v":0},null,{"$f":"N9","v":121},{"$f":"COUNTIF(L95:L123,AI9)","v":0},{"$f":"AJ9/(AL4-AJ11)","v":0},{"$f":"IF(AK9=0,0,(AK9*((LOG(AK9))/LOG(2))))","v":0},null,{"$f":"N9","v":121},{"$f":"COUNTIF(L124:L152,AN9)","v":1},{"$f":"AO9/(AQ4-AO11)","v":3.4482758620689655E-2},{"$f":"IF(AP9=0,0,(AP9*((LOG(AP9))/LOG(2))))","v":-0.16751658603888178},null,{"$f":"N9","v":121},{"$f":"COUNTIF(L153:L181,AS9)","v":1},{"$f":"AT9/(AV4-AT11)","v":3.4482758620689655E-2},{"$f":"IF(AU9=0,0,(AU9*((LOG(AU9))/LOG(2))))","v":-0.16751658603888178}]
[21,403,22,411,13,415,null,null,null,null,0,221,null,122,{"$f":"COUNTIF($L$7:$L$500,N10)","v":39},{"$f":"O10/$Q$4","v":0.22285714285714286},{"$f":"IF(P10=0,0,(P10*((LOG(P10))/LOG(2))))","v":-0.48266598186190363},null,null,{"$f":"N10","v":122},{"$f":"COUNTIF(L7:L35,T10)","v":11},{"$f":"U10/(W4-U11)","v":0.37931034482758619},{"$f":"IF(V10=0,0,(V10*((LOG(V10))/LOG(2))))","v":-0.53048424625493174},null,{"$f":"N10","v":122},{"$f":"COUNTIF(L36:L64,Y10)","v":4},{"$f":"Z10/(AB4-Z11)","v":0.13793103448275862},{"$f":"IF(AA10=0,0,(AA10*((LOG(AA10))/LOG(2))))","v":-0.39420427519000989},null,{"$f":"N10","v":122},{"$f":"COUNTIF(L65:L94,AD10)","v":4},{"$f":"AE10/(AG4-AE11)","v":0.13333333333333333},{"$f":"IF(AF10=0,0,(AF10*((LOG(AF10))/LOG(2))))","v":-0.3875854127478025},null,{"$f":"N10","v":122},{"$f":"COUNTIF(L95:L123,AI10)","v":4},{"$f":"AJ10/(AL4-AJ11)","v":0.13793103448275862},{"$f":"IF(AK10=0,0,(AK10*((LOG(AK10))/LOG(2))))","v":-0.39420427519000989},null,{"$f":"N10","v":122},{"$f":"COUNTIF(L124:L152,AN10)","v":10},{"$f":"AO10/(AQ4-AO11)","v":0.34482758620689657},{"$f":"IF(AP10=0,0,(AP10*((LOG(AP10))/LOG(2))))","v":-0.52967341387593436},null,{"$f":"N10","v":122},{"$f":"COUNTIF(L153:L181,AS10)","v":6},{"$f":"AT10/(AV4-AT11)","v":0.20689655172413793},{"$f":"IF(AU10=0,0,(AU10*((LOG(AU10))/LOG(2))))","v":-0.4702796884978791}]
[12,512,24,514,24,518,null,null,null,null,0,122,null,211,{"$f":"COUNTIF($L$7:$L$500,N11)","v":0},{"$f":"O11/$Q$4","v":0},{"$f":"IF(P11=0,0,(P11*((LOG(P11))/LOG(2))))","v":0},null,null,{"$f":"N11","v":211},{"$f":"COUNTIF(L7:L35,T11)","v":0},null,null,null,{"$f":"N11","v":211},{"$f":"COUNTIF(L36:L64,Y11)","v":0},null,null,null,{"$f":"N11","v":211},{"$f":"COUNTIF(L65:L94,AD11)","v":0},null,null,null,{"$f":"N11","v":211},{"$f":"COUNTIF(L95:L123,AI11)","v":0},null,null,null,{"$f":"N11","v":211},{"$f":"COUNTIF(L124:L152,AN11)","v":0},null,null,null,{"$f":"N11","v":211},{"$f":"COUNTIF(L153:L181,AS11)","v":0}]
[12,633,24,642,24,650,null,null,null,null,0,122,null,212,{"$f":"COUNTIF($L$7:$L$500,N12)","v":32},{"$f":"O12/$Q$4","v":0.18285714285714286},{"$f":"IF(P12=0,0,(P12*((LOG(P12))/LOG(2))))","v":-0.44822146044934014},null,null,{"$f":"N12","v":212},{"$f":"COUNTIF(L7:L35,T12)","v":7},{"$f":"U12/(W4-U11)","v":0.2413793103448276},{"$f":"IF(V12=0,0,(V12*((LOG(V12))/LOG(2))))","v":-0.49497870729275095},null,{"$f":"N12","v":212},{"$f":"COUNTIF(L36:L64,Y12)","v":5},{"$f":"Z12/(AB4-Z11)","v":0.17241379310344829},{"$f":"IF(AA12=0,0,(AA12*((LOG(AA12))/LOG(2))))","v":-0.43725050004141547},null,{"$f":"N12","v":212},{"$f":"COUNTIF(L65:L94,AD12)","v":9},{"$f":"AE12/(AG4-AE11)","v":0.3},{"$f":"IF(AF12=0,0,(AF12*((LOG(AF12))/LOG(2))))","v":-0.52108967824986185},null,{"$f":"N12","v":212},{"$f":"COUNTIF(L95:L123,AI12)","v":4},{"$f":"AJ12/(AL4-AJ11)","v":0.13793103448275862},{"$f":"IF(AK12=0,0,(AK12*((LOG(AK12))/LOG(2))))","v":-0.39420427519000989},null,{"$f":"N12","v":212},{"$f":"COUNTIF(L124:L152,AN12)","v":4},{"$f":"AO12/(AQ4-AO11)","v":0.13793103448275862},{"$f":"IF(AP12=0,0,(AP12*((LOG(AP12))/LOG(2))))","v":-0.39420427519000989},null,{"$f":"N12","v":212},{"$f":"COUNTIF(L153:L181,AS12)","v":3},{"$f":"AT12/(AV4-AT11)","v":0.10344827586206896},{"$f":"IF(AU12=0,0,(AU12*((LOG(AU12))/LOG(2))))","v":-0.33858812011100858}]
[21,754,22,761,24,765,null,null,null,null,0,222,null,221,{"$f":"COUNTIF($L$7:$L$500,N13)","v":23},{"$f":"O13/$Q$4","v":0.13142857142857142},{"$f":"IF(P13=0,0,(P13*((LOG(P13))/LOG(2))))","v":-0.38477674618761293},null,null,{"$f":"N13","v":221},{"$f":"COUNTIF(L7:L35,T13)","v":2},{"$f":"U13/(W4-U11)","v":6.8965517241379309E-2},{"$f":"IF(V13=0,0,(V13*((LOG(V13))/LOG(2))))","v":-0.26606765483638428},null,{"$f":"N13","v":221},{"$f":"COUNTIF(L36:L64,Y13)","v":3},{"$f":"Z13/(AB4-Z11)","v":0.10344827586206896},{"$f":"IF(AA13=0,0,(AA13*((LOG(AA13))/LOG(2))))","v":-0.33858812011100858},null,{"$f":"N13","v":221},{"$f":"COUNTIF(L65:L94,AD13)","v":6},{"$f":"AE13/(AG4-AE11)","v":0.2},{"$f":"IF(AF13=0,0,(AF13*((LOG(AF13))/LOG(2))))","v":-0.46438561897747244},null,{"$f":"N13","v":221},{"$f":"COUNTIF(L95:L123,AI13)","v":5},{"$f":"AJ13/(AL4-AJ11)","v":0.17241379310344829},{"$f":"IF(AK13=0,0,(AK13*((LOG(AK13))/LOG(2))))","v":-0.43725050004141547},null,{"$f":"N13","v":221},{"$f":"COUNTIF(L124:L152,AN13)","v":5},{"$f":"AO13/(AQ4-AO11)","v":0.17241379310344829},{"$f":"IF(AP13=0,0,(AP13*((LOG(AP13))/LOG(2))))","v":-0.43725050004141547},null,{"$f":"N13","v":221},{"$f":"COUNTIF(L153:L181,AS13)","v":2},{"$f":"AT13/(AV4-AT11)","v":6.8965517241379309E-2},{"$f":"IF(AU13=0,0,(AU13*((LOG(AU13))/LOG(2))))","v":-0.26606765483638428}]
[12,863,24,869,24,874,null,null,null,null,0,122,null,222,{"$f":"COUNTIF($L$7:$L$500,N14)","v":75},{"$f":"O14/$Q$4","v":0.42857142857142855},{"$f":"IF(P14=0,0,(P14*((LOG(P14))/LOG(2))))","v":-0.52388246628704915},null,null,{"$f":"N14","v":222},{"$f":"COUNTIF(L7:L35,T14)","v":8},{"$f":"U14/(W4-U11)","v":0.27586206896551724},{"$f":"IF(V14=0,0,(V14*((LOG(V14))/LOG(2))))","v":-0.51254648141450265},null,{"$f":"N14","v":222},{"$f":"COUNTIF(L36:L64,Y14)","v":16},{"$f":"Z14/(AB4-Z11)","v":0.55172413793103448},{"$f":"IF(AA14=0,0,(AA14*((LOG(AA14))/LOG(2))))","v":-0.47336882489797077},null,{"$f":"N14","v":222},{"$f":"COUNTIF(L65:L94,AD14)","v":10},{"$f":"AE14/(AG4-AE11)","v":0.33333333333333331},{"$f":"IF(AF14=0,0,(AF14*((LOG(AF14))/LOG(2))))","v":-0.52832083357371862},null,{"$f":"N14","v":222},{"$f":"COUNTIF(L95:L123,AI14)","v":16},{"$f":"AJ14/(AL4-AJ11)","v":0.55172413793103448},{"$f":"IF(AK14=0,0,(AK14*((LOG(AK14))/LOG(2))))","v":-0.47336882489797077},null,{"$f":"N14","v":222},{"$f":"COUNTIF(L124:L152,AN14)","v":9},{"$f":"AO14/(AQ4-AO11)","v":0.31034482758620691},{"$f":"IF(AP14=0,0,(AP14*((LOG(AP14))/LOG(2))))","v":-0.52387944631611505},null,{"$f":"N14","v":222},{"$f":"COUNTIF(L153:L181,AS14)","v":16},{"$f":"AT14/(AV4-AT11)","v":0.55172413793103448},{"$f":"IF(AU14=0,0,(AU14*((LOG(AU14))/LOG(2))))","v":-0.47336882489797077}]
[12,981,24,985,24,996,null,null,null,null,0,122,null,null,null,{"$f":"SUM(P7:P14)","v":1},{"$f":"-SUM(Q7:Q14)","v":2.040675178595432},null,null,null,null,{"$f":"SUM(V7:V14)","v":1},{"$f":"-SUM(W7:W14)","v":1.9715936758374515},null,null,null,{"$f":"SUM(AA7:AA14)","v":1},{"$f":"-SUM(AB7:AB14)","v":1.8109283062792865},null,null,null,{"$f":"SUM(AF7:AF14)","v":1},{"$f":"-SUM(AG7:AG14)","v":2.0649445634024728},null,null,null,{"$f":"SUM(AK7:AK14)","v":1},{"$f":"-SUM(AL7:AL14)","v":1.6990278753194061},null,null,null,{"$f":"SUM(AP7:AP14)","v":1},{"$f":"-SUM(AQ7:AQ14)","v":2.0525242214623565},null,null,null,{"$f":"SUM(AU7:AU14)","v":1},{"$f":"-SUM(AV7:AV14)","v":1.8833374604210065}]
[21,1087,11,1095,22,1105,null,null,null,null,0,212,null,null,null,"U=",{"$f":"Q15/(LOG(Q4)/LOG(2))","v":0.27387160932199239},null,null,null,null,"U1=",{"$f":"W15/(LOG(W4)/LOG(2))","v":0.405846313070164},null,null,null,"U2=",{"$f":"AB15/(LOG(AB4)/LOG(2))","v":0.37277385566053062},null,null,null,"U3=",{"$f":"AG15/(LOG(AG4)/LOG(2))","v":0.42082547453789165},null,null,null,"U4=",{"$f":"AL15/(LOG(AL4)/LOG(2))","v":0.34973950639648171},null,null,null,"U5=",{"$f":"AQ15/(LOG(AQ4)/LOG(2))","v":0.42250560953634536},null,null,null,"U6=",{"$f":"AV15/(LOG(AV4)/LOG(2))","v":0.38767905068174308}]
[12,1287,24,1306,24,1314,null,null,null,null,0,122]
[21,1421,11,1425,22,1432,null,null,null,null,0,212]
[12,1525,24,1532,24,1541,null,null,null,null,0,122,null,"Total Target Seq"]
[12,1638,24,1642,24,1646,null,null,null,null,0,122,null,{"$f":"COUNTIF(L7:L181,G3)","v":0},null,29,29,30,29,29,29]
[21,1741,11,1745,22,1749,null,null,null,null,0,212,null,null,null,"% of reinforcement given in 6 equal intervals based on number of trials "]
[21,1841,11,1843,22,1855,null,null,null,null,0,212,null,null,null,"%_1","%_2","%_3","%_4","%_5","%_6"]
[21,1957,22,1963,24,1970,null,null,null,null,0,222,null,null,"target sequence",{"$f":"$G$3","v":211},{"$f":"$G$3","v":211},{"$f":"$G$3","v":211},{"$f":"$G$3","v":211},{"$f":"$G$3","v":211},{"$f":"$G$3","v":211}]
[12,2073,24,2084,24,2091,null,null,null,null,0,122,null,null,"total reinforcement",{"$f":"U11","v":0},{"$f":"Z11","v":0},{"$f":"AE11","v":0},{"$f":"AJ11","v":0},{"$f":"AO11","v":0},{"$f":"AT11","v":0}]
[21,2196,11,2202,22,2212,null,null,null,null,0,212,null,null,"% target"]
[21,2389,22,2393,24,2394,null,null,null,null,0,222,null,null,"CCRF"]
[21,2522,11,2530,22,2535,null,null,null,null,0,212,null,null,"% CCRf"]
[21,2637,22,2643,24,2650,null,null,null,null,0,222,null,null,"average response rate",{"$f":"F35/P20","v":129.58620689655172},{"$f":"(F64-F35)/Q20","v":125.65517241379311},{"$f":"(F94-F64)/R20","v":124},{"$f":"(F123-F94)/S20","v":125.89655172413794},{"$f":"(F152-F123)/T20","v":121.58620689655173},{"$f":"(F181-F152)/U20","v":193.17241379310346}]
[12,2758,24,2768,24,2772,null,null,null,null,0,122]
[21,2876,22,2880,24,2884,null,null,null,null,0,222]
[21,2982,22,2985,24,2989,null,null,null,null,0,222]
[12,3082,24,3092,13,3096,null,null,null,null,0,121]
[21,3195,22,3201,13,3206,null,null,null,null,0,221]
[21,3319,22,3325,24,3332,null,null,null,null,0,222]
[21,3735,22,3748,24,3758,null,null,null,null,0,222]
[21,3863,22,3868,24,3873,null,null,null,null,0,222]
[21,3990,11,3993,22,4000,null,null,null,null,0,212]
[21,4101,11,4105,22,4108,null,null,null,null,0,212]
[21,4211,22,4213,24,4217,null,null,null,null,0,222]
[21,4315,22,4318,24,4323,null,null,null,null,0,222]
[21,4420,22,4422,13,4427,null,null,null,null,0,221]
[12,4519,24,4525,24,4528,null,null,null,null,0,122]
[21,4628,22,4632,24,4637,null,null,null,null,0,222]
[21,4739,22,4746,24,4758,null,null,null,null,0,222]
[21,4883,22,4907,24,4921,null,null,null,null,0,222]
[21,5049,11,5061,22,5070,null,null,null,null,0,212]
[21,5169,22,5175,24,5187,null,null,null,null,0,222]
[12,5300,24,5311,24,5319,null,null,null,null,0,122]
[21,5428,22,5444,13,5452,null,null,null,null,0,221]
[21,5549,22,5552,24,5555,null,null,null,null,0,222]
[12,5657,13,5659,24,5662,null,null,null,null,0,112]
[12,5755,24,5758,24,5760,null,null,null,null,0,122]
[21,5867,22,5875,24,5882,null,null,null,null,0,222]
[21,5986,22,5991,24,5997,null,null,null,null,0,222]
[12,6089,24,6097,24,6100,null,null,null,null,0,122]
[21,6201,22,6207,24,6214,null,null,null,null,0,222]
[21,6347,22,6356,24,6361,null,null,null,null,0,222]
[21,6472,22,6478,13,6482,null,null,null,null,0,221]
[21,6580,22,6589,24,6595,null,null,null,null,0,222]
[21,6737,22,6743,24,6749,null,null,null,null,0,222]
[21,6933,22,6946,24,6955,null,null,null,null,0,222]
[21,7062,11,7072,22,7076,null,null,null,null,0,212]
[21,7249,22,7261,24,7268,null,null,null,null,0,222]
[21,7391,11,7399,22,7402,null,null,null,null,0,212]
[21,7515,22,7519,24,7532,null,null,null,null,0,222]
[21,7634,22,7639,13,7643,null,null,null,null,0,221]
[21,7750,11,7759,22,7765,null,null,null,null,0,212]
[21,7871,22,7875,24,7884,null,null,null,null,0,222]
[21,7981,11,7988,22,7999,null,null,null,null,0,212]
[21,8097,22,8099,24,8115,null,null,null,null,0,222]
[21,8211,22,8218,13,8220,null,null,null,null,0,221]
[21,8370,22,8376,13,8379,null,null,null,null,0,221]
[21,8505,11,8511,22,8517,null,null,null,null,0,212]
[21,8617,22,8627,24,8632,null,null,null,null,0,222]
[21,8736,11,8740,22,8746,null,null,null,null,0,212]
[21,8848,22,8855,24,8862,null,null,null,null,0,222]
[12,8959,24,8963,24,8967,null,null,null,null,0,122]
[21,9066,11,9071,22,9081,null,null,null,null,0,212]
[12,9178,13,9183,24,9199,null,null,null,null,0,112]
[21,9295,22,9299,13,9301,null,null,null,null,0,221]
[12,9398,24,9401,24,9407,null,null,null,null,0,122]
[21,9508,22,9511,24,9515,null,null,null,null,0,222]
[21,9620,22,9629,24,9642,null,null,null,null,0,222]
[21,9747,22,9751,24,9759,null,null,null,null,0,222]
[21,9879,11,9890,22,9896,null,null,null,null,0,212]
[21,10034,11,10043,22,10064,null,null,null,null,0,212]
[21,10225,22,10235,24,10241,null,null,null,null,0,222]
[21,10348,22,10351,13,10357,null,null,null,null,0,221]
[21,10460,11,10471,22,10472,null,null,null,null,0,212]
[12,10577,24,10585,24,10590,null,null,null,null,0,122]
[21,10745,22,10761,24,10768,null,null,null,null,0,222]
[21,10868,11,10874,22,10875,null,null,null,null,0,212]
[12,10972,24,10975,24,10984,null,null,null,null,0,122]
[21,11116,22,11120,13,11122,null,null,null,null,0,221]
[21,11221,22,11232,13,11243,null,null,null,null,0,221]
[21,11341,22,11346,24,11348,null,null,null,null,0,222]
[21,11463,22,11470,24,11478,null,null,null,null,0,222]
[21,11628,22,11635,13,11640,null,null,null,null,0,221]
[12,11734,24,11737,24,11746,null,null,null,null,0,122]
[21,11850,22,11855,24,11861,null,null,null,null,0,222]
[21,11961,22,11966,24,11969,null,null,null,null,0,222]
[12,12064,24,12070,24,12073,null,null,null,null,0,122]
[21,12181,22,12188,24,12196,null,null,null,null,0,222]
[21,12302,22,12309,24,12315,null,null,null,null,0,222]
[21,12414,22,12416,24,12421,null,null,null,null,0,222]
[21,12518,22,12522,24,12528,null,null,null,null,0,222]
[21,12649,11,12655,22,12661,null,null,null,null,0,212]
[21,12819,22,12832,24,12838,null,null,null,null,0,222]
[21,12942,22,12946,24,12952,null,null,null,null,0,222]
[21,13048,11,13055,22,13061,null,null,null,null,0,212]
[21,13161,22,13165,24,13171,null,null,null,null,0,222]
[21,13271,22,13276,24,13280,null,null,null,null,0,222]
[21,13378,22,13384,24,13392,null,null,null,null,0,222]
[21,13497,22,13501,24,13506,null,null,null,null,0,222]
[21,13612,22,13618,13,13622,null,null,null,null,0,221]
[21,13853,11,13860,22,13864,null,null,null,null,0,212]
[21,13968,22,13974,24,13980,null,null,null,null,0,222]
[21,14095,11,14101,22,14105,null,null,null,null,0,212]
[12,14198,24,14200,24,14205,null,null,null,null,0,122]
[21,14306,22,14309,24,14311,null,null,null,null,0,222]
[12,14403,24,14410,24,14414,null,null,null,null,0,122]
[21,14542,22,14553,13,14555,null,null,null,null,0,221]
[21,14765,22,14769,13,14773,null,null,null,null,0,221]
[21,14874,22,14882,13,14886,null,null,null,null,0,221]
[21,14982,22,14986,24,14992,null,null,null,null,0,222]
[12,15085,24,15088,24,15091,null,null,null,null,0,122]
[21,15235,22,15238,13,15239,null,null,null,null,0,221]
[12,15337,24,15340,24,15345,null,null,null,null,0,122]
[21,15452,22,15457,24,15471,null,null,null,null,0,222]
[12,15577,24,15580,24,15584,null,null,null,null,0,122]
[21,15681,22,15682,24,15693,null,null,null,null,0,222]
[21,15853,22,15859,24,15866,null,null,null,null,0,222]
[12,15970,24,15975,24,15982,null,null,null,null,0,122]
[12,16075,24,16082,24,16084,null,null,null,null,0,122]
[21,16180,22,16184,24,16189,null,null,null,null,0,222]
[12,16282,24,16284,24,16288,null,null,null,null,0,122]
[12,16382,24,16389,24,16395,null,null,null,null,0,122]
[12,16495,24,16505,24,16511,null,null,null,null,0,122]
[21,16626,22,16636,24,16642,null,null,null,null,0,222]
[12,16746,24,16753,24,16758,null,null,null,null,0,122]
[21,16854,22,16858,24,16864,null,null,null,null,0,222]
[21,16963,11,16971,22,16978,null,null,null,null,0,212]
[21,17126,11,17132,22,17140,null,null,null,null,0,212]
[21,17385,22,17398,13,17405,null,null,null,null,0,221]
[12,17531,24,17536,24,17541,null,null,null,null,0,122]
[21,17641,22,17645,13,17650,null,null,null,null,0,221]
[12,17751,24,17758,13,17760,null,null,null,null,0,121]
[21,17858,22,17860,24,17865,null,null,null,null,0,222]
[21,17961,22,17965,24,17970,null,null,null,null,0,222]
[21,18067,11,18070,22,18073,null,null,null,null,0,212]
[21,18178,11,18182,22,18187,null,null,null,null,0,212]
[21,18292,22,18297,13,18299,null,null,null,null,0,221]
[21,18432,22,18434,24,18441,null,null,null,null,0,222]
[21,19168,22,19170,24,19177,null,null,null,null,0,222]
[12,19959,24,19970,24,19984,null,null,null,null,0,122]
[21,20100,22,20104,24,20111,null,null,null,null,0,222]
[21,20426,22,20431,13,20436,null,null,null,null,0,221]
[21,20659,22,20665,24,20680,null,null,null,null,0,222]
[21,20811,22,20824,24,20830,null,null,null,null,0,222]
[21,21007,22,21015,24,21022,null,null,null,null,0,222]
[21,21127,22,21132,24,21135,null,null,null,null,0,222]
[12,21235,24,21244,24,21249,null,null,null,null,0,122]
[21,21347,22,21352,24,21358,null,null,null,null,0,222]
[12,21459,24,21466,24,21471,null,null,null,null,0,122]
[21,21599,11,21607,22,21618,null,null,null,null,0,212]
[12,21743,24,21752,24,21757,null,null,null,null,0,122]
[21,21879,22,21884,24,21889,null,null,null,null,0,222]
[21,21981,22,21986,13,21991,null,null,null,null,0,221]
[12,22124,24,22133,24,22137,null,null,null,null,0,122]
[21,22298,22,22305,24,22312,null,null,null,null,0,222]
[21,22419,22,22427,24,22433,null,null,null,null,0,222]
[21,22530,22,22539,24,22545,null,null,null,null,0,222]
[21,22749,22,22758,24,22763,null,null,null,null,0,222]
[21,22884,22,22895,24,22902,null,null,null,null,0,222]
[21,22999,22,23003,24,23011,null,null,null,null,0,222]
[12,23107,24,23109,13,23113,null,null,null,null,0,121]
[21,23211,11,23216,22,23222,null,null,null,null,0,212]
[12,23315,13,23320,24,23330,null,null,null,null,0,112]
[12,23425,24,23431,24,23437,null,null,null,null,0,122]
[21,23539,11,23545,22,23547,null,null,null,null,0,212]
[21,23888,22,23896,24,23901,null,null,null,null,0,222]

{"sheet":"!N212A00.Gus","index":18,"n_rows":177,"n_cols":48,"rows_kept":177,"cut":false,"hidden":false,"merged":[[4,39,4,42],[5,39,5,40],[4,44,4,47],[5,44,5,45],[4,24,4,27],[5,24,5,25],[4,29,4,32],[5,29,5,30],[4,34,4,37],[5,34,5,35],[1,1,1,2],[5,13,5,14],[18,13,18,14],[19,13,19,14],[4,19,4,22],[5,19,5,20]]}
["Report for:!N212A00.Gus"]
["Date:","<date>"]
["Hen:","<hen>",null,null,null,"Correct Sequence",{"$f":"Start!J2","v":211},null,null,null,null,null,null,null,null,"Total Sequences in Data",{"$f":"4994-COUNTBLANK(L7:L5000)","v":171},null,null,null,null,"Total Sequences in Block Data",{"$f":"COUNTA(L7:L35)","v":29},null,null,null,"Total Sequences in Block Data",{"$f":"COUNTA(L36:L63)","v":28},null,null,null,"Total Sequences in Block Data",{"$f":"COUNTA(L64:L92)","v":29},null,null,null,"Total Sequences in Block Data",{"$f":"COUNTA(L93:L120)","v":28},null,null,null,"Total Sequences in Block Data",{"$f":"COUNTA(L121:L149)","v":29},null,null,null,"Total Sequences in Block Data",{"$f":"COUNTA(L150:L177)","v":28}]
[null,null,null,null,null,null,null,null,null,null,null,null,null,null,null,"Total Sequences in Summary",{"$f":"SUM(O7:O14)","v":171},null,null,null,null,"Total Sequences in Block Summary",{"$f":"SUM(U7:U14)","v":29},null,null,null,"Total Sequences in Block Summary",{"$f":"SUM(Z7:Z14)","v":28},null,null,null,"Total Sequences in Block Summary",{"$f":"SUM(AE7:AE14)","v":29},null,null,null,"Total Sequences in Block Summary",{"$f":"SUM(AJ7:AJ14)","v":28},null,null,null,"Total Sequences in Block Summary",{"$f":"SUM(AO7:AO14)","v":29},null,null,null,"Total Sequences in Block Summary",{"$f":"SUM(AT7:AT14)","v":28}]
[null,null,null,null,null,null,null,null,null,null,null,null,null,null,null,null,null,null,null,"Block 1",null,null,null,null,"Block 2",null,null,null,null,"Block 3",null,null,null,null,"Block 4",null,null,null,null,"Block 5",null,null,null,null,"Block 6"]
["Sequence\nComponent\n1","Time\n1","Sequence\nComponent\n2","Time\n2","Sequence\nComponent\n3","Time\n3","Sequence\nComponent\n4","Time\n4","Sequence\nComponent\n5","Time\n5","Correct?\n0=No 1=Yes","Sequence",null,"Frequency",null,"Relative Frequency","Variability",null,null,"Frequency",null,"Relative Frequency","Variability",null,"Frequency",null,"Relative Frequency","Variability",null,"Frequency",null,"Relative Frequency","Variability",null,"Frequency",null,"Relative Frequency","Variability",null,"Frequency",null,"Relative Frequency","Variability",null,"Frequency",null,"Relative Frequency","Variability"]
[12,76,24,85,24,92,null,null,null,null,0,122,null,111,{"$f":"COUNTIF($L$7:$L$500,N7)","v":1},{"$f":"O7/$Q$4","v":5.8479532163742687E-3},{"$f":"IF(P7=0,0,(P7*((LOG(P7))/LOG(2))))","v":-4.3379254473016944E-2},null,null,{"$f":"N7","v":111},{"$f":"COUNTIF(L7:L35,T7)","v":0},{"$f":"U7/(W4-U11)","v":0},{"$f":"IF(V7=0,0,(V7*((LOG(V7))/LOG(2))))","v":0},null,{"$f":"N7","v":111},{"$f":"COUNTIF(L36:L63,Y7)","v":0},{"$f":"Z7/(AB4-Z11)","v":0},{"$f":"IF(AA7=0,0,(AA7*((LOG(AA7))/LOG(2))))","v":0},null,{"$f":"N7","v":111},{"$f":"COUNTIF(L64:L92,AD7)","v":1},{"$f":"AE7/(AG4-AE11)","v":3.7037037037037035E-2},{"$f":"IF(AF7=0,0,(AF7*((LOG(AF7))/LOG(2))))","v":-0.1761069445245729},null,{"$f":"N7","v":111},{"$f":"COUNTIF(L93:L120,AI7)","v":0},{"$f":"AJ7/(AL4-AJ11)","v":0},{"$f":"IF(AK7=0,0,(AK7*((LOG(AK7))/LOG(2))))","v":0},null,{"$f":"N7","v":111},{"$f":"COUNTIF(L121:L149,AN7)","v":0},{"$f":"AO7/(AQ4-AO11)","v":0},{"$f":"IF(AP7=0,0,(AP7*((LOG(AP7))/LOG(2))))","v":0},null,{"$f":"N7","v":111},{"$f":"COUNTIF(L150:L177,AS7)","v":0},{"$f":"AT7/(AV4-AT11)","v":0},{"$f":"IF(AU7=0,0,(AU7*((LOG(AU7))/LOG(2))))","v":0}]
[12,185,24,199,24,204,null,null,null,null,0,122,null,112,{"$f":"COUNTIF($L$7:$L$500,N8)","v":2},{"$f":"O8/$Q$4","v":1.1695906432748537E-2},{"$f":"IF(P8=0,0,(P8*((LOG(P8))/LOG(2))))","v":-7.5062602513285351E-2},null,null,{"$f":"N8","v":112},{"$f":"COUNTIF(L7:L35,T8)","v":0},{"$f":"U8/(W4-U11)","v":0},{"$f":"IF(V8=0,0,(V8*((LOG(V8))/LOG(2))))","v":0},null,{"$f":"N8","v":112},{"$f":"COUNTIF(L36:L63,Y8)","v":0},{"$f":"Z8/(AB4-Z11)","v":0},{"$f":"IF(AA8=0,0,(AA8*((LOG(AA8))/LOG(2))))","v":0},null,{"$f":"N8","v":112},{"$f":"COUNTIF(L64:L92,AD8)","v":0},{"$f":"AE8/(AG4-AE11)","v":0},{"$f":"IF(AF8=0,0,(AF8*((LOG(AF8))/LOG(2))))","v":0},null,{"$f":"N8","v":112},{"$f":"COUNTIF(L93:L120,AI8)","v":1},{"$f":"AJ8/(AL4-AJ11)","v":3.8461538461538464E-2},{"$f":"IF(AK8=0,0,(AK8*((LOG(AK8))/LOG(2))))","v":-0.18078614300542661},null,{"$f":"N8","v":112},{"$f":"COUNTIF(L121:L149,AN8)","v":1},{"$f":"AO8/(AQ4-AO11)","v":3.5714285714285712E-2},{"$f":"IF(AP8=0,0,(AP8*((LOG(AP8))/LOG(2))))","v":-0.17169124721634299},null,{"$f":"N8","v":112},{"$f":"COUNTIF(L150:L177,AS8)","v":0},{"$f":"AT8/(AV4-AT11)","v":0},{"$f":"IF(AU8=0,0,(AU8*((LOG(AU8))/LOG(2))))","v":0}]
[12,310,24,316,24,331,null,null,null,null,0,122,null,121,{"$f":"COUNTIF($L$7:$L$500,N9)","v":4},{"$f":"O9/$Q$4","v":2.3391812865497075E-2},{"$f":"IF(P9=0,0,(P9*((LOG(P9))/LOG(2))))","v":-0.12673339216107363},null,null,{"$f":"N9","v":121},{"$f":"COUNTIF(L7:L35,T9)","v":0},{"$f":"U9/(W4-U11)","v":0},{"$f":"IF(V9=0,0,(V9*((LOG(V9))/LOG(2))))","v":0},null,{"$f":"N9","v":121},{"$f":"COUNTIF(L36:L63,Y9)","v":0},{"$f":"Z9/(AB4-Z11)","v":0},{"$f":"IF(AA9=0,0,(AA9*((LOG(AA9))/LOG(2))))","v":0},null,{"$f":"N9","v":121},{"$f":"COUNTIF(L64:L92,AD9)","v":0},{"$f":"AE9/(AG4-AE11)","v":0},{"$f":"IF(AF9=0,0,(AF9*((LOG(AF9))/LOG(2))))","v":0},null,{"$f":"N9","v":121},{"$f":"COUNTIF(L93:L120,AI9)","v":1},{"$f":"AJ9/(AL4-AJ11)","v":3.8461538461538464E-2},{"$f":"IF(AK9=0,0,(AK9*((LOG(AK9))/LOG(2))))","v":-0.18078614300542661},null,{"$f":"N9","v":121},{"$f":"COUNTIF(L121:L149,AN9)","v":2},{"$f":"AO9/(AQ4-AO11)","v":7.1428571428571425E-2},{"$f":"IF(AP9=0,0,(AP9*((LOG(AP9))/LOG(2))))","v":-0.27195392300411453},null,{"$f":"N9","v":121},{"$f":"COUNTIF(L150:L177,AS9)","v":1},{"$f":"AT9/(AV4-AT11)","v":3.8461538461538464E-2},{"$f":"IF(AU9=0,0,(AU9*((LOG(AU9))/LOG(2))))","v":-0.18078614300542661}]
[21,431,11,441,22,450,null,null,null,null,0,212,null,122,{"$f":"COUNTIF($L$7:$L$500,N10)","v":34},{"$f":"O10/$Q$4","v":0.19883040935672514},{"$f":"IF(P10=0,0,(P10*((LOG(P10))/LOG(2))))","v":-0.46335233276964316},null,null,{"$f":"N10","v":122},{"$f":"COUNTIF(L7:L35,T10)","v":6},{"$f":"U10/(W4-U11)","v":0.20689655172413793},{"$f":"IF(V10=0,0,(V10*((LOG(V10))/LOG(2))))","v":-0.4702796884978791},null,{"$f":"N10","v":122},{"$f":"COUNTIF(L36:L63,Y10)","v":5},{"$f":"Z10/(AB4-Z11)","v":0.17857142857142858},{"$f":"IF(AA10=0,0,(AA10*((LOG(AA10))/LOG(2))))","v":-0.44382621913754317},null,{"$f":"N10","v":122},{"$f":"COUNTIF(L64:L92,AD10)","v":4},{"$f":"AE10/(AG4-AE11)","v":0.14814814814814814},{"$f":"IF(AF10=0,0,(AF10*((LOG(AF10))/LOG(2))))","v":-0.40813148180199532},null,{"$f":"N10","v":122},{"$f":"COUNTIF(L93:L120,AI10)","v":6},{"$f":"AJ10/(AL4-AJ11)","v":0.23076923076923078},{"$f":"IF(AK10=0,0,(AK10*((LOG(AK10))/LOG(2))))","v":-0.48818705017383146},null,{"$f":"N10","v":122},{"$f":"COUNTIF(L121:L149,AN10)","v":5},{"$f":"AO10/(AQ4-AO11)","v":0.17857142857142858},{"$f":"IF(AP10=0,0,(AP10*((LOG(AP10))/LOG(2))))","v":-0.44382621913754317},null,{"$f":"N10","v":122},{"$f":"COUNTIF(L150:L177,AS10)","v":8},{"$f":"AT10/(AV4-AT11)","v":0.30769230769230771},{"$f":"IF(AU10=0,0,(AU10*((LOG(AU10))/LOG(2))))","v":-0.52321222096648989}]
[21,612,11,623,22,626,null,null,null,null,0,212,null,211,{"$f":"COUNTIF($L$7:$L$500,N11)","v":7},{"$f":"O11/$Q$4","v":4.0935672514619881E-2},{"$f":"IF(P11=0,0,(P11*((LOG(P11))/LOG(2))))","v":-0.18873381958946231},null,null,{"$f":"N11","v":211},{"$f":"COUNTIF(L7:L35,T11)","v":0},null,null,null,{"$f":"N11","v":211},{"$f":"COUNTIF(L36:L63,Y11)","v":0},null,null,null,{"$f":"N11","v":211},{"$f":"COUNTIF(L64:L92,AD11)","v":2},null,null,null,{"$f":"N11","v":211},{"$f":"COUNTIF(L93:L120,AI11)","v":2},null,null,null,{"$f":"N11","v":211},{"$f":"COUNTIF(L121:L149,AN11)","v":1},null,null,null,{"$f":"N11","v":211},{"$f":"COUNTIF(L150:L177,AS11)","v":2}]
[21,890,11,897,22,903,null,null,null,null,0,212,null,212,{"$f":"COUNTIF($L$7:$L$500,N12)","v":48},{"$f":"O12/$Q$4","v":0.2807017543859649},{"$f":"IF(P12=0,0,(P12*((LOG(P12))/LOG(2))))","v":-0.51449544257255908},null,null,{"$f":"N12","v":212},{"$f":"COUNTIF(L7:L35,T12)","v":7},{"$f":"U12/(W4-U11)","v":0.2413793103448276},{"$f":"IF(V12=0,0,(V12*((LOG(V12))/LOG(2))))","v":-0.49497870729275095},null,{"$f":"N12","v":212},{"$f":"COUNTIF(L36:L63,Y12)","v":10},{"$f":"Z12/(AB4-Z11)","v":0.35714285714285715},{"$f":"IF(AA12=0,0,(AA12*((LOG(AA12))/LOG(2))))","v":-0.53050958113222924},null,{"$f":"N12","v":212},{"$f":"COUNTIF(L64:L92,AD12)","v":8},{"$f":"AE12/(AG4-AE11)","v":0.29629629629629628},{"$f":"IF(AF12=0,0,(AF12*((LOG(AF12))/LOG(2))))","v":-0.51996666730769436},null,{"$f":"N12","v":212},{"$f":"COUNTIF(L93:L120,AI12)","v":9},{"$f":"AJ12/(AL4-AJ11)","v":0.34615384615384615},{"$f":"IF(AK12=0,0,(AK12*((LOG(AK12))/LOG(2))))","v":-0.52979355578034681},null,{"$f":"N12","v":212},{"$f":"COUNTIF(L121:L149,AN12)","v":7},{"$f":"AO12/(AQ4-AO11)","v":0.25},{"$f":"IF(AP12=0,0,(AP12*((LOG(AP12))/LOG(2))))","v":-0.5},null,{"$f":"N12","v":212},{"$f":"COUNTIF(L150:L177,AS12)","v":7},{"$f":"AT12/(AV4-AT11)","v":0.26923076923076922},{"$f":"IF(AU12=0,0,(AU12*((LOG(AU12))/LOG(2))))","v":-0.50967667586863141}]
[12,996,24,1008,24,1018,null,null,null,null,0,122,null,221,{"$f":"COUNTIF($L$7:$L$500,N13)","v":17},{"$f":"O13/$Q$4","v":9.9415204678362568E-2},{"$f":"IF(P13=0,0,(P13*((LOG(P13))/LOG(2))))","v":-0.3310913710631842},null,null,{"$f":"N13","v":221},{"$f":"COUNTIF(L7:L35,T13)","v":5},{"$f":"U13/(W4-U11)","v":0.17241379310344829},{"$f":"IF(V13=0,0,(V13*((LOG(V13))/LOG(2))))","v":-0.43725050004141547},null,{"$f":"N13","v":221},{"$f":"COUNTIF(L36:L63,Y13)","v":2},{"$f":"Z13/(AB4-Z11)","v":7.1428571428571425E-2},{"$f":"IF(AA13=0,0,(AA13*((LOG(AA13))/LOG(2))))","v":-0.27195392300411453},null,{"$f":"N13","v":221},{"$f":"COUNTIF(L64:L92,AD13)","v":3},{"$f":"AE13/(AG4-AE11)","v":0.1111111111111111},{"$f":"IF(AF13=0,0,(AF13*((LOG(AF13))/LOG(2))))","v":-0.3522138890491458},null,{"$f":"N13","v":221},{"$f":"COUNTIF(L93:L120,AI13)","v":2},{"$f":"AJ13/(AL4-AJ11)","v":7.6923076923076927E-2},{"$f":"IF(AK13=0,0,(AK13*((LOG(AK13))/LOG(2))))","v":-0.28464920908777636},null,{"$f":"N13","v":221},{"$f":"COUNTIF(L121:L149,AN13)","v":3},{"$f":"AO13/(AQ4-AO11)","v":0.10714285714285714},{"$f":"IF(AP13=0,0,(AP13*((LOG(AP13))/LOG(2))))","v":-0.34525633085747659},null,{"$f":"N13","v":221},{"$f":"COUNTIF(L150:L177,AS13)","v":2},{"$f":"AT13/(AV4-AT11)","v":7.6923076923076927E-2},{"$f":"IF(AU13=0,0,(AU13*((LOG(AU13))/LOG(2))))","v":-0.28464920908777636}]
[21,1121,22,1125,13,1129,null,null,null,null,0,221,null,222,{"$f":"COUNTIF($L$7:$L$500,N14)","v":58},{"$f":"O14/$Q$4","v":0.33918128654970758},{"$f":"IF(P14=0,0,(P14*((LOG(P14))/LOG(2))))","v":-0.52907922892387649},null,null,{"$f":"N14","v":222},{"$f":"COUNTIF(L7:L35,T14)","v":11},{"$f":"U14/(W4-U11)","v":0.37931034482758619},{"$f":"IF(V14=0,0,(V14*((LOG(V14))/LOG(2))))","v":-0.53048424625493174},null,{"$f":"N14","v":222},{"$f":"COUNTIF(L36:L63,Y14)","v":11},{"$f":"Z14/(AB4-Z11)","v":0.39285714285714285},{"$f":"IF(AA14=0,0,(AA14*((LOG(AA14))/LOG(2))))","v":-0.52954129777226344},null,{"$f":"N14","v":222},{"$f":"COUNTIF(L64:L92,AD14)","v":11},{"$f":"AE14/(AG4-AE11)","v":0.40740740740740738},{"$f":"IF(AF14=0,0,(AF14*((LOG(AF14))/LOG(2))))","v":-0.52777832291806981},null,{"$f":"N14","v":222},{"$f":"COUNTIF(L93:L120,AI14)","v":7},{"$f":"AJ14/(AL4-AJ11)","v":0.26923076923076922},{"$f":"IF(AK14=0,0,(AK14*((LOG(AK14))/LOG(2))))","v":-0.50967667586863141},null,{"$f":"N14","v":222},{"$f":"COUNTIF(L121:L149,AN14)","v":10},{"$f":"AO14/(AQ4-AO11)","v":0.35714285714285715},{"$f":"IF(AP14=0,0,(AP14*((LOG(AP14))/LOG(2))))","v":-0.53050958113222924},null,{"$f":"N14","v":222},{"$f":"COUNTIF(L150:L177,AS14)","v":8},{"$f":"AT14/(AV4-AT11)","v":0.30769230769230771},{"$f":"IF(AU14=0,0,(AU14*((LOG(AU14))/LOG(2))))","v":-0.52321222096648989}]
[21,1291,22,1297,13,1300,null,null,null,null,0,221,null,null,null,{"$f":"SUM(P7:P14)","v":0.99999999999999989},{"$f":"-SUM(Q7:Q14)","v":2.271927444066101},null,null,null,null,{"$f":"SUM(V7:V14)","v":1},{"$f":"-SUM(W7:W14)","v":1.9329931420869773},null,null,null,{"$f":"SUM(AA7:AA14)","v":1},{"$f":"-SUM(AB7:AB14)","v":1.7758310210461503},null,null,null,{"$f":"SUM(AF7:AF14)","v":1},{"$f":"-SUM(AG7:AG14)","v":1.9841973056014779},null,null,null,{"$f":"SUM(AK7:AK14)","v":1},{"$f":"-SUM(AL7:AL14)","v":2.1738787769214394},null,null,null,{"$f":"SUM(AP7:AP14)","v":1},{"$f":"-SUM(AQ7:AQ14)","v":2.2632373013477065},null,null,null,{"$f":"SUM(AU7:AU14)","v":1},{"$f":"-SUM(AV7:AV14)","v":2.0215364698948144}]
[21,1526,11,1529,22,1532,null,null,null,null,0,212,null,null,null,"U=",{"$f":"Q15/(LOG(Q4)/LOG(2))","v":0.30627832509568953},null,null,null,null,"U1=",{"$f":"W15/(LOG(W4)/LOG(2))","v":0.3979005154663468},null,null,null,"U2=",{"$f":"AB15/(LOG(AB4)/LOG(2))","v":0.36939877538437998},null,null,null,"U3=",{"$f":"AG15/(LOG(AG4)/LOG(2))","v":0.40844073033459288},null,null,null,"U4=",{"$f":"AL15/(LOG(AL4)/LOG(2))","v":0.45219851917881571},null,null,null,"U5=",{"$f":"AQ15/(LOG(AQ4)/LOG(2))","v":0.46588022958872716},null,null,null,"U6=",{"$f":"AV15/(LOG(AV4)/LOG(2))","v":0.42050909547356102}]
[21,1646,22,1650,13,1654,null,null,null,null,0,221]
[21,1757,22,1764,13,1768,null,null,null,null,0,221]
[21,1868,22,1873,24,1878,null,null,null,null,0,222,null,"Total Target Seq"]
[12,1968,24,1978,24,1984,null,null,null,null,0,122,null,{"$f":"COUNTIF(L7:L177,G3)","v":7},null,29,28,29,28,29,28]
[21,2121,22,2134,24,2144,null,null,null,null,0,222,null,null,null,"% of reinforcement given in 6 equal intervals based on number of trials "]
[21,2244,11,2250,22,2257,null,null,null,null,0,212,null,null,null,"%_1","%_2","%_3","%_4","%_5","%_6"]
[12,2351,24,2355,24,2360,null,null,null,null,0,122,null,null,"target sequence",{"$f":"$G$3","v":211},{"$f":"$G$3","v":211},{"$f":"$G$3","v":211},{"$f":"$G$3","v":211},{"$f":"$G$3","v":211},{"$f":"$G$3","v":211}]
[21,2460,22,2465,24,2471,null,null,null,null,0,222,null,null,"total reinforcement",{"$f":"U11","v":0},{"$f":"Z11","v":0},{"$f":"AE11","v":2},{"$f":"AJ11","v":2},{"$f":"AO11","v":1},{"$f":"AT11","v":2}]
[21,2571,22,2574,13,2579,null,null,null,null,0,221,null,null,"% target"]
[21,2675,22,2680,24,2685,null,null,null,null,0,222,null,null,"CCRF"]
[21,2851,11,2854,22,2862,null,null,null,null,0,212,null,null,"% CCRf"]
[21,3010,11,3017,22,3023,null,null,null,null,0,212,null,null,"average response rate",{"$f":"F35/P20","v":131.17241379310346},{"$f":"(F63-F35)/Q20","v":119.10714285714286},{"$f":"(F92-F63)/R20","v":139.68965517241378},{"$f":"(F120-F92)/S20","v":138.92857142857142},{"$f":"(F149-F120)/T20","v":140.20689655172413},{"$f":"(F177-F149)/U20","v":153.10714285714286}]
[21,3132,22,3141,24,3149,null,null,null,null,0,222]
[21,3259,22,3264,24,3268,null,null,null,null,0,222]
[21,3367,22,3371,24,3378,null,null,null,null,0,222]
[21,3475,22,3477,24,3482,null,null,null,null,0,222]
[21,3579,22,3581,24,3585,null,null,null,null,0,222]
[21,3673,22,3681,24,3695,null,null,null,null,0,222]
[21,3792,22,3798,24,3804,null,null,null,null,0,222]
[21,3903,22,3907,24,3913,null,null,null,null,0,222]
[21,4017,22,4022,13,4027,null,null,null,null,0,221]
[21,4124,22,4128,24,4132,null,null,null,null,0,222]
[21,4228,22,4234,24,4240,null,null,null,null,0,222]
[21,4337,11,4344,22,4351,null,null,null,null,0,212]
[12,4449,24,4456,24,4462,null,null,null,null,0,122]
[21,4559,22,4565,24,4571,null,null,null,null,0,222]
[21,4687,22,4691,24,4703,null,null,null,null,0,222]
[21,4851,11,4859,22,4860,null,null,null,null,0,212]
[12,4970,24,4974,24,4984,null,null,null,null,0,122]
[21,5074,11,5076,22,5087,null,null,null,null,0,212]
[21,5221,22,5230,24,5235,null,null,null,null,0,222]
[12,5329,24,5337,24,5346,null,null,null,null,0,122]
[21,5441,11,5446,22,5448,null,null,null,null,0,212]
[21,5545,22,5549,24,5554,null,null,null,null,0,222]
[21,5645,11,5652,22,5659,null,null,null,null,0,212]
[21,5889,11,5893,22,5899,null,null,null,null,0,212]
[12,5993,24,6007,24,6012,null,null,null,null,0,122]
[21,6115,11,6119,22,6121,null,null,null,null,0,212]
[21,6218,22,6223,24,6227,null,null,null,null,0,222]
[12,6322,24,6325,24,6331,null,null,null,null,0,122]
[21,6448,11,6455,22,6462,null,null,null,null,0,212]
[21,6579,11,6585,22,6587,null,null,null,null,0,212]
[21,6688,22,6694,13,6699,null,null,null,null,0,221]
[21,6800,22,6806,24,6817,null,null,null,null,0,222]
[21,6912,22,6918,24,6925,null,null,null,null,0,222]
[21,7017,22,7023,24,7029,null,null,null,null,0,222]
[21,7126,11,7131,22,7139,null,null,null,null,0,212]
[21,7242,22,7247,13,7252,null,null,null,null,0,221]
[21,7351,22,7357,24,7363,null,null,null,null,0,222]
[21,7459,22,7463,24,7467,null,null,null,null,0,222]
[21,7602,11,7610,11,7612,null,null,null,null,0,211]
[21,7829,11,7838,22,7851,null,null,null,null,0,212]
[21,8126,11,8134,22,8137,null,null,null,null,0,212]
[21,8241,11,8244,22,8249,null,null,null,null,0,212]
[21,8344,22,8351,24,8358,null,null,null,null,0,222]
[21,8454,22,8456,24,8460,null,null,null,null,0,222]
[12,8554,24,8557,24,8559,null,null,null,null,0,122]
[21,8653,22,8657,24,8662,null,null,null,null,0,222]
[21,8764,22,8769,13,8771,null,null,null,null,0,221]
[21,8873,11,8874,22,8880,null,null,null,null,0,212]
[21,8983,22,8988,24,8994,null,null,null,null,0,222]
[21,9109,22,9114,13,9119,null,null,null,null,0,221]
[21,9223,11,9230,22,9235,null,null,null,null,0,212]
[21,9341,22,9346,24,9352,null,null,null,null,0,222]
[21,9450,22,9454,24,9459,null,null,null,null,0,222]
[21,9555,11,9562,22,9565,null,null,null,null,0,212]
[21,9674,11,9681,11,9686,null,null,null,null,0,211]
[21,10308,11,10312,22,10325,null,null,null,null,0,212]
[12,10421,24,10425,24,10433,null,null,null,null,0,122]
[21,10529,22,10532,24,10536,null,null,null,null,0,222]
[12,10632,24,10635,24,10640,null,null,null,null,0,122]
[21,10737,22,10741,24,10746,null,null,null,null,0,222]
[12,10839,13,10841,13,10843,null,null,null,null,0,111]
[21,10941,11,10948,22,10955,null,null,null,null,0,212]
[21,11059,22,11066,24,11074,null,null,null,null,0,222]
[12,11180,24,11185,24,11190,null,null,null,null,0,122]
[12,11292,24,11297,24,11304,null,null,null,null,0,122]
[21,11483,11,11491,22,11495,null,null,null,null,0,212]
[21,11594,11,11601,11,11603,null,null,null,null,0,211]
[21,11837,11,11843,11,11845,null,null,null,null,0,211]
[21,12264,11,12271,22,12277,null,null,null,null,0,212]
[21,12383,22,12387,24,12392,null,null,null,null,0,222]
[21,12516,11,12525,22,12527,null,null,null,null,0,212]
[21,12648,11,12654,22,12662,null,null,null,null,0,212]
[12,12754,24,12763,24,12767,null,null,null,null,0,122]
[21,12861,11,12864,22,12868,null,null,null,null,0,212]
[12,12962,13,12969,24,12972,null,null,null,null,0,112]
[12,13067,24,13077,24,13082,null,null,null,null,0,122]
[21,13183,11,13187,22,13190,null,null,null,null,0,212]
[21,13404,11,13410,22,13417,null,null,null,null,0,212]
[21,13571,11,13576,22,13580,null,null,null,null,0,212]
[21,13679,22,13683,24,13689,null,null,null,null,0,222]
[21,13785,22,13789,24,13795,null,null,null,null,0,222]
[12,13887,24,13892,13,13894,null,null,null,null,0,121]
[21,13987,22,13991,13,13995,null,null,null,null,0,221]
[21,14134,11,14137,22,14141,null,null,null,null,0,212]
[21,14233,22,14235,24,14241,null,null,null,null,0,222]
[12,14348,24,14350,24,14356,null,null,null,null,0,122]
[21,14452,22,14458,24,14464,null,null,null,null,0,222]
[21,14565,22,14569,24,14572,null,null,null,null,0,222]
[21,14680,22,14686,24,14697,null,null,null,null,0,222]
[21,14868,22,14875,13,14879,null,null,null,null,0,221]
[12,14973,24,14975,24,14981,null,null,null,null,0,122]
[12,15076,24,15078,24,15080,null,null,null,null,0,122]
[21,15176,22,15180,24,15186,null,null,null,null,0,222]
[21,15277,22,15281,13,15285,null,null,null,null,0,221]
[21,15376,22,15381,24,15383,null,null,null,null,0,222]
[21,15480,22,15484,13,15487,null,null,null,null,0,221]
[12,15581,24,15583,24,15589,null,null,null,null,0,122]
[21,15690,22,15696,24,15702,null,null,null,null,0,222]
[21,16137,11,16144,22,16151,null,null,null,null,0,212]
[12,16301,13,16313,24,16335,null,null,null,null,0,112]
[21,16600,22,16609,24,16616,null,null,null,null,0,222]
[21,16740,11,16746,22,16755,null,null,null,null,0,212]
[21,16946,11,16954,22,16958,null,null,null,null,0,212]
[12,17062,24,17069,13,17071,null,null,null,null,0,121]
[21,17219,11,17226,22,17229,null,null,null,null,0,212]
[21,17325,22,17331,24,17336,null,null,null,null,0,222]
[12,17431,24,17436,24,17440,null,null,null,null,0,122]
[12,17535,24,17539,24,17543,null,null,null,null,0,122]
[12,17637,24,17642,24,17648,null,null,null,null,0,122]
[21,17748,11,17757,22,17760,null,null,null,null,0,212]
[21,17854,22,17859,24,17867,null,null,null,null,0,222]
[12,17959,24,17964,24,17968,null,null,null,null,0,122]
[21,18066,22,18068,24,18075,null,null,null,null,0,222]
[12,18237,24,18239,13,18246,null,null,null,null,0,121]
[21,18419,11,18425,11,18427,null,null,null,null,0,211]
[21,18543,22,18546,13,18551,null,null,null,null,0,221]
[21,18687,11,18692,22,18696,null,null,null,null,0,212]
[21,18798,22,18804,24,18812,null,null,null,null,0,222]
[21,18915,22,18919,24,18925,null,null,null,null,0,222]
[21,19031,11,19033,22,19037,null,null,null,null,0,212]
[21,19134,22,19140,24,19146,null,null,null,null,0,222]
[21,19276,11,19285,22,19290,null,null,null,null,0,212]
[21,19538,22,19541,24,19548,null,null,null,null,0,222]
[12,19653,24,19656,24,19661,null,null,null,null,0,122]
[21,19765,22,19768,13,19770,null,null,null,null,0,221]
[12,19871,24,19876,24,19883,null,null,null,null,0,122]
[12,19977,24,19982,13,19984,null,null,null,null,0,121]
[21,20081,22,20085,13,20088,null,null,null,null,0,221]
[21,20178,22,20185,24,20191,null,null,null,null,0,222]
[21,20298,22,20303,24,20309,null,null,null,null,0,222]
[21,20416,11,20419,22,20423,null,null,null,null,0,212]
[12,20516,24,20527,24,20532,null,null,null,null,0,122]
[12,20631,24,20635,24,20639,null,null,null,null,0,122]
[12,20845,24,20854,24,20859,null,null,null,null,0,122]
[12,20955,24,20959,24,20964,null,null,null,null,0,122]
[21,21061,22,21065,24,21070,null,null,null,null,0,222]
[21,21222,11,21225,22,21232,null,null,null,null,0,212]
[21,21699,22,21705,24,21712,null,null,null,null,0,222]
[21,21845,22,21854,24,21861,null,null,null,null,0,222]
[21,22020,11,22025,11,22027,null,null,null,null,0,211]
[21,22179,11,22186,11,22190,null,null,null,null,0,211]
[21,22391,11,22394,22,22404,null,null,null,null,0,212]
[21,22597,11,22602,22,22606,null,null,null,null,0,212]
[21,22756,11,22775,22,22784,null,null,null,null,0,212]
[21,22880,22,22884,24,22890,null,null,null,null,0,222]
[21,22999,22,23005,24,23017,null,null,null,null,0,222]
[12,23109,24,23113,24,23117,null,null,null,null,0,122]
[12,23230,24,23235,24,23241,null,null,null,null,0,122]
[21,23419,11,23426,22,23433,null,null,null,null,1,212]

{"sheet":"!N213A30.Gus","index":19,"n_rows":167,"n_cols":48,"rows_kept":167,"cut":false,"hidden":false,"merged":[[4,39,4,42],[5,39,5,40],[4,44,4,47],[5,44,5,45],[4,24,4,27],[5,24,5,25],[4,29,4,32],[5,29,5,30],[4,34,4,37],[5,34,5,35],[1,1,1,2],[5,13,5,14],[18,13,18,14],[19,13,19,14],[4,19,4,22],[5,19,5,20]]}
["Report for:!N213A30.Gus"]
["Date:","<date>"]
["Hen:","<hen>",null,null,null,"Correct Sequence",{"$f":"Start!J2","v":211},null,null,null,null,null,null,null,null,"Total Sequences in Data",{"$f":"4994-COUNTBLANK(L7:L5000)","v":161},null,null,null,null,"Total Sequences in Block Data",{"$f":"COUNTA(L7:L33)","v":27},null,null,null,"Total Sequences in Block Data",{"$f":"COUNTA(L34:L60)","v":27},null,null,null,"Total Sequences in Block Data",{"$f":"COUNTA(L61:L86)","v":26},null,null,null,"Total Sequences in Block Data",{"$f":"COUNTA(L87:L113)","v":27},null,null,null,"Total Sequences in Block Data",{"$f":"COUNTA(L114:L140)","v":27},null,null,null,"Total Sequences in Block Data",{"$f":"COUNTA(L141:L167)","v":27}]
[null,null,null,null,null,null,null,null,null,null,null,null,null,null,null,"Total Sequences in Summary",{"$f":"SUM(O7:O14)","v":161},null,null,null,null,"Total Sequences in Block Summary",{"$f":"SUM(U7:U14)","v":27},null,null,null,"Total Sequences in Block Summary",{"$f":"SUM(Z7:Z14)","v":27},null,null,null,"Total Sequences in Block Summary",{"$f":"SUM(AE7:AE14)","v":26},null,null,null,"Total Sequences in Block Summary",{"$f":"SUM(AJ7:AJ14)","v":27},null,null,null,"Total Sequences in Block Summary",{"$f":"SUM(AO7:AO14)","v":27},null,null,null,"Total Sequences in Block Summary",{"$f":"SUM(AT7:AT14)","v":27}]
[null,null,null,null,null,null,null,null,null,null,null,null,null,null,null,null,null,null,null,"Block 1",null,null,null,null,"Block 2",null,null,null,null,"Block 3",null,null,null,null,"Block 4",null,null,null,null,"Block 5",null,null,null,null,"Block 6"]
["Sequence\nComponent\n1","Time\n1","Sequence\nComponent\n2","Time\n2","Sequence\nComponent\n3","Time\n3","Sequence\nComponent\n4","Time\n4","Sequence\nComponent\n5","Time\n5","Correct?\n0=No 1=Yes","Sequence",null,"Frequency",null,"Relative Frequency","Variability",null,null,"Frequency",null,"Relative Frequency","Variability",null,"Frequency",null,"Relative Frequency","Variability",null,"Frequency",null,"Relative Frequency","Variability",null,"Frequency",null,"Relative Frequency","Variability",null,"Frequency",null,"Relative Frequency","Variability",null,"Frequency",null,"Relative Frequency","Variability"]
[12,234,24,238,24,245,null,null,null,null,0,122,null,111,{"$f":"COUNTIF($L$7:$L$500,N7)","v":2},{"$f":"O7/$Q$4","v":1.2422360248447204E-2},{"$f":"IF(P7=0,0,(P7*((LOG(P7))/LOG(2))))","v":-7.8644930162914489E-2},null,null,{"$f":"N7","v":111},{"$f":"COUNTIF(L7:L33,T7)","v":0},{"$f":"U7/(W4-U11)","v":0},{"$f":"IF(V7=0,0,(V7*((LOG(V7))/LOG(2))))","v":0},null,{"$f":"N7","v":111},{"$f":"COUNTIF(L34:L60,Y7)","v":0},{"$f":"Z7/(AB4-Z11)","v":0},{"$f":"IF(AA7=0,0,(AA7*((LOG(AA7))/LOG(2))))","v":0},null,{"$f":"N7","v":111},{"$f":"COUNTIF(L61:L86,AD7)","v":0},{"$f":"AE7/(AG4-AE11)","v":0},{"$f":"IF(AF7=0,0,(AF7*((LOG(AF7))/LOG(2))))","v":0},null,{"$f":"N7","v":111},{"$f":"COUNTIF(L87:L113,AI7)","v":0},{"$f":"AJ7/(AL4-AJ11)","v":0},{"$f":"IF(AK7=0,0,(AK7*((LOG(AK7))/LOG(2))))","v":0},null,{"$f":"N7","v":111},{"$f":"COUNTIF(L114:L140,AN7)","v":0},{"$f":"AO7/(AQ4-AO11)","v":0},{"$f":"IF(AP7=0,0,(AP7*((LOG(AP7))/LOG(2))))","v":0},null,{"$f":"N7","v":111},{"$f":"COUNTIF(L141:L167,AS7)","v":2},{"$f":"AT7/(AV4-AT11)","v":7.407407407407407E-2},{"$f":"IF(AU7=0,0,(AU7*((LOG(AU7))/LOG(2))))","v":-0.27813981497507173}]
[21,396,22,407,24,415,null,null,null,null,0,222,null,112,{"$f":"COUNTIF($L$7:$L$500,N8)","v":4},{"$f":"O8/$Q$4","v":2.4844720496894408E-2},{"$f":"IF(P8=0,0,(P8*((LOG(P8))/LOG(2))))","v":-0.13244513982893458},null,null,{"$f":"N8","v":112},{"$f":"COUNTIF(L7:L33,T8)","v":1},{"$f":"U8/(W4-U11)","v":3.7037037037037035E-2},{"$f":"IF(V8=0,0,(V8*((LOG(V8))/LOG(2))))","v":-0.1761069445245729},null,{"$f":"N8","v":112},{"$f":"COUNTIF(L34:L60,Y8)","v":0},{"$f":"Z8/(AB4-Z11)","v":0},{"$f":"IF(AA8=0,0,(AA8*((LOG(AA8))/LOG(2))))","v":0},null,{"$f":"N8","v":112},{"$f":"COUNTIF(L61:L86,AD8)","v":0},{"$f":"AE8/(AG4-AE11)","v":0},{"$f":"IF(AF8=0,0,(AF8*((LOG(AF8))/LOG(2))))","v":0},null,{"$f":"N8","v":112},{"$f":"COUNTIF(L87:L113,AI8)","v":2},{"$f":"AJ8/(AL4-AJ11)","v":7.407407407407407E-2},{"$f":"IF(AK8=0,0,(AK8*((LOG(AK8))/LOG(2))))","v":-0.27813981497507173},null,{"$f":"N8","v":112},{"$f":"COUNTIF(L114:L140,AN8)","v":1},{"$f":"AO8/(AQ4-AO11)","v":3.7037037037037035E-2},{"$f":"IF(AP8=0,0,(AP8*((LOG(AP8))/LOG(2))))","v":-0.1761069445245729},null,{"$f":"N8","v":112},{"$f":"COUNTIF(L141:L167,AS8)","v":0},{"$f":"AT8/(AV4-AT11)","v":0},{"$f":"IF(AU8=0,0,(AU8*((LOG(AU8))/LOG(2))))","v":0}]
[12,519,13,524,24,526,null,null,null,null,0,112,null,121,{"$f":"COUNTIF($L$7:$L$500,N9)","v":2},{"$f":"O9/$Q$4","v":1.2422360248447204E-2},{"$f":"IF(P9=0,0,(P9*((LOG(P9))/LOG(2))))","v":-7.8644930162914489E-2},null,null,{"$f":"N9","v":121},{"$f":"COUNTIF(L7:L33,T9)","v":0},{"$f":"U9/(W4-U11)","v":0},{"$f":"IF(V9=0,0,(V9*((LOG(V9))/LOG(2))))","v":0},null,{"$f":"N9","v":121},{"$f":"COUNTIF(L34:L60,Y9)","v":0},{"$f":"Z9/(AB4-Z11)","v":0},{"$f":"IF(AA9=0,0,(AA9*((LOG(AA9))/LOG(2))))","v":0},null,{"$f":"N9","v":121},{"$f":"COUNTIF(L61:L86,AD9)","v":0},{"$f":"AE9/(AG4-AE11)","v":0},{"$f":"IF(AF9=0,0,(AF9*((LOG(AF9))/LOG(2))))","v":0},null,{"$f":"N9","v":121},{"$f":"COUNTIF(L87:L113,AI9)","v":1},{"$f":"AJ9/(AL4-AJ11)","v":3.7037037037037035E-2},{"$f":"IF(AK9=0,0,(AK9*((LOG(AK9))/LOG(2))))","v":-0.1761069445245729},null,{"$f":"N9","v":121},{"$f":"COUNTIF(L114:L140,AN9)","v":0},{"$f":"AO9/(AQ4-AO11)","v":0},{"$f":"IF(AP9=0,0,(AP9*((LOG(AP9))/LOG(2))))","v":0},null,{"$f":"N9","v":121},{"$f":"COUNTIF(L141:L167,AS9)","v":1},{"$f":"AT9/(AV4-AT11)","v":3.7037037037037035E-2},{"$f":"IF(AU9=0,0,(AU9*((LOG(AU9))/LOG(2))))","v":-0.1761069445245729}]
[12,630,24,639,24,647,null,null,null,null,0,122,null,122,{"$f":"COUNTIF($L$7:$L$500,N10)","v":30},{"$f":"O10/$Q$4","v":0.18633540372670807},{"$f":"IF(P10=0,0,(P10*((LOG(P10))/LOG(2))))","v":-0.45168191599492519},null,null,{"$f":"N10","v":122},{"$f":"COUNTIF(L7:L33,T10)","v":7},{"$f":"U10/(W4-U11)","v":0.25925925925925924},{"$f":"IF(V10=0,0,(V10*((LOG(V10))/LOG(2))))","v":-0.5049158541015204},null,{"$f":"N10","v":122},{"$f":"COUNTIF(L34:L60,Y10)","v":2},{"$f":"Z10/(AB4-Z11)","v":7.407407407407407E-2},{"$f":"IF(AA10=0,0,(AA10*((LOG(AA10))/LOG(2))))","v":-0.27813981497507173},null,{"$f":"N10","v":122},{"$f":"COUNTIF(L61:L86,AD10)","v":6},{"$f":"AE10/(AG4-AE11)","v":0.23076923076923078},{"$f":"IF(AF10=0,0,(AF10*((LOG(AF10))/LOG(2))))","v":-0.48818705017383146},null,{"$f":"N10","v":122},{"$f":"COUNTIF(L87:L113,AI10)","v":7},{"$f":"AJ10/(AL4-AJ11)","v":0.25925925925925924},{"$f":"IF(AK10=0,0,(AK10*((LOG(AK10))/LOG(2))))","v":-0.5049158541015204},null,{"$f":"N10","v":122},{"$f":"COUNTIF(L114:L140,AN10)","v":3},{"$f":"AO10/(AQ4-AO11)","v":0.1111111111111111},{"$f":"IF(AP10=0,0,(AP10*((LOG(AP10))/LOG(2))))","v":-0.3522138890491458},null,{"$f":"N10","v":122},{"$f":"COUNTIF(L141:L167,AS10)","v":5},{"$f":"AT10/(AV4-AT11)","v":0.18518518518518517},{"$f":"IF(AU10=0,0,(AU10*((LOG(AU10))/LOG(2))))","v":-0.45054803838446406}]
[21,759,22,765,13,771,null,null,null,null,0,221,null,211,{"$f":"COUNTIF($L$7:$L$500,N11)","v":0},{"$f":"O11/$Q$4","v":0},{"$f":"IF(P11=0,0,(P11*((LOG(P11))/LOG(2))))","v":0},null,null,{"$f":"N11","v":211},{"$f":"COUNTIF(L7:L33,T11)","v":0},null,null,null,{"$f":"N11","v":211},{"$f":"COUNTIF(L34:L60,Y11)","v":0},null,null,null,{"$f":"N11","v":211},{"$f":"COUNTIF(L61:L86,AD11)","v":0},null,null,null,{"$f":"N11","v":211},{"$f":"COUNTIF(L87:L113,AI11)","v":0},null,null,null,{"$f":"N11","v":211},{"$f":"COUNTIF(L114:L140,AN11)","v":0},null,null,null,{"$f":"N11","v":211},{"$f":"COUNTIF(L141:L167,AS11)","v":0}]
[21,871,22,876,24,880,null,null,null,null,0,222,null,212,{"$f":"COUNTIF($L$7:$L$500,N12)","v":52},{"$f":"O12/$Q$4","v":0.32298136645962733},{"$f":"IF(P12=0,0,(P12*((LOG(P12))/LOG(2))))","v":-0.52661374110946146},null,null,{"$f":"N12","v":212},{"$f":"COUNTIF(L7:L33,T12)","v":2},{"$f":"U12/(W4-U11)","v":7.407407407407407E-2},{"$f":"IF(V12=0,0,(V12*((LOG(V12))/LOG(2))))","v":-0.27813981497507173},null,{"$f":"N12","v":212},{"$f":"COUNTIF(L34:L60,Y12)","v":15},{"$f":"Z12/(AB4-Z11)","v":0.55555555555555558},{"$f":"IF(AA12=0,0,(AA12*((LOG(AA12))/LOG(2))))","v":-0.4711093925305278},null,{"$f":"N12","v":212},{"$f":"COUNTIF(L61:L86,AD12)","v":8},{"$f":"AE12/(AG4-AE11)","v":0.30769230769230771},{"$f":"IF(AF12=0,0,(AF12*((LOG(AF12))/LOG(2))))","v":-0.52321222096648989},null,{"$f":"N12","v":212},{"$f":"COUNTIF(L87:L113,AI12)","v":5},{"$f":"AJ12/(AL4-AJ11)","v":0.18518518518518517},{"$f":"IF(AK12=0,0,(AK12*((LOG(AK12))/LOG(2))))","v":-0.45054803838446406},null,{"$f":"N12","v":212},{"$f":"COUNTIF(L114:L140,AN12)","v":13},{"$f":"AO12/(AQ4-AO11)","v":0.48148148148148145},{"$f":"IF(AP12=0,0,(AP12*((LOG(AP12))/LOG(2))))","v":-0.50769708119595902},null,{"$f":"N12","v":212},{"$f":"COUNTIF(L141:L167,AS12)","v":9},{"$f":"AT12/(AV4-AT11)","v":0.33333333333333331},{"$f":"IF(AU12=0,0,(AU12*((LOG(AU12))/LOG(2))))","v":-0.52832083357371862}]
[21,979,22,984,24,990,null,null,null,null,0,222,null,221,{"$f":"COUNTIF($L$7:$L$500,N13)","v":16},{"$f":"O13/$Q$4","v":9.9378881987577633E-2},{"$f":"IF(P13=0,0,(P13*((LOG(P13))/LOG(2))))","v":-0.33102279534058304},null,null,{"$f":"N13","v":221},{"$f":"COUNTIF(L7:L33,T13)","v":4},{"$f":"U13/(W4-U11)","v":0.14814814814814814},{"$f":"IF(V13=0,0,(V13*((LOG(V13))/LOG(2))))","v":-0.40813148180199532},null,{"$f":"N13","v":221},{"$f":"COUNTIF(L34:L60,Y13)","v":2},{"$f":"Z13/(AB4-Z11)","v":7.407407407407407E-2},{"$f":"IF(AA13=0,0,(AA13*((LOG(AA13))/LOG(2))))","v":-0.27813981497507173},null,{"$f":"N13","v":221},{"$f":"COUNTIF(L61:L86,AD13)","v":1},{"$f":"AE13/(AG4-AE11)","v":3.8461538461538464E-2},{"$f":"IF(AF13=0,0,(AF13*((LOG(AF13))/LOG(2))))","v":-0.18078614300542661},null,{"$f":"N13","v":221},{"$f":"COUNTIF(L87:L113,AI13)","v":5},{"$f":"AJ13/(AL4-AJ11)","v":0.18518518518518517},{"$f":"IF(AK13=0,0,(AK13*((LOG(AK13))/LOG(2))))","v":-0.45054803838446406},null,{"$f":"N13","v":221},{"$f":"COUNTIF(L114:L140,AN13)","v":2},{"$f":"AO13/(AQ4-AO11)","v":7.407407407407407E-2},{"$f":"IF(AP13=0,0,(AP13*((LOG(AP13))/LOG(2))))","v":-0.27813981497507173},null,{"$f":"N13","v":221},{"$f":"COUNTIF(L141:L167,AS13)","v":2},{"$f":"AT13/(AV4-AT11)","v":7.407407407407407E-2},{"$f":"IF(AU13=0,0,(AU13*((LOG(AU13))/LOG(2))))","v":-0.27813981497507173}]
[12,1091,24,1093,24,1096,null,null,null,null,0,122,null,222,{"$f":"COUNTIF($L$7:$L$500,N14)","v":55},{"$f":"O14/$Q$4","v":0.34161490683229812},{"$f":"IF(P14=0,0,(P14*((LOG(P14))/LOG(2))))","v":-0.52935182641271838},null,null,{"$f":"N14","v":222},{"$f":"COUNTIF(L7:L33,T14)","v":13},{"$f":"U14/(W4-U11)","v":0.48148148148148145},{"$f":"IF(V14=0,0,(V14*((LOG(V14))/LOG(2))))","v":-0.50769708119595902},null,{"$f":"N14","v":222},{"$f":"COUNTIF(L34:L60,Y14)","v":8},{"$f":"Z14/(AB4-Z11)","v":0.29629629629629628},{"$f":"IF(AA14=0,0,(AA14*((LOG(AA14))/LOG(2))))","v":-0.51996666730769436},null,{"$f":"N14","v":222},{"$f":"COUNTIF(L61:L86,AD14)","v":11},{"$f":"AE14/(AG4-AE11)","v":0.42307692307692307},{"$f":"IF(AF14=0,0,(AF14*((LOG(AF14))/LOG(2))))","v":-0.52504188825160547},null,{"$f":"N14","v":222},{"$f":"COUNTIF(L87:L113,AI14)","v":7},{"$f":"AJ14/(AL4-AJ11)","v":0.25925925925925924},{"$f":"IF(AK14=0,0,(AK14*((LOG(AK14))/LOG(2))))","v":-0.5049158541015204},null,{"$f":"N14","v":222},{"$f":"COUNTIF(L114:L140,AN14)","v":8},{"$f":"AO14/(AQ4-AO11)","v":0.29629629629629628},{"$f":"IF(AP14=0,0,(AP14*((LOG(AP14))/LOG(2))))","v":-0.51996666730769436},null,{"$f":"N14","v":222},{"$f":"COUNTIF(L141:L167,AS14)","v":8},{"$f":"AT14/(AV4-AT11)","v":0.29629629629629628},{"$f":"IF(AU14=0,0,(AU14*((LOG(AU14))/LOG(2))))","v":-0.51996666730769436}]
[21,1205,22,1226,24,1233,null,null,null,null,0,222,null,null,null,{"$f":"SUM(P7:P14)","v":0.99999999999999989},{"$f":"-SUM(Q7:Q14)","v":2.1284052790124517},null,null,null,null,{"$f":"SUM(V7:V14)","v":1},{"$f":"-SUM(W7:W14)","v":1.8749911765991194},null,null,null,{"$f":"SUM(AA7:AA14)","v":1},{"$f":"-SUM(AB7:AB14)","v":1.5473556897883656},null,null,null,{"$f":"SUM(AF7:AF14)","v":1},{"$f":"-SUM(AG7:AG14)","v":1.7172273023973532},null,null,null,{"$f":"SUM(AK7:AK14)","v":1},{"$f":"-SUM(AL7:AL14)","v":2.3651745444716132},null,null,null,{"$f":"SUM(AP7:AP14)","v":0.99999999999999989},{"$f":"-SUM(AQ7:AQ14)","v":1.8341243970524439},null,null,null,{"$f":"SUM(AU7:AU14)","v":0.99999999999999989},{"$f":"-SUM(AV7:AV14)","v":2.2312221137405936}]
[12,1333,24,1336,24,1348,null,null,null,null,0,122,null,null,null,"U=",{"$f":"Q15/(LOG(Q4)/LOG(2))","v":0.29033275296934485},null,null,null,null,"U1=",{"$f":"W15/(LOG(W4)/LOG(2))","v":0.39432924033344652},null,null,null,"U2=",{"$f":"AB15/(LOG(AB4)/LOG(2))","v":0.32542424801518871},null,null,null,"U3=",{"$f":"AG15/(LOG(AG4)/LOG(2))","v":0.36533333163912468},null,null,null,"U4=",{"$f":"AL15/(LOG(AL4)/LOG(2))","v":0.49741966416565303},null,null,null,"U5=",{"$f":"AQ15/(LOG(AQ4)/LOG(2))","v":0.38573455128389883},null,null,null,"U6=",{"$f":"AV15/(LOG(AV4)/LOG(2))","v":0.4692481394618464}]
[21,1473,11,1488,22,1495,null,null,null,null,0,212]
[21,1799,22,1808,24,1815,null,null,null,null,0,222]
[21,1933,22,1936,13,1942,null,null,null,null,0,221,null,"Total Target Seq"]
[21,2132,22,2135,24,2142,null,null,null,null,0,222,null,{"$f":"COUNTIF(L7:L167,G3)","v":0},null,27,27,26,27,27,27]
[21,2245,22,2250,24,2256,null,null,null,null,0,222,null,null,null,"% of reinforcement given in 6 equal intervals based on number of trials "]
[21,2354,22,2356,24,2360,null,null,null,null,0,222,null,null,null,"%_1","%_2","%_3","%_4","%_5","%_6"]
[21,2460,22,2467,24,2474,null,null,null,null,0,222,null,null,"target sequence",{"$f":"$G$3","v":211},{"$f":"$G$3","v":211},{"$f":"$G$3","v":211},{"$f":"$G$3","v":211},{"$f":"$G$3","v":211},{"$f":"$G$3","v":211}]
[21,2573,22,2576,24,2580,null,null,null,null,0,222,null,null,"total reinforcement",{"$f":"U11","v":0},{"$f":"Z11","v":0},{"$f":"AE11","v":0},{"$f":"AJ11","v":0},{"$f":"AO11","v":0},{"$f":"AT11","v":0}]
[21,2679,22,2684,24,2690,null,null,null,null,0,222,null,null,"% target"]
[12,2785,24,2792,24,2799,null,null,null,null,0,122,null,null,"CCRF"]
[21,2892,22,2898,13,2900,null,null,null,null,0,221,null,null,"% CCRf"]
[21,2996,22,3001,24,3006,null,null,null,null,0,222,null,null,"average response rate",{"$f":"F33/P20","v":141.4814814814815},{"$f":"(F60-F33)/Q20","v":161.59259259259258},{"$f":"(F86-F60)/R20","v":124.07692307692308},{"$f":"(F113-F86)/S20","v":137.37037037037038},{"$f":"(F140-F113)/T20","v":134.2962962962963},{"$f":"(F167-F140)/U20","v":158.59259259259258}]
[21,3105,11,3111,22,3116,null,null,null,null,0,212]
[12,3214,24,3221,24,3227,null,null,null,null,0,122]
[21,3338,22,3341,24,3348,null,null,null,null,0,222]
[21,3435,22,3438,13,3443,null,null,null,null,0,221]
[12,3544,24,3814,24,3820,null,null,null,null,0,122]
[21,3937,11,3943,22,3946,null,null,null,null,0,212]
[21,4049,22,4053,24,4059,null,null,null,null,0,222]
[21,4154,22,4159,24,4166,null,null,null,null,0,222]
[21,4262,11,4265,22,4270,null,null,null,null,0,212]
[21,4382,22,4390,24,4395,null,null,null,null,0,222]
[21,4484,11,4491,22,4495,null,null,null,null,0,212]
[21,4613,11,4618,22,4626,null,null,null,null,0,212]
[21,5192,22,5202,24,5208,null,null,null,null,0,222]
[21,5314,11,5319,22,5323,null,null,null,null,0,212]
[21,5465,11,5472,22,5477,null,null,null,null,0,212]
[21,5679,22,5690,13,5696,null,null,null,null,0,221]
[12,5801,24,5808,24,5819,null,null,null,null,0,122]
[21,5906,22,5912,24,5918,null,null,null,null,0,222]
[21,6131,22,6146,24,6153,null,null,null,null,0,222]
[21,6290,11,6296,22,6299,null,null,null,null,0,212]
[21,6439,11,6448,22,6454,null,null,null,null,0,212]
[21,6552,22,6557,24,6563,null,null,null,null,0,222]
[21,6723,11,6733,22,6738,null,null,null,null,0,212]
[21,6948,11,6952,22,6959,null,null,null,null,0,212]
[21,7066,22,7072,24,7077,null,null,null,null,0,222]
[21,7175,11,7179,22,7185,null,null,null,null,0,212]
[21,7288,11,7294,22,7299,null,null,null,null,0,212]
[21,7452,11,7458,22,7460,null,null,null,null,0,212]
[21,7758,11,7764,22,7767,null,null,null,null,0,212]
[12,7860,24,7871,24,7877,null,null,null,null,0,122]
[21,7976,22,7980,13,7984,null,null,null,null,0,221]
[21,8172,11,8180,22,8183,null,null,null,null,0,212]
[21,8279,22,8284,24,8290,null,null,null,null,0,222]
[12,8381,24,8387,24,8390,null,null,null,null,0,122]
[21,8482,22,8485,24,8489,null,null,null,null,0,222]
[21,8585,22,8591,24,8594,null,null,null,null,0,222]
[21,8692,11,8701,22,8703,null,null,null,null,0,212]
[21,8875,11,8884,22,8891,null,null,null,null,0,212]
[12,8984,24,8998,24,9004,null,null,null,null,0,122]
[21,9101,11,9103,22,9108,null,null,null,null,0,212]
[21,9209,22,9213,24,9219,null,null,null,null,0,222]
[21,9316,11,9322,22,9328,null,null,null,null,0,212]
[12,9416,24,9418,24,9426,null,null,null,null,0,122]
[12,9566,24,9574,24,9582,null,null,null,null,0,122]
[21,9679,22,9683,24,9688,null,null,null,null,0,222]
[21,9793,22,9797,24,9804,null,null,null,null,0,222]
[21,9900,11,9906,22,9910,null,null,null,null,0,212]
[21,10117,11,10122,22,10129,null,null,null,null,0,212]
[21,10234,22,10244,24,10250,null,null,null,null,0,222]
[21,10352,22,10359,24,10364,null,null,null,null,0,222]
[21,10461,11,10463,22,10464,null,null,null,null,0,212]
[12,10561,24,10567,24,10574,null,null,null,null,0,122]
[21,10703,22,10708,24,10713,null,null,null,null,0,222]
[21,10976,11,10985,22,10989,null,null,null,null,0,212]
[21,11090,22,11097,24,11100,null,null,null,null,0,222]
[21,11199,22,11203,13,11205,null,null,null,null,0,221]
[12,11298,24,11303,24,11306,null,null,null,null,0,122]
[21,11401,22,11404,24,11409,null,null,null,null,0,222]
[21,11513,22,11518,24,11525,null,null,null,null,0,222]
[12,11618,24,11628,24,11629,null,null,null,null,0,122]
[21,11745,22,11751,24,11757,null,null,null,null,0,222]
[21,11900,11,11911,22,11918,null,null,null,null,0,212]
[12,12030,24,12036,24,12045,null,null,null,null,0,122]
[21,12140,22,12145,13,12148,null,null,null,null,0,221]
[12,12241,24,12245,24,12249,null,null,null,null,0,122]
[21,12354,11,12359,22,12365,null,null,null,null,0,212]
[12,12457,13,12462,24,12467,null,null,null,null,0,112]
[12,12579,13,12584,24,12588,null,null,null,null,0,112]
[12,12699,24,12702,24,12708,null,null,null,null,0,122]
[21,12812,22,12822,24,12830,null,null,null,null,0,222]
[21,13165,11,13171,22,13174,null,null,null,null,0,212]
[12,13267,24,13283,24,13289,null,null,null,null,0,122]
[21,13389,22,13395,13,13399,null,null,null,null,0,221]
[21,13495,22,13501,13,13503,null,null,null,null,0,221]
[21,13600,22,13607,24,13612,null,null,null,null,0,222]
[21,13796,11,13807,22,13817,null,null,null,null,0,212]
[21,13963,11,13967,22,13974,null,null,null,null,0,212]
[12,14075,24,14078,24,14083,null,null,null,null,0,122]
[12,14176,24,14185,13,14188,null,null,null,null,0,121]
[12,14281,24,14284,24,14288,null,null,null,null,0,122]
[21,14385,22,14389,13,14391,null,null,null,null,0,221]
[21,14493,22,14497,24,14502,null,null,null,null,0,222]
[21,14633,22,14638,13,14641,null,null,null,null,0,221]
[21,14998,22,15005,24,15013,null,null,null,null,0,222]
[21,15108,22,15113,24,15118,null,null,null,null,0,222]
[21,15214,11,15216,22,15221,null,null,null,null,0,212]
[21,15322,22,15329,24,15337,null,null,null,null,0,222]
[21,15437,11,15440,22,15449,null,null,null,null,0,212]
[21,15539,11,15544,22,15552,null,null,null,null,0,212]
[21,15828,22,15838,13,15839,null,null,null,null,0,221]
[12,15953,24,15956,24,15961,null,null,null,null,0,122]
[21,16086,11,16095,22,16097,null,null,null,null,0,212]
[21,16368,11,16374,22,16382,null,null,null,null,0,212]
[21,16486,22,16490,24,16495,null,null,null,null,0,222]
[21,16592,22,16597,24,16602,null,null,null,null,0,222]
[21,16698,11,16703,22,16708,null,null,null,null,0,212]
[21,16810,22,16812,24,16814,null,null,null,null,0,222]
[21,16911,22,16915,24,16920,null,null,null,null,0,222]
[21,17024,11,17031,22,17035,null,null,null,null,0,212]
[21,17135,22,17140,24,17145,null,null,null,null,0,222]
[21,17242,11,17245,22,17248,null,null,null,null,0,212]
[12,17341,24,17348,24,17354,null,null,null,null,0,122]
[21,17451,11,17455,22,17465,null,null,null,null,0,212]
[21,17590,22,17597,24,17602,null,null,null,null,0,222]
[21,17761,11,17769,22,17775,null,null,null,null,0,212]
[12,17866,13,17878,24,17883,null,null,null,null,0,112]
[21,17991,11,17993,22,18001,null,null,null,null,0,212]
[21,18095,22,18100,24,18106,null,null,null,null,0,222]
[21,18239,11,18247,22,18253,null,null,null,null,0,212]
[21,18522,11,18532,22,18533,null,null,null,null,0,212]
[12,18627,24,18636,24,18640,null,null,null,null,0,122]
[21,18737,22,18742,13,18744,null,null,null,null,0,221]
[21,18840,22,18845,13,18847,null,null,null,null,0,221]
[21,18983,11,18986,22,18993,null,null,null,null,0,212]
[21,19091,22,19098,24,19105,null,null,null,null,0,222]
[12,19205,24,19210,24,19216,null,null,null,null,0,122]
[21,19317,11,19320,22,19325,null,null,null,null,0,212]
[21,19422,22,19426,24,19430,null,null,null,null,0,222]
[12,19530,24,19532,24,19537,null,null,null,null,0,122]
[21,19637,11,19641,22,19646,null,null,null,null,0,212]
[12,19740,24,19746,13,19751,null,null,null,null,0,121]
[12,19845,24,19848,24,19853,null,null,null,null,0,122]
[21,20357,11,20365,22,20371,null,null,null,null,0,212]
[21,20468,22,20472,24,20477,null,null,null,null,0,222]
[12,20571,24,20573,24,20576,null,null,null,null,0,122]
[21,20678,22,20683,13,20686,null,null,null,null,0,221]
[12,20783,24,20785,24,20789,null,null,null,null,0,122]
[21,20884,22,20887,24,20891,null,null,null,null,0,222]
[21,20990,11,20993,22,20994,null,null,null,null,0,212]
[21,21544,11,21549,22,21554,null,null,null,null,0,212]
[21,21688,22,21692,24,21696,null,null,null,null,0,222]
[21,21923,11,21934,22,21940,null,null,null,null,0,212]
[21,22041,22,22043,24,22046,null,null,null,null,0,222]
[21,22143,22,22150,24,22157,null,null,null,null,0,222]
[21,22254,11,22258,22,22263,null,null,null,null,0,212]
[21,22406,22,22409,24,22415,null,null,null,null,0,222]
[21,22831,11,22836,22,22841,null,null,null,null,0,212]
[12,22933,13,22934,13,22936,null,null,null,null,0,111]
[12,23022,13,23024,13,23026,null,null,null,null,null,111]

{"sheet":"!N214910.Gus","index":20,"n_rows":162,"n_cols":48,"rows_kept":162,"cut":false,"hidden":false,"merged":[[4,39,4,42],[5,39,5,40],[4,44,4,47],[5,44,5,45],[4,24,4,27],[5,24,5,25],[4,29,4,32],[5,29,5,30],[4,34,4,37],[5,34,5,35],[1,1,1,2],[5,13,5,14],[18,13,18,14],[19,13,19,14],[4,19,4,22],[5,19,5,20]]}
["Report for:!N214910.Gus"]
["Date:","<date>"]
["Hen:","<hen>",null,null,null,"Correct Sequence",{"$f":"Start!J2","v":211},null,null,null,null,null,null,null,null,"Total Sequences in Data",{"$f":"4994-COUNTBLANK(L7:L5000)","v":156},null,null,null,null,"Total Sequences in Block Data",{"$f":"COUNTA(L7:L32)","v":26},null,null,null,"Total Sequences in Block Data",{"$f":"COUNTA(L33:L58)","v":26},null,null,null,"Total Sequences in Block Data",{"$f":"COUNTA(L59:L84)","v":26},null,null,null,"Total Sequences in Block Data",{"$f":"COUNTA(L85:L110)","v":26},null,null,null,"Total Sequences in Block Data",{"$f":"COUNTA(L111:L136)","v":26},null,null,null,"Total Sequences in Block Data",{"$f":"COUNTA(L137:L162)","v":26}]
[null,null,null,null,null,null,null,null,null,null,null,null,null,null,null,"Total Sequences in Summary",{"$f":"SUM(O7:O14)","v":156},null,null,null,null,"Total Sequences in Block Summary",{"$f":"SUM(U7:U14)","v":26},null,null,null,"Total Sequences in Block Summary",{"$f":"SUM(Z7:Z14)","v":26},null,null,null,"Total Sequences in Block Summary",{"$f":"SUM(AE7:AE14)","v":26},null,null,null,"Total Sequences in Block Summary",{"$f":"SUM(AJ7:AJ14)","v":26},null,null,null,"Total Sequences in Block Summary",{"$f":"SUM(AO7:AO14)","v":26},null,null,null,"Total Sequences in Block Summary",{"$f":"SUM(AT7:AT14)","v":26}]
[null,null,null,null,null,null,null,null,null,null,null,null,null,null,null,null,null,null,null,"Block 1",null,null,null,null,"Block 2",null,null,null,null,"Block 3",null,null,null,null,"Block 4",null,null,null,null,"Block 5",null,null,null,null,"Block 6"]
["Sequence\nComponent\n1","Time\n1","Sequence\nComponent\n2","Time\n2","Sequence\nComponent\n3","Time\n3","Sequence\nComponent\n4","Time\n4","Sequence\nComponent\n5","Time\n5","Correct?\n0=No 1=Yes","Sequence",null,"Frequency",null,"Relative Frequency","Variability",null,null,"Frequency",null,"Relative Frequency","Variability",null,"Frequency",null,"Relative Frequency","Variability",null,"Frequency",null,"Relative Frequency","Variability",null,"Frequency",null,"Relative Frequency","Variability",null,"Frequency",null,"Relative Frequency","Variability",null,"Frequency",null,"Relative Frequency","Variability"]
[21,131,22,135,24,141,null,null,null,null,0,222,null,111,{"$f":"COUNTIF($L$7:$L$500,N7)","v":0},{"$f":"O7/$Q$4","v":0},{"$f":"IF(P7=0,0,(P7*((LOG(P7))/LOG(2))))","v":0},null,null,{"$f":"N7","v":111},{"$f":"COUNTIF(L7:L32,T7)","v":0},{"$f":"U7/(W4-U11)","v":0},{"$f":"IF(V7=0,0,(V7*((LOG(V7))/LOG(2))))","v":0},null,{"$f":"N7","v":111},{"$f":"COUNTIF(L33:L58,Y7)","v":0},{"$f":"Z7/(AB4-Z11)","v":0},{"$f":"IF(AA7=0,0,(AA7*((LOG(AA7))/LOG(2))))","v":0},null,{"$f":"N7","v":111},{"$f":"COUNTIF(L59:L84,AD7)","v":0},{"$f":"AE7/(AG4-AE11)","v":0},{"$f":"IF(AF7=0,0,(AF7*((LOG(AF7))/LOG(2))))","v":0},null,{"$f":"N7","v":111},{"$f":"COUNTIF(L85:L110,AI7)","v":0},{"$f":"AJ7/(AL4-AJ11)","v":0},{"$f":"IF(AK7=0,0,(AK7*((LOG(AK7))/LOG(2))))","v":0},null,{"$f":"N7","v":111},{"$f":"COUNTIF(L111:L136,AN7)","v":0},{"$f":"AO7/(AQ4-AO11)","v":0},{"$f":"IF(AP7=0,0,(AP7*((LOG(AP7))/LOG(2))))","v":0},null,{"$f":"N7","v":111},{"$f":"COUNTIF(L137:L162,AS7)","v":0},{"$f":"AT7/(AV4-AT11)","v":0},{"$f":"IF(AU7=0,0,(AU7*((LOG(AU7))/LOG(2))))","v":0}]
[21,239,22,244,24,248,null,null,null,null,0,222,null,112,{"$f":"COUNTIF($L$7:$L$500,N8)","v":0},{"$f":"O8/$Q$4","v":0},{"$f":"IF(P8=0,0,(P8*((LOG(P8))/LOG(2))))","v":0},null,null,{"$f":"N8","v":112},{"$f":"COUNTIF(L7:L32,T8)","v":0},{"$f":"U8/(W4-U11)","v":0},{"$f":"IF(V8=0,0,(V8*((LOG(V8))/LOG(2))))","v":0},null,{"$f":"N8","v":112},{"$f":"COUNTIF(L33:L58,Y8)","v":0},{"$f":"Z8/(AB4-Z11)","v":0},{"$f":"IF(AA8=0,0,(AA8*((LOG(AA8))/LOG(2))))","v":0},null,{"$f":"N8","v":112},{"$f":"COUNTIF(L59:L84,AD8)","v":0},{"$f":"AE8/(AG4-AE11)","v":0},{"$f":"IF(AF8=0,0,(AF8*((LOG(AF8))/LOG(2))))","v":0},null,{"$f":"N8","v":112},{"$f":"COUNTIF(L85:L110,AI8)","v":0},{"$f":"AJ8/(AL4-AJ11)","v":0},{"$f":"IF(AK8=0,0,(AK8*((LOG(AK8))/LOG(2))))","v":0},null,{"$f":"N8","v":112},{"$f":"COUNTIF(L111:L136,AN8)","v":0},{"$f":"AO8/(AQ4-AO11)","v":0},{"$f":"IF(AP8=0,0,(AP8*((LOG(AP8))/LOG(2))))","v":0},null,{"$f":"N8","v":112},{"$f":"COUNTIF(L137:L162,AS8)","v":0},{"$f":"AT8/(AV4-AT11)","v":0},{"$f":"IF(AU8=0,0,(AU8*((LOG(AU8))/LOG(2))))","v":0}]
[21,388,22,394,24,401,null,null,null,null,0,222,null,121,{"$f":"COUNTIF($L$7:$L$500,N9)","v":0},{"$f":"O9/$Q$4","v":0},{"$f":"IF(P9=0,0,(P9*((LOG(P9))/LOG(2))))","v":0},null,null,{"$f":"N9","v":121},{"$f":"COUNTIF(L7:L32,T9)","v":0},{"$f":"U9/(W4-U11)","v":0},{"$f":"IF(V9=0,0,(V9*((LOG(V9))/LOG(2))))","v":0},null,{"$f":"N9","v":121},{"$f":"COUNTIF(L33:L58,Y9)","v":0},{"$f":"Z9/(AB4-Z11)","v":0},{"$f":"IF(AA9=0,0,(AA9*((LOG(AA9))/LOG(2))))","v":0},null,{"$f":"N9","v":121},{"$f":"COUNTIF(L59:L84,AD9)","v":0},{"$f":"AE9/(AG4-AE11)","v":0},{"$f":"IF(AF9=0,0,(AF9*((LOG(AF9))/LOG(2))))","v":0},null,{"$f":"N9","v":121},{"$f":"COUNTIF(L85:L110,AI9)","v":0},{"$f":"AJ9/(AL4-AJ11)","v":0},{"$f":"IF(AK9=0,0,(AK9*((LOG(AK9))/LOG(2))))","v":0},null,{"$f":"N9","v":121},{"$f":"COUNTIF(L111:L136,AN9)","v":0},{"$f":"AO9/(AQ4-AO11)","v":0},{"$f":"IF(AP9=0,0,(AP9*((LOG(AP9))/LOG(2))))","v":0},null,{"$f":"N9","v":121},{"$f":"COUNTIF(L137:L162,AS9)","v":0},{"$f":"AT9/(AV4-AT11)","v":0},{"$f":"IF(AU9=0,0,(AU9*((LOG(AU9))/LOG(2))))","v":0}]
[21,515,22,519,24,533,null,null,null,null,0,222,null,122,{"$f":"COUNTIF($L$7:$L$500,N10)","v":26},{"$f":"O10/$Q$4","v":0.16666666666666666},{"$f":"IF(P10=0,0,(P10*((LOG(P10))/LOG(2))))","v":-0.43082708345352599},null,null,{"$f":"N10","v":122},{"$f":"COUNTIF(L7:L32,T10)","v":5},{"$f":"U10/(W4-U11)","v":0.2},{"$f":"IF(V10=0,0,(V10*((LOG(V10))/LOG(2))))","v":-0.46438561897747244},null,{"$f":"N10","v":122},{"$f":"COUNTIF(L33:L58,Y10)","v":2},{"$f":"Z10/(AB4-Z11)","v":7.6923076923076927E-2},{"$f":"IF(AA10=0,0,(AA10*((LOG(AA10))/LOG(2))))","v":-0.28464920908777636},null,{"$f":"N10","v":122},{"$f":"COUNTIF(L59:L84,AD10)","v":5},{"$f":"AE10/(AG4-AE11)","v":0.19230769230769232},{"$f":"IF(AF10=0,0,(AF10*((LOG(AF10))/LOG(2))))","v":-0.45740608139494804},null,{"$f":"N10","v":122},{"$f":"COUNTIF(L85:L110,AI10)","v":4},{"$f":"AJ10/(AL4-AJ11)","v":0.15384615384615385},{"$f":"IF(AK10=0,0,(AK10*((LOG(AK10))/LOG(2))))","v":-0.4154522643293988},null,{"$f":"N10","v":122},{"$f":"COUNTIF(L111:L136,AN10)","v":4},{"$f":"AO10/(AQ4-AO11)","v":0.15384615384615385},{"$f":"IF(AP10=0,0,(AP10*((LOG(AP10))/LOG(2))))","v":-0.4154522643293988},null,{"$f":"N10","v":122},{"$f":"COUNTIF(L137:L162,AS10)","v":6},{"$f":"AT10/(AV4-AT11)","v":0.24},{"$f":"IF(AU10=0,0,(AU10*((LOG(AU10))/LOG(2))))","v":-0.49413448537285637}]
[21,1125,11,1132,22,1138,null,null,null,null,0,212,null,211,{"$f":"COUNTIF($L$7:$L$500,N11)","v":2},{"$f":"O11/$Q$4","v":1.282051282051282E-2},{"$f":"IF(P11=0,0,(P11*((LOG(P11))/LOG(2))))","v":-8.0582079729003178E-2},null,null,{"$f":"N11","v":211},{"$f":"COUNTIF(L7:L32,T11)","v":1},null,null,null,{"$f":"N11","v":211},{"$f":"COUNTIF(L33:L58,Y11)","v":0},null,null,null,{"$f":"N11","v":211},{"$f":"COUNTIF(L59:L84,AD11)","v":0},null,null,null,{"$f":"N11","v":211},{"$f":"COUNTIF(L85:L110,AI11)","v":0},null,null,null,{"$f":"N11","v":211},{"$f":"COUNTIF(L111:L136,AN11)","v":0},null,null,null,{"$f":"N11","v":211},{"$f":"COUNTIF(L137:L162,AS11)","v":1}]
[12,1227,24,1230,24,1240,null,null,null,null,0,122,null,212,{"$f":"COUNTIF($L$7:$L$500,N12)","v":32},{"$f":"O12/$Q$4","v":0.20512820512820512},{"$f":"IF(P12=0,0,(P12*((LOG(P12))/LOG(2))))","v":-0.46880045515123048},null,null,{"$f":"N12","v":212},{"$f":"COUNTIF(L7:L32,T12)","v":4},{"$f":"U12/(W4-U11)","v":0.16},{"$f":"IF(V12=0,0,(V12*((LOG(V12))/LOG(2))))","v":-0.42301699036395596},null,{"$f":"N12","v":212},{"$f":"COUNTIF(L33:L58,Y12)","v":5},{"$f":"Z12/(AB4-Z11)","v":0.19230769230769232},{"$f":"IF(AA12=0,0,(AA12*((LOG(AA12))/LOG(2))))","v":-0.45740608139494804},null,{"$f":"N12","v":212},{"$f":"COUNTIF(L59:L84,AD12)","v":8},{"$f":"AE12/(AG4-AE11)","v":0.30769230769230771},{"$f":"IF(AF12=0,0,(AF12*((LOG(AF12))/LOG(2))))","v":-0.52321222096648989},null,{"$f":"N12","v":212},{"$f":"COUNTIF(L85:L110,AI12)","v":4},{"$f":"AJ12/(AL4-AJ11)","v":0.15384615384615385},{"$f":"IF(AK12=0,0,(AK12*((LOG(AK12))/LOG(2))))","v":-0.4154522643293988},null,{"$f":"N12","v":212},{"$f":"COUNTIF(L111:L136,AN12)","v":6},{"$f":"AO12/(AQ4-AO11)","v":0.23076923076923078},{"$f":"IF(AP12=0,0,(AP12*((LOG(AP12))/LOG(2))))","v":-0.48818705017383146},null,{"$f":"N12","v":212},{"$f":"COUNTIF(L137:L162,AS12)","v":5},{"$f":"AT12/(AV4-AT11)","v":0.2},{"$f":"IF(AU12=0,0,(AU12*((LOG(AU12))/LOG(2))))","v":-0.46438561897747244}]
[21,1410,22,1413,24,1421,null,null,null,null,0,222,null,221,{"$f":"COUNTIF($L$7:$L$500,N13)","v":17},{"$f":"O13/$Q$4","v":0.10897435897435898},{"$f":"IF(P13=0,0,(P13*((LOG(P13))/LOG(2))))","v":-0.34849339371411825},null,null,{"$f":"N13","v":221},{"$f":"COUNTIF(L7:L32,T13)","v":3},{"$f":"U13/(W4-U11)","v":0.12},{"$f":"IF(V13=0,0,(V13*((LOG(V13))/LOG(2))))","v":-0.36706724268642821},null,{"$f":"N13","v":221},{"$f":"COUNTIF(L33:L58,Y13)","v":6},{"$f":"Z13/(AB4-Z11)","v":0.23076923076923078},{"$f":"IF(AA13=0,0,(AA13*((LOG(AA13))/LOG(2))))","v":-0.48818705017383146},null,{"$f":"N13","v":221},{"$f":"COUNTIF(L59:L84,AD13)","v":1},{"$f":"AE13/(AG4-AE11)","v":3.8461538461538464E-2},{"$f":"IF(AF13=0,0,(AF13*((LOG(AF13))/LOG(2))))","v":-0.18078614300542661},null,{"$f":"N13","v":221},{"$f":"COUNTIF(L85:L110,AI13)","v":4},{"$f":"AJ13/(AL4-AJ11)","v":0.15384615384615385},{"$f":"IF(AK13=0,0,(AK13*((LOG(AK13))/LOG(2))))","v":-0.4154522643293988},null,{"$f":"N13","v":221},{"$f":"COUNTIF(L111:L136,AN13)","v":2},{"$f":"AO13/(AQ4-AO11)","v":7.6923076923076927E-2},{"$f":"IF(AP13=0,0,(AP13*((LOG(AP13))/LOG(2))))","v":-0.28464920908777636},null,{"$f":"N13","v":221},{"$f":"COUNTIF(L137:L162,AS13)","v":1},{"$f":"AT13/(AV4-AT11)","v":0.04},{"$f":"IF(AU13=0,0,(AU13*((LOG(AU13))/LOG(2))))","v":-0.18575424759098899}]
[12,1533,24,1544,24,1548,null,null,null,null,0,122,null,222,{"$f":"COUNTIF($L$7:$L$500,N14)","v":79},{"$f":"O14/$Q$4","v":0.50641025641025639},{"$f":"IF(P14=0,0,(P14*((LOG(P14))/LOG(2))))","v":-0.49710318066747744},null,null,{"$f":"N14","v":222},{"$f":"COUNTIF(L7:L32,T14)","v":13},{"$f":"U14/(W4-U11)","v":0.52},{"$f":"IF(V14=0,0,(V14*((LOG(V14))/LOG(2))))","v":-0.49057656524948895},null,{"$f":"N14","v":222},{"$f":"COUNTIF(L33:L58,Y14)","v":13},{"$f":"Z14/(AB4-Z11)","v":0.5},{"$f":"IF(AA14=0,0,(AA14*((LOG(AA14))/LOG(2))))","v":-0.5},null,{"$f":"N14","v":222},{"$f":"COUNTIF(L59:L84,AD14)","v":12},{"$f":"AE14/(AG4-AE11)","v":0.46153846153846156},{"$f":"IF(AF14=0,0,(AF14*((LOG(AF14))/LOG(2))))","v":-0.51483563880920125},null,{"$f":"N14","v":222},{"$f":"COUNTIF(L85:L110,AI14)","v":14},{"$f":"AJ14/(AL4-AJ11)","v":0.53846153846153844},{"$f":"IF(AK14=0,0,(AK14*((LOG(AK14))/LOG(2))))","v":-0.48089181327572433},null,{"$f":"N14","v":222},{"$f":"COUNTIF(L111:L136,AN14)","v":14},{"$f":"AO14/(AQ4-AO11)","v":0.53846153846153844},{"$f":"IF(AP14=0,0,(AP14*((LOG(AP14))/LOG(2))))","v":-0.48089181327572433},null,{"$f":"N14","v":222},{"$f":"COUNTIF(L137:L162,AS14)","v":13},{"$f":"AT14/(AV4-AT11)","v":0.52},{"$f":"IF(AU14=0,0,(AU14*((LOG(AU14))/LOG(2))))","v":-0.49057656524948895}]
[21,1650,22,1653,24,1658,null,null,null,null,0,222,null,null,null,{"$f":"SUM(P7:P14)","v":1},{"$f":"-SUM(Q7:Q14)","v":1.8258061927153553},null,null,null,null,{"$f":"SUM(V7:V14)","v":1},{"$f":"-SUM(W7:W14)","v":1.7450464172773454},null,null,null,{"$f":"SUM(AA7:AA14)","v":1},{"$f":"-SUM(AB7:AB14)","v":1.7302423406565559},null,null,null,{"$f":"SUM(AF7:AF14)","v":1},{"$f":"-SUM(AG7:AG14)","v":1.6762400841760656},null,null,null,{"$f":"SUM(AK7:AK14)","v":1},{"$f":"-SUM(AL7:AL14)","v":1.7272486062639207},null,null,null,{"$f":"SUM(AP7:AP14)","v":1},{"$f":"-SUM(AQ7:AQ14)","v":1.6691803368667308},null,null,null,{"$f":"SUM(AU7:AU14)","v":1},{"$f":"-SUM(AV7:AV14)","v":1.6348509171908068}]
[21,1758,22,1772,13,1779,null,null,null,null,0,221,null,null,null,"U=",{"$f":"Q15/(LOG(Q4)/LOG(2))","v":0.25061158435264663},null,null,null,null,"U1=",{"$f":"W15/(LOG(W4)/LOG(2))","v":0.37125173854319066},null,null,null,"U2=",{"$f":"AB15/(LOG(AB4)/LOG(2))","v":0.36810222966561607},null,null,null,"U3=",{"$f":"AG15/(LOG(AG4)/LOG(2))","v":0.35661346271641525},null,null,null,"U4=",{"$f":"AL15/(LOG(AL4)/LOG(2))","v":0.36746532448819597},null,null,null,"U5=",{"$f":"AQ15/(LOG(AQ4)/LOG(2))","v":0.3551115293372703},null,null,null,"U6=",{"$f":"AV15/(LOG(AV4)/LOG(2))","v":0.34780808078044029}]
[21,1955,11,1965,22,1968,null,null,null,null,0,212]
[21,2073,11,2078,11,2080,null,null,null,null,0,211]
[21,2205,11,2214,22,2223,null,null,null,null,0,212,null,"Total Target Seq"]
[21,2516,22,2521,24,2533,null,null,null,null,0,222,null,{"$f":"COUNTIF(L7:L162,G3)","v":2},null,26,26,26,26,26,26]
[21,2631,22,2637,24,2642,null,null,null,null,0,222,null,null,null,"% of reinforcement given in 6 equal intervals based on number of trials "]
[12,2746,24,2753,24,2757,null,null,null,null,0,122,null,null,null,"%_1","%_2","%_3","%_4","%_5","%_6"]
[21,2854,22,2861,13,2866,null,null,null,null,0,221,null,null,"target sequence",{"$f":"$G$3","v":211},{"$f":"$G$3","v":211},{"$f":"$G$3","v":211},{"$f":"$G$3","v":211},{"$f":"$G$3","v":211},{"$f":"$G$3","v":211}]
[21,2991,11,2999,22,3005,null,null,null,null,0,212,null,null,"total reinforcement",{"$f":"U11","v":1},{"$f":"Z11","v":0},{"$f":"AE11","v":0},{"$f":"AJ11","v":0},{"$f":"AO11","v":0},{"$f":"AT11","v":1}]
[21,3169,22,3186,24,3199,null,null,null,null,0,222,null,null,"% target"]
[21,3479,22,3491,24,3499,null,null,null,null,0,222,null,null,"CCRF"]
[12,3592,24,3601,24,3604,null,null,null,null,0,122,null,null,"% CCRf"]
[12,3698,24,3701,24,3709,null,null,null,null,0,122,null,null,"average response rate",{"$f":"F32/P20","v":166.38461538461539},{"$f":"(F58-F32)/Q20","v":143.03846153846155},{"$f":"(F84-F58)/R20","v":140.30769230769232},{"$f":"(F110-F84)/S20","v":153.65384615384616},{"$f":"(F136-F110)/T20","v":143.80769230769232},{"$f":"(F162-F136)/U20","v":175.69230769230768}]
[21,3810,22,3816,13,3824,null,null,null,null,0,221]
[21,3922,22,3929,24,3939,null,null,null,null,0,222]
[21,4044,22,4047,24,4051,null,null,null,null,0,222]
[21,4307,22,4317,24,4326,null,null,null,null,0,222]
[21,4426,22,4430,24,4435,null,null,null,null,0,222]
[21,4540,22,4546,24,4548,null,null,null,null,0,222]
[21,4656,22,4661,24,4669,null,null,null,null,0,222]
[21,4933,11,4942,22,4944,null,null,null,null,0,212]
[21,5047,22,5056,24,5062,null,null,null,null,0,222]
[21,5157,22,5162,13,5165,null,null,null,null,0,221]
[21,5266,22,5268,24,5273,null,null,null,null,0,222]
[21,5371,22,5375,24,5379,null,null,null,null,0,222]
[21,5478,22,5483,24,5485,null,null,null,null,0,222]
[21,5576,11,5584,22,5593,null,null,null,null,0,212]
[21,5795,22,5798,24,5806,null,null,null,null,0,222]
[21,5951,11,5958,22,5965,null,null,null,null,0,212]
[21,6260,22,6266,24,6272,null,null,null,null,0,222]
[21,6372,22,6377,24,6381,null,null,null,null,0,222]
[12,6473,24,6481,24,6485,null,null,null,null,0,122]
[21,6575,22,6580,13,6584,null,null,null,null,0,221]
[21,6772,22,6776,13,6780,null,null,null,null,0,221]
[12,6873,24,6904,24,6909,null,null,null,null,0,122]
[21,7005,22,7008,13,7016,null,null,null,null,0,221]
[21,7115,22,7117,24,7119,null,null,null,null,0,222]
[21,7215,22,7221,13,7225,null,null,null,null,0,221]
[21,7316,11,7323,22,7330,null,null,null,null,0,212]
[21,7715,22,7719,13,7724,null,null,null,null,0,221]
[21,7824,22,7831,24,7837,null,null,null,null,0,222]
[21,7934,11,7936,22,7940,null,null,null,null,0,212]
[21,8038,22,8042,24,8045,null,null,null,null,0,222]
[21,8145,22,8149,24,8153,null,null,null,null,0,222]
[21,8251,22,8255,24,8260,null,null,null,null,0,222]
[21,8568,11,8579,22,8587,null,null,null,null,0,212]
[21,8695,11,8699,22,8709,null,null,null,null,0,212]
[12,8801,24,8815,24,8819,null,null,null,null,0,122]
[21,8924,22,8930,13,8939,null,null,null,null,0,221]
[21,9043,22,9048,24,9055,null,null,null,null,0,222]
[12,9159,24,9163,24,9169,null,null,null,null,0,122]
[21,9268,22,9272,24,9276,null,null,null,null,0,222]
[21,9378,22,9384,24,9394,null,null,null,null,0,222]
[21,9541,11,9551,22,9558,null,null,null,null,0,212]
[21,9845,11,9848,22,9856,null,null,null,null,0,212]
[21,9963,22,9964,24,9970,null,null,null,null,0,222]
[21,10082,22,10089,24,10095,null,null,null,null,0,222]
[21,10193,22,10198,24,10203,null,null,null,null,0,222]
[21,10302,22,10307,24,10312,null,null,null,null,0,222]
[21,10411,22,10416,24,10421,null,null,null,null,0,222]
[21,10513,22,10519,24,10522,null,null,null,null,0,222]
[12,10637,24,10640,24,10651,null,null,null,null,0,122]
[12,10744,24,10748,24,10750,null,null,null,null,0,122]
[21,10848,22,10852,24,10857,null,null,null,null,0,222]
[21,10956,11,10959,22,10965,null,null,null,null,0,212]
[21,11087,11,11094,22,11096,null,null,null,null,0,212]
[21,11461,11,11467,22,11479,null,null,null,null,0,212]
[21,11577,11,11582,22,11584,null,null,null,null,0,212]
[12,11680,24,11689,24,11693,null,null,null,null,0,122]
[21,11790,22,11794,24,11798,null,null,null,null,0,222]
[21,11895,22,11899,24,11903,null,null,null,null,0,222]
[21,12002,22,12008,24,12010,null,null,null,null,0,222]
[21,12135,22,12142,24,12148,null,null,null,null,0,222]
[12,12241,24,12247,24,12250,null,null,null,null,0,122]
[21,12349,22,12353,24,12356,null,null,null,null,0,222]
[21,12457,22,12462,24,12468,null,null,null,null,0,222]
[21,12575,11,12582,22,12588,null,null,null,null,0,212]
[21,13000,22,13005,24,13014,null,null,null,null,0,222]
[21,13344,22,13348,24,13354,null,null,null,null,0,222]
[21,13453,11,13464,22,13469,null,null,null,null,0,212]
[21,13620,22,13624,24,13631,null,null,null,null,0,222]
[21,13735,22,13741,24,13748,null,null,null,null,0,222]
[21,13874,22,13881,13,13886,null,null,null,null,0,221]
[12,13978,24,13987,24,13991,null,null,null,null,0,122]
[12,14095,24,14107,24,14111,null,null,null,null,0,122]
[21,14262,22,14266,13,14272,null,null,null,null,0,221]
[21,14467,22,14476,24,14484,null,null,null,null,0,222]
[21,14607,11,14612,22,14616,null,null,null,null,0,212]
[12,14714,24,14719,24,14723,null,null,null,null,0,122]
[21,14819,22,14824,24,14833,null,null,null,null,0,222]
[21,14934,11,14942,22,14945,null,null,null,null,0,212]
[21,15055,22,15061,24,15068,null,null,null,null,0,222]
[21,15193,22,15200,13,15212,null,null,null,null,0,221]
[21,15490,22,15495,13,15500,null,null,null,null,0,221]
[21,15663,22,15674,24,15688,null,null,null,null,0,222]
[21,15887,11,15894,22,15898,null,null,null,null,0,212]
[21,16000,22,16004,24,16010,null,null,null,null,0,222]
[21,16115,22,16120,24,16129,null,null,null,null,0,222]
[21,16228,22,16230,13,16232,null,null,null,null,0,221]
[21,16344,22,16348,24,16351,null,null,null,null,0,222]
[21,16533,22,16544,24,16548,null,null,null,null,0,222]
[21,16654,22,16658,24,16665,null,null,null,null,0,222]
[12,16759,24,16764,24,16768,null,null,null,null,0,122]
[12,16860,24,16872,24,16876,null,null,null,null,0,122]
[21,16979,11,16985,22,16994,null,null,null,null,0,212]
[21,17094,22,17101,24,17103,null,null,null,null,0,222]
[21,17201,22,17210,24,17216,null,null,null,null,0,222]
[21,17371,11,17377,22,17387,null,null,null,null,0,212]
[21,17499,22,17505,24,17512,null,null,null,null,0,222]
[21,17702,11,17707,22,17709,null,null,null,null,0,212]
[21,17823,22,17829,24,17831,null,null,null,null,0,222]
[21,17926,11,17928,22,17931,null,null,null,null,0,212]
[21,18026,22,18029,24,18033,null,null,null,null,0,222]
[12,18125,24,18129,24,18133,null,null,null,null,0,122]
[12,18492,24,18501,24,18512,null,null,null,null,0,122]
[21,18625,22,18630,24,18637,null,null,null,null,0,222]
[21,18909,22,18919,24,18926,null,null,null,null,0,222]
[21,19023,22,19029,24,19034,null,null,null,null,0,222]
[21,19130,11,19133,22,19142,null,null,null,null,0,212]
[21,19244,22,19249,24,19254,null,null,null,null,0,222]
[21,19418,22,19422,13,19427,null,null,null,null,0,221]
[21,19755,22,19760,24,19766,null,null,null,null,0,222]
[21,19864,22,19868,24,19873,null,null,null,null,0,222]
[21,19967,22,19972,24,19976,null,null,null,null,0,222]
[12,20074,24,20077,24,20083,null,null,null,null,0,122]
[21,20180,22,20183,24,20187,null,null,null,null,0,222]
[12,20279,24,20296,24,20300,null,null,null,null,0,122]
[12,20414,24,20423,24,20429,null,null,null,null,0,122]
[12,20525,24,20531,24,20543,null,null,null,null,0,122]
[21,20646,22,20652,24,20659,null,null,null,null,0,222]
[12,20753,24,20755,24,20759,null,null,null,null,0,122]
[21,20956,11,20963,22,20970,null,null,null,null,0,212]
[21,21227,22,21232,24,21240,null,null,null,null,0,222]
[21,21398,22,21410,24,21414,null,null,null,null,0,222]
[21,21716,22,21728,13,21733,null,null,null,null,0,221]
[21,21834,22,21840,24,21846,null,null,null,null,0,222]
[21,22041,11,22047,11,22049,null,null,null,null,0,211]
[21,22286,11,22293,22,22298,null,null,null,null,0,212]
[21,22949,11,22963,22,22965,null,null,null,null,0,212]
[21,23124,11,23132,22,23139,null,null,null,null,0,212]
[21,23314,22,23324,24,23332,null,null,null,null,0,222]
[21,23439,22,23444,24,23453,null,null,null,null,0,222]
[21,23550,22,23553,24,23558,null,null,null,null,0,222]
[12,23652,24,23655,24,23661,null,null,null,null,0,122]
[21,23761,22,23763,24,23768,null,null,null,null,0,222]
[21,23868,11,23874,22,23877,null,null,null,null,0,212]
[21,23979,22,23988,24,23995,null,null,null,null,null,222]

{"sheet":"!N215920.Gus","index":21,"n_rows":159,"n_cols":48,"rows_kept":159,"cut":false,"hidden":false,"merged":[[4,39,4,42],[5,39,5,40],[4,44,4,47],[5,44,5,45],[4,24,4,27],[5,24,5,25],[4,29,4,32],[5,29,5,30],[4,34,4,37],[5,34,5,35],[1,1,1,2],[5,13,5,14],[18,13,18,14],[19,13,19,14],[4,19,4,22],[5,19,5,20]]}
["Report for:!N215920.Gus"]
["Date:","<date>"]
["Hen:","<hen>",null,null,null,"Correct Sequence",{"$f":"Start!J2","v":211},null,null,null,null,null,null,null,null,"Total Sequences in Data",{"$f":"4994-COUNTBLANK(L7:L5000)","v":153},null,null,null,null,"Total Sequences in Block Data",{"$f":"COUNTA(L7:L32)","v":26},null,null,null,"Total Sequences in Block Data",{"$f":"COUNTA(L33:L57)","v":25},null,null,null,"Total Sequences in Block Data",{"$f":"COUNTA(L58:L83)","v":26},null,null,null,"Total Sequences in Block Data",{"$f":"COUNTA(L84:L108)","v":25},null,null,null,"Total Sequences in Block Data",{"$f":"COUNTA(L109:L134)","v":26},null,null,null,"Total Sequences in Block Data",{"$f":"COUNTA(L135:L159)","v":25}]
[null,null,null,null,null,null,null,null,null,null,null,null,null,null,null,"Total Sequences in Summary",{"$f":"SUM(O7:O14)","v":153},null,null,null,null,"Total Sequences in Block Summary",{"$f":"SUM(U7:U14)","v":26},null,null,null,"Total Sequences in Block Summary",{"$f":"SUM(Z7:Z14)","v":25},null,null,null,"Total Sequences in Block Summary",{"$f":"SUM(AE7:AE14)","v":26},null,null,null,"Total Sequences in Block Summary",{"$f":"SUM(AJ7:AJ14)","v":25},null,null,null,"Total Sequences in Block Summary",{"$f":"SUM(AO7:AO14)","v":26},null,null,null,"Total Sequences in Block Summary",{"$f":"SUM(AT7:AT14)","v":25}]
[null,null,null,null,null,null,null,null,null,null,null,null,null,null,null,null,null,null,null,"Block 1",null,null,null,null,"Block 2",null,null,null,null,"Block 3",null,null,null,null,"Block 4",null,null,null,null,"Block 5",null,null,null,null,"Block 6"]
["Sequence\nComponent\n1","Time\n1","Sequence\nComponent\n2","Time\n2","Sequence\nComponent\n3","Time\n3","Sequence\nComponent\n4","Time\n4","Sequence\nComponent\n5","Time\n5","Correct?\n0=No 1=Yes","Sequence",null,"Frequency",null,"Relative Frequency","Variability",null,null,"Frequency",null,"Relative Frequency","Variability",null,"Frequency",null,"Relative Frequency","Variability",null,"Frequency",null,"Relative Frequency","Variability",null,"Frequency",null,"Relative Frequency","Variability",null,"Frequency",null,"Relative Frequency","Variability",null,"Frequency",null,"Relative Frequency","Variability"]
[21,102,22,106,24,110,null,null,null,null,0,222,null,111,{"$f":"COUNTIF($L$7:$L$500,N7)","v":0},{"$f":"O7/$Q$4","v":0},{"$f":"IF(P7=0,0,(P7*((LOG(P7))/LOG(2))))","v":0},null,null,{"$f":"N7","v":111},{"$f":"COUNTIF(L7:L32,T7)","v":0},{"$f":"U7/(W4-U11)","v":0},{"$f":"IF(V7=0,0,(V7*((LOG(V7))/LOG(2))))","v":0},null,{"$f":"N7","v":111},{"$f":"COUNTIF(L33:L57,Y7)","v":0},{"$f":"Z7/(AB4-Z11)","v":0},{"$f":"IF(AA7=0,0,(AA7*((LOG(AA7))/LOG(2))))","v":0},null,{"$f":"N7","v":111},{"$f":"COUNTIF(L58:L83,AD7)","v":0},{"$f":"AE7/(AG4-AE11)","v":0},{"$f":"IF(AF7=0,0,(AF7*((LOG(AF7))/LOG(2))))","v":0},null,{"$f":"N7","v":111},{"$f":"COUNTIF(L84:L108,AI7)","v":0},{"$f":"AJ7/(AL4-AJ11)","v":0},{"$f":"IF(AK7=0,0,(AK7*((LOG(AK7))/LOG(2))))","v":0},null,{"$f":"N7","v":111},{"$f":"COUNTIF(L109:L134,AN7)","v":0},{"$f":"AO7/(AQ4-AO11)","v":0},{"$f":"IF(AP7=0,0,(AP7*((LOG(AP7))/LOG(2))))","v":0},null,{"$f":"N7","v":111},{"$f":"COUNTIF(L135:L159,AS7)","v":0},{"$f":"AT7/(AV4-AT11)","v":0},{"$f":"IF(AU7=0,0,(AU7*((LOG(AU7))/LOG(2))))","v":0}]
[21,219,11,220,22,222,null,null,null,null,0,212,null,112,{"$f":"COUNTIF($L$7:$L$500,N8)","v":0},{"$f":"O8/$Q$4","v":0},{"$f":"IF(P8=0,0,(P8*((LOG(P8))/LOG(2))))","v":0},null,null,{"$f":"N8","v":112},{"$f":"COUNTIF(L7:L32,T8)","v":0},{"$f":"U8/(W4-U11)","v":0},{"$f":"IF(V8=0,0,(V8*((LOG(V8))/LOG(2))))","v":0},null,{"$f":"N8","v":112},{"$f":"COUNTIF(L33:L57,Y8)","v":0},{"$f":"Z8/(AB4-Z11)","v":0},{"$f":"IF(AA8=0,0,(AA8*((LOG(AA8))/LOG(2))))","v":0},null,{"$f":"N8","v":112},{"$f":"COUNTIF(L58:L83,AD8)","v":0},{"$f":"AE8/(AG4-AE11)","v":0},{"$f":"IF(AF8=0,0,(AF8*((LOG(AF8))/LOG(2))))","v":0},null,{"$f":"N8","v":112},{"$f":"COUNTIF(L84:L108,AI8)","v":0},{"$f":"AJ8/(AL4-AJ11)","v":0},{"$f":"IF(AK8=0,0,(AK8*((LOG(AK8))/LOG(2))))","v":0},null,{"$f":"N8","v":112},{"$f":"COUNTIF(L109:L134,AN8)","v":0},{"$f":"AO8/(AQ4-AO11)","v":0},{"$f":"IF(AP8=0,0,(AP8*((LOG(AP8))/LOG(2))))","v":0},null,{"$f":"N8","v":112},{"$f":"COUNTIF(L135:L159,AS8)","v":0},{"$f":"AT8/(AV4-AT11)","v":0},{"$f":"IF(AU8=0,0,(AU8*((LOG(AU8))/LOG(2))))","v":0}]
[21,317,22,327,24,331,null,null,null,null,0,222,null,121,{"$f":"COUNTIF($L$7:$L$500,N9)","v":3},{"$f":"O9/$Q$4","v":1.9607843137254902E-2},{"$f":"IF(P9=0,0,(P9*((LOG(P9))/LOG(2))))","v":-0.11122402631316657},null,null,{"$f":"N9","v":121},{"$f":"COUNTIF(L7:L32,T9)","v":1},{"$f":"U9/(W4-U11)","v":0.04},{"$f":"IF(V9=0,0,(V9*((LOG(V9))/LOG(2))))","v":-0.18575424759098899},null,{"$f":"N9","v":121},{"$f":"COUNTIF(L33:L57,Y9)","v":1},{"$f":"Z9/(AB4-Z11)","v":0.04},{"$f":"IF(AA9=0,0,(AA9*((LOG(AA9))/LOG(2))))","v":-0.18575424759098899},null,{"$f":"N9","v":121},{"$f":"COUNTIF(L58:L83,AD9)","v":0},{"$f":"AE9/(AG4-AE11)","v":0},{"$f":"IF(AF9=0,0,(AF9*((LOG(AF9))/LOG(2))))","v":0},null,{"$f":"N9","v":121},{"$f":"COUNTIF(L84:L108,AI9)","v":0},{"$f":"AJ9/(AL4-AJ11)","v":0},{"$f":"IF(AK9=0,0,(AK9*((LOG(AK9))/LOG(2))))","v":0},null,{"$f":"N9","v":121},{"$f":"COUNTIF(L109:L134,AN9)","v":0},{"$f":"AO9/(AQ4-AO11)","v":0},{"$f":"IF(AP9=0,0,(AP9*((LOG(AP9))/LOG(2))))","v":0},null,{"$f":"N9","v":121},{"$f":"COUNTIF(L135:L159,AS9)","v":1},{"$f":"AT9/(AV4-AT11)","v":0.04},{"$f":"IF(AU9=0,0,(AU9*((LOG(AU9))/LOG(2))))","v":-0.18575424759098899}]
[21,442,11,445,22,450,null,null,null,null,0,212,null,122,{"$f":"COUNTIF($L$7:$L$500,N10)","v":16},{"$f":"O10/$Q$4","v":0.10457516339869281},{"$f":"IF(P10=0,0,(P10*((LOG(P10))/LOG(2))))","v":-0.34064186590249951},null,null,{"$f":"N10","v":122},{"$f":"COUNTIF(L7:L32,T10)","v":1},{"$f":"U10/(W4-U11)","v":0.04},{"$f":"IF(V10=0,0,(V10*((LOG(V10))/LOG(2))))","v":-0.18575424759098899},null,{"$f":"N10","v":122},{"$f":"COUNTIF(L33:L57,Y10)","v":3},{"$f":"Z10/(AB4-Z11)","v":0.12},{"$f":"IF(AA10=0,0,(AA10*((LOG(AA10))/LOG(2))))","v":-0.36706724268642821},null,{"$f":"N10","v":122},{"$f":"COUNTIF(L58:L83,AD10)","v":2},{"$f":"AE10/(AG4-AE11)","v":7.6923076923076927E-2},{"$f":"IF(AF10=0,0,(AF10*((LOG(AF10))/LOG(2))))","v":-0.28464920908777636},null,{"$f":"N10","v":122},{"$f":"COUNTIF(L84:L108,AI10)","v":3},{"$f":"AJ10/(AL4-AJ11)","v":0.12},{"$f":"IF(AK10=0,0,(AK10*((LOG(AK10))/LOG(2))))","v":-0.36706724268642821},null,{"$f":"N10","v":122},{"$f":"COUNTIF(L109:L134,AN10)","v":2},{"$f":"AO10/(AQ4-AO11)","v":7.6923076923076927E-2},{"$f":"IF(AP10=0,0,(AP10*((LOG(AP10))/LOG(2))))","v":-0.28464920908777636},null,{"$f":"N10","v":122},{"$f":"COUNTIF(L135:L159,AS10)","v":5},{"$f":"AT10/(AV4-AT11)","v":0.2},{"$f":"IF(AU10=0,0,(AU10*((LOG(AU10))/LOG(2))))","v":-0.46438561897747244}]
[21,888,22,892,24,910,null,null,null,null,0,222,null,211,{"$f":"COUNTIF($L$7:$L$500,N11)","v":1},{"$f":"O11/$Q$4","v":6.5359477124183009E-3},{"$f":"IF(P11=0,0,(P11*((LOG(P11))/LOG(2))))","v":-4.743390746857943E-2},null,null,{"$f":"N11","v":211},{"$f":"COUNTIF(L7:L32,T11)","v":1},null,null,null,{"$f":"N11","v":211},{"$f":"COUNTIF(L33:L57,Y11)","v":0},null,null,null,{"$f":"N11","v":211},{"$f":"COUNTIF(L58:L83,AD11)","v":0},null,null,null,{"$f":"N11","v":211},{"$f":"COUNTIF(L84:L108,AI11)","v":0},null,null,null,{"$f":"N11","v":211},{"$f":"COUNTIF(L109:L134,AN11)","v":0},null,null,null,{"$f":"N11","v":211},{"$f":"COUNTIF(L135:L159,AS11)","v":0}]
[12,1004,24,1008,24,1017,null,null,null,null,0,122,null,212,{"$f":"COUNTIF($L$7:$L$500,N12)","v":57},{"$f":"O12/$Q$4","v":0.37254901960784315},{"$f":"IF(P12=0,0,(P12*((LOG(P12))/LOG(2))))","v":-0.53069526945157441},null,null,{"$f":"N12","v":212},{"$f":"COUNTIF(L7:L32,T12)","v":10},{"$f":"U12/(W4-U11)","v":0.4},{"$f":"IF(V12=0,0,(V12*((LOG(V12))/LOG(2))))","v":-0.52877123795494496},null,{"$f":"N12","v":212},{"$f":"COUNTIF(L33:L57,Y12)","v":7},{"$f":"Z12/(AB4-Z11)","v":0.28000000000000003},{"$f":"IF(AA12=0,0,(AA12*((LOG(AA12))/LOG(2))))","v":-0.51422035496079388},null,{"$f":"N12","v":212},{"$f":"COUNTIF(L58:L83,AD12)","v":10},{"$f":"AE12/(AG4-AE11)","v":0.38461538461538464},{"$f":"IF(AF12=0,0,(AF12*((LOG(AF12))/LOG(2))))","v":-0.53019677817451139},null,{"$f":"N12","v":212},{"$f":"COUNTIF(L84:L108,AI12)","v":14},{"$f":"AJ12/(AL4-AJ11)","v":0.56000000000000005},{"$f":"IF(AK12=0,0,(AK12*((LOG(AK12))/LOG(2))))","v":-0.46844070992158748},null,{"$f":"N12","v":212},{"$f":"COUNTIF(L109:L134,AN12)","v":8},{"$f":"AO12/(AQ4-AO11)","v":0.30769230769230771},{"$f":"IF(AP12=0,0,(AP12*((LOG(AP12))/LOG(2))))","v":-0.52321222096648989},null,{"$f":"N12","v":212},{"$f":"COUNTIF(L135:L159,AS12)","v":8},{"$f":"AT12/(AV4-AT11)","v":0.32},{"$f":"IF(AU12=0,0,(AU12*((LOG(AU12))/LOG(2))))","v":-0.52603398072791185}]
[21,1117,22,1126,24,1134,null,null,null,null,0,222,null,221,{"$f":"COUNTIF($L$7:$L$500,N13)","v":12},{"$f":"O13/$Q$4","v":7.8431372549019607E-2},{"$f":"IF(P13=0,0,(P13*((LOG(P13))/LOG(2))))","v":-0.2880333601546271},null,null,{"$f":"N13","v":221},{"$f":"COUNTIF(L7:L32,T13)","v":1},{"$f":"U13/(W4-U11)","v":0.04},{"$f":"IF(V13=0,0,(V13*((LOG(V13))/LOG(2))))","v":-0.18575424759098899},null,{"$f":"N13","v":221},{"$f":"COUNTIF(L33:L57,Y13)","v":4},{"$f":"Z13/(AB4-Z11)","v":0.16},{"$f":"IF(AA13=0,0,(AA13*((LOG(AA13))/LOG(2))))","v":-0.42301699036395596},null,{"$f":"N13","v":221},{"$f":"COUNTIF(L58:L83,AD13)","v":1},{"$f":"AE13/(AG4-AE11)","v":3.8461538461538464E-2},{"$f":"IF(AF13=0,0,(AF13*((LOG(AF13))/LOG(2))))","v":-0.18078614300542661},null,{"$f":"N13","v":221},{"$f":"COUNTIF(L84:L108,AI13)","v":3},{"$f":"AJ13/(AL4-AJ11)","v":0.12},{"$f":"IF(AK13=0,0,(AK13*((LOG(AK13))/LOG(2))))","v":-0.36706724268642821},null,{"$f":"N13","v":221},{"$f":"COUNTIF(L109:L134,AN13)","v":2},{"$f":"AO13/(AQ4-AO11)","v":7.6923076923076927E-2},{"$f":"IF(AP13=0,0,(AP13*((LOG(AP13))/LOG(2))))","v":-0.28464920908777636},null,{"$f":"N13","v":221},{"$f":"COUNTIF(L135:L159,AS13)","v":1},{"$f":"AT13/(AV4-AT11)","v":0.04},{"$f":"IF(AU13=0,0,(AU13*((LOG(AU13))/LOG(2))))","v":-0.18575424759098899}]
[21,1232,22,1237,24,1240,null,null,null,null,0,222,null,222,{"$f":"COUNTIF($L$7:$L$500,N14)","v":64},{"$f":"O14/$Q$4","v":0.41830065359477125},{"$f":"IF(P14=0,0,(P14*((LOG(P14))/LOG(2))))","v":-0.52596615642045563},null,null,{"$f":"N14","v":222},{"$f":"COUNTIF(L7:L32,T14)","v":12},{"$f":"U14/(W4-U11)","v":0.48},{"$f":"IF(V14=0,0,(V14*((LOG(V14))/LOG(2))))","v":-0.50826897074571287},null,{"$f":"N14","v":222},{"$f":"COUNTIF(L33:L57,Y14)","v":10},{"$f":"Z14/(AB4-Z11)","v":0.4},{"$f":"IF(AA14=0,0,(AA14*((LOG(AA14))/LOG(2))))","v":-0.52877123795494496},null,{"$f":"N14","v":222},{"$f":"COUNTIF(L58:L83,AD14)","v":13},{"$f":"AE14/(AG4-AE11)","v":0.5},{"$f":"IF(AF14=0,0,(AF14*((LOG(AF14))/LOG(2))))","v":-0.5},null,{"$f":"N14","v":222},{"$f":"COUNTIF(L84:L108,AI14)","v":5},{"$f":"AJ14/(AL4-AJ11)","v":0.2},{"$f":"IF(AK14=0,0,(AK14*((LOG(AK14))/LOG(2))))","v":-0.46438561897747244},null,{"$f":"N14","v":222},{"$f":"COUNTIF(L109:L134,AN14)","v":14},{"$f":"AO14/(AQ4-AO11)","v":0.53846153846153844},{"$f":"IF(AP14=0,0,(AP14*((LOG(AP14))/LOG(2))))","v":-0.48089181327572433},null,{"$f":"N14","v":222},{"$f":"COUNTIF(L135:L159,AS14)","v":10},{"$f":"AT14/(AV4-AT11)","v":0.4},{"$f":"IF(AU14=0,0,(AU14*((LOG(AU14))/LOG(2))))","v":-0.52877123795494496}]
[21,1407,11,1413,22,1429,null,null,null,null,0,212,null,null,null,{"$f":"SUM(P7:P14)","v":1},{"$f":"-SUM(Q7:Q14)","v":1.8439945857109028},null,null,null,null,{"$f":"SUM(V7:V14)","v":1},{"$f":"-SUM(W7:W14)","v":1.5943029514736249},null,null,null,{"$f":"SUM(AA7:AA14)","v":1},{"$f":"-SUM(AB7:AB14)","v":2.0188300735571119},null,null,null,{"$f":"SUM(AF7:AF14)","v":1},{"$f":"-SUM(AG7:AG14)","v":1.4956321302677145},null,null,null,{"$f":"SUM(AK7:AK14)","v":1},{"$f":"-SUM(AL7:AL14)","v":1.6669608142719163},null,null,null,{"$f":"SUM(AP7:AP14)","v":1},{"$f":"-SUM(AQ7:AQ14)","v":1.573402452417767},null,null,null,{"$f":"SUM(AU7:AU14)","v":1},{"$f":"-SUM(AV7:AV14)","v":1.8906993328423074}]
[21,1822,22,1831,24,1843,null,null,null,null,0,222,null,null,null,"U=",{"$f":"Q15/(LOG(Q4)/LOG(2))","v":0.25408516475629611},null,null,null,null,"U1=",{"$f":"W15/(LOG(W4)/LOG(2))","v":0.33918166109449277},null,null,null,"U2=",{"$f":"AB15/(LOG(AB4)/LOG(2))","v":0.43473139370731589},null,null,null,"U3=",{"$f":"AG15/(LOG(AG4)/LOG(2))","v":0.31818983328206585},null,null,null,"U4=",{"$f":"AL15/(LOG(AL4)/LOG(2))","v":0.35896047296692474},null,null,null,"U5=",{"$f":"AQ15/(LOG(AQ4)/LOG(2))","v":0.33473516240306322},null,null,null,"U6=",{"$f":"AV15/(LOG(AV4)/LOG(2))","v":0.40713994051009272}]
[21,1950,11,1960,22,1967,null,null,null,null,0,212]
[21,2064,22,2068,24,2074,null,null,null,null,0,222]
[21,2174,11,2177,22,2182,null,null,null,null,0,212,null,"Total Target Seq"]
[21,2282,22,2286,24,2290,null,null,null,null,0,222,null,{"$f":"COUNTIF(L7:L159,G3)","v":1},null,26,25,26,25,26,25]
[21,2395,11,2412,22,2418,null,null,null,null,0,212,null,null,null,"% of reinforcement given in 6 equal intervals based on number of trials "]
[21,2807,22,2830,24,2839,null,null,null,null,0,222,null,null,null,"%_1","%_2","%_3","%_4","%_5","%_6"]
[21,2935,22,2941,24,2944,null,null,null,null,0,222,null,null,"target sequence",{"$f":"$G$3","v":211},{"$f":"$G$3","v":211},{"$f":"$G$3","v":211},{"$f":"$G$3","v":211},{"$f":"$G$3","v":211},{"$f":"$G$3","v":211}]
[21,3043,22,3048,13,3051,null,null,null,null,0,221,null,null,"total reinforcement",{"$f":"U11","v":1},{"$f":"Z11","v":0},{"$f":"AE11","v":0},{"$f":"AJ11","v":0},{"$f":"AO11","v":0},{"$f":"AT11","v":0}]
[21,3181,22,3186,24,3191,null,null,null,null,0,222,null,null,"% target"]
[12,3283,24,3295,13,3301,null,null,null,null,0,121,null,null,"CCRF"]
[21,3397,22,3399,24,3401,null,null,null,null,0,222,null,null,"% CCRf"]
[21,3491,11,3498,11,3500,null,null,null,null,0,211,null,null,"average response rate",{"$f":"F32/P20","v":171.07692307692307},{"$f":"(F57-F32)/Q20","v":127.88},{"$f":"(F83-F57)/R20","v":155.73076923076923},{"$f":"(F108-F83)/S20","v":142.68},{"$f":"(F134-F108)/T20","v":144.26923076923077},{"$f":"(F159-F134)/U20","v":196.48}]
[21,3958,11,3968,22,3979,null,null,null,null,0,212]
[21,4095,11,4102,22,4119,null,null,null,null,0,212]
[21,4298,11,4301,22,4310,null,null,null,null,0,212]
[21,4441,11,4446,22,4448,null,null,null,null,0,212]
[21,4551,22,4559,24,4566,null,null,null,null,0,222]
[21,4665,22,4669,13,4671,null,null,null,null,0,221]
[21,4777,11,4780,22,4785,null,null,null,null,0,212]
[21,4885,22,4891,13,4898,null,null,null,null,0,221]
[21,5002,22,5006,24,5011,null,null,null,null,0,222]
[21,5117,22,5121,24,5126,null,null,null,null,0,222]
[12,5227,24,5235,24,5240,null,null,null,null,0,122]
[21,5340,22,5344,24,5356,null,null,null,null,0,222]
[21,5488,11,5495,22,5506,null,null,null,null,0,212]
[21,5748,22,5758,24,5765,null,null,null,null,0,222]
[21,5860,22,5870,24,5876,null,null,null,null,0,222]
[21,5971,22,5976,24,5981,null,null,null,null,0,222]
[21,6083,22,6087,13,6093,null,null,null,null,0,221]
[21,6195,22,6197,24,6202,null,null,null,null,0,222]
[21,6299,11,6301,22,6303,null,null,null,null,0,212]
[12,6397,24,6402,24,6411,null,null,null,null,0,122]
[21,6509,11,6512,22,6519,null,null,null,null,0,212]
[21,6611,22,6618,24,6624,null,null,null,null,0,222]
[21,6728,11,6736,22,6742,null,null,null,null,0,212]
[12,6834,24,6840,13,6848,null,null,null,null,0,121]
[21,6976,11,6983,22,6986,null,null,null,null,0,212]
[21,7282,22,7293,24,7306,null,null,null,null,0,222]
[12,7418,24,7424,24,7428,null,null,null,null,0,122]
[21,7525,22,7526,13,7534,null,null,null,null,0,221]
[21,7632,11,7639,22,7645,null,null,null,null,0,212]
[21,7826,22,7833,24,7846,null,null,null,null,0,222]
[21,8102,11,8106,22,8116,null,null,null,null,0,212]
[21,8213,22,8218,24,8222,null,null,null,null,0,222]
[21,8362,11,8365,22,8375,null,null,null,null,0,212]
[21,8545,11,8549,22,8558,null,null,null,null,0,212]
[21,8659,22,8664,24,8670,null,null,null,null,0,222]
[21,8766,22,8769,24,8772,null,null,null,null,0,222]
[21,8869,22,8871,24,8873,null,null,null,null,0,222]
[21,8975,22,8979,24,8983,null,null,null,null,0,222]
[21,9082,22,9086,24,9090,null,null,null,null,0,222]
[12,9183,24,9186,24,9193,null,null,null,null,0,122]
[21,9330,11,9336,22,9347,null,null,null,null,0,212]
[21,9708,11,9712,22,9720,null,null,null,null,0,212]
[21,9869,11,9877,22,9885,null,null,null,null,0,212]
[21,10130,22,10137,13,10139,null,null,null,null,0,221]
[21,10246,22,10255,24,10262,null,null,null,null,0,222]
[21,10384,11,10394,22,10402,null,null,null,null,0,212]
[21,10577,11,10583,22,10592,null,null,null,null,0,212]
[21,10690,11,10698,22,10700,null,null,null,null,0,212]
[21,10798,22,10807,24,10813,null,null,null,null,0,222]
[21,10907,22,10909,24,10916,null,null,null,null,0,222]
[21,11011,22,11016,24,11028,null,null,null,null,0,222]
[12,11122,24,11127,24,11132,null,null,null,null,0,122]
[21,11230,22,11240,24,11249,null,null,null,null,0,222]
[21,11415,22,11422,24,11433,null,null,null,null,0,222]
[21,11674,11,11687,22,11694,null,null,null,null,0,212]
[21,11795,22,11804,24,11809,null,null,null,null,0,222]
[21,11902,22,11905,24,11910,null,null,null,null,0,222]
[21,12013,11,12021,22,12032,null,null,null,null,0,212]
[21,12198,11,12208,22,12219,null,null,null,null,0,212]
[21,12387,22,12395,13,12399,null,null,null,null,0,221]
[21,12615,11,12621,22,12624,null,null,null,null,0,212]
[12,12715,24,12718,24,12724,null,null,null,null,0,122]
[21,12820,11,12826,22,12830,null,null,null,null,0,212]
[21,12926,11,12931,22,12933,null,null,null,null,0,212]
[21,13066,11,13075,22,13100,null,null,null,null,0,212]
[21,13310,11,13320,22,13332,null,null,null,null,0,212]
[21,13487,11,13495,22,13502,null,null,null,null,0,212]
[21,13612,22,13617,24,13625,null,null,null,null,0,222]
[21,13773,11,13785,22,13792,null,null,null,null,0,212]
[12,13984,24,13994,24,14003,null,null,null,null,0,122]
[21,14099,11,14106,22,14108,null,null,null,null,0,212]
[21,14205,11,14210,22,14216,null,null,null,null,0,212]
[21,14317,22,14322,13,14323,null,null,null,null,0,221]
[21,14419,22,14430,13,14438,null,null,null,null,0,221]
[12,14534,24,14540,24,14545,null,null,null,null,0,122]
[21,14644,11,14650,22,14653,null,null,null,null,0,212]
[21,14803,22,14814,24,14821,null,null,null,null,0,222]
[21,15035,11,15040,22,15045,null,null,null,null,0,212]
[21,15144,22,15149,24,15156,null,null,null,null,0,222]
[21,15253,11,15259,22,15261,null,null,null,null,0,212]
[21,15356,22,15361,24,15369,null,null,null,null,0,222]
[21,15463,22,15468,24,15471,null,null,null,null,0,222]
[21,15572,22,15580,24,15587,null,null,null,null,0,222]
[21,15683,22,15692,24,15698,null,null,null,null,0,222]
[12,15806,24,15814,24,15821,null,null,null,null,0,122]
[21,15967,11,15975,22,15992,null,null,null,null,0,212]
[21,16143,22,16151,24,16164,null,null,null,null,0,222]
[21,16276,22,16278,24,16284,null,null,null,null,0,222]
[21,16382,22,16387,13,16391,null,null,null,null,0,221]
[21,16508,11,16513,22,16526,null,null,null,null,0,212]
[21,16772,11,16782,22,16787,null,null,null,null,0,212]
[12,16898,24,16901,24,16907,null,null,null,null,0,122]
[21,17000,22,17005,24,17010,null,null,null,null,0,222]
[21,17106,11,17111,22,17115,null,null,null,null,0,212]
[21,17261,11,17266,22,17275,null,null,null,null,0,212]
[21,17459,22,17477,24,17483,null,null,null,null,0,222]
[21,17637,11,17644,22,17656,null,null,null,null,0,212]
[21,17863,22,17873,24,17881,null,null,null,null,0,222]
[21,17975,22,17980,24,17985,null,null,null,null,0,222]
[21,18278,22,18286,24,18292,null,null,null,null,0,222]
[21,18420,11,18427,22,18435,null,null,null,null,0,212]
[21,18571,11,18579,22,18591,null,null,null,null,0,212]
[21,18693,22,18696,24,18701,null,null,null,null,0,222]
[21,18798,22,18802,24,18808,null,null,null,null,0,222]
[21,18900,22,18905,13,18907,null,null,null,null,0,221]
[21,19003,22,19007,24,19012,null,null,null,null,0,222]
[12,19109,24,19114,24,19119,null,null,null,null,0,122]
[21,19221,22,19229,24,19235,null,null,null,null,0,222]
[12,19334,24,19342,13,19348,null,null,null,null,0,121]
[12,19441,24,19445,24,19450,null,null,null,null,0,122]
[21,19545,22,19549,24,19552,null,null,null,null,0,222]
[21,19654,11,19663,22,19666,null,null,null,null,0,212]
[21,20066,22,20077,24,20085,null,null,null,null,0,222]
[21,20196,11,20204,22,20207,null,null,null,null,0,212]
[21,20307,22,20312,24,20319,null,null,null,null,0,222]
[12,20412,24,20415,24,20421,null,null,null,null,0,122]
[21,20563,11,20573,22,20575,null,null,null,null,0,212]
[21,20743,11,20751,22,20759,null,null,null,null,0,212]
[12,20851,24,20858,24,20865,null,null,null,null,0,122]
[21,20961,22,20965,24,20971,null,null,null,null,0,222]
[21,21066,11,21068,22,21074,null,null,null,null,0,212]
[21,21169,22,21174,24,21181,null,null,null,null,0,222]
[21,21285,22,21289,13,21293,null,null,null,null,0,221]
[21,21389,11,21398,22,21400,null,null,null,null,0,212]
[21,21924,22,21938,24,21946,null,null,null,null,0,222]
[21,22390,22,22397,24,22405,null,null,null,null,0,222]
[21,22520,11,22526,22,22531,null,null,null,null,0,212]
[21,23166,11,23187,22,23195,null,null,null,null,0,212]
[21,23684,22,23699,24,23705,null,null,null,null,0,222]
[12,23804,24,23808,24,23812,null,null,null,null,0,122]
[21,23905,22,23917,24,23924,null,null,null,null,1,222]

{"sheet":"!N216A10.Gus","index":22,"n_rows":179,"n_cols":48,"rows_kept":179,"cut":false,"hidden":false,"merged":[[4,39,4,42],[5,39,5,40],[4,44,4,47],[5,44,5,45],[4,24,4,27],[5,24,5,25],[4,29,4,32],[5,29,5,30],[4,34,4,37],[5,34,5,35],[1,1,1,2],[5,13,5,14],[18,13,18,14],[19,13,19,14],[4,19,4,22],[5,19,5,20]]}
["Report for:!N216A10.Gus"]
["Date:","<date>"]
["Hen:","<hen>",null,null,null,"Correct Sequence",{"$f":"Start!J2","v":211},null,null,null,null,null,null,null,null,"Total Sequences in Data",{"$f":"4994-COUNTBLANK(L7:L5000)","v":173},null,null,null,null,"Total Sequences in Block Data",{"$f":"COUNTA(L7:L35)","v":29},null,null,null,"Total Sequences in Block Data",{"$f":"COUNTA(L36:L64)","v":29},null,null,null,"Total Sequences in Block Data",{"$f":"COUNTA(L65:L92)","v":28},null,null,null,"Total Sequences in Block Data",{"$f":"COUNTA(L93:L121)","v":29},null,null,null,"Total Sequences in Block Data",{"$f":"COUNTA(L122:L150)","v":29},null,null,null,"Total Sequences in Block Data",{"$f":"COUNTA(L151:L179)","v":29}]
[null,null,null,null,null,null,null,null,null,null,null,null,null,null,null,"Total Sequences in Summary",{"$f":"SUM(O7:O14)","v":173},null,null,null,null,"Total Sequences in Block Summary",{"$f":"SUM(U7:U14)","v":29},null,null,null,"Total Sequences in Block Summary",{"$f":"SUM(Z7:Z14)","v":29},null,null,null,"Total Sequences in Block Summary",{"$f":"SUM(AE7:AE14)","v":28},null,null,null,"Total Sequences in Block Summary",{"$f":"SUM(AJ7:AJ14)","v":29},null,null,null,"Total Sequences in Block Summary",{"$f":"SUM(AO7:AO14)","v":29},null,null,null,"Total Sequences in Block Summary",{"$f":"SUM(AT7:AT14)","v":29}]
[null,null,null,null,null,null,null,null,null,null,null,null,null,null,null,null,null,null,null,"Block 1",null,null,null,null,"Block 2",null,null,null,null,"Block 3",null,null,null,null,"Block 4",null,null,null,null,"Block 5",null,null,null,null,"Block 6"]
["Sequence\nComponent\n1","Time\n1","Sequence\nComponent\n2","Time\n2","Sequence\nComponent\n3","Time\n3","Sequence\nComponent\n4","Time\n4","Sequence\nComponent\n5","Time\n5","Correct?\n0=No 1=Yes","Sequence",null,"Frequency",null,"Relative Frequency","Variability",null,null,"Frequency",null,"Relative Frequency","Variability",null,"Frequency",null,"Relative Frequency","Variability",null,"Frequency",null,"Relative Frequency","Variability",null,"Frequency",null,"Relative Frequency","Variability",null,"Frequency",null,"Relative Frequency","Variability",null,"Frequency",null,"Relative Frequency","Variability"]
[12,15,24,22,24,28,null,null,null,null,0,122,null,111,{"$f":"COUNTIF($L$7:$L$500,N7)","v":0},{"$f":"O7/$Q$4","v":0},{"$f":"IF(P7=0,0,(P7*((LOG(P7))/LOG(2))))","v":0},null,null,{"$f":"N7","v":111},{"$f":"COUNTIF(L7:L35,T7)","v":0},{"$f":"U7/(W4-U11)","v":0},{"$f":"IF(V7=0,0,(V7*((LOG(V7))/LOG(2))))","v":0},null,{"$f":"N7","v":111},{"$f":"COUNTIF(L36:L64,Y7)","v":0},{"$f":"Z7/(AB4-Z11)","v":0},{"$f":"IF(AA7=0,0,(AA7*((LOG(AA7))/LOG(2))))","v":0},null,{"$f":"N7","v":111},{"$f":"COUNTIF(L65:L92,AD7)","v":0},{"$f":"AE7/(AG4-AE11)","v":0},{"$f":"IF(AF7=0,0,(AF7*((LOG(AF7))/LOG(2))))","v":0},null,{"$f":"N7","v":111},{"$f":"COUNTIF(L93:L121,AI7)","v":0},{"$f":"AJ7/(AL4-AJ11)","v":0},{"$f":"IF(AK7=0,0,(AK7*((LOG(AK7))/LOG(2))))","v":0},null,{"$f":"N7","v":111},{"$f":"COUNTIF(L122:L150,AN7)","v":0},{"$f":"AO7/(AQ4-AO11)","v":0},{"$f":"IF(AP7=0,0,(AP7*((LOG(AP7))/LOG(2))))","v":0},null,{"$f":"N7","v":111},{"$f":"COUNTIF(L151:L179,AS7)","v":0},{"$f":"AT7/(AV4-AT11)","v":0},{"$f":"IF(AU7=0,0,(AU7*((LOG(AU7))/LOG(2))))","v":0}]
[12,124,13,129,24,136,null,null,null,null,0,112,null,112,{"$f":"COUNTIF($L$7:$L$500,N8)","v":3},{"$f":"O8/$Q$4","v":1.7341040462427744E-2},{"$f":"IF(P8=0,0,(P8*((LOG(P8))/LOG(2))))","v":-0.10143929006211967},null,null,{"$f":"N8","v":112},{"$f":"COUNTIF(L7:L35,T8)","v":1},{"$f":"U8/(W4-U11)","v":3.4482758620689655E-2},{"$f":"IF(V8=0,0,(V8*((LOG(V8))/LOG(2))))","v":-0.16751658603888178},null,{"$f":"N8","v":112},{"$f":"COUNTIF(L36:L64,Y8)","v":0},{"$f":"Z8/(AB4-Z11)","v":0},{"$f":"IF(AA8=0,0,(AA8*((LOG(AA8))/LOG(2))))","v":0},null,{"$f":"N8","v":112},{"$f":"COUNTIF(L65:L92,AD8)","v":2},{"$f":"AE8/(AG4-AE11)","v":7.1428571428571425E-2},{"$f":"IF(AF8=0,0,(AF8*((LOG(AF8))/LOG(2))))","v":-0.27195392300411453},null,{"$f":"N8","v":112},{"$f":"COUNTIF(L93:L121,AI8)","v":0},{"$f":"AJ8/(AL4-AJ11)","v":0},{"$f":"IF(AK8=0,0,(AK8*((LOG(AK8))/LOG(2))))","v":0},null,{"$f":"N8","v":112},{"$f":"COUNTIF(L122:L150,AN8)","v":0},{"$f":"AO8/(AQ4-AO11)","v":0},{"$f":"IF(AP8=0,0,(AP8*((LOG(AP8))/LOG(2))))","v":0},null,{"$f":"N8","v":112},{"$f":"COUNTIF(L151:L179,AS8)","v":0},{"$f":"AT8/(AV4-AT11)","v":0},{"$f":"IF(AU8=0,0,(AU8*((LOG(AU8))/LOG(2))))","v":0}]
[21,246,11,251,22,259,null,null,null,null,0,212,null,121,{"$f":"COUNTIF($L$7:$L$500,N9)","v":4},{"$f":"O9/$Q$4","v":2.3121387283236993E-2},{"$f":"IF(P9=0,0,(P9*((LOG(P9))/LOG(2))))","v":-0.12565614399160055},null,null,{"$f":"N9","v":121},{"$f":"COUNTIF(L7:L35,T9)","v":1},{"$f":"U9/(W4-U11)","v":3.4482758620689655E-2},{"$f":"IF(V9=0,0,(V9*((LOG(V9))/LOG(2))))","v":-0.16751658603888178},null,{"$f":"N9","v":121},{"$f":"COUNTIF(L36:L64,Y9)","v":1},{"$f":"Z9/(AB4-Z11)","v":3.7037037037037035E-2},{"$f":"IF(AA9=0,0,(AA9*((LOG(AA9))/LOG(2))))","v":-0.1761069445245729},null,{"$f":"N9","v":121},{"$f":"COUNTIF(L65:L92,AD9)","v":1},{"$f":"AE9/(AG4-AE11)","v":3.5714285714285712E-2},{"$f":"IF(AF9=0,0,(AF9*((LOG(AF9))/LOG(2))))","v":-0.17169124721634299},null,{"$f":"N9","v":121},{"$f":"COUNTIF(L93:L121,AI9)","v":0},{"$f":"AJ9/(AL4-AJ11)","v":0},{"$f":"IF(AK9=0,0,(AK9*((LOG(AK9))/LOG(2))))","v":0},null,{"$f":"N9","v":121},{"$f":"COUNTIF(L122:L150,AN9)","v":0},{"$f":"AO9/(AQ4-AO11)","v":0},{"$f":"IF(AP9=0,0,(AP9*((LOG(AP9))/LOG(2))))","v":0},null,{"$f":"N9","v":121},{"$f":"COUNTIF(L151:L179,AS9)","v":1},{"$f":"AT9/(AV4-AT11)","v":3.5714285714285712E-2},{"$f":"IF(AU9=0,0,(AU9*((LOG(AU9))/LOG(2))))","v":-0.17169124721634299}]
[12,351,24,366,24,368,null,null,null,null,0,122,null,122,{"$f":"COUNTIF($L$7:$L$500,N10)","v":29},{"$f":"O10/$Q$4","v":0.16763005780346821},{"$f":"IF(P10=0,0,(P10*((LOG(P10))/LOG(2))))","v":-0.4319235245246556},null,null,{"$f":"N10","v":122},{"$f":"COUNTIF(L7:L35,T10)","v":8},{"$f":"U10/(W4-U11)","v":0.27586206896551724},{"$f":"IF(V10=0,0,(V10*((LOG(V10))/LOG(2))))","v":-0.51254648141450265},null,{"$f":"N10","v":122},{"$f":"COUNTIF(L36:L64,Y10)","v":1},{"$f":"Z10/(AB4-Z11)","v":3.7037037037037035E-2},{"$f":"IF(AA10=0,0,(AA10*((LOG(AA10))/LOG(2))))","v":-0.1761069445245729},null,{"$f":"N10","v":122},{"$f":"COUNTIF(L65:L92,AD10)","v":9},{"$f":"AE10/(AG4-AE11)","v":0.32142857142857145},{"$f":"IF(AF10=0,0,(AF10*((LOG(AF10))/LOG(2))))","v":-0.5263167601977724},null,{"$f":"N10","v":122},{"$f":"COUNTIF(L93:L121,AI10)","v":5},{"$f":"AJ10/(AL4-AJ11)","v":0.17241379310344829},{"$f":"IF(AK10=0,0,(AK10*((LOG(AK10))/LOG(2))))","v":-0.43725050004141547},null,{"$f":"N10","v":122},{"$f":"COUNTIF(L122:L150,AN10)","v":1},{"$f":"AO10/(AQ4-AO11)","v":3.4482758620689655E-2},{"$f":"IF(AP10=0,0,(AP10*((LOG(AP10))/LOG(2))))","v":-0.16751658603888178},null,{"$f":"N10","v":122},{"$f":"COUNTIF(L151:L179,AS10)","v":5},{"$f":"AT10/(AV4-AT11)","v":0.17857142857142858},{"$f":"IF(AU10=0,0,(AU10*((LOG(AU10))/LOG(2))))","v":-0.44382621913754317}]
[21,468,11,473,22,476,null,null,null,null,0,212,null,211,{"$f":"COUNTIF($L$7:$L$500,N11)","v":3},{"$f":"O11/$Q$4","v":1.7341040462427744E-2},{"$f":"IF(P11=0,0,(P11*((LOG(P11))/LOG(2))))","v":-0.10143929006211967},null,null,{"$f":"N11","v":211},{"$f":"COUNTIF(L7:L35,T11)","v":0},null,null,null,{"$f":"N11","v":211},{"$f":"COUNTIF(L36:L64,Y11)","v":2},null,null,null,{"$f":"N11","v":211},{"$f":"COUNTIF(L65:L92,AD11)","v":0},null,null,null,{"$f":"N11","v":211},{"$f":"COUNTIF(L93:L121,AI11)","v":0},null,null,null,{"$f":"N11","v":211},{"$f":"COUNTIF(L122:L150,AN11)","v":0},null,null,null,{"$f":"N11","v":211},{"$f":"COUNTIF(L151:L179,AS11)","v":1}]
[21,575,22,581,24,587,null,null,null,null,0,222,null,212,{"$f":"COUNTIF($L$7:$L$500,N12)","v":70},{"$f":"O12/$Q$4","v":0.40462427745664742},{"$f":"IF(P12=0,0,(P12*((LOG(P12))/LOG(2))))","v":-0.52817436270764773},null,null,{"$f":"N12","v":212},{"$f":"COUNTIF(L7:L35,T12)","v":8},{"$f":"U12/(W4-U11)","v":0.27586206896551724},{"$f":"IF(V12=0,0,(V12*((LOG(V12))/LOG(2))))","v":-0.51254648141450265},null,{"$f":"N12","v":212},{"$f":"COUNTIF(L36:L64,Y12)","v":12},{"$f":"Z12/(AB4-Z11)","v":0.44444444444444442},{"$f":"IF(AA12=0,0,(AA12*((LOG(AA12))/LOG(2))))","v":-0.51996666730769447},null,{"$f":"N12","v":212},{"$f":"COUNTIF(L65:L92,AD12)","v":8},{"$f":"AE12/(AG4-AE11)","v":0.2857142857142857},{"$f":"IF(AF12=0,0,(AF12*((LOG(AF12))/LOG(2))))","v":-0.51638712058788683},null,{"$f":"N12","v":212},{"$f":"COUNTIF(L93:L121,AI12)","v":14},{"$f":"AJ12/(AL4-AJ11)","v":0.48275862068965519},{"$f":"IF(AK12=0,0,(AK12*((LOG(AK12))/LOG(2))))","v":-0.50719879389584666},null,{"$f":"N12","v":212},{"$f":"COUNTIF(L122:L150,AN12)","v":14},{"$f":"AO12/(AQ4-AO11)","v":0.48275862068965519},{"$f":"IF(AP12=0,0,(AP12*((LOG(AP12))/LOG(2))))","v":-0.50719879389584666},null,{"$f":"N12","v":212},{"$f":"COUNTIF(L151:L179,AS12)","v":14},{"$f":"AT12/(AV4-AT11)","v":0.5},{"$f":"IF(AU12=0,0,(AU12*((LOG(AU12))/LOG(2))))","v":-0.5}]
[21,709,11,717,22,728,null,null,null,null,0,212,null,221,{"$f":"COUNTIF($L$7:$L$500,N13)","v":11},{"$f":"O13/$Q$4","v":6.358381502890173E-2},{"$f":"IF(P13=0,0,(P13*((LOG(P13))/LOG(2))))","v":-0.252758165890137},null,null,{"$f":"N13","v":221},{"$f":"COUNTIF(L7:L35,T13)","v":1},{"$f":"U13/(W4-U11)","v":3.4482758620689655E-2},{"$f":"IF(V13=0,0,(V13*((LOG(V13))/LOG(2))))","v":-0.16751658603888178},null,{"$f":"N13","v":221},{"$f":"COUNTIF(L36:L64,Y13)","v":1},{"$f":"Z13/(AB4-Z11)","v":3.7037037037037035E-2},{"$f":"IF(AA13=0,0,(AA13*((LOG(AA13))/LOG(2))))","v":-0.1761069445245729},null,{"$f":"N13","v":221},{"$f":"COUNTIF(L65:L92,AD13)","v":2},{"$f":"AE13/(AG4-AE11)","v":7.1428571428571425E-2},{"$f":"IF(AF13=0,0,(AF13*((LOG(AF13))/LOG(2))))","v":-0.27195392300411453},null,{"$f":"N13","v":221},{"$f":"COUNTIF(L93:L121,AI13)","v":2},{"$f":"AJ13/(AL4-AJ11)","v":6.8965517241379309E-2},{"$f":"IF(AK13=0,0,(AK13*((LOG(AK13))/LOG(2))))","v":-0.26606765483638428},null,{"$f":"N13","v":221},{"$f":"COUNTIF(L122:L150,AN13)","v":1},{"$f":"AO13/(AQ4-AO11)","v":3.4482758620689655E-2},{"$f":"IF(AP13=0,0,(AP13*((LOG(AP13))/LOG(2))))","v":-0.16751658603888178},null,{"$f":"N13","v":221},{"$f":"COUNTIF(L151:L179,AS13)","v":4},{"$f":"AT13/(AV4-AT11)","v":0.14285714285714285},{"$f":"IF(AU13=0,0,(AU13*((LOG(AU13))/LOG(2))))","v":-0.40105070315108626}]
[21,956,11,960,22,968,null,null,null,null,0,212,null,222,{"$f":"COUNTIF($L$7:$L$500,N14)","v":53},{"$f":"O14/$Q$4","v":0.30635838150289019},{"$f":"IF(P14=0,0,(P14*((LOG(P14))/LOG(2))))","v":-0.52286423105720725},null,null,{"$f":"N14","v":222},{"$f":"COUNTIF(L7:L35,T14)","v":10},{"$f":"U14/(W4-U11)","v":0.34482758620689657},{"$f":"IF(V14=0,0,(V14*((LOG(V14))/LOG(2))))","v":-0.52967341387593436},null,{"$f":"N14","v":222},{"$f":"COUNTIF(L36:L64,Y14)","v":12},{"$f":"Z14/(AB4-Z11)","v":0.44444444444444442},{"$f":"IF(AA14=0,0,(AA14*((LOG(AA14))/LOG(2))))","v":-0.51996666730769447},null,{"$f":"N14","v":222},{"$f":"COUNTIF(L65:L92,AD14)","v":6},{"$f":"AE14/(AG4-AE11)","v":0.21428571428571427},{"$f":"IF(AF14=0,0,(AF14*((LOG(AF14))/LOG(2))))","v":-0.47622694742923877},null,{"$f":"N14","v":222},{"$f":"COUNTIF(L93:L121,AI14)","v":8},{"$f":"AJ14/(AL4-AJ11)","v":0.27586206896551724},{"$f":"IF(AK14=0,0,(AK14*((LOG(AK14))/LOG(2))))","v":-0.51254648141450265},null,{"$f":"N14","v":222},{"$f":"COUNTIF(L122:L150,AN14)","v":13},{"$f":"AO14/(AQ4-AO11)","v":0.44827586206896552},{"$f":"IF(AP14=0,0,(AP14*((LOG(AP14))/LOG(2))))","v":-0.51889781382152544},null,{"$f":"N14","v":222},{"$f":"COUNTIF(L151:L179,AS14)","v":4},{"$f":"AT14/(AV4-AT11)","v":0.14285714285714285},{"$f":"IF(AU14=0,0,(AU14*((LOG(AU14))/LOG(2))))","v":-0.40105070315108626}]
[21,1071,22,1072,24,1077,null,null,null,null,0,222,null,null,null,{"$f":"SUM(P7:P14)","v":1},{"$f":"-SUM(Q7:Q14)","v":2.0642550082954876},null,null,null,null,{"$f":"SUM(V7:V14)","v":1},{"$f":"-SUM(W7:W14)","v":2.0573161348215852},null,null,null,{"$f":"SUM(AA7:AA14)","v":1},{"$f":"-SUM(AB7:AB14)","v":1.5682541681891076},null,null,null,{"$f":"SUM(AF7:AF14)","v":1},{"$f":"-SUM(AG7:AG14)","v":2.2345299214394703},null,null,null,{"$f":"SUM(AK7:AK14)","v":1},{"$f":"-SUM(AL7:AL14)","v":1.7230634301881491},null,null,null,{"$f":"SUM(AP7:AP14)","v":1},{"$f":"-SUM(AQ7:AQ14)","v":1.3611297797951356},null,null,null,{"$f":"SUM(AU7:AU14)","v":1},{"$f":"-SUM(AV7:AV14)","v":1.917618872656059}]
[12,1169,24,1178,24,1191,null,null,null,null,0,122,null,null,null,"U=",{"$f":"Q15/(LOG(Q4)/LOG(2))","v":0.27765409985425199},null,null,null,null,"U1=",{"$f":"W15/(LOG(W4)/LOG(2))","v":0.42349200972276746},null,null,null,"U2=",{"$f":"AB15/(LOG(AB4)/LOG(2))","v":0.32282015301460126},null,null,null,"U3=",{"$f":"AG15/(LOG(AG4)/LOG(2))","v":0.46481484260435374},null,null,null,"U4=",{"$f":"AL15/(LOG(AL4)/LOG(2))","v":0.35468714923264144},null,null,null,"U5=",{"$f":"AQ15/(LOG(AQ4)/LOG(2))","v":0.28018425373839734},null,null,null,"U6=",{"$f":"AV15/(LOG(AV4)/LOG(2))","v":0.39473577080259897}]
[12,1297,24,1303,24,1309,null,null,null,null,0,122]
[12,1412,24,1423,24,1428,null,null,null,null,0,122]
[12,1523,24,1534,13,1538,null,null,null,null,0,121,null,"Total Target Seq"]
[12,1644,24,1649,24,1653,null,null,null,null,0,122,null,{"$f":"COUNTIF(L7:L179,G3)","v":3},null,29,29,28,29,29,29]
[21,1755,22,1758,13,1761,null,null,null,null,0,221,null,null,null,"% of reinforcement given in 6 equal intervals based on number of trials "]
[21,1861,22,1863,24,1865,null,null,null,null,0,222,null,null,null,"%_1","%_2","%_3","%_4","%_5","%_6"]
[21,1965,11,1972,22,1976,null,null,null,null,0,212,null,null,"target sequence",{"$f":"$G$3","v":211},{"$f":"$G$3","v":211},{"$f":"$G$3","v":211},{"$f":"$G$3","v":211},{"$f":"$G$3","v":211},{"$f":"$G$3","v":211}]
[21,2078,11,2093,22,2106,null,null,null,null,0,212,null,null,"total reinforcement",{"$f":"U11","v":0},{"$f":"Z11","v":2},{"$f":"AE11","v":0},{"$f":"AJ11","v":0},{"$f":"AO11","v":0},{"$f":"AT11","v":1}]
[21,2204,22,2209,24,2217,null,null,null,null,0,222,null,null,"% target"]
[12,2331,24,2347,24,2356,null,null,null,null,0,122,null,null,"CCRF"]
[21,2455,22,2461,24,2467,null,null,null,null,0,222,null,null,"% CCRf"]
[21,2583,11,2589,22,2595,null,null,null,null,0,212,null,null,"average response rate",{"$f":"F35/P20","v":116.55172413793103},{"$f":"(F64-F35)/Q20","v":140.10344827586206},{"$f":"(F92-F64)/R20","v":126.85714285714286},{"$f":"(F121-F92)/S20","v":125.96551724137932},{"$f":"(F150-F121)/T20","v":118.82758620689656},{"$f":"(F179-F150)/U20","v":200.58620689655172}]
[21,2697,22,2701,24,2705,null,null,null,null,0,222]
[12,2809,24,2814,24,2818,null,null,null,null,0,122]
[21,2926,22,2936,24,2940,null,null,null,null,0,222]
[21,3037,22,3041,24,3046,null,null,null,null,0,222]
[21,3144,22,3147,24,3151,null,null,null,null,0,222]
[21,3249,22,3257,24,3262,null,null,null,null,0,222]
[21,3370,11,3374,22,3380,null,null,null,null,0,212]
[21,3478,22,3482,24,3488,null,null,null,null,0,222]
[21,3676,22,3683,24,3693,null,null,null,null,0,222]
[21,3819,11,3823,22,3831,null,null,null,null,0,212]
[21,3969,11,3975,22,3983,null,null,null,null,0,212]
[21,4141,11,4145,11,4149,null,null,null,null,0,211]
[21,4326,22,4336,24,4346,null,null,null,null,0,222]
[21,4450,22,4457,24,4463,null,null,null,null,0,222]
[21,4563,11,4567,22,4573,null,null,null,null,0,212]
[21,4672,11,4677,22,4682,null,null,null,null,0,212]
[21,4827,22,4838,24,4845,null,null,null,null,0,222]
[21,5034,11,5040,22,5050,null,null,null,null,0,212]
[12,5143,24,5150,13,5153,null,null,null,null,0,121]
[21,5251,22,5255,13,5260,null,null,null,null,0,221]
[21,5377,11,5381,11,5383,null,null,null,null,0,211]
[21,5654,11,5665,22,5677,null,null,null,null,0,212]
[21,5813,11,5820,22,5825,null,null,null,null,0,212]
[21,5918,22,5922,24,5927,null,null,null,null,0,222]
[21,6026,22,6033,24,6040,null,null,null,null,0,222]
[21,6136,22,6140,24,6145,null,null,null,null,0,222]
[21,6251,11,6256,22,6286,null,null,null,null,0,212]
[21,6474,11,6479,22,6485,null,null,null,null,0,212]
[21,6577,22,6581,24,6587,null,null,null,null,0,222]
[21,6683,11,6687,22,6690,null,null,null,null,0,212]
[21,6785,22,6791,24,6798,null,null,null,null,0,222]
[21,6892,22,6902,24,6909,null,null,null,null,0,222]
[21,7028,11,7035,22,7039,null,null,null,null,0,212]
[21,7228,11,7233,22,7236,null,null,null,null,0,212]
[21,7331,22,7335,24,7339,null,null,null,null,0,222]
[12,7434,24,7436,24,7443,null,null,null,null,0,122]
[21,7540,11,7544,22,7548,null,null,null,null,0,212]
[21,7644,22,7648,24,7656,null,null,null,null,0,222]
[12,7751,24,7757,24,7762,null,null,null,null,0,122]
[12,7854,24,7861,24,7865,null,null,null,null,0,122]
[12,7956,24,7965,24,7972,null,null,null,null,0,122]
[21,8190,22,8205,24,8212,null,null,null,null,0,222]
[21,8537,11,8544,22,8551,null,null,null,null,0,212]
[12,8644,24,8647,24,8652,null,null,null,null,0,122]
[12,8744,24,8758,24,8763,null,null,null,null,0,122]
[21,8861,22,8863,24,8868,null,null,null,null,0,222]
[21,8963,22,8966,24,8972,null,null,null,null,0,222]
[21,9096,22,9102,13,9106,null,null,null,null,0,221]
[21,9247,11,9253,22,9258,null,null,null,null,0,212]
[21,9355,11,9357,22,9361,null,null,null,null,0,212]
[21,9459,22,9464,24,9469,null,null,null,null,0,222]
[12,9567,24,9571,24,9576,null,null,null,null,0,122]
[21,9673,22,9676,13,9681,null,null,null,null,0,221]
[12,9774,24,9778,24,9783,null,null,null,null,0,122]
[21,9880,11,9886,22,9889,null,null,null,null,0,212]
[12,9981,13,9986,24,9990,null,null,null,null,0,112]
[21,10141,11,10147,22,10158,null,null,null,null,0,212]
[21,10315,11,10322,22,10329,null,null,null,null,0,212]
[12,10422,24,10429,24,10433,null,null,null,null,0,122]
[12,10527,24,10534,24,10542,null,null,null,null,0,122]
[12,10639,13,10647,24,10654,null,null,null,null,0,112]
[21,10763,11,10767,22,10779,null,null,null,null,0,212]
[12,10875,24,10877,13,10878,null,null,null,null,0,121]
[21,10984,22,10988,24,10995,null,null,null,null,0,222]
[21,11093,11,11095,22,11097,null,null,null,null,0,212]
[21,11189,22,11196,24,11203,null,null,null,null,0,222]
[12,11296,24,11300,24,11304,null,null,null,null,0,122]
[21,11401,22,11411,24,11415,null,null,null,null,0,222]
[21,11516,22,11522,24,11529,null,null,null,null,0,222]
[21,11628,22,11632,13,11634,null,null,null,null,0,221]
[21,11741,11,11746,22,11749,null,null,null,null,0,212]
[21,11839,11,11844,22,11846,null,null,null,null,0,212]
[21,12013,11,12018,22,12029,null,null,null,null,0,212]
[21,12127,22,12131,13,12133,null,null,null,null,0,221]
[21,12237,11,12240,22,12249,null,null,null,null,0,212]
[21,12504,11,12508,22,12510,null,null,null,null,0,212]
[21,12619,11,12624,22,12630,null,null,null,null,0,212]
[12,12727,24,12733,24,12738,null,null,null,null,0,122]
[21,12903,22,12908,24,12914,null,null,null,null,0,222]
[21,13016,11,13019,22,13024,null,null,null,null,0,212]
[12,13117,24,13122,24,13127,null,null,null,null,0,122]
[21,13295,22,13311,24,13320,null,null,null,null,0,222]
[21,13531,11,13544,22,13547,null,null,null,null,0,212]
[21,13645,22,13649,24,13654,null,null,null,null,0,222]
[21,13747,11,13750,22,13756,null,null,null,null,0,212]
[12,13849,24,13855,24,13860,null,null,null,null,0,122]
[21,13951,11,13959,22,13968,null,null,null,null,0,212]
[21,14083,11,14090,22,14094,null,null,null,null,0,212]
[21,14196,11,14203,22,14209,null,null,null,null,0,212]
[21,14303,22,14308,24,14312,null,null,null,null,0,222]
[21,14413,11,14417,22,14421,null,null,null,null,0,212]
[12,14513,24,14520,24,14534,null,null,null,null,0,122]
[21,14636,22,14643,24,14648,null,null,null,null,0,222]
[21,14740,11,14751,22,14762,null,null,null,null,0,212]
[21,14860,11,14865,22,14871,null,null,null,null,0,212]
[21,14967,22,14971,24,14977,null,null,null,null,0,222]
[21,15076,22,15080,24,15084,null,null,null,null,0,222]
[21,15185,11,15189,22,15196,null,null,null,null,0,212]
[21,15289,11,15293,22,15295,null,null,null,null,0,212]
[21,15400,11,15409,22,15417,null,null,null,null,0,212]
[21,15566,11,15572,22,15578,null,null,null,null,0,212]
[21,15672,11,15675,22,15686,null,null,null,null,0,212]
[21,15866,11,15875,22,15886,null,null,null,null,0,212]
[21,15986,22,15991,24,15997,null,null,null,null,0,222]
[21,16104,22,16109,24,16113,null,null,null,null,0,222]
[21,16209,11,16215,22,16222,null,null,null,null,0,212]
[21,16324,22,16328,24,16334,null,null,null,null,0,222]
[21,16431,22,16434,24,16439,null,null,null,null,0,222]
[21,16535,22,16542,24,16551,null,null,null,null,0,222]
[12,16639,24,16646,24,16653,null,null,null,null,0,122]
[21,16772,11,16780,22,16781,null,null,null,null,0,212]
[21,16885,11,16891,22,16895,null,null,null,null,0,212]
[21,16993,22,16996,24,17002,null,null,null,null,0,222]
[21,17099,22,17105,24,17110,null,null,null,null,0,222]
[21,17208,22,17213,13,17216,null,null,null,null,0,221]
[21,17313,22,17321,24,17327,null,null,null,null,0,222]
[21,17422,22,17428,24,17434,null,null,null,null,0,222]
[21,17551,11,17557,22,17566,null,null,null,null,0,212]
[21,17743,11,17747,22,17755,null,null,null,null,0,212]
[21,17854,11,17858,22,17864,null,null,null,null,0,212]
[21,17963,22,17967,24,17980,null,null,null,null,0,222]
[21,18082,22,18087,24,18094,null,null,null,null,0,222]
[21,18189,22,18194,13,18197,null,null,null,null,0,221]
[21,18295,22,18299,13,18302,null,null,null,null,0,221]
[21,18407,11,18412,22,18416,null,null,null,null,0,212]
[21,18523,11,18528,22,18533,null,null,null,null,0,212]
[21,18665,11,18672,22,18680,null,null,null,null,0,212]
[21,18797,11,18800,11,18803,null,null,null,null,0,211]
[21,18971,11,18984,22,18993,null,null,null,null,0,212]
[21,19175,11,19183,22,19190,null,null,null,null,0,212]
[21,19300,11,19306,22,19314,null,null,null,null,0,212]
[21,19439,11,19445,22,19448,null,null,null,null,0,212]
[21,19593,11,19598,22,19605,null,null,null,null,0,212]
[21,19711,11,19718,22,19720,null,null,null,null,0,212]
[21,19814,22,19819,24,19826,null,null,null,null,0,222]
[21,19922,11,19928,22,19930,null,null,null,null,0,212]
[21,20026,11,20036,22,20038,null,null,null,null,0,212]
[21,20215,11,20220,22,20226,null,null,null,null,0,212]
[12,20318,24,20322,24,20326,null,null,null,null,0,122]
[12,20419,24,20430,24,20434,null,null,null,null,0,122]
[21,20529,22,20533,24,20538,null,null,null,null,0,222]
[12,20631,24,20633,24,20638,null,null,null,null,0,122]
[21,20734,11,20739,22,20742,null,null,null,null,0,212]
[21,20837,11,20839,22,20842,null,null,null,null,0,212]
[12,20936,24,20938,24,20943,null,null,null,null,0,122]
[12,21046,24,21054,13,21062,null,null,null,null,0,121]
[21,21204,22,21218,13,21221,null,null,null,null,0,221]
[21,21438,22,21442,13,21447,null,null,null,null,0,221]
[21,21607,22,21612,24,21618,null,null,null,null,0,222]
[12,21909,24,22073,24,22090,null,null,null,null,0,122]
[21,23899,22,23907,24,23911,null,null,null,null,0,222]

{"sheet":"!N217930.Gus","index":23,"n_rows":154,"n_cols":48,"rows_kept":154,"cut":false,"hidden":false,"merged":[[4,39,4,42],[5,39,5,40],[4,44,4,47],[5,44,5,45],[4,24,4,27],[5,24,5,25],[4,29,4,32],[5,29,5,30],[4,34,4,37],[5,34,5,35],[1,1,1,2],[5,13,5,14],[18,13,18,14],[19,13,19,14],[4,19,4,22],[5,19,5,20]]}
["Report for:!N217930.Gus"]
["Date:","<date>"]
["Hen:","<hen>",null,null,null,"Correct Sequence",{"$f":"Start!J2","v":211},null,null,null,null,null,null,null,null,"Total Sequences in Data",{"$f":"4994-COUNTBLANK(L7:L5000)","v":148},null,null,null,null,"Total Sequences in Block Data",{"$f":"COUNTA(L7:L31)","v":25},null,null,null,"Total Sequences in Block Data",{"$f":"COUNTA(L32:L55)","v":24},null,null,null,"Total Sequences in Block Data",{"$f":"COUNTA(L56:L80)","v":25},null,null,null,"Total Sequences in Block Data",{"$f":"COUNTA(L81:L105)","v":25},null,null,null,"Total Sequences in Block Data",{"$f":"COUNTA(L106:L129)","v":24},null,null,null,"Total Sequences in Block Data",{"$f":"COUNTA(L130:L154)","v":25}]
[null,null,null,null,null,null,null,null,null,null,null,null,null,null,null,"Total Sequences in Summary",{"$f":"SUM(O7:O14)","v":148},null,null,null,null,"Total Sequences in Block Summary",{"$f":"SUM(U7:U14)","v":25},null,null,null,"Total Sequences in Block Summary",{"$f":"SUM(Z7:Z14)","v":24},null,null,null,"Total Sequences in Block Summary",{"$f":"SUM(AE7:AE14)","v":25},null,null,null,"Total Sequences in Block Summary",{"$f":"SUM(AJ7:AJ14)","v":25},null,null,null,"Total Sequences in Block Summary",{"$f":"SUM(AO7:AO14)","v":24},null,null,null,"Total Sequences in Block Summary",{"$f":"SUM(AT7:AT14)","v":25}]
[null,null,null,null,null,null,null,null,null,null,null,null,null,null,null,null,null,null,null,"Block 1",null,null,null,null,"Block 2",null,null,null,null,"Block 3",null,null,null,null,"Block 4",null,null,null,null,"Block 5",null,null,null,null,"Block 6"]
["Sequence\nComponent\n1","Time\n1","Sequence\nComponent\n2","Time\n2","Sequence\nComponent\n3","Time\n3","Sequence\nComponent\n4","Time\n4","Sequence\nComponent\n5","Time\n5","Correct?\n0=No 1=Yes","Sequence",null,"Frequency",null,"Relative Frequency","Variability",null,null,"Frequency",null,"Relative Frequency","Variability",null,"Frequency",null,"Relative Frequency","Variability",null,"Frequency",null,"Relative Frequency","Variability",null,"Frequency",null,"Relative Frequency","Variability",null,"Frequency",null,"Relative Frequency","Variability",null,"Frequency",null,"Relative Frequency","Variability"]
[21,107,22,112,24,118,null,null,null,null,0,222,null,111,{"$f":"COUNTIF($L$7:$L$500,N7)","v":0},{"$f":"O7/$Q$4","v":0},{"$f":"IF(P7=0,0,(P7*((LOG(P7))/LOG(2))))","v":0},null,null,{"$f":"N7","v":111},{"$f":"COUNTIF(L7:L31,T7)","v":0},{"$f":"U7/(W4-U11)","v":0},{"$f":"IF(V7=0,0,(V7*((LOG(V7))/LOG(2))))","v":0},null,{"$f":"N7","v":111},{"$f":"COUNTIF(L32:L55,Y7)","v":0},{"$f":"Z7/(AB4-Z11)","v":0},{"$f":"IF(AA7=0,0,(AA7*((LOG(AA7))/LOG(2))))","v":0},null,{"$f":"N7","v":111},{"$f":"COUNTIF(L56:L80,AD7)","v":0},{"$f":"AE7/(AG4-AE11)","v":0},{"$f":"IF(AF7=0,0,(AF7*((LOG(AF7))/LOG(2))))","v":0},null,{"$f":"N7","v":111},{"$f":"COUNTIF(L81:L105,AI7)","v":0},{"$f":"AJ7/(AL4-AJ11)","v":0},{"$f":"IF(AK7=0,0,(AK7*((LOG(AK7))/LOG(2))))","v":0},null,{"$f":"N7","v":111},{"$f":"COUNTIF(L106:L129,AN7)","v":0},{"$f":"AO7/(AQ4-AO11)","v":0},{"$f":"IF(AP7=0,0,(AP7*((LOG(AP7))/LOG(2))))","v":0},null,{"$f":"N7","v":111},{"$f":"COUNTIF(L130:L154,AS7)","v":0},{"$f":"AT7/(AV4-AT11)","v":0},{"$f":"IF(AU7=0,0,(AU7*((LOG(AU7))/LOG(2))))","v":0}]
[21,210,11,223,22,226,null,null,null,null,0,212,null,112,{"$f":"COUNTIF($L$7:$L$500,N8)","v":0},{"$f":"O8/$Q$4","v":0},{"$f":"IF(P8=0,0,(P8*((LOG(P8))/LOG(2))))","v":0},null,null,{"$f":"N8","v":112},{"$f":"COUNTIF(L7:L31,T8)","v":0},{"$f":"U8/(W4-U11)","v":0},{"$f":"IF(V8=0,0,(V8*((LOG(V8))/LOG(2))))","v":0},null,{"$f":"N8","v":112},{"$f":"COUNTIF(L32:L55,Y8)","v":0},{"$f":"Z8/(AB4-Z11)","v":0},{"$f":"IF(AA8=0,0,(AA8*((LOG(AA8))/LOG(2))))","v":0},null,{"$f":"N8","v":112},{"$f":"COUNTIF(L56:L80,AD8)","v":0},{"$f":"AE8/(AG4-AE11)","v":0},{"$f":"IF(AF8=0,0,(AF8*((LOG(AF8))/LOG(2))))","v":0},null,{"$f":"N8","v":112},{"$f":"COUNTIF(L81:L105,AI8)","v":0},{"$f":"AJ8/(AL4-AJ11)","v":0},{"$f":"IF(AK8=0,0,(AK8*((LOG(AK8))/LOG(2))))","v":0},null,{"$f":"N8","v":112},{"$f":"COUNTIF(L106:L129,AN8)","v":0},{"$f":"AO8/(AQ4-AO11)","v":0},{"$f":"IF(AP8=0,0,(AP8*((LOG(AP8))/LOG(2))))","v":0},null,{"$f":"N8","v":112},{"$f":"COUNTIF(L130:L154,AS8)","v":0},{"$f":"AT8/(AV4-AT11)","v":0},{"$f":"IF(AU8=0,0,(AU8*((LOG(AU8))/LOG(2))))","v":0}]
[21,426,22,436,24,442,null,null,null,null,0,222,null,121,{"$f":"COUNTIF($L$7:$L$500,N9)","v":1},{"$f":"O9/$Q$4","v":6.7567567567567571E-3},{"$f":"IF(P9=0,0,(P9*((LOG(P9))/LOG(2))))","v":-4.8712522740736154E-2},null,null,{"$f":"N9","v":121},{"$f":"COUNTIF(L7:L31,T9)","v":0},{"$f":"U9/(W4-U11)","v":0},{"$f":"IF(V9=0,0,(V9*((LOG(V9))/LOG(2))))","v":0},null,{"$f":"N9","v":121},{"$f":"COUNTIF(L32:L55,Y9)","v":1},{"$f":"Z9/(AB4-Z11)","v":4.5454545454545456E-2},{"$f":"IF(AA9=0,0,(AA9*((LOG(AA9))/LOG(2))))","v":-0.20270143721078623},null,{"$f":"N9","v":121},{"$f":"COUNTIF(L56:L80,AD9)","v":0},{"$f":"AE9/(AG4-AE11)","v":0},{"$f":"IF(AF9=0,0,(AF9*((LOG(AF9))/LOG(2))))","v":0},null,{"$f":"N9","v":121},{"$f":"COUNTIF(L81:L105,AI9)","v":0},{"$f":"AJ9/(AL4-AJ11)","v":0},{"$f":"IF(AK9=0,0,(AK9*((LOG(AK9))/LOG(2))))","v":0},null,{"$f":"N9","v":121},{"$f":"COUNTIF(L106:L129,AN9)","v":0},{"$f":"AO9/(AQ4-AO11)","v":0},{"$f":"IF(AP9=0,0,(AP9*((LOG(AP9))/LOG(2))))","v":0},null,{"$f":"N9","v":121},{"$f":"COUNTIF(L130:L154,AS9)","v":0},{"$f":"AT9/(AV4-AT11)","v":0},{"$f":"IF(AU9=0,0,(AU9*((LOG(AU9))/LOG(2))))","v":0}]
[21,580,22,590,24,601,null,null,null,null,0,222,null,122,{"$f":"COUNTIF($L$7:$L$500,N10)","v":26},{"$f":"O10/$Q$4","v":0.17567567567567569},{"$f":"IF(P10=0,0,(P10*((LOG(P10))/LOG(2))))","v":-0.44077266780192093},null,null,{"$f":"N10","v":122},{"$f":"COUNTIF(L7:L31,T10)","v":3},{"$f":"U10/(W4-U11)","v":0.12},{"$f":"IF(V10=0,0,(V10*((LOG(V10))/LOG(2))))","v":-0.36706724268642821},null,{"$f":"N10","v":122},{"$f":"COUNTIF(L32:L55,Y10)","v":8},{"$f":"Z10/(AB4-Z11)","v":0.36363636363636365},{"$f":"IF(AA10=0,0,(AA10*((LOG(AA10))/LOG(2))))","v":-0.53070240677719893},null,{"$f":"N10","v":122},{"$f":"COUNTIF(L56:L80,AD10)","v":5},{"$f":"AE10/(AG4-AE11)","v":0.2},{"$f":"IF(AF10=0,0,(AF10*((LOG(AF10))/LOG(2))))","v":-0.46438561897747244},null,{"$f":"N10","v":122},{"$f":"COUNTIF(L81:L105,AI10)","v":5},{"$f":"AJ10/(AL4-AJ11)","v":0.20833333333333334},{"$f":"IF(AK10=0,0,(AK10*((LOG(AK10))/LOG(2))))","v":-0.47146550121537367},null,{"$f":"N10","v":122},{"$f":"COUNTIF(L106:L129,AN10)","v":4},{"$f":"AO10/(AQ4-AO11)","v":0.16666666666666666},{"$f":"IF(AP10=0,0,(AP10*((LOG(AP10))/LOG(2))))","v":-0.43082708345352599},null,{"$f":"N10","v":122},{"$f":"COUNTIF(L130:L154,AS10)","v":1},{"$f":"AT10/(AV4-AT11)","v":0.04},{"$f":"IF(AU10=0,0,(AU10*((LOG(AU10))/LOG(2))))","v":-0.18575424759098899}]
[21,718,22,727,24,734,null,null,null,null,0,222,null,211,{"$f":"COUNTIF($L$7:$L$500,N11)","v":3},{"$f":"O11/$Q$4","v":2.0270270270270271E-2},{"$f":"IF(P11=0,0,(P11*((LOG(P11))/LOG(2))))","v":-0.11400994996434717},null,null,{"$f":"N11","v":211},{"$f":"COUNTIF(L7:L31,T11)","v":0},null,null,null,{"$f":"N11","v":211},{"$f":"COUNTIF(L32:L55,Y11)","v":2},null,null,null,{"$f":"N11","v":211},{"$f":"COUNTIF(L56:L80,AD11)","v":0},null,null,null,{"$f":"N11","v":211},{"$f":"COUNTIF(L81:L105,AI11)","v":1},null,null,null,{"$f":"N11","v":211},{"$f":"COUNTIF(L106:L129,AN11)","v":0},null,null,null,{"$f":"N11","v":211},{"$f":"COUNTIF(L130:L154,AS11)","v":0}]
[21,843,22,852,24,858,null,null,null,null,0,222,null,212,{"$f":"COUNTIF($L$7:$L$500,N12)","v":34},{"$f":"O12/$Q$4","v":0.22972972972972974},{"$f":"IF(P12=0,0,(P12*((LOG(P12))/LOG(2))))","v":-0.48748430965454559},null,null,{"$f":"N12","v":212},{"$f":"COUNTIF(L7:L31,T12)","v":5},{"$f":"U12/(W4-U11)","v":0.2},{"$f":"IF(V12=0,0,(V12*((LOG(V12))/LOG(2))))","v":-0.46438561897747244},null,{"$f":"N12","v":212},{"$f":"COUNTIF(L32:L55,Y12)","v":5},{"$f":"Z12/(AB4-Z11)","v":0.22727272727272727},{"$f":"IF(AA12=0,0,(AA12*((LOG(AA12))/LOG(2))))","v":-0.48579625539771243},null,{"$f":"N12","v":212},{"$f":"COUNTIF(L56:L80,AD12)","v":7},{"$f":"AE12/(AG4-AE11)","v":0.28000000000000003},{"$f":"IF(AF12=0,0,(AF12*((LOG(AF12))/LOG(2))))","v":-0.51422035496079388},null,{"$f":"N12","v":212},{"$f":"COUNTIF(L81:L105,AI12)","v":4},{"$f":"AJ12/(AL4-AJ11)","v":0.16666666666666666},{"$f":"IF(AK12=0,0,(AK12*((LOG(AK12))/LOG(2))))","v":-0.43082708345352599},null,{"$f":"N12","v":212},{"$f":"COUNTIF(L106:L129,AN12)","v":7},{"$f":"AO12/(AQ4-AO11)","v":0.29166666666666669},{"$f":"IF(AP12=0,0,(AP12*((LOG(AP12))/LOG(2))))","v":-0.51846887711020273},null,{"$f":"N12","v":212},{"$f":"COUNTIF(L130:L154,AS12)","v":6},{"$f":"AT12/(AV4-AT11)","v":0.24},{"$f":"IF(AU12=0,0,(AU12*((LOG(AU12))/LOG(2))))","v":-0.49413448537285637}]
[21,964,22,967,24,979,null,null,null,null,0,222,null,221,{"$f":"COUNTIF($L$7:$L$500,N13)","v":6},{"$f":"O13/$Q$4","v":4.0540540540540543E-2},{"$f":"IF(P13=0,0,(P13*((LOG(P13))/LOG(2))))","v":-0.1874793593881538},null,null,{"$f":"N13","v":221},{"$f":"COUNTIF(L7:L31,T13)","v":1},{"$f":"U13/(W4-U11)","v":0.04},{"$f":"IF(V13=0,0,(V13*((LOG(V13))/LOG(2))))","v":-0.18575424759098899},null,{"$f":"N13","v":221},{"$f":"COUNTIF(L32:L55,Y13)","v":1},{"$f":"Z13/(AB4-Z11)","v":4.5454545454545456E-2},{"$f":"IF(AA13=0,0,(AA13*((LOG(AA13))/LOG(2))))","v":-0.20270143721078623},null,{"$f":"N13","v":221},{"$f":"COUNTIF(L56:L80,AD13)","v":1},{"$f":"AE13/(AG4-AE11)","v":0.04},{"$f":"IF(AF13=0,0,(AF13*((LOG(AF13))/LOG(2))))","v":-0.18575424759098899},null,{"$f":"N13","v":221},{"$f":"COUNTIF(L81:L105,AI13)","v":1},{"$f":"AJ13/(AL4-AJ11)","v":4.1666666666666664E-2},{"$f":"IF(AK13=0,0,(AK13*((LOG(AK13))/LOG(2))))","v":-0.19104010419671485},null,{"$f":"N13","v":221},{"$f":"COUNTIF(L106:L129,AN13)","v":1},{"$f":"AO13/(AQ4-AO11)","v":4.1666666666666664E-2},{"$f":"IF(AP13=0,0,(AP13*((LOG(AP13))/LOG(2))))","v":-0.19104010419671485},null,{"$f":"N13","v":221},{"$f":"COUNTIF(L130:L154,AS13)","v":1},{"$f":"AT13/(AV4-AT11)","v":0.04},{"$f":"IF(AU13=0,0,(AU13*((LOG(AU13))/LOG(2))))","v":-0.18575424759098899}]
[21,1081,22,1085,24,1095,null,null,null,null,0,222,null,222,{"$f":"COUNTIF($L$7:$L$500,N14)","v":78},{"$f":"O14/$Q$4","v":0.52702702702702697},{"$f":"IF(P14=0,0,(P14*((LOG(P14))/LOG(2))))","v":-0.48699992870136966},null,null,{"$f":"N14","v":222},{"$f":"COUNTIF(L7:L31,T14)","v":16},{"$f":"U14/(W4-U11)","v":0.64},{"$f":"IF(V14=0,0,(V14*((LOG(V14))/LOG(2))))","v":-0.41206796145582375},null,{"$f":"N14","v":222},{"$f":"COUNTIF(L32:L55,Y14)","v":7},{"$f":"Z14/(AB4-Z11)","v":0.31818181818181818},{"$f":"IF(AA14=0,0,(AA14*((LOG(AA14))/LOG(2))))","v":-0.52566076709353871},null,{"$f":"N14","v":222},{"$f":"COUNTIF(L56:L80,AD14)","v":12},{"$f":"AE14/(AG4-AE11)","v":0.48},{"$f":"IF(AF14=0,0,(AF14*((LOG(AF14))/LOG(2))))","v":-0.50826897074571287},null,{"$f":"N14","v":222},{"$f":"COUNTIF(L81:L105,AI14)","v":14},{"$f":"AJ14/(AL4-AJ11)","v":0.58333333333333337},{"$f":"IF(AK14=0,0,(AK14*((LOG(AK14))/LOG(2))))","v":-0.45360442088707198},null,{"$f":"N14","v":222},{"$f":"COUNTIF(L106:L129,AN14)","v":12},{"$f":"AO14/(AQ4-AO11)","v":0.5},{"$f":"IF(AP14=0,0,(AP14*((LOG(AP14))/LOG(2))))","v":-0.5},null,{"$f":"N14","v":222},{"$f":"COUNTIF(L130:L154,AS14)","v":17},{"$f":"AT14/(AV4-AT11)","v":0.68},{"$f":"IF(AU14=0,0,(AU14*((LOG(AU14))/LOG(2))))","v":-0.378347476996582}]
[12,1201,24,1205,24,1208,null,null,null,null,0,122,null,null,null,{"$f":"SUM(P7:P14)","v":1},{"$f":"-SUM(Q7:Q14)","v":1.7654587382510734},null,null,null,null,{"$f":"SUM(V7:V14)","v":1},{"$f":"-SUM(W7:W14)","v":1.4292750707107134},null,null,null,{"$f":"SUM(AA7:AA14)","v":1},{"$f":"-SUM(AB7:AB14)","v":1.9475623036900227},null,null,null,{"$f":"SUM(AF7:AF14)","v":1},{"$f":"-SUM(AG7:AG14)","v":1.6726291922749681},null,null,null,{"$f":"SUM(AK7:AK14)","v":1},{"$f":"-SUM(AL7:AL14)","v":1.5469371097526865},null,null,null,{"$f":"SUM(AP7:AP14)","v":1},{"$f":"-SUM(AQ7:AQ14)","v":1.6403360647604437},null,null,null,{"$f":"SUM(AU7:AU14)","v":1},{"$f":"-SUM(AV7:AV14)","v":1.2439904575514165}]
[21,1522,22,1541,24,1549,null,null,null,null,0,222,null,null,null,"U=",{"$f":"Q15/(LOG(Q4)/LOG(2))","v":0.24488108164592523},null,null,null,null,"U1=",{"$f":"W15/(LOG(W4)/LOG(2))","v":0.30777763399689773},null,null,null,"U2=",{"$f":"AB15/(LOG(AB4)/LOG(2))","v":0.4247716973440232},null,null,null,"U3=",{"$f":"AG15/(LOG(AG4)/LOG(2))","v":0.36018109173103136},null,null,null,"U4=",{"$f":"AL15/(LOG(AL4)/LOG(2))","v":0.33311477499214481},null,null,null,"U5=",{"$f":"AQ15/(LOG(AQ4)/LOG(2))","v":0.35776433602290963},null,null,null,"U6=",{"$f":"AV15/(LOG(AV4)/LOG(2))","v":0.26787876426719465}]
[21,1648,22,1655,24,1659,null,null,null,null,0,222]
[21,1757,22,1761,13,1765,null,null,null,null,0,221]
[12,1859,24,1876,24,1880,null,null,null,null,0,122,null,"Total Target Seq"]
[12,1983,24,1986,24,1995,null,null,null,null,0,122,null,{"$f":"COUNTIF(L7:L154,G3)","v":3},null,25,24,25,25,24,25]
[21,2096,22,2100,24,2106,null,null,null,null,0,222,null,null,null,"% of reinforcement given in 6 equal intervals based on number of trials "]
[21,2219,11,2227,22,2229,null,null,null,null,0,212,null,null,null,"%_1","%_2","%_3","%_4","%_5","%_6"]
[21,2361,22,2371,24,2380,null,null,null,null,0,222,null,null,"target sequence",{"$f":"$G$3","v":211},{"$f":"$G$3","v":211},{"$f":"$G$3","v":211},{"$f":"$G$3","v":211},{"$f":"$G$3","v":211},{"$f":"$G$3","v":211}]
[21,2506,11,2510,22,2516,null,null,null,null,0,212,null,null,"total reinforcement",{"$f":"U11","v":0},{"$f":"Z11","v":2},{"$f":"AE11","v":0},{"$f":"AJ11","v":1},{"$f":"AO11","v":0},{"$f":"AT11","v":0}]
[21,2616,22,2619,24,2625,null,null,null,null,0,222,null,null,"% target"]
[21,2735,11,2742,22,2745,null,null,null,null,0,212,null,null,"CCRF"]
[21,2843,22,2850,24,2856,null,null,null,null,0,222,null,null,"% CCRf"]
[21,2963,22,2967,24,2972,null,null,null,null,0,222,null,null,"average response rate",{"$f":"F31/P20","v":140.80000000000001},{"$f":"(F55-F31)/Q20","v":147.91666666666666},{"$f":"(F80-F55)/R20","v":132.56},{"$f":"(F105-F80)/S20","v":139.24},{"$f":"(F129-F105)/T20","v":153.54166666666666},{"$f":"(F154-F129)/U20","v":253.52}]
[21,3076,22,3083,24,3088,null,null,null,null,0,222]
[21,3221,22,3226,24,3232,null,null,null,null,0,222]
[21,3510,11,3514,22,3520,null,null,null,null,0,212]
[21,3616,22,3628,24,3636,null,null,null,null,0,222]
[12,3728,24,3734,24,3738,null,null,null,null,0,122]
[21,3837,22,3844,13,3847,null,null,null,null,0,221]
[12,3940,24,3943,24,3946,null,null,null,null,0,122]
[12,4039,24,4043,24,4045,null,null,null,null,0,122]
[21,4144,11,4147,22,4153,null,null,null,null,0,212]
[21,4249,22,4253,24,4259,null,null,null,null,0,222]
[12,4405,24,4410,24,4422,null,null,null,null,0,122]
[12,4516,24,4519,24,4521,null,null,null,null,0,122]
[21,4618,11,4625,22,4630,null,null,null,null,0,212]
[21,4904,11,4910,22,4916,null,null,null,null,0,212]
[21,5040,22,5046,24,5060,null,null,null,null,0,222]
[21,5192,11,5195,11,5197,null,null,null,null,0,211]
[21,5386,11,5393,11,5395,null,null,null,null,0,211]
[21,5854,22,5863,24,5870,null,null,null,null,0,222]
[12,5964,24,5973,24,5980,null,null,null,null,0,122]
[12,6077,24,6088,24,6092,null,null,null,null,0,122]
[21,6384,22,6400,24,6415,null,null,null,null,0,222]
[21,6514,22,6522,24,6528,null,null,null,null,0,222]
[12,6623,24,6625,13,6629,null,null,null,null,0,121]
[21,6738,22,6750,24,6757,null,null,null,null,0,222]
[21,6853,11,6859,22,6864,null,null,null,null,0,212]
[12,6957,24,6964,24,6968,null,null,null,null,0,122]
[21,7063,11,7065,22,7070,null,null,null,null,0,212]
[21,7166,22,7171,24,7178,null,null,null,null,0,222]
[21,7273,22,7277,24,7282,null,null,null,null,0,222]
[21,7379,22,7386,13,7390,null,null,null,null,0,221]
[12,7479,24,7495,24,7504,null,null,null,null,0,122]
[21,7618,11,7623,22,7629,null,null,null,null,0,212]
[21,7877,22,7885,24,7894,null,null,null,null,0,222]
[21,7996,22,8009,24,8016,null,null,null,null,0,222]
[21,8114,22,8116,24,8120,null,null,null,null,0,222]
[21,8215,11,8220,22,8223,null,null,null,null,0,212]
[21,8326,22,8329,24,8335,null,null,null,null,0,222]
[21,8435,22,8445,24,8452,null,null,null,null,0,222]
[21,8551,22,8555,24,8560,null,null,null,null,0,222]
[12,8653,24,8656,24,8668,null,null,null,null,0,122]
[21,8958,11,8966,22,8970,null,null,null,null,0,212]
[21,9067,11,9070,22,9074,null,null,null,null,0,212]
[21,9167,22,9171,24,9176,null,null,null,null,0,222]
[12,9274,24,9278,24,9287,null,null,null,null,0,122]
[12,9382,24,9386,24,9391,null,null,null,null,0,122]
[21,9491,11,9492,22,9495,null,null,null,null,0,212]
[21,9592,22,9596,24,9603,null,null,null,null,0,222]
[21,9722,22,9731,24,9737,null,null,null,null,0,222]
[21,9860,22,9865,24,9872,null,null,null,null,0,222]
[12,9968,24,9984,24,9988,null,null,null,null,0,122]
[21,10078,11,10083,22,10094,null,null,null,null,0,212]
[21,10369,11,10377,22,10384,null,null,null,null,0,212]
[21,10488,22,10491,24,10496,null,null,null,null,0,222]
[12,10595,24,10607,24,10610,null,null,null,null,0,122]
[21,10700,11,10705,11,10708,null,null,null,null,0,211]
[21,10809,11,10823,22,10829,null,null,null,null,0,212]
[21,11222,22,11237,24,11245,null,null,null,null,0,222]
[21,11345,11,11349,22,11351,null,null,null,null,0,212]
[21,11439,11,11443,22,11448,null,null,null,null,0,212]
[21,11566,11,11574,22,11576,null,null,null,null,0,212]
[21,11675,22,11681,24,11687,null,null,null,null,0,222]
[21,11792,22,11803,24,11811,null,null,null,null,0,222]
[21,11912,22,11915,24,11920,null,null,null,null,0,222]
[21,12016,22,12019,24,12023,null,null,null,null,0,222]
[12,12119,24,12122,24,12126,null,null,null,null,0,122]
[21,12223,22,12227,24,12231,null,null,null,null,0,222]
[21,12335,22,12343,24,12350,null,null,null,null,0,222]
[21,12498,22,12506,24,12512,null,null,null,null,0,222]
[12,12602,24,12606,24,12615,null,null,null,null,0,122]
[21,12894,22,12908,24,12914,null,null,null,null,0,222]
[21,13011,22,13016,24,13022,null,null,null,null,0,222]
[21,13122,22,13126,24,13131,null,null,null,null,0,222]
[12,13227,24,13229,24,13234,null,null,null,null,0,122]
[21,13325,22,13331,13,13336,null,null,null,null,0,221]
[21,13626,22,13636,24,13641,null,null,null,null,0,222]
[12,13755,24,13757,24,13760,null,null,null,null,0,122]
[21,13855,22,13859,24,13865,null,null,null,null,0,222]
[21,13960,22,13965,24,13972,null,null,null,null,0,222]
[21,14079,11,14086,22,14110,null,null,null,null,0,212]
[21,14390,22,14402,24,14409,null,null,null,null,0,222]
[21,14504,22,14507,24,14512,null,null,null,null,0,222]
[21,14605,11,14607,22,14610,null,null,null,null,0,212]
[12,14701,24,14707,24,14714,null,null,null,null,0,122]
[21,14820,22,14825,24,14828,null,null,null,null,0,222]
[21,14934,22,14940,24,14943,null,null,null,null,0,222]
[21,15048,22,15053,13,15056,null,null,null,null,0,221]
[21,15486,22,15506,24,15514,null,null,null,null,0,222]
[21,15607,11,15609,22,15615,null,null,null,null,0,212]
[21,15713,22,15717,24,15723,null,null,null,null,0,222]
[12,15817,24,15823,24,15831,null,null,null,null,0,122]
[21,15925,22,15930,24,15935,null,null,null,null,0,222]
[21,16031,22,16037,24,16041,null,null,null,null,0,222]
[21,16142,11,16149,22,16152,null,null,null,null,0,212]
[21,16244,22,16251,24,16258,null,null,null,null,0,222]
[21,16364,11,16367,22,16370,null,null,null,null,0,212]
[12,16482,24,16491,24,16494,null,null,null,null,0,122]
[21,17088,22,17096,24,17102,null,null,null,null,0,222]
[21,17195,11,17202,22,17209,null,null,null,null,0,212]
[21,17309,11,17312,22,17320,null,null,null,null,0,212]
[12,17424,24,17431,24,17438,null,null,null,null,0,122]
[21,17538,22,17543,24,17550,null,null,null,null,0,222]
[21,17692,22,17705,24,17737,null,null,null,null,0,222]
[21,18043,22,18055,24,18062,null,null,null,null,0,222]
[21,18168,22,18174,13,18178,null,null,null,null,0,221]
[21,18423,22,18437,24,18444,null,null,null,null,0,222]
[21,18546,22,18551,24,18557,null,null,null,null,0,222]
[12,18652,24,18655,24,18661,null,null,null,null,0,122]
[21,18762,22,18768,24,18773,null,null,null,null,0,222]
[21,19064,22,19076,24,19082,null,null,null,null,0,222]
[21,19178,11,19191,22,19197,null,null,null,null,0,212]
[21,19290,22,19295,24,19301,null,null,null,null,0,222]
[21,19398,22,19401,24,19406,null,null,null,null,0,222]
[21,19555,11,19563,22,19572,null,null,null,null,0,212]
[21,19787,11,19794,22,19800,null,null,null,null,0,212]
[21,19897,22,19902,24,19907,null,null,null,null,0,222]
[21,20073,22,20077,24,20083,null,null,null,null,0,222]
[21,20194,22,20199,24,20203,null,null,null,null,0,222]
[21,20299,11,20302,22,20305,null,null,null,null,0,212]
[21,20404,11,20414,22,20416,null,null,null,null,0,212]
[21,20526,11,20532,22,20544,null,null,null,null,0,212]
[21,22782,22,22786,24,22791,null,null,null,null,0,222]
[21,22886,22,22892,24,22899,null,null,null,null,0,222]
[21,23061,22,23067,24,23073,null,null,null,null,0,222]
[21,23482,22,23486,24,23492,null,null,null,null,0,222]
[21,23773,22,23782,24,23788,null,null,null,null,0,222]
[21,23878,22,23884,24,23888,null,null,null,null,0,222]

{"sheet":"!N218A10.Gus","index":24,"n_rows":173,"n_cols":48,"rows_kept":173,"cut":false,"hidden":false,"merged":[[4,39,4,42],[5,39,5,40],[4,44,4,47],[5,44,5,45],[4,24,4,27],[5,24,5,25],[4,29,4,32],[5,29,5,30],[4,34,4,37],[5,34,5,35],[1,1,1,2],[5,13,5,14],[18,13,18,14],[19,13,19,14],[4,19,4,22],[5,19,5,20]]}
["Report for:!N218A10.Gus"]
["Date:","<date>"]
["Hen:","<hen>",null,null,null,"Correct Sequence",{"$f":"Start!J2","v":211},null,null,null,null,null,null,null,null,"Total Sequences in Data",{"$f":"4994-COUNTBLANK(L7:L5000)","v":167},null,null,null,null,"Total Sequences in Block Data",{"$f":"COUNTA(L7:L34)","v":28},null,null,null,"Total Sequences in Block Data",{"$f":"COUNTA(L35:L62)","v":28},null,null,null,"Total Sequences in Block Data",{"$f":"COUNTA(L63:L89)","v":27},null,null,null,"Total Sequences in Block Data",{"$f":"COUNTA(L90:L117)","v":28},null,null,null,"Total Sequences in Block Data",{"$f":"COUNTA(L118:L145)","v":28},null,null,null,"Total Sequences in Block Data",{"$f":"COUNTA(L146:L173)","v":28}]
[null,null,null,null,null,null,null,null,null,null,null,null,null,null,null,"Total Sequences in Summary",{"$f":"SUM(O7:O14)","v":166},null,null,null,null,"Total Sequences in Block Summary",{"$f":"SUM(U7:U14)","v":28},null,null,null,"Total Sequences in Block Summary",{"$f":"SUM(Z7:Z14)","v":28},null,null,null,"Total Sequences in Block Summary",{"$f":"SUM(AE7:AE14)","v":27},null,null,null,"Total Sequences in Block Summary",{"$f":"SUM(AJ7:AJ14)","v":28},null,null,null,"Total Sequences in Block Summary",{"$f":"SUM(AO7:AO14)","v":28},null,null,null,"Total Sequences in Block Summary",{"$f":"SUM(AT7:AT14)","v":27}]
[null,null,null,null,null,null,null,null,null,null,null,null,null,null,null,null,null,null,null,"Block 1",null,null,null,null,"Block 2",null,null,null,null,"Block 3",null,null,null,null,"Block 4",null,null,null,null,"Block 5",null,null,null,null,"Block 6"]
["Sequence\nComponent\n1","Time\n1","Sequence\nComponent\n2","Time\n2","Sequence\nComponent\n3","Time\n3","Sequence\nComponent\n4","Time\n4","Sequence\nComponent\n5","Time\n5","Correct?\n0=No 1=Yes","Sequence",null,"Frequency",null,"Relative Frequency","Variability",null,null,"Frequency",null,"Relative Frequency","Variability",null,"Frequency",null,"Relative Frequency","Variability",null,"Frequency",null,"Relative Frequency","Variability",null,"Frequency",null,"Relative Frequency","Variability",null,"Frequency",null,"Relative Frequency","Variability",null,"Frequency",null,"Relative Frequency","Variability"]
[21,79,22,85,24,91,null,null,null,null,0,222,null,111,{"$f":"COUNTIF($L$7:$L$500,N7)","v":0},{"$f":"O7/$Q$4","v":0},{"$f":"IF(P7=0,0,(P7*((LOG(P7))/LOG(2))))","v":0},null,null,{"$f":"N7","v":111},{"$f":"COUNTIF(L7:L34,T7)","v":0},{"$f":"U7/(W4-U11)","v":0},{"$f":"IF(V7=0,0,(V7*((LOG(V7))/LOG(2))))","v":0},null,{"$f":"N7","v":111},{"$f":"COUNTIF(L35:L62,Y7)","v":0},{"$f":"Z7/(AB4-Z11)","v":0},{"$f":"IF(AA7=0,0,(AA7*((LOG(AA7))/LOG(2))))","v":0},null,{"$f":"N7","v":111},{"$f":"COUNTIF(L63:L89,AD7)","v":0},{"$f":"AE7/(AG4-AE11)","v":0},{"$f":"IF(AF7=0,0,(AF7*((LOG(AF7))/LOG(2))))","v":0},null,{"$f":"N7","v":111},{"$f":"COUNTIF(L90:L117,AI7)","v":0},{"$f":"AJ7/(AL4-AJ11)","v":0},{"$f":"IF(AK7=0,0,(AK7*((LOG(AK7))/LOG(2))))","v":0},null,{"$f":"N7","v":111},{"$f":"COUNTIF(L118:L145,AN7)","v":0},{"$f":"AO7/(AQ4-AO11)","v":0},{"$f":"IF(AP7=0,0,(AP7*((LOG(AP7))/LOG(2))))","v":0},null,{"$f":"N7","v":111},{"$f":"COUNTIF(L146:L173,AS7)","v":0},{"$f":"AT7/(AV4-AT11)","v":0},{"$f":"IF(AU7=0,0,(AU7*((LOG(AU7))/LOG(2))))","v":0}]
[21,269,22,279,24,285,null,null,null,null,0,222,null,112,{"$f":"COUNTIF($L$7:$L$500,N8)","v":1},{"$f":"O8/$Q$4","v":6.024096385542169E-3},{"$f":"IF(P8=0,0,(P8*((LOG(P8))/LOG(2))))","v":-4.4427948381607983E-2},null,null,{"$f":"N8","v":112},{"$f":"COUNTIF(L7:L34,T8)","v":0},{"$f":"U8/(W4-U11)","v":0},{"$f":"IF(V8=0,0,(V8*((LOG(V8))/LOG(2))))","v":0},null,{"$f":"N8","v":112},{"$f":"COUNTIF(L35:L62,Y8)","v":0},{"$f":"Z8/(AB4-Z11)","v":0},{"$f":"IF(AA8=0,0,(AA8*((LOG(AA8))/LOG(2))))","v":0},null,{"$f":"N8","v":112},{"$f":"COUNTIF(L63:L89,AD8)","v":1},{"$f":"AE8/(AG4-AE11)","v":3.7037037037037035E-2},{"$f":"IF(AF8=0,0,(AF8*((LOG(AF8))/LOG(2))))","v":-0.1761069445245729},null,{"$f":"N8","v":112},{"$f":"COUNTIF(L90:L117,AI8)","v":0},{"$f":"AJ8/(AL4-AJ11)","v":0},{"$f":"IF(AK8=0,0,(AK8*((LOG(AK8))/LOG(2))))","v":0},null,{"$f":"N8","v":112},{"$f":"COUNTIF(L118:L145,AN8)","v":0},{"$f":"AO8/(AQ4-AO11)","v":0},{"$f":"IF(AP8=0,0,(AP8*((LOG(AP8))/LOG(2))))","v":0},null,{"$f":"N8","v":112},{"$f":"COUNTIF(L146:L173,AS8)","v":0},{"$f":"AT8/(AV4-AT11)","v":0},{"$f":"IF(AU8=0,0,(AU8*((LOG(AU8))/LOG(2))))","v":0}]
[21,383,22,390,24,393,null,null,null,null,0,222,null,121,{"$f":"COUNTIF($L$7:$L$500,N9)","v":4},{"$f":"O9/$Q$4","v":2.4096385542168676E-2},{"$f":"IF(P9=0,0,(P9*((LOG(P9))/LOG(2))))","v":-0.12951902244209457},null,null,{"$f":"N9","v":121},{"$f":"COUNTIF(L7:L34,T9)","v":2},{"$f":"U9/(W4-U11)","v":7.1428571428571425E-2},{"$f":"IF(V9=0,0,(V9*((LOG(V9))/LOG(2))))","v":-0.27195392300411453},null,{"$f":"N9","v":121},{"$f":"COUNTIF(L35:L62,Y9)","v":0},{"$f":"Z9/(AB4-Z11)","v":0},{"$f":"IF(AA9=0,0,(AA9*((LOG(AA9))/LOG(2))))","v":0},null,{"$f":"N9","v":121},{"$f":"COUNTIF(L63:L89,AD9)","v":0},{"$f":"AE9/(AG4-AE11)","v":0},{"$f":"IF(AF9=0,0,(AF9*((LOG(AF9))/LOG(2))))","v":0},null,{"$f":"N9","v":121},{"$f":"COUNTIF(L90:L117,AI9)","v":0},{"$f":"AJ9/(AL4-AJ11)","v":0},{"$f":"IF(AK9=0,0,(AK9*((LOG(AK9))/LOG(2))))","v":0},null,{"$f":"N9","v":121},{"$f":"COUNTIF(L118:L145,AN9)","v":1},{"$f":"AO9/(AQ4-AO11)","v":3.5714285714285712E-2},{"$f":"IF(AP9=0,0,(AP9*((LOG(AP9))/LOG(2))))","v":-0.17169124721634299},null,{"$f":"N9","v":121},{"$f":"COUNTIF(L146:L173,AS9)","v":1},{"$f":"AT9/(AV4-AT11)","v":3.7037037037037035E-2},{"$f":"IF(AU9=0,0,(AU9*((LOG(AU9))/LOG(2))))","v":-0.1761069445245729}]
[21,508,22,513,24,518,null,null,null,null,0,222,null,122,{"$f":"COUNTIF($L$7:$L$500,N10)","v":24},{"$f":"O10/$Q$4","v":0.14457831325301204},{"$f":"IF(P10=0,0,(P10*((LOG(P10))/LOG(2))))","v":-0.4033846164760147},null,null,{"$f":"N10","v":122},{"$f":"COUNTIF(L7:L34,T10)","v":5},{"$f":"U10/(W4-U11)","v":0.17857142857142858},{"$f":"IF(V10=0,0,(V10*((LOG(V10))/LOG(2))))","v":-0.44382621913754317},null,{"$f":"N10","v":122},{"$f":"COUNTIF(L35:L62,Y10)","v":3},{"$f":"Z10/(AB4-Z11)","v":0.1111111111111111},{"$f":"IF(AA10=0,0,(AA10*((LOG(AA10))/LOG(2))))","v":-0.3522138890491458},null,{"$f":"N10","v":122},{"$f":"COUNTIF(L63:L89,AD10)","v":5},{"$f":"AE10/(AG4-AE11)","v":0.18518518518518517},{"$f":"IF(AF10=0,0,(AF10*((LOG(AF10))/LOG(2))))","v":-0.45054803838446406},null,{"$f":"N10","v":122},{"$f":"COUNTIF(L90:L117,AI10)","v":2},{"$f":"AJ10/(AL4-AJ11)","v":7.1428571428571425E-2},{"$f":"IF(AK10=0,0,(AK10*((LOG(AK10))/LOG(2))))","v":-0.27195392300411453},null,{"$f":"N10","v":122},{"$f":"COUNTIF(L118:L145,AN10)","v":4},{"$f":"AO10/(AQ4-AO11)","v":0.14285714285714285},{"$f":"IF(AP10=0,0,(AP10*((LOG(AP10))/LOG(2))))","v":-0.40105070315108626},null,{"$f":"N10","v":122},{"$f":"COUNTIF(L146:L173,AS10)","v":5},{"$f":"AT10/(AV4-AT11)","v":0.18518518518518517},{"$f":"IF(AU10=0,0,(AU10*((LOG(AU10))/LOG(2))))","v":-0.45054803838446406}]
[12,619,24,628,24,632,null,null,null,null,0,122,null,211,{"$f":"COUNTIF($L$7:$L$500,N11)","v":1},{"$f":"O11/$Q$4","v":6.024096385542169E-3},{"$f":"IF(P11=0,0,(P11*((LOG(P11))/LOG(2))))","v":-4.4427948381607983E-2},null,null,{"$f":"N11","v":211},{"$f":"COUNTIF(L7:L34,T11)","v":0},null,null,null,{"$f":"N11","v":211},{"$f":"COUNTIF(L35:L62,Y11)","v":1},null,null,null,{"$f":"N11","v":211},{"$f":"COUNTIF(L63:L89,AD11)","v":0},null,null,null,{"$f":"N11","v":211},{"$f":"COUNTIF(L90:L117,AI11)","v":0},null,null,null,{"$f":"N11","v":211},{"$f":"COUNTIF(L118:L145,AN11)","v":0},null,null,null,{"$f":"N11","v":211},{"$f":"COUNTIF(L146:L173,AS11)","v":0}]
[12,724,24,746,13,750,null,null,null,null,0,121,null,212,{"$f":"COUNTIF($L$7:$L$500,N12)","v":53},{"$f":"O12/$Q$4","v":0.31927710843373491},{"$f":"IF(P12=0,0,(P12*((LOG(P12))/LOG(2))))","v":-0.52588738415384007},null,null,{"$f":"N12","v":212},{"$f":"COUNTIF(L7:L34,T12)","v":6},{"$f":"U12/(W4-U11)","v":0.21428571428571427},{"$f":"IF(V12=0,0,(V12*((LOG(V12))/LOG(2))))","v":-0.47622694742923877},null,{"$f":"N12","v":212},{"$f":"COUNTIF(L35:L62,Y12)","v":8},{"$f":"Z12/(AB4-Z11)","v":0.29629629629629628},{"$f":"IF(AA12=0,0,(AA12*((LOG(AA12))/LOG(2))))","v":-0.51996666730769436},null,{"$f":"N12","v":212},{"$f":"COUNTIF(L63:L89,AD12)","v":12},{"$f":"AE12/(AG4-AE11)","v":0.44444444444444442},{"$f":"IF(AF12=0,0,(AF12*((LOG(AF12))/LOG(2))))","v":-0.51996666730769447},null,{"$f":"N12","v":212},{"$f":"COUNTIF(L90:L117,AI12)","v":8},{"$f":"AJ12/(AL4-AJ11)","v":0.2857142857142857},{"$f":"IF(AK12=0,0,(AK12*((LOG(AK12))/LOG(2))))","v":-0.51638712058788683},null,{"$f":"N12","v":212},{"$f":"COUNTIF(L118:L145,AN12)","v":8},{"$f":"AO12/(AQ4-AO11)","v":0.2857142857142857},{"$f":"IF(AP12=0,0,(AP12*((LOG(AP12))/LOG(2))))","v":-0.51638712058788683},null,{"$f":"N12","v":212},{"$f":"COUNTIF(L146:L173,AS12)","v":11},{"$f":"AT12/(AV4-AT11)","v":0.40740740740740738},{"$f":"IF(AU12=0,0,(AU12*((LOG(AU12))/LOG(2))))","v":-0.52777832291806981}]
[12,838,24,840,24,854,null,null,null,null,0,122,null,221,{"$f":"COUNTIF($L$7:$L$500,N13)","v":15},{"$f":"O13/$Q$4","v":9.036144578313253E-2},{"$f":"IF(P13=0,0,(P13*((LOG(P13))/LOG(2))))","v":-0.31338694298841019},null,null,{"$f":"N13","v":221},{"$f":"COUNTIF(L7:L34,T13)","v":1},{"$f":"U13/(W4-U11)","v":3.5714285714285712E-2},{"$f":"IF(V13=0,0,(V13*((LOG(V13))/LOG(2))))","v":-0.17169124721634299},null,{"$f":"N13","v":221},{"$f":"COUNTIF(L35:L62,Y13)","v":6},{"$f":"Z13/(AB4-Z11)","v":0.22222222222222221},{"$f":"IF(AA13=0,0,(AA13*((LOG(AA13))/LOG(2))))","v":-0.48220555587606945},null,{"$f":"N13","v":221},{"$f":"COUNTIF(L63:L89,AD13)","v":2},{"$f":"AE13/(AG4-AE11)","v":7.407407407407407E-2},{"$f":"IF(AF13=0,0,(AF13*((LOG(AF13))/LOG(2))))","v":-0.27813981497507173},null,{"$f":"N13","v":221},{"$f":"COUNTIF(L90:L117,AI13)","v":2},{"$f":"AJ13/(AL4-AJ11)","v":7.1428571428571425E-2},{"$f":"IF(AK13=0,0,(AK13*((LOG(AK13))/LOG(2))))","v":-0.27195392300411453},null,{"$f":"N13","v":221},{"$f":"COUNTIF(L118:L145,AN13)","v":3},{"$f":"AO13/(AQ4-AO11)","v":0.10714285714285714},{"$f":"IF(AP13=0,0,(AP13*((LOG(AP13))/LOG(2))))","v":-0.34525633085747659},null,{"$f":"N13","v":221},{"$f":"COUNTIF(L146:L173,AS13)","v":1},{"$f":"AT13/(AV4-AT11)","v":3.7037037037037035E-2},{"$f":"IF(AU13=0,0,(AU13*((LOG(AU13))/LOG(2))))","v":-0.1761069445245729}]
[21,1011,22,1021,24,1027,null,null,null,null,0,222,null,222,{"$f":"COUNTIF($L$7:$L$500,N14)","v":68},{"$f":"O14/$Q$4","v":0.40963855421686746},{"$f":"IF(P14=0,0,(P14*((LOG(P14))/LOG(2))))","v":-0.52744101281064937},null,null,{"$f":"N14","v":222},{"$f":"COUNTIF(L7:L34,T14)","v":14},{"$f":"U14/(W4-U11)","v":0.5},{"$f":"IF(V14=0,0,(V14*((LOG(V14))/LOG(2))))","v":-0.5},null,{"$f":"N14","v":222},{"$f":"COUNTIF(L35:L62,Y14)","v":10},{"$f":"Z14/(AB4-Z11)","v":0.37037037037037035},{"$f":"IF(AA14=0,0,(AA14*((LOG(AA14))/LOG(2))))","v":-0.53072570639855787},null,{"$f":"N14","v":222},{"$f":"COUNTIF(L63:L89,AD14)","v":7},{"$f":"AE14/(AG4-AE11)","v":0.25925925925925924},{"$f":"IF(AF14=0,0,(AF14*((LOG(AF14))/LOG(2))))","v":-0.5049158541015204},null,{"$f":"N14","v":222},{"$f":"COUNTIF(L90:L117,AI14)","v":16},{"$f":"AJ14/(AL4-AJ11)","v":0.5714285714285714},{"$f":"IF(AK14=0,0,(AK14*((LOG(AK14))/LOG(2))))","v":-0.46134566974720237},null,{"$f":"N14","v":222},{"$f":"COUNTIF(L118:L145,AN14)","v":12},{"$f":"AO14/(AQ4-AO11)","v":0.42857142857142855},{"$f":"IF(AP14=0,0,(AP14*((LOG(AP14))/LOG(2))))","v":-0.52388246628704915},null,{"$f":"N14","v":222},{"$f":"COUNTIF(L146:L173,AS14)","v":9},{"$f":"AT14/(AV4-AT11)","v":0.33333333333333331},{"$f":"IF(AU14=0,0,(AU14*((LOG(AU14))/LOG(2))))","v":-0.52832083357371862}]
[21,1188,22,1196,24,1202,null,null,null,null,0,222,null,null,null,{"$f":"SUM(P7:P14)","v":1},{"$f":"-SUM(Q7:Q14)","v":1.9884748756342248},null,null,null,null,{"$f":"SUM(V7:V14)","v":1},{"$f":"-SUM(W7:W14)","v":1.8636983367872393},null,null,null,{"$f":"SUM(AA7:AA14)","v":0.99999999999999989},{"$f":"-SUM(AB7:AB14)","v":1.8851118186314673},null,null,null,{"$f":"SUM(AF7:AF14)","v":1},{"$f":"-SUM(AG7:AG14)","v":1.9296773192933236},null,null,null,{"$f":"SUM(AK7:AK14)","v":0.99999999999999989},{"$f":"-SUM(AL7:AL14)","v":1.5216406363433181},null,null,null,{"$f":"SUM(AP7:AP14)","v":1},{"$f":"-SUM(AQ7:AQ14)","v":1.9582678680998418},null,null,null,{"$f":"SUM(AU7:AU14)","v":0.99999999999999978},{"$f":"-SUM(AV7:AV14)","v":1.8588610839253983}]
[21,1317,22,1324,24,1337,null,null,null,null,0,222,null,null,null,"U=",{"$f":"Q15/(LOG(Q4)/LOG(2))","v":0.26962227038168718},null,null,null,null,"U1=",{"$f":"W15/(LOG(W4)/LOG(2))","v":0.38767645971717746},null,null,null,"U2=",{"$f":"AB15/(LOG(AB4)/LOG(2))","v":0.39213077652785777},null,null,null,"U3=",{"$f":"AG15/(LOG(AG4)/LOG(2))","v":0.40583027851138914},null,null,null,"U4=",{"$f":"AL15/(LOG(AL4)/LOG(2))","v":0.31652346477718318},null,null,null,"U5=",{"$f":"AQ15/(LOG(AQ4)/LOG(2))","v":0.4073483027256245},null,null,null,"U6=",{"$f":"AV15/(LOG(AV4)/LOG(2))","v":0.39093692186820794}]
[21,1436,22,1445,24,1450,null,null,null,null,0,222]
[21,1552,22,1554,24,1561,null,null,null,null,0,222]
[12,1681,24,1684,24,1693,null,null,null,null,0,122,null,"Total Target Seq"]
[21,1780,22,1791,13,1796,null,null,null,null,0,221,null,{"$f":"COUNTIF(L7:L173,G3)","v":1},null,28,28,27,28,28,28]
[21,1919,11,1927,22,1933,null,null,null,null,0,212,null,null,null,"% of reinforcement given in 6 equal intervals based on number of trials "]
[21,2076,11,2081,22,2095,null,null,null,null,0,212,null,null,null,"%_1","%_2","%_3","%_4","%_5","%_6"]
[21,2194,22,2196,24,2201,null,null,null,null,0,222,null,null,"target sequence",{"$f":"$G$3","v":211},{"$f":"$G$3","v":211},{"$f":"$G$3","v":211},{"$f":"$G$3","v":211},{"$f":"$G$3","v":211},{"$f":"$G$3","v":211}]
[21,2306,22,2310,24,2312,null,null,null,null,0,222,null,null,"total reinforcement",{"$f":"U11","v":0},{"$f":"Z11","v":1},{"$f":"AE11","v":0},{"$f":"AJ11","v":0},{"$f":"AO11","v":0},{"$f":"AT11","v":0}]
[21,2408,22,2415,24,2422,null,null,null,null,0,222,null,null,"% target"]
[12,2516,24,2520,24,2530,null,null,null,null,0,122,null,null,"CCRF"]
[21,2631,22,2636,24,2641,null,null,null,null,0,222,null,null,"% CCRf"]
[12,2732,24,2736,24,2743,null,null,null,null,0,122,null,null,"average response rate",{"$f":"F34/P20","v":123.71428571428571},{"$f":"(F62-F34)/Q20","v":149.82142857142858},{"$f":"(F89-F62)/R20","v":158.88888888888889},{"$f":"(F117-F89)/S20","v":147.85714285714286},{"$f":"(F145-F117)/T20","v":135.46428571428572},{"$f":"(F173-F145)/U20","v":-710.07142857142856}]
[21,2903,11,2906,22,2917,null,null,null,null,0,212]
[21,3021,11,3024,22,3029,null,null,null,null,0,212]
[12,3121,24,3136,13,3138,null,null,null,null,0,121]
[21,3239,11,3242,22,3248,null,null,null,null,0,212]
[21,3343,22,3345,24,3353,null,null,null,null,0,222]
[21,3452,11,3456,22,3464,null,null,null,null,0,212]
[21,3565,11,3571,22,3577,null,null,null,null,0,212]
[21,3677,22,3680,13,3683,null,null,null,null,0,221]
[21,3783,22,3788,24,3793,null,null,null,null,0,222]
[21,3889,11,3897,22,3899,null,null,null,null,0,212]
[21,3995,22,4001,24,4008,null,null,null,null,0,222]
[21,4098,22,4102,13,4106,null,null,null,null,0,221]
[21,4361,22,4366,13,4369,null,null,null,null,0,221]
[21,4475,11,4480,22,4483,null,null,null,null,0,212]
[21,4582,22,4593,24,4601,null,null,null,null,0,222]
[21,4697,22,4702,24,4706,null,null,null,null,0,222]
[21,4799,22,4810,13,4816,null,null,null,null,0,221]
[21,5236,22,5251,24,5258,null,null,null,null,0,222]
[21,5349,22,5363,24,5375,null,null,null,null,0,222]
[21,5688,11,5694,22,5698,null,null,null,null,0,212]
[21,5795,11,5804,22,5811,null,null,null,null,0,212]
[12,5903,24,5906,24,5916,null,null,null,null,0,122]
[21,6034,11,6041,22,6046,null,null,null,null,0,212]
[21,6186,22,6191,13,6196,null,null,null,null,0,221]
[21,6295,22,6299,13,6303,null,null,null,null,0,221]
[21,6687,22,6693,24,6704,null,null,null,null,0,222]
[12,6797,24,6800,24,6805,null,null,null,null,0,122]
[12,6895,24,6902,24,6910,null,null,null,null,0,122]
[21,7083,22,7100,24,7107,null,null,null,null,0,222]
[21,7207,22,7210,24,7215,null,null,null,null,0,222]
[21,7309,22,7314,24,7320,null,null,null,null,0,222]
[21,7419,11,7423,22,7425,null,null,null,null,0,212]
[21,7520,11,7523,22,7532,null,null,null,null,0,212]
[21,7646,11,7653,11,7659,null,null,null,null,0,211]
[21,8227,22,8241,24,8248,null,null,null,null,0,222]
[21,8345,11,8355,22,8361,null,null,null,null,0,212]
[21,8565,22,8578,24,8586,null,null,null,null,0,222]
[21,8720,11,8727,22,8733,null,null,null,null,0,212]
[21,8829,11,8841,22,8852,null,null,null,null,0,212]
[21,9087,22,9104,24,9111,null,null,null,null,0,222]
[21,9214,11,9217,22,9227,null,null,null,null,0,212]
[21,9326,11,9332,22,9339,null,null,null,null,0,212]
[21,9434,22,9438,13,9442,null,null,null,null,0,221]
[21,9546,22,9553,13,9558,null,null,null,null,0,221]
[12,9659,24,9666,24,9674,null,null,null,null,0,122]
[21,9778,22,9781,24,9788,null,null,null,null,0,222]
[21,9898,11,9900,22,9906,null,null,null,null,0,212]
[12,9993,24,9997,24,10003,null,null,null,null,0,122]
[21,10354,11,10362,22,10367,null,null,null,null,0,212]
[21,10498,11,10502,22,10504,null,null,null,null,0,212]
[12,10593,13,10596,24,10604,null,null,null,null,0,112]
[21,10813,11,10819,22,10829,null,null,null,null,0,212]
[21,10940,11,10950,22,10956,null,null,null,null,0,212]
[21,11160,11,11168,22,11176,null,null,null,null,0,212]
[21,11273,22,11286,24,11292,null,null,null,null,0,222]
[21,11394,11,11401,22,11408,null,null,null,null,0,212]
[12,11502,24,11506,24,11511,null,null,null,null,0,122]
[21,11608,22,11614,24,11621,null,null,null,null,0,222]
[12,11713,24,11715,24,11719,null,null,null,null,0,122]
[21,11820,22,11828,24,11837,null,null,null,null,0,222]
[12,11925,24,11933,24,11949,null,null,null,null,0,122]
[21,12159,11,12165,22,12167,null,null,null,null,0,212]
[21,12263,22,12272,13,12277,null,null,null,null,0,221]
[21,12382,11,12387,22,12392,null,null,null,null,0,212]
[12,12486,24,12489,24,12491,null,null,null,null,0,122]
[21,12587,22,12597,24,12605,null,null,null,null,0,222]
[21,13123,22,13145,24,13153,null,null,null,null,0,222]
[21,13248,22,13253,24,13260,null,null,null,null,0,222]
[21,13354,22,13365,24,13372,null,null,null,null,0,222]
[21,13493,22,13499,24,13505,null,null,null,null,0,222]
[21,13639,22,13648,24,13656,null,null,null,null,0,222]
[21,13754,22,13758,24,13765,null,null,null,null,0,222]
[21,13873,11,13879,22,13893,null,null,null,null,0,212]
[21,14039,11,14044,22,14048,null,null,null,null,0,212]
[21,14143,22,14151,24,14157,null,null,null,null,0,222]
[21,14253,22,14256,24,14263,null,null,null,null,0,222]
[21,14364,11,14370,22,14376,null,null,null,null,0,212]
[21,14470,11,14480,22,14486,null,null,null,null,0,212]
[21,14683,11,14698,22,14704,null,null,null,null,0,212]
[21,14800,22,14804,13,14811,null,null,null,null,0,221]
[21,15122,22,15137,24,15144,null,null,null,null,0,222]
[21,15241,22,15249,24,15256,null,null,null,null,0,222]
[21,15352,22,15355,24,15359,null,null,null,null,0,222]
[21,15454,22,15456,24,15460,null,null,null,null,0,222]
[21,15549,22,15568,24,15577,null,null,null,null,0,222]
[21,15743,22,15756,24,15763,null,null,null,null,0,222]
[21,15860,22,15868,24,15875,null,null,null,null,0,222]
[12,15971,24,15977,24,15983,null,null,null,null,0,122]
[21,16079,11,16083,22,16089,null,null,null,null,0,212]
[21,16182,22,16190,24,16196,null,null,null,null,0,222]
[12,16290,24,16294,24,16300,null,null,null,null,0,122]
[21,16400,22,16404,24,16410,null,null,null,null,0,222]
[21,16720,22,16734,24,16742,null,null,null,null,0,222]
[21,16842,22,16846,13,16850,null,null,null,null,0,221]
[21,16946,11,16949,22,16953,null,null,null,null,0,212]
[21,17063,11,17068,22,17076,null,null,null,null,0,212]
[21,17176,11,17180,22,17185,null,null,null,null,0,212]
[21,17282,22,17286,24,17291,null,null,null,null,0,222]
[21,17391,22,17399,24,17414,null,null,null,null,0,222]
[21,17518,22,17520,24,17525,null,null,null,null,0,222]
[21,17636,22,17646,24,17652,null,null,null,null,0,222]
[21,17753,22,17764,13,17768,null,null,null,null,0,221]
[21,18000,22,18005,13,18012,null,null,null,null,0,221]
[21,18114,22,18120,24,18126,null,null,null,null,0,222]
[21,18224,22,18227,24,18237,null,null,null,null,0,222]
[21,18363,22,18367,24,18373,null,null,null,null,0,222]
[21,18474,11,18482,22,18486,null,null,null,null,0,212]
[21,18671,11,18676,22,18681,null,null,null,null,0,212]
[21,18773,11,18779,22,18790,null,null,null,null,0,212]
[21,19100,11,19106,22,19117,null,null,null,null,0,212]
[12,19210,24,19214,24,19219,null,null,null,null,0,122]
[21,19314,22,19319,24,19325,null,null,null,null,0,222]
[12,19417,24,19421,24,19430,null,null,null,null,0,122]
[12,19524,24,19536,13,19541,null,null,null,null,0,121]
[12,19636,24,19644,24,19651,null,null,null,null,0,122]
[21,19766,22,19772,24,19776,null,null,null,null,0,222]
[21,19867,11,19878,22,19882,null,null,null,null,0,212]
[21,20073,11,20081,22,20089,null,null,null,null,0,212]
[21,20204,11,20206,22,20211,null,null,null,null,0,212]
[21,20319,22,20332,24,20340,null,null,null,null,0,222]
[21,20460,22,20466,24,20471,null,null,null,null,0,222]
[21,20796,22,20813,24,20819,null,null,null,null,0,222]
[21,20961,22,20966,24,20971,null,null,null,null,0,222]
[21,21058,11,21068,22,21074,null,null,null,null,0,212]
[12,21203,24,21218,24,21226,null,null,null,null,0,122]
[21,21344,11,21347,22,21353,null,null,null,null,0,212]
[12,21447,24,21455,13,21459,null,null,null,null,0,121]
[21,21558,22,21563,24,21574,null,null,null,null,0,222]
[12,21668,24,21670,24,21682,null,null,null,null,0,122]
[21,22111,22,22118,24,22122,null,null,null,null,0,222]
[21,22212,11,22219,22,22227,null,null,null,null,0,212]
[21,22416,11,22420,22,22425,null,null,null,null,0,212]
[12,22520,24,22523,24,22529,null,null,null,null,0,122]
[21,22628,22,22637,13,22642,null,null,null,null,0,221]
[21,22741,11,22745,22,22750,null,null,null,null,0,212]
[12,22842,24,22851,24,22856,null,null,null,null,0,122]
[21,22955,11,22961,22,22967,null,null,null,null,0,212]
[21,23065,22,23072,24,23080,null,null,null,null,0,222]
[21,23230,22,23235,24,23241,null,null,null,null,0,222]
[21,23378,11,23386,22,23392,null,null,null,null,0,212]
[21,23492,22,23498,24,23505,null,null,null,null,0,222]
[12,23596,24,23598,24,23607,null,null,null,null,0,122]
[21,23745,11,23753,22,23756,null,null,null,null,0,212]
[21,23864,11,23867,22,23879,null,null,null,null,0,212]
[21,23977,22,23985,null,null,null,null,null,null,null,22]

{"sheet":"!N219A40.Gus","index":25,"n_rows":174,"n_cols":48,"rows_kept":174,"cut":false,"hidden":false,"merged":[[4,39,4,42],[5,39,5,40],[4,44,4,47],[5,44,5,45],[4,24,4,27],[5,24,5,25],[4,29,4,32],[5,29,5,30],[4,34,4,37],[5,34,5,35],[1,1,1,2],[5,13,5,14],[18,13,18,14],[19,13,19,14],[4,19,4,22],[5,19,5,20]]}
["Report for:!N219A40.Gus"]
["Date:","<date>"]
["Hen:","<hen>",null,null,null,"Correct Sequence",{"$f":"Start!J2","v":211},null,null,null,null,null,null,null,null,"Total Sequences in Data",{"$f":"4994-COUNTBLANK(L7:L5000)","v":168},null,null,null,null,"Total Sequences in Block Data",{"$f":"COUNTA(L7:L34)","v":28},null,null,null,"Total Sequences in Block Data",{"$f":"COUNTA(L35:L62)","v":28},null,null,null,"Total Sequences in Block Data",{"$f":"COUNTA(L63:L90)","v":28},null,null,null,"Total Sequences in Block Data",{"$f":"COUNTA(L91:L118)","v":28},null,null,null,"Total Sequences in Block Data",{"$f":"COUNTA(L119:L146)","v":28},null,null,null,"Total Sequences in Block Data",{"$f":"COUNTA(L147:L174)","v":28}]
[null,null,null,null,null,null,null,null,null,null,null,null,null,null,null,"Total Sequences in Summary",{"$f":"SUM(O7:O14)","v":167},null,null,null,null,"Total Sequences in Block Summary",{"$f":"SUM(U7:U14)","v":28},null,null,null,"Total Sequences in Block Summary",{"$f":"SUM(Z7:Z14)","v":28},null,null,null,"Total Sequences in Block Summary",{"$f":"SUM(AE7:AE14)","v":28},null,null,null,"Total Sequences in Block Summary",{"$f":"SUM(AJ7:AJ14)","v":28},null,null,null,"Total Sequences in Block Summary",{"$f":"SUM(AO7:AO14)","v":28},null,null,null,"Total Sequences in Block Summary",{"$f":"SUM(AT7:AT14)","v":27}]
[null,null,null,null,null,null,null,null,null,null,null,null,null,null,null,null,null,null,null,"Block 1",null,null,null,null,"Block 2",null,null,null,null,"Block 3",null,null,null,null,"Block 4",null,null,null,null,"Block 5",null,null,null,null,"Block 6"]
["Sequence\nComponent\n1","Time\n1","Sequence\nComponent\n2","Time\n2","Sequence\nComponent\n3","Time\n3","Sequence\nComponent\n4","Time\n4","Sequence\nComponent\n5","Time\n5","Correct?\n0=No 1=Yes","Sequence",null,"Frequency",null,"Relative Frequency","Variability",null,null,"Frequency",null,"Relative Frequency","Variability",null,"Frequency",null,"Relative Frequency","Variability",null,"Frequency",null,"Relative Frequency","Variability",null,"Frequency",null,"Relative Frequency","Variability",null,"Frequency",null,"Relative Frequency","Variability",null,"Frequency",null,"Relative Frequency","Variability"]
[12,51,24,58,24,62,null,null,null,null,0,122,null,111,{"$f":"COUNTIF($L$7:$L$500,N7)","v":0},{"$f":"O7/$Q$4","v":0},{"$f":"IF(P7=0,0,(P7*((LOG(P7))/LOG(2))))","v":0},null,null,{"$f":"N7","v":111},{"$f":"COUNTIF(L7:L34,T7)","v":0},{"$f":"U7/(W4-U11)","v":0},{"$f":"IF(V7=0,0,(V7*((LOG(V7))/LOG(2))))","v":0},null,{"$f":"N7","v":111},{"$f":"COUNTIF(L35:L62,Y7)","v":0},{"$f":"Z7/(AB4-Z11)","v":0},{"$f":"IF(AA7=0,0,(AA7*((LOG(AA7))/LOG(2))))","v":0},null,{"$f":"N7","v":111},{"$f":"COUNTIF(L63:L90,AD7)","v":0},{"$f":"AE7/(AG4-AE11)","v":0},{"$f":"IF(AF7=0,0,(AF7*((LOG(AF7))/LOG(2))))","v":0},null,{"$f":"N7","v":111},{"$f":"COUNTIF(L91:L118,AI7)","v":0},{"$f":"AJ7/(AL4-AJ11)","v":0},{"$f":"IF(AK7=0,0,(AK7*((LOG(AK7))/LOG(2))))","v":0},null,{"$f":"N7","v":111},{"$f":"COUNTIF(L119:L146,AN7)","v":0},{"$f":"AO7/(AQ4-AO11)","v":0},{"$f":"IF(AP7=0,0,(AP7*((LOG(AP7))/LOG(2))))","v":0},null,{"$f":"N7","v":111},{"$f":"COUNTIF(L147:L174,AS7)","v":0},{"$f":"AT7/(AV4-AT11)","v":0},{"$f":"IF(AU7=0,0,(AU7*((LOG(AU7))/LOG(2))))","v":0}]
[12,159,24,163,24,171,null,null,null,null,0,122,null,112,{"$f":"COUNTIF($L$7:$L$500,N8)","v":3},{"$f":"O8/$Q$4","v":1.7964071856287425E-2},{"$f":"IF(P8=0,0,(P8*((LOG(P8))/LOG(2))))","v":-0.10416901422310591},null,null,{"$f":"N8","v":112},{"$f":"COUNTIF(L7:L34,T8)","v":0},{"$f":"U8/(W4-U11)","v":0},{"$f":"IF(V8=0,0,(V8*((LOG(V8))/LOG(2))))","v":0},null,{"$f":"N8","v":112},{"$f":"COUNTIF(L35:L62,Y8)","v":0},{"$f":"Z8/(AB4-Z11)","v":0},{"$f":"IF(AA8=0,0,(AA8*((LOG(AA8))/LOG(2))))","v":0},null,{"$f":"N8","v":112},{"$f":"COUNTIF(L63:L90,AD8)","v":0},{"$f":"AE8/(AG4-AE11)","v":0},{"$f":"IF(AF8=0,0,(AF8*((LOG(AF8))/LOG(2))))","v":0},null,{"$f":"N8","v":112},{"$f":"COUNTIF(L91:L118,AI8)","v":1},{"$f":"AJ8/(AL4-AJ11)","v":3.5714285714285712E-2},{"$f":"IF(AK8=0,0,(AK8*((LOG(AK8))/LOG(2))))","v":-0.17169124721634299},null,{"$f":"N8","v":112},{"$f":"COUNTIF(L119:L146,AN8)","v":0},{"$f":"AO8/(AQ4-AO11)","v":0},{"$f":"IF(AP8=0,0,(AP8*((LOG(AP8))/LOG(2))))","v":0},null,{"$f":"N8","v":112},{"$f":"COUNTIF(L147:L174,AS8)","v":2},{"$f":"AT8/(AV4-AT11)","v":7.407407407407407E-2},{"$f":"IF(AU8=0,0,(AU8*((LOG(AU8))/LOG(2))))","v":-0.27813981497507173}]
[21,275,11,280,22,285,null,null,null,null,0,212,null,121,{"$f":"COUNTIF($L$7:$L$500,N9)","v":2},{"$f":"O9/$Q$4","v":1.1976047904191617E-2},{"$f":"IF(P9=0,0,(P9*((LOG(P9))/LOG(2))))","v":-7.6451548412862905E-2},null,null,{"$f":"N9","v":121},{"$f":"COUNTIF(L7:L34,T9)","v":0},{"$f":"U9/(W4-U11)","v":0},{"$f":"IF(V9=0,0,(V9*((LOG(V9))/LOG(2))))","v":0},null,{"$f":"N9","v":121},{"$f":"COUNTIF(L35:L62,Y9)","v":0},{"$f":"Z9/(AB4-Z11)","v":0},{"$f":"IF(AA9=0,0,(AA9*((LOG(AA9))/LOG(2))))","v":0},null,{"$f":"N9","v":121},{"$f":"COUNTIF(L63:L90,AD9)","v":0},{"$f":"AE9/(AG4-AE11)","v":0},{"$f":"IF(AF9=0,0,(AF9*((LOG(AF9))/LOG(2))))","v":0},null,{"$f":"N9","v":121},{"$f":"COUNTIF(L91:L118,AI9)","v":0},{"$f":"AJ9/(AL4-AJ11)","v":0},{"$f":"IF(AK9=0,0,(AK9*((LOG(AK9))/LOG(2))))","v":0},null,{"$f":"N9","v":121},{"$f":"COUNTIF(L119:L146,AN9)","v":1},{"$f":"AO9/(AQ4-AO11)","v":4.1666666666666664E-2},{"$f":"IF(AP9=0,0,(AP9*((LOG(AP9))/LOG(2))))","v":-0.19104010419671485},null,{"$f":"N9","v":121},{"$f":"COUNTIF(L147:L174,AS9)","v":1},{"$f":"AT9/(AV4-AT11)","v":3.7037037037037035E-2},{"$f":"IF(AU9=0,0,(AU9*((LOG(AU9))/LOG(2))))","v":-0.1761069445245729}]
[21,382,22,390,24,398,null,null,null,null,0,222,null,122,{"$f":"COUNTIF($L$7:$L$500,N10)","v":30},{"$f":"O10/$Q$4","v":0.17964071856287425},{"$f":"IF(P10=0,0,(P10*((LOG(P10))/LOG(2))))","v":-0.44493659225129345},null,null,{"$f":"N10","v":122},{"$f":"COUNTIF(L7:L34,T10)","v":7},{"$f":"U10/(W4-U11)","v":0.25},{"$f":"IF(V10=0,0,(V10*((LOG(V10))/LOG(2))))","v":-0.5},null,{"$f":"N10","v":122},{"$f":"COUNTIF(L35:L62,Y10)","v":5},{"$f":"Z10/(AB4-Z11)","v":0.18518518518518517},{"$f":"IF(AA10=0,0,(AA10*((LOG(AA10))/LOG(2))))","v":-0.45054803838446406},null,{"$f":"N10","v":122},{"$f":"COUNTIF(L63:L90,AD10)","v":4},{"$f":"AE10/(AG4-AE11)","v":0.14285714285714285},{"$f":"IF(AF10=0,0,(AF10*((LOG(AF10))/LOG(2))))","v":-0.40105070315108626},null,{"$f":"N10","v":122},{"$f":"COUNTIF(L91:L118,AI10)","v":6},{"$f":"AJ10/(AL4-AJ11)","v":0.21428571428571427},{"$f":"IF(AK10=0,0,(AK10*((LOG(AK10))/LOG(2))))","v":-0.47622694742923877},null,{"$f":"N10","v":122},{"$f":"COUNTIF(L119:L146,AN10)","v":6},{"$f":"AO10/(AQ4-AO11)","v":0.25},{"$f":"IF(AP10=0,0,(AP10*((LOG(AP10))/LOG(2))))","v":-0.5},null,{"$f":"N10","v":122},{"$f":"COUNTIF(L147:L174,AS10)","v":2},{"$f":"AT10/(AV4-AT11)","v":7.407407407407407E-2},{"$f":"IF(AU10=0,0,(AU10*((LOG(AU10))/LOG(2))))","v":-0.27813981497507173}]
[21,507,11,511,22,517,null,null,null,null,0,212,null,211,{"$f":"COUNTIF($L$7:$L$500,N11)","v":5},{"$f":"O11/$Q$4","v":2.9940119760479042E-2},{"$f":"IF(P11=0,0,(P11*((LOG(P11))/LOG(2))))","v":-0.15155018555648772},null,null,{"$f":"N11","v":211},{"$f":"COUNTIF(L7:L34,T11)","v":0},null,null,null,{"$f":"N11","v":211},{"$f":"COUNTIF(L35:L62,Y11)","v":1},null,null,null,{"$f":"N11","v":211},{"$f":"COUNTIF(L63:L90,AD11)","v":0},null,null,null,{"$f":"N11","v":211},{"$f":"COUNTIF(L91:L118,AI11)","v":0},null,null,null,{"$f":"N11","v":211},{"$f":"COUNTIF(L119:L146,AN11)","v":4},null,null,null,{"$f":"N11","v":211},{"$f":"COUNTIF(L147:L174,AS11)","v":0}]
[21,625,22,630,24,636,null,null,null,null,0,222,null,212,{"$f":"COUNTIF($L$7:$L$500,N12)","v":56},{"$f":"O12/$Q$4","v":0.33532934131736525},{"$f":"IF(P12=0,0,(P12*((LOG(P12))/LOG(2))))","v":-0.52859619606779096},null,null,{"$f":"N12","v":212},{"$f":"COUNTIF(L7:L34,T12)","v":11},{"$f":"U12/(W4-U11)","v":0.39285714285714285},{"$f":"IF(V12=0,0,(V12*((LOG(V12))/LOG(2))))","v":-0.52954129777226344},null,{"$f":"N12","v":212},{"$f":"COUNTIF(L35:L62,Y12)","v":14},{"$f":"Z12/(AB4-Z11)","v":0.51851851851851849},{"$f":"IF(AA12=0,0,(AA12*((LOG(AA12))/LOG(2))))","v":-0.49131318968452231},null,{"$f":"N12","v":212},{"$f":"COUNTIF(L63:L90,AD12)","v":10},{"$f":"AE12/(AG4-AE11)","v":0.35714285714285715},{"$f":"IF(AF12=0,0,(AF12*((LOG(AF12))/LOG(2))))","v":-0.53050958113222924},null,{"$f":"N12","v":212},{"$f":"COUNTIF(L91:L118,AI12)","v":6},{"$f":"AJ12/(AL4-AJ11)","v":0.21428571428571427},{"$f":"IF(AK12=0,0,(AK12*((LOG(AK12))/LOG(2))))","v":-0.47622694742923877},null,{"$f":"N12","v":212},{"$f":"COUNTIF(L119:L146,AN12)","v":9},{"$f":"AO12/(AQ4-AO11)","v":0.375},{"$f":"IF(AP12=0,0,(AP12*((LOG(AP12))/LOG(2))))","v":-0.53063906222956647},null,{"$f":"N12","v":212},{"$f":"COUNTIF(L147:L174,AS12)","v":6},{"$f":"AT12/(AV4-AT11)","v":0.22222222222222221},{"$f":"IF(AU12=0,0,(AU12*((LOG(AU12))/LOG(2))))","v":-0.48220555587606945}]
[21,735,11,740,22,743,null,null,null,null,0,212,null,221,{"$f":"COUNTIF($L$7:$L$500,N13)","v":14},{"$f":"O13/$Q$4","v":8.3832335329341312E-2},{"$f":"IF(P13=0,0,(P13*((LOG(P13))/LOG(2))))","v":-0.29981371967563042},null,null,{"$f":"N13","v":221},{"$f":"COUNTIF(L7:L34,T13)","v":0},{"$f":"U13/(W4-U11)","v":0},{"$f":"IF(V13=0,0,(V13*((LOG(V13))/LOG(2))))","v":0},null,{"$f":"N13","v":221},{"$f":"COUNTIF(L35:L62,Y13)","v":2},{"$f":"Z13/(AB4-Z11)","v":7.407407407407407E-2},{"$f":"IF(AA13=0,0,(AA13*((LOG(AA13))/LOG(2))))","v":-0.27813981497507173},null,{"$f":"N13","v":221},{"$f":"COUNTIF(L63:L90,AD13)","v":4},{"$f":"AE13/(AG4-AE11)","v":0.14285714285714285},{"$f":"IF(AF13=0,0,(AF13*((LOG(AF13))/LOG(2))))","v":-0.40105070315108626},null,{"$f":"N13","v":221},{"$f":"COUNTIF(L91:L118,AI13)","v":2},{"$f":"AJ13/(AL4-AJ11)","v":7.1428571428571425E-2},{"$f":"IF(AK13=0,0,(AK13*((LOG(AK13))/LOG(2))))","v":-0.27195392300411453},null,{"$f":"N13","v":221},{"$f":"COUNTIF(L119:L146,AN13)","v":3},{"$f":"AO13/(AQ4-AO11)","v":0.125},{"$f":"IF(AP13=0,0,(AP13*((LOG(AP13))/LOG(2))))","v":-0.375},null,{"$f":"N13","v":221},{"$f":"COUNTIF(L147:L174,AS13)","v":3},{"$f":"AT13/(AV4-AT11)","v":0.1111111111111111},{"$f":"IF(AU13=0,0,(AU13*((LOG(AU13))/LOG(2))))","v":-0.3522138890491458}]
[12,846,24,849,24,851,null,null,null,null,0,122,null,222,{"$f":"COUNTIF($L$7:$L$500,N14)","v":57},{"$f":"O14/$Q$4","v":0.3413173652694611},{"$f":"IF(P14=0,0,(P14*((LOG(P14))/LOG(2))))","v":-0.52931984349479466},null,null,{"$f":"N14","v":222},{"$f":"COUNTIF(L7:L34,T14)","v":10},{"$f":"U14/(W4-U11)","v":0.35714285714285715},{"$f":"IF(V14=0,0,(V14*((LOG(V14))/LOG(2))))","v":-0.53050958113222924},null,{"$f":"N14","v":222},{"$f":"COUNTIF(L35:L62,Y14)","v":6},{"$f":"Z14/(AB4-Z11)","v":0.22222222222222221},{"$f":"IF(AA14=0,0,(AA14*((LOG(AA14))/LOG(2))))","v":-0.48220555587606945},null,{"$f":"N14","v":222},{"$f":"COUNTIF(L63:L90,AD14)","v":10},{"$f":"AE14/(AG4-AE11)","v":0.35714285714285715},{"$f":"IF(AF14=0,0,(AF14*((LOG(AF14))/LOG(2))))","v":-0.53050958113222924},null,{"$f":"N14","v":222},{"$f":"COUNTIF(L91:L118,AI14)","v":13},{"$f":"AJ14/(AL4-AJ11)","v":0.4642857142857143},{"$f":"IF(AK14=0,0,(AK14*((LOG(AK14))/LOG(2))))","v":-0.51392491610409474},null,{"$f":"N14","v":222},{"$f":"COUNTIF(L119:L146,AN14)","v":5},{"$f":"AO14/(AQ4-AO11)","v":0.20833333333333334},{"$f":"IF(AP14=0,0,(AP14*((LOG(AP14))/LOG(2))))","v":-0.47146550121537367},null,{"$f":"N14","v":222},{"$f":"COUNTIF(L147:L174,AS14)","v":13},{"$f":"AT14/(AV4-AT11)","v":0.48148148148148145},{"$f":"IF(AU14=0,0,(AU14*((LOG(AU14))/LOG(2))))","v":-0.50769708119595902}]
[21,955,22,958,24,964,null,null,null,null,0,222,null,null,null,{"$f":"SUM(P7:P14)","v":1},{"$f":"-SUM(Q7:Q14)","v":2.1348370996819659},null,null,null,null,{"$f":"SUM(V7:V14)","v":1},{"$f":"-SUM(W7:W14)","v":1.5600508789044927},null,null,null,{"$f":"SUM(AA7:AA14)","v":1},{"$f":"-SUM(AB7:AB14)","v":1.7022065989201276},null,null,null,{"$f":"SUM(AF7:AF14)","v":1},{"$f":"-SUM(AG7:AG14)","v":1.863120568566631},null,null,null,{"$f":"SUM(AK7:AK14)","v":1},{"$f":"-SUM(AL7:AL14)","v":1.9100239811830297},null,null,null,{"$f":"SUM(AP7:AP14)","v":1},{"$f":"-SUM(AQ7:AQ14)","v":2.0681446676416551},null,null,null,{"$f":"SUM(AU7:AU14)","v":1},{"$f":"-SUM(AV7:AV14)","v":2.0745031005958907}]
[21,1055,22,1061,24,1069,null,null,null,null,0,222,null,null,null,"U=",{"$f":"Q15/(LOG(Q4)/LOG(2))","v":0.28912819570224796},null,null,null,null,"U1=",{"$f":"W15/(LOG(W4)/LOG(2))","v":0.32451335593020303},null,null,null,"U2=",{"$f":"AB15/(LOG(AB4)/LOG(2))","v":0.35408382083666989},null,null,null,"U3=",{"$f":"AG15/(LOG(AG4)/LOG(2))","v":0.38755627549321731},null,null,null,"U4=",{"$f":"AL15/(LOG(AL4)/LOG(2))","v":0.39731286999827281},null,null,null,"U5=",{"$f":"AQ15/(LOG(AQ4)/LOG(2))","v":0.43020428097629726},null,null,null,"U6=",{"$f":"AV15/(LOG(AV4)/LOG(2))","v":0.43628857668072996}]
[21,1288,22,1297,24,1303,null,null,null,null,0,222]
[21,1623,11,1630,22,1644,null,null,null,null,0,212]
[21,1743,22,1748,24,1753,null,null,null,null,0,222,null,"Total Target Seq"]
[21,1869,11,1871,22,1875,null,null,null,null,0,212,null,{"$f":"COUNTIF(L7:L174,G3)","v":5},null,28,28,28,28,28,28]
[21,2044,22,2045,24,2060,null,null,null,null,0,222,null,null,null,"% of reinforcement given in 6 equal intervals based on number of trials "]
[21,2160,11,2162,22,2164,null,null,null,null,0,212,null,null,null,"%_1","%_2","%_3","%_4","%_5","%_6"]
[12,2257,24,2261,24,2265,null,null,null,null,0,122,null,null,"target sequence",{"$f":"$G$3","v":211},{"$f":"$G$3","v":211},{"$f":"$G$3","v":211},{"$f":"$G$3","v":211},{"$f":"$G$3","v":211},{"$f":"$G$3","v":211}]
[12,2357,24,2363,24,2377,null,null,null,null,0,122,null,null,"total reinforcement",{"$f":"U11","v":0},{"$f":"Z11","v":1},{"$f":"AE11","v":0},{"$f":"AJ11","v":0},{"$f":"AO11","v":4},{"$f":"AT11","v":0}]
[21,2669,11,2673,22,2681,null,null,null,null,0,212,null,null,"% target"]
[12,2776,24,2779,24,2784,null,null,null,null,0,122,null,null,"CCRF"]
[21,2879,22,2883,24,2889,null,null,null,null,0,222,null,null,"% CCRf"]
[12,2980,24,2993,24,2998,null,null,null,null,0,122,null,null,"average response rate",{"$f":"F34/P20","v":135.78571428571428},{"$f":"(F62-F34)/Q20","v":135.35714285714286},{"$f":"(F90-F62)/R20","v":126.32142857142857},{"$f":"(F118-F90)/S20","v":151.60714285714286},{"$f":"(F146-F118)/T20","v":150.25},{"$f":"(F174-F146)/U20","v":-699.32142857142856}]
[21,3090,22,3093,24,3100,null,null,null,null,0,222]
[21,3197,11,3202,22,3208,null,null,null,null,0,212]
[21,3303,22,3311,24,3319,null,null,null,null,0,222]
[21,3424,11,3438,22,3441,null,null,null,null,0,212]
[21,3686,11,3688,22,3692,null,null,null,null,0,212]
[21,3792,11,3797,22,3802,null,null,null,null,0,212]
[12,3896,24,3907,24,3919,null,null,null,null,0,122]
[21,4168,11,4173,22,4184,null,null,null,null,0,212]
[12,4278,24,4291,24,4302,null,null,null,null,0,122]
[21,4405,22,4408,13,4411,null,null,null,null,0,221]
[21,4511,11,4517,22,4519,null,null,null,null,0,212]
[21,4614,22,4621,24,4625,null,null,null,null,0,222]
[12,4717,24,4729,24,4733,null,null,null,null,0,122]
[12,4830,24,4833,24,4837,null,null,null,null,0,122]
[21,4945,11,4953,22,4959,null,null,null,null,0,212]
[21,5062,11,5068,22,5076,null,null,null,null,0,212]
[21,5359,11,5365,22,5378,null,null,null,null,0,212]
[21,5478,22,5483,13,5490,null,null,null,null,0,221]
[21,5593,22,5601,24,5605,null,null,null,null,0,222]
[21,5704,11,5709,22,5715,null,null,null,null,0,212]
[21,5801,22,5806,24,5814,null,null,null,null,0,222]
[21,5920,11,5924,22,5936,null,null,null,null,0,212]
[12,6035,24,6040,24,6045,null,null,null,null,0,122]
[21,6155,22,6160,24,6176,null,null,null,null,0,222]
[21,6317,11,6325,22,6332,null,null,null,null,0,212]
[21,6540,11,6545,22,6561,null,null,null,null,0,212]
[21,6660,22,6669,24,6676,null,null,null,null,0,222]
[21,6773,11,6780,22,6785,null,null,null,null,0,212]
[21,6887,11,6889,22,6893,null,null,null,null,0,212]
[21,7038,11,7044,22,7050,null,null,null,null,0,212]
[21,7209,11,7213,11,7217,null,null,null,null,0,211]
[21,7310,11,7315,22,7321,null,null,null,null,0,212]
[21,7471,11,7476,22,7483,null,null,null,null,0,212]
[21,7584,22,7587,24,7592,null,null,null,null,0,222]
[21,7687,22,7692,13,7695,null,null,null,null,0,221]
[21,7792,22,7797,24,7805,null,null,null,null,0,222]
[21,7903,22,7908,24,7912,null,null,null,null,0,222]
[21,8009,11,8015,22,8021,null,null,null,null,0,212]
[21,8116,22,8122,24,8130,null,null,null,null,0,222]
[21,8235,11,8238,22,8246,null,null,null,null,0,212]
[21,8471,22,8476,13,8478,null,null,null,null,0,221]
[21,8682,11,8695,22,8703,null,null,null,null,0,212]
[12,8795,24,8801,24,8808,null,null,null,null,0,122]
[21,8908,22,8913,24,8921,null,null,null,null,0,222]
[21,9031,11,9045,22,9047,null,null,null,null,0,212]
[21,9144,11,9148,22,9154,null,null,null,null,0,212]
[21,9254,22,9257,13,9266,null,null,null,null,0,221]
[21,9364,11,9367,22,9369,null,null,null,null,0,212]
[12,9461,24,9465,24,9473,null,null,null,null,0,122]
[21,9574,22,9586,24,9600,null,null,null,null,0,222]
[21,9692,22,9699,24,9711,null,null,null,null,0,222]
[21,9810,11,9814,22,9821,null,null,null,null,0,212]
[12,9914,24,9916,24,9926,null,null,null,null,0,122]
[21,10038,22,10050,13,10053,null,null,null,null,0,221]
[21,10321,11,10326,22,10346,null,null,null,null,0,212]
[12,10439,24,10443,24,10446,null,null,null,null,0,122]
[21,10543,22,10550,24,10556,null,null,null,null,0,222]
[21,10655,22,10665,24,10673,null,null,null,null,0,222]
[21,10786,11,10790,22,10798,null,null,null,null,0,212]
[21,10895,22,10898,24,10903,null,null,null,null,0,222]
[21,11003,11,11008,22,11013,null,null,null,null,0,212]
[21,11110,22,11116,24,11129,null,null,null,null,0,222]
[21,11226,11,11231,22,11236,null,null,null,null,0,212]
[12,11330,13,11334,24,11340,null,null,null,null,0,112]
[21,11439,22,11444,24,11449,null,null,null,null,0,222]
[21,11554,22,11562,13,11571,null,null,null,null,0,221]
[21,12040,11,12048,22,12055,null,null,null,null,0,212]
[21,12155,22,12160,24,12167,null,null,null,null,0,222]
[21,12269,22,12271,24,12277,null,null,null,null,0,222]
[12,12365,24,12372,24,12379,null,null,null,null,0,122]
[21,12542,11,12550,22,12565,null,null,null,null,0,212]
[21,12838,22,12846,24,12851,null,null,null,null,0,222]
[21,12957,22,12968,24,12974,null,null,null,null,0,222]
[21,13073,11,13078,22,13085,null,null,null,null,0,212]
[12,13429,24,13435,24,13441,null,null,null,null,0,122]
[21,13563,22,13576,24,13584,null,null,null,null,0,222]
[21,13693,22,13697,24,13710,null,null,null,null,0,222]
[21,13808,11,13812,22,13817,null,null,null,null,0,212]
[21,13916,22,13919,24,13924,null,null,null,null,0,222]
[21,14021,22,14030,24,14037,null,null,null,null,0,222]
[21,14138,22,14150,24,14156,null,null,null,null,0,222]
[12,14250,24,14253,24,14258,null,null,null,null,0,122]
[12,14354,24,14357,24,14361,null,null,null,null,0,122]
[21,14458,22,14464,24,14471,null,null,null,null,0,222]
[12,14564,24,14567,24,14573,null,null,null,null,0,122]
[21,14689,22,14701,13,14704,null,null,null,null,0,221]
[21,15037,11,15042,22,15051,null,null,null,null,0,212]
[21,15152,22,15157,24,15161,null,null,null,null,0,222]
[21,15262,22,15266,24,15271,null,null,null,null,0,222]
[12,15364,24,15370,24,15374,null,null,null,null,0,122]
[21,15475,22,15479,13,15485,null,null,null,null,0,221]
[21,15670,22,15675,24,15681,null,null,null,null,0,222]
[12,15773,24,15790,24,15796,null,null,null,null,0,122]
[21,15899,11,15903,22,15913,null,null,null,null,0,212]
[12,16007,24,16013,13,16016,null,null,null,null,0,121]
[21,16114,22,16120,13,16122,null,null,null,null,0,221]
[21,16326,22,16331,24,16341,null,null,null,null,0,222]
[12,16440,24,16444,24,16449,null,null,null,null,0,122]
[12,16555,24,16565,24,16571,null,null,null,null,0,122]
[21,16666,11,16669,11,16680,null,null,null,null,0,211]
[21,16772,11,16779,22,16784,null,null,null,null,0,212]
[21,17012,22,17024,24,17035,null,null,null,null,0,222]
[21,17155,11,17163,22,17175,null,null,null,null,0,212]
[21,17310,11,17317,11,17320,null,null,null,null,0,211]
[21,17417,11,17432,22,17435,null,null,null,null,0,212]
[21,17732,11,17737,22,17743,null,null,null,null,0,212]
[21,17854,11,17860,11,17863,null,null,null,null,0,211]
[21,17990,11,18001,22,18010,null,null,null,null,0,212]
[21,18217,11,18222,11,18224,null,null,null,null,0,211]
[21,18614,11,18623,22,18627,null,null,null,null,0,212]
[12,18720,24,18728,24,18735,null,null,null,null,0,122]
[21,18827,11,18828,22,18835,null,null,null,null,0,212]
[12,18929,24,18934,24,18937,null,null,null,null,0,122]
[21,19066,22,19081,24,19094,null,null,null,null,0,222]
[21,19236,22,19241,13,19248,null,null,null,null,0,221]
[21,19367,22,19374,24,19379,null,null,null,null,0,222]
[12,19471,24,19476,24,19484,null,null,null,null,0,122]
[21,19575,11,19578,22,19581,null,null,null,null,0,212]
[12,19679,24,19683,13,19688,null,null,null,null,0,121]
[12,19783,13,19787,24,19794,null,null,null,null,0,112]
[21,19891,11,19894,22,19896,null,null,null,null,0,212]
[12,19993,13,20000,24,20008,null,null,null,null,0,112]
[12,20101,24,20109,24,20113,null,null,null,null,0,122]
[21,20546,22,20552,24,20560,null,null,null,null,0,222]
[21,20658,22,20662,24,20669,null,null,null,null,0,222]
[21,20771,22,20779,13,20782,null,null,null,null,0,221]
[21,20872,22,20886,24,20900,null,null,null,null,0,222]
[21,21205,11,21214,22,21220,null,null,null,null,0,212]
[21,21318,22,21323,24,21329,null,null,null,null,0,222]
[21,21472,22,21478,13,21481,null,null,null,null,0,221]
[21,21579,22,21585,24,21592,null,null,null,null,0,222]
[21,21904,22,21908,13,21912,null,null,null,null,0,221]
[12,22013,24,22017,24,22027,null,null,null,null,0,122]
[21,22127,22,22131,24,22137,null,null,null,null,0,222]
[21,22236,22,22241,24,22246,null,null,null,null,0,222]
[21,22340,22,22343,24,22348,null,null,null,null,0,222]
[21,22449,22,22455,24,22461,null,null,null,null,0,222]
[21,22561,22,22568,24,22579,null,null,null,null,0,222]
[21,22701,11,22714,22,22728,null,null,null,null,0,212]
[21,23128,22,23139,24,23145,null,null,null,null,0,222]
[21,23449,11,23456,22,23463,null,null,null,null,0,212]
[21,23565,22,23569,24,23576,null,null,null,null,0,222]
[21,23677,22,23680,24,23685,null,null,null,null,0,222]
[21,23792,11,23795,22,23797,null,null,null,null,0,212]
[21,23897,11,23899,22,23902,null,null,null,null,0,212]
[21,24001,null,null,null,null,null,null,null,null,null,2]

{"sheet":"!N220940.Gus","index":26,"n_rows":28,"n_cols":48,"rows_kept":28,"cut":false,"hidden":false,"merged":[[4,39,4,42],[5,39,5,40],[4,44,4,47],[5,44,5,45],[4,24,4,27],[5,24,5,25],[4,29,4,32],[5,29,5,30],[4,34,4,37],[5,34,5,35],[1,1,1,2],[5,13,5,14],[18,13,18,14],[19,13,19,14],[4,19,4,22],[5,19,5,20]]}
["Report for:!N220940.Gus"]
["Date:","<date>"]
["Hen:","<hen>",null,null,null,"Correct Sequence",{"$f":"Start!J2","v":211},null,null,null,null,null,null,null,null,"Total Sequences in Data",{"$f":"4994-COUNTBLANK(L7:L5000)","v":3},null,null,null,null,"Total Sequences in Block Data",{"$f":"COUNTA(L7:L7)","v":1},null,null,null,"Total Sequences in Block Data",{"$f":"COUNTA(L7:L8)","v":2},null,null,null,"Total Sequences in Block Data",{"$f":"COUNTA(L8:L8)","v":1},null,null,null,"Total Sequences in Block Data",{"$f":"COUNTA(L8:L9)","v":2},null,null,null,"Total Sequences in Block Data",{"$f":"COUNTA(L9:L9)","v":1},null,null,null,"Total Sequences in Block Data",{"$f":"COUNTA(L9:L10)","v":1}]
[null,null,null,null,null,null,null,null,null,null,null,null,null,null,null,"Total Sequences in Summary",{"$f":"SUM(O7:O14)","v":3},null,null,null,null,"Total Sequences in Block Summary",{"$f":"SUM(U7:U14)","v":1},null,null,null,"Total Sequences in Block Summary",{"$f":"SUM(Z7:Z14)","v":2},null,null,null,"Total Sequences in Block Summary",{"$f":"SUM(AE7:AE14)","v":1},null,null,null,"Total Sequences in Block Summary",{"$f":"SUM(AJ7:AJ14)","v":2},null,null,null,"Total Sequences in Block Summary",{"$f":"SUM(AO7:AO14)","v":1},null,null,null,"Total Sequences in Block Summary",{"$f":"SUM(AT7:AT14)","v":1}]
[null,null,null,null,null,null,null,null,null,null,null,null,null,null,null,null,null,null,null,"Block 1",null,null,null,null,"Block 2",null,null,null,null,"Block 3",null,null,null,null,"Block 4",null,null,null,null,"Block 5",null,null,null,null,"Block 6"]
["Sequence\nComponent\n1","Time\n1","Sequence\nComponent\n2","Time\n2","Sequence\nComponent\n3","Time\n3","Sequence\nComponent\n4","Time\n4","Sequence\nComponent\n5","Time\n5","Correct?\n0=No 1=Yes","Sequence",null,"Frequency",null,"Relative Frequency","Variability",null,null,"Frequency",null,"Relative Frequency","Variability",null,"Frequency",null,"Relative Frequency","Variability",null,"Frequency",null,"Relative Frequency","Variability",null,"Frequency",null,"Relative Frequency","Variability",null,"Frequency",null,"Relative Frequency","Variability",null,"Frequency",null,"Relative Frequency","Variability"]
[12,211,24,226,24,234,null,null,null,null,0,122,null,111,{"$f":"COUNTIF($L$7:$L$500,N7)","v":0},{"$f":"O7/$Q$4","v":0},{"$f":"IF(P7=0,0,(P7*((LOG(P7))/LOG(2))))","v":0},null,null,{"$f":"N7","v":111},{"$f":"COUNTIF(L7:L7,T7)","v":0},{"$f":"U7/(W4-U11)","v":0},{"$f":"IF(V7=0,0,(V7*((LOG(V7))/LOG(2))))","v":0},null,{"$f":"N7","v":111},{"$f":"COUNTIF(L7:L8,Y7)","v":0},{"$f":"Z7/(AB4-Z11)","v":0},{"$f":"IF(AA7=0,0,(AA7*((LOG(AA7))/LOG(2))))","v":0},null,{"$f":"N7","v":111},{"$f":"COUNTIF(L8:L8,AD7)","v":0},{"$f":"AE7/(AG4-AE11)","v":0},{"$f":"IF(AF7=0,0,(AF7*((LOG(AF7))/LOG(2))))","v":0},null,{"$f":"N7","v":111},{"$f":"COUNTIF(L8:L9,AI7)","v":0},{"$f":"AJ7/(AL4-AJ11)","v":0},{"$f":"IF(AK7=0,0,(AK7*((LOG(AK7))/LOG(2))))","v":0},null,{"$f":"N7","v":111},{"$f":"COUNTIF(L9:L9,AN7)","v":0},{"$f":"AO7/(AQ4-AO11)","v":0},{"$f":"IF(AP7=0,0,(AP7*((LOG(AP7))/LOG(2))))","v":0},null,{"$f":"N7","v":111},{"$f":"COUNTIF(L9:L10,AS7)","v":0},{"$f":"AT7/(AV4-AT11)","v":0},{"$f":"IF(AU7=0,0,(AU7*((LOG(AU7))/LOG(2))))","v":0}]
[21,3142,22,3149,24,3156,null,null,null,null,0,222,null,112,{"$f":"COUNTIF($L$7:$L$500,N8)","v":1},{"$f":"O8/$Q$4","v":0.33333333333333331},{"$f":"IF(P8=0,0,(P8*((LOG(P8))/LOG(2))))","v":-0.52832083357371862},null,null,{"$f":"N8","v":112},{"$f":"COUNTIF(L7:L7,T8)","v":0},{"$f":"U8/(W4-U11)","v":0},{"$f":"IF(V8=0,0,(V8*((LOG(V8))/LOG(2))))","v":0},null,{"$f":"N8","v":112},{"$f":"COUNTIF(L7:L8,Y8)","v":0},{"$f":"Z8/(AB4-Z11)","v":0},{"$f":"IF(AA8=0,0,(AA8*((LOG(AA8))/LOG(2))))","v":0},null,{"$f":"N8","v":112},{"$f":"COUNTIF(L8:L8,AD8)","v":0},{"$f":"AE8/(AG4-AE11)","v":0},{"$f":"IF(AF8=0,0,(AF8*((LOG(AF8))/LOG(2))))","v":0},null,{"$f":"N8","v":112},{"$f":"COUNTIF(L8:L9,AI8)","v":1},{"$f":"AJ8/(AL4-AJ11)","v":0.5},{"$f":"IF(AK8=0,0,(AK8*((LOG(AK8))/LOG(2))))","v":-0.5},null,{"$f":"N8","v":112},{"$f":"COUNTIF(L9:L9,AN8)","v":1},{"$f":"AO8/(AQ4-AO11)","v":1},{"$f":"IF(AP8=0,0,(AP8*((LOG(AP8))/LOG(2))))","v":0},null,{"$f":"N8","v":112},{"$f":"COUNTIF(L9:L10,AS8)","v":1},{"$f":"AT8/(AV4-AT11)","v":1},{"$f":"IF(AU8=0,0,(AU8*((LOG(AU8))/LOG(2))))","v":0}]
[12,3395,13,3399,24,3414,null,null,null,null,0,112,null,121,{"$f":"COUNTIF($L$7:$L$500,N9)","v":0},{"$f":"O9/$Q$4","v":0},{"$f":"IF(P9=0,0,(P9*((LOG(P9))/LOG(2))))","v":0},null,null,{"$f":"N9","v":121},{"$f":"COUNTIF(L7:L7,T9)","v":0},{"$f":"U9/(W4-U11)","v":0},{"$f":"IF(V9=0,0,(V9*((LOG(V9))/LOG(2))))","v":0},null,{"$f":"N9","v":121},{"$f":"COUNTIF(L7:L8,Y9)","v":0},{"$f":"Z9/(AB4-Z11)","v":0},{"$f":"IF(AA9=0,0,(AA9*((LOG(AA9))/LOG(2))))","v":0},null,{"$f":"N9","v":121},{"$f":"COUNTIF(L8:L8,AD9)","v":0},{"$f":"AE9/(AG4-AE11)","v":0},{"$f":"IF(AF9=0,0,(AF9*((LOG(AF9))/LOG(2))))","v":0},null,{"$f":"N9","v":121},{"$f":"COUNTIF(L8:L9,AI9)","v":0},{"$f":"AJ9/(AL4-AJ11)","v":0},{"$f":"IF(AK9=0,0,(AK9*((LOG(AK9))/LOG(2))))","v":0},null,{"$f":"N9","v":121},{"$f":"COUNTIF(L9:L9,AN9)","v":0},{"$f":"AO9/(AQ4-AO11)","v":0},{"$f":"IF(AP9=0,0,(AP9*((LOG(AP9))/LOG(2))))","v":0},null,{"$f":"N9","v":121},{"$f":"COUNTIF(L9:L10,AS9)","v":0},{"$f":"AT9/(AV4-AT11)","v":0},{"$f":"IF(AU9=0,0,(AU9*((LOG(AU9))/LOG(2))))","v":0}]
[null,null,null,null,null,null,null,null,null,null,null,null,null,122,{"$f":"COUNTIF($L$7:$L$500,N10)","v":1},{"$f":"O10/$Q$4","v":0.33333333333333331},{"$f":"IF(P10=0,0,(P10*((LOG(P10))/LOG(2))))","v":-0.52832083357371862},null,null,{"$f":"N10","v":122},{"$f":"COUNTIF(L7:L7,T10)","v":1},{"$f":"U10/(W4-U11)","v":1},{"$f":"IF(V10=0,0,(V10*((LOG(V10))/LOG(2))))","v":0},null,{"$f":"N10","v":122},{"$f":"COUNTIF(L7:L8,Y10)","v":1},{"$f":"Z10/(AB4-Z11)","v":0.5},{"$f":"IF(AA10=0,0,(AA10*((LOG(AA10))/LOG(2))))","v":-0.5},null,{"$f":"N10","v":122},{"$f":"COUNTIF(L8:L8,AD10)","v":0},{"$f":"AE10/(AG4-AE11)","v":0},{"$f":"IF(AF10=0,0,(AF10*((LOG(AF10))/LOG(2))))","v":0},null,{"$f":"N10","v":122},{"$f":"COUNTIF(L8:L9,AI10)","v":0},{"$f":"AJ10/(AL4-AJ11)","v":0},{"$f":"IF(AK10=0,0,(AK10*((LOG(AK10))/LOG(2))))","v":0},null,{"$f":"N10","v":122},{"$f":"COUNTIF(L9:L9,AN10)","v":0},{"$f":"AO10/(AQ4-AO11)","v":0},{"$f":"IF(AP10=0,0,(AP10*((LOG(AP10))/LOG(2))))","v":0},null,{"$f":"N10","v":122},{"$f":"COUNTIF(L9:L10,AS10)","v":0},{"$f":"AT10/(AV4-AT11)","v":0},{"$f":"IF(AU10=0,0,(AU10*((LOG(AU10))/LOG(2))))","v":0}]
[null,null,null,null,null,null,null,null,null,null,null,null,null,211,{"$f":"COUNTIF($L$7:$L$500,N11)","v":0},{"$f":"O11/$Q$4","v":0},{"$f":"IF(P11=0,0,(P11*((LOG(P11))/LOG(2))))","v":0},null,null,{"$f":"N11","v":211},{"$f":"COUNTIF(L7:L7,T11)","v":0},null,null,null,{"$f":"N11","v":211},{"$f":"COUNTIF(L7:L8,Y11)","v":0},null,null,null,{"$f":"N11","v":211},{"$f":"COUNTIF(L8:L8,AD11)","v":0},null,null,null,{"$f":"N11","v":211},{"$f":"COUNTIF(L8:L9,AI11)","v":0},null,null,null,{"$f":"N11","v":211},{"$f":"COUNTIF(L9:L9,AN11)","v":0},null,null,null,{"$f":"N11","v":211},{"$f":"COUNTIF(L9:L10,AS11)","v":0}]
[null,null,null,null,null,null,null,null,null,null,null,null,null,212,{"$f":"COUNTIF($L$7:$L$500,N12)","v":0},{"$f":"O12/$Q$4","v":0},{"$f":"IF(P12=0,0,(P12*((LOG(P12))/LOG(2))))","v":0},null,null,{"$f":"N12","v":212},{"$f":"COUNTIF(L7:L7,T12)","v":0},{"$f":"U12/(W4-U11)","v":0},{"$f":"IF(V12=0,0,(V12*((LOG(V12))/LOG(2))))","v":0},null,{"$f":"N12","v":212},{"$f":"COUNTIF(L7:L8,Y12)","v":0},{"$f":"Z12/(AB4-Z11)","v":0},{"$f":"IF(AA12=0,0,(AA12*((LOG(AA12))/LOG(2))))","v":0},null,{"$f":"N12","v":212},{"$f":"COUNTIF(L8:L8,AD12)","v":0},{"$f":"AE12/(AG4-AE11)","v":0},{"$f":"IF(AF12=0,0,(AF12*((LOG(AF12))/LOG(2))))","v":0},null,{"$f":"N12","v":212},{"$f":"COUNTIF(L8:L9,AI12)","v":0},{"$f":"AJ12/(AL4-AJ11)","v":0},{"$f":"IF(AK12=0,0,(AK12*((LOG(AK12))/LOG(2))))","v":0},null,{"$f":"N12","v":212},{"$f":"COUNTIF(L9:L9,AN12)","v":0},{"$f":"AO12/(AQ4-AO11)","v":0},{"$f":"IF(AP12=0,0,(AP12*((LOG(AP12))/LOG(2))))","v":0},null,{"$f":"N12","v":212},{"$f":"COUNTIF(L9:L10,AS12)","v":0},{"$f":"AT12/(AV4-AT11)","v":0},{"$f":"IF(AU12=0,0,(AU12*((LOG(AU12))/LOG(2))))","v":0}]
[null,null,null,null,null,null,null,null,null,null,null,null,null,221,{"$f":"COUNTIF($L$7:$L$500,N13)","v":0},{"$f":"O13/$Q$4","v":0},{"$f":"IF(P13=0,0,(P13*((LOG(P13))/LOG(2))))","v":0},null,null,{"$f":"N13","v":221},{"$f":"COUNTIF(L7:L7,T13)","v":0},{"$f":"U13/(W4-U11)","v":0},{"$f":"IF(V13=0,0,(V13*((LOG(V13))/LOG(2))))","v":0},null,{"$f":"N13","v":221},{"$f":"COUNTIF(L7:L8,Y13)","v":0},{"$f":"Z13/(AB4-Z11)","v":0},{"$f":"IF(AA13=0,0,(AA13*((LOG(AA13))/LOG(2))))","v":0},null,{"$f":"N13","v":221},{"$f":"COUNTIF(L8:L8,AD13)","v":0},{"$f":"AE13/(AG4-AE11)","v":0},{"$f":"IF(AF13=0,0,(AF13*((LOG(AF13))/LOG(2))))","v":0},null,{"$f":"N13","v":221},{"$f":"COUNTIF(L8:L9,AI13)","v":0},{"$f":"AJ13/(AL4-AJ11)","v":0},{"$f":"IF(AK13=0,0,(AK13*((LOG(AK13))/LOG(2))))","v":0},null,{"$f":"N13","v":221},{"$f":"COUNTIF(L9:L9,AN13)","v":0},{"$f":"AO13/(AQ4-AO11)","v":0},{"$f":"IF(AP13=0,0,(AP13*((LOG(AP13))/LOG(2))))","v":0},null,{"$f":"N13","v":221},{"$f":"COUNTIF(L9:L10,AS13)","v":0},{"$f":"AT13/(AV4-AT11)","v":0},{"$f":"IF(AU13=0,0,(AU13*((LOG(AU13))/LOG(2))))","v":0}]
[null,null,null,null,null,null,null,null,null,null,null,null,null,222,{"$f":"COUNTIF($L$7:$L$500,N14)","v":1},{"$f":"O14/$Q$4","v":0.33333333333333331},{"$f":"IF(P14=0,0,(P14*((LOG(P14))/LOG(2))))","v":-0.52832083357371862},null,null,{"$f":"N14","v":222},{"$f":"COUNTIF(L7:L7,T14)","v":0},{"$f":"U14/(W4-U11)","v":0},{"$f":"IF(V14=0,0,(V14*((LOG(V14))/LOG(2))))","v":0},null,{"$f":"N14","v":222},{"$f":"COUNTIF(L7:L8,Y14)","v":1},{"$f":"Z14/(AB4-Z11)","v":0.5},{"$f":"IF(AA14=0,0,(AA14*((LOG(AA14))/LOG(2))))","v":-0.5},null,{"$f":"N14","v":222},{"$f":"COUNTIF(L8:L8,AD14)","v":1},{"$f":"AE14/(AG4-AE11)","v":1},{"$f":"IF(AF14=0,0,(AF14*((LOG(AF14))/LOG(2))))","v":0},null,{"$f":"N14","v":222},{"$f":"COUNTIF(L8:L9,AI14)","v":1},{"$f":"AJ14/(AL4-AJ11)","v":0.5},{"$f":"IF(AK14=0,0,(AK14*((LOG(AK14))/LOG(2))))","v":-0.5},null,{"$f":"N14","v":222},{"$f":"COUNTIF(L9:L9,AN14)","v":0},{"$f":"AO14/(AQ4-AO11)","v":0},{"$f":"IF(AP14=0,0,(AP14*((LOG(AP14))/LOG(2))))","v":0},null,{"$f":"N14","v":222},{"$f":"COUNTIF(L9:L10,AS14)","v":0},{"$f":"AT14/(AV4-AT11)","v":0},{"$f":"IF(AU14=0,0,(AU14*((LOG(AU14))/LOG(2))))","v":0}]
[null,null,null,null,null,null,null,null,null,null,null,null,null,null,null,{"$f":"SUM(P7:P14)","v":1},{"$f":"-SUM(Q7:Q14)","v":1.5849625007211559},null,null,null,null,{"$f":"SUM(V7:V14)","v":1},{"$f":"-SUM(W7:W14)","v":0},null,null,null,{"$f":"SUM(AA7:AA14)","v":1},{"$f":"-SUM(AB7:AB14)","v":1},null,null,null,{"$f":"SUM(AF7:AF14)","v":1},{"$f":"-SUM(AG7:AG14)","v":0},null,null,null,{"$f":"SUM(AK7:AK14)","v":1},{"$f":"-SUM(AL7:AL14)","v":1},null,null,null,{"$f":"SUM(AP7:AP14)","v":1},{"$f":"-SUM(AQ7:AQ14)","v":0},null,null,null,{"$f":"SUM(AU7:AU14)","v":1},{"$f":"-SUM(AV7:AV14)","v":0}]
[null,null,null,null,null,null,null,null,null,null,null,null,null,null,null,"U=",{"$f":"Q15/(LOG(Q4)/LOG(2))","v":0.99999999999999989},null,null,null,null,"U1=",{"$f":"W15/(LOG(W4)/LOG(2))","v":{"$error":"#DIV/0!"}},null,null,null,"U2=",{"$f":"AB15/(LOG(AB4)/LOG(2))","v":1},null,null,null,"U3=",{"$f":"AG15/(LOG(AG4)/LOG(2))","v":{"$error":"#DIV/0!"}},null,null,null,"U4=",{"$f":"AL15/(LOG(AL4)/LOG(2))","v":1},null,null,null,"U5=",{"$f":"AQ15/(LOG(AQ4)/LOG(2))","v":{"$error":"#DIV/0!"}},null,null,null,"U6=",{"$f":"AV15/(LOG(AV4)/LOG(2))","v":{"$error":"#DIV/0!"}}]
[]
[]
[null,null,null,null,null,null,null,null,null,null,null,null,null,"Total Target Seq"]
[null,null,null,null,null,null,null,null,null,null,null,null,null,{"$f":"COUNTIF(L7:L9,G3)","v":0},null,1,0,1,0,1,0]
[null,null,null,null,null,null,null,null,null,null,null,null,null,null,null,"% of reinforcement given in 6 equal intervals based on number of trials "]
[null,null,null,null,null,null,null,null,null,null,null,null,null,null,null,"%_1","%_2","%_3","%_4","%_5","%_6"]
[null,null,null,null,null,null,null,null,null,null,null,null,null,null,"target sequence",{"$f":"$G$3","v":211},{"$f":"$G$3","v":211},{"$f":"$G$3","v":211},{"$f":"$G$3","v":211},{"$f":"$G$3","v":211},{"$f":"$G$3","v":211}]
[null,null,null,null,null,null,null,null,null,null,null,null,null,null,"total reinforcement",{"$f":"U11","v":0},{"$f":"Z11","v":0},{"$f":"AE11","v":0},{"$f":"AJ11","v":0},{"$f":"AO11","v":0},{"$f":"AT11","v":0}]
[null,null,null,null,null,null,null,null,null,null,null,null,null,null,"% target"]
[null,null,null,null,null,null,null,null,null,null,null,null,null,null,"CCRF"]
[null,null,null,null,null,null,null,null,null,null,null,null,null,null,"% CCRf"]
[null,null,null,null,null,null,null,null,null,null,null,null,null,null,"average response rate",{"$f":"F7/P20","v":234},{"$f":"(F7-F7)/Q20","v":{"$error":"#DIV/0!"}},{"$f":"(F8-F7)/R20","v":2922},{"$f":"(F8-F8)/S20","v":{"$error":"#DIV/0!"}},{"$f":"(F9-F8)/T20","v":258},{"$f":"(F9-F9)/U20","v":{"$error":"#DIV/0!"}}]

{"sheet":"!N221A10.Gus","index":27,"n_rows":174,"n_cols":48,"rows_kept":174,"cut":false,"hidden":false,"merged":[[4,39,4,42],[5,39,5,40],[4,44,4,47],[5,44,5,45],[4,24,4,27],[5,24,5,25],[4,29,4,32],[5,29,5,30],[4,34,4,37],[5,34,5,35],[1,1,1,2],[5,13,5,14],[18,13,18,14],[19,13,19,14],[4,19,4,22],[5,19,5,20]]}
["Report for:!N221A10.Gus"]
["Date:","<date>"]
["Hen:","<hen>",null,null,null,"Correct Sequence",{"$f":"Start!J2","v":211},null,null,null,null,null,null,null,null,"Total Sequences in Data",{"$f":"4994-COUNTBLANK(L7:L5000)","v":168},null,null,null,null,"Total Sequences in Block Data",{"$f":"COUNTA(L7:L34)","v":28},null,null,null,"Total Sequences in Block Data",{"$f":"COUNTA(L35:L62)","v":28},null,null,null,"Total Sequences in Block Data",{"$f":"COUNTA(L63:L90)","v":28},null,null,null,"Total Sequences in Block Data",{"$f":"COUNTA(L91:L118)","v":28},null,null,null,"Total Sequences in Block Data",{"$f":"COUNTA(L119:L146)","v":28},null,null,null,"Total Sequences in Block Data",{"$f":"COUNTA(L147:L174)","v":28}]
[null,null,null,null,null,null,null,null,null,null,null,null,null,null,null,"Total Sequences in Summary",{"$f":"SUM(O7:O14)","v":168},null,null,null,null,"Total Sequences in Block Summary",{"$f":"SUM(U7:U14)","v":28},null,null,null,"Total Sequences in Block Summary",{"$f":"SUM(Z7:Z14)","v":28},null,null,null,"Total Sequences in Block Summary",{"$f":"SUM(AE7:AE14)","v":28},null,null,null,"Total Sequences in Block Summary",{"$f":"SUM(AJ7:AJ14)","v":28},null,null,null,"Total Sequences in Block Summary",{"$f":"SUM(AO7:AO14)","v":28},null,null,null,"Total Sequences in Block Summary",{"$f":"SUM(AT7:AT14)","v":28}]
[null,null,null,null,null,null,null,null,null,null,null,null,null,null,null,null,null,null,null,"Block 1",null,null,null,null,"Block 2",null,null,null,null,"Block 3",null,null,null,null,"Block 4",null,null,null,null,"Block 5",null,null,null,null,"Block 6"]
["Sequence\nComponent\n1","Time\n1","Sequence\nComponent\n2","Time\n2","Sequence\nComponent\n3","Time\n3","Sequence\nComponent\n4","Time\n4","Sequence\nComponent\n5","Time\n5","Correct?\n0=No 1=Yes","Sequence",null,"Frequency",null,"Relative Frequency","Variability",null,null,"Frequency",null,"Relative Frequency","Variability",null,"Frequency",null,"Relative Frequency","Variability",null,"Frequency",null,"Relative Frequency","Variability",null,"Frequency",null,"Relative Frequency","Variability",null,"Frequency",null,"Relative Frequency","Variability",null,"Frequency",null,"Relative Frequency","Variability"]
[21,68,22,75,24,83,null,null,null,null,0,222,null,111,{"$f":"COUNTIF($L$7:$L$500,N7)","v":0},{"$f":"O7/$Q$4","v":0},{"$f":"IF(P7=0,0,(P7*((LOG(P7))/LOG(2))))","v":0},null,null,{"$f":"N7","v":111},{"$f":"COUNTIF(L7:L34,T7)","v":0},{"$f":"U7/(W4-U11)","v":0},{"$f":"IF(V7=0,0,(V7*((LOG(V7))/LOG(2))))","v":0},null,{"$f":"N7","v":111},{"$f":"COUNTIF(L35:L62,Y7)","v":0},{"$f":"Z7/(AB4-Z11)","v":0},{"$f":"IF(AA7=0,0,(AA7*((LOG(AA7))/LOG(2))))","v":0},null,{"$f":"N7","v":111},{"$f":"COUNTIF(L63:L90,AD7)","v":0},{"$f":"AE7/(AG4-AE11)","v":0},{"$f":"IF(AF7=0,0,(AF7*((LOG(AF7))/LOG(2))))","v":0},null,{"$f":"N7","v":111},{"$f":"COUNTIF(L91:L118,AI7)","v":0},{"$f":"AJ7/(AL4-AJ11)","v":0},{"$f":"IF(AK7=0,0,(AK7*((LOG(AK7))/LOG(2))))","v":0},null,{"$f":"N7","v":111},{"$f":"COUNTIF(L119:L146,AN7)","v":0},{"$f":"AO7/(AQ4-AO11)","v":0},{"$f":"IF(AP7=0,0,(AP7*((LOG(AP7))/LOG(2))))","v":0},null,{"$f":"N7","v":111},{"$f":"COUNTIF(L147:L174,AS7)","v":0},{"$f":"AT7/(AV4-AT11)","v":0},{"$f":"IF(AU7=0,0,(AU7*((LOG(AU7))/LOG(2))))","v":0}]
[21,292,22,297,24,316,null,null,null,null,0,222,null,112,{"$f":"COUNTIF($L$7:$L$500,N8)","v":1},{"$f":"O8/$Q$4","v":5.9523809523809521E-3},{"$f":"IF(P8=0,0,(P8*((LOG(P8))/LOG(2))))","v":-4.4001889421302141E-2},null,null,{"$f":"N8","v":112},{"$f":"COUNTIF(L7:L34,T8)","v":0},{"$f":"U8/(W4-U11)","v":0},{"$f":"IF(V8=0,0,(V8*((LOG(V8))/LOG(2))))","v":0},null,{"$f":"N8","v":112},{"$f":"COUNTIF(L35:L62,Y8)","v":0},{"$f":"Z8/(AB4-Z11)","v":0},{"$f":"IF(AA8=0,0,(AA8*((LOG(AA8))/LOG(2))))","v":0},null,{"$f":"N8","v":112},{"$f":"COUNTIF(L63:L90,AD8)","v":0},{"$f":"AE8/(AG4-AE11)","v":0},{"$f":"IF(AF8=0,0,(AF8*((LOG(AF8))/LOG(2))))","v":0},null,{"$f":"N8","v":112},{"$f":"COUNTIF(L91:L118,AI8)","v":1},{"$f":"AJ8/(AL4-AJ11)","v":3.7037037037037035E-2},{"$f":"IF(AK8=0,0,(AK8*((LOG(AK8))/LOG(2))))","v":-0.1761069445245729},null,{"$f":"N8","v":112},{"$f":"COUNTIF(L119:L146,AN8)","v":0},{"$f":"AO8/(AQ4-AO11)","v":0},{"$f":"IF(AP8=0,0,(AP8*((LOG(AP8))/LOG(2))))","v":0},null,{"$f":"N8","v":112},{"$f":"COUNTIF(L147:L174,AS8)","v":0},{"$f":"AT8/(AV4-AT11)","v":0},{"$f":"IF(AU8=0,0,(AU8*((LOG(AU8))/LOG(2))))","v":0}]
[21,459,22,462,24,472,null,null,null,null,0,222,null,121,{"$f":"COUNTIF($L$7:$L$500,N9)","v":6},{"$f":"O9/$Q$4","v":3.5714285714285712E-2},{"$f":"IF(P9=0,0,(P9*((LOG(P9))/LOG(2))))","v":-0.17169124721634299},null,null,{"$f":"N9","v":121},{"$f":"COUNTIF(L7:L34,T9)","v":1},{"$f":"U9/(W4-U11)","v":3.8461538461538464E-2},{"$f":"IF(V9=0,0,(V9*((LOG(V9))/LOG(2))))","v":-0.18078614300542661},null,{"$f":"N9","v":121},{"$f":"COUNTIF(L35:L62,Y9)","v":1},{"$f":"Z9/(AB4-Z11)","v":3.5714285714285712E-2},{"$f":"IF(AA9=0,0,(AA9*((LOG(AA9))/LOG(2))))","v":-0.17169124721634299},null,{"$f":"N9","v":121},{"$f":"COUNTIF(L63:L90,AD9)","v":1},{"$f":"AE9/(AG4-AE11)","v":3.5714285714285712E-2},{"$f":"IF(AF9=0,0,(AF9*((LOG(AF9))/LOG(2))))","v":-0.17169124721634299},null,{"$f":"N9","v":121},{"$f":"COUNTIF(L91:L118,AI9)","v":0},{"$f":"AJ9/(AL4-AJ11)","v":0},{"$f":"IF(AK9=0,0,(AK9*((LOG(AK9))/LOG(2))))","v":0},null,{"$f":"N9","v":121},{"$f":"COUNTIF(L119:L146,AN9)","v":0},{"$f":"AO9/(AQ4-AO11)","v":0},{"$f":"IF(AP9=0,0,(AP9*((LOG(AP9))/LOG(2))))","v":0},null,{"$f":"N9","v":121},{"$f":"COUNTIF(L147:L174,AS9)","v":3},{"$f":"AT9/(AV4-AT11)","v":0.10714285714285714},{"$f":"IF(AU9=0,0,(AU9*((LOG(AU9))/LOG(2))))","v":-0.34525633085747659}]
[21,662,22,670,24,677,null,null,null,null,0,222,null,122,{"$f":"COUNTIF($L$7:$L$500,N10)","v":29},{"$f":"O10/$Q$4","v":0.17261904761904762},{"$f":"IF(P10=0,0,(P10*((LOG(P10))/LOG(2))))","v":-0.43747474048740742},null,null,{"$f":"N10","v":122},{"$f":"COUNTIF(L7:L34,T10)","v":5},{"$f":"U10/(W4-U11)","v":0.19230769230769232},{"$f":"IF(V10=0,0,(V10*((LOG(V10))/LOG(2))))","v":-0.45740608139494804},null,{"$f":"N10","v":122},{"$f":"COUNTIF(L35:L62,Y10)","v":6},{"$f":"Z10/(AB4-Z11)","v":0.21428571428571427},{"$f":"IF(AA10=0,0,(AA10*((LOG(AA10))/LOG(2))))","v":-0.47622694742923877},null,{"$f":"N10","v":122},{"$f":"COUNTIF(L63:L90,AD10)","v":5},{"$f":"AE10/(AG4-AE11)","v":0.17857142857142858},{"$f":"IF(AF10=0,0,(AF10*((LOG(AF10))/LOG(2))))","v":-0.44382621913754317},null,{"$f":"N10","v":122},{"$f":"COUNTIF(L91:L118,AI10)","v":7},{"$f":"AJ10/(AL4-AJ11)","v":0.25925925925925924},{"$f":"IF(AK10=0,0,(AK10*((LOG(AK10))/LOG(2))))","v":-0.5049158541015204},null,{"$f":"N10","v":122},{"$f":"COUNTIF(L119:L146,AN10)","v":4},{"$f":"AO10/(AQ4-AO11)","v":0.14285714285714285},{"$f":"IF(AP10=0,0,(AP10*((LOG(AP10))/LOG(2))))","v":-0.40105070315108626},null,{"$f":"N10","v":122},{"$f":"COUNTIF(L147:L174,AS10)","v":2},{"$f":"AT10/(AV4-AT11)","v":7.1428571428571425E-2},{"$f":"IF(AU10=0,0,(AU10*((LOG(AU10))/LOG(2))))","v":-0.27195392300411453}]
[21,782,22,789,24,796,null,null,null,null,0,222,null,211,{"$f":"COUNTIF($L$7:$L$500,N11)","v":3},{"$f":"O11/$Q$4","v":1.7857142857142856E-2},{"$f":"IF(P11=0,0,(P11*((LOG(P11))/LOG(2))))","v":-0.10370276646531436},null,null,{"$f":"N11","v":211},{"$f":"COUNTIF(L7:L34,T11)","v":2},null,null,null,{"$f":"N11","v":211},{"$f":"COUNTIF(L35:L62,Y11)","v":0},null,null,null,{"$f":"N11","v":211},{"$f":"COUNTIF(L63:L90,AD11)","v":0},null,null,null,{"$f":"N11","v":211},{"$f":"COUNTIF(L91:L118,AI11)","v":1},null,null,null,{"$f":"N11","v":211},{"$f":"COUNTIF(L119:L146,AN11)","v":0},null,null,null,{"$f":"N11","v":211},{"$f":"COUNTIF(L147:L174,AS11)","v":0}]
[21,896,11,903,22,911,null,null,null,null,0,212,null,212,{"$f":"COUNTIF($L$7:$L$500,N12)","v":61},{"$f":"O12/$Q$4","v":0.36309523809523808},{"$f":"IF(P12=0,0,(P12*((LOG(P12))/LOG(2))))","v":-0.53069276903671614},null,null,{"$f":"N12","v":212},{"$f":"COUNTIF(L7:L34,T12)","v":6},{"$f":"U12/(W4-U11)","v":0.23076923076923078},{"$f":"IF(V12=0,0,(V12*((LOG(V12))/LOG(2))))","v":-0.48818705017383146},null,{"$f":"N12","v":212},{"$f":"COUNTIF(L35:L62,Y12)","v":11},{"$f":"Z12/(AB4-Z11)","v":0.39285714285714285},{"$f":"IF(AA12=0,0,(AA12*((LOG(AA12))/LOG(2))))","v":-0.52954129777226344},null,{"$f":"N12","v":212},{"$f":"COUNTIF(L63:L90,AD12)","v":11},{"$f":"AE12/(AG4-AE11)","v":0.39285714285714285},{"$f":"IF(AF12=0,0,(AF12*((LOG(AF12))/LOG(2))))","v":-0.52954129777226344},null,{"$f":"N12","v":212},{"$f":"COUNTIF(L91:L118,AI12)","v":9},{"$f":"AJ12/(AL4-AJ11)","v":0.33333333333333331},{"$f":"IF(AK12=0,0,(AK12*((LOG(AK12))/LOG(2))))","v":-0.52832083357371862},null,{"$f":"N12","v":212},{"$f":"COUNTIF(L119:L146,AN12)","v":13},{"$f":"AO12/(AQ4-AO11)","v":0.4642857142857143},{"$f":"IF(AP12=0,0,(AP12*((LOG(AP12))/LOG(2))))","v":-0.51392491610409474},null,{"$f":"N12","v":212},{"$f":"COUNTIF(L147:L174,AS12)","v":11},{"$f":"AT12/(AV4-AT11)","v":0.39285714285714285},{"$f":"IF(AU12=0,0,(AU12*((LOG(AU12))/LOG(2))))","v":-0.52954129777226344}]
[21,1080,11,1083,11,1088,null,null,null,null,0,211,null,221,{"$f":"COUNTIF($L$7:$L$500,N13)","v":14},{"$f":"O13/$Q$4","v":8.3333333333333329E-2},{"$f":"IF(P13=0,0,(P13*((LOG(P13))/LOG(2))))","v":-0.29874687506009634},null,null,{"$f":"N13","v":221},{"$f":"COUNTIF(L7:L34,T13)","v":3},{"$f":"U13/(W4-U11)","v":0.11538461538461539},{"$f":"IF(V13=0,0,(V13*((LOG(V13))/LOG(2))))","v":-0.35947814047153104},null,{"$f":"N13","v":221},{"$f":"COUNTIF(L35:L62,Y13)","v":0},{"$f":"Z13/(AB4-Z11)","v":0},{"$f":"IF(AA13=0,0,(AA13*((LOG(AA13))/LOG(2))))","v":0},null,{"$f":"N13","v":221},{"$f":"COUNTIF(L63:L90,AD13)","v":4},{"$f":"AE13/(AG4-AE11)","v":0.14285714285714285},{"$f":"IF(AF13=0,0,(AF13*((LOG(AF13))/LOG(2))))","v":-0.40105070315108626},null,{"$f":"N13","v":221},{"$f":"COUNTIF(L91:L118,AI13)","v":4},{"$f":"AJ13/(AL4-AJ11)","v":0.14814814814814814},{"$f":"IF(AK13=0,0,(AK13*((LOG(AK13))/LOG(2))))","v":-0.40813148180199532},null,{"$f":"N13","v":221},{"$f":"COUNTIF(L119:L146,AN13)","v":3},{"$f":"AO13/(AQ4-AO11)","v":0.10714285714285714},{"$f":"IF(AP13=0,0,(AP13*((LOG(AP13))/LOG(2))))","v":-0.34525633085747659},null,{"$f":"N13","v":221},{"$f":"COUNTIF(L147:L174,AS13)","v":0},{"$f":"AT13/(AV4-AT11)","v":0},{"$f":"IF(AU13=0,0,(AU13*((LOG(AU13))/LOG(2))))","v":0}]
[21,1175,22,1179,13,1189,null,null,null,null,0,221,null,222,{"$f":"COUNTIF($L$7:$L$500,N14)","v":54},{"$f":"O14/$Q$4","v":0.32142857142857145},{"$f":"IF(P14=0,0,(P14*((LOG(P14))/LOG(2))))","v":-0.5263167601977724},null,null,{"$f":"N14","v":222},{"$f":"COUNTIF(L7:L34,T14)","v":11},{"$f":"U14/(W4-U11)","v":0.42307692307692307},{"$f":"IF(V14=0,0,(V14*((LOG(V14))/LOG(2))))","v":-0.52504188825160547},null,{"$f":"N14","v":222},{"$f":"COUNTIF(L35:L62,Y14)","v":10},{"$f":"Z14/(AB4-Z11)","v":0.35714285714285715},{"$f":"IF(AA14=0,0,(AA14*((LOG(AA14))/LOG(2))))","v":-0.53050958113222924},null,{"$f":"N14","v":222},{"$f":"COUNTIF(L63:L90,AD14)","v":7},{"$f":"AE14/(AG4-AE11)","v":0.25},{"$f":"IF(AF14=0,0,(AF14*((LOG(AF14))/LOG(2))))","v":-0.5},null,{"$f":"N14","v":222},{"$f":"COUNTIF(L91:L118,AI14)","v":6},{"$f":"AJ14/(AL4-AJ11)","v":0.22222222222222221},{"$f":"IF(AK14=0,0,(AK14*((LOG(AK14))/LOG(2))))","v":-0.48220555587606945},null,{"$f":"N14","v":222},{"$f":"COUNTIF(L119:L146,AN14)","v":8},{"$f":"AO14/(AQ4-AO11)","v":0.2857142857142857},{"$f":"IF(AP14=0,0,(AP14*((LOG(AP14))/LOG(2))))","v":-0.51638712058788683},null,{"$f":"N14","v":222},{"$f":"COUNTIF(L147:L174,AS14)","v":12},{"$f":"AT14/(AV4-AT11)","v":0.42857142857142855},{"$f":"IF(AU14=0,0,(AU14*((LOG(AU14))/LOG(2))))","v":-0.52388246628704915}]
[21,1459,22,1469,13,1472,null,null,null,null,0,221,null,null,null,{"$f":"SUM(P7:P14)","v":1},{"$f":"-SUM(Q7:Q14)","v":2.1126270478849518},null,null,null,null,{"$f":"SUM(V7:V14)","v":1},{"$f":"-SUM(W7:W14)","v":2.0108993032973426},null,null,null,{"$f":"SUM(AA7:AA14)","v":1},{"$f":"-SUM(AB7:AB14)","v":1.7079690735500743},null,null,null,{"$f":"SUM(AF7:AF14)","v":1},{"$f":"-SUM(AG7:AG14)","v":2.046109467277236},null,null,null,{"$f":"SUM(AK7:AK14)","v":0.99999999999999989},{"$f":"-SUM(AL7:AL14)","v":2.0996806698778769},null,null,null,{"$f":"SUM(AP7:AP14)","v":1},{"$f":"-SUM(AQ7:AQ14)","v":1.7766190707005443},null,null,null,{"$f":"SUM(AU7:AU14)","v":1},{"$f":"-SUM(AV7:AV14)","v":1.6706340179209038}]
[21,1581,22,1585,24,1589,null,null,null,null,0,222,null,null,null,"U=",{"$f":"Q15/(LOG(Q4)/LOG(2))","v":0.28578684153565725},null,null,null,null,"U1=",{"$f":"W15/(LOG(W4)/LOG(2))","v":0.41829640954336994},null,null,null,"U2=",{"$f":"AB15/(LOG(AB4)/LOG(2))","v":0.35528249967843933},null,null,null,"U3=",{"$f":"AG15/(LOG(AG4)/LOG(2))","v":0.42562063763777136},null,null,null,"U4=",{"$f":"AL15/(LOG(AL4)/LOG(2))","v":0.43676422979379048},null,null,null,"U5=",{"$f":"AQ15/(LOG(AQ4)/LOG(2))","v":0.36956270121618784},null,null,null,"U6=",{"$f":"AV15/(LOG(AV4)/LOG(2))","v":0.34751626310250733}]
[21,1694,22,1698,13,1700,null,null,null,null,0,221]
[21,1790,22,1799,24,1806,null,null,null,null,0,222]
[21,1996,11,2000,22,2011,null,null,null,null,0,212,null,"Total Target Seq"]
[12,2107,24,2119,13,2122,null,null,null,null,0,121,null,{"$f":"COUNTIF(L7:L174,G3)","v":3},null,28,28,28,28,28,28]
[12,2216,24,2228,24,2234,null,null,null,null,0,122,null,null,null,"% of reinforcement given in 6 equal intervals based on number of trials "]
[12,2327,24,2340,24,2350,null,null,null,null,0,122,null,null,null,"%_1","%_2","%_3","%_4","%_5","%_6"]
[21,2457,11,2461,22,2467,null,null,null,null,0,212,null,null,"target sequence",{"$f":"$G$3","v":211},{"$f":"$G$3","v":211},{"$f":"$G$3","v":211},{"$f":"$G$3","v":211},{"$f":"$G$3","v":211},{"$f":"$G$3","v":211}]
[21,2818,11,2821,22,2836,null,null,null,null,0,212,null,null,"total reinforcement",{"$f":"U11","v":2},{"$f":"Z11","v":0},{"$f":"AE11","v":0},{"$f":"AJ11","v":1},{"$f":"AO11","v":0},{"$f":"AT11","v":0}]
[21,2942,11,2949,11,2953,null,null,null,null,0,211,null,null,"% target"]
[21,3054,11,3062,22,3078,null,null,null,null,0,212,null,null,"CCRF"]
[21,3262,11,3266,22,3277,null,null,null,null,0,212,null,null,"% CCRf"]
[12,3369,24,3376,24,3389,null,null,null,null,0,122,null,null,"average response rate",{"$f":"F34/P20","v":151.57142857142858},{"$f":"(F62-F34)/Q20","v":119.21428571428571},{"$f":"(F90-F62)/R20","v":136.32142857142858},{"$f":"(F118-F90)/S20","v":154.89285714285714},{"$f":"(F146-F118)/T20","v":148.64285714285714},{"$f":"(F174-F146)/U20","v":146.28571428571428}]
[12,3489,24,3499,24,3503,null,null,null,null,0,122]
[21,3696,22,3700,24,3707,null,null,null,null,0,222]
[12,3869,24,3873,24,3881,null,null,null,null,0,122]
[21,3993,22,3997,24,4003,null,null,null,null,0,222]
[21,4107,22,4112,24,4118,null,null,null,null,0,222]
[21,4237,22,4241,24,4244,null,null,null,null,0,222]
[12,4338,24,4346,24,4351,null,null,null,null,0,122]
[21,4451,22,4453,24,4460,null,null,null,null,0,222]
[21,4560,22,4567,24,4574,null,null,null,null,0,222]
[12,4680,24,4685,24,4690,null,null,null,null,0,122]
[21,4787,11,4791,22,4803,null,null,null,null,0,212]
[21,4894,22,4902,24,4911,null,null,null,null,0,222]
[21,5111,11,5115,22,5128,null,null,null,null,0,212]
[21,5239,11,5250,22,5261,null,null,null,null,0,212]
[21,5452,11,5455,22,5461,null,null,null,null,0,212]
[21,5561,22,5572,24,5583,null,null,null,null,0,222]
[21,5676,22,5683,24,5688,null,null,null,null,0,222]
[12,5781,24,5787,24,5790,null,null,null,null,0,122]
[21,5882,22,5884,24,5890,null,null,null,null,0,222]
[21,5996,11,6002,22,6007,null,null,null,null,0,212]
[21,6108,22,6112,24,6116,null,null,null,null,0,222]
[12,6228,24,6233,24,6240,null,null,null,null,0,122]
[21,6332,22,6335,24,6338,null,null,null,null,0,222]
[21,6436,11,6438,22,6442,null,null,null,null,0,212]
[12,6538,24,6546,13,6551,null,null,null,null,0,121]
[21,6682,11,6689,22,6695,null,null,null,null,0,212]
[21,6799,11,6801,22,6810,null,null,null,null,0,212]
[21,6907,22,6912,24,6917,null,null,null,null,0,222]
[21,7023,11,7029,22,7033,null,null,null,null,0,212]
[21,7131,11,7133,22,7140,null,null,null,null,0,212]
[12,7236,24,7244,24,7257,null,null,null,null,0,122]
[21,7354,11,7359,22,7365,null,null,null,null,0,212]
[12,7457,24,7460,24,7470,null,null,null,null,0,122]
[21,7572,22,7576,24,7582,null,null,null,null,0,222]
[21,7693,22,7704,13,7709,null,null,null,null,0,221]
[21,7834,11,7837,22,7842,null,null,null,null,0,212]
[21,7942,11,7945,22,7951,null,null,null,null,0,212]
[12,8046,24,8048,24,8053,null,null,null,null,0,122]
[21,8214,22,8219,24,8224,null,null,null,null,0,222]
[21,8375,22,8379,24,8384,null,null,null,null,0,222]
[21,8476,22,8483,24,8491,null,null,null,null,0,222]
[21,8674,11,8679,22,8683,null,null,null,null,0,212]
[12,8848,24,8857,24,8869,null,null,null,null,0,122]
[21,9048,11,9050,22,9053,null,null,null,null,0,212]
[21,9143,22,9146,24,9152,null,null,null,null,0,222]
[21,9388,11,9392,22,9408,null,null,null,null,0,212]
[21,9518,11,9520,22,9525,null,null,null,null,0,212]
[21,9640,11,9642,22,9648,null,null,null,null,0,212]
[12,9740,24,9745,13,9754,null,null,null,null,0,121]
[21,9853,22,9858,13,9860,null,null,null,null,0,221]
[21,9966,11,9970,22,9975,null,null,null,null,0,212]
[12,10070,24,10075,24,10078,null,null,null,null,0,122]
[21,10169,22,10177,24,10184,null,null,null,null,0,222]
[21,10421,22,10425,13,10428,null,null,null,null,0,221]
[21,10525,22,10530,13,10533,null,null,null,null,0,221]
[21,10656,22,10672,24,10679,null,null,null,null,0,222]
[12,10776,24,10786,24,10792,null,null,null,null,0,122]
[21,10901,11,10904,22,10908,null,null,null,null,0,212]
[12,11005,24,11011,24,11015,null,null,null,null,0,122]
[21,11105,22,11116,24,11125,null,null,null,null,0,222]
[21,11270,11,11272,22,11280,null,null,null,null,0,212]
[21,11379,11,11393,22,11399,null,null,null,null,0,212]
[12,11492,24,11495,24,11503,null,null,null,null,0,122]
[12,11613,24,11615,24,11621,null,null,null,null,0,122]
[21,11724,22,11727,13,11732,null,null,null,null,0,221]
[12,11824,24,11837,24,11845,null,null,null,null,0,122]
[21,11948,22,11952,24,11959,null,null,null,null,0,222]
[21,12071,22,12075,24,12082,null,null,null,null,0,222]
[21,12179,22,12187,13,12191,null,null,null,null,0,221]
[21,12291,11,12295,22,12300,null,null,null,null,0,212]
[12,12395,24,12398,24,12402,null,null,null,null,0,122]
[21,12504,11,12511,22,12514,null,null,null,null,0,212]
[21,12971,11,12975,11,12977,null,null,null,null,0,211]
[21,13073,11,13077,22,13097,null,null,null,null,0,212]
[12,13372,24,13378,24,13385,null,null,null,null,0,122]
[12,13480,24,13484,24,13487,null,null,null,null,0,122]
[21,13586,22,13591,13,13592,null,null,null,null,0,221]
[21,13687,22,13696,24,13701,null,null,null,null,0,222]
[21,13897,11,13904,22,13913,null,null,null,null,0,212]
[21,14028,22,14036,24,14044,null,null,null,null,0,222]
[21,14168,11,14173,22,14183,null,null,null,null,0,212]
[21,14285,22,14290,24,14296,null,null,null,null,0,222]
[12,14398,24,14401,24,14405,null,null,null,null,0,122]
[21,14511,22,14515,13,14517,null,null,null,null,0,221]
[21,14647,11,14656,22,14658,null,null,null,null,0,212]
[12,14751,13,14754,24,14760,null,null,null,null,0,112]
[21,14884,11,14888,22,14902,null,null,null,null,0,212]
[21,15333,11,15335,22,15344,null,null,null,null,0,212]
[21,15443,22,15450,24,15455,null,null,null,null,0,222]
[21,15718,11,15729,22,15736,null,null,null,null,0,212]
[21,15839,22,15842,24,15853,null,null,null,null,0,222]
[12,15948,24,15951,24,15965,null,null,null,null,0,122]
[12,16056,24,16060,24,16072,null,null,null,null,0,122]
[21,16167,22,16173,13,16178,null,null,null,null,0,221]
[21,16267,11,16270,22,16280,null,null,null,null,0,212]
[21,16457,11,16460,22,16472,null,null,null,null,0,212]
[21,16573,11,16577,22,16583,null,null,null,null,0,212]
[12,16686,24,16694,24,16699,null,null,null,null,0,122]
[21,16797,11,16804,22,16812,null,null,null,null,0,212]
[21,16914,11,16921,22,16923,null,null,null,null,0,212]
[21,17231,11,17237,22,17248,null,null,null,null,0,212]
[21,17355,22,17364,24,17371,null,null,null,null,0,222]
[21,17470,22,17473,24,17475,null,null,null,null,0,222]
[21,17573,22,17580,13,17582,null,null,null,null,0,221]
[21,17675,11,17679,22,17688,null,null,null,null,0,212]
[21,17839,11,17843,22,17849,null,null,null,null,0,212]
[21,17947,22,17952,24,17957,null,null,null,null,0,222]
[12,18051,24,18053,24,18058,null,null,null,null,0,122]
[21,18191,22,18196,24,18203,null,null,null,null,0,222]
[21,18298,11,18304,22,18312,null,null,null,null,0,212]
[21,18409,11,18414,22,18418,null,null,null,null,0,212]
[21,18722,22,18738,24,18744,null,null,null,null,0,222]
[21,18841,11,18852,22,18856,null,null,null,null,0,212]
[21,18962,22,18967,24,18974,null,null,null,null,0,222]
[21,19296,11,19300,22,19306,null,null,null,null,0,212]
[21,19652,22,19656,13,19659,null,null,null,null,0,221]
[21,19773,11,19776,22,19783,null,null,null,null,0,212]
[21,19881,22,19891,24,19898,null,null,null,null,0,222]
[21,20003,22,20007,24,20014,null,null,null,null,0,222]
[21,20182,11,20186,22,20188,null,null,null,null,0,212]
[21,20284,22,20289,24,20295,null,null,null,null,0,222]
[21,20727,22,20740,24,20746,null,null,null,null,0,222]
[12,20842,24,20845,13,20848,null,null,null,null,0,121]
[12,20941,24,20943,24,20952,null,null,null,null,0,122]
[21,21039,11,21042,22,21050,null,null,null,null,0,212]
[21,21234,11,21238,22,21244,null,null,null,null,0,212]
[21,21340,22,21348,24,21353,null,null,null,null,0,222]
[21,21450,22,21456,24,21460,null,null,null,null,0,222]
[21,21555,22,21565,24,21573,null,null,null,null,0,222]
[12,21665,24,21675,13,21679,null,null,null,null,0,121]
[21,21776,22,21780,24,21786,null,null,null,null,0,222]
[12,22030,24,22039,24,22045,null,null,null,null,0,122]
[21,22143,11,22148,22,22154,null,null,null,null,0,212]
[21,22328,11,22336,22,22342,null,null,null,null,0,212]
[12,22439,24,22443,13,22446,null,null,null,null,0,121]
[21,22546,11,22551,22,22557,null,null,null,null,0,212]
[21,22654,22,22659,24,22666,null,null,null,null,0,222]
[21,22764,11,22772,22,22779,null,null,null,null,0,212]
[21,22876,11,22879,22,22884,null,null,null,null,0,212]
[21,23027,22,23030,24,23035,null,null,null,null,0,222]
[21,23126,22,23130,24,23136,null,null,null,null,0,222]
[21,23380,22,23393,24,23404,null,null,null,null,0,222]
[21,23509,11,23516,22,23522,null,null,null,null,0,212]
[21,23750,11,23754,22,23769,null,null,null,null,0,212]
[21,23869,22,23879,24,23884,null,null,null,null,0,222]
[21,23989,11,23990,22,23994,null,null,null,null,null,212]

{"sheet":"!N222A10.Gus","index":28,"n_rows":158,"n_cols":48,"rows_kept":158,"cut":false,"hidden":false,"merged":[[4,39,4,42],[5,39,5,40],[4,44,4,47],[5,44,5,45],[4,24,4,27],[5,24,5,25],[4,29,4,32],[5,29,5,30],[4,34,4,37],[5,34,5,35],[1,1,1,2],[5,13,5,14],[18,13,18,14],[19,13,19,14],[4,19,4,22],[5,19,5,20]]}
["Report for:!N222A10.Gus"]
["Date:","<date>"]
["Hen:","<hen>",null,null,null,"Correct Sequence",{"$f":"Start!J2","v":211},null,null,null,null,null,null,null,null,"Total Sequences in Data",{"$f":"4994-COUNTBLANK(L7:L5000)","v":152},null,null,null,null,"Total Sequences in Block Data",{"$f":"COUNTA(L7:L31)","v":25},null,null,null,"Total Sequences in Block Data",{"$f":"COUNTA(L32:L57)","v":26},null,null,null,"Total Sequences in Block Data",{"$f":"COUNTA(L58:L82)","v":25},null,null,null,"Total Sequences in Block Data",{"$f":"COUNTA(L83:L107)","v":25},null,null,null,"Total Sequences in Block Data",{"$f":"COUNTA(L108:L133)","v":26},null,null,null,"Total Sequences in Block Data",{"$f":"COUNTA(L134:L158)","v":25}]
[null,null,null,null,null,null,null,null,null,null,null,null,null,null,null,"Total Sequences in Summary",{"$f":"SUM(O7:O14)","v":152},null,null,null,null,"Total Sequences in Block Summary",{"$f":"SUM(U7:U14)","v":25},null,null,null,"Total Sequences in Block Summary",{"$f":"SUM(Z7:Z14)","v":26},null,null,null,"Total Sequences in Block Summary",{"$f":"SUM(AE7:AE14)","v":25},null,null,null,"Total Sequences in Block Summary",{"$f":"SUM(AJ7:AJ14)","v":25},null,null,null,"Total Sequences in Block Summary",{"$f":"SUM(AO7:AO14)","v":26},null,null,null,"Total Sequences in Block Summary",{"$f":"SUM(AT7:AT14)","v":25}]
[null,null,null,null,null,null,null,null,null,null,null,null,null,null,null,null,null,null,null,"Block 1",null,null,null,null,"Block 2",null,null,null,null,"Block 3",null,null,null,null,"Block 4",null,null,null,null,"Block 5",null,null,null,null,"Block 6"]
["Sequence\nComponent\n1","Time\n1","Sequence\nComponent\n2","Time\n2","Sequence\nComponent\n3","Time\n3","Sequence\nComponent\n4","Time\n4","Sequence\nComponent\n5","Time\n5","Correct?\n0=No 1=Yes","Sequence",null,"Frequency",null,"Relative Frequency","Variability",null,null,"Frequency",null,"Relative Frequency","Variability",null,"Frequency",null,"Relative Frequency","Variability",null,"Frequency",null,"Relative Frequency","Variability",null,"Frequency",null,"Relative Frequency","Variability",null,"Frequency",null,"Relative Frequency","Variability",null,"Frequency",null,"Relative Frequency","Variability"]
[12,15,24,28,24,34,null,null,null,null,0,122,null,111,{"$f":"COUNTIF($L$7:$L$500,N7)","v":0},{"$f":"O7/$Q$4","v":0},{"$f":"IF(P7=0,0,(P7*((LOG(P7))/LOG(2))))","v":0},null,null,{"$f":"N7","v":111},{"$f":"COUNTIF(L7:L31,T7)","v":0},{"$f":"U7/(W4-U11)","v":0},{"$f":"IF(V7=0,0,(V7*((LOG(V7))/LOG(2))))","v":0},null,{"$f":"N7","v":111},{"$f":"COUNTIF(L32:L57,Y7)","v":0},{"$f":"Z7/(AB4-Z11)","v":0},{"$f":"IF(AA7=0,0,(AA7*((LOG(AA7))/LOG(2))))","v":0},null,{"$f":"N7","v":111},{"$f":"COUNTIF(L58:L82,AD7)","v":0},{"$f":"AE7/(AG4-AE11)","v":0},{"$f":"IF(AF7=0,0,(AF7*((LOG(AF7))/LOG(2))))","v":0},null,{"$f":"N7","v":111},{"$f":"COUNTIF(L83:L107,AI7)","v":0},{"$f":"AJ7/(AL4-AJ11)","v":0},{"$f":"IF(AK7=0,0,(AK7*((LOG(AK7))/LOG(2))))","v":0},null,{"$f":"N7","v":111},{"$f":"COUNTIF(L108:L133,AN7)","v":0},{"$f":"AO7/(AQ4-AO11)","v":0},{"$f":"IF(AP7=0,0,(AP7*((LOG(AP7))/LOG(2))))","v":0},null,{"$f":"N7","v":111},{"$f":"COUNTIF(L134:L158,AS7)","v":0},{"$f":"AT7/(AV4-AT11)","v":0},{"$f":"IF(AU7=0,0,(AU7*((LOG(AU7))/LOG(2))))","v":0}]
[12,125,24,136,24,141,null,null,null,null,0,122,null,112,{"$f":"COUNTIF($L$7:$L$500,N8)","v":1},{"$f":"O8/$Q$4","v":6.5789473684210523E-3},{"$f":"IF(P8=0,0,(P8*((LOG(P8))/LOG(2))))","v":-4.7683733641076219E-2},null,null,{"$f":"N8","v":112},{"$f":"COUNTIF(L7:L31,T8)","v":0},{"$f":"U8/(W4-U11)","v":0},{"$f":"IF(V8=0,0,(V8*((LOG(V8))/LOG(2))))","v":0},null,{"$f":"N8","v":112},{"$f":"COUNTIF(L32:L57,Y8)","v":0},{"$f":"Z8/(AB4-Z11)","v":0},{"$f":"IF(AA8=0,0,(AA8*((LOG(AA8))/LOG(2))))","v":0},null,{"$f":"N8","v":112},{"$f":"COUNTIF(L58:L82,AD8)","v":0},{"$f":"AE8/(AG4-AE11)","v":0},{"$f":"IF(AF8=0,0,(AF8*((LOG(AF8))/LOG(2))))","v":0},null,{"$f":"N8","v":112},{"$f":"COUNTIF(L83:L107,AI8)","v":0},{"$f":"AJ8/(AL4-AJ11)","v":0},{"$f":"IF(AK8=0,0,(AK8*((LOG(AK8))/LOG(2))))","v":0},null,{"$f":"N8","v":112},{"$f":"COUNTIF(L108:L133,AN8)","v":0},{"$f":"AO8/(AQ4-AO11)","v":0},{"$f":"IF(AP8=0,0,(AP8*((LOG(AP8))/LOG(2))))","v":0},null,{"$f":"N8","v":112},{"$f":"COUNTIF(L134:L158,AS8)","v":1},{"$f":"AT8/(AV4-AT11)","v":4.1666666666666664E-2},{"$f":"IF(AU8=0,0,(AU8*((LOG(AU8))/LOG(2))))","v":-0.19104010419671485}]
[21,251,22,255,13,259,null,null,null,null,0,221,null,121,{"$f":"COUNTIF($L$7:$L$500,N9)","v":4},{"$f":"O9/$Q$4","v":2.6315789473684209E-2},{"$f":"IF(P9=0,0,(P9*((LOG(P9))/LOG(2))))","v":-0.13810335561693646},null,null,{"$f":"N9","v":121},{"$f":"COUNTIF(L7:L31,T9)","v":1},{"$f":"U9/(W4-U11)","v":0.04},{"$f":"IF(V9=0,0,(V9*((LOG(V9))/LOG(2))))","v":-0.18575424759098899},null,{"$f":"N9","v":121},{"$f":"COUNTIF(L32:L57,Y9)","v":1},{"$f":"Z9/(AB4-Z11)","v":0.04},{"$f":"IF(AA9=0,0,(AA9*((LOG(AA9))/LOG(2))))","v":-0.18575424759098899},null,{"$f":"N9","v":121},{"$f":"COUNTIF(L58:L82,AD9)","v":1},{"$f":"AE9/(AG4-AE11)","v":0.04},{"$f":"IF(AF9=0,0,(AF9*((LOG(AF9))/LOG(2))))","v":-0.18575424759098899},null,{"$f":"N9","v":121},{"$f":"COUNTIF(L83:L107,AI9)","v":0},{"$f":"AJ9/(AL4-AJ11)","v":0},{"$f":"IF(AK9=0,0,(AK9*((LOG(AK9))/LOG(2))))","v":0},null,{"$f":"N9","v":121},{"$f":"COUNTIF(L108:L133,AN9)","v":1},{"$f":"AO9/(AQ4-AO11)","v":3.8461538461538464E-2},{"$f":"IF(AP9=0,0,(AP9*((LOG(AP9))/LOG(2))))","v":-0.18078614300542661},null,{"$f":"N9","v":121},{"$f":"COUNTIF(L134:L158,AS9)","v":0},{"$f":"AT9/(AV4-AT11)","v":0},{"$f":"IF(AU9=0,0,(AU9*((LOG(AU9))/LOG(2))))","v":0}]
[21,359,22,364,24,371,null,null,null,null,0,222,null,122,{"$f":"COUNTIF($L$7:$L$500,N10)","v":30},{"$f":"O10/$Q$4","v":0.19736842105263158},{"$f":"IF(P10=0,0,(P10*((LOG(P10))/LOG(2))))","v":-0.4620467600990264},null,null,{"$f":"N10","v":122},{"$f":"COUNTIF(L7:L31,T10)","v":5},{"$f":"U10/(W4-U11)","v":0.2},{"$f":"IF(V10=0,0,(V10*((LOG(V10))/LOG(2))))","v":-0.46438561897747244},null,{"$f":"N10","v":122},{"$f":"COUNTIF(L32:L57,Y10)","v":8},{"$f":"Z10/(AB4-Z11)","v":0.32},{"$f":"IF(AA10=0,0,(AA10*((LOG(AA10))/LOG(2))))","v":-0.52603398072791185},null,{"$f":"N10","v":122},{"$f":"COUNTIF(L58:L82,AD10)","v":5},{"$f":"AE10/(AG4-AE11)","v":0.2},{"$f":"IF(AF10=0,0,(AF10*((LOG(AF10))/LOG(2))))","v":-0.46438561897747244},null,{"$f":"N10","v":122},{"$f":"COUNTIF(L83:L107,AI10)","v":4},{"$f":"AJ10/(AL4-AJ11)","v":0.18181818181818182},{"$f":"IF(AK10=0,0,(AK10*((LOG(AK10))/LOG(2))))","v":-0.44716938520678134},null,{"$f":"N10","v":122},{"$f":"COUNTIF(L108:L133,AN10)","v":4},{"$f":"AO10/(AQ4-AO11)","v":0.15384615384615385},{"$f":"IF(AP10=0,0,(AP10*((LOG(AP10))/LOG(2))))","v":-0.4154522643293988},null,{"$f":"N10","v":122},{"$f":"COUNTIF(L134:L158,AS10)","v":4},{"$f":"AT10/(AV4-AT11)","v":0.16666666666666666},{"$f":"IF(AU10=0,0,(AU10*((LOG(AU10))/LOG(2))))","v":-0.43082708345352599}]
[12,470,24,476,24,482,null,null,null,null,0,122,null,211,{"$f":"COUNTIF($L$7:$L$500,N11)","v":5},{"$f":"O11/$Q$4","v":3.2894736842105261E-2},{"$f":"IF(P11=0,0,(P11*((LOG(P11))/LOG(2))))","v":-0.1620394545577705},null,null,{"$f":"N11","v":211},{"$f":"COUNTIF(L7:L31,T11)","v":0},null,null,null,{"$f":"N11","v":211},{"$f":"COUNTIF(L32:L57,Y11)","v":1},null,null,null,{"$f":"N11","v":211},{"$f":"COUNTIF(L58:L82,AD11)","v":0},null,null,null,{"$f":"N11","v":211},{"$f":"COUNTIF(L83:L107,AI11)","v":3},null,null,null,{"$f":"N11","v":211},{"$f":"COUNTIF(L108:L133,AN11)","v":0},null,null,null,{"$f":"N11","v":211},{"$f":"COUNTIF(L134:L158,AS11)","v":1}]
[21,585,22,589,13,593,null,null,null,null,0,221,null,212,{"$f":"COUNTIF($L$7:$L$500,N12)","v":49},{"$f":"O12/$Q$4","v":0.32236842105263158},{"$f":"IF(P12=0,0,(P12*((LOG(P12))/LOG(2))))","v":-0.52649780129664792},null,null,{"$f":"N12","v":212},{"$f":"COUNTIF(L7:L31,T12)","v":11},{"$f":"U12/(W4-U11)","v":0.44},{"$f":"IF(V12=0,0,(V12*((LOG(V12))/LOG(2))))","v":-0.52114681130046814},null,{"$f":"N12","v":212},{"$f":"COUNTIF(L32:L57,Y12)","v":5},{"$f":"Z12/(AB4-Z11)","v":0.2},{"$f":"IF(AA12=0,0,(AA12*((LOG(AA12))/LOG(2))))","v":-0.46438561897747244},null,{"$f":"N12","v":212},{"$f":"COUNTIF(L58:L82,AD12)","v":12},{"$f":"AE12/(AG4-AE11)","v":0.48},{"$f":"IF(AF12=0,0,(AF12*((LOG(AF12))/LOG(2))))","v":-0.50826897074571287},null,{"$f":"N12","v":212},{"$f":"COUNTIF(L83:L107,AI12)","v":9},{"$f":"AJ12/(AL4-AJ11)","v":0.40909090909090912},{"$f":"IF(AK12=0,0,(AK12*((LOG(AK12))/LOG(2))))","v":-0.52752543430703935},null,{"$f":"N12","v":212},{"$f":"COUNTIF(L108:L133,AN12)","v":9},{"$f":"AO12/(AQ4-AO11)","v":0.34615384615384615},{"$f":"IF(AP12=0,0,(AP12*((LOG(AP12))/LOG(2))))","v":-0.52979355578034681},null,{"$f":"N12","v":212},{"$f":"COUNTIF(L134:L158,AS12)","v":3},{"$f":"AT12/(AV4-AT11)","v":0.125},{"$f":"IF(AU12=0,0,(AU12*((LOG(AU12))/LOG(2))))","v":-0.375}]
[21,687,11,693,22,700,null,null,null,null,0,212,null,221,{"$f":"COUNTIF($L$7:$L$500,N13)","v":14},{"$f":"O13/$Q$4","v":9.2105263157894732E-2},{"$f":"IF(P13=0,0,(P13*((LOG(P13))/LOG(2))))","v":-0.31689484394344558},null,null,{"$f":"N13","v":221},{"$f":"COUNTIF(L7:L31,T13)","v":3},{"$f":"U13/(W4-U11)","v":0.12},{"$f":"IF(V13=0,0,(V13*((LOG(V13))/LOG(2))))","v":-0.36706724268642821},null,{"$f":"N13","v":221},{"$f":"COUNTIF(L32:L57,Y13)","v":3},{"$f":"Z13/(AB4-Z11)","v":0.12},{"$f":"IF(AA13=0,0,(AA13*((LOG(AA13))/LOG(2))))","v":-0.36706724268642821},null,{"$f":"N13","v":221},{"$f":"COUNTIF(L58:L82,AD13)","v":1},{"$f":"AE13/(AG4-AE11)","v":0.04},{"$f":"IF(AF13=0,0,(AF13*((LOG(AF13))/LOG(2))))","v":-0.18575424759098899},null,{"$f":"N13","v":221},{"$f":"COUNTIF(L83:L107,AI13)","v":3},{"$f":"AJ13/(AL4-AJ11)","v":0.13636363636363635},{"$f":"IF(AK13=0,0,(AK13*((LOG(AK13))/LOG(2))))","v":-0.39197306153401923},null,{"$f":"N13","v":221},{"$f":"COUNTIF(L108:L133,AN13)","v":3},{"$f":"AO13/(AQ4-AO11)","v":0.11538461538461539},{"$f":"IF(AP13=0,0,(AP13*((LOG(AP13))/LOG(2))))","v":-0.35947814047153104},null,{"$f":"N13","v":221},{"$f":"COUNTIF(L134:L158,AS13)","v":1},{"$f":"AT13/(AV4-AT11)","v":4.1666666666666664E-2},{"$f":"IF(AU13=0,0,(AU13*((LOG(AU13))/LOG(2))))","v":-0.19104010419671485}]
[21,1074,11,1082,22,1087,null,null,null,null,0,212,null,222,{"$f":"COUNTIF($L$7:$L$500,N14)","v":49},{"$f":"O14/$Q$4","v":0.32236842105263158},{"$f":"IF(P14=0,0,(P14*((LOG(P14))/LOG(2))))","v":-0.52649780129664792},null,null,{"$f":"N14","v":222},{"$f":"COUNTIF(L7:L31,T14)","v":5},{"$f":"U14/(W4-U11)","v":0.2},{"$f":"IF(V14=0,0,(V14*((LOG(V14))/LOG(2))))","v":-0.46438561897747244},null,{"$f":"N14","v":222},{"$f":"COUNTIF(L32:L57,Y14)","v":8},{"$f":"Z14/(AB4-Z11)","v":0.32},{"$f":"IF(AA14=0,0,(AA14*((LOG(AA14))/LOG(2))))","v":-0.52603398072791185},null,{"$f":"N14","v":222},{"$f":"COUNTIF(L58:L82,AD14)","v":6},{"$f":"AE14/(AG4-AE11)","v":0.24},{"$f":"IF(AF14=0,0,(AF14*((LOG(AF14))/LOG(2))))","v":-0.49413448537285637},null,{"$f":"N14","v":222},{"$f":"COUNTIF(L83:L107,AI14)","v":6},{"$f":"AJ14/(AL4-AJ11)","v":0.27272727272727271},{"$f":"IF(AK14=0,0,(AK14*((LOG(AK14))/LOG(2))))","v":-0.51121885034076575},null,{"$f":"N14","v":222},{"$f":"COUNTIF(L108:L133,AN14)","v":9},{"$f":"AO14/(AQ4-AO11)","v":0.34615384615384615},{"$f":"IF(AP14=0,0,(AP14*((LOG(AP14))/LOG(2))))","v":-0.52979355578034681},null,{"$f":"N14","v":222},{"$f":"COUNTIF(L134:L158,AS14)","v":15},{"$f":"AT14/(AV4-AT11)","v":0.625},{"$f":"IF(AU14=0,0,(AU14*((LOG(AU14))/LOG(2))))","v":-0.42379494069539858}]
[21,1187,11,1191,22,1196,null,null,null,null,0,212,null,null,null,{"$f":"SUM(P7:P14)","v":1},{"$f":"-SUM(Q7:Q14)","v":2.179763750451551},null,null,null,null,{"$f":"SUM(V7:V14)","v":1},{"$f":"-SUM(W7:W14)","v":2.0027395395328305},null,null,null,{"$f":"SUM(AA7:AA14)","v":1},{"$f":"-SUM(AB7:AB14)","v":2.0692750707107135},null,null,null,{"$f":"SUM(AF7:AF14)","v":1},{"$f":"-SUM(AG7:AG14)","v":1.8382975702780198},null,null,null,{"$f":"SUM(AK7:AK14)","v":1},{"$f":"-SUM(AL7:AL14)","v":1.8778867313886058},null,null,null,{"$f":"SUM(AP7:AP14)","v":1},{"$f":"-SUM(AQ7:AQ14)","v":2.0153036593670501},null,null,null,{"$f":"SUM(AU7:AU14)","v":1},{"$f":"-SUM(AV7:AV14)","v":1.6117022325423545}]
[21,1293,22,1295,24,1300,null,null,null,null,0,222,null,null,null,"U=",{"$f":"Q15/(LOG(Q4)/LOG(2))","v":0.30074303949763376},null,null,null,null,"U1=",{"$f":"W15/(LOG(W4)/LOG(2))","v":0.4312664858017457},null,null,null,"U2=",{"$f":"AB15/(LOG(AB4)/LOG(2))","v":0.44023010501006082},null,null,null,"U3=",{"$f":"AG15/(LOG(AG4)/LOG(2))","v":0.39585583514100942},null,null,null,"U4=",{"$f":"AL15/(LOG(AL4)/LOG(2))","v":0.40438089696306956},null,null,null,"U5=",{"$f":"AQ15/(LOG(AQ4)/LOG(2))","v":0.42874790024199122},null,null,null,"U6=",{"$f":"AV15/(LOG(AV4)/LOG(2))","v":0.34706118507527223}]
[12,1393,24,1396,24,1404,null,null,null,null,0,122]
[21,1504,11,1511,22,1523,null,null,null,null,0,212]
[21,1642,11,1652,22,1654,null,null,null,null,0,212,null,"Total Target Seq"]
[21,1990,11,1998,22,2006,null,null,null,null,0,212,null,{"$f":"COUNTIF(L7:L158,G3)","v":5},null,25,26,25,25,26,25]
[21,2103,11,2110,22,2116,null,null,null,null,0,212,null,null,null,"% of reinforcement given in 6 equal intervals based on number of trials "]
[21,2287,11,2295,22,2306,null,null,null,null,0,212,null,null,null,"%_1","%_2","%_3","%_4","%_5","%_6"]
[21,2433,22,2439,24,2446,null,null,null,null,0,222,null,null,"target sequence",{"$f":"$G$3","v":211},{"$f":"$G$3","v":211},{"$f":"$G$3","v":211},{"$f":"$G$3","v":211},{"$f":"$G$3","v":211},{"$f":"$G$3","v":211}]
[21,2546,11,2553,22,2557,null,null,null,null,0,212,null,null,"total reinforcement",{"$f":"U11","v":0},{"$f":"Z11","v":1},{"$f":"AE11","v":0},{"$f":"AJ11","v":3},{"$f":"AO11","v":0},{"$f":"AT11","v":1}]
[21,2650,11,2653,22,2657,null,null,null,null,0,212,null,null,"% target"]
[21,2752,22,2758,24,2768,null,null,null,null,0,222,null,null,"CCRF"]
[21,2865,22,2872,13,2879,null,null,null,null,0,221,null,null,"% CCRf"]
[12,2972,24,2975,13,2979,null,null,null,null,0,121,null,null,"average response rate",{"$f":"F31/P20","v":135.63999999999999},{"$f":"(F57-F31)/Q20","v":144.34615384615384},{"$f":"(F82-F57)/R20","v":134.84},{"$f":"(F107-F82)/S20","v":175.52},{"$f":"(F133-F107)/T20","v":137.65384615384616},{"$f":"(F158-F133)/U20","v":176.48}]
[21,3066,22,3072,24,3085,null,null,null,null,0,222]
[21,3276,11,3282,22,3283,null,null,null,null,0,212]
[12,3378,24,3386,24,3391,null,null,null,null,0,122]
[12,3484,24,3498,24,3501,null,null,null,null,0,122]
[21,3600,22,3605,24,3610,null,null,null,null,0,222]
[21,3705,22,3710,24,3716,null,null,null,null,0,222]
[12,3812,24,3818,24,3821,null,null,null,null,0,122]
[21,3919,22,3921,24,3924,null,null,null,null,0,222]
[21,4031,22,4043,13,4047,null,null,null,null,0,221]
[21,4139,11,4149,22,4156,null,null,null,null,0,212]
[21,4407,22,4420,13,4430,null,null,null,null,0,221]
[12,4522,24,4528,24,4534,null,null,null,null,0,122]
[21,4632,22,4634,24,4638,null,null,null,null,0,222]
[12,4735,24,4738,24,4742,null,null,null,null,0,122]
[21,4841,11,4848,11,4850,null,null,null,null,0,211]
[21,5466,11,5472,22,5481,null,null,null,null,0,212]
[12,5573,24,5581,24,5586,null,null,null,null,0,122]
[21,5681,22,5689,24,5694,null,null,null,null,0,222]
[12,5785,24,5798,13,5801,null,null,null,null,0,121]
[12,5894,24,5896,24,5900,null,null,null,null,0,122]
[21,5997,22,5999,24,6003,null,null,null,null,0,222]
[21,6104,22,6113,24,6120,null,null,null,null,0,222]
[21,6216,22,6223,24,6228,null,null,null,null,0,222]
[21,6369,11,6378,22,6385,null,null,null,null,0,212]
[21,6706,11,6711,22,6717,null,null,null,null,0,212]
[12,6811,24,6818,24,6823,null,null,null,null,0,122]
[21,6926,11,6929,22,6934,null,null,null,null,0,212]
[21,7035,22,7039,13,7043,null,null,null,null,0,221]
[12,7137,24,7140,24,7144,null,null,null,null,0,122]
[12,7246,24,7250,24,7254,null,null,null,null,0,122]
[21,7362,22,7365,24,7370,null,null,null,null,0,222]
[21,7470,11,7473,22,7475,null,null,null,null,0,212]
[21,7573,22,7585,13,7587,null,null,null,null,0,221]
[12,7691,24,7695,24,7702,null,null,null,null,0,122]
[21,7792,22,7807,24,7814,null,null,null,null,0,222]
[21,8063,11,8068,22,8076,null,null,null,null,0,212]
[21,8174,11,8180,22,8181,null,null,null,null,0,212]
[21,8300,11,8306,22,8319,null,null,null,null,0,212]
[21,8536,11,8540,22,8560,null,null,null,null,0,212]
[21,8672,11,8676,22,8687,null,null,null,null,0,212]
[21,8900,11,8906,22,8909,null,null,null,null,0,212]
[21,9008,11,9011,22,9015,null,null,null,null,0,212]
[12,9107,24,9113,13,9119,null,null,null,null,0,121]
[21,9216,22,9220,24,9225,null,null,null,null,0,222]
[21,9322,11,9326,22,9333,null,null,null,null,0,212]
[21,9506,11,9511,22,9527,null,null,null,null,0,212]
[12,9622,24,9625,24,9630,null,null,null,null,0,122]
[12,9734,24,9747,24,9752,null,null,null,null,0,122]
[21,9851,22,9854,24,9863,null,null,null,null,0,222]
[21,9961,22,9963,24,9965,null,null,null,null,0,222]
[21,10056,11,10065,22,10075,null,null,null,null,0,212]
[21,10292,11,10298,22,10304,null,null,null,null,0,212]
[12,10397,24,10403,24,10406,null,null,null,null,0,122]
[21,10503,22,10508,24,10515,null,null,null,null,0,222]
[21,10610,11,10614,22,10621,null,null,null,null,0,212]
[21,10728,11,10732,22,10737,null,null,null,null,0,212]
[12,10833,24,10839,24,10845,null,null,null,null,0,122]
[21,10942,11,10946,22,10948,null,null,null,null,0,212]
[12,11041,24,11047,24,11052,null,null,null,null,0,122]
[21,11171,11,11178,22,11181,null,null,null,null,0,212]
[21,11337,11,11344,11,11346,null,null,null,null,0,211]
[21,11855,22,11862,13,11878,null,null,null,null,0,221]
[21,11989,11,11996,11,11998,null,null,null,null,0,211]
[21,12386,22,12397,24,12409,null,null,null,null,0,222]
[21,12500,11,12507,11,12512,null,null,null,null,0,211]
[21,12795,11,12811,22,12816,null,null,null,null,0,212]
[21,12959,11,12964,22,12988,null,null,null,null,0,212]
[21,13510,22,13521,24,13531,null,null,null,null,0,222]
[12,13626,24,13628,24,13634,null,null,null,null,0,122]
[21,13725,22,13727,13,13733,null,null,null,null,0,221]
[21,13877,11,13887,22,13889,null,null,null,null,0,212]
[12,13985,24,13989,24,13994,null,null,null,null,0,122]
[21,14090,22,14097,24,14102,null,null,null,null,0,222]
[21,14196,22,14201,24,14206,null,null,null,null,0,222]
[21,14305,22,14310,24,14315,null,null,null,null,0,222]
[21,14413,22,14427,13,14432,null,null,null,null,0,221]
[21,14528,22,14531,24,14533,null,null,null,null,0,222]
[21,14644,11,14651,22,14660,null,null,null,null,0,212]
[21,14895,11,14901,22,14903,null,null,null,null,0,212]
[21,15011,11,15019,22,15043,null,null,null,null,0,212]
[21,15198,22,15206,13,15211,null,null,null,null,0,221]
[21,15311,11,15319,22,15321,null,null,null,null,0,212]
[21,15416,22,15421,24,15428,null,null,null,null,0,222]
[21,15535,11,15541,22,15545,null,null,null,null,0,212]
[12,15644,24,15647,24,15652,null,null,null,null,0,122]
[21,15764,22,15769,13,15779,null,null,null,null,0,221]
[21,15984,22,15994,24,15999,null,null,null,null,0,222]
[21,16100,11,16105,22,16112,null,null,null,null,0,212]
[21,16210,22,16213,24,16219,null,null,null,null,0,222]
[21,16390,11,16397,22,16402,null,null,null,null,0,212]
[21,16521,22,16534,24,16541,null,null,null,null,0,222]
[12,16637,24,16642,24,16648,null,null,null,null,0,122]
[21,16750,22,16757,24,16761,null,null,null,null,0,222]
[21,16857,22,16862,13,16870,null,null,null,null,0,221]
[21,16967,22,16970,24,16976,null,null,null,null,0,222]
[21,17147,11,17149,22,17157,null,null,null,null,0,212]
[21,17478,11,17485,22,17488,null,null,null,null,0,212]
[12,17584,24,17588,24,17591,null,null,null,null,0,122]
[21,17695,22,17699,24,17705,null,null,null,null,0,222]
[21,17802,22,17810,24,17819,null,null,null,null,0,222]
[12,17913,24,17916,13,17918,null,null,null,null,0,121]
[21,18006,11,18011,22,18016,null,null,null,null,0,212]
[21,18233,11,18240,22,18247,null,null,null,null,0,212]
[12,18352,24,18357,24,18369,null,null,null,null,0,122]
[21,18472,22,18478,24,18482,null,null,null,null,0,222]
[21,18579,22,18583,24,18587,null,null,null,null,0,222]
[21,18682,22,18686,24,18693,null,null,null,null,0,222]
[21,18790,22,18795,24,18802,null,null,null,null,0,222]
[21,18920,22,18929,24,18936,null,null,null,null,0,222]
[21,19047,22,19055,24,19061,null,null,null,null,0,222]
[21,19280,22,19293,24,19300,null,null,null,null,0,222]
[21,19396,22,19403,13,19405,null,null,null,null,0,221]
[21,19511,22,19516,24,19522,null,null,null,null,0,222]
[21,19655,11,19661,22,19668,null,null,null,null,0,212]
[12,19763,24,19765,24,19769,null,null,null,null,0,122]
[21,19865,22,19871,24,19877,null,null,null,null,0,222]
[21,19984,22,19987,24,19993,null,null,null,null,0,222]
[12,20086,24,20094,24,20098,null,null,null,null,0,122]
[12,20231,24,20245,24,20258,null,null,null,null,0,122]
[21,20420,11,20429,22,20433,null,null,null,null,0,212]
[21,20536,22,20542,24,20548,null,null,null,null,0,222]
[21,20655,11,20659,11,20662,null,null,null,null,0,211]
[21,20908,11,20918,22,20924,null,null,null,null,0,212]
[21,21036,22,21047,24,21052,null,null,null,null,0,222]
[21,21625,22,21631,24,21637,null,null,null,null,0,222]
[21,21812,22,21817,24,21823,null,null,null,null,0,222]
[12,21994,13,21999,24,22009,null,null,null,null,0,112]
[12,22200,24,22210,24,22215,null,null,null,null,0,122]
[21,22425,22,22432,24,22439,null,null,null,null,0,222]
[21,22882,22,22888,24,22894,null,null,null,null,0,222]

{"sheet":"!N223950.Gus","index":29,"n_rows":97,"n_cols":48,"rows_kept":97,"cut":false,"hidden":false,"merged":[[4,39,4,42],[5,39,5,40],[4,44,4,47],[5,44,5,45],[4,24,4,27],[5,24,5,25],[4,29,4,32],[5,29,5,30],[4,34,4,37],[5,34,5,35],[1,1,1,2],[5,13,5,14],[18,13,18,14],[19,13,19,14],[4,19,4,22],[5,19,5,20]]}
["Report for:!N223950.Gus"]
["Date:","<date>"]
["Hen:","<hen>",null,null,null,"Correct Sequence",{"$f":"Start!J2","v":211},null,null,null,null,null,null,null,null,"Total Sequences in Data",{"$f":"4994-COUNTBLANK(L7:L5000)","v":91},null,null,null,null,"Total Sequences in Block Data",{"$f":"COUNTA(L7:L21)","v":15},null,null,null,"Total Sequences in Block Data",{"$f":"COUNTA(L22:L36)","v":15},null,null,null,"Total Sequences in Block Data",{"$f":"COUNTA(L37:L52)","v":16},null,null,null,"Total Sequences in Block Data",{"$f":"COUNTA(L53:L67)","v":15},null,null,null,"Total Sequences in Block Data",{"$f":"COUNTA(L68:L82)","v":15},null,null,null,"Total Sequences in Block Data",{"$f":"COUNTA(L83:L97)","v":15}]
[null,null,null,null,null,null,null,null,null,null,null,null,null,null,null,"Total Sequences in Summary",{"$f":"SUM(O7:O14)","v":91},null,null,null,null,"Total Sequences in Block Summary",{"$f":"SUM(U7:U14)","v":15},null,null,null,"Total Sequences in Block Summary",{"$f":"SUM(Z7:Z14)","v":15},null,null,null,"Total Sequences in Block Summary",{"$f":"SUM(AE7:AE14)","v":16},null,null,null,"Total Sequences in Block Summary",{"$f":"SUM(AJ7:AJ14)","v":15},null,null,null,"Total Sequences in Block Summary",{"$f":"SUM(AO7:AO14)","v":15},null,null,null,"Total Sequences in Block Summary",{"$f":"SUM(AT7:AT14)","v":15}]
[null,null,null,null,null,null,null,null,null,null,null,null,null,null,null,null,null,null,null,"Block 1",null,null,null,null,"Block 2",null,null,null,null,"Block 3",null,null,null,null,"Block 4",null,null,null,null,"Block 5",null,null,null,null,"Block 6"]
["Sequence\nComponent\n1","Time\n1","Sequence\nComponent\n2","Time\n2","Sequence\nComponent\n3","Time\n3","Sequence\nComponent\n4","Time\n4","Sequence\nComponent\n5","Time\n5","Correct?\n0=No 1=Yes","Sequence",null,"Frequency",null,"Relative Frequency","Variability",null,null,"Frequency",null,"Relative Frequency","Variability",null,"Frequency",null,"Relative Frequency","Variability",null,"Frequency",null,"Relative Frequency","Variability",null,"Frequency",null,"Relative Frequency","Variability",null,"Frequency",null,"Relative Frequency","Variability",null,"Frequency",null,"Relative Frequency","Variability"]
[21,41,22,48,24,55,null,null,null,null,0,222,null,111,{"$f":"COUNTIF($L$7:$L$500,N7)","v":0},{"$f":"O7/$Q$4","v":0},{"$f":"IF(P7=0,0,(P7*((LOG(P7))/LOG(2))))","v":0},null,null,{"$f":"N7","v":111},{"$f":"COUNTIF(L7:L21,T7)","v":0},{"$f":"U7/(W4-U11)","v":0},{"$f":"IF(V7=0,0,(V7*((LOG(V7))/LOG(2))))","v":0},null,{"$f":"N7","v":111},{"$f":"COUNTIF(L22:L36,Y7)","v":0},{"$f":"Z7/(AB4-Z11)","v":0},{"$f":"IF(AA7=0,0,(AA7*((LOG(AA7))/LOG(2))))","v":0},null,{"$f":"N7","v":111},{"$f":"COUNTIF(L37:L52,AD7)","v":0},{"$f":"AE7/(AG4-AE11)","v":0},{"$f":"IF(AF7=0,0,(AF7*((LOG(AF7))/LOG(2))))","v":0},null,{"$f":"N7","v":111},{"$f":"COUNTIF(L53:L67,AI7)","v":0},{"$f":"AJ7/(AL4-AJ11)","v":0},{"$f":"IF(AK7=0,0,(AK7*((LOG(AK7))/LOG(2))))","v":0},null,{"$f":"N7","v":111},{"$f":"COUNTIF(L68:L82,AN7)","v":0},{"$f":"AO7/(AQ4-AO11)","v":0},{"$f":"IF(AP7=0,0,(AP7*((LOG(AP7))/LOG(2))))","v":0},null,{"$f":"N7","v":111},{"$f":"COUNTIF(L83:L97,AS7)","v":0},{"$f":"AT7/(AV4-AT11)","v":0},{"$f":"IF(AU7=0,0,(AU7*((LOG(AU7))/LOG(2))))","v":0}]
[12,224,24,236,24,243,null,null,null,null,0,122,null,112,{"$f":"COUNTIF($L$7:$L$500,N8)","v":2},{"$f":"O8/$Q$4","v":2.197802197802198E-2},{"$f":"IF(P8=0,0,(P8*((LOG(P8))/LOG(2))))","v":-0.12105043165271862},null,null,{"$f":"N8","v":112},{"$f":"COUNTIF(L7:L21,T8)","v":1},{"$f":"U8/(W4-U11)","v":6.6666666666666666E-2},{"$f":"IF(V8=0,0,(V8*((LOG(V8))/LOG(2))))","v":-0.26045937304056793},null,{"$f":"N8","v":112},{"$f":"COUNTIF(L22:L36,Y8)","v":0},{"$f":"Z8/(AB4-Z11)","v":0},{"$f":"IF(AA8=0,0,(AA8*((LOG(AA8))/LOG(2))))","v":0},null,{"$f":"N8","v":112},{"$f":"COUNTIF(L37:L52,AD8)","v":1},{"$f":"AE8/(AG4-AE11)","v":6.25E-2},{"$f":"IF(AF8=0,0,(AF8*((LOG(AF8))/LOG(2))))","v":-0.25},null,{"$f":"N8","v":112},{"$f":"COUNTIF(L53:L67,AI8)","v":0},{"$f":"AJ8/(AL4-AJ11)","v":0},{"$f":"IF(AK8=0,0,(AK8*((LOG(AK8))/LOG(2))))","v":0},null,{"$f":"N8","v":112},{"$f":"COUNTIF(L68:L82,AN8)","v":0},{"$f":"AO8/(AQ4-AO11)","v":0},{"$f":"IF(AP8=0,0,(AP8*((LOG(AP8))/LOG(2))))","v":0},null,{"$f":"N8","v":112},{"$f":"COUNTIF(L83:L97,AS8)","v":0},{"$f":"AT8/(AV4-AT11)","v":0},{"$f":"IF(AU8=0,0,(AU8*((LOG(AU8))/LOG(2))))","v":0}]
[12,468,24,480,24,487,null,null,null,null,0,122,null,121,{"$f":"COUNTIF($L$7:$L$500,N9)","v":3},{"$f":"O9/$Q$4","v":3.2967032967032968E-2},{"$f":"IF(P9=0,0,(P9*((LOG(P9))/LOG(2))))","v":-0.16229116943332547},null,null,{"$f":"N9","v":121},{"$f":"COUNTIF(L7:L21,T9)","v":0},{"$f":"U9/(W4-U11)","v":0},{"$f":"IF(V9=0,0,(V9*((LOG(V9))/LOG(2))))","v":0},null,{"$f":"N9","v":121},{"$f":"COUNTIF(L22:L36,Y9)","v":0},{"$f":"Z9/(AB4-Z11)","v":0},{"$f":"IF(AA9=0,0,(AA9*((LOG(AA9))/LOG(2))))","v":0},null,{"$f":"N9","v":121},{"$f":"COUNTIF(L37:L52,AD9)","v":0},{"$f":"AE9/(AG4-AE11)","v":0},{"$f":"IF(AF9=0,0,(AF9*((LOG(AF9))/LOG(2))))","v":0},null,{"$f":"N9","v":121},{"$f":"COUNTIF(L53:L67,AI9)","v":2},{"$f":"AJ9/(AL4-AJ11)","v":0.14285714285714285},{"$f":"IF(AK9=0,0,(AK9*((LOG(AK9))/LOG(2))))","v":-0.40105070315108626},null,{"$f":"N9","v":121},{"$f":"COUNTIF(L68:L82,AN9)","v":1},{"$f":"AO9/(AQ4-AO11)","v":6.6666666666666666E-2},{"$f":"IF(AP9=0,0,(AP9*((LOG(AP9))/LOG(2))))","v":-0.26045937304056793},null,{"$f":"N9","v":121},{"$f":"COUNTIF(L83:L97,AS9)","v":0},{"$f":"AT9/(AV4-AT11)","v":0},{"$f":"IF(AU9=0,0,(AU9*((LOG(AU9))/LOG(2))))","v":0}]
[21,909,22,915,13,918,null,null,null,null,0,221,null,122,{"$f":"COUNTIF($L$7:$L$500,N10)","v":17},{"$f":"O10/$Q$4","v":0.18681318681318682},{"$f":"IF(P10=0,0,(P10*((LOG(P10))/LOG(2))))","v":-0.4521498965068359},null,null,{"$f":"N10","v":122},{"$f":"COUNTIF(L7:L21,T10)","v":4},{"$f":"U10/(W4-U11)","v":0.26666666666666666},{"$f":"IF(V10=0,0,(V10*((LOG(V10))/LOG(2))))","v":-0.50850415882893829},null,{"$f":"N10","v":122},{"$f":"COUNTIF(L22:L36,Y10)","v":4},{"$f":"Z10/(AB4-Z11)","v":0.26666666666666666},{"$f":"IF(AA10=0,0,(AA10*((LOG(AA10))/LOG(2))))","v":-0.50850415882893829},null,{"$f":"N10","v":122},{"$f":"COUNTIF(L37:L52,AD10)","v":2},{"$f":"AE10/(AG4-AE11)","v":0.125},{"$f":"IF(AF10=0,0,(AF10*((LOG(AF10))/LOG(2))))","v":-0.375},null,{"$f":"N10","v":122},{"$f":"COUNTIF(L53:L67,AI10)","v":3},{"$f":"AJ10/(AL4-AJ11)","v":0.21428571428571427},{"$f":"IF(AK10=0,0,(AK10*((LOG(AK10))/LOG(2))))","v":-0.47622694742923877},null,{"$f":"N10","v":122},{"$f":"COUNTIF(L68:L82,AN10)","v":3},{"$f":"AO10/(AQ4-AO11)","v":0.2},{"$f":"IF(AP10=0,0,(AP10*((LOG(AP10))/LOG(2))))","v":-0.46438561897747244},null,{"$f":"N10","v":122},{"$f":"COUNTIF(L83:L97,AS10)","v":1},{"$f":"AT10/(AV4-AT11)","v":6.6666666666666666E-2},{"$f":"IF(AU10=0,0,(AU10*((LOG(AU10))/LOG(2))))","v":-0.26045937304056793}]
[12,1074,24,1081,24,1084,null,null,null,null,0,122,null,211,{"$f":"COUNTIF($L$7:$L$500,N11)","v":1},{"$f":"O11/$Q$4","v":1.098901098901099E-2},{"$f":"IF(P11=0,0,(P11*((LOG(P11))/LOG(2))))","v":-7.1514226815370299E-2},null,null,{"$f":"N11","v":211},{"$f":"COUNTIF(L7:L21,T11)","v":0},null,null,null,{"$f":"N11","v":211},{"$f":"COUNTIF(L22:L36,Y11)","v":0},null,null,null,{"$f":"N11","v":211},{"$f":"COUNTIF(L37:L52,AD11)","v":0},null,null,null,{"$f":"N11","v":211},{"$f":"COUNTIF(L53:L67,AI11)","v":1},null,null,null,{"$f":"N11","v":211},{"$f":"COUNTIF(L68:L82,AN11)","v":0},null,null,null,{"$f":"N11","v":211},{"$f":"COUNTIF(L83:L97,AS11)","v":0}]
[21,1195,22,1199,13,1202,null,null,null,null,0,221,null,212,{"$f":"COUNTIF($L$7:$L$500,N12)","v":13},{"$f":"O12/$Q$4","v":0.14285714285714285},{"$f":"IF(P12=0,0,(P12*((LOG(P12))/LOG(2))))","v":-0.40105070315108626},null,null,{"$f":"N12","v":212},{"$f":"COUNTIF(L7:L21,T12)","v":3},{"$f":"U12/(W4-U11)","v":0.2},{"$f":"IF(V12=0,0,(V12*((LOG(V12))/LOG(2))))","v":-0.46438561897747244},null,{"$f":"N12","v":212},{"$f":"COUNTIF(L22:L36,Y12)","v":3},{"$f":"Z12/(AB4-Z11)","v":0.2},{"$f":"IF(AA12=0,0,(AA12*((LOG(AA12))/LOG(2))))","v":-0.46438561897747244},null,{"$f":"N12","v":212},{"$f":"COUNTIF(L37:L52,AD12)","v":2},{"$f":"AE12/(AG4-AE11)","v":0.125},{"$f":"IF(AF12=0,0,(AF12*((LOG(AF12))/LOG(2))))","v":-0.375},null,{"$f":"N12","v":212},{"$f":"COUNTIF(L53:L67,AI12)","v":1},{"$f":"AJ12/(AL4-AJ11)","v":7.1428571428571425E-2},{"$f":"IF(AK12=0,0,(AK12*((LOG(AK12))/LOG(2))))","v":-0.27195392300411453},null,{"$f":"N12","v":212},{"$f":"COUNTIF(L68:L82,AN12)","v":2},{"$f":"AO12/(AQ4-AO11)","v":0.13333333333333333},{"$f":"IF(AP12=0,0,(AP12*((LOG(AP12))/LOG(2))))","v":-0.3875854127478025},null,{"$f":"N12","v":212},{"$f":"COUNTIF(L83:L97,AS12)","v":2},{"$f":"AT12/(AV4-AT11)","v":0.13333333333333333},{"$f":"IF(AU12=0,0,(AU12*((LOG(AU12))/LOG(2))))","v":-0.3875854127478025}]
[21,1403,22,1407,24,1414,null,null,null,null,0,222,null,221,{"$f":"COUNTIF($L$7:$L$500,N13)","v":9},{"$f":"O13/$Q$4","v":9.8901098901098897E-2},{"$f":"IF(P13=0,0,(P13*((LOG(P13))/LOG(2))))","v":-0.33011897526162037},null,null,{"$f":"N13","v":221},{"$f":"COUNTIF(L7:L21,T13)","v":2},{"$f":"U13/(W4-U11)","v":0.13333333333333333},{"$f":"IF(V13=0,0,(V13*((LOG(V13))/LOG(2))))","v":-0.3875854127478025},null,{"$f":"N13","v":221},{"$f":"COUNTIF(L22:L36,Y13)","v":1},{"$f":"Z13/(AB4-Z11)","v":6.6666666666666666E-2},{"$f":"IF(AA13=0,0,(AA13*((LOG(AA13))/LOG(2))))","v":-0.26045937304056793},null,{"$f":"N13","v":221},{"$f":"COUNTIF(L37:L52,AD13)","v":3},{"$f":"AE13/(AG4-AE11)","v":0.1875},{"$f":"IF(AF13=0,0,(AF13*((LOG(AF13))/LOG(2))))","v":-0.45281953111478312},null,{"$f":"N13","v":221},{"$f":"COUNTIF(L53:L67,AI13)","v":3},{"$f":"AJ13/(AL4-AJ11)","v":0.21428571428571427},{"$f":"IF(AK13=0,0,(AK13*((LOG(AK13))/LOG(2))))","v":-0.47622694742923877},null,{"$f":"N13","v":221},{"$f":"COUNTIF(L68:L82,AN13)","v":0},{"$f":"AO13/(AQ4-AO11)","v":0},{"$f":"IF(AP13=0,0,(AP13*((LOG(AP13))/LOG(2))))","v":0},null,{"$f":"N13","v":221},{"$f":"COUNTIF(L83:L97,AS13)","v":0},{"$f":"AT13/(AV4-AT11)","v":0},{"$f":"IF(AU13=0,0,(AU13*((LOG(AU13))/LOG(2))))","v":0}]
[21,1515,22,1527,24,1534,null,null,null,null,0,222,null,222,{"$f":"COUNTIF($L$7:$L$500,N14)","v":46},{"$f":"O14/$Q$4","v":0.50549450549450547},{"$f":"IF(P14=0,0,(P14*((LOG(P14))/LOG(2))))","v":-0.49752421396173008},null,null,{"$f":"N14","v":222},{"$f":"COUNTIF(L7:L21,T14)","v":5},{"$f":"U14/(W4-U11)","v":0.33333333333333331},{"$f":"IF(V14=0,0,(V14*((LOG(V14))/LOG(2))))","v":-0.52832083357371862},null,{"$f":"N14","v":222},{"$f":"COUNTIF(L22:L36,Y14)","v":7},{"$f":"Z14/(AB4-Z11)","v":0.46666666666666667},{"$f":"IF(AA14=0,0,(AA14*((LOG(AA14))/LOG(2))))","v":-0.51311664765709342},null,{"$f":"N14","v":222},{"$f":"COUNTIF(L37:L52,AD14)","v":8},{"$f":"AE14/(AG4-AE11)","v":0.5},{"$f":"IF(AF14=0,0,(AF14*((LOG(AF14))/LOG(2))))","v":-0.5},null,{"$f":"N14","v":222},{"$f":"COUNTIF(L53:L67,AI14)","v":5},{"$f":"AJ14/(AL4-AJ11)","v":0.35714285714285715},{"$f":"IF(AK14=0,0,(AK14*((LOG(AK14))/LOG(2))))","v":-0.53050958113222924},null,{"$f":"N14","v":222},{"$f":"COUNTIF(L68:L82,AN14)","v":9},{"$f":"AO14/(AQ4-AO11)","v":0.6},{"$f":"IF(AP14=0,0,(AP14*((LOG(AP14))/LOG(2))))","v":-0.44217935649972373},null,{"$f":"N14","v":222},{"$f":"COUNTIF(L83:L97,AS14)","v":12},{"$f":"AT14/(AV4-AT11)","v":0.8},{"$f":"IF(AU14=0,0,(AU14*((LOG(AU14))/LOG(2))))","v":-0.25754247590988982}]
[21,1958,11,1962,22,1965,null,null,null,null,0,212,null,null,null,{"$f":"SUM(P7:P14)","v":1},{"$f":"-SUM(Q7:Q14)","v":2.0356996167826868},null,null,null,null,{"$f":"SUM(V7:V14)","v":1},{"$f":"-SUM(W7:W14)","v":2.1492553971685},null,null,null,{"$f":"SUM(AA7:AA14)","v":1},{"$f":"-SUM(AB7:AB14)","v":1.7464657985040721},null,null,null,{"$f":"SUM(AF7:AF14)","v":1},{"$f":"-SUM(AG7:AG14)","v":1.9528195311147831},null,null,null,{"$f":"SUM(AK7:AK14)","v":1},{"$f":"-SUM(AL7:AL14)","v":2.1559681021459078},null,null,null,{"$f":"SUM(AP7:AP14)","v":1},{"$f":"-SUM(AQ7:AQ14)","v":1.5546097612655667},null,null,null,{"$f":"SUM(AU7:AU14)","v":1},{"$f":"-SUM(AV7:AV14)","v":0.90558726169826032}]
[12,2068,24,2074,24,2080,null,null,null,null,0,122,null,null,null,"U=",{"$f":"Q15/(LOG(Q4)/LOG(2))","v":0.31280944303438141},null,null,null,null,"U1=",{"$f":"W15/(LOG(W4)/LOG(2))","v":0.5501191662710847},null,null,null,"U2=",{"$f":"AB15/(LOG(AB4)/LOG(2))","v":0.44702193618299951},null,null,null,"U3=",{"$f":"AG15/(LOG(AG4)/LOG(2))","v":0.48820488277869578},null,null,null,"U4=",{"$f":"AL15/(LOG(AL4)/LOG(2))","v":0.55183733697823312},null,null,null,"U5=",{"$f":"AQ15/(LOG(AQ4)/LOG(2))","v":0.39791484384359327},null,null,null,"U6=",{"$f":"AV15/(LOG(AV4)/LOG(2))","v":0.23179232679721617}]
[12,2180,13,2186,24,2196,null,null,null,null,0,112]
[21,2309,11,2320,22,2323,null,null,null,null,0,212]
[21,2666,11,2669,22,2671,null,null,null,null,0,212,null,"Total Target Seq"]
[21,2808,22,2812,24,2820,null,null,null,null,0,222,null,{"$f":"COUNTIF(L7:L97,G3)","v":1},null,15,15,16,15,15,15]
[21,2920,22,2925,24,2931,null,null,null,null,0,222,null,null,null,"% of reinforcement given in 6 equal intervals based on number of trials "]
[21,3032,11,3041,22,3047,null,null,null,null,0,212,null,null,null,"%_1","%_2","%_3","%_4","%_5","%_6"]
[21,3417,22,3429,24,3436,null,null,null,null,0,222,null,null,"target sequence",{"$f":"$G$3","v":211},{"$f":"$G$3","v":211},{"$f":"$G$3","v":211},{"$f":"$G$3","v":211},{"$f":"$G$3","v":211},{"$f":"$G$3","v":211}]
[21,3527,22,3533,24,3549,null,null,null,null,0,222,null,null,"total reinforcement",{"$f":"U11","v":0},{"$f":"Z11","v":0},{"$f":"AE11","v":0},{"$f":"AJ11","v":1},{"$f":"AO11","v":0},{"$f":"AT11","v":0}]
[12,3812,24,3823,24,3838,null,null,null,null,0,122,null,null,"% target"]
[21,3955,22,3970,24,3977,null,null,null,null,0,222,null,null,"CCRF"]
[21,4546,22,4549,24,4556,null,null,null,null,0,222,null,null,"% CCRf"]
[21,4642,11,4650,22,4660,null,null,null,null,0,212,null,null,"average response rate",{"$f":"F21/P20","v":195.4},{"$f":"(F36-F21)/Q20","v":210.06666666666666},{"$f":"(F52-F36)/R20","v":186},{"$f":"(F67-F52)/S20","v":149.13333333333333},{"$f":"(F82-F67)/T20","v":160.73333333333332},{"$f":"(F97-F82)/U20","v":460.6}]
[12,4824,24,4835,24,4851,null,null,null,null,0,122]
[12,5254,24,5260,24,5275,null,null,null,null,0,122]
[21,5394,22,5398,24,5404,null,null,null,null,0,222]
[21,5518,22,5530,13,5534,null,null,null,null,0,221]
[21,5728,22,5733,24,5740,null,null,null,null,0,222]
[12,5846,24,5857,24,5861,null,null,null,null,0,122]
[21,5962,22,5967,24,5974,null,null,null,null,0,222]
[21,6071,11,6077,22,6082,null,null,null,null,0,212]
[21,6323,22,6327,24,6339,null,null,null,null,0,222]
[21,6454,11,6462,22,6469,null,null,null,null,0,212]
[21,6578,22,6594,13,6598,null,null,null,null,0,221]
[21,6876,22,6892,24,6898,null,null,null,null,0,222]
[21,7003,22,7008,13,7013,null,null,null,null,0,221]
[12,7106,24,7116,24,7123,null,null,null,null,0,122]
[12,7303,24,7317,24,7327,null,null,null,null,0,122]
[12,7429,13,7431,24,7443,null,null,null,null,0,112]
[21,7599,11,7603,22,7610,null,null,null,null,0,212]
[21,7739,22,7749,24,7755,null,null,null,null,0,222]
[21,8314,22,8318,13,8327,null,null,null,null,0,221]
[21,8422,22,8437,24,8443,null,null,null,null,0,222]
[21,8672,22,8677,24,8685,null,null,null,null,0,222]
[21,8788,22,8800,24,8805,null,null,null,null,0,222]
[21,8927,22,8943,24,8950,null,null,null,null,0,222]
[21,9051,22,9055,24,9058,null,null,null,null,0,222]
[21,9164,22,9169,13,9176,null,null,null,null,0,221]
[21,9275,22,9285,24,9291,null,null,null,null,0,222]
[12,9380,24,9385,24,9391,null,null,null,null,0,122]
[21,9587,11,9592,22,9603,null,null,null,null,0,212]
[21,9702,22,9715,13,9725,null,null,null,null,0,221]
[21,9821,22,9834,13,9836,null,null,null,null,0,221]
[12,9930,24,9941,13,9944,null,null,null,null,0,121]
[12,10037,24,10048,13,10054,null,null,null,null,0,121]
[21,10148,22,10152,24,10159,null,null,null,null,0,222]
[12,10253,24,10257,24,10261,null,null,null,null,0,122]
[12,10396,24,10405,24,10410,null,null,null,null,0,122]
[21,10503,11,10511,11,10515,null,null,null,null,0,211]
[21,11011,22,11019,24,11026,null,null,null,null,0,222]
[21,11131,22,11141,24,11149,null,null,null,null,0,222]
[21,11272,22,11277,24,11295,null,null,null,null,0,222]
[21,11392,22,11395,24,11401,null,null,null,null,0,222]
[21,11498,22,11509,24,11522,null,null,null,null,0,222]
[21,11620,22,11624,24,11631,null,null,null,null,0,222]
[12,11726,24,11731,24,11734,null,null,null,null,0,122]
[21,11842,22,11860,24,11867,null,null,null,null,0,222]
[21,12167,22,12176,24,12195,null,null,null,null,0,222]
[12,12288,24,12299,24,12305,null,null,null,null,0,122]
[21,12467,22,12476,24,12483,null,null,null,null,0,222]
[12,12577,24,12583,13,12586,null,null,null,null,0,121]
[21,12698,22,12704,24,12715,null,null,null,null,0,222]
[21,12818,22,12823,24,12834,null,null,null,null,0,222]
[21,12931,11,12944,22,12945,null,null,null,null,0,212]
[21,13329,11,13336,22,13345,null,null,null,null,0,212]
[12,13579,24,13585,24,13590,null,null,null,null,0,122]
[21,13694,22,13699,24,13706,null,null,null,null,0,222]
[21,13803,22,13809,24,13815,null,null,null,null,0,222]
[21,13911,22,13916,24,13921,null,null,null,null,0,222]
[21,14067,22,14073,24,14079,null,null,null,null,0,222]
[21,14177,22,14184,24,14191,null,null,null,null,0,222]
[21,14332,22,14338,24,14344,null,null,null,null,0,222]
[21,14437,22,14445,24,14453,null,null,null,null,0,222]
[21,14774,22,14780,24,14787,null,null,null,null,0,222]
[21,14886,22,14890,24,14894,null,null,null,null,0,222]
[21,14992,11,15004,22,15011,null,null,null,null,0,212]
[21,15117,11,15125,22,15131,null,null,null,null,0,212]
[12,15247,24,15257,24,15262,null,null,null,null,0,122]
[21,20218,22,20223,24,20229,null,null,null,null,0,222]
[21,20340,22,20353,24,20360,null,null,null,null,0,222]
[21,20470,22,20476,24,20488,null,null,null,null,0,222]
[21,20606,22,20610,24,20615,null,null,null,null,0,222]

{"sheet":"!N224900.Gus","index":30,"n_rows":92,"n_cols":48,"rows_kept":92,"cut":false,"hidden":false,"merged":[[4,39,4,42],[5,39,5,40],[4,44,4,47],[5,44,5,45],[4,24,4,27],[5,24,5,25],[4,29,4,32],[5,29,5,30],[4,34,4,37],[5,34,5,35],[1,1,1,2],[5,13,5,14],[18,13,18,14],[19,13,19,14],[4,19,4,22],[5,19,5,20]]}
["Report for:!N224900.Gus"]
["Date:","<date>"]
["Hen:","<hen>",null,null,null,"Correct Sequence",{"$f":"Start!J2","v":211},null,null,null,null,null,null,null,null,"Total Sequences in Data",{"$f":"4994-COUNTBLANK(L7:L5000)","v":86},null,null,null,null,"Total Sequences in Block Data",{"$f":"COUNTA(L7:L20)","v":14},null,null,null,"Total Sequences in Block Data",{"$f":"COUNTA(L21:L35)","v":15},null,null,null,"Total Sequences in Block Data",{"$f":"COUNTA(L36:L49)","v":14},null,null,null,"Total Sequences in Block Data",{"$f":"COUNTA(L50:L63)","v":14},null,null,null,"Total Sequences in Block Data",{"$f":"COUNTA(L64:L78)","v":15},null,null,null,"Total Sequences in Block Data",{"$f":"COUNTA(L79:L92)","v":14}]
[null,null,null,null,null,null,null,null,null,null,null,null,null,null,null,"Total Sequences in Summary",{"$f":"SUM(O7:O14)","v":86},null,null,null,null,"Total Sequences in Block Summary",{"$f":"SUM(U7:U14)","v":14},null,null,null,"Total Sequences in Block Summary",{"$f":"SUM(Z7:Z14)","v":15},null,null,null,"Total Sequences in Block Summary",{"$f":"SUM(AE7:AE14)","v":14},null,null,null,"Total Sequences in Block Summary",{"$f":"SUM(AJ7:AJ14)","v":14},null,null,null,"Total Sequences in Block Summary",{"$f":"SUM(AO7:AO14)","v":15},null,null,null,"Total Sequences in Block Summary",{"$f":"SUM(AT7:AT14)","v":14}]
[null,null,null,null,null,null,null,null,null,null,null,null,null,null,null,null,null,null,null,"Block 1",null,null,null,null,"Block 2",null,null,null,null,"Block 3",null,null,null,null,"Block 4",null,null,null,null,"Block 5",null,null,null,null,"Block 6"]
["Sequence\nComponent\n1","Time\n1","Sequence\nComponent\n2","Time\n2","Sequence\nComponent\n3","Time\n3","Sequence\nComponent\n4","Time\n4","Sequence\nComponent\n5","Time\n5","Correct?\n0=No 1=Yes","Sequence",null,"Frequency",null,"Relative Frequency","Variability",null,null,"Frequency",null,"Relative Frequency","Variability",null,"Frequency",null,"Relative Frequency","Variability",null,"Frequency",null,"Relative Frequency","Variability",null,"Frequency",null,"Relative Frequency","Variability",null,"Frequency",null,"Relative Frequency","Variability",null,"Frequency",null,"Relative Frequency","Variability"]
[12,424,24,433,24,436,null,null,null,null,0,122,null,111,{"$f":"COUNTIF($L$7:$L$500,N7)","v":0},{"$f":"O7/$Q$4","v":0},{"$f":"IF(P7=0,0,(P7*((LOG(P7))/LOG(2))))","v":0},null,null,{"$f":"N7","v":111},{"$f":"COUNTIF(L7:L20,T7)","v":0},{"$f":"U7/(W4-U11)","v":0},{"$f":"IF(V7=0,0,(V7*((LOG(V7))/LOG(2))))","v":0},null,{"$f":"N7","v":111},{"$f":"COUNTIF(L21:L35,Y7)","v":0},{"$f":"Z7/(AB4-Z11)","v":0},{"$f":"IF(AA7=0,0,(AA7*((LOG(AA7))/LOG(2))))","v":0},null,{"$f":"N7","v":111},{"$f":"COUNTIF(L36:L49,AD7)","v":0},{"$f":"AE7/(AG4-AE11)","v":0},{"$f":"IF(AF7=0,0,(AF7*((LOG(AF7))/LOG(2))))","v":0},null,{"$f":"N7","v":111},{"$f":"COUNTIF(L50:L63,AI7)","v":0},{"$f":"AJ7/(AL4-AJ11)","v":0},{"$f":"IF(AK7=0,0,(AK7*((LOG(AK7))/LOG(2))))","v":0},null,{"$f":"N7","v":111},{"$f":"COUNTIF(L64:L78,AN7)","v":0},{"$f":"AO7/(AQ4-AO11)","v":0},{"$f":"IF(AP7=0,0,(AP7*((LOG(AP7))/LOG(2))))","v":0},null,{"$f":"N7","v":111},{"$f":"COUNTIF(L79:L92,AS7)","v":0},{"$f":"AT7/(AV4-AT11)","v":0},{"$f":"IF(AU7=0,0,(AU7*((LOG(AU7))/LOG(2))))","v":0}]
[21,555,22,564,24,574,null,null,null,null,0,222,null,112,{"$f":"COUNTIF($L$7:$L$500,N8)","v":1},{"$f":"O8/$Q$4","v":1.1627906976744186E-2},{"$f":"IF(P8=0,0,(P8*((LOG(P8))/LOG(2))))","v":-7.4724008775605782E-2},null,null,{"$f":"N8","v":112},{"$f":"COUNTIF(L7:L20,T8)","v":1},{"$f":"U8/(W4-U11)","v":7.1428571428571425E-2},{"$f":"IF(V8=0,0,(V8*((LOG(V8))/LOG(2))))","v":-0.27195392300411453},null,{"$f":"N8","v":112},{"$f":"COUNTIF(L21:L35,Y8)","v":0},{"$f":"Z8/(AB4-Z11)","v":0},{"$f":"IF(AA8=0,0,(AA8*((LOG(AA8))/LOG(2))))","v":0},null,{"$f":"N8","v":112},{"$f":"COUNTIF(L36:L49,AD8)","v":0},{"$f":"AE8/(AG4-AE11)","v":0},{"$f":"IF(AF8=0,0,(AF8*((LOG(AF8))/LOG(2))))","v":0},null,{"$f":"N8","v":112},{"$f":"COUNTIF(L50:L63,AI8)","v":0},{"$f":"AJ8/(AL4-AJ11)","v":0},{"$f":"IF(AK8=0,0,(AK8*((LOG(AK8))/LOG(2))))","v":0},null,{"$f":"N8","v":112},{"$f":"COUNTIF(L64:L78,AN8)","v":0},{"$f":"AO8/(AQ4-AO11)","v":0},{"$f":"IF(AP8=0,0,(AP8*((LOG(AP8))/LOG(2))))","v":0},null,{"$f":"N8","v":112},{"$f":"COUNTIF(L79:L92,AS8)","v":0},{"$f":"AT8/(AV4-AT11)","v":0},{"$f":"IF(AU8=0,0,(AU8*((LOG(AU8))/LOG(2))))","v":0}]
[21,892,22,898,24,905,null,null,null,null,0,222,null,121,{"$f":"COUNTIF($L$7:$L$500,N9)","v":1},{"$f":"O9/$Q$4","v":1.1627906976744186E-2},{"$f":"IF(P9=0,0,(P9*((LOG(P9))/LOG(2))))","v":-7.4724008775605782E-2},null,null,{"$f":"N9","v":121},{"$f":"COUNTIF(L7:L20,T9)","v":1},{"$f":"U9/(W4-U11)","v":7.1428571428571425E-2},{"$f":"IF(V9=0,0,(V9*((LOG(V9))/LOG(2))))","v":-0.27195392300411453},null,{"$f":"N9","v":121},{"$f":"COUNTIF(L21:L35,Y9)","v":0},{"$f":"Z9/(AB4-Z11)","v":0},{"$f":"IF(AA9=0,0,(AA9*((LOG(AA9))/LOG(2))))","v":0},null,{"$f":"N9","v":121},{"$f":"COUNTIF(L36:L49,AD9)","v":0},{"$f":"AE9/(AG4-AE11)","v":0},{"$f":"IF(AF9=0,0,(AF9*((LOG(AF9))/LOG(2))))","v":0},null,{"$f":"N9","v":121},{"$f":"COUNTIF(L50:L63,AI9)","v":0},{"$f":"AJ9/(AL4-AJ11)","v":0},{"$f":"IF(AK9=0,0,(AK9*((LOG(AK9))/LOG(2))))","v":0},null,{"$f":"N9","v":121},{"$f":"COUNTIF(L64:L78,AN9)","v":0},{"$f":"AO9/(AQ4-AO11)","v":0},{"$f":"IF(AP9=0,0,(AP9*((LOG(AP9))/LOG(2))))","v":0},null,{"$f":"N9","v":121},{"$f":"COUNTIF(L79:L92,AS9)","v":0},{"$f":"AT9/(AV4-AT11)","v":0},{"$f":"IF(AU9=0,0,(AU9*((LOG(AU9))/LOG(2))))","v":0}]
[12,1007,13,1012,24,1023,null,null,null,null,0,112,null,122,{"$f":"COUNTIF($L$7:$L$500,N10)","v":18},{"$f":"O10/$Q$4","v":0.20930232558139536},{"$f":"IF(P10=0,0,(P10*((LOG(P10))/LOG(2))))","v":-0.47225715765902493},null,null,{"$f":"N10","v":122},{"$f":"COUNTIF(L7:L20,T10)","v":4},{"$f":"U10/(W4-U11)","v":0.2857142857142857},{"$f":"IF(V10=0,0,(V10*((LOG(V10))/LOG(2))))","v":-0.51638712058788683},null,{"$f":"N10","v":122},{"$f":"COUNTIF(L21:L35,Y10)","v":1},{"$f":"Z10/(AB4-Z11)","v":6.6666666666666666E-2},{"$f":"IF(AA10=0,0,(AA10*((LOG(AA10))/LOG(2))))","v":-0.26045937304056793},null,{"$f":"N10","v":122},{"$f":"COUNTIF(L36:L49,AD10)","v":2},{"$f":"AE10/(AG4-AE11)","v":0.14285714285714285},{"$f":"IF(AF10=0,0,(AF10*((LOG(AF10))/LOG(2))))","v":-0.40105070315108626},null,{"$f":"N10","v":122},{"$f":"COUNTIF(L50:L63,AI10)","v":3},{"$f":"AJ10/(AL4-AJ11)","v":0.21428571428571427},{"$f":"IF(AK10=0,0,(AK10*((LOG(AK10))/LOG(2))))","v":-0.47622694742923877},null,{"$f":"N10","v":122},{"$f":"COUNTIF(L64:L78,AN10)","v":3},{"$f":"AO10/(AQ4-AO11)","v":0.2},{"$f":"IF(AP10=0,0,(AP10*((LOG(AP10))/LOG(2))))","v":-0.46438561897747244},null,{"$f":"N10","v":122},{"$f":"COUNTIF(L79:L92,AS10)","v":5},{"$f":"AT10/(AV4-AT11)","v":0.35714285714285715},{"$f":"IF(AU10=0,0,(AU10*((LOG(AU10))/LOG(2))))","v":-0.53050958113222924}]
[12,1176,24,1185,24,1195,null,null,null,null,0,122,null,211,{"$f":"COUNTIF($L$7:$L$500,N11)","v":0},{"$f":"O11/$Q$4","v":0},{"$f":"IF(P11=0,0,(P11*((LOG(P11))/LOG(2))))","v":0},null,null,{"$f":"N11","v":211},{"$f":"COUNTIF(L7:L20,T11)","v":0},null,null,null,{"$f":"N11","v":211},{"$f":"COUNTIF(L21:L35,Y11)","v":0},null,null,null,{"$f":"N11","v":211},{"$f":"COUNTIF(L36:L49,AD11)","v":0},null,null,null,{"$f":"N11","v":211},{"$f":"COUNTIF(L50:L63,AI11)","v":0},null,null,null,{"$f":"N11","v":211},{"$f":"COUNTIF(L64:L78,AN11)","v":0},null,null,null,{"$f":"N11","v":211},{"$f":"COUNTIF(L79:L92,AS11)","v":0}]
[21,1650,22,1660,24,1667,null,null,null,null,0,222,null,212,{"$f":"COUNTIF($L$7:$L$500,N12)","v":20},{"$f":"O12/$Q$4","v":0.23255813953488372},{"$f":"IF(P12=0,0,(P12*((LOG(P12))/LOG(2))))","v":-0.48938061856156645},null,null,{"$f":"N12","v":212},{"$f":"COUNTIF(L7:L20,T12)","v":2},{"$f":"U12/(W4-U11)","v":0.14285714285714285},{"$f":"IF(V12=0,0,(V12*((LOG(V12))/LOG(2))))","v":-0.40105070315108626},null,{"$f":"N12","v":212},{"$f":"COUNTIF(L21:L35,Y12)","v":4},{"$f":"Z12/(AB4-Z11)","v":0.26666666666666666},{"$f":"IF(AA12=0,0,(AA12*((LOG(AA12))/LOG(2))))","v":-0.50850415882893829},null,{"$f":"N12","v":212},{"$f":"COUNTIF(L36:L49,AD12)","v":5},{"$f":"AE12/(AG4-AE11)","v":0.35714285714285715},{"$f":"IF(AF12=0,0,(AF12*((LOG(AF12))/LOG(2))))","v":-0.53050958113222924},null,{"$f":"N12","v":212},{"$f":"COUNTIF(L50:L63,AI12)","v":2},{"$f":"AJ12/(AL4-AJ11)","v":0.14285714285714285},{"$f":"IF(AK12=0,0,(AK12*((LOG(AK12))/LOG(2))))","v":-0.40105070315108626},null,{"$f":"N12","v":212},{"$f":"COUNTIF(L64:L78,AN12)","v":0},{"$f":"AO12/(AQ4-AO11)","v":0},{"$f":"IF(AP12=0,0,(AP12*((LOG(AP12))/LOG(2))))","v":0},null,{"$f":"N12","v":212},{"$f":"COUNTIF(L79:L92,AS12)","v":7},{"$f":"AT12/(AV4-AT11)","v":0.5},{"$f":"IF(AU12=0,0,(AU12*((LOG(AU12))/LOG(2))))","v":-0.5}]
[12,1770,24,1781,13,1784,null,null,null,null,0,121,null,221,{"$f":"COUNTIF($L$7:$L$500,N13)","v":9},{"$f":"O13/$Q$4","v":0.10465116279069768},{"$f":"IF(P13=0,0,(P13*((LOG(P13))/LOG(2))))","v":-0.34077974162021013},null,null,{"$f":"N13","v":221},{"$f":"COUNTIF(L7:L20,T13)","v":1},{"$f":"U13/(W4-U11)","v":7.1428571428571425E-2},{"$f":"IF(V13=0,0,(V13*((LOG(V13))/LOG(2))))","v":-0.27195392300411453},null,{"$f":"N13","v":221},{"$f":"COUNTIF(L21:L35,Y13)","v":2},{"$f":"Z13/(AB4-Z11)","v":0.13333333333333333},{"$f":"IF(AA13=0,0,(AA13*((LOG(AA13))/LOG(2))))","v":-0.3875854127478025},null,{"$f":"N13","v":221},{"$f":"COUNTIF(L36:L49,AD13)","v":2},{"$f":"AE13/(AG4-AE11)","v":0.14285714285714285},{"$f":"IF(AF13=0,0,(AF13*((LOG(AF13))/LOG(2))))","v":-0.40105070315108626},null,{"$f":"N13","v":221},{"$f":"COUNTIF(L50:L63,AI13)","v":2},{"$f":"AJ13/(AL4-AJ11)","v":0.14285714285714285},{"$f":"IF(AK13=0,0,(AK13*((LOG(AK13))/LOG(2))))","v":-0.40105070315108626},null,{"$f":"N13","v":221},{"$f":"COUNTIF(L64:L78,AN13)","v":2},{"$f":"AO13/(AQ4-AO11)","v":0.13333333333333333},{"$f":"IF(AP13=0,0,(AP13*((LOG(AP13))/LOG(2))))","v":-0.3875854127478025},null,{"$f":"N13","v":221},{"$f":"COUNTIF(L79:L92,AS13)","v":0},{"$f":"AT13/(AV4-AT11)","v":0},{"$f":"IF(AU13=0,0,(AU13*((LOG(AU13))/LOG(2))))","v":0}]
[21,1897,22,1915,24,1927,null,null,null,null,0,222,null,222,{"$f":"COUNTIF($L$7:$L$500,N14)","v":37},{"$f":"O14/$Q$4","v":0.43023255813953487},{"$f":"IF(P14=0,0,(P14*((LOG(P14))/LOG(2))))","v":-0.52351187669426147},null,null,{"$f":"N14","v":222},{"$f":"COUNTIF(L7:L20,T14)","v":5},{"$f":"U14/(W4-U11)","v":0.35714285714285715},{"$f":"IF(V14=0,0,(V14*((LOG(V14))/LOG(2))))","v":-0.53050958113222924},null,{"$f":"N14","v":222},{"$f":"COUNTIF(L21:L35,Y14)","v":8},{"$f":"Z14/(AB4-Z11)","v":0.53333333333333333},{"$f":"IF(AA14=0,0,(AA14*((LOG(AA14))/LOG(2))))","v":-0.4836749843245432},null,{"$f":"N14","v":222},{"$f":"COUNTIF(L36:L49,AD14)","v":5},{"$f":"AE14/(AG4-AE11)","v":0.35714285714285715},{"$f":"IF(AF14=0,0,(AF14*((LOG(AF14))/LOG(2))))","v":-0.53050958113222924},null,{"$f":"N14","v":222},{"$f":"COUNTIF(L50:L63,AI14)","v":7},{"$f":"AJ14/(AL4-AJ11)","v":0.5},{"$f":"IF(AK14=0,0,(AK14*((LOG(AK14))/LOG(2))))","v":-0.5},null,{"$f":"N14","v":222},{"$f":"COUNTIF(L64:L78,AN14)","v":10},{"$f":"AO14/(AQ4-AO11)","v":0.66666666666666663},{"$f":"IF(AP14=0,0,(AP14*((LOG(AP14))/LOG(2))))","v":-0.38997500048077083},null,{"$f":"N14","v":222},{"$f":"COUNTIF(L79:L92,AS14)","v":2},{"$f":"AT14/(AV4-AT11)","v":0.14285714285714285},{"$f":"IF(AU14=0,0,(AU14*((LOG(AU14))/LOG(2))))","v":-0.40105070315108626}]
[21,2345,22,2349,24,2356,null,null,null,null,0,222,null,null,null,{"$f":"SUM(P7:P14)","v":1},{"$f":"-SUM(Q7:Q14)","v":1.9753774120862746},null,null,null,null,{"$f":"SUM(V7:V14)","v":1},{"$f":"-SUM(W7:W14)","v":2.263809173883546},null,null,null,{"$f":"SUM(AA7:AA14)","v":1},{"$f":"-SUM(AB7:AB14)","v":1.6402239289418519},null,null,null,{"$f":"SUM(AF7:AF14)","v":1},{"$f":"-SUM(AG7:AG14)","v":1.863120568566631},null,null,null,{"$f":"SUM(AK7:AK14)","v":1},{"$f":"-SUM(AL7:AL14)","v":1.7783283537314114},null,null,null,{"$f":"SUM(AP7:AP14)","v":1},{"$f":"-SUM(AQ7:AQ14)","v":1.2419460322060458},null,null,null,{"$f":"SUM(AU7:AU14)","v":1},{"$f":"-SUM(AV7:AV14)","v":1.4315602842833157}]
[21,2467,11,2472,22,2480,null,null,null,null,0,212,null,null,null,"U=",{"$f":"Q15/(LOG(Q4)/LOG(2))","v":0.30739122763980287},null,null,null,null,"U1=",{"$f":"W15/(LOG(W4)/LOG(2))","v":0.5945884269334466},null,null,null,"U2=",{"$f":"AB15/(LOG(AB4)/LOG(2))","v":0.41982847709775156},null,null,null,"U3=",{"$f":"AG15/(LOG(AG4)/LOG(2))","v":0.48934775105225736},null,null,null,"U4=",{"$f":"AL15/(LOG(AL4)/LOG(2))","v":0.46707711525101309},null,null,null,"U5=",{"$f":"AQ15/(LOG(AQ4)/LOG(2))","v":0.31788605332384695},null,null,null,"U6=",{"$f":"AV15/(LOG(AV4)/LOG(2))","v":0.37599864304472552}]
[21,2697,11,2703,22,2710,null,null,null,null,0,212]
[12,2836,24,2847,24,2862,null,null,null,null,0,122]
[12,2971,24,2984,24,2986,null,null,null,null,0,122,null,"Total Target Seq"]
[21,3098,22,3101,13,3103,null,null,null,null,0,221,null,{"$f":"COUNTIF(L7:L92,G3)","v":0},null,14,15,14,14,15,14]
[21,3349,22,3354,24,3361,null,null,null,null,0,222,null,null,null,"% of reinforcement given in 6 equal intervals based on number of trials "]
[21,3458,11,3472,22,3487,null,null,null,null,0,212,null,null,null,"%_1","%_2","%_3","%_4","%_5","%_6"]
[21,3669,22,3681,13,3683,null,null,null,null,0,221,null,null,"target sequence",{"$f":"$G$3","v":211},{"$f":"$G$3","v":211},{"$f":"$G$3","v":211},{"$f":"$G$3","v":211},{"$f":"$G$3","v":211},{"$f":"$G$3","v":211}]
[12,3783,24,3794,24,3797,null,null,null,null,0,122,null,null,"total reinforcement",{"$f":"U11","v":0},{"$f":"Z11","v":0},{"$f":"AE11","v":0},{"$f":"AJ11","v":0},{"$f":"AO11","v":0},{"$f":"AT11","v":0}]
[21,3888,11,3899,22,3931,null,null,null,null,0,212,null,null,"% target"]
[21,4190,22,4214,24,4222,null,null,null,null,0,222,null,null,"CCRF"]
[21,4332,22,4337,24,4343,null,null,null,null,0,222,null,null,"% CCRf"]
[21,4434,22,4446,24,4453,null,null,null,null,0,222,null,null,"average response rate",{"$f":"F20/P20","v":221.64285714285714},{"$f":"(F35-F20)/Q20","v":159.73333333333332},{"$f":"(F49-F35)/R20","v":160.35714285714286},{"$f":"(F63-F49)/S20","v":151.42857142857142},{"$f":"(F78-F63)/T20","v":156.4},{"$f":"(F92-F78)/U20","v":162}]
[21,4640,22,4647,24,4656,null,null,null,null,0,222]
[21,4752,22,4762,24,4769,null,null,null,null,0,222]
[21,4869,22,4874,24,4888,null,null,null,null,0,222]
[21,4982,22,4993,13,4996,null,null,null,null,0,221]
[21,5273,11,5277,22,5288,null,null,null,null,0,212]
[21,5385,11,5391,22,5396,null,null,null,null,0,212]
[21,5488,22,5494,24,5499,null,null,null,null,0,222]
[21,5600,22,5605,24,5613,null,null,null,null,0,222]
[12,5731,24,5740,24,5745,null,null,null,null,0,122]
[21,5845,22,5849,24,5857,null,null,null,null,0,222]
[21,5948,11,5958,22,5966,null,null,null,null,0,212]
[21,6293,22,6297,24,6304,null,null,null,null,0,222]
[12,6397,24,6405,24,6410,null,null,null,null,0,122]
[21,6516,22,6523,24,6531,null,null,null,null,0,222]
[21,6629,22,6632,13,6635,null,null,null,null,0,221]
[21,6773,11,6788,22,6803,null,null,null,null,0,212]
[21,7059,11,7065,22,7077,null,null,null,null,0,212]
[21,7175,11,7186,22,7198,null,null,null,null,0,212]
[21,7486,22,7492,24,7506,null,null,null,null,0,222]
[21,7617,11,7625,22,7632,null,null,null,null,0,212]
[21,7731,22,7738,13,7744,null,null,null,null,0,221]
[21,7843,22,7852,13,7854,null,null,null,null,0,221]
[21,7952,22,7957,24,7964,null,null,null,null,0,222]
[21,8121,22,8125,24,8131,null,null,null,null,0,222]
[21,8235,11,8242,22,8274,null,null,null,null,0,212]
[21,8498,22,8513,24,8520,null,null,null,null,0,222]
[21,8654,11,8666,22,8670,null,null,null,null,0,212]
[21,8769,22,8773,24,8780,null,null,null,null,0,222]
[21,8876,22,8886,24,8891,null,null,null,null,0,222]
[12,8985,24,8992,24,8996,null,null,null,null,0,122]
[12,9088,24,9095,24,9099,null,null,null,null,0,122]
[21,9200,22,9203,24,9212,null,null,null,null,0,222]
[21,9635,22,9640,24,9649,null,null,null,null,0,222]
[12,9742,24,9746,24,9749,null,null,null,null,0,122]
[21,9847,22,9852,13,9864,null,null,null,null,0,221]
[21,9992,22,10000,24,10008,null,null,null,null,0,222]
[12,10100,24,10106,24,10108,null,null,null,null,0,122]
[21,10208,22,10220,13,10225,null,null,null,null,0,221]
[12,10323,24,10328,24,10334,null,null,null,null,0,122]
[21,10535,22,10543,24,10556,null,null,null,null,0,222]
[21,10792,22,10797,24,10809,null,null,null,null,0,222]
[21,11222,22,11229,13,11231,null,null,null,null,0,221]
[21,11328,22,11344,24,11349,null,null,null,null,0,222]
[21,11459,22,11477,24,11484,null,null,null,null,0,222]
[12,11578,24,11586,24,11593,null,null,null,null,0,122]
[21,11698,22,11708,24,11716,null,null,null,null,0,222]
[21,11811,22,11816,24,11824,null,null,null,null,0,222]
[21,11976,22,11981,24,11992,null,null,null,null,0,222]
[21,12092,22,12098,24,12103,null,null,null,null,0,222]
[21,12202,22,12204,24,12210,null,null,null,null,0,222]
[21,12310,11,12312,22,12317,null,null,null,null,0,212]
[21,12421,11,12429,22,12434,null,null,null,null,0,212]
[21,12775,11,12786,22,12790,null,null,null,null,0,212]
[12,12882,24,12893,24,12899,null,null,null,null,0,122]
[21,12997,22,13002,24,13007,null,null,null,null,0,222]
[21,13103,11,13106,22,13109,null,null,null,null,0,212]
[21,13569,11,13573,22,13581,null,null,null,null,0,212]
[21,13684,11,13691,22,13708,null,null,null,null,0,212]
[21,13887,11,13889,22,13893,null,null,null,null,0,212]
[12,13985,24,13991,24,13997,null,null,null,null,0,122]
[21,14095,22,14108,24,14115,null,null,null,null,0,222]
[12,14207,24,14221,24,14226,null,null,null,null,0,122]
[12,14325,24,14335,24,14341,null,null,null,null,0,122]
[12,14446,24,14457,24,14478,null,null,null,null,0,122]

{"sheet":"!N225A00.Gus","index":31,"n_rows":158,"n_cols":48,"rows_kept":158,"cut":false,"hidden":false,"merged":[[4,39,4,42],[5,39,5,40],[4,44,4,47],[5,44,5,45],[4,24,4,27],[5,24,5,25],[4,29,4,32],[5,29,5,30],[4,34,4,37],[5,34,5,35],[1,1,1,2],[5,13,5,14],[18,13,18,14],[19,13,19,14],[4,19,4,22],[5,19,5,20]]}
["Report for:!N225A00.Gus"]
["Date:","<date>"]
["Hen:","<hen>",null,null,null,"Correct Sequence",{"$f":"Start!J2","v":211},null,null,null,null,null,null,null,null,"Total Sequences in Data",{"$f":"4994-COUNTBLANK(L7:L5000)","v":152},null,null,null,null,"Total Sequences in Block Data",{"$f":"COUNTA(L7:L31)","v":25},null,null,null,"Total Sequences in Block Data",{"$f":"COUNTA(L32:L57)","v":26},null,null,null,"Total Sequences in Block Data",{"$f":"COUNTA(L58:L82)","v":25},null,null,null,"Total Sequences in Block Data",{"$f":"COUNTA(L83:L107)","v":25},null,null,null,"Total Sequences in Block Data",{"$f":"COUNTA(L108:L133)","v":26},null,null,null,"Total Sequences in Block Data",{"$f":"COUNTA(L134:L158)","v":25}]
[null,null,null,null,null,null,null,null,null,null,null,null,null,null,null,"Total Sequences in Summary",{"$f":"SUM(O7:O14)","v":152},null,null,null,null,"Total Sequences in Block Summary",{"$f":"SUM(U7:U14)","v":25},null,null,null,"Total Sequences in Block Summary",{"$f":"SUM(Z7:Z14)","v":26},null,null,null,"Total Sequences in Block Summary",{"$f":"SUM(AE7:AE14)","v":25},null,null,null,"Total Sequences in Block Summary",{"$f":"SUM(AJ7:AJ14)","v":25},null,null,null,"Total Sequences in Block Summary",{"$f":"SUM(AO7:AO14)","v":26},null,null,null,"Total Sequences in Block Summary",{"$f":"SUM(AT7:AT14)","v":25}]
[null,null,null,null,null,null,null,null,null,null,null,null,null,null,null,null,null,null,null,"Block 1",null,null,null,null,"Block 2",null,null,null,null,"Block 3",null,null,null,null,"Block 4",null,null,null,null,"Block 5",null,null,null,null,"Block 6"]
["Sequence\nComponent\n1","Time\n1","Sequence\nComponent\n2","Time\n2","Sequence\nComponent\n3","Time\n3","Sequence\nComponent\n4","Time\n4","Sequence\nComponent\n5","Time\n5","Correct?\n0=No 1=Yes","Sequence",null,"Frequency",null,"Relative Frequency","Variability",null,null,"Frequency",null,"Relative Frequency","Variability",null,"Frequency",null,"Relative Frequency","Variability",null,"Frequency",null,"Relative Frequency","Variability",null,"Frequency",null,"Relative Frequency","Variability",null,"Frequency",null,"Relative Frequency","Variability",null,"Frequency",null,"Relative Frequency","Variability"]
[21,130,22,141,24,147,null,null,null,null,0,222,null,111,{"$f":"COUNTIF($L$7:$L$500,N7)","v":0},{"$f":"O7/$Q$4","v":0},{"$f":"IF(P7=0,0,(P7*((LOG(P7))/LOG(2))))","v":0},null,null,{"$f":"N7","v":111},{"$f":"COUNTIF(L7:L31,T7)","v":0},{"$f":"U7/(W4-U11)","v":0},{"$f":"IF(V7=0,0,(V7*((LOG(V7))/LOG(2))))","v":0},null,{"$f":"N7","v":111},{"$f":"COUNTIF(L32:L57,Y7)","v":0},{"$f":"Z7/(AB4-Z11)","v":0},{"$f":"IF(AA7=0,0,(AA7*((LOG(AA7))/LOG(2))))","v":0},null,{"$f":"N7","v":111},{"$f":"COUNTIF(L58:L82,AD7)","v":0},{"$f":"AE7/(AG4-AE11)","v":0},{"$f":"IF(AF7=0,0,(AF7*((LOG(AF7))/LOG(2))))","v":0},null,{"$f":"N7","v":111},{"$f":"COUNTIF(L83:L107,AI7)","v":0},{"$f":"AJ7/(AL4-AJ11)","v":0},{"$f":"IF(AK7=0,0,(AK7*((LOG(AK7))/LOG(2))))","v":0},null,{"$f":"N7","v":111},{"$f":"COUNTIF(L108:L133,AN7)","v":0},{"$f":"AO7/(AQ4-AO11)","v":0},{"$f":"IF(AP7=0,0,(AP7*((LOG(AP7))/LOG(2))))","v":0},null,{"$f":"N7","v":111},{"$f":"COUNTIF(L134:L158,AS7)","v":0},{"$f":"AT7/(AV4-AT11)","v":0},{"$f":"IF(AU7=0,0,(AU7*((LOG(AU7))/LOG(2))))","v":0}]
[12,274,24,287,24,292,null,null,null,null,0,122,null,112,{"$f":"COUNTIF($L$7:$L$500,N8)","v":3},{"$f":"O8/$Q$4","v":1.9736842105263157E-2},{"$f":"IF(P8=0,0,(P8*((LOG(P8))/LOG(2))))","v":-0.11176904630373216},null,null,{"$f":"N8","v":112},{"$f":"COUNTIF(L7:L31,T8)","v":0},{"$f":"U8/(W4-U11)","v":0},{"$f":"IF(V8=0,0,(V8*((LOG(V8))/LOG(2))))","v":0},null,{"$f":"N8","v":112},{"$f":"COUNTIF(L32:L57,Y8)","v":1},{"$f":"Z8/(AB4-Z11)","v":3.8461538461538464E-2},{"$f":"IF(AA8=0,0,(AA8*((LOG(AA8))/LOG(2))))","v":-0.18078614300542661},null,{"$f":"N8","v":112},{"$f":"COUNTIF(L58:L82,AD8)","v":1},{"$f":"AE8/(AG4-AE11)","v":0.04},{"$f":"IF(AF8=0,0,(AF8*((LOG(AF8))/LOG(2))))","v":-0.18575424759098899},null,{"$f":"N8","v":112},{"$f":"COUNTIF(L83:L107,AI8)","v":0},{"$f":"AJ8/(AL4-AJ11)","v":0},{"$f":"IF(AK8=0,0,(AK8*((LOG(AK8))/LOG(2))))","v":0},null,{"$f":"N8","v":112},{"$f":"COUNTIF(L108:L133,AN8)","v":0},{"$f":"AO8/(AQ4-AO11)","v":0},{"$f":"IF(AP8=0,0,(AP8*((LOG(AP8))/LOG(2))))","v":0},null,{"$f":"N8","v":112},{"$f":"COUNTIF(L134:L158,AS8)","v":1},{"$f":"AT8/(AV4-AT11)","v":4.1666666666666664E-2},{"$f":"IF(AU8=0,0,(AU8*((LOG(AU8))/LOG(2))))","v":-0.19104010419671485}]
[21,522,22,528,24,534,null,null,null,null,0,222,null,121,{"$f":"COUNTIF($L$7:$L$500,N9)","v":6},{"$f":"O9/$Q$4","v":3.9473684210526314E-2},{"$f":"IF(P9=0,0,(P9*((LOG(P9))/LOG(2))))","v":-0.184064408396938},null,null,{"$f":"N9","v":121},{"$f":"COUNTIF(L7:L31,T9)","v":0},{"$f":"U9/(W4-U11)","v":0},{"$f":"IF(V9=0,0,(V9*((LOG(V9))/LOG(2))))","v":0},null,{"$f":"N9","v":121},{"$f":"COUNTIF(L32:L57,Y9)","v":3},{"$f":"Z9/(AB4-Z11)","v":0.11538461538461539},{"$f":"IF(AA9=0,0,(AA9*((LOG(AA9))/LOG(2))))","v":-0.35947814047153104},null,{"$f":"N9","v":121},{"$f":"COUNTIF(L58:L82,AD9)","v":2},{"$f":"AE9/(AG4-AE11)","v":0.08},{"$f":"IF(AF9=0,0,(AF9*((LOG(AF9))/LOG(2))))","v":-0.29150849518197797},null,{"$f":"N9","v":121},{"$f":"COUNTIF(L83:L107,AI9)","v":1},{"$f":"AJ9/(AL4-AJ11)","v":4.1666666666666664E-2},{"$f":"IF(AK9=0,0,(AK9*((LOG(AK9))/LOG(2))))","v":-0.19104010419671485},null,{"$f":"N9","v":121},{"$f":"COUNTIF(L108:L133,AN9)","v":0},{"$f":"AO9/(AQ4-AO11)","v":0},{"$f":"IF(AP9=0,0,(AP9*((LOG(AP9))/LOG(2))))","v":0},null,{"$f":"N9","v":121},{"$f":"COUNTIF(L134:L158,AS9)","v":0},{"$f":"AT9/(AV4-AT11)","v":0},{"$f":"IF(AU9=0,0,(AU9*((LOG(AU9))/LOG(2))))","v":0}]
[12,711,24,727,24,731,null,null,null,null,0,122,null,122,{"$f":"COUNTIF($L$7:$L$500,N10)","v":31},{"$f":"O10/$Q$4","v":0.20394736842105263},{"$f":"IF(P10=0,0,(P10*((LOG(P10))/LOG(2))))","v":-0.46780044272867116},null,null,{"$f":"N10","v":122},{"$f":"COUNTIF(L7:L31,T10)","v":6},{"$f":"U10/(W4-U11)","v":0.24},{"$f":"IF(V10=0,0,(V10*((LOG(V10))/LOG(2))))","v":-0.49413448537285637},null,{"$f":"N10","v":122},{"$f":"COUNTIF(L32:L57,Y10)","v":6},{"$f":"Z10/(AB4-Z11)","v":0.23076923076923078},{"$f":"IF(AA10=0,0,(AA10*((LOG(AA10))/LOG(2))))","v":-0.48818705017383146},null,{"$f":"N10","v":122},{"$f":"COUNTIF(L58:L82,AD10)","v":4},{"$f":"AE10/(AG4-AE11)","v":0.16},{"$f":"IF(AF10=0,0,(AF10*((LOG(AF10))/LOG(2))))","v":-0.42301699036395596},null,{"$f":"N10","v":122},{"$f":"COUNTIF(L83:L107,AI10)","v":6},{"$f":"AJ10/(AL4-AJ11)","v":0.25},{"$f":"IF(AK10=0,0,(AK10*((LOG(AK10))/LOG(2))))","v":-0.5},null,{"$f":"N10","v":122},{"$f":"COUNTIF(L108:L133,AN10)","v":3},{"$f":"AO10/(AQ4-AO11)","v":0.11538461538461539},{"$f":"IF(AP10=0,0,(AP10*((LOG(AP10))/LOG(2))))","v":-0.35947814047153104},null,{"$f":"N10","v":122},{"$f":"COUNTIF(L134:L158,AS10)","v":6},{"$f":"AT10/(AV4-AT11)","v":0.25},{"$f":"IF(AU10=0,0,(AU10*((LOG(AU10))/LOG(2))))","v":-0.5}]
[21,900,11,910,22,912,null,null,null,null,0,212,null,211,{"$f":"COUNTIF($L$7:$L$500,N11)","v":2},{"$f":"O11/$Q$4","v":1.3157894736842105E-2},{"$f":"IF(P11=0,0,(P11*((LOG(P11))/LOG(2))))","v":-8.2209572545310333E-2},null,null,{"$f":"N11","v":211},{"$f":"COUNTIF(L7:L31,T11)","v":0},null,null,null,{"$f":"N11","v":211},{"$f":"COUNTIF(L32:L57,Y11)","v":0},null,null,null,{"$f":"N11","v":211},{"$f":"COUNTIF(L58:L82,AD11)","v":0},null,null,null,{"$f":"N11","v":211},{"$f":"COUNTIF(L83:L107,AI11)","v":1},null,null,null,{"$f":"N11","v":211},{"$f":"COUNTIF(L108:L133,AN11)","v":0},null,null,null,{"$f":"N11","v":211},{"$f":"COUNTIF(L134:L158,AS11)","v":1}]
[21,1016,22,1021,24,1028,null,null,null,null,0,222,null,212,{"$f":"COUNTIF($L$7:$L$500,N12)","v":35},{"$f":"O12/$Q$4","v":0.23026315789473684},{"$f":"IF(P12=0,0,(P12*((LOG(P12))/LOG(2))))","v":-0.4878457722200768},null,null,{"$f":"N12","v":212},{"$f":"COUNTIF(L7:L31,T12)","v":2},{"$f":"U12/(W4-U11)","v":0.08},{"$f":"IF(V12=0,0,(V12*((LOG(V12))/LOG(2))))","v":-0.29150849518197797},null,{"$f":"N12","v":212},{"$f":"COUNTIF(L32:L57,Y12)","v":8},{"$f":"Z12/(AB4-Z11)","v":0.30769230769230771},{"$f":"IF(AA12=0,0,(AA12*((LOG(AA12))/LOG(2))))","v":-0.52321222096648989},null,{"$f":"N12","v":212},{"$f":"COUNTIF(L58:L82,AD12)","v":6},{"$f":"AE12/(AG4-AE11)","v":0.24},{"$f":"IF(AF12=0,0,(AF12*((LOG(AF12))/LOG(2))))","v":-0.49413448537285637},null,{"$f":"N12","v":212},{"$f":"COUNTIF(L83:L107,AI12)","v":6},{"$f":"AJ12/(AL4-AJ11)","v":0.25},{"$f":"IF(AK12=0,0,(AK12*((LOG(AK12))/LOG(2))))","v":-0.5},null,{"$f":"N12","v":212},{"$f":"COUNTIF(L108:L133,AN12)","v":7},{"$f":"AO12/(AQ4-AO11)","v":0.26923076923076922},{"$f":"IF(AP12=0,0,(AP12*((LOG(AP12))/LOG(2))))","v":-0.50967667586863141},null,{"$f":"N12","v":212},{"$f":"COUNTIF(L134:L158,AS12)","v":6},{"$f":"AT12/(AV4-AT11)","v":0.25},{"$f":"IF(AU12=0,0,(AU12*((LOG(AU12))/LOG(2))))","v":-0.5}]
[21,1174,22,1179,24,1183,null,null,null,null,0,222,null,221,{"$f":"COUNTIF($L$7:$L$500,N13)","v":12},{"$f":"O13/$Q$4","v":7.8947368421052627E-2},{"$f":"IF(P13=0,0,(P13*((LOG(P13))/LOG(2))))","v":-0.28918144837282334},null,null,{"$f":"N13","v":221},{"$f":"COUNTIF(L7:L31,T13)","v":3},{"$f":"U13/(W4-U11)","v":0.12},{"$f":"IF(V13=0,0,(V13*((LOG(V13))/LOG(2))))","v":-0.36706724268642821},null,{"$f":"N13","v":221},{"$f":"COUNTIF(L32:L57,Y13)","v":2},{"$f":"Z13/(AB4-Z11)","v":7.6923076923076927E-2},{"$f":"IF(AA13=0,0,(AA13*((LOG(AA13))/LOG(2))))","v":-0.28464920908777636},null,{"$f":"N13","v":221},{"$f":"COUNTIF(L58:L82,AD13)","v":2},{"$f":"AE13/(AG4-AE11)","v":0.08},{"$f":"IF(AF13=0,0,(AF13*((LOG(AF13))/LOG(2))))","v":-0.29150849518197797},null,{"$f":"N13","v":221},{"$f":"COUNTIF(L83:L107,AI13)","v":3},{"$f":"AJ13/(AL4-AJ11)","v":0.125},{"$f":"IF(AK13=0,0,(AK13*((LOG(AK13))/LOG(2))))","v":-0.375},null,{"$f":"N13","v":221},{"$f":"COUNTIF(L108:L133,AN13)","v":2},{"$f":"AO13/(AQ4-AO11)","v":7.6923076923076927E-2},{"$f":"IF(AP13=0,0,(AP13*((LOG(AP13))/LOG(2))))","v":-0.28464920908777636},null,{"$f":"N13","v":221},{"$f":"COUNTIF(L134:L158,AS13)","v":0},{"$f":"AT13/(AV4-AT11)","v":0},{"$f":"IF(AU13=0,0,(AU13*((LOG(AU13))/LOG(2))))","v":0}]
[21,1634,22,1639,13,1644,null,null,null,null,0,221,null,222,{"$f":"COUNTIF($L$7:$L$500,N14)","v":63},{"$f":"O14/$Q$4","v":0.41447368421052633},{"$f":"IF(P14=0,0,(P14*((LOG(P14))/LOG(2))))","v":-0.52664998793717854},null,null,{"$f":"N14","v":222},{"$f":"COUNTIF(L7:L31,T14)","v":14},{"$f":"U14/(W4-U11)","v":0.56000000000000005},{"$f":"IF(V14=0,0,(V14*((LOG(V14))/LOG(2))))","v":-0.46844070992158748},null,{"$f":"N14","v":222},{"$f":"COUNTIF(L32:L57,Y14)","v":6},{"$f":"Z14/(AB4-Z11)","v":0.23076923076923078},{"$f":"IF(AA14=0,0,(AA14*((LOG(AA14))/LOG(2))))","v":-0.48818705017383146},null,{"$f":"N14","v":222},{"$f":"COUNTIF(L58:L82,AD14)","v":10},{"$f":"AE14/(AG4-AE11)","v":0.4},{"$f":"IF(AF14=0,0,(AF14*((LOG(AF14))/LOG(2))))","v":-0.52877123795494496},null,{"$f":"N14","v":222},{"$f":"COUNTIF(L83:L107,AI14)","v":8},{"$f":"AJ14/(AL4-AJ11)","v":0.33333333333333331},{"$f":"IF(AK14=0,0,(AK14*((LOG(AK14))/LOG(2))))","v":-0.52832083357371862},null,{"$f":"N14","v":222},{"$f":"COUNTIF(L108:L133,AN14)","v":14},{"$f":"AO14/(AQ4-AO11)","v":0.53846153846153844},{"$f":"IF(AP14=0,0,(AP14*((LOG(AP14))/LOG(2))))","v":-0.48089181327572433},null,{"$f":"N14","v":222},{"$f":"COUNTIF(L134:L158,AS14)","v":11},{"$f":"AT14/(AV4-AT11)","v":0.45833333333333331},{"$f":"IF(AU14=0,0,(AU14*((LOG(AU14))/LOG(2))))","v":-0.51586832095510204}]
[21,1744,22,1756,24,1764,null,null,null,null,0,222,null,null,null,{"$f":"SUM(P7:P14)","v":1},{"$f":"-SUM(Q7:Q14)","v":2.1495206785047305},null,null,null,null,{"$f":"SUM(V7:V14)","v":1},{"$f":"-SUM(W7:W14)","v":1.6211509331628502},null,null,null,{"$f":"SUM(AA7:AA14)","v":1},{"$f":"-SUM(AB7:AB14)","v":2.3244998138788873},null,null,null,{"$f":"SUM(AF7:AF14)","v":1},{"$f":"-SUM(AG7:AG14)","v":2.2146939516467024},null,null,null,{"$f":"SUM(AK7:AK14)","v":1},{"$f":"-SUM(AL7:AL14)","v":2.0943609377704338},null,null,null,{"$f":"SUM(AP7:AP14)","v":1},{"$f":"-SUM(AQ7:AQ14)","v":1.6346958387036632},null,null,null,{"$f":"SUM(AU7:AU14)","v":1},{"$f":"-SUM(AV7:AV14)","v":1.706908425151817}]
[21,1862,22,1869,24,1877,null,null,null,null,0,222,null,null,null,"U=",{"$f":"Q15/(LOG(Q4)/LOG(2))","v":0.29657038850316325},null,null,null,null,"U1=",{"$f":"W15/(LOG(W4)/LOG(2))","v":0.34909585200602278},null,null,null,"U2=",{"$f":"AB15/(LOG(AB4)/LOG(2))","v":0.49452816188826049},null,null,null,"U3=",{"$f":"AG15/(LOG(AG4)/LOG(2))","v":0.47690838414058162},null,null,null,"U4=",{"$f":"AL15/(LOG(AL4)/LOG(2))","v":0.45099608002116703},null,null,null,"U5=",{"$f":"AQ15/(LOG(AQ4)/LOG(2))","v":0.34777508844430943},null,null,null,"U6=",{"$f":"AV15/(LOG(AV4)/LOG(2))","v":0.36756272274543011}]
[12,1973,24,1976,24,1979,null,null,null,null,0,122]
[21,2075,22,2079,24,2085,null,null,null,null,0,222]
[21,2198,22,2202,24,2213,null,null,null,null,0,222,null,"Total Target Seq"]
[21,2316,22,2320,24,2330,null,null,null,null,0,222,null,{"$f":"COUNTIF(L7:L158,G3)","v":2},null,25,26,25,25,26,25]
[21,2435,22,2441,24,2447,null,null,null,null,0,222,null,null,null,"% of reinforcement given in 6 equal intervals based on number of trials "]
[21,2544,22,2550,13,2554,null,null,null,null,0,221,null,null,null,"%_1","%_2","%_3","%_4","%_5","%_6"]
[12,2781,24,2792,24,2798,null,null,null,null,0,122,null,null,"target sequence",{"$f":"$G$3","v":211},{"$f":"$G$3","v":211},{"$f":"$G$3","v":211},{"$f":"$G$3","v":211},{"$f":"$G$3","v":211},{"$f":"$G$3","v":211}]
[12,2893,24,2902,24,2907,null,null,null,null,0,122,null,null,"total reinforcement",{"$f":"U11","v":0},{"$f":"Z11","v":0},{"$f":"AE11","v":0},{"$f":"AJ11","v":1},{"$f":"AO11","v":0},{"$f":"AT11","v":1}]
[21,3074,22,3081,24,3086,null,null,null,null,0,222,null,null,"% target"]
[21,3177,22,3194,24,3202,null,null,null,null,0,222,null,null,"CCRF"]
[21,3490,22,3498,24,3503,null,null,null,null,0,222,null,null,"% CCRf"]
[12,3598,24,3605,24,3608,null,null,null,null,0,122,null,null,"average response rate",{"$f":"F31/P20","v":169.12},{"$f":"(F57-F31)/Q20","v":166.88461538461539},{"$f":"(F82-F57)/R20","v":158.44},{"$f":"(F107-F82)/S20","v":163.92},{"$f":"(F133-F107)/T20","v":156.61538461538461},{"$f":"(F158-F133)/U20","v":129.36000000000001}]
[21,3697,22,3716,13,3721,null,null,null,null,0,221]
[21,4079,22,4084,24,4090,null,null,null,null,0,222]
[21,4219,11,4222,22,4228,null,null,null,null,0,212]
[12,4331,13,4335,24,4346,null,null,null,null,0,112]
[12,4456,24,4469,13,4472,null,null,null,null,0,121]
[12,4593,24,4605,24,4610,null,null,null,null,0,122]
[21,4708,22,4713,24,4719,null,null,null,null,0,222]
[12,4816,24,4821,24,4825,null,null,null,null,0,122]
[12,5098,24,5101,24,5106,null,null,null,null,0,122]
[12,5200,24,5315,24,5321,null,null,null,null,0,122]
[21,5430,22,5438,13,5646,null,null,null,null,0,221]
[21,5756,11,5758,22,5766,null,null,null,null,0,212]
[21,5866,11,5873,22,5884,null,null,null,null,0,212]
[21,5985,22,6002,24,6009,null,null,null,null,0,222]
[12,6208,24,6218,13,6224,null,null,null,null,0,121]
[21,6323,22,6336,24,6343,null,null,null,null,0,222]
[21,6711,11,6715,22,6733,null,null,null,null,0,212]
[21,6960,11,6967,22,6996,null,null,null,null,0,212]
[21,7099,11,7111,22,7117,null,null,null,null,0,212]
[21,7238,11,7241,22,7243,null,null,null,null,0,212]
[21,7439,22,7445,24,7451,null,null,null,null,0,222]
[21,7550,22,7563,24,7571,null,null,null,null,0,222]
[12,7736,24,7780,24,7785,null,null,null,null,0,122]
[21,7885,22,7888,13,7891,null,null,null,null,0,221]
[12,7986,24,7995,13,7997,null,null,null,null,0,121]
[21,8120,22,8130,24,8143,null,null,null,null,0,222]
[21,8270,11,8280,22,8288,null,null,null,null,0,212]
[12,8382,24,8387,24,8393,null,null,null,null,0,122]
[21,8530,11,8538,22,8567,null,null,null,null,0,212]
[21,8794,22,8799,24,8808,null,null,null,null,0,222]
[21,8907,22,8913,13,8916,null,null,null,null,0,221]
[21,9008,11,9012,22,9022,null,null,null,null,0,212]
[21,9211,22,9226,24,9237,null,null,null,null,0,222]
[21,9343,22,9350,24,9354,null,null,null,null,0,222]
[21,9455,22,9459,24,9463,null,null,null,null,0,222]
[21,9605,22,9609,24,9615,null,null,null,null,0,222]
[21,9713,22,9718,24,9724,null,null,null,null,0,222]
[21,9882,22,9889,24,9895,null,null,null,null,0,222]
[12,10003,24,10007,24,10014,null,null,null,null,0,122]
[21,10137,22,10144,13,10146,null,null,null,null,0,221]
[12,10267,24,10279,24,10294,null,null,null,null,0,122]
[12,10581,24,10593,24,10599,null,null,null,null,0,122]
[21,10687,11,10693,22,10709,null,null,null,null,0,212]
[21,11072,11,11079,22,11083,null,null,null,null,0,212]
[12,11176,24,11185,13,11191,null,null,null,null,0,121]
[21,11282,11,11287,22,11290,null,null,null,null,0,212]
[21,11552,22,11556,24,11559,null,null,null,null,0,222]
[21,11657,22,11661,24,11667,null,null,null,null,0,222]
[21,11772,11,11784,22,11790,null,null,null,null,0,212]
[12,11884,13,11889,24,11895,null,null,null,null,0,112]
[21,11989,11,11997,22,12014,null,null,null,null,0,212]
[12,12292,24,12303,13,12311,null,null,null,null,0,121]
[12,12405,24,12411,24,12414,null,null,null,null,0,122]
[21,12514,22,12521,24,12528,null,null,null,null,0,222]
[12,12677,24,12686,13,12690,null,null,null,null,0,121]
[21,12791,22,12795,24,12800,null,null,null,null,0,222]
[21,12951,11,12956,22,12963,null,null,null,null,0,212]
[21,13062,11,13067,22,13083,null,null,null,null,0,212]
[12,13368,24,13379,24,13384,null,null,null,null,0,122]
[12,13490,24,13501,24,13506,null,null,null,null,0,122]
[12,13787,24,13796,24,13798,null,null,null,null,0,122]
[12,14039,24,14051,24,14056,null,null,null,null,0,122]
[21,14157,22,14163,24,14168,null,null,null,null,0,222]
[21,14348,22,14359,24,14366,null,null,null,null,0,222]
[21,14467,11,14472,22,14475,null,null,null,null,0,212]
[21,14575,22,14577,24,14584,null,null,null,null,0,222]
[21,14680,22,14685,24,14691,null,null,null,null,0,222]
[21,14790,22,14793,24,14799,null,null,null,null,0,222]
[21,14924,11,14930,22,14932,null,null,null,null,0,212]
[21,15029,22,15039,13,15040,null,null,null,null,0,221]
[21,15140,22,15146,24,15153,null,null,null,null,0,222]
[21,15326,22,15330,24,15337,null,null,null,null,0,222]
[21,15707,22,15713,13,15716,null,null,null,null,0,221]
[21,15811,11,15813,11,15819,null,null,null,null,0,211]
[21,15910,11,15921,22,15929,null,null,null,null,0,212]
[12,16247,24,16258,24,16265,null,null,null,null,0,122]
[12,16364,24,16366,24,16370,null,null,null,null,0,122]
[21,16507,11,16514,22,16522,null,null,null,null,0,212]
[21,16613,22,16620,13,16626,null,null,null,null,0,221]
[21,16755,11,16765,22,16778,null,null,null,null,0,212]
[21,17052,22,17065,24,17072,null,null,null,null,0,222]
[12,17166,24,17168,24,17171,null,null,null,null,0,122]
[12,17267,24,17271,24,17275,null,null,null,null,0,122]
[21,17373,22,17375,24,17380,null,null,null,null,0,222]
[21,17489,11,17497,22,17509,null,null,null,null,0,212]
[21,17753,22,17765,24,17771,null,null,null,null,0,222]
[12,17864,24,17877,24,17884,null,null,null,null,0,122]
[21,18004,22,18009,13,18015,null,null,null,null,0,221]
[21,18432,22,18440,24,18451,null,null,null,null,0,222]
[21,18554,11,18567,22,18571,null,null,null,null,0,212]
[21,18713,22,18721,13,18729,null,null,null,null,0,221]
[21,18849,11,18856,22,18864,null,null,null,null,0,212]
[21,18960,22,18970,24,18979,null,null,null,null,0,222]
[21,19085,11,19095,22,19097,null,null,null,null,0,212]
[21,19194,22,19198,24,19204,null,null,null,null,0,222]
[21,19308,22,19314,24,19325,null,null,null,null,0,222]
[21,19422,22,19428,24,19435,null,null,null,null,0,222]
[21,19531,22,19540,24,19549,null,null,null,null,0,222]
[21,19964,22,19976,24,19988,null,null,null,null,0,222]
[21,20089,22,20096,24,20102,null,null,null,null,0,222]
[21,20198,22,20210,24,20218,null,null,null,null,0,222]
[21,20325,11,20341,22,20357,null,null,null,null,0,212]
[21,20460,22,20469,24,20475,null,null,null,null,0,222]
[21,20565,11,20568,22,20575,null,null,null,null,0,212]
[21,20678,22,20686,24,20698,null,null,null,null,0,222]
[21,20798,22,20803,24,20817,null,null,null,null,0,222]
[21,20914,22,20918,24,20922,null,null,null,null,0,222]
[12,21016,24,21018,24,21023,null,null,null,null,0,122]
[21,21126,11,21130,22,21146,null,null,null,null,0,212]
[21,21248,22,21253,24,21260,null,null,null,null,0,222]
[12,21449,13,21454,24,21466,null,null,null,null,0,112]
[21,21556,22,21566,24,21572,null,null,null,null,0,222]
[21,21804,11,21807,22,21809,null,null,null,null,0,212]
[21,21909,22,21912,24,21916,null,null,null,null,0,222]
[12,22018,24,22028,24,22034,null,null,null,null,0,122]
[21,22132,11,22137,22,22144,null,null,null,null,0,212]
[21,22312,11,22323,22,22325,null,null,null,null,0,212]
[21,22427,22,22432,24,22441,null,null,null,null,0,222]
[12,22538,24,22539,24,22542,null,null,null,null,0,122]
[21,22644,22,22656,24,22667,null,null,null,null,0,222]
[21,22760,22,22763,24,22767,null,null,null,null,0,222]
[21,22863,22,22867,24,22874,null,null,null,null,0,222]
[12,22970,24,22985,24,22995,null,null,null,null,0,122]
[21,23093,22,23098,24,23104,null,null,null,null,0,222]
[12,23197,24,23200,24,23205,null,null,null,null,0,122]
[21,23294,11,23302,11,23306,null,null,null,null,0,211]
[21,23445,11,23460,22,23471,null,null,null,null,0,212]
[21,23684,11,23696,22,23699,null,null,null,null,0,212]
[21,23800,22,23805,24,23812,null,null,null,null,0,222]
[12,23912,24,23925,24,23932,null,null,null,null,null,122]