{"text_format":"1","workbook":"xlsx","n_sheets":34,"sheets":["Sample Report","Summary","Start","!M321A3D.UST","!M322B2D.UST","!M323A0D.UST","!M324B5D.UST","!M325B1D.UST","!M326B4D.UST","!M327A5D.UST","!M328A5D.UST","!M32995D.UST","!M330A2D.UST","!M331A4D.UST","!M40195D.UST","!M402B3D.UST","!M40394D.UST","!M404A0D.UST","!M40592D.UST","!M410A3D.UST","!M411B2D.UST","!M412A4D.UST","!M413A3D.UST","!M414A0D.UST","!M415A3D.UST","!M416B2D.UST","!M417A4D.UST","!M418A2D.UST","!M419B3D.UST","!M420B1D.UST","!M421A3D.UST","!M422B5D.UST","!M423B4D.UST","!M424A1D.UST"],"not_rendered":{"charts":0,"images":0,"macros":1,"external_links":0,"defined_names":0,"comments":0,"pivot_tables":0},"unopened":[],"bounds":{"document_bytes":16777216,"sheet_cells":100000,"rows_first":2000,"rows_last":500,"rows_between":2000,"halvings":0,"cell_chars":16384,"cell_head_chars":4096},"cells_cut":0,"cells_raw":0,"read":"whole","date_system":"1900"}

{"sheet":"Sample Report","index":0,"n_rows":12,"n_cols":11,"rows_kept":12,"cut":false,"hidden":true,"merged":[[7,0,7,6]]}
[]
["Date"]
["Hen"]
["Program"]
["Start at 999999"]
["Sequence component 1","Time 1","Seqeunce Component 2","Time 2","Seqeunce Component 3","Time 3","Correct   0 = No 1=Yes",null,null,"Seqeunce","Time"]
[12,7,12,42,13,18,"if 77 new line,                                  if 31 or 41 = yes new line on 77, ",null,null,"=string of Seqeunce compponent 1, 2 & 3","=time 3"]
["This continues until ther is a 1 on its own to indicate start of summary data"]
[null,null,null,null,null,null,null,null,null,"10-19 =1"]
["Summary Data ",null,null,null,null,null,null,null,null,"20-29 =2"]
["Correct","Incorrect","Rft","total","Av Correct","Av Incorrect","Percent correct","Time",null,"in this example the seqeunce would be 111"]
[40,33,40,73,23.95,15,54,806]

{"sheet":"Summary","index":1,"n_rows":33,"n_cols":24,"rows_kept":33,"cut":false,"hidden":false,"merged":[]}
[]
["Day","Date","Average Response Rate","Target %","RF for non correct sequence","U Value",null,null,null,null,"Block 1","Block 2","Block 3","Block 4","Block 5","Block 6"]
[1,{"$f":"'!M321A3D.UST'!B2:C2","v":"<date>"},{"$f":"('!M321A3D.UST'!F143/60)/'!M321A3D.UST'!Q3","v":2.3249391727493918},{"$f":"'!M321A3D.UST'!N20/'!M321A3D.UST'!Q3","v":0.29197080291970801},{"$f":"SUM('!M321A3D.UST'!L20:Q20)/'!M321A3D.UST'!Q3","v":1.5182481751824817},{"$f":"'!M321A3D.UST'!Q16","v":0.29127023432295263},null,null,null,"Average Response Rate",{"$f":"AVERAGE(C3:C7)","v":3.0746386719146082},{"$f":"AVERAGE(C8:C12)","v":3.0525403864428258},{"$f":"AVERAGE(C13:C17)","v":2.9720565234223768},{"$f":"AVERAGE(C18:C22)","v":3.3104720646625068},{"$f":"AVERAGE(C23:C27)","v":3.2828865323435843},{"$f":"AVERAGE(C28:C32)","v":3.612258130081301}]
[2,{"$f":"'!M322B2D.UST'!B2:C2","v":"<date>"},{"$f":"('!M322B2D.UST'!F63/60)/'!M322B2D.UST'!Q3","v":2.8412280701754384},{"$f":"'!M322B2D.UST'!N20/'!M322B2D.UST'!Q3","v":0.70175438596491224},{"$f":"SUM('!M322B2D.UST'!L20:Q20)/'!M322B2D.UST'!Q3","v":4.9298245614035086},{"$f":"'!M322B2D.UST'!Q16","v":0.24757789651219361},null,null,null,"Target %",{"$f":"AVERAGE(D3:D7)","v":0.77526773988102149},{"$f":"AVERAGE(D8:D12)","v":0.95766022595290889},{"$f":"AVERAGE(D13:D17)","v":0.98072009291521489},{"$f":"AVERAGE(D18:D22)","v":0.97629041406693129},{"$f":"AVERAGE(D23:D27)","v":0.87990455991516436},{"$f":"AVERAGE(D28:D32)","v":0.99512195121951219}]
[3,{"$f":"'!M323A0D.UST'!B2:C2","v":"<date>"},{"$f":"('!M323A0D.UST'!F48/60)/'!M323A0D.UST'!Q3","v":2.2575396825396825},{"$f":"'!M323A0D.UST'!N20/'!M323A0D.UST'!Q3","v":0.95238095238095233},{"$f":"SUM('!M323A0D.UST'!L20:Q20)/'!M323A0D.UST'!Q3","v":6.5714285714285712},{"$f":"'!M323A0D.UST'!Q16","v":6.0051078206022804E-2},null,null,null,"CCRF",{"$f":"AVERAGE(E3:E7)","v":5.2626211918354704},{"$f":"AVERAGE(E8:E12)","v":6.1578555590750712},{"$f":"AVERAGE(E13:E17)","v":6.756968641114983},{"$f":"AVERAGE(E18:E22)","v":6.7264038570618272},{"$f":"AVERAGE(E23:E27)","v":5.8648197242841995},{"$f":"AVERAGE(E28:E32)","v":6.8463414634146345}]
[4,{"$f":"'!M324B5D.UST'!B2:C2","v":"<date>"},{"$f":"('!M324B5D.UST'!F49/60)/'!M324B5D.UST'!Q3","v":5.1790697674418604},{"$f":"'!M324B5D.UST'!N20/'!M324B5D.UST'!Q3","v":0.93023255813953487},{"$f":"SUM('!M324B5D.UST'!L20:Q20)/'!M324B5D.UST'!Q3","v":6.4186046511627906},{"$f":"'!M324B5D.UST'!Q16","v":7.9082455473912405E-2},null,null,null,"U Value",{"$f":"AVERAGE(F3:F7)","v":0.13559633290301631},{"$f":"AVERAGE(F8:F12)","v":4.6637095283552997E-2},{"$f":"AVERAGE(F13:F17)","v":2.4361157553008501E-2},{"$f":"AVERAGE(F18:F22)","v":2.5806060898541493E-2},{"$f":"AVERAGE(F23:F27)","v":4.8487423898992285E-2},{"$f":"AVERAGE(F28:F32)","v":6.175470955901971E-3}]
[5,{"$f":"'!M325B1D.UST'!B2:C2","v":"<date>"},{"$f":"('!M325B1D.UST'!F46/60)/'!M325B1D.UST'!Q3","v":2.7704166666666667},{"$f":"'!M325B1D.UST'!N20/'!M325B1D.UST'!Q3","v":1},{"$f":"SUM('!M325B1D.UST'!L20:Q20)/'!M325B1D.UST'!Q3","v":6.875},{"$f":"'!M325B1D.UST'!Q16","v":0}]
[6,{"$f":"'!M326B4D.UST'!B2:C2","v":"<date>"},{"$f":"('!M326B4D.UST'!F48/60)/'!M326B4D.UST'!Q3","v":2.8761904761904762},{"$f":"'!M326B4D.UST'!N20/'!M326B4D.UST'!Q3","v":0.95238095238095233},{"$f":"SUM('!M326B4D.UST'!L20:Q20)/'!M326B4D.UST'!Q3","v":6.5714285714285712},{"$f":"'!M326B4D.UST'!Q16","v":6.0051078206022804E-2}]
[7,{"$f":"'!M327A5D.UST'!B2:C2","v":"<date>"},{"$f":"('!M327A5D.UST'!F47/60)/'!M327A5D.UST'!Q3","v":3.4296747967479675},{"$f":"'!M327A5D.UST'!N20/'!M327A5D.UST'!Q3","v":0.97560975609756095},{"$f":"SUM('!M327A5D.UST'!L20:Q20)/'!M327A5D.UST'!Q3","v":6.7317073170731705},{"$f":"'!M327A5D.UST'!Q16","v":3.0877354779509855E-2},{"$f":"K3","v":3.0746386719146082},{"$f":"L3","v":3.0525403864428258},2.9720565234223768,3.3104720646625068,3.2828865323435843,3.612258130081301,{"$f":"K4","v":0.77526773988102149},{"$f":"L4","v":0.95766022595290889},0.98072009291521489,0.97629041406693129,0.87990455991516436,0.99512195121951219,{"$f":"K6","v":0.13559633290301631},{"$f":"L6","v":4.6637095283552997E-2},2.4361157553008501E-2,2.5806060898541493E-2,4.8487423898992285E-2,6.175470955901971E-3]
[8,{"$f":"'!M328A5D.UST'!B2:C2","v":"<date>"},{"$f":"('!M328A5D.UST'!F50/60)/'!M328A5D.UST'!Q3","v":3.062121212121212},{"$f":"'!M328A5D.UST'!N20/'!M328A5D.UST'!Q3","v":0.90909090909090906},{"$f":"SUM('!M328A5D.UST'!L20:Q20)/'!M328A5D.UST'!Q3","v":4.0227272727272725},{"$f":"'!M328A5D.UST'!Q16","v":8.0502333873212623E-2}]
[9,{"$f":"'!M32995D.UST'!B2:C2","v":"<date>"},{"$f":"('!M32995D.UST'!F47/60)/'!M32995D.UST'!Q3","v":2.7800813008130083},{"$f":"'!M32995D.UST'!N20/'!M32995D.UST'!Q3","v":0.97560975609756095},{"$f":"SUM('!M32995D.UST'!L20:Q20)/'!M32995D.UST'!Q3","v":6.7317073170731705},{"$f":"'!M32995D.UST'!Q16","v":3.0877354779509855E-2}]
[10,{"$f":"'!M330A2D.UST'!B2:C2","v":"<date>"},{"$f":"('!M330A2D.UST'!F47/60)/'!M330A2D.UST'!Q3","v":3.1146341463414635},{"$f":"'!M330A2D.UST'!N20/'!M330A2D.UST'!Q3","v":0.97560975609756095},{"$f":"SUM('!M330A2D.UST'!L20:Q20)/'!M330A2D.UST'!Q3","v":6.7317073170731705},{"$f":"'!M330A2D.UST'!Q16","v":3.0877354779509855E-2}]
[11,{"$f":"'!M331A4D.UST'!B2:C2","v":"<date>"},{"$f":"('!M331A4D.UST'!F46/60)/'!M331A4D.UST'!Q3","v":2.8891666666666667},{"$f":"'!M331A4D.UST'!N20/'!M331A4D.UST'!Q3","v":1},{"$f":"SUM('!M331A4D.UST'!L20:Q20)/'!M331A4D.UST'!Q3","v":6.875},{"$f":"'!M331A4D.UST'!Q16","v":0}]
[12,{"$f":"'!M40195D.UST'!B2:C2","v":"<date>"},{"$f":"('!M40195D.UST'!F48/60)/'!M40195D.UST'!Q3","v":2.9067460317460316},{"$f":"'!M40195D.UST'!N20/'!M40195D.UST'!Q3","v":0.95238095238095233},{"$f":"SUM('!M40195D.UST'!L20:Q20)/'!M40195D.UST'!Q3","v":6.5714285714285712},{"$f":"'!M40195D.UST'!Q16","v":6.0051078206022804E-2}]
[13,{"$f":"'!M402B3D.UST'!B2:C2","v":"<date>"},{"$f":"('!M402B3D.UST'!F47/60)/'!M402B3D.UST'!Q3","v":3.332520325203252},{"$f":"'!M402B3D.UST'!N20/'!M402B3D.UST'!Q3","v":0.97560975609756095},{"$f":"SUM('!M402B3D.UST'!L20:Q20)/'!M402B3D.UST'!Q3","v":6.7317073170731705},{"$f":"'!M402B3D.UST'!Q16","v":3.0877354779509855E-2}]
[14,{"$f":"'!M40394D.UST'!B2:C2","v":"<date>"},{"$f":"('!M40394D.UST'!F46/60)/'!M40394D.UST'!Q3","v":2.7891666666666666},{"$f":"'!M40394D.UST'!N20/'!M40394D.UST'!Q3","v":1},{"$f":"SUM('!M40394D.UST'!L20:Q20)/'!M40394D.UST'!Q3","v":6.875},{"$f":"'!M40394D.UST'!Q16","v":0}]
[15,{"$f":"'!M404A0D.UST'!B2:C2","v":"<date>"},{"$f":"('!M404A0D.UST'!F47/60)/'!M404A0D.UST'!Q3","v":2.9426829268292685},{"$f":"'!M404A0D.UST'!N20/'!M404A0D.UST'!Q3","v":0.97560975609756095},{"$f":"SUM('!M404A0D.UST'!L20:Q20)/'!M404A0D.UST'!Q3","v":6.7317073170731705},{"$f":"'!M404A0D.UST'!Q16","v":3.0877354779509855E-2}]
[16,{"$f":"'!M40592D.UST'!B2:C2","v":"<date>"},{"$f":"('!M40592D.UST'!F46/60)/'!M40592D.UST'!Q3","v":3.3674999999999997},{"$f":"'!M40592D.UST'!N20/'!M40592D.UST'!Q3","v":1},{"$f":"SUM('!M40592D.UST'!L20:Q20)/'!M40592D.UST'!Q3","v":6.875},{"$f":"'!M40592D.UST'!Q16","v":0}]
[17,{"$f":"'!M410A3D.UST'!B2:C2","v":"<date>"},{"$f":"('!M410A3D.UST'!F49/60)/'!M410A3D.UST'!Q3","v":2.6534883720930229},{"$f":"'!M410A3D.UST'!N20/'!M410A3D.UST'!Q3","v":0.93023255813953487},{"$f":"SUM('!M410A3D.UST'!L20:Q20)/'!M410A3D.UST'!Q3","v":6.4186046511627906},{"$f":"'!M410A3D.UST'!Q16","v":6.7275594933687746E-2}]
[18,{"$f":"'!M411B2D.UST'!B2:C2","v":"<date>"},{"$f":"('!M411B2D.UST'!F46/60)/'!M411B2D.UST'!Q3","v":4.0362499999999999},{"$f":"'!M411B2D.UST'!N20/'!M411B2D.UST'!Q3","v":1},{"$f":"SUM('!M411B2D.UST'!L20:Q20)/'!M411B2D.UST'!Q3","v":6.875},{"$f":"'!M411B2D.UST'!Q16","v":0}]
[19,{"$f":"'!M412A4D.UST'!B2:C2","v":"<date>"},{"$f":"('!M412A4D.UST'!F47/60)/'!M412A4D.UST'!Q3","v":3.1959349593495934},{"$f":"'!M412A4D.UST'!N20/'!M412A4D.UST'!Q3","v":0.97560975609756095},{"$f":"SUM('!M412A4D.UST'!L20:Q20)/'!M412A4D.UST'!Q3","v":6.7317073170731705},{"$f":"'!M412A4D.UST'!Q16","v":3.0877354779509855E-2}]
[20,{"$f":"'!M413A3D.UST'!B2:C2","v":"<date>"},{"$f":"('!M413A3D.UST'!F47/60)/'!M413A3D.UST'!Q3","v":3.2991869918699188},{"$f":"'!M413A3D.UST'!N20/'!M413A3D.UST'!Q3","v":0.97560975609756095},{"$f":"SUM('!M413A3D.UST'!L20:Q20)/'!M413A3D.UST'!Q3","v":6.7317073170731705},{"$f":"'!M413A3D.UST'!Q16","v":3.0877354779509855E-2}]
[21,{"$f":"'!M414A0D.UST'!B2:C2","v":"<date>"},{"$f":"('!M414A0D.UST'!F98/60)/'!M414A0D.UST'!Q3","v":4.3206521739130439},{"$f":"'!M414A0D.UST'!N20/'!M414A0D.UST'!Q3","v":0.42391304347826086},{"$f":"SUM('!M414A0D.UST'!L20:Q20)/'!M414A0D.UST'!Q3","v":1.9673913043478262},{"$f":"'!M414A0D.UST'!Q16","v":0.2115597647154516}]
[22,{"$f":"'!M415A3D.UST'!B2:C2","v":"<date>"},{"$f":"('!M415A3D.UST'!F46/60)/'!M415A3D.UST'!Q3","v":2.8795833333333336},{"$f":"'!M415A3D.UST'!N20/'!M415A3D.UST'!Q3","v":1},{"$f":"SUM('!M415A3D.UST'!L20:Q20)/'!M415A3D.UST'!Q3","v":6.875},{"$f":"'!M415A3D.UST'!Q16","v":0}]
[23,{"$f":"'!M416B2D.UST'!B2:C2","v":"<date>"},{"$f":"('!M416B2D.UST'!F46/60)/'!M416B2D.UST'!Q3","v":3.8320833333333333},{"$f":"'!M416B2D.UST'!N20/'!M416B2D.UST'!Q3","v":1},{"$f":"SUM('!M416B2D.UST'!L20:Q20)/'!M416B2D.UST'!Q3","v":6.875},{"$f":"'!M416B2D.UST'!Q16","v":0}]
[24,{"$f":"'!M417A4D.UST'!B2:C2","v":"<date>"},{"$f":"('!M417A4D.UST'!F47/60)/'!M417A4D.UST'!Q3","v":2.7321138211382112},{"$f":"'!M417A4D.UST'!N20/'!M417A4D.UST'!Q3","v":0.97560975609756095},{"$f":"SUM('!M417A4D.UST'!L20:Q20)/'!M417A4D.UST'!Q3","v":6.7317073170731705},{"$f":"'!M417A4D.UST'!Q16","v":3.0877354779509855E-2}]
[25,{"$f":"'!M418A2D.UST'!B2:C2","v":"<date>"},{"$f":"('!M418A2D.UST'!F46/60)/'!M418A2D.UST'!Q3","v":2.65},{"$f":"'!M418A2D.UST'!N20/'!M418A2D.UST'!Q3","v":1},{"$f":"SUM('!M418A2D.UST'!L20:Q20)/'!M418A2D.UST'!Q3","v":6.875},{"$f":"'!M418A2D.UST'!Q16","v":0}]
[26,{"$f":"'!M419B3D.UST'!B2:C2","v":"<date>"},{"$f":"('!M419B3D.UST'!F46/60)/'!M419B3D.UST'!Q3","v":3.2},{"$f":"'!M419B3D.UST'!N20/'!M419B3D.UST'!Q3","v":1},{"$f":"SUM('!M419B3D.UST'!L20:Q20)/'!M419B3D.UST'!Q3","v":6.875},{"$f":"'!M419B3D.UST'!Q16","v":0}]
[27,{"$f":"'!M420B1D.UST'!B2:C2","v":"<date>"},{"$f":"('!M420B1D.UST'!F47/60)/'!M420B1D.UST'!Q3","v":5.3817073170731708},{"$f":"'!M420B1D.UST'!N20/'!M420B1D.UST'!Q3","v":0.97560975609756095},{"$f":"SUM('!M420B1D.UST'!L20:Q20)/'!M420B1D.UST'!Q3","v":6.7317073170731705},{"$f":"'!M420B1D.UST'!Q16","v":3.0877354779509855E-2}]
[28,{"$f":"'!M421A3D.UST'!B2:C2","v":"<date>"},{"$f":"('!M421A3D.UST'!F46/60)/'!M421A3D.UST'!Q3","v":3.09375},{"$f":"'!M421A3D.UST'!N20/'!M421A3D.UST'!Q3","v":1},{"$f":"SUM('!M421A3D.UST'!L20:Q20)/'!M421A3D.UST'!Q3","v":6.875},{"$f":"'!M421A3D.UST'!Q16","v":0}]
[29,{"$f":"'!M422B5D.UST'!B2:C2","v":"<date>"},{"$f":"('!M422B5D.UST'!F46/60)/'!M422B5D.UST'!Q3","v":3.1687500000000002},{"$f":"'!M422B5D.UST'!N20/'!M422B5D.UST'!Q3","v":1},{"$f":"SUM('!M422B5D.UST'!L20:Q20)/'!M422B5D.UST'!Q3","v":6.875},{"$f":"'!M422B5D.UST'!Q16","v":0}]
[30,{"$f":"'!M423B4D.UST'!B2:C2","v":"<date>"},{"$f":"('!M423B4D.UST'!F46/60)/'!M423B4D.UST'!Q3","v":3.2170833333333335},{"$f":"'!M423B4D.UST'!N20/'!M423B4D.UST'!Q3","v":1},{"$f":"SUM('!M423B4D.UST'!L20:Q20)/'!M423B4D.UST'!Q3","v":6.875},{"$f":"'!M423B4D.UST'!Q16","v":0}]
[null,{"$f":"'!M424A1D.UST'!B2:C2","v":"<date>"},{"$f":"('!M424A1D.UST'!F46/60)/'!M424A1D.UST'!Q3","v":2.6033333333333335},{"$f":"'!M424A1D.UST'!N20/'!M424A1D.UST'!Q3","v":1},{"$f":"SUM('!M424A1D.UST'!L20:Q20)/'!M424A1D.UST'!Q3","v":6.875},{"$f":"'!M424A1D.UST'!Q16","v":0}]

{"sheet":"Start","index":2,"n_rows":37,"n_cols":10,"rows_kept":37,"cut":false,"hidden":false,"merged":[]}
[null,null,null,null,null,"Use Folder 51",null,"Auto Clean Up",null,"Correct sequence"]
[null,null,null,null,null,false,null,true,null,222]
[]
["Working with Folder",null,null,null,null,null,"Process All/Or Pick A number: ALL or an integer"]
["F:\\Possum Chapter\\Raw Data\\Dusti\\New RRR Con\\",null,null,null,null,null,"ALL"]
["Filenames:"]
["!M420B1D.UST",null,null,null,null,null,"Paint Cells"]
["!M421A3D.UST",null,null,null,null,null,false]
["!M422B5D.UST"]
["!M423B4D.UST"]
["!M424A1D.UST"]
["!M321A3D.UST"]
["!M322B2D.UST"]
["!M323A0D.UST"]
["!M324B5D.UST"]
["!M325B1D.UST"]
["!M326B4D.UST"]
["!M327A5D.UST"]
["!M328A5D.UST"]
["!M330A2D.UST"]
["!M331A4D.UST"]
["!M402B3D.UST"]
["!M404A0D.UST"]
["!M410A3D.UST"]
["!M411B2D.UST"]
["!M412A4D.UST"]
["!M413A3D.UST"]
["!M414A0D.UST"]
["!M415A3D.UST"]
["!M416B2D.UST"]
["!M417A4D.UST"]
["!M418A2D.UST"]
["!M419B3D.UST"]
["!M32995D.UST"]
["!M40195D.UST"]
["!M40394D.UST"]
["!M40592D.UST"]

{"sheet":"!M321A3D.UST","index":3,"n_rows":143,"n_cols":48,"rows_kept":143,"cut":false,"hidden":false,"merged":[[4,39,4,42],[5,39,5,40],[4,44,4,47],[5,44,5,45],[4,24,4,27],[5,24,5,25],[4,29,4,32],[5,29,5,30],[4,34,4,37],[5,34,5,35],[1,1,1,2],[5,13,5,14],[18,13,18,14],[19,13,19,14],[4,19,4,22],[5,19,5,20]]}
["Report for:!M321A3D.UST"]
["Date:","<date>"]
["Hen:","<hen>",null,null,null,"Correct Sequence",{"$f":"Start!J2","v":222},null,null,null,null,null,null,null,null,"Total Sequences in Data",{"$f":"4994-COUNTBLANK(L7:L5000)","v":137},null,null,null,null,"Total Sequences in Block Data",{"$f":"COUNTA(L7:L29)","v":23},null,null,null,"Total Sequences in Block Data",{"$f":"COUNTA(L30:L52)","v":23},null,null,null,"Total Sequences in Block Data",{"$f":"COUNTA(L53:L74)","v":22},null,null,null,"Total Sequences in Block Data",{"$f":"COUNTA(L75:L97)","v":23},null,null,null,"Total Sequences in Block Data",{"$f":"COUNTA(L98:L120)","v":23},null,null,null,"Total Sequences in Block Data",{"$f":"COUNTA(L121:L143)","v":23}]
[null,null,null,null,null,null,null,null,null,null,null,null,null,null,null,"Total Sequences in Summary",{"$f":"SUM(O7:O14)","v":137},null,null,null,null,"Total Sequences in Block Summary",{"$f":"SUM(U7:U14)","v":23},null,null,null,"Total Sequences in Block Summary",{"$f":"SUM(Z7:Z14)","v":23},null,null,null,"Total Sequences in Block Summary",{"$f":"SUM(AE7:AE14)","v":22},null,null,null,"Total Sequences in Block Summary",{"$f":"SUM(AJ7:AJ14)","v":23},null,null,null,"Total Sequences in Block Summary",{"$f":"SUM(AO7:AO14)","v":23},null,null,null,"Total Sequences in Block Summary",{"$f":"SUM(AT7:AT14)","v":23}]
[null,null,null,null,null,null,null,null,null,null,null,null,null,null,null,null,null,null,null,"Block 1",null,null,null,null,"Block 2",null,null,null,null,"Block 3",null,null,null,null,"Block 4",null,null,null,null,"Block 5",null,null,null,null,"Block 6"]
["Sequence\nComponent\n1","Time\n1","Sequence\nComponent\n2","Time\n2","Sequence\nComponent\n3","Time\n3","Sequence\nComponent\n4","Time\n4","Sequence\nComponent\n5","Time\n5","Correct?\n0=No 1=Yes","Sequence",null,"Frequency",null,"Relative Frequency","Variability",null,null,"Frequency",null,"Relative Frequency","Variability",null,"Frequency",null,"Relative Frequency","Variability",null,"Frequency",null,"Relative Frequency","Variability",null,"Frequency",null,"Relative Frequency","Variability",null,"Frequency",null,"Relative Frequency","Variability",null,"Frequency",null,"Relative Frequency","Variability"]
[21,28,21,33,21,41,null,null,null,null,0,222,null,111,{"$f":"COUNTIF($L$7:$L$500,N7)","v":2},{"$f":"O7/$Q$4","v":1.4598540145985401E-2},{"$f":"IF(P7=0,0,(P7*((LOG(P7))/LOG(2))))","v":-8.9022366174606238E-2},null,null,{"$f":"N7","v":111},{"$f":"COUNTIF(L7:L29,T7)","v":0},{"$f":"U7/(W4-U14)","v":0},{"$f":"IF(V7=0,0,(V7*((LOG(V7))/LOG(2))))","v":0},null,{"$f":"N7","v":111},{"$f":"COUNTIF(L30:L52,Y7)","v":1},{"$f":"Z7/(AB4-Z14)","v":4.7619047619047616E-2},{"$f":"IF(AA7=0,0,(AA7*((LOG(AA7))/LOG(2))))","v":-0.20915797251327431},null,{"$f":"N7","v":111},{"$f":"COUNTIF(L53:L74,AD7)","v":1},{"$f":"AE7/(AG4-AE14)","v":5.5555555555555552E-2},{"$f":"IF(AF7=0,0,(AF7*((LOG(AF7))/LOG(2))))","v":-0.23166250008012845},null,{"$f":"N7","v":111},{"$f":"COUNTIF(L75:L97,AI7)","v":0},{"$f":"AJ7/(AL4-AJ14)","v":0},{"$f":"IF(AK7=0,0,(AK7*((LOG(AK7))/LOG(2))))","v":0},null,{"$f":"N7","v":111},{"$f":"COUNTIF(L98:L120,AN7)","v":0},{"$f":"AO7/(AQ4-AO14)","v":0},{"$f":"IF(AP7=0,0,(AP7*((LOG(AP7))/LOG(2))))","v":0},null,{"$f":"N7","v":111},{"$f":"COUNTIF(L121:L143,AS7)","v":0},{"$f":"AT7/(AV4-AT14)","v":0},{"$f":"IF(AU7=0,0,(AU7*((LOG(AU7))/LOG(2))))","v":0}]
[12,217,23,224,23,229,null,null,null,null,0,122,null,112,{"$f":"COUNTIF($L$7:$L$500,N8)","v":6},{"$f":"O8/$Q$4","v":4.3795620437956206E-2},{"$f":"IF(P8=0,0,(P8*((LOG(P8))/LOG(2))))","v":-0.19765268243384104},null,null,{"$f":"N8","v":112},{"$f":"COUNTIF(L7:L29,T8)","v":1},{"$f":"U8/(W4-U14)","v":4.5454545454545456E-2},{"$f":"IF(V8=0,0,(V8*((LOG(V8))/LOG(2))))","v":-0.20270143721078623},null,{"$f":"N8","v":112},{"$f":"COUNTIF(L30:L52,Y8)","v":4},{"$f":"Z8/(AB4-Z14)","v":0.19047619047619047},{"$f":"IF(AA8=0,0,(AA8*((LOG(AA8))/LOG(2))))","v":-0.4556795091007162},null,{"$f":"N8","v":112},{"$f":"COUNTIF(L53:L74,AD8)","v":0},{"$f":"AE8/(AG4-AE14)","v":0},{"$f":"IF(AF8=0,0,(AF8*((LOG(AF8))/LOG(2))))","v":0},null,{"$f":"N8","v":112},{"$f":"COUNTIF(L75:L97,AI8)","v":1},{"$f":"AJ8/(AL4-AJ14)","v":6.6666666666666666E-2},{"$f":"IF(AK8=0,0,(AK8*((LOG(AK8))/LOG(2))))","v":-0.26045937304056793},null,{"$f":"N8","v":112},{"$f":"COUNTIF(L98:L120,AN8)","v":0},{"$f":"AO8/(AQ4-AO14)","v":0},{"$f":"IF(AP8=0,0,(AP8*((LOG(AP8))/LOG(2))))","v":0},null,{"$f":"N8","v":112},{"$f":"COUNTIF(L121:L143,AS8)","v":0},{"$f":"AT8/(AV4-AT14)","v":0},{"$f":"IF(AU8=0,0,(AU8*((LOG(AU8))/LOG(2))))","v":0}]
[21,336,12,356,23,379,null,null,null,null,0,212,null,121,{"$f":"COUNTIF($L$7:$L$500,N9)","v":32},{"$f":"O9/$Q$4","v":0.23357664233576642},{"$f":"IF(P9=0,0,(P9*((LOG(P9))/LOG(2))))","v":-0.49005128945063398},null,null,{"$f":"N9","v":121},{"$f":"COUNTIF(L7:L29,T9)","v":12},{"$f":"U9/(W4-U14)","v":0.54545454545454541},{"$f":"IF(V9=0,0,(V9*((LOG(V9))/LOG(2))))","v":-0.47698315522698609},null,{"$f":"N9","v":121},{"$f":"COUNTIF(L30:L52,Y9)","v":8},{"$f":"Z9/(AB4-Z14)","v":0.38095238095238093},{"$f":"IF(AA9=0,0,(AA9*((LOG(AA9))/LOG(2))))","v":-0.53040663724905157},null,{"$f":"N9","v":121},{"$f":"COUNTIF(L53:L74,AD9)","v":8},{"$f":"AE9/(AG4-AE14)","v":0.44444444444444442},{"$f":"IF(AF9=0,0,(AF9*((LOG(AF9))/LOG(2))))","v":-0.51996666730769447},null,{"$f":"N9","v":121},{"$f":"COUNTIF(L75:L97,AI9)","v":1},{"$f":"AJ9/(AL4-AJ14)","v":6.6666666666666666E-2},{"$f":"IF(AK9=0,0,(AK9*((LOG(AK9))/LOG(2))))","v":-0.26045937304056793},null,{"$f":"N9","v":121},{"$f":"COUNTIF(L98:L120,AN9)","v":2},{"$f":"AO9/(AQ4-AO14)","v":0.15384615384615385},{"$f":"IF(AP9=0,0,(AP9*((LOG(AP9))/LOG(2))))","v":-0.4154522643293988},null,{"$f":"N9","v":121},{"$f":"COUNTIF(L121:L143,AS9)","v":1},{"$f":"AT9/(AV4-AT14)","v":0.125},{"$f":"IF(AU9=0,0,(AU9*((LOG(AU9))/LOG(2))))","v":-0.375}]
[12,478,23,486,14,500,null,null,null,null,0,121,null,122,{"$f":"COUNTIF($L$7:$L$500,N10)","v":51},{"$f":"O10/$Q$4","v":0.37226277372262773},{"$f":"IF(P10=0,0,(P10*((LOG(P10))/LOG(2))))","v":-0.53070031963825248},null,null,{"$f":"N10","v":122},{"$f":"COUNTIF(L7:L29,T10)","v":6},{"$f":"U10/(W4-U14)","v":0.27272727272727271},{"$f":"IF(V10=0,0,(V10*((LOG(V10))/LOG(2))))","v":-0.51121885034076575},null,{"$f":"N10","v":122},{"$f":"COUNTIF(L30:L52,Y10)","v":6},{"$f":"Z10/(AB4-Z14)","v":0.2857142857142857},{"$f":"IF(AA10=0,0,(AA10*((LOG(AA10))/LOG(2))))","v":-0.51638712058788683},null,{"$f":"N10","v":122},{"$f":"COUNTIF(L53:L74,AD10)","v":9},{"$f":"AE10/(AG4-AE14)","v":0.5},{"$f":"IF(AF10=0,0,(AF10*((LOG(AF10))/LOG(2))))","v":-0.5},null,{"$f":"N10","v":122},{"$f":"COUNTIF(L75:L97,AI10)","v":12},{"$f":"AJ10/(AL4-AJ14)","v":0.8},{"$f":"IF(AK10=0,0,(AK10*((LOG(AK10))/LOG(2))))","v":-0.25754247590988982},null,{"$f":"N10","v":122},{"$f":"COUNTIF(L98:L120,AN10)","v":11},{"$f":"AO10/(AQ4-AO14)","v":0.84615384615384615},{"$f":"IF(AP10=0,0,(AP10*((LOG(AP10))/LOG(2))))","v":-0.20392993034936494},null,{"$f":"N10","v":122},{"$f":"COUNTIF(L121:L143,AS10)","v":7},{"$f":"AT10/(AV4-AT14)","v":0.875},{"$f":"IF(AU10=0,0,(AU10*((LOG(AU10))/LOG(2))))","v":-0.1685644431995964}]
[12,600,23,607,14,618,null,null,null,null,0,121,null,211,{"$f":"COUNTIF($L$7:$L$500,N11)","v":3},{"$f":"O11/$Q$4","v":2.1897810218978103E-2},{"$f":"IF(P11=0,0,(P11*((LOG(P11))/LOG(2))))","v":-0.12072415143589862},null,null,{"$f":"N11","v":211},{"$f":"COUNTIF(L7:L29,T11)","v":0},{"$f":"U11/(W4-U14)","v":0},{"$f":"IF(V11=0,0,(V11*((LOG(V11))/LOG(2))))","v":0},null,{"$f":"N11","v":211},{"$f":"COUNTIF(L30:L52,Y11)","v":2},{"$f":"Z11/(AB4-Z14)","v":9.5238095238095233E-2},{"$f":"IF(AA11=0,0,(AA11*((LOG(AA11))/LOG(2))))","v":-0.32307784978845333},null,{"$f":"N11","v":211},{"$f":"COUNTIF(L53:L74,AD11)","v":0},{"$f":"AE11/(AG4-AE14)","v":0},{"$f":"IF(AF11=0,0,(AF11*((LOG(AF11))/LOG(2))))","v":0},null,{"$f":"N11","v":211},{"$f":"COUNTIF(L75:L97,AI11)","v":1},{"$f":"AJ11/(AL4-AJ14)","v":6.6666666666666666E-2},{"$f":"IF(AK11=0,0,(AK11*((LOG(AK11))/LOG(2))))","v":-0.26045937304056793},null,{"$f":"N11","v":211},{"$f":"COUNTIF(L98:L120,AN11)","v":0},{"$f":"AO11/(AQ4-AO14)","v":0},{"$f":"IF(AP11=0,0,(AP11*((LOG(AP11))/LOG(2))))","v":0},null,{"$f":"N11","v":211},{"$f":"COUNTIF(L121:L143,AS11)","v":0},{"$f":"AT11/(AV4-AT14)","v":0},{"$f":"IF(AU11=0,0,(AU11*((LOG(AU11))/LOG(2))))","v":0}]
[12,712,23,722,14,731,null,null,null,null,0,121,null,212,{"$f":"COUNTIF($L$7:$L$500,N12)","v":3},{"$f":"O12/$Q$4","v":2.1897810218978103E-2},{"$f":"IF(P12=0,0,(P12*((LOG(P12))/LOG(2))))","v":-0.12072415143589862},null,null,{"$f":"N12","v":212},{"$f":"COUNTIF(L7:L29,T12)","v":3},{"$f":"U12/(W4-U14)","v":0.13636363636363635},{"$f":"IF(V12=0,0,(V12*((LOG(V12))/LOG(2))))","v":-0.39197306153401923},null,{"$f":"N12","v":212},{"$f":"COUNTIF(L30:L52,Y12)","v":0},{"$f":"Z12/(AB4-Z14)","v":0},{"$f":"IF(AA12=0,0,(AA12*((LOG(AA12))/LOG(2))))","v":0},null,{"$f":"N12","v":212},{"$f":"COUNTIF(L53:L74,AD12)","v":0},{"$f":"AE12/(AG4-AE14)","v":0},{"$f":"IF(AF12=0,0,(AF12*((LOG(AF12))/LOG(2))))","v":0},null,{"$f":"N12","v":212},{"$f":"COUNTIF(L75:L97,AI12)","v":0},{"$f":"AJ12/(AL4-AJ14)","v":0},{"$f":"IF(AK12=0,0,(AK12*((LOG(AK12))/LOG(2))))","v":0},null,{"$f":"N12","v":212},{"$f":"COUNTIF(L98:L120,AN12)","v":0},{"$f":"AO12/(AQ4-AO14)","v":0},{"$f":"IF(AP12=0,0,(AP12*((LOG(AP12))/LOG(2))))","v":0},null,{"$f":"N12","v":212},{"$f":"COUNTIF(L121:L143,AS12)","v":0},{"$f":"AT12/(AV4-AT14)","v":0},{"$f":"IF(AU12=0,0,(AU12*((LOG(AU12))/LOG(2))))","v":0}]
[12,825,23,834,23,842,null,null,null,null,0,122,null,221,{"$f":"COUNTIF($L$7:$L$500,N13)","v":0},{"$f":"O13/$Q$4","v":0},{"$f":"IF(P13=0,0,(P13*((LOG(P13))/LOG(2))))","v":0},null,null,{"$f":"N13","v":221},{"$f":"COUNTIF(L7:L29,T13)","v":0},{"$f":"U13/(W4-U14)","v":0},{"$f":"IF(V13=0,0,(V13*((LOG(V13))/LOG(2))))","v":0},null,{"$f":"N13","v":221},{"$f":"COUNTIF(L30:L52,Y13)","v":0},{"$f":"Z13/(AB4-Z14)","v":0},{"$f":"IF(AA13=0,0,(AA13*((LOG(AA13))/LOG(2))))","v":0},null,{"$f":"N13","v":221},{"$f":"COUNTIF(L53:L74,AD13)","v":0},{"$f":"AE13/(AG4-AE14)","v":0},{"$f":"IF(AF13=0,0,(AF13*((LOG(AF13))/LOG(2))))","v":0},null,{"$f":"N13","v":221},{"$f":"COUNTIF(L75:L97,AI13)","v":0},{"$f":"AJ13/(AL4-AJ14)","v":0},{"$f":"IF(AK13=0,0,(AK13*((LOG(AK13))/LOG(2))))","v":0},null,{"$f":"N13","v":221},{"$f":"COUNTIF(L98:L120,AN13)","v":0},{"$f":"AO13/(AQ4-AO14)","v":0},{"$f":"IF(AP13=0,0,(AP13*((LOG(AP13))/LOG(2))))","v":0},null,{"$f":"N13","v":221},{"$f":"COUNTIF(L121:L143,AS13)","v":0},{"$f":"AT13/(AV4-AT14)","v":0},{"$f":"IF(AU13=0,0,(AU13*((LOG(AU13))/LOG(2))))","v":0}]
[12,939,23,946,14,961,null,null,null,null,0,121,null,222,{"$f":"COUNTIF($L$7:$L$500,N14)","v":40},{"$f":"O14/$Q$4","v":0.29197080291970801},{"$f":"IF(P14=0,0,(P14*((LOG(P14))/LOG(2))))","v":-0.51857050746661726},null,null,{"$f":"N14","v":222},{"$f":"COUNTIF(L7:L29,T14)","v":1},null,null,null,{"$f":"N14","v":222},{"$f":"COUNTIF(L30:L52,Y14)","v":2},null,null,null,{"$f":"N14","v":222},{"$f":"COUNTIF(L53:L74,AD14)","v":4},null,null,null,{"$f":"N14","v":222},{"$f":"COUNTIF(L75:L97,AI14)","v":8},null,null,null,{"$f":"N14","v":222},{"$f":"COUNTIF(L98:L120,AN14)","v":10},null,null,null,{"$f":"N14","v":222},{"$f":"COUNTIF(L121:L143,AS14)","v":15}]
[12,1063,23,1089,14,1119,null,null,null,null,0,121,null,null,null,{"$f":"SUM(P7:P14)","v":0.99999999999999989},{"$f":"-SUM(Q7:Q14)","v":2.0674454680357481},null,null,null,null,{"$f":"SUM(V7:V14)","v":0.99999999999999989},{"$f":"-SUM(W7:W14)","v":1.5828765043125572},null,null,null,{"$f":"SUM(AA7:AA14)","v":1},{"$f":"-SUM(AB7:AB14)","v":2.0347090892393824},null,null,null,{"$f":"SUM(AF7:AF14)","v":1},{"$f":"-SUM(AG7:AG14)","v":1.251629167387823},null,null,null,{"$f":"SUM(AK7:AK14)","v":1},{"$f":"-SUM(AL7:AL14)","v":1.0389205950315936},null,null,null,{"$f":"SUM(AP7:AP14)","v":1},{"$f":"-SUM(AQ7:AQ14)","v":0.61938219467876376},null,null,null,{"$f":"SUM(AU7:AU14)","v":1},{"$f":"-SUM(AV7:AV14)","v":0.5435644431995964}]
[21,1224,12,1234,23,1245,null,null,null,null,0,212,null,null,null,"U=",{"$f":"Q15/(LOG(Q4)/LOG(2))","v":0.29127023432295263},null,null,null,null,"U1=",{"$f":"W15/(LOG(W4)/LOG(2))","v":0.34991816619049471},null,null,null,"U2=",{"$f":"AB15/(LOG(AB4)/LOG(2))","v":0.4498024143374279},null,null,null,"U3=",{"$f":"AG15/(LOG(AG4)/LOG(2))","v":0.28067011099730527},null,null,null,"U4=",{"$f":"AL15/(LOG(AL4)/LOG(2))","v":0.22966870026848804},null,null,null,"U5=",{"$f":"AQ15/(LOG(AQ4)/LOG(2))","v":0.13692355729745581},null,null,null,"U6=",{"$f":"AV15/(LOG(AV4)/LOG(2))","v":0.12016292657863743}]
[12,1343,23,1349,14,1360,null,null,null,null,0,121]
[12,1460,23,1467,23,1472,null,null,null,null,0,122]
[21,1575,12,1593,23,1609,null,null,null,null,0,212,null,"Total Target Seq"]
[12,1707,23,1712,23,1718,null,null,null,null,0,122,null,{"$f":"COUNTIF(L7:L143,G3)","v":40},null,23,23,22,23,23,23]
[12,1818,23,1825,14,1836,null,null,null,null,0,121,null,null,null,"% of reinforcement given in 6 equal intervals based on number of trials "]
[12,1935,23,1943,14,1954,null,null,null,null,0,121,null,null,null,"%_1","%_2","%_3","%_4","%_5","%_6"]
[12,2060,23,2067,23,2070,null,null,null,null,0,122,null,null,"target sequence",{"$f":"$G$3","v":222},{"$f":"$G$3","v":222},{"$f":"$G$3","v":222},{"$f":"$G$3","v":222},{"$f":"$G$3","v":222},{"$f":"$G$3","v":222}]
[12,2167,23,2174,14,2188,null,null,null,null,0,121,null,null,"total reinforcement",{"$f":"U14","v":1},{"$f":"Z14","v":2},{"$f":"AE14","v":4},{"$f":"AJ14","v":8},{"$f":"AO14","v":10},{"$f":"AT14","v":15}]
[12,2288,23,2295,14,2311,null,null,null,null,0,121,null,null,"% target"]
[12,2408,23,2416,23,2421,null,null,null,null,0,122,null,null,"CCRF"]
[12,2513,14,2518,23,2525,null,null,null,null,0,112,null,null,"% CCRf"]
[12,2633,23,2642,14,2657,null,null,null,null,0,121,null,null,"average response rate",{"$f":"F29/P20","v":121.1304347826087},{"$f":"(F52-F29)/Q20","v":120.1304347826087},{"$f":"(F74-F52)/R20","v":133.77272727272728},{"$f":"(F97-F74)/S20","v":133.86956521739131},{"$f":"(F120-F97)/T20","v":140},{"$f":"(F143-F120)/U20","v":187.82608695652175}]
[12,2766,23,2773,14,2786,null,null,null,null,0,121]
[12,2896,23,2910,14,2926,null,null,null,null,0,121]
[21,3033,12,3048,14,3057,null,null,null,null,0,211]
[21,3165,12,3178,14,3187,null,null,null,null,0,211]
[12,3285,23,3293,23,3296,null,null,null,null,0,122]
[12,3398,23,3406,14,3418,null,null,null,null,0,121]
[12,3516,23,3527,14,3540,null,null,null,null,0,121]
[12,3634,14,3639,23,3648,null,null,null,null,0,112]
[12,3752,23,3758,14,3771,null,null,null,null,0,121]
[12,3868,23,3877,23,3883,null,null,null,null,0,122]
[12,3983,23,3991,14,4002,null,null,null,null,0,121]
[12,4102,23,4109,14,4120,null,null,null,null,0,121]
[12,4220,23,4228,23,4233,null,null,null,null,0,122]
[12,4333,14,4339,14,4345,null,null,null,null,0,111]
[12,4448,23,4455,23,4460,null,null,null,null,0,122]
[21,4551,21,4558,21,4565,null,null,null,null,0,222]
[12,4705,14,4711,23,4723,null,null,null,null,0,112]
[12,4829,23,4835,23,4842,null,null,null,null,0,122]
[12,4934,14,4937,23,4945,null,null,null,null,0,112]
[12,5042,23,5051,14,5066,null,null,null,null,0,121]
[12,5169,23,5177,23,5184,null,null,null,null,0,122]
[12,5280,14,5283,23,5292,null,null,null,null,0,112]
[12,5392,23,5398,14,5415,null,null,null,null,0,121]
[21,5525,21,5540,21,5549,null,null,null,null,0,222]
[12,5739,23,5747,23,5758,null,null,null,null,0,122]
[21,5861,21,5866,21,5874,null,null,null,null,0,222]
[12,6060,23,6072,23,6089,null,null,null,null,0,122]
[12,6193,23,6199,14,6214,null,null,null,null,0,121]
[12,6310,23,6317,23,6322,null,null,null,null,0,122]
[12,6426,23,6436,14,6451,null,null,null,null,0,121]
[12,6546,23,6554,14,6567,null,null,null,null,0,121]
[12,6665,23,6674,23,6684,null,null,null,null,0,122]
[12,6780,23,6787,14,6800,null,null,null,null,0,121]
[12,6899,23,6905,23,6910,null,null,null,null,0,122]
[12,7017,23,7032,14,7046,null,null,null,null,0,121]
[12,7157,23,7169,14,7181,null,null,null,null,0,121]
[21,7276,21,7282,21,7302,null,null,null,null,0,222]
[12,7467,23,7474,23,7480,null,null,null,null,0,122]
[12,7574,23,7583,23,7587,null,null,null,null,0,122]
[12,7689,23,7698,14,7708,null,null,null,null,0,121]
[12,7801,23,7810,23,7815,null,null,null,null,0,122]
[12,7920,23,7928,23,7933,null,null,null,null,0,122]
[12,8027,23,8034,14,8050,null,null,null,null,0,121]
[12,8149,14,8157,14,8172,null,null,null,null,0,111]
[21,8289,21,8302,21,8310,null,null,null,null,0,222]
[21,8474,21,8483,21,8492,null,null,null,null,0,222]
[12,8698,23,8706,23,8718,null,null,null,null,0,122]
[12,8818,23,8826,23,8832,null,null,null,null,0,122]
[21,8940,21,8948,21,8953,null,null,null,null,0,222]
[12,9065,14,9068,23,9074,null,null,null,null,0,112]
[21,9169,21,9175,21,9182,null,null,null,null,0,222]
[12,9306,23,9313,23,9324,null,null,null,null,0,122]
[12,9424,23,9431,23,9436,null,null,null,null,0,122]
[12,9537,23,9544,23,9551,null,null,null,null,0,122]
[12,9651,23,9662,23,9667,null,null,null,null,0,122]
[21,9793,21,9799,21,9806,null,null,null,null,0,222]
[12,9936,23,9950,14,9969,null,null,null,null,0,121]
[21,10073,21,10079,21,10085,null,null,null,null,0,222]
[12,10225,23,10233,23,10240,null,null,null,null,0,122]
[12,10336,23,10350,23,10355,null,null,null,null,0,122]
[21,10460,12,10476,14,10491,null,null,null,null,0,211]
[12,10592,23,10601,23,10607,null,null,null,null,0,122]
[21,10712,21,10716,21,10721,null,null,null,null,0,222]
[12,10838,23,10844,23,10852,null,null,null,null,0,122]
[21,10954,21,10960,21,10969,null,null,null,null,0,222]
[12,11161,23,11167,23,11178,null,null,null,null,0,122]
[21,11276,21,11299,21,11319,null,null,null,null,0,222]
[12,11439,23,11445,23,11450,null,null,null,null,0,122]
[21,11559,21,11564,21,11571,null,null,null,null,0,222]
[12,11703,23,11709,23,11719,null,null,null,null,0,122]
[21,11814,21,11819,21,11826,null,null,null,null,0,222]
[12,12005,23,12013,23,12026,null,null,null,null,0,122]
[12,12135,23,12144,23,12153,null,null,null,null,0,122]
[21,12251,21,12258,21,12265,null,null,null,null,0,222]
[12,12399,23,12405,23,12413,null,null,null,null,0,122]
[21,12505,21,12509,21,12516,null,null,null,null,0,222]
[12,12684,23,12690,23,12700,null,null,null,null,0,122]
[21,12797,21,12804,21,12810,null,null,null,null,0,222]
[21,12975,21,12986,21,12993,null,null,null,null,0,222]
[12,13169,23,13176,14,13204,null,null,null,null,0,121]
[21,13298,21,13307,21,13313,null,null,null,null,0,222]
[12,13423,23,13429,23,13438,null,null,null,null,0,122]
[12,13539,23,13546,23,13550,null,null,null,null,0,122]
[21,13648,21,13654,21,13660,null,null,null,null,0,222]
[12,13812,23,13818,14,13837,null,null,null,null,0,121]
[21,13929,21,13935,21,13943,null,null,null,null,0,222]
[12,14053,23,14058,23,14079,null,null,null,null,0,122]
[21,14175,21,14181,21,14187,null,null,null,null,0,222]
[12,14336,23,14342,23,14348,null,null,null,null,0,122]
[21,14472,21,14478,21,14485,null,null,null,null,0,222]
[12,14656,23,14666,23,14672,null,null,null,null,0,122]
[12,14775,23,14784,23,14791,null,null,null,null,0,122]
[21,14892,21,14897,21,14903,null,null,null,null,0,222]
[12,15042,23,15047,23,15052,null,null,null,null,0,122]
[21,15152,21,15157,21,15164,null,null,null,null,0,222]
[12,15368,23,15374,23,15382,null,null,null,null,0,122]
[21,15474,21,15479,21,15484,null,null,null,null,0,222]
[12,15804,23,15812,23,15817,null,null,null,null,0,122]
[21,15916,21,15922,21,15928,null,null,null,null,0,222]
[21,16270,21,16274,21,16279,null,null,null,null,0,222]
[12,16460,23,16467,23,16477,null,null,null,null,0,122]
[12,16585,23,16592,23,16598,null,null,null,null,0,122]
[21,16694,21,16699,21,16706,null,null,null,null,0,222]
[21,16871,21,16876,21,16882,null,null,null,null,0,222]
[21,17146,21,17155,21,17162,null,null,null,null,0,222]
[12,17457,23,17463,14,17478,null,null,null,null,0,121]
[21,17573,21,17580,21,17588,null,null,null,null,0,222]
[21,17808,21,17817,21,17823,null,null,null,null,0,222]
[12,18107,23,18114,23,18120,null,null,null,null,0,122]
[21,18212,21,18216,21,18223,null,null,null,null,0,222]
[12,18428,23,18434,23,18443,null,null,null,null,0,122]
[21,18541,21,18547,21,18554,null,null,null,null,0,222]
[21,18683,21,18689,21,18694,null,null,null,null,0,222]
[21,18856,21,18871,21,18877,null,null,null,null,0,222]
[21,19099,21,19106,21,19111,null,null,null,null,1,222]

{"sheet":"!M322B2D.UST","index":4,"n_rows":63,"n_cols":48,"rows_kept":63,"cut":false,"hidden":false,"merged":[[4,39,4,42],[5,39,5,40],[4,44,4,47],[5,44,5,45],[4,24,4,27],[5,24,5,25],[4,29,4,32],[5,29,5,30],[4,34,4,37],[5,34,5,35],[1,1,1,2],[5,13,5,14],[18,13,18,14],[19,13,19,14],[4,19,4,22],[5,19,5,20]]}
["Report for:!M322B2D.UST"]
["Date:","<date>"]
["Hen:","<hen>",null,null,null,"Correct Sequence",{"$f":"Start!J2","v":222},null,null,null,null,null,null,null,null,"Total Sequences in Data",{"$f":"4994-COUNTBLANK(L7:L5000)","v":57},null,null,null,null,"Total Sequences in Block Data",{"$f":"COUNTA(L7:L16)","v":10},null,null,null,"Total Sequences in Block Data",{"$f":"COUNTA(L17:L25)","v":9},null,null,null,"Total Sequences in Block Data",{"$f":"COUNTA(L26:L35)","v":10},null,null,null,"Total Sequences in Block Data",{"$f":"COUNTA(L36:L44)","v":9},null,null,null,"Total Sequences in Block Data",{"$f":"COUNTA(L45:L54)","v":10},null,null,null,"Total Sequences in Block Data",{"$f":"COUNTA(L55:L63)","v":9}]
[null,null,null,null,null,null,null,null,null,null,null,null,null,null,null,"Total Sequences in Summary",{"$f":"SUM(O7:O14)","v":57},null,null,null,null,"Total Sequences in Block Summary",{"$f":"SUM(U7:U14)","v":10},null,null,null,"Total Sequences in Block Summary",{"$f":"SUM(Z7:Z14)","v":9},null,null,null,"Total Sequences in Block Summary",{"$f":"SUM(AE7:AE14)","v":10},null,null,null,"Total Sequences in Block Summary",{"$f":"SUM(AJ7:AJ14)","v":9},null,null,null,"Total Sequences in Block Summary",{"$f":"SUM(AO7:AO14)","v":10},null,null,null,"Total Sequences in Block Summary",{"$f":"SUM(AT7:AT14)","v":9}]
[null,null,null,null,null,null,null,null,null,null,null,null,null,null,null,null,null,null,null,"Block 1",null,null,null,null,"Block 2",null,null,null,null,"Block 3",null,null,null,null,"Block 4",null,null,null,null,"Block 5",null,null,null,null,"Block 6"]
["Sequence\nComponent\n1","Time\n1","Sequence\nComponent\n2","Time\n2","Sequence\nComponent\n3","Time\n3","Sequence\nComponent\n4","Time\n4","Sequence\nComponent\n5","Time\n5","Correct?\n0=No 1=Yes","Sequence",null,"Frequency",null,"Relative Frequency","Variability",null,null,"Frequency",null,"Relative Frequency","Variability",null,"Frequency",null,"Relative Frequency","Variability",null,"Frequency",null,"Relative Frequency","Variability",null,"Frequency",null,"Relative Frequency","Variability",null,"Frequency",null,"Relative Frequency","Variability",null,"Frequency",null,"Relative Frequency","Variability"]
[12,30,14,35,23,43,null,null,null,null,0,112,null,111,{"$f":"COUNTIF($L$7:$L$500,N7)","v":1},{"$f":"O7/$Q$4","v":1.7543859649122806E-2},{"$f":"IF(P7=0,0,(P7*((LOG(P7))/LOG(2))))","v":-0.10233140375727617},null,null,{"$f":"N7","v":111},{"$f":"COUNTIF(L7:L16,T7)","v":0},{"$f":"U7/(W4-U14)","v":0},{"$f":"IF(V7=0,0,(V7*((LOG(V7))/LOG(2))))","v":0},null,{"$f":"N7","v":111},{"$f":"COUNTIF(L17:L25,Y7)","v":0},{"$f":"Z7/(AB4-Z14)","v":0},{"$f":"IF(AA7=0,0,(AA7*((LOG(AA7))/LOG(2))))","v":0},null,{"$f":"N7","v":111},{"$f":"COUNTIF(L26:L35,AD7)","v":0},{"$f":"AE7/(AG4-AE14)","v":0},{"$f":"IF(AF7=0,0,(AF7*((LOG(AF7))/LOG(2))))","v":0},null,{"$f":"N7","v":111},{"$f":"COUNTIF(L36:L44,AI7)","v":1},{"$f":"AJ7/(AL4-AJ14)","v":0.33333333333333331},{"$f":"IF(AK7=0,0,(AK7*((LOG(AK7))/LOG(2))))","v":-0.52832083357371862},null,{"$f":"N7","v":111},{"$f":"COUNTIF(L45:L54,AN7)","v":0},{"$f":"AO7/(AQ4-AO14)","v":0},{"$f":"IF(AP7=0,0,(AP7*((LOG(AP7))/LOG(2))))","v":0},null,{"$f":"N7","v":111},{"$f":"COUNTIF(L55:L63,AS7)","v":0},{"$f":"AT7/(AV4-AT14)","v":0},{"$f":"IF(AU7=0,0,(AU7*((LOG(AU7))/LOG(2))))","v":0}]
[21,140,21,155,21,164,null,null,null,null,0,222,null,112,{"$f":"COUNTIF($L$7:$L$500,N8)","v":2},{"$f":"O8/$Q$4","v":3.5087719298245612E-2},{"$f":"IF(P8=0,0,(P8*((LOG(P8))/LOG(2))))","v":-0.16957508821630671},null,null,{"$f":"N8","v":112},{"$f":"COUNTIF(L7:L16,T8)","v":2},{"$f":"U8/(W4-U14)","v":0.33333333333333331},{"$f":"IF(V8=0,0,(V8*((LOG(V8))/LOG(2))))","v":-0.52832083357371862},null,{"$f":"N8","v":112},{"$f":"COUNTIF(L17:L25,Y8)","v":0},{"$f":"Z8/(AB4-Z14)","v":0},{"$f":"IF(AA8=0,0,(AA8*((LOG(AA8))/LOG(2))))","v":0},null,{"$f":"N8","v":112},{"$f":"COUNTIF(L26:L35,AD8)","v":0},{"$f":"AE8/(AG4-AE14)","v":0},{"$f":"IF(AF8=0,0,(AF8*((LOG(AF8))/LOG(2))))","v":0},null,{"$f":"N8","v":112},{"$f":"COUNTIF(L36:L44,AI8)","v":0},{"$f":"AJ8/(AL4-AJ14)","v":0},{"$f":"IF(AK8=0,0,(AK8*((LOG(AK8))/LOG(2))))","v":0},null,{"$f":"N8","v":112},{"$f":"COUNTIF(L45:L54,AN8)","v":0},{"$f":"AO8/(AQ4-AO14)","v":0},{"$f":"IF(AP8=0,0,(AP8*((LOG(AP8))/LOG(2))))","v":0},null,{"$f":"N8","v":112},{"$f":"COUNTIF(L55:L63,AS8)","v":0},{"$f":"AT8/(AV4-AT14)","v":0},{"$f":"IF(AU8=0,0,(AU8*((LOG(AU8))/LOG(2))))","v":0}]
[12,353,23,360,23,365,null,null,null,null,0,122,null,121,{"$f":"COUNTIF($L$7:$L$500,N9)","v":3},{"$f":"O9/$Q$4","v":5.2631578947368418E-2},{"$f":"IF(P9=0,0,(P9*((LOG(P9))/LOG(2))))","v":-0.22357513228650452},null,null,{"$f":"N9","v":121},{"$f":"COUNTIF(L7:L16,T9)","v":1},{"$f":"U9/(W4-U14)","v":0.16666666666666666},{"$f":"IF(V9=0,0,(V9*((LOG(V9))/LOG(2))))","v":-0.43082708345352599},null,{"$f":"N9","v":121},{"$f":"COUNTIF(L17:L25,Y9)","v":0},{"$f":"Z9/(AB4-Z14)","v":0},{"$f":"IF(AA9=0,0,(AA9*((LOG(AA9))/LOG(2))))","v":0},null,{"$f":"N9","v":121},{"$f":"COUNTIF(L26:L35,AD9)","v":0},{"$f":"AE9/(AG4-AE14)","v":0},{"$f":"IF(AF9=0,0,(AF9*((LOG(AF9))/LOG(2))))","v":0},null,{"$f":"N9","v":121},{"$f":"COUNTIF(L36:L44,AI9)","v":0},{"$f":"AJ9/(AL4-AJ14)","v":0},{"$f":"IF(AK9=0,0,(AK9*((LOG(AK9))/LOG(2))))","v":0},null,{"$f":"N9","v":121},{"$f":"COUNTIF(L45:L54,AN9)","v":1},{"$f":"AO9/(AQ4-AO14)","v":1},{"$f":"IF(AP9=0,0,(AP9*((LOG(AP9))/LOG(2))))","v":0},null,{"$f":"N9","v":121},{"$f":"COUNTIF(L55:L63,AS9)","v":1},{"$f":"AT9/(AV4-AT14)","v":0.33333333333333331},{"$f":"IF(AU9=0,0,(AU9*((LOG(AU9))/LOG(2))))","v":-0.52832083357371862}]
[12,462,23,468,23,473,null,null,null,null,0,122,null,122,{"$f":"COUNTIF($L$7:$L$500,N10)","v":9},{"$f":"O10/$Q$4","v":0.15789473684210525},{"$f":"IF(P10=0,0,(P10*((LOG(P10))/LOG(2))))","v":-0.42046815990354147},null,null,{"$f":"N10","v":122},{"$f":"COUNTIF(L7:L16,T10)","v":3},{"$f":"U10/(W4-U14)","v":0.5},{"$f":"IF(V10=0,0,(V10*((LOG(V10))/LOG(2))))","v":-0.5},null,{"$f":"N10","v":122},{"$f":"COUNTIF(L17:L25,Y10)","v":3},{"$f":"Z10/(AB4-Z14)","v":1},{"$f":"IF(AA10=0,0,(AA10*((LOG(AA10))/LOG(2))))","v":0},null,{"$f":"N10","v":122},{"$f":"COUNTIF(L26:L35,AD10)","v":1},{"$f":"AE10/(AG4-AE14)","v":1},{"$f":"IF(AF10=0,0,(AF10*((LOG(AF10))/LOG(2))))","v":0},null,{"$f":"N10","v":122},{"$f":"COUNTIF(L36:L44,AI10)","v":1},{"$f":"AJ10/(AL4-AJ14)","v":0.33333333333333331},{"$f":"IF(AK10=0,0,(AK10*((LOG(AK10))/LOG(2))))","v":-0.52832083357371862},null,{"$f":"N10","v":122},{"$f":"COUNTIF(L45:L54,AN10)","v":0},{"$f":"AO10/(AQ4-AO14)","v":0},{"$f":"IF(AP10=0,0,(AP10*((LOG(AP10))/LOG(2))))","v":0},null,{"$f":"N10","v":122},{"$f":"COUNTIF(L55:L63,AS10)","v":1},{"$f":"AT10/(AV4-AT14)","v":0.33333333333333331},{"$f":"IF(AU10=0,0,(AU10*((LOG(AU10))/LOG(2))))","v":-0.52832083357371862}]
[12,575,23,581,23,586,null,null,null,null,0,122,null,211,{"$f":"COUNTIF($L$7:$L$500,N11)","v":0},{"$f":"O11/$Q$4","v":0},{"$f":"IF(P11=0,0,(P11*((LOG(P11))/LOG(2))))","v":0},null,null,{"$f":"N11","v":211},{"$f":"COUNTIF(L7:L16,T11)","v":0},{"$f":"U11/(W4-U14)","v":0},{"$f":"IF(V11=0,0,(V11*((LOG(V11))/LOG(2))))","v":0},null,{"$f":"N11","v":211},{"$f":"COUNTIF(L17:L25,Y11)","v":0},{"$f":"Z11/(AB4-Z14)","v":0},{"$f":"IF(AA11=0,0,(AA11*((LOG(AA11))/LOG(2))))","v":0},null,{"$f":"N11","v":211},{"$f":"COUNTIF(L26:L35,AD11)","v":0},{"$f":"AE11/(AG4-AE14)","v":0},{"$f":"IF(AF11=0,0,(AF11*((LOG(AF11))/LOG(2))))","v":0},null,{"$f":"N11","v":211},{"$f":"COUNTIF(L36:L44,AI11)","v":0},{"$f":"AJ11/(AL4-AJ14)","v":0},{"$f":"IF(AK11=0,0,(AK11*((LOG(AK11))/LOG(2))))","v":0},null,{"$f":"N11","v":211},{"$f":"COUNTIF(L45:L54,AN11)","v":0},{"$f":"AO11/(AQ4-AO14)","v":0},{"$f":"IF(AP11=0,0,(AP11*((LOG(AP11))/LOG(2))))","v":0},null,{"$f":"N11","v":211},{"$f":"COUNTIF(L55:L63,AS11)","v":0},{"$f":"AT11/(AV4-AT14)","v":0},{"$f":"IF(AU11=0,0,(AU11*((LOG(AU11))/LOG(2))))","v":0}]
[21,689,21,695,21,701,null,null,null,null,0,222,null,212,{"$f":"COUNTIF($L$7:$L$500,N12)","v":0},{"$f":"O12/$Q$4","v":0},{"$f":"IF(P12=0,0,(P12*((LOG(P12))/LOG(2))))","v":0},null,null,{"$f":"N12","v":212},{"$f":"COUNTIF(L7:L16,T12)","v":0},{"$f":"U12/(W4-U14)","v":0},{"$f":"IF(V12=0,0,(V12*((LOG(V12))/LOG(2))))","v":0},null,{"$f":"N12","v":212},{"$f":"COUNTIF(L17:L25,Y12)","v":0},{"$f":"Z12/(AB4-Z14)","v":0},{"$f":"IF(AA12=0,0,(AA12*((LOG(AA12))/LOG(2))))","v":0},null,{"$f":"N12","v":212},{"$f":"COUNTIF(L26:L35,AD12)","v":0},{"$f":"AE12/(AG4-AE14)","v":0},{"$f":"IF(AF12=0,0,(AF12*((LOG(AF12))/LOG(2))))","v":0},null,{"$f":"N12","v":212},{"$f":"COUNTIF(L36:L44,AI12)","v":0},{"$f":"AJ12/(AL4-AJ14)","v":0},{"$f":"IF(AK12=0,0,(AK12*((LOG(AK12))/LOG(2))))","v":0},null,{"$f":"N12","v":212},{"$f":"COUNTIF(L45:L54,AN12)","v":0},{"$f":"AO12/(AQ4-AO14)","v":0},{"$f":"IF(AP12=0,0,(AP12*((LOG(AP12))/LOG(2))))","v":0},null,{"$f":"N12","v":212},{"$f":"COUNTIF(L55:L63,AS12)","v":0},{"$f":"AT12/(AV4-AT14)","v":0},{"$f":"IF(AU12=0,0,(AU12*((LOG(AU12))/LOG(2))))","v":0}]
[12,842,14,847,23,854,null,null,null,null,0,112,null,221,{"$f":"COUNTIF($L$7:$L$500,N13)","v":2},{"$f":"O13/$Q$4","v":3.5087719298245612E-2},{"$f":"IF(P13=0,0,(P13*((LOG(P13))/LOG(2))))","v":-0.16957508821630671},null,null,{"$f":"N13","v":221},{"$f":"COUNTIF(L7:L16,T13)","v":0},{"$f":"U13/(W4-U14)","v":0},{"$f":"IF(V13=0,0,(V13*((LOG(V13))/LOG(2))))","v":0},null,{"$f":"N13","v":221},{"$f":"COUNTIF(L17:L25,Y13)","v":0},{"$f":"Z13/(AB4-Z14)","v":0},{"$f":"IF(AA13=0,0,(AA13*((LOG(AA13))/LOG(2))))","v":0},null,{"$f":"N13","v":221},{"$f":"COUNTIF(L26:L35,AD13)","v":0},{"$f":"AE13/(AG4-AE14)","v":0},{"$f":"IF(AF13=0,0,(AF13*((LOG(AF13))/LOG(2))))","v":0},null,{"$f":"N13","v":221},{"$f":"COUNTIF(L36:L44,AI13)","v":1},{"$f":"AJ13/(AL4-AJ14)","v":0.33333333333333331},{"$f":"IF(AK13=0,0,(AK13*((LOG(AK13))/LOG(2))))","v":-0.52832083357371862},null,{"$f":"N13","v":221},{"$f":"COUNTIF(L45:L54,AN13)","v":0},{"$f":"AO13/(AQ4-AO14)","v":0},{"$f":"IF(AP13=0,0,(AP13*((LOG(AP13))/LOG(2))))","v":0},null,{"$f":"N13","v":221},{"$f":"COUNTIF(L55:L63,AS13)","v":1},{"$f":"AT13/(AV4-AT14)","v":0.33333333333333331},{"$f":"IF(AU13=0,0,(AU13*((LOG(AU13))/LOG(2))))","v":-0.52832083357371862}]
[12,954,23,960,14,970,null,null,null,null,0,121,null,222,{"$f":"COUNTIF($L$7:$L$500,N14)","v":40},{"$f":"O14/$Q$4","v":0.70175438596491224},{"$f":"IF(P14=0,0,(P14*((LOG(P14))/LOG(2))))","v":-0.35856976791395045},null,null,{"$f":"N14","v":222},{"$f":"COUNTIF(L7:L16,T14)","v":4},null,null,null,{"$f":"N14","v":222},{"$f":"COUNTIF(L17:L25,Y14)","v":6},null,null,null,{"$f":"N14","v":222},{"$f":"COUNTIF(L26:L35,AD14)","v":9},null,null,null,{"$f":"N14","v":222},{"$f":"COUNTIF(L36:L44,AI14)","v":6},null,null,null,{"$f":"N14","v":222},{"$f":"COUNTIF(L45:L54,AN14)","v":9},null,null,null,{"$f":"N14","v":222},{"$f":"COUNTIF(L55:L63,AS14)","v":6}]
[21,1066,21,1072,21,1077,null,null,null,null,0,222,null,null,null,{"$f":"SUM(P7:P14)","v":1},{"$f":"-SUM(Q7:Q14)","v":1.4440946402938861},null,null,null,null,{"$f":"SUM(V7:V14)","v":1},{"$f":"-SUM(W7:W14)","v":1.4591479170272446},null,null,null,{"$f":"SUM(AA7:AA14)","v":1},{"$f":"-SUM(AB7:AB14)","v":0},null,null,null,{"$f":"SUM(AF7:AF14)","v":1},{"$f":"-SUM(AG7:AG14)","v":0},null,null,null,{"$f":"SUM(AK7:AK14)","v":1},{"$f":"-SUM(AL7:AL14)","v":1.5849625007211559},null,null,null,{"$f":"SUM(AP7:AP14)","v":1},{"$f":"-SUM(AQ7:AQ14)","v":0},null,null,null,{"$f":"SUM(AU7:AU14)","v":1},{"$f":"-SUM(AV7:AV14)","v":1.5849625007211559}]
[21,1234,21,1245,21,1251,null,null,null,null,0,222,null,null,null,"U=",{"$f":"Q15/(LOG(Q4)/LOG(2))","v":0.24757789651219361},null,null,null,null,"U1=",{"$f":"W15/(LOG(W4)/LOG(2))","v":0.43924729113581862},null,null,null,"U2=",{"$f":"AB15/(LOG(AB4)/LOG(2))","v":0},null,null,null,"U3=",{"$f":"AG15/(LOG(AG4)/LOG(2))","v":0},null,null,null,"U4=",{"$f":"AL15/(LOG(AL4)/LOG(2))","v":0.49999999999999994},null,null,null,"U5=",{"$f":"AQ15/(LOG(AQ4)/LOG(2))","v":0},null,null,null,"U6=",{"$f":"AV15/(LOG(AV4)/LOG(2))","v":0.49999999999999994}]
[12,1409,23,1415,23,1420,null,null,null,null,0,122]
[21,1518,21,1525,21,1531,null,null,null,null,0,222]
[12,1698,23,1704,23,1715,null,null,null,null,0,122,null,"Total Target Seq"]
[21,1810,21,1817,21,1827,null,null,null,null,0,222,null,{"$f":"COUNTIF(L7:L63,G3)","v":40},null,10,9,10,9,10,9]
[12,1971,23,1979,23,1984,null,null,null,null,0,122,null,null,null,"% of reinforcement given in 6 equal intervals based on number of trials "]
[21,2077,21,2083,21,2090,null,null,null,null,0,222,null,null,null,"%_1","%_2","%_3","%_4","%_5","%_6"]
[21,2310,21,2321,21,2328,null,null,null,null,0,222,null,null,"target sequence",{"$f":"$G$3","v":222},{"$f":"$G$3","v":222},{"$f":"$G$3","v":222},{"$f":"$G$3","v":222},{"$f":"$G$3","v":222},{"$f":"$G$3","v":222}]
[21,2574,21,2578,21,2592,null,null,null,null,0,222,null,null,"total reinforcement",{"$f":"U14","v":4},{"$f":"Z14","v":6},{"$f":"AE14","v":9},{"$f":"AJ14","v":6},{"$f":"AO14","v":9},{"$f":"AT14","v":6}]
[21,2778,21,2781,21,2793,null,null,null,null,0,222,null,null,"% target"]
[12,3008,23,3015,23,3020,null,null,null,null,0,122,null,null,"CCRF"]
[21,3115,21,3121,21,3132,null,null,null,null,0,222,null,null,"% CCRf"]
[21,3256,21,3264,21,3269,null,null,null,null,0,222,null,null,"average response rate",{"$f":"F16/P20","v":125.1},{"$f":"(F25-F16)/Q20","v":171.33333333333334},{"$f":"(F35-F25)/R20","v":184},{"$f":"(F44-F35)/S20","v":196.77777777777777},{"$f":"(F54-F44)/T20","v":164.8},{"$f":"(F63-F54)/U20","v":185}]
[21,3494,21,3498,21,3511,null,null,null,null,0,222]
[21,3696,21,3705,21,3711,null,null,null,null,0,222]
[21,3907,21,3919,21,3932,null,null,null,null,0,222]
[21,4091,21,4095,21,4097,null,null,null,null,0,222]
[21,4226,21,4248,21,4263,null,null,null,null,0,222]
[21,4418,21,4427,21,4433,null,null,null,null,0,222]
[21,4615,21,4626,21,4633,null,null,null,null,0,222]
[21,4793,21,4804,21,4811,null,null,null,null,0,222]
[21,4973,21,4980,21,4998,null,null,null,null,0,222]
[12,5149,23,5156,23,5160,null,null,null,null,0,122]
[21,5264,21,5273,21,5280,null,null,null,null,0,222]
[21,5414,21,5420,12,5448,null,null,null,null,0,221]
[21,5665,21,5669,21,5674,null,null,null,null,0,222]
[12,6166,14,6174,14,6181,null,null,null,null,0,111]
[21,6273,21,6280,21,6286,null,null,null,null,0,222]
[21,6392,21,6395,21,6404,null,null,null,null,0,222]
[21,6513,21,6515,21,6524,null,null,null,null,0,222]
[21,6653,21,6668,21,6680,null,null,null,null,0,222]
[12,6825,23,6837,14,6848,null,null,null,null,0,121]
[21,6953,21,6961,21,6967,null,null,null,null,0,222]
[21,7132,21,7135,21,7140,null,null,null,null,0,222]
[21,7299,21,7303,21,7309,null,null,null,null,0,222]
[21,7449,21,7452,21,7456,null,null,null,null,0,222]
[21,7607,21,7612,21,7628,null,null,null,null,0,222]
[21,7882,21,7890,21,7895,null,null,null,null,0,222]
[21,8039,21,8045,21,8052,null,null,null,null,0,222]
[21,8302,21,8308,21,8316,null,null,null,null,0,222]
[21,8526,21,8533,21,8539,null,null,null,null,0,222]
[12,8835,23,8846,23,8855,null,null,null,null,0,122]
[21,8953,21,8961,12,8975,null,null,null,null,0,221]
[12,9078,23,9086,14,9103,null,null,null,null,0,121]
[21,9202,21,9208,21,9217,null,null,null,null,0,222]
[21,9346,21,9358,21,9364,null,null,null,null,0,222]
[21,9556,21,9564,21,9571,null,null,null,null,0,222]
[21,9704,21,9710,21,9717,null,null,null,null,1,222]

{"sheet":"!M323A0D.UST","index":5,"n_rows":48,"n_cols":48,"rows_kept":48,"cut":false,"hidden":false,"merged":[[4,39,4,42],[5,39,5,40],[4,44,4,47],[5,44,5,45],[4,24,4,27],[5,24,5,25],[4,29,4,32],[5,29,5,30],[4,34,4,37],[5,34,5,35],[1,1,1,2],[5,13,5,14],[18,13,18,14],[19,13,19,14],[4,19,4,22],[5,19,5,20]]}
["Report for:!M323A0D.UST"]
["Date:","<date>"]
["Hen:","<hen>",null,null,null,"Correct Sequence",{"$f":"Start!J2","v":222},null,null,null,null,null,null,null,null,"Total Sequences in Data",{"$f":"4994-COUNTBLANK(L7:L5000)","v":42},null,null,null,null,"Total Sequences in Block Data",{"$f":"COUNTA(L7:L13)","v":7},null,null,null,"Total Sequences in Block Data",{"$f":"COUNTA(L14:L20)","v":7},null,null,null,"Total Sequences in Block Data",{"$f":"COUNTA(L21:L27)","v":7},null,null,null,"Total Sequences in Block Data",{"$f":"COUNTA(L28:L34)","v":7},null,null,null,"Total Sequences in Block Data",{"$f":"COUNTA(L35:L41)","v":7},null,null,null,"Total Sequences in Block Data",{"$f":"COUNTA(L42:L48)","v":7}]
[null,null,null,null,null,null,null,null,null,null,null,null,null,null,null,"Total Sequences in Summary",{"$f":"SUM(O7:O14)","v":42},null,null,null,null,"Total Sequences in Block Summary",{"$f":"SUM(U7:U14)","v":7},null,null,null,"Total Sequences in Block Summary",{"$f":"SUM(Z7:Z14)","v":7},null,null,null,"Total Sequences in Block Summary",{"$f":"SUM(AE7:AE14)","v":7},null,null,null,"Total Sequences in Block Summary",{"$f":"SUM(AJ7:AJ14)","v":7},null,null,null,"Total Sequences in Block Summary",{"$f":"SUM(AO7:AO14)","v":7},null,null,null,"Total Sequences in Block Summary",{"$f":"SUM(AT7:AT14)","v":7}]
[null,null,null,null,null,null,null,null,null,null,null,null,null,null,null,null,null,null,null,"Block 1",null,null,null,null,"Block 2",null,null,null,null,"Block 3",null,null,null,null,"Block 4",null,null,null,null,"Block 5",null,null,null,null,"Block 6"]
["Sequence\nComponent\n1","Time\n1","Sequence\nComponent\n2","Time\n2","Sequence\nComponent\n3","Time\n3","Sequence\nComponent\n4","Time\n4","Sequence\nComponent\n5","Time\n5","Correct?\n0=No 1=Yes","Sequence",null,"Frequency",null,"Relative Frequency","Variability",null,null,"Frequency",null,"Relative Frequency","Variability",null,"Frequency",null,"Relative Frequency","Variability",null,"Frequency",null,"Relative Frequency","Variability",null,"Frequency",null,"Relative Frequency","Variability",null,"Frequency",null,"Relative Frequency","Variability",null,"Frequency",null,"Relative Frequency","Variability"]
[21,17,21,23,21,29,null,null,null,null,0,222,null,111,{"$f":"COUNTIF($L$7:$L$500,N7)","v":0},{"$f":"O7/$Q$4","v":0},{"$f":"IF(P7=0,0,(P7*((LOG(P7))/LOG(2))))","v":0},null,null,{"$f":"N7","v":111},{"$f":"COUNTIF(L7:L13,T7)","v":0},{"$f":"U7/(W4-U14)","v":{"$error":"#DIV/0!"}},{"$f":"IF(V7=0,0,(V7*((LOG(V7))/LOG(2))))","v":{"$error":"#DIV/0!"}},null,{"$f":"N7","v":111},{"$f":"COUNTIF(L14:L20,Y7)","v":0},{"$f":"Z7/(AB4-Z14)","v":0},{"$f":"IF(AA7=0,0,(AA7*((LOG(AA7))/LOG(2))))","v":0},null,{"$f":"N7","v":111},{"$f":"COUNTIF(L21:L27,AD7)","v":0},{"$f":"AE7/(AG4-AE14)","v":{"$error":"#DIV/0!"}},{"$f":"IF(AF7=0,0,(AF7*((LOG(AF7))/LOG(2))))","v":{"$error":"#DIV/0!"}},null,{"$f":"N7","v":111},{"$f":"COUNTIF(L28:L34,AI7)","v":0},{"$f":"AJ7/(AL4-AJ14)","v":0},{"$f":"IF(AK7=0,0,(AK7*((LOG(AK7))/LOG(2))))","v":0},null,{"$f":"N7","v":111},{"$f":"COUNTIF(L35:L41,AN7)","v":0},{"$f":"AO7/(AQ4-AO14)","v":{"$error":"#DIV/0!"}},{"$f":"IF(AP7=0,0,(AP7*((LOG(AP7))/LOG(2))))","v":{"$error":"#DIV/0!"}},null,{"$f":"N7","v":111},{"$f":"COUNTIF(L42:L48,AS7)","v":0},{"$f":"AT7/(AV4-AT14)","v":{"$error":"#DIV/0!"}},{"$f":"IF(AU7=0,0,(AU7*((LOG(AU7))/LOG(2))))","v":{"$error":"#DIV/0!"}}]
[21,166,21,168,21,180,null,null,null,null,0,222,null,112,{"$f":"COUNTIF($L$7:$L$500,N8)","v":0},{"$f":"O8/$Q$4","v":0},{"$f":"IF(P8=0,0,(P8*((LOG(P8))/LOG(2))))","v":0},null,null,{"$f":"N8","v":112},{"$f":"COUNTIF(L7:L13,T8)","v":0},{"$f":"U8/(W4-U14)","v":{"$error":"#DIV/0!"}},{"$f":"IF(V8=0,0,(V8*((LOG(V8))/LOG(2))))","v":{"$error":"#DIV/0!"}},null,{"$f":"N8","v":112},{"$f":"COUNTIF(L14:L20,Y8)","v":0},{"$f":"Z8/(AB4-Z14)","v":0},{"$f":"IF(AA8=0,0,(AA8*((LOG(AA8))/LOG(2))))","v":0},null,{"$f":"N8","v":112},{"$f":"COUNTIF(L21:L27,AD8)","v":0},{"$f":"AE8/(AG4-AE14)","v":{"$error":"#DIV/0!"}},{"$f":"IF(AF8=0,0,(AF8*((LOG(AF8))/LOG(2))))","v":{"$error":"#DIV/0!"}},null,{"$f":"N8","v":112},{"$f":"COUNTIF(L28:L34,AI8)","v":0},{"$f":"AJ8/(AL4-AJ14)","v":0},{"$f":"IF(AK8=0,0,(AK8*((LOG(AK8))/LOG(2))))","v":0},null,{"$f":"N8","v":112},{"$f":"COUNTIF(L35:L41,AN8)","v":0},{"$f":"AO8/(AQ4-AO14)","v":{"$error":"#DIV/0!"}},{"$f":"IF(AP8=0,0,(AP8*((LOG(AP8))/LOG(2))))","v":{"$error":"#DIV/0!"}},null,{"$f":"N8","v":112},{"$f":"COUNTIF(L42:L48,AS8)","v":0},{"$f":"AT8/(AV4-AT14)","v":{"$error":"#DIV/0!"}},{"$f":"IF(AU8=0,0,(AU8*((LOG(AU8))/LOG(2))))","v":{"$error":"#DIV/0!"}}]
[21,290,21,295,21,303,null,null,null,null,0,222,null,121,{"$f":"COUNTIF($L$7:$L$500,N9)","v":1},{"$f":"O9/$Q$4","v":2.3809523809523808E-2},{"$f":"IF(P9=0,0,(P9*((LOG(P9))/LOG(2))))","v":-0.12838851006616095},null,null,{"$f":"N9","v":121},{"$f":"COUNTIF(L7:L13,T9)","v":0},{"$f":"U9/(W4-U14)","v":{"$error":"#DIV/0!"}},{"$f":"IF(V9=0,0,(V9*((LOG(V9))/LOG(2))))","v":{"$error":"#DIV/0!"}},null,{"$f":"N9","v":121},{"$f":"COUNTIF(L14:L20,Y9)","v":1},{"$f":"Z9/(AB4-Z14)","v":1},{"$f":"IF(AA9=0,0,(AA9*((LOG(AA9))/LOG(2))))","v":0},null,{"$f":"N9","v":121},{"$f":"COUNTIF(L21:L27,AD9)","v":0},{"$f":"AE9/(AG4-AE14)","v":{"$error":"#DIV/0!"}},{"$f":"IF(AF9=0,0,(AF9*((LOG(AF9))/LOG(2))))","v":{"$error":"#DIV/0!"}},null,{"$f":"N9","v":121},{"$f":"COUNTIF(L28:L34,AI9)","v":0},{"$f":"AJ9/(AL4-AJ14)","v":0},{"$f":"IF(AK9=0,0,(AK9*((LOG(AK9))/LOG(2))))","v":0},null,{"$f":"N9","v":121},{"$f":"COUNTIF(L35:L41,AN9)","v":0},{"$f":"AO9/(AQ4-AO14)","v":{"$error":"#DIV/0!"}},{"$f":"IF(AP9=0,0,(AP9*((LOG(AP9))/LOG(2))))","v":{"$error":"#DIV/0!"}},null,{"$f":"N9","v":121},{"$f":"COUNTIF(L42:L48,AS9)","v":0},{"$f":"AT9/(AV4-AT14)","v":{"$error":"#DIV/0!"}},{"$f":"IF(AU9=0,0,(AU9*((LOG(AU9))/LOG(2))))","v":{"$error":"#DIV/0!"}}]
[21,425,21,436,21,443,null,null,null,null,0,222,null,122,{"$f":"COUNTIF($L$7:$L$500,N10)","v":0},{"$f":"O10/$Q$4","v":0},{"$f":"IF(P10=0,0,(P10*((LOG(P10))/LOG(2))))","v":0},null,null,{"$f":"N10","v":122},{"$f":"COUNTIF(L7:L13,T10)","v":0},{"$f":"U10/(W4-U14)","v":{"$error":"#DIV/0!"}},{"$f":"IF(V10=0,0,(V10*((LOG(V10))/LOG(2))))","v":{"$error":"#DIV/0!"}},null,{"$f":"N10","v":122},{"$f":"COUNTIF(L14:L20,Y10)","v":0},{"$f":"Z10/(AB4-Z14)","v":0},{"$f":"IF(AA10=0,0,(AA10*((LOG(AA10))/LOG(2))))","v":0},null,{"$f":"N10","v":122},{"$f":"COUNTIF(L21:L27,AD10)","v":0},{"$f":"AE10/(AG4-AE14)","v":{"$error":"#DIV/0!"}},{"$f":"IF(AF10=0,0,(AF10*((LOG(AF10))/LOG(2))))","v":{"$error":"#DIV/0!"}},null,{"$f":"N10","v":122},{"$f":"COUNTIF(L28:L34,AI10)","v":0},{"$f":"AJ10/(AL4-AJ14)","v":0},{"$f":"IF(AK10=0,0,(AK10*((LOG(AK10))/LOG(2))))","v":0},null,{"$f":"N10","v":122},{"$f":"COUNTIF(L35:L41,AN10)","v":0},{"$f":"AO10/(AQ4-AO14)","v":{"$error":"#DIV/0!"}},{"$f":"IF(AP10=0,0,(AP10*((LOG(AP10))/LOG(2))))","v":{"$error":"#DIV/0!"}},null,{"$f":"N10","v":122},{"$f":"COUNTIF(L42:L48,AS10)","v":0},{"$f":"AT10/(AV4-AT14)","v":{"$error":"#DIV/0!"}},{"$f":"IF(AU10=0,0,(AU10*((LOG(AU10))/LOG(2))))","v":{"$error":"#DIV/0!"}}]
[21,561,21,571,21,577,null,null,null,null,0,222,null,211,{"$f":"COUNTIF($L$7:$L$500,N11)","v":0},{"$f":"O11/$Q$4","v":0},{"$f":"IF(P11=0,0,(P11*((LOG(P11))/LOG(2))))","v":0},null,null,{"$f":"N11","v":211},{"$f":"COUNTIF(L7:L13,T11)","v":0},{"$f":"U11/(W4-U14)","v":{"$error":"#DIV/0!"}},{"$f":"IF(V11=0,0,(V11*((LOG(V11))/LOG(2))))","v":{"$error":"#DIV/0!"}},null,{"$f":"N11","v":211},{"$f":"COUNTIF(L14:L20,Y11)","v":0},{"$f":"Z11/(AB4-Z14)","v":0},{"$f":"IF(AA11=0,0,(AA11*((LOG(AA11))/LOG(2))))","v":0},null,{"$f":"N11","v":211},{"$f":"COUNTIF(L21:L27,AD11)","v":0},{"$f":"AE11/(AG4-AE14)","v":{"$error":"#DIV/0!"}},{"$f":"IF(AF11=0,0,(AF11*((LOG(AF11))/LOG(2))))","v":{"$error":"#DIV/0!"}},null,{"$f":"N11","v":211},{"$f":"COUNTIF(L28:L34,AI11)","v":0},{"$f":"AJ11/(AL4-AJ14)","v":0},{"$f":"IF(AK11=0,0,(AK11*((LOG(AK11))/LOG(2))))","v":0},null,{"$f":"N11","v":211},{"$f":"COUNTIF(L35:L41,AN11)","v":0},{"$f":"AO11/(AQ4-AO14)","v":{"$error":"#DIV/0!"}},{"$f":"IF(AP11=0,0,(AP11*((LOG(AP11))/LOG(2))))","v":{"$error":"#DIV/0!"}},null,{"$f":"N11","v":211},{"$f":"COUNTIF(L42:L48,AS11)","v":0},{"$f":"AT11/(AV4-AT14)","v":{"$error":"#DIV/0!"}},{"$f":"IF(AU11=0,0,(AU11*((LOG(AU11))/LOG(2))))","v":{"$error":"#DIV/0!"}}]
[21,715,21,722,21,729,null,null,null,null,0,222,null,212,{"$f":"COUNTIF($L$7:$L$500,N12)","v":1},{"$f":"O12/$Q$4","v":2.3809523809523808E-2},{"$f":"IF(P12=0,0,(P12*((LOG(P12))/LOG(2))))","v":-0.12838851006616095},null,null,{"$f":"N12","v":212},{"$f":"COUNTIF(L7:L13,T12)","v":0},{"$f":"U12/(W4-U14)","v":{"$error":"#DIV/0!"}},{"$f":"IF(V12=0,0,(V12*((LOG(V12))/LOG(2))))","v":{"$error":"#DIV/0!"}},null,{"$f":"N12","v":212},{"$f":"COUNTIF(L14:L20,Y12)","v":0},{"$f":"Z12/(AB4-Z14)","v":0},{"$f":"IF(AA12=0,0,(AA12*((LOG(AA12))/LOG(2))))","v":0},null,{"$f":"N12","v":212},{"$f":"COUNTIF(L21:L27,AD12)","v":0},{"$f":"AE12/(AG4-AE14)","v":{"$error":"#DIV/0!"}},{"$f":"IF(AF12=0,0,(AF12*((LOG(AF12))/LOG(2))))","v":{"$error":"#DIV/0!"}},null,{"$f":"N12","v":212},{"$f":"COUNTIF(L28:L34,AI12)","v":1},{"$f":"AJ12/(AL4-AJ14)","v":1},{"$f":"IF(AK12=0,0,(AK12*((LOG(AK12))/LOG(2))))","v":0},null,{"$f":"N12","v":212},{"$f":"COUNTIF(L35:L41,AN12)","v":0},{"$f":"AO12/(AQ4-AO14)","v":{"$error":"#DIV/0!"}},{"$f":"IF(AP12=0,0,(AP12*((LOG(AP12))/LOG(2))))","v":{"$error":"#DIV/0!"}},null,{"$f":"N12","v":212},{"$f":"COUNTIF(L42:L48,AS12)","v":0},{"$f":"AT12/(AV4-AT14)","v":{"$error":"#DIV/0!"}},{"$f":"IF(AU12=0,0,(AU12*((LOG(AU12))/LOG(2))))","v":{"$error":"#DIV/0!"}}]
[21,846,21,850,21,853,null,null,null,null,0,222,null,221,{"$f":"COUNTIF($L$7:$L$500,N13)","v":0},{"$f":"O13/$Q$4","v":0},{"$f":"IF(P13=0,0,(P13*((LOG(P13))/LOG(2))))","v":0},null,null,{"$f":"N13","v":221},{"$f":"COUNTIF(L7:L13,T13)","v":0},{"$f":"U13/(W4-U14)","v":{"$error":"#DIV/0!"}},{"$f":"IF(V13=0,0,(V13*((LOG(V13))/LOG(2))))","v":{"$error":"#DIV/0!"}},null,{"$f":"N13","v":221},{"$f":"COUNTIF(L14:L20,Y13)","v":0},{"$f":"Z13/(AB4-Z14)","v":0},{"$f":"IF(AA13=0,0,(AA13*((LOG(AA13))/LOG(2))))","v":0},null,{"$f":"N13","v":221},{"$f":"COUNTIF(L21:L27,AD13)","v":0},{"$f":"AE13/(AG4-AE14)","v":{"$error":"#DIV/0!"}},{"$f":"IF(AF13=0,0,(AF13*((LOG(AF13))/LOG(2))))","v":{"$error":"#DIV/0!"}},null,{"$f":"N13","v":221},{"$f":"COUNTIF(L28:L34,AI13)","v":0},{"$f":"AJ13/(AL4-AJ14)","v":0},{"$f":"IF(AK13=0,0,(AK13*((LOG(AK13))/LOG(2))))","v":0},null,{"$f":"N13","v":221},{"$f":"COUNTIF(L35:L41,AN13)","v":0},{"$f":"AO13/(AQ4-AO14)","v":{"$error":"#DIV/0!"}},{"$f":"IF(AP13=0,0,(AP13*((LOG(AP13))/LOG(2))))","v":{"$error":"#DIV/0!"}},null,{"$f":"N13","v":221},{"$f":"COUNTIF(L42:L48,AS13)","v":0},{"$f":"AT13/(AV4-AT14)","v":{"$error":"#DIV/0!"}},{"$f":"IF(AU13=0,0,(AU13*((LOG(AU13))/LOG(2))))","v":{"$error":"#DIV/0!"}}]
[21,949,21,953,21,963,null,null,null,null,0,222,null,222,{"$f":"COUNTIF($L$7:$L$500,N14)","v":40},{"$f":"O14/$Q$4","v":0.95238095238095233},{"$f":"IF(P14=0,0,(P14*((LOG(P14))/LOG(2))))","v":-6.7037455134664775E-2},null,null,{"$f":"N14","v":222},{"$f":"COUNTIF(L7:L13,T14)","v":7},null,null,null,{"$f":"N14","v":222},{"$f":"COUNTIF(L14:L20,Y14)","v":6},null,null,null,{"$f":"N14","v":222},{"$f":"COUNTIF(L21:L27,AD14)","v":7},null,null,null,{"$f":"N14","v":222},{"$f":"COUNTIF(L28:L34,AI14)","v":6},null,null,null,{"$f":"N14","v":222},{"$f":"COUNTIF(L35:L41,AN14)","v":7},null,null,null,{"$f":"N14","v":222},{"$f":"COUNTIF(L42:L48,AS14)","v":7}]
[21,1087,21,1092,21,1108,null,null,null,null,0,222,null,null,null,{"$f":"SUM(P7:P14)","v":1},{"$f":"-SUM(Q7:Q14)","v":0.3238144752669867},null,null,null,null,{"$f":"SUM(V7:V14)","v":{"$error":"#DIV/0!"}},{"$f":"-SUM(W7:W14)","v":{"$error":"#DIV/0!"}},null,null,null,{"$f":"SUM(AA7:AA14)","v":1},{"$f":"-SUM(AB7:AB14)","v":0},null,null,null,{"$f":"SUM(AF7:AF14)","v":{"$error":"#DIV/0!"}},{"$f":"-SUM(AG7:AG14)","v":{"$error":"#DIV/0!"}},null,null,null,{"$f":"SUM(AK7:AK14)","v":1},{"$f":"-SUM(AL7:AL14)","v":0},null,null,null,{"$f":"SUM(AP7:AP14)","v":{"$error":"#DIV/0!"}},{"$f":"-SUM(AQ7:AQ14)","v":{"$error":"#DIV/0!"}},null,null,null,{"$f":"SUM(AU7:AU14)","v":{"$error":"#DIV/0!"}},{"$f":"-SUM(AV7:AV14)","v":{"$error":"#DIV/0!"}}]
[21,1308,21,1316,21,1329,null,null,null,null,0,222,null,null,null,"U=",{"$f":"Q15/(LOG(Q4)/LOG(2))","v":6.0051078206022804E-2},null,null,null,null,"U1=",{"$f":"W15/(LOG(W4)/LOG(2))","v":{"$error":"#DIV/0!"}},null,null,null,"U2=",{"$f":"AB15/(LOG(AB4)/LOG(2))","v":0},null,null,null,"U3=",{"$f":"AG15/(LOG(AG4)/LOG(2))","v":{"$error":"#DIV/0!"}},null,null,null,"U4=",{"$f":"AL15/(LOG(AL4)/LOG(2))","v":0},null,null,null,"U5=",{"$f":"AQ15/(LOG(AQ4)/LOG(2))","v":{"$error":"#DIV/0!"}},null,null,null,"U6=",{"$f":"AV15/(LOG(AV4)/LOG(2))","v":{"$error":"#DIV/0!"}}]
[21,1473,21,1486,21,1496,null,null,null,null,0,222]
[12,1599,23,1612,14,1623,null,null,null,null,0,121]
[21,1726,21,1731,21,1737,null,null,null,null,0,222,null,"Total Target Seq"]
[21,1836,21,1848,21,1861,null,null,null,null,0,222,null,{"$f":"COUNTIF(L7:L48,G3)","v":40},null,7,7,7,7,7,7]
[21,1981,21,1988,21,1993,null,null,null,null,0,222,null,null,null,"% of reinforcement given in 6 equal intervals based on number of trials "]
[21,2095,21,2098,21,2105,null,null,null,null,0,222,null,null,null,"%_1","%_2","%_3","%_4","%_5","%_6"]
[21,2198,21,2204,21,2209,null,null,null,null,0,222,null,null,"target sequence",{"$f":"$G$3","v":222},{"$f":"$G$3","v":222},{"$f":"$G$3","v":222},{"$f":"$G$3","v":222},{"$f":"$G$3","v":222},{"$f":"$G$3","v":222}]
[21,2366,21,2372,21,2387,null,null,null,null,0,222,null,null,"total reinforcement",{"$f":"U14","v":7},{"$f":"Z14","v":6},{"$f":"AE14","v":7},{"$f":"AJ14","v":6},{"$f":"AO14","v":7},{"$f":"AT14","v":7}]
[21,2568,21,2574,21,2580,null,null,null,null,0,222,null,null,"% target"]
[21,2728,21,2734,21,2740,null,null,null,null,0,222,null,null,"CCRF"]
[21,2856,21,2861,21,2867,null,null,null,null,0,222,null,null,"% CCRf"]
[21,2980,21,2985,21,2992,null,null,null,null,0,222,null,null,"average response rate",{"$f":"F13/P20","v":121.85714285714286},{"$f":"(F20-F13)/Q20","v":144},{"$f":"(F27-F20)/R20","v":143.71428571428572},{"$f":"(F34-F27)/S20","v":141.71428571428572},{"$f":"(F41-F34)/T20","v":132.85714285714286},{"$f":"(F48-F41)/U20","v":128.57142857142858}]
[21,3100,21,3103,21,3111,null,null,null,null,0,222]
[21,3212,21,3222,21,3230,null,null,null,null,0,222]
[21,3341,21,3347,21,3353,null,null,null,null,0,222]
[21,3477,21,3483,21,3496,null,null,null,null,0,222]
[21,3709,12,3725,23,3741,null,null,null,null,0,212]
[21,3847,21,3854,21,3859,null,null,null,null,0,222]
[21,3950,21,3958,21,3964,null,null,null,null,0,222]
[21,4060,21,4067,21,4074,null,null,null,null,0,222]
[21,4251,21,4258,21,4265,null,null,null,null,0,222]
[21,4356,21,4364,21,4374,null,null,null,null,0,222]
[21,4490,21,4509,21,4528,null,null,null,null,0,222]
[21,4628,21,4634,21,4636,null,null,null,null,0,222]
[21,4783,21,4788,21,4789,null,null,null,null,0,222]
[21,4894,21,4901,21,4907,null,null,null,null,0,222]
[21,5003,21,5010,21,5023,null,null,null,null,0,222]
[21,5141,21,5148,21,5155,null,null,null,null,0,222]
[21,5308,21,5314,21,5319,null,null,null,null,0,222]
[21,5420,21,5426,21,5431,null,null,null,null,0,222]
[21,5551,21,5558,21,5564,null,null,null,null,0,222]
[21,5677,21,5683,21,5689,null,null,null,null,1,222]

{"sheet":"!M324B5D.UST","index":6,"n_rows":49,"n_cols":48,"rows_kept":49,"cut":false,"hidden":false,"merged":[[4,39,4,42],[5,39,5,40],[4,44,4,47],[5,44,5,45],[4,24,4,27],[5,24,5,25],[4,29,4,32],[5,29,5,30],[4,34,4,37],[5,34,5,35],[1,1,1,2],[5,13,5,14],[18,13,18,14],[19,13,19,14],[4,19,4,22],[5,19,5,20]]}
["Report for:!M324B5D.UST"]
["Date:","<date>"]
["Hen:","<hen>",null,null,null,"Correct Sequence",{"$f":"Start!J2","v":222},null,null,null,null,null,null,null,null,"Total Sequences in Data",{"$f":"4994-COUNTBLANK(L7:L5000)","v":43},null,null,null,null,"Total Sequences in Block Data",{"$f":"COUNTA(L7:L13)","v":7},null,null,null,"Total Sequences in Block Data",{"$f":"COUNTA(L14:L20)","v":7},null,null,null,"Total Sequences in Block Data",{"$f":"COUNTA(L21:L28)","v":8},null,null,null,"Total Sequences in Block Data",{"$f":"COUNTA(L29:L35)","v":7},null,null,null,"Total Sequences in Block Data",{"$f":"COUNTA(L36:L42)","v":7},null,null,null,"Total Sequences in Block Data",{"$f":"COUNTA(L43:L49)","v":7}]
[null,null,null,null,null,null,null,null,null,null,null,null,null,null,null,"Total Sequences in Summary",{"$f":"SUM(O7:O14)","v":43},null,null,null,null,"Total Sequences in Block Summary",{"$f":"SUM(U7:U14)","v":7},null,null,null,"Total Sequences in Block Summary",{"$f":"SUM(Z7:Z14)","v":7},null,null,null,"Total Sequences in Block Summary",{"$f":"SUM(AE7:AE14)","v":8},null,null,null,"Total Sequences in Block Summary",{"$f":"SUM(AJ7:AJ14)","v":7},null,null,null,"Total Sequences in Block Summary",{"$f":"SUM(AO7:AO14)","v":7},null,null,null,"Total Sequences in Block Summary",{"$f":"SUM(AT7:AT14)","v":7}]
[null,null,null,null,null,null,null,null,null,null,null,null,null,null,null,null,null,null,null,"Block 1",null,null,null,null,"Block 2",null,null,null,null,"Block 3",null,null,null,null,"Block 4",null,null,null,null,"Block 5",null,null,null,null,"Block 6"]
["Sequence\nComponent\n1","Time\n1","Sequence\nComponent\n2","Time\n2","Sequence\nComponent\n3","Time\n3","Sequence\nComponent\n4","Time\n4","Sequence\nComponent\n5","Time\n5","Correct?\n0=No 1=Yes","Sequence",null,"Frequency",null,"Relative Frequency","Variability",null,null,"Frequency",null,"Relative Frequency","Variability",null,"Frequency",null,"Relative Frequency","Variability",null,"Frequency",null,"Relative Frequency","Variability",null,"Frequency",null,"Relative Frequency","Variability",null,"Frequency",null,"Relative Frequency","Variability",null,"Frequency",null,"Relative Frequency","Variability"]
[21,128,21,133,21,140,null,null,null,null,0,222,null,111,{"$f":"COUNTIF($L$7:$L$500,N7)","v":0},{"$f":"O7/$Q$4","v":0},{"$f":"IF(P7=0,0,(P7*((LOG(P7))/LOG(2))))","v":0},null,null,{"$f":"N7","v":111},{"$f":"COUNTIF(L7:L13,T7)","v":0},{"$f":"U7/(W4-U14)","v":{"$error":"#DIV/0!"}},{"$f":"IF(V7=0,0,(V7*((LOG(V7))/LOG(2))))","v":{"$error":"#DIV/0!"}},null,{"$f":"N7","v":111},{"$f":"COUNTIF(L14:L20,Y7)","v":0},{"$f":"Z7/(AB4-Z14)","v":{"$error":"#DIV/0!"}},{"$f":"IF(AA7=0,0,(AA7*((LOG(AA7))/LOG(2))))","v":{"$error":"#DIV/0!"}},null,{"$f":"N7","v":111},{"$f":"COUNTIF(L21:L28,AD7)","v":0},{"$f":"AE7/(AG4-AE14)","v":0},{"$f":"IF(AF7=0,0,(AF7*((LOG(AF7))/LOG(2))))","v":0},null,{"$f":"N7","v":111},{"$f":"COUNTIF(L29:L35,AI7)","v":0},{"$f":"AJ7/(AL4-AJ14)","v":0},{"$f":"IF(AK7=0,0,(AK7*((LOG(AK7))/LOG(2))))","v":0},null,{"$f":"N7","v":111},{"$f":"COUNTIF(L36:L42,AN7)","v":0},{"$f":"AO7/(AQ4-AO14)","v":{"$error":"#DIV/0!"}},{"$f":"IF(AP7=0,0,(AP7*((LOG(AP7))/LOG(2))))","v":{"$error":"#DIV/0!"}},null,{"$f":"N7","v":111},{"$f":"COUNTIF(L43:L49,AS7)","v":0},{"$f":"AT7/(AV4-AT14)","v":{"$error":"#DIV/0!"}},{"$f":"IF(AU7=0,0,(AU7*((LOG(AU7))/LOG(2))))","v":{"$error":"#DIV/0!"}}]
[21,325,21,330,21,336,null,null,null,null,0,222,null,112,{"$f":"COUNTIF($L$7:$L$500,N8)","v":0},{"$f":"O8/$Q$4","v":0},{"$f":"IF(P8=0,0,(P8*((LOG(P8))/LOG(2))))","v":0},null,null,{"$f":"N8","v":112},{"$f":"COUNTIF(L7:L13,T8)","v":0},{"$f":"U8/(W4-U14)","v":{"$error":"#DIV/0!"}},{"$f":"IF(V8=0,0,(V8*((LOG(V8))/LOG(2))))","v":{"$error":"#DIV/0!"}},null,{"$f":"N8","v":112},{"$f":"COUNTIF(L14:L20,Y8)","v":0},{"$f":"Z8/(AB4-Z14)","v":{"$error":"#DIV/0!"}},{"$f":"IF(AA8=0,0,(AA8*((LOG(AA8))/LOG(2))))","v":{"$error":"#DIV/0!"}},null,{"$f":"N8","v":112},{"$f":"COUNTIF(L21:L28,AD8)","v":0},{"$f":"AE8/(AG4-AE14)","v":0},{"$f":"IF(AF8=0,0,(AF8*((LOG(AF8))/LOG(2))))","v":0},null,{"$f":"N8","v":112},{"$f":"COUNTIF(L29:L35,AI8)","v":0},{"$f":"AJ8/(AL4-AJ14)","v":0},{"$f":"IF(AK8=0,0,(AK8*((LOG(AK8))/LOG(2))))","v":0},null,{"$f":"N8","v":112},{"$f":"COUNTIF(L36:L42,AN8)","v":0},{"$f":"AO8/(AQ4-AO14)","v":{"$error":"#DIV/0!"}},{"$f":"IF(AP8=0,0,(AP8*((LOG(AP8))/LOG(2))))","v":{"$error":"#DIV/0!"}},null,{"$f":"N8","v":112},{"$f":"COUNTIF(L43:L49,AS8)","v":0},{"$f":"AT8/(AV4-AT14)","v":{"$error":"#DIV/0!"}},{"$f":"IF(AU8=0,0,(AU8*((LOG(AU8))/LOG(2))))","v":{"$error":"#DIV/0!"}}]
[21,494,21,513,21,524,null,null,null,null,0,222,null,121,{"$f":"COUNTIF($L$7:$L$500,N9)","v":1},{"$f":"O9/$Q$4","v":2.3255813953488372E-2},{"$f":"IF(P9=0,0,(P9*((LOG(P9))/LOG(2))))","v":-0.12619220359772321},null,null,{"$f":"N9","v":121},{"$f":"COUNTIF(L7:L13,T9)","v":0},{"$f":"U9/(W4-U14)","v":{"$error":"#DIV/0!"}},{"$f":"IF(V9=0,0,(V9*((LOG(V9))/LOG(2))))","v":{"$error":"#DIV/0!"}},null,{"$f":"N9","v":121},{"$f":"COUNTIF(L14:L20,Y9)","v":0},{"$f":"Z9/(AB4-Z14)","v":{"$error":"#DIV/0!"}},{"$f":"IF(AA9=0,0,(AA9*((LOG(AA9))/LOG(2))))","v":{"$error":"#DIV/0!"}},null,{"$f":"N9","v":121},{"$f":"COUNTIF(L21:L28,AD9)","v":0},{"$f":"AE9/(AG4-AE14)","v":0},{"$f":"IF(AF9=0,0,(AF9*((LOG(AF9))/LOG(2))))","v":0},null,{"$f":"N9","v":121},{"$f":"COUNTIF(L29:L35,AI9)","v":1},{"$f":"AJ9/(AL4-AJ14)","v":0.5},{"$f":"IF(AK9=0,0,(AK9*((LOG(AK9))/LOG(2))))","v":-0.5},null,{"$f":"N9","v":121},{"$f":"COUNTIF(L36:L42,AN9)","v":0},{"$f":"AO9/(AQ4-AO14)","v":{"$error":"#DIV/0!"}},{"$f":"IF(AP9=0,0,(AP9*((LOG(AP9))/LOG(2))))","v":{"$error":"#DIV/0!"}},null,{"$f":"N9","v":121},{"$f":"COUNTIF(L43:L49,AS9)","v":0},{"$f":"AT9/(AV4-AT14)","v":{"$error":"#DIV/0!"}},{"$f":"IF(AU9=0,0,(AU9*((LOG(AU9))/LOG(2))))","v":{"$error":"#DIV/0!"}}]
[21,707,21,715,21,727,null,null,null,null,0,222,null,122,{"$f":"COUNTIF($L$7:$L$500,N10)","v":2},{"$f":"O10/$Q$4","v":4.6511627906976744E-2},{"$f":"IF(P10=0,0,(P10*((LOG(P10))/LOG(2))))","v":-0.20587277928846967},null,null,{"$f":"N10","v":122},{"$f":"COUNTIF(L7:L13,T10)","v":0},{"$f":"U10/(W4-U14)","v":{"$error":"#DIV/0!"}},{"$f":"IF(V10=0,0,(V10*((LOG(V10))/LOG(2))))","v":{"$error":"#DIV/0!"}},null,{"$f":"N10","v":122},{"$f":"COUNTIF(L14:L20,Y10)","v":0},{"$f":"Z10/(AB4-Z14)","v":{"$error":"#DIV/0!"}},{"$f":"IF(AA10=0,0,(AA10*((LOG(AA10))/LOG(2))))","v":{"$error":"#DIV/0!"}},null,{"$f":"N10","v":122},{"$f":"COUNTIF(L21:L28,AD10)","v":1},{"$f":"AE10/(AG4-AE14)","v":1},{"$f":"IF(AF10=0,0,(AF10*((LOG(AF10))/LOG(2))))","v":0},null,{"$f":"N10","v":122},{"$f":"COUNTIF(L29:L35,AI10)","v":1},{"$f":"AJ10/(AL4-AJ14)","v":0.5},{"$f":"IF(AK10=0,0,(AK10*((LOG(AK10))/LOG(2))))","v":-0.5},null,{"$f":"N10","v":122},{"$f":"COUNTIF(L36:L42,AN10)","v":0},{"$f":"AO10/(AQ4-AO14)","v":{"$error":"#DIV/0!"}},{"$f":"IF(AP10=0,0,(AP10*((LOG(AP10))/LOG(2))))","v":{"$error":"#DIV/0!"}},null,{"$f":"N10","v":122},{"$f":"COUNTIF(L43:L49,AS10)","v":0},{"$f":"AT10/(AV4-AT14)","v":{"$error":"#DIV/0!"}},{"$f":"IF(AU10=0,0,(AU10*((LOG(AU10))/LOG(2))))","v":{"$error":"#DIV/0!"}}]
[21,941,21,947,21,960,null,null,null,null,0,222,null,211,{"$f":"COUNTIF($L$7:$L$500,N11)","v":0},{"$f":"O11/$Q$4","v":0},{"$f":"IF(P11=0,0,(P11*((LOG(P11))/LOG(2))))","v":0},null,null,{"$f":"N11","v":211},{"$f":"COUNTIF(L7:L13,T11)","v":0},{"$f":"U11/(W4-U14)","v":{"$error":"#DIV/0!"}},{"$f":"IF(V11=0,0,(V11*((LOG(V11))/LOG(2))))","v":{"$error":"#DIV/0!"}},null,{"$f":"N11","v":211},{"$f":"COUNTIF(L14:L20,Y11)","v":0},{"$f":"Z11/(AB4-Z14)","v":{"$error":"#DIV/0!"}},{"$f":"IF(AA11=0,0,(AA11*((LOG(AA11))/LOG(2))))","v":{"$error":"#DIV/0!"}},null,{"$f":"N11","v":211},{"$f":"COUNTIF(L21:L28,AD11)","v":0},{"$f":"AE11/(AG4-AE14)","v":0},{"$f":"IF(AF11=0,0,(AF11*((LOG(AF11))/LOG(2))))","v":0},null,{"$f":"N11","v":211},{"$f":"COUNTIF(L29:L35,AI11)","v":0},{"$f":"AJ11/(AL4-AJ14)","v":0},{"$f":"IF(AK11=0,0,(AK11*((LOG(AK11))/LOG(2))))","v":0},null,{"$f":"N11","v":211},{"$f":"COUNTIF(L36:L42,AN11)","v":0},{"$f":"AO11/(AQ4-AO14)","v":{"$error":"#DIV/0!"}},{"$f":"IF(AP11=0,0,(AP11*((LOG(AP11))/LOG(2))))","v":{"$error":"#DIV/0!"}},null,{"$f":"N11","v":211},{"$f":"COUNTIF(L43:L49,AS11)","v":0},{"$f":"AT11/(AV4-AT14)","v":{"$error":"#DIV/0!"}},{"$f":"IF(AU11=0,0,(AU11*((LOG(AU11))/LOG(2))))","v":{"$error":"#DIV/0!"}}]
[21,1299,21,1312,21,1345,null,null,null,null,0,222,null,212,{"$f":"COUNTIF($L$7:$L$500,N12)","v":0},{"$f":"O12/$Q$4","v":0},{"$f":"IF(P12=0,0,(P12*((LOG(P12))/LOG(2))))","v":0},null,null,{"$f":"N12","v":212},{"$f":"COUNTIF(L7:L13,T12)","v":0},{"$f":"U12/(W4-U14)","v":{"$error":"#DIV/0!"}},{"$f":"IF(V12=0,0,(V12*((LOG(V12))/LOG(2))))","v":{"$error":"#DIV/0!"}},null,{"$f":"N12","v":212},{"$f":"COUNTIF(L14:L20,Y12)","v":0},{"$f":"Z12/(AB4-Z14)","v":{"$error":"#DIV/0!"}},{"$f":"IF(AA12=0,0,(AA12*((LOG(AA12))/LOG(2))))","v":{"$error":"#DIV/0!"}},null,{"$f":"N12","v":212},{"$f":"COUNTIF(L21:L28,AD12)","v":0},{"$f":"AE12/(AG4-AE14)","v":0},{"$f":"IF(AF12=0,0,(AF12*((LOG(AF12))/LOG(2))))","v":0},null,{"$f":"N12","v":212},{"$f":"COUNTIF(L29:L35,AI12)","v":0},{"$f":"AJ12/(AL4-AJ14)","v":0},{"$f":"IF(AK12=0,0,(AK12*((LOG(AK12))/LOG(2))))","v":0},null,{"$f":"N12","v":212},{"$f":"COUNTIF(L36:L42,AN12)","v":0},{"$f":"AO12/(AQ4-AO14)","v":{"$error":"#DIV/0!"}},{"$f":"IF(AP12=0,0,(AP12*((LOG(AP12))/LOG(2))))","v":{"$error":"#DIV/0!"}},null,{"$f":"N12","v":212},{"$f":"COUNTIF(L43:L49,AS12)","v":0},{"$f":"AT12/(AV4-AT14)","v":{"$error":"#DIV/0!"}},{"$f":"IF(AU12=0,0,(AU12*((LOG(AU12))/LOG(2))))","v":{"$error":"#DIV/0!"}}]
[21,1707,21,1712,21,1720,null,null,null,null,0,222,null,221,{"$f":"COUNTIF($L$7:$L$500,N13)","v":0},{"$f":"O13/$Q$4","v":0},{"$f":"IF(P13=0,0,(P13*((LOG(P13))/LOG(2))))","v":0},null,null,{"$f":"N13","v":221},{"$f":"COUNTIF(L7:L13,T13)","v":0},{"$f":"U13/(W4-U14)","v":{"$error":"#DIV/0!"}},{"$f":"IF(V13=0,0,(V13*((LOG(V13))/LOG(2))))","v":{"$error":"#DIV/0!"}},null,{"$f":"N13","v":221},{"$f":"COUNTIF(L14:L20,Y13)","v":0},{"$f":"Z13/(AB4-Z14)","v":{"$error":"#DIV/0!"}},{"$f":"IF(AA13=0,0,(AA13*((LOG(AA13))/LOG(2))))","v":{"$error":"#DIV/0!"}},null,{"$f":"N13","v":221},{"$f":"COUNTIF(L21:L28,AD13)","v":0},{"$f":"AE13/(AG4-AE14)","v":0},{"$f":"IF(AF13=0,0,(AF13*((LOG(AF13))/LOG(2))))","v":0},null,{"$f":"N13","v":221},{"$f":"COUNTIF(L29:L35,AI13)","v":0},{"$f":"AJ13/(AL4-AJ14)","v":0},{"$f":"IF(AK13=0,0,(AK13*((LOG(AK13))/LOG(2))))","v":0},null,{"$f":"N13","v":221},{"$f":"COUNTIF(L36:L42,AN13)","v":0},{"$f":"AO13/(AQ4-AO14)","v":{"$error":"#DIV/0!"}},{"$f":"IF(AP13=0,0,(AP13*((LOG(AP13))/LOG(2))))","v":{"$error":"#DIV/0!"}},null,{"$f":"N13","v":221},{"$f":"COUNTIF(L43:L49,AS13)","v":0},{"$f":"AT13/(AV4-AT14)","v":{"$error":"#DIV/0!"}},{"$f":"IF(AU13=0,0,(AU13*((LOG(AU13))/LOG(2))))","v":{"$error":"#DIV/0!"}}]
[21,1896,21,1909,21,1923,null,null,null,null,0,222,null,222,{"$f":"COUNTIF($L$7:$L$500,N14)","v":40},{"$f":"O14/$Q$4","v":0.93023255813953487},{"$f":"IF(P14=0,0,(P14*((LOG(P14))/LOG(2))))","v":-9.7057357967195917E-2},null,null,{"$f":"N14","v":222},{"$f":"COUNTIF(L7:L13,T14)","v":7},null,null,null,{"$f":"N14","v":222},{"$f":"COUNTIF(L14:L20,Y14)","v":7},null,null,null,{"$f":"N14","v":222},{"$f":"COUNTIF(L21:L28,AD14)","v":7},null,null,null,{"$f":"N14","v":222},{"$f":"COUNTIF(L29:L35,AI14)","v":5},null,null,null,{"$f":"N14","v":222},{"$f":"COUNTIF(L36:L42,AN14)","v":7},null,null,null,{"$f":"N14","v":222},{"$f":"COUNTIF(L43:L49,AS14)","v":7}]
[21,2178,21,2190,21,2197,null,null,null,null,0,222,null,null,null,{"$f":"SUM(P7:P14)","v":1},{"$f":"-SUM(Q7:Q14)","v":0.42912234085338885},null,null,null,null,{"$f":"SUM(V7:V14)","v":{"$error":"#DIV/0!"}},{"$f":"-SUM(W7:W14)","v":{"$error":"#DIV/0!"}},null,null,null,{"$f":"SUM(AA7:AA14)","v":{"$error":"#DIV/0!"}},{"$f":"-SUM(AB7:AB14)","v":{"$error":"#DIV/0!"}},null,null,null,{"$f":"SUM(AF7:AF14)","v":1},{"$f":"-SUM(AG7:AG14)","v":0},null,null,null,{"$f":"SUM(AK7:AK14)","v":1},{"$f":"-SUM(AL7:AL14)","v":1},null,null,null,{"$f":"SUM(AP7:AP14)","v":{"$error":"#DIV/0!"}},{"$f":"-SUM(AQ7:AQ14)","v":{"$error":"#DIV/0!"}},null,null,null,{"$f":"SUM(AU7:AU14)","v":{"$error":"#DIV/0!"}},{"$f":"-SUM(AV7:AV14)","v":{"$error":"#DIV/0!"}}]
[21,2415,21,2426,21,2432,null,null,null,null,0,222,null,null,null,"U=",{"$f":"Q15/(LOG(Q4)/LOG(2))","v":7.9082455473912405E-2},null,null,null,null,"U1=",{"$f":"W15/(LOG(W4)/LOG(2))","v":{"$error":"#DIV/0!"}},null,null,null,"U2=",{"$f":"AB15/(LOG(AB4)/LOG(2))","v":{"$error":"#DIV/0!"}},null,null,null,"U3=",{"$f":"AG15/(LOG(AG4)/LOG(2))","v":0},null,null,null,"U4=",{"$f":"AL15/(LOG(AL4)/LOG(2))","v":0.35620718710802218},null,null,null,"U5=",{"$f":"AQ15/(LOG(AQ4)/LOG(2))","v":{"$error":"#DIV/0!"}},null,null,null,"U6=",{"$f":"AV15/(LOG(AV4)/LOG(2))","v":{"$error":"#DIV/0!"}}]
[21,2990,21,2993,21,3000,null,null,null,null,0,222]
[21,4188,21,4193,21,4199,null,null,null,null,0,222]
[21,4345,21,4355,21,4372,null,null,null,null,0,222,null,"Total Target Seq"]
[21,4586,21,4598,21,4610,null,null,null,null,0,222,null,{"$f":"COUNTIF(L7:L49,G3)","v":40},null,7,7,8,7,7,7]
[21,4723,21,4727,21,4732,null,null,null,null,0,222,null,null,null,"% of reinforcement given in 6 equal intervals based on number of trials "]
[21,5049,21,5055,21,5065,null,null,null,null,0,222,null,null,null,"%_1","%_2","%_3","%_4","%_5","%_6"]
[21,5853,21,5861,21,5868,null,null,null,null,0,222,null,null,"target sequence",{"$f":"$G$3","v":222},{"$f":"$G$3","v":222},{"$f":"$G$3","v":222},{"$f":"$G$3","v":222},{"$f":"$G$3","v":222},{"$f":"$G$3","v":222}]
[21,6135,21,6520,21,6549,null,null,null,null,0,222,null,null,"total reinforcement",{"$f":"U14","v":7},{"$f":"Z14","v":7},{"$f":"AE14","v":7},{"$f":"AJ14","v":5},{"$f":"AO14","v":7},{"$f":"AT14","v":7}]
[21,6856,21,6862,21,6867,null,null,null,null,0,222,null,null,"% target"]
[12,7441,23,7454,23,7462,null,null,null,null,0,122,null,null,"CCRF"]
[21,7561,21,7568,21,7577,null,null,null,null,0,222,null,null,"% CCRf"]
[21,7895,21,7899,21,7911,null,null,null,null,0,222,null,null,"average response rate",{"$f":"F13/P20","v":245.71428571428572},{"$f":"(F20-F13)/Q20","v":412.85714285714283},{"$f":"(F28-F20)/R20","v":412.625},{"$f":"(F35-F28)/S20","v":276},{"$f":"(F42-F35)/T20","v":283.71428571428572},{"$f":"(F49-F42)/U20","v":219}]
[12,8114,23,8123,14,8135,null,null,null,null,0,121]
[21,8239,21,8244,21,8252,null,null,null,null,0,222]
[12,8801,23,8813,23,8818,null,null,null,null,0,122]
[21,8921,21,8932,21,8946,null,null,null,null,0,222]
[21,9216,21,9227,21,9239,null,null,null,null,0,222]
[21,9586,21,9591,21,9597,null,null,null,null,0,222]
[21,9830,21,9837,21,9843,null,null,null,null,0,222]
[21,10296,21,10301,21,10309,null,null,null,null,0,222]
[21,10567,21,10574,21,10583,null,null,null,null,0,222]
[21,10712,21,10719,21,10725,null,null,null,null,0,222]
[21,10881,21,10885,21,10890,null,null,null,null,0,222]
[21,11352,21,11361,21,11368,null,null,null,null,0,222]
[21,11568,21,11574,21,11587,null,null,null,null,0,222]
[21,11816,21,11822,21,11829,null,null,null,null,0,222]
[21,11935,21,11939,21,11945,null,null,null,null,0,222]
[21,12178,21,12183,21,12198,null,null,null,null,0,222]
[21,12503,21,12506,21,12521,null,null,null,null,0,222]
[21,12671,21,12677,21,12689,null,null,null,null,0,222]
[21,12851,21,12857,21,12863,null,null,null,null,0,222]
[21,13098,21,13104,21,13109,null,null,null,null,0,222]
[21,13346,21,13355,21,13362,null,null,null,null,1,222]

{"sheet":"!M325B1D.UST","index":7,"n_rows":46,"n_cols":48,"rows_kept":46,"cut":false,"hidden":false,"merged":[[4,39,4,42],[5,39,5,40],[4,44,4,47],[5,44,5,45],[4,24,4,27],[5,24,5,25],[4,29,4,32],[5,29,5,30],[4,34,4,37],[5,34,5,35],[1,1,1,2],[5,13,5,14],[18,13,18,14],[19,13,19,14],[4,19,4,22],[5,19,5,20]]}
["Report for:!M325B1D.UST"]
["Date:","<date>"]
["Hen:","<hen>",null,null,null,"Correct Sequence",{"$f":"Start!J2","v":222},null,null,null,null,null,null,null,null,"Total Sequences in Data",{"$f":"4994-COUNTBLANK(L7:L5000)","v":40},null,null,null,null,"Total Sequences in Block Data",{"$f":"COUNTA(L7:L13)","v":7},null,null,null,"Total Sequences in Block Data",{"$f":"COUNTA(L14:L19)","v":6},null,null,null,"Total Sequences in Block Data",{"$f":"COUNTA(L20:L26)","v":7},null,null,null,"Total Sequences in Block Data",{"$f":"COUNTA(L27:L33)","v":7},null,null,null,"Total Sequences in Block Data",{"$f":"COUNTA(L34:L39)","v":6},null,null,null,"Total Sequences in Block Data",{"$f":"COUNTA(L40:L46)","v":7}]
[null,null,null,null,null,null,null,null,null,null,null,null,null,null,null,"Total Sequences in Summary",{"$f":"SUM(O7:O14)","v":40},null,null,null,null,"Total Sequences in Block Summary",{"$f":"SUM(U7:U14)","v":7},null,null,null,"Total Sequences in Block Summary",{"$f":"SUM(Z7:Z14)","v":6},null,null,null,"Total Sequences in Block Summary",{"$f":"SUM(AE7:AE14)","v":7},null,null,null,"Total Sequences in Block Summary",{"$f":"SUM(AJ7:AJ14)","v":7},null,null,null,"Total Sequences in Block Summary",{"$f":"SUM(AO7:AO14)","v":6},null,null,null,"Total Sequences in Block Summary",{"$f":"SUM(AT7:AT14)","v":7}]
[null,null,null,null,null,null,null,null,null,null,null,null,null,null,null,null,null,null,null,"Block 1",null,null,null,null,"Block 2",null,null,null,null,"Block 3",null,null,null,null,"Block 4",null,null,null,null,"Block 5",null,null,null,null,"Block 6"]
["Sequence\nComponent\n1","Time\n1","Sequence\nComponent\n2","Time\n2","Sequence\nComponent\n3","Time\n3","Sequence\nComponent\n4","Time\n4","Sequence\nComponent\n5","Time\n5","Correct?\n0=No 1=Yes","Sequence",null,"Frequency",null,"Relative Frequency","Variability",null,null,"Frequency",null,"Relative Frequency","Variability",null,"Frequency",null,"Relative Frequency","Variability",null,"Frequency",null,"Relative Frequency","Variability",null,"Frequency",null,"Relative Frequency","Variability",null,"Frequency",null,"Relative Frequency","Variability",null,"Frequency",null,"Relative Frequency","Variability"]
[21,35,21,40,21,46,null,null,null,null,0,222,null,111,{"$f":"COUNTIF($L$7:$L$500,N7)","v":0},{"$f":"O7/$Q$4","v":0},{"$f":"IF(P7=0,0,(P7*((LOG(P7))/LOG(2))))","v":0},null,null,{"$f":"N7","v":111},{"$f":"COUNTIF(L7:L13,T7)","v":0},{"$f":"U7/(W4-U14)","v":{"$error":"#DIV/0!"}},{"$f":"IF(V7=0,0,(V7*((LOG(V7))/LOG(2))))","v":{"$error":"#DIV/0!"}},null,{"$f":"N7","v":111},{"$f":"COUNTIF(L14:L19,Y7)","v":0},{"$f":"Z7/(AB4-Z14)","v":{"$error":"#DIV/0!"}},{"$f":"IF(AA7=0,0,(AA7*((LOG(AA7))/LOG(2))))","v":{"$error":"#DIV/0!"}},null,{"$f":"N7","v":111},{"$f":"COUNTIF(L20:L26,AD7)","v":0},{"$f":"AE7/(AG4-AE14)","v":{"$error":"#DIV/0!"}},{"$f":"IF(AF7=0,0,(AF7*((LOG(AF7))/LOG(2))))","v":{"$error":"#DIV/0!"}},null,{"$f":"N7","v":111},{"$f":"COUNTIF(L27:L33,AI7)","v":0},{"$f":"AJ7/(AL4-AJ14)","v":{"$error":"#DIV/0!"}},{"$f":"IF(AK7=0,0,(AK7*((LOG(AK7))/LOG(2))))","v":{"$error":"#DIV/0!"}},null,{"$f":"N7","v":111},{"$f":"COUNTIF(L34:L39,AN7)","v":0},{"$f":"AO7/(AQ4-AO14)","v":{"$error":"#DIV/0!"}},{"$f":"IF(AP7=0,0,(AP7*((LOG(AP7))/LOG(2))))","v":{"$error":"#DIV/0!"}},null,{"$f":"N7","v":111},{"$f":"COUNTIF(L40:L46,AS7)","v":0},{"$f":"AT7/(AV4-AT14)","v":{"$error":"#DIV/0!"}},{"$f":"IF(AU7=0,0,(AU7*((LOG(AU7))/LOG(2))))","v":{"$error":"#DIV/0!"}}]
[21,185,21,191,21,196,null,null,null,null,0,222,null,112,{"$f":"COUNTIF($L$7:$L$500,N8)","v":0},{"$f":"O8/$Q$4","v":0},{"$f":"IF(P8=0,0,(P8*((LOG(P8))/LOG(2))))","v":0},null,null,{"$f":"N8","v":112},{"$f":"COUNTIF(L7:L13,T8)","v":0},{"$f":"U8/(W4-U14)","v":{"$error":"#DIV/0!"}},{"$f":"IF(V8=0,0,(V8*((LOG(V8))/LOG(2))))","v":{"$error":"#DIV/0!"}},null,{"$f":"N8","v":112},{"$f":"COUNTIF(L14:L19,Y8)","v":0},{"$f":"Z8/(AB4-Z14)","v":{"$error":"#DIV/0!"}},{"$f":"IF(AA8=0,0,(AA8*((LOG(AA8))/LOG(2))))","v":{"$error":"#DIV/0!"}},null,{"$f":"N8","v":112},{"$f":"COUNTIF(L20:L26,AD8)","v":0},{"$f":"AE8/(AG4-AE14)","v":{"$error":"#DIV/0!"}},{"$f":"IF(AF8=0,0,(AF8*((LOG(AF8))/LOG(2))))","v":{"$error":"#DIV/0!"}},null,{"$f":"N8","v":112},{"$f":"COUNTIF(L27:L33,AI8)","v":0},{"$f":"AJ8/(AL4-AJ14)","v":{"$error":"#DIV/0!"}},{"$f":"IF(AK8=0,0,(AK8*((LOG(AK8))/LOG(2))))","v":{"$error":"#DIV/0!"}},null,{"$f":"N8","v":112},{"$f":"COUNTIF(L34:L39,AN8)","v":0},{"$f":"AO8/(AQ4-AO14)","v":{"$error":"#DIV/0!"}},{"$f":"IF(AP8=0,0,(AP8*((LOG(AP8))/LOG(2))))","v":{"$error":"#DIV/0!"}},null,{"$f":"N8","v":112},{"$f":"COUNTIF(L40:L46,AS8)","v":0},{"$f":"AT8/(AV4-AT14)","v":{"$error":"#DIV/0!"}},{"$f":"IF(AU8=0,0,(AU8*((LOG(AU8))/LOG(2))))","v":{"$error":"#DIV/0!"}}]
[21,323,21,325,21,331,null,null,null,null,0,222,null,121,{"$f":"COUNTIF($L$7:$L$500,N9)","v":0},{"$f":"O9/$Q$4","v":0},{"$f":"IF(P9=0,0,(P9*((LOG(P9))/LOG(2))))","v":0},null,null,{"$f":"N9","v":121},{"$f":"COUNTIF(L7:L13,T9)","v":0},{"$f":"U9/(W4-U14)","v":{"$error":"#DIV/0!"}},{"$f":"IF(V9=0,0,(V9*((LOG(V9))/LOG(2))))","v":{"$error":"#DIV/0!"}},null,{"$f":"N9","v":121},{"$f":"COUNTIF(L14:L19,Y9)","v":0},{"$f":"Z9/(AB4-Z14)","v":{"$error":"#DIV/0!"}},{"$f":"IF(AA9=0,0,(AA9*((LOG(AA9))/LOG(2))))","v":{"$error":"#DIV/0!"}},null,{"$f":"N9","v":121},{"$f":"COUNTIF(L20:L26,AD9)","v":0},{"$f":"AE9/(AG4-AE14)","v":{"$error":"#DIV/0!"}},{"$f":"IF(AF9=0,0,(AF9*((LOG(AF9))/LOG(2))))","v":{"$error":"#DIV/0!"}},null,{"$f":"N9","v":121},{"$f":"COUNTIF(L27:L33,AI9)","v":0},{"$f":"AJ9/(AL4-AJ14)","v":{"$error":"#DIV/0!"}},{"$f":"IF(AK9=0,0,(AK9*((LOG(AK9))/LOG(2))))","v":{"$error":"#DIV/0!"}},null,{"$f":"N9","v":121},{"$f":"COUNTIF(L34:L39,AN9)","v":0},{"$f":"AO9/(AQ4-AO14)","v":{"$error":"#DIV/0!"}},{"$f":"IF(AP9=0,0,(AP9*((LOG(AP9))/LOG(2))))","v":{"$error":"#DIV/0!"}},null,{"$f":"N9","v":121},{"$f":"COUNTIF(L40:L46,AS9)","v":0},{"$f":"AT9/(AV4-AT14)","v":{"$error":"#DIV/0!"}},{"$f":"IF(AU9=0,0,(AU9*((LOG(AU9))/LOG(2))))","v":{"$error":"#DIV/0!"}}]
[21,447,21,450,21,457,null,null,null,null,0,222,null,122,{"$f":"COUNTIF($L$7:$L$500,N10)","v":0},{"$f":"O10/$Q$4","v":0},{"$f":"IF(P10=0,0,(P10*((LOG(P10))/LOG(2))))","v":0},null,null,{"$f":"N10","v":122},{"$f":"COUNTIF(L7:L13,T10)","v":0},{"$f":"U10/(W4-U14)","v":{"$error":"#DIV/0!"}},{"$f":"IF(V10=0,0,(V10*((LOG(V10))/LOG(2))))","v":{"$error":"#DIV/0!"}},null,{"$f":"N10","v":122},{"$f":"COUNTIF(L14:L19,Y10)","v":0},{"$f":"Z10/(AB4-Z14)","v":{"$error":"#DIV/0!"}},{"$f":"IF(AA10=0,0,(AA10*((LOG(AA10))/LOG(2))))","v":{"$error":"#DIV/0!"}},null,{"$f":"N10","v":122},{"$f":"COUNTIF(L20:L26,AD10)","v":0},{"$f":"AE10/(AG4-AE14)","v":{"$error":"#DIV/0!"}},{"$f":"IF(AF10=0,0,(AF10*((LOG(AF10))/LOG(2))))","v":{"$error":"#DIV/0!"}},null,{"$f":"N10","v":122},{"$f":"COUNTIF(L27:L33,AI10)","v":0},{"$f":"AJ10/(AL4-AJ14)","v":{"$error":"#DIV/0!"}},{"$f":"IF(AK10=0,0,(AK10*((LOG(AK10))/LOG(2))))","v":{"$error":"#DIV/0!"}},null,{"$f":"N10","v":122},{"$f":"COUNTIF(L34:L39,AN10)","v":0},{"$f":"AO10/(AQ4-AO14)","v":{"$error":"#DIV/0!"}},{"$f":"IF(AP10=0,0,(AP10*((LOG(AP10))/LOG(2))))","v":{"$error":"#DIV/0!"}},null,{"$f":"N10","v":122},{"$f":"COUNTIF(L40:L46,AS10)","v":0},{"$f":"AT10/(AV4-AT14)","v":{"$error":"#DIV/0!"}},{"$f":"IF(AU10=0,0,(AU10*((LOG(AU10))/LOG(2))))","v":{"$error":"#DIV/0!"}}]
[21,650,21,662,21,667,null,null,null,null,0,222,null,211,{"$f":"COUNTIF($L$7:$L$500,N11)","v":0},{"$f":"O11/$Q$4","v":0},{"$f":"IF(P11=0,0,(P11*((LOG(P11))/LOG(2))))","v":0},null,null,{"$f":"N11","v":211},{"$f":"COUNTIF(L7:L13,T11)","v":0},{"$f":"U11/(W4-U14)","v":{"$error":"#DIV/0!"}},{"$f":"IF(V11=0,0,(V11*((LOG(V11))/LOG(2))))","v":{"$error":"#DIV/0!"}},null,{"$f":"N11","v":211},{"$f":"COUNTIF(L14:L19,Y11)","v":0},{"$f":"Z11/(AB4-Z14)","v":{"$error":"#DIV/0!"}},{"$f":"IF(AA11=0,0,(AA11*((LOG(AA11))/LOG(2))))","v":{"$error":"#DIV/0!"}},null,{"$f":"N11","v":211},{"$f":"COUNTIF(L20:L26,AD11)","v":0},{"$f":"AE11/(AG4-AE14)","v":{"$error":"#DIV/0!"}},{"$f":"IF(AF11=0,0,(AF11*((LOG(AF11))/LOG(2))))","v":{"$error":"#DIV/0!"}},null,{"$f":"N11","v":211},{"$f":"COUNTIF(L27:L33,AI11)","v":0},{"$f":"AJ11/(AL4-AJ14)","v":{"$error":"#DIV/0!"}},{"$f":"IF(AK11=0,0,(AK11*((LOG(AK11))/LOG(2))))","v":{"$error":"#DIV/0!"}},null,{"$f":"N11","v":211},{"$f":"COUNTIF(L34:L39,AN11)","v":0},{"$f":"AO11/(AQ4-AO14)","v":{"$error":"#DIV/0!"}},{"$f":"IF(AP11=0,0,(AP11*((LOG(AP11))/LOG(2))))","v":{"$error":"#DIV/0!"}},null,{"$f":"N11","v":211},{"$f":"COUNTIF(L40:L46,AS11)","v":0},{"$f":"AT11/(AV4-AT14)","v":{"$error":"#DIV/0!"}},{"$f":"IF(AU11=0,0,(AU11*((LOG(AU11))/LOG(2))))","v":{"$error":"#DIV/0!"}}]
[21,801,21,802,21,808,null,null,null,null,0,222,null,212,{"$f":"COUNTIF($L$7:$L$500,N12)","v":0},{"$f":"O12/$Q$4","v":0},{"$f":"IF(P12=0,0,(P12*((LOG(P12))/LOG(2))))","v":0},null,null,{"$f":"N12","v":212},{"$f":"COUNTIF(L7:L13,T12)","v":0},{"$f":"U12/(W4-U14)","v":{"$error":"#DIV/0!"}},{"$f":"IF(V12=0,0,(V12*((LOG(V12))/LOG(2))))","v":{"$error":"#DIV/0!"}},null,{"$f":"N12","v":212},{"$f":"COUNTIF(L14:L19,Y12)","v":0},{"$f":"Z12/(AB4-Z14)","v":{"$error":"#DIV/0!"}},{"$f":"IF(AA12=0,0,(AA12*((LOG(AA12))/LOG(2))))","v":{"$error":"#DIV/0!"}},null,{"$f":"N12","v":212},{"$f":"COUNTIF(L20:L26,AD12)","v":0},{"$f":"AE12/(AG4-AE14)","v":{"$error":"#DIV/0!"}},{"$f":"IF(AF12=0,0,(AF12*((LOG(AF12))/LOG(2))))","v":{"$error":"#DIV/0!"}},null,{"$f":"N12","v":212},{"$f":"COUNTIF(L27:L33,AI12)","v":0},{"$f":"AJ12/(AL4-AJ14)","v":{"$error":"#DIV/0!"}},{"$f":"IF(AK12=0,0,(AK12*((LOG(AK12))/LOG(2))))","v":{"$error":"#DIV/0!"}},null,{"$f":"N12","v":212},{"$f":"COUNTIF(L34:L39,AN12)","v":0},{"$f":"AO12/(AQ4-AO14)","v":{"$error":"#DIV/0!"}},{"$f":"IF(AP12=0,0,(AP12*((LOG(AP12))/LOG(2))))","v":{"$error":"#DIV/0!"}},null,{"$f":"N12","v":212},{"$f":"COUNTIF(L40:L46,AS12)","v":0},{"$f":"AT12/(AV4-AT14)","v":{"$error":"#DIV/0!"}},{"$f":"IF(AU12=0,0,(AU12*((LOG(AU12))/LOG(2))))","v":{"$error":"#DIV/0!"}}]
[21,928,21,939,21,945,null,null,null,null,0,222,null,221,{"$f":"COUNTIF($L$7:$L$500,N13)","v":0},{"$f":"O13/$Q$4","v":0},{"$f":"IF(P13=0,0,(P13*((LOG(P13))/LOG(2))))","v":0},null,null,{"$f":"N13","v":221},{"$f":"COUNTIF(L7:L13,T13)","v":0},{"$f":"U13/(W4-U14)","v":{"$error":"#DIV/0!"}},{"$f":"IF(V13=0,0,(V13*((LOG(V13))/LOG(2))))","v":{"$error":"#DIV/0!"}},null,{"$f":"N13","v":221},{"$f":"COUNTIF(L14:L19,Y13)","v":0},{"$f":"Z13/(AB4-Z14)","v":{"$error":"#DIV/0!"}},{"$f":"IF(AA13=0,0,(AA13*((LOG(AA13))/LOG(2))))","v":{"$error":"#DIV/0!"}},null,{"$f":"N13","v":221},{"$f":"COUNTIF(L20:L26,AD13)","v":0},{"$f":"AE13/(AG4-AE14)","v":{"$error":"#DIV/0!"}},{"$f":"IF(AF13=0,0,(AF13*((LOG(AF13))/LOG(2))))","v":{"$error":"#DIV/0!"}},null,{"$f":"N13","v":221},{"$f":"COUNTIF(L27:L33,AI13)","v":0},{"$f":"AJ13/(AL4-AJ14)","v":{"$error":"#DIV/0!"}},{"$f":"IF(AK13=0,0,(AK13*((LOG(AK13))/LOG(2))))","v":{"$error":"#DIV/0!"}},null,{"$f":"N13","v":221},{"$f":"COUNTIF(L34:L39,AN13)","v":0},{"$f":"AO13/(AQ4-AO14)","v":{"$error":"#DIV/0!"}},{"$f":"IF(AP13=0,0,(AP13*((LOG(AP13))/LOG(2))))","v":{"$error":"#DIV/0!"}},null,{"$f":"N13","v":221},{"$f":"COUNTIF(L40:L46,AS13)","v":0},{"$f":"AT13/(AV4-AT14)","v":{"$error":"#DIV/0!"}},{"$f":"IF(AU13=0,0,(AU13*((LOG(AU13))/LOG(2))))","v":{"$error":"#DIV/0!"}}]
[21,1112,21,1117,21,1124,null,null,null,null,0,222,null,222,{"$f":"COUNTIF($L$7:$L$500,N14)","v":40},{"$f":"O14/$Q$4","v":1},{"$f":"IF(P14=0,0,(P14*((LOG(P14))/LOG(2))))","v":0},null,null,{"$f":"N14","v":222},{"$f":"COUNTIF(L7:L13,T14)","v":7},null,null,null,{"$f":"N14","v":222},{"$f":"COUNTIF(L14:L19,Y14)","v":6},null,null,null,{"$f":"N14","v":222},{"$f":"COUNTIF(L20:L26,AD14)","v":7},null,null,null,{"$f":"N14","v":222},{"$f":"COUNTIF(L27:L33,AI14)","v":7},null,null,null,{"$f":"N14","v":222},{"$f":"COUNTIF(L34:L39,AN14)","v":6},null,null,null,{"$f":"N14","v":222},{"$f":"COUNTIF(L40:L46,AS14)","v":7}]
[21,1241,21,1247,21,1254,null,null,null,null,0,222,null,null,null,{"$f":"SUM(P7:P14)","v":1},{"$f":"-SUM(Q7:Q14)","v":0},null,null,null,null,{"$f":"SUM(V7:V14)","v":{"$error":"#DIV/0!"}},{"$f":"-SUM(W7:W14)","v":{"$error":"#DIV/0!"}},null,null,null,{"$f":"SUM(AA7:AA14)","v":{"$error":"#DIV/0!"}},{"$f":"-SUM(AB7:AB14)","v":{"$error":"#DIV/0!"}},null,null,null,{"$f":"SUM(AF7:AF14)","v":{"$error":"#DIV/0!"}},{"$f":"-SUM(AG7:AG14)","v":{"$error":"#DIV/0!"}},null,null,null,{"$f":"SUM(AK7:AK14)","v":{"$error":"#DIV/0!"}},{"$f":"-SUM(AL7:AL14)","v":{"$error":"#DIV/0!"}},null,null,null,{"$f":"SUM(AP7:AP14)","v":{"$error":"#DIV/0!"}},{"$f":"-SUM(AQ7:AQ14)","v":{"$error":"#DIV/0!"}},null,null,null,{"$f":"SUM(AU7:AU14)","v":{"$error":"#DIV/0!"}},{"$f":"-SUM(AV7:AV14)","v":{"$error":"#DIV/0!"}}]
[21,1398,21,1405,21,1411,null,null,null,null,0,222,null,null,null,"U=",{"$f":"Q15/(LOG(Q4)/LOG(2))","v":0},null,null,null,null,"U1=",{"$f":"W15/(LOG(W4)/LOG(2))","v":{"$error":"#DIV/0!"}},null,null,null,"U2=",{"$f":"AB15/(LOG(AB4)/LOG(2))","v":{"$error":"#DIV/0!"}},null,null,null,"U3=",{"$f":"AG15/(LOG(AG4)/LOG(2))","v":{"$error":"#DIV/0!"}},null,null,null,"U4=",{"$f":"AL15/(LOG(AL4)/LOG(2))","v":{"$error":"#DIV/0!"}},null,null,null,"U5=",{"$f":"AQ15/(LOG(AQ4)/LOG(2))","v":{"$error":"#DIV/0!"}},null,null,null,"U6=",{"$f":"AV15/(LOG(AV4)/LOG(2))","v":{"$error":"#DIV/0!"}}]
[21,1609,21,1615,21,1624,null,null,null,null,0,222]
[21,1834,21,1839,21,1846,null,null,null,null,0,222]
[21,1987,21,1992,21,1995,null,null,null,null,0,222,null,"Total Target Seq"]
[21,2166,21,2171,21,2177,null,null,null,null,0,222,null,{"$f":"COUNTIF(L7:L46,G3)","v":40},null,7,6,7,7,6,7]
[21,2294,21,2300,21,2306,null,null,null,null,0,222,null,null,null,"% of reinforcement given in 6 equal intervals based on number of trials "]
[21,2455,21,2460,21,2475,null,null,null,null,0,222,null,null,null,"%_1","%_2","%_3","%_4","%_5","%_6"]
[21,2581,21,2590,21,2602,null,null,null,null,0,222,null,null,"target sequence",{"$f":"$G$3","v":222},{"$f":"$G$3","v":222},{"$f":"$G$3","v":222},{"$f":"$G$3","v":222},{"$f":"$G$3","v":222},{"$f":"$G$3","v":222}]
[21,2777,21,2782,21,2791,null,null,null,null,0,222,null,null,"total reinforcement",{"$f":"U14","v":7},{"$f":"Z14","v":6},{"$f":"AE14","v":7},{"$f":"AJ14","v":7},{"$f":"AO14","v":6},{"$f":"AT14","v":7}]
[21,2931,21,2936,21,2943,null,null,null,null,0,222,null,null,"% target"]
[21,3122,21,3130,21,3136,null,null,null,null,0,222,null,null,"CCRF"]
[21,3456,21,3465,21,3471,null,null,null,null,0,222,null,null,"% CCRf"]
[21,3604,21,3609,21,3615,null,null,null,null,0,222,null,null,"average response rate",{"$f":"F13/P20","v":135},{"$f":"(F19-F13)/Q20","v":175},{"$f":"(F26-F19)/R20","v":163},{"$f":"(F33-F26)/S20","v":189.42857142857142},{"$f":"(F39-F33)/T20","v":169.5},{"$f":"(F46-F39)/U20","v":167.14285714285714}]
[21,3751,21,3754,21,3760,null,null,null,null,0,222]
[21,3951,21,3953,21,3963,null,null,null,null,0,222]
[21,4092,21,4099,21,4105,null,null,null,null,0,222]
[21,4280,21,4286,21,4292,null,null,null,null,0,222]
[21,4449,21,4456,21,4462,null,null,null,null,0,222]
[21,4620,21,4622,21,4628,null,null,null,null,0,222]
[21,4777,21,4783,21,4788,null,null,null,null,0,222]
[21,4898,21,4910,21,4917,null,null,null,null,0,222]
[21,5115,21,5128,21,5135,null,null,null,null,0,222]
[21,5310,21,5312,21,5323,null,null,null,null,0,222]
[21,5468,21,5473,21,5479,null,null,null,null,0,222]
[21,5708,21,5715,21,5721,null,null,null,null,0,222]
[21,5864,21,5869,21,5875,null,null,null,null,0,222]
[21,5998,21,6005,21,6012,null,null,null,null,0,222]
[21,6174,21,6178,21,6180,null,null,null,null,0,222]
[21,6293,21,6299,21,6305,null,null,null,null,0,222]
[21,6484,21,6499,21,6504,null,null,null,null,0,222]
[21,6640,21,6643,21,6649,null,null,null,null,1,222]

{"sheet":"!M326B4D.UST","index":8,"n_rows":48,"n_cols":48,"rows_kept":48,"cut":false,"hidden":false,"merged":[[4,39,4,42],[5,39,5,40],[4,44,4,47],[5,44,5,45],[4,24,4,27],[5,24,5,25],[4,29,4,32],[5,29,5,30],[4,34,4,37],[5,34,5,35],[1,1,1,2],[5,13,5,14],[18,13,18,14],[19,13,19,14],[4,19,4,22],[5,19,5,20]]}
["Report for:!M326B4D.UST"]
["Date:","<date>"]
["Hen:","<hen>",null,null,null,"Correct Sequence",{"$f":"Start!J2","v":222},null,null,null,null,null,null,null,null,"Total Sequences in Data",{"$f":"4994-COUNTBLANK(L7:L5000)","v":42},null,null,null,null,"Total Sequences in Block Data",{"$f":"COUNTA(L7:L13)","v":7},null,null,null,"Total Sequences in Block Data",{"$f":"COUNTA(L14:L20)","v":7},null,null,null,"Total Sequences in Block Data",{"$f":"COUNTA(L21:L27)","v":7},null,null,null,"Total Sequences in Block Data",{"$f":"COUNTA(L28:L34)","v":7},null,null,null,"Total Sequences in Block Data",{"$f":"COUNTA(L35:L41)","v":7},null,null,null,"Total Sequences in Block Data",{"$f":"COUNTA(L42:L48)","v":7}]
[null,null,null,null,null,null,null,null,null,null,null,null,null,null,null,"Total Sequences in Summary",{"$f":"SUM(O7:O14)","v":42},null,null,null,null,"Total Sequences in Block Summary",{"$f":"SUM(U7:U14)","v":7},null,null,null,"Total Sequences in Block Summary",{"$f":"SUM(Z7:Z14)","v":7},null,null,null,"Total Sequences in Block Summary",{"$f":"SUM(AE7:AE14)","v":7},null,null,null,"Total Sequences in Block Summary",{"$f":"SUM(AJ7:AJ14)","v":7},null,null,null,"Total Sequences in Block Summary",{"$f":"SUM(AO7:AO14)","v":7},null,null,null,"Total Sequences in Block Summary",{"$f":"SUM(AT7:AT14)","v":7}]
[null,null,null,null,null,null,null,null,null,null,null,null,null,null,null,null,null,null,null,"Block 1",null,null,null,null,"Block 2",null,null,null,null,"Block 3",null,null,null,null,"Block 4",null,null,null,null,"Block 5",null,null,null,null,"Block 6"]
["Sequence\nComponent\n1","Time\n1","Sequence\nComponent\n2","Time\n2","Sequence\nComponent\n3","Time\n3","Sequence\nComponent\n4","Time\n4","Sequence\nComponent\n5","Time\n5","Correct?\n0=No 1=Yes","Sequence",null,"Frequency",null,"Relative Frequency","Variability",null,null,"Frequency",null,"Relative Frequency","Variability",null,"Frequency",null,"Relative Frequency","Variability",null,"Frequency",null,"Relative Frequency","Variability",null,"Frequency",null,"Relative Frequency","Variability",null,"Frequency",null,"Relative Frequency","Variability",null,"Frequency",null,"Relative Frequency","Variability"]
[21,86,21,90,21,95,null,null,null,null,0,222,null,111,{"$f":"COUNTIF($L$7:$L$500,N7)","v":1},{"$f":"O7/$Q$4","v":2.3809523809523808E-2},{"$f":"IF(P7=0,0,(P7*((LOG(P7))/LOG(2))))","v":-0.12838851006616095},null,null,{"$f":"N7","v":111},{"$f":"COUNTIF(L7:L13,T7)","v":0},{"$f":"U7/(W4-U14)","v":{"$error":"#DIV/0!"}},{"$f":"IF(V7=0,0,(V7*((LOG(V7))/LOG(2))))","v":{"$error":"#DIV/0!"}},null,{"$f":"N7","v":111},{"$f":"COUNTIF(L14:L20,Y7)","v":0},{"$f":"Z7/(AB4-Z14)","v":{"$error":"#DIV/0!"}},{"$f":"IF(AA7=0,0,(AA7*((LOG(AA7))/LOG(2))))","v":{"$error":"#DIV/0!"}},null,{"$f":"N7","v":111},{"$f":"COUNTIF(L21:L27,AD7)","v":1},{"$f":"AE7/(AG4-AE14)","v":1},{"$f":"IF(AF7=0,0,(AF7*((LOG(AF7))/LOG(2))))","v":0},null,{"$f":"N7","v":111},{"$f":"COUNTIF(L28:L34,AI7)","v":0},{"$f":"AJ7/(AL4-AJ14)","v":{"$error":"#DIV/0!"}},{"$f":"IF(AK7=0,0,(AK7*((LOG(AK7))/LOG(2))))","v":{"$error":"#DIV/0!"}},null,{"$f":"N7","v":111},{"$f":"COUNTIF(L35:L41,AN7)","v":0},{"$f":"AO7/(AQ4-AO14)","v":0},{"$f":"IF(AP7=0,0,(AP7*((LOG(AP7))/LOG(2))))","v":0},null,{"$f":"N7","v":111},{"$f":"COUNTIF(L42:L48,AS7)","v":0},{"$f":"AT7/(AV4-AT14)","v":{"$error":"#DIV/0!"}},{"$f":"IF(AU7=0,0,(AU7*((LOG(AU7))/LOG(2))))","v":{"$error":"#DIV/0!"}}]
[21,260,21,263,21,269,null,null,null,null,0,222,null,112,{"$f":"COUNTIF($L$7:$L$500,N8)","v":0},{"$f":"O8/$Q$4","v":0},{"$f":"IF(P8=0,0,(P8*((LOG(P8))/LOG(2))))","v":0},null,null,{"$f":"N8","v":112},{"$f":"COUNTIF(L7:L13,T8)","v":0},{"$f":"U8/(W4-U14)","v":{"$error":"#DIV/0!"}},{"$f":"IF(V8=0,0,(V8*((LOG(V8))/LOG(2))))","v":{"$error":"#DIV/0!"}},null,{"$f":"N8","v":112},{"$f":"COUNTIF(L14:L20,Y8)","v":0},{"$f":"Z8/(AB4-Z14)","v":{"$error":"#DIV/0!"}},{"$f":"IF(AA8=0,0,(AA8*((LOG(AA8))/LOG(2))))","v":{"$error":"#DIV/0!"}},null,{"$f":"N8","v":112},{"$f":"COUNTIF(L21:L27,AD8)","v":0},{"$f":"AE8/(AG4-AE14)","v":0},{"$f":"IF(AF8=0,0,(AF8*((LOG(AF8))/LOG(2))))","v":0},null,{"$f":"N8","v":112},{"$f":"COUNTIF(L28:L34,AI8)","v":0},{"$f":"AJ8/(AL4-AJ14)","v":{"$error":"#DIV/0!"}},{"$f":"IF(AK8=0,0,(AK8*((LOG(AK8))/LOG(2))))","v":{"$error":"#DIV/0!"}},null,{"$f":"N8","v":112},{"$f":"COUNTIF(L35:L41,AN8)","v":0},{"$f":"AO8/(AQ4-AO14)","v":0},{"$f":"IF(AP8=0,0,(AP8*((LOG(AP8))/LOG(2))))","v":0},null,{"$f":"N8","v":112},{"$f":"COUNTIF(L42:L48,AS8)","v":0},{"$f":"AT8/(AV4-AT14)","v":{"$error":"#DIV/0!"}},{"$f":"IF(AU8=0,0,(AU8*((LOG(AU8))/LOG(2))))","v":{"$error":"#DIV/0!"}}]
[21,402,21,407,21,414,null,null,null,null,0,222,null,121,{"$f":"COUNTIF($L$7:$L$500,N9)","v":0},{"$f":"O9/$Q$4","v":0},{"$f":"IF(P9=0,0,(P9*((LOG(P9))/LOG(2))))","v":0},null,null,{"$f":"N9","v":121},{"$f":"COUNTIF(L7:L13,T9)","v":0},{"$f":"U9/(W4-U14)","v":{"$error":"#DIV/0!"}},{"$f":"IF(V9=0,0,(V9*((LOG(V9))/LOG(2))))","v":{"$error":"#DIV/0!"}},null,{"$f":"N9","v":121},{"$f":"COUNTIF(L14:L20,Y9)","v":0},{"$f":"Z9/(AB4-Z14)","v":{"$error":"#DIV/0!"}},{"$f":"IF(AA9=0,0,(AA9*((LOG(AA9))/LOG(2))))","v":{"$error":"#DIV/0!"}},null,{"$f":"N9","v":121},{"$f":"COUNTIF(L21:L27,AD9)","v":0},{"$f":"AE9/(AG4-AE14)","v":0},{"$f":"IF(AF9=0,0,(AF9*((LOG(AF9))/LOG(2))))","v":0},null,{"$f":"N9","v":121},{"$f":"COUNTIF(L28:L34,AI9)","v":0},{"$f":"AJ9/(AL4-AJ14)","v":{"$error":"#DIV/0!"}},{"$f":"IF(AK9=0,0,(AK9*((LOG(AK9))/LOG(2))))","v":{"$error":"#DIV/0!"}},null,{"$f":"N9","v":121},{"$f":"COUNTIF(L35:L41,AN9)","v":0},{"$f":"AO9/(AQ4-AO14)","v":0},{"$f":"IF(AP9=0,0,(AP9*((LOG(AP9))/LOG(2))))","v":0},null,{"$f":"N9","v":121},{"$f":"COUNTIF(L42:L48,AS9)","v":0},{"$f":"AT9/(AV4-AT14)","v":{"$error":"#DIV/0!"}},{"$f":"IF(AU9=0,0,(AU9*((LOG(AU9))/LOG(2))))","v":{"$error":"#DIV/0!"}}]
[21,582,21,586,21,592,null,null,null,null,0,222,null,122,{"$f":"COUNTIF($L$7:$L$500,N10)","v":0},{"$f":"O10/$Q$4","v":0},{"$f":"IF(P10=0,0,(P10*((LOG(P10))/LOG(2))))","v":0},null,null,{"$f":"N10","v":122},{"$f":"COUNTIF(L7:L13,T10)","v":0},{"$f":"U10/(W4-U14)","v":{"$error":"#DIV/0!"}},{"$f":"IF(V10=0,0,(V10*((LOG(V10))/LOG(2))))","v":{"$error":"#DIV/0!"}},null,{"$f":"N10","v":122},{"$f":"COUNTIF(L14:L20,Y10)","v":0},{"$f":"Z10/(AB4-Z14)","v":{"$error":"#DIV/0!"}},{"$f":"IF(AA10=0,0,(AA10*((LOG(AA10))/LOG(2))))","v":{"$error":"#DIV/0!"}},null,{"$f":"N10","v":122},{"$f":"COUNTIF(L21:L27,AD10)","v":0},{"$f":"AE10/(AG4-AE14)","v":0},{"$f":"IF(AF10=0,0,(AF10*((LOG(AF10))/LOG(2))))","v":0},null,{"$f":"N10","v":122},{"$f":"COUNTIF(L28:L34,AI10)","v":0},{"$f":"AJ10/(AL4-AJ14)","v":{"$error":"#DIV/0!"}},{"$f":"IF(AK10=0,0,(AK10*((LOG(AK10))/LOG(2))))","v":{"$error":"#DIV/0!"}},null,{"$f":"N10","v":122},{"$f":"COUNTIF(L35:L41,AN10)","v":0},{"$f":"AO10/(AQ4-AO14)","v":0},{"$f":"IF(AP10=0,0,(AP10*((LOG(AP10))/LOG(2))))","v":0},null,{"$f":"N10","v":122},{"$f":"COUNTIF(L42:L48,AS10)","v":0},{"$f":"AT10/(AV4-AT14)","v":{"$error":"#DIV/0!"}},{"$f":"IF(AU10=0,0,(AU10*((LOG(AU10))/LOG(2))))","v":{"$error":"#DIV/0!"}}]
[21,735,21,743,21,749,null,null,null,null,0,222,null,211,{"$f":"COUNTIF($L$7:$L$500,N11)","v":0},{"$f":"O11/$Q$4","v":0},{"$f":"IF(P11=0,0,(P11*((LOG(P11))/LOG(2))))","v":0},null,null,{"$f":"N11","v":211},{"$f":"COUNTIF(L7:L13,T11)","v":0},{"$f":"U11/(W4-U14)","v":{"$error":"#DIV/0!"}},{"$f":"IF(V11=0,0,(V11*((LOG(V11))/LOG(2))))","v":{"$error":"#DIV/0!"}},null,{"$f":"N11","v":211},{"$f":"COUNTIF(L14:L20,Y11)","v":0},{"$f":"Z11/(AB4-Z14)","v":{"$error":"#DIV/0!"}},{"$f":"IF(AA11=0,0,(AA11*((LOG(AA11))/LOG(2))))","v":{"$error":"#DIV/0!"}},null,{"$f":"N11","v":211},{"$f":"COUNTIF(L21:L27,AD11)","v":0},{"$f":"AE11/(AG4-AE14)","v":0},{"$f":"IF(AF11=0,0,(AF11*((LOG(AF11))/LOG(2))))","v":0},null,{"$f":"N11","v":211},{"$f":"COUNTIF(L28:L34,AI11)","v":0},{"$f":"AJ11/(AL4-AJ14)","v":{"$error":"#DIV/0!"}},{"$f":"IF(AK11=0,0,(AK11*((LOG(AK11))/LOG(2))))","v":{"$error":"#DIV/0!"}},null,{"$f":"N11","v":211},{"$f":"COUNTIF(L35:L41,AN11)","v":0},{"$f":"AO11/(AQ4-AO14)","v":0},{"$f":"IF(AP11=0,0,(AP11*((LOG(AP11))/LOG(2))))","v":0},null,{"$f":"N11","v":211},{"$f":"COUNTIF(L42:L48,AS11)","v":0},{"$f":"AT11/(AV4-AT14)","v":{"$error":"#DIV/0!"}},{"$f":"IF(AU11=0,0,(AU11*((LOG(AU11))/LOG(2))))","v":{"$error":"#DIV/0!"}}]
[21,953,21,957,21,963,null,null,null,null,0,222,null,212,{"$f":"COUNTIF($L$7:$L$500,N12)","v":0},{"$f":"O12/$Q$4","v":0},{"$f":"IF(P12=0,0,(P12*((LOG(P12))/LOG(2))))","v":0},null,null,{"$f":"N12","v":212},{"$f":"COUNTIF(L7:L13,T12)","v":0},{"$f":"U12/(W4-U14)","v":{"$error":"#DIV/0!"}},{"$f":"IF(V12=0,0,(V12*((LOG(V12))/LOG(2))))","v":{"$error":"#DIV/0!"}},null,{"$f":"N12","v":212},{"$f":"COUNTIF(L14:L20,Y12)","v":0},{"$f":"Z12/(AB4-Z14)","v":{"$error":"#DIV/0!"}},{"$f":"IF(AA12=0,0,(AA12*((LOG(AA12))/LOG(2))))","v":{"$error":"#DIV/0!"}},null,{"$f":"N12","v":212},{"$f":"COUNTIF(L21:L27,AD12)","v":0},{"$f":"AE12/(AG4-AE14)","v":0},{"$f":"IF(AF12=0,0,(AF12*((LOG(AF12))/LOG(2))))","v":0},null,{"$f":"N12","v":212},{"$f":"COUNTIF(L28:L34,AI12)","v":0},{"$f":"AJ12/(AL4-AJ14)","v":{"$error":"#DIV/0!"}},{"$f":"IF(AK12=0,0,(AK12*((LOG(AK12))/LOG(2))))","v":{"$error":"#DIV/0!"}},null,{"$f":"N12","v":212},{"$f":"COUNTIF(L35:L41,AN12)","v":0},{"$f":"AO12/(AQ4-AO14)","v":0},{"$f":"IF(AP12=0,0,(AP12*((LOG(AP12))/LOG(2))))","v":0},null,{"$f":"N12","v":212},{"$f":"COUNTIF(L42:L48,AS12)","v":0},{"$f":"AT12/(AV4-AT14)","v":{"$error":"#DIV/0!"}},{"$f":"IF(AU12=0,0,(AU12*((LOG(AU12))/LOG(2))))","v":{"$error":"#DIV/0!"}}]
[21,1078,21,1084,21,1093,null,null,null,null,0,222,null,221,{"$f":"COUNTIF($L$7:$L$500,N13)","v":1},{"$f":"O13/$Q$4","v":2.3809523809523808E-2},{"$f":"IF(P13=0,0,(P13*((LOG(P13))/LOG(2))))","v":-0.12838851006616095},null,null,{"$f":"N13","v":221},{"$f":"COUNTIF(L7:L13,T13)","v":0},{"$f":"U13/(W4-U14)","v":{"$error":"#DIV/0!"}},{"$f":"IF(V13=0,0,(V13*((LOG(V13))/LOG(2))))","v":{"$error":"#DIV/0!"}},null,{"$f":"N13","v":221},{"$f":"COUNTIF(L14:L20,Y13)","v":0},{"$f":"Z13/(AB4-Z14)","v":{"$error":"#DIV/0!"}},{"$f":"IF(AA13=0,0,(AA13*((LOG(AA13))/LOG(2))))","v":{"$error":"#DIV/0!"}},null,{"$f":"N13","v":221},{"$f":"COUNTIF(L21:L27,AD13)","v":0},{"$f":"AE13/(AG4-AE14)","v":0},{"$f":"IF(AF13=0,0,(AF13*((LOG(AF13))/LOG(2))))","v":0},null,{"$f":"N13","v":221},{"$f":"COUNTIF(L28:L34,AI13)","v":0},{"$f":"AJ13/(AL4-AJ14)","v":{"$error":"#DIV/0!"}},{"$f":"IF(AK13=0,0,(AK13*((LOG(AK13))/LOG(2))))","v":{"$error":"#DIV/0!"}},null,{"$f":"N13","v":221},{"$f":"COUNTIF(L35:L41,AN13)","v":1},{"$f":"AO13/(AQ4-AO14)","v":1},{"$f":"IF(AP13=0,0,(AP13*((LOG(AP13))/LOG(2))))","v":0},null,{"$f":"N13","v":221},{"$f":"COUNTIF(L42:L48,AS13)","v":0},{"$f":"AT13/(AV4-AT14)","v":{"$error":"#DIV/0!"}},{"$f":"IF(AU13=0,0,(AU13*((LOG(AU13))/LOG(2))))","v":{"$error":"#DIV/0!"}}]
[21,1315,21,1321,21,1327,null,null,null,null,0,222,null,222,{"$f":"COUNTIF($L$7:$L$500,N14)","v":40},{"$f":"O14/$Q$4","v":0.95238095238095233},{"$f":"IF(P14=0,0,(P14*((LOG(P14))/LOG(2))))","v":-6.7037455134664775E-2},null,null,{"$f":"N14","v":222},{"$f":"COUNTIF(L7:L13,T14)","v":7},null,null,null,{"$f":"N14","v":222},{"$f":"COUNTIF(L14:L20,Y14)","v":7},null,null,null,{"$f":"N14","v":222},{"$f":"COUNTIF(L21:L27,AD14)","v":6},null,null,null,{"$f":"N14","v":222},{"$f":"COUNTIF(L28:L34,AI14)","v":7},null,null,null,{"$f":"N14","v":222},{"$f":"COUNTIF(L35:L41,AN14)","v":6},null,null,null,{"$f":"N14","v":222},{"$f":"COUNTIF(L42:L48,AS14)","v":7}]
[21,1424,21,1433,21,1448,null,null,null,null,0,222,null,null,null,{"$f":"SUM(P7:P14)","v":1},{"$f":"-SUM(Q7:Q14)","v":0.3238144752669867},null,null,null,null,{"$f":"SUM(V7:V14)","v":{"$error":"#DIV/0!"}},{"$f":"-SUM(W7:W14)","v":{"$error":"#DIV/0!"}},null,null,null,{"$f":"SUM(AA7:AA14)","v":{"$error":"#DIV/0!"}},{"$f":"-SUM(AB7:AB14)","v":{"$error":"#DIV/0!"}},null,null,null,{"$f":"SUM(AF7:AF14)","v":1},{"$f":"-SUM(AG7:AG14)","v":0},null,null,null,{"$f":"SUM(AK7:AK14)","v":{"$error":"#DIV/0!"}},{"$f":"-SUM(AL7:AL14)","v":{"$error":"#DIV/0!"}},null,null,null,{"$f":"SUM(AP7:AP14)","v":1},{"$f":"-SUM(AQ7:AQ14)","v":0},null,null,null,{"$f":"SUM(AU7:AU14)","v":{"$error":"#DIV/0!"}},{"$f":"-SUM(AV7:AV14)","v":{"$error":"#DIV/0!"}}]
[21,1555,21,1562,21,1570,null,null,null,null,0,222,null,null,null,"U=",{"$f":"Q15/(LOG(Q4)/LOG(2))","v":6.0051078206022804E-2},null,null,null,null,"U1=",{"$f":"W15/(LOG(W4)/LOG(2))","v":{"$error":"#DIV/0!"}},null,null,null,"U2=",{"$f":"AB15/(LOG(AB4)/LOG(2))","v":{"$error":"#DIV/0!"}},null,null,null,"U3=",{"$f":"AG15/(LOG(AG4)/LOG(2))","v":0},null,null,null,"U4=",{"$f":"AL15/(LOG(AL4)/LOG(2))","v":{"$error":"#DIV/0!"}},null,null,null,"U5=",{"$f":"AQ15/(LOG(AQ4)/LOG(2))","v":0},null,null,null,"U6=",{"$f":"AV15/(LOG(AV4)/LOG(2))","v":{"$error":"#DIV/0!"}}]
[21,1836,21,1845,21,1851,null,null,null,null,0,222]
[21,1977,21,1982,21,1988,null,null,null,null,0,222]
[21,2322,21,2327,21,2332,null,null,null,null,0,222,null,"Total Target Seq"]
[21,2419,21,2438,21,2444,null,null,null,null,0,222,null,{"$f":"COUNTIF(L7:L48,G3)","v":40},null,7,7,7,7,7,7]
[21,2562,21,2570,21,2575,null,null,null,null,0,222,null,null,null,"% of reinforcement given in 6 equal intervals based on number of trials "]
[21,2681,21,2687,21,2692,null,null,null,null,0,222,null,null,null,"%_1","%_2","%_3","%_4","%_5","%_6"]
[21,2823,21,2825,21,2829,null,null,null,null,0,222,null,null,"target sequence",{"$f":"$G$3","v":222},{"$f":"$G$3","v":222},{"$f":"$G$3","v":222},{"$f":"$G$3","v":222},{"$f":"$G$3","v":222},{"$f":"$G$3","v":222}]
[21,2944,21,2950,21,2956,null,null,null,null,0,222,null,null,"total reinforcement",{"$f":"U14","v":7},{"$f":"Z14","v":7},{"$f":"AE14","v":6},{"$f":"AJ14","v":7},{"$f":"AO14","v":6},{"$f":"AT14","v":7}]
[21,3156,21,3169,21,3171,null,null,null,null,0,222,null,null,"% target"]
[12,3366,14,3372,14,3382,null,null,null,null,0,111,null,null,"CCRF"]
[21,3479,21,3499,21,3504,null,null,null,null,0,222,null,null,"% CCRf"]
[21,3607,21,3612,21,3621,null,null,null,null,0,222,null,null,"average response rate",{"$f":"F13/P20","v":156.14285714285714},{"$f":"(F20-F13)/Q20","v":193},{"$f":"(F27-F20)/R20","v":151.42857142857142},{"$f":"(F34-F27)/S20","v":174.85714285714286},{"$f":"(F41-F34)/T20","v":152.71428571428572},{"$f":"(F48-F41)/U20","v":207.28571428571428}]
[21,3783,21,3798,21,3806,null,null,null,null,0,222]
[21,3912,21,3920,21,3931,null,null,null,null,0,222]
[21,4079,21,4087,21,4092,null,null,null,null,0,222]
[21,4192,21,4206,21,4220,null,null,null,null,0,222]
[21,4442,21,4447,21,4452,null,null,null,null,0,222]
[21,4719,21,4723,21,4728,null,null,null,null,0,222]
[21,4856,21,4861,21,4866,null,null,null,null,0,222]
[21,5009,21,5015,21,5020,null,null,null,null,0,222]
[21,5205,21,5208,12,5223,null,null,null,null,0,221]
[21,5319,21,5338,21,5346,null,null,null,null,0,222]
[21,5455,21,5461,21,5466,null,null,null,null,0,222]
[21,5617,21,5623,21,5628,null,null,null,null,0,222]
[21,5787,21,5791,21,5797,null,null,null,null,0,222]
[21,5985,21,5990,21,6001,null,null,null,null,0,222]
[21,6123,21,6135,21,6142,null,null,null,null,0,222]
[21,6301,21,6306,21,6313,null,null,null,null,0,222]
[21,6536,21,6539,21,6549,null,null,null,null,0,222]
[21,6772,21,6775,21,6780,null,null,null,null,0,222]
[21,6894,21,6901,21,6907,null,null,null,null,0,222]
[21,7239,21,7242,21,7248,null,null,null,null,1,222]

{"sheet":"!M327A5D.UST","index":9,"n_rows":47,"n_cols":48,"rows_kept":47,"cut":false,"hidden":false,"merged":[[4,39,4,42],[5,39,5,40],[4,44,4,47],[5,44,5,45],[4,24,4,27],[5,24,5,25],[4,29,4,32],[5,29,5,30],[4,34,4,37],[5,34,5,35],[1,1,1,2],[5,13,5,14],[18,13,18,14],[19,13,19,14],[4,19,4,22],[5,19,5,20]]}
["Report for:!M327A5D.UST"]
["Date:","<date>"]
["Hen:","<hen>",null,null,null,"Correct Sequence",{"$f":"Start!J2","v":222},null,null,null,null,null,null,null,null,"Total Sequences in Data",{"$f":"4994-COUNTBLANK(L7:L5000)","v":41},null,null,null,null,"Total Sequences in Block Data",{"$f":"COUNTA(L7:L13)","v":7},null,null,null,"Total Sequences in Block Data",{"$f":"COUNTA(L14:L20)","v":7},null,null,null,"Total Sequences in Block Data",{"$f":"COUNTA(L21:L26)","v":6},null,null,null,"Total Sequences in Block Data",{"$f":"COUNTA(L27:L33)","v":7},null,null,null,"Total Sequences in Block Data",{"$f":"COUNTA(L34:L40)","v":7},null,null,null,"Total Sequences in Block Data",{"$f":"COUNTA(L41:L47)","v":7}]
[null,null,null,null,null,null,null,null,null,null,null,null,null,null,null,"Total Sequences in Summary",{"$f":"SUM(O7:O14)","v":41},null,null,null,null,"Total Sequences in Block Summary",{"$f":"SUM(U7:U14)","v":7},null,null,null,"Total Sequences in Block Summary",{"$f":"SUM(Z7:Z14)","v":7},null,null,null,"Total Sequences in Block Summary",{"$f":"SUM(AE7:AE14)","v":6},null,null,null,"Total Sequences in Block Summary",{"$f":"SUM(AJ7:AJ14)","v":7},null,null,null,"Total Sequences in Block Summary",{"$f":"SUM(AO7:AO14)","v":7},null,null,null,"Total Sequences in Block Summary",{"$f":"SUM(AT7:AT14)","v":7}]
[null,null,null,null,null,null,null,null,null,null,null,null,null,null,null,null,null,null,null,"Block 1",null,null,null,null,"Block 2",null,null,null,null,"Block 3",null,null,null,null,"Block 4",null,null,null,null,"Block 5",null,null,null,null,"Block 6"]
["Sequence\nComponent\n1","Time\n1","Sequence\nComponent\n2","Time\n2","Sequence\nComponent\n3","Time\n3","Sequence\nComponent\n4","Time\n4","Sequence\nComponent\n5","Time\n5","Correct?\n0=No 1=Yes","Sequence",null,"Frequency",null,"Relative Frequency","Variability",null,null,"Frequency",null,"Relative Frequency","Variability",null,"Frequency",null,"Relative Frequency","Variability",null,"Frequency",null,"Relative Frequency","Variability",null,"Frequency",null,"Relative Frequency","Variability",null,"Frequency",null,"Relative Frequency","Variability",null,"Frequency",null,"Relative Frequency","Variability"]
[21,21,21,27,21,32,null,null,null,null,0,222,null,111,{"$f":"COUNTIF($L$7:$L$500,N7)","v":0},{"$f":"O7/$Q$4","v":0},{"$f":"IF(P7=0,0,(P7*((LOG(P7))/LOG(2))))","v":0},null,null,{"$f":"N7","v":111},{"$f":"COUNTIF(L7:L13,T7)","v":0},{"$f":"U7/(W4-U14)","v":0},{"$f":"IF(V7=0,0,(V7*((LOG(V7))/LOG(2))))","v":0},null,{"$f":"N7","v":111},{"$f":"COUNTIF(L14:L20,Y7)","v":0},{"$f":"Z7/(AB4-Z14)","v":{"$error":"#DIV/0!"}},{"$f":"IF(AA7=0,0,(AA7*((LOG(AA7))/LOG(2))))","v":{"$error":"#DIV/0!"}},null,{"$f":"N7","v":111},{"$f":"COUNTIF(L21:L26,AD7)","v":0},{"$f":"AE7/(AG4-AE14)","v":{"$error":"#DIV/0!"}},{"$f":"IF(AF7=0,0,(AF7*((LOG(AF7))/LOG(2))))","v":{"$error":"#DIV/0!"}},null,{"$f":"N7","v":111},{"$f":"COUNTIF(L27:L33,AI7)","v":0},{"$f":"AJ7/(AL4-AJ14)","v":{"$error":"#DIV/0!"}},{"$f":"IF(AK7=0,0,(AK7*((LOG(AK7))/LOG(2))))","v":{"$error":"#DIV/0!"}},null,{"$f":"N7","v":111},{"$f":"COUNTIF(L34:L40,AN7)","v":0},{"$f":"AO7/(AQ4-AO14)","v":{"$error":"#DIV/0!"}},{"$f":"IF(AP7=0,0,(AP7*((LOG(AP7))/LOG(2))))","v":{"$error":"#DIV/0!"}},null,{"$f":"N7","v":111},{"$f":"COUNTIF(L41:L47,AS7)","v":0},{"$f":"AT7/(AV4-AT14)","v":{"$error":"#DIV/0!"}},{"$f":"IF(AU7=0,0,(AU7*((LOG(AU7))/LOG(2))))","v":{"$error":"#DIV/0!"}}]
[21,151,21,159,21,178,null,null,null,null,0,222,null,112,{"$f":"COUNTIF($L$7:$L$500,N8)","v":0},{"$f":"O8/$Q$4","v":0},{"$f":"IF(P8=0,0,(P8*((LOG(P8))/LOG(2))))","v":0},null,null,{"$f":"N8","v":112},{"$f":"COUNTIF(L7:L13,T8)","v":0},{"$f":"U8/(W4-U14)","v":0},{"$f":"IF(V8=0,0,(V8*((LOG(V8))/LOG(2))))","v":0},null,{"$f":"N8","v":112},{"$f":"COUNTIF(L14:L20,Y8)","v":0},{"$f":"Z8/(AB4-Z14)","v":{"$error":"#DIV/0!"}},{"$f":"IF(AA8=0,0,(AA8*((LOG(AA8))/LOG(2))))","v":{"$error":"#DIV/0!"}},null,{"$f":"N8","v":112},{"$f":"COUNTIF(L21:L26,AD8)","v":0},{"$f":"AE8/(AG4-AE14)","v":{"$error":"#DIV/0!"}},{"$f":"IF(AF8=0,0,(AF8*((LOG(AF8))/LOG(2))))","v":{"$error":"#DIV/0!"}},null,{"$f":"N8","v":112},{"$f":"COUNTIF(L27:L33,AI8)","v":0},{"$f":"AJ8/(AL4-AJ14)","v":{"$error":"#DIV/0!"}},{"$f":"IF(AK8=0,0,(AK8*((LOG(AK8))/LOG(2))))","v":{"$error":"#DIV/0!"}},null,{"$f":"N8","v":112},{"$f":"COUNTIF(L34:L40,AN8)","v":0},{"$f":"AO8/(AQ4-AO14)","v":{"$error":"#DIV/0!"}},{"$f":"IF(AP8=0,0,(AP8*((LOG(AP8))/LOG(2))))","v":{"$error":"#DIV/0!"}},null,{"$f":"N8","v":112},{"$f":"COUNTIF(L41:L47,AS8)","v":0},{"$f":"AT8/(AV4-AT14)","v":{"$error":"#DIV/0!"}},{"$f":"IF(AU8=0,0,(AU8*((LOG(AU8))/LOG(2))))","v":{"$error":"#DIV/0!"}}]
[12,318,23,328,23,339,null,null,null,null,0,122,null,121,{"$f":"COUNTIF($L$7:$L$500,N9)","v":0},{"$f":"O9/$Q$4","v":0},{"$f":"IF(P9=0,0,(P9*((LOG(P9))/LOG(2))))","v":0},null,null,{"$f":"N9","v":121},{"$f":"COUNTIF(L7:L13,T9)","v":0},{"$f":"U9/(W4-U14)","v":0},{"$f":"IF(V9=0,0,(V9*((LOG(V9))/LOG(2))))","v":0},null,{"$f":"N9","v":121},{"$f":"COUNTIF(L14:L20,Y9)","v":0},{"$f":"Z9/(AB4-Z14)","v":{"$error":"#DIV/0!"}},{"$f":"IF(AA9=0,0,(AA9*((LOG(AA9))/LOG(2))))","v":{"$error":"#DIV/0!"}},null,{"$f":"N9","v":121},{"$f":"COUNTIF(L21:L26,AD9)","v":0},{"$f":"AE9/(AG4-AE14)","v":{"$error":"#DIV/0!"}},{"$f":"IF(AF9=0,0,(AF9*((LOG(AF9))/LOG(2))))","v":{"$error":"#DIV/0!"}},null,{"$f":"N9","v":121},{"$f":"COUNTIF(L27:L33,AI9)","v":0},{"$f":"AJ9/(AL4-AJ14)","v":{"$error":"#DIV/0!"}},{"$f":"IF(AK9=0,0,(AK9*((LOG(AK9))/LOG(2))))","v":{"$error":"#DIV/0!"}},null,{"$f":"N9","v":121},{"$f":"COUNTIF(L34:L40,AN9)","v":0},{"$f":"AO9/(AQ4-AO14)","v":{"$error":"#DIV/0!"}},{"$f":"IF(AP9=0,0,(AP9*((LOG(AP9))/LOG(2))))","v":{"$error":"#DIV/0!"}},null,{"$f":"N9","v":121},{"$f":"COUNTIF(L41:L47,AS9)","v":0},{"$f":"AT9/(AV4-AT14)","v":{"$error":"#DIV/0!"}},{"$f":"IF(AU9=0,0,(AU9*((LOG(AU9))/LOG(2))))","v":{"$error":"#DIV/0!"}}]
[21,434,21,440,21,447,null,null,null,null,0,222,null,122,{"$f":"COUNTIF($L$7:$L$500,N10)","v":1},{"$f":"O10/$Q$4","v":2.4390243902439025E-2},{"$f":"IF(P10=0,0,(P10*((LOG(P10))/LOG(2))))","v":-0.13067200011263619},null,null,{"$f":"N10","v":122},{"$f":"COUNTIF(L7:L13,T10)","v":1},{"$f":"U10/(W4-U14)","v":1},{"$f":"IF(V10=0,0,(V10*((LOG(V10))/LOG(2))))","v":0},null,{"$f":"N10","v":122},{"$f":"COUNTIF(L14:L20,Y10)","v":0},{"$f":"Z10/(AB4-Z14)","v":{"$error":"#DIV/0!"}},{"$f":"IF(AA10=0,0,(AA10*((LOG(AA10))/LOG(2))))","v":{"$error":"#DIV/0!"}},null,{"$f":"N10","v":122},{"$f":"COUNTIF(L21:L26,AD10)","v":0},{"$f":"AE10/(AG4-AE14)","v":{"$error":"#DIV/0!"}},{"$f":"IF(AF10=0,0,(AF10*((LOG(AF10))/LOG(2))))","v":{"$error":"#DIV/0!"}},null,{"$f":"N10","v":122},{"$f":"COUNTIF(L27:L33,AI10)","v":0},{"$f":"AJ10/(AL4-AJ14)","v":{"$error":"#DIV/0!"}},{"$f":"IF(AK10=0,0,(AK10*((LOG(AK10))/LOG(2))))","v":{"$error":"#DIV/0!"}},null,{"$f":"N10","v":122},{"$f":"COUNTIF(L34:L40,AN10)","v":0},{"$f":"AO10/(AQ4-AO14)","v":{"$error":"#DIV/0!"}},{"$f":"IF(AP10=0,0,(AP10*((LOG(AP10))/LOG(2))))","v":{"$error":"#DIV/0!"}},null,{"$f":"N10","v":122},{"$f":"COUNTIF(L41:L47,AS10)","v":0},{"$f":"AT10/(AV4-AT14)","v":{"$error":"#DIV/0!"}},{"$f":"IF(AU10=0,0,(AU10*((LOG(AU10))/LOG(2))))","v":{"$error":"#DIV/0!"}}]
[21,572,21,581,21,595,null,null,null,null,0,222,null,211,{"$f":"COUNTIF($L$7:$L$500,N11)","v":0},{"$f":"O11/$Q$4","v":0},{"$f":"IF(P11=0,0,(P11*((LOG(P11))/LOG(2))))","v":0},null,null,{"$f":"N11","v":211},{"$f":"COUNTIF(L7:L13,T11)","v":0},{"$f":"U11/(W4-U14)","v":0},{"$f":"IF(V11=0,0,(V11*((LOG(V11))/LOG(2))))","v":0},null,{"$f":"N11","v":211},{"$f":"COUNTIF(L14:L20,Y11)","v":0},{"$f":"Z11/(AB4-Z14)","v":{"$error":"#DIV/0!"}},{"$f":"IF(AA11=0,0,(AA11*((LOG(AA11))/LOG(2))))","v":{"$error":"#DIV/0!"}},null,{"$f":"N11","v":211},{"$f":"COUNTIF(L21:L26,AD11)","v":0},{"$f":"AE11/(AG4-AE14)","v":{"$error":"#DIV/0!"}},{"$f":"IF(AF11=0,0,(AF11*((LOG(AF11))/LOG(2))))","v":{"$error":"#DIV/0!"}},null,{"$f":"N11","v":211},{"$f":"COUNTIF(L27:L33,AI11)","v":0},{"$f":"AJ11/(AL4-AJ14)","v":{"$error":"#DIV/0!"}},{"$f":"IF(AK11=0,0,(AK11*((LOG(AK11))/LOG(2))))","v":{"$error":"#DIV/0!"}},null,{"$f":"N11","v":211},{"$f":"COUNTIF(L34:L40,AN11)","v":0},{"$f":"AO11/(AQ4-AO14)","v":{"$error":"#DIV/0!"}},{"$f":"IF(AP11=0,0,(AP11*((LOG(AP11))/LOG(2))))","v":{"$error":"#DIV/0!"}},null,{"$f":"N11","v":211},{"$f":"COUNTIF(L41:L47,AS11)","v":0},{"$f":"AT11/(AV4-AT14)","v":{"$error":"#DIV/0!"}},{"$f":"IF(AU11=0,0,(AU11*((LOG(AU11))/LOG(2))))","v":{"$error":"#DIV/0!"}}]
[21,743,21,759,21,765,null,null,null,null,0,222,null,212,{"$f":"COUNTIF($L$7:$L$500,N12)","v":0},{"$f":"O12/$Q$4","v":0},{"$f":"IF(P12=0,0,(P12*((LOG(P12))/LOG(2))))","v":0},null,null,{"$f":"N12","v":212},{"$f":"COUNTIF(L7:L13,T12)","v":0},{"$f":"U12/(W4-U14)","v":0},{"$f":"IF(V12=0,0,(V12*((LOG(V12))/LOG(2))))","v":0},null,{"$f":"N12","v":212},{"$f":"COUNTIF(L14:L20,Y12)","v":0},{"$f":"Z12/(AB4-Z14)","v":{"$error":"#DIV/0!"}},{"$f":"IF(AA12=0,0,(AA12*((LOG(AA12))/LOG(2))))","v":{"$error":"#DIV/0!"}},null,{"$f":"N12","v":212},{"$f":"COUNTIF(L21:L26,AD12)","v":0},{"$f":"AE12/(AG4-AE14)","v":{"$error":"#DIV/0!"}},{"$f":"IF(AF12=0,0,(AF12*((LOG(AF12))/LOG(2))))","v":{"$error":"#DIV/0!"}},null,{"$f":"N12","v":212},{"$f":"COUNTIF(L27:L33,AI12)","v":0},{"$f":"AJ12/(AL4-AJ14)","v":{"$error":"#DIV/0!"}},{"$f":"IF(AK12=0,0,(AK12*((LOG(AK12))/LOG(2))))","v":{"$error":"#DIV/0!"}},null,{"$f":"N12","v":212},{"$f":"COUNTIF(L34:L40,AN12)","v":0},{"$f":"AO12/(AQ4-AO14)","v":{"$error":"#DIV/0!"}},{"$f":"IF(AP12=0,0,(AP12*((LOG(AP12))/LOG(2))))","v":{"$error":"#DIV/0!"}},null,{"$f":"N12","v":212},{"$f":"COUNTIF(L41:L47,AS12)","v":0},{"$f":"AT12/(AV4-AT14)","v":{"$error":"#DIV/0!"}},{"$f":"IF(AU12=0,0,(AU12*((LOG(AU12))/LOG(2))))","v":{"$error":"#DIV/0!"}}]
[21,986,21,989,21,997,null,null,null,null,0,222,null,221,{"$f":"COUNTIF($L$7:$L$500,N13)","v":0},{"$f":"O13/$Q$4","v":0},{"$f":"IF(P13=0,0,(P13*((LOG(P13))/LOG(2))))","v":0},null,null,{"$f":"N13","v":221},{"$f":"COUNTIF(L7:L13,T13)","v":0},{"$f":"U13/(W4-U14)","v":0},{"$f":"IF(V13=0,0,(V13*((LOG(V13))/LOG(2))))","v":0},null,{"$f":"N13","v":221},{"$f":"COUNTIF(L14:L20,Y13)","v":0},{"$f":"Z13/(AB4-Z14)","v":{"$error":"#DIV/0!"}},{"$f":"IF(AA13=0,0,(AA13*((LOG(AA13))/LOG(2))))","v":{"$error":"#DIV/0!"}},null,{"$f":"N13","v":221},{"$f":"COUNTIF(L21:L26,AD13)","v":0},{"$f":"AE13/(AG4-AE14)","v":{"$error":"#DIV/0!"}},{"$f":"IF(AF13=0,0,(AF13*((LOG(AF13))/LOG(2))))","v":{"$error":"#DIV/0!"}},null,{"$f":"N13","v":221},{"$f":"COUNTIF(L27:L33,AI13)","v":0},{"$f":"AJ13/(AL4-AJ14)","v":{"$error":"#DIV/0!"}},{"$f":"IF(AK13=0,0,(AK13*((LOG(AK13))/LOG(2))))","v":{"$error":"#DIV/0!"}},null,{"$f":"N13","v":221},{"$f":"COUNTIF(L34:L40,AN13)","v":0},{"$f":"AO13/(AQ4-AO14)","v":{"$error":"#DIV/0!"}},{"$f":"IF(AP13=0,0,(AP13*((LOG(AP13))/LOG(2))))","v":{"$error":"#DIV/0!"}},null,{"$f":"N13","v":221},{"$f":"COUNTIF(L41:L47,AS13)","v":0},{"$f":"AT13/(AV4-AT14)","v":{"$error":"#DIV/0!"}},{"$f":"IF(AU13=0,0,(AU13*((LOG(AU13))/LOG(2))))","v":{"$error":"#DIV/0!"}}]
[21,1198,21,1202,21,1219,null,null,null,null,0,222,null,222,{"$f":"COUNTIF($L$7:$L$500,N14)","v":40},{"$f":"O14/$Q$4","v":0.97560975609756095},{"$f":"IF(P14=0,0,(P14*((LOG(P14))/LOG(2))))","v":-3.4755033883630611E-2},null,null,{"$f":"N14","v":222},{"$f":"COUNTIF(L7:L13,T14)","v":6},null,null,null,{"$f":"N14","v":222},{"$f":"COUNTIF(L14:L20,Y14)","v":7},null,null,null,{"$f":"N14","v":222},{"$f":"COUNTIF(L21:L26,AD14)","v":6},null,null,null,{"$f":"N14","v":222},{"$f":"COUNTIF(L27:L33,AI14)","v":7},null,null,null,{"$f":"N14","v":222},{"$f":"COUNTIF(L34:L40,AN14)","v":7},null,null,null,{"$f":"N14","v":222},{"$f":"COUNTIF(L41:L47,AS14)","v":7}]
[21,1418,21,1426,21,1454,null,null,null,null,0,222,null,null,null,{"$f":"SUM(P7:P14)","v":1},{"$f":"-SUM(Q7:Q14)","v":0.16542703399626679},null,null,null,null,{"$f":"SUM(V7:V14)","v":1},{"$f":"-SUM(W7:W14)","v":0},null,null,null,{"$f":"SUM(AA7:AA14)","v":{"$error":"#DIV/0!"}},{"$f":"-SUM(AB7:AB14)","v":{"$error":"#DIV/0!"}},null,null,null,{"$f":"SUM(AF7:AF14)","v":{"$error":"#DIV/0!"}},{"$f":"-SUM(AG7:AG14)","v":{"$error":"#DIV/0!"}},null,null,null,{"$f":"SUM(AK7:AK14)","v":{"$error":"#DIV/0!"}},{"$f":"-SUM(AL7:AL14)","v":{"$error":"#DIV/0!"}},null,null,null,{"$f":"SUM(AP7:AP14)","v":{"$error":"#DIV/0!"}},{"$f":"-SUM(AQ7:AQ14)","v":{"$error":"#DIV/0!"}},null,null,null,{"$f":"SUM(AU7:AU14)","v":{"$error":"#DIV/0!"}},{"$f":"-SUM(AV7:AV14)","v":{"$error":"#DIV/0!"}}]
[21,1609,21,1612,21,1619,null,null,null,null,0,222,null,null,null,"U=",{"$f":"Q15/(LOG(Q4)/LOG(2))","v":3.0877354779509855E-2},null,null,null,null,"U1=",{"$f":"W15/(LOG(W4)/LOG(2))","v":0},null,null,null,"U2=",{"$f":"AB15/(LOG(AB4)/LOG(2))","v":{"$error":"#DIV/0!"}},null,null,null,"U3=",{"$f":"AG15/(LOG(AG4)/LOG(2))","v":{"$error":"#DIV/0!"}},null,null,null,"U4=",{"$f":"AL15/(LOG(AL4)/LOG(2))","v":{"$error":"#DIV/0!"}},null,null,null,"U5=",{"$f":"AQ15/(LOG(AQ4)/LOG(2))","v":{"$error":"#DIV/0!"}},null,null,null,"U6=",{"$f":"AV15/(LOG(AV4)/LOG(2))","v":{"$error":"#DIV/0!"}}]
[21,1856,21,1862,21,1868,null,null,null,null,0,222]
[21,2074,21,2079,21,2087,null,null,null,null,0,222]
[21,2321,21,2325,21,2329,null,null,null,null,0,222,null,"Total Target Seq"]
[21,2510,21,2517,21,2525,null,null,null,null,0,222,null,{"$f":"COUNTIF(L7:L47,G3)","v":40},null,7,7,6,7,7,7]
[21,2670,21,2675,21,2688,null,null,null,null,0,222,null,null,null,"% of reinforcement given in 6 equal intervals based on number of trials "]
[21,2988,21,2997,21,3009,null,null,null,null,0,222,null,null,null,"%_1","%_2","%_3","%_4","%_5","%_6"]
[21,3154,21,3162,21,3170,null,null,null,null,0,222,null,null,"target sequence",{"$f":"$G$3","v":222},{"$f":"$G$3","v":222},{"$f":"$G$3","v":222},{"$f":"$G$3","v":222},{"$f":"$G$3","v":222},{"$f":"$G$3","v":222}]
[21,3444,21,3450,21,3456,null,null,null,null,0,222,null,null,"total reinforcement",{"$f":"U14","v":6},{"$f":"Z14","v":7},{"$f":"AE14","v":6},{"$f":"AJ14","v":7},{"$f":"AO14","v":7},{"$f":"AT14","v":7}]
[21,3604,21,3609,21,3618,null,null,null,null,0,222,null,null,"% target"]
[21,3812,21,3823,21,3840,null,null,null,null,0,222,null,null,"CCRF"]
[21,4027,21,4036,21,4042,null,null,null,null,0,222,null,null,"% CCRf"]
[21,4289,21,4294,21,4300,null,null,null,null,0,222,null,null,"average response rate",{"$f":"F13/P20","v":142.42857142857142},{"$f":"(F20-F13)/Q20","v":218.28571428571428},{"$f":"(F26-F20)/R20","v":219.16666666666666},{"$f":"(F33-F26)/S20","v":217.71428571428572},{"$f":"(F40-F33)/T20","v":223.42857142857142},{"$f":"(F47-F40)/U20","v":215.57142857142858}]
[21,4526,21,4537,21,4543,null,null,null,null,0,222]
[21,4748,21,4756,21,4762,null,null,null,null,0,222]
[21,4959,21,4967,21,4975,null,null,null,null,0,222]
[21,5125,21,5134,21,5140,null,null,null,null,0,222]
[21,5351,21,5359,21,5364,null,null,null,null,0,222]
[21,5566,21,5572,21,5582,null,null,null,null,0,222]
[21,5785,21,5791,21,5802,null,null,null,null,0,222]
[21,6007,21,6010,21,6018,null,null,null,null,0,222]
[21,6213,21,6221,21,6234,null,null,null,null,0,222]
[21,6420,21,6430,21,6436,null,null,null,null,0,222]
[21,6647,21,6656,21,6662,null,null,null,null,0,222]
[21,6917,21,6923,21,6928,null,null,null,null,0,222]
[21,7109,21,7115,21,7121,null,null,null,null,0,222]
[21,7370,21,7378,21,7384,null,null,null,null,0,222]
[21,7526,21,7534,21,7539,null,null,null,null,0,222]
[21,7808,21,7815,21,7821,null,null,null,null,0,222]
[21,7991,21,8002,21,8008,null,null,null,null,0,222]
[21,8176,21,8187,21,8193,null,null,null,null,0,222]
[21,8426,21,8432,21,8437,null,null,null,null,1,222]

{"sheet":"!M328A5D.UST","index":10,"n_rows":50,"n_cols":48,"rows_kept":50,"cut":false,"hidden":false,"merged":[[4,39,4,42],[5,39,5,40],[4,44,4,47],[5,44,5,45],[4,24,4,27],[5,24,5,25],[4,29,4,32],[5,29,5,30],[4,34,4,37],[5,34,5,35],[1,1,1,2],[5,13,5,14],[18,13,18,14],[19,13,19,14],[4,19,4,22],[5,19,5,20]]}
["Report for:!M328A5D.UST"]
["Date:","<date>"]
["Hen:","<hen>",null,null,null,"Correct Sequence",{"$f":"Start!J2","v":222},null,null,null,null,null,null,null,null,"Total Sequences in Data",{"$f":"4994-COUNTBLANK(L7:L5000)","v":44},null,null,null,null,"Total Sequences in Block Data",{"$f":"COUNTA(L7:L13)","v":7},null,null,null,"Total Sequences in Block Data",{"$f":"COUNTA(L14:L21)","v":8},null,null,null,"Total Sequences in Block Data",{"$f":"COUNTA(L22:L28)","v":7},null,null,null,"Total Sequences in Block Data",{"$f":"COUNTA(L29:L35)","v":7},null,null,null,"Total Sequences in Block Data",{"$f":"COUNTA(L36:L43)","v":8},null,null,null,"Total Sequences in Block Data",{"$f":"COUNTA(L44:L50)","v":7}]
[null,null,null,null,null,null,null,null,null,null,null,null,null,null,null,"Total Sequences in Summary",{"$f":"SUM(O7:O14)","v":44},null,null,null,null,"Total Sequences in Block Summary",{"$f":"SUM(U7:U14)","v":7},null,null,null,"Total Sequences in Block Summary",{"$f":"SUM(Z7:Z14)","v":8},null,null,null,"Total Sequences in Block Summary",{"$f":"SUM(AE7:AE14)","v":7},null,null,null,"Total Sequences in Block Summary",{"$f":"SUM(AJ7:AJ14)","v":7},null,null,null,"Total Sequences in Block Summary",{"$f":"SUM(AO7:AO14)","v":8},null,null,null,"Total Sequences in Block Summary",{"$f":"SUM(AT7:AT14)","v":7}]
[null,null,null,null,null,null,null,null,null,null,null,null,null,null,null,null,null,null,null,"Block 1",null,null,null,null,"Block 2",null,null,null,null,"Block 3",null,null,null,null,"Block 4",null,null,null,null,"Block 5",null,null,null,null,"Block 6"]
["Sequence\nComponent\n1","Time\n1","Sequence\nComponent\n2","Time\n2","Sequence\nComponent\n3","Time\n3","Sequence\nComponent\n4","Time\n4","Sequence\nComponent\n5","Time\n5","Correct?\n0=No 1=Yes","Sequence",null,"Frequency",null,"Relative Frequency","Variability",null,null,"Frequency",null,"Relative Frequency","Variability",null,"Frequency",null,"Relative Frequency","Variability",null,"Frequency",null,"Relative Frequency","Variability",null,"Frequency",null,"Relative Frequency","Variability",null,"Frequency",null,"Relative Frequency","Variability",null,"Frequency",null,"Relative Frequency","Variability"]
[12,17,23,27,23,32,null,null,null,null,0,122,null,111,{"$f":"COUNTIF($L$7:$L$500,N7)","v":0},{"$f":"O7/$Q$4","v":0},{"$f":"IF(P7=0,0,(P7*((LOG(P7))/LOG(2))))","v":0},null,null,{"$f":"N7","v":111},{"$f":"COUNTIF(L7:L13,T7)","v":0},{"$f":"U7/(W4-U14)","v":0},{"$f":"IF(V7=0,0,(V7*((LOG(V7))/LOG(2))))","v":0},null,{"$f":"N7","v":111},{"$f":"COUNTIF(L14:L21,Y7)","v":0},{"$f":"Z7/(AB4-Z14)","v":0},{"$f":"IF(AA7=0,0,(AA7*((LOG(AA7))/LOG(2))))","v":0},null,{"$f":"N7","v":111},{"$f":"COUNTIF(L22:L28,AD7)","v":0},{"$f":"AE7/(AG4-AE14)","v":{"$error":"#DIV/0!"}},{"$f":"IF(AF7=0,0,(AF7*((LOG(AF7))/LOG(2))))","v":{"$error":"#DIV/0!"}},null,{"$f":"N7","v":111},{"$f":"COUNTIF(L29:L35,AI7)","v":0},{"$f":"AJ7/(AL4-AJ14)","v":{"$error":"#DIV/0!"}},{"$f":"IF(AK7=0,0,(AK7*((LOG(AK7))/LOG(2))))","v":{"$error":"#DIV/0!"}},null,{"$f":"N7","v":111},{"$f":"COUNTIF(L36:L43,AN7)","v":0},{"$f":"AO7/(AQ4-AO14)","v":{"$error":"#DIV/0!"}},{"$f":"IF(AP7=0,0,(AP7*((LOG(AP7))/LOG(2))))","v":{"$error":"#DIV/0!"}},null,{"$f":"N7","v":111},{"$f":"COUNTIF(L44:L50,AS7)","v":0},{"$f":"AT7/(AV4-AT14)","v":0},{"$f":"IF(AU7=0,0,(AU7*((LOG(AU7))/LOG(2))))","v":0}]
[21,157,21,165,21,170,null,null,null,null,0,222,null,112,{"$f":"COUNTIF($L$7:$L$500,N8)","v":0},{"$f":"O8/$Q$4","v":0},{"$f":"IF(P8=0,0,(P8*((LOG(P8))/LOG(2))))","v":0},null,null,{"$f":"N8","v":112},{"$f":"COUNTIF(L7:L13,T8)","v":0},{"$f":"U8/(W4-U14)","v":0},{"$f":"IF(V8=0,0,(V8*((LOG(V8))/LOG(2))))","v":0},null,{"$f":"N8","v":112},{"$f":"COUNTIF(L14:L21,Y8)","v":0},{"$f":"Z8/(AB4-Z14)","v":0},{"$f":"IF(AA8=0,0,(AA8*((LOG(AA8))/LOG(2))))","v":0},null,{"$f":"N8","v":112},{"$f":"COUNTIF(L22:L28,AD8)","v":0},{"$f":"AE8/(AG4-AE14)","v":{"$error":"#DIV/0!"}},{"$f":"IF(AF8=0,0,(AF8*((LOG(AF8))/LOG(2))))","v":{"$error":"#DIV/0!"}},null,{"$f":"N8","v":112},{"$f":"COUNTIF(L29:L35,AI8)","v":0},{"$f":"AJ8/(AL4-AJ14)","v":{"$error":"#DIV/0!"}},{"$f":"IF(AK8=0,0,(AK8*((LOG(AK8))/LOG(2))))","v":{"$error":"#DIV/0!"}},null,{"$f":"N8","v":112},{"$f":"COUNTIF(L36:L43,AN8)","v":0},{"$f":"AO8/(AQ4-AO14)","v":{"$error":"#DIV/0!"}},{"$f":"IF(AP8=0,0,(AP8*((LOG(AP8))/LOG(2))))","v":{"$error":"#DIV/0!"}},null,{"$f":"N8","v":112},{"$f":"COUNTIF(L44:L50,AS8)","v":0},{"$f":"AT8/(AV4-AT14)","v":0},{"$f":"IF(AU8=0,0,(AU8*((LOG(AU8))/LOG(2))))","v":0}]
[21,277,21,281,21,291,null,null,null,null,0,222,null,121,{"$f":"COUNTIF($L$7:$L$500,N9)","v":0},{"$f":"O9/$Q$4","v":0},{"$f":"IF(P9=0,0,(P9*((LOG(P9))/LOG(2))))","v":0},null,null,{"$f":"N9","v":121},{"$f":"COUNTIF(L7:L13,T9)","v":0},{"$f":"U9/(W4-U14)","v":0},{"$f":"IF(V9=0,0,(V9*((LOG(V9))/LOG(2))))","v":0},null,{"$f":"N9","v":121},{"$f":"COUNTIF(L14:L21,Y9)","v":0},{"$f":"Z9/(AB4-Z14)","v":0},{"$f":"IF(AA9=0,0,(AA9*((LOG(AA9))/LOG(2))))","v":0},null,{"$f":"N9","v":121},{"$f":"COUNTIF(L22:L28,AD9)","v":0},{"$f":"AE9/(AG4-AE14)","v":{"$error":"#DIV/0!"}},{"$f":"IF(AF9=0,0,(AF9*((LOG(AF9))/LOG(2))))","v":{"$error":"#DIV/0!"}},null,{"$f":"N9","v":121},{"$f":"COUNTIF(L29:L35,AI9)","v":0},{"$f":"AJ9/(AL4-AJ14)","v":{"$error":"#DIV/0!"}},{"$f":"IF(AK9=0,0,(AK9*((LOG(AK9))/LOG(2))))","v":{"$error":"#DIV/0!"}},null,{"$f":"N9","v":121},{"$f":"COUNTIF(L36:L43,AN9)","v":0},{"$f":"AO9/(AQ4-AO14)","v":{"$error":"#DIV/0!"}},{"$f":"IF(AP9=0,0,(AP9*((LOG(AP9))/LOG(2))))","v":{"$error":"#DIV/0!"}},null,{"$f":"N9","v":121},{"$f":"COUNTIF(L44:L50,AS9)","v":0},{"$f":"AT9/(AV4-AT14)","v":0},{"$f":"IF(AU9=0,0,(AU9*((LOG(AU9))/LOG(2))))","v":0}]
[21,387,21,395,21,408,null,null,null,null,0,222,null,122,{"$f":"COUNTIF($L$7:$L$500,N10)","v":4},{"$f":"O10/$Q$4","v":9.0909090909090912E-2},{"$f":"IF(P10=0,0,(P10*((LOG(P10))/LOG(2))))","v":-0.31449378351248153},null,null,{"$f":"N10","v":122},{"$f":"COUNTIF(L7:L13,T10)","v":1},{"$f":"U10/(W4-U14)","v":1},{"$f":"IF(V10=0,0,(V10*((LOG(V10))/LOG(2))))","v":0},null,{"$f":"N10","v":122},{"$f":"COUNTIF(L14:L21,Y10)","v":2},{"$f":"Z10/(AB4-Z14)","v":1},{"$f":"IF(AA10=0,0,(AA10*((LOG(AA10))/LOG(2))))","v":0},null,{"$f":"N10","v":122},{"$f":"COUNTIF(L22:L28,AD10)","v":0},{"$f":"AE10/(AG4-AE14)","v":{"$error":"#DIV/0!"}},{"$f":"IF(AF10=0,0,(AF10*((LOG(AF10))/LOG(2))))","v":{"$error":"#DIV/0!"}},null,{"$f":"N10","v":122},{"$f":"COUNTIF(L29:L35,AI10)","v":0},{"$f":"AJ10/(AL4-AJ14)","v":{"$error":"#DIV/0!"}},{"$f":"IF(AK10=0,0,(AK10*((LOG(AK10))/LOG(2))))","v":{"$error":"#DIV/0!"}},null,{"$f":"N10","v":122},{"$f":"COUNTIF(L36:L43,AN10)","v":0},{"$f":"AO10/(AQ4-AO14)","v":{"$error":"#DIV/0!"}},{"$f":"IF(AP10=0,0,(AP10*((LOG(AP10))/LOG(2))))","v":{"$error":"#DIV/0!"}},null,{"$f":"N10","v":122},{"$f":"COUNTIF(L44:L50,AS10)","v":1},{"$f":"AT10/(AV4-AT14)","v":1},{"$f":"IF(AU10=0,0,(AU10*((LOG(AU10))/LOG(2))))","v":0}]
[21,549,21,570,21,577,null,null,null,null,0,222,null,211,{"$f":"COUNTIF($L$7:$L$500,N11)","v":0},{"$f":"O11/$Q$4","v":0},{"$f":"IF(P11=0,0,(P11*((LOG(P11))/LOG(2))))","v":0},null,null,{"$f":"N11","v":211},{"$f":"COUNTIF(L7:L13,T11)","v":0},{"$f":"U11/(W4-U14)","v":0},{"$f":"IF(V11=0,0,(V11*((LOG(V11))/LOG(2))))","v":0},null,{"$f":"N11","v":211},{"$f":"COUNTIF(L14:L21,Y11)","v":0},{"$f":"Z11/(AB4-Z14)","v":0},{"$f":"IF(AA11=0,0,(AA11*((LOG(AA11))/LOG(2))))","v":0},null,{"$f":"N11","v":211},{"$f":"COUNTIF(L22:L28,AD11)","v":0},{"$f":"AE11/(AG4-AE14)","v":{"$error":"#DIV/0!"}},{"$f":"IF(AF11=0,0,(AF11*((LOG(AF11))/LOG(2))))","v":{"$error":"#DIV/0!"}},null,{"$f":"N11","v":211},{"$f":"COUNTIF(L29:L35,AI11)","v":0},{"$f":"AJ11/(AL4-AJ14)","v":{"$error":"#DIV/0!"}},{"$f":"IF(AK11=0,0,(AK11*((LOG(AK11))/LOG(2))))","v":{"$error":"#DIV/0!"}},null,{"$f":"N11","v":211},{"$f":"COUNTIF(L36:L43,AN11)","v":0},{"$f":"AO11/(AQ4-AO14)","v":{"$error":"#DIV/0!"}},{"$f":"IF(AP11=0,0,(AP11*((LOG(AP11))/LOG(2))))","v":{"$error":"#DIV/0!"}},null,{"$f":"N11","v":211},{"$f":"COUNTIF(L44:L50,AS11)","v":0},{"$f":"AT11/(AV4-AT14)","v":0},{"$f":"IF(AU11=0,0,(AU11*((LOG(AU11))/LOG(2))))","v":0}]
[21,747,21,749,21,752,null,null,null,null,0,222,null,212,{"$f":"COUNTIF($L$7:$L$500,N12)","v":0},{"$f":"O12/$Q$4","v":0},{"$f":"IF(P12=0,0,(P12*((LOG(P12))/LOG(2))))","v":0},null,null,{"$f":"N12","v":212},{"$f":"COUNTIF(L7:L13,T12)","v":0},{"$f":"U12/(W4-U14)","v":0},{"$f":"IF(V12=0,0,(V12*((LOG(V12))/LOG(2))))","v":0},null,{"$f":"N12","v":212},{"$f":"COUNTIF(L14:L21,Y12)","v":0},{"$f":"Z12/(AB4-Z14)","v":0},{"$f":"IF(AA12=0,0,(AA12*((LOG(AA12))/LOG(2))))","v":0},null,{"$f":"N12","v":212},{"$f":"COUNTIF(L22:L28,AD12)","v":0},{"$f":"AE12/(AG4-AE14)","v":{"$error":"#DIV/0!"}},{"$f":"IF(AF12=0,0,(AF12*((LOG(AF12))/LOG(2))))","v":{"$error":"#DIV/0!"}},null,{"$f":"N12","v":212},{"$f":"COUNTIF(L29:L35,AI12)","v":0},{"$f":"AJ12/(AL4-AJ14)","v":{"$error":"#DIV/0!"}},{"$f":"IF(AK12=0,0,(AK12*((LOG(AK12))/LOG(2))))","v":{"$error":"#DIV/0!"}},null,{"$f":"N12","v":212},{"$f":"COUNTIF(L36:L43,AN12)","v":0},{"$f":"AO12/(AQ4-AO14)","v":{"$error":"#DIV/0!"}},{"$f":"IF(AP12=0,0,(AP12*((LOG(AP12))/LOG(2))))","v":{"$error":"#DIV/0!"}},null,{"$f":"N12","v":212},{"$f":"COUNTIF(L44:L50,AS12)","v":0},{"$f":"AT12/(AV4-AT14)","v":0},{"$f":"IF(AU12=0,0,(AU12*((LOG(AU12))/LOG(2))))","v":0}]
[21,951,21,960,21,970,null,null,null,null,0,222,null,221,{"$f":"COUNTIF($L$7:$L$500,N13)","v":0},{"$f":"O13/$Q$4","v":0},{"$f":"IF(P13=0,0,(P13*((LOG(P13))/LOG(2))))","v":0},null,null,{"$f":"N13","v":221},{"$f":"COUNTIF(L7:L13,T13)","v":0},{"$f":"U13/(W4-U14)","v":0},{"$f":"IF(V13=0,0,(V13*((LOG(V13))/LOG(2))))","v":0},null,{"$f":"N13","v":221},{"$f":"COUNTIF(L14:L21,Y13)","v":0},{"$f":"Z13/(AB4-Z14)","v":0},{"$f":"IF(AA13=0,0,(AA13*((LOG(AA13))/LOG(2))))","v":0},null,{"$f":"N13","v":221},{"$f":"COUNTIF(L22:L28,AD13)","v":0},{"$f":"AE13/(AG4-AE14)","v":{"$error":"#DIV/0!"}},{"$f":"IF(AF13=0,0,(AF13*((LOG(AF13))/LOG(2))))","v":{"$error":"#DIV/0!"}},null,{"$f":"N13","v":221},{"$f":"COUNTIF(L29:L35,AI13)","v":0},{"$f":"AJ13/(AL4-AJ14)","v":{"$error":"#DIV/0!"}},{"$f":"IF(AK13=0,0,(AK13*((LOG(AK13))/LOG(2))))","v":{"$error":"#DIV/0!"}},null,{"$f":"N13","v":221},{"$f":"COUNTIF(L36:L43,AN13)","v":0},{"$f":"AO13/(AQ4-AO14)","v":{"$error":"#DIV/0!"}},{"$f":"IF(AP13=0,0,(AP13*((LOG(AP13))/LOG(2))))","v":{"$error":"#DIV/0!"}},null,{"$f":"N13","v":221},{"$f":"COUNTIF(L44:L50,AS13)","v":0},{"$f":"AT13/(AV4-AT14)","v":0},{"$f":"IF(AU13=0,0,(AU13*((LOG(AU13))/LOG(2))))","v":0}]
[21,1124,21,1131,21,1139,null,null,null,null,0,222,null,222,{"$f":"COUNTIF($L$7:$L$500,N14)","v":40},{"$f":"O14/$Q$4","v":0.90909090909090906},{"$f":"IF(P14=0,0,(P14*((LOG(P14))/LOG(2))))","v":-0.12500320340903179},null,null,{"$f":"N14","v":222},{"$f":"COUNTIF(L7:L13,T14)","v":6},null,null,null,{"$f":"N14","v":222},{"$f":"COUNTIF(L14:L21,Y14)","v":6},null,null,null,{"$f":"N14","v":222},{"$f":"COUNTIF(L22:L28,AD14)","v":7},null,null,null,{"$f":"N14","v":222},{"$f":"COUNTIF(L29:L35,AI14)","v":7},null,null,null,{"$f":"N14","v":222},{"$f":"COUNTIF(L36:L43,AN14)","v":8},null,null,null,{"$f":"N14","v":222},{"$f":"COUNTIF(L44:L50,AS14)","v":6}]
[21,1285,21,1293,21,1300,null,null,null,null,0,222,null,null,null,{"$f":"SUM(P7:P14)","v":1},{"$f":"-SUM(Q7:Q14)","v":0.43949698692151329},null,null,null,null,{"$f":"SUM(V7:V14)","v":1},{"$f":"-SUM(W7:W14)","v":0},null,null,null,{"$f":"SUM(AA7:AA14)","v":1},{"$f":"-SUM(AB7:AB14)","v":0},null,null,null,{"$f":"SUM(AF7:AF14)","v":{"$error":"#DIV/0!"}},{"$f":"-SUM(AG7:AG14)","v":{"$error":"#DIV/0!"}},null,null,null,{"$f":"SUM(AK7:AK14)","v":{"$error":"#DIV/0!"}},{"$f":"-SUM(AL7:AL14)","v":{"$error":"#DIV/0!"}},null,null,null,{"$f":"SUM(AP7:AP14)","v":{"$error":"#DIV/0!"}},{"$f":"-SUM(AQ7:AQ14)","v":{"$error":"#DIV/0!"}},null,null,null,{"$f":"SUM(AU7:AU14)","v":1},{"$f":"-SUM(AV7:AV14)","v":0}]
[21,1446,21,1457,21,1464,null,null,null,null,0,222,null,null,null,"U=",{"$f":"Q15/(LOG(Q4)/LOG(2))","v":8.0502333873212623E-2},null,null,null,null,"U1=",{"$f":"W15/(LOG(W4)/LOG(2))","v":0},null,null,null,"U2=",{"$f":"AB15/(LOG(AB4)/LOG(2))","v":0},null,null,null,"U3=",{"$f":"AG15/(LOG(AG4)/LOG(2))","v":{"$error":"#DIV/0!"}},null,null,null,"U4=",{"$f":"AL15/(LOG(AL4)/LOG(2))","v":{"$error":"#DIV/0!"}},null,null,null,"U5=",{"$f":"AQ15/(LOG(AQ4)/LOG(2))","v":{"$error":"#DIV/0!"}},null,null,null,"U6=",{"$f":"AV15/(LOG(AV4)/LOG(2))","v":0}]
[21,1610,21,1654,21,1663,null,null,null,null,0,222]
[21,1784,21,1791,21,1800,null,null,null,null,0,222]
[12,1989,23,1995,23,2000,null,null,null,null,0,122,null,"Total Target Seq"]
[12,2106,23,2112,23,2116,null,null,null,null,0,122,null,{"$f":"COUNTIF(L7:L50,G3)","v":40},null,7,8,7,7,8,7]
[21,2217,21,2225,21,2230,null,null,null,null,0,222,null,null,null,"% of reinforcement given in 6 equal intervals based on number of trials "]
[21,2342,21,2356,21,2363,null,null,null,null,0,222,null,null,null,"%_1","%_2","%_3","%_4","%_5","%_6"]
[21,2484,21,2489,21,2496,null,null,null,null,0,222,null,null,"target sequence",{"$f":"$G$3","v":222},{"$f":"$G$3","v":222},{"$f":"$G$3","v":222},{"$f":"$G$3","v":222},{"$f":"$G$3","v":222},{"$f":"$G$3","v":222}]
[21,2704,21,2710,21,2715,null,null,null,null,0,222,null,null,"total reinforcement",{"$f":"U14","v":6},{"$f":"Z14","v":6},{"$f":"AE14","v":7},{"$f":"AJ14","v":7},{"$f":"AO14","v":8},{"$f":"AT14","v":6}]
[21,2860,21,2866,21,2873,null,null,null,null,0,222,null,null,"% target"]
[21,3039,21,3043,21,3050,null,null,null,null,0,222,null,null,"CCRF"]
[21,3252,21,3259,21,3265,null,null,null,null,0,222,null,null,"% CCRf"]
[21,3375,21,3385,21,3391,null,null,null,null,0,222,null,null,"average response rate",{"$f":"F13/P20","v":138.57142857142858},{"$f":"(F21-F13)/Q20","v":157.5},{"$f":"(F28-F21)/R20","v":165.85714285714286},{"$f":"(F35-F28)/S20","v":202.71428571428572},{"$f":"(F43-F35)/T20","v":212.375},{"$f":"(F50-F43)/U20","v":225}]
[21,3555,21,3566,21,3579,null,null,null,null,0,222]
[21,3740,21,3748,21,3756,null,null,null,null,0,222]
[21,3941,21,3944,21,3951,null,null,null,null,0,222]
[21,4103,21,4117,21,4128,null,null,null,null,0,222]
[21,4245,21,4249,21,4257,null,null,null,null,0,222]
[21,4529,21,4538,21,4544,null,null,null,null,0,222]
[21,4800,21,4804,21,4810,null,null,null,null,0,222]
[21,4906,21,4911,21,4914,null,null,null,null,0,222]
[21,5107,21,5113,21,5130,null,null,null,null,0,222]
[21,5386,21,5393,21,5412,null,null,null,null,0,222]
[21,5649,21,5654,21,5660,null,null,null,null,0,222]
[21,5761,21,5766,21,5778,null,null,null,null,0,222]
[21,6129,21,6133,21,6138,null,null,null,null,0,222]
[21,6329,21,6333,21,6339,null,null,null,null,0,222]
[21,6499,21,6503,21,6509,null,null,null,null,0,222]
[21,6764,21,6770,21,6779,null,null,null,null,0,222]
[12,6995,23,7003,23,7006,null,null,null,null,0,122]
[21,7196,21,7202,21,7207,null,null,null,null,0,222]
[21,7322,21,7329,21,7350,null,null,null,null,0,222]
[21,7657,21,7663,21,7669,null,null,null,null,0,222]
[21,7935,21,7941,21,7946,null,null,null,null,0,222]
[21,8071,21,8077,21,8084,null,null,null,null,1,222]

{"sheet":"!M32995D.UST","index":11,"n_rows":47,"n_cols":48,"rows_kept":47,"cut":false,"hidden":false,"merged":[[4,39,4,42],[5,39,5,40],[4,44,4,47],[5,44,5,45],[4,24,4,27],[5,24,5,25],[4,29,4,32],[5,29,5,30],[4,34,4,37],[5,34,5,35],[1,1,1,2],[5,13,5,14],[18,13,18,14],[19,13,19,14],[4,19,4,22],[5,19,5,20]]}
["Report for:!M32995D.UST"]
["Date:","<date>"]
["Hen:","<hen>",null,null,null,"Correct Sequence",{"$f":"Start!J2","v":222},null,null,null,null,null,null,null,null,"Total Sequences in Data",{"$f":"4994-COUNTBLANK(L7:L5000)","v":41},null,null,null,null,"Total Sequences in Block Data",{"$f":"COUNTA(L7:L13)","v":7},null,null,null,"Total Sequences in Block Data",{"$f":"COUNTA(L14:L20)","v":7},null,null,null,"Total Sequences in Block Data",{"$f":"COUNTA(L21:L26)","v":6},null,null,null,"Total Sequences in Block Data",{"$f":"COUNTA(L27:L33)","v":7},null,null,null,"Total Sequences in Block Data",{"$f":"COUNTA(L34:L40)","v":7},null,null,null,"Total Sequences in Block Data",{"$f":"COUNTA(L41:L47)","v":7}]
[null,null,null,null,null,null,null,null,null,null,null,null,null,null,null,"Total Sequences in Summary",{"$f":"SUM(O7:O14)","v":41},null,null,null,null,"Total Sequences in Block Summary",{"$f":"SUM(U7:U14)","v":7},null,null,null,"Total Sequences in Block Summary",{"$f":"SUM(Z7:Z14)","v":7},null,null,null,"Total Sequences in Block Summary",{"$f":"SUM(AE7:AE14)","v":6},null,null,null,"Total Sequences in Block Summary",{"$f":"SUM(AJ7:AJ14)","v":7},null,null,null,"Total Sequences in Block Summary",{"$f":"SUM(AO7:AO14)","v":7},null,null,null,"Total Sequences in Block Summary",{"$f":"SUM(AT7:AT14)","v":7}]
[null,null,null,null,null,null,null,null,null,null,null,null,null,null,null,null,null,null,null,"Block 1",null,null,null,null,"Block 2",null,null,null,null,"Block 3",null,null,null,null,"Block 4",null,null,null,null,"Block 5",null,null,null,null,"Block 6"]
["Sequence\nComponent\n1","Time\n1","Sequence\nComponent\n2","Time\n2","Sequence\nComponent\n3","Time\n3","Sequence\nComponent\n4","Time\n4","Sequence\nComponent\n5","Time\n5","Correct?\n0=No 1=Yes","Sequence",null,"Frequency",null,"Relative Frequency","Variability",null,null,"Frequency",null,"Relative Frequency","Variability",null,"Frequency",null,"Relative Frequency","Variability",null,"Frequency",null,"Relative Frequency","Variability",null,"Frequency",null,"Relative Frequency","Variability",null,"Frequency",null,"Relative Frequency","Variability",null,"Frequency",null,"Relative Frequency","Variability"]
[12,113,14,115,14,119,null,null,null,null,0,111,null,111,{"$f":"COUNTIF($L$7:$L$500,N7)","v":1},{"$f":"O7/$Q$4","v":2.4390243902439025E-2},{"$f":"IF(P7=0,0,(P7*((LOG(P7))/LOG(2))))","v":-0.13067200011263619},null,null,{"$f":"N7","v":111},{"$f":"COUNTIF(L7:L13,T7)","v":1},{"$f":"U7/(W4-U14)","v":1},{"$f":"IF(V7=0,0,(V7*((LOG(V7))/LOG(2))))","v":0},null,{"$f":"N7","v":111},{"$f":"COUNTIF(L14:L20,Y7)","v":0},{"$f":"Z7/(AB4-Z14)","v":{"$error":"#DIV/0!"}},{"$f":"IF(AA7=0,0,(AA7*((LOG(AA7))/LOG(2))))","v":{"$error":"#DIV/0!"}},null,{"$f":"N7","v":111},{"$f":"COUNTIF(L21:L26,AD7)","v":0},{"$f":"AE7/(AG4-AE14)","v":{"$error":"#DIV/0!"}},{"$f":"IF(AF7=0,0,(AF7*((LOG(AF7))/LOG(2))))","v":{"$error":"#DIV/0!"}},null,{"$f":"N7","v":111},{"$f":"COUNTIF(L27:L33,AI7)","v":0},{"$f":"AJ7/(AL4-AJ14)","v":{"$error":"#DIV/0!"}},{"$f":"IF(AK7=0,0,(AK7*((LOG(AK7))/LOG(2))))","v":{"$error":"#DIV/0!"}},null,{"$f":"N7","v":111},{"$f":"COUNTIF(L34:L40,AN7)","v":0},{"$f":"AO7/(AQ4-AO14)","v":{"$error":"#DIV/0!"}},{"$f":"IF(AP7=0,0,(AP7*((LOG(AP7))/LOG(2))))","v":{"$error":"#DIV/0!"}},null,{"$f":"N7","v":111},{"$f":"COUNTIF(L41:L47,AS7)","v":0},{"$f":"AT7/(AV4-AT14)","v":{"$error":"#DIV/0!"}},{"$f":"IF(AU7=0,0,(AU7*((LOG(AU7))/LOG(2))))","v":{"$error":"#DIV/0!"}}]
[21,222,21,230,21,237,null,null,null,null,0,222,null,112,{"$f":"COUNTIF($L$7:$L$500,N8)","v":0},{"$f":"O8/$Q$4","v":0},{"$f":"IF(P8=0,0,(P8*((LOG(P8))/LOG(2))))","v":0},null,null,{"$f":"N8","v":112},{"$f":"COUNTIF(L7:L13,T8)","v":0},{"$f":"U8/(W4-U14)","v":0},{"$f":"IF(V8=0,0,(V8*((LOG(V8))/LOG(2))))","v":0},null,{"$f":"N8","v":112},{"$f":"COUNTIF(L14:L20,Y8)","v":0},{"$f":"Z8/(AB4-Z14)","v":{"$error":"#DIV/0!"}},{"$f":"IF(AA8=0,0,(AA8*((LOG(AA8))/LOG(2))))","v":{"$error":"#DIV/0!"}},null,{"$f":"N8","v":112},{"$f":"COUNTIF(L21:L26,AD8)","v":0},{"$f":"AE8/(AG4-AE14)","v":{"$error":"#DIV/0!"}},{"$f":"IF(AF8=0,0,(AF8*((LOG(AF8))/LOG(2))))","v":{"$error":"#DIV/0!"}},null,{"$f":"N8","v":112},{"$f":"COUNTIF(L27:L33,AI8)","v":0},{"$f":"AJ8/(AL4-AJ14)","v":{"$error":"#DIV/0!"}},{"$f":"IF(AK8=0,0,(AK8*((LOG(AK8))/LOG(2))))","v":{"$error":"#DIV/0!"}},null,{"$f":"N8","v":112},{"$f":"COUNTIF(L34:L40,AN8)","v":0},{"$f":"AO8/(AQ4-AO14)","v":{"$error":"#DIV/0!"}},{"$f":"IF(AP8=0,0,(AP8*((LOG(AP8))/LOG(2))))","v":{"$error":"#DIV/0!"}},null,{"$f":"N8","v":112},{"$f":"COUNTIF(L41:L47,AS8)","v":0},{"$f":"AT8/(AV4-AT14)","v":{"$error":"#DIV/0!"}},{"$f":"IF(AU8=0,0,(AU8*((LOG(AU8))/LOG(2))))","v":{"$error":"#DIV/0!"}}]
[21,351,21,356,21,362,null,null,null,null,0,222,null,121,{"$f":"COUNTIF($L$7:$L$500,N9)","v":0},{"$f":"O9/$Q$4","v":0},{"$f":"IF(P9=0,0,(P9*((LOG(P9))/LOG(2))))","v":0},null,null,{"$f":"N9","v":121},{"$f":"COUNTIF(L7:L13,T9)","v":0},{"$f":"U9/(W4-U14)","v":0},{"$f":"IF(V9=0,0,(V9*((LOG(V9))/LOG(2))))","v":0},null,{"$f":"N9","v":121},{"$f":"COUNTIF(L14:L20,Y9)","v":0},{"$f":"Z9/(AB4-Z14)","v":{"$error":"#DIV/0!"}},{"$f":"IF(AA9=0,0,(AA9*((LOG(AA9))/LOG(2))))","v":{"$error":"#DIV/0!"}},null,{"$f":"N9","v":121},{"$f":"COUNTIF(L21:L26,AD9)","v":0},{"$f":"AE9/(AG4-AE14)","v":{"$error":"#DIV/0!"}},{"$f":"IF(AF9=0,0,(AF9*((LOG(AF9))/LOG(2))))","v":{"$error":"#DIV/0!"}},null,{"$f":"N9","v":121},{"$f":"COUNTIF(L27:L33,AI9)","v":0},{"$f":"AJ9/(AL4-AJ14)","v":{"$error":"#DIV/0!"}},{"$f":"IF(AK9=0,0,(AK9*((LOG(AK9))/LOG(2))))","v":{"$error":"#DIV/0!"}},null,{"$f":"N9","v":121},{"$f":"COUNTIF(L34:L40,AN9)","v":0},{"$f":"AO9/(AQ4-AO14)","v":{"$error":"#DIV/0!"}},{"$f":"IF(AP9=0,0,(AP9*((LOG(AP9))/LOG(2))))","v":{"$error":"#DIV/0!"}},null,{"$f":"N9","v":121},{"$f":"COUNTIF(L41:L47,AS9)","v":0},{"$f":"AT9/(AV4-AT14)","v":{"$error":"#DIV/0!"}},{"$f":"IF(AU9=0,0,(AU9*((LOG(AU9))/LOG(2))))","v":{"$error":"#DIV/0!"}}]
[21,464,21,475,21,507,null,null,null,null,0,222,null,122,{"$f":"COUNTIF($L$7:$L$500,N10)","v":0},{"$f":"O10/$Q$4","v":0},{"$f":"IF(P10=0,0,(P10*((LOG(P10))/LOG(2))))","v":0},null,null,{"$f":"N10","v":122},{"$f":"COUNTIF(L7:L13,T10)","v":0},{"$f":"U10/(W4-U14)","v":0},{"$f":"IF(V10=0,0,(V10*((LOG(V10))/LOG(2))))","v":0},null,{"$f":"N10","v":122},{"$f":"COUNTIF(L14:L20,Y10)","v":0},{"$f":"Z10/(AB4-Z14)","v":{"$error":"#DIV/0!"}},{"$f":"IF(AA10=0,0,(AA10*((LOG(AA10))/LOG(2))))","v":{"$error":"#DIV/0!"}},null,{"$f":"N10","v":122},{"$f":"COUNTIF(L21:L26,AD10)","v":0},{"$f":"AE10/(AG4-AE14)","v":{"$error":"#DIV/0!"}},{"$f":"IF(AF10=0,0,(AF10*((LOG(AF10))/LOG(2))))","v":{"$error":"#DIV/0!"}},null,{"$f":"N10","v":122},{"$f":"COUNTIF(L27:L33,AI10)","v":0},{"$f":"AJ10/(AL4-AJ14)","v":{"$error":"#DIV/0!"}},{"$f":"IF(AK10=0,0,(AK10*((LOG(AK10))/LOG(2))))","v":{"$error":"#DIV/0!"}},null,{"$f":"N10","v":122},{"$f":"COUNTIF(L34:L40,AN10)","v":0},{"$f":"AO10/(AQ4-AO14)","v":{"$error":"#DIV/0!"}},{"$f":"IF(AP10=0,0,(AP10*((LOG(AP10))/LOG(2))))","v":{"$error":"#DIV/0!"}},null,{"$f":"N10","v":122},{"$f":"COUNTIF(L41:L47,AS10)","v":0},{"$f":"AT10/(AV4-AT14)","v":{"$error":"#DIV/0!"}},{"$f":"IF(AU10=0,0,(AU10*((LOG(AU10))/LOG(2))))","v":{"$error":"#DIV/0!"}}]
[21,610,21,614,21,620,null,null,null,null,0,222,null,211,{"$f":"COUNTIF($L$7:$L$500,N11)","v":0},{"$f":"O11/$Q$4","v":0},{"$f":"IF(P11=0,0,(P11*((LOG(P11))/LOG(2))))","v":0},null,null,{"$f":"N11","v":211},{"$f":"COUNTIF(L7:L13,T11)","v":0},{"$f":"U11/(W4-U14)","v":0},{"$f":"IF(V11=0,0,(V11*((LOG(V11))/LOG(2))))","v":0},null,{"$f":"N11","v":211},{"$f":"COUNTIF(L14:L20,Y11)","v":0},{"$f":"Z11/(AB4-Z14)","v":{"$error":"#DIV/0!"}},{"$f":"IF(AA11=0,0,(AA11*((LOG(AA11))/LOG(2))))","v":{"$error":"#DIV/0!"}},null,{"$f":"N11","v":211},{"$f":"COUNTIF(L21:L26,AD11)","v":0},{"$f":"AE11/(AG4-AE14)","v":{"$error":"#DIV/0!"}},{"$f":"IF(AF11=0,0,(AF11*((LOG(AF11))/LOG(2))))","v":{"$error":"#DIV/0!"}},null,{"$f":"N11","v":211},{"$f":"COUNTIF(L27:L33,AI11)","v":0},{"$f":"AJ11/(AL4-AJ14)","v":{"$error":"#DIV/0!"}},{"$f":"IF(AK11=0,0,(AK11*((LOG(AK11))/LOG(2))))","v":{"$error":"#DIV/0!"}},null,{"$f":"N11","v":211},{"$f":"COUNTIF(L34:L40,AN11)","v":0},{"$f":"AO11/(AQ4-AO14)","v":{"$error":"#DIV/0!"}},{"$f":"IF(AP11=0,0,(AP11*((LOG(AP11))/LOG(2))))","v":{"$error":"#DIV/0!"}},null,{"$f":"N11","v":211},{"$f":"COUNTIF(L41:L47,AS11)","v":0},{"$f":"AT11/(AV4-AT14)","v":{"$error":"#DIV/0!"}},{"$f":"IF(AU11=0,0,(AU11*((LOG(AU11))/LOG(2))))","v":{"$error":"#DIV/0!"}}]
[21,745,21,753,21,760,null,null,null,null,0,222,null,212,{"$f":"COUNTIF($L$7:$L$500,N12)","v":0},{"$f":"O12/$Q$4","v":0},{"$f":"IF(P12=0,0,(P12*((LOG(P12))/LOG(2))))","v":0},null,null,{"$f":"N12","v":212},{"$f":"COUNTIF(L7:L13,T12)","v":0},{"$f":"U12/(W4-U14)","v":0},{"$f":"IF(V12=0,0,(V12*((LOG(V12))/LOG(2))))","v":0},null,{"$f":"N12","v":212},{"$f":"COUNTIF(L14:L20,Y12)","v":0},{"$f":"Z12/(AB4-Z14)","v":{"$error":"#DIV/0!"}},{"$f":"IF(AA12=0,0,(AA12*((LOG(AA12))/LOG(2))))","v":{"$error":"#DIV/0!"}},null,{"$f":"N12","v":212},{"$f":"COUNTIF(L21:L26,AD12)","v":0},{"$f":"AE12/(AG4-AE14)","v":{"$error":"#DIV/0!"}},{"$f":"IF(AF12=0,0,(AF12*((LOG(AF12))/LOG(2))))","v":{"$error":"#DIV/0!"}},null,{"$f":"N12","v":212},{"$f":"COUNTIF(L27:L33,AI12)","v":0},{"$f":"AJ12/(AL4-AJ14)","v":{"$error":"#DIV/0!"}},{"$f":"IF(AK12=0,0,(AK12*((LOG(AK12))/LOG(2))))","v":{"$error":"#DIV/0!"}},null,{"$f":"N12","v":212},{"$f":"COUNTIF(L34:L40,AN12)","v":0},{"$f":"AO12/(AQ4-AO14)","v":{"$error":"#DIV/0!"}},{"$f":"IF(AP12=0,0,(AP12*((LOG(AP12))/LOG(2))))","v":{"$error":"#DIV/0!"}},null,{"$f":"N12","v":212},{"$f":"COUNTIF(L41:L47,AS12)","v":0},{"$f":"AT12/(AV4-AT14)","v":{"$error":"#DIV/0!"}},{"$f":"IF(AU12=0,0,(AU12*((LOG(AU12))/LOG(2))))","v":{"$error":"#DIV/0!"}}]
[21,932,21,943,21,949,null,null,null,null,0,222,null,221,{"$f":"COUNTIF($L$7:$L$500,N13)","v":0},{"$f":"O13/$Q$4","v":0},{"$f":"IF(P13=0,0,(P13*((LOG(P13))/LOG(2))))","v":0},null,null,{"$f":"N13","v":221},{"$f":"COUNTIF(L7:L13,T13)","v":0},{"$f":"U13/(W4-U14)","v":0},{"$f":"IF(V13=0,0,(V13*((LOG(V13))/LOG(2))))","v":0},null,{"$f":"N13","v":221},{"$f":"COUNTIF(L14:L20,Y13)","v":0},{"$f":"Z13/(AB4-Z14)","v":{"$error":"#DIV/0!"}},{"$f":"IF(AA13=0,0,(AA13*((LOG(AA13))/LOG(2))))","v":{"$error":"#DIV/0!"}},null,{"$f":"N13","v":221},{"$f":"COUNTIF(L21:L26,AD13)","v":0},{"$f":"AE13/(AG4-AE14)","v":{"$error":"#DIV/0!"}},{"$f":"IF(AF13=0,0,(AF13*((LOG(AF13))/LOG(2))))","v":{"$error":"#DIV/0!"}},null,{"$f":"N13","v":221},{"$f":"COUNTIF(L27:L33,AI13)","v":0},{"$f":"AJ13/(AL4-AJ14)","v":{"$error":"#DIV/0!"}},{"$f":"IF(AK13=0,0,(AK13*((LOG(AK13))/LOG(2))))","v":{"$error":"#DIV/0!"}},null,{"$f":"N13","v":221},{"$f":"COUNTIF(L34:L40,AN13)","v":0},{"$f":"AO13/(AQ4-AO14)","v":{"$error":"#DIV/0!"}},{"$f":"IF(AP13=0,0,(AP13*((LOG(AP13))/LOG(2))))","v":{"$error":"#DIV/0!"}},null,{"$f":"N13","v":221},{"$f":"COUNTIF(L41:L47,AS13)","v":0},{"$f":"AT13/(AV4-AT14)","v":{"$error":"#DIV/0!"}},{"$f":"IF(AU13=0,0,(AU13*((LOG(AU13))/LOG(2))))","v":{"$error":"#DIV/0!"}}]
[21,1043,21,1050,21,1062,null,null,null,null,0,222,null,222,{"$f":"COUNTIF($L$7:$L$500,N14)","v":40},{"$f":"O14/$Q$4","v":0.97560975609756095},{"$f":"IF(P14=0,0,(P14*((LOG(P14))/LOG(2))))","v":-3.4755033883630611E-2},null,null,{"$f":"N14","v":222},{"$f":"COUNTIF(L7:L13,T14)","v":6},null,null,null,{"$f":"N14","v":222},{"$f":"COUNTIF(L14:L20,Y14)","v":7},null,null,null,{"$f":"N14","v":222},{"$f":"COUNTIF(L21:L26,AD14)","v":6},null,null,null,{"$f":"N14","v":222},{"$f":"COUNTIF(L27:L33,AI14)","v":7},null,null,null,{"$f":"N14","v":222},{"$f":"COUNTIF(L34:L40,AN14)","v":7},null,null,null,{"$f":"N14","v":222},{"$f":"COUNTIF(L41:L47,AS14)","v":7}]
[21,1216,21,1232,21,1238,null,null,null,null,0,222,null,null,null,{"$f":"SUM(P7:P14)","v":1},{"$f":"-SUM(Q7:Q14)","v":0.16542703399626679},null,null,null,null,{"$f":"SUM(V7:V14)","v":1},{"$f":"-SUM(W7:W14)","v":0},null,null,null,{"$f":"SUM(AA7:AA14)","v":{"$error":"#DIV/0!"}},{"$f":"-SUM(AB7:AB14)","v":{"$error":"#DIV/0!"}},null,null,null,{"$f":"SUM(AF7:AF14)","v":{"$error":"#DIV/0!"}},{"$f":"-SUM(AG7:AG14)","v":{"$error":"#DIV/0!"}},null,null,null,{"$f":"SUM(AK7:AK14)","v":{"$error":"#DIV/0!"}},{"$f":"-SUM(AL7:AL14)","v":{"$error":"#DIV/0!"}},null,null,null,{"$f":"SUM(AP7:AP14)","v":{"$error":"#DIV/0!"}},{"$f":"-SUM(AQ7:AQ14)","v":{"$error":"#DIV/0!"}},null,null,null,{"$f":"SUM(AU7:AU14)","v":{"$error":"#DIV/0!"}},{"$f":"-SUM(AV7:AV14)","v":{"$error":"#DIV/0!"}}]
[21,1350,21,1356,21,1362,null,null,null,null,0,222,null,null,null,"U=",{"$f":"Q15/(LOG(Q4)/LOG(2))","v":3.0877354779509855E-2},null,null,null,null,"U1=",{"$f":"W15/(LOG(W4)/LOG(2))","v":0},null,null,null,"U2=",{"$f":"AB15/(LOG(AB4)/LOG(2))","v":{"$error":"#DIV/0!"}},null,null,null,"U3=",{"$f":"AG15/(LOG(AG4)/LOG(2))","v":{"$error":"#DIV/0!"}},null,null,null,"U4=",{"$f":"AL15/(LOG(AL4)/LOG(2))","v":{"$error":"#DIV/0!"}},null,null,null,"U5=",{"$f":"AQ15/(LOG(AQ4)/LOG(2))","v":{"$error":"#DIV/0!"}},null,null,null,"U6=",{"$f":"AV15/(LOG(AV4)/LOG(2))","v":{"$error":"#DIV/0!"}}]
[21,1582,21,1591,21,1593,null,null,null,null,0,222]
[21,1699,21,1704,21,1707,null,null,null,null,0,222]
[21,1835,21,1843,21,1849,null,null,null,null,0,222,null,"Total Target Seq"]
[21,1990,21,1995,21,2001,null,null,null,null,0,222,null,{"$f":"COUNTIF(L7:L47,G3)","v":40},null,7,7,6,7,7,7]
[21,2106,21,2117,21,2122,null,null,null,null,0,222,null,null,null,"% of reinforcement given in 6 equal intervals based on number of trials "]
[21,2243,21,2245,21,2253,null,null,null,null,0,222,null,null,null,"%_1","%_2","%_3","%_4","%_5","%_6"]
[21,2384,21,2387,21,2401,null,null,null,null,0,222,null,null,"target sequence",{"$f":"$G$3","v":222},{"$f":"$G$3","v":222},{"$f":"$G$3","v":222},{"$f":"$G$3","v":222},{"$f":"$G$3","v":222},{"$f":"$G$3","v":222}]
[21,2544,21,2547,21,2553,null,null,null,null,0,222,null,null,"total reinforcement",{"$f":"U14","v":6},{"$f":"Z14","v":7},{"$f":"AE14","v":6},{"$f":"AJ14","v":7},{"$f":"AO14","v":7},{"$f":"AT14","v":7}]
[21,2712,21,2723,21,2737,null,null,null,null,0,222,null,null,"% target"]
[21,2878,21,2882,21,2892,null,null,null,null,0,222,null,null,"CCRF"]
[21,3037,21,3039,21,3046,null,null,null,null,0,222,null,null,"% CCRf"]
[21,3234,21,3240,21,3246,null,null,null,null,0,222,null,null,"average response rate",{"$f":"F13/P20","v":135.57142857142858},{"$f":"(F20-F13)/Q20","v":150.28571428571428},{"$f":"(F26-F20)/R20","v":148.5},{"$f":"(F33-F26)/S20","v":181.85714285714286},{"$f":"(F40-F33)/T20","v":201.85714285714286},{"$f":"(F47-F40)/U20","v":180.14285714285714}]
[21,3475,21,3478,21,3488,null,null,null,null,0,222]
[21,3641,21,3651,21,3656,null,null,null,null,0,222]
[21,3794,21,3799,21,3809,null,null,null,null,0,222]
[21,3983,21,3993,21,3999,null,null,null,null,0,222]
[21,4151,21,4156,21,4165,null,null,null,null,0,222]
[21,4436,21,4441,21,4446,null,null,null,null,0,222]
[21,4581,21,4593,21,4598,null,null,null,null,0,222]
[21,4884,21,4888,21,4893,null,null,null,null,0,222]
[21,5036,21,5042,21,5048,null,null,null,null,0,222]
[21,5205,21,5211,21,5216,null,null,null,null,0,222]
[21,5382,21,5387,21,5394,null,null,null,null,0,222]
[21,5564,21,5571,21,5578,null,null,null,null,0,222]
[21,5819,21,5824,21,5829,null,null,null,null,0,222]
[21,5950,21,5955,21,5961,null,null,null,null,0,222]
[21,6127,21,6132,21,6137,null,null,null,null,0,222]
[21,6349,21,6356,21,6369,null,null,null,null,0,222]
[21,6540,21,6547,21,6549,null,null,null,null,0,222]
[21,6670,21,6673,21,6680,null,null,null,null,0,222]
[21,6829,21,6834,21,6839,null,null,null,null,1,222]

{"sheet":"!M330A2D.UST","index":12,"n_rows":47,"n_cols":48,"rows_kept":47,"cut":false,"hidden":false,"merged":[[4,39,4,42],[5,39,5,40],[4,44,4,47],[5,44,5,45],[4,24,4,27],[5,24,5,25],[4,29,4,32],[5,29,5,30],[4,34,4,37],[5,34,5,35],[1,1,1,2],[5,13,5,14],[18,13,18,14],[19,13,19,14],[4,19,4,22],[5,19,5,20]]}
["Report for:!M330A2D.UST"]
["Date:","<date>"]
["Hen:","<hen>",null,null,null,"Correct Sequence",{"$f":"Start!J2","v":222},null,null,null,null,null,null,null,null,"Total Sequences in Data",{"$f":"4994-COUNTBLANK(L7:L5000)","v":41},null,null,null,null,"Total Sequences in Block Data",{"$f":"COUNTA(L7:L13)","v":7},null,null,null,"Total Sequences in Block Data",{"$f":"COUNTA(L14:L20)","v":7},null,null,null,"Total Sequences in Block Data",{"$f":"COUNTA(L21:L26)","v":6},null,null,null,"Total Sequences in Block Data",{"$f":"COUNTA(L27:L33)","v":7},null,null,null,"Total Sequences in Block Data",{"$f":"COUNTA(L34:L40)","v":7},null,null,null,"Total Sequences in Block Data",{"$f":"COUNTA(L41:L47)","v":7}]
[null,null,null,null,null,null,null,null,null,null,null,null,null,null,null,"Total Sequences in Summary",{"$f":"SUM(O7:O14)","v":41},null,null,null,null,"Total Sequences in Block Summary",{"$f":"SUM(U7:U14)","v":7},null,null,null,"Total Sequences in Block Summary",{"$f":"SUM(Z7:Z14)","v":7},null,null,null,"Total Sequences in Block Summary",{"$f":"SUM(AE7:AE14)","v":6},null,null,null,"Total Sequences in Block Summary",{"$f":"SUM(AJ7:AJ14)","v":7},null,null,null,"Total Sequences in Block Summary",{"$f":"SUM(AO7:AO14)","v":7},null,null,null,"Total Sequences in Block Summary",{"$f":"SUM(AT7:AT14)","v":7}]
[null,null,null,null,null,null,null,null,null,null,null,null,null,null,null,null,null,null,null,"Block 1",null,null,null,null,"Block 2",null,null,null,null,"Block 3",null,null,null,null,"Block 4",null,null,null,null,"Block 5",null,null,null,null,"Block 6"]
["Sequence\nComponent\n1","Time\n1","Sequence\nComponent\n2","Time\n2","Sequence\nComponent\n3","Time\n3","Sequence\nComponent\n4","Time\n4","Sequence\nComponent\n5","Time\n5","Correct?\n0=No 1=Yes","Sequence",null,"Frequency",null,"Relative Frequency","Variability",null,null,"Frequency",null,"Relative Frequency","Variability",null,"Frequency",null,"Relative Frequency","Variability",null,"Frequency",null,"Relative Frequency","Variability",null,"Frequency",null,"Relative Frequency","Variability",null,"Frequency",null,"Relative Frequency","Variability",null,"Frequency",null,"Relative Frequency","Variability"]
[21,48,21,53,21,59,null,null,null,null,0,222,null,111,{"$f":"COUNTIF($L$7:$L$500,N7)","v":1},{"$f":"O7/$Q$4","v":2.4390243902439025E-2},{"$f":"IF(P7=0,0,(P7*((LOG(P7))/LOG(2))))","v":-0.13067200011263619},null,null,{"$f":"N7","v":111},{"$f":"COUNTIF(L7:L13,T7)","v":0},{"$f":"U7/(W4-U14)","v":{"$error":"#DIV/0!"}},{"$f":"IF(V7=0,0,(V7*((LOG(V7))/LOG(2))))","v":{"$error":"#DIV/0!"}},null,{"$f":"N7","v":111},{"$f":"COUNTIF(L14:L20,Y7)","v":0},{"$f":"Z7/(AB4-Z14)","v":{"$error":"#DIV/0!"}},{"$f":"IF(AA7=0,0,(AA7*((LOG(AA7))/LOG(2))))","v":{"$error":"#DIV/0!"}},null,{"$f":"N7","v":111},{"$f":"COUNTIF(L21:L26,AD7)","v":0},{"$f":"AE7/(AG4-AE14)","v":{"$error":"#DIV/0!"}},{"$f":"IF(AF7=0,0,(AF7*((LOG(AF7))/LOG(2))))","v":{"$error":"#DIV/0!"}},null,{"$f":"N7","v":111},{"$f":"COUNTIF(L27:L33,AI7)","v":0},{"$f":"AJ7/(AL4-AJ14)","v":{"$error":"#DIV/0!"}},{"$f":"IF(AK7=0,0,(AK7*((LOG(AK7))/LOG(2))))","v":{"$error":"#DIV/0!"}},null,{"$f":"N7","v":111},{"$f":"COUNTIF(L34:L40,AN7)","v":1},{"$f":"AO7/(AQ4-AO14)","v":1},{"$f":"IF(AP7=0,0,(AP7*((LOG(AP7))/LOG(2))))","v":0},null,{"$f":"N7","v":111},{"$f":"COUNTIF(L41:L47,AS7)","v":0},{"$f":"AT7/(AV4-AT14)","v":{"$error":"#DIV/0!"}},{"$f":"IF(AU7=0,0,(AU7*((LOG(AU7))/LOG(2))))","v":{"$error":"#DIV/0!"}}]
[21,182,21,190,21,198,null,null,null,null,0,222,null,112,{"$f":"COUNTIF($L$7:$L$500,N8)","v":0},{"$f":"O8/$Q$4","v":0},{"$f":"IF(P8=0,0,(P8*((LOG(P8))/LOG(2))))","v":0},null,null,{"$f":"N8","v":112},{"$f":"COUNTIF(L7:L13,T8)","v":0},{"$f":"U8/(W4-U14)","v":{"$error":"#DIV/0!"}},{"$f":"IF(V8=0,0,(V8*((LOG(V8))/LOG(2))))","v":{"$error":"#DIV/0!"}},null,{"$f":"N8","v":112},{"$f":"COUNTIF(L14:L20,Y8)","v":0},{"$f":"Z8/(AB4-Z14)","v":{"$error":"#DIV/0!"}},{"$f":"IF(AA8=0,0,(AA8*((LOG(AA8))/LOG(2))))","v":{"$error":"#DIV/0!"}},null,{"$f":"N8","v":112},{"$f":"COUNTIF(L21:L26,AD8)","v":0},{"$f":"AE8/(AG4-AE14)","v":{"$error":"#DIV/0!"}},{"$f":"IF(AF8=0,0,(AF8*((LOG(AF8))/LOG(2))))","v":{"$error":"#DIV/0!"}},null,{"$f":"N8","v":112},{"$f":"COUNTIF(L27:L33,AI8)","v":0},{"$f":"AJ8/(AL4-AJ14)","v":{"$error":"#DIV/0!"}},{"$f":"IF(AK8=0,0,(AK8*((LOG(AK8))/LOG(2))))","v":{"$error":"#DIV/0!"}},null,{"$f":"N8","v":112},{"$f":"COUNTIF(L34:L40,AN8)","v":0},{"$f":"AO8/(AQ4-AO14)","v":0},{"$f":"IF(AP8=0,0,(AP8*((LOG(AP8))/LOG(2))))","v":0},null,{"$f":"N8","v":112},{"$f":"COUNTIF(L41:L47,AS8)","v":0},{"$f":"AT8/(AV4-AT14)","v":{"$error":"#DIV/0!"}},{"$f":"IF(AU8=0,0,(AU8*((LOG(AU8))/LOG(2))))","v":{"$error":"#DIV/0!"}}]
[21,318,21,324,21,330,null,null,null,null,0,222,null,121,{"$f":"COUNTIF($L$7:$L$500,N9)","v":0},{"$f":"O9/$Q$4","v":0},{"$f":"IF(P9=0,0,(P9*((LOG(P9))/LOG(2))))","v":0},null,null,{"$f":"N9","v":121},{"$f":"COUNTIF(L7:L13,T9)","v":0},{"$f":"U9/(W4-U14)","v":{"$error":"#DIV/0!"}},{"$f":"IF(V9=0,0,(V9*((LOG(V9))/LOG(2))))","v":{"$error":"#DIV/0!"}},null,{"$f":"N9","v":121},{"$f":"COUNTIF(L14:L20,Y9)","v":0},{"$f":"Z9/(AB4-Z14)","v":{"$error":"#DIV/0!"}},{"$f":"IF(AA9=0,0,(AA9*((LOG(AA9))/LOG(2))))","v":{"$error":"#DIV/0!"}},null,{"$f":"N9","v":121},{"$f":"COUNTIF(L21:L26,AD9)","v":0},{"$f":"AE9/(AG4-AE14)","v":{"$error":"#DIV/0!"}},{"$f":"IF(AF9=0,0,(AF9*((LOG(AF9))/LOG(2))))","v":{"$error":"#DIV/0!"}},null,{"$f":"N9","v":121},{"$f":"COUNTIF(L27:L33,AI9)","v":0},{"$f":"AJ9/(AL4-AJ14)","v":{"$error":"#DIV/0!"}},{"$f":"IF(AK9=0,0,(AK9*((LOG(AK9))/LOG(2))))","v":{"$error":"#DIV/0!"}},null,{"$f":"N9","v":121},{"$f":"COUNTIF(L34:L40,AN9)","v":0},{"$f":"AO9/(AQ4-AO14)","v":0},{"$f":"IF(AP9=0,0,(AP9*((LOG(AP9))/LOG(2))))","v":0},null,{"$f":"N9","v":121},{"$f":"COUNTIF(L41:L47,AS9)","v":0},{"$f":"AT9/(AV4-AT14)","v":{"$error":"#DIV/0!"}},{"$f":"IF(AU9=0,0,(AU9*((LOG(AU9))/LOG(2))))","v":{"$error":"#DIV/0!"}}]
[21,435,21,439,21,447,null,null,null,null,0,222,null,122,{"$f":"COUNTIF($L$7:$L$500,N10)","v":0},{"$f":"O10/$Q$4","v":0},{"$f":"IF(P10=0,0,(P10*((LOG(P10))/LOG(2))))","v":0},null,null,{"$f":"N10","v":122},{"$f":"COUNTIF(L7:L13,T10)","v":0},{"$f":"U10/(W4-U14)","v":{"$error":"#DIV/0!"}},{"$f":"IF(V10=0,0,(V10*((LOG(V10))/LOG(2))))","v":{"$error":"#DIV/0!"}},null,{"$f":"N10","v":122},{"$f":"COUNTIF(L14:L20,Y10)","v":0},{"$f":"Z10/(AB4-Z14)","v":{"$error":"#DIV/0!"}},{"$f":"IF(AA10=0,0,(AA10*((LOG(AA10))/LOG(2))))","v":{"$error":"#DIV/0!"}},null,{"$f":"N10","v":122},{"$f":"COUNTIF(L21:L26,AD10)","v":0},{"$f":"AE10/(AG4-AE14)","v":{"$error":"#DIV/0!"}},{"$f":"IF(AF10=0,0,(AF10*((LOG(AF10))/LOG(2))))","v":{"$error":"#DIV/0!"}},null,{"$f":"N10","v":122},{"$f":"COUNTIF(L27:L33,AI10)","v":0},{"$f":"AJ10/(AL4-AJ14)","v":{"$error":"#DIV/0!"}},{"$f":"IF(AK10=0,0,(AK10*((LOG(AK10))/LOG(2))))","v":{"$error":"#DIV/0!"}},null,{"$f":"N10","v":122},{"$f":"COUNTIF(L34:L40,AN10)","v":0},{"$f":"AO10/(AQ4-AO14)","v":0},{"$f":"IF(AP10=0,0,(AP10*((LOG(AP10))/LOG(2))))","v":0},null,{"$f":"N10","v":122},{"$f":"COUNTIF(L41:L47,AS10)","v":0},{"$f":"AT10/(AV4-AT14)","v":{"$error":"#DIV/0!"}},{"$f":"IF(AU10=0,0,(AU10*((LOG(AU10))/LOG(2))))","v":{"$error":"#DIV/0!"}}]
[21,686,21,692,21,697,null,null,null,null,0,222,null,211,{"$f":"COUNTIF($L$7:$L$500,N11)","v":0},{"$f":"O11/$Q$4","v":0},{"$f":"IF(P11=0,0,(P11*((LOG(P11))/LOG(2))))","v":0},null,null,{"$f":"N11","v":211},{"$f":"COUNTIF(L7:L13,T11)","v":0},{"$f":"U11/(W4-U14)","v":{"$error":"#DIV/0!"}},{"$f":"IF(V11=0,0,(V11*((LOG(V11))/LOG(2))))","v":{"$error":"#DIV/0!"}},null,{"$f":"N11","v":211},{"$f":"COUNTIF(L14:L20,Y11)","v":0},{"$f":"Z11/(AB4-Z14)","v":{"$error":"#DIV/0!"}},{"$f":"IF(AA11=0,0,(AA11*((LOG(AA11))/LOG(2))))","v":{"$error":"#DIV/0!"}},null,{"$f":"N11","v":211},{"$f":"COUNTIF(L21:L26,AD11)","v":0},{"$f":"AE11/(AG4-AE14)","v":{"$error":"#DIV/0!"}},{"$f":"IF(AF11=0,0,(AF11*((LOG(AF11))/LOG(2))))","v":{"$error":"#DIV/0!"}},null,{"$f":"N11","v":211},{"$f":"COUNTIF(L27:L33,AI11)","v":0},{"$f":"AJ11/(AL4-AJ14)","v":{"$error":"#DIV/0!"}},{"$f":"IF(AK11=0,0,(AK11*((LOG(AK11))/LOG(2))))","v":{"$error":"#DIV/0!"}},null,{"$f":"N11","v":211},{"$f":"COUNTIF(L34:L40,AN11)","v":0},{"$f":"AO11/(AQ4-AO14)","v":0},{"$f":"IF(AP11=0,0,(AP11*((LOG(AP11))/LOG(2))))","v":0},null,{"$f":"N11","v":211},{"$f":"COUNTIF(L41:L47,AS11)","v":0},{"$f":"AT11/(AV4-AT14)","v":{"$error":"#DIV/0!"}},{"$f":"IF(AU11=0,0,(AU11*((LOG(AU11))/LOG(2))))","v":{"$error":"#DIV/0!"}}]
[21,812,21,819,21,830,null,null,null,null,0,222,null,212,{"$f":"COUNTIF($L$7:$L$500,N12)","v":0},{"$f":"O12/$Q$4","v":0},{"$f":"IF(P12=0,0,(P12*((LOG(P12))/LOG(2))))","v":0},null,null,{"$f":"N12","v":212},{"$f":"COUNTIF(L7:L13,T12)","v":0},{"$f":"U12/(W4-U14)","v":{"$error":"#DIV/0!"}},{"$f":"IF(V12=0,0,(V12*((LOG(V12))/LOG(2))))","v":{"$error":"#DIV/0!"}},null,{"$f":"N12","v":212},{"$f":"COUNTIF(L14:L20,Y12)","v":0},{"$f":"Z12/(AB4-Z14)","v":{"$error":"#DIV/0!"}},{"$f":"IF(AA12=0,0,(AA12*((LOG(AA12))/LOG(2))))","v":{"$error":"#DIV/0!"}},null,{"$f":"N12","v":212},{"$f":"COUNTIF(L21:L26,AD12)","v":0},{"$f":"AE12/(AG4-AE14)","v":{"$error":"#DIV/0!"}},{"$f":"IF(AF12=0,0,(AF12*((LOG(AF12))/LOG(2))))","v":{"$error":"#DIV/0!"}},null,{"$f":"N12","v":212},{"$f":"COUNTIF(L27:L33,AI12)","v":0},{"$f":"AJ12/(AL4-AJ14)","v":{"$error":"#DIV/0!"}},{"$f":"IF(AK12=0,0,(AK12*((LOG(AK12))/LOG(2))))","v":{"$error":"#DIV/0!"}},null,{"$f":"N12","v":212},{"$f":"COUNTIF(L34:L40,AN12)","v":0},{"$f":"AO12/(AQ4-AO14)","v":0},{"$f":"IF(AP12=0,0,(AP12*((LOG(AP12))/LOG(2))))","v":0},null,{"$f":"N12","v":212},{"$f":"COUNTIF(L41:L47,AS12)","v":0},{"$f":"AT12/(AV4-AT14)","v":{"$error":"#DIV/0!"}},{"$f":"IF(AU12=0,0,(AU12*((LOG(AU12))/LOG(2))))","v":{"$error":"#DIV/0!"}}]
[21,1052,21,1059,21,1064,null,null,null,null,0,222,null,221,{"$f":"COUNTIF($L$7:$L$500,N13)","v":0},{"$f":"O13/$Q$4","v":0},{"$f":"IF(P13=0,0,(P13*((LOG(P13))/LOG(2))))","v":0},null,null,{"$f":"N13","v":221},{"$f":"COUNTIF(L7:L13,T13)","v":0},{"$f":"U13/(W4-U14)","v":{"$error":"#DIV/0!"}},{"$f":"IF(V13=0,0,(V13*((LOG(V13))/LOG(2))))","v":{"$error":"#DIV/0!"}},null,{"$f":"N13","v":221},{"$f":"COUNTIF(L14:L20,Y13)","v":0},{"$f":"Z13/(AB4-Z14)","v":{"$error":"#DIV/0!"}},{"$f":"IF(AA13=0,0,(AA13*((LOG(AA13))/LOG(2))))","v":{"$error":"#DIV/0!"}},null,{"$f":"N13","v":221},{"$f":"COUNTIF(L21:L26,AD13)","v":0},{"$f":"AE13/(AG4-AE14)","v":{"$error":"#DIV/0!"}},{"$f":"IF(AF13=0,0,(AF13*((LOG(AF13))/LOG(2))))","v":{"$error":"#DIV/0!"}},null,{"$f":"N13","v":221},{"$f":"COUNTIF(L27:L33,AI13)","v":0},{"$f":"AJ13/(AL4-AJ14)","v":{"$error":"#DIV/0!"}},{"$f":"IF(AK13=0,0,(AK13*((LOG(AK13))/LOG(2))))","v":{"$error":"#DIV/0!"}},null,{"$f":"N13","v":221},{"$f":"COUNTIF(L34:L40,AN13)","v":0},{"$f":"AO13/(AQ4-AO14)","v":0},{"$f":"IF(AP13=0,0,(AP13*((LOG(AP13))/LOG(2))))","v":0},null,{"$f":"N13","v":221},{"$f":"COUNTIF(L41:L47,AS13)","v":0},{"$f":"AT13/(AV4-AT14)","v":{"$error":"#DIV/0!"}},{"$f":"IF(AU13=0,0,(AU13*((LOG(AU13))/LOG(2))))","v":{"$error":"#DIV/0!"}}]
[21,1262,21,1268,21,1274,null,null,null,null,0,222,null,222,{"$f":"COUNTIF($L$7:$L$500,N14)","v":40},{"$f":"O14/$Q$4","v":0.97560975609756095},{"$f":"IF(P14=0,0,(P14*((LOG(P14))/LOG(2))))","v":-3.4755033883630611E-2},null,null,{"$f":"N14","v":222},{"$f":"COUNTIF(L7:L13,T14)","v":7},null,null,null,{"$f":"N14","v":222},{"$f":"COUNTIF(L14:L20,Y14)","v":7},null,null,null,{"$f":"N14","v":222},{"$f":"COUNTIF(L21:L26,AD14)","v":6},null,null,null,{"$f":"N14","v":222},{"$f":"COUNTIF(L27:L33,AI14)","v":7},null,null,null,{"$f":"N14","v":222},{"$f":"COUNTIF(L34:L40,AN14)","v":6},null,null,null,{"$f":"N14","v":222},{"$f":"COUNTIF(L41:L47,AS14)","v":7}]
[21,1516,21,1522,21,1553,null,null,null,null,0,222,null,null,null,{"$f":"SUM(P7:P14)","v":1},{"$f":"-SUM(Q7:Q14)","v":0.16542703399626679},null,null,null,null,{"$f":"SUM(V7:V14)","v":{"$error":"#DIV/0!"}},{"$f":"-SUM(W7:W14)","v":{"$error":"#DIV/0!"}},null,null,null,{"$f":"SUM(AA7:AA14)","v":{"$error":"#DIV/0!"}},{"$f":"-SUM(AB7:AB14)","v":{"$error":"#DIV/0!"}},null,null,null,{"$f":"SUM(AF7:AF14)","v":{"$error":"#DIV/0!"}},{"$f":"-SUM(AG7:AG14)","v":{"$error":"#DIV/0!"}},null,null,null,{"$f":"SUM(AK7:AK14)","v":{"$error":"#DIV/0!"}},{"$f":"-SUM(AL7:AL14)","v":{"$error":"#DIV/0!"}},null,null,null,{"$f":"SUM(AP7:AP14)","v":1},{"$f":"-SUM(AQ7:AQ14)","v":0},null,null,null,{"$f":"SUM(AU7:AU14)","v":{"$error":"#DIV/0!"}},{"$f":"-SUM(AV7:AV14)","v":{"$error":"#DIV/0!"}}]
[21,1727,21,1737,21,1749,null,null,null,null,0,222,null,null,null,"U=",{"$f":"Q15/(LOG(Q4)/LOG(2))","v":3.0877354779509855E-2},null,null,null,null,"U1=",{"$f":"W15/(LOG(W4)/LOG(2))","v":{"$error":"#DIV/0!"}},null,null,null,"U2=",{"$f":"AB15/(LOG(AB4)/LOG(2))","v":{"$error":"#DIV/0!"}},null,null,null,"U3=",{"$f":"AG15/(LOG(AG4)/LOG(2))","v":{"$error":"#DIV/0!"}},null,null,null,"U4=",{"$f":"AL15/(LOG(AL4)/LOG(2))","v":{"$error":"#DIV/0!"}},null,null,null,"U5=",{"$f":"AQ15/(LOG(AQ4)/LOG(2))","v":0},null,null,null,"U6=",{"$f":"AV15/(LOG(AV4)/LOG(2))","v":{"$error":"#DIV/0!"}}]
[21,1899,21,1903,21,1909,null,null,null,null,0,222]
[21,2105,21,2109,21,2114,null,null,null,null,0,222]
[21,2294,21,2299,21,2305,null,null,null,null,0,222,null,"Total Target Seq"]
[21,2520,21,2528,21,2533,null,null,null,null,0,222,null,{"$f":"COUNTIF(L7:L47,G3)","v":40},null,7,7,6,7,7,7]
[21,2659,21,2664,21,2675,null,null,null,null,0,222,null,null,null,"% of reinforcement given in 6 equal intervals based on number of trials "]
[21,2855,21,2864,21,2869,null,null,null,null,0,222,null,null,null,"%_1","%_2","%_3","%_4","%_5","%_6"]
[21,3121,21,3134,21,3141,null,null,null,null,0,222,null,null,"target sequence",{"$f":"$G$3","v":222},{"$f":"$G$3","v":222},{"$f":"$G$3","v":222},{"$f":"$G$3","v":222},{"$f":"$G$3","v":222},{"$f":"$G$3","v":222}]
[21,3350,21,3354,21,3365,null,null,null,null,0,222,null,null,"total reinforcement",{"$f":"U14","v":7},{"$f":"Z14","v":7},{"$f":"AE14","v":6},{"$f":"AJ14","v":7},{"$f":"AO14","v":6},{"$f":"AT14","v":7}]
[21,3520,21,3526,21,3555,null,null,null,null,0,222,null,null,"% target"]
[21,3674,21,3687,21,3694,null,null,null,null,0,222,null,null,"CCRF"]
[21,3804,21,3811,21,3817,null,null,null,null,0,222,null,null,"% CCRf"]
[21,3994,21,4002,21,4008,null,null,null,null,0,222,null,null,"average response rate",{"$f":"F13/P20","v":152},{"$f":"(F20-F13)/Q20","v":209.85714285714286},{"$f":"(F26-F20)/R20","v":193.5},{"$f":"(F33-F26)/S20","v":191.28571428571428},{"$f":"(F40-F33)/T20","v":184.28571428571428},{"$f":"(F47-F40)/U20","v":191.28571428571428}]
[21,4220,21,4228,21,4233,null,null,null,null,0,222]
[21,4418,21,4429,21,4435,null,null,null,null,0,222]
[21,4600,21,4605,21,4615,null,null,null,null,0,222]
[21,4807,21,4812,21,4819,null,null,null,null,0,222]
[21,5021,21,5027,21,5033,null,null,null,null,0,222]
[21,5299,21,5305,21,5310,null,null,null,null,0,222]
[21,5459,21,5466,21,5472,null,null,null,null,0,222]
[21,5686,21,5694,21,5701,null,null,null,null,0,222]
[12,5818,14,5840,14,5849,null,null,null,null,0,111]
[21,5943,21,5950,21,5956,null,null,null,null,0,222]
[21,6093,21,6100,21,6108,null,null,null,null,0,222]
[21,6309,21,6318,21,6323,null,null,null,null,0,222]
[21,6508,21,6514,21,6520,null,null,null,null,0,222]
[21,6659,21,6668,21,6674,null,null,null,null,0,222]
[21,6840,21,6848,21,6861,null,null,null,null,0,222]
[21,7029,21,7036,21,7042,null,null,null,null,0,222]
[21,7229,21,7241,21,7247,null,null,null,null,0,222]
[21,7499,21,7505,21,7511,null,null,null,null,0,222]
[21,7650,21,7655,21,7662,null,null,null,null,1,222]

{"sheet":"!M331A4D.UST","index":13,"n_rows":46,"n_cols":48,"rows_kept":46,"cut":false,"hidden":false,"merged":[[4,39,4,42],[5,39,5,40],[4,44,4,47],[5,44,5,45],[4,24,4,27],[5,24,5,25],[4,29,4,32],[5,29,5,30],[4,34,4,37],[5,34,5,35],[1,1,1,2],[5,13,5,14],[18,13,18,14],[19,13,19,14],[4,19,4,22],[5,19,5,20]]}
["Report for:!M331A4D.UST"]
["Date:","<date>"]
["Hen:","<hen>",null,null,null,"Correct Sequence",{"$f":"Start!J2","v":222},null,null,null,null,null,null,null,null,"Total Sequences in Data",{"$f":"4994-COUNTBLANK(L7:L5000)","v":40},null,null,null,null,"Total Sequences in Block Data",{"$f":"COUNTA(L7:L13)","v":7},null,null,null,"Total Sequences in Block Data",{"$f":"COUNTA(L14:L19)","v":6},null,null,null,"Total Sequences in Block Data",{"$f":"COUNTA(L20:L26)","v":7},null,null,null,"Total Sequences in Block Data",{"$f":"COUNTA(L27:L33)","v":7},null,null,null,"Total Sequences in Block Data",{"$f":"COUNTA(L34:L39)","v":6},null,null,null,"Total Sequences in Block Data",{"$f":"COUNTA(L40:L46)","v":7}]
[null,null,null,null,null,null,null,null,null,null,null,null,null,null,null,"Total Sequences in Summary",{"$f":"SUM(O7:O14)","v":40},null,null,null,null,"Total Sequences in Block Summary",{"$f":"SUM(U7:U14)","v":7},null,null,null,"Total Sequences in Block Summary",{"$f":"SUM(Z7:Z14)","v":6},null,null,null,"Total Sequences in Block Summary",{"$f":"SUM(AE7:AE14)","v":7},null,null,null,"Total Sequences in Block Summary",{"$f":"SUM(AJ7:AJ14)","v":7},null,null,null,"Total Sequences in Block Summary",{"$f":"SUM(AO7:AO14)","v":6},null,null,null,"Total Sequences in Block Summary",{"$f":"SUM(AT7:AT14)","v":7}]
[null,null,null,null,null,null,null,null,null,null,null,null,null,null,null,null,null,null,null,"Block 1",null,null,null,null,"Block 2",null,null,null,null,"Block 3",null,null,null,null,"Block 4",null,null,null,null,"Block 5",null,null,null,null,"Block 6"]
["Sequence\nComponent\n1","Time\n1","Sequence\nComponent\n2","Time\n2","Sequence\nComponent\n3","Time\n3","Sequence\nComponent\n4","Time\n4","Sequence\nComponent\n5","Time\n5","Correct?\n0=No 1=Yes","Sequence",null,"Frequency",null,"Relative Frequency","Variability",null,null,"Frequency",null,"Relative Frequency","Variability",null,"Frequency",null,"Relative Frequency","Variability",null,"Frequency",null,"Relative Frequency","Variability",null,"Frequency",null,"Relative Frequency","Variability",null,"Frequency",null,"Relative Frequency","Variability",null,"Frequency",null,"Relative Frequency","Variability"]
[21,26,21,32,21,39,null,null,null,null,0,222,null,111,{"$f":"COUNTIF($L$7:$L$500,N7)","v":0},{"$f":"O7/$Q$4","v":0},{"$f":"IF(P7=0,0,(P7*((LOG(P7))/LOG(2))))","v":0},null,null,{"$f":"N7","v":111},{"$f":"COUNTIF(L7:L13,T7)","v":0},{"$f":"U7/(W4-U14)","v":{"$error":"#DIV/0!"}},{"$f":"IF(V7=0,0,(V7*((LOG(V7))/LOG(2))))","v":{"$error":"#DIV/0!"}},null,{"$f":"N7","v":111},{"$f":"COUNTIF(L14:L19,Y7)","v":0},{"$f":"Z7/(AB4-Z14)","v":{"$error":"#DIV/0!"}},{"$f":"IF(AA7=0,0,(AA7*((LOG(AA7))/LOG(2))))","v":{"$error":"#DIV/0!"}},null,{"$f":"N7","v":111},{"$f":"COUNTIF(L20:L26,AD7)","v":0},{"$f":"AE7/(AG4-AE14)","v":{"$error":"#DIV/0!"}},{"$f":"IF(AF7=0,0,(AF7*((LOG(AF7))/LOG(2))))","v":{"$error":"#DIV/0!"}},null,{"$f":"N7","v":111},{"$f":"COUNTIF(L27:L33,AI7)","v":0},{"$f":"AJ7/(AL4-AJ14)","v":{"$error":"#DIV/0!"}},{"$f":"IF(AK7=0,0,(AK7*((LOG(AK7))/LOG(2))))","v":{"$error":"#DIV/0!"}},null,{"$f":"N7","v":111},{"$f":"COUNTIF(L34:L39,AN7)","v":0},{"$f":"AO7/(AQ4-AO14)","v":{"$error":"#DIV/0!"}},{"$f":"IF(AP7=0,0,(AP7*((LOG(AP7))/LOG(2))))","v":{"$error":"#DIV/0!"}},null,{"$f":"N7","v":111},{"$f":"COUNTIF(L40:L46,AS7)","v":0},{"$f":"AT7/(AV4-AT14)","v":{"$error":"#DIV/0!"}},{"$f":"IF(AU7=0,0,(AU7*((LOG(AU7))/LOG(2))))","v":{"$error":"#DIV/0!"}}]
[21,138,21,148,21,178,null,null,null,null,0,222,null,112,{"$f":"COUNTIF($L$7:$L$500,N8)","v":0},{"$f":"O8/$Q$4","v":0},{"$f":"IF(P8=0,0,(P8*((LOG(P8))/LOG(2))))","v":0},null,null,{"$f":"N8","v":112},{"$f":"COUNTIF(L7:L13,T8)","v":0},{"$f":"U8/(W4-U14)","v":{"$error":"#DIV/0!"}},{"$f":"IF(V8=0,0,(V8*((LOG(V8))/LOG(2))))","v":{"$error":"#DIV/0!"}},null,{"$f":"N8","v":112},{"$f":"COUNTIF(L14:L19,Y8)","v":0},{"$f":"Z8/(AB4-Z14)","v":{"$error":"#DIV/0!"}},{"$f":"IF(AA8=0,0,(AA8*((LOG(AA8))/LOG(2))))","v":{"$error":"#DIV/0!"}},null,{"$f":"N8","v":112},{"$f":"COUNTIF(L20:L26,AD8)","v":0},{"$f":"AE8/(AG4-AE14)","v":{"$error":"#DIV/0!"}},{"$f":"IF(AF8=0,0,(AF8*((LOG(AF8))/LOG(2))))","v":{"$error":"#DIV/0!"}},null,{"$f":"N8","v":112},{"$f":"COUNTIF(L27:L33,AI8)","v":0},{"$f":"AJ8/(AL4-AJ14)","v":{"$error":"#DIV/0!"}},{"$f":"IF(AK8=0,0,(AK8*((LOG(AK8))/LOG(2))))","v":{"$error":"#DIV/0!"}},null,{"$f":"N8","v":112},{"$f":"COUNTIF(L34:L39,AN8)","v":0},{"$f":"AO8/(AQ4-AO14)","v":{"$error":"#DIV/0!"}},{"$f":"IF(AP8=0,0,(AP8*((LOG(AP8))/LOG(2))))","v":{"$error":"#DIV/0!"}},null,{"$f":"N8","v":112},{"$f":"COUNTIF(L40:L46,AS8)","v":0},{"$f":"AT8/(AV4-AT14)","v":{"$error":"#DIV/0!"}},{"$f":"IF(AU8=0,0,(AU8*((LOG(AU8))/LOG(2))))","v":{"$error":"#DIV/0!"}}]
[21,312,21,323,21,329,null,null,null,null,0,222,null,121,{"$f":"COUNTIF($L$7:$L$500,N9)","v":0},{"$f":"O9/$Q$4","v":0},{"$f":"IF(P9=0,0,(P9*((LOG(P9))/LOG(2))))","v":0},null,null,{"$f":"N9","v":121},{"$f":"COUNTIF(L7:L13,T9)","v":0},{"$f":"U9/(W4-U14)","v":{"$error":"#DIV/0!"}},{"$f":"IF(V9=0,0,(V9*((LOG(V9))/LOG(2))))","v":{"$error":"#DIV/0!"}},null,{"$f":"N9","v":121},{"$f":"COUNTIF(L14:L19,Y9)","v":0},{"$f":"Z9/(AB4-Z14)","v":{"$error":"#DIV/0!"}},{"$f":"IF(AA9=0,0,(AA9*((LOG(AA9))/LOG(2))))","v":{"$error":"#DIV/0!"}},null,{"$f":"N9","v":121},{"$f":"COUNTIF(L20:L26,AD9)","v":0},{"$f":"AE9/(AG4-AE14)","v":{"$error":"#DIV/0!"}},{"$f":"IF(AF9=0,0,(AF9*((LOG(AF9))/LOG(2))))","v":{"$error":"#DIV/0!"}},null,{"$f":"N9","v":121},{"$f":"COUNTIF(L27:L33,AI9)","v":0},{"$f":"AJ9/(AL4-AJ14)","v":{"$error":"#DIV/0!"}},{"$f":"IF(AK9=0,0,(AK9*((LOG(AK9))/LOG(2))))","v":{"$error":"#DIV/0!"}},null,{"$f":"N9","v":121},{"$f":"COUNTIF(L34:L39,AN9)","v":0},{"$f":"AO9/(AQ4-AO14)","v":{"$error":"#DIV/0!"}},{"$f":"IF(AP9=0,0,(AP9*((LOG(AP9))/LOG(2))))","v":{"$error":"#DIV/0!"}},null,{"$f":"N9","v":121},{"$f":"COUNTIF(L40:L46,AS9)","v":0},{"$f":"AT9/(AV4-AT14)","v":{"$error":"#DIV/0!"}},{"$f":"IF(AU9=0,0,(AU9*((LOG(AU9))/LOG(2))))","v":{"$error":"#DIV/0!"}}]
[21,471,21,475,21,482,null,null,null,null,0,222,null,122,{"$f":"COUNTIF($L$7:$L$500,N10)","v":0},{"$f":"O10/$Q$4","v":0},{"$f":"IF(P10=0,0,(P10*((LOG(P10))/LOG(2))))","v":0},null,null,{"$f":"N10","v":122},{"$f":"COUNTIF(L7:L13,T10)","v":0},{"$f":"U10/(W4-U14)","v":{"$error":"#DIV/0!"}},{"$f":"IF(V10=0,0,(V10*((LOG(V10))/LOG(2))))","v":{"$error":"#DIV/0!"}},null,{"$f":"N10","v":122},{"$f":"COUNTIF(L14:L19,Y10)","v":0},{"$f":"Z10/(AB4-Z14)","v":{"$error":"#DIV/0!"}},{"$f":"IF(AA10=0,0,(AA10*((LOG(AA10))/LOG(2))))","v":{"$error":"#DIV/0!"}},null,{"$f":"N10","v":122},{"$f":"COUNTIF(L20:L26,AD10)","v":0},{"$f":"AE10/(AG4-AE14)","v":{"$error":"#DIV/0!"}},{"$f":"IF(AF10=0,0,(AF10*((LOG(AF10))/LOG(2))))","v":{"$error":"#DIV/0!"}},null,{"$f":"N10","v":122},{"$f":"COUNTIF(L27:L33,AI10)","v":0},{"$f":"AJ10/(AL4-AJ14)","v":{"$error":"#DIV/0!"}},{"$f":"IF(AK10=0,0,(AK10*((LOG(AK10))/LOG(2))))","v":{"$error":"#DIV/0!"}},null,{"$f":"N10","v":122},{"$f":"COUNTIF(L34:L39,AN10)","v":0},{"$f":"AO10/(AQ4-AO14)","v":{"$error":"#DIV/0!"}},{"$f":"IF(AP10=0,0,(AP10*((LOG(AP10))/LOG(2))))","v":{"$error":"#DIV/0!"}},null,{"$f":"N10","v":122},{"$f":"COUNTIF(L40:L46,AS10)","v":0},{"$f":"AT10/(AV4-AT14)","v":{"$error":"#DIV/0!"}},{"$f":"IF(AU10=0,0,(AU10*((LOG(AU10))/LOG(2))))","v":{"$error":"#DIV/0!"}}]
[21,595,21,599,21,608,null,null,null,null,0,222,null,211,{"$f":"COUNTIF($L$7:$L$500,N11)","v":0},{"$f":"O11/$Q$4","v":0},{"$f":"IF(P11=0,0,(P11*((LOG(P11))/LOG(2))))","v":0},null,null,{"$f":"N11","v":211},{"$f":"COUNTIF(L7:L13,T11)","v":0},{"$f":"U11/(W4-U14)","v":{"$error":"#DIV/0!"}},{"$f":"IF(V11=0,0,(V11*((LOG(V11))/LOG(2))))","v":{"$error":"#DIV/0!"}},null,{"$f":"N11","v":211},{"$f":"COUNTIF(L14:L19,Y11)","v":0},{"$f":"Z11/(AB4-Z14)","v":{"$error":"#DIV/0!"}},{"$f":"IF(AA11=0,0,(AA11*((LOG(AA11))/LOG(2))))","v":{"$error":"#DIV/0!"}},null,{"$f":"N11","v":211},{"$f":"COUNTIF(L20:L26,AD11)","v":0},{"$f":"AE11/(AG4-AE14)","v":{"$error":"#DIV/0!"}},{"$f":"IF(AF11=0,0,(AF11*((LOG(AF11))/LOG(2))))","v":{"$error":"#DIV/0!"}},null,{"$f":"N11","v":211},{"$f":"COUNTIF(L27:L33,AI11)","v":0},{"$f":"AJ11/(AL4-AJ14)","v":{"$error":"#DIV/0!"}},{"$f":"IF(AK11=0,0,(AK11*((LOG(AK11))/LOG(2))))","v":{"$error":"#DIV/0!"}},null,{"$f":"N11","v":211},{"$f":"COUNTIF(L34:L39,AN11)","v":0},{"$f":"AO11/(AQ4-AO14)","v":{"$error":"#DIV/0!"}},{"$f":"IF(AP11=0,0,(AP11*((LOG(AP11))/LOG(2))))","v":{"$error":"#DIV/0!"}},null,{"$f":"N11","v":211},{"$f":"COUNTIF(L40:L46,AS11)","v":0},{"$f":"AT11/(AV4-AT14)","v":{"$error":"#DIV/0!"}},{"$f":"IF(AU11=0,0,(AU11*((LOG(AU11))/LOG(2))))","v":{"$error":"#DIV/0!"}}]
[21,727,21,739,21,746,null,null,null,null,0,222,null,212,{"$f":"COUNTIF($L$7:$L$500,N12)","v":0},{"$f":"O12/$Q$4","v":0},{"$f":"IF(P12=0,0,(P12*((LOG(P12))/LOG(2))))","v":0},null,null,{"$f":"N12","v":212},{"$f":"COUNTIF(L7:L13,T12)","v":0},{"$f":"U12/(W4-U14)","v":{"$error":"#DIV/0!"}},{"$f":"IF(V12=0,0,(V12*((LOG(V12))/LOG(2))))","v":{"$error":"#DIV/0!"}},null,{"$f":"N12","v":212},{"$f":"COUNTIF(L14:L19,Y12)","v":0},{"$f":"Z12/(AB4-Z14)","v":{"$error":"#DIV/0!"}},{"$f":"IF(AA12=0,0,(AA12*((LOG(AA12))/LOG(2))))","v":{"$error":"#DIV/0!"}},null,{"$f":"N12","v":212},{"$f":"COUNTIF(L20:L26,AD12)","v":0},{"$f":"AE12/(AG4-AE14)","v":{"$error":"#DIV/0!"}},{"$f":"IF(AF12=0,0,(AF12*((LOG(AF12))/LOG(2))))","v":{"$error":"#DIV/0!"}},null,{"$f":"N12","v":212},{"$f":"COUNTIF(L27:L33,AI12)","v":0},{"$f":"AJ12/(AL4-AJ14)","v":{"$error":"#DIV/0!"}},{"$f":"IF(AK12=0,0,(AK12*((LOG(AK12))/LOG(2))))","v":{"$error":"#DIV/0!"}},null,{"$f":"N12","v":212},{"$f":"COUNTIF(L34:L39,AN12)","v":0},{"$f":"AO12/(AQ4-AO14)","v":{"$error":"#DIV/0!"}},{"$f":"IF(AP12=0,0,(AP12*((LOG(AP12))/LOG(2))))","v":{"$error":"#DIV/0!"}},null,{"$f":"N12","v":212},{"$f":"COUNTIF(L40:L46,AS12)","v":0},{"$f":"AT12/(AV4-AT14)","v":{"$error":"#DIV/0!"}},{"$f":"IF(AU12=0,0,(AU12*((LOG(AU12))/LOG(2))))","v":{"$error":"#DIV/0!"}}]
[21,885,21,902,21,917,null,null,null,null,0,222,null,221,{"$f":"COUNTIF($L$7:$L$500,N13)","v":0},{"$f":"O13/$Q$4","v":0},{"$f":"IF(P13=0,0,(P13*((LOG(P13))/LOG(2))))","v":0},null,null,{"$f":"N13","v":221},{"$f":"COUNTIF(L7:L13,T13)","v":0},{"$f":"U13/(W4-U14)","v":{"$error":"#DIV/0!"}},{"$f":"IF(V13=0,0,(V13*((LOG(V13))/LOG(2))))","v":{"$error":"#DIV/0!"}},null,{"$f":"N13","v":221},{"$f":"COUNTIF(L14:L19,Y13)","v":0},{"$f":"Z13/(AB4-Z14)","v":{"$error":"#DIV/0!"}},{"$f":"IF(AA13=0,0,(AA13*((LOG(AA13))/LOG(2))))","v":{"$error":"#DIV/0!"}},null,{"$f":"N13","v":221},{"$f":"COUNTIF(L20:L26,AD13)","v":0},{"$f":"AE13/(AG4-AE14)","v":{"$error":"#DIV/0!"}},{"$f":"IF(AF13=0,0,(AF13*((LOG(AF13))/LOG(2))))","v":{"$error":"#DIV/0!"}},null,{"$f":"N13","v":221},{"$f":"COUNTIF(L27:L33,AI13)","v":0},{"$f":"AJ13/(AL4-AJ14)","v":{"$error":"#DIV/0!"}},{"$f":"IF(AK13=0,0,(AK13*((LOG(AK13))/LOG(2))))","v":{"$error":"#DIV/0!"}},null,{"$f":"N13","v":221},{"$f":"COUNTIF(L34:L39,AN13)","v":0},{"$f":"AO13/(AQ4-AO14)","v":{"$error":"#DIV/0!"}},{"$f":"IF(AP13=0,0,(AP13*((LOG(AP13))/LOG(2))))","v":{"$error":"#DIV/0!"}},null,{"$f":"N13","v":221},{"$f":"COUNTIF(L40:L46,AS13)","v":0},{"$f":"AT13/(AV4-AT14)","v":{"$error":"#DIV/0!"}},{"$f":"IF(AU13=0,0,(AU13*((LOG(AU13))/LOG(2))))","v":{"$error":"#DIV/0!"}}]
[21,1083,21,1090,21,1097,null,null,null,null,0,222,null,222,{"$f":"COUNTIF($L$7:$L$500,N14)","v":40},{"$f":"O14/$Q$4","v":1},{"$f":"IF(P14=0,0,(P14*((LOG(P14))/LOG(2))))","v":0},null,null,{"$f":"N14","v":222},{"$f":"COUNTIF(L7:L13,T14)","v":7},null,null,null,{"$f":"N14","v":222},{"$f":"COUNTIF(L14:L19,Y14)","v":6},null,null,null,{"$f":"N14","v":222},{"$f":"COUNTIF(L20:L26,AD14)","v":7},null,null,null,{"$f":"N14","v":222},{"$f":"COUNTIF(L27:L33,AI14)","v":7},null,null,null,{"$f":"N14","v":222},{"$f":"COUNTIF(L34:L39,AN14)","v":6},null,null,null,{"$f":"N14","v":222},{"$f":"COUNTIF(L40:L46,AS14)","v":7}]
[21,1297,21,1303,21,1309,null,null,null,null,0,222,null,null,null,{"$f":"SUM(P7:P14)","v":1},{"$f":"-SUM(Q7:Q14)","v":0},null,null,null,null,{"$f":"SUM(V7:V14)","v":{"$error":"#DIV/0!"}},{"$f":"-SUM(W7:W14)","v":{"$error":"#DIV/0!"}},null,null,null,{"$f":"SUM(AA7:AA14)","v":{"$error":"#DIV/0!"}},{"$f":"-SUM(AB7:AB14)","v":{"$error":"#DIV/0!"}},null,null,null,{"$f":"SUM(AF7:AF14)","v":{"$error":"#DIV/0!"}},{"$f":"-SUM(AG7:AG14)","v":{"$error":"#DIV/0!"}},null,null,null,{"$f":"SUM(AK7:AK14)","v":{"$error":"#DIV/0!"}},{"$f":"-SUM(AL7:AL14)","v":{"$error":"#DIV/0!"}},null,null,null,{"$f":"SUM(AP7:AP14)","v":{"$error":"#DIV/0!"}},{"$f":"-SUM(AQ7:AQ14)","v":{"$error":"#DIV/0!"}},null,null,null,{"$f":"SUM(AU7:AU14)","v":{"$error":"#DIV/0!"}},{"$f":"-SUM(AV7:AV14)","v":{"$error":"#DIV/0!"}}]
[21,1443,21,1448,21,1454,null,null,null,null,0,222,null,null,null,"U=",{"$f":"Q15/(LOG(Q4)/LOG(2))","v":0},null,null,null,null,"U1=",{"$f":"W15/(LOG(W4)/LOG(2))","v":{"$error":"#DIV/0!"}},null,null,null,"U2=",{"$f":"AB15/(LOG(AB4)/LOG(2))","v":{"$error":"#DIV/0!"}},null,null,null,"U3=",{"$f":"AG15/(LOG(AG4)/LOG(2))","v":{"$error":"#DIV/0!"}},null,null,null,"U4=",{"$f":"AL15/(LOG(AL4)/LOG(2))","v":{"$error":"#DIV/0!"}},null,null,null,"U5=",{"$f":"AQ15/(LOG(AQ4)/LOG(2))","v":{"$error":"#DIV/0!"}},null,null,null,"U6=",{"$f":"AV15/(LOG(AV4)/LOG(2))","v":{"$error":"#DIV/0!"}}]
[21,1676,21,1682,21,1687,null,null,null,null,0,222]
[21,1814,21,1820,21,1827,null,null,null,null,0,222]
[21,2004,21,2007,21,2011,null,null,null,null,0,222,null,"Total Target Seq"]
[21,2190,21,2195,21,2205,null,null,null,null,0,222,null,{"$f":"COUNTIF(L7:L46,G3)","v":40},null,7,6,7,7,6,7]
[21,2325,21,2332,21,2338,null,null,null,null,0,222,null,null,null,"% of reinforcement given in 6 equal intervals based on number of trials "]
[21,2476,21,2479,21,2482,null,null,null,null,0,222,null,null,null,"%_1","%_2","%_3","%_4","%_5","%_6"]
[21,2688,21,2691,21,2697,null,null,null,null,0,222,null,null,"target sequence",{"$f":"$G$3","v":222},{"$f":"$G$3","v":222},{"$f":"$G$3","v":222},{"$f":"$G$3","v":222},{"$f":"$G$3","v":222},{"$f":"$G$3","v":222}]
[21,2884,21,2890,21,2894,null,null,null,null,0,222,null,null,"total reinforcement",{"$f":"U14","v":7},{"$f":"Z14","v":6},{"$f":"AE14","v":7},{"$f":"AJ14","v":7},{"$f":"AO14","v":6},{"$f":"AT14","v":7}]
[21,3051,21,3057,21,3065,null,null,null,null,0,222,null,null,"% target"]
[21,3195,21,3204,21,3211,null,null,null,null,0,222,null,null,"CCRF"]
[21,3380,21,3386,21,3408,null,null,null,null,0,222,null,null,"% CCRf"]
[21,3568,21,3571,21,3575,null,null,null,null,0,222,null,null,"average response rate",{"$f":"F13/P20","v":131},{"$f":"(F19-F13)/Q20","v":182.33333333333334},{"$f":"(F26-F19)/R20","v":171.42857142857142},{"$f":"(F33-F26)/S20","v":189.85714285714286},{"$f":"(F39-F33)/T20","v":173.83333333333334},{"$f":"(F46-F39)/U20","v":193}]
[21,3817,21,3824,21,3830,null,null,null,null,0,222]
[21,3993,21,4004,21,4018,null,null,null,null,0,222]
[21,4123,21,4134,21,4140,null,null,null,null,0,222]
[21,4284,21,4288,21,4296,null,null,null,null,0,222]
[21,4528,21,4534,21,4540,null,null,null,null,0,222]
[21,4690,21,4694,21,4700,null,null,null,null,0,222]
[21,4873,21,4880,21,4892,null,null,null,null,0,222]
[21,5089,21,5099,21,5114,null,null,null,null,0,222]
[21,5227,21,5229,21,5233,null,null,null,null,0,222]
[21,5355,21,5358,21,5362,null,null,null,null,0,222]
[21,5571,21,5577,21,5583,null,null,null,null,0,222]
[21,5731,21,5742,21,5750,null,null,null,null,0,222]
[21,5889,21,5897,21,5904,null,null,null,null,0,222]
[21,6108,21,6117,21,6122,null,null,null,null,0,222]
[21,6251,21,6253,21,6263,null,null,null,null,0,222]
[21,6473,21,6477,21,6483,null,null,null,null,0,222]
[21,6660,21,6666,21,6672,null,null,null,null,0,222]
[21,6892,21,6908,21,6934,null,null,null,null,1,222]

{"sheet":"!M40195D.UST","index":14,"n_rows":48,"n_cols":48,"rows_kept":48,"cut":false,"hidden":false,"merged":[[4,39,4,42],[5,39,5,40],[4,44,4,47],[5,44,5,45],[4,24,4,27],[5,24,5,25],[4,29,4,32],[5,29,5,30],[4,34,4,37],[5,34,5,35],[1,1,1,2],[5,13,5,14],[18,13,18,14],[19,13,19,14],[4,19,4,22],[5,19,5,20]]}
["Report for:!M40195D.UST"]
["Date:","<date>"]
["Hen:","<hen>",null,null,null,"Correct Sequence",{"$f":"Start!J2","v":222},null,null,null,null,null,null,null,null,"Total Sequences in Data",{"$f":"4994-COUNTBLANK(L7:L5000)","v":42},null,null,null,null,"Total Sequences in Block Data",{"$f":"COUNTA(L7:L13)","v":7},null,null,null,"Total Sequences in Block Data",{"$f":"COUNTA(L14:L20)","v":7},null,null,null,"Total Sequences in Block Data",{"$f":"COUNTA(L21:L27)","v":7},null,null,null,"Total Sequences in Block Data",{"$f":"COUNTA(L28:L34)","v":7},null,null,null,"Total Sequences in Block Data",{"$f":"COUNTA(L35:L41)","v":7},null,null,null,"Total Sequences in Block Data",{"$f":"COUNTA(L42:L48)","v":7}]
[null,null,null,null,null,null,null,null,null,null,null,null,null,null,null,"Total Sequences in Summary",{"$f":"SUM(O7:O14)","v":42},null,null,null,null,"Total Sequences in Block Summary",{"$f":"SUM(U7:U14)","v":7},null,null,null,"Total Sequences in Block Summary",{"$f":"SUM(Z7:Z14)","v":7},null,null,null,"Total Sequences in Block Summary",{"$f":"SUM(AE7:AE14)","v":7},null,null,null,"Total Sequences in Block Summary",{"$f":"SUM(AJ7:AJ14)","v":7},null,null,null,"Total Sequences in Block Summary",{"$f":"SUM(AO7:AO14)","v":7},null,null,null,"Total Sequences in Block Summary",{"$f":"SUM(AT7:AT14)","v":7}]
[null,null,null,null,null,null,null,null,null,null,null,null,null,null,null,null,null,null,null,"Block 1",null,null,null,null,"Block 2",null,null,null,null,"Block 3",null,null,null,null,"Block 4",null,null,null,null,"Block 5",null,null,null,null,"Block 6"]
["Sequence\nComponent\n1","Time\n1","Sequence\nComponent\n2","Time\n2","Sequence\nComponent\n3","Time\n3","Sequence\nComponent\n4","Time\n4","Sequence\nComponent\n5","Time\n5","Correct?\n0=No 1=Yes","Sequence",null,"Frequency",null,"Relative Frequency","Variability",null,null,"Frequency",null,"Relative Frequency","Variability",null,"Frequency",null,"Relative Frequency","Variability",null,"Frequency",null,"Relative Frequency","Variability",null,"Frequency",null,"Relative Frequency","Variability",null,"Frequency",null,"Relative Frequency","Variability",null,"Frequency",null,"Relative Frequency","Variability"]
[12,19,14,25,14,31,null,null,null,null,0,111,null,111,{"$f":"COUNTIF($L$7:$L$500,N7)","v":1},{"$f":"O7/$Q$4","v":2.3809523809523808E-2},{"$f":"IF(P7=0,0,(P7*((LOG(P7))/LOG(2))))","v":-0.12838851006616095},null,null,{"$f":"N7","v":111},{"$f":"COUNTIF(L7:L13,T7)","v":1},{"$f":"U7/(W4-U14)","v":1},{"$f":"IF(V7=0,0,(V7*((LOG(V7))/LOG(2))))","v":0},null,{"$f":"N7","v":111},{"$f":"COUNTIF(L14:L20,Y7)","v":0},{"$f":"Z7/(AB4-Z14)","v":{"$error":"#DIV/0!"}},{"$f":"IF(AA7=0,0,(AA7*((LOG(AA7))/LOG(2))))","v":{"$error":"#DIV/0!"}},null,{"$f":"N7","v":111},{"$f":"COUNTIF(L21:L27,AD7)","v":0},{"$f":"AE7/(AG4-AE14)","v":{"$error":"#DIV/0!"}},{"$f":"IF(AF7=0,0,(AF7*((LOG(AF7))/LOG(2))))","v":{"$error":"#DIV/0!"}},null,{"$f":"N7","v":111},{"$f":"COUNTIF(L28:L34,AI7)","v":0},{"$f":"AJ7/(AL4-AJ14)","v":{"$error":"#DIV/0!"}},{"$f":"IF(AK7=0,0,(AK7*((LOG(AK7))/LOG(2))))","v":{"$error":"#DIV/0!"}},null,{"$f":"N7","v":111},{"$f":"COUNTIF(L35:L41,AN7)","v":0},{"$f":"AO7/(AQ4-AO14)","v":{"$error":"#DIV/0!"}},{"$f":"IF(AP7=0,0,(AP7*((LOG(AP7))/LOG(2))))","v":{"$error":"#DIV/0!"}},null,{"$f":"N7","v":111},{"$f":"COUNTIF(L42:L48,AS7)","v":0},{"$f":"AT7/(AV4-AT14)","v":0},{"$f":"IF(AU7=0,0,(AU7*((LOG(AU7))/LOG(2))))","v":0}]
[21,133,21,138,21,145,null,null,null,null,0,222,null,112,{"$f":"COUNTIF($L$7:$L$500,N8)","v":0},{"$f":"O8/$Q$4","v":0},{"$f":"IF(P8=0,0,(P8*((LOG(P8))/LOG(2))))","v":0},null,null,{"$f":"N8","v":112},{"$f":"COUNTIF(L7:L13,T8)","v":0},{"$f":"U8/(W4-U14)","v":0},{"$f":"IF(V8=0,0,(V8*((LOG(V8))/LOG(2))))","v":0},null,{"$f":"N8","v":112},{"$f":"COUNTIF(L14:L20,Y8)","v":0},{"$f":"Z8/(AB4-Z14)","v":{"$error":"#DIV/0!"}},{"$f":"IF(AA8=0,0,(AA8*((LOG(AA8))/LOG(2))))","v":{"$error":"#DIV/0!"}},null,{"$f":"N8","v":112},{"$f":"COUNTIF(L21:L27,AD8)","v":0},{"$f":"AE8/(AG4-AE14)","v":{"$error":"#DIV/0!"}},{"$f":"IF(AF8=0,0,(AF8*((LOG(AF8))/LOG(2))))","v":{"$error":"#DIV/0!"}},null,{"$f":"N8","v":112},{"$f":"COUNTIF(L28:L34,AI8)","v":0},{"$f":"AJ8/(AL4-AJ14)","v":{"$error":"#DIV/0!"}},{"$f":"IF(AK8=0,0,(AK8*((LOG(AK8))/LOG(2))))","v":{"$error":"#DIV/0!"}},null,{"$f":"N8","v":112},{"$f":"COUNTIF(L35:L41,AN8)","v":0},{"$f":"AO8/(AQ4-AO14)","v":{"$error":"#DIV/0!"}},{"$f":"IF(AP8=0,0,(AP8*((LOG(AP8))/LOG(2))))","v":{"$error":"#DIV/0!"}},null,{"$f":"N8","v":112},{"$f":"COUNTIF(L42:L48,AS8)","v":0},{"$f":"AT8/(AV4-AT14)","v":0},{"$f":"IF(AU8=0,0,(AU8*((LOG(AU8))/LOG(2))))","v":0}]
[21,275,21,281,21,287,null,null,null,null,0,222,null,121,{"$f":"COUNTIF($L$7:$L$500,N9)","v":0},{"$f":"O9/$Q$4","v":0},{"$f":"IF(P9=0,0,(P9*((LOG(P9))/LOG(2))))","v":0},null,null,{"$f":"N9","v":121},{"$f":"COUNTIF(L7:L13,T9)","v":0},{"$f":"U9/(W4-U14)","v":0},{"$f":"IF(V9=0,0,(V9*((LOG(V9))/LOG(2))))","v":0},null,{"$f":"N9","v":121},{"$f":"COUNTIF(L14:L20,Y9)","v":0},{"$f":"Z9/(AB4-Z14)","v":{"$error":"#DIV/0!"}},{"$f":"IF(AA9=0,0,(AA9*((LOG(AA9))/LOG(2))))","v":{"$error":"#DIV/0!"}},null,{"$f":"N9","v":121},{"$f":"COUNTIF(L21:L27,AD9)","v":0},{"$f":"AE9/(AG4-AE14)","v":{"$error":"#DIV/0!"}},{"$f":"IF(AF9=0,0,(AF9*((LOG(AF9))/LOG(2))))","v":{"$error":"#DIV/0!"}},null,{"$f":"N9","v":121},{"$f":"COUNTIF(L28:L34,AI9)","v":0},{"$f":"AJ9/(AL4-AJ14)","v":{"$error":"#DIV/0!"}},{"$f":"IF(AK9=0,0,(AK9*((LOG(AK9))/LOG(2))))","v":{"$error":"#DIV/0!"}},null,{"$f":"N9","v":121},{"$f":"COUNTIF(L35:L41,AN9)","v":0},{"$f":"AO9/(AQ4-AO14)","v":{"$error":"#DIV/0!"}},{"$f":"IF(AP9=0,0,(AP9*((LOG(AP9))/LOG(2))))","v":{"$error":"#DIV/0!"}},null,{"$f":"N9","v":121},{"$f":"COUNTIF(L42:L48,AS9)","v":0},{"$f":"AT9/(AV4-AT14)","v":0},{"$f":"IF(AU9=0,0,(AU9*((LOG(AU9))/LOG(2))))","v":0}]
[21,434,21,450,21,480,null,null,null,null,0,222,null,122,{"$f":"COUNTIF($L$7:$L$500,N10)","v":1},{"$f":"O10/$Q$4","v":2.3809523809523808E-2},{"$f":"IF(P10=0,0,(P10*((LOG(P10))/LOG(2))))","v":-0.12838851006616095},null,null,{"$f":"N10","v":122},{"$f":"COUNTIF(L7:L13,T10)","v":0},{"$f":"U10/(W4-U14)","v":0},{"$f":"IF(V10=0,0,(V10*((LOG(V10))/LOG(2))))","v":0},null,{"$f":"N10","v":122},{"$f":"COUNTIF(L14:L20,Y10)","v":0},{"$f":"Z10/(AB4-Z14)","v":{"$error":"#DIV/0!"}},{"$f":"IF(AA10=0,0,(AA10*((LOG(AA10))/LOG(2))))","v":{"$error":"#DIV/0!"}},null,{"$f":"N10","v":122},{"$f":"COUNTIF(L21:L27,AD10)","v":0},{"$f":"AE10/(AG4-AE14)","v":{"$error":"#DIV/0!"}},{"$f":"IF(AF10=0,0,(AF10*((LOG(AF10))/LOG(2))))","v":{"$error":"#DIV/0!"}},null,{"$f":"N10","v":122},{"$f":"COUNTIF(L28:L34,AI10)","v":0},{"$f":"AJ10/(AL4-AJ14)","v":{"$error":"#DIV/0!"}},{"$f":"IF(AK10=0,0,(AK10*((LOG(AK10))/LOG(2))))","v":{"$error":"#DIV/0!"}},null,{"$f":"N10","v":122},{"$f":"COUNTIF(L35:L41,AN10)","v":0},{"$f":"AO10/(AQ4-AO14)","v":{"$error":"#DIV/0!"}},{"$f":"IF(AP10=0,0,(AP10*((LOG(AP10))/LOG(2))))","v":{"$error":"#DIV/0!"}},null,{"$f":"N10","v":122},{"$f":"COUNTIF(L42:L48,AS10)","v":1},{"$f":"AT10/(AV4-AT14)","v":1},{"$f":"IF(AU10=0,0,(AU10*((LOG(AU10))/LOG(2))))","v":0}]
[21,627,21,634,21,640,null,null,null,null,0,222,null,211,{"$f":"COUNTIF($L$7:$L$500,N11)","v":0},{"$f":"O11/$Q$4","v":0},{"$f":"IF(P11=0,0,(P11*((LOG(P11))/LOG(2))))","v":0},null,null,{"$f":"N11","v":211},{"$f":"COUNTIF(L7:L13,T11)","v":0},{"$f":"U11/(W4-U14)","v":0},{"$f":"IF(V11=0,0,(V11*((LOG(V11))/LOG(2))))","v":0},null,{"$f":"N11","v":211},{"$f":"COUNTIF(L14:L20,Y11)","v":0},{"$f":"Z11/(AB4-Z14)","v":{"$error":"#DIV/0!"}},{"$f":"IF(AA11=0,0,(AA11*((LOG(AA11))/LOG(2))))","v":{"$error":"#DIV/0!"}},null,{"$f":"N11","v":211},{"$f":"COUNTIF(L21:L27,AD11)","v":0},{"$f":"AE11/(AG4-AE14)","v":{"$error":"#DIV/0!"}},{"$f":"IF(AF11=0,0,(AF11*((LOG(AF11))/LOG(2))))","v":{"$error":"#DIV/0!"}},null,{"$f":"N11","v":211},{"$f":"COUNTIF(L28:L34,AI11)","v":0},{"$f":"AJ11/(AL4-AJ14)","v":{"$error":"#DIV/0!"}},{"$f":"IF(AK11=0,0,(AK11*((LOG(AK11))/LOG(2))))","v":{"$error":"#DIV/0!"}},null,{"$f":"N11","v":211},{"$f":"COUNTIF(L35:L41,AN11)","v":0},{"$f":"AO11/(AQ4-AO14)","v":{"$error":"#DIV/0!"}},{"$f":"IF(AP11=0,0,(AP11*((LOG(AP11))/LOG(2))))","v":{"$error":"#DIV/0!"}},null,{"$f":"N11","v":211},{"$f":"COUNTIF(L42:L48,AS11)","v":0},{"$f":"AT11/(AV4-AT14)","v":0},{"$f":"IF(AU11=0,0,(AU11*((LOG(AU11))/LOG(2))))","v":0}]
[21,784,21,789,21,795,null,null,null,null,0,222,null,212,{"$f":"COUNTIF($L$7:$L$500,N12)","v":0},{"$f":"O12/$Q$4","v":0},{"$f":"IF(P12=0,0,(P12*((LOG(P12))/LOG(2))))","v":0},null,null,{"$f":"N12","v":212},{"$f":"COUNTIF(L7:L13,T12)","v":0},{"$f":"U12/(W4-U14)","v":0},{"$f":"IF(V12=0,0,(V12*((LOG(V12))/LOG(2))))","v":0},null,{"$f":"N12","v":212},{"$f":"COUNTIF(L14:L20,Y12)","v":0},{"$f":"Z12/(AB4-Z14)","v":{"$error":"#DIV/0!"}},{"$f":"IF(AA12=0,0,(AA12*((LOG(AA12))/LOG(2))))","v":{"$error":"#DIV/0!"}},null,{"$f":"N12","v":212},{"$f":"COUNTIF(L21:L27,AD12)","v":0},{"$f":"AE12/(AG4-AE14)","v":{"$error":"#DIV/0!"}},{"$f":"IF(AF12=0,0,(AF12*((LOG(AF12))/LOG(2))))","v":{"$error":"#DIV/0!"}},null,{"$f":"N12","v":212},{"$f":"COUNTIF(L28:L34,AI12)","v":0},{"$f":"AJ12/(AL4-AJ14)","v":{"$error":"#DIV/0!"}},{"$f":"IF(AK12=0,0,(AK12*((LOG(AK12))/LOG(2))))","v":{"$error":"#DIV/0!"}},null,{"$f":"N12","v":212},{"$f":"COUNTIF(L35:L41,AN12)","v":0},{"$f":"AO12/(AQ4-AO14)","v":{"$error":"#DIV/0!"}},{"$f":"IF(AP12=0,0,(AP12*((LOG(AP12))/LOG(2))))","v":{"$error":"#DIV/0!"}},null,{"$f":"N12","v":212},{"$f":"COUNTIF(L42:L48,AS12)","v":0},{"$f":"AT12/(AV4-AT14)","v":0},{"$f":"IF(AU12=0,0,(AU12*((LOG(AU12))/LOG(2))))","v":0}]
[21,923,21,927,21,939,null,null,null,null,0,222,null,221,{"$f":"COUNTIF($L$7:$L$500,N13)","v":0},{"$f":"O13/$Q$4","v":0},{"$f":"IF(P13=0,0,(P13*((LOG(P13))/LOG(2))))","v":0},null,null,{"$f":"N13","v":221},{"$f":"COUNTIF(L7:L13,T13)","v":0},{"$f":"U13/(W4-U14)","v":0},{"$f":"IF(V13=0,0,(V13*((LOG(V13))/LOG(2))))","v":0},null,{"$f":"N13","v":221},{"$f":"COUNTIF(L14:L20,Y13)","v":0},{"$f":"Z13/(AB4-Z14)","v":{"$error":"#DIV/0!"}},{"$f":"IF(AA13=0,0,(AA13*((LOG(AA13))/LOG(2))))","v":{"$error":"#DIV/0!"}},null,{"$f":"N13","v":221},{"$f":"COUNTIF(L21:L27,AD13)","v":0},{"$f":"AE13/(AG4-AE14)","v":{"$error":"#DIV/0!"}},{"$f":"IF(AF13=0,0,(AF13*((LOG(AF13))/LOG(2))))","v":{"$error":"#DIV/0!"}},null,{"$f":"N13","v":221},{"$f":"COUNTIF(L28:L34,AI13)","v":0},{"$f":"AJ13/(AL4-AJ14)","v":{"$error":"#DIV/0!"}},{"$f":"IF(AK13=0,0,(AK13*((LOG(AK13))/LOG(2))))","v":{"$error":"#DIV/0!"}},null,{"$f":"N13","v":221},{"$f":"COUNTIF(L35:L41,AN13)","v":0},{"$f":"AO13/(AQ4-AO14)","v":{"$error":"#DIV/0!"}},{"$f":"IF(AP13=0,0,(AP13*((LOG(AP13))/LOG(2))))","v":{"$error":"#DIV/0!"}},null,{"$f":"N13","v":221},{"$f":"COUNTIF(L42:L48,AS13)","v":0},{"$f":"AT13/(AV4-AT14)","v":0},{"$f":"IF(AU13=0,0,(AU13*((LOG(AU13))/LOG(2))))","v":0}]
[21,1067,21,1075,21,1080,null,null,null,null,0,222,null,222,{"$f":"COUNTIF($L$7:$L$500,N14)","v":40},{"$f":"O14/$Q$4","v":0.95238095238095233},{"$f":"IF(P14=0,0,(P14*((LOG(P14))/LOG(2))))","v":-6.7037455134664775E-2},null,null,{"$f":"N14","v":222},{"$f":"COUNTIF(L7:L13,T14)","v":6},null,null,null,{"$f":"N14","v":222},{"$f":"COUNTIF(L14:L20,Y14)","v":7},null,null,null,{"$f":"N14","v":222},{"$f":"COUNTIF(L21:L27,AD14)","v":7},null,null,null,{"$f":"N14","v":222},{"$f":"COUNTIF(L28:L34,AI14)","v":7},null,null,null,{"$f":"N14","v":222},{"$f":"COUNTIF(L35:L41,AN14)","v":7},null,null,null,{"$f":"N14","v":222},{"$f":"COUNTIF(L42:L48,AS14)","v":6}]
[21,1337,21,1344,21,1347,null,null,null,null,0,222,null,null,null,{"$f":"SUM(P7:P14)","v":1},{"$f":"-SUM(Q7:Q14)","v":0.3238144752669867},null,null,null,null,{"$f":"SUM(V7:V14)","v":1},{"$f":"-SUM(W7:W14)","v":0},null,null,null,{"$f":"SUM(AA7:AA14)","v":{"$error":"#DIV/0!"}},{"$f":"-SUM(AB7:AB14)","v":{"$error":"#DIV/0!"}},null,null,null,{"$f":"SUM(AF7:AF14)","v":{"$error":"#DIV/0!"}},{"$f":"-SUM(AG7:AG14)","v":{"$error":"#DIV/0!"}},null,null,null,{"$f":"SUM(AK7:AK14)","v":{"$error":"#DIV/0!"}},{"$f":"-SUM(AL7:AL14)","v":{"$error":"#DIV/0!"}},null,null,null,{"$f":"SUM(AP7:AP14)","v":{"$error":"#DIV/0!"}},{"$f":"-SUM(AQ7:AQ14)","v":{"$error":"#DIV/0!"}},null,null,null,{"$f":"SUM(AU7:AU14)","v":1},{"$f":"-SUM(AV7:AV14)","v":0}]
[21,1638,21,1644,21,1664,null,null,null,null,0,222,null,null,null,"U=",{"$f":"Q15/(LOG(Q4)/LOG(2))","v":6.0051078206022804E-2},null,null,null,null,"U1=",{"$f":"W15/(LOG(W4)/LOG(2))","v":0},null,null,null,"U2=",{"$f":"AB15/(LOG(AB4)/LOG(2))","v":{"$error":"#DIV/0!"}},null,null,null,"U3=",{"$f":"AG15/(LOG(AG4)/LOG(2))","v":{"$error":"#DIV/0!"}},null,null,null,"U4=",{"$f":"AL15/(LOG(AL4)/LOG(2))","v":{"$error":"#DIV/0!"}},null,null,null,"U5=",{"$f":"AQ15/(LOG(AQ4)/LOG(2))","v":{"$error":"#DIV/0!"}},null,null,null,"U6=",{"$f":"AV15/(LOG(AV4)/LOG(2))","v":0}]
[21,1822,21,1830,21,1836,null,null,null,null,0,222]
[21,1950,21,1959,21,1964,null,null,null,null,0,222]
[21,2108,21,2114,21,2121,null,null,null,null,0,222,null,"Total Target Seq"]
[21,2271,21,2274,21,2277,null,null,null,null,0,222,null,{"$f":"COUNTIF(L7:L48,G3)","v":40},null,7,7,7,7,7,7]
[21,2424,21,2426,21,2431,null,null,null,null,0,222,null,null,null,"% of reinforcement given in 6 equal intervals based on number of trials "]
[21,2567,21,2574,21,2581,null,null,null,null,0,222,null,null,null,"%_1","%_2","%_3","%_4","%_5","%_6"]
[21,2766,21,2774,21,2779,null,null,null,null,0,222,null,null,"target sequence",{"$f":"$G$3","v":222},{"$f":"$G$3","v":222},{"$f":"$G$3","v":222},{"$f":"$G$3","v":222},{"$f":"$G$3","v":222},{"$f":"$G$3","v":222}]
[21,2879,21,2886,21,2895,null,null,null,null,0,222,null,null,"total reinforcement",{"$f":"U14","v":6},{"$f":"Z14","v":7},{"$f":"AE14","v":7},{"$f":"AJ14","v":7},{"$f":"AO14","v":7},{"$f":"AT14","v":6}]
[21,3015,21,3019,21,3032,null,null,null,null,0,222,null,null,"% target"]
[21,3182,21,3188,21,3195,null,null,null,null,0,222,null,null,"CCRF"]
[21,3354,21,3355,21,3369,null,null,null,null,0,222,null,null,"% CCRf"]
[21,3590,21,3595,21,3601,null,null,null,null,0,222,null,null,"average response rate",{"$f":"F13/P20","v":134.14285714285714},{"$f":"(F20-F13)/Q20","v":191.14285714285714},{"$f":"(F27-F20)/R20","v":156},{"$f":"(F34-F27)/S20","v":182.57142857142858},{"$f":"(F41-F34)/T20","v":203.28571428571428},{"$f":"(F48-F41)/U20","v":179.28571428571428}]
[21,3772,21,3778,21,3783,null,null,null,null,0,222]
[21,3988,21,3990,21,3994,null,null,null,null,0,222]
[21,4179,21,4188,21,4196,null,null,null,null,0,222]
[21,4319,21,4330,21,4337,null,null,null,null,0,222]
[21,4486,21,4492,21,4498,null,null,null,null,0,222]
[21,4631,21,4637,21,4647,null,null,null,null,0,222]
[21,4798,21,4805,21,4810,null,null,null,null,0,222]
[21,4938,21,4944,21,4950,null,null,null,null,0,222]
[21,5123,21,5127,21,5133,null,null,null,null,0,222]
[21,5493,21,5498,21,5500,null,null,null,null,0,222]
[21,5669,21,5681,21,5693,null,null,null,null,0,222]
[21,5859,21,5870,21,5876,null,null,null,null,0,222]
[21,6061,21,6064,21,6070,null,null,null,null,0,222]
[21,6178,21,6184,21,6190,null,null,null,null,0,222]
[21,6354,21,6360,21,6373,null,null,null,null,0,222]
[21,6507,21,6521,21,6526,null,null,null,null,0,222]
[21,6726,21,6740,21,6746,null,null,null,null,0,222]
[21,6929,21,6938,21,6941,null,null,null,null,0,222]
[12,7183,23,7198,23,7206,null,null,null,null,0,122]
[21,7308,21,7310,21,7325,null,null,null,null,1,222]

{"sheet":"!M402B3D.UST","index":15,"n_rows":47,"n_cols":48,"rows_kept":47,"cut":false,"hidden":false,"merged":[[4,39,4,42],[5,39,5,40],[4,44,4,47],[5,44,5,45],[4,24,4,27],[5,24,5,25],[4,29,4,32],[5,29,5,30],[4,34,4,37],[5,34,5,35],[1,1,1,2],[5,13,5,14],[18,13,18,14],[19,13,19,14],[4,19,4,22],[5,19,5,20]]}
["Report for:!M402B3D.UST"]
["Date:","<date>"]
["Hen:","<hen>",null,null,null,"Correct Sequence",{"$f":"Start!J2","v":222},null,null,null,null,null,null,null,null,"Total Sequences in Data",{"$f":"4994-COUNTBLANK(L7:L5000)","v":41},null,null,null,null,"Total Sequences in Block Data",{"$f":"COUNTA(L7:L13)","v":7},null,null,null,"Total Sequences in Block Data",{"$f":"COUNTA(L14:L20)","v":7},null,null,null,"Total Sequences in Block Data",{"$f":"COUNTA(L21:L26)","v":6},null,null,null,"Total Sequences in Block Data",{"$f":"COUNTA(L27:L33)","v":7},null,null,null,"Total Sequences in Block Data",{"$f":"COUNTA(L34:L40)","v":7},null,null,null,"Total Sequences in Block Data",{"$f":"COUNTA(L41:L47)","v":7}]
[null,null,null,null,null,null,null,null,null,null,null,null,null,null,null,"Total Sequences in Summary",{"$f":"SUM(O7:O14)","v":41},null,null,null,null,"Total Sequences in Block Summary",{"$f":"SUM(U7:U14)","v":7},null,null,null,"Total Sequences in Block Summary",{"$f":"SUM(Z7:Z14)","v":7},null,null,null,"Total Sequences in Block Summary",{"$f":"SUM(AE7:AE14)","v":6},null,null,null,"Total Sequences in Block Summary",{"$f":"SUM(AJ7:AJ14)","v":7},null,null,null,"Total Sequences in Block Summary",{"$f":"SUM(AO7:AO14)","v":7},null,null,null,"Total Sequences in Block Summary",{"$f":"SUM(AT7:AT14)","v":7}]
[null,null,null,null,null,null,null,null,null,null,null,null,null,null,null,null,null,null,null,"Block 1",null,null,null,null,"Block 2",null,null,null,null,"Block 3",null,null,null,null,"Block 4",null,null,null,null,"Block 5",null,null,null,null,"Block 6"]
["Sequence\nComponent\n1","Time\n1","Sequence\nComponent\n2","Time\n2","Sequence\nComponent\n3","Time\n3","Sequence\nComponent\n4","Time\n4","Sequence\nComponent\n5","Time\n5","Correct?\n0=No 1=Yes","Sequence",null,"Frequency",null,"Relative Frequency","Variability",null,null,"Frequency",null,"Relative Frequency","Variability",null,"Frequency",null,"Relative Frequency","Variability",null,"Frequency",null,"Relative Frequency","Variability",null,"Frequency",null,"Relative Frequency","Variability",null,"Frequency",null,"Relative Frequency","Variability",null,"Frequency",null,"Relative Frequency","Variability"]
[12,10,23,18,23,26,null,null,null,null,0,122,null,111,{"$f":"COUNTIF($L$7:$L$500,N7)","v":0},{"$f":"O7/$Q$4","v":0},{"$f":"IF(P7=0,0,(P7*((LOG(P7))/LOG(2))))","v":0},null,null,{"$f":"N7","v":111},{"$f":"COUNTIF(L7:L13,T7)","v":0},{"$f":"U7/(W4-U14)","v":0},{"$f":"IF(V7=0,0,(V7*((LOG(V7))/LOG(2))))","v":0},null,{"$f":"N7","v":111},{"$f":"COUNTIF(L14:L20,Y7)","v":0},{"$f":"Z7/(AB4-Z14)","v":{"$error":"#DIV/0!"}},{"$f":"IF(AA7=0,0,(AA7*((LOG(AA7))/LOG(2))))","v":{"$error":"#DIV/0!"}},null,{"$f":"N7","v":111},{"$f":"COUNTIF(L21:L26,AD7)","v":0},{"$f":"AE7/(AG4-AE14)","v":{"$error":"#DIV/0!"}},{"$f":"IF(AF7=0,0,(AF7*((LOG(AF7))/LOG(2))))","v":{"$error":"#DIV/0!"}},null,{"$f":"N7","v":111},{"$f":"COUNTIF(L27:L33,AI7)","v":0},{"$f":"AJ7/(AL4-AJ14)","v":{"$error":"#DIV/0!"}},{"$f":"IF(AK7=0,0,(AK7*((LOG(AK7))/LOG(2))))","v":{"$error":"#DIV/0!"}},null,{"$f":"N7","v":111},{"$f":"COUNTIF(L34:L40,AN7)","v":0},{"$f":"AO7/(AQ4-AO14)","v":{"$error":"#DIV/0!"}},{"$f":"IF(AP7=0,0,(AP7*((LOG(AP7))/LOG(2))))","v":{"$error":"#DIV/0!"}},null,{"$f":"N7","v":111},{"$f":"COUNTIF(L41:L47,AS7)","v":0},{"$f":"AT7/(AV4-AT14)","v":{"$error":"#DIV/0!"}},{"$f":"IF(AU7=0,0,(AU7*((LOG(AU7))/LOG(2))))","v":{"$error":"#DIV/0!"}}]
[21,121,21,128,21,137,null,null,null,null,0,222,null,112,{"$f":"COUNTIF($L$7:$L$500,N8)","v":0},{"$f":"O8/$Q$4","v":0},{"$f":"IF(P8=0,0,(P8*((LOG(P8))/LOG(2))))","v":0},null,null,{"$f":"N8","v":112},{"$f":"COUNTIF(L7:L13,T8)","v":0},{"$f":"U8/(W4-U14)","v":0},{"$f":"IF(V8=0,0,(V8*((LOG(V8))/LOG(2))))","v":0},null,{"$f":"N8","v":112},{"$f":"COUNTIF(L14:L20,Y8)","v":0},{"$f":"Z8/(AB4-Z14)","v":{"$error":"#DIV/0!"}},{"$f":"IF(AA8=0,0,(AA8*((LOG(AA8))/LOG(2))))","v":{"$error":"#DIV/0!"}},null,{"$f":"N8","v":112},{"$f":"COUNTIF(L21:L26,AD8)","v":0},{"$f":"AE8/(AG4-AE14)","v":{"$error":"#DIV/0!"}},{"$f":"IF(AF8=0,0,(AF8*((LOG(AF8))/LOG(2))))","v":{"$error":"#DIV/0!"}},null,{"$f":"N8","v":112},{"$f":"COUNTIF(L27:L33,AI8)","v":0},{"$f":"AJ8/(AL4-AJ14)","v":{"$error":"#DIV/0!"}},{"$f":"IF(AK8=0,0,(AK8*((LOG(AK8))/LOG(2))))","v":{"$error":"#DIV/0!"}},null,{"$f":"N8","v":112},{"$f":"COUNTIF(L34:L40,AN8)","v":0},{"$f":"AO8/(AQ4-AO14)","v":{"$error":"#DIV/0!"}},{"$f":"IF(AP8=0,0,(AP8*((LOG(AP8))/LOG(2))))","v":{"$error":"#DIV/0!"}},null,{"$f":"N8","v":112},{"$f":"COUNTIF(L41:L47,AS8)","v":0},{"$f":"AT8/(AV4-AT14)","v":{"$error":"#DIV/0!"}},{"$f":"IF(AU8=0,0,(AU8*((LOG(AU8))/LOG(2))))","v":{"$error":"#DIV/0!"}}]
[21,263,21,266,21,276,null,null,null,null,0,222,null,121,{"$f":"COUNTIF($L$7:$L$500,N9)","v":0},{"$f":"O9/$Q$4","v":0},{"$f":"IF(P9=0,0,(P9*((LOG(P9))/LOG(2))))","v":0},null,null,{"$f":"N9","v":121},{"$f":"COUNTIF(L7:L13,T9)","v":0},{"$f":"U9/(W4-U14)","v":0},{"$f":"IF(V9=0,0,(V9*((LOG(V9))/LOG(2))))","v":0},null,{"$f":"N9","v":121},{"$f":"COUNTIF(L14:L20,Y9)","v":0},{"$f":"Z9/(AB4-Z14)","v":{"$error":"#DIV/0!"}},{"$f":"IF(AA9=0,0,(AA9*((LOG(AA9))/LOG(2))))","v":{"$error":"#DIV/0!"}},null,{"$f":"N9","v":121},{"$f":"COUNTIF(L21:L26,AD9)","v":0},{"$f":"AE9/(AG4-AE14)","v":{"$error":"#DIV/0!"}},{"$f":"IF(AF9=0,0,(AF9*((LOG(AF9))/LOG(2))))","v":{"$error":"#DIV/0!"}},null,{"$f":"N9","v":121},{"$f":"COUNTIF(L27:L33,AI9)","v":0},{"$f":"AJ9/(AL4-AJ14)","v":{"$error":"#DIV/0!"}},{"$f":"IF(AK9=0,0,(AK9*((LOG(AK9))/LOG(2))))","v":{"$error":"#DIV/0!"}},null,{"$f":"N9","v":121},{"$f":"COUNTIF(L34:L40,AN9)","v":0},{"$f":"AO9/(AQ4-AO14)","v":{"$error":"#DIV/0!"}},{"$f":"IF(AP9=0,0,(AP9*((LOG(AP9))/LOG(2))))","v":{"$error":"#DIV/0!"}},null,{"$f":"N9","v":121},{"$f":"COUNTIF(L41:L47,AS9)","v":0},{"$f":"AT9/(AV4-AT14)","v":{"$error":"#DIV/0!"}},{"$f":"IF(AU9=0,0,(AU9*((LOG(AU9))/LOG(2))))","v":{"$error":"#DIV/0!"}}]
[21,445,21,449,21,453,null,null,null,null,0,222,null,122,{"$f":"COUNTIF($L$7:$L$500,N10)","v":1},{"$f":"O10/$Q$4","v":2.4390243902439025E-2},{"$f":"IF(P10=0,0,(P10*((LOG(P10))/LOG(2))))","v":-0.13067200011263619},null,null,{"$f":"N10","v":122},{"$f":"COUNTIF(L7:L13,T10)","v":1},{"$f":"U10/(W4-U14)","v":1},{"$f":"IF(V10=0,0,(V10*((LOG(V10))/LOG(2))))","v":0},null,{"$f":"N10","v":122},{"$f":"COUNTIF(L14:L20,Y10)","v":0},{"$f":"Z10/(AB4-Z14)","v":{"$error":"#DIV/0!"}},{"$f":"IF(AA10=0,0,(AA10*((LOG(AA10))/LOG(2))))","v":{"$error":"#DIV/0!"}},null,{"$f":"N10","v":122},{"$f":"COUNTIF(L21:L26,AD10)","v":0},{"$f":"AE10/(AG4-AE14)","v":{"$error":"#DIV/0!"}},{"$f":"IF(AF10=0,0,(AF10*((LOG(AF10))/LOG(2))))","v":{"$error":"#DIV/0!"}},null,{"$f":"N10","v":122},{"$f":"COUNTIF(L27:L33,AI10)","v":0},{"$f":"AJ10/(AL4-AJ14)","v":{"$error":"#DIV/0!"}},{"$f":"IF(AK10=0,0,(AK10*((LOG(AK10))/LOG(2))))","v":{"$error":"#DIV/0!"}},null,{"$f":"N10","v":122},{"$f":"COUNTIF(L34:L40,AN10)","v":0},{"$f":"AO10/(AQ4-AO14)","v":{"$error":"#DIV/0!"}},{"$f":"IF(AP10=0,0,(AP10*((LOG(AP10))/LOG(2))))","v":{"$error":"#DIV/0!"}},null,{"$f":"N10","v":122},{"$f":"COUNTIF(L41:L47,AS10)","v":0},{"$f":"AT10/(AV4-AT14)","v":{"$error":"#DIV/0!"}},{"$f":"IF(AU10=0,0,(AU10*((LOG(AU10))/LOG(2))))","v":{"$error":"#DIV/0!"}}]
[21,603,21,611,21,619,null,null,null,null,0,222,null,211,{"$f":"COUNTIF($L$7:$L$500,N11)","v":0},{"$f":"O11/$Q$4","v":0},{"$f":"IF(P11=0,0,(P11*((LOG(P11))/LOG(2))))","v":0},null,null,{"$f":"N11","v":211},{"$f":"COUNTIF(L7:L13,T11)","v":0},{"$f":"U11/(W4-U14)","v":0},{"$f":"IF(V11=0,0,(V11*((LOG(V11))/LOG(2))))","v":0},null,{"$f":"N11","v":211},{"$f":"COUNTIF(L14:L20,Y11)","v":0},{"$f":"Z11/(AB4-Z14)","v":{"$error":"#DIV/0!"}},{"$f":"IF(AA11=0,0,(AA11*((LOG(AA11))/LOG(2))))","v":{"$error":"#DIV/0!"}},null,{"$f":"N11","v":211},{"$f":"COUNTIF(L21:L26,AD11)","v":0},{"$f":"AE11/(AG4-AE14)","v":{"$error":"#DIV/0!"}},{"$f":"IF(AF11=0,0,(AF11*((LOG(AF11))/LOG(2))))","v":{"$error":"#DIV/0!"}},null,{"$f":"N11","v":211},{"$f":"COUNTIF(L27:L33,AI11)","v":0},{"$f":"AJ11/(AL4-AJ14)","v":{"$error":"#DIV/0!"}},{"$f":"IF(AK11=0,0,(AK11*((LOG(AK11))/LOG(2))))","v":{"$error":"#DIV/0!"}},null,{"$f":"N11","v":211},{"$f":"COUNTIF(L34:L40,AN11)","v":0},{"$f":"AO11/(AQ4-AO14)","v":{"$error":"#DIV/0!"}},{"$f":"IF(AP11=0,0,(AP11*((LOG(AP11))/LOG(2))))","v":{"$error":"#DIV/0!"}},null,{"$f":"N11","v":211},{"$f":"COUNTIF(L41:L47,AS11)","v":0},{"$f":"AT11/(AV4-AT14)","v":{"$error":"#DIV/0!"}},{"$f":"IF(AU11=0,0,(AU11*((LOG(AU11))/LOG(2))))","v":{"$error":"#DIV/0!"}}]
[21,728,21,734,21,739,null,null,null,null,0,222,null,212,{"$f":"COUNTIF($L$7:$L$500,N12)","v":0},{"$f":"O12/$Q$4","v":0},{"$f":"IF(P12=0,0,(P12*((LOG(P12))/LOG(2))))","v":0},null,null,{"$f":"N12","v":212},{"$f":"COUNTIF(L7:L13,T12)","v":0},{"$f":"U12/(W4-U14)","v":0},{"$f":"IF(V12=0,0,(V12*((LOG(V12))/LOG(2))))","v":0},null,{"$f":"N12","v":212},{"$f":"COUNTIF(L14:L20,Y12)","v":0},{"$f":"Z12/(AB4-Z14)","v":{"$error":"#DIV/0!"}},{"$f":"IF(AA12=0,0,(AA12*((LOG(AA12))/LOG(2))))","v":{"$error":"#DIV/0!"}},null,{"$f":"N12","v":212},{"$f":"COUNTIF(L21:L26,AD12)","v":0},{"$f":"AE12/(AG4-AE14)","v":{"$error":"#DIV/0!"}},{"$f":"IF(AF12=0,0,(AF12*((LOG(AF12))/LOG(2))))","v":{"$error":"#DIV/0!"}},null,{"$f":"N12","v":212},{"$f":"COUNTIF(L27:L33,AI12)","v":0},{"$f":"AJ12/(AL4-AJ14)","v":{"$error":"#DIV/0!"}},{"$f":"IF(AK12=0,0,(AK12*((LOG(AK12))/LOG(2))))","v":{"$error":"#DIV/0!"}},null,{"$f":"N12","v":212},{"$f":"COUNTIF(L34:L40,AN12)","v":0},{"$f":"AO12/(AQ4-AO14)","v":{"$error":"#DIV/0!"}},{"$f":"IF(AP12=0,0,(AP12*((LOG(AP12))/LOG(2))))","v":{"$error":"#DIV/0!"}},null,{"$f":"N12","v":212},{"$f":"COUNTIF(L41:L47,AS12)","v":0},{"$f":"AT12/(AV4-AT14)","v":{"$error":"#DIV/0!"}},{"$f":"IF(AU12=0,0,(AU12*((LOG(AU12))/LOG(2))))","v":{"$error":"#DIV/0!"}}]
[21,906,21,911,21,925,null,null,null,null,0,222,null,221,{"$f":"COUNTIF($L$7:$L$500,N13)","v":0},{"$f":"O13/$Q$4","v":0},{"$f":"IF(P13=0,0,(P13*((LOG(P13))/LOG(2))))","v":0},null,null,{"$f":"N13","v":221},{"$f":"COUNTIF(L7:L13,T13)","v":0},{"$f":"U13/(W4-U14)","v":0},{"$f":"IF(V13=0,0,(V13*((LOG(V13))/LOG(2))))","v":0},null,{"$f":"N13","v":221},{"$f":"COUNTIF(L14:L20,Y13)","v":0},{"$f":"Z13/(AB4-Z14)","v":{"$error":"#DIV/0!"}},{"$f":"IF(AA13=0,0,(AA13*((LOG(AA13))/LOG(2))))","v":{"$error":"#DIV/0!"}},null,{"$f":"N13","v":221},{"$f":"COUNTIF(L21:L26,AD13)","v":0},{"$f":"AE13/(AG4-AE14)","v":{"$error":"#DIV/0!"}},{"$f":"IF(AF13=0,0,(AF13*((LOG(AF13))/LOG(2))))","v":{"$error":"#DIV/0!"}},null,{"$f":"N13","v":221},{"$f":"COUNTIF(L27:L33,AI13)","v":0},{"$f":"AJ13/(AL4-AJ14)","v":{"$error":"#DIV/0!"}},{"$f":"IF(AK13=0,0,(AK13*((LOG(AK13))/LOG(2))))","v":{"$error":"#DIV/0!"}},null,{"$f":"N13","v":221},{"$f":"COUNTIF(L34:L40,AN13)","v":0},{"$f":"AO13/(AQ4-AO14)","v":{"$error":"#DIV/0!"}},{"$f":"IF(AP13=0,0,(AP13*((LOG(AP13))/LOG(2))))","v":{"$error":"#DIV/0!"}},null,{"$f":"N13","v":221},{"$f":"COUNTIF(L41:L47,AS13)","v":0},{"$f":"AT13/(AV4-AT14)","v":{"$error":"#DIV/0!"}},{"$f":"IF(AU13=0,0,(AU13*((LOG(AU13))/LOG(2))))","v":{"$error":"#DIV/0!"}}]
[21,1091,21,1092,21,1095,null,null,null,null,0,222,null,222,{"$f":"COUNTIF($L$7:$L$500,N14)","v":40},{"$f":"O14/$Q$4","v":0.97560975609756095},{"$f":"IF(P14=0,0,(P14*((LOG(P14))/LOG(2))))","v":-3.4755033883630611E-2},null,null,{"$f":"N14","v":222},{"$f":"COUNTIF(L7:L13,T14)","v":6},null,null,null,{"$f":"N14","v":222},{"$f":"COUNTIF(L14:L20,Y14)","v":7},null,null,null,{"$f":"N14","v":222},{"$f":"COUNTIF(L21:L26,AD14)","v":6},null,null,null,{"$f":"N14","v":222},{"$f":"COUNTIF(L27:L33,AI14)","v":7},null,null,null,{"$f":"N14","v":222},{"$f":"COUNTIF(L34:L40,AN14)","v":7},null,null,null,{"$f":"N14","v":222},{"$f":"COUNTIF(L41:L47,AS14)","v":7}]
[21,1260,21,1272,21,1277,null,null,null,null,0,222,null,null,null,{"$f":"SUM(P7:P14)","v":1},{"$f":"-SUM(Q7:Q14)","v":0.16542703399626679},null,null,null,null,{"$f":"SUM(V7:V14)","v":1},{"$f":"-SUM(W7:W14)","v":0},null,null,null,{"$f":"SUM(AA7:AA14)","v":{"$error":"#DIV/0!"}},{"$f":"-SUM(AB7:AB14)","v":{"$error":"#DIV/0!"}},null,null,null,{"$f":"SUM(AF7:AF14)","v":{"$error":"#DIV/0!"}},{"$f":"-SUM(AG7:AG14)","v":{"$error":"#DIV/0!"}},null,null,null,{"$f":"SUM(AK7:AK14)","v":{"$error":"#DIV/0!"}},{"$f":"-SUM(AL7:AL14)","v":{"$error":"#DIV/0!"}},null,null,null,{"$f":"SUM(AP7:AP14)","v":{"$error":"#DIV/0!"}},{"$f":"-SUM(AQ7:AQ14)","v":{"$error":"#DIV/0!"}},null,null,null,{"$f":"SUM(AU7:AU14)","v":{"$error":"#DIV/0!"}},{"$f":"-SUM(AV7:AV14)","v":{"$error":"#DIV/0!"}}]
[21,1428,21,1432,21,1437,null,null,null,null,0,222,null,null,null,"U=",{"$f":"Q15/(LOG(Q4)/LOG(2))","v":3.0877354779509855E-2},null,null,null,null,"U1=",{"$f":"W15/(LOG(W4)/LOG(2))","v":0},null,null,null,"U2=",{"$f":"AB15/(LOG(AB4)/LOG(2))","v":{"$error":"#DIV/0!"}},null,null,null,"U3=",{"$f":"AG15/(LOG(AG4)/LOG(2))","v":{"$error":"#DIV/0!"}},null,null,null,"U4=",{"$f":"AL15/(LOG(AL4)/LOG(2))","v":{"$error":"#DIV/0!"}},null,null,null,"U5=",{"$f":"AQ15/(LOG(AQ4)/LOG(2))","v":{"$error":"#DIV/0!"}},null,null,null,"U6=",{"$f":"AV15/(LOG(AV4)/LOG(2))","v":{"$error":"#DIV/0!"}}]
[21,1616,21,1621,21,1625,null,null,null,null,0,222]
[21,1816,21,1821,21,1828,null,null,null,null,0,222]
[21,2033,21,2036,21,2044,null,null,null,null,0,222,null,"Total Target Seq"]
[21,2269,21,2278,21,2289,null,null,null,null,0,222,null,{"$f":"COUNTIF(L7:L47,G3)","v":40},null,7,7,6,7,7,7]
[21,2504,21,2514,21,2530,null,null,null,null,0,222,null,null,null,"% of reinforcement given in 6 equal intervals based on number of trials "]
[21,2727,21,2733,21,2740,null,null,null,null,0,222,null,null,null,"%_1","%_2","%_3","%_4","%_5","%_6"]
[21,2903,21,2909,21,2915,null,null,null,null,0,222,null,null,"target sequence",{"$f":"$G$3","v":222},{"$f":"$G$3","v":222},{"$f":"$G$3","v":222},{"$f":"$G$3","v":222},{"$f":"$G$3","v":222},{"$f":"$G$3","v":222}]
[21,3118,21,3126,21,3132,null,null,null,null,0,222,null,null,"total reinforcement",{"$f":"U14","v":6},{"$f":"Z14","v":7},{"$f":"AE14","v":6},{"$f":"AJ14","v":7},{"$f":"AO14","v":7},{"$f":"AT14","v":7}]
[21,3314,21,3322,21,3327,null,null,null,null,0,222,null,null,"% target"]
[21,3548,21,3551,21,3556,null,null,null,null,0,222,null,null,"CCRF"]
[21,3668,21,3675,21,3677,null,null,null,null,0,222,null,null,"% CCRf"]
[21,3832,21,3841,21,3851,null,null,null,null,0,222,null,null,"average response rate",{"$f":"F13/P20","v":132.14285714285714},{"$f":"(F20-F13)/Q20","v":194.85714285714286},{"$f":"(F26-F20)/R20","v":211.16666666666666},{"$f":"(F33-F26)/S20","v":182.42857142857142},{"$f":"(F40-F33)/T20","v":231.28571428571428},{"$f":"(F47-F40)/U20","v":249.42857142857142}]
[21,3970,21,3976,21,3987,null,null,null,null,0,222]
[21,4137,21,4144,21,4154,null,null,null,null,0,222]
[21,4346,21,4352,21,4358,null,null,null,null,0,222]
[21,4623,21,4629,21,4635,null,null,null,null,0,222]
[21,4817,21,4822,21,4833,null,null,null,null,0,222]
[21,4952,21,4958,21,4969,null,null,null,null,0,222]
[21,5250,21,5256,21,5260,null,null,null,null,0,222]
[21,5448,21,5457,21,5471,null,null,null,null,0,222]
[21,5701,21,5705,21,5710,null,null,null,null,0,222]
[21,5989,21,5994,21,5999,null,null,null,null,0,222]
[21,6142,21,6151,21,6165,null,null,null,null,0,222]
[21,6442,21,6446,21,6452,null,null,null,null,0,222]
[21,6599,21,6605,21,6611,null,null,null,null,0,222]
[21,6870,21,6877,21,6883,null,null,null,null,0,222]
[21,7046,21,7053,21,7059,null,null,null,null,0,222]
[21,7310,21,7318,21,7324,null,null,null,null,0,222]
[21,7582,21,7587,21,7592,null,null,null,null,0,222]
[21,7782,21,7785,21,7798,null,null,null,null,0,222]
[21,8187,21,8191,21,8198,null,null,null,null,1,222]

{"sheet":"!M40394D.UST","index":16,"n_rows":46,"n_cols":48,"rows_kept":46,"cut":false,"hidden":false,"merged":[[4,39,4,42],[5,39,5,40],[4,44,4,47],[5,44,5,45],[4,24,4,27],[5,24,5,25],[4,29,4,32],[5,29,5,30],[4,34,4,37],[5,34,5,35],[1,1,1,2],[5,13,5,14],[18,13,18,14],[19,13,19,14],[4,19,4,22],[5,19,5,20]]}
["Report for:!M40394D.UST"]
["Date:","<date>"]
["Hen:","<hen>",null,null,null,"Correct Sequence",{"$f":"Start!J2","v":222},null,null,null,null,null,null,null,null,"Total Sequences in Data",{"$f":"4994-COUNTBLANK(L7:L5000)","v":40},null,null,null,null,"Total Sequences in Block Data",{"$f":"COUNTA(L7:L13)","v":7},null,null,null,"Total Sequences in Block Data",{"$f":"COUNTA(L14:L19)","v":6},null,null,null,"Total Sequences in Block Data",{"$f":"COUNTA(L20:L26)","v":7},null,null,null,"Total Sequences in Block Data",{"$f":"COUNTA(L27:L33)","v":7},null,null,null,"Total Sequences in Block Data",{"$f":"COUNTA(L34:L39)","v":6},null,null,null,"Total Sequences in Block Data",{"$f":"COUNTA(L40:L46)","v":7}]
[null,null,null,null,null,null,null,null,null,null,null,null,null,null,null,"Total Sequences in Summary",{"$f":"SUM(O7:O14)","v":40},null,null,null,null,"Total Sequences in Block Summary",{"$f":"SUM(U7:U14)","v":7},null,null,null,"Total Sequences in Block Summary",{"$f":"SUM(Z7:Z14)","v":6},null,null,null,"Total Sequences in Block Summary",{"$f":"SUM(AE7:AE14)","v":7},null,null,null,"Total Sequences in Block Summary",{"$f":"SUM(AJ7:AJ14)","v":7},null,null,null,"Total Sequences in Block Summary",{"$f":"SUM(AO7:AO14)","v":6},null,null,null,"Total Sequences in Block Summary",{"$f":"SUM(AT7:AT14)","v":7}]
[null,null,null,null,null,null,null,null,null,null,null,null,null,null,null,null,null,null,null,"Block 1",null,null,null,null,"Block 2",null,null,null,null,"Block 3",null,null,null,null,"Block 4",null,null,null,null,"Block 5",null,null,null,null,"Block 6"]
["Sequence\nComponent\n1","Time\n1","Sequence\nComponent\n2","Time\n2","Sequence\nComponent\n3","Time\n3","Sequence\nComponent\n4","Time\n4","Sequence\nComponent\n5","Time\n5","Correct?\n0=No 1=Yes","Sequence",null,"Frequency",null,"Relative Frequency","Variability",null,null,"Frequency",null,"Relative Frequency","Variability",null,"Frequency",null,"Relative Frequency","Variability",null,"Frequency",null,"Relative Frequency","Variability",null,"Frequency",null,"Relative Frequency","Variability",null,"Frequency",null,"Relative Frequency","Variability",null,"Frequency",null,"Relative Frequency","Variability"]
[21,11,21,20,21,27,null,null,null,null,0,222,null,111,{"$f":"COUNTIF($L$7:$L$500,N7)","v":0},{"$f":"O7/$Q$4","v":0},{"$f":"IF(P7=0,0,(P7*((LOG(P7))/LOG(2))))","v":0},null,null,{"$f":"N7","v":111},{"$f":"COUNTIF(L7:L13,T7)","v":0},{"$f":"U7/(W4-U14)","v":{"$error":"#DIV/0!"}},{"$f":"IF(V7=0,0,(V7*((LOG(V7))/LOG(2))))","v":{"$error":"#DIV/0!"}},null,{"$f":"N7","v":111},{"$f":"COUNTIF(L14:L19,Y7)","v":0},{"$f":"Z7/(AB4-Z14)","v":{"$error":"#DIV/0!"}},{"$f":"IF(AA7=0,0,(AA7*((LOG(AA7))/LOG(2))))","v":{"$error":"#DIV/0!"}},null,{"$f":"N7","v":111},{"$f":"COUNTIF(L20:L26,AD7)","v":0},{"$f":"AE7/(AG4-AE14)","v":{"$error":"#DIV/0!"}},{"$f":"IF(AF7=0,0,(AF7*((LOG(AF7))/LOG(2))))","v":{"$error":"#DIV/0!"}},null,{"$f":"N7","v":111},{"$f":"COUNTIF(L27:L33,AI7)","v":0},{"$f":"AJ7/(AL4-AJ14)","v":{"$error":"#DIV/0!"}},{"$f":"IF(AK7=0,0,(AK7*((LOG(AK7))/LOG(2))))","v":{"$error":"#DIV/0!"}},null,{"$f":"N7","v":111},{"$f":"COUNTIF(L34:L39,AN7)","v":0},{"$f":"AO7/(AQ4-AO14)","v":{"$error":"#DIV/0!"}},{"$f":"IF(AP7=0,0,(AP7*((LOG(AP7))/LOG(2))))","v":{"$error":"#DIV/0!"}},null,{"$f":"N7","v":111},{"$f":"COUNTIF(L40:L46,AS7)","v":0},{"$f":"AT7/(AV4-AT14)","v":{"$error":"#DIV/0!"}},{"$f":"IF(AU7=0,0,(AU7*((LOG(AU7))/LOG(2))))","v":{"$error":"#DIV/0!"}}]
[21,142,21,152,21,158,null,null,null,null,0,222,null,112,{"$f":"COUNTIF($L$7:$L$500,N8)","v":0},{"$f":"O8/$Q$4","v":0},{"$f":"IF(P8=0,0,(P8*((LOG(P8))/LOG(2))))","v":0},null,null,{"$f":"N8","v":112},{"$f":"COUNTIF(L7:L13,T8)","v":0},{"$f":"U8/(W4-U14)","v":{"$error":"#DIV/0!"}},{"$f":"IF(V8=0,0,(V8*((LOG(V8))/LOG(2))))","v":{"$error":"#DIV/0!"}},null,{"$f":"N8","v":112},{"$f":"COUNTIF(L14:L19,Y8)","v":0},{"$f":"Z8/(AB4-Z14)","v":{"$error":"#DIV/0!"}},{"$f":"IF(AA8=0,0,(AA8*((LOG(AA8))/LOG(2))))","v":{"$error":"#DIV/0!"}},null,{"$f":"N8","v":112},{"$f":"COUNTIF(L20:L26,AD8)","v":0},{"$f":"AE8/(AG4-AE14)","v":{"$error":"#DIV/0!"}},{"$f":"IF(AF8=0,0,(AF8*((LOG(AF8))/LOG(2))))","v":{"$error":"#DIV/0!"}},null,{"$f":"N8","v":112},{"$f":"COUNTIF(L27:L33,AI8)","v":0},{"$f":"AJ8/(AL4-AJ14)","v":{"$error":"#DIV/0!"}},{"$f":"IF(AK8=0,0,(AK8*((LOG(AK8))/LOG(2))))","v":{"$error":"#DIV/0!"}},null,{"$f":"N8","v":112},{"$f":"COUNTIF(L34:L39,AN8)","v":0},{"$f":"AO8/(AQ4-AO14)","v":{"$error":"#DIV/0!"}},{"$f":"IF(AP8=0,0,(AP8*((LOG(AP8))/LOG(2))))","v":{"$error":"#DIV/0!"}},null,{"$f":"N8","v":112},{"$f":"COUNTIF(L40:L46,AS8)","v":0},{"$f":"AT8/(AV4-AT14)","v":{"$error":"#DIV/0!"}},{"$f":"IF(AU8=0,0,(AU8*((LOG(AU8))/LOG(2))))","v":{"$error":"#DIV/0!"}}]
[21,309,21,315,21,322,null,null,null,null,0,222,null,121,{"$f":"COUNTIF($L$7:$L$500,N9)","v":0},{"$f":"O9/$Q$4","v":0},{"$f":"IF(P9=0,0,(P9*((LOG(P9))/LOG(2))))","v":0},null,null,{"$f":"N9","v":121},{"$f":"COUNTIF(L7:L13,T9)","v":0},{"$f":"U9/(W4-U14)","v":{"$error":"#DIV/0!"}},{"$f":"IF(V9=0,0,(V9*((LOG(V9))/LOG(2))))","v":{"$error":"#DIV/0!"}},null,{"$f":"N9","v":121},{"$f":"COUNTIF(L14:L19,Y9)","v":0},{"$f":"Z9/(AB4-Z14)","v":{"$error":"#DIV/0!"}},{"$f":"IF(AA9=0,0,(AA9*((LOG(AA9))/LOG(2))))","v":{"$error":"#DIV/0!"}},null,{"$f":"N9","v":121},{"$f":"COUNTIF(L20:L26,AD9)","v":0},{"$f":"AE9/(AG4-AE14)","v":{"$error":"#DIV/0!"}},{"$f":"IF(AF9=0,0,(AF9*((LOG(AF9))/LOG(2))))","v":{"$error":"#DIV/0!"}},null,{"$f":"N9","v":121},{"$f":"COUNTIF(L27:L33,AI9)","v":0},{"$f":"AJ9/(AL4-AJ14)","v":{"$error":"#DIV/0!"}},{"$f":"IF(AK9=0,0,(AK9*((LOG(AK9))/LOG(2))))","v":{"$error":"#DIV/0!"}},null,{"$f":"N9","v":121},{"$f":"COUNTIF(L34:L39,AN9)","v":0},{"$f":"AO9/(AQ4-AO14)","v":{"$error":"#DIV/0!"}},{"$f":"IF(AP9=0,0,(AP9*((LOG(AP9))/LOG(2))))","v":{"$error":"#DIV/0!"}},null,{"$f":"N9","v":121},{"$f":"COUNTIF(L40:L46,AS9)","v":0},{"$f":"AT9/(AV4-AT14)","v":{"$error":"#DIV/0!"}},{"$f":"IF(AU9=0,0,(AU9*((LOG(AU9))/LOG(2))))","v":{"$error":"#DIV/0!"}}]
[21,528,21,539,21,547,null,null,null,null,0,222,null,122,{"$f":"COUNTIF($L$7:$L$500,N10)","v":0},{"$f":"O10/$Q$4","v":0},{"$f":"IF(P10=0,0,(P10*((LOG(P10))/LOG(2))))","v":0},null,null,{"$f":"N10","v":122},{"$f":"COUNTIF(L7:L13,T10)","v":0},{"$f":"U10/(W4-U14)","v":{"$error":"#DIV/0!"}},{"$f":"IF(V10=0,0,(V10*((LOG(V10))/LOG(2))))","v":{"$error":"#DIV/0!"}},null,{"$f":"N10","v":122},{"$f":"COUNTIF(L14:L19,Y10)","v":0},{"$f":"Z10/(AB4-Z14)","v":{"$error":"#DIV/0!"}},{"$f":"IF(AA10=0,0,(AA10*((LOG(AA10))/LOG(2))))","v":{"$error":"#DIV/0!"}},null,{"$f":"N10","v":122},{"$f":"COUNTIF(L20:L26,AD10)","v":0},{"$f":"AE10/(AG4-AE14)","v":{"$error":"#DIV/0!"}},{"$f":"IF(AF10=0,0,(AF10*((LOG(AF10))/LOG(2))))","v":{"$error":"#DIV/0!"}},null,{"$f":"N10","v":122},{"$f":"COUNTIF(L27:L33,AI10)","v":0},{"$f":"AJ10/(AL4-AJ14)","v":{"$error":"#DIV/0!"}},{"$f":"IF(AK10=0,0,(AK10*((LOG(AK10))/LOG(2))))","v":{"$error":"#DIV/0!"}},null,{"$f":"N10","v":122},{"$f":"COUNTIF(L34:L39,AN10)","v":0},{"$f":"AO10/(AQ4-AO14)","v":{"$error":"#DIV/0!"}},{"$f":"IF(AP10=0,0,(AP10*((LOG(AP10))/LOG(2))))","v":{"$error":"#DIV/0!"}},null,{"$f":"N10","v":122},{"$f":"COUNTIF(L40:L46,AS10)","v":0},{"$f":"AT10/(AV4-AT14)","v":{"$error":"#DIV/0!"}},{"$f":"IF(AU10=0,0,(AU10*((LOG(AU10))/LOG(2))))","v":{"$error":"#DIV/0!"}}]
[21,699,21,703,21,709,null,null,null,null,0,222,null,211,{"$f":"COUNTIF($L$7:$L$500,N11)","v":0},{"$f":"O11/$Q$4","v":0},{"$f":"IF(P11=0,0,(P11*((LOG(P11))/LOG(2))))","v":0},null,null,{"$f":"N11","v":211},{"$f":"COUNTIF(L7:L13,T11)","v":0},{"$f":"U11/(W4-U14)","v":{"$error":"#DIV/0!"}},{"$f":"IF(V11=0,0,(V11*((LOG(V11))/LOG(2))))","v":{"$error":"#DIV/0!"}},null,{"$f":"N11","v":211},{"$f":"COUNTIF(L14:L19,Y11)","v":0},{"$f":"Z11/(AB4-Z14)","v":{"$error":"#DIV/0!"}},{"$f":"IF(AA11=0,0,(AA11*((LOG(AA11))/LOG(2))))","v":{"$error":"#DIV/0!"}},null,{"$f":"N11","v":211},{"$f":"COUNTIF(L20:L26,AD11)","v":0},{"$f":"AE11/(AG4-AE14)","v":{"$error":"#DIV/0!"}},{"$f":"IF(AF11=0,0,(AF11*((LOG(AF11))/LOG(2))))","v":{"$error":"#DIV/0!"}},null,{"$f":"N11","v":211},{"$f":"COUNTIF(L27:L33,AI11)","v":0},{"$f":"AJ11/(AL4-AJ14)","v":{"$error":"#DIV/0!"}},{"$f":"IF(AK11=0,0,(AK11*((LOG(AK11))/LOG(2))))","v":{"$error":"#DIV/0!"}},null,{"$f":"N11","v":211},{"$f":"COUNTIF(L34:L39,AN11)","v":0},{"$f":"AO11/(AQ4-AO14)","v":{"$error":"#DIV/0!"}},{"$f":"IF(AP11=0,0,(AP11*((LOG(AP11))/LOG(2))))","v":{"$error":"#DIV/0!"}},null,{"$f":"N11","v":211},{"$f":"COUNTIF(L40:L46,AS11)","v":0},{"$f":"AT11/(AV4-AT14)","v":{"$error":"#DIV/0!"}},{"$f":"IF(AU11=0,0,(AU11*((LOG(AU11))/LOG(2))))","v":{"$error":"#DIV/0!"}}]
[21,846,21,853,21,860,null,null,null,null,0,222,null,212,{"$f":"COUNTIF($L$7:$L$500,N12)","v":0},{"$f":"O12/$Q$4","v":0},{"$f":"IF(P12=0,0,(P12*((LOG(P12))/LOG(2))))","v":0},null,null,{"$f":"N12","v":212},{"$f":"COUNTIF(L7:L13,T12)","v":0},{"$f":"U12/(W4-U14)","v":{"$error":"#DIV/0!"}},{"$f":"IF(V12=0,0,(V12*((LOG(V12))/LOG(2))))","v":{"$error":"#DIV/0!"}},null,{"$f":"N12","v":212},{"$f":"COUNTIF(L14:L19,Y12)","v":0},{"$f":"Z12/(AB4-Z14)","v":{"$error":"#DIV/0!"}},{"$f":"IF(AA12=0,0,(AA12*((LOG(AA12))/LOG(2))))","v":{"$error":"#DIV/0!"}},null,{"$f":"N12","v":212},{"$f":"COUNTIF(L20:L26,AD12)","v":0},{"$f":"AE12/(AG4-AE14)","v":{"$error":"#DIV/0!"}},{"$f":"IF(AF12=0,0,(AF12*((LOG(AF12))/LOG(2))))","v":{"$error":"#DIV/0!"}},null,{"$f":"N12","v":212},{"$f":"COUNTIF(L27:L33,AI12)","v":0},{"$f":"AJ12/(AL4-AJ14)","v":{"$error":"#DIV/0!"}},{"$f":"IF(AK12=0,0,(AK12*((LOG(AK12))/LOG(2))))","v":{"$error":"#DIV/0!"}},null,{"$f":"N12","v":212},{"$f":"COUNTIF(L34:L39,AN12)","v":0},{"$f":"AO12/(AQ4-AO14)","v":{"$error":"#DIV/0!"}},{"$f":"IF(AP12=0,0,(AP12*((LOG(AP12))/LOG(2))))","v":{"$error":"#DIV/0!"}},null,{"$f":"N12","v":212},{"$f":"COUNTIF(L40:L46,AS12)","v":0},{"$f":"AT12/(AV4-AT14)","v":{"$error":"#DIV/0!"}},{"$f":"IF(AU12=0,0,(AU12*((LOG(AU12))/LOG(2))))","v":{"$error":"#DIV/0!"}}]
[21,987,21,992,21,1000,null,null,null,null,0,222,null,221,{"$f":"COUNTIF($L$7:$L$500,N13)","v":0},{"$f":"O13/$Q$4","v":0},{"$f":"IF(P13=0,0,(P13*((LOG(P13))/LOG(2))))","v":0},null,null,{"$f":"N13","v":221},{"$f":"COUNTIF(L7:L13,T13)","v":0},{"$f":"U13/(W4-U14)","v":{"$error":"#DIV/0!"}},{"$f":"IF(V13=0,0,(V13*((LOG(V13))/LOG(2))))","v":{"$error":"#DIV/0!"}},null,{"$f":"N13","v":221},{"$f":"COUNTIF(L14:L19,Y13)","v":0},{"$f":"Z13/(AB4-Z14)","v":{"$error":"#DIV/0!"}},{"$f":"IF(AA13=0,0,(AA13*((LOG(AA13))/LOG(2))))","v":{"$error":"#DIV/0!"}},null,{"$f":"N13","v":221},{"$f":"COUNTIF(L20:L26,AD13)","v":0},{"$f":"AE13/(AG4-AE14)","v":{"$error":"#DIV/0!"}},{"$f":"IF(AF13=0,0,(AF13*((LOG(AF13))/LOG(2))))","v":{"$error":"#DIV/0!"}},null,{"$f":"N13","v":221},{"$f":"COUNTIF(L27:L33,AI13)","v":0},{"$f":"AJ13/(AL4-AJ14)","v":{"$error":"#DIV/0!"}},{"$f":"IF(AK13=0,0,(AK13*((LOG(AK13))/LOG(2))))","v":{"$error":"#DIV/0!"}},null,{"$f":"N13","v":221},{"$f":"COUNTIF(L34:L39,AN13)","v":0},{"$f":"AO13/(AQ4-AO14)","v":{"$error":"#DIV/0!"}},{"$f":"IF(AP13=0,0,(AP13*((LOG(AP13))/LOG(2))))","v":{"$error":"#DIV/0!"}},null,{"$f":"N13","v":221},{"$f":"COUNTIF(L40:L46,AS13)","v":0},{"$f":"AT13/(AV4-AT14)","v":{"$error":"#DIV/0!"}},{"$f":"IF(AU13=0,0,(AU13*((LOG(AU13))/LOG(2))))","v":{"$error":"#DIV/0!"}}]
[21,1184,21,1189,21,1199,null,null,null,null,0,222,null,222,{"$f":"COUNTIF($L$7:$L$500,N14)","v":40},{"$f":"O14/$Q$4","v":1},{"$f":"IF(P14=0,0,(P14*((LOG(P14))/LOG(2))))","v":0},null,null,{"$f":"N14","v":222},{"$f":"COUNTIF(L7:L13,T14)","v":7},null,null,null,{"$f":"N14","v":222},{"$f":"COUNTIF(L14:L19,Y14)","v":6},null,null,null,{"$f":"N14","v":222},{"$f":"COUNTIF(L20:L26,AD14)","v":7},null,null,null,{"$f":"N14","v":222},{"$f":"COUNTIF(L27:L33,AI14)","v":7},null,null,null,{"$f":"N14","v":222},{"$f":"COUNTIF(L34:L39,AN14)","v":6},null,null,null,{"$f":"N14","v":222},{"$f":"COUNTIF(L40:L46,AS14)","v":7}]
[21,1309,21,1314,21,1320,null,null,null,null,0,222,null,null,null,{"$f":"SUM(P7:P14)","v":1},{"$f":"-SUM(Q7:Q14)","v":0},null,null,null,null,{"$f":"SUM(V7:V14)","v":{"$error":"#DIV/0!"}},{"$f":"-SUM(W7:W14)","v":{"$error":"#DIV/0!"}},null,null,null,{"$f":"SUM(AA7:AA14)","v":{"$error":"#DIV/0!"}},{"$f":"-SUM(AB7:AB14)","v":{"$error":"#DIV/0!"}},null,null,null,{"$f":"SUM(AF7:AF14)","v":{"$error":"#DIV/0!"}},{"$f":"-SUM(AG7:AG14)","v":{"$error":"#DIV/0!"}},null,null,null,{"$f":"SUM(AK7:AK14)","v":{"$error":"#DIV/0!"}},{"$f":"-SUM(AL7:AL14)","v":{"$error":"#DIV/0!"}},null,null,null,{"$f":"SUM(AP7:AP14)","v":{"$error":"#DIV/0!"}},{"$f":"-SUM(AQ7:AQ14)","v":{"$error":"#DIV/0!"}},null,null,null,{"$f":"SUM(AU7:AU14)","v":{"$error":"#DIV/0!"}},{"$f":"-SUM(AV7:AV14)","v":{"$error":"#DIV/0!"}}]
[21,1443,21,1452,21,1458,null,null,null,null,0,222,null,null,null,"U=",{"$f":"Q15/(LOG(Q4)/LOG(2))","v":0},null,null,null,null,"U1=",{"$f":"W15/(LOG(W4)/LOG(2))","v":{"$error":"#DIV/0!"}},null,null,null,"U2=",{"$f":"AB15/(LOG(AB4)/LOG(2))","v":{"$error":"#DIV/0!"}},null,null,null,"U3=",{"$f":"AG15/(LOG(AG4)/LOG(2))","v":{"$error":"#DIV/0!"}},null,null,null,"U4=",{"$f":"AL15/(LOG(AL4)/LOG(2))","v":{"$error":"#DIV/0!"}},null,null,null,"U5=",{"$f":"AQ15/(LOG(AQ4)/LOG(2))","v":{"$error":"#DIV/0!"}},null,null,null,"U6=",{"$f":"AV15/(LOG(AV4)/LOG(2))","v":{"$error":"#DIV/0!"}}]
[21,1626,21,1641,21,1652,null,null,null,null,0,222]
[21,1777,21,1784,21,1790,null,null,null,null,0,222]
[21,1963,21,1967,21,1977,null,null,null,null,0,222,null,"Total Target Seq"]
[21,2130,21,2136,21,2143,null,null,null,null,0,222,null,{"$f":"COUNTIF(L7:L46,G3)","v":40},null,7,6,7,7,6,7]
[21,2291,21,2295,21,2300,null,null,null,null,0,222,null,null,null,"% of reinforcement given in 6 equal intervals based on number of trials "]
[21,2410,21,2414,21,2424,null,null,null,null,0,222,null,null,null,"%_1","%_2","%_3","%_4","%_5","%_6"]
[21,2543,21,2548,21,2554,null,null,null,null,0,222,null,null,"target sequence",{"$f":"$G$3","v":222},{"$f":"$G$3","v":222},{"$f":"$G$3","v":222},{"$f":"$G$3","v":222},{"$f":"$G$3","v":222},{"$f":"$G$3","v":222}]
[21,2689,21,2696,21,2703,null,null,null,null,0,222,null,null,"total reinforcement",{"$f":"U14","v":7},{"$f":"Z14","v":6},{"$f":"AE14","v":7},{"$f":"AJ14","v":7},{"$f":"AO14","v":6},{"$f":"AT14","v":7}]
[21,2861,21,2872,21,2878,null,null,null,null,0,222,null,null,"% target"]
[21,3009,21,3012,21,3019,null,null,null,null,0,222,null,null,"CCRF"]
[21,3116,21,3121,21,3127,null,null,null,null,0,222,null,null,"% CCRf"]
[21,3303,21,3307,21,3312,null,null,null,null,0,222,null,null,"average response rate",{"$f":"F13/P20","v":142.85714285714286},{"$f":"(F19-F13)/Q20","v":162.83333333333334},{"$f":"(F26-F19)/R20","v":148.85714285714286},{"$f":"(F33-F26)/S20","v":168.42857142857142},{"$f":"(F39-F33)/T20","v":206},{"$f":"(F46-F39)/U20","v":180}]
[21,3438,21,3454,21,3461,null,null,null,null,0,222]
[21,3641,21,3648,21,3656,null,null,null,null,0,222]
[21,3888,21,3898,21,3904,null,null,null,null,0,222]
[21,4032,21,4040,21,4059,null,null,null,null,0,222]
[21,4186,21,4194,21,4198,null,null,null,null,0,222]
[21,4388,21,4392,21,4394,null,null,null,null,0,222]
[21,4594,21,4601,21,4607,null,null,null,null,0,222]
[21,4795,21,4803,21,4816,null,null,null,null,0,222]
[21,5001,21,5009,21,5015,null,null,null,null,0,222]
[21,5206,21,5214,21,5220,null,null,null,null,0,222]
[21,5424,21,5430,21,5434,null,null,null,null,0,222]
[21,5586,21,5591,21,5597,null,null,null,null,0,222]
[21,5801,21,5811,21,5817,null,null,null,null,0,222]
[21,5920,21,5926,21,5932,null,null,null,null,0,222]
[21,6137,21,6140,21,6144,null,null,null,null,0,222]
[21,6342,21,6347,21,6351,null,null,null,null,0,222]
[21,6485,21,6489,21,6494,null,null,null,null,0,222]
[21,6678,21,6686,21,6694,null,null,null,null,1,222]

{"sheet":"!M404A0D.UST","index":17,"n_rows":47,"n_cols":48,"rows_kept":47,"cut":false,"hidden":false,"merged":[[4,39,4,42],[5,39,5,40],[4,44,4,47],[5,44,5,45],[4,24,4,27],[5,24,5,25],[4,29,4,32],[5,29,5,30],[4,34,4,37],[5,34,5,35],[1,1,1,2],[5,13,5,14],[18,13,18,14],[19,13,19,14],[4,19,4,22],[5,19,5,20]]}
["Report for:!M404A0D.UST"]
["Date:","<date>"]
["Hen:","<hen>",null,null,null,"Correct Sequence",{"$f":"Start!J2","v":222},null,null,null,null,null,null,null,null,"Total Sequences in Data",{"$f":"4994-COUNTBLANK(L7:L5000)","v":41},null,null,null,null,"Total Sequences in Block Data",{"$f":"COUNTA(L7:L13)","v":7},null,null,null,"Total Sequences in Block Data",{"$f":"COUNTA(L14:L20)","v":7},null,null,null,"Total Sequences in Block Data",{"$f":"COUNTA(L21:L26)","v":6},null,null,null,"Total Sequences in Block Data",{"$f":"COUNTA(L27:L33)","v":7},null,null,null,"Total Sequences in Block Data",{"$f":"COUNTA(L34:L40)","v":7},null,null,null,"Total Sequences in Block Data",{"$f":"COUNTA(L41:L47)","v":7}]
[null,null,null,null,null,null,null,null,null,null,null,null,null,null,null,"Total Sequences in Summary",{"$f":"SUM(O7:O14)","v":41},null,null,null,null,"Total Sequences in Block Summary",{"$f":"SUM(U7:U14)","v":7},null,null,null,"Total Sequences in Block Summary",{"$f":"SUM(Z7:Z14)","v":7},null,null,null,"Total Sequences in Block Summary",{"$f":"SUM(AE7:AE14)","v":6},null,null,null,"Total Sequences in Block Summary",{"$f":"SUM(AJ7:AJ14)","v":7},null,null,null,"Total Sequences in Block Summary",{"$f":"SUM(AO7:AO14)","v":7},null,null,null,"Total Sequences in Block Summary",{"$f":"SUM(AT7:AT14)","v":7}]
[null,null,null,null,null,null,null,null,null,null,null,null,null,null,null,null,null,null,null,"Block 1",null,null,null,null,"Block 2",null,null,null,null,"Block 3",null,null,null,null,"Block 4",null,null,null,null,"Block 5",null,null,null,null,"Block 6"]
["Sequence\nComponent\n1","Time\n1","Sequence\nComponent\n2","Time\n2","Sequence\nComponent\n3","Time\n3","Sequence\nComponent\n4","Time\n4","Sequence\nComponent\n5","Time\n5","Correct?\n0=No 1=Yes","Sequence",null,"Frequency",null,"Relative Frequency","Variability",null,null,"Frequency",null,"Relative Frequency","Variability",null,"Frequency",null,"Relative Frequency","Variability",null,"Frequency",null,"Relative Frequency","Variability",null,"Frequency",null,"Relative Frequency","Variability",null,"Frequency",null,"Relative Frequency","Variability",null,"Frequency",null,"Relative Frequency","Variability"]
[12,19,14,24,14,29,null,null,null,null,0,111,null,111,{"$f":"COUNTIF($L$7:$L$500,N7)","v":1},{"$f":"O7/$Q$4","v":2.4390243902439025E-2},{"$f":"IF(P7=0,0,(P7*((LOG(P7))/LOG(2))))","v":-0.13067200011263619},null,null,{"$f":"N7","v":111},{"$f":"COUNTIF(L7:L13,T7)","v":1},{"$f":"U7/(W4-U14)","v":1},{"$f":"IF(V7=0,0,(V7*((LOG(V7))/LOG(2))))","v":0},null,{"$f":"N7","v":111},{"$f":"COUNTIF(L14:L20,Y7)","v":0},{"$f":"Z7/(AB4-Z14)","v":{"$error":"#DIV/0!"}},{"$f":"IF(AA7=0,0,(AA7*((LOG(AA7))/LOG(2))))","v":{"$error":"#DIV/0!"}},null,{"$f":"N7","v":111},{"$f":"COUNTIF(L21:L26,AD7)","v":0},{"$f":"AE7/(AG4-AE14)","v":{"$error":"#DIV/0!"}},{"$f":"IF(AF7=0,0,(AF7*((LOG(AF7))/LOG(2))))","v":{"$error":"#DIV/0!"}},null,{"$f":"N7","v":111},{"$f":"COUNTIF(L27:L33,AI7)","v":0},{"$f":"AJ7/(AL4-AJ14)","v":{"$error":"#DIV/0!"}},{"$f":"IF(AK7=0,0,(AK7*((LOG(AK7))/LOG(2))))","v":{"$error":"#DIV/0!"}},null,{"$f":"N7","v":111},{"$f":"COUNTIF(L34:L40,AN7)","v":0},{"$f":"AO7/(AQ4-AO14)","v":{"$error":"#DIV/0!"}},{"$f":"IF(AP7=0,0,(AP7*((LOG(AP7))/LOG(2))))","v":{"$error":"#DIV/0!"}},null,{"$f":"N7","v":111},{"$f":"COUNTIF(L41:L47,AS7)","v":0},{"$f":"AT7/(AV4-AT14)","v":{"$error":"#DIV/0!"}},{"$f":"IF(AU7=0,0,(AU7*((LOG(AU7))/LOG(2))))","v":{"$error":"#DIV/0!"}}]
[21,171,21,176,21,182,null,null,null,null,0,222,null,112,{"$f":"COUNTIF($L$7:$L$500,N8)","v":0},{"$f":"O8/$Q$4","v":0},{"$f":"IF(P8=0,0,(P8*((LOG(P8))/LOG(2))))","v":0},null,null,{"$f":"N8","v":112},{"$f":"COUNTIF(L7:L13,T8)","v":0},{"$f":"U8/(W4-U14)","v":0},{"$f":"IF(V8=0,0,(V8*((LOG(V8))/LOG(2))))","v":0},null,{"$f":"N8","v":112},{"$f":"COUNTIF(L14:L20,Y8)","v":0},{"$f":"Z8/(AB4-Z14)","v":{"$error":"#DIV/0!"}},{"$f":"IF(AA8=0,0,(AA8*((LOG(AA8))/LOG(2))))","v":{"$error":"#DIV/0!"}},null,{"$f":"N8","v":112},{"$f":"COUNTIF(L21:L26,AD8)","v":0},{"$f":"AE8/(AG4-AE14)","v":{"$error":"#DIV/0!"}},{"$f":"IF(AF8=0,0,(AF8*((LOG(AF8))/LOG(2))))","v":{"$error":"#DIV/0!"}},null,{"$f":"N8","v":112},{"$f":"COUNTIF(L27:L33,AI8)","v":0},{"$f":"AJ8/(AL4-AJ14)","v":{"$error":"#DIV/0!"}},{"$f":"IF(AK8=0,0,(AK8*((LOG(AK8))/LOG(2))))","v":{"$error":"#DIV/0!"}},null,{"$f":"N8","v":112},{"$f":"COUNTIF(L34:L40,AN8)","v":0},{"$f":"AO8/(AQ4-AO14)","v":{"$error":"#DIV/0!"}},{"$f":"IF(AP8=0,0,(AP8*((LOG(AP8))/LOG(2))))","v":{"$error":"#DIV/0!"}},null,{"$f":"N8","v":112},{"$f":"COUNTIF(L41:L47,AS8)","v":0},{"$f":"AT8/(AV4-AT14)","v":{"$error":"#DIV/0!"}},{"$f":"IF(AU8=0,0,(AU8*((LOG(AU8))/LOG(2))))","v":{"$error":"#DIV/0!"}}]
[21,438,21,443,21,449,null,null,null,null,0,222,null,121,{"$f":"COUNTIF($L$7:$L$500,N9)","v":0},{"$f":"O9/$Q$4","v":0},{"$f":"IF(P9=0,0,(P9*((LOG(P9))/LOG(2))))","v":0},null,null,{"$f":"N9","v":121},{"$f":"COUNTIF(L7:L13,T9)","v":0},{"$f":"U9/(W4-U14)","v":0},{"$f":"IF(V9=0,0,(V9*((LOG(V9))/LOG(2))))","v":0},null,{"$f":"N9","v":121},{"$f":"COUNTIF(L14:L20,Y9)","v":0},{"$f":"Z9/(AB4-Z14)","v":{"$error":"#DIV/0!"}},{"$f":"IF(AA9=0,0,(AA9*((LOG(AA9))/LOG(2))))","v":{"$error":"#DIV/0!"}},null,{"$f":"N9","v":121},{"$f":"COUNTIF(L21:L26,AD9)","v":0},{"$f":"AE9/(AG4-AE14)","v":{"$error":"#DIV/0!"}},{"$f":"IF(AF9=0,0,(AF9*((LOG(AF9))/LOG(2))))","v":{"$error":"#DIV/0!"}},null,{"$f":"N9","v":121},{"$f":"COUNTIF(L27:L33,AI9)","v":0},{"$f":"AJ9/(AL4-AJ14)","v":{"$error":"#DIV/0!"}},{"$f":"IF(AK9=0,0,(AK9*((LOG(AK9))/LOG(2))))","v":{"$error":"#DIV/0!"}},null,{"$f":"N9","v":121},{"$f":"COUNTIF(L34:L40,AN9)","v":0},{"$f":"AO9/(AQ4-AO14)","v":{"$error":"#DIV/0!"}},{"$f":"IF(AP9=0,0,(AP9*((LOG(AP9))/LOG(2))))","v":{"$error":"#DIV/0!"}},null,{"$f":"N9","v":121},{"$f":"COUNTIF(L41:L47,AS9)","v":0},{"$f":"AT9/(AV4-AT14)","v":{"$error":"#DIV/0!"}},{"$f":"IF(AU9=0,0,(AU9*((LOG(AU9))/LOG(2))))","v":{"$error":"#DIV/0!"}}]
[21,571,21,576,21,582,null,null,null,null,0,222,null,122,{"$f":"COUNTIF($L$7:$L$500,N10)","v":0},{"$f":"O10/$Q$4","v":0},{"$f":"IF(P10=0,0,(P10*((LOG(P10))/LOG(2))))","v":0},null,null,{"$f":"N10","v":122},{"$f":"COUNTIF(L7:L13,T10)","v":0},{"$f":"U10/(W4-U14)","v":0},{"$f":"IF(V10=0,0,(V10*((LOG(V10))/LOG(2))))","v":0},null,{"$f":"N10","v":122},{"$f":"COUNTIF(L14:L20,Y10)","v":0},{"$f":"Z10/(AB4-Z14)","v":{"$error":"#DIV/0!"}},{"$f":"IF(AA10=0,0,(AA10*((LOG(AA10))/LOG(2))))","v":{"$error":"#DIV/0!"}},null,{"$f":"N10","v":122},{"$f":"COUNTIF(L21:L26,AD10)","v":0},{"$f":"AE10/(AG4-AE14)","v":{"$error":"#DIV/0!"}},{"$f":"IF(AF10=0,0,(AF10*((LOG(AF10))/LOG(2))))","v":{"$error":"#DIV/0!"}},null,{"$f":"N10","v":122},{"$f":"COUNTIF(L27:L33,AI10)","v":0},{"$f":"AJ10/(AL4-AJ14)","v":{"$error":"#DIV/0!"}},{"$f":"IF(AK10=0,0,(AK10*((LOG(AK10))/LOG(2))))","v":{"$error":"#DIV/0!"}},null,{"$f":"N10","v":122},{"$f":"COUNTIF(L34:L40,AN10)","v":0},{"$f":"AO10/(AQ4-AO14)","v":{"$error":"#DIV/0!"}},{"$f":"IF(AP10=0,0,(AP10*((LOG(AP10))/LOG(2))))","v":{"$error":"#DIV/0!"}},null,{"$f":"N10","v":122},{"$f":"COUNTIF(L41:L47,AS10)","v":0},{"$f":"AT10/(AV4-AT14)","v":{"$error":"#DIV/0!"}},{"$f":"IF(AU10=0,0,(AU10*((LOG(AU10))/LOG(2))))","v":{"$error":"#DIV/0!"}}]
[21,694,21,699,21,705,null,null,null,null,0,222,null,211,{"$f":"COUNTIF($L$7:$L$500,N11)","v":0},{"$f":"O11/$Q$4","v":0},{"$f":"IF(P11=0,0,(P11*((LOG(P11))/LOG(2))))","v":0},null,null,{"$f":"N11","v":211},{"$f":"COUNTIF(L7:L13,T11)","v":0},{"$f":"U11/(W4-U14)","v":0},{"$f":"IF(V11=0,0,(V11*((LOG(V11))/LOG(2))))","v":0},null,{"$f":"N11","v":211},{"$f":"COUNTIF(L14:L20,Y11)","v":0},{"$f":"Z11/(AB4-Z14)","v":{"$error":"#DIV/0!"}},{"$f":"IF(AA11=0,0,(AA11*((LOG(AA11))/LOG(2))))","v":{"$error":"#DIV/0!"}},null,{"$f":"N11","v":211},{"$f":"COUNTIF(L21:L26,AD11)","v":0},{"$f":"AE11/(AG4-AE14)","v":{"$error":"#DIV/0!"}},{"$f":"IF(AF11=0,0,(AF11*((LOG(AF11))/LOG(2))))","v":{"$error":"#DIV/0!"}},null,{"$f":"N11","v":211},{"$f":"COUNTIF(L27:L33,AI11)","v":0},{"$f":"AJ11/(AL4-AJ14)","v":{"$error":"#DIV/0!"}},{"$f":"IF(AK11=0,0,(AK11*((LOG(AK11))/LOG(2))))","v":{"$error":"#DIV/0!"}},null,{"$f":"N11","v":211},{"$f":"COUNTIF(L34:L40,AN11)","v":0},{"$f":"AO11/(AQ4-AO14)","v":{"$error":"#DIV/0!"}},{"$f":"IF(AP11=0,0,(AP11*((LOG(AP11))/LOG(2))))","v":{"$error":"#DIV/0!"}},null,{"$f":"N11","v":211},{"$f":"COUNTIF(L41:L47,AS11)","v":0},{"$f":"AT11/(AV4-AT14)","v":{"$error":"#DIV/0!"}},{"$f":"IF(AU11=0,0,(AU11*((LOG(AU11))/LOG(2))))","v":{"$error":"#DIV/0!"}}]
[21,882,21,887,21,894,null,null,null,null,0,222,null,212,{"$f":"COUNTIF($L$7:$L$500,N12)","v":0},{"$f":"O12/$Q$4","v":0},{"$f":"IF(P12=0,0,(P12*((LOG(P12))/LOG(2))))","v":0},null,null,{"$f":"N12","v":212},{"$f":"COUNTIF(L7:L13,T12)","v":0},{"$f":"U12/(W4-U14)","v":0},{"$f":"IF(V12=0,0,(V12*((LOG(V12))/LOG(2))))","v":0},null,{"$f":"N12","v":212},{"$f":"COUNTIF(L14:L20,Y12)","v":0},{"$f":"Z12/(AB4-Z14)","v":{"$error":"#DIV/0!"}},{"$f":"IF(AA12=0,0,(AA12*((LOG(AA12))/LOG(2))))","v":{"$error":"#DIV/0!"}},null,{"$f":"N12","v":212},{"$f":"COUNTIF(L21:L26,AD12)","v":0},{"$f":"AE12/(AG4-AE14)","v":{"$error":"#DIV/0!"}},{"$f":"IF(AF12=0,0,(AF12*((LOG(AF12))/LOG(2))))","v":{"$error":"#DIV/0!"}},null,{"$f":"N12","v":212},{"$f":"COUNTIF(L27:L33,AI12)","v":0},{"$f":"AJ12/(AL4-AJ14)","v":{"$error":"#DIV/0!"}},{"$f":"IF(AK12=0,0,(AK12*((LOG(AK12))/LOG(2))))","v":{"$error":"#DIV/0!"}},null,{"$f":"N12","v":212},{"$f":"COUNTIF(L34:L40,AN12)","v":0},{"$f":"AO12/(AQ4-AO14)","v":{"$error":"#DIV/0!"}},{"$f":"IF(AP12=0,0,(AP12*((LOG(AP12))/LOG(2))))","v":{"$error":"#DIV/0!"}},null,{"$f":"N12","v":212},{"$f":"COUNTIF(L41:L47,AS12)","v":0},{"$f":"AT12/(AV4-AT14)","v":{"$error":"#DIV/0!"}},{"$f":"IF(AU12=0,0,(AU12*((LOG(AU12))/LOG(2))))","v":{"$error":"#DIV/0!"}}]
[21,1059,21,1062,21,1070,null,null,null,null,0,222,null,221,{"$f":"COUNTIF($L$7:$L$500,N13)","v":0},{"$f":"O13/$Q$4","v":0},{"$f":"IF(P13=0,0,(P13*((LOG(P13))/LOG(2))))","v":0},null,null,{"$f":"N13","v":221},{"$f":"COUNTIF(L7:L13,T13)","v":0},{"$f":"U13/(W4-U14)","v":0},{"$f":"IF(V13=0,0,(V13*((LOG(V13))/LOG(2))))","v":0},null,{"$f":"N13","v":221},{"$f":"COUNTIF(L14:L20,Y13)","v":0},{"$f":"Z13/(AB4-Z14)","v":{"$error":"#DIV/0!"}},{"$f":"IF(AA13=0,0,(AA13*((LOG(AA13))/LOG(2))))","v":{"$error":"#DIV/0!"}},null,{"$f":"N13","v":221},{"$f":"COUNTIF(L21:L26,AD13)","v":0},{"$f":"AE13/(AG4-AE14)","v":{"$error":"#DIV/0!"}},{"$f":"IF(AF13=0,0,(AF13*((LOG(AF13))/LOG(2))))","v":{"$error":"#DIV/0!"}},null,{"$f":"N13","v":221},{"$f":"COUNTIF(L27:L33,AI13)","v":0},{"$f":"AJ13/(AL4-AJ14)","v":{"$error":"#DIV/0!"}},{"$f":"IF(AK13=0,0,(AK13*((LOG(AK13))/LOG(2))))","v":{"$error":"#DIV/0!"}},null,{"$f":"N13","v":221},{"$f":"COUNTIF(L34:L40,AN13)","v":0},{"$f":"AO13/(AQ4-AO14)","v":{"$error":"#DIV/0!"}},{"$f":"IF(AP13=0,0,(AP13*((LOG(AP13))/LOG(2))))","v":{"$error":"#DIV/0!"}},null,{"$f":"N13","v":221},{"$f":"COUNTIF(L41:L47,AS13)","v":0},{"$f":"AT13/(AV4-AT14)","v":{"$error":"#DIV/0!"}},{"$f":"IF(AU13=0,0,(AU13*((LOG(AU13))/LOG(2))))","v":{"$error":"#DIV/0!"}}]
[21,1199,21,1201,21,1213,null,null,null,null,0,222,null,222,{"$f":"COUNTIF($L$7:$L$500,N14)","v":40},{"$f":"O14/$Q$4","v":0.97560975609756095},{"$f":"IF(P14=0,0,(P14*((LOG(P14))/LOG(2))))","v":-3.4755033883630611E-2},null,null,{"$f":"N14","v":222},{"$f":"COUNTIF(L7:L13,T14)","v":6},null,null,null,{"$f":"N14","v":222},{"$f":"COUNTIF(L14:L20,Y14)","v":7},null,null,null,{"$f":"N14","v":222},{"$f":"COUNTIF(L21:L26,AD14)","v":6},null,null,null,{"$f":"N14","v":222},{"$f":"COUNTIF(L27:L33,AI14)","v":7},null,null,null,{"$f":"N14","v":222},{"$f":"COUNTIF(L34:L40,AN14)","v":7},null,null,null,{"$f":"N14","v":222},{"$f":"COUNTIF(L41:L47,AS14)","v":7}]
[21,1417,21,1420,21,1427,null,null,null,null,0,222,null,null,null,{"$f":"SUM(P7:P14)","v":1},{"$f":"-SUM(Q7:Q14)","v":0.16542703399626679},null,null,null,null,{"$f":"SUM(V7:V14)","v":1},{"$f":"-SUM(W7:W14)","v":0},null,null,null,{"$f":"SUM(AA7:AA14)","v":{"$error":"#DIV/0!"}},{"$f":"-SUM(AB7:AB14)","v":{"$error":"#DIV/0!"}},null,null,null,{"$f":"SUM(AF7:AF14)","v":{"$error":"#DIV/0!"}},{"$f":"-SUM(AG7:AG14)","v":{"$error":"#DIV/0!"}},null,null,null,{"$f":"SUM(AK7:AK14)","v":{"$error":"#DIV/0!"}},{"$f":"-SUM(AL7:AL14)","v":{"$error":"#DIV/0!"}},null,null,null,{"$f":"SUM(AP7:AP14)","v":{"$error":"#DIV/0!"}},{"$f":"-SUM(AQ7:AQ14)","v":{"$error":"#DIV/0!"}},null,null,null,{"$f":"SUM(AU7:AU14)","v":{"$error":"#DIV/0!"}},{"$f":"-SUM(AV7:AV14)","v":{"$error":"#DIV/0!"}}]
[21,1554,21,1558,21,1563,null,null,null,null,0,222,null,null,null,"U=",{"$f":"Q15/(LOG(Q4)/LOG(2))","v":3.0877354779509855E-2},null,null,null,null,"U1=",{"$f":"W15/(LOG(W4)/LOG(2))","v":0},null,null,null,"U2=",{"$f":"AB15/(LOG(AB4)/LOG(2))","v":{"$error":"#DIV/0!"}},null,null,null,"U3=",{"$f":"AG15/(LOG(AG4)/LOG(2))","v":{"$error":"#DIV/0!"}},null,null,null,"U4=",{"$f":"AL15/(LOG(AL4)/LOG(2))","v":{"$error":"#DIV/0!"}},null,null,null,"U5=",{"$f":"AQ15/(LOG(AQ4)/LOG(2))","v":{"$error":"#DIV/0!"}},null,null,null,"U6=",{"$f":"AV15/(LOG(AV4)/LOG(2))","v":{"$error":"#DIV/0!"}}]
[21,1738,21,1746,21,1752,null,null,null,null,0,222]
[21,1878,21,1887,21,1893,null,null,null,null,0,222]
[21,2038,21,2045,21,2047,null,null,null,null,0,222,null,"Total Target Seq"]
[21,2168,21,2175,21,2178,null,null,null,null,0,222,null,{"$f":"COUNTIF(L7:L47,G3)","v":40},null,7,7,6,7,7,7]
[21,2352,21,2367,21,2378,null,null,null,null,0,222,null,null,null,"% of reinforcement given in 6 equal intervals based on number of trials "]
[21,2503,21,2505,21,2511,null,null,null,null,0,222,null,null,null,"%_1","%_2","%_3","%_4","%_5","%_6"]
[21,2739,21,2749,21,2754,null,null,null,null,0,222,null,null,"target sequence",{"$f":"$G$3","v":222},{"$f":"$G$3","v":222},{"$f":"$G$3","v":222},{"$f":"$G$3","v":222},{"$f":"$G$3","v":222},{"$f":"$G$3","v":222}]
[21,2924,21,2930,21,2934,null,null,null,null,0,222,null,null,"total reinforcement",{"$f":"U14","v":6},{"$f":"Z14","v":7},{"$f":"AE14","v":6},{"$f":"AJ14","v":7},{"$f":"AO14","v":7},{"$f":"AT14","v":7}]
[21,3181,21,3186,21,3191,null,null,null,null,0,222,null,null,"% target"]
[21,3336,21,3339,21,3345,null,null,null,null,0,222,null,null,"CCRF"]
[21,3497,21,3500,21,3506,null,null,null,null,0,222,null,null,"% CCRf"]
[21,3629,21,3634,21,3641,null,null,null,null,0,222,null,null,"average response rate",{"$f":"F13/P20","v":152.85714285714286},{"$f":"(F20-F13)/Q20","v":158.28571428571428},{"$f":"(F26-F20)/R20","v":194.5},{"$f":"(F33-F26)/S20","v":168.14285714285714},{"$f":"(F40-F33)/T20","v":194.28571428571428},{"$f":"(F47-F40)/U20","v":193.85714285714286}]
[21,3845,21,3851,21,3857,null,null,null,null,0,222]
[21,4041,21,4047,21,4054,null,null,null,null,0,222]
[21,4224,21,4229,21,4235,null,null,null,null,0,222]
[21,4376,21,4380,21,4392,null,null,null,null,0,222]
[21,4513,21,4517,21,4522,null,null,null,null,0,222]
[21,4682,21,4688,21,4697,null,null,null,null,0,222]
[21,4894,21,4902,21,4907,null,null,null,null,0,222]
[21,5115,21,5119,21,5123,null,null,null,null,0,222]
[21,5308,21,5313,21,5319,null,null,null,null,0,222]
[21,5473,21,5475,21,5487,null,null,null,null,0,222]
[21,5726,21,5735,21,5741,null,null,null,null,0,222]
[21,5866,21,5877,21,5882,null,null,null,null,0,222]
[21,6054,21,6062,21,6068,null,null,null,null,0,222]
[21,6323,21,6328,21,6339,null,null,null,null,0,222]
[21,6497,21,6502,21,6508,null,null,null,null,0,222]
[21,6638,21,6644,21,6651,null,null,null,null,0,222]
[21,6843,21,6845,21,6850,null,null,null,null,0,222]
[21,7047,21,7056,21,7062,null,null,null,null,0,222]
[21,7220,21,7228,21,7239,null,null,null,null,1,222]

{"sheet":"!M40592D.UST","index":18,"n_rows":46,"n_cols":48,"rows_kept":46,"cut":false,"hidden":false,"merged":[[4,39,4,42],[5,39,5,40],[4,44,4,47],[5,44,5,45],[4,24,4,27],[5,24,5,25],[4,29,4,32],[5,29,5,30],[4,34,4,37],[5,34,5,35],[1,1,1,2],[5,13,5,14],[18,13,18,14],[19,13,19,14],[4,19,4,22],[5,19,5,20]]}
["Report for:!M40592D.UST"]
["Date:","<date>"]
["Hen:","<hen>",null,null,null,"Correct Sequence",{"$f":"Start!J2","v":222},null,null,null,null,null,null,null,null,"Total Sequences in Data",{"$f":"4994-COUNTBLANK(L7:L5000)","v":40},null,null,null,null,"Total Sequences in Block Data",{"$f":"COUNTA(L7:L13)","v":7},null,null,null,"Total Sequences in Block Data",{"$f":"COUNTA(L14:L19)","v":6},null,null,null,"Total Sequences in Block Data",{"$f":"COUNTA(L20:L26)","v":7},null,null,null,"Total Sequences in Block Data",{"$f":"COUNTA(L27:L33)","v":7},null,null,null,"Total Sequences in Block Data",{"$f":"COUNTA(L34:L39)","v":6},null,null,null,"Total Sequences in Block Data",{"$f":"COUNTA(L40:L46)","v":7}]
[null,null,null,null,null,null,null,null,null,null,null,null,null,null,null,"Total Sequences in Summary",{"$f":"SUM(O7:O14)","v":40},null,null,null,null,"Total Sequences in Block Summary",{"$f":"SUM(U7:U14)","v":7},null,null,null,"Total Sequences in Block Summary",{"$f":"SUM(Z7:Z14)","v":6},null,null,null,"Total Sequences in Block Summary",{"$f":"SUM(AE7:AE14)","v":7},null,null,null,"Total Sequences in Block Summary",{"$f":"SUM(AJ7:AJ14)","v":7},null,null,null,"Total Sequences in Block Summary",{"$f":"SUM(AO7:AO14)","v":6},null,null,null,"Total Sequences in Block Summary",{"$f":"SUM(AT7:AT14)","v":7}]
[null,null,null,null,null,null,null,null,null,null,null,null,null,null,null,null,null,null,null,"Block 1",null,null,null,null,"Block 2",null,null,null,null,"Block 3",null,null,null,null,"Block 4",null,null,null,null,"Block 5",null,null,null,null,"Block 6"]
["Sequence\nComponent\n1","Time\n1","Sequence\nComponent\n2","Time\n2","Sequence\nComponent\n3","Time\n3","Sequence\nComponent\n4","Time\n4","Sequence\nComponent\n5","Time\n5","Correct?\n0=No 1=Yes","Sequence",null,"Frequency",null,"Relative Frequency","Variability",null,null,"Frequency",null,"Relative Frequency","Variability",null,"Frequency",null,"Relative Frequency","Variability",null,"Frequency",null,"Relative Frequency","Variability",null,"Frequency",null,"Relative Frequency","Variability",null,"Frequency",null,"Relative Frequency","Variability",null,"Frequency",null,"Relative Frequency","Variability"]
[21,17,21,23,21,29,null,null,null,null,0,222,null,111,{"$f":"COUNTIF($L$7:$L$500,N7)","v":0},{"$f":"O7/$Q$4","v":0},{"$f":"IF(P7=0,0,(P7*((LOG(P7))/LOG(2))))","v":0},null,null,{"$f":"N7","v":111},{"$f":"COUNTIF(L7:L13,T7)","v":0},{"$f":"U7/(W4-U14)","v":{"$error":"#DIV/0!"}},{"$f":"IF(V7=0,0,(V7*((LOG(V7))/LOG(2))))","v":{"$error":"#DIV/0!"}},null,{"$f":"N7","v":111},{"$f":"COUNTIF(L14:L19,Y7)","v":0},{"$f":"Z7/(AB4-Z14)","v":{"$error":"#DIV/0!"}},{"$f":"IF(AA7=0,0,(AA7*((LOG(AA7))/LOG(2))))","v":{"$error":"#DIV/0!"}},null,{"$f":"N7","v":111},{"$f":"COUNTIF(L20:L26,AD7)","v":0},{"$f":"AE7/(AG4-AE14)","v":{"$error":"#DIV/0!"}},{"$f":"IF(AF7=0,0,(AF7*((LOG(AF7))/LOG(2))))","v":{"$error":"#DIV/0!"}},null,{"$f":"N7","v":111},{"$f":"COUNTIF(L27:L33,AI7)","v":0},{"$f":"AJ7/(AL4-AJ14)","v":{"$error":"#DIV/0!"}},{"$f":"IF(AK7=0,0,(AK7*((LOG(AK7))/LOG(2))))","v":{"$error":"#DIV/0!"}},null,{"$f":"N7","v":111},{"$f":"COUNTIF(L34:L39,AN7)","v":0},{"$f":"AO7/(AQ4-AO14)","v":{"$error":"#DIV/0!"}},{"$f":"IF(AP7=0,0,(AP7*((LOG(AP7))/LOG(2))))","v":{"$error":"#DIV/0!"}},null,{"$f":"N7","v":111},{"$f":"COUNTIF(L40:L46,AS7)","v":0},{"$f":"AT7/(AV4-AT14)","v":{"$error":"#DIV/0!"}},{"$f":"IF(AU7=0,0,(AU7*((LOG(AU7))/LOG(2))))","v":{"$error":"#DIV/0!"}}]
[21,182,21,187,21,192,null,null,null,null,0,222,null,112,{"$f":"COUNTIF($L$7:$L$500,N8)","v":0},{"$f":"O8/$Q$4","v":0},{"$f":"IF(P8=0,0,(P8*((LOG(P8))/LOG(2))))","v":0},null,null,{"$f":"N8","v":112},{"$f":"COUNTIF(L7:L13,T8)","v":0},{"$f":"U8/(W4-U14)","v":{"$error":"#DIV/0!"}},{"$f":"IF(V8=0,0,(V8*((LOG(V8))/LOG(2))))","v":{"$error":"#DIV/0!"}},null,{"$f":"N8","v":112},{"$f":"COUNTIF(L14:L19,Y8)","v":0},{"$f":"Z8/(AB4-Z14)","v":{"$error":"#DIV/0!"}},{"$f":"IF(AA8=0,0,(AA8*((LOG(AA8))/LOG(2))))","v":{"$error":"#DIV/0!"}},null,{"$f":"N8","v":112},{"$f":"COUNTIF(L20:L26,AD8)","v":0},{"$f":"AE8/(AG4-AE14)","v":{"$error":"#DIV/0!"}},{"$f":"IF(AF8=0,0,(AF8*((LOG(AF8))/LOG(2))))","v":{"$error":"#DIV/0!"}},null,{"$f":"N8","v":112},{"$f":"COUNTIF(L27:L33,AI8)","v":0},{"$f":"AJ8/(AL4-AJ14)","v":{"$error":"#DIV/0!"}},{"$f":"IF(AK8=0,0,(AK8*((LOG(AK8))/LOG(2))))","v":{"$error":"#DIV/0!"}},null,{"$f":"N8","v":112},{"$f":"COUNTIF(L34:L39,AN8)","v":0},{"$f":"AO8/(AQ4-AO14)","v":{"$error":"#DIV/0!"}},{"$f":"IF(AP8=0,0,(AP8*((LOG(AP8))/LOG(2))))","v":{"$error":"#DIV/0!"}},null,{"$f":"N8","v":112},{"$f":"COUNTIF(L40:L46,AS8)","v":0},{"$f":"AT8/(AV4-AT14)","v":{"$error":"#DIV/0!"}},{"$f":"IF(AU8=0,0,(AU8*((LOG(AU8))/LOG(2))))","v":{"$error":"#DIV/0!"}}]
[21,393,21,400,21,410,null,null,null,null,0,222,null,121,{"$f":"COUNTIF($L$7:$L$500,N9)","v":0},{"$f":"O9/$Q$4","v":0},{"$f":"IF(P9=0,0,(P9*((LOG(P9))/LOG(2))))","v":0},null,null,{"$f":"N9","v":121},{"$f":"COUNTIF(L7:L13,T9)","v":0},{"$f":"U9/(W4-U14)","v":{"$error":"#DIV/0!"}},{"$f":"IF(V9=0,0,(V9*((LOG(V9))/LOG(2))))","v":{"$error":"#DIV/0!"}},null,{"$f":"N9","v":121},{"$f":"COUNTIF(L14:L19,Y9)","v":0},{"$f":"Z9/(AB4-Z14)","v":{"$error":"#DIV/0!"}},{"$f":"IF(AA9=0,0,(AA9*((LOG(AA9))/LOG(2))))","v":{"$error":"#DIV/0!"}},null,{"$f":"N9","v":121},{"$f":"COUNTIF(L20:L26,AD9)","v":0},{"$f":"AE9/(AG4-AE14)","v":{"$error":"#DIV/0!"}},{"$f":"IF(AF9=0,0,(AF9*((LOG(AF9))/LOG(2))))","v":{"$error":"#DIV/0!"}},null,{"$f":"N9","v":121},{"$f":"COUNTIF(L27:L33,AI9)","v":0},{"$f":"AJ9/(AL4-AJ14)","v":{"$error":"#DIV/0!"}},{"$f":"IF(AK9=0,0,(AK9*((LOG(AK9))/LOG(2))))","v":{"$error":"#DIV/0!"}},null,{"$f":"N9","v":121},{"$f":"COUNTIF(L34:L39,AN9)","v":0},{"$f":"AO9/(AQ4-AO14)","v":{"$error":"#DIV/0!"}},{"$f":"IF(AP9=0,0,(AP9*((LOG(AP9))/LOG(2))))","v":{"$error":"#DIV/0!"}},null,{"$f":"N9","v":121},{"$f":"COUNTIF(L40:L46,AS9)","v":0},{"$f":"AT9/(AV4-AT14)","v":{"$error":"#DIV/0!"}},{"$f":"IF(AU9=0,0,(AU9*((LOG(AU9))/LOG(2))))","v":{"$error":"#DIV/0!"}}]
[21,648,21,650,21,658,null,null,null,null,0,222,null,122,{"$f":"COUNTIF($L$7:$L$500,N10)","v":0},{"$f":"O10/$Q$4","v":0},{"$f":"IF(P10=0,0,(P10*((LOG(P10))/LOG(2))))","v":0},null,null,{"$f":"N10","v":122},{"$f":"COUNTIF(L7:L13,T10)","v":0},{"$f":"U10/(W4-U14)","v":{"$error":"#DIV/0!"}},{"$f":"IF(V10=0,0,(V10*((LOG(V10))/LOG(2))))","v":{"$error":"#DIV/0!"}},null,{"$f":"N10","v":122},{"$f":"COUNTIF(L14:L19,Y10)","v":0},{"$f":"Z10/(AB4-Z14)","v":{"$error":"#DIV/0!"}},{"$f":"IF(AA10=0,0,(AA10*((LOG(AA10))/LOG(2))))","v":{"$error":"#DIV/0!"}},null,{"$f":"N10","v":122},{"$f":"COUNTIF(L20:L26,AD10)","v":0},{"$f":"AE10/(AG4-AE14)","v":{"$error":"#DIV/0!"}},{"$f":"IF(AF10=0,0,(AF10*((LOG(AF10))/LOG(2))))","v":{"$error":"#DIV/0!"}},null,{"$f":"N10","v":122},{"$f":"COUNTIF(L27:L33,AI10)","v":0},{"$f":"AJ10/(AL4-AJ14)","v":{"$error":"#DIV/0!"}},{"$f":"IF(AK10=0,0,(AK10*((LOG(AK10))/LOG(2))))","v":{"$error":"#DIV/0!"}},null,{"$f":"N10","v":122},{"$f":"COUNTIF(L34:L39,AN10)","v":0},{"$f":"AO10/(AQ4-AO14)","v":{"$error":"#DIV/0!"}},{"$f":"IF(AP10=0,0,(AP10*((LOG(AP10))/LOG(2))))","v":{"$error":"#DIV/0!"}},null,{"$f":"N10","v":122},{"$f":"COUNTIF(L40:L46,AS10)","v":0},{"$f":"AT10/(AV4-AT14)","v":{"$error":"#DIV/0!"}},{"$f":"IF(AU10=0,0,(AU10*((LOG(AU10))/LOG(2))))","v":{"$error":"#DIV/0!"}}]
[21,856,21,858,21,863,null,null,null,null,0,222,null,211,{"$f":"COUNTIF($L$7:$L$500,N11)","v":0},{"$f":"O11/$Q$4","v":0},{"$f":"IF(P11=0,0,(P11*((LOG(P11))/LOG(2))))","v":0},null,null,{"$f":"N11","v":211},{"$f":"COUNTIF(L7:L13,T11)","v":0},{"$f":"U11/(W4-U14)","v":{"$error":"#DIV/0!"}},{"$f":"IF(V11=0,0,(V11*((LOG(V11))/LOG(2))))","v":{"$error":"#DIV/0!"}},null,{"$f":"N11","v":211},{"$f":"COUNTIF(L14:L19,Y11)","v":0},{"$f":"Z11/(AB4-Z14)","v":{"$error":"#DIV/0!"}},{"$f":"IF(AA11=0,0,(AA11*((LOG(AA11))/LOG(2))))","v":{"$error":"#DIV/0!"}},null,{"$f":"N11","v":211},{"$f":"COUNTIF(L20:L26,AD11)","v":0},{"$f":"AE11/(AG4-AE14)","v":{"$error":"#DIV/0!"}},{"$f":"IF(AF11=0,0,(AF11*((LOG(AF11))/LOG(2))))","v":{"$error":"#DIV/0!"}},null,{"$f":"N11","v":211},{"$f":"COUNTIF(L27:L33,AI11)","v":0},{"$f":"AJ11/(AL4-AJ14)","v":{"$error":"#DIV/0!"}},{"$f":"IF(AK11=0,0,(AK11*((LOG(AK11))/LOG(2))))","v":{"$error":"#DIV/0!"}},null,{"$f":"N11","v":211},{"$f":"COUNTIF(L34:L39,AN11)","v":0},{"$f":"AO11/(AQ4-AO14)","v":{"$error":"#DIV/0!"}},{"$f":"IF(AP11=0,0,(AP11*((LOG(AP11))/LOG(2))))","v":{"$error":"#DIV/0!"}},null,{"$f":"N11","v":211},{"$f":"COUNTIF(L40:L46,AS11)","v":0},{"$f":"AT11/(AV4-AT14)","v":{"$error":"#DIV/0!"}},{"$f":"IF(AU11=0,0,(AU11*((LOG(AU11))/LOG(2))))","v":{"$error":"#DIV/0!"}}]
[21,1036,21,1047,21,1058,null,null,null,null,0,222,null,212,{"$f":"COUNTIF($L$7:$L$500,N12)","v":0},{"$f":"O12/$Q$4","v":0},{"$f":"IF(P12=0,0,(P12*((LOG(P12))/LOG(2))))","v":0},null,null,{"$f":"N12","v":212},{"$f":"COUNTIF(L7:L13,T12)","v":0},{"$f":"U12/(W4-U14)","v":{"$error":"#DIV/0!"}},{"$f":"IF(V12=0,0,(V12*((LOG(V12))/LOG(2))))","v":{"$error":"#DIV/0!"}},null,{"$f":"N12","v":212},{"$f":"COUNTIF(L14:L19,Y12)","v":0},{"$f":"Z12/(AB4-Z14)","v":{"$error":"#DIV/0!"}},{"$f":"IF(AA12=0,0,(AA12*((LOG(AA12))/LOG(2))))","v":{"$error":"#DIV/0!"}},null,{"$f":"N12","v":212},{"$f":"COUNTIF(L20:L26,AD12)","v":0},{"$f":"AE12/(AG4-AE14)","v":{"$error":"#DIV/0!"}},{"$f":"IF(AF12=0,0,(AF12*((LOG(AF12))/LOG(2))))","v":{"$error":"#DIV/0!"}},null,{"$f":"N12","v":212},{"$f":"COUNTIF(L27:L33,AI12)","v":0},{"$f":"AJ12/(AL4-AJ14)","v":{"$error":"#DIV/0!"}},{"$f":"IF(AK12=0,0,(AK12*((LOG(AK12))/LOG(2))))","v":{"$error":"#DIV/0!"}},null,{"$f":"N12","v":212},{"$f":"COUNTIF(L34:L39,AN12)","v":0},{"$f":"AO12/(AQ4-AO14)","v":{"$error":"#DIV/0!"}},{"$f":"IF(AP12=0,0,(AP12*((LOG(AP12))/LOG(2))))","v":{"$error":"#DIV/0!"}},null,{"$f":"N12","v":212},{"$f":"COUNTIF(L40:L46,AS12)","v":0},{"$f":"AT12/(AV4-AT14)","v":{"$error":"#DIV/0!"}},{"$f":"IF(AU12=0,0,(AU12*((LOG(AU12))/LOG(2))))","v":{"$error":"#DIV/0!"}}]
[21,1275,21,1285,21,1291,null,null,null,null,0,222,null,221,{"$f":"COUNTIF($L$7:$L$500,N13)","v":0},{"$f":"O13/$Q$4","v":0},{"$f":"IF(P13=0,0,(P13*((LOG(P13))/LOG(2))))","v":0},null,null,{"$f":"N13","v":221},{"$f":"COUNTIF(L7:L13,T13)","v":0},{"$f":"U13/(W4-U14)","v":{"$error":"#DIV/0!"}},{"$f":"IF(V13=0,0,(V13*((LOG(V13))/LOG(2))))","v":{"$error":"#DIV/0!"}},null,{"$f":"N13","v":221},{"$f":"COUNTIF(L14:L19,Y13)","v":0},{"$f":"Z13/(AB4-Z14)","v":{"$error":"#DIV/0!"}},{"$f":"IF(AA13=0,0,(AA13*((LOG(AA13))/LOG(2))))","v":{"$error":"#DIV/0!"}},null,{"$f":"N13","v":221},{"$f":"COUNTIF(L20:L26,AD13)","v":0},{"$f":"AE13/(AG4-AE14)","v":{"$error":"#DIV/0!"}},{"$f":"IF(AF13=0,0,(AF13*((LOG(AF13))/LOG(2))))","v":{"$error":"#DIV/0!"}},null,{"$f":"N13","v":221},{"$f":"COUNTIF(L27:L33,AI13)","v":0},{"$f":"AJ13/(AL4-AJ14)","v":{"$error":"#DIV/0!"}},{"$f":"IF(AK13=0,0,(AK13*((LOG(AK13))/LOG(2))))","v":{"$error":"#DIV/0!"}},null,{"$f":"N13","v":221},{"$f":"COUNTIF(L34:L39,AN13)","v":0},{"$f":"AO13/(AQ4-AO14)","v":{"$error":"#DIV/0!"}},{"$f":"IF(AP13=0,0,(AP13*((LOG(AP13))/LOG(2))))","v":{"$error":"#DIV/0!"}},null,{"$f":"N13","v":221},{"$f":"COUNTIF(L40:L46,AS13)","v":0},{"$f":"AT13/(AV4-AT14)","v":{"$error":"#DIV/0!"}},{"$f":"IF(AU13=0,0,(AU13*((LOG(AU13))/LOG(2))))","v":{"$error":"#DIV/0!"}}]
[21,1437,21,1447,21,1454,null,null,null,null,0,222,null,222,{"$f":"COUNTIF($L$7:$L$500,N14)","v":40},{"$f":"O14/$Q$4","v":1},{"$f":"IF(P14=0,0,(P14*((LOG(P14))/LOG(2))))","v":0},null,null,{"$f":"N14","v":222},{"$f":"COUNTIF(L7:L13,T14)","v":7},null,null,null,{"$f":"N14","v":222},{"$f":"COUNTIF(L14:L19,Y14)","v":6},null,null,null,{"$f":"N14","v":222},{"$f":"COUNTIF(L20:L26,AD14)","v":7},null,null,null,{"$f":"N14","v":222},{"$f":"COUNTIF(L27:L33,AI14)","v":7},null,null,null,{"$f":"N14","v":222},{"$f":"COUNTIF(L34:L39,AN14)","v":6},null,null,null,{"$f":"N14","v":222},{"$f":"COUNTIF(L40:L46,AS14)","v":7}]
[21,1670,21,1676,21,1682,null,null,null,null,0,222,null,null,null,{"$f":"SUM(P7:P14)","v":1},{"$f":"-SUM(Q7:Q14)","v":0},null,null,null,null,{"$f":"SUM(V7:V14)","v":{"$error":"#DIV/0!"}},{"$f":"-SUM(W7:W14)","v":{"$error":"#DIV/0!"}},null,null,null,{"$f":"SUM(AA7:AA14)","v":{"$error":"#DIV/0!"}},{"$f":"-SUM(AB7:AB14)","v":{"$error":"#DIV/0!"}},null,null,null,{"$f":"SUM(AF7:AF14)","v":{"$error":"#DIV/0!"}},{"$f":"-SUM(AG7:AG14)","v":{"$error":"#DIV/0!"}},null,null,null,{"$f":"SUM(AK7:AK14)","v":{"$error":"#DIV/0!"}},{"$f":"-SUM(AL7:AL14)","v":{"$error":"#DIV/0!"}},null,null,null,{"$f":"SUM(AP7:AP14)","v":{"$error":"#DIV/0!"}},{"$f":"-SUM(AQ7:AQ14)","v":{"$error":"#DIV/0!"}},null,null,null,{"$f":"SUM(AU7:AU14)","v":{"$error":"#DIV/0!"}},{"$f":"-SUM(AV7:AV14)","v":{"$error":"#DIV/0!"}}]
[21,1880,21,1883,21,1888,null,null,null,null,0,222,null,null,null,"U=",{"$f":"Q15/(LOG(Q4)/LOG(2))","v":0},null,null,null,null,"U1=",{"$f":"W15/(LOG(W4)/LOG(2))","v":{"$error":"#DIV/0!"}},null,null,null,"U2=",{"$f":"AB15/(LOG(AB4)/LOG(2))","v":{"$error":"#DIV/0!"}},null,null,null,"U3=",{"$f":"AG15/(LOG(AG4)/LOG(2))","v":{"$error":"#DIV/0!"}},null,null,null,"U4=",{"$f":"AL15/(LOG(AL4)/LOG(2))","v":{"$error":"#DIV/0!"}},null,null,null,"U5=",{"$f":"AQ15/(LOG(AQ4)/LOG(2))","v":{"$error":"#DIV/0!"}},null,null,null,"U6=",{"$f":"AV15/(LOG(AV4)/LOG(2))","v":{"$error":"#DIV/0!"}}]
[21,2063,21,2069,21,2076,null,null,null,null,0,222]
[21,2256,21,2259,21,2265,null,null,null,null,0,222]
[21,2423,21,2429,21,2437,null,null,null,null,0,222,null,"Total Target Seq"]
[21,2630,21,2633,21,2639,null,null,null,null,0,222,null,{"$f":"COUNTIF(L7:L46,G3)","v":40},null,7,6,7,7,6,7]
[21,2787,21,2790,21,2795,null,null,null,null,0,222,null,null,null,"% of reinforcement given in 6 equal intervals based on number of trials "]
[21,2963,21,2966,21,2969,null,null,null,null,0,222,null,null,null,"%_1","%_2","%_3","%_4","%_5","%_6"]
[21,3115,21,3121,21,3128,null,null,null,null,0,222,null,null,"target sequence",{"$f":"$G$3","v":222},{"$f":"$G$3","v":222},{"$f":"$G$3","v":222},{"$f":"$G$3","v":222},{"$f":"$G$3","v":222},{"$f":"$G$3","v":222}]
[21,3274,21,3280,21,3286,null,null,null,null,0,222,null,null,"total reinforcement",{"$f":"U14","v":7},{"$f":"Z14","v":6},{"$f":"AE14","v":7},{"$f":"AJ14","v":7},{"$f":"AO14","v":6},{"$f":"AT14","v":7}]
[21,3377,21,3387,21,3393,null,null,null,null,0,222,null,null,"% target"]
[21,3529,21,3530,21,3537,null,null,null,null,0,222,null,null,"CCRF"]
[21,3638,21,3647,21,3653,null,null,null,null,0,222,null,null,"% CCRf"]
[21,3838,21,3847,21,3852,null,null,null,null,0,222,null,null,"average response rate",{"$f":"F13/P20","v":184.42857142857142},{"$f":"(F19-F13)/Q20","v":191},{"$f":"(F26-F19)/R20","v":157.14285714285714},{"$f":"(F33-F26)/S20","v":206.71428571428572},{"$f":"(F39-F33)/T20","v":239.66666666666666},{"$f":"(F46-F39)/U20","v":237.14285714285714}]
[21,4034,21,4037,21,4042,null,null,null,null,0,222]
[21,4315,21,4325,21,4331,null,null,null,null,0,222]
[21,4506,21,4509,21,4512,null,null,null,null,0,222]
[21,4687,21,4695,21,4701,null,null,null,null,0,222]
[21,4963,21,4967,21,4984,null,null,null,null,0,222]
[21,5207,21,5216,21,5222,null,null,null,null,0,222]
[21,5462,21,5466,21,5473,null,null,null,null,0,222]
[21,5657,21,5658,21,5664,null,null,null,null,0,222]
[21,5860,21,5863,21,5867,null,null,null,null,0,222]
[21,6103,21,6108,21,6115,null,null,null,null,0,222]
[21,6409,21,6416,21,6422,null,null,null,null,0,222]
[21,6611,21,6616,21,6621,null,null,null,null,0,222]
[21,6862,21,6868,21,6883,null,null,null,null,0,222]
[21,7129,21,7133,21,7138,null,null,null,null,0,222]
[21,7463,21,7468,21,7489,null,null,null,null,0,222]
[21,7696,21,7701,21,7706,null,null,null,null,0,222]
[21,7864,21,7867,21,7884,null,null,null,null,0,222]
[21,8069,21,8076,21,8082,null,null,null,null,1,222]

{"sheet":"!M410A3D.UST","index":19,"n_rows":49,"n_cols":48,"rows_kept":49,"cut":false,"hidden":false,"merged":[[4,39,4,42],[5,39,5,40],[4,44,4,47],[5,44,5,45],[4,24,4,27],[5,24,5,25],[4,29,4,32],[5,29,5,30],[4,34,4,37],[5,34,5,35],[1,1,1,2],[5,13,5,14],[18,13,18,14],[19,13,19,14],[4,19,4,22],[5,19,5,20]]}
["Report for:!M410A3D.UST"]
["Date:","<date>"]
["Hen:","<hen>",null,null,null,"Correct Sequence",{"$f":"Start!J2","v":222},null,null,null,null,null,null,null,null,"Total Sequences in Data",{"$f":"4994-COUNTBLANK(L7:L5000)","v":43},null,null,null,null,"Total Sequences in Block Data",{"$f":"COUNTA(L7:L13)","v":7},null,null,null,"Total Sequences in Block Data",{"$f":"COUNTA(L14:L20)","v":7},null,null,null,"Total Sequences in Block Data",{"$f":"COUNTA(L21:L28)","v":8},null,null,null,"Total Sequences in Block Data",{"$f":"COUNTA(L29:L35)","v":7},null,null,null,"Total Sequences in Block Data",{"$f":"COUNTA(L36:L42)","v":7},null,null,null,"Total Sequences in Block Data",{"$f":"COUNTA(L43:L49)","v":7}]
[null,null,null,null,null,null,null,null,null,null,null,null,null,null,null,"Total Sequences in Summary",{"$f":"SUM(O7:O14)","v":43},null,null,null,null,"Total Sequences in Block Summary",{"$f":"SUM(U7:U14)","v":7},null,null,null,"Total Sequences in Block Summary",{"$f":"SUM(Z7:Z14)","v":7},null,null,null,"Total Sequences in Block Summary",{"$f":"SUM(AE7:AE14)","v":8},null,null,null,"Total Sequences in Block Summary",{"$f":"SUM(AJ7:AJ14)","v":7},null,null,null,"Total Sequences in Block Summary",{"$f":"SUM(AO7:AO14)","v":7},null,null,null,"Total Sequences in Block Summary",{"$f":"SUM(AT7:AT14)","v":7}]
[null,null,null,null,null,null,null,null,null,null,null,null,null,null,null,null,null,null,null,"Block 1",null,null,null,null,"Block 2",null,null,null,null,"Block 3",null,null,null,null,"Block 4",null,null,null,null,"Block 5",null,null,null,null,"Block 6"]
["Sequence\nComponent\n1","Time\n1","Sequence\nComponent\n2","Time\n2","Sequence\nComponent\n3","Time\n3","Sequence\nComponent\n4","Time\n4","Sequence\nComponent\n5","Time\n5","Correct?\n0=No 1=Yes","Sequence",null,"Frequency",null,"Relative Frequency","Variability",null,null,"Frequency",null,"Relative Frequency","Variability",null,"Frequency",null,"Relative Frequency","Variability",null,"Frequency",null,"Relative Frequency","Variability",null,"Frequency",null,"Relative Frequency","Variability",null,"Frequency",null,"Relative Frequency","Variability",null,"Frequency",null,"Relative Frequency","Variability"]
[21,15,21,21,21,27,null,null,null,null,0,222,null,111,{"$f":"COUNTIF($L$7:$L$500,N7)","v":0},{"$f":"O7/$Q$4","v":0},{"$f":"IF(P7=0,0,(P7*((LOG(P7))/LOG(2))))","v":0},null,null,{"$f":"N7","v":111},{"$f":"COUNTIF(L7:L13,T7)","v":0},{"$f":"U7/(W4-U14)","v":{"$error":"#DIV/0!"}},{"$f":"IF(V7=0,0,(V7*((LOG(V7))/LOG(2))))","v":{"$error":"#DIV/0!"}},null,{"$f":"N7","v":111},{"$f":"COUNTIF(L14:L20,Y7)","v":0},{"$f":"Z7/(AB4-Z14)","v":0},{"$f":"IF(AA7=0,0,(AA7*((LOG(AA7))/LOG(2))))","v":0},null,{"$f":"N7","v":111},{"$f":"COUNTIF(L21:L28,AD7)","v":0},{"$f":"AE7/(AG4-AE14)","v":{"$error":"#DIV/0!"}},{"$f":"IF(AF7=0,0,(AF7*((LOG(AF7))/LOG(2))))","v":{"$error":"#DIV/0!"}},null,{"$f":"N7","v":111},{"$f":"COUNTIF(L29:L35,AI7)","v":0},{"$f":"AJ7/(AL4-AJ14)","v":{"$error":"#DIV/0!"}},{"$f":"IF(AK7=0,0,(AK7*((LOG(AK7))/LOG(2))))","v":{"$error":"#DIV/0!"}},null,{"$f":"N7","v":111},{"$f":"COUNTIF(L36:L42,AN7)","v":0},{"$f":"AO7/(AQ4-AO14)","v":{"$error":"#DIV/0!"}},{"$f":"IF(AP7=0,0,(AP7*((LOG(AP7))/LOG(2))))","v":{"$error":"#DIV/0!"}},null,{"$f":"N7","v":111},{"$f":"COUNTIF(L43:L49,AS7)","v":0},{"$f":"AT7/(AV4-AT14)","v":{"$error":"#DIV/0!"}},{"$f":"IF(AU7=0,0,(AU7*((LOG(AU7))/LOG(2))))","v":{"$error":"#DIV/0!"}}]
[21,197,21,201,21,207,null,null,null,null,0,222,null,112,{"$f":"COUNTIF($L$7:$L$500,N8)","v":0},{"$f":"O8/$Q$4","v":0},{"$f":"IF(P8=0,0,(P8*((LOG(P8))/LOG(2))))","v":0},null,null,{"$f":"N8","v":112},{"$f":"COUNTIF(L7:L13,T8)","v":0},{"$f":"U8/(W4-U14)","v":{"$error":"#DIV/0!"}},{"$f":"IF(V8=0,0,(V8*((LOG(V8))/LOG(2))))","v":{"$error":"#DIV/0!"}},null,{"$f":"N8","v":112},{"$f":"COUNTIF(L14:L20,Y8)","v":0},{"$f":"Z8/(AB4-Z14)","v":0},{"$f":"IF(AA8=0,0,(AA8*((LOG(AA8))/LOG(2))))","v":0},null,{"$f":"N8","v":112},{"$f":"COUNTIF(L21:L28,AD8)","v":0},{"$f":"AE8/(AG4-AE14)","v":{"$error":"#DIV/0!"}},{"$f":"IF(AF8=0,0,(AF8*((LOG(AF8))/LOG(2))))","v":{"$error":"#DIV/0!"}},null,{"$f":"N8","v":112},{"$f":"COUNTIF(L29:L35,AI8)","v":0},{"$f":"AJ8/(AL4-AJ14)","v":{"$error":"#DIV/0!"}},{"$f":"IF(AK8=0,0,(AK8*((LOG(AK8))/LOG(2))))","v":{"$error":"#DIV/0!"}},null,{"$f":"N8","v":112},{"$f":"COUNTIF(L36:L42,AN8)","v":0},{"$f":"AO8/(AQ4-AO14)","v":{"$error":"#DIV/0!"}},{"$f":"IF(AP8=0,0,(AP8*((LOG(AP8))/LOG(2))))","v":{"$error":"#DIV/0!"}},null,{"$f":"N8","v":112},{"$f":"COUNTIF(L43:L49,AS8)","v":0},{"$f":"AT8/(AV4-AT14)","v":{"$error":"#DIV/0!"}},{"$f":"IF(AU8=0,0,(AU8*((LOG(AU8))/LOG(2))))","v":{"$error":"#DIV/0!"}}]
[21,308,21,319,21,335,null,null,null,null,0,222,null,121,{"$f":"COUNTIF($L$7:$L$500,N9)","v":0},{"$f":"O9/$Q$4","v":0},{"$f":"IF(P9=0,0,(P9*((LOG(P9))/LOG(2))))","v":0},null,null,{"$f":"N9","v":121},{"$f":"COUNTIF(L7:L13,T9)","v":0},{"$f":"U9/(W4-U14)","v":{"$error":"#DIV/0!"}},{"$f":"IF(V9=0,0,(V9*((LOG(V9))/LOG(2))))","v":{"$error":"#DIV/0!"}},null,{"$f":"N9","v":121},{"$f":"COUNTIF(L14:L20,Y9)","v":0},{"$f":"Z9/(AB4-Z14)","v":0},{"$f":"IF(AA9=0,0,(AA9*((LOG(AA9))/LOG(2))))","v":0},null,{"$f":"N9","v":121},{"$f":"COUNTIF(L21:L28,AD9)","v":0},{"$f":"AE9/(AG4-AE14)","v":{"$error":"#DIV/0!"}},{"$f":"IF(AF9=0,0,(AF9*((LOG(AF9))/LOG(2))))","v":{"$error":"#DIV/0!"}},null,{"$f":"N9","v":121},{"$f":"COUNTIF(L29:L35,AI9)","v":0},{"$f":"AJ9/(AL4-AJ14)","v":{"$error":"#DIV/0!"}},{"$f":"IF(AK9=0,0,(AK9*((LOG(AK9))/LOG(2))))","v":{"$error":"#DIV/0!"}},null,{"$f":"N9","v":121},{"$f":"COUNTIF(L36:L42,AN9)","v":0},{"$f":"AO9/(AQ4-AO14)","v":{"$error":"#DIV/0!"}},{"$f":"IF(AP9=0,0,(AP9*((LOG(AP9))/LOG(2))))","v":{"$error":"#DIV/0!"}},null,{"$f":"N9","v":121},{"$f":"COUNTIF(L43:L49,AS9)","v":0},{"$f":"AT9/(AV4-AT14)","v":{"$error":"#DIV/0!"}},{"$f":"IF(AU9=0,0,(AU9*((LOG(AU9))/LOG(2))))","v":{"$error":"#DIV/0!"}}]
[21,503,21,507,21,514,null,null,null,null,0,222,null,122,{"$f":"COUNTIF($L$7:$L$500,N10)","v":3},{"$f":"O10/$Q$4","v":6.9767441860465115E-2},{"$f":"IF(P10=0,0,(P10*((LOG(P10))/LOG(2))))","v":-0.26799783167308894},null,null,{"$f":"N10","v":122},{"$f":"COUNTIF(L7:L13,T10)","v":0},{"$f":"U10/(W4-U14)","v":{"$error":"#DIV/0!"}},{"$f":"IF(V10=0,0,(V10*((LOG(V10))/LOG(2))))","v":{"$error":"#DIV/0!"}},null,{"$f":"N10","v":122},{"$f":"COUNTIF(L14:L20,Y10)","v":3},{"$f":"Z10/(AB4-Z14)","v":1},{"$f":"IF(AA10=0,0,(AA10*((LOG(AA10))/LOG(2))))","v":0},null,{"$f":"N10","v":122},{"$f":"COUNTIF(L21:L28,AD10)","v":0},{"$f":"AE10/(AG4-AE14)","v":{"$error":"#DIV/0!"}},{"$f":"IF(AF10=0,0,(AF10*((LOG(AF10))/LOG(2))))","v":{"$error":"#DIV/0!"}},null,{"$f":"N10","v":122},{"$f":"COUNTIF(L29:L35,AI10)","v":0},{"$f":"AJ10/(AL4-AJ14)","v":{"$error":"#DIV/0!"}},{"$f":"IF(AK10=0,0,(AK10*((LOG(AK10))/LOG(2))))","v":{"$error":"#DIV/0!"}},null,{"$f":"N10","v":122},{"$f":"COUNTIF(L36:L42,AN10)","v":0},{"$f":"AO10/(AQ4-AO14)","v":{"$error":"#DIV/0!"}},{"$f":"IF(AP10=0,0,(AP10*((LOG(AP10))/LOG(2))))","v":{"$error":"#DIV/0!"}},null,{"$f":"N10","v":122},{"$f":"COUNTIF(L43:L49,AS10)","v":0},{"$f":"AT10/(AV4-AT14)","v":{"$error":"#DIV/0!"}},{"$f":"IF(AU10=0,0,(AU10*((LOG(AU10))/LOG(2))))","v":{"$error":"#DIV/0!"}}]
[21,634,21,640,21,647,null,null,null,null,0,222,null,211,{"$f":"COUNTIF($L$7:$L$500,N11)","v":0},{"$f":"O11/$Q$4","v":0},{"$f":"IF(P11=0,0,(P11*((LOG(P11))/LOG(2))))","v":0},null,null,{"$f":"N11","v":211},{"$f":"COUNTIF(L7:L13,T11)","v":0},{"$f":"U11/(W4-U14)","v":{"$error":"#DIV/0!"}},{"$f":"IF(V11=0,0,(V11*((LOG(V11))/LOG(2))))","v":{"$error":"#DIV/0!"}},null,{"$f":"N11","v":211},{"$f":"COUNTIF(L14:L20,Y11)","v":0},{"$f":"Z11/(AB4-Z14)","v":0},{"$f":"IF(AA11=0,0,(AA11*((LOG(AA11))/LOG(2))))","v":0},null,{"$f":"N11","v":211},{"$f":"COUNTIF(L21:L28,AD11)","v":0},{"$f":"AE11/(AG4-AE14)","v":{"$error":"#DIV/0!"}},{"$f":"IF(AF11=0,0,(AF11*((LOG(AF11))/LOG(2))))","v":{"$error":"#DIV/0!"}},null,{"$f":"N11","v":211},{"$f":"COUNTIF(L29:L35,AI11)","v":0},{"$f":"AJ11/(AL4-AJ14)","v":{"$error":"#DIV/0!"}},{"$f":"IF(AK11=0,0,(AK11*((LOG(AK11))/LOG(2))))","v":{"$error":"#DIV/0!"}},null,{"$f":"N11","v":211},{"$f":"COUNTIF(L36:L42,AN11)","v":0},{"$f":"AO11/(AQ4-AO14)","v":{"$error":"#DIV/0!"}},{"$f":"IF(AP11=0,0,(AP11*((LOG(AP11))/LOG(2))))","v":{"$error":"#DIV/0!"}},null,{"$f":"N11","v":211},{"$f":"COUNTIF(L43:L49,AS11)","v":0},{"$f":"AT11/(AV4-AT14)","v":{"$error":"#DIV/0!"}},{"$f":"IF(AU11=0,0,(AU11*((LOG(AU11))/LOG(2))))","v":{"$error":"#DIV/0!"}}]
[21,757,21,759,21,763,null,null,null,null,0,222,null,212,{"$f":"COUNTIF($L$7:$L$500,N12)","v":0},{"$f":"O12/$Q$4","v":0},{"$f":"IF(P12=0,0,(P12*((LOG(P12))/LOG(2))))","v":0},null,null,{"$f":"N12","v":212},{"$f":"COUNTIF(L7:L13,T12)","v":0},{"$f":"U12/(W4-U14)","v":{"$error":"#DIV/0!"}},{"$f":"IF(V12=0,0,(V12*((LOG(V12))/LOG(2))))","v":{"$error":"#DIV/0!"}},null,{"$f":"N12","v":212},{"$f":"COUNTIF(L14:L20,Y12)","v":0},{"$f":"Z12/(AB4-Z14)","v":0},{"$f":"IF(AA12=0,0,(AA12*((LOG(AA12))/LOG(2))))","v":0},null,{"$f":"N12","v":212},{"$f":"COUNTIF(L21:L28,AD12)","v":0},{"$f":"AE12/(AG4-AE14)","v":{"$error":"#DIV/0!"}},{"$f":"IF(AF12=0,0,(AF12*((LOG(AF12))/LOG(2))))","v":{"$error":"#DIV/0!"}},null,{"$f":"N12","v":212},{"$f":"COUNTIF(L29:L35,AI12)","v":0},{"$f":"AJ12/(AL4-AJ14)","v":{"$error":"#DIV/0!"}},{"$f":"IF(AK12=0,0,(AK12*((LOG(AK12))/LOG(2))))","v":{"$error":"#DIV/0!"}},null,{"$f":"N12","v":212},{"$f":"COUNTIF(L36:L42,AN12)","v":0},{"$f":"AO12/(AQ4-AO14)","v":{"$error":"#DIV/0!"}},{"$f":"IF(AP12=0,0,(AP12*((LOG(AP12))/LOG(2))))","v":{"$error":"#DIV/0!"}},null,{"$f":"N12","v":212},{"$f":"COUNTIF(L43:L49,AS12)","v":0},{"$f":"AT12/(AV4-AT14)","v":{"$error":"#DIV/0!"}},{"$f":"IF(AU12=0,0,(AU12*((LOG(AU12))/LOG(2))))","v":{"$error":"#DIV/0!"}}]
[21,945,21,951,21,958,null,null,null,null,0,222,null,221,{"$f":"COUNTIF($L$7:$L$500,N13)","v":0},{"$f":"O13/$Q$4","v":0},{"$f":"IF(P13=0,0,(P13*((LOG(P13))/LOG(2))))","v":0},null,null,{"$f":"N13","v":221},{"$f":"COUNTIF(L7:L13,T13)","v":0},{"$f":"U13/(W4-U14)","v":{"$error":"#DIV/0!"}},{"$f":"IF(V13=0,0,(V13*((LOG(V13))/LOG(2))))","v":{"$error":"#DIV/0!"}},null,{"$f":"N13","v":221},{"$f":"COUNTIF(L14:L20,Y13)","v":0},{"$f":"Z13/(AB4-Z14)","v":0},{"$f":"IF(AA13=0,0,(AA13*((LOG(AA13))/LOG(2))))","v":0},null,{"$f":"N13","v":221},{"$f":"COUNTIF(L21:L28,AD13)","v":0},{"$f":"AE13/(AG4-AE14)","v":{"$error":"#DIV/0!"}},{"$f":"IF(AF13=0,0,(AF13*((LOG(AF13))/LOG(2))))","v":{"$error":"#DIV/0!"}},null,{"$f":"N13","v":221},{"$f":"COUNTIF(L29:L35,AI13)","v":0},{"$f":"AJ13/(AL4-AJ14)","v":{"$error":"#DIV/0!"}},{"$f":"IF(AK13=0,0,(AK13*((LOG(AK13))/LOG(2))))","v":{"$error":"#DIV/0!"}},null,{"$f":"N13","v":221},{"$f":"COUNTIF(L36:L42,AN13)","v":0},{"$f":"AO13/(AQ4-AO14)","v":{"$error":"#DIV/0!"}},{"$f":"IF(AP13=0,0,(AP13*((LOG(AP13))/LOG(2))))","v":{"$error":"#DIV/0!"}},null,{"$f":"N13","v":221},{"$f":"COUNTIF(L43:L49,AS13)","v":0},{"$f":"AT13/(AV4-AT14)","v":{"$error":"#DIV/0!"}},{"$f":"IF(AU13=0,0,(AU13*((LOG(AU13))/LOG(2))))","v":{"$error":"#DIV/0!"}}]
[21,1098,21,1109,21,1115,null,null,null,null,0,222,null,222,{"$f":"COUNTIF($L$7:$L$500,N14)","v":40},{"$f":"O14/$Q$4","v":0.93023255813953487},{"$f":"IF(P14=0,0,(P14*((LOG(P14))/LOG(2))))","v":-9.7057357967195917E-2},null,null,{"$f":"N14","v":222},{"$f":"COUNTIF(L7:L13,T14)","v":7},null,null,null,{"$f":"N14","v":222},{"$f":"COUNTIF(L14:L20,Y14)","v":4},null,null,null,{"$f":"N14","v":222},{"$f":"COUNTIF(L21:L28,AD14)","v":8},null,null,null,{"$f":"N14","v":222},{"$f":"COUNTIF(L29:L35,AI14)","v":7},null,null,null,{"$f":"N14","v":222},{"$f":"COUNTIF(L36:L42,AN14)","v":7},null,null,null,{"$f":"N14","v":222},{"$f":"COUNTIF(L43:L49,AS14)","v":7}]
[21,1308,21,1312,21,1318,null,null,null,null,0,222,null,null,null,{"$f":"SUM(P7:P14)","v":1},{"$f":"-SUM(Q7:Q14)","v":0.36505518964028483},null,null,null,null,{"$f":"SUM(V7:V14)","v":{"$error":"#DIV/0!"}},{"$f":"-SUM(W7:W14)","v":{"$error":"#DIV/0!"}},null,null,null,{"$f":"SUM(AA7:AA14)","v":1},{"$f":"-SUM(AB7:AB14)","v":0},null,null,null,{"$f":"SUM(AF7:AF14)","v":{"$error":"#DIV/0!"}},{"$f":"-SUM(AG7:AG14)","v":{"$error":"#DIV/0!"}},null,null,null,{"$f":"SUM(AK7:AK14)","v":{"$error":"#DIV/0!"}},{"$f":"-SUM(AL7:AL14)","v":{"$error":"#DIV/0!"}},null,null,null,{"$f":"SUM(AP7:AP14)","v":{"$error":"#DIV/0!"}},{"$f":"-SUM(AQ7:AQ14)","v":{"$error":"#DIV/0!"}},null,null,null,{"$f":"SUM(AU7:AU14)","v":{"$error":"#DIV/0!"}},{"$f":"-SUM(AV7:AV14)","v":{"$error":"#DIV/0!"}}]
[12,1415,23,1427,23,1449,null,null,null,null,0,122,null,null,null,"U=",{"$f":"Q15/(LOG(Q4)/LOG(2))","v":6.7275594933687746E-2},null,null,null,null,"U1=",{"$f":"W15/(LOG(W4)/LOG(2))","v":{"$error":"#DIV/0!"}},null,null,null,"U2=",{"$f":"AB15/(LOG(AB4)/LOG(2))","v":0},null,null,null,"U3=",{"$f":"AG15/(LOG(AG4)/LOG(2))","v":{"$error":"#DIV/0!"}},null,null,null,"U4=",{"$f":"AL15/(LOG(AL4)/LOG(2))","v":{"$error":"#DIV/0!"}},null,null,null,"U5=",{"$f":"AQ15/(LOG(AQ4)/LOG(2))","v":{"$error":"#DIV/0!"}},null,null,null,"U6=",{"$f":"AV15/(LOG(AV4)/LOG(2))","v":{"$error":"#DIV/0!"}}]
[12,1553,23,1564,23,1570,null,null,null,null,0,122]
[12,1669,23,1696,23,1702,null,null,null,null,0,122]
[21,1804,21,1811,21,1816,null,null,null,null,0,222,null,"Total Target Seq"]
[21,1933,21,1943,21,1947,null,null,null,null,0,222,null,{"$f":"COUNTIF(L7:L49,G3)","v":40},null,7,7,8,7,7,7]
[21,2091,21,2097,21,2104,null,null,null,null,0,222,null,null,null,"% of reinforcement given in 6 equal intervals based on number of trials "]
[21,2265,21,2270,21,2274,null,null,null,null,0,222,null,null,null,"%_1","%_2","%_3","%_4","%_5","%_6"]
[21,2436,21,2441,21,2449,null,null,null,null,0,222,null,null,"target sequence",{"$f":"$G$3","v":222},{"$f":"$G$3","v":222},{"$f":"$G$3","v":222},{"$f":"$G$3","v":222},{"$f":"$G$3","v":222},{"$f":"$G$3","v":222}]
[21,2547,21,2553,21,2557,null,null,null,null,0,222,null,null,"total reinforcement",{"$f":"U14","v":7},{"$f":"Z14","v":4},{"$f":"AE14","v":8},{"$f":"AJ14","v":7},{"$f":"AO14","v":7},{"$f":"AT14","v":7}]
[21,2735,21,2739,21,2745,null,null,null,null,0,222,null,null,"% target"]
[21,2910,21,2916,21,2925,null,null,null,null,0,222,null,null,"CCRF"]
[21,3053,21,3059,21,3064,null,null,null,null,0,222,null,null,"% CCRf"]
[21,3193,21,3195,21,3204,null,null,null,null,0,222,null,null,"average response rate",{"$f":"F13/P20","v":136.85714285714286},{"$f":"(F20-F13)/Q20","v":141.28571428571428},{"$f":"(F28-F20)/R20","v":157.125},{"$f":"(F35-F28)/S20","v":164.28571428571428},{"$f":"(F42-F35)/T20","v":187.71428571428572},{"$f":"(F49-F42)/U20","v":168.28571428571428}]
[21,3369,21,3374,21,3382,null,null,null,null,0,222]
[21,3570,21,3575,21,3582,null,null,null,null,0,222]
[21,3714,21,3719,21,3722,null,null,null,null,0,222]
[21,3893,21,3899,21,3905,null,null,null,null,0,222]
[21,4044,21,4052,21,4055,null,null,null,null,0,222]
[21,4192,21,4203,21,4208,null,null,null,null,0,222]
[21,4344,21,4347,21,4354,null,null,null,null,0,222]
[21,4538,21,4542,21,4546,null,null,null,null,0,222]
[21,4699,21,4705,21,4707,null,null,null,null,0,222]
[21,4893,21,4904,21,4910,null,null,null,null,0,222]
[21,5129,21,5133,21,5139,null,null,null,null,0,222]
[21,5294,21,5301,21,5306,null,null,null,null,0,222]
[21,5463,21,5470,21,5476,null,null,null,null,0,222]
[21,5655,21,5662,21,5668,null,null,null,null,0,222]
[21,5787,21,5795,21,5812,null,null,null,null,0,222]
[21,5957,21,5961,21,5968,null,null,null,null,0,222]
[21,6148,21,6156,21,6162,null,null,null,null,0,222]
[21,6316,21,6320,21,6326,null,null,null,null,0,222]
[21,6473,21,6480,21,6490,null,null,null,null,0,222]
[21,6687,21,6695,21,6700,null,null,null,null,0,222]
[21,6832,21,6839,21,6846,null,null,null,null,1,222]

{"sheet":"!M411B2D.UST","index":20,"n_rows":46,"n_cols":48,"rows_kept":46,"cut":false,"hidden":false,"merged":[[4,39,4,42],[5,39,5,40],[4,44,4,47],[5,44,5,45],[4,24,4,27],[5,24,5,25],[4,29,4,32],[5,29,5,30],[4,34,4,37],[5,34,5,35],[1,1,1,2],[5,13,5,14],[18,13,18,14],[19,13,19,14],[4,19,4,22],[5,19,5,20]]}
["Report for:!M411B2D.UST"]
["Date:","<date>"]
["Hen:","<hen>",null,null,null,"Correct Sequence",{"$f":"Start!J2","v":222},null,null,null,null,null,null,null,null,"Total Sequences in Data",{"$f":"4994-COUNTBLANK(L7:L5000)","v":40},null,null,null,null,"Total Sequences in Block Data",{"$f":"COUNTA(L7:L13)","v":7},null,null,null,"Total Sequences in Block Data",{"$f":"COUNTA(L14:L19)","v":6},null,null,null,"Total Sequences in Block Data",{"$f":"COUNTA(L20:L26)","v":7},null,null,null,"Total Sequences in Block Data",{"$f":"COUNTA(L27:L33)","v":7},null,null,null,"Total Sequences in Block Data",{"$f":"COUNTA(L34:L39)","v":6},null,null,null,"Total Sequences in Block Data",{"$f":"COUNTA(L40:L46)","v":7}]
[null,null,null,null,null,null,null,null,null,null,null,null,null,null,null,"Total Sequences in Summary",{"$f":"SUM(O7:O14)","v":40},null,null,null,null,"Total Sequences in Block Summary",{"$f":"SUM(U7:U14)","v":7},null,null,null,"Total Sequences in Block Summary",{"$f":"SUM(Z7:Z14)","v":6},null,null,null,"Total Sequences in Block Summary",{"$f":"SUM(AE7:AE14)","v":7},null,null,null,"Total Sequences in Block Summary",{"$f":"SUM(AJ7:AJ14)","v":7},null,null,null,"Total Sequences in Block Summary",{"$f":"SUM(AO7:AO14)","v":6},null,null,null,"Total Sequences in Block Summary",{"$f":"SUM(AT7:AT14)","v":7}]
[null,null,null,null,null,null,null,null,null,null,null,null,null,null,null,null,null,null,null,"Block 1",null,null,null,null,"Block 2",null,null,null,null,"Block 3",null,null,null,null,"Block 4",null,null,null,null,"Block 5",null,null,null,null,"Block 6"]
["Sequence\nComponent\n1","Time\n1","Sequence\nComponent\n2","Time\n2","Sequence\nComponent\n3","Time\n3","Sequence\nComponent\n4","Time\n4","Sequence\nComponent\n5","Time\n5","Correct?\n0=No 1=Yes","Sequence",null,"Frequency",null,"Relative Frequency","Variability",null,null,"Frequency",null,"Relative Frequency","Variability",null,"Frequency",null,"Relative Frequency","Variability",null,"Frequency",null,"Relative Frequency","Variability",null,"Frequency",null,"Relative Frequency","Variability",null,"Frequency",null,"Relative Frequency","Variability",null,"Frequency",null,"Relative Frequency","Variability"]
[21,69,21,73,21,80,null,null,null,null,0,222,null,111,{"$f":"COUNTIF($L$7:$L$500,N7)","v":0},{"$f":"O7/$Q$4","v":0},{"$f":"IF(P7=0,0,(P7*((LOG(P7))/LOG(2))))","v":0},null,null,{"$f":"N7","v":111},{"$f":"COUNTIF(L7:L13,T7)","v":0},{"$f":"U7/(W4-U14)","v":{"$error":"#DIV/0!"}},{"$f":"IF(V7=0,0,(V7*((LOG(V7))/LOG(2))))","v":{"$error":"#DIV/0!"}},null,{"$f":"N7","v":111},{"$f":"COUNTIF(L14:L19,Y7)","v":0},{"$f":"Z7/(AB4-Z14)","v":{"$error":"#DIV/0!"}},{"$f":"IF(AA7=0,0,(AA7*((LOG(AA7))/LOG(2))))","v":{"$error":"#DIV/0!"}},null,{"$f":"N7","v":111},{"$f":"COUNTIF(L20:L26,AD7)","v":0},{"$f":"AE7/(AG4-AE14)","v":{"$error":"#DIV/0!"}},{"$f":"IF(AF7=0,0,(AF7*((LOG(AF7))/LOG(2))))","v":{"$error":"#DIV/0!"}},null,{"$f":"N7","v":111},{"$f":"COUNTIF(L27:L33,AI7)","v":0},{"$f":"AJ7/(AL4-AJ14)","v":{"$error":"#DIV/0!"}},{"$f":"IF(AK7=0,0,(AK7*((LOG(AK7))/LOG(2))))","v":{"$error":"#DIV/0!"}},null,{"$f":"N7","v":111},{"$f":"COUNTIF(L34:L39,AN7)","v":0},{"$f":"AO7/(AQ4-AO14)","v":{"$error":"#DIV/0!"}},{"$f":"IF(AP7=0,0,(AP7*((LOG(AP7))/LOG(2))))","v":{"$error":"#DIV/0!"}},null,{"$f":"N7","v":111},{"$f":"COUNTIF(L40:L46,AS7)","v":0},{"$f":"AT7/(AV4-AT14)","v":{"$error":"#DIV/0!"}},{"$f":"IF(AU7=0,0,(AU7*((LOG(AU7))/LOG(2))))","v":{"$error":"#DIV/0!"}}]
[21,215,21,223,21,228,null,null,null,null,0,222,null,112,{"$f":"COUNTIF($L$7:$L$500,N8)","v":0},{"$f":"O8/$Q$4","v":0},{"$f":"IF(P8=0,0,(P8*((LOG(P8))/LOG(2))))","v":0},null,null,{"$f":"N8","v":112},{"$f":"COUNTIF(L7:L13,T8)","v":0},{"$f":"U8/(W4-U14)","v":{"$error":"#DIV/0!"}},{"$f":"IF(V8=0,0,(V8*((LOG(V8))/LOG(2))))","v":{"$error":"#DIV/0!"}},null,{"$f":"N8","v":112},{"$f":"COUNTIF(L14:L19,Y8)","v":0},{"$f":"Z8/(AB4-Z14)","v":{"$error":"#DIV/0!"}},{"$f":"IF(AA8=0,0,(AA8*((LOG(AA8))/LOG(2))))","v":{"$error":"#DIV/0!"}},null,{"$f":"N8","v":112},{"$f":"COUNTIF(L20:L26,AD8)","v":0},{"$f":"AE8/(AG4-AE14)","v":{"$error":"#DIV/0!"}},{"$f":"IF(AF8=0,0,(AF8*((LOG(AF8))/LOG(2))))","v":{"$error":"#DIV/0!"}},null,{"$f":"N8","v":112},{"$f":"COUNTIF(L27:L33,AI8)","v":0},{"$f":"AJ8/(AL4-AJ14)","v":{"$error":"#DIV/0!"}},{"$f":"IF(AK8=0,0,(AK8*((LOG(AK8))/LOG(2))))","v":{"$error":"#DIV/0!"}},null,{"$f":"N8","v":112},{"$f":"COUNTIF(L34:L39,AN8)","v":0},{"$f":"AO8/(AQ4-AO14)","v":{"$error":"#DIV/0!"}},{"$f":"IF(AP8=0,0,(AP8*((LOG(AP8))/LOG(2))))","v":{"$error":"#DIV/0!"}},null,{"$f":"N8","v":112},{"$f":"COUNTIF(L40:L46,AS8)","v":0},{"$f":"AT8/(AV4-AT14)","v":{"$error":"#DIV/0!"}},{"$f":"IF(AU8=0,0,(AU8*((LOG(AU8))/LOG(2))))","v":{"$error":"#DIV/0!"}}]
[21,344,21,348,21,351,null,null,null,null,0,222,null,121,{"$f":"COUNTIF($L$7:$L$500,N9)","v":0},{"$f":"O9/$Q$4","v":0},{"$f":"IF(P9=0,0,(P9*((LOG(P9))/LOG(2))))","v":0},null,null,{"$f":"N9","v":121},{"$f":"COUNTIF(L7:L13,T9)","v":0},{"$f":"U9/(W4-U14)","v":{"$error":"#DIV/0!"}},{"$f":"IF(V9=0,0,(V9*((LOG(V9))/LOG(2))))","v":{"$error":"#DIV/0!"}},null,{"$f":"N9","v":121},{"$f":"COUNTIF(L14:L19,Y9)","v":0},{"$f":"Z9/(AB4-Z14)","v":{"$error":"#DIV/0!"}},{"$f":"IF(AA9=0,0,(AA9*((LOG(AA9))/LOG(2))))","v":{"$error":"#DIV/0!"}},null,{"$f":"N9","v":121},{"$f":"COUNTIF(L20:L26,AD9)","v":0},{"$f":"AE9/(AG4-AE14)","v":{"$error":"#DIV/0!"}},{"$f":"IF(AF9=0,0,(AF9*((LOG(AF9))/LOG(2))))","v":{"$error":"#DIV/0!"}},null,{"$f":"N9","v":121},{"$f":"COUNTIF(L27:L33,AI9)","v":0},{"$f":"AJ9/(AL4-AJ14)","v":{"$error":"#DIV/0!"}},{"$f":"IF(AK9=0,0,(AK9*((LOG(AK9))/LOG(2))))","v":{"$error":"#DIV/0!"}},null,{"$f":"N9","v":121},{"$f":"COUNTIF(L34:L39,AN9)","v":0},{"$f":"AO9/(AQ4-AO14)","v":{"$error":"#DIV/0!"}},{"$f":"IF(AP9=0,0,(AP9*((LOG(AP9))/LOG(2))))","v":{"$error":"#DIV/0!"}},null,{"$f":"N9","v":121},{"$f":"COUNTIF(L40:L46,AS9)","v":0},{"$f":"AT9/(AV4-AT14)","v":{"$error":"#DIV/0!"}},{"$f":"IF(AU9=0,0,(AU9*((LOG(AU9))/LOG(2))))","v":{"$error":"#DIV/0!"}}]
[21,731,21,736,21,742,null,null,null,null,0,222,null,122,{"$f":"COUNTIF($L$7:$L$500,N10)","v":0},{"$f":"O10/$Q$4","v":0},{"$f":"IF(P10=0,0,(P10*((LOG(P10))/LOG(2))))","v":0},null,null,{"$f":"N10","v":122},{"$f":"COUNTIF(L7:L13,T10)","v":0},{"$f":"U10/(W4-U14)","v":{"$error":"#DIV/0!"}},{"$f":"IF(V10=0,0,(V10*((LOG(V10))/LOG(2))))","v":{"$error":"#DIV/0!"}},null,{"$f":"N10","v":122},{"$f":"COUNTIF(L14:L19,Y10)","v":0},{"$f":"Z10/(AB4-Z14)","v":{"$error":"#DIV/0!"}},{"$f":"IF(AA10=0,0,(AA10*((LOG(AA10))/LOG(2))))","v":{"$error":"#DIV/0!"}},null,{"$f":"N10","v":122},{"$f":"COUNTIF(L20:L26,AD10)","v":0},{"$f":"AE10/(AG4-AE14)","v":{"$error":"#DIV/0!"}},{"$f":"IF(AF10=0,0,(AF10*((LOG(AF10))/LOG(2))))","v":{"$error":"#DIV/0!"}},null,{"$f":"N10","v":122},{"$f":"COUNTIF(L27:L33,AI10)","v":0},{"$f":"AJ10/(AL4-AJ14)","v":{"$error":"#DIV/0!"}},{"$f":"IF(AK10=0,0,(AK10*((LOG(AK10))/LOG(2))))","v":{"$error":"#DIV/0!"}},null,{"$f":"N10","v":122},{"$f":"COUNTIF(L34:L39,AN10)","v":0},{"$f":"AO10/(AQ4-AO14)","v":{"$error":"#DIV/0!"}},{"$f":"IF(AP10=0,0,(AP10*((LOG(AP10))/LOG(2))))","v":{"$error":"#DIV/0!"}},null,{"$f":"N10","v":122},{"$f":"COUNTIF(L40:L46,AS10)","v":0},{"$f":"AT10/(AV4-AT14)","v":{"$error":"#DIV/0!"}},{"$f":"IF(AU10=0,0,(AU10*((LOG(AU10))/LOG(2))))","v":{"$error":"#DIV/0!"}}]
[21,847,21,850,21,852,null,null,null,null,0,222,null,211,{"$f":"COUNTIF($L$7:$L$500,N11)","v":0},{"$f":"O11/$Q$4","v":0},{"$f":"IF(P11=0,0,(P11*((LOG(P11))/LOG(2))))","v":0},null,null,{"$f":"N11","v":211},{"$f":"COUNTIF(L7:L13,T11)","v":0},{"$f":"U11/(W4-U14)","v":{"$error":"#DIV/0!"}},{"$f":"IF(V11=0,0,(V11*((LOG(V11))/LOG(2))))","v":{"$error":"#DIV/0!"}},null,{"$f":"N11","v":211},{"$f":"COUNTIF(L14:L19,Y11)","v":0},{"$f":"Z11/(AB4-Z14)","v":{"$error":"#DIV/0!"}},{"$f":"IF(AA11=0,0,(AA11*((LOG(AA11))/LOG(2))))","v":{"$error":"#DIV/0!"}},null,{"$f":"N11","v":211},{"$f":"COUNTIF(L20:L26,AD11)","v":0},{"$f":"AE11/(AG4-AE14)","v":{"$error":"#DIV/0!"}},{"$f":"IF(AF11=0,0,(AF11*((LOG(AF11))/LOG(2))))","v":{"$error":"#DIV/0!"}},null,{"$f":"N11","v":211},{"$f":"COUNTIF(L27:L33,AI11)","v":0},{"$f":"AJ11/(AL4-AJ14)","v":{"$error":"#DIV/0!"}},{"$f":"IF(AK11=0,0,(AK11*((LOG(AK11))/LOG(2))))","v":{"$error":"#DIV/0!"}},null,{"$f":"N11","v":211},{"$f":"COUNTIF(L34:L39,AN11)","v":0},{"$f":"AO11/(AQ4-AO14)","v":{"$error":"#DIV/0!"}},{"$f":"IF(AP11=0,0,(AP11*((LOG(AP11))/LOG(2))))","v":{"$error":"#DIV/0!"}},null,{"$f":"N11","v":211},{"$f":"COUNTIF(L40:L46,AS11)","v":0},{"$f":"AT11/(AV4-AT14)","v":{"$error":"#DIV/0!"}},{"$f":"IF(AU11=0,0,(AU11*((LOG(AU11))/LOG(2))))","v":{"$error":"#DIV/0!"}}]
[21,966,21,971,21,977,null,null,null,null,0,222,null,212,{"$f":"COUNTIF($L$7:$L$500,N12)","v":0},{"$f":"O12/$Q$4","v":0},{"$f":"IF(P12=0,0,(P12*((LOG(P12))/LOG(2))))","v":0},null,null,{"$f":"N12","v":212},{"$f":"COUNTIF(L7:L13,T12)","v":0},{"$f":"U12/(W4-U14)","v":{"$error":"#DIV/0!"}},{"$f":"IF(V12=0,0,(V12*((LOG(V12))/LOG(2))))","v":{"$error":"#DIV/0!"}},null,{"$f":"N12","v":212},{"$f":"COUNTIF(L14:L19,Y12)","v":0},{"$f":"Z12/(AB4-Z14)","v":{"$error":"#DIV/0!"}},{"$f":"IF(AA12=0,0,(AA12*((LOG(AA12))/LOG(2))))","v":{"$error":"#DIV/0!"}},null,{"$f":"N12","v":212},{"$f":"COUNTIF(L20:L26,AD12)","v":0},{"$f":"AE12/(AG4-AE14)","v":{"$error":"#DIV/0!"}},{"$f":"IF(AF12=0,0,(AF12*((LOG(AF12))/LOG(2))))","v":{"$error":"#DIV/0!"}},null,{"$f":"N12","v":212},{"$f":"COUNTIF(L27:L33,AI12)","v":0},{"$f":"AJ12/(AL4-AJ14)","v":{"$error":"#DIV/0!"}},{"$f":"IF(AK12=0,0,(AK12*((LOG(AK12))/LOG(2))))","v":{"$error":"#DIV/0!"}},null,{"$f":"N12","v":212},{"$f":"COUNTIF(L34:L39,AN12)","v":0},{"$f":"AO12/(AQ4-AO14)","v":{"$error":"#DIV/0!"}},{"$f":"IF(AP12=0,0,(AP12*((LOG(AP12))/LOG(2))))","v":{"$error":"#DIV/0!"}},null,{"$f":"N12","v":212},{"$f":"COUNTIF(L40:L46,AS12)","v":0},{"$f":"AT12/(AV4-AT14)","v":{"$error":"#DIV/0!"}},{"$f":"IF(AU12=0,0,(AU12*((LOG(AU12))/LOG(2))))","v":{"$error":"#DIV/0!"}}]
[21,1244,21,1251,21,1257,null,null,null,null,0,222,null,221,{"$f":"COUNTIF($L$7:$L$500,N13)","v":0},{"$f":"O13/$Q$4","v":0},{"$f":"IF(P13=0,0,(P13*((LOG(P13))/LOG(2))))","v":0},null,null,{"$f":"N13","v":221},{"$f":"COUNTIF(L7:L13,T13)","v":0},{"$f":"U13/(W4-U14)","v":{"$error":"#DIV/0!"}},{"$f":"IF(V13=0,0,(V13*((LOG(V13))/LOG(2))))","v":{"$error":"#DIV/0!"}},null,{"$f":"N13","v":221},{"$f":"COUNTIF(L14:L19,Y13)","v":0},{"$f":"Z13/(AB4-Z14)","v":{"$error":"#DIV/0!"}},{"$f":"IF(AA13=0,0,(AA13*((LOG(AA13))/LOG(2))))","v":{"$error":"#DIV/0!"}},null,{"$f":"N13","v":221},{"$f":"COUNTIF(L20:L26,AD13)","v":0},{"$f":"AE13/(AG4-AE14)","v":{"$error":"#DIV/0!"}},{"$f":"IF(AF13=0,0,(AF13*((LOG(AF13))/LOG(2))))","v":{"$error":"#DIV/0!"}},null,{"$f":"N13","v":221},{"$f":"COUNTIF(L27:L33,AI13)","v":0},{"$f":"AJ13/(AL4-AJ14)","v":{"$error":"#DIV/0!"}},{"$f":"IF(AK13=0,0,(AK13*((LOG(AK13))/LOG(2))))","v":{"$error":"#DIV/0!"}},null,{"$f":"N13","v":221},{"$f":"COUNTIF(L34:L39,AN13)","v":0},{"$f":"AO13/(AQ4-AO14)","v":{"$error":"#DIV/0!"}},{"$f":"IF(AP13=0,0,(AP13*((LOG(AP13))/LOG(2))))","v":{"$error":"#DIV/0!"}},null,{"$f":"N13","v":221},{"$f":"COUNTIF(L40:L46,AS13)","v":0},{"$f":"AT13/(AV4-AT14)","v":{"$error":"#DIV/0!"}},{"$f":"IF(AU13=0,0,(AU13*((LOG(AU13))/LOG(2))))","v":{"$error":"#DIV/0!"}}]
[21,1493,21,1498,21,1504,null,null,null,null,0,222,null,222,{"$f":"COUNTIF($L$7:$L$500,N14)","v":40},{"$f":"O14/$Q$4","v":1},{"$f":"IF(P14=0,0,(P14*((LOG(P14))/LOG(2))))","v":0},null,null,{"$f":"N14","v":222},{"$f":"COUNTIF(L7:L13,T14)","v":7},null,null,null,{"$f":"N14","v":222},{"$f":"COUNTIF(L14:L19,Y14)","v":6},null,null,null,{"$f":"N14","v":222},{"$f":"COUNTIF(L20:L26,AD14)","v":7},null,null,null,{"$f":"N14","v":222},{"$f":"COUNTIF(L27:L33,AI14)","v":7},null,null,null,{"$f":"N14","v":222},{"$f":"COUNTIF(L34:L39,AN14)","v":6},null,null,null,{"$f":"N14","v":222},{"$f":"COUNTIF(L40:L46,AS14)","v":7}]
[21,1697,21,1703,21,1710,null,null,null,null,0,222,null,null,null,{"$f":"SUM(P7:P14)","v":1},{"$f":"-SUM(Q7:Q14)","v":0},null,null,null,null,{"$f":"SUM(V7:V14)","v":{"$error":"#DIV/0!"}},{"$f":"-SUM(W7:W14)","v":{"$error":"#DIV/0!"}},null,null,null,{"$f":"SUM(AA7:AA14)","v":{"$error":"#DIV/0!"}},{"$f":"-SUM(AB7:AB14)","v":{"$error":"#DIV/0!"}},null,null,null,{"$f":"SUM(AF7:AF14)","v":{"$error":"#DIV/0!"}},{"$f":"-SUM(AG7:AG14)","v":{"$error":"#DIV/0!"}},null,null,null,{"$f":"SUM(AK7:AK14)","v":{"$error":"#DIV/0!"}},{"$f":"-SUM(AL7:AL14)","v":{"$error":"#DIV/0!"}},null,null,null,{"$f":"SUM(AP7:AP14)","v":{"$error":"#DIV/0!"}},{"$f":"-SUM(AQ7:AQ14)","v":{"$error":"#DIV/0!"}},null,null,null,{"$f":"SUM(AU7:AU14)","v":{"$error":"#DIV/0!"}},{"$f":"-SUM(AV7:AV14)","v":{"$error":"#DIV/0!"}}]
[21,2000,21,2002,21,2006,null,null,null,null,0,222,null,null,null,"U=",{"$f":"Q15/(LOG(Q4)/LOG(2))","v":0},null,null,null,null,"U1=",{"$f":"W15/(LOG(W4)/LOG(2))","v":{"$error":"#DIV/0!"}},null,null,null,"U2=",{"$f":"AB15/(LOG(AB4)/LOG(2))","v":{"$error":"#DIV/0!"}},null,null,null,"U3=",{"$f":"AG15/(LOG(AG4)/LOG(2))","v":{"$error":"#DIV/0!"}},null,null,null,"U4=",{"$f":"AL15/(LOG(AL4)/LOG(2))","v":{"$error":"#DIV/0!"}},null,null,null,"U5=",{"$f":"AQ15/(LOG(AQ4)/LOG(2))","v":{"$error":"#DIV/0!"}},null,null,null,"U6=",{"$f":"AV15/(LOG(AV4)/LOG(2))","v":{"$error":"#DIV/0!"}}]
[21,2224,21,2231,21,2232,null,null,null,null,0,222]
[21,2497,21,2505,21,2510,null,null,null,null,0,222]
[21,2660,21,2664,21,2670,null,null,null,null,0,222,null,"Total Target Seq"]
[21,2862,21,2865,21,2872,null,null,null,null,0,222,null,{"$f":"COUNTIF(L7:L46,G3)","v":40},null,7,6,7,7,6,7]
[21,3078,21,3084,21,3092,null,null,null,null,0,222,null,null,null,"% of reinforcement given in 6 equal intervals based on number of trials "]
[21,3273,21,3280,21,3286,null,null,null,null,0,222,null,null,null,"%_1","%_2","%_3","%_4","%_5","%_6"]
[21,3470,21,3477,21,3483,null,null,null,null,0,222,null,null,"target sequence",{"$f":"$G$3","v":222},{"$f":"$G$3","v":222},{"$f":"$G$3","v":222},{"$f":"$G$3","v":222},{"$f":"$G$3","v":222},{"$f":"$G$3","v":222}]
[21,3839,21,3847,21,3855,null,null,null,null,0,222,null,null,"total reinforcement",{"$f":"U14","v":7},{"$f":"Z14","v":6},{"$f":"AE14","v":7},{"$f":"AJ14","v":7},{"$f":"AO14","v":6},{"$f":"AT14","v":7}]
[21,4051,21,4059,21,4065,null,null,null,null,0,222,null,null,"% target"]
[21,4277,21,4283,21,4301,null,null,null,null,0,222,null,null,"CCRF"]
[21,4816,21,4823,21,4830,null,null,null,null,0,222,null,null,"% CCRf"]
[21,5014,21,5017,21,5022,null,null,null,null,0,222,null,null,"average response rate",{"$f":"F13/P20","v":179.57142857142858},{"$f":"(F19-F13)/Q20","v":235.5},{"$f":"(F26-F19)/R20","v":233},{"$f":"(F33-F26)/S20","v":254.57142857142858},{"$f":"(F39-F33)/T20","v":245.66666666666666},{"$f":"(F46-F39)/U20","v":304.28571428571428}]
[21,5234,21,5238,21,5244,null,null,null,null,0,222]
[21,5488,21,5493,21,5499,null,null,null,null,0,222]
[21,5684,21,5686,21,5693,null,null,null,null,0,222]
[21,5831,21,5836,21,5841,null,null,null,null,0,222]
[21,6072,21,6077,21,6083,null,null,null,null,0,222]
[21,6266,21,6271,21,6277,null,null,null,null,0,222]
[21,6584,21,6596,21,6601,null,null,null,null,0,222]
[21,6759,21,6770,21,6777,null,null,null,null,0,222]
[21,7113,21,7118,21,7124,null,null,null,null,0,222]
[21,7359,21,7361,21,7367,null,null,null,null,0,222]
[21,7527,21,7551,21,7557,null,null,null,null,0,222]
[21,7802,21,7806,21,7812,null,null,null,null,0,222]
[21,8064,21,8069,21,8075,null,null,null,null,0,222]
[21,8408,21,8416,21,8422,null,null,null,null,0,222]
[21,8668,21,8670,21,8686,null,null,null,null,0,222]
[21,9068,21,9074,21,9079,null,null,null,null,0,222]
[21,9324,21,9327,21,9333,null,null,null,null,0,222]
[21,9677,21,9682,21,9687,null,null,null,null,1,222]

{"sheet":"!M412A4D.UST","index":21,"n_rows":47,"n_cols":48,"rows_kept":47,"cut":false,"hidden":false,"merged":[[4,39,4,42],[5,39,5,40],[4,44,4,47],[5,44,5,45],[4,24,4,27],[5,24,5,25],[4,29,4,32],[5,29,5,30],[4,34,4,37],[5,34,5,35],[1,1,1,2],[5,13,5,14],[18,13,18,14],[19,13,19,14],[4,19,4,22],[5,19,5,20]]}
["Report for:!M412A4D.UST"]
["Date:","<date>"]
["Hen:","<hen>",null,null,null,"Correct Sequence",{"$f":"Start!J2","v":222},null,null,null,null,null,null,null,null,"Total Sequences in Data",{"$f":"4994-COUNTBLANK(L7:L5000)","v":41},null,null,null,null,"Total Sequences in Block Data",{"$f":"COUNTA(L7:L13)","v":7},null,null,null,"Total Sequences in Block Data",{"$f":"COUNTA(L14:L20)","v":7},null,null,null,"Total Sequences in Block Data",{"$f":"COUNTA(L21:L26)","v":6},null,null,null,"Total Sequences in Block Data",{"$f":"COUNTA(L27:L33)","v":7},null,null,null,"Total Sequences in Block Data",{"$f":"COUNTA(L34:L40)","v":7},null,null,null,"Total Sequences in Block Data",{"$f":"COUNTA(L41:L47)","v":7}]
[null,null,null,null,null,null,null,null,null,null,null,null,null,null,null,"Total Sequences in Summary",{"$f":"SUM(O7:O14)","v":41},null,null,null,null,"Total Sequences in Block Summary",{"$f":"SUM(U7:U14)","v":7},null,null,null,"Total Sequences in Block Summary",{"$f":"SUM(Z7:Z14)","v":7},null,null,null,"Total Sequences in Block Summary",{"$f":"SUM(AE7:AE14)","v":6},null,null,null,"Total Sequences in Block Summary",{"$f":"SUM(AJ7:AJ14)","v":7},null,null,null,"Total Sequences in Block Summary",{"$f":"SUM(AO7:AO14)","v":7},null,null,null,"Total Sequences in Block Summary",{"$f":"SUM(AT7:AT14)","v":7}]
[null,null,null,null,null,null,null,null,null,null,null,null,null,null,null,null,null,null,null,"Block 1",null,null,null,null,"Block 2",null,null,null,null,"Block 3",null,null,null,null,"Block 4",null,null,null,null,"Block 5",null,null,null,null,"Block 6"]
["Sequence\nComponent\n1","Time\n1","Sequence\nComponent\n2","Time\n2","Sequence\nComponent\n3","Time\n3","Sequence\nComponent\n4","Time\n4","Sequence\nComponent\n5","Time\n5","Correct?\n0=No 1=Yes","Sequence",null,"Frequency",null,"Relative Frequency","Variability",null,null,"Frequency",null,"Relative Frequency","Variability",null,"Frequency",null,"Relative Frequency","Variability",null,"Frequency",null,"Relative Frequency","Variability",null,"Frequency",null,"Relative Frequency","Variability",null,"Frequency",null,"Relative Frequency","Variability",null,"Frequency",null,"Relative Frequency","Variability"]
[12,15,23,27,23,34,null,null,null,null,0,122,null,111,{"$f":"COUNTIF($L$7:$L$500,N7)","v":0},{"$f":"O7/$Q$4","v":0},{"$f":"IF(P7=0,0,(P7*((LOG(P7))/LOG(2))))","v":0},null,null,{"$f":"N7","v":111},{"$f":"COUNTIF(L7:L13,T7)","v":0},{"$f":"U7/(W4-U14)","v":0},{"$f":"IF(V7=0,0,(V7*((LOG(V7))/LOG(2))))","v":0},null,{"$f":"N7","v":111},{"$f":"COUNTIF(L14:L20,Y7)","v":0},{"$f":"Z7/(AB4-Z14)","v":{"$error":"#DIV/0!"}},{"$f":"IF(AA7=0,0,(AA7*((LOG(AA7))/LOG(2))))","v":{"$error":"#DIV/0!"}},null,{"$f":"N7","v":111},{"$f":"COUNTIF(L21:L26,AD7)","v":0},{"$f":"AE7/(AG4-AE14)","v":{"$error":"#DIV/0!"}},{"$f":"IF(AF7=0,0,(AF7*((LOG(AF7))/LOG(2))))","v":{"$error":"#DIV/0!"}},null,{"$f":"N7","v":111},{"$f":"COUNTIF(L27:L33,AI7)","v":0},{"$f":"AJ7/(AL4-AJ14)","v":{"$error":"#DIV/0!"}},{"$f":"IF(AK7=0,0,(AK7*((LOG(AK7))/LOG(2))))","v":{"$error":"#DIV/0!"}},null,{"$f":"N7","v":111},{"$f":"COUNTIF(L34:L40,AN7)","v":0},{"$f":"AO7/(AQ4-AO14)","v":{"$error":"#DIV/0!"}},{"$f":"IF(AP7=0,0,(AP7*((LOG(AP7))/LOG(2))))","v":{"$error":"#DIV/0!"}},null,{"$f":"N7","v":111},{"$f":"COUNTIF(L41:L47,AS7)","v":0},{"$f":"AT7/(AV4-AT14)","v":{"$error":"#DIV/0!"}},{"$f":"IF(AU7=0,0,(AU7*((LOG(AU7))/LOG(2))))","v":{"$error":"#DIV/0!"}}]
[21,132,21,141,21,152,null,null,null,null,0,222,null,112,{"$f":"COUNTIF($L$7:$L$500,N8)","v":0},{"$f":"O8/$Q$4","v":0},{"$f":"IF(P8=0,0,(P8*((LOG(P8))/LOG(2))))","v":0},null,null,{"$f":"N8","v":112},{"$f":"COUNTIF(L7:L13,T8)","v":0},{"$f":"U8/(W4-U14)","v":0},{"$f":"IF(V8=0,0,(V8*((LOG(V8))/LOG(2))))","v":0},null,{"$f":"N8","v":112},{"$f":"COUNTIF(L14:L20,Y8)","v":0},{"$f":"Z8/(AB4-Z14)","v":{"$error":"#DIV/0!"}},{"$f":"IF(AA8=0,0,(AA8*((LOG(AA8))/LOG(2))))","v":{"$error":"#DIV/0!"}},null,{"$f":"N8","v":112},{"$f":"COUNTIF(L21:L26,AD8)","v":0},{"$f":"AE8/(AG4-AE14)","v":{"$error":"#DIV/0!"}},{"$f":"IF(AF8=0,0,(AF8*((LOG(AF8))/LOG(2))))","v":{"$error":"#DIV/0!"}},null,{"$f":"N8","v":112},{"$f":"COUNTIF(L27:L33,AI8)","v":0},{"$f":"AJ8/(AL4-AJ14)","v":{"$error":"#DIV/0!"}},{"$f":"IF(AK8=0,0,(AK8*((LOG(AK8))/LOG(2))))","v":{"$error":"#DIV/0!"}},null,{"$f":"N8","v":112},{"$f":"COUNTIF(L34:L40,AN8)","v":0},{"$f":"AO8/(AQ4-AO14)","v":{"$error":"#DIV/0!"}},{"$f":"IF(AP8=0,0,(AP8*((LOG(AP8))/LOG(2))))","v":{"$error":"#DIV/0!"}},null,{"$f":"N8","v":112},{"$f":"COUNTIF(L41:L47,AS8)","v":0},{"$f":"AT8/(AV4-AT14)","v":{"$error":"#DIV/0!"}},{"$f":"IF(AU8=0,0,(AU8*((LOG(AU8))/LOG(2))))","v":{"$error":"#DIV/0!"}}]
[21,299,21,305,21,310,null,null,null,null,0,222,null,121,{"$f":"COUNTIF($L$7:$L$500,N9)","v":0},{"$f":"O9/$Q$4","v":0},{"$f":"IF(P9=0,0,(P9*((LOG(P9))/LOG(2))))","v":0},null,null,{"$f":"N9","v":121},{"$f":"COUNTIF(L7:L13,T9)","v":0},{"$f":"U9/(W4-U14)","v":0},{"$f":"IF(V9=0,0,(V9*((LOG(V9))/LOG(2))))","v":0},null,{"$f":"N9","v":121},{"$f":"COUNTIF(L14:L20,Y9)","v":0},{"$f":"Z9/(AB4-Z14)","v":{"$error":"#DIV/0!"}},{"$f":"IF(AA9=0,0,(AA9*((LOG(AA9))/LOG(2))))","v":{"$error":"#DIV/0!"}},null,{"$f":"N9","v":121},{"$f":"COUNTIF(L21:L26,AD9)","v":0},{"$f":"AE9/(AG4-AE14)","v":{"$error":"#DIV/0!"}},{"$f":"IF(AF9=0,0,(AF9*((LOG(AF9))/LOG(2))))","v":{"$error":"#DIV/0!"}},null,{"$f":"N9","v":121},{"$f":"COUNTIF(L27:L33,AI9)","v":0},{"$f":"AJ9/(AL4-AJ14)","v":{"$error":"#DIV/0!"}},{"$f":"IF(AK9=0,0,(AK9*((LOG(AK9))/LOG(2))))","v":{"$error":"#DIV/0!"}},null,{"$f":"N9","v":121},{"$f":"COUNTIF(L34:L40,AN9)","v":0},{"$f":"AO9/(AQ4-AO14)","v":{"$error":"#DIV/0!"}},{"$f":"IF(AP9=0,0,(AP9*((LOG(AP9))/LOG(2))))","v":{"$error":"#DIV/0!"}},null,{"$f":"N9","v":121},{"$f":"COUNTIF(L41:L47,AS9)","v":0},{"$f":"AT9/(AV4-AT14)","v":{"$error":"#DIV/0!"}},{"$f":"IF(AU9=0,0,(AU9*((LOG(AU9))/LOG(2))))","v":{"$error":"#DIV/0!"}}]
[21,493,21,499,21,508,null,null,null,null,0,222,null,122,{"$f":"COUNTIF($L$7:$L$500,N10)","v":1},{"$f":"O10/$Q$4","v":2.4390243902439025E-2},{"$f":"IF(P10=0,0,(P10*((LOG(P10))/LOG(2))))","v":-0.13067200011263619},null,null,{"$f":"N10","v":122},{"$f":"COUNTIF(L7:L13,T10)","v":1},{"$f":"U10/(W4-U14)","v":1},{"$f":"IF(V10=0,0,(V10*((LOG(V10))/LOG(2))))","v":0},null,{"$f":"N10","v":122},{"$f":"COUNTIF(L14:L20,Y10)","v":0},{"$f":"Z10/(AB4-Z14)","v":{"$error":"#DIV/0!"}},{"$f":"IF(AA10=0,0,(AA10*((LOG(AA10))/LOG(2))))","v":{"$error":"#DIV/0!"}},null,{"$f":"N10","v":122},{"$f":"COUNTIF(L21:L26,AD10)","v":0},{"$f":"AE10/(AG4-AE14)","v":{"$error":"#DIV/0!"}},{"$f":"IF(AF10=0,0,(AF10*((LOG(AF10))/LOG(2))))","v":{"$error":"#DIV/0!"}},null,{"$f":"N10","v":122},{"$f":"COUNTIF(L27:L33,AI10)","v":0},{"$f":"AJ10/(AL4-AJ14)","v":{"$error":"#DIV/0!"}},{"$f":"IF(AK10=0,0,(AK10*((LOG(AK10))/LOG(2))))","v":{"$error":"#DIV/0!"}},null,{"$f":"N10","v":122},{"$f":"COUNTIF(L34:L40,AN10)","v":0},{"$f":"AO10/(AQ4-AO14)","v":{"$error":"#DIV/0!"}},{"$f":"IF(AP10=0,0,(AP10*((LOG(AP10))/LOG(2))))","v":{"$error":"#DIV/0!"}},null,{"$f":"N10","v":122},{"$f":"COUNTIF(L41:L47,AS10)","v":0},{"$f":"AT10/(AV4-AT14)","v":{"$error":"#DIV/0!"}},{"$f":"IF(AU10=0,0,(AU10*((LOG(AU10))/LOG(2))))","v":{"$error":"#DIV/0!"}}]
[21,636,21,641,21,650,null,null,null,null,0,222,null,211,{"$f":"COUNTIF($L$7:$L$500,N11)","v":0},{"$f":"O11/$Q$4","v":0},{"$f":"IF(P11=0,0,(P11*((LOG(P11))/LOG(2))))","v":0},null,null,{"$f":"N11","v":211},{"$f":"COUNTIF(L7:L13,T11)","v":0},{"$f":"U11/(W4-U14)","v":0},{"$f":"IF(V11=0,0,(V11*((LOG(V11))/LOG(2))))","v":0},null,{"$f":"N11","v":211},{"$f":"COUNTIF(L14:L20,Y11)","v":0},{"$f":"Z11/(AB4-Z14)","v":{"$error":"#DIV/0!"}},{"$f":"IF(AA11=0,0,(AA11*((LOG(AA11))/LOG(2))))","v":{"$error":"#DIV/0!"}},null,{"$f":"N11","v":211},{"$f":"COUNTIF(L21:L26,AD11)","v":0},{"$f":"AE11/(AG4-AE14)","v":{"$error":"#DIV/0!"}},{"$f":"IF(AF11=0,0,(AF11*((LOG(AF11))/LOG(2))))","v":{"$error":"#DIV/0!"}},null,{"$f":"N11","v":211},{"$f":"COUNTIF(L27:L33,AI11)","v":0},{"$f":"AJ11/(AL4-AJ14)","v":{"$error":"#DIV/0!"}},{"$f":"IF(AK11=0,0,(AK11*((LOG(AK11))/LOG(2))))","v":{"$error":"#DIV/0!"}},null,{"$f":"N11","v":211},{"$f":"COUNTIF(L34:L40,AN11)","v":0},{"$f":"AO11/(AQ4-AO14)","v":{"$error":"#DIV/0!"}},{"$f":"IF(AP11=0,0,(AP11*((LOG(AP11))/LOG(2))))","v":{"$error":"#DIV/0!"}},null,{"$f":"N11","v":211},{"$f":"COUNTIF(L41:L47,AS11)","v":0},{"$f":"AT11/(AV4-AT14)","v":{"$error":"#DIV/0!"}},{"$f":"IF(AU11=0,0,(AU11*((LOG(AU11))/LOG(2))))","v":{"$error":"#DIV/0!"}}]
[21,809,21,815,21,819,null,null,null,null,0,222,null,212,{"$f":"COUNTIF($L$7:$L$500,N12)","v":0},{"$f":"O12/$Q$4","v":0},{"$f":"IF(P12=0,0,(P12*((LOG(P12))/LOG(2))))","v":0},null,null,{"$f":"N12","v":212},{"$f":"COUNTIF(L7:L13,T12)","v":0},{"$f":"U12/(W4-U14)","v":0},{"$f":"IF(V12=0,0,(V12*((LOG(V12))/LOG(2))))","v":0},null,{"$f":"N12","v":212},{"$f":"COUNTIF(L14:L20,Y12)","v":0},{"$f":"Z12/(AB4-Z14)","v":{"$error":"#DIV/0!"}},{"$f":"IF(AA12=0,0,(AA12*((LOG(AA12))/LOG(2))))","v":{"$error":"#DIV/0!"}},null,{"$f":"N12","v":212},{"$f":"COUNTIF(L21:L26,AD12)","v":0},{"$f":"AE12/(AG4-AE14)","v":{"$error":"#DIV/0!"}},{"$f":"IF(AF12=0,0,(AF12*((LOG(AF12))/LOG(2))))","v":{"$error":"#DIV/0!"}},null,{"$f":"N12","v":212},{"$f":"COUNTIF(L27:L33,AI12)","v":0},{"$f":"AJ12/(AL4-AJ14)","v":{"$error":"#DIV/0!"}},{"$f":"IF(AK12=0,0,(AK12*((LOG(AK12))/LOG(2))))","v":{"$error":"#DIV/0!"}},null,{"$f":"N12","v":212},{"$f":"COUNTIF(L34:L40,AN12)","v":0},{"$f":"AO12/(AQ4-AO14)","v":{"$error":"#DIV/0!"}},{"$f":"IF(AP12=0,0,(AP12*((LOG(AP12))/LOG(2))))","v":{"$error":"#DIV/0!"}},null,{"$f":"N12","v":212},{"$f":"COUNTIF(L41:L47,AS12)","v":0},{"$f":"AT12/(AV4-AT14)","v":{"$error":"#DIV/0!"}},{"$f":"IF(AU12=0,0,(AU12*((LOG(AU12))/LOG(2))))","v":{"$error":"#DIV/0!"}}]
[21,1070,21,1074,21,1080,null,null,null,null,0,222,null,221,{"$f":"COUNTIF($L$7:$L$500,N13)","v":0},{"$f":"O13/$Q$4","v":0},{"$f":"IF(P13=0,0,(P13*((LOG(P13))/LOG(2))))","v":0},null,null,{"$f":"N13","v":221},{"$f":"COUNTIF(L7:L13,T13)","v":0},{"$f":"U13/(W4-U14)","v":0},{"$f":"IF(V13=0,0,(V13*((LOG(V13))/LOG(2))))","v":0},null,{"$f":"N13","v":221},{"$f":"COUNTIF(L14:L20,Y13)","v":0},{"$f":"Z13/(AB4-Z14)","v":{"$error":"#DIV/0!"}},{"$f":"IF(AA13=0,0,(AA13*((LOG(AA13))/LOG(2))))","v":{"$error":"#DIV/0!"}},null,{"$f":"N13","v":221},{"$f":"COUNTIF(L21:L26,AD13)","v":0},{"$f":"AE13/(AG4-AE14)","v":{"$error":"#DIV/0!"}},{"$f":"IF(AF13=0,0,(AF13*((LOG(AF13))/LOG(2))))","v":{"$error":"#DIV/0!"}},null,{"$f":"N13","v":221},{"$f":"COUNTIF(L27:L33,AI13)","v":0},{"$f":"AJ13/(AL4-AJ14)","v":{"$error":"#DIV/0!"}},{"$f":"IF(AK13=0,0,(AK13*((LOG(AK13))/LOG(2))))","v":{"$error":"#DIV/0!"}},null,{"$f":"N13","v":221},{"$f":"COUNTIF(L34:L40,AN13)","v":0},{"$f":"AO13/(AQ4-AO14)","v":{"$error":"#DIV/0!"}},{"$f":"IF(AP13=0,0,(AP13*((LOG(AP13))/LOG(2))))","v":{"$error":"#DIV/0!"}},null,{"$f":"N13","v":221},{"$f":"COUNTIF(L41:L47,AS13)","v":0},{"$f":"AT13/(AV4-AT14)","v":{"$error":"#DIV/0!"}},{"$f":"IF(AU13=0,0,(AU13*((LOG(AU13))/LOG(2))))","v":{"$error":"#DIV/0!"}}]
[21,1265,21,1270,21,1276,null,null,null,null,0,222,null,222,{"$f":"COUNTIF($L$7:$L$500,N14)","v":40},{"$f":"O14/$Q$4","v":0.97560975609756095},{"$f":"IF(P14=0,0,(P14*((LOG(P14))/LOG(2))))","v":-3.4755033883630611E-2},null,null,{"$f":"N14","v":222},{"$f":"COUNTIF(L7:L13,T14)","v":6},null,null,null,{"$f":"N14","v":222},{"$f":"COUNTIF(L14:L20,Y14)","v":7},null,null,null,{"$f":"N14","v":222},{"$f":"COUNTIF(L21:L26,AD14)","v":6},null,null,null,{"$f":"N14","v":222},{"$f":"COUNTIF(L27:L33,AI14)","v":7},null,null,null,{"$f":"N14","v":222},{"$f":"COUNTIF(L34:L40,AN14)","v":7},null,null,null,{"$f":"N14","v":222},{"$f":"COUNTIF(L41:L47,AS14)","v":7}]
[21,1484,21,1487,21,1494,null,null,null,null,0,222,null,null,null,{"$f":"SUM(P7:P14)","v":1},{"$f":"-SUM(Q7:Q14)","v":0.16542703399626679},null,null,null,null,{"$f":"SUM(V7:V14)","v":1},{"$f":"-SUM(W7:W14)","v":0},null,null,null,{"$f":"SUM(AA7:AA14)","v":{"$error":"#DIV/0!"}},{"$f":"-SUM(AB7:AB14)","v":{"$error":"#DIV/0!"}},null,null,null,{"$f":"SUM(AF7:AF14)","v":{"$error":"#DIV/0!"}},{"$f":"-SUM(AG7:AG14)","v":{"$error":"#DIV/0!"}},null,null,null,{"$f":"SUM(AK7:AK14)","v":{"$error":"#DIV/0!"}},{"$f":"-SUM(AL7:AL14)","v":{"$error":"#DIV/0!"}},null,null,null,{"$f":"SUM(AP7:AP14)","v":{"$error":"#DIV/0!"}},{"$f":"-SUM(AQ7:AQ14)","v":{"$error":"#DIV/0!"}},null,null,null,{"$f":"SUM(AU7:AU14)","v":{"$error":"#DIV/0!"}},{"$f":"-SUM(AV7:AV14)","v":{"$error":"#DIV/0!"}}]
[21,1669,21,1680,21,1686,null,null,null,null,0,222,null,null,null,"U=",{"$f":"Q15/(LOG(Q4)/LOG(2))","v":3.0877354779509855E-2},null,null,null,null,"U1=",{"$f":"W15/(LOG(W4)/LOG(2))","v":0},null,null,null,"U2=",{"$f":"AB15/(LOG(AB4)/LOG(2))","v":{"$error":"#DIV/0!"}},null,null,null,"U3=",{"$f":"AG15/(LOG(AG4)/LOG(2))","v":{"$error":"#DIV/0!"}},null,null,null,"U4=",{"$f":"AL15/(LOG(AL4)/LOG(2))","v":{"$error":"#DIV/0!"}},null,null,null,"U5=",{"$f":"AQ15/(LOG(AQ4)/LOG(2))","v":{"$error":"#DIV/0!"}},null,null,null,"U6=",{"$f":"AV15/(LOG(AV4)/LOG(2))","v":{"$error":"#DIV/0!"}}]
[21,1804,21,1816,21,1824,null,null,null,null,0,222]
[21,1962,21,1968,21,1975,null,null,null,null,0,222]
[21,2198,21,2205,21,2210,null,null,null,null,0,222,null,"Total Target Seq"]
[21,2335,21,2339,21,2344,null,null,null,null,0,222,null,{"$f":"COUNTIF(L7:L47,G3)","v":40},null,7,7,6,7,7,7]
[21,2570,21,2576,21,2582,null,null,null,null,0,222,null,null,null,"% of reinforcement given in 6 equal intervals based on number of trials "]
[21,2771,21,2776,21,2783,null,null,null,null,0,222,null,null,null,"%_1","%_2","%_3","%_4","%_5","%_6"]
[21,3055,21,3061,21,3067,null,null,null,null,0,222,null,null,"target sequence",{"$f":"$G$3","v":222},{"$f":"$G$3","v":222},{"$f":"$G$3","v":222},{"$f":"$G$3","v":222},{"$f":"$G$3","v":222},{"$f":"$G$3","v":222}]
[21,3201,21,3209,21,3215,null,null,null,null,0,222,null,null,"total reinforcement",{"$f":"U14","v":6},{"$f":"Z14","v":7},{"$f":"AE14","v":6},{"$f":"AJ14","v":7},{"$f":"AO14","v":7},{"$f":"AT14","v":7}]
[21,3353,21,3360,21,3367,null,null,null,null,0,222,null,null,"% target"]
[21,3551,21,3557,21,3564,null,null,null,null,0,222,null,null,"CCRF"]
[21,3714,21,3720,21,3727,null,null,null,null,0,222,null,null,"% CCRf"]
[21,3995,21,4025,21,4031,null,null,null,null,0,222,null,null,"average response rate",{"$f":"F13/P20","v":154.28571428571428},{"$f":"(F20-F13)/Q20","v":180.57142857142858},{"$f":"(F26-F20)/R20","v":203.33333333333334},{"$f":"(F33-F26)/S20","v":185.42857142857142},{"$f":"(F40-F33)/T20","v":176.42857142857142},{"$f":"(F47-F40)/U20","v":252.14285714285714}]
[21,4197,21,4204,21,4210,null,null,null,null,0,222]
[21,4416,21,4421,21,4427,null,null,null,null,0,222]
[21,4562,21,4565,21,4570,null,null,null,null,0,222]
[21,4696,21,4702,21,4707,null,null,null,null,0,222]
[21,4837,21,4852,21,4862,null,null,null,null,0,222]
[21,5008,21,5012,21,5018,null,null,null,null,0,222]
[21,5176,21,5180,21,5182,null,null,null,null,0,222]
[21,5377,21,5391,21,5410,null,null,null,null,0,222]
[21,5612,21,5617,21,5625,null,null,null,null,0,222]
[21,5754,21,5761,21,5767,null,null,null,null,0,222]
[21,5910,21,5915,21,5920,null,null,null,null,0,222]
[21,6082,21,6092,21,6097,null,null,null,null,0,222]
[21,6397,21,6404,21,6409,null,null,null,null,0,222]
[21,6605,21,6611,21,6616,null,null,null,null,0,222]
[21,6797,21,6803,21,6808,null,null,null,null,0,222]
[21,7061,21,7068,21,7074,null,null,null,null,0,222]
[21,7296,21,7308,21,7321,null,null,null,null,0,222]
[21,7581,21,7586,21,7601,null,null,null,null,0,222]
[21,7843,21,7852,21,7862,null,null,null,null,1,222]

{"sheet":"!M413A3D.UST","index":22,"n_rows":47,"n_cols":48,"rows_kept":47,"cut":false,"hidden":false,"merged":[[4,39,4,42],[5,39,5,40],[4,44,4,47],[5,44,5,45],[4,24,4,27],[5,24,5,25],[4,29,4,32],[5,29,5,30],[4,34,4,37],[5,34,5,35],[1,1,1,2],[5,13,5,14],[18,13,18,14],[19,13,19,14],[4,19,4,22],[5,19,5,20]]}
["Report for:!M413A3D.UST"]
["Date:","<date>"]
["Hen:","<hen>",null,null,null,"Correct Sequence",{"$f":"Start!J2","v":222},null,null,null,null,null,null,null,null,"Total Sequences in Data",{"$f":"4994-COUNTBLANK(L7:L5000)","v":41},null,null,null,null,"Total Sequences in Block Data",{"$f":"COUNTA(L7:L13)","v":7},null,null,null,"Total Sequences in Block Data",{"$f":"COUNTA(L14:L20)","v":7},null,null,null,"Total Sequences in Block Data",{"$f":"COUNTA(L21:L26)","v":6},null,null,null,"Total Sequences in Block Data",{"$f":"COUNTA(L27:L33)","v":7},null,null,null,"Total Sequences in Block Data",{"$f":"COUNTA(L34:L40)","v":7},null,null,null,"Total Sequences in Block Data",{"$f":"COUNTA(L41:L47)","v":7}]
[null,null,null,null,null,null,null,null,null,null,null,null,null,null,null,"Total Sequences in Summary",{"$f":"SUM(O7:O14)","v":41},null,null,null,null,"Total Sequences in Block Summary",{"$f":"SUM(U7:U14)","v":7},null,null,null,"Total Sequences in Block Summary",{"$f":"SUM(Z7:Z14)","v":7},null,null,null,"Total Sequences in Block Summary",{"$f":"SUM(AE7:AE14)","v":6},null,null,null,"Total Sequences in Block Summary",{"$f":"SUM(AJ7:AJ14)","v":7},null,null,null,"Total Sequences in Block Summary",{"$f":"SUM(AO7:AO14)","v":7},null,null,null,"Total Sequences in Block Summary",{"$f":"SUM(AT7:AT14)","v":7}]
[null,null,null,null,null,null,null,null,null,null,null,null,null,null,null,null,null,null,null,"Block 1",null,null,null,null,"Block 2",null,null,null,null,"Block 3",null,null,null,null,"Block 4",null,null,null,null,"Block 5",null,null,null,null,"Block 6"]
["Sequence\nComponent\n1","Time\n1","Sequence\nComponent\n2","Time\n2","Sequence\nComponent\n3","Time\n3","Sequence\nComponent\n4","Time\n4","Sequence\nComponent\n5","Time\n5","Correct?\n0=No 1=Yes","Sequence",null,"Frequency",null,"Relative Frequency","Variability",null,null,"Frequency",null,"Relative Frequency","Variability",null,"Frequency",null,"Relative Frequency","Variability",null,"Frequency",null,"Relative Frequency","Variability",null,"Frequency",null,"Relative Frequency","Variability",null,"Frequency",null,"Relative Frequency","Variability",null,"Frequency",null,"Relative Frequency","Variability"]
[12,14,23,21,23,29,null,null,null,null,0,122,null,111,{"$f":"COUNTIF($L$7:$L$500,N7)","v":0},{"$f":"O7/$Q$4","v":0},{"$f":"IF(P7=0,0,(P7*((LOG(P7))/LOG(2))))","v":0},null,null,{"$f":"N7","v":111},{"$f":"COUNTIF(L7:L13,T7)","v":0},{"$f":"U7/(W4-U14)","v":0},{"$f":"IF(V7=0,0,(V7*((LOG(V7))/LOG(2))))","v":0},null,{"$f":"N7","v":111},{"$f":"COUNTIF(L14:L20,Y7)","v":0},{"$f":"Z7/(AB4-Z14)","v":{"$error":"#DIV/0!"}},{"$f":"IF(AA7=0,0,(AA7*((LOG(AA7))/LOG(2))))","v":{"$error":"#DIV/0!"}},null,{"$f":"N7","v":111},{"$f":"COUNTIF(L21:L26,AD7)","v":0},{"$f":"AE7/(AG4-AE14)","v":{"$error":"#DIV/0!"}},{"$f":"IF(AF7=0,0,(AF7*((LOG(AF7))/LOG(2))))","v":{"$error":"#DIV/0!"}},null,{"$f":"N7","v":111},{"$f":"COUNTIF(L27:L33,AI7)","v":0},{"$f":"AJ7/(AL4-AJ14)","v":{"$error":"#DIV/0!"}},{"$f":"IF(AK7=0,0,(AK7*((LOG(AK7))/LOG(2))))","v":{"$error":"#DIV/0!"}},null,{"$f":"N7","v":111},{"$f":"COUNTIF(L34:L40,AN7)","v":0},{"$f":"AO7/(AQ4-AO14)","v":{"$error":"#DIV/0!"}},{"$f":"IF(AP7=0,0,(AP7*((LOG(AP7))/LOG(2))))","v":{"$error":"#DIV/0!"}},null,{"$f":"N7","v":111},{"$f":"COUNTIF(L41:L47,AS7)","v":0},{"$f":"AT7/(AV4-AT14)","v":{"$error":"#DIV/0!"}},{"$f":"IF(AU7=0,0,(AU7*((LOG(AU7))/LOG(2))))","v":{"$error":"#DIV/0!"}}]
[21,128,21,133,21,138,null,null,null,null,0,222,null,112,{"$f":"COUNTIF($L$7:$L$500,N8)","v":0},{"$f":"O8/$Q$4","v":0},{"$f":"IF(P8=0,0,(P8*((LOG(P8))/LOG(2))))","v":0},null,null,{"$f":"N8","v":112},{"$f":"COUNTIF(L7:L13,T8)","v":0},{"$f":"U8/(W4-U14)","v":0},{"$f":"IF(V8=0,0,(V8*((LOG(V8))/LOG(2))))","v":0},null,{"$f":"N8","v":112},{"$f":"COUNTIF(L14:L20,Y8)","v":0},{"$f":"Z8/(AB4-Z14)","v":{"$error":"#DIV/0!"}},{"$f":"IF(AA8=0,0,(AA8*((LOG(AA8))/LOG(2))))","v":{"$error":"#DIV/0!"}},null,{"$f":"N8","v":112},{"$f":"COUNTIF(L21:L26,AD8)","v":0},{"$f":"AE8/(AG4-AE14)","v":{"$error":"#DIV/0!"}},{"$f":"IF(AF8=0,0,(AF8*((LOG(AF8))/LOG(2))))","v":{"$error":"#DIV/0!"}},null,{"$f":"N8","v":112},{"$f":"COUNTIF(L27:L33,AI8)","v":0},{"$f":"AJ8/(AL4-AJ14)","v":{"$error":"#DIV/0!"}},{"$f":"IF(AK8=0,0,(AK8*((LOG(AK8))/LOG(2))))","v":{"$error":"#DIV/0!"}},null,{"$f":"N8","v":112},{"$f":"COUNTIF(L34:L40,AN8)","v":0},{"$f":"AO8/(AQ4-AO14)","v":{"$error":"#DIV/0!"}},{"$f":"IF(AP8=0,0,(AP8*((LOG(AP8))/LOG(2))))","v":{"$error":"#DIV/0!"}},null,{"$f":"N8","v":112},{"$f":"COUNTIF(L41:L47,AS8)","v":0},{"$f":"AT8/(AV4-AT14)","v":{"$error":"#DIV/0!"}},{"$f":"IF(AU8=0,0,(AU8*((LOG(AU8))/LOG(2))))","v":{"$error":"#DIV/0!"}}]
[21,311,21,315,21,321,null,null,null,null,0,222,null,121,{"$f":"COUNTIF($L$7:$L$500,N9)","v":0},{"$f":"O9/$Q$4","v":0},{"$f":"IF(P9=0,0,(P9*((LOG(P9))/LOG(2))))","v":0},null,null,{"$f":"N9","v":121},{"$f":"COUNTIF(L7:L13,T9)","v":0},{"$f":"U9/(W4-U14)","v":0},{"$f":"IF(V9=0,0,(V9*((LOG(V9))/LOG(2))))","v":0},null,{"$f":"N9","v":121},{"$f":"COUNTIF(L14:L20,Y9)","v":0},{"$f":"Z9/(AB4-Z14)","v":{"$error":"#DIV/0!"}},{"$f":"IF(AA9=0,0,(AA9*((LOG(AA9))/LOG(2))))","v":{"$error":"#DIV/0!"}},null,{"$f":"N9","v":121},{"$f":"COUNTIF(L21:L26,AD9)","v":0},{"$f":"AE9/(AG4-AE14)","v":{"$error":"#DIV/0!"}},{"$f":"IF(AF9=0,0,(AF9*((LOG(AF9))/LOG(2))))","v":{"$error":"#DIV/0!"}},null,{"$f":"N9","v":121},{"$f":"COUNTIF(L27:L33,AI9)","v":0},{"$f":"AJ9/(AL4-AJ14)","v":{"$error":"#DIV/0!"}},{"$f":"IF(AK9=0,0,(AK9*((LOG(AK9))/LOG(2))))","v":{"$error":"#DIV/0!"}},null,{"$f":"N9","v":121},{"$f":"COUNTIF(L34:L40,AN9)","v":0},{"$f":"AO9/(AQ4-AO14)","v":{"$error":"#DIV/0!"}},{"$f":"IF(AP9=0,0,(AP9*((LOG(AP9))/LOG(2))))","v":{"$error":"#DIV/0!"}},null,{"$f":"N9","v":121},{"$f":"COUNTIF(L41:L47,AS9)","v":0},{"$f":"AT9/(AV4-AT14)","v":{"$error":"#DIV/0!"}},{"$f":"IF(AU9=0,0,(AU9*((LOG(AU9))/LOG(2))))","v":{"$error":"#DIV/0!"}}]
[21,466,21,470,21,476,null,null,null,null,0,222,null,122,{"$f":"COUNTIF($L$7:$L$500,N10)","v":1},{"$f":"O10/$Q$4","v":2.4390243902439025E-2},{"$f":"IF(P10=0,0,(P10*((LOG(P10))/LOG(2))))","v":-0.13067200011263619},null,null,{"$f":"N10","v":122},{"$f":"COUNTIF(L7:L13,T10)","v":1},{"$f":"U10/(W4-U14)","v":1},{"$f":"IF(V10=0,0,(V10*((LOG(V10))/LOG(2))))","v":0},null,{"$f":"N10","v":122},{"$f":"COUNTIF(L14:L20,Y10)","v":0},{"$f":"Z10/(AB4-Z14)","v":{"$error":"#DIV/0!"}},{"$f":"IF(AA10=0,0,(AA10*((LOG(AA10))/LOG(2))))","v":{"$error":"#DIV/0!"}},null,{"$f":"N10","v":122},{"$f":"COUNTIF(L21:L26,AD10)","v":0},{"$f":"AE10/(AG4-AE14)","v":{"$error":"#DIV/0!"}},{"$f":"IF(AF10=0,0,(AF10*((LOG(AF10))/LOG(2))))","v":{"$error":"#DIV/0!"}},null,{"$f":"N10","v":122},{"$f":"COUNTIF(L27:L33,AI10)","v":0},{"$f":"AJ10/(AL4-AJ14)","v":{"$error":"#DIV/0!"}},{"$f":"IF(AK10=0,0,(AK10*((LOG(AK10))/LOG(2))))","v":{"$error":"#DIV/0!"}},null,{"$f":"N10","v":122},{"$f":"COUNTIF(L34:L40,AN10)","v":0},{"$f":"AO10/(AQ4-AO14)","v":{"$error":"#DIV/0!"}},{"$f":"IF(AP10=0,0,(AP10*((LOG(AP10))/LOG(2))))","v":{"$error":"#DIV/0!"}},null,{"$f":"N10","v":122},{"$f":"COUNTIF(L41:L47,AS10)","v":0},{"$f":"AT10/(AV4-AT14)","v":{"$error":"#DIV/0!"}},{"$f":"IF(AU10=0,0,(AU10*((LOG(AU10))/LOG(2))))","v":{"$error":"#DIV/0!"}}]
[21,589,21,595,21,605,null,null,null,null,0,222,null,211,{"$f":"COUNTIF($L$7:$L$500,N11)","v":0},{"$f":"O11/$Q$4","v":0},{"$f":"IF(P11=0,0,(P11*((LOG(P11))/LOG(2))))","v":0},null,null,{"$f":"N11","v":211},{"$f":"COUNTIF(L7:L13,T11)","v":0},{"$f":"U11/(W4-U14)","v":0},{"$f":"IF(V11=0,0,(V11*((LOG(V11))/LOG(2))))","v":0},null,{"$f":"N11","v":211},{"$f":"COUNTIF(L14:L20,Y11)","v":0},{"$f":"Z11/(AB4-Z14)","v":{"$error":"#DIV/0!"}},{"$f":"IF(AA11=0,0,(AA11*((LOG(AA11))/LOG(2))))","v":{"$error":"#DIV/0!"}},null,{"$f":"N11","v":211},{"$f":"COUNTIF(L21:L26,AD11)","v":0},{"$f":"AE11/(AG4-AE14)","v":{"$error":"#DIV/0!"}},{"$f":"IF(AF11=0,0,(AF11*((LOG(AF11))/LOG(2))))","v":{"$error":"#DIV/0!"}},null,{"$f":"N11","v":211},{"$f":"COUNTIF(L27:L33,AI11)","v":0},{"$f":"AJ11/(AL4-AJ14)","v":{"$error":"#DIV/0!"}},{"$f":"IF(AK11=0,0,(AK11*((LOG(AK11))/LOG(2))))","v":{"$error":"#DIV/0!"}},null,{"$f":"N11","v":211},{"$f":"COUNTIF(L34:L40,AN11)","v":0},{"$f":"AO11/(AQ4-AO14)","v":{"$error":"#DIV/0!"}},{"$f":"IF(AP11=0,0,(AP11*((LOG(AP11))/LOG(2))))","v":{"$error":"#DIV/0!"}},null,{"$f":"N11","v":211},{"$f":"COUNTIF(L41:L47,AS11)","v":0},{"$f":"AT11/(AV4-AT14)","v":{"$error":"#DIV/0!"}},{"$f":"IF(AU11=0,0,(AU11*((LOG(AU11))/LOG(2))))","v":{"$error":"#DIV/0!"}}]
[21,764,21,773,21,781,null,null,null,null,0,222,null,212,{"$f":"COUNTIF($L$7:$L$500,N12)","v":0},{"$f":"O12/$Q$4","v":0},{"$f":"IF(P12=0,0,(P12*((LOG(P12))/LOG(2))))","v":0},null,null,{"$f":"N12","v":212},{"$f":"COUNTIF(L7:L13,T12)","v":0},{"$f":"U12/(W4-U14)","v":0},{"$f":"IF(V12=0,0,(V12*((LOG(V12))/LOG(2))))","v":0},null,{"$f":"N12","v":212},{"$f":"COUNTIF(L14:L20,Y12)","v":0},{"$f":"Z12/(AB4-Z14)","v":{"$error":"#DIV/0!"}},{"$f":"IF(AA12=0,0,(AA12*((LOG(AA12))/LOG(2))))","v":{"$error":"#DIV/0!"}},null,{"$f":"N12","v":212},{"$f":"COUNTIF(L21:L26,AD12)","v":0},{"$f":"AE12/(AG4-AE14)","v":{"$error":"#DIV/0!"}},{"$f":"IF(AF12=0,0,(AF12*((LOG(AF12))/LOG(2))))","v":{"$error":"#DIV/0!"}},null,{"$f":"N12","v":212},{"$f":"COUNTIF(L27:L33,AI12)","v":0},{"$f":"AJ12/(AL4-AJ14)","v":{"$error":"#DIV/0!"}},{"$f":"IF(AK12=0,0,(AK12*((LOG(AK12))/LOG(2))))","v":{"$error":"#DIV/0!"}},null,{"$f":"N12","v":212},{"$f":"COUNTIF(L34:L40,AN12)","v":0},{"$f":"AO12/(AQ4-AO14)","v":{"$error":"#DIV/0!"}},{"$f":"IF(AP12=0,0,(AP12*((LOG(AP12))/LOG(2))))","v":{"$error":"#DIV/0!"}},null,{"$f":"N12","v":212},{"$f":"COUNTIF(L41:L47,AS12)","v":0},{"$f":"AT12/(AV4-AT14)","v":{"$error":"#DIV/0!"}},{"$f":"IF(AU12=0,0,(AU12*((LOG(AU12))/LOG(2))))","v":{"$error":"#DIV/0!"}}]
[21,938,21,948,21,951,null,null,null,null,0,222,null,221,{"$f":"COUNTIF($L$7:$L$500,N13)","v":0},{"$f":"O13/$Q$4","v":0},{"$f":"IF(P13=0,0,(P13*((LOG(P13))/LOG(2))))","v":0},null,null,{"$f":"N13","v":221},{"$f":"COUNTIF(L7:L13,T13)","v":0},{"$f":"U13/(W4-U14)","v":0},{"$f":"IF(V13=0,0,(V13*((LOG(V13))/LOG(2))))","v":0},null,{"$f":"N13","v":221},{"$f":"COUNTIF(L14:L20,Y13)","v":0},{"$f":"Z13/(AB4-Z14)","v":{"$error":"#DIV/0!"}},{"$f":"IF(AA13=0,0,(AA13*((LOG(AA13))/LOG(2))))","v":{"$error":"#DIV/0!"}},null,{"$f":"N13","v":221},{"$f":"COUNTIF(L21:L26,AD13)","v":0},{"$f":"AE13/(AG4-AE14)","v":{"$error":"#DIV/0!"}},{"$f":"IF(AF13=0,0,(AF13*((LOG(AF13))/LOG(2))))","v":{"$error":"#DIV/0!"}},null,{"$f":"N13","v":221},{"$f":"COUNTIF(L27:L33,AI13)","v":0},{"$f":"AJ13/(AL4-AJ14)","v":{"$error":"#DIV/0!"}},{"$f":"IF(AK13=0,0,(AK13*((LOG(AK13))/LOG(2))))","v":{"$error":"#DIV/0!"}},null,{"$f":"N13","v":221},{"$f":"COUNTIF(L34:L40,AN13)","v":0},{"$f":"AO13/(AQ4-AO14)","v":{"$error":"#DIV/0!"}},{"$f":"IF(AP13=0,0,(AP13*((LOG(AP13))/LOG(2))))","v":{"$error":"#DIV/0!"}},null,{"$f":"N13","v":221},{"$f":"COUNTIF(L41:L47,AS13)","v":0},{"$f":"AT13/(AV4-AT14)","v":{"$error":"#DIV/0!"}},{"$f":"IF(AU13=0,0,(AU13*((LOG(AU13))/LOG(2))))","v":{"$error":"#DIV/0!"}}]
[21,1101,21,1106,21,1115,null,null,null,null,0,222,null,222,{"$f":"COUNTIF($L$7:$L$500,N14)","v":40},{"$f":"O14/$Q$4","v":0.97560975609756095},{"$f":"IF(P14=0,0,(P14*((LOG(P14))/LOG(2))))","v":-3.4755033883630611E-2},null,null,{"$f":"N14","v":222},{"$f":"COUNTIF(L7:L13,T14)","v":6},null,null,null,{"$f":"N14","v":222},{"$f":"COUNTIF(L14:L20,Y14)","v":7},null,null,null,{"$f":"N14","v":222},{"$f":"COUNTIF(L21:L26,AD14)","v":6},null,null,null,{"$f":"N14","v":222},{"$f":"COUNTIF(L27:L33,AI14)","v":7},null,null,null,{"$f":"N14","v":222},{"$f":"COUNTIF(L34:L40,AN14)","v":7},null,null,null,{"$f":"N14","v":222},{"$f":"COUNTIF(L41:L47,AS14)","v":7}]
[21,1287,21,1294,21,1299,null,null,null,null,0,222,null,null,null,{"$f":"SUM(P7:P14)","v":1},{"$f":"-SUM(Q7:Q14)","v":0.16542703399626679},null,null,null,null,{"$f":"SUM(V7:V14)","v":1},{"$f":"-SUM(W7:W14)","v":0},null,null,null,{"$f":"SUM(AA7:AA14)","v":{"$error":"#DIV/0!"}},{"$f":"-SUM(AB7:AB14)","v":{"$error":"#DIV/0!"}},null,null,null,{"$f":"SUM(AF7:AF14)","v":{"$error":"#DIV/0!"}},{"$f":"-SUM(AG7:AG14)","v":{"$error":"#DIV/0!"}},null,null,null,{"$f":"SUM(AK7:AK14)","v":{"$error":"#DIV/0!"}},{"$f":"-SUM(AL7:AL14)","v":{"$error":"#DIV/0!"}},null,null,null,{"$f":"SUM(AP7:AP14)","v":{"$error":"#DIV/0!"}},{"$f":"-SUM(AQ7:AQ14)","v":{"$error":"#DIV/0!"}},null,null,null,{"$f":"SUM(AU7:AU14)","v":{"$error":"#DIV/0!"}},{"$f":"-SUM(AV7:AV14)","v":{"$error":"#DIV/0!"}}]
[21,1459,21,1464,21,1473,null,null,null,null,0,222,null,null,null,"U=",{"$f":"Q15/(LOG(Q4)/LOG(2))","v":3.0877354779509855E-2},null,null,null,null,"U1=",{"$f":"W15/(LOG(W4)/LOG(2))","v":0},null,null,null,"U2=",{"$f":"AB15/(LOG(AB4)/LOG(2))","v":{"$error":"#DIV/0!"}},null,null,null,"U3=",{"$f":"AG15/(LOG(AG4)/LOG(2))","v":{"$error":"#DIV/0!"}},null,null,null,"U4=",{"$f":"AL15/(LOG(AL4)/LOG(2))","v":{"$error":"#DIV/0!"}},null,null,null,"U5=",{"$f":"AQ15/(LOG(AQ4)/LOG(2))","v":{"$error":"#DIV/0!"}},null,null,null,"U6=",{"$f":"AV15/(LOG(AV4)/LOG(2))","v":{"$error":"#DIV/0!"}}]
[21,1648,21,1650,21,1656,null,null,null,null,0,222]
[21,1813,21,1818,21,1825,null,null,null,null,0,222]
[21,2011,21,2013,21,2018,null,null,null,null,0,222,null,"Total Target Seq"]
[21,2143,21,2150,21,2152,null,null,null,null,0,222,null,{"$f":"COUNTIF(L7:L47,G3)","v":40},null,7,7,6,7,7,7]
[21,2287,21,2295,21,2302,null,null,null,null,0,222,null,null,null,"% of reinforcement given in 6 equal intervals based on number of trials "]
[21,2558,21,2562,21,2568,null,null,null,null,0,222,null,null,null,"%_1","%_2","%_3","%_4","%_5","%_6"]
[21,2754,21,2760,21,2767,null,null,null,null,0,222,null,null,"target sequence",{"$f":"$G$3","v":222},{"$f":"$G$3","v":222},{"$f":"$G$3","v":222},{"$f":"$G$3","v":222},{"$f":"$G$3","v":222},{"$f":"$G$3","v":222}]
[21,3019,21,3025,21,3033,null,null,null,null,0,222,null,null,"total reinforcement",{"$f":"U14","v":6},{"$f":"Z14","v":7},{"$f":"AE14","v":6},{"$f":"AJ14","v":7},{"$f":"AO14","v":7},{"$f":"AT14","v":7}]
[21,3190,21,3193,21,3197,null,null,null,null,0,222,null,null,"% target"]
[21,3452,21,3455,21,3477,null,null,null,null,0,222,null,null,"CCRF"]
[21,3687,21,3693,21,3701,null,null,null,null,0,222,null,null,"% CCRf"]
[21,3859,21,3862,21,3868,null,null,null,null,0,222,null,null,"average response rate",{"$f":"F13/P20","v":135.85714285714286},{"$f":"(F20-F13)/Q20","v":171.57142857142858},{"$f":"(F26-F20)/R20","v":220.83333333333334},{"$f":"(F33-F26)/S20","v":243},{"$f":"(F40-F33)/T20","v":206.71428571428572},{"$f":"(F47-F40)/U20","v":213}]
[21,4199,21,4203,21,4208,null,null,null,null,0,222]
[21,4405,21,4410,21,4416,null,null,null,null,0,222]
[21,4660,21,4674,21,4694,null,null,null,null,0,222]
[21,4947,21,4953,21,4960,null,null,null,null,0,222]
[21,5170,21,5175,21,5178,null,null,null,null,0,222]
[21,5329,21,5335,21,5340,null,null,null,null,0,222]
[21,5535,21,5540,21,5543,null,null,null,null,0,222]
[21,5753,21,5759,21,5764,null,null,null,null,0,222]
[21,5986,21,5991,21,5998,null,null,null,null,0,222]
[21,6193,21,6206,21,6213,null,null,null,null,0,222]
[21,6438,21,6442,21,6448,null,null,null,null,0,222]
[21,6615,21,6619,21,6625,null,null,null,null,0,222]
[21,6854,21,6859,21,6865,null,null,null,null,0,222]
[21,7075,21,7079,21,7085,null,null,null,null,0,222]
[21,7237,21,7250,21,7256,null,null,null,null,0,222]
[21,7494,21,7499,21,7507,null,null,null,null,0,222]
[21,7656,21,7658,21,7665,null,null,null,null,0,222]
[21,7843,21,7846,21,7848,null,null,null,null,0,222]
[21,8105,21,8108,21,8116,null,null,null,null,1,222]

{"sheet":"!M414A0D.UST","index":23,"n_rows":98,"n_cols":48,"rows_kept":98,"cut":false,"hidden":false,"merged":[[4,39,4,42],[5,39,5,40],[4,44,4,47],[5,44,5,45],[4,24,4,27],[5,24,5,25],[4,29,4,32],[5,29,5,30],[4,34,4,37],[5,34,5,35],[1,1,1,2],[5,13,5,14],[18,13,18,14],[19,13,19,14],[4,19,4,22],[5,19,5,20]]}
["Report for:!M414A0D.UST"]
["Date:","<date>"]
["Hen:","<hen>",null,null,null,"Correct Sequence",{"$f":"Start!J2","v":222},null,null,null,null,null,null,null,null,"Total Sequences in Data",{"$f":"4994-COUNTBLANK(L7:L5000)","v":92},null,null,null,null,"Total Sequences in Block Data",{"$f":"COUNTA(L7:L21)","v":15},null,null,null,"Total Sequences in Block Data",{"$f":"COUNTA(L22:L37)","v":16},null,null,null,"Total Sequences in Block Data",{"$f":"COUNTA(L38:L52)","v":15},null,null,null,"Total Sequences in Block Data",{"$f":"COUNTA(L53:L67)","v":15},null,null,null,"Total Sequences in Block Data",{"$f":"COUNTA(L68:L83)","v":16},null,null,null,"Total Sequences in Block Data",{"$f":"COUNTA(L84:L98)","v":15}]
[null,null,null,null,null,null,null,null,null,null,null,null,null,null,null,"Total Sequences in Summary",{"$f":"SUM(O7:O14)","v":92},null,null,null,null,"Total Sequences in Block Summary",{"$f":"SUM(U7:U14)","v":15},null,null,null,"Total Sequences in Block Summary",{"$f":"SUM(Z7:Z14)","v":16},null,null,null,"Total Sequences in Block Summary",{"$f":"SUM(AE7:AE14)","v":15},null,null,null,"Total Sequences in Block Summary",{"$f":"SUM(AJ7:AJ14)","v":15},null,null,null,"Total Sequences in Block Summary",{"$f":"SUM(AO7:AO14)","v":16},null,null,null,"Total Sequences in Block Summary",{"$f":"SUM(AT7:AT14)","v":15}]
[null,null,null,null,null,null,null,null,null,null,null,null,null,null,null,null,null,null,null,"Block 1",null,null,null,null,"Block 2",null,null,null,null,"Block 3",null,null,null,null,"Block 4",null,null,null,null,"Block 5",null,null,null,null,"Block 6"]
["Sequence\nComponent\n1","Time\n1","Sequence\nComponent\n2","Time\n2","Sequence\nComponent\n3","Time\n3","Sequence\nComponent\n4","Time\n4","Sequence\nComponent\n5","Time\n5","Correct?\n0=No 1=Yes","Sequence",null,"Frequency",null,"Relative Frequency","Variability",null,null,"Frequency",null,"Relative Frequency","Variability",null,"Frequency",null,"Relative Frequency","Variability",null,"Frequency",null,"Relative Frequency","Variability",null,"Frequency",null,"Relative Frequency","Variability",null,"Frequency",null,"Relative Frequency","Variability",null,"Frequency",null,"Relative Frequency","Variability"]
[12,14,23,21,23,27,null,null,null,null,0,122,null,111,{"$f":"COUNTIF($L$7:$L$500,N7)","v":47},{"$f":"O7/$Q$4","v":0.51086956521739135},{"$f":"IF(P7=0,0,(P7*((LOG(P7))/LOG(2))))","v":-0.49501886854163746},null,null,{"$f":"N7","v":111},{"$f":"COUNTIF(L7:L21,T7)","v":13},{"$f":"U7/(W4-U14)","v":0.8666666666666667},{"$f":"IF(V7=0,0,(V7*((LOG(V7))/LOG(2))))","v":-0.17892409380510282},null,{"$f":"N7","v":111},{"$f":"COUNTIF(L22:L37,Y7)","v":15},{"$f":"Z7/(AB4-Z14)","v":0.9375},{"$f":"IF(AA7=0,0,(AA7*((LOG(AA7))/LOG(2))))","v":-8.729006661701387E-2},null,{"$f":"N7","v":111},{"$f":"COUNTIF(L38:L52,AD7)","v":15},{"$f":"AE7/(AG4-AE14)","v":1},{"$f":"IF(AF7=0,0,(AF7*((LOG(AF7))/LOG(2))))","v":0},null,{"$f":"N7","v":111},{"$f":"COUNTIF(L53:L67,AI7)","v":4},{"$f":"AJ7/(AL4-AJ14)","v":0.5714285714285714},{"$f":"IF(AK7=0,0,(AK7*((LOG(AK7))/LOG(2))))","v":-0.46134566974720237},null,{"$f":"N7","v":111},{"$f":"COUNTIF(L68:L83,AN7)","v":0},{"$f":"AO7/(AQ4-AO14)","v":{"$error":"#DIV/0!"}},{"$f":"IF(AP7=0,0,(AP7*((LOG(AP7))/LOG(2))))","v":{"$error":"#DIV/0!"}},null,{"$f":"N7","v":111},{"$f":"COUNTIF(L84:L98,AS7)","v":0},{"$f":"AT7/(AV4-AT14)","v":{"$error":"#DIV/0!"}},{"$f":"IF(AU7=0,0,(AU7*((LOG(AU7))/LOG(2))))","v":{"$error":"#DIV/0!"}}]
[21,123,12,205,14,247,null,null,null,null,0,211,null,112,{"$f":"COUNTIF($L$7:$L$500,N8)","v":2},{"$f":"O8/$Q$4","v":2.1739130434782608E-2},{"$f":"IF(P8=0,0,(P8*((LOG(P8))/LOG(2))))","v":-0.12007743382732637},null,null,{"$f":"N8","v":112},{"$f":"COUNTIF(L7:L21,T8)","v":0},{"$f":"U8/(W4-U14)","v":0},{"$f":"IF(V8=0,0,(V8*((LOG(V8))/LOG(2))))","v":0},null,{"$f":"N8","v":112},{"$f":"COUNTIF(L22:L37,Y8)","v":1},{"$f":"Z8/(AB4-Z14)","v":6.25E-2},{"$f":"IF(AA8=0,0,(AA8*((LOG(AA8))/LOG(2))))","v":-0.25},null,{"$f":"N8","v":112},{"$f":"COUNTIF(L38:L52,AD8)","v":0},{"$f":"AE8/(AG4-AE14)","v":0},{"$f":"IF(AF8=0,0,(AF8*((LOG(AF8))/LOG(2))))","v":0},null,{"$f":"N8","v":112},{"$f":"COUNTIF(L53:L67,AI8)","v":1},{"$f":"AJ8/(AL4-AJ14)","v":0.14285714285714285},{"$f":"IF(AK8=0,0,(AK8*((LOG(AK8))/LOG(2))))","v":-0.40105070315108626},null,{"$f":"N8","v":112},{"$f":"COUNTIF(L68:L83,AN8)","v":0},{"$f":"AO8/(AQ4-AO14)","v":{"$error":"#DIV/0!"}},{"$f":"IF(AP8=0,0,(AP8*((LOG(AP8))/LOG(2))))","v":{"$error":"#DIV/0!"}},null,{"$f":"N8","v":112},{"$f":"COUNTIF(L84:L98,AS8)","v":0},{"$f":"AT8/(AV4-AT14)","v":{"$error":"#DIV/0!"}},{"$f":"IF(AU8=0,0,(AU8*((LOG(AU8))/LOG(2))))","v":{"$error":"#DIV/0!"}}]
[12,389,14,449,14,458,null,null,null,null,0,111,null,121,{"$f":"COUNTIF($L$7:$L$500,N9)","v":0},{"$f":"O9/$Q$4","v":0},{"$f":"IF(P9=0,0,(P9*((LOG(P9))/LOG(2))))","v":0},null,null,{"$f":"N9","v":121},{"$f":"COUNTIF(L7:L21,T9)","v":0},{"$f":"U9/(W4-U14)","v":0},{"$f":"IF(V9=0,0,(V9*((LOG(V9))/LOG(2))))","v":0},null,{"$f":"N9","v":121},{"$f":"COUNTIF(L22:L37,Y9)","v":0},{"$f":"Z9/(AB4-Z14)","v":0},{"$f":"IF(AA9=0,0,(AA9*((LOG(AA9))/LOG(2))))","v":0},null,{"$f":"N9","v":121},{"$f":"COUNTIF(L38:L52,AD9)","v":0},{"$f":"AE9/(AG4-AE14)","v":0},{"$f":"IF(AF9=0,0,(AF9*((LOG(AF9))/LOG(2))))","v":0},null,{"$f":"N9","v":121},{"$f":"COUNTIF(L53:L67,AI9)","v":0},{"$f":"AJ9/(AL4-AJ14)","v":0},{"$f":"IF(AK9=0,0,(AK9*((LOG(AK9))/LOG(2))))","v":0},null,{"$f":"N9","v":121},{"$f":"COUNTIF(L68:L83,AN9)","v":0},{"$f":"AO9/(AQ4-AO14)","v":{"$error":"#DIV/0!"}},{"$f":"IF(AP9=0,0,(AP9*((LOG(AP9))/LOG(2))))","v":{"$error":"#DIV/0!"}},null,{"$f":"N9","v":121},{"$f":"COUNTIF(L84:L98,AS9)","v":0},{"$f":"AT9/(AV4-AT14)","v":{"$error":"#DIV/0!"}},{"$f":"IF(AU9=0,0,(AU9*((LOG(AU9))/LOG(2))))","v":{"$error":"#DIV/0!"}}]
[12,625,14,662,14,682,null,null,null,null,0,111,null,122,{"$f":"COUNTIF($L$7:$L$500,N10)","v":2},{"$f":"O10/$Q$4","v":2.1739130434782608E-2},{"$f":"IF(P10=0,0,(P10*((LOG(P10))/LOG(2))))","v":-0.12007743382732637},null,null,{"$f":"N10","v":122},{"$f":"COUNTIF(L7:L21,T10)","v":1},{"$f":"U10/(W4-U14)","v":6.6666666666666666E-2},{"$f":"IF(V10=0,0,(V10*((LOG(V10))/LOG(2))))","v":-0.26045937304056793},null,{"$f":"N10","v":122},{"$f":"COUNTIF(L22:L37,Y10)","v":0},{"$f":"Z10/(AB4-Z14)","v":0},{"$f":"IF(AA10=0,0,(AA10*((LOG(AA10))/LOG(2))))","v":0},null,{"$f":"N10","v":122},{"$f":"COUNTIF(L38:L52,AD10)","v":0},{"$f":"AE10/(AG4-AE14)","v":0},{"$f":"IF(AF10=0,0,(AF10*((LOG(AF10))/LOG(2))))","v":0},null,{"$f":"N10","v":122},{"$f":"COUNTIF(L53:L67,AI10)","v":1},{"$f":"AJ10/(AL4-AJ14)","v":0.14285714285714285},{"$f":"IF(AK10=0,0,(AK10*((LOG(AK10))/LOG(2))))","v":-0.40105070315108626},null,{"$f":"N10","v":122},{"$f":"COUNTIF(L68:L83,AN10)","v":0},{"$f":"AO10/(AQ4-AO14)","v":{"$error":"#DIV/0!"}},{"$f":"IF(AP10=0,0,(AP10*((LOG(AP10))/LOG(2))))","v":{"$error":"#DIV/0!"}},null,{"$f":"N10","v":122},{"$f":"COUNTIF(L84:L98,AS10)","v":0},{"$f":"AT10/(AV4-AT14)","v":{"$error":"#DIV/0!"}},{"$f":"IF(AU10=0,0,(AU10*((LOG(AU10))/LOG(2))))","v":{"$error":"#DIV/0!"}}]
[12,851,14,882,14,889,null,null,null,null,0,111,null,211,{"$f":"COUNTIF($L$7:$L$500,N11)","v":2},{"$f":"O11/$Q$4","v":2.1739130434782608E-2},{"$f":"IF(P11=0,0,(P11*((LOG(P11))/LOG(2))))","v":-0.12007743382732637},null,null,{"$f":"N11","v":211},{"$f":"COUNTIF(L7:L21,T11)","v":1},{"$f":"U11/(W4-U14)","v":6.6666666666666666E-2},{"$f":"IF(V11=0,0,(V11*((LOG(V11))/LOG(2))))","v":-0.26045937304056793},null,{"$f":"N11","v":211},{"$f":"COUNTIF(L22:L37,Y11)","v":0},{"$f":"Z11/(AB4-Z14)","v":0},{"$f":"IF(AA11=0,0,(AA11*((LOG(AA11))/LOG(2))))","v":0},null,{"$f":"N11","v":211},{"$f":"COUNTIF(L38:L52,AD11)","v":0},{"$f":"AE11/(AG4-AE14)","v":0},{"$f":"IF(AF11=0,0,(AF11*((LOG(AF11))/LOG(2))))","v":0},null,{"$f":"N11","v":211},{"$f":"COUNTIF(L53:L67,AI11)","v":1},{"$f":"AJ11/(AL4-AJ14)","v":0.14285714285714285},{"$f":"IF(AK11=0,0,(AK11*((LOG(AK11))/LOG(2))))","v":-0.40105070315108626},null,{"$f":"N11","v":211},{"$f":"COUNTIF(L68:L83,AN11)","v":0},{"$f":"AO11/(AQ4-AO14)","v":{"$error":"#DIV/0!"}},{"$f":"IF(AP11=0,0,(AP11*((LOG(AP11))/LOG(2))))","v":{"$error":"#DIV/0!"}},null,{"$f":"N11","v":211},{"$f":"COUNTIF(L84:L98,AS11)","v":0},{"$f":"AT11/(AV4-AT14)","v":{"$error":"#DIV/0!"}},{"$f":"IF(AU11=0,0,(AU11*((LOG(AU11))/LOG(2))))","v":{"$error":"#DIV/0!"}}]
[12,1095,14,1149,14,1173,null,null,null,null,0,111,null,212,{"$f":"COUNTIF($L$7:$L$500,N12)","v":0},{"$f":"O12/$Q$4","v":0},{"$f":"IF(P12=0,0,(P12*((LOG(P12))/LOG(2))))","v":0},null,null,{"$f":"N12","v":212},{"$f":"COUNTIF(L7:L21,T12)","v":0},{"$f":"U12/(W4-U14)","v":0},{"$f":"IF(V12=0,0,(V12*((LOG(V12))/LOG(2))))","v":0},null,{"$f":"N12","v":212},{"$f":"COUNTIF(L22:L37,Y12)","v":0},{"$f":"Z12/(AB4-Z14)","v":0},{"$f":"IF(AA12=0,0,(AA12*((LOG(AA12))/LOG(2))))","v":0},null,{"$f":"N12","v":212},{"$f":"COUNTIF(L38:L52,AD12)","v":0},{"$f":"AE12/(AG4-AE14)","v":0},{"$f":"IF(AF12=0,0,(AF12*((LOG(AF12))/LOG(2))))","v":0},null,{"$f":"N12","v":212},{"$f":"COUNTIF(L53:L67,AI12)","v":0},{"$f":"AJ12/(AL4-AJ14)","v":0},{"$f":"IF(AK12=0,0,(AK12*((LOG(AK12))/LOG(2))))","v":0},null,{"$f":"N12","v":212},{"$f":"COUNTIF(L68:L83,AN12)","v":0},{"$f":"AO12/(AQ4-AO14)","v":{"$error":"#DIV/0!"}},{"$f":"IF(AP12=0,0,(AP12*((LOG(AP12))/LOG(2))))","v":{"$error":"#DIV/0!"}},null,{"$f":"N12","v":212},{"$f":"COUNTIF(L84:L98,AS12)","v":0},{"$f":"AT12/(AV4-AT14)","v":{"$error":"#DIV/0!"}},{"$f":"IF(AU12=0,0,(AU12*((LOG(AU12))/LOG(2))))","v":{"$error":"#DIV/0!"}}]
[12,1348,14,1353,14,1360,null,null,null,null,0,111,null,221,{"$f":"COUNTIF($L$7:$L$500,N13)","v":0},{"$f":"O13/$Q$4","v":0},{"$f":"IF(P13=0,0,(P13*((LOG(P13))/LOG(2))))","v":0},null,null,{"$f":"N13","v":221},{"$f":"COUNTIF(L7:L21,T13)","v":0},{"$f":"U13/(W4-U14)","v":0},{"$f":"IF(V13=0,0,(V13*((LOG(V13))/LOG(2))))","v":0},null,{"$f":"N13","v":221},{"$f":"COUNTIF(L22:L37,Y13)","v":0},{"$f":"Z13/(AB4-Z14)","v":0},{"$f":"IF(AA13=0,0,(AA13*((LOG(AA13))/LOG(2))))","v":0},null,{"$f":"N13","v":221},{"$f":"COUNTIF(L38:L52,AD13)","v":0},{"$f":"AE13/(AG4-AE14)","v":0},{"$f":"IF(AF13=0,0,(AF13*((LOG(AF13))/LOG(2))))","v":0},null,{"$f":"N13","v":221},{"$f":"COUNTIF(L53:L67,AI13)","v":0},{"$f":"AJ13/(AL4-AJ14)","v":0},{"$f":"IF(AK13=0,0,(AK13*((LOG(AK13))/LOG(2))))","v":0},null,{"$f":"N13","v":221},{"$f":"COUNTIF(L68:L83,AN13)","v":0},{"$f":"AO13/(AQ4-AO14)","v":{"$error":"#DIV/0!"}},{"$f":"IF(AP13=0,0,(AP13*((LOG(AP13))/LOG(2))))","v":{"$error":"#DIV/0!"}},null,{"$f":"N13","v":221},{"$f":"COUNTIF(L84:L98,AS13)","v":0},{"$f":"AT13/(AV4-AT14)","v":{"$error":"#DIV/0!"}},{"$f":"IF(AU13=0,0,(AU13*((LOG(AU13))/LOG(2))))","v":{"$error":"#DIV/0!"}}]
[12,1471,14,1549,14,1555,null,null,null,null,0,111,null,222,{"$f":"COUNTIF($L$7:$L$500,N14)","v":39},{"$f":"O14/$Q$4","v":0.42391304347826086},{"$f":"IF(P14=0,0,(P14*((LOG(P14))/LOG(2))))","v":-0.52487206250647633},null,null,{"$f":"N14","v":222},{"$f":"COUNTIF(L7:L21,T14)","v":0},null,null,null,{"$f":"N14","v":222},{"$f":"COUNTIF(L22:L37,Y14)","v":0},null,null,null,{"$f":"N14","v":222},{"$f":"COUNTIF(L38:L52,AD14)","v":0},null,null,null,{"$f":"N14","v":222},{"$f":"COUNTIF(L53:L67,AI14)","v":8},null,null,null,{"$f":"N14","v":222},{"$f":"COUNTIF(L68:L83,AN14)","v":16},null,null,null,{"$f":"N14","v":222},{"$f":"COUNTIF(L84:L98,AS14)","v":15}]
[12,1654,14,1717,14,1722,null,null,null,null,0,111,null,null,null,{"$f":"SUM(P7:P14)","v":1},{"$f":"-SUM(Q7:Q14)","v":1.3801232325300929},null,null,null,null,{"$f":"SUM(V7:V14)","v":1},{"$f":"-SUM(W7:W14)","v":0.69984283988623863},null,null,null,{"$f":"SUM(AA7:AA14)","v":1},{"$f":"-SUM(AB7:AB14)","v":0.33729006661701388},null,null,null,{"$f":"SUM(AF7:AF14)","v":1},{"$f":"-SUM(AG7:AG14)","v":0},null,null,null,{"$f":"SUM(AK7:AK14)","v":0.99999999999999978},{"$f":"-SUM(AL7:AL14)","v":1.6644977792004614},null,null,null,{"$f":"SUM(AP7:AP14)","v":{"$error":"#DIV/0!"}},{"$f":"-SUM(AQ7:AQ14)","v":{"$error":"#DIV/0!"}},null,null,null,{"$f":"SUM(AU7:AU14)","v":{"$error":"#DIV/0!"}},{"$f":"-SUM(AV7:AV14)","v":{"$error":"#DIV/0!"}}]
[12,1886,14,1892,14,1898,null,null,null,null,0,111,null,null,null,"U=",{"$f":"Q15/(LOG(Q4)/LOG(2))","v":0.2115597647154516},null,null,null,null,"U1=",{"$f":"W15/(LOG(W4)/LOG(2))","v":0.17913039097457359},null,null,null,"U2=",{"$f":"AB15/(LOG(AB4)/LOG(2))","v":8.4322516654253471E-2},null,null,null,"U3=",{"$f":"AG15/(LOG(AG4)/LOG(2))","v":0},null,null,null,"U4=",{"$f":"AL15/(LOG(AL4)/LOG(2))","v":0.42604156386447445},null,null,null,"U5=",{"$f":"AQ15/(LOG(AQ4)/LOG(2))","v":{"$error":"#DIV/0!"}},null,null,null,"U6=",{"$f":"AV15/(LOG(AV4)/LOG(2))","v":{"$error":"#DIV/0!"}}]
[12,2044,14,2049,14,2057,null,null,null,null,0,111]
[12,2161,14,2196,14,2206,null,null,null,null,0,111]
[12,2311,14,2370,14,2378,null,null,null,null,0,111,null,"Total Target Seq"]
[12,2474,14,2497,14,2505,null,null,null,null,0,111,null,{"$f":"COUNTIF(L7:L98,G3)","v":39},null,15,16,15,15,16,15]
[12,2631,14,2637,14,2644,null,null,null,null,0,111,null,null,null,"% of reinforcement given in 6 equal intervals based on number of trials "]
[12,2753,14,2784,14,2791,null,null,null,null,0,111,null,null,null,"%_1","%_2","%_3","%_4","%_5","%_6"]
[12,2969,14,2974,14,3016,null,null,null,null,0,111,null,null,"target sequence",{"$f":"$G$3","v":222},{"$f":"$G$3","v":222},{"$f":"$G$3","v":222},{"$f":"$G$3","v":222},{"$f":"$G$3","v":222},{"$f":"$G$3","v":222}]
[12,3140,14,3146,14,3172,null,null,null,null,0,111,null,null,"total reinforcement",{"$f":"U14","v":0},{"$f":"Z14","v":0},{"$f":"AE14","v":0},{"$f":"AJ14","v":8},{"$f":"AO14","v":16},{"$f":"AT14","v":15}]
[12,3300,14,3307,14,3315,null,null,null,null,0,111,null,null,"% target"]
[12,3422,14,3462,14,3467,null,null,null,null,0,111,null,null,"CCRF"]
[12,3616,14,3622,14,3629,null,null,null,null,0,111,null,null,"% CCRf"]
[12,3765,14,3773,14,3781,null,null,null,null,0,111,null,null,"average response rate",{"$f":"F21/P20","v":176.26666666666668},{"$f":"(F37-F21)/Q20","v":156.9375},{"$f":"(F52-F37)/R20","v":284.8},{"$f":"(F67-F52)/S20","v":527.4},{"$f":"(F83-F67)/T20","v":204.8125},{"$f":"(F98-F83)/U20","v":215.66666666666666}]
[12,3925,14,3930,14,3938,null,null,null,null,0,111]
[12,4055,14,4072,14,4099,null,null,null,null,0,111]
[12,4221,14,4226,14,4233,null,null,null,null,0,111]
[12,4405,14,4411,14,4419,null,null,null,null,0,111]
[12,4524,14,4530,14,4536,null,null,null,null,0,111]
[12,4655,14,4664,23,4674,null,null,null,null,0,112]
[12,4839,14,4844,14,4852,null,null,null,null,0,111]
[12,4973,14,4978,14,5002,null,null,null,null,0,111]
[12,5123,14,5130,14,5155,null,null,null,null,0,111]
[12,5261,14,5268,14,5310,null,null,null,null,0,111]
[12,5445,14,5467,14,5473,null,null,null,null,0,111]
[12,5572,14,5631,14,5638,null,null,null,null,0,111]
[12,5824,14,5830,14,5837,null,null,null,null,0,111]
[12,6021,14,6027,14,6047,null,null,null,null,0,111]
[12,6239,14,6244,14,6249,null,null,null,null,0,111]
[12,6408,14,6416,14,6439,null,null,null,null,0,111]
[12,6600,14,6605,14,6612,null,null,null,null,0,111]
[12,6770,14,6794,14,6804,null,null,null,null,0,111]
[12,7081,14,7086,14,7094,null,null,null,null,0,111]
[12,7227,14,7232,14,7255,null,null,null,null,0,111]
[12,7474,14,7481,14,7489,null,null,null,null,0,111]
[12,7776,14,7780,14,7787,null,null,null,null,0,111]
[12,8118,14,8124,14,8143,null,null,null,null,0,111]
[12,9404,14,9410,14,9427,null,null,null,null,0,111]
[12,9744,14,9748,14,9755,null,null,null,null,0,111]
[12,9916,14,9922,14,9929,null,null,null,null,0,111]
[12,11807,14,11829,14,11835,null,null,null,null,0,111]
[12,12085,14,12092,14,12100,null,null,null,null,0,111]
[12,12283,14,12289,23,12297,null,null,null,null,0,112]
[12,14614,23,14629,23,14633,null,null,null,null,0,122]
[21,15129,12,15144,14,15149,null,null,null,null,0,211]
[21,15607,21,15614,21,15623,null,null,null,null,0,222]
[21,15981,21,15993,21,16000,null,null,null,null,0,222]
[21,16219,21,16231,21,16237,null,null,null,null,0,222]
[21,16439,21,16445,21,16453,null,null,null,null,0,222]
[21,16677,21,16682,21,16695,null,null,null,null,0,222]
[21,16869,21,16875,21,16880,null,null,null,null,0,222]
[21,17047,21,17060,21,17076,null,null,null,null,0,222]
[21,17326,21,17333,21,17338,null,null,null,null,0,222]
[21,17531,21,17536,21,17543,null,null,null,null,0,222]
[21,17774,21,17779,21,17816,null,null,null,null,0,222]
[21,18062,21,18066,21,18073,null,null,null,null,0,222]
[21,18268,21,18276,21,18285,null,null,null,null,0,222]
[21,18479,21,18481,21,18488,null,null,null,null,0,222]
[21,18654,21,18659,21,18666,null,null,null,null,0,222]
[21,18831,21,18837,21,18843,null,null,null,null,0,222]
[21,19042,21,19050,21,19056,null,null,null,null,0,222]
[21,19235,21,19240,21,19247,null,null,null,null,0,222]
[21,19398,21,19404,21,19409,null,null,null,null,0,222]
[21,19631,21,19637,21,19643,null,null,null,null,0,222]
[21,19808,21,19814,21,19826,null,null,null,null,0,222]
[21,19996,21,20001,21,20006,null,null,null,null,0,222]
[21,20194,21,20198,21,20217,null,null,null,null,0,222]
[21,20413,21,20419,21,20424,null,null,null,null,0,222]
[21,20606,21,20609,21,20615,null,null,null,null,0,222]
[21,20815,21,20823,21,20831,null,null,null,null,0,222]
[21,21077,21,21082,21,21087,null,null,null,null,0,222]
[21,21217,21,21229,21,21235,null,null,null,null,0,222]
[21,21401,21,21404,21,21429,null,null,null,null,0,222]
[21,21658,21,21662,21,21667,null,null,null,null,0,222]
[21,21861,21,21873,21,21901,null,null,null,null,0,222]
[21,22080,21,22096,21,22103,null,null,null,null,0,222]
[21,22311,21,22313,21,22318,null,null,null,null,0,222]
[21,22546,21,22551,21,22556,null,null,null,null,0,222]
[21,22724,21,22727,21,22731,null,null,null,null,0,222]
[21,22979,21,22983,21,22993,null,null,null,null,0,222]
[21,23195,21,23199,21,23204,null,null,null,null,0,222]
[21,23403,21,23411,21,23429,null,null,null,null,0,222]
[21,23629,21,23631,21,23638,null,null,null,null,0,222]
[21,23842,21,23845,21,23850,null,null,null,null,0,222]

{"sheet":"!M415A3D.UST","index":24,"n_rows":46,"n_cols":48,"rows_kept":46,"cut":false,"hidden":false,"merged":[[4,39,4,42],[5,39,5,40],[4,44,4,47],[5,44,5,45],[4,24,4,27],[5,24,5,25],[4,29,4,32],[5,29,5,30],[4,34,4,37],[5,34,5,35],[1,1,1,2],[5,13,5,14],[18,13,18,14],[19,13,19,14],[4,19,4,22],[5,19,5,20]]}
["Report for:!M415A3D.UST"]
["Date:","<date>"]
["Hen:","<hen>",null,null,null,"Correct Sequence",{"$f":"Start!J2","v":222},null,null,null,null,null,null,null,null,"Total Sequences in Data",{"$f":"4994-COUNTBLANK(L7:L5000)","v":40},null,null,null,null,"Total Sequences in Block Data",{"$f":"COUNTA(L7:L13)","v":7},null,null,null,"Total Sequences in Block Data",{"$f":"COUNTA(L14:L19)","v":6},null,null,null,"Total Sequences in Block Data",{"$f":"COUNTA(L20:L26)","v":7},null,null,null,"Total Sequences in Block Data",{"$f":"COUNTA(L27:L33)","v":7},null,null,null,"Total Sequences in Block Data",{"$f":"COUNTA(L34:L39)","v":6},null,null,null,"Total Sequences in Block Data",{"$f":"COUNTA(L40:L46)","v":7}]
[null,null,null,null,null,null,null,null,null,null,null,null,null,null,null,"Total Sequences in Summary",{"$f":"SUM(O7:O14)","v":40},null,null,null,null,"Total Sequences in Block Summary",{"$f":"SUM(U7:U14)","v":7},null,null,null,"Total Sequences in Block Summary",{"$f":"SUM(Z7:Z14)","v":6},null,null,null,"Total Sequences in Block Summary",{"$f":"SUM(AE7:AE14)","v":7},null,null,null,"Total Sequences in Block Summary",{"$f":"SUM(AJ7:AJ14)","v":7},null,null,null,"Total Sequences in Block Summary",{"$f":"SUM(AO7:AO14)","v":6},null,null,null,"Total Sequences in Block Summary",{"$f":"SUM(AT7:AT14)","v":7}]
[null,null,null,null,null,null,null,null,null,null,null,null,null,null,null,null,null,null,null,"Block 1",null,null,null,null,"Block 2",null,null,null,null,"Block 3",null,null,null,null,"Block 4",null,null,null,null,"Block 5",null,null,null,null,"Block 6"]
["Sequence\nComponent\n1","Time\n1","Sequence\nComponent\n2","Time\n2","Sequence\nComponent\n3","Time\n3","Sequence\nComponent\n4","Time\n4","Sequence\nComponent\n5","Time\n5","Correct?\n0=No 1=Yes","Sequence",null,"Frequency",null,"Relative Frequency","Variability",null,null,"Frequency",null,"Relative Frequency","Variability",null,"Frequency",null,"Relative Frequency","Variability",null,"Frequency",null,"Relative Frequency","Variability",null,"Frequency",null,"Relative Frequency","Variability",null,"Frequency",null,"Relative Frequency","Variability",null,"Frequency",null,"Relative Frequency","Variability"]
[21,16,21,25,21,32,null,null,null,null,0,222,null,111,{"$f":"COUNTIF($L$7:$L$500,N7)","v":0},{"$f":"O7/$Q$4","v":0},{"$f":"IF(P7=0,0,(P7*((LOG(P7))/LOG(2))))","v":0},null,null,{"$f":"N7","v":111},{"$f":"COUNTIF(L7:L13,T7)","v":0},{"$f":"U7/(W4-U14)","v":{"$error":"#DIV/0!"}},{"$f":"IF(V7=0,0,(V7*((LOG(V7))/LOG(2))))","v":{"$error":"#DIV/0!"}},null,{"$f":"N7","v":111},{"$f":"COUNTIF(L14:L19,Y7)","v":0},{"$f":"Z7/(AB4-Z14)","v":{"$error":"#DIV/0!"}},{"$f":"IF(AA7=0,0,(AA7*((LOG(AA7))/LOG(2))))","v":{"$error":"#DIV/0!"}},null,{"$f":"N7","v":111},{"$f":"COUNTIF(L20:L26,AD7)","v":0},{"$f":"AE7/(AG4-AE14)","v":{"$error":"#DIV/0!"}},{"$f":"IF(AF7=0,0,(AF7*((LOG(AF7))/LOG(2))))","v":{"$error":"#DIV/0!"}},null,{"$f":"N7","v":111},{"$f":"COUNTIF(L27:L33,AI7)","v":0},{"$f":"AJ7/(AL4-AJ14)","v":{"$error":"#DIV/0!"}},{"$f":"IF(AK7=0,0,(AK7*((LOG(AK7))/LOG(2))))","v":{"$error":"#DIV/0!"}},null,{"$f":"N7","v":111},{"$f":"COUNTIF(L34:L39,AN7)","v":0},{"$f":"AO7/(AQ4-AO14)","v":{"$error":"#DIV/0!"}},{"$f":"IF(AP7=0,0,(AP7*((LOG(AP7))/LOG(2))))","v":{"$error":"#DIV/0!"}},null,{"$f":"N7","v":111},{"$f":"COUNTIF(L40:L46,AS7)","v":0},{"$f":"AT7/(AV4-AT14)","v":{"$error":"#DIV/0!"}},{"$f":"IF(AU7=0,0,(AU7*((LOG(AU7))/LOG(2))))","v":{"$error":"#DIV/0!"}}]
[21,200,21,205,21,211,null,null,null,null,0,222,null,112,{"$f":"COUNTIF($L$7:$L$500,N8)","v":0},{"$f":"O8/$Q$4","v":0},{"$f":"IF(P8=0,0,(P8*((LOG(P8))/LOG(2))))","v":0},null,null,{"$f":"N8","v":112},{"$f":"COUNTIF(L7:L13,T8)","v":0},{"$f":"U8/(W4-U14)","v":{"$error":"#DIV/0!"}},{"$f":"IF(V8=0,0,(V8*((LOG(V8))/LOG(2))))","v":{"$error":"#DIV/0!"}},null,{"$f":"N8","v":112},{"$f":"COUNTIF(L14:L19,Y8)","v":0},{"$f":"Z8/(AB4-Z14)","v":{"$error":"#DIV/0!"}},{"$f":"IF(AA8=0,0,(AA8*((LOG(AA8))/LOG(2))))","v":{"$error":"#DIV/0!"}},null,{"$f":"N8","v":112},{"$f":"COUNTIF(L20:L26,AD8)","v":0},{"$f":"AE8/(AG4-AE14)","v":{"$error":"#DIV/0!"}},{"$f":"IF(AF8=0,0,(AF8*((LOG(AF8))/LOG(2))))","v":{"$error":"#DIV/0!"}},null,{"$f":"N8","v":112},{"$f":"COUNTIF(L27:L33,AI8)","v":0},{"$f":"AJ8/(AL4-AJ14)","v":{"$error":"#DIV/0!"}},{"$f":"IF(AK8=0,0,(AK8*((LOG(AK8))/LOG(2))))","v":{"$error":"#DIV/0!"}},null,{"$f":"N8","v":112},{"$f":"COUNTIF(L34:L39,AN8)","v":0},{"$f":"AO8/(AQ4-AO14)","v":{"$error":"#DIV/0!"}},{"$f":"IF(AP8=0,0,(AP8*((LOG(AP8))/LOG(2))))","v":{"$error":"#DIV/0!"}},null,{"$f":"N8","v":112},{"$f":"COUNTIF(L40:L46,AS8)","v":0},{"$f":"AT8/(AV4-AT14)","v":{"$error":"#DIV/0!"}},{"$f":"IF(AU8=0,0,(AU8*((LOG(AU8))/LOG(2))))","v":{"$error":"#DIV/0!"}}]
[21,369,21,378,21,380,null,null,null,null,0,222,null,121,{"$f":"COUNTIF($L$7:$L$500,N9)","v":0},{"$f":"O9/$Q$4","v":0},{"$f":"IF(P9=0,0,(P9*((LOG(P9))/LOG(2))))","v":0},null,null,{"$f":"N9","v":121},{"$f":"COUNTIF(L7:L13,T9)","v":0},{"$f":"U9/(W4-U14)","v":{"$error":"#DIV/0!"}},{"$f":"IF(V9=0,0,(V9*((LOG(V9))/LOG(2))))","v":{"$error":"#DIV/0!"}},null,{"$f":"N9","v":121},{"$f":"COUNTIF(L14:L19,Y9)","v":0},{"$f":"Z9/(AB4-Z14)","v":{"$error":"#DIV/0!"}},{"$f":"IF(AA9=0,0,(AA9*((LOG(AA9))/LOG(2))))","v":{"$error":"#DIV/0!"}},null,{"$f":"N9","v":121},{"$f":"COUNTIF(L20:L26,AD9)","v":0},{"$f":"AE9/(AG4-AE14)","v":{"$error":"#DIV/0!"}},{"$f":"IF(AF9=0,0,(AF9*((LOG(AF9))/LOG(2))))","v":{"$error":"#DIV/0!"}},null,{"$f":"N9","v":121},{"$f":"COUNTIF(L27:L33,AI9)","v":0},{"$f":"AJ9/(AL4-AJ14)","v":{"$error":"#DIV/0!"}},{"$f":"IF(AK9=0,0,(AK9*((LOG(AK9))/LOG(2))))","v":{"$error":"#DIV/0!"}},null,{"$f":"N9","v":121},{"$f":"COUNTIF(L34:L39,AN9)","v":0},{"$f":"AO9/(AQ4-AO14)","v":{"$error":"#DIV/0!"}},{"$f":"IF(AP9=0,0,(AP9*((LOG(AP9))/LOG(2))))","v":{"$error":"#DIV/0!"}},null,{"$f":"N9","v":121},{"$f":"COUNTIF(L40:L46,AS9)","v":0},{"$f":"AT9/(AV4-AT14)","v":{"$error":"#DIV/0!"}},{"$f":"IF(AU9=0,0,(AU9*((LOG(AU9))/LOG(2))))","v":{"$error":"#DIV/0!"}}]
[21,510,21,513,21,518,null,null,null,null,0,222,null,122,{"$f":"COUNTIF($L$7:$L$500,N10)","v":0},{"$f":"O10/$Q$4","v":0},{"$f":"IF(P10=0,0,(P10*((LOG(P10))/LOG(2))))","v":0},null,null,{"$f":"N10","v":122},{"$f":"COUNTIF(L7:L13,T10)","v":0},{"$f":"U10/(W4-U14)","v":{"$error":"#DIV/0!"}},{"$f":"IF(V10=0,0,(V10*((LOG(V10))/LOG(2))))","v":{"$error":"#DIV/0!"}},null,{"$f":"N10","v":122},{"$f":"COUNTIF(L14:L19,Y10)","v":0},{"$f":"Z10/(AB4-Z14)","v":{"$error":"#DIV/0!"}},{"$f":"IF(AA10=0,0,(AA10*((LOG(AA10))/LOG(2))))","v":{"$error":"#DIV/0!"}},null,{"$f":"N10","v":122},{"$f":"COUNTIF(L20:L26,AD10)","v":0},{"$f":"AE10/(AG4-AE14)","v":{"$error":"#DIV/0!"}},{"$f":"IF(AF10=0,0,(AF10*((LOG(AF10))/LOG(2))))","v":{"$error":"#DIV/0!"}},null,{"$f":"N10","v":122},{"$f":"COUNTIF(L27:L33,AI10)","v":0},{"$f":"AJ10/(AL4-AJ14)","v":{"$error":"#DIV/0!"}},{"$f":"IF(AK10=0,0,(AK10*((LOG(AK10))/LOG(2))))","v":{"$error":"#DIV/0!"}},null,{"$f":"N10","v":122},{"$f":"COUNTIF(L34:L39,AN10)","v":0},{"$f":"AO10/(AQ4-AO14)","v":{"$error":"#DIV/0!"}},{"$f":"IF(AP10=0,0,(AP10*((LOG(AP10))/LOG(2))))","v":{"$error":"#DIV/0!"}},null,{"$f":"N10","v":122},{"$f":"COUNTIF(L40:L46,AS10)","v":0},{"$f":"AT10/(AV4-AT14)","v":{"$error":"#DIV/0!"}},{"$f":"IF(AU10=0,0,(AU10*((LOG(AU10))/LOG(2))))","v":{"$error":"#DIV/0!"}}]
[21,709,21,715,21,721,null,null,null,null,0,222,null,211,{"$f":"COUNTIF($L$7:$L$500,N11)","v":0},{"$f":"O11/$Q$4","v":0},{"$f":"IF(P11=0,0,(P11*((LOG(P11))/LOG(2))))","v":0},null,null,{"$f":"N11","v":211},{"$f":"COUNTIF(L7:L13,T11)","v":0},{"$f":"U11/(W4-U14)","v":{"$error":"#DIV/0!"}},{"$f":"IF(V11=0,0,(V11*((LOG(V11))/LOG(2))))","v":{"$error":"#DIV/0!"}},null,{"$f":"N11","v":211},{"$f":"COUNTIF(L14:L19,Y11)","v":0},{"$f":"Z11/(AB4-Z14)","v":{"$error":"#DIV/0!"}},{"$f":"IF(AA11=0,0,(AA11*((LOG(AA11))/LOG(2))))","v":{"$error":"#DIV/0!"}},null,{"$f":"N11","v":211},{"$f":"COUNTIF(L20:L26,AD11)","v":0},{"$f":"AE11/(AG4-AE14)","v":{"$error":"#DIV/0!"}},{"$f":"IF(AF11=0,0,(AF11*((LOG(AF11))/LOG(2))))","v":{"$error":"#DIV/0!"}},null,{"$f":"N11","v":211},{"$f":"COUNTIF(L27:L33,AI11)","v":0},{"$f":"AJ11/(AL4-AJ14)","v":{"$error":"#DIV/0!"}},{"$f":"IF(AK11=0,0,(AK11*((LOG(AK11))/LOG(2))))","v":{"$error":"#DIV/0!"}},null,{"$f":"N11","v":211},{"$f":"COUNTIF(L34:L39,AN11)","v":0},{"$f":"AO11/(AQ4-AO14)","v":{"$error":"#DIV/0!"}},{"$f":"IF(AP11=0,0,(AP11*((LOG(AP11))/LOG(2))))","v":{"$error":"#DIV/0!"}},null,{"$f":"N11","v":211},{"$f":"COUNTIF(L40:L46,AS11)","v":0},{"$f":"AT11/(AV4-AT14)","v":{"$error":"#DIV/0!"}},{"$f":"IF(AU11=0,0,(AU11*((LOG(AU11))/LOG(2))))","v":{"$error":"#DIV/0!"}}]
[21,878,21,882,21,889,null,null,null,null,0,222,null,212,{"$f":"COUNTIF($L$7:$L$500,N12)","v":0},{"$f":"O12/$Q$4","v":0},{"$f":"IF(P12=0,0,(P12*((LOG(P12))/LOG(2))))","v":0},null,null,{"$f":"N12","v":212},{"$f":"COUNTIF(L7:L13,T12)","v":0},{"$f":"U12/(W4-U14)","v":{"$error":"#DIV/0!"}},{"$f":"IF(V12=0,0,(V12*((LOG(V12))/LOG(2))))","v":{"$error":"#DIV/0!"}},null,{"$f":"N12","v":212},{"$f":"COUNTIF(L14:L19,Y12)","v":0},{"$f":"Z12/(AB4-Z14)","v":{"$error":"#DIV/0!"}},{"$f":"IF(AA12=0,0,(AA12*((LOG(AA12))/LOG(2))))","v":{"$error":"#DIV/0!"}},null,{"$f":"N12","v":212},{"$f":"COUNTIF(L20:L26,AD12)","v":0},{"$f":"AE12/(AG4-AE14)","v":{"$error":"#DIV/0!"}},{"$f":"IF(AF12=0,0,(AF12*((LOG(AF12))/LOG(2))))","v":{"$error":"#DIV/0!"}},null,{"$f":"N12","v":212},{"$f":"COUNTIF(L27:L33,AI12)","v":0},{"$f":"AJ12/(AL4-AJ14)","v":{"$error":"#DIV/0!"}},{"$f":"IF(AK12=0,0,(AK12*((LOG(AK12))/LOG(2))))","v":{"$error":"#DIV/0!"}},null,{"$f":"N12","v":212},{"$f":"COUNTIF(L34:L39,AN12)","v":0},{"$f":"AO12/(AQ4-AO14)","v":{"$error":"#DIV/0!"}},{"$f":"IF(AP12=0,0,(AP12*((LOG(AP12))/LOG(2))))","v":{"$error":"#DIV/0!"}},null,{"$f":"N12","v":212},{"$f":"COUNTIF(L40:L46,AS12)","v":0},{"$f":"AT12/(AV4-AT14)","v":{"$error":"#DIV/0!"}},{"$f":"IF(AU12=0,0,(AU12*((LOG(AU12))/LOG(2))))","v":{"$error":"#DIV/0!"}}]
[21,1020,21,1022,21,1028,null,null,null,null,0,222,null,221,{"$f":"COUNTIF($L$7:$L$500,N13)","v":0},{"$f":"O13/$Q$4","v":0},{"$f":"IF(P13=0,0,(P13*((LOG(P13))/LOG(2))))","v":0},null,null,{"$f":"N13","v":221},{"$f":"COUNTIF(L7:L13,T13)","v":0},{"$f":"U13/(W4-U14)","v":{"$error":"#DIV/0!"}},{"$f":"IF(V13=0,0,(V13*((LOG(V13))/LOG(2))))","v":{"$error":"#DIV/0!"}},null,{"$f":"N13","v":221},{"$f":"COUNTIF(L14:L19,Y13)","v":0},{"$f":"Z13/(AB4-Z14)","v":{"$error":"#DIV/0!"}},{"$f":"IF(AA13=0,0,(AA13*((LOG(AA13))/LOG(2))))","v":{"$error":"#DIV/0!"}},null,{"$f":"N13","v":221},{"$f":"COUNTIF(L20:L26,AD13)","v":0},{"$f":"AE13/(AG4-AE14)","v":{"$error":"#DIV/0!"}},{"$f":"IF(AF13=0,0,(AF13*((LOG(AF13))/LOG(2))))","v":{"$error":"#DIV/0!"}},null,{"$f":"N13","v":221},{"$f":"COUNTIF(L27:L33,AI13)","v":0},{"$f":"AJ13/(AL4-AJ14)","v":{"$error":"#DIV/0!"}},{"$f":"IF(AK13=0,0,(AK13*((LOG(AK13))/LOG(2))))","v":{"$error":"#DIV/0!"}},null,{"$f":"N13","v":221},{"$f":"COUNTIF(L34:L39,AN13)","v":0},{"$f":"AO13/(AQ4-AO14)","v":{"$error":"#DIV/0!"}},{"$f":"IF(AP13=0,0,(AP13*((LOG(AP13))/LOG(2))))","v":{"$error":"#DIV/0!"}},null,{"$f":"N13","v":221},{"$f":"COUNTIF(L40:L46,AS13)","v":0},{"$f":"AT13/(AV4-AT14)","v":{"$error":"#DIV/0!"}},{"$f":"IF(AU13=0,0,(AU13*((LOG(AU13))/LOG(2))))","v":{"$error":"#DIV/0!"}}]
[21,1147,21,1154,21,1163,null,null,null,null,0,222,null,222,{"$f":"COUNTIF($L$7:$L$500,N14)","v":40},{"$f":"O14/$Q$4","v":1},{"$f":"IF(P14=0,0,(P14*((LOG(P14))/LOG(2))))","v":0},null,null,{"$f":"N14","v":222},{"$f":"COUNTIF(L7:L13,T14)","v":7},null,null,null,{"$f":"N14","v":222},{"$f":"COUNTIF(L14:L19,Y14)","v":6},null,null,null,{"$f":"N14","v":222},{"$f":"COUNTIF(L20:L26,AD14)","v":7},null,null,null,{"$f":"N14","v":222},{"$f":"COUNTIF(L27:L33,AI14)","v":7},null,null,null,{"$f":"N14","v":222},{"$f":"COUNTIF(L34:L39,AN14)","v":6},null,null,null,{"$f":"N14","v":222},{"$f":"COUNTIF(L40:L46,AS14)","v":7}]
[21,1347,21,1352,21,1359,null,null,null,null,0,222,null,null,null,{"$f":"SUM(P7:P14)","v":1},{"$f":"-SUM(Q7:Q14)","v":0},null,null,null,null,{"$f":"SUM(V7:V14)","v":{"$error":"#DIV/0!"}},{"$f":"-SUM(W7:W14)","v":{"$error":"#DIV/0!"}},null,null,null,{"$f":"SUM(AA7:AA14)","v":{"$error":"#DIV/0!"}},{"$f":"-SUM(AB7:AB14)","v":{"$error":"#DIV/0!"}},null,null,null,{"$f":"SUM(AF7:AF14)","v":{"$error":"#DIV/0!"}},{"$f":"-SUM(AG7:AG14)","v":{"$error":"#DIV/0!"}},null,null,null,{"$f":"SUM(AK7:AK14)","v":{"$error":"#DIV/0!"}},{"$f":"-SUM(AL7:AL14)","v":{"$error":"#DIV/0!"}},null,null,null,{"$f":"SUM(AP7:AP14)","v":{"$error":"#DIV/0!"}},{"$f":"-SUM(AQ7:AQ14)","v":{"$error":"#DIV/0!"}},null,null,null,{"$f":"SUM(AU7:AU14)","v":{"$error":"#DIV/0!"}},{"$f":"-SUM(AV7:AV14)","v":{"$error":"#DIV/0!"}}]
[21,1560,21,1564,21,1571,null,null,null,null,0,222,null,null,null,"U=",{"$f":"Q15/(LOG(Q4)/LOG(2))","v":0},null,null,null,null,"U1=",{"$f":"W15/(LOG(W4)/LOG(2))","v":{"$error":"#DIV/0!"}},null,null,null,"U2=",{"$f":"AB15/(LOG(AB4)/LOG(2))","v":{"$error":"#DIV/0!"}},null,null,null,"U3=",{"$f":"AG15/(LOG(AG4)/LOG(2))","v":{"$error":"#DIV/0!"}},null,null,null,"U4=",{"$f":"AL15/(LOG(AL4)/LOG(2))","v":{"$error":"#DIV/0!"}},null,null,null,"U5=",{"$f":"AQ15/(LOG(AQ4)/LOG(2))","v":{"$error":"#DIV/0!"}},null,null,null,"U6=",{"$f":"AV15/(LOG(AV4)/LOG(2))","v":{"$error":"#DIV/0!"}}]
[21,1755,21,1757,21,1763,null,null,null,null,0,222]
[21,1986,21,1991,21,1998,null,null,null,null,0,222]
[21,2151,21,2157,21,2164,null,null,null,null,0,222,null,"Total Target Seq"]
[21,2328,21,2333,21,2337,null,null,null,null,0,222,null,{"$f":"COUNTIF(L7:L46,G3)","v":40},null,7,6,7,7,6,7]
[21,2444,21,2450,21,2456,null,null,null,null,0,222,null,null,null,"% of reinforcement given in 6 equal intervals based on number of trials "]
[21,2559,21,2562,21,2570,null,null,null,null,0,222,null,null,null,"%_1","%_2","%_3","%_4","%_5","%_6"]
[21,2735,21,2739,21,2744,null,null,null,null,0,222,null,null,"target sequence",{"$f":"$G$3","v":222},{"$f":"$G$3","v":222},{"$f":"$G$3","v":222},{"$f":"$G$3","v":222},{"$f":"$G$3","v":222},{"$f":"$G$3","v":222}]
[21,2944,21,2950,21,2955,null,null,null,null,0,222,null,null,"total reinforcement",{"$f":"U14","v":7},{"$f":"Z14","v":6},{"$f":"AE14","v":7},{"$f":"AJ14","v":7},{"$f":"AO14","v":6},{"$f":"AT14","v":7}]
[21,3063,21,3066,21,3070,null,null,null,null,0,222,null,null,"% target"]
[21,3234,21,3237,21,3243,null,null,null,null,0,222,null,null,"CCRF"]
[21,3369,21,3373,21,3380,null,null,null,null,0,222,null,null,"% CCRf"]
[21,3511,21,3516,21,3522,null,null,null,null,0,222,null,null,"average response rate",{"$f":"F13/P20","v":146.85714285714286},{"$f":"(F19-F13)/Q20","v":189.33333333333334},{"$f":"(F26-F19)/R20","v":154.14285714285714},{"$f":"(F33-F26)/S20","v":173.71428571428572},{"$f":"(F39-F33)/T20","v":163.5},{"$f":"(F46-F39)/U20","v":210.14285714285714}]
[21,3670,21,3674,21,3679,null,null,null,null,0,222]
[21,3913,21,3918,21,3923,null,null,null,null,0,222]
[21,4074,21,4080,21,4087,null,null,null,null,0,222]
[21,4322,21,4326,21,4332,null,null,null,null,0,222]
[21,4453,21,4458,21,4459,null,null,null,null,0,222]
[21,4602,21,4613,21,4620,null,null,null,null,0,222]
[21,4764,21,4768,21,4774,null,null,null,null,0,222]
[21,4928,21,4933,21,4938,null,null,null,null,0,222]
[21,5101,21,5106,21,5111,null,null,null,null,0,222]
[21,5283,21,5294,21,5300,null,null,null,null,0,222]
[21,5429,21,5435,21,5440,null,null,null,null,0,222]
[21,5667,21,5679,21,5686,null,null,null,null,0,222]
[21,5862,21,5865,21,5871,null,null,null,null,0,222]
[21,6089,21,6097,21,6102,null,null,null,null,0,222]
[21,6250,21,6255,21,6259,null,null,null,null,0,222]
[21,6411,21,6419,21,6428,null,null,null,null,0,222]
[21,6747,21,6754,21,6761,null,null,null,null,0,222]
[21,6901,21,6905,21,6911,null,null,null,null,1,222]

{"sheet":"!M416B2D.UST","index":25,"n_rows":46,"n_cols":48,"rows_kept":46,"cut":false,"hidden":false,"merged":[[4,39,4,42],[5,39,5,40],[4,44,4,47],[5,44,5,45],[4,24,4,27],[5,24,5,25],[4,29,4,32],[5,29,5,30],[4,34,4,37],[5,34,5,35],[1,1,1,2],[5,13,5,14],[18,13,18,14],[19,13,19,14],[4,19,4,22],[5,19,5,20]]}
["Report for:!M416B2D.UST"]
["Date:","<date>"]
["Hen:","<hen>",null,null,null,"Correct Sequence",{"$f":"Start!J2","v":222},null,null,null,null,null,null,null,null,"Total Sequences in Data",{"$f":"4994-COUNTBLANK(L7:L5000)","v":40},null,null,null,null,"Total Sequences in Block Data",{"$f":"COUNTA(L7:L13)","v":7},null,null,null,"Total Sequences in Block Data",{"$f":"COUNTA(L14:L19)","v":6},null,null,null,"Total Sequences in Block Data",{"$f":"COUNTA(L20:L26)","v":7},null,null,null,"Total Sequences in Block Data",{"$f":"COUNTA(L27:L33)","v":7},null,null,null,"Total Sequences in Block Data",{"$f":"COUNTA(L34:L39)","v":6},null,null,null,"Total Sequences in Block Data",{"$f":"COUNTA(L40:L46)","v":7}]
[null,null,null,null,null,null,null,null,null,null,null,null,null,null,null,"Total Sequences in Summary",{"$f":"SUM(O7:O14)","v":40},null,null,null,null,"Total Sequences in Block Summary",{"$f":"SUM(U7:U14)","v":7},null,null,null,"Total Sequences in Block Summary",{"$f":"SUM(Z7:Z14)","v":6},null,null,null,"Total Sequences in Block Summary",{"$f":"SUM(AE7:AE14)","v":7},null,null,null,"Total Sequences in Block Summary",{"$f":"SUM(AJ7:AJ14)","v":7},null,null,null,"Total Sequences in Block Summary",{"$f":"SUM(AO7:AO14)","v":6},null,null,null,"Total Sequences in Block Summary",{"$f":"SUM(AT7:AT14)","v":7}]
[null,null,null,null,null,null,null,null,null,null,null,null,null,null,null,null,null,null,null,"Block 1",null,null,null,null,"Block 2",null,null,null,null,"Block 3",null,null,null,null,"Block 4",null,null,null,null,"Block 5",null,null,null,null,"Block 6"]
["Sequence\nComponent\n1","Time\n1","Sequence\nComponent\n2","Time\n2","Sequence\nComponent\n3","Time\n3","Sequence\nComponent\n4","Time\n4","Sequence\nComponent\n5","Time\n5","Correct?\n0=No 1=Yes","Sequence",null,"Frequency",null,"Relative Frequency","Variability",null,null,"Frequency",null,"Relative Frequency","Variability",null,"Frequency",null,"Relative Frequency","Variability",null,"Frequency",null,"Relative Frequency","Variability",null,"Frequency",null,"Relative Frequency","Variability",null,"Frequency",null,"Relative Frequency","Variability",null,"Frequency",null,"Relative Frequency","Variability"]
[21,25,21,29,21,36,null,null,null,null,0,222,null,111,{"$f":"COUNTIF($L$7:$L$500,N7)","v":0},{"$f":"O7/$Q$4","v":0},{"$f":"IF(P7=0,0,(P7*((LOG(P7))/LOG(2))))","v":0},null,null,{"$f":"N7","v":111},{"$f":"COUNTIF(L7:L13,T7)","v":0},{"$f":"U7/(W4-U14)","v":{"$error":"#DIV/0!"}},{"$f":"IF(V7=0,0,(V7*((LOG(V7))/LOG(2))))","v":{"$error":"#DIV/0!"}},null,{"$f":"N7","v":111},{"$f":"COUNTIF(L14:L19,Y7)","v":0},{"$f":"Z7/(AB4-Z14)","v":{"$error":"#DIV/0!"}},{"$f":"IF(AA7=0,0,(AA7*((LOG(AA7))/LOG(2))))","v":{"$error":"#DIV/0!"}},null,{"$f":"N7","v":111},{"$f":"COUNTIF(L20:L26,AD7)","v":0},{"$f":"AE7/(AG4-AE14)","v":{"$error":"#DIV/0!"}},{"$f":"IF(AF7=0,0,(AF7*((LOG(AF7))/LOG(2))))","v":{"$error":"#DIV/0!"}},null,{"$f":"N7","v":111},{"$f":"COUNTIF(L27:L33,AI7)","v":0},{"$f":"AJ7/(AL4-AJ14)","v":{"$error":"#DIV/0!"}},{"$f":"IF(AK7=0,0,(AK7*((LOG(AK7))/LOG(2))))","v":{"$error":"#DIV/0!"}},null,{"$f":"N7","v":111},{"$f":"COUNTIF(L34:L39,AN7)","v":0},{"$f":"AO7/(AQ4-AO14)","v":{"$error":"#DIV/0!"}},{"$f":"IF(AP7=0,0,(AP7*((LOG(AP7))/LOG(2))))","v":{"$error":"#DIV/0!"}},null,{"$f":"N7","v":111},{"$f":"COUNTIF(L40:L46,AS7)","v":0},{"$f":"AT7/(AV4-AT14)","v":{"$error":"#DIV/0!"}},{"$f":"IF(AU7=0,0,(AU7*((LOG(AU7))/LOG(2))))","v":{"$error":"#DIV/0!"}}]
[21,178,21,182,21,187,null,null,null,null,0,222,null,112,{"$f":"COUNTIF($L$7:$L$500,N8)","v":0},{"$f":"O8/$Q$4","v":0},{"$f":"IF(P8=0,0,(P8*((LOG(P8))/LOG(2))))","v":0},null,null,{"$f":"N8","v":112},{"$f":"COUNTIF(L7:L13,T8)","v":0},{"$f":"U8/(W4-U14)","v":{"$error":"#DIV/0!"}},{"$f":"IF(V8=0,0,(V8*((LOG(V8))/LOG(2))))","v":{"$error":"#DIV/0!"}},null,{"$f":"N8","v":112},{"$f":"COUNTIF(L14:L19,Y8)","v":0},{"$f":"Z8/(AB4-Z14)","v":{"$error":"#DIV/0!"}},{"$f":"IF(AA8=0,0,(AA8*((LOG(AA8))/LOG(2))))","v":{"$error":"#DIV/0!"}},null,{"$f":"N8","v":112},{"$f":"COUNTIF(L20:L26,AD8)","v":0},{"$f":"AE8/(AG4-AE14)","v":{"$error":"#DIV/0!"}},{"$f":"IF(AF8=0,0,(AF8*((LOG(AF8))/LOG(2))))","v":{"$error":"#DIV/0!"}},null,{"$f":"N8","v":112},{"$f":"COUNTIF(L27:L33,AI8)","v":0},{"$f":"AJ8/(AL4-AJ14)","v":{"$error":"#DIV/0!"}},{"$f":"IF(AK8=0,0,(AK8*((LOG(AK8))/LOG(2))))","v":{"$error":"#DIV/0!"}},null,{"$f":"N8","v":112},{"$f":"COUNTIF(L34:L39,AN8)","v":0},{"$f":"AO8/(AQ4-AO14)","v":{"$error":"#DIV/0!"}},{"$f":"IF(AP8=0,0,(AP8*((LOG(AP8))/LOG(2))))","v":{"$error":"#DIV/0!"}},null,{"$f":"N8","v":112},{"$f":"COUNTIF(L40:L46,AS8)","v":0},{"$f":"AT8/(AV4-AT14)","v":{"$error":"#DIV/0!"}},{"$f":"IF(AU8=0,0,(AU8*((LOG(AU8))/LOG(2))))","v":{"$error":"#DIV/0!"}}]
[21,330,21,335,21,342,null,null,null,null,0,222,null,121,{"$f":"COUNTIF($L$7:$L$500,N9)","v":0},{"$f":"O9/$Q$4","v":0},{"$f":"IF(P9=0,0,(P9*((LOG(P9))/LOG(2))))","v":0},null,null,{"$f":"N9","v":121},{"$f":"COUNTIF(L7:L13,T9)","v":0},{"$f":"U9/(W4-U14)","v":{"$error":"#DIV/0!"}},{"$f":"IF(V9=0,0,(V9*((LOG(V9))/LOG(2))))","v":{"$error":"#DIV/0!"}},null,{"$f":"N9","v":121},{"$f":"COUNTIF(L14:L19,Y9)","v":0},{"$f":"Z9/(AB4-Z14)","v":{"$error":"#DIV/0!"}},{"$f":"IF(AA9=0,0,(AA9*((LOG(AA9))/LOG(2))))","v":{"$error":"#DIV/0!"}},null,{"$f":"N9","v":121},{"$f":"COUNTIF(L20:L26,AD9)","v":0},{"$f":"AE9/(AG4-AE14)","v":{"$error":"#DIV/0!"}},{"$f":"IF(AF9=0,0,(AF9*((LOG(AF9))/LOG(2))))","v":{"$error":"#DIV/0!"}},null,{"$f":"N9","v":121},{"$f":"COUNTIF(L27:L33,AI9)","v":0},{"$f":"AJ9/(AL4-AJ14)","v":{"$error":"#DIV/0!"}},{"$f":"IF(AK9=0,0,(AK9*((LOG(AK9))/LOG(2))))","v":{"$error":"#DIV/0!"}},null,{"$f":"N9","v":121},{"$f":"COUNTIF(L34:L39,AN9)","v":0},{"$f":"AO9/(AQ4-AO14)","v":{"$error":"#DIV/0!"}},{"$f":"IF(AP9=0,0,(AP9*((LOG(AP9))/LOG(2))))","v":{"$error":"#DIV/0!"}},null,{"$f":"N9","v":121},{"$f":"COUNTIF(L40:L46,AS9)","v":0},{"$f":"AT9/(AV4-AT14)","v":{"$error":"#DIV/0!"}},{"$f":"IF(AU9=0,0,(AU9*((LOG(AU9))/LOG(2))))","v":{"$error":"#DIV/0!"}}]
[21,522,21,527,21,533,null,null,null,null,0,222,null,122,{"$f":"COUNTIF($L$7:$L$500,N10)","v":0},{"$f":"O10/$Q$4","v":0},{"$f":"IF(P10=0,0,(P10*((LOG(P10))/LOG(2))))","v":0},null,null,{"$f":"N10","v":122},{"$f":"COUNTIF(L7:L13,T10)","v":0},{"$f":"U10/(W4-U14)","v":{"$error":"#DIV/0!"}},{"$f":"IF(V10=0,0,(V10*((LOG(V10))/LOG(2))))","v":{"$error":"#DIV/0!"}},null,{"$f":"N10","v":122},{"$f":"COUNTIF(L14:L19,Y10)","v":0},{"$f":"Z10/(AB4-Z14)","v":{"$error":"#DIV/0!"}},{"$f":"IF(AA10=0,0,(AA10*((LOG(AA10))/LOG(2))))","v":{"$error":"#DIV/0!"}},null,{"$f":"N10","v":122},{"$f":"COUNTIF(L20:L26,AD10)","v":0},{"$f":"AE10/(AG4-AE14)","v":{"$error":"#DIV/0!"}},{"$f":"IF(AF10=0,0,(AF10*((LOG(AF10))/LOG(2))))","v":{"$error":"#DIV/0!"}},null,{"$f":"N10","v":122},{"$f":"COUNTIF(L27:L33,AI10)","v":0},{"$f":"AJ10/(AL4-AJ14)","v":{"$error":"#DIV/0!"}},{"$f":"IF(AK10=0,0,(AK10*((LOG(AK10))/LOG(2))))","v":{"$error":"#DIV/0!"}},null,{"$f":"N10","v":122},{"$f":"COUNTIF(L34:L39,AN10)","v":0},{"$f":"AO10/(AQ4-AO14)","v":{"$error":"#DIV/0!"}},{"$f":"IF(AP10=0,0,(AP10*((LOG(AP10))/LOG(2))))","v":{"$error":"#DIV/0!"}},null,{"$f":"N10","v":122},{"$f":"COUNTIF(L40:L46,AS10)","v":0},{"$f":"AT10/(AV4-AT14)","v":{"$error":"#DIV/0!"}},{"$f":"IF(AU10=0,0,(AU10*((LOG(AU10))/LOG(2))))","v":{"$error":"#DIV/0!"}}]
[21,642,21,649,21,655,null,null,null,null,0,222,null,211,{"$f":"COUNTIF($L$7:$L$500,N11)","v":0},{"$f":"O11/$Q$4","v":0},{"$f":"IF(P11=0,0,(P11*((LOG(P11))/LOG(2))))","v":0},null,null,{"$f":"N11","v":211},{"$f":"COUNTIF(L7:L13,T11)","v":0},{"$f":"U11/(W4-U14)","v":{"$error":"#DIV/0!"}},{"$f":"IF(V11=0,0,(V11*((LOG(V11))/LOG(2))))","v":{"$error":"#DIV/0!"}},null,{"$f":"N11","v":211},{"$f":"COUNTIF(L14:L19,Y11)","v":0},{"$f":"Z11/(AB4-Z14)","v":{"$error":"#DIV/0!"}},{"$f":"IF(AA11=0,0,(AA11*((LOG(AA11))/LOG(2))))","v":{"$error":"#DIV/0!"}},null,{"$f":"N11","v":211},{"$f":"COUNTIF(L20:L26,AD11)","v":0},{"$f":"AE11/(AG4-AE14)","v":{"$error":"#DIV/0!"}},{"$f":"IF(AF11=0,0,(AF11*((LOG(AF11))/LOG(2))))","v":{"$error":"#DIV/0!"}},null,{"$f":"N11","v":211},{"$f":"COUNTIF(L27:L33,AI11)","v":0},{"$f":"AJ11/(AL4-AJ14)","v":{"$error":"#DIV/0!"}},{"$f":"IF(AK11=0,0,(AK11*((LOG(AK11))/LOG(2))))","v":{"$error":"#DIV/0!"}},null,{"$f":"N11","v":211},{"$f":"COUNTIF(L34:L39,AN11)","v":0},{"$f":"AO11/(AQ4-AO14)","v":{"$error":"#DIV/0!"}},{"$f":"IF(AP11=0,0,(AP11*((LOG(AP11))/LOG(2))))","v":{"$error":"#DIV/0!"}},null,{"$f":"N11","v":211},{"$f":"COUNTIF(L40:L46,AS11)","v":0},{"$f":"AT11/(AV4-AT14)","v":{"$error":"#DIV/0!"}},{"$f":"IF(AU11=0,0,(AU11*((LOG(AU11))/LOG(2))))","v":{"$error":"#DIV/0!"}}]
[21,884,21,890,21,897,null,null,null,null,0,222,null,212,{"$f":"COUNTIF($L$7:$L$500,N12)","v":0},{"$f":"O12/$Q$4","v":0},{"$f":"IF(P12=0,0,(P12*((LOG(P12))/LOG(2))))","v":0},null,null,{"$f":"N12","v":212},{"$f":"COUNTIF(L7:L13,T12)","v":0},{"$f":"U12/(W4-U14)","v":{"$error":"#DIV/0!"}},{"$f":"IF(V12=0,0,(V12*((LOG(V12))/LOG(2))))","v":{"$error":"#DIV/0!"}},null,{"$f":"N12","v":212},{"$f":"COUNTIF(L14:L19,Y12)","v":0},{"$f":"Z12/(AB4-Z14)","v":{"$error":"#DIV/0!"}},{"$f":"IF(AA12=0,0,(AA12*((LOG(AA12))/LOG(2))))","v":{"$error":"#DIV/0!"}},null,{"$f":"N12","v":212},{"$f":"COUNTIF(L20:L26,AD12)","v":0},{"$f":"AE12/(AG4-AE14)","v":{"$error":"#DIV/0!"}},{"$f":"IF(AF12=0,0,(AF12*((LOG(AF12))/LOG(2))))","v":{"$error":"#DIV/0!"}},null,{"$f":"N12","v":212},{"$f":"COUNTIF(L27:L33,AI12)","v":0},{"$f":"AJ12/(AL4-AJ14)","v":{"$error":"#DIV/0!"}},{"$f":"IF(AK12=0,0,(AK12*((LOG(AK12))/LOG(2))))","v":{"$error":"#DIV/0!"}},null,{"$f":"N12","v":212},{"$f":"COUNTIF(L34:L39,AN12)","v":0},{"$f":"AO12/(AQ4-AO14)","v":{"$error":"#DIV/0!"}},{"$f":"IF(AP12=0,0,(AP12*((LOG(AP12))/LOG(2))))","v":{"$error":"#DIV/0!"}},null,{"$f":"N12","v":212},{"$f":"COUNTIF(L40:L46,AS12)","v":0},{"$f":"AT12/(AV4-AT14)","v":{"$error":"#DIV/0!"}},{"$f":"IF(AU12=0,0,(AU12*((LOG(AU12))/LOG(2))))","v":{"$error":"#DIV/0!"}}]
[21,1087,21,1092,21,1098,null,null,null,null,0,222,null,221,{"$f":"COUNTIF($L$7:$L$500,N13)","v":0},{"$f":"O13/$Q$4","v":0},{"$f":"IF(P13=0,0,(P13*((LOG(P13))/LOG(2))))","v":0},null,null,{"$f":"N13","v":221},{"$f":"COUNTIF(L7:L13,T13)","v":0},{"$f":"U13/(W4-U14)","v":{"$error":"#DIV/0!"}},{"$f":"IF(V13=0,0,(V13*((LOG(V13))/LOG(2))))","v":{"$error":"#DIV/0!"}},null,{"$f":"N13","v":221},{"$f":"COUNTIF(L14:L19,Y13)","v":0},{"$f":"Z13/(AB4-Z14)","v":{"$error":"#DIV/0!"}},{"$f":"IF(AA13=0,0,(AA13*((LOG(AA13))/LOG(2))))","v":{"$error":"#DIV/0!"}},null,{"$f":"N13","v":221},{"$f":"COUNTIF(L20:L26,AD13)","v":0},{"$f":"AE13/(AG4-AE14)","v":{"$error":"#DIV/0!"}},{"$f":"IF(AF13=0,0,(AF13*((LOG(AF13))/LOG(2))))","v":{"$error":"#DIV/0!"}},null,{"$f":"N13","v":221},{"$f":"COUNTIF(L27:L33,AI13)","v":0},{"$f":"AJ13/(AL4-AJ14)","v":{"$error":"#DIV/0!"}},{"$f":"IF(AK13=0,0,(AK13*((LOG(AK13))/LOG(2))))","v":{"$error":"#DIV/0!"}},null,{"$f":"N13","v":221},{"$f":"COUNTIF(L34:L39,AN13)","v":0},{"$f":"AO13/(AQ4-AO14)","v":{"$error":"#DIV/0!"}},{"$f":"IF(AP13=0,0,(AP13*((LOG(AP13))/LOG(2))))","v":{"$error":"#DIV/0!"}},null,{"$f":"N13","v":221},{"$f":"COUNTIF(L40:L46,AS13)","v":0},{"$f":"AT13/(AV4-AT14)","v":{"$error":"#DIV/0!"}},{"$f":"IF(AU13=0,0,(AU13*((LOG(AU13))/LOG(2))))","v":{"$error":"#DIV/0!"}}]
[21,1239,21,1246,21,1252,null,null,null,null,0,222,null,222,{"$f":"COUNTIF($L$7:$L$500,N14)","v":40},{"$f":"O14/$Q$4","v":1},{"$f":"IF(P14=0,0,(P14*((LOG(P14))/LOG(2))))","v":0},null,null,{"$f":"N14","v":222},{"$f":"COUNTIF(L7:L13,T14)","v":7},null,null,null,{"$f":"N14","v":222},{"$f":"COUNTIF(L14:L19,Y14)","v":6},null,null,null,{"$f":"N14","v":222},{"$f":"COUNTIF(L20:L26,AD14)","v":7},null,null,null,{"$f":"N14","v":222},{"$f":"COUNTIF(L27:L33,AI14)","v":7},null,null,null,{"$f":"N14","v":222},{"$f":"COUNTIF(L34:L39,AN14)","v":6},null,null,null,{"$f":"N14","v":222},{"$f":"COUNTIF(L40:L46,AS14)","v":7}]
[21,1484,21,1490,21,1495,null,null,null,null,0,222,null,null,null,{"$f":"SUM(P7:P14)","v":1},{"$f":"-SUM(Q7:Q14)","v":0},null,null,null,null,{"$f":"SUM(V7:V14)","v":{"$error":"#DIV/0!"}},{"$f":"-SUM(W7:W14)","v":{"$error":"#DIV/0!"}},null,null,null,{"$f":"SUM(AA7:AA14)","v":{"$error":"#DIV/0!"}},{"$f":"-SUM(AB7:AB14)","v":{"$error":"#DIV/0!"}},null,null,null,{"$f":"SUM(AF7:AF14)","v":{"$error":"#DIV/0!"}},{"$f":"-SUM(AG7:AG14)","v":{"$error":"#DIV/0!"}},null,null,null,{"$f":"SUM(AK7:AK14)","v":{"$error":"#DIV/0!"}},{"$f":"-SUM(AL7:AL14)","v":{"$error":"#DIV/0!"}},null,null,null,{"$f":"SUM(AP7:AP14)","v":{"$error":"#DIV/0!"}},{"$f":"-SUM(AQ7:AQ14)","v":{"$error":"#DIV/0!"}},null,null,null,{"$f":"SUM(AU7:AU14)","v":{"$error":"#DIV/0!"}},{"$f":"-SUM(AV7:AV14)","v":{"$error":"#DIV/0!"}}]
[21,1699,21,1701,21,1707,null,null,null,null,0,222,null,null,null,"U=",{"$f":"Q15/(LOG(Q4)/LOG(2))","v":0},null,null,null,null,"U1=",{"$f":"W15/(LOG(W4)/LOG(2))","v":{"$error":"#DIV/0!"}},null,null,null,"U2=",{"$f":"AB15/(LOG(AB4)/LOG(2))","v":{"$error":"#DIV/0!"}},null,null,null,"U3=",{"$f":"AG15/(LOG(AG4)/LOG(2))","v":{"$error":"#DIV/0!"}},null,null,null,"U4=",{"$f":"AL15/(LOG(AL4)/LOG(2))","v":{"$error":"#DIV/0!"}},null,null,null,"U5=",{"$f":"AQ15/(LOG(AQ4)/LOG(2))","v":{"$error":"#DIV/0!"}},null,null,null,"U6=",{"$f":"AV15/(LOG(AV4)/LOG(2))","v":{"$error":"#DIV/0!"}}]
[21,1888,21,1892,21,1900,null,null,null,null,0,222]
[21,2085,21,2094,21,2099,null,null,null,null,0,222]
[21,2251,21,2254,21,2260,null,null,null,null,0,222,null,"Total Target Seq"]
[21,2438,21,2440,21,2446,null,null,null,null,0,222,null,{"$f":"COUNTIF(L7:L46,G3)","v":40},null,7,6,7,7,6,7]
[21,2620,21,2626,21,2634,null,null,null,null,0,222,null,null,null,"% of reinforcement given in 6 equal intervals based on number of trials "]
[21,2827,21,2830,21,2835,null,null,null,null,0,222,null,null,null,"%_1","%_2","%_3","%_4","%_5","%_6"]
[21,2997,21,2999,21,3002,null,null,null,null,0,222,null,null,"target sequence",{"$f":"$G$3","v":222},{"$f":"$G$3","v":222},{"$f":"$G$3","v":222},{"$f":"$G$3","v":222},{"$f":"$G$3","v":222},{"$f":"$G$3","v":222}]
[21,3181,21,3188,21,3191,null,null,null,null,0,222,null,null,"total reinforcement",{"$f":"U14","v":7},{"$f":"Z14","v":6},{"$f":"AE14","v":7},{"$f":"AJ14","v":7},{"$f":"AO14","v":6},{"$f":"AT14","v":7}]
[21,3401,21,3411,21,3417,null,null,null,null,0,222,null,null,"% target"]
[21,3606,21,3613,21,3619,null,null,null,null,0,222,null,null,"CCRF"]
[21,3843,21,3847,21,3852,null,null,null,null,0,222,null,null,"% CCRf"]
[21,4082,21,4084,21,4089,null,null,null,null,0,222,null,null,"average response rate",{"$f":"F13/P20","v":156.85714285714286},{"$f":"(F19-F13)/Q20","v":193.66666666666666},{"$f":"(F26-F19)/R20","v":194.14285714285714},{"$f":"(F33-F26)/S20","v":299.14285714285717},{"$f":"(F39-F33)/T20","v":262.33333333333331},{"$f":"(F46-F39)/U20","v":272.85714285714283}]
[21,4278,21,4284,21,4291,null,null,null,null,0,222]
[21,4575,21,4580,21,4586,null,null,null,null,0,222]
[21,5108,21,5113,21,5118,null,null,null,null,0,222]
[21,5426,21,5430,21,5437,null,null,null,null,0,222]
[21,5702,21,5708,21,5713,null,null,null,null,0,222]
[21,5887,21,5890,21,5896,null,null,null,null,0,222]
[21,6102,21,6109,21,6123,null,null,null,null,0,222]
[21,6331,21,6335,21,6341,null,null,null,null,0,222]
[21,6562,21,6567,21,6575,null,null,null,null,0,222]
[21,6861,21,6866,21,6872,null,null,null,null,0,222]
[21,7275,21,7281,21,7287,null,null,null,null,0,222]
[21,7537,21,7542,21,7548,null,null,null,null,0,222]
[21,7786,21,7791,21,7796,null,null,null,null,0,222]
[21,8075,21,8080,21,8090,null,null,null,null,0,222]
[21,8280,21,8284,21,8290,null,null,null,null,0,222]
[21,8588,21,8594,21,8600,null,null,null,null,0,222]
[21,8940,21,8942,21,8948,null,null,null,null,0,222]
[21,9167,21,9173,21,9197,null,null,null,null,1,222]

{"sheet":"!M417A4D.UST","index":26,"n_rows":47,"n_cols":48,"rows_kept":47,"cut":false,"hidden":false,"merged":[[4,39,4,42],[5,39,5,40],[4,44,4,47],[5,44,5,45],[4,24,4,27],[5,24,5,25],[4,29,4,32],[5,29,5,30],[4,34,4,37],[5,34,5,35],[1,1,1,2],[5,13,5,14],[18,13,18,14],[19,13,19,14],[4,19,4,22],[5,19,5,20]]}
["Report for:!M417A4D.UST"]
["Date:","<date>"]
["Hen:","<hen>",null,null,null,"Correct Sequence",{"$f":"Start!J2","v":222},null,null,null,null,null,null,null,null,"Total Sequences in Data",{"$f":"4994-COUNTBLANK(L7:L5000)","v":41},null,null,null,null,"Total Sequences in Block Data",{"$f":"COUNTA(L7:L13)","v":7},null,null,null,"Total Sequences in Block Data",{"$f":"COUNTA(L14:L20)","v":7},null,null,null,"Total Sequences in Block Data",{"$f":"COUNTA(L21:L26)","v":6},null,null,null,"Total Sequences in Block Data",{"$f":"COUNTA(L27:L33)","v":7},null,null,null,"Total Sequences in Block Data",{"$f":"COUNTA(L34:L40)","v":7},null,null,null,"Total Sequences in Block Data",{"$f":"COUNTA(L41:L47)","v":7}]
[null,null,null,null,null,null,null,null,null,null,null,null,null,null,null,"Total Sequences in Summary",{"$f":"SUM(O7:O14)","v":41},null,null,null,null,"Total Sequences in Block Summary",{"$f":"SUM(U7:U14)","v":7},null,null,null,"Total Sequences in Block Summary",{"$f":"SUM(Z7:Z14)","v":7},null,null,null,"Total Sequences in Block Summary",{"$f":"SUM(AE7:AE14)","v":6},null,null,null,"Total Sequences in Block Summary",{"$f":"SUM(AJ7:AJ14)","v":7},null,null,null,"Total Sequences in Block Summary",{"$f":"SUM(AO7:AO14)","v":7},null,null,null,"Total Sequences in Block Summary",{"$f":"SUM(AT7:AT14)","v":7}]
[null,null,null,null,null,null,null,null,null,null,null,null,null,null,null,null,null,null,null,"Block 1",null,null,null,null,"Block 2",null,null,null,null,"Block 3",null,null,null,null,"Block 4",null,null,null,null,"Block 5",null,null,null,null,"Block 6"]
["Sequence\nComponent\n1","Time\n1","Sequence\nComponent\n2","Time\n2","Sequence\nComponent\n3","Time\n3","Sequence\nComponent\n4","Time\n4","Sequence\nComponent\n5","Time\n5","Correct?\n0=No 1=Yes","Sequence",null,"Frequency",null,"Relative Frequency","Variability",null,null,"Frequency",null,"Relative Frequency","Variability",null,"Frequency",null,"Relative Frequency","Variability",null,"Frequency",null,"Relative Frequency","Variability",null,"Frequency",null,"Relative Frequency","Variability",null,"Frequency",null,"Relative Frequency","Variability",null,"Frequency",null,"Relative Frequency","Variability"]
[12,13,14,18,23,24,null,null,null,null,0,112,null,111,{"$f":"COUNTIF($L$7:$L$500,N7)","v":0},{"$f":"O7/$Q$4","v":0},{"$f":"IF(P7=0,0,(P7*((LOG(P7))/LOG(2))))","v":0},null,null,{"$f":"N7","v":111},{"$f":"COUNTIF(L7:L13,T7)","v":0},{"$f":"U7/(W4-U14)","v":0},{"$f":"IF(V7=0,0,(V7*((LOG(V7))/LOG(2))))","v":0},null,{"$f":"N7","v":111},{"$f":"COUNTIF(L14:L20,Y7)","v":0},{"$f":"Z7/(AB4-Z14)","v":{"$error":"#DIV/0!"}},{"$f":"IF(AA7=0,0,(AA7*((LOG(AA7))/LOG(2))))","v":{"$error":"#DIV/0!"}},null,{"$f":"N7","v":111},{"$f":"COUNTIF(L21:L26,AD7)","v":0},{"$f":"AE7/(AG4-AE14)","v":{"$error":"#DIV/0!"}},{"$f":"IF(AF7=0,0,(AF7*((LOG(AF7))/LOG(2))))","v":{"$error":"#DIV/0!"}},null,{"$f":"N7","v":111},{"$f":"COUNTIF(L27:L33,AI7)","v":0},{"$f":"AJ7/(AL4-AJ14)","v":{"$error":"#DIV/0!"}},{"$f":"IF(AK7=0,0,(AK7*((LOG(AK7))/LOG(2))))","v":{"$error":"#DIV/0!"}},null,{"$f":"N7","v":111},{"$f":"COUNTIF(L34:L40,AN7)","v":0},{"$f":"AO7/(AQ4-AO14)","v":{"$error":"#DIV/0!"}},{"$f":"IF(AP7=0,0,(AP7*((LOG(AP7))/LOG(2))))","v":{"$error":"#DIV/0!"}},null,{"$f":"N7","v":111},{"$f":"COUNTIF(L41:L47,AS7)","v":0},{"$f":"AT7/(AV4-AT14)","v":{"$error":"#DIV/0!"}},{"$f":"IF(AU7=0,0,(AU7*((LOG(AU7))/LOG(2))))","v":{"$error":"#DIV/0!"}}]
[21,117,21,124,21,134,null,null,null,null,0,222,null,112,{"$f":"COUNTIF($L$7:$L$500,N8)","v":1},{"$f":"O8/$Q$4","v":2.4390243902439025E-2},{"$f":"IF(P8=0,0,(P8*((LOG(P8))/LOG(2))))","v":-0.13067200011263619},null,null,{"$f":"N8","v":112},{"$f":"COUNTIF(L7:L13,T8)","v":1},{"$f":"U8/(W4-U14)","v":1},{"$f":"IF(V8=0,0,(V8*((LOG(V8))/LOG(2))))","v":0},null,{"$f":"N8","v":112},{"$f":"COUNTIF(L14:L20,Y8)","v":0},{"$f":"Z8/(AB4-Z14)","v":{"$error":"#DIV/0!"}},{"$f":"IF(AA8=0,0,(AA8*((LOG(AA8))/LOG(2))))","v":{"$error":"#DIV/0!"}},null,{"$f":"N8","v":112},{"$f":"COUNTIF(L21:L26,AD8)","v":0},{"$f":"AE8/(AG4-AE14)","v":{"$error":"#DIV/0!"}},{"$f":"IF(AF8=0,0,(AF8*((LOG(AF8))/LOG(2))))","v":{"$error":"#DIV/0!"}},null,{"$f":"N8","v":112},{"$f":"COUNTIF(L27:L33,AI8)","v":0},{"$f":"AJ8/(AL4-AJ14)","v":{"$error":"#DIV/0!"}},{"$f":"IF(AK8=0,0,(AK8*((LOG(AK8))/LOG(2))))","v":{"$error":"#DIV/0!"}},null,{"$f":"N8","v":112},{"$f":"COUNTIF(L34:L40,AN8)","v":0},{"$f":"AO8/(AQ4-AO14)","v":{"$error":"#DIV/0!"}},{"$f":"IF(AP8=0,0,(AP8*((LOG(AP8))/LOG(2))))","v":{"$error":"#DIV/0!"}},null,{"$f":"N8","v":112},{"$f":"COUNTIF(L41:L47,AS8)","v":0},{"$f":"AT8/(AV4-AT14)","v":{"$error":"#DIV/0!"}},{"$f":"IF(AU8=0,0,(AU8*((LOG(AU8))/LOG(2))))","v":{"$error":"#DIV/0!"}}]
[21,258,21,262,21,267,null,null,null,null,0,222,null,121,{"$f":"COUNTIF($L$7:$L$500,N9)","v":0},{"$f":"O9/$Q$4","v":0},{"$f":"IF(P9=0,0,(P9*((LOG(P9))/LOG(2))))","v":0},null,null,{"$f":"N9","v":121},{"$f":"COUNTIF(L7:L13,T9)","v":0},{"$f":"U9/(W4-U14)","v":0},{"$f":"IF(V9=0,0,(V9*((LOG(V9))/LOG(2))))","v":0},null,{"$f":"N9","v":121},{"$f":"COUNTIF(L14:L20,Y9)","v":0},{"$f":"Z9/(AB4-Z14)","v":{"$error":"#DIV/0!"}},{"$f":"IF(AA9=0,0,(AA9*((LOG(AA9))/LOG(2))))","v":{"$error":"#DIV/0!"}},null,{"$f":"N9","v":121},{"$f":"COUNTIF(L21:L26,AD9)","v":0},{"$f":"AE9/(AG4-AE14)","v":{"$error":"#DIV/0!"}},{"$f":"IF(AF9=0,0,(AF9*((LOG(AF9))/LOG(2))))","v":{"$error":"#DIV/0!"}},null,{"$f":"N9","v":121},{"$f":"COUNTIF(L27:L33,AI9)","v":0},{"$f":"AJ9/(AL4-AJ14)","v":{"$error":"#DIV/0!"}},{"$f":"IF(AK9=0,0,(AK9*((LOG(AK9))/LOG(2))))","v":{"$error":"#DIV/0!"}},null,{"$f":"N9","v":121},{"$f":"COUNTIF(L34:L40,AN9)","v":0},{"$f":"AO9/(AQ4-AO14)","v":{"$error":"#DIV/0!"}},{"$f":"IF(AP9=0,0,(AP9*((LOG(AP9))/LOG(2))))","v":{"$error":"#DIV/0!"}},null,{"$f":"N9","v":121},{"$f":"COUNTIF(L41:L47,AS9)","v":0},{"$f":"AT9/(AV4-AT14)","v":{"$error":"#DIV/0!"}},{"$f":"IF(AU9=0,0,(AU9*((LOG(AU9))/LOG(2))))","v":{"$error":"#DIV/0!"}}]
[21,378,21,382,21,386,null,null,null,null,0,222,null,122,{"$f":"COUNTIF($L$7:$L$500,N10)","v":0},{"$f":"O10/$Q$4","v":0},{"$f":"IF(P10=0,0,(P10*((LOG(P10))/LOG(2))))","v":0},null,null,{"$f":"N10","v":122},{"$f":"COUNTIF(L7:L13,T10)","v":0},{"$f":"U10/(W4-U14)","v":0},{"$f":"IF(V10=0,0,(V10*((LOG(V10))/LOG(2))))","v":0},null,{"$f":"N10","v":122},{"$f":"COUNTIF(L14:L20,Y10)","v":0},{"$f":"Z10/(AB4-Z14)","v":{"$error":"#DIV/0!"}},{"$f":"IF(AA10=0,0,(AA10*((LOG(AA10))/LOG(2))))","v":{"$error":"#DIV/0!"}},null,{"$f":"N10","v":122},{"$f":"COUNTIF(L21:L26,AD10)","v":0},{"$f":"AE10/(AG4-AE14)","v":{"$error":"#DIV/0!"}},{"$f":"IF(AF10=0,0,(AF10*((LOG(AF10))/LOG(2))))","v":{"$error":"#DIV/0!"}},null,{"$f":"N10","v":122},{"$f":"COUNTIF(L27:L33,AI10)","v":0},{"$f":"AJ10/(AL4-AJ14)","v":{"$error":"#DIV/0!"}},{"$f":"IF(AK10=0,0,(AK10*((LOG(AK10))/LOG(2))))","v":{"$error":"#DIV/0!"}},null,{"$f":"N10","v":122},{"$f":"COUNTIF(L34:L40,AN10)","v":0},{"$f":"AO10/(AQ4-AO14)","v":{"$error":"#DIV/0!"}},{"$f":"IF(AP10=0,0,(AP10*((LOG(AP10))/LOG(2))))","v":{"$error":"#DIV/0!"}},null,{"$f":"N10","v":122},{"$f":"COUNTIF(L41:L47,AS10)","v":0},{"$f":"AT10/(AV4-AT14)","v":{"$error":"#DIV/0!"}},{"$f":"IF(AU10=0,0,(AU10*((LOG(AU10))/LOG(2))))","v":{"$error":"#DIV/0!"}}]
[21,510,21,514,21,516,null,null,null,null,0,222,null,211,{"$f":"COUNTIF($L$7:$L$500,N11)","v":0},{"$f":"O11/$Q$4","v":0},{"$f":"IF(P11=0,0,(P11*((LOG(P11))/LOG(2))))","v":0},null,null,{"$f":"N11","v":211},{"$f":"COUNTIF(L7:L13,T11)","v":0},{"$f":"U11/(W4-U14)","v":0},{"$f":"IF(V11=0,0,(V11*((LOG(V11))/LOG(2))))","v":0},null,{"$f":"N11","v":211},{"$f":"COUNTIF(L14:L20,Y11)","v":0},{"$f":"Z11/(AB4-Z14)","v":{"$error":"#DIV/0!"}},{"$f":"IF(AA11=0,0,(AA11*((LOG(AA11))/LOG(2))))","v":{"$error":"#DIV/0!"}},null,{"$f":"N11","v":211},{"$f":"COUNTIF(L21:L26,AD11)","v":0},{"$f":"AE11/(AG4-AE14)","v":{"$error":"#DIV/0!"}},{"$f":"IF(AF11=0,0,(AF11*((LOG(AF11))/LOG(2))))","v":{"$error":"#DIV/0!"}},null,{"$f":"N11","v":211},{"$f":"COUNTIF(L27:L33,AI11)","v":0},{"$f":"AJ11/(AL4-AJ14)","v":{"$error":"#DIV/0!"}},{"$f":"IF(AK11=0,0,(AK11*((LOG(AK11))/LOG(2))))","v":{"$error":"#DIV/0!"}},null,{"$f":"N11","v":211},{"$f":"COUNTIF(L34:L40,AN11)","v":0},{"$f":"AO11/(AQ4-AO14)","v":{"$error":"#DIV/0!"}},{"$f":"IF(AP11=0,0,(AP11*((LOG(AP11))/LOG(2))))","v":{"$error":"#DIV/0!"}},null,{"$f":"N11","v":211},{"$f":"COUNTIF(L41:L47,AS11)","v":0},{"$f":"AT11/(AV4-AT14)","v":{"$error":"#DIV/0!"}},{"$f":"IF(AU11=0,0,(AU11*((LOG(AU11))/LOG(2))))","v":{"$error":"#DIV/0!"}}]
[21,642,21,646,21,651,null,null,null,null,0,222,null,212,{"$f":"COUNTIF($L$7:$L$500,N12)","v":0},{"$f":"O12/$Q$4","v":0},{"$f":"IF(P12=0,0,(P12*((LOG(P12))/LOG(2))))","v":0},null,null,{"$f":"N12","v":212},{"$f":"COUNTIF(L7:L13,T12)","v":0},{"$f":"U12/(W4-U14)","v":0},{"$f":"IF(V12=0,0,(V12*((LOG(V12))/LOG(2))))","v":0},null,{"$f":"N12","v":212},{"$f":"COUNTIF(L14:L20,Y12)","v":0},{"$f":"Z12/(AB4-Z14)","v":{"$error":"#DIV/0!"}},{"$f":"IF(AA12=0,0,(AA12*((LOG(AA12))/LOG(2))))","v":{"$error":"#DIV/0!"}},null,{"$f":"N12","v":212},{"$f":"COUNTIF(L21:L26,AD12)","v":0},{"$f":"AE12/(AG4-AE14)","v":{"$error":"#DIV/0!"}},{"$f":"IF(AF12=0,0,(AF12*((LOG(AF12))/LOG(2))))","v":{"$error":"#DIV/0!"}},null,{"$f":"N12","v":212},{"$f":"COUNTIF(L27:L33,AI12)","v":0},{"$f":"AJ12/(AL4-AJ14)","v":{"$error":"#DIV/0!"}},{"$f":"IF(AK12=0,0,(AK12*((LOG(AK12))/LOG(2))))","v":{"$error":"#DIV/0!"}},null,{"$f":"N12","v":212},{"$f":"COUNTIF(L34:L40,AN12)","v":0},{"$f":"AO12/(AQ4-AO14)","v":{"$error":"#DIV/0!"}},{"$f":"IF(AP12=0,0,(AP12*((LOG(AP12))/LOG(2))))","v":{"$error":"#DIV/0!"}},null,{"$f":"N12","v":212},{"$f":"COUNTIF(L41:L47,AS12)","v":0},{"$f":"AT12/(AV4-AT14)","v":{"$error":"#DIV/0!"}},{"$f":"IF(AU12=0,0,(AU12*((LOG(AU12))/LOG(2))))","v":{"$error":"#DIV/0!"}}]
[21,838,21,845,21,851,null,null,null,null,0,222,null,221,{"$f":"COUNTIF($L$7:$L$500,N13)","v":0},{"$f":"O13/$Q$4","v":0},{"$f":"IF(P13=0,0,(P13*((LOG(P13))/LOG(2))))","v":0},null,null,{"$f":"N13","v":221},{"$f":"COUNTIF(L7:L13,T13)","v":0},{"$f":"U13/(W4-U14)","v":0},{"$f":"IF(V13=0,0,(V13*((LOG(V13))/LOG(2))))","v":0},null,{"$f":"N13","v":221},{"$f":"COUNTIF(L14:L20,Y13)","v":0},{"$f":"Z13/(AB4-Z14)","v":{"$error":"#DIV/0!"}},{"$f":"IF(AA13=0,0,(AA13*((LOG(AA13))/LOG(2))))","v":{"$error":"#DIV/0!"}},null,{"$f":"N13","v":221},{"$f":"COUNTIF(L21:L26,AD13)","v":0},{"$f":"AE13/(AG4-AE14)","v":{"$error":"#DIV/0!"}},{"$f":"IF(AF13=0,0,(AF13*((LOG(AF13))/LOG(2))))","v":{"$error":"#DIV/0!"}},null,{"$f":"N13","v":221},{"$f":"COUNTIF(L27:L33,AI13)","v":0},{"$f":"AJ13/(AL4-AJ14)","v":{"$error":"#DIV/0!"}},{"$f":"IF(AK13=0,0,(AK13*((LOG(AK13))/LOG(2))))","v":{"$error":"#DIV/0!"}},null,{"$f":"N13","v":221},{"$f":"COUNTIF(L34:L40,AN13)","v":0},{"$f":"AO13/(AQ4-AO14)","v":{"$error":"#DIV/0!"}},{"$f":"IF(AP13=0,0,(AP13*((LOG(AP13))/LOG(2))))","v":{"$error":"#DIV/0!"}},null,{"$f":"N13","v":221},{"$f":"COUNTIF(L41:L47,AS13)","v":0},{"$f":"AT13/(AV4-AT14)","v":{"$error":"#DIV/0!"}},{"$f":"IF(AU13=0,0,(AU13*((LOG(AU13))/LOG(2))))","v":{"$error":"#DIV/0!"}}]
[21,1023,21,1028,21,1033,null,null,null,null,0,222,null,222,{"$f":"COUNTIF($L$7:$L$500,N14)","v":40},{"$f":"O14/$Q$4","v":0.97560975609756095},{"$f":"IF(P14=0,0,(P14*((LOG(P14))/LOG(2))))","v":-3.4755033883630611E-2},null,null,{"$f":"N14","v":222},{"$f":"COUNTIF(L7:L13,T14)","v":6},null,null,null,{"$f":"N14","v":222},{"$f":"COUNTIF(L14:L20,Y14)","v":7},null,null,null,{"$f":"N14","v":222},{"$f":"COUNTIF(L21:L26,AD14)","v":6},null,null,null,{"$f":"N14","v":222},{"$f":"COUNTIF(L27:L33,AI14)","v":7},null,null,null,{"$f":"N14","v":222},{"$f":"COUNTIF(L34:L40,AN14)","v":7},null,null,null,{"$f":"N14","v":222},{"$f":"COUNTIF(L41:L47,AS14)","v":7}]
[21,1194,21,1197,21,1204,null,null,null,null,0,222,null,null,null,{"$f":"SUM(P7:P14)","v":1},{"$f":"-SUM(Q7:Q14)","v":0.16542703399626679},null,null,null,null,{"$f":"SUM(V7:V14)","v":1},{"$f":"-SUM(W7:W14)","v":0},null,null,null,{"$f":"SUM(AA7:AA14)","v":{"$error":"#DIV/0!"}},{"$f":"-SUM(AB7:AB14)","v":{"$error":"#DIV/0!"}},null,null,null,{"$f":"SUM(AF7:AF14)","v":{"$error":"#DIV/0!"}},{"$f":"-SUM(AG7:AG14)","v":{"$error":"#DIV/0!"}},null,null,null,{"$f":"SUM(AK7:AK14)","v":{"$error":"#DIV/0!"}},{"$f":"-SUM(AL7:AL14)","v":{"$error":"#DIV/0!"}},null,null,null,{"$f":"SUM(AP7:AP14)","v":{"$error":"#DIV/0!"}},{"$f":"-SUM(AQ7:AQ14)","v":{"$error":"#DIV/0!"}},null,null,null,{"$f":"SUM(AU7:AU14)","v":{"$error":"#DIV/0!"}},{"$f":"-SUM(AV7:AV14)","v":{"$error":"#DIV/0!"}}]
[21,1330,21,1337,21,1345,null,null,null,null,0,222,null,null,null,"U=",{"$f":"Q15/(LOG(Q4)/LOG(2))","v":3.0877354779509855E-2},null,null,null,null,"U1=",{"$f":"W15/(LOG(W4)/LOG(2))","v":0},null,null,null,"U2=",{"$f":"AB15/(LOG(AB4)/LOG(2))","v":{"$error":"#DIV/0!"}},null,null,null,"U3=",{"$f":"AG15/(LOG(AG4)/LOG(2))","v":{"$error":"#DIV/0!"}},null,null,null,"U4=",{"$f":"AL15/(LOG(AL4)/LOG(2))","v":{"$error":"#DIV/0!"}},null,null,null,"U5=",{"$f":"AQ15/(LOG(AQ4)/LOG(2))","v":{"$error":"#DIV/0!"}},null,null,null,"U6=",{"$f":"AV15/(LOG(AV4)/LOG(2))","v":{"$error":"#DIV/0!"}}]
[21,1539,21,1545,21,1551,null,null,null,null,0,222]
[21,1689,21,1693,21,1696,null,null,null,null,0,222]
[21,1880,21,1886,21,1905,null,null,null,null,0,222,null,"Total Target Seq"]
[21,2071,21,2079,21,2087,null,null,null,null,0,222,null,{"$f":"COUNTIF(L7:L47,G3)","v":40},null,7,7,6,7,7,7]
[21,2221,21,2225,21,2228,null,null,null,null,0,222,null,null,null,"% of reinforcement given in 6 equal intervals based on number of trials "]
[21,2368,21,2372,21,2378,null,null,null,null,0,222,null,null,null,"%_1","%_2","%_3","%_4","%_5","%_6"]
[21,2495,21,2506,21,2508,null,null,null,null,0,222,null,null,"target sequence",{"$f":"$G$3","v":222},{"$f":"$G$3","v":222},{"$f":"$G$3","v":222},{"$f":"$G$3","v":222},{"$f":"$G$3","v":222},{"$f":"$G$3","v":222}]
[21,2743,21,2746,21,2751,null,null,null,null,0,222,null,null,"total reinforcement",{"$f":"U14","v":6},{"$f":"Z14","v":7},{"$f":"AE14","v":6},{"$f":"AJ14","v":7},{"$f":"AO14","v":7},{"$f":"AT14","v":7}]
[21,2854,21,2859,21,2864,null,null,null,null,0,222,null,null,"% target"]
[21,3048,21,3053,21,3074,null,null,null,null,0,222,null,null,"CCRF"]
[21,3250,21,3254,21,3261,null,null,null,null,0,222,null,null,"% CCRf"]
[21,3398,21,3402,21,3406,null,null,null,null,0,222,null,null,"average response rate",{"$f":"F13/P20","v":121.57142857142857},{"$f":"(F20-F13)/Q20","v":176.57142857142858},{"$f":"(F26-F20)/R20","v":164.5},{"$f":"(F33-F26)/S20","v":179.71428571428572},{"$f":"(F40-F33)/T20","v":148.14285714285714},{"$f":"(F47-F40)/U20","v":193.14285714285714}]
[21,3535,21,3539,21,3545,null,null,null,null,0,222]
[21,3680,21,3685,21,3690,null,null,null,null,0,222]
[21,3856,21,3860,21,3863,null,null,null,null,0,222]
[21,4061,21,4070,21,4085,null,null,null,null,0,222]
[21,4321,21,4326,21,4332,null,null,null,null,0,222]
[21,4468,21,4470,21,4474,null,null,null,null,0,222]
[21,4599,21,4603,21,4609,null,null,null,null,0,222]
[21,4767,21,4770,21,4777,null,null,null,null,0,222]
[21,4910,21,4914,21,4917,null,null,null,null,0,222]
[21,5068,21,5073,21,5077,null,null,null,null,0,222]
[21,5220,21,5226,21,5233,null,null,null,null,0,222]
[21,5357,21,5362,21,5369,null,null,null,null,0,222]
[21,5518,21,5525,21,5532,null,null,null,null,0,222]
[21,5737,21,5744,21,5766,null,null,null,null,0,222]
[21,5960,21,5966,21,5972,null,null,null,null,0,222]
[21,6113,21,6119,21,6127,null,null,null,null,0,222]
[21,6346,21,6352,21,6358,null,null,null,null,0,222]
[21,6518,21,6522,21,6531,null,null,null,null,0,222]
[21,6704,21,6711,21,6721,null,null,null,null,1,222]

{"sheet":"!M418A2D.UST","index":27,"n_rows":46,"n_cols":48,"rows_kept":46,"cut":false,"hidden":false,"merged":[[4,39,4,42],[5,39,5,40],[4,44,4,47],[5,44,5,45],[4,24,4,27],[5,24,5,25],[4,29,4,32],[5,29,5,30],[4,34,4,37],[5,34,5,35],[1,1,1,2],[5,13,5,14],[18,13,18,14],[19,13,19,14],[4,19,4,22],[5,19,5,20]]}
["Report for:!M418A2D.UST"]
["Date:","<date>"]
["Hen:","<hen>",null,null,null,"Correct Sequence",{"$f":"Start!J2","v":222},null,null,null,null,null,null,null,null,"Total Sequences in Data",{"$f":"4994-COUNTBLANK(L7:L5000)","v":40},null,null,null,null,"Total Sequences in Block Data",{"$f":"COUNTA(L7:L13)","v":7},null,null,null,"Total Sequences in Block Data",{"$f":"COUNTA(L14:L19)","v":6},null,null,null,"Total Sequences in Block Data",{"$f":"COUNTA(L20:L26)","v":7},null,null,null,"Total Sequences in Block Data",{"$f":"COUNTA(L27:L33)","v":7},null,null,null,"Total Sequences in Block Data",{"$f":"COUNTA(L34:L39)","v":6},null,null,null,"Total Sequences in Block Data",{"$f":"COUNTA(L40:L46)","v":7}]
[null,null,null,null,null,null,null,null,null,null,null,null,null,null,null,"Total Sequences in Summary",{"$f":"SUM(O7:O14)","v":40},null,null,null,null,"Total Sequences in Block Summary",{"$f":"SUM(U7:U14)","v":7},null,null,null,"Total Sequences in Block Summary",{"$f":"SUM(Z7:Z14)","v":6},null,null,null,"Total Sequences in Block Summary",{"$f":"SUM(AE7:AE14)","v":7},null,null,null,"Total Sequences in Block Summary",{"$f":"SUM(AJ7:AJ14)","v":7},null,null,null,"Total Sequences in Block Summary",{"$f":"SUM(AO7:AO14)","v":6},null,null,null,"Total Sequences in Block Summary",{"$f":"SUM(AT7:AT14)","v":7}]
[null,null,null,null,null,null,null,null,null,null,null,null,null,null,null,null,null,null,null,"Block 1",null,null,null,null,"Block 2",null,null,null,null,"Block 3",null,null,null,null,"Block 4",null,null,null,null,"Block 5",null,null,null,null,"Block 6"]
["Sequence\nComponent\n1","Time\n1","Sequence\nComponent\n2","Time\n2","Sequence\nComponent\n3","Time\n3","Sequence\nComponent\n4","Time\n4","Sequence\nComponent\n5","Time\n5","Correct?\n0=No 1=Yes","Sequence",null,"Frequency",null,"Relative Frequency","Variability",null,null,"Frequency",null,"Relative Frequency","Variability",null,"Frequency",null,"Relative Frequency","Variability",null,"Frequency",null,"Relative Frequency","Variability",null,"Frequency",null,"Relative Frequency","Variability",null,"Frequency",null,"Relative Frequency","Variability",null,"Frequency",null,"Relative Frequency","Variability"]
[21,10,21,19,21,25,null,null,null,null,0,222,null,111,{"$f":"COUNTIF($L$7:$L$500,N7)","v":0},{"$f":"O7/$Q$4","v":0},{"$f":"IF(P7=0,0,(P7*((LOG(P7))/LOG(2))))","v":0},null,null,{"$f":"N7","v":111},{"$f":"COUNTIF(L7:L13,T7)","v":0},{"$f":"U7/(W4-U14)","v":{"$error":"#DIV/0!"}},{"$f":"IF(V7=0,0,(V7*((LOG(V7))/LOG(2))))","v":{"$error":"#DIV/0!"}},null,{"$f":"N7","v":111},{"$f":"COUNTIF(L14:L19,Y7)","v":0},{"$f":"Z7/(AB4-Z14)","v":{"$error":"#DIV/0!"}},{"$f":"IF(AA7=0,0,(AA7*((LOG(AA7))/LOG(2))))","v":{"$error":"#DIV/0!"}},null,{"$f":"N7","v":111},{"$f":"COUNTIF(L20:L26,AD7)","v":0},{"$f":"AE7/(AG4-AE14)","v":{"$error":"#DIV/0!"}},{"$f":"IF(AF7=0,0,(AF7*((LOG(AF7))/LOG(2))))","v":{"$error":"#DIV/0!"}},null,{"$f":"N7","v":111},{"$f":"COUNTIF(L27:L33,AI7)","v":0},{"$f":"AJ7/(AL4-AJ14)","v":{"$error":"#DIV/0!"}},{"$f":"IF(AK7=0,0,(AK7*((LOG(AK7))/LOG(2))))","v":{"$error":"#DIV/0!"}},null,{"$f":"N7","v":111},{"$f":"COUNTIF(L34:L39,AN7)","v":0},{"$f":"AO7/(AQ4-AO14)","v":{"$error":"#DIV/0!"}},{"$f":"IF(AP7=0,0,(AP7*((LOG(AP7))/LOG(2))))","v":{"$error":"#DIV/0!"}},null,{"$f":"N7","v":111},{"$f":"COUNTIF(L40:L46,AS7)","v":0},{"$f":"AT7/(AV4-AT14)","v":{"$error":"#DIV/0!"}},{"$f":"IF(AU7=0,0,(AU7*((LOG(AU7))/LOG(2))))","v":{"$error":"#DIV/0!"}}]
[21,214,21,219,21,233,null,null,null,null,0,222,null,112,{"$f":"COUNTIF($L$7:$L$500,N8)","v":0},{"$f":"O8/$Q$4","v":0},{"$f":"IF(P8=0,0,(P8*((LOG(P8))/LOG(2))))","v":0},null,null,{"$f":"N8","v":112},{"$f":"COUNTIF(L7:L13,T8)","v":0},{"$f":"U8/(W4-U14)","v":{"$error":"#DIV/0!"}},{"$f":"IF(V8=0,0,(V8*((LOG(V8))/LOG(2))))","v":{"$error":"#DIV/0!"}},null,{"$f":"N8","v":112},{"$f":"COUNTIF(L14:L19,Y8)","v":0},{"$f":"Z8/(AB4-Z14)","v":{"$error":"#DIV/0!"}},{"$f":"IF(AA8=0,0,(AA8*((LOG(AA8))/LOG(2))))","v":{"$error":"#DIV/0!"}},null,{"$f":"N8","v":112},{"$f":"COUNTIF(L20:L26,AD8)","v":0},{"$f":"AE8/(AG4-AE14)","v":{"$error":"#DIV/0!"}},{"$f":"IF(AF8=0,0,(AF8*((LOG(AF8))/LOG(2))))","v":{"$error":"#DIV/0!"}},null,{"$f":"N8","v":112},{"$f":"COUNTIF(L27:L33,AI8)","v":0},{"$f":"AJ8/(AL4-AJ14)","v":{"$error":"#DIV/0!"}},{"$f":"IF(AK8=0,0,(AK8*((LOG(AK8))/LOG(2))))","v":{"$error":"#DIV/0!"}},null,{"$f":"N8","v":112},{"$f":"COUNTIF(L34:L39,AN8)","v":0},{"$f":"AO8/(AQ4-AO14)","v":{"$error":"#DIV/0!"}},{"$f":"IF(AP8=0,0,(AP8*((LOG(AP8))/LOG(2))))","v":{"$error":"#DIV/0!"}},null,{"$f":"N8","v":112},{"$f":"COUNTIF(L40:L46,AS8)","v":0},{"$f":"AT8/(AV4-AT14)","v":{"$error":"#DIV/0!"}},{"$f":"IF(AU8=0,0,(AU8*((LOG(AU8))/LOG(2))))","v":{"$error":"#DIV/0!"}}]
[21,443,21,445,21,448,null,null,null,null,0,222,null,121,{"$f":"COUNTIF($L$7:$L$500,N9)","v":0},{"$f":"O9/$Q$4","v":0},{"$f":"IF(P9=0,0,(P9*((LOG(P9))/LOG(2))))","v":0},null,null,{"$f":"N9","v":121},{"$f":"COUNTIF(L7:L13,T9)","v":0},{"$f":"U9/(W4-U14)","v":{"$error":"#DIV/0!"}},{"$f":"IF(V9=0,0,(V9*((LOG(V9))/LOG(2))))","v":{"$error":"#DIV/0!"}},null,{"$f":"N9","v":121},{"$f":"COUNTIF(L14:L19,Y9)","v":0},{"$f":"Z9/(AB4-Z14)","v":{"$error":"#DIV/0!"}},{"$f":"IF(AA9=0,0,(AA9*((LOG(AA9))/LOG(2))))","v":{"$error":"#DIV/0!"}},null,{"$f":"N9","v":121},{"$f":"COUNTIF(L20:L26,AD9)","v":0},{"$f":"AE9/(AG4-AE14)","v":{"$error":"#DIV/0!"}},{"$f":"IF(AF9=0,0,(AF9*((LOG(AF9))/LOG(2))))","v":{"$error":"#DIV/0!"}},null,{"$f":"N9","v":121},{"$f":"COUNTIF(L27:L33,AI9)","v":0},{"$f":"AJ9/(AL4-AJ14)","v":{"$error":"#DIV/0!"}},{"$f":"IF(AK9=0,0,(AK9*((LOG(AK9))/LOG(2))))","v":{"$error":"#DIV/0!"}},null,{"$f":"N9","v":121},{"$f":"COUNTIF(L34:L39,AN9)","v":0},{"$f":"AO9/(AQ4-AO14)","v":{"$error":"#DIV/0!"}},{"$f":"IF(AP9=0,0,(AP9*((LOG(AP9))/LOG(2))))","v":{"$error":"#DIV/0!"}},null,{"$f":"N9","v":121},{"$f":"COUNTIF(L40:L46,AS9)","v":0},{"$f":"AT9/(AV4-AT14)","v":{"$error":"#DIV/0!"}},{"$f":"IF(AU9=0,0,(AU9*((LOG(AU9))/LOG(2))))","v":{"$error":"#DIV/0!"}}]
[21,553,21,562,21,570,null,null,null,null,0,222,null,122,{"$f":"COUNTIF($L$7:$L$500,N10)","v":0},{"$f":"O10/$Q$4","v":0},{"$f":"IF(P10=0,0,(P10*((LOG(P10))/LOG(2))))","v":0},null,null,{"$f":"N10","v":122},{"$f":"COUNTIF(L7:L13,T10)","v":0},{"$f":"U10/(W4-U14)","v":{"$error":"#DIV/0!"}},{"$f":"IF(V10=0,0,(V10*((LOG(V10))/LOG(2))))","v":{"$error":"#DIV/0!"}},null,{"$f":"N10","v":122},{"$f":"COUNTIF(L14:L19,Y10)","v":0},{"$f":"Z10/(AB4-Z14)","v":{"$error":"#DIV/0!"}},{"$f":"IF(AA10=0,0,(AA10*((LOG(AA10))/LOG(2))))","v":{"$error":"#DIV/0!"}},null,{"$f":"N10","v":122},{"$f":"COUNTIF(L20:L26,AD10)","v":0},{"$f":"AE10/(AG4-AE14)","v":{"$error":"#DIV/0!"}},{"$f":"IF(AF10=0,0,(AF10*((LOG(AF10))/LOG(2))))","v":{"$error":"#DIV/0!"}},null,{"$f":"N10","v":122},{"$f":"COUNTIF(L27:L33,AI10)","v":0},{"$f":"AJ10/(AL4-AJ14)","v":{"$error":"#DIV/0!"}},{"$f":"IF(AK10=0,0,(AK10*((LOG(AK10))/LOG(2))))","v":{"$error":"#DIV/0!"}},null,{"$f":"N10","v":122},{"$f":"COUNTIF(L34:L39,AN10)","v":0},{"$f":"AO10/(AQ4-AO14)","v":{"$error":"#DIV/0!"}},{"$f":"IF(AP10=0,0,(AP10*((LOG(AP10))/LOG(2))))","v":{"$error":"#DIV/0!"}},null,{"$f":"N10","v":122},{"$f":"COUNTIF(L40:L46,AS10)","v":0},{"$f":"AT10/(AV4-AT14)","v":{"$error":"#DIV/0!"}},{"$f":"IF(AU10=0,0,(AU10*((LOG(AU10))/LOG(2))))","v":{"$error":"#DIV/0!"}}]
[21,776,21,779,21,788,null,null,null,null,0,222,null,211,{"$f":"COUNTIF($L$7:$L$500,N11)","v":0},{"$f":"O11/$Q$4","v":0},{"$f":"IF(P11=0,0,(P11*((LOG(P11))/LOG(2))))","v":0},null,null,{"$f":"N11","v":211},{"$f":"COUNTIF(L7:L13,T11)","v":0},{"$f":"U11/(W4-U14)","v":{"$error":"#DIV/0!"}},{"$f":"IF(V11=0,0,(V11*((LOG(V11))/LOG(2))))","v":{"$error":"#DIV/0!"}},null,{"$f":"N11","v":211},{"$f":"COUNTIF(L14:L19,Y11)","v":0},{"$f":"Z11/(AB4-Z14)","v":{"$error":"#DIV/0!"}},{"$f":"IF(AA11=0,0,(AA11*((LOG(AA11))/LOG(2))))","v":{"$error":"#DIV/0!"}},null,{"$f":"N11","v":211},{"$f":"COUNTIF(L20:L26,AD11)","v":0},{"$f":"AE11/(AG4-AE14)","v":{"$error":"#DIV/0!"}},{"$f":"IF(AF11=0,0,(AF11*((LOG(AF11))/LOG(2))))","v":{"$error":"#DIV/0!"}},null,{"$f":"N11","v":211},{"$f":"COUNTIF(L27:L33,AI11)","v":0},{"$f":"AJ11/(AL4-AJ14)","v":{"$error":"#DIV/0!"}},{"$f":"IF(AK11=0,0,(AK11*((LOG(AK11))/LOG(2))))","v":{"$error":"#DIV/0!"}},null,{"$f":"N11","v":211},{"$f":"COUNTIF(L34:L39,AN11)","v":0},{"$f":"AO11/(AQ4-AO14)","v":{"$error":"#DIV/0!"}},{"$f":"IF(AP11=0,0,(AP11*((LOG(AP11))/LOG(2))))","v":{"$error":"#DIV/0!"}},null,{"$f":"N11","v":211},{"$f":"COUNTIF(L40:L46,AS11)","v":0},{"$f":"AT11/(AV4-AT14)","v":{"$error":"#DIV/0!"}},{"$f":"IF(AU11=0,0,(AU11*((LOG(AU11))/LOG(2))))","v":{"$error":"#DIV/0!"}}]
[21,907,21,911,21,917,null,null,null,null,0,222,null,212,{"$f":"COUNTIF($L$7:$L$500,N12)","v":0},{"$f":"O12/$Q$4","v":0},{"$f":"IF(P12=0,0,(P12*((LOG(P12))/LOG(2))))","v":0},null,null,{"$f":"N12","v":212},{"$f":"COUNTIF(L7:L13,T12)","v":0},{"$f":"U12/(W4-U14)","v":{"$error":"#DIV/0!"}},{"$f":"IF(V12=0,0,(V12*((LOG(V12))/LOG(2))))","v":{"$error":"#DIV/0!"}},null,{"$f":"N12","v":212},{"$f":"COUNTIF(L14:L19,Y12)","v":0},{"$f":"Z12/(AB4-Z14)","v":{"$error":"#DIV/0!"}},{"$f":"IF(AA12=0,0,(AA12*((LOG(AA12))/LOG(2))))","v":{"$error":"#DIV/0!"}},null,{"$f":"N12","v":212},{"$f":"COUNTIF(L20:L26,AD12)","v":0},{"$f":"AE12/(AG4-AE14)","v":{"$error":"#DIV/0!"}},{"$f":"IF(AF12=0,0,(AF12*((LOG(AF12))/LOG(2))))","v":{"$error":"#DIV/0!"}},null,{"$f":"N12","v":212},{"$f":"COUNTIF(L27:L33,AI12)","v":0},{"$f":"AJ12/(AL4-AJ14)","v":{"$error":"#DIV/0!"}},{"$f":"IF(AK12=0,0,(AK12*((LOG(AK12))/LOG(2))))","v":{"$error":"#DIV/0!"}},null,{"$f":"N12","v":212},{"$f":"COUNTIF(L34:L39,AN12)","v":0},{"$f":"AO12/(AQ4-AO14)","v":{"$error":"#DIV/0!"}},{"$f":"IF(AP12=0,0,(AP12*((LOG(AP12))/LOG(2))))","v":{"$error":"#DIV/0!"}},null,{"$f":"N12","v":212},{"$f":"COUNTIF(L40:L46,AS12)","v":0},{"$f":"AT12/(AV4-AT14)","v":{"$error":"#DIV/0!"}},{"$f":"IF(AU12=0,0,(AU12*((LOG(AU12))/LOG(2))))","v":{"$error":"#DIV/0!"}}]
[21,1038,21,1049,21,1058,null,null,null,null,0,222,null,221,{"$f":"COUNTIF($L$7:$L$500,N13)","v":0},{"$f":"O13/$Q$4","v":0},{"$f":"IF(P13=0,0,(P13*((LOG(P13))/LOG(2))))","v":0},null,null,{"$f":"N13","v":221},{"$f":"COUNTIF(L7:L13,T13)","v":0},{"$f":"U13/(W4-U14)","v":{"$error":"#DIV/0!"}},{"$f":"IF(V13=0,0,(V13*((LOG(V13))/LOG(2))))","v":{"$error":"#DIV/0!"}},null,{"$f":"N13","v":221},{"$f":"COUNTIF(L14:L19,Y13)","v":0},{"$f":"Z13/(AB4-Z14)","v":{"$error":"#DIV/0!"}},{"$f":"IF(AA13=0,0,(AA13*((LOG(AA13))/LOG(2))))","v":{"$error":"#DIV/0!"}},null,{"$f":"N13","v":221},{"$f":"COUNTIF(L20:L26,AD13)","v":0},{"$f":"AE13/(AG4-AE14)","v":{"$error":"#DIV/0!"}},{"$f":"IF(AF13=0,0,(AF13*((LOG(AF13))/LOG(2))))","v":{"$error":"#DIV/0!"}},null,{"$f":"N13","v":221},{"$f":"COUNTIF(L27:L33,AI13)","v":0},{"$f":"AJ13/(AL4-AJ14)","v":{"$error":"#DIV/0!"}},{"$f":"IF(AK13=0,0,(AK13*((LOG(AK13))/LOG(2))))","v":{"$error":"#DIV/0!"}},null,{"$f":"N13","v":221},{"$f":"COUNTIF(L34:L39,AN13)","v":0},{"$f":"AO13/(AQ4-AO14)","v":{"$error":"#DIV/0!"}},{"$f":"IF(AP13=0,0,(AP13*((LOG(AP13))/LOG(2))))","v":{"$error":"#DIV/0!"}},null,{"$f":"N13","v":221},{"$f":"COUNTIF(L40:L46,AS13)","v":0},{"$f":"AT13/(AV4-AT14)","v":{"$error":"#DIV/0!"}},{"$f":"IF(AU13=0,0,(AU13*((LOG(AU13))/LOG(2))))","v":{"$error":"#DIV/0!"}}]
[21,1211,21,1217,21,1225,null,null,null,null,0,222,null,222,{"$f":"COUNTIF($L$7:$L$500,N14)","v":40},{"$f":"O14/$Q$4","v":1},{"$f":"IF(P14=0,0,(P14*((LOG(P14))/LOG(2))))","v":0},null,null,{"$f":"N14","v":222},{"$f":"COUNTIF(L7:L13,T14)","v":7},null,null,null,{"$f":"N14","v":222},{"$f":"COUNTIF(L14:L19,Y14)","v":6},null,null,null,{"$f":"N14","v":222},{"$f":"COUNTIF(L20:L26,AD14)","v":7},null,null,null,{"$f":"N14","v":222},{"$f":"COUNTIF(L27:L33,AI14)","v":7},null,null,null,{"$f":"N14","v":222},{"$f":"COUNTIF(L34:L39,AN14)","v":6},null,null,null,{"$f":"N14","v":222},{"$f":"COUNTIF(L40:L46,AS14)","v":7}]
[21,1354,21,1360,21,1368,null,null,null,null,0,222,null,null,null,{"$f":"SUM(P7:P14)","v":1},{"$f":"-SUM(Q7:Q14)","v":0},null,null,null,null,{"$f":"SUM(V7:V14)","v":{"$error":"#DIV/0!"}},{"$f":"-SUM(W7:W14)","v":{"$error":"#DIV/0!"}},null,null,null,{"$f":"SUM(AA7:AA14)","v":{"$error":"#DIV/0!"}},{"$f":"-SUM(AB7:AB14)","v":{"$error":"#DIV/0!"}},null,null,null,{"$f":"SUM(AF7:AF14)","v":{"$error":"#DIV/0!"}},{"$f":"-SUM(AG7:AG14)","v":{"$error":"#DIV/0!"}},null,null,null,{"$f":"SUM(AK7:AK14)","v":{"$error":"#DIV/0!"}},{"$f":"-SUM(AL7:AL14)","v":{"$error":"#DIV/0!"}},null,null,null,{"$f":"SUM(AP7:AP14)","v":{"$error":"#DIV/0!"}},{"$f":"-SUM(AQ7:AQ14)","v":{"$error":"#DIV/0!"}},null,null,null,{"$f":"SUM(AU7:AU14)","v":{"$error":"#DIV/0!"}},{"$f":"-SUM(AV7:AV14)","v":{"$error":"#DIV/0!"}}]
[21,1504,21,1508,21,1510,null,null,null,null,0,222,null,null,null,"U=",{"$f":"Q15/(LOG(Q4)/LOG(2))","v":0},null,null,null,null,"U1=",{"$f":"W15/(LOG(W4)/LOG(2))","v":{"$error":"#DIV/0!"}},null,null,null,"U2=",{"$f":"AB15/(LOG(AB4)/LOG(2))","v":{"$error":"#DIV/0!"}},null,null,null,"U3=",{"$f":"AG15/(LOG(AG4)/LOG(2))","v":{"$error":"#DIV/0!"}},null,null,null,"U4=",{"$f":"AL15/(LOG(AL4)/LOG(2))","v":{"$error":"#DIV/0!"}},null,null,null,"U5=",{"$f":"AQ15/(LOG(AQ4)/LOG(2))","v":{"$error":"#DIV/0!"}},null,null,null,"U6=",{"$f":"AV15/(LOG(AV4)/LOG(2))","v":{"$error":"#DIV/0!"}}]
[21,1711,21,1716,21,1723,null,null,null,null,0,222]
[21,1841,21,1844,21,1847,null,null,null,null,0,222]
[21,1977,21,1980,21,1986,null,null,null,null,0,222,null,"Total Target Seq"]
[21,2190,21,2192,21,2195,null,null,null,null,0,222,null,{"$f":"COUNTIF(L7:L46,G3)","v":40},null,7,6,7,7,6,7]
[21,2361,21,2370,21,2375,null,null,null,null,0,222,null,null,null,"% of reinforcement given in 6 equal intervals based on number of trials "]
[21,2522,21,2530,21,2532,null,null,null,null,0,222,null,null,null,"%_1","%_2","%_3","%_4","%_5","%_6"]
[21,2674,21,2679,21,2685,null,null,null,null,0,222,null,null,"target sequence",{"$f":"$G$3","v":222},{"$f":"$G$3","v":222},{"$f":"$G$3","v":222},{"$f":"$G$3","v":222},{"$f":"$G$3","v":222},{"$f":"$G$3","v":222}]
[21,2838,21,2843,21,2849,null,null,null,null,0,222,null,null,"total reinforcement",{"$f":"U14","v":7},{"$f":"Z14","v":6},{"$f":"AE14","v":7},{"$f":"AJ14","v":7},{"$f":"AO14","v":6},{"$f":"AT14","v":7}]
[21,3001,21,3006,21,3014,null,null,null,null,0,222,null,null,"% target"]
[21,3158,21,3162,21,3164,null,null,null,null,0,222,null,null,"CCRF"]
[21,3364,21,3369,21,3376,null,null,null,null,0,222,null,null,"% CCRf"]
[21,3479,21,3485,21,3489,null,null,null,null,0,222,null,null,"average response rate",{"$f":"F13/P20","v":151.14285714285714},{"$f":"(F19-F13)/Q20","v":154.66666666666666},{"$f":"(F26-F19)/R20","v":168.28571428571428},{"$f":"(F33-F26)/S20","v":143.28571428571428},{"$f":"(F39-F33)/T20","v":160.5},{"$f":"(F46-F39)/U20","v":175.71428571428572}]
[21,3604,21,3625,21,3629,null,null,null,null,0,222]
[21,3752,21,3759,21,3764,null,null,null,null,0,222]
[21,3882,21,3889,21,3892,null,null,null,null,0,222]
[21,4019,21,4022,21,4026,null,null,null,null,0,222]
[21,4157,21,4161,21,4167,null,null,null,null,0,222]
[21,4395,21,4403,21,4410,null,null,null,null,0,222]
[21,4539,21,4543,21,4545,null,null,null,null,0,222]
[21,4667,21,4670,21,4673,null,null,null,null,0,222]
[21,4780,21,4785,21,4791,null,null,null,null,0,222]
[21,4940,21,4947,21,4954,null,null,null,null,0,222]
[21,5117,21,5123,21,5130,null,null,null,null,0,222]
[21,5299,21,5307,21,5309,null,null,null,null,0,222]
[21,5556,21,5559,21,5565,null,null,null,null,0,222]
[21,5742,21,5746,21,5753,null,null,null,null,0,222]
[21,5887,21,5890,21,5893,null,null,null,null,0,222]
[21,6057,21,6059,21,6062,null,null,null,null,0,222]
[21,6189,21,6196,21,6202,null,null,null,null,0,222]
[21,6352,21,6354,21,6360,null,null,null,null,1,222]

{"sheet":"!M419B3D.UST","index":28,"n_rows":46,"n_cols":48,"rows_kept":46,"cut":false,"hidden":false,"merged":[[4,39,4,42],[5,39,5,40],[4,44,4,47],[5,44,5,45],[4,24,4,27],[5,24,5,25],[4,29,4,32],[5,29,5,30],[4,34,4,37],[5,34,5,35],[1,1,1,2],[5,13,5,14],[18,13,18,14],[19,13,19,14],[4,19,4,22],[5,19,5,20]]}
["Report for:!M419B3D.UST"]
["Date:","<date>"]
["Hen:","<hen>",null,null,null,"Correct Sequence",{"$f":"Start!J2","v":222},null,null,null,null,null,null,null,null,"Total Sequences in Data",{"$f":"4994-COUNTBLANK(L7:L5000)","v":40},null,null,null,null,"Total Sequences in Block Data",{"$f":"COUNTA(L7:L13)","v":7},null,null,null,"Total Sequences in Block Data",{"$f":"COUNTA(L14:L19)","v":6},null,null,null,"Total Sequences in Block Data",{"$f":"COUNTA(L20:L26)","v":7},null,null,null,"Total Sequences in Block Data",{"$f":"COUNTA(L27:L33)","v":7},null,null,null,"Total Sequences in Block Data",{"$f":"COUNTA(L34:L39)","v":6},null,null,null,"Total Sequences in Block Data",{"$f":"COUNTA(L40:L46)","v":7}]
[null,null,null,null,null,null,null,null,null,null,null,null,null,null,null,"Total Sequences in Summary",{"$f":"SUM(O7:O14)","v":40},null,null,null,null,"Total Sequences in Block Summary",{"$f":"SUM(U7:U14)","v":7},null,null,null,"Total Sequences in Block Summary",{"$f":"SUM(Z7:Z14)","v":6},null,null,null,"Total Sequences in Block Summary",{"$f":"SUM(AE7:AE14)","v":7},null,null,null,"Total Sequences in Block Summary",{"$f":"SUM(AJ7:AJ14)","v":7},null,null,null,"Total Sequences in Block Summary",{"$f":"SUM(AO7:AO14)","v":6},null,null,null,"Total Sequences in Block Summary",{"$f":"SUM(AT7:AT14)","v":7}]
[null,null,null,null,null,null,null,null,null,null,null,null,null,null,null,null,null,null,null,"Block 1",null,null,null,null,"Block 2",null,null,null,null,"Block 3",null,null,null,null,"Block 4",null,null,null,null,"Block 5",null,null,null,null,"Block 6"]
["Sequence\nComponent\n1","Time\n1","Sequence\nComponent\n2","Time\n2","Sequence\nComponent\n3","Time\n3","Sequence\nComponent\n4","Time\n4","Sequence\nComponent\n5","Time\n5","Correct?\n0=No 1=Yes","Sequence",null,"Frequency",null,"Relative Frequency","Variability",null,null,"Frequency",null,"Relative Frequency","Variability",null,"Frequency",null,"Relative Frequency","Variability",null,"Frequency",null,"Relative Frequency","Variability",null,"Frequency",null,"Relative Frequency","Variability",null,"Frequency",null,"Relative Frequency","Variability",null,"Frequency",null,"Relative Frequency","Variability"]
[21,23,21,28,21,33,null,null,null,null,0,222,null,111,{"$f":"COUNTIF($L$7:$L$500,N7)","v":0},{"$f":"O7/$Q$4","v":0},{"$f":"IF(P7=0,0,(P7*((LOG(P7))/LOG(2))))","v":0},null,null,{"$f":"N7","v":111},{"$f":"COUNTIF(L7:L13,T7)","v":0},{"$f":"U7/(W4-U14)","v":{"$error":"#DIV/0!"}},{"$f":"IF(V7=0,0,(V7*((LOG(V7))/LOG(2))))","v":{"$error":"#DIV/0!"}},null,{"$f":"N7","v":111},{"$f":"COUNTIF(L14:L19,Y7)","v":0},{"$f":"Z7/(AB4-Z14)","v":{"$error":"#DIV/0!"}},{"$f":"IF(AA7=0,0,(AA7*((LOG(AA7))/LOG(2))))","v":{"$error":"#DIV/0!"}},null,{"$f":"N7","v":111},{"$f":"COUNTIF(L20:L26,AD7)","v":0},{"$f":"AE7/(AG4-AE14)","v":{"$error":"#DIV/0!"}},{"$f":"IF(AF7=0,0,(AF7*((LOG(AF7))/LOG(2))))","v":{"$error":"#DIV/0!"}},null,{"$f":"N7","v":111},{"$f":"COUNTIF(L27:L33,AI7)","v":0},{"$f":"AJ7/(AL4-AJ14)","v":{"$error":"#DIV/0!"}},{"$f":"IF(AK7=0,0,(AK7*((LOG(AK7))/LOG(2))))","v":{"$error":"#DIV/0!"}},null,{"$f":"N7","v":111},{"$f":"COUNTIF(L34:L39,AN7)","v":0},{"$f":"AO7/(AQ4-AO14)","v":{"$error":"#DIV/0!"}},{"$f":"IF(AP7=0,0,(AP7*((LOG(AP7))/LOG(2))))","v":{"$error":"#DIV/0!"}},null,{"$f":"N7","v":111},{"$f":"COUNTIF(L40:L46,AS7)","v":0},{"$f":"AT7/(AV4-AT14)","v":{"$error":"#DIV/0!"}},{"$f":"IF(AU7=0,0,(AU7*((LOG(AU7))/LOG(2))))","v":{"$error":"#DIV/0!"}}]
[21,158,21,161,21,166,null,null,null,null,0,222,null,112,{"$f":"COUNTIF($L$7:$L$500,N8)","v":0},{"$f":"O8/$Q$4","v":0},{"$f":"IF(P8=0,0,(P8*((LOG(P8))/LOG(2))))","v":0},null,null,{"$f":"N8","v":112},{"$f":"COUNTIF(L7:L13,T8)","v":0},{"$f":"U8/(W4-U14)","v":{"$error":"#DIV/0!"}},{"$f":"IF(V8=0,0,(V8*((LOG(V8))/LOG(2))))","v":{"$error":"#DIV/0!"}},null,{"$f":"N8","v":112},{"$f":"COUNTIF(L14:L19,Y8)","v":0},{"$f":"Z8/(AB4-Z14)","v":{"$error":"#DIV/0!"}},{"$f":"IF(AA8=0,0,(AA8*((LOG(AA8))/LOG(2))))","v":{"$error":"#DIV/0!"}},null,{"$f":"N8","v":112},{"$f":"COUNTIF(L20:L26,AD8)","v":0},{"$f":"AE8/(AG4-AE14)","v":{"$error":"#DIV/0!"}},{"$f":"IF(AF8=0,0,(AF8*((LOG(AF8))/LOG(2))))","v":{"$error":"#DIV/0!"}},null,{"$f":"N8","v":112},{"$f":"COUNTIF(L27:L33,AI8)","v":0},{"$f":"AJ8/(AL4-AJ14)","v":{"$error":"#DIV/0!"}},{"$f":"IF(AK8=0,0,(AK8*((LOG(AK8))/LOG(2))))","v":{"$error":"#DIV/0!"}},null,{"$f":"N8","v":112},{"$f":"COUNTIF(L34:L39,AN8)","v":0},{"$f":"AO8/(AQ4-AO14)","v":{"$error":"#DIV/0!"}},{"$f":"IF(AP8=0,0,(AP8*((LOG(AP8))/LOG(2))))","v":{"$error":"#DIV/0!"}},null,{"$f":"N8","v":112},{"$f":"COUNTIF(L40:L46,AS8)","v":0},{"$f":"AT8/(AV4-AT14)","v":{"$error":"#DIV/0!"}},{"$f":"IF(AU8=0,0,(AU8*((LOG(AU8))/LOG(2))))","v":{"$error":"#DIV/0!"}}]
[21,293,21,302,21,320,null,null,null,null,0,222,null,121,{"$f":"COUNTIF($L$7:$L$500,N9)","v":0},{"$f":"O9/$Q$4","v":0},{"$f":"IF(P9=0,0,(P9*((LOG(P9))/LOG(2))))","v":0},null,null,{"$f":"N9","v":121},{"$f":"COUNTIF(L7:L13,T9)","v":0},{"$f":"U9/(W4-U14)","v":{"$error":"#DIV/0!"}},{"$f":"IF(V9=0,0,(V9*((LOG(V9))/LOG(2))))","v":{"$error":"#DIV/0!"}},null,{"$f":"N9","v":121},{"$f":"COUNTIF(L14:L19,Y9)","v":0},{"$f":"Z9/(AB4-Z14)","v":{"$error":"#DIV/0!"}},{"$f":"IF(AA9=0,0,(AA9*((LOG(AA9))/LOG(2))))","v":{"$error":"#DIV/0!"}},null,{"$f":"N9","v":121},{"$f":"COUNTIF(L20:L26,AD9)","v":0},{"$f":"AE9/(AG4-AE14)","v":{"$error":"#DIV/0!"}},{"$f":"IF(AF9=0,0,(AF9*((LOG(AF9))/LOG(2))))","v":{"$error":"#DIV/0!"}},null,{"$f":"N9","v":121},{"$f":"COUNTIF(L27:L33,AI9)","v":0},{"$f":"AJ9/(AL4-AJ14)","v":{"$error":"#DIV/0!"}},{"$f":"IF(AK9=0,0,(AK9*((LOG(AK9))/LOG(2))))","v":{"$error":"#DIV/0!"}},null,{"$f":"N9","v":121},{"$f":"COUNTIF(L34:L39,AN9)","v":0},{"$f":"AO9/(AQ4-AO14)","v":{"$error":"#DIV/0!"}},{"$f":"IF(AP9=0,0,(AP9*((LOG(AP9))/LOG(2))))","v":{"$error":"#DIV/0!"}},null,{"$f":"N9","v":121},{"$f":"COUNTIF(L40:L46,AS9)","v":0},{"$f":"AT9/(AV4-AT14)","v":{"$error":"#DIV/0!"}},{"$f":"IF(AU9=0,0,(AU9*((LOG(AU9))/LOG(2))))","v":{"$error":"#DIV/0!"}}]
[21,486,21,495,21,502,null,null,null,null,0,222,null,122,{"$f":"COUNTIF($L$7:$L$500,N10)","v":0},{"$f":"O10/$Q$4","v":0},{"$f":"IF(P10=0,0,(P10*((LOG(P10))/LOG(2))))","v":0},null,null,{"$f":"N10","v":122},{"$f":"COUNTIF(L7:L13,T10)","v":0},{"$f":"U10/(W4-U14)","v":{"$error":"#DIV/0!"}},{"$f":"IF(V10=0,0,(V10*((LOG(V10))/LOG(2))))","v":{"$error":"#DIV/0!"}},null,{"$f":"N10","v":122},{"$f":"COUNTIF(L14:L19,Y10)","v":0},{"$f":"Z10/(AB4-Z14)","v":{"$error":"#DIV/0!"}},{"$f":"IF(AA10=0,0,(AA10*((LOG(AA10))/LOG(2))))","v":{"$error":"#DIV/0!"}},null,{"$f":"N10","v":122},{"$f":"COUNTIF(L20:L26,AD10)","v":0},{"$f":"AE10/(AG4-AE14)","v":{"$error":"#DIV/0!"}},{"$f":"IF(AF10=0,0,(AF10*((LOG(AF10))/LOG(2))))","v":{"$error":"#DIV/0!"}},null,{"$f":"N10","v":122},{"$f":"COUNTIF(L27:L33,AI10)","v":0},{"$f":"AJ10/(AL4-AJ14)","v":{"$error":"#DIV/0!"}},{"$f":"IF(AK10=0,0,(AK10*((LOG(AK10))/LOG(2))))","v":{"$error":"#DIV/0!"}},null,{"$f":"N10","v":122},{"$f":"COUNTIF(L34:L39,AN10)","v":0},{"$f":"AO10/(AQ4-AO14)","v":{"$error":"#DIV/0!"}},{"$f":"IF(AP10=0,0,(AP10*((LOG(AP10))/LOG(2))))","v":{"$error":"#DIV/0!"}},null,{"$f":"N10","v":122},{"$f":"COUNTIF(L40:L46,AS10)","v":0},{"$f":"AT10/(AV4-AT14)","v":{"$error":"#DIV/0!"}},{"$f":"IF(AU10=0,0,(AU10*((LOG(AU10))/LOG(2))))","v":{"$error":"#DIV/0!"}}]
[21,654,21,660,21,665,null,null,null,null,0,222,null,211,{"$f":"COUNTIF($L$7:$L$500,N11)","v":0},{"$f":"O11/$Q$4","v":0},{"$f":"IF(P11=0,0,(P11*((LOG(P11))/LOG(2))))","v":0},null,null,{"$f":"N11","v":211},{"$f":"COUNTIF(L7:L13,T11)","v":0},{"$f":"U11/(W4-U14)","v":{"$error":"#DIV/0!"}},{"$f":"IF(V11=0,0,(V11*((LOG(V11))/LOG(2))))","v":{"$error":"#DIV/0!"}},null,{"$f":"N11","v":211},{"$f":"COUNTIF(L14:L19,Y11)","v":0},{"$f":"Z11/(AB4-Z14)","v":{"$error":"#DIV/0!"}},{"$f":"IF(AA11=0,0,(AA11*((LOG(AA11))/LOG(2))))","v":{"$error":"#DIV/0!"}},null,{"$f":"N11","v":211},{"$f":"COUNTIF(L20:L26,AD11)","v":0},{"$f":"AE11/(AG4-AE14)","v":{"$error":"#DIV/0!"}},{"$f":"IF(AF11=0,0,(AF11*((LOG(AF11))/LOG(2))))","v":{"$error":"#DIV/0!"}},null,{"$f":"N11","v":211},{"$f":"COUNTIF(L27:L33,AI11)","v":0},{"$f":"AJ11/(AL4-AJ14)","v":{"$error":"#DIV/0!"}},{"$f":"IF(AK11=0,0,(AK11*((LOG(AK11))/LOG(2))))","v":{"$error":"#DIV/0!"}},null,{"$f":"N11","v":211},{"$f":"COUNTIF(L34:L39,AN11)","v":0},{"$f":"AO11/(AQ4-AO14)","v":{"$error":"#DIV/0!"}},{"$f":"IF(AP11=0,0,(AP11*((LOG(AP11))/LOG(2))))","v":{"$error":"#DIV/0!"}},null,{"$f":"N11","v":211},{"$f":"COUNTIF(L40:L46,AS11)","v":0},{"$f":"AT11/(AV4-AT14)","v":{"$error":"#DIV/0!"}},{"$f":"IF(AU11=0,0,(AU11*((LOG(AU11))/LOG(2))))","v":{"$error":"#DIV/0!"}}]
[21,782,21,785,21,788,null,null,null,null,0,222,null,212,{"$f":"COUNTIF($L$7:$L$500,N12)","v":0},{"$f":"O12/$Q$4","v":0},{"$f":"IF(P12=0,0,(P12*((LOG(P12))/LOG(2))))","v":0},null,null,{"$f":"N12","v":212},{"$f":"COUNTIF(L7:L13,T12)","v":0},{"$f":"U12/(W4-U14)","v":{"$error":"#DIV/0!"}},{"$f":"IF(V12=0,0,(V12*((LOG(V12))/LOG(2))))","v":{"$error":"#DIV/0!"}},null,{"$f":"N12","v":212},{"$f":"COUNTIF(L14:L19,Y12)","v":0},{"$f":"Z12/(AB4-Z14)","v":{"$error":"#DIV/0!"}},{"$f":"IF(AA12=0,0,(AA12*((LOG(AA12))/LOG(2))))","v":{"$error":"#DIV/0!"}},null,{"$f":"N12","v":212},{"$f":"COUNTIF(L20:L26,AD12)","v":0},{"$f":"AE12/(AG4-AE14)","v":{"$error":"#DIV/0!"}},{"$f":"IF(AF12=0,0,(AF12*((LOG(AF12))/LOG(2))))","v":{"$error":"#DIV/0!"}},null,{"$f":"N12","v":212},{"$f":"COUNTIF(L27:L33,AI12)","v":0},{"$f":"AJ12/(AL4-AJ14)","v":{"$error":"#DIV/0!"}},{"$f":"IF(AK12=0,0,(AK12*((LOG(AK12))/LOG(2))))","v":{"$error":"#DIV/0!"}},null,{"$f":"N12","v":212},{"$f":"COUNTIF(L34:L39,AN12)","v":0},{"$f":"AO12/(AQ4-AO14)","v":{"$error":"#DIV/0!"}},{"$f":"IF(AP12=0,0,(AP12*((LOG(AP12))/LOG(2))))","v":{"$error":"#DIV/0!"}},null,{"$f":"N12","v":212},{"$f":"COUNTIF(L40:L46,AS12)","v":0},{"$f":"AT12/(AV4-AT14)","v":{"$error":"#DIV/0!"}},{"$f":"IF(AU12=0,0,(AU12*((LOG(AU12))/LOG(2))))","v":{"$error":"#DIV/0!"}}]
[21,950,21,954,21,960,null,null,null,null,0,222,null,221,{"$f":"COUNTIF($L$7:$L$500,N13)","v":0},{"$f":"O13/$Q$4","v":0},{"$f":"IF(P13=0,0,(P13*((LOG(P13))/LOG(2))))","v":0},null,null,{"$f":"N13","v":221},{"$f":"COUNTIF(L7:L13,T13)","v":0},{"$f":"U13/(W4-U14)","v":{"$error":"#DIV/0!"}},{"$f":"IF(V13=0,0,(V13*((LOG(V13))/LOG(2))))","v":{"$error":"#DIV/0!"}},null,{"$f":"N13","v":221},{"$f":"COUNTIF(L14:L19,Y13)","v":0},{"$f":"Z13/(AB4-Z14)","v":{"$error":"#DIV/0!"}},{"$f":"IF(AA13=0,0,(AA13*((LOG(AA13))/LOG(2))))","v":{"$error":"#DIV/0!"}},null,{"$f":"N13","v":221},{"$f":"COUNTIF(L20:L26,AD13)","v":0},{"$f":"AE13/(AG4-AE14)","v":{"$error":"#DIV/0!"}},{"$f":"IF(AF13=0,0,(AF13*((LOG(AF13))/LOG(2))))","v":{"$error":"#DIV/0!"}},null,{"$f":"N13","v":221},{"$f":"COUNTIF(L27:L33,AI13)","v":0},{"$f":"AJ13/(AL4-AJ14)","v":{"$error":"#DIV/0!"}},{"$f":"IF(AK13=0,0,(AK13*((LOG(AK13))/LOG(2))))","v":{"$error":"#DIV/0!"}},null,{"$f":"N13","v":221},{"$f":"COUNTIF(L34:L39,AN13)","v":0},{"$f":"AO13/(AQ4-AO14)","v":{"$error":"#DIV/0!"}},{"$f":"IF(AP13=0,0,(AP13*((LOG(AP13))/LOG(2))))","v":{"$error":"#DIV/0!"}},null,{"$f":"N13","v":221},{"$f":"COUNTIF(L40:L46,AS13)","v":0},{"$f":"AT13/(AV4-AT14)","v":{"$error":"#DIV/0!"}},{"$f":"IF(AU13=0,0,(AU13*((LOG(AU13))/LOG(2))))","v":{"$error":"#DIV/0!"}}]
[21,1129,21,1133,21,1137,null,null,null,null,0,222,null,222,{"$f":"COUNTIF($L$7:$L$500,N14)","v":40},{"$f":"O14/$Q$4","v":1},{"$f":"IF(P14=0,0,(P14*((LOG(P14))/LOG(2))))","v":0},null,null,{"$f":"N14","v":222},{"$f":"COUNTIF(L7:L13,T14)","v":7},null,null,null,{"$f":"N14","v":222},{"$f":"COUNTIF(L14:L19,Y14)","v":6},null,null,null,{"$f":"N14","v":222},{"$f":"COUNTIF(L20:L26,AD14)","v":7},null,null,null,{"$f":"N14","v":222},{"$f":"COUNTIF(L27:L33,AI14)","v":7},null,null,null,{"$f":"N14","v":222},{"$f":"COUNTIF(L34:L39,AN14)","v":6},null,null,null,{"$f":"N14","v":222},{"$f":"COUNTIF(L40:L46,AS14)","v":7}]
[21,1323,21,1327,21,1331,null,null,null,null,0,222,null,null,null,{"$f":"SUM(P7:P14)","v":1},{"$f":"-SUM(Q7:Q14)","v":0},null,null,null,null,{"$f":"SUM(V7:V14)","v":{"$error":"#DIV/0!"}},{"$f":"-SUM(W7:W14)","v":{"$error":"#DIV/0!"}},null,null,null,{"$f":"SUM(AA7:AA14)","v":{"$error":"#DIV/0!"}},{"$f":"-SUM(AB7:AB14)","v":{"$error":"#DIV/0!"}},null,null,null,{"$f":"SUM(AF7:AF14)","v":{"$error":"#DIV/0!"}},{"$f":"-SUM(AG7:AG14)","v":{"$error":"#DIV/0!"}},null,null,null,{"$f":"SUM(AK7:AK14)","v":{"$error":"#DIV/0!"}},{"$f":"-SUM(AL7:AL14)","v":{"$error":"#DIV/0!"}},null,null,null,{"$f":"SUM(AP7:AP14)","v":{"$error":"#DIV/0!"}},{"$f":"-SUM(AQ7:AQ14)","v":{"$error":"#DIV/0!"}},null,null,null,{"$f":"SUM(AU7:AU14)","v":{"$error":"#DIV/0!"}},{"$f":"-SUM(AV7:AV14)","v":{"$error":"#DIV/0!"}}]
[21,1489,21,1493,21,1499,null,null,null,null,0,222,null,null,null,"U=",{"$f":"Q15/(LOG(Q4)/LOG(2))","v":0},null,null,null,null,"U1=",{"$f":"W15/(LOG(W4)/LOG(2))","v":{"$error":"#DIV/0!"}},null,null,null,"U2=",{"$f":"AB15/(LOG(AB4)/LOG(2))","v":{"$error":"#DIV/0!"}},null,null,null,"U3=",{"$f":"AG15/(LOG(AG4)/LOG(2))","v":{"$error":"#DIV/0!"}},null,null,null,"U4=",{"$f":"AL15/(LOG(AL4)/LOG(2))","v":{"$error":"#DIV/0!"}},null,null,null,"U5=",{"$f":"AQ15/(LOG(AQ4)/LOG(2))","v":{"$error":"#DIV/0!"}},null,null,null,"U6=",{"$f":"AV15/(LOG(AV4)/LOG(2))","v":{"$error":"#DIV/0!"}}]
[21,1736,21,1742,21,1748,null,null,null,null,0,222]
[21,1964,21,1965,21,1969,null,null,null,null,0,222]
[21,2089,21,2091,21,2097,null,null,null,null,0,222,null,"Total Target Seq"]
[21,2309,21,2313,21,2318,null,null,null,null,0,222,null,{"$f":"COUNTIF(L7:L46,G3)","v":40},null,7,6,7,7,6,7]
[21,2470,21,2471,21,2474,null,null,null,null,0,222,null,null,null,"% of reinforcement given in 6 equal intervals based on number of trials "]
[21,2615,21,2621,21,2627,null,null,null,null,0,222,null,null,null,"%_1","%_2","%_3","%_4","%_5","%_6"]
[21,2776,21,2782,21,2786,null,null,null,null,0,222,null,null,"target sequence",{"$f":"$G$3","v":222},{"$f":"$G$3","v":222},{"$f":"$G$3","v":222},{"$f":"$G$3","v":222},{"$f":"$G$3","v":222},{"$f":"$G$3","v":222}]
[21,2945,21,2956,21,2963,null,null,null,null,0,222,null,null,"total reinforcement",{"$f":"U14","v":7},{"$f":"Z14","v":6},{"$f":"AE14","v":7},{"$f":"AJ14","v":7},{"$f":"AO14","v":6},{"$f":"AT14","v":7}]
[21,3162,21,3166,21,3172,null,null,null,null,0,222,null,null,"% target"]
[21,3366,21,3369,21,3379,null,null,null,null,0,222,null,null,"CCRF"]
[21,3574,21,3579,21,3581,null,null,null,null,0,222,null,null,"% CCRf"]
[21,3682,21,3687,21,3692,null,null,null,null,0,222,null,null,"average response rate",{"$f":"F13/P20","v":137.14285714285714},{"$f":"(F19-F13)/Q20","v":189.5},{"$f":"(F26-F19)/R20","v":183.14285714285714},{"$f":"(F33-F26)/S20","v":158.85714285714286},{"$f":"(F39-F33)/T20","v":215.83333333333334},{"$f":"(F46-F39)/U20","v":270.57142857142856}]
[21,3891,21,3897,21,3902,null,null,null,null,0,222]
[21,4029,21,4034,21,4039,null,null,null,null,0,222]
[21,4178,21,4181,21,4184,null,null,null,null,0,222]
[21,4369,21,4375,21,4379,null,null,null,null,0,222]
[21,4480,21,4485,21,4491,null,null,null,null,0,222]
[21,4690,21,4694,21,4700,null,null,null,null,0,222]
[21,4880,21,4882,21,4888,null,null,null,null,0,222]
[21,5074,21,5083,21,5089,null,null,null,null,0,222]
[21,5288,21,5295,21,5304,null,null,null,null,0,222]
[21,5532,21,5536,21,5542,null,null,null,null,0,222]
[21,5768,21,5772,21,5786,null,null,null,null,0,222]
[21,6098,21,6103,21,6107,null,null,null,null,0,222]
[21,6326,21,6330,21,6335,null,null,null,null,0,222]
[21,6535,21,6541,21,6548,null,null,null,null,0,222]
[21,6736,21,6742,21,6748,null,null,null,null,0,222]
[21,6959,21,6965,21,6972,null,null,null,null,0,222]
[21,7172,21,7176,21,7180,null,null,null,null,0,222]
[21,7670,21,7675,21,7680,null,null,null,null,1,222]

{"sheet":"!M420B1D.UST","index":29,"n_rows":47,"n_cols":48,"rows_kept":47,"cut":false,"hidden":false,"merged":[[4,39,4,42],[5,39,5,40],[4,44,4,47],[5,44,5,45],[4,24,4,27],[5,24,5,25],[4,29,4,32],[5,29,5,30],[4,34,4,37],[5,34,5,35],[1,1,1,2],[5,13,5,14],[18,13,18,14],[19,13,19,14],[4,19,4,22],[5,19,5,20]]}
["Report for:!M420B1D.UST"]
["Date:","<date>"]
["Hen:","<hen>",null,null,null,"Correct Sequence",{"$f":"Start!J2","v":222},null,null,null,null,null,null,null,null,"Total Sequences in Data",{"$f":"4994-COUNTBLANK(L7:L5000)","v":41},null,null,null,null,"Total Sequences in Block Data",{"$f":"COUNTA(L7:L13)","v":7},null,null,null,"Total Sequences in Block Data",{"$f":"COUNTA(L14:L20)","v":7},null,null,null,"Total Sequences in Block Data",{"$f":"COUNTA(L21:L26)","v":6},null,null,null,"Total Sequences in Block Data",{"$f":"COUNTA(L27:L33)","v":7},null,null,null,"Total Sequences in Block Data",{"$f":"COUNTA(L34:L40)","v":7},null,null,null,"Total Sequences in Block Data",{"$f":"COUNTA(L41:L47)","v":7}]
[null,null,null,null,null,null,null,null,null,null,null,null,null,null,null,"Total Sequences in Summary",{"$f":"SUM(O7:O14)","v":41},null,null,null,null,"Total Sequences in Block Summary",{"$f":"SUM(U7:U14)","v":7},null,null,null,"Total Sequences in Block Summary",{"$f":"SUM(Z7:Z14)","v":7},null,null,null,"Total Sequences in Block Summary",{"$f":"SUM(AE7:AE14)","v":6},null,null,null,"Total Sequences in Block Summary",{"$f":"SUM(AJ7:AJ14)","v":7},null,null,null,"Total Sequences in Block Summary",{"$f":"SUM(AO7:AO14)","v":7},null,null,null,"Total Sequences in Block Summary",{"$f":"SUM(AT7:AT14)","v":7}]
[null,null,null,null,null,null,null,null,null,null,null,null,null,null,null,null,null,null,null,"Block 1",null,null,null,null,"Block 2",null,null,null,null,"Block 3",null,null,null,null,"Block 4",null,null,null,null,"Block 5",null,null,null,null,"Block 6"]
["Sequence\nComponent\n1","Time\n1","Sequence\nComponent\n2","Time\n2","Sequence\nComponent\n3","Time\n3","Sequence\nComponent\n4","Time\n4","Sequence\nComponent\n5","Time\n5","Correct?\n0=No 1=Yes","Sequence",null,"Frequency",null,"Relative Frequency","Variability",null,null,"Frequency",null,"Relative Frequency","Variability",null,"Frequency",null,"Relative Frequency","Variability",null,"Frequency",null,"Relative Frequency","Variability",null,"Frequency",null,"Relative Frequency","Variability",null,"Frequency",null,"Relative Frequency","Variability",null,"Frequency",null,"Relative Frequency","Variability"]
[21,11,21,16,21,21,null,null,null,null,0,222,null,111,{"$f":"COUNTIF($L$7:$L$500,N7)","v":0},{"$f":"O7/$Q$4","v":0},{"$f":"IF(P7=0,0,(P7*((LOG(P7))/LOG(2))))","v":0},null,null,{"$f":"N7","v":111},{"$f":"COUNTIF(L7:L13,T7)","v":0},{"$f":"U7/(W4-U14)","v":{"$error":"#DIV/0!"}},{"$f":"IF(V7=0,0,(V7*((LOG(V7))/LOG(2))))","v":{"$error":"#DIV/0!"}},null,{"$f":"N7","v":111},{"$f":"COUNTIF(L14:L20,Y7)","v":0},{"$f":"Z7/(AB4-Z14)","v":{"$error":"#DIV/0!"}},{"$f":"IF(AA7=0,0,(AA7*((LOG(AA7))/LOG(2))))","v":{"$error":"#DIV/0!"}},null,{"$f":"N7","v":111},{"$f":"COUNTIF(L21:L26,AD7)","v":0},{"$f":"AE7/(AG4-AE14)","v":{"$error":"#DIV/0!"}},{"$f":"IF(AF7=0,0,(AF7*((LOG(AF7))/LOG(2))))","v":{"$error":"#DIV/0!"}},null,{"$f":"N7","v":111},{"$f":"COUNTIF(L27:L33,AI7)","v":0},{"$f":"AJ7/(AL4-AJ14)","v":{"$error":"#DIV/0!"}},{"$f":"IF(AK7=0,0,(AK7*((LOG(AK7))/LOG(2))))","v":{"$error":"#DIV/0!"}},null,{"$f":"N7","v":111},{"$f":"COUNTIF(L34:L40,AN7)","v":0},{"$f":"AO7/(AQ4-AO14)","v":0},{"$f":"IF(AP7=0,0,(AP7*((LOG(AP7))/LOG(2))))","v":0},null,{"$f":"N7","v":111},{"$f":"COUNTIF(L41:L47,AS7)","v":0},{"$f":"AT7/(AV4-AT14)","v":{"$error":"#DIV/0!"}},{"$f":"IF(AU7=0,0,(AU7*((LOG(AU7))/LOG(2))))","v":{"$error":"#DIV/0!"}}]
[21,160,21,164,21,166,null,null,null,null,0,222,null,112,{"$f":"COUNTIF($L$7:$L$500,N8)","v":0},{"$f":"O8/$Q$4","v":0},{"$f":"IF(P8=0,0,(P8*((LOG(P8))/LOG(2))))","v":0},null,null,{"$f":"N8","v":112},{"$f":"COUNTIF(L7:L13,T8)","v":0},{"$f":"U8/(W4-U14)","v":{"$error":"#DIV/0!"}},{"$f":"IF(V8=0,0,(V8*((LOG(V8))/LOG(2))))","v":{"$error":"#DIV/0!"}},null,{"$f":"N8","v":112},{"$f":"COUNTIF(L14:L20,Y8)","v":0},{"$f":"Z8/(AB4-Z14)","v":{"$error":"#DIV/0!"}},{"$f":"IF(AA8=0,0,(AA8*((LOG(AA8))/LOG(2))))","v":{"$error":"#DIV/0!"}},null,{"$f":"N8","v":112},{"$f":"COUNTIF(L21:L26,AD8)","v":0},{"$f":"AE8/(AG4-AE14)","v":{"$error":"#DIV/0!"}},{"$f":"IF(AF8=0,0,(AF8*((LOG(AF8))/LOG(2))))","v":{"$error":"#DIV/0!"}},null,{"$f":"N8","v":112},{"$f":"COUNTIF(L27:L33,AI8)","v":0},{"$f":"AJ8/(AL4-AJ14)","v":{"$error":"#DIV/0!"}},{"$f":"IF(AK8=0,0,(AK8*((LOG(AK8))/LOG(2))))","v":{"$error":"#DIV/0!"}},null,{"$f":"N8","v":112},{"$f":"COUNTIF(L34:L40,AN8)","v":0},{"$f":"AO8/(AQ4-AO14)","v":0},{"$f":"IF(AP8=0,0,(AP8*((LOG(AP8))/LOG(2))))","v":0},null,{"$f":"N8","v":112},{"$f":"COUNTIF(L41:L47,AS8)","v":0},{"$f":"AT8/(AV4-AT14)","v":{"$error":"#DIV/0!"}},{"$f":"IF(AU8=0,0,(AU8*((LOG(AU8))/LOG(2))))","v":{"$error":"#DIV/0!"}}]
[21,341,21,344,21,346,null,null,null,null,0,222,null,121,{"$f":"COUNTIF($L$7:$L$500,N9)","v":0},{"$f":"O9/$Q$4","v":0},{"$f":"IF(P9=0,0,(P9*((LOG(P9))/LOG(2))))","v":0},null,null,{"$f":"N9","v":121},{"$f":"COUNTIF(L7:L13,T9)","v":0},{"$f":"U9/(W4-U14)","v":{"$error":"#DIV/0!"}},{"$f":"IF(V9=0,0,(V9*((LOG(V9))/LOG(2))))","v":{"$error":"#DIV/0!"}},null,{"$f":"N9","v":121},{"$f":"COUNTIF(L14:L20,Y9)","v":0},{"$f":"Z9/(AB4-Z14)","v":{"$error":"#DIV/0!"}},{"$f":"IF(AA9=0,0,(AA9*((LOG(AA9))/LOG(2))))","v":{"$error":"#DIV/0!"}},null,{"$f":"N9","v":121},{"$f":"COUNTIF(L21:L26,AD9)","v":0},{"$f":"AE9/(AG4-AE14)","v":{"$error":"#DIV/0!"}},{"$f":"IF(AF9=0,0,(AF9*((LOG(AF9))/LOG(2))))","v":{"$error":"#DIV/0!"}},null,{"$f":"N9","v":121},{"$f":"COUNTIF(L27:L33,AI9)","v":0},{"$f":"AJ9/(AL4-AJ14)","v":{"$error":"#DIV/0!"}},{"$f":"IF(AK9=0,0,(AK9*((LOG(AK9))/LOG(2))))","v":{"$error":"#DIV/0!"}},null,{"$f":"N9","v":121},{"$f":"COUNTIF(L34:L40,AN9)","v":0},{"$f":"AO9/(AQ4-AO14)","v":0},{"$f":"IF(AP9=0,0,(AP9*((LOG(AP9))/LOG(2))))","v":0},null,{"$f":"N9","v":121},{"$f":"COUNTIF(L41:L47,AS9)","v":0},{"$f":"AT9/(AV4-AT14)","v":{"$error":"#DIV/0!"}},{"$f":"IF(AU9=0,0,(AU9*((LOG(AU9))/LOG(2))))","v":{"$error":"#DIV/0!"}}]
[21,521,21,527,21,533,null,null,null,null,0,222,null,122,{"$f":"COUNTIF($L$7:$L$500,N10)","v":1},{"$f":"O10/$Q$4","v":2.4390243902439025E-2},{"$f":"IF(P10=0,0,(P10*((LOG(P10))/LOG(2))))","v":-0.13067200011263619},null,null,{"$f":"N10","v":122},{"$f":"COUNTIF(L7:L13,T10)","v":0},{"$f":"U10/(W4-U14)","v":{"$error":"#DIV/0!"}},{"$f":"IF(V10=0,0,(V10*((LOG(V10))/LOG(2))))","v":{"$error":"#DIV/0!"}},null,{"$f":"N10","v":122},{"$f":"COUNTIF(L14:L20,Y10)","v":0},{"$f":"Z10/(AB4-Z14)","v":{"$error":"#DIV/0!"}},{"$f":"IF(AA10=0,0,(AA10*((LOG(AA10))/LOG(2))))","v":{"$error":"#DIV/0!"}},null,{"$f":"N10","v":122},{"$f":"COUNTIF(L21:L26,AD10)","v":0},{"$f":"AE10/(AG4-AE14)","v":{"$error":"#DIV/0!"}},{"$f":"IF(AF10=0,0,(AF10*((LOG(AF10))/LOG(2))))","v":{"$error":"#DIV/0!"}},null,{"$f":"N10","v":122},{"$f":"COUNTIF(L27:L33,AI10)","v":0},{"$f":"AJ10/(AL4-AJ14)","v":{"$error":"#DIV/0!"}},{"$f":"IF(AK10=0,0,(AK10*((LOG(AK10))/LOG(2))))","v":{"$error":"#DIV/0!"}},null,{"$f":"N10","v":122},{"$f":"COUNTIF(L34:L40,AN10)","v":1},{"$f":"AO10/(AQ4-AO14)","v":1},{"$f":"IF(AP10=0,0,(AP10*((LOG(AP10))/LOG(2))))","v":0},null,{"$f":"N10","v":122},{"$f":"COUNTIF(L41:L47,AS10)","v":0},{"$f":"AT10/(AV4-AT14)","v":{"$error":"#DIV/0!"}},{"$f":"IF(AU10=0,0,(AU10*((LOG(AU10))/LOG(2))))","v":{"$error":"#DIV/0!"}}]
[21,721,21,726,21,732,null,null,null,null,0,222,null,211,{"$f":"COUNTIF($L$7:$L$500,N11)","v":0},{"$f":"O11/$Q$4","v":0},{"$f":"IF(P11=0,0,(P11*((LOG(P11))/LOG(2))))","v":0},null,null,{"$f":"N11","v":211},{"$f":"COUNTIF(L7:L13,T11)","v":0},{"$f":"U11/(W4-U14)","v":{"$error":"#DIV/0!"}},{"$f":"IF(V11=0,0,(V11*((LOG(V11))/LOG(2))))","v":{"$error":"#DIV/0!"}},null,{"$f":"N11","v":211},{"$f":"COUNTIF(L14:L20,Y11)","v":0},{"$f":"Z11/(AB4-Z14)","v":{"$error":"#DIV/0!"}},{"$f":"IF(AA11=0,0,(AA11*((LOG(AA11))/LOG(2))))","v":{"$error":"#DIV/0!"}},null,{"$f":"N11","v":211},{"$f":"COUNTIF(L21:L26,AD11)","v":0},{"$f":"AE11/(AG4-AE14)","v":{"$error":"#DIV/0!"}},{"$f":"IF(AF11=0,0,(AF11*((LOG(AF11))/LOG(2))))","v":{"$error":"#DIV/0!"}},null,{"$f":"N11","v":211},{"$f":"COUNTIF(L27:L33,AI11)","v":0},{"$f":"AJ11/(AL4-AJ14)","v":{"$error":"#DIV/0!"}},{"$f":"IF(AK11=0,0,(AK11*((LOG(AK11))/LOG(2))))","v":{"$error":"#DIV/0!"}},null,{"$f":"N11","v":211},{"$f":"COUNTIF(L34:L40,AN11)","v":0},{"$f":"AO11/(AQ4-AO14)","v":0},{"$f":"IF(AP11=0,0,(AP11*((LOG(AP11))/LOG(2))))","v":0},null,{"$f":"N11","v":211},{"$f":"COUNTIF(L41:L47,AS11)","v":0},{"$f":"AT11/(AV4-AT14)","v":{"$error":"#DIV/0!"}},{"$f":"IF(AU11=0,0,(AU11*((LOG(AU11))/LOG(2))))","v":{"$error":"#DIV/0!"}}]
[21,925,21,929,21,933,null,null,null,null,0,222,null,212,{"$f":"COUNTIF($L$7:$L$500,N12)","v":0},{"$f":"O12/$Q$4","v":0},{"$f":"IF(P12=0,0,(P12*((LOG(P12))/LOG(2))))","v":0},null,null,{"$f":"N12","v":212},{"$f":"COUNTIF(L7:L13,T12)","v":0},{"$f":"U12/(W4-U14)","v":{"$error":"#DIV/0!"}},{"$f":"IF(V12=0,0,(V12*((LOG(V12))/LOG(2))))","v":{"$error":"#DIV/0!"}},null,{"$f":"N12","v":212},{"$f":"COUNTIF(L14:L20,Y12)","v":0},{"$f":"Z12/(AB4-Z14)","v":{"$error":"#DIV/0!"}},{"$f":"IF(AA12=0,0,(AA12*((LOG(AA12))/LOG(2))))","v":{"$error":"#DIV/0!"}},null,{"$f":"N12","v":212},{"$f":"COUNTIF(L21:L26,AD12)","v":0},{"$f":"AE12/(AG4-AE14)","v":{"$error":"#DIV/0!"}},{"$f":"IF(AF12=0,0,(AF12*((LOG(AF12))/LOG(2))))","v":{"$error":"#DIV/0!"}},null,{"$f":"N12","v":212},{"$f":"COUNTIF(L27:L33,AI12)","v":0},{"$f":"AJ12/(AL4-AJ14)","v":{"$error":"#DIV/0!"}},{"$f":"IF(AK12=0,0,(AK12*((LOG(AK12))/LOG(2))))","v":{"$error":"#DIV/0!"}},null,{"$f":"N12","v":212},{"$f":"COUNTIF(L34:L40,AN12)","v":0},{"$f":"AO12/(AQ4-AO14)","v":0},{"$f":"IF(AP12=0,0,(AP12*((LOG(AP12))/LOG(2))))","v":0},null,{"$f":"N12","v":212},{"$f":"COUNTIF(L41:L47,AS12)","v":0},{"$f":"AT12/(AV4-AT14)","v":{"$error":"#DIV/0!"}},{"$f":"IF(AU12=0,0,(AU12*((LOG(AU12))/LOG(2))))","v":{"$error":"#DIV/0!"}}]
[21,1144,21,1149,21,1154,null,null,null,null,0,222,null,221,{"$f":"COUNTIF($L$7:$L$500,N13)","v":0},{"$f":"O13/$Q$4","v":0},{"$f":"IF(P13=0,0,(P13*((LOG(P13))/LOG(2))))","v":0},null,null,{"$f":"N13","v":221},{"$f":"COUNTIF(L7:L13,T13)","v":0},{"$f":"U13/(W4-U14)","v":{"$error":"#DIV/0!"}},{"$f":"IF(V13=0,0,(V13*((LOG(V13))/LOG(2))))","v":{"$error":"#DIV/0!"}},null,{"$f":"N13","v":221},{"$f":"COUNTIF(L14:L20,Y13)","v":0},{"$f":"Z13/(AB4-Z14)","v":{"$error":"#DIV/0!"}},{"$f":"IF(AA13=0,0,(AA13*((LOG(AA13))/LOG(2))))","v":{"$error":"#DIV/0!"}},null,{"$f":"N13","v":221},{"$f":"COUNTIF(L21:L26,AD13)","v":0},{"$f":"AE13/(AG4-AE14)","v":{"$error":"#DIV/0!"}},{"$f":"IF(AF13=0,0,(AF13*((LOG(AF13))/LOG(2))))","v":{"$error":"#DIV/0!"}},null,{"$f":"N13","v":221},{"$f":"COUNTIF(L27:L33,AI13)","v":0},{"$f":"AJ13/(AL4-AJ14)","v":{"$error":"#DIV/0!"}},{"$f":"IF(AK13=0,0,(AK13*((LOG(AK13))/LOG(2))))","v":{"$error":"#DIV/0!"}},null,{"$f":"N13","v":221},{"$f":"COUNTIF(L34:L40,AN13)","v":0},{"$f":"AO13/(AQ4-AO14)","v":0},{"$f":"IF(AP13=0,0,(AP13*((LOG(AP13))/LOG(2))))","v":0},null,{"$f":"N13","v":221},{"$f":"COUNTIF(L41:L47,AS13)","v":0},{"$f":"AT13/(AV4-AT14)","v":{"$error":"#DIV/0!"}},{"$f":"IF(AU13=0,0,(AU13*((LOG(AU13))/LOG(2))))","v":{"$error":"#DIV/0!"}}]
[21,1479,21,1482,21,1488,null,null,null,null,0,222,null,222,{"$f":"COUNTIF($L$7:$L$500,N14)","v":40},{"$f":"O14/$Q$4","v":0.97560975609756095},{"$f":"IF(P14=0,0,(P14*((LOG(P14))/LOG(2))))","v":-3.4755033883630611E-2},null,null,{"$f":"N14","v":222},{"$f":"COUNTIF(L7:L13,T14)","v":7},null,null,null,{"$f":"N14","v":222},{"$f":"COUNTIF(L14:L20,Y14)","v":7},null,null,null,{"$f":"N14","v":222},{"$f":"COUNTIF(L21:L26,AD14)","v":6},null,null,null,{"$f":"N14","v":222},{"$f":"COUNTIF(L27:L33,AI14)","v":7},null,null,null,{"$f":"N14","v":222},{"$f":"COUNTIF(L34:L40,AN14)","v":6},null,null,null,{"$f":"N14","v":222},{"$f":"COUNTIF(L41:L47,AS14)","v":7}]
[21,1771,21,1775,21,1782,null,null,null,null,0,222,null,null,null,{"$f":"SUM(P7:P14)","v":1},{"$f":"-SUM(Q7:Q14)","v":0.16542703399626679},null,null,null,null,{"$f":"SUM(V7:V14)","v":{"$error":"#DIV/0!"}},{"$f":"-SUM(W7:W14)","v":{"$error":"#DIV/0!"}},null,null,null,{"$f":"SUM(AA7:AA14)","v":{"$error":"#DIV/0!"}},{"$f":"-SUM(AB7:AB14)","v":{"$error":"#DIV/0!"}},null,null,null,{"$f":"SUM(AF7:AF14)","v":{"$error":"#DIV/0!"}},{"$f":"-SUM(AG7:AG14)","v":{"$error":"#DIV/0!"}},null,null,null,{"$f":"SUM(AK7:AK14)","v":{"$error":"#DIV/0!"}},{"$f":"-SUM(AL7:AL14)","v":{"$error":"#DIV/0!"}},null,null,null,{"$f":"SUM(AP7:AP14)","v":1},{"$f":"-SUM(AQ7:AQ14)","v":0},null,null,null,{"$f":"SUM(AU7:AU14)","v":{"$error":"#DIV/0!"}},{"$f":"-SUM(AV7:AV14)","v":{"$error":"#DIV/0!"}}]
[21,2023,21,2029,21,2037,null,null,null,null,0,222,null,null,null,"U=",{"$f":"Q15/(LOG(Q4)/LOG(2))","v":3.0877354779509855E-2},null,null,null,null,"U1=",{"$f":"W15/(LOG(W4)/LOG(2))","v":{"$error":"#DIV/0!"}},null,null,null,"U2=",{"$f":"AB15/(LOG(AB4)/LOG(2))","v":{"$error":"#DIV/0!"}},null,null,null,"U3=",{"$f":"AG15/(LOG(AG4)/LOG(2))","v":{"$error":"#DIV/0!"}},null,null,null,"U4=",{"$f":"AL15/(LOG(AL4)/LOG(2))","v":{"$error":"#DIV/0!"}},null,null,null,"U5=",{"$f":"AQ15/(LOG(AQ4)/LOG(2))","v":0},null,null,null,"U6=",{"$f":"AV15/(LOG(AV4)/LOG(2))","v":{"$error":"#DIV/0!"}}]
[21,2268,21,2271,21,2277,null,null,null,null,0,222]
[21,2491,21,2497,21,2517,null,null,null,null,0,222]
[21,2794,21,2803,21,2810,null,null,null,null,0,222,null,"Total Target Seq"]
[21,3017,21,3022,21,3028,null,null,null,null,0,222,null,{"$f":"COUNTIF(L7:L47,G3)","v":40},null,7,7,6,7,7,7]
[21,3282,21,3286,21,3292,null,null,null,null,0,222,null,null,null,"% of reinforcement given in 6 equal intervals based on number of trials "]
[21,3848,21,3853,21,3859,null,null,null,null,0,222,null,null,null,"%_1","%_2","%_3","%_4","%_5","%_6"]
[21,4452,21,4456,21,4461,null,null,null,null,0,222,null,null,"target sequence",{"$f":"$G$3","v":222},{"$f":"$G$3","v":222},{"$f":"$G$3","v":222},{"$f":"$G$3","v":222},{"$f":"$G$3","v":222},{"$f":"$G$3","v":222}]
[21,5039,21,5044,21,5049,null,null,null,null,0,222,null,null,"total reinforcement",{"$f":"U14","v":7},{"$f":"Z14","v":7},{"$f":"AE14","v":6},{"$f":"AJ14","v":7},{"$f":"AO14","v":6},{"$f":"AT14","v":7}]
[21,5364,21,5368,21,5374,null,null,null,null,0,222,null,null,"% target"]
[21,5638,21,5644,21,5653,null,null,null,null,0,222,null,null,"CCRF"]
[21,6094,21,6098,21,6104,null,null,null,null,0,222,null,null,"% CCRf"]
[21,6437,21,6443,21,6449,null,null,null,null,0,222,null,null,"average response rate",{"$f":"F13/P20","v":164.85714285714286},{"$f":"(F20-F13)/Q20","v":267.71428571428572},{"$f":"(F26-F20)/R20","v":437.5},{"$f":"(F33-F26)/S20","v":362.85714285714283},{"$f":"(F40-F33)/T20","v":407},{"$f":"(F47-F40)/U20","v":313.85714285714283}]
[21,6861,21,6866,21,6871,null,null,null,null,0,222]
[21,7106,21,7111,21,7116,null,null,null,null,0,222]
[21,7380,21,7384,21,7389,null,null,null,null,0,222]
[21,7755,21,7761,21,7769,null,null,null,null,0,222]
[21,8179,21,8182,21,8193,null,null,null,null,0,222]
[21,8538,21,8544,21,8550,null,null,null,null,0,222]
[21,8965,21,8970,21,8975,null,null,null,null,0,222]
[21,9289,21,9294,21,9299,null,null,null,null,0,222]
[21,9683,21,9692,21,9698,null,null,null,null,0,222]
[21,10268,21,10277,21,10287,null,null,null,null,0,222]
[12,10913,23,10927,23,10933,null,null,null,null,0,122]
[21,11030,21,11035,21,11042,null,null,null,null,0,222]
[21,11309,21,11315,21,11319,null,null,null,null,0,222]
[21,11557,21,11566,21,11572,null,null,null,null,0,222]
[21,11812,21,11817,21,11821,null,null,null,null,0,222]
[21,12188,21,12193,21,12198,null,null,null,null,0,222]
[21,12435,21,12441,21,12446,null,null,null,null,0,222]
[21,12821,21,12827,21,12833,null,null,null,null,0,222]
[21,13229,21,13233,21,13239,null,null,null,null,1,222]

{"sheet":"!M421A3D.UST","index":30,"n_rows":46,"n_cols":48,"rows_kept":46,"cut":false,"hidden":false,"merged":[[4,39,4,42],[5,39,5,40],[4,44,4,47],[5,44,5,45],[4,24,4,27],[5,24,5,25],[4,29,4,32],[5,29,5,30],[4,34,4,37],[5,34,5,35],[1,1,1,2],[5,13,5,14],[18,13,18,14],[19,13,19,14],[4,19,4,22],[5,19,5,20]]}
["Report for:!M421A3D.UST"]
["Date:","<date>"]
["Hen:","<hen>",null,null,null,"Correct Sequence",{"$f":"Start!J2","v":222},null,null,null,null,null,null,null,null,"Total Sequences in Data",{"$f":"4994-COUNTBLANK(L7:L5000)","v":40},null,null,null,null,"Total Sequences in Block Data",{"$f":"COUNTA(L7:L13)","v":7},null,null,null,"Total Sequences in Block Data",{"$f":"COUNTA(L14:L19)","v":6},null,null,null,"Total Sequences in Block Data",{"$f":"COUNTA(L20:L26)","v":7},null,null,null,"Total Sequences in Block Data",{"$f":"COUNTA(L27:L33)","v":7},null,null,null,"Total Sequences in Block Data",{"$f":"COUNTA(L34:L39)","v":6},null,null,null,"Total Sequences in Block Data",{"$f":"COUNTA(L40:L46)","v":7}]
[null,null,null,null,null,null,null,null,null,null,null,null,null,null,null,"Total Sequences in Summary",{"$f":"SUM(O7:O14)","v":40},null,null,null,null,"Total Sequences in Block Summary",{"$f":"SUM(U7:U14)","v":7},null,null,null,"Total Sequences in Block Summary",{"$f":"SUM(Z7:Z14)","v":6},null,null,null,"Total Sequences in Block Summary",{"$f":"SUM(AE7:AE14)","v":7},null,null,null,"Total Sequences in Block Summary",{"$f":"SUM(AJ7:AJ14)","v":7},null,null,null,"Total Sequences in Block Summary",{"$f":"SUM(AO7:AO14)","v":6},null,null,null,"Total Sequences in Block Summary",{"$f":"SUM(AT7:AT14)","v":7}]
[null,null,null,null,null,null,null,null,null,null,null,null,null,null,null,null,null,null,null,"Block 1",null,null,null,null,"Block 2",null,null,null,null,"Block 3",null,null,null,null,"Block 4",null,null,null,null,"Block 5",null,null,null,null,"Block 6"]
["Sequence\nComponent\n1","Time\n1","Sequence\nComponent\n2","Time\n2","Sequence\nComponent\n3","Time\n3","Sequence\nComponent\n4","Time\n4","Sequence\nComponent\n5","Time\n5","Correct?\n0=No 1=Yes","Sequence",null,"Frequency",null,"Relative Frequency","Variability",null,null,"Frequency",null,"Relative Frequency","Variability",null,"Frequency",null,"Relative Frequency","Variability",null,"Frequency",null,"Relative Frequency","Variability",null,"Frequency",null,"Relative Frequency","Variability",null,"Frequency",null,"Relative Frequency","Variability",null,"Frequency",null,"Relative Frequency","Variability"]
[21,6,21,11,21,17,null,null,null,null,0,222,null,111,{"$f":"COUNTIF($L$7:$L$500,N7)","v":0},{"$f":"O7/$Q$4","v":0},{"$f":"IF(P7=0,0,(P7*((LOG(P7))/LOG(2))))","v":0},null,null,{"$f":"N7","v":111},{"$f":"COUNTIF(L7:L13,T7)","v":0},{"$f":"U7/(W4-U14)","v":{"$error":"#DIV/0!"}},{"$f":"IF(V7=0,0,(V7*((LOG(V7))/LOG(2))))","v":{"$error":"#DIV/0!"}},null,{"$f":"N7","v":111},{"$f":"COUNTIF(L14:L19,Y7)","v":0},{"$f":"Z7/(AB4-Z14)","v":{"$error":"#DIV/0!"}},{"$f":"IF(AA7=0,0,(AA7*((LOG(AA7))/LOG(2))))","v":{"$error":"#DIV/0!"}},null,{"$f":"N7","v":111},{"$f":"COUNTIF(L20:L26,AD7)","v":0},{"$f":"AE7/(AG4-AE14)","v":{"$error":"#DIV/0!"}},{"$f":"IF(AF7=0,0,(AF7*((LOG(AF7))/LOG(2))))","v":{"$error":"#DIV/0!"}},null,{"$f":"N7","v":111},{"$f":"COUNTIF(L27:L33,AI7)","v":0},{"$f":"AJ7/(AL4-AJ14)","v":{"$error":"#DIV/0!"}},{"$f":"IF(AK7=0,0,(AK7*((LOG(AK7))/LOG(2))))","v":{"$error":"#DIV/0!"}},null,{"$f":"N7","v":111},{"$f":"COUNTIF(L34:L39,AN7)","v":0},{"$f":"AO7/(AQ4-AO14)","v":{"$error":"#DIV/0!"}},{"$f":"IF(AP7=0,0,(AP7*((LOG(AP7))/LOG(2))))","v":{"$error":"#DIV/0!"}},null,{"$f":"N7","v":111},{"$f":"COUNTIF(L40:L46,AS7)","v":0},{"$f":"AT7/(AV4-AT14)","v":{"$error":"#DIV/0!"}},{"$f":"IF(AU7=0,0,(AU7*((LOG(AU7))/LOG(2))))","v":{"$error":"#DIV/0!"}}]
[21,150,21,156,21,162,null,null,null,null,0,222,null,112,{"$f":"COUNTIF($L$7:$L$500,N8)","v":0},{"$f":"O8/$Q$4","v":0},{"$f":"IF(P8=0,0,(P8*((LOG(P8))/LOG(2))))","v":0},null,null,{"$f":"N8","v":112},{"$f":"COUNTIF(L7:L13,T8)","v":0},{"$f":"U8/(W4-U14)","v":{"$error":"#DIV/0!"}},{"$f":"IF(V8=0,0,(V8*((LOG(V8))/LOG(2))))","v":{"$error":"#DIV/0!"}},null,{"$f":"N8","v":112},{"$f":"COUNTIF(L14:L19,Y8)","v":0},{"$f":"Z8/(AB4-Z14)","v":{"$error":"#DIV/0!"}},{"$f":"IF(AA8=0,0,(AA8*((LOG(AA8))/LOG(2))))","v":{"$error":"#DIV/0!"}},null,{"$f":"N8","v":112},{"$f":"COUNTIF(L20:L26,AD8)","v":0},{"$f":"AE8/(AG4-AE14)","v":{"$error":"#DIV/0!"}},{"$f":"IF(AF8=0,0,(AF8*((LOG(AF8))/LOG(2))))","v":{"$error":"#DIV/0!"}},null,{"$f":"N8","v":112},{"$f":"COUNTIF(L27:L33,AI8)","v":0},{"$f":"AJ8/(AL4-AJ14)","v":{"$error":"#DIV/0!"}},{"$f":"IF(AK8=0,0,(AK8*((LOG(AK8))/LOG(2))))","v":{"$error":"#DIV/0!"}},null,{"$f":"N8","v":112},{"$f":"COUNTIF(L34:L39,AN8)","v":0},{"$f":"AO8/(AQ4-AO14)","v":{"$error":"#DIV/0!"}},{"$f":"IF(AP8=0,0,(AP8*((LOG(AP8))/LOG(2))))","v":{"$error":"#DIV/0!"}},null,{"$f":"N8","v":112},{"$f":"COUNTIF(L40:L46,AS8)","v":0},{"$f":"AT8/(AV4-AT14)","v":{"$error":"#DIV/0!"}},{"$f":"IF(AU8=0,0,(AU8*((LOG(AU8))/LOG(2))))","v":{"$error":"#DIV/0!"}}]
[21,278,21,284,21,286,null,null,null,null,0,222,null,121,{"$f":"COUNTIF($L$7:$L$500,N9)","v":0},{"$f":"O9/$Q$4","v":0},{"$f":"IF(P9=0,0,(P9*((LOG(P9))/LOG(2))))","v":0},null,null,{"$f":"N9","v":121},{"$f":"COUNTIF(L7:L13,T9)","v":0},{"$f":"U9/(W4-U14)","v":{"$error":"#DIV/0!"}},{"$f":"IF(V9=0,0,(V9*((LOG(V9))/LOG(2))))","v":{"$error":"#DIV/0!"}},null,{"$f":"N9","v":121},{"$f":"COUNTIF(L14:L19,Y9)","v":0},{"$f":"Z9/(AB4-Z14)","v":{"$error":"#DIV/0!"}},{"$f":"IF(AA9=0,0,(AA9*((LOG(AA9))/LOG(2))))","v":{"$error":"#DIV/0!"}},null,{"$f":"N9","v":121},{"$f":"COUNTIF(L20:L26,AD9)","v":0},{"$f":"AE9/(AG4-AE14)","v":{"$error":"#DIV/0!"}},{"$f":"IF(AF9=0,0,(AF9*((LOG(AF9))/LOG(2))))","v":{"$error":"#DIV/0!"}},null,{"$f":"N9","v":121},{"$f":"COUNTIF(L27:L33,AI9)","v":0},{"$f":"AJ9/(AL4-AJ14)","v":{"$error":"#DIV/0!"}},{"$f":"IF(AK9=0,0,(AK9*((LOG(AK9))/LOG(2))))","v":{"$error":"#DIV/0!"}},null,{"$f":"N9","v":121},{"$f":"COUNTIF(L34:L39,AN9)","v":0},{"$f":"AO9/(AQ4-AO14)","v":{"$error":"#DIV/0!"}},{"$f":"IF(AP9=0,0,(AP9*((LOG(AP9))/LOG(2))))","v":{"$error":"#DIV/0!"}},null,{"$f":"N9","v":121},{"$f":"COUNTIF(L40:L46,AS9)","v":0},{"$f":"AT9/(AV4-AT14)","v":{"$error":"#DIV/0!"}},{"$f":"IF(AU9=0,0,(AU9*((LOG(AU9))/LOG(2))))","v":{"$error":"#DIV/0!"}}]
[21,399,21,404,21,411,null,null,null,null,0,222,null,122,{"$f":"COUNTIF($L$7:$L$500,N10)","v":0},{"$f":"O10/$Q$4","v":0},{"$f":"IF(P10=0,0,(P10*((LOG(P10))/LOG(2))))","v":0},null,null,{"$f":"N10","v":122},{"$f":"COUNTIF(L7:L13,T10)","v":0},{"$f":"U10/(W4-U14)","v":{"$error":"#DIV/0!"}},{"$f":"IF(V10=0,0,(V10*((LOG(V10))/LOG(2))))","v":{"$error":"#DIV/0!"}},null,{"$f":"N10","v":122},{"$f":"COUNTIF(L14:L19,Y10)","v":0},{"$f":"Z10/(AB4-Z14)","v":{"$error":"#DIV/0!"}},{"$f":"IF(AA10=0,0,(AA10*((LOG(AA10))/LOG(2))))","v":{"$error":"#DIV/0!"}},null,{"$f":"N10","v":122},{"$f":"COUNTIF(L20:L26,AD10)","v":0},{"$f":"AE10/(AG4-AE14)","v":{"$error":"#DIV/0!"}},{"$f":"IF(AF10=0,0,(AF10*((LOG(AF10))/LOG(2))))","v":{"$error":"#DIV/0!"}},null,{"$f":"N10","v":122},{"$f":"COUNTIF(L27:L33,AI10)","v":0},{"$f":"AJ10/(AL4-AJ14)","v":{"$error":"#DIV/0!"}},{"$f":"IF(AK10=0,0,(AK10*((LOG(AK10))/LOG(2))))","v":{"$error":"#DIV/0!"}},null,{"$f":"N10","v":122},{"$f":"COUNTIF(L34:L39,AN10)","v":0},{"$f":"AO10/(AQ4-AO14)","v":{"$error":"#DIV/0!"}},{"$f":"IF(AP10=0,0,(AP10*((LOG(AP10))/LOG(2))))","v":{"$error":"#DIV/0!"}},null,{"$f":"N10","v":122},{"$f":"COUNTIF(L40:L46,AS10)","v":0},{"$f":"AT10/(AV4-AT14)","v":{"$error":"#DIV/0!"}},{"$f":"IF(AU10=0,0,(AU10*((LOG(AU10))/LOG(2))))","v":{"$error":"#DIV/0!"}}]
[21,560,21,567,21,569,null,null,null,null,0,222,null,211,{"$f":"COUNTIF($L$7:$L$500,N11)","v":0},{"$f":"O11/$Q$4","v":0},{"$f":"IF(P11=0,0,(P11*((LOG(P11))/LOG(2))))","v":0},null,null,{"$f":"N11","v":211},{"$f":"COUNTIF(L7:L13,T11)","v":0},{"$f":"U11/(W4-U14)","v":{"$error":"#DIV/0!"}},{"$f":"IF(V11=0,0,(V11*((LOG(V11))/LOG(2))))","v":{"$error":"#DIV/0!"}},null,{"$f":"N11","v":211},{"$f":"COUNTIF(L14:L19,Y11)","v":0},{"$f":"Z11/(AB4-Z14)","v":{"$error":"#DIV/0!"}},{"$f":"IF(AA11=0,0,(AA11*((LOG(AA11))/LOG(2))))","v":{"$error":"#DIV/0!"}},null,{"$f":"N11","v":211},{"$f":"COUNTIF(L20:L26,AD11)","v":0},{"$f":"AE11/(AG4-AE14)","v":{"$error":"#DIV/0!"}},{"$f":"IF(AF11=0,0,(AF11*((LOG(AF11))/LOG(2))))","v":{"$error":"#DIV/0!"}},null,{"$f":"N11","v":211},{"$f":"COUNTIF(L27:L33,AI11)","v":0},{"$f":"AJ11/(AL4-AJ14)","v":{"$error":"#DIV/0!"}},{"$f":"IF(AK11=0,0,(AK11*((LOG(AK11))/LOG(2))))","v":{"$error":"#DIV/0!"}},null,{"$f":"N11","v":211},{"$f":"COUNTIF(L34:L39,AN11)","v":0},{"$f":"AO11/(AQ4-AO14)","v":{"$error":"#DIV/0!"}},{"$f":"IF(AP11=0,0,(AP11*((LOG(AP11))/LOG(2))))","v":{"$error":"#DIV/0!"}},null,{"$f":"N11","v":211},{"$f":"COUNTIF(L40:L46,AS11)","v":0},{"$f":"AT11/(AV4-AT14)","v":{"$error":"#DIV/0!"}},{"$f":"IF(AU11=0,0,(AU11*((LOG(AU11))/LOG(2))))","v":{"$error":"#DIV/0!"}}]
[21,710,21,715,21,717,null,null,null,null,0,222,null,212,{"$f":"COUNTIF($L$7:$L$500,N12)","v":0},{"$f":"O12/$Q$4","v":0},{"$f":"IF(P12=0,0,(P12*((LOG(P12))/LOG(2))))","v":0},null,null,{"$f":"N12","v":212},{"$f":"COUNTIF(L7:L13,T12)","v":0},{"$f":"U12/(W4-U14)","v":{"$error":"#DIV/0!"}},{"$f":"IF(V12=0,0,(V12*((LOG(V12))/LOG(2))))","v":{"$error":"#DIV/0!"}},null,{"$f":"N12","v":212},{"$f":"COUNTIF(L14:L19,Y12)","v":0},{"$f":"Z12/(AB4-Z14)","v":{"$error":"#DIV/0!"}},{"$f":"IF(AA12=0,0,(AA12*((LOG(AA12))/LOG(2))))","v":{"$error":"#DIV/0!"}},null,{"$f":"N12","v":212},{"$f":"COUNTIF(L20:L26,AD12)","v":0},{"$f":"AE12/(AG4-AE14)","v":{"$error":"#DIV/0!"}},{"$f":"IF(AF12=0,0,(AF12*((LOG(AF12))/LOG(2))))","v":{"$error":"#DIV/0!"}},null,{"$f":"N12","v":212},{"$f":"COUNTIF(L27:L33,AI12)","v":0},{"$f":"AJ12/(AL4-AJ14)","v":{"$error":"#DIV/0!"}},{"$f":"IF(AK12=0,0,(AK12*((LOG(AK12))/LOG(2))))","v":{"$error":"#DIV/0!"}},null,{"$f":"N12","v":212},{"$f":"COUNTIF(L34:L39,AN12)","v":0},{"$f":"AO12/(AQ4-AO14)","v":{"$error":"#DIV/0!"}},{"$f":"IF(AP12=0,0,(AP12*((LOG(AP12))/LOG(2))))","v":{"$error":"#DIV/0!"}},null,{"$f":"N12","v":212},{"$f":"COUNTIF(L40:L46,AS12)","v":0},{"$f":"AT12/(AV4-AT14)","v":{"$error":"#DIV/0!"}},{"$f":"IF(AU12=0,0,(AU12*((LOG(AU12))/LOG(2))))","v":{"$error":"#DIV/0!"}}]
[21,891,21,894,21,897,null,null,null,null,0,222,null,221,{"$f":"COUNTIF($L$7:$L$500,N13)","v":0},{"$f":"O13/$Q$4","v":0},{"$f":"IF(P13=0,0,(P13*((LOG(P13))/LOG(2))))","v":0},null,null,{"$f":"N13","v":221},{"$f":"COUNTIF(L7:L13,T13)","v":0},{"$f":"U13/(W4-U14)","v":{"$error":"#DIV/0!"}},{"$f":"IF(V13=0,0,(V13*((LOG(V13))/LOG(2))))","v":{"$error":"#DIV/0!"}},null,{"$f":"N13","v":221},{"$f":"COUNTIF(L14:L19,Y13)","v":0},{"$f":"Z13/(AB4-Z14)","v":{"$error":"#DIV/0!"}},{"$f":"IF(AA13=0,0,(AA13*((LOG(AA13))/LOG(2))))","v":{"$error":"#DIV/0!"}},null,{"$f":"N13","v":221},{"$f":"COUNTIF(L20:L26,AD13)","v":0},{"$f":"AE13/(AG4-AE14)","v":{"$error":"#DIV/0!"}},{"$f":"IF(AF13=0,0,(AF13*((LOG(AF13))/LOG(2))))","v":{"$error":"#DIV/0!"}},null,{"$f":"N13","v":221},{"$f":"COUNTIF(L27:L33,AI13)","v":0},{"$f":"AJ13/(AL4-AJ14)","v":{"$error":"#DIV/0!"}},{"$f":"IF(AK13=0,0,(AK13*((LOG(AK13))/LOG(2))))","v":{"$error":"#DIV/0!"}},null,{"$f":"N13","v":221},{"$f":"COUNTIF(L34:L39,AN13)","v":0},{"$f":"AO13/(AQ4-AO14)","v":{"$error":"#DIV/0!"}},{"$f":"IF(AP13=0,0,(AP13*((LOG(AP13))/LOG(2))))","v":{"$error":"#DIV/0!"}},null,{"$f":"N13","v":221},{"$f":"COUNTIF(L40:L46,AS13)","v":0},{"$f":"AT13/(AV4-AT14)","v":{"$error":"#DIV/0!"}},{"$f":"IF(AU13=0,0,(AU13*((LOG(AU13))/LOG(2))))","v":{"$error":"#DIV/0!"}}]
[21,1036,21,1038,21,1041,null,null,null,null,0,222,null,222,{"$f":"COUNTIF($L$7:$L$500,N14)","v":40},{"$f":"O14/$Q$4","v":1},{"$f":"IF(P14=0,0,(P14*((LOG(P14))/LOG(2))))","v":0},null,null,{"$f":"N14","v":222},{"$f":"COUNTIF(L7:L13,T14)","v":7},null,null,null,{"$f":"N14","v":222},{"$f":"COUNTIF(L14:L19,Y14)","v":6},null,null,null,{"$f":"N14","v":222},{"$f":"COUNTIF(L20:L26,AD14)","v":7},null,null,null,{"$f":"N14","v":222},{"$f":"COUNTIF(L27:L33,AI14)","v":7},null,null,null,{"$f":"N14","v":222},{"$f":"COUNTIF(L34:L39,AN14)","v":6},null,null,null,{"$f":"N14","v":222},{"$f":"COUNTIF(L40:L46,AS14)","v":7}]
[21,1211,21,1215,21,1222,null,null,null,null,0,222,null,null,null,{"$f":"SUM(P7:P14)","v":1},{"$f":"-SUM(Q7:Q14)","v":0},null,null,null,null,{"$f":"SUM(V7:V14)","v":{"$error":"#DIV/0!"}},{"$f":"-SUM(W7:W14)","v":{"$error":"#DIV/0!"}},null,null,null,{"$f":"SUM(AA7:AA14)","v":{"$error":"#DIV/0!"}},{"$f":"-SUM(AB7:AB14)","v":{"$error":"#DIV/0!"}},null,null,null,{"$f":"SUM(AF7:AF14)","v":{"$error":"#DIV/0!"}},{"$f":"-SUM(AG7:AG14)","v":{"$error":"#DIV/0!"}},null,null,null,{"$f":"SUM(AK7:AK14)","v":{"$error":"#DIV/0!"}},{"$f":"-SUM(AL7:AL14)","v":{"$error":"#DIV/0!"}},null,null,null,{"$f":"SUM(AP7:AP14)","v":{"$error":"#DIV/0!"}},{"$f":"-SUM(AQ7:AQ14)","v":{"$error":"#DIV/0!"}},null,null,null,{"$f":"SUM(AU7:AU14)","v":{"$error":"#DIV/0!"}},{"$f":"-SUM(AV7:AV14)","v":{"$error":"#DIV/0!"}}]
[21,1402,21,1407,21,1414,null,null,null,null,0,222,null,null,null,"U=",{"$f":"Q15/(LOG(Q4)/LOG(2))","v":0},null,null,null,null,"U1=",{"$f":"W15/(LOG(W4)/LOG(2))","v":{"$error":"#DIV/0!"}},null,null,null,"U2=",{"$f":"AB15/(LOG(AB4)/LOG(2))","v":{"$error":"#DIV/0!"}},null,null,null,"U3=",{"$f":"AG15/(LOG(AG4)/LOG(2))","v":{"$error":"#DIV/0!"}},null,null,null,"U4=",{"$f":"AL15/(LOG(AL4)/LOG(2))","v":{"$error":"#DIV/0!"}},null,null,null,"U5=",{"$f":"AQ15/(LOG(AQ4)/LOG(2))","v":{"$error":"#DIV/0!"}},null,null,null,"U6=",{"$f":"AV15/(LOG(AV4)/LOG(2))","v":{"$error":"#DIV/0!"}}]
[21,1611,21,1615,21,1618,null,null,null,null,0,222]
[21,1753,21,1756,21,1764,null,null,null,null,0,222]
[21,1918,21,1924,21,1930,null,null,null,null,0,222,null,"Total Target Seq"]
[21,2082,21,2086,21,2092,null,null,null,null,0,222,null,{"$f":"COUNTIF(L7:L46,G3)","v":40},null,7,6,7,7,6,7]
[21,2245,21,2249,21,2257,null,null,null,null,0,222,null,null,null,"% of reinforcement given in 6 equal intervals based on number of trials "]
[21,2489,21,2495,21,2512,null,null,null,null,0,222,null,null,null,"%_1","%_2","%_3","%_4","%_5","%_6"]
[21,2660,21,2664,21,2666,null,null,null,null,0,222,null,null,"target sequence",{"$f":"$G$3","v":222},{"$f":"$G$3","v":222},{"$f":"$G$3","v":222},{"$f":"$G$3","v":222},{"$f":"$G$3","v":222},{"$f":"$G$3","v":222}]
[21,2816,21,2823,21,2843,null,null,null,null,0,222,null,null,"total reinforcement",{"$f":"U14","v":7},{"$f":"Z14","v":6},{"$f":"AE14","v":7},{"$f":"AJ14","v":7},{"$f":"AO14","v":6},{"$f":"AT14","v":7}]
[21,3052,21,3054,21,3061,null,null,null,null,0,222,null,null,"% target"]
[21,3211,21,3213,21,3220,null,null,null,null,0,222,null,null,"CCRF"]
[21,3425,21,3430,21,3436,null,null,null,null,0,222,null,null,"% CCRf"]
[21,3608,21,3611,21,3617,null,null,null,null,0,222,null,null,"average response rate",{"$f":"F13/P20","v":128.14285714285714},{"$f":"(F19-F13)/Q20","v":172.16666666666666},{"$f":"(F26-F19)/R20","v":184.28571428571428},{"$f":"(F33-F26)/S20","v":208.71428571428572},{"$f":"(F39-F33)/T20","v":193},{"$f":"(F46-F39)/U20","v":226.57142857142858}]
[21,3790,21,3796,21,3803,null,null,null,null,0,222]
[21,4002,21,4007,21,4012,null,null,null,null,0,222]
[21,4225,21,4229,21,4233,null,null,null,null,0,222]
[21,4461,21,4463,21,4470,null,null,null,null,0,222]
[21,4672,21,4675,21,4681,null,null,null,null,0,222]
[21,4812,21,4815,21,4818,null,null,null,null,0,222]
[21,5001,21,5006,21,5014,null,null,null,null,0,222]
[21,5195,21,5200,21,5217,null,null,null,null,0,222]
[21,5357,21,5363,21,5370,null,null,null,null,0,222]
[21,5635,21,5640,21,5646,null,null,null,null,0,222]
[21,5833,21,5836,21,5839,null,null,null,null,0,222]
[21,6042,21,6055,21,6069,null,null,null,null,0,222]
[21,6240,21,6242,21,6246,null,null,null,null,0,222]
[21,6518,21,6524,21,6530,null,null,null,null,0,222]
[21,6729,21,6735,21,6740,null,null,null,null,0,222]
[21,6962,21,6966,21,6972,null,null,null,null,0,222]
[21,7175,21,7182,21,7189,null,null,null,null,0,222]
[21,7413,21,7419,21,7425,null,null,null,null,1,222]

{"sheet":"!M422B5D.UST","index":31,"n_rows":46,"n_cols":48,"rows_kept":46,"cut":false,"hidden":false,"merged":[[4,39,4,42],[5,39,5,40],[4,44,4,47],[5,44,5,45],[4,24,4,27],[5,24,5,25],[4,29,4,32],[5,29,5,30],[4,34,4,37],[5,34,5,35],[1,1,1,2],[5,13,5,14],[18,13,18,14],[19,13,19,14],[4,19,4,22],[5,19,5,20]]}
["Report for:!M422B5D.UST"]
["Date:","<date>"]
["Hen:","<hen>",null,null,null,"Correct Sequence",{"$f":"Start!J2","v":222},null,null,null,null,null,null,null,null,"Total Sequences in Data",{"$f":"4994-COUNTBLANK(L7:L5000)","v":40},null,null,null,null,"Total Sequences in Block Data",{"$f":"COUNTA(L7:L13)","v":7},null,null,null,"Total Sequences in Block Data",{"$f":"COUNTA(L14:L19)","v":6},null,null,null,"Total Sequences in Block Data",{"$f":"COUNTA(L20:L26)","v":7},null,null,null,"Total Sequences in Block Data",{"$f":"COUNTA(L27:L33)","v":7},null,null,null,"Total Sequences in Block Data",{"$f":"COUNTA(L34:L39)","v":6},null,null,null,"Total Sequences in Block Data",{"$f":"COUNTA(L40:L46)","v":7}]
[null,null,null,null,null,null,null,null,null,null,null,null,null,null,null,"Total Sequences in Summary",{"$f":"SUM(O7:O14)","v":40},null,null,null,null,"Total Sequences in Block Summary",{"$f":"SUM(U7:U14)","v":7},null,null,null,"Total Sequences in Block Summary",{"$f":"SUM(Z7:Z14)","v":6},null,null,null,"Total Sequences in Block Summary",{"$f":"SUM(AE7:AE14)","v":7},null,null,null,"Total Sequences in Block Summary",{"$f":"SUM(AJ7:AJ14)","v":7},null,null,null,"Total Sequences in Block Summary",{"$f":"SUM(AO7:AO14)","v":6},null,null,null,"Total Sequences in Block Summary",{"$f":"SUM(AT7:AT14)","v":7}]
[null,null,null,null,null,null,null,null,null,null,null,null,null,null,null,null,null,null,null,"Block 1",null,null,null,null,"Block 2",null,null,null,null,"Block 3",null,null,null,null,"Block 4",null,null,null,null,"Block 5",null,null,null,null,"Block 6"]
["Sequence\nComponent\n1","Time\n1","Sequence\nComponent\n2","Time\n2","Sequence\nComponent\n3","Time\n3","Sequence\nComponent\n4","Time\n4","Sequence\nComponent\n5","Time\n5","Correct?\n0=No 1=Yes","Sequence",null,"Frequency",null,"Relative Frequency","Variability",null,null,"Frequency",null,"Relative Frequency","Variability",null,"Frequency",null,"Relative Frequency","Variability",null,"Frequency",null,"Relative Frequency","Variability",null,"Frequency",null,"Relative Frequency","Variability",null,"Frequency",null,"Relative Frequency","Variability",null,"Frequency",null,"Relative Frequency","Variability"]
[21,42,21,48,21,53,null,null,null,null,0,222,null,111,{"$f":"COUNTIF($L$7:$L$500,N7)","v":0},{"$f":"O7/$Q$4","v":0},{"$f":"IF(P7=0,0,(P7*((LOG(P7))/LOG(2))))","v":0},null,null,{"$f":"N7","v":111},{"$f":"COUNTIF(L7:L13,T7)","v":0},{"$f":"U7/(W4-U14)","v":{"$error":"#DIV/0!"}},{"$f":"IF(V7=0,0,(V7*((LOG(V7))/LOG(2))))","v":{"$error":"#DIV/0!"}},null,{"$f":"N7","v":111},{"$f":"COUNTIF(L14:L19,Y7)","v":0},{"$f":"Z7/(AB4-Z14)","v":{"$error":"#DIV/0!"}},{"$f":"IF(AA7=0,0,(AA7*((LOG(AA7))/LOG(2))))","v":{"$error":"#DIV/0!"}},null,{"$f":"N7","v":111},{"$f":"COUNTIF(L20:L26,AD7)","v":0},{"$f":"AE7/(AG4-AE14)","v":{"$error":"#DIV/0!"}},{"$f":"IF(AF7=0,0,(AF7*((LOG(AF7))/LOG(2))))","v":{"$error":"#DIV/0!"}},null,{"$f":"N7","v":111},{"$f":"COUNTIF(L27:L33,AI7)","v":0},{"$f":"AJ7/(AL4-AJ14)","v":{"$error":"#DIV/0!"}},{"$f":"IF(AK7=0,0,(AK7*((LOG(AK7))/LOG(2))))","v":{"$error":"#DIV/0!"}},null,{"$f":"N7","v":111},{"$f":"COUNTIF(L34:L39,AN7)","v":0},{"$f":"AO7/(AQ4-AO14)","v":{"$error":"#DIV/0!"}},{"$f":"IF(AP7=0,0,(AP7*((LOG(AP7))/LOG(2))))","v":{"$error":"#DIV/0!"}},null,{"$f":"N7","v":111},{"$f":"COUNTIF(L40:L46,AS7)","v":0},{"$f":"AT7/(AV4-AT14)","v":{"$error":"#DIV/0!"}},{"$f":"IF(AU7=0,0,(AU7*((LOG(AU7))/LOG(2))))","v":{"$error":"#DIV/0!"}}]
[21,211,21,218,21,246,null,null,null,null,0,222,null,112,{"$f":"COUNTIF($L$7:$L$500,N8)","v":0},{"$f":"O8/$Q$4","v":0},{"$f":"IF(P8=0,0,(P8*((LOG(P8))/LOG(2))))","v":0},null,null,{"$f":"N8","v":112},{"$f":"COUNTIF(L7:L13,T8)","v":0},{"$f":"U8/(W4-U14)","v":{"$error":"#DIV/0!"}},{"$f":"IF(V8=0,0,(V8*((LOG(V8))/LOG(2))))","v":{"$error":"#DIV/0!"}},null,{"$f":"N8","v":112},{"$f":"COUNTIF(L14:L19,Y8)","v":0},{"$f":"Z8/(AB4-Z14)","v":{"$error":"#DIV/0!"}},{"$f":"IF(AA8=0,0,(AA8*((LOG(AA8))/LOG(2))))","v":{"$error":"#DIV/0!"}},null,{"$f":"N8","v":112},{"$f":"COUNTIF(L20:L26,AD8)","v":0},{"$f":"AE8/(AG4-AE14)","v":{"$error":"#DIV/0!"}},{"$f":"IF(AF8=0,0,(AF8*((LOG(AF8))/LOG(2))))","v":{"$error":"#DIV/0!"}},null,{"$f":"N8","v":112},{"$f":"COUNTIF(L27:L33,AI8)","v":0},{"$f":"AJ8/(AL4-AJ14)","v":{"$error":"#DIV/0!"}},{"$f":"IF(AK8=0,0,(AK8*((LOG(AK8))/LOG(2))))","v":{"$error":"#DIV/0!"}},null,{"$f":"N8","v":112},{"$f":"COUNTIF(L34:L39,AN8)","v":0},{"$f":"AO8/(AQ4-AO14)","v":{"$error":"#DIV/0!"}},{"$f":"IF(AP8=0,0,(AP8*((LOG(AP8))/LOG(2))))","v":{"$error":"#DIV/0!"}},null,{"$f":"N8","v":112},{"$f":"COUNTIF(L40:L46,AS8)","v":0},{"$f":"AT8/(AV4-AT14)","v":{"$error":"#DIV/0!"}},{"$f":"IF(AU8=0,0,(AU8*((LOG(AU8))/LOG(2))))","v":{"$error":"#DIV/0!"}}]
[21,402,21,405,21,407,null,null,null,null,0,222,null,121,{"$f":"COUNTIF($L$7:$L$500,N9)","v":0},{"$f":"O9/$Q$4","v":0},{"$f":"IF(P9=0,0,(P9*((LOG(P9))/LOG(2))))","v":0},null,null,{"$f":"N9","v":121},{"$f":"COUNTIF(L7:L13,T9)","v":0},{"$f":"U9/(W4-U14)","v":{"$error":"#DIV/0!"}},{"$f":"IF(V9=0,0,(V9*((LOG(V9))/LOG(2))))","v":{"$error":"#DIV/0!"}},null,{"$f":"N9","v":121},{"$f":"COUNTIF(L14:L19,Y9)","v":0},{"$f":"Z9/(AB4-Z14)","v":{"$error":"#DIV/0!"}},{"$f":"IF(AA9=0,0,(AA9*((LOG(AA9))/LOG(2))))","v":{"$error":"#DIV/0!"}},null,{"$f":"N9","v":121},{"$f":"COUNTIF(L20:L26,AD9)","v":0},{"$f":"AE9/(AG4-AE14)","v":{"$error":"#DIV/0!"}},{"$f":"IF(AF9=0,0,(AF9*((LOG(AF9))/LOG(2))))","v":{"$error":"#DIV/0!"}},null,{"$f":"N9","v":121},{"$f":"COUNTIF(L27:L33,AI9)","v":0},{"$f":"AJ9/(AL4-AJ14)","v":{"$error":"#DIV/0!"}},{"$f":"IF(AK9=0,0,(AK9*((LOG(AK9))/LOG(2))))","v":{"$error":"#DIV/0!"}},null,{"$f":"N9","v":121},{"$f":"COUNTIF(L34:L39,AN9)","v":0},{"$f":"AO9/(AQ4-AO14)","v":{"$error":"#DIV/0!"}},{"$f":"IF(AP9=0,0,(AP9*((LOG(AP9))/LOG(2))))","v":{"$error":"#DIV/0!"}},null,{"$f":"N9","v":121},{"$f":"COUNTIF(L40:L46,AS9)","v":0},{"$f":"AT9/(AV4-AT14)","v":{"$error":"#DIV/0!"}},{"$f":"IF(AU9=0,0,(AU9*((LOG(AU9))/LOG(2))))","v":{"$error":"#DIV/0!"}}]
[21,601,21,604,21,616,null,null,null,null,0,222,null,122,{"$f":"COUNTIF($L$7:$L$500,N10)","v":0},{"$f":"O10/$Q$4","v":0},{"$f":"IF(P10=0,0,(P10*((LOG(P10))/LOG(2))))","v":0},null,null,{"$f":"N10","v":122},{"$f":"COUNTIF(L7:L13,T10)","v":0},{"$f":"U10/(W4-U14)","v":{"$error":"#DIV/0!"}},{"$f":"IF(V10=0,0,(V10*((LOG(V10))/LOG(2))))","v":{"$error":"#DIV/0!"}},null,{"$f":"N10","v":122},{"$f":"COUNTIF(L14:L19,Y10)","v":0},{"$f":"Z10/(AB4-Z14)","v":{"$error":"#DIV/0!"}},{"$f":"IF(AA10=0,0,(AA10*((LOG(AA10))/LOG(2))))","v":{"$error":"#DIV/0!"}},null,{"$f":"N10","v":122},{"$f":"COUNTIF(L20:L26,AD10)","v":0},{"$f":"AE10/(AG4-AE14)","v":{"$error":"#DIV/0!"}},{"$f":"IF(AF10=0,0,(AF10*((LOG(AF10))/LOG(2))))","v":{"$error":"#DIV/0!"}},null,{"$f":"N10","v":122},{"$f":"COUNTIF(L27:L33,AI10)","v":0},{"$f":"AJ10/(AL4-AJ14)","v":{"$error":"#DIV/0!"}},{"$f":"IF(AK10=0,0,(AK10*((LOG(AK10))/LOG(2))))","v":{"$error":"#DIV/0!"}},null,{"$f":"N10","v":122},{"$f":"COUNTIF(L34:L39,AN10)","v":0},{"$f":"AO10/(AQ4-AO14)","v":{"$error":"#DIV/0!"}},{"$f":"IF(AP10=0,0,(AP10*((LOG(AP10))/LOG(2))))","v":{"$error":"#DIV/0!"}},null,{"$f":"N10","v":122},{"$f":"COUNTIF(L40:L46,AS10)","v":0},{"$f":"AT10/(AV4-AT14)","v":{"$error":"#DIV/0!"}},{"$f":"IF(AU10=0,0,(AU10*((LOG(AU10))/LOG(2))))","v":{"$error":"#DIV/0!"}}]
[21,833,21,835,21,837,null,null,null,null,0,222,null,211,{"$f":"COUNTIF($L$7:$L$500,N11)","v":0},{"$f":"O11/$Q$4","v":0},{"$f":"IF(P11=0,0,(P11*((LOG(P11))/LOG(2))))","v":0},null,null,{"$f":"N11","v":211},{"$f":"COUNTIF(L7:L13,T11)","v":0},{"$f":"U11/(W4-U14)","v":{"$error":"#DIV/0!"}},{"$f":"IF(V11=0,0,(V11*((LOG(V11))/LOG(2))))","v":{"$error":"#DIV/0!"}},null,{"$f":"N11","v":211},{"$f":"COUNTIF(L14:L19,Y11)","v":0},{"$f":"Z11/(AB4-Z14)","v":{"$error":"#DIV/0!"}},{"$f":"IF(AA11=0,0,(AA11*((LOG(AA11))/LOG(2))))","v":{"$error":"#DIV/0!"}},null,{"$f":"N11","v":211},{"$f":"COUNTIF(L20:L26,AD11)","v":0},{"$f":"AE11/(AG4-AE14)","v":{"$error":"#DIV/0!"}},{"$f":"IF(AF11=0,0,(AF11*((LOG(AF11))/LOG(2))))","v":{"$error":"#DIV/0!"}},null,{"$f":"N11","v":211},{"$f":"COUNTIF(L27:L33,AI11)","v":0},{"$f":"AJ11/(AL4-AJ14)","v":{"$error":"#DIV/0!"}},{"$f":"IF(AK11=0,0,(AK11*((LOG(AK11))/LOG(2))))","v":{"$error":"#DIV/0!"}},null,{"$f":"N11","v":211},{"$f":"COUNTIF(L34:L39,AN11)","v":0},{"$f":"AO11/(AQ4-AO14)","v":{"$error":"#DIV/0!"}},{"$f":"IF(AP11=0,0,(AP11*((LOG(AP11))/LOG(2))))","v":{"$error":"#DIV/0!"}},null,{"$f":"N11","v":211},{"$f":"COUNTIF(L40:L46,AS11)","v":0},{"$f":"AT11/(AV4-AT14)","v":{"$error":"#DIV/0!"}},{"$f":"IF(AU11=0,0,(AU11*((LOG(AU11))/LOG(2))))","v":{"$error":"#DIV/0!"}}]
[21,1016,21,1023,21,1028,null,null,null,null,0,222,null,212,{"$f":"COUNTIF($L$7:$L$500,N12)","v":0},{"$f":"O12/$Q$4","v":0},{"$f":"IF(P12=0,0,(P12*((LOG(P12))/LOG(2))))","v":0},null,null,{"$f":"N12","v":212},{"$f":"COUNTIF(L7:L13,T12)","v":0},{"$f":"U12/(W4-U14)","v":{"$error":"#DIV/0!"}},{"$f":"IF(V12=0,0,(V12*((LOG(V12))/LOG(2))))","v":{"$error":"#DIV/0!"}},null,{"$f":"N12","v":212},{"$f":"COUNTIF(L14:L19,Y12)","v":0},{"$f":"Z12/(AB4-Z14)","v":{"$error":"#DIV/0!"}},{"$f":"IF(AA12=0,0,(AA12*((LOG(AA12))/LOG(2))))","v":{"$error":"#DIV/0!"}},null,{"$f":"N12","v":212},{"$f":"COUNTIF(L20:L26,AD12)","v":0},{"$f":"AE12/(AG4-AE14)","v":{"$error":"#DIV/0!"}},{"$f":"IF(AF12=0,0,(AF12*((LOG(AF12))/LOG(2))))","v":{"$error":"#DIV/0!"}},null,{"$f":"N12","v":212},{"$f":"COUNTIF(L27:L33,AI12)","v":0},{"$f":"AJ12/(AL4-AJ14)","v":{"$error":"#DIV/0!"}},{"$f":"IF(AK12=0,0,(AK12*((LOG(AK12))/LOG(2))))","v":{"$error":"#DIV/0!"}},null,{"$f":"N12","v":212},{"$f":"COUNTIF(L34:L39,AN12)","v":0},{"$f":"AO12/(AQ4-AO14)","v":{"$error":"#DIV/0!"}},{"$f":"IF(AP12=0,0,(AP12*((LOG(AP12))/LOG(2))))","v":{"$error":"#DIV/0!"}},null,{"$f":"N12","v":212},{"$f":"COUNTIF(L40:L46,AS12)","v":0},{"$f":"AT12/(AV4-AT14)","v":{"$error":"#DIV/0!"}},{"$f":"IF(AU12=0,0,(AU12*((LOG(AU12))/LOG(2))))","v":{"$error":"#DIV/0!"}}]
[21,1191,21,1197,21,1204,null,null,null,null,0,222,null,221,{"$f":"COUNTIF($L$7:$L$500,N13)","v":0},{"$f":"O13/$Q$4","v":0},{"$f":"IF(P13=0,0,(P13*((LOG(P13))/LOG(2))))","v":0},null,null,{"$f":"N13","v":221},{"$f":"COUNTIF(L7:L13,T13)","v":0},{"$f":"U13/(W4-U14)","v":{"$error":"#DIV/0!"}},{"$f":"IF(V13=0,0,(V13*((LOG(V13))/LOG(2))))","v":{"$error":"#DIV/0!"}},null,{"$f":"N13","v":221},{"$f":"COUNTIF(L14:L19,Y13)","v":0},{"$f":"Z13/(AB4-Z14)","v":{"$error":"#DIV/0!"}},{"$f":"IF(AA13=0,0,(AA13*((LOG(AA13))/LOG(2))))","v":{"$error":"#DIV/0!"}},null,{"$f":"N13","v":221},{"$f":"COUNTIF(L20:L26,AD13)","v":0},{"$f":"AE13/(AG4-AE14)","v":{"$error":"#DIV/0!"}},{"$f":"IF(AF13=0,0,(AF13*((LOG(AF13))/LOG(2))))","v":{"$error":"#DIV/0!"}},null,{"$f":"N13","v":221},{"$f":"COUNTIF(L27:L33,AI13)","v":0},{"$f":"AJ13/(AL4-AJ14)","v":{"$error":"#DIV/0!"}},{"$f":"IF(AK13=0,0,(AK13*((LOG(AK13))/LOG(2))))","v":{"$error":"#DIV/0!"}},null,{"$f":"N13","v":221},{"$f":"COUNTIF(L34:L39,AN13)","v":0},{"$f":"AO13/(AQ4-AO14)","v":{"$error":"#DIV/0!"}},{"$f":"IF(AP13=0,0,(AP13*((LOG(AP13))/LOG(2))))","v":{"$error":"#DIV/0!"}},null,{"$f":"N13","v":221},{"$f":"COUNTIF(L40:L46,AS13)","v":0},{"$f":"AT13/(AV4-AT14)","v":{"$error":"#DIV/0!"}},{"$f":"IF(AU13=0,0,(AU13*((LOG(AU13))/LOG(2))))","v":{"$error":"#DIV/0!"}}]
[21,1392,21,1396,21,1400,null,null,null,null,0,222,null,222,{"$f":"COUNTIF($L$7:$L$500,N14)","v":40},{"$f":"O14/$Q$4","v":1},{"$f":"IF(P14=0,0,(P14*((LOG(P14))/LOG(2))))","v":0},null,null,{"$f":"N14","v":222},{"$f":"COUNTIF(L7:L13,T14)","v":7},null,null,null,{"$f":"N14","v":222},{"$f":"COUNTIF(L14:L19,Y14)","v":6},null,null,null,{"$f":"N14","v":222},{"$f":"COUNTIF(L20:L26,AD14)","v":7},null,null,null,{"$f":"N14","v":222},{"$f":"COUNTIF(L27:L33,AI14)","v":7},null,null,null,{"$f":"N14","v":222},{"$f":"COUNTIF(L34:L39,AN14)","v":6},null,null,null,{"$f":"N14","v":222},{"$f":"COUNTIF(L40:L46,AS14)","v":7}]
[21,1529,21,1551,21,1563,null,null,null,null,0,222,null,null,null,{"$f":"SUM(P7:P14)","v":1},{"$f":"-SUM(Q7:Q14)","v":0},null,null,null,null,{"$f":"SUM(V7:V14)","v":{"$error":"#DIV/0!"}},{"$f":"-SUM(W7:W14)","v":{"$error":"#DIV/0!"}},null,null,null,{"$f":"SUM(AA7:AA14)","v":{"$error":"#DIV/0!"}},{"$f":"-SUM(AB7:AB14)","v":{"$error":"#DIV/0!"}},null,null,null,{"$f":"SUM(AF7:AF14)","v":{"$error":"#DIV/0!"}},{"$f":"-SUM(AG7:AG14)","v":{"$error":"#DIV/0!"}},null,null,null,{"$f":"SUM(AK7:AK14)","v":{"$error":"#DIV/0!"}},{"$f":"-SUM(AL7:AL14)","v":{"$error":"#DIV/0!"}},null,null,null,{"$f":"SUM(AP7:AP14)","v":{"$error":"#DIV/0!"}},{"$f":"-SUM(AQ7:AQ14)","v":{"$error":"#DIV/0!"}},null,null,null,{"$f":"SUM(AU7:AU14)","v":{"$error":"#DIV/0!"}},{"$f":"-SUM(AV7:AV14)","v":{"$error":"#DIV/0!"}}]
[21,1739,21,1741,21,1745,null,null,null,null,0,222,null,null,null,"U=",{"$f":"Q15/(LOG(Q4)/LOG(2))","v":0},null,null,null,null,"U1=",{"$f":"W15/(LOG(W4)/LOG(2))","v":{"$error":"#DIV/0!"}},null,null,null,"U2=",{"$f":"AB15/(LOG(AB4)/LOG(2))","v":{"$error":"#DIV/0!"}},null,null,null,"U3=",{"$f":"AG15/(LOG(AG4)/LOG(2))","v":{"$error":"#DIV/0!"}},null,null,null,"U4=",{"$f":"AL15/(LOG(AL4)/LOG(2))","v":{"$error":"#DIV/0!"}},null,null,null,"U5=",{"$f":"AQ15/(LOG(AQ4)/LOG(2))","v":{"$error":"#DIV/0!"}},null,null,null,"U6=",{"$f":"AV15/(LOG(AV4)/LOG(2))","v":{"$error":"#DIV/0!"}}]
[21,1972,21,1980,21,1985,null,null,null,null,0,222]
[21,2096,21,2098,21,2106,null,null,null,null,0,222]
[21,2277,21,2282,21,2287,null,null,null,null,0,222,null,"Total Target Seq"]
[21,2462,21,2466,21,2468,null,null,null,null,0,222,null,{"$f":"COUNTIF(L7:L46,G3)","v":40},null,7,6,7,7,6,7]
[21,2638,21,2643,21,2644,null,null,null,null,0,222,null,null,null,"% of reinforcement given in 6 equal intervals based on number of trials "]
[21,2789,21,2796,21,2798,null,null,null,null,0,222,null,null,null,"%_1","%_2","%_3","%_4","%_5","%_6"]
[21,3019,21,3024,21,3026,null,null,null,null,0,222,null,null,"target sequence",{"$f":"$G$3","v":222},{"$f":"$G$3","v":222},{"$f":"$G$3","v":222},{"$f":"$G$3","v":222},{"$f":"$G$3","v":222},{"$f":"$G$3","v":222}]
[21,3138,21,3146,21,3154,null,null,null,null,0,222,null,null,"total reinforcement",{"$f":"U14","v":7},{"$f":"Z14","v":6},{"$f":"AE14","v":7},{"$f":"AJ14","v":7},{"$f":"AO14","v":6},{"$f":"AT14","v":7}]
[21,3299,21,3304,21,3306,null,null,null,null,0,222,null,null,"% target"]
[21,3537,21,3540,21,3545,null,null,null,null,0,222,null,null,"CCRF"]
[21,3722,21,3728,21,3736,null,null,null,null,0,222,null,null,"% CCRf"]
[21,3933,21,3937,21,3940,null,null,null,null,0,222,null,null,"average response rate",{"$f":"F13/P20","v":172},{"$f":"(F19-F13)/Q20","v":180.5},{"$f":"(F26-F19)/R20","v":179.71428571428572},{"$f":"(F33-F26)/S20","v":169.57142857142858},{"$f":"(F39-F33)/T20","v":194.5},{"$f":"(F46-F39)/U20","v":243.71428571428572}]
[21,4065,21,4070,21,4074,null,null,null,null,0,222]
[21,4202,21,4205,21,4215,null,null,null,null,0,222]
[21,4379,21,4384,21,4391,null,null,null,null,0,222]
[21,4552,21,4562,21,4570,null,null,null,null,0,222]
[21,4724,21,4726,21,4732,null,null,null,null,0,222]
[21,4964,21,4969,21,4972,null,null,null,null,0,222]
[21,5208,21,5212,21,5219,null,null,null,null,0,222]
[21,5369,21,5371,21,5375,null,null,null,null,0,222]
[21,5549,21,5555,21,5558,null,null,null,null,0,222]
[21,5759,21,5764,21,5770,null,null,null,null,0,222]
[21,5891,21,5893,21,5899,null,null,null,null,0,222]
[21,6145,21,6149,21,6153,null,null,null,null,0,222]
[21,6397,21,6401,21,6422,null,null,null,null,0,222]
[21,6651,21,6658,21,6668,null,null,null,null,0,222]
[21,6898,21,6916,21,6935,null,null,null,null,0,222]
[21,7144,21,7148,21,7155,null,null,null,null,0,222]
[21,7367,21,7374,21,7381,null,null,null,null,0,222]
[21,7591,21,7596,21,7605,null,null,null,null,1,222]

{"sheet":"!M423B4D.UST","index":32,"n_rows":46,"n_cols":48,"rows_kept":46,"cut":false,"hidden":false,"merged":[[4,39,4,42],[5,39,5,40],[4,44,4,47],[5,44,5,45],[4,24,4,27],[5,24,5,25],[4,29,4,32],[5,29,5,30],[4,34,4,37],[5,34,5,35],[1,1,1,2],[5,13,5,14],[18,13,18,14],[19,13,19,14],[4,19,4,22],[5,19,5,20]]}
["Report for:!M423B4D.UST"]
["Date:","<date>"]
["Hen:","<hen>",null,null,null,"Correct Sequence",{"$f":"Start!J2","v":222},null,null,null,null,null,null,null,null,"Total Sequences in Data",{"$f":"4994-COUNTBLANK(L7:L5000)","v":40},null,null,null,null,"Total Sequences in Block Data",{"$f":"COUNTA(L7:L13)","v":7},null,null,null,"Total Sequences in Block Data",{"$f":"COUNTA(L14:L19)","v":6},null,null,null,"Total Sequences in Block Data",{"$f":"COUNTA(L20:L26)","v":7},null,null,null,"Total Sequences in Block Data",{"$f":"COUNTA(L27:L33)","v":7},null,null,null,"Total Sequences in Block Data",{"$f":"COUNTA(L34:L39)","v":6},null,null,null,"Total Sequences in Block Data",{"$f":"COUNTA(L40:L46)","v":7}]
[null,null,null,null,null,null,null,null,null,null,null,null,null,null,null,"Total Sequences in Summary",{"$f":"SUM(O7:O14)","v":40},null,null,null,null,"Total Sequences in Block Summary",{"$f":"SUM(U7:U14)","v":7},null,null,null,"Total Sequences in Block Summary",{"$f":"SUM(Z7:Z14)","v":6},null,null,null,"Total Sequences in Block Summary",{"$f":"SUM(AE7:AE14)","v":7},null,null,null,"Total Sequences in Block Summary",{"$f":"SUM(AJ7:AJ14)","v":7},null,null,null,"Total Sequences in Block Summary",{"$f":"SUM(AO7:AO14)","v":6},null,null,null,"Total Sequences in Block Summary",{"$f":"SUM(AT7:AT14)","v":7}]
[null,null,null,null,null,null,null,null,null,null,null,null,null,null,null,null,null,null,null,"Block 1",null,null,null,null,"Block 2",null,null,null,null,"Block 3",null,null,null,null,"Block 4",null,null,null,null,"Block 5",null,null,null,null,"Block 6"]
["Sequence\nComponent\n1","Time\n1","Sequence\nComponent\n2","Time\n2","Sequence\nComponent\n3","Time\n3","Sequence\nComponent\n4","Time\n4","Sequence\nComponent\n5","Time\n5","Correct?\n0=No 1=Yes","Sequence",null,"Frequency",null,"Relative Frequency","Variability",null,null,"Frequency",null,"Relative Frequency","Variability",null,"Frequency",null,"Relative Frequency","Variability",null,"Frequency",null,"Relative Frequency","Variability",null,"Frequency",null,"Relative Frequency","Variability",null,"Frequency",null,"Relative Frequency","Variability",null,"Frequency",null,"Relative Frequency","Variability"]
[21,49,21,54,21,60,null,null,null,null,0,222,null,111,{"$f":"COUNTIF($L$7:$L$500,N7)","v":0},{"$f":"O7/$Q$4","v":0},{"$f":"IF(P7=0,0,(P7*((LOG(P7))/LOG(2))))","v":0},null,null,{"$f":"N7","v":111},{"$f":"COUNTIF(L7:L13,T7)","v":0},{"$f":"U7/(W4-U14)","v":{"$error":"#DIV/0!"}},{"$f":"IF(V7=0,0,(V7*((LOG(V7))/LOG(2))))","v":{"$error":"#DIV/0!"}},null,{"$f":"N7","v":111},{"$f":"COUNTIF(L14:L19,Y7)","v":0},{"$f":"Z7/(AB4-Z14)","v":{"$error":"#DIV/0!"}},{"$f":"IF(AA7=0,0,(AA7*((LOG(AA7))/LOG(2))))","v":{"$error":"#DIV/0!"}},null,{"$f":"N7","v":111},{"$f":"COUNTIF(L20:L26,AD7)","v":0},{"$f":"AE7/(AG4-AE14)","v":{"$error":"#DIV/0!"}},{"$f":"IF(AF7=0,0,(AF7*((LOG(AF7))/LOG(2))))","v":{"$error":"#DIV/0!"}},null,{"$f":"N7","v":111},{"$f":"COUNTIF(L27:L33,AI7)","v":0},{"$f":"AJ7/(AL4-AJ14)","v":{"$error":"#DIV/0!"}},{"$f":"IF(AK7=0,0,(AK7*((LOG(AK7))/LOG(2))))","v":{"$error":"#DIV/0!"}},null,{"$f":"N7","v":111},{"$f":"COUNTIF(L34:L39,AN7)","v":0},{"$f":"AO7/(AQ4-AO14)","v":{"$error":"#DIV/0!"}},{"$f":"IF(AP7=0,0,(AP7*((LOG(AP7))/LOG(2))))","v":{"$error":"#DIV/0!"}},null,{"$f":"N7","v":111},{"$f":"COUNTIF(L40:L46,AS7)","v":0},{"$f":"AT7/(AV4-AT14)","v":{"$error":"#DIV/0!"}},{"$f":"IF(AU7=0,0,(AU7*((LOG(AU7))/LOG(2))))","v":{"$error":"#DIV/0!"}}]
[21,213,21,217,21,223,null,null,null,null,0,222,null,112,{"$f":"COUNTIF($L$7:$L$500,N8)","v":0},{"$f":"O8/$Q$4","v":0},{"$f":"IF(P8=0,0,(P8*((LOG(P8))/LOG(2))))","v":0},null,null,{"$f":"N8","v":112},{"$f":"COUNTIF(L7:L13,T8)","v":0},{"$f":"U8/(W4-U14)","v":{"$error":"#DIV/0!"}},{"$f":"IF(V8=0,0,(V8*((LOG(V8))/LOG(2))))","v":{"$error":"#DIV/0!"}},null,{"$f":"N8","v":112},{"$f":"COUNTIF(L14:L19,Y8)","v":0},{"$f":"Z8/(AB4-Z14)","v":{"$error":"#DIV/0!"}},{"$f":"IF(AA8=0,0,(AA8*((LOG(AA8))/LOG(2))))","v":{"$error":"#DIV/0!"}},null,{"$f":"N8","v":112},{"$f":"COUNTIF(L20:L26,AD8)","v":0},{"$f":"AE8/(AG4-AE14)","v":{"$error":"#DIV/0!"}},{"$f":"IF(AF8=0,0,(AF8*((LOG(AF8))/LOG(2))))","v":{"$error":"#DIV/0!"}},null,{"$f":"N8","v":112},{"$f":"COUNTIF(L27:L33,AI8)","v":0},{"$f":"AJ8/(AL4-AJ14)","v":{"$error":"#DIV/0!"}},{"$f":"IF(AK8=0,0,(AK8*((LOG(AK8))/LOG(2))))","v":{"$error":"#DIV/0!"}},null,{"$f":"N8","v":112},{"$f":"COUNTIF(L34:L39,AN8)","v":0},{"$f":"AO8/(AQ4-AO14)","v":{"$error":"#DIV/0!"}},{"$f":"IF(AP8=0,0,(AP8*((LOG(AP8))/LOG(2))))","v":{"$error":"#DIV/0!"}},null,{"$f":"N8","v":112},{"$f":"COUNTIF(L40:L46,AS8)","v":0},{"$f":"AT8/(AV4-AT14)","v":{"$error":"#DIV/0!"}},{"$f":"IF(AU8=0,0,(AU8*((LOG(AU8))/LOG(2))))","v":{"$error":"#DIV/0!"}}]
[21,412,21,417,21,422,null,null,null,null,0,222,null,121,{"$f":"COUNTIF($L$7:$L$500,N9)","v":0},{"$f":"O9/$Q$4","v":0},{"$f":"IF(P9=0,0,(P9*((LOG(P9))/LOG(2))))","v":0},null,null,{"$f":"N9","v":121},{"$f":"COUNTIF(L7:L13,T9)","v":0},{"$f":"U9/(W4-U14)","v":{"$error":"#DIV/0!"}},{"$f":"IF(V9=0,0,(V9*((LOG(V9))/LOG(2))))","v":{"$error":"#DIV/0!"}},null,{"$f":"N9","v":121},{"$f":"COUNTIF(L14:L19,Y9)","v":0},{"$f":"Z9/(AB4-Z14)","v":{"$error":"#DIV/0!"}},{"$f":"IF(AA9=0,0,(AA9*((LOG(AA9))/LOG(2))))","v":{"$error":"#DIV/0!"}},null,{"$f":"N9","v":121},{"$f":"COUNTIF(L20:L26,AD9)","v":0},{"$f":"AE9/(AG4-AE14)","v":{"$error":"#DIV/0!"}},{"$f":"IF(AF9=0,0,(AF9*((LOG(AF9))/LOG(2))))","v":{"$error":"#DIV/0!"}},null,{"$f":"N9","v":121},{"$f":"COUNTIF(L27:L33,AI9)","v":0},{"$f":"AJ9/(AL4-AJ14)","v":{"$error":"#DIV/0!"}},{"$f":"IF(AK9=0,0,(AK9*((LOG(AK9))/LOG(2))))","v":{"$error":"#DIV/0!"}},null,{"$f":"N9","v":121},{"$f":"COUNTIF(L34:L39,AN9)","v":0},{"$f":"AO9/(AQ4-AO14)","v":{"$error":"#DIV/0!"}},{"$f":"IF(AP9=0,0,(AP9*((LOG(AP9))/LOG(2))))","v":{"$error":"#DIV/0!"}},null,{"$f":"N9","v":121},{"$f":"COUNTIF(L40:L46,AS9)","v":0},{"$f":"AT9/(AV4-AT14)","v":{"$error":"#DIV/0!"}},{"$f":"IF(AU9=0,0,(AU9*((LOG(AU9))/LOG(2))))","v":{"$error":"#DIV/0!"}}]
[21,612,21,622,21,632,null,null,null,null,0,222,null,122,{"$f":"COUNTIF($L$7:$L$500,N10)","v":0},{"$f":"O10/$Q$4","v":0},{"$f":"IF(P10=0,0,(P10*((LOG(P10))/LOG(2))))","v":0},null,null,{"$f":"N10","v":122},{"$f":"COUNTIF(L7:L13,T10)","v":0},{"$f":"U10/(W4-U14)","v":{"$error":"#DIV/0!"}},{"$f":"IF(V10=0,0,(V10*((LOG(V10))/LOG(2))))","v":{"$error":"#DIV/0!"}},null,{"$f":"N10","v":122},{"$f":"COUNTIF(L14:L19,Y10)","v":0},{"$f":"Z10/(AB4-Z14)","v":{"$error":"#DIV/0!"}},{"$f":"IF(AA10=0,0,(AA10*((LOG(AA10))/LOG(2))))","v":{"$error":"#DIV/0!"}},null,{"$f":"N10","v":122},{"$f":"COUNTIF(L20:L26,AD10)","v":0},{"$f":"AE10/(AG4-AE14)","v":{"$error":"#DIV/0!"}},{"$f":"IF(AF10=0,0,(AF10*((LOG(AF10))/LOG(2))))","v":{"$error":"#DIV/0!"}},null,{"$f":"N10","v":122},{"$f":"COUNTIF(L27:L33,AI10)","v":0},{"$f":"AJ10/(AL4-AJ14)","v":{"$error":"#DIV/0!"}},{"$f":"IF(AK10=0,0,(AK10*((LOG(AK10))/LOG(2))))","v":{"$error":"#DIV/0!"}},null,{"$f":"N10","v":122},{"$f":"COUNTIF(L34:L39,AN10)","v":0},{"$f":"AO10/(AQ4-AO14)","v":{"$error":"#DIV/0!"}},{"$f":"IF(AP10=0,0,(AP10*((LOG(AP10))/LOG(2))))","v":{"$error":"#DIV/0!"}},null,{"$f":"N10","v":122},{"$f":"COUNTIF(L40:L46,AS10)","v":0},{"$f":"AT10/(AV4-AT14)","v":{"$error":"#DIV/0!"}},{"$f":"IF(AU10=0,0,(AU10*((LOG(AU10))/LOG(2))))","v":{"$error":"#DIV/0!"}}]
[21,773,21,777,21,785,null,null,null,null,0,222,null,211,{"$f":"COUNTIF($L$7:$L$500,N11)","v":0},{"$f":"O11/$Q$4","v":0},{"$f":"IF(P11=0,0,(P11*((LOG(P11))/LOG(2))))","v":0},null,null,{"$f":"N11","v":211},{"$f":"COUNTIF(L7:L13,T11)","v":0},{"$f":"U11/(W4-U14)","v":{"$error":"#DIV/0!"}},{"$f":"IF(V11=0,0,(V11*((LOG(V11))/LOG(2))))","v":{"$error":"#DIV/0!"}},null,{"$f":"N11","v":211},{"$f":"COUNTIF(L14:L19,Y11)","v":0},{"$f":"Z11/(AB4-Z14)","v":{"$error":"#DIV/0!"}},{"$f":"IF(AA11=0,0,(AA11*((LOG(AA11))/LOG(2))))","v":{"$error":"#DIV/0!"}},null,{"$f":"N11","v":211},{"$f":"COUNTIF(L20:L26,AD11)","v":0},{"$f":"AE11/(AG4-AE14)","v":{"$error":"#DIV/0!"}},{"$f":"IF(AF11=0,0,(AF11*((LOG(AF11))/LOG(2))))","v":{"$error":"#DIV/0!"}},null,{"$f":"N11","v":211},{"$f":"COUNTIF(L27:L33,AI11)","v":0},{"$f":"AJ11/(AL4-AJ14)","v":{"$error":"#DIV/0!"}},{"$f":"IF(AK11=0,0,(AK11*((LOG(AK11))/LOG(2))))","v":{"$error":"#DIV/0!"}},null,{"$f":"N11","v":211},{"$f":"COUNTIF(L34:L39,AN11)","v":0},{"$f":"AO11/(AQ4-AO14)","v":{"$error":"#DIV/0!"}},{"$f":"IF(AP11=0,0,(AP11*((LOG(AP11))/LOG(2))))","v":{"$error":"#DIV/0!"}},null,{"$f":"N11","v":211},{"$f":"COUNTIF(L40:L46,AS11)","v":0},{"$f":"AT11/(AV4-AT14)","v":{"$error":"#DIV/0!"}},{"$f":"IF(AU11=0,0,(AU11*((LOG(AU11))/LOG(2))))","v":{"$error":"#DIV/0!"}}]
[21,982,21,986,21,997,null,null,null,null,0,222,null,212,{"$f":"COUNTIF($L$7:$L$500,N12)","v":0},{"$f":"O12/$Q$4","v":0},{"$f":"IF(P12=0,0,(P12*((LOG(P12))/LOG(2))))","v":0},null,null,{"$f":"N12","v":212},{"$f":"COUNTIF(L7:L13,T12)","v":0},{"$f":"U12/(W4-U14)","v":{"$error":"#DIV/0!"}},{"$f":"IF(V12=0,0,(V12*((LOG(V12))/LOG(2))))","v":{"$error":"#DIV/0!"}},null,{"$f":"N12","v":212},{"$f":"COUNTIF(L14:L19,Y12)","v":0},{"$f":"Z12/(AB4-Z14)","v":{"$error":"#DIV/0!"}},{"$f":"IF(AA12=0,0,(AA12*((LOG(AA12))/LOG(2))))","v":{"$error":"#DIV/0!"}},null,{"$f":"N12","v":212},{"$f":"COUNTIF(L20:L26,AD12)","v":0},{"$f":"AE12/(AG4-AE14)","v":{"$error":"#DIV/0!"}},{"$f":"IF(AF12=0,0,(AF12*((LOG(AF12))/LOG(2))))","v":{"$error":"#DIV/0!"}},null,{"$f":"N12","v":212},{"$f":"COUNTIF(L27:L33,AI12)","v":0},{"$f":"AJ12/(AL4-AJ14)","v":{"$error":"#DIV/0!"}},{"$f":"IF(AK12=0,0,(AK12*((LOG(AK12))/LOG(2))))","v":{"$error":"#DIV/0!"}},null,{"$f":"N12","v":212},{"$f":"COUNTIF(L34:L39,AN12)","v":0},{"$f":"AO12/(AQ4-AO14)","v":{"$error":"#DIV/0!"}},{"$f":"IF(AP12=0,0,(AP12*((LOG(AP12))/LOG(2))))","v":{"$error":"#DIV/0!"}},null,{"$f":"N12","v":212},{"$f":"COUNTIF(L40:L46,AS12)","v":0},{"$f":"AT12/(AV4-AT14)","v":{"$error":"#DIV/0!"}},{"$f":"IF(AU12=0,0,(AU12*((LOG(AU12))/LOG(2))))","v":{"$error":"#DIV/0!"}}]
[21,1136,21,1144,21,1150,null,null,null,null,0,222,null,221,{"$f":"COUNTIF($L$7:$L$500,N13)","v":0},{"$f":"O13/$Q$4","v":0},{"$f":"IF(P13=0,0,(P13*((LOG(P13))/LOG(2))))","v":0},null,null,{"$f":"N13","v":221},{"$f":"COUNTIF(L7:L13,T13)","v":0},{"$f":"U13/(W4-U14)","v":{"$error":"#DIV/0!"}},{"$f":"IF(V13=0,0,(V13*((LOG(V13))/LOG(2))))","v":{"$error":"#DIV/0!"}},null,{"$f":"N13","v":221},{"$f":"COUNTIF(L14:L19,Y13)","v":0},{"$f":"Z13/(AB4-Z14)","v":{"$error":"#DIV/0!"}},{"$f":"IF(AA13=0,0,(AA13*((LOG(AA13))/LOG(2))))","v":{"$error":"#DIV/0!"}},null,{"$f":"N13","v":221},{"$f":"COUNTIF(L20:L26,AD13)","v":0},{"$f":"AE13/(AG4-AE14)","v":{"$error":"#DIV/0!"}},{"$f":"IF(AF13=0,0,(AF13*((LOG(AF13))/LOG(2))))","v":{"$error":"#DIV/0!"}},null,{"$f":"N13","v":221},{"$f":"COUNTIF(L27:L33,AI13)","v":0},{"$f":"AJ13/(AL4-AJ14)","v":{"$error":"#DIV/0!"}},{"$f":"IF(AK13=0,0,(AK13*((LOG(AK13))/LOG(2))))","v":{"$error":"#DIV/0!"}},null,{"$f":"N13","v":221},{"$f":"COUNTIF(L34:L39,AN13)","v":0},{"$f":"AO13/(AQ4-AO14)","v":{"$error":"#DIV/0!"}},{"$f":"IF(AP13=0,0,(AP13*((LOG(AP13))/LOG(2))))","v":{"$error":"#DIV/0!"}},null,{"$f":"N13","v":221},{"$f":"COUNTIF(L40:L46,AS13)","v":0},{"$f":"AT13/(AV4-AT14)","v":{"$error":"#DIV/0!"}},{"$f":"IF(AU13=0,0,(AU13*((LOG(AU13))/LOG(2))))","v":{"$error":"#DIV/0!"}}]
[21,1330,21,1336,21,1342,null,null,null,null,0,222,null,222,{"$f":"COUNTIF($L$7:$L$500,N14)","v":40},{"$f":"O14/$Q$4","v":1},{"$f":"IF(P14=0,0,(P14*((LOG(P14))/LOG(2))))","v":0},null,null,{"$f":"N14","v":222},{"$f":"COUNTIF(L7:L13,T14)","v":7},null,null,null,{"$f":"N14","v":222},{"$f":"COUNTIF(L14:L19,Y14)","v":6},null,null,null,{"$f":"N14","v":222},{"$f":"COUNTIF(L20:L26,AD14)","v":7},null,null,null,{"$f":"N14","v":222},{"$f":"COUNTIF(L27:L33,AI14)","v":7},null,null,null,{"$f":"N14","v":222},{"$f":"COUNTIF(L34:L39,AN14)","v":6},null,null,null,{"$f":"N14","v":222},{"$f":"COUNTIF(L40:L46,AS14)","v":7}]
[21,1593,21,1599,21,1604,null,null,null,null,0,222,null,null,null,{"$f":"SUM(P7:P14)","v":1},{"$f":"-SUM(Q7:Q14)","v":0},null,null,null,null,{"$f":"SUM(V7:V14)","v":{"$error":"#DIV/0!"}},{"$f":"-SUM(W7:W14)","v":{"$error":"#DIV/0!"}},null,null,null,{"$f":"SUM(AA7:AA14)","v":{"$error":"#DIV/0!"}},{"$f":"-SUM(AB7:AB14)","v":{"$error":"#DIV/0!"}},null,null,null,{"$f":"SUM(AF7:AF14)","v":{"$error":"#DIV/0!"}},{"$f":"-SUM(AG7:AG14)","v":{"$error":"#DIV/0!"}},null,null,null,{"$f":"SUM(AK7:AK14)","v":{"$error":"#DIV/0!"}},{"$f":"-SUM(AL7:AL14)","v":{"$error":"#DIV/0!"}},null,null,null,{"$f":"SUM(AP7:AP14)","v":{"$error":"#DIV/0!"}},{"$f":"-SUM(AQ7:AQ14)","v":{"$error":"#DIV/0!"}},null,null,null,{"$f":"SUM(AU7:AU14)","v":{"$error":"#DIV/0!"}},{"$f":"-SUM(AV7:AV14)","v":{"$error":"#DIV/0!"}}]
[21,1837,21,1842,21,1847,null,null,null,null,0,222,null,null,null,"U=",{"$f":"Q15/(LOG(Q4)/LOG(2))","v":0},null,null,null,null,"U1=",{"$f":"W15/(LOG(W4)/LOG(2))","v":{"$error":"#DIV/0!"}},null,null,null,"U2=",{"$f":"AB15/(LOG(AB4)/LOG(2))","v":{"$error":"#DIV/0!"}},null,null,null,"U3=",{"$f":"AG15/(LOG(AG4)/LOG(2))","v":{"$error":"#DIV/0!"}},null,null,null,"U4=",{"$f":"AL15/(LOG(AL4)/LOG(2))","v":{"$error":"#DIV/0!"}},null,null,null,"U5=",{"$f":"AQ15/(LOG(AQ4)/LOG(2))","v":{"$error":"#DIV/0!"}},null,null,null,"U6=",{"$f":"AV15/(LOG(AV4)/LOG(2))","v":{"$error":"#DIV/0!"}}]
[21,1996,21,2002,21,2011,null,null,null,null,0,222]
[21,2163,21,2166,21,2172,null,null,null,null,0,222]
[21,2317,21,2323,21,2330,null,null,null,null,0,222,null,"Total Target Seq"]
[21,2489,21,2493,21,2496,null,null,null,null,0,222,null,{"$f":"COUNTIF(L7:L46,G3)","v":40},null,7,6,7,7,6,7]
[21,2629,21,2633,21,2639,null,null,null,null,0,222,null,null,null,"% of reinforcement given in 6 equal intervals based on number of trials "]
[21,2764,21,2766,21,2774,null,null,null,null,0,222,null,null,null,"%_1","%_2","%_3","%_4","%_5","%_6"]
[21,2945,21,2949,21,2955,null,null,null,null,0,222,null,null,"target sequence",{"$f":"$G$3","v":222},{"$f":"$G$3","v":222},{"$f":"$G$3","v":222},{"$f":"$G$3","v":222},{"$f":"$G$3","v":222},{"$f":"$G$3","v":222}]
[21,3127,21,3138,21,3145,null,null,null,null,0,222,null,null,"total reinforcement",{"$f":"U14","v":7},{"$f":"Z14","v":6},{"$f":"AE14","v":7},{"$f":"AJ14","v":7},{"$f":"AO14","v":6},{"$f":"AT14","v":7}]
[21,3297,21,3303,21,3308,null,null,null,null,0,222,null,null,"% target"]
[21,3447,21,3458,21,3471,null,null,null,null,0,222,null,null,"CCRF"]
[21,3714,21,3717,21,3730,null,null,null,null,0,222,null,null,"% CCRf"]
[21,3908,21,3930,21,3951,null,null,null,null,0,222,null,null,"average response rate",{"$f":"F13/P20","v":164.28571428571428},{"$f":"(F19-F13)/Q20","v":196.66666666666666},{"$f":"(F26-F19)/R20","v":163},{"$f":"(F33-F26)/S20","v":201.57142857142858},{"$f":"(F39-F33)/T20","v":206.33333333333334},{"$f":"(F46-F39)/U20","v":228.71428571428572}]
[21,4152,21,4155,21,4159,null,null,null,null,0,222]
[21,4354,21,4361,21,4367,null,null,null,null,0,222]
[21,4550,21,4556,21,4559,null,null,null,null,0,222]
[21,4721,21,4726,21,4731,null,null,null,null,0,222]
[21,4876,21,4879,21,4882,null,null,null,null,0,222]
[21,5032,21,5042,21,5048,null,null,null,null,0,222]
[21,5263,21,5268,21,5274,null,null,null,null,0,222]
[21,5496,21,5500,21,5507,null,null,null,null,0,222]
[21,5668,21,5671,21,5681,null,null,null,null,0,222]
[21,5916,21,5922,21,5926,null,null,null,null,0,222]
[21,6109,21,6114,21,6120,null,null,null,null,0,222]
[21,6375,21,6379,21,6384,null,null,null,null,0,222]
[21,6595,21,6608,21,6616,null,null,null,null,0,222]
[21,6818,21,6828,21,6834,null,null,null,null,0,222]
[21,7049,21,7056,21,7059,null,null,null,null,0,222]
[21,7268,21,7272,21,7278,null,null,null,null,0,222]
[21,7548,21,7554,21,7559,null,null,null,null,0,222]
[21,7705,21,7713,21,7721,null,null,null,null,1,222]

{"sheet":"!M424A1D.UST","index":33,"n_rows":46,"n_cols":48,"rows_kept":46,"cut":false,"hidden":false,"merged":[[4,39,4,42],[5,39,5,40],[4,44,4,47],[5,44,5,45],[4,24,4,27],[5,24,5,25],[4,29,4,32],[5,29,5,30],[4,34,4,37],[5,34,5,35],[1,1,1,2],[5,13,5,14],[18,13,18,14],[19,13,19,14],[4,19,4,22],[5,19,5,20]]}
["Report for:!M424A1D.UST"]
["Date:","<date>"]
["Hen:","<hen>",null,null,null,"Correct Sequence",{"$f":"Start!J2","v":222},null,null,null,null,null,null,null,null,"Total Sequences in Data",{"$f":"4994-COUNTBLANK(L7:L5000)","v":40},null,null,null,null,"Total Sequences in Block Data",{"$f":"COUNTA(L7:L13)","v":7},null,null,null,"Total Sequences in Block Data",{"$f":"COUNTA(L14:L19)","v":6},null,null,null,"Total Sequences in Block Data",{"$f":"COUNTA(L20:L26)","v":7},null,null,null,"Total Sequences in Block Data",{"$f":"COUNTA(L27:L33)","v":7},null,null,null,"Total Sequences in Block Data",{"$f":"COUNTA(L34:L39)","v":6},null,null,null,"Total Sequences in Block Data",{"$f":"COUNTA(L40:L46)","v":7}]
[null,null,null,null,null,null,null,null,null,null,null,null,null,null,null,"Total Sequences in Summary",{"$f":"SUM(O7:O14)","v":40},null,null,null,null,"Total Sequences in Block Summary",{"$f":"SUM(U7:U14)","v":7},null,null,null,"Total Sequences in Block Summary",{"$f":"SUM(Z7:Z14)","v":6},null,null,null,"Total Sequences in Block Summary",{"$f":"SUM(AE7:AE14)","v":7},null,null,null,"Total Sequences in Block Summary",{"$f":"SUM(AJ7:AJ14)","v":7},null,null,null,"Total Sequences in Block Summary",{"$f":"SUM(AO7:AO14)","v":6},null,null,null,"Total Sequences in Block Summary",{"$f":"SUM(AT7:AT14)","v":7}]
[null,null,null,null,null,null,null,null,null,null,null,null,null,null,null,null,null,null,null,"Block 1",null,null,null,null,"Block 2",null,null,null,null,"Block 3",null,null,null,null,"Block 4",null,null,null,null,"Block 5",null,null,null,null,"Block 6"]
["Sequence\nComponent\n1","Time\n1","Sequence\nComponent\n2","Time\n2","Sequence\nComponent\n3","Time\n3","Sequence\nComponent\n4","Time\n4","Sequence\nComponent\n5","Time\n5","Correct?\n0=No 1=Yes","Sequence",null,"Frequency",null,"Relative Frequency","Variability",null,null,"Frequency",null,"Relative Frequency","Variability",null,"Frequency",null,"Relative Frequency","Variability",null,"Frequency",null,"Relative Frequency","Variability",null,"Frequency",null,"Relative Frequency","Variability",null,"Frequency",null,"Relative Frequency","Variability",null,"Frequency",null,"Relative Frequency","Variability"]
[21,20,21,28,21,38,null,null,null,null,0,222,null,111,{"$f":"COUNTIF($L$7:$L$500,N7)","v":0},{"$f":"O7/$Q$4","v":0},{"$f":"IF(P7=0,0,(P7*((LOG(P7))/LOG(2))))","v":0},null,null,{"$f":"N7","v":111},{"$f":"COUNTIF(L7:L13,T7)","v":0},{"$f":"U7/(W4-U14)","v":{"$error":"#DIV/0!"}},{"$f":"IF(V7=0,0,(V7*((LOG(V7))/LOG(2))))","v":{"$error":"#DIV/0!"}},null,{"$f":"N7","v":111},{"$f":"COUNTIF(L14:L19,Y7)","v":0},{"$f":"Z7/(AB4-Z14)","v":{"$error":"#DIV/0!"}},{"$f":"IF(AA7=0,0,(AA7*((LOG(AA7))/LOG(2))))","v":{"$error":"#DIV/0!"}},null,{"$f":"N7","v":111},{"$f":"COUNTIF(L20:L26,AD7)","v":0},{"$f":"AE7/(AG4-AE14)","v":{"$error":"#DIV/0!"}},{"$f":"IF(AF7=0,0,(AF7*((LOG(AF7))/LOG(2))))","v":{"$error":"#DIV/0!"}},null,{"$f":"N7","v":111},{"$f":"COUNTIF(L27:L33,AI7)","v":0},{"$f":"AJ7/(AL4-AJ14)","v":{"$error":"#DIV/0!"}},{"$f":"IF(AK7=0,0,(AK7*((LOG(AK7))/LOG(2))))","v":{"$error":"#DIV/0!"}},null,{"$f":"N7","v":111},{"$f":"COUNTIF(L34:L39,AN7)","v":0},{"$f":"AO7/(AQ4-AO14)","v":{"$error":"#DIV/0!"}},{"$f":"IF(AP7=0,0,(AP7*((LOG(AP7))/LOG(2))))","v":{"$error":"#DIV/0!"}},null,{"$f":"N7","v":111},{"$f":"COUNTIF(L40:L46,AS7)","v":0},{"$f":"AT7/(AV4-AT14)","v":{"$error":"#DIV/0!"}},{"$f":"IF(AU7=0,0,(AU7*((LOG(AU7))/LOG(2))))","v":{"$error":"#DIV/0!"}}]
[21,148,21,154,21,162,null,null,null,null,0,222,null,112,{"$f":"COUNTIF($L$7:$L$500,N8)","v":0},{"$f":"O8/$Q$4","v":0},{"$f":"IF(P8=0,0,(P8*((LOG(P8))/LOG(2))))","v":0},null,null,{"$f":"N8","v":112},{"$f":"COUNTIF(L7:L13,T8)","v":0},{"$f":"U8/(W4-U14)","v":{"$error":"#DIV/0!"}},{"$f":"IF(V8=0,0,(V8*((LOG(V8))/LOG(2))))","v":{"$error":"#DIV/0!"}},null,{"$f":"N8","v":112},{"$f":"COUNTIF(L14:L19,Y8)","v":0},{"$f":"Z8/(AB4-Z14)","v":{"$error":"#DIV/0!"}},{"$f":"IF(AA8=0,0,(AA8*((LOG(AA8))/LOG(2))))","v":{"$error":"#DIV/0!"}},null,{"$f":"N8","v":112},{"$f":"COUNTIF(L20:L26,AD8)","v":0},{"$f":"AE8/(AG4-AE14)","v":{"$error":"#DIV/0!"}},{"$f":"IF(AF8=0,0,(AF8*((LOG(AF8))/LOG(2))))","v":{"$error":"#DIV/0!"}},null,{"$f":"N8","v":112},{"$f":"COUNTIF(L27:L33,AI8)","v":0},{"$f":"AJ8/(AL4-AJ14)","v":{"$error":"#DIV/0!"}},{"$f":"IF(AK8=0,0,(AK8*((LOG(AK8))/LOG(2))))","v":{"$error":"#DIV/0!"}},null,{"$f":"N8","v":112},{"$f":"COUNTIF(L34:L39,AN8)","v":0},{"$f":"AO8/(AQ4-AO14)","v":{"$error":"#DIV/0!"}},{"$f":"IF(AP8=0,0,(AP8*((LOG(AP8))/LOG(2))))","v":{"$error":"#DIV/0!"}},null,{"$f":"N8","v":112},{"$f":"COUNTIF(L40:L46,AS8)","v":0},{"$f":"AT8/(AV4-AT14)","v":{"$error":"#DIV/0!"}},{"$f":"IF(AU8=0,0,(AU8*((LOG(AU8))/LOG(2))))","v":{"$error":"#DIV/0!"}}]
[21,364,21,369,21,371,null,null,null,null,0,222,null,121,{"$f":"COUNTIF($L$7:$L$500,N9)","v":0},{"$f":"O9/$Q$4","v":0},{"$f":"IF(P9=0,0,(P9*((LOG(P9))/LOG(2))))","v":0},null,null,{"$f":"N9","v":121},{"$f":"COUNTIF(L7:L13,T9)","v":0},{"$f":"U9/(W4-U14)","v":{"$error":"#DIV/0!"}},{"$f":"IF(V9=0,0,(V9*((LOG(V9))/LOG(2))))","v":{"$error":"#DIV/0!"}},null,{"$f":"N9","v":121},{"$f":"COUNTIF(L14:L19,Y9)","v":0},{"$f":"Z9/(AB4-Z14)","v":{"$error":"#DIV/0!"}},{"$f":"IF(AA9=0,0,(AA9*((LOG(AA9))/LOG(2))))","v":{"$error":"#DIV/0!"}},null,{"$f":"N9","v":121},{"$f":"COUNTIF(L20:L26,AD9)","v":0},{"$f":"AE9/(AG4-AE14)","v":{"$error":"#DIV/0!"}},{"$f":"IF(AF9=0,0,(AF9*((LOG(AF9))/LOG(2))))","v":{"$error":"#DIV/0!"}},null,{"$f":"N9","v":121},{"$f":"COUNTIF(L27:L33,AI9)","v":0},{"$f":"AJ9/(AL4-AJ14)","v":{"$error":"#DIV/0!"}},{"$f":"IF(AK9=0,0,(AK9*((LOG(AK9))/LOG(2))))","v":{"$error":"#DIV/0!"}},null,{"$f":"N9","v":121},{"$f":"COUNTIF(L34:L39,AN9)","v":0},{"$f":"AO9/(AQ4-AO14)","v":{"$error":"#DIV/0!"}},{"$f":"IF(AP9=0,0,(AP9*((LOG(AP9))/LOG(2))))","v":{"$error":"#DIV/0!"}},null,{"$f":"N9","v":121},{"$f":"COUNTIF(L40:L46,AS9)","v":0},{"$f":"AT9/(AV4-AT14)","v":{"$error":"#DIV/0!"}},{"$f":"IF(AU9=0,0,(AU9*((LOG(AU9))/LOG(2))))","v":{"$error":"#DIV/0!"}}]
[21,510,21,523,21,540,null,null,null,null,0,222,null,122,{"$f":"COUNTIF($L$7:$L$500,N10)","v":0},{"$f":"O10/$Q$4","v":0},{"$f":"IF(P10=0,0,(P10*((LOG(P10))/LOG(2))))","v":0},null,null,{"$f":"N10","v":122},{"$f":"COUNTIF(L7:L13,T10)","v":0},{"$f":"U10/(W4-U14)","v":{"$error":"#DIV/0!"}},{"$f":"IF(V10=0,0,(V10*((LOG(V10))/LOG(2))))","v":{"$error":"#DIV/0!"}},null,{"$f":"N10","v":122},{"$f":"COUNTIF(L14:L19,Y10)","v":0},{"$f":"Z10/(AB4-Z14)","v":{"$error":"#DIV/0!"}},{"$f":"IF(AA10=0,0,(AA10*((LOG(AA10))/LOG(2))))","v":{"$error":"#DIV/0!"}},null,{"$f":"N10","v":122},{"$f":"COUNTIF(L20:L26,AD10)","v":0},{"$f":"AE10/(AG4-AE14)","v":{"$error":"#DIV/0!"}},{"$f":"IF(AF10=0,0,(AF10*((LOG(AF10))/LOG(2))))","v":{"$error":"#DIV/0!"}},null,{"$f":"N10","v":122},{"$f":"COUNTIF(L27:L33,AI10)","v":0},{"$f":"AJ10/(AL4-AJ14)","v":{"$error":"#DIV/0!"}},{"$f":"IF(AK10=0,0,(AK10*((LOG(AK10))/LOG(2))))","v":{"$error":"#DIV/0!"}},null,{"$f":"N10","v":122},{"$f":"COUNTIF(L34:L39,AN10)","v":0},{"$f":"AO10/(AQ4-AO14)","v":{"$error":"#DIV/0!"}},{"$f":"IF(AP10=0,0,(AP10*((LOG(AP10))/LOG(2))))","v":{"$error":"#DIV/0!"}},null,{"$f":"N10","v":122},{"$f":"COUNTIF(L40:L46,AS10)","v":0},{"$f":"AT10/(AV4-AT14)","v":{"$error":"#DIV/0!"}},{"$f":"IF(AU10=0,0,(AU10*((LOG(AU10))/LOG(2))))","v":{"$error":"#DIV/0!"}}]
[21,730,21,733,21,740,null,null,null,null,0,222,null,211,{"$f":"COUNTIF($L$7:$L$500,N11)","v":0},{"$f":"O11/$Q$4","v":0},{"$f":"IF(P11=0,0,(P11*((LOG(P11))/LOG(2))))","v":0},null,null,{"$f":"N11","v":211},{"$f":"COUNTIF(L7:L13,T11)","v":0},{"$f":"U11/(W4-U14)","v":{"$error":"#DIV/0!"}},{"$f":"IF(V11=0,0,(V11*((LOG(V11))/LOG(2))))","v":{"$error":"#DIV/0!"}},null,{"$f":"N11","v":211},{"$f":"COUNTIF(L14:L19,Y11)","v":0},{"$f":"Z11/(AB4-Z14)","v":{"$error":"#DIV/0!"}},{"$f":"IF(AA11=0,0,(AA11*((LOG(AA11))/LOG(2))))","v":{"$error":"#DIV/0!"}},null,{"$f":"N11","v":211},{"$f":"COUNTIF(L20:L26,AD11)","v":0},{"$f":"AE11/(AG4-AE14)","v":{"$error":"#DIV/0!"}},{"$f":"IF(AF11=0,0,(AF11*((LOG(AF11))/LOG(2))))","v":{"$error":"#DIV/0!"}},null,{"$f":"N11","v":211},{"$f":"COUNTIF(L27:L33,AI11)","v":0},{"$f":"AJ11/(AL4-AJ14)","v":{"$error":"#DIV/0!"}},{"$f":"IF(AK11=0,0,(AK11*((LOG(AK11))/LOG(2))))","v":{"$error":"#DIV/0!"}},null,{"$f":"N11","v":211},{"$f":"COUNTIF(L34:L39,AN11)","v":0},{"$f":"AO11/(AQ4-AO14)","v":{"$error":"#DIV/0!"}},{"$f":"IF(AP11=0,0,(AP11*((LOG(AP11))/LOG(2))))","v":{"$error":"#DIV/0!"}},null,{"$f":"N11","v":211},{"$f":"COUNTIF(L40:L46,AS11)","v":0},{"$f":"AT11/(AV4-AT14)","v":{"$error":"#DIV/0!"}},{"$f":"IF(AU11=0,0,(AU11*((LOG(AU11))/LOG(2))))","v":{"$error":"#DIV/0!"}}]
[21,885,21,889,21,898,null,null,null,null,0,222,null,212,{"$f":"COUNTIF($L$7:$L$500,N12)","v":0},{"$f":"O12/$Q$4","v":0},{"$f":"IF(P12=0,0,(P12*((LOG(P12))/LOG(2))))","v":0},null,null,{"$f":"N12","v":212},{"$f":"COUNTIF(L7:L13,T12)","v":0},{"$f":"U12/(W4-U14)","v":{"$error":"#DIV/0!"}},{"$f":"IF(V12=0,0,(V12*((LOG(V12))/LOG(2))))","v":{"$error":"#DIV/0!"}},null,{"$f":"N12","v":212},{"$f":"COUNTIF(L14:L19,Y12)","v":0},{"$f":"Z12/(AB4-Z14)","v":{"$error":"#DIV/0!"}},{"$f":"IF(AA12=0,0,(AA12*((LOG(AA12))/LOG(2))))","v":{"$error":"#DIV/0!"}},null,{"$f":"N12","v":212},{"$f":"COUNTIF(L20:L26,AD12)","v":0},{"$f":"AE12/(AG4-AE14)","v":{"$error":"#DIV/0!"}},{"$f":"IF(AF12=0,0,(AF12*((LOG(AF12))/LOG(2))))","v":{"$error":"#DIV/0!"}},null,{"$f":"N12","v":212},{"$f":"COUNTIF(L27:L33,AI12)","v":0},{"$f":"AJ12/(AL4-AJ14)","v":{"$error":"#DIV/0!"}},{"$f":"IF(AK12=0,0,(AK12*((LOG(AK12))/LOG(2))))","v":{"$error":"#DIV/0!"}},null,{"$f":"N12","v":212},{"$f":"COUNTIF(L34:L39,AN12)","v":0},{"$f":"AO12/(AQ4-AO14)","v":{"$error":"#DIV/0!"}},{"$f":"IF(AP12=0,0,(AP12*((LOG(AP12))/LOG(2))))","v":{"$error":"#DIV/0!"}},null,{"$f":"N12","v":212},{"$f":"COUNTIF(L40:L46,AS12)","v":0},{"$f":"AT12/(AV4-AT14)","v":{"$error":"#DIV/0!"}},{"$f":"IF(AU12=0,0,(AU12*((LOG(AU12))/LOG(2))))","v":{"$error":"#DIV/0!"}}]
[21,1038,21,1045,21,1052,null,null,null,null,0,222,null,221,{"$f":"COUNTIF($L$7:$L$500,N13)","v":0},{"$f":"O13/$Q$4","v":0},{"$f":"IF(P13=0,0,(P13*((LOG(P13))/LOG(2))))","v":0},null,null,{"$f":"N13","v":221},{"$f":"COUNTIF(L7:L13,T13)","v":0},{"$f":"U13/(W4-U14)","v":{"$error":"#DIV/0!"}},{"$f":"IF(V13=0,0,(V13*((LOG(V13))/LOG(2))))","v":{"$error":"#DIV/0!"}},null,{"$f":"N13","v":221},{"$f":"COUNTIF(L14:L19,Y13)","v":0},{"$f":"Z13/(AB4-Z14)","v":{"$error":"#DIV/0!"}},{"$f":"IF(AA13=0,0,(AA13*((LOG(AA13))/LOG(2))))","v":{"$error":"#DIV/0!"}},null,{"$f":"N13","v":221},{"$f":"COUNTIF(L20:L26,AD13)","v":0},{"$f":"AE13/(AG4-AE14)","v":{"$error":"#DIV/0!"}},{"$f":"IF(AF13=0,0,(AF13*((LOG(AF13))/LOG(2))))","v":{"$error":"#DIV/0!"}},null,{"$f":"N13","v":221},{"$f":"COUNTIF(L27:L33,AI13)","v":0},{"$f":"AJ13/(AL4-AJ14)","v":{"$error":"#DIV/0!"}},{"$f":"IF(AK13=0,0,(AK13*((LOG(AK13))/LOG(2))))","v":{"$error":"#DIV/0!"}},null,{"$f":"N13","v":221},{"$f":"COUNTIF(L34:L39,AN13)","v":0},{"$f":"AO13/(AQ4-AO14)","v":{"$error":"#DIV/0!"}},{"$f":"IF(AP13=0,0,(AP13*((LOG(AP13))/LOG(2))))","v":{"$error":"#DIV/0!"}},null,{"$f":"N13","v":221},{"$f":"COUNTIF(L40:L46,AS13)","v":0},{"$f":"AT13/(AV4-AT14)","v":{"$error":"#DIV/0!"}},{"$f":"IF(AU13=0,0,(AU13*((LOG(AU13))/LOG(2))))","v":{"$error":"#DIV/0!"}}]
[21,1215,21,1219,21,1227,null,null,null,null,0,222,null,222,{"$f":"COUNTIF($L$7:$L$500,N14)","v":40},{"$f":"O14/$Q$4","v":1},{"$f":"IF(P14=0,0,(P14*((LOG(P14))/LOG(2))))","v":0},null,null,{"$f":"N14","v":222},{"$f":"COUNTIF(L7:L13,T14)","v":7},null,null,null,{"$f":"N14","v":222},{"$f":"COUNTIF(L14:L19,Y14)","v":6},null,null,null,{"$f":"N14","v":222},{"$f":"COUNTIF(L20:L26,AD14)","v":7},null,null,null,{"$f":"N14","v":222},{"$f":"COUNTIF(L27:L33,AI14)","v":7},null,null,null,{"$f":"N14","v":222},{"$f":"COUNTIF(L34:L39,AN14)","v":6},null,null,null,{"$f":"N14","v":222},{"$f":"COUNTIF(L40:L46,AS14)","v":7}]
[21,1396,21,1403,21,1406,null,null,null,null,0,222,null,null,null,{"$f":"SUM(P7:P14)","v":1},{"$f":"-SUM(Q7:Q14)","v":0},null,null,null,null,{"$f":"SUM(V7:V14)","v":{"$error":"#DIV/0!"}},{"$f":"-SUM(W7:W14)","v":{"$error":"#DIV/0!"}},null,null,null,{"$f":"SUM(AA7:AA14)","v":{"$error":"#DIV/0!"}},{"$f":"-SUM(AB7:AB14)","v":{"$error":"#DIV/0!"}},null,null,null,{"$f":"SUM(AF7:AF14)","v":{"$error":"#DIV/0!"}},{"$f":"-SUM(AG7:AG14)","v":{"$error":"#DIV/0!"}},null,null,null,{"$f":"SUM(AK7:AK14)","v":{"$error":"#DIV/0!"}},{"$f":"-SUM(AL7:AL14)","v":{"$error":"#DIV/0!"}},null,null,null,{"$f":"SUM(AP7:AP14)","v":{"$error":"#DIV/0!"}},{"$f":"-SUM(AQ7:AQ14)","v":{"$error":"#DIV/0!"}},null,null,null,{"$f":"SUM(AU7:AU14)","v":{"$error":"#DIV/0!"}},{"$f":"-SUM(AV7:AV14)","v":{"$error":"#DIV/0!"}}]
[21,1567,21,1570,21,1578,null,null,null,null,0,222,null,null,null,"U=",{"$f":"Q15/(LOG(Q4)/LOG(2))","v":0},null,null,null,null,"U1=",{"$f":"W15/(LOG(W4)/LOG(2))","v":{"$error":"#DIV/0!"}},null,null,null,"U2=",{"$f":"AB15/(LOG(AB4)/LOG(2))","v":{"$error":"#DIV/0!"}},null,null,null,"U3=",{"$f":"AG15/(LOG(AG4)/LOG(2))","v":{"$error":"#DIV/0!"}},null,null,null,"U4=",{"$f":"AL15/(LOG(AL4)/LOG(2))","v":{"$error":"#DIV/0!"}},null,null,null,"U5=",{"$f":"AQ15/(LOG(AQ4)/LOG(2))","v":{"$error":"#DIV/0!"}},null,null,null,"U6=",{"$f":"AV15/(LOG(AV4)/LOG(2))","v":{"$error":"#DIV/0!"}}]
[21,1690,21,1695,21,1697,null,null,null,null,0,222]
[21,1812,21,1814,21,1821,null,null,null,null,0,222]
[21,1960,21,1964,21,1968,null,null,null,null,0,222,null,"Total Target Seq"]
[21,2087,21,2090,21,2097,null,null,null,null,0,222,null,{"$f":"COUNTIF(L7:L46,G3)","v":40},null,7,6,7,7,6,7]
[21,2230,21,2237,21,2240,null,null,null,null,0,222,null,null,null,"% of reinforcement given in 6 equal intervals based on number of trials "]
[21,2380,21,2383,21,2390,null,null,null,null,0,222,null,null,null,"%_1","%_2","%_3","%_4","%_5","%_6"]
[21,2521,21,2526,21,2535,null,null,null,null,0,222,null,null,"target sequence",{"$f":"$G$3","v":222},{"$f":"$G$3","v":222},{"$f":"$G$3","v":222},{"$f":"$G$3","v":222},{"$f":"$G$3","v":222},{"$f":"$G$3","v":222}]
[21,2698,21,2704,21,2709,null,null,null,null,0,222,null,null,"total reinforcement",{"$f":"U14","v":7},{"$f":"Z14","v":6},{"$f":"AE14","v":7},{"$f":"AJ14","v":7},{"$f":"AO14","v":6},{"$f":"AT14","v":7}]
[21,2848,21,2851,21,2853,null,null,null,null,0,222,null,null,"% target"]
[21,3036,21,3040,21,3046,null,null,null,null,0,222,null,null,"CCRF"]
[21,3243,21,3245,21,3252,null,null,null,null,0,222,null,null,"% CCRf"]
[21,3393,21,3401,21,3406,null,null,null,null,0,222,null,null,"average response rate",{"$f":"F13/P20","v":150.28571428571428},{"$f":"(F19-F13)/Q20","v":152.66666666666666},{"$f":"(F26-F19)/R20","v":154},{"$f":"(F33-F26)/S20","v":162},{"$f":"(F39-F33)/T20","v":172.83333333333334},{"$f":"(F46-F39)/U20","v":147.28571428571428}]
[21,3528,21,3531,21,3538,null,null,null,null,0,222]
[21,3693,21,3697,21,3702,null,null,null,null,0,222]
[21,3870,21,3878,21,3885,null,null,null,null,0,222]
[21,3988,21,3995,21,4001,null,null,null,null,0,222]
[21,4170,21,4174,21,4180,null,null,null,null,0,222]
[21,4358,21,4367,21,4383,null,null,null,null,0,222]
[21,4555,21,4560,21,4564,null,null,null,null,0,222]
[21,4720,21,4722,21,4724,null,null,null,null,0,222]
[21,4900,21,4904,21,4920,null,null,null,null,0,222]
[21,5051,21,5054,21,5060,null,null,null,null,0,222]
[21,5200,21,5209,21,5217,null,null,null,null,0,222]
[21,5358,21,5366,21,5369,null,null,null,null,0,222]
[21,5505,21,5510,21,5514,null,null,null,null,0,222]
[21,5632,21,5635,21,5640,null,null,null,null,0,222]
[21,5758,21,5761,21,5767,null,null,null,null,0,222]
[21,5925,21,5931,21,5935,null,null,null,null,0,222]
[21,6050,21,6053,21,6061,null,null,null,null,0,222]
[21,6237,21,6244,21,6248,null,null,null,null,1,222]