{"text_format":"1","workbook":"xlsx","n_sheets":33,"sheets":["Sample Report","Summary","Start","!M219B2D.UST","!M220B1D.UST","!M221A5D.UST","!M222A1D.UST","!M223A3D.UST","!M224A2D.UST","!M225A2D.UST","!M226A5D.UST","!M227A4D.UST","!M228A4D.UST","!M229B0D.UST","!M301A4D.UST","!M302A5D.UST","!M303A3D.UST","!M304B0D.UST","!M305A3D.UST","!M306B2D.UST","!M307B0D.UST","!M308A2D.UST","!M309A3D.UST","!M310A2D.UST","!M311B3D.UST","!M312A3D.UST","!M313A5D.UST","!M314B4D.UST","!M315A4D.UST","!M316A5D.UST","!M317B2D.UST","!M318B0D.UST","!M319B0D.UST"],"not_rendered":{"charts":0,"images":0,"macros":1,"external_links":0,"defined_names":0,"comments":0,"pivot_tables":0},"unopened":[],"bounds":{"document_bytes":16777216,"sheet_cells":100000,"rows_first":2000,"rows_last":500,"rows_between":2000,"halvings":0,"cell_chars":16384,"cell_head_chars":4096},"cells_cut":0,"cells_raw":0,"read":"whole","date_system":"1900"}

{"sheet":"Sample Report","index":0,"n_rows":12,"n_cols":11,"rows_kept":12,"cut":false,"hidden":true,"merged":[[7,0,7,6]]}
[]
["Date"]
["Hen"]
["Program"]
["Start at 999999"]
["Sequence component 1","Time 1","Seqeunce Component 2","Time 2","Seqeunce Component 3","Time 3","Correct   0 = No 1=Yes",null,null,"Seqeunce","Time"]
[12,7,12,42,13,18,"if 77 new line,                                  if 31 or 41 = yes new line on 77, ",null,null,"=string of Seqeunce compponent 1, 2 & 3","=time 3"]
["This continues until ther is a 1 on its own to indicate start of summary data"]
[null,null,null,null,null,null,null,null,null,"10-19 =1"]
["Summary Data ",null,null,null,null,null,null,null,null,"20-29 =2"]
["Correct","Incorrect","Rft","total","Av Correct","Av Incorrect","Percent correct","Time",null,"in this example the seqeunce would be 111"]
[40,33,40,73,23.95,15,54,806]

{"sheet":"Summary","index":1,"n_rows":32,"n_cols":24,"rows_kept":32,"cut":false,"hidden":false,"merged":[]}
[]
["Day","Date","Average Response Rate","Target %","RF for non correct sequence","U Value",null,null,null,null,"Block 1","Block 2","Block 3","Block 4","Block 5","Block 6"]
[1,{"$f":"'!M219B2D.UST'!B2:C2","v":"<date>"},{"$f":"('!M219B2D.UST'!F186/60)/'!M219B2D.UST'!Q3","v":2.2079629629629629},{"$f":"'!M219B2D.UST'!N20/'!M219B2D.UST'!Q3","v":5.5555555555555558E-3},{"$f":"SUM('!M219B2D.UST'!L20:Q20)/'!M219B2D.UST'!Q3","v":1.5722222222222222},{"$f":"'!M219B2D.UST'!Q16","v":0.29992612454287909},null,null,null,"Average Response Rate",{"$f":"AVERAGE(C3:C7)","v":2.2305443743771307},{"$f":"AVERAGE(C8:C12)","v":2.400439809895484},{"$f":"AVERAGE(C13:C17)","v":2.583219722374261},{"$f":"AVERAGE(C18:C22)","v":2.7542005716661841},{"$f":"AVERAGE(C23:C27)","v":2.861436240166765},{"$f":"AVERAGE(C28:C32)","v":3.1102205939953276}]
[2,{"$f":"'!M220B1D.UST'!B2:C2","v":"<date>"},{"$f":"('!M220B1D.UST'!F179/60)/'!M220B1D.UST'!Q3","v":2.290077071290944},{"$f":"'!M220B1D.UST'!N20/'!M220B1D.UST'!Q3","v":1.1560693641618497E-2},{"$f":"SUM('!M220B1D.UST'!L20:Q20)/'!M220B1D.UST'!Q3","v":0.98843930635838151},{"$f":"'!M220B1D.UST'!Q16","v":0.32758164244338883},null,null,null,"Target %",{"$f":"AVERAGE(D3:D7)","v":1.7862993762575885E-2},{"$f":"AVERAGE(D8:D12)","v":7.4499549238040919E-2},{"$f":"AVERAGE(D13:D17)","v":0.26011009356845816},{"$f":"AVERAGE(D18:D22)","v":0.36857739119321631},{"$f":"AVERAGE(D23:D27)","v":0.51629115134322667},{"$f":"AVERAGE(D28:D32)","v":0.44603112091696567}]
[3,{"$f":"'!M221A5D.UST'!B2:C2","v":"<date>"},{"$f":"('!M221A5D.UST'!F185/60)/'!M221A5D.UST'!Q3","v":2.2312849162011172},{"$f":"'!M221A5D.UST'!N20/'!M221A5D.UST'!Q3","v":1.6759776536312849E-2},{"$f":"SUM('!M221A5D.UST'!L20:Q20)/'!M221A5D.UST'!Q3","v":1.5307262569832403},{"$f":"'!M221A5D.UST'!Q16","v":0.35869407478184034},null,null,null,"CCRF",{"$f":"AVERAGE(E3:E7)","v":1.4549857926974088},{"$f":"AVERAGE(E8:E12)","v":1.706528540544155},{"$f":"AVERAGE(E13:E17)","v":1.9457513970567235},{"$f":"AVERAGE(E18:E22)","v":2.3191223194872204},{"$f":"AVERAGE(E23:E27)","v":2.7534770263568169},{"$f":"AVERAGE(E28:E32)","v":2.2639662721854501}]
[4,{"$f":"'!M222A1D.UST'!B2:C2","v":"<date>"},{"$f":"('!M222A1D.UST'!F188/60)/'!M222A1D.UST'!Q3","v":2.1880036630036628},{"$f":"'!M222A1D.UST'!N20/'!M222A1D.UST'!Q3","v":3.2967032967032968E-2},{"$f":"SUM('!M222A1D.UST'!L20:Q20)/'!M222A1D.UST'!Q3","v":1.5824175824175823},{"$f":"'!M222A1D.UST'!Q16","v":0.31814865843271917},null,null,null,"U Value",{"$f":"AVERAGE(F3:F7)","v":0.33307434332778729},{"$f":"AVERAGE(F8:F12)","v":0.37029007124064045},{"$f":"AVERAGE(F13:F17)","v":0.38664569957893358},{"$f":"AVERAGE(F18:F22)","v":0.38841063505974105},{"$f":"AVERAGE(F23:F27)","v":0.35259179249064887},{"$f":"AVERAGE(F28:F32)","v":0.37232714227377589}]
[5,{"$f":"'!M223A3D.UST'!B2:C2","v":"<date>"},{"$f":"('!M223A3D.UST'!F183/60)/'!M223A3D.UST'!Q3","v":2.2353932584269662},{"$f":"'!M223A3D.UST'!N20/'!M223A3D.UST'!Q3","v":2.247191011235955E-2},{"$f":"SUM('!M223A3D.UST'!L20:Q20)/'!M223A3D.UST'!Q3","v":1.601123595505618},{"$f":"'!M223A3D.UST'!Q16","v":0.3610212164381093}]
[6,{"$f":"'!M224A2D.UST'!B2:C2","v":"<date>"},{"$f":"('!M224A2D.UST'!F182/60)/'!M224A2D.UST'!Q3","v":2.2561553030303028},{"$f":"'!M224A2D.UST'!N20/'!M224A2D.UST'!Q3","v":2.2727272727272728E-2},{"$f":"SUM('!M224A2D.UST'!L20:Q20)/'!M224A2D.UST'!Q3","v":1.5568181818181819},{"$f":"'!M224A2D.UST'!Q16","v":0.35039588861969112}]
[7,{"$f":"'!M225A2D.UST'!B2:C2","v":"<date>"},{"$f":"('!M225A2D.UST'!F177/60)/'!M225A2D.UST'!Q3","v":2.3260233918128654},{"$f":"'!M225A2D.UST'!N20/'!M225A2D.UST'!Q3","v":7.0175438596491224E-2},{"$f":"SUM('!M225A2D.UST'!L20:Q20)/'!M225A2D.UST'!Q3","v":1.6374269005847952},{"$f":"'!M225A2D.UST'!Q16","v":0.34641221123413185},{"$f":"K3","v":2.2305443743771307},{"$f":"L3","v":2.400439809895484},2.583219722374261,2.7542005716661841,2.861436240166765,3.1102205939953276,{"$f":"K4","v":1.7862993762575885E-2},{"$f":"L4","v":7.4499549238040919E-2},0.26011009356845816,0.36857739119321631,0.51629115134322667,0.44603112091696567,{"$f":"K6","v":0.33307434332778729},{"$f":"L6","v":0.37029007124064045},0.38664569957893358,0.38841063505974105,0.35259179249064887,0.37232714227377589]
[8,{"$f":"'!M226A5D.UST'!B2:C2","v":"<date>"},{"$f":"('!M226A5D.UST'!F167/60)/'!M226A5D.UST'!Q3","v":2.4845755693581779},{"$f":"'!M226A5D.UST'!N20/'!M226A5D.UST'!Q3","v":8.0745341614906832E-2},{"$f":"SUM('!M226A5D.UST'!L20:Q20)/'!M226A5D.UST'!Q3","v":1.7950310559006211},{"$f":"'!M226A5D.UST'!Q16","v":0.3782242823101869}]
[9,{"$f":"'!M227A4D.UST'!B2:C2","v":"<date>"},{"$f":"('!M227A4D.UST'!F168/60)/'!M227A4D.UST'!Q3","v":2.4429447852760737},{"$f":"'!M227A4D.UST'!N20/'!M227A4D.UST'!Q3","v":6.1349693251533742E-2},{"$f":"SUM('!M227A4D.UST'!L20:Q20)/'!M227A4D.UST'!Q3","v":1.6871165644171779},{"$f":"'!M227A4D.UST'!Q16","v":0.38076833907094843}]
[10,{"$f":"'!M228A4D.UST'!B2:C2","v":"<date>"},{"$f":"('!M228A4D.UST'!F166/60)/'!M228A4D.UST'!Q3","v":2.4925000000000002},{"$f":"'!M228A4D.UST'!N20/'!M228A4D.UST'!Q3","v":0.13750000000000001},{"$f":"SUM('!M228A4D.UST'!L20:Q20)/'!M228A4D.UST'!Q3","v":1.85625},{"$f":"'!M228A4D.UST'!Q16","v":0.3956496349682439}]
[11,{"$f":"'!M229B0D.UST'!B2:C2","v":"<date>"},{"$f":"('!M229B0D.UST'!F178/60)/'!M229B0D.UST'!Q3","v":2.3154069767441858},{"$f":"'!M229B0D.UST'!N20/'!M229B0D.UST'!Q3","v":0.12209302325581395},{"$f":"SUM('!M229B0D.UST'!L20:Q20)/'!M229B0D.UST'!Q3","v":1.1046511627906976},{"$f":"'!M229B0D.UST'!Q16","v":0.38387582654976554}]
[12,{"$f":"'!M301A4D.UST'!B2:C2","v":"<date>"},{"$f":"('!M301A4D.UST'!F136/60)/'!M301A4D.UST'!Q3","v":2.5401282051282048},{"$f":"'!M301A4D.UST'!N20/'!M301A4D.UST'!Q3","v":0.26923076923076922},{"$f":"SUM('!M301A4D.UST'!L20:Q20)/'!M301A4D.UST'!Q3","v":2.2307692307692308},{"$f":"'!M301A4D.UST'!Q16","v":0.40341801952508927}]
[13,{"$f":"'!M302A5D.UST'!B2:C2","v":"<date>"},{"$f":"('!M302A5D.UST'!F130/60)/'!M302A5D.UST'!Q3","v":2.5877688172043012},{"$f":"'!M302A5D.UST'!N20/'!M302A5D.UST'!Q3","v":0.2661290322580645},{"$f":"SUM('!M302A5D.UST'!L20:Q20)/'!M302A5D.UST'!Q3","v":2.2983870967741935},{"$f":"'!M302A5D.UST'!Q16","v":0.39316260910293838}]
[14,{"$f":"'!M303A3D.UST'!B2:C2","v":"<date>"},{"$f":"('!M303A3D.UST'!F141/60)/'!M303A3D.UST'!Q3","v":2.5266666666666668},{"$f":"'!M303A3D.UST'!N20/'!M303A3D.UST'!Q3","v":0.25925925925925924},{"$f":"SUM('!M303A3D.UST'!L20:Q20)/'!M303A3D.UST'!Q3","v":2.1555555555555554},{"$f":"'!M303A3D.UST'!Q16","v":0.38475488946491199}]
[15,{"$f":"'!M304B0D.UST'!B2:C2","v":"<date>"},{"$f":"('!M304B0D.UST'!F105/60)/'!M304B0D.UST'!Q3","v":2.9461279461279464},{"$f":"'!M304B0D.UST'!N20/'!M304B0D.UST'!Q3","v":0.38383838383838381},{"$f":"SUM('!M304B0D.UST'!L20:Q20)/'!M304B0D.UST'!Q3","v":1.9393939393939394},{"$f":"'!M304B0D.UST'!Q16","v":0.36801715325196283}]
[16,{"$f":"'!M305A3D.UST'!B2:C2","v":"<date>"},{"$f":"('!M305A3D.UST'!F104/60)/'!M305A3D.UST'!Q3","v":2.9217687074829932},{"$f":"'!M305A3D.UST'!N20/'!M305A3D.UST'!Q3","v":0.37755102040816324},{"$f":"SUM('!M305A3D.UST'!L20:Q20)/'!M305A3D.UST'!Q3","v":1.9489795918367347},{"$f":"'!M305A3D.UST'!Q16","v":0.37478562113518488}]
[17,{"$f":"'!M306B2D.UST'!B2:C2","v":"<date>"},{"$f":"('!M306B2D.UST'!F99/60)/'!M306B2D.UST'!Q3","v":2.7625448028673838},{"$f":"'!M306B2D.UST'!N20/'!M306B2D.UST'!Q3","v":0.39784946236559138},{"$f":"SUM('!M306B2D.UST'!L20:Q20)/'!M306B2D.UST'!Q3","v":2.032258064516129},{"$f":"'!M306B2D.UST'!Q16","v":0.39544464014291097}]
[18,{"$f":"'!M307B0D.UST'!B2:C2","v":"<date>"},{"$f":"('!M307B0D.UST'!F101/60)/'!M307B0D.UST'!Q3","v":2.7738596491228069},{"$f":"'!M307B0D.UST'!N20/'!M307B0D.UST'!Q3","v":0.36842105263157893},{"$f":"SUM('!M307B0D.UST'!L20:Q20)/'!M307B0D.UST'!Q3","v":2.9263157894736844},{"$f":"'!M307B0D.UST'!Q16","v":0.38502699170567961}]
[19,{"$f":"'!M308A2D.UST'!B2:C2","v":"<date>"},{"$f":"('!M308A2D.UST'!F113/60)/'!M308A2D.UST'!Q3","v":2.5056074766355141},{"$f":"'!M308A2D.UST'!N20/'!M308A2D.UST'!Q3","v":0.29906542056074764},{"$f":"SUM('!M308A2D.UST'!L20:Q20)/'!M308A2D.UST'!Q3","v":2.7102803738317758},{"$f":"'!M308A2D.UST'!Q16","v":0.40037295393455902}]
[20,{"$f":"'!M309A3D.UST'!B2:C2","v":"<date>"},{"$f":"('!M309A3D.UST'!F96/60)/'!M309A3D.UST'!Q3","v":2.8072222222222223},{"$f":"'!M309A3D.UST'!N20/'!M309A3D.UST'!Q3","v":0.4},{"$f":"SUM('!M309A3D.UST'!L20:Q20)/'!M309A3D.UST'!Q3","v":1.9777777777777779},{"$f":"'!M309A3D.UST'!Q16","v":0.38642296838037082}]
[21,{"$f":"'!M310A2D.UST'!B2:C2","v":"<date>"},{"$f":"('!M310A2D.UST'!F87/60)/'!M310A2D.UST'!Q3","v":2.8534979423868312},{"$f":"'!M310A2D.UST'!N20/'!M310A2D.UST'!Q3","v":0.46913580246913578},{"$f":"SUM('!M310A2D.UST'!L20:Q20)/'!M310A2D.UST'!Q3","v":2.2962962962962963},{"$f":"'!M310A2D.UST'!Q16","v":0.38071454037954916}]
[22,{"$f":"'!M311B3D.UST'!B2:C2","v":"<date>"},{"$f":"('!M311B3D.UST'!F80/60)/'!M311B3D.UST'!Q3","v":2.8817567567567566},{"$f":"'!M311B3D.UST'!N20/'!M311B3D.UST'!Q3","v":0.52702702702702697},{"$f":"SUM('!M311B3D.UST'!L20:Q20)/'!M311B3D.UST'!Q3","v":3.7162162162162162},{"$f":"'!M311B3D.UST'!Q16","v":0.34426930549983015}]
[23,{"$f":"'!M312A3D.UST'!B2:C2","v":"<date>"},{"$f":"('!M312A3D.UST'!F60/60)/'!M312A3D.UST'!Q3","v":3.0101851851851853},{"$f":"'!M312A3D.UST'!N20/'!M312A3D.UST'!Q3","v":0.68518518518518523},{"$f":"SUM('!M312A3D.UST'!L20:Q20)/'!M312A3D.UST'!Q3","v":3.2592592592592591},{"$f":"'!M312A3D.UST'!Q16","v":0.28605229862627607}]
[24,{"$f":"'!M313A5D.UST'!B2:C2","v":"<date>"},{"$f":"('!M313A5D.UST'!F79/60)/'!M313A5D.UST'!Q3","v":2.7392694063926939},{"$f":"'!M313A5D.UST'!N20/'!M313A5D.UST'!Q3","v":0.50684931506849318},{"$f":"SUM('!M313A5D.UST'!L20:Q20)/'!M313A5D.UST'!Q3","v":2.506849315068493},{"$f":"'!M313A5D.UST'!Q16","v":0.3597642870732643}]
[25,{"$f":"'!M314B4D.UST'!B2:C2","v":"<date>"},{"$f":"('!M314B4D.UST'!F95/60)/'!M314B4D.UST'!Q3","v":2.8224719101123594},{"$f":"'!M314B4D.UST'!N20/'!M314B4D.UST'!Q3","v":0.39325842696629215},{"$f":"SUM('!M314B4D.UST'!L20:Q20)/'!M314B4D.UST'!Q3","v":1.9887640449438202},{"$f":"'!M314B4D.UST'!Q16","v":0.39215853087432473}]
[26,{"$f":"'!M315A4D.UST'!B2:C2","v":"<date>"},{"$f":"('!M315A4D.UST'!F97/60)/'!M315A4D.UST'!Q3","v":2.611904761904762},{"$f":"'!M315A4D.UST'!N20/'!M315A4D.UST'!Q3","v":0.39560439560439559},{"$f":"SUM('!M315A4D.UST'!L20:Q20)/'!M315A4D.UST'!Q3","v":2.0549450549450547},{"$f":"'!M315A4D.UST'!Q16","v":0.39188662524078682}]
[27,{"$f":"'!M316A5D.UST'!B2:C2","v":"<date>"},{"$f":"('!M316A5D.UST'!F87/60)/'!M316A5D.UST'!Q3","v":2.6421810699588479},{"$f":"'!M316A5D.UST'!N20/'!M316A5D.UST'!Q3","v":0.46913580246913578},{"$f":"SUM('!M316A5D.UST'!L20:Q20)/'!M316A5D.UST'!Q3","v":2.1851851851851851},{"$f":"'!M316A5D.UST'!Q16","v":0.36114589866631192}]
[28,{"$f":"'!M317B2D.UST'!B2:C2","v":"<date>"},{"$f":"('!M317B2D.UST'!F83/60)/'!M317B2D.UST'!Q3","v":2.616233766233766},{"$f":"'!M317B2D.UST'!N20/'!M317B2D.UST'!Q3","v":0.50649350649350644},{"$f":"SUM('!M317B2D.UST'!L20:Q20)/'!M317B2D.UST'!Q3","v":2.4285714285714284},{"$f":"'!M317B2D.UST'!Q16","v":0.33781240064769924}]
[29,{"$f":"'!M318B0D.UST'!B2:C2","v":"<date>"},{"$f":"('!M318B0D.UST'!F79/60)/'!M318B0D.UST'!Q3","v":2.5009132420091325},{"$f":"'!M318B0D.UST'!N20/'!M318B0D.UST'!Q3","v":0.53424657534246578},{"$f":"SUM('!M318B0D.UST'!L20:Q20)/'!M318B0D.UST'!Q3","v":2.5342465753424657},{"$f":"'!M318B0D.UST'!Q16","v":0.3372913552155295}]
[30,{"$f":"'!M319B0D.UST'!B2:C2","v":"<date>"},{"$f":"('!M319B0D.UST'!F83/60)/'!M319B0D.UST'!Q3","v":5.17987012987013},{"$f":"'!M319B0D.UST'!N20/'!M319B0D.UST'!Q3","v":0.32467532467532467},{"$f":"SUM('!M319B0D.UST'!L20:Q20)/'!M319B0D.UST'!Q3","v":2.116883116883117},{"$f":"'!M319B0D.UST'!Q16","v":0.43349943159855209}]

{"sheet":"Start","index":2,"n_rows":36,"n_cols":10,"rows_kept":36,"cut":false,"hidden":false,"merged":[]}
[null,null,null,null,null,"Use Folder 51",null,"Auto Clean Up",null,"Correct sequence"]
[null,null,null,null,null,false,null,true,null,121]
[]
["Working with Folder",null,null,null,null,null,"Process All/Or Pick A number: ALL or an integer"]
["F:\\Possum Chapter\\Raw Data\\Dusti\\New Phase 3 LRL\\",null,null,null,null,null,"ALL"]
["Filenames:"]
["!M311B3D.UST",null,null,null,null,null,"Paint Cells"]
["!M312A3D.UST",null,null,null,null,null,false]
["!M313A5D.UST"]
["!M314B4D.UST"]
["!M315A4D.UST"]
["!M316A5D.UST"]
["!M317B2D.UST"]
["!M318B0D.UST"]
["!M219B2D.UST"]
["!M220B1D.UST"]
["!M221A5D.UST"]
["!M222A1D.UST"]
["!M223A3D.UST"]
["!M224A2D.UST"]
["!M225A2D.UST"]
["!M226A5D.UST"]
["!M227A4D.UST"]
["!M228A4D.UST"]
["!M229B0D.UST"]
["!M301A4D.UST"]
["!M302A5D.UST"]
["!M303A3D.UST"]
["!M304B0D.UST"]
["!M305A3D.UST"]
["!M306B2D.UST"]
["!M307B0D.UST"]
["!M308A2D.UST"]
["!M309A3D.UST"]
["!M310A2D.UST"]
["!M319B0D.UST"]

{"sheet":"!M219B2D.UST","index":3,"n_rows":186,"n_cols":48,"rows_kept":186,"cut":false,"hidden":false,"merged":[[4,39,4,42],[5,39,5,40],[4,44,4,47],[5,44,5,45],[4,24,4,27],[5,24,5,25],[4,29,4,32],[5,29,5,30],[4,34,4,37],[5,34,5,35],[1,1,1,2],[5,13,5,14],[18,13,18,14],[19,13,19,14],[4,19,4,22],[5,19,5,20]]}
["Report for:!M219B2D.UST"]
["Date:","<date>"]
["Hen:","<hen>",null,null,null,"Correct Sequence",{"$f":"Start!J2","v":121},null,null,null,null,null,null,null,null,"Total Sequences in Data",{"$f":"4994-COUNTBLANK(L7:L5000)","v":180},null,null,null,null,"Total Sequences in Block Data",{"$f":"COUNTA(L7:L36)","v":30},null,null,null,"Total Sequences in Block Data",{"$f":"COUNTA(L37:L66)","v":30},null,null,null,"Total Sequences in Block Data",{"$f":"COUNTA(L67:L96)","v":30},null,null,null,"Total Sequences in Block Data",{"$f":"COUNTA(L97:L126)","v":30},null,null,null,"Total Sequences in Block Data",{"$f":"COUNTA(L127:L156)","v":30},null,null,null,"Total Sequences in Block Data",{"$f":"COUNTA(L157:L186)","v":30}]
[null,null,null,null,null,null,null,null,null,null,null,null,null,null,null,"Total Sequences in Summary",{"$f":"SUM(O7:O14)","v":180},null,null,null,null,"Total Sequences in Block Summary",{"$f":"SUM(U7:U14)","v":30},null,null,null,"Total Sequences in Block Summary",{"$f":"SUM(Z7:Z14)","v":30},null,null,null,"Total Sequences in Block Summary",{"$f":"SUM(AE7:AE14)","v":30},null,null,null,"Total Sequences in Block Summary",{"$f":"SUM(AJ7:AJ14)","v":30},null,null,null,"Total Sequences in Block Summary",{"$f":"SUM(AO7:AO14)","v":30},null,null,null,"Total Sequences in Block Summary",{"$f":"SUM(AT7:AT14)","v":30}]
[null,null,null,null,null,null,null,null,null,null,null,null,null,null,null,null,null,null,null,"Block 1",null,null,null,null,"Block 2",null,null,null,null,"Block 3",null,null,null,null,"Block 4",null,null,null,null,"Block 5",null,null,null,null,"Block 6"]
["Sequence\nComponent\n1","Time\n1","Sequence\nComponent\n2","Time\n2","Sequence\nComponent\n3","Time\n3","Sequence\nComponent\n4","Time\n4","Sequence\nComponent\n5","Time\n5","Correct?\n0=No 1=Yes","Sequence",null,"Frequency",null,"Relative Frequency","Variability",null,null,"Frequency",null,"Relative Frequency","Variability",null,"Frequency",null,"Relative Frequency","Variability",null,"Frequency",null,"Relative Frequency","Variability",null,"Frequency",null,"Relative Frequency","Variability",null,"Frequency",null,"Relative Frequency","Variability",null,"Frequency",null,"Relative Frequency","Variability"]
[11,21,21,28,22,36,null,null,null,null,0,122,null,111,{"$f":"COUNTIF($L$7:$L$500,N7)","v":14},{"$f":"O7/$Q$4","v":7.7777777777777779E-2},{"$f":"IF(P7=0,0,(P7*((LOG(P7))/LOG(2))))","v":-0.28657208022116104},null,null,{"$f":"N7","v":111},{"$f":"COUNTIF(L7:L36,T7)","v":0},{"$f":"U7/(W4-U9)","v":0},{"$f":"IF(V7=0,0,(V7*((LOG(V7))/LOG(2))))","v":0},null,{"$f":"N7","v":111},{"$f":"COUNTIF(L37:L66,Y7)","v":0},{"$f":"Z7/(AB4-Z9)","v":0},{"$f":"IF(AA7=0,0,(AA7*((LOG(AA7))/LOG(2))))","v":0},null,{"$f":"N7","v":111},{"$f":"COUNTIF(L67:L96,AD7)","v":2},{"$f":"AE7/(AG4-AE9)","v":6.6666666666666666E-2},{"$f":"IF(AF7=0,0,(AF7*((LOG(AF7))/LOG(2))))","v":-0.26045937304056793},null,{"$f":"N7","v":111},{"$f":"COUNTIF(L97:L126,AI7)","v":2},{"$f":"AJ7/(AL4-AJ9)","v":6.8965517241379309E-2},{"$f":"IF(AK7=0,0,(AK7*((LOG(AK7))/LOG(2))))","v":-0.26606765483638428},null,{"$f":"N7","v":111},{"$f":"COUNTIF(L127:L156,AN7)","v":4},{"$f":"AO7/(AQ4-AO9)","v":0.13333333333333333},{"$f":"IF(AP7=0,0,(AP7*((LOG(AP7))/LOG(2))))","v":-0.3875854127478025},null,{"$f":"N7","v":111},{"$f":"COUNTIF(L157:L186,AS7)","v":6},{"$f":"AT7/(AV4-AT9)","v":0.2},{"$f":"IF(AU7=0,0,(AU7*((LOG(AU7))/LOG(2))))","v":-0.46438561897747244}]
[22,134,23,144,13,158,null,null,null,null,0,221,null,112,{"$f":"COUNTIF($L$7:$L$500,N8)","v":7},{"$f":"O8/$Q$4","v":3.888888888888889E-2},{"$f":"IF(P8=0,0,(P8*((LOG(P8))/LOG(2))))","v":-0.18217492899946944},null,null,{"$f":"N8","v":112},{"$f":"COUNTIF(L7:L36,T8)","v":0},{"$f":"U8/(W4-U9)","v":0},{"$f":"IF(V8=0,0,(V8*((LOG(V8))/LOG(2))))","v":0},null,{"$f":"N8","v":112},{"$f":"COUNTIF(L37:L66,Y8)","v":0},{"$f":"Z8/(AB4-Z9)","v":0},{"$f":"IF(AA8=0,0,(AA8*((LOG(AA8))/LOG(2))))","v":0},null,{"$f":"N8","v":112},{"$f":"COUNTIF(L67:L96,AD8)","v":2},{"$f":"AE8/(AG4-AE9)","v":6.6666666666666666E-2},{"$f":"IF(AF8=0,0,(AF8*((LOG(AF8))/LOG(2))))","v":-0.26045937304056793},null,{"$f":"N8","v":112},{"$f":"COUNTIF(L97:L126,AI8)","v":1},{"$f":"AJ8/(AL4-AJ9)","v":3.4482758620689655E-2},{"$f":"IF(AK8=0,0,(AK8*((LOG(AK8))/LOG(2))))","v":-0.16751658603888178},null,{"$f":"N8","v":112},{"$f":"COUNTIF(L127:L156,AN8)","v":1},{"$f":"AO8/(AQ4-AO9)","v":3.3333333333333333E-2},{"$f":"IF(AP8=0,0,(AP8*((LOG(AP8))/LOG(2))))","v":-0.16356301985361729},null,{"$f":"N8","v":112},{"$f":"COUNTIF(L157:L186,AS8)","v":3},{"$f":"AT8/(AV4-AT9)","v":0.1},{"$f":"IF(AU8=0,0,(AU8*((LOG(AU8))/LOG(2))))","v":-0.33219280948873625}]
[22,256,23,263,13,284,null,null,null,null,0,221,null,121,{"$f":"COUNTIF($L$7:$L$500,N9)","v":1},{"$f":"O9/$Q$4","v":5.5555555555555558E-3},{"$f":"IF(P9=0,0,(P9*((LOG(P9))/LOG(2))))","v":-4.1621406090720417E-2},null,null,{"$f":"N9","v":121},{"$f":"COUNTIF(L7:L36,T9)","v":0},null,null,null,{"$f":"N9","v":121},{"$f":"COUNTIF(L37:L66,Y9)","v":0},null,null,null,{"$f":"N9","v":121},{"$f":"COUNTIF(L67:L96,AD9)","v":0},null,null,null,{"$f":"N9","v":121},{"$f":"COUNTIF(L97:L126,AI9)","v":1},null,null,null,{"$f":"N9","v":121},{"$f":"COUNTIF(L127:L156,AN9)","v":0},null,null,null,{"$f":"N9","v":121},{"$f":"COUNTIF(L157:L186,AS9)","v":0}]
[22,384,23,392,24,415,null,null,null,null,0,222,null,122,{"$f":"COUNTIF($L$7:$L$500,N10)","v":8},{"$f":"O10/$Q$4","v":4.4444444444444446E-2},{"$f":"IF(P10=0,0,(P10*((LOG(P10))/LOG(2))))","v":-0.19963791539243},null,null,{"$f":"N10","v":122},{"$f":"COUNTIF(L7:L36,T10)","v":1},{"$f":"U10/(W4-U9)","v":3.3333333333333333E-2},{"$f":"IF(V10=0,0,(V10*((LOG(V10))/LOG(2))))","v":-0.16356301985361729},null,{"$f":"N10","v":122},{"$f":"COUNTIF(L37:L66,Y10)","v":0},{"$f":"Z10/(AB4-Z9)","v":0},{"$f":"IF(AA10=0,0,(AA10*((LOG(AA10))/LOG(2))))","v":0},null,{"$f":"N10","v":122},{"$f":"COUNTIF(L67:L96,AD10)","v":2},{"$f":"AE10/(AG4-AE9)","v":6.6666666666666666E-2},{"$f":"IF(AF10=0,0,(AF10*((LOG(AF10))/LOG(2))))","v":-0.26045937304056793},null,{"$f":"N10","v":122},{"$f":"COUNTIF(L97:L126,AI10)","v":2},{"$f":"AJ10/(AL4-AJ9)","v":6.8965517241379309E-2},{"$f":"IF(AK10=0,0,(AK10*((LOG(AK10))/LOG(2))))","v":-0.26606765483638428},null,{"$f":"N10","v":122},{"$f":"COUNTIF(L127:L156,AN10)","v":1},{"$f":"AO10/(AQ4-AO9)","v":3.3333333333333333E-2},{"$f":"IF(AP10=0,0,(AP10*((LOG(AP10))/LOG(2))))","v":-0.16356301985361729},null,{"$f":"N10","v":122},{"$f":"COUNTIF(L157:L186,AS10)","v":2},{"$f":"AT10/(AV4-AT9)","v":6.6666666666666666E-2},{"$f":"IF(AU10=0,0,(AU10*((LOG(AU10))/LOG(2))))","v":-0.26045937304056793}]
[22,598,23,624,24,652,null,null,null,null,0,222,null,211,{"$f":"COUNTIF($L$7:$L$500,N11)","v":0},{"$f":"O11/$Q$4","v":0},{"$f":"IF(P11=0,0,(P11*((LOG(P11))/LOG(2))))","v":0},null,null,{"$f":"N11","v":211},{"$f":"COUNTIF(L7:L36,T11)","v":0},{"$f":"U11/(W4-U9)","v":0},{"$f":"IF(V11=0,0,(V11*((LOG(V11))/LOG(2))))","v":0},null,{"$f":"N11","v":211},{"$f":"COUNTIF(L37:L66,Y11)","v":0},{"$f":"Z11/(AB4-Z9)","v":0},{"$f":"IF(AA11=0,0,(AA11*((LOG(AA11))/LOG(2))))","v":0},null,{"$f":"N11","v":211},{"$f":"COUNTIF(L67:L96,AD11)","v":0},{"$f":"AE11/(AG4-AE9)","v":0},{"$f":"IF(AF11=0,0,(AF11*((LOG(AF11))/LOG(2))))","v":0},null,{"$f":"N11","v":211},{"$f":"COUNTIF(L97:L126,AI11)","v":0},{"$f":"AJ11/(AL4-AJ9)","v":0},{"$f":"IF(AK11=0,0,(AK11*((LOG(AK11))/LOG(2))))","v":0},null,{"$f":"N11","v":211},{"$f":"COUNTIF(L127:L156,AN11)","v":0},{"$f":"AO11/(AQ4-AO9)","v":0},{"$f":"IF(AP11=0,0,(AP11*((LOG(AP11))/LOG(2))))","v":0},null,{"$f":"N11","v":211},{"$f":"COUNTIF(L157:L186,AS11)","v":0},{"$f":"AT11/(AV4-AT9)","v":0},{"$f":"IF(AU11=0,0,(AU11*((LOG(AU11))/LOG(2))))","v":0}]
[22,751,23,757,13,773,null,null,null,null,0,221,null,212,{"$f":"COUNTIF($L$7:$L$500,N12)","v":48},{"$f":"O12/$Q$4","v":0.26666666666666666},{"$f":"IF(P12=0,0,(P12*((LOG(P12))/LOG(2))))","v":-0.50850415882893829},null,null,{"$f":"N12","v":212},{"$f":"COUNTIF(L7:L36,T12)","v":4},{"$f":"U12/(W4-U9)","v":0.13333333333333333},{"$f":"IF(V12=0,0,(V12*((LOG(V12))/LOG(2))))","v":-0.3875854127478025},null,{"$f":"N12","v":212},{"$f":"COUNTIF(L37:L66,Y12)","v":10},{"$f":"Z12/(AB4-Z9)","v":0.33333333333333331},{"$f":"IF(AA12=0,0,(AA12*((LOG(AA12))/LOG(2))))","v":-0.52832083357371862},null,{"$f":"N12","v":212},{"$f":"COUNTIF(L67:L96,AD12)","v":9},{"$f":"AE12/(AG4-AE9)","v":0.3},{"$f":"IF(AF12=0,0,(AF12*((LOG(AF12))/LOG(2))))","v":-0.52108967824986185},null,{"$f":"N12","v":212},{"$f":"COUNTIF(L97:L126,AI12)","v":11},{"$f":"AJ12/(AL4-AJ9)","v":0.37931034482758619},{"$f":"IF(AK12=0,0,(AK12*((LOG(AK12))/LOG(2))))","v":-0.53048424625493174},null,{"$f":"N12","v":212},{"$f":"COUNTIF(L127:L156,AN12)","v":9},{"$f":"AO12/(AQ4-AO9)","v":0.3},{"$f":"IF(AP12=0,0,(AP12*((LOG(AP12))/LOG(2))))","v":-0.52108967824986185},null,{"$f":"N12","v":212},{"$f":"COUNTIF(L157:L186,AS12)","v":5},{"$f":"AT12/(AV4-AT9)","v":0.16666666666666666},{"$f":"IF(AU12=0,0,(AU12*((LOG(AU12))/LOG(2))))","v":-0.43082708345352599}]
[22,872,23,883,13,901,null,null,null,null,0,221,null,221,{"$f":"COUNTIF($L$7:$L$500,N13)","v":47},{"$f":"O13/$Q$4","v":0.26111111111111113},{"$f":"IF(P13=0,0,(P13*((LOG(P13))/LOG(2))))","v":-0.50584121943692095},null,null,{"$f":"N13","v":221},{"$f":"COUNTIF(L7:L36,T13)","v":12},{"$f":"U13/(W4-U9)","v":0.4},{"$f":"IF(V13=0,0,(V13*((LOG(V13))/LOG(2))))","v":-0.52877123795494496},null,{"$f":"N13","v":221},{"$f":"COUNTIF(L37:L66,Y13)","v":5},{"$f":"Z13/(AB4-Z9)","v":0.16666666666666666},{"$f":"IF(AA13=0,0,(AA13*((LOG(AA13))/LOG(2))))","v":-0.43082708345352599},null,{"$f":"N13","v":221},{"$f":"COUNTIF(L67:L96,AD13)","v":2},{"$f":"AE13/(AG4-AE9)","v":6.6666666666666666E-2},{"$f":"IF(AF13=0,0,(AF13*((LOG(AF13))/LOG(2))))","v":-0.26045937304056793},null,{"$f":"N13","v":221},{"$f":"COUNTIF(L97:L126,AI13)","v":8},{"$f":"AJ13/(AL4-AJ9)","v":0.27586206896551724},{"$f":"IF(AK13=0,0,(AK13*((LOG(AK13))/LOG(2))))","v":-0.51254648141450265},null,{"$f":"N13","v":221},{"$f":"COUNTIF(L127:L156,AN13)","v":10},{"$f":"AO13/(AQ4-AO9)","v":0.33333333333333331},{"$f":"IF(AP13=0,0,(AP13*((LOG(AP13))/LOG(2))))","v":-0.52832083357371862},null,{"$f":"N13","v":221},{"$f":"COUNTIF(L157:L186,AS13)","v":10},{"$f":"AT13/(AV4-AT9)","v":0.33333333333333331},{"$f":"IF(AU13=0,0,(AU13*((LOG(AU13))/LOG(2))))","v":-0.52832083357371862}]
[22,999,23,1001,24,1004,null,null,null,null,0,222,null,222,{"$f":"COUNTIF($L$7:$L$500,N14)","v":55},{"$f":"O14/$Q$4","v":0.30555555555555558},{"$f":"IF(P14=0,0,(P14*((LOG(P14))/LOG(2))))","v":-0.52265075585708798},null,null,{"$f":"N14","v":222},{"$f":"COUNTIF(L7:L36,T14)","v":13},{"$f":"U14/(W4-U9)","v":0.43333333333333335},{"$f":"IF(V14=0,0,(V14*((LOG(V14))/LOG(2))))","v":-0.52279538023588479},null,{"$f":"N14","v":222},{"$f":"COUNTIF(L37:L66,Y14)","v":15},{"$f":"Z14/(AB4-Z9)","v":0.5},{"$f":"IF(AA14=0,0,(AA14*((LOG(AA14))/LOG(2))))","v":-0.5},null,{"$f":"N14","v":222},{"$f":"COUNTIF(L67:L96,AD14)","v":13},{"$f":"AE14/(AG4-AE9)","v":0.43333333333333335},{"$f":"IF(AF14=0,0,(AF14*((LOG(AF14))/LOG(2))))","v":-0.52279538023588479},null,{"$f":"N14","v":222},{"$f":"COUNTIF(L97:L126,AI14)","v":5},{"$f":"AJ14/(AL4-AJ9)","v":0.17241379310344829},{"$f":"IF(AK14=0,0,(AK14*((LOG(AK14))/LOG(2))))","v":-0.43725050004141547},null,{"$f":"N14","v":222},{"$f":"COUNTIF(L127:L156,AN14)","v":5},{"$f":"AO14/(AQ4-AO9)","v":0.16666666666666666},{"$f":"IF(AP14=0,0,(AP14*((LOG(AP14))/LOG(2))))","v":-0.43082708345352599},null,{"$f":"N14","v":222},{"$f":"COUNTIF(L157:L186,AS14)","v":4},{"$f":"AT14/(AV4-AT9)","v":0.13333333333333333},{"$f":"IF(AU14=0,0,(AU14*((LOG(AU14))/LOG(2))))","v":-0.3875854127478025}]
[22,1098,23,1106,13,1118,null,null,null,null,0,221,null,null,null,{"$f":"SUM(P7:P14)","v":1},{"$f":"-SUM(Q7:Q14)","v":2.2470024648267284},null,null,null,null,{"$f":"SUM(V7:V14)","v":1},{"$f":"-SUM(W7:W14)","v":1.6027150507922494},null,null,null,{"$f":"SUM(AA7:AA14)","v":1},{"$f":"-SUM(AB7:AB14)","v":1.4591479170272446},null,null,null,{"$f":"SUM(AF7:AF14)","v":1},{"$f":"-SUM(AG7:AG14)","v":2.0857225506480184},null,null,null,{"$f":"SUM(AK7:AK14)","v":1},{"$f":"-SUM(AL7:AL14)","v":2.1799331234224999},null,null,null,{"$f":"SUM(AP7:AP14)","v":0.99999999999999989},{"$f":"-SUM(AQ7:AQ14)","v":2.1949490477321434},null,null,null,{"$f":"SUM(AU7:AU14)","v":1},{"$f":"-SUM(AV7:AV14)","v":2.403771131281824}]
[22,1214,23,1217,24,1219,null,null,null,null,0,222,null,null,null,"U=",{"$f":"Q15/(LOG(Q4)/LOG(2))","v":0.29992612454287909},null,null,null,null,"U1=",{"$f":"W15/(LOG(W4)/LOG(2))","v":0.32662538924886947},null,null,null,"U2=",{"$f":"AB15/(LOG(AB4)/LOG(2))","v":0.29736711846258129},null,null,null,"U3=",{"$f":"AG15/(LOG(AG4)/LOG(2))","v":0.42505992542704357},null,null,null,"U4=",{"$f":"AL15/(LOG(AL4)/LOG(2))","v":0.4442595735420426},null,null,null,"U5=",{"$f":"AQ15/(LOG(AQ4)/LOG(2))","v":0.44731974454383389},null,null,null,"U6=",{"$f":"AV15/(LOG(AV4)/LOG(2))","v":0.48987665089437865}]
[22,1316,23,1320,24,1343,null,null,null,null,0,222]
[22,1481,14,1492,24,1499,null,null,null,null,0,212]
[22,1609,23,1631,24,1649,null,null,null,null,0,222,null,"Total Target Seq"]
[22,1752,23,1774,24,1782,null,null,null,null,0,222,null,{"$f":"COUNTIF(L7:L186,G3)","v":1},null,30,30,30,30,30,30]
[22,1880,14,1907,24,1917,null,null,null,null,0,212,null,null,null,"% of reinforcement given in 6 equal intervals based on number of trials "]
[22,2014,23,2023,13,2039,null,null,null,null,0,221,null,null,null,"%_1","%_2","%_3","%_4","%_5","%_6"]
[22,2135,23,2142,13,2159,null,null,null,null,0,221,null,null,"target sequence",{"$f":"$G$3","v":121},{"$f":"$G$3","v":121},{"$f":"$G$3","v":121},{"$f":"$G$3","v":121},{"$f":"$G$3","v":121},{"$f":"$G$3","v":121}]
[22,2258,23,2266,13,2284,null,null,null,null,0,221,null,null,"total reinforcement",{"$f":"U9","v":0},{"$f":"Z9","v":0},{"$f":"AE9","v":0},{"$f":"AJ9","v":1},{"$f":"AO9","v":0},{"$f":"AT9","v":0}]
[22,2387,23,2394,13,2410,null,null,null,null,0,221,null,null,"% target"]
[22,2510,14,2527,24,2533,null,null,null,null,0,212,null,null,"CCRF"]
[22,2631,23,2637,24,2659,null,null,null,null,0,222,null,null,"% CCRf"]
[22,2760,23,2766,13,2788,null,null,null,null,0,221,null,null,"average response rate",{"$f":"F36/P20","v":126.6},{"$f":"(F66-F36)/Q20","v":127.66666666666667},{"$f":"(F96-F66)/R20","v":134.4},{"$f":"(F126-F96)/S20","v":154.30000000000001},{"$f":"(F156-F126)/T20","v":126.93333333333334},{"$f":"(F186-F156)/U20","v":124.96666666666667}]
[22,2885,23,2892,24,2933,null,null,null,null,0,222]
[22,3032,23,3038,24,3044,null,null,null,null,0,222]
[22,3142,14,3157,24,3165,null,null,null,null,0,212]
[22,3274,23,3281,24,3303,null,null,null,null,0,222]
[22,3402,23,3411,13,3424,null,null,null,null,0,221]
[22,3533,23,3542,13,3562,null,null,null,null,0,221]
[22,3663,23,3670,24,3690,null,null,null,null,0,222]
[22,3787,23,3792,24,3798,null,null,null,null,0,222]
[22,3897,23,3901,24,3907,null,null,null,null,0,222]
[22,4014,14,4030,24,4038,null,null,null,null,0,212]
[22,4135,23,4142,13,4162,null,null,null,null,0,221]
[22,4262,23,4269,24,4290,null,null,null,null,0,222]
[22,4388,14,4403,24,4410,null,null,null,null,0,212]
[22,4511,23,4519,13,4540,null,null,null,null,0,221]
[22,4650,23,4660,24,4667,null,null,null,null,0,222]
[22,4773,23,4778,24,4799,null,null,null,null,0,222]
[22,4903,23,4908,24,4932,null,null,null,null,0,222]
[22,5039,23,5060,24,5068,null,null,null,null,0,222]
[22,5172,14,5186,24,5196,null,null,null,null,0,212]
[22,5293,23,5298,13,5324,null,null,null,null,0,221]
[22,5419,14,5433,24,5442,null,null,null,null,0,212]
[22,5549,14,5562,24,5573,null,null,null,null,0,212]
[22,5680,23,5686,24,5692,null,null,null,null,0,222]
[22,5786,23,5799,24,5822,null,null,null,null,0,222]
[22,5920,23,5930,24,5952,null,null,null,null,0,222]
[22,6051,23,6055,24,6062,null,null,null,null,0,222]
[22,6161,23,6170,13,6186,null,null,null,null,0,221]
[22,6290,14,6307,24,6315,null,null,null,null,0,212]
[22,6439,14,6455,24,6461,null,null,null,null,0,212]
[22,6563,23,6575,13,6591,null,null,null,null,0,221]
[22,6704,23,6708,24,6714,null,null,null,null,0,222]
[22,6815,14,6832,24,6838,null,null,null,null,0,212]
[22,6961,23,6968,24,6975,null,null,null,null,0,222]
[22,7082,23,7106,24,7114,null,null,null,null,0,222]
[22,7220,14,7231,24,7240,null,null,null,null,0,212]
[22,7335,23,7343,24,7348,null,null,null,null,0,222]
[22,7468,23,7474,24,7502,null,null,null,null,0,222]
[22,7605,14,7620,24,7628,null,null,null,null,0,212]
[22,7732,23,7738,24,7746,null,null,null,null,0,222]
[22,7850,14,7869,24,7881,null,null,null,null,0,212]
[11,7980,12,7986,24,7997,null,null,null,null,0,112]
[11,8367,12,8372,13,8379,null,null,null,null,0,111]
[22,8481,14,8498,24,8509,null,null,null,null,0,212]
[22,8610,23,8616,24,8622,null,null,null,null,0,222]
[22,8722,23,8731,24,8753,null,null,null,null,0,222]
[22,8855,23,8874,24,8881,null,null,null,null,0,222]
[22,8976,14,8992,24,9000,null,null,null,null,0,212]
[22,9111,23,9124,13,9142,null,null,null,null,0,221]
[22,9240,23,9249,24,9278,null,null,null,null,0,222]
[22,9378,14,9397,24,9404,null,null,null,null,0,212]
[11,9513,21,9519,22,9528,null,null,null,null,0,122]
[22,9623,14,9637,24,9646,null,null,null,null,0,212]
[22,9747,23,9751,24,9757,null,null,null,null,0,222]
[22,9864,14,9876,24,9883,null,null,null,null,0,212]
[22,9985,14,10003,24,10010,null,null,null,null,0,212]
[22,10106,23,10112,24,10135,null,null,null,null,0,222]
[22,10242,23,10252,13,10268,null,null,null,null,0,221]
[22,10368,14,10383,24,10392,null,null,null,null,0,212]
[22,10493,23,10498,24,10503,null,null,null,null,0,222]
[22,10598,23,10606,24,10625,null,null,null,null,0,222]
[22,10733,14,10750,24,10757,null,null,null,null,0,212]
[22,10854,23,10862,24,10867,null,null,null,null,0,222]
[22,10963,23,10973,24,10994,null,null,null,null,0,222]
[22,11104,23,11126,24,11147,null,null,null,null,0,222]
[11,11257,12,11262,24,11271,null,null,null,null,0,112]
[22,11371,23,11380,24,11403,null,null,null,null,0,222]
[11,11502,21,11510,22,11539,null,null,null,null,0,122]
[11,11642,12,11654,13,11660,null,null,null,null,0,111]
[22,11759,14,11770,24,11783,null,null,null,null,0,212]
[22,11881,23,11888,24,11911,null,null,null,null,0,222]
[22,12014,23,12026,13,12041,null,null,null,null,0,221]
[22,12150,23,12159,13,12176,null,null,null,null,0,221]
[22,12284,23,12292,13,12316,null,null,null,null,0,221]
[22,12441,14,12463,24,12470,null,null,null,null,0,212]
[22,12571,14,12584,24,12592,null,null,null,null,0,212]
[22,12695,23,12699,13,12719,null,null,null,null,0,221]
[11,12819,21,12827,22,12838,null,null,null,null,0,122]
[22,13063,23,13070,13,13088,null,null,null,null,0,221]
[22,13213,14,13228,24,13236,null,null,null,null,0,212]
[11,13352,21,13360,11,13378,null,null,null,null,0,121]
[22,13655,14,13671,24,13678,null,null,null,null,0,212]
[22,13785,23,13791,24,13811,null,null,null,null,0,222]
[22,13907,14,13923,24,13930,null,null,null,null,0,212]
[22,14039,14,14053,24,14062,null,null,null,null,0,212]
[22,14165,23,14172,13,14188,null,null,null,null,0,221]
[22,14401,23,14410,13,14431,null,null,null,null,0,221]
[11,14539,12,14546,24,14555,null,null,null,null,0,112]
[22,14798,14,14810,24,14816,null,null,null,null,0,212]
[22,14917,23,14939,24,14958,null,null,null,null,0,222]
[22,15065,14,15079,24,15086,null,null,null,null,0,212]
[22,15180,23,15195,24,15217,null,null,null,null,0,222]
[22,15320,14,15334,24,15349,null,null,null,null,0,212]
[22,15448,23,15456,13,15474,null,null,null,null,0,221]
[11,15586,21,15595,22,15600,null,null,null,null,0,122]
[22,15702,14,15716,24,15725,null,null,null,null,0,212]
[11,15822,12,15828,13,15834,null,null,null,null,0,111]
[11,16106,12,16111,13,16165,null,null,null,null,0,111]
[22,16258,23,16267,24,16289,null,null,null,null,0,222]
[22,16388,23,16399,13,16419,null,null,null,null,0,221]
[22,16533,14,16544,24,16552,null,null,null,null,0,212]
[11,16660,21,16667,22,16674,null,null,null,null,0,122]
[22,16786,23,16790,13,16802,null,null,null,null,0,221]
[22,16908,23,16920,13,16944,null,null,null,null,0,221]
[22,17042,23,17049,13,17072,null,null,null,null,0,221]
[22,17169,14,17183,24,17192,null,null,null,null,0,212]
[22,17289,14,17307,24,17314,null,null,null,null,0,212]
[22,17422,23,17426,13,17450,null,null,null,null,0,221]
[22,17551,14,17570,24,17601,null,null,null,null,0,212]
[22,17696,14,17713,24,17721,null,null,null,null,0,212]
[11,17820,12,17826,13,17842,null,null,null,null,0,111]
[22,17943,23,17971,24,17981,null,null,null,null,0,222]
[22,18081,23,18087,13,18107,null,null,null,null,0,221]
[22,18199,23,18217,24,18225,null,null,null,null,0,222]
[22,18332,14,18352,24,18362,null,null,null,null,0,212]
[22,18461,23,18469,24,18493,null,null,null,null,0,222]
[11,18601,12,18608,24,18618,null,null,null,null,0,112]
[22,18714,14,18739,24,18747,null,null,null,null,0,212]
[22,18848,14,18871,24,18881,null,null,null,null,0,212]
[22,18986,14,19004,24,19012,null,null,null,null,0,212]
[22,19104,23,19114,24,19137,null,null,null,null,0,222]
[11,19234,12,19239,13,19247,null,null,null,null,0,111]
[22,19340,23,19346,24,19354,null,null,null,null,0,222]
[22,19454,23,19461,13,19477,null,null,null,null,0,221]
[11,19580,12,19586,13,19592,null,null,null,null,0,111]
[22,19688,23,19694,13,19709,null,null,null,null,0,221]
[22,19803,23,19808,13,19829,null,null,null,null,0,221]
[22,19932,23,19939,13,19960,null,null,null,null,0,221]
[11,20074,12,20079,13,20097,null,null,null,null,0,111]
[22,20203,14,20223,24,20231,null,null,null,null,0,212]
[22,20332,23,20351,24,20357,null,null,null,null,0,222]
[22,20455,23,20464,13,20486,null,null,null,null,0,221]
[22,20580,23,20585,13,20603,null,null,null,null,0,221]
[22,20705,14,20730,24,20739,null,null,null,null,0,212]
[11,20842,12,20854,13,20867,null,null,null,null,0,111]
[11,20965,12,20972,24,20987,null,null,null,null,0,112]
[11,21085,21,21097,22,21106,null,null,null,null,0,122]
[22,21203,23,21208,13,21220,null,null,null,null,0,221]
[11,21317,12,21322,13,21328,null,null,null,null,0,111]
[22,21428,23,21439,13,21454,null,null,null,null,0,221]
[22,21550,23,21553,24,21562,null,null,null,null,0,222]
[22,21655,23,21661,24,21670,null,null,null,null,0,222]
[22,21773,23,21780,13,21802,null,null,null,null,0,221]
[11,21903,21,21912,22,21930,null,null,null,null,0,122]
[22,22032,14,22054,24,22065,null,null,null,null,0,212]
[22,22165,23,22172,13,22188,null,null,null,null,0,221]
[22,22293,23,22296,13,22311,null,null,null,null,0,221]
[11,22421,12,22433,24,22443,null,null,null,null,0,112]
[22,22545,23,22553,13,22574,null,null,null,null,0,221]
[11,22671,12,22677,13,22684,null,null,null,null,0,111]
[11,22783,12,22792,13,22806,null,null,null,null,0,111]
[11,22920,12,22927,13,22934,null,null,null,null,0,111]
[22,23032,23,23056,13,23076,null,null,null,null,0,221]
[22,23174,14,23198,24,23210,null,null,null,null,0,212]
[22,23310,23,23318,13,23342,null,null,null,null,0,221]
[11,23449,12,23457,13,23464,null,null,null,null,0,111]
[22,23580,23,23589,24,23603,null,null,null,null,0,222]
[22,23700,14,23713,24,23721,null,null,null,null,0,212]
[11,23824,12,23830,24,23846,null,null,null,null,0,112]

{"sheet":"!M220B1D.UST","index":4,"n_rows":179,"n_cols":48,"rows_kept":179,"cut":false,"hidden":false,"merged":[[4,39,4,42],[5,39,5,40],[4,44,4,47],[5,44,5,45],[4,24,4,27],[5,24,5,25],[4,29,4,32],[5,29,5,30],[4,34,4,37],[5,34,5,35],[1,1,1,2],[5,13,5,14],[18,13,18,14],[19,13,19,14],[4,19,4,22],[5,19,5,20]]}
["Report for:!M220B1D.UST"]
["Date:","<date>"]
["Hen:","<hen>",null,null,null,"Correct Sequence",{"$f":"Start!J2","v":121},null,null,null,null,null,null,null,null,"Total Sequences in Data",{"$f":"4994-COUNTBLANK(L7:L5000)","v":173},null,null,null,null,"Total Sequences in Block Data",{"$f":"COUNTA(L7:L35)","v":29},null,null,null,"Total Sequences in Block Data",{"$f":"COUNTA(L36:L64)","v":29},null,null,null,"Total Sequences in Block Data",{"$f":"COUNTA(L65:L92)","v":28},null,null,null,"Total Sequences in Block Data",{"$f":"COUNTA(L93:L121)","v":29},null,null,null,"Total Sequences in Block Data",{"$f":"COUNTA(L122:L150)","v":29},null,null,null,"Total Sequences in Block Data",{"$f":"COUNTA(L151:L179)","v":29}]
[null,null,null,null,null,null,null,null,null,null,null,null,null,null,null,"Total Sequences in Summary",{"$f":"SUM(O7:O14)","v":173},null,null,null,null,"Total Sequences in Block Summary",{"$f":"SUM(U7:U14)","v":29},null,null,null,"Total Sequences in Block Summary",{"$f":"SUM(Z7:Z14)","v":29},null,null,null,"Total Sequences in Block Summary",{"$f":"SUM(AE7:AE14)","v":28},null,null,null,"Total Sequences in Block Summary",{"$f":"SUM(AJ7:AJ14)","v":29},null,null,null,"Total Sequences in Block Summary",{"$f":"SUM(AO7:AO14)","v":29},null,null,null,"Total Sequences in Block Summary",{"$f":"SUM(AT7:AT14)","v":29}]
[null,null,null,null,null,null,null,null,null,null,null,null,null,null,null,null,null,null,null,"Block 1",null,null,null,null,"Block 2",null,null,null,null,"Block 3",null,null,null,null,"Block 4",null,null,null,null,"Block 5",null,null,null,null,"Block 6"]
["Sequence\nComponent\n1","Time\n1","Sequence\nComponent\n2","Time\n2","Sequence\nComponent\n3","Time\n3","Sequence\nComponent\n4","Time\n4","Sequence\nComponent\n5","Time\n5","Correct?\n0=No 1=Yes","Sequence",null,"Frequency",null,"Relative Frequency","Variability",null,null,"Frequency",null,"Relative Frequency","Variability",null,"Frequency",null,"Relative Frequency","Variability",null,"Frequency",null,"Relative Frequency","Variability",null,"Frequency",null,"Relative Frequency","Variability",null,"Frequency",null,"Relative Frequency","Variability",null,"Frequency",null,"Relative Frequency","Variability"]
[22,21,14,38,24,45,null,null,null,null,0,212,null,111,{"$f":"COUNTIF($L$7:$L$500,N7)","v":47},{"$f":"O7/$Q$4","v":0.27167630057803466},{"$f":"IF(P7=0,0,(P7*((LOG(P7))/LOG(2))))","v":-0.51076214260160169},null,null,{"$f":"N7","v":111},{"$f":"COUNTIF(L7:L35,T7)","v":3},{"$f":"U7/(W4-U9)","v":0.10714285714285714},{"$f":"IF(V7=0,0,(V7*((LOG(V7))/LOG(2))))","v":-0.34525633085747659},null,{"$f":"N7","v":111},{"$f":"COUNTIF(L36:L64,Y7)","v":5},{"$f":"Z7/(AB4-Z9)","v":0.17241379310344829},{"$f":"IF(AA7=0,0,(AA7*((LOG(AA7))/LOG(2))))","v":-0.43725050004141547},null,{"$f":"N7","v":111},{"$f":"COUNTIF(L65:L92,AD7)","v":8},{"$f":"AE7/(AG4-AE9)","v":0.2857142857142857},{"$f":"IF(AF7=0,0,(AF7*((LOG(AF7))/LOG(2))))","v":-0.51638712058788683},null,{"$f":"N7","v":111},{"$f":"COUNTIF(L93:L121,AI7)","v":8},{"$f":"AJ7/(AL4-AJ9)","v":0.2857142857142857},{"$f":"IF(AK7=0,0,(AK7*((LOG(AK7))/LOG(2))))","v":-0.51638712058788683},null,{"$f":"N7","v":111},{"$f":"COUNTIF(L122:L150,AN7)","v":8},{"$f":"AO7/(AQ4-AO9)","v":0.27586206896551724},{"$f":"IF(AP7=0,0,(AP7*((LOG(AP7))/LOG(2))))","v":-0.51254648141450265},null,{"$f":"N7","v":111},{"$f":"COUNTIF(L151:L179,AS7)","v":15},{"$f":"AT7/(AV4-AT9)","v":0.51724137931034486},{"$f":"IF(AU7=0,0,(AU7*((LOG(AU7))/LOG(2))))","v":-0.49194331009606224}]
[22,146,23,154,13,168,null,null,null,null,0,221,null,112,{"$f":"COUNTIF($L$7:$L$500,N8)","v":0},{"$f":"O8/$Q$4","v":0},{"$f":"IF(P8=0,0,(P8*((LOG(P8))/LOG(2))))","v":0},null,null,{"$f":"N8","v":112},{"$f":"COUNTIF(L7:L35,T8)","v":0},{"$f":"U8/(W4-U9)","v":0},{"$f":"IF(V8=0,0,(V8*((LOG(V8))/LOG(2))))","v":0},null,{"$f":"N8","v":112},{"$f":"COUNTIF(L36:L64,Y8)","v":0},{"$f":"Z8/(AB4-Z9)","v":0},{"$f":"IF(AA8=0,0,(AA8*((LOG(AA8))/LOG(2))))","v":0},null,{"$f":"N8","v":112},{"$f":"COUNTIF(L65:L92,AD8)","v":0},{"$f":"AE8/(AG4-AE9)","v":0},{"$f":"IF(AF8=0,0,(AF8*((LOG(AF8))/LOG(2))))","v":0},null,{"$f":"N8","v":112},{"$f":"COUNTIF(L93:L121,AI8)","v":0},{"$f":"AJ8/(AL4-AJ9)","v":0},{"$f":"IF(AK8=0,0,(AK8*((LOG(AK8))/LOG(2))))","v":0},null,{"$f":"N8","v":112},{"$f":"COUNTIF(L122:L150,AN8)","v":0},{"$f":"AO8/(AQ4-AO9)","v":0},{"$f":"IF(AP8=0,0,(AP8*((LOG(AP8))/LOG(2))))","v":0},null,{"$f":"N8","v":112},{"$f":"COUNTIF(L151:L179,AS8)","v":0},{"$f":"AT8/(AV4-AT9)","v":0},{"$f":"IF(AU8=0,0,(AU8*((LOG(AU8))/LOG(2))))","v":0}]
[22,267,23,273,24,278,null,null,null,null,0,222,null,121,{"$f":"COUNTIF($L$7:$L$500,N9)","v":2},{"$f":"O9/$Q$4","v":1.1560693641618497E-2},{"$f":"IF(P9=0,0,(P9*((LOG(P9))/LOG(2))))","v":-7.438876563741878E-2},null,null,{"$f":"N9","v":121},{"$f":"COUNTIF(L7:L35,T9)","v":1},null,null,null,{"$f":"N9","v":121},{"$f":"COUNTIF(L36:L64,Y9)","v":0},null,null,null,{"$f":"N9","v":121},{"$f":"COUNTIF(L65:L92,AD9)","v":0},null,null,null,{"$f":"N9","v":121},{"$f":"COUNTIF(L93:L121,AI9)","v":1},null,null,null,{"$f":"N9","v":121},{"$f":"COUNTIF(L122:L150,AN9)","v":0},null,null,null,{"$f":"N9","v":121},{"$f":"COUNTIF(L151:L179,AS9)","v":0}]
[22,377,23,382,24,388,null,null,null,null,0,222,null,122,{"$f":"COUNTIF($L$7:$L$500,N10)","v":8},{"$f":"O10/$Q$4","v":4.6242774566473986E-2},{"$f":"IF(P10=0,0,(P10*((LOG(P10))/LOG(2))))","v":-0.20506951341672713},null,null,{"$f":"N10","v":122},{"$f":"COUNTIF(L7:L35,T10)","v":2},{"$f":"U10/(W4-U9)","v":7.1428571428571425E-2},{"$f":"IF(V10=0,0,(V10*((LOG(V10))/LOG(2))))","v":-0.27195392300411453},null,{"$f":"N10","v":122},{"$f":"COUNTIF(L36:L64,Y10)","v":2},{"$f":"Z10/(AB4-Z9)","v":6.8965517241379309E-2},{"$f":"IF(AA10=0,0,(AA10*((LOG(AA10))/LOG(2))))","v":-0.26606765483638428},null,{"$f":"N10","v":122},{"$f":"COUNTIF(L65:L92,AD10)","v":2},{"$f":"AE10/(AG4-AE9)","v":7.1428571428571425E-2},{"$f":"IF(AF10=0,0,(AF10*((LOG(AF10))/LOG(2))))","v":-0.27195392300411453},null,{"$f":"N10","v":122},{"$f":"COUNTIF(L93:L121,AI10)","v":0},{"$f":"AJ10/(AL4-AJ9)","v":0},{"$f":"IF(AK10=0,0,(AK10*((LOG(AK10))/LOG(2))))","v":0},null,{"$f":"N10","v":122},{"$f":"COUNTIF(L122:L150,AN10)","v":0},{"$f":"AO10/(AQ4-AO9)","v":0},{"$f":"IF(AP10=0,0,(AP10*((LOG(AP10))/LOG(2))))","v":0},null,{"$f":"N10","v":122},{"$f":"COUNTIF(L151:L179,AS10)","v":2},{"$f":"AT10/(AV4-AT9)","v":6.8965517241379309E-2},{"$f":"IF(AU10=0,0,(AU10*((LOG(AU10))/LOG(2))))","v":-0.26606765483638428}]
[22,484,14,499,24,507,null,null,null,null,0,212,null,211,{"$f":"COUNTIF($L$7:$L$500,N11)","v":38},{"$f":"O11/$Q$4","v":0.21965317919075145},{"$f":"IF(P11=0,0,(P11*((LOG(P11))/LOG(2))))","v":-0.48031576381120972},null,null,{"$f":"N11","v":211},{"$f":"COUNTIF(L7:L35,T11)","v":2},{"$f":"U11/(W4-U9)","v":7.1428571428571425E-2},{"$f":"IF(V11=0,0,(V11*((LOG(V11))/LOG(2))))","v":-0.27195392300411453},null,{"$f":"N11","v":211},{"$f":"COUNTIF(L36:L64,Y11)","v":4},{"$f":"Z11/(AB4-Z9)","v":0.13793103448275862},{"$f":"IF(AA11=0,0,(AA11*((LOG(AA11))/LOG(2))))","v":-0.39420427519000989},null,{"$f":"N11","v":211},{"$f":"COUNTIF(L65:L92,AD11)","v":6},{"$f":"AE11/(AG4-AE9)","v":0.21428571428571427},{"$f":"IF(AF11=0,0,(AF11*((LOG(AF11))/LOG(2))))","v":-0.47622694742923877},null,{"$f":"N11","v":211},{"$f":"COUNTIF(L93:L121,AI11)","v":9},{"$f":"AJ11/(AL4-AJ9)","v":0.32142857142857145},{"$f":"IF(AK11=0,0,(AK11*((LOG(AK11))/LOG(2))))","v":-0.5263167601977724},null,{"$f":"N11","v":211},{"$f":"COUNTIF(L122:L150,AN11)","v":11},{"$f":"AO11/(AQ4-AO9)","v":0.37931034482758619},{"$f":"IF(AP11=0,0,(AP11*((LOG(AP11))/LOG(2))))","v":-0.53048424625493174},null,{"$f":"N11","v":211},{"$f":"COUNTIF(L151:L179,AS11)","v":6},{"$f":"AT11/(AV4-AT9)","v":0.20689655172413793},{"$f":"IF(AU11=0,0,(AU11*((LOG(AU11))/LOG(2))))","v":-0.4702796884978791}]
[11,608,21,617,11,636,null,null,null,null,0,121,null,212,{"$f":"COUNTIF($L$7:$L$500,N12)","v":20},{"$f":"O12/$Q$4","v":0.11560693641618497},{"$f":"IF(P12=0,0,(P12*((LOG(P12))/LOG(2))))","v":-0.35984972632940604},null,null,{"$f":"N12","v":212},{"$f":"COUNTIF(L7:L35,T12)","v":5},{"$f":"U12/(W4-U9)","v":0.17857142857142858},{"$f":"IF(V12=0,0,(V12*((LOG(V12))/LOG(2))))","v":-0.44382621913754317},null,{"$f":"N12","v":212},{"$f":"COUNTIF(L36:L64,Y12)","v":3},{"$f":"Z12/(AB4-Z9)","v":0.10344827586206896},{"$f":"IF(AA12=0,0,(AA12*((LOG(AA12))/LOG(2))))","v":-0.33858812011100858},null,{"$f":"N12","v":212},{"$f":"COUNTIF(L65:L92,AD12)","v":4},{"$f":"AE12/(AG4-AE9)","v":0.14285714285714285},{"$f":"IF(AF12=0,0,(AF12*((LOG(AF12))/LOG(2))))","v":-0.40105070315108626},null,{"$f":"N12","v":212},{"$f":"COUNTIF(L93:L121,AI12)","v":5},{"$f":"AJ12/(AL4-AJ9)","v":0.17857142857142858},{"$f":"IF(AK12=0,0,(AK12*((LOG(AK12))/LOG(2))))","v":-0.44382621913754317},null,{"$f":"N12","v":212},{"$f":"COUNTIF(L122:L150,AN12)","v":3},{"$f":"AO12/(AQ4-AO9)","v":0.10344827586206896},{"$f":"IF(AP12=0,0,(AP12*((LOG(AP12))/LOG(2))))","v":-0.33858812011100858},null,{"$f":"N12","v":212},{"$f":"COUNTIF(L151:L179,AS12)","v":0},{"$f":"AT12/(AV4-AT9)","v":0},{"$f":"IF(AU12=0,0,(AU12*((LOG(AU12))/LOG(2))))","v":0}]
[22,864,14,875,24,885,null,null,null,null,0,212,null,221,{"$f":"COUNTIF($L$7:$L$500,N13)","v":43},{"$f":"O13/$Q$4","v":0.24855491329479767},{"$f":"IF(P13=0,0,(P13*((LOG(P13))/LOG(2))))","v":-0.4991886088797049},null,null,{"$f":"N13","v":221},{"$f":"COUNTIF(L7:L35,T13)","v":13},{"$f":"U13/(W4-U9)","v":0.4642857142857143},{"$f":"IF(V13=0,0,(V13*((LOG(V13))/LOG(2))))","v":-0.51392491610409474},null,{"$f":"N13","v":221},{"$f":"COUNTIF(L36:L64,Y13)","v":9},{"$f":"Z13/(AB4-Z9)","v":0.31034482758620691},{"$f":"IF(AA13=0,0,(AA13*((LOG(AA13))/LOG(2))))","v":-0.52387944631611505},null,{"$f":"N13","v":221},{"$f":"COUNTIF(L65:L92,AD13)","v":8},{"$f":"AE13/(AG4-AE9)","v":0.2857142857142857},{"$f":"IF(AF13=0,0,(AF13*((LOG(AF13))/LOG(2))))","v":-0.51638712058788683},null,{"$f":"N13","v":221},{"$f":"COUNTIF(L93:L121,AI13)","v":3},{"$f":"AJ13/(AL4-AJ9)","v":0.10714285714285714},{"$f":"IF(AK13=0,0,(AK13*((LOG(AK13))/LOG(2))))","v":-0.34525633085747659},null,{"$f":"N13","v":221},{"$f":"COUNTIF(L122:L150,AN13)","v":6},{"$f":"AO13/(AQ4-AO9)","v":0.20689655172413793},{"$f":"IF(AP13=0,0,(AP13*((LOG(AP13))/LOG(2))))","v":-0.4702796884978791},null,{"$f":"N13","v":221},{"$f":"COUNTIF(L151:L179,AS13)","v":4},{"$f":"AT13/(AV4-AT9)","v":0.13793103448275862},{"$f":"IF(AU13=0,0,(AU13*((LOG(AU13))/LOG(2))))","v":-0.39420427519000989}]
[22,985,14,998,24,1007,null,null,null,null,0,212,null,222,{"$f":"COUNTIF($L$7:$L$500,N14)","v":15},{"$f":"O14/$Q$4","v":8.6705202312138727E-2},{"$f":"IF(P14=0,0,(P14*((LOG(P14))/LOG(2))))","v":-0.30587320508915078},null,null,{"$f":"N14","v":222},{"$f":"COUNTIF(L7:L35,T14)","v":3},{"$f":"U14/(W4-U9)","v":0.10714285714285714},{"$f":"IF(V14=0,0,(V14*((LOG(V14))/LOG(2))))","v":-0.34525633085747659},null,{"$f":"N14","v":222},{"$f":"COUNTIF(L36:L64,Y14)","v":6},{"$f":"Z14/(AB4-Z9)","v":0.20689655172413793},{"$f":"IF(AA14=0,0,(AA14*((LOG(AA14))/LOG(2))))","v":-0.4702796884978791},null,{"$f":"N14","v":222},{"$f":"COUNTIF(L65:L92,AD14)","v":0},{"$f":"AE14/(AG4-AE9)","v":0},{"$f":"IF(AF14=0,0,(AF14*((LOG(AF14))/LOG(2))))","v":0},null,{"$f":"N14","v":222},{"$f":"COUNTIF(L93:L121,AI14)","v":3},{"$f":"AJ14/(AL4-AJ9)","v":0.10714285714285714},{"$f":"IF(AK14=0,0,(AK14*((LOG(AK14))/LOG(2))))","v":-0.34525633085747659},null,{"$f":"N14","v":222},{"$f":"COUNTIF(L122:L150,AN14)","v":1},{"$f":"AO14/(AQ4-AO9)","v":3.4482758620689655E-2},{"$f":"IF(AP14=0,0,(AP14*((LOG(AP14))/LOG(2))))","v":-0.16751658603888178},null,{"$f":"N14","v":222},{"$f":"COUNTIF(L151:L179,AS14)","v":2},{"$f":"AT14/(AV4-AT9)","v":6.8965517241379309E-2},{"$f":"IF(AU14=0,0,(AU14*((LOG(AU14))/LOG(2))))","v":-0.26606765483638428}]
[22,1121,14,1132,13,1138,null,null,null,null,0,211,null,null,null,{"$f":"SUM(P7:P14)","v":0.99999999999999989},{"$f":"-SUM(Q7:Q14)","v":2.435447725765219},null,null,null,null,{"$f":"SUM(V7:V14)","v":0.99999999999999989},{"$f":"-SUM(W7:W14)","v":2.1921716429648201},null,null,null,{"$f":"SUM(AA7:AA14)","v":1},{"$f":"-SUM(AB7:AB14)","v":2.4302696849928127},null,null,null,{"$f":"SUM(AF7:AF14)","v":0.99999999999999989},{"$f":"-SUM(AG7:AG14)","v":2.1820058147602133},null,null,null,{"$f":"SUM(AK7:AK14)","v":1},{"$f":"-SUM(AL7:AL14)","v":2.1770427616381554},null,null,null,{"$f":"SUM(AP7:AP14)","v":0.99999999999999989},{"$f":"-SUM(AQ7:AQ14)","v":2.0194151223172039},null,null,null,{"$f":"SUM(AU7:AU14)","v":1},{"$f":"-SUM(AV7:AV14)","v":1.8885625834567197}]
[22,1238,23,1246,13,1259,null,null,null,null,0,221,null,null,null,"U=",{"$f":"Q15/(LOG(Q4)/LOG(2))","v":0.32758164244338883},null,null,null,null,"U1=",{"$f":"W15/(LOG(W4)/LOG(2))","v":0.45125158891389472},null,null,null,"U2=",{"$f":"AB15/(LOG(AB4)/LOG(2))","v":0.50026331668038837},null,null,null,"U3=",{"$f":"AG15/(LOG(AG4)/LOG(2))","v":0.45388906168515003},null,null,null,"U4=",{"$f":"AL15/(LOG(AL4)/LOG(2))","v":0.44813735661413096},null,null,null,"U5=",{"$f":"AQ15/(LOG(AQ4)/LOG(2))","v":0.41569020635169723},null,null,null,"U6=",{"$f":"AV15/(LOG(AV4)/LOG(2))","v":0.38875462570786068}]
[22,1354,23,1363,24,1369,null,null,null,null,0,222]
[22,1463,23,1473,13,1494,null,null,null,null,0,221]
[11,1605,12,1611,13,1619,null,null,null,null,0,111,null,"Total Target Seq"]
[11,1808,12,1811,13,1818,null,null,null,null,0,111,null,{"$f":"COUNTIF(L7:L179,G3)","v":2},null,29,29,28,29,29,29]
[11,1940,21,1950,22,1957,null,null,null,null,0,122,null,null,null,"% of reinforcement given in 6 equal intervals based on number of trials "]
[22,2054,14,2066,24,2076,null,null,null,null,0,212,null,null,null,"%_1","%_2","%_3","%_4","%_5","%_6"]
[22,2170,23,2177,13,2192,null,null,null,null,0,221,null,null,"target sequence",{"$f":"$G$3","v":121},{"$f":"$G$3","v":121},{"$f":"$G$3","v":121},{"$f":"$G$3","v":121},{"$f":"$G$3","v":121},{"$f":"$G$3","v":121}]
[11,2305,21,2312,22,2320,null,null,null,null,0,122,null,null,"total reinforcement",{"$f":"U9","v":1},{"$f":"Z9","v":0},{"$f":"AE9","v":0},{"$f":"AJ9","v":1},{"$f":"AO9","v":0},{"$f":"AT9","v":0}]
[22,2416,23,2427,13,2443,null,null,null,null,0,221,null,null,"% target"]
[22,2551,23,2559,13,2578,null,null,null,null,0,221,null,null,"CCRF"]
[22,2677,23,2682,13,2697,null,null,null,null,0,221,null,null,"% CCRf"]
[22,2797,23,2805,13,2822,null,null,null,null,0,221,null,null,"average response rate",{"$f":"F35/P20","v":127.68965517241379},{"$f":"(F64-F35)/Q20","v":125.58620689655173},{"$f":"(F92-F64)/R20","v":126},{"$f":"(F121-F92)/S20","v":133.48275862068965},{"$f":"(F150-F121)/T20","v":143.44827586206895},{"$f":"(F179-F150)/U20","v":167.82758620689654}]
[22,2915,23,2925,13,2943,null,null,null,null,0,221]
[22,3054,23,3061,13,3080,null,null,null,null,0,221]
[22,3178,23,3186,13,3199,null,null,null,null,0,221]
[22,3301,14,3340,13,3355,null,null,null,null,0,211]
[11,3452,12,3459,13,3468,null,null,null,null,0,111]
[22,3567,23,3572,13,3586,null,null,null,null,0,221]
[22,3682,23,3686,13,3703,null,null,null,null,0,221]
[22,3805,14,3822,13,3831,null,null,null,null,0,211]
[22,3932,23,3940,13,3961,null,null,null,null,0,221]
[22,4062,14,4075,24,4085,null,null,null,null,0,212]
[11,4191,21,4209,22,4217,null,null,null,null,0,122]
[22,4318,14,4329,13,4343,null,null,null,null,0,211]
[22,4442,14,4453,13,4460,null,null,null,null,0,211]
[22,4557,23,4562,13,4580,null,null,null,null,0,221]
[22,4678,23,4688,13,4719,null,null,null,null,0,221]
[22,4816,23,4830,24,4840,null,null,null,null,0,222]
[22,4959,23,4965,13,4984,null,null,null,null,0,221]
[22,5084,14,5104,24,5118,null,null,null,null,0,212]
[22,5216,23,5228,13,5245,null,null,null,null,0,221]
[11,5344,12,5351,13,5368,null,null,null,null,0,111]
[22,5465,23,5477,13,5489,null,null,null,null,0,221]
[22,5588,23,5604,24,5609,null,null,null,null,0,222]
[22,5714,14,5730,24,5738,null,null,null,null,0,212]
[22,5837,23,5846,24,5859,null,null,null,null,0,222]
[22,5965,23,5969,24,5978,null,null,null,null,0,222]
[11,6099,21,6107,22,6121,null,null,null,null,0,122]
[11,6223,12,6232,13,6241,null,null,null,null,0,111]
[11,6346,12,6352,13,6374,null,null,null,null,0,111]
[22,6475,23,6479,13,6494,null,null,null,null,0,221]
[22,6593,23,6604,24,6610,null,null,null,null,0,222]
[22,6704,23,6730,13,6744,null,null,null,null,0,221]
[22,6849,14,6862,13,6869,null,null,null,null,0,211]
[11,6966,12,6970,13,6997,null,null,null,null,0,111]
[11,7105,12,7114,13,7120,null,null,null,null,0,111]
[22,7214,23,7217,13,7229,null,null,null,null,0,221]
[22,7330,23,7336,24,7345,null,null,null,null,0,222]
[22,7444,23,7452,13,7474,null,null,null,null,0,221]
[22,7595,23,7601,13,7619,null,null,null,null,0,221]
[22,7718,14,7739,13,7748,null,null,null,null,0,211]
[22,7864,14,7885,24,7896,null,null,null,null,0,212]
[22,8019,14,8032,24,8048,null,null,null,null,0,212]
[22,8156,23,8163,13,8177,null,null,null,null,0,221]
[11,8281,12,8290,13,8295,null,null,null,null,0,111]
[11,8395,12,8402,13,8407,null,null,null,null,0,111]
[11,8512,12,8524,13,8531,null,null,null,null,0,111]
[22,8635,14,8647,24,8656,null,null,null,null,0,212]
[22,8754,23,8760,13,8775,null,null,null,null,0,221]
[11,8886,12,8902,13,8911,null,null,null,null,0,111]
[11,9016,12,9026,13,9034,null,null,null,null,0,111]
[22,9129,23,9135,13,9150,null,null,null,null,0,221]
[11,9252,12,9259,13,9267,null,null,null,null,0,111]
[22,9367,14,9379,13,9386,null,null,null,null,0,211]
[11,9489,21,9499,22,9504,null,null,null,null,0,122]
[22,9602,23,9609,13,9625,null,null,null,null,0,221]
[11,9745,12,9749,13,9759,null,null,null,null,0,111]
[22,9854,14,9874,13,9887,null,null,null,null,0,211]
[22,9982,14,9996,13,10003,null,null,null,null,0,211]
[22,10120,14,10137,13,10143,null,null,null,null,0,211]
[22,10237,23,10243,13,10259,null,null,null,null,0,221]
[22,10357,14,10370,24,10377,null,null,null,null,0,212]
[11,10482,12,10489,13,10496,null,null,null,null,0,111]
[11,10597,21,10605,22,10612,null,null,null,null,0,122]
[22,10718,23,10726,13,10741,null,null,null,null,0,221]
[22,10845,14,10865,13,10873,null,null,null,null,0,211]
[11,10991,12,11000,13,11009,null,null,null,null,0,111]
[11,11105,12,11109,13,11116,null,null,null,null,0,111]
[22,11219,14,11235,13,11241,null,null,null,null,0,211]
[22,11353,14,11367,13,11375,null,null,null,null,0,211]
[11,11473,21,11481,11,11501,null,null,null,null,0,121]
[22,11835,14,11850,24,11858,null,null,null,null,0,212]
[11,11981,12,11990,13,11999,null,null,null,null,0,111]
[22,12107,14,12123,24,12142,null,null,null,null,0,212]
[22,12249,14,12262,13,12270,null,null,null,null,0,211]
[22,12375,23,12380,13,12395,null,null,null,null,0,221]
[11,12492,12,12501,13,12507,null,null,null,null,0,111]
[22,12622,14,12636,13,12643,null,null,null,null,0,211]
[22,12740,23,12748,24,12752,null,null,null,null,0,222]
[22,12852,14,12869,24,12878,null,null,null,null,0,212]
[22,12979,14,12995,13,13001,null,null,null,null,0,211]
[22,13113,14,13123,13,13138,null,null,null,null,0,211]
[22,13229,23,13233,24,13240,null,null,null,null,0,222]
[22,13341,23,13349,13,13366,null,null,null,null,0,221]
[11,13468,12,13477,13,13484,null,null,null,null,0,111]
[22,13584,14,13597,13,13604,null,null,null,null,0,211]
[11,13709,12,13716,13,13726,null,null,null,null,0,111]
[11,13850,12,13855,13,13862,null,null,null,null,0,111]
[22,13977,14,13994,24,14004,null,null,null,null,0,212]
[22,14105,23,14116,13,14132,null,null,null,null,0,221]
[22,14231,14,14248,13,14262,null,null,null,null,0,211]
[22,14357,14,14368,13,14374,null,null,null,null,0,211]
[11,14476,12,14483,13,14490,null,null,null,null,0,111]
[22,14596,14,14619,24,14630,null,null,null,null,0,212]
[22,14734,23,14740,24,14744,null,null,null,null,0,222]
[11,14850,12,14855,13,14863,null,null,null,null,0,111]
[22,14959,14,14976,13,14983,null,null,null,null,0,211]
[11,15133,12,15141,13,15150,null,null,null,null,0,111]
[22,15256,14,15279,13,15294,null,null,null,null,0,211]
[22,15396,23,15404,13,15420,null,null,null,null,0,221]
[22,15525,14,15538,13,15545,null,null,null,null,0,211]
[11,15645,12,15653,13,15661,null,null,null,null,0,111]
[11,15779,12,15786,13,15793,null,null,null,null,0,111]
[22,15914,14,15934,24,15951,null,null,null,null,0,212]
[22,16114,14,16128,13,16142,null,null,null,null,0,211]
[22,16241,23,16249,24,16252,null,null,null,null,0,222]
[22,16365,14,16377,13,16384,null,null,null,null,0,211]
[22,16529,14,16543,13,16550,null,null,null,null,0,211]
[22,16653,23,16660,13,16681,null,null,null,null,0,221]
[22,16801,23,16814,13,16826,null,null,null,null,0,221]
[22,16941,14,16956,13,16964,null,null,null,null,0,211]
[22,17057,23,17063,13,17080,null,null,null,null,0,221]
[11,17294,12,17301,13,17308,null,null,null,null,0,111]
[22,17428,14,17441,13,17448,null,null,null,null,0,211]
[22,17549,14,17564,24,17573,null,null,null,null,0,212]
[22,17709,14,17724,24,17734,null,null,null,null,0,212]
[11,17828,12,17834,13,17841,null,null,null,null,0,111]
[22,17982,23,17989,13,18006,null,null,null,null,0,221]
[22,18155,14,18179,13,18186,null,null,null,null,0,211]
[11,18300,12,18308,13,18322,null,null,null,null,0,111]
[11,18436,12,18442,13,18450,null,null,null,null,0,111]
[22,18562,23,18570,13,18584,null,null,null,null,0,221]
[22,18768,14,18782,13,18789,null,null,null,null,0,211]
[22,18883,14,18897,13,18904,null,null,null,null,0,211]
[22,19006,23,19029,13,19046,null,null,null,null,0,221]
[22,19155,14,19174,13,19189,null,null,null,null,0,211]
[11,19297,12,19303,13,19311,null,null,null,null,0,111]
[11,19408,12,19414,13,19423,null,null,null,null,0,111]
[11,19517,21,19532,22,19538,null,null,null,null,0,122]
[11,19639,12,19647,13,19654,null,null,null,null,0,111]
[11,19759,12,19771,13,19791,null,null,null,null,0,111]
[22,19918,14,19932,13,19939,null,null,null,null,0,211]
[11,20049,12,20056,13,20063,null,null,null,null,0,111]
[11,20170,12,20176,13,20184,null,null,null,null,0,111]
[11,20294,21,20302,22,20309,null,null,null,null,0,122]
[22,20457,14,20471,13,20478,null,null,null,null,0,211]
[22,20585,23,20589,13,20611,null,null,null,null,0,221]
[11,20743,12,20749,13,20756,null,null,null,null,0,111]
[11,20882,12,20889,13,20897,null,null,null,null,0,111]
[22,20998,14,21014,13,21020,null,null,null,null,0,211]
[22,21145,23,21151,24,21172,null,null,null,null,0,222]
[22,21274,14,21292,13,21299,null,null,null,null,0,211]
[22,21400,14,21420,13,21429,null,null,null,null,0,211]
[22,21526,23,21536,13,21547,null,null,null,null,0,221]
[22,21650,23,21655,13,21665,null,null,null,null,0,221]
[11,21779,12,21784,13,21790,null,null,null,null,0,111]
[11,21966,12,21969,13,21978,null,null,null,null,0,111]
[11,22126,12,22135,13,22141,null,null,null,null,0,111]
[11,22538,12,22545,13,22548,null,null,null,null,0,111]
[11,22825,12,22831,13,22838,null,null,null,null,0,111]
[11,23355,12,23361,13,23370,null,null,null,null,0,111]
[11,23642,12,23651,13,23657,null,null,null,null,0,111]
[22,23759,23,23766,24,23771,null,null,null,null,0,222]

{"sheet":"!M221A5D.UST","index":5,"n_rows":185,"n_cols":48,"rows_kept":185,"cut":false,"hidden":false,"merged":[[4,39,4,42],[5,39,5,40],[4,44,4,47],[5,44,5,45],[4,24,4,27],[5,24,5,25],[4,29,4,32],[5,29,5,30],[4,34,4,37],[5,34,5,35],[1,1,1,2],[5,13,5,14],[18,13,18,14],[19,13,19,14],[4,19,4,22],[5,19,5,20]]}
["Report for:!M221A5D.UST"]
["Date:","<date>"]
["Hen:","<hen>",null,null,null,"Correct Sequence",{"$f":"Start!J2","v":121},null,null,null,null,null,null,null,null,"Total Sequences in Data",{"$f":"4994-COUNTBLANK(L7:L5000)","v":179},null,null,null,null,"Total Sequences in Block Data",{"$f":"COUNTA(L7:L36)","v":30},null,null,null,"Total Sequences in Block Data",{"$f":"COUNTA(L37:L66)","v":30},null,null,null,"Total Sequences in Block Data",{"$f":"COUNTA(L67:L95)","v":29},null,null,null,"Total Sequences in Block Data",{"$f":"COUNTA(L96:L125)","v":30},null,null,null,"Total Sequences in Block Data",{"$f":"COUNTA(L126:L155)","v":30},null,null,null,"Total Sequences in Block Data",{"$f":"COUNTA(L156:L185)","v":30}]
[null,null,null,null,null,null,null,null,null,null,null,null,null,null,null,"Total Sequences in Summary",{"$f":"SUM(O7:O14)","v":179},null,null,null,null,"Total Sequences in Block Summary",{"$f":"SUM(U7:U14)","v":30},null,null,null,"Total Sequences in Block Summary",{"$f":"SUM(Z7:Z14)","v":30},null,null,null,"Total Sequences in Block Summary",{"$f":"SUM(AE7:AE14)","v":29},null,null,null,"Total Sequences in Block Summary",{"$f":"SUM(AJ7:AJ14)","v":30},null,null,null,"Total Sequences in Block Summary",{"$f":"SUM(AO7:AO14)","v":30},null,null,null,"Total Sequences in Block Summary",{"$f":"SUM(AT7:AT14)","v":30}]
[null,null,null,null,null,null,null,null,null,null,null,null,null,null,null,null,null,null,null,"Block 1",null,null,null,null,"Block 2",null,null,null,null,"Block 3",null,null,null,null,"Block 4",null,null,null,null,"Block 5",null,null,null,null,"Block 6"]
["Sequence\nComponent\n1","Time\n1","Sequence\nComponent\n2","Time\n2","Sequence\nComponent\n3","Time\n3","Sequence\nComponent\n4","Time\n4","Sequence\nComponent\n5","Time\n5","Correct?\n0=No 1=Yes","Sequence",null,"Frequency",null,"Relative Frequency","Variability",null,null,"Frequency",null,"Relative Frequency","Variability",null,"Frequency",null,"Relative Frequency","Variability",null,"Frequency",null,"Relative Frequency","Variability",null,"Frequency",null,"Relative Frequency","Variability",null,"Frequency",null,"Relative Frequency","Variability",null,"Frequency",null,"Relative Frequency","Variability"]
[22,18,14,30,24,38,null,null,null,null,0,212,null,111,{"$f":"COUNTIF($L$7:$L$500,N7)","v":41},{"$f":"O7/$Q$4","v":0.22905027932960895},{"$f":"IF(P7=0,0,(P7*((LOG(P7))/LOG(2))))","v":-0.48702131105303398},null,null,{"$f":"N7","v":111},{"$f":"COUNTIF(L7:L36,T7)","v":7},{"$f":"U7/(W4-U9)","v":0.23333333333333334},{"$f":"IF(V7=0,0,(V7*((LOG(V7))/LOG(2))))","v":-0.48989165716187993},null,{"$f":"N7","v":111},{"$f":"COUNTIF(L37:L66,Y7)","v":5},{"$f":"Z7/(AB4-Z9)","v":0.16666666666666666},{"$f":"IF(AA7=0,0,(AA7*((LOG(AA7))/LOG(2))))","v":-0.43082708345352599},null,{"$f":"N7","v":111},{"$f":"COUNTIF(L67:L95,AD7)","v":11},{"$f":"AE7/(AG4-AE9)","v":0.37931034482758619},{"$f":"IF(AF7=0,0,(AF7*((LOG(AF7))/LOG(2))))","v":-0.53048424625493174},null,{"$f":"N7","v":111},{"$f":"COUNTIF(L96:L125,AI7)","v":10},{"$f":"AJ7/(AL4-AJ9)","v":0.34482758620689657},{"$f":"IF(AK7=0,0,(AK7*((LOG(AK7))/LOG(2))))","v":-0.52967341387593436},null,{"$f":"N7","v":111},{"$f":"COUNTIF(L126:L155,AN7)","v":2},{"$f":"AO7/(AQ4-AO9)","v":7.1428571428571425E-2},{"$f":"IF(AP7=0,0,(AP7*((LOG(AP7))/LOG(2))))","v":-0.27195392300411453},null,{"$f":"N7","v":111},{"$f":"COUNTIF(L156:L185,AS7)","v":6},{"$f":"AT7/(AV4-AT9)","v":0.2},{"$f":"IF(AU7=0,0,(AU7*((LOG(AU7))/LOG(2))))","v":-0.46438561897747244}]
[22,197,23,200,13,212,null,null,null,null,0,221,null,112,{"$f":"COUNTIF($L$7:$L$500,N8)","v":4},{"$f":"O8/$Q$4","v":2.23463687150838E-2},{"$f":"IF(P8=0,0,(P8*((LOG(P8))/LOG(2))))","v":-0.12254336932434093},null,null,{"$f":"N8","v":112},{"$f":"COUNTIF(L7:L36,T8)","v":0},{"$f":"U8/(W4-U9)","v":0},{"$f":"IF(V8=0,0,(V8*((LOG(V8))/LOG(2))))","v":0},null,{"$f":"N8","v":112},{"$f":"COUNTIF(L37:L66,Y8)","v":1},{"$f":"Z8/(AB4-Z9)","v":3.3333333333333333E-2},{"$f":"IF(AA8=0,0,(AA8*((LOG(AA8))/LOG(2))))","v":-0.16356301985361729},null,{"$f":"N8","v":112},{"$f":"COUNTIF(L67:L95,AD8)","v":0},{"$f":"AE8/(AG4-AE9)","v":0},{"$f":"IF(AF8=0,0,(AF8*((LOG(AF8))/LOG(2))))","v":0},null,{"$f":"N8","v":112},{"$f":"COUNTIF(L96:L125,AI8)","v":1},{"$f":"AJ8/(AL4-AJ9)","v":3.4482758620689655E-2},{"$f":"IF(AK8=0,0,(AK8*((LOG(AK8))/LOG(2))))","v":-0.16751658603888178},null,{"$f":"N8","v":112},{"$f":"COUNTIF(L126:L155,AN8)","v":0},{"$f":"AO8/(AQ4-AO9)","v":0},{"$f":"IF(AP8=0,0,(AP8*((LOG(AP8))/LOG(2))))","v":0},null,{"$f":"N8","v":112},{"$f":"COUNTIF(L156:L185,AS8)","v":2},{"$f":"AT8/(AV4-AT9)","v":6.6666666666666666E-2},{"$f":"IF(AU8=0,0,(AU8*((LOG(AU8))/LOG(2))))","v":-0.26045937304056793}]
[22,312,23,321,13,332,null,null,null,null,0,221,null,121,{"$f":"COUNTIF($L$7:$L$500,N9)","v":3},{"$f":"O9/$Q$4","v":1.6759776536312849E-2},{"$f":"IF(P9=0,0,(P9*((LOG(P9))/LOG(2))))","v":-9.8863462735359217E-2},null,null,{"$f":"N9","v":121},{"$f":"COUNTIF(L7:L36,T9)","v":0},null,null,null,{"$f":"N9","v":121},{"$f":"COUNTIF(L37:L66,Y9)","v":0},null,null,null,{"$f":"N9","v":121},{"$f":"COUNTIF(L67:L95,AD9)","v":0},null,null,null,{"$f":"N9","v":121},{"$f":"COUNTIF(L96:L125,AI9)","v":1},null,null,null,{"$f":"N9","v":121},{"$f":"COUNTIF(L126:L155,AN9)","v":2},null,null,null,{"$f":"N9","v":121},{"$f":"COUNTIF(L156:L185,AS9)","v":0}]
[22,430,23,442,13,458,null,null,null,null,0,221,null,122,{"$f":"COUNTIF($L$7:$L$500,N10)","v":18},{"$f":"O10/$Q$4","v":0.1005586592178771},{"$f":"IF(P10=0,0,(P10*((LOG(P10))/LOG(2))))","v":-0.33324041321114523},null,null,{"$f":"N10","v":122},{"$f":"COUNTIF(L7:L36,T10)","v":2},{"$f":"U10/(W4-U9)","v":6.6666666666666666E-2},{"$f":"IF(V10=0,0,(V10*((LOG(V10))/LOG(2))))","v":-0.26045937304056793},null,{"$f":"N10","v":122},{"$f":"COUNTIF(L37:L66,Y10)","v":1},{"$f":"Z10/(AB4-Z9)","v":3.3333333333333333E-2},{"$f":"IF(AA10=0,0,(AA10*((LOG(AA10))/LOG(2))))","v":-0.16356301985361729},null,{"$f":"N10","v":122},{"$f":"COUNTIF(L67:L95,AD10)","v":1},{"$f":"AE10/(AG4-AE9)","v":3.4482758620689655E-2},{"$f":"IF(AF10=0,0,(AF10*((LOG(AF10))/LOG(2))))","v":-0.16751658603888178},null,{"$f":"N10","v":122},{"$f":"COUNTIF(L96:L125,AI10)","v":5},{"$f":"AJ10/(AL4-AJ9)","v":0.17241379310344829},{"$f":"IF(AK10=0,0,(AK10*((LOG(AK10))/LOG(2))))","v":-0.43725050004141547},null,{"$f":"N10","v":122},{"$f":"COUNTIF(L126:L155,AN10)","v":4},{"$f":"AO10/(AQ4-AO9)","v":0.14285714285714285},{"$f":"IF(AP10=0,0,(AP10*((LOG(AP10))/LOG(2))))","v":-0.40105070315108626},null,{"$f":"N10","v":122},{"$f":"COUNTIF(L156:L185,AS10)","v":5},{"$f":"AT10/(AV4-AT9)","v":0.16666666666666666},{"$f":"IF(AU10=0,0,(AU10*((LOG(AU10))/LOG(2))))","v":-0.43082708345352599}]
[22,560,23,564,13,574,null,null,null,null,0,221,null,211,{"$f":"COUNTIF($L$7:$L$500,N11)","v":31},{"$f":"O11/$Q$4","v":0.17318435754189945},{"$f":"IF(P11=0,0,(P11*((LOG(P11))/LOG(2))))","v":-0.43809052219664146},null,null,{"$f":"N11","v":211},{"$f":"COUNTIF(L7:L36,T11)","v":3},{"$f":"U11/(W4-U9)","v":0.1},{"$f":"IF(V11=0,0,(V11*((LOG(V11))/LOG(2))))","v":-0.33219280948873625},null,{"$f":"N11","v":211},{"$f":"COUNTIF(L37:L66,Y11)","v":8},{"$f":"Z11/(AB4-Z9)","v":0.26666666666666666},{"$f":"IF(AA11=0,0,(AA11*((LOG(AA11))/LOG(2))))","v":-0.50850415882893829},null,{"$f":"N11","v":211},{"$f":"COUNTIF(L67:L95,AD11)","v":3},{"$f":"AE11/(AG4-AE9)","v":0.10344827586206896},{"$f":"IF(AF11=0,0,(AF11*((LOG(AF11))/LOG(2))))","v":-0.33858812011100858},null,{"$f":"N11","v":211},{"$f":"COUNTIF(L96:L125,AI11)","v":7},{"$f":"AJ11/(AL4-AJ9)","v":0.2413793103448276},{"$f":"IF(AK11=0,0,(AK11*((LOG(AK11))/LOG(2))))","v":-0.49497870729275095},null,{"$f":"N11","v":211},{"$f":"COUNTIF(L126:L155,AN11)","v":5},{"$f":"AO11/(AQ4-AO9)","v":0.17857142857142858},{"$f":"IF(AP11=0,0,(AP11*((LOG(AP11))/LOG(2))))","v":-0.44382621913754317},null,{"$f":"N11","v":211},{"$f":"COUNTIF(L156:L185,AS11)","v":5},{"$f":"AT11/(AV4-AT9)","v":0.16666666666666666},{"$f":"IF(AU11=0,0,(AU11*((LOG(AU11))/LOG(2))))","v":-0.43082708345352599}]
[22,673,23,679,13,694,null,null,null,null,0,221,null,212,{"$f":"COUNTIF($L$7:$L$500,N12)","v":15},{"$f":"O12/$Q$4","v":8.3798882681564241E-2},{"$f":"IF(P12=0,0,(P12*((LOG(P12))/LOG(2))))","v":-0.29974233365830205},null,null,{"$f":"N12","v":212},{"$f":"COUNTIF(L7:L36,T12)","v":2},{"$f":"U12/(W4-U9)","v":6.6666666666666666E-2},{"$f":"IF(V12=0,0,(V12*((LOG(V12))/LOG(2))))","v":-0.26045937304056793},null,{"$f":"N12","v":212},{"$f":"COUNTIF(L37:L66,Y12)","v":2},{"$f":"Z12/(AB4-Z9)","v":6.6666666666666666E-2},{"$f":"IF(AA12=0,0,(AA12*((LOG(AA12))/LOG(2))))","v":-0.26045937304056793},null,{"$f":"N12","v":212},{"$f":"COUNTIF(L67:L95,AD12)","v":1},{"$f":"AE12/(AG4-AE9)","v":3.4482758620689655E-2},{"$f":"IF(AF12=0,0,(AF12*((LOG(AF12))/LOG(2))))","v":-0.16751658603888178},null,{"$f":"N12","v":212},{"$f":"COUNTIF(L96:L125,AI12)","v":2},{"$f":"AJ12/(AL4-AJ9)","v":6.8965517241379309E-2},{"$f":"IF(AK12=0,0,(AK12*((LOG(AK12))/LOG(2))))","v":-0.26606765483638428},null,{"$f":"N12","v":212},{"$f":"COUNTIF(L126:L155,AN12)","v":5},{"$f":"AO12/(AQ4-AO9)","v":0.17857142857142858},{"$f":"IF(AP12=0,0,(AP12*((LOG(AP12))/LOG(2))))","v":-0.44382621913754317},null,{"$f":"N12","v":212},{"$f":"COUNTIF(L156:L185,AS12)","v":3},{"$f":"AT12/(AV4-AT9)","v":0.1},{"$f":"IF(AU12=0,0,(AU12*((LOG(AU12))/LOG(2))))","v":-0.33219280948873625}]
[22,789,23,796,13,809,null,null,null,null,0,221,null,221,{"$f":"COUNTIF($L$7:$L$500,N13)","v":34},{"$f":"O13/$Q$4","v":0.18994413407821228},{"$f":"IF(P13=0,0,(P13*((LOG(P13))/LOG(2))))","v":-0.45517318337694507},null,null,{"$f":"N13","v":221},{"$f":"COUNTIF(L7:L36,T13)","v":15},{"$f":"U13/(W4-U9)","v":0.5},{"$f":"IF(V13=0,0,(V13*((LOG(V13))/LOG(2))))","v":-0.5},null,{"$f":"N13","v":221},{"$f":"COUNTIF(L37:L66,Y13)","v":5},{"$f":"Z13/(AB4-Z9)","v":0.16666666666666666},{"$f":"IF(AA13=0,0,(AA13*((LOG(AA13))/LOG(2))))","v":-0.43082708345352599},null,{"$f":"N13","v":221},{"$f":"COUNTIF(L67:L95,AD13)","v":4},{"$f":"AE13/(AG4-AE9)","v":0.13793103448275862},{"$f":"IF(AF13=0,0,(AF13*((LOG(AF13))/LOG(2))))","v":-0.39420427519000989},null,{"$f":"N13","v":221},{"$f":"COUNTIF(L96:L125,AI13)","v":1},{"$f":"AJ13/(AL4-AJ9)","v":3.4482758620689655E-2},{"$f":"IF(AK13=0,0,(AK13*((LOG(AK13))/LOG(2))))","v":-0.16751658603888178},null,{"$f":"N13","v":221},{"$f":"COUNTIF(L126:L155,AN13)","v":4},{"$f":"AO13/(AQ4-AO9)","v":0.14285714285714285},{"$f":"IF(AP13=0,0,(AP13*((LOG(AP13))/LOG(2))))","v":-0.40105070315108626},null,{"$f":"N13","v":221},{"$f":"COUNTIF(L156:L185,AS13)","v":5},{"$f":"AT13/(AV4-AT9)","v":0.16666666666666666},{"$f":"IF(AU13=0,0,(AU13*((LOG(AU13))/LOG(2))))","v":-0.43082708345352599}]
[22,906,23,911,13,922,null,null,null,null,0,221,null,222,{"$f":"COUNTIF($L$7:$L$500,N14)","v":33},{"$f":"O14/$Q$4","v":0.18435754189944134},{"$f":"IF(P14=0,0,(P14*((LOG(P14))/LOG(2))))","v":-0.44972578050777373},null,null,{"$f":"N14","v":222},{"$f":"COUNTIF(L7:L36,T14)","v":1},{"$f":"U14/(W4-U9)","v":3.3333333333333333E-2},{"$f":"IF(V14=0,0,(V14*((LOG(V14))/LOG(2))))","v":-0.16356301985361729},null,{"$f":"N14","v":222},{"$f":"COUNTIF(L37:L66,Y14)","v":8},{"$f":"Z14/(AB4-Z9)","v":0.26666666666666666},{"$f":"IF(AA14=0,0,(AA14*((LOG(AA14))/LOG(2))))","v":-0.50850415882893829},null,{"$f":"N14","v":222},{"$f":"COUNTIF(L67:L95,AD14)","v":9},{"$f":"AE14/(AG4-AE9)","v":0.31034482758620691},{"$f":"IF(AF14=0,0,(AF14*((LOG(AF14))/LOG(2))))","v":-0.52387944631611505},null,{"$f":"N14","v":222},{"$f":"COUNTIF(L96:L125,AI14)","v":3},{"$f":"AJ14/(AL4-AJ9)","v":0.10344827586206896},{"$f":"IF(AK14=0,0,(AK14*((LOG(AK14))/LOG(2))))","v":-0.33858812011100858},null,{"$f":"N14","v":222},{"$f":"COUNTIF(L126:L155,AN14)","v":8},{"$f":"AO14/(AQ4-AO9)","v":0.2857142857142857},{"$f":"IF(AP14=0,0,(AP14*((LOG(AP14))/LOG(2))))","v":-0.51638712058788683},null,{"$f":"N14","v":222},{"$f":"COUNTIF(L156:L185,AS14)","v":4},{"$f":"AT14/(AV4-AT9)","v":0.13333333333333333},{"$f":"IF(AU14=0,0,(AU14*((LOG(AU14))/LOG(2))))","v":-0.3875854127478025}]
[22,1021,23,1029,13,1039,null,null,null,null,0,221,null,null,null,{"$f":"SUM(P7:P14)","v":1},{"$f":"-SUM(Q7:Q14)","v":2.6844003760635418},null,null,null,null,{"$f":"SUM(V7:V14)","v":1},{"$f":"-SUM(W7:W14)","v":2.0065662325853695},null,null,null,{"$f":"SUM(AA7:AA14)","v":1},{"$f":"-SUM(AB7:AB14)","v":2.4662478973127309},null,null,null,{"$f":"SUM(AF7:AF14)","v":1},{"$f":"-SUM(AG7:AG14)","v":2.1221892599498289},null,null,null,{"$f":"SUM(AK7:AK14)","v":1},{"$f":"-SUM(AL7:AL14)","v":2.4015915682352569},null,null,null,{"$f":"SUM(AP7:AP14)","v":0.99999999999999989},{"$f":"-SUM(AQ7:AQ14)","v":2.4780948881692604},null,null,null,{"$f":"SUM(AU7:AU14)","v":0.99999999999999989},{"$f":"-SUM(AV7:AV14)","v":2.7371044646151574}]
[11,1171,12,1176,13,1183,null,null,null,null,0,111,null,null,null,"U=",{"$f":"Q15/(LOG(Q4)/LOG(2))","v":0.35869407478184034},null,null,null,null,"U1=",{"$f":"W15/(LOG(W4)/LOG(2))","v":0.40892825985995496},null,null,null,"U2=",{"$f":"AB15/(LOG(AB4)/LOG(2))","v":0.50260910636970979},null,null,null,"U3=",{"$f":"AG15/(LOG(AG4)/LOG(2))","v":0.43684593704222585},null,null,null,"U4=",{"$f":"AL15/(LOG(AL4)/LOG(2))","v":0.48943246674066676},null,null,null,"U5=",{"$f":"AQ15/(LOG(AQ4)/LOG(2))","v":0.5050234644291971},null,null,null,"U6=",{"$f":"AV15/(LOG(AV4)/LOG(2))","v":0.55780833325788071}]
[11,1531,21,1539,22,1545,null,null,null,null,0,122]
[22,1646,23,1654,13,1667,null,null,null,null,0,221]
[11,1778,12,1790,13,1804,null,null,null,null,0,111,null,"Total Target Seq"]
[22,1930,14,1949,13,1960,null,null,null,null,0,211,null,{"$f":"COUNTIF(L7:L185,G3)","v":3},null,30,30,29,30,30,30]
[11,2063,12,2070,13,2076,null,null,null,null,0,111,null,null,null,"% of reinforcement given in 6 equal intervals based on number of trials "]
[22,2173,23,2177,13,2191,null,null,null,null,0,221,null,null,null,"%_1","%_2","%_3","%_4","%_5","%_6"]
[22,2302,23,2307,13,2320,null,null,null,null,0,221,null,null,"target sequence",{"$f":"$G$3","v":121},{"$f":"$G$3","v":121},{"$f":"$G$3","v":121},{"$f":"$G$3","v":121},{"$f":"$G$3","v":121},{"$f":"$G$3","v":121}]
[11,2419,12,2426,13,2434,null,null,null,null,0,111,null,null,"total reinforcement",{"$f":"U9","v":0},{"$f":"Z9","v":0},{"$f":"AE9","v":0},{"$f":"AJ9","v":1},{"$f":"AO9","v":2},{"$f":"AT9","v":0}]
[22,2529,23,2537,13,2551,null,null,null,null,0,221,null,null,"% target"]
[11,2653,12,2658,13,2665,null,null,null,null,0,111,null,null,"CCRF"]
[22,2773,23,2782,13,2797,null,null,null,null,0,221,null,null,"% CCRf"]
[11,2931,12,2936,13,2943,null,null,null,null,0,111,null,null,"average response rate",{"$f":"F36/P20","v":133.76666666666668},{"$f":"(F66-F36)/Q20","v":131.13333333333333},{"$f":"(F95-F66)/R20","v":121.79310344827586},{"$f":"(F125-F95)/S20","v":139.06666666666666},{"$f":"(F155-F125)/T20","v":140.63333333333333},{"$f":"(F185-F155)/U20","v":136.46666666666667}]
[22,3050,14,3061,13,3067,null,null,null,null,0,211]
[22,3166,23,3171,13,3183,null,null,null,null,0,221]
[22,3279,23,3290,24,3298,null,null,null,null,0,222]
[22,3491,14,3502,13,3508,null,null,null,null,0,211]
[22,3617,14,3628,24,3638,null,null,null,null,0,212]
[11,3762,12,3771,13,3777,null,null,null,null,0,111]
[11,3877,21,3886,22,3892,null,null,null,null,0,122]
[22,3992,23,3998,13,4013,null,null,null,null,0,221]
[11,4115,12,4122,13,4128,null,null,null,null,0,111]
[22,4230,23,4243,24,4249,null,null,null,null,0,222]
[11,4359,12,4365,13,4373,null,null,null,null,0,111]
[22,4491,23,4501,24,4507,null,null,null,null,0,222]
[22,4612,14,4633,13,4646,null,null,null,null,0,211]
[22,4751,23,4761,24,4766,null,null,null,null,0,222]
[22,4863,23,4870,13,4888,null,null,null,null,0,221]
[22,4992,14,5005,13,5013,null,null,null,null,0,211]
[11,5113,12,5119,13,5126,null,null,null,null,0,111]
[22,5226,14,5240,13,5246,null,null,null,null,0,211]
[22,5339,14,5354,24,5362,null,null,null,null,0,212]
[11,5471,12,5479,13,5487,null,null,null,null,0,111]
[22,5588,14,5604,13,5611,null,null,null,null,0,211]
[22,5713,14,5725,13,5731,null,null,null,null,0,211]
[22,5868,23,5874,24,5883,null,null,null,null,0,222]
[22,5990,23,5997,13,6012,null,null,null,null,0,221]
[22,6108,23,6117,13,6133,null,null,null,null,0,221]
[22,6227,23,6232,24,6239,null,null,null,null,0,222]
[22,6360,14,6376,13,6382,null,null,null,null,0,211]
[22,6486,14,6506,24,6515,null,null,null,null,0,212]
[11,6619,12,6627,13,6635,null,null,null,null,0,111]
[11,6757,12,6765,24,6785,null,null,null,null,0,112]
[11,7067,21,7075,22,7082,null,null,null,null,0,122]
[22,7180,23,7186,13,7202,null,null,null,null,0,221]
[22,7325,14,7339,13,7348,null,null,null,null,0,211]
[22,7443,23,7445,24,7453,null,null,null,null,0,222]
[22,7557,23,7569,13,7584,null,null,null,null,0,221]
[22,7690,23,7696,24,7703,null,null,null,null,0,222]
[22,7807,23,7817,24,7823,null,null,null,null,0,222]
[22,7925,14,7942,13,7947,null,null,null,null,0,211]
[22,8045,23,8052,24,8058,null,null,null,null,0,222]
[22,8156,23,8170,24,8176,null,null,null,null,0,222]
[11,8277,12,8283,13,8292,null,null,null,null,0,111]
[11,8401,12,8407,13,8414,null,null,null,null,0,111]
[22,8509,23,8525,13,8542,null,null,null,null,0,221]
[22,8635,23,8646,24,8653,null,null,null,null,0,222]
[11,8764,12,8771,13,8778,null,null,null,null,0,111]
[11,8878,12,8885,13,8892,null,null,null,null,0,111]
[22,8990,23,9000,13,9016,null,null,null,null,0,221]
[22,9120,14,9133,13,9140,null,null,null,null,0,211]
[11,9258,12,9265,13,9273,null,null,null,null,0,111]
[22,9375,23,9383,24,9391,null,null,null,null,0,222]
[22,9504,23,9511,24,9519,null,null,null,null,0,222]
[22,9620,23,9625,24,9632,null,null,null,null,0,222]
[22,9736,23,9744,24,9754,null,null,null,null,0,222]
[11,9858,12,9865,13,9867,null,null,null,null,0,111]
[11,9964,12,9972,13,9979,null,null,null,null,0,111]
[22,10085,14,10105,13,10117,null,null,null,null,0,211]
[11,10220,21,10232,22,10239,null,null,null,null,0,122]
[11,10344,12,10351,13,10360,null,null,null,null,0,111]
[22,10458,14,10476,13,10482,null,null,null,null,0,211]
[11,10581,12,10587,13,10593,null,null,null,null,0,111]
[22,10705,23,10709,24,10716,null,null,null,null,0,222]
[11,10819,12,10832,13,10842,null,null,null,null,0,111]
[11,10970,12,10978,13,10987,null,null,null,null,0,111]
[22,11097,14,11117,24,11128,null,null,null,null,0,212]
[22,11229,23,11238,13,11255,null,null,null,null,0,221]
[22,11358,23,11361,13,11372,null,null,null,null,0,221]
[22,11467,23,11471,24,11479,null,null,null,null,0,222]
[11,11576,12,11577,24,11592,null,null,null,null,0,112]
[22,11693,14,11707,13,11713,null,null,null,null,0,211]
[11,11817,12,11823,13,11832,null,null,null,null,0,111]
[11,11945,12,11952,13,11960,null,null,null,null,0,111]
[11,12062,21,12081,22,12087,null,null,null,null,0,122]
[22,12185,14,12198,13,12205,null,null,null,null,0,211]
[11,12303,12,12310,13,12317,null,null,null,null,0,111]
[22,12453,14,12470,24,12482,null,null,null,null,0,212]
[22,12579,23,12593,24,12605,null,null,null,null,0,222]
[11,12725,21,12734,22,12740,null,null,null,null,0,122]
[11,12853,12,12861,13,12867,null,null,null,null,0,111]
[11,13033,12,13039,13,13045,null,null,null,null,0,111]
[22,13144,23,13149,24,13155,null,null,null,null,0,222]
[11,13297,12,13304,13,13310,null,null,null,null,0,111]
[22,13457,23,13462,24,13467,null,null,null,null,0,222]
[11,13570,21,13586,11,13602,null,null,null,null,0,121]
[22,14032,14,14047,24,14055,null,null,null,null,0,212]
[11,14163,21,14170,22,14178,null,null,null,null,0,122]
[11,14283,21,14291,22,14297,null,null,null,null,0,122]
[11,14395,12,14400,13,14407,null,null,null,null,0,111]
[22,14500,14,14514,13,14521,null,null,null,null,0,211]
[22,14630,14,14643,13,14649,null,null,null,null,0,211]
[11,14749,12,14755,13,14762,null,null,null,null,0,111]
[22,14867,14,14881,13,14888,null,null,null,null,0,211]
[22,14997,14,15011,13,15017,null,null,null,null,0,211]
[11,15123,21,15130,22,15134,null,null,null,null,0,122]
[11,15265,12,15272,13,15286,null,null,null,null,0,111]
[22,15390,14,15404,13,15412,null,null,null,null,0,211]
[22,15520,23,15523,13,15540,null,null,null,null,0,221]
[11,15636,12,15645,13,15651,null,null,null,null,0,111]
[11,15743,21,15754,22,15761,null,null,null,null,0,122]
[22,15937,14,15951,13,15956,null,null,null,null,0,211]
[11,16064,21,16073,22,16082,null,null,null,null,0,122]
[22,16215,14,16228,24,16237,null,null,null,null,0,212]
[22,16340,23,16350,24,16356,null,null,null,null,0,222]
[22,16459,14,16474,24,16481,null,null,null,null,0,212]
[11,16584,21,16596,11,16615,null,null,null,null,0,121]
[11,16866,12,16874,13,16883,null,null,null,null,0,111]
[22,16991,14,17007,24,17017,null,null,null,null,0,212]
[22,17113,14,17129,13,17135,null,null,null,null,0,211]
[11,17236,21,17244,11,17254,null,null,null,null,0,121]
[22,17429,14,17445,13,17456,null,null,null,null,0,211]
[22,17577,14,17590,24,17600,null,null,null,null,0,212]
[22,17700,14,17715,24,17725,null,null,null,null,0,212]
[22,17821,14,17838,13,17850,null,null,null,null,0,211]
[22,17969,23,17975,13,17991,null,null,null,null,0,221]
[22,18097,23,18102,13,18120,null,null,null,null,0,221]
[11,18214,12,18236,13,18242,null,null,null,null,0,111]
[11,18341,21,18350,22,18355,null,null,null,null,0,122]
[22,18587,14,18601,13,18608,null,null,null,null,0,211]
[22,18767,23,18773,24,18780,null,null,null,null,0,222]
[11,18874,21,18882,22,18887,null,null,null,null,0,122]
[22,18987,23,18995,24,19002,null,null,null,null,0,222]
[22,19096,23,19103,24,19109,null,null,null,null,0,222]
[22,19211,23,19216,13,19229,null,null,null,null,0,221]
[22,19331,23,19336,24,19342,null,null,null,null,0,222]
[22,19442,23,19448,24,19468,null,null,null,null,0,222]
[22,19563,23,19573,24,19578,null,null,null,null,0,222]
[22,19679,23,19703,24,19710,null,null,null,null,0,222]
[22,19834,23,19849,13,19870,null,null,null,null,0,221]
[22,19982,23,20013,24,20019,null,null,null,null,0,222]
[22,20140,14,20154,24,20161,null,null,null,null,0,212]
[11,20269,12,20275,24,20284,null,null,null,null,0,112]
[22,20552,14,20575,13,20587,null,null,null,null,0,211]
[11,20695,12,20701,13,20707,null,null,null,null,0,111]
[22,20815,23,20825,13,20844,null,null,null,null,0,221]
[11,20972,12,20997,24,21005,null,null,null,null,0,112]
[22,21279,14,21292,24,21298,null,null,null,null,0,212]
[22,21399,23,21408,13,21420,null,null,null,null,0,221]
[22,21515,14,21528,24,21537,null,null,null,null,0,212]
[22,21639,23,21645,24,21650,null,null,null,null,0,222]
[11,21748,21,21758,22,21766,null,null,null,null,0,122]
[11,21874,21,21881,22,21887,null,null,null,null,0,122]
[22,21995,14,22007,13,22019,null,null,null,null,0,211]
[22,22132,14,22145,13,22151,null,null,null,null,0,211]
[22,22257,14,22268,13,22275,null,null,null,null,0,211]
[22,22367,23,22370,13,22382,null,null,null,null,0,221]
[11,22488,21,22497,22,22504,null,null,null,null,0,122]
[11,22611,21,22620,22,22627,null,null,null,null,0,122]
[22,22733,23,22737,13,22753,null,null,null,null,0,221]
[11,22854,12,22864,13,22872,null,null,null,null,0,111]
[22,22978,14,22993,13,23005,null,null,null,null,0,211]
[11,23111,12,23117,13,23122,null,null,null,null,0,111]
[11,23228,12,23240,13,23247,null,null,null,null,0,111]
[11,23356,12,23360,13,23367,null,null,null,null,0,111]
[22,23471,23,23480,24,23487,null,null,null,null,0,222]
[11,23585,21,23595,22,23601,null,null,null,null,0,122]
[22,23701,23,23709,13,23725,null,null,null,null,0,221]
[22,23832,23,23837,24,23843,null,null,null,null,0,222]
[11,23945,12,23958,13,23964,null,null,null,null,null,111]

{"sheet":"!M222A1D.UST","index":6,"n_rows":188,"n_cols":48,"rows_kept":188,"cut":false,"hidden":false,"merged":[[4,39,4,42],[5,39,5,40],[4,44,4,47],[5,44,5,45],[4,24,4,27],[5,24,5,25],[4,29,4,32],[5,29,5,30],[4,34,4,37],[5,34,5,35],[1,1,1,2],[5,13,5,14],[18,13,18,14],[19,13,19,14],[4,19,4,22],[5,19,5,20]]}
["Report for:!M222A1D.UST"]
["Date:","<date>"]
["Hen:","<hen>",null,null,null,"Correct Sequence",{"$f":"Start!J2","v":121},null,null,null,null,null,null,null,null,"Total Sequences in Data",{"$f":"4994-COUNTBLANK(L7:L5000)","v":182},null,null,null,null,"Total Sequences in Block Data",{"$f":"COUNTA(L7:L36)","v":30},null,null,null,"Total Sequences in Block Data",{"$f":"COUNTA(L37:L67)","v":31},null,null,null,"Total Sequences in Block Data",{"$f":"COUNTA(L68:L97)","v":30},null,null,null,"Total Sequences in Block Data",{"$f":"COUNTA(L98:L127)","v":30},null,null,null,"Total Sequences in Block Data",{"$f":"COUNTA(L128:L158)","v":31},null,null,null,"Total Sequences in Block Data",{"$f":"COUNTA(L159:L188)","v":30}]
[null,null,null,null,null,null,null,null,null,null,null,null,null,null,null,"Total Sequences in Summary",{"$f":"SUM(O7:O14)","v":182},null,null,null,null,"Total Sequences in Block Summary",{"$f":"SUM(U7:U14)","v":30},null,null,null,"Total Sequences in Block Summary",{"$f":"SUM(Z7:Z14)","v":31},null,null,null,"Total Sequences in Block Summary",{"$f":"SUM(AE7:AE14)","v":30},null,null,null,"Total Sequences in Block Summary",{"$f":"SUM(AJ7:AJ14)","v":30},null,null,null,"Total Sequences in Block Summary",{"$f":"SUM(AO7:AO14)","v":31},null,null,null,"Total Sequences in Block Summary",{"$f":"SUM(AT7:AT14)","v":30}]
[null,null,null,null,null,null,null,null,null,null,null,null,null,null,null,null,null,null,null,"Block 1",null,null,null,null,"Block 2",null,null,null,null,"Block 3",null,null,null,null,"Block 4",null,null,null,null,"Block 5",null,null,null,null,"Block 6"]
["Sequence\nComponent\n1","Time\n1","Sequence\nComponent\n2","Time\n2","Sequence\nComponent\n3","Time\n3","Sequence\nComponent\n4","Time\n4","Sequence\nComponent\n5","Time\n5","Correct?\n0=No 1=Yes","Sequence",null,"Frequency",null,"Relative Frequency","Variability",null,null,"Frequency",null,"Relative Frequency","Variability",null,"Frequency",null,"Relative Frequency","Variability",null,"Frequency",null,"Relative Frequency","Variability",null,"Frequency",null,"Relative Frequency","Variability",null,"Frequency",null,"Relative Frequency","Variability",null,"Frequency",null,"Relative Frequency","Variability"]
[22,18,14,29,24,36,null,null,null,null,0,212,null,111,{"$f":"COUNTIF($L$7:$L$500,N7)","v":42},{"$f":"O7/$Q$4","v":0.23076923076923078},{"$f":"IF(P7=0,0,(P7*((LOG(P7))/LOG(2))))","v":-0.48818705017383146},null,null,{"$f":"N7","v":111},{"$f":"COUNTIF(L7:L36,T7)","v":6},{"$f":"U7/(W4-U9)","v":0.2},{"$f":"IF(V7=0,0,(V7*((LOG(V7))/LOG(2))))","v":-0.46438561897747244},null,{"$f":"N7","v":111},{"$f":"COUNTIF(L37:L67,Y7)","v":7},{"$f":"Z7/(AB4-Z9)","v":0.23333333333333334},{"$f":"IF(AA7=0,0,(AA7*((LOG(AA7))/LOG(2))))","v":-0.48989165716187993},null,{"$f":"N7","v":111},{"$f":"COUNTIF(L68:L97,AD7)","v":7},{"$f":"AE7/(AG4-AE9)","v":0.23333333333333334},{"$f":"IF(AF7=0,0,(AF7*((LOG(AF7))/LOG(2))))","v":-0.48989165716187993},null,{"$f":"N7","v":111},{"$f":"COUNTIF(L98:L127,AI7)","v":8},{"$f":"AJ7/(AL4-AJ9)","v":0.27586206896551724},{"$f":"IF(AK7=0,0,(AK7*((LOG(AK7))/LOG(2))))","v":-0.51254648141450265},null,{"$f":"N7","v":111},{"$f":"COUNTIF(L128:L158,AN7)","v":3},{"$f":"AO7/(AQ4-AO9)","v":0.1},{"$f":"IF(AP7=0,0,(AP7*((LOG(AP7))/LOG(2))))","v":-0.33219280948873625},null,{"$f":"N7","v":111},{"$f":"COUNTIF(L159:L188,AS7)","v":11},{"$f":"AT7/(AV4-AT9)","v":0.40740740740740738},{"$f":"IF(AU7=0,0,(AU7*((LOG(AU7))/LOG(2))))","v":-0.52777832291806981}]
[22,130,14,151,13,159,null,null,null,null,0,211,null,112,{"$f":"COUNTIF($L$7:$L$500,N8)","v":0},{"$f":"O8/$Q$4","v":0},{"$f":"IF(P8=0,0,(P8*((LOG(P8))/LOG(2))))","v":0},null,null,{"$f":"N8","v":112},{"$f":"COUNTIF(L7:L36,T8)","v":0},{"$f":"U8/(W4-U9)","v":0},{"$f":"IF(V8=0,0,(V8*((LOG(V8))/LOG(2))))","v":0},null,{"$f":"N8","v":112},{"$f":"COUNTIF(L37:L67,Y8)","v":0},{"$f":"Z8/(AB4-Z9)","v":0},{"$f":"IF(AA8=0,0,(AA8*((LOG(AA8))/LOG(2))))","v":0},null,{"$f":"N8","v":112},{"$f":"COUNTIF(L68:L97,AD8)","v":0},{"$f":"AE8/(AG4-AE9)","v":0},{"$f":"IF(AF8=0,0,(AF8*((LOG(AF8))/LOG(2))))","v":0},null,{"$f":"N8","v":112},{"$f":"COUNTIF(L98:L127,AI8)","v":0},{"$f":"AJ8/(AL4-AJ9)","v":0},{"$f":"IF(AK8=0,0,(AK8*((LOG(AK8))/LOG(2))))","v":0},null,{"$f":"N8","v":112},{"$f":"COUNTIF(L128:L158,AN8)","v":0},{"$f":"AO8/(AQ4-AO9)","v":0},{"$f":"IF(AP8=0,0,(AP8*((LOG(AP8))/LOG(2))))","v":0},null,{"$f":"N8","v":112},{"$f":"COUNTIF(L159:L188,AS8)","v":0},{"$f":"AT8/(AV4-AT9)","v":0},{"$f":"IF(AU8=0,0,(AU8*((LOG(AU8))/LOG(2))))","v":0}]
[22,254,14,265,13,271,null,null,null,null,0,211,null,121,{"$f":"COUNTIF($L$7:$L$500,N9)","v":6},{"$f":"O9/$Q$4","v":3.2967032967032968E-2},{"$f":"IF(P9=0,0,(P9*((LOG(P9))/LOG(2))))","v":-0.16229116943332547},null,null,{"$f":"N9","v":121},{"$f":"COUNTIF(L7:L36,T9)","v":0},null,null,null,{"$f":"N9","v":121},{"$f":"COUNTIF(L37:L67,Y9)","v":1},null,null,null,{"$f":"N9","v":121},{"$f":"COUNTIF(L68:L97,AD9)","v":0},null,null,null,{"$f":"N9","v":121},{"$f":"COUNTIF(L98:L127,AI9)","v":1},null,null,null,{"$f":"N9","v":121},{"$f":"COUNTIF(L128:L158,AN9)","v":1},null,null,null,{"$f":"N9","v":121},{"$f":"COUNTIF(L159:L188,AS9)","v":3}]
[22,372,23,381,24,400,null,null,null,null,0,222,null,122,{"$f":"COUNTIF($L$7:$L$500,N10)","v":16},{"$f":"O10/$Q$4","v":8.7912087912087919E-2},{"$f":"IF(P10=0,0,(P10*((LOG(P10))/LOG(2))))","v":-0.30837755078669854},null,null,{"$f":"N10","v":122},{"$f":"COUNTIF(L7:L36,T10)","v":4},{"$f":"U10/(W4-U9)","v":0.13333333333333333},{"$f":"IF(V10=0,0,(V10*((LOG(V10))/LOG(2))))","v":-0.3875854127478025},null,{"$f":"N10","v":122},{"$f":"COUNTIF(L37:L67,Y10)","v":3},{"$f":"Z10/(AB4-Z9)","v":0.1},{"$f":"IF(AA10=0,0,(AA10*((LOG(AA10))/LOG(2))))","v":-0.33219280948873625},null,{"$f":"N10","v":122},{"$f":"COUNTIF(L68:L97,AD10)","v":2},{"$f":"AE10/(AG4-AE9)","v":6.6666666666666666E-2},{"$f":"IF(AF10=0,0,(AF10*((LOG(AF10))/LOG(2))))","v":-0.26045937304056793},null,{"$f":"N10","v":122},{"$f":"COUNTIF(L98:L127,AI10)","v":3},{"$f":"AJ10/(AL4-AJ9)","v":0.10344827586206896},{"$f":"IF(AK10=0,0,(AK10*((LOG(AK10))/LOG(2))))","v":-0.33858812011100858},null,{"$f":"N10","v":122},{"$f":"COUNTIF(L128:L158,AN10)","v":2},{"$f":"AO10/(AQ4-AO9)","v":6.6666666666666666E-2},{"$f":"IF(AP10=0,0,(AP10*((LOG(AP10))/LOG(2))))","v":-0.26045937304056793},null,{"$f":"N10","v":122},{"$f":"COUNTIF(L159:L188,AS10)","v":2},{"$f":"AT10/(AV4-AT9)","v":7.407407407407407E-2},{"$f":"IF(AU10=0,0,(AU10*((LOG(AU10))/LOG(2))))","v":-0.27813981497507173}]
[22,496,23,504,13,518,null,null,null,null,0,221,null,211,{"$f":"COUNTIF($L$7:$L$500,N11)","v":65},{"$f":"O11/$Q$4","v":0.35714285714285715},{"$f":"IF(P11=0,0,(P11*((LOG(P11))/LOG(2))))","v":-0.53050958113222924},null,null,{"$f":"N11","v":211},{"$f":"COUNTIF(L7:L36,T11)","v":7},{"$f":"U11/(W4-U9)","v":0.23333333333333334},{"$f":"IF(V11=0,0,(V11*((LOG(V11))/LOG(2))))","v":-0.48989165716187993},null,{"$f":"N11","v":211},{"$f":"COUNTIF(L37:L67,Y11)","v":13},{"$f":"Z11/(AB4-Z9)","v":0.43333333333333335},{"$f":"IF(AA11=0,0,(AA11*((LOG(AA11))/LOG(2))))","v":-0.52279538023588479},null,{"$f":"N11","v":211},{"$f":"COUNTIF(L68:L97,AD11)","v":16},{"$f":"AE11/(AG4-AE9)","v":0.53333333333333333},{"$f":"IF(AF11=0,0,(AF11*((LOG(AF11))/LOG(2))))","v":-0.4836749843245432},null,{"$f":"N11","v":211},{"$f":"COUNTIF(L98:L127,AI11)","v":9},{"$f":"AJ11/(AL4-AJ9)","v":0.31034482758620691},{"$f":"IF(AK11=0,0,(AK11*((LOG(AK11))/LOG(2))))","v":-0.52387944631611505},null,{"$f":"N11","v":211},{"$f":"COUNTIF(L128:L158,AN11)","v":11},{"$f":"AO11/(AQ4-AO9)","v":0.36666666666666664},{"$f":"IF(AP11=0,0,(AP11*((LOG(AP11))/LOG(2))))","v":-0.53073495822278116},null,{"$f":"N11","v":211},{"$f":"COUNTIF(L159:L188,AS11)","v":9},{"$f":"AT11/(AV4-AT9)","v":0.33333333333333331},{"$f":"IF(AU11=0,0,(AU11*((LOG(AU11))/LOG(2))))","v":-0.52832083357371862}]
[11,619,21,626,22,631,null,null,null,null,0,122,null,212,{"$f":"COUNTIF($L$7:$L$500,N12)","v":4},{"$f":"O12/$Q$4","v":2.197802197802198E-2},{"$f":"IF(P12=0,0,(P12*((LOG(P12))/LOG(2))))","v":-0.12105043165271862},null,null,{"$f":"N12","v":212},{"$f":"COUNTIF(L7:L36,T12)","v":2},{"$f":"U12/(W4-U9)","v":6.6666666666666666E-2},{"$f":"IF(V12=0,0,(V12*((LOG(V12))/LOG(2))))","v":-0.26045937304056793},null,{"$f":"N12","v":212},{"$f":"COUNTIF(L37:L67,Y12)","v":1},{"$f":"Z12/(AB4-Z9)","v":3.3333333333333333E-2},{"$f":"IF(AA12=0,0,(AA12*((LOG(AA12))/LOG(2))))","v":-0.16356301985361729},null,{"$f":"N12","v":212},{"$f":"COUNTIF(L68:L97,AD12)","v":0},{"$f":"AE12/(AG4-AE9)","v":0},{"$f":"IF(AF12=0,0,(AF12*((LOG(AF12))/LOG(2))))","v":0},null,{"$f":"N12","v":212},{"$f":"COUNTIF(L98:L127,AI12)","v":1},{"$f":"AJ12/(AL4-AJ9)","v":3.4482758620689655E-2},{"$f":"IF(AK12=0,0,(AK12*((LOG(AK12))/LOG(2))))","v":-0.16751658603888178},null,{"$f":"N12","v":212},{"$f":"COUNTIF(L128:L158,AN12)","v":0},{"$f":"AO12/(AQ4-AO9)","v":0},{"$f":"IF(AP12=0,0,(AP12*((LOG(AP12))/LOG(2))))","v":0},null,{"$f":"N12","v":212},{"$f":"COUNTIF(L159:L188,AS12)","v":0},{"$f":"AT12/(AV4-AT9)","v":0},{"$f":"IF(AU12=0,0,(AU12*((LOG(AU12))/LOG(2))))","v":0}]
[11,735,12,740,13,746,null,null,null,null,0,111,null,221,{"$f":"COUNTIF($L$7:$L$500,N13)","v":26},{"$f":"O13/$Q$4","v":0.14285714285714285},{"$f":"IF(P13=0,0,(P13*((LOG(P13))/LOG(2))))","v":-0.40105070315108626},null,null,{"$f":"N13","v":221},{"$f":"COUNTIF(L7:L36,T13)","v":5},{"$f":"U13/(W4-U9)","v":0.16666666666666666},{"$f":"IF(V13=0,0,(V13*((LOG(V13))/LOG(2))))","v":-0.43082708345352599},null,{"$f":"N13","v":221},{"$f":"COUNTIF(L37:L67,Y13)","v":3},{"$f":"Z13/(AB4-Z9)","v":0.1},{"$f":"IF(AA13=0,0,(AA13*((LOG(AA13))/LOG(2))))","v":-0.33219280948873625},null,{"$f":"N13","v":221},{"$f":"COUNTIF(L68:L97,AD13)","v":2},{"$f":"AE13/(AG4-AE9)","v":6.6666666666666666E-2},{"$f":"IF(AF13=0,0,(AF13*((LOG(AF13))/LOG(2))))","v":-0.26045937304056793},null,{"$f":"N13","v":221},{"$f":"COUNTIF(L98:L127,AI13)","v":5},{"$f":"AJ13/(AL4-AJ9)","v":0.17241379310344829},{"$f":"IF(AK13=0,0,(AK13*((LOG(AK13))/LOG(2))))","v":-0.43725050004141547},null,{"$f":"N13","v":221},{"$f":"COUNTIF(L128:L158,AN13)","v":8},{"$f":"AO13/(AQ4-AO9)","v":0.26666666666666666},{"$f":"IF(AP13=0,0,(AP13*((LOG(AP13))/LOG(2))))","v":-0.50850415882893829},null,{"$f":"N13","v":221},{"$f":"COUNTIF(L159:L188,AS13)","v":3},{"$f":"AT13/(AV4-AT9)","v":0.1111111111111111},{"$f":"IF(AU13=0,0,(AU13*((LOG(AU13))/LOG(2))))","v":-0.3522138890491458}]
[22,995,14,1011,13,1018,null,null,null,null,0,211,null,222,{"$f":"COUNTIF($L$7:$L$500,N14)","v":23},{"$f":"O14/$Q$4","v":0.12637362637362637},{"$f":"IF(P14=0,0,(P14*((LOG(P14))/LOG(2))))","v":-0.37712830623768523},null,null,{"$f":"N14","v":222},{"$f":"COUNTIF(L7:L36,T14)","v":6},{"$f":"U14/(W4-U9)","v":0.2},{"$f":"IF(V14=0,0,(V14*((LOG(V14))/LOG(2))))","v":-0.46438561897747244},null,{"$f":"N14","v":222},{"$f":"COUNTIF(L37:L67,Y14)","v":3},{"$f":"Z14/(AB4-Z9)","v":0.1},{"$f":"IF(AA14=0,0,(AA14*((LOG(AA14))/LOG(2))))","v":-0.33219280948873625},null,{"$f":"N14","v":222},{"$f":"COUNTIF(L68:L97,AD14)","v":3},{"$f":"AE14/(AG4-AE9)","v":0.1},{"$f":"IF(AF14=0,0,(AF14*((LOG(AF14))/LOG(2))))","v":-0.33219280948873625},null,{"$f":"N14","v":222},{"$f":"COUNTIF(L98:L127,AI14)","v":3},{"$f":"AJ14/(AL4-AJ9)","v":0.10344827586206896},{"$f":"IF(AK14=0,0,(AK14*((LOG(AK14))/LOG(2))))","v":-0.33858812011100858},null,{"$f":"N14","v":222},{"$f":"COUNTIF(L128:L158,AN14)","v":6},{"$f":"AO14/(AQ4-AO9)","v":0.2},{"$f":"IF(AP14=0,0,(AP14*((LOG(AP14))/LOG(2))))","v":-0.46438561897747244},null,{"$f":"N14","v":222},{"$f":"COUNTIF(L159:L188,AS14)","v":2},{"$f":"AT14/(AV4-AT9)","v":7.407407407407407E-2},{"$f":"IF(AU14=0,0,(AU14*((LOG(AU14))/LOG(2))))","v":-0.27813981497507173}]
[22,1119,23,1125,24,1131,null,null,null,null,0,222,null,null,null,{"$f":"SUM(P7:P14)","v":1},{"$f":"-SUM(Q7:Q14)","v":2.3885947925675746},null,null,null,null,{"$f":"SUM(V7:V14)","v":1},{"$f":"-SUM(W7:W14)","v":2.4975347643587211},null,null,null,{"$f":"SUM(AA7:AA14)","v":1},{"$f":"-SUM(AB7:AB14)","v":2.172828485717591},null,null,null,{"$f":"SUM(AF7:AF14)","v":0.99999999999999989},{"$f":"-SUM(AG7:AG14)","v":1.8266781970562953},null,null,null,{"$f":"SUM(AK7:AK14)","v":1},{"$f":"-SUM(AL7:AL14)","v":2.3183692540329321},null,null,null,{"$f":"SUM(AP7:AP14)","v":1},{"$f":"-SUM(AQ7:AQ14)","v":2.096276918558496},null,null,null,{"$f":"SUM(AU7:AU14)","v":0.99999999999999989},{"$f":"-SUM(AV7:AV14)","v":1.9645926754910776}]
[11,1237,12,1244,13,1252,null,null,null,null,0,111,null,null,null,"U=",{"$f":"Q15/(LOG(Q4)/LOG(2))","v":0.31814865843271917},null,null,null,null,"U1=",{"$f":"W15/(LOG(W4)/LOG(2))","v":0.5089852149126618},null,null,null,"U2=",{"$f":"AB15/(LOG(AB4)/LOG(2))","v":0.43858344514166298},null,null,null,"U3=",{"$f":"AG15/(LOG(AG4)/LOG(2))","v":0.37226796918828864},null,null,null,"U4=",{"$f":"AL15/(LOG(AL4)/LOG(2))","v":0.47247217129882307},null,null,null,"U5=",{"$f":"AQ15/(LOG(AQ4)/LOG(2))","v":0.42313158123417133},null,null,null,"U6=",{"$f":"AV15/(LOG(AV4)/LOG(2))","v":0.4003742568153677}]
[11,1351,21,1359,22,1367,null,null,null,null,0,122]
[11,1468,21,1477,22,1483,null,null,null,null,0,122]
[22,1631,14,1643,24,1652,null,null,null,null,0,212,null,"Total Target Seq"]
[22,1748,23,1755,13,1771,null,null,null,null,0,221,null,{"$f":"COUNTIF(L7:L188,G3)","v":6},null,30,31,30,30,31,30]
[22,1870,23,1877,13,1891,null,null,null,null,0,221,null,null,null,"% of reinforcement given in 6 equal intervals based on number of trials "]
[22,1991,23,1997,24,2003,null,null,null,null,0,222,null,null,null,"%_1","%_2","%_3","%_4","%_5","%_6"]
[22,2102,23,2115,24,2121,null,null,null,null,0,222,null,null,"target sequence",{"$f":"$G$3","v":121},{"$f":"$G$3","v":121},{"$f":"$G$3","v":121},{"$f":"$G$3","v":121},{"$f":"$G$3","v":121},{"$f":"$G$3","v":121}]
[22,2223,14,2237,13,2244,null,null,null,null,0,211,null,null,"total reinforcement",{"$f":"U9","v":0},{"$f":"Z9","v":1},{"$f":"AE9","v":0},{"$f":"AJ9","v":1},{"$f":"AO9","v":1},{"$f":"AT9","v":3}]
[22,2340,23,2347,13,2360,null,null,null,null,0,221,null,null,"% target"]
[11,2469,21,2477,22,2485,null,null,null,null,0,122,null,null,"CCRF"]
[22,2582,14,2595,13,2599,null,null,null,null,0,211,null,null,"% CCRf"]
[11,2699,12,2705,13,2713,null,null,null,null,0,111,null,null,"average response rate",{"$f":"F36/P20","v":122.5},{"$f":"(F67-F36)/Q20","v":128.93548387096774},{"$f":"(F97-F67)/R20","v":130.4},{"$f":"(F127-F97)/S20","v":147.66666666666666},{"$f":"(F158-F127)/T20","v":126.38709677419355},{"$f":"(F188-F158)/U20","v":132.03333333333333}]
[22,2814,14,2830,13,2841,null,null,null,null,0,211]
[22,2946,23,2954,24,2961,null,null,null,null,0,222]
[22,3062,14,3075,13,3082,null,null,null,null,0,211]
[11,3179,12,3184,13,3191,null,null,null,null,0,111]
[11,3297,12,3302,13,3310,null,null,null,null,0,111]
[22,3414,23,3422,13,3439,null,null,null,null,0,221]
[11,3546,12,3551,13,3557,null,null,null,null,0,111]
[22,3661,23,3668,24,3675,null,null,null,null,0,222]
[22,3773,23,3779,24,3784,null,null,null,null,0,222]
[22,3889,14,3902,13,3908,null,null,null,null,0,211]
[22,4012,23,4017,13,4030,null,null,null,null,0,221]
[22,4131,14,4143,13,4150,null,null,null,null,0,211]
[11,4258,12,4264,13,4270,null,null,null,null,0,111]
[11,4393,12,4399,13,4404,null,null,null,null,0,111]
[22,4576,14,4588,13,4596,null,null,null,null,0,211]
[22,4691,23,4696,13,4709,null,null,null,null,0,221]
[22,4806,23,4808,13,4819,null,null,null,null,0,221]
[11,4951,12,4957,13,4963,null,null,null,null,0,111]
[22,5060,14,5071,13,5077,null,null,null,null,0,211]
[11,5175,21,5191,22,5197,null,null,null,null,0,122]
[22,5290,14,5295,24,5303,null,null,null,null,0,212]
[22,5404,23,5409,24,5414,null,null,null,null,0,222]
[22,5514,14,5530,13,5536,null,null,null,null,0,211]
[11,5634,21,5643,22,5648,null,null,null,null,0,122]
[22,5740,14,5748,13,5754,null,null,null,null,0,211]
[11,5856,12,5861,13,5867,null,null,null,null,0,111]
[11,5962,21,5971,22,5977,null,null,null,null,0,122]
[22,6133,14,6144,13,6151,null,null,null,null,0,211]
[22,6253,14,6265,13,6271,null,null,null,null,0,211]
[11,6379,12,6385,13,6392,null,null,null,null,0,111]
[22,6502,23,6509,24,6514,null,null,null,null,0,222]
[11,6615,12,6621,13,6627,null,null,null,null,0,111]
[22,6724,14,6737,13,6743,null,null,null,null,0,211]
[11,6876,12,6882,13,6889,null,null,null,null,0,111]
[22,6990,14,7002,13,7008,null,null,null,null,0,211]
[22,7131,14,7142,13,7154,null,null,null,null,0,211]
[11,7278,21,7285,11,7293,null,null,null,null,0,121]
[22,7531,14,7542,13,7550,null,null,null,null,0,211]
[22,7655,14,7666,13,7672,null,null,null,null,0,211]
[22,7773,14,7788,13,7794,null,null,null,null,0,211]
[22,7893,14,7909,13,7916,null,null,null,null,0,211]
[22,8021,14,8033,13,8041,null,null,null,null,0,211]
[22,8150,14,8165,13,8171,null,null,null,null,0,211]
[22,8269,14,8284,13,8290,null,null,null,null,0,211]
[11,8396,21,8403,22,8409,null,null,null,null,0,122]
[22,8518,14,8533,13,8538,null,null,null,null,0,211]
[11,8644,21,8652,22,8661,null,null,null,null,0,122]
[22,8765,23,8769,24,8774,null,null,null,null,0,222]
[11,8879,12,8885,13,8893,null,null,null,null,0,111]
[22,8998,14,9016,13,9021,null,null,null,null,0,211]
[22,9124,14,9142,13,9147,null,null,null,null,0,211]
[11,9253,12,9264,13,9272,null,null,null,null,0,111]
[22,9379,14,9395,13,9401,null,null,null,null,0,211]
[22,9510,14,9523,13,9529,null,null,null,null,0,211]
[11,9661,12,9668,13,9675,null,null,null,null,0,111]
[11,9781,12,9787,13,9794,null,null,null,null,0,111]
[22,9921,14,9933,13,9940,null,null,null,null,0,211]
[22,10051,14,10065,13,10071,null,null,null,null,0,211]
[22,10173,14,10181,13,10189,null,null,null,null,0,211]
[22,10286,23,10290,13,10303,null,null,null,null,0,221]
[11,10454,12,10460,13,10466,null,null,null,null,0,111]
[22,10629,23,10635,13,10651,null,null,null,null,0,221]
[22,10758,14,10772,13,10780,null,null,null,null,0,211]
[11,10887,12,10893,13,10901,null,null,null,null,0,111]
[22,11008,23,11013,24,11020,null,null,null,null,0,222]
[22,11126,23,11136,24,11143,null,null,null,null,0,222]
[11,11269,12,11290,13,11297,null,null,null,null,0,111]
[22,11409,14,11421,13,11427,null,null,null,null,0,211]
[22,11557,14,11577,13,11584,null,null,null,null,0,211]
[22,11686,23,11689,13,11704,null,null,null,null,0,221]
[11,11830,12,11833,13,11839,null,null,null,null,0,111]
[11,11939,12,11943,13,11950,null,null,null,null,0,111]
[11,12226,12,12233,13,12241,null,null,null,null,0,111]
[11,12338,21,12352,22,12354,null,null,null,null,0,122]
[11,12632,12,12642,13,12650,null,null,null,null,0,111]
[11,12752,21,12759,11,12772,null,null,null,null,0,121]
[22,12978,14,12990,13,12998,null,null,null,null,0,211]
[22,13098,23,13105,13,13119,null,null,null,null,0,221]
[22,13316,14,13328,13,13343,null,null,null,null,0,211]
[22,13449,23,13455,24,13461,null,null,null,null,0,222]
[22,13560,23,13567,13,13580,null,null,null,null,0,221]
[22,13686,23,13691,13,13706,null,null,null,null,0,221]
[11,13815,21,13827,22,13833,null,null,null,null,0,122]
[11,13933,12,13941,13,13949,null,null,null,null,0,111]
[22,14047,14,14061,13,14069,null,null,null,null,0,211]
[22,14170,23,14176,24,14182,null,null,null,null,0,222]
[11,14293,12,14298,13,14306,null,null,null,null,0,111]
[22,14398,23,14411,13,14425,null,null,null,null,0,221]
[11,14531,12,14539,13,14547,null,null,null,null,0,111]
[22,14652,14,14667,13,14674,null,null,null,null,0,211]
[22,14775,23,14781,24,14783,null,null,null,null,0,222]
[11,14877,12,14883,13,14890,null,null,null,null,0,111]
[22,15095,14,15120,24,15131,null,null,null,null,0,212]
[22,15236,14,15250,13,15258,null,null,null,null,0,211]
[22,15373,14,15388,13,15396,null,null,null,null,0,211]
[22,15497,14,15509,13,15517,null,null,null,null,0,211]
[22,15631,14,15645,13,15652,null,null,null,null,0,211]
[11,15753,21,15762,22,15773,null,null,null,null,0,122]
[22,15991,14,16003,13,16014,null,null,null,null,0,211]
[22,16110,23,16116,24,16119,null,null,null,null,0,222]
[22,16214,23,16222,24,16224,null,null,null,null,0,222]
[22,16329,23,16335,24,16341,null,null,null,null,0,222]
[11,16435,21,16443,22,16454,null,null,null,null,0,122]
[22,16552,23,16559,24,16566,null,null,null,null,0,222]
[22,16665,23,16676,13,16689,null,null,null,null,0,221]
[11,16789,12,16795,13,16802,null,null,null,null,0,111]
[11,16917,12,16923,13,16930,null,null,null,null,0,111]
[22,17030,14,17045,13,17056,null,null,null,null,0,211]
[22,17155,23,17164,13,17181,null,null,null,null,0,221]
[22,17276,14,17291,13,17297,null,null,null,null,0,211]
[22,17395,23,17407,13,17420,null,null,null,null,0,221]
[22,17514,23,17528,13,17543,null,null,null,null,0,221]
[22,17642,23,17648,24,17655,null,null,null,null,0,222]
[22,17756,14,17766,13,17772,null,null,null,null,0,211]
[22,17875,23,17880,24,17885,null,null,null,null,0,222]
[11,17985,21,17994,11,18012,null,null,null,null,0,121]
[22,18285,14,18297,13,18302,null,null,null,null,0,211]
[22,18404,14,18418,13,18425,null,null,null,null,0,211]
[22,18526,14,18539,13,18546,null,null,null,null,0,211]
[22,18650,14,18667,13,18683,null,null,null,null,0,211]
[22,18791,14,18803,13,18811,null,null,null,null,0,211]
[22,18923,23,18927,13,18941,null,null,null,null,0,221]
[22,19040,14,19059,13,19066,null,null,null,null,0,211]
[22,19168,23,19175,13,19190,null,null,null,null,0,221]
[22,19286,23,19300,13,19315,null,null,null,null,0,221]
[22,19421,14,19433,13,19440,null,null,null,null,0,211]
[22,19533,14,19546,13,19558,null,null,null,null,0,211]
[11,19657,21,19664,22,19673,null,null,null,null,0,122]
[22,19780,23,19785,13,19807,null,null,null,null,0,221]
[11,19917,12,19924,13,19932,null,null,null,null,0,111]
[22,20030,23,20037,13,20049,null,null,null,null,0,221]
[11,20149,12,20157,13,20160,null,null,null,null,0,111]
[11,20263,12,20269,13,20277,null,null,null,null,0,111]
[22,20389,14,20401,13,20409,null,null,null,null,0,211]
[22,20510,23,20515,24,20522,null,null,null,null,0,222]
[22,20620,14,20636,13,20644,null,null,null,null,0,211]
[11,20759,12,20779,13,20784,null,null,null,null,0,111]
[22,20879,14,20889,13,20894,null,null,null,null,0,211]
[22,20989,23,20999,24,21010,null,null,null,null,0,222]
[22,21113,14,21130,13,21137,null,null,null,null,0,211]
[22,21245,14,21262,13,21266,null,null,null,null,0,211]
[22,21380,14,21392,13,21397,null,null,null,null,0,211]
[11,21499,21,21506,11,21517,null,null,null,null,0,121]
[11,21767,12,21773,13,21780,null,null,null,null,0,111]
[11,21882,21,21890,11,21906,null,null,null,null,0,121]
[11,22232,21,22242,22,22249,null,null,null,null,0,122]
[11,22346,12,22354,13,22361,null,null,null,null,0,111]
[22,22460,14,22475,13,22482,null,null,null,null,0,211]
[11,22579,21,22587,22,22594,null,null,null,null,0,122]
[11,22692,12,22697,13,22704,null,null,null,null,0,111]
[22,22796,14,22808,13,22814,null,null,null,null,0,211]
[11,22912,12,22922,13,22929,null,null,null,null,0,111]
[22,23023,14,23033,13,23039,null,null,null,null,0,211]
[11,23140,12,23149,13,23157,null,null,null,null,0,111]
[22,23261,23,23270,13,23286,null,null,null,null,0,221]
[11,23387,12,23394,13,23401,null,null,null,null,0,111]
[11,23510,12,23529,13,23536,null,null,null,null,0,111]
[11,23641,12,23648,13,23656,null,null,null,null,0,111]
[22,23749,23,23752,13,23763,null,null,null,null,0,221]
[11,23874,21,23881,11,23893,null,null,null,null,0,121]

{"sheet":"!M223A3D.UST","index":7,"n_rows":184,"n_cols":48,"rows_kept":184,"cut":false,"hidden":false,"merged":[[4,39,4,42],[5,39,5,40],[4,44,4,47],[5,44,5,45],[4,24,4,27],[5,24,5,25],[4,29,4,32],[5,29,5,30],[4,34,4,37],[5,34,5,35],[1,1,1,2],[5,13,5,14],[18,13,18,14],[19,13,19,14],[4,19,4,22],[5,19,5,20]]}
["Report for:!M223A3D.UST"]
["Date:","<date>"]
["Hen:","<hen>",null,null,null,"Correct Sequence",{"$f":"Start!J2","v":121},null,null,null,null,null,null,null,null,"Total Sequences in Data",{"$f":"4994-COUNTBLANK(L7:L5000)","v":178},null,null,null,null,"Total Sequences in Block Data",{"$f":"COUNTA(L7:L36)","v":30},null,null,null,"Total Sequences in Block Data",{"$f":"COUNTA(L37:L65)","v":29},null,null,null,"Total Sequences in Block Data",{"$f":"COUNTA(L66:L95)","v":30},null,null,null,"Total Sequences in Block Data",{"$f":"COUNTA(L96:L125)","v":30},null,null,null,"Total Sequences in Block Data",{"$f":"COUNTA(L126:L154)","v":29},null,null,null,"Total Sequences in Block Data",{"$f":"COUNTA(L155:L184)","v":30}]
[null,null,null,null,null,null,null,null,null,null,null,null,null,null,null,"Total Sequences in Summary",{"$f":"SUM(O7:O14)","v":177},null,null,null,null,"Total Sequences in Block Summary",{"$f":"SUM(U7:U14)","v":30},null,null,null,"Total Sequences in Block Summary",{"$f":"SUM(Z7:Z14)","v":29},null,null,null,"Total Sequences in Block Summary",{"$f":"SUM(AE7:AE14)","v":30},null,null,null,"Total Sequences in Block Summary",{"$f":"SUM(AJ7:AJ14)","v":30},null,null,null,"Total Sequences in Block Summary",{"$f":"SUM(AO7:AO14)","v":29},null,null,null,"Total Sequences in Block Summary",{"$f":"SUM(AT7:AT14)","v":29}]
[null,null,null,null,null,null,null,null,null,null,null,null,null,null,null,null,null,null,null,"Block 1",null,null,null,null,"Block 2",null,null,null,null,"Block 3",null,null,null,null,"Block 4",null,null,null,null,"Block 5",null,null,null,null,"Block 6"]
["Sequence\nComponent\n1","Time\n1","Sequence\nComponent\n2","Time\n2","Sequence\nComponent\n3","Time\n3","Sequence\nComponent\n4","Time\n4","Sequence\nComponent\n5","Time\n5","Correct?\n0=No 1=Yes","Sequence",null,"Frequency",null,"Relative Frequency","Variability",null,null,"Frequency",null,"Relative Frequency","Variability",null,"Frequency",null,"Relative Frequency","Variability",null,"Frequency",null,"Relative Frequency","Variability",null,"Frequency",null,"Relative Frequency","Variability",null,"Frequency",null,"Relative Frequency","Variability",null,"Frequency",null,"Relative Frequency","Variability"]
[11,24,12,42,13,50,null,null,null,null,0,111,null,111,{"$f":"COUNTIF($L$7:$L$500,N7)","v":28},{"$f":"O7/$Q$4","v":0.15819209039548024},{"$f":"IF(P7=0,0,(P7*((LOG(P7))/LOG(2))))","v":-0.42083060782322612},null,null,{"$f":"N7","v":111},{"$f":"COUNTIF(L7:L36,T7)","v":8},{"$f":"U7/(W4-U9)","v":0.26666666666666666},{"$f":"IF(V7=0,0,(V7*((LOG(V7))/LOG(2))))","v":-0.50850415882893829},null,{"$f":"N7","v":111},{"$f":"COUNTIF(L37:L65,Y7)","v":3},{"$f":"Z7/(AB4-Z9)","v":0.10714285714285714},{"$f":"IF(AA7=0,0,(AA7*((LOG(AA7))/LOG(2))))","v":-0.34525633085747659},null,{"$f":"N7","v":111},{"$f":"COUNTIF(L66:L95,AD7)","v":5},{"$f":"AE7/(AG4-AE9)","v":0.16666666666666666},{"$f":"IF(AF7=0,0,(AF7*((LOG(AF7))/LOG(2))))","v":-0.43082708345352599},null,{"$f":"N7","v":111},{"$f":"COUNTIF(L96:L125,AI7)","v":6},{"$f":"AJ7/(AL4-AJ9)","v":0.20689655172413793},{"$f":"IF(AK7=0,0,(AK7*((LOG(AK7))/LOG(2))))","v":-0.4702796884978791},null,{"$f":"N7","v":111},{"$f":"COUNTIF(L126:L154,AN7)","v":5},{"$f":"AO7/(AQ4-AO9)","v":0.17857142857142858},{"$f":"IF(AP7=0,0,(AP7*((LOG(AP7))/LOG(2))))","v":-0.44382621913754317},null,{"$f":"N7","v":111},{"$f":"COUNTIF(L155:L184,AS7)","v":1},{"$f":"AT7/(AV4-AT9)","v":3.5714285714285712E-2},{"$f":"IF(AU7=0,0,(AU7*((LOG(AU7))/LOG(2))))","v":-0.17169124721634299}]
[22,152,23,158,13,172,null,null,null,null,0,221,null,112,{"$f":"COUNTIF($L$7:$L$500,N8)","v":3},{"$f":"O8/$Q$4","v":1.6949152542372881E-2},{"$f":"IF(P8=0,0,(P8*((LOG(P8))/LOG(2))))","v":-9.9705814395963419E-2},null,null,{"$f":"N8","v":112},{"$f":"COUNTIF(L7:L36,T8)","v":0},{"$f":"U8/(W4-U9)","v":0},{"$f":"IF(V8=0,0,(V8*((LOG(V8))/LOG(2))))","v":0},null,{"$f":"N8","v":112},{"$f":"COUNTIF(L37:L65,Y8)","v":0},{"$f":"Z8/(AB4-Z9)","v":0},{"$f":"IF(AA8=0,0,(AA8*((LOG(AA8))/LOG(2))))","v":0},null,{"$f":"N8","v":112},{"$f":"COUNTIF(L66:L95,AD8)","v":1},{"$f":"AE8/(AG4-AE9)","v":3.3333333333333333E-2},{"$f":"IF(AF8=0,0,(AF8*((LOG(AF8))/LOG(2))))","v":-0.16356301985361729},null,{"$f":"N8","v":112},{"$f":"COUNTIF(L96:L125,AI8)","v":0},{"$f":"AJ8/(AL4-AJ9)","v":0},{"$f":"IF(AK8=0,0,(AK8*((LOG(AK8))/LOG(2))))","v":0},null,{"$f":"N8","v":112},{"$f":"COUNTIF(L126:L154,AN8)","v":1},{"$f":"AO8/(AQ4-AO9)","v":3.5714285714285712E-2},{"$f":"IF(AP8=0,0,(AP8*((LOG(AP8))/LOG(2))))","v":-0.17169124721634299},null,{"$f":"N8","v":112},{"$f":"COUNTIF(L155:L184,AS8)","v":1},{"$f":"AT8/(AV4-AT9)","v":3.5714285714285712E-2},{"$f":"IF(AU8=0,0,(AU8*((LOG(AU8))/LOG(2))))","v":-0.17169124721634299}]
[22,267,14,288,13,303,null,null,null,null,0,211,null,121,{"$f":"COUNTIF($L$7:$L$500,N9)","v":4},{"$f":"O9/$Q$4","v":2.2598870056497175E-2},{"$f":"IF(P9=0,0,(P9*((LOG(P9))/LOG(2))))","v":-0.12356170734650843},null,null,{"$f":"N9","v":121},{"$f":"COUNTIF(L7:L36,T9)","v":0},null,null,null,{"$f":"N9","v":121},{"$f":"COUNTIF(L37:L65,Y9)","v":1},null,null,null,{"$f":"N9","v":121},{"$f":"COUNTIF(L66:L95,AD9)","v":0},null,null,null,{"$f":"N9","v":121},{"$f":"COUNTIF(L96:L125,AI9)","v":1},null,null,null,{"$f":"N9","v":121},{"$f":"COUNTIF(L126:L154,AN9)","v":1},null,null,null,{"$f":"N9","v":121},{"$f":"COUNTIF(L155:L184,AS9)","v":1}]
[22,397,23,403,24,410,null,null,null,null,0,222,null,122,{"$f":"COUNTIF($L$7:$L$500,N10)","v":22},{"$f":"O10/$Q$4","v":0.12429378531073447},{"$f":"IF(P10=0,0,(P10*((LOG(P10))/LOG(2))))","v":-0.37389732481245991},null,null,{"$f":"N10","v":122},{"$f":"COUNTIF(L7:L36,T10)","v":4},{"$f":"U10/(W4-U9)","v":0.13333333333333333},{"$f":"IF(V10=0,0,(V10*((LOG(V10))/LOG(2))))","v":-0.3875854127478025},null,{"$f":"N10","v":122},{"$f":"COUNTIF(L37:L65,Y10)","v":3},{"$f":"Z10/(AB4-Z9)","v":0.10714285714285714},{"$f":"IF(AA10=0,0,(AA10*((LOG(AA10))/LOG(2))))","v":-0.34525633085747659},null,{"$f":"N10","v":122},{"$f":"COUNTIF(L66:L95,AD10)","v":2},{"$f":"AE10/(AG4-AE9)","v":6.6666666666666666E-2},{"$f":"IF(AF10=0,0,(AF10*((LOG(AF10))/LOG(2))))","v":-0.26045937304056793},null,{"$f":"N10","v":122},{"$f":"COUNTIF(L96:L125,AI10)","v":5},{"$f":"AJ10/(AL4-AJ9)","v":0.17241379310344829},{"$f":"IF(AK10=0,0,(AK10*((LOG(AK10))/LOG(2))))","v":-0.43725050004141547},null,{"$f":"N10","v":122},{"$f":"COUNTIF(L126:L154,AN10)","v":3},{"$f":"AO10/(AQ4-AO9)","v":0.10714285714285714},{"$f":"IF(AP10=0,0,(AP10*((LOG(AP10))/LOG(2))))","v":-0.34525633085747659},null,{"$f":"N10","v":122},{"$f":"COUNTIF(L155:L184,AS10)","v":5},{"$f":"AT10/(AV4-AT9)","v":0.17857142857142858},{"$f":"IF(AU10=0,0,(AU10*((LOG(AU10))/LOG(2))))","v":-0.44382621913754317}]
[11,513,21,521,22,532,null,null,null,null,0,122,null,211,{"$f":"COUNTIF($L$7:$L$500,N11)","v":47},{"$f":"O11/$Q$4","v":0.2655367231638418},{"$f":"IF(P11=0,0,(P11*((LOG(P11))/LOG(2))))","v":-0.50797618545227075},null,null,{"$f":"N11","v":211},{"$f":"COUNTIF(L7:L36,T11)","v":9},{"$f":"U11/(W4-U9)","v":0.3},{"$f":"IF(V11=0,0,(V11*((LOG(V11))/LOG(2))))","v":-0.52108967824986185},null,{"$f":"N11","v":211},{"$f":"COUNTIF(L37:L65,Y11)","v":11},{"$f":"Z11/(AB4-Z9)","v":0.39285714285714285},{"$f":"IF(AA11=0,0,(AA11*((LOG(AA11))/LOG(2))))","v":-0.52954129777226344},null,{"$f":"N11","v":211},{"$f":"COUNTIF(L66:L95,AD11)","v":8},{"$f":"AE11/(AG4-AE9)","v":0.26666666666666666},{"$f":"IF(AF11=0,0,(AF11*((LOG(AF11))/LOG(2))))","v":-0.50850415882893829},null,{"$f":"N11","v":211},{"$f":"COUNTIF(L96:L125,AI11)","v":5},{"$f":"AJ11/(AL4-AJ9)","v":0.17241379310344829},{"$f":"IF(AK11=0,0,(AK11*((LOG(AK11))/LOG(2))))","v":-0.43725050004141547},null,{"$f":"N11","v":211},{"$f":"COUNTIF(L126:L154,AN11)","v":9},{"$f":"AO11/(AQ4-AO9)","v":0.32142857142857145},{"$f":"IF(AP11=0,0,(AP11*((LOG(AP11))/LOG(2))))","v":-0.5263167601977724},null,{"$f":"N11","v":211},{"$f":"COUNTIF(L155:L184,AS11)","v":5},{"$f":"AT11/(AV4-AT9)","v":0.17857142857142858},{"$f":"IF(AU11=0,0,(AU11*((LOG(AU11))/LOG(2))))","v":-0.44382621913754317}]
[22,551,23,561,24,568,null,null,null,null,0,222,null,212,{"$f":"COUNTIF($L$7:$L$500,N12)","v":18},{"$f":"O12/$Q$4","v":0.10169491525423729},{"$f":"IF(P12=0,0,(P12*((LOG(P12))/LOG(2))))","v":-0.33535734392956118},null,null,{"$f":"N12","v":212},{"$f":"COUNTIF(L7:L36,T12)","v":0},{"$f":"U12/(W4-U9)","v":0},{"$f":"IF(V12=0,0,(V12*((LOG(V12))/LOG(2))))","v":0},null,{"$f":"N12","v":212},{"$f":"COUNTIF(L37:L65,Y12)","v":3},{"$f":"Z12/(AB4-Z9)","v":0.10714285714285714},{"$f":"IF(AA12=0,0,(AA12*((LOG(AA12))/LOG(2))))","v":-0.34525633085747659},null,{"$f":"N12","v":212},{"$f":"COUNTIF(L66:L95,AD12)","v":2},{"$f":"AE12/(AG4-AE9)","v":6.6666666666666666E-2},{"$f":"IF(AF12=0,0,(AF12*((LOG(AF12))/LOG(2))))","v":-0.26045937304056793},null,{"$f":"N12","v":212},{"$f":"COUNTIF(L96:L125,AI12)","v":2},{"$f":"AJ12/(AL4-AJ9)","v":6.8965517241379309E-2},{"$f":"IF(AK12=0,0,(AK12*((LOG(AK12))/LOG(2))))","v":-0.26606765483638428},null,{"$f":"N12","v":212},{"$f":"COUNTIF(L126:L154,AN12)","v":3},{"$f":"AO12/(AQ4-AO9)","v":0.10714285714285714},{"$f":"IF(AP12=0,0,(AP12*((LOG(AP12))/LOG(2))))","v":-0.34525633085747659},null,{"$f":"N12","v":212},{"$f":"COUNTIF(L155:L184,AS12)","v":8},{"$f":"AT12/(AV4-AT9)","v":0.2857142857142857},{"$f":"IF(AU12=0,0,(AU12*((LOG(AU12))/LOG(2))))","v":-0.51638712058788683}]
[11,664,12,671,13,679,null,null,null,null,0,111,null,221,{"$f":"COUNTIF($L$7:$L$500,N13)","v":28},{"$f":"O13/$Q$4","v":0.15819209039548024},{"$f":"IF(P13=0,0,(P13*((LOG(P13))/LOG(2))))","v":-0.42083060782322612},null,null,{"$f":"N13","v":221},{"$f":"COUNTIF(L7:L36,T13)","v":4},{"$f":"U13/(W4-U9)","v":0.13333333333333333},{"$f":"IF(V13=0,0,(V13*((LOG(V13))/LOG(2))))","v":-0.3875854127478025},null,{"$f":"N13","v":221},{"$f":"COUNTIF(L37:L65,Y13)","v":6},{"$f":"Z13/(AB4-Z9)","v":0.21428571428571427},{"$f":"IF(AA13=0,0,(AA13*((LOG(AA13))/LOG(2))))","v":-0.47622694742923877},null,{"$f":"N13","v":221},{"$f":"COUNTIF(L66:L95,AD13)","v":7},{"$f":"AE13/(AG4-AE9)","v":0.23333333333333334},{"$f":"IF(AF13=0,0,(AF13*((LOG(AF13))/LOG(2))))","v":-0.48989165716187993},null,{"$f":"N13","v":221},{"$f":"COUNTIF(L96:L125,AI13)","v":4},{"$f":"AJ13/(AL4-AJ9)","v":0.13793103448275862},{"$f":"IF(AK13=0,0,(AK13*((LOG(AK13))/LOG(2))))","v":-0.39420427519000989},null,{"$f":"N13","v":221},{"$f":"COUNTIF(L126:L154,AN13)","v":5},{"$f":"AO13/(AQ4-AO9)","v":0.17857142857142858},{"$f":"IF(AP13=0,0,(AP13*((LOG(AP13))/LOG(2))))","v":-0.44382621913754317},null,{"$f":"N13","v":221},{"$f":"COUNTIF(L155:L184,AS13)","v":2},{"$f":"AT13/(AV4-AT9)","v":7.1428571428571425E-2},{"$f":"IF(AU13=0,0,(AU13*((LOG(AU13))/LOG(2))))","v":-0.27195392300411453}]
[11,775,12,780,13,788,null,null,null,null,0,111,null,222,{"$f":"COUNTIF($L$7:$L$500,N14)","v":27},{"$f":"O14/$Q$4","v":0.15254237288135594},{"$f":"IF(P14=0,0,(P14*((LOG(P14))/LOG(2))))","v":-0.4138044479877247},null,null,{"$f":"N14","v":222},{"$f":"COUNTIF(L7:L36,T14)","v":5},{"$f":"U14/(W4-U9)","v":0.16666666666666666},{"$f":"IF(V14=0,0,(V14*((LOG(V14))/LOG(2))))","v":-0.43082708345352599},null,{"$f":"N14","v":222},{"$f":"COUNTIF(L37:L65,Y14)","v":2},{"$f":"Z14/(AB4-Z9)","v":7.1428571428571425E-2},{"$f":"IF(AA14=0,0,(AA14*((LOG(AA14))/LOG(2))))","v":-0.27195392300411453},null,{"$f":"N14","v":222},{"$f":"COUNTIF(L66:L95,AD14)","v":5},{"$f":"AE14/(AG4-AE9)","v":0.16666666666666666},{"$f":"IF(AF14=0,0,(AF14*((LOG(AF14))/LOG(2))))","v":-0.43082708345352599},null,{"$f":"N14","v":222},{"$f":"COUNTIF(L96:L125,AI14)","v":7},{"$f":"AJ14/(AL4-AJ9)","v":0.2413793103448276},{"$f":"IF(AK14=0,0,(AK14*((LOG(AK14))/LOG(2))))","v":-0.49497870729275095},null,{"$f":"N14","v":222},{"$f":"COUNTIF(L126:L154,AN14)","v":2},{"$f":"AO14/(AQ4-AO9)","v":7.1428571428571425E-2},{"$f":"IF(AP14=0,0,(AP14*((LOG(AP14))/LOG(2))))","v":-0.27195392300411453},null,{"$f":"N14","v":222},{"$f":"COUNTIF(L155:L184,AS14)","v":6},{"$f":"AT14/(AV4-AT9)","v":0.21428571428571427},{"$f":"IF(AU14=0,0,(AU14*((LOG(AU14))/LOG(2))))","v":-0.47622694742923877}]
[11,891,12,898,13,909,null,null,null,null,0,111,null,null,null,{"$f":"SUM(P7:P14)","v":1},{"$f":"-SUM(Q7:Q14)","v":2.6959640395709403},null,null,null,null,{"$f":"SUM(V7:V14)","v":0.99999999999999989},{"$f":"-SUM(W7:W14)","v":2.2355917460279309},null,null,null,{"$f":"SUM(AA7:AA14)","v":0.99999999999999989},{"$f":"-SUM(AB7:AB14)","v":2.3134911607780464},null,null,null,{"$f":"SUM(AF7:AF14)","v":0.99999999999999989},{"$f":"-SUM(AG7:AG14)","v":2.5445317488326236},null,null,null,{"$f":"SUM(AK7:AK14)","v":1},{"$f":"-SUM(AL7:AL14)","v":2.5000313258998554},null,null,null,{"$f":"SUM(AP7:AP14)","v":1},{"$f":"-SUM(AQ7:AQ14)","v":2.5481270304082693},null,null,null,{"$f":"SUM(AU7:AU14)","v":1},{"$f":"-SUM(AV7:AV14)","v":2.4956029237290123}]
[11,1006,21,1012,22,1025,null,null,null,null,0,122,null,null,null,"U=",{"$f":"Q15/(LOG(Q4)/LOG(2))","v":0.3610212164381093},null,null,null,null,"U1=",{"$f":"W15/(LOG(W4)/LOG(2))","v":0.45560252515690913},null,null,null,"U2=",{"$f":"AB15/(LOG(AB4)/LOG(2))","v":0.47622482737137456},null,null,null,"U3=",{"$f":"AG15/(LOG(AG4)/LOG(2))","v":0.51856296757663256},null,null,null,"U4=",{"$f":"AL15/(LOG(AL4)/LOG(2))","v":0.50949400178950166},null,null,null,"U5=",{"$f":"AQ15/(LOG(AQ4)/LOG(2))","v":0.52452387791635546},null,null,null,"U6=",{"$f":"AV15/(LOG(AV4)/LOG(2))","v":0.51371195692861638}]
[22,1130,23,1137,24,1144,null,null,null,null,0,222]
[11,1241,21,1248,22,1256,null,null,null,null,0,122]
[22,1355,23,1360,13,1371,null,null,null,null,0,221,null,"Total Target Seq"]
[22,1464,23,1469,24,1474,null,null,null,null,0,222,null,{"$f":"COUNTIF(L7:L184,G3)","v":4},null,30,29,30,30,29,30]
[22,1577,14,1589,13,1596,null,null,null,null,0,211,null,null,null,"% of reinforcement given in 6 equal intervals based on number of trials "]
[11,1704,12,1708,13,1722,null,null,null,null,0,111,null,null,null,"%_1","%_2","%_3","%_4","%_5","%_6"]
[22,1820,14,1832,13,1839,null,null,null,null,0,211,null,null,"target sequence",{"$f":"$G$3","v":121},{"$f":"$G$3","v":121},{"$f":"$G$3","v":121},{"$f":"$G$3","v":121},{"$f":"$G$3","v":121},{"$f":"$G$3","v":121}]
[22,1937,14,1951,13,1958,null,null,null,null,0,211,null,null,"total reinforcement",{"$f":"U9","v":0},{"$f":"Z9","v":1},{"$f":"AE9","v":0},{"$f":"AJ9","v":1},{"$f":"AO9","v":1},{"$f":"AT9","v":1}]
[22,2058,14,2077,13,2087,null,null,null,null,0,211,null,null,"% target"]
[11,2194,12,2200,13,2207,null,null,null,null,0,111,null,null,"CCRF"]
[22,2311,23,2317,24,2324,null,null,null,null,0,222,null,null,"% CCRf"]
[11,2433,12,2439,13,2448,null,null,null,null,0,111,null,null,"average response rate",{"$f":"F36/P20","v":114.33333333333333},{"$f":"(F65-F36)/Q20","v":129.93103448275863},{"$f":"(F95-F65)/R20","v":136.80000000000001},{"$f":"(F125-F95)/S20","v":135.96666666666667},{"$f":"(F154-F125)/T20","v":146.10344827586206},{"$f":"(F184-F154)/U20","v":-653.93333333333328}]
[22,2541,14,2555,13,2561,null,null,null,null,0,211]
[22,2673,14,2687,13,2694,null,null,null,null,0,211]
[22,2791,14,2803,13,2811,null,null,null,null,0,211]
[22,2911,23,2916,13,2933,null,null,null,null,0,221]
[22,3039,23,3047,13,3062,null,null,null,null,0,221]
[11,3172,12,3177,13,3184,null,null,null,null,0,111]
[22,3279,14,3296,13,3304,null,null,null,null,0,211]
[11,3416,21,3424,22,3430,null,null,null,null,0,122]
[22,3527,14,3540,24,3549,null,null,null,null,0,212]
[22,3657,14,3670,13,3680,null,null,null,null,0,211]
[11,3785,12,3791,13,3798,null,null,null,null,0,111]
[22,3900,23,3906,13,3927,null,null,null,null,0,221]
[22,4030,14,4046,13,4053,null,null,null,null,0,211]
[11,4157,21,4168,22,4175,null,null,null,null,0,122]
[22,4270,14,4283,13,4295,null,null,null,null,0,211]
[22,4399,23,4403,24,4410,null,null,null,null,0,222]
[11,4508,21,4520,22,4526,null,null,null,null,0,122]
[22,4627,14,4641,24,4652,null,null,null,null,0,212]
[22,4750,23,4756,13,4769,null,null,null,null,0,221]
[11,4871,12,4878,13,4885,null,null,null,null,0,111]
[22,4984,23,4997,24,5003,null,null,null,null,0,222]
[22,5100,14,5137,13,5162,null,null,null,null,0,211]
[22,5264,14,5279,13,5286,null,null,null,null,0,211]
[22,5385,14,5397,13,5403,null,null,null,null,0,211]
[22,5516,14,5531,13,5538,null,null,null,null,0,211]
[22,5670,14,5685,13,5707,null,null,null,null,0,211]
[22,5813,23,5821,13,5839,null,null,null,null,0,221]
[22,5957,14,5972,24,5981,null,null,null,null,0,212]
[22,6075,23,6081,13,6096,null,null,null,null,0,221]
[22,6262,14,6273,13,6280,null,null,null,null,0,211]
[22,6409,14,6423,13,6428,null,null,null,null,0,211]
[22,6525,23,6536,13,6552,null,null,null,null,0,221]
[11,6675,21,6685,11,6697,null,null,null,null,0,121]
[11,6817,12,6823,13,6833,null,null,null,null,0,111]
[11,6936,21,6945,22,6951,null,null,null,null,0,122]
[22,7052,14,7069,13,7077,null,null,null,null,0,211]
[22,7174,23,7183,13,7198,null,null,null,null,0,221]
[11,7452,12,7459,13,7466,null,null,null,null,0,111]
[11,7593,12,7601,24,7621,null,null,null,null,0,112]
[22,7720,23,7731,13,7747,null,null,null,null,0,221]
[11,7860,12,7869,13,7884,null,null,null,null,0,111]
[22,7977,14,7989,13,7994,null,null,null,null,0,211]
[22,8092,14,8113,13,8120,null,null,null,null,0,211]
[22,8220,23,8224,13,8242,null,null,null,null,0,221]
[22,8346,14,8364,13,8373,null,null,null,null,0,211]
[22,8482,14,8502,13,8516,null,null,null,null,0,211]
[11,8624,12,8643,13,8650,null,null,null,null,0,111]
[11,8749,21,8758,22,8763,null,null,null,null,0,122]
[22,8869,14,8880,13,8885,null,null,null,null,0,211]
[22,8995,23,9001,24,9008,null,null,null,null,0,222]
[11,9274,12,9287,13,9304,null,null,null,null,0,111]
[11,9421,21,9430,22,9437,null,null,null,null,0,122]
[22,9537,14,9557,24,9579,null,null,null,null,0,212]
[22,9687,23,9693,24,9699,null,null,null,null,0,222]
[22,9808,14,9825,13,9832,null,null,null,null,0,211]
[22,9936,23,9940,13,9953,null,null,null,null,0,221]
[22,10055,23,10062,13,10081,null,null,null,null,0,221]
[22,10178,23,10192,24,10201,null,null,null,null,0,222]
[22,10298,23,10309,13,10325,null,null,null,null,0,221]
[22,10419,23,10434,24,10443,null,null,null,null,0,222]
[22,10545,14,10563,13,10571,null,null,null,null,0,211]
[22,10673,14,10688,24,10699,null,null,null,null,0,212]
[11,10803,12,10809,13,10817,null,null,null,null,0,111]
[22,10914,23,10922,13,10941,null,null,null,null,0,221]
[22,11050,23,11057,13,11072,null,null,null,null,0,221]
[22,11165,14,11182,13,11187,null,null,null,null,0,211]
[22,11289,23,11295,24,11302,null,null,null,null,0,222]
[22,11405,23,11414,24,11421,null,null,null,null,0,222]
[22,11524,14,11537,13,11544,null,null,null,null,0,211]
[22,11652,23,11663,24,11670,null,null,null,null,0,222]
[11,11779,21,11787,22,11802,null,null,null,null,0,122]
[22,11899,14,11913,24,11923,null,null,null,null,0,212]
[22,12017,14,12038,13,12046,null,null,null,null,0,211]
[22,12147,14,12161,24,12173,null,null,null,null,0,212]
[11,12278,21,12285,22,12291,null,null,null,null,0,122]
[22,12394,23,12399,24,12406,null,null,null,null,0,222]
[11,12510,21,12517,22,12523,null,null,null,null,0,122]
[11,12632,12,12639,13,12645,null,null,null,null,0,111]
[11,12750,21,12758,22,12764,null,null,null,null,0,122]
[22,12868,23,12874,24,12879,null,null,null,null,0,222]
[11,12981,12,12993,13,13001,null,null,null,null,0,111]
[22,13101,23,13109,13,13126,null,null,null,null,0,221]
[22,13220,14,13231,13,13239,null,null,null,null,0,211]
[11,13343,21,13353,22,13358,null,null,null,null,0,122]
[11,13474,12,13480,13,13489,null,null,null,null,0,111]
[22,13584,23,13589,24,13597,null,null,null,null,0,222]
[22,13707,23,13715,13,13728,null,null,null,null,0,221]
[22,13846,23,13874,24,13880,null,null,null,null,0,222]
[11,14058,12,14064,13,14073,null,null,null,null,0,111]
[22,14167,14,14182,13,14194,null,null,null,null,0,211]
[22,14305,14,14322,13,14329,null,null,null,null,0,211]
[22,14423,23,14428,13,14446,null,null,null,null,0,221]
[11,14547,12,14555,13,14562,null,null,null,null,0,111]
[11,14851,21,14862,11,14879,null,null,null,null,0,121]
[11,15133,12,15142,13,15151,null,null,null,null,0,111]
[22,15248,23,15250,13,15266,null,null,null,null,0,221]
[22,15369,23,15375,24,15381,null,null,null,null,0,222]
[11,15489,12,15495,13,15503,null,null,null,null,0,111]
[11,15603,12,15608,13,15615,null,null,null,null,0,111]
[11,15728,12,15734,13,15742,null,null,null,null,0,111]
[11,15840,21,15849,22,15856,null,null,null,null,0,122]
[11,15957,21,15968,11,15983,null,null,null,null,0,121]
[11,16260,21,16273,22,16279,null,null,null,null,0,122]
[22,16375,14,16394,13,16401,null,null,null,null,0,211]
[22,16514,14,16528,13,16534,null,null,null,null,0,211]
[22,16650,14,16664,13,16671,null,null,null,null,0,211]
[22,16774,14,16790,24,16808,null,null,null,null,0,212]
[22,16909,14,16926,13,16935,null,null,null,null,0,211]
[22,17039,14,17060,24,17078,null,null,null,null,0,212]
[22,17179,23,17184,13,17205,null,null,null,null,0,221]
[22,17310,14,17324,13,17330,null,null,null,null,0,211]
[11,17446,21,17458,22,17464,null,null,null,null,0,122]
[22,17564,23,17570,13,17587,null,null,null,null,0,221]
[22,17697,23,17702,13,17722,null,null,null,null,0,221]
[22,17827,23,17860,24,17866,null,null,null,null,0,222]
[22,17973,14,17990,24,18001,null,null,null,null,0,212]
[11,18094,12,18101,24,18163,null,null,null,null,0,112]
[11,18414,12,18423,13,18430,null,null,null,null,0,111]
[11,18730,12,18739,13,18761,null,null,null,null,0,111]
[22,18855,14,18870,13,18876,null,null,null,null,0,211]
[22,18969,23,18974,24,18981,null,null,null,null,0,222]
[22,19075,14,19088,13,19096,null,null,null,null,0,211]
[22,19191,14,19215,13,19230,null,null,null,null,0,211]
[22,19326,14,19355,13,19363,null,null,null,null,0,211]
[22,19464,23,19469,13,19487,null,null,null,null,0,221]
[22,19591,23,19596,13,19618,null,null,null,null,0,221]
[22,19720,23,19728,13,19749,null,null,null,null,0,221]
[22,19850,14,19865,13,19872,null,null,null,null,0,211]
[11,19985,12,19998,13,20007,null,null,null,null,0,111]
[22,20118,23,20123,24,20130,null,null,null,null,0,222]
[11,20242,12,20256,24,20276,null,null,null,null,0,112]
[11,20489,21,20502,22,20509,null,null,null,null,0,122]
[22,20617,23,20623,24,20643,null,null,null,null,0,222]
[22,20750,14,20764,13,20771,null,null,null,null,0,211]
[22,20863,23,20868,24,20902,null,null,null,null,0,222]
[11,21032,21,21044,22,21054,null,null,null,null,0,122]
[22,21153,23,21193,24,21202,null,null,null,null,0,222]
[11,21310,21,21319,22,21325,null,null,null,null,0,122]
[22,21427,14,21448,24,21457,null,null,null,null,0,212]
[11,21568,21,21576,22,21582,null,null,null,null,0,122]
[22,21742,23,21745,24,21751,null,null,null,null,0,222]
[22,21847,23,21861,13,21874,null,null,null,null,0,221]
[22,21972,14,21987,24,21998,null,null,null,null,0,212]
[22,22110,14,22129,24,22138,null,null,null,null,0,212]
[22,22237,23,22243,24,22249,null,null,null,null,0,222]
[22,22357,14,22369,24,22392,null,null,null,null,0,212]
[22,22484,14,22499,13,22505,null,null,null,null,0,211]
[22,22613,14,22635,13,22643,null,null,null,null,0,211]
[22,22739,14,22752,24,22763,null,null,null,null,0,212]
[11,22954,21,22961,11,22978,null,null,null,null,0,121]
[22,23176,14,23192,24,23201,null,null,null,null,0,212]
[22,23439,14,23461,24,23469,null,null,null,null,0,212]
[22,23564,14,23588,24,23598,null,null,null,null,0,212]
[11,23705,21,23730,22,23737,null,null,null,null,0,122]
[22,23840,14,23856,13,23874,null,null,null,null,0,211]
[22,23983,23,23988,null,null,null,null,null,null,null,22]

{"sheet":"!M224A2D.UST","index":8,"n_rows":182,"n_cols":48,"rows_kept":182,"cut":false,"hidden":false,"merged":[[4,39,4,42],[5,39,5,40],[4,44,4,47],[5,44,5,45],[4,24,4,27],[5,24,5,25],[4,29,4,32],[5,29,5,30],[4,34,4,37],[5,34,5,35],[1,1,1,2],[5,13,5,14],[18,13,18,14],[19,13,19,14],[4,19,4,22],[5,19,5,20]]}
["Report for:!M224A2D.UST"]
["Date:","<date>"]
["Hen:","<hen>",null,null,null,"Correct Sequence",{"$f":"Start!J2","v":121},null,null,null,null,null,null,null,null,"Total Sequences in Data",{"$f":"4994-COUNTBLANK(L7:L5000)","v":176},null,null,null,null,"Total Sequences in Block Data",{"$f":"COUNTA(L7:L35)","v":29},null,null,null,"Total Sequences in Block Data",{"$f":"COUNTA(L36:L65)","v":30},null,null,null,"Total Sequences in Block Data",{"$f":"COUNTA(L66:L94)","v":29},null,null,null,"Total Sequences in Block Data",{"$f":"COUNTA(L95:L123)","v":29},null,null,null,"Total Sequences in Block Data",{"$f":"COUNTA(L124:L153)","v":30},null,null,null,"Total Sequences in Block Data",{"$f":"COUNTA(L154:L182)","v":29}]
[null,null,null,null,null,null,null,null,null,null,null,null,null,null,null,"Total Sequences in Summary",{"$f":"SUM(O7:O14)","v":176},null,null,null,null,"Total Sequences in Block Summary",{"$f":"SUM(U7:U14)","v":29},null,null,null,"Total Sequences in Block Summary",{"$f":"SUM(Z7:Z14)","v":30},null,null,null,"Total Sequences in Block Summary",{"$f":"SUM(AE7:AE14)","v":29},null,null,null,"Total Sequences in Block Summary",{"$f":"SUM(AJ7:AJ14)","v":29},null,null,null,"Total Sequences in Block Summary",{"$f":"SUM(AO7:AO14)","v":30},null,null,null,"Total Sequences in Block Summary",{"$f":"SUM(AT7:AT14)","v":29}]
[null,null,null,null,null,null,null,null,null,null,null,null,null,null,null,null,null,null,null,"Block 1",null,null,null,null,"Block 2",null,null,null,null,"Block 3",null,null,null,null,"Block 4",null,null,null,null,"Block 5",null,null,null,null,"Block 6"]
["Sequence\nComponent\n1","Time\n1","Sequence\nComponent\n2","Time\n2","Sequence\nComponent\n3","Time\n3","Sequence\nComponent\n4","Time\n4","Sequence\nComponent\n5","Time\n5","Correct?\n0=No 1=Yes","Sequence",null,"Frequency",null,"Relative Frequency","Variability",null,null,"Frequency",null,"Relative Frequency","Variability",null,"Frequency",null,"Relative Frequency","Variability",null,"Frequency",null,"Relative Frequency","Variability",null,"Frequency",null,"Relative Frequency","Variability",null,"Frequency",null,"Relative Frequency","Variability",null,"Frequency",null,"Relative Frequency","Variability"]
[22,2,14,15,13,23,null,null,null,null,0,211,null,111,{"$f":"COUNTIF($L$7:$L$500,N7)","v":26},{"$f":"O7/$Q$4","v":0.14772727272727273},{"$f":"IF(P7=0,0,(P7*((LOG(P7))/LOG(2))))","v":-0.40757834893693939},null,null,{"$f":"N7","v":111},{"$f":"COUNTIF(L7:L35,T7)","v":4},{"$f":"U7/(W4-U9)","v":0.14285714285714285},{"$f":"IF(V7=0,0,(V7*((LOG(V7))/LOG(2))))","v":-0.40105070315108626},null,{"$f":"N7","v":111},{"$f":"COUNTIF(L36:L65,Y7)","v":2},{"$f":"Z7/(AB4-Z9)","v":6.6666666666666666E-2},{"$f":"IF(AA7=0,0,(AA7*((LOG(AA7))/LOG(2))))","v":-0.26045937304056793},null,{"$f":"N7","v":111},{"$f":"COUNTIF(L66:L94,AD7)","v":1},{"$f":"AE7/(AG4-AE9)","v":3.5714285714285712E-2},{"$f":"IF(AF7=0,0,(AF7*((LOG(AF7))/LOG(2))))","v":-0.17169124721634299},null,{"$f":"N7","v":111},{"$f":"COUNTIF(L95:L123,AI7)","v":2},{"$f":"AJ7/(AL4-AJ9)","v":6.8965517241379309E-2},{"$f":"IF(AK7=0,0,(AK7*((LOG(AK7))/LOG(2))))","v":-0.26606765483638428},null,{"$f":"N7","v":111},{"$f":"COUNTIF(L124:L153,AN7)","v":8},{"$f":"AO7/(AQ4-AO9)","v":0.27586206896551724},{"$f":"IF(AP7=0,0,(AP7*((LOG(AP7))/LOG(2))))","v":-0.51254648141450265},null,{"$f":"N7","v":111},{"$f":"COUNTIF(L154:L182,AS7)","v":9},{"$f":"AT7/(AV4-AT9)","v":0.32142857142857145},{"$f":"IF(AU7=0,0,(AU7*((LOG(AU7))/LOG(2))))","v":-0.5263167601977724}]
[22,125,14,135,13,142,null,null,null,null,0,211,null,112,{"$f":"COUNTIF($L$7:$L$500,N8)","v":2},{"$f":"O8/$Q$4","v":1.1363636363636364E-2},{"$f":"IF(P8=0,0,(P8*((LOG(P8))/LOG(2))))","v":-7.3402632029969286E-2},null,null,{"$f":"N8","v":112},{"$f":"COUNTIF(L7:L35,T8)","v":0},{"$f":"U8/(W4-U9)","v":0},{"$f":"IF(V8=0,0,(V8*((LOG(V8))/LOG(2))))","v":0},null,{"$f":"N8","v":112},{"$f":"COUNTIF(L36:L65,Y8)","v":0},{"$f":"Z8/(AB4-Z9)","v":0},{"$f":"IF(AA8=0,0,(AA8*((LOG(AA8))/LOG(2))))","v":0},null,{"$f":"N8","v":112},{"$f":"COUNTIF(L66:L94,AD8)","v":1},{"$f":"AE8/(AG4-AE9)","v":3.5714285714285712E-2},{"$f":"IF(AF8=0,0,(AF8*((LOG(AF8))/LOG(2))))","v":-0.17169124721634299},null,{"$f":"N8","v":112},{"$f":"COUNTIF(L95:L123,AI8)","v":0},{"$f":"AJ8/(AL4-AJ9)","v":0},{"$f":"IF(AK8=0,0,(AK8*((LOG(AK8))/LOG(2))))","v":0},null,{"$f":"N8","v":112},{"$f":"COUNTIF(L124:L153,AN8)","v":1},{"$f":"AO8/(AQ4-AO9)","v":3.4482758620689655E-2},{"$f":"IF(AP8=0,0,(AP8*((LOG(AP8))/LOG(2))))","v":-0.16751658603888178},null,{"$f":"N8","v":112},{"$f":"COUNTIF(L154:L182,AS8)","v":0},{"$f":"AT8/(AV4-AT9)","v":0},{"$f":"IF(AU8=0,0,(AU8*((LOG(AU8))/LOG(2))))","v":0}]
[11,247,12,254,13,261,null,null,null,null,0,111,null,121,{"$f":"COUNTIF($L$7:$L$500,N9)","v":4},{"$f":"O9/$Q$4","v":2.2727272727272728E-2},{"$f":"IF(P9=0,0,(P9*((LOG(P9))/LOG(2))))","v":-0.12407799133266585},null,null,{"$f":"N9","v":121},{"$f":"COUNTIF(L7:L35,T9)","v":1},null,null,null,{"$f":"N9","v":121},{"$f":"COUNTIF(L36:L65,Y9)","v":0},null,null,null,{"$f":"N9","v":121},{"$f":"COUNTIF(L66:L94,AD9)","v":1},null,null,null,{"$f":"N9","v":121},{"$f":"COUNTIF(L95:L123,AI9)","v":0},null,null,null,{"$f":"N9","v":121},{"$f":"COUNTIF(L124:L153,AN9)","v":1},null,null,null,{"$f":"N9","v":121},{"$f":"COUNTIF(L154:L182,AS9)","v":1}]
[22,365,14,378,13,395,null,null,null,null,0,211,null,122,{"$f":"COUNTIF($L$7:$L$500,N10)","v":22},{"$f":"O10/$Q$4","v":0.125},{"$f":"IF(P10=0,0,(P10*((LOG(P10))/LOG(2))))","v":-0.375},null,null,{"$f":"N10","v":122},{"$f":"COUNTIF(L7:L35,T10)","v":2},{"$f":"U10/(W4-U9)","v":7.1428571428571425E-2},{"$f":"IF(V10=0,0,(V10*((LOG(V10))/LOG(2))))","v":-0.27195392300411453},null,{"$f":"N10","v":122},{"$f":"COUNTIF(L36:L65,Y10)","v":7},{"$f":"Z10/(AB4-Z9)","v":0.23333333333333334},{"$f":"IF(AA10=0,0,(AA10*((LOG(AA10))/LOG(2))))","v":-0.48989165716187993},null,{"$f":"N10","v":122},{"$f":"COUNTIF(L66:L94,AD10)","v":3},{"$f":"AE10/(AG4-AE9)","v":0.10714285714285714},{"$f":"IF(AF10=0,0,(AF10*((LOG(AF10))/LOG(2))))","v":-0.34525633085747659},null,{"$f":"N10","v":122},{"$f":"COUNTIF(L95:L123,AI10)","v":4},{"$f":"AJ10/(AL4-AJ9)","v":0.13793103448275862},{"$f":"IF(AK10=0,0,(AK10*((LOG(AK10))/LOG(2))))","v":-0.39420427519000989},null,{"$f":"N10","v":122},{"$f":"COUNTIF(L124:L153,AN10)","v":2},{"$f":"AO10/(AQ4-AO9)","v":6.8965517241379309E-2},{"$f":"IF(AP10=0,0,(AP10*((LOG(AP10))/LOG(2))))","v":-0.26606765483638428},null,{"$f":"N10","v":122},{"$f":"COUNTIF(L154:L182,AS10)","v":4},{"$f":"AT10/(AV4-AT9)","v":0.14285714285714285},{"$f":"IF(AU10=0,0,(AU10*((LOG(AU10))/LOG(2))))","v":-0.40105070315108626}]
[22,503,23,512,24,519,null,null,null,null,0,222,null,211,{"$f":"COUNTIF($L$7:$L$500,N11)","v":55},{"$f":"O11/$Q$4","v":0.3125},{"$f":"IF(P11=0,0,(P11*((LOG(P11))/LOG(2))))","v":-0.52439747034769923},null,null,{"$f":"N11","v":211},{"$f":"COUNTIF(L7:L35,T11)","v":12},{"$f":"U11/(W4-U9)","v":0.42857142857142855},{"$f":"IF(V11=0,0,(V11*((LOG(V11))/LOG(2))))","v":-0.52388246628704915},null,{"$f":"N11","v":211},{"$f":"COUNTIF(L36:L65,Y11)","v":9},{"$f":"Z11/(AB4-Z9)","v":0.3},{"$f":"IF(AA11=0,0,(AA11*((LOG(AA11))/LOG(2))))","v":-0.52108967824986185},null,{"$f":"N11","v":211},{"$f":"COUNTIF(L66:L94,AD11)","v":9},{"$f":"AE11/(AG4-AE9)","v":0.32142857142857145},{"$f":"IF(AF11=0,0,(AF11*((LOG(AF11))/LOG(2))))","v":-0.5263167601977724},null,{"$f":"N11","v":211},{"$f":"COUNTIF(L95:L123,AI11)","v":6},{"$f":"AJ11/(AL4-AJ9)","v":0.20689655172413793},{"$f":"IF(AK11=0,0,(AK11*((LOG(AK11))/LOG(2))))","v":-0.4702796884978791},null,{"$f":"N11","v":211},{"$f":"COUNTIF(L124:L153,AN11)","v":12},{"$f":"AO11/(AQ4-AO9)","v":0.41379310344827586},{"$f":"IF(AP11=0,0,(AP11*((LOG(AP11))/LOG(2))))","v":-0.5267662735474824},null,{"$f":"N11","v":211},{"$f":"COUNTIF(L154:L182,AS11)","v":7},{"$f":"AT11/(AV4-AT9)","v":0.25},{"$f":"IF(AU11=0,0,(AU11*((LOG(AU11))/LOG(2))))","v":-0.5}]
[22,613,14,628,13,639,null,null,null,null,0,211,null,212,{"$f":"COUNTIF($L$7:$L$500,N12)","v":18},{"$f":"O12/$Q$4","v":0.10227272727272728},{"$f":"IF(P12=0,0,(P12*((LOG(P12))/LOG(2))))","v":-0.33642681312221434},null,null,{"$f":"N12","v":212},{"$f":"COUNTIF(L7:L35,T12)","v":4},{"$f":"U12/(W4-U9)","v":0.14285714285714285},{"$f":"IF(V12=0,0,(V12*((LOG(V12))/LOG(2))))","v":-0.40105070315108626},null,{"$f":"N12","v":212},{"$f":"COUNTIF(L36:L65,Y12)","v":2},{"$f":"Z12/(AB4-Z9)","v":6.6666666666666666E-2},{"$f":"IF(AA12=0,0,(AA12*((LOG(AA12))/LOG(2))))","v":-0.26045937304056793},null,{"$f":"N12","v":212},{"$f":"COUNTIF(L66:L94,AD12)","v":2},{"$f":"AE12/(AG4-AE9)","v":7.1428571428571425E-2},{"$f":"IF(AF12=0,0,(AF12*((LOG(AF12))/LOG(2))))","v":-0.27195392300411453},null,{"$f":"N12","v":212},{"$f":"COUNTIF(L95:L123,AI12)","v":5},{"$f":"AJ12/(AL4-AJ9)","v":0.17241379310344829},{"$f":"IF(AK12=0,0,(AK12*((LOG(AK12))/LOG(2))))","v":-0.43725050004141547},null,{"$f":"N12","v":212},{"$f":"COUNTIF(L124:L153,AN12)","v":1},{"$f":"AO12/(AQ4-AO9)","v":3.4482758620689655E-2},{"$f":"IF(AP12=0,0,(AP12*((LOG(AP12))/LOG(2))))","v":-0.16751658603888178},null,{"$f":"N12","v":212},{"$f":"COUNTIF(L154:L182,AS12)","v":4},{"$f":"AT12/(AV4-AT9)","v":0.14285714285714285},{"$f":"IF(AU12=0,0,(AU12*((LOG(AU12))/LOG(2))))","v":-0.40105070315108626}]
[11,742,12,748,13,756,null,null,null,null,0,111,null,221,{"$f":"COUNTIF($L$7:$L$500,N13)","v":17},{"$f":"O13/$Q$4","v":9.6590909090909088E-2},{"$f":"IF(P13=0,0,(P13*((LOG(P13))/LOG(2))))","v":-0.32570152963396748},null,null,{"$f":"N13","v":221},{"$f":"COUNTIF(L7:L35,T13)","v":1},{"$f":"U13/(W4-U9)","v":3.5714285714285712E-2},{"$f":"IF(V13=0,0,(V13*((LOG(V13))/LOG(2))))","v":-0.17169124721634299},null,{"$f":"N13","v":221},{"$f":"COUNTIF(L36:L65,Y13)","v":4},{"$f":"Z13/(AB4-Z9)","v":0.13333333333333333},{"$f":"IF(AA13=0,0,(AA13*((LOG(AA13))/LOG(2))))","v":-0.3875854127478025},null,{"$f":"N13","v":221},{"$f":"COUNTIF(L66:L94,AD13)","v":5},{"$f":"AE13/(AG4-AE9)","v":0.17857142857142858},{"$f":"IF(AF13=0,0,(AF13*((LOG(AF13))/LOG(2))))","v":-0.44382621913754317},null,{"$f":"N13","v":221},{"$f":"COUNTIF(L95:L123,AI13)","v":3},{"$f":"AJ13/(AL4-AJ9)","v":0.10344827586206896},{"$f":"IF(AK13=0,0,(AK13*((LOG(AK13))/LOG(2))))","v":-0.33858812011100858},null,{"$f":"N13","v":221},{"$f":"COUNTIF(L124:L153,AN13)","v":3},{"$f":"AO13/(AQ4-AO9)","v":0.10344827586206896},{"$f":"IF(AP13=0,0,(AP13*((LOG(AP13))/LOG(2))))","v":-0.33858812011100858},null,{"$f":"N13","v":221},{"$f":"COUNTIF(L154:L182,AS13)","v":1},{"$f":"AT13/(AV4-AT9)","v":3.5714285714285712E-2},{"$f":"IF(AU13=0,0,(AU13*((LOG(AU13))/LOG(2))))","v":-0.17169124721634299}]
[22,856,14,870,24,879,null,null,null,null,0,212,null,222,{"$f":"COUNTIF($L$7:$L$500,N14)","v":32},{"$f":"O14/$Q$4","v":0.18181818181818182},{"$f":"IF(P14=0,0,(P14*((LOG(P14))/LOG(2))))","v":-0.44716938520678134},null,null,{"$f":"N14","v":222},{"$f":"COUNTIF(L7:L35,T14)","v":5},{"$f":"U14/(W4-U9)","v":0.17857142857142858},{"$f":"IF(V14=0,0,(V14*((LOG(V14))/LOG(2))))","v":-0.44382621913754317},null,{"$f":"N14","v":222},{"$f":"COUNTIF(L36:L65,Y14)","v":6},{"$f":"Z14/(AB4-Z9)","v":0.2},{"$f":"IF(AA14=0,0,(AA14*((LOG(AA14))/LOG(2))))","v":-0.46438561897747244},null,{"$f":"N14","v":222},{"$f":"COUNTIF(L66:L94,AD14)","v":7},{"$f":"AE14/(AG4-AE9)","v":0.25},{"$f":"IF(AF14=0,0,(AF14*((LOG(AF14))/LOG(2))))","v":-0.5},null,{"$f":"N14","v":222},{"$f":"COUNTIF(L95:L123,AI14)","v":9},{"$f":"AJ14/(AL4-AJ9)","v":0.31034482758620691},{"$f":"IF(AK14=0,0,(AK14*((LOG(AK14))/LOG(2))))","v":-0.52387944631611505},null,{"$f":"N14","v":222},{"$f":"COUNTIF(L124:L153,AN14)","v":2},{"$f":"AO14/(AQ4-AO9)","v":6.8965517241379309E-2},{"$f":"IF(AP14=0,0,(AP14*((LOG(AP14))/LOG(2))))","v":-0.26606765483638428},null,{"$f":"N14","v":222},{"$f":"COUNTIF(L154:L182,AS14)","v":3},{"$f":"AT14/(AV4-AT9)","v":0.10714285714285714},{"$f":"IF(AU14=0,0,(AU14*((LOG(AU14))/LOG(2))))","v":-0.34525633085747659}]
[22,982,14,993,13,999,null,null,null,null,0,211,null,null,null,{"$f":"SUM(P7:P14)","v":1},{"$f":"-SUM(Q7:Q14)","v":2.6137541706102367},null,null,null,null,{"$f":"SUM(V7:V14)","v":0.99999999999999989},{"$f":"-SUM(W7:W14)","v":2.2134552619472223},null,null,null,{"$f":"SUM(AA7:AA14)","v":1},{"$f":"-SUM(AB7:AB14)","v":2.3838711132181527},null,null,null,{"$f":"SUM(AF7:AF14)","v":1},{"$f":"-SUM(AG7:AG14)","v":2.4307357276295924},null,null,null,{"$f":"SUM(AK7:AK14)","v":1},{"$f":"-SUM(AL7:AL14)","v":2.4302696849928123},null,null,null,{"$f":"SUM(AP7:AP14)","v":1},{"$f":"-SUM(AQ7:AQ14)","v":2.2450693568235258},null,null,null,{"$f":"SUM(AU7:AU14)","v":1},{"$f":"-SUM(AV7:AV14)","v":2.3453657445737646}]
[22,1114,14,1125,13,1131,null,null,null,null,0,211,null,null,null,"U=",{"$f":"Q15/(LOG(Q4)/LOG(2))","v":0.35039588861969112},null,null,null,null,"U1=",{"$f":"W15/(LOG(W4)/LOG(2))","v":0.45563275446471696},null,null,null,"U2=",{"$f":"AB15/(LOG(AB4)/LOG(2))","v":0.48582112577599085},null,null,null,"U3=",{"$f":"AG15/(LOG(AG4)/LOG(2))","v":0.50035925008096094},null,null,null,"U4=",{"$f":"AL15/(LOG(AL4)/LOG(2))","v":0.50026331668038826},null,null,null,"U5=",{"$f":"AQ15/(LOG(AQ4)/LOG(2))","v":0.45753401529530285},null,null,null,"U6=",{"$f":"AV15/(LOG(AV4)/LOG(2))","v":0.48278610948171785}]
[11,1234,21,1241,11,1256,null,null,null,null,0,121]
[22,1525,14,1537,13,1546,null,null,null,null,0,211]
[22,1674,14,1692,13,1700,null,null,null,null,0,211,null,"Total Target Seq"]
[22,1805,14,1816,13,1824,null,null,null,null,0,211,null,{"$f":"COUNTIF(L7:L182,G3)","v":4},null,29,30,29,29,30,29]
[11,1926,12,1939,13,1947,null,null,null,null,0,111,null,null,null,"% of reinforcement given in 6 equal intervals based on number of trials "]
[22,2039,23,2040,13,2058,null,null,null,null,0,221,null,null,null,"%_1","%_2","%_3","%_4","%_5","%_6"]
[22,2280,14,2294,13,2300,null,null,null,null,0,211,null,null,"target sequence",{"$f":"$G$3","v":121},{"$f":"$G$3","v":121},{"$f":"$G$3","v":121},{"$f":"$G$3","v":121},{"$f":"$G$3","v":121},{"$f":"$G$3","v":121}]
[22,2394,14,2407,24,2417,null,null,null,null,0,212,null,null,"total reinforcement",{"$f":"U9","v":1},{"$f":"Z9","v":0},{"$f":"AE9","v":1},{"$f":"AJ9","v":0},{"$f":"AO9","v":1},{"$f":"AT9","v":1}]
[22,2520,23,2522,24,2524,null,null,null,null,0,222,null,null,"% target"]
[22,2620,14,2633,13,2642,null,null,null,null,0,211,null,null,"CCRF"]
[11,2741,21,2750,22,2755,null,null,null,null,0,122,null,null,"% CCRf"]
[22,2953,14,2965,24,2975,null,null,null,null,0,212,null,null,"average response rate",{"$f":"F35/P20","v":137},{"$f":"(F65-F35)/Q20","v":132.46666666666667},{"$f":"(F94-F65)/R20","v":132.13793103448276},{"$f":"(F123-F94)/S20","v":137.37931034482759},{"$f":"(F153-F123)/T20","v":135.5},{"$f":"(F182-F153)/U20","v":137.82758620689654}]
[22,3079,14,3092,13,3105,null,null,null,null,0,211]
[22,3212,23,3230,24,3236,null,null,null,null,0,222]
[22,3479,14,3494,24,3504,null,null,null,null,0,212]
[22,3600,23,3605,24,3611,null,null,null,null,0,222]
[11,3713,21,3721,22,3727,null,null,null,null,0,122]
[11,3837,12,3845,13,3854,null,null,null,null,0,111]
[22,3954,23,3962,24,3973,null,null,null,null,0,222]
[11,4089,12,4095,13,4103,null,null,null,null,0,111]
[11,4200,21,4210,22,4216,null,null,null,null,0,122]
[22,4315,23,4320,24,4327,null,null,null,null,0,222]
[22,4423,23,4431,24,4438,null,null,null,null,0,222]
[22,4539,23,4549,24,4556,null,null,null,null,0,222]
[22,4664,14,4680,24,4690,null,null,null,null,0,212]
[22,4794,14,4808,24,4817,null,null,null,null,0,212]
[22,4916,23,4924,13,4941,null,null,null,null,0,221]
[11,5222,21,5231,22,5237,null,null,null,null,0,122]
[22,5342,23,5347,24,5352,null,null,null,null,0,222]
[22,5452,14,5466,13,5479,null,null,null,null,0,211]
[22,5649,14,5659,13,5667,null,null,null,null,0,211]
[11,5765,21,5773,22,5779,null,null,null,null,0,122]
[11,5883,21,5903,22,5914,null,null,null,null,0,122]
[11,6019,21,6028,22,6034,null,null,null,null,0,122]
[22,6137,14,6152,13,6162,null,null,null,null,0,211]
[22,6264,14,6278,13,6292,null,null,null,null,0,211]
[22,6415,23,6422,24,6428,null,null,null,null,0,222]
[22,6527,14,6553,13,6563,null,null,null,null,0,211]
[11,6664,21,6672,22,6677,null,null,null,null,0,122]
[22,6785,14,6797,13,6805,null,null,null,null,0,211]
[11,6910,21,6919,22,6925,null,null,null,null,0,122]
[22,7026,14,7043,13,7047,null,null,null,null,0,211]
[22,7157,14,7172,13,7181,null,null,null,null,0,211]
[22,7281,23,7285,13,7307,null,null,null,null,0,221]
[11,7443,12,7449,13,7457,null,null,null,null,0,111]
[22,7569,23,7576,24,7583,null,null,null,null,0,222]
[22,7681,23,7684,13,7705,null,null,null,null,0,221]
[22,7800,14,7814,13,7820,null,null,null,null,0,211]
[22,7918,23,7925,13,7947,null,null,null,null,0,221]
[22,8051,14,8068,13,8076,null,null,null,null,0,211]
[11,8189,21,8195,11,8212,null,null,null,null,0,121]
[22,8483,23,8487,24,8493,null,null,null,null,0,222]
[22,8586,14,8603,13,8610,null,null,null,null,0,211]
[22,8709,23,8715,24,8721,null,null,null,null,0,222]
[22,8820,23,8830,13,8847,null,null,null,null,0,221]
[11,8950,21,8961,22,8968,null,null,null,null,0,122]
[22,9060,23,9067,13,9082,null,null,null,null,0,221]
[22,9189,14,9206,13,9212,null,null,null,null,0,211]
[22,9312,23,9317,24,9324,null,null,null,null,0,222]
[11,9429,12,9434,13,9440,null,null,null,null,0,111]
[11,9535,12,9541,24,9553,null,null,null,null,0,112]
[22,9705,23,9712,24,9745,null,null,null,null,0,222]
[11,9843,21,9852,22,9860,null,null,null,null,0,122]
[11,9957,21,9965,22,9970,null,null,null,null,0,122]
[22,10064,14,10081,13,10089,null,null,null,null,0,211]
[22,10200,23,10208,24,10214,null,null,null,null,0,222]
[22,10310,14,10319,13,10324,null,null,null,null,0,211]
[22,10423,14,10434,13,10439,null,null,null,null,0,211]
[22,10538,14,10558,24,10569,null,null,null,null,0,212]
[22,10668,23,10674,24,10698,null,null,null,null,0,222]
[22,10794,23,10804,13,10819,null,null,null,null,0,221]
[22,10988,14,11001,24,11009,null,null,null,null,0,212]
[22,11109,14,11126,13,11135,null,null,null,null,0,211]
[22,11245,23,11249,13,11261,null,null,null,null,0,221]
[22,11366,14,11381,13,11389,null,null,null,null,0,211]
[22,11493,23,11528,24,11531,null,null,null,null,0,222]
[22,11626,23,11631,13,11645,null,null,null,null,0,221]
[22,11754,14,11772,13,11779,null,null,null,null,0,211]
[22,11881,14,11895,13,11902,null,null,null,null,0,211]
[22,12011,23,12019,13,12040,null,null,null,null,0,221]
[11,12150,21,12157,22,12162,null,null,null,null,0,122]
[22,12267,14,12283,13,12296,null,null,null,null,0,211]
[22,12410,14,12422,13,12436,null,null,null,null,0,211]
[22,12551,23,12554,24,12563,null,null,null,null,0,222]
[22,12664,14,12679,13,12687,null,null,null,null,0,211]
[22,12810,14,12836,24,12859,null,null,null,null,0,212]
[22,12979,14,12987,13,12993,null,null,null,null,0,211]
[22,13088,14,13101,24,13111,null,null,null,null,0,212]
[22,13214,14,13230,24,13240,null,null,null,null,0,212]
[22,13343,23,13353,24,13359,null,null,null,null,0,222]
[22,13465,23,13471,24,13478,null,null,null,null,0,222]
[22,13603,23,13608,24,13615,null,null,null,null,0,222]
[22,13714,14,13728,13,13735,null,null,null,null,0,211]
[22,13839,23,13846,24,13852,null,null,null,null,0,222]
[22,13958,23,13963,24,13969,null,null,null,null,0,222]
[22,14069,14,14081,24,14093,null,null,null,null,0,212]
[22,14195,14,14207,24,14218,null,null,null,null,0,212]
[11,14397,21,14416,22,14424,null,null,null,null,0,122]
[22,14545,23,14550,13,14563,null,null,null,null,0,221]
[22,14655,23,14662,13,14675,null,null,null,null,0,221]
[22,14778,23,14783,24,14790,null,null,null,null,0,222]
[22,14897,23,14924,24,14932,null,null,null,null,0,222]
[11,15029,12,15041,13,15049,null,null,null,null,0,111]
[11,15368,21,15378,22,15389,null,null,null,null,0,122]
[11,15493,21,15502,22,15508,null,null,null,null,0,122]
[11,15608,12,15614,13,15623,null,null,null,null,0,111]
[22,15731,23,15738,24,15763,null,null,null,null,0,222]
[22,15858,23,15861,13,15876,null,null,null,null,0,221]
[11,15999,12,16006,13,16023,null,null,null,null,0,111]
[22,16119,23,16123,24,16145,null,null,null,null,0,222]
[22,16244,14,16257,13,16264,null,null,null,null,0,211]
[22,16370,14,16382,13,16398,null,null,null,null,0,211]
[22,16490,14,16498,13,16507,null,null,null,null,0,211]
[22,16606,14,16620,13,16627,null,null,null,null,0,211]
[22,16749,14,16761,13,16767,null,null,null,null,0,211]
[22,16868,14,16883,13,16891,null,null,null,null,0,211]
[11,16997,12,17005,13,17012,null,null,null,null,0,111]
[11,17117,12,17123,13,17131,null,null,null,null,0,111]
[11,17236,12,17244,13,17251,null,null,null,null,0,111]
[22,17362,14,17374,13,17383,null,null,null,null,0,211]
[22,17498,14,17512,13,17523,null,null,null,null,0,211]
[22,17625,14,17637,13,17645,null,null,null,null,0,211]
[11,17752,12,17759,13,17766,null,null,null,null,0,111]
[22,17878,14,17891,24,17917,null,null,null,null,0,212]
[11,18025,21,18034,22,18042,null,null,null,null,0,122]
[22,18145,14,18158,13,18166,null,null,null,null,0,211]
[22,18263,23,18268,13,18286,null,null,null,null,0,221]
[22,18440,23,18444,24,18451,null,null,null,null,0,222]
[22,18554,23,18562,13,18582,null,null,null,null,0,221]
[11,18688,21,18697,11,18715,null,null,null,null,0,121]
[11,18937,12,18963,24,18975,null,null,null,null,0,112]
[22,19077,14,19091,13,19099,null,null,null,null,0,211]
[11,19201,21,19208,22,19230,null,null,null,null,0,122]
[22,19335,14,19351,13,19358,null,null,null,null,0,211]
[11,19469,12,19475,13,19483,null,null,null,null,0,111]
[11,19684,12,19691,13,19698,null,null,null,null,0,111]
[11,19811,12,19819,13,19828,null,null,null,null,0,111]
[22,19929,14,19944,13,19950,null,null,null,null,0,211]
[22,20060,14,20076,13,20090,null,null,null,null,0,211]
[11,20191,21,20202,11,20222,null,null,null,null,0,121]
[22,20474,14,20491,13,20505,null,null,null,null,0,211]
[22,20603,14,20618,24,20629,null,null,null,null,0,212]
[22,20731,14,20749,13,20762,null,null,null,null,0,211]
[22,20876,14,20897,24,20912,null,null,null,null,0,212]
[11,21027,12,21033,13,21042,null,null,null,null,0,111]
[11,21148,21,21157,22,21164,null,null,null,null,0,122]
[11,21271,12,21276,13,21281,null,null,null,null,0,111]
[11,21386,12,21408,13,21415,null,null,null,null,0,111]
[11,21519,12,21542,13,21552,null,null,null,null,0,111]
[22,21646,23,21651,24,21662,null,null,null,null,0,222]
[11,21914,12,21925,13,21934,null,null,null,null,0,111]
[11,22035,21,22043,22,22049,null,null,null,null,0,122]
[22,22154,23,22161,24,22167,null,null,null,null,0,222]
[11,22275,12,22284,13,22291,null,null,null,null,0,111]
[11,22403,12,22412,13,22421,null,null,null,null,0,111]
[11,22534,12,22545,13,22551,null,null,null,null,0,111]
[22,22659,14,22675,24,22686,null,null,null,null,0,212]
[11,22794,12,22798,13,22806,null,null,null,null,0,111]
[22,22906,14,22924,24,22937,null,null,null,null,0,212]
[11,23040,21,23052,22,23059,null,null,null,null,0,122]
[22,23154,14,23168,13,23174,null,null,null,null,0,211]
[22,23281,14,23296,13,23306,null,null,null,null,0,211]
[22,23399,14,23433,13,23447,null,null,null,null,0,211]
[22,23553,23,23569,24,23576,null,null,null,null,0,222]
[11,23676,21,23687,22,23694,null,null,null,null,0,122]
[22,23805,23,23807,13,23825,null,null,null,null,0,221]

{"sheet":"!M225A2D.UST","index":9,"n_rows":177,"n_cols":48,"rows_kept":177,"cut":false,"hidden":false,"merged":[[4,39,4,42],[5,39,5,40],[4,44,4,47],[5,44,5,45],[4,24,4,27],[5,24,5,25],[4,29,4,32],[5,29,5,30],[4,34,4,37],[5,34,5,35],[1,1,1,2],[5,13,5,14],[18,13,18,14],[19,13,19,14],[4,19,4,22],[5,19,5,20]]}
["Report for:!M225A2D.UST"]
["Date:","<date>"]
["Hen:","<hen>",null,null,null,"Correct Sequence",{"$f":"Start!J2","v":121},null,null,null,null,null,null,null,null,"Total Sequences in Data",{"$f":"4994-COUNTBLANK(L7:L5000)","v":171},null,null,null,null,"Total Sequences in Block Data",{"$f":"COUNTA(L7:L35)","v":29},null,null,null,"Total Sequences in Block Data",{"$f":"COUNTA(L36:L63)","v":28},null,null,null,"Total Sequences in Block Data",{"$f":"COUNTA(L64:L92)","v":29},null,null,null,"Total Sequences in Block Data",{"$f":"COUNTA(L93:L120)","v":28},null,null,null,"Total Sequences in Block Data",{"$f":"COUNTA(L121:L149)","v":29},null,null,null,"Total Sequences in Block Data",{"$f":"COUNTA(L150:L177)","v":28}]
[null,null,null,null,null,null,null,null,null,null,null,null,null,null,null,"Total Sequences in Summary",{"$f":"SUM(O7:O14)","v":171},null,null,null,null,"Total Sequences in Block Summary",{"$f":"SUM(U7:U14)","v":29},null,null,null,"Total Sequences in Block Summary",{"$f":"SUM(Z7:Z14)","v":28},null,null,null,"Total Sequences in Block Summary",{"$f":"SUM(AE7:AE14)","v":29},null,null,null,"Total Sequences in Block Summary",{"$f":"SUM(AJ7:AJ14)","v":28},null,null,null,"Total Sequences in Block Summary",{"$f":"SUM(AO7:AO14)","v":29},null,null,null,"Total Sequences in Block Summary",{"$f":"SUM(AT7:AT14)","v":28}]
[null,null,null,null,null,null,null,null,null,null,null,null,null,null,null,null,null,null,null,"Block 1",null,null,null,null,"Block 2",null,null,null,null,"Block 3",null,null,null,null,"Block 4",null,null,null,null,"Block 5",null,null,null,null,"Block 6"]
["Sequence\nComponent\n1","Time\n1","Sequence\nComponent\n2","Time\n2","Sequence\nComponent\n3","Time\n3","Sequence\nComponent\n4","Time\n4","Sequence\nComponent\n5","Time\n5","Correct?\n0=No 1=Yes","Sequence",null,"Frequency",null,"Relative Frequency","Variability",null,null,"Frequency",null,"Relative Frequency","Variability",null,"Frequency",null,"Relative Frequency","Variability",null,"Frequency",null,"Relative Frequency","Variability",null,"Frequency",null,"Relative Frequency","Variability",null,"Frequency",null,"Relative Frequency","Variability",null,"Frequency",null,"Relative Frequency","Variability"]
[11,32,12,39,24,48,null,null,null,null,0,112,null,111,{"$f":"COUNTIF($L$7:$L$500,N7)","v":22},{"$f":"O7/$Q$4","v":0.12865497076023391},{"$f":"IF(P7=0,0,(P7*((LOG(P7))/LOG(2))))","v":-0.38061555390332874},null,null,{"$f":"N7","v":111},{"$f":"COUNTIF(L7:L35,T7)","v":3},{"$f":"U7/(W4-U9)","v":0.10344827586206896},{"$f":"IF(V7=0,0,(V7*((LOG(V7))/LOG(2))))","v":-0.33858812011100858},null,{"$f":"N7","v":111},{"$f":"COUNTIF(L36:L63,Y7)","v":3},{"$f":"Z7/(AB4-Z9)","v":0.125},{"$f":"IF(AA7=0,0,(AA7*((LOG(AA7))/LOG(2))))","v":-0.375},null,{"$f":"N7","v":111},{"$f":"COUNTIF(L64:L92,AD7)","v":8},{"$f":"AE7/(AG4-AE9)","v":0.30769230769230771},{"$f":"IF(AF7=0,0,(AF7*((LOG(AF7))/LOG(2))))","v":-0.52321222096648989},null,{"$f":"N7","v":111},{"$f":"COUNTIF(L93:L120,AI7)","v":3},{"$f":"AJ7/(AL4-AJ9)","v":0.11538461538461539},{"$f":"IF(AK7=0,0,(AK7*((LOG(AK7))/LOG(2))))","v":-0.35947814047153104},null,{"$f":"N7","v":111},{"$f":"COUNTIF(L121:L149,AN7)","v":1},{"$f":"AO7/(AQ4-AO9)","v":3.7037037037037035E-2},{"$f":"IF(AP7=0,0,(AP7*((LOG(AP7))/LOG(2))))","v":-0.1761069445245729},null,{"$f":"N7","v":111},{"$f":"COUNTIF(L150:L177,AS7)","v":4},{"$f":"AT7/(AV4-AT9)","v":0.14814814814814814},{"$f":"IF(AU7=0,0,(AU7*((LOG(AU7))/LOG(2))))","v":-0.40813148180199532}]
[11,147,21,155,22,161,null,null,null,null,0,122,null,112,{"$f":"COUNTIF($L$7:$L$500,N8)","v":4},{"$f":"O8/$Q$4","v":2.3391812865497075E-2},{"$f":"IF(P8=0,0,(P8*((LOG(P8))/LOG(2))))","v":-0.12673339216107363},null,null,{"$f":"N8","v":112},{"$f":"COUNTIF(L7:L35,T8)","v":2},{"$f":"U8/(W4-U9)","v":6.8965517241379309E-2},{"$f":"IF(V8=0,0,(V8*((LOG(V8))/LOG(2))))","v":-0.26606765483638428},null,{"$f":"N8","v":112},{"$f":"COUNTIF(L36:L63,Y8)","v":0},{"$f":"Z8/(AB4-Z9)","v":0},{"$f":"IF(AA8=0,0,(AA8*((LOG(AA8))/LOG(2))))","v":0},null,{"$f":"N8","v":112},{"$f":"COUNTIF(L64:L92,AD8)","v":0},{"$f":"AE8/(AG4-AE9)","v":0},{"$f":"IF(AF8=0,0,(AF8*((LOG(AF8))/LOG(2))))","v":0},null,{"$f":"N8","v":112},{"$f":"COUNTIF(L93:L120,AI8)","v":0},{"$f":"AJ8/(AL4-AJ9)","v":0},{"$f":"IF(AK8=0,0,(AK8*((LOG(AK8))/LOG(2))))","v":0},null,{"$f":"N8","v":112},{"$f":"COUNTIF(L121:L149,AN8)","v":1},{"$f":"AO8/(AQ4-AO9)","v":3.7037037037037035E-2},{"$f":"IF(AP8=0,0,(AP8*((LOG(AP8))/LOG(2))))","v":-0.1761069445245729},null,{"$f":"N8","v":112},{"$f":"COUNTIF(L150:L177,AS8)","v":1},{"$f":"AT8/(AV4-AT9)","v":3.7037037037037035E-2},{"$f":"IF(AU8=0,0,(AU8*((LOG(AU8))/LOG(2))))","v":-0.1761069445245729}]
[11,260,12,266,13,273,null,null,null,null,0,111,null,121,{"$f":"COUNTIF($L$7:$L$500,N9)","v":12},{"$f":"O9/$Q$4","v":7.0175438596491224E-2},{"$f":"IF(P9=0,0,(P9*((LOG(P9))/LOG(2))))","v":-0.26897473783612219},null,null,{"$f":"N9","v":121},{"$f":"COUNTIF(L7:L35,T9)","v":0},null,null,null,{"$f":"N9","v":121},{"$f":"COUNTIF(L36:L63,Y9)","v":4},null,null,null,{"$f":"N9","v":121},{"$f":"COUNTIF(L64:L92,AD9)","v":3},null,null,null,{"$f":"N9","v":121},{"$f":"COUNTIF(L93:L120,AI9)","v":2},null,null,null,{"$f":"N9","v":121},{"$f":"COUNTIF(L121:L149,AN9)","v":2},null,null,null,{"$f":"N9","v":121},{"$f":"COUNTIF(L150:L177,AS9)","v":1}]
[22,375,23,381,24,387,null,null,null,null,0,222,null,122,{"$f":"COUNTIF($L$7:$L$500,N10)","v":22},{"$f":"O10/$Q$4","v":0.12865497076023391},{"$f":"IF(P10=0,0,(P10*((LOG(P10))/LOG(2))))","v":-0.38061555390332874},null,null,{"$f":"N10","v":122},{"$f":"COUNTIF(L7:L35,T10)","v":5},{"$f":"U10/(W4-U9)","v":0.17241379310344829},{"$f":"IF(V10=0,0,(V10*((LOG(V10))/LOG(2))))","v":-0.43725050004141547},null,{"$f":"N10","v":122},{"$f":"COUNTIF(L36:L63,Y10)","v":5},{"$f":"Z10/(AB4-Z9)","v":0.20833333333333334},{"$f":"IF(AA10=0,0,(AA10*((LOG(AA10))/LOG(2))))","v":-0.47146550121537367},null,{"$f":"N10","v":122},{"$f":"COUNTIF(L64:L92,AD10)","v":2},{"$f":"AE10/(AG4-AE9)","v":7.6923076923076927E-2},{"$f":"IF(AF10=0,0,(AF10*((LOG(AF10))/LOG(2))))","v":-0.28464920908777636},null,{"$f":"N10","v":122},{"$f":"COUNTIF(L93:L120,AI10)","v":2},{"$f":"AJ10/(AL4-AJ9)","v":7.6923076923076927E-2},{"$f":"IF(AK10=0,0,(AK10*((LOG(AK10))/LOG(2))))","v":-0.28464920908777636},null,{"$f":"N10","v":122},{"$f":"COUNTIF(L121:L149,AN10)","v":2},{"$f":"AO10/(AQ4-AO9)","v":7.407407407407407E-2},{"$f":"IF(AP10=0,0,(AP10*((LOG(AP10))/LOG(2))))","v":-0.27813981497507173},null,{"$f":"N10","v":122},{"$f":"COUNTIF(L150:L177,AS10)","v":6},{"$f":"AT10/(AV4-AT9)","v":0.22222222222222221},{"$f":"IF(AU10=0,0,(AU10*((LOG(AU10))/LOG(2))))","v":-0.48220555587606945}]
[11,487,21,495,22,506,null,null,null,null,0,122,null,211,{"$f":"COUNTIF($L$7:$L$500,N11)","v":69},{"$f":"O11/$Q$4","v":0.40350877192982454},{"$f":"IF(P11=0,0,(P11*((LOG(P11))/LOG(2))))","v":-0.52832535678031167},null,null,{"$f":"N11","v":211},{"$f":"COUNTIF(L7:L35,T11)","v":12},{"$f":"U11/(W4-U9)","v":0.41379310344827586},{"$f":"IF(V11=0,0,(V11*((LOG(V11))/LOG(2))))","v":-0.5267662735474824},null,{"$f":"N11","v":211},{"$f":"COUNTIF(L36:L63,Y11)","v":10},{"$f":"Z11/(AB4-Z9)","v":0.41666666666666669},{"$f":"IF(AA11=0,0,(AA11*((LOG(AA11))/LOG(2))))","v":-0.52626433576408083},null,{"$f":"N11","v":211},{"$f":"COUNTIF(L64:L92,AD11)","v":10},{"$f":"AE11/(AG4-AE9)","v":0.38461538461538464},{"$f":"IF(AF11=0,0,(AF11*((LOG(AF11))/LOG(2))))","v":-0.53019677817451139},null,{"$f":"N11","v":211},{"$f":"COUNTIF(L93:L120,AI11)","v":16},{"$f":"AJ11/(AL4-AJ9)","v":0.61538461538461542},{"$f":"IF(AK11=0,0,(AK11*((LOG(AK11))/LOG(2))))","v":-0.43103982654836437},null,{"$f":"N11","v":211},{"$f":"COUNTIF(L121:L149,AN11)","v":15},{"$f":"AO11/(AQ4-AO9)","v":0.55555555555555558},{"$f":"IF(AP11=0,0,(AP11*((LOG(AP11))/LOG(2))))","v":-0.4711093925305278},null,{"$f":"N11","v":211},{"$f":"COUNTIF(L150:L177,AS11)","v":6},{"$f":"AT11/(AV4-AT9)","v":0.22222222222222221},{"$f":"IF(AU11=0,0,(AU11*((LOG(AU11))/LOG(2))))","v":-0.48220555587606945}]
[22,600,14,617,13,624,null,null,null,null,0,211,null,212,{"$f":"COUNTIF($L$7:$L$500,N12)","v":14},{"$f":"O12/$Q$4","v":8.1871345029239762E-2},{"$f":"IF(P12=0,0,(P12*((LOG(P12))/LOG(2))))","v":-0.29559629414968486},null,null,{"$f":"N12","v":212},{"$f":"COUNTIF(L7:L35,T12)","v":2},{"$f":"U12/(W4-U9)","v":6.8965517241379309E-2},{"$f":"IF(V12=0,0,(V12*((LOG(V12))/LOG(2))))","v":-0.26606765483638428},null,{"$f":"N12","v":212},{"$f":"COUNTIF(L36:L63,Y12)","v":1},{"$f":"Z12/(AB4-Z9)","v":4.1666666666666664E-2},{"$f":"IF(AA12=0,0,(AA12*((LOG(AA12))/LOG(2))))","v":-0.19104010419671485},null,{"$f":"N12","v":212},{"$f":"COUNTIF(L64:L92,AD12)","v":2},{"$f":"AE12/(AG4-AE9)","v":7.6923076923076927E-2},{"$f":"IF(AF12=0,0,(AF12*((LOG(AF12))/LOG(2))))","v":-0.28464920908777636},null,{"$f":"N12","v":212},{"$f":"COUNTIF(L93:L120,AI12)","v":2},{"$f":"AJ12/(AL4-AJ9)","v":7.6923076923076927E-2},{"$f":"IF(AK12=0,0,(AK12*((LOG(AK12))/LOG(2))))","v":-0.28464920908777636},null,{"$f":"N12","v":212},{"$f":"COUNTIF(L121:L149,AN12)","v":3},{"$f":"AO12/(AQ4-AO9)","v":0.1111111111111111},{"$f":"IF(AP12=0,0,(AP12*((LOG(AP12))/LOG(2))))","v":-0.3522138890491458},null,{"$f":"N12","v":212},{"$f":"COUNTIF(L150:L177,AS12)","v":4},{"$f":"AT12/(AV4-AT9)","v":0.14814814814814814},{"$f":"IF(AU12=0,0,(AU12*((LOG(AU12))/LOG(2))))","v":-0.40813148180199532}]
[11,731,12,737,13,743,null,null,null,null,0,111,null,221,{"$f":"COUNTIF($L$7:$L$500,N13)","v":16},{"$f":"O13/$Q$4","v":9.3567251461988299E-2},{"$f":"IF(P13=0,0,(P13*((LOG(P13))/LOG(2))))","v":-0.31979906572031791},null,null,{"$f":"N13","v":221},{"$f":"COUNTIF(L7:L35,T13)","v":2},{"$f":"U13/(W4-U9)","v":6.8965517241379309E-2},{"$f":"IF(V13=0,0,(V13*((LOG(V13))/LOG(2))))","v":-0.26606765483638428},null,{"$f":"N13","v":221},{"$f":"COUNTIF(L36:L63,Y13)","v":4},{"$f":"Z13/(AB4-Z9)","v":0.16666666666666666},{"$f":"IF(AA13=0,0,(AA13*((LOG(AA13))/LOG(2))))","v":-0.43082708345352599},null,{"$f":"N13","v":221},{"$f":"COUNTIF(L64:L92,AD13)","v":4},{"$f":"AE13/(AG4-AE9)","v":0.15384615384615385},{"$f":"IF(AF13=0,0,(AF13*((LOG(AF13))/LOG(2))))","v":-0.4154522643293988},null,{"$f":"N13","v":221},{"$f":"COUNTIF(L93:L120,AI13)","v":2},{"$f":"AJ13/(AL4-AJ9)","v":7.6923076923076927E-2},{"$f":"IF(AK13=0,0,(AK13*((LOG(AK13))/LOG(2))))","v":-0.28464920908777636},null,{"$f":"N13","v":221},{"$f":"COUNTIF(L121:L149,AN13)","v":4},{"$f":"AO13/(AQ4-AO9)","v":0.14814814814814814},{"$f":"IF(AP13=0,0,(AP13*((LOG(AP13))/LOG(2))))","v":-0.40813148180199532},null,{"$f":"N13","v":221},{"$f":"COUNTIF(L150:L177,AS13)","v":0},{"$f":"AT13/(AV4-AT9)","v":0},{"$f":"IF(AU13=0,0,(AU13*((LOG(AU13))/LOG(2))))","v":0}]
[22,844,14,858,24,867,null,null,null,null,0,212,null,222,{"$f":"COUNTIF($L$7:$L$500,N14)","v":12},{"$f":"O14/$Q$4","v":7.0175438596491224E-2},{"$f":"IF(P14=0,0,(P14*((LOG(P14))/LOG(2))))","v":-0.26897473783612219},null,null,{"$f":"N14","v":222},{"$f":"COUNTIF(L7:L35,T14)","v":3},{"$f":"U14/(W4-U9)","v":0.10344827586206896},{"$f":"IF(V14=0,0,(V14*((LOG(V14))/LOG(2))))","v":-0.33858812011100858},null,{"$f":"N14","v":222},{"$f":"COUNTIF(L36:L63,Y14)","v":1},{"$f":"Z14/(AB4-Z9)","v":4.1666666666666664E-2},{"$f":"IF(AA14=0,0,(AA14*((LOG(AA14))/LOG(2))))","v":-0.19104010419671485},null,{"$f":"N14","v":222},{"$f":"COUNTIF(L64:L92,AD14)","v":0},{"$f":"AE14/(AG4-AE9)","v":0},{"$f":"IF(AF14=0,0,(AF14*((LOG(AF14))/LOG(2))))","v":0},null,{"$f":"N14","v":222},{"$f":"COUNTIF(L93:L120,AI14)","v":1},{"$f":"AJ14/(AL4-AJ9)","v":3.8461538461538464E-2},{"$f":"IF(AK14=0,0,(AK14*((LOG(AK14))/LOG(2))))","v":-0.18078614300542661},null,{"$f":"N14","v":222},{"$f":"COUNTIF(L121:L149,AN14)","v":1},{"$f":"AO14/(AQ4-AO9)","v":3.7037037037037035E-2},{"$f":"IF(AP14=0,0,(AP14*((LOG(AP14))/LOG(2))))","v":-0.1761069445245729},null,{"$f":"N14","v":222},{"$f":"COUNTIF(L150:L177,AS14)","v":6},{"$f":"AT14/(AV4-AT9)","v":0.22222222222222221},{"$f":"IF(AU14=0,0,(AU14*((LOG(AU14))/LOG(2))))","v":-0.48220555587606945}]
[11,968,21,978,22,990,null,null,null,null,0,122,null,null,null,{"$f":"SUM(P7:P14)","v":0.99999999999999989},{"$f":"-SUM(Q7:Q14)","v":2.5696346922902897},null,null,null,null,{"$f":"SUM(V7:V14)","v":1},{"$f":"-SUM(W7:W14)","v":2.4393959783200678},null,null,null,{"$f":"SUM(AA7:AA14)","v":0.99999999999999989},{"$f":"-SUM(AB7:AB14)","v":2.1856371288264103},null,null,null,{"$f":"SUM(AF7:AF14)","v":1},{"$f":"-SUM(AG7:AG14)","v":2.0381596816459528},null,null,null,{"$f":"SUM(AK7:AK14)","v":0.99999999999999989},{"$f":"-SUM(AL7:AL14)","v":1.8252517372886512},null,null,null,{"$f":"SUM(AP7:AP14)","v":1},{"$f":"-SUM(AQ7:AQ14)","v":2.0379154119304594},null,null,null,{"$f":"SUM(AU7:AU14)","v":0.99999999999999989},{"$f":"-SUM(AV7:AV14)","v":2.4389865757567719}]
[22,1099,14,1115,13,1121,null,null,null,null,0,211,null,null,null,"U=",{"$f":"Q15/(LOG(Q4)/LOG(2))","v":0.34641221123413185},null,null,null,null,"U1=",{"$f":"W15/(LOG(W4)/LOG(2))","v":0.5021419352539086},null,null,null,"U2=",{"$f":"AB15/(LOG(AB4)/LOG(2))","v":0.45464442801966704},null,null,null,"U3=",{"$f":"AG15/(LOG(AG4)/LOG(2))","v":0.41954871451538689},null,null,null,"U4=",{"$f":"AL15/(LOG(AL4)/LOG(2))","v":0.37967900579044872},null,null,null,"U5=",{"$f":"AQ15/(LOG(AQ4)/LOG(2))","v":0.41949843236818657},null,null,null,"U6=",{"$f":"AV15/(LOG(AV4)/LOG(2))","v":0.50734481129445241}]
[22,1226,14,1240,13,1246,null,null,null,null,0,211]
[11,1357,12,1368,13,1373,null,null,null,null,0,111]
[11,1479,21,1488,22,1495,null,null,null,null,0,122,null,"Total Target Seq"]
[22,1597,14,1614,13,1621,null,null,null,null,0,211,null,{"$f":"COUNTIF(L7:L177,G3)","v":12},null,29,28,29,28,29,28]
[22,1716,14,1733,13,1736,null,null,null,null,0,211,null,null,null,"% of reinforcement given in 6 equal intervals based on number of trials "]
[11,1841,21,1854,22,1861,null,null,null,null,0,122,null,null,null,"%_1","%_2","%_3","%_4","%_5","%_6"]
[22,1956,14,1971,13,1978,null,null,null,null,0,211,null,null,"target sequence",{"$f":"$G$3","v":121},{"$f":"$G$3","v":121},{"$f":"$G$3","v":121},{"$f":"$G$3","v":121},{"$f":"$G$3","v":121},{"$f":"$G$3","v":121}]
[22,2083,23,2102,24,2108,null,null,null,null,0,222,null,null,"total reinforcement",{"$f":"U9","v":0},{"$f":"Z9","v":4},{"$f":"AE9","v":3},{"$f":"AJ9","v":2},{"$f":"AO9","v":2},{"$f":"AT9","v":1}]
[22,2210,23,2216,13,2233,null,null,null,null,0,221,null,null,"% target"]
[22,2475,14,2487,24,2497,null,null,null,null,0,212,null,null,"CCRF"]
[22,2597,23,2605,24,2613,null,null,null,null,0,222,null,null,"% CCRf"]
[11,2728,12,2736,24,2747,null,null,null,null,0,112,null,null,"average response rate",{"$f":"F35/P20","v":124.55172413793103},{"$f":"(F63-F35)/Q20","v":138.75},{"$f":"(F92-F63)/R20","v":146.0344827586207},{"$f":"(F120-F92)/S20","v":140.67857142857142},{"$f":"(F149-F120)/T20","v":151.44827586206895},{"$f":"(F177-F149)/U20","v":135.78571428571428}]
[22,2841,14,2858,13,2867,null,null,null,null,0,211]
[22,2959,14,2971,13,2977,null,null,null,null,0,211]
[22,3094,14,3106,13,3114,null,null,null,null,0,211]
[22,3218,23,3223,13,3239,null,null,null,null,0,221]
[22,3344,14,3354,13,3360,null,null,null,null,0,211]
[22,3467,14,3483,13,3490,null,null,null,null,0,211]
[22,3585,14,3604,13,3612,null,null,null,null,0,211]
[22,3714,23,3726,13,3742,null,null,null,null,0,221]
[11,3848,21,3857,11,3872,null,null,null,null,0,121]
[22,4131,14,4143,24,4153,null,null,null,null,0,212]
[11,4264,21,4272,22,4278,null,null,null,null,0,122]
[22,4384,14,4400,13,4410,null,null,null,null,0,211]
[11,4518,12,4527,13,4535,null,null,null,null,0,111]
[22,4639,14,4650,13,4657,null,null,null,null,0,211]
[22,4756,14,4767,13,4774,null,null,null,null,0,211]
[22,4882,14,4896,13,4904,null,null,null,null,0,211]
[22,5006,23,5014,13,5026,null,null,null,null,0,221]
[11,5127,21,5134,22,5142,null,null,null,null,0,122]
[11,5245,21,5256,11,5276,null,null,null,null,0,121]
[22,5530,14,5543,13,5550,null,null,null,null,0,211]
[22,5649,23,5657,13,5669,null,null,null,null,0,221]
[11,5770,21,5794,22,5799,null,null,null,null,0,122]
[22,5894,23,5904,24,5911,null,null,null,null,0,222]
[22,6008,14,6019,13,6026,null,null,null,null,0,211]
[22,6125,14,6137,13,6144,null,null,null,null,0,211]
[22,6244,14,6258,13,6264,null,null,null,null,0,211]
[22,6361,14,6373,13,6378,null,null,null,null,0,211]
[11,6479,12,6502,13,6510,null,null,null,null,0,111]
[11,6610,21,6617,11,6633,null,null,null,null,0,121]
[11,6865,21,6875,22,6880,null,null,null,null,0,122]
[11,6986,21,6995,22,6999,null,null,null,null,0,122]
[22,7105,14,7115,13,7123,null,null,null,null,0,211]
[22,7219,23,7226,13,7243,null,null,null,null,0,221]
[11,7358,12,7364,13,7372,null,null,null,null,0,111]
[11,7477,21,7483,11,7497,null,null,null,null,0,121]
[22,7751,14,7763,13,7772,null,null,null,null,0,211]
[22,7871,14,7885,13,7893,null,null,null,null,0,211]
[22,7998,14,8012,13,8021,null,null,null,null,0,211]
[11,8127,12,8134,13,8143,null,null,null,null,0,111]
[11,8257,12,8263,13,8272,null,null,null,null,0,111]
[11,8373,12,8379,13,8388,null,null,null,null,0,111]
[22,8486,14,8498,13,8504,null,null,null,null,0,211]
[22,8603,23,8609,13,8628,null,null,null,null,0,221]
[11,8732,12,8740,13,8749,null,null,null,null,0,111]
[22,8861,23,8865,13,8882,null,null,null,null,0,221]
[11,9013,12,9021,13,9031,null,null,null,null,0,111]
[22,9146,14,9161,13,9169,null,null,null,null,0,211]
[11,9270,21,9280,11,9293,null,null,null,null,0,121]
[11,9553,12,9576,13,9590,null,null,null,null,0,111]
[11,9695,21,9710,22,9716,null,null,null,null,0,122]
[11,9820,12,9829,13,9838,null,null,null,null,0,111]
[22,9936,23,9941,13,9955,null,null,null,null,0,221]
[22,10055,14,10074,13,10089,null,null,null,null,0,211]
[11,10196,21,10203,11,10220,null,null,null,null,0,121]
[22,10428,14,10442,13,10449,null,null,null,null,0,211]
[22,10552,23,10561,13,10575,null,null,null,null,0,221]
[11,10689,21,10698,22,10701,null,null,null,null,0,122]
[22,10805,14,10818,13,10828,null,null,null,null,0,211]
[22,10926,14,10937,13,10945,null,null,null,null,0,211]
[22,11044,14,11059,13,11069,null,null,null,null,0,211]
[11,11176,21,11189,11,11204,null,null,null,null,0,121]
[11,11468,12,11474,13,11481,null,null,null,null,0,111]
[22,11577,14,11592,24,11602,null,null,null,null,0,212]
[22,11709,14,11723,24,11732,null,null,null,null,0,212]
[22,11838,14,11856,13,11865,null,null,null,null,0,211]
[22,11971,14,11983,13,11992,null,null,null,null,0,211]
[11,12099,12,12106,13,12114,null,null,null,null,0,111]
[22,12215,23,12236,24,12253,null,null,null,null,0,222]
[11,12368,21,12375,22,12396,null,null,null,null,0,122]
[22,12497,14,12514,13,12522,null,null,null,null,0,211]
[22,12620,14,12632,13,12640,null,null,null,null,0,211]
[22,12740,14,12757,13,12767,null,null,null,null,0,211]
[22,12884,14,12897,13,12905,null,null,null,null,0,211]
[22,13014,14,13029,13,13037,null,null,null,null,0,211]
[22,13139,14,13153,13,13160,null,null,null,null,0,211]
[11,13255,21,13262,22,13268,null,null,null,null,0,122]
[22,13380,14,13391,13,13399,null,null,null,null,0,211]
[22,13507,14,13532,13,13541,null,null,null,null,0,211]
[22,13641,23,13645,13,13660,null,null,null,null,0,221]
[22,13770,14,13786,13,13795,null,null,null,null,0,211]
[22,13891,23,13898,13,13914,null,null,null,null,0,221]
[11,14019,21,14028,11,14051,null,null,null,null,0,121]
[11,14359,12,14368,13,14377,null,null,null,null,0,111]
[22,14473,14,14490,13,14501,null,null,null,null,0,211]
[22,14609,14,14622,13,14631,null,null,null,null,0,211]
[22,14731,14,14752,13,14761,null,null,null,null,0,211]
[11,14886,12,14894,13,14904,null,null,null,null,0,111]
[22,15021,14,15035,13,15043,null,null,null,null,0,211]
[22,15137,14,15154,13,15162,null,null,null,null,0,211]
[22,15258,14,15276,24,15289,null,null,null,null,0,212]
[11,15390,21,15400,11,15414,null,null,null,null,0,121]
[22,15646,14,15661,24,15671,null,null,null,null,0,212]
[22,15769,14,15783,13,15792,null,null,null,null,0,211]
[22,15889,14,15907,13,15921,null,null,null,null,0,211]
[22,16020,14,16032,13,16042,null,null,null,null,0,211]
[22,16137,14,16150,13,16158,null,null,null,null,0,211]
[22,16260,14,16279,13,16287,null,null,null,null,0,211]
[22,16384,14,16399,24,16411,null,null,null,null,0,212]
[22,16528,14,16539,13,16552,null,null,null,null,0,211]
[11,16654,21,16662,11,16676,null,null,null,null,0,121]
[11,16918,12,16925,13,16934,null,null,null,null,0,111]
[22,17071,14,17088,13,17097,null,null,null,null,0,211]
[22,17193,14,17209,24,17217,null,null,null,null,0,212]
[22,17332,14,17346,13,17355,null,null,null,null,0,211]
[22,17469,14,17478,13,17486,null,null,null,null,0,211]
[22,17591,14,17601,13,17611,null,null,null,null,0,211]
[22,17714,14,17733,13,17740,null,null,null,null,0,211]
[22,17861,14,17874,13,17884,null,null,null,null,0,211]
[22,17979,14,17997,13,18006,null,null,null,null,0,211]
[11,18142,12,18151,24,18162,null,null,null,null,0,112]
[22,18442,23,18448,13,18465,null,null,null,null,0,221]
[22,18557,14,18574,24,18583,null,null,null,null,0,212]
[11,18685,21,18693,11,18706,null,null,null,null,0,121]
[22,18887,14,18907,13,18917,null,null,null,null,0,211]
[22,19016,23,19024,13,19045,null,null,null,null,0,221]
[22,19145,23,19150,13,19162,null,null,null,null,0,221]
[22,19261,23,19269,24,19294,null,null,null,null,0,222]
[22,19535,14,19549,13,19556,null,null,null,null,0,211]
[11,19663,21,19671,22,19677,null,null,null,null,0,122]
[11,19917,21,19926,22,19932,null,null,null,null,0,122]
[22,20036,23,20044,13,20063,null,null,null,null,0,221]
[11,20168,21,20177,22,20184,null,null,null,null,0,122]
[22,20291,23,20296,24,20304,null,null,null,null,0,222]
[22,20401,14,20417,24,20426,null,null,null,null,0,212]
[22,20523,14,20535,24,20547,null,null,null,null,0,212]
[22,20646,14,20663,13,20672,null,null,null,null,0,211]
[11,20794,12,20809,13,20818,null,null,null,null,0,111]
[11,21022,21,21032,22,21037,null,null,null,null,0,122]
[11,21141,21,21150,22,21157,null,null,null,null,0,122]
[22,21271,23,21278,24,21285,null,null,null,null,0,222]
[11,21390,21,21399,22,21406,null,null,null,null,0,122]
[22,21502,14,21521,13,21527,null,null,null,null,0,211]
[22,21625,14,21637,24,21646,null,null,null,null,0,212]
[22,21747,14,21761,13,21771,null,null,null,null,0,211]
[22,21891,23,21896,24,21903,null,null,null,null,0,222]
[11,22001,12,22015,13,22021,null,null,null,null,0,111]
[11,22125,21,22134,11,22149,null,null,null,null,0,121]
[22,22387,14,22402,24,22412,null,null,null,null,0,212]
[22,22526,23,22532,24,22537,null,null,null,null,0,222]
[11,22666,12,22675,13,22685,null,null,null,null,0,111]
[22,22794,14,22809,13,22814,null,null,null,null,0,211]
[22,22919,23,22935,24,22941,null,null,null,null,0,222]
[11,23044,21,23051,22,23056,null,null,null,null,0,122]
[22,23162,23,23168,24,23174,null,null,null,null,0,222]
[11,23276,21,23288,22,23294,null,null,null,null,0,122]
[22,23424,14,23443,13,23451,null,null,null,null,0,211]
[22,23554,14,23572,13,23578,null,null,null,null,0,211]
[11,23683,12,23702,13,23717,null,null,null,null,0,111]
[11,23843,12,23852,24,23865,null,null,null,null,0,112]

{"sheet":"!M226A5D.UST","index":10,"n_rows":167,"n_cols":48,"rows_kept":167,"cut":false,"hidden":false,"merged":[[4,39,4,42],[5,39,5,40],[4,44,4,47],[5,44,5,45],[4,24,4,27],[5,24,5,25],[4,29,4,32],[5,29,5,30],[4,34,4,37],[5,34,5,35],[1,1,1,2],[5,13,5,14],[18,13,18,14],[19,13,19,14],[4,19,4,22],[5,19,5,20]]}
["Report for:!M226A5D.UST"]
["Date:","<date>"]
["Hen:","<hen>",null,null,null,"Correct Sequence",{"$f":"Start!J2","v":121},null,null,null,null,null,null,null,null,"Total Sequences in Data",{"$f":"4994-COUNTBLANK(L7:L5000)","v":161},null,null,null,null,"Total Sequences in Block Data",{"$f":"COUNTA(L7:L33)","v":27},null,null,null,"Total Sequences in Block Data",{"$f":"COUNTA(L34:L60)","v":27},null,null,null,"Total Sequences in Block Data",{"$f":"COUNTA(L61:L86)","v":26},null,null,null,"Total Sequences in Block Data",{"$f":"COUNTA(L87:L113)","v":27},null,null,null,"Total Sequences in Block Data",{"$f":"COUNTA(L114:L140)","v":27},null,null,null,"Total Sequences in Block Data",{"$f":"COUNTA(L141:L167)","v":27}]
[null,null,null,null,null,null,null,null,null,null,null,null,null,null,null,"Total Sequences in Summary",{"$f":"SUM(O7:O14)","v":161},null,null,null,null,"Total Sequences in Block Summary",{"$f":"SUM(U7:U14)","v":27},null,null,null,"Total Sequences in Block Summary",{"$f":"SUM(Z7:Z14)","v":27},null,null,null,"Total Sequences in Block Summary",{"$f":"SUM(AE7:AE14)","v":26},null,null,null,"Total Sequences in Block Summary",{"$f":"SUM(AJ7:AJ14)","v":27},null,null,null,"Total Sequences in Block Summary",{"$f":"SUM(AO7:AO14)","v":27},null,null,null,"Total Sequences in Block Summary",{"$f":"SUM(AT7:AT14)","v":27}]
[null,null,null,null,null,null,null,null,null,null,null,null,null,null,null,null,null,null,null,"Block 1",null,null,null,null,"Block 2",null,null,null,null,"Block 3",null,null,null,null,"Block 4",null,null,null,null,"Block 5",null,null,null,null,"Block 6"]
["Sequence\nComponent\n1","Time\n1","Sequence\nComponent\n2","Time\n2","Sequence\nComponent\n3","Time\n3","Sequence\nComponent\n4","Time\n4","Sequence\nComponent\n5","Time\n5","Correct?\n0=No 1=Yes","Sequence",null,"Frequency",null,"Relative Frequency","Variability",null,null,"Frequency",null,"Relative Frequency","Variability",null,"Frequency",null,"Relative Frequency","Variability",null,"Frequency",null,"Relative Frequency","Variability",null,"Frequency",null,"Relative Frequency","Variability",null,"Frequency",null,"Relative Frequency","Variability",null,"Frequency",null,"Relative Frequency","Variability"]
[11,31,12,36,24,46,null,null,null,null,0,112,null,111,{"$f":"COUNTIF($L$7:$L$500,N7)","v":32},{"$f":"O7/$Q$4","v":0.19875776397515527},{"$f":"IF(P7=0,0,(P7*((LOG(P7))/LOG(2))))","v":-0.46328782670601076},null,null,{"$f":"N7","v":111},{"$f":"COUNTIF(L7:L33,T7)","v":5},{"$f":"U7/(W4-U9)","v":0.19230769230769232},{"$f":"IF(V7=0,0,(V7*((LOG(V7))/LOG(2))))","v":-0.45740608139494804},null,{"$f":"N7","v":111},{"$f":"COUNTIF(L34:L60,Y7)","v":6},{"$f":"Z7/(AB4-Z9)","v":0.25},{"$f":"IF(AA7=0,0,(AA7*((LOG(AA7))/LOG(2))))","v":-0.5},null,{"$f":"N7","v":111},{"$f":"COUNTIF(L61:L86,AD7)","v":5},{"$f":"AE7/(AG4-AE9)","v":0.19230769230769232},{"$f":"IF(AF7=0,0,(AF7*((LOG(AF7))/LOG(2))))","v":-0.45740608139494804},null,{"$f":"N7","v":111},{"$f":"COUNTIF(L87:L113,AI7)","v":7},{"$f":"AJ7/(AL4-AJ9)","v":0.33333333333333331},{"$f":"IF(AK7=0,0,(AK7*((LOG(AK7))/LOG(2))))","v":-0.52832083357371862},null,{"$f":"N7","v":111},{"$f":"COUNTIF(L114:L140,AN7)","v":8},{"$f":"AO7/(AQ4-AO9)","v":0.32},{"$f":"IF(AP7=0,0,(AP7*((LOG(AP7))/LOG(2))))","v":-0.52603398072791185},null,{"$f":"N7","v":111},{"$f":"COUNTIF(L141:L167,AS7)","v":1},{"$f":"AT7/(AV4-AT9)","v":3.8461538461538464E-2},{"$f":"IF(AU7=0,0,(AU7*((LOG(AU7))/LOG(2))))","v":-0.18078614300542661}]
[11,145,21,153,11,168,null,null,null,null,0,121,null,112,{"$f":"COUNTIF($L$7:$L$500,N8)","v":6},{"$f":"O8/$Q$4","v":3.7267080745341616E-2},{"$f":"IF(P8=0,0,(P8*((LOG(P8))/LOG(2))))","v":-0.17686786499602961},null,null,{"$f":"N8","v":112},{"$f":"COUNTIF(L7:L33,T8)","v":2},{"$f":"U8/(W4-U9)","v":7.6923076923076927E-2},{"$f":"IF(V8=0,0,(V8*((LOG(V8))/LOG(2))))","v":-0.28464920908777636},null,{"$f":"N8","v":112},{"$f":"COUNTIF(L34:L60,Y8)","v":1},{"$f":"Z8/(AB4-Z9)","v":4.1666666666666664E-2},{"$f":"IF(AA8=0,0,(AA8*((LOG(AA8))/LOG(2))))","v":-0.19104010419671485},null,{"$f":"N8","v":112},{"$f":"COUNTIF(L61:L86,AD8)","v":0},{"$f":"AE8/(AG4-AE9)","v":0},{"$f":"IF(AF8=0,0,(AF8*((LOG(AF8))/LOG(2))))","v":0},null,{"$f":"N8","v":112},{"$f":"COUNTIF(L87:L113,AI8)","v":0},{"$f":"AJ8/(AL4-AJ9)","v":0},{"$f":"IF(AK8=0,0,(AK8*((LOG(AK8))/LOG(2))))","v":0},null,{"$f":"N8","v":112},{"$f":"COUNTIF(L114:L140,AN8)","v":1},{"$f":"AO8/(AQ4-AO9)","v":0.04},{"$f":"IF(AP8=0,0,(AP8*((LOG(AP8))/LOG(2))))","v":-0.18575424759098899},null,{"$f":"N8","v":112},{"$f":"COUNTIF(L141:L167,AS8)","v":2},{"$f":"AT8/(AV4-AT9)","v":7.6923076923076927E-2},{"$f":"IF(AU8=0,0,(AU8*((LOG(AU8))/LOG(2))))","v":-0.28464920908777636}]
[22,357,23,365,13,382,null,null,null,null,0,221,null,121,{"$f":"COUNTIF($L$7:$L$500,N9)","v":13},{"$f":"O9/$Q$4","v":8.0745341614906832E-2},{"$f":"IF(P9=0,0,(P9*((LOG(P9))/LOG(2))))","v":-0.29314411850717903},null,null,{"$f":"N9","v":121},{"$f":"COUNTIF(L7:L33,T9)","v":1},null,null,null,{"$f":"N9","v":121},{"$f":"COUNTIF(L34:L60,Y9)","v":3},null,null,null,{"$f":"N9","v":121},{"$f":"COUNTIF(L61:L86,AD9)","v":0},null,null,null,{"$f":"N9","v":121},{"$f":"COUNTIF(L87:L113,AI9)","v":6},null,null,null,{"$f":"N9","v":121},{"$f":"COUNTIF(L114:L140,AN9)","v":2},null,null,null,{"$f":"N9","v":121},{"$f":"COUNTIF(L141:L167,AS9)","v":1}]
[11,484,21,492,22,498,null,null,null,null,0,122,null,122,{"$f":"COUNTIF($L$7:$L$500,N10)","v":26},{"$f":"O10/$Q$4","v":0.16149068322981366},{"$f":"IF(P10=0,0,(P10*((LOG(P10))/LOG(2))))","v":-0.42479755378454442},null,null,{"$f":"N10","v":122},{"$f":"COUNTIF(L7:L33,T10)","v":5},{"$f":"U10/(W4-U9)","v":0.19230769230769232},{"$f":"IF(V10=0,0,(V10*((LOG(V10))/LOG(2))))","v":-0.45740608139494804},null,{"$f":"N10","v":122},{"$f":"COUNTIF(L34:L60,Y10)","v":6},{"$f":"Z10/(AB4-Z9)","v":0.25},{"$f":"IF(AA10=0,0,(AA10*((LOG(AA10))/LOG(2))))","v":-0.5},null,{"$f":"N10","v":122},{"$f":"COUNTIF(L61:L86,AD10)","v":7},{"$f":"AE10/(AG4-AE9)","v":0.26923076923076922},{"$f":"IF(AF10=0,0,(AF10*((LOG(AF10))/LOG(2))))","v":-0.50967667586863141},null,{"$f":"N10","v":122},{"$f":"COUNTIF(L87:L113,AI10)","v":2},{"$f":"AJ10/(AL4-AJ9)","v":9.5238095238095233E-2},{"$f":"IF(AK10=0,0,(AK10*((LOG(AK10))/LOG(2))))","v":-0.32307784978845333},null,{"$f":"N10","v":122},{"$f":"COUNTIF(L114:L140,AN10)","v":2},{"$f":"AO10/(AQ4-AO9)","v":0.08},{"$f":"IF(AP10=0,0,(AP10*((LOG(AP10))/LOG(2))))","v":-0.29150849518197797},null,{"$f":"N10","v":122},{"$f":"COUNTIF(L141:L167,AS10)","v":4},{"$f":"AT10/(AV4-AT9)","v":0.15384615384615385},{"$f":"IF(AU10=0,0,(AU10*((LOG(AU10))/LOG(2))))","v":-0.4154522643293988}]
[22,595,14,611,13,617,null,null,null,null,0,211,null,211,{"$f":"COUNTIF($L$7:$L$500,N11)","v":43},{"$f":"O11/$Q$4","v":0.26708074534161491},{"$f":"IF(P11=0,0,(P11*((LOG(P11))/LOG(2))))","v":-0.50869590873750503},null,null,{"$f":"N11","v":211},{"$f":"COUNTIF(L7:L33,T11)","v":6},{"$f":"U11/(W4-U9)","v":0.23076923076923078},{"$f":"IF(V11=0,0,(V11*((LOG(V11))/LOG(2))))","v":-0.48818705017383146},null,{"$f":"N11","v":211},{"$f":"COUNTIF(L34:L60,Y11)","v":4},{"$f":"Z11/(AB4-Z9)","v":0.16666666666666666},{"$f":"IF(AA11=0,0,(AA11*((LOG(AA11))/LOG(2))))","v":-0.43082708345352599},null,{"$f":"N11","v":211},{"$f":"COUNTIF(L61:L86,AD11)","v":9},{"$f":"AE11/(AG4-AE9)","v":0.34615384615384615},{"$f":"IF(AF11=0,0,(AF11*((LOG(AF11))/LOG(2))))","v":-0.52979355578034681},null,{"$f":"N11","v":211},{"$f":"COUNTIF(L87:L113,AI11)","v":6},{"$f":"AJ11/(AL4-AJ9)","v":0.2857142857142857},{"$f":"IF(AK11=0,0,(AK11*((LOG(AK11))/LOG(2))))","v":-0.51638712058788683},null,{"$f":"N11","v":211},{"$f":"COUNTIF(L114:L140,AN11)","v":8},{"$f":"AO11/(AQ4-AO9)","v":0.32},{"$f":"IF(AP11=0,0,(AP11*((LOG(AP11))/LOG(2))))","v":-0.52603398072791185},null,{"$f":"N11","v":211},{"$f":"COUNTIF(L141:L167,AS11)","v":10},{"$f":"AT11/(AV4-AT9)","v":0.38461538461538464},{"$f":"IF(AU11=0,0,(AU11*((LOG(AU11))/LOG(2))))","v":-0.53019677817451139}]
[11,716,21,724,22,743,null,null,null,null,0,122,null,212,{"$f":"COUNTIF($L$7:$L$500,N12)","v":14},{"$f":"O12/$Q$4","v":8.6956521739130432E-2},{"$f":"IF(P12=0,0,(P12*((LOG(P12))/LOG(2))))","v":-0.30639669183104457},null,null,{"$f":"N12","v":212},{"$f":"COUNTIF(L7:L33,T12)","v":2},{"$f":"U12/(W4-U9)","v":7.6923076923076927E-2},{"$f":"IF(V12=0,0,(V12*((LOG(V12))/LOG(2))))","v":-0.28464920908777636},null,{"$f":"N12","v":212},{"$f":"COUNTIF(L34:L60,Y12)","v":3},{"$f":"Z12/(AB4-Z9)","v":0.125},{"$f":"IF(AA12=0,0,(AA12*((LOG(AA12))/LOG(2))))","v":-0.375},null,{"$f":"N12","v":212},{"$f":"COUNTIF(L61:L86,AD12)","v":1},{"$f":"AE12/(AG4-AE9)","v":3.8461538461538464E-2},{"$f":"IF(AF12=0,0,(AF12*((LOG(AF12))/LOG(2))))","v":-0.18078614300542661},null,{"$f":"N12","v":212},{"$f":"COUNTIF(L87:L113,AI12)","v":2},{"$f":"AJ12/(AL4-AJ9)","v":9.5238095238095233E-2},{"$f":"IF(AK12=0,0,(AK12*((LOG(AK12))/LOG(2))))","v":-0.32307784978845333},null,{"$f":"N12","v":212},{"$f":"COUNTIF(L114:L140,AN12)","v":5},{"$f":"AO12/(AQ4-AO9)","v":0.2},{"$f":"IF(AP12=0,0,(AP12*((LOG(AP12))/LOG(2))))","v":-0.46438561897747244},null,{"$f":"N12","v":212},{"$f":"COUNTIF(L141:L167,AS12)","v":1},{"$f":"AT12/(AV4-AT9)","v":3.8461538461538464E-2},{"$f":"IF(AU12=0,0,(AU12*((LOG(AU12))/LOG(2))))","v":-0.18078614300542661}]
[11,854,12,859,13,866,null,null,null,null,0,111,null,221,{"$f":"COUNTIF($L$7:$L$500,N13)","v":13},{"$f":"O13/$Q$4","v":8.0745341614906832E-2},{"$f":"IF(P13=0,0,(P13*((LOG(P13))/LOG(2))))","v":-0.29314411850717903},null,null,{"$f":"N13","v":221},{"$f":"COUNTIF(L7:L33,T13)","v":1},{"$f":"U13/(W4-U9)","v":3.8461538461538464E-2},{"$f":"IF(V13=0,0,(V13*((LOG(V13))/LOG(2))))","v":-0.18078614300542661},null,{"$f":"N13","v":221},{"$f":"COUNTIF(L34:L60,Y13)","v":1},{"$f":"Z13/(AB4-Z9)","v":4.1666666666666664E-2},{"$f":"IF(AA13=0,0,(AA13*((LOG(AA13))/LOG(2))))","v":-0.19104010419671485},null,{"$f":"N13","v":221},{"$f":"COUNTIF(L61:L86,AD13)","v":4},{"$f":"AE13/(AG4-AE9)","v":0.15384615384615385},{"$f":"IF(AF13=0,0,(AF13*((LOG(AF13))/LOG(2))))","v":-0.4154522643293988},null,{"$f":"N13","v":221},{"$f":"COUNTIF(L87:L113,AI13)","v":2},{"$f":"AJ13/(AL4-AJ9)","v":9.5238095238095233E-2},{"$f":"IF(AK13=0,0,(AK13*((LOG(AK13))/LOG(2))))","v":-0.32307784978845333},null,{"$f":"N13","v":221},{"$f":"COUNTIF(L114:L140,AN13)","v":0},{"$f":"AO13/(AQ4-AO9)","v":0},{"$f":"IF(AP13=0,0,(AP13*((LOG(AP13))/LOG(2))))","v":0},null,{"$f":"N13","v":221},{"$f":"COUNTIF(L141:L167,AS13)","v":5},{"$f":"AT13/(AV4-AT9)","v":0.19230769230769232},{"$f":"IF(AU13=0,0,(AU13*((LOG(AU13))/LOG(2))))","v":-0.45740608139494804}]
[11,1205,12,1213,13,1219,null,null,null,null,0,111,null,222,{"$f":"COUNTIF($L$7:$L$500,N14)","v":14},{"$f":"O14/$Q$4","v":8.6956521739130432E-2},{"$f":"IF(P14=0,0,(P14*((LOG(P14))/LOG(2))))","v":-0.30639669183104457},null,null,{"$f":"N14","v":222},{"$f":"COUNTIF(L7:L33,T14)","v":5},{"$f":"U14/(W4-U9)","v":0.19230769230769232},{"$f":"IF(V14=0,0,(V14*((LOG(V14))/LOG(2))))","v":-0.45740608139494804},null,{"$f":"N14","v":222},{"$f":"COUNTIF(L34:L60,Y14)","v":3},{"$f":"Z14/(AB4-Z9)","v":0.125},{"$f":"IF(AA14=0,0,(AA14*((LOG(AA14))/LOG(2))))","v":-0.375},null,{"$f":"N14","v":222},{"$f":"COUNTIF(L61:L86,AD14)","v":0},{"$f":"AE14/(AG4-AE9)","v":0},{"$f":"IF(AF14=0,0,(AF14*((LOG(AF14))/LOG(2))))","v":0},null,{"$f":"N14","v":222},{"$f":"COUNTIF(L87:L113,AI14)","v":2},{"$f":"AJ14/(AL4-AJ9)","v":9.5238095238095233E-2},{"$f":"IF(AK14=0,0,(AK14*((LOG(AK14))/LOG(2))))","v":-0.32307784978845333},null,{"$f":"N14","v":222},{"$f":"COUNTIF(L114:L140,AN14)","v":1},{"$f":"AO14/(AQ4-AO9)","v":0.04},{"$f":"IF(AP14=0,0,(AP14*((LOG(AP14))/LOG(2))))","v":-0.18575424759098899},null,{"$f":"N14","v":222},{"$f":"COUNTIF(L141:L167,AS14)","v":3},{"$f":"AT14/(AV4-AT9)","v":0.11538461538461539},{"$f":"IF(AU14=0,0,(AU14*((LOG(AU14))/LOG(2))))","v":-0.35947814047153104}]
[22,1330,14,1347,24,1358,null,null,null,null,0,212,null,null,null,{"$f":"SUM(P7:P14)","v":1},{"$f":"-SUM(Q7:Q14)","v":2.7727307749005368},null,null,null,null,{"$f":"SUM(V7:V14)","v":0.99999999999999989},{"$f":"-SUM(W7:W14)","v":2.610489855539655},null,null,null,{"$f":"SUM(AA7:AA14)","v":1},{"$f":"-SUM(AB7:AB14)","v":2.5629072918469555},null,null,null,{"$f":"SUM(AF7:AF14)","v":1},{"$f":"-SUM(AG7:AG14)","v":2.0931147203787517},null,null,null,{"$f":"SUM(AK7:AK14)","v":0.99999999999999989},{"$f":"-SUM(AL7:AL14)","v":2.3370193533154189},null,null,null,{"$f":"SUM(AP7:AP14)","v":1},{"$f":"-SUM(AQ7:AQ14)","v":2.1794705707972519},null,null,null,{"$f":"SUM(AU7:AU14)","v":1},{"$f":"-SUM(AV7:AV14)","v":2.4087547594690188}]
[11,1460,12,1474,13,1481,null,null,null,null,0,111,null,null,null,"U=",{"$f":"Q15/(LOG(Q4)/LOG(2))","v":0.3782242823101869},null,null,null,null,"U1=",{"$f":"W15/(LOG(W4)/LOG(2))","v":0.54901190708547476},null,null,null,"U2=",{"$f":"AB15/(LOG(AB4)/LOG(2))","v":0.53900482202383038},null,null,null,"U3=",{"$f":"AG15/(LOG(AG4)/LOG(2))","v":0.44530189639503071},null,null,null,"U4=",{"$f":"AL15/(LOG(AL4)/LOG(2))","v":0.49149834822634136},null,null,null,"U5=",{"$f":"AQ15/(LOG(AQ4)/LOG(2))","v":0.4583642767164513},null,null,null,"U6=",{"$f":"AV15/(LOG(AV4)/LOG(2))","v":0.50658501560195446}]
[11,1579,12,1602,13,1611,null,null,null,null,0,111]
[22,1718,14,1741,13,1750,null,null,null,null,0,211]
[22,1853,14,1870,13,1878,null,null,null,null,0,211,null,"Total Target Seq"]
[22,1973,23,1982,24,1992,null,null,null,null,0,222,null,{"$f":"COUNTIF(L7:L167,G3)","v":13},null,27,27,26,27,27,27]
[22,2228,14,2244,24,2254,null,null,null,null,0,212,null,null,null,"% of reinforcement given in 6 equal intervals based on number of trials "]
[11,2356,21,2363,22,2368,null,null,null,null,0,122,null,null,null,"%_1","%_2","%_3","%_4","%_5","%_6"]
[22,2465,23,2471,24,2479,null,null,null,null,0,222,null,null,"target sequence",{"$f":"$G$3","v":121},{"$f":"$G$3","v":121},{"$f":"$G$3","v":121},{"$f":"$G$3","v":121},{"$f":"$G$3","v":121},{"$f":"$G$3","v":121}]
[11,2579,21,2586,22,2599,null,null,null,null,0,122,null,null,"total reinforcement",{"$f":"U9","v":1},{"$f":"Z9","v":3},{"$f":"AE9","v":0},{"$f":"AJ9","v":6},{"$f":"AO9","v":2},{"$f":"AT9","v":1}]
[11,2701,21,2709,22,2716,null,null,null,null,0,122,null,null,"% target"]
[22,2810,23,2824,24,2830,null,null,null,null,0,222,null,null,"CCRF"]
[11,2935,12,2943,13,2946,null,null,null,null,0,111,null,null,"% CCRf"]
[22,3199,14,3219,13,3227,null,null,null,null,0,211,null,null,"average response rate",{"$f":"F33/P20","v":142.07407407407408},{"$f":"(F60-F33)/Q20","v":146.77777777777777},{"$f":"(F86-F60)/R20","v":138.07692307692307},{"$f":"(F113-F86)/S20","v":162.55555555555554},{"$f":"(F140-F113)/T20","v":166.22222222222223},{"$f":"(F167-F140)/U20","v":138.33333333333334}]
[22,3330,23,3337,24,3346,null,null,null,null,0,222]
[22,3443,14,3459,13,3467,null,null,null,null,0,211]
[22,3565,14,3580,13,3589,null,null,null,null,0,211]
[22,3691,23,3698,24,3708,null,null,null,null,0,222]
[11,3814,12,3824,24,3836,null,null,null,null,0,112]
[22,4035,14,4051,24,4060,null,null,null,null,0,212]
[22,4154,14,4170,24,4180,null,null,null,null,0,212]
[22,4279,23,4284,24,4290,null,null,null,null,0,222]
[11,4398,21,4411,22,4418,null,null,null,null,0,122]
[22,4510,14,4534,13,4543,null,null,null,null,0,211]
[11,4650,21,4658,22,4665,null,null,null,null,0,122]
[11,4766,12,4787,13,4796,null,null,null,null,0,111]
[11,4904,12,4909,13,4917,null,null,null,null,0,111]
[22,5013,14,5031,13,5037,null,null,null,null,0,211]
[11,5141,21,5151,22,5163,null,null,null,null,0,122]
[11,5302,21,5311,22,5315,null,null,null,null,0,122]
[11,5426,12,5434,13,5442,null,null,null,null,0,111]
[11,5541,21,5551,11,5563,null,null,null,null,0,121]
[22,5793,14,5806,13,5813,null,null,null,null,0,211]
[22,5917,23,5922,24,5939,null,null,null,null,0,222]
[22,6036,14,6056,13,6068,null,null,null,null,0,211]
[11,6169,12,6173,13,6185,null,null,null,null,0,111]
[11,6307,21,6317,22,6326,null,null,null,null,0,122]
[11,6423,21,6430,11,6442,null,null,null,null,0,121]
[11,6700,12,6715,24,6725,null,null,null,null,0,112]
[11,6831,12,6836,13,6843,null,null,null,null,0,111]
[11,6977,12,6983,13,6992,null,null,null,null,0,111]
[22,7091,23,7097,24,7105,null,null,null,null,0,222]
[22,7201,14,7222,24,7234,null,null,null,null,0,212]
[11,7340,21,7355,22,7379,null,null,null,null,0,122]
[22,7479,23,7483,13,7494,null,null,null,null,0,221]
[11,7772,21,7783,11,7799,null,null,null,null,0,121]
[11,8088,12,8094,13,8102,null,null,null,null,0,111]
[11,8205,21,8214,22,8221,null,null,null,null,0,122]
[22,8315,14,8328,13,8335,null,null,null,null,0,211]
[11,8439,21,8446,22,8473,null,null,null,null,0,122]
[22,8567,14,8581,13,8591,null,null,null,null,0,211]
[22,8693,14,8714,13,8726,null,null,null,null,0,211]
[11,8829,21,8837,22,8850,null,null,null,null,0,122]
[22,8955,14,8969,13,8984,null,null,null,null,0,211]
[22,9101,14,9116,13,9125,null,null,null,null,0,211]
[22,9226,14,9249,13,9257,null,null,null,null,0,211]
[22,9357,14,9382,13,9390,null,null,null,null,0,211]
[11,9502,21,9509,22,9513,null,null,null,null,0,122]
[22,9624,14,9636,24,9648,null,null,null,null,0,212]
[11,9751,21,9758,22,9764,null,null,null,null,0,122]
[22,9866,14,9885,13,9899,null,null,null,null,0,211]
[22,10005,14,10023,13,10033,null,null,null,null,0,211]
[11,10137,21,10147,22,10153,null,null,null,null,0,122]
[11,10261,12,10281,13,10297,null,null,null,null,0,111]
[11,10402,12,10410,13,10416,null,null,null,null,0,111]
[22,10513,23,10520,13,10532,null,null,null,null,0,221]
[11,10729,12,10743,13,10750,null,null,null,null,0,111]
[11,10856,21,10869,22,10875,null,null,null,null,0,122]
[22,10991,23,10996,13,11006,null,null,null,null,0,221]
[22,11106,23,11112,13,11125,null,null,null,null,0,221]
[22,11220,23,11233,13,11252,null,null,null,null,0,221]
[11,11373,12,11381,13,11389,null,null,null,null,0,111]
[11,11485,21,11495,11,11513,null,null,null,null,0,121]
[11,11786,21,11802,11,11845,null,null,null,null,0,121]
[11,12102,12,12105,13,12111,null,null,null,null,0,111]
[11,12211,21,12220,11,12232,null,null,null,null,0,121]
[11,12419,12,12428,13,12436,null,null,null,null,0,111]
[11,12539,21,12550,22,12577,null,null,null,null,0,122]
[22,12682,23,12699,24,12705,null,null,null,null,0,222]
[22,12813,14,12829,13,12839,null,null,null,null,0,211]
[22,12938,23,12944,13,12962,null,null,null,null,0,221]
[22,13066,14,13083,24,13114,null,null,null,null,0,212]
[22,13208,14,13225,13,13232,null,null,null,null,0,211]
[11,13341,21,13348,11,13365,null,null,null,null,0,121]
[22,13565,14,13577,13,13593,null,null,null,null,0,211]
[11,13703,12,13708,13,13715,null,null,null,null,0,111]
[11,13989,12,13997,13,14007,null,null,null,null,0,111]
[22,14109,14,14127,13,14135,null,null,null,null,0,211]
[22,14245,14,14262,13,14271,null,null,null,null,0,211]
[11,14382,21,14391,22,14415,null,null,null,null,0,122]
[11,14674,12,14681,13,14688,null,null,null,null,0,111]
[11,14800,12,14807,13,14815,null,null,null,null,0,111]
[11,14922,21,14930,11,14953,null,null,null,null,0,121]
[22,15120,14,15133,24,15159,null,null,null,null,0,212]
[11,15268,12,15280,13,15284,null,null,null,null,0,111]
[22,15396,23,15403,24,15410,null,null,null,null,0,222]
[22,15513,14,15524,13,15533,null,null,null,null,0,211]
[22,15631,23,15637,13,15652,null,null,null,null,0,221]
[11,15750,21,15758,11,15778,null,null,null,null,0,121]
[11,15944,21,15952,11,15967,null,null,null,null,0,121]
[22,16247,14,16258,13,16266,null,null,null,null,0,211]
[22,16363,14,16384,24,16408,null,null,null,null,0,212]
[11,16508,12,16513,13,16518,null,null,null,null,0,111]
[11,16619,12,16643,13,16652,null,null,null,null,0,111]
[11,16864,12,16871,13,16878,null,null,null,null,0,111]
[22,16999,14,17015,24,17025,null,null,null,null,0,212]
[22,17134,14,17146,24,17159,null,null,null,null,0,212]
[22,17254,14,17265,13,17271,null,null,null,null,0,211]
[11,17374,12,17381,13,17388,null,null,null,null,0,111]
[11,17487,21,17497,11,17514,null,null,null,null,0,121]
[11,17790,12,17806,13,17813,null,null,null,null,0,111]
[22,17906,14,17919,13,17926,null,null,null,null,0,211]
[11,18029,12,18035,13,18043,null,null,null,null,0,111]
[22,18150,14,18166,13,18177,null,null,null,null,0,211]
[22,18286,14,18301,13,18310,null,null,null,null,0,211]
[11,18412,12,18419,24,18433,null,null,null,null,0,112]
[22,18670,14,18691,13,18700,null,null,null,null,0,211]
[11,18801,21,18809,22,18815,null,null,null,null,0,122]
[22,18923,14,18943,24,18952,null,null,null,null,0,212]
[22,19053,14,19070,13,19083,null,null,null,null,0,211]
[22,19179,14,19208,24,19217,null,null,null,null,0,212]
[11,19326,12,19333,13,19340,null,null,null,null,0,111]
[22,19433,23,19440,24,19474,null,null,null,null,0,222]
[11,19693,12,19717,13,19726,null,null,null,null,0,111]
[11,20105,21,20116,22,20120,null,null,null,null,0,122]
[22,20233,14,20255,13,20266,null,null,null,null,0,211]
[22,20364,23,20369,13,20387,null,null,null,null,0,221]
[22,20563,14,20583,13,20593,null,null,null,null,0,211]
[11,20708,21,20719,22,20727,null,null,null,null,0,122]
[22,20835,14,20852,24,20878,null,null,null,null,0,212]
[22,20976,14,20993,13,21002,null,null,null,null,0,211]
[11,21108,21,21117,22,21131,null,null,null,null,0,122]
[22,21250,14,21274,13,21282,null,null,null,null,0,211]
[22,21386,14,21412,13,21421,null,null,null,null,0,211]
[22,21513,14,21530,13,21539,null,null,null,null,0,211]
[22,21636,14,21651,13,21660,null,null,null,null,0,211]
[11,21772,12,21778,13,21786,null,null,null,null,0,111]
[22,21891,14,21902,13,21908,null,null,null,null,0,211]
[22,22012,23,22021,13,22040,null,null,null,null,0,221]
[11,22153,12,22160,24,22182,null,null,null,null,0,112]
[22,22394,14,22409,13,22416,null,null,null,null,0,211]
[22,22519,14,22534,13,22547,null,null,null,null,0,211]
[11,22664,21,22674,22,22682,null,null,null,null,0,122]
[22,22778,23,22792,13,22805,null,null,null,null,0,221]
[22,22912,23,22921,24,22940,null,null,null,null,0,222]
[22,23040,14,23058,13,23073,null,null,null,null,0,211]
[11,23179,21,23193,11,23216,null,null,null,null,0,121]
[11,23396,12,23402,24,23414,null,null,null,null,0,112]
[11,23512,21,23520,22,23525,null,null,null,null,0,122]
[22,23619,23,23634,13,23649,null,null,null,null,0,221]
[22,23741,23,23746,24,23763,null,null,null,null,0,222]
[22,23858,23,23864,24,23868,null,null,null,null,0,222]
[22,23970,23,23979,13,24001,null,null,null,null,null,221]

{"sheet":"!M227A4D.UST","index":11,"n_rows":169,"n_cols":48,"rows_kept":169,"cut":false,"hidden":false,"merged":[[4,39,4,42],[5,39,5,40],[4,44,4,47],[5,44,5,45],[4,24,4,27],[5,24,5,25],[4,29,4,32],[5,29,5,30],[4,34,4,37],[5,34,5,35],[1,1,1,2],[5,13,5,14],[18,13,18,14],[19,13,19,14],[4,19,4,22],[5,19,5,20]]}
["Report for:!M227A4D.UST"]
["Date:","<date>"]
["Hen:","<hen>",null,null,null,"Correct Sequence",{"$f":"Start!J2","v":121},null,null,null,null,null,null,null,null,"Total Sequences in Data",{"$f":"4994-COUNTBLANK(L7:L5000)","v":163},null,null,null,null,"Total Sequences in Block Data",{"$f":"COUNTA(L7:L33)","v":27},null,null,null,"Total Sequences in Block Data",{"$f":"COUNTA(L34:L60)","v":27},null,null,null,"Total Sequences in Block Data",{"$f":"COUNTA(L61:L88)","v":28},null,null,null,"Total Sequences in Block Data",{"$f":"COUNTA(L89:L115)","v":27},null,null,null,"Total Sequences in Block Data",{"$f":"COUNTA(L116:L142)","v":27},null,null,null,"Total Sequences in Block Data",{"$f":"COUNTA(L143:L169)","v":27}]
[null,null,null,null,null,null,null,null,null,null,null,null,null,null,null,"Total Sequences in Summary",{"$f":"SUM(O7:O14)","v":162},null,null,null,null,"Total Sequences in Block Summary",{"$f":"SUM(U7:U14)","v":27},null,null,null,"Total Sequences in Block Summary",{"$f":"SUM(Z7:Z14)","v":27},null,null,null,"Total Sequences in Block Summary",{"$f":"SUM(AE7:AE14)","v":28},null,null,null,"Total Sequences in Block Summary",{"$f":"SUM(AJ7:AJ14)","v":27},null,null,null,"Total Sequences in Block Summary",{"$f":"SUM(AO7:AO14)","v":27},null,null,null,"Total Sequences in Block Summary",{"$f":"SUM(AT7:AT14)","v":26}]
[null,null,null,null,null,null,null,null,null,null,null,null,null,null,null,null,null,null,null,"Block 1",null,null,null,null,"Block 2",null,null,null,null,"Block 3",null,null,null,null,"Block 4",null,null,null,null,"Block 5",null,null,null,null,"Block 6"]
["Sequence\nComponent\n1","Time\n1","Sequence\nComponent\n2","Time\n2","Sequence\nComponent\n3","Time\n3","Sequence\nComponent\n4","Time\n4","Sequence\nComponent\n5","Time\n5","Correct?\n0=No 1=Yes","Sequence",null,"Frequency",null,"Relative Frequency","Variability",null,null,"Frequency",null,"Relative Frequency","Variability",null,"Frequency",null,"Relative Frequency","Variability",null,"Frequency",null,"Relative Frequency","Variability",null,"Frequency",null,"Relative Frequency","Variability",null,"Frequency",null,"Relative Frequency","Variability",null,"Frequency",null,"Relative Frequency","Variability"]
[22,6,14,20,24,29,null,null,null,null,0,212,null,111,{"$f":"COUNTIF($L$7:$L$500,N7)","v":28},{"$f":"O7/$Q$4","v":0.1728395061728395},{"$f":"IF(P7=0,0,(P7*((LOG(P7))/LOG(2))))","v":-0.43771519915528756},null,null,{"$f":"N7","v":111},{"$f":"COUNTIF(L7:L33,T7)","v":6},{"$f":"U7/(W4-U9)","v":0.25},{"$f":"IF(V7=0,0,(V7*((LOG(V7))/LOG(2))))","v":-0.5},null,{"$f":"N7","v":111},{"$f":"COUNTIF(L34:L60,Y7)","v":2},{"$f":"Z7/(AB4-Z9)","v":7.6923076923076927E-2},{"$f":"IF(AA7=0,0,(AA7*((LOG(AA7))/LOG(2))))","v":-0.28464920908777636},null,{"$f":"N7","v":111},{"$f":"COUNTIF(L61:L88,AD7)","v":6},{"$f":"AE7/(AG4-AE9)","v":0.22222222222222221},{"$f":"IF(AF7=0,0,(AF7*((LOG(AF7))/LOG(2))))","v":-0.48220555587606945},null,{"$f":"N7","v":111},{"$f":"COUNTIF(L89:L115,AI7)","v":4},{"$f":"AJ7/(AL4-AJ9)","v":0.15384615384615385},{"$f":"IF(AK7=0,0,(AK7*((LOG(AK7))/LOG(2))))","v":-0.4154522643293988},null,{"$f":"N7","v":111},{"$f":"COUNTIF(L116:L142,AN7)","v":3},{"$f":"AO7/(AQ4-AO9)","v":0.13043478260869565},{"$f":"IF(AP7=0,0,(AP7*((LOG(AP7))/LOG(2))))","v":-0.3832955811307639},null,{"$f":"N7","v":111},{"$f":"COUNTIF(L143:L169,AS7)","v":7},{"$f":"AT7/(AV4-AT9)","v":0.26923076923076922},{"$f":"IF(AU7=0,0,(AU7*((LOG(AU7))/LOG(2))))","v":-0.50967667586863141}]
[22,135,14,156,13,170,null,null,null,null,0,211,null,112,{"$f":"COUNTIF($L$7:$L$500,N8)","v":8},{"$f":"O8/$Q$4","v":4.9382716049382713E-2},{"$f":"IF(P8=0,0,(P8*((LOG(P8))/LOG(2))))","v":-0.21431358038936418},null,null,{"$f":"N8","v":112},{"$f":"COUNTIF(L7:L33,T8)","v":1},{"$f":"U8/(W4-U9)","v":4.1666666666666664E-2},{"$f":"IF(V8=0,0,(V8*((LOG(V8))/LOG(2))))","v":-0.19104010419671485},null,{"$f":"N8","v":112},{"$f":"COUNTIF(L34:L60,Y8)","v":3},{"$f":"Z8/(AB4-Z9)","v":0.11538461538461539},{"$f":"IF(AA8=0,0,(AA8*((LOG(AA8))/LOG(2))))","v":-0.35947814047153104},null,{"$f":"N8","v":112},{"$f":"COUNTIF(L61:L88,AD8)","v":0},{"$f":"AE8/(AG4-AE9)","v":0},{"$f":"IF(AF8=0,0,(AF8*((LOG(AF8))/LOG(2))))","v":0},null,{"$f":"N8","v":112},{"$f":"COUNTIF(L89:L115,AI8)","v":1},{"$f":"AJ8/(AL4-AJ9)","v":3.8461538461538464E-2},{"$f":"IF(AK8=0,0,(AK8*((LOG(AK8))/LOG(2))))","v":-0.18078614300542661},null,{"$f":"N8","v":112},{"$f":"COUNTIF(L116:L142,AN8)","v":1},{"$f":"AO8/(AQ4-AO9)","v":4.3478260869565216E-2},{"$f":"IF(AP8=0,0,(AP8*((LOG(AP8))/LOG(2))))","v":-0.19667660678508753},null,{"$f":"N8","v":112},{"$f":"COUNTIF(L143:L169,AS8)","v":2},{"$f":"AT8/(AV4-AT9)","v":7.6923076923076927E-2},{"$f":"IF(AU8=0,0,(AU8*((LOG(AU8))/LOG(2))))","v":-0.28464920908777636}]
[22,262,23,265,24,276,null,null,null,null,0,222,null,121,{"$f":"COUNTIF($L$7:$L$500,N9)","v":10},{"$f":"O9/$Q$4","v":6.1728395061728392E-2},{"$f":"IF(P9=0,0,(P9*((LOG(P9))/LOG(2))))","v":-0.24801987086402855},null,null,{"$f":"N9","v":121},{"$f":"COUNTIF(L7:L33,T9)","v":3},null,null,null,{"$f":"N9","v":121},{"$f":"COUNTIF(L34:L60,Y9)","v":1},null,null,null,{"$f":"N9","v":121},{"$f":"COUNTIF(L61:L88,AD9)","v":1},null,null,null,{"$f":"N9","v":121},{"$f":"COUNTIF(L89:L115,AI9)","v":1},null,null,null,{"$f":"N9","v":121},{"$f":"COUNTIF(L116:L142,AN9)","v":4},null,null,null,{"$f":"N9","v":121},{"$f":"COUNTIF(L143:L169,AS9)","v":0}]
[22,376,14,389,13,395,null,null,null,null,0,211,null,122,{"$f":"COUNTIF($L$7:$L$500,N10)","v":19},{"$f":"O10/$Q$4","v":0.11728395061728394},{"$f":"IF(P10=0,0,(P10*((LOG(P10))/LOG(2))))","v":-0.3626328845640725},null,null,{"$f":"N10","v":122},{"$f":"COUNTIF(L7:L33,T10)","v":4},{"$f":"U10/(W4-U9)","v":0.16666666666666666},{"$f":"IF(V10=0,0,(V10*((LOG(V10))/LOG(2))))","v":-0.43082708345352599},null,{"$f":"N10","v":122},{"$f":"COUNTIF(L34:L60,Y10)","v":3},{"$f":"Z10/(AB4-Z9)","v":0.11538461538461539},{"$f":"IF(AA10=0,0,(AA10*((LOG(AA10))/LOG(2))))","v":-0.35947814047153104},null,{"$f":"N10","v":122},{"$f":"COUNTIF(L61:L88,AD10)","v":2},{"$f":"AE10/(AG4-AE9)","v":7.407407407407407E-2},{"$f":"IF(AF10=0,0,(AF10*((LOG(AF10))/LOG(2))))","v":-0.27813981497507173},null,{"$f":"N10","v":122},{"$f":"COUNTIF(L89:L115,AI10)","v":5},{"$f":"AJ10/(AL4-AJ9)","v":0.19230769230769232},{"$f":"IF(AK10=0,0,(AK10*((LOG(AK10))/LOG(2))))","v":-0.45740608139494804},null,{"$f":"N10","v":122},{"$f":"COUNTIF(L116:L142,AN10)","v":4},{"$f":"AO10/(AQ4-AO9)","v":0.17391304347826086},{"$f":"IF(AP10=0,0,(AP10*((LOG(AP10))/LOG(2))))","v":-0.43888034018382832},null,{"$f":"N10","v":122},{"$f":"COUNTIF(L143:L169,AS10)","v":1},{"$f":"AT10/(AV4-AT9)","v":3.8461538461538464E-2},{"$f":"IF(AU10=0,0,(AU10*((LOG(AU10))/LOG(2))))","v":-0.18078614300542661}]
[11,495,12,500,13,507,null,null,null,null,0,111,null,211,{"$f":"COUNTIF($L$7:$L$500,N11)","v":43},{"$f":"O11/$Q$4","v":0.26543209876543211},{"$f":"IF(P11=0,0,(P11*((LOG(P11))/LOG(2))))","v":-0.50792694859165832},null,null,{"$f":"N11","v":211},{"$f":"COUNTIF(L7:L33,T11)","v":8},{"$f":"U11/(W4-U9)","v":0.33333333333333331},{"$f":"IF(V11=0,0,(V11*((LOG(V11))/LOG(2))))","v":-0.52832083357371862},null,{"$f":"N11","v":211},{"$f":"COUNTIF(L34:L60,Y11)","v":9},{"$f":"Z11/(AB4-Z9)","v":0.34615384615384615},{"$f":"IF(AA11=0,0,(AA11*((LOG(AA11))/LOG(2))))","v":-0.52979355578034681},null,{"$f":"N11","v":211},{"$f":"COUNTIF(L61:L88,AD11)","v":5},{"$f":"AE11/(AG4-AE9)","v":0.18518518518518517},{"$f":"IF(AF11=0,0,(AF11*((LOG(AF11))/LOG(2))))","v":-0.45054803838446406},null,{"$f":"N11","v":211},{"$f":"COUNTIF(L89:L115,AI11)","v":6},{"$f":"AJ11/(AL4-AJ9)","v":0.23076923076923078},{"$f":"IF(AK11=0,0,(AK11*((LOG(AK11))/LOG(2))))","v":-0.48818705017383146},null,{"$f":"N11","v":211},{"$f":"COUNTIF(L116:L142,AN11)","v":7},{"$f":"AO11/(AQ4-AO9)","v":0.30434782608695654},{"$f":"IF(AP11=0,0,(AP11*((LOG(AP11))/LOG(2))))","v":-0.52232387991286355},null,{"$f":"N11","v":211},{"$f":"COUNTIF(L143:L169,AS11)","v":8},{"$f":"AT11/(AV4-AT9)","v":0.30769230769230771},{"$f":"IF(AU11=0,0,(AU11*((LOG(AU11))/LOG(2))))","v":-0.52321222096648989}]
[11,851,12,856,13,863,null,null,null,null,0,111,null,212,{"$f":"COUNTIF($L$7:$L$500,N12)","v":11},{"$f":"O12/$Q$4","v":6.7901234567901231E-2},{"$f":"IF(P12=0,0,(P12*((LOG(P12))/LOG(2))))","v":-0.26348519893037409},null,null,{"$f":"N12","v":212},{"$f":"COUNTIF(L7:L33,T12)","v":2},{"$f":"U12/(W4-U9)","v":8.3333333333333329E-2},{"$f":"IF(V12=0,0,(V12*((LOG(V12))/LOG(2))))","v":-0.29874687506009634},null,{"$f":"N12","v":212},{"$f":"COUNTIF(L34:L60,Y12)","v":1},{"$f":"Z12/(AB4-Z9)","v":3.8461538461538464E-2},{"$f":"IF(AA12=0,0,(AA12*((LOG(AA12))/LOG(2))))","v":-0.18078614300542661},null,{"$f":"N12","v":212},{"$f":"COUNTIF(L61:L88,AD12)","v":3},{"$f":"AE12/(AG4-AE9)","v":0.1111111111111111},{"$f":"IF(AF12=0,0,(AF12*((LOG(AF12))/LOG(2))))","v":-0.3522138890491458},null,{"$f":"N12","v":212},{"$f":"COUNTIF(L89:L115,AI12)","v":2},{"$f":"AJ12/(AL4-AJ9)","v":7.6923076923076927E-2},{"$f":"IF(AK12=0,0,(AK12*((LOG(AK12))/LOG(2))))","v":-0.28464920908777636},null,{"$f":"N12","v":212},{"$f":"COUNTIF(L116:L142,AN12)","v":2},{"$f":"AO12/(AQ4-AO9)","v":8.6956521739130432E-2},{"$f":"IF(AP12=0,0,(AP12*((LOG(AP12))/LOG(2))))","v":-0.30639669183104457},null,{"$f":"N12","v":212},{"$f":"COUNTIF(L143:L169,AS12)","v":1},{"$f":"AT12/(AV4-AT9)","v":3.8461538461538464E-2},{"$f":"IF(AU12=0,0,(AU12*((LOG(AU12))/LOG(2))))","v":-0.18078614300542661}]
[22,957,23,963,13,985,null,null,null,null,0,221,null,221,{"$f":"COUNTIF($L$7:$L$500,N13)","v":27},{"$f":"O13/$Q$4","v":0.16666666666666666},{"$f":"IF(P13=0,0,(P13*((LOG(P13))/LOG(2))))","v":-0.43082708345352599},null,null,{"$f":"N13","v":221},{"$f":"COUNTIF(L7:L33,T13)","v":2},{"$f":"U13/(W4-U9)","v":8.3333333333333329E-2},{"$f":"IF(V13=0,0,(V13*((LOG(V13))/LOG(2))))","v":-0.29874687506009634},null,{"$f":"N13","v":221},{"$f":"COUNTIF(L34:L60,Y13)","v":8},{"$f":"Z13/(AB4-Z9)","v":0.30769230769230771},{"$f":"IF(AA13=0,0,(AA13*((LOG(AA13))/LOG(2))))","v":-0.52321222096648989},null,{"$f":"N13","v":221},{"$f":"COUNTIF(L61:L88,AD13)","v":6},{"$f":"AE13/(AG4-AE9)","v":0.22222222222222221},{"$f":"IF(AF13=0,0,(AF13*((LOG(AF13))/LOG(2))))","v":-0.48220555587606945},null,{"$f":"N13","v":221},{"$f":"COUNTIF(L89:L115,AI13)","v":5},{"$f":"AJ13/(AL4-AJ9)","v":0.19230769230769232},{"$f":"IF(AK13=0,0,(AK13*((LOG(AK13))/LOG(2))))","v":-0.45740608139494804},null,{"$f":"N13","v":221},{"$f":"COUNTIF(L116:L142,AN13)","v":2},{"$f":"AO13/(AQ4-AO9)","v":8.6956521739130432E-2},{"$f":"IF(AP13=0,0,(AP13*((LOG(AP13))/LOG(2))))","v":-0.30639669183104457},null,{"$f":"N13","v":221},{"$f":"COUNTIF(L143:L169,AS13)","v":4},{"$f":"AT13/(AV4-AT9)","v":0.15384615384615385},{"$f":"IF(AU13=0,0,(AU13*((LOG(AU13))/LOG(2))))","v":-0.4154522643293988}]
[22,1086,14,1103,13,1110,null,null,null,null,0,211,null,222,{"$f":"COUNTIF($L$7:$L$500,N14)","v":16},{"$f":"O14/$Q$4","v":9.8765432098765427E-2},{"$f":"IF(P14=0,0,(P14*((LOG(P14))/LOG(2))))","v":-0.32986172867996294},null,null,{"$f":"N14","v":222},{"$f":"COUNTIF(L7:L33,T14)","v":1},{"$f":"U14/(W4-U9)","v":4.1666666666666664E-2},{"$f":"IF(V14=0,0,(V14*((LOG(V14))/LOG(2))))","v":-0.19104010419671485},null,{"$f":"N14","v":222},{"$f":"COUNTIF(L34:L60,Y14)","v":0},{"$f":"Z14/(AB4-Z9)","v":0},{"$f":"IF(AA14=0,0,(AA14*((LOG(AA14))/LOG(2))))","v":0},null,{"$f":"N14","v":222},{"$f":"COUNTIF(L61:L88,AD14)","v":5},{"$f":"AE14/(AG4-AE9)","v":0.18518518518518517},{"$f":"IF(AF14=0,0,(AF14*((LOG(AF14))/LOG(2))))","v":-0.45054803838446406},null,{"$f":"N14","v":222},{"$f":"COUNTIF(L89:L115,AI14)","v":3},{"$f":"AJ14/(AL4-AJ9)","v":0.11538461538461539},{"$f":"IF(AK14=0,0,(AK14*((LOG(AK14))/LOG(2))))","v":-0.35947814047153104},null,{"$f":"N14","v":222},{"$f":"COUNTIF(L116:L142,AN14)","v":4},{"$f":"AO14/(AQ4-AO9)","v":0.17391304347826086},{"$f":"IF(AP14=0,0,(AP14*((LOG(AP14))/LOG(2))))","v":-0.43888034018382832},null,{"$f":"N14","v":222},{"$f":"COUNTIF(L143:L169,AS14)","v":3},{"$f":"AT14/(AV4-AT9)","v":0.11538461538461539},{"$f":"IF(AU14=0,0,(AU14*((LOG(AU14))/LOG(2))))","v":-0.35947814047153104}]
[22,1215,23,1219,13,1232,null,null,null,null,0,221,null,null,null,{"$f":"SUM(P7:P14)","v":1},{"$f":"-SUM(Q7:Q14)","v":2.7947824946282744},null,null,null,null,{"$f":"SUM(V7:V14)","v":1.0000000000000002},{"$f":"-SUM(W7:W14)","v":2.4387218755408671},null,null,null,{"$f":"SUM(AA7:AA14)","v":1},{"$f":"-SUM(AB7:AB14)","v":2.2373974097831018},null,null,null,{"$f":"SUM(AF7:AF14)","v":1},{"$f":"-SUM(AG7:AG14)","v":2.4958608925452843},null,null,null,{"$f":"SUM(AK7:AK14)","v":1},{"$f":"-SUM(AL7:AL14)","v":2.6433649698578603},null,null,null,{"$f":"SUM(AP7:AP14)","v":0.99999999999999989},{"$f":"-SUM(AQ7:AQ14)","v":2.5928501318584609},null,null,null,{"$f":"SUM(AU7:AU14)","v":1},{"$f":"-SUM(AV7:AV14)","v":2.4540407967346809}]
[11,1333,21,1340,22,1351,null,null,null,null,0,122,null,null,null,"U=",{"$f":"Q15/(LOG(Q4)/LOG(2))","v":0.38076833907094843},null,null,null,null,"U1=",{"$f":"W15/(LOG(W4)/LOG(2))","v":0.51288739732144062},null,null,null,"U2=",{"$f":"AB15/(LOG(AB4)/LOG(2))","v":0.4705468654652899},null,null,null,"U3=",{"$f":"AG15/(LOG(AG4)/LOG(2))","v":0.51917549941934116},null,null,null,"U4=",{"$f":"AL15/(LOG(AL4)/LOG(2))","v":0.55592586967728097},null,null,null,"U5=",{"$f":"AQ15/(LOG(AQ4)/LOG(2))","v":0.54530209824705989},null,null,null,"U6=",{"$f":"AV15/(LOG(AV4)/LOG(2))","v":0.52208749476425442}]
[11,1367,12,1375,24,1387,null,null,null,null,0,112]
[11,1493,21,1502,22,1511,null,null,null,null,0,122]
[22,1606,14,1618,13,1629,null,null,null,null,0,211,null,"Total Target Seq"]
[22,1741,14,1753,13,1765,null,null,null,null,0,211,null,{"$f":"COUNTIF(L7:L169,G3)","v":10},null,27,27,28,27,27,27]
[11,1868,12,1874,13,1881,null,null,null,null,0,111,null,null,null,"% of reinforcement given in 6 equal intervals based on number of trials "]
[11,1984,21,1991,11,2012,null,null,null,null,0,121,null,null,null,"%_1","%_2","%_3","%_4","%_5","%_6"]
[11,2184,21,2193,11,2203,null,null,null,null,0,121,null,null,"target sequence",{"$f":"$G$3","v":121},{"$f":"$G$3","v":121},{"$f":"$G$3","v":121},{"$f":"$G$3","v":121},{"$f":"$G$3","v":121},{"$f":"$G$3","v":121}]
[11,2463,12,2471,13,2487,null,null,null,null,0,111,null,null,"total reinforcement",{"$f":"U9","v":3},{"$f":"Z9","v":1},{"$f":"AE9","v":1},{"$f":"AJ9","v":1},{"$f":"AO9","v":4},{"$f":"AT9","v":0}]
[11,2598,21,2605,22,2611,null,null,null,null,0,122,null,null,"% target"]
[11,2719,12,2728,13,2737,null,null,null,null,0,111,null,null,"CCRF"]
[22,2842,14,2862,24,2892,null,null,null,null,0,212,null,null,"% CCRf"]
[22,2988,14,3005,13,3011,null,null,null,null,0,211,null,null,"average response rate",{"$f":"F33/P20","v":140.33333333333334},{"$f":"(F60-F33)/Q20","v":134.62962962962962},{"$f":"(F88-F60)/R20","v":135.53571428571428},{"$f":"(F115-F88)/S20","v":143.7037037037037},{"$f":"(F142-F115)/T20","v":171.4814814814815},{"$f":"(F169-F142)/U20","v":-730.7037037037037}]
[22,3122,14,3140,13,3150,null,null,null,null,0,211]
[11,3252,21,3259,22,3265,null,null,null,null,0,122]
[22,3376,14,3393,13,3402,null,null,null,null,0,211]
[11,3505,21,3512,11,3525,null,null,null,null,0,121]
[11,3772,12,3781,13,3789,null,null,null,null,0,111]
[11,3916,12,3918,24,3928,null,null,null,null,0,112]
[22,4045,14,4065,13,4074,null,null,null,null,0,211]
[22,4170,23,4180,13,4195,null,null,null,null,0,221]
[11,4294,21,4302,22,4309,null,null,null,null,0,122]
[22,4450,23,4457,13,4472,null,null,null,null,0,221]
[22,4567,14,4583,13,4594,null,null,null,null,0,211]
[22,4695,14,4709,13,4723,null,null,null,null,0,211]
[22,4816,14,4834,13,4842,null,null,null,null,0,211]
[22,4951,14,4967,13,4975,null,null,null,null,0,211]
[22,5076,14,5087,24,5100,null,null,null,null,0,212]
[22,5197,14,5209,13,5221,null,null,null,null,0,211]
[11,5343,12,5360,24,5376,null,null,null,null,0,112]
[22,5480,14,5499,13,5507,null,null,null,null,0,211]
[22,5609,14,5622,13,5629,null,null,null,null,0,211]
[11,5726,12,5733,24,5747,null,null,null,null,0,112]
[22,5852,23,5857,13,5871,null,null,null,null,0,221]
[11,5971,21,5981,22,5989,null,null,null,null,0,122]
[22,6085,23,6094,13,6115,null,null,null,null,0,221]
[11,6217,21,6225,11,6239,null,null,null,null,0,121]
[11,6535,12,6549,13,6559,null,null,null,null,0,111]
[22,6658,23,6669,13,6681,null,null,null,null,0,221]
[11,6784,21,6792,22,6798,null,null,null,null,0,122]
[22,6905,14,6937,13,6948,null,null,null,null,0,211]
[22,7053,23,7060,13,7073,null,null,null,null,0,221]
[11,7172,12,7183,13,7190,null,null,null,null,0,111]
[22,7285,23,7293,13,7308,null,null,null,null,0,221]
[22,7405,23,7411,13,7424,null,null,null,null,0,221]
[22,7522,14,7543,24,7576,null,null,null,null,0,212]
[11,7683,21,7693,11,7714,null,null,null,null,0,121]
[11,7890,12,7897,13,7906,null,null,null,null,0,111]
[22,8008,23,8014,13,8035,null,null,null,null,0,221]
[22,8132,23,8139,24,8145,null,null,null,null,0,222]
[22,8243,14,8263,24,8273,null,null,null,null,0,212]
[22,8369,23,8380,13,8394,null,null,null,null,0,221]
[11,8495,12,8528,13,8537,null,null,null,null,0,111]
[11,8640,12,8660,13,8670,null,null,null,null,0,111]
[11,8773,12,8783,13,8790,null,null,null,null,0,111]
[11,8887,12,8893,13,8901,null,null,null,null,0,111]
[22,8999,14,9015,13,9021,null,null,null,null,0,211]
[11,9130,12,9138,13,9146,null,null,null,null,0,111]
[22,9257,14,9268,13,9276,null,null,null,null,0,211]
[22,9374,14,9390,24,9400,null,null,null,null,0,212]
[22,9500,23,9504,13,9521,null,null,null,null,0,221]
[22,9634,14,9645,13,9650,null,null,null,null,0,211]
[22,9749,23,9759,13,9781,null,null,null,null,0,221]
[22,9903,14,9914,13,9925,null,null,null,null,0,211]
[22,10034,23,10040,24,10046,null,null,null,null,0,222]
[22,10278,23,10281,24,10289,null,null,null,null,0,222]
[11,10402,21,10415,22,10446,null,null,null,null,0,122]
[22,10544,14,10568,13,10577,null,null,null,null,0,211]
[22,10675,23,10680,24,10692,null,null,null,null,0,222]
[22,10792,23,10808,24,10815,null,null,null,null,0,222]
[22,10917,23,10927,13,10949,null,null,null,null,0,221]
[22,11050,23,11060,13,11076,null,null,null,null,0,221]
[11,11205,21,11214,22,11219,null,null,null,null,0,122]
[22,11314,23,11323,13,11337,null,null,null,null,0,221]
[22,11446,14,11458,13,11467,null,null,null,null,0,211]
[22,11561,14,11575,24,11583,null,null,null,null,0,212]
[11,11706,12,11739,24,11755,null,null,null,null,0,112]
[11,11976,12,11982,13,11989,null,null,null,null,0,111]
[11,12115,21,12123,22,12148,null,null,null,null,0,122]
[11,12262,12,12270,13,12279,null,null,null,null,0,111]
[11,12389,12,12395,13,12397,null,null,null,null,0,111]
[22,12495,14,12513,24,12522,null,null,null,null,0,212]
[11,12626,21,12635,22,12641,null,null,null,null,0,122]
[22,12736,23,12746,13,12762,null,null,null,null,0,221]
[22,12861,23,12867,13,12880,null,null,null,null,0,221]
[22,12974,23,12983,13,13000,null,null,null,null,0,221]
[22,13133,14,13152,13,13164,null,null,null,null,0,211]
[22,13264,23,13269,13,13285,null,null,null,null,0,221]
[22,13390,14,13404,13,13416,null,null,null,null,0,211]
[11,13518,21,13527,22,13534,null,null,null,null,0,122]
[22,13645,23,13672,24,13680,null,null,null,null,0,222]
[11,13813,21,13823,22,13827,null,null,null,null,0,122]
[22,13925,23,13932,24,13946,null,null,null,null,0,222]
[22,14051,14,14066,13,14077,null,null,null,null,0,211]
[22,14203,23,14210,24,14216,null,null,null,null,0,222]
[11,14312,21,14325,11,14338,null,null,null,null,0,121]
[11,14695,12,14702,13,14712,null,null,null,null,0,111]
[22,14820,14,14832,13,14840,null,null,null,null,0,211]
[11,14949,21,14957,22,14963,null,null,null,null,0,122]
[22,15070,14,15084,13,15099,null,null,null,null,0,211]
[11,15197,21,15207,22,15215,null,null,null,null,0,122]
[11,15318,12,15324,13,15332,null,null,null,null,0,111]
[22,15437,14,15454,13,15464,null,null,null,null,0,211]
[22,15603,23,15612,24,15619,null,null,null,null,0,222]
[22,16067,23,16099,24,16107,null,null,null,null,0,222]
[22,16203,23,16209,24,16216,null,null,null,null,0,222]
[11,16320,21,16329,22,16336,null,null,null,null,0,122]
[22,16433,14,16457,24,16480,null,null,null,null,0,212]
[11,16582,21,16590,11,16607,null,null,null,null,0,121]
[11,16872,12,16880,13,16887,null,null,null,null,0,111]
[22,16993,14,17008,13,17024,null,null,null,null,0,211]
[22,17124,14,17145,13,17162,null,null,null,null,0,211]
[11,17266,12,17277,24,17288,null,null,null,null,0,112]
[22,17394,14,17409,24,17425,null,null,null,null,0,212]
[22,17520,14,17537,13,17549,null,null,null,null,0,211]
[11,17651,21,17658,11,17674,null,null,null,null,0,121]
[11,17858,21,17866,22,17872,null,null,null,null,0,122]
[11,17970,21,17981,11,18005,null,null,null,null,0,121]
[11,18474,12,18482,13,18491,null,null,null,null,0,111]
[11,18597,21,18647,22,18655,null,null,null,null,0,122]
[22,18761,14,18782,13,18791,null,null,null,null,0,211]
[22,18926,23,18933,24,18955,null,null,null,null,0,222]
[22,19063,23,19072,13,19095,null,null,null,null,0,221]
[22,19296,14,19317,13,19330,null,null,null,null,0,211]
[22,19448,14,19464,13,19473,null,null,null,null,0,211]
[22,19566,23,19570,13,19587,null,null,null,null,0,221]
[11,19693,21,19702,11,19729,null,null,null,null,0,121]
[22,20025,14,20040,13,20050,null,null,null,null,0,211]
[22,20164,23,20170,13,20186,null,null,null,null,0,221]
[22,20292,23,20301,13,20320,null,null,null,null,0,221]
[22,20415,23,20419,24,20426,null,null,null,null,0,222]
[22,20621,14,20636,13,20654,null,null,null,null,0,211]
[22,20759,14,20779,13,20788,null,null,null,null,0,211]
[22,20890,14,20906,13,20917,null,null,null,null,0,211]
[11,21021,12,21038,24,21050,null,null,null,null,0,112]
[22,21148,23,21154,13,21172,null,null,null,null,0,221]
[11,21288,12,21295,13,21305,null,null,null,null,0,111]
[22,21628,23,21632,13,21643,null,null,null,null,0,221]
[22,21742,14,21761,13,21775,null,null,null,null,0,211]
[22,21881,14,21895,13,21907,null,null,null,null,0,211]
[11,22023,21,22037,22,22043,null,null,null,null,0,122]
[22,22274,14,22290,24,22301,null,null,null,null,0,212]
[11,22414,12,22422,13,22430,null,null,null,null,0,111]
[22,22542,14,22563,13,22579,null,null,null,null,0,211]
[11,22700,12,22703,13,22709,null,null,null,null,0,111]
[11,22829,12,22838,13,22847,null,null,null,null,0,111]
[22,22954,14,22970,13,22980,null,null,null,null,0,211]
[11,23082,12,23093,13,23101,null,null,null,null,0,111]
[11,23215,12,23222,24,23234,null,null,null,null,0,112]
[11,23493,12,23505,13,23513,null,null,null,null,0,111]
[22,23609,23,23625,24,23630,null,null,null,null,0,222]
[11,23747,12,23753,13,23768,null,null,null,null,0,111]
[22,23879,23,23885,24,23892,null,null,null,null,0,222]
[22,23989,23,23995,null,null,null,null,null,null,null,22]

{"sheet":"!M228A4D.UST","index":12,"n_rows":166,"n_cols":48,"rows_kept":166,"cut":false,"hidden":false,"merged":[[4,39,4,42],[5,39,5,40],[4,44,4,47],[5,44,5,45],[4,24,4,27],[5,24,5,25],[4,29,4,32],[5,29,5,30],[4,34,4,37],[5,34,5,35],[1,1,1,2],[5,13,5,14],[18,13,18,14],[19,13,19,14],[4,19,4,22],[5,19,5,20]]}
["Report for:!M228A4D.UST"]
["Date:","<date>"]
["Hen:","<hen>",null,null,null,"Correct Sequence",{"$f":"Start!J2","v":121},null,null,null,null,null,null,null,null,"Total Sequences in Data",{"$f":"4994-COUNTBLANK(L7:L5000)","v":160},null,null,null,null,"Total Sequences in Block Data",{"$f":"COUNTA(L7:L33)","v":27},null,null,null,"Total Sequences in Block Data",{"$f":"COUNTA(L34:L59)","v":26},null,null,null,"Total Sequences in Block Data",{"$f":"COUNTA(L60:L86)","v":27},null,null,null,"Total Sequences in Block Data",{"$f":"COUNTA(L87:L113)","v":27},null,null,null,"Total Sequences in Block Data",{"$f":"COUNTA(L114:L139)","v":26},null,null,null,"Total Sequences in Block Data",{"$f":"COUNTA(L140:L166)","v":27}]
[null,null,null,null,null,null,null,null,null,null,null,null,null,null,null,"Total Sequences in Summary",{"$f":"SUM(O7:O14)","v":160},null,null,null,null,"Total Sequences in Block Summary",{"$f":"SUM(U7:U14)","v":27},null,null,null,"Total Sequences in Block Summary",{"$f":"SUM(Z7:Z14)","v":26},null,null,null,"Total Sequences in Block Summary",{"$f":"SUM(AE7:AE14)","v":27},null,null,null,"Total Sequences in Block Summary",{"$f":"SUM(AJ7:AJ14)","v":27},null,null,null,"Total Sequences in Block Summary",{"$f":"SUM(AO7:AO14)","v":26},null,null,null,"Total Sequences in Block Summary",{"$f":"SUM(AT7:AT14)","v":27}]
[null,null,null,null,null,null,null,null,null,null,null,null,null,null,null,null,null,null,null,"Block 1",null,null,null,null,"Block 2",null,null,null,null,"Block 3",null,null,null,null,"Block 4",null,null,null,null,"Block 5",null,null,null,null,"Block 6"]
["Sequence\nComponent\n1","Time\n1","Sequence\nComponent\n2","Time\n2","Sequence\nComponent\n3","Time\n3","Sequence\nComponent\n4","Time\n4","Sequence\nComponent\n5","Time\n5","Correct?\n0=No 1=Yes","Sequence",null,"Frequency",null,"Relative Frequency","Variability",null,null,"Frequency",null,"Relative Frequency","Variability",null,"Frequency",null,"Relative Frequency","Variability",null,"Frequency",null,"Relative Frequency","Variability",null,"Frequency",null,"Relative Frequency","Variability",null,"Frequency",null,"Relative Frequency","Variability",null,"Frequency",null,"Relative Frequency","Variability"]
[11,11,21,20,22,26,null,null,null,null,0,122,null,111,{"$f":"COUNTIF($L$7:$L$500,N7)","v":27},{"$f":"O7/$Q$4","v":0.16875000000000001},{"$f":"IF(P7=0,0,(P7*((LOG(P7))/LOG(2))))","v":-0.43318810002215707},null,null,{"$f":"N7","v":111},{"$f":"COUNTIF(L7:L33,T7)","v":4},{"$f":"U7/(W4-U9)","v":0.16666666666666666},{"$f":"IF(V7=0,0,(V7*((LOG(V7))/LOG(2))))","v":-0.43082708345352599},null,{"$f":"N7","v":111},{"$f":"COUNTIF(L34:L59,Y7)","v":5},{"$f":"Z7/(AB4-Z9)","v":0.20833333333333334},{"$f":"IF(AA7=0,0,(AA7*((LOG(AA7))/LOG(2))))","v":-0.47146550121537367},null,{"$f":"N7","v":111},{"$f":"COUNTIF(L60:L86,AD7)","v":2},{"$f":"AE7/(AG4-AE9)","v":8.6956521739130432E-2},{"$f":"IF(AF7=0,0,(AF7*((LOG(AF7))/LOG(2))))","v":-0.30639669183104457},null,{"$f":"N7","v":111},{"$f":"COUNTIF(L87:L113,AI7)","v":7},{"$f":"AJ7/(AL4-AJ9)","v":0.33333333333333331},{"$f":"IF(AK7=0,0,(AK7*((LOG(AK7))/LOG(2))))","v":-0.52832083357371862},null,{"$f":"N7","v":111},{"$f":"COUNTIF(L114:L139,AN7)","v":6},{"$f":"AO7/(AQ4-AO9)","v":0.25},{"$f":"IF(AP7=0,0,(AP7*((LOG(AP7))/LOG(2))))","v":-0.5},null,{"$f":"N7","v":111},{"$f":"COUNTIF(L140:L166,AS7)","v":3},{"$f":"AT7/(AV4-AT9)","v":0.13636363636363635},{"$f":"IF(AU7=0,0,(AU7*((LOG(AU7))/LOG(2))))","v":-0.39197306153401923}]
[11,133,12,140,13,147,null,null,null,null,0,111,null,112,{"$f":"COUNTIF($L$7:$L$500,N8)","v":5},{"$f":"O8/$Q$4","v":3.125E-2},{"$f":"IF(P8=0,0,(P8*((LOG(P8))/LOG(2))))","v":-0.15625},null,null,{"$f":"N8","v":112},{"$f":"COUNTIF(L7:L33,T8)","v":2},{"$f":"U8/(W4-U9)","v":8.3333333333333329E-2},{"$f":"IF(V8=0,0,(V8*((LOG(V8))/LOG(2))))","v":-0.29874687506009634},null,{"$f":"N8","v":112},{"$f":"COUNTIF(L34:L59,Y8)","v":0},{"$f":"Z8/(AB4-Z9)","v":0},{"$f":"IF(AA8=0,0,(AA8*((LOG(AA8))/LOG(2))))","v":0},null,{"$f":"N8","v":112},{"$f":"COUNTIF(L60:L86,AD8)","v":0},{"$f":"AE8/(AG4-AE9)","v":0},{"$f":"IF(AF8=0,0,(AF8*((LOG(AF8))/LOG(2))))","v":0},null,{"$f":"N8","v":112},{"$f":"COUNTIF(L87:L113,AI8)","v":0},{"$f":"AJ8/(AL4-AJ9)","v":0},{"$f":"IF(AK8=0,0,(AK8*((LOG(AK8))/LOG(2))))","v":0},null,{"$f":"N8","v":112},{"$f":"COUNTIF(L114:L139,AN8)","v":1},{"$f":"AO8/(AQ4-AO9)","v":4.1666666666666664E-2},{"$f":"IF(AP8=0,0,(AP8*((LOG(AP8))/LOG(2))))","v":-0.19104010419671485},null,{"$f":"N8","v":112},{"$f":"COUNTIF(L140:L166,AS8)","v":2},{"$f":"AT8/(AV4-AT9)","v":9.0909090909090912E-2},{"$f":"IF(AU8=0,0,(AU8*((LOG(AU8))/LOG(2))))","v":-0.31449378351248153}]
[11,245,21,253,22,260,null,null,null,null,0,122,null,121,{"$f":"COUNTIF($L$7:$L$500,N9)","v":22},{"$f":"O9/$Q$4","v":0.13750000000000001},{"$f":"IF(P9=0,0,(P9*((LOG(P9))/LOG(2))))","v":-0.39359326548438395},null,null,{"$f":"N9","v":121},{"$f":"COUNTIF(L7:L33,T9)","v":3},null,null,null,{"$f":"N9","v":121},{"$f":"COUNTIF(L34:L59,Y9)","v":2},null,null,null,{"$f":"N9","v":121},{"$f":"COUNTIF(L60:L86,AD9)","v":4},null,null,null,{"$f":"N9","v":121},{"$f":"COUNTIF(L87:L113,AI9)","v":6},null,null,null,{"$f":"N9","v":121},{"$f":"COUNTIF(L114:L139,AN9)","v":2},null,null,null,{"$f":"N9","v":121},{"$f":"COUNTIF(L140:L166,AS9)","v":5}]
[11,360,12,365,13,373,null,null,null,null,0,111,null,122,{"$f":"COUNTIF($L$7:$L$500,N10)","v":22},{"$f":"O10/$Q$4","v":0.13750000000000001},{"$f":"IF(P10=0,0,(P10*((LOG(P10))/LOG(2))))","v":-0.39359326548438395},null,null,{"$f":"N10","v":122},{"$f":"COUNTIF(L7:L33,T10)","v":8},{"$f":"U10/(W4-U9)","v":0.33333333333333331},{"$f":"IF(V10=0,0,(V10*((LOG(V10))/LOG(2))))","v":-0.52832083357371862},null,{"$f":"N10","v":122},{"$f":"COUNTIF(L34:L59,Y10)","v":2},{"$f":"Z10/(AB4-Z9)","v":8.3333333333333329E-2},{"$f":"IF(AA10=0,0,(AA10*((LOG(AA10))/LOG(2))))","v":-0.29874687506009634},null,{"$f":"N10","v":122},{"$f":"COUNTIF(L60:L86,AD10)","v":4},{"$f":"AE10/(AG4-AE9)","v":0.17391304347826086},{"$f":"IF(AF10=0,0,(AF10*((LOG(AF10))/LOG(2))))","v":-0.43888034018382832},null,{"$f":"N10","v":122},{"$f":"COUNTIF(L87:L113,AI10)","v":3},{"$f":"AJ10/(AL4-AJ9)","v":0.14285714285714285},{"$f":"IF(AK10=0,0,(AK10*((LOG(AK10))/LOG(2))))","v":-0.40105070315108626},null,{"$f":"N10","v":122},{"$f":"COUNTIF(L114:L139,AN10)","v":3},{"$f":"AO10/(AQ4-AO9)","v":0.125},{"$f":"IF(AP10=0,0,(AP10*((LOG(AP10))/LOG(2))))","v":-0.375},null,{"$f":"N10","v":122},{"$f":"COUNTIF(L140:L166,AS10)","v":2},{"$f":"AT10/(AV4-AT9)","v":9.0909090909090912E-2},{"$f":"IF(AU10=0,0,(AU10*((LOG(AU10))/LOG(2))))","v":-0.31449378351248153}]
[11,474,21,482,22,488,null,null,null,null,0,122,null,211,{"$f":"COUNTIF($L$7:$L$500,N11)","v":23},{"$f":"O11/$Q$4","v":0.14374999999999999},{"$f":"IF(P11=0,0,(P11*((LOG(P11))/LOG(2))))","v":-0.40226513245686274},null,null,{"$f":"N11","v":211},{"$f":"COUNTIF(L7:L33,T11)","v":2},{"$f":"U11/(W4-U9)","v":8.3333333333333329E-2},{"$f":"IF(V11=0,0,(V11*((LOG(V11))/LOG(2))))","v":-0.29874687506009634},null,{"$f":"N11","v":211},{"$f":"COUNTIF(L34:L59,Y11)","v":3},{"$f":"Z11/(AB4-Z9)","v":0.125},{"$f":"IF(AA11=0,0,(AA11*((LOG(AA11))/LOG(2))))","v":-0.375},null,{"$f":"N11","v":211},{"$f":"COUNTIF(L60:L86,AD11)","v":5},{"$f":"AE11/(AG4-AE9)","v":0.21739130434782608},{"$f":"IF(AF11=0,0,(AF11*((LOG(AF11))/LOG(2))))","v":-0.47861605677601093},null,{"$f":"N11","v":211},{"$f":"COUNTIF(L87:L113,AI11)","v":5},{"$f":"AJ11/(AL4-AJ9)","v":0.23809523809523808},{"$f":"IF(AK11=0,0,(AK11*((LOG(AK11))/LOG(2))))","v":-0.49294983997414238},null,{"$f":"N11","v":211},{"$f":"COUNTIF(L114:L139,AN11)","v":5},{"$f":"AO11/(AQ4-AO9)","v":0.20833333333333334},{"$f":"IF(AP11=0,0,(AP11*((LOG(AP11))/LOG(2))))","v":-0.47146550121537367},null,{"$f":"N11","v":211},{"$f":"COUNTIF(L140:L166,AS11)","v":3},{"$f":"AT11/(AV4-AT9)","v":0.13636363636363635},{"$f":"IF(AU11=0,0,(AU11*((LOG(AU11))/LOG(2))))","v":-0.39197306153401923}]
[22,598,23,606,24,613,null,null,null,null,0,222,null,212,{"$f":"COUNTIF($L$7:$L$500,N12)","v":21},{"$f":"O12/$Q$4","v":0.13125000000000001},{"$f":"IF(P12=0,0,(P12*((LOG(P12))/LOG(2))))","v":-0.38451140071425399},null,null,{"$f":"N12","v":212},{"$f":"COUNTIF(L7:L33,T12)","v":0},{"$f":"U12/(W4-U9)","v":0},{"$f":"IF(V12=0,0,(V12*((LOG(V12))/LOG(2))))","v":0},null,{"$f":"N12","v":212},{"$f":"COUNTIF(L34:L59,Y12)","v":1},{"$f":"Z12/(AB4-Z9)","v":4.1666666666666664E-2},{"$f":"IF(AA12=0,0,(AA12*((LOG(AA12))/LOG(2))))","v":-0.19104010419671485},null,{"$f":"N12","v":212},{"$f":"COUNTIF(L60:L86,AD12)","v":6},{"$f":"AE12/(AG4-AE9)","v":0.2608695652173913},{"$f":"IF(AF12=0,0,(AF12*((LOG(AF12))/LOG(2))))","v":-0.50572159704413644},null,{"$f":"N12","v":212},{"$f":"COUNTIF(L87:L113,AI12)","v":5},{"$f":"AJ12/(AL4-AJ9)","v":0.23809523809523808},{"$f":"IF(AK12=0,0,(AK12*((LOG(AK12))/LOG(2))))","v":-0.49294983997414238},null,{"$f":"N12","v":212},{"$f":"COUNTIF(L114:L139,AN12)","v":2},{"$f":"AO12/(AQ4-AO9)","v":8.3333333333333329E-2},{"$f":"IF(AP12=0,0,(AP12*((LOG(AP12))/LOG(2))))","v":-0.29874687506009634},null,{"$f":"N12","v":212},{"$f":"COUNTIF(L140:L166,AS12)","v":7},{"$f":"AT12/(AV4-AT9)","v":0.31818181818181818},{"$f":"IF(AU12=0,0,(AU12*((LOG(AU12))/LOG(2))))","v":-0.52566076709353871}]
[22,710,23,721,24,729,null,null,null,null,0,222,null,221,{"$f":"COUNTIF($L$7:$L$500,N13)","v":14},{"$f":"O13/$Q$4","v":8.7499999999999994E-2},{"$f":"IF(P13=0,0,(P13*((LOG(P13))/LOG(2))))","v":-0.30752515262260383},null,null,{"$f":"N13","v":221},{"$f":"COUNTIF(L7:L33,T13)","v":0},{"$f":"U13/(W4-U9)","v":0},{"$f":"IF(V13=0,0,(V13*((LOG(V13))/LOG(2))))","v":0},null,{"$f":"N13","v":221},{"$f":"COUNTIF(L34:L59,Y13)","v":5},{"$f":"Z13/(AB4-Z9)","v":0.20833333333333334},{"$f":"IF(AA13=0,0,(AA13*((LOG(AA13))/LOG(2))))","v":-0.47146550121537367},null,{"$f":"N13","v":221},{"$f":"COUNTIF(L60:L86,AD13)","v":3},{"$f":"AE13/(AG4-AE9)","v":0.13043478260869565},{"$f":"IF(AF13=0,0,(AF13*((LOG(AF13))/LOG(2))))","v":-0.3832955811307639},null,{"$f":"N13","v":221},{"$f":"COUNTIF(L87:L113,AI13)","v":0},{"$f":"AJ13/(AL4-AJ9)","v":0},{"$f":"IF(AK13=0,0,(AK13*((LOG(AK13))/LOG(2))))","v":0},null,{"$f":"N13","v":221},{"$f":"COUNTIF(L114:L139,AN13)","v":4},{"$f":"AO13/(AQ4-AO9)","v":0.16666666666666666},{"$f":"IF(AP13=0,0,(AP13*((LOG(AP13))/LOG(2))))","v":-0.43082708345352599},null,{"$f":"N13","v":221},{"$f":"COUNTIF(L140:L166,AS13)","v":2},{"$f":"AT13/(AV4-AT9)","v":9.0909090909090912E-2},{"$f":"IF(AU13=0,0,(AU13*((LOG(AU13))/LOG(2))))","v":-0.31449378351248153}]
[11,830,12,835,13,842,null,null,null,null,0,111,null,222,{"$f":"COUNTIF($L$7:$L$500,N14)","v":26},{"$f":"O14/$Q$4","v":0.16250000000000001},{"$f":"IF(P14=0,0,(P14*((LOG(P14))/LOG(2))))","v":-0.42599186122126886},null,null,{"$f":"N14","v":222},{"$f":"COUNTIF(L7:L33,T14)","v":8},{"$f":"U14/(W4-U9)","v":0.33333333333333331},{"$f":"IF(V14=0,0,(V14*((LOG(V14))/LOG(2))))","v":-0.52832083357371862},null,{"$f":"N14","v":222},{"$f":"COUNTIF(L34:L59,Y14)","v":8},{"$f":"Z14/(AB4-Z9)","v":0.33333333333333331},{"$f":"IF(AA14=0,0,(AA14*((LOG(AA14))/LOG(2))))","v":-0.52832083357371862},null,{"$f":"N14","v":222},{"$f":"COUNTIF(L60:L86,AD14)","v":3},{"$f":"AE14/(AG4-AE9)","v":0.13043478260869565},{"$f":"IF(AF14=0,0,(AF14*((LOG(AF14))/LOG(2))))","v":-0.3832955811307639},null,{"$f":"N14","v":222},{"$f":"COUNTIF(L87:L113,AI14)","v":1},{"$f":"AJ14/(AL4-AJ9)","v":4.7619047619047616E-2},{"$f":"IF(AK14=0,0,(AK14*((LOG(AK14))/LOG(2))))","v":-0.20915797251327431},null,{"$f":"N14","v":222},{"$f":"COUNTIF(L114:L139,AN14)","v":3},{"$f":"AO14/(AQ4-AO9)","v":0.125},{"$f":"IF(AP14=0,0,(AP14*((LOG(AP14))/LOG(2))))","v":-0.375},null,{"$f":"N14","v":222},{"$f":"COUNTIF(L140:L166,AS14)","v":3},{"$f":"AT14/(AV4-AT9)","v":0.13636363636363635},{"$f":"IF(AU14=0,0,(AU14*((LOG(AU14))/LOG(2))))","v":-0.39197306153401923}]
[11,944,21,953,22,961,null,null,null,null,0,122,null,null,null,{"$f":"SUM(P7:P14)","v":1},{"$f":"-SUM(Q7:Q14)","v":2.8969181780059143},null,null,null,null,{"$f":"SUM(V7:V14)","v":1},{"$f":"-SUM(W7:W14)","v":2.0849625007211561},null,null,null,{"$f":"SUM(AA7:AA14)","v":1},{"$f":"-SUM(AB7:AB14)","v":2.3360388152612774},null,null,null,{"$f":"SUM(AF7:AF14)","v":1},{"$f":"-SUM(AG7:AG14)","v":2.4962058480965479},null,null,null,{"$f":"SUM(AK7:AK14)","v":1},{"$f":"-SUM(AL7:AL14)","v":2.124429189186364},null,null,null,{"$f":"SUM(AP7:AP14)","v":1},{"$f":"-SUM(AQ7:AQ14)","v":2.6420795639257109},null,null,null,{"$f":"SUM(AU7:AU14)","v":1},{"$f":"-SUM(AV7:AV14)","v":2.6450613022330414}]
[22,1063,23,1071,24,1077,null,null,null,null,0,222,null,null,null,"U=",{"$f":"Q15/(LOG(Q4)/LOG(2))","v":0.3956496349682439},null,null,null,null,"U1=",{"$f":"W15/(LOG(W4)/LOG(2))","v":0.43848829226190961},null,null,null,"U2=",{"$f":"AB15/(LOG(AB4)/LOG(2))","v":0.49698303889431078},null,null,null,"U3=",{"$f":"AG15/(LOG(AG4)/LOG(2))","v":0.52497684686772861},null,null,null,"U4=",{"$f":"AL15/(LOG(AL4)/LOG(2))","v":0.44678852827112131},null,null,null,"U5=",{"$f":"AQ15/(LOG(AQ4)/LOG(2))","v":0.56209200039918572},null,null,null,"U6=",{"$f":"AV15/(LOG(AV4)/LOG(2))","v":0.55628262519976368}]
[22,1178,23,1183,24,1193,null,null,null,null,0,222]
[11,1293,12,1300,13,1306,null,null,null,null,0,111]
[11,1411,21,1424,22,1430,null,null,null,null,0,122,null,"Total Target Seq"]
[22,1527,23,1534,24,1543,null,null,null,null,0,222,null,{"$f":"COUNTIF(L7:L166,G3)","v":22},null,27,26,27,27,26,27]
[22,1638,23,1647,24,1654,null,null,null,null,0,222,null,null,null,"% of reinforcement given in 6 equal intervals based on number of trials "]
[11,1760,21,1771,11,1791,null,null,null,null,0,121,null,null,null,"%_1","%_2","%_3","%_4","%_5","%_6"]
[11,2047,21,2057,11,2074,null,null,null,null,0,121,null,null,"target sequence",{"$f":"$G$3","v":121},{"$f":"$G$3","v":121},{"$f":"$G$3","v":121},{"$f":"$G$3","v":121},{"$f":"$G$3","v":121},{"$f":"$G$3","v":121}]
[11,2316,12,2324,24,2332,null,null,null,null,0,112,null,null,"total reinforcement",{"$f":"U9","v":3},{"$f":"Z9","v":2},{"$f":"AE9","v":4},{"$f":"AJ9","v":6},{"$f":"AO9","v":2},{"$f":"AT9","v":5}]
[11,2575,21,2587,22,2592,null,null,null,null,0,122,null,null,"% target"]
[11,2695,21,2703,22,2710,null,null,null,null,0,122,null,null,"CCRF"]
[11,2811,21,2820,11,2837,null,null,null,null,0,121,null,null,"% CCRf"]
[11,3017,12,3035,24,3055,null,null,null,null,0,112,null,null,"average response rate",{"$f":"F33/P20","v":135.07407407407408},{"$f":"(F59-F33)/Q20","v":136.76923076923077},{"$f":"(F86-F59)/R20","v":146.11111111111111},{"$f":"(F113-F86)/S20","v":157.96296296296296},{"$f":"(F139-F113)/T20","v":147.07692307692307},{"$f":"(F166-F139)/U20","v":173.74074074074073}]
[22,3156,14,3166,13,3172,null,null,null,null,0,211]
[22,3270,23,3277,24,3284,null,null,null,null,0,222]
[22,3376,23,3383,24,3392,null,null,null,null,0,222]
[22,3501,14,3514,13,3530,null,null,null,null,0,211]
[11,3633,21,3640,22,3647,null,null,null,null,0,122]
[22,3753,23,3760,24,3768,null,null,null,null,0,222]
[11,3878,21,3886,22,3892,null,null,null,null,0,122]
[22,3986,23,3994,24,4001,null,null,null,null,0,222]
[22,4103,23,4110,24,4118,null,null,null,null,0,222]
[11,4224,21,4232,11,4251,null,null,null,null,0,121]
[11,4417,12,4424,13,4440,null,null,null,null,0,111]
[11,4547,12,4553,13,4559,null,null,null,null,0,111]
[22,4659,23,4662,13,4677,null,null,null,null,0,221]
[22,4781,23,4792,24,4802,null,null,null,null,0,222]
[11,4927,12,4933,13,4941,null,null,null,null,0,111]
[22,5034,23,5039,24,5048,null,null,null,null,0,222]
[22,5145,23,5148,24,5158,null,null,null,null,0,222]
[22,5263,14,5277,13,5285,null,null,null,null,0,211]
[22,5392,23,5395,24,5405,null,null,null,null,0,222]
[22,5511,23,5515,13,5530,null,null,null,null,0,221]
[22,5642,14,5661,13,5677,null,null,null,null,0,211]
[22,5785,14,5797,13,5801,null,null,null,null,0,211]
[22,5900,23,5904,24,5911,null,null,null,null,0,222]
[22,6019,14,6032,24,6048,null,null,null,null,0,212]
[11,6156,21,6166,22,6171,null,null,null,null,0,122]
[11,6404,21,6420,11,6433,null,null,null,null,0,121]
[11,6698,12,6705,13,6719,null,null,null,null,0,111]
[11,6827,12,6836,13,6844,null,null,null,null,0,111]
[22,6940,23,6947,13,6964,null,null,null,null,0,221]
[22,7064,23,7070,13,7084,null,null,null,null,0,221]
[22,7183,23,7188,13,7203,null,null,null,null,0,221]
[22,7295,23,7301,24,7320,null,null,null,null,0,222]
[22,7426,23,7432,24,7463,null,null,null,null,0,222]
[11,7570,21,7580,11,7591,null,null,null,null,0,121]
[11,7803,12,7812,13,7820,null,null,null,null,0,111]
[22,7934,14,7948,24,7958,null,null,null,null,0,212]
[22,8066,23,8074,24,8097,null,null,null,null,0,222]
[22,8204,14,8227,24,8236,null,null,null,null,0,212]
[11,8338,21,8347,22,8351,null,null,null,null,0,122]
[22,8452,23,8460,13,8481,null,null,null,null,0,221]
[22,8592,14,8603,24,8615,null,null,null,null,0,212]
[22,8713,23,8720,13,8734,null,null,null,null,0,221]
[11,8844,21,8851,11,8862,null,null,null,null,0,121]
[22,9027,14,9040,24,9050,null,null,null,null,0,212]
[11,9174,21,9184,22,9191,null,null,null,null,0,122]
[22,9301,14,9313,13,9319,null,null,null,null,0,211]
[11,9425,12,9433,13,9435,null,null,null,null,0,111]
[11,9533,21,9541,11,9553,null,null,null,null,0,121]
[22,9896,14,9905,13,9911,null,null,null,null,0,211]
[22,10003,23,10007,13,10024,null,null,null,null,0,221]
[22,10124,14,10138,24,10149,null,null,null,null,0,212]
[11,10262,21,10270,22,10275,null,null,null,null,0,122]
[22,10377,14,10396,24,10419,null,null,null,null,0,212]
[11,10524,21,10536,22,10540,null,null,null,null,0,122]
[11,10641,21,10648,11,10661,null,null,null,null,0,121]
[22,10864,14,10879,13,10893,null,null,null,null,0,211]
[22,10991,14,11014,13,11024,null,null,null,null,0,211]
[22,11129,14,11141,13,11148,null,null,null,null,0,211]
[22,11255,14,11274,13,11282,null,null,null,null,0,211]
[22,11387,14,11400,24,11411,null,null,null,null,0,212]
[11,11509,21,11516,11,11528,null,null,null,null,0,121]
[22,11739,14,11758,24,11769,null,null,null,null,0,212]
[11,11884,21,11892,22,11899,null,null,null,null,0,122]
[22,11993,14,12008,24,12018,null,null,null,null,0,212]
[11,12116,21,12123,22,12128,null,null,null,null,0,122]
[22,12221,14,12239,24,12248,null,null,null,null,0,212]
[22,12344,14,12360,24,12370,null,null,null,null,0,212]
[11,12469,12,12490,13,12498,null,null,null,null,0,111]
[11,12599,21,12605,22,12611,null,null,null,null,0,122]
[22,12719,14,12738,13,12751,null,null,null,null,0,211]
[11,12857,12,12864,13,12873,null,null,null,null,0,111]
[11,12981,21,12991,11,13009,null,null,null,null,0,121]
[11,13245,12,13252,13,13260,null,null,null,null,0,111]
[22,13371,23,13374,24,13385,null,null,null,null,0,222]
[11,13482,21,13489,11,13502,null,null,null,null,0,121]
[22,13751,14,13765,13,13773,null,null,null,null,0,211]
[11,13878,12,13897,13,13907,null,null,null,null,0,111]
[11,14009,21,14018,11,14030,null,null,null,null,0,121]
[11,14366,12,14372,13,14380,null,null,null,null,0,111]
[22,14475,14,14493,13,14503,null,null,null,null,0,211]
[11,14605,21,14613,11,14633,null,null,null,null,0,121]
[11,14843,12,14851,13,14860,null,null,null,null,0,111]
[22,14962,14,14975,13,14984,null,null,null,null,0,211]
[11,15083,21,15091,11,15111,null,null,null,null,0,121]
[11,15377,12,15397,13,15413,null,null,null,null,0,111]
[22,15513,23,15522,13,15535,null,null,null,null,0,221]
[22,15642,14,15654,13,15664,null,null,null,null,0,211]
[11,15767,21,15774,11,15793,null,null,null,null,0,121]
[11,16075,12,16081,13,16089,null,null,null,null,0,111]
[11,16201,12,16208,13,16215,null,null,null,null,0,111]
[11,16333,12,16340,13,16348,null,null,null,null,0,111]
[22,16458,14,16469,13,16477,null,null,null,null,0,211]
[22,16585,14,16601,13,16617,null,null,null,null,0,211]
[22,16721,14,16735,13,16740,null,null,null,null,0,211]
[22,16832,23,16839,13,16853,null,null,null,null,0,221]
[11,17112,21,17121,22,17127,null,null,null,null,0,122]
[11,17233,21,17240,22,17244,null,null,null,null,0,122]
[11,17342,12,17362,13,17375,null,null,null,null,0,111]
[11,17473,21,17481,11,17493,null,null,null,null,0,121]
[11,17743,21,17753,22,17759,null,null,null,null,0,122]
[11,17868,12,17912,13,17927,null,null,null,null,0,111]
[22,18022,14,18043,24,18053,null,null,null,null,0,212]
[22,18163,14,18175,13,18181,null,null,null,null,0,211]
[22,18284,23,18290,13,18308,null,null,null,null,0,221]
[22,18406,23,18412,13,18432,null,null,null,null,0,221]
[11,18534,12,18539,13,18544,null,null,null,null,0,111]
[22,18647,14,18663,24,18673,null,null,null,null,0,212]
[22,18765,23,18779,24,18788,null,null,null,null,0,222]
[22,18963,23,18969,24,18976,null,null,null,null,0,222]
[22,19076,23,19081,24,19088,null,null,null,null,0,222]
[11,19218,12,19227,24,19237,null,null,null,null,0,112]
[11,19354,21,19361,11,19373,null,null,null,null,0,121]
[11,19575,21,19585,22,19590,null,null,null,null,0,122]
[22,19695,14,19711,24,19722,null,null,null,null,0,212]
[11,19825,21,19832,11,19846,null,null,null,null,0,121]
[22,20069,14,20088,24,20106,null,null,null,null,0,212]
[22,20204,23,20213,24,20220,null,null,null,null,0,222]
[22,20321,14,20336,24,20349,null,null,null,null,0,212]
[22,20460,23,20464,13,20479,null,null,null,null,0,221]
[22,20587,14,20606,24,20630,null,null,null,null,0,212]
[11,20735,12,20739,24,20749,null,null,null,null,0,112]
[11,20850,12,20870,13,20884,null,null,null,null,0,111]
[11,21210,12,21221,13,21227,null,null,null,null,0,111]
[22,21322,23,21338,24,21345,null,null,null,null,0,222]
[11,21449,21,21458,11,21479,null,null,null,null,0,121]
[22,21718,14,21730,13,21741,null,null,null,null,0,211]
[22,21839,23,21844,13,21858,null,null,null,null,0,221]
[22,22110,14,22126,24,22136,null,null,null,null,0,212]
[22,22233,23,22240,24,22248,null,null,null,null,0,222]
[11,22386,21,22396,11,22412,null,null,null,null,0,121]
[11,22626,21,22636,22,22642,null,null,null,null,0,122]
[11,22988,12,22995,13,23005,null,null,null,null,0,111]
[11,23131,12,23148,24,23158,null,null,null,null,0,112]
[22,23269,14,23286,24,23307,null,null,null,null,0,212]
[22,23505,14,23519,13,23533,null,null,null,null,0,211]
[22,23632,14,23653,13,23664,null,null,null,null,0,211]
[22,23771,14,23785,24,23806,null,null,null,null,0,212]
[11,23904,21,23911,11,23928,null,null,null,null,1,121]

{"sheet":"!M229B0D.UST","index":13,"n_rows":178,"n_cols":48,"rows_kept":178,"cut":false,"hidden":false,"merged":[[4,39,4,42],[5,39,5,40],[4,44,4,47],[5,44,5,45],[4,24,4,27],[5,24,5,25],[4,29,4,32],[5,29,5,30],[4,34,4,37],[5,34,5,35],[1,1,1,2],[5,13,5,14],[18,13,18,14],[19,13,19,14],[4,19,4,22],[5,19,5,20]]}
["Report for:!M229B0D.UST"]
["Date:","<date>"]
["Hen:","<hen>",null,null,null,"Correct Sequence",{"$f":"Start!J2","v":121},null,null,null,null,null,null,null,null,"Total Sequences in Data",{"$f":"4994-COUNTBLANK(L7:L5000)","v":172},null,null,null,null,"Total Sequences in Block Data",{"$f":"COUNTA(L7:L35)","v":29},null,null,null,"Total Sequences in Block Data",{"$f":"COUNTA(L36:L63)","v":28},null,null,null,"Total Sequences in Block Data",{"$f":"COUNTA(L64:L92)","v":29},null,null,null,"Total Sequences in Block Data",{"$f":"COUNTA(L93:L121)","v":29},null,null,null,"Total Sequences in Block Data",{"$f":"COUNTA(L122:L149)","v":28},null,null,null,"Total Sequences in Block Data",{"$f":"COUNTA(L150:L178)","v":29}]
[null,null,null,null,null,null,null,null,null,null,null,null,null,null,null,"Total Sequences in Summary",{"$f":"SUM(O7:O14)","v":172},null,null,null,null,"Total Sequences in Block Summary",{"$f":"SUM(U7:U14)","v":29},null,null,null,"Total Sequences in Block Summary",{"$f":"SUM(Z7:Z14)","v":28},null,null,null,"Total Sequences in Block Summary",{"$f":"SUM(AE7:AE14)","v":29},null,null,null,"Total Sequences in Block Summary",{"$f":"SUM(AJ7:AJ14)","v":29},null,null,null,"Total Sequences in Block Summary",{"$f":"SUM(AO7:AO14)","v":28},null,null,null,"Total Sequences in Block Summary",{"$f":"SUM(AT7:AT14)","v":29}]
[null,null,null,null,null,null,null,null,null,null,null,null,null,null,null,null,null,null,null,"Block 1",null,null,null,null,"Block 2",null,null,null,null,"Block 3",null,null,null,null,"Block 4",null,null,null,null,"Block 5",null,null,null,null,"Block 6"]
["Sequence\nComponent\n1","Time\n1","Sequence\nComponent\n2","Time\n2","Sequence\nComponent\n3","Time\n3","Sequence\nComponent\n4","Time\n4","Sequence\nComponent\n5","Time\n5","Correct?\n0=No 1=Yes","Sequence",null,"Frequency",null,"Relative Frequency","Variability",null,null,"Frequency",null,"Relative Frequency","Variability",null,"Frequency",null,"Relative Frequency","Variability",null,"Frequency",null,"Relative Frequency","Variability",null,"Frequency",null,"Relative Frequency","Variability",null,"Frequency",null,"Relative Frequency","Variability",null,"Frequency",null,"Relative Frequency","Variability"]
[11,16,21,27,22,34,null,null,null,null,0,122,null,111,{"$f":"COUNTIF($L$7:$L$500,N7)","v":27},{"$f":"O7/$Q$4","v":0.15697674418604651},{"$f":"IF(P7=0,0,(P7*((LOG(P7))/LOG(2))))","v":-0.41934410359618018},null,null,{"$f":"N7","v":111},{"$f":"COUNTIF(L7:L35,T7)","v":4},{"$f":"U7/(W4-U9)","v":0.16666666666666666},{"$f":"IF(V7=0,0,(V7*((LOG(V7))/LOG(2))))","v":-0.43082708345352599},null,{"$f":"N7","v":111},{"$f":"COUNTIF(L36:L63,Y7)","v":8},{"$f":"Z7/(AB4-Z9)","v":0.36363636363636365},{"$f":"IF(AA7=0,0,(AA7*((LOG(AA7))/LOG(2))))","v":-0.53070240677719893},null,{"$f":"N7","v":111},{"$f":"COUNTIF(L64:L92,AD7)","v":7},{"$f":"AE7/(AG4-AE9)","v":0.29166666666666669},{"$f":"IF(AF7=0,0,(AF7*((LOG(AF7))/LOG(2))))","v":-0.51846887711020273},null,{"$f":"N7","v":111},{"$f":"COUNTIF(L93:L121,AI7)","v":5},{"$f":"AJ7/(AL4-AJ9)","v":0.17241379310344829},{"$f":"IF(AK7=0,0,(AK7*((LOG(AK7))/LOG(2))))","v":-0.43725050004141547},null,{"$f":"N7","v":111},{"$f":"COUNTIF(L122:L149,AN7)","v":0},{"$f":"AO7/(AQ4-AO9)","v":0},{"$f":"IF(AP7=0,0,(AP7*((LOG(AP7))/LOG(2))))","v":0},null,{"$f":"N7","v":111},{"$f":"COUNTIF(L150:L178,AS7)","v":3},{"$f":"AT7/(AV4-AT9)","v":0.11538461538461539},{"$f":"IF(AU7=0,0,(AU7*((LOG(AU7))/LOG(2))))","v":-0.35947814047153104}]
[11,136,21,142,11,152,null,null,null,null,0,121,null,112,{"$f":"COUNTIF($L$7:$L$500,N8)","v":13},{"$f":"O8/$Q$4","v":7.5581395348837205E-2},{"$f":"IF(P8=0,0,(P8*((LOG(P8))/LOG(2))))","v":-0.2816030550889132},null,null,{"$f":"N8","v":112},{"$f":"COUNTIF(L7:L35,T8)","v":3},{"$f":"U8/(W4-U9)","v":0.125},{"$f":"IF(V8=0,0,(V8*((LOG(V8))/LOG(2))))","v":-0.375},null,{"$f":"N8","v":112},{"$f":"COUNTIF(L36:L63,Y8)","v":1},{"$f":"Z8/(AB4-Z9)","v":4.5454545454545456E-2},{"$f":"IF(AA8=0,0,(AA8*((LOG(AA8))/LOG(2))))","v":-0.20270143721078623},null,{"$f":"N8","v":112},{"$f":"COUNTIF(L64:L92,AD8)","v":2},{"$f":"AE8/(AG4-AE9)","v":8.3333333333333329E-2},{"$f":"IF(AF8=0,0,(AF8*((LOG(AF8))/LOG(2))))","v":-0.29874687506009634},null,{"$f":"N8","v":112},{"$f":"COUNTIF(L93:L121,AI8)","v":2},{"$f":"AJ8/(AL4-AJ9)","v":6.8965517241379309E-2},{"$f":"IF(AK8=0,0,(AK8*((LOG(AK8))/LOG(2))))","v":-0.26606765483638428},null,{"$f":"N8","v":112},{"$f":"COUNTIF(L122:L149,AN8)","v":3},{"$f":"AO8/(AQ4-AO9)","v":0.11538461538461539},{"$f":"IF(AP8=0,0,(AP8*((LOG(AP8))/LOG(2))))","v":-0.35947814047153104},null,{"$f":"N8","v":112},{"$f":"COUNTIF(L150:L178,AS8)","v":2},{"$f":"AT8/(AV4-AT9)","v":7.6923076923076927E-2},{"$f":"IF(AU8=0,0,(AU8*((LOG(AU8))/LOG(2))))","v":-0.28464920908777636}]
[11,340,12,358,24,367,null,null,null,null,0,112,null,121,{"$f":"COUNTIF($L$7:$L$500,N9)","v":21},{"$f":"O9/$Q$4","v":0.12209302325581395},{"$f":"IF(P9=0,0,(P9*((LOG(P9))/LOG(2))))","v":-0.37042380215343074},null,null,{"$f":"N9","v":121},{"$f":"COUNTIF(L7:L35,T9)","v":5},null,null,null,{"$f":"N9","v":121},{"$f":"COUNTIF(L36:L63,Y9)","v":6},null,null,null,{"$f":"N9","v":121},{"$f":"COUNTIF(L64:L92,AD9)","v":5},null,null,null,{"$f":"N9","v":121},{"$f":"COUNTIF(L93:L121,AI9)","v":0},null,null,null,{"$f":"N9","v":121},{"$f":"COUNTIF(L122:L149,AN9)","v":2},null,null,null,{"$f":"N9","v":121},{"$f":"COUNTIF(L150:L178,AS9)","v":3}]
[22,470,14,481,13,493,null,null,null,null,0,211,null,122,{"$f":"COUNTIF($L$7:$L$500,N10)","v":25},{"$f":"O10/$Q$4","v":0.14534883720930233},{"$f":"IF(P10=0,0,(P10*((LOG(P10))/LOG(2))))","v":-0.40441984955339727},null,null,{"$f":"N10","v":122},{"$f":"COUNTIF(L7:L35,T10)","v":9},{"$f":"U10/(W4-U9)","v":0.375},{"$f":"IF(V10=0,0,(V10*((LOG(V10))/LOG(2))))","v":-0.53063906222956647},null,{"$f":"N10","v":122},{"$f":"COUNTIF(L36:L63,Y10)","v":3},{"$f":"Z10/(AB4-Z9)","v":0.13636363636363635},{"$f":"IF(AA10=0,0,(AA10*((LOG(AA10))/LOG(2))))","v":-0.39197306153401923},null,{"$f":"N10","v":122},{"$f":"COUNTIF(L64:L92,AD10)","v":1},{"$f":"AE10/(AG4-AE9)","v":4.1666666666666664E-2},{"$f":"IF(AF10=0,0,(AF10*((LOG(AF10))/LOG(2))))","v":-0.19104010419671485},null,{"$f":"N10","v":122},{"$f":"COUNTIF(L93:L121,AI10)","v":2},{"$f":"AJ10/(AL4-AJ9)","v":6.8965517241379309E-2},{"$f":"IF(AK10=0,0,(AK10*((LOG(AK10))/LOG(2))))","v":-0.26606765483638428},null,{"$f":"N10","v":122},{"$f":"COUNTIF(L122:L149,AN10)","v":4},{"$f":"AO10/(AQ4-AO9)","v":0.15384615384615385},{"$f":"IF(AP10=0,0,(AP10*((LOG(AP10))/LOG(2))))","v":-0.4154522643293988},null,{"$f":"N10","v":122},{"$f":"COUNTIF(L150:L178,AS10)","v":6},{"$f":"AT10/(AV4-AT9)","v":0.23076923076923078},{"$f":"IF(AU10=0,0,(AU10*((LOG(AU10))/LOG(2))))","v":-0.48818705017383146}]
[22,591,23,598,24,605,null,null,null,null,0,222,null,211,{"$f":"COUNTIF($L$7:$L$500,N11)","v":34},{"$f":"O11/$Q$4","v":0.19767441860465115},{"$f":"IF(P11=0,0,(P11*((LOG(P11))/LOG(2))))","v":-0.462321308473022},null,null,{"$f":"N11","v":211},{"$f":"COUNTIF(L7:L35,T11)","v":1},{"$f":"U11/(W4-U9)","v":4.1666666666666664E-2},{"$f":"IF(V11=0,0,(V11*((LOG(V11))/LOG(2))))","v":-0.19104010419671485},null,{"$f":"N11","v":211},{"$f":"COUNTIF(L36:L63,Y11)","v":6},{"$f":"Z11/(AB4-Z9)","v":0.27272727272727271},{"$f":"IF(AA11=0,0,(AA11*((LOG(AA11))/LOG(2))))","v":-0.51121885034076575},null,{"$f":"N11","v":211},{"$f":"COUNTIF(L64:L92,AD11)","v":6},{"$f":"AE11/(AG4-AE9)","v":0.25},{"$f":"IF(AF11=0,0,(AF11*((LOG(AF11))/LOG(2))))","v":-0.5},null,{"$f":"N11","v":211},{"$f":"COUNTIF(L93:L121,AI11)","v":9},{"$f":"AJ11/(AL4-AJ9)","v":0.31034482758620691},{"$f":"IF(AK11=0,0,(AK11*((LOG(AK11))/LOG(2))))","v":-0.52387944631611505},null,{"$f":"N11","v":211},{"$f":"COUNTIF(L122:L149,AN11)","v":5},{"$f":"AO11/(AQ4-AO9)","v":0.19230769230769232},{"$f":"IF(AP11=0,0,(AP11*((LOG(AP11))/LOG(2))))","v":-0.45740608139494804},null,{"$f":"N11","v":211},{"$f":"COUNTIF(L150:L178,AS11)","v":7},{"$f":"AT11/(AV4-AT9)","v":0.26923076923076922},{"$f":"IF(AU11=0,0,(AU11*((LOG(AU11))/LOG(2))))","v":-0.50967667586863141}]
[11,771,21,779,22,788,null,null,null,null,0,122,null,212,{"$f":"COUNTIF($L$7:$L$500,N12)","v":16},{"$f":"O12/$Q$4","v":9.3023255813953487E-2},{"$f":"IF(P12=0,0,(P12*((LOG(P12))/LOG(2))))","v":-0.31872230276298585},null,null,{"$f":"N12","v":212},{"$f":"COUNTIF(L7:L35,T12)","v":1},{"$f":"U12/(W4-U9)","v":4.1666666666666664E-2},{"$f":"IF(V12=0,0,(V12*((LOG(V12))/LOG(2))))","v":-0.19104010419671485},null,{"$f":"N12","v":212},{"$f":"COUNTIF(L36:L63,Y12)","v":1},{"$f":"Z12/(AB4-Z9)","v":4.5454545454545456E-2},{"$f":"IF(AA12=0,0,(AA12*((LOG(AA12))/LOG(2))))","v":-0.20270143721078623},null,{"$f":"N12","v":212},{"$f":"COUNTIF(L64:L92,AD12)","v":3},{"$f":"AE12/(AG4-AE9)","v":0.125},{"$f":"IF(AF12=0,0,(AF12*((LOG(AF12))/LOG(2))))","v":-0.375},null,{"$f":"N12","v":212},{"$f":"COUNTIF(L93:L121,AI12)","v":3},{"$f":"AJ12/(AL4-AJ9)","v":0.10344827586206896},{"$f":"IF(AK12=0,0,(AK12*((LOG(AK12))/LOG(2))))","v":-0.33858812011100858},null,{"$f":"N12","v":212},{"$f":"COUNTIF(L122:L149,AN12)","v":5},{"$f":"AO12/(AQ4-AO9)","v":0.19230769230769232},{"$f":"IF(AP12=0,0,(AP12*((LOG(AP12))/LOG(2))))","v":-0.45740608139494804},null,{"$f":"N12","v":212},{"$f":"COUNTIF(L150:L178,AS12)","v":3},{"$f":"AT12/(AV4-AT9)","v":0.11538461538461539},{"$f":"IF(AU12=0,0,(AU12*((LOG(AU12))/LOG(2))))","v":-0.35947814047153104}]
[11,887,21,894,22,901,null,null,null,null,0,122,null,221,{"$f":"COUNTIF($L$7:$L$500,N13)","v":5},{"$f":"O13/$Q$4","v":2.9069767441860465E-2},{"$f":"IF(P13=0,0,(P13*((LOG(P13))/LOG(2))))","v":-0.1483818796457772},null,null,{"$f":"N13","v":221},{"$f":"COUNTIF(L7:L35,T13)","v":1},{"$f":"U13/(W4-U9)","v":4.1666666666666664E-2},{"$f":"IF(V13=0,0,(V13*((LOG(V13))/LOG(2))))","v":-0.19104010419671485},null,{"$f":"N13","v":221},{"$f":"COUNTIF(L36:L63,Y13)","v":1},{"$f":"Z13/(AB4-Z9)","v":4.5454545454545456E-2},{"$f":"IF(AA13=0,0,(AA13*((LOG(AA13))/LOG(2))))","v":-0.20270143721078623},null,{"$f":"N13","v":221},{"$f":"COUNTIF(L64:L92,AD13)","v":0},{"$f":"AE13/(AG4-AE9)","v":0},{"$f":"IF(AF13=0,0,(AF13*((LOG(AF13))/LOG(2))))","v":0},null,{"$f":"N13","v":221},{"$f":"COUNTIF(L93:L121,AI13)","v":3},{"$f":"AJ13/(AL4-AJ9)","v":0.10344827586206896},{"$f":"IF(AK13=0,0,(AK13*((LOG(AK13))/LOG(2))))","v":-0.33858812011100858},null,{"$f":"N13","v":221},{"$f":"COUNTIF(L122:L149,AN13)","v":0},{"$f":"AO13/(AQ4-AO9)","v":0},{"$f":"IF(AP13=0,0,(AP13*((LOG(AP13))/LOG(2))))","v":0},null,{"$f":"N13","v":221},{"$f":"COUNTIF(L150:L178,AS13)","v":0},{"$f":"AT13/(AV4-AT9)","v":0},{"$f":"IF(AU13=0,0,(AU13*((LOG(AU13))/LOG(2))))","v":0}]
[11,998,21,1008,11,1026,null,null,null,null,0,121,null,222,{"$f":"COUNTIF($L$7:$L$500,N14)","v":31},{"$f":"O14/$Q$4","v":0.18023255813953487},{"$f":"IF(P14=0,0,(P14*((LOG(P14))/LOG(2))))","v":-0.44554721961495297},null,null,{"$f":"N14","v":222},{"$f":"COUNTIF(L7:L35,T14)","v":5},{"$f":"U14/(W4-U9)","v":0.20833333333333334},{"$f":"IF(V14=0,0,(V14*((LOG(V14))/LOG(2))))","v":-0.47146550121537367},null,{"$f":"N14","v":222},{"$f":"COUNTIF(L36:L63,Y14)","v":2},{"$f":"Z14/(AB4-Z9)","v":9.0909090909090912E-2},{"$f":"IF(AA14=0,0,(AA14*((LOG(AA14))/LOG(2))))","v":-0.31449378351248153},null,{"$f":"N14","v":222},{"$f":"COUNTIF(L64:L92,AD14)","v":5},{"$f":"AE14/(AG4-AE9)","v":0.20833333333333334},{"$f":"IF(AF14=0,0,(AF14*((LOG(AF14))/LOG(2))))","v":-0.47146550121537367},null,{"$f":"N14","v":222},{"$f":"COUNTIF(L93:L121,AI14)","v":5},{"$f":"AJ14/(AL4-AJ9)","v":0.17241379310344829},{"$f":"IF(AK14=0,0,(AK14*((LOG(AK14))/LOG(2))))","v":-0.43725050004141547},null,{"$f":"N14","v":222},{"$f":"COUNTIF(L122:L149,AN14)","v":9},{"$f":"AO14/(AQ4-AO9)","v":0.34615384615384615},{"$f":"IF(AP14=0,0,(AP14*((LOG(AP14))/LOG(2))))","v":-0.52979355578034681},null,{"$f":"N14","v":222},{"$f":"COUNTIF(L150:L178,AS14)","v":5},{"$f":"AT14/(AV4-AT9)","v":0.19230769230769232},{"$f":"IF(AU14=0,0,(AU14*((LOG(AU14))/LOG(2))))","v":-0.45740608139494804}]
[11,1176,12,1189,13,1197,null,null,null,null,0,111,null,null,null,{"$f":"SUM(P7:P14)","v":1},{"$f":"-SUM(Q7:Q14)","v":2.8507635208886595},null,null,null,null,{"$f":"SUM(V7:V14)","v":0.99999999999999989},{"$f":"-SUM(W7:W14)","v":2.3810519594886106},null,null,null,{"$f":"SUM(AA7:AA14)","v":0.99999999999999989},{"$f":"-SUM(AB7:AB14)","v":2.3564924137968242},null,null,null,{"$f":"SUM(AF7:AF14)","v":1},{"$f":"-SUM(AG7:AG14)","v":2.3547213575823873},null,null,null,{"$f":"SUM(AK7:AK14)","v":1},{"$f":"-SUM(AL7:AL14)","v":2.6076919962937319},null,null,null,{"$f":"SUM(AP7:AP14)","v":1},{"$f":"-SUM(AQ7:AQ14)","v":2.2195361233711726},null,null,null,{"$f":"SUM(AU7:AU14)","v":1},{"$f":"-SUM(AV7:AV14)","v":2.4588752974682491}]
[11,1296,21,1305,22,1311,null,null,null,null,0,122,null,null,null,"U=",{"$f":"Q15/(LOG(Q4)/LOG(2))","v":0.38387582654976554},null,null,null,null,"U1=",{"$f":"W15/(LOG(W4)/LOG(2))","v":0.49013200378444122},null,null,null,"U2=",{"$f":"AB15/(LOG(AB4)/LOG(2))","v":0.49018482138369307},null,null,null,"U3=",{"$f":"AG15/(LOG(AG4)/LOG(2))","v":0.48471193278526847},null,null,null,"U4=",{"$f":"AL15/(LOG(AL4)/LOG(2))","v":0.53678513746949175},null,null,null,"U5=",{"$f":"AQ15/(LOG(AQ4)/LOG(2))","v":0.46169591373153396},null,null,null,"U6=",{"$f":"AV15/(LOG(AV4)/LOG(2))","v":0.50615169139904759}]
[11,1412,12,1417,13,1424,null,null,null,null,0,111]
[11,1521,12,1538,13,1545,null,null,null,null,0,111]
[22,1647,23,1657,24,1663,null,null,null,null,0,222,null,"Total Target Seq"]
[11,1765,12,1774,24,1783,null,null,null,null,0,112,null,{"$f":"COUNTIF(L7:L178,G3)","v":21},null,29,28,29,29,28,29]
[22,1882,23,1892,24,1899,null,null,null,null,0,222,null,null,null,"% of reinforcement given in 6 equal intervals based on number of trials "]
[11,2007,21,2016,22,2020,null,null,null,null,0,122,null,null,null,"%_1","%_2","%_3","%_4","%_5","%_6"]
[22,2119,23,2125,24,2132,null,null,null,null,0,222,null,null,"target sequence",{"$f":"$G$3","v":121},{"$f":"$G$3","v":121},{"$f":"$G$3","v":121},{"$f":"$G$3","v":121},{"$f":"$G$3","v":121},{"$f":"$G$3","v":121}]
[11,2230,21,2239,22,2244,null,null,null,null,0,122,null,null,"total reinforcement",{"$f":"U9","v":5},{"$f":"Z9","v":6},{"$f":"AE9","v":5},{"$f":"AJ9","v":0},{"$f":"AO9","v":2},{"$f":"AT9","v":3}]
[11,2347,21,2354,11,2368,null,null,null,null,0,121,null,null,"% target"]
[11,2502,21,2511,22,2518,null,null,null,null,0,122,null,null,"CCRF"]
[11,2618,21,2627,22,2633,null,null,null,null,0,122,null,null,"% CCRf"]
[11,2734,21,2742,22,2748,null,null,null,null,0,122,null,null,"average response rate",{"$f":"F35/P20","v":128.82758620689654},{"$f":"(F63-F35)/Q20","v":140.10714285714286},{"$f":"(F92-F63)/R20","v":149.93103448275863},{"$f":"(F121-F92)/S20","v":137.20689655172413},{"$f":"(F149-F121)/T20","v":135.25},{"$f":"(F178-F149)/U20","v":142.13793103448276}]
[22,2850,23,2857,24,2863,null,null,null,null,0,222]
[11,2959,12,2964,24,2971,null,null,null,null,0,112]
[11,3074,21,3081,11,3107,null,null,null,null,0,121]
[11,3282,12,3289,13,3296,null,null,null,null,0,111]
[11,3394,21,3401,11,3412,null,null,null,null,0,121]
[22,3582,14,3591,24,3609,null,null,null,null,0,212]
[22,3708,23,3715,13,3736,null,null,null,null,0,221]
[11,3950,12,3957,13,3964,null,null,null,null,0,111]
[22,4059,14,4071,13,4078,null,null,null,null,0,211]
[11,4190,12,4194,13,4202,null,null,null,null,0,111]
[11,4303,12,4323,13,4331,null,null,null,null,0,111]
[22,4430,23,4435,13,4447,null,null,null,null,0,221]
[11,4549,12,4556,13,4563,null,null,null,null,0,111]
[11,4665,21,4672,11,4699,null,null,null,null,0,121]
[11,4890,12,4895,13,4907,null,null,null,null,0,111]
[11,5009,21,5017,22,5022,null,null,null,null,0,122]
[22,5130,14,5141,24,5161,null,null,null,null,0,212]
[11,5258,21,5267,11,5278,null,null,null,null,0,121]
[11,5463,21,5474,22,5480,null,null,null,null,0,122]
[22,5575,23,5586,24,5593,null,null,null,null,0,222]
[22,5685,23,5694,24,5701,null,null,null,null,0,222]
[22,5804,14,5818,13,5833,null,null,null,null,0,211]
[22,5940,14,5950,13,5959,null,null,null,null,0,211]
[22,6070,14,6080,13,6089,null,null,null,null,0,211]
[11,6184,21,6191,22,6197,null,null,null,null,0,122]
[11,6297,21,6304,11,6317,null,null,null,null,0,121]
[11,6474,21,6483,11,6496,null,null,null,null,0,121]
[11,6665,12,6674,13,6692,null,null,null,null,0,111]
[22,6787,14,6800,13,6812,null,null,null,null,0,211]
[11,6914,12,6931,24,6952,null,null,null,null,0,112]
[22,7051,14,7066,13,7079,null,null,null,null,0,211]
[11,7177,12,7193,13,7203,null,null,null,null,0,111]
[11,7302,21,7313,11,7325,null,null,null,null,0,121]
[11,7501,12,7518,13,7531,null,null,null,null,0,111]
[11,7633,21,7643,11,7659,null,null,null,null,0,121]
[11,7880,12,7897,24,7906,null,null,null,null,0,112]
[11,8003,21,8010,11,8026,null,null,null,null,0,121]
[11,8246,12,8263,13,8271,null,null,null,null,0,111]
[11,8374,12,8380,13,8387,null,null,null,null,0,111]
[22,8495,14,8510,13,8523,null,null,null,null,0,211]
[22,8628,14,8648,13,8657,null,null,null,null,0,211]
[11,8762,21,8770,11,8780,null,null,null,null,0,121]
[11,8940,12,8957,24,8966,null,null,null,null,0,112]
[11,9061,12,9079,13,9087,null,null,null,null,0,111]
[11,9186,21,9193,11,9205,null,null,null,null,0,121]
[11,9355,12,9359,13,9365,null,null,null,null,0,111]
[22,9475,14,9484,13,9492,null,null,null,null,0,211]
[22,9602,14,9613,24,9638,null,null,null,null,0,212]
[11,9739,12,9765,13,9775,null,null,null,null,0,111]
[11,9871,21,9879,22,9885,null,null,null,null,0,122]
[11,10066,12,10075,13,10082,null,null,null,null,0,111]
[22,10176,23,10179,24,10186,null,null,null,null,0,222]
[22,10363,23,10369,24,10378,null,null,null,null,0,222]
[22,10475,23,10481,24,10487,null,null,null,null,0,222]
[11,10602,12,10610,13,10618,null,null,null,null,0,111]
[22,10725,14,10735,13,10744,null,null,null,null,0,211]
[11,10850,21,10857,11,10870,null,null,null,null,0,121]
[22,11092,14,11105,13,11119,null,null,null,null,0,211]
[11,11217,21,11225,11,11255,null,null,null,null,0,121]
[22,11488,23,11494,24,11500,null,null,null,null,0,222]
[22,11595,14,11618,24,11640,null,null,null,null,0,212]
[22,11739,23,11752,24,11759,null,null,null,null,0,222]
[22,11865,14,11877,24,11886,null,null,null,null,0,212]
[22,11989,14,12000,13,12007,null,null,null,null,0,211]
[11,12109,21,12116,22,12136,null,null,null,null,0,122]
[22,12232,14,12244,24,12254,null,null,null,null,0,212]
[22,12349,23,12362,24,12369,null,null,null,null,0,222]
[22,12479,14,12489,13,12497,null,null,null,null,0,211]
[22,12610,14,12623,13,12632,null,null,null,null,0,211]
[22,12737,14,12753,24,12773,null,null,null,null,0,212]
[22,12885,23,12895,24,12902,null,null,null,null,0,222]
[22,13022,14,13033,13,13040,null,null,null,null,0,211]
[22,13139,14,13157,13,13165,null,null,null,null,0,211]
[11,13268,21,13276,22,13280,null,null,null,null,0,122]
[22,13377,23,13386,13,13406,null,null,null,null,0,221]
[11,13632,12,13645,13,13651,null,null,null,null,0,111]
[22,13761,14,13773,13,13785,null,null,null,null,0,211]
[11,13903,12,13909,13,13916,null,null,null,null,0,111]
[22,14028,14,14049,13,14071,null,null,null,null,0,211]
[22,14164,14,14184,24,14194,null,null,null,null,0,212]
[22,14288,23,14298,13,14316,null,null,null,null,0,221]
[11,14514,12,14529,13,14542,null,null,null,null,0,111]
[22,14660,14,14672,13,14679,null,null,null,null,0,211]
[22,14788,14,14801,13,14815,null,null,null,null,0,211]
[22,14907,23,14916,24,14922,null,null,null,null,0,222]
[11,15111,12,15117,24,15128,null,null,null,null,0,112]
[22,15231,23,15237,24,15243,null,null,null,null,0,222]
[22,15348,14,15363,13,15370,null,null,null,null,0,211]
[11,15485,12,15491,13,15504,null,null,null,null,0,111]
[22,15607,23,15616,13,15632,null,null,null,null,0,221]
[11,15744,12,15751,13,15759,null,null,null,null,0,111]
[22,15854,23,15856,24,15861,null,null,null,null,0,222]
[11,15965,12,15976,24,15986,null,null,null,null,0,112]
[22,16085,23,16095,24,16101,null,null,null,null,0,222]
[22,16211,14,16223,13,16240,null,null,null,null,0,211]
[11,16346,21,16354,22,16358,null,null,null,null,0,122]
[11,16514,21,16523,22,16528,null,null,null,null,0,122]
[22,16633,14,16655,24,16665,null,null,null,null,0,212]
[11,16762,21,16769,11,16785,null,null,null,null,0,121]
[11,16924,21,16936,11,16949,null,null,null,null,0,121]
[11,17123,12,17130,24,17144,null,null,null,null,0,112]
[22,17255,23,17260,24,17266,null,null,null,null,0,222]
[22,17373,14,17385,24,17406,null,null,null,null,0,212]
[22,17520,14,17537,13,17547,null,null,null,null,0,211]
[22,17657,23,17663,24,17669,null,null,null,null,0,222]
[22,17777,23,17782,24,17788,null,null,null,null,0,222]
[11,17907,21,17927,22,17934,null,null,null,null,0,122]
[22,18139,14,18151,24,18162,null,null,null,null,0,212]
[22,18278,14,18292,13,18301,null,null,null,null,0,211]
[22,18397,23,18405,24,18410,null,null,null,null,0,222]
[22,18525,14,18539,13,18549,null,null,null,null,0,211]
[22,18643,23,18653,24,18658,null,null,null,null,0,222]
[22,18753,23,18766,24,18772,null,null,null,null,0,222]
[22,18873,14,18890,13,18900,null,null,null,null,0,211]
[11,19003,21,19009,22,19014,null,null,null,null,0,122]
[22,19135,23,19140,24,19152,null,null,null,null,0,222]
[22,19252,23,19261,24,19273,null,null,null,null,0,222]
[22,19372,14,19386,24,19396,null,null,null,null,0,212]
[22,19505,14,19517,24,19541,null,null,null,null,0,212]
[11,19645,12,19650,24,19661,null,null,null,null,0,112]
[11,19755,12,19762,24,19773,null,null,null,null,0,112]
[22,19872,23,19879,24,19885,null,null,null,null,0,222]
[11,19983,21,19990,22,19994,null,null,null,null,0,122]
[22,20105,14,20122,13,20135,null,null,null,null,0,211]
[22,20244,14,20257,13,20262,null,null,null,null,0,211]
[22,20376,14,20393,13,20403,null,null,null,null,0,211]
[11,20509,21,20518,22,20524,null,null,null,null,0,122]
[11,20619,21,20635,22,20642,null,null,null,null,0,122]
[22,20749,14,20764,13,20768,null,null,null,null,0,211]
[22,20861,23,20871,24,20876,null,null,null,null,0,222]
[22,20992,14,21023,13,21033,null,null,null,null,0,211]
[11,21137,21,21147,22,21153,null,null,null,null,0,122]
[22,21264,14,21277,24,21287,null,null,null,null,0,212]
[22,21402,23,21410,24,21418,null,null,null,null,0,222]
[11,21524,21,21531,11,21542,null,null,null,null,0,121]
[11,21748,12,21760,24,21783,null,null,null,null,0,112]
[22,21884,23,21889,24,21897,null,null,null,null,0,222]
[11,21993,12,22006,13,22013,null,null,null,null,0,111]
[11,22265,12,22271,13,22277,null,null,null,null,0,111]
[11,22380,21,22392,22,22398,null,null,null,null,0,122]
[22,22510,23,22516,24,22522,null,null,null,null,0,222]
[22,22645,14,22658,13,22669,null,null,null,null,0,211]
[11,22773,21,22781,11,22798,null,null,null,null,0,121]
[11,22958,12,22965,24,22976,null,null,null,null,0,112]
[22,23100,14,23112,24,23132,null,null,null,null,0,212]
[22,23239,14,23253,24,23265,null,null,null,null,0,212]
[11,23363,21,23371,11,23390,null,null,null,null,0,121]
[11,23629,12,23637,13,23642,null,null,null,null,0,111]
[22,23749,14,23762,13,23776,null,null,null,null,0,211]
[11,23882,21,23890,22,23895,null,null,null,null,0,122]

{"sheet":"!M301A4D.UST","index":14,"n_rows":136,"n_cols":48,"rows_kept":136,"cut":false,"hidden":false,"merged":[[4,39,4,42],[5,39,5,40],[4,44,4,47],[5,44,5,45],[4,24,4,27],[5,24,5,25],[4,29,4,32],[5,29,5,30],[4,34,4,37],[5,34,5,35],[1,1,1,2],[5,13,5,14],[18,13,18,14],[19,13,19,14],[4,19,4,22],[5,19,5,20]]}
["Report for:!M301A4D.UST"]
["Date:","<date>"]
["Hen:","<hen>",null,null,null,"Correct Sequence",{"$f":"Start!J2","v":121},null,null,null,null,null,null,null,null,"Total Sequences in Data",{"$f":"4994-COUNTBLANK(L7:L5000)","v":130},null,null,null,null,"Total Sequences in Block Data",{"$f":"COUNTA(L7:L28)","v":22},null,null,null,"Total Sequences in Block Data",{"$f":"COUNTA(L29:L49)","v":21},null,null,null,"Total Sequences in Block Data",{"$f":"COUNTA(L50:L71)","v":22},null,null,null,"Total Sequences in Block Data",{"$f":"COUNTA(L72:L93)","v":22},null,null,null,"Total Sequences in Block Data",{"$f":"COUNTA(L94:L114)","v":21},null,null,null,"Total Sequences in Block Data",{"$f":"COUNTA(L115:L136)","v":22}]
[null,null,null,null,null,null,null,null,null,null,null,null,null,null,null,"Total Sequences in Summary",{"$f":"SUM(O7:O14)","v":130},null,null,null,null,"Total Sequences in Block Summary",{"$f":"SUM(U7:U14)","v":22},null,null,null,"Total Sequences in Block Summary",{"$f":"SUM(Z7:Z14)","v":21},null,null,null,"Total Sequences in Block Summary",{"$f":"SUM(AE7:AE14)","v":22},null,null,null,"Total Sequences in Block Summary",{"$f":"SUM(AJ7:AJ14)","v":22},null,null,null,"Total Sequences in Block Summary",{"$f":"SUM(AO7:AO14)","v":21},null,null,null,"Total Sequences in Block Summary",{"$f":"SUM(AT7:AT14)","v":22}]
[null,null,null,null,null,null,null,null,null,null,null,null,null,null,null,null,null,null,null,"Block 1",null,null,null,null,"Block 2",null,null,null,null,"Block 3",null,null,null,null,"Block 4",null,null,null,null,"Block 5",null,null,null,null,"Block 6"]
["Sequence\nComponent\n1","Time\n1","Sequence\nComponent\n2","Time\n2","Sequence\nComponent\n3","Time\n3","Sequence\nComponent\n4","Time\n4","Sequence\nComponent\n5","Time\n5","Correct?\n0=No 1=Yes","Sequence",null,"Frequency",null,"Relative Frequency","Variability",null,null,"Frequency",null,"Relative Frequency","Variability",null,"Frequency",null,"Relative Frequency","Variability",null,"Frequency",null,"Relative Frequency","Variability",null,"Frequency",null,"Relative Frequency","Variability",null,"Frequency",null,"Relative Frequency","Variability",null,"Frequency",null,"Relative Frequency","Variability"]
[22,6,23,11,13,26,null,null,null,null,0,221,null,111,{"$f":"COUNTIF($L$7:$L$500,N7)","v":21},{"$f":"O7/$Q$4","v":0.16153846153846155},{"$f":"IF(P7=0,0,(P7*((LOG(P7))/LOG(2))))","v":-0.42485429380956602},null,null,{"$f":"N7","v":111},{"$f":"COUNTIF(L7:L28,T7)","v":4},{"$f":"U7/(W4-U9)","v":0.21052631578947367},{"$f":"IF(V7=0,0,(V7*((LOG(V7))/LOG(2))))","v":-0.47324789756707064},null,{"$f":"N7","v":111},{"$f":"COUNTIF(L29:L49,Y7)","v":3},{"$f":"Z7/(AB4-Z9)","v":0.21428571428571427},{"$f":"IF(AA7=0,0,(AA7*((LOG(AA7))/LOG(2))))","v":-0.47622694742923877},null,{"$f":"N7","v":111},{"$f":"COUNTIF(L50:L71,AD7)","v":2},{"$f":"AE7/(AG4-AE9)","v":0.13333333333333333},{"$f":"IF(AF7=0,0,(AF7*((LOG(AF7))/LOG(2))))","v":-0.3875854127478025},null,{"$f":"N7","v":111},{"$f":"COUNTIF(L72:L93,AI7)","v":3},{"$f":"AJ7/(AL4-AJ9)","v":0.21428571428571427},{"$f":"IF(AK7=0,0,(AK7*((LOG(AK7))/LOG(2))))","v":-0.47622694742923877},null,{"$f":"N7","v":111},{"$f":"COUNTIF(L94:L114,AN7)","v":3},{"$f":"AO7/(AQ4-AO9)","v":0.1875},{"$f":"IF(AP7=0,0,(AP7*((LOG(AP7))/LOG(2))))","v":-0.45281953111478312},null,{"$f":"N7","v":111},{"$f":"COUNTIF(L115:L136,AS7)","v":6},{"$f":"AT7/(AV4-AT9)","v":0.35294117647058826},{"$f":"IF(AU7=0,0,(AU7*((LOG(AU7))/LOG(2))))","v":-0.53029423783382934}]
[11,129,12,134,13,140,null,null,null,null,0,111,null,112,{"$f":"COUNTIF($L$7:$L$500,N8)","v":14},{"$f":"O8/$Q$4","v":0.1076923076923077},{"$f":"IF(P8=0,0,(P8*((LOG(P8))/LOG(2))))","v":-0.34623215748916852},null,null,{"$f":"N8","v":112},{"$f":"COUNTIF(L7:L28,T8)","v":1},{"$f":"U8/(W4-U9)","v":5.2631578947368418E-2},{"$f":"IF(V8=0,0,(V8*((LOG(V8))/LOG(2))))","v":-0.22357513228650452},null,{"$f":"N8","v":112},{"$f":"COUNTIF(L29:L49,Y8)","v":1},{"$f":"Z8/(AB4-Z9)","v":7.1428571428571425E-2},{"$f":"IF(AA8=0,0,(AA8*((LOG(AA8))/LOG(2))))","v":-0.27195392300411453},null,{"$f":"N8","v":112},{"$f":"COUNTIF(L50:L71,AD8)","v":5},{"$f":"AE8/(AG4-AE9)","v":0.33333333333333331},{"$f":"IF(AF8=0,0,(AF8*((LOG(AF8))/LOG(2))))","v":-0.52832083357371862},null,{"$f":"N8","v":112},{"$f":"COUNTIF(L72:L93,AI8)","v":3},{"$f":"AJ8/(AL4-AJ9)","v":0.21428571428571427},{"$f":"IF(AK8=0,0,(AK8*((LOG(AK8))/LOG(2))))","v":-0.47622694742923877},null,{"$f":"N8","v":112},{"$f":"COUNTIF(L94:L114,AN8)","v":1},{"$f":"AO8/(AQ4-AO9)","v":6.25E-2},{"$f":"IF(AP8=0,0,(AP8*((LOG(AP8))/LOG(2))))","v":-0.25},null,{"$f":"N8","v":112},{"$f":"COUNTIF(L115:L136,AS8)","v":3},{"$f":"AT8/(AV4-AT9)","v":0.17647058823529413},{"$f":"IF(AU8=0,0,(AU8*((LOG(AU8))/LOG(2))))","v":-0.44161770715220888}]
[22,243,23,244,13,256,null,null,null,null,0,221,null,121,{"$f":"COUNTIF($L$7:$L$500,N9)","v":35},{"$f":"O9/$Q$4","v":0.26923076923076922},{"$f":"IF(P9=0,0,(P9*((LOG(P9))/LOG(2))))","v":-0.50967667586863141},null,null,{"$f":"N9","v":121},{"$f":"COUNTIF(L7:L28,T9)","v":3},null,null,null,{"$f":"N9","v":121},{"$f":"COUNTIF(L29:L49,Y9)","v":7},null,null,null,{"$f":"N9","v":121},{"$f":"COUNTIF(L50:L71,AD9)","v":7},null,null,null,{"$f":"N9","v":121},{"$f":"COUNTIF(L72:L93,AI9)","v":8},null,null,null,{"$f":"N9","v":121},{"$f":"COUNTIF(L94:L114,AN9)","v":5},null,null,null,{"$f":"N9","v":121},{"$f":"COUNTIF(L115:L136,AS9)","v":5}]
[22,358,23,365,24,372,null,null,null,null,0,222,null,122,{"$f":"COUNTIF($L$7:$L$500,N10)","v":16},{"$f":"O10/$Q$4","v":0.12307692307692308},{"$f":"IF(P10=0,0,(P10*((LOG(P10))/LOG(2))))","v":-0.37198373083427133},null,null,{"$f":"N10","v":122},{"$f":"COUNTIF(L7:L28,T10)","v":3},{"$f":"U10/(W4-U9)","v":0.15789473684210525},{"$f":"IF(V10=0,0,(V10*((LOG(V10))/LOG(2))))","v":-0.42046815990354147},null,{"$f":"N10","v":122},{"$f":"COUNTIF(L29:L49,Y10)","v":6},{"$f":"Z10/(AB4-Z9)","v":0.42857142857142855},{"$f":"IF(AA10=0,0,(AA10*((LOG(AA10))/LOG(2))))","v":-0.52388246628704915},null,{"$f":"N10","v":122},{"$f":"COUNTIF(L50:L71,AD10)","v":3},{"$f":"AE10/(AG4-AE9)","v":0.2},{"$f":"IF(AF10=0,0,(AF10*((LOG(AF10))/LOG(2))))","v":-0.46438561897747244},null,{"$f":"N10","v":122},{"$f":"COUNTIF(L72:L93,AI10)","v":0},{"$f":"AJ10/(AL4-AJ9)","v":0},{"$f":"IF(AK10=0,0,(AK10*((LOG(AK10))/LOG(2))))","v":0},null,{"$f":"N10","v":122},{"$f":"COUNTIF(L94:L114,AN10)","v":3},{"$f":"AO10/(AQ4-AO9)","v":0.1875},{"$f":"IF(AP10=0,0,(AP10*((LOG(AP10))/LOG(2))))","v":-0.45281953111478312},null,{"$f":"N10","v":122},{"$f":"COUNTIF(L115:L136,AS10)","v":1},{"$f":"AT10/(AV4-AT9)","v":5.8823529411764705E-2},{"$f":"IF(AU10=0,0,(AU10*((LOG(AU10))/LOG(2))))","v":-0.24043899066178465}]
[22,484,23,494,24,499,null,null,null,null,0,222,null,211,{"$f":"COUNTIF($L$7:$L$500,N11)","v":15},{"$f":"O11/$Q$4","v":0.11538461538461539},{"$f":"IF(P11=0,0,(P11*((LOG(P11))/LOG(2))))","v":-0.35947814047153104},null,null,{"$f":"N11","v":211},{"$f":"COUNTIF(L7:L28,T11)","v":3},{"$f":"U11/(W4-U9)","v":0.15789473684210525},{"$f":"IF(V11=0,0,(V11*((LOG(V11))/LOG(2))))","v":-0.42046815990354147},null,{"$f":"N11","v":211},{"$f":"COUNTIF(L29:L49,Y11)","v":0},{"$f":"Z11/(AB4-Z9)","v":0},{"$f":"IF(AA11=0,0,(AA11*((LOG(AA11))/LOG(2))))","v":0},null,{"$f":"N11","v":211},{"$f":"COUNTIF(L50:L71,AD11)","v":2},{"$f":"AE11/(AG4-AE9)","v":0.13333333333333333},{"$f":"IF(AF11=0,0,(AF11*((LOG(AF11))/LOG(2))))","v":-0.3875854127478025},null,{"$f":"N11","v":211},{"$f":"COUNTIF(L72:L93,AI11)","v":3},{"$f":"AJ11/(AL4-AJ9)","v":0.21428571428571427},{"$f":"IF(AK11=0,0,(AK11*((LOG(AK11))/LOG(2))))","v":-0.47622694742923877},null,{"$f":"N11","v":211},{"$f":"COUNTIF(L94:L114,AN11)","v":2},{"$f":"AO11/(AQ4-AO9)","v":0.125},{"$f":"IF(AP11=0,0,(AP11*((LOG(AP11))/LOG(2))))","v":-0.375},null,{"$f":"N11","v":211},{"$f":"COUNTIF(L115:L136,AS11)","v":5},{"$f":"AT11/(AV4-AT9)","v":0.29411764705882354},{"$f":"IF(AU11=0,0,(AU11*((LOG(AU11))/LOG(2))))","v":-0.51927492540087561}]
[22,598,14,615,13,623,null,null,null,null,0,211,null,212,{"$f":"COUNTIF($L$7:$L$500,N12)","v":8},{"$f":"O12/$Q$4","v":6.1538461538461542E-2},{"$f":"IF(P12=0,0,(P12*((LOG(P12))/LOG(2))))","v":-0.24753032695559721},null,null,{"$f":"N12","v":212},{"$f":"COUNTIF(L7:L28,T12)","v":1},{"$f":"U12/(W4-U9)","v":5.2631578947368418E-2},{"$f":"IF(V12=0,0,(V12*((LOG(V12))/LOG(2))))","v":-0.22357513228650452},null,{"$f":"N12","v":212},{"$f":"COUNTIF(L29:L49,Y12)","v":2},{"$f":"Z12/(AB4-Z9)","v":0.14285714285714285},{"$f":"IF(AA12=0,0,(AA12*((LOG(AA12))/LOG(2))))","v":-0.40105070315108626},null,{"$f":"N12","v":212},{"$f":"COUNTIF(L50:L71,AD12)","v":0},{"$f":"AE12/(AG4-AE9)","v":0},{"$f":"IF(AF12=0,0,(AF12*((LOG(AF12))/LOG(2))))","v":0},null,{"$f":"N12","v":212},{"$f":"COUNTIF(L72:L93,AI12)","v":1},{"$f":"AJ12/(AL4-AJ9)","v":7.1428571428571425E-2},{"$f":"IF(AK12=0,0,(AK12*((LOG(AK12))/LOG(2))))","v":-0.27195392300411453},null,{"$f":"N12","v":212},{"$f":"COUNTIF(L94:L114,AN12)","v":3},{"$f":"AO12/(AQ4-AO9)","v":0.1875},{"$f":"IF(AP12=0,0,(AP12*((LOG(AP12))/LOG(2))))","v":-0.45281953111478312},null,{"$f":"N12","v":212},{"$f":"COUNTIF(L115:L136,AS12)","v":1},{"$f":"AT12/(AV4-AT9)","v":5.8823529411764705E-2},{"$f":"IF(AU12=0,0,(AU12*((LOG(AU12))/LOG(2))))","v":-0.24043899066178465}]
[11,723,21,730,22,736,null,null,null,null,0,122,null,221,{"$f":"COUNTIF($L$7:$L$500,N13)","v":14},{"$f":"O13/$Q$4","v":0.1076923076923077},{"$f":"IF(P13=0,0,(P13*((LOG(P13))/LOG(2))))","v":-0.34623215748916852},null,null,{"$f":"N13","v":221},{"$f":"COUNTIF(L7:L28,T13)","v":3},{"$f":"U13/(W4-U9)","v":0.15789473684210525},{"$f":"IF(V13=0,0,(V13*((LOG(V13))/LOG(2))))","v":-0.42046815990354147},null,{"$f":"N13","v":221},{"$f":"COUNTIF(L29:L49,Y13)","v":1},{"$f":"Z13/(AB4-Z9)","v":7.1428571428571425E-2},{"$f":"IF(AA13=0,0,(AA13*((LOG(AA13))/LOG(2))))","v":-0.27195392300411453},null,{"$f":"N13","v":221},{"$f":"COUNTIF(L50:L71,AD13)","v":3},{"$f":"AE13/(AG4-AE9)","v":0.2},{"$f":"IF(AF13=0,0,(AF13*((LOG(AF13))/LOG(2))))","v":-0.46438561897747244},null,{"$f":"N13","v":221},{"$f":"COUNTIF(L72:L93,AI13)","v":4},{"$f":"AJ13/(AL4-AJ9)","v":0.2857142857142857},{"$f":"IF(AK13=0,0,(AK13*((LOG(AK13))/LOG(2))))","v":-0.51638712058788683},null,{"$f":"N13","v":221},{"$f":"COUNTIF(L94:L114,AN13)","v":2},{"$f":"AO13/(AQ4-AO9)","v":0.125},{"$f":"IF(AP13=0,0,(AP13*((LOG(AP13))/LOG(2))))","v":-0.375},null,{"$f":"N13","v":221},{"$f":"COUNTIF(L115:L136,AS13)","v":1},{"$f":"AT13/(AV4-AT9)","v":5.8823529411764705E-2},{"$f":"IF(AU13=0,0,(AU13*((LOG(AU13))/LOG(2))))","v":-0.24043899066178465}]
[22,831,23,838,13,851,null,null,null,null,0,221,null,222,{"$f":"COUNTIF($L$7:$L$500,N14)","v":7},{"$f":"O14/$Q$4","v":5.3846153846153849E-2},{"$f":"IF(P14=0,0,(P14*((LOG(P14))/LOG(2))))","v":-0.22696223259073811},null,null,{"$f":"N14","v":222},{"$f":"COUNTIF(L7:L28,T14)","v":4},{"$f":"U14/(W4-U9)","v":0.21052631578947367},{"$f":"IF(V14=0,0,(V14*((LOG(V14))/LOG(2))))","v":-0.47324789756707064},null,{"$f":"N14","v":222},{"$f":"COUNTIF(L29:L49,Y14)","v":1},{"$f":"Z14/(AB4-Z9)","v":7.1428571428571425E-2},{"$f":"IF(AA14=0,0,(AA14*((LOG(AA14))/LOG(2))))","v":-0.27195392300411453},null,{"$f":"N14","v":222},{"$f":"COUNTIF(L50:L71,AD14)","v":0},{"$f":"AE14/(AG4-AE9)","v":0},{"$f":"IF(AF14=0,0,(AF14*((LOG(AF14))/LOG(2))))","v":0},null,{"$f":"N14","v":222},{"$f":"COUNTIF(L72:L93,AI14)","v":0},{"$f":"AJ14/(AL4-AJ9)","v":0},{"$f":"IF(AK14=0,0,(AK14*((LOG(AK14))/LOG(2))))","v":0},null,{"$f":"N14","v":222},{"$f":"COUNTIF(L94:L114,AN14)","v":2},{"$f":"AO14/(AQ4-AO9)","v":0.125},{"$f":"IF(AP14=0,0,(AP14*((LOG(AP14))/LOG(2))))","v":-0.375},null,{"$f":"N14","v":222},{"$f":"COUNTIF(L115:L136,AS14)","v":0},{"$f":"AT14/(AV4-AT9)","v":0},{"$f":"IF(AU14=0,0,(AU14*((LOG(AU14))/LOG(2))))","v":0}]
[11,953,12,971,13,979,null,null,null,null,0,111,null,null,null,{"$f":"SUM(P7:P14)","v":1.0000000000000002},{"$f":"-SUM(Q7:Q14)","v":2.8329497155086716},null,null,null,null,{"$f":"SUM(V7:V14)","v":1},{"$f":"-SUM(W7:W14)","v":2.6550505394177746},null,null,null,{"$f":"SUM(AA7:AA14)","v":0.99999999999999978},{"$f":"-SUM(AB7:AB14)","v":2.2170218858797179},null,null,null,{"$f":"SUM(AF7:AF14)","v":1},{"$f":"-SUM(AG7:AG14)","v":2.2322628970242686},null,null,null,{"$f":"SUM(AK7:AK14)","v":0.99999999999999989},{"$f":"-SUM(AL7:AL14)","v":2.2170218858797179},null,null,null,{"$f":"SUM(AP7:AP14)","v":1},{"$f":"-SUM(AQ7:AQ14)","v":2.7334585933443494},null,null,null,{"$f":"SUM(AU7:AU14)","v":1},{"$f":"-SUM(AV7:AV14)","v":2.2125038423722683}]
[11,1079,21,1088,11,1100,null,null,null,null,0,121,null,null,null,"U=",{"$f":"Q15/(LOG(Q4)/LOG(2))","v":0.40341801952508927},null,null,null,null,"U1=",{"$f":"W15/(LOG(W4)/LOG(2))","v":0.59537868644997827},null,null,null,"U2=",{"$f":"AB15/(LOG(AB4)/LOG(2))","v":0.50474992412482311},null,null,null,"U3=",{"$f":"AG15/(LOG(AG4)/LOG(2))","v":0.50057116868772578},null,null,null,"U4=",{"$f":"AL15/(LOG(AL4)/LOG(2))","v":0.49715346606372907},null,null,null,"U5=",{"$f":"AQ15/(LOG(AQ4)/LOG(2))","v":0.62232719774953127},null,null,null,"U6=",{"$f":"AV15/(LOG(AV4)/LOG(2))","v":0.49614032270963715}]
[11,1341,12,1347,13,1353,null,null,null,null,0,111]
[11,1451,21,1460,22,1466,null,null,null,null,0,122]
[22,1578,14,1593,13,1604,null,null,null,null,0,211,null,"Total Target Seq"]
[22,1710,14,1728,24,1743,null,null,null,null,0,212,null,{"$f":"COUNTIF(L7:L136,G3)","v":35},null,22,21,22,22,21,22]
[11,1839,21,1847,11,1859,null,null,null,null,0,121,null,null,null,"% of reinforcement given in 6 equal intervals based on number of trials "]
[11,2036,12,2046,13,2052,null,null,null,null,0,111,null,null,null,"%_1","%_2","%_3","%_4","%_5","%_6"]
[22,2151,14,2175,13,2189,null,null,null,null,0,211,null,null,"target sequence",{"$f":"$G$3","v":121},{"$f":"$G$3","v":121},{"$f":"$G$3","v":121},{"$f":"$G$3","v":121},{"$f":"$G$3","v":121},{"$f":"$G$3","v":121}]
[11,2292,21,2299,11,2312,null,null,null,null,0,121,null,null,"total reinforcement",{"$f":"U9","v":3},{"$f":"Z9","v":7},{"$f":"AE9","v":7},{"$f":"AJ9","v":8},{"$f":"AO9","v":5},{"$f":"AT9","v":5}]
[11,2490,12,2508,24,2518,null,null,null,null,0,112,null,null,"% target"]
[11,2707,21,2716,22,2722,null,null,null,null,0,122,null,null,"CCRF"]
[22,2817,23,2827,24,2833,null,null,null,null,0,222,null,null,"% CCRf"]
[22,2927,23,2932,24,2936,null,null,null,null,0,222,null,null,"average response rate",{"$f":"F28/P20","v":133.45454545454547},{"$f":"(F49-F28)/Q20","v":147.71428571428572},{"$f":"(F71-F49)/R20","v":160.81818181818181},{"$f":"(F93-F71)/S20","v":161.36363636363637},{"$f":"(F114-F93)/T20","v":150.85714285714286},{"$f":"(F136-F114)/U20","v":159.95454545454547}]
[22,3034,14,3047,24,3058,null,null,null,null,0,212]
[11,3164,21,3170,22,3174,null,null,null,null,0,122]
[11,3273,21,3283,11,3310,null,null,null,null,0,121]
[11,3481,12,3489,13,3495,null,null,null,null,0,111]
[22,3594,23,3600,24,3607,null,null,null,null,0,222]
[11,3709,21,3717,11,3728,null,null,null,null,0,121]
[11,3923,21,3932,22,3936,null,null,null,null,0,122]
[11,4035,21,4043,22,4048,null,null,null,null,0,122]
[11,4149,21,4156,11,4167,null,null,null,null,0,121]
[11,4401,21,4407,22,4410,null,null,null,null,0,122]
[11,4513,21,4520,11,4546,null,null,null,null,0,121]
[11,4780,21,4786,11,4803,null,null,null,null,0,121]
[11,4984,12,4992,24,5009,null,null,null,null,0,112]
[11,5112,21,5119,11,5130,null,null,null,null,0,121]
[11,5258,12,5273,13,5285,null,null,null,null,0,111]
[11,5391,21,5400,22,5405,null,null,null,null,0,122]
[22,5504,14,5516,24,5523,null,null,null,null,0,212]
[11,5625,12,5640,13,5648,null,null,null,null,0,111]
[11,5747,21,5755,11,5764,null,null,null,null,0,121]
[11,5894,21,5904,22,5911,null,null,null,null,0,122]
[22,6016,23,6021,13,6038,null,null,null,null,0,221]
[11,6233,21,6245,11,6265,null,null,null,null,0,121]
[11,6405,12,6413,24,6430,null,null,null,null,0,112]
[11,6616,12,6622,24,6634,null,null,null,null,0,112]
[22,6744,23,6748,13,6773,null,null,null,null,0,221]
[11,6990,12,6997,24,7007,null,null,null,null,0,112]
[11,7112,12,7120,24,7130,null,null,null,null,0,112]
[11,7232,12,7250,13,7260,null,null,null,null,0,111]
[22,7365,14,7382,13,7391,null,null,null,null,0,211]
[11,7490,12,7497,24,7510,null,null,null,null,0,112]
[11,7630,12,7636,13,7644,null,null,null,null,0,111]
[11,7754,21,7771,22,7784,null,null,null,null,0,122]
[11,7885,21,7893,11,7910,null,null,null,null,0,121]
[11,8085,21,8094,11,8105,null,null,null,null,0,121]
[11,8306,21,8317,11,8327,null,null,null,null,0,121]
[11,8536,21,8543,11,8556,null,null,null,null,0,121]
[11,8741,21,8749,22,8755,null,null,null,null,0,122]
[11,8856,21,8863,11,8878,null,null,null,null,0,121]
[11,9076,21,9083,22,9089,null,null,null,null,0,122]
[22,9199,14,9212,13,9223,null,null,null,null,0,211]
[22,9318,23,9329,13,9344,null,null,null,null,0,221]
[22,9440,23,9443,13,9457,null,null,null,null,0,221]
[11,9552,21,9559,11,9576,null,null,null,null,0,121]
[11,9710,21,9719,11,9736,null,null,null,null,0,121]
[11,9898,12,9901,24,9912,null,null,null,null,0,112]
[22,10013,14,10033,24,10043,null,null,null,null,0,212]
[11,10148,21,10155,11,10166,null,null,null,null,0,121]
[11,10326,12,10333,13,10346,null,null,null,null,0,111]
[11,10443,21,10451,11,10466,null,null,null,null,0,121]
[22,10592,14,10603,13,10620,null,null,null,null,0,211]
[22,10715,23,10720,13,10740,null,null,null,null,0,221]
[22,10838,23,10845,13,10862,null,null,null,null,0,221]
[11,10958,21,10966,11,10981,null,null,null,null,0,121]
[11,11124,12,11136,24,11175,null,null,null,null,0,112]
[11,11275,12,11292,13,11308,null,null,null,null,0,111]
[11,11409,21,11416,11,11441,null,null,null,null,0,121]
[11,11613,21,11621,11,11636,null,null,null,null,0,121]
[11,11950,12,11974,13,11984,null,null,null,null,0,111]
[22,12083,23,12092,13,12111,null,null,null,null,0,221]
[11,12221,21,12228,11,12251,null,null,null,null,0,121]
[11,12460,21,12470,11,12481,null,null,null,null,0,121]
[11,12721,12,12726,24,12737,null,null,null,null,0,112]
[22,12845,14,12861,13,12871,null,null,null,null,0,211]
[22,12976,14,12992,13,13007,null,null,null,null,0,211]
[22,13105,23,13112,13,13126,null,null,null,null,0,221]
[22,13233,14,13243,24,13252,null,null,null,null,0,212]
[22,13348,23,13356,13,13374,null,null,null,null,0,221]
[22,13484,14,13498,13,13511,null,null,null,null,0,211]
[22,13605,14,13620,24,13628,null,null,null,null,0,212]
[22,13742,14,13754,13,13762,null,null,null,null,0,211]
[11,13862,21,13869,11,13899,null,null,null,null,0,121]
[11,14106,21,14118,22,14125,null,null,null,null,0,122]
[11,14223,21,14231,11,14248,null,null,null,null,0,121]
[11,14417,21,14426,11,14435,null,null,null,null,0,121]
[11,14680,12,14702,13,14715,null,null,null,null,0,111]
[22,14811,23,14821,13,14834,null,null,null,null,0,221]
[11,14939,21,14948,11,14965,null,null,null,null,0,121]
[11,15138,21,15146,22,15152,null,null,null,null,0,122]
[22,15250,23,15267,24,15273,null,null,null,null,0,222]
[22,15389,23,15393,24,15400,null,null,null,null,0,222]
[11,15519,21,15526,11,15541,null,null,null,null,0,121]
[11,15774,21,15782,22,15788,null,null,null,null,0,122]
[11,15890,12,15898,24,15910,null,null,null,null,0,112]
[22,16013,14,16025,24,16035,null,null,null,null,0,212]
[11,16137,12,16154,13,16171,null,null,null,null,0,111]
[11,16270,12,16287,13,16294,null,null,null,null,0,111]
[11,16404,21,16412,11,16425,null,null,null,null,0,121]
[11,16656,12,16661,24,16672,null,null,null,null,0,112]
[11,16778,12,16786,13,16798,null,null,null,null,0,111]
[11,16901,21,16916,22,16939,null,null,null,null,0,122]
[11,17038,12,17045,13,17051,null,null,null,null,0,111]
[11,17150,21,17158,11,17193,null,null,null,null,0,121]
[11,17452,12,17467,13,17473,null,null,null,null,0,111]
[11,17606,12,17614,13,17623,null,null,null,null,0,111]
[11,17732,12,17750,13,17757,null,null,null,null,0,111]
[22,17862,14,17880,13,17896,null,null,null,null,0,211]
[11,17997,21,18004,11,18015,null,null,null,null,0,121]
[22,18270,14,18289,13,18304,null,null,null,null,0,211]
[22,18413,14,18426,24,18439,null,null,null,null,0,212]
[11,18538,12,18559,13,18566,null,null,null,null,0,111]
[11,18669,21,18676,11,18688,null,null,null,null,0,121]
[22,18852,14,18866,13,18880,null,null,null,null,0,211]
[22,18986,23,18993,13,19010,null,null,null,null,0,221]
[11,19257,12,19264,24,19273,null,null,null,null,0,112]
[11,19388,12,19399,24,19410,null,null,null,null,0,112]
[22,19520,14,19532,13,19541,null,null,null,null,0,211]
[22,19650,14,19663,13,19681,null,null,null,null,0,211]
[11,19786,21,19796,11,19813,null,null,null,null,1,121]

{"sheet":"!M302A5D.UST","index":15,"n_rows":130,"n_cols":48,"rows_kept":130,"cut":false,"hidden":false,"merged":[[4,39,4,42],[5,39,5,40],[4,44,4,47],[5,44,5,45],[4,24,4,27],[5,24,5,25],[4,29,4,32],[5,29,5,30],[4,34,4,37],[5,34,5,35],[1,1,1,2],[5,13,5,14],[18,13,18,14],[19,13,19,14],[4,19,4,22],[5,19,5,20]]}
["Report for:!M302A5D.UST"]
["Date:","<date>"]
["Hen:","<hen>",null,null,null,"Correct Sequence",{"$f":"Start!J2","v":121},null,null,null,null,null,null,null,null,"Total Sequences in Data",{"$f":"4994-COUNTBLANK(L7:L5000)","v":124},null,null,null,null,"Total Sequences in Block Data",{"$f":"COUNTA(L7:L27)","v":21},null,null,null,"Total Sequences in Block Data",{"$f":"COUNTA(L28:L47)","v":20},null,null,null,"Total Sequences in Block Data",{"$f":"COUNTA(L48:L68)","v":21},null,null,null,"Total Sequences in Block Data",{"$f":"COUNTA(L69:L89)","v":21},null,null,null,"Total Sequences in Block Data",{"$f":"COUNTA(L90:L109)","v":20},null,null,null,"Total Sequences in Block Data",{"$f":"COUNTA(L110:L130)","v":21}]
[null,null,null,null,null,null,null,null,null,null,null,null,null,null,null,"Total Sequences in Summary",{"$f":"SUM(O7:O14)","v":124},null,null,null,null,"Total Sequences in Block Summary",{"$f":"SUM(U7:U14)","v":21},null,null,null,"Total Sequences in Block Summary",{"$f":"SUM(Z7:Z14)","v":20},null,null,null,"Total Sequences in Block Summary",{"$f":"SUM(AE7:AE14)","v":21},null,null,null,"Total Sequences in Block Summary",{"$f":"SUM(AJ7:AJ14)","v":21},null,null,null,"Total Sequences in Block Summary",{"$f":"SUM(AO7:AO14)","v":20},null,null,null,"Total Sequences in Block Summary",{"$f":"SUM(AT7:AT14)","v":21}]
[null,null,null,null,null,null,null,null,null,null,null,null,null,null,null,null,null,null,null,"Block 1",null,null,null,null,"Block 2",null,null,null,null,"Block 3",null,null,null,null,"Block 4",null,null,null,null,"Block 5",null,null,null,null,"Block 6"]
["Sequence\nComponent\n1","Time\n1","Sequence\nComponent\n2","Time\n2","Sequence\nComponent\n3","Time\n3","Sequence\nComponent\n4","Time\n4","Sequence\nComponent\n5","Time\n5","Correct?\n0=No 1=Yes","Sequence",null,"Frequency",null,"Relative Frequency","Variability",null,null,"Frequency",null,"Relative Frequency","Variability",null,"Frequency",null,"Relative Frequency","Variability",null,"Frequency",null,"Relative Frequency","Variability",null,"Frequency",null,"Relative Frequency","Variability",null,"Frequency",null,"Relative Frequency","Variability",null,"Frequency",null,"Relative Frequency","Variability"]
[11,7,21,15,11,27,null,null,null,null,0,121,null,111,{"$f":"COUNTIF($L$7:$L$500,N7)","v":17},{"$f":"O7/$Q$4","v":0.13709677419354838},{"$f":"IF(P7=0,0,(P7*((LOG(P7))/LOG(2))))","v":-0.39301991109129925},null,null,{"$f":"N7","v":111},{"$f":"COUNTIF(L7:L27,T7)","v":3},{"$f":"U7/(W4-U9)","v":0.21428571428571427},{"$f":"IF(V7=0,0,(V7*((LOG(V7))/LOG(2))))","v":-0.47622694742923877},null,{"$f":"N7","v":111},{"$f":"COUNTIF(L28:L47,Y7)","v":5},{"$f":"Z7/(AB4-Z9)","v":0.35714285714285715},{"$f":"IF(AA7=0,0,(AA7*((LOG(AA7))/LOG(2))))","v":-0.53050958113222924},null,{"$f":"N7","v":111},{"$f":"COUNTIF(L48:L68,AD7)","v":1},{"$f":"AE7/(AG4-AE9)","v":5.2631578947368418E-2},{"$f":"IF(AF7=0,0,(AF7*((LOG(AF7))/LOG(2))))","v":-0.22357513228650452},null,{"$f":"N7","v":111},{"$f":"COUNTIF(L69:L89,AI7)","v":3},{"$f":"AJ7/(AL4-AJ9)","v":0.1875},{"$f":"IF(AK7=0,0,(AK7*((LOG(AK7))/LOG(2))))","v":-0.45281953111478312},null,{"$f":"N7","v":111},{"$f":"COUNTIF(L90:L109,AN7)","v":2},{"$f":"AO7/(AQ4-AO9)","v":0.14285714285714285},{"$f":"IF(AP7=0,0,(AP7*((LOG(AP7))/LOG(2))))","v":-0.40105070315108626},null,{"$f":"N7","v":111},{"$f":"COUNTIF(L110:L130,AS7)","v":3},{"$f":"AT7/(AV4-AT9)","v":0.21428571428571427},{"$f":"IF(AU7=0,0,(AU7*((LOG(AU7))/LOG(2))))","v":-0.47622694742923877}]
[11,242,12,251,13,255,null,null,null,null,0,111,null,112,{"$f":"COUNTIF($L$7:$L$500,N8)","v":12},{"$f":"O8/$Q$4","v":9.6774193548387094E-2},{"$f":"IF(P8=0,0,(P8*((LOG(P8))/LOG(2))))","v":-0.32605488480635986},null,null,{"$f":"N8","v":112},{"$f":"COUNTIF(L7:L27,T8)","v":3},{"$f":"U8/(W4-U9)","v":0.21428571428571427},{"$f":"IF(V8=0,0,(V8*((LOG(V8))/LOG(2))))","v":-0.47622694742923877},null,{"$f":"N8","v":112},{"$f":"COUNTIF(L28:L47,Y8)","v":2},{"$f":"Z8/(AB4-Z9)","v":0.14285714285714285},{"$f":"IF(AA8=0,0,(AA8*((LOG(AA8))/LOG(2))))","v":-0.40105070315108626},null,{"$f":"N8","v":112},{"$f":"COUNTIF(L48:L68,AD8)","v":2},{"$f":"AE8/(AG4-AE9)","v":0.10526315789473684},{"$f":"IF(AF8=0,0,(AF8*((LOG(AF8))/LOG(2))))","v":-0.34188710667827216},null,{"$f":"N8","v":112},{"$f":"COUNTIF(L69:L89,AI8)","v":4},{"$f":"AJ8/(AL4-AJ9)","v":0.25},{"$f":"IF(AK8=0,0,(AK8*((LOG(AK8))/LOG(2))))","v":-0.5},null,{"$f":"N8","v":112},{"$f":"COUNTIF(L90:L109,AN8)","v":0},{"$f":"AO8/(AQ4-AO9)","v":0},{"$f":"IF(AP8=0,0,(AP8*((LOG(AP8))/LOG(2))))","v":0},null,{"$f":"N8","v":112},{"$f":"COUNTIF(L110:L130,AS8)","v":1},{"$f":"AT8/(AV4-AT9)","v":7.1428571428571425E-2},{"$f":"IF(AU8=0,0,(AU8*((LOG(AU8))/LOG(2))))","v":-0.27195392300411453}]
[22,352,23,358,13,371,null,null,null,null,0,221,null,121,{"$f":"COUNTIF($L$7:$L$500,N9)","v":33},{"$f":"O9/$Q$4","v":0.2661290322580645},{"$f":"IF(P9=0,0,(P9*((LOG(P9))/LOG(2))))","v":-0.5082538089027252},null,null,{"$f":"N9","v":121},{"$f":"COUNTIF(L7:L27,T9)","v":7},null,null,null,{"$f":"N9","v":121},{"$f":"COUNTIF(L28:L47,Y9)","v":6},null,null,null,{"$f":"N9","v":121},{"$f":"COUNTIF(L48:L68,AD9)","v":2},null,null,null,{"$f":"N9","v":121},{"$f":"COUNTIF(L69:L89,AI9)","v":5},null,null,null,{"$f":"N9","v":121},{"$f":"COUNTIF(L90:L109,AN9)","v":6},null,null,null,{"$f":"N9","v":121},{"$f":"COUNTIF(L110:L130,AS9)","v":7}]
[11,472,21,479,11,495,null,null,null,null,0,121,null,122,{"$f":"COUNTIF($L$7:$L$500,N10)","v":19},{"$f":"O10/$Q$4","v":0.15322580645161291},{"$f":"IF(P10=0,0,(P10*((LOG(P10))/LOG(2))))","v":-0.41467021888647182},null,null,{"$f":"N10","v":122},{"$f":"COUNTIF(L7:L27,T10)","v":3},{"$f":"U10/(W4-U9)","v":0.21428571428571427},{"$f":"IF(V10=0,0,(V10*((LOG(V10))/LOG(2))))","v":-0.47622694742923877},null,{"$f":"N10","v":122},{"$f":"COUNTIF(L28:L47,Y10)","v":3},{"$f":"Z10/(AB4-Z9)","v":0.21428571428571427},{"$f":"IF(AA10=0,0,(AA10*((LOG(AA10))/LOG(2))))","v":-0.47622694742923877},null,{"$f":"N10","v":122},{"$f":"COUNTIF(L48:L68,AD10)","v":4},{"$f":"AE10/(AG4-AE9)","v":0.21052631578947367},{"$f":"IF(AF10=0,0,(AF10*((LOG(AF10))/LOG(2))))","v":-0.47324789756707064},null,{"$f":"N10","v":122},{"$f":"COUNTIF(L69:L89,AI10)","v":3},{"$f":"AJ10/(AL4-AJ9)","v":0.1875},{"$f":"IF(AK10=0,0,(AK10*((LOG(AK10))/LOG(2))))","v":-0.45281953111478312},null,{"$f":"N10","v":122},{"$f":"COUNTIF(L90:L109,AN10)","v":3},{"$f":"AO10/(AQ4-AO9)","v":0.21428571428571427},{"$f":"IF(AP10=0,0,(AP10*((LOG(AP10))/LOG(2))))","v":-0.47622694742923877},null,{"$f":"N10","v":122},{"$f":"COUNTIF(L110:L130,AS10)","v":3},{"$f":"AT10/(AV4-AT9)","v":0.21428571428571427},{"$f":"IF(AU10=0,0,(AU10*((LOG(AU10))/LOG(2))))","v":-0.47622694742923877}]
[11,639,12,644,13,654,null,null,null,null,0,111,null,211,{"$f":"COUNTIF($L$7:$L$500,N11)","v":25},{"$f":"O11/$Q$4","v":0.20161290322580644},{"$f":"IF(P11=0,0,(P11*((LOG(P11))/LOG(2))))","v":-0.46579437915567551},null,null,{"$f":"N11","v":211},{"$f":"COUNTIF(L7:L27,T11)","v":3},{"$f":"U11/(W4-U9)","v":0.21428571428571427},{"$f":"IF(V11=0,0,(V11*((LOG(V11))/LOG(2))))","v":-0.47622694742923877},null,{"$f":"N11","v":211},{"$f":"COUNTIF(L28:L47,Y11)","v":2},{"$f":"Z11/(AB4-Z9)","v":0.14285714285714285},{"$f":"IF(AA11=0,0,(AA11*((LOG(AA11))/LOG(2))))","v":-0.40105070315108626},null,{"$f":"N11","v":211},{"$f":"COUNTIF(L48:L68,AD11)","v":6},{"$f":"AE11/(AG4-AE9)","v":0.31578947368421051},{"$f":"IF(AF11=0,0,(AF11*((LOG(AF11))/LOG(2))))","v":-0.52514684612287243},null,{"$f":"N11","v":211},{"$f":"COUNTIF(L69:L89,AI11)","v":2},{"$f":"AJ11/(AL4-AJ9)","v":0.125},{"$f":"IF(AK11=0,0,(AK11*((LOG(AK11))/LOG(2))))","v":-0.375},null,{"$f":"N11","v":211},{"$f":"COUNTIF(L90:L109,AN11)","v":7},{"$f":"AO11/(AQ4-AO9)","v":0.5},{"$f":"IF(AP11=0,0,(AP11*((LOG(AP11))/LOG(2))))","v":-0.5},null,{"$f":"N11","v":211},{"$f":"COUNTIF(L110:L130,AS11)","v":5},{"$f":"AT11/(AV4-AT9)","v":0.35714285714285715},{"$f":"IF(AU11=0,0,(AU11*((LOG(AU11))/LOG(2))))","v":-0.53050958113222924}]
[22,753,23,762,24,769,null,null,null,null,0,222,null,212,{"$f":"COUNTIF($L$7:$L$500,N12)","v":4},{"$f":"O12/$Q$4","v":3.2258064516129031E-2},{"$f":"IF(P12=0,0,(P12*((LOG(P12))/LOG(2))))","v":-0.15981278420602821},null,null,{"$f":"N12","v":212},{"$f":"COUNTIF(L7:L27,T12)","v":0},{"$f":"U12/(W4-U9)","v":0},{"$f":"IF(V12=0,0,(V12*((LOG(V12))/LOG(2))))","v":0},null,{"$f":"N12","v":212},{"$f":"COUNTIF(L28:L47,Y12)","v":1},{"$f":"Z12/(AB4-Z9)","v":7.1428571428571425E-2},{"$f":"IF(AA12=0,0,(AA12*((LOG(AA12))/LOG(2))))","v":-0.27195392300411453},null,{"$f":"N12","v":212},{"$f":"COUNTIF(L48:L68,AD12)","v":1},{"$f":"AE12/(AG4-AE9)","v":5.2631578947368418E-2},{"$f":"IF(AF12=0,0,(AF12*((LOG(AF12))/LOG(2))))","v":-0.22357513228650452},null,{"$f":"N12","v":212},{"$f":"COUNTIF(L69:L89,AI12)","v":1},{"$f":"AJ12/(AL4-AJ9)","v":6.25E-2},{"$f":"IF(AK12=0,0,(AK12*((LOG(AK12))/LOG(2))))","v":-0.25},null,{"$f":"N12","v":212},{"$f":"COUNTIF(L90:L109,AN12)","v":0},{"$f":"AO12/(AQ4-AO9)","v":0},{"$f":"IF(AP12=0,0,(AP12*((LOG(AP12))/LOG(2))))","v":0},null,{"$f":"N12","v":212},{"$f":"COUNTIF(L110:L130,AS12)","v":1},{"$f":"AT12/(AV4-AT9)","v":7.1428571428571425E-2},{"$f":"IF(AU12=0,0,(AU12*((LOG(AU12))/LOG(2))))","v":-0.27195392300411453}]
[11,866,21,874,11,896,null,null,null,null,0,121,null,221,{"$f":"COUNTIF($L$7:$L$500,N13)","v":8},{"$f":"O13/$Q$4","v":6.4516129032258063E-2},{"$f":"IF(P13=0,0,(P13*((LOG(P13))/LOG(2))))","v":-0.25510943937979835},null,null,{"$f":"N13","v":221},{"$f":"COUNTIF(L7:L27,T13)","v":1},{"$f":"U13/(W4-U9)","v":7.1428571428571425E-2},{"$f":"IF(V13=0,0,(V13*((LOG(V13))/LOG(2))))","v":-0.27195392300411453},null,{"$f":"N13","v":221},{"$f":"COUNTIF(L28:L47,Y13)","v":1},{"$f":"Z13/(AB4-Z9)","v":7.1428571428571425E-2},{"$f":"IF(AA13=0,0,(AA13*((LOG(AA13))/LOG(2))))","v":-0.27195392300411453},null,{"$f":"N13","v":221},{"$f":"COUNTIF(L48:L68,AD13)","v":4},{"$f":"AE13/(AG4-AE9)","v":0.21052631578947367},{"$f":"IF(AF13=0,0,(AF13*((LOG(AF13))/LOG(2))))","v":-0.47324789756707064},null,{"$f":"N13","v":221},{"$f":"COUNTIF(L69:L89,AI13)","v":0},{"$f":"AJ13/(AL4-AJ9)","v":0},{"$f":"IF(AK13=0,0,(AK13*((LOG(AK13))/LOG(2))))","v":0},null,{"$f":"N13","v":221},{"$f":"COUNTIF(L90:L109,AN13)","v":1},{"$f":"AO13/(AQ4-AO9)","v":7.1428571428571425E-2},{"$f":"IF(AP13=0,0,(AP13*((LOG(AP13))/LOG(2))))","v":-0.27195392300411453},null,{"$f":"N13","v":221},{"$f":"COUNTIF(L110:L130,AS13)","v":1},{"$f":"AT13/(AV4-AT9)","v":7.1428571428571425E-2},{"$f":"IF(AU13=0,0,(AU13*((LOG(AU13))/LOG(2))))","v":-0.27195392300411453}]
[11,1029,12,1036,24,1047,null,null,null,null,0,112,null,222,{"$f":"COUNTIF($L$7:$L$500,N14)","v":6},{"$f":"O14/$Q$4","v":4.8387096774193547E-2},{"$f":"IF(P14=0,0,(P14*((LOG(P14))/LOG(2))))","v":-0.21141453917737349},null,null,{"$f":"N14","v":222},{"$f":"COUNTIF(L7:L27,T14)","v":1},{"$f":"U14/(W4-U9)","v":7.1428571428571425E-2},{"$f":"IF(V14=0,0,(V14*((LOG(V14))/LOG(2))))","v":-0.27195392300411453},null,{"$f":"N14","v":222},{"$f":"COUNTIF(L28:L47,Y14)","v":0},{"$f":"Z14/(AB4-Z9)","v":0},{"$f":"IF(AA14=0,0,(AA14*((LOG(AA14))/LOG(2))))","v":0},null,{"$f":"N14","v":222},{"$f":"COUNTIF(L48:L68,AD14)","v":1},{"$f":"AE14/(AG4-AE9)","v":5.2631578947368418E-2},{"$f":"IF(AF14=0,0,(AF14*((LOG(AF14))/LOG(2))))","v":-0.22357513228650452},null,{"$f":"N14","v":222},{"$f":"COUNTIF(L69:L89,AI14)","v":3},{"$f":"AJ14/(AL4-AJ9)","v":0.1875},{"$f":"IF(AK14=0,0,(AK14*((LOG(AK14))/LOG(2))))","v":-0.45281953111478312},null,{"$f":"N14","v":222},{"$f":"COUNTIF(L90:L109,AN14)","v":1},{"$f":"AO14/(AQ4-AO9)","v":7.1428571428571425E-2},{"$f":"IF(AP14=0,0,(AP14*((LOG(AP14))/LOG(2))))","v":-0.27195392300411453},null,{"$f":"N14","v":222},{"$f":"COUNTIF(L110:L130,AS14)","v":0},{"$f":"AT14/(AV4-AT9)","v":0},{"$f":"IF(AU14=0,0,(AU14*((LOG(AU14))/LOG(2))))","v":0}]
[11,1266,12,1273,13,1277,null,null,null,null,0,111,null,null,null,{"$f":"SUM(P7:P14)","v":0.99999999999999978},{"$f":"-SUM(Q7:Q14)","v":2.7341299656057316},null,null,null,null,{"$f":"SUM(V7:V14)","v":0.99999999999999989},{"$f":"-SUM(W7:W14)","v":2.4488156357251838},null,null,null,{"$f":"SUM(AA7:AA14)","v":1},{"$f":"-SUM(AB7:AB14)","v":2.3527457808718695},null,null,null,{"$f":"SUM(AF7:AF14)","v":0.99999999999999978},{"$f":"-SUM(AG7:AG14)","v":2.4842551447947994},null,null,null,{"$f":"SUM(AK7:AK14)","v":1},{"$f":"-SUM(AL7:AL14)","v":2.4834585933443494},null,null,null,{"$f":"SUM(AP7:AP14)","v":0.99999999999999989},{"$f":"-SUM(AQ7:AQ14)","v":1.9211854965885542},null,null,null,{"$f":"SUM(AU7:AU14)","v":1},{"$f":"-SUM(AV7:AV14)","v":2.2988252450030502}]
[11,1373,21,1382,11,1391,null,null,null,null,0,121,null,null,null,"U=",{"$f":"Q15/(LOG(Q4)/LOG(2))","v":0.39316260910293838},null,null,null,null,"U1=",{"$f":"W15/(LOG(W4)/LOG(2))","v":0.55752246479853962},null,null,null,"U2=",{"$f":"AB15/(LOG(AB4)/LOG(2))","v":0.54437411479729547},null,null,null,"U3=",{"$f":"AG15/(LOG(AG4)/LOG(2))","v":0.56559098664211693},null,null,null,"U4=",{"$f":"AL15/(LOG(AL4)/LOG(2))","v":0.565409635575293},null,null,null,"U5=",{"$f":"AQ15/(LOG(AQ4)/LOG(2))","v":0.44452046734910422},null,null,null,"U6=",{"$f":"AV15/(LOG(AV4)/LOG(2))","v":0.52337411524067834}]
[11,1586,21,1594,11,1603,null,null,null,null,0,121]
[11,1833,12,1839,24,1850,null,null,null,null,0,112]
[11,1950,21,1958,22,1963,null,null,null,null,0,122,null,"Total Target Seq"]
[22,2061,14,2077,13,2088,null,null,null,null,0,211,null,{"$f":"COUNTIF(L7:L130,G3)","v":33},null,21,20,21,21,20,21]
[11,2186,12,2193,24,2204,null,null,null,null,0,112,null,null,null,"% of reinforcement given in 6 equal intervals based on number of trials "]
[11,2299,21,2310,22,2315,null,null,null,null,0,122,null,null,null,"%_1","%_2","%_3","%_4","%_5","%_6"]
[11,2415,21,2423,11,2433,null,null,null,null,0,121,null,null,"target sequence",{"$f":"$G$3","v":121},{"$f":"$G$3","v":121},{"$f":"$G$3","v":121},{"$f":"$G$3","v":121},{"$f":"$G$3","v":121},{"$f":"$G$3","v":121}]
[11,2597,21,2606,22,2607,null,null,null,null,0,122,null,null,"total reinforcement",{"$f":"U9","v":7},{"$f":"Z9","v":6},{"$f":"AE9","v":2},{"$f":"AJ9","v":5},{"$f":"AO9","v":6},{"$f":"AT9","v":7}]
[11,2707,21,2718,11,2728,null,null,null,null,0,121,null,null,"% target"]
[22,2933,14,2948,13,2961,null,null,null,null,0,211,null,null,"CCRF"]
[22,3060,14,3079,13,3093,null,null,null,null,0,211,null,null,"% CCRf"]
[11,3191,12,3210,13,3217,null,null,null,null,0,111,null,null,"average response rate",{"$f":"F27/P20","v":147.28571428571428},{"$f":"(F47-F27)/Q20","v":158.44999999999999},{"$f":"(F68-F47)/R20","v":143},{"$f":"(F89-F68)/S20","v":156.0952380952381},{"$f":"(F109-F89)/T20","v":164.55},{"$f":"(F130-F109)/U20","v":162.8095238095238}]
[11,3436,12,3442,24,3453,null,null,null,null,0,112]
[11,3577,21,3585,22,3588,null,null,null,null,0,122]
[11,3688,21,3694,11,3709,null,null,null,null,0,121]
[11,3870,21,3882,11,3896,null,null,null,null,0,121]
[11,4146,12,4150,24,4162,null,null,null,null,0,112]
[11,4260,12,4277,13,4285,null,null,null,null,0,111]
[11,4386,21,4395,11,4410,null,null,null,null,0,121]
[22,4667,14,4682,13,4701,null,null,null,null,0,211]
[11,4800,21,4807,11,4817,null,null,null,null,0,121]
[11,4942,21,4949,22,4955,null,null,null,null,0,122]
[22,5065,14,5079,13,5094,null,null,null,null,0,211]
[22,5198,23,5203,13,5227,null,null,null,null,0,221]
[22,5325,14,5341,24,5352,null,null,null,null,0,212]
[11,5448,12,5455,13,5464,null,null,null,null,0,111]
[11,5559,12,5567,13,5575,null,null,null,null,0,111]
[11,5675,21,5682,11,5692,null,null,null,null,0,121]
[11,5857,21,5866,22,5871,null,null,null,null,0,122]
[11,5974,21,5982,11,6002,null,null,null,null,0,121]
[11,6244,12,6255,13,6262,null,null,null,null,0,111]
[11,6359,12,6366,24,6375,null,null,null,null,0,112]
[11,6483,12,6486,13,6489,null,null,null,null,0,111]
[22,6596,14,6607,13,6615,null,null,null,null,0,211]
[22,6710,14,6734,13,6744,null,null,null,null,0,211]
[22,6858,14,6870,13,6877,null,null,null,null,0,211]
[22,6984,14,6997,13,7010,null,null,null,null,0,211]
[22,7106,23,7111,13,7127,null,null,null,null,0,221]
[11,7232,21,7241,22,7260,null,null,null,null,0,122]
[11,7443,12,7453,24,7461,null,null,null,null,0,112]
[11,7719,21,7728,22,7734,null,null,null,null,0,122]
[22,7845,23,7851,24,7872,null,null,null,null,0,222]
[22,7989,14,8002,13,8010,null,null,null,null,0,211]
[22,8118,23,8127,13,8147,null,null,null,null,0,221]
[22,8256,23,8262,13,8274,null,null,null,null,0,221]
[22,8379,14,8404,13,8418,null,null,null,null,0,211]
[11,8524,21,8532,22,8537,null,null,null,null,0,122]
[11,8641,21,8650,11,8664,null,null,null,null,0,121]
[11,8848,21,8863,22,8877,null,null,null,null,0,122]
[22,8984,23,8988,13,9008,null,null,null,null,0,221]
[22,9121,14,9134,24,9144,null,null,null,null,0,212]
[11,9240,21,9252,11,9265,null,null,null,null,0,121]
[11,9455,12,9462,24,9471,null,null,null,null,0,112]
[11,9575,21,9583,11,9599,null,null,null,null,0,121]
[11,9809,12,9813,24,9823,null,null,null,null,0,112]
[11,9933,21,9944,22,9950,null,null,null,null,0,122]
[22,10057,23,10065,24,10070,null,null,null,null,0,222]
[22,10178,14,10188,13,10202,null,null,null,null,0,211]
[22,10312,23,10317,24,10332,null,null,null,null,0,222]
[11,10432,12,10438,24,10448,null,null,null,null,0,112]
[22,10540,23,10552,24,10558,null,null,null,null,0,222]
[11,10665,12,10672,13,10680,null,null,null,null,0,111]
[11,10847,21,10855,22,10863,null,null,null,null,0,122]
[11,10961,21,10969,11,10983,null,null,null,null,0,121]
[11,11131,12,11133,24,11148,null,null,null,null,0,112]
[11,11251,21,11258,11,11282,null,null,null,null,0,121]
[11,11564,21,11579,11,11597,null,null,null,null,0,121]
[11,11748,12,11764,13,11775,null,null,null,null,0,111]
[11,11875,21,11882,11,11899,null,null,null,null,0,121]
[11,12084,21,12095,22,12127,null,null,null,null,0,122]
[22,12236,14,12252,13,12262,null,null,null,null,0,211]
[11,12377,12,12395,13,12411,null,null,null,null,0,111]
[22,12505,14,12531,24,12543,null,null,null,null,0,212]
[22,12650,14,12659,13,12676,null,null,null,null,0,211]
[11,12775,21,12782,11,12793,null,null,null,null,0,121]
[11,12999,21,13013,11,13027,null,null,null,null,0,121]
[11,13221,12,13229,13,13237,null,null,null,null,0,111]
[11,13337,21,13345,11,13379,null,null,null,null,0,121]
[22,13578,14,13593,13,13607,null,null,null,null,0,211]
[22,13715,14,13730,13,13742,null,null,null,null,0,211]
[22,13837,23,13840,13,13851,null,null,null,null,0,221]
[22,13958,14,13970,13,13985,null,null,null,null,0,211]
[11,14088,21,14096,11,14107,null,null,null,null,0,121]
[22,14286,23,14311,24,14323,null,null,null,null,0,222]
[11,14591,21,14599,22,14613,null,null,null,null,0,122]
[22,14725,14,14734,13,14740,null,null,null,null,0,211]
[11,14835,21,14846,22,14851,null,null,null,null,0,122]
[22,14959,14,14974,13,14985,null,null,null,null,0,211]
[22,15103,14,15117,13,15125,null,null,null,null,0,211]
[11,15229,12,15257,13,15266,null,null,null,null,0,111]
[11,15466,21,15473,22,15483,null,null,null,null,0,122]
[11,15585,21,15594,11,15605,null,null,null,null,0,121]
[11,15813,21,15823,11,15834,null,null,null,null,0,121]
[11,16178,12,16198,13,16212,null,null,null,null,0,111]
[22,16322,14,16336,13,16350,null,null,null,null,0,211]
[22,16455,14,16467,13,16478,null,null,null,null,0,211]
[11,16582,12,16598,24,16610,null,null,null,null,0,112]
[11,16715,12,16738,13,16748,null,null,null,null,0,111]
[11,16846,21,16858,11,16868,null,null,null,null,0,121]
[11,17042,21,17055,11,17074,null,null,null,null,0,121]
[11,17227,12,17242,13,17254,null,null,null,null,0,111]
[22,17355,14,17369,24,17378,null,null,null,null,0,212]
[11,17481,21,17489,11,17504,null,null,null,null,0,121]
[22,17699,14,17715,13,17733,null,null,null,null,0,211]
[22,17841,23,17845,13,17859,null,null,null,null,0,221]
[11,17960,21,17969,11,17986,null,null,null,null,0,121]
[22,18161,14,18170,13,18182,null,null,null,null,0,211]
[11,18290,21,18299,22,18304,null,null,null,null,0,122]
[11,18409,21,18417,22,18423,null,null,null,null,0,122]
[11,18525,21,18533,11,18552,null,null,null,null,0,121]
[11,18750,21,18760,22,18765,null,null,null,null,0,122]
[22,18881,14,18895,13,18912,null,null,null,null,0,211]
[11,19013,21,19021,11,19030,null,null,null,null,0,121]
[11,19232,21,19240,11,19253,null,null,null,null,1,121]

{"sheet":"!M303A3D.UST","index":16,"n_rows":141,"n_cols":48,"rows_kept":141,"cut":false,"hidden":false,"merged":[[4,39,4,42],[5,39,5,40],[4,44,4,47],[5,44,5,45],[4,24,4,27],[5,24,5,25],[4,29,4,32],[5,29,5,30],[4,34,4,37],[5,34,5,35],[1,1,1,2],[5,13,5,14],[18,13,18,14],[19,13,19,14],[4,19,4,22],[5,19,5,20]]}
["Report for:!M303A3D.UST"]
["Date:","<date>"]
["Hen:","<hen>",null,null,null,"Correct Sequence",{"$f":"Start!J2","v":121},null,null,null,null,null,null,null,null,"Total Sequences in Data",{"$f":"4994-COUNTBLANK(L7:L5000)","v":135},null,null,null,null,"Total Sequences in Block Data",{"$f":"COUNTA(L7:L29)","v":23},null,null,null,"Total Sequences in Block Data",{"$f":"COUNTA(L30:L51)","v":22},null,null,null,"Total Sequences in Block Data",{"$f":"COUNTA(L52:L74)","v":23},null,null,null,"Total Sequences in Block Data",{"$f":"COUNTA(L75:L96)","v":22},null,null,null,"Total Sequences in Block Data",{"$f":"COUNTA(L97:L119)","v":23},null,null,null,"Total Sequences in Block Data",{"$f":"COUNTA(L120:L141)","v":22}]
[null,null,null,null,null,null,null,null,null,null,null,null,null,null,null,"Total Sequences in Summary",{"$f":"SUM(O7:O14)","v":135},null,null,null,null,"Total Sequences in Block Summary",{"$f":"SUM(U7:U14)","v":23},null,null,null,"Total Sequences in Block Summary",{"$f":"SUM(Z7:Z14)","v":22},null,null,null,"Total Sequences in Block Summary",{"$f":"SUM(AE7:AE14)","v":23},null,null,null,"Total Sequences in Block Summary",{"$f":"SUM(AJ7:AJ14)","v":22},null,null,null,"Total Sequences in Block Summary",{"$f":"SUM(AO7:AO14)","v":23},null,null,null,"Total Sequences in Block Summary",{"$f":"SUM(AT7:AT14)","v":22}]
[null,null,null,null,null,null,null,null,null,null,null,null,null,null,null,null,null,null,null,"Block 1",null,null,null,null,"Block 2",null,null,null,null,"Block 3",null,null,null,null,"Block 4",null,null,null,null,"Block 5",null,null,null,null,"Block 6"]
["Sequence\nComponent\n1","Time\n1","Sequence\nComponent\n2","Time\n2","Sequence\nComponent\n3","Time\n3","Sequence\nComponent\n4","Time\n4","Sequence\nComponent\n5","Time\n5","Correct?\n0=No 1=Yes","Sequence",null,"Frequency",null,"Relative Frequency","Variability",null,null,"Frequency",null,"Relative Frequency","Variability",null,"Frequency",null,"Relative Frequency","Variability",null,"Frequency",null,"Relative Frequency","Variability",null,"Frequency",null,"Relative Frequency","Variability",null,"Frequency",null,"Relative Frequency","Variability",null,"Frequency",null,"Relative Frequency","Variability"]
[11,46,21,57,22,62,null,null,null,null,0,122,null,111,{"$f":"COUNTIF($L$7:$L$500,N7)","v":31},{"$f":"O7/$Q$4","v":0.22962962962962963},{"$f":"IF(P7=0,0,(P7*((LOG(P7))/LOG(2))))","v":-0.48741628064135284},null,null,{"$f":"N7","v":111},{"$f":"COUNTIF(L7:L29,T7)","v":5},{"$f":"U7/(W4-U9)","v":0.33333333333333331},{"$f":"IF(V7=0,0,(V7*((LOG(V7))/LOG(2))))","v":-0.52832083357371862},null,{"$f":"N7","v":111},{"$f":"COUNTIF(L30:L51,Y7)","v":4},{"$f":"Z7/(AB4-Z9)","v":0.2857142857142857},{"$f":"IF(AA7=0,0,(AA7*((LOG(AA7))/LOG(2))))","v":-0.51638712058788683},null,{"$f":"N7","v":111},{"$f":"COUNTIF(L52:L74,AD7)","v":7},{"$f":"AE7/(AG4-AE9)","v":0.5},{"$f":"IF(AF7=0,0,(AF7*((LOG(AF7))/LOG(2))))","v":-0.5},null,{"$f":"N7","v":111},{"$f":"COUNTIF(L75:L96,AI7)","v":7},{"$f":"AJ7/(AL4-AJ9)","v":0.3888888888888889},{"$f":"IF(AK7=0,0,(AK7*((LOG(AK7))/LOG(2))))","v":-0.52988836420516428},null,{"$f":"N7","v":111},{"$f":"COUNTIF(L97:L119,AN7)","v":6},{"$f":"AO7/(AQ4-AO9)","v":0.31578947368421051},{"$f":"IF(AP7=0,0,(AP7*((LOG(AP7))/LOG(2))))","v":-0.52514684612287243},null,{"$f":"N7","v":111},{"$f":"COUNTIF(L120:L141,AS7)","v":2},{"$f":"AT7/(AV4-AT9)","v":0.1},{"$f":"IF(AU7=0,0,(AU7*((LOG(AU7))/LOG(2))))","v":-0.33219280948873625}]
[11,167,21,174,11,191,null,null,null,null,0,121,null,112,{"$f":"COUNTIF($L$7:$L$500,N8)","v":11},{"$f":"O8/$Q$4","v":8.1481481481481488E-2},{"$f":"IF(P8=0,0,(P8*((LOG(P8))/LOG(2))))","v":-0.29474980564851011},null,null,{"$f":"N8","v":112},{"$f":"COUNTIF(L7:L29,T8)","v":3},{"$f":"U8/(W4-U9)","v":0.2},{"$f":"IF(V8=0,0,(V8*((LOG(V8))/LOG(2))))","v":-0.46438561897747244},null,{"$f":"N8","v":112},{"$f":"COUNTIF(L30:L51,Y8)","v":2},{"$f":"Z8/(AB4-Z9)","v":0.14285714285714285},{"$f":"IF(AA8=0,0,(AA8*((LOG(AA8))/LOG(2))))","v":-0.40105070315108626},null,{"$f":"N8","v":112},{"$f":"COUNTIF(L52:L74,AD8)","v":1},{"$f":"AE8/(AG4-AE9)","v":7.1428571428571425E-2},{"$f":"IF(AF8=0,0,(AF8*((LOG(AF8))/LOG(2))))","v":-0.27195392300411453},null,{"$f":"N8","v":112},{"$f":"COUNTIF(L75:L96,AI8)","v":3},{"$f":"AJ8/(AL4-AJ9)","v":0.16666666666666666},{"$f":"IF(AK8=0,0,(AK8*((LOG(AK8))/LOG(2))))","v":-0.43082708345352599},null,{"$f":"N8","v":112},{"$f":"COUNTIF(L97:L119,AN8)","v":1},{"$f":"AO8/(AQ4-AO9)","v":5.2631578947368418E-2},{"$f":"IF(AP8=0,0,(AP8*((LOG(AP8))/LOG(2))))","v":-0.22357513228650452},null,{"$f":"N8","v":112},{"$f":"COUNTIF(L120:L141,AS8)","v":1},{"$f":"AT8/(AV4-AT9)","v":0.05},{"$f":"IF(AU8=0,0,(AU8*((LOG(AU8))/LOG(2))))","v":-0.21609640474436814}]
[11,437,21,449,11,461,null,null,null,null,0,121,null,121,{"$f":"COUNTIF($L$7:$L$500,N9)","v":35},{"$f":"O9/$Q$4","v":0.25925925925925924},{"$f":"IF(P9=0,0,(P9*((LOG(P9))/LOG(2))))","v":-0.5049158541015204},null,null,{"$f":"N9","v":121},{"$f":"COUNTIF(L7:L29,T9)","v":8},null,null,null,{"$f":"N9","v":121},{"$f":"COUNTIF(L30:L51,Y9)","v":8},null,null,null,{"$f":"N9","v":121},{"$f":"COUNTIF(L52:L74,AD9)","v":9},null,null,null,{"$f":"N9","v":121},{"$f":"COUNTIF(L75:L96,AI9)","v":4},null,null,null,{"$f":"N9","v":121},{"$f":"COUNTIF(L97:L119,AN9)","v":4},null,null,null,{"$f":"N9","v":121},{"$f":"COUNTIF(L120:L141,AS9)","v":2}]
[11,656,12,663,13,680,null,null,null,null,0,111,null,122,{"$f":"COUNTIF($L$7:$L$500,N10)","v":13},{"$f":"O10/$Q$4","v":9.6296296296296297E-2},{"$f":"IF(P10=0,0,(P10*((LOG(P10))/LOG(2))))","v":-0.32513249204316003},null,null,{"$f":"N10","v":122},{"$f":"COUNTIF(L7:L29,T10)","v":4},{"$f":"U10/(W4-U9)","v":0.26666666666666666},{"$f":"IF(V10=0,0,(V10*((LOG(V10))/LOG(2))))","v":-0.50850415882893829},null,{"$f":"N10","v":122},{"$f":"COUNTIF(L30:L51,Y10)","v":1},{"$f":"Z10/(AB4-Z9)","v":7.1428571428571425E-2},{"$f":"IF(AA10=0,0,(AA10*((LOG(AA10))/LOG(2))))","v":-0.27195392300411453},null,{"$f":"N10","v":122},{"$f":"COUNTIF(L52:L74,AD10)","v":3},{"$f":"AE10/(AG4-AE9)","v":0.21428571428571427},{"$f":"IF(AF10=0,0,(AF10*((LOG(AF10))/LOG(2))))","v":-0.47622694742923877},null,{"$f":"N10","v":122},{"$f":"COUNTIF(L75:L96,AI10)","v":2},{"$f":"AJ10/(AL4-AJ9)","v":0.1111111111111111},{"$f":"IF(AK10=0,0,(AK10*((LOG(AK10))/LOG(2))))","v":-0.3522138890491458},null,{"$f":"N10","v":122},{"$f":"COUNTIF(L97:L119,AN10)","v":2},{"$f":"AO10/(AQ4-AO9)","v":0.10526315789473684},{"$f":"IF(AP10=0,0,(AP10*((LOG(AP10))/LOG(2))))","v":-0.34188710667827216},null,{"$f":"N10","v":122},{"$f":"COUNTIF(L120:L141,AS10)","v":1},{"$f":"AT10/(AV4-AT9)","v":0.05},{"$f":"IF(AU10=0,0,(AU10*((LOG(AU10))/LOG(2))))","v":-0.21609640474436814}]
[11,832,21,841,22,847,null,null,null,null,0,122,null,211,{"$f":"COUNTIF($L$7:$L$500,N11)","v":23},{"$f":"O11/$Q$4","v":0.17037037037037037},{"$f":"IF(P11=0,0,(P11*((LOG(P11))/LOG(2))))","v":-0.43499876846561347},null,null,{"$f":"N11","v":211},{"$f":"COUNTIF(L7:L29,T11)","v":1},{"$f":"U11/(W4-U9)","v":6.6666666666666666E-2},{"$f":"IF(V11=0,0,(V11*((LOG(V11))/LOG(2))))","v":-0.26045937304056793},null,{"$f":"N11","v":211},{"$f":"COUNTIF(L30:L51,Y11)","v":3},{"$f":"Z11/(AB4-Z9)","v":0.21428571428571427},{"$f":"IF(AA11=0,0,(AA11*((LOG(AA11))/LOG(2))))","v":-0.47622694742923877},null,{"$f":"N11","v":211},{"$f":"COUNTIF(L52:L74,AD11)","v":2},{"$f":"AE11/(AG4-AE9)","v":0.14285714285714285},{"$f":"IF(AF11=0,0,(AF11*((LOG(AF11))/LOG(2))))","v":-0.40105070315108626},null,{"$f":"N11","v":211},{"$f":"COUNTIF(L75:L96,AI11)","v":5},{"$f":"AJ11/(AL4-AJ9)","v":0.27777777777777779},{"$f":"IF(AK11=0,0,(AK11*((LOG(AK11))/LOG(2))))","v":-0.51333247404304172},null,{"$f":"N11","v":211},{"$f":"COUNTIF(L97:L119,AN11)","v":6},{"$f":"AO11/(AQ4-AO9)","v":0.31578947368421051},{"$f":"IF(AP11=0,0,(AP11*((LOG(AP11))/LOG(2))))","v":-0.52514684612287243},null,{"$f":"N11","v":211},{"$f":"COUNTIF(L120:L141,AS11)","v":6},{"$f":"AT11/(AV4-AT9)","v":0.3},{"$f":"IF(AU11=0,0,(AU11*((LOG(AU11))/LOG(2))))","v":-0.52108967824986185}]
[11,949,21,956,11,966,null,null,null,null,0,121,null,212,{"$f":"COUNTIF($L$7:$L$500,N12)","v":10},{"$f":"O12/$Q$4","v":7.407407407407407E-2},{"$f":"IF(P12=0,0,(P12*((LOG(P12))/LOG(2))))","v":-0.27813981497507173},null,null,{"$f":"N12","v":212},{"$f":"COUNTIF(L7:L29,T12)","v":1},{"$f":"U12/(W4-U9)","v":6.6666666666666666E-2},{"$f":"IF(V12=0,0,(V12*((LOG(V12))/LOG(2))))","v":-0.26045937304056793},null,{"$f":"N12","v":212},{"$f":"COUNTIF(L30:L51,Y12)","v":2},{"$f":"Z12/(AB4-Z9)","v":0.14285714285714285},{"$f":"IF(AA12=0,0,(AA12*((LOG(AA12))/LOG(2))))","v":-0.40105070315108626},null,{"$f":"N12","v":212},{"$f":"COUNTIF(L52:L74,AD12)","v":1},{"$f":"AE12/(AG4-AE9)","v":7.1428571428571425E-2},{"$f":"IF(AF12=0,0,(AF12*((LOG(AF12))/LOG(2))))","v":-0.27195392300411453},null,{"$f":"N12","v":212},{"$f":"COUNTIF(L75:L96,AI12)","v":0},{"$f":"AJ12/(AL4-AJ9)","v":0},{"$f":"IF(AK12=0,0,(AK12*((LOG(AK12))/LOG(2))))","v":0},null,{"$f":"N12","v":212},{"$f":"COUNTIF(L97:L119,AN12)","v":2},{"$f":"AO12/(AQ4-AO9)","v":0.10526315789473684},{"$f":"IF(AP12=0,0,(AP12*((LOG(AP12))/LOG(2))))","v":-0.34188710667827216},null,{"$f":"N12","v":212},{"$f":"COUNTIF(L120:L141,AS12)","v":4},{"$f":"AT12/(AV4-AT9)","v":0.2},{"$f":"IF(AU12=0,0,(AU12*((LOG(AU12))/LOG(2))))","v":-0.46438561897747244}]
[11,1156,12,1162,24,1173,null,null,null,null,0,112,null,221,{"$f":"COUNTIF($L$7:$L$500,N13)","v":5},{"$f":"O13/$Q$4","v":3.7037037037037035E-2},{"$f":"IF(P13=0,0,(P13*((LOG(P13))/LOG(2))))","v":-0.1761069445245729},null,null,{"$f":"N13","v":221},{"$f":"COUNTIF(L7:L29,T13)","v":0},{"$f":"U13/(W4-U9)","v":0},{"$f":"IF(V13=0,0,(V13*((LOG(V13))/LOG(2))))","v":0},null,{"$f":"N13","v":221},{"$f":"COUNTIF(L30:L51,Y13)","v":0},{"$f":"Z13/(AB4-Z9)","v":0},{"$f":"IF(AA13=0,0,(AA13*((LOG(AA13))/LOG(2))))","v":0},null,{"$f":"N13","v":221},{"$f":"COUNTIF(L52:L74,AD13)","v":0},{"$f":"AE13/(AG4-AE9)","v":0},{"$f":"IF(AF13=0,0,(AF13*((LOG(AF13))/LOG(2))))","v":0},null,{"$f":"N13","v":221},{"$f":"COUNTIF(L75:L96,AI13)","v":0},{"$f":"AJ13/(AL4-AJ9)","v":0},{"$f":"IF(AK13=0,0,(AK13*((LOG(AK13))/LOG(2))))","v":0},null,{"$f":"N13","v":221},{"$f":"COUNTIF(L97:L119,AN13)","v":1},{"$f":"AO13/(AQ4-AO9)","v":5.2631578947368418E-2},{"$f":"IF(AP13=0,0,(AP13*((LOG(AP13))/LOG(2))))","v":-0.22357513228650452},null,{"$f":"N13","v":221},{"$f":"COUNTIF(L120:L141,AS13)","v":4},{"$f":"AT13/(AV4-AT9)","v":0.2},{"$f":"IF(AU13=0,0,(AU13*((LOG(AU13))/LOG(2))))","v":-0.46438561897747244}]
[22,1268,14,1280,24,1289,null,null,null,null,0,212,null,222,{"$f":"COUNTIF($L$7:$L$500,N14)","v":7},{"$f":"O14/$Q$4","v":5.185185185185185E-2},{"$f":"IF(P14=0,0,(P14*((LOG(P14))/LOG(2))))","v":-0.2213794424070562},null,null,{"$f":"N14","v":222},{"$f":"COUNTIF(L7:L29,T14)","v":1},{"$f":"U14/(W4-U9)","v":6.6666666666666666E-2},{"$f":"IF(V14=0,0,(V14*((LOG(V14))/LOG(2))))","v":-0.26045937304056793},null,{"$f":"N14","v":222},{"$f":"COUNTIF(L30:L51,Y14)","v":2},{"$f":"Z14/(AB4-Z9)","v":0.14285714285714285},{"$f":"IF(AA14=0,0,(AA14*((LOG(AA14))/LOG(2))))","v":-0.40105070315108626},null,{"$f":"N14","v":222},{"$f":"COUNTIF(L52:L74,AD14)","v":0},{"$f":"AE14/(AG4-AE9)","v":0},{"$f":"IF(AF14=0,0,(AF14*((LOG(AF14))/LOG(2))))","v":0},null,{"$f":"N14","v":222},{"$f":"COUNTIF(L75:L96,AI14)","v":1},{"$f":"AJ14/(AL4-AJ9)","v":5.5555555555555552E-2},{"$f":"IF(AK14=0,0,(AK14*((LOG(AK14))/LOG(2))))","v":-0.23166250008012845},null,{"$f":"N14","v":222},{"$f":"COUNTIF(L97:L119,AN14)","v":1},{"$f":"AO14/(AQ4-AO9)","v":5.2631578947368418E-2},{"$f":"IF(AP14=0,0,(AP14*((LOG(AP14))/LOG(2))))","v":-0.22357513228650452},null,{"$f":"N14","v":222},{"$f":"COUNTIF(L120:L141,AS14)","v":2},{"$f":"AT14/(AV4-AT9)","v":0.1},{"$f":"IF(AU14=0,0,(AU14*((LOG(AU14))/LOG(2))))","v":-0.33219280948873625}]
[11,1388,21,1394,11,1408,null,null,null,null,0,121,null,null,null,{"$f":"SUM(P7:P14)","v":1},{"$f":"-SUM(Q7:Q14)","v":2.7228394028068577},null,null,null,null,{"$f":"SUM(V7:V14)","v":1},{"$f":"-SUM(W7:W14)","v":2.2825887305018329},null,null,null,{"$f":"SUM(AA7:AA14)","v":1},{"$f":"-SUM(AB7:AB14)","v":2.4677201004744993},null,null,null,{"$f":"SUM(AF7:AF14)","v":1},{"$f":"-SUM(AG7:AG14)","v":1.9211854965885544},null,null,null,{"$f":"SUM(AK7:AK14)","v":1},{"$f":"-SUM(AL7:AL14)","v":2.0579243108310061},null,null,null,{"$f":"SUM(AP7:AP14)","v":1},{"$f":"-SUM(AQ7:AQ14)","v":2.4047933024618033},null,null,null,{"$f":"SUM(AU7:AU14)","v":0.99999999999999989},{"$f":"-SUM(AV7:AV14)","v":2.5464393446710152}]
[11,1607,12,1616,13,1623,null,null,null,null,0,111,null,null,null,"U=",{"$f":"Q15/(LOG(Q4)/LOG(2))","v":0.38475488946491199},null,null,null,null,"U1=",{"$f":"W15/(LOG(W4)/LOG(2))","v":0.50459986017113456},null,null,null,"U2=",{"$f":"AB15/(LOG(AB4)/LOG(2))","v":0.55337099242898125},null,null,null,"U3=",{"$f":"AG15/(LOG(AG4)/LOG(2))","v":0.42470635204102875},null,null,null,"U4=",{"$f":"AL15/(LOG(AL4)/LOG(2))","v":0.46147681741106322},null,null,null,"U5=",{"$f":"AQ15/(LOG(AQ4)/LOG(2))","v":0.53161498080993552},null,null,null,"U6=",{"$f":"AV15/(LOG(AV4)/LOG(2))","v":0.57102329678712516}]
[11,1721,21,1729,11,1738,null,null,null,null,0,121]
[11,1934,21,1943,22,1948,null,null,null,null,0,122]
[11,2048,12,2070,13,2094,null,null,null,null,0,111,null,"Total Target Seq"]
[22,2204,14,2215,13,2224,null,null,null,null,0,211,null,{"$f":"COUNTIF(L7:L141,G3)","v":35},null,23,22,23,22,23,22]
[11,2324,12,2345,13,2354,null,null,null,null,0,111,null,null,null,"% of reinforcement given in 6 equal intervals based on number of trials "]
[11,2454,21,2463,11,2478,null,null,null,null,0,121,null,null,null,"%_1","%_2","%_3","%_4","%_5","%_6"]
[22,2675,23,2680,24,2687,null,null,null,null,0,222,null,null,"target sequence",{"$f":"$G$3","v":121},{"$f":"$G$3","v":121},{"$f":"$G$3","v":121},{"$f":"$G$3","v":121},{"$f":"$G$3","v":121},{"$f":"$G$3","v":121}]
[11,2792,21,2801,22,2806,null,null,null,null,0,122,null,null,"total reinforcement",{"$f":"U9","v":8},{"$f":"Z9","v":8},{"$f":"AE9","v":9},{"$f":"AJ9","v":4},{"$f":"AO9","v":4},{"$f":"AT9","v":2}]
[11,2903,21,2911,11,2919,null,null,null,null,0,121,null,null,"% target"]
[11,3085,12,3094,24,3107,null,null,null,null,0,112,null,null,"CCRF"]
[11,3210,12,3228,13,3232,null,null,null,null,0,111,null,null,"% CCRf"]
[11,3330,12,3337,24,3346,null,null,null,null,0,112,null,null,"average response rate",{"$f":"F29/P20","v":150.7391304347826},{"$f":"(F51-F29)/Q20","v":158.81818181818181},{"$f":"(F74-F51)/R20","v":151.78260869565219},{"$f":"(F96-F74)/S20","v":144.90909090909091},{"$f":"(F119-F96)/T20","v":145.78260869565219},{"$f":"(F141-F119)/U20","v":157.86363636363637}]
[11,3450,21,3459,11,3467,null,null,null,null,0,121]
[11,3624,12,3631,13,3637,null,null,null,null,0,111]
[11,3736,21,3744,11,3754,null,null,null,null,0,121]
[11,3950,12,3958,24,3975,null,null,null,null,0,112]
[11,4076,21,4083,11,4108,null,null,null,null,0,121]
[11,4327,21,4337,22,4345,null,null,null,null,0,122]
[11,4447,21,4454,11,4468,null,null,null,null,0,121]
[22,4595,23,4600,24,4607,null,null,null,null,0,222]
[11,4706,12,4715,13,4744,null,null,null,null,0,111]
[11,4846,21,4857,11,4871,null,null,null,null,0,121]
[22,5049,14,5059,24,5070,null,null,null,null,0,212]
[11,5169,21,5178,11,5194,null,null,null,null,0,121]
[11,5418,21,5427,11,5438,null,null,null,null,0,121]
[11,5690,12,5705,13,5713,null,null,null,null,0,111]
[22,5821,14,5830,13,5843,null,null,null,null,0,211]
[22,5948,14,5958,24,5968,null,null,null,null,0,212]
[22,6078,14,6088,13,6097,null,null,null,null,0,211]
[22,6189,23,6199,24,6206,null,null,null,null,0,222]
[11,6308,21,6314,11,6326,null,null,null,null,0,121]
[11,6444,12,6451,24,6460,null,null,null,null,0,112]
[22,6570,14,6584,13,6591,null,null,null,null,0,211]
[11,6697,21,6704,11,6714,null,null,null,null,0,121]
[11,6947,12,6955,13,6961,null,null,null,null,0,111]
[11,7060,12,7100,13,7110,null,null,null,null,0,111]
[11,7211,21,7226,11,7237,null,null,null,null,0,121]
[11,7404,12,7420,13,7430,null,null,null,null,0,111]
[22,7532,14,7547,13,7555,null,null,null,null,0,211]
[22,7649,14,7671,24,7680,null,null,null,null,0,212]
[11,7785,21,7793,11,7805,null,null,null,null,0,121]
[11,7975,21,7983,22,7993,null,null,null,null,0,122]
[11,8091,21,8098,11,8114,null,null,null,null,0,121]
[11,8301,12,8317,13,8330,null,null,null,null,0,111]
[11,8427,21,8440,11,8456,null,null,null,null,0,121]
[11,8699,21,8709,22,8717,null,null,null,null,0,122]
[11,8814,12,8835,13,8847,null,null,null,null,0,111]
[11,8947,21,8956,11,8970,null,null,null,null,0,121]
[11,9164,12,9171,13,9177,null,null,null,null,0,111]
[11,9273,12,9295,13,9309,null,null,null,null,0,111]
[11,9410,21,9418,11,9427,null,null,null,null,0,121]
[22,9593,14,9604,13,9610,null,null,null,null,0,211]
[11,9706,21,9715,11,9727,null,null,null,null,0,121]
[11,9878,21,9886,11,9898,null,null,null,null,0,121]
[11,10057,21,10070,22,10076,null,null,null,null,0,122]
[11,10173,12,10198,13,10207,null,null,null,null,0,111]
[11,10308,12,10316,24,10326,null,null,null,null,0,112]
[11,10430,21,10437,11,10452,null,null,null,null,0,121]
[11,10601,12,10616,13,10628,null,null,null,null,0,111]
[11,10726,21,10733,11,10749,null,null,null,null,0,121]
[11,10929,12,10935,24,10947,null,null,null,null,0,112]
[22,11061,14,11077,13,11093,null,null,null,null,0,211]
[11,11193,12,11211,13,11233,null,null,null,null,0,111]
[11,11330,12,11337,13,11346,null,null,null,null,0,111]
[11,11446,12,11451,13,11458,null,null,null,null,0,111]
[11,11551,12,11556,24,11563,null,null,null,null,0,112]
[11,11659,21,11667,22,11671,null,null,null,null,0,122]
[11,11770,12,11788,13,11797,null,null,null,null,0,111]
[11,11893,12,11899,13,11905,null,null,null,null,0,111]
[11,12007,21,12014,11,12025,null,null,null,null,0,121]
[22,12293,14,12307,13,12324,null,null,null,null,0,211]
[11,12425,12,12443,13,12458,null,null,null,null,0,111]
[22,12568,14,12583,13,12601,null,null,null,null,0,211]
[11,12704,21,12712,22,12716,null,null,null,null,0,122]
[22,12815,14,12826,13,12834,null,null,null,null,0,211]
[22,12937,14,12948,13,12952,null,null,null,null,0,211]
[22,13057,23,13065,24,13071,null,null,null,null,0,222]
[11,13172,21,13181,11,13201,null,null,null,null,0,121]
[11,13401,21,13410,11,13424,null,null,null,null,0,121]
[11,13621,12,13627,24,13640,null,null,null,null,0,112]
[11,13769,12,13786,13,13794,null,null,null,null,0,111]
[22,13900,14,13909,13,13914,null,null,null,null,0,211]
[11,14024,21,14031,11,14046,null,null,null,null,0,121]
[11,14187,12,14193,24,14203,null,null,null,null,0,112]
[22,14311,14,14321,13,14326,null,null,null,null,0,211]
[22,14425,23,14430,24,14435,null,null,null,null,0,222]
[11,14534,21,14542,11,14552,null,null,null,null,0,121]
[22,14707,23,14713,13,14724,null,null,null,null,0,221]
[22,14836,14,14847,13,14861,null,null,null,null,0,211]
[22,14969,14,14989,13,15004,null,null,null,null,0,211]
[11,15108,12,15136,13,15154,null,null,null,null,0,111]
[11,15260,21,15270,11,15289,null,null,null,null,0,121]
[11,15452,21,15462,22,15469,null,null,null,null,0,122]
[22,15567,14,15588,24,15598,null,null,null,null,0,212]
[11,15700,12,15718,13,15730,null,null,null,null,0,111]
[22,15839,14,15855,13,15864,null,null,null,null,0,211]
[22,15979,14,15997,13,16005,null,null,null,null,0,211]
[11,16106,12,16129,13,16144,null,null,null,null,0,111]
[11,16250,12,16268,13,16282,null,null,null,null,0,111]
[22,16390,14,16402,24,16412,null,null,null,null,0,212]
[11,16521,12,16546,13,16562,null,null,null,null,0,111]
[11,16680,21,16688,11,16703,null,null,null,null,0,121]
[11,16975,21,16985,22,16993,null,null,null,null,0,122]
[22,17119,14,17137,13,17147,null,null,null,null,0,211]
[22,17256,14,17274,24,17284,null,null,null,null,0,212]
[22,17393,23,17401,13,17418,null,null,null,null,0,221]
[22,17609,23,17612,13,17650,null,null,null,null,0,221]
[22,17761,14,17774,13,17789,null,null,null,null,0,211]
[11,17891,21,17899,11,17915,null,null,null,null,0,121]
[11,18086,12,18109,13,18119,null,null,null,null,0,111]
[22,18229,14,18240,13,18250,null,null,null,null,0,211]
[22,18363,14,18381,24,18391,null,null,null,null,0,212]
[22,18503,23,18507,13,18523,null,null,null,null,0,221]
[22,18636,14,18652,13,18666,null,null,null,null,0,211]
[22,18778,14,18790,13,18812,null,null,null,null,0,211]
[11,18908,12,18927,13,18940,null,null,null,null,0,111]
[22,19039,23,19047,24,19064,null,null,null,null,0,222]
[11,19229,12,19239,24,19256,null,null,null,null,0,112]
[11,19456,21,19466,22,19478,null,null,null,null,0,122]
[22,19591,23,19598,13,19612,null,null,null,null,0,221]
[22,19842,14,19852,24,19871,null,null,null,null,0,212]
[22,19996,23,20000,24,20005,null,null,null,null,0,222]
[22,20129,14,20145,13,20167,null,null,null,null,0,211]
[22,20279,14,20298,24,20332,null,null,null,null,0,212]
[11,20440,21,20449,11,20466,null,null,null,null,1,121]

{"sheet":"!M304B0D.UST","index":17,"n_rows":105,"n_cols":48,"rows_kept":105,"cut":false,"hidden":false,"merged":[[4,39,4,42],[5,39,5,40],[4,44,4,47],[5,44,5,45],[4,24,4,27],[5,24,5,25],[4,29,4,32],[5,29,5,30],[4,34,4,37],[5,34,5,35],[1,1,1,2],[5,13,5,14],[18,13,18,14],[19,13,19,14],[4,19,4,22],[5,19,5,20]]}
["Report for:!M304B0D.UST"]
["Date:","<date>"]
["Hen:","<hen>",null,null,null,"Correct Sequence",{"$f":"Start!J2","v":121},null,null,null,null,null,null,null,null,"Total Sequences in Data",{"$f":"4994-COUNTBLANK(L7:L5000)","v":99},null,null,null,null,"Total Sequences in Block Data",{"$f":"COUNTA(L7:L23)","v":17},null,null,null,"Total Sequences in Block Data",{"$f":"COUNTA(L24:L39)","v":16},null,null,null,"Total Sequences in Block Data",{"$f":"COUNTA(L40:L56)","v":17},null,null,null,"Total Sequences in Block Data",{"$f":"COUNTA(L57:L72)","v":16},null,null,null,"Total Sequences in Block Data",{"$f":"COUNTA(L73:L89)","v":17},null,null,null,"Total Sequences in Block Data",{"$f":"COUNTA(L90:L105)","v":16}]
[null,null,null,null,null,null,null,null,null,null,null,null,null,null,null,"Total Sequences in Summary",{"$f":"SUM(O7:O14)","v":99},null,null,null,null,"Total Sequences in Block Summary",{"$f":"SUM(U7:U14)","v":17},null,null,null,"Total Sequences in Block Summary",{"$f":"SUM(Z7:Z14)","v":16},null,null,null,"Total Sequences in Block Summary",{"$f":"SUM(AE7:AE14)","v":17},null,null,null,"Total Sequences in Block Summary",{"$f":"SUM(AJ7:AJ14)","v":16},null,null,null,"Total Sequences in Block Summary",{"$f":"SUM(AO7:AO14)","v":17},null,null,null,"Total Sequences in Block Summary",{"$f":"SUM(AT7:AT14)","v":16}]
[null,null,null,null,null,null,null,null,null,null,null,null,null,null,null,null,null,null,null,"Block 1",null,null,null,null,"Block 2",null,null,null,null,"Block 3",null,null,null,null,"Block 4",null,null,null,null,"Block 5",null,null,null,null,"Block 6"]
["Sequence\nComponent\n1","Time\n1","Sequence\nComponent\n2","Time\n2","Sequence\nComponent\n3","Time\n3","Sequence\nComponent\n4","Time\n4","Sequence\nComponent\n5","Time\n5","Correct?\n0=No 1=Yes","Sequence",null,"Frequency",null,"Relative Frequency","Variability",null,null,"Frequency",null,"Relative Frequency","Variability",null,"Frequency",null,"Relative Frequency","Variability",null,"Frequency",null,"Relative Frequency","Variability",null,"Frequency",null,"Relative Frequency","Variability",null,"Frequency",null,"Relative Frequency","Variability",null,"Frequency",null,"Relative Frequency","Variability"]
[11,15,21,21,11,33,null,null,null,null,0,121,null,111,{"$f":"COUNTIF($L$7:$L$500,N7)","v":19},{"$f":"O7/$Q$4","v":0.19191919191919191},{"$f":"IF(P7=0,0,(P7*((LOG(P7))/LOG(2))))","v":-0.45704194975842888},null,null,{"$f":"N7","v":111},{"$f":"COUNTIF(L7:L23,T7)","v":6},{"$f":"U7/(W4-U9)","v":0.6},{"$f":"IF(V7=0,0,(V7*((LOG(V7))/LOG(2))))","v":-0.44217935649972373},null,{"$f":"N7","v":111},{"$f":"COUNTIF(L24:L39,Y7)","v":2},{"$f":"Z7/(AB4-Z9)","v":0.18181818181818182},{"$f":"IF(AA7=0,0,(AA7*((LOG(AA7))/LOG(2))))","v":-0.44716938520678134},null,{"$f":"N7","v":111},{"$f":"COUNTIF(L40:L56,AD7)","v":2},{"$f":"AE7/(AG4-AE9)","v":0.16666666666666666},{"$f":"IF(AF7=0,0,(AF7*((LOG(AF7))/LOG(2))))","v":-0.43082708345352599},null,{"$f":"N7","v":111},{"$f":"COUNTIF(L57:L72,AI7)","v":3},{"$f":"AJ7/(AL4-AJ9)","v":0.375},{"$f":"IF(AK7=0,0,(AK7*((LOG(AK7))/LOG(2))))","v":-0.53063906222956647},null,{"$f":"N7","v":111},{"$f":"COUNTIF(L73:L89,AN7)","v":3},{"$f":"AO7/(AQ4-AO9)","v":0.3},{"$f":"IF(AP7=0,0,(AP7*((LOG(AP7))/LOG(2))))","v":-0.52108967824986185},null,{"$f":"N7","v":111},{"$f":"COUNTIF(L90:L105,AS7)","v":3},{"$f":"AT7/(AV4-AT9)","v":0.3},{"$f":"IF(AU7=0,0,(AU7*((LOG(AU7))/LOG(2))))","v":-0.52108967824986185}]
[22,249,14,265,24,275,null,null,null,null,0,212,null,112,{"$f":"COUNTIF($L$7:$L$500,N8)","v":15},{"$f":"O8/$Q$4","v":0.15151515151515152},{"$f":"IF(P8=0,0,(P8*((LOG(P8))/LOG(2))))","v":-0.41249485219258958},null,null,{"$f":"N8","v":112},{"$f":"COUNTIF(L7:L23,T8)","v":2},{"$f":"U8/(W4-U9)","v":0.2},{"$f":"IF(V8=0,0,(V8*((LOG(V8))/LOG(2))))","v":-0.46438561897747244},null,{"$f":"N8","v":112},{"$f":"COUNTIF(L24:L39,Y8)","v":5},{"$f":"Z8/(AB4-Z9)","v":0.45454545454545453},{"$f":"IF(AA8=0,0,(AA8*((LOG(AA8))/LOG(2))))","v":-0.51704705624997038},null,{"$f":"N8","v":112},{"$f":"COUNTIF(L40:L56,AD8)","v":2},{"$f":"AE8/(AG4-AE9)","v":0.16666666666666666},{"$f":"IF(AF8=0,0,(AF8*((LOG(AF8))/LOG(2))))","v":-0.43082708345352599},null,{"$f":"N8","v":112},{"$f":"COUNTIF(L57:L72,AI8)","v":2},{"$f":"AJ8/(AL4-AJ9)","v":0.25},{"$f":"IF(AK8=0,0,(AK8*((LOG(AK8))/LOG(2))))","v":-0.5},null,{"$f":"N8","v":112},{"$f":"COUNTIF(L73:L89,AN8)","v":1},{"$f":"AO8/(AQ4-AO9)","v":0.1},{"$f":"IF(AP8=0,0,(AP8*((LOG(AP8))/LOG(2))))","v":-0.33219280948873625},null,{"$f":"N8","v":112},{"$f":"COUNTIF(L90:L105,AS8)","v":3},{"$f":"AT8/(AV4-AT9)","v":0.3},{"$f":"IF(AU8=0,0,(AU8*((LOG(AU8))/LOG(2))))","v":-0.52108967824986185}]
[11,375,12,384,13,391,null,null,null,null,0,111,null,121,{"$f":"COUNTIF($L$7:$L$500,N9)","v":38},{"$f":"O9/$Q$4","v":0.38383838383838381},{"$f":"IF(P9=0,0,(P9*((LOG(P9))/LOG(2))))","v":-0.53024551567847389},null,null,{"$f":"N9","v":121},{"$f":"COUNTIF(L7:L23,T9)","v":7},null,null,null,{"$f":"N9","v":121},{"$f":"COUNTIF(L24:L39,Y9)","v":5},null,null,null,{"$f":"N9","v":121},{"$f":"COUNTIF(L40:L56,AD9)","v":5},null,null,null,{"$f":"N9","v":121},{"$f":"COUNTIF(L57:L72,AI9)","v":8},null,null,null,{"$f":"N9","v":121},{"$f":"COUNTIF(L73:L89,AN9)","v":7},null,null,null,{"$f":"N9","v":121},{"$f":"COUNTIF(L90:L105,AS9)","v":6}]
[11,491,12,499,13,506,null,null,null,null,0,111,null,122,{"$f":"COUNTIF($L$7:$L$500,N10)","v":6},{"$f":"O10/$Q$4","v":6.0606060606060608E-2},{"$f":"IF(P10=0,0,(P10*((LOG(P10))/LOG(2))))","v":-0.24511479511263354},null,null,{"$f":"N10","v":122},{"$f":"COUNTIF(L7:L23,T10)","v":0},{"$f":"U10/(W4-U9)","v":0},{"$f":"IF(V10=0,0,(V10*((LOG(V10))/LOG(2))))","v":0},null,{"$f":"N10","v":122},{"$f":"COUNTIF(L24:L39,Y10)","v":1},{"$f":"Z10/(AB4-Z9)","v":9.0909090909090912E-2},{"$f":"IF(AA10=0,0,(AA10*((LOG(AA10))/LOG(2))))","v":-0.31449378351248153},null,{"$f":"N10","v":122},{"$f":"COUNTIF(L40:L56,AD10)","v":3},{"$f":"AE10/(AG4-AE9)","v":0.25},{"$f":"IF(AF10=0,0,(AF10*((LOG(AF10))/LOG(2))))","v":-0.5},null,{"$f":"N10","v":122},{"$f":"COUNTIF(L57:L72,AI10)","v":1},{"$f":"AJ10/(AL4-AJ9)","v":0.125},{"$f":"IF(AK10=0,0,(AK10*((LOG(AK10))/LOG(2))))","v":-0.375},null,{"$f":"N10","v":122},{"$f":"COUNTIF(L73:L89,AN10)","v":1},{"$f":"AO10/(AQ4-AO9)","v":0.1},{"$f":"IF(AP10=0,0,(AP10*((LOG(AP10))/LOG(2))))","v":-0.33219280948873625},null,{"$f":"N10","v":122},{"$f":"COUNTIF(L90:L105,AS10)","v":0},{"$f":"AT10/(AV4-AT9)","v":0},{"$f":"IF(AU10=0,0,(AU10*((LOG(AU10))/LOG(2))))","v":0}]
[11,605,12,610,24,622,null,null,null,null,0,112,null,211,{"$f":"COUNTIF($L$7:$L$500,N11)","v":12},{"$f":"O11/$Q$4","v":0.12121212121212122},{"$f":"IF(P11=0,0,(P11*((LOG(P11))/LOG(2))))","v":-0.36901746901314586},null,null,{"$f":"N11","v":211},{"$f":"COUNTIF(L7:L23,T11)","v":1},{"$f":"U11/(W4-U9)","v":0.1},{"$f":"IF(V11=0,0,(V11*((LOG(V11))/LOG(2))))","v":-0.33219280948873625},null,{"$f":"N11","v":211},{"$f":"COUNTIF(L24:L39,Y11)","v":3},{"$f":"Z11/(AB4-Z9)","v":0.27272727272727271},{"$f":"IF(AA11=0,0,(AA11*((LOG(AA11))/LOG(2))))","v":-0.51121885034076575},null,{"$f":"N11","v":211},{"$f":"COUNTIF(L40:L56,AD11)","v":3},{"$f":"AE11/(AG4-AE9)","v":0.25},{"$f":"IF(AF11=0,0,(AF11*((LOG(AF11))/LOG(2))))","v":-0.5},null,{"$f":"N11","v":211},{"$f":"COUNTIF(L57:L72,AI11)","v":2},{"$f":"AJ11/(AL4-AJ9)","v":0.25},{"$f":"IF(AK11=0,0,(AK11*((LOG(AK11))/LOG(2))))","v":-0.5},null,{"$f":"N11","v":211},{"$f":"COUNTIF(L73:L89,AN11)","v":2},{"$f":"AO11/(AQ4-AO9)","v":0.2},{"$f":"IF(AP11=0,0,(AP11*((LOG(AP11))/LOG(2))))","v":-0.46438561897747244},null,{"$f":"N11","v":211},{"$f":"COUNTIF(L90:L105,AS11)","v":1},{"$f":"AT11/(AV4-AT9)","v":0.1},{"$f":"IF(AU11=0,0,(AU11*((LOG(AU11))/LOG(2))))","v":-0.33219280948873625}]
[11,727,12,733,13,744,null,null,null,null,0,111,null,212,{"$f":"COUNTIF($L$7:$L$500,N12)","v":6},{"$f":"O12/$Q$4","v":6.0606060606060608E-2},{"$f":"IF(P12=0,0,(P12*((LOG(P12))/LOG(2))))","v":-0.24511479511263354},null,null,{"$f":"N12","v":212},{"$f":"COUNTIF(L7:L23,T12)","v":1},{"$f":"U12/(W4-U9)","v":0.1},{"$f":"IF(V12=0,0,(V12*((LOG(V12))/LOG(2))))","v":-0.33219280948873625},null,{"$f":"N12","v":212},{"$f":"COUNTIF(L24:L39,Y12)","v":0},{"$f":"Z12/(AB4-Z9)","v":0},{"$f":"IF(AA12=0,0,(AA12*((LOG(AA12))/LOG(2))))","v":0},null,{"$f":"N12","v":212},{"$f":"COUNTIF(L40:L56,AD12)","v":1},{"$f":"AE12/(AG4-AE9)","v":8.3333333333333329E-2},{"$f":"IF(AF12=0,0,(AF12*((LOG(AF12))/LOG(2))))","v":-0.29874687506009634},null,{"$f":"N12","v":212},{"$f":"COUNTIF(L57:L72,AI12)","v":0},{"$f":"AJ12/(AL4-AJ9)","v":0},{"$f":"IF(AK12=0,0,(AK12*((LOG(AK12))/LOG(2))))","v":0},null,{"$f":"N12","v":212},{"$f":"COUNTIF(L73:L89,AN12)","v":2},{"$f":"AO12/(AQ4-AO9)","v":0.2},{"$f":"IF(AP12=0,0,(AP12*((LOG(AP12))/LOG(2))))","v":-0.46438561897747244},null,{"$f":"N12","v":212},{"$f":"COUNTIF(L90:L105,AS12)","v":2},{"$f":"AT12/(AV4-AT9)","v":0.2},{"$f":"IF(AU12=0,0,(AU12*((LOG(AU12))/LOG(2))))","v":-0.46438561897747244}]
[11,844,21,851,11,862,null,null,null,null,0,121,null,221,{"$f":"COUNTIF($L$7:$L$500,N13)","v":2},{"$f":"O13/$Q$4","v":2.0202020202020204E-2},{"$f":"IF(P13=0,0,(P13*((LOG(P13))/LOG(2))))","v":-0.11372437616322445},null,null,{"$f":"N13","v":221},{"$f":"COUNTIF(L7:L23,T13)","v":0},{"$f":"U13/(W4-U9)","v":0},{"$f":"IF(V13=0,0,(V13*((LOG(V13))/LOG(2))))","v":0},null,{"$f":"N13","v":221},{"$f":"COUNTIF(L24:L39,Y13)","v":0},{"$f":"Z13/(AB4-Z9)","v":0},{"$f":"IF(AA13=0,0,(AA13*((LOG(AA13))/LOG(2))))","v":0},null,{"$f":"N13","v":221},{"$f":"COUNTIF(L40:L56,AD13)","v":1},{"$f":"AE13/(AG4-AE9)","v":8.3333333333333329E-2},{"$f":"IF(AF13=0,0,(AF13*((LOG(AF13))/LOG(2))))","v":-0.29874687506009634},null,{"$f":"N13","v":221},{"$f":"COUNTIF(L57:L72,AI13)","v":0},{"$f":"AJ13/(AL4-AJ9)","v":0},{"$f":"IF(AK13=0,0,(AK13*((LOG(AK13))/LOG(2))))","v":0},null,{"$f":"N13","v":221},{"$f":"COUNTIF(L73:L89,AN13)","v":1},{"$f":"AO13/(AQ4-AO9)","v":0.1},{"$f":"IF(AP13=0,0,(AP13*((LOG(AP13))/LOG(2))))","v":-0.33219280948873625},null,{"$f":"N13","v":221},{"$f":"COUNTIF(L90:L105,AS13)","v":0},{"$f":"AT13/(AV4-AT9)","v":0},{"$f":"IF(AU13=0,0,(AU13*((LOG(AU13))/LOG(2))))","v":0}]
[11,1067,12,1075,13,1083,null,null,null,null,0,111,null,222,{"$f":"COUNTIF($L$7:$L$500,N14)","v":1},{"$f":"O14/$Q$4","v":1.0101010101010102E-2},{"$f":"IF(P14=0,0,(P14*((LOG(P14))/LOG(2))))","v":-6.6963198182622322E-2},null,null,{"$f":"N14","v":222},{"$f":"COUNTIF(L7:L23,T14)","v":0},{"$f":"U14/(W4-U9)","v":0},{"$f":"IF(V14=0,0,(V14*((LOG(V14))/LOG(2))))","v":0},null,{"$f":"N14","v":222},{"$f":"COUNTIF(L24:L39,Y14)","v":0},{"$f":"Z14/(AB4-Z9)","v":0},{"$f":"IF(AA14=0,0,(AA14*((LOG(AA14))/LOG(2))))","v":0},null,{"$f":"N14","v":222},{"$f":"COUNTIF(L40:L56,AD14)","v":0},{"$f":"AE14/(AG4-AE9)","v":0},{"$f":"IF(AF14=0,0,(AF14*((LOG(AF14))/LOG(2))))","v":0},null,{"$f":"N14","v":222},{"$f":"COUNTIF(L57:L72,AI14)","v":0},{"$f":"AJ14/(AL4-AJ9)","v":0},{"$f":"IF(AK14=0,0,(AK14*((LOG(AK14))/LOG(2))))","v":0},null,{"$f":"N14","v":222},{"$f":"COUNTIF(L73:L89,AN14)","v":0},{"$f":"AO14/(AQ4-AO9)","v":0},{"$f":"IF(AP14=0,0,(AP14*((LOG(AP14))/LOG(2))))","v":0},null,{"$f":"N14","v":222},{"$f":"COUNTIF(L90:L105,AS14)","v":1},{"$f":"AT14/(AV4-AT9)","v":0.1},{"$f":"IF(AU14=0,0,(AU14*((LOG(AU14))/LOG(2))))","v":-0.33219280948873625}]
[11,1187,21,1196,11,1218,null,null,null,null,0,121,null,null,null,{"$f":"SUM(P7:P14)","v":1},{"$f":"-SUM(Q7:Q14)","v":2.439716951213752},null,null,null,null,{"$f":"SUM(V7:V14)","v":1},{"$f":"-SUM(W7:W14)","v":1.5709505944546687},null,null,null,{"$f":"SUM(AA7:AA14)","v":1},{"$f":"-SUM(AB7:AB14)","v":1.789929075309999},null,null,null,{"$f":"SUM(AF7:AF14)","v":1},{"$f":"-SUM(AG7:AG14)","v":2.4591479170272446},null,null,null,{"$f":"SUM(AK7:AK14)","v":1},{"$f":"-SUM(AL7:AL14)","v":1.9056390622295665},null,null,null,{"$f":"SUM(AP7:AP14)","v":0.99999999999999989},{"$f":"-SUM(AQ7:AQ14)","v":2.4464393446710155},null,null,null,{"$f":"SUM(AU7:AU14)","v":0.99999999999999989},{"$f":"-SUM(AV7:AV14)","v":2.1709505944546685}]
[11,1510,21,1523,11,1537,null,null,null,null,0,121,null,null,null,"U=",{"$f":"Q15/(LOG(Q4)/LOG(2))","v":0.36801715325196283},null,null,null,null,"U1=",{"$f":"W15/(LOG(W4)/LOG(2))","v":0.38433391457428417},null,null,null,"U2=",{"$f":"AB15/(LOG(AB4)/LOG(2))","v":0.44748226882749975},null,null,null,"U3=",{"$f":"AG15/(LOG(AG4)/LOG(2))","v":0.60163187104962179},null,null,null,"U4=",{"$f":"AL15/(LOG(AL4)/LOG(2))","v":0.47640976555739162},null,null,null,"U5=",{"$f":"AQ15/(LOG(AQ4)/LOG(2))","v":0.59852271193312168},null,null,null,"U6=",{"$f":"AV15/(LOG(AV4)/LOG(2))","v":0.54273764861366713}]
[11,1739,12,1748,13,1754,null,null,null,null,0,111]
[11,1853,21,1861,11,1870,null,null,null,null,0,121]
[11,2357,12,2365,13,2373,null,null,null,null,0,111,null,"Total Target Seq"]
[11,2472,21,2480,11,2494,null,null,null,null,0,121,null,{"$f":"COUNTIF(L7:L105,G3)","v":38},null,17,16,17,16,17,16]
[22,2762,14,2773,13,2798,null,null,null,null,0,211,null,null,null,"% of reinforcement given in 6 equal intervals based on number of trials "]
[11,2895,21,2903,11,2915,null,null,null,null,0,121,null,null,null,"%_1","%_2","%_3","%_4","%_5","%_6"]
[11,3172,12,3176,24,3186,null,null,null,null,0,112,null,null,"target sequence",{"$f":"$G$3","v":121},{"$f":"$G$3","v":121},{"$f":"$G$3","v":121},{"$f":"$G$3","v":121},{"$f":"$G$3","v":121},{"$f":"$G$3","v":121}]
[22,3292,14,3313,13,3324,null,null,null,null,0,211,null,null,"total reinforcement",{"$f":"U9","v":7},{"$f":"Z9","v":5},{"$f":"AE9","v":5},{"$f":"AJ9","v":8},{"$f":"AO9","v":7},{"$f":"AT9","v":6}]
[11,3424,21,3430,11,3440,null,null,null,null,0,121,null,null,"% target"]
[11,3587,21,3595,22,3602,null,null,null,null,0,122,null,null,"CCRF"]
[11,3869,12,3876,24,3887,null,null,null,null,0,112,null,null,"% CCRf"]
[11,3985,21,3993,11,4009,null,null,null,null,0,121,null,null,"average response rate",{"$f":"F23/P20","v":187.41176470588235},{"$f":"(F39-F23)/Q20","v":156.625},{"$f":"(F56-F39)/R20","v":172.52941176470588},{"$f":"(F72-F56)/S20","v":186.3125},{"$f":"(F89-F72)/T20","v":172.47058823529412},{"$f":"(F105-F89)/U20","v":185.125}]
[11,4238,12,4244,24,4270,null,null,null,null,0,112]
[11,4374,21,4380,11,4396,null,null,null,null,0,121]
[11,4531,12,4543,24,4558,null,null,null,null,0,112]
[11,4654,12,4680,13,4698,null,null,null,null,0,111]
[22,4810,14,4830,13,4838,null,null,null,null,0,211]
[11,4939,12,4946,24,4955,null,null,null,null,0,112]
[11,5058,12,5085,13,5100,null,null,null,null,0,111]
[22,5206,14,5224,13,5249,null,null,null,null,0,211]
[11,5351,12,5363,24,5370,null,null,null,null,0,112]
[11,5474,21,5481,11,5499,null,null,null,null,0,121]
[11,5668,21,5676,11,5692,null,null,null,null,0,121]
[11,5955,12,5962,24,5972,null,null,null,null,0,112]
[22,6081,14,6094,13,6113,null,null,null,null,0,211]
[22,6223,14,6234,13,6254,null,null,null,null,0,211]
[11,6364,21,6374,22,6379,null,null,null,null,0,122]
[11,6477,12,6482,24,6489,null,null,null,null,0,112]
[11,6591,21,6599,11,6612,null,null,null,null,0,121]
[11,6865,21,6873,11,6882,null,null,null,null,0,121]
[11,7087,12,7096,13,7102,null,null,null,null,0,111]
[11,7205,21,7214,11,7228,null,null,null,null,0,121]
[11,7482,21,7491,22,7497,null,null,null,null,0,122]
[11,7599,21,7608,11,7636,null,null,null,null,0,121]
[11,7819,21,7831,11,7840,null,null,null,null,0,121]
[22,8040,14,8076,24,8113,null,null,null,null,0,212]
[22,8225,14,8241,13,8258,null,null,null,null,0,211]
[22,8353,23,8361,13,8374,null,null,null,null,0,221]
[11,8477,21,8485,22,8489,null,null,null,null,0,122]
[11,8595,12,8611,13,8625,null,null,null,null,0,111]
[11,8726,21,8733,11,8748,null,null,null,null,0,121]
[22,8993,14,9004,13,9012,null,null,null,null,0,211]
[11,9116,12,9143,13,9154,null,null,null,null,0,111]
[22,9271,14,9286,13,9300,null,null,null,null,0,211]
[11,9411,12,9418,24,9426,null,null,null,null,0,112]
[11,9542,21,9552,11,9568,null,null,null,null,0,121]
[11,9803,12,9811,13,9821,null,null,null,null,0,111]
[11,9920,21,9928,11,9950,null,null,null,null,0,121]
[11,10184,21,10192,11,10199,null,null,null,null,0,121]
[11,10472,21,10481,11,10493,null,null,null,null,0,121]
[11,10729,21,10738,11,10753,null,null,null,null,0,121]
[11,11056,12,11082,13,11098,null,null,null,null,0,111]
[11,11199,12,11204,24,11214,null,null,null,null,0,112]
[11,11314,21,11322,22,11325,null,null,null,null,0,122]
[11,11430,21,11439,11,11448,null,null,null,null,0,121]
[11,11580,21,11590,11,11606,null,null,null,null,0,121]
[22,11771,14,11783,24,11794,null,null,null,null,0,212]
[22,11892,14,11912,24,11921,null,null,null,null,0,212]
[11,12018,21,12026,11,12050,null,null,null,null,0,121]
[22,12201,23,12207,13,12224,null,null,null,null,0,221]
[11,12331,21,12339,11,12369,null,null,null,null,0,121]
[11,12586,21,12595,11,12606,null,null,null,null,0,121]
[11,12854,12,12876,24,12910,null,null,null,null,0,112]
[11,13017,21,13026,11,13050,null,null,null,null,0,121]
[22,13187,14,13194,13,13201,null,null,null,null,0,211]
[11,13307,21,13316,22,13322,null,null,null,null,0,122]
[11,13428,21,13435,11,13455,null,null,null,null,0,121]
[11,13660,12,13675,13,13681,null,null,null,null,0,111]
[22,13791,14,13804,13,13812,null,null,null,null,0,211]
[11,13918,21,13929,11,13940,null,null,null,null,0,121]
[11,14100,12,14116,13,14138,null,null,null,null,0,111]
[11,14236,21,14248,11,14265,null,null,null,null,0,121]
[11,14503,12,14523,13,14538,null,null,null,null,0,111]
[11,14644,21,14652,11,14662,null,null,null,null,0,121]
[11,14846,12,14850,24,14862,null,null,null,null,0,112]
[11,14967,21,14974,11,14986,null,null,null,null,0,121]
[22,15296,14,15305,24,15315,null,null,null,null,0,212]
[11,15422,21,15429,11,15445,null,null,null,null,0,121]
[22,15771,14,15788,24,15802,null,null,null,null,0,212]
[11,15903,12,15921,13,15952,null,null,null,null,0,111]
[11,16053,12,16076,24,16088,null,null,null,null,0,112]
[11,16195,21,16203,11,16215,null,null,null,null,0,121]
[11,16394,12,16412,13,16421,null,null,null,null,0,111]
[22,16536,14,16558,13,16574,null,null,null,null,0,211]
[11,16679,21,16686,11,16699,null,null,null,null,0,121]
[11,16948,12,16967,24,16978,null,null,null,null,0,112]
[22,17074,23,17105,24,17127,null,null,null,null,0,222]
[11,17360,12,17369,13,17378,null,null,null,null,0,111]
[11,17475,21,17483,11,17500,null,null,null,null,1,121]

{"sheet":"!M305A3D.UST","index":18,"n_rows":104,"n_cols":48,"rows_kept":104,"cut":false,"hidden":false,"merged":[[4,39,4,42],[5,39,5,40],[4,44,4,47],[5,44,5,45],[4,24,4,27],[5,24,5,25],[4,29,4,32],[5,29,5,30],[4,34,4,37],[5,34,5,35],[1,1,1,2],[5,13,5,14],[18,13,18,14],[19,13,19,14],[4,19,4,22],[5,19,5,20]]}
["Report for:!M305A3D.UST"]
["Date:","<date>"]
["Hen:","<hen>",null,null,null,"Correct Sequence",{"$f":"Start!J2","v":121},null,null,null,null,null,null,null,null,"Total Sequences in Data",{"$f":"4994-COUNTBLANK(L7:L5000)","v":98},null,null,null,null,"Total Sequences in Block Data",{"$f":"COUNTA(L7:L22)","v":16},null,null,null,"Total Sequences in Block Data",{"$f":"COUNTA(L23:L39)","v":17},null,null,null,"Total Sequences in Block Data",{"$f":"COUNTA(L40:L55)","v":16},null,null,null,"Total Sequences in Block Data",{"$f":"COUNTA(L56:L71)","v":16},null,null,null,"Total Sequences in Block Data",{"$f":"COUNTA(L72:L88)","v":17},null,null,null,"Total Sequences in Block Data",{"$f":"COUNTA(L89:L104)","v":16}]
[null,null,null,null,null,null,null,null,null,null,null,null,null,null,null,"Total Sequences in Summary",{"$f":"SUM(O7:O14)","v":98},null,null,null,null,"Total Sequences in Block Summary",{"$f":"SUM(U7:U14)","v":16},null,null,null,"Total Sequences in Block Summary",{"$f":"SUM(Z7:Z14)","v":17},null,null,null,"Total Sequences in Block Summary",{"$f":"SUM(AE7:AE14)","v":16},null,null,null,"Total Sequences in Block Summary",{"$f":"SUM(AJ7:AJ14)","v":16},null,null,null,"Total Sequences in Block Summary",{"$f":"SUM(AO7:AO14)","v":17},null,null,null,"Total Sequences in Block Summary",{"$f":"SUM(AT7:AT14)","v":16}]
[null,null,null,null,null,null,null,null,null,null,null,null,null,null,null,null,null,null,null,"Block 1",null,null,null,null,"Block 2",null,null,null,null,"Block 3",null,null,null,null,"Block 4",null,null,null,null,"Block 5",null,null,null,null,"Block 6"]
["Sequence\nComponent\n1","Time\n1","Sequence\nComponent\n2","Time\n2","Sequence\nComponent\n3","Time\n3","Sequence\nComponent\n4","Time\n4","Sequence\nComponent\n5","Time\n5","Correct?\n0=No 1=Yes","Sequence",null,"Frequency",null,"Relative Frequency","Variability",null,null,"Frequency",null,"Relative Frequency","Variability",null,"Frequency",null,"Relative Frequency","Variability",null,"Frequency",null,"Relative Frequency","Variability",null,"Frequency",null,"Relative Frequency","Variability",null,"Frequency",null,"Relative Frequency","Variability",null,"Frequency",null,"Relative Frequency","Variability"]
[11,17,12,50,13,75,null,null,null,null,0,111,null,111,{"$f":"COUNTIF($L$7:$L$500,N7)","v":18},{"$f":"O7/$Q$4","v":0.18367346938775511},{"$f":"IF(P7=0,0,(P7*((LOG(P7))/LOG(2))))","v":-0.44904211396032784},null,null,{"$f":"N7","v":111},{"$f":"COUNTIF(L7:L22,T7)","v":3},{"$f":"U7/(W4-U9)","v":0.33333333333333331},{"$f":"IF(V7=0,0,(V7*((LOG(V7))/LOG(2))))","v":-0.52832083357371862},null,{"$f":"N7","v":111},{"$f":"COUNTIF(L23:L39,Y7)","v":5},{"$f":"Z7/(AB4-Z9)","v":0.5},{"$f":"IF(AA7=0,0,(AA7*((LOG(AA7))/LOG(2))))","v":-0.5},null,{"$f":"N7","v":111},{"$f":"COUNTIF(L40:L55,AD7)","v":3},{"$f":"AE7/(AG4-AE9)","v":0.33333333333333331},{"$f":"IF(AF7=0,0,(AF7*((LOG(AF7))/LOG(2))))","v":-0.52832083357371862},null,{"$f":"N7","v":111},{"$f":"COUNTIF(L56:L71,AI7)","v":2},{"$f":"AJ7/(AL4-AJ9)","v":0.18181818181818182},{"$f":"IF(AK7=0,0,(AK7*((LOG(AK7))/LOG(2))))","v":-0.44716938520678134},null,{"$f":"N7","v":111},{"$f":"COUNTIF(L72:L88,AN7)","v":3},{"$f":"AO7/(AQ4-AO9)","v":0.25},{"$f":"IF(AP7=0,0,(AP7*((LOG(AP7))/LOG(2))))","v":-0.5},null,{"$f":"N7","v":111},{"$f":"COUNTIF(L89:L104,AS7)","v":2},{"$f":"AT7/(AV4-AT9)","v":0.2},{"$f":"IF(AU7=0,0,(AU7*((LOG(AU7))/LOG(2))))","v":-0.46438561897747244}]
[11,171,21,180,11,189,null,null,null,null,0,121,null,112,{"$f":"COUNTIF($L$7:$L$500,N8)","v":6},{"$f":"O8/$Q$4","v":6.1224489795918366E-2},{"$f":"IF(P8=0,0,(P8*((LOG(P8))/LOG(2))))","v":-0.24671922510575831},null,null,{"$f":"N8","v":112},{"$f":"COUNTIF(L7:L22,T8)","v":1},{"$f":"U8/(W4-U9)","v":0.1111111111111111},{"$f":"IF(V8=0,0,(V8*((LOG(V8))/LOG(2))))","v":-0.3522138890491458},null,{"$f":"N8","v":112},{"$f":"COUNTIF(L23:L39,Y8)","v":0},{"$f":"Z8/(AB4-Z9)","v":0},{"$f":"IF(AA8=0,0,(AA8*((LOG(AA8))/LOG(2))))","v":0},null,{"$f":"N8","v":112},{"$f":"COUNTIF(L40:L55,AD8)","v":1},{"$f":"AE8/(AG4-AE9)","v":0.1111111111111111},{"$f":"IF(AF8=0,0,(AF8*((LOG(AF8))/LOG(2))))","v":-0.3522138890491458},null,{"$f":"N8","v":112},{"$f":"COUNTIF(L56:L71,AI8)","v":2},{"$f":"AJ8/(AL4-AJ9)","v":0.18181818181818182},{"$f":"IF(AK8=0,0,(AK8*((LOG(AK8))/LOG(2))))","v":-0.44716938520678134},null,{"$f":"N8","v":112},{"$f":"COUNTIF(L72:L88,AN8)","v":1},{"$f":"AO8/(AQ4-AO9)","v":8.3333333333333329E-2},{"$f":"IF(AP8=0,0,(AP8*((LOG(AP8))/LOG(2))))","v":-0.29874687506009634},null,{"$f":"N8","v":112},{"$f":"COUNTIF(L89:L104,AS8)","v":1},{"$f":"AT8/(AV4-AT9)","v":0.1},{"$f":"IF(AU8=0,0,(AU8*((LOG(AU8))/LOG(2))))","v":-0.33219280948873625}]
[11,438,12,464,13,482,null,null,null,null,0,111,null,121,{"$f":"COUNTIF($L$7:$L$500,N9)","v":37},{"$f":"O9/$Q$4","v":0.37755102040816324},{"$f":"IF(P9=0,0,(P9*((LOG(P9))/LOG(2))))","v":-0.530556017387669},null,null,{"$f":"N9","v":121},{"$f":"COUNTIF(L7:L22,T9)","v":7},null,null,null,{"$f":"N9","v":121},{"$f":"COUNTIF(L23:L39,Y9)","v":7},null,null,null,{"$f":"N9","v":121},{"$f":"COUNTIF(L40:L55,AD9)","v":7},null,null,null,{"$f":"N9","v":121},{"$f":"COUNTIF(L56:L71,AI9)","v":5},null,null,null,{"$f":"N9","v":121},{"$f":"COUNTIF(L72:L88,AN9)","v":5},null,null,null,{"$f":"N9","v":121},{"$f":"COUNTIF(L89:L104,AS9)","v":6}]
[11,576,12,582,24,588,null,null,null,null,0,112,null,122,{"$f":"COUNTIF($L$7:$L$500,N10)","v":5},{"$f":"O10/$Q$4","v":5.1020408163265307E-2},{"$f":"IF(P10=0,0,(P10*((LOG(P10))/LOG(2))))","v":-0.21901947700142071},null,null,{"$f":"N10","v":122},{"$f":"COUNTIF(L7:L22,T10)","v":1},{"$f":"U10/(W4-U9)","v":0.1111111111111111},{"$f":"IF(V10=0,0,(V10*((LOG(V10))/LOG(2))))","v":-0.3522138890491458},null,{"$f":"N10","v":122},{"$f":"COUNTIF(L23:L39,Y10)","v":1},{"$f":"Z10/(AB4-Z9)","v":0.1},{"$f":"IF(AA10=0,0,(AA10*((LOG(AA10))/LOG(2))))","v":-0.33219280948873625},null,{"$f":"N10","v":122},{"$f":"COUNTIF(L40:L55,AD10)","v":1},{"$f":"AE10/(AG4-AE9)","v":0.1111111111111111},{"$f":"IF(AF10=0,0,(AF10*((LOG(AF10))/LOG(2))))","v":-0.3522138890491458},null,{"$f":"N10","v":122},{"$f":"COUNTIF(L56:L71,AI10)","v":0},{"$f":"AJ10/(AL4-AJ9)","v":0},{"$f":"IF(AK10=0,0,(AK10*((LOG(AK10))/LOG(2))))","v":0},null,{"$f":"N10","v":122},{"$f":"COUNTIF(L72:L88,AN10)","v":1},{"$f":"AO10/(AQ4-AO9)","v":8.3333333333333329E-2},{"$f":"IF(AP10=0,0,(AP10*((LOG(AP10))/LOG(2))))","v":-0.29874687506009634},null,{"$f":"N10","v":122},{"$f":"COUNTIF(L89:L104,AS10)","v":1},{"$f":"AT10/(AV4-AT9)","v":0.1},{"$f":"IF(AU10=0,0,(AU10*((LOG(AU10))/LOG(2))))","v":-0.33219280948873625}]
[22,760,14,790,24,807,null,null,null,null,0,212,null,211,{"$f":"COUNTIF($L$7:$L$500,N11)","v":19},{"$f":"O11/$Q$4","v":0.19387755102040816},{"$f":"IF(P11=0,0,(P11*((LOG(P11))/LOG(2))))","v":-0.45886596206898805},null,null,{"$f":"N11","v":211},{"$f":"COUNTIF(L7:L22,T11)","v":2},{"$f":"U11/(W4-U9)","v":0.22222222222222221},{"$f":"IF(V11=0,0,(V11*((LOG(V11))/LOG(2))))","v":-0.48220555587606945},null,{"$f":"N11","v":211},{"$f":"COUNTIF(L23:L39,Y11)","v":2},{"$f":"Z11/(AB4-Z9)","v":0.2},{"$f":"IF(AA11=0,0,(AA11*((LOG(AA11))/LOG(2))))","v":-0.46438561897747244},null,{"$f":"N11","v":211},{"$f":"COUNTIF(L40:L55,AD11)","v":3},{"$f":"AE11/(AG4-AE9)","v":0.33333333333333331},{"$f":"IF(AF11=0,0,(AF11*((LOG(AF11))/LOG(2))))","v":-0.52832083357371862},null,{"$f":"N11","v":211},{"$f":"COUNTIF(L56:L71,AI11)","v":4},{"$f":"AJ11/(AL4-AJ9)","v":0.36363636363636365},{"$f":"IF(AK11=0,0,(AK11*((LOG(AK11))/LOG(2))))","v":-0.53070240677719893},null,{"$f":"N11","v":211},{"$f":"COUNTIF(L72:L88,AN11)","v":5},{"$f":"AO11/(AQ4-AO9)","v":0.41666666666666669},{"$f":"IF(AP11=0,0,(AP11*((LOG(AP11))/LOG(2))))","v":-0.52626433576408083},null,{"$f":"N11","v":211},{"$f":"COUNTIF(L89:L104,AS11)","v":3},{"$f":"AT11/(AV4-AT9)","v":0.3},{"$f":"IF(AU11=0,0,(AU11*((LOG(AU11))/LOG(2))))","v":-0.52108967824986185}]
[11,909,21,919,11,930,null,null,null,null,0,121,null,212,{"$f":"COUNTIF($L$7:$L$500,N12)","v":4},{"$f":"O12/$Q$4","v":4.0816326530612242E-2},{"$f":"IF(P12=0,0,(P12*((LOG(P12))/LOG(2))))","v":-0.18835550384143707},null,null,{"$f":"N12","v":212},{"$f":"COUNTIF(L7:L22,T12)","v":1},{"$f":"U12/(W4-U9)","v":0.1111111111111111},{"$f":"IF(V12=0,0,(V12*((LOG(V12))/LOG(2))))","v":-0.3522138890491458},null,{"$f":"N12","v":212},{"$f":"COUNTIF(L23:L39,Y12)","v":1},{"$f":"Z12/(AB4-Z9)","v":0.1},{"$f":"IF(AA12=0,0,(AA12*((LOG(AA12))/LOG(2))))","v":-0.33219280948873625},null,{"$f":"N12","v":212},{"$f":"COUNTIF(L40:L55,AD12)","v":0},{"$f":"AE12/(AG4-AE9)","v":0},{"$f":"IF(AF12=0,0,(AF12*((LOG(AF12))/LOG(2))))","v":0},null,{"$f":"N12","v":212},{"$f":"COUNTIF(L56:L71,AI12)","v":1},{"$f":"AJ12/(AL4-AJ9)","v":9.0909090909090912E-2},{"$f":"IF(AK12=0,0,(AK12*((LOG(AK12))/LOG(2))))","v":-0.31449378351248153},null,{"$f":"N12","v":212},{"$f":"COUNTIF(L72:L88,AN12)","v":0},{"$f":"AO12/(AQ4-AO9)","v":0},{"$f":"IF(AP12=0,0,(AP12*((LOG(AP12))/LOG(2))))","v":0},null,{"$f":"N12","v":212},{"$f":"COUNTIF(L89:L104,AS12)","v":1},{"$f":"AT12/(AV4-AT9)","v":0.1},{"$f":"IF(AU12=0,0,(AU12*((LOG(AU12))/LOG(2))))","v":-0.33219280948873625}]
[22,1280,14,1299,13,1310,null,null,null,null,0,211,null,221,{"$f":"COUNTIF($L$7:$L$500,N13)","v":7},{"$f":"O13/$Q$4","v":7.1428571428571425E-2},{"$f":"IF(P13=0,0,(P13*((LOG(P13))/LOG(2))))","v":-0.27195392300411453},null,null,{"$f":"N13","v":221},{"$f":"COUNTIF(L7:L22,T13)","v":1},{"$f":"U13/(W4-U9)","v":0.1111111111111111},{"$f":"IF(V13=0,0,(V13*((LOG(V13))/LOG(2))))","v":-0.3522138890491458},null,{"$f":"N13","v":221},{"$f":"COUNTIF(L23:L39,Y13)","v":1},{"$f":"Z13/(AB4-Z9)","v":0.1},{"$f":"IF(AA13=0,0,(AA13*((LOG(AA13))/LOG(2))))","v":-0.33219280948873625},null,{"$f":"N13","v":221},{"$f":"COUNTIF(L40:L55,AD13)","v":1},{"$f":"AE13/(AG4-AE9)","v":0.1111111111111111},{"$f":"IF(AF13=0,0,(AF13*((LOG(AF13))/LOG(2))))","v":-0.3522138890491458},null,{"$f":"N13","v":221},{"$f":"COUNTIF(L56:L71,AI13)","v":1},{"$f":"AJ13/(AL4-AJ9)","v":9.0909090909090912E-2},{"$f":"IF(AK13=0,0,(AK13*((LOG(AK13))/LOG(2))))","v":-0.31449378351248153},null,{"$f":"N13","v":221},{"$f":"COUNTIF(L72:L88,AN13)","v":2},{"$f":"AO13/(AQ4-AO9)","v":0.16666666666666666},{"$f":"IF(AP13=0,0,(AP13*((LOG(AP13))/LOG(2))))","v":-0.43082708345352599},null,{"$f":"N13","v":221},{"$f":"COUNTIF(L89:L104,AS13)","v":1},{"$f":"AT13/(AV4-AT9)","v":0.1},{"$f":"IF(AU13=0,0,(AU13*((LOG(AU13))/LOG(2))))","v":-0.33219280948873625}]
[11,1408,21,1418,11,1444,null,null,null,null,0,121,null,222,{"$f":"COUNTIF($L$7:$L$500,N14)","v":2},{"$f":"O14/$Q$4","v":2.0408163265306121E-2},{"$f":"IF(P14=0,0,(P14*((LOG(P14))/LOG(2))))","v":-0.11458591518602465},null,null,{"$f":"N14","v":222},{"$f":"COUNTIF(L7:L22,T14)","v":0},{"$f":"U14/(W4-U9)","v":0},{"$f":"IF(V14=0,0,(V14*((LOG(V14))/LOG(2))))","v":0},null,{"$f":"N14","v":222},{"$f":"COUNTIF(L23:L39,Y14)","v":0},{"$f":"Z14/(AB4-Z9)","v":0},{"$f":"IF(AA14=0,0,(AA14*((LOG(AA14))/LOG(2))))","v":0},null,{"$f":"N14","v":222},{"$f":"COUNTIF(L40:L55,AD14)","v":0},{"$f":"AE14/(AG4-AE9)","v":0},{"$f":"IF(AF14=0,0,(AF14*((LOG(AF14))/LOG(2))))","v":0},null,{"$f":"N14","v":222},{"$f":"COUNTIF(L56:L71,AI14)","v":1},{"$f":"AJ14/(AL4-AJ9)","v":9.0909090909090912E-2},{"$f":"IF(AK14=0,0,(AK14*((LOG(AK14))/LOG(2))))","v":-0.31449378351248153},null,{"$f":"N14","v":222},{"$f":"COUNTIF(L72:L88,AN14)","v":0},{"$f":"AO14/(AQ4-AO9)","v":0},{"$f":"IF(AP14=0,0,(AP14*((LOG(AP14))/LOG(2))))","v":0},null,{"$f":"N14","v":222},{"$f":"COUNTIF(L89:L104,AS14)","v":1},{"$f":"AT14/(AV4-AT9)","v":0.1},{"$f":"IF(AU14=0,0,(AU14*((LOG(AU14))/LOG(2))))","v":-0.33219280948873625}]
[11,1636,12,1652,13,1661,null,null,null,null,0,111,null,null,null,{"$f":"SUM(P7:P14)","v":0.99999999999999989},{"$f":"-SUM(Q7:Q14)","v":2.4790981375557402},null,null,null,null,{"$f":"SUM(V7:V14)","v":1},{"$f":"-SUM(W7:W14)","v":2.419381945646371},null,null,null,{"$f":"SUM(AA7:AA14)","v":1},{"$f":"-SUM(AB7:AB14)","v":1.9609640474436814},null,null,null,{"$f":"SUM(AF7:AF14)","v":1},{"$f":"-SUM(AG7:AG14)","v":2.1132833342948745},null,null,null,{"$f":"SUM(AK7:AK14)","v":1},{"$f":"-SUM(AL7:AL14)","v":2.3685225277282065},null,null,null,{"$f":"SUM(AP7:AP14)","v":0.99999999999999989},{"$f":"-SUM(AQ7:AQ14)","v":2.0545851693377997},null,null,null,{"$f":"SUM(AU7:AU14)","v":0.99999999999999989},{"$f":"-SUM(AV7:AV14)","v":2.6464393446710157}]
[11,1758,21,1766,11,1777,null,null,null,null,0,121,null,null,null,"U=",{"$f":"Q15/(LOG(Q4)/LOG(2))","v":0.37478562113518488},null,null,null,null,"U1=",{"$f":"W15/(LOG(W4)/LOG(2))","v":0.60484548641159275},null,null,null,"U2=",{"$f":"AB15/(LOG(AB4)/LOG(2))","v":0.47975091728144736},null,null,null,"U3=",{"$f":"AG15/(LOG(AG4)/LOG(2))","v":0.52832083357371862},null,null,null,"U4=",{"$f":"AL15/(LOG(AL4)/LOG(2))","v":0.59213063193205162},null,null,null,"U5=",{"$f":"AQ15/(LOG(AQ4)/LOG(2))","v":0.50265537550655992},null,null,null,"U6=",{"$f":"AV15/(LOG(AV4)/LOG(2))","v":0.66160983616775393}]
[11,1963,21,1971,22,1977,null,null,null,null,0,122]
[11,2075,21,2083,11,2098,null,null,null,null,0,121]
[22,2291,23,2297,13,2312,null,null,null,null,0,221,null,"Total Target Seq"]
[11,2409,21,2418,11,2435,null,null,null,null,0,121,null,{"$f":"COUNTIF(L7:L104,G3)","v":37},null,16,17,16,16,17,16]
[22,2716,14,2732,13,2748,null,null,null,null,0,211,null,null,null,"% of reinforcement given in 6 equal intervals based on number of trials "]
[11,2850,21,2856,11,2871,null,null,null,null,0,121,null,null,null,"%_1","%_2","%_3","%_4","%_5","%_6"]
[11,3059,21,3069,11,3079,null,null,null,null,0,121,null,null,"target sequence",{"$f":"$G$3","v":121},{"$f":"$G$3","v":121},{"$f":"$G$3","v":121},{"$f":"$G$3","v":121},{"$f":"$G$3","v":121},{"$f":"$G$3","v":121}]
[22,3281,14,3294,24,3304,null,null,null,null,0,212,null,null,"total reinforcement",{"$f":"U9","v":7},{"$f":"Z9","v":7},{"$f":"AE9","v":7},{"$f":"AJ9","v":5},{"$f":"AO9","v":5},{"$f":"AT9","v":6}]
[11,3407,12,3431,13,3447,null,null,null,null,0,111,null,null,"% target"]
[11,3548,12,3566,13,3574,null,null,null,null,0,111,null,null,"CCRF"]
[11,3676,21,3692,11,3704,null,null,null,null,0,121,null,null,"% CCRf"]
[11,3882,12,3898,13,3908,null,null,null,null,0,111,null,null,"average response rate",{"$f":"F22/P20","v":179.4375},{"$f":"(F39-F22)/Q20","v":171.23529411764707},{"$f":"(F55-F39)/R20","v":173.875},{"$f":"(F71-F55)/S20","v":184.3125},{"$f":"(F88-F71)/T20","v":175.58823529411765},{"$f":"(F104-F88)/U20","v":167.625}]
[11,4009,21,4018,11,4033,null,null,null,null,0,121]
[11,4256,12,4270,13,4275,null,null,null,null,0,111]
[11,4372,21,4387,11,4398,null,null,null,null,0,121]
[11,4632,21,4647,11,4660,null,null,null,null,0,121]
[22,4872,14,4883,13,4904,null,null,null,null,0,211]
[11,5006,21,5014,22,5016,null,null,null,null,0,122]
[11,5116,12,5139,13,5148,null,null,null,null,0,111]
[11,5248,21,5255,11,5270,null,null,null,null,0,121]
[22,5497,23,5501,13,5511,null,null,null,null,0,221]
[22,5620,14,5639,13,5656,null,null,null,null,0,211]
[11,5761,21,5769,11,5782,null,null,null,null,0,121]
[22,5974,14,5996,13,6021,null,null,null,null,0,211]
[11,6116,21,6124,11,6137,null,null,null,null,0,121]
[11,6324,21,6331,22,6338,null,null,null,null,0,122]
[22,6449,14,6463,13,6476,null,null,null,null,0,211]
[11,6577,21,6583,11,6599,null,null,null,null,0,121]
[11,6800,12,6805,24,6818,null,null,null,null,0,112]
[11,6923,21,6930,11,6940,null,null,null,null,0,121]
[11,7163,12,7179,13,7186,null,null,null,null,0,111]
[11,7285,21,7303,11,7327,null,null,null,null,0,121]
[22,7561,23,7566,13,7582,null,null,null,null,0,221]
[11,7692,12,7726,13,7734,null,null,null,null,0,111]
[22,7832,14,7854,13,7870,null,null,null,null,0,211]
[11,7968,21,7975,11,7991,null,null,null,null,0,121]
[11,8165,21,8177,11,8191,null,null,null,null,0,121]
[11,8406,12,8411,13,8437,null,null,null,null,0,111]
[11,8543,21,8552,11,8564,null,null,null,null,0,121]
[11,8755,21,8763,11,8780,null,null,null,null,0,121]
[11,9095,12,9125,13,9134,null,null,null,null,0,111]
[11,9234,12,9259,24,9275,null,null,null,null,0,112]
[22,9378,14,9394,13,9409,null,null,null,null,0,211]
[11,9516,21,9523,11,9534,null,null,null,null,0,121]
[22,9785,14,9800,24,9810,null,null,null,null,0,212]
[22,9917,14,9939,13,9954,null,null,null,null,0,211]
[22,10066,14,10087,13,10096,null,null,null,null,0,211]
[22,10201,23,10208,13,10227,null,null,null,null,0,221]
[11,10330,21,10338,11,10362,null,null,null,null,0,121]
[11,10559,21,10570,11,10579,null,null,null,null,0,121]
[11,10779,12,10788,13,10813,null,null,null,null,0,111]
[22,10913,14,10933,13,10965,null,null,null,null,0,211]
[11,11070,21,11077,11,11091,null,null,null,null,0,121]
[11,11321,12,11357,24,11383,null,null,null,null,0,112]
[22,11476,23,11506,24,11513,null,null,null,null,0,222]
[22,11613,23,11619,13,11644,null,null,null,null,0,221]
[11,11831,21,11839,11,11849,null,null,null,null,0,121]
[11,12119,12,12136,13,12159,null,null,null,null,0,111]
[11,12385,21,12413,22,12436,null,null,null,null,0,122]
[11,12543,21,12551,11,12573,null,null,null,null,0,121]
[11,12794,12,12810,13,12823,null,null,null,null,0,111]
[22,12915,23,12923,13,12939,null,null,null,null,0,221]
[11,13043,21,13051,11,13078,null,null,null,null,0,121]
[11,13268,12,13277,24,13285,null,null,null,null,0,112]
[11,13390,12,13423,13,13450,null,null,null,null,0,111]
[22,13548,14,13562,13,13573,null,null,null,null,0,211]
[11,13672,21,13679,11,13695,null,null,null,null,0,121]
[22,13835,14,13845,13,13858,null,null,null,null,0,211]
[11,13958,21,13966,11,13979,null,null,null,null,0,121]
[22,14167,14,14179,13,14210,null,null,null,null,0,211]
[22,14321,14,14348,13,14358,null,null,null,null,0,211]
[22,14462,14,14477,13,14498,null,null,null,null,0,211]
[22,14615,14,14636,13,14656,null,null,null,null,0,211]
[22,14754,23,14760,24,14767,null,null,null,null,0,222]
[11,14866,21,14873,11,14886,null,null,null,null,0,121]
[22,15058,14,15086,13,15124,null,null,null,null,0,211]
[11,15227,21,15235,11,15250,null,null,null,null,0,121]
[11,15545,12,15570,13,15585,null,null,null,null,0,111]
[22,15694,14,15708,13,15720,null,null,null,null,0,211]
[11,15826,21,15835,11,15866,null,null,null,null,0,121]
[22,16050,14,16063,24,16077,null,null,null,null,0,212]
[11,16170,21,16179,11,16198,null,null,null,null,0,121]
[11,16432,12,16450,24,16461,null,null,null,null,0,112]
[11,16589,21,16596,11,16617,null,null,null,null,0,121]
[22,16800,23,16806,13,16817,null,null,null,null,0,221]
[11,16932,12,16939,13,16947,null,null,null,null,0,111]
[11,17049,21,17056,22,17060,null,null,null,null,0,122]
[11,17163,21,17170,11,17180,null,null,null,null,1,121]

{"sheet":"!M306B2D.UST","index":19,"n_rows":99,"n_cols":48,"rows_kept":99,"cut":false,"hidden":false,"merged":[[4,39,4,42],[5,39,5,40],[4,44,4,47],[5,44,5,45],[4,24,4,27],[5,24,5,25],[4,29,4,32],[5,29,5,30],[4,34,4,37],[5,34,5,35],[1,1,1,2],[5,13,5,14],[18,13,18,14],[19,13,19,14],[4,19,4,22],[5,19,5,20]]}
["Report for:!M306B2D.UST"]
["Date:","<date>"]
["Hen:","<hen>",null,null,null,"Correct Sequence",{"$f":"Start!J2","v":121},null,null,null,null,null,null,null,null,"Total Sequences in Data",{"$f":"4994-COUNTBLANK(L7:L5000)","v":93},null,null,null,null,"Total Sequences in Block Data",{"$f":"COUNTA(L7:L22)","v":16},null,null,null,"Total Sequences in Block Data",{"$f":"COUNTA(L23:L37)","v":15},null,null,null,"Total Sequences in Block Data",{"$f":"COUNTA(L38:L53)","v":16},null,null,null,"Total Sequences in Block Data",{"$f":"COUNTA(L54:L68)","v":15},null,null,null,"Total Sequences in Block Data",{"$f":"COUNTA(L69:L84)","v":16},null,null,null,"Total Sequences in Block Data",{"$f":"COUNTA(L85:L99)","v":15}]
[null,null,null,null,null,null,null,null,null,null,null,null,null,null,null,"Total Sequences in Summary",{"$f":"SUM(O7:O14)","v":93},null,null,null,null,"Total Sequences in Block Summary",{"$f":"SUM(U7:U14)","v":16},null,null,null,"Total Sequences in Block Summary",{"$f":"SUM(Z7:Z14)","v":15},null,null,null,"Total Sequences in Block Summary",{"$f":"SUM(AE7:AE14)","v":16},null,null,null,"Total Sequences in Block Summary",{"$f":"SUM(AJ7:AJ14)","v":15},null,null,null,"Total Sequences in Block Summary",{"$f":"SUM(AO7:AO14)","v":16},null,null,null,"Total Sequences in Block Summary",{"$f":"SUM(AT7:AT14)","v":15}]
[null,null,null,null,null,null,null,null,null,null,null,null,null,null,null,null,null,null,null,"Block 1",null,null,null,null,"Block 2",null,null,null,null,"Block 3",null,null,null,null,"Block 4",null,null,null,null,"Block 5",null,null,null,null,"Block 6"]
["Sequence\nComponent\n1","Time\n1","Sequence\nComponent\n2","Time\n2","Sequence\nComponent\n3","Time\n3","Sequence\nComponent\n4","Time\n4","Sequence\nComponent\n5","Time\n5","Correct?\n0=No 1=Yes","Sequence",null,"Frequency",null,"Relative Frequency","Variability",null,null,"Frequency",null,"Relative Frequency","Variability",null,"Frequency",null,"Relative Frequency","Variability",null,"Frequency",null,"Relative Frequency","Variability",null,"Frequency",null,"Relative Frequency","Variability",null,"Frequency",null,"Relative Frequency","Variability",null,"Frequency",null,"Relative Frequency","Variability"]
[22,103,14,114,13,121,null,null,null,null,0,211,null,111,{"$f":"COUNTIF($L$7:$L$500,N7)","v":12},{"$f":"O7/$Q$4","v":0.12903225806451613},{"$f":"IF(P7=0,0,(P7*((LOG(P7))/LOG(2))))","v":-0.38118662069508069},null,null,{"$f":"N7","v":111},{"$f":"COUNTIF(L7:L22,T7)","v":2},{"$f":"U7/(W4-U9)","v":0.2},{"$f":"IF(V7=0,0,(V7*((LOG(V7))/LOG(2))))","v":-0.46438561897747244},null,{"$f":"N7","v":111},{"$f":"COUNTIF(L23:L37,Y7)","v":3},{"$f":"Z7/(AB4-Z9)","v":0.33333333333333331},{"$f":"IF(AA7=0,0,(AA7*((LOG(AA7))/LOG(2))))","v":-0.52832083357371862},null,{"$f":"N7","v":111},{"$f":"COUNTIF(L38:L53,AD7)","v":4},{"$f":"AE7/(AG4-AE9)","v":0.33333333333333331},{"$f":"IF(AF7=0,0,(AF7*((LOG(AF7))/LOG(2))))","v":-0.52832083357371862},null,{"$f":"N7","v":111},{"$f":"COUNTIF(L54:L68,AI7)","v":1},{"$f":"AJ7/(AL4-AJ9)","v":0.1},{"$f":"IF(AK7=0,0,(AK7*((LOG(AK7))/LOG(2))))","v":-0.33219280948873625},null,{"$f":"N7","v":111},{"$f":"COUNTIF(L69:L84,AN7)","v":1},{"$f":"AO7/(AQ4-AO9)","v":0.1111111111111111},{"$f":"IF(AP7=0,0,(AP7*((LOG(AP7))/LOG(2))))","v":-0.3522138890491458},null,{"$f":"N7","v":111},{"$f":"COUNTIF(L85:L99,AS7)","v":1},{"$f":"AT7/(AV4-AT9)","v":0.16666666666666666},{"$f":"IF(AU7=0,0,(AU7*((LOG(AU7))/LOG(2))))","v":-0.43082708345352599}]
[11,232,12,238,13,245,null,null,null,null,0,111,null,112,{"$f":"COUNTIF($L$7:$L$500,N8)","v":11},{"$f":"O8/$Q$4","v":0.11827956989247312},{"$f":"IF(P8=0,0,(P8*((LOG(P8))/LOG(2))))","v":-0.3642688077115922},null,null,{"$f":"N8","v":112},{"$f":"COUNTIF(L7:L22,T8)","v":1},{"$f":"U8/(W4-U9)","v":0.1},{"$f":"IF(V8=0,0,(V8*((LOG(V8))/LOG(2))))","v":-0.33219280948873625},null,{"$f":"N8","v":112},{"$f":"COUNTIF(L23:L37,Y8)","v":2},{"$f":"Z8/(AB4-Z9)","v":0.22222222222222221},{"$f":"IF(AA8=0,0,(AA8*((LOG(AA8))/LOG(2))))","v":-0.48220555587606945},null,{"$f":"N8","v":112},{"$f":"COUNTIF(L38:L53,AD8)","v":2},{"$f":"AE8/(AG4-AE9)","v":0.16666666666666666},{"$f":"IF(AF8=0,0,(AF8*((LOG(AF8))/LOG(2))))","v":-0.43082708345352599},null,{"$f":"N8","v":112},{"$f":"COUNTIF(L54:L68,AI8)","v":3},{"$f":"AJ8/(AL4-AJ9)","v":0.3},{"$f":"IF(AK8=0,0,(AK8*((LOG(AK8))/LOG(2))))","v":-0.52108967824986185},null,{"$f":"N8","v":112},{"$f":"COUNTIF(L69:L84,AN8)","v":1},{"$f":"AO8/(AQ4-AO9)","v":0.1111111111111111},{"$f":"IF(AP8=0,0,(AP8*((LOG(AP8))/LOG(2))))","v":-0.3522138890491458},null,{"$f":"N8","v":112},{"$f":"COUNTIF(L85:L99,AS8)","v":2},{"$f":"AT8/(AV4-AT9)","v":0.33333333333333331},{"$f":"IF(AU8=0,0,(AU8*((LOG(AU8))/LOG(2))))","v":-0.52832083357371862}]
[22,385,23,389,13,407,null,null,null,null,0,221,null,121,{"$f":"COUNTIF($L$7:$L$500,N9)","v":37},{"$f":"O9/$Q$4","v":0.39784946236559138},{"$f":"IF(P9=0,0,(P9*((LOG(P9))/LOG(2))))","v":-0.52902259658845185},null,null,{"$f":"N9","v":121},{"$f":"COUNTIF(L7:L22,T9)","v":6},null,null,null,{"$f":"N9","v":121},{"$f":"COUNTIF(L23:L37,Y9)","v":6},null,null,null,{"$f":"N9","v":121},{"$f":"COUNTIF(L38:L53,AD9)","v":4},null,null,null,{"$f":"N9","v":121},{"$f":"COUNTIF(L54:L68,AI9)","v":5},null,null,null,{"$f":"N9","v":121},{"$f":"COUNTIF(L69:L84,AN9)","v":7},null,null,null,{"$f":"N9","v":121},{"$f":"COUNTIF(L85:L99,AS9)","v":9}]
[11,545,12,550,24,560,null,null,null,null,0,112,null,122,{"$f":"COUNTIF($L$7:$L$500,N10)","v":7},{"$f":"O10/$Q$4","v":7.5268817204301078E-2},{"$f":"IF(P10=0,0,(P10*((LOG(P10))/LOG(2))))","v":-0.28088846476723645},null,null,{"$f":"N10","v":122},{"$f":"COUNTIF(L7:L22,T10)","v":2},{"$f":"U10/(W4-U9)","v":0.2},{"$f":"IF(V10=0,0,(V10*((LOG(V10))/LOG(2))))","v":-0.46438561897747244},null,{"$f":"N10","v":122},{"$f":"COUNTIF(L23:L37,Y10)","v":1},{"$f":"Z10/(AB4-Z9)","v":0.1111111111111111},{"$f":"IF(AA10=0,0,(AA10*((LOG(AA10))/LOG(2))))","v":-0.3522138890491458},null,{"$f":"N10","v":122},{"$f":"COUNTIF(L38:L53,AD10)","v":0},{"$f":"AE10/(AG4-AE9)","v":0},{"$f":"IF(AF10=0,0,(AF10*((LOG(AF10))/LOG(2))))","v":0},null,{"$f":"N10","v":122},{"$f":"COUNTIF(L54:L68,AI10)","v":0},{"$f":"AJ10/(AL4-AJ9)","v":0},{"$f":"IF(AK10=0,0,(AK10*((LOG(AK10))/LOG(2))))","v":0},null,{"$f":"N10","v":122},{"$f":"COUNTIF(L69:L84,AN10)","v":4},{"$f":"AO10/(AQ4-AO9)","v":0.44444444444444442},{"$f":"IF(AP10=0,0,(AP10*((LOG(AP10))/LOG(2))))","v":-0.51996666730769447},null,{"$f":"N10","v":122},{"$f":"COUNTIF(L85:L99,AS10)","v":0},{"$f":"AT10/(AV4-AT9)","v":0},{"$f":"IF(AU10=0,0,(AU10*((LOG(AU10))/LOG(2))))","v":0}]
[22,668,23,674,24,680,null,null,null,null,0,222,null,211,{"$f":"COUNTIF($L$7:$L$500,N11)","v":9},{"$f":"O11/$Q$4","v":9.6774193548387094E-2},{"$f":"IF(P11=0,0,(P11*((LOG(P11))/LOG(2))))","v":-0.32605488480635986},null,null,{"$f":"N11","v":211},{"$f":"COUNTIF(L7:L22,T11)","v":3},{"$f":"U11/(W4-U9)","v":0.3},{"$f":"IF(V11=0,0,(V11*((LOG(V11))/LOG(2))))","v":-0.52108967824986185},null,{"$f":"N11","v":211},{"$f":"COUNTIF(L23:L37,Y11)","v":0},{"$f":"Z11/(AB4-Z9)","v":0},{"$f":"IF(AA11=0,0,(AA11*((LOG(AA11))/LOG(2))))","v":0},null,{"$f":"N11","v":211},{"$f":"COUNTIF(L38:L53,AD11)","v":3},{"$f":"AE11/(AG4-AE9)","v":0.25},{"$f":"IF(AF11=0,0,(AF11*((LOG(AF11))/LOG(2))))","v":-0.5},null,{"$f":"N11","v":211},{"$f":"COUNTIF(L54:L68,AI11)","v":1},{"$f":"AJ11/(AL4-AJ9)","v":0.1},{"$f":"IF(AK11=0,0,(AK11*((LOG(AK11))/LOG(2))))","v":-0.33219280948873625},null,{"$f":"N11","v":211},{"$f":"COUNTIF(L69:L84,AN11)","v":1},{"$f":"AO11/(AQ4-AO9)","v":0.1111111111111111},{"$f":"IF(AP11=0,0,(AP11*((LOG(AP11))/LOG(2))))","v":-0.3522138890491458},null,{"$f":"N11","v":211},{"$f":"COUNTIF(L85:L99,AS11)","v":1},{"$f":"AT11/(AV4-AT9)","v":0.16666666666666666},{"$f":"IF(AU11=0,0,(AU11*((LOG(AU11))/LOG(2))))","v":-0.43082708345352599}]
[11,783,21,792,11,807,null,null,null,null,0,121,null,212,{"$f":"COUNTIF($L$7:$L$500,N12)","v":7},{"$f":"O12/$Q$4","v":7.5268817204301078E-2},{"$f":"IF(P12=0,0,(P12*((LOG(P12))/LOG(2))))","v":-0.28088846476723645},null,null,{"$f":"N12","v":212},{"$f":"COUNTIF(L7:L22,T12)","v":0},{"$f":"U12/(W4-U9)","v":0},{"$f":"IF(V12=0,0,(V12*((LOG(V12))/LOG(2))))","v":0},null,{"$f":"N12","v":212},{"$f":"COUNTIF(L23:L37,Y12)","v":3},{"$f":"Z12/(AB4-Z9)","v":0.33333333333333331},{"$f":"IF(AA12=0,0,(AA12*((LOG(AA12))/LOG(2))))","v":-0.52832083357371862},null,{"$f":"N12","v":212},{"$f":"COUNTIF(L38:L53,AD12)","v":1},{"$f":"AE12/(AG4-AE9)","v":8.3333333333333329E-2},{"$f":"IF(AF12=0,0,(AF12*((LOG(AF12))/LOG(2))))","v":-0.29874687506009634},null,{"$f":"N12","v":212},{"$f":"COUNTIF(L54:L68,AI12)","v":3},{"$f":"AJ12/(AL4-AJ9)","v":0.3},{"$f":"IF(AK12=0,0,(AK12*((LOG(AK12))/LOG(2))))","v":-0.52108967824986185},null,{"$f":"N12","v":212},{"$f":"COUNTIF(L69:L84,AN12)","v":0},{"$f":"AO12/(AQ4-AO9)","v":0},{"$f":"IF(AP12=0,0,(AP12*((LOG(AP12))/LOG(2))))","v":0},null,{"$f":"N12","v":212},{"$f":"COUNTIF(L85:L99,AS12)","v":0},{"$f":"AT12/(AV4-AT9)","v":0},{"$f":"IF(AU12=0,0,(AU12*((LOG(AU12))/LOG(2))))","v":0}]
[11,977,21,987,11,999,null,null,null,null,0,121,null,221,{"$f":"COUNTIF($L$7:$L$500,N13)","v":8},{"$f":"O13/$Q$4","v":8.6021505376344093E-2},{"$f":"IF(P13=0,0,(P13*((LOG(P13))/LOG(2))))","v":-0.30444376869746503},null,null,{"$f":"N13","v":221},{"$f":"COUNTIF(L7:L22,T13)","v":1},{"$f":"U13/(W4-U9)","v":0.1},{"$f":"IF(V13=0,0,(V13*((LOG(V13))/LOG(2))))","v":-0.33219280948873625},null,{"$f":"N13","v":221},{"$f":"COUNTIF(L23:L37,Y13)","v":0},{"$f":"Z13/(AB4-Z9)","v":0},{"$f":"IF(AA13=0,0,(AA13*((LOG(AA13))/LOG(2))))","v":0},null,{"$f":"N13","v":221},{"$f":"COUNTIF(L38:L53,AD13)","v":2},{"$f":"AE13/(AG4-AE9)","v":0.16666666666666666},{"$f":"IF(AF13=0,0,(AF13*((LOG(AF13))/LOG(2))))","v":-0.43082708345352599},null,{"$f":"N13","v":221},{"$f":"COUNTIF(L54:L68,AI13)","v":1},{"$f":"AJ13/(AL4-AJ9)","v":0.1},{"$f":"IF(AK13=0,0,(AK13*((LOG(AK13))/LOG(2))))","v":-0.33219280948873625},null,{"$f":"N13","v":221},{"$f":"COUNTIF(L69:L84,AN13)","v":2},{"$f":"AO13/(AQ4-AO9)","v":0.22222222222222221},{"$f":"IF(AP13=0,0,(AP13*((LOG(AP13))/LOG(2))))","v":-0.48220555587606945},null,{"$f":"N13","v":221},{"$f":"COUNTIF(L85:L99,AS13)","v":2},{"$f":"AT13/(AV4-AT9)","v":0.33333333333333331},{"$f":"IF(AU13=0,0,(AU13*((LOG(AU13))/LOG(2))))","v":-0.52832083357371862}]
[22,1200,14,1211,13,1219,null,null,null,null,0,211,null,222,{"$f":"COUNTIF($L$7:$L$500,N14)","v":2},{"$f":"O14/$Q$4","v":2.1505376344086023E-2},{"$f":"IF(P14=0,0,(P14*((LOG(P14))/LOG(2))))","v":-0.11912169486253833},null,null,{"$f":"N14","v":222},{"$f":"COUNTIF(L7:L22,T14)","v":1},{"$f":"U14/(W4-U9)","v":0.1},{"$f":"IF(V14=0,0,(V14*((LOG(V14))/LOG(2))))","v":-0.33219280948873625},null,{"$f":"N14","v":222},{"$f":"COUNTIF(L23:L37,Y14)","v":0},{"$f":"Z14/(AB4-Z9)","v":0},{"$f":"IF(AA14=0,0,(AA14*((LOG(AA14))/LOG(2))))","v":0},null,{"$f":"N14","v":222},{"$f":"COUNTIF(L38:L53,AD14)","v":0},{"$f":"AE14/(AG4-AE9)","v":0},{"$f":"IF(AF14=0,0,(AF14*((LOG(AF14))/LOG(2))))","v":0},null,{"$f":"N14","v":222},{"$f":"COUNTIF(L54:L68,AI14)","v":1},{"$f":"AJ14/(AL4-AJ9)","v":0.1},{"$f":"IF(AK14=0,0,(AK14*((LOG(AK14))/LOG(2))))","v":-0.33219280948873625},null,{"$f":"N14","v":222},{"$f":"COUNTIF(L69:L84,AN14)","v":0},{"$f":"AO14/(AQ4-AO9)","v":0},{"$f":"IF(AP14=0,0,(AP14*((LOG(AP14))/LOG(2))))","v":0},null,{"$f":"N14","v":222},{"$f":"COUNTIF(L85:L99,AS14)","v":0},{"$f":"AT14/(AV4-AT9)","v":0},{"$f":"IF(AU14=0,0,(AU14*((LOG(AU14))/LOG(2))))","v":0}]
[11,1325,21,1334,22,1338,null,null,null,null,0,122,null,null,null,{"$f":"SUM(P7:P14)","v":1.0000000000000002},{"$f":"-SUM(Q7:Q14)","v":2.5858753028959609},null,null,null,null,{"$f":"SUM(V7:V14)","v":1},{"$f":"-SUM(W7:W14)","v":2.4464393446710151},null,null,null,{"$f":"SUM(AA7:AA14)","v":1},{"$f":"-SUM(AB7:AB14)","v":1.8910611120726524},null,null,null,{"$f":"SUM(AF7:AF14)","v":1},{"$f":"-SUM(AG7:AG14)","v":2.1887218755408671},null,null,null,{"$f":"SUM(AK7:AK14)","v":1},{"$f":"-SUM(AL7:AL14)","v":2.3709505944546683},null,null,null,{"$f":"SUM(AP7:AP14)","v":0.99999999999999989},{"$f":"-SUM(AQ7:AQ14)","v":2.0588138903312014},null,null,null,{"$f":"SUM(AU7:AU14)","v":1},{"$f":"-SUM(AV7:AV14)","v":1.9182958340544891}]
[11,1525,21,1533,11,1544,null,null,null,null,0,121,null,null,null,"U=",{"$f":"Q15/(LOG(Q4)/LOG(2))","v":0.39544464014291097},null,null,null,null,"U1=",{"$f":"W15/(LOG(W4)/LOG(2))","v":0.61160983616775377},null,null,null,"U2=",{"$f":"AB15/(LOG(AB4)/LOG(2))","v":0.48403226704076918},null,null,null,"U3=",{"$f":"AG15/(LOG(AG4)/LOG(2))","v":0.54718046888521676},null,null,null,"U4=",{"$f":"AL15/(LOG(AL4)/LOG(2))","v":0.60686383107827468},null,null,null,"U5=",{"$f":"AQ15/(LOG(AQ4)/LOG(2))","v":0.51470347258280036},null,null,null,"U6=",{"$f":"AV15/(LOG(AV4)/LOG(2))","v":0.49100321268548458}]
[22,1745,14,1754,13,1763,null,null,null,null,0,211]
[11,1864,21,1870,11,1882,null,null,null,null,0,121]
[11,2001,21,2009,22,2013,null,null,null,null,0,122,null,"Total Target Seq"]
[11,2119,21,2126,11,2136,null,null,null,null,0,121,null,{"$f":"COUNTIF(L7:L99,G3)","v":37},null,16,15,16,15,16,15]
[11,2296,12,2321,13,2330,null,null,null,null,0,111,null,null,null,"% of reinforcement given in 6 equal intervals based on number of trials "]
[11,2431,21,2437,11,2453,null,null,null,null,0,121,null,null,null,"%_1","%_2","%_3","%_4","%_5","%_6"]
[11,2580,12,2596,24,2609,null,null,null,null,0,112,null,null,"target sequence",{"$f":"$G$3","v":121},{"$f":"$G$3","v":121},{"$f":"$G$3","v":121},{"$f":"$G$3","v":121},{"$f":"$G$3","v":121},{"$f":"$G$3","v":121}]
[22,2707,14,2727,24,2737,null,null,null,null,0,212,null,null,"total reinforcement",{"$f":"U9","v":6},{"$f":"Z9","v":6},{"$f":"AE9","v":4},{"$f":"AJ9","v":5},{"$f":"AO9","v":7},{"$f":"AT9","v":9}]
[11,2832,21,2839,22,2842,null,null,null,null,0,122,null,null,"% target"]
[11,2945,21,2953,11,2964,null,null,null,null,0,121,null,null,"CCRF"]
[11,3140,12,3154,24,3170,null,null,null,null,0,112,null,null,"% CCRf"]
[22,3276,14,3289,24,3299,null,null,null,null,0,212,null,null,"average response rate",{"$f":"F22/P20","v":153.3125},{"$f":"(F37-F22)/Q20","v":165},{"$f":"(F53-F37)/R20","v":146.4375},{"$f":"(F68-F53)/S20","v":179.8},{"$f":"(F84-F68)/T20","v":173.8125},{"$f":"(F99-F84)/U20","v":177.73333333333332}]
[11,3394,21,3401,11,3415,null,null,null,null,0,121]
[11,3557,21,3566,11,3576,null,null,null,null,0,121]
[11,3800,21,3808,11,3819,null,null,null,null,0,121]
[11,4067,21,4075,11,4084,null,null,null,null,0,121]
[11,4254,12,4273,13,4290,null,null,null,null,0,111]
[11,4390,12,4395,13,4425,null,null,null,null,0,111]
[11,4525,21,4537,11,4547,null,null,null,null,0,121]
[22,4779,14,4792,24,4802,null,null,null,null,0,212]
[11,4901,12,4917,13,4928,null,null,null,null,0,111]
[11,5030,12,5047,13,5055,null,null,null,null,0,111]
[22,5157,14,5172,13,5187,null,null,null,null,0,211]
[11,5287,21,5295,11,5306,null,null,null,null,0,121]
[22,5432,23,5437,13,5454,null,null,null,null,0,221]
[22,5569,23,5572,13,5583,null,null,null,null,0,221]
[11,5686,21,5694,11,5708,null,null,null,null,0,121]
[22,5923,14,5936,24,5946,null,null,null,null,0,212]
[11,6046,21,6053,11,6065,null,null,null,null,0,121]
[11,6230,12,6238,13,6256,null,null,null,null,0,111]
[11,6356,12,6377,13,6395,null,null,null,null,0,111]
[22,6503,14,6517,13,6533,null,null,null,null,0,211]
[22,6648,14,6662,13,6677,null,null,null,null,0,211]
[11,6779,12,6789,24,6795,null,null,null,null,0,112]
[11,6901,21,6906,11,6923,null,null,null,null,0,121]
[11,7081,12,7097,24,7114,null,null,null,null,0,112]
[11,7254,12,7263,13,7271,null,null,null,null,0,111]
[22,7382,14,7395,24,7405,null,null,null,null,0,212]
[22,7511,14,7525,24,7535,null,null,null,null,0,212]
[11,7642,21,7650,11,7680,null,null,null,null,0,121]
[11,7918,12,7933,24,7943,null,null,null,null,0,112]
[11,8044,21,8052,11,8068,null,null,null,null,0,121]
[22,8311,23,8315,13,8331,null,null,null,null,0,221]
[11,8434,21,8440,11,8450,null,null,null,null,0,121]
[22,8738,23,8760,24,8766,null,null,null,null,0,222]
[11,8883,12,8904,24,8919,null,null,null,null,0,112]
[11,9049,12,9066,24,9077,null,null,null,null,0,112]
[22,9188,14,9204,24,9214,null,null,null,null,0,212]
[22,9394,14,9411,13,9434,null,null,null,null,0,211]
[11,9536,12,9564,13,9581,null,null,null,null,0,111]
[11,9682,21,9689,11,9706,null,null,null,null,0,121]
[11,9942,21,9950,11,9968,null,null,null,null,0,121]
[11,10181,21,10198,11,10211,null,null,null,null,0,121]
[11,10416,12,10440,13,10451,null,null,null,null,0,111]
[22,10549,23,10558,13,10577,null,null,null,null,0,221]
[11,10685,21,10692,22,10700,null,null,null,null,0,122]
[22,10864,23,10871,13,10884,null,null,null,null,0,221]
[11,10986,21,10994,22,10999,null,null,null,null,0,122]
[11,11109,21,11117,11,11129,null,null,null,null,0,121]
[11,11322,21,11330,22,11336,null,null,null,null,0,122]
[11,11439,21,11453,11,11470,null,null,null,null,0,121]
[11,11610,12,11636,24,11654,null,null,null,null,0,112]
[22,11762,14,11773,13,11789,null,null,null,null,0,211]
[11,11894,21,11903,22,11910,null,null,null,null,0,122]
[11,12014,21,12023,11,12041,null,null,null,null,0,121]
[11,12175,21,12183,11,12198,null,null,null,null,0,121]
[11,12452,21,12462,11,12474,null,null,null,null,0,121]
[11,12722,21,12731,11,12749,null,null,null,null,0,121]
[11,12942,12,12960,24,12977,null,null,null,null,0,112]
[11,13079,21,13085,11,13112,null,null,null,null,0,121]
[22,13302,14,13316,13,13349,null,null,null,null,0,211]
[22,13456,23,13462,13,13479,null,null,null,null,0,221]
[11,13578,21,13586,11,13595,null,null,null,null,0,121]
[11,13756,21,13764,11,13780,null,null,null,null,0,121]
[11,13937,21,13947,11,13962,null,null,null,null,0,121]
[11,14193,21,14202,11,14214,null,null,null,null,0,121]
[11,14396,12,14405,13,14421,null,null,null,null,0,111]
[22,14522,23,14531,13,14554,null,null,null,null,0,221]
[11,14657,21,14662,11,14677,null,null,null,null,0,121]
[11,14849,12,14868,24,14887,null,null,null,null,0,112]
[11,14984,21,14992,11,15008,null,null,null,null,0,121]
[11,15193,21,15211,11,15222,null,null,null,null,0,121]
[11,15387,21,15395,11,15415,null,null,null,null,1,121]

{"sheet":"!M307B0D.UST","index":20,"n_rows":101,"n_cols":48,"rows_kept":101,"cut":false,"hidden":false,"merged":[[4,39,4,42],[5,39,5,40],[4,44,4,47],[5,44,5,45],[4,24,4,27],[5,24,5,25],[4,29,4,32],[5,29,5,30],[4,34,4,37],[5,34,5,35],[1,1,1,2],[5,13,5,14],[18,13,18,14],[19,13,19,14],[4,19,4,22],[5,19,5,20]]}
["Report for:!M307B0D.UST"]
["Date:","<date>"]
["Hen:","<hen>",null,null,null,"Correct Sequence",{"$f":"Start!J2","v":121},null,null,null,null,null,null,null,null,"Total Sequences in Data",{"$f":"4994-COUNTBLANK(L7:L5000)","v":95},null,null,null,null,"Total Sequences in Block Data",{"$f":"COUNTA(L7:L22)","v":16},null,null,null,"Total Sequences in Block Data",{"$f":"COUNTA(L23:L38)","v":16},null,null,null,"Total Sequences in Block Data",{"$f":"COUNTA(L39:L53)","v":15},null,null,null,"Total Sequences in Block Data",{"$f":"COUNTA(L54:L69)","v":16},null,null,null,"Total Sequences in Block Data",{"$f":"COUNTA(L70:L85)","v":16},null,null,null,"Total Sequences in Block Data",{"$f":"COUNTA(L86:L101)","v":16}]
[null,null,null,null,null,null,null,null,null,null,null,null,null,null,null,"Total Sequences in Summary",{"$f":"SUM(O7:O14)","v":95},null,null,null,null,"Total Sequences in Block Summary",{"$f":"SUM(U7:U14)","v":16},null,null,null,"Total Sequences in Block Summary",{"$f":"SUM(Z7:Z14)","v":16},null,null,null,"Total Sequences in Block Summary",{"$f":"SUM(AE7:AE14)","v":15},null,null,null,"Total Sequences in Block Summary",{"$f":"SUM(AJ7:AJ14)","v":16},null,null,null,"Total Sequences in Block Summary",{"$f":"SUM(AO7:AO14)","v":16},null,null,null,"Total Sequences in Block Summary",{"$f":"SUM(AT7:AT14)","v":16}]
[null,null,null,null,null,null,null,null,null,null,null,null,null,null,null,null,null,null,null,"Block 1",null,null,null,null,"Block 2",null,null,null,null,"Block 3",null,null,null,null,"Block 4",null,null,null,null,"Block 5",null,null,null,null,"Block 6"]
["Sequence\nComponent\n1","Time\n1","Sequence\nComponent\n2","Time\n2","Sequence\nComponent\n3","Time\n3","Sequence\nComponent\n4","Time\n4","Sequence\nComponent\n5","Time\n5","Correct?\n0=No 1=Yes","Sequence",null,"Frequency",null,"Relative Frequency","Variability",null,null,"Frequency",null,"Relative Frequency","Variability",null,"Frequency",null,"Relative Frequency","Variability",null,"Frequency",null,"Relative Frequency","Variability",null,"Frequency",null,"Relative Frequency","Variability",null,"Frequency",null,"Relative Frequency","Variability",null,"Frequency",null,"Relative Frequency","Variability"]
[11,115,12,124,13,131,null,null,null,null,0,111,null,111,{"$f":"COUNTIF($L$7:$L$500,N7)","v":19},{"$f":"O7/$Q$4","v":0.2},{"$f":"IF(P7=0,0,(P7*((LOG(P7))/LOG(2))))","v":-0.46438561897747244},null,null,{"$f":"N7","v":111},{"$f":"COUNTIF(L7:L22,T7)","v":3},{"$f":"U7/(W4-U9)","v":0.33333333333333331},{"$f":"IF(V7=0,0,(V7*((LOG(V7))/LOG(2))))","v":-0.52832083357371862},null,{"$f":"N7","v":111},{"$f":"COUNTIF(L23:L38,Y7)","v":1},{"$f":"Z7/(AB4-Z9)","v":8.3333333333333329E-2},{"$f":"IF(AA7=0,0,(AA7*((LOG(AA7))/LOG(2))))","v":-0.29874687506009634},null,{"$f":"N7","v":111},{"$f":"COUNTIF(L39:L53,AD7)","v":3},{"$f":"AE7/(AG4-AE9)","v":0.3},{"$f":"IF(AF7=0,0,(AF7*((LOG(AF7))/LOG(2))))","v":-0.52108967824986185},null,{"$f":"N7","v":111},{"$f":"COUNTIF(L54:L69,AI7)","v":4},{"$f":"AJ7/(AL4-AJ9)","v":0.44444444444444442},{"$f":"IF(AK7=0,0,(AK7*((LOG(AK7))/LOG(2))))","v":-0.51996666730769447},null,{"$f":"N7","v":111},{"$f":"COUNTIF(L70:L85,AN7)","v":5},{"$f":"AO7/(AQ4-AO9)","v":0.41666666666666669},{"$f":"IF(AP7=0,0,(AP7*((LOG(AP7))/LOG(2))))","v":-0.52626433576408083},null,{"$f":"N7","v":111},{"$f":"COUNTIF(L86:L101,AS7)","v":3},{"$f":"AT7/(AV4-AT9)","v":0.375},{"$f":"IF(AU7=0,0,(AU7*((LOG(AU7))/LOG(2))))","v":-0.53063906222956647}]
[11,232,21,239,11,252,null,null,null,null,0,121,null,112,{"$f":"COUNTIF($L$7:$L$500,N8)","v":3},{"$f":"O8/$Q$4","v":3.1578947368421054E-2},{"$f":"IF(P8=0,0,(P8*((LOG(P8))/LOG(2))))","v":-0.15741767708241444},null,null,{"$f":"N8","v":112},{"$f":"COUNTIF(L7:L22,T8)","v":0},{"$f":"U8/(W4-U9)","v":0},{"$f":"IF(V8=0,0,(V8*((LOG(V8))/LOG(2))))","v":0},null,{"$f":"N8","v":112},{"$f":"COUNTIF(L23:L38,Y8)","v":1},{"$f":"Z8/(AB4-Z9)","v":8.3333333333333329E-2},{"$f":"IF(AA8=0,0,(AA8*((LOG(AA8))/LOG(2))))","v":-0.29874687506009634},null,{"$f":"N8","v":112},{"$f":"COUNTIF(L39:L53,AD8)","v":0},{"$f":"AE8/(AG4-AE9)","v":0},{"$f":"IF(AF8=0,0,(AF8*((LOG(AF8))/LOG(2))))","v":0},null,{"$f":"N8","v":112},{"$f":"COUNTIF(L54:L69,AI8)","v":1},{"$f":"AJ8/(AL4-AJ9)","v":0.1111111111111111},{"$f":"IF(AK8=0,0,(AK8*((LOG(AK8))/LOG(2))))","v":-0.3522138890491458},null,{"$f":"N8","v":112},{"$f":"COUNTIF(L70:L85,AN8)","v":1},{"$f":"AO8/(AQ4-AO9)","v":8.3333333333333329E-2},{"$f":"IF(AP8=0,0,(AP8*((LOG(AP8))/LOG(2))))","v":-0.29874687506009634},null,{"$f":"N8","v":112},{"$f":"COUNTIF(L86:L101,AS8)","v":0},{"$f":"AT8/(AV4-AT9)","v":0},{"$f":"IF(AU8=0,0,(AU8*((LOG(AU8))/LOG(2))))","v":0}]
[11,385,21,393,11,405,null,null,null,null,0,121,null,121,{"$f":"COUNTIF($L$7:$L$500,N9)","v":35},{"$f":"O9/$Q$4","v":0.36842105263157893},{"$f":"IF(P9=0,0,(P9*((LOG(P9))/LOG(2))))","v":-0.53073727051062469},null,null,{"$f":"N9","v":121},{"$f":"COUNTIF(L7:L22,T9)","v":7},null,null,null,{"$f":"N9","v":121},{"$f":"COUNTIF(L23:L38,Y9)","v":4},null,null,null,{"$f":"N9","v":121},{"$f":"COUNTIF(L39:L53,AD9)","v":5},null,null,null,{"$f":"N9","v":121},{"$f":"COUNTIF(L54:L69,AI9)","v":7},null,null,null,{"$f":"N9","v":121},{"$f":"COUNTIF(L70:L85,AN9)","v":4},null,null,null,{"$f":"N9","v":121},{"$f":"COUNTIF(L86:L101,AS9)","v":8}]
[11,610,12,616,13,649,null,null,null,null,0,111,null,122,{"$f":"COUNTIF($L$7:$L$500,N10)","v":11},{"$f":"O10/$Q$4","v":0.11578947368421053},{"$f":"IF(P10=0,0,(P10*((LOG(P10))/LOG(2))))","v":-0.36015435670137008},null,null,{"$f":"N10","v":122},{"$f":"COUNTIF(L7:L22,T10)","v":2},{"$f":"U10/(W4-U9)","v":0.22222222222222221},{"$f":"IF(V10=0,0,(V10*((LOG(V10))/LOG(2))))","v":-0.48220555587606945},null,{"$f":"N10","v":122},{"$f":"COUNTIF(L23:L38,Y10)","v":4},{"$f":"Z10/(AB4-Z9)","v":0.33333333333333331},{"$f":"IF(AA10=0,0,(AA10*((LOG(AA10))/LOG(2))))","v":-0.52832083357371862},null,{"$f":"N10","v":122},{"$f":"COUNTIF(L39:L53,AD10)","v":1},{"$f":"AE10/(AG4-AE9)","v":0.1},{"$f":"IF(AF10=0,0,(AF10*((LOG(AF10))/LOG(2))))","v":-0.33219280948873625},null,{"$f":"N10","v":122},{"$f":"COUNTIF(L54:L69,AI10)","v":3},{"$f":"AJ10/(AL4-AJ9)","v":0.33333333333333331},{"$f":"IF(AK10=0,0,(AK10*((LOG(AK10))/LOG(2))))","v":-0.52832083357371862},null,{"$f":"N10","v":122},{"$f":"COUNTIF(L70:L85,AN10)","v":1},{"$f":"AO10/(AQ4-AO9)","v":8.3333333333333329E-2},{"$f":"IF(AP10=0,0,(AP10*((LOG(AP10))/LOG(2))))","v":-0.29874687506009634},null,{"$f":"N10","v":122},{"$f":"COUNTIF(L86:L101,AS10)","v":0},{"$f":"AT10/(AV4-AT9)","v":0},{"$f":"IF(AU10=0,0,(AU10*((LOG(AU10))/LOG(2))))","v":0}]
[11,764,21,772,22,777,null,null,null,null,0,122,null,211,{"$f":"COUNTIF($L$7:$L$500,N11)","v":10},{"$f":"O11/$Q$4","v":0.10526315789473684},{"$f":"IF(P11=0,0,(P11*((LOG(P11))/LOG(2))))","v":-0.34188710667827216},null,null,{"$f":"N11","v":211},{"$f":"COUNTIF(L7:L22,T11)","v":2},{"$f":"U11/(W4-U9)","v":0.22222222222222221},{"$f":"IF(V11=0,0,(V11*((LOG(V11))/LOG(2))))","v":-0.48220555587606945},null,{"$f":"N11","v":211},{"$f":"COUNTIF(L23:L38,Y11)","v":1},{"$f":"Z11/(AB4-Z9)","v":8.3333333333333329E-2},{"$f":"IF(AA11=0,0,(AA11*((LOG(AA11))/LOG(2))))","v":-0.29874687506009634},null,{"$f":"N11","v":211},{"$f":"COUNTIF(L39:L53,AD11)","v":4},{"$f":"AE11/(AG4-AE9)","v":0.4},{"$f":"IF(AF11=0,0,(AF11*((LOG(AF11))/LOG(2))))","v":-0.52877123795494496},null,{"$f":"N11","v":211},{"$f":"COUNTIF(L54:L69,AI11)","v":1},{"$f":"AJ11/(AL4-AJ9)","v":0.1111111111111111},{"$f":"IF(AK11=0,0,(AK11*((LOG(AK11))/LOG(2))))","v":-0.3522138890491458},null,{"$f":"N11","v":211},{"$f":"COUNTIF(L70:L85,AN11)","v":1},{"$f":"AO11/(AQ4-AO9)","v":8.3333333333333329E-2},{"$f":"IF(AP11=0,0,(AP11*((LOG(AP11))/LOG(2))))","v":-0.29874687506009634},null,{"$f":"N11","v":211},{"$f":"COUNTIF(L86:L101,AS11)","v":1},{"$f":"AT11/(AV4-AT9)","v":0.125},{"$f":"IF(AU11=0,0,(AU11*((LOG(AU11))/LOG(2))))","v":-0.375}]
[22,984,14,998,24,1015,null,null,null,null,0,212,null,212,{"$f":"COUNTIF($L$7:$L$500,N12)","v":3},{"$f":"O12/$Q$4","v":3.1578947368421054E-2},{"$f":"IF(P12=0,0,(P12*((LOG(P12))/LOG(2))))","v":-0.15741767708241444},null,null,{"$f":"N12","v":212},{"$f":"COUNTIF(L7:L22,T12)","v":1},{"$f":"U12/(W4-U9)","v":0.1111111111111111},{"$f":"IF(V12=0,0,(V12*((LOG(V12))/LOG(2))))","v":-0.3522138890491458},null,{"$f":"N12","v":212},{"$f":"COUNTIF(L23:L38,Y12)","v":0},{"$f":"Z12/(AB4-Z9)","v":0},{"$f":"IF(AA12=0,0,(AA12*((LOG(AA12))/LOG(2))))","v":0},null,{"$f":"N12","v":212},{"$f":"COUNTIF(L39:L53,AD12)","v":1},{"$f":"AE12/(AG4-AE9)","v":0.1},{"$f":"IF(AF12=0,0,(AF12*((LOG(AF12))/LOG(2))))","v":-0.33219280948873625},null,{"$f":"N12","v":212},{"$f":"COUNTIF(L54:L69,AI12)","v":0},{"$f":"AJ12/(AL4-AJ9)","v":0},{"$f":"IF(AK12=0,0,(AK12*((LOG(AK12))/LOG(2))))","v":0},null,{"$f":"N12","v":212},{"$f":"COUNTIF(L70:L85,AN12)","v":0},{"$f":"AO12/(AQ4-AO9)","v":0},{"$f":"IF(AP12=0,0,(AP12*((LOG(AP12))/LOG(2))))","v":0},null,{"$f":"N12","v":212},{"$f":"COUNTIF(L86:L101,AS12)","v":1},{"$f":"AT12/(AV4-AT9)","v":0.125},{"$f":"IF(AU12=0,0,(AU12*((LOG(AU12))/LOG(2))))","v":-0.375}]
[11,1114,21,1123,11,1154,null,null,null,null,0,121,null,221,{"$f":"COUNTIF($L$7:$L$500,N13)","v":11},{"$f":"O13/$Q$4","v":0.11578947368421053},{"$f":"IF(P13=0,0,(P13*((LOG(P13))/LOG(2))))","v":-0.36015435670137008},null,null,{"$f":"N13","v":221},{"$f":"COUNTIF(L7:L22,T13)","v":1},{"$f":"U13/(W4-U9)","v":0.1111111111111111},{"$f":"IF(V13=0,0,(V13*((LOG(V13))/LOG(2))))","v":-0.3522138890491458},null,{"$f":"N13","v":221},{"$f":"COUNTIF(L23:L38,Y13)","v":4},{"$f":"Z13/(AB4-Z9)","v":0.33333333333333331},{"$f":"IF(AA13=0,0,(AA13*((LOG(AA13))/LOG(2))))","v":-0.52832083357371862},null,{"$f":"N13","v":221},{"$f":"COUNTIF(L39:L53,AD13)","v":1},{"$f":"AE13/(AG4-AE9)","v":0.1},{"$f":"IF(AF13=0,0,(AF13*((LOG(AF13))/LOG(2))))","v":-0.33219280948873625},null,{"$f":"N13","v":221},{"$f":"COUNTIF(L54:L69,AI13)","v":0},{"$f":"AJ13/(AL4-AJ9)","v":0},{"$f":"IF(AK13=0,0,(AK13*((LOG(AK13))/LOG(2))))","v":0},null,{"$f":"N13","v":221},{"$f":"COUNTIF(L70:L85,AN13)","v":3},{"$f":"AO13/(AQ4-AO9)","v":0.25},{"$f":"IF(AP13=0,0,(AP13*((LOG(AP13))/LOG(2))))","v":-0.5},null,{"$f":"N13","v":221},{"$f":"COUNTIF(L86:L101,AS13)","v":2},{"$f":"AT13/(AV4-AT9)","v":0.25},{"$f":"IF(AU13=0,0,(AU13*((LOG(AU13))/LOG(2))))","v":-0.5}]
[11,1269,21,1278,22,1287,null,null,null,null,0,122,null,222,{"$f":"COUNTIF($L$7:$L$500,N14)","v":3},{"$f":"O14/$Q$4","v":3.1578947368421054E-2},{"$f":"IF(P14=0,0,(P14*((LOG(P14))/LOG(2))))","v":-0.15741767708241444},null,null,{"$f":"N14","v":222},{"$f":"COUNTIF(L7:L22,T14)","v":0},{"$f":"U14/(W4-U9)","v":0},{"$f":"IF(V14=0,0,(V14*((LOG(V14))/LOG(2))))","v":0},null,{"$f":"N14","v":222},{"$f":"COUNTIF(L23:L38,Y14)","v":1},{"$f":"Z14/(AB4-Z9)","v":8.3333333333333329E-2},{"$f":"IF(AA14=0,0,(AA14*((LOG(AA14))/LOG(2))))","v":-0.29874687506009634},null,{"$f":"N14","v":222},{"$f":"COUNTIF(L39:L53,AD14)","v":0},{"$f":"AE14/(AG4-AE9)","v":0},{"$f":"IF(AF14=0,0,(AF14*((LOG(AF14))/LOG(2))))","v":0},null,{"$f":"N14","v":222},{"$f":"COUNTIF(L54:L69,AI14)","v":0},{"$f":"AJ14/(AL4-AJ9)","v":0},{"$f":"IF(AK14=0,0,(AK14*((LOG(AK14))/LOG(2))))","v":0},null,{"$f":"N14","v":222},{"$f":"COUNTIF(L70:L85,AN14)","v":1},{"$f":"AO14/(AQ4-AO9)","v":8.3333333333333329E-2},{"$f":"IF(AP14=0,0,(AP14*((LOG(AP14))/LOG(2))))","v":-0.29874687506009634},null,{"$f":"N14","v":222},{"$f":"COUNTIF(L86:L101,AS14)","v":1},{"$f":"AT14/(AV4-AT9)","v":0.125},{"$f":"IF(AU14=0,0,(AU14*((LOG(AU14))/LOG(2))))","v":-0.375}]
[11,1384,12,1397,13,1404,null,null,null,null,0,111,null,null,null,{"$f":"SUM(P7:P14)","v":1},{"$f":"-SUM(Q7:Q14)","v":2.5295717408163525},null,null,null,null,{"$f":"SUM(V7:V14)","v":1},{"$f":"-SUM(W7:W14)","v":2.1971597234241491},null,null,null,{"$f":"SUM(AA7:AA14)","v":1},{"$f":"-SUM(AB7:AB14)","v":2.2516291673878226},null,null,null,{"$f":"SUM(AF7:AF14)","v":1},{"$f":"-SUM(AG7:AG14)","v":2.0464393446710156},null,null,null,{"$f":"SUM(AK7:AK14)","v":1},{"$f":"-SUM(AL7:AL14)","v":1.7527152789797047},null,null,null,{"$f":"SUM(AP7:AP14)","v":1},{"$f":"-SUM(AQ7:AQ14)","v":2.2212518360044662},null,null,null,{"$f":"SUM(AU7:AU14)","v":1},{"$f":"-SUM(AV7:AV14)","v":2.1556390622295662}]
[11,1503,21,1512,11,1522,null,null,null,null,0,121,null,null,null,"U=",{"$f":"Q15/(LOG(Q4)/LOG(2))","v":0.38502699170567961},null,null,null,null,"U1=",{"$f":"W15/(LOG(W4)/LOG(2))","v":0.54928993085603728},null,null,null,"U2=",{"$f":"AB15/(LOG(AB4)/LOG(2))","v":0.56290729184695565},null,null,null,"U3=",{"$f":"AG15/(LOG(AG4)/LOG(2))","v":0.52380257255508633},null,null,null,"U4=",{"$f":"AL15/(LOG(AL4)/LOG(2))","v":0.43817881974492617},null,null,null,"U5=",{"$f":"AQ15/(LOG(AQ4)/LOG(2))","v":0.55531295900111655},null,null,null,"U6=",{"$f":"AV15/(LOG(AV4)/LOG(2))","v":0.53890976555739156}]
[22,1670,23,1675,13,1686,null,null,null,null,0,221]
[22,1784,14,1804,13,1819,null,null,null,null,0,211]
[11,1925,21,1934,11,1948,null,null,null,null,0,121,null,"Total Target Seq"]
[22,2124,14,2139,13,2163,null,null,null,null,0,211,null,{"$f":"COUNTIF(L7:L101,G3)","v":35},null,16,16,15,16,16,16]
[11,2264,21,2273,11,2283,null,null,null,null,0,121,null,null,null,"% of reinforcement given in 6 equal intervals based on number of trials "]
[11,2447,21,2456,11,2468,null,null,null,null,0,121,null,null,null,"%_1","%_2","%_3","%_4","%_5","%_6"]
[22,2623,23,2631,13,2643,null,null,null,null,0,221,null,null,"target sequence",{"$f":"$G$3","v":121},{"$f":"$G$3","v":121},{"$f":"$G$3","v":121},{"$f":"$G$3","v":121},{"$f":"$G$3","v":121},{"$f":"$G$3","v":121}]
[11,2750,21,2757,11,2773,null,null,null,null,0,121,null,null,"total reinforcement",{"$f":"U9","v":7},{"$f":"Z9","v":4},{"$f":"AE9","v":5},{"$f":"AJ9","v":7},{"$f":"AO9","v":4},{"$f":"AT9","v":8}]
[22,3002,14,3012,13,3034,null,null,null,null,0,211,null,null,"% target"]
[11,3134,21,3147,22,3152,null,null,null,null,0,122,null,null,"CCRF"]
[11,3271,21,3284,11,3307,null,null,null,null,0,121,null,null,"% CCRf"]
[11,3470,12,3487,24,3499,null,null,null,null,0,112,null,null,"average response rate",{"$f":"F22/P20","v":154.25},{"$f":"(F38-F22)/Q20","v":153.75},{"$f":"(F53-F38)/R20","v":156.26666666666668},{"$f":"(F69-F53)/S20","v":165.375},{"$f":"(F85-F69)/T20","v":155.25},{"$f":"(F101-F85)/U20","v":213.0625}]
[11,3597,21,3611,22,3617,null,null,null,null,0,122]
[22,3714,23,3722,24,3728,null,null,null,null,0,222]
[22,3898,23,3904,13,3914,null,null,null,null,0,221]
[11,4028,21,4036,22,4041,null,null,null,null,0,122]
[11,4140,21,4146,11,4163,null,null,null,null,0,121]
[22,4342,23,4346,13,4365,null,null,null,null,0,221]
[22,4465,23,4471,13,4490,null,null,null,null,0,221]
[11,4597,21,4604,11,4615,null,null,null,null,0,121]
[11,4787,12,4793,13,4809,null,null,null,null,0,111]
[11,4910,21,4924,22,4928,null,null,null,null,0,122]
[22,5040,14,5051,13,5072,null,null,null,null,0,211]
[11,5177,21,5184,11,5200,null,null,null,null,0,121]
[11,5406,21,5417,11,5435,null,null,null,null,0,121]
[11,5626,21,5639,22,5666,null,null,null,null,0,122]
[11,5770,21,5776,11,5790,null,null,null,null,0,121]
[11,5969,12,5992,13,6000,null,null,null,null,0,111]
[11,6104,12,6127,13,6144,null,null,null,null,0,111]
[22,6259,14,6285,13,6306,null,null,null,null,0,211]
[22,6403,23,6408,13,6423,null,null,null,null,0,221]
[22,6543,14,6557,13,6577,null,null,null,null,0,211]
[22,6685,14,6695,13,6702,null,null,null,null,0,211]
[11,6803,21,6812,11,6830,null,null,null,null,0,121]
[11,6959,21,6968,11,6977,null,null,null,null,0,121]
[11,7106,12,7117,13,7134,null,null,null,null,0,111]
[22,7244,14,7261,24,7272,null,null,null,null,0,212]
[11,7388,21,7396,22,7400,null,null,null,null,0,122]
[11,7502,21,7511,11,7537,null,null,null,null,0,121]
[22,7666,14,7682,13,7706,null,null,null,null,0,211]
[11,7809,21,7819,11,7840,null,null,null,null,0,121]
[11,8067,12,8094,13,8111,null,null,null,null,0,111]
[11,8237,12,8254,13,8270,null,null,null,null,0,111]
[11,8373,12,8395,13,8402,null,null,null,null,0,111]
[11,8513,12,8530,13,8539,null,null,null,null,0,111]
[11,8641,21,8652,11,8663,null,null,null,null,0,121]
[11,8852,21,8864,11,8874,null,null,null,null,0,121]
[11,9062,21,9073,22,9076,null,null,null,null,0,122]
[11,9182,21,9188,11,9214,null,null,null,null,0,121]
[11,9385,21,9395,11,9407,null,null,null,null,0,121]
[11,9558,21,9570,22,9574,null,null,null,null,0,122]
[11,9686,21,9695,11,9715,null,null,null,null,0,121]
[11,9889,12,9905,24,9918,null,null,null,null,0,112]
[11,10016,21,10023,22,10025,null,null,null,null,0,122]
[22,10117,23,10125,13,10147,null,null,null,null,0,221]
[22,10241,23,10248,13,10265,null,null,null,null,0,221]
[22,10362,23,10374,13,10391,null,null,null,null,0,221]
[22,10502,14,10519,13,10537,null,null,null,null,0,211]
[11,10639,21,10648,11,10660,null,null,null,null,0,121]
[11,10889,21,10902,11,10935,null,null,null,null,0,121]
[11,11102,21,11114,11,11124,null,null,null,null,0,121]
[11,11263,12,11284,13,11310,null,null,null,null,0,111]
[11,11435,12,11456,24,11468,null,null,null,null,0,112]
[11,11572,12,11591,13,11609,null,null,null,null,0,111]
[11,11737,12,11757,13,11766,null,null,null,null,0,111]
[11,11879,12,11900,13,11911,null,null,null,null,0,111]
[11,12014,12,12031,13,12039,null,null,null,null,0,111]
[22,12143,23,12147,24,12157,null,null,null,null,0,222]
[11,12373,21,12386,11,12402,null,null,null,null,0,121]
[11,12618,21,12627,11,12655,null,null,null,null,0,121]
[11,12841,21,12852,11,12861,null,null,null,null,0,121]
[22,13145,14,13161,13,13178,null,null,null,null,0,211]
[22,13280,23,13291,13,13307,null,null,null,null,0,221]
[11,13500,21,13511,11,13533,null,null,null,null,0,121]
[11,13805,12,13825,13,13837,null,null,null,null,0,111]
[11,13947,12,13967,13,13988,null,null,null,null,0,111]
[11,14091,21,14098,11,14109,null,null,null,null,0,121]
[11,14379,12,14395,13,14419,null,null,null,null,0,111]
[11,14523,21,14533,11,14551,null,null,null,null,0,121]
[22,14829,14,14843,24,14854,null,null,null,null,0,212]
[22,14948,23,14956,24,14963,null,null,null,null,0,222]
[22,15132,23,15137,13,15155,null,null,null,null,0,221]
[11,15269,21,15278,11,15307,null,null,null,null,0,121]
[11,15441,21,15453,11,15463,null,null,null,null,0,121]
[11,15791,21,15802,11,15811,null,null,null,null,1,121]

{"sheet":"!M308A2D.UST","index":21,"n_rows":113,"n_cols":48,"rows_kept":113,"cut":false,"hidden":false,"merged":[[4,39,4,42],[5,39,5,40],[4,44,4,47],[5,44,5,45],[4,24,4,27],[5,24,5,25],[4,29,4,32],[5,29,5,30],[4,34,4,37],[5,34,5,35],[1,1,1,2],[5,13,5,14],[18,13,18,14],[19,13,19,14],[4,19,4,22],[5,19,5,20]]}
["Report for:!M308A2D.UST"]
["Date:","<date>"]
["Hen:","<hen>",null,null,null,"Correct Sequence",{"$f":"Start!J2","v":121},null,null,null,null,null,null,null,null,"Total Sequences in Data",{"$f":"4994-COUNTBLANK(L7:L5000)","v":107},null,null,null,null,"Total Sequences in Block Data",{"$f":"COUNTA(L7:L24)","v":18},null,null,null,"Total Sequences in Block Data",{"$f":"COUNTA(L25:L42)","v":18},null,null,null,"Total Sequences in Block Data",{"$f":"COUNTA(L43:L59)","v":17},null,null,null,"Total Sequences in Block Data",{"$f":"COUNTA(L60:L77)","v":18},null,null,null,"Total Sequences in Block Data",{"$f":"COUNTA(L78:L95)","v":18},null,null,null,"Total Sequences in Block Data",{"$f":"COUNTA(L96:L113)","v":18}]
[null,null,null,null,null,null,null,null,null,null,null,null,null,null,null,"Total Sequences in Summary",{"$f":"SUM(O7:O14)","v":107},null,null,null,null,"Total Sequences in Block Summary",{"$f":"SUM(U7:U14)","v":18},null,null,null,"Total Sequences in Block Summary",{"$f":"SUM(Z7:Z14)","v":18},null,null,null,"Total Sequences in Block Summary",{"$f":"SUM(AE7:AE14)","v":17},null,null,null,"Total Sequences in Block Summary",{"$f":"SUM(AJ7:AJ14)","v":18},null,null,null,"Total Sequences in Block Summary",{"$f":"SUM(AO7:AO14)","v":18},null,null,null,"Total Sequences in Block Summary",{"$f":"SUM(AT7:AT14)","v":18}]
[null,null,null,null,null,null,null,null,null,null,null,null,null,null,null,null,null,null,null,"Block 1",null,null,null,null,"Block 2",null,null,null,null,"Block 3",null,null,null,null,"Block 4",null,null,null,null,"Block 5",null,null,null,null,"Block 6"]
["Sequence\nComponent\n1","Time\n1","Sequence\nComponent\n2","Time\n2","Sequence\nComponent\n3","Time\n3","Sequence\nComponent\n4","Time\n4","Sequence\nComponent\n5","Time\n5","Correct?\n0=No 1=Yes","Sequence",null,"Frequency",null,"Relative Frequency","Variability",null,null,"Frequency",null,"Relative Frequency","Variability",null,"Frequency",null,"Relative Frequency","Variability",null,"Frequency",null,"Relative Frequency","Variability",null,"Frequency",null,"Relative Frequency","Variability",null,"Frequency",null,"Relative Frequency","Variability",null,"Frequency",null,"Relative Frequency","Variability"]
[11,13,12,18,24,32,null,null,null,null,0,112,null,111,{"$f":"COUNTIF($L$7:$L$500,N7)","v":19},{"$f":"O7/$Q$4","v":0.17757009345794392},{"$f":"IF(P7=0,0,(P7*((LOG(P7))/LOG(2))))","v":-0.44277803725414644},null,null,{"$f":"N7","v":111},{"$f":"COUNTIF(L7:L24,T7)","v":4},{"$f":"U7/(W4-U9)","v":0.33333333333333331},{"$f":"IF(V7=0,0,(V7*((LOG(V7))/LOG(2))))","v":-0.52832083357371862},null,{"$f":"N7","v":111},{"$f":"COUNTIF(L25:L42,Y7)","v":2},{"$f":"Z7/(AB4-Z9)","v":0.16666666666666666},{"$f":"IF(AA7=0,0,(AA7*((LOG(AA7))/LOG(2))))","v":-0.43082708345352599},null,{"$f":"N7","v":111},{"$f":"COUNTIF(L43:L59,AD7)","v":1},{"$f":"AE7/(AG4-AE9)","v":7.6923076923076927E-2},{"$f":"IF(AF7=0,0,(AF7*((LOG(AF7))/LOG(2))))","v":-0.28464920908777636},null,{"$f":"N7","v":111},{"$f":"COUNTIF(L60:L77,AI7)","v":2},{"$f":"AJ7/(AL4-AJ9)","v":0.15384615384615385},{"$f":"IF(AK7=0,0,(AK7*((LOG(AK7))/LOG(2))))","v":-0.4154522643293988},null,{"$f":"N7","v":111},{"$f":"COUNTIF(L78:L95,AN7)","v":6},{"$f":"AO7/(AQ4-AO9)","v":0.54545454545454541},{"$f":"IF(AP7=0,0,(AP7*((LOG(AP7))/LOG(2))))","v":-0.47698315522698609},null,{"$f":"N7","v":111},{"$f":"COUNTIF(L96:L113,AS7)","v":4},{"$f":"AT7/(AV4-AT9)","v":0.2857142857142857},{"$f":"IF(AU7=0,0,(AU7*((LOG(AU7))/LOG(2))))","v":-0.51638712058788683}]
[11,280,12,286,13,292,null,null,null,null,0,111,null,112,{"$f":"COUNTIF($L$7:$L$500,N8)","v":7},{"$f":"O8/$Q$4","v":6.5420560747663545E-2},{"$f":"IF(P8=0,0,(P8*((LOG(P8))/LOG(2))))","v":-0.25737181729350278},null,null,{"$f":"N8","v":112},{"$f":"COUNTIF(L7:L24,T8)","v":1},{"$f":"U8/(W4-U9)","v":8.3333333333333329E-2},{"$f":"IF(V8=0,0,(V8*((LOG(V8))/LOG(2))))","v":-0.29874687506009634},null,{"$f":"N8","v":112},{"$f":"COUNTIF(L25:L42,Y8)","v":1},{"$f":"Z8/(AB4-Z9)","v":8.3333333333333329E-2},{"$f":"IF(AA8=0,0,(AA8*((LOG(AA8))/LOG(2))))","v":-0.29874687506009634},null,{"$f":"N8","v":112},{"$f":"COUNTIF(L43:L59,AD8)","v":0},{"$f":"AE8/(AG4-AE9)","v":0},{"$f":"IF(AF8=0,0,(AF8*((LOG(AF8))/LOG(2))))","v":0},null,{"$f":"N8","v":112},{"$f":"COUNTIF(L60:L77,AI8)","v":2},{"$f":"AJ8/(AL4-AJ9)","v":0.15384615384615385},{"$f":"IF(AK8=0,0,(AK8*((LOG(AK8))/LOG(2))))","v":-0.4154522643293988},null,{"$f":"N8","v":112},{"$f":"COUNTIF(L78:L95,AN8)","v":1},{"$f":"AO8/(AQ4-AO9)","v":9.0909090909090912E-2},{"$f":"IF(AP8=0,0,(AP8*((LOG(AP8))/LOG(2))))","v":-0.31449378351248153},null,{"$f":"N8","v":112},{"$f":"COUNTIF(L96:L113,AS8)","v":2},{"$f":"AT8/(AV4-AT9)","v":0.14285714285714285},{"$f":"IF(AU8=0,0,(AU8*((LOG(AU8))/LOG(2))))","v":-0.40105070315108626}]
[11,395,21,403,11,412,null,null,null,null,0,121,null,121,{"$f":"COUNTIF($L$7:$L$500,N9)","v":32},{"$f":"O9/$Q$4","v":0.29906542056074764},{"$f":"IF(P9=0,0,(P9*((LOG(P9))/LOG(2))))","v":-0.5208125566807168},null,null,{"$f":"N9","v":121},{"$f":"COUNTIF(L7:L24,T9)","v":6},null,null,null,{"$f":"N9","v":121},{"$f":"COUNTIF(L25:L42,Y9)","v":6},null,null,null,{"$f":"N9","v":121},{"$f":"COUNTIF(L43:L59,AD9)","v":4},null,null,null,{"$f":"N9","v":121},{"$f":"COUNTIF(L60:L77,AI9)","v":5},null,null,null,{"$f":"N9","v":121},{"$f":"COUNTIF(L78:L95,AN9)","v":7},null,null,null,{"$f":"N9","v":121},{"$f":"COUNTIF(L96:L113,AS9)","v":4}]
[11,578,21,603,22,619,null,null,null,null,0,122,null,122,{"$f":"COUNTIF($L$7:$L$500,N10)","v":18},{"$f":"O10/$Q$4","v":0.16822429906542055},{"$f":"IF(P10=0,0,(P10*((LOG(P10))/LOG(2))))","v":-0.43259584793700023},null,null,{"$f":"N10","v":122},{"$f":"COUNTIF(L7:L24,T10)","v":4},{"$f":"U10/(W4-U9)","v":0.33333333333333331},{"$f":"IF(V10=0,0,(V10*((LOG(V10))/LOG(2))))","v":-0.52832083357371862},null,{"$f":"N10","v":122},{"$f":"COUNTIF(L25:L42,Y10)","v":2},{"$f":"Z10/(AB4-Z9)","v":0.16666666666666666},{"$f":"IF(AA10=0,0,(AA10*((LOG(AA10))/LOG(2))))","v":-0.43082708345352599},null,{"$f":"N10","v":122},{"$f":"COUNTIF(L43:L59,AD10)","v":3},{"$f":"AE10/(AG4-AE9)","v":0.23076923076923078},{"$f":"IF(AF10=0,0,(AF10*((LOG(AF10))/LOG(2))))","v":-0.48818705017383146},null,{"$f":"N10","v":122},{"$f":"COUNTIF(L60:L77,AI10)","v":3},{"$f":"AJ10/(AL4-AJ9)","v":0.23076923076923078},{"$f":"IF(AK10=0,0,(AK10*((LOG(AK10))/LOG(2))))","v":-0.48818705017383146},null,{"$f":"N10","v":122},{"$f":"COUNTIF(L78:L95,AN10)","v":2},{"$f":"AO10/(AQ4-AO9)","v":0.18181818181818182},{"$f":"IF(AP10=0,0,(AP10*((LOG(AP10))/LOG(2))))","v":-0.44716938520678134},null,{"$f":"N10","v":122},{"$f":"COUNTIF(L96:L113,AS10)","v":4},{"$f":"AT10/(AV4-AT9)","v":0.2857142857142857},{"$f":"IF(AU10=0,0,(AU10*((LOG(AU10))/LOG(2))))","v":-0.51638712058788683}]
[11,719,21,727,11,747,null,null,null,null,0,121,null,211,{"$f":"COUNTIF($L$7:$L$500,N11)","v":9},{"$f":"O11/$Q$4","v":8.4112149532710276E-2},{"$f":"IF(P11=0,0,(P11*((LOG(P11))/LOG(2))))","v":-0.30041007350121035},null,null,{"$f":"N11","v":211},{"$f":"COUNTIF(L7:L24,T11)","v":2},{"$f":"U11/(W4-U9)","v":0.16666666666666666},{"$f":"IF(V11=0,0,(V11*((LOG(V11))/LOG(2))))","v":-0.43082708345352599},null,{"$f":"N11","v":211},{"$f":"COUNTIF(L25:L42,Y11)","v":3},{"$f":"Z11/(AB4-Z9)","v":0.25},{"$f":"IF(AA11=0,0,(AA11*((LOG(AA11))/LOG(2))))","v":-0.5},null,{"$f":"N11","v":211},{"$f":"COUNTIF(L43:L59,AD11)","v":1},{"$f":"AE11/(AG4-AE9)","v":7.6923076923076927E-2},{"$f":"IF(AF11=0,0,(AF11*((LOG(AF11))/LOG(2))))","v":-0.28464920908777636},null,{"$f":"N11","v":211},{"$f":"COUNTIF(L60:L77,AI11)","v":1},{"$f":"AJ11/(AL4-AJ9)","v":7.6923076923076927E-2},{"$f":"IF(AK11=0,0,(AK11*((LOG(AK11))/LOG(2))))","v":-0.28464920908777636},null,{"$f":"N11","v":211},{"$f":"COUNTIF(L78:L95,AN11)","v":1},{"$f":"AO11/(AQ4-AO9)","v":9.0909090909090912E-2},{"$f":"IF(AP11=0,0,(AP11*((LOG(AP11))/LOG(2))))","v":-0.31449378351248153},null,{"$f":"N11","v":211},{"$f":"COUNTIF(L96:L113,AS11)","v":1},{"$f":"AT11/(AV4-AT9)","v":7.1428571428571425E-2},{"$f":"IF(AU11=0,0,(AU11*((LOG(AU11))/LOG(2))))","v":-0.27195392300411453}]
[11,941,12,950,13,957,null,null,null,null,0,111,null,212,{"$f":"COUNTIF($L$7:$L$500,N12)","v":2},{"$f":"O12/$Q$4","v":1.8691588785046728E-2},{"$f":"IF(P12=0,0,(P12*((LOG(P12))/LOG(2))))","v":-0.10731713993273172},null,null,{"$f":"N12","v":212},{"$f":"COUNTIF(L7:L24,T12)","v":0},{"$f":"U12/(W4-U9)","v":0},{"$f":"IF(V12=0,0,(V12*((LOG(V12))/LOG(2))))","v":0},null,{"$f":"N12","v":212},{"$f":"COUNTIF(L25:L42,Y12)","v":1},{"$f":"Z12/(AB4-Z9)","v":8.3333333333333329E-2},{"$f":"IF(AA12=0,0,(AA12*((LOG(AA12))/LOG(2))))","v":-0.29874687506009634},null,{"$f":"N12","v":212},{"$f":"COUNTIF(L43:L59,AD12)","v":1},{"$f":"AE12/(AG4-AE9)","v":7.6923076923076927E-2},{"$f":"IF(AF12=0,0,(AF12*((LOG(AF12))/LOG(2))))","v":-0.28464920908777636},null,{"$f":"N12","v":212},{"$f":"COUNTIF(L60:L77,AI12)","v":0},{"$f":"AJ12/(AL4-AJ9)","v":0},{"$f":"IF(AK12=0,0,(AK12*((LOG(AK12))/LOG(2))))","v":0},null,{"$f":"N12","v":212},{"$f":"COUNTIF(L78:L95,AN12)","v":0},{"$f":"AO12/(AQ4-AO9)","v":0},{"$f":"IF(AP12=0,0,(AP12*((LOG(AP12))/LOG(2))))","v":0},null,{"$f":"N12","v":212},{"$f":"COUNTIF(L96:L113,AS12)","v":0},{"$f":"AT12/(AV4-AT9)","v":0},{"$f":"IF(AU12=0,0,(AU12*((LOG(AU12))/LOG(2))))","v":0}]
[11,1062,21,1071,11,1082,null,null,null,null,0,121,null,221,{"$f":"COUNTIF($L$7:$L$500,N13)","v":9},{"$f":"O13/$Q$4","v":8.4112149532710276E-2},{"$f":"IF(P13=0,0,(P13*((LOG(P13))/LOG(2))))","v":-0.30041007350121035},null,null,{"$f":"N13","v":221},{"$f":"COUNTIF(L7:L24,T13)","v":0},{"$f":"U13/(W4-U9)","v":0},{"$f":"IF(V13=0,0,(V13*((LOG(V13))/LOG(2))))","v":0},null,{"$f":"N13","v":221},{"$f":"COUNTIF(L25:L42,Y13)","v":2},{"$f":"Z13/(AB4-Z9)","v":0.16666666666666666},{"$f":"IF(AA13=0,0,(AA13*((LOG(AA13))/LOG(2))))","v":-0.43082708345352599},null,{"$f":"N13","v":221},{"$f":"COUNTIF(L43:L59,AD13)","v":3},{"$f":"AE13/(AG4-AE9)","v":0.23076923076923078},{"$f":"IF(AF13=0,0,(AF13*((LOG(AF13))/LOG(2))))","v":-0.48818705017383146},null,{"$f":"N13","v":221},{"$f":"COUNTIF(L60:L77,AI13)","v":3},{"$f":"AJ13/(AL4-AJ9)","v":0.23076923076923078},{"$f":"IF(AK13=0,0,(AK13*((LOG(AK13))/LOG(2))))","v":-0.48818705017383146},null,{"$f":"N13","v":221},{"$f":"COUNTIF(L78:L95,AN13)","v":0},{"$f":"AO13/(AQ4-AO9)","v":0},{"$f":"IF(AP13=0,0,(AP13*((LOG(AP13))/LOG(2))))","v":0},null,{"$f":"N13","v":221},{"$f":"COUNTIF(L96:L113,AS13)","v":1},{"$f":"AT13/(AV4-AT9)","v":7.1428571428571425E-2},{"$f":"IF(AU13=0,0,(AU13*((LOG(AU13))/LOG(2))))","v":-0.27195392300411453}]
[22,1266,14,1283,13,1308,null,null,null,null,0,211,null,222,{"$f":"COUNTIF($L$7:$L$500,N14)","v":11},{"$f":"O14/$Q$4","v":0.10280373831775701},{"$f":"IF(P14=0,0,(P14*((LOG(P14))/LOG(2))))","v":-0.33740550509721817},null,null,{"$f":"N14","v":222},{"$f":"COUNTIF(L7:L24,T14)","v":1},{"$f":"U14/(W4-U9)","v":8.3333333333333329E-2},{"$f":"IF(V14=0,0,(V14*((LOG(V14))/LOG(2))))","v":-0.29874687506009634},null,{"$f":"N14","v":222},{"$f":"COUNTIF(L25:L42,Y14)","v":1},{"$f":"Z14/(AB4-Z9)","v":8.3333333333333329E-2},{"$f":"IF(AA14=0,0,(AA14*((LOG(AA14))/LOG(2))))","v":-0.29874687506009634},null,{"$f":"N14","v":222},{"$f":"COUNTIF(L43:L59,AD14)","v":4},{"$f":"AE14/(AG4-AE9)","v":0.30769230769230771},{"$f":"IF(AF14=0,0,(AF14*((LOG(AF14))/LOG(2))))","v":-0.52321222096648989},null,{"$f":"N14","v":222},{"$f":"COUNTIF(L60:L77,AI14)","v":2},{"$f":"AJ14/(AL4-AJ9)","v":0.15384615384615385},{"$f":"IF(AK14=0,0,(AK14*((LOG(AK14))/LOG(2))))","v":-0.4154522643293988},null,{"$f":"N14","v":222},{"$f":"COUNTIF(L78:L95,AN14)","v":1},{"$f":"AO14/(AQ4-AO9)","v":9.0909090909090912E-2},{"$f":"IF(AP14=0,0,(AP14*((LOG(AP14))/LOG(2))))","v":-0.31449378351248153},null,{"$f":"N14","v":222},{"$f":"COUNTIF(L96:L113,AS14)","v":2},{"$f":"AT14/(AV4-AT9)","v":0.14285714285714285},{"$f":"IF(AU14=0,0,(AU14*((LOG(AU14))/LOG(2))))","v":-0.40105070315108626}]
[11,1411,21,1418,11,1429,null,null,null,null,0,121,null,null,null,{"$f":"SUM(P7:P14)","v":1},{"$f":"-SUM(Q7:Q14)","v":2.6991010511977369},null,null,null,null,{"$f":"SUM(V7:V14)","v":1},{"$f":"-SUM(W7:W14)","v":2.0849625007211561},null,null,null,{"$f":"SUM(AA7:AA14)","v":1},{"$f":"-SUM(AB7:AB14)","v":2.6887218755408671},null,null,null,{"$f":"SUM(AF7:AF14)","v":1},{"$f":"-SUM(AG7:AG14)","v":2.353533948577482},null,null,null,{"$f":"SUM(AK7:AK14)","v":1},{"$f":"-SUM(AL7:AL14)","v":2.5073801024236357},null,null,null,{"$f":"SUM(AP7:AP14)","v":1},{"$f":"-SUM(AQ7:AQ14)","v":1.8676338909712118},null,null,null,{"$f":"SUM(AU7:AU14)","v":0.99999999999999978},{"$f":"-SUM(AV7:AV14)","v":2.3787834934861753}]
[22,1556,14,1567,13,1584,null,null,null,null,0,211,null,null,null,"U=",{"$f":"Q15/(LOG(Q4)/LOG(2))","v":0.40037295393455902},null,null,null,null,"U1=",{"$f":"W15/(LOG(W4)/LOG(2))","v":0.5},null,null,null,"U2=",{"$f":"AB15/(LOG(AB4)/LOG(2))","v":0.64478902488914791},null,null,null,"U3=",{"$f":"AG15/(LOG(AG4)/LOG(2))","v":0.57579335641313012},null,null,null,"U4=",{"$f":"AL15/(LOG(AL4)/LOG(2))","v":0.60130100698606614},null,null,null,"U5=",{"$f":"AQ15/(LOG(AQ4)/LOG(2))","v":0.44788189004004297},null,null,null,"U6=",{"$f":"AV15/(LOG(AV4)/LOG(2))","v":0.57046193700447634}]
[11,1685,21,1692,22,1697,null,null,null,null,0,122]
[11,1800,21,1816,22,1820,null,null,null,null,0,122]
[11,1921,12,1939,13,1950,null,null,null,null,0,111,null,"Total Target Seq"]
[22,2056,23,2071,24,2078,null,null,null,null,0,222,null,{"$f":"COUNTIF(L7:L113,G3)","v":32},null,18,18,17,18,18,18]
[11,2181,21,2195,11,2214,null,null,null,null,0,121,null,null,null,"% of reinforcement given in 6 equal intervals based on number of trials "]
[11,2351,12,2359,13,2366,null,null,null,null,0,111,null,null,null,"%_1","%_2","%_3","%_4","%_5","%_6"]
[11,2465,21,2473,11,2488,null,null,null,null,0,121,null,null,"target sequence",{"$f":"$G$3","v":121},{"$f":"$G$3","v":121},{"$f":"$G$3","v":121},{"$f":"$G$3","v":121},{"$f":"$G$3","v":121},{"$f":"$G$3","v":121}]
[11,2603,21,2611,22,2616,null,null,null,null,0,122,null,null,"total reinforcement",{"$f":"U9","v":6},{"$f":"Z9","v":6},{"$f":"AE9","v":4},{"$f":"AJ9","v":5},{"$f":"AO9","v":7},{"$f":"AT9","v":4}]
[11,2719,21,2726,11,2738,null,null,null,null,0,121,null,null,"% target"]
[22,2913,23,2922,13,2948,null,null,null,null,0,221,null,null,"CCRF"]
[11,3046,21,3054,11,3065,null,null,null,null,0,121,null,null,"% CCRf"]
[22,3234,14,3247,13,3276,null,null,null,null,0,211,null,null,"average response rate",{"$f":"F24/P20","v":145.33333333333334},{"$f":"(F42-F24)/Q20","v":145.94444444444446},{"$f":"(F59-F42)/R20","v":143.41176470588235},{"$f":"(F77-F59)/S20","v":163.38888888888889},{"$f":"(F95-F77)/T20","v":160.77777777777777},{"$f":"(F113-F95)/U20","v":142.77777777777777}]
[22,3384,14,3398,13,3409,null,null,null,null,0,211]
[11,3510,21,3519,11,3529,null,null,null,null,0,121]
[11,3656,21,3668,11,3679,null,null,null,null,0,121]
[11,3831,12,3852,13,3861,null,null,null,null,0,111]
[22,3960,23,3965,24,3972,null,null,null,null,0,222]
[22,4070,23,4077,13,4090,null,null,null,null,0,221]
[22,4197,14,4209,13,4223,null,null,null,null,0,211]
[11,4325,21,4333,22,4338,null,null,null,null,0,122]
[11,4499,21,4514,11,4534,null,null,null,null,0,121]
[11,4719,12,4742,13,4760,null,null,null,null,0,111]
[11,4860,21,4869,11,4884,null,null,null,null,0,121]
[11,4977,12,4983,24,4991,null,null,null,null,0,112]
[22,5094,14,5111,24,5132,null,null,null,null,0,212]
[11,5229,21,5234,22,5243,null,null,null,null,0,122]
[22,5367,14,5387,24,5402,null,null,null,null,0,212]
[22,5509,23,5514,13,5531,null,null,null,null,0,221]
[22,5635,23,5641,24,5648,null,null,null,null,0,222]
[22,5808,14,5819,13,5838,null,null,null,null,0,211]
[22,5940,23,5946,24,5952,null,null,null,null,0,222]
[22,6047,23,6052,24,6057,null,null,null,null,0,222]
[11,6156,21,6163,22,6166,null,null,null,null,0,122]
[22,6271,23,6277,24,6282,null,null,null,null,0,222]
[11,6376,21,6386,11,6406,null,null,null,null,0,121]
[11,6601,12,6618,13,6638,null,null,null,null,0,111]
[11,6735,21,6743,11,6759,null,null,null,null,0,121]
[11,6931,21,6940,22,6943,null,null,null,null,0,122]
[11,7055,21,7063,22,7073,null,null,null,null,0,122]
[11,7175,21,7182,11,7192,null,null,null,null,0,121]
[22,7319,23,7325,13,7338,null,null,null,null,0,221]
[11,7444,21,7456,11,7493,null,null,null,null,0,121]
[22,7656,23,7662,13,7681,null,null,null,null,0,221]
[22,7791,23,7795,13,7806,null,null,null,null,0,221]
[22,7916,23,7926,24,7933,null,null,null,null,0,222]
[11,8037,21,8045,22,8051,null,null,null,null,0,122]
[11,8151,21,8159,11,8177,null,null,null,null,0,121]
[22,8357,23,8364,13,8379,null,null,null,null,0,221]
[22,8482,23,8491,24,8496,null,null,null,null,0,222]
[22,8602,14,8614,13,8627,null,null,null,null,0,211]
[11,8727,21,8735,22,8741,null,null,null,null,0,122]
[11,8844,21,8853,11,8865,null,null,null,null,0,121]
[11,9051,21,9061,22,9063,null,null,null,null,0,122]
[11,9173,12,9191,24,9207,null,null,null,null,0,112]
[11,9440,21,9449,11,9469,null,null,null,null,0,121]
[11,9714,12,9739,24,9771,null,null,null,null,0,112]
[22,9877,23,9882,13,9896,null,null,null,null,0,221]
[11,10000,21,10007,11,10019,null,null,null,null,0,121]
[11,10220,12,10243,13,10252,null,null,null,null,0,111]
[11,10354,21,10360,11,10381,null,null,null,null,0,121]
[11,10564,12,10579,13,10622,null,null,null,null,0,111]
[11,10724,21,10731,11,10745,null,null,null,null,0,121]
[11,10884,12,10894,13,10925,null,null,null,null,0,111]
[11,11027,21,11034,11,11047,null,null,null,null,0,121]
[11,11223,21,11233,22,11238,null,null,null,null,0,122]
[11,11347,21,11358,11,11376,null,null,null,null,0,121]
[11,11640,12,11653,13,11667,null,null,null,null,0,111]
[11,11768,21,11774,22,11778,null,null,null,null,0,122]
[11,11881,21,11888,11,11902,null,null,null,null,0,121]
[22,12063,23,12076,24,12083,null,null,null,null,0,222]
[11,12189,21,12199,11,12210,null,null,null,null,0,121]
[11,12344,21,12353,11,12363,null,null,null,null,0,121]
[11,12580,12,12598,24,12612,null,null,null,null,0,112]
[11,12717,12,12740,13,12763,null,null,null,null,0,111]
[11,12908,12,12933,13,12956,null,null,null,null,0,111]
[11,13056,12,13077,13,13095,null,null,null,null,0,111]
[22,13203,14,13219,13,13242,null,null,null,null,0,211]
[11,13357,12,13380,13,13393,null,null,null,null,0,111]
[11,13493,21,13502,11,13516,null,null,null,null,0,121]
[11,13637,21,13646,22,13650,null,null,null,null,0,122]
[11,13753,21,13762,22,13765,null,null,null,null,0,122]
[11,13868,21,13876,22,13879,null,null,null,null,0,122]
[11,13980,12,13993,13,14004,null,null,null,null,0,111]
[22,14105,23,14112,24,14119,null,null,null,null,0,222]
[11,14236,12,14258,13,14273,null,null,null,null,0,111]
[11,14403,12,14423,13,14431,null,null,null,null,0,111]
[22,14541,23,14547,24,14554,null,null,null,null,0,222]
[22,14664,14,14677,13,14689,null,null,null,null,0,211]
[11,14790,21,14797,11,14811,null,null,null,null,0,121]
[11,14976,21,14989,11,15003,null,null,null,null,0,121]
[11,15156,12,15163,24,15174,null,null,null,null,0,112]
[22,15270,23,15274,13,15290,null,null,null,null,0,221]
[11,15392,21,15399,11,15410,null,null,null,null,0,121]
[11,15548,12,15574,24,15587,null,null,null,null,0,112]
[11,15782,12,15790,13,15806,null,null,null,null,0,111]
[11,15914,21,15921,22,15924,null,null,null,null,0,122]
[11,16064,21,16074,11,16086,null,null,null,null,1,121]

{"sheet":"!M309A3D.UST","index":22,"n_rows":96,"n_cols":48,"rows_kept":96,"cut":false,"hidden":false,"merged":[[4,39,4,42],[5,39,5,40],[4,44,4,47],[5,44,5,45],[4,24,4,27],[5,24,5,25],[4,29,4,32],[5,29,5,30],[4,34,4,37],[5,34,5,35],[1,1,1,2],[5,13,5,14],[18,13,18,14],[19,13,19,14],[4,19,4,22],[5,19,5,20]]}
["Report for:!M309A3D.UST"]
["Date:","<date>"]
["Hen:","<hen>",null,null,null,"Correct Sequence",{"$f":"Start!J2","v":121},null,null,null,null,null,null,null,null,"Total Sequences in Data",{"$f":"4994-COUNTBLANK(L7:L5000)","v":90},null,null,null,null,"Total Sequences in Block Data",{"$f":"COUNTA(L7:L21)","v":15},null,null,null,"Total Sequences in Block Data",{"$f":"COUNTA(L22:L36)","v":15},null,null,null,"Total Sequences in Block Data",{"$f":"COUNTA(L37:L51)","v":15},null,null,null,"Total Sequences in Block Data",{"$f":"COUNTA(L52:L66)","v":15},null,null,null,"Total Sequences in Block Data",{"$f":"COUNTA(L67:L81)","v":15},null,null,null,"Total Sequences in Block Data",{"$f":"COUNTA(L82:L96)","v":15}]
[null,null,null,null,null,null,null,null,null,null,null,null,null,null,null,"Total Sequences in Summary",{"$f":"SUM(O7:O14)","v":90},null,null,null,null,"Total Sequences in Block Summary",{"$f":"SUM(U7:U14)","v":15},null,null,null,"Total Sequences in Block Summary",{"$f":"SUM(Z7:Z14)","v":15},null,null,null,"Total Sequences in Block Summary",{"$f":"SUM(AE7:AE14)","v":15},null,null,null,"Total Sequences in Block Summary",{"$f":"SUM(AJ7:AJ14)","v":15},null,null,null,"Total Sequences in Block Summary",{"$f":"SUM(AO7:AO14)","v":15},null,null,null,"Total Sequences in Block Summary",{"$f":"SUM(AT7:AT14)","v":15}]
[null,null,null,null,null,null,null,null,null,null,null,null,null,null,null,null,null,null,null,"Block 1",null,null,null,null,"Block 2",null,null,null,null,"Block 3",null,null,null,null,"Block 4",null,null,null,null,"Block 5",null,null,null,null,"Block 6"]
["Sequence\nComponent\n1","Time\n1","Sequence\nComponent\n2","Time\n2","Sequence\nComponent\n3","Time\n3","Sequence\nComponent\n4","Time\n4","Sequence\nComponent\n5","Time\n5","Correct?\n0=No 1=Yes","Sequence",null,"Frequency",null,"Relative Frequency","Variability",null,null,"Frequency",null,"Relative Frequency","Variability",null,"Frequency",null,"Relative Frequency","Variability",null,"Frequency",null,"Relative Frequency","Variability",null,"Frequency",null,"Relative Frequency","Variability",null,"Frequency",null,"Relative Frequency","Variability",null,"Frequency",null,"Relative Frequency","Variability"]
[22,27,23,30,13,45,null,null,null,null,0,221,null,111,{"$f":"COUNTIF($L$7:$L$500,N7)","v":19},{"$f":"O7/$Q$4","v":0.21111111111111111},{"$f":"IF(P7=0,0,(P7*((LOG(P7))/LOG(2))))","v":-0.47371762305372994},null,null,{"$f":"N7","v":111},{"$f":"COUNTIF(L7:L21,T7)","v":3},{"$f":"U7/(W4-U9)","v":0.33333333333333331},{"$f":"IF(V7=0,0,(V7*((LOG(V7))/LOG(2))))","v":-0.52832083357371862},null,{"$f":"N7","v":111},{"$f":"COUNTIF(L22:L36,Y7)","v":2},{"$f":"Z7/(AB4-Z9)","v":0.25},{"$f":"IF(AA7=0,0,(AA7*((LOG(AA7))/LOG(2))))","v":-0.5},null,{"$f":"N7","v":111},{"$f":"COUNTIF(L37:L51,AD7)","v":4},{"$f":"AE7/(AG4-AE9)","v":0.36363636363636365},{"$f":"IF(AF7=0,0,(AF7*((LOG(AF7))/LOG(2))))","v":-0.53070240677719893},null,{"$f":"N7","v":111},{"$f":"COUNTIF(L52:L66,AI7)","v":1},{"$f":"AJ7/(AL4-AJ9)","v":0.1111111111111111},{"$f":"IF(AK7=0,0,(AK7*((LOG(AK7))/LOG(2))))","v":-0.3522138890491458},null,{"$f":"N7","v":111},{"$f":"COUNTIF(L67:L81,AN7)","v":6},{"$f":"AO7/(AQ4-AO9)","v":0.66666666666666663},{"$f":"IF(AP7=0,0,(AP7*((LOG(AP7))/LOG(2))))","v":-0.38997500048077083},null,{"$f":"N7","v":111},{"$f":"COUNTIF(L82:L96,AS7)","v":3},{"$f":"AT7/(AV4-AT9)","v":0.375},{"$f":"IF(AU7=0,0,(AU7*((LOG(AU7))/LOG(2))))","v":-0.53063906222956647}]
[11,241,12,257,13,263,null,null,null,null,0,111,null,112,{"$f":"COUNTIF($L$7:$L$500,N8)","v":6},{"$f":"O8/$Q$4","v":6.6666666666666666E-2},{"$f":"IF(P8=0,0,(P8*((LOG(P8))/LOG(2))))","v":-0.26045937304056793},null,null,{"$f":"N8","v":112},{"$f":"COUNTIF(L7:L21,T8)","v":2},{"$f":"U8/(W4-U9)","v":0.22222222222222221},{"$f":"IF(V8=0,0,(V8*((LOG(V8))/LOG(2))))","v":-0.48220555587606945},null,{"$f":"N8","v":112},{"$f":"COUNTIF(L22:L36,Y8)","v":1},{"$f":"Z8/(AB4-Z9)","v":0.125},{"$f":"IF(AA8=0,0,(AA8*((LOG(AA8))/LOG(2))))","v":-0.375},null,{"$f":"N8","v":112},{"$f":"COUNTIF(L37:L51,AD8)","v":1},{"$f":"AE8/(AG4-AE9)","v":9.0909090909090912E-2},{"$f":"IF(AF8=0,0,(AF8*((LOG(AF8))/LOG(2))))","v":-0.31449378351248153},null,{"$f":"N8","v":112},{"$f":"COUNTIF(L52:L66,AI8)","v":0},{"$f":"AJ8/(AL4-AJ9)","v":0},{"$f":"IF(AK8=0,0,(AK8*((LOG(AK8))/LOG(2))))","v":0},null,{"$f":"N8","v":112},{"$f":"COUNTIF(L67:L81,AN8)","v":0},{"$f":"AO8/(AQ4-AO9)","v":0},{"$f":"IF(AP8=0,0,(AP8*((LOG(AP8))/LOG(2))))","v":0},null,{"$f":"N8","v":112},{"$f":"COUNTIF(L82:L96,AS8)","v":2},{"$f":"AT8/(AV4-AT9)","v":0.25},{"$f":"IF(AU8=0,0,(AU8*((LOG(AU8))/LOG(2))))","v":-0.5}]
[11,405,12,409,13,424,null,null,null,null,0,111,null,121,{"$f":"COUNTIF($L$7:$L$500,N9)","v":36},{"$f":"O9/$Q$4","v":0.4},{"$f":"IF(P9=0,0,(P9*((LOG(P9))/LOG(2))))","v":-0.52877123795494496},null,null,{"$f":"N9","v":121},{"$f":"COUNTIF(L7:L21,T9)","v":6},null,null,null,{"$f":"N9","v":121},{"$f":"COUNTIF(L22:L36,Y9)","v":7},null,null,null,{"$f":"N9","v":121},{"$f":"COUNTIF(L37:L51,AD9)","v":4},null,null,null,{"$f":"N9","v":121},{"$f":"COUNTIF(L52:L66,AI9)","v":6},null,null,null,{"$f":"N9","v":121},{"$f":"COUNTIF(L67:L81,AN9)","v":6},null,null,null,{"$f":"N9","v":121},{"$f":"COUNTIF(L82:L96,AS9)","v":7}]
[11,526,21,533,22,538,null,null,null,null,0,122,null,122,{"$f":"COUNTIF($L$7:$L$500,N10)","v":9},{"$f":"O10/$Q$4","v":0.1},{"$f":"IF(P10=0,0,(P10*((LOG(P10))/LOG(2))))","v":-0.33219280948873625},null,null,{"$f":"N10","v":122},{"$f":"COUNTIF(L7:L21,T10)","v":2},{"$f":"U10/(W4-U9)","v":0.22222222222222221},{"$f":"IF(V10=0,0,(V10*((LOG(V10))/LOG(2))))","v":-0.48220555587606945},null,{"$f":"N10","v":122},{"$f":"COUNTIF(L22:L36,Y10)","v":2},{"$f":"Z10/(AB4-Z9)","v":0.25},{"$f":"IF(AA10=0,0,(AA10*((LOG(AA10))/LOG(2))))","v":-0.5},null,{"$f":"N10","v":122},{"$f":"COUNTIF(L37:L51,AD10)","v":3},{"$f":"AE10/(AG4-AE9)","v":0.27272727272727271},{"$f":"IF(AF10=0,0,(AF10*((LOG(AF10))/LOG(2))))","v":-0.51121885034076575},null,{"$f":"N10","v":122},{"$f":"COUNTIF(L52:L66,AI10)","v":1},{"$f":"AJ10/(AL4-AJ9)","v":0.1111111111111111},{"$f":"IF(AK10=0,0,(AK10*((LOG(AK10))/LOG(2))))","v":-0.3522138890491458},null,{"$f":"N10","v":122},{"$f":"COUNTIF(L67:L81,AN10)","v":0},{"$f":"AO10/(AQ4-AO9)","v":0},{"$f":"IF(AP10=0,0,(AP10*((LOG(AP10))/LOG(2))))","v":0},null,{"$f":"N10","v":122},{"$f":"COUNTIF(L82:L96,AS10)","v":1},{"$f":"AT10/(AV4-AT9)","v":0.125},{"$f":"IF(AU10=0,0,(AU10*((LOG(AU10))/LOG(2))))","v":-0.375}]
[11,636,21,643,22,645,null,null,null,null,0,122,null,211,{"$f":"COUNTIF($L$7:$L$500,N11)","v":5},{"$f":"O11/$Q$4","v":5.5555555555555552E-2},{"$f":"IF(P11=0,0,(P11*((LOG(P11))/LOG(2))))","v":-0.23166250008012845},null,null,{"$f":"N11","v":211},{"$f":"COUNTIF(L7:L21,T11)","v":1},{"$f":"U11/(W4-U9)","v":0.1111111111111111},{"$f":"IF(V11=0,0,(V11*((LOG(V11))/LOG(2))))","v":-0.3522138890491458},null,{"$f":"N11","v":211},{"$f":"COUNTIF(L22:L36,Y11)","v":0},{"$f":"Z11/(AB4-Z9)","v":0},{"$f":"IF(AA11=0,0,(AA11*((LOG(AA11))/LOG(2))))","v":0},null,{"$f":"N11","v":211},{"$f":"COUNTIF(L37:L51,AD11)","v":1},{"$f":"AE11/(AG4-AE9)","v":9.0909090909090912E-2},{"$f":"IF(AF11=0,0,(AF11*((LOG(AF11))/LOG(2))))","v":-0.31449378351248153},null,{"$f":"N11","v":211},{"$f":"COUNTIF(L52:L66,AI11)","v":3},{"$f":"AJ11/(AL4-AJ9)","v":0.33333333333333331},{"$f":"IF(AK11=0,0,(AK11*((LOG(AK11))/LOG(2))))","v":-0.52832083357371862},null,{"$f":"N11","v":211},{"$f":"COUNTIF(L67:L81,AN11)","v":0},{"$f":"AO11/(AQ4-AO9)","v":0},{"$f":"IF(AP11=0,0,(AP11*((LOG(AP11))/LOG(2))))","v":0},null,{"$f":"N11","v":211},{"$f":"COUNTIF(L82:L96,AS11)","v":0},{"$f":"AT11/(AV4-AT9)","v":0},{"$f":"IF(AU11=0,0,(AU11*((LOG(AU11))/LOG(2))))","v":0}]
[11,748,21,756,11,770,null,null,null,null,0,121,null,212,{"$f":"COUNTIF($L$7:$L$500,N12)","v":3},{"$f":"O12/$Q$4","v":3.3333333333333333E-2},{"$f":"IF(P12=0,0,(P12*((LOG(P12))/LOG(2))))","v":-0.16356301985361729},null,null,{"$f":"N12","v":212},{"$f":"COUNTIF(L7:L21,T12)","v":0},{"$f":"U12/(W4-U9)","v":0},{"$f":"IF(V12=0,0,(V12*((LOG(V12))/LOG(2))))","v":0},null,{"$f":"N12","v":212},{"$f":"COUNTIF(L22:L36,Y12)","v":0},{"$f":"Z12/(AB4-Z9)","v":0},{"$f":"IF(AA12=0,0,(AA12*((LOG(AA12))/LOG(2))))","v":0},null,{"$f":"N12","v":212},{"$f":"COUNTIF(L37:L51,AD12)","v":0},{"$f":"AE12/(AG4-AE9)","v":0},{"$f":"IF(AF12=0,0,(AF12*((LOG(AF12))/LOG(2))))","v":0},null,{"$f":"N12","v":212},{"$f":"COUNTIF(L52:L66,AI12)","v":1},{"$f":"AJ12/(AL4-AJ9)","v":0.1111111111111111},{"$f":"IF(AK12=0,0,(AK12*((LOG(AK12))/LOG(2))))","v":-0.3522138890491458},null,{"$f":"N12","v":212},{"$f":"COUNTIF(L67:L81,AN12)","v":1},{"$f":"AO12/(AQ4-AO9)","v":0.1111111111111111},{"$f":"IF(AP12=0,0,(AP12*((LOG(AP12))/LOG(2))))","v":-0.3522138890491458},null,{"$f":"N12","v":212},{"$f":"COUNTIF(L82:L96,AS12)","v":1},{"$f":"AT12/(AV4-AT9)","v":0.125},{"$f":"IF(AU12=0,0,(AU12*((LOG(AU12))/LOG(2))))","v":-0.375}]
[11,933,12,940,24,951,null,null,null,null,0,112,null,221,{"$f":"COUNTIF($L$7:$L$500,N13)","v":7},{"$f":"O13/$Q$4","v":7.7777777777777779E-2},{"$f":"IF(P13=0,0,(P13*((LOG(P13))/LOG(2))))","v":-0.28657208022116104},null,null,{"$f":"N13","v":221},{"$f":"COUNTIF(L7:L21,T13)","v":1},{"$f":"U13/(W4-U9)","v":0.1111111111111111},{"$f":"IF(V13=0,0,(V13*((LOG(V13))/LOG(2))))","v":-0.3522138890491458},null,{"$f":"N13","v":221},{"$f":"COUNTIF(L22:L36,Y13)","v":3},{"$f":"Z13/(AB4-Z9)","v":0.375},{"$f":"IF(AA13=0,0,(AA13*((LOG(AA13))/LOG(2))))","v":-0.53063906222956647},null,{"$f":"N13","v":221},{"$f":"COUNTIF(L37:L51,AD13)","v":1},{"$f":"AE13/(AG4-AE9)","v":9.0909090909090912E-2},{"$f":"IF(AF13=0,0,(AF13*((LOG(AF13))/LOG(2))))","v":-0.31449378351248153},null,{"$f":"N13","v":221},{"$f":"COUNTIF(L52:L66,AI13)","v":1},{"$f":"AJ13/(AL4-AJ9)","v":0.1111111111111111},{"$f":"IF(AK13=0,0,(AK13*((LOG(AK13))/LOG(2))))","v":-0.3522138890491458},null,{"$f":"N13","v":221},{"$f":"COUNTIF(L67:L81,AN13)","v":1},{"$f":"AO13/(AQ4-AO9)","v":0.1111111111111111},{"$f":"IF(AP13=0,0,(AP13*((LOG(AP13))/LOG(2))))","v":-0.3522138890491458},null,{"$f":"N13","v":221},{"$f":"COUNTIF(L82:L96,AS13)","v":0},{"$f":"AT13/(AV4-AT9)","v":0},{"$f":"IF(AU13=0,0,(AU13*((LOG(AU13))/LOG(2))))","v":0}]
[11,1060,21,1074,11,1096,null,null,null,null,0,121,null,222,{"$f":"COUNTIF($L$7:$L$500,N14)","v":5},{"$f":"O14/$Q$4","v":5.5555555555555552E-2},{"$f":"IF(P14=0,0,(P14*((LOG(P14))/LOG(2))))","v":-0.23166250008012845},null,null,{"$f":"N14","v":222},{"$f":"COUNTIF(L7:L21,T14)","v":0},{"$f":"U14/(W4-U9)","v":0},{"$f":"IF(V14=0,0,(V14*((LOG(V14))/LOG(2))))","v":0},null,{"$f":"N14","v":222},{"$f":"COUNTIF(L22:L36,Y14)","v":0},{"$f":"Z14/(AB4-Z9)","v":0},{"$f":"IF(AA14=0,0,(AA14*((LOG(AA14))/LOG(2))))","v":0},null,{"$f":"N14","v":222},{"$f":"COUNTIF(L37:L51,AD14)","v":1},{"$f":"AE14/(AG4-AE9)","v":9.0909090909090912E-2},{"$f":"IF(AF14=0,0,(AF14*((LOG(AF14))/LOG(2))))","v":-0.31449378351248153},null,{"$f":"N14","v":222},{"$f":"COUNTIF(L52:L66,AI14)","v":2},{"$f":"AJ14/(AL4-AJ9)","v":0.22222222222222221},{"$f":"IF(AK14=0,0,(AK14*((LOG(AK14))/LOG(2))))","v":-0.48220555587606945},null,{"$f":"N14","v":222},{"$f":"COUNTIF(L67:L81,AN14)","v":1},{"$f":"AO14/(AQ4-AO9)","v":0.1111111111111111},{"$f":"IF(AP14=0,0,(AP14*((LOG(AP14))/LOG(2))))","v":-0.3522138890491458},null,{"$f":"N14","v":222},{"$f":"COUNTIF(L82:L96,AS14)","v":1},{"$f":"AT14/(AV4-AT9)","v":0.125},{"$f":"IF(AU14=0,0,(AU14*((LOG(AU14))/LOG(2))))","v":-0.375}]
[11,1235,21,1246,11,1254,null,null,null,null,0,121,null,null,null,{"$f":"SUM(P7:P14)","v":1},{"$f":"-SUM(Q7:Q14)","v":2.5086011437730145},null,null,null,null,{"$f":"SUM(V7:V14)","v":1},{"$f":"-SUM(W7:W14)","v":2.1971597234241491},null,null,null,{"$f":"SUM(AA7:AA14)","v":1},{"$f":"-SUM(AB7:AB14)","v":1.9056390622295665},null,null,null,{"$f":"SUM(AF7:AF14)","v":1},{"$f":"-SUM(AG7:AG14)","v":2.2998963911678909},null,null,null,{"$f":"SUM(AK7:AK14)","v":1},{"$f":"-SUM(AL7:AL14)","v":2.4193819456463714},null,null,null,{"$f":"SUM(AP7:AP14)","v":1},{"$f":"-SUM(AQ7:AQ14)","v":1.4466166676282082},null,null,null,{"$f":"SUM(AU7:AU14)","v":1},{"$f":"-SUM(AV7:AV14)","v":2.1556390622295662}]
[11,1461,21,1476,11,1489,null,null,null,null,0,121,null,null,null,"U=",{"$f":"Q15/(LOG(Q4)/LOG(2))","v":0.38642296838037082},null,null,null,null,"U1=",{"$f":"W15/(LOG(W4)/LOG(2))","v":0.56238066299932565},null,null,null,"U2=",{"$f":"AB15/(LOG(AB4)/LOG(2))","v":0.48776361036870886},null,null,null,"U3=",{"$f":"AG15/(LOG(AG4)/LOG(2))","v":0.58867693755055606},null,null,null,"U4=",{"$f":"AL15/(LOG(AL4)/LOG(2))","v":0.6192602240681736},null,null,null,"U5=",{"$f":"AQ15/(LOG(AQ4)/LOG(2))","v":0.3702731449030735},null,null,null,"U6=",{"$f":"AV15/(LOG(AV4)/LOG(2))","v":0.55175311657116266}]
[11,1728,12,1736,13,1755,null,null,null,null,0,111]
[11,1856,21,1863,11,1875,null,null,null,null,0,121]
[11,2149,21,2165,11,2177,null,null,null,null,0,121,null,"Total Target Seq"]
[11,2300,12,2325,24,2347,null,null,null,null,0,112,null,{"$f":"COUNTIF(L7:L96,G3)","v":36},null,15,15,15,15,15,15]
[22,2454,14,2466,13,2489,null,null,null,null,0,211,null,null,null,"% of reinforcement given in 6 equal intervals based on number of trials "]
[11,2594,21,2601,11,2624,null,null,null,null,0,121,null,null,null,"%_1","%_2","%_3","%_4","%_5","%_6"]
[11,2827,21,2835,22,2838,null,null,null,null,0,122,null,null,"target sequence",{"$f":"$G$3","v":121},{"$f":"$G$3","v":121},{"$f":"$G$3","v":121},{"$f":"$G$3","v":121},{"$f":"$G$3","v":121},{"$f":"$G$3","v":121}]
[11,2937,21,2946,11,2959,null,null,null,null,0,121,null,null,"total reinforcement",{"$f":"U9","v":6},{"$f":"Z9","v":7},{"$f":"AE9","v":4},{"$f":"AJ9","v":6},{"$f":"AO9","v":6},{"$f":"AT9","v":7}]
[22,3120,23,3125,13,3139,null,null,null,null,0,221,null,null,"% target"]
[11,3243,21,3253,11,3279,null,null,null,null,0,121,null,null,"CCRF"]
[22,3452,23,3456,13,3467,null,null,null,null,0,221,null,null,"% CCRf"]
[11,3568,12,3585,13,3594,null,null,null,null,0,111,null,null,"average response rate",{"$f":"F21/P20","v":165.93333333333334},{"$f":"(F36-F21)/Q20","v":156.26666666666668},{"$f":"(F51-F36)/R20","v":164.26666666666668},{"$f":"(F66-F51)/S20","v":175.8},{"$f":"(F81-F66)/T20","v":168.2},{"$f":"(F96-F81)/U20","v":180.13333333333333}]
[11,3692,21,3701,11,3716,null,null,null,null,0,121]
[11,3919,12,3944,13,3954,null,null,null,null,0,111]
[11,4059,12,4074,24,4091,null,null,null,null,0,112]
[11,4193,21,4202,11,4211,null,null,null,null,0,121]
[11,4382,21,4392,22,4398,null,null,null,null,0,122]
[11,4496,21,4504,11,4531,null,null,null,null,0,121]
[22,4684,23,4689,13,4706,null,null,null,null,0,221]
[11,4809,21,4814,11,4833,null,null,null,null,0,121]
[11,5088,12,5094,13,5101,null,null,null,null,0,111]
[11,5203,12,5221,13,5243,null,null,null,null,0,111]
[11,5346,21,5355,11,5369,null,null,null,null,0,121]
[22,5541,23,5546,13,5558,null,null,null,null,0,221]
[11,5664,21,5670,11,5686,null,null,null,null,0,121]
[11,5964,12,5988,13,6000,null,null,null,null,0,111]
[11,6102,21,6112,11,6126,null,null,null,null,0,121]
[11,6357,21,6366,22,6372,null,null,null,null,0,122]
[11,6470,12,6477,24,6483,null,null,null,null,0,112]
[22,6596,14,6609,13,6628,null,null,null,null,0,211]
[11,6727,12,6743,13,6751,null,null,null,null,0,111]
[22,6851,23,6857,24,6863,null,null,null,null,0,222]
[11,6972,21,6980,22,6985,null,null,null,null,0,122]
[11,7087,21,7095,11,7110,null,null,null,null,0,121]
[11,7284,21,7293,22,7297,null,null,null,null,0,122]
[22,7408,14,7429,13,7439,null,null,null,null,0,211]
[11,7582,21,7594,11,7612,null,null,null,null,0,121]
[11,7825,21,7834,11,7845,null,null,null,null,0,121]
[11,8084,21,8093,11,8103,null,null,null,null,0,121]
[22,8228,14,8245,13,8276,null,null,null,null,0,211]
[22,8384,23,8395,13,8412,null,null,null,null,0,221]
[22,8527,14,8544,24,8560,null,null,null,null,0,212]
[22,8658,23,8665,24,8670,null,null,null,null,0,222]
[22,8776,14,8802,13,8810,null,null,null,null,0,211]
[11,8910,21,8919,11,8936,null,null,null,null,0,121]
[11,9188,12,9209,13,9230,null,null,null,null,0,111]
[22,9336,23,9343,24,9348,null,null,null,null,0,222]
[11,9446,21,9455,11,9468,null,null,null,null,0,121]
[11,9660,21,9667,11,9684,null,null,null,null,0,121]
[11,9913,21,9921,22,9934,null,null,null,null,0,122]
[11,10037,21,10044,11,10056,null,null,null,null,0,121]
[11,10252,12,10271,13,10293,null,null,null,null,0,111]
[11,10392,21,10400,11,10413,null,null,null,null,0,121]
[11,10646,21,10655,11,10668,null,null,null,null,0,121]
[11,10914,21,10923,11,10949,null,null,null,null,0,121]
[11,11162,21,11173,11,11193,null,null,null,null,0,121]
[11,11332,12,11350,13,11357,null,null,null,null,0,111]
[11,11464,12,11486,13,11503,null,null,null,null,0,111]
[11,11604,12,11622,13,11640,null,null,null,null,0,111]
[11,11741,21,11751,11,11771,null,null,null,null,0,121]
[22,11923,14,11933,24,11949,null,null,null,null,0,212]
[11,12053,12,12072,13,12087,null,null,null,null,0,111]
[22,12186,23,12191,24,12197,null,null,null,null,0,222]
[11,12300,12,12304,13,12330,null,null,null,null,0,111]
[22,12428,23,12435,13,12457,null,null,null,null,0,221]
[11,12560,12,12582,24,12592,null,null,null,null,0,112]
[11,12802,12,12809,24,12820,null,null,null,null,0,112]
[11,12923,21,12932,11,12948,null,null,null,null,0,121]
[11,13101,21,13116,11,13152,null,null,null,null,0,121]
[11,13392,21,13414,11,13427,null,null,null,null,0,121]
[11,13608,21,13618,11,13636,null,null,null,null,0,121]
[11,13918,21,13929,11,13944,null,null,null,null,0,121]
[11,14103,12,14110,13,14129,null,null,null,null,0,111]
[11,14231,12,14247,13,14253,null,null,null,null,0,111]
[22,14346,23,14359,24,14365,null,null,null,null,0,222]
[11,14467,21,14476,11,14488,null,null,null,null,0,121]
[11,14642,21,14652,11,14663,null,null,null,null,0,121]
[11,14858,12,14885,13,14910,null,null,null,null,0,111]
[22,15021,14,15039,24,15049,null,null,null,null,0,212]
[11,15148,21,15155,22,15159,null,null,null,null,1,122]

{"sheet":"!M310A2D.UST","index":23,"n_rows":87,"n_cols":48,"rows_kept":87,"cut":false,"hidden":false,"merged":[[4,39,4,42],[5,39,5,40],[4,44,4,47],[5,44,5,45],[4,24,4,27],[5,24,5,25],[4,29,4,32],[5,29,5,30],[4,34,4,37],[5,34,5,35],[1,1,1,2],[5,13,5,14],[18,13,18,14],[19,13,19,14],[4,19,4,22],[5,19,5,20]]}
["Report for:!M310A2D.UST"]
["Date:","<date>"]
["Hen:","<hen>",null,null,null,"Correct Sequence",{"$f":"Start!J2","v":121},null,null,null,null,null,null,null,null,"Total Sequences in Data",{"$f":"4994-COUNTBLANK(L7:L5000)","v":81},null,null,null,null,"Total Sequences in Block Data",{"$f":"COUNTA(L7:L20)","v":14},null,null,null,"Total Sequences in Block Data",{"$f":"COUNTA(L21:L33)","v":13},null,null,null,"Total Sequences in Block Data",{"$f":"COUNTA(L34:L47)","v":14},null,null,null,"Total Sequences in Block Data",{"$f":"COUNTA(L48:L60)","v":13},null,null,null,"Total Sequences in Block Data",{"$f":"COUNTA(L61:L74)","v":14},null,null,null,"Total Sequences in Block Data",{"$f":"COUNTA(L75:L87)","v":13}]
[null,null,null,null,null,null,null,null,null,null,null,null,null,null,null,"Total Sequences in Summary",{"$f":"SUM(O7:O14)","v":81},null,null,null,null,"Total Sequences in Block Summary",{"$f":"SUM(U7:U14)","v":14},null,null,null,"Total Sequences in Block Summary",{"$f":"SUM(Z7:Z14)","v":13},null,null,null,"Total Sequences in Block Summary",{"$f":"SUM(AE7:AE14)","v":14},null,null,null,"Total Sequences in Block Summary",{"$f":"SUM(AJ7:AJ14)","v":13},null,null,null,"Total Sequences in Block Summary",{"$f":"SUM(AO7:AO14)","v":14},null,null,null,"Total Sequences in Block Summary",{"$f":"SUM(AT7:AT14)","v":13}]
[null,null,null,null,null,null,null,null,null,null,null,null,null,null,null,null,null,null,null,"Block 1",null,null,null,null,"Block 2",null,null,null,null,"Block 3",null,null,null,null,"Block 4",null,null,null,null,"Block 5",null,null,null,null,"Block 6"]
["Sequence\nComponent\n1","Time\n1","Sequence\nComponent\n2","Time\n2","Sequence\nComponent\n3","Time\n3","Sequence\nComponent\n4","Time\n4","Sequence\nComponent\n5","Time\n5","Correct?\n0=No 1=Yes","Sequence",null,"Frequency",null,"Relative Frequency","Variability",null,null,"Frequency",null,"Relative Frequency","Variability",null,"Frequency",null,"Relative Frequency","Variability",null,"Frequency",null,"Relative Frequency","Variability",null,"Frequency",null,"Relative Frequency","Variability",null,"Frequency",null,"Relative Frequency","Variability",null,"Frequency",null,"Relative Frequency","Variability"]
[11,20,12,25,13,31,null,null,null,null,0,111,null,111,{"$f":"COUNTIF($L$7:$L$500,N7)","v":11},{"$f":"O7/$Q$4","v":0.13580246913580246},{"$f":"IF(P7=0,0,(P7*((LOG(P7))/LOG(2))))","v":-0.39116792872494566},null,null,{"$f":"N7","v":111},{"$f":"COUNTIF(L7:L20,T7)","v":4},{"$f":"U7/(W4-U9)","v":0.8},{"$f":"IF(V7=0,0,(V7*((LOG(V7))/LOG(2))))","v":-0.25754247590988982},null,{"$f":"N7","v":111},{"$f":"COUNTIF(L21:L33,Y7)","v":1},{"$f":"Z7/(AB4-Z9)","v":0.125},{"$f":"IF(AA7=0,0,(AA7*((LOG(AA7))/LOG(2))))","v":-0.375},null,{"$f":"N7","v":111},{"$f":"COUNTIF(L34:L47,AD7)","v":1},{"$f":"AE7/(AG4-AE9)","v":0.1111111111111111},{"$f":"IF(AF7=0,0,(AF7*((LOG(AF7))/LOG(2))))","v":-0.3522138890491458},null,{"$f":"N7","v":111},{"$f":"COUNTIF(L48:L60,AI7)","v":1},{"$f":"AJ7/(AL4-AJ9)","v":0.16666666666666666},{"$f":"IF(AK7=0,0,(AK7*((LOG(AK7))/LOG(2))))","v":-0.43082708345352599},null,{"$f":"N7","v":111},{"$f":"COUNTIF(L61:L74,AN7)","v":2},{"$f":"AO7/(AQ4-AO9)","v":0.25},{"$f":"IF(AP7=0,0,(AP7*((LOG(AP7))/LOG(2))))","v":-0.5},null,{"$f":"N7","v":111},{"$f":"COUNTIF(L75:L87,AS7)","v":2},{"$f":"AT7/(AV4-AT9)","v":0.2857142857142857},{"$f":"IF(AU7=0,0,(AU7*((LOG(AU7))/LOG(2))))","v":-0.51638712058788683}]
[11,133,12,150,13,164,null,null,null,null,0,111,null,112,{"$f":"COUNTIF($L$7:$L$500,N8)","v":4},{"$f":"O8/$Q$4","v":4.9382716049382713E-2},{"$f":"IF(P8=0,0,(P8*((LOG(P8))/LOG(2))))","v":-0.21431358038936418},null,null,{"$f":"N8","v":112},{"$f":"COUNTIF(L7:L20,T8)","v":0},{"$f":"U8/(W4-U9)","v":0},{"$f":"IF(V8=0,0,(V8*((LOG(V8))/LOG(2))))","v":0},null,{"$f":"N8","v":112},{"$f":"COUNTIF(L21:L33,Y8)","v":0},{"$f":"Z8/(AB4-Z9)","v":0},{"$f":"IF(AA8=0,0,(AA8*((LOG(AA8))/LOG(2))))","v":0},null,{"$f":"N8","v":112},{"$f":"COUNTIF(L34:L47,AD8)","v":1},{"$f":"AE8/(AG4-AE9)","v":0.1111111111111111},{"$f":"IF(AF8=0,0,(AF8*((LOG(AF8))/LOG(2))))","v":-0.3522138890491458},null,{"$f":"N8","v":112},{"$f":"COUNTIF(L48:L60,AI8)","v":0},{"$f":"AJ8/(AL4-AJ9)","v":0},{"$f":"IF(AK8=0,0,(AK8*((LOG(AK8))/LOG(2))))","v":0},null,{"$f":"N8","v":112},{"$f":"COUNTIF(L61:L74,AN8)","v":1},{"$f":"AO8/(AQ4-AO9)","v":0.125},{"$f":"IF(AP8=0,0,(AP8*((LOG(AP8))/LOG(2))))","v":-0.375},null,{"$f":"N8","v":112},{"$f":"COUNTIF(L75:L87,AS8)","v":2},{"$f":"AT8/(AV4-AT9)","v":0.2857142857142857},{"$f":"IF(AU8=0,0,(AU8*((LOG(AU8))/LOG(2))))","v":-0.51638712058788683}]
[11,261,21,273,11,294,null,null,null,null,0,121,null,121,{"$f":"COUNTIF($L$7:$L$500,N9)","v":38},{"$f":"O9/$Q$4","v":0.46913580246913578},{"$f":"IF(P9=0,0,(P9*((LOG(P9))/LOG(2))))","v":-0.51225993331801845},null,null,{"$f":"N9","v":121},{"$f":"COUNTIF(L7:L20,T9)","v":9},null,null,null,{"$f":"N9","v":121},{"$f":"COUNTIF(L21:L33,Y9)","v":5},null,null,null,{"$f":"N9","v":121},{"$f":"COUNTIF(L34:L47,AD9)","v":5},null,null,null,{"$f":"N9","v":121},{"$f":"COUNTIF(L48:L60,AI9)","v":7},null,null,null,{"$f":"N9","v":121},{"$f":"COUNTIF(L61:L74,AN9)","v":6},null,null,null,{"$f":"N9","v":121},{"$f":"COUNTIF(L75:L87,AS9)","v":6}]
[11,520,12,525,13,532,null,null,null,null,0,111,null,122,{"$f":"COUNTIF($L$7:$L$500,N10)","v":9},{"$f":"O10/$Q$4","v":0.1111111111111111},{"$f":"IF(P10=0,0,(P10*((LOG(P10))/LOG(2))))","v":-0.3522138890491458},null,null,{"$f":"N10","v":122},{"$f":"COUNTIF(L7:L20,T10)","v":1},{"$f":"U10/(W4-U9)","v":0.2},{"$f":"IF(V10=0,0,(V10*((LOG(V10))/LOG(2))))","v":-0.46438561897747244},null,{"$f":"N10","v":122},{"$f":"COUNTIF(L21:L33,Y10)","v":3},{"$f":"Z10/(AB4-Z9)","v":0.375},{"$f":"IF(AA10=0,0,(AA10*((LOG(AA10))/LOG(2))))","v":-0.53063906222956647},null,{"$f":"N10","v":122},{"$f":"COUNTIF(L34:L47,AD10)","v":2},{"$f":"AE10/(AG4-AE9)","v":0.22222222222222221},{"$f":"IF(AF10=0,0,(AF10*((LOG(AF10))/LOG(2))))","v":-0.48220555587606945},null,{"$f":"N10","v":122},{"$f":"COUNTIF(L48:L60,AI10)","v":3},{"$f":"AJ10/(AL4-AJ9)","v":0.5},{"$f":"IF(AK10=0,0,(AK10*((LOG(AK10))/LOG(2))))","v":-0.5},null,{"$f":"N10","v":122},{"$f":"COUNTIF(L61:L74,AN10)","v":0},{"$f":"AO10/(AQ4-AO9)","v":0},{"$f":"IF(AP10=0,0,(AP10*((LOG(AP10))/LOG(2))))","v":0},null,{"$f":"N10","v":122},{"$f":"COUNTIF(L75:L87,AS10)","v":0},{"$f":"AT10/(AV4-AT9)","v":0},{"$f":"IF(AU10=0,0,(AU10*((LOG(AU10))/LOG(2))))","v":0}]
[11,630,21,638,11,647,null,null,null,null,0,121,null,211,{"$f":"COUNTIF($L$7:$L$500,N11)","v":5},{"$f":"O11/$Q$4","v":6.1728395061728392E-2},{"$f":"IF(P11=0,0,(P11*((LOG(P11))/LOG(2))))","v":-0.24801987086402855},null,null,{"$f":"N11","v":211},{"$f":"COUNTIF(L7:L20,T11)","v":0},{"$f":"U11/(W4-U9)","v":0},{"$f":"IF(V11=0,0,(V11*((LOG(V11))/LOG(2))))","v":0},null,{"$f":"N11","v":211},{"$f":"COUNTIF(L21:L33,Y11)","v":1},{"$f":"Z11/(AB4-Z9)","v":0.125},{"$f":"IF(AA11=0,0,(AA11*((LOG(AA11))/LOG(2))))","v":-0.375},null,{"$f":"N11","v":211},{"$f":"COUNTIF(L34:L47,AD11)","v":0},{"$f":"AE11/(AG4-AE9)","v":0},{"$f":"IF(AF11=0,0,(AF11*((LOG(AF11))/LOG(2))))","v":0},null,{"$f":"N11","v":211},{"$f":"COUNTIF(L48:L60,AI11)","v":1},{"$f":"AJ11/(AL4-AJ9)","v":0.16666666666666666},{"$f":"IF(AK11=0,0,(AK11*((LOG(AK11))/LOG(2))))","v":-0.43082708345352599},null,{"$f":"N11","v":211},{"$f":"COUNTIF(L61:L74,AN11)","v":3},{"$f":"AO11/(AQ4-AO9)","v":0.375},{"$f":"IF(AP11=0,0,(AP11*((LOG(AP11))/LOG(2))))","v":-0.53063906222956647},null,{"$f":"N11","v":211},{"$f":"COUNTIF(L75:L87,AS11)","v":0},{"$f":"AT11/(AV4-AT9)","v":0},{"$f":"IF(AU11=0,0,(AU11*((LOG(AU11))/LOG(2))))","v":0}]
[11,909,21,923,11,934,null,null,null,null,0,121,null,212,{"$f":"COUNTIF($L$7:$L$500,N12)","v":4},{"$f":"O12/$Q$4","v":4.9382716049382713E-2},{"$f":"IF(P12=0,0,(P12*((LOG(P12))/LOG(2))))","v":-0.21431358038936418},null,null,{"$f":"N12","v":212},{"$f":"COUNTIF(L7:L20,T12)","v":0},{"$f":"U12/(W4-U9)","v":0},{"$f":"IF(V12=0,0,(V12*((LOG(V12))/LOG(2))))","v":0},null,{"$f":"N12","v":212},{"$f":"COUNTIF(L21:L33,Y12)","v":0},{"$f":"Z12/(AB4-Z9)","v":0},{"$f":"IF(AA12=0,0,(AA12*((LOG(AA12))/LOG(2))))","v":0},null,{"$f":"N12","v":212},{"$f":"COUNTIF(L34:L47,AD12)","v":1},{"$f":"AE12/(AG4-AE9)","v":0.1111111111111111},{"$f":"IF(AF12=0,0,(AF12*((LOG(AF12))/LOG(2))))","v":-0.3522138890491458},null,{"$f":"N12","v":212},{"$f":"COUNTIF(L48:L60,AI12)","v":0},{"$f":"AJ12/(AL4-AJ9)","v":0},{"$f":"IF(AK12=0,0,(AK12*((LOG(AK12))/LOG(2))))","v":0},null,{"$f":"N12","v":212},{"$f":"COUNTIF(L61:L74,AN12)","v":1},{"$f":"AO12/(AQ4-AO9)","v":0.125},{"$f":"IF(AP12=0,0,(AP12*((LOG(AP12))/LOG(2))))","v":-0.375},null,{"$f":"N12","v":212},{"$f":"COUNTIF(L75:L87,AS12)","v":2},{"$f":"AT12/(AV4-AT9)","v":0.2857142857142857},{"$f":"IF(AU12=0,0,(AU12*((LOG(AU12))/LOG(2))))","v":-0.51638712058788683}]
[11,1190,21,1202,11,1214,null,null,null,null,0,121,null,221,{"$f":"COUNTIF($L$7:$L$500,N13)","v":3},{"$f":"O13/$Q$4","v":3.7037037037037035E-2},{"$f":"IF(P13=0,0,(P13*((LOG(P13))/LOG(2))))","v":-0.1761069445245729},null,null,{"$f":"N13","v":221},{"$f":"COUNTIF(L7:L20,T13)","v":0},{"$f":"U13/(W4-U9)","v":0},{"$f":"IF(V13=0,0,(V13*((LOG(V13))/LOG(2))))","v":0},null,{"$f":"N13","v":221},{"$f":"COUNTIF(L21:L33,Y13)","v":1},{"$f":"Z13/(AB4-Z9)","v":0.125},{"$f":"IF(AA13=0,0,(AA13*((LOG(AA13))/LOG(2))))","v":-0.375},null,{"$f":"N13","v":221},{"$f":"COUNTIF(L34:L47,AD13)","v":0},{"$f":"AE13/(AG4-AE9)","v":0},{"$f":"IF(AF13=0,0,(AF13*((LOG(AF13))/LOG(2))))","v":0},null,{"$f":"N13","v":221},{"$f":"COUNTIF(L48:L60,AI13)","v":1},{"$f":"AJ13/(AL4-AJ9)","v":0.16666666666666666},{"$f":"IF(AK13=0,0,(AK13*((LOG(AK13))/LOG(2))))","v":-0.43082708345352599},null,{"$f":"N13","v":221},{"$f":"COUNTIF(L61:L74,AN13)","v":0},{"$f":"AO13/(AQ4-AO9)","v":0},{"$f":"IF(AP13=0,0,(AP13*((LOG(AP13))/LOG(2))))","v":0},null,{"$f":"N13","v":221},{"$f":"COUNTIF(L75:L87,AS13)","v":1},{"$f":"AT13/(AV4-AT9)","v":0.14285714285714285},{"$f":"IF(AU13=0,0,(AU13*((LOG(AU13))/LOG(2))))","v":-0.40105070315108626}]
[11,1446,21,1458,22,1460,null,null,null,null,0,122,null,222,{"$f":"COUNTIF($L$7:$L$500,N14)","v":7},{"$f":"O14/$Q$4","v":8.6419753086419748E-2},{"$f":"IF(P14=0,0,(P14*((LOG(P14))/LOG(2))))","v":-0.30527735266406353},null,null,{"$f":"N14","v":222},{"$f":"COUNTIF(L7:L20,T14)","v":0},{"$f":"U14/(W4-U9)","v":0},{"$f":"IF(V14=0,0,(V14*((LOG(V14))/LOG(2))))","v":0},null,{"$f":"N14","v":222},{"$f":"COUNTIF(L21:L33,Y14)","v":2},{"$f":"Z14/(AB4-Z9)","v":0.25},{"$f":"IF(AA14=0,0,(AA14*((LOG(AA14))/LOG(2))))","v":-0.5},null,{"$f":"N14","v":222},{"$f":"COUNTIF(L34:L47,AD14)","v":4},{"$f":"AE14/(AG4-AE9)","v":0.44444444444444442},{"$f":"IF(AF14=0,0,(AF14*((LOG(AF14))/LOG(2))))","v":-0.51996666730769447},null,{"$f":"N14","v":222},{"$f":"COUNTIF(L48:L60,AI14)","v":0},{"$f":"AJ14/(AL4-AJ9)","v":0},{"$f":"IF(AK14=0,0,(AK14*((LOG(AK14))/LOG(2))))","v":0},null,{"$f":"N14","v":222},{"$f":"COUNTIF(L61:L74,AN14)","v":1},{"$f":"AO14/(AQ4-AO9)","v":0.125},{"$f":"IF(AP14=0,0,(AP14*((LOG(AP14))/LOG(2))))","v":-0.375},null,{"$f":"N14","v":222},{"$f":"COUNTIF(L75:L87,AS14)","v":0},{"$f":"AT14/(AV4-AT9)","v":0},{"$f":"IF(AU14=0,0,(AU14*((LOG(AU14))/LOG(2))))","v":0}]
[11,1615,12,1632,13,1646,null,null,null,null,0,111,null,null,null,{"$f":"SUM(P7:P14)","v":1},{"$f":"-SUM(Q7:Q14)","v":2.4136730799235031},null,null,null,null,{"$f":"SUM(V7:V14)","v":1},{"$f":"-SUM(W7:W14)","v":0.72192809488736231},null,null,null,{"$f":"SUM(AA7:AA14)","v":1},{"$f":"-SUM(AB7:AB14)","v":2.1556390622295662},null,null,null,{"$f":"SUM(AF7:AF14)","v":1},{"$f":"-SUM(AG7:AG14)","v":2.0588138903312014},null,null,null,{"$f":"SUM(AK7:AK14)","v":0.99999999999999989},{"$f":"-SUM(AL7:AL14)","v":1.7924812503605778},null,null,null,{"$f":"SUM(AP7:AP14)","v":1},{"$f":"-SUM(AQ7:AQ14)","v":2.1556390622295662},null,null,null,{"$f":"SUM(AU7:AU14)","v":1},{"$f":"-SUM(AV7:AV14)","v":1.950212064914747}]
[11,1754,21,1765,11,1777,null,null,null,null,0,121,null,null,null,"U=",{"$f":"Q15/(LOG(Q4)/LOG(2))","v":0.38071454037954916},null,null,null,null,"U1=",{"$f":"W15/(LOG(W4)/LOG(2))","v":0.18961407845245268},null,null,null,"U2=",{"$f":"AB15/(LOG(AB4)/LOG(2))","v":0.58253592178835623},null,null,null,"U3=",{"$f":"AG15/(LOG(AG4)/LOG(2))","v":0.54074651102360571},null,null,null,"U4=",{"$f":"AL15/(LOG(AL4)/LOG(2))","v":0.484396824943017},null,null,null,"U5=",{"$f":"AQ15/(LOG(AQ4)/LOG(2))","v":0.56617759740260754},null,null,null,"U6=",{"$f":"AV15/(LOG(AV4)/LOG(2))","v":0.52702170916445346}]
[11,1967,21,1977,11,1987,null,null,null,null,0,121]
[11,2156,21,2171,11,2183,null,null,null,null,0,121]
[11,2347,21,2360,11,2373,null,null,null,null,0,121,null,"Total Target Seq"]
[11,2577,21,2587,11,2603,null,null,null,null,0,121,null,{"$f":"COUNTIF(L7:L87,G3)","v":38},null,14,13,14,13,14,13]
[11,2758,12,2785,13,2850,null,null,null,null,0,111,null,null,null,"% of reinforcement given in 6 equal intervals based on number of trials "]
[11,2945,21,2954,11,2963,null,null,null,null,0,121,null,null,null,"%_1","%_2","%_3","%_4","%_5","%_6"]
[22,3093,23,3098,13,3110,null,null,null,null,0,221,null,null,"target sequence",{"$f":"$G$3","v":121},{"$f":"$G$3","v":121},{"$f":"$G$3","v":121},{"$f":"$G$3","v":121},{"$f":"$G$3","v":121},{"$f":"$G$3","v":121}]
[11,3206,21,3217,22,3223,null,null,null,null,0,122,null,null,"total reinforcement",{"$f":"U9","v":9},{"$f":"Z9","v":5},{"$f":"AE9","v":5},{"$f":"AJ9","v":7},{"$f":"AO9","v":6},{"$f":"AT9","v":6}]
[11,3326,21,3335,11,3350,null,null,null,null,0,121,null,null,"% target"]
[11,3609,21,3618,22,3620,null,null,null,null,0,122,null,null,"CCRF"]
[22,3725,23,3730,24,3742,null,null,null,null,0,222,null,null,"% CCRf"]
[11,3843,21,3850,11,3861,null,null,null,null,0,121,null,null,"average response rate",{"$f":"F20/P20","v":185.92857142857142},{"$f":"(F33-F20)/Q20","v":150.84615384615384},{"$f":"(F47-F33)/R20","v":165.21428571428572},{"$f":"(F60-F47)/S20","v":166.30769230769232},{"$f":"(F74-F60)/T20","v":173.14285714285714},{"$f":"(F87-F74)/U20","v":185}]
[22,4008,23,4014,24,4019,null,null,null,null,0,222]
[11,4120,21,4125,22,4131,null,null,null,null,0,122]
[11,4227,21,4234,11,4253,null,null,null,null,0,121]
[22,4405,14,4423,13,4443,null,null,null,null,0,211]
[11,4546,21,4553,11,4564,null,null,null,null,0,121]
[11,4708,21,4716,22,4721,null,null,null,null,0,122]
[22,4820,23,4828,24,4834,null,null,null,null,0,222]
[11,4934,21,4941,11,4955,null,null,null,null,0,121]
[11,5195,12,5218,24,5232,null,null,null,null,0,112]
[22,5340,23,5346,24,5352,null,null,null,null,0,222]
[22,5450,23,5456,24,5462,null,null,null,null,0,222]
[22,5566,23,5573,24,5579,null,null,null,null,0,222]
[11,5678,12,5689,13,5696,null,null,null,null,0,111]
[11,5797,21,5805,11,5821,null,null,null,null,0,121]
[11,5955,21,5968,11,5978,null,null,null,null,0,121]
[11,6281,21,6296,11,6311,null,null,null,null,0,121]
[11,6539,21,6550,11,6568,null,null,null,null,0,121]
[22,6737,14,6748,24,6764,null,null,null,null,0,212]
[11,6864,21,6872,22,6877,null,null,null,null,0,122]
[11,6977,21,6985,11,6997,null,null,null,null,0,121]
[11,7142,12,7163,13,7180,null,null,null,null,0,111]
[22,7281,23,7288,13,7313,null,null,null,null,0,221]
[22,7440,14,7452,13,7471,null,null,null,null,0,211]
[11,7574,21,7582,22,7586,null,null,null,null,0,122]
[11,7683,21,7690,11,7701,null,null,null,null,0,121]
[11,7887,21,7895,22,7905,null,null,null,null,0,122]
[11,8014,21,8022,22,8027,null,null,null,null,0,122]
[11,8126,21,8132,11,8153,null,null,null,null,0,121]
[11,8344,21,8354,11,8375,null,null,null,null,0,121]
[11,8522,21,8533,11,8542,null,null,null,null,0,121]
[11,8753,21,8762,11,8777,null,null,null,null,0,121]
[11,9001,21,9017,11,9039,null,null,null,null,0,121]
[11,9216,21,9229,11,9240,null,null,null,null,0,121]
[11,9471,12,9492,13,9511,null,null,null,null,0,111]
[22,9625,14,9638,13,9645,null,null,null,null,0,211]
[11,9775,12,9788,13,9800,null,null,null,null,0,111]
[11,9899,21,9906,11,9917,null,null,null,null,0,121]
[22,10165,14,10177,24,10193,null,null,null,null,0,212]
[22,10288,23,10297,24,10301,null,null,null,null,0,222]
[22,10407,14,10422,13,10436,null,null,null,null,0,211]
[11,10530,12,10534,24,10541,null,null,null,null,0,112]
[11,10658,21,10669,11,10680,null,null,null,null,0,121]
[11,10847,21,10855,11,10872,null,null,null,null,0,121]
[11,11052,21,11065,11,11082,null,null,null,null,0,121]
[22,11315,14,11328,13,11345,null,null,null,null,0,211]
[11,11440,21,11450,11,11463,null,null,null,null,0,121]
[22,11747,14,11762,24,11790,null,null,null,null,0,212]
[11,11899,12,11921,13,11932,null,null,null,null,0,111]
[11,12030,21,12037,11,12047,null,null,null,null,0,121]
[11,12209,21,12219,11,12233,null,null,null,null,0,121]
[11,12432,21,12442,11,12455,null,null,null,null,0,121]
[11,12664,21,12674,11,12683,null,null,null,null,0,121]
[22,12923,14,12944,24,12961,null,null,null,null,0,212]
[22,13067,23,13072,13,13088,null,null,null,null,0,221]
[11,13281,12,13300,24,13338,null,null,null,null,0,112]
[11,13441,12,13452,24,13459,null,null,null,null,0,112]
[11,13559,12,13581,13,13600,null,null,null,null,0,111]
[11,13703,21,13716,11,13734,null,null,null,null,0,121]
[11,13850,21,13859,11,13868,null,null,null,null,1,121]

{"sheet":"!M311B3D.UST","index":24,"n_rows":80,"n_cols":48,"rows_kept":80,"cut":false,"hidden":false,"merged":[[4,39,4,42],[5,39,5,40],[4,44,4,47],[5,44,5,45],[4,24,4,27],[5,24,5,25],[4,29,4,32],[5,29,5,30],[4,34,4,37],[5,34,5,35],[1,1,1,2],[5,13,5,14],[18,13,18,14],[19,13,19,14],[4,19,4,22],[5,19,5,20]]}
["Report for:!M311B3D.UST"]
["Date:","<date>"]
["Hen:","<hen>",null,null,null,"Correct Sequence",{"$f":"Start!J2","v":121},null,null,null,null,null,null,null,null,"Total Sequences in Data",{"$f":"4994-COUNTBLANK(L7:L5000)","v":74},null,null,null,null,"Total Sequences in Block Data",{"$f":"COUNTA(L7:L18)","v":12},null,null,null,"Total Sequences in Block Data",{"$f":"COUNTA(L19:L31)","v":13},null,null,null,"Total Sequences in Block Data",{"$f":"COUNTA(L32:L43)","v":12},null,null,null,"Total Sequences in Block Data",{"$f":"COUNTA(L44:L55)","v":12},null,null,null,"Total Sequences in Block Data",{"$f":"COUNTA(L56:L68)","v":13},null,null,null,"Total Sequences in Block Data",{"$f":"COUNTA(L69:L80)","v":12}]
[null,null,null,null,null,null,null,null,null,null,null,null,null,null,null,"Total Sequences in Summary",{"$f":"SUM(O7:O14)","v":74},null,null,null,null,"Total Sequences in Block Summary",{"$f":"SUM(U7:U14)","v":12},null,null,null,"Total Sequences in Block Summary",{"$f":"SUM(Z7:Z14)","v":13},null,null,null,"Total Sequences in Block Summary",{"$f":"SUM(AE7:AE14)","v":12},null,null,null,"Total Sequences in Block Summary",{"$f":"SUM(AJ7:AJ14)","v":12},null,null,null,"Total Sequences in Block Summary",{"$f":"SUM(AO7:AO14)","v":13},null,null,null,"Total Sequences in Block Summary",{"$f":"SUM(AT7:AT14)","v":12}]
[null,null,null,null,null,null,null,null,null,null,null,null,null,null,null,null,null,null,null,"Block 1",null,null,null,null,"Block 2",null,null,null,null,"Block 3",null,null,null,null,"Block 4",null,null,null,null,"Block 5",null,null,null,null,"Block 6"]
["Sequence\nComponent\n1","Time\n1","Sequence\nComponent\n2","Time\n2","Sequence\nComponent\n3","Time\n3","Sequence\nComponent\n4","Time\n4","Sequence\nComponent\n5","Time\n5","Correct?\n0=No 1=Yes","Sequence",null,"Frequency",null,"Relative Frequency","Variability",null,null,"Frequency",null,"Relative Frequency","Variability",null,"Frequency",null,"Relative Frequency","Variability",null,"Frequency",null,"Relative Frequency","Variability",null,"Frequency",null,"Relative Frequency","Variability",null,"Frequency",null,"Relative Frequency","Variability",null,"Frequency",null,"Relative Frequency","Variability"]
[22,44,23,49,13,75,null,null,null,null,0,221,null,111,{"$f":"COUNTIF($L$7:$L$500,N7)","v":14},{"$f":"O7/$Q$4","v":0.1891891891891892},{"$f":"IF(P7=0,0,(P7*((LOG(P7))/LOG(2))))","v":-0.4544510568918762},null,null,{"$f":"N7","v":111},{"$f":"COUNTIF(L7:L18,T7)","v":4},{"$f":"U7/(W4-U9)","v":0.5},{"$f":"IF(V7=0,0,(V7*((LOG(V7))/LOG(2))))","v":-0.5},null,{"$f":"N7","v":111},{"$f":"COUNTIF(L19:L31,Y7)","v":1},{"$f":"Z7/(AB4-Z9)","v":0.16666666666666666},{"$f":"IF(AA7=0,0,(AA7*((LOG(AA7))/LOG(2))))","v":-0.43082708345352599},null,{"$f":"N7","v":111},{"$f":"COUNTIF(L32:L43,AD7)","v":3},{"$f":"AE7/(AG4-AE9)","v":0.75},{"$f":"IF(AF7=0,0,(AF7*((LOG(AF7))/LOG(2))))","v":-0.31127812445913283},null,{"$f":"N7","v":111},{"$f":"COUNTIF(L44:L55,AI7)","v":2},{"$f":"AJ7/(AL4-AJ9)","v":0.33333333333333331},{"$f":"IF(AK7=0,0,(AK7*((LOG(AK7))/LOG(2))))","v":-0.52832083357371862},null,{"$f":"N7","v":111},{"$f":"COUNTIF(L56:L68,AN7)","v":2},{"$f":"AO7/(AQ4-AO9)","v":0.2857142857142857},{"$f":"IF(AP7=0,0,(AP7*((LOG(AP7))/LOG(2))))","v":-0.51638712058788683},null,{"$f":"N7","v":111},{"$f":"COUNTIF(L69:L80,AS7)","v":2},{"$f":"AT7/(AV4-AT9)","v":0.5},{"$f":"IF(AU7=0,0,(AU7*((LOG(AU7))/LOG(2))))","v":-0.5}]
[11,175,12,183,13,191,null,null,null,null,0,111,null,112,{"$f":"COUNTIF($L$7:$L$500,N8)","v":6},{"$f":"O8/$Q$4","v":8.1081081081081086E-2},{"$f":"IF(P8=0,0,(P8*((LOG(P8))/LOG(2))))","v":-0.29387763769522651},null,null,{"$f":"N8","v":112},{"$f":"COUNTIF(L7:L18,T8)","v":1},{"$f":"U8/(W4-U9)","v":0.125},{"$f":"IF(V8=0,0,(V8*((LOG(V8))/LOG(2))))","v":-0.375},null,{"$f":"N8","v":112},{"$f":"COUNTIF(L19:L31,Y8)","v":1},{"$f":"Z8/(AB4-Z9)","v":0.16666666666666666},{"$f":"IF(AA8=0,0,(AA8*((LOG(AA8))/LOG(2))))","v":-0.43082708345352599},null,{"$f":"N8","v":112},{"$f":"COUNTIF(L32:L43,AD8)","v":0},{"$f":"AE8/(AG4-AE9)","v":0},{"$f":"IF(AF8=0,0,(AF8*((LOG(AF8))/LOG(2))))","v":0},null,{"$f":"N8","v":112},{"$f":"COUNTIF(L44:L55,AI8)","v":1},{"$f":"AJ8/(AL4-AJ9)","v":0.16666666666666666},{"$f":"IF(AK8=0,0,(AK8*((LOG(AK8))/LOG(2))))","v":-0.43082708345352599},null,{"$f":"N8","v":112},{"$f":"COUNTIF(L56:L68,AN8)","v":1},{"$f":"AO8/(AQ4-AO9)","v":0.14285714285714285},{"$f":"IF(AP8=0,0,(AP8*((LOG(AP8))/LOG(2))))","v":-0.40105070315108626},null,{"$f":"N8","v":112},{"$f":"COUNTIF(L69:L80,AS8)","v":2},{"$f":"AT8/(AV4-AT9)","v":0.5},{"$f":"IF(AU8=0,0,(AU8*((LOG(AU8))/LOG(2))))","v":-0.5}]
[11,291,21,301,11,312,null,null,null,null,0,121,null,121,{"$f":"COUNTIF($L$7:$L$500,N9)","v":39},{"$f":"O9/$Q$4","v":0.52702702702702697},{"$f":"IF(P9=0,0,(P9*((LOG(P9))/LOG(2))))","v":-0.48699992870136966},null,null,{"$f":"N9","v":121},{"$f":"COUNTIF(L7:L18,T9)","v":4},null,null,null,{"$f":"N9","v":121},{"$f":"COUNTIF(L19:L31,Y9)","v":7},null,null,null,{"$f":"N9","v":121},{"$f":"COUNTIF(L32:L43,AD9)","v":8},null,null,null,{"$f":"N9","v":121},{"$f":"COUNTIF(L44:L55,AI9)","v":6},null,null,null,{"$f":"N9","v":121},{"$f":"COUNTIF(L56:L68,AN9)","v":6},null,null,null,{"$f":"N9","v":121},{"$f":"COUNTIF(L69:L80,AS9)","v":8}]
[11,476,12,484,24,492,null,null,null,null,0,112,null,122,{"$f":"COUNTIF($L$7:$L$500,N10)","v":4},{"$f":"O10/$Q$4","v":5.4054054054054057E-2},{"$f":"IF(P10=0,0,(P10*((LOG(P10))/LOG(2))))","v":-0.22753801976372701},null,null,{"$f":"N10","v":122},{"$f":"COUNTIF(L7:L18,T10)","v":0},{"$f":"U10/(W4-U9)","v":0},{"$f":"IF(V10=0,0,(V10*((LOG(V10))/LOG(2))))","v":0},null,{"$f":"N10","v":122},{"$f":"COUNTIF(L19:L31,Y10)","v":2},{"$f":"Z10/(AB4-Z9)","v":0.33333333333333331},{"$f":"IF(AA10=0,0,(AA10*((LOG(AA10))/LOG(2))))","v":-0.52832083357371862},null,{"$f":"N10","v":122},{"$f":"COUNTIF(L32:L43,AD10)","v":1},{"$f":"AE10/(AG4-AE9)","v":0.25},{"$f":"IF(AF10=0,0,(AF10*((LOG(AF10))/LOG(2))))","v":-0.5},null,{"$f":"N10","v":122},{"$f":"COUNTIF(L44:L55,AI10)","v":1},{"$f":"AJ10/(AL4-AJ9)","v":0.16666666666666666},{"$f":"IF(AK10=0,0,(AK10*((LOG(AK10))/LOG(2))))","v":-0.43082708345352599},null,{"$f":"N10","v":122},{"$f":"COUNTIF(L56:L68,AN10)","v":0},{"$f":"AO10/(AQ4-AO9)","v":0},{"$f":"IF(AP10=0,0,(AP10*((LOG(AP10))/LOG(2))))","v":0},null,{"$f":"N10","v":122},{"$f":"COUNTIF(L69:L80,AS10)","v":0},{"$f":"AT10/(AV4-AT9)","v":0},{"$f":"IF(AU10=0,0,(AU10*((LOG(AU10))/LOG(2))))","v":0}]
[11,691,12,715,13,730,null,null,null,null,0,111,null,211,{"$f":"COUNTIF($L$7:$L$500,N11)","v":5},{"$f":"O11/$Q$4","v":6.7567567567567571E-2},{"$f":"IF(P11=0,0,(P11*((LOG(P11))/LOG(2))))","v":-0.26267062640145861},null,null,{"$f":"N11","v":211},{"$f":"COUNTIF(L7:L18,T11)","v":1},{"$f":"U11/(W4-U9)","v":0.125},{"$f":"IF(V11=0,0,(V11*((LOG(V11))/LOG(2))))","v":-0.375},null,{"$f":"N11","v":211},{"$f":"COUNTIF(L19:L31,Y11)","v":1},{"$f":"Z11/(AB4-Z9)","v":0.16666666666666666},{"$f":"IF(AA11=0,0,(AA11*((LOG(AA11))/LOG(2))))","v":-0.43082708345352599},null,{"$f":"N11","v":211},{"$f":"COUNTIF(L32:L43,AD11)","v":0},{"$f":"AE11/(AG4-AE9)","v":0},{"$f":"IF(AF11=0,0,(AF11*((LOG(AF11))/LOG(2))))","v":0},null,{"$f":"N11","v":211},{"$f":"COUNTIF(L44:L55,AI11)","v":1},{"$f":"AJ11/(AL4-AJ9)","v":0.16666666666666666},{"$f":"IF(AK11=0,0,(AK11*((LOG(AK11))/LOG(2))))","v":-0.43082708345352599},null,{"$f":"N11","v":211},{"$f":"COUNTIF(L56:L68,AN11)","v":2},{"$f":"AO11/(AQ4-AO9)","v":0.2857142857142857},{"$f":"IF(AP11=0,0,(AP11*((LOG(AP11))/LOG(2))))","v":-0.51638712058788683},null,{"$f":"N11","v":211},{"$f":"COUNTIF(L69:L80,AS11)","v":0},{"$f":"AT11/(AV4-AT9)","v":0},{"$f":"IF(AU11=0,0,(AU11*((LOG(AU11))/LOG(2))))","v":0}]
[11,831,21,844,11,862,null,null,null,null,0,121,null,212,{"$f":"COUNTIF($L$7:$L$500,N12)","v":1},{"$f":"O12/$Q$4","v":1.3513513513513514E-2},{"$f":"IF(P12=0,0,(P12*((LOG(P12))/LOG(2))))","v":-8.3911531967958794E-2},null,null,{"$f":"N12","v":212},{"$f":"COUNTIF(L7:L18,T12)","v":0},{"$f":"U12/(W4-U9)","v":0},{"$f":"IF(V12=0,0,(V12*((LOG(V12))/LOG(2))))","v":0},null,{"$f":"N12","v":212},{"$f":"COUNTIF(L19:L31,Y12)","v":0},{"$f":"Z12/(AB4-Z9)","v":0},{"$f":"IF(AA12=0,0,(AA12*((LOG(AA12))/LOG(2))))","v":0},null,{"$f":"N12","v":212},{"$f":"COUNTIF(L32:L43,AD12)","v":0},{"$f":"AE12/(AG4-AE9)","v":0},{"$f":"IF(AF12=0,0,(AF12*((LOG(AF12))/LOG(2))))","v":0},null,{"$f":"N12","v":212},{"$f":"COUNTIF(L44:L55,AI12)","v":1},{"$f":"AJ12/(AL4-AJ9)","v":0.16666666666666666},{"$f":"IF(AK12=0,0,(AK12*((LOG(AK12))/LOG(2))))","v":-0.43082708345352599},null,{"$f":"N12","v":212},{"$f":"COUNTIF(L56:L68,AN12)","v":0},{"$f":"AO12/(AQ4-AO9)","v":0},{"$f":"IF(AP12=0,0,(AP12*((LOG(AP12))/LOG(2))))","v":0},null,{"$f":"N12","v":212},{"$f":"COUNTIF(L69:L80,AS12)","v":0},{"$f":"AT12/(AV4-AT9)","v":0},{"$f":"IF(AU12=0,0,(AU12*((LOG(AU12))/LOG(2))))","v":0}]
[22,995,23,1000,13,1016,null,null,null,null,0,221,null,221,{"$f":"COUNTIF($L$7:$L$500,N13)","v":2},{"$f":"O13/$Q$4","v":2.7027027027027029E-2},{"$f":"IF(P13=0,0,(P13*((LOG(P13))/LOG(2))))","v":-0.14079603690889056},null,null,{"$f":"N13","v":221},{"$f":"COUNTIF(L7:L18,T13)","v":2},{"$f":"U13/(W4-U9)","v":0.25},{"$f":"IF(V13=0,0,(V13*((LOG(V13))/LOG(2))))","v":-0.5},null,{"$f":"N13","v":221},{"$f":"COUNTIF(L19:L31,Y13)","v":0},{"$f":"Z13/(AB4-Z9)","v":0},{"$f":"IF(AA13=0,0,(AA13*((LOG(AA13))/LOG(2))))","v":0},null,{"$f":"N13","v":221},{"$f":"COUNTIF(L32:L43,AD13)","v":0},{"$f":"AE13/(AG4-AE9)","v":0},{"$f":"IF(AF13=0,0,(AF13*((LOG(AF13))/LOG(2))))","v":0},null,{"$f":"N13","v":221},{"$f":"COUNTIF(L44:L55,AI13)","v":0},{"$f":"AJ13/(AL4-AJ9)","v":0},{"$f":"IF(AK13=0,0,(AK13*((LOG(AK13))/LOG(2))))","v":0},null,{"$f":"N13","v":221},{"$f":"COUNTIF(L56:L68,AN13)","v":0},{"$f":"AO13/(AQ4-AO9)","v":0},{"$f":"IF(AP13=0,0,(AP13*((LOG(AP13))/LOG(2))))","v":0},null,{"$f":"N13","v":221},{"$f":"COUNTIF(L69:L80,AS13)","v":0},{"$f":"AT13/(AV4-AT9)","v":0},{"$f":"IF(AU13=0,0,(AU13*((LOG(AU13))/LOG(2))))","v":0}]
[22,1128,14,1140,13,1156,null,null,null,null,0,211,null,222,{"$f":"COUNTIF($L$7:$L$500,N14)","v":3},{"$f":"O14/$Q$4","v":4.0540540540540543E-2},{"$f":"IF(P14=0,0,(P14*((LOG(P14))/LOG(2))))","v":-0.1874793593881538},null,null,{"$f":"N14","v":222},{"$f":"COUNTIF(L7:L18,T14)","v":0},{"$f":"U14/(W4-U9)","v":0},{"$f":"IF(V14=0,0,(V14*((LOG(V14))/LOG(2))))","v":0},null,{"$f":"N14","v":222},{"$f":"COUNTIF(L19:L31,Y14)","v":1},{"$f":"Z14/(AB4-Z9)","v":0.16666666666666666},{"$f":"IF(AA14=0,0,(AA14*((LOG(AA14))/LOG(2))))","v":-0.43082708345352599},null,{"$f":"N14","v":222},{"$f":"COUNTIF(L32:L43,AD14)","v":0},{"$f":"AE14/(AG4-AE9)","v":0},{"$f":"IF(AF14=0,0,(AF14*((LOG(AF14))/LOG(2))))","v":0},null,{"$f":"N14","v":222},{"$f":"COUNTIF(L44:L55,AI14)","v":0},{"$f":"AJ14/(AL4-AJ9)","v":0},{"$f":"IF(AK14=0,0,(AK14*((LOG(AK14))/LOG(2))))","v":0},null,{"$f":"N14","v":222},{"$f":"COUNTIF(L56:L68,AN14)","v":2},{"$f":"AO14/(AQ4-AO9)","v":0.2857142857142857},{"$f":"IF(AP14=0,0,(AP14*((LOG(AP14))/LOG(2))))","v":-0.51638712058788683},null,{"$f":"N14","v":222},{"$f":"COUNTIF(L69:L80,AS14)","v":0},{"$f":"AT14/(AV4-AT9)","v":0},{"$f":"IF(AU14=0,0,(AU14*((LOG(AU14))/LOG(2))))","v":0}]
[11,1256,21,1262,11,1278,null,null,null,null,0,121,null,null,null,{"$f":"SUM(P7:P14)","v":1},{"$f":"-SUM(Q7:Q14)","v":2.1377241977186614},null,null,null,null,{"$f":"SUM(V7:V14)","v":1},{"$f":"-SUM(W7:W14)","v":1.75},null,null,null,{"$f":"SUM(AA7:AA14)","v":0.99999999999999989},{"$f":"-SUM(AB7:AB14)","v":2.2516291673878226},null,null,null,{"$f":"SUM(AF7:AF14)","v":1},{"$f":"-SUM(AG7:AG14)","v":0.81127812445913283},null,null,null,{"$f":"SUM(AK7:AK14)","v":0.99999999999999989},{"$f":"-SUM(AL7:AL14)","v":2.2516291673878226},null,null,null,{"$f":"SUM(AP7:AP14)","v":0.99999999999999989},{"$f":"-SUM(AQ7:AQ14)","v":1.9502120649147465},null,null,null,{"$f":"SUM(AU7:AU14)","v":1},{"$f":"-SUM(AV7:AV14)","v":1}]
[11,1430,21,1440,11,1450,null,null,null,null,0,121,null,null,null,"U=",{"$f":"Q15/(LOG(Q4)/LOG(2))","v":0.34426930549983015},null,null,null,null,"U1=",{"$f":"W15/(LOG(W4)/LOG(2))","v":0.48815015488947716},null,null,null,"U2=",{"$f":"AB15/(LOG(AB4)/LOG(2))","v":0.60847611064960772},null,null,null,"U3=",{"$f":"AG15/(LOG(AG4)/LOG(2))","v":0.22630030977895443},null,null,null,"U4=",{"$f":"AL15/(LOG(AL4)/LOG(2))","v":0.62807607246516006},null,null,null,"U5=",{"$f":"AQ15/(LOG(AQ4)/LOG(2))","v":0.52702170916445334},null,null,null,"U6=",{"$f":"AV15/(LOG(AV4)/LOG(2))","v":0.27894294565112981}]
[11,1677,12,1701,13,1722,null,null,null,null,0,111]
[11,1832,12,1850,13,1867,null,null,null,null,0,111]
[11,1969,21,1977,11,1994,null,null,null,null,0,121,null,"Total Target Seq"]
[22,2180,14,2187,13,2196,null,null,null,null,0,211,null,{"$f":"COUNTIF(L7:L80,G3)","v":39},null,12,13,12,12,13,12]
[11,2298,21,2314,11,2325,null,null,null,null,0,121,null,null,null,"% of reinforcement given in 6 equal intervals based on number of trials "]
[11,2539,21,2551,11,2562,null,null,null,null,0,121,null,null,null,"%_1","%_2","%_3","%_4","%_5","%_6"]
[11,2748,12,2772,13,2796,null,null,null,null,0,111,null,null,"target sequence",{"$f":"$G$3","v":121},{"$f":"$G$3","v":121},{"$f":"$G$3","v":121},{"$f":"$G$3","v":121},{"$f":"$G$3","v":121},{"$f":"$G$3","v":121}]
[11,2900,21,2907,11,2918,null,null,null,null,0,121,null,null,"total reinforcement",{"$f":"U9","v":4},{"$f":"Z9","v":7},{"$f":"AE9","v":8},{"$f":"AJ9","v":6},{"$f":"AO9","v":6},{"$f":"AT9","v":8}]
[11,3087,21,3096,22,3101,null,null,null,null,0,122,null,null,"% target"]
[11,3207,21,3215,11,3230,null,null,null,null,0,121,null,null,"CCRF"]
[11,3434,12,3455,24,3471,null,null,null,null,0,112,null,null,"% CCRf"]
[11,3570,21,3577,11,3589,null,null,null,null,0,121,null,null,"average response rate",{"$f":"F18/P20","v":155.58333333333334},{"$f":"(F31-F18)/Q20","v":181.07692307692307},{"$f":"(F43-F31)/R20","v":185.33333333333334},{"$f":"(F55-F43)/S20","v":169.75},{"$f":"(F68-F55)/T20","v":176.76923076923077},{"$f":"(F80-F68)/U20","v":167.91666666666666}]
[22,3915,23,3920,24,3927,null,null,null,null,0,222]
[11,4022,21,4028,11,4040,null,null,null,null,0,121]
[11,4208,21,4216,22,4221,null,null,null,null,0,122]
[11,4322,21,4330,11,4340,null,null,null,null,0,121]
[11,4520,21,4528,22,4533,null,null,null,null,0,122]
[11,4636,12,4653,13,4671,null,null,null,null,0,111]
[11,4776,21,4786,11,4796,null,null,null,null,0,121]
[11,4904,21,4913,11,4935,null,null,null,null,0,121]
[11,5166,21,5177,11,5194,null,null,null,null,0,121]
[11,5382,12,5406,13,5473,null,null,null,null,0,111]
[11,5571,21,5578,11,5606,null,null,null,null,0,121]
[11,5771,21,5779,11,5800,null,null,null,null,0,121]
[11,6105,21,6116,11,6131,null,null,null,null,0,121]
[11,6290,12,6306,13,6314,null,null,null,null,0,111]
[11,6413,21,6433,11,6445,null,null,null,null,0,121]
[11,6578,21,6587,11,6596,null,null,null,null,0,121]
[11,6792,21,6803,11,6815,null,null,null,null,0,121]
[11,7042,21,7049,11,7058,null,null,null,null,0,121]
[11,7184,12,7208,24,7227,null,null,null,null,0,112]
[11,7328,21,7335,11,7350,null,null,null,null,0,121]
[22,7568,14,7583,13,7608,null,null,null,null,0,211]
[11,7710,21,7718,11,7728,null,null,null,null,0,121]
[11,7921,12,7944,13,7970,null,null,null,null,0,111]
[11,8072,12,8088,13,8101,null,null,null,null,0,111]
[22,8199,14,8221,24,8231,null,null,null,null,0,212]
[11,8332,21,8338,22,8341,null,null,null,null,0,122]
[11,8453,21,8463,11,8482,null,null,null,null,0,121]
[11,8707,21,8714,11,8735,null,null,null,null,0,121]
[11,8927,21,8936,11,8958,null,null,null,null,0,121]
[11,9127,12,9147,13,9156,null,null,null,null,0,111]
[22,9383,23,9388,24,9398,null,null,null,null,0,222]
[11,9553,21,9564,11,9579,null,null,null,null,0,121]
[11,9802,12,9810,24,9818,null,null,null,null,0,112]
[11,9927,21,9934,11,9945,null,null,null,null,0,121]
[11,10081,21,10089,11,10098,null,null,null,null,0,121]
[22,10237,14,10252,13,10273,null,null,null,null,0,211]
[11,10380,12,10402,13,10421,null,null,null,null,0,111]
[22,10530,14,10541,13,10550,null,null,null,null,0,211]
[22,10646,23,10655,24,10661,null,null,null,null,0,222]
[11,10758,21,10766,11,10780,null,null,null,null,0,121]
[11,10903,12,10922,13,10936,null,null,null,null,0,111]
[11,11033,21,11044,11,11061,null,null,null,null,0,121]
[11,11184,21,11198,11,11211,null,null,null,null,0,121]
[11,11343,21,11353,11,11367,null,null,null,null,0,121]
[11,11486,21,11495,11,11511,null,null,null,null,0,121]
[11,11708,21,11721,11,11730,null,null,null,null,0,121]
[11,11969,21,11985,11,12007,null,null,null,null,0,121]
[11,12191,21,12200,11,12208,null,null,null,null,0,121]
[11,12373,12,12375,13,12392,null,null,null,null,0,111]
[11,12501,12,12527,24,12543,null,null,null,null,0,112]
[11,12642,12,12660,24,12676,null,null,null,null,0,112]
[11,12776,21,12781,11,12795,null,null,null,null,1,121]

{"sheet":"!M312A3D.UST","index":25,"n_rows":60,"n_cols":48,"rows_kept":60,"cut":false,"hidden":false,"merged":[[4,39,4,42],[5,39,5,40],[4,44,4,47],[5,44,5,45],[4,24,4,27],[5,24,5,25],[4,29,4,32],[5,29,5,30],[4,34,4,37],[5,34,5,35],[1,1,1,2],[5,13,5,14],[18,13,18,14],[19,13,19,14],[4,19,4,22],[5,19,5,20]]}
["Report for:!M312A3D.UST"]
["Date:","<date>"]
["Hen:","<hen>",null,null,null,"Correct Sequence",{"$f":"Start!J2","v":121},null,null,null,null,null,null,null,null,"Total Sequences in Data",{"$f":"4994-COUNTBLANK(L7:L5000)","v":54},null,null,null,null,"Total Sequences in Block Data",{"$f":"COUNTA(L7:L15)","v":9},null,null,null,"Total Sequences in Block Data",{"$f":"COUNTA(L16:L24)","v":9},null,null,null,"Total Sequences in Block Data",{"$f":"COUNTA(L25:L33)","v":9},null,null,null,"Total Sequences in Block Data",{"$f":"COUNTA(L34:L42)","v":9},null,null,null,"Total Sequences in Block Data",{"$f":"COUNTA(L43:L51)","v":9},null,null,null,"Total Sequences in Block Data",{"$f":"COUNTA(L52:L60)","v":9}]
[null,null,null,null,null,null,null,null,null,null,null,null,null,null,null,"Total Sequences in Summary",{"$f":"SUM(O7:O14)","v":54},null,null,null,null,"Total Sequences in Block Summary",{"$f":"SUM(U7:U14)","v":9},null,null,null,"Total Sequences in Block Summary",{"$f":"SUM(Z7:Z14)","v":9},null,null,null,"Total Sequences in Block Summary",{"$f":"SUM(AE7:AE14)","v":9},null,null,null,"Total Sequences in Block Summary",{"$f":"SUM(AJ7:AJ14)","v":9},null,null,null,"Total Sequences in Block Summary",{"$f":"SUM(AO7:AO14)","v":9},null,null,null,"Total Sequences in Block Summary",{"$f":"SUM(AT7:AT14)","v":9}]
[null,null,null,null,null,null,null,null,null,null,null,null,null,null,null,null,null,null,null,"Block 1",null,null,null,null,"Block 2",null,null,null,null,"Block 3",null,null,null,null,"Block 4",null,null,null,null,"Block 5",null,null,null,null,"Block 6"]
["Sequence\nComponent\n1","Time\n1","Sequence\nComponent\n2","Time\n2","Sequence\nComponent\n3","Time\n3","Sequence\nComponent\n4","Time\n4","Sequence\nComponent\n5","Time\n5","Correct?\n0=No 1=Yes","Sequence",null,"Frequency",null,"Relative Frequency","Variability",null,null,"Frequency",null,"Relative Frequency","Variability",null,"Frequency",null,"Relative Frequency","Variability",null,"Frequency",null,"Relative Frequency","Variability",null,"Frequency",null,"Relative Frequency","Variability",null,"Frequency",null,"Relative Frequency","Variability",null,"Frequency",null,"Relative Frequency","Variability"]
[22,62,23,69,24,76,null,null,null,null,0,222,null,111,{"$f":"COUNTIF($L$7:$L$500,N7)","v":3},{"$f":"O7/$Q$4","v":5.5555555555555552E-2},{"$f":"IF(P7=0,0,(P7*((LOG(P7))/LOG(2))))","v":-0.23166250008012845},null,null,{"$f":"N7","v":111},{"$f":"COUNTIF(L7:L15,T7)","v":0},{"$f":"U7/(W4-U9)","v":0},{"$f":"IF(V7=0,0,(V7*((LOG(V7))/LOG(2))))","v":0},null,{"$f":"N7","v":111},{"$f":"COUNTIF(L16:L24,Y7)","v":0},{"$f":"Z7/(AB4-Z9)","v":0},{"$f":"IF(AA7=0,0,(AA7*((LOG(AA7))/LOG(2))))","v":0},null,{"$f":"N7","v":111},{"$f":"COUNTIF(L25:L33,AD7)","v":1},{"$f":"AE7/(AG4-AE9)","v":0.5},{"$f":"IF(AF7=0,0,(AF7*((LOG(AF7))/LOG(2))))","v":-0.5},null,{"$f":"N7","v":111},{"$f":"COUNTIF(L34:L42,AI7)","v":1},{"$f":"AJ7/(AL4-AJ9)","v":0.2},{"$f":"IF(AK7=0,0,(AK7*((LOG(AK7))/LOG(2))))","v":-0.46438561897747244},null,{"$f":"N7","v":111},{"$f":"COUNTIF(L43:L51,AN7)","v":0},{"$f":"AO7/(AQ4-AO9)","v":0},{"$f":"IF(AP7=0,0,(AP7*((LOG(AP7))/LOG(2))))","v":0},null,{"$f":"N7","v":111},{"$f":"COUNTIF(L52:L60,AS7)","v":1},{"$f":"AT7/(AV4-AT9)","v":0.5},{"$f":"IF(AU7=0,0,(AU7*((LOG(AU7))/LOG(2))))","v":-0.5}]
[11,179,21,192,11,204,null,null,null,null,0,121,null,112,{"$f":"COUNTIF($L$7:$L$500,N8)","v":5},{"$f":"O8/$Q$4","v":9.2592592592592587E-2},{"$f":"IF(P8=0,0,(P8*((LOG(P8))/LOG(2))))","v":-0.31786661178482462},null,null,{"$f":"N8","v":112},{"$f":"COUNTIF(L7:L15,T8)","v":2},{"$f":"U8/(W4-U9)","v":0.66666666666666663},{"$f":"IF(V8=0,0,(V8*((LOG(V8))/LOG(2))))","v":-0.38997500048077083},null,{"$f":"N8","v":112},{"$f":"COUNTIF(L16:L24,Y8)","v":0},{"$f":"Z8/(AB4-Z9)","v":0},{"$f":"IF(AA8=0,0,(AA8*((LOG(AA8))/LOG(2))))","v":0},null,{"$f":"N8","v":112},{"$f":"COUNTIF(L25:L33,AD8)","v":0},{"$f":"AE8/(AG4-AE9)","v":0},{"$f":"IF(AF8=0,0,(AF8*((LOG(AF8))/LOG(2))))","v":0},null,{"$f":"N8","v":112},{"$f":"COUNTIF(L34:L42,AI8)","v":0},{"$f":"AJ8/(AL4-AJ9)","v":0},{"$f":"IF(AK8=0,0,(AK8*((LOG(AK8))/LOG(2))))","v":0},null,{"$f":"N8","v":112},{"$f":"COUNTIF(L43:L51,AN8)","v":2},{"$f":"AO8/(AQ4-AO9)","v":1},{"$f":"IF(AP8=0,0,(AP8*((LOG(AP8))/LOG(2))))","v":0},null,{"$f":"N8","v":112},{"$f":"COUNTIF(L52:L60,AS8)","v":1},{"$f":"AT8/(AV4-AT9)","v":0.5},{"$f":"IF(AU8=0,0,(AU8*((LOG(AU8))/LOG(2))))","v":-0.5}]
[11,370,12,378,24,390,null,null,null,null,0,112,null,121,{"$f":"COUNTIF($L$7:$L$500,N9)","v":37},{"$f":"O9/$Q$4","v":0.68518518518518523},{"$f":"IF(P9=0,0,(P9*((LOG(P9))/LOG(2))))","v":-0.3737233898477258},null,null,{"$f":"N9","v":121},{"$f":"COUNTIF(L7:L15,T9)","v":6},null,null,null,{"$f":"N9","v":121},{"$f":"COUNTIF(L16:L24,Y9)","v":6},null,null,null,{"$f":"N9","v":121},{"$f":"COUNTIF(L25:L33,AD9)","v":7},null,null,null,{"$f":"N9","v":121},{"$f":"COUNTIF(L34:L42,AI9)","v":4},null,null,null,{"$f":"N9","v":121},{"$f":"COUNTIF(L43:L51,AN9)","v":7},null,null,null,{"$f":"N9","v":121},{"$f":"COUNTIF(L52:L60,AS9)","v":7}]
[11,497,21,504,11,515,null,null,null,null,0,121,null,122,{"$f":"COUNTIF($L$7:$L$500,N10)","v":3},{"$f":"O10/$Q$4","v":5.5555555555555552E-2},{"$f":"IF(P10=0,0,(P10*((LOG(P10))/LOG(2))))","v":-0.23166250008012845},null,null,{"$f":"N10","v":122},{"$f":"COUNTIF(L7:L15,T10)","v":0},{"$f":"U10/(W4-U9)","v":0},{"$f":"IF(V10=0,0,(V10*((LOG(V10))/LOG(2))))","v":0},null,{"$f":"N10","v":122},{"$f":"COUNTIF(L16:L24,Y10)","v":1},{"$f":"Z10/(AB4-Z9)","v":0.33333333333333331},{"$f":"IF(AA10=0,0,(AA10*((LOG(AA10))/LOG(2))))","v":-0.52832083357371862},null,{"$f":"N10","v":122},{"$f":"COUNTIF(L25:L33,AD10)","v":1},{"$f":"AE10/(AG4-AE9)","v":0.5},{"$f":"IF(AF10=0,0,(AF10*((LOG(AF10))/LOG(2))))","v":-0.5},null,{"$f":"N10","v":122},{"$f":"COUNTIF(L34:L42,AI10)","v":1},{"$f":"AJ10/(AL4-AJ9)","v":0.2},{"$f":"IF(AK10=0,0,(AK10*((LOG(AK10))/LOG(2))))","v":-0.46438561897747244},null,{"$f":"N10","v":122},{"$f":"COUNTIF(L43:L51,AN10)","v":0},{"$f":"AO10/(AQ4-AO9)","v":0},{"$f":"IF(AP10=0,0,(AP10*((LOG(AP10))/LOG(2))))","v":0},null,{"$f":"N10","v":122},{"$f":"COUNTIF(L52:L60,AS10)","v":0},{"$f":"AT10/(AV4-AT9)","v":0},{"$f":"IF(AU10=0,0,(AU10*((LOG(AU10))/LOG(2))))","v":0}]
[11,678,21,686,11,696,null,null,null,null,0,121,null,211,{"$f":"COUNTIF($L$7:$L$500,N11)","v":0},{"$f":"O11/$Q$4","v":0},{"$f":"IF(P11=0,0,(P11*((LOG(P11))/LOG(2))))","v":0},null,null,{"$f":"N11","v":211},{"$f":"COUNTIF(L7:L15,T11)","v":0},{"$f":"U11/(W4-U9)","v":0},{"$f":"IF(V11=0,0,(V11*((LOG(V11))/LOG(2))))","v":0},null,{"$f":"N11","v":211},{"$f":"COUNTIF(L16:L24,Y11)","v":0},{"$f":"Z11/(AB4-Z9)","v":0},{"$f":"IF(AA11=0,0,(AA11*((LOG(AA11))/LOG(2))))","v":0},null,{"$f":"N11","v":211},{"$f":"COUNTIF(L25:L33,AD11)","v":0},{"$f":"AE11/(AG4-AE9)","v":0},{"$f":"IF(AF11=0,0,(AF11*((LOG(AF11))/LOG(2))))","v":0},null,{"$f":"N11","v":211},{"$f":"COUNTIF(L34:L42,AI11)","v":0},{"$f":"AJ11/(AL4-AJ9)","v":0},{"$f":"IF(AK11=0,0,(AK11*((LOG(AK11))/LOG(2))))","v":0},null,{"$f":"N11","v":211},{"$f":"COUNTIF(L43:L51,AN11)","v":0},{"$f":"AO11/(AQ4-AO9)","v":0},{"$f":"IF(AP11=0,0,(AP11*((LOG(AP11))/LOG(2))))","v":0},null,{"$f":"N11","v":211},{"$f":"COUNTIF(L52:L60,AS11)","v":0},{"$f":"AT11/(AV4-AT9)","v":0},{"$f":"IF(AU11=0,0,(AU11*((LOG(AU11))/LOG(2))))","v":0}]
[11,969,21,982,11,995,null,null,null,null,0,121,null,212,{"$f":"COUNTIF($L$7:$L$500,N12)","v":4},{"$f":"O12/$Q$4","v":7.407407407407407E-2},{"$f":"IF(P12=0,0,(P12*((LOG(P12))/LOG(2))))","v":-0.27813981497507173},null,null,{"$f":"N12","v":212},{"$f":"COUNTIF(L7:L15,T12)","v":0},{"$f":"U12/(W4-U9)","v":0},{"$f":"IF(V12=0,0,(V12*((LOG(V12))/LOG(2))))","v":0},null,{"$f":"N12","v":212},{"$f":"COUNTIF(L16:L24,Y12)","v":2},{"$f":"Z12/(AB4-Z9)","v":0.66666666666666663},{"$f":"IF(AA12=0,0,(AA12*((LOG(AA12))/LOG(2))))","v":-0.38997500048077083},null,{"$f":"N12","v":212},{"$f":"COUNTIF(L25:L33,AD12)","v":0},{"$f":"AE12/(AG4-AE9)","v":0},{"$f":"IF(AF12=0,0,(AF12*((LOG(AF12))/LOG(2))))","v":0},null,{"$f":"N12","v":212},{"$f":"COUNTIF(L34:L42,AI12)","v":2},{"$f":"AJ12/(AL4-AJ9)","v":0.4},{"$f":"IF(AK12=0,0,(AK12*((LOG(AK12))/LOG(2))))","v":-0.52877123795494496},null,{"$f":"N12","v":212},{"$f":"COUNTIF(L43:L51,AN12)","v":0},{"$f":"AO12/(AQ4-AO9)","v":0},{"$f":"IF(AP12=0,0,(AP12*((LOG(AP12))/LOG(2))))","v":0},null,{"$f":"N12","v":212},{"$f":"COUNTIF(L52:L60,AS12)","v":0},{"$f":"AT12/(AV4-AT9)","v":0},{"$f":"IF(AU12=0,0,(AU12*((LOG(AU12))/LOG(2))))","v":0}]
[11,1102,21,1115,11,1127,null,null,null,null,0,121,null,221,{"$f":"COUNTIF($L$7:$L$500,N13)","v":1},{"$f":"O13/$Q$4","v":1.8518518518518517E-2},{"$f":"IF(P13=0,0,(P13*((LOG(P13))/LOG(2))))","v":-0.10657199078080498},null,null,{"$f":"N13","v":221},{"$f":"COUNTIF(L7:L15,T13)","v":0},{"$f":"U13/(W4-U9)","v":0},{"$f":"IF(V13=0,0,(V13*((LOG(V13))/LOG(2))))","v":0},null,{"$f":"N13","v":221},{"$f":"COUNTIF(L16:L24,Y13)","v":0},{"$f":"Z13/(AB4-Z9)","v":0},{"$f":"IF(AA13=0,0,(AA13*((LOG(AA13))/LOG(2))))","v":0},null,{"$f":"N13","v":221},{"$f":"COUNTIF(L25:L33,AD13)","v":0},{"$f":"AE13/(AG4-AE9)","v":0},{"$f":"IF(AF13=0,0,(AF13*((LOG(AF13))/LOG(2))))","v":0},null,{"$f":"N13","v":221},{"$f":"COUNTIF(L34:L42,AI13)","v":1},{"$f":"AJ13/(AL4-AJ9)","v":0.2},{"$f":"IF(AK13=0,0,(AK13*((LOG(AK13))/LOG(2))))","v":-0.46438561897747244},null,{"$f":"N13","v":221},{"$f":"COUNTIF(L43:L51,AN13)","v":0},{"$f":"AO13/(AQ4-AO9)","v":0},{"$f":"IF(AP13=0,0,(AP13*((LOG(AP13))/LOG(2))))","v":0},null,{"$f":"N13","v":221},{"$f":"COUNTIF(L52:L60,AS13)","v":0},{"$f":"AT13/(AV4-AT9)","v":0},{"$f":"IF(AU13=0,0,(AU13*((LOG(AU13))/LOG(2))))","v":0}]
[11,1230,12,1258,24,1281,null,null,null,null,0,112,null,222,{"$f":"COUNTIF($L$7:$L$500,N14)","v":1},{"$f":"O14/$Q$4","v":1.8518518518518517E-2},{"$f":"IF(P14=0,0,(P14*((LOG(P14))/LOG(2))))","v":-0.10657199078080498},null,null,{"$f":"N14","v":222},{"$f":"COUNTIF(L7:L15,T14)","v":1},{"$f":"U14/(W4-U9)","v":0.33333333333333331},{"$f":"IF(V14=0,0,(V14*((LOG(V14))/LOG(2))))","v":-0.52832083357371862},null,{"$f":"N14","v":222},{"$f":"COUNTIF(L16:L24,Y14)","v":0},{"$f":"Z14/(AB4-Z9)","v":0},{"$f":"IF(AA14=0,0,(AA14*((LOG(AA14))/LOG(2))))","v":0},null,{"$f":"N14","v":222},{"$f":"COUNTIF(L25:L33,AD14)","v":0},{"$f":"AE14/(AG4-AE9)","v":0},{"$f":"IF(AF14=0,0,(AF14*((LOG(AF14))/LOG(2))))","v":0},null,{"$f":"N14","v":222},{"$f":"COUNTIF(L34:L42,AI14)","v":0},{"$f":"AJ14/(AL4-AJ9)","v":0},{"$f":"IF(AK14=0,0,(AK14*((LOG(AK14))/LOG(2))))","v":0},null,{"$f":"N14","v":222},{"$f":"COUNTIF(L43:L51,AN14)","v":0},{"$f":"AO14/(AQ4-AO9)","v":0},{"$f":"IF(AP14=0,0,(AP14*((LOG(AP14))/LOG(2))))","v":0},null,{"$f":"N14","v":222},{"$f":"COUNTIF(L52:L60,AS14)","v":0},{"$f":"AT14/(AV4-AT9)","v":0},{"$f":"IF(AU14=0,0,(AU14*((LOG(AU14))/LOG(2))))","v":0}]
[11,1380,21,1388,11,1401,null,null,null,null,0,121,null,null,null,{"$f":"SUM(P7:P14)","v":1},{"$f":"-SUM(Q7:Q14)","v":1.6461987983294888},null,null,null,null,{"$f":"SUM(V7:V14)","v":1},{"$f":"-SUM(W7:W14)","v":0.91829583405448945},null,null,null,{"$f":"SUM(AA7:AA14)","v":1},{"$f":"-SUM(AB7:AB14)","v":0.91829583405448945},null,null,null,{"$f":"SUM(AF7:AF14)","v":1},{"$f":"-SUM(AG7:AG14)","v":1},null,null,null,{"$f":"SUM(AK7:AK14)","v":1},{"$f":"-SUM(AL7:AL14)","v":1.9219280948873623},null,null,null,{"$f":"SUM(AP7:AP14)","v":1},{"$f":"-SUM(AQ7:AQ14)","v":0},null,null,null,{"$f":"SUM(AU7:AU14)","v":1},{"$f":"-SUM(AV7:AV14)","v":1}]
[11,1565,21,1574,22,1578,null,null,null,null,0,122,null,null,null,"U=",{"$f":"Q15/(LOG(Q4)/LOG(2))","v":0.28605229862627607},null,null,null,null,"U1=",{"$f":"W15/(LOG(W4)/LOG(2))","v":0.28969008214284753},null,null,null,"U2=",{"$f":"AB15/(LOG(AB4)/LOG(2))","v":0.28969008214284753},null,null,null,"U3=",{"$f":"AG15/(LOG(AG4)/LOG(2))","v":0.31546487678572877},null,null,null,"U4=",{"$f":"AL15/(LOG(AL4)/LOG(2))","v":0.60630080964467215},null,null,null,"U5=",{"$f":"AQ15/(LOG(AQ4)/LOG(2))","v":0},null,null,null,"U6=",{"$f":"AV15/(LOG(AV4)/LOG(2))","v":0.31546487678572877}]
[11,1704,21,1717,11,1728,null,null,null,null,0,121]
[11,1961,21,1973,11,1989,null,null,null,null,0,121]
[22,2212,14,2231,24,2254,null,null,null,null,0,212,null,"Total Target Seq"]
[11,2354,21,2361,11,2371,null,null,null,null,0,121,null,{"$f":"COUNTIF(L7:L60,G3)","v":37},null,9,9,9,9,9,9]
[22,2516,14,2526,24,2540,null,null,null,null,0,212,null,null,null,"% of reinforcement given in 6 equal intervals based on number of trials "]
[11,2638,21,2647,11,2667,null,null,null,null,0,121,null,null,null,"%_1","%_2","%_3","%_4","%_5","%_6"]
[11,2864,21,2875,11,2890,null,null,null,null,0,121,null,null,"target sequence",{"$f":"$G$3","v":121},{"$f":"$G$3","v":121},{"$f":"$G$3","v":121},{"$f":"$G$3","v":121},{"$f":"$G$3","v":121},{"$f":"$G$3","v":121}]
[11,3097,21,3113,11,3138,null,null,null,null,0,121,null,null,"total reinforcement",{"$f":"U9","v":6},{"$f":"Z9","v":6},{"$f":"AE9","v":7},{"$f":"AJ9","v":4},{"$f":"AO9","v":7},{"$f":"AT9","v":7}]
[11,3292,21,3302,11,3317,null,null,null,null,0,121,null,null,"% target"]
[11,3480,21,3489,11,3503,null,null,null,null,0,121,null,null,"CCRF"]
[11,3724,12,3741,13,3750,null,null,null,null,0,111,null,null,"% CCRf"]
[11,3849,21,3855,22,3859,null,null,null,null,0,122,null,null,"average response rate",{"$f":"F15/P20","v":155.66666666666666},{"$f":"(F24-F15)/Q20","v":193},{"$f":"(F33-F24)/R20","v":168.33333333333334},{"$f":"(F42-F33)/S20","v":177.88888888888889},{"$f":"(F51-F42)/T20","v":195.66666666666666},{"$f":"(F60-F51)/U20","v":193.11111111111111}]
[11,3959,21,3967,11,3987,null,null,null,null,0,121]
[11,4103,21,4113,11,4126,null,null,null,null,0,121]
[11,4261,21,4274,11,4287,null,null,null,null,0,121]
[11,4477,21,4486,11,4496,null,null,null,null,0,121]
[11,4629,21,4641,11,4653,null,null,null,null,0,121]
[11,4842,21,4852,11,4863,null,null,null,null,0,121]
[11,5091,21,5102,11,5121,null,null,null,null,0,121]
[11,5276,21,5284,11,5313,null,null,null,null,0,121]
[22,5478,14,5488,24,5504,null,null,null,null,0,212]
[11,5622,21,5649,11,5662,null,null,null,null,0,121]
[11,5818,12,5838,13,5856,null,null,null,null,0,111]
[22,5965,14,5981,24,5999,null,null,null,null,0,212]
[22,6097,23,6110,13,6127,null,null,null,null,0,221]
[11,6237,21,6248,22,6254,null,null,null,null,0,122]
[11,6356,21,6363,11,6382,null,null,null,null,0,121]
[11,6503,21,6513,11,6531,null,null,null,null,0,121]
[11,6694,21,6702,11,6713,null,null,null,null,0,121]
[11,6891,21,6900,11,6911,null,null,null,null,0,121]
[11,7138,12,7165,24,7180,null,null,null,null,0,112]
[11,7386,21,7393,11,7410,null,null,null,null,0,121]
[11,7614,21,7623,11,7641,null,null,null,null,0,121]
[11,7844,12,7876,24,7898,null,null,null,null,0,112]
[11,7993,21,7999,11,8015,null,null,null,null,0,121]
[11,8197,12,8217,13,8247,null,null,null,null,0,111]
[11,8349,21,8358,11,8369,null,null,null,null,0,121]
[11,8542,21,8552,11,8566,null,null,null,null,0,121]
[11,8786,21,8795,11,8808,null,null,null,null,0,121]
[11,8949,21,8963,11,8986,null,null,null,null,0,121]
[11,9169,21,9176,11,9186,null,null,null,null,0,121]
[11,9353,12,9379,24,9400,null,null,null,null,0,112]
[11,9500,21,9506,11,9524,null,null,null,null,0,121]
[11,9727,21,9736,11,9753,null,null,null,null,1,121]

{"sheet":"!M313A5D.UST","index":26,"n_rows":79,"n_cols":48,"rows_kept":79,"cut":false,"hidden":false,"merged":[[4,39,4,42],[5,39,5,40],[4,44,4,47],[5,44,5,45],[4,24,4,27],[5,24,5,25],[4,29,4,32],[5,29,5,30],[4,34,4,37],[5,34,5,35],[1,1,1,2],[5,13,5,14],[18,13,18,14],[19,13,19,14],[4,19,4,22],[5,19,5,20]]}
["Report for:!M313A5D.UST"]
["Date:","<date>"]
["Hen:","<hen>",null,null,null,"Correct Sequence",{"$f":"Start!J2","v":121},null,null,null,null,null,null,null,null,"Total Sequences in Data",{"$f":"4994-COUNTBLANK(L7:L5000)","v":73},null,null,null,null,"Total Sequences in Block Data",{"$f":"COUNTA(L7:L18)","v":12},null,null,null,"Total Sequences in Block Data",{"$f":"COUNTA(L19:L30)","v":12},null,null,null,"Total Sequences in Block Data",{"$f":"COUNTA(L31:L43)","v":13},null,null,null,"Total Sequences in Block Data",{"$f":"COUNTA(L44:L55)","v":12},null,null,null,"Total Sequences in Block Data",{"$f":"COUNTA(L56:L67)","v":12},null,null,null,"Total Sequences in Block Data",{"$f":"COUNTA(L68:L79)","v":12}]
[null,null,null,null,null,null,null,null,null,null,null,null,null,null,null,"Total Sequences in Summary",{"$f":"SUM(O7:O14)","v":73},null,null,null,null,"Total Sequences in Block Summary",{"$f":"SUM(U7:U14)","v":12},null,null,null,"Total Sequences in Block Summary",{"$f":"SUM(Z7:Z14)","v":12},null,null,null,"Total Sequences in Block Summary",{"$f":"SUM(AE7:AE14)","v":13},null,null,null,"Total Sequences in Block Summary",{"$f":"SUM(AJ7:AJ14)","v":12},null,null,null,"Total Sequences in Block Summary",{"$f":"SUM(AO7:AO14)","v":12},null,null,null,"Total Sequences in Block Summary",{"$f":"SUM(AT7:AT14)","v":12}]
[null,null,null,null,null,null,null,null,null,null,null,null,null,null,null,null,null,null,null,"Block 1",null,null,null,null,"Block 2",null,null,null,null,"Block 3",null,null,null,null,"Block 4",null,null,null,null,"Block 5",null,null,null,null,"Block 6"]
["Sequence\nComponent\n1","Time\n1","Sequence\nComponent\n2","Time\n2","Sequence\nComponent\n3","Time\n3","Sequence\nComponent\n4","Time\n4","Sequence\nComponent\n5","Time\n5","Correct?\n0=No 1=Yes","Sequence",null,"Frequency",null,"Relative Frequency","Variability",null,null,"Frequency",null,"Relative Frequency","Variability",null,"Frequency",null,"Relative Frequency","Variability",null,"Frequency",null,"Relative Frequency","Variability",null,"Frequency",null,"Relative Frequency","Variability",null,"Frequency",null,"Relative Frequency","Variability",null,"Frequency",null,"Relative Frequency","Variability"]
[22,12,14,30,24,46,null,null,null,null,0,212,null,111,{"$f":"COUNTIF($L$7:$L$500,N7)","v":2},{"$f":"O7/$Q$4","v":2.7397260273972601E-2},{"$f":"IF(P7=0,0,(P7*((LOG(P7))/LOG(2))))","v":-0.14218697421589085},null,null,{"$f":"N7","v":111},{"$f":"COUNTIF(L7:L18,T7)","v":1},{"$f":"U7/(W4-U9)","v":0.16666666666666666},{"$f":"IF(V7=0,0,(V7*((LOG(V7))/LOG(2))))","v":-0.43082708345352599},null,{"$f":"N7","v":111},{"$f":"COUNTIF(L19:L30,Y7)","v":0},{"$f":"Z7/(AB4-Z9)","v":0},{"$f":"IF(AA7=0,0,(AA7*((LOG(AA7))/LOG(2))))","v":0},null,{"$f":"N7","v":111},{"$f":"COUNTIF(L31:L43,AD7)","v":1},{"$f":"AE7/(AG4-AE9)","v":0.125},{"$f":"IF(AF7=0,0,(AF7*((LOG(AF7))/LOG(2))))","v":-0.375},null,{"$f":"N7","v":111},{"$f":"COUNTIF(L44:L55,AI7)","v":0},{"$f":"AJ7/(AL4-AJ9)","v":0},{"$f":"IF(AK7=0,0,(AK7*((LOG(AK7))/LOG(2))))","v":0},null,{"$f":"N7","v":111},{"$f":"COUNTIF(L56:L67,AN7)","v":0},{"$f":"AO7/(AQ4-AO9)","v":0},{"$f":"IF(AP7=0,0,(AP7*((LOG(AP7))/LOG(2))))","v":0},null,{"$f":"N7","v":111},{"$f":"COUNTIF(L68:L79,AS7)","v":0},{"$f":"AT7/(AV4-AT9)","v":0},{"$f":"IF(AU7=0,0,(AU7*((LOG(AU7))/LOG(2))))","v":0}]
[11,146,21,152,11,163,null,null,null,null,0,121,null,112,{"$f":"COUNTIF($L$7:$L$500,N8)","v":7},{"$f":"O8/$Q$4","v":9.5890410958904104E-2},{"$f":"IF(P8=0,0,(P8*((LOG(P8))/LOG(2))))","v":-0.32434640353091632},null,null,{"$f":"N8","v":112},{"$f":"COUNTIF(L7:L18,T8)","v":1},{"$f":"U8/(W4-U9)","v":0.16666666666666666},{"$f":"IF(V8=0,0,(V8*((LOG(V8))/LOG(2))))","v":-0.43082708345352599},null,{"$f":"N8","v":112},{"$f":"COUNTIF(L19:L30,Y8)","v":1},{"$f":"Z8/(AB4-Z9)","v":0.16666666666666666},{"$f":"IF(AA8=0,0,(AA8*((LOG(AA8))/LOG(2))))","v":-0.43082708345352599},null,{"$f":"N8","v":112},{"$f":"COUNTIF(L31:L43,AD8)","v":1},{"$f":"AE8/(AG4-AE9)","v":0.125},{"$f":"IF(AF8=0,0,(AF8*((LOG(AF8))/LOG(2))))","v":-0.375},null,{"$f":"N8","v":112},{"$f":"COUNTIF(L44:L55,AI8)","v":0},{"$f":"AJ8/(AL4-AJ9)","v":0},{"$f":"IF(AK8=0,0,(AK8*((LOG(AK8))/LOG(2))))","v":0},null,{"$f":"N8","v":112},{"$f":"COUNTIF(L56:L67,AN8)","v":3},{"$f":"AO8/(AQ4-AO9)","v":0.42857142857142855},{"$f":"IF(AP8=0,0,(AP8*((LOG(AP8))/LOG(2))))","v":-0.52388246628704915},null,{"$f":"N8","v":112},{"$f":"COUNTIF(L68:L79,AS8)","v":1},{"$f":"AT8/(AV4-AT9)","v":0.16666666666666666},{"$f":"IF(AU8=0,0,(AU8*((LOG(AU8))/LOG(2))))","v":-0.43082708345352599}]
[11,380,21,394,11,405,null,null,null,null,0,121,null,121,{"$f":"COUNTIF($L$7:$L$500,N9)","v":37},{"$f":"O9/$Q$4","v":0.50684931506849318},{"$f":"IF(P9=0,0,(P9*((LOG(P9))/LOG(2))))","v":-0.49690046781218489},null,null,{"$f":"N9","v":121},{"$f":"COUNTIF(L7:L18,T9)","v":6},null,null,null,{"$f":"N9","v":121},{"$f":"COUNTIF(L19:L30,Y9)","v":6},null,null,null,{"$f":"N9","v":121},{"$f":"COUNTIF(L31:L43,AD9)","v":5},null,null,null,{"$f":"N9","v":121},{"$f":"COUNTIF(L44:L55,AI9)","v":9},null,null,null,{"$f":"N9","v":121},{"$f":"COUNTIF(L56:L67,AN9)","v":5},null,null,null,{"$f":"N9","v":121},{"$f":"COUNTIF(L68:L79,AS9)","v":6}]
[11,598,21,612,22,618,null,null,null,null,0,122,null,122,{"$f":"COUNTIF($L$7:$L$500,N10)","v":12},{"$f":"O10/$Q$4","v":0.16438356164383561},{"$f":"IF(P10=0,0,(P10*((LOG(P10))/LOG(2))))","v":-0.42819650271104565},null,null,{"$f":"N10","v":122},{"$f":"COUNTIF(L7:L18,T10)","v":2},{"$f":"U10/(W4-U9)","v":0.33333333333333331},{"$f":"IF(V10=0,0,(V10*((LOG(V10))/LOG(2))))","v":-0.52832083357371862},null,{"$f":"N10","v":122},{"$f":"COUNTIF(L19:L30,Y10)","v":2},{"$f":"Z10/(AB4-Z9)","v":0.33333333333333331},{"$f":"IF(AA10=0,0,(AA10*((LOG(AA10))/LOG(2))))","v":-0.52832083357371862},null,{"$f":"N10","v":122},{"$f":"COUNTIF(L31:L43,AD10)","v":2},{"$f":"AE10/(AG4-AE9)","v":0.25},{"$f":"IF(AF10=0,0,(AF10*((LOG(AF10))/LOG(2))))","v":-0.5},null,{"$f":"N10","v":122},{"$f":"COUNTIF(L44:L55,AI10)","v":2},{"$f":"AJ10/(AL4-AJ9)","v":0.66666666666666663},{"$f":"IF(AK10=0,0,(AK10*((LOG(AK10))/LOG(2))))","v":-0.38997500048077083},null,{"$f":"N10","v":122},{"$f":"COUNTIF(L56:L67,AN10)","v":2},{"$f":"AO10/(AQ4-AO9)","v":0.2857142857142857},{"$f":"IF(AP10=0,0,(AP10*((LOG(AP10))/LOG(2))))","v":-0.51638712058788683},null,{"$f":"N10","v":122},{"$f":"COUNTIF(L68:L79,AS10)","v":2},{"$f":"AT10/(AV4-AT9)","v":0.33333333333333331},{"$f":"IF(AU10=0,0,(AU10*((LOG(AU10))/LOG(2))))","v":-0.52832083357371862}]
[11,763,12,771,13,780,null,null,null,null,0,111,null,211,{"$f":"COUNTIF($L$7:$L$500,N11)","v":3},{"$f":"O11/$Q$4","v":4.1095890410958902E-2},{"$f":"IF(P11=0,0,(P11*((LOG(P11))/LOG(2))))","v":-0.18924090649967923},null,null,{"$f":"N11","v":211},{"$f":"COUNTIF(L7:L18,T11)","v":0},{"$f":"U11/(W4-U9)","v":0},{"$f":"IF(V11=0,0,(V11*((LOG(V11))/LOG(2))))","v":0},null,{"$f":"N11","v":211},{"$f":"COUNTIF(L19:L30,Y11)","v":0},{"$f":"Z11/(AB4-Z9)","v":0},{"$f":"IF(AA11=0,0,(AA11*((LOG(AA11))/LOG(2))))","v":0},null,{"$f":"N11","v":211},{"$f":"COUNTIF(L31:L43,AD11)","v":1},{"$f":"AE11/(AG4-AE9)","v":0.125},{"$f":"IF(AF11=0,0,(AF11*((LOG(AF11))/LOG(2))))","v":-0.375},null,{"$f":"N11","v":211},{"$f":"COUNTIF(L44:L55,AI11)","v":1},{"$f":"AJ11/(AL4-AJ9)","v":0.33333333333333331},{"$f":"IF(AK11=0,0,(AK11*((LOG(AK11))/LOG(2))))","v":-0.52832083357371862},null,{"$f":"N11","v":211},{"$f":"COUNTIF(L56:L67,AN11)","v":0},{"$f":"AO11/(AQ4-AO9)","v":0},{"$f":"IF(AP11=0,0,(AP11*((LOG(AP11))/LOG(2))))","v":0},null,{"$f":"N11","v":211},{"$f":"COUNTIF(L68:L79,AS11)","v":1},{"$f":"AT11/(AV4-AT9)","v":0.16666666666666666},{"$f":"IF(AU11=0,0,(AU11*((LOG(AU11))/LOG(2))))","v":-0.43082708345352599}]
[11,952,21,962,11,980,null,null,null,null,0,121,null,212,{"$f":"COUNTIF($L$7:$L$500,N12)","v":6},{"$f":"O12/$Q$4","v":8.2191780821917804E-2},{"$f":"IF(P12=0,0,(P12*((LOG(P12))/LOG(2))))","v":-0.2962900321774406},null,null,{"$f":"N12","v":212},{"$f":"COUNTIF(L7:L18,T12)","v":2},{"$f":"U12/(W4-U9)","v":0.33333333333333331},{"$f":"IF(V12=0,0,(V12*((LOG(V12))/LOG(2))))","v":-0.52832083357371862},null,{"$f":"N12","v":212},{"$f":"COUNTIF(L19:L30,Y12)","v":1},{"$f":"Z12/(AB4-Z9)","v":0.16666666666666666},{"$f":"IF(AA12=0,0,(AA12*((LOG(AA12))/LOG(2))))","v":-0.43082708345352599},null,{"$f":"N12","v":212},{"$f":"COUNTIF(L31:L43,AD12)","v":1},{"$f":"AE12/(AG4-AE9)","v":0.125},{"$f":"IF(AF12=0,0,(AF12*((LOG(AF12))/LOG(2))))","v":-0.375},null,{"$f":"N12","v":212},{"$f":"COUNTIF(L44:L55,AI12)","v":0},{"$f":"AJ12/(AL4-AJ9)","v":0},{"$f":"IF(AK12=0,0,(AK12*((LOG(AK12))/LOG(2))))","v":0},null,{"$f":"N12","v":212},{"$f":"COUNTIF(L56:L67,AN12)","v":2},{"$f":"AO12/(AQ4-AO9)","v":0.2857142857142857},{"$f":"IF(AP12=0,0,(AP12*((LOG(AP12))/LOG(2))))","v":-0.51638712058788683},null,{"$f":"N12","v":212},{"$f":"COUNTIF(L68:L79,AS12)","v":0},{"$f":"AT12/(AV4-AT9)","v":0},{"$f":"IF(AU12=0,0,(AU12*((LOG(AU12))/LOG(2))))","v":0}]
[11,1206,12,1214,24,1224,null,null,null,null,0,112,null,221,{"$f":"COUNTIF($L$7:$L$500,N13)","v":5},{"$f":"O13/$Q$4","v":6.8493150684931503E-2},{"$f":"IF(P13=0,0,(P13*((LOG(P13))/LOG(2))))","v":-0.26492441534196265},null,null,{"$f":"N13","v":221},{"$f":"COUNTIF(L7:L18,T13)","v":0},{"$f":"U13/(W4-U9)","v":0},{"$f":"IF(V13=0,0,(V13*((LOG(V13))/LOG(2))))","v":0},null,{"$f":"N13","v":221},{"$f":"COUNTIF(L19:L30,Y13)","v":2},{"$f":"Z13/(AB4-Z9)","v":0.33333333333333331},{"$f":"IF(AA13=0,0,(AA13*((LOG(AA13))/LOG(2))))","v":-0.52832083357371862},null,{"$f":"N13","v":221},{"$f":"COUNTIF(L31:L43,AD13)","v":1},{"$f":"AE13/(AG4-AE9)","v":0.125},{"$f":"IF(AF13=0,0,(AF13*((LOG(AF13))/LOG(2))))","v":-0.375},null,{"$f":"N13","v":221},{"$f":"COUNTIF(L44:L55,AI13)","v":0},{"$f":"AJ13/(AL4-AJ9)","v":0},{"$f":"IF(AK13=0,0,(AK13*((LOG(AK13))/LOG(2))))","v":0},null,{"$f":"N13","v":221},{"$f":"COUNTIF(L56:L67,AN13)","v":0},{"$f":"AO13/(AQ4-AO9)","v":0},{"$f":"IF(AP13=0,0,(AP13*((LOG(AP13))/LOG(2))))","v":0},null,{"$f":"N13","v":221},{"$f":"COUNTIF(L68:L79,AS13)","v":2},{"$f":"AT13/(AV4-AT9)","v":0.33333333333333331},{"$f":"IF(AU13=0,0,(AU13*((LOG(AU13))/LOG(2))))","v":-0.52832083357371862}]
[11,1328,21,1339,11,1350,null,null,null,null,0,121,null,222,{"$f":"COUNTIF($L$7:$L$500,N14)","v":1},{"$f":"O14/$Q$4","v":1.3698630136986301E-2},{"$f":"IF(P14=0,0,(P14*((LOG(P14))/LOG(2))))","v":-8.4792117244931728E-2},null,null,{"$f":"N14","v":222},{"$f":"COUNTIF(L7:L18,T14)","v":0},{"$f":"U14/(W4-U9)","v":0},{"$f":"IF(V14=0,0,(V14*((LOG(V14))/LOG(2))))","v":0},null,{"$f":"N14","v":222},{"$f":"COUNTIF(L19:L30,Y14)","v":0},{"$f":"Z14/(AB4-Z9)","v":0},{"$f":"IF(AA14=0,0,(AA14*((LOG(AA14))/LOG(2))))","v":0},null,{"$f":"N14","v":222},{"$f":"COUNTIF(L31:L43,AD14)","v":1},{"$f":"AE14/(AG4-AE9)","v":0.125},{"$f":"IF(AF14=0,0,(AF14*((LOG(AF14))/LOG(2))))","v":-0.375},null,{"$f":"N14","v":222},{"$f":"COUNTIF(L44:L55,AI14)","v":0},{"$f":"AJ14/(AL4-AJ9)","v":0},{"$f":"IF(AK14=0,0,(AK14*((LOG(AK14))/LOG(2))))","v":0},null,{"$f":"N14","v":222},{"$f":"COUNTIF(L56:L67,AN14)","v":0},{"$f":"AO14/(AQ4-AO9)","v":0},{"$f":"IF(AP14=0,0,(AP14*((LOG(AP14))/LOG(2))))","v":0},null,{"$f":"N14","v":222},{"$f":"COUNTIF(L68:L79,AS14)","v":0},{"$f":"AT14/(AV4-AT9)","v":0},{"$f":"IF(AU14=0,0,(AU14*((LOG(AU14))/LOG(2))))","v":0}]
[11,1567,21,1580,11,1593,null,null,null,null,0,121,null,null,null,{"$f":"SUM(P7:P14)","v":1},{"$f":"-SUM(Q7:Q14)","v":2.2268778195340517},null,null,null,null,{"$f":"SUM(V7:V14)","v":1},{"$f":"-SUM(W7:W14)","v":1.9182958340544893},null,null,null,{"$f":"SUM(AA7:AA14)","v":1},{"$f":"-SUM(AB7:AB14)","v":1.9182958340544891},null,null,null,{"$f":"SUM(AF7:AF14)","v":1},{"$f":"-SUM(AG7:AG14)","v":2.75},null,null,null,{"$f":"SUM(AK7:AK14)","v":1},{"$f":"-SUM(AL7:AL14)","v":0.91829583405448945},null,null,null,{"$f":"SUM(AP7:AP14)","v":0.99999999999999989},{"$f":"-SUM(AQ7:AQ14)","v":1.5566567074628228},null,null,null,{"$f":"SUM(AU7:AU14)","v":1},{"$f":"-SUM(AV7:AV14)","v":1.9182958340544891}]
[11,1752,21,1762,22,1767,null,null,null,null,0,122,null,null,null,"U=",{"$f":"Q15/(LOG(Q4)/LOG(2))","v":0.3597642870732643},null,null,null,null,"U1=",{"$f":"W15/(LOG(W4)/LOG(2))","v":0.53509509058145011},null,null,null,"U2=",{"$f":"AB15/(LOG(AB4)/LOG(2))","v":0.53509509058145011},null,null,null,"U3=",{"$f":"AG15/(LOG(AG4)/LOG(2))","v":0.74315492467512934},null,null,null,"U4=",{"$f":"AL15/(LOG(AL4)/LOG(2))","v":0.2561521449303204},null,null,null,"U5=",{"$f":"AQ15/(LOG(AQ4)/LOG(2))","v":0.43421840734726885},null,null,null,"U6=",{"$f":"AV15/(LOG(AV4)/LOG(2))","v":0.53509509058145011}]
[11,1867,21,1877,11,1889,null,null,null,null,0,121]
[22,2070,14,2095,24,2115,null,null,null,null,0,212]
[11,2216,21,2224,11,2234,null,null,null,null,0,121,null,"Total Target Seq"]
[11,2414,21,2423,22,2436,null,null,null,null,0,122,null,{"$f":"COUNTIF(L7:L79,G3)","v":37},null,12,12,13,12,12,12]
[11,2539,21,2545,11,2567,null,null,null,null,0,121,null,null,null,"% of reinforcement given in 6 equal intervals based on number of trials "]
[11,2693,21,2700,11,2715,null,null,null,null,0,121,null,null,null,"%_1","%_2","%_3","%_4","%_5","%_6"]
[11,2860,12,2870,24,2883,null,null,null,null,0,112,null,null,"target sequence",{"$f":"$G$3","v":121},{"$f":"$G$3","v":121},{"$f":"$G$3","v":121},{"$f":"$G$3","v":121},{"$f":"$G$3","v":121},{"$f":"$G$3","v":121}]
[11,2990,21,2999,22,3003,null,null,null,null,0,122,null,null,"total reinforcement",{"$f":"U9","v":6},{"$f":"Z9","v":6},{"$f":"AE9","v":5},{"$f":"AJ9","v":9},{"$f":"AO9","v":5},{"$f":"AT9","v":6}]
[11,3106,21,3114,11,3125,null,null,null,null,0,121,null,null,"% target"]
[22,3255,23,3260,13,3279,null,null,null,null,0,221,null,null,"CCRF"]
[11,3378,21,3384,11,3399,null,null,null,null,0,121,null,null,"% CCRf"]
[22,3516,14,3536,24,3554,null,null,null,null,0,212,null,null,"average response rate",{"$f":"F18/P20","v":176.25},{"$f":"(F30-F18)/Q20","v":143.16666666666666},{"$f":"(F43-F30)/R20","v":150.53846153846155},{"$f":"(F55-F43)/S20","v":166},{"$f":"(F67-F55)/T20","v":167.5},{"$f":"(F79-F67)/U20","v":183.83333333333334}]
[11,3651,21,3671,11,3681,null,null,null,null,0,121]
[22,3806,23,3811,13,3833,null,null,null,null,0,221]
[22,3939,14,3949,24,3968,null,null,null,null,0,212]
[11,4071,12,4092,13,4123,null,null,null,null,0,111]
[11,4225,21,4234,11,4245,null,null,null,null,0,121]
[11,4383,21,4392,11,4409,null,null,null,null,0,121]
[22,4590,23,4594,13,4605,null,null,null,null,0,221]
[11,4706,12,4725,24,4738,null,null,null,null,0,112]
[22,4847,14,4862,13,4882,null,null,null,null,0,211]
[22,4979,23,4991,24,4997,null,null,null,null,0,222]
[11,5093,21,5101,11,5110,null,null,null,null,0,121]
[11,5261,21,5268,22,5271,null,null,null,null,0,122]
[11,5374,21,5380,11,5399,null,null,null,null,0,121]
[11,5552,21,5566,11,5582,null,null,null,null,0,121]
[11,5777,21,5785,22,5790,null,null,null,null,0,122]
[11,5892,21,5899,11,5911,null,null,null,null,0,121]
[11,6095,21,6103,22,6108,null,null,null,null,0,122]
[11,6209,21,6218,11,6229,null,null,null,null,0,121]
[11,6387,21,6399,11,6408,null,null,null,null,0,121]
[11,6525,21,6534,11,6547,null,null,null,null,0,121]
[11,6691,21,6699,11,6718,null,null,null,null,0,121]
[11,6850,21,6862,11,6877,null,null,null,null,0,121]
[11,6998,21,7005,11,7023,null,null,null,null,0,121]
[11,7282,21,7290,11,7304,null,null,null,null,0,121]
[11,7484,21,7492,11,7502,null,null,null,null,0,121]
[11,7622,21,7630,22,7635,null,null,null,null,0,122]
[22,7742,14,7753,13,7782,null,null,null,null,0,211]
[11,7891,21,7897,11,7907,null,null,null,null,0,121]
[11,8109,12,8114,24,8119,null,null,null,null,0,112]
[22,8344,14,8361,24,8377,null,null,null,null,0,212]
[11,8482,21,8489,11,8509,null,null,null,null,0,121]
[11,8638,21,8650,11,8660,null,null,null,null,0,121]
[22,8831,14,8843,24,8862,null,null,null,null,0,212]
[11,8973,21,8991,11,9014,null,null,null,null,0,121]
[11,9228,12,9250,24,9264,null,null,null,null,0,112]
[11,9358,12,9376,24,9387,null,null,null,null,0,112]
[11,9487,21,9496,11,9506,null,null,null,null,0,121]
[11,9672,21,9677,22,9680,null,null,null,null,0,122]
[11,9782,21,9788,22,9792,null,null,null,null,0,122]
[11,9904,21,9913,11,9923,null,null,null,null,0,121]
[11,10118,21,10127,11,10153,null,null,null,null,0,121]
[11,10379,21,10389,22,10393,null,null,null,null,0,122]
[11,10498,21,10511,22,10516,null,null,null,null,0,122]
[11,10662,21,10671,11,10695,null,null,null,null,0,121]
[22,10802,23,10805,13,10924,null,null,null,null,0,221]
[22,11034,23,11041,13,11064,null,null,null,null,0,221]
[11,11161,21,11167,11,11178,null,null,null,null,0,121]
[11,11412,21,11420,11,11430,null,null,null,null,0,121]
[11,11696,12,11719,24,11733,null,null,null,null,0,112]
[22,11843,14,11863,13,11877,null,null,null,null,0,211]
[11,11978,21,11988,11,11998,null,null,null,null,1,121]

{"sheet":"!M314B4D.UST","index":27,"n_rows":95,"n_cols":48,"rows_kept":95,"cut":false,"hidden":false,"merged":[[4,39,4,42],[5,39,5,40],[4,44,4,47],[5,44,5,45],[4,24,4,27],[5,24,5,25],[4,29,4,32],[5,29,5,30],[4,34,4,37],[5,34,5,35],[1,1,1,2],[5,13,5,14],[18,13,18,14],[19,13,19,14],[4,19,4,22],[5,19,5,20]]}
["Report for:!M314B4D.UST"]
["Date:","<date>"]
["Hen:","<hen>",null,null,null,"Correct Sequence",{"$f":"Start!J2","v":121},null,null,null,null,null,null,null,null,"Total Sequences in Data",{"$f":"4994-COUNTBLANK(L7:L5000)","v":89},null,null,null,null,"Total Sequences in Block Data",{"$f":"COUNTA(L7:L21)","v":15},null,null,null,"Total Sequences in Block Data",{"$f":"COUNTA(L22:L36)","v":15},null,null,null,"Total Sequences in Block Data",{"$f":"COUNTA(L37:L50)","v":14},null,null,null,"Total Sequences in Block Data",{"$f":"COUNTA(L51:L65)","v":15},null,null,null,"Total Sequences in Block Data",{"$f":"COUNTA(L66:L80)","v":15},null,null,null,"Total Sequences in Block Data",{"$f":"COUNTA(L81:L95)","v":15}]
[null,null,null,null,null,null,null,null,null,null,null,null,null,null,null,"Total Sequences in Summary",{"$f":"SUM(O7:O14)","v":89},null,null,null,null,"Total Sequences in Block Summary",{"$f":"SUM(U7:U14)","v":15},null,null,null,"Total Sequences in Block Summary",{"$f":"SUM(Z7:Z14)","v":15},null,null,null,"Total Sequences in Block Summary",{"$f":"SUM(AE7:AE14)","v":14},null,null,null,"Total Sequences in Block Summary",{"$f":"SUM(AJ7:AJ14)","v":15},null,null,null,"Total Sequences in Block Summary",{"$f":"SUM(AO7:AO14)","v":15},null,null,null,"Total Sequences in Block Summary",{"$f":"SUM(AT7:AT14)","v":15}]
[null,null,null,null,null,null,null,null,null,null,null,null,null,null,null,null,null,null,null,"Block 1",null,null,null,null,"Block 2",null,null,null,null,"Block 3",null,null,null,null,"Block 4",null,null,null,null,"Block 5",null,null,null,null,"Block 6"]
["Sequence\nComponent\n1","Time\n1","Sequence\nComponent\n2","Time\n2","Sequence\nComponent\n3","Time\n3","Sequence\nComponent\n4","Time\n4","Sequence\nComponent\n5","Time\n5","Correct?\n0=No 1=Yes","Sequence",null,"Frequency",null,"Relative Frequency","Variability",null,null,"Frequency",null,"Relative Frequency","Variability",null,"Frequency",null,"Relative Frequency","Variability",null,"Frequency",null,"Relative Frequency","Variability",null,"Frequency",null,"Relative Frequency","Variability",null,"Frequency",null,"Relative Frequency","Variability",null,"Frequency",null,"Relative Frequency","Variability"]
[22,16,23,23,24,30,null,null,null,null,0,222,null,111,{"$f":"COUNTIF($L$7:$L$500,N7)","v":13},{"$f":"O7/$Q$4","v":0.14606741573033707},{"$f":"IF(P7=0,0,(P7*((LOG(P7))/LOG(2))))","v":-0.40537998052504465},null,null,{"$f":"N7","v":111},{"$f":"COUNTIF(L7:L21,T7)","v":5},{"$f":"U7/(W4-U9)","v":0.41666666666666669},{"$f":"IF(V7=0,0,(V7*((LOG(V7))/LOG(2))))","v":-0.52626433576408083},null,{"$f":"N7","v":111},{"$f":"COUNTIF(L22:L36,Y7)","v":1},{"$f":"Z7/(AB4-Z9)","v":0.125},{"$f":"IF(AA7=0,0,(AA7*((LOG(AA7))/LOG(2))))","v":-0.375},null,{"$f":"N7","v":111},{"$f":"COUNTIF(L37:L50,AD7)","v":3},{"$f":"AE7/(AG4-AE9)","v":0.33333333333333331},{"$f":"IF(AF7=0,0,(AF7*((LOG(AF7))/LOG(2))))","v":-0.52832083357371862},null,{"$f":"N7","v":111},{"$f":"COUNTIF(L51:L65,AI7)","v":1},{"$f":"AJ7/(AL4-AJ9)","v":0.125},{"$f":"IF(AK7=0,0,(AK7*((LOG(AK7))/LOG(2))))","v":-0.375},null,{"$f":"N7","v":111},{"$f":"COUNTIF(L66:L80,AN7)","v":2},{"$f":"AO7/(AQ4-AO9)","v":0.2},{"$f":"IF(AP7=0,0,(AP7*((LOG(AP7))/LOG(2))))","v":-0.46438561897747244},null,{"$f":"N7","v":111},{"$f":"COUNTIF(L81:L95,AS7)","v":1},{"$f":"AT7/(AV4-AT9)","v":0.14285714285714285},{"$f":"IF(AU7=0,0,(AU7*((LOG(AU7))/LOG(2))))","v":-0.40105070315108626}]
[22,127,23,134,24,140,null,null,null,null,0,222,null,112,{"$f":"COUNTIF($L$7:$L$500,N8)","v":7},{"$f":"O8/$Q$4","v":7.8651685393258425E-2},{"$f":"IF(P8=0,0,(P8*((LOG(P8))/LOG(2))))","v":-0.28852415238608486},null,null,{"$f":"N8","v":112},{"$f":"COUNTIF(L7:L21,T8)","v":1},{"$f":"U8/(W4-U9)","v":8.3333333333333329E-2},{"$f":"IF(V8=0,0,(V8*((LOG(V8))/LOG(2))))","v":-0.29874687506009634},null,{"$f":"N8","v":112},{"$f":"COUNTIF(L22:L36,Y8)","v":1},{"$f":"Z8/(AB4-Z9)","v":0.125},{"$f":"IF(AA8=0,0,(AA8*((LOG(AA8))/LOG(2))))","v":-0.375},null,{"$f":"N8","v":112},{"$f":"COUNTIF(L37:L50,AD8)","v":2},{"$f":"AE8/(AG4-AE9)","v":0.22222222222222221},{"$f":"IF(AF8=0,0,(AF8*((LOG(AF8))/LOG(2))))","v":-0.48220555587606945},null,{"$f":"N8","v":112},{"$f":"COUNTIF(L51:L65,AI8)","v":2},{"$f":"AJ8/(AL4-AJ9)","v":0.25},{"$f":"IF(AK8=0,0,(AK8*((LOG(AK8))/LOG(2))))","v":-0.5},null,{"$f":"N8","v":112},{"$f":"COUNTIF(L66:L80,AN8)","v":1},{"$f":"AO8/(AQ4-AO9)","v":0.1},{"$f":"IF(AP8=0,0,(AP8*((LOG(AP8))/LOG(2))))","v":-0.33219280948873625},null,{"$f":"N8","v":112},{"$f":"COUNTIF(L81:L95,AS8)","v":0},{"$f":"AT8/(AV4-AT9)","v":0},{"$f":"IF(AU8=0,0,(AU8*((LOG(AU8))/LOG(2))))","v":0}]
[11,240,21,251,11,267,null,null,null,null,0,121,null,121,{"$f":"COUNTIF($L$7:$L$500,N9)","v":35},{"$f":"O9/$Q$4","v":0.39325842696629215},{"$f":"IF(P9=0,0,(P9*((LOG(P9))/LOG(2))))","v":-0.52950297180618089},null,null,{"$f":"N9","v":121},{"$f":"COUNTIF(L7:L21,T9)","v":3},null,null,null,{"$f":"N9","v":121},{"$f":"COUNTIF(L22:L36,Y9)","v":7},null,null,null,{"$f":"N9","v":121},{"$f":"COUNTIF(L37:L50,AD9)","v":5},null,null,null,{"$f":"N9","v":121},{"$f":"COUNTIF(L51:L65,AI9)","v":7},null,null,null,{"$f":"N9","v":121},{"$f":"COUNTIF(L66:L80,AN9)","v":5},null,null,null,{"$f":"N9","v":121},{"$f":"COUNTIF(L81:L95,AS9)","v":8}]
[11,453,21,461,11,479,null,null,null,null,0,121,null,122,{"$f":"COUNTIF($L$7:$L$500,N10)","v":13},{"$f":"O10/$Q$4","v":0.14606741573033707},{"$f":"IF(P10=0,0,(P10*((LOG(P10))/LOG(2))))","v":-0.40537998052504465},null,null,{"$f":"N10","v":122},{"$f":"COUNTIF(L7:L21,T10)","v":1},{"$f":"U10/(W4-U9)","v":8.3333333333333329E-2},{"$f":"IF(V10=0,0,(V10*((LOG(V10))/LOG(2))))","v":-0.29874687506009634},null,{"$f":"N10","v":122},{"$f":"COUNTIF(L22:L36,Y10)","v":3},{"$f":"Z10/(AB4-Z9)","v":0.375},{"$f":"IF(AA10=0,0,(AA10*((LOG(AA10))/LOG(2))))","v":-0.53063906222956647},null,{"$f":"N10","v":122},{"$f":"COUNTIF(L37:L50,AD10)","v":1},{"$f":"AE10/(AG4-AE9)","v":0.1111111111111111},{"$f":"IF(AF10=0,0,(AF10*((LOG(AF10))/LOG(2))))","v":-0.3522138890491458},null,{"$f":"N10","v":122},{"$f":"COUNTIF(L51:L65,AI10)","v":2},{"$f":"AJ10/(AL4-AJ9)","v":0.25},{"$f":"IF(AK10=0,0,(AK10*((LOG(AK10))/LOG(2))))","v":-0.5},null,{"$f":"N10","v":122},{"$f":"COUNTIF(L66:L80,AN10)","v":1},{"$f":"AO10/(AQ4-AO9)","v":0.1},{"$f":"IF(AP10=0,0,(AP10*((LOG(AP10))/LOG(2))))","v":-0.33219280948873625},null,{"$f":"N10","v":122},{"$f":"COUNTIF(L81:L95,AS10)","v":5},{"$f":"AT10/(AV4-AT9)","v":0.7142857142857143},{"$f":"IF(AU10=0,0,(AU10*((LOG(AU10))/LOG(2))))","v":-0.34673344797874411}]
[11,670,12,677,13,684,null,null,null,null,0,111,null,211,{"$f":"COUNTIF($L$7:$L$500,N11)","v":3},{"$f":"O11/$Q$4","v":3.3707865168539325E-2},{"$f":"IF(P11=0,0,(P11*((LOG(P11))/LOG(2))))","v":-0.16485744708691824},null,null,{"$f":"N11","v":211},{"$f":"COUNTIF(L7:L21,T11)","v":0},{"$f":"U11/(W4-U9)","v":0},{"$f":"IF(V11=0,0,(V11*((LOG(V11))/LOG(2))))","v":0},null,{"$f":"N11","v":211},{"$f":"COUNTIF(L22:L36,Y11)","v":0},{"$f":"Z11/(AB4-Z9)","v":0},{"$f":"IF(AA11=0,0,(AA11*((LOG(AA11))/LOG(2))))","v":0},null,{"$f":"N11","v":211},{"$f":"COUNTIF(L37:L50,AD11)","v":0},{"$f":"AE11/(AG4-AE9)","v":0},{"$f":"IF(AF11=0,0,(AF11*((LOG(AF11))/LOG(2))))","v":0},null,{"$f":"N11","v":211},{"$f":"COUNTIF(L51:L65,AI11)","v":1},{"$f":"AJ11/(AL4-AJ9)","v":0.125},{"$f":"IF(AK11=0,0,(AK11*((LOG(AK11))/LOG(2))))","v":-0.375},null,{"$f":"N11","v":211},{"$f":"COUNTIF(L66:L80,AN11)","v":2},{"$f":"AO11/(AQ4-AO9)","v":0.2},{"$f":"IF(AP11=0,0,(AP11*((LOG(AP11))/LOG(2))))","v":-0.46438561897747244},null,{"$f":"N11","v":211},{"$f":"COUNTIF(L81:L95,AS11)","v":0},{"$f":"AT11/(AV4-AT9)","v":0},{"$f":"IF(AU11=0,0,(AU11*((LOG(AU11))/LOG(2))))","v":0}]
[11,920,12,925,13,938,null,null,null,null,0,111,null,212,{"$f":"COUNTIF($L$7:$L$500,N12)","v":7},{"$f":"O12/$Q$4","v":7.8651685393258425E-2},{"$f":"IF(P12=0,0,(P12*((LOG(P12))/LOG(2))))","v":-0.28852415238608486},null,null,{"$f":"N12","v":212},{"$f":"COUNTIF(L7:L21,T12)","v":0},{"$f":"U12/(W4-U9)","v":0},{"$f":"IF(V12=0,0,(V12*((LOG(V12))/LOG(2))))","v":0},null,{"$f":"N12","v":212},{"$f":"COUNTIF(L22:L36,Y12)","v":2},{"$f":"Z12/(AB4-Z9)","v":0.25},{"$f":"IF(AA12=0,0,(AA12*((LOG(AA12))/LOG(2))))","v":-0.5},null,{"$f":"N12","v":212},{"$f":"COUNTIF(L37:L50,AD12)","v":3},{"$f":"AE12/(AG4-AE9)","v":0.33333333333333331},{"$f":"IF(AF12=0,0,(AF12*((LOG(AF12))/LOG(2))))","v":-0.52832083357371862},null,{"$f":"N12","v":212},{"$f":"COUNTIF(L51:L65,AI12)","v":0},{"$f":"AJ12/(AL4-AJ9)","v":0},{"$f":"IF(AK12=0,0,(AK12*((LOG(AK12))/LOG(2))))","v":0},null,{"$f":"N12","v":212},{"$f":"COUNTIF(L66:L80,AN12)","v":2},{"$f":"AO12/(AQ4-AO9)","v":0.2},{"$f":"IF(AP12=0,0,(AP12*((LOG(AP12))/LOG(2))))","v":-0.46438561897747244},null,{"$f":"N12","v":212},{"$f":"COUNTIF(L81:L95,AS12)","v":0},{"$f":"AT12/(AV4-AT9)","v":0},{"$f":"IF(AU12=0,0,(AU12*((LOG(AU12))/LOG(2))))","v":0}]
[11,1037,12,1046,13,1053,null,null,null,null,0,111,null,221,{"$f":"COUNTIF($L$7:$L$500,N13)","v":2},{"$f":"O13/$Q$4","v":2.247191011235955E-2},{"$f":"IF(P13=0,0,(P13*((LOG(P13))/LOG(2))))","v":-0.12305018945991905},null,null,{"$f":"N13","v":221},{"$f":"COUNTIF(L7:L21,T13)","v":1},{"$f":"U13/(W4-U9)","v":8.3333333333333329E-2},{"$f":"IF(V13=0,0,(V13*((LOG(V13))/LOG(2))))","v":-0.29874687506009634},null,{"$f":"N13","v":221},{"$f":"COUNTIF(L22:L36,Y13)","v":1},{"$f":"Z13/(AB4-Z9)","v":0.125},{"$f":"IF(AA13=0,0,(AA13*((LOG(AA13))/LOG(2))))","v":-0.375},null,{"$f":"N13","v":221},{"$f":"COUNTIF(L37:L50,AD13)","v":0},{"$f":"AE13/(AG4-AE9)","v":0},{"$f":"IF(AF13=0,0,(AF13*((LOG(AF13))/LOG(2))))","v":0},null,{"$f":"N13","v":221},{"$f":"COUNTIF(L51:L65,AI13)","v":0},{"$f":"AJ13/(AL4-AJ9)","v":0},{"$f":"IF(AK13=0,0,(AK13*((LOG(AK13))/LOG(2))))","v":0},null,{"$f":"N13","v":221},{"$f":"COUNTIF(L66:L80,AN13)","v":0},{"$f":"AO13/(AQ4-AO9)","v":0},{"$f":"IF(AP13=0,0,(AP13*((LOG(AP13))/LOG(2))))","v":0},null,{"$f":"N13","v":221},{"$f":"COUNTIF(L81:L95,AS13)","v":0},{"$f":"AT13/(AV4-AT9)","v":0},{"$f":"IF(AU13=0,0,(AU13*((LOG(AU13))/LOG(2))))","v":0}]
[11,1149,12,1170,13,1192,null,null,null,null,0,111,null,222,{"$f":"COUNTIF($L$7:$L$500,N14)","v":9},{"$f":"O14/$Q$4","v":0.10112359550561797},{"$f":"IF(P14=0,0,(P14*((LOG(P14))/LOG(2))))","v":-0.33429523444625581},null,null,{"$f":"N14","v":222},{"$f":"COUNTIF(L7:L21,T14)","v":4},{"$f":"U14/(W4-U9)","v":0.33333333333333331},{"$f":"IF(V14=0,0,(V14*((LOG(V14))/LOG(2))))","v":-0.52832083357371862},null,{"$f":"N14","v":222},{"$f":"COUNTIF(L22:L36,Y14)","v":0},{"$f":"Z14/(AB4-Z9)","v":0},{"$f":"IF(AA14=0,0,(AA14*((LOG(AA14))/LOG(2))))","v":0},null,{"$f":"N14","v":222},{"$f":"COUNTIF(L37:L50,AD14)","v":0},{"$f":"AE14/(AG4-AE9)","v":0},{"$f":"IF(AF14=0,0,(AF14*((LOG(AF14))/LOG(2))))","v":0},null,{"$f":"N14","v":222},{"$f":"COUNTIF(L51:L65,AI14)","v":2},{"$f":"AJ14/(AL4-AJ9)","v":0.25},{"$f":"IF(AK14=0,0,(AK14*((LOG(AK14))/LOG(2))))","v":-0.5},null,{"$f":"N14","v":222},{"$f":"COUNTIF(L66:L80,AN14)","v":2},{"$f":"AO14/(AQ4-AO9)","v":0.2},{"$f":"IF(AP14=0,0,(AP14*((LOG(AP14))/LOG(2))))","v":-0.46438561897747244},null,{"$f":"N14","v":222},{"$f":"COUNTIF(L81:L95,AS14)","v":1},{"$f":"AT14/(AV4-AT9)","v":0.14285714285714285},{"$f":"IF(AU14=0,0,(AU14*((LOG(AU14))/LOG(2))))","v":-0.40105070315108626}]
[22,1289,23,1299,24,1306,null,null,null,null,0,222,null,null,null,{"$f":"SUM(P7:P14)","v":1},{"$f":"-SUM(Q7:Q14)","v":2.5395141086215327},null,null,null,null,{"$f":"SUM(V7:V14)","v":1},{"$f":"-SUM(W7:W14)","v":1.9508257945180885},null,null,null,{"$f":"SUM(AA7:AA14)","v":1},{"$f":"-SUM(AB7:AB14)","v":2.1556390622295662},null,null,null,{"$f":"SUM(AF7:AF14)","v":1},{"$f":"-SUM(AG7:AG14)","v":1.8910611120726524},null,null,null,{"$f":"SUM(AK7:AK14)","v":1},{"$f":"-SUM(AL7:AL14)","v":2.25},null,null,null,{"$f":"SUM(AP7:AP14)","v":1},{"$f":"-SUM(AQ7:AQ14)","v":2.5219280948873624},null,null,null,{"$f":"SUM(AU7:AU14)","v":1},{"$f":"-SUM(AV7:AV14)","v":1.1488348542809166}]
[22,1408,23,1416,24,1422,null,null,null,null,0,222,null,null,null,"U=",{"$f":"Q15/(LOG(Q4)/LOG(2))","v":0.39215853087432473},null,null,null,null,"U1=",{"$f":"W15/(LOG(W4)/LOG(2))","v":0.49932951711288887},null,null,null,"U2=",{"$f":"AB15/(LOG(AB4)/LOG(2))","v":0.55175311657116266},null,null,null,"U3=",{"$f":"AG15/(LOG(AG4)/LOG(2))","v":0.49668632181280037},null,null,null,"U4=",{"$f":"AL15/(LOG(AL4)/LOG(2))","v":0.5759055558220848},null,null,null,"U5=",{"$f":"AQ15/(LOG(AQ4)/LOG(2))","v":0.64550773387975013},null,null,null,"U6=",{"$f":"AV15/(LOG(AV4)/LOG(2))","v":0.29405350013441561}]
[11,1522,21,1530,11,1538,null,null,null,null,0,121]
[11,1731,21,1740,22,1746,null,null,null,null,0,122]
[22,1876,23,1881,13,1904,null,null,null,null,0,221,null,"Total Target Seq"]
[11,2005,12,2020,24,2044,null,null,null,null,0,112,null,{"$f":"COUNTIF(L7:L95,G3)","v":35},null,15,15,14,15,15,15]
[11,2147,12,2169,13,2190,null,null,null,null,0,111,null,null,null,"% of reinforcement given in 6 equal intervals based on number of trials "]
[11,2293,21,2302,11,2312,null,null,null,null,0,121,null,null,null,"%_1","%_2","%_3","%_4","%_5","%_6"]
[22,2475,23,2480,13,2491,null,null,null,null,0,221,null,null,"target sequence",{"$f":"$G$3","v":121},{"$f":"$G$3","v":121},{"$f":"$G$3","v":121},{"$f":"$G$3","v":121},{"$f":"$G$3","v":121},{"$f":"$G$3","v":121}]
[11,2660,21,2674,11,2694,null,null,null,null,0,121,null,null,"total reinforcement",{"$f":"U9","v":3},{"$f":"Z9","v":7},{"$f":"AE9","v":5},{"$f":"AJ9","v":7},{"$f":"AO9","v":5},{"$f":"AT9","v":8}]
[11,2848,21,2856,11,2868,null,null,null,null,0,121,null,null,"% target"]
[11,3105,21,3113,22,3119,null,null,null,null,0,122,null,null,"CCRF"]
[22,3329,14,3339,24,3358,null,null,null,null,0,212,null,null,"% CCRf"]
[22,3453,14,3467,24,3481,null,null,null,null,0,212,null,null,"average response rate",{"$f":"F21/P20","v":146},{"$f":"(F36-F21)/Q20","v":167.73333333333332},{"$f":"(F50-F36)/R20","v":176},{"$f":"(F65-F50)/S20","v":171.93333333333334},{"$f":"(F80-F65)/T20","v":173.46666666666667},{"$f":"(F95-F80)/U20","v":181.4}]
[11,3584,12,3605,13,3622,null,null,null,null,0,111]
[11,3723,21,3731,11,3745,null,null,null,null,0,121]
[11,3880,21,3886,11,3900,null,null,null,null,0,121]
[11,4095,21,4120,11,4131,null,null,null,null,0,121]
[11,4273,21,4281,11,4301,null,null,null,null,0,121]
[11,4440,21,4447,22,4455,null,null,null,null,0,122]
[11,4559,21,4567,22,4569,null,null,null,null,0,122]
[11,4671,12,4690,24,4706,null,null,null,null,0,112]
[11,4860,12,4866,13,4891,null,null,null,null,0,111]
[22,4987,14,5007,24,5013,null,null,null,null,0,212]
[11,5105,21,5116,11,5132,null,null,null,null,0,121]
[11,5317,12,5349,24,5373,null,null,null,null,0,112]
[22,5484,14,5499,24,5517,null,null,null,null,0,212]
[11,5619,12,5644,13,5669,null,null,null,null,0,111]
[11,5770,21,5775,11,5787,null,null,null,null,0,121]
[11,5969,21,5978,22,5984,null,null,null,null,0,122]
[11,6084,21,6093,11,6102,null,null,null,null,0,121]
[11,6411,21,6418,11,6435,null,null,null,null,0,121]
[11,6613,21,6624,11,6635,null,null,null,null,0,121]
[11,6840,12,6873,24,6891,null,null,null,null,0,112]
[11,6998,12,7023,13,7037,null,null,null,null,0,111]
[22,7143,14,7155,24,7170,null,null,null,null,0,212]
[11,7273,12,7294,24,7310,null,null,null,null,0,112]
[11,7416,21,7424,22,7437,null,null,null,null,0,122]
[11,7533,21,7543,11,7560,null,null,null,null,0,121]
[11,7739,21,7751,11,7767,null,null,null,null,0,121]
[11,7929,21,7937,22,7943,null,null,null,null,0,122]
[11,8046,21,8051,11,8062,null,null,null,null,0,121]
[11,8267,21,8274,11,8295,null,null,null,null,0,121]
[11,8520,21,8530,11,8543,null,null,null,null,0,121]
[11,8734,21,8744,11,8759,null,null,null,null,0,121]
[11,8957,21,8964,11,8981,null,null,null,null,0,121]
[11,9219,12,9232,24,9241,null,null,null,null,0,112]
[22,9339,23,9345,24,9357,null,null,null,null,0,222]
[11,9463,12,9479,13,9490,null,null,null,null,0,111]
[22,9597,23,9605,24,9611,null,null,null,null,0,222]
[22,9724,14,9734,13,9749,null,null,null,null,0,211]
[22,9852,23,9858,24,9864,null,null,null,null,0,222]
[22,9971,14,9991,24,10007,null,null,null,null,0,212]
[11,10107,21,10115,11,10126,null,null,null,null,0,121]
[11,10320,12,10324,24,10332,null,null,null,null,0,112]
[11,10436,21,10443,22,10449,null,null,null,null,0,122]
[11,10721,21,10730,11,10750,null,null,null,null,0,121]
[11,10944,12,10990,13,10999,null,null,null,null,0,111]
[11,11112,21,11120,11,11137,null,null,null,null,0,121]
[11,11336,21,11343,11,11357,null,null,null,null,0,121]
[22,11617,14,11630,13,11639,null,null,null,null,0,211]
[11,11739,12,11763,13,11777,null,null,null,null,0,111]
[22,11889,14,11901,13,11932,null,null,null,null,0,211]
[11,12029,21,12037,11,12049,null,null,null,null,0,121]
[22,12188,23,12194,24,12200,null,null,null,null,0,222]
[22,12312,14,12328,24,12351,null,null,null,null,0,212]
[11,12454,21,12461,22,12466,null,null,null,null,0,122]
[11,12561,21,12570,22,12574,null,null,null,null,0,122]
[11,12673,21,12680,22,12684,null,null,null,null,0,122]
[11,12797,21,12805,11,12819,null,null,null,null,0,121]
[11,12963,21,12970,22,12976,null,null,null,null,0,122]
[22,13082,23,13091,24,13097,null,null,null,null,0,222]
[11,13202,21,13207,11,13218,null,null,null,null,0,121]
[11,13518,21,13526,11,13554,null,null,null,null,0,121]
[11,13774,21,13784,11,13798,null,null,null,null,0,121]
[11,14063,21,14073,22,14078,null,null,null,null,0,122]
[11,14181,12,14199,13,14212,null,null,null,null,0,111]
[11,14305,21,14314,11,14326,null,null,null,null,0,121]
[11,14575,21,14584,11,14595,null,null,null,null,0,121]
[11,14814,21,14823,11,14849,null,null,null,null,0,121]
[11,15044,21,15059,11,15072,null,null,null,null,1,121]

{"sheet":"!M315A4D.UST","index":28,"n_rows":97,"n_cols":48,"rows_kept":97,"cut":false,"hidden":false,"merged":[[4,39,4,42],[5,39,5,40],[4,44,4,47],[5,44,5,45],[4,24,4,27],[5,24,5,25],[4,29,4,32],[5,29,5,30],[4,34,4,37],[5,34,5,35],[1,1,1,2],[5,13,5,14],[18,13,18,14],[19,13,19,14],[4,19,4,22],[5,19,5,20]]}
["Report for:!M315A4D.UST"]
["Date:","<date>"]
["Hen:","<hen>",null,null,null,"Correct Sequence",{"$f":"Start!J2","v":121},null,null,null,null,null,null,null,null,"Total Sequences in Data",{"$f":"4994-COUNTBLANK(L7:L5000)","v":91},null,null,null,null,"Total Sequences in Block Data",{"$f":"COUNTA(L7:L21)","v":15},null,null,null,"Total Sequences in Block Data",{"$f":"COUNTA(L22:L36)","v":15},null,null,null,"Total Sequences in Block Data",{"$f":"COUNTA(L37:L52)","v":16},null,null,null,"Total Sequences in Block Data",{"$f":"COUNTA(L53:L67)","v":15},null,null,null,"Total Sequences in Block Data",{"$f":"COUNTA(L68:L82)","v":15},null,null,null,"Total Sequences in Block Data",{"$f":"COUNTA(L83:L97)","v":15}]
[null,null,null,null,null,null,null,null,null,null,null,null,null,null,null,"Total Sequences in Summary",{"$f":"SUM(O7:O14)","v":91},null,null,null,null,"Total Sequences in Block Summary",{"$f":"SUM(U7:U14)","v":15},null,null,null,"Total Sequences in Block Summary",{"$f":"SUM(Z7:Z14)","v":15},null,null,null,"Total Sequences in Block Summary",{"$f":"SUM(AE7:AE14)","v":16},null,null,null,"Total Sequences in Block Summary",{"$f":"SUM(AJ7:AJ14)","v":15},null,null,null,"Total Sequences in Block Summary",{"$f":"SUM(AO7:AO14)","v":15},null,null,null,"Total Sequences in Block Summary",{"$f":"SUM(AT7:AT14)","v":15}]
[null,null,null,null,null,null,null,null,null,null,null,null,null,null,null,null,null,null,null,"Block 1",null,null,null,null,"Block 2",null,null,null,null,"Block 3",null,null,null,null,"Block 4",null,null,null,null,"Block 5",null,null,null,null,"Block 6"]
["Sequence\nComponent\n1","Time\n1","Sequence\nComponent\n2","Time\n2","Sequence\nComponent\n3","Time\n3","Sequence\nComponent\n4","Time\n4","Sequence\nComponent\n5","Time\n5","Correct?\n0=No 1=Yes","Sequence",null,"Frequency",null,"Relative Frequency","Variability",null,null,"Frequency",null,"Relative Frequency","Variability",null,"Frequency",null,"Relative Frequency","Variability",null,"Frequency",null,"Relative Frequency","Variability",null,"Frequency",null,"Relative Frequency","Variability",null,"Frequency",null,"Relative Frequency","Variability",null,"Frequency",null,"Relative Frequency","Variability"]
[22,75,23,80,13,91,null,null,null,null,0,221,null,111,{"$f":"COUNTIF($L$7:$L$500,N7)","v":7},{"$f":"O7/$Q$4","v":7.6923076923076927E-2},{"$f":"IF(P7=0,0,(P7*((LOG(P7))/LOG(2))))","v":-0.28464920908777636},null,null,{"$f":"N7","v":111},{"$f":"COUNTIF(L7:L21,T7)","v":1},{"$f":"U7/(W4-U9)","v":0.1},{"$f":"IF(V7=0,0,(V7*((LOG(V7))/LOG(2))))","v":-0.33219280948873625},null,{"$f":"N7","v":111},{"$f":"COUNTIF(L22:L36,Y7)","v":3},{"$f":"Z7/(AB4-Z9)","v":0.3},{"$f":"IF(AA7=0,0,(AA7*((LOG(AA7))/LOG(2))))","v":-0.52108967824986185},null,{"$f":"N7","v":111},{"$f":"COUNTIF(L37:L52,AD7)","v":0},{"$f":"AE7/(AG4-AE9)","v":0},{"$f":"IF(AF7=0,0,(AF7*((LOG(AF7))/LOG(2))))","v":0},null,{"$f":"N7","v":111},{"$f":"COUNTIF(L53:L67,AI7)","v":1},{"$f":"AJ7/(AL4-AJ9)","v":0.1},{"$f":"IF(AK7=0,0,(AK7*((LOG(AK7))/LOG(2))))","v":-0.33219280948873625},null,{"$f":"N7","v":111},{"$f":"COUNTIF(L68:L82,AN7)","v":1},{"$f":"AO7/(AQ4-AO9)","v":0.125},{"$f":"IF(AP7=0,0,(AP7*((LOG(AP7))/LOG(2))))","v":-0.375},null,{"$f":"N7","v":111},{"$f":"COUNTIF(L83:L97,AS7)","v":1},{"$f":"AT7/(AV4-AT9)","v":0.1111111111111111},{"$f":"IF(AU7=0,0,(AU7*((LOG(AU7))/LOG(2))))","v":-0.3522138890491458}]
[22,201,14,217,24,233,null,null,null,null,0,212,null,112,{"$f":"COUNTIF($L$7:$L$500,N8)","v":8},{"$f":"O8/$Q$4","v":8.7912087912087919E-2},{"$f":"IF(P8=0,0,(P8*((LOG(P8))/LOG(2))))","v":-0.30837755078669854},null,null,{"$f":"N8","v":112},{"$f":"COUNTIF(L7:L21,T8)","v":1},{"$f":"U8/(W4-U9)","v":0.1},{"$f":"IF(V8=0,0,(V8*((LOG(V8))/LOG(2))))","v":-0.33219280948873625},null,{"$f":"N8","v":112},{"$f":"COUNTIF(L22:L36,Y8)","v":0},{"$f":"Z8/(AB4-Z9)","v":0},{"$f":"IF(AA8=0,0,(AA8*((LOG(AA8))/LOG(2))))","v":0},null,{"$f":"N8","v":112},{"$f":"COUNTIF(L37:L52,AD8)","v":2},{"$f":"AE8/(AG4-AE9)","v":0.25},{"$f":"IF(AF8=0,0,(AF8*((LOG(AF8))/LOG(2))))","v":-0.5},null,{"$f":"N8","v":112},{"$f":"COUNTIF(L53:L67,AI8)","v":2},{"$f":"AJ8/(AL4-AJ9)","v":0.2},{"$f":"IF(AK8=0,0,(AK8*((LOG(AK8))/LOG(2))))","v":-0.46438561897747244},null,{"$f":"N8","v":112},{"$f":"COUNTIF(L68:L82,AN8)","v":1},{"$f":"AO8/(AQ4-AO9)","v":0.125},{"$f":"IF(AP8=0,0,(AP8*((LOG(AP8))/LOG(2))))","v":-0.375},null,{"$f":"N8","v":112},{"$f":"COUNTIF(L83:L97,AS8)","v":2},{"$f":"AT8/(AV4-AT9)","v":0.22222222222222221},{"$f":"IF(AU8=0,0,(AU8*((LOG(AU8))/LOG(2))))","v":-0.48220555587606945}]
[11,334,21,339,11,360,null,null,null,null,0,121,null,121,{"$f":"COUNTIF($L$7:$L$500,N9)","v":36},{"$f":"O9/$Q$4","v":0.39560439560439559},{"$f":"IF(P9=0,0,(P9*((LOG(P9))/LOG(2))))","v":-0.52926710983769032},null,null,{"$f":"N9","v":121},{"$f":"COUNTIF(L7:L21,T9)","v":5},null,null,null,{"$f":"N9","v":121},{"$f":"COUNTIF(L22:L36,Y9)","v":5},null,null,null,{"$f":"N9","v":121},{"$f":"COUNTIF(L37:L52,AD9)","v":8},null,null,null,{"$f":"N9","v":121},{"$f":"COUNTIF(L53:L67,AI9)","v":5},null,null,null,{"$f":"N9","v":121},{"$f":"COUNTIF(L68:L82,AN9)","v":7},null,null,null,{"$f":"N9","v":121},{"$f":"COUNTIF(L83:L97,AS9)","v":6}]
[11,586,21,594,22,600,null,null,null,null,0,122,null,122,{"$f":"COUNTIF($L$7:$L$500,N10)","v":18},{"$f":"O10/$Q$4","v":0.19780219780219779},{"$f":"IF(P10=0,0,(P10*((LOG(P10))/LOG(2))))","v":-0.46243575272104293},null,null,{"$f":"N10","v":122},{"$f":"COUNTIF(L7:L21,T10)","v":2},{"$f":"U10/(W4-U9)","v":0.2},{"$f":"IF(V10=0,0,(V10*((LOG(V10))/LOG(2))))","v":-0.46438561897747244},null,{"$f":"N10","v":122},{"$f":"COUNTIF(L22:L36,Y10)","v":3},{"$f":"Z10/(AB4-Z9)","v":0.3},{"$f":"IF(AA10=0,0,(AA10*((LOG(AA10))/LOG(2))))","v":-0.52108967824986185},null,{"$f":"N10","v":122},{"$f":"COUNTIF(L37:L52,AD10)","v":4},{"$f":"AE10/(AG4-AE9)","v":0.5},{"$f":"IF(AF10=0,0,(AF10*((LOG(AF10))/LOG(2))))","v":-0.5},null,{"$f":"N10","v":122},{"$f":"COUNTIF(L53:L67,AI10)","v":3},{"$f":"AJ10/(AL4-AJ9)","v":0.3},{"$f":"IF(AK10=0,0,(AK10*((LOG(AK10))/LOG(2))))","v":-0.52108967824986185},null,{"$f":"N10","v":122},{"$f":"COUNTIF(L68:L82,AN10)","v":3},{"$f":"AO10/(AQ4-AO9)","v":0.375},{"$f":"IF(AP10=0,0,(AP10*((LOG(AP10))/LOG(2))))","v":-0.53063906222956647},null,{"$f":"N10","v":122},{"$f":"COUNTIF(L83:L97,AS10)","v":3},{"$f":"AT10/(AV4-AT9)","v":0.33333333333333331},{"$f":"IF(AU10=0,0,(AU10*((LOG(AU10))/LOG(2))))","v":-0.52832083357371862}]
[11,812,12,819,13,829,null,null,null,null,0,111,null,211,{"$f":"COUNTIF($L$7:$L$500,N11)","v":7},{"$f":"O11/$Q$4","v":7.6923076923076927E-2},{"$f":"IF(P11=0,0,(P11*((LOG(P11))/LOG(2))))","v":-0.28464920908777636},null,null,{"$f":"N11","v":211},{"$f":"COUNTIF(L7:L21,T11)","v":1},{"$f":"U11/(W4-U9)","v":0.1},{"$f":"IF(V11=0,0,(V11*((LOG(V11))/LOG(2))))","v":-0.33219280948873625},null,{"$f":"N11","v":211},{"$f":"COUNTIF(L22:L36,Y11)","v":1},{"$f":"Z11/(AB4-Z9)","v":0.1},{"$f":"IF(AA11=0,0,(AA11*((LOG(AA11))/LOG(2))))","v":-0.33219280948873625},null,{"$f":"N11","v":211},{"$f":"COUNTIF(L37:L52,AD11)","v":2},{"$f":"AE11/(AG4-AE9)","v":0.25},{"$f":"IF(AF11=0,0,(AF11*((LOG(AF11))/LOG(2))))","v":-0.5},null,{"$f":"N11","v":211},{"$f":"COUNTIF(L53:L67,AI11)","v":2},{"$f":"AJ11/(AL4-AJ9)","v":0.2},{"$f":"IF(AK11=0,0,(AK11*((LOG(AK11))/LOG(2))))","v":-0.46438561897747244},null,{"$f":"N11","v":211},{"$f":"COUNTIF(L68:L82,AN11)","v":1},{"$f":"AO11/(AQ4-AO9)","v":0.125},{"$f":"IF(AP11=0,0,(AP11*((LOG(AP11))/LOG(2))))","v":-0.375},null,{"$f":"N11","v":211},{"$f":"COUNTIF(L83:L97,AS11)","v":0},{"$f":"AT11/(AV4-AT9)","v":0},{"$f":"IF(AU11=0,0,(AU11*((LOG(AU11))/LOG(2))))","v":0}]
[11,928,21,934,11,943,null,null,null,null,0,121,null,212,{"$f":"COUNTIF($L$7:$L$500,N12)","v":7},{"$f":"O12/$Q$4","v":7.6923076923076927E-2},{"$f":"IF(P12=0,0,(P12*((LOG(P12))/LOG(2))))","v":-0.28464920908777636},null,null,{"$f":"N12","v":212},{"$f":"COUNTIF(L7:L21,T12)","v":3},{"$f":"U12/(W4-U9)","v":0.3},{"$f":"IF(V12=0,0,(V12*((LOG(V12))/LOG(2))))","v":-0.52108967824986185},null,{"$f":"N12","v":212},{"$f":"COUNTIF(L22:L36,Y12)","v":2},{"$f":"Z12/(AB4-Z9)","v":0.2},{"$f":"IF(AA12=0,0,(AA12*((LOG(AA12))/LOG(2))))","v":-0.46438561897747244},null,{"$f":"N12","v":212},{"$f":"COUNTIF(L37:L52,AD12)","v":0},{"$f":"AE12/(AG4-AE9)","v":0},{"$f":"IF(AF12=0,0,(AF12*((LOG(AF12))/LOG(2))))","v":0},null,{"$f":"N12","v":212},{"$f":"COUNTIF(L53:L67,AI12)","v":0},{"$f":"AJ12/(AL4-AJ9)","v":0},{"$f":"IF(AK12=0,0,(AK12*((LOG(AK12))/LOG(2))))","v":0},null,{"$f":"N12","v":212},{"$f":"COUNTIF(L68:L82,AN12)","v":1},{"$f":"AO12/(AQ4-AO9)","v":0.125},{"$f":"IF(AP12=0,0,(AP12*((LOG(AP12))/LOG(2))))","v":-0.375},null,{"$f":"N12","v":212},{"$f":"COUNTIF(L83:L97,AS12)","v":1},{"$f":"AT12/(AV4-AT9)","v":0.1111111111111111},{"$f":"IF(AU12=0,0,(AU12*((LOG(AU12))/LOG(2))))","v":-0.3522138890491458}]
[22,1113,14,1129,24,1148,null,null,null,null,0,212,null,221,{"$f":"COUNTIF($L$7:$L$500,N13)","v":4},{"$f":"O13/$Q$4","v":4.3956043956043959E-2},{"$f":"IF(P13=0,0,(P13*((LOG(P13))/LOG(2))))","v":-0.19814481934939326},null,null,{"$f":"N13","v":221},{"$f":"COUNTIF(L7:L21,T13)","v":1},{"$f":"U13/(W4-U9)","v":0.1},{"$f":"IF(V13=0,0,(V13*((LOG(V13))/LOG(2))))","v":-0.33219280948873625},null,{"$f":"N13","v":221},{"$f":"COUNTIF(L22:L36,Y13)","v":1},{"$f":"Z13/(AB4-Z9)","v":0.1},{"$f":"IF(AA13=0,0,(AA13*((LOG(AA13))/LOG(2))))","v":-0.33219280948873625},null,{"$f":"N13","v":221},{"$f":"COUNTIF(L37:L52,AD13)","v":0},{"$f":"AE13/(AG4-AE9)","v":0},{"$f":"IF(AF13=0,0,(AF13*((LOG(AF13))/LOG(2))))","v":0},null,{"$f":"N13","v":221},{"$f":"COUNTIF(L53:L67,AI13)","v":1},{"$f":"AJ13/(AL4-AJ9)","v":0.1},{"$f":"IF(AK13=0,0,(AK13*((LOG(AK13))/LOG(2))))","v":-0.33219280948873625},null,{"$f":"N13","v":221},{"$f":"COUNTIF(L68:L82,AN13)","v":0},{"$f":"AO13/(AQ4-AO9)","v":0},{"$f":"IF(AP13=0,0,(AP13*((LOG(AP13))/LOG(2))))","v":0},null,{"$f":"N13","v":221},{"$f":"COUNTIF(L83:L97,AS13)","v":1},{"$f":"AT13/(AV4-AT9)","v":0.1111111111111111},{"$f":"IF(AU13=0,0,(AU13*((LOG(AU13))/LOG(2))))","v":-0.3522138890491458}]
[22,1253,23,1263,24,1270,null,null,null,null,0,222,null,222,{"$f":"COUNTIF($L$7:$L$500,N14)","v":4},{"$f":"O14/$Q$4","v":4.3956043956043959E-2},{"$f":"IF(P14=0,0,(P14*((LOG(P14))/LOG(2))))","v":-0.19814481934939326},null,null,{"$f":"N14","v":222},{"$f":"COUNTIF(L7:L21,T14)","v":1},{"$f":"U14/(W4-U9)","v":0.1},{"$f":"IF(V14=0,0,(V14*((LOG(V14))/LOG(2))))","v":-0.33219280948873625},null,{"$f":"N14","v":222},{"$f":"COUNTIF(L22:L36,Y14)","v":0},{"$f":"Z14/(AB4-Z9)","v":0},{"$f":"IF(AA14=0,0,(AA14*((LOG(AA14))/LOG(2))))","v":0},null,{"$f":"N14","v":222},{"$f":"COUNTIF(L37:L52,AD14)","v":0},{"$f":"AE14/(AG4-AE9)","v":0},{"$f":"IF(AF14=0,0,(AF14*((LOG(AF14))/LOG(2))))","v":0},null,{"$f":"N14","v":222},{"$f":"COUNTIF(L53:L67,AI14)","v":1},{"$f":"AJ14/(AL4-AJ9)","v":0.1},{"$f":"IF(AK14=0,0,(AK14*((LOG(AK14))/LOG(2))))","v":-0.33219280948873625},null,{"$f":"N14","v":222},{"$f":"COUNTIF(L68:L82,AN14)","v":1},{"$f":"AO14/(AQ4-AO9)","v":0.125},{"$f":"IF(AP14=0,0,(AP14*((LOG(AP14))/LOG(2))))","v":-0.375},null,{"$f":"N14","v":222},{"$f":"COUNTIF(L83:L97,AS14)","v":1},{"$f":"AT14/(AV4-AT9)","v":0.1111111111111111},{"$f":"IF(AU14=0,0,(AU14*((LOG(AU14))/LOG(2))))","v":-0.3522138890491458}]
[11,1363,12,1383,24,1395,null,null,null,null,0,112,null,null,null,{"$f":"SUM(P7:P14)","v":0.99999999999999978},{"$f":"-SUM(Q7:Q14)","v":2.5503176793075477},null,null,null,null,{"$f":"SUM(V7:V14)","v":1},{"$f":"-SUM(W7:W14)","v":2.6464393446710153},null,null,null,{"$f":"SUM(AA7:AA14)","v":0.99999999999999989},{"$f":"-SUM(AB7:AB14)","v":2.1709505944546685},null,null,null,{"$f":"SUM(AF7:AF14)","v":1},{"$f":"-SUM(AG7:AG14)","v":1.5},null,null,null,{"$f":"SUM(AK7:AK14)","v":1},{"$f":"-SUM(AL7:AL14)","v":2.4464393446710151},null,null,null,{"$f":"SUM(AP7:AP14)","v":1},{"$f":"-SUM(AQ7:AQ14)","v":2.4056390622295662},null,null,null,{"$f":"SUM(AU7:AU14)","v":1},{"$f":"-SUM(AV7:AV14)","v":2.419381945646371}]
[11,1500,21,1507,22,1510,null,null,null,null,0,122,null,null,null,"U=",{"$f":"Q15/(LOG(Q4)/LOG(2))","v":0.39188662524078682},null,null,null,null,"U1=",{"$f":"W15/(LOG(W4)/LOG(2))","v":0.67737738744097553},null,null,null,"U2=",{"$f":"AB15/(LOG(AB4)/LOG(2))","v":0.55567222611631173},null,null,null,"U3=",{"$f":"AG15/(LOG(AG4)/LOG(2))","v":0.375},null,null,null,"U4=",{"$f":"AL15/(LOG(AL4)/LOG(2))","v":0.62618578247901235},null,null,null,"U5=",{"$f":"AQ15/(LOG(AQ4)/LOG(2))","v":0.61574262277361658},null,null,null,"U6=",{"$f":"AV15/(LOG(AV4)/LOG(2))","v":0.61926022406817349}]
[11,1610,21,1617,11,1628,null,null,null,null,0,121]
[11,1779,21,1790,11,1802,null,null,null,null,0,121]
[22,1993,14,2003,13,2019,null,null,null,null,0,211,null,"Total Target Seq"]
[11,2113,21,2120,11,2131,null,null,null,null,0,121,null,{"$f":"COUNTIF(L7:L97,G3)","v":36},null,15,15,16,15,15,15]
[22,2283,14,2300,24,2320,null,null,null,null,0,212,null,null,null,"% of reinforcement given in 6 equal intervals based on number of trials "]
[22,2424,14,2434,24,2452,null,null,null,null,0,212,null,null,null,"%_1","%_2","%_3","%_4","%_5","%_6"]
[22,2558,14,2569,13,2577,null,null,null,null,0,211,null,null,"target sequence",{"$f":"$G$3","v":121},{"$f":"$G$3","v":121},{"$f":"$G$3","v":121},{"$f":"$G$3","v":121},{"$f":"$G$3","v":121},{"$f":"$G$3","v":121}]
[11,2676,21,2683,11,2698,null,null,null,null,0,121,null,null,"total reinforcement",{"$f":"U9","v":5},{"$f":"Z9","v":5},{"$f":"AE9","v":8},{"$f":"AJ9","v":5},{"$f":"AO9","v":7},{"$f":"AT9","v":6}]
[11,2847,21,2854,11,2870,null,null,null,null,0,121,null,null,"% target"]
[11,3133,21,3142,22,3148,null,null,null,null,0,122,null,null,"CCRF"]
[11,3245,21,3253,11,3267,null,null,null,null,0,121,null,null,"% CCRf"]
[22,3439,23,3445,13,3457,null,null,null,null,0,221,null,null,"average response rate",{"$f":"F21/P20","v":154.66666666666666},{"$f":"(F36-F21)/Q20","v":165.66666666666666},{"$f":"(F52-F36)/R20","v":147.75},{"$f":"(F67-F52)/S20","v":152.86666666666667},{"$f":"(F82-F67)/T20","v":167.86666666666667},{"$f":"(F97-F82)/U20","v":152.06666666666666}]
[11,3668,21,3676,22,3682,null,null,null,null,0,122]
[11,3781,12,3797,13,3805,null,null,null,null,0,111]
[11,4002,21,4009,22,4020,null,null,null,null,0,122]
[11,4119,12,4136,13,4143,null,null,null,null,0,111]
[22,4249,14,4265,24,4278,null,null,null,null,0,212]
[11,4376,21,4386,11,4399,null,null,null,null,0,121]
[11,4548,21,4556,11,4571,null,null,null,null,0,121]
[11,4793,12,4797,13,4805,null,null,null,null,0,111]
[11,4902,21,4909,11,4918,null,null,null,null,0,121]
[22,5064,14,5077,13,5086,null,null,null,null,0,211]
[11,5186,21,5193,11,5209,null,null,null,null,0,121]
[11,5385,21,5395,22,5399,null,null,null,null,0,122]
[11,5499,21,5505,11,5514,null,null,null,null,0,121]
[11,5660,21,5668,11,5683,null,null,null,null,0,121]
[11,5862,21,5869,11,5892,null,null,null,null,0,121]
[11,6087,21,6093,22,6097,null,null,null,null,0,122]
[22,6205,14,6215,13,6229,null,null,null,null,0,211]
[11,6333,21,6340,22,6344,null,null,null,null,0,122]
[11,6444,21,6452,11,6466,null,null,null,null,0,121]
[11,6628,21,6635,22,6640,null,null,null,null,0,122]
[11,6741,12,6756,24,6777,null,null,null,null,0,112]
[11,6876,21,6883,11,6893,null,null,null,null,0,121]
[11,7045,12,7048,24,7056,null,null,null,null,0,112]
[11,7150,21,7159,11,7169,null,null,null,null,0,121]
[11,7304,12,7310,24,7319,null,null,null,null,0,112]
[11,7412,21,7421,11,7431,null,null,null,null,0,121]
[22,7670,14,7681,13,7698,null,null,null,null,0,211]
[11,7792,21,7798,22,7802,null,null,null,null,0,122]
[11,7904,12,7920,13,7958,null,null,null,null,0,111]
[22,8067,23,8073,13,8088,null,null,null,null,0,221]
[11,8198,12,8219,24,8235,null,null,null,null,0,112]
[11,8332,21,8341,11,8352,null,null,null,null,0,121]
[11,8520,21,8527,11,8544,null,null,null,null,0,121]
[11,8703,21,8712,22,8723,null,null,null,null,0,122]
[22,8822,23,8833,24,8840,null,null,null,null,0,222]
[22,9011,14,9028,13,9037,null,null,null,null,0,211]
[11,9155,21,9164,11,9179,null,null,null,null,0,121]
[11,9332,21,9339,22,9345,null,null,null,null,0,122]
[11,9445,21,9452,11,9462,null,null,null,null,0,121]
[11,9662,21,9671,11,9681,null,null,null,null,0,121]
[11,9839,21,9845,22,9851,null,null,null,null,0,122]
[11,9949,21,9956,11,9970,null,null,null,null,0,121]
[22,10254,23,10258,24,10265,null,null,null,null,0,222]
[22,10367,14,10377,24,10390,null,null,null,null,0,212]
[11,10500,21,10507,11,10521,null,null,null,null,0,121]
[11,10738,21,10746,22,10752,null,null,null,null,0,122]
[11,10853,12,10878,24,10894,null,null,null,null,0,112]
[11,10995,21,11003,11,11018,null,null,null,null,0,121]
[11,11179,21,11186,22,11192,null,null,null,null,0,122]
[11,11296,12,11313,13,11322,null,null,null,null,0,111]
[11,11421,21,11428,11,11437,null,null,null,null,0,121]
[11,11683,21,11689,11,11698,null,null,null,null,0,121]
[22,11825,14,11836,13,11856,null,null,null,null,0,211]
[11,11959,21,11969,11,11980,null,null,null,null,0,121]
[11,12150,21,12157,11,12171,null,null,null,null,0,121]
[11,12334,21,12341,22,12345,null,null,null,null,0,122]
[11,12448,21,12454,11,12477,null,null,null,null,0,121]
[11,12626,21,12633,22,12638,null,null,null,null,0,122]
[11,12732,21,12745,11,12760,null,null,null,null,0,121]
[22,12903,14,12919,24,12932,null,null,null,null,0,212]
[11,13036,12,13058,24,13072,null,null,null,null,0,112]
[22,13177,23,13179,13,13195,null,null,null,null,0,221]
[11,13299,21,13304,11,13325,null,null,null,null,0,121]
[11,13543,12,13570,24,13585,null,null,null,null,0,112]
[22,13691,23,13695,24,13701,null,null,null,null,0,222]
[11,13800,21,13808,11,13819,null,null,null,null,0,121]
[11,13984,21,13990,22,13995,null,null,null,null,0,122]
[11,14094,12,14114,13,14144,null,null,null,null,0,111]
[11,14241,21,14250,11,14261,null,null,null,null,1,121]

{"sheet":"!M316A5D.UST","index":29,"n_rows":87,"n_cols":48,"rows_kept":87,"cut":false,"hidden":false,"merged":[[4,39,4,42],[5,39,5,40],[4,44,4,47],[5,44,5,45],[4,24,4,27],[5,24,5,25],[4,29,4,32],[5,29,5,30],[4,34,4,37],[5,34,5,35],[1,1,1,2],[5,13,5,14],[18,13,18,14],[19,13,19,14],[4,19,4,22],[5,19,5,20]]}
["Report for:!M316A5D.UST"]
["Date:","<date>"]
["Hen:","<hen>",null,null,null,"Correct Sequence",{"$f":"Start!J2","v":121},null,null,null,null,null,null,null,null,"Total Sequences in Data",{"$f":"4994-COUNTBLANK(L7:L5000)","v":81},null,null,null,null,"Total Sequences in Block Data",{"$f":"COUNTA(L7:L20)","v":14},null,null,null,"Total Sequences in Block Data",{"$f":"COUNTA(L21:L33)","v":13},null,null,null,"Total Sequences in Block Data",{"$f":"COUNTA(L34:L47)","v":14},null,null,null,"Total Sequences in Block Data",{"$f":"COUNTA(L48:L60)","v":13},null,null,null,"Total Sequences in Block Data",{"$f":"COUNTA(L61:L74)","v":14},null,null,null,"Total Sequences in Block Data",{"$f":"COUNTA(L75:L87)","v":13}]
[null,null,null,null,null,null,null,null,null,null,null,null,null,null,null,"Total Sequences in Summary",{"$f":"SUM(O7:O14)","v":81},null,null,null,null,"Total Sequences in Block Summary",{"$f":"SUM(U7:U14)","v":14},null,null,null,"Total Sequences in Block Summary",{"$f":"SUM(Z7:Z14)","v":13},null,null,null,"Total Sequences in Block Summary",{"$f":"SUM(AE7:AE14)","v":14},null,null,null,"Total Sequences in Block Summary",{"$f":"SUM(AJ7:AJ14)","v":13},null,null,null,"Total Sequences in Block Summary",{"$f":"SUM(AO7:AO14)","v":14},null,null,null,"Total Sequences in Block Summary",{"$f":"SUM(AT7:AT14)","v":13}]
[null,null,null,null,null,null,null,null,null,null,null,null,null,null,null,null,null,null,null,"Block 1",null,null,null,null,"Block 2",null,null,null,null,"Block 3",null,null,null,null,"Block 4",null,null,null,null,"Block 5",null,null,null,null,"Block 6"]
["Sequence\nComponent\n1","Time\n1","Sequence\nComponent\n2","Time\n2","Sequence\nComponent\n3","Time\n3","Sequence\nComponent\n4","Time\n4","Sequence\nComponent\n5","Time\n5","Correct?\n0=No 1=Yes","Sequence",null,"Frequency",null,"Relative Frequency","Variability",null,null,"Frequency",null,"Relative Frequency","Variability",null,"Frequency",null,"Relative Frequency","Variability",null,"Frequency",null,"Relative Frequency","Variability",null,"Frequency",null,"Relative Frequency","Variability",null,"Frequency",null,"Relative Frequency","Variability",null,"Frequency",null,"Relative Frequency","Variability"]
[22,42,23,49,13,74,null,null,null,null,0,221,null,111,{"$f":"COUNTIF($L$7:$L$500,N7)","v":4},{"$f":"O7/$Q$4","v":4.9382716049382713E-2},{"$f":"IF(P7=0,0,(P7*((LOG(P7))/LOG(2))))","v":-0.21431358038936418},null,null,{"$f":"N7","v":111},{"$f":"COUNTIF(L7:L20,T7)","v":1},{"$f":"U7/(W4-U9)","v":0.14285714285714285},{"$f":"IF(V7=0,0,(V7*((LOG(V7))/LOG(2))))","v":-0.40105070315108626},null,{"$f":"N7","v":111},{"$f":"COUNTIF(L21:L33,Y7)","v":0},{"$f":"Z7/(AB4-Z9)","v":0},{"$f":"IF(AA7=0,0,(AA7*((LOG(AA7))/LOG(2))))","v":0},null,{"$f":"N7","v":111},{"$f":"COUNTIF(L34:L47,AD7)","v":0},{"$f":"AE7/(AG4-AE9)","v":0},{"$f":"IF(AF7=0,0,(AF7*((LOG(AF7))/LOG(2))))","v":0},null,{"$f":"N7","v":111},{"$f":"COUNTIF(L48:L60,AI7)","v":0},{"$f":"AJ7/(AL4-AJ9)","v":0},{"$f":"IF(AK7=0,0,(AK7*((LOG(AK7))/LOG(2))))","v":0},null,{"$f":"N7","v":111},{"$f":"COUNTIF(L61:L74,AN7)","v":2},{"$f":"AO7/(AQ4-AO9)","v":0.2},{"$f":"IF(AP7=0,0,(AP7*((LOG(AP7))/LOG(2))))","v":-0.46438561897747244},null,{"$f":"N7","v":111},{"$f":"COUNTIF(L75:L87,AS7)","v":1},{"$f":"AT7/(AV4-AT9)","v":0.125},{"$f":"IF(AU7=0,0,(AU7*((LOG(AU7))/LOG(2))))","v":-0.375}]
[11,172,21,177,11,186,null,null,null,null,0,121,null,112,{"$f":"COUNTIF($L$7:$L$500,N8)","v":4},{"$f":"O8/$Q$4","v":4.9382716049382713E-2},{"$f":"IF(P8=0,0,(P8*((LOG(P8))/LOG(2))))","v":-0.21431358038936418},null,null,{"$f":"N8","v":112},{"$f":"COUNTIF(L7:L20,T8)","v":1},{"$f":"U8/(W4-U9)","v":0.14285714285714285},{"$f":"IF(V8=0,0,(V8*((LOG(V8))/LOG(2))))","v":-0.40105070315108626},null,{"$f":"N8","v":112},{"$f":"COUNTIF(L21:L33,Y8)","v":1},{"$f":"Z8/(AB4-Z9)","v":0.14285714285714285},{"$f":"IF(AA8=0,0,(AA8*((LOG(AA8))/LOG(2))))","v":-0.40105070315108626},null,{"$f":"N8","v":112},{"$f":"COUNTIF(L34:L47,AD8)","v":0},{"$f":"AE8/(AG4-AE9)","v":0},{"$f":"IF(AF8=0,0,(AF8*((LOG(AF8))/LOG(2))))","v":0},null,{"$f":"N8","v":112},{"$f":"COUNTIF(L48:L60,AI8)","v":0},{"$f":"AJ8/(AL4-AJ9)","v":0},{"$f":"IF(AK8=0,0,(AK8*((LOG(AK8))/LOG(2))))","v":0},null,{"$f":"N8","v":112},{"$f":"COUNTIF(L61:L74,AN8)","v":2},{"$f":"AO8/(AQ4-AO9)","v":0.2},{"$f":"IF(AP8=0,0,(AP8*((LOG(AP8))/LOG(2))))","v":-0.46438561897747244},null,{"$f":"N8","v":112},{"$f":"COUNTIF(L75:L87,AS8)","v":0},{"$f":"AT8/(AV4-AT9)","v":0},{"$f":"IF(AU8=0,0,(AU8*((LOG(AU8))/LOG(2))))","v":0}]
[11,323,21,330,11,351,null,null,null,null,0,121,null,121,{"$f":"COUNTIF($L$7:$L$500,N9)","v":38},{"$f":"O9/$Q$4","v":0.46913580246913578},{"$f":"IF(P9=0,0,(P9*((LOG(P9))/LOG(2))))","v":-0.51225993331801845},null,null,{"$f":"N9","v":121},{"$f":"COUNTIF(L7:L20,T9)","v":7},null,null,null,{"$f":"N9","v":121},{"$f":"COUNTIF(L21:L33,Y9)","v":6},null,null,null,{"$f":"N9","v":121},{"$f":"COUNTIF(L34:L47,AD9)","v":9},null,null,null,{"$f":"N9","v":121},{"$f":"COUNTIF(L48:L60,AI9)","v":7},null,null,null,{"$f":"N9","v":121},{"$f":"COUNTIF(L61:L74,AN9)","v":4},null,null,null,{"$f":"N9","v":121},{"$f":"COUNTIF(L75:L87,AS9)","v":5}]
[11,477,21,490,11,505,null,null,null,null,0,121,null,122,{"$f":"COUNTIF($L$7:$L$500,N10)","v":17},{"$f":"O10/$Q$4","v":0.20987654320987653},{"$f":"IF(P10=0,0,(P10*((LOG(P10))/LOG(2))))","v":-0.47272323145410922},null,null,{"$f":"N10","v":122},{"$f":"COUNTIF(L7:L20,T10)","v":2},{"$f":"U10/(W4-U9)","v":0.2857142857142857},{"$f":"IF(V10=0,0,(V10*((LOG(V10))/LOG(2))))","v":-0.51638712058788683},null,{"$f":"N10","v":122},{"$f":"COUNTIF(L21:L33,Y10)","v":2},{"$f":"Z10/(AB4-Z9)","v":0.2857142857142857},{"$f":"IF(AA10=0,0,(AA10*((LOG(AA10))/LOG(2))))","v":-0.51638712058788683},null,{"$f":"N10","v":122},{"$f":"COUNTIF(L34:L47,AD10)","v":4},{"$f":"AE10/(AG4-AE9)","v":0.8},{"$f":"IF(AF10=0,0,(AF10*((LOG(AF10))/LOG(2))))","v":-0.25754247590988982},null,{"$f":"N10","v":122},{"$f":"COUNTIF(L48:L60,AI10)","v":5},{"$f":"AJ10/(AL4-AJ9)","v":0.83333333333333337},{"$f":"IF(AK10=0,0,(AK10*((LOG(AK10))/LOG(2))))","v":-0.21919533819482812},null,{"$f":"N10","v":122},{"$f":"COUNTIF(L61:L74,AN10)","v":2},{"$f":"AO10/(AQ4-AO9)","v":0.2},{"$f":"IF(AP10=0,0,(AP10*((LOG(AP10))/LOG(2))))","v":-0.46438561897747244},null,{"$f":"N10","v":122},{"$f":"COUNTIF(L75:L87,AS10)","v":2},{"$f":"AT10/(AV4-AT9)","v":0.25},{"$f":"IF(AU10=0,0,(AU10*((LOG(AU10))/LOG(2))))","v":-0.5}]
[11,692,21,702,11,711,null,null,null,null,0,121,null,211,{"$f":"COUNTIF($L$7:$L$500,N11)","v":4},{"$f":"O11/$Q$4","v":4.9382716049382713E-2},{"$f":"IF(P11=0,0,(P11*((LOG(P11))/LOG(2))))","v":-0.21431358038936418},null,null,{"$f":"N11","v":211},{"$f":"COUNTIF(L7:L20,T11)","v":0},{"$f":"U11/(W4-U9)","v":0},{"$f":"IF(V11=0,0,(V11*((LOG(V11))/LOG(2))))","v":0},null,{"$f":"N11","v":211},{"$f":"COUNTIF(L21:L33,Y11)","v":1},{"$f":"Z11/(AB4-Z9)","v":0.14285714285714285},{"$f":"IF(AA11=0,0,(AA11*((LOG(AA11))/LOG(2))))","v":-0.40105070315108626},null,{"$f":"N11","v":211},{"$f":"COUNTIF(L34:L47,AD11)","v":0},{"$f":"AE11/(AG4-AE9)","v":0},{"$f":"IF(AF11=0,0,(AF11*((LOG(AF11))/LOG(2))))","v":0},null,{"$f":"N11","v":211},{"$f":"COUNTIF(L48:L60,AI11)","v":0},{"$f":"AJ11/(AL4-AJ9)","v":0},{"$f":"IF(AK11=0,0,(AK11*((LOG(AK11))/LOG(2))))","v":0},null,{"$f":"N11","v":211},{"$f":"COUNTIF(L61:L74,AN11)","v":2},{"$f":"AO11/(AQ4-AO9)","v":0.2},{"$f":"IF(AP11=0,0,(AP11*((LOG(AP11))/LOG(2))))","v":-0.46438561897747244},null,{"$f":"N11","v":211},{"$f":"COUNTIF(L75:L87,AS11)","v":1},{"$f":"AT11/(AV4-AT9)","v":0.125},{"$f":"IF(AU11=0,0,(AU11*((LOG(AU11))/LOG(2))))","v":-0.375}]
[11,863,21,871,22,875,null,null,null,null,0,122,null,212,{"$f":"COUNTIF($L$7:$L$500,N12)","v":7},{"$f":"O12/$Q$4","v":8.6419753086419748E-2},{"$f":"IF(P12=0,0,(P12*((LOG(P12))/LOG(2))))","v":-0.30527735266406353},null,null,{"$f":"N12","v":212},{"$f":"COUNTIF(L7:L20,T12)","v":1},{"$f":"U12/(W4-U9)","v":0.14285714285714285},{"$f":"IF(V12=0,0,(V12*((LOG(V12))/LOG(2))))","v":-0.40105070315108626},null,{"$f":"N12","v":212},{"$f":"COUNTIF(L21:L33,Y12)","v":1},{"$f":"Z12/(AB4-Z9)","v":0.14285714285714285},{"$f":"IF(AA12=0,0,(AA12*((LOG(AA12))/LOG(2))))","v":-0.40105070315108626},null,{"$f":"N12","v":212},{"$f":"COUNTIF(L34:L47,AD12)","v":1},{"$f":"AE12/(AG4-AE9)","v":0.2},{"$f":"IF(AF12=0,0,(AF12*((LOG(AF12))/LOG(2))))","v":-0.46438561897747244},null,{"$f":"N12","v":212},{"$f":"COUNTIF(L48:L60,AI12)","v":1},{"$f":"AJ12/(AL4-AJ9)","v":0.16666666666666666},{"$f":"IF(AK12=0,0,(AK12*((LOG(AK12))/LOG(2))))","v":-0.43082708345352599},null,{"$f":"N12","v":212},{"$f":"COUNTIF(L61:L74,AN12)","v":1},{"$f":"AO12/(AQ4-AO9)","v":0.1},{"$f":"IF(AP12=0,0,(AP12*((LOG(AP12))/LOG(2))))","v":-0.33219280948873625},null,{"$f":"N12","v":212},{"$f":"COUNTIF(L75:L87,AS12)","v":2},{"$f":"AT12/(AV4-AT9)","v":0.25},{"$f":"IF(AU12=0,0,(AU12*((LOG(AU12))/LOG(2))))","v":-0.5}]
[22,980,14,991,24,1009,null,null,null,null,0,212,null,221,{"$f":"COUNTIF($L$7:$L$500,N13)","v":6},{"$f":"O13/$Q$4","v":7.407407407407407E-2},{"$f":"IF(P13=0,0,(P13*((LOG(P13))/LOG(2))))","v":-0.27813981497507173},null,null,{"$f":"N13","v":221},{"$f":"COUNTIF(L7:L20,T13)","v":2},{"$f":"U13/(W4-U9)","v":0.2857142857142857},{"$f":"IF(V13=0,0,(V13*((LOG(V13))/LOG(2))))","v":-0.51638712058788683},null,{"$f":"N13","v":221},{"$f":"COUNTIF(L21:L33,Y13)","v":2},{"$f":"Z13/(AB4-Z9)","v":0.2857142857142857},{"$f":"IF(AA13=0,0,(AA13*((LOG(AA13))/LOG(2))))","v":-0.51638712058788683},null,{"$f":"N13","v":221},{"$f":"COUNTIF(L34:L47,AD13)","v":0},{"$f":"AE13/(AG4-AE9)","v":0},{"$f":"IF(AF13=0,0,(AF13*((LOG(AF13))/LOG(2))))","v":0},null,{"$f":"N13","v":221},{"$f":"COUNTIF(L48:L60,AI13)","v":0},{"$f":"AJ13/(AL4-AJ9)","v":0},{"$f":"IF(AK13=0,0,(AK13*((LOG(AK13))/LOG(2))))","v":0},null,{"$f":"N13","v":221},{"$f":"COUNTIF(L61:L74,AN13)","v":0},{"$f":"AO13/(AQ4-AO9)","v":0},{"$f":"IF(AP13=0,0,(AP13*((LOG(AP13))/LOG(2))))","v":0},null,{"$f":"N13","v":221},{"$f":"COUNTIF(L75:L87,AS13)","v":2},{"$f":"AT13/(AV4-AT9)","v":0.25},{"$f":"IF(AU13=0,0,(AU13*((LOG(AU13))/LOG(2))))","v":-0.5}]
[11,1186,21,1192,11,1203,null,null,null,null,0,121,null,222,{"$f":"COUNTIF($L$7:$L$500,N14)","v":1},{"$f":"O14/$Q$4","v":1.2345679012345678E-2},{"$f":"IF(P14=0,0,(P14*((LOG(P14))/LOG(2))))","v":-7.8269753122032396E-2},null,null,{"$f":"N14","v":222},{"$f":"COUNTIF(L7:L20,T14)","v":0},{"$f":"U14/(W4-U9)","v":0},{"$f":"IF(V14=0,0,(V14*((LOG(V14))/LOG(2))))","v":0},null,{"$f":"N14","v":222},{"$f":"COUNTIF(L21:L33,Y14)","v":0},{"$f":"Z14/(AB4-Z9)","v":0},{"$f":"IF(AA14=0,0,(AA14*((LOG(AA14))/LOG(2))))","v":0},null,{"$f":"N14","v":222},{"$f":"COUNTIF(L34:L47,AD14)","v":0},{"$f":"AE14/(AG4-AE9)","v":0},{"$f":"IF(AF14=0,0,(AF14*((LOG(AF14))/LOG(2))))","v":0},null,{"$f":"N14","v":222},{"$f":"COUNTIF(L48:L60,AI14)","v":0},{"$f":"AJ14/(AL4-AJ9)","v":0},{"$f":"IF(AK14=0,0,(AK14*((LOG(AK14))/LOG(2))))","v":0},null,{"$f":"N14","v":222},{"$f":"COUNTIF(L61:L74,AN14)","v":1},{"$f":"AO14/(AQ4-AO9)","v":0.1},{"$f":"IF(AP14=0,0,(AP14*((LOG(AP14))/LOG(2))))","v":-0.33219280948873625},null,{"$f":"N14","v":222},{"$f":"COUNTIF(L75:L87,AS14)","v":0},{"$f":"AT14/(AV4-AT9)","v":0},{"$f":"IF(AU14=0,0,(AU14*((LOG(AU14))/LOG(2))))","v":0}]
[11,1318,21,1326,22,1332,null,null,null,null,0,122,null,null,null,{"$f":"SUM(P7:P14)","v":0.99999999999999978},{"$f":"-SUM(Q7:Q14)","v":2.2896108267013879},null,null,null,null,{"$f":"SUM(V7:V14)","v":0.99999999999999989},{"$f":"-SUM(W7:W14)","v":2.2359263506290326},null,null,null,{"$f":"SUM(AA7:AA14)","v":0.99999999999999989},{"$f":"-SUM(AB7:AB14)","v":2.2359263506290326},null,null,null,{"$f":"SUM(AF7:AF14)","v":1},{"$f":"-SUM(AG7:AG14)","v":0.72192809488736231},null,null,null,{"$f":"SUM(AK7:AK14)","v":1},{"$f":"-SUM(AL7:AL14)","v":0.65002242164835411},null,null,null,{"$f":"SUM(AP7:AP14)","v":1},{"$f":"-SUM(AQ7:AQ14)","v":2.5219280948873619},null,null,null,{"$f":"SUM(AU7:AU14)","v":1},{"$f":"-SUM(AV7:AV14)","v":2.25}]
[11,1430,12,1442,13,1454,null,null,null,null,0,111,null,null,null,"U=",{"$f":"Q15/(LOG(Q4)/LOG(2))","v":0.36114589866631192},null,null,null,null,"U1=",{"$f":"W15/(LOG(W4)/LOG(2))","v":0.5872650163701244},null,null,null,"U2=",{"$f":"AB15/(LOG(AB4)/LOG(2))","v":0.60423261042940202},null,null,null,"U3=",{"$f":"AG15/(LOG(AG4)/LOG(2))","v":0.18961407845245268},null,null,null,"U4=",{"$f":"AL15/(LOG(AL4)/LOG(2))","v":0.17566085956262825},null,null,null,"U5=",{"$f":"AQ15/(LOG(AQ4)/LOG(2))","v":0.66238324151940098},null,null,null,"U6=",{"$f":"AV15/(LOG(AV4)/LOG(2))","v":0.60803584746146944}]
[11,1556,21,1562,11,1577,null,null,null,null,0,121]
[22,1760,23,1766,13,1779,null,null,null,null,0,221]
[11,1872,21,1879,11,1889,null,null,null,null,0,121,null,"Total Target Seq"]
[11,2024,12,2029,24,2036,null,null,null,null,0,112,null,{"$f":"COUNTIF(L7:L87,G3)","v":38},null,14,13,14,13,14,13]
[11,2133,21,2139,11,2154,null,null,null,null,0,121,null,null,null,"% of reinforcement given in 6 equal intervals based on number of trials "]
[11,2325,21,2332,11,2348,null,null,null,null,0,121,null,null,null,"%_1","%_2","%_3","%_4","%_5","%_6"]
[11,2544,21,2551,22,2556,null,null,null,null,0,122,null,null,"target sequence",{"$f":"$G$3","v":121},{"$f":"$G$3","v":121},{"$f":"$G$3","v":121},{"$f":"$G$3","v":121},{"$f":"$G$3","v":121},{"$f":"$G$3","v":121}]
[22,2661,23,2664,13,2675,null,null,null,null,0,221,null,null,"total reinforcement",{"$f":"U9","v":7},{"$f":"Z9","v":6},{"$f":"AE9","v":9},{"$f":"AJ9","v":7},{"$f":"AO9","v":4},{"$f":"AT9","v":5}]
[22,2786,14,2799,24,2824,null,null,null,null,0,212,null,null,"% target"]
[11,2918,12,2934,24,2950,null,null,null,null,0,112,null,null,"CCRF"]
[11,3044,21,3050,11,3060,null,null,null,null,0,121,null,null,"% CCRf"]
[11,3195,21,3201,22,3207,null,null,null,null,0,122,null,null,"average response rate",{"$f":"F20/P20","v":145.42857142857142},{"$f":"(F33-F20)/Q20","v":156.30769230769232},{"$f":"(F47-F33)/R20","v":157.71428571428572},{"$f":"(F60-F47)/S20","v":193.15384615384616},{"$f":"(F74-F60)/T20","v":149.07142857142858},{"$f":"(F87-F74)/U20","v":151.30769230769232}]
[11,3305,21,3316,11,3327,null,null,null,null,0,121]
[11,3514,21,3520,11,3530,null,null,null,null,0,121]
[11,3678,21,3685,11,3708,null,null,null,null,0,121]
[22,3913,23,3917,13,3933,null,null,null,null,0,221]
[22,4038,14,4059,13,4068,null,null,null,null,0,211]
[22,4172,14,4184,24,4194,null,null,null,null,0,212]
[11,4299,21,4307,11,4315,null,null,null,null,0,121]
[11,4481,21,4487,11,4508,null,null,null,null,0,121]
[11,4608,21,4616,11,4633,null,null,null,null,0,121]
[11,4779,21,4788,22,4793,null,null,null,null,0,122]
[11,4892,21,4897,11,4908,null,null,null,null,0,121]
[11,5055,21,5062,11,5080,null,null,null,null,0,121]
[11,5266,21,5273,22,5278,null,null,null,null,0,122]
[11,5384,21,5390,22,5393,null,null,null,null,0,122]
[11,5492,21,5497,11,5516,null,null,null,null,0,121]
[11,5705,21,5713,11,5732,null,null,null,null,0,121]
[11,5899,21,5909,22,5913,null,null,null,null,0,122]
[11,6010,21,6018,11,6027,null,null,null,null,0,121]
[11,6259,21,6266,11,6276,null,null,null,null,0,121]
[11,6517,21,6523,11,6533,null,null,null,null,0,121]
[11,6759,21,6766,11,6777,null,null,null,null,0,121]
[11,6962,21,6972,11,6990,null,null,null,null,0,121]
[11,7250,21,7259,11,7288,null,null,null,null,0,121]
[11,7571,21,7579,11,7589,null,null,null,null,0,121]
[11,7750,21,7756,11,7774,null,null,null,null,0,121]
[11,8019,21,8029,22,8035,null,null,null,null,0,122]
[22,8144,14,8161,24,8171,null,null,null,null,0,212]
[11,8294,21,8305,22,8312,null,null,null,null,0,122]
[11,8414,21,8421,22,8424,null,null,null,null,0,122]
[11,8529,21,8535,22,8540,null,null,null,null,0,122]
[11,8642,21,8649,11,8664,null,null,null,null,0,121]
[11,8776,21,8782,22,8787,null,null,null,null,0,122]
[11,8884,21,8893,11,8903,null,null,null,null,0,121]
[11,9037,12,9055,13,9083,null,null,null,null,0,111]
[22,9190,14,9201,13,9207,null,null,null,null,0,211]
[11,9310,21,9318,22,9325,null,null,null,null,0,122]
[11,9428,21,9437,11,9447,null,null,null,null,0,121]
[22,9603,14,9620,24,9638,null,null,null,null,0,212]
[11,9772,12,9785,13,9792,null,null,null,null,0,111]
[22,9908,14,9924,13,9939,null,null,null,null,0,211]
[11,10040,12,10056,24,10066,null,null,null,null,0,112]
[11,10169,21,10178,11,10187,null,null,null,null,0,121]
[11,10383,21,10395,11,10415,null,null,null,null,0,121]
[11,10572,12,10594,24,10611,null,null,null,null,0,112]
[11,10728,21,10739,22,10759,null,null,null,null,0,122]
[22,10860,23,10866,24,10874,null,null,null,null,0,222]
[11,11015,21,11024,22,11028,null,null,null,null,0,122]
[22,11134,23,11139,13,11156,null,null,null,null,0,221]
[11,11258,21,11265,22,11271,null,null,null,null,0,122]
[22,11390,14,11408,13,11430,null,null,null,null,0,211]
[11,11530,21,11538,11,11553,null,null,null,null,0,121]
[11,11694,21,11704,11,11718,null,null,null,null,0,121]
[11,11870,21,11876,11,11896,null,null,null,null,0,121]
[22,12146,23,12151,13,12175,null,null,null,null,0,221]
[22,12287,14,12304,24,12315,null,null,null,null,0,212]
[22,12425,14,12436,24,12452,null,null,null,null,0,212]
[11,12549,12,12564,13,12571,null,null,null,null,0,111]
[11,12670,21,12678,11,12695,null,null,null,null,0,121]
[11,12816,21,12824,11,12841,null,null,null,null,1,121]

{"sheet":"!M317B2D.UST","index":30,"n_rows":83,"n_cols":48,"rows_kept":83,"cut":false,"hidden":false,"merged":[[4,39,4,42],[5,39,5,40],[4,44,4,47],[5,44,5,45],[4,24,4,27],[5,24,5,25],[4,29,4,32],[5,29,5,30],[4,34,4,37],[5,34,5,35],[1,1,1,2],[5,13,5,14],[18,13,18,14],[19,13,19,14],[4,19,4,22],[5,19,5,20]]}
["Report for:!M317B2D.UST"]
["Date:","<date>"]
["Hen:","<hen>",null,null,null,"Correct Sequence",{"$f":"Start!J2","v":121},null,null,null,null,null,null,null,null,"Total Sequences in Data",{"$f":"4994-COUNTBLANK(L7:L5000)","v":77},null,null,null,null,"Total Sequences in Block Data",{"$f":"COUNTA(L7:L19)","v":13},null,null,null,"Total Sequences in Block Data",{"$f":"COUNTA(L20:L32)","v":13},null,null,null,"Total Sequences in Block Data",{"$f":"COUNTA(L33:L44)","v":12},null,null,null,"Total Sequences in Block Data",{"$f":"COUNTA(L45:L57)","v":13},null,null,null,"Total Sequences in Block Data",{"$f":"COUNTA(L58:L70)","v":13},null,null,null,"Total Sequences in Block Data",{"$f":"COUNTA(L71:L83)","v":13}]
[null,null,null,null,null,null,null,null,null,null,null,null,null,null,null,"Total Sequences in Summary",{"$f":"SUM(O7:O14)","v":77},null,null,null,null,"Total Sequences in Block Summary",{"$f":"SUM(U7:U14)","v":13},null,null,null,"Total Sequences in Block Summary",{"$f":"SUM(Z7:Z14)","v":13},null,null,null,"Total Sequences in Block Summary",{"$f":"SUM(AE7:AE14)","v":12},null,null,null,"Total Sequences in Block Summary",{"$f":"SUM(AJ7:AJ14)","v":13},null,null,null,"Total Sequences in Block Summary",{"$f":"SUM(AO7:AO14)","v":13},null,null,null,"Total Sequences in Block Summary",{"$f":"SUM(AT7:AT14)","v":13}]
[null,null,null,null,null,null,null,null,null,null,null,null,null,null,null,null,null,null,null,"Block 1",null,null,null,null,"Block 2",null,null,null,null,"Block 3",null,null,null,null,"Block 4",null,null,null,null,"Block 5",null,null,null,null,"Block 6"]
["Sequence\nComponent\n1","Time\n1","Sequence\nComponent\n2","Time\n2","Sequence\nComponent\n3","Time\n3","Sequence\nComponent\n4","Time\n4","Sequence\nComponent\n5","Time\n5","Correct?\n0=No 1=Yes","Sequence",null,"Frequency",null,"Relative Frequency","Variability",null,null,"Frequency",null,"Relative Frequency","Variability",null,"Frequency",null,"Relative Frequency","Variability",null,"Frequency",null,"Relative Frequency","Variability",null,"Frequency",null,"Relative Frequency","Variability",null,"Frequency",null,"Relative Frequency","Variability",null,"Frequency",null,"Relative Frequency","Variability"]
[22,47,23,57,24,63,null,null,null,null,0,222,null,111,{"$f":"COUNTIF($L$7:$L$500,N7)","v":2},{"$f":"O7/$Q$4","v":2.5974025974025976E-2},{"$f":"IF(P7=0,0,(P7*((LOG(P7))/LOG(2))))","v":-0.13679965040765979},null,null,{"$f":"N7","v":111},{"$f":"COUNTIF(L7:L19,T7)","v":0},{"$f":"U7/(W4-U9)","v":0},{"$f":"IF(V7=0,0,(V7*((LOG(V7))/LOG(2))))","v":0},null,{"$f":"N7","v":111},{"$f":"COUNTIF(L20:L32,Y7)","v":1},{"$f":"Z7/(AB4-Z9)","v":0.125},{"$f":"IF(AA7=0,0,(AA7*((LOG(AA7))/LOG(2))))","v":-0.375},null,{"$f":"N7","v":111},{"$f":"COUNTIF(L33:L44,AD7)","v":1},{"$f":"AE7/(AG4-AE9)","v":0.16666666666666666},{"$f":"IF(AF7=0,0,(AF7*((LOG(AF7))/LOG(2))))","v":-0.43082708345352599},null,{"$f":"N7","v":111},{"$f":"COUNTIF(L45:L57,AI7)","v":0},{"$f":"AJ7/(AL4-AJ9)","v":0},{"$f":"IF(AK7=0,0,(AK7*((LOG(AK7))/LOG(2))))","v":0},null,{"$f":"N7","v":111},{"$f":"COUNTIF(L58:L70,AN7)","v":0},{"$f":"AO7/(AQ4-AO9)","v":0},{"$f":"IF(AP7=0,0,(AP7*((LOG(AP7))/LOG(2))))","v":0},null,{"$f":"N7","v":111},{"$f":"COUNTIF(L71:L83,AS7)","v":0},{"$f":"AT7/(AV4-AT9)","v":0},{"$f":"IF(AU7=0,0,(AU7*((LOG(AU7))/LOG(2))))","v":0}]
[22,168,14,185,24,212,null,null,null,null,0,212,null,112,{"$f":"COUNTIF($L$7:$L$500,N8)","v":7},{"$f":"O8/$Q$4","v":9.0909090909090912E-2},{"$f":"IF(P8=0,0,(P8*((LOG(P8))/LOG(2))))","v":-0.31449378351248153},null,null,{"$f":"N8","v":112},{"$f":"COUNTIF(L7:L19,T8)","v":0},{"$f":"U8/(W4-U9)","v":0},{"$f":"IF(V8=0,0,(V8*((LOG(V8))/LOG(2))))","v":0},null,{"$f":"N8","v":112},{"$f":"COUNTIF(L20:L32,Y8)","v":1},{"$f":"Z8/(AB4-Z9)","v":0.125},{"$f":"IF(AA8=0,0,(AA8*((LOG(AA8))/LOG(2))))","v":-0.375},null,{"$f":"N8","v":112},{"$f":"COUNTIF(L33:L44,AD8)","v":0},{"$f":"AE8/(AG4-AE9)","v":0},{"$f":"IF(AF8=0,0,(AF8*((LOG(AF8))/LOG(2))))","v":0},null,{"$f":"N8","v":112},{"$f":"COUNTIF(L45:L57,AI8)","v":1},{"$f":"AJ8/(AL4-AJ9)","v":0.33333333333333331},{"$f":"IF(AK8=0,0,(AK8*((LOG(AK8))/LOG(2))))","v":-0.52832083357371862},null,{"$f":"N8","v":112},{"$f":"COUNTIF(L58:L70,AN8)","v":2},{"$f":"AO8/(AQ4-AO9)","v":0.25},{"$f":"IF(AP8=0,0,(AP8*((LOG(AP8))/LOG(2))))","v":-0.5},null,{"$f":"N8","v":112},{"$f":"COUNTIF(L71:L83,AS8)","v":3},{"$f":"AT8/(AV4-AT9)","v":0.375},{"$f":"IF(AU8=0,0,(AU8*((LOG(AU8))/LOG(2))))","v":-0.53063906222956647}]
[11,306,21,314,11,324,null,null,null,null,0,121,null,121,{"$f":"COUNTIF($L$7:$L$500,N9)","v":39},{"$f":"O9/$Q$4","v":0.50649350649350644},{"$f":"IF(P9=0,0,(P9*((LOG(P9))/LOG(2))))","v":-0.49706478638277229},null,null,{"$f":"N9","v":121},{"$f":"COUNTIF(L7:L19,T9)","v":8},null,null,null,{"$f":"N9","v":121},{"$f":"COUNTIF(L20:L32,Y9)","v":5},null,null,null,{"$f":"N9","v":121},{"$f":"COUNTIF(L33:L44,AD9)","v":6},null,null,null,{"$f":"N9","v":121},{"$f":"COUNTIF(L45:L57,AI9)","v":10},null,null,null,{"$f":"N9","v":121},{"$f":"COUNTIF(L58:L70,AN9)","v":5},null,null,null,{"$f":"N9","v":121},{"$f":"COUNTIF(L71:L83,AS9)","v":5}]
[22,515,14,529,13,542,null,null,null,null,0,211,null,122,{"$f":"COUNTIF($L$7:$L$500,N10)","v":17},{"$f":"O10/$Q$4","v":0.22077922077922077},{"$f":"IF(P10=0,0,(P10*((LOG(P10))/LOG(2))))","v":-0.48114938818905911},null,null,{"$f":"N10","v":122},{"$f":"COUNTIF(L7:L19,T10)","v":1},{"$f":"U10/(W4-U9)","v":0.2},{"$f":"IF(V10=0,0,(V10*((LOG(V10))/LOG(2))))","v":-0.46438561897747244},null,{"$f":"N10","v":122},{"$f":"COUNTIF(L20:L32,Y10)","v":4},{"$f":"Z10/(AB4-Z9)","v":0.5},{"$f":"IF(AA10=0,0,(AA10*((LOG(AA10))/LOG(2))))","v":-0.5},null,{"$f":"N10","v":122},{"$f":"COUNTIF(L33:L44,AD10)","v":3},{"$f":"AE10/(AG4-AE9)","v":0.5},{"$f":"IF(AF10=0,0,(AF10*((LOG(AF10))/LOG(2))))","v":-0.5},null,{"$f":"N10","v":122},{"$f":"COUNTIF(L45:L57,AI10)","v":2},{"$f":"AJ10/(AL4-AJ9)","v":0.66666666666666663},{"$f":"IF(AK10=0,0,(AK10*((LOG(AK10))/LOG(2))))","v":-0.38997500048077083},null,{"$f":"N10","v":122},{"$f":"COUNTIF(L58:L70,AN10)","v":4},{"$f":"AO10/(AQ4-AO9)","v":0.5},{"$f":"IF(AP10=0,0,(AP10*((LOG(AP10))/LOG(2))))","v":-0.5},null,{"$f":"N10","v":122},{"$f":"COUNTIF(L71:L83,AS10)","v":3},{"$f":"AT10/(AV4-AT9)","v":0.375},{"$f":"IF(AU10=0,0,(AU10*((LOG(AU10))/LOG(2))))","v":-0.53063906222956647}]
[22,648,14,659,13,669,null,null,null,null,0,211,null,211,{"$f":"COUNTIF($L$7:$L$500,N11)","v":3},{"$f":"O11/$Q$4","v":3.896103896103896E-2},{"$f":"IF(P11=0,0,(P11*((LOG(P11))/LOG(2))))","v":-0.18240872883014592},null,null,{"$f":"N11","v":211},{"$f":"COUNTIF(L7:L19,T11)","v":2},{"$f":"U11/(W4-U9)","v":0.4},{"$f":"IF(V11=0,0,(V11*((LOG(V11))/LOG(2))))","v":-0.52877123795494496},null,{"$f":"N11","v":211},{"$f":"COUNTIF(L20:L32,Y11)","v":1},{"$f":"Z11/(AB4-Z9)","v":0.125},{"$f":"IF(AA11=0,0,(AA11*((LOG(AA11))/LOG(2))))","v":-0.375},null,{"$f":"N11","v":211},{"$f":"COUNTIF(L33:L44,AD11)","v":0},{"$f":"AE11/(AG4-AE9)","v":0},{"$f":"IF(AF11=0,0,(AF11*((LOG(AF11))/LOG(2))))","v":0},null,{"$f":"N11","v":211},{"$f":"COUNTIF(L45:L57,AI11)","v":0},{"$f":"AJ11/(AL4-AJ9)","v":0},{"$f":"IF(AK11=0,0,(AK11*((LOG(AK11))/LOG(2))))","v":0},null,{"$f":"N11","v":211},{"$f":"COUNTIF(L58:L70,AN11)","v":0},{"$f":"AO11/(AQ4-AO9)","v":0},{"$f":"IF(AP11=0,0,(AP11*((LOG(AP11))/LOG(2))))","v":0},null,{"$f":"N11","v":211},{"$f":"COUNTIF(L71:L83,AS11)","v":0},{"$f":"AT11/(AV4-AT9)","v":0},{"$f":"IF(AU11=0,0,(AU11*((LOG(AU11))/LOG(2))))","v":0}]
[11,773,21,780,11,788,null,null,null,null,0,121,null,212,{"$f":"COUNTIF($L$7:$L$500,N12)","v":6},{"$f":"O12/$Q$4","v":7.792207792207792E-2},{"$f":"IF(P12=0,0,(P12*((LOG(P12))/LOG(2))))","v":-0.28689537973821388},null,null,{"$f":"N12","v":212},{"$f":"COUNTIF(L7:L19,T12)","v":1},{"$f":"U12/(W4-U9)","v":0.2},{"$f":"IF(V12=0,0,(V12*((LOG(V12))/LOG(2))))","v":-0.46438561897747244},null,{"$f":"N12","v":212},{"$f":"COUNTIF(L20:L32,Y12)","v":1},{"$f":"Z12/(AB4-Z9)","v":0.125},{"$f":"IF(AA12=0,0,(AA12*((LOG(AA12))/LOG(2))))","v":-0.375},null,{"$f":"N12","v":212},{"$f":"COUNTIF(L33:L44,AD12)","v":1},{"$f":"AE12/(AG4-AE9)","v":0.16666666666666666},{"$f":"IF(AF12=0,0,(AF12*((LOG(AF12))/LOG(2))))","v":-0.43082708345352599},null,{"$f":"N12","v":212},{"$f":"COUNTIF(L45:L57,AI12)","v":0},{"$f":"AJ12/(AL4-AJ9)","v":0},{"$f":"IF(AK12=0,0,(AK12*((LOG(AK12))/LOG(2))))","v":0},null,{"$f":"N12","v":212},{"$f":"COUNTIF(L58:L70,AN12)","v":2},{"$f":"AO12/(AQ4-AO9)","v":0.25},{"$f":"IF(AP12=0,0,(AP12*((LOG(AP12))/LOG(2))))","v":-0.5},null,{"$f":"N12","v":212},{"$f":"COUNTIF(L71:L83,AS12)","v":1},{"$f":"AT12/(AV4-AT9)","v":0.125},{"$f":"IF(AU12=0,0,(AU12*((LOG(AU12))/LOG(2))))","v":-0.375}]
[11,900,21,906,22,910,null,null,null,null,0,122,null,221,{"$f":"COUNTIF($L$7:$L$500,N13)","v":1},{"$f":"O13/$Q$4","v":1.2987012987012988E-2},{"$f":"IF(P13=0,0,(P13*((LOG(P13))/LOG(2))))","v":-8.1386838190842872E-2},null,null,{"$f":"N13","v":221},{"$f":"COUNTIF(L7:L19,T13)","v":0},{"$f":"U13/(W4-U9)","v":0},{"$f":"IF(V13=0,0,(V13*((LOG(V13))/LOG(2))))","v":0},null,{"$f":"N13","v":221},{"$f":"COUNTIF(L20:L32,Y13)","v":0},{"$f":"Z13/(AB4-Z9)","v":0},{"$f":"IF(AA13=0,0,(AA13*((LOG(AA13))/LOG(2))))","v":0},null,{"$f":"N13","v":221},{"$f":"COUNTIF(L33:L44,AD13)","v":0},{"$f":"AE13/(AG4-AE9)","v":0},{"$f":"IF(AF13=0,0,(AF13*((LOG(AF13))/LOG(2))))","v":0},null,{"$f":"N13","v":221},{"$f":"COUNTIF(L45:L57,AI13)","v":0},{"$f":"AJ13/(AL4-AJ9)","v":0},{"$f":"IF(AK13=0,0,(AK13*((LOG(AK13))/LOG(2))))","v":0},null,{"$f":"N13","v":221},{"$f":"COUNTIF(L58:L70,AN13)","v":0},{"$f":"AO13/(AQ4-AO9)","v":0},{"$f":"IF(AP13=0,0,(AP13*((LOG(AP13))/LOG(2))))","v":0},null,{"$f":"N13","v":221},{"$f":"COUNTIF(L71:L83,AS13)","v":1},{"$f":"AT13/(AV4-AT9)","v":0.125},{"$f":"IF(AU13=0,0,(AU13*((LOG(AU13))/LOG(2))))","v":-0.375}]
[11,1049,21,1063,11,1079,null,null,null,null,0,121,null,222,{"$f":"COUNTIF($L$7:$L$500,N14)","v":2},{"$f":"O14/$Q$4","v":2.5974025974025976E-2},{"$f":"IF(P14=0,0,(P14*((LOG(P14))/LOG(2))))","v":-0.13679965040765979},null,null,{"$f":"N14","v":222},{"$f":"COUNTIF(L7:L19,T14)","v":1},{"$f":"U14/(W4-U9)","v":0.2},{"$f":"IF(V14=0,0,(V14*((LOG(V14))/LOG(2))))","v":-0.46438561897747244},null,{"$f":"N14","v":222},{"$f":"COUNTIF(L20:L32,Y14)","v":0},{"$f":"Z14/(AB4-Z9)","v":0},{"$f":"IF(AA14=0,0,(AA14*((LOG(AA14))/LOG(2))))","v":0},null,{"$f":"N14","v":222},{"$f":"COUNTIF(L33:L44,AD14)","v":1},{"$f":"AE14/(AG4-AE9)","v":0.16666666666666666},{"$f":"IF(AF14=0,0,(AF14*((LOG(AF14))/LOG(2))))","v":-0.43082708345352599},null,{"$f":"N14","v":222},{"$f":"COUNTIF(L45:L57,AI14)","v":0},{"$f":"AJ14/(AL4-AJ9)","v":0},{"$f":"IF(AK14=0,0,(AK14*((LOG(AK14))/LOG(2))))","v":0},null,{"$f":"N14","v":222},{"$f":"COUNTIF(L58:L70,AN14)","v":0},{"$f":"AO14/(AQ4-AO9)","v":0},{"$f":"IF(AP14=0,0,(AP14*((LOG(AP14))/LOG(2))))","v":0},null,{"$f":"N14","v":222},{"$f":"COUNTIF(L71:L83,AS14)","v":0},{"$f":"AT14/(AV4-AT9)","v":0},{"$f":"IF(AU14=0,0,(AU14*((LOG(AU14))/LOG(2))))","v":0}]
[11,1279,21,1288,11,1299,null,null,null,null,0,121,null,null,null,{"$f":"SUM(P7:P14)","v":1},{"$f":"-SUM(Q7:Q14)","v":2.116998205658835},null,null,null,null,{"$f":"SUM(V7:V14)","v":1},{"$f":"-SUM(W7:W14)","v":1.9219280948873623},null,null,null,{"$f":"SUM(AA7:AA14)","v":1},{"$f":"-SUM(AB7:AB14)","v":2},null,null,null,{"$f":"SUM(AF7:AF14)","v":0.99999999999999989},{"$f":"-SUM(AG7:AG14)","v":1.7924812503605778},null,null,null,{"$f":"SUM(AK7:AK14)","v":1},{"$f":"-SUM(AL7:AL14)","v":0.91829583405448945},null,null,null,{"$f":"SUM(AP7:AP14)","v":1},{"$f":"-SUM(AQ7:AQ14)","v":1.5},null,null,null,{"$f":"SUM(AU7:AU14)","v":1},{"$f":"-SUM(AV7:AV14)","v":1.8112781244591329}]
[11,1491,21,1498,11,1514,null,null,null,null,0,121,null,null,null,"U=",{"$f":"Q15/(LOG(Q4)/LOG(2))","v":0.33781240064769924},null,null,null,null,"U1=",{"$f":"W15/(LOG(W4)/LOG(2))","v":0.51937830130437546},null,null,null,"U2=",{"$f":"AB15/(LOG(AB4)/LOG(2))","v":0.54047630885463949},null,null,null,"U3=",{"$f":"AG15/(LOG(AG4)/LOG(2))","v":0.49999999999999989},null,null,null,"U4=",{"$f":"AL15/(LOG(AL4)/LOG(2))","v":0.24815857141318151},null,null,null,"U5=",{"$f":"AQ15/(LOG(AQ4)/LOG(2))","v":0.40535723164097959},null,null,null,"U6=",{"$f":"AV15/(LOG(AV4)/LOG(2))","v":0.48947645750841323}]
[11,1632,21,1639,11,1651,null,null,null,null,0,121]
[11,1817,21,1823,11,1834,null,null,null,null,0,121]
[11,1955,21,1967,11,1984,null,null,null,null,0,121,null,"Total Target Seq"]
[11,2196,21,2202,22,2208,null,null,null,null,0,122,null,{"$f":"COUNTIF(L7:L83,G3)","v":39},null,13,13,12,13,13,13]
[11,2308,21,2315,11,2330,null,null,null,null,0,121,null,null,null,"% of reinforcement given in 6 equal intervals based on number of trials "]
[11,2459,21,2469,11,2486,null,null,null,null,0,121,null,null,null,"%_1","%_2","%_3","%_4","%_5","%_6"]
[11,2622,21,2628,11,2646,null,null,null,null,0,121,null,null,"target sequence",{"$f":"$G$3","v":121},{"$f":"$G$3","v":121},{"$f":"$G$3","v":121},{"$f":"$G$3","v":121},{"$f":"$G$3","v":121},{"$f":"$G$3","v":121}]
[11,2849,21,2857,11,2872,null,null,null,null,0,121,null,null,"total reinforcement",{"$f":"U9","v":8},{"$f":"Z9","v":5},{"$f":"AE9","v":6},{"$f":"AJ9","v":10},{"$f":"AO9","v":5},{"$f":"AT9","v":5}]
[22,3093,14,3111,13,3119,null,null,null,null,0,211,null,null,"% target"]
[22,3228,14,3238,24,3250,null,null,null,null,0,212,null,null,"CCRF"]
[11,3351,21,3358,11,3367,null,null,null,null,0,121,null,null,"% CCRf"]
[11,3499,21,3507,22,3512,null,null,null,null,0,122,null,null,"average response rate",{"$f":"F19/P20","v":152.61538461538461},{"$f":"(F32-F19)/Q20","v":156.38461538461539},{"$f":"(F44-F32)/R20","v":143.33333333333334},{"$f":"(F57-F44)/S20","v":198.15384615384616},{"$f":"(F70-F57)/T20","v":149.07692307692307},{"$f":"(F83-F70)/U20","v":141.23076923076923}]
[11,3610,12,3628,24,3642,null,null,null,null,0,112]
[11,3740,21,3748,22,3750,null,null,null,null,0,122]
[11,3848,12,3864,13,3901,null,null,null,null,0,111]
[11,4003,21,4010,22,4017,null,null,null,null,0,122]
[22,4120,23,4131,24,4144,null,null,null,null,0,222]
[11,4248,21,4256,11,4264,null,null,null,null,0,121]
[11,4428,12,4433,13,4442,null,null,null,null,0,111]
[11,4540,21,4546,11,4556,null,null,null,null,0,121]
[11,4692,21,4705,11,4719,null,null,null,null,0,121]
[11,4874,21,4880,22,4884,null,null,null,null,0,122]
[11,4983,21,4989,22,4992,null,null,null,null,0,122]
[11,5092,21,5100,22,5102,null,null,null,null,0,122]
[11,5200,21,5210,11,5225,null,null,null,null,0,121]
[22,5389,14,5400,24,5416,null,null,null,null,0,212]
[11,5514,21,5521,11,5535,null,null,null,null,0,121]
[11,5712,21,5723,11,5737,null,null,null,null,0,121]
[11,5893,21,5901,22,5907,null,null,null,null,0,122]
[11,6006,21,6016,11,6041,null,null,null,null,0,121]
[11,6183,21,6196,11,6210,null,null,null,null,0,121]
[11,6391,21,6399,11,6409,null,null,null,null,0,121]
[11,6634,21,6648,11,6663,null,null,null,null,0,121]
[11,6860,21,6872,11,6888,null,null,null,null,0,121]
[11,7158,21,7167,22,7171,null,null,null,null,0,122]
[11,7271,21,7278,11,7292,null,null,null,null,0,121]
[11,7466,21,7473,11,7487,null,null,null,null,0,121]
[11,7717,21,7727,11,7739,null,null,null,null,0,121]
[11,7928,21,7940,11,7952,null,null,null,null,0,121]
[11,8107,21,8113,11,8136,null,null,null,null,0,121]
[11,8269,12,8296,24,8313,null,null,null,null,0,112]
[22,8416,14,8431,24,8445,null,null,null,null,0,212]
[11,8555,21,8562,11,8573,null,null,null,null,0,121]
[11,8715,21,8721,22,8725,null,null,null,null,0,122]
[11,8842,21,8853,11,8865,null,null,null,null,0,121]
[11,9027,21,9034,11,9053,null,null,null,null,0,121]
[11,9219,21,9226,22,9230,null,null,null,null,0,122]
[11,9329,21,9336,22,9340,null,null,null,null,0,122]
[11,9440,21,9448,11,9464,null,null,null,null,0,121]
[22,9632,14,9650,24,9663,null,null,null,null,0,212]
[11,9763,12,9781,24,9796,null,null,null,null,0,112]
[11,9896,21,9910,11,9920,null,null,null,null,0,121]
[11,10082,12,10103,24,10116,null,null,null,null,0,112]
[11,10241,21,10249,22,10251,null,null,null,null,0,122]
[22,10358,14,10375,24,10393,null,null,null,null,0,212]
[11,10494,12,10510,24,10527,null,null,null,null,0,112]
[11,10625,21,10632,11,10647,null,null,null,null,0,121]
[11,10795,12,10811,24,10825,null,null,null,null,0,112]
[11,10924,21,10933,11,10949,null,null,null,null,0,121]
[22,11082,23,11087,13,11107,null,null,null,null,0,221]
[11,11199,21,11210,22,11213,null,null,null,null,0,122]
[11,11315,21,11324,11,11334,null,null,null,null,0,121]
[11,11495,21,11503,22,11507,null,null,null,null,0,122]
[11,11615,21,11622,11,11636,null,null,null,null,0,121]
[11,11824,21,11830,22,11834,null,null,null,null,0,122]
[11,11935,12,11953,24,11968,null,null,null,null,0,112]
[11,12067,21,12074,11,12087,null,null,null,null,1,121]

{"sheet":"!M318B0D.UST","index":31,"n_rows":79,"n_cols":48,"rows_kept":79,"cut":false,"hidden":false,"merged":[[4,39,4,42],[5,39,5,40],[4,44,4,47],[5,44,5,45],[4,24,4,27],[5,24,5,25],[4,29,4,32],[5,29,5,30],[4,34,4,37],[5,34,5,35],[1,1,1,2],[5,13,5,14],[18,13,18,14],[19,13,19,14],[4,19,4,22],[5,19,5,20]]}
["Report for:!M318B0D.UST"]
["Date:","<date>"]
["Hen:","<hen>",null,null,null,"Correct Sequence",{"$f":"Start!J2","v":121},null,null,null,null,null,null,null,null,"Total Sequences in Data",{"$f":"4994-COUNTBLANK(L7:L5000)","v":73},null,null,null,null,"Total Sequences in Block Data",{"$f":"COUNTA(L7:L18)","v":12},null,null,null,"Total Sequences in Block Data",{"$f":"COUNTA(L19:L30)","v":12},null,null,null,"Total Sequences in Block Data",{"$f":"COUNTA(L31:L43)","v":13},null,null,null,"Total Sequences in Block Data",{"$f":"COUNTA(L44:L55)","v":12},null,null,null,"Total Sequences in Block Data",{"$f":"COUNTA(L56:L67)","v":12},null,null,null,"Total Sequences in Block Data",{"$f":"COUNTA(L68:L79)","v":12}]
[null,null,null,null,null,null,null,null,null,null,null,null,null,null,null,"Total Sequences in Summary",{"$f":"SUM(O7:O14)","v":73},null,null,null,null,"Total Sequences in Block Summary",{"$f":"SUM(U7:U14)","v":12},null,null,null,"Total Sequences in Block Summary",{"$f":"SUM(Z7:Z14)","v":12},null,null,null,"Total Sequences in Block Summary",{"$f":"SUM(AE7:AE14)","v":13},null,null,null,"Total Sequences in Block Summary",{"$f":"SUM(AJ7:AJ14)","v":12},null,null,null,"Total Sequences in Block Summary",{"$f":"SUM(AO7:AO14)","v":12},null,null,null,"Total Sequences in Block Summary",{"$f":"SUM(AT7:AT14)","v":12}]
[null,null,null,null,null,null,null,null,null,null,null,null,null,null,null,null,null,null,null,"Block 1",null,null,null,null,"Block 2",null,null,null,null,"Block 3",null,null,null,null,"Block 4",null,null,null,null,"Block 5",null,null,null,null,"Block 6"]
["Sequence\nComponent\n1","Time\n1","Sequence\nComponent\n2","Time\n2","Sequence\nComponent\n3","Time\n3","Sequence\nComponent\n4","Time\n4","Sequence\nComponent\n5","Time\n5","Correct?\n0=No 1=Yes","Sequence",null,"Frequency",null,"Relative Frequency","Variability",null,null,"Frequency",null,"Relative Frequency","Variability",null,"Frequency",null,"Relative Frequency","Variability",null,"Frequency",null,"Relative Frequency","Variability",null,"Frequency",null,"Relative Frequency","Variability",null,"Frequency",null,"Relative Frequency","Variability",null,"Frequency",null,"Relative Frequency","Variability"]
[22,42,14,56,24,66,null,null,null,null,0,212,null,111,{"$f":"COUNTIF($L$7:$L$500,N7)","v":2},{"$f":"O7/$Q$4","v":2.7397260273972601E-2},{"$f":"IF(P7=0,0,(P7*((LOG(P7))/LOG(2))))","v":-0.14218697421589085},null,null,{"$f":"N7","v":111},{"$f":"COUNTIF(L7:L18,T7)","v":1},{"$f":"U7/(W4-U9)","v":0.16666666666666666},{"$f":"IF(V7=0,0,(V7*((LOG(V7))/LOG(2))))","v":-0.43082708345352599},null,{"$f":"N7","v":111},{"$f":"COUNTIF(L19:L30,Y7)","v":0},{"$f":"Z7/(AB4-Z9)","v":0},{"$f":"IF(AA7=0,0,(AA7*((LOG(AA7))/LOG(2))))","v":0},null,{"$f":"N7","v":111},{"$f":"COUNTIF(L31:L43,AD7)","v":0},{"$f":"AE7/(AG4-AE9)","v":0},{"$f":"IF(AF7=0,0,(AF7*((LOG(AF7))/LOG(2))))","v":0},null,{"$f":"N7","v":111},{"$f":"COUNTIF(L44:L55,AI7)","v":0},{"$f":"AJ7/(AL4-AJ9)","v":0},{"$f":"IF(AK7=0,0,(AK7*((LOG(AK7))/LOG(2))))","v":0},null,{"$f":"N7","v":111},{"$f":"COUNTIF(L56:L67,AN7)","v":0},{"$f":"AO7/(AQ4-AO9)","v":0},{"$f":"IF(AP7=0,0,(AP7*((LOG(AP7))/LOG(2))))","v":0},null,{"$f":"N7","v":111},{"$f":"COUNTIF(L68:L79,AS7)","v":1},{"$f":"AT7/(AV4-AT9)","v":0.16666666666666666},{"$f":"IF(AU7=0,0,(AU7*((LOG(AU7))/LOG(2))))","v":-0.43082708345352599}]
[11,175,21,185,11,195,null,null,null,null,0,121,null,112,{"$f":"COUNTIF($L$7:$L$500,N8)","v":7},{"$f":"O8/$Q$4","v":9.5890410958904104E-2},{"$f":"IF(P8=0,0,(P8*((LOG(P8))/LOG(2))))","v":-0.32434640353091632},null,null,{"$f":"N8","v":112},{"$f":"COUNTIF(L7:L18,T8)","v":0},{"$f":"U8/(W4-U9)","v":0},{"$f":"IF(V8=0,0,(V8*((LOG(V8))/LOG(2))))","v":0},null,{"$f":"N8","v":112},{"$f":"COUNTIF(L19:L30,Y8)","v":2},{"$f":"Z8/(AB4-Z9)","v":0.33333333333333331},{"$f":"IF(AA8=0,0,(AA8*((LOG(AA8))/LOG(2))))","v":-0.52832083357371862},null,{"$f":"N8","v":112},{"$f":"COUNTIF(L31:L43,AD8)","v":1},{"$f":"AE8/(AG4-AE9)","v":0.33333333333333331},{"$f":"IF(AF8=0,0,(AF8*((LOG(AF8))/LOG(2))))","v":-0.52832083357371862},null,{"$f":"N8","v":112},{"$f":"COUNTIF(L44:L55,AI8)","v":1},{"$f":"AJ8/(AL4-AJ9)","v":0.14285714285714285},{"$f":"IF(AK8=0,0,(AK8*((LOG(AK8))/LOG(2))))","v":-0.40105070315108626},null,{"$f":"N8","v":112},{"$f":"COUNTIF(L56:L67,AN8)","v":2},{"$f":"AO8/(AQ4-AO9)","v":0.33333333333333331},{"$f":"IF(AP8=0,0,(AP8*((LOG(AP8))/LOG(2))))","v":-0.52832083357371862},null,{"$f":"N8","v":112},{"$f":"COUNTIF(L68:L79,AS8)","v":1},{"$f":"AT8/(AV4-AT9)","v":0.16666666666666666},{"$f":"IF(AU8=0,0,(AU8*((LOG(AU8))/LOG(2))))","v":-0.43082708345352599}]
[11,334,12,339,13,346,null,null,null,null,0,111,null,121,{"$f":"COUNTIF($L$7:$L$500,N9)","v":39},{"$f":"O9/$Q$4","v":0.53424657534246578},{"$f":"IF(P9=0,0,(P9*((LOG(P9))/LOG(2))))","v":-0.48318453781771215},null,null,{"$f":"N9","v":121},{"$f":"COUNTIF(L7:L18,T9)","v":6},null,null,null,{"$f":"N9","v":121},{"$f":"COUNTIF(L19:L30,Y9)","v":6},null,null,null,{"$f":"N9","v":121},{"$f":"COUNTIF(L31:L43,AD9)","v":10},null,null,null,{"$f":"N9","v":121},{"$f":"COUNTIF(L44:L55,AI9)","v":5},null,null,null,{"$f":"N9","v":121},{"$f":"COUNTIF(L56:L67,AN9)","v":6},null,null,null,{"$f":"N9","v":121},{"$f":"COUNTIF(L68:L79,AS9)","v":6}]
[22,449,14,465,24,490,null,null,null,null,0,212,null,122,{"$f":"COUNTIF($L$7:$L$500,N10)","v":14},{"$f":"O10/$Q$4","v":0.19178082191780821},{"$f":"IF(P10=0,0,(P10*((LOG(P10))/LOG(2))))","v":-0.45691198514402448},null,null,{"$f":"N10","v":122},{"$f":"COUNTIF(L7:L18,T10)","v":1},{"$f":"U10/(W4-U9)","v":0.16666666666666666},{"$f":"IF(V10=0,0,(V10*((LOG(V10))/LOG(2))))","v":-0.43082708345352599},null,{"$f":"N10","v":122},{"$f":"COUNTIF(L19:L30,Y10)","v":2},{"$f":"Z10/(AB4-Z9)","v":0.33333333333333331},{"$f":"IF(AA10=0,0,(AA10*((LOG(AA10))/LOG(2))))","v":-0.52832083357371862},null,{"$f":"N10","v":122},{"$f":"COUNTIF(L31:L43,AD10)","v":2},{"$f":"AE10/(AG4-AE9)","v":0.66666666666666663},{"$f":"IF(AF10=0,0,(AF10*((LOG(AF10))/LOG(2))))","v":-0.38997500048077083},null,{"$f":"N10","v":122},{"$f":"COUNTIF(L44:L55,AI10)","v":5},{"$f":"AJ10/(AL4-AJ9)","v":0.7142857142857143},{"$f":"IF(AK10=0,0,(AK10*((LOG(AK10))/LOG(2))))","v":-0.34673344797874411},null,{"$f":"N10","v":122},{"$f":"COUNTIF(L56:L67,AN10)","v":1},{"$f":"AO10/(AQ4-AO9)","v":0.16666666666666666},{"$f":"IF(AP10=0,0,(AP10*((LOG(AP10))/LOG(2))))","v":-0.43082708345352599},null,{"$f":"N10","v":122},{"$f":"COUNTIF(L68:L79,AS10)","v":3},{"$f":"AT10/(AV4-AT9)","v":0.5},{"$f":"IF(AU10=0,0,(AU10*((LOG(AU10))/LOG(2))))","v":-0.5}]
[11,591,21,598,11,609,null,null,null,null,0,121,null,211,{"$f":"COUNTIF($L$7:$L$500,N11)","v":2},{"$f":"O11/$Q$4","v":2.7397260273972601E-2},{"$f":"IF(P11=0,0,(P11*((LOG(P11))/LOG(2))))","v":-0.14218697421589085},null,null,{"$f":"N11","v":211},{"$f":"COUNTIF(L7:L18,T11)","v":0},{"$f":"U11/(W4-U9)","v":0},{"$f":"IF(V11=0,0,(V11*((LOG(V11))/LOG(2))))","v":0},null,{"$f":"N11","v":211},{"$f":"COUNTIF(L19:L30,Y11)","v":0},{"$f":"Z11/(AB4-Z9)","v":0},{"$f":"IF(AA11=0,0,(AA11*((LOG(AA11))/LOG(2))))","v":0},null,{"$f":"N11","v":211},{"$f":"COUNTIF(L31:L43,AD11)","v":0},{"$f":"AE11/(AG4-AE9)","v":0},{"$f":"IF(AF11=0,0,(AF11*((LOG(AF11))/LOG(2))))","v":0},null,{"$f":"N11","v":211},{"$f":"COUNTIF(L44:L55,AI11)","v":0},{"$f":"AJ11/(AL4-AJ9)","v":0},{"$f":"IF(AK11=0,0,(AK11*((LOG(AK11))/LOG(2))))","v":0},null,{"$f":"N11","v":211},{"$f":"COUNTIF(L56:L67,AN11)","v":2},{"$f":"AO11/(AQ4-AO9)","v":0.33333333333333331},{"$f":"IF(AP11=0,0,(AP11*((LOG(AP11))/LOG(2))))","v":-0.52832083357371862},null,{"$f":"N11","v":211},{"$f":"COUNTIF(L68:L79,AS11)","v":0},{"$f":"AT11/(AV4-AT9)","v":0},{"$f":"IF(AU11=0,0,(AU11*((LOG(AU11))/LOG(2))))","v":0}]
[22,747,23,752,13,769,null,null,null,null,0,221,null,212,{"$f":"COUNTIF($L$7:$L$500,N12)","v":5},{"$f":"O12/$Q$4","v":6.8493150684931503E-2},{"$f":"IF(P12=0,0,(P12*((LOG(P12))/LOG(2))))","v":-0.26492441534196265},null,null,{"$f":"N12","v":212},{"$f":"COUNTIF(L7:L18,T12)","v":2},{"$f":"U12/(W4-U9)","v":0.33333333333333331},{"$f":"IF(V12=0,0,(V12*((LOG(V12))/LOG(2))))","v":-0.52832083357371862},null,{"$f":"N12","v":212},{"$f":"COUNTIF(L19:L30,Y12)","v":2},{"$f":"Z12/(AB4-Z9)","v":0.33333333333333331},{"$f":"IF(AA12=0,0,(AA12*((LOG(AA12))/LOG(2))))","v":-0.52832083357371862},null,{"$f":"N12","v":212},{"$f":"COUNTIF(L31:L43,AD12)","v":0},{"$f":"AE12/(AG4-AE9)","v":0},{"$f":"IF(AF12=0,0,(AF12*((LOG(AF12))/LOG(2))))","v":0},null,{"$f":"N12","v":212},{"$f":"COUNTIF(L44:L55,AI12)","v":1},{"$f":"AJ12/(AL4-AJ9)","v":0.14285714285714285},{"$f":"IF(AK12=0,0,(AK12*((LOG(AK12))/LOG(2))))","v":-0.40105070315108626},null,{"$f":"N12","v":212},{"$f":"COUNTIF(L56:L67,AN12)","v":0},{"$f":"AO12/(AQ4-AO9)","v":0},{"$f":"IF(AP12=0,0,(AP12*((LOG(AP12))/LOG(2))))","v":0},null,{"$f":"N12","v":212},{"$f":"COUNTIF(L68:L79,AS12)","v":0},{"$f":"AT12/(AV4-AT9)","v":0},{"$f":"IF(AU12=0,0,(AU12*((LOG(AU12))/LOG(2))))","v":0}]
[11,868,21,874,11,897,null,null,null,null,0,121,null,221,{"$f":"COUNTIF($L$7:$L$500,N13)","v":3},{"$f":"O13/$Q$4","v":4.1095890410958902E-2},{"$f":"IF(P13=0,0,(P13*((LOG(P13))/LOG(2))))","v":-0.18924090649967923},null,null,{"$f":"N13","v":221},{"$f":"COUNTIF(L7:L18,T13)","v":2},{"$f":"U13/(W4-U9)","v":0.33333333333333331},{"$f":"IF(V13=0,0,(V13*((LOG(V13))/LOG(2))))","v":-0.52832083357371862},null,{"$f":"N13","v":221},{"$f":"COUNTIF(L19:L30,Y13)","v":0},{"$f":"Z13/(AB4-Z9)","v":0},{"$f":"IF(AA13=0,0,(AA13*((LOG(AA13))/LOG(2))))","v":0},null,{"$f":"N13","v":221},{"$f":"COUNTIF(L31:L43,AD13)","v":0},{"$f":"AE13/(AG4-AE9)","v":0},{"$f":"IF(AF13=0,0,(AF13*((LOG(AF13))/LOG(2))))","v":0},null,{"$f":"N13","v":221},{"$f":"COUNTIF(L44:L55,AI13)","v":0},{"$f":"AJ13/(AL4-AJ9)","v":0},{"$f":"IF(AK13=0,0,(AK13*((LOG(AK13))/LOG(2))))","v":0},null,{"$f":"N13","v":221},{"$f":"COUNTIF(L56:L67,AN13)","v":1},{"$f":"AO13/(AQ4-AO9)","v":0.16666666666666666},{"$f":"IF(AP13=0,0,(AP13*((LOG(AP13))/LOG(2))))","v":-0.43082708345352599},null,{"$f":"N13","v":221},{"$f":"COUNTIF(L68:L79,AS13)","v":0},{"$f":"AT13/(AV4-AT9)","v":0},{"$f":"IF(AU13=0,0,(AU13*((LOG(AU13))/LOG(2))))","v":0}]
[22,1039,23,1045,13,1056,null,null,null,null,0,221,null,222,{"$f":"COUNTIF($L$7:$L$500,N14)","v":1},{"$f":"O14/$Q$4","v":1.3698630136986301E-2},{"$f":"IF(P14=0,0,(P14*((LOG(P14))/LOG(2))))","v":-8.4792117244931728E-2},null,null,{"$f":"N14","v":222},{"$f":"COUNTIF(L7:L18,T14)","v":0},{"$f":"U14/(W4-U9)","v":0},{"$f":"IF(V14=0,0,(V14*((LOG(V14))/LOG(2))))","v":0},null,{"$f":"N14","v":222},{"$f":"COUNTIF(L19:L30,Y14)","v":0},{"$f":"Z14/(AB4-Z9)","v":0},{"$f":"IF(AA14=0,0,(AA14*((LOG(AA14))/LOG(2))))","v":0},null,{"$f":"N14","v":222},{"$f":"COUNTIF(L31:L43,AD14)","v":0},{"$f":"AE14/(AG4-AE9)","v":0},{"$f":"IF(AF14=0,0,(AF14*((LOG(AF14))/LOG(2))))","v":0},null,{"$f":"N14","v":222},{"$f":"COUNTIF(L44:L55,AI14)","v":0},{"$f":"AJ14/(AL4-AJ9)","v":0},{"$f":"IF(AK14=0,0,(AK14*((LOG(AK14))/LOG(2))))","v":0},null,{"$f":"N14","v":222},{"$f":"COUNTIF(L56:L67,AN14)","v":0},{"$f":"AO14/(AQ4-AO9)","v":0},{"$f":"IF(AP14=0,0,(AP14*((LOG(AP14))/LOG(2))))","v":0},null,{"$f":"N14","v":222},{"$f":"COUNTIF(L68:L79,AS14)","v":1},{"$f":"AT14/(AV4-AT9)","v":0.16666666666666666},{"$f":"IF(AU14=0,0,(AU14*((LOG(AU14))/LOG(2))))","v":-0.43082708345352599}]
[11,1166,21,1175,11,1195,null,null,null,null,0,121,null,null,null,{"$f":"SUM(P7:P14)","v":1},{"$f":"-SUM(Q7:Q14)","v":2.0877743140110079},null,null,null,null,{"$f":"SUM(V7:V14)","v":1},{"$f":"-SUM(W7:W14)","v":1.9182958340544893},null,null,null,{"$f":"SUM(AA7:AA14)","v":1},{"$f":"-SUM(AB7:AB14)","v":1.5849625007211559},null,null,null,{"$f":"SUM(AF7:AF14)","v":1},{"$f":"-SUM(AG7:AG14)","v":0.91829583405448945},null,null,null,{"$f":"SUM(AK7:AK14)","v":1},{"$f":"-SUM(AL7:AL14)","v":1.1488348542809166},null,null,null,{"$f":"SUM(AP7:AP14)","v":0.99999999999999989},{"$f":"-SUM(AQ7:AQ14)","v":1.9182958340544891},null,null,null,{"$f":"SUM(AU7:AU14)","v":0.99999999999999989},{"$f":"-SUM(AV7:AV14)","v":1.7924812503605778}]
[11,1412,21,1421,22,1424,null,null,null,null,0,122,null,null,null,"U=",{"$f":"Q15/(LOG(Q4)/LOG(2))","v":0.3372913552155295},null,null,null,null,"U1=",{"$f":"W15/(LOG(W4)/LOG(2))","v":0.53509509058145011},null,null,null,"U2=",{"$f":"AB15/(LOG(AB4)/LOG(2))","v":0.4421141086977402},null,null,null,"U3=",{"$f":"AG15/(LOG(AG4)/LOG(2))","v":0.24815857141318151},null,null,null,"U4=",{"$f":"AL15/(LOG(AL4)/LOG(2))","v":0.32045937831980537},null,null,null,"U5=",{"$f":"AQ15/(LOG(AQ4)/LOG(2))","v":0.53509509058145011},null,null,null,"U6=",{"$f":"AV15/(LOG(AV4)/LOG(2))","v":0.49999999999999989}]
[11,1525,21,1531,11,1545,null,null,null,null,0,121]
[11,1678,21,1684,11,1705,null,null,null,null,0,121]
[11,1841,12,1854,24,1865,null,null,null,null,0,112,null,"Total Target Seq"]
[11,1967,21,1972,22,1981,null,null,null,null,0,122,null,{"$f":"COUNTIF(L7:L79,G3)","v":39},null,12,12,13,12,12,12]
[11,2080,21,2086,11,2096,null,null,null,null,0,121,null,null,null,"% of reinforcement given in 6 equal intervals based on number of trials "]
[11,2213,21,2219,11,2238,null,null,null,null,0,121,null,null,null,"%_1","%_2","%_3","%_4","%_5","%_6"]
[11,2412,12,2432,24,2453,null,null,null,null,0,112,null,null,"target sequence",{"$f":"$G$3","v":121},{"$f":"$G$3","v":121},{"$f":"$G$3","v":121},{"$f":"$G$3","v":121},{"$f":"$G$3","v":121},{"$f":"$G$3","v":121}]
[11,2552,21,2562,11,2571,null,null,null,null,0,121,null,null,"total reinforcement",{"$f":"U9","v":6},{"$f":"Z9","v":6},{"$f":"AE9","v":10},{"$f":"AJ9","v":5},{"$f":"AO9","v":6},{"$f":"AT9","v":6}]
[22,2752,14,2769,24,2787,null,null,null,null,0,212,null,null,"% target"]
[11,2887,21,2892,11,2905,null,null,null,null,0,121,null,null,"CCRF"]
[11,3021,21,3028,22,3033,null,null,null,null,0,122,null,null,"% CCRf"]
[11,3135,21,3140,11,3154,null,null,null,null,0,121,null,null,"average response rate",{"$f":"F18/P20","v":142.08333333333334},{"$f":"(F30-F18)/Q20","v":153},{"$f":"(F43-F30)/R20","v":168.23076923076923},{"$f":"(F55-F43)/S20","v":142.66666666666666},{"$f":"(F67-F55)/T20","v":135.58333333333334},{"$f":"(F79-F67)/U20","v":157.25}]
[11,3334,21,3339,11,3365,null,null,null,null,0,121]
[22,3516,14,3529,24,3541,null,null,null,null,0,212]
[11,3644,21,3652,11,3666,null,null,null,null,0,121]
[11,3792,21,3803,22,3805,null,null,null,null,0,122]
[11,3900,21,3905,11,3916,null,null,null,null,0,121]
[11,4049,21,4057,11,4070,null,null,null,null,0,121]
[11,4270,21,4281,11,4300,null,null,null,null,0,121]
[11,4493,21,4499,11,4509,null,null,null,null,0,121]
[11,4747,21,4756,22,4761,null,null,null,null,0,122]
[11,4865,21,4871,11,4886,null,null,null,null,0,121]
[11,4992,21,5004,11,5018,null,null,null,null,0,121]
[11,5168,21,5180,11,5198,null,null,null,null,0,121]
[11,5326,21,5333,11,5343,null,null,null,null,0,121]
[11,5462,21,5474,11,5484,null,null,null,null,0,121]
[11,5678,12,5705,24,5728,null,null,null,null,0,112]
[11,5829,12,5847,24,5860,null,null,null,null,0,112]
[11,5960,21,5967,11,5975,null,null,null,null,0,121]
[11,6096,21,6102,22,6107,null,null,null,null,0,122]
[11,6199,21,6208,22,6213,null,null,null,null,0,122]
[11,6309,21,6317,11,6328,null,null,null,null,0,121]
[11,6461,21,6469,22,6473,null,null,null,null,0,122]
[22,6582,14,6595,24,6610,null,null,null,null,0,212]
[11,6707,21,6713,11,6725,null,null,null,null,0,121]
[11,6868,21,6875,11,6886,null,null,null,null,0,121]
[11,7110,21,7119,11,7141,null,null,null,null,0,121]
[11,7313,21,7319,22,7326,null,null,null,null,0,122]
[11,7428,21,7436,22,7440,null,null,null,null,0,122]
[11,7533,21,7543,11,7553,null,null,null,null,0,121]
[11,7711,12,7716,24,7725,null,null,null,null,0,112]
[11,7823,21,7829,11,7843,null,null,null,null,0,121]
[11,7989,21,7996,22,8001,null,null,null,null,0,122]
[11,8100,12,8115,24,8125,null,null,null,null,0,112]
[11,8226,21,8235,11,8244,null,null,null,null,0,121]
[22,8377,14,8394,13,8418,null,null,null,null,0,211]
[22,8522,14,8535,13,8546,null,null,null,null,0,211]
[11,8643,21,8650,11,8664,null,null,null,null,0,121]
[11,8788,21,8795,11,8819,null,null,null,null,0,121]
[22,8926,23,8931,13,8941,null,null,null,null,0,221]
[11,9040,21,9047,11,9067,null,null,null,null,0,121]
[11,9220,21,9227,22,9231,null,null,null,null,0,122]
[22,9342,23,9349,24,9355,null,null,null,null,0,222]
[11,9451,21,9460,11,9475,null,null,null,null,0,121]
[11,9614,12,9637,13,9650,null,null,null,null,0,111]
[11,9748,12,9767,24,9778,null,null,null,null,0,112]
[11,9872,21,9880,11,9888,null,null,null,null,0,121]
[11,10085,21,10092,22,10096,null,null,null,null,0,122]
[11,10195,21,10203,11,10218,null,null,null,null,0,121]
[11,10428,21,10440,22,10442,null,null,null,null,0,122]
[11,10541,21,10548,11,10564,null,null,null,null,0,121]
[11,10730,21,10740,11,10760,null,null,null,null,0,121]
[11,10933,21,10943,11,10954,null,null,null,null,1,121]

{"sheet":"!M319B0D.UST","index":32,"n_rows":83,"n_cols":48,"rows_kept":83,"cut":false,"hidden":false,"merged":[[4,39,4,42],[5,39,5,40],[4,44,4,47],[5,44,5,45],[4,24,4,27],[5,24,5,25],[4,29,4,32],[5,29,5,30],[4,34,4,37],[5,34,5,35],[1,1,1,2],[5,13,5,14],[18,13,18,14],[19,13,19,14],[4,19,4,22],[5,19,5,20]]}
["Report for:!M319B0D.UST"]
["Date:","<date>"]
["Hen:","<hen>",null,null,null,"Correct Sequence",{"$f":"Start!J2","v":121},null,null,null,null,null,null,null,null,"Total Sequences in Data",{"$f":"4994-COUNTBLANK(L7:L5000)","v":77},null,null,null,null,"Total Sequences in Block Data",{"$f":"COUNTA(L7:L19)","v":13},null,null,null,"Total Sequences in Block Data",{"$f":"COUNTA(L20:L32)","v":13},null,null,null,"Total Sequences in Block Data",{"$f":"COUNTA(L33:L44)","v":12},null,null,null,"Total Sequences in Block Data",{"$f":"COUNTA(L45:L57)","v":13},null,null,null,"Total Sequences in Block Data",{"$f":"COUNTA(L58:L70)","v":13},null,null,null,"Total Sequences in Block Data",{"$f":"COUNTA(L71:L83)","v":13}]
[null,null,null,null,null,null,null,null,null,null,null,null,null,null,null,"Total Sequences in Summary",{"$f":"SUM(O7:O14)","v":77},null,null,null,null,"Total Sequences in Block Summary",{"$f":"SUM(U7:U14)","v":13},null,null,null,"Total Sequences in Block Summary",{"$f":"SUM(Z7:Z14)","v":13},null,null,null,"Total Sequences in Block Summary",{"$f":"SUM(AE7:AE14)","v":12},null,null,null,"Total Sequences in Block Summary",{"$f":"SUM(AJ7:AJ14)","v":13},null,null,null,"Total Sequences in Block Summary",{"$f":"SUM(AO7:AO14)","v":13},null,null,null,"Total Sequences in Block Summary",{"$f":"SUM(AT7:AT14)","v":13}]
[null,null,null,null,null,null,null,null,null,null,null,null,null,null,null,null,null,null,null,"Block 1",null,null,null,null,"Block 2",null,null,null,null,"Block 3",null,null,null,null,"Block 4",null,null,null,null,"Block 5",null,null,null,null,"Block 6"]
["Sequence\nComponent\n1","Time\n1","Sequence\nComponent\n2","Time\n2","Sequence\nComponent\n3","Time\n3","Sequence\nComponent\n4","Time\n4","Sequence\nComponent\n5","Time\n5","Correct?\n0=No 1=Yes","Sequence",null,"Frequency",null,"Relative Frequency","Variability",null,null,"Frequency",null,"Relative Frequency","Variability",null,"Frequency",null,"Relative Frequency","Variability",null,"Frequency",null,"Relative Frequency","Variability",null,"Frequency",null,"Relative Frequency","Variability",null,"Frequency",null,"Relative Frequency","Variability",null,"Frequency",null,"Relative Frequency","Variability"]
[11,11688,12,11694,13,11701,null,null,null,null,0,111,null,111,{"$f":"COUNTIF($L$7:$L$500,N7)","v":12},{"$f":"O7/$Q$4","v":0.15584415584415584},{"$f":"IF(P7=0,0,(P7*((LOG(P7))/LOG(2))))","v":-0.41794660363227198},null,null,{"$f":"N7","v":111},{"$f":"COUNTIF(L7:L19,T7)","v":4},{"$f":"U7/(W4-U9)","v":0.4},{"$f":"IF(V7=0,0,(V7*((LOG(V7))/LOG(2))))","v":-0.52877123795494496},null,{"$f":"N7","v":111},{"$f":"COUNTIF(L20:L32,Y7)","v":2},{"$f":"Z7/(AB4-Z9)","v":0.2},{"$f":"IF(AA7=0,0,(AA7*((LOG(AA7))/LOG(2))))","v":-0.46438561897747244},null,{"$f":"N7","v":111},{"$f":"COUNTIF(L33:L44,AD7)","v":0},{"$f":"AE7/(AG4-AE9)","v":0},{"$f":"IF(AF7=0,0,(AF7*((LOG(AF7))/LOG(2))))","v":0},null,{"$f":"N7","v":111},{"$f":"COUNTIF(L45:L57,AI7)","v":3},{"$f":"AJ7/(AL4-AJ9)","v":0.3},{"$f":"IF(AK7=0,0,(AK7*((LOG(AK7))/LOG(2))))","v":-0.52108967824986185},null,{"$f":"N7","v":111},{"$f":"COUNTIF(L58:L70,AN7)","v":2},{"$f":"AO7/(AQ4-AO9)","v":0.2},{"$f":"IF(AP7=0,0,(AP7*((LOG(AP7))/LOG(2))))","v":-0.46438561897747244},null,{"$f":"N7","v":111},{"$f":"COUNTIF(L71:L83,AS7)","v":1},{"$f":"AT7/(AV4-AT9)","v":0.16666666666666666},{"$f":"IF(AU7=0,0,(AU7*((LOG(AU7))/LOG(2))))","v":-0.43082708345352599}]
[11,11930,12,11937,13,11957,null,null,null,null,0,111,null,112,{"$f":"COUNTIF($L$7:$L$500,N8)","v":6},{"$f":"O8/$Q$4","v":7.792207792207792E-2},{"$f":"IF(P8=0,0,(P8*((LOG(P8))/LOG(2))))","v":-0.28689537973821388},null,null,{"$f":"N8","v":112},{"$f":"COUNTIF(L7:L19,T8)","v":1},{"$f":"U8/(W4-U9)","v":0.1},{"$f":"IF(V8=0,0,(V8*((LOG(V8))/LOG(2))))","v":-0.33219280948873625},null,{"$f":"N8","v":112},{"$f":"COUNTIF(L20:L32,Y8)","v":1},{"$f":"Z8/(AB4-Z9)","v":0.1},{"$f":"IF(AA8=0,0,(AA8*((LOG(AA8))/LOG(2))))","v":-0.33219280948873625},null,{"$f":"N8","v":112},{"$f":"COUNTIF(L33:L44,AD8)","v":1},{"$f":"AE8/(AG4-AE9)","v":0.16666666666666666},{"$f":"IF(AF8=0,0,(AF8*((LOG(AF8))/LOG(2))))","v":-0.43082708345352599},null,{"$f":"N8","v":112},{"$f":"COUNTIF(L45:L57,AI8)","v":2},{"$f":"AJ8/(AL4-AJ9)","v":0.2},{"$f":"IF(AK8=0,0,(AK8*((LOG(AK8))/LOG(2))))","v":-0.46438561897747244},null,{"$f":"N8","v":112},{"$f":"COUNTIF(L58:L70,AN8)","v":0},{"$f":"AO8/(AQ4-AO9)","v":0},{"$f":"IF(AP8=0,0,(AP8*((LOG(AP8))/LOG(2))))","v":0},null,{"$f":"N8","v":112},{"$f":"COUNTIF(L71:L83,AS8)","v":1},{"$f":"AT8/(AV4-AT9)","v":0.16666666666666666},{"$f":"IF(AU8=0,0,(AU8*((LOG(AU8))/LOG(2))))","v":-0.43082708345352599}]
[11,12130,12,12134,13,12142,null,null,null,null,0,111,null,121,{"$f":"COUNTIF($L$7:$L$500,N9)","v":25},{"$f":"O9/$Q$4","v":0.32467532467532467},{"$f":"IF(P9=0,0,(P9*((LOG(P9))/LOG(2))))","v":-0.52692543861044694},null,null,{"$f":"N9","v":121},{"$f":"COUNTIF(L7:L19,T9)","v":3},null,null,null,{"$f":"N9","v":121},{"$f":"COUNTIF(L20:L32,Y9)","v":3},null,null,null,{"$f":"N9","v":121},{"$f":"COUNTIF(L33:L44,AD9)","v":6},null,null,null,{"$f":"N9","v":121},{"$f":"COUNTIF(L45:L57,AI9)","v":3},null,null,null,{"$f":"N9","v":121},{"$f":"COUNTIF(L58:L70,AN9)","v":3},null,null,null,{"$f":"N9","v":121},{"$f":"COUNTIF(L71:L83,AS9)","v":7}]
[11,12256,12,12267,13,12277,null,null,null,null,0,111,null,122,{"$f":"COUNTIF($L$7:$L$500,N10)","v":13},{"$f":"O10/$Q$4","v":0.16883116883116883},{"$f":"IF(P10=0,0,(P10*((LOG(P10))/LOG(2))))","v":-0.43327933367791588},null,null,{"$f":"N10","v":122},{"$f":"COUNTIF(L7:L19,T10)","v":1},{"$f":"U10/(W4-U9)","v":0.1},{"$f":"IF(V10=0,0,(V10*((LOG(V10))/LOG(2))))","v":-0.33219280948873625},null,{"$f":"N10","v":122},{"$f":"COUNTIF(L20:L32,Y10)","v":1},{"$f":"Z10/(AB4-Z9)","v":0.1},{"$f":"IF(AA10=0,0,(AA10*((LOG(AA10))/LOG(2))))","v":-0.33219280948873625},null,{"$f":"N10","v":122},{"$f":"COUNTIF(L33:L44,AD10)","v":2},{"$f":"AE10/(AG4-AE9)","v":0.33333333333333331},{"$f":"IF(AF10=0,0,(AF10*((LOG(AF10))/LOG(2))))","v":-0.52832083357371862},null,{"$f":"N10","v":122},{"$f":"COUNTIF(L45:L57,AI10)","v":2},{"$f":"AJ10/(AL4-AJ9)","v":0.2},{"$f":"IF(AK10=0,0,(AK10*((LOG(AK10))/LOG(2))))","v":-0.46438561897747244},null,{"$f":"N10","v":122},{"$f":"COUNTIF(L58:L70,AN10)","v":5},{"$f":"AO10/(AQ4-AO9)","v":0.5},{"$f":"IF(AP10=0,0,(AP10*((LOG(AP10))/LOG(2))))","v":-0.5},null,{"$f":"N10","v":122},{"$f":"COUNTIF(L71:L83,AS10)","v":2},{"$f":"AT10/(AV4-AT9)","v":0.33333333333333331},{"$f":"IF(AU10=0,0,(AU10*((LOG(AU10))/LOG(2))))","v":-0.52832083357371862}]
[22,12380,23,12382,24,12387,null,null,null,null,0,222,null,211,{"$f":"COUNTIF($L$7:$L$500,N11)","v":4},{"$f":"O11/$Q$4","v":5.1948051948051951E-2},{"$f":"IF(P11=0,0,(P11*((LOG(P11))/LOG(2))))","v":-0.22165124886726764},null,null,{"$f":"N11","v":211},{"$f":"COUNTIF(L7:L19,T11)","v":1},{"$f":"U11/(W4-U9)","v":0.1},{"$f":"IF(V11=0,0,(V11*((LOG(V11))/LOG(2))))","v":-0.33219280948873625},null,{"$f":"N11","v":211},{"$f":"COUNTIF(L20:L32,Y11)","v":1},{"$f":"Z11/(AB4-Z9)","v":0.1},{"$f":"IF(AA11=0,0,(AA11*((LOG(AA11))/LOG(2))))","v":-0.33219280948873625},null,{"$f":"N11","v":211},{"$f":"COUNTIF(L33:L44,AD11)","v":0},{"$f":"AE11/(AG4-AE9)","v":0},{"$f":"IF(AF11=0,0,(AF11*((LOG(AF11))/LOG(2))))","v":0},null,{"$f":"N11","v":211},{"$f":"COUNTIF(L45:L57,AI11)","v":1},{"$f":"AJ11/(AL4-AJ9)","v":0.1},{"$f":"IF(AK11=0,0,(AK11*((LOG(AK11))/LOG(2))))","v":-0.33219280948873625},null,{"$f":"N11","v":211},{"$f":"COUNTIF(L58:L70,AN11)","v":1},{"$f":"AO11/(AQ4-AO9)","v":0.1},{"$f":"IF(AP11=0,0,(AP11*((LOG(AP11))/LOG(2))))","v":-0.33219280948873625},null,{"$f":"N11","v":211},{"$f":"COUNTIF(L71:L83,AS11)","v":0},{"$f":"AT11/(AV4-AT9)","v":0},{"$f":"IF(AU11=0,0,(AU11*((LOG(AU11))/LOG(2))))","v":0}]
[11,12617,21,12629,11,12640,null,null,null,null,0,121,null,212,{"$f":"COUNTIF($L$7:$L$500,N12)","v":6},{"$f":"O12/$Q$4","v":7.792207792207792E-2},{"$f":"IF(P12=0,0,(P12*((LOG(P12))/LOG(2))))","v":-0.28689537973821388},null,null,{"$f":"N12","v":212},{"$f":"COUNTIF(L7:L19,T12)","v":1},{"$f":"U12/(W4-U9)","v":0.1},{"$f":"IF(V12=0,0,(V12*((LOG(V12))/LOG(2))))","v":-0.33219280948873625},null,{"$f":"N12","v":212},{"$f":"COUNTIF(L20:L32,Y12)","v":2},{"$f":"Z12/(AB4-Z9)","v":0.2},{"$f":"IF(AA12=0,0,(AA12*((LOG(AA12))/LOG(2))))","v":-0.46438561897747244},null,{"$f":"N12","v":212},{"$f":"COUNTIF(L33:L44,AD12)","v":1},{"$f":"AE12/(AG4-AE9)","v":0.16666666666666666},{"$f":"IF(AF12=0,0,(AF12*((LOG(AF12))/LOG(2))))","v":-0.43082708345352599},null,{"$f":"N12","v":212},{"$f":"COUNTIF(L45:L57,AI12)","v":1},{"$f":"AJ12/(AL4-AJ9)","v":0.1},{"$f":"IF(AK12=0,0,(AK12*((LOG(AK12))/LOG(2))))","v":-0.33219280948873625},null,{"$f":"N12","v":212},{"$f":"COUNTIF(L58:L70,AN12)","v":0},{"$f":"AO12/(AQ4-AO9)","v":0},{"$f":"IF(AP12=0,0,(AP12*((LOG(AP12))/LOG(2))))","v":0},null,{"$f":"N12","v":212},{"$f":"COUNTIF(L71:L83,AS12)","v":1},{"$f":"AT12/(AV4-AT9)","v":0.16666666666666666},{"$f":"IF(AU12=0,0,(AU12*((LOG(AU12))/LOG(2))))","v":-0.43082708345352599}]
[11,12869,12,12895,24,12915,null,null,null,null,0,112,null,221,{"$f":"COUNTIF($L$7:$L$500,N13)","v":5},{"$f":"O13/$Q$4","v":6.4935064935064929E-2},{"$f":"IF(P13=0,0,(P13*((LOG(P13))/LOG(2))))","v":-0.25615963933815183},null,null,{"$f":"N13","v":221},{"$f":"COUNTIF(L7:L19,T13)","v":0},{"$f":"U13/(W4-U9)","v":0},{"$f":"IF(V13=0,0,(V13*((LOG(V13))/LOG(2))))","v":0},null,{"$f":"N13","v":221},{"$f":"COUNTIF(L20:L32,Y13)","v":0},{"$f":"Z13/(AB4-Z9)","v":0},{"$f":"IF(AA13=0,0,(AA13*((LOG(AA13))/LOG(2))))","v":0},null,{"$f":"N13","v":221},{"$f":"COUNTIF(L33:L44,AD13)","v":2},{"$f":"AE13/(AG4-AE9)","v":0.33333333333333331},{"$f":"IF(AF13=0,0,(AF13*((LOG(AF13))/LOG(2))))","v":-0.52832083357371862},null,{"$f":"N13","v":221},{"$f":"COUNTIF(L45:L57,AI13)","v":1},{"$f":"AJ13/(AL4-AJ9)","v":0.1},{"$f":"IF(AK13=0,0,(AK13*((LOG(AK13))/LOG(2))))","v":-0.33219280948873625},null,{"$f":"N13","v":221},{"$f":"COUNTIF(L58:L70,AN13)","v":1},{"$f":"AO13/(AQ4-AO9)","v":0.1},{"$f":"IF(AP13=0,0,(AP13*((LOG(AP13))/LOG(2))))","v":-0.33219280948873625},null,{"$f":"N13","v":221},{"$f":"COUNTIF(L71:L83,AS13)","v":1},{"$f":"AT13/(AV4-AT9)","v":0.16666666666666666},{"$f":"IF(AU13=0,0,(AU13*((LOG(AU13))/LOG(2))))","v":-0.43082708345352599}]
[22,13020,23,13031,24,13037,null,null,null,null,0,222,null,222,{"$f":"COUNTIF($L$7:$L$500,N14)","v":6},{"$f":"O14/$Q$4","v":7.792207792207792E-2},{"$f":"IF(P14=0,0,(P14*((LOG(P14))/LOG(2))))","v":-0.28689537973821388},null,null,{"$f":"N14","v":222},{"$f":"COUNTIF(L7:L19,T14)","v":2},{"$f":"U14/(W4-U9)","v":0.2},{"$f":"IF(V14=0,0,(V14*((LOG(V14))/LOG(2))))","v":-0.46438561897747244},null,{"$f":"N14","v":222},{"$f":"COUNTIF(L20:L32,Y14)","v":3},{"$f":"Z14/(AB4-Z9)","v":0.3},{"$f":"IF(AA14=0,0,(AA14*((LOG(AA14))/LOG(2))))","v":-0.52108967824986185},null,{"$f":"N14","v":222},{"$f":"COUNTIF(L33:L44,AD14)","v":0},{"$f":"AE14/(AG4-AE9)","v":0},{"$f":"IF(AF14=0,0,(AF14*((LOG(AF14))/LOG(2))))","v":0},null,{"$f":"N14","v":222},{"$f":"COUNTIF(L45:L57,AI14)","v":0},{"$f":"AJ14/(AL4-AJ9)","v":0},{"$f":"IF(AK14=0,0,(AK14*((LOG(AK14))/LOG(2))))","v":0},null,{"$f":"N14","v":222},{"$f":"COUNTIF(L58:L70,AN14)","v":1},{"$f":"AO14/(AQ4-AO9)","v":0.1},{"$f":"IF(AP14=0,0,(AP14*((LOG(AP14))/LOG(2))))","v":-0.33219280948873625},null,{"$f":"N14","v":222},{"$f":"COUNTIF(L71:L83,AS14)","v":0},{"$f":"AT14/(AV4-AT9)","v":0},{"$f":"IF(AU14=0,0,(AU14*((LOG(AU14))/LOG(2))))","v":0}]
[22,13133,14,13153,13,13161,null,null,null,null,0,211,null,null,null,{"$f":"SUM(P7:P14)","v":1},{"$f":"-SUM(Q7:Q14)","v":2.7166484033406961},null,null,null,null,{"$f":"SUM(V7:V14)","v":1},{"$f":"-SUM(W7:W14)","v":2.3219280948873626},null,null,null,{"$f":"SUM(AA7:AA14)","v":1},{"$f":"-SUM(AB7:AB14)","v":2.4464393446710155},null,null,null,{"$f":"SUM(AF7:AF14)","v":1},{"$f":"-SUM(AG7:AG14)","v":1.9182958340544891},null,null,null,{"$f":"SUM(AK7:AK14)","v":0.99999999999999989},{"$f":"-SUM(AL7:AL14)","v":2.4464393446710155},null,null,null,{"$f":"SUM(AP7:AP14)","v":0.99999999999999989},{"$f":"-SUM(AQ7:AQ14)","v":1.9609640474436814},null,null,null,{"$f":"SUM(AU7:AU14)","v":0.99999999999999989},{"$f":"-SUM(AV7:AV14)","v":2.2516291673878226}]
[22,13283,14,13305,24,13322,null,null,null,null,0,212,null,null,null,"U=",{"$f":"Q15/(LOG(Q4)/LOG(2))","v":0.43349943159855209},null,null,null,null,"U1=",{"$f":"W15/(LOG(W4)/LOG(2))","v":0.62747356307530344},null,null,null,"U2=",{"$f":"AB15/(LOG(AB4)/LOG(2))","v":0.66112125342227679},null,null,null,"U3=",{"$f":"AG15/(LOG(AG4)/LOG(2))","v":0.53509509058145011},null,null,null,"U4=",{"$f":"AL15/(LOG(AL4)/LOG(2))","v":0.66112125342227679},null,null,null,"U5=",{"$f":"AQ15/(LOG(AQ4)/LOG(2))","v":0.52992730507950747},null,null,null,"U6=",{"$f":"AV15/(LOG(AV4)/LOG(2))","v":0.60847611064960772}]
[11,13422,21,13430,11,13449,null,null,null,null,0,121]
[11,13592,21,13599,22,13605,null,null,null,null,0,122]
[11,13843,21,13849,11,13865,null,null,null,null,0,121,null,"Total Target Seq"]
[11,14083,12,14105,24,14127,null,null,null,null,0,112,null,{"$f":"COUNTIF(L7:L83,G3)","v":25},null,13,13,12,13,13,13]
[22,14228,23,14235,24,14242,null,null,null,null,0,222,null,null,null,"% of reinforcement given in 6 equal intervals based on number of trials "]
[11,14339,12,14360,13,14374,null,null,null,null,0,111,null,null,null,"%_1","%_2","%_3","%_4","%_5","%_6"]
[22,14488,14,14507,24,14528,null,null,null,null,0,212,null,null,"target sequence",{"$f":"$G$3","v":121},{"$f":"$G$3","v":121},{"$f":"$G$3","v":121},{"$f":"$G$3","v":121},{"$f":"$G$3","v":121},{"$f":"$G$3","v":121}]
[11,14623,12,14639,13,14647,null,null,null,null,0,111,null,null,"total reinforcement",{"$f":"U9","v":3},{"$f":"Z9","v":3},{"$f":"AE9","v":6},{"$f":"AJ9","v":3},{"$f":"AO9","v":3},{"$f":"AT9","v":7}]
[22,14744,23,14750,24,14756,null,null,null,null,0,222,null,null,"% target"]
[11,14851,21,14857,22,14861,null,null,null,null,0,122,null,null,"CCRF"]
[22,14970,23,14980,24,14988,null,null,null,null,0,222,null,null,"% CCRf"]
[22,15093,14,15113,24,15128,null,null,null,null,0,212,null,null,"average response rate",{"$f":"F19/P20","v":1066.5384615384614},{"$f":"(F32-F19)/Q20","v":145.69230769230768},{"$f":"(F44-F32)/R20","v":161.25},{"$f":"(F57-F44)/S20","v":143.38461538461539},{"$f":"(F70-F57)/T20","v":165.38461538461539},{"$f":"(F83-F70)/U20","v":171}]
[22,15233,14,15248,13,15259,null,null,null,null,0,211]
[11,15354,21,15362,11,15372,null,null,null,null,0,121]
[11,15580,21,15590,11,15599,null,null,null,null,0,121]
[11,15736,21,15744,11,15759,null,null,null,null,0,121]
[11,15933,21,15940,11,15955,null,null,null,null,0,121]
[11,16149,21,16156,22,16162,null,null,null,null,0,122]
[22,16267,14,16283,24,16294,null,null,null,null,0,212]
[11,16393,12,16413,24,16430,null,null,null,null,0,112]
[11,16528,21,16536,11,16551,null,null,null,null,0,121]
[11,16663,21,16671,11,16687,null,null,null,null,0,121]
[11,16866,21,16873,11,16896,null,null,null,null,0,121]
[11,17094,21,17100,11,17121,null,null,null,null,0,121]
[11,17297,21,17308,22,17311,null,null,null,null,0,122]
[22,17428,23,17432,13,17449,null,null,null,null,0,221]
[22,17555,23,17559,13,17570,null,null,null,null,0,221]
[11,17670,21,17678,11,17694,null,null,null,null,0,121]
[11,17800,21,17808,22,17812,null,null,null,null,0,122]
[11,17910,21,17920,22,17936,null,null,null,null,0,122]
[11,18049,21,18057,11,18072,null,null,null,null,0,121]
[22,18231,23,18233,13,18246,null,null,null,null,0,221]
[22,18389,14,18409,24,18417,null,null,null,null,0,212]
[11,18511,12,18529,24,18544,null,null,null,null,0,112]
[11,18648,12,18669,13,18679,null,null,null,null,0,111]
[22,18818,14,18854,13,18862,null,null,null,null,0,211]
[11,18956,12,18974,13,18982,null,null,null,null,0,111]
[11,19088,12,19105,24,19120,null,null,null,null,0,112]
[11,19223,12,19243,13,19251,null,null,null,null,0,111]
[11,19355,21,19365,11,19379,null,null,null,null,0,121]
[11,19538,21,19547,11,19558,null,null,null,null,0,121]
[11,19735,21,19743,22,19748,null,null,null,null,0,122]
[22,19847,23,19855,24,19862,null,null,null,null,0,222]
[11,19964,21,19970,11,19985,null,null,null,null,0,121]
[11,20214,21,20223,22,20228,null,null,null,null,0,122]
[11,20327,21,20335,11,20354,null,null,null,null,0,121]
[11,20710,21,20718,22,20723,null,null,null,null,0,122]
[11,20856,12,20863,13,20900,null,null,null,null,0,111]
[11,20998,21,21003,11,21014,null,null,null,null,0,121]
[11,21167,21,21179,22,21183,null,null,null,null,0,122]
[11,21296,12,21321,13,21327,null,null,null,null,0,111]
[11,21438,21,21444,22,21448,null,null,null,null,0,122]
[22,21549,14,21569,13,21579,null,null,null,null,0,211]
[22,21684,23,21691,13,21708,null,null,null,null,0,221]
[22,21925,14,21950,24,21960,null,null,null,null,0,212]
[11,22069,21,22078,11,22096,null,null,null,null,0,121]
[11,22276,21,22286,11,22296,null,null,null,null,0,121]
[22,22491,23,22496,13,22511,null,null,null,null,0,221]
[11,22609,21,22617,11,22632,null,null,null,null,0,121]
[11,22812,12,22832,13,22850,null,null,null,null,0,111]
[11,22951,21,22960,11,22970,null,null,null,null,0,121]
[11,23119,21,23127,11,23138,null,null,null,null,0,121]
[11,23349,21,23358,22,23359,null,null,null,null,0,122]
[11,23457,12,23486,24,23507,null,null,null,null,0,112]
[11,23618,21,23626,11,23637,null,null,null,null,0,121]
[11,23783,21,23790,22,23798,null,null,null,null,0,122]
[11,23903,21,23912,11,23931,null,null,null,null,1,121]