{"text_format":"1","workbook":"xlsx","n_sheets":34,"sheets":["Sample Report","Summary","Start","!LB04A45.. d","!LB05945.. d","!LB06945.. d","!LB07C15.. d","!LB08955.. d","!LB09A45..Du","!LB10A55..Du","!LB11A05..Du","!LB12A05..Du","!LB12A15..Du","!LB13A25..Du","!LB14B15..Du","!LB15A25..Du","!LB16A15..Du","!LB17A05..Du","!LB18A05..Du","!LB19C55..Du","!LB20A15..Du","!LB21B05..Du","!LB22A45..Du","!LB23A45..Du","!LB24A05..Du","!LB25955..Du","!LB26945..Du","!LB27A55..Du","!LB28B05..Du","!LB29955..Du","!LB30955..Du","!LC01B15..Du","!LC02955..Du","!LC03A35..Du"],"not_rendered":{"charts":0,"images":0,"macros":1,"external_links":0,"defined_names":0,"comments":0,"pivot_tables":0},"unopened":[],"bounds":{"document_bytes":16777216,"sheet_cells":100000,"rows_first":2000,"rows_last":500,"rows_between":2000,"halvings":0,"cell_chars":16384,"cell_head_chars":4096},"cells_cut":0,"cells_raw":0,"read":"whole","date_system":"1900"}

{"sheet":"Sample Report","index":0,"n_rows":12,"n_cols":11,"rows_kept":12,"cut":false,"hidden":true,"merged":[[7,0,7,6]]}
[]
["Date"]
["Hen"]
["Program"]
["Start at 999999"]
["Sequence component 1","Time 1","Seqeunce Component 2","Time 2","Seqeunce Component 3","Time 3","Correct   0 = No 1=Yes",null,null,"Seqeunce","Time"]
[12,7,12,42,13,18,"if 77 new line,                                  if 31 or 41 = yes new line on 77, ",null,null,"=string of Seqeunce compponent 1, 2 & 3","=time 3"]
["This continues until ther is a 1 on its own to indicate start of summary data"]
[null,null,null,null,null,null,null,null,null,"10-19 =1"]
["Summary Data ",null,null,null,null,null,null,null,null,"20-29 =2"]
["Correct","Incorrect","Rft","total","Av Correct","Av Incorrect","Percent correct","Time",null,"in this example the seqeunce would be 111"]
[40,33,40,73,23.95,15,54,806]

{"sheet":"Summary","index":1,"n_rows":33,"n_cols":24,"rows_kept":33,"cut":false,"hidden":false,"merged":[]}
[]
["Day","Date","Average Response Rate","Target %","RF for non correct sequence","U Value",null,null,null,null,"Block 1","Block 2","Block 3","Block 4","Block 5","Block 6"]
[1,{"$f":"'!LB04A45.. d'!B2:C2","v":"<date>"},{"$f":"('!LB04A45.. d'!H174/60)/'!LB04A45.. d'!Q3","v":2.3660714285714284},{"$f":"'!LB04A45.. d'!N28/'!LB04A45.. d'!Q3","v":5.9523809523809521E-3},{"$f":"SUM('!LB04A45.. d'!L28:Q28)/'!LB04A45.. d'!Q3","v":7.0178571428571432},{"$f":"'!LB04A45.. d'!Q24","v":0.33945063869818709},null,null,null,"Average Response Rate",{"$f":"AVERAGE(C3:C7)","v":2.3629891781852823},{"$f":"AVERAGE(C8:C12)","v":2.249164121135407},{"$f":"AVERAGE(C13:C17)","v":2.3315674500055765},{"$f":"AVERAGE(C18:C22)","v":2.3726073091305859},{"$f":"AVERAGE(C23:C27)","v":2.371350625289486},{"$f":"AVERAGE(C28:C32)","v":2.3458716719568176}]
[2,{"$f":"'!LB05945.. d'!B2:C2","v":"<date>"},{"$f":"('!LB05945.. d'!H176/60)/'!LB05945.. d'!Q3","v":2.3431372549019605},{"$f":"'!LB05945.. d'!N28/'!LB05945.. d'!Q3","v":1.1764705882352941E-2},{"$f":"SUM('!LB05945.. d'!L28:Q28)/'!LB05945.. d'!Q3","v":12.764705882352942},{"$f":"'!LB05945.. d'!Q24","v":0.30080136672748631},null,null,null,"Target %",{"$f":"AVERAGE(D3:D7)","v":3.5434173669467786E-3},{"$f":"AVERAGE(D8:D12)","v":2.3671954336940155E-3},{"$f":"AVERAGE(D13:D17)","v":0},{"$f":"AVERAGE(D18:D22)","v":1.1627906976744186E-3},{"$f":"AVERAGE(D23:D27)","v":0},{"$f":"AVERAGE(D28:D32)","v":0}]
[3,{"$f":"'!LB06945.. d'!B2:C2","v":"<date>"},{"$f":"('!LB06945.. d'!H178/60)/'!LB06945.. d'!Q3","v":2.3137596899224806},{"$f":"'!LB06945.. d'!N28/'!LB06945.. d'!Q3","v":0},{"$f":"SUM('!LB06945.. d'!L28:Q28)/'!LB06945.. d'!Q3","v":12.604651162790697},{"$f":"'!LB06945.. d'!Q24","v":0.24984818187603405},null,null,null,"CCRF",{"$f":"AVERAGE(E3:E7)","v":10.54313357713605},{"$f":"AVERAGE(E8:E12)","v":12.627425472189659},{"$f":"AVERAGE(E13:E17)","v":9.4163055027331168},{"$f":"AVERAGE(E18:E22)","v":9.4066250608813924},{"$f":"AVERAGE(E23:E27)","v":13.888086356852451},{"$f":"AVERAGE(E28:E32)","v":12.132678051847243}]
[4,{"$f":"'!LB07C15.. d'!B2:C2","v":"<date>"},{"$f":"('!LB07C15.. d'!H180/60)/'!LB07C15.. d'!Q3","v":2.2872605363984677},{"$f":"'!LB07C15.. d'!N28/'!LB07C15.. d'!Q3","v":0},{"$f":"SUM('!LB07C15.. d'!L28:Q28)/'!LB07C15.. d'!Q3","v":6.7183908045977008},{"$f":"'!LB07C15.. d'!Q24","v":0.22870485934331256},null,null,null,"U Value",{"$f":"AVERAGE(F3:F7)","v":0.28386513345673775},{"$f":"AVERAGE(F8:F12)","v":0.32729738960128779},{"$f":"AVERAGE(F13:F17)","v":0.28884537750602762},{"$f":"AVERAGE(F18:F22)","v":0.25532676683943012},{"$f":"AVERAGE(F23:F27)","v":0.18078592351987341},{"$f":"AVERAGE(F28:F32)","v":0.1543913712453171}]
[5,{"$f":"'!LB08955.. d'!B2:C2","v":"<date>"},{"$f":"('!LB08955.. d'!H164/60)/'!LB08955.. d'!Q3","v":2.5047169811320753},{"$f":"'!LB08955.. d'!N28/'!LB08955.. d'!Q3","v":0},{"$f":"SUM('!LB08955.. d'!L28:Q28)/'!LB08955.. d'!Q3","v":13.610062893081761},{"$f":"'!LB08955.. d'!Q24","v":0.30052062063866858}]
[6,{"$f":"'!LB09A45..Du'!B2:C2","v":"<date>"},{"$f":"('!LB09A45..Du'!H69/60)/'!LB09A45..Du'!Q3","v":2.1407407407407408},{"$f":"'!LB09A45..Du'!N28/'!LB09A45..Du'!Q3","v":0},{"$f":"SUM('!LB09A45..Du'!L28:Q28)/'!LB09A45..Du'!Q3","v":35.603174603174601},{"$f":"'!LB09A45..Du'!Q24","v":0.34984246069771585}]
[7,{"$f":"'!LB10A55..Du'!B2:C2","v":"<date>"},{"$f":"('!LB10A55..Du'!H173/60)/'!LB10A55..Du'!Q3","v":2.38562874251497},{"$f":"'!LB10A55..Du'!N28/'!LB10A55..Du'!Q3","v":5.9880239520958087E-3},{"$f":"SUM('!LB10A55..Du'!L28:Q28)/'!LB10A55..Du'!Q3","v":13.047904191616766},{"$f":"'!LB10A55..Du'!Q24","v":0.33150874373368883},{"$f":"K3","v":2.3629891781852823},{"$f":"L3","v":2.249164121135407},2.3315674500055765,2.3726073091305859,2.371350625289486,2.3458716719568176,{"$f":"K4","v":3.5434173669467786E-3},{"$f":"L4","v":2.3671954336940155E-3},0,1.1627906976744186E-3,0,0,{"$f":"K6","v":0.28386513345673775},{"$f":"L6","v":0.32729738960128779},0.28884537750602762,0.25532676683943012,0.18078592351987341,0.1543913712453171]
[8,{"$f":"'!LB11A05..Du'!B2:C2","v":"<date>"},{"$f":"('!LB11A05..Du'!H177/60)/'!LB11A05..Du'!Q3","v":2.3378167641325533},{"$f":"'!LB11A05..Du'!N28/'!LB11A05..Du'!Q3","v":5.8479532163742687E-3},{"$f":"SUM('!LB11A05..Du'!L28:Q28)/'!LB11A05..Du'!Q3","v":7.4853801169590639},{"$f":"'!LB11A05..Du'!Q24","v":0.3007018484897151},{"$f":"STDEV($C3:$C7)","v":8.4629691827259698E-2},{"$f":"STDEV($C8:$C12)","v":0.11746040158646395},{"$f":"STDEV($C13:$C17)","v":1.8491475160416576E-2},{"$f":"STDEV($C18:$C22)","v":7.9455824604337588E-2},{"$f":"STDEV($C23:$C27)","v":0.12773779284557746},{"$f":"STDEV($C28:$C32)","v":5.4117128078135672E-2},{"$f":"STDEV($D3:$D7)","v":5.2692530381126422E-3},{"$f":"STDEV($D8:$D12)","v":3.2417941238327532E-3},{"$f":"STDEV($D13:$D17)","v":0},{"$f":"STDEV($D18:$D22)","v":2.6000790436044065E-3},{"$f":"STDEV($D23:$D27)","v":0},{"$f":"STDEV($D28:$D32)","v":0},{"$f":"STDEV($F3:$F7)","v":4.4310829598214231E-2},{"$f":"STDEV($F8:$F12)","v":0.10547456657502109},{"$f":"STDEV($F13:$F17)","v":4.1293934718989733E-2},{"$f":"STDEV($F18:$F22)","v":2.0727778923027768E-2},{"$f":"STDEV($F23:$F27)","v":2.2420113303481513E-2},{"$f":"STDEV($F28:$F32)","v":3.0143235695211521E-2}]
[9,{"$f":"'!LB12A05..Du'!B2:C2","v":"<date>"},{"$f":"('!LB12A05..Du'!H23/60)/'!LB12A05..Du'!Q3","v":2.1196078431372549},{"$f":"'!LB12A05..Du'!N28/'!LB12A05..Du'!Q3","v":0},{"$f":"SUM('!LB12A05..Du'!L28:Q28)/'!LB12A05..Du'!Q3","v":0.35294117647058826},{"$f":"'!LB12A05..Du'!Q24","v":0.47429887249184527}]
[10,{"$f":"'!LB12A15..Du'!B2:C2","v":"<date>"},{"$f":"('!LB12A15..Du'!H181/60)/'!LB12A15..Du'!Q3","v":2.2620265151515153},{"$f":"'!LB12A15..Du'!N28/'!LB12A15..Du'!Q3","v":0},{"$f":"SUM('!LB12A15..Du'!L28:Q28)/'!LB12A15..Du'!Q3","v":6.6477272727272725},{"$f":"'!LB12A15..Du'!Q24","v":0.18013502259347391}]
[11,{"$f":"'!LB13A25..Du'!B2:C2","v":"<date>"},{"$f":"('!LB13A25..Du'!H177/60)/'!LB13A25..Du'!Q3","v":2.3342105263157893},{"$f":"'!LB13A25..Du'!N28/'!LB13A25..Du'!Q3","v":0},{"$f":"SUM('!LB13A25..Du'!L28:Q28)/'!LB13A25..Du'!Q3","v":6.8304093567251458},{"$f":"'!LB13A25..Du'!Q24","v":0.22449507560357312}]
[12,{"$f":"'!LB14B15..Du'!B2:C2","v":"<date>"},{"$f":"('!LB14B15..Du'!H178/60)/'!LB14B15..Du'!Q3","v":2.3254844961240311},{"$f":"'!LB14B15..Du'!N28/'!LB14B15..Du'!Q3","v":0},{"$f":"SUM('!LB14B15..Du'!L28:Q28)/'!LB14B15..Du'!Q3","v":12.668604651162791},{"$f":"'!LB14B15..Du'!Q24","v":0.29728667243729201}]
[13,{"$f":"'!LB15A25..Du'!B2:C2","v":"<date>"},{"$f":"('!LB15A25..Du'!H177/60)/'!LB15A25..Du'!Q3","v":2.3247563352826512},{"$f":"'!LB15A25..Du'!N28/'!LB15A25..Du'!Q3","v":0},{"$f":"SUM('!LB15A25..Du'!L28:Q28)/'!LB15A25..Du'!Q3","v":13.263157894736842},{"$f":"'!LB15A25..Du'!Q24","v":0.28987155724895963}]
[14,{"$f":"'!LB16A15..Du'!B2:C2","v":"<date>"},{"$f":"('!LB16A15..Du'!H179/60)/'!LB16A15..Du'!Q3","v":2.3119460500963389},{"$f":"'!LB16A15..Du'!N28/'!LB16A15..Du'!Q3","v":0},{"$f":"SUM('!LB16A15..Du'!L28:Q28)/'!LB16A15..Du'!Q3","v":6.7572254335260116},{"$f":"'!LB16A15..Du'!Q24","v":0.29281953780726611}]
[15,{"$f":"'!LB17A05..Du'!B2:C2","v":"<date>"},{"$f":"('!LB17A05..Du'!H175/60)/'!LB17A05..Du'!Q3","v":2.361439842209073},{"$f":"'!LB17A05..Du'!N28/'!LB17A05..Du'!Q3","v":0},{"$f":"SUM('!LB17A05..Du'!L28:Q28)/'!LB17A05..Du'!Q3","v":7.5621301775147929},{"$f":"'!LB17A05..Du'!Q24","v":0.33975404443304735}]
[16,{"$f":"'!LB18A05..Du'!B2:C2","v":"<date>"},{"$f":"('!LB18A05..Du'!H176/60)/'!LB18A05..Du'!Q3","v":2.3452941176470588},{"$f":"'!LB18A05..Du'!N28/'!LB18A05..Du'!Q3","v":0},{"$f":"SUM('!LB18A05..Du'!L28:Q28)/'!LB18A05..Du'!Q3","v":13.405882352941177},{"$f":"'!LB18A05..Du'!Q24","v":0.27653407149319531}]
[17,{"$f":"'!LB19C55..Du'!B2:C2","v":"<date>"},{"$f":"('!LB19C55..Du'!H178/60)/'!LB19C55..Du'!Q3","v":2.3171511627906978},{"$f":"'!LB19C55..Du'!N28/'!LB19C55..Du'!Q3","v":5.8139534883720929E-3},{"$f":"SUM('!LB19C55..Du'!L28:Q28)/'!LB19C55..Du'!Q3","v":6.7965116279069768},{"$f":"'!LB19C55..Du'!Q24","v":0.26845255015965408}]
[18,{"$f":"'!LB20A15..Du'!B2:C2","v":"<date>"},{"$f":"('!LB20A15..Du'!H175/60)/'!LB20A15..Du'!Q3","v":2.3648915187376729},{"$f":"'!LB20A15..Du'!N28/'!LB20A15..Du'!Q3","v":0},{"$f":"SUM('!LB20A15..Du'!L28:Q28)/'!LB20A15..Du'!Q3","v":6.9053254437869827},{"$f":"'!LB20A15..Du'!Q24","v":0.24895956308223127}]
[19,{"$f":"'!LB21B05..Du'!B2:C2","v":"<date>"},{"$f":"('!LB21B05..Du'!H165/60)/'!LB21B05..Du'!Q3","v":2.5107966457023059},{"$f":"'!LB21B05..Du'!N28/'!LB21B05..Du'!Q3","v":0},{"$f":"SUM('!LB21B05..Du'!L28:Q28)/'!LB21B05..Du'!Q3","v":7.3207547169811322},{"$f":"'!LB21B05..Du'!Q24","v":0.25957759414634574}]
[20,{"$f":"'!LB22A45..Du'!B2:C2","v":"<date>"},{"$f":"('!LB22A45..Du'!H178/60)/'!LB22A45..Du'!Q3","v":2.3249031007751939},{"$f":"'!LB22A45..Du'!N28/'!LB22A45..Du'!Q3","v":0},{"$f":"SUM('!LB22A45..Du'!L28:Q28)/'!LB22A45..Du'!Q3","v":12.604651162790697},{"$f":"'!LB22A45..Du'!Q24","v":0.22311005531572445}]
[21,{"$f":"'!LB23A45..Du'!B2:C2","v":"<date>"},{"$f":"('!LB23A45..Du'!H181/60)/'!LB23A45..Du'!Q3","v":2.2842857142857143},{"$f":"'!LB23A45..Du'!N28/'!LB23A45..Du'!Q3","v":0},{"$f":"SUM('!LB23A45..Du'!L28:Q28)/'!LB23A45..Du'!Q3","v":6.68},{"$f":"'!LB23A45..Du'!Q24","v":0.1738011370560619}]
[22,{"$f":"'!LB24A05..Du'!B2:C2","v":"<date>"},{"$f":"('!LB24A05..Du'!H133/60)/'!LB24A05..Du'!Q3","v":2.5887139107611548},{"$f":"'!LB24A05..Du'!N28/'!LB24A05..Du'!Q3","v":0},{"$f":"SUM('!LB24A05..Du'!L28:Q28)/'!LB24A05..Du'!Q3","v":17.826771653543307},{"$f":"'!LB24A05..Du'!Q24","v":0.21719445160095438}]
[23,{"$f":"'!LB25955..Du'!B2:C2","v":"<date>"},{"$f":"('!LB25955..Du'!H132/60)/'!LB25955..Du'!Q3","v":2.2742063492063491},{"$f":"'!LB25955..Du'!N28/'!LB25955..Du'!Q3","v":0},{"$f":"SUM('!LB25955..Du'!L28:Q28)/'!LB25955..Du'!Q3","v":17.968253968253968},{"$f":"'!LB25955..Du'!Q24","v":0.17657922017963576}]
[24,{"$f":"'!LB26945..Du'!B2:C2","v":"<date>"},{"$f":"('!LB26945..Du'!H176/60)/'!LB26945..Du'!Q3","v":2.3397058823529413},{"$f":"'!LB26945..Du'!N28/'!LB26945..Du'!Q3","v":0},{"$f":"SUM('!LB26945..Du'!L28:Q28)/'!LB26945..Du'!Q3","v":13.405882352941177},{"$f":"'!LB26945..Du'!Q24","v":0.18043774492439502}]
[25,{"$f":"'!LB27A55..Du'!B2:C2","v":"<date>"},{"$f":"('!LB27A55..Du'!H173/60)/'!LB27A55..Du'!Q3","v":2.3698412698412699},{"$f":"'!LB27A55..Du'!N28/'!LB27A55..Du'!Q3","v":0},{"$f":"SUM('!LB27A55..Du'!L28:Q28)/'!LB27A55..Du'!Q3","v":13.55952380952381},{"$f":"'!LB27A55..Du'!Q24","v":0.15591706383832002}]
[26,{"$f":"'!LB28B05..Du'!B2:C2","v":"<date>"},{"$f":"('!LB28B05..Du'!H177/60)/'!LB28B05..Du'!Q3","v":2.3215399610136451},{"$f":"'!LB28B05..Du'!N28/'!LB28B05..Du'!Q3","v":0},{"$f":"SUM('!LB28B05..Du'!L28:Q28)/'!LB28B05..Du'!Q3","v":13.327485380116959},{"$f":"'!LB28B05..Du'!Q24","v":0.19090359551447802}]
[27,{"$f":"'!LB29955..Du'!B2:C2","v":"<date>"},{"$f":"('!LB29955..Du'!H176/60)/'!LB29955..Du'!Q3","v":2.3459803921568629},{"$f":"'!LB29955..Du'!N28/'!LB29955..Du'!Q3","v":0},{"$f":"SUM('!LB29955..Du'!L28:Q28)/'!LB29955..Du'!Q3","v":13.405882352941177},{"$f":"'!LB29955..Du'!Q24","v":0.16404320006285558}]
[28,{"$f":"'!LB30955..Du'!B2:C2","v":"<date>"},{"$f":"('!LB30955..Du'!H180/60)/'!LB30955..Du'!Q3","v":2.2906130268199232},{"$f":"'!LB30955..Du'!N28/'!LB30955..Du'!Q3","v":0},{"$f":"SUM('!LB30955..Du'!L28:Q28)/'!LB30955..Du'!Q3","v":6.7183908045977008},{"$f":"'!LB30955..Du'!Q24","v":0.13482661275414581}]
[29,{"$f":"'!LC01B15..Du'!B2:C2","v":"<date>"},{"$f":"('!LC01B15..Du'!H177/60)/'!LC01B15..Du'!Q3","v":2.3360623781676413},{"$f":"'!LC01B15..Du'!N28/'!LC01B15..Du'!Q3","v":0},{"$f":"SUM('!LC01B15..Du'!L28:Q28)/'!LC01B15..Du'!Q3","v":13.327485380116959},{"$f":"'!LC01B15..Du'!Q24","v":0.11396593086425301}]
[30,{"$f":"'!LC02955..Du'!B2:C2","v":"<date>"},{"$f":"('!LC02955..Du'!H170/60)/'!LC02955..Du'!Q3","v":2.4351626016260162},{"$f":"'!LC02955..Du'!N28/'!LC02955..Du'!Q3","v":0},{"$f":"SUM('!LC02955..Du'!L28:Q28)/'!LC02955..Du'!Q3","v":13.884146341463415},{"$f":"'!LC02955..Du'!Q24","v":0.16821751703085305}]
[null,{"$f":"'!LC03A35..Du'!B2:C2","v":"<date>"},{"$f":"('!LC03A35..Du'!H178/60)/'!LC03A35..Du'!Q3","v":2.3008670520231216},{"$f":"'!LC03A35..Du'!N28/'!LC03A35..Du'!Q3","v":0},{"$f":"SUM('!LC03A35..Du'!L28:Q28)/'!LC03A35..Du'!Q3","v":13.179190751445086},{"$f":"'!LC03A35..Du'!Q24","v":0.15438476423098332}]

{"sheet":"Start","index":2,"n_rows":37,"n_cols":10,"rows_kept":37,"cut":false,"hidden":false,"merged":[]}
[null,null,null,null,null,"Use Folder 51",null,"Auto Clean Up",null,"Correct sequence"]
[null,null,null,null,null,false,null,true,null,2212]
[]
["Working with Folder",null,null,null,null,null,"Process All/Or Pick A number: ALL or an integer"]
["F:\\Possum Chapter\\Raw Data\\Dusti\\Phase 3 RRLR\\",null,null,null,null,null,"ALL"]
["Filenames:"]
["!LB04A45.. d",null,null,null,null,null,"Paint Cells"]
["!LB05945.. d",null,null,null,null,null,false]
["!LB06945.. d"]
["!LB07C15.. d"]
["!LB08955.. d"]
["!LB09A45..Du"]
["!LB10A55..Du"]
["!LB11A05..Du"]
["!LB12A05..Du"]
["!LB12A15..Du"]
["!LB13A25..Du"]
["!LB14B15..Du"]
["!LB15A25..Du"]
["!LB16A15..Du"]
["!LB17A05..Du"]
["!LB18A05..Du"]
["!LB19C55..Du"]
["!LB20A15..Du"]
["!LB21B05..Du"]
["!LB22A45..Du"]
["!LB23A45..Du"]
["!LB24A05..Du"]
["!LB27A55..Du"]
["!LB28B05..Du"]
["!LB25955..Du"]
["!LB26945..Du"]
["!LB29955..Du"]
["!LB30955..Du"]
["!LC01B15..Du"]
["!LC02955..Du"]
["!LC03A35..Du"]

{"sheet":"!LB04A45.. d","index":3,"n_rows":174,"n_cols":48,"rows_kept":174,"cut":false,"hidden":false,"merged":[[1,1,1,2],[5,13,5,14],[26,13,26,14],[27,13,27,14],[4,19,4,22],[5,19,5,20],[4,39,4,42],[5,39,5,40],[4,44,4,47],[5,44,5,45],[4,24,4,27],[5,24,5,25],[4,29,4,32],[5,29,5,30],[4,34,4,37],[5,34,5,35]]}
["Report for:!LB04A45.. d"]
["Date:","<date>"]
["Hen:","<hen>",null,null,null,"Correct Sequence",{"$f":"Start!J2","v":2212},null,null,null,null,null,null,null,null,"Total Sequences in Data",{"$f":"4994-COUNTBLANK(L7:L5000)","v":168},null,null,null,null,"Total Sequences in Block Data",{"$f":"COUNTA(L7:L34)","v":28},null,null,null,"Total Sequences in Block Data",{"$f":"COUNTA(L35:L62)","v":28},null,null,null,"Total Sequences in Block Data",{"$f":"COUNTA(L63:L90)","v":28},null,null,null,"Total Sequences in Block Data",{"$f":"COUNTA(L91:L118)","v":28},null,null,null,"Total Sequences in Block Data",{"$f":"COUNTA(L119:L146)","v":28},null,null,null,"Total Sequences in Block Data",{"$f":"COUNTA(L147:L174)","v":28}]
[null,null,null,null,null,null,null,null,null,null,null,null,null,null,null,"Total Sequences in Summary",{"$f":"SUM(O7:O22)","v":168},null,null,null,null,"Total Sequences in Block Summary",{"$f":"SUM(U7:U22)","v":28},null,null,null,"Total Sequences in Block Summary",{"$f":"SUM(Z7:Z22)","v":28},null,null,null,"Total Sequences in Block Summary",{"$f":"SUM(AE7:AE22)","v":28},null,null,null,"Total Sequences in Block Summary",{"$f":"SUM(AJ7:AJ22)","v":28},null,null,null,"Total Sequences in Block Summary",{"$f":"SUM(AO7:AO22)","v":28},null,null,null,"Total Sequences in Block Summary",{"$f":"SUM(AT7:AT22)","v":28}]
[null,null,null,null,null,null,null,null,null,null,null,null,null,null,null,null,null,null,null,"Block 1",null,null,null,null,"Block 2",null,null,null,null,"Block 3",null,null,null,null,"Block 4",null,null,null,null,"Block 5",null,null,null,null,"Block 6"]
["Sequence\nComponent\n1","Time\n1","Sequence\nComponent\n2","Time\n2","Sequence\nComponent\n3","Time\n3","Sequence\nComponent\n4","Time\n4","Sequence\nComponent\n5","Time\n5","Correct?\n0=No 1=Yes","Sequence",null,"Frequency",null,"Relative Frequency","Variability",null,null,"Frequency",null,"Relative Frequency","Variability",null,"Frequency",null,"Relative Frequency","Variability",null,"Frequency",null,"Relative Frequency","Variability",null,"Frequency",null,"Relative Frequency","Variability",null,"Frequency",null,"Relative Frequency","Variability",null,"Frequency",null,"Relative Frequency","Variability"]
[12,15,23,28,24,35,23,45,null,null,0,1222,null,1111,{"$f":"COUNTIF($L$7:$L$500,N7)","v":33},{"$f":"O7/$Q$4","v":0.19642857142857142},{"$f":"IF(P7=0,0,(P7*((LOG(P7))/LOG(2))))","v":-0.46119922031470312},null,null,{"$f":"N7","v":1111},{"$f":"COUNTIF(L7:L34,T7)","v":2},{"$f":"U7/(W4-U20)","v":7.1428571428571425E-2},{"$f":"IF(V7=0,0,(V7*((LOG(V7))/LOG(2))))","v":-0.27195392300411453},null,{"$f":"N7","v":1111},{"$f":"COUNTIF(L35:L62,Y7)","v":3},{"$f":"Z7/(AB4-Z20)","v":0.1111111111111111},{"$f":"IF(AA7=0,0,(AA7*((LOG(AA7))/LOG(2))))","v":-0.3522138890491458},null,{"$f":"N7","v":1111},{"$f":"COUNTIF(L63:L90,AD7)","v":5},{"$f":"AE7/(AG4-AE20)","v":0.17857142857142858},{"$f":"IF(AF7=0,0,(AF7*((LOG(AF7))/LOG(2))))","v":-0.44382621913754317},null,{"$f":"N7","v":1111},{"$f":"COUNTIF(L91:L118,AI7)","v":11},{"$f":"AJ7/(AL4-AJ20)","v":0.39285714285714285},{"$f":"IF(AK7=0,0,(AK7*((LOG(AK7))/LOG(2))))","v":-0.52954129777226344},null,{"$f":"N7","v":1111},{"$f":"COUNTIF(L119:L146,AN7)","v":7},{"$f":"AO7/(AQ4-AO20)","v":0.25},{"$f":"IF(AP7=0,0,(AP7*((LOG(AP7))/LOG(2))))","v":-0.5},null,{"$f":"N7","v":1111},{"$f":"COUNTIF(L147:L174,AS7)","v":5},{"$f":"AT7/(AV4-AT20)","v":0.17857142857142858},{"$f":"IF(AU7=0,0,(AU7*((LOG(AU7))/LOG(2))))","v":-0.44382621913754317}]
[21,140,21,152,11,163,12,169,null,null,0,2211,null,1112,1,5.9523809523809521E-3,-4.4001889421302141E-2,null,null,1112,{"$f":"COUNTIF(L7:L34,T8)","v":1},{"$f":"U8/(W4-U20)","v":3.5714285714285712E-2},-0.17169124721634299,null,1112,{"$f":"COUNTIF(L35:L62,Y8)","v":0},{"$f":"Z8/(AB4-Z20)","v":0},0,null,1112,{"$f":"COUNTIF(L63:L90,AD8)","v":0},{"$f":"AE8/(AG4-AE20)","v":0},0,null,1112,{"$f":"COUNTIF(L91:L118,AI8)","v":0},{"$f":"AJ8/(AL4-AJ20)","v":0},0,null,1112,{"$f":"COUNTIF(L119:L146,AN8)","v":0},{"$f":"AO8/(AQ4-AO20)","v":0},0,null,1112,{"$f":"COUNTIF(L147:L174,AS8)","v":0},{"$f":"AT8/(AV4-AT20)","v":0},0]
[12,266,23,281,24,288,23,289,null,null,0,1222,null,1121,0,0,0,null,null,1121,{"$f":"COUNTIF(L7:L34,T9)","v":0},{"$f":"U9/(W4-U20)","v":0},0,null,1121,{"$f":"COUNTIF(L35:L62,Y9)","v":0},{"$f":"Z9/(AB4-Z20)","v":0},0,null,1121,{"$f":"COUNTIF(L63:L90,AD9)","v":0},{"$f":"AE9/(AG4-AE20)","v":0},0,null,1121,{"$f":"COUNTIF(L91:L118,AI9)","v":0},{"$f":"AJ9/(AL4-AJ20)","v":0},0,null,1121,{"$f":"COUNTIF(L119:L146,AN9)","v":0},{"$f":"AO9/(AQ4-AO20)","v":0},0,null,1121,{"$f":"COUNTIF(L147:L174,AS9)","v":0},{"$f":"AT9/(AV4-AT20)","v":0},0]
[12,384,23,402,24,409,23,411,null,null,0,1222,null,1122,5,2.976190476190476E-2,-0.15090444428248206,null,null,1122,{"$f":"COUNTIF(L7:L34,T10)","v":3},{"$f":"U10/(W4-U20)","v":0.10714285714285714},-0.34525633085747659,null,1122,{"$f":"COUNTIF(L35:L62,Y10)","v":2},{"$f":"Z10/(AB4-Z20)","v":7.407407407407407E-2},-0.27813981497507173,null,1122,{"$f":"COUNTIF(L63:L90,AD10)","v":0},{"$f":"AE10/(AG4-AE20)","v":0},0,null,1122,{"$f":"COUNTIF(L91:L118,AI10)","v":0},{"$f":"AJ10/(AL4-AJ20)","v":0},0,null,1122,{"$f":"COUNTIF(L119:L146,AN10)","v":0},{"$f":"AO10/(AQ4-AO20)","v":0},0,null,1122,{"$f":"COUNTIF(L147:L174,AS10)","v":0},{"$f":"AT10/(AV4-AT20)","v":0},0]
[12,509,23,521,24,526,23,532,null,null,0,1222,null,1211,0,0,0,null,null,1211,{"$f":"COUNTIF(L7:L34,T11)","v":0},{"$f":"U11/(W4-U20)","v":0},0,null,1211,{"$f":"COUNTIF(L35:L62,Y11)","v":0},{"$f":"Z11/(AB4-Z20)","v":0},0,null,1211,{"$f":"COUNTIF(L63:L90,AD11)","v":0},{"$f":"AE11/(AG4-AE20)","v":0},0,null,1211,{"$f":"COUNTIF(L91:L118,AI11)","v":0},{"$f":"AJ11/(AL4-AJ20)","v":0},0,null,1211,{"$f":"COUNTIF(L119:L146,AN11)","v":0},{"$f":"AO11/(AQ4-AO20)","v":0},0,null,1211,{"$f":"COUNTIF(L147:L174,AS11)","v":0},{"$f":"AT11/(AV4-AT20)","v":0},0]
[12,632,23,644,24,650,23,662,null,null,0,1222,null,1212,0,0,0,null,null,1212,{"$f":"COUNTIF(L7:L34,T12)","v":0},{"$f":"U12/(W4-U20)","v":0},0,null,1212,{"$f":"COUNTIF(L35:L62,Y12)","v":0},{"$f":"Z12/(AB4-Z20)","v":0},0,null,1212,{"$f":"COUNTIF(L63:L90,AD12)","v":0},{"$f":"AE12/(AG4-AE20)","v":0},0,null,1212,{"$f":"COUNTIF(L91:L118,AI12)","v":0},{"$f":"AJ12/(AL4-AJ20)","v":0},0,null,1212,{"$f":"COUNTIF(L119:L146,AN12)","v":0},{"$f":"AO12/(AQ4-AO20)","v":0},0,null,1212,{"$f":"COUNTIF(L147:L174,AS12)","v":0},{"$f":"AT12/(AV4-AT20)","v":0},0]
[12,753,14,758,24,768,23,779,null,null,0,1122,null,1221,0,0,0,null,null,1221,{"$f":"COUNTIF(L7:L34,T13)","v":0},{"$f":"U13/(W4-U20)","v":0},0,null,1221,{"$f":"COUNTIF(L35:L62,Y13)","v":0},{"$f":"Z13/(AB4-Z20)","v":0},0,null,1221,{"$f":"COUNTIF(L63:L90,AD13)","v":0},{"$f":"AE13/(AG4-AE20)","v":0},0,null,1221,{"$f":"COUNTIF(L91:L118,AI13)","v":0},{"$f":"AJ13/(AL4-AJ20)","v":0},0,null,1221,{"$f":"COUNTIF(L119:L146,AN13)","v":0},{"$f":"AO13/(AQ4-AO20)","v":0},0,null,1221,{"$f":"COUNTIF(L147:L174,AS13)","v":0},{"$f":"AT13/(AV4-AT20)","v":0},0]
[12,894,14,898,13,907,14,916,null,null,0,1111,null,1222,46,0.27380952380952384,-0.51168304445952606,null,null,1222,{"$f":"COUNTIF(L7:L34,T14)","v":14},{"$f":"U14/(W4-U20)","v":0.5},-0.5,null,1222,{"$f":"COUNTIF(L35:L62,Y14)","v":8},{"$f":"Z14/(AB4-Z20)","v":0.29629629629629628},-0.51996666730769436,null,1222,{"$f":"COUNTIF(L63:L90,AD14)","v":18},{"$f":"AE14/(AG4-AE20)","v":0.6428571428571429},-0.40977637753840174,null,1222,{"$f":"COUNTIF(L91:L118,AI14)","v":3},{"$f":"AJ14/(AL4-AJ20)","v":0.10714285714285714},-0.34525633085747659,null,1222,{"$f":"COUNTIF(L119:L146,AN14)","v":3},{"$f":"AO14/(AQ4-AO20)","v":0.10714285714285714},-0.34525633085747659,null,1222,{"$f":"COUNTIF(L147:L174,AS14)","v":0},{"$f":"AT14/(AV4-AT20)","v":0},0]
[12,1022,23,1034,24,1039,23,1049,null,null,0,1222,null,2111,48,0.2857142857142857,-0.51638712058788683,null,null,2111,{"$f":"COUNTIF(L7:L34,T15)","v":3},{"$f":"U15/(W4-U20)","v":0.10714285714285714},-0.34525633085747659,null,2111,{"$f":"COUNTIF(L35:L62,Y15)","v":5},{"$f":"Z15/(AB4-Z20)","v":0.18518518518518517},-0.45054803838446406,null,2111,{"$f":"COUNTIF(L63:L90,AD15)","v":1},{"$f":"AE15/(AG4-AE20)","v":3.5714285714285712E-2},-0.17169124721634299,null,2111,{"$f":"COUNTIF(L91:L118,AI15)","v":12},{"$f":"AJ15/(AL4-AJ20)","v":0.42857142857142855},-0.52388246628704915,null,2111,{"$f":"COUNTIF(L119:L146,AN15)","v":9},{"$f":"AO15/(AQ4-AO20)","v":0.32142857142857145},-0.5263167601977724,null,2111,{"$f":"COUNTIF(L147:L174,AS15)","v":18},{"$f":"AT15/(AV4-AT20)","v":0.6428571428571429},-0.40977637753840174]
[21,1165,21,1172,22,1178,23,1184,null,null,0,2222,null,2112,1,5.9523809523809521E-3,-4.4001889421302141E-2,null,null,2112,{"$f":"COUNTIF(L7:L34,T16)","v":0},{"$f":"U16/(W4-U20)","v":0},0,null,2112,{"$f":"COUNTIF(L35:L62,Y16)","v":0},{"$f":"Z16/(AB4-Z20)","v":0},0,null,2112,{"$f":"COUNTIF(L63:L90,AD16)","v":0},{"$f":"AE16/(AG4-AE20)","v":0},0,null,2112,{"$f":"COUNTIF(L91:L118,AI16)","v":1},{"$f":"AJ16/(AL4-AJ20)","v":3.5714285714285712E-2},-0.17169124721634299,null,2112,{"$f":"COUNTIF(L119:L146,AN16)","v":0},{"$f":"AO16/(AQ4-AO20)","v":0},0,null,2112,{"$f":"COUNTIF(L147:L174,AS16)","v":0},{"$f":"AT16/(AV4-AT20)","v":0},0]
[12,1281,23,1293,24,1299,23,1312,null,null,0,1222,null,2121,0,0,0,null,null,2121,{"$f":"COUNTIF(L7:L34,T17)","v":0},{"$f":"U17/(W4-U20)","v":0},0,null,2121,{"$f":"COUNTIF(L35:L62,Y17)","v":0},{"$f":"Z17/(AB4-Z20)","v":0},0,null,2121,{"$f":"COUNTIF(L63:L90,AD17)","v":0},{"$f":"AE17/(AG4-AE20)","v":0},0,null,2121,{"$f":"COUNTIF(L91:L118,AI17)","v":0},{"$f":"AJ17/(AL4-AJ20)","v":0},0,null,2121,{"$f":"COUNTIF(L119:L146,AN17)","v":0},{"$f":"AO17/(AQ4-AO20)","v":0},0,null,2121,{"$f":"COUNTIF(L147:L174,AS17)","v":0},{"$f":"AT17/(AV4-AT20)","v":0},0]
[21,1410,21,1432,11,1449,12,1455,null,null,0,2211,null,2122,0,0,0,null,null,2122,{"$f":"COUNTIF(L7:L34,T18)","v":0},{"$f":"U18/(W4-U20)","v":0},0,null,2122,{"$f":"COUNTIF(L35:L62,Y18)","v":0},{"$f":"Z18/(AB4-Z20)","v":0},0,null,2122,{"$f":"COUNTIF(L63:L90,AD18)","v":0},{"$f":"AE18/(AG4-AE20)","v":0},0,null,2122,{"$f":"COUNTIF(L91:L118,AI18)","v":0},{"$f":"AJ18/(AL4-AJ20)","v":0},0,null,2122,{"$f":"COUNTIF(L119:L146,AN18)","v":0},{"$f":"AO18/(AQ4-AO20)","v":0},0,null,2122,{"$f":"COUNTIF(L147:L174,AS18)","v":0},{"$f":"AT18/(AV4-AT20)","v":0},0]
[12,1462,23,1477,24,1480,23,1488,null,null,0,1222,null,2211,16,9.5238095238095233E-2,-0.32307784978845333,null,null,2211,{"$f":"COUNTIF(L7:L34,T19)","v":2},{"$f":"U19/(W4-U20)","v":7.1428571428571425E-2},-0.27195392300411453,null,2211,{"$f":"COUNTIF(L35:L62,Y19)","v":4},{"$f":"Z19/(AB4-Z20)","v":0.14814814814814814},-0.40813148180199532,null,2211,{"$f":"COUNTIF(L63:L90,AD19)","v":0},{"$f":"AE19/(AG4-AE20)","v":0},0,null,2211,{"$f":"COUNTIF(L91:L118,AI19)","v":0},{"$f":"AJ19/(AL4-AJ20)","v":0},0,null,2211,{"$f":"COUNTIF(L119:L146,AN19)","v":5},{"$f":"AO19/(AQ4-AO20)","v":0.17857142857142858},-0.44382621913754317,null,2211,{"$f":"COUNTIF(L147:L174,AS19)","v":5},{"$f":"AT19/(AV4-AT20)","v":0.17857142857142858},-0.44382621913754317]
[12,1593,14,1616,13,1630,14,1642,null,null,0,1111,null,2212,1,5.9523809523809521E-3,-4.4001889421302141E-2,null,null,2212,{"$f":"COUNTIF(L7:L34,T20)","v":0},null,null,null,2212,{"$f":"COUNTIF(L35:L62,Y20)","v":1},null,null,null,2212,{"$f":"COUNTIF(L63:L90,AD20)","v":0},null,null,null,2212,{"$f":"COUNTIF(L91:L118,AI20)","v":0},null,null,null,2212,{"$f":"COUNTIF(L119:L146,AN20)","v":0},null,null,null,2212,{"$f":"COUNTIF(L147:L174,AS20)","v":0}]
[21,1739,12,1754,13,1761,14,1769,null,null,0,2111,null,2221,4,2.3809523809523808E-2,-0.12838851006616095,null,null,2221,{"$f":"COUNTIF(L7:L34,T21)","v":0},{"$f":"U21/(W4-U20)","v":0},{"$f":"IF(V21=0,0,(V21*((LOG(V21))/LOG(2))))","v":0},null,2221,{"$f":"COUNTIF(L35:L62,Y21)","v":0},{"$f":"Z21/(AB4-Z20)","v":0},{"$f":"IF(AA21=0,0,(AA21*((LOG(AA21))/LOG(2))))","v":0},null,2221,{"$f":"COUNTIF(L63:L90,AD21)","v":0},{"$f":"AE21/(AG4-AE20)","v":0},{"$f":"IF(AF21=0,0,(AF21*((LOG(AF21))/LOG(2))))","v":0},null,2221,{"$f":"COUNTIF(L91:L118,AI21)","v":0},{"$f":"AJ21/(AL4-AJ20)","v":0},{"$f":"IF(AK21=0,0,(AK21*((LOG(AK21))/LOG(2))))","v":0},null,2221,{"$f":"COUNTIF(L119:L146,AN21)","v":4},{"$f":"AO21/(AQ4-AO20)","v":0.14285714285714285},{"$f":"IF(AP21=0,0,(AP21*((LOG(AP21))/LOG(2))))","v":-0.40105070315108626},null,2221,{"$f":"COUNTIF(L147:L174,AS21)","v":0},{"$f":"AT21/(AV4-AT20)","v":0},{"$f":"IF(AU21=0,0,(AU21*((LOG(AU21))/LOG(2))))","v":0}]
[12,1897,23,1915,24,1921,23,1932,null,null,0,1222,null,2222,13,7.7380952380952384E-2,-0.28568101285886716,null,null,2222,{"$f":"COUNTIF(L7:L34,T22)","v":3},{"$f":"U22/(W4-U20)","v":0.10714285714285714},{"$f":"IF(V22=0,0,(V22*((LOG(V22))/LOG(2))))","v":-0.34525633085747659},null,2222,{"$f":"COUNTIF(L35:L62,Y22)","v":5},{"$f":"Z22/(AB4-Z20)","v":0.18518518518518517},{"$f":"IF(AA22=0,0,(AA22*((LOG(AA22))/LOG(2))))","v":-0.45054803838446406},null,2222,{"$f":"COUNTIF(L63:L90,AD22)","v":4},{"$f":"AE22/(AG4-AE20)","v":0.14285714285714285},{"$f":"IF(AF22=0,0,(AF22*((LOG(AF22))/LOG(2))))","v":-0.40105070315108626},null,2222,{"$f":"COUNTIF(L91:L118,AI22)","v":1},{"$f":"AJ22/(AL4-AJ20)","v":3.5714285714285712E-2},{"$f":"IF(AK22=0,0,(AK22*((LOG(AK22))/LOG(2))))","v":-0.17169124721634299},null,2222,{"$f":"COUNTIF(L119:L146,AN22)","v":0},{"$f":"AO22/(AQ4-AO20)","v":0},{"$f":"IF(AP22=0,0,(AP22*((LOG(AP22))/LOG(2))))","v":0},null,2222,{"$f":"COUNTIF(L147:L174,AS22)","v":0},{"$f":"AT22/(AV4-AT20)","v":0},{"$f":"IF(AU22=0,0,(AU22*((LOG(AU22))/LOG(2))))","v":0}]
[12,2114,23,2130,24,2135,23,2142,null,null,0,1222,null,null,null,{"$f":"SUM(P7:P22)","v":1},{"$f":"-SUM(Q7:Q22)","v":2.5093268706219862},null,null,null,null,{"$f":"SUM(V7:V22)","v":0.99999999999999989},{"$f":"-SUM(W7:W22)","v":2.2513680857970018},null,null,null,{"$f":"SUM(AA7:AA22)","v":1},{"$f":"-SUM(AB7:AB22)","v":2.4595479299028353},null,null,null,{"$f":"SUM(AF7:AF22)","v":1},{"$f":"-SUM(AG7:AG22)","v":1.426344547043374},null,null,null,{"$f":"SUM(AK7:AK22)","v":1},{"$f":"-SUM(AL7:AL22)","v":1.7420625893494752},null,null,null,{"$f":"SUM(AP7:AP22)","v":1},{"$f":"-SUM(AQ7:AQ22)","v":2.2164500133438785},null,null,null,{"$f":"SUM(AU7:AU22)","v":1},{"$f":"-SUM(AV7:AV22)","v":1.2974288158134879}]
[21,2329,21,2333,22,2340,23,2348,null,null,0,2222,null,null,null,"U=",{"$f":"Q23/(LOG(Q4)/LOG(2))","v":0.33945063869818709},null,null,null,null,"U1=",{"$f":"W23/(LOG(W4)/LOG(2))","v":0.4683174265887966},null,null,null,"U2=",{"$f":"AB23/(LOG(AB4)/LOG(2))","v":0.51162187310482998},null,null,null,"U3=",{"$f":"AG23/(LOG(AG4)/LOG(2))","v":0.29670048710131058},null,null,null,"U4=",{"$f":"AL23/(LOG(AL4)/LOG(2))","v":0.36237444865082941},null,null,null,"U5=",{"$f":"AQ23/(LOG(AQ4)/LOG(2))","v":0.46105395779582092},null,null,null,"U6=",{"$f":"AV23/(LOG(AV4)/LOG(2))","v":0.26988413313535281}]
[12,2448,23,2460,24,2464,23,2474,null,null,0,1222]
[12,2613,23,2626,24,2630,23,2636,null,null,0,1222]
[12,2734,23,2746,24,2750,23,2756,null,null,0,1222,null,"Total Target Seq"]
[12,2853,14,2859,24,2873,23,2879,null,null,0,1122,null,{"$f":"COUNTIF(L7:L174,G3)","v":1},null,28,28,28,28,28,28]
[21,2989,21,2994,22,3000,23,3005,null,null,0,2222,null,null,null,"% of reinforcement given in 6 equal intervals based on number of trials "]
[12,3159,23,3174,24,3183,23,3194,null,null,0,1222,null,null,null,"%_1","%_2","%_3","%_4","%_5","%_6"]
[12,3286,14,3293,24,3303,23,3307,null,null,0,1122,null,null,"target sequence",{"$f":"$G$3","v":2212},2212,2212,2212,2212,2212]
[21,3404,12,3417,13,3431,14,3443,null,null,0,2111,null,null,"total reinforcement",{"$f":"U20","v":0},{"$f":"Z20","v":1},{"$f":"AE20","v":0},{"$f":"AJ20","v":0},{"$f":"AO20","v":0},{"$f":"AT20","v":0}]
[21,3538,12,3552,13,3559,14,3572,null,null,0,2111,null,null,"% target"]
[12,3680,14,3685,13,3698,23,3716,null,null,0,1112,null,null,"CCRF"]
[12,3851,23,3866,24,3870,23,3883,null,null,0,1222,null,null,"% CCRf"]
[12,3976,23,3996,24,4002,23,4010,null,null,0,1222,null,null,"average response rate",{"$f":"H34/P28","v":132.71428571428572},{"$f":"(H62-H34)/Q28","v":137},{"$f":"(H90-H62)/R28","v":141},{"$f":"(H118-H90)/S28","v":138.71428571428572},{"$f":"(H146-H118)/T28","v":138.96428571428572},{"$f":"(H174-H146)/U28","v":163.39285714285714}]
[21,4124,21,4129,22,4134,23,4141,null,null,0,2222]
[21,4252,21,4256,11,4268,12,4272,null,null,0,2211]
[12,4390,14,4393,13,4398,14,4404,null,null,0,1111]
[12,4502,23,4516,24,4521,23,4528,null,null,0,1222]
[12,4629,14,4639,24,4666,23,4674,null,null,0,1122]
[12,4813,23,4825,24,4829,23,4834,null,null,0,1222]
[12,4943,14,4946,13,4955,14,4961,null,null,0,1111]
[21,5058,12,5074,13,5079,14,5084,null,null,0,2111]
[21,5221,21,5227,22,5232,23,5239,null,null,0,2222]
[21,5337,21,5341,11,5360,21,5376,null,null,0,2212]
[12,5518,23,5531,24,5534,23,5539,null,null,0,1222]
[21,5653,21,5659,11,5678,12,5685,null,null,0,2211]
[12,5788,14,5791,24,5807,23,5814,null,null,0,1122]
[12,5909,23,5925,24,5930,23,5938,null,null,0,1222]
[12,6037,14,6041,13,6047,14,6052,null,null,0,1111]
[21,6158,12,6174,13,6180,14,6187,null,null,0,2111]
[21,6370,21,6374,22,6380,23,6391,null,null,0,2222]
[21,6487,12,6499,13,6507,14,6512,null,null,0,2111]
[21,6626,21,6631,22,6638,23,6644,null,null,0,2222]
[21,6750,21,6755,22,6761,23,6772,null,null,0,2222]
[21,6868,12,6880,13,6885,14,6894,null,null,0,2111]
[21,6988,12,7003,13,7013,14,7019,null,null,0,2111]
[21,7118,21,7135,11,7150,12,7155,null,null,0,2211]
[12,7252,23,7268,24,7272,23,7283,null,null,0,1222]
[21,7407,21,7411,11,7427,12,7435,null,null,0,2211]
[12,7531,23,7544,24,7547,23,7552,null,null,0,1222]
[12,7648,14,7653,13,7657,14,7663,null,null,0,1111]
[12,7763,23,7774,24,7778,23,7785,null,null,0,1222]
[12,7986,23,8001,24,8004,23,8011,null,null,0,1222]
[12,8111,23,8122,24,8131,23,8137,null,null,0,1222]
[12,8232,23,8244,24,8248,23,8256,null,null,0,1222]
[12,8356,23,8371,24,8376,23,8383,null,null,0,1222]
[12,8534,23,8554,24,8560,23,8574,null,null,0,1222]
[12,8725,23,8740,24,8746,23,8751,null,null,0,1222]
[12,8849,23,8865,24,8883,23,8890,null,null,0,1222]
[12,8985,23,8996,24,9000,23,9006,null,null,0,1222]
[12,9106,23,9128,24,9134,23,9140,null,null,0,1222]
[12,9281,14,9292,13,9295,14,9301,null,null,0,1111]
[21,9504,21,9508,22,9513,23,9519,null,null,0,2222]
[12,9625,23,9636,24,9640,23,9651,null,null,0,1222]
[12,9753,23,9766,24,9769,23,9776,null,null,0,1222]
[12,9883,14,9889,13,9893,14,9899,null,null,0,1111]
[12,9996,14,10002,13,10015,14,10022,null,null,0,1111]
[21,10117,12,10130,13,10136,14,10145,null,null,0,2111]
[12,10243,23,10257,24,10262,23,10267,null,null,0,1222]
[12,10411,23,10424,24,10427,23,10431,null,null,0,1222]
[21,10555,21,10560,22,10566,23,10573,null,null,0,2222]
[12,10674,23,10689,24,10694,23,10700,null,null,0,1222]
[12,10801,23,10814,24,10819,23,10825,null,null,0,1222]
[12,10926,14,10933,13,10945,14,10953,null,null,0,1111]
[21,11105,21,11110,22,11117,23,11127,null,null,0,2222]
[12,11228,23,11240,24,11244,23,11249,null,null,0,1222]
[12,11347,23,11365,24,11369,23,11376,null,null,0,1222]
[21,11484,21,11488,22,11493,23,11500,null,null,0,2222]
[21,11600,12,11613,13,11621,14,11629,null,null,0,2111]
[21,11731,12,11743,13,11747,14,11752,null,null,0,2111]
[21,11854,12,11869,13,11873,14,11878,null,null,0,2111]
[21,11972,12,11986,13,11990,14,12001,null,null,0,2111]
[12,12097,14,12101,13,12108,14,12114,null,null,0,1111]
[21,12285,21,12290,22,12296,23,12307,null,null,0,2222]
[12,12404,14,12412,13,12420,14,12426,null,null,0,1111]
[21,12526,12,12538,13,12551,14,12558,null,null,0,2111]
[12,12653,14,12660,13,12667,14,12673,null,null,0,1111]
[21,12772,12,12786,13,12795,14,12800,null,null,0,2111]
[12,12903,14,12907,13,12913,14,12918,null,null,0,1111]
[21,13033,12,13047,13,13052,14,13057,null,null,0,2111]
[21,13157,12,13182,13,13183,23,13196,null,null,0,2112]
[12,13306,14,13311,13,13316,14,13329,null,null,0,1111]
[12,13428,14,13433,13,13442,14,13449,null,null,0,1111]
[12,13566,14,13574,13,13580,14,13587,null,null,0,1111]
[12,13765,23,13778,24,13782,23,13791,null,null,0,1222]
[21,13897,12,13918,13,13928,14,13934,null,null,0,2111]
[12,14029,14,14037,13,14050,14,14056,null,null,0,1111]
[12,14205,23,14221,24,14225,23,14234,null,null,0,1222]
[21,14333,12,14350,13,14361,14,14368,null,null,0,2111]
[21,14469,12,14485,13,14488,14,14494,null,null,0,2111]
[12,14603,14,14611,13,14614,14,14628,null,null,0,1111]
[21,14738,12,14751,13,14756,14,14760,null,null,0,2111]
[12,14946,14,14951,13,14968,14,14977,null,null,0,1111]
[12,15080,23,15094,24,15099,23,15104,null,null,0,1222]
[12,15223,14,15238,13,15245,14,15258,null,null,0,1111]
[21,15359,12,15373,13,15379,14,15384,null,null,0,2111]
[21,15480,12,15493,13,15498,14,15505,null,null,0,2111]
[21,15641,21,15646,22,15652,14,15672,null,null,0,2221]
[12,15777,14,15782,13,15788,14,15794,null,null,0,1111]
[21,15890,12,15913,13,15919,14,15923,null,null,0,2111]
[21,16038,21,16042,11,16056,12,16061,null,null,0,2211]
[21,16154,12,16166,13,16172,14,16179,null,null,0,2111]
[21,16279,12,16304,13,16308,14,16316,null,null,0,2111]
[12,16482,14,16489,13,16494,14,16502,null,null,0,1111]
[21,16615,12,16630,13,16635,14,16643,null,null,0,2111]
[21,16737,12,16753,13,16760,14,16766,null,null,0,2111]
[12,16872,14,16877,13,16882,14,16889,null,null,0,1111]
[21,16997,21,17001,11,17014,12,17018,null,null,0,2211]
[12,17168,23,17184,24,17188,23,17193,null,null,0,1222]
[21,17286,21,17298,22,17304,14,17319,null,null,0,2221]
[21,17414,12,17428,13,17434,14,17441,null,null,0,2111]
[21,17540,21,17545,11,17557,12,17562,null,null,0,2211]
[12,17656,14,17676,13,17684,14,17693,null,null,0,1111]
[12,17795,23,17811,24,17816,23,17829,null,null,0,1222]
[21,17928,12,17942,13,17946,14,17950,null,null,0,2111]
[21,18051,21,18072,22,18078,14,18101,null,null,0,2221]
[12,18267,23,18284,24,18290,23,18296,null,null,0,1222]
[21,18403,21,18408,22,18414,14,18427,null,null,0,2221]
[12,18641,14,18650,13,18655,14,18657,null,null,0,1111]
[12,18767,14,18774,13,18779,14,18783,null,null,0,1111]
[12,18886,14,18889,13,18893,14,18899,null,null,0,1111]
[21,18994,21,19002,11,19013,12,19019,null,null,0,2211]
[21,19118,12,19134,13,19140,14,19148,null,null,0,2111]
[21,19252,21,19257,11,19271,12,19275,null,null,0,2211]
[21,19375,12,19393,13,19398,14,19406,null,null,0,2111]
[21,19502,21,19510,11,19525,12,19530,null,null,0,2211]
[21,19632,21,19638,11,19653,12,19658,null,null,0,2211]
[21,19751,21,19777,11,19793,12,19801,null,null,0,2211]
[12,19926,14,19938,13,19945,14,19953,null,null,0,1111]
[21,20173,12,20188,13,20197,14,20205,null,null,0,2111]
[21,20473,12,20490,13,20496,14,20503,null,null,0,2111]
[21,20596,21,20598,11,20622,12,20626,null,null,0,2211]
[12,20729,14,20734,13,20744,14,20764,null,null,0,1111]
[12,20863,14,20871,13,20882,14,20891,null,null,0,1111]
[21,20994,12,21036,13,21045,14,21049,null,null,0,2111]
[21,21144,12,21159,13,21163,14,21169,null,null,0,2111]
[21,21375,12,21390,13,21396,14,21409,null,null,0,2111]
[21,21510,12,21526,13,21529,14,21534,null,null,0,2111]
[21,21637,21,21656,11,21674,12,21678,null,null,0,2211]
[12,21983,14,21984,13,21989,14,21997,null,null,0,1111]
[21,22099,12,22114,13,22117,14,22122,null,null,0,2111]
[21,22220,12,22233,13,22239,14,22243,null,null,0,2111]
[21,22343,12,22357,13,22360,14,22364,null,null,0,2111]
[21,22465,12,22485,13,22489,14,22494,null,null,0,2111]
[21,22590,12,22606,13,22609,14,22614,null,null,0,2111]
[21,22738,12,22756,13,22761,14,22769,null,null,0,2111]
[21,22960,12,22978,13,22983,14,22990,null,null,0,2111]
[21,23183,12,23196,13,23200,14,23207,null,null,0,2111]
[21,23414,12,23427,13,23430,14,23437,null,null,0,2111]
[21,23531,12,23576,13,23585,14,23591,null,null,0,2111]
[21,23695,12,23709,13,23717,14,23729,null,null,0,2111]
[12,23829,14,23839,13,23845,14,23850,null,null,0,1111]

{"sheet":"!LB05945.. d","index":4,"n_rows":176,"n_cols":48,"rows_kept":176,"cut":false,"hidden":false,"merged":[[1,1,1,2],[5,13,5,14],[26,13,26,14],[27,13,27,14],[4,19,4,22],[5,19,5,20],[4,39,4,42],[5,39,5,40],[4,44,4,47],[5,44,5,45],[4,24,4,27],[5,24,5,25],[4,29,4,32],[5,29,5,30],[4,34,4,37],[5,34,5,35]]}
["Report for:!LB05945.. d"]
["Date:","<date>"]
["Hen:","<hen>",null,null,null,"Correct Sequence",{"$f":"Start!J2","v":2212},null,null,null,null,null,null,null,null,"Total Sequences in Data",{"$f":"4994-COUNTBLANK(L7:L5000)","v":170},null,null,null,null,"Total Sequences in Block Data",{"$f":"COUNTA(L7:L34)","v":28},null,null,null,"Total Sequences in Block Data",{"$f":"COUNTA(L35:L63)","v":29},null,null,null,"Total Sequences in Block Data",{"$f":"COUNTA(L64:L91)","v":28},null,null,null,"Total Sequences in Block Data",{"$f":"COUNTA(L92:L119)","v":28},null,null,null,"Total Sequences in Block Data",{"$f":"COUNTA(L120:L148)","v":29},null,null,null,"Total Sequences in Block Data",{"$f":"COUNTA(L149:L176)","v":28}]
[null,null,null,null,null,null,null,null,null,null,null,null,null,null,null,"Total Sequences in Summary",{"$f":"SUM(O7:O22)","v":170},null,null,null,null,"Total Sequences in Block Summary",{"$f":"SUM(U7:U22)","v":28},null,null,null,"Total Sequences in Block Summary",{"$f":"SUM(Z7:Z22)","v":29},null,null,null,"Total Sequences in Block Summary",{"$f":"SUM(AE7:AE22)","v":28},null,null,null,"Total Sequences in Block Summary",{"$f":"SUM(AJ7:AJ22)","v":28},null,null,null,"Total Sequences in Block Summary",{"$f":"SUM(AO7:AO22)","v":29},null,null,null,"Total Sequences in Block Summary",{"$f":"SUM(AT7:AT22)","v":28}]
[null,null,null,null,null,null,null,null,null,null,null,null,null,null,null,null,null,null,null,"Block 1",null,null,null,null,"Block 2",null,null,null,null,"Block 3",null,null,null,null,"Block 4",null,null,null,null,"Block 5",null,null,null,null,"Block 6"]
["Sequence\nComponent\n1","Time\n1","Sequence\nComponent\n2","Time\n2","Sequence\nComponent\n3","Time\n3","Sequence\nComponent\n4","Time\n4","Sequence\nComponent\n5","Time\n5","Correct?\n0=No 1=Yes","Sequence",null,"Frequency",null,"Relative Frequency","Variability",null,null,"Frequency",null,"Relative Frequency","Variability",null,"Frequency",null,"Relative Frequency","Variability",null,"Frequency",null,"Relative Frequency","Variability",null,"Frequency",null,"Relative Frequency","Variability",null,"Frequency",null,"Relative Frequency","Variability",null,"Frequency",null,"Relative Frequency","Variability"]
[12,21,14,26,13,31,14,38,null,null,0,1111,null,1111,{"$f":"COUNTIF($L$7:$L$500,N7)","v":30},{"$f":"O7/$Q$4","v":0.17647058823529413},{"$f":"IF(P7=0,0,(P7*((LOG(P7))/LOG(2))))","v":-0.44161770715220888},null,null,{"$f":"N7","v":1111},{"$f":"COUNTIF(L7:L34,T7)","v":5},{"$f":"U7/(W4-U20)","v":0.17857142857142858},{"$f":"IF(V7=0,0,(V7*((LOG(V7))/LOG(2))))","v":-0.44382621913754317},null,{"$f":"N7","v":1111},{"$f":"COUNTIF(L35:L63,Y7)","v":3},{"$f":"Z7/(AB4-Z20)","v":0.10714285714285714},{"$f":"IF(AA7=0,0,(AA7*((LOG(AA7))/LOG(2))))","v":-0.34525633085747659},null,{"$f":"N7","v":1111},{"$f":"COUNTIF(L64:L91,AD7)","v":5},{"$f":"AE7/(AG4-AE20)","v":0.17857142857142858},{"$f":"IF(AF7=0,0,(AF7*((LOG(AF7))/LOG(2))))","v":-0.44382621913754317},null,{"$f":"N7","v":1111},{"$f":"COUNTIF(L92:L119,AI7)","v":4},{"$f":"AJ7/(AL4-AJ20)","v":0.14814814814814814},{"$f":"IF(AK7=0,0,(AK7*((LOG(AK7))/LOG(2))))","v":-0.40813148180199532},null,{"$f":"N7","v":1111},{"$f":"COUNTIF(L120:L148,AN7)","v":6},{"$f":"AO7/(AQ4-AO20)","v":0.20689655172413793},{"$f":"IF(AP7=0,0,(AP7*((LOG(AP7))/LOG(2))))","v":-0.4702796884978791},null,{"$f":"N7","v":1111},{"$f":"COUNTIF(L149:L176,AS7)","v":7},{"$f":"AT7/(AV4-AT20)","v":0.25},{"$f":"IF(AU7=0,0,(AU7*((LOG(AU7))/LOG(2))))","v":-0.5}]
[12,138,14,142,13,147,14,152,null,null,0,1111,null,1112,0,0,0,null,null,1112,{"$f":"COUNTIF(L7:L34,T8)","v":0},{"$f":"U8/(W4-U20)","v":0},0,null,1112,{"$f":"COUNTIF(L35:L63,Y8)","v":0},{"$f":"Z8/(AB4-Z20)","v":0},0,null,1112,{"$f":"COUNTIF(L64:L91,AD8)","v":0},{"$f":"AE8/(AG4-AE20)","v":0},0,null,1112,{"$f":"COUNTIF(L92:L119,AI8)","v":0},{"$f":"AJ8/(AL4-AJ20)","v":0},0,null,1112,{"$f":"COUNTIF(L120:L148,AN8)","v":0},{"$f":"AO8/(AQ4-AO20)","v":0},0,null,1112,{"$f":"COUNTIF(L149:L176,AS8)","v":0},{"$f":"AT8/(AV4-AT20)","v":0},0]
[12,246,14,250,13,255,14,261,null,null,0,1111,null,1121,0,0,0,null,null,1121,{"$f":"COUNTIF(L7:L34,T9)","v":0},{"$f":"U9/(W4-U20)","v":0},0,null,1121,{"$f":"COUNTIF(L35:L63,Y9)","v":0},{"$f":"Z9/(AB4-Z20)","v":0},0,null,1121,{"$f":"COUNTIF(L64:L91,AD9)","v":0},{"$f":"AE9/(AG4-AE20)","v":0},0,null,1121,{"$f":"COUNTIF(L92:L119,AI9)","v":0},{"$f":"AJ9/(AL4-AJ20)","v":0},0,null,1121,{"$f":"COUNTIF(L120:L148,AN9)","v":0},{"$f":"AO9/(AQ4-AO20)","v":0},0,null,1121,{"$f":"COUNTIF(L149:L176,AS9)","v":0},{"$f":"AT9/(AV4-AT20)","v":0},0]
[12,355,23,375,24,382,23,388,null,null,0,1222,null,1122,0,0,0,null,null,1122,{"$f":"COUNTIF(L7:L34,T10)","v":0},{"$f":"U10/(W4-U20)","v":0},0,null,1122,{"$f":"COUNTIF(L35:L63,Y10)","v":0},{"$f":"Z10/(AB4-Z20)","v":0},0,null,1122,{"$f":"COUNTIF(L64:L91,AD10)","v":0},{"$f":"AE10/(AG4-AE20)","v":0},0,null,1122,{"$f":"COUNTIF(L92:L119,AI10)","v":0},{"$f":"AJ10/(AL4-AJ20)","v":0},0,null,1122,{"$f":"COUNTIF(L120:L148,AN10)","v":0},{"$f":"AO10/(AQ4-AO20)","v":0},0,null,1122,{"$f":"COUNTIF(L149:L176,AS10)","v":0},{"$f":"AT10/(AV4-AT20)","v":0},0]
[12,483,23,493,24,498,23,504,null,null,0,1222,null,1211,0,0,0,null,null,1211,{"$f":"COUNTIF(L7:L34,T11)","v":0},{"$f":"U11/(W4-U20)","v":0},0,null,1211,{"$f":"COUNTIF(L35:L63,Y11)","v":0},{"$f":"Z11/(AB4-Z20)","v":0},0,null,1211,{"$f":"COUNTIF(L64:L91,AD11)","v":0},{"$f":"AE11/(AG4-AE20)","v":0},0,null,1211,{"$f":"COUNTIF(L92:L119,AI11)","v":0},{"$f":"AJ11/(AL4-AJ20)","v":0},0,null,1211,{"$f":"COUNTIF(L120:L148,AN11)","v":0},{"$f":"AO11/(AQ4-AO20)","v":0},0,null,1211,{"$f":"COUNTIF(L149:L176,AS11)","v":0},{"$f":"AT11/(AV4-AT20)","v":0},0]
[12,601,14,605,13,611,14,617,null,null,0,1111,null,1212,0,0,0,null,null,1212,{"$f":"COUNTIF(L7:L34,T12)","v":0},{"$f":"U12/(W4-U20)","v":0},0,null,1212,{"$f":"COUNTIF(L35:L63,Y12)","v":0},{"$f":"Z12/(AB4-Z20)","v":0},0,null,1212,{"$f":"COUNTIF(L64:L91,AD12)","v":0},{"$f":"AE12/(AG4-AE20)","v":0},0,null,1212,{"$f":"COUNTIF(L92:L119,AI12)","v":0},{"$f":"AJ12/(AL4-AJ20)","v":0},0,null,1212,{"$f":"COUNTIF(L120:L148,AN12)","v":0},{"$f":"AO12/(AQ4-AO20)","v":0},0,null,1212,{"$f":"COUNTIF(L149:L176,AS12)","v":0},{"$f":"AT12/(AV4-AT20)","v":0},0]
[21,717,12,730,13,739,14,746,null,null,0,2111,null,1221,0,0,0,null,null,1221,{"$f":"COUNTIF(L7:L34,T13)","v":0},{"$f":"U13/(W4-U20)","v":0},0,null,1221,{"$f":"COUNTIF(L35:L63,Y13)","v":0},{"$f":"Z13/(AB4-Z20)","v":0},0,null,1221,{"$f":"COUNTIF(L64:L91,AD13)","v":0},{"$f":"AE13/(AG4-AE20)","v":0},0,null,1221,{"$f":"COUNTIF(L92:L119,AI13)","v":0},{"$f":"AJ13/(AL4-AJ20)","v":0},0,null,1221,{"$f":"COUNTIF(L120:L148,AN13)","v":0},{"$f":"AO13/(AQ4-AO20)","v":0},0,null,1221,{"$f":"COUNTIF(L149:L176,AS13)","v":0},{"$f":"AT13/(AV4-AT20)","v":0},0]
[21,842,12,874,13,880,14,884,null,null,0,2111,null,1222,16,9.4117647058823528E-2,-0.32088385281296017,null,null,1222,{"$f":"COUNTIF(L7:L34,T14)","v":6},{"$f":"U14/(W4-U20)","v":0.21428571428571427},-0.47622694742923877,null,1222,{"$f":"COUNTIF(L35:L63,Y14)","v":2},{"$f":"Z14/(AB4-Z20)","v":7.1428571428571425E-2},-0.27195392300411453,null,1222,{"$f":"COUNTIF(L64:L91,AD14)","v":3},{"$f":"AE14/(AG4-AE20)","v":0.10714285714285714},-0.34525633085747659,null,1222,{"$f":"COUNTIF(L92:L119,AI14)","v":3},{"$f":"AJ14/(AL4-AJ20)","v":0.1111111111111111},-0.3522138890491458,null,1222,{"$f":"COUNTIF(L120:L148,AN14)","v":0},{"$f":"AO14/(AQ4-AO20)","v":0},0,null,1222,{"$f":"COUNTIF(L149:L176,AS14)","v":2},{"$f":"AT14/(AV4-AT20)","v":7.1428571428571425E-2},-0.27195392300411453]
[21,1007,21,1011,11,1025,12,1031,null,null,0,2211,null,2111,80,0.47058823529411764,-0.51174721941192436,null,null,2111,{"$f":"COUNTIF(L7:L34,T15)","v":12},{"$f":"U15/(W4-U20)","v":0.42857142857142855},-0.52388246628704915,null,2111,{"$f":"COUNTIF(L35:L63,Y15)","v":14},{"$f":"Z15/(AB4-Z20)","v":0.5},-0.5,null,2111,{"$f":"COUNTIF(L64:L91,AD15)","v":12},{"$f":"AE15/(AG4-AE20)","v":0.42857142857142855},-0.52388246628704915,null,2111,{"$f":"COUNTIF(L92:L119,AI15)","v":13},{"$f":"AJ15/(AL4-AJ20)","v":0.48148148148148145},-0.50769708119595902,null,2111,{"$f":"COUNTIF(L120:L148,AN15)","v":16},{"$f":"AO15/(AQ4-AO20)","v":0.55172413793103448},-0.47336882489797077,null,2111,{"$f":"COUNTIF(L149:L176,AS15)","v":13},{"$f":"AT15/(AV4-AT20)","v":0.4642857142857143},-0.51392491610409474]
[21,1126,21,1143,22,1164,14,1175,null,null,0,2221,null,2112,0,0,0,null,null,2112,{"$f":"COUNTIF(L7:L34,T16)","v":0},{"$f":"U16/(W4-U20)","v":0},0,null,2112,{"$f":"COUNTIF(L35:L63,Y16)","v":0},{"$f":"Z16/(AB4-Z20)","v":0},0,null,2112,{"$f":"COUNTIF(L64:L91,AD16)","v":0},{"$f":"AE16/(AG4-AE20)","v":0},0,null,2112,{"$f":"COUNTIF(L92:L119,AI16)","v":0},{"$f":"AJ16/(AL4-AJ20)","v":0},0,null,2112,{"$f":"COUNTIF(L120:L148,AN16)","v":0},{"$f":"AO16/(AQ4-AO20)","v":0},0,null,2112,{"$f":"COUNTIF(L149:L176,AS16)","v":0},{"$f":"AT16/(AV4-AT20)","v":0},0]
[21,1295,12,1308,13,1313,14,1320,null,null,0,2111,null,2121,0,0,0,null,null,2121,{"$f":"COUNTIF(L7:L34,T17)","v":0},{"$f":"U17/(W4-U20)","v":0},0,null,2121,{"$f":"COUNTIF(L35:L63,Y17)","v":0},{"$f":"Z17/(AB4-Z20)","v":0},0,null,2121,{"$f":"COUNTIF(L64:L91,AD17)","v":0},{"$f":"AE17/(AG4-AE20)","v":0},0,null,2121,{"$f":"COUNTIF(L92:L119,AI17)","v":0},{"$f":"AJ17/(AL4-AJ20)","v":0},0,null,2121,{"$f":"COUNTIF(L120:L148,AN17)","v":0},{"$f":"AO17/(AQ4-AO20)","v":0},0,null,2121,{"$f":"COUNTIF(L149:L176,AS17)","v":0},{"$f":"AT17/(AV4-AT20)","v":0},0]
[12,1424,23,1438,24,1445,23,1451,null,null,0,1222,null,2122,1,5.8823529411764705E-3,-4.35846525655159E-2,null,null,2122,{"$f":"COUNTIF(L7:L34,T18)","v":0},{"$f":"U18/(W4-U20)","v":0},0,null,2122,{"$f":"COUNTIF(L35:L63,Y18)","v":1},{"$f":"Z18/(AB4-Z20)","v":3.5714285714285712E-2},-0.17169124721634299,null,2122,{"$f":"COUNTIF(L64:L91,AD18)","v":0},{"$f":"AE18/(AG4-AE20)","v":0},0,null,2122,{"$f":"COUNTIF(L92:L119,AI18)","v":0},{"$f":"AJ18/(AL4-AJ20)","v":0},0,null,2122,{"$f":"COUNTIF(L120:L148,AN18)","v":0},{"$f":"AO18/(AQ4-AO20)","v":0},0,null,2122,{"$f":"COUNTIF(L149:L176,AS18)","v":0},{"$f":"AT18/(AV4-AT20)","v":0},0]
[21,1548,12,1560,13,1564,14,1570,null,null,0,2111,null,2211,23,0.13529411764705881,-0.39043568554032843,null,null,2211,{"$f":"COUNTIF(L7:L34,T19)","v":4},{"$f":"U19/(W4-U20)","v":0.14285714285714285},-0.40105070315108626,null,2211,{"$f":"COUNTIF(L35:L63,Y19)","v":4},{"$f":"Z19/(AB4-Z20)","v":0.14285714285714285},-0.40105070315108626,null,2211,{"$f":"COUNTIF(L64:L91,AD19)","v":6},{"$f":"AE19/(AG4-AE20)","v":0.21428571428571427},-0.47622694742923877,null,2211,{"$f":"COUNTIF(L92:L119,AI19)","v":2},{"$f":"AJ19/(AL4-AJ20)","v":7.407407407407407E-2},-0.27813981497507173,null,2211,{"$f":"COUNTIF(L120:L148,AN19)","v":5},{"$f":"AO19/(AQ4-AO20)","v":0.17241379310344829},-0.43725050004141547,null,2211,{"$f":"COUNTIF(L149:L176,AS19)","v":2},{"$f":"AT19/(AV4-AT20)","v":7.1428571428571425E-2},-0.27195392300411453]
[21,1667,12,1678,13,1682,14,1689,null,null,0,2111,null,2212,2,1.1764705882352941E-2,-7.5404599248678844E-2,null,null,2212,{"$f":"COUNTIF(L7:L34,T20)","v":0},null,null,null,2212,{"$f":"COUNTIF(L35:L63,Y20)","v":1},null,null,null,2212,{"$f":"COUNTIF(L64:L91,AD20)","v":0},null,null,null,2212,{"$f":"COUNTIF(L92:L119,AI20)","v":1},null,null,null,2212,{"$f":"COUNTIF(L120:L148,AN20)","v":0},null,null,null,2212,{"$f":"COUNTIF(L149:L176,AS20)","v":0}]
[12,1790,23,1800,24,1804,23,1808,null,null,0,1222,null,2221,7,4.1176470588235294E-2,-0.18949560057976875,null,null,2221,{"$f":"COUNTIF(L7:L34,T21)","v":1},{"$f":"U21/(W4-U20)","v":3.5714285714285712E-2},{"$f":"IF(V21=0,0,(V21*((LOG(V21))/LOG(2))))","v":-0.17169124721634299},null,2221,{"$f":"COUNTIF(L35:L63,Y21)","v":1},{"$f":"Z21/(AB4-Z20)","v":3.5714285714285712E-2},{"$f":"IF(AA21=0,0,(AA21*((LOG(AA21))/LOG(2))))","v":-0.17169124721634299},null,2221,{"$f":"COUNTIF(L64:L91,AD21)","v":2},{"$f":"AE21/(AG4-AE20)","v":7.1428571428571425E-2},{"$f":"IF(AF21=0,0,(AF21*((LOG(AF21))/LOG(2))))","v":-0.27195392300411453},null,2221,{"$f":"COUNTIF(L92:L119,AI21)","v":2},{"$f":"AJ21/(AL4-AJ20)","v":7.407407407407407E-2},{"$f":"IF(AK21=0,0,(AK21*((LOG(AK21))/LOG(2))))","v":-0.27813981497507173},null,2221,{"$f":"COUNTIF(L120:L148,AN21)","v":1},{"$f":"AO21/(AQ4-AO20)","v":3.4482758620689655E-2},{"$f":"IF(AP21=0,0,(AP21*((LOG(AP21))/LOG(2))))","v":-0.16751658603888178},null,2221,{"$f":"COUNTIF(L149:L176,AS21)","v":0},{"$f":"AT21/(AV4-AT20)","v":0},{"$f":"IF(AU21=0,0,(AU21*((LOG(AU21))/LOG(2))))","v":0}]
[21,1906,21,1921,11,1933,12,1938,null,null,0,2211,null,2222,11,6.4705882352941183E-2,-0.25558560289708498,null,null,2222,{"$f":"COUNTIF(L7:L34,T22)","v":0},{"$f":"U22/(W4-U20)","v":0},{"$f":"IF(V22=0,0,(V22*((LOG(V22))/LOG(2))))","v":0},null,2222,{"$f":"COUNTIF(L35:L63,Y22)","v":3},{"$f":"Z22/(AB4-Z20)","v":0.10714285714285714},{"$f":"IF(AA22=0,0,(AA22*((LOG(AA22))/LOG(2))))","v":-0.34525633085747659},null,2222,{"$f":"COUNTIF(L64:L91,AD22)","v":0},{"$f":"AE22/(AG4-AE20)","v":0},{"$f":"IF(AF22=0,0,(AF22*((LOG(AF22))/LOG(2))))","v":0},null,2222,{"$f":"COUNTIF(L92:L119,AI22)","v":3},{"$f":"AJ22/(AL4-AJ20)","v":0.1111111111111111},{"$f":"IF(AK22=0,0,(AK22*((LOG(AK22))/LOG(2))))","v":-0.3522138890491458},null,2222,{"$f":"COUNTIF(L120:L148,AN22)","v":1},{"$f":"AO22/(AQ4-AO20)","v":3.4482758620689655E-2},{"$f":"IF(AP22=0,0,(AP22*((LOG(AP22))/LOG(2))))","v":-0.16751658603888178},null,2222,{"$f":"COUNTIF(L149:L176,AS22)","v":4},{"$f":"AT22/(AV4-AT20)","v":0.14285714285714285},{"$f":"IF(AU22=0,0,(AU22*((LOG(AU22))/LOG(2))))","v":-0.40105070315108626}]
[12,2042,23,2053,24,2057,23,2064,null,null,0,1222,null,null,null,{"$f":"SUM(P7:P22)","v":0.99999999999999989},{"$f":"-SUM(Q7:Q22)","v":2.2287549202084702},null,null,null,null,{"$f":"SUM(V7:V22)","v":0.99999999999999989},{"$f":"-SUM(W7:W22)","v":2.0166775832212602},null,null,null,{"$f":"SUM(AA7:AA22)","v":1},{"$f":"-SUM(AB7:AB22)","v":2.2068997823028398},null,null,null,{"$f":"SUM(AF7:AF22)","v":0.99999999999999989},{"$f":"-SUM(AG7:AG22)","v":2.0611458867154222},null,null,null,{"$f":"SUM(AK7:AK22)","v":1},{"$f":"-SUM(AL7:AL22)","v":2.1765359710463894},null,null,null,{"$f":"SUM(AP7:AP22)","v":0.99999999999999989},{"$f":"-SUM(AQ7:AQ22)","v":1.7159321855150291},null,null,null,{"$f":"SUM(AU7:AU22)","v":1},{"$f":"-SUM(AV7:AV22)","v":1.9588834652634102}]
[12,2159,23,2171,24,2176,23,2182,null,null,0,1222,null,null,null,"U=",{"$f":"Q23/(LOG(Q4)/LOG(2))","v":0.30080136672748631},null,null,null,null,"U1=",{"$f":"W23/(LOG(W4)/LOG(2))","v":0.41949837611700591},null,null,null,"U2=",{"$f":"AB23/(LOG(AB4)/LOG(2))","v":0.45428332974466196},null,null,null,"U3=",{"$f":"AG23/(LOG(AG4)/LOG(2))","v":0.42874843237770094},null,null,null,"U4=",{"$f":"AL23/(LOG(AL4)/LOG(2))","v":0.45275125434566554},null,null,null,"U5=",{"$f":"AQ23/(LOG(AQ4)/LOG(2))","v":0.35321920510517935},null,null,null,"U6=",{"$f":"AV23/(LOG(AV4)/LOG(2))","v":0.40747635592193499}]
[12,2277,14,2283,13,2292,14,2298,null,null,0,1111]
[21,2393,12,2405,13,2407,14,2414,null,null,0,2111]
[21,2519,21,2524,11,2535,12,2541,null,null,0,2211,null,"Total Target Seq"]
[21,2553,12,2569,13,2572,14,2577,null,null,0,2111,null,{"$f":"COUNTIF(L7:L176,G3)","v":2},null,28,29,28,28,29,28]
[21,2677,12,2689,13,2692,14,2697,null,null,0,2111,null,null,null,"% of reinforcement given in 6 equal intervals based on number of trials "]
[21,2799,12,2812,13,2820,14,2826,null,null,0,2111,null,null,null,"%_1","%_2","%_3","%_4","%_5","%_6"]
[21,2934,12,2948,13,2951,14,2958,null,null,0,2111,null,null,"target sequence",{"$f":"$G$3","v":2212},2212,2212,2212,2212,2212]
[21,3059,12,3072,13,3076,14,3082,null,null,0,2111,null,null,"total reinforcement",{"$f":"U20","v":0},{"$f":"Z20","v":1},{"$f":"AE20","v":0},{"$f":"AJ20","v":1},{"$f":"AO20","v":0},{"$f":"AT20","v":0}]
[21,3183,12,3200,13,3204,14,3211,null,null,0,2111,null,null,"% target"]
[21,3311,21,3326,11,3339,12,3344,null,null,0,2211,null,null,"CCRF"]
[21,3438,12,3452,13,3456,14,3462,null,null,0,2111,null,null,"% CCRf"]
[21,3556,12,3570,13,3580,14,3586,null,null,0,2111,null,null,"average response rate",{"$f":"H34/P28","v":119.42857142857143},{"$f":"(H63-H34)/Q28","v":139.31034482758622},{"$f":"(H91-H63)/R28","v":150.03571428571428},{"$f":"(H119-H91)/S28","v":141.46428571428572},{"$f":"(H148-H119)/T28","v":145.86206896551724},{"$f":"(H176-H148)/U28","v":147.28571428571428}]
[21,3681,12,3695,13,3699,14,3705,null,null,0,2111]
[21,3803,12,3829,13,3834,14,3840,null,null,0,2111]
[21,3935,21,3951,11,3968,12,3972,null,null,0,2211]
[21,4010,21,4029,22,4039,14,4052,null,null,0,2221]
[12,4165,14,4171,13,4176,14,4182,null,null,0,1111]
[21,4276,21,4290,11,4315,21,4331,null,null,0,2212]
[12,4453,14,4463,13,4468,14,4475,null,null,0,1111]
[21,4582,12,4593,13,4604,14,4611,null,null,0,2111]
[21,4711,12,4724,13,4729,14,4735,null,null,0,2111]
[21,4836,12,4850,13,4854,14,4860,null,null,0,2111]
[21,4974,12,4989,13,4993,14,5001,null,null,0,2111]
[21,5096,21,5100,22,5105,23,5108,null,null,0,2222]
[12,5235,23,5246,24,5250,23,5256,null,null,0,1222]
[21,5355,12,5367,13,5372,14,5379,null,null,0,2111]
[21,5475,12,5487,13,5491,14,5497,null,null,0,2111]
[12,5655,23,5666,24,5672,23,5677,null,null,0,1222]
[21,5913,21,5917,22,5927,23,5933,null,null,0,2222]
[21,6040,21,6059,11,6072,12,6076,null,null,0,2211]
[21,6257,21,6260,22,6266,23,6271,null,null,0,2222]
[21,6381,12,6396,13,6404,14,6411,null,null,0,2111]
[21,6512,12,6533,24,6549,23,6555,null,null,0,2122]
[21,6662,12,6673,13,6677,14,6685,null,null,0,2111]
[12,6877,14,6885,13,6890,14,6896,null,null,0,1111]
[21,6990,12,7003,13,7007,14,7013,null,null,0,2111]
[21,7115,21,7117,11,7131,12,7134,null,null,0,2211]
[21,7237,21,7241,11,7253,12,7257,null,null,0,2211]
[21,7349,12,7372,13,7378,14,7384,null,null,0,2111]
[21,7562,21,7565,11,7577,12,7581,null,null,0,2211]
[21,7679,12,7690,13,7698,14,7705,null,null,0,2111]
[12,7807,23,7818,24,7822,23,7828,null,null,0,1222]
[21,7928,12,7942,13,7951,14,7958,null,null,0,2111]
[21,8051,21,8070,11,8090,12,8096,null,null,0,2211]
[21,8224,12,8237,13,8240,14,8247,null,null,0,2111]
[12,8366,14,8373,13,8378,14,8383,null,null,0,1111]
[21,8485,12,8498,13,8503,14,8509,null,null,0,2111]
[21,8608,12,8620,13,8625,14,8631,null,null,0,2111]
[21,8727,21,8732,11,8744,12,8747,null,null,0,2211]
[21,8849,21,8870,22,8876,14,8887,null,null,0,2221]
[21,9091,12,9104,13,9108,14,9114,null,null,0,2111]
[12,9439,14,9447,13,9454,14,9461,null,null,0,1111]
[12,9565,14,9570,13,9576,14,9581,null,null,0,1111]
[12,9684,23,9699,24,9702,23,9708,null,null,0,1222]
[21,9858,12,9871,13,9875,14,9885,null,null,0,2111]
[21,9982,12,10017,13,10022,14,10027,null,null,0,2111]
[21,10130,21,10158,11,10171,12,10176,null,null,0,2211]
[21,10268,21,10281,22,10286,14,10302,null,null,0,2221]
[21,10394,12,10409,13,10418,14,10423,null,null,0,2111]
[12,10558,14,10563,13,10568,14,10572,null,null,0,1111]
[21,10680,12,10693,13,10699,14,10706,null,null,0,2111]
[21,10904,21,10923,11,10942,12,10947,null,null,0,2211]
[21,11047,21,11066,11,11081,12,11086,null,null,0,2211]
[21,11181,12,11194,13,11199,14,11206,null,null,0,2111]
[12,11323,14,11328,13,11333,14,11339,null,null,0,1111]
[21,11434,12,11446,13,11451,14,11457,null,null,0,2111]
[12,11565,23,11576,24,11580,23,11585,null,null,0,1222]
[12,11724,14,11729,13,11734,14,11741,null,null,0,1111]
[21,11933,21,11938,22,11944,23,11950,null,null,0,2222]
[21,12091,12,12105,13,12124,14,12137,null,null,0,2111]
[21,12240,12,12254,13,12258,14,12269,null,null,0,2111]
[21,12364,12,12378,13,12382,14,12388,null,null,0,2111]
[12,12479,14,12485,13,12491,14,12498,null,null,0,1111]
[21,12606,12,12619,13,12624,14,12628,null,null,0,2111]
[21,12780,12,12798,13,12804,14,12811,null,null,0,2111]
[12,12906,23,12920,24,12926,23,12933,null,null,0,1222]
[21,13030,12,13043,13,13047,14,13053,null,null,0,2111]
[21,13153,12,13167,13,13172,14,13177,null,null,0,2111]
[12,13332,23,13348,24,13352,23,13358,null,null,0,1222]
[12,13530,14,13534,13,13542,14,13548,null,null,0,1111]
[21,13642,21,13649,11,13668,21,13683,null,null,0,2212]
[21,13870,21,13875,22,13880,23,13886,null,null,0,2222]
[21,13986,12,13999,13,14010,14,14017,null,null,0,2111]
[21,14125,12,14138,13,14144,14,14150,null,null,0,2111]
[12,14247,14,14254,13,14259,14,14266,null,null,0,1111]
[21,14371,21,14375,11,14386,12,14392,null,null,0,2211]
[21,14485,12,14496,13,14501,14,14506,null,null,0,2111]
[21,14606,12,14621,13,14625,14,14630,null,null,0,2111]
[21,14724,21,14739,22,14743,14,14756,null,null,0,2221]
[21,14859,12,14875,13,14880,14,14886,null,null,0,2111]
[21,15013,21,15018,22,15024,23,15031,null,null,0,2222]
[21,15126,12,15139,13,15144,14,15151,null,null,0,2111]
[21,15248,21,15262,22,15268,14,15280,null,null,0,2221]
[21,15390,21,15395,11,15409,12,15416,null,null,0,2211]
[12,15513,23,15529,24,15535,23,15546,null,null,0,1222]
[21,15647,12,15664,13,15669,14,15674,null,null,0,2111]
[21,15768,12,15782,13,15793,14,15800,null,null,0,2111]
[21,15904,21,15909,11,15921,12,15924,null,null,0,2211]
[21,16038,21,16042,11,16055,12,16059,null,null,0,2211]
[21,16164,12,16180,13,16185,14,16198,null,null,0,2111]
[21,16313,12,16329,13,16335,14,16342,null,null,0,2111]
[21,16478,12,16493,13,16500,14,16518,null,null,0,2111]
[12,16623,14,16629,13,16636,14,16642,null,null,0,1111]
[21,16751,12,16764,13,16768,14,16773,null,null,0,2111]
[21,16982,21,16988,11,16998,12,17001,null,null,0,2211]
[21,17208,12,17221,13,17226,14,17234,null,null,0,2111]
[21,17336,21,17355,11,17367,12,17371,null,null,0,2211]
[21,17468,21,17485,22,17503,14,17519,null,null,0,2221]
[21,17674,12,17692,13,17700,14,17706,null,null,0,2111]
[21,17821,21,17825,22,17830,23,17836,null,null,0,2222]
[12,17954,14,17961,13,17966,14,17973,null,null,0,1111]
[21,18130,12,18165,13,18172,14,18178,null,null,0,2111]
[12,18278,14,18283,13,18287,14,18293,null,null,0,1111]
[21,18424,12,18438,13,18442,14,18449,null,null,0,2111]
[21,18548,21,18567,11,18579,12,18583,null,null,0,2211]
[21,18684,12,18697,13,18700,14,18708,null,null,0,2111]
[12,18848,14,18853,13,18858,14,18864,null,null,0,1111]
[21,18956,12,18972,13,18977,14,18983,null,null,0,2111]
[21,19100,12,19115,13,19120,14,19124,null,null,0,2111]
[21,19251,12,19264,13,19268,14,19277,null,null,0,2111]
[21,19377,12,19389,13,19394,14,19400,null,null,0,2111]
[12,19497,14,19501,13,19508,14,19513,null,null,0,1111]
[21,19614,12,19626,13,19630,14,19634,null,null,0,2111]
[12,19749,14,19755,13,19761,14,19776,null,null,0,1111]
[21,19881,12,19895,13,19899,14,19905,null,null,0,2111]
[12,20007,23,20026,24,20032,23,20037,null,null,0,1222]
[21,20150,21,20155,11,20167,12,20171,null,null,0,2211]
[12,20276,14,20282,13,20288,14,20293,null,null,0,1111]
[21,20392,12,20405,13,20410,14,20417,null,null,0,2111]
[21,20521,12,20536,13,20540,14,20545,null,null,0,2111]
[12,20662,14,20667,13,20677,14,20685,null,null,0,1111]
[12,20843,23,20858,24,20863,23,20870,null,null,0,1222]
[21,21031,21,21035,22,21040,23,21050,null,null,0,2222]
[21,21156,12,21168,13,21172,14,21180,null,null,0,2111]
[21,21296,12,21313,13,21319,14,21328,null,null,0,2111]
[21,21429,12,21443,13,21447,14,21453,null,null,0,2111]
[21,21561,12,21574,13,21579,14,21586,null,null,0,2111]
[21,21793,21,21798,22,21811,23,21817,null,null,0,2222]
[21,21919,12,21936,13,21941,14,21947,null,null,0,2111]
[21,22087,21,22091,22,22098,23,22105,null,null,0,2222]
[21,22213,12,22227,13,22230,14,22236,null,null,0,2111]
[12,22332,14,22337,13,22342,14,22348,null,null,0,1111]
[12,22452,14,22457,13,22464,14,22478,null,null,0,1111]
[21,22645,21,22651,11,22660,12,22664,null,null,0,2211]
[12,22779,14,22784,13,22789,14,22796,null,null,0,1111]
[21,22903,12,22914,13,22919,14,22929,null,null,0,2111]
[21,23069,12,23082,13,23086,14,23092,null,null,0,2111]
[21,23195,12,23209,13,23214,14,23226,null,null,0,2111]
[21,23415,21,23420,22,23427,23,23433,null,null,0,2222]
[12,23576,14,23582,13,23592,14,23597,null,null,0,1111]
[12,23710,14,23714,13,23720,14,23726,null,null,0,1111]
[21,23873,12,23887,13,23892,14,23900,null,null,0,2111]

{"sheet":"!LB06945.. d","index":5,"n_rows":178,"n_cols":48,"rows_kept":178,"cut":false,"hidden":false,"merged":[[1,1,1,2],[5,13,5,14],[26,13,26,14],[27,13,27,14],[4,19,4,22],[5,19,5,20],[4,39,4,42],[5,39,5,40],[4,44,4,47],[5,44,5,45],[4,24,4,27],[5,24,5,25],[4,29,4,32],[5,29,5,30],[4,34,4,37],[5,34,5,35]]}
["Report for:!LB06945.. d"]
["Date:","<date>"]
["Hen:","<hen>",null,null,null,"Correct Sequence",{"$f":"Start!J2","v":2212},null,null,null,null,null,null,null,null,"Total Sequences in Data",{"$f":"4994-COUNTBLANK(L7:L5000)","v":172},null,null,null,null,"Total Sequences in Block Data",{"$f":"COUNTA(L7:L35)","v":29},null,null,null,"Total Sequences in Block Data",{"$f":"COUNTA(L36:L63)","v":28},null,null,null,"Total Sequences in Block Data",{"$f":"COUNTA(L64:L92)","v":29},null,null,null,"Total Sequences in Block Data",{"$f":"COUNTA(L93:L121)","v":29},null,null,null,"Total Sequences in Block Data",{"$f":"COUNTA(L122:L149)","v":28},null,null,null,"Total Sequences in Block Data",{"$f":"COUNTA(L150:L178)","v":29}]
[null,null,null,null,null,null,null,null,null,null,null,null,null,null,null,"Total Sequences in Summary",{"$f":"SUM(O7:O22)","v":172},null,null,null,null,"Total Sequences in Block Summary",{"$f":"SUM(U7:U22)","v":29},null,null,null,"Total Sequences in Block Summary",{"$f":"SUM(Z7:Z22)","v":28},null,null,null,"Total Sequences in Block Summary",{"$f":"SUM(AE7:AE22)","v":29},null,null,null,"Total Sequences in Block Summary",{"$f":"SUM(AJ7:AJ22)","v":29},null,null,null,"Total Sequences in Block Summary",{"$f":"SUM(AO7:AO22)","v":28},null,null,null,"Total Sequences in Block Summary",{"$f":"SUM(AT7:AT22)","v":29}]
[null,null,null,null,null,null,null,null,null,null,null,null,null,null,null,null,null,null,null,"Block 1",null,null,null,null,"Block 2",null,null,null,null,"Block 3",null,null,null,null,"Block 4",null,null,null,null,"Block 5",null,null,null,null,"Block 6"]
["Sequence\nComponent\n1","Time\n1","Sequence\nComponent\n2","Time\n2","Sequence\nComponent\n3","Time\n3","Sequence\nComponent\n4","Time\n4","Sequence\nComponent\n5","Time\n5","Correct?\n0=No 1=Yes","Sequence",null,"Frequency",null,"Relative Frequency","Variability",null,null,"Frequency",null,"Relative Frequency","Variability",null,"Frequency",null,"Relative Frequency","Variability",null,"Frequency",null,"Relative Frequency","Variability",null,"Frequency",null,"Relative Frequency","Variability",null,"Frequency",null,"Relative Frequency","Variability",null,"Frequency",null,"Relative Frequency","Variability"]
[21,22,12,32,13,35,14,41,null,null,0,2111,null,1111,{"$f":"COUNTIF($L$7:$L$500,N7)","v":68},{"$f":"O7/$Q$4","v":0.39534883720930231},{"$f":"IF(P7=0,0,(P7*((LOG(P7))/LOG(2))))","v":-0.52929377973674174},null,null,{"$f":"N7","v":1111},{"$f":"COUNTIF(L7:L35,T7)","v":8},{"$f":"U7/(W4-U20)","v":0.27586206896551724},{"$f":"IF(V7=0,0,(V7*((LOG(V7))/LOG(2))))","v":-0.51254648141450265},null,{"$f":"N7","v":1111},{"$f":"COUNTIF(L36:L63,Y7)","v":4},{"$f":"Z7/(AB4-Z20)","v":0.14285714285714285},{"$f":"IF(AA7=0,0,(AA7*((LOG(AA7))/LOG(2))))","v":-0.40105070315108626},null,{"$f":"N7","v":1111},{"$f":"COUNTIF(L64:L92,AD7)","v":8},{"$f":"AE7/(AG4-AE20)","v":0.27586206896551724},{"$f":"IF(AF7=0,0,(AF7*((LOG(AF7))/LOG(2))))","v":-0.51254648141450265},null,{"$f":"N7","v":1111},{"$f":"COUNTIF(L93:L121,AI7)","v":14},{"$f":"AJ7/(AL4-AJ20)","v":0.48275862068965519},{"$f":"IF(AK7=0,0,(AK7*((LOG(AK7))/LOG(2))))","v":-0.50719879389584666},null,{"$f":"N7","v":1111},{"$f":"COUNTIF(L122:L149,AN7)","v":15},{"$f":"AO7/(AQ4-AO20)","v":0.5357142857142857},{"$f":"IF(AP7=0,0,(AP7*((LOG(AP7))/LOG(2))))","v":-0.48239160345486726},null,{"$f":"N7","v":1111},{"$f":"COUNTIF(L150:L178,AS7)","v":19},{"$f":"AT7/(AV4-AT20)","v":0.65517241379310343},{"$f":"IF(AU7=0,0,(AU7*((LOG(AU7))/LOG(2))))","v":-0.39969021213778433}]
[12,351,14,355,13,360,14,370,null,null,0,1111,null,1112,0,0,0,null,null,1112,{"$f":"COUNTIF(L7:L35,T8)","v":0},{"$f":"U8/(W4-U20)","v":0},0,null,1112,{"$f":"COUNTIF(L36:L63,Y8)","v":0},{"$f":"Z8/(AB4-Z20)","v":0},0,null,1112,{"$f":"COUNTIF(L64:L92,AD8)","v":0},{"$f":"AE8/(AG4-AE20)","v":0},0,null,1112,{"$f":"COUNTIF(L93:L121,AI8)","v":0},{"$f":"AJ8/(AL4-AJ20)","v":0},0,null,1112,{"$f":"COUNTIF(L122:L149,AN8)","v":0},{"$f":"AO8/(AQ4-AO20)","v":0},0,null,1112,{"$f":"COUNTIF(L150:L178,AS8)","v":0},{"$f":"AT8/(AV4-AT20)","v":0},0]
[21,534,12,546,13,551,14,555,null,null,0,2111,null,1121,0,0,0,null,null,1121,{"$f":"COUNTIF(L7:L35,T9)","v":0},{"$f":"U9/(W4-U20)","v":0},0,null,1121,{"$f":"COUNTIF(L36:L63,Y9)","v":0},{"$f":"Z9/(AB4-Z20)","v":0},0,null,1121,{"$f":"COUNTIF(L64:L92,AD9)","v":0},{"$f":"AE9/(AG4-AE20)","v":0},0,null,1121,{"$f":"COUNTIF(L93:L121,AI9)","v":0},{"$f":"AJ9/(AL4-AJ20)","v":0},0,null,1121,{"$f":"COUNTIF(L122:L149,AN9)","v":0},{"$f":"AO9/(AQ4-AO20)","v":0},0,null,1121,{"$f":"COUNTIF(L150:L178,AS9)","v":0},{"$f":"AT9/(AV4-AT20)","v":0},0]
[21,658,12,666,13,669,14,675,null,null,0,2111,null,1122,2,1.1627906976744186E-2,-7.4724008775605782E-2,null,null,1122,{"$f":"COUNTIF(L7:L35,T10)","v":1},{"$f":"U10/(W4-U20)","v":3.4482758620689655E-2},-0.16751658603888178,null,1122,{"$f":"COUNTIF(L36:L63,Y10)","v":0},{"$f":"Z10/(AB4-Z20)","v":0},0,null,1122,{"$f":"COUNTIF(L64:L92,AD10)","v":0},{"$f":"AE10/(AG4-AE20)","v":0},0,null,1122,{"$f":"COUNTIF(L93:L121,AI10)","v":0},{"$f":"AJ10/(AL4-AJ20)","v":0},0,null,1122,{"$f":"COUNTIF(L122:L149,AN10)","v":1},{"$f":"AO10/(AQ4-AO20)","v":3.5714285714285712E-2},-0.17169124721634299,null,1122,{"$f":"COUNTIF(L150:L178,AS10)","v":0},{"$f":"AT10/(AV4-AT20)","v":0},0]
[21,775,12,785,13,790,14,795,null,null,0,2111,null,1211,0,0,0,null,null,1211,{"$f":"COUNTIF(L7:L35,T11)","v":0},{"$f":"U11/(W4-U20)","v":0},0,null,1211,{"$f":"COUNTIF(L36:L63,Y11)","v":0},{"$f":"Z11/(AB4-Z20)","v":0},0,null,1211,{"$f":"COUNTIF(L64:L92,AD11)","v":0},{"$f":"AE11/(AG4-AE20)","v":0},0,null,1211,{"$f":"COUNTIF(L93:L121,AI11)","v":0},{"$f":"AJ11/(AL4-AJ20)","v":0},0,null,1211,{"$f":"COUNTIF(L122:L149,AN11)","v":0},{"$f":"AO11/(AQ4-AO20)","v":0},0,null,1211,{"$f":"COUNTIF(L150:L178,AS11)","v":0},{"$f":"AT11/(AV4-AT20)","v":0},0]
[12,909,14,914,13,923,14,948,null,null,0,1111,null,1212,0,0,0,null,null,1212,{"$f":"COUNTIF(L7:L35,T12)","v":0},{"$f":"U12/(W4-U20)","v":0},0,null,1212,{"$f":"COUNTIF(L36:L63,Y12)","v":0},{"$f":"Z12/(AB4-Z20)","v":0},0,null,1212,{"$f":"COUNTIF(L64:L92,AD12)","v":0},{"$f":"AE12/(AG4-AE20)","v":0},0,null,1212,{"$f":"COUNTIF(L93:L121,AI12)","v":0},{"$f":"AJ12/(AL4-AJ20)","v":0},0,null,1212,{"$f":"COUNTIF(L122:L149,AN12)","v":0},{"$f":"AO12/(AQ4-AO20)","v":0},0,null,1212,{"$f":"COUNTIF(L150:L178,AS12)","v":0},{"$f":"AT12/(AV4-AT20)","v":0},0]
[21,1108,12,1119,13,1127,14,1133,null,null,0,2111,null,1221,0,0,0,null,null,1221,{"$f":"COUNTIF(L7:L35,T13)","v":0},{"$f":"U13/(W4-U20)","v":0},0,null,1221,{"$f":"COUNTIF(L36:L63,Y13)","v":0},{"$f":"Z13/(AB4-Z20)","v":0},0,null,1221,{"$f":"COUNTIF(L64:L92,AD13)","v":0},{"$f":"AE13/(AG4-AE20)","v":0},0,null,1221,{"$f":"COUNTIF(L93:L121,AI13)","v":0},{"$f":"AJ13/(AL4-AJ20)","v":0},0,null,1221,{"$f":"COUNTIF(L122:L149,AN13)","v":0},{"$f":"AO13/(AQ4-AO20)","v":0},0,null,1221,{"$f":"COUNTIF(L150:L178,AS13)","v":0},{"$f":"AT13/(AV4-AT20)","v":0},0]
[12,1231,23,1243,24,1248,23,1254,null,null,0,1222,null,1222,8,4.6511627906976744E-2,-0.20587277928846967,null,null,1222,{"$f":"COUNTIF(L7:L35,T14)","v":4},{"$f":"U14/(W4-U20)","v":0.13793103448275862},-0.39420427519000989,null,1222,{"$f":"COUNTIF(L36:L63,Y14)","v":1},{"$f":"Z14/(AB4-Z20)","v":3.5714285714285712E-2},-0.17169124721634299,null,1222,{"$f":"COUNTIF(L64:L92,AD14)","v":1},{"$f":"AE14/(AG4-AE20)","v":3.4482758620689655E-2},-0.16751658603888178,null,1222,{"$f":"COUNTIF(L93:L121,AI14)","v":0},{"$f":"AJ14/(AL4-AJ20)","v":0},0,null,1222,{"$f":"COUNTIF(L122:L149,AN14)","v":2},{"$f":"AO14/(AQ4-AO20)","v":7.1428571428571425E-2},-0.27195392300411453,null,1222,{"$f":"COUNTIF(L150:L178,AS14)","v":0},{"$f":"AT14/(AV4-AT20)","v":0},0]
[12,1358,14,1363,13,1370,14,1379,null,null,0,1111,null,2111,72,0.41860465116279072,-0.52590966415525897,null,null,2111,{"$f":"COUNTIF(L7:L35,T15)","v":13},{"$f":"U15/(W4-U20)","v":0.44827586206896552},-0.51889781382152544,null,2111,{"$f":"COUNTIF(L36:L63,Y15)","v":15},{"$f":"Z15/(AB4-Z20)","v":0.5357142857142857},-0.48239160345486726,null,2111,{"$f":"COUNTIF(L64:L92,AD15)","v":14},{"$f":"AE15/(AG4-AE20)","v":0.48275862068965519},-0.50719879389584666,null,2111,{"$f":"COUNTIF(L93:L121,AI15)","v":12},{"$f":"AJ15/(AL4-AJ20)","v":0.41379310344827586},-0.5267662735474824,null,2111,{"$f":"COUNTIF(L122:L149,AN15)","v":9},{"$f":"AO15/(AQ4-AO20)","v":0.32142857142857145},-0.5263167601977724,null,2111,{"$f":"COUNTIF(L150:L178,AS15)","v":9},{"$f":"AT15/(AV4-AT20)","v":0.31034482758620691},-0.52387944631611505]
[21,1471,21,1495,11,1505,12,1510,null,null,0,2211,null,2112,0,0,0,null,null,2112,{"$f":"COUNTIF(L7:L35,T16)","v":0},{"$f":"U16/(W4-U20)","v":0},0,null,2112,{"$f":"COUNTIF(L36:L63,Y16)","v":0},{"$f":"Z16/(AB4-Z20)","v":0},0,null,2112,{"$f":"COUNTIF(L64:L92,AD16)","v":0},{"$f":"AE16/(AG4-AE20)","v":0},0,null,2112,{"$f":"COUNTIF(L93:L121,AI16)","v":0},{"$f":"AJ16/(AL4-AJ20)","v":0},0,null,2112,{"$f":"COUNTIF(L122:L149,AN16)","v":0},{"$f":"AO16/(AQ4-AO20)","v":0},0,null,2112,{"$f":"COUNTIF(L150:L178,AS16)","v":0},{"$f":"AT16/(AV4-AT20)","v":0},0]
[21,1608,12,1621,13,1630,14,1635,null,null,0,2111,null,2121,0,0,0,null,null,2121,{"$f":"COUNTIF(L7:L35,T17)","v":0},{"$f":"U17/(W4-U20)","v":0},0,null,2121,{"$f":"COUNTIF(L36:L63,Y17)","v":0},{"$f":"Z17/(AB4-Z20)","v":0},0,null,2121,{"$f":"COUNTIF(L64:L92,AD17)","v":0},{"$f":"AE17/(AG4-AE20)","v":0},0,null,2121,{"$f":"COUNTIF(L93:L121,AI17)","v":0},{"$f":"AJ17/(AL4-AJ20)","v":0},0,null,2121,{"$f":"COUNTIF(L122:L149,AN17)","v":0},{"$f":"AO17/(AQ4-AO20)","v":0},0,null,2121,{"$f":"COUNTIF(L150:L178,AS17)","v":0},{"$f":"AT17/(AV4-AT20)","v":0},0]
[21,1741,12,1754,13,1758,14,1761,null,null,0,2111,null,2122,0,0,0,null,null,2122,{"$f":"COUNTIF(L7:L35,T18)","v":0},{"$f":"U18/(W4-U20)","v":0},0,null,2122,{"$f":"COUNTIF(L36:L63,Y18)","v":0},{"$f":"Z18/(AB4-Z20)","v":0},0,null,2122,{"$f":"COUNTIF(L64:L92,AD18)","v":0},{"$f":"AE18/(AG4-AE20)","v":0},0,null,2122,{"$f":"COUNTIF(L93:L121,AI18)","v":0},{"$f":"AJ18/(AL4-AJ20)","v":0},0,null,2122,{"$f":"COUNTIF(L122:L149,AN18)","v":0},{"$f":"AO18/(AQ4-AO20)","v":0},0,null,2122,{"$f":"COUNTIF(L150:L178,AS18)","v":0},{"$f":"AT18/(AV4-AT20)","v":0},0]
[12,1859,14,1862,24,1872,23,1876,null,null,0,1122,null,2211,16,9.3023255813953487E-2,-0.31872230276298585,null,null,2211,{"$f":"COUNTIF(L7:L35,T19)","v":3},{"$f":"U19/(W4-U20)","v":0.10344827586206896},-0.33858812011100858,null,2211,{"$f":"COUNTIF(L36:L63,Y19)","v":4},{"$f":"Z19/(AB4-Z20)","v":0.14285714285714285},-0.40105070315108626,null,2211,{"$f":"COUNTIF(L64:L92,AD19)","v":5},{"$f":"AE19/(AG4-AE20)","v":0.17241379310344829},-0.43725050004141547,null,2211,{"$f":"COUNTIF(L93:L121,AI19)","v":3},{"$f":"AJ19/(AL4-AJ20)","v":0.10344827586206896},-0.33858812011100858,null,2211,{"$f":"COUNTIF(L122:L149,AN19)","v":1},{"$f":"AO19/(AQ4-AO20)","v":3.5714285714285712E-2},-0.17169124721634299,null,2211,{"$f":"COUNTIF(L150:L178,AS19)","v":0},{"$f":"AT19/(AV4-AT20)","v":0},0]
[21,1977,21,1982,11,1990,12,1995,null,null,0,2211,null,2212,0,0,0,null,null,2212,{"$f":"COUNTIF(L7:L35,T20)","v":0},null,null,null,2212,{"$f":"COUNTIF(L36:L63,Y20)","v":0},null,null,null,2212,{"$f":"COUNTIF(L64:L92,AD20)","v":0},null,null,null,2212,{"$f":"COUNTIF(L93:L121,AI20)","v":0},null,null,null,2212,{"$f":"COUNTIF(L122:L149,AN20)","v":0},null,null,null,2212,{"$f":"COUNTIF(L150:L178,AS20)","v":0}]
[21,2090,12,2102,13,2106,14,2110,null,null,0,2111,null,2221,4,2.3255813953488372E-2,-0.12619220359772321,null,null,2221,{"$f":"COUNTIF(L7:L35,T21)","v":0},{"$f":"U21/(W4-U20)","v":0},{"$f":"IF(V21=0,0,(V21*((LOG(V21))/LOG(2))))","v":0},null,2221,{"$f":"COUNTIF(L36:L63,Y21)","v":3},{"$f":"Z21/(AB4-Z20)","v":0.10714285714285714},{"$f":"IF(AA21=0,0,(AA21*((LOG(AA21))/LOG(2))))","v":-0.34525633085747659},null,2221,{"$f":"COUNTIF(L64:L92,AD21)","v":0},{"$f":"AE21/(AG4-AE20)","v":0},{"$f":"IF(AF21=0,0,(AF21*((LOG(AF21))/LOG(2))))","v":0},null,2221,{"$f":"COUNTIF(L93:L121,AI21)","v":0},{"$f":"AJ21/(AL4-AJ20)","v":0},{"$f":"IF(AK21=0,0,(AK21*((LOG(AK21))/LOG(2))))","v":0},null,2221,{"$f":"COUNTIF(L122:L149,AN21)","v":0},{"$f":"AO21/(AQ4-AO20)","v":0},{"$f":"IF(AP21=0,0,(AP21*((LOG(AP21))/LOG(2))))","v":0},null,2221,{"$f":"COUNTIF(L150:L178,AS21)","v":1},{"$f":"AT21/(AV4-AT20)","v":3.4482758620689655E-2},{"$f":"IF(AU21=0,0,(AU21*((LOG(AU21))/LOG(2))))","v":-0.16751658603888178}]
[12,2205,23,2217,24,2221,23,2227,null,null,0,1222,null,2222,2,1.1627906976744186E-2,-7.4724008775605782E-2,null,null,2222,{"$f":"COUNTIF(L7:L35,T22)","v":0},{"$f":"U22/(W4-U20)","v":0},{"$f":"IF(V22=0,0,(V22*((LOG(V22))/LOG(2))))","v":0},null,2222,{"$f":"COUNTIF(L36:L63,Y22)","v":1},{"$f":"Z22/(AB4-Z20)","v":3.5714285714285712E-2},{"$f":"IF(AA22=0,0,(AA22*((LOG(AA22))/LOG(2))))","v":-0.17169124721634299},null,2222,{"$f":"COUNTIF(L64:L92,AD22)","v":1},{"$f":"AE22/(AG4-AE20)","v":3.4482758620689655E-2},{"$f":"IF(AF22=0,0,(AF22*((LOG(AF22))/LOG(2))))","v":-0.16751658603888178},null,2222,{"$f":"COUNTIF(L93:L121,AI22)","v":0},{"$f":"AJ22/(AL4-AJ20)","v":0},{"$f":"IF(AK22=0,0,(AK22*((LOG(AK22))/LOG(2))))","v":0},null,2222,{"$f":"COUNTIF(L122:L149,AN22)","v":0},{"$f":"AO22/(AQ4-AO20)","v":0},{"$f":"IF(AP22=0,0,(AP22*((LOG(AP22))/LOG(2))))","v":0},null,2222,{"$f":"COUNTIF(L150:L178,AS22)","v":0},{"$f":"AT22/(AV4-AT20)","v":0},{"$f":"IF(AU22=0,0,(AU22*((LOG(AU22))/LOG(2))))","v":0}]
[12,2332,14,2335,13,2340,14,2351,null,null,0,1111,null,null,null,{"$f":"SUM(P7:P22)","v":1},{"$f":"-SUM(Q7:Q22)","v":1.855438747092391},null,null,null,null,{"$f":"SUM(V7:V22)","v":1},{"$f":"-SUM(W7:W22)","v":1.9317532765759284},null,null,null,{"$f":"SUM(AA7:AA22)","v":0.99999999999999978},{"$f":"-SUM(AB7:AB22)","v":1.9731318350472025},null,null,null,{"$f":"SUM(AF7:AF22)","v":1},{"$f":"-SUM(AG7:AG22)","v":1.7920289474295283},null,null,null,{"$f":"SUM(AK7:AK22)","v":1},{"$f":"-SUM(AL7:AL22)","v":1.3725531875543375},null,null,null,{"$f":"SUM(AP7:AP22)","v":0.99999999999999989},{"$f":"-SUM(AQ7:AQ22)","v":1.6240447810894403},null,null,null,{"$f":"SUM(AU7:AU22)","v":0.99999999999999989},{"$f":"-SUM(AV7:AV22)","v":1.0910862444927811}]
[21,2473,12,2483,13,2487,14,2493,null,null,0,2111,null,null,null,"U=",{"$f":"Q23/(LOG(Q4)/LOG(2))","v":0.24984818187603405},null,null,null,null,"U1=",{"$f":"W23/(LOG(W4)/LOG(2))","v":0.39764529307822044},null,null,null,"U2=",{"$f":"AB23/(LOG(AB4)/LOG(2))","v":0.41044022483005665},null,null,null,"U3=",{"$f":"AG23/(LOG(AG4)/LOG(2))","v":0.36888348250577485},null,null,null,"U4=",{"$f":"AL23/(LOG(AL4)/LOG(2))","v":0.28253572604153299},null,null,null,"U5=",{"$f":"AQ23/(LOG(AQ4)/LOG(2))","v":0.33782502174695483},null,null,null,"U6=",{"$f":"AV23/(LOG(AV4)/LOG(2))","v":0.22459664736999016}]
[12,2588,14,2597,13,2603,14,2609,null,null,0,1111]
[12,2711,14,2716,13,2721,14,2726,null,null,0,1111]
[12,2830,23,2843,24,2849,23,2856,null,null,0,1222,null,"Total Target Seq"]
[21,2957,12,2967,13,2972,14,2977,null,null,0,2111,null,{"$f":"COUNTIF(L7:L178,G3)","v":0},null,29,28,29,29,28,29]
[21,3080,21,3103,11,3114,12,3118,null,null,0,2211,null,null,null,"% of reinforcement given in 6 equal intervals based on number of trials "]
[12,3259,14,3268,13,3275,14,3282,null,null,0,1111,null,null,null,"%_1","%_2","%_3","%_4","%_5","%_6"]
[21,3388,12,3404,13,3410,14,3417,null,null,0,2111,null,null,"target sequence",{"$f":"$G$3","v":2212},2212,2212,2212,2212,2212]
[21,3511,12,3525,13,3528,14,3533,null,null,0,2111,null,null,"total reinforcement",{"$f":"U20","v":0},{"$f":"Z20","v":0},{"$f":"AE20","v":0},{"$f":"AJ20","v":0},{"$f":"AO20","v":0},{"$f":"AT20","v":0}]
[12,3633,14,3637,13,3643,14,3648,null,null,0,1111,null,null,"% target"]
[21,3746,12,3773,13,3777,14,3783,null,null,0,2111,null,null,"CCRF"]
[12,3879,23,3892,24,3896,23,3902,null,null,0,1222,null,null,"% CCRf"]
[12,4072,14,4085,13,4093,14,4109,null,null,0,1111,null,null,"average response rate",{"$f":"H35/P28","v":134.55172413793105},{"$f":"(H63-H35)/Q28","v":136.21428571428572},{"$f":"(H92-H63)/R28","v":134.20689655172413},{"$f":"(H121-H92)/S28","v":140.37931034482759},{"$f":"(H149-H121)/T28","v":140.5},{"$f":"(H178-H149)/U28","v":147.06896551724137}]
[21,4201,21,4206,22,4232,14,4246,null,null,0,2221]
[21,4348,21,4368,11,4380,12,4384,null,null,0,2211]
[21,4460,12,4473,13,4477,14,4486,null,null,0,2111]
[21,4691,12,4699,13,4703,14,4710,null,null,0,2111]
[21,4867,12,4876,13,4881,14,4887,null,null,0,2111]
[12,4998,14,5003,13,5007,14,5012,null,null,0,1111]
[21,5190,12,5207,13,5212,14,5218,null,null,0,2111]
[21,5334,21,5337,22,5343,23,5351,null,null,0,2222]
[21,5456,12,5470,13,5474,14,5480,null,null,0,2111]
[21,5590,12,5601,13,5605,14,5608,null,null,0,2111]
[21,5707,12,5720,13,5724,14,5729,null,null,0,2111]
[21,5853,21,5863,22,5866,14,5876,null,null,0,2221]
[21,5987,21,5991,11,6001,12,6005,null,null,0,2211]
[21,6103,12,6114,13,6119,14,6125,null,null,0,2111]
[21,6228,12,6239,13,6245,14,6261,null,null,0,2111]
[21,6353,21,6356,22,6383,14,6395,null,null,0,2221]
[21,6496,21,6517,11,6528,12,6532,null,null,0,2211]
[21,6625,21,6648,11,6661,12,6664,null,null,0,2211]
[12,6682,14,6687,13,6693,14,6700,null,null,0,1111]
[12,6809,14,6814,13,6819,14,6824,null,null,0,1111]
[21,6931,12,6944,13,6949,14,6955,null,null,0,2111]
[21,7059,12,7072,13,7076,14,7081,null,null,0,2111]
[21,7184,12,7197,13,7201,14,7205,null,null,0,2111]
[21,7302,12,7318,13,7322,14,7329,null,null,0,2111]
[21,7426,12,7438,13,7443,14,7448,null,null,0,2111]
[21,7550,12,7563,13,7568,14,7573,null,null,0,2111]
[12,7684,23,7705,24,7710,23,7716,null,null,0,1222]
[12,7813,14,7823,13,7829,14,7834,null,null,0,1111]
[21,7940,12,7957,13,7962,14,7969,null,null,0,2111]
[21,8082,12,8096,13,8102,14,8107,null,null,0,2111]
[21,8233,12,8247,13,8253,14,8257,null,null,0,2111]
[21,8368,12,8379,13,8383,14,8389,null,null,0,2111]
[21,8481,12,8493,13,8497,14,8501,null,null,0,2111]
[21,8598,12,8612,13,8614,14,8620,null,null,0,2111]
[21,8819,12,8830,13,8834,14,8839,null,null,0,2111]
[12,9090,23,9114,24,9118,23,9125,null,null,0,1222]
[12,9248,14,9252,13,9258,14,9264,null,null,0,1111]
[21,9358,12,9371,13,9375,14,9381,null,null,0,2111]
[12,9486,14,9492,13,9497,14,9503,null,null,0,1111]
[12,9615,14,9619,13,9626,14,9632,null,null,0,1111]
[21,9735,12,9746,13,9751,14,9758,null,null,0,2111]
[21,9878,21,9882,22,9887,23,9893,null,null,0,2222]
[21,10004,12,10017,13,10023,14,10028,null,null,0,2111]
[21,10178,21,10188,11,10206,12,10212,null,null,0,2211]
[21,10314,21,10318,11,10329,12,10337,null,null,0,2211]
[21,10432,21,10437,11,10450,12,10454,null,null,0,2211]
[12,10549,14,10555,13,10560,14,10565,null,null,0,1111]
[21,10669,21,10672,11,10683,12,10687,null,null,0,2211]
[21,10786,21,10791,11,10803,12,10807,null,null,0,2211]
[12,10817,14,10828,13,10834,14,10842,null,null,0,1111]
[21,10939,12,10951,13,10959,14,10964,null,null,0,2111]
[21,11078,12,11096,13,11099,14,11106,null,null,0,2111]
[12,11209,14,11214,13,11219,14,11226,null,null,0,1111]
[21,11339,12,11353,13,11358,14,11362,null,null,0,2111]
[12,11474,14,11478,13,11483,14,11488,null,null,0,1111]
[21,11587,12,11598,13,11601,14,11608,null,null,0,2111]
[21,11708,21,11720,11,11734,12,11743,null,null,0,2211]
[21,11771,12,11786,13,11792,14,11799,null,null,0,2111]
[12,11909,14,11914,13,11921,14,11927,null,null,0,1111]
[21,12022,12,12038,13,12042,14,12048,null,null,0,2111]
[21,12152,12,12164,13,12168,14,12175,null,null,0,2111]
[21,12280,12,12295,13,12300,14,12305,null,null,0,2111]
[21,12402,12,12417,13,12421,14,12427,null,null,0,2111]
[21,12526,12,12545,13,12549,14,12555,null,null,0,2111]
[12,12672,14,12677,13,12682,14,12687,null,null,0,1111]
[12,12792,14,12797,13,12803,14,12809,null,null,0,1111]
[12,12955,14,12960,13,12966,14,12972,null,null,0,1111]
[21,13083,12,13095,13,13099,14,13105,null,null,0,2111]
[21,13205,12,13220,13,13224,14,13226,null,null,0,2111]
[12,13344,14,13349,13,13351,14,13356,null,null,0,1111]
[21,13454,21,13458,11,13471,12,13475,null,null,0,2211]
[12,13596,14,13600,13,13608,14,13614,null,null,0,1111]
[21,13713,21,13715,11,13726,12,13730,null,null,0,2211]
[12,13842,14,13851,13,13856,14,13864,null,null,0,1111]
[21,13975,12,13989,13,13993,14,13996,null,null,0,2111]
[12,14178,14,14188,13,14194,14,14201,null,null,0,1111]
[12,14305,14,14308,13,14314,14,14319,null,null,0,1111]
[12,14437,14,14446,13,14452,14,14458,null,null,0,1111]
[21,14556,12,14576,13,14581,14,14586,null,null,0,2111]
[12,14701,14,14707,13,14713,14,14718,null,null,0,1111]
[12,14906,14,14910,13,14915,14,14920,null,null,0,1111]
[21,15200,12,15216,13,15223,14,15228,null,null,0,2111]
[12,15352,14,15360,13,15366,14,15374,null,null,0,1111]
[12,15478,14,15483,13,15489,14,15495,null,null,0,1111]
[21,15654,12,15670,13,15673,14,15679,null,null,0,2111]
[21,15876,12,15893,13,15902,14,15908,null,null,0,2111]
[21,16013,12,16031,13,16035,14,16040,null,null,0,2111]
[21,16142,12,16155,13,16159,14,16165,null,null,0,2111]
[21,16273,12,16286,13,16290,14,16297,null,null,0,2111]
[21,16449,12,16461,13,16465,14,16471,null,null,0,2111]
[21,16566,12,16583,13,16587,14,16595,null,null,0,2111]
[12,16690,23,16707,24,16713,23,16719,null,null,0,1222]
[12,16840,14,16849,13,16854,14,16861,null,null,0,1111]
[12,16957,14,16962,13,16967,14,16974,null,null,0,1111]
[21,17130,12,17145,13,17150,14,17158,null,null,0,2111]
[12,17328,14,17332,13,17338,14,17347,null,null,0,1111]
[12,17443,14,17453,13,17459,14,17465,null,null,0,1111]
[12,17579,14,17584,13,17589,14,17594,null,null,0,1111]
[12,17699,14,17701,24,17714,23,17717,null,null,0,1122]
[12,17819,14,17821,13,17826,14,17831,null,null,0,1111]
[12,17935,14,17937,13,17939,14,17944,null,null,0,1111]
[21,18067,12,18080,13,18085,14,18097,null,null,0,2111]
[12,18200,14,18204,13,18210,14,18215,null,null,0,1111]
[12,18351,14,18356,13,18362,14,18368,null,null,0,1111]
[12,18468,14,18472,13,18477,14,18482,null,null,0,1111]
[12,18668,23,18682,24,18687,23,18693,null,null,0,1222]
[12,18788,14,18797,13,18803,14,18811,null,null,0,1111]
[12,18913,14,18918,13,18923,14,18929,null,null,0,1111]
[21,19065,21,19070,11,19083,12,19090,null,null,0,2211]
[21,19185,12,19201,13,19206,14,19211,null,null,0,2111]
[12,19311,14,19316,13,19320,14,19326,null,null,0,1111]
[12,19440,14,19444,13,19451,14,19457,null,null,0,1111]
[12,19585,14,19590,13,19595,14,19613,null,null,0,1111]
[12,19751,14,19757,13,19762,14,19768,null,null,0,1111]
[12,20170,14,20176,13,20181,14,20186,null,null,0,1111]
[21,20299,12,20318,13,20324,14,20330,null,null,0,2111]
[21,20425,12,20439,13,20442,14,20447,null,null,0,2111]
[21,20577,12,20590,13,20594,14,20601,null,null,0,2111]
[21,20704,12,20717,13,20721,14,20727,null,null,0,2111]
[12,20825,14,20828,13,20833,14,20838,null,null,0,1111]
[12,20941,14,20945,13,20950,14,20956,null,null,0,1111]
[21,21097,12,21108,13,21111,14,21117,null,null,0,2111]
[12,21215,14,21221,13,21227,14,21233,null,null,0,1111]
[21,21336,12,21352,13,21356,14,21361,null,null,0,2111]
[12,21469,14,21474,13,21481,14,21487,null,null,0,1111]
[12,21591,14,21600,13,21606,14,21614,null,null,0,1111]
[21,21712,12,21732,13,21737,14,21743,null,null,0,2111]
[21,21835,21,21855,22,21859,14,21871,null,null,0,2221]
[12,21973,14,21978,13,21983,14,21988,null,null,0,1111]
[12,22099,14,22104,13,22109,14,22115,null,null,0,1111]
[12,22288,14,22290,13,22296,14,22302,null,null,0,1111]
[12,22401,14,22410,13,22414,14,22420,null,null,0,1111]
[21,22559,12,22573,13,22578,14,22585,null,null,0,2111]
[12,22683,14,22689,13,22694,14,22700,null,null,0,1111]
[12,22800,14,22812,13,22818,14,22826,null,null,0,1111]
[12,22928,14,22932,13,22941,14,22948,null,null,0,1111]
[12,23105,14,23110,13,23117,14,23120,null,null,0,1111]
[12,23298,14,23303,13,23309,14,23314,null,null,0,1111]
[12,23466,14,23476,13,23482,14,23488,null,null,0,1111]
[12,23617,14,23622,13,23628,14,23635,null,null,0,1111]
[21,23741,12,23753,13,23757,14,23762,null,null,0,2111]
[12,23858,14,23866,13,23871,14,23878,null,null,0,1111]

{"sheet":"!LB07C15.. d","index":6,"n_rows":180,"n_cols":48,"rows_kept":180,"cut":false,"hidden":false,"merged":[[1,1,1,2],[5,13,5,14],[26,13,26,14],[27,13,27,14],[4,19,4,22],[5,19,5,20],[4,39,4,42],[5,39,5,40],[4,44,4,47],[5,44,5,45],[4,24,4,27],[5,24,5,25],[4,29,4,32],[5,29,5,30],[4,34,4,37],[5,34,5,35]]}
["Report for:!LB07C15.. d"]
["Date:","<date>"]
["Hen:","<hen>",null,null,null,"Correct Sequence",{"$f":"Start!J2","v":2212},null,null,null,null,null,null,null,null,"Total Sequences in Data",{"$f":"4994-COUNTBLANK(L7:L5000)","v":174},null,null,null,null,"Total Sequences in Block Data",{"$f":"COUNTA(L7:L35)","v":29},null,null,null,"Total Sequences in Block Data",{"$f":"COUNTA(L36:L64)","v":29},null,null,null,"Total Sequences in Block Data",{"$f":"COUNTA(L65:L93)","v":29},null,null,null,"Total Sequences in Block Data",{"$f":"COUNTA(L94:L122)","v":29},null,null,null,"Total Sequences in Block Data",{"$f":"COUNTA(L123:L151)","v":29},null,null,null,"Total Sequences in Block Data",{"$f":"COUNTA(L152:L180)","v":29}]
[null,null,null,null,null,null,null,null,null,null,null,null,null,null,null,"Total Sequences in Summary",{"$f":"SUM(O7:O22)","v":174},null,null,null,null,"Total Sequences in Block Summary",{"$f":"SUM(U7:U22)","v":29},null,null,null,"Total Sequences in Block Summary",{"$f":"SUM(Z7:Z22)","v":29},null,null,null,"Total Sequences in Block Summary",{"$f":"SUM(AE7:AE22)","v":29},null,null,null,"Total Sequences in Block Summary",{"$f":"SUM(AJ7:AJ22)","v":29},null,null,null,"Total Sequences in Block Summary",{"$f":"SUM(AO7:AO22)","v":29},null,null,null,"Total Sequences in Block Summary",{"$f":"SUM(AT7:AT22)","v":29}]
[null,null,null,null,null,null,null,null,null,null,null,null,null,null,null,null,null,null,null,"Block 1",null,null,null,null,"Block 2",null,null,null,null,"Block 3",null,null,null,null,"Block 4",null,null,null,null,"Block 5",null,null,null,null,"Block 6"]
["Sequence\nComponent\n1","Time\n1","Sequence\nComponent\n2","Time\n2","Sequence\nComponent\n3","Time\n3","Sequence\nComponent\n4","Time\n4","Sequence\nComponent\n5","Time\n5","Correct?\n0=No 1=Yes","Sequence",null,"Frequency",null,"Relative Frequency","Variability",null,null,"Frequency",null,"Relative Frequency","Variability",null,"Frequency",null,"Relative Frequency","Variability",null,"Frequency",null,"Relative Frequency","Variability",null,"Frequency",null,"Relative Frequency","Variability",null,"Frequency",null,"Relative Frequency","Variability",null,"Frequency",null,"Relative Frequency","Variability"]
[21,79,12,88,13,94,14,100,null,null,0,2111,null,1111,{"$f":"COUNTIF($L$7:$L$500,N7)","v":75},{"$f":"O7/$Q$4","v":0.43103448275862066},{"$f":"IF(P7=0,0,(P7*((LOG(P7))/LOG(2))))","v":-0.52332965747967564},null,null,{"$f":"N7","v":1111},{"$f":"COUNTIF(L7:L35,T7)","v":13},{"$f":"U7/(W4-U20)","v":0.44827586206896552},{"$f":"IF(V7=0,0,(V7*((LOG(V7))/LOG(2))))","v":-0.51889781382152544},null,{"$f":"N7","v":1111},{"$f":"COUNTIF(L36:L64,Y7)","v":7},{"$f":"Z7/(AB4-Z20)","v":0.2413793103448276},{"$f":"IF(AA7=0,0,(AA7*((LOG(AA7))/LOG(2))))","v":-0.49497870729275095},null,{"$f":"N7","v":1111},{"$f":"COUNTIF(L65:L93,AD7)","v":10},{"$f":"AE7/(AG4-AE20)","v":0.34482758620689657},{"$f":"IF(AF7=0,0,(AF7*((LOG(AF7))/LOG(2))))","v":-0.52967341387593436},null,{"$f":"N7","v":1111},{"$f":"COUNTIF(L94:L122,AI7)","v":9},{"$f":"AJ7/(AL4-AJ20)","v":0.31034482758620691},{"$f":"IF(AK7=0,0,(AK7*((LOG(AK7))/LOG(2))))","v":-0.52387944631611505},null,{"$f":"N7","v":1111},{"$f":"COUNTIF(L123:L151,AN7)","v":21},{"$f":"AO7/(AQ4-AO20)","v":0.72413793103448276},{"$f":"IF(AP7=0,0,(AP7*((LOG(AP7))/LOG(2))))","v":-0.33720465583879472},null,{"$f":"N7","v":1111},{"$f":"COUNTIF(L152:L180,AS7)","v":15},{"$f":"AT7/(AV4-AT20)","v":0.51724137931034486},{"$f":"IF(AU7=0,0,(AU7*((LOG(AU7))/LOG(2))))","v":-0.49194331009606224}]
[12,215,14,217,13,225,14,236,null,null,0,1111,null,1112,0,0,0,null,null,1112,{"$f":"COUNTIF(L7:L35,T8)","v":0},{"$f":"U8/(W4-U20)","v":0},0,null,1112,{"$f":"COUNTIF(L36:L64,Y8)","v":0},{"$f":"Z8/(AB4-Z20)","v":0},0,null,1112,{"$f":"COUNTIF(L65:L93,AD8)","v":0},{"$f":"AE8/(AG4-AE20)","v":0},0,null,1112,{"$f":"COUNTIF(L94:L122,AI8)","v":0},{"$f":"AJ8/(AL4-AJ20)","v":0},0,null,1112,{"$f":"COUNTIF(L123:L151,AN8)","v":0},{"$f":"AO8/(AQ4-AO20)","v":0},0,null,1112,{"$f":"COUNTIF(L152:L180,AS8)","v":0},{"$f":"AT8/(AV4-AT20)","v":0},0]
[21,336,12,350,13,359,14,365,null,null,0,2111,null,1121,0,0,0,null,null,1121,{"$f":"COUNTIF(L7:L35,T9)","v":0},{"$f":"U9/(W4-U20)","v":0},0,null,1121,{"$f":"COUNTIF(L36:L64,Y9)","v":0},{"$f":"Z9/(AB4-Z20)","v":0},0,null,1121,{"$f":"COUNTIF(L65:L93,AD9)","v":0},{"$f":"AE9/(AG4-AE20)","v":0},0,null,1121,{"$f":"COUNTIF(L94:L122,AI9)","v":0},{"$f":"AJ9/(AL4-AJ20)","v":0},0,null,1121,{"$f":"COUNTIF(L123:L151,AN9)","v":0},{"$f":"AO9/(AQ4-AO20)","v":0},0,null,1121,{"$f":"COUNTIF(L152:L180,AS9)","v":0},{"$f":"AT9/(AV4-AT20)","v":0},0]
[21,465,12,475,13,483,14,495,null,null,0,2111,null,1122,0,0,0,null,null,1122,{"$f":"COUNTIF(L7:L35,T10)","v":0},{"$f":"U10/(W4-U20)","v":0},0,null,1122,{"$f":"COUNTIF(L36:L64,Y10)","v":0},{"$f":"Z10/(AB4-Z20)","v":0},0,null,1122,{"$f":"COUNTIF(L65:L93,AD10)","v":0},{"$f":"AE10/(AG4-AE20)","v":0},0,null,1122,{"$f":"COUNTIF(L94:L122,AI10)","v":0},{"$f":"AJ10/(AL4-AJ20)","v":0},0,null,1122,{"$f":"COUNTIF(L123:L151,AN10)","v":0},{"$f":"AO10/(AQ4-AO20)","v":0},0,null,1122,{"$f":"COUNTIF(L152:L180,AS10)","v":0},{"$f":"AT10/(AV4-AT20)","v":0},0]
[12,589,14,601,13,606,14,612,null,null,0,1111,null,1211,0,0,0,null,null,1211,{"$f":"COUNTIF(L7:L35,T11)","v":0},{"$f":"U11/(W4-U20)","v":0},0,null,1211,{"$f":"COUNTIF(L36:L64,Y11)","v":0},{"$f":"Z11/(AB4-Z20)","v":0},0,null,1211,{"$f":"COUNTIF(L65:L93,AD11)","v":0},{"$f":"AE11/(AG4-AE20)","v":0},0,null,1211,{"$f":"COUNTIF(L94:L122,AI11)","v":0},{"$f":"AJ11/(AL4-AJ20)","v":0},0,null,1211,{"$f":"COUNTIF(L123:L151,AN11)","v":0},{"$f":"AO11/(AQ4-AO20)","v":0},0,null,1211,{"$f":"COUNTIF(L152:L180,AS11)","v":0},{"$f":"AT11/(AV4-AT20)","v":0},0]
[12,708,14,713,13,720,14,726,null,null,0,1111,null,1212,0,0,0,null,null,1212,{"$f":"COUNTIF(L7:L35,T12)","v":0},{"$f":"U12/(W4-U20)","v":0},0,null,1212,{"$f":"COUNTIF(L36:L64,Y12)","v":0},{"$f":"Z12/(AB4-Z20)","v":0},0,null,1212,{"$f":"COUNTIF(L65:L93,AD12)","v":0},{"$f":"AE12/(AG4-AE20)","v":0},0,null,1212,{"$f":"COUNTIF(L94:L122,AI12)","v":0},{"$f":"AJ12/(AL4-AJ20)","v":0},0,null,1212,{"$f":"COUNTIF(L123:L151,AN12)","v":0},{"$f":"AO12/(AQ4-AO20)","v":0},0,null,1212,{"$f":"COUNTIF(L152:L180,AS12)","v":0},{"$f":"AT12/(AV4-AT20)","v":0},0]
[12,962,14,967,13,971,14,977,null,null,0,1111,null,1221,0,0,0,null,null,1221,{"$f":"COUNTIF(L7:L35,T13)","v":0},{"$f":"U13/(W4-U20)","v":0},0,null,1221,{"$f":"COUNTIF(L36:L64,Y13)","v":0},{"$f":"Z13/(AB4-Z20)","v":0},0,null,1221,{"$f":"COUNTIF(L65:L93,AD13)","v":0},{"$f":"AE13/(AG4-AE20)","v":0},0,null,1221,{"$f":"COUNTIF(L94:L122,AI13)","v":0},{"$f":"AJ13/(AL4-AJ20)","v":0},0,null,1221,{"$f":"COUNTIF(L123:L151,AN13)","v":0},{"$f":"AO13/(AQ4-AO20)","v":0},0,null,1221,{"$f":"COUNTIF(L152:L180,AS13)","v":0},{"$f":"AT13/(AV4-AT20)","v":0},0]
[12,1121,14,1130,13,1135,14,1141,null,null,0,1111,null,1222,4,2.2988505747126436E-2,-0.12512513783560297,null,null,1222,{"$f":"COUNTIF(L7:L35,T14)","v":0},{"$f":"U14/(W4-U20)","v":0},0,null,1222,{"$f":"COUNTIF(L36:L64,Y14)","v":2},{"$f":"Z14/(AB4-Z20)","v":6.8965517241379309E-2},-0.26606765483638428,null,1222,{"$f":"COUNTIF(L65:L93,AD14)","v":1},{"$f":"AE14/(AG4-AE20)","v":3.4482758620689655E-2},-0.16751658603888178,null,1222,{"$f":"COUNTIF(L94:L122,AI14)","v":1},{"$f":"AJ14/(AL4-AJ20)","v":3.4482758620689655E-2},-0.16751658603888178,null,1222,{"$f":"COUNTIF(L123:L151,AN14)","v":0},{"$f":"AO14/(AQ4-AO20)","v":0},0,null,1222,{"$f":"COUNTIF(L152:L180,AS14)","v":0},{"$f":"AT14/(AV4-AT20)","v":0},0]
[12,1239,14,1244,13,1255,14,1265,null,null,0,1111,null,2111,72,0.41379310344827586,-0.5267662735474824,null,null,2111,{"$f":"COUNTIF(L7:L35,T15)","v":12},{"$f":"U15/(W4-U20)","v":0.41379310344827586},-0.5267662735474824,null,2111,{"$f":"COUNTIF(L36:L64,Y15)","v":17},{"$f":"Z15/(AB4-Z20)","v":0.58620689655172409},-0.45168305572113648,null,2111,{"$f":"COUNTIF(L65:L93,AD15)","v":13},{"$f":"AE15/(AG4-AE20)","v":0.44827586206896552},-0.51889781382152544,null,2111,{"$f":"COUNTIF(L94:L122,AI15)","v":15},{"$f":"AJ15/(AL4-AJ20)","v":0.51724137931034486},-0.49194331009606224,null,2111,{"$f":"COUNTIF(L123:L151,AN15)","v":6},{"$f":"AO15/(AQ4-AO20)","v":0.20689655172413793},-0.4702796884978791,null,2111,{"$f":"COUNTIF(L152:L180,AS15)","v":9},{"$f":"AT15/(AV4-AT20)","v":0.31034482758620691},-0.52387944631611505]
[12,1363,14,1370,13,1375,14,1381,null,null,0,1111,null,2112,0,0,0,null,null,2112,{"$f":"COUNTIF(L7:L35,T16)","v":0},{"$f":"U16/(W4-U20)","v":0},0,null,2112,{"$f":"COUNTIF(L36:L64,Y16)","v":0},{"$f":"Z16/(AB4-Z20)","v":0},0,null,2112,{"$f":"COUNTIF(L65:L93,AD16)","v":0},{"$f":"AE16/(AG4-AE20)","v":0},0,null,2112,{"$f":"COUNTIF(L94:L122,AI16)","v":0},{"$f":"AJ16/(AL4-AJ20)","v":0},0,null,2112,{"$f":"COUNTIF(L123:L151,AN16)","v":0},{"$f":"AO16/(AQ4-AO20)","v":0},0,null,2112,{"$f":"COUNTIF(L152:L180,AS16)","v":0},{"$f":"AT16/(AV4-AT20)","v":0},0]
[21,1543,12,1554,13,1559,14,1572,null,null,0,2111,null,2121,0,0,0,null,null,2121,{"$f":"COUNTIF(L7:L35,T17)","v":0},{"$f":"U17/(W4-U20)","v":0},0,null,2121,{"$f":"COUNTIF(L36:L64,Y17)","v":0},{"$f":"Z17/(AB4-Z20)","v":0},0,null,2121,{"$f":"COUNTIF(L65:L93,AD17)","v":0},{"$f":"AE17/(AG4-AE20)","v":0},0,null,2121,{"$f":"COUNTIF(L94:L122,AI17)","v":0},{"$f":"AJ17/(AL4-AJ20)","v":0},0,null,2121,{"$f":"COUNTIF(L123:L151,AN17)","v":0},{"$f":"AO17/(AQ4-AO20)","v":0},0,null,2121,{"$f":"COUNTIF(L152:L180,AS17)","v":0},{"$f":"AT17/(AV4-AT20)","v":0},0]
[12,1666,14,1671,13,1676,14,1681,null,null,0,1111,null,2122,0,0,0,null,null,2122,{"$f":"COUNTIF(L7:L35,T18)","v":0},{"$f":"U18/(W4-U20)","v":0},0,null,2122,{"$f":"COUNTIF(L36:L64,Y18)","v":0},{"$f":"Z18/(AB4-Z20)","v":0},0,null,2122,{"$f":"COUNTIF(L65:L93,AD18)","v":0},{"$f":"AE18/(AG4-AE20)","v":0},0,null,2122,{"$f":"COUNTIF(L94:L122,AI18)","v":0},{"$f":"AJ18/(AL4-AJ20)","v":0},0,null,2122,{"$f":"COUNTIF(L123:L151,AN18)","v":0},{"$f":"AO18/(AQ4-AO20)","v":0},0,null,2122,{"$f":"COUNTIF(L152:L180,AS18)","v":0},{"$f":"AT18/(AV4-AT20)","v":0},0]
[21,1779,12,1791,13,1797,14,1802,null,null,0,2111,null,2211,17,9.7701149425287362E-2,-0.32783431682857822,null,null,2211,{"$f":"COUNTIF(L7:L35,T19)","v":3},{"$f":"U19/(W4-U20)","v":0.10344827586206896},-0.33858812011100858,null,2211,{"$f":"COUNTIF(L36:L64,Y19)","v":2},{"$f":"Z19/(AB4-Z20)","v":6.8965517241379309E-2},-0.26606765483638428,null,2211,{"$f":"COUNTIF(L65:L93,AD19)","v":3},{"$f":"AE19/(AG4-AE20)","v":0.10344827586206896},-0.33858812011100858,null,2211,{"$f":"COUNTIF(L94:L122,AI19)","v":4},{"$f":"AJ19/(AL4-AJ20)","v":0.13793103448275862},-0.39420427519000989,null,2211,{"$f":"COUNTIF(L123:L151,AN19)","v":1},{"$f":"AO19/(AQ4-AO20)","v":3.4482758620689655E-2},-0.16751658603888178,null,2211,{"$f":"COUNTIF(L152:L180,AS19)","v":4},{"$f":"AT19/(AV4-AT20)","v":0.13793103448275862},-0.39420427519000989]
[21,1904,12,1917,13,1921,14,1925,null,null,0,2111,null,2212,0,0,0,null,null,2212,{"$f":"COUNTIF(L7:L35,T20)","v":0},null,null,null,2212,{"$f":"COUNTIF(L36:L64,Y20)","v":0},null,null,null,2212,{"$f":"COUNTIF(L65:L93,AD20)","v":0},null,null,null,2212,{"$f":"COUNTIF(L94:L122,AI20)","v":0},null,null,null,2212,{"$f":"COUNTIF(L123:L151,AN20)","v":0},null,null,null,2212,{"$f":"COUNTIF(L152:L180,AS20)","v":0}]
[12,2026,14,2033,13,2038,14,2044,null,null,0,1111,null,2221,2,1.1494252873563218E-2,-7.4056821791364691E-2,null,null,2221,{"$f":"COUNTIF(L7:L35,T21)","v":0},{"$f":"U21/(W4-U20)","v":0},{"$f":"IF(V21=0,0,(V21*((LOG(V21))/LOG(2))))","v":0},null,2221,{"$f":"COUNTIF(L36:L64,Y21)","v":0},{"$f":"Z21/(AB4-Z20)","v":0},{"$f":"IF(AA21=0,0,(AA21*((LOG(AA21))/LOG(2))))","v":0},null,2221,{"$f":"COUNTIF(L65:L93,AD21)","v":2},{"$f":"AE21/(AG4-AE20)","v":6.8965517241379309E-2},{"$f":"IF(AF21=0,0,(AF21*((LOG(AF21))/LOG(2))))","v":-0.26606765483638428},null,2221,{"$f":"COUNTIF(L94:L122,AI21)","v":0},{"$f":"AJ21/(AL4-AJ20)","v":0},{"$f":"IF(AK21=0,0,(AK21*((LOG(AK21))/LOG(2))))","v":0},null,2221,{"$f":"COUNTIF(L123:L151,AN21)","v":0},{"$f":"AO21/(AQ4-AO20)","v":0},{"$f":"IF(AP21=0,0,(AP21*((LOG(AP21))/LOG(2))))","v":0},null,2221,{"$f":"COUNTIF(L152:L180,AS21)","v":0},{"$f":"AT21/(AV4-AT20)","v":0},{"$f":"IF(AU21=0,0,(AU21*((LOG(AU21))/LOG(2))))","v":0}]
[21,2149,12,2159,13,2162,14,2165,null,null,0,2111,null,2222,4,2.2988505747126436E-2,-0.12512513783560297,null,null,2222,{"$f":"COUNTIF(L7:L35,T22)","v":1},{"$f":"U22/(W4-U20)","v":3.4482758620689655E-2},{"$f":"IF(V22=0,0,(V22*((LOG(V22))/LOG(2))))","v":-0.16751658603888178},null,2222,{"$f":"COUNTIF(L36:L64,Y22)","v":1},{"$f":"Z22/(AB4-Z20)","v":3.4482758620689655E-2},{"$f":"IF(AA22=0,0,(AA22*((LOG(AA22))/LOG(2))))","v":-0.16751658603888178},null,2222,{"$f":"COUNTIF(L65:L93,AD22)","v":0},{"$f":"AE22/(AG4-AE20)","v":0},{"$f":"IF(AF22=0,0,(AF22*((LOG(AF22))/LOG(2))))","v":0},null,2222,{"$f":"COUNTIF(L94:L122,AI22)","v":0},{"$f":"AJ22/(AL4-AJ20)","v":0},{"$f":"IF(AK22=0,0,(AK22*((LOG(AK22))/LOG(2))))","v":0},null,2222,{"$f":"COUNTIF(L123:L151,AN22)","v":1},{"$f":"AO22/(AQ4-AO20)","v":3.4482758620689655E-2},{"$f":"IF(AP22=0,0,(AP22*((LOG(AP22))/LOG(2))))","v":-0.16751658603888178},null,2222,{"$f":"COUNTIF(L152:L180,AS22)","v":1},{"$f":"AT22/(AV4-AT20)","v":3.4482758620689655E-2},{"$f":"IF(AU22=0,0,(AU22*((LOG(AU22))/LOG(2))))","v":-0.16751658603888178}]
[21,2276,12,2292,13,2298,14,2305,null,null,0,2111,null,null,null,{"$f":"SUM(P7:P22)","v":1},{"$f":"-SUM(Q7:Q22)","v":1.7022373453183066},null,null,null,null,{"$f":"SUM(V7:V22)","v":0.99999999999999989},{"$f":"-SUM(W7:W22)","v":1.5517687935188984},null,null,null,{"$f":"SUM(AA7:AA22)","v":1},{"$f":"-SUM(AB7:AB22)","v":1.6463136587255378},null,null,null,{"$f":"SUM(AF7:AF22)","v":1},{"$f":"-SUM(AG7:AG22)","v":1.8207435886837344},null,null,null,{"$f":"SUM(AK7:AK22)","v":1},{"$f":"-SUM(AL7:AL22)","v":1.5775436176410689},null,null,null,{"$f":"SUM(AP7:AP22)","v":0.99999999999999989},{"$f":"-SUM(AQ7:AQ22)","v":1.1425175164144374},null,null,null,{"$f":"SUM(AU7:AU22)","v":1.0000000000000002},{"$f":"-SUM(AV7:AV22)","v":1.5775436176410691}]
[12,2404,14,2409,13,2415,14,2424,null,null,0,1111,null,null,null,"U=",{"$f":"Q23/(LOG(Q4)/LOG(2))","v":0.22870485934331256},null,null,null,null,"U1=",{"$f":"W23/(LOG(W4)/LOG(2))","v":0.31942669085681519},null,null,null,"U2=",{"$f":"AB23/(LOG(AB4)/LOG(2))","v":0.33888845188500066},null,null,null,"U3=",{"$f":"AG23/(LOG(AG4)/LOG(2))","v":0.3747943004531909},null,null,null,"U4=",{"$f":"AL23/(LOG(AL4)/LOG(2))","v":0.32473235675958878},null,null,null,"U5=",{"$f":"AQ23/(LOG(AQ4)/LOG(2))","v":0.23518361178447439},null,null,null,"U6=",{"$f":"AV23/(LOG(AV4)/LOG(2))","v":0.32473235675958884}]
[21,2518,21,2540,11,2552,12,2556,null,null,0,2211]
[21,2649,12,2663,13,2665,14,2672,null,null,0,2111]
[12,2771,14,2776,13,2786,14,2791,null,null,0,1111,null,"Total Target Seq"]
[12,2899,14,2904,13,2913,14,2918,null,null,0,1111,null,{"$f":"COUNTIF(L7:L180,G3)","v":0},null,29,29,29,29,29,29]
[21,3013,12,3039,13,3045,14,3050,null,null,0,2111,null,null,null,"% of reinforcement given in 6 equal intervals based on number of trials "]
[21,3161,21,3165,11,3173,12,3177,null,null,0,2211,null,null,null,"%_1","%_2","%_3","%_4","%_5","%_6"]
[21,3201,21,3205,22,3211,23,3217,null,null,0,2222,null,null,"target sequence",{"$f":"$G$3","v":2212},2212,2212,2212,2212,2212]
[21,3317,21,3322,11,3335,12,3338,null,null,0,2211,null,null,"total reinforcement",{"$f":"U20","v":0},{"$f":"Z20","v":0},{"$f":"AE20","v":0},{"$f":"AJ20","v":0},{"$f":"AO20","v":0},{"$f":"AT20","v":0}]
[12,3441,14,3446,13,3450,14,3456,null,null,0,1111,null,null,"% target"]
[21,3560,12,3573,13,3578,14,3585,null,null,0,2111,null,null,"CCRF"]
[21,3682,12,3693,13,3701,14,3707,null,null,0,2111,null,null,"% CCRf"]
[21,3803,21,3824,11,3835,12,3839,null,null,0,2211,null,null,"average response rate",{"$f":"H35/P28","v":127.82758620689656},{"$f":"(H64-H35)/Q28","v":137.44827586206895},{"$f":"(H93-H64)/R28","v":126.75862068965517},{"$f":"(H122-H93)/S28","v":147.20689655172413},{"$f":"(H151-H122)/T28","v":145.62068965517241},{"$f":"(H180-H151)/U28","v":138.55172413793105}]
[21,3945,12,3959,13,3963,14,3968,null,null,0,2111]
[21,4060,12,4077,13,4081,14,4085,null,null,0,2111]
[21,4180,12,4192,13,4195,14,4201,null,null,0,2111]
[21,4301,12,4316,13,4320,14,4332,null,null,0,2111]
[21,4447,12,4458,13,4467,14,4472,null,null,0,2111]
[21,4643,12,4656,13,4660,14,4663,null,null,0,2111]
[21,4760,12,4771,13,4775,14,4781,null,null,0,2111]
[21,4878,12,4894,13,4902,14,4907,null,null,0,2111]
[21,5003,12,5020,13,5023,14,5030,null,null,0,2111]
[21,5129,21,5151,11,5161,12,5165,null,null,0,2211]
[21,5261,21,5275,22,5278,23,5312,null,null,0,2222]
[12,5407,23,5419,24,5428,23,5435,null,null,0,1222]
[12,5628,14,5632,13,5639,14,5653,null,null,0,1111]
[12,5746,23,5757,24,5760,23,5765,null,null,0,1222]
[12,5988,14,5992,13,5998,14,6004,null,null,0,1111]
[12,6098,14,6101,13,6103,14,6108,null,null,0,1111]
[21,6237,12,6248,13,6253,14,6259,null,null,0,2111]
[12,6371,14,6375,13,6382,14,6390,null,null,0,1111]
[12,6487,14,6496,13,6502,14,6509,null,null,0,1111]
[12,6606,14,6613,13,6617,14,6624,null,null,0,1111]
[12,6730,14,6734,13,6737,14,6742,null,null,0,1111]
[21,6885,12,6896,13,6904,14,6909,null,null,0,2111]
[21,7018,12,7028,13,7032,14,7036,null,null,0,2111]
[21,7131,12,7146,13,7156,14,7163,null,null,0,2111]
[21,7258,12,7268,13,7275,14,7280,null,null,0,2111]
[21,7415,12,7427,13,7432,14,7438,null,null,0,2111]
[21,7535,12,7546,13,7553,14,7560,null,null,0,2111]
[21,7662,12,7674,13,7683,14,7693,null,null,0,2111]
[12,7791,14,7796,13,7801,14,7804,null,null,0,1111]
[12,7905,14,7915,13,7921,14,7926,null,null,0,1111]
[21,8025,12,8037,13,8041,14,8043,null,null,0,2111]
[21,8154,12,8177,13,8184,14,8192,null,null,0,2111]
[12,8294,14,8304,13,8309,14,8314,null,null,0,1111]
[21,8415,12,8426,13,8429,14,8435,null,null,0,2111]
[21,8533,12,8545,13,8551,14,8558,null,null,0,2111]
[21,8651,21,8654,22,8673,14,8684,null,null,0,2221]
[21,8786,21,8804,11,8816,12,8819,null,null,0,2211]
[21,8932,12,8945,13,8948,14,8954,null,null,0,2111]
[12,9070,14,9073,13,9078,14,9090,null,null,0,1111]
[21,9191,12,9206,13,9211,14,9215,null,null,0,2111]
[12,9333,14,9339,13,9345,14,9351,null,null,0,1111]
[21,9449,12,9464,13,9468,14,9472,null,null,0,2111]
[21,9620,12,9632,13,9637,14,9648,null,null,0,2111]
[12,9753,23,9773,24,9784,23,9791,null,null,0,1222]
[12,9924,14,9930,13,9936,14,9948,null,null,0,1111]
[12,10047,14,10051,13,10064,14,10074,null,null,0,1111]
[21,10176,21,10181,11,10191,12,10195,null,null,0,2211]
[12,10214,14,10218,13,10225,14,10232,null,null,0,1111]
[21,10327,12,10342,13,10346,14,10353,null,null,0,2111]
[21,10448,12,10459,13,10464,14,10471,null,null,0,2111]
[21,10575,21,10591,11,10606,12,10609,null,null,0,2211]
[21,10711,12,10723,13,10727,14,10734,null,null,0,2111]
[12,10827,14,10836,13,10845,14,10847,null,null,0,1111]
[21,10949,12,10965,13,10970,14,10974,null,null,0,2111]
[21,11072,21,11075,22,11096,14,11108,null,null,0,2221]
[21,11217,12,11228,13,11233,14,11239,null,null,0,2111]
[12,11348,14,11358,13,11363,14,11369,null,null,0,1111]
[21,11468,21,11471,11,11483,12,11487,null,null,0,2211]
[21,11585,12,11602,13,11605,14,11610,null,null,0,2111]
[21,11712,21,11729,11,11743,12,11748,null,null,0,2211]
[21,11846,21,11871,11,11885,12,11891,null,null,0,2211]
[21,11992,12,12004,13,12007,14,12013,null,null,0,2111]
[12,12117,14,12121,13,12126,14,12130,null,null,0,1111]
[21,12227,12,12237,13,12240,14,12243,null,null,0,2111]
[12,12342,14,12348,13,12350,14,12357,null,null,0,1111]
[21,12464,21,12469,11,12480,12,12485,null,null,0,2211]
[12,12506,14,12510,13,12515,14,12520,null,null,0,1111]
[21,12618,12,12631,13,12635,14,12642,null,null,0,2111]
[21,12749,12,12763,13,12767,14,12779,null,null,0,2111]
[21,12889,12,12903,13,12907,14,12912,null,null,0,2111]
[12,13050,14,13054,13,13060,14,13066,null,null,0,1111]
[21,13167,12,13183,13,13187,14,13190,null,null,0,2111]
[12,13294,14,13298,13,13304,14,13310,null,null,0,1111]
[12,13425,23,13441,24,13446,23,13453,null,null,0,1222]
[12,13670,14,13675,13,13679,14,13687,null,null,0,1111]
[12,13941,14,13946,13,13957,14,13966,null,null,0,1111]
[21,14069,12,14090,13,14094,14,14099,null,null,0,2111]
[21,14274,12,14290,13,14296,14,14303,null,null,0,2111]
[21,14419,12,14430,13,14434,14,14439,null,null,0,2111]
[21,14637,12,14649,13,14653,14,14664,null,null,0,2111]
[12,14797,14,14802,13,14808,14,14814,null,null,0,1111]
[12,15012,14,15014,13,15020,14,15035,null,null,0,1111]
[21,15131,12,15142,13,15145,14,15150,null,null,0,2111]
[21,15299,12,15311,13,15315,14,15321,null,null,0,2111]
[21,15484,12,15499,13,15503,14,15513,null,null,0,2111]
[21,15613,12,15629,13,15633,14,15638,null,null,0,2111]
[21,15747,21,15751,22,15756,23,15763,null,null,0,2222]
[12,15858,14,15863,13,15867,14,15877,null,null,0,1111]
[12,15982,14,15986,13,15996,14,16002,null,null,0,1111]
[12,16172,14,16177,13,16182,14,16190,null,null,0,1111]
[12,16302,14,16306,13,16311,14,16318,null,null,0,1111]
[21,16466,12,16478,13,16482,14,16488,null,null,0,2111]
[12,16649,14,16654,13,16659,14,16665,null,null,0,1111]
[21,16764,12,16780,13,16784,14,16788,null,null,0,2111]
[12,16900,14,16905,13,16913,14,16920,null,null,0,1111]
[12,17025,14,17028,13,17033,14,17039,null,null,0,1111]
[12,17145,14,17149,13,17154,14,17160,null,null,0,1111]
[12,17264,14,17271,13,17274,14,17281,null,null,0,1111]
[21,17435,12,17444,13,17448,14,17454,null,null,0,2111]
[12,17573,14,17580,13,17588,14,17593,null,null,0,1111]
[21,17685,12,17704,13,17708,14,17714,null,null,0,2111]
[12,17818,14,17822,13,17826,14,17832,null,null,0,1111]
[12,17931,14,17937,13,17944,14,17957,null,null,0,1111]
[12,18078,14,18089,13,18094,14,18097,null,null,0,1111]
[21,18196,12,18209,13,18213,14,18218,null,null,0,2111]
[12,18322,14,18326,13,18337,14,18344,null,null,0,1111]
[12,18523,14,18528,13,18535,14,18545,null,null,0,1111]
[12,19006,14,19011,13,19018,14,19022,null,null,0,1111]
[12,19158,14,19162,13,19168,14,19176,null,null,0,1111]
[21,19281,12,19292,13,19297,14,19304,null,null,0,2111]
[12,19397,14,19404,13,19414,14,19419,null,null,0,1111]
[12,19520,14,19529,13,19532,14,19537,null,null,0,1111]
[21,19638,21,19653,11,19664,12,19667,null,null,0,2211]
[12,19686,14,19691,13,19696,14,19701,null,null,0,1111]
[12,19826,14,19830,13,19840,14,19861,null,null,0,1111]
[21,19953,21,19971,11,19984,12,19987,null,null,0,2211]
[21,20084,12,20102,13,20106,14,20110,null,null,0,2111]
[21,20221,12,20236,13,20240,14,20245,null,null,0,2111]
[12,20343,14,20347,13,20352,14,20355,null,null,0,1111]
[12,20452,14,20461,13,20466,14,20473,null,null,0,1111]
[12,20581,14,20585,13,20590,14,20596,null,null,0,1111]
[12,20767,14,20770,13,20778,14,20790,null,null,0,1111]
[12,20900,14,20906,13,20910,14,20917,null,null,0,1111]
[21,21017,12,21030,13,21035,14,21041,null,null,0,2111]
[21,21140,21,21160,11,21173,12,21184,null,null,0,2211]
[12,21284,14,21295,13,21303,14,21311,null,null,0,1111]
[21,21423,12,21438,13,21441,14,21446,null,null,0,2111]
[21,21543,21,21548,11,21560,12,21565,null,null,0,2211]
[21,21702,21,21731,11,21744,12,21749,null,null,0,2211]
[12,21771,14,21777,13,21783,14,21789,null,null,0,1111]
[21,21887,12,21898,13,21903,14,21906,null,null,0,2111]
[12,22009,14,22013,13,22020,14,22026,null,null,0,1111]
[21,22132,12,22146,13,22151,14,22157,null,null,0,2111]
[12,22263,14,22269,13,22274,14,22279,null,null,0,1111]
[21,22388,21,22392,22,22398,23,22404,null,null,0,2222]
[21,22508,12,22526,13,22533,14,22539,null,null,0,2111]
[12,22632,14,22637,13,22646,14,22657,null,null,0,1111]
[12,22819,14,22828,13,22834,14,22840,null,null,0,1111]
[12,22965,14,22971,13,22975,14,22981,null,null,0,1111]
[21,23077,12,23092,13,23096,14,23101,null,null,0,2111]
[21,23207,12,23219,13,23223,14,23230,null,null,0,2111]
[12,23343,14,23353,13,23361,14,23367,null,null,0,1111]
[12,23733,14,23738,13,23743,14,23744,null,null,0,1111]
[12,23861,14,23866,13,23873,14,23879,null,null,0,1111]

{"sheet":"!LB08955.. d","index":7,"n_rows":165,"n_cols":48,"rows_kept":165,"cut":false,"hidden":false,"merged":[[1,1,1,2],[5,13,5,14],[26,13,26,14],[27,13,27,14],[4,19,4,22],[5,19,5,20],[4,39,4,42],[5,39,5,40],[4,44,4,47],[5,44,5,45],[4,24,4,27],[5,24,5,25],[4,29,4,32],[5,29,5,30],[4,34,4,37],[5,34,5,35]]}
["Report for:!LB08955.. d"]
["Date:","<date>"]
["Hen:","<hen>",null,null,null,"Correct Sequence",{"$f":"Start!J2","v":2212},null,null,null,null,null,null,null,null,"Total Sequences in Data",{"$f":"4994-COUNTBLANK(L7:L5000)","v":159},null,null,null,null,"Total Sequences in Block Data",{"$f":"COUNTA(L7:L33)","v":27},null,null,null,"Total Sequences in Block Data",{"$f":"COUNTA(L34:L59)","v":26},null,null,null,"Total Sequences in Block Data",{"$f":"COUNTA(L60:L86)","v":27},null,null,null,"Total Sequences in Block Data",{"$f":"COUNTA(L87:L112)","v":26},null,null,null,"Total Sequences in Block Data",{"$f":"COUNTA(L113:L139)","v":27},null,null,null,"Total Sequences in Block Data",{"$f":"COUNTA(L140:L165)","v":26}]
[null,null,null,null,null,null,null,null,null,null,null,null,null,null,null,"Total Sequences in Summary",{"$f":"SUM(O7:O22)","v":158},null,null,null,null,"Total Sequences in Block Summary",{"$f":"SUM(U7:U22)","v":27},null,null,null,"Total Sequences in Block Summary",{"$f":"SUM(Z7:Z22)","v":26},null,null,null,"Total Sequences in Block Summary",{"$f":"SUM(AE7:AE22)","v":27},null,null,null,"Total Sequences in Block Summary",{"$f":"SUM(AJ7:AJ22)","v":26},null,null,null,"Total Sequences in Block Summary",{"$f":"SUM(AO7:AO22)","v":27},null,null,null,"Total Sequences in Block Summary",{"$f":"SUM(AT7:AT22)","v":25}]
[null,null,null,null,null,null,null,null,null,null,null,null,null,null,null,null,null,null,null,"Block 1",null,null,null,null,"Block 2",null,null,null,null,"Block 3",null,null,null,null,"Block 4",null,null,null,null,"Block 5",null,null,null,null,"Block 6"]
["Sequence\nComponent\n1","Time\n1","Sequence\nComponent\n2","Time\n2","Sequence\nComponent\n3","Time\n3","Sequence\nComponent\n4","Time\n4","Sequence\nComponent\n5","Time\n5","Correct?\n0=No 1=Yes","Sequence",null,"Frequency",null,"Relative Frequency","Variability",null,null,"Frequency",null,"Relative Frequency","Variability",null,"Frequency",null,"Relative Frequency","Variability",null,"Frequency",null,"Relative Frequency","Variability",null,"Frequency",null,"Relative Frequency","Variability",null,"Frequency",null,"Relative Frequency","Variability",null,"Frequency",null,"Relative Frequency","Variability"]
[12,18,14,23,13,28,14,33,null,null,0,1111,null,1111,{"$f":"COUNTIF($L$7:$L$500,N7)","v":52},{"$f":"O7/$Q$4","v":0.32911392405063289},{"$f":"IF(P7=0,0,(P7*((LOG(P7))/LOG(2))))","v":-0.52768185798653522},null,null,{"$f":"N7","v":1111},{"$f":"COUNTIF(L7:L33,T7)","v":10},{"$f":"U7/(W4-U20)","v":0.37037037037037035},{"$f":"IF(V7=0,0,(V7*((LOG(V7))/LOG(2))))","v":-0.53072570639855787},null,{"$f":"N7","v":1111},{"$f":"COUNTIF(L34:L59,Y7)","v":4},{"$f":"Z7/(AB4-Z20)","v":0.15384615384615385},{"$f":"IF(AA7=0,0,(AA7*((LOG(AA7))/LOG(2))))","v":-0.4154522643293988},null,{"$f":"N7","v":1111},{"$f":"COUNTIF(L60:L86,AD7)","v":7},{"$f":"AE7/(AG4-AE20)","v":0.25925925925925924},{"$f":"IF(AF7=0,0,(AF7*((LOG(AF7))/LOG(2))))","v":-0.5049158541015204},null,{"$f":"N7","v":1111},{"$f":"COUNTIF(L87:L112,AI7)","v":6},{"$f":"AJ7/(AL4-AJ20)","v":0.23076923076923078},{"$f":"IF(AK7=0,0,(AK7*((LOG(AK7))/LOG(2))))","v":-0.48818705017383146},null,{"$f":"N7","v":1111},{"$f":"COUNTIF(L113:L139,AN7)","v":9},{"$f":"AO7/(AQ4-AO20)","v":0.33333333333333331},{"$f":"IF(AP7=0,0,(AP7*((LOG(AP7))/LOG(2))))","v":-0.52832083357371862},null,{"$f":"N7","v":1111},{"$f":"COUNTIF(L140:L165,AS7)","v":16},{"$f":"AT7/(AV4-AT20)","v":0.64},{"$f":"IF(AU7=0,0,(AU7*((LOG(AU7))/LOG(2))))","v":-0.41206796145582375}]
[12,136,14,140,13,143,14,148,null,null,0,1111,null,1112,0,0,0,null,null,1112,{"$f":"COUNTIF(L7:L33,T8)","v":0},{"$f":"U8/(W4-U20)","v":0},0,null,1112,{"$f":"COUNTIF(L34:L59,Y8)","v":0},{"$f":"Z8/(AB4-Z20)","v":0},0,null,1112,{"$f":"COUNTIF(L60:L86,AD8)","v":0},{"$f":"AE8/(AG4-AE20)","v":0},0,null,1112,{"$f":"COUNTIF(L87:L112,AI8)","v":0},{"$f":"AJ8/(AL4-AJ20)","v":0},0,null,1112,{"$f":"COUNTIF(L113:L139,AN8)","v":0},{"$f":"AO8/(AQ4-AO20)","v":0},0,null,1112,{"$f":"COUNTIF(L140:L165,AS8)","v":0},{"$f":"AT8/(AV4-AT20)","v":0},0]
[12,384,14,390,13,396,14,402,null,null,0,1111,null,1121,0,0,0,null,null,1121,{"$f":"COUNTIF(L7:L33,T9)","v":0},{"$f":"U9/(W4-U20)","v":0},0,null,1121,{"$f":"COUNTIF(L34:L59,Y9)","v":0},{"$f":"Z9/(AB4-Z20)","v":0},0,null,1121,{"$f":"COUNTIF(L60:L86,AD9)","v":0},{"$f":"AE9/(AG4-AE20)","v":0},0,null,1121,{"$f":"COUNTIF(L87:L112,AI9)","v":0},{"$f":"AJ9/(AL4-AJ20)","v":0},0,null,1121,{"$f":"COUNTIF(L113:L139,AN9)","v":0},{"$f":"AO9/(AQ4-AO20)","v":0},0,null,1121,{"$f":"COUNTIF(L140:L165,AS9)","v":0},{"$f":"AT9/(AV4-AT20)","v":0},0]
[21,551,12,561,13,565,14,570,null,null,0,2111,null,1122,2,1.2658227848101266E-2,-7.9794693014900039E-2,null,null,1122,{"$f":"COUNTIF(L7:L33,T10)","v":0},{"$f":"U10/(W4-U20)","v":0},0,null,1122,{"$f":"COUNTIF(L34:L59,Y10)","v":0},{"$f":"Z10/(AB4-Z20)","v":0},0,null,1122,{"$f":"COUNTIF(L60:L86,AD10)","v":2},{"$f":"AE10/(AG4-AE20)","v":7.407407407407407E-2},-0.27813981497507173,null,1122,{"$f":"COUNTIF(L87:L112,AI10)","v":0},{"$f":"AJ10/(AL4-AJ20)","v":0},0,null,1122,{"$f":"COUNTIF(L113:L139,AN10)","v":0},{"$f":"AO10/(AQ4-AO20)","v":0},0,null,1122,{"$f":"COUNTIF(L140:L165,AS10)","v":0},{"$f":"AT10/(AV4-AT20)","v":0},0]
[12,665,23,677,24,681,23,686,null,null,0,1222,null,1211,0,0,0,null,null,1211,{"$f":"COUNTIF(L7:L33,T11)","v":0},{"$f":"U11/(W4-U20)","v":0},0,null,1211,{"$f":"COUNTIF(L34:L59,Y11)","v":0},{"$f":"Z11/(AB4-Z20)","v":0},0,null,1211,{"$f":"COUNTIF(L60:L86,AD11)","v":0},{"$f":"AE11/(AG4-AE20)","v":0},0,null,1211,{"$f":"COUNTIF(L87:L112,AI11)","v":0},{"$f":"AJ11/(AL4-AJ20)","v":0},0,null,1211,{"$f":"COUNTIF(L113:L139,AN11)","v":0},{"$f":"AO11/(AQ4-AO20)","v":0},0,null,1211,{"$f":"COUNTIF(L140:L165,AS11)","v":0},{"$f":"AT11/(AV4-AT20)","v":0},0]
[12,784,14,789,13,799,14,805,null,null,0,1111,null,1212,0,0,0,null,null,1212,{"$f":"COUNTIF(L7:L33,T12)","v":0},{"$f":"U12/(W4-U20)","v":0},0,null,1212,{"$f":"COUNTIF(L34:L59,Y12)","v":0},{"$f":"Z12/(AB4-Z20)","v":0},0,null,1212,{"$f":"COUNTIF(L60:L86,AD12)","v":0},{"$f":"AE12/(AG4-AE20)","v":0},0,null,1212,{"$f":"COUNTIF(L87:L112,AI12)","v":0},{"$f":"AJ12/(AL4-AJ20)","v":0},0,null,1212,{"$f":"COUNTIF(L113:L139,AN12)","v":0},{"$f":"AO12/(AQ4-AO20)","v":0},0,null,1212,{"$f":"COUNTIF(L140:L165,AS12)","v":0},{"$f":"AT12/(AV4-AT20)","v":0},0]
[21,905,12,926,13,936,14,942,null,null,0,2111,null,1221,0,0,0,null,null,1221,{"$f":"COUNTIF(L7:L33,T13)","v":0},{"$f":"U13/(W4-U20)","v":0},0,null,1221,{"$f":"COUNTIF(L34:L59,Y13)","v":0},{"$f":"Z13/(AB4-Z20)","v":0},0,null,1221,{"$f":"COUNTIF(L60:L86,AD13)","v":0},{"$f":"AE13/(AG4-AE20)","v":0},0,null,1221,{"$f":"COUNTIF(L87:L112,AI13)","v":0},{"$f":"AJ13/(AL4-AJ20)","v":0},0,null,1221,{"$f":"COUNTIF(L113:L139,AN13)","v":0},{"$f":"AO13/(AQ4-AO20)","v":0},0,null,1221,{"$f":"COUNTIF(L140:L165,AS13)","v":0},{"$f":"AT13/(AV4-AT20)","v":0},0]
[12,1045,14,1054,13,1062,14,1073,null,null,0,1111,null,1222,14,8.8607594936708861E-2,-0.30980988332704423,null,null,1222,{"$f":"COUNTIF(L7:L33,T14)","v":2},{"$f":"U14/(W4-U20)","v":7.407407407407407E-2},-0.27813981497507173,null,1222,{"$f":"COUNTIF(L34:L59,Y14)","v":0},{"$f":"Z14/(AB4-Z20)","v":0},0,null,1222,{"$f":"COUNTIF(L60:L86,AD14)","v":2},{"$f":"AE14/(AG4-AE20)","v":7.407407407407407E-2},-0.27813981497507173,null,1222,{"$f":"COUNTIF(L87:L112,AI14)","v":1},{"$f":"AJ14/(AL4-AJ20)","v":3.8461538461538464E-2},-0.18078614300542661,null,1222,{"$f":"COUNTIF(L113:L139,AN14)","v":5},{"$f":"AO14/(AQ4-AO20)","v":0.18518518518518517},-0.45054803838446406,null,1222,{"$f":"COUNTIF(L140:L165,AS14)","v":4},{"$f":"AT14/(AV4-AT20)","v":0.16},-0.42301699036395596]
[12,1174,23,1196,24,1203,23,1211,null,null,0,1222,null,2111,53,0.33544303797468356,-0.52861136431352462,null,null,2111,{"$f":"COUNTIF(L7:L33,T15)","v":11},{"$f":"U15/(W4-U20)","v":0.40740740740740738},-0.52777832291806981,null,2111,{"$f":"COUNTIF(L34:L59,Y15)","v":8},{"$f":"Z15/(AB4-Z20)","v":0.30769230769230771},-0.52321222096648989,null,2111,{"$f":"COUNTIF(L60:L86,AD15)","v":10},{"$f":"AE15/(AG4-AE20)","v":0.37037037037037035},-0.53072570639855787,null,2111,{"$f":"COUNTIF(L87:L112,AI15)","v":13},{"$f":"AJ15/(AL4-AJ20)","v":0.5},-0.5,null,2111,{"$f":"COUNTIF(L113:L139,AN15)","v":9},{"$f":"AO15/(AQ4-AO20)","v":0.33333333333333331},-0.52832083357371862,null,2111,{"$f":"COUNTIF(L140:L165,AS15)","v":2},{"$f":"AT15/(AV4-AT20)","v":0.08},-0.29150849518197797]
[21,1308,12,1317,13,1321,14,1326,null,null,0,2111,null,2112,0,0,0,null,null,2112,{"$f":"COUNTIF(L7:L33,T16)","v":0},{"$f":"U16/(W4-U20)","v":0},0,null,2112,{"$f":"COUNTIF(L34:L59,Y16)","v":0},{"$f":"Z16/(AB4-Z20)","v":0},0,null,2112,{"$f":"COUNTIF(L60:L86,AD16)","v":0},{"$f":"AE16/(AG4-AE20)","v":0},0,null,2112,{"$f":"COUNTIF(L87:L112,AI16)","v":0},{"$f":"AJ16/(AL4-AJ20)","v":0},0,null,2112,{"$f":"COUNTIF(L113:L139,AN16)","v":0},{"$f":"AO16/(AQ4-AO20)","v":0},0,null,2112,{"$f":"COUNTIF(L140:L165,AS16)","v":0},{"$f":"AT16/(AV4-AT20)","v":0},0]
[21,1424,12,1435,13,1439,14,1445,null,null,0,2111,null,2121,0,0,0,null,null,2121,{"$f":"COUNTIF(L7:L33,T17)","v":0},{"$f":"U17/(W4-U20)","v":0},0,null,2121,{"$f":"COUNTIF(L34:L59,Y17)","v":0},{"$f":"Z17/(AB4-Z20)","v":0},0,null,2121,{"$f":"COUNTIF(L60:L86,AD17)","v":0},{"$f":"AE17/(AG4-AE20)","v":0},0,null,2121,{"$f":"COUNTIF(L87:L112,AI17)","v":0},{"$f":"AJ17/(AL4-AJ20)","v":0},0,null,2121,{"$f":"COUNTIF(L113:L139,AN17)","v":0},{"$f":"AO17/(AQ4-AO20)","v":0},0,null,2121,{"$f":"COUNTIF(L140:L165,AS17)","v":0},{"$f":"AT17/(AV4-AT20)","v":0},0]
[21,1541,12,1552,13,1568,14,1578,null,null,0,2111,null,2122,0,0,0,null,null,2122,{"$f":"COUNTIF(L7:L33,T18)","v":0},{"$f":"U18/(W4-U20)","v":0},0,null,2122,{"$f":"COUNTIF(L34:L59,Y18)","v":0},{"$f":"Z18/(AB4-Z20)","v":0},0,null,2122,{"$f":"COUNTIF(L60:L86,AD18)","v":0},{"$f":"AE18/(AG4-AE20)","v":0},0,null,2122,{"$f":"COUNTIF(L87:L112,AI18)","v":0},{"$f":"AJ18/(AL4-AJ20)","v":0},0,null,2122,{"$f":"COUNTIF(L113:L139,AN18)","v":0},{"$f":"AO18/(AQ4-AO20)","v":0},0,null,2122,{"$f":"COUNTIF(L140:L165,AS18)","v":0},{"$f":"AT18/(AV4-AT20)","v":0},0]
[21,1680,21,1691,11,1700,12,1709,null,null,0,2211,null,2211,27,0.17088607594936708,-0.43557036482511474,null,null,2211,{"$f":"COUNTIF(L7:L33,T19)","v":3},{"$f":"U19/(W4-U20)","v":0.1111111111111111},-0.3522138890491458,null,2211,{"$f":"COUNTIF(L34:L59,Y19)","v":9},{"$f":"Z19/(AB4-Z20)","v":0.34615384615384615},-0.52979355578034681,null,2211,{"$f":"COUNTIF(L60:L86,AD19)","v":5},{"$f":"AE19/(AG4-AE20)","v":0.18518518518518517},-0.45054803838446406,null,2211,{"$f":"COUNTIF(L87:L112,AI19)","v":4},{"$f":"AJ19/(AL4-AJ20)","v":0.15384615384615385},-0.4154522643293988,null,2211,{"$f":"COUNTIF(L113:L139,AN19)","v":4},{"$f":"AO19/(AQ4-AO20)","v":0.14814814814814814},-0.40813148180199532,null,2211,{"$f":"COUNTIF(L140:L165,AS19)","v":2},{"$f":"AT19/(AV4-AT20)","v":0.08},-0.29150849518197797]
[12,1725,14,1728,13,1732,14,1737,null,null,0,1111,null,2212,0,0,0,null,null,2212,{"$f":"COUNTIF(L7:L33,T20)","v":0},null,null,null,2212,{"$f":"COUNTIF(L34:L59,Y20)","v":0},null,null,null,2212,{"$f":"COUNTIF(L60:L86,AD20)","v":0},null,null,null,2212,{"$f":"COUNTIF(L87:L112,AI20)","v":0},null,null,null,2212,{"$f":"COUNTIF(L113:L139,AN20)","v":0},null,null,null,2212,{"$f":"COUNTIF(L140:L165,AS20)","v":0}]
[12,1845,14,1848,13,1854,14,1859,null,null,0,1111,null,2221,4,2.5316455696202531E-2,-0.13427293033359755,null,null,2221,{"$f":"COUNTIF(L7:L33,T21)","v":1},{"$f":"U21/(W4-U20)","v":3.7037037037037035E-2},{"$f":"IF(V21=0,0,(V21*((LOG(V21))/LOG(2))))","v":-0.1761069445245729},null,2221,{"$f":"COUNTIF(L34:L59,Y21)","v":3},{"$f":"Z21/(AB4-Z20)","v":0.11538461538461539},{"$f":"IF(AA21=0,0,(AA21*((LOG(AA21))/LOG(2))))","v":-0.35947814047153104},null,2221,{"$f":"COUNTIF(L60:L86,AD21)","v":0},{"$f":"AE21/(AG4-AE20)","v":0},{"$f":"IF(AF21=0,0,(AF21*((LOG(AF21))/LOG(2))))","v":0},null,2221,{"$f":"COUNTIF(L87:L112,AI21)","v":0},{"$f":"AJ21/(AL4-AJ20)","v":0},{"$f":"IF(AK21=0,0,(AK21*((LOG(AK21))/LOG(2))))","v":0},null,2221,{"$f":"COUNTIF(L113:L139,AN21)","v":0},{"$f":"AO21/(AQ4-AO20)","v":0},{"$f":"IF(AP21=0,0,(AP21*((LOG(AP21))/LOG(2))))","v":0},null,2221,{"$f":"COUNTIF(L140:L165,AS21)","v":0},{"$f":"AT21/(AV4-AT20)","v":0},{"$f":"IF(AU21=0,0,(AU21*((LOG(AU21))/LOG(2))))","v":0}]
[21,1955,21,1957,22,1980,14,1991,null,null,0,2221,null,2222,6,3.7974683544303799E-2,-0.17919562965022584,null,null,2222,{"$f":"COUNTIF(L7:L33,T22)","v":0},{"$f":"U22/(W4-U20)","v":0},{"$f":"IF(V22=0,0,(V22*((LOG(V22))/LOG(2))))","v":0},null,2222,{"$f":"COUNTIF(L34:L59,Y22)","v":2},{"$f":"Z22/(AB4-Z20)","v":7.6923076923076927E-2},{"$f":"IF(AA22=0,0,(AA22*((LOG(AA22))/LOG(2))))","v":-0.28464920908777636},null,2222,{"$f":"COUNTIF(L60:L86,AD22)","v":1},{"$f":"AE22/(AG4-AE20)","v":3.7037037037037035E-2},{"$f":"IF(AF22=0,0,(AF22*((LOG(AF22))/LOG(2))))","v":-0.1761069445245729},null,2222,{"$f":"COUNTIF(L87:L112,AI22)","v":2},{"$f":"AJ22/(AL4-AJ20)","v":7.6923076923076927E-2},{"$f":"IF(AK22=0,0,(AK22*((LOG(AK22))/LOG(2))))","v":-0.28464920908777636},null,2222,{"$f":"COUNTIF(L113:L139,AN22)","v":0},{"$f":"AO22/(AQ4-AO20)","v":0},{"$f":"IF(AP22=0,0,(AP22*((LOG(AP22))/LOG(2))))","v":0},null,2222,{"$f":"COUNTIF(L140:L165,AS22)","v":1},{"$f":"AT22/(AV4-AT20)","v":0.04},{"$f":"IF(AU22=0,0,(AU22*((LOG(AU22))/LOG(2))))","v":-0.18575424759098899}]
[21,2091,12,2103,13,2106,14,2112,null,null,0,2111,null,null,null,{"$f":"SUM(P7:P22)","v":1},{"$f":"-SUM(Q7:Q22)","v":2.194936723450942},null,null,null,null,{"$f":"SUM(V7:V22)","v":1},{"$f":"-SUM(W7:W22)","v":1.8649646778654179},null,null,null,{"$f":"SUM(AA7:AA22)","v":1},{"$f":"-SUM(AB7:AB22)","v":2.1125853906355427},null,null,null,{"$f":"SUM(AF7:AF22)","v":0.99999999999999978},{"$f":"-SUM(AG7:AG22)","v":2.2185761733592591},null,null,null,{"$f":"SUM(AK7:AK22)","v":1},{"$f":"-SUM(AL7:AL22)","v":1.8690746665964333},null,null,null,{"$f":"SUM(AP7:AP22)","v":1},{"$f":"-SUM(AQ7:AQ22)","v":1.9153211873338964},null,null,null,{"$f":"SUM(AU7:AU22)","v":1},{"$f":"-SUM(AV7:AV22)","v":1.6038561897747245}]
[12,2217,14,2221,13,2226,14,2232,null,null,0,1111,null,null,null,"U=",{"$f":"Q23/(LOG(Q4)/LOG(2))","v":0.30052062063866858},null,null,null,null,"U1=",{"$f":"W23/(LOG(W4)/LOG(2))","v":0.39222056820836687},null,null,null,"U2=",{"$f":"AB23/(LOG(AB4)/LOG(2))","v":0.44944420465220181},null,null,null,"U3=",{"$f":"AG23/(LOG(AG4)/LOG(2))","v":0.46658857277902149},null,null,null,"U4=",{"$f":"AL23/(LOG(AL4)/LOG(2))","v":0.3976382591149592},null,null,null,"U5=",{"$f":"AQ23/(LOG(AQ4)/LOG(2))","v":0.40281104157825554},null,null,null,"U6=",{"$f":"AV23/(LOG(AV4)/LOG(2))","v":0.34537163172844249}]
[21,2330,12,2342,13,2346,14,2351,null,null,0,2111]
[12,2453,14,2456,13,2461,14,2468,null,null,0,1111]
[21,2566,21,2588,11,2598,12,2602,null,null,0,2211,null,"Total Target Seq"]
[21,2700,12,2712,13,2719,14,2725,null,null,0,2111,null,{"$f":"COUNTIF(L7:L165,G3)","v":0},null,27,26,27,26,27,26]
[21,2842,12,2852,13,2857,14,2863,null,null,0,2111,null,null,null,"% of reinforcement given in 6 equal intervals based on number of trials "]
[21,2957,12,2967,13,2971,14,2976,null,null,0,2111,null,null,null,"%_1","%_2","%_3","%_4","%_5","%_6"]
[21,3077,21,3080,11,3093,12,3096,null,null,0,2211,null,null,"target sequence",{"$f":"$G$3","v":2212},2212,2212,2212,2212,2212]
[12,3113,14,3117,13,3123,14,3134,null,null,0,1111,null,null,"total reinforcement",{"$f":"U20","v":0},{"$f":"Z20","v":0},{"$f":"AE20","v":0},{"$f":"AJ20","v":0},{"$f":"AO20","v":0},{"$f":"AT20","v":0}]
[21,3343,12,3356,13,3359,14,3365,null,null,0,2111,null,null,"% target"]
[21,3470,12,3481,13,3490,14,3497,null,null,0,2111,null,null,"CCRF"]
[21,3594,12,3605,13,3613,14,3620,null,null,0,2111,null,null,"% CCRf"]
[21,3713,21,3728,11,3740,12,3746,null,null,0,2211,null,null,"average response rate",{"$f":"H33/P28","v":124.62962962962963},{"$f":"(H59-H33)/Q28","v":138.96153846153845},{"$f":"(H86-H59)/R28","v":131.40740740740742},{"$f":"(H112-H86)/S28","v":154.46153846153845},{"$f":"(H139-H112)/T28","v":145.33333333333334},{"$f":"(H165-H139)/U28","v":-710.23076923076928}]
[21,3852,12,3867,13,3873,14,3879,null,null,0,2111]
[21,4296,12,4307,13,4312,14,4320,null,null,0,2111]
[12,4428,14,4432,13,4438,14,4445,null,null,0,1111]
[21,4539,21,4554,22,4558,14,4572,null,null,0,2221]
[21,4671,21,4688,11,4702,12,4711,null,null,0,2211]
[21,4718,21,4732,11,4746,12,4751,null,null,0,2211]
[21,4847,21,4859,22,4862,14,4877,null,null,0,2221]
[12,4991,14,5010,13,5015,14,5022,null,null,0,1111]
[21,5120,21,5127,22,5147,14,5158,null,null,0,2221]
[21,5252,12,5267,13,5271,14,5280,null,null,0,2111]
[21,5375,12,5415,13,5426,14,5433,null,null,0,2111]
[21,5528,21,5547,11,5559,12,5574,null,null,0,2211]
[21,5669,21,5697,11,5708,12,5711,null,null,0,2211]
[21,5818,21,5822,11,5833,12,5837,null,null,0,2211]
[12,5936,14,5944,13,5951,14,5958,null,null,0,1111]
[21,6056,21,6059,11,6068,12,6082,null,null,0,2211]
[21,6113,21,6117,22,6123,23,6129,null,null,0,2222]
[21,6271,12,6283,13,6288,14,6294,null,null,0,2111]
[21,6389,21,6398,11,6412,12,6419,null,null,0,2211]
[21,6514,21,6536,11,6548,12,6553,null,null,0,2211]
[21,6648,21,6654,22,6660,23,6676,null,null,0,2222]
[12,6780,14,6785,13,6791,14,6798,null,null,0,1111]
[21,6950,12,6965,13,6971,14,6978,null,null,0,2111]
[21,7075,21,7083,11,7102,12,7107,null,null,0,2211]
[21,7202,21,7220,11,7234,12,7238,null,null,0,2211]
[21,7339,12,7357,13,7362,14,7367,null,null,0,2111]
[21,7466,12,7480,13,7488,14,7493,null,null,0,2111]
[21,7642,12,7654,13,7660,14,7666,null,null,0,2111]
[21,7846,12,7860,13,7864,14,7870,null,null,0,2111]
[21,7977,12,7995,13,8000,14,8006,null,null,0,2111]
[21,8111,21,8114,11,8127,12,8131,null,null,0,2211]
[12,8259,14,8263,24,8278,23,8282,null,null,0,1122]
[21,8377,12,8390,13,8395,14,8412,null,null,0,2111]
[21,8509,12,8525,13,8529,14,8534,null,null,0,2111]
[21,8632,21,8635,11,8650,12,8655,null,null,0,2211]
[21,8676,12,8692,13,8698,14,8703,null,null,0,2111]
[12,8816,14,8820,13,8827,14,8832,null,null,0,1111]
[21,8932,21,8935,11,8949,12,8953,null,null,0,2211]
[12,9077,14,9082,13,9086,14,9092,null,null,0,1111]
[12,9198,14,9205,13,9213,14,9219,null,null,0,1111]
[21,9340,12,9360,13,9363,14,9371,null,null,0,2111]
[12,9476,14,9481,13,9487,14,9493,null,null,0,1111]
[12,9595,14,9600,13,9607,14,9613,null,null,0,1111]
[21,9724,21,9729,22,9734,23,9742,null,null,0,2222]
[12,9849,23,9860,24,9865,23,9870,null,null,0,1222]
[12,9968,23,9981,24,9985,23,9990,null,null,0,1222]
[12,10103,14,10108,13,10115,14,10122,null,null,0,1111]
[12,10223,14,10231,13,10237,14,10243,null,null,0,1111]
[21,10349,12,10365,13,10370,14,10374,null,null,0,2111]
[12,10500,14,10504,24,10521,23,10526,null,null,0,1122]
[21,10626,12,10645,13,10651,14,10657,null,null,0,2111]
[21,10837,12,10849,13,10855,14,10860,null,null,0,2111]
[21,10952,12,10966,13,10976,14,10987,null,null,0,2111]
[21,11079,21,11085,11,11100,12,11104,null,null,0,2211]
[21,11207,12,11223,13,11228,14,11233,null,null,0,2111]
[21,11337,21,11339,11,11354,12,11357,null,null,0,2211]
[21,11367,21,11391,22,11395,23,11402,null,null,0,2222]
[21,11496,12,11512,13,11517,14,11524,null,null,0,2111]
[12,11628,14,11638,13,11645,14,11655,null,null,0,1111]
[21,11761,12,11774,13,11778,14,11784,null,null,0,2111]
[12,11891,14,11902,13,11908,14,11910,null,null,0,1111]
[21,12010,12,12023,13,12027,14,12035,null,null,0,2111]
[21,12129,12,12146,13,12151,14,12157,null,null,0,2111]
[21,12260,21,12280,22,12284,23,12290,null,null,0,2222]
[21,12390,12,12405,13,12408,14,12414,null,null,0,2111]
[21,12509,21,12524,11,12546,12,12553,null,null,0,2211]
[21,12572,12,12589,13,12596,14,12602,null,null,0,2111]
[12,12707,14,12714,13,12721,14,12729,null,null,0,1111]
[12,12846,14,12852,13,12859,14,12866,null,null,0,1111]
[12,12985,14,12993,13,12999,14,13005,null,null,0,1111]
[12,13103,14,13105,13,13111,14,13121,null,null,0,1111]
[21,13241,21,13244,11,13257,12,13261,null,null,0,2211]
[21,13358,12,13392,13,13398,14,13405,null,null,0,2111]
[12,14201,23,14217,24,14222,23,14229,null,null,0,1222]
[21,14383,12,14405,13,14418,14,14420,null,null,0,2111]
[21,14516,12,14530,13,14536,14,14542,null,null,0,2111]
[12,14640,14,14645,13,14651,14,14659,null,null,0,1111]
[21,14759,21,14763,11,14778,12,14787,null,null,0,2211]
[21,14882,21,14924,11,14940,12,14946,null,null,0,2211]
[21,15045,21,15065,11,15079,12,15083,null,null,0,2211]
[21,15181,21,15184,11,15204,12,15209,null,null,0,2211]
[21,15320,12,15335,13,15339,14,15345,null,null,0,2111]
[21,15463,12,15475,13,15480,14,15487,null,null,0,2111]
[21,15605,12,15631,13,15634,14,15639,null,null,0,2111]
[12,15759,14,15768,13,15777,14,15785,null,null,0,1111]
[21,15899,12,15913,13,15919,14,15925,null,null,0,2111]
[21,16037,12,16049,13,16053,14,16059,null,null,0,2111]
[12,16160,14,16168,13,16174,14,16180,null,null,0,1111]
[21,16326,12,16342,13,16351,14,16358,null,null,0,2111]
[12,16481,14,16487,13,16494,14,16500,null,null,0,1111]
[12,16616,14,16622,13,16631,14,16637,null,null,0,1111]
[21,16733,12,16766,13,16770,14,16775,null,null,0,2111]
[12,16914,23,16927,24,16930,23,16936,null,null,0,1222]
[12,17080,14,17089,13,17094,14,17099,null,null,0,1111]
[12,17226,23,17239,24,17244,23,17249,null,null,0,1222]
[12,17453,23,17466,24,17468,23,17473,null,null,0,1222]
[12,17619,23,17637,24,17642,23,17647,null,null,0,1222]
[12,17753,14,17760,13,17762,14,17770,null,null,0,1111]
[12,17879,23,17890,24,17894,23,17902,null,null,0,1222]
[12,18034,14,18040,13,18045,14,18053,null,null,0,1111]
[21,18148,12,18164,13,18169,14,18175,null,null,0,2111]
[21,18298,12,18318,13,18323,14,18329,null,null,0,2111]
[12,18441,14,18453,13,18460,14,18466,null,null,0,1111]
[12,18639,14,18645,13,18651,14,18658,null,null,0,1111]
[12,18752,23,18768,24,18773,23,18779,null,null,0,1222]
[12,18891,14,18897,13,18907,14,18914,null,null,0,1111]
[21,19023,21,19029,22,19034,23,19041,null,null,0,2222]
[12,19145,23,19159,24,19163,23,19169,null,null,0,1222]
[12,19308,14,19312,13,19319,14,19324,null,null,0,1111]
[12,19475,23,19491,24,19494,23,19508,null,null,0,1222]
[12,19629,14,19636,13,19642,14,19650,null,null,0,1111]
[12,19753,14,19759,13,19768,14,19773,null,null,0,1111]
[21,19881,21,19883,11,19900,12,19905,null,null,0,2211]
[12,20029,14,20036,13,20042,14,20048,null,null,0,1111]
[21,20168,12,20180,13,20183,14,20187,null,null,0,2111]
[12,20315,14,20323,13,20330,14,20345,null,null,0,1111]
[12,20467,14,20473,13,20475,14,20483,null,null,0,1111]
[12,20583,14,20589,13,20597,14,20609,null,null,0,1111]
[12,20729,14,20737,13,20744,14,20752,null,null,0,1111]
[12,20857,14,20860,13,20863,14,20872,null,null,0,1111]
[21,20993,21,20996,11,21007,12,21011,null,null,0,2211]
[12,21105,23,21128,24,21134,23,21139,null,null,0,1222]
[12,21838,14,21847,13,21864,14,21871,null,null,0,1111]
[12,22123,14,22129,13,22134,14,22142,null,null,0,1111]
[12,22344,14,22350,13,22356,14,22362,null,null,0,1111]
[21,22974,12,22995,13,23001,14,23008,null,null,0,2111]
[12,23743,14,23750,13,23754,14,23760,null,null,0,1111]
[12,23874,14,23881,13,23888,14,23895,null,null,0,1111]
[12,23999,null,null,null,null,null,null,null,null,null,1]

{"sheet":"!LB09A45..Du","index":8,"n_rows":69,"n_cols":48,"rows_kept":69,"cut":false,"hidden":false,"merged":[[1,1,1,2],[5,13,5,14],[26,13,26,14],[27,13,27,14],[4,19,4,22],[5,19,5,20],[4,39,4,42],[5,39,5,40],[4,44,4,47],[5,44,5,45],[4,24,4,27],[5,24,5,25],[4,29,4,32],[5,29,5,30],[4,34,4,37],[5,34,5,35]]}
["Report for:!LB09A45..Du"]
["Date:","<date>"]
["Hen:","<hen>",null,null,null,"Correct Sequence",{"$f":"Start!J2","v":2212},null,null,null,null,null,null,null,null,"Total Sequences in Data",{"$f":"4994-COUNTBLANK(L7:L5000)","v":63},null,null,null,null,"Total Sequences in Block Data",{"$f":"COUNTA(L7:L17)","v":11},null,null,null,"Total Sequences in Block Data",{"$f":"COUNTA(L18:L27)","v":10},null,null,null,"Total Sequences in Block Data",{"$f":"COUNTA(L28:L38)","v":11},null,null,null,"Total Sequences in Block Data",{"$f":"COUNTA(L39:L48)","v":10},null,null,null,"Total Sequences in Block Data",{"$f":"COUNTA(L49:L59)","v":11},null,null,null,"Total Sequences in Block Data",{"$f":"COUNTA(L60:L69)","v":10}]
[null,null,null,null,null,null,null,null,null,null,null,null,null,null,null,"Total Sequences in Summary",{"$f":"SUM(O7:O22)","v":63},null,null,null,null,"Total Sequences in Block Summary",{"$f":"SUM(U7:U22)","v":11},null,null,null,"Total Sequences in Block Summary",{"$f":"SUM(Z7:Z22)","v":10},null,null,null,"Total Sequences in Block Summary",{"$f":"SUM(AE7:AE22)","v":11},null,null,null,"Total Sequences in Block Summary",{"$f":"SUM(AJ7:AJ22)","v":10},null,null,null,"Total Sequences in Block Summary",{"$f":"SUM(AO7:AO22)","v":11},null,null,null,"Total Sequences in Block Summary",{"$f":"SUM(AT7:AT22)","v":10}]
[null,null,null,null,null,null,null,null,null,null,null,null,null,null,null,null,null,null,null,"Block 1",null,null,null,null,"Block 2",null,null,null,null,"Block 3",null,null,null,null,"Block 4",null,null,null,null,"Block 5",null,null,null,null,"Block 6"]
["Sequence\nComponent\n1","Time\n1","Sequence\nComponent\n2","Time\n2","Sequence\nComponent\n3","Time\n3","Sequence\nComponent\n4","Time\n4","Sequence\nComponent\n5","Time\n5","Correct?\n0=No 1=Yes","Sequence",null,"Frequency",null,"Relative Frequency","Variability",null,null,"Frequency",null,"Relative Frequency","Variability",null,"Frequency",null,"Relative Frequency","Variability",null,"Frequency",null,"Relative Frequency","Variability",null,"Frequency",null,"Relative Frequency","Variability",null,"Frequency",null,"Relative Frequency","Variability",null,"Frequency",null,"Relative Frequency","Variability"]
[12,25,14,28,13,34,14,40,null,null,0,1111,null,1111,{"$f":"COUNTIF($L$7:$L$500,N7)","v":14},{"$f":"O7/$Q$4","v":0.22222222222222221},{"$f":"IF(P7=0,0,(P7*((LOG(P7))/LOG(2))))","v":-0.48220555587606945},null,null,{"$f":"N7","v":1111},{"$f":"COUNTIF(L7:L17,T7)","v":5},{"$f":"U7/(W4-U20)","v":0.45454545454545453},{"$f":"IF(V7=0,0,(V7*((LOG(V7))/LOG(2))))","v":-0.51704705624997038},null,{"$f":"N7","v":1111},{"$f":"COUNTIF(L18:L27,Y7)","v":2},{"$f":"Z7/(AB4-Z20)","v":0.2},{"$f":"IF(AA7=0,0,(AA7*((LOG(AA7))/LOG(2))))","v":-0.46438561897747244},null,{"$f":"N7","v":1111},{"$f":"COUNTIF(L28:L38,AD7)","v":0},{"$f":"AE7/(AG4-AE20)","v":0},{"$f":"IF(AF7=0,0,(AF7*((LOG(AF7))/LOG(2))))","v":0},null,{"$f":"N7","v":1111},{"$f":"COUNTIF(L39:L48,AI7)","v":2},{"$f":"AJ7/(AL4-AJ20)","v":0.2},{"$f":"IF(AK7=0,0,(AK7*((LOG(AK7))/LOG(2))))","v":-0.46438561897747244},null,{"$f":"N7","v":1111},{"$f":"COUNTIF(L49:L59,AN7)","v":4},{"$f":"AO7/(AQ4-AO20)","v":0.36363636363636365},{"$f":"IF(AP7=0,0,(AP7*((LOG(AP7))/LOG(2))))","v":-0.53070240677719893},null,{"$f":"N7","v":1111},{"$f":"COUNTIF(L60:L69,AS7)","v":1},{"$f":"AT7/(AV4-AT20)","v":0.1},{"$f":"IF(AU7=0,0,(AU7*((LOG(AU7))/LOG(2))))","v":-0.33219280948873625}]
[21,177,12,189,13,196,14,202,null,null,0,2111,null,1112,0,0,0,null,null,1112,{"$f":"COUNTIF(L7:L17,T8)","v":0},{"$f":"U8/(W4-U20)","v":0},0,null,1112,{"$f":"COUNTIF(L18:L27,Y8)","v":0},{"$f":"Z8/(AB4-Z20)","v":0},0,null,1112,{"$f":"COUNTIF(L28:L38,AD8)","v":0},{"$f":"AE8/(AG4-AE20)","v":0},0,null,1112,{"$f":"COUNTIF(L39:L48,AI8)","v":0},{"$f":"AJ8/(AL4-AJ20)","v":0},0,null,1112,{"$f":"COUNTIF(L49:L59,AN8)","v":0},{"$f":"AO8/(AQ4-AO20)","v":0},0,null,1112,{"$f":"COUNTIF(L60:L69,AS8)","v":0},{"$f":"AT8/(AV4-AT20)","v":0},0]
[21,372,21,378,11,396,12,403,null,null,0,2211,null,1121,0,0,0,null,null,1121,{"$f":"COUNTIF(L7:L17,T9)","v":0},{"$f":"U9/(W4-U20)","v":0},0,null,1121,{"$f":"COUNTIF(L18:L27,Y9)","v":0},{"$f":"Z9/(AB4-Z20)","v":0},0,null,1121,{"$f":"COUNTIF(L28:L38,AD9)","v":0},{"$f":"AE9/(AG4-AE20)","v":0},0,null,1121,{"$f":"COUNTIF(L39:L48,AI9)","v":0},{"$f":"AJ9/(AL4-AJ20)","v":0},0,null,1121,{"$f":"COUNTIF(L49:L59,AN9)","v":0},{"$f":"AO9/(AQ4-AO20)","v":0},0,null,1121,{"$f":"COUNTIF(L60:L69,AS9)","v":0},{"$f":"AT9/(AV4-AT20)","v":0},0]
[12,497,14,503,13,508,14,515,null,null,0,1111,null,1122,0,0,0,null,null,1122,{"$f":"COUNTIF(L7:L17,T10)","v":0},{"$f":"U10/(W4-U20)","v":0},0,null,1122,{"$f":"COUNTIF(L18:L27,Y10)","v":0},{"$f":"Z10/(AB4-Z20)","v":0},0,null,1122,{"$f":"COUNTIF(L28:L38,AD10)","v":0},{"$f":"AE10/(AG4-AE20)","v":0},0,null,1122,{"$f":"COUNTIF(L39:L48,AI10)","v":0},{"$f":"AJ10/(AL4-AJ20)","v":0},0,null,1122,{"$f":"COUNTIF(L49:L59,AN10)","v":0},{"$f":"AO10/(AQ4-AO20)","v":0},0,null,1122,{"$f":"COUNTIF(L60:L69,AS10)","v":0},{"$f":"AT10/(AV4-AT20)","v":0},0]
[21,612,12,622,13,626,14,646,null,null,0,2111,null,1211,0,0,0,null,null,1211,{"$f":"COUNTIF(L7:L17,T11)","v":0},{"$f":"U11/(W4-U20)","v":0},0,null,1211,{"$f":"COUNTIF(L18:L27,Y11)","v":0},{"$f":"Z11/(AB4-Z20)","v":0},0,null,1211,{"$f":"COUNTIF(L28:L38,AD11)","v":0},{"$f":"AE11/(AG4-AE20)","v":0},0,null,1211,{"$f":"COUNTIF(L39:L48,AI11)","v":0},{"$f":"AJ11/(AL4-AJ20)","v":0},0,null,1211,{"$f":"COUNTIF(L49:L59,AN11)","v":0},{"$f":"AO11/(AQ4-AO20)","v":0},0,null,1211,{"$f":"COUNTIF(L60:L69,AS11)","v":0},{"$f":"AT11/(AV4-AT20)","v":0},0]
[12,742,14,751,13,756,14,762,null,null,0,1111,null,1212,0,0,0,null,null,1212,{"$f":"COUNTIF(L7:L17,T12)","v":0},{"$f":"U12/(W4-U20)","v":0},0,null,1212,{"$f":"COUNTIF(L18:L27,Y12)","v":0},{"$f":"Z12/(AB4-Z20)","v":0},0,null,1212,{"$f":"COUNTIF(L28:L38,AD12)","v":0},{"$f":"AE12/(AG4-AE20)","v":0},0,null,1212,{"$f":"COUNTIF(L39:L48,AI12)","v":0},{"$f":"AJ12/(AL4-AJ20)","v":0},0,null,1212,{"$f":"COUNTIF(L49:L59,AN12)","v":0},{"$f":"AO12/(AQ4-AO20)","v":0},0,null,1212,{"$f":"COUNTIF(L60:L69,AS12)","v":0},{"$f":"AT12/(AV4-AT20)","v":0},0]
[21,862,12,871,13,875,14,880,null,null,0,2111,null,1221,0,0,0,null,null,1221,{"$f":"COUNTIF(L7:L17,T13)","v":0},{"$f":"U13/(W4-U20)","v":0},0,null,1221,{"$f":"COUNTIF(L18:L27,Y13)","v":0},{"$f":"Z13/(AB4-Z20)","v":0},0,null,1221,{"$f":"COUNTIF(L28:L38,AD13)","v":0},{"$f":"AE13/(AG4-AE20)","v":0},0,null,1221,{"$f":"COUNTIF(L39:L48,AI13)","v":0},{"$f":"AJ13/(AL4-AJ20)","v":0},0,null,1221,{"$f":"COUNTIF(L49:L59,AN13)","v":0},{"$f":"AO13/(AQ4-AO20)","v":0},0,null,1221,{"$f":"COUNTIF(L60:L69,AS13)","v":0},{"$f":"AT13/(AV4-AT20)","v":0},0]
[12,1011,14,1013,13,1017,14,1023,null,null,0,1111,null,1222,2,3.1746031746031744E-2,-0.15800888646031477,null,null,1222,{"$f":"COUNTIF(L7:L17,T14)","v":0},{"$f":"U14/(W4-U20)","v":0},0,null,1222,{"$f":"COUNTIF(L18:L27,Y14)","v":0},{"$f":"Z14/(AB4-Z20)","v":0},0,null,1222,{"$f":"COUNTIF(L28:L38,AD14)","v":1},{"$f":"AE14/(AG4-AE20)","v":9.0909090909090912E-2},-0.31449378351248153,null,1222,{"$f":"COUNTIF(L39:L48,AI14)","v":1},{"$f":"AJ14/(AL4-AJ20)","v":0.1},-0.33219280948873625,null,1222,{"$f":"COUNTIF(L49:L59,AN14)","v":0},{"$f":"AO14/(AQ4-AO20)","v":0},0,null,1222,{"$f":"COUNTIF(L60:L69,AS14)","v":0},{"$f":"AT14/(AV4-AT20)","v":0},0]
[21,1121,12,1133,13,1137,14,1146,null,null,0,2111,null,2111,24,0.38095238095238093,-0.53040663724905157,null,null,2111,{"$f":"COUNTIF(L7:L17,T15)","v":4},{"$f":"U15/(W4-U20)","v":0.36363636363636365},-0.53070240677719893,null,2111,{"$f":"COUNTIF(L18:L27,Y15)","v":3},{"$f":"Z15/(AB4-Z20)","v":0.3},-0.52108967824986185,null,2111,{"$f":"COUNTIF(L28:L38,AD15)","v":5},{"$f":"AE15/(AG4-AE20)","v":0.45454545454545453},-0.51704705624997038,null,2111,{"$f":"COUNTIF(L39:L48,AI15)","v":3},{"$f":"AJ15/(AL4-AJ20)","v":0.3},-0.52108967824986185,null,2111,{"$f":"COUNTIF(L49:L59,AN15)","v":3},{"$f":"AO15/(AQ4-AO20)","v":0.27272727272727271},-0.51121885034076575,null,2111,{"$f":"COUNTIF(L60:L69,AS15)","v":6},{"$f":"AT15/(AV4-AT20)","v":0.6},-0.44217935649972373]
[21,1245,21,1249,11,1267,12,1272,null,null,0,2211,null,2112,0,0,0,null,null,2112,{"$f":"COUNTIF(L7:L17,T16)","v":0},{"$f":"U16/(W4-U20)","v":0},0,null,2112,{"$f":"COUNTIF(L18:L27,Y16)","v":0},{"$f":"Z16/(AB4-Z20)","v":0},0,null,2112,{"$f":"COUNTIF(L28:L38,AD16)","v":0},{"$f":"AE16/(AG4-AE20)","v":0},0,null,2112,{"$f":"COUNTIF(L39:L48,AI16)","v":0},{"$f":"AJ16/(AL4-AJ20)","v":0},0,null,2112,{"$f":"COUNTIF(L49:L59,AN16)","v":0},{"$f":"AO16/(AQ4-AO20)","v":0},0,null,2112,{"$f":"COUNTIF(L60:L69,AS16)","v":0},{"$f":"AT16/(AV4-AT20)","v":0},0]
[12,1379,14,1391,13,1397,14,1403,null,null,0,1111,null,2121,0,0,0,null,null,2121,{"$f":"COUNTIF(L7:L17,T17)","v":0},{"$f":"U17/(W4-U20)","v":0},0,null,2121,{"$f":"COUNTIF(L18:L27,Y17)","v":0},{"$f":"Z17/(AB4-Z20)","v":0},0,null,2121,{"$f":"COUNTIF(L28:L38,AD17)","v":0},{"$f":"AE17/(AG4-AE20)","v":0},0,null,2121,{"$f":"COUNTIF(L39:L48,AI17)","v":0},{"$f":"AJ17/(AL4-AJ20)","v":0},0,null,2121,{"$f":"COUNTIF(L49:L59,AN17)","v":0},{"$f":"AO17/(AQ4-AO20)","v":0},0,null,2121,{"$f":"COUNTIF(L60:L69,AS17)","v":0},{"$f":"AT17/(AV4-AT20)","v":0},0]
[21,1499,21,1503,11,1527,12,1534,null,null,0,2211,null,2122,0,0,0,null,null,2122,{"$f":"COUNTIF(L7:L17,T18)","v":0},{"$f":"U18/(W4-U20)","v":0},0,null,2122,{"$f":"COUNTIF(L18:L27,Y18)","v":0},{"$f":"Z18/(AB4-Z20)","v":0},0,null,2122,{"$f":"COUNTIF(L28:L38,AD18)","v":0},{"$f":"AE18/(AG4-AE20)","v":0},0,null,2122,{"$f":"COUNTIF(L39:L48,AI18)","v":0},{"$f":"AJ18/(AL4-AJ20)","v":0},0,null,2122,{"$f":"COUNTIF(L49:L59,AN18)","v":0},{"$f":"AO18/(AQ4-AO20)","v":0},0,null,2122,{"$f":"COUNTIF(L60:L69,AS18)","v":0},{"$f":"AT18/(AV4-AT20)","v":0},0]
[21,1634,21,1637,11,1646,12,1651,null,null,0,2211,null,2211,17,0.26984126984126983,-0.50995064124194933,null,null,2211,{"$f":"COUNTIF(L7:L17,T19)","v":2},{"$f":"U19/(W4-U20)","v":0.18181818181818182},-0.44716938520678134,null,2211,{"$f":"COUNTIF(L18:L27,Y19)","v":4},{"$f":"Z19/(AB4-Z20)","v":0.4},-0.52877123795494496,null,2211,{"$f":"COUNTIF(L28:L38,AD19)","v":3},{"$f":"AE19/(AG4-AE20)","v":0.27272727272727271},-0.51121885034076575,null,2211,{"$f":"COUNTIF(L39:L48,AI19)","v":3},{"$f":"AJ19/(AL4-AJ20)","v":0.3},-0.52108967824986185,null,2211,{"$f":"COUNTIF(L49:L59,AN19)","v":4},{"$f":"AO19/(AQ4-AO20)","v":0.36363636363636365},-0.53070240677719893,null,2211,{"$f":"COUNTIF(L60:L69,AS19)","v":1},{"$f":"AT19/(AV4-AT20)","v":0.1},-0.33219280948873625]
[21,1663,21,1670,22,1678,14,1692,null,null,0,2221,null,2212,0,0,0,null,null,2212,{"$f":"COUNTIF(L7:L17,T20)","v":0},null,null,null,2212,{"$f":"COUNTIF(L18:L27,Y20)","v":0},null,null,null,2212,{"$f":"COUNTIF(L28:L38,AD20)","v":0},null,null,null,2212,{"$f":"COUNTIF(L39:L48,AI20)","v":0},null,null,null,2212,{"$f":"COUNTIF(L49:L59,AN20)","v":0},null,null,null,2212,{"$f":"COUNTIF(L60:L69,AS20)","v":0}]
[21,1787,21,1791,11,1802,12,1806,null,null,0,2211,null,2221,4,6.3492063492063489E-2,-0.25252570942856611,null,null,2221,{"$f":"COUNTIF(L7:L17,T21)","v":0},{"$f":"U21/(W4-U20)","v":0},{"$f":"IF(V21=0,0,(V21*((LOG(V21))/LOG(2))))","v":0},null,2221,{"$f":"COUNTIF(L18:L27,Y21)","v":1},{"$f":"Z21/(AB4-Z20)","v":0.1},{"$f":"IF(AA21=0,0,(AA21*((LOG(AA21))/LOG(2))))","v":-0.33219280948873625},null,2221,{"$f":"COUNTIF(L28:L38,AD21)","v":1},{"$f":"AE21/(AG4-AE20)","v":9.0909090909090912E-2},{"$f":"IF(AF21=0,0,(AF21*((LOG(AF21))/LOG(2))))","v":-0.31449378351248153},null,2221,{"$f":"COUNTIF(L39:L48,AI21)","v":0},{"$f":"AJ21/(AL4-AJ20)","v":0},{"$f":"IF(AK21=0,0,(AK21*((LOG(AK21))/LOG(2))))","v":0},null,2221,{"$f":"COUNTIF(L49:L59,AN21)","v":0},{"$f":"AO21/(AQ4-AO20)","v":0},{"$f":"IF(AP21=0,0,(AP21*((LOG(AP21))/LOG(2))))","v":0},null,2221,{"$f":"COUNTIF(L60:L69,AS21)","v":2},{"$f":"AT21/(AV4-AT20)","v":0.2},{"$f":"IF(AU21=0,0,(AU21*((LOG(AU21))/LOG(2))))","v":-0.46438561897747244}]
[21,1912,12,1926,13,1931,14,1936,null,null,0,2111,null,2222,2,3.1746031746031744E-2,-0.15800888646031477,null,null,2222,{"$f":"COUNTIF(L7:L17,T22)","v":0},{"$f":"U22/(W4-U20)","v":0},{"$f":"IF(V22=0,0,(V22*((LOG(V22))/LOG(2))))","v":0},null,2222,{"$f":"COUNTIF(L18:L27,Y22)","v":0},{"$f":"Z22/(AB4-Z20)","v":0},{"$f":"IF(AA22=0,0,(AA22*((LOG(AA22))/LOG(2))))","v":0},null,2222,{"$f":"COUNTIF(L28:L38,AD22)","v":1},{"$f":"AE22/(AG4-AE20)","v":9.0909090909090912E-2},{"$f":"IF(AF22=0,0,(AF22*((LOG(AF22))/LOG(2))))","v":-0.31449378351248153},null,2222,{"$f":"COUNTIF(L39:L48,AI22)","v":1},{"$f":"AJ22/(AL4-AJ20)","v":0.1},{"$f":"IF(AK22=0,0,(AK22*((LOG(AK22))/LOG(2))))","v":-0.33219280948873625},null,2222,{"$f":"COUNTIF(L49:L59,AN22)","v":0},{"$f":"AO22/(AQ4-AO20)","v":0},{"$f":"IF(AP22=0,0,(AP22*((LOG(AP22))/LOG(2))))","v":0},null,2222,{"$f":"COUNTIF(L60:L69,AS22)","v":0},{"$f":"AT22/(AV4-AT20)","v":0},{"$f":"IF(AU22=0,0,(AU22*((LOG(AU22))/LOG(2))))","v":0}]
[12,2072,14,2077,13,2083,14,2089,null,null,0,1111,null,null,null,{"$f":"SUM(P7:P22)","v":0.99999999999999989},{"$f":"-SUM(Q7:Q22)","v":2.0911063167162656},null,null,null,null,{"$f":"SUM(V7:V22)","v":1},{"$f":"-SUM(W7:W22)","v":1.4949188482339506},null,null,null,{"$f":"SUM(AA7:AA22)","v":1},{"$f":"-SUM(AB7:AB22)","v":1.8464393446710157},null,null,null,{"$f":"SUM(AF7:AF22)","v":1},{"$f":"-SUM(AG7:AG22)","v":1.9717472571281807},null,null,null,{"$f":"SUM(AK7:AK22)","v":1.0000000000000002},{"$f":"-SUM(AL7:AL22)","v":2.1709505944546685},null,null,null,{"$f":"SUM(AP7:AP22)","v":1},{"$f":"-SUM(AQ7:AQ22)","v":1.5726236638951634},null,null,null,{"$f":"SUM(AU7:AU22)","v":1},{"$f":"-SUM(AV7:AV22)","v":1.5709505944546687}]
[21,2190,21,2198,11,2208,12,2213,null,null,0,2211,null,null,null,"U=",{"$f":"Q23/(LOG(Q4)/LOG(2))","v":0.34984246069771585},null,null,null,null,"U1=",{"$f":"W23/(LOG(W4)/LOG(2))","v":0.43212845722408383},null,null,null,"U2=",{"$f":"AB23/(LOG(AB4)/LOG(2))","v":0.55583362792012014},null,null,null,"U3=",{"$f":"AG23/(LOG(AG4)/LOG(2))","v":0.56996277842452925},null,null,null,"U4=",{"$f":"AL23/(LOG(AL4)/LOG(2))","v":0.65352124803540634},null,null,null,"U5=",{"$f":"AQ23/(LOG(AQ4)/LOG(2))","v":0.45459018626725578},null,null,null,"U6=",{"$f":"AV23/(LOG(AV4)/LOG(2))","v":0.4729032506370176}]
[21,2313,12,2326,13,2329,14,2334,null,null,0,2111]
[12,2431,14,2438,13,2445,14,2462,null,null,0,1111]
[21,2556,12,2576,13,2578,14,2583,null,null,0,2111,null,"Total Target Seq"]
[21,2677,21,2700,22,2705,23,2712,null,null,0,2222,null,{"$f":"COUNTIF(L7:L69,G3)","v":0},null,11,10,11,10,11,10]
[12,2823,23,2835,24,2839,23,2844,null,null,0,1222,null,null,null,"% of reinforcement given in 6 equal intervals based on number of trials "]
[21,3003,21,3023,11,3032,12,3036,null,null,0,2211,null,null,null,"%_1","%_2","%_3","%_4","%_5","%_6"]
[21,3047,12,3062,13,3067,14,3072,null,null,0,2111,null,null,"target sequence",{"$f":"$G$3","v":2212},2212,2212,2212,2212,2212]
[21,3172,21,3176,11,3189,12,3195,null,null,0,2211,null,null,"total reinforcement",{"$f":"U20","v":0},{"$f":"Z20","v":0},{"$f":"AE20","v":0},{"$f":"AJ20","v":0},{"$f":"AO20","v":0},{"$f":"AT20","v":0}]
[21,3298,12,3312,13,3322,14,3329,null,null,0,2111,null,null,"% target"]
[21,3425,12,3440,13,3443,14,3448,null,null,0,2111,null,null,"CCRF"]
[21,3560,12,3572,13,3575,14,3582,null,null,0,2111,null,null,"% CCRf"]
[21,3702,21,3705,11,3718,12,3729,null,null,0,2211,null,null,"average response rate",{"$f":"H17/P28","v":127.54545454545455},{"$f":"(H27-H17)/Q28","v":118},{"$f":"(H38-H27)/R28","v":128.36363636363637},{"$f":"(H48-H38)/S28","v":129.69999999999999},{"$f":"(H59-H48)/T28","v":132.81818181818181},{"$f":"(H69-H59)/U28","v":133.9}]
[21,3825,21,3843,22,3847,14,3864,null,null,0,2221]
[21,3972,12,3985,13,3988,14,3995,null,null,0,2111]
[12,4089,23,4106,24,4111,23,4121,null,null,0,1222]
[21,4277,12,4288,13,4291,14,4297,null,null,0,2111]
[12,4398,14,4404,13,4414,14,4421,null,null,0,1111]
[21,4525,21,4530,11,4548,12,4558,null,null,0,2211]
[21,4655,21,4658,11,4674,12,4679,null,null,0,2211]
[21,4697,21,4725,11,4740,12,4745,null,null,0,2211]
[12,4857,14,4870,13,4877,14,4886,null,null,0,1111]
[21,4988,12,5004,13,5012,14,5017,null,null,0,2111]
[21,5112,21,5117,22,5121,23,5140,null,null,0,2222]
[21,5263,12,5281,13,5287,14,5292,null,null,0,2111]
[21,5405,12,5419,13,5424,14,5431,null,null,0,2111]
[21,5532,21,5534,11,5549,12,5553,null,null,0,2211]
[21,5654,21,5659,11,5679,12,5683,null,null,0,2211]
[21,5777,21,5792,11,5808,12,5818,null,null,0,2211]
[12,5938,14,5944,13,5949,14,5956,null,null,0,1111]
[12,6048,14,6056,13,6066,14,6073,null,null,0,1111]
[21,6234,12,6254,13,6259,14,6270,null,null,0,2111]
[21,6369,21,6373,11,6388,12,6392,null,null,0,2211]
[21,6493,12,6509,13,6512,14,6519,null,null,0,2111]
[12,6616,14,6623,13,6628,14,6635,null,null,0,1111]
[12,6735,14,6739,13,6746,14,6753,null,null,0,1111]
[21,6856,12,6866,13,6872,14,6877,null,null,0,2111]
[21,6974,12,6995,13,6999,14,7005,null,null,0,2111]
[21,7180,12,7192,13,7197,14,7203,null,null,0,2111]
[12,7311,14,7316,13,7323,14,7329,null,null,0,1111]
[21,7431,12,7442,13,7446,14,7457,null,null,0,2111]
[21,7555,21,7557,22,7561,14,7575,null,null,0,2221]
[21,7675,12,7692,13,7697,14,7704,null,null,0,2111]
[21,7814,12,7828,13,7833,14,7840,null,null,0,2111]
[21,7935,21,7950,22,7954,14,7971,null,null,0,2221]
[21,8067,21,8070,11,8086,12,8092,null,null,1,2211]

{"sheet":"!LB10A55..Du","index":9,"n_rows":173,"n_cols":48,"rows_kept":173,"cut":false,"hidden":false,"merged":[[1,1,1,2],[5,13,5,14],[26,13,26,14],[27,13,27,14],[4,19,4,22],[5,19,5,20],[4,39,4,42],[5,39,5,40],[4,44,4,47],[5,44,5,45],[4,24,4,27],[5,24,5,25],[4,29,4,32],[5,29,5,30],[4,34,4,37],[5,34,5,35]]}
["Report for:!LB10A55..Du"]
["Date:","<date>"]
["Hen:","<hen>",null,null,null,"Correct Sequence",{"$f":"Start!J2","v":2212},null,null,null,null,null,null,null,null,"Total Sequences in Data",{"$f":"4994-COUNTBLANK(L7:L5000)","v":167},null,null,null,null,"Total Sequences in Block Data",{"$f":"COUNTA(L7:L34)","v":28},null,null,null,"Total Sequences in Block Data",{"$f":"COUNTA(L35:L62)","v":28},null,null,null,"Total Sequences in Block Data",{"$f":"COUNTA(L63:L89)","v":27},null,null,null,"Total Sequences in Block Data",{"$f":"COUNTA(L90:L117)","v":28},null,null,null,"Total Sequences in Block Data",{"$f":"COUNTA(L118:L145)","v":28},null,null,null,"Total Sequences in Block Data",{"$f":"COUNTA(L146:L173)","v":28}]
[null,null,null,null,null,null,null,null,null,null,null,null,null,null,null,"Total Sequences in Summary",{"$f":"SUM(O7:O22)","v":167},null,null,null,null,"Total Sequences in Block Summary",{"$f":"SUM(U7:U22)","v":28},null,null,null,"Total Sequences in Block Summary",{"$f":"SUM(Z7:Z22)","v":28},null,null,null,"Total Sequences in Block Summary",{"$f":"SUM(AE7:AE22)","v":27},null,null,null,"Total Sequences in Block Summary",{"$f":"SUM(AJ7:AJ22)","v":28},null,null,null,"Total Sequences in Block Summary",{"$f":"SUM(AO7:AO22)","v":28},null,null,null,"Total Sequences in Block Summary",{"$f":"SUM(AT7:AT22)","v":28}]
[null,null,null,null,null,null,null,null,null,null,null,null,null,null,null,null,null,null,null,"Block 1",null,null,null,null,"Block 2",null,null,null,null,"Block 3",null,null,null,null,"Block 4",null,null,null,null,"Block 5",null,null,null,null,"Block 6"]
["Sequence\nComponent\n1","Time\n1","Sequence\nComponent\n2","Time\n2","Sequence\nComponent\n3","Time\n3","Sequence\nComponent\n4","Time\n4","Sequence\nComponent\n5","Time\n5","Correct?\n0=No 1=Yes","Sequence",null,"Frequency",null,"Relative Frequency","Variability",null,null,"Frequency",null,"Relative Frequency","Variability",null,"Frequency",null,"Relative Frequency","Variability",null,"Frequency",null,"Relative Frequency","Variability",null,"Frequency",null,"Relative Frequency","Variability",null,"Frequency",null,"Relative Frequency","Variability",null,"Frequency",null,"Relative Frequency","Variability"]
[12,15,14,18,13,23,14,32,null,null,0,1111,null,1111,{"$f":"COUNTIF($L$7:$L$500,N7)","v":55},{"$f":"O7/$Q$4","v":0.32934131736526945},{"$f":"IF(P7=0,0,(P7*((LOG(P7))/LOG(2))))","v":-0.52771827450429099},null,null,{"$f":"N7","v":1111},{"$f":"COUNTIF(L7:L34,T7)","v":8},{"$f":"U7/(W4-U20)","v":0.2857142857142857},{"$f":"IF(V7=0,0,(V7*((LOG(V7))/LOG(2))))","v":-0.51638712058788683},null,{"$f":"N7","v":1111},{"$f":"COUNTIF(L35:L62,Y7)","v":12},{"$f":"Z7/(AB4-Z20)","v":0.42857142857142855},{"$f":"IF(AA7=0,0,(AA7*((LOG(AA7))/LOG(2))))","v":-0.52388246628704915},null,{"$f":"N7","v":1111},{"$f":"COUNTIF(L63:L89,AD7)","v":7},{"$f":"AE7/(AG4-AE20)","v":0.25925925925925924},{"$f":"IF(AF7=0,0,(AF7*((LOG(AF7))/LOG(2))))","v":-0.5049158541015204},null,{"$f":"N7","v":1111},{"$f":"COUNTIF(L90:L117,AI7)","v":9},{"$f":"AJ7/(AL4-AJ20)","v":0.32142857142857145},{"$f":"IF(AK7=0,0,(AK7*((LOG(AK7))/LOG(2))))","v":-0.5263167601977724},null,{"$f":"N7","v":1111},{"$f":"COUNTIF(L118:L145,AN7)","v":11},{"$f":"AO7/(AQ4-AO20)","v":0.40740740740740738},{"$f":"IF(AP7=0,0,(AP7*((LOG(AP7))/LOG(2))))","v":-0.52777832291806981},null,{"$f":"N7","v":1111},{"$f":"COUNTIF(L146:L173,AS7)","v":8},{"$f":"AT7/(AV4-AT20)","v":0.2857142857142857},{"$f":"IF(AU7=0,0,(AU7*((LOG(AU7))/LOG(2))))","v":-0.51638712058788683}]
[12,144,14,150,13,155,14,162,null,null,0,1111,null,1112,0,0,0,null,null,1112,{"$f":"COUNTIF(L7:L34,T8)","v":0},{"$f":"U8/(W4-U20)","v":0},0,null,1112,{"$f":"COUNTIF(L35:L62,Y8)","v":0},{"$f":"Z8/(AB4-Z20)","v":0},0,null,1112,{"$f":"COUNTIF(L63:L89,AD8)","v":0},{"$f":"AE8/(AG4-AE20)","v":0},0,null,1112,{"$f":"COUNTIF(L90:L117,AI8)","v":0},{"$f":"AJ8/(AL4-AJ20)","v":0},0,null,1112,{"$f":"COUNTIF(L118:L145,AN8)","v":0},{"$f":"AO8/(AQ4-AO20)","v":0},0,null,1112,{"$f":"COUNTIF(L146:L173,AS8)","v":0},{"$f":"AT8/(AV4-AT20)","v":0},0]
[21,262,12,274,13,278,14,284,null,null,0,2111,null,1121,0,0,0,null,null,1121,{"$f":"COUNTIF(L7:L34,T9)","v":0},{"$f":"U9/(W4-U20)","v":0},0,null,1121,{"$f":"COUNTIF(L35:L62,Y9)","v":0},{"$f":"Z9/(AB4-Z20)","v":0},0,null,1121,{"$f":"COUNTIF(L63:L89,AD9)","v":0},{"$f":"AE9/(AG4-AE20)","v":0},0,null,1121,{"$f":"COUNTIF(L90:L117,AI9)","v":0},{"$f":"AJ9/(AL4-AJ20)","v":0},0,null,1121,{"$f":"COUNTIF(L118:L145,AN9)","v":0},{"$f":"AO9/(AQ4-AO20)","v":0},0,null,1121,{"$f":"COUNTIF(L146:L173,AS9)","v":0},{"$f":"AT9/(AV4-AT20)","v":0},0]
[12,380,23,393,24,399,23,405,null,null,0,1222,null,1122,1,5.9880239520958087E-3,-4.4213798158527259E-2,null,null,1122,{"$f":"COUNTIF(L7:L34,T10)","v":0},{"$f":"U10/(W4-U20)","v":0},0,null,1122,{"$f":"COUNTIF(L35:L62,Y10)","v":0},{"$f":"Z10/(AB4-Z20)","v":0},0,null,1122,{"$f":"COUNTIF(L63:L89,AD10)","v":0},{"$f":"AE10/(AG4-AE20)","v":0},0,null,1122,{"$f":"COUNTIF(L90:L117,AI10)","v":0},{"$f":"AJ10/(AL4-AJ20)","v":0},0,null,1122,{"$f":"COUNTIF(L118:L145,AN10)","v":0},{"$f":"AO10/(AQ4-AO20)","v":0},0,null,1122,{"$f":"COUNTIF(L146:L173,AS10)","v":1},{"$f":"AT10/(AV4-AT20)","v":3.5714285714285712E-2},-0.17169124721634299]
[12,508,23,517,24,520,14,532,null,null,0,1221,null,1211,0,0,0,null,null,1211,{"$f":"COUNTIF(L7:L34,T11)","v":0},{"$f":"U11/(W4-U20)","v":0},0,null,1211,{"$f":"COUNTIF(L35:L62,Y11)","v":0},{"$f":"Z11/(AB4-Z20)","v":0},0,null,1211,{"$f":"COUNTIF(L63:L89,AD11)","v":0},{"$f":"AE11/(AG4-AE20)","v":0},0,null,1211,{"$f":"COUNTIF(L90:L117,AI11)","v":0},{"$f":"AJ11/(AL4-AJ20)","v":0},0,null,1211,{"$f":"COUNTIF(L118:L145,AN11)","v":0},{"$f":"AO11/(AQ4-AO20)","v":0},0,null,1211,{"$f":"COUNTIF(L146:L173,AS11)","v":0},{"$f":"AT11/(AV4-AT20)","v":0},0]
[12,633,14,642,13,647,14,653,null,null,0,1111,null,1212,0,0,0,null,null,1212,{"$f":"COUNTIF(L7:L34,T12)","v":0},{"$f":"U12/(W4-U20)","v":0},0,null,1212,{"$f":"COUNTIF(L35:L62,Y12)","v":0},{"$f":"Z12/(AB4-Z20)","v":0},0,null,1212,{"$f":"COUNTIF(L63:L89,AD12)","v":0},{"$f":"AE12/(AG4-AE20)","v":0},0,null,1212,{"$f":"COUNTIF(L90:L117,AI12)","v":0},{"$f":"AJ12/(AL4-AJ20)","v":0},0,null,1212,{"$f":"COUNTIF(L118:L145,AN12)","v":0},{"$f":"AO12/(AQ4-AO20)","v":0},0,null,1212,{"$f":"COUNTIF(L146:L173,AS12)","v":0},{"$f":"AT12/(AV4-AT20)","v":0},0]
[21,816,21,822,22,828,23,834,null,null,0,2222,null,1221,1,5.9880239520958087E-3,-4.4213798158527259E-2,null,null,1221,{"$f":"COUNTIF(L7:L34,T13)","v":1},{"$f":"U13/(W4-U20)","v":3.5714285714285712E-2},-0.17169124721634299,null,1221,{"$f":"COUNTIF(L35:L62,Y13)","v":0},{"$f":"Z13/(AB4-Z20)","v":0},0,null,1221,{"$f":"COUNTIF(L63:L89,AD13)","v":0},{"$f":"AE13/(AG4-AE20)","v":0},0,null,1221,{"$f":"COUNTIF(L90:L117,AI13)","v":0},{"$f":"AJ13/(AL4-AJ20)","v":0},0,null,1221,{"$f":"COUNTIF(L118:L145,AN13)","v":0},{"$f":"AO13/(AQ4-AO20)","v":0},0,null,1221,{"$f":"COUNTIF(L146:L173,AS13)","v":0},{"$f":"AT13/(AV4-AT20)","v":0},0]
[12,930,14,936,13,941,14,947,null,null,0,1111,null,1222,23,0.1377245508982036,-0.39391181878797549,null,null,1222,{"$f":"COUNTIF(L7:L34,T14)","v":3},{"$f":"U14/(W4-U20)","v":0.10714285714285714},-0.34525633085747659,null,1222,{"$f":"COUNTIF(L35:L62,Y14)","v":3},{"$f":"Z14/(AB4-Z20)","v":0.10714285714285714},-0.34525633085747659,null,1222,{"$f":"COUNTIF(L63:L89,AD14)","v":3},{"$f":"AE14/(AG4-AE20)","v":0.1111111111111111},-0.3522138890491458,null,1222,{"$f":"COUNTIF(L90:L117,AI14)","v":7},{"$f":"AJ14/(AL4-AJ20)","v":0.25},-0.5,null,1222,{"$f":"COUNTIF(L118:L145,AN14)","v":4},{"$f":"AO14/(AQ4-AO20)","v":0.14814814814814814},-0.40813148180199532,null,1222,{"$f":"COUNTIF(L146:L173,AS14)","v":3},{"$f":"AT14/(AV4-AT20)","v":0.10714285714285714},-0.34525633085747659]
[12,1067,14,1074,13,1080,14,1086,null,null,0,1111,null,2111,44,0.26347305389221559,-0.50699399789710908,null,null,2111,{"$f":"COUNTIF(L7:L34,T15)","v":8},{"$f":"U15/(W4-U20)","v":0.2857142857142857},-0.51638712058788683,null,2111,{"$f":"COUNTIF(L35:L62,Y15)","v":9},{"$f":"Z15/(AB4-Z20)","v":0.32142857142857145},-0.5263167601977724,null,2111,{"$f":"COUNTIF(L63:L89,AD15)","v":8},{"$f":"AE15/(AG4-AE20)","v":0.29629629629629628},-0.51996666730769436,null,2111,{"$f":"COUNTIF(L90:L117,AI15)","v":7},{"$f":"AJ15/(AL4-AJ20)","v":0.25},-0.5,null,2111,{"$f":"COUNTIF(L118:L145,AN15)","v":5},{"$f":"AO15/(AQ4-AO20)","v":0.18518518518518517},-0.45054803838446406,null,2111,{"$f":"COUNTIF(L146:L173,AS15)","v":7},{"$f":"AT15/(AV4-AT20)","v":0.25},-0.5]
[21,1182,21,1184,11,1199,12,1208,null,null,0,2211,null,2112,0,0,0,null,null,2112,{"$f":"COUNTIF(L7:L34,T16)","v":0},{"$f":"U16/(W4-U20)","v":0},0,null,2112,{"$f":"COUNTIF(L35:L62,Y16)","v":0},{"$f":"Z16/(AB4-Z20)","v":0},0,null,2112,{"$f":"COUNTIF(L63:L89,AD16)","v":0},{"$f":"AE16/(AG4-AE20)","v":0},0,null,2112,{"$f":"COUNTIF(L90:L117,AI16)","v":0},{"$f":"AJ16/(AL4-AJ20)","v":0},0,null,2112,{"$f":"COUNTIF(L118:L145,AN16)","v":0},{"$f":"AO16/(AQ4-AO20)","v":0},0,null,2112,{"$f":"COUNTIF(L146:L173,AS16)","v":0},{"$f":"AT16/(AV4-AT20)","v":0},0]
[21,1302,21,1304,22,1315,14,1328,null,null,0,2221,null,2121,0,0,0,null,null,2121,{"$f":"COUNTIF(L7:L34,T17)","v":0},{"$f":"U17/(W4-U20)","v":0},0,null,2121,{"$f":"COUNTIF(L35:L62,Y17)","v":0},{"$f":"Z17/(AB4-Z20)","v":0},0,null,2121,{"$f":"COUNTIF(L63:L89,AD17)","v":0},{"$f":"AE17/(AG4-AE20)","v":0},0,null,2121,{"$f":"COUNTIF(L90:L117,AI17)","v":0},{"$f":"AJ17/(AL4-AJ20)","v":0},0,null,2121,{"$f":"COUNTIF(L118:L145,AN17)","v":0},{"$f":"AO17/(AQ4-AO20)","v":0},0,null,2121,{"$f":"COUNTIF(L146:L173,AS17)","v":0},{"$f":"AT17/(AV4-AT20)","v":0},0]
[21,1430,21,1443,11,1459,12,1465,null,null,0,2211,null,2122,3,1.7964071856287425E-2,-0.10416901422310591,null,null,2122,{"$f":"COUNTIF(L7:L34,T18)","v":1},{"$f":"U18/(W4-U20)","v":3.5714285714285712E-2},-0.17169124721634299,null,2122,{"$f":"COUNTIF(L35:L62,Y18)","v":0},{"$f":"Z18/(AB4-Z20)","v":0},0,null,2122,{"$f":"COUNTIF(L63:L89,AD18)","v":0},{"$f":"AE18/(AG4-AE20)","v":0},0,null,2122,{"$f":"COUNTIF(L90:L117,AI18)","v":0},{"$f":"AJ18/(AL4-AJ20)","v":0},0,null,2122,{"$f":"COUNTIF(L118:L145,AN18)","v":2},{"$f":"AO18/(AQ4-AO20)","v":7.407407407407407E-2},-0.27813981497507173,null,2122,{"$f":"COUNTIF(L146:L173,AS18)","v":0},{"$f":"AT18/(AV4-AT20)","v":0},0]
[12,1484,14,1489,13,1496,14,1502,null,null,0,1111,null,2211,10,5.9880239520958084E-2,-0.24322013159201739,null,null,2211,{"$f":"COUNTIF(L7:L34,T19)","v":3},{"$f":"U19/(W4-U20)","v":0.10714285714285714},-0.34525633085747659,null,2211,{"$f":"COUNTIF(L35:L62,Y19)","v":1},{"$f":"Z19/(AB4-Z20)","v":3.5714285714285712E-2},-0.17169124721634299,null,2211,{"$f":"COUNTIF(L63:L89,AD19)","v":1},{"$f":"AE19/(AG4-AE20)","v":3.7037037037037035E-2},-0.1761069445245729,null,2211,{"$f":"COUNTIF(L90:L117,AI19)","v":1},{"$f":"AJ19/(AL4-AJ20)","v":3.5714285714285712E-2},-0.17169124721634299,null,2211,{"$f":"COUNTIF(L118:L145,AN19)","v":2},{"$f":"AO19/(AQ4-AO20)","v":7.407407407407407E-2},-0.27813981497507173,null,2211,{"$f":"COUNTIF(L146:L173,AS19)","v":2},{"$f":"AT19/(AV4-AT20)","v":7.1428571428571425E-2},-0.27195392300411453]
[21,1603,21,1606,11,1620,12,1631,null,null,0,2211,null,2212,1,5.9880239520958087E-3,-4.4213798158527259E-2,null,null,2212,{"$f":"COUNTIF(L7:L34,T20)","v":0},null,null,null,2212,{"$f":"COUNTIF(L35:L62,Y20)","v":0},null,null,null,2212,{"$f":"COUNTIF(L63:L89,AD20)","v":0},null,null,null,2212,{"$f":"COUNTIF(L90:L117,AI20)","v":0},null,null,null,2212,{"$f":"COUNTIF(L118:L145,AN20)","v":1},null,null,null,2212,{"$f":"COUNTIF(L146:L173,AS20)","v":0}]
[21,1728,12,1739,13,1742,14,1749,null,null,0,2111,null,2221,4,2.3952095808383235E-2,-0.12895100101734258,null,null,2221,{"$f":"COUNTIF(L7:L34,T21)","v":1},{"$f":"U21/(W4-U20)","v":3.5714285714285712E-2},{"$f":"IF(V21=0,0,(V21*((LOG(V21))/LOG(2))))","v":-0.17169124721634299},null,2221,{"$f":"COUNTIF(L35:L62,Y21)","v":0},{"$f":"Z21/(AB4-Z20)","v":0},{"$f":"IF(AA21=0,0,(AA21*((LOG(AA21))/LOG(2))))","v":0},null,2221,{"$f":"COUNTIF(L63:L89,AD21)","v":0},{"$f":"AE21/(AG4-AE20)","v":0},{"$f":"IF(AF21=0,0,(AF21*((LOG(AF21))/LOG(2))))","v":0},null,2221,{"$f":"COUNTIF(L90:L117,AI21)","v":1},{"$f":"AJ21/(AL4-AJ20)","v":3.5714285714285712E-2},{"$f":"IF(AK21=0,0,(AK21*((LOG(AK21))/LOG(2))))","v":-0.17169124721634299},null,2221,{"$f":"COUNTIF(L118:L145,AN21)","v":1},{"$f":"AO21/(AQ4-AO20)","v":3.7037037037037035E-2},{"$f":"IF(AP21=0,0,(AP21*((LOG(AP21))/LOG(2))))","v":-0.1761069445245729},null,2221,{"$f":"COUNTIF(L146:L173,AS21)","v":1},{"$f":"AT21/(AV4-AT20)","v":3.5714285714285712E-2},{"$f":"IF(AU21=0,0,(AU21*((LOG(AU21))/LOG(2))))","v":-0.17169124721634299}]
[21,1853,12,1865,13,1868,14,1874,null,null,0,2111,null,2222,25,0.1497005988023952,-0.41015690160169571,null,null,2222,{"$f":"COUNTIF(L7:L34,T22)","v":3},{"$f":"U22/(W4-U20)","v":0.10714285714285714},{"$f":"IF(V22=0,0,(V22*((LOG(V22))/LOG(2))))","v":-0.34525633085747659},null,2222,{"$f":"COUNTIF(L35:L62,Y22)","v":3},{"$f":"Z22/(AB4-Z20)","v":0.10714285714285714},{"$f":"IF(AA22=0,0,(AA22*((LOG(AA22))/LOG(2))))","v":-0.34525633085747659},null,2222,{"$f":"COUNTIF(L63:L89,AD22)","v":8},{"$f":"AE22/(AG4-AE20)","v":0.29629629629629628},{"$f":"IF(AF22=0,0,(AF22*((LOG(AF22))/LOG(2))))","v":-0.51996666730769436},null,2222,{"$f":"COUNTIF(L90:L117,AI22)","v":3},{"$f":"AJ22/(AL4-AJ20)","v":0.10714285714285714},{"$f":"IF(AK22=0,0,(AK22*((LOG(AK22))/LOG(2))))","v":-0.34525633085747659},null,2222,{"$f":"COUNTIF(L118:L145,AN22)","v":2},{"$f":"AO22/(AQ4-AO20)","v":7.407407407407407E-2},{"$f":"IF(AP22=0,0,(AP22*((LOG(AP22))/LOG(2))))","v":-0.27813981497507173},null,2222,{"$f":"COUNTIF(L146:L173,AS22)","v":6},{"$f":"AT22/(AV4-AT20)","v":0.21428571428571427},{"$f":"IF(AU22=0,0,(AU22*((LOG(AU22))/LOG(2))))","v":-0.47622694742923877}]
[21,1978,12,1990,13,1995,14,2001,null,null,0,2111,null,null,null,{"$f":"SUM(P7:P22)","v":1.0000000000000002},{"$f":"-SUM(Q7:Q22)","v":2.4477625340991187},null,null,null,null,{"$f":"SUM(V7:V22)","v":0.99999999999999978},{"$f":"-SUM(W7:W22)","v":2.5836169753972325},null,null,null,{"$f":"SUM(AA7:AA22)","v":1},{"$f":"-SUM(AB7:AB22)","v":1.9124031354161177},null,null,null,{"$f":"SUM(AF7:AF22)","v":1},{"$f":"-SUM(AG7:AG22)","v":2.0731700222906277},null,null,null,{"$f":"SUM(AK7:AK22)","v":0.99999999999999989},{"$f":"-SUM(AL7:AL22)","v":2.2149555854879348},null,null,null,{"$f":"SUM(AP7:AP22)","v":0.99999999999999989},{"$f":"-SUM(AQ7:AQ22)","v":2.3969842325543174},null,null,null,{"$f":"SUM(AU7:AU22)","v":1},{"$f":"-SUM(AV7:AV22)","v":2.4532068163114027}]
[12,2105,14,2110,13,2116,14,2123,null,null,0,1111,null,null,null,"U=",{"$f":"Q23/(LOG(Q4)/LOG(2))","v":0.33150874373368883},null,null,null,null,"U1=",{"$f":"W23/(LOG(W4)/LOG(2))","v":0.53743004568745556},null,null,null,"U2=",{"$f":"AB23/(LOG(AB4)/LOG(2))","v":0.39780776880887897},null,null,null,"U3=",{"$f":"AG23/(LOG(AG4)/LOG(2))","v":0.43600821709185295},null,null,null,"U4=",{"$f":"AL23/(LOG(AL4)/LOG(2))","v":0.46074309498661026},null,null,null,"U5=",{"$f":"AQ23/(LOG(AQ4)/LOG(2))","v":0.49860771077172317},null,null,null,"U6=",{"$f":"AV23/(LOG(AV4)/LOG(2))","v":0.51030282891228707}]
[21,2221,12,2236,13,2241,14,2248,null,null,0,2111]
[12,2345,14,2354,13,2362,14,2369,null,null,0,1111]
[21,2463,12,2480,13,2485,14,2490,null,null,0,2111,null,"Total Target Seq"]
[21,2585,12,2597,24,2610,23,2613,null,null,0,2122,null,{"$f":"COUNTIF(L7:L173,G3)","v":1},null,28,28,27,28,28,28]
[12,2745,23,2756,24,2760,23,2765,null,null,0,1222,null,null,null,"% of reinforcement given in 6 equal intervals based on number of trials "]
[21,2861,21,2894,22,2898,23,2904,null,null,0,2222,null,null,null,"%_1","%_2","%_3","%_4","%_5","%_6"]
[21,3001,12,3016,13,3021,14,3027,null,null,0,2111,null,null,"target sequence",{"$f":"$G$3","v":2212},2212,2212,2212,2212,2212]
[12,3130,23,3148,24,3153,23,3160,null,null,0,1222,null,null,"total reinforcement",{"$f":"U20","v":0},{"$f":"Z20","v":0},{"$f":"AE20","v":0},{"$f":"AJ20","v":0},{"$f":"AO20","v":1},{"$f":"AT20","v":0}]
[21,3256,21,3280,22,3285,23,3290,null,null,0,2222,null,null,"% target"]
[21,3479,12,3491,13,3499,14,3507,null,null,0,2111,null,null,"CCRF"]
[12,3624,14,3629,13,3633,14,3637,null,null,0,1111,null,null,"% CCRf"]
[21,3734,12,3752,13,3755,14,3760,null,null,0,2111,null,null,"average response rate",{"$f":"H34/P28","v":125.25},{"$f":"(H62-H34)/Q28","v":140.39285714285714},{"$f":"(H89-H62)/R28","v":142.33333333333334},{"$f":"(H117-H89)/S28","v":148.92857142857142},{"$f":"(H145-H117)/T28","v":154.25},{"$f":"(H173-H145)/U28","v":147.64285714285714}]
[21,3857,21,3882,22,3889,23,3900,null,null,0,2222]
[12,4004,14,4012,13,4017,14,4022,null,null,0,1111]
[12,4184,14,4192,13,4198,14,4205,null,null,0,1111]
[12,4300,23,4314,24,4321,23,4326,null,null,0,1222]
[12,4431,14,4437,13,4442,14,4447,null,null,0,1111]
[12,4548,14,4553,13,4558,14,4565,null,null,0,1111]
[12,4666,14,4670,13,4675,14,4681,null,null,0,1111]
[12,4801,14,4807,13,4817,14,4823,null,null,0,1111]
[21,4976,12,4991,13,4996,14,5003,null,null,0,2111]
[12,5232,14,5240,13,5245,14,5250,null,null,0,1111]
[12,5347,14,5356,13,5370,14,5376,null,null,0,1111]
[21,5560,12,5571,13,5578,14,5580,null,null,0,2111]
[21,5691,21,5695,22,5721,23,5725,null,null,0,2222]
[12,5834,14,5838,13,5844,14,5849,null,null,0,1111]
[12,5944,23,5961,24,5967,23,5973,null,null,0,1222]
[21,6091,12,6106,13,6112,14,6117,null,null,0,2111]
[21,6214,12,6226,13,6229,14,6234,null,null,0,2111]
[21,6332,21,6335,11,6347,12,6352,null,null,0,2211]
[12,6454,23,6465,24,6470,23,6476,null,null,0,1222]
[21,6659,12,6675,13,6680,14,6685,null,null,0,2111]
[12,6782,14,6791,13,6798,14,6804,null,null,0,1111]
[21,6902,12,6912,13,6917,14,6922,null,null,0,2111]
[21,7024,21,7047,22,7052,23,7058,null,null,0,2222]
[12,7159,14,7168,13,7173,14,7183,null,null,0,1111]
[21,7287,12,7301,13,7304,14,7309,null,null,0,2111]
[21,7407,12,7424,13,7433,14,7438,null,null,0,2111]
[21,7580,12,7591,13,7597,14,7605,null,null,0,2111]
[12,7727,14,7740,13,7751,14,7757,null,null,0,1111]
[21,7857,12,7872,13,7882,14,7893,null,null,0,2111]
[12,8003,14,8013,13,8020,14,8026,null,null,0,1111]
[12,8224,23,8241,24,8248,23,8259,null,null,0,1222]
[21,8356,21,8378,22,8382,23,8388,null,null,0,2222]
[21,8522,12,8537,13,8543,14,8546,null,null,0,2111]
[21,8641,21,8645,11,8663,12,8668,null,null,0,2211]
[21,8760,12,8793,13,8799,14,8805,null,null,0,2111]
[21,8906,21,8930,22,8936,23,8942,null,null,0,2222]
[12,9056,14,9061,13,9065,14,9071,null,null,0,1111]
[12,9165,23,9182,24,9187,23,9194,null,null,0,1222]
[12,9305,23,9317,24,9321,23,9331,null,null,0,1222]
[12,9443,14,9447,13,9455,14,9459,null,null,0,1111]
[21,9622,12,9635,13,9641,14,9659,null,null,0,2111]
[21,9764,21,9781,22,9785,23,9802,null,null,0,2222]
[21,9902,21,9924,22,9927,23,9933,null,null,0,2222]
[21,10036,12,10054,13,10059,14,10065,null,null,0,2111]
[21,10229,12,10244,13,10252,14,10258,null,null,0,2111]
[21,10355,21,10377,22,10382,23,10388,null,null,0,2222]
[21,10487,12,10500,13,10506,14,10512,null,null,0,2111]
[21,10619,21,10624,22,10630,23,10643,null,null,0,2222]
[21,10761,21,10767,22,10772,23,10779,null,null,0,2222]
[12,10880,14,10885,13,10889,14,10895,null,null,0,1111]
[12,11023,14,11027,13,11032,14,11037,null,null,0,1111]
[21,11137,21,11140,22,11161,23,11165,null,null,0,2222]
[12,11266,14,11271,13,11276,14,11281,null,null,0,1111]
[12,11376,14,11386,13,11403,14,11409,null,null,0,1111]
[12,11538,14,11544,13,11547,14,11551,null,null,0,1111]
[12,11757,23,11773,24,11777,23,11782,null,null,0,1222]
[12,11900,14,11906,13,11911,14,11923,null,null,0,1111]
[21,12018,21,12043,22,12049,23,12056,null,null,0,2222]
[12,12152,14,12159,13,12167,14,12172,null,null,0,1111]
[21,12291,21,12297,22,12303,23,12315,null,null,0,2222]
[12,12421,14,12434,13,12438,14,12453,null,null,0,1111]
[12,12569,14,12575,13,12580,14,12591,null,null,0,1111]
[21,12702,21,12726,22,12731,14,12742,null,null,0,2221]
[21,12835,12,12848,13,12851,14,12862,null,null,0,2111]
[21,12967,12,12980,13,12984,14,12990,null,null,0,2111]
[21,13212,12,13225,13,13229,14,13235,null,null,0,2111]
[12,13435,14,13441,13,13447,14,13453,null,null,0,1111]
[21,13569,12,13584,13,13593,14,13599,null,null,0,2111]
[12,13730,23,13747,24,13751,23,13763,null,null,0,1222]
[21,13860,12,13876,13,13879,14,13884,null,null,0,2111]
[21,13982,21,13984,11,13999,12,14008,null,null,0,2211]
[21,14104,21,14125,22,14130,23,14136,null,null,0,2222]
[12,14325,23,14339,24,14342,23,14347,null,null,0,1222]
[12,14533,14,14538,13,14544,14,14551,null,null,0,1111]
[12,14650,23,14661,24,14666,23,14670,null,null,0,1222]
[12,14776,23,14790,24,14794,23,14799,null,null,0,1222]
[12,14898,14,14903,13,14910,14,14915,null,null,0,1111]
[12,15025,23,15034,24,15037,23,15043,null,null,0,1222]
[21,15143,12,15161,13,15166,14,15172,null,null,0,2111]
[21,15273,12,15289,13,15298,14,15304,null,null,0,2111]
[12,15410,23,15425,24,15430,23,15451,null,null,0,1222]
[12,15549,23,15561,24,15565,23,15571,null,null,0,1222]
[21,15674,12,15694,13,15700,14,15704,null,null,0,2111]
[21,15809,12,15824,13,15828,14,15831,null,null,0,2111]
[12,16002,14,16008,13,16014,14,16025,null,null,0,1111]
[12,16189,14,16197,13,16202,14,16208,null,null,0,1111]
[12,16302,23,16316,24,16321,23,16327,null,null,0,1222]
[12,16426,14,16436,13,16441,14,16451,null,null,0,1111]
[21,16548,21,16551,22,16563,14,16583,null,null,0,2221]
[12,16757,23,16777,24,16783,23,16791,null,null,0,1222]
[12,17066,14,17069,13,17073,14,17078,null,null,0,1111]
[21,17181,12,17197,24,17213,23,17219,null,null,0,2122]
[21,17322,12,17336,24,17355,23,17361,null,null,0,2122]
[12,17485,23,17498,24,17502,23,17507,null,null,0,1222]
[21,17607,21,17628,11,17648,12,17655,null,null,0,2211]
[21,17750,21,17754,11,17769,12,17774,null,null,0,2211]
[21,17895,21,17899,22,17907,23,17914,null,null,0,2222]
[21,18022,12,18036,13,18041,14,18044,null,null,0,2111]
[21,18158,12,18175,13,18181,14,18186,null,null,0,2111]
[12,18287,14,18295,13,18301,14,18310,null,null,0,1111]
[12,18473,14,18480,13,18489,14,18502,null,null,0,1111]
[12,18712,14,18719,13,18725,14,18732,null,null,0,1111]
[12,18898,14,18907,13,18929,14,18937,null,null,0,1111]
[12,19053,14,19061,13,19068,14,19078,null,null,0,1111]
[12,19214,14,19237,13,19247,14,19255,null,null,0,1111]
[21,19350,12,19369,13,19373,14,19380,null,null,0,2111]
[21,19487,21,19492,22,19498,23,19506,null,null,0,2222]
[12,19620,14,19626,13,19630,14,19635,null,null,0,1111]
[21,19736,21,19743,11,19759,21,19770,null,null,0,2212]
[12,19916,14,19923,24,19939,23,19944,null,null,0,1122]
[12,20139,14,20146,13,20154,14,20161,null,null,0,1111]
[12,20280,14,20285,13,20293,14,20300,null,null,0,1111]
[21,20423,12,20448,13,20455,14,20459,null,null,0,2111]
[12,20652,23,20669,24,20672,23,20678,null,null,0,1222]
[21,20786,12,20801,13,20804,14,20809,null,null,0,2111]
[12,20910,14,20913,13,20915,14,20924,null,null,0,1111]
[21,21035,21,21040,22,21045,23,21051,null,null,0,2222]
[21,21172,21,21178,22,21184,23,21191,null,null,0,2222]
[21,21303,12,21317,13,21321,14,21327,null,null,0,2111]
[21,21434,21,21437,11,21451,12,21457,null,null,0,2211]
[21,21603,12,21615,13,21619,14,21626,null,null,0,2111]
[21,21720,21,21767,22,21772,23,21778,null,null,0,2222]
[12,21890,14,21902,13,21908,14,21915,null,null,0,1111]
[12,22018,23,22034,24,22039,23,22050,null,null,0,1222]
[12,22157,23,22173,24,22177,23,22183,null,null,0,1222]
[12,22325,14,22330,13,22337,14,22342,null,null,0,1111]
[21,22437,21,22476,22,22481,23,22486,null,null,0,2222]
[21,22594,21,22613,22,22618,23,22624,null,null,0,2222]
[21,22733,12,22748,13,22752,14,22756,null,null,0,2111]
[12,22934,14,22940,13,22944,14,22958,null,null,0,1111]
[21,23052,21,23076,22,23080,23,23096,null,null,0,2222]
[12,23201,14,23206,13,23224,14,23231,null,null,0,1111]
[21,23323,21,23362,11,23374,12,23379,null,null,0,2211]
[21,23496,12,23509,13,23513,14,23517,null,null,0,2111]
[21,23618,21,23633,22,23639,14,23661,null,null,0,2221]
[21,23760,12,23772,13,23777,14,23783,null,null,0,2111]
[12,23886,14,23890,13,23898,14,23904,null,null,0,1111]

{"sheet":"!LB11A05..Du","index":10,"n_rows":177,"n_cols":48,"rows_kept":177,"cut":false,"hidden":false,"merged":[[1,1,1,2],[5,13,5,14],[26,13,26,14],[27,13,27,14],[4,19,4,22],[5,19,5,20],[4,39,4,42],[5,39,5,40],[4,44,4,47],[5,44,5,45],[4,24,4,27],[5,24,5,25],[4,29,4,32],[5,29,5,30],[4,34,4,37],[5,34,5,35]]}
["Report for:!LB11A05..Du"]
["Date:","<date>"]
["Hen:","<hen>",null,null,null,"Correct Sequence",{"$f":"Start!J2","v":2212},null,null,null,null,null,null,null,null,"Total Sequences in Data",{"$f":"4994-COUNTBLANK(L7:L5000)","v":171},null,null,null,null,"Total Sequences in Block Data",{"$f":"COUNTA(L7:L35)","v":29},null,null,null,"Total Sequences in Block Data",{"$f":"COUNTA(L36:L63)","v":28},null,null,null,"Total Sequences in Block Data",{"$f":"COUNTA(L64:L92)","v":29},null,null,null,"Total Sequences in Block Data",{"$f":"COUNTA(L93:L120)","v":28},null,null,null,"Total Sequences in Block Data",{"$f":"COUNTA(L121:L149)","v":29},null,null,null,"Total Sequences in Block Data",{"$f":"COUNTA(L150:L177)","v":28}]
[null,null,null,null,null,null,null,null,null,null,null,null,null,null,null,"Total Sequences in Summary",{"$f":"SUM(O7:O22)","v":171},null,null,null,null,"Total Sequences in Block Summary",{"$f":"SUM(U7:U22)","v":29},null,null,null,"Total Sequences in Block Summary",{"$f":"SUM(Z7:Z22)","v":28},null,null,null,"Total Sequences in Block Summary",{"$f":"SUM(AE7:AE22)","v":29},null,null,null,"Total Sequences in Block Summary",{"$f":"SUM(AJ7:AJ22)","v":28},null,null,null,"Total Sequences in Block Summary",{"$f":"SUM(AO7:AO22)","v":29},null,null,null,"Total Sequences in Block Summary",{"$f":"SUM(AT7:AT22)","v":28}]
[null,null,null,null,null,null,null,null,null,null,null,null,null,null,null,null,null,null,null,"Block 1",null,null,null,null,"Block 2",null,null,null,null,"Block 3",null,null,null,null,"Block 4",null,null,null,null,"Block 5",null,null,null,null,"Block 6"]
["Sequence\nComponent\n1","Time\n1","Sequence\nComponent\n2","Time\n2","Sequence\nComponent\n3","Time\n3","Sequence\nComponent\n4","Time\n4","Sequence\nComponent\n5","Time\n5","Correct?\n0=No 1=Yes","Sequence",null,"Frequency",null,"Relative Frequency","Variability",null,null,"Frequency",null,"Relative Frequency","Variability",null,"Frequency",null,"Relative Frequency","Variability",null,"Frequency",null,"Relative Frequency","Variability",null,"Frequency",null,"Relative Frequency","Variability",null,"Frequency",null,"Relative Frequency","Variability",null,"Frequency",null,"Relative Frequency","Variability"]
[21,49,12,76,13,81,14,86,null,null,0,2111,null,1111,{"$f":"COUNTIF($L$7:$L$500,N7)","v":87},{"$f":"O7/$Q$4","v":0.50877192982456143},{"$f":"IF(P7=0,0,(P7*((LOG(P7))/LOG(2))))","v":-0.49600634301891078},null,null,{"$f":"N7","v":1111},{"$f":"COUNTIF(L7:L35,T7)","v":7},{"$f":"U7/(W4-U20)","v":0.25},{"$f":"IF(V7=0,0,(V7*((LOG(V7))/LOG(2))))","v":-0.5},null,{"$f":"N7","v":1111},{"$f":"COUNTIF(L36:L63,Y7)","v":6},{"$f":"Z7/(AB4-Z20)","v":0.21428571428571427},{"$f":"IF(AA7=0,0,(AA7*((LOG(AA7))/LOG(2))))","v":-0.47622694742923877},null,{"$f":"N7","v":1111},{"$f":"COUNTIF(L64:L92,AD7)","v":19},{"$f":"AE7/(AG4-AE20)","v":0.65517241379310343},{"$f":"IF(AF7=0,0,(AF7*((LOG(AF7))/LOG(2))))","v":-0.39969021213778433},null,{"$f":"N7","v":1111},{"$f":"COUNTIF(L93:L120,AI7)","v":16},{"$f":"AJ7/(AL4-AJ20)","v":0.5714285714285714},{"$f":"IF(AK7=0,0,(AK7*((LOG(AK7))/LOG(2))))","v":-0.46134566974720237},null,{"$f":"N7","v":1111},{"$f":"COUNTIF(L121:L149,AN7)","v":22},{"$f":"AO7/(AQ4-AO20)","v":0.75862068965517238},{"$f":"IF(AP7=0,0,(AP7*((LOG(AP7))/LOG(2))))","v":-0.30234780285469132},null,{"$f":"N7","v":1111},{"$f":"COUNTIF(L150:L177,AS7)","v":17},{"$f":"AT7/(AV4-AT20)","v":0.6071428571428571},{"$f":"IF(AU7=0,0,(AU7*((LOG(AU7))/LOG(2))))","v":-0.43707733477583927}]
[12,193,14,196,13,200,14,206,null,null,0,1111,null,1112,0,0,0,null,null,1112,{"$f":"COUNTIF(L7:L35,T8)","v":0},{"$f":"U8/(W4-U20)","v":0},0,null,1112,{"$f":"COUNTIF(L36:L63,Y8)","v":0},{"$f":"Z8/(AB4-Z20)","v":0},0,null,1112,{"$f":"COUNTIF(L64:L92,AD8)","v":0},{"$f":"AE8/(AG4-AE20)","v":0},0,null,1112,{"$f":"COUNTIF(L93:L120,AI8)","v":0},{"$f":"AJ8/(AL4-AJ20)","v":0},0,null,1112,{"$f":"COUNTIF(L121:L149,AN8)","v":0},{"$f":"AO8/(AQ4-AO20)","v":0},0,null,1112,{"$f":"COUNTIF(L150:L177,AS8)","v":0},{"$f":"AT8/(AV4-AT20)","v":0},0]
[21,316,12,329,13,335,14,344,null,null,0,2111,null,1121,0,0,0,null,null,1121,{"$f":"COUNTIF(L7:L35,T9)","v":0},{"$f":"U9/(W4-U20)","v":0},0,null,1121,{"$f":"COUNTIF(L36:L63,Y9)","v":0},{"$f":"Z9/(AB4-Z20)","v":0},0,null,1121,{"$f":"COUNTIF(L64:L92,AD9)","v":0},{"$f":"AE9/(AG4-AE20)","v":0},0,null,1121,{"$f":"COUNTIF(L93:L120,AI9)","v":0},{"$f":"AJ9/(AL4-AJ20)","v":0},0,null,1121,{"$f":"COUNTIF(L121:L149,AN9)","v":0},{"$f":"AO9/(AQ4-AO20)","v":0},0,null,1121,{"$f":"COUNTIF(L150:L177,AS9)","v":0},{"$f":"AT9/(AV4-AT20)","v":0},0]
[12,442,23,461,24,467,23,478,null,null,0,1222,null,1122,2,1.1695906432748537E-2,-7.5062602513285351E-2,null,null,1122,{"$f":"COUNTIF(L7:L35,T10)","v":0},{"$f":"U10/(W4-U20)","v":0},0,null,1122,{"$f":"COUNTIF(L36:L63,Y10)","v":1},{"$f":"Z10/(AB4-Z20)","v":3.5714285714285712E-2},-0.17169124721634299,null,1122,{"$f":"COUNTIF(L64:L92,AD10)","v":0},{"$f":"AE10/(AG4-AE20)","v":0},0,null,1122,{"$f":"COUNTIF(L93:L120,AI10)","v":1},{"$f":"AJ10/(AL4-AJ20)","v":3.5714285714285712E-2},-0.17169124721634299,null,1122,{"$f":"COUNTIF(L121:L149,AN10)","v":0},{"$f":"AO10/(AQ4-AO20)","v":0},0,null,1122,{"$f":"COUNTIF(L150:L177,AS10)","v":0},{"$f":"AT10/(AV4-AT20)","v":0},0]
[21,581,12,596,24,602,14,620,null,null,0,2121,null,1211,3,1.7543859649122806E-2,-0.10233140375727617,null,null,1211,{"$f":"COUNTIF(L7:L35,T11)","v":0},{"$f":"U11/(W4-U20)","v":0},0,null,1211,{"$f":"COUNTIF(L36:L63,Y11)","v":0},{"$f":"Z11/(AB4-Z20)","v":0},0,null,1211,{"$f":"COUNTIF(L64:L92,AD11)","v":0},{"$f":"AE11/(AG4-AE20)","v":0},0,null,1211,{"$f":"COUNTIF(L93:L120,AI11)","v":1},{"$f":"AJ11/(AL4-AJ20)","v":3.5714285714285712E-2},-0.17169124721634299,null,1211,{"$f":"COUNTIF(L121:L149,AN11)","v":1},{"$f":"AO11/(AQ4-AO20)","v":3.4482758620689655E-2},-0.16751658603888178,null,1211,{"$f":"COUNTIF(L150:L177,AS11)","v":1},{"$f":"AT11/(AV4-AT20)","v":3.5714285714285712E-2},-0.17169124721634299]
[21,723,12,741,13,747,14,752,null,null,0,2111,null,1212,0,0,0,null,null,1212,{"$f":"COUNTIF(L7:L35,T12)","v":0},{"$f":"U12/(W4-U20)","v":0},0,null,1212,{"$f":"COUNTIF(L36:L63,Y12)","v":0},{"$f":"Z12/(AB4-Z20)","v":0},0,null,1212,{"$f":"COUNTIF(L64:L92,AD12)","v":0},{"$f":"AE12/(AG4-AE20)","v":0},0,null,1212,{"$f":"COUNTIF(L93:L120,AI12)","v":0},{"$f":"AJ12/(AL4-AJ20)","v":0},0,null,1212,{"$f":"COUNTIF(L121:L149,AN12)","v":0},{"$f":"AO12/(AQ4-AO20)","v":0},0,null,1212,{"$f":"COUNTIF(L150:L177,AS12)","v":0},{"$f":"AT12/(AV4-AT20)","v":0},0]
[21,915,12,931,24,943,23,947,null,null,0,2122,null,1221,1,5.8479532163742687E-3,-4.3379254473016944E-2,null,null,1221,{"$f":"COUNTIF(L7:L35,T13)","v":0},{"$f":"U13/(W4-U20)","v":0},0,null,1221,{"$f":"COUNTIF(L36:L63,Y13)","v":0},{"$f":"Z13/(AB4-Z20)","v":0},0,null,1221,{"$f":"COUNTIF(L64:L92,AD13)","v":0},{"$f":"AE13/(AG4-AE20)","v":0},0,null,1221,{"$f":"COUNTIF(L93:L120,AI13)","v":0},{"$f":"AJ13/(AL4-AJ20)","v":0},0,null,1221,{"$f":"COUNTIF(L121:L149,AN13)","v":1},{"$f":"AO13/(AQ4-AO20)","v":3.4482758620689655E-2},-0.16751658603888178,null,1221,{"$f":"COUNTIF(L150:L177,AS13)","v":0},{"$f":"AT13/(AV4-AT20)","v":0},0]
[21,1042,21,1049,22,1083,23,1089,null,null,0,2222,null,1222,5,2.9239766081871343E-2,-0.14900363801165309,null,null,1222,{"$f":"COUNTIF(L7:L35,T14)","v":2},{"$f":"U14/(W4-U20)","v":7.1428571428571425E-2},-0.27195392300411453,null,1222,{"$f":"COUNTIF(L36:L63,Y14)","v":2},{"$f":"Z14/(AB4-Z20)","v":7.1428571428571425E-2},-0.27195392300411453,null,1222,{"$f":"COUNTIF(L64:L92,AD14)","v":1},{"$f":"AE14/(AG4-AE20)","v":3.4482758620689655E-2},-0.16751658603888178,null,1222,{"$f":"COUNTIF(L93:L120,AI14)","v":0},{"$f":"AJ14/(AL4-AJ20)","v":0},0,null,1222,{"$f":"COUNTIF(L121:L149,AN14)","v":0},{"$f":"AO14/(AQ4-AO20)","v":0},0,null,1222,{"$f":"COUNTIF(L150:L177,AS14)","v":0},{"$f":"AT14/(AV4-AT20)","v":0},0]
[21,1185,21,1201,22,1204,23,1211,null,null,0,2222,null,2111,42,0.24561403508771928,-0.4974998471842092,null,null,2111,{"$f":"COUNTIF(L7:L35,T15)","v":8},{"$f":"U15/(W4-U20)","v":0.2857142857142857},-0.51638712058788683,null,2111,{"$f":"COUNTIF(L36:L63,Y15)","v":9},{"$f":"Z15/(AB4-Z20)","v":0.32142857142857145},-0.5263167601977724,null,2111,{"$f":"COUNTIF(L64:L92,AD15)","v":4},{"$f":"AE15/(AG4-AE20)","v":0.13793103448275862},-0.39420427519000989,null,2111,{"$f":"COUNTIF(L93:L120,AI15)","v":10},{"$f":"AJ15/(AL4-AJ20)","v":0.35714285714285715},-0.53050958113222924,null,2111,{"$f":"COUNTIF(L121:L149,AN15)","v":3},{"$f":"AO15/(AQ4-AO20)","v":0.10344827586206896},-0.33858812011100858,null,2111,{"$f":"COUNTIF(L150:L177,AS15)","v":8},{"$f":"AT15/(AV4-AT20)","v":0.2857142857142857},-0.51638712058788683]
[21,1305,12,1319,13,1324,14,1330,null,null,0,2111,null,2112,0,0,0,null,null,2112,{"$f":"COUNTIF(L7:L35,T16)","v":0},{"$f":"U16/(W4-U20)","v":0},0,null,2112,{"$f":"COUNTIF(L36:L63,Y16)","v":0},{"$f":"Z16/(AB4-Z20)","v":0},0,null,2112,{"$f":"COUNTIF(L64:L92,AD16)","v":0},{"$f":"AE16/(AG4-AE20)","v":0},0,null,2112,{"$f":"COUNTIF(L93:L120,AI16)","v":0},{"$f":"AJ16/(AL4-AJ20)","v":0},0,null,2112,{"$f":"COUNTIF(L121:L149,AN16)","v":0},{"$f":"AO16/(AQ4-AO20)","v":0},0,null,2112,{"$f":"COUNTIF(L150:L177,AS16)","v":0},{"$f":"AT16/(AV4-AT20)","v":0},0]
[12,1443,14,1447,13,1454,14,1464,null,null,0,1111,null,2121,2,1.1695906432748537E-2,-7.5062602513285351E-2,null,null,2121,{"$f":"COUNTIF(L7:L35,T17)","v":1},{"$f":"U17/(W4-U20)","v":3.5714285714285712E-2},-0.17169124721634299,null,2121,{"$f":"COUNTIF(L36:L63,Y17)","v":1},{"$f":"Z17/(AB4-Z20)","v":3.5714285714285712E-2},-0.17169124721634299,null,2121,{"$f":"COUNTIF(L64:L92,AD17)","v":0},{"$f":"AE17/(AG4-AE20)","v":0},0,null,2121,{"$f":"COUNTIF(L93:L120,AI17)","v":0},{"$f":"AJ17/(AL4-AJ20)","v":0},0,null,2121,{"$f":"COUNTIF(L121:L149,AN17)","v":0},{"$f":"AO17/(AQ4-AO20)","v":0},0,null,2121,{"$f":"COUNTIF(L150:L177,AS17)","v":0},{"$f":"AT17/(AV4-AT20)","v":0},0]
[21,1624,12,1636,13,1640,14,1647,null,null,0,2111,null,2122,5,2.9239766081871343E-2,-0.14900363801165309,null,null,2122,{"$f":"COUNTIF(L7:L35,T18)","v":2},{"$f":"U18/(W4-U20)","v":7.1428571428571425E-2},-0.27195392300411453,null,2122,{"$f":"COUNTIF(L36:L63,Y18)","v":1},{"$f":"Z18/(AB4-Z20)","v":3.5714285714285712E-2},-0.17169124721634299,null,2122,{"$f":"COUNTIF(L64:L92,AD18)","v":1},{"$f":"AE18/(AG4-AE20)","v":3.4482758620689655E-2},-0.16751658603888178,null,2122,{"$f":"COUNTIF(L93:L120,AI18)","v":0},{"$f":"AJ18/(AL4-AJ20)","v":0},0,null,2122,{"$f":"COUNTIF(L121:L149,AN18)","v":0},{"$f":"AO18/(AQ4-AO20)","v":0},0,null,2122,{"$f":"COUNTIF(L150:L177,AS18)","v":1},{"$f":"AT18/(AV4-AT20)","v":3.5714285714285712E-2},-0.17169124721634299]
[21,1746,12,1757,13,1762,14,1765,null,null,0,2111,null,2211,8,4.6783625730994149E-2,-0.20668315859115313,null,null,2211,{"$f":"COUNTIF(L7:L35,T19)","v":1},{"$f":"U19/(W4-U20)","v":3.5714285714285712E-2},-0.17169124721634299,null,2211,{"$f":"COUNTIF(L36:L63,Y19)","v":4},{"$f":"Z19/(AB4-Z20)","v":0.14285714285714285},-0.40105070315108626,null,2211,{"$f":"COUNTIF(L64:L92,AD19)","v":0},{"$f":"AE19/(AG4-AE20)","v":0},0,null,2211,{"$f":"COUNTIF(L93:L120,AI19)","v":0},{"$f":"AJ19/(AL4-AJ20)","v":0},0,null,2211,{"$f":"COUNTIF(L121:L149,AN19)","v":2},{"$f":"AO19/(AQ4-AO20)","v":6.8965517241379309E-2},-0.26606765483638428,null,2211,{"$f":"COUNTIF(L150:L177,AS19)","v":1},{"$f":"AT19/(AV4-AT20)","v":3.5714285714285712E-2},-0.17169124721634299]
[21,1869,21,1890,22,1895,23,1901,null,null,0,2222,null,2212,1,5.8479532163742687E-3,-4.3379254473016944E-2,null,null,2212,{"$f":"COUNTIF(L7:L35,T20)","v":1},null,null,null,2212,{"$f":"COUNTIF(L36:L63,Y20)","v":0},null,null,null,2212,{"$f":"COUNTIF(L64:L92,AD20)","v":0},null,null,null,2212,{"$f":"COUNTIF(L93:L120,AI20)","v":0},null,null,null,2212,{"$f":"COUNTIF(L121:L149,AN20)","v":0},null,null,null,2212,{"$f":"COUNTIF(L150:L177,AS20)","v":0}]
[21,1999,21,2018,11,2027,12,2038,null,null,0,2211,null,2221,6,3.5087719298245612E-2,-0.16957508821630671,null,null,2221,{"$f":"COUNTIF(L7:L35,T21)","v":1},{"$f":"U21/(W4-U20)","v":3.5714285714285712E-2},{"$f":"IF(V21=0,0,(V21*((LOG(V21))/LOG(2))))","v":-0.17169124721634299},null,2221,{"$f":"COUNTIF(L36:L63,Y21)","v":2},{"$f":"Z21/(AB4-Z20)","v":7.1428571428571425E-2},{"$f":"IF(AA21=0,0,(AA21*((LOG(AA21))/LOG(2))))","v":-0.27195392300411453},null,2221,{"$f":"COUNTIF(L64:L92,AD21)","v":3},{"$f":"AE21/(AG4-AE20)","v":0.10344827586206896},{"$f":"IF(AF21=0,0,(AF21*((LOG(AF21))/LOG(2))))","v":-0.33858812011100858},null,2221,{"$f":"COUNTIF(L93:L120,AI21)","v":0},{"$f":"AJ21/(AL4-AJ20)","v":0},{"$f":"IF(AK21=0,0,(AK21*((LOG(AK21))/LOG(2))))","v":0},null,2221,{"$f":"COUNTIF(L121:L149,AN21)","v":0},{"$f":"AO21/(AQ4-AO20)","v":0},{"$f":"IF(AP21=0,0,(AP21*((LOG(AP21))/LOG(2))))","v":0},null,2221,{"$f":"COUNTIF(L150:L177,AS21)","v":0},{"$f":"AT21/(AV4-AT20)","v":0},{"$f":"IF(AU21=0,0,(AU21*((LOG(AU21))/LOG(2))))","v":0}]
[21,2140,21,2143,22,2150,14,2166,null,null,0,2221,null,2222,9,5.2631578947368418E-2,-0.22357513228650452,null,null,2222,{"$f":"COUNTIF(L7:L35,T22)","v":6},{"$f":"U22/(W4-U20)","v":0.21428571428571427},{"$f":"IF(V22=0,0,(V22*((LOG(V22))/LOG(2))))","v":-0.47622694742923877},null,2222,{"$f":"COUNTIF(L36:L63,Y22)","v":2},{"$f":"Z22/(AB4-Z20)","v":7.1428571428571425E-2},{"$f":"IF(AA22=0,0,(AA22*((LOG(AA22))/LOG(2))))","v":-0.27195392300411453},null,2222,{"$f":"COUNTIF(L64:L92,AD22)","v":1},{"$f":"AE22/(AG4-AE20)","v":3.4482758620689655E-2},{"$f":"IF(AF22=0,0,(AF22*((LOG(AF22))/LOG(2))))","v":-0.16751658603888178},null,2222,{"$f":"COUNTIF(L93:L120,AI22)","v":0},{"$f":"AJ22/(AL4-AJ20)","v":0},{"$f":"IF(AK22=0,0,(AK22*((LOG(AK22))/LOG(2))))","v":0},null,2222,{"$f":"COUNTIF(L121:L149,AN22)","v":0},{"$f":"AO22/(AQ4-AO20)","v":0},{"$f":"IF(AP22=0,0,(AP22*((LOG(AP22))/LOG(2))))","v":0},null,2222,{"$f":"COUNTIF(L150:L177,AS22)","v":0},{"$f":"AT22/(AV4-AT20)","v":0},{"$f":"IF(AU22=0,0,(AU22*((LOG(AU22))/LOG(2))))","v":0}]
[12,2264,14,2267,13,2273,14,2284,null,null,0,1111,null,null,null,{"$f":"SUM(P7:P22)","v":0.99999999999999978},{"$f":"-SUM(Q7:Q22)","v":2.2305619630502713},null,null,null,null,{"$f":"SUM(V7:V22)","v":0.99999999999999989},{"$f":"-SUM(W7:W22)","v":2.551595655674384},null,null,null,{"$f":"SUM(AA7:AA22)","v":0.99999999999999978},{"$f":"-SUM(AB7:AB22)","v":2.7345299214394698},null,null,null,{"$f":"SUM(AF7:AF22)","v":0.99999999999999978},{"$f":"-SUM(AG7:AG22)","v":1.6350323655554482},null,null,null,{"$f":"SUM(AK7:AK22)","v":1},{"$f":"-SUM(AL7:AL22)","v":1.3352377453121176},null,null,null,{"$f":"SUM(AP7:AP22)","v":0.99999999999999989},{"$f":"-SUM(AQ7:AQ22)","v":1.2420367498798477},null,null,null,{"$f":"SUM(AU7:AU22)","v":0.99999999999999989},{"$f":"-SUM(AV7:AV22)","v":1.4685381970127551}]
[21,2398,12,2411,13,2417,14,2426,null,null,0,2111,null,null,null,"U=",{"$f":"Q23/(LOG(Q4)/LOG(2))","v":0.3007018484897151},null,null,null,null,"U1=",{"$f":"W23/(LOG(W4)/LOG(2))","v":0.52523788344037736},null,null,null,"U2=",{"$f":"AB23/(LOG(AB4)/LOG(2))","v":0.56882214144260834},null,null,null,"U3=",{"$f":"AG23/(LOG(AG4)/LOG(2))","v":0.33656623341988018},null,null,null,"U4=",{"$f":"AL23/(LOG(AL4)/LOG(2))","v":0.27774894239358977},null,null,null,"U5=",{"$f":"AQ23/(LOG(AQ4)/LOG(2))","v":0.25566933076221954},null,null,null,"U6=",{"$f":"AV23/(LOG(AV4)/LOG(2))","v":0.30547738222419485}]
[21,2635,21,2653,22,2658,23,2668,null,null,0,2222]
[21,2766,21,2790,22,2797,23,2802,null,null,0,2222]
[21,2916,21,2921,22,2928,23,2934,null,null,0,2222,null,"Total Target Seq"]
[12,3038,23,3049,24,3053,23,3060,null,null,0,1222,null,{"$f":"COUNTIF(L7:L177,G3)","v":1},null,29,28,29,28,29,28]
[21,3152,21,3159,11,3190,21,3204,null,null,0,2212,null,null,null,"% of reinforcement given in 6 equal intervals based on number of trials "]
[21,3339,12,3351,13,3354,14,3359,null,null,0,2111,null,null,null,"%_1","%_2","%_3","%_4","%_5","%_6"]
[12,3457,14,3465,13,3470,14,3476,null,null,0,1111,null,null,"target sequence",{"$f":"$G$3","v":2212},2212,2212,2212,2212,2212]
[12,3570,14,3577,13,3586,14,3592,null,null,0,1111,null,null,"total reinforcement",{"$f":"U20","v":1},{"$f":"Z20","v":0},{"$f":"AE20","v":0},{"$f":"AJ20","v":0},{"$f":"AO20","v":0},{"$f":"AT20","v":0}]
[12,3703,14,3708,13,3713,14,3718,null,null,0,1111,null,null,"% target"]
[21,3819,12,3832,24,3845,23,3849,null,null,0,2122,null,null,"CCRF"]
[12,3957,14,3966,13,3978,14,3985,null,null,0,1111,null,null,"% CCRf"]
[21,4113,12,4126,13,4134,14,4144,null,null,0,2111,null,null,"average response rate",{"$f":"H35/P28","v":137.41379310344828},{"$f":"(H63-H35)/Q28","v":138.14285714285714},{"$f":"(H92-H63)/R28","v":149.51724137931035},{"$f":"(H120-H92)/S28","v":138.10714285714286},{"$f":"(H149-H120)/T28","v":139.44827586206895},{"$f":"(H177-H149)/U28","v":138.78571428571428}]
[21,4254,12,4264,24,4276,23,4280,null,null,0,2122]
[12,4373,23,4385,24,4389,23,4395,null,null,0,1222]
[12,4512,14,4518,13,4522,14,4528,null,null,0,1111]
[21,4630,12,4645,13,4651,14,4655,null,null,0,2111]
[21,4776,21,4783,11,4799,12,4807,null,null,0,2211]
[12,4903,14,4909,13,4914,14,4920,null,null,0,1111]
[21,5029,12,5045,13,5056,14,5062,null,null,0,2111]
[21,5184,12,5197,13,5201,14,5208,null,null,0,2111]
[21,5319,12,5334,24,5342,14,5361,null,null,0,2121]
[21,5460,21,5463,22,5479,14,5490,null,null,0,2221]
[21,5592,12,5607,13,5613,14,5626,null,null,0,2111]
[12,5730,14,5742,13,5745,14,5750,null,null,0,1111]
[12,5850,14,5856,13,5861,14,5868,null,null,0,1111]
[21,5960,21,5985,11,5996,12,6001,null,null,0,2211]
[21,6113,12,6129,13,6135,14,6140,null,null,0,2111]
[21,6239,21,6258,22,6264,14,6283,null,null,0,2221]
[12,6394,23,6405,24,6411,23,6417,null,null,0,1222]
[21,6515,21,6533,11,6554,12,6559,null,null,0,2211]
[21,6709,12,6723,13,6729,14,6735,null,null,0,2111]
[21,6870,21,6874,22,6880,23,6886,null,null,0,2222]
[21,6981,21,6994,22,6996,23,7014,null,null,0,2222]
[12,7114,14,7116,24,7136,23,7142,null,null,0,1122]
[21,7240,21,7247,11,7279,12,7283,null,null,0,2211]
[21,7389,12,7401,13,7406,14,7417,null,null,0,2111]
[12,7518,14,7524,13,7528,14,7535,null,null,0,1111]
[12,7677,14,7683,13,7694,14,7700,null,null,0,1111]
[21,7796,12,7842,13,7847,14,7853,null,null,0,2111]
[12,7958,14,7979,13,7985,14,7991,null,null,0,1111]
[21,8106,12,8123,13,8128,14,8133,null,null,0,2111]
[21,8242,12,8254,13,8261,14,8272,null,null,0,2111]
[12,8364,14,8371,13,8385,14,8387,null,null,0,1111]
[21,8502,21,8518,22,8522,14,8539,null,null,0,2221]
[12,8666,14,8669,13,8671,14,8677,null,null,0,1111]
[21,8776,21,8781,22,8795,14,8810,null,null,0,2221]
[21,8912,12,8929,24,8938,23,8943,null,null,0,2122]
[12,9043,14,9049,13,9059,14,9065,null,null,0,1111]
[12,9250,14,9259,13,9264,14,9270,null,null,0,1111]
[21,9371,21,9375,22,9381,23,9388,null,null,0,2222]
[12,9487,14,9495,13,9500,14,9506,null,null,0,1111]
[21,9606,21,9609,22,9616,14,9627,null,null,0,2221]
[12,9729,14,9735,13,9741,14,9752,null,null,0,1111]
[21,9925,12,9937,13,9943,14,9951,null,null,0,2111]
[12,10174,14,10183,13,10204,14,10214,null,null,0,1111]
[12,10372,14,10392,13,10397,14,10403,null,null,0,1111]
[12,10504,14,10513,13,10515,14,10520,null,null,0,1111]
[12,10678,14,10685,13,10691,14,10697,null,null,0,1111]
[12,10812,23,10826,24,10830,23,10836,null,null,0,1222]
[12,10956,14,10960,13,10965,14,10971,null,null,0,1111]
[12,11098,14,11104,13,11121,14,11127,null,null,0,1111]
[12,11295,14,11300,13,11308,14,11314,null,null,0,1111]
[21,11414,12,11445,13,11451,14,11455,null,null,0,2111]
[12,11611,14,11617,13,11622,14,11628,null,null,0,1111]
[12,11769,14,11772,13,11781,14,11787,null,null,0,1111]
[12,11894,14,11901,13,11907,14,11912,null,null,0,1111]
[12,12019,14,12021,13,12026,14,12039,null,null,0,1111]
[12,12161,14,12175,13,12181,14,12189,null,null,0,1111]
[21,12286,12,12319,13,12322,14,12333,null,null,0,2111]
[21,12446,12,12462,13,12472,14,12479,null,null,0,2111]
[12,12617,14,12633,13,12640,14,12646,null,null,0,1111]
[12,12749,14,12758,13,12762,14,12779,null,null,0,1111]
[21,12886,12,12901,13,12906,14,12912,null,null,0,2111]
[21,13018,12,13033,13,13036,14,13041,null,null,0,2111]
[12,13174,14,13181,13,13187,14,13194,null,null,0,1111]
[12,13289,14,13297,13,13305,14,13309,null,null,0,1111]
[21,13429,12,13442,13,13447,14,13452,null,null,0,2111]
[12,13552,14,13557,13,13564,14,13570,null,null,0,1111]
[12,13666,23,13682,13,13694,14,13700,null,null,0,1211]
[21,13793,12,13825,13,13829,14,13835,null,null,0,2111]
[12,13994,14,14001,13,14007,14,14014,null,null,0,1111]
[21,14110,12,14124,13,14127,14,14132,null,null,0,2111]
[12,14247,14,14264,13,14269,14,14275,null,null,0,1111]
[12,14405,14,14411,13,14417,14,14423,null,null,0,1111]
[12,14551,14,14555,13,14561,14,14564,null,null,0,1111]
[12,14659,14,14662,24,14673,23,14677,null,null,0,1122]
[21,14778,12,14794,13,14799,14,14805,null,null,0,2111]
[12,14905,14,14913,13,14918,14,14926,null,null,0,1111]
[21,15033,12,15047,13,15052,14,15058,null,null,0,2111]
[12,15153,14,15161,13,15166,14,15171,null,null,0,1111]
[21,15311,12,15325,13,15330,14,15335,null,null,0,2111]
[12,15496,14,15501,13,15507,14,15513,null,null,0,1111]
[12,15607,14,15613,13,15619,14,15629,null,null,0,1111]
[12,15763,14,15767,13,15773,14,15779,null,null,0,1111]
[12,15886,14,15891,13,15902,14,15905,null,null,0,1111]
[12,16031,14,16038,13,16050,14,16056,null,null,0,1111]
[12,16161,14,16167,13,16172,14,16178,null,null,0,1111]
[12,16284,23,16297,24,16303,14,16318,null,null,0,1221]
[12,16413,14,16417,13,16422,14,16428,null,null,0,1111]
[12,16526,14,16531,13,16537,14,16541,null,null,0,1111]
[12,16641,14,16644,13,16653,14,16662,null,null,0,1111]
[12,16821,14,16828,13,16838,14,16844,null,null,0,1111]
[12,16944,14,16949,13,16955,14,16969,null,null,0,1111]
[12,17075,23,17086,13,17097,14,17102,null,null,0,1211]
[21,17204,21,17225,11,17241,12,17247,null,null,0,2211]
[12,17343,14,17352,13,17363,14,17370,null,null,0,1111]
[12,17521,14,17531,13,17537,14,17543,null,null,0,1111]
[21,17640,12,17652,13,17662,14,17668,null,null,0,2111]
[12,17840,14,17843,13,17852,14,17860,null,null,0,1111]
[12,18023,14,18030,13,18035,14,18041,null,null,0,1111]
[12,18149,14,18154,13,18161,14,18171,null,null,0,1111]
[12,18278,14,18287,13,18293,14,18296,null,null,0,1111]
[12,18393,14,18399,13,18405,14,18416,null,null,0,1111]
[12,18595,14,18597,13,18609,14,18615,null,null,0,1111]
[12,18718,14,18724,13,18731,14,18736,null,null,0,1111]
[21,18831,21,18843,11,18861,12,18867,null,null,0,2211]
[12,18981,14,18984,13,18990,14,18996,null,null,0,1111]
[21,19116,12,19128,13,19132,14,19141,null,null,0,2111]
[12,19306,14,19314,13,19320,14,19327,null,null,0,1111]
[12,19424,14,19433,13,19441,14,19448,null,null,0,1111]
[12,19560,14,19564,13,19570,14,19576,null,null,0,1111]
[12,19676,14,19681,13,19694,14,19701,null,null,0,1111]
[21,19797,12,19808,13,19816,14,19819,null,null,0,2111]
[12,19953,14,19958,13,19964,14,19970,null,null,0,1111]
[12,20079,14,20087,13,20092,14,20100,null,null,0,1111]
[12,20195,23,20207,13,20221,14,20225,null,null,0,1211]
[12,20360,14,20366,13,20372,14,20378,null,null,0,1111]
[21,20480,12,20496,13,20508,14,20515,null,null,0,2111]
[12,20617,14,20623,13,20628,14,20634,null,null,0,1111]
[12,20728,14,20737,13,20743,14,20749,null,null,0,1111]
[12,20847,14,20853,13,20859,14,20863,null,null,0,1111]
[12,20962,14,20971,13,20977,14,20981,null,null,0,1111]
[12,21097,14,21102,13,21107,14,21113,null,null,0,1111]
[21,21205,12,21225,13,21241,14,21246,null,null,0,2111]
[12,21391,14,21407,13,21413,14,21419,null,null,0,1111]
[12,21525,14,21534,13,21537,14,21543,null,null,0,1111]
[21,21660,12,21676,13,21681,14,21686,null,null,0,2111]
[21,21793,12,21813,13,21819,14,21823,null,null,0,2111]
[12,21935,14,21943,13,21948,14,21964,null,null,0,1111]
[21,22059,12,22069,24,22085,23,22090,null,null,0,2122]
[21,22205,12,22224,13,22228,14,22234,null,null,0,2111]
[21,22418,12,22430,13,22437,14,22440,null,null,0,2111]
[12,22562,14,22579,13,22587,14,22592,null,null,0,1111]
[12,22726,14,22731,13,22737,14,22739,null,null,0,1111]
[12,22839,14,22845,13,22852,14,22864,null,null,0,1111]
[12,22967,14,22973,13,22978,14,22984,null,null,0,1111]
[12,23109,14,23113,13,23119,14,23124,null,null,0,1111]
[21,23226,12,23240,13,23248,14,23254,null,null,0,2111]
[12,23361,14,23374,13,23380,14,23386,null,null,0,1111]
[12,23560,14,23572,13,23578,14,23583,null,null,0,1111]
[21,23695,12,23710,13,23717,14,23722,null,null,0,2111]
[12,23820,14,23832,13,23837,14,23843,null,null,0,1111]
[21,23941,21,23962,11,23981,12,23986,null,null,null,2211]

{"sheet":"!LB12A05..Du","index":11,"n_rows":36,"n_cols":48,"rows_kept":36,"cut":false,"hidden":false,"merged":[[1,1,1,2],[5,13,5,14],[26,13,26,14],[27,13,27,14],[4,19,4,22],[5,19,5,20],[4,39,4,42],[5,39,5,40],[4,44,4,47],[5,44,5,45],[4,24,4,27],[5,24,5,25],[4,29,4,32],[5,29,5,30],[4,34,4,37],[5,34,5,35]]}
["Report for:!LB12A05..Du"]
["Date:","<date>"]
["Hen:","<hen>",null,null,null,"Correct Sequence",{"$f":"Start!J2","v":2212},null,null,null,null,null,null,null,null,"Total Sequences in Data",{"$f":"4994-COUNTBLANK(L7:L5000)","v":17},null,null,null,null,"Total Sequences in Block Data",{"$f":"COUNTA(L7:L9)","v":3},null,null,null,"Total Sequences in Block Data",{"$f":"COUNTA(L10:L12)","v":3},null,null,null,"Total Sequences in Block Data",{"$f":"COUNTA(L13:L14)","v":2},null,null,null,"Total Sequences in Block Data",{"$f":"COUNTA(L15:L17)","v":3},null,null,null,"Total Sequences in Block Data",{"$f":"COUNTA(L18:L20)","v":3},null,null,null,"Total Sequences in Block Data",{"$f":"COUNTA(L21:L23)","v":3}]
[null,null,null,null,null,null,null,null,null,null,null,null,null,null,null,"Total Sequences in Summary",{"$f":"SUM(O7:O22)","v":17},null,null,null,null,"Total Sequences in Block Summary",{"$f":"SUM(U7:U22)","v":3},null,null,null,"Total Sequences in Block Summary",{"$f":"SUM(Z7:Z22)","v":3},null,null,null,"Total Sequences in Block Summary",{"$f":"SUM(AE7:AE22)","v":2},null,null,null,"Total Sequences in Block Summary",{"$f":"SUM(AJ7:AJ22)","v":3},null,null,null,"Total Sequences in Block Summary",{"$f":"SUM(AO7:AO22)","v":3},null,null,null,"Total Sequences in Block Summary",{"$f":"SUM(AT7:AT22)","v":3}]
[null,null,null,null,null,null,null,null,null,null,null,null,null,null,null,null,null,null,null,"Block 1",null,null,null,null,"Block 2",null,null,null,null,"Block 3",null,null,null,null,"Block 4",null,null,null,null,"Block 5",null,null,null,null,"Block 6"]
["Sequence\nComponent\n1","Time\n1","Sequence\nComponent\n2","Time\n2","Sequence\nComponent\n3","Time\n3","Sequence\nComponent\n4","Time\n4","Sequence\nComponent\n5","Time\n5","Correct?\n0=No 1=Yes","Sequence",null,"Frequency",null,"Relative Frequency","Variability",null,null,"Frequency",null,"Relative Frequency","Variability",null,"Frequency",null,"Relative Frequency","Variability",null,"Frequency",null,"Relative Frequency","Variability",null,"Frequency",null,"Relative Frequency","Variability",null,"Frequency",null,"Relative Frequency","Variability",null,"Frequency",null,"Relative Frequency","Variability"]
[12,25,23,36,24,42,23,51,null,null,0,1222,null,1111,{"$f":"COUNTIF($L$7:$L$500,N7)","v":9},{"$f":"O7/$Q$4","v":0.52941176470588236},{"$f":"IF(P7=0,0,(P7*((LOG(P7))/LOG(2))))","v":-0.48575532695719081},null,null,{"$f":"N7","v":1111},{"$f":"COUNTIF(L7:L9,T7)","v":1},{"$f":"U7/(W4-U20)","v":0.33333333333333331},{"$f":"IF(V7=0,0,(V7*((LOG(V7))/LOG(2))))","v":-0.52832083357371862},null,{"$f":"N7","v":1111},{"$f":"COUNTIF(L10:L12,Y7)","v":2},{"$f":"Z7/(AB4-Z20)","v":0.66666666666666663},{"$f":"IF(AA7=0,0,(AA7*((LOG(AA7))/LOG(2))))","v":-0.38997500048077083},null,{"$f":"N7","v":1111},{"$f":"COUNTIF(L13:L14,AD7)","v":1},{"$f":"AE7/(AG4-AE20)","v":0.5},{"$f":"IF(AF7=0,0,(AF7*((LOG(AF7))/LOG(2))))","v":-0.5},null,{"$f":"N7","v":1111},{"$f":"COUNTIF(L15:L17,AI7)","v":2},{"$f":"AJ7/(AL4-AJ20)","v":0.66666666666666663},{"$f":"IF(AK7=0,0,(AK7*((LOG(AK7))/LOG(2))))","v":-0.38997500048077083},null,{"$f":"N7","v":1111},{"$f":"COUNTIF(L18:L20,AN7)","v":2},{"$f":"AO7/(AQ4-AO20)","v":0.66666666666666663},{"$f":"IF(AP7=0,0,(AP7*((LOG(AP7))/LOG(2))))","v":-0.38997500048077083},null,{"$f":"N7","v":1111},{"$f":"COUNTIF(L21:L23,AS7)","v":1},{"$f":"AT7/(AV4-AT20)","v":0.33333333333333331},{"$f":"IF(AU7=0,0,(AU7*((LOG(AU7))/LOG(2))))","v":-0.52832083357371862}]
[12,149,14,157,13,162,14,165,null,null,0,1111,null,1112,0,0,0,null,null,1112,{"$f":"COUNTIF(L7:L9,T8)","v":0},{"$f":"U8/(W4-U20)","v":0},0,null,1112,{"$f":"COUNTIF(L10:L12,Y8)","v":0},{"$f":"Z8/(AB4-Z20)","v":0},0,null,1112,{"$f":"COUNTIF(L13:L14,AD8)","v":0},{"$f":"AE8/(AG4-AE20)","v":0},0,null,1112,{"$f":"COUNTIF(L15:L17,AI8)","v":0},{"$f":"AJ8/(AL4-AJ20)","v":0},0,null,1112,{"$f":"COUNTIF(L18:L20,AN8)","v":0},{"$f":"AO8/(AQ4-AO20)","v":0},0,null,1112,{"$f":"COUNTIF(L21:L23,AS8)","v":0},{"$f":"AT8/(AV4-AT20)","v":0},0]
[21,265,12,282,13,287,14,292,null,null,0,2111,null,1121,0,0,0,null,null,1121,{"$f":"COUNTIF(L7:L9,T9)","v":0},{"$f":"U9/(W4-U20)","v":0},0,null,1121,{"$f":"COUNTIF(L10:L12,Y9)","v":0},{"$f":"Z9/(AB4-Z20)","v":0},0,null,1121,{"$f":"COUNTIF(L13:L14,AD9)","v":0},{"$f":"AE9/(AG4-AE20)","v":0},0,null,1121,{"$f":"COUNTIF(L15:L17,AI9)","v":0},{"$f":"AJ9/(AL4-AJ20)","v":0},0,null,1121,{"$f":"COUNTIF(L18:L20,AN9)","v":0},{"$f":"AO9/(AQ4-AO20)","v":0},0,null,1121,{"$f":"COUNTIF(L21:L23,AS9)","v":0},{"$f":"AT9/(AV4-AT20)","v":0},0]
[12,392,14,401,13,406,14,412,null,null,0,1111,null,1122,0,0,0,null,null,1122,{"$f":"COUNTIF(L7:L9,T10)","v":0},{"$f":"U10/(W4-U20)","v":0},0,null,1122,{"$f":"COUNTIF(L10:L12,Y10)","v":0},{"$f":"Z10/(AB4-Z20)","v":0},0,null,1122,{"$f":"COUNTIF(L13:L14,AD10)","v":0},{"$f":"AE10/(AG4-AE20)","v":0},0,null,1122,{"$f":"COUNTIF(L15:L17,AI10)","v":0},{"$f":"AJ10/(AL4-AJ20)","v":0},0,null,1122,{"$f":"COUNTIF(L18:L20,AN10)","v":0},{"$f":"AO10/(AQ4-AO20)","v":0},0,null,1122,{"$f":"COUNTIF(L21:L23,AS10)","v":0},{"$f":"AT10/(AV4-AT20)","v":0},0]
[21,518,12,530,24,542,14,555,null,null,0,2121,null,1211,1,5.8823529411764705E-2,-0.24043899066178465,null,null,1211,{"$f":"COUNTIF(L7:L9,T11)","v":0},{"$f":"U11/(W4-U20)","v":0},0,null,1211,{"$f":"COUNTIF(L10:L12,Y11)","v":0},{"$f":"Z11/(AB4-Z20)","v":0},0,null,1211,{"$f":"COUNTIF(L13:L14,AD11)","v":0},{"$f":"AE11/(AG4-AE20)","v":0},0,null,1211,{"$f":"COUNTIF(L15:L17,AI11)","v":1},{"$f":"AJ11/(AL4-AJ20)","v":0.33333333333333331},-0.52832083357371862,null,1211,{"$f":"COUNTIF(L18:L20,AN11)","v":0},{"$f":"AO11/(AQ4-AO20)","v":0},0,null,1211,{"$f":"COUNTIF(L21:L23,AS11)","v":0},{"$f":"AT11/(AV4-AT20)","v":0},0]
[12,720,14,725,13,731,14,736,null,null,0,1111,null,1212,0,0,0,null,null,1212,{"$f":"COUNTIF(L7:L9,T12)","v":0},{"$f":"U12/(W4-U20)","v":0},0,null,1212,{"$f":"COUNTIF(L10:L12,Y12)","v":0},{"$f":"Z12/(AB4-Z20)","v":0},0,null,1212,{"$f":"COUNTIF(L13:L14,AD12)","v":0},{"$f":"AE12/(AG4-AE20)","v":0},0,null,1212,{"$f":"COUNTIF(L15:L17,AI12)","v":0},{"$f":"AJ12/(AL4-AJ20)","v":0},0,null,1212,{"$f":"COUNTIF(L18:L20,AN12)","v":0},{"$f":"AO12/(AQ4-AO20)","v":0},0,null,1212,{"$f":"COUNTIF(L21:L23,AS12)","v":0},{"$f":"AT12/(AV4-AT20)","v":0},0]
[12,830,14,837,13,842,14,847,null,null,0,1111,null,1221,1,5.8823529411764705E-2,-0.24043899066178465,null,null,1221,{"$f":"COUNTIF(L7:L9,T13)","v":0},{"$f":"U13/(W4-U20)","v":0},0,null,1221,{"$f":"COUNTIF(L10:L12,Y13)","v":0},{"$f":"Z13/(AB4-Z20)","v":0},0,null,1221,{"$f":"COUNTIF(L13:L14,AD13)","v":1},{"$f":"AE13/(AG4-AE20)","v":0.5},-0.5,null,1221,{"$f":"COUNTIF(L15:L17,AI13)","v":0},{"$f":"AJ13/(AL4-AJ20)","v":0},0,null,1221,{"$f":"COUNTIF(L18:L20,AN13)","v":0},{"$f":"AO13/(AQ4-AO20)","v":0},0,null,1221,{"$f":"COUNTIF(L21:L23,AS13)","v":0},{"$f":"AT13/(AV4-AT20)","v":0},0]
[12,947,23,958,24,960,14,973,null,null,0,1221,null,1222,1,5.8823529411764705E-2,-0.24043899066178465,null,null,1222,{"$f":"COUNTIF(L7:L9,T14)","v":1},{"$f":"U14/(W4-U20)","v":0.33333333333333331},-0.52832083357371862,null,1222,{"$f":"COUNTIF(L10:L12,Y14)","v":0},{"$f":"Z14/(AB4-Z20)","v":0},0,null,1222,{"$f":"COUNTIF(L13:L14,AD14)","v":0},{"$f":"AE14/(AG4-AE20)","v":0},0,null,1222,{"$f":"COUNTIF(L15:L17,AI14)","v":0},{"$f":"AJ14/(AL4-AJ20)","v":0},0,null,1222,{"$f":"COUNTIF(L18:L20,AN14)","v":0},{"$f":"AO14/(AQ4-AO20)","v":0},0,null,1222,{"$f":"COUNTIF(L21:L23,AS14)","v":0},{"$f":"AT14/(AV4-AT20)","v":0},0]
[12,1077,14,1086,13,1092,14,1097,null,null,0,1111,null,2111,4,0.23529411764705882,-0.49116772735302094,null,null,2111,{"$f":"COUNTIF(L7:L9,T15)","v":1},{"$f":"U15/(W4-U20)","v":0.33333333333333331},-0.52832083357371862,null,2111,{"$f":"COUNTIF(L10:L12,Y15)","v":0},{"$f":"Z15/(AB4-Z20)","v":0},0,null,2111,{"$f":"COUNTIF(L13:L14,AD15)","v":0},{"$f":"AE15/(AG4-AE20)","v":0},0,null,2111,{"$f":"COUNTIF(L15:L17,AI15)","v":0},{"$f":"AJ15/(AL4-AJ20)","v":0},0,null,2111,{"$f":"COUNTIF(L18:L20,AN15)","v":1},{"$f":"AO15/(AQ4-AO20)","v":0.33333333333333331},-0.52832083357371862,null,2111,{"$f":"COUNTIF(L21:L23,AS15)","v":2},{"$f":"AT15/(AV4-AT20)","v":0.66666666666666663},-0.38997500048077083]
[12,1205,14,1216,13,1222,14,1228,null,null,0,1111,null,2112,0,0,0,null,null,2112,{"$f":"COUNTIF(L7:L9,T16)","v":0},{"$f":"U16/(W4-U20)","v":0},0,null,2112,{"$f":"COUNTIF(L10:L12,Y16)","v":0},{"$f":"Z16/(AB4-Z20)","v":0},0,null,2112,{"$f":"COUNTIF(L13:L14,AD16)","v":0},{"$f":"AE16/(AG4-AE20)","v":0},0,null,2112,{"$f":"COUNTIF(L15:L17,AI16)","v":0},{"$f":"AJ16/(AL4-AJ20)","v":0},0,null,2112,{"$f":"COUNTIF(L18:L20,AN16)","v":0},{"$f":"AO16/(AQ4-AO20)","v":0},0,null,2112,{"$f":"COUNTIF(L21:L23,AS16)","v":0},{"$f":"AT16/(AV4-AT20)","v":0},0]
[12,1336,23,1342,13,1357,14,1362,null,null,0,1211,null,2121,1,5.8823529411764705E-2,-0.24043899066178465,null,null,2121,{"$f":"COUNTIF(L7:L9,T17)","v":0},{"$f":"U17/(W4-U20)","v":0},0,null,2121,{"$f":"COUNTIF(L10:L12,Y17)","v":1},{"$f":"Z17/(AB4-Z20)","v":0.33333333333333331},-0.52832083357371862,null,2121,{"$f":"COUNTIF(L13:L14,AD17)","v":0},{"$f":"AE17/(AG4-AE20)","v":0},0,null,2121,{"$f":"COUNTIF(L15:L17,AI17)","v":0},{"$f":"AJ17/(AL4-AJ20)","v":0},0,null,2121,{"$f":"COUNTIF(L18:L20,AN17)","v":0},{"$f":"AO17/(AQ4-AO20)","v":0},0,null,2121,{"$f":"COUNTIF(L21:L23,AS17)","v":0},{"$f":"AT17/(AV4-AT20)","v":0},0]
[12,1455,14,1462,13,1468,14,1474,null,null,0,1111,null,2122,0,0,0,null,null,2122,{"$f":"COUNTIF(L7:L9,T18)","v":0},{"$f":"U18/(W4-U20)","v":0},0,null,2122,{"$f":"COUNTIF(L10:L12,Y18)","v":0},{"$f":"Z18/(AB4-Z20)","v":0},0,null,2122,{"$f":"COUNTIF(L13:L14,AD18)","v":0},{"$f":"AE18/(AG4-AE20)","v":0},0,null,2122,{"$f":"COUNTIF(L15:L17,AI18)","v":0},{"$f":"AJ18/(AL4-AJ20)","v":0},0,null,2122,{"$f":"COUNTIF(L18:L20,AN18)","v":0},{"$f":"AO18/(AQ4-AO20)","v":0},0,null,2122,{"$f":"COUNTIF(L21:L23,AS18)","v":0},{"$f":"AT18/(AV4-AT20)","v":0},0]
[21,1573,12,1587,13,1592,14,1597,null,null,0,2111,null,2211,0,0,0,null,null,2211,{"$f":"COUNTIF(L7:L9,T19)","v":0},{"$f":"U19/(W4-U20)","v":0},0,null,2211,{"$f":"COUNTIF(L10:L12,Y19)","v":0},{"$f":"Z19/(AB4-Z20)","v":0},0,null,2211,{"$f":"COUNTIF(L13:L14,AD19)","v":0},{"$f":"AE19/(AG4-AE20)","v":0},0,null,2211,{"$f":"COUNTIF(L15:L17,AI19)","v":0},{"$f":"AJ19/(AL4-AJ20)","v":0},0,null,2211,{"$f":"COUNTIF(L18:L20,AN19)","v":0},{"$f":"AO19/(AQ4-AO20)","v":0},0,null,2211,{"$f":"COUNTIF(L21:L23,AS19)","v":0},{"$f":"AT19/(AV4-AT20)","v":0},0]
[12,1754,14,1766,13,1772,14,1779,null,null,0,1111,null,2212,0,0,0,null,null,2212,{"$f":"COUNTIF(L7:L9,T20)","v":0},null,null,null,2212,{"$f":"COUNTIF(L10:L12,Y20)","v":0},null,null,null,2212,{"$f":"COUNTIF(L13:L14,AD20)","v":0},null,null,null,2212,{"$f":"COUNTIF(L15:L17,AI20)","v":0},null,null,null,2212,{"$f":"COUNTIF(L18:L20,AN20)","v":0},null,null,null,2212,{"$f":"COUNTIF(L21:L23,AS20)","v":0}]
[21,1889,12,1904,13,1911,14,1916,null,null,0,2111,null,2221,0,0,0,null,null,2221,{"$f":"COUNTIF(L7:L9,T21)","v":0},{"$f":"U21/(W4-U20)","v":0},{"$f":"IF(V21=0,0,(V21*((LOG(V21))/LOG(2))))","v":0},null,2221,{"$f":"COUNTIF(L10:L12,Y21)","v":0},{"$f":"Z21/(AB4-Z20)","v":0},{"$f":"IF(AA21=0,0,(AA21*((LOG(AA21))/LOG(2))))","v":0},null,2221,{"$f":"COUNTIF(L13:L14,AD21)","v":0},{"$f":"AE21/(AG4-AE20)","v":0},{"$f":"IF(AF21=0,0,(AF21*((LOG(AF21))/LOG(2))))","v":0},null,2221,{"$f":"COUNTIF(L15:L17,AI21)","v":0},{"$f":"AJ21/(AL4-AJ20)","v":0},{"$f":"IF(AK21=0,0,(AK21*((LOG(AK21))/LOG(2))))","v":0},null,2221,{"$f":"COUNTIF(L18:L20,AN21)","v":0},{"$f":"AO21/(AQ4-AO20)","v":0},{"$f":"IF(AP21=0,0,(AP21*((LOG(AP21))/LOG(2))))","v":0},null,2221,{"$f":"COUNTIF(L21:L23,AS21)","v":0},{"$f":"AT21/(AV4-AT20)","v":0},{"$f":"IF(AU21=0,0,(AU21*((LOG(AU21))/LOG(2))))","v":0}]
[12,2015,14,2023,13,2029,14,2036,null,null,0,1111,null,2222,0,0,0,null,null,2222,{"$f":"COUNTIF(L7:L9,T22)","v":0},{"$f":"U22/(W4-U20)","v":0},{"$f":"IF(V22=0,0,(V22*((LOG(V22))/LOG(2))))","v":0},null,2222,{"$f":"COUNTIF(L10:L12,Y22)","v":0},{"$f":"Z22/(AB4-Z20)","v":0},{"$f":"IF(AA22=0,0,(AA22*((LOG(AA22))/LOG(2))))","v":0},null,2222,{"$f":"COUNTIF(L13:L14,AD22)","v":0},{"$f":"AE22/(AG4-AE20)","v":0},{"$f":"IF(AF22=0,0,(AF22*((LOG(AF22))/LOG(2))))","v":0},null,2222,{"$f":"COUNTIF(L15:L17,AI22)","v":0},{"$f":"AJ22/(AL4-AJ20)","v":0},{"$f":"IF(AK22=0,0,(AK22*((LOG(AK22))/LOG(2))))","v":0},null,2222,{"$f":"COUNTIF(L18:L20,AN22)","v":0},{"$f":"AO22/(AQ4-AO20)","v":0},{"$f":"IF(AP22=0,0,(AP22*((LOG(AP22))/LOG(2))))","v":0},null,2222,{"$f":"COUNTIF(L21:L23,AS22)","v":0},{"$f":"AT22/(AV4-AT20)","v":0},{"$f":"IF(AU22=0,0,(AU22*((LOG(AU22))/LOG(2))))","v":0}]
[21,2141,12,2152,13,2157,14,2162,null,null,0,2111,null,null,null,{"$f":"SUM(P7:P22)","v":1},{"$f":"-SUM(Q7:Q22)","v":1.9386790169573502},null,null,null,null,{"$f":"SUM(V7:V22)","v":1},{"$f":"-SUM(W7:W22)","v":1.5849625007211559},null,null,null,{"$f":"SUM(AA7:AA22)","v":1},{"$f":"-SUM(AB7:AB22)","v":0.91829583405448945},null,null,null,{"$f":"SUM(AF7:AF22)","v":1},{"$f":"-SUM(AG7:AG22)","v":1},null,null,null,{"$f":"SUM(AK7:AK22)","v":1},{"$f":"-SUM(AL7:AL22)","v":0.91829583405448945},null,null,null,{"$f":"SUM(AP7:AP22)","v":1},{"$f":"-SUM(AQ7:AQ22)","v":0.91829583405448945},null,null,null,{"$f":"SUM(AU7:AU22)","v":1},{"$f":"-SUM(AV7:AV22)","v":0.91829583405448945}]
[null,null,null,null,null,null,null,null,null,null,null,null,null,null,null,"U=",{"$f":"Q23/(LOG(Q4)/LOG(2))","v":0.47429887249184527},null,null,null,null,"U1=",{"$f":"W23/(LOG(W4)/LOG(2))","v":0.99999999999999989},null,null,null,"U2=",{"$f":"AB23/(LOG(AB4)/LOG(2))","v":0.57938016428569505},null,null,null,"U3=",{"$f":"AG23/(LOG(AG4)/LOG(2))","v":1},null,null,null,"U4=",{"$f":"AL23/(LOG(AL4)/LOG(2))","v":0.57938016428569505},null,null,null,"U5=",{"$f":"AQ23/(LOG(AQ4)/LOG(2))","v":0.57938016428569505},null,null,null,"U6=",{"$f":"AV23/(LOG(AV4)/LOG(2))","v":0.57938016428569505}]
[]
[]
[null,null,null,null,null,null,null,null,null,null,null,null,null,"Total Target Seq"]
[null,null,null,null,null,null,null,null,null,null,null,null,null,{"$f":"COUNTIF(L7:L23,G3)","v":0},null,3,3,2,3,3,3]
[null,null,null,null,null,null,null,null,null,null,null,null,null,null,null,"% of reinforcement given in 6 equal intervals based on number of trials "]
[null,null,null,null,null,null,null,null,null,null,null,null,null,null,null,"%_1","%_2","%_3","%_4","%_5","%_6"]
[null,null,null,null,null,null,null,null,null,null,null,null,null,null,"target sequence",{"$f":"$G$3","v":2212},2212,2212,2212,2212,2212]
[null,null,null,null,null,null,null,null,null,null,null,null,null,null,"total reinforcement",{"$f":"U20","v":0},{"$f":"Z20","v":0},{"$f":"AE20","v":0},{"$f":"AJ20","v":0},{"$f":"AO20","v":0},{"$f":"AT20","v":0}]
[null,null,null,null,null,null,null,null,null,null,null,null,null,null,"% target"]
[null,null,null,null,null,null,null,null,null,null,null,null,null,null,"CCRF"]
[null,null,null,null,null,null,null,null,null,null,null,null,null,null,"% CCRf"]
[null,null,null,null,null,null,null,null,null,null,null,null,null,null,"average response rate",{"$f":"H9/P28","v":97.333333333333329},{"$f":"(H12-H9)/Q28","v":148},{"$f":"(H14-H12)/R28","v":118.5},{"$f":"(H17-H14)/S28","v":129.66666666666666},{"$f":"(H20-H17)/T28","v":139},{"$f":"(H23-H20)/U28","v":127.66666666666667}]

{"sheet":"!LB12A15..Du","index":12,"n_rows":182,"n_cols":48,"rows_kept":182,"cut":false,"hidden":false,"merged":[[1,1,1,2],[5,13,5,14],[26,13,26,14],[27,13,27,14],[4,19,4,22],[5,19,5,20],[4,39,4,42],[5,39,5,40],[4,44,4,47],[5,44,5,45],[4,24,4,27],[5,24,5,25],[4,29,4,32],[5,29,5,30],[4,34,4,37],[5,34,5,35]]}
["Report for:!LB12A15..Du"]
["Date:","<date>"]
["Hen:","<hen>",null,null,null,"Correct Sequence",{"$f":"Start!J2","v":2212},null,null,null,null,null,null,null,null,"Total Sequences in Data",{"$f":"4994-COUNTBLANK(L7:L5000)","v":176},null,null,null,null,"Total Sequences in Block Data",{"$f":"COUNTA(L7:L35)","v":29},null,null,null,"Total Sequences in Block Data",{"$f":"COUNTA(L36:L65)","v":30},null,null,null,"Total Sequences in Block Data",{"$f":"COUNTA(L66:L94)","v":29},null,null,null,"Total Sequences in Block Data",{"$f":"COUNTA(L95:L123)","v":29},null,null,null,"Total Sequences in Block Data",{"$f":"COUNTA(L124:L153)","v":30},null,null,null,"Total Sequences in Block Data",{"$f":"COUNTA(L154:L182)","v":29}]
[null,null,null,null,null,null,null,null,null,null,null,null,null,null,null,"Total Sequences in Summary",{"$f":"SUM(O7:O22)","v":175},null,null,null,null,"Total Sequences in Block Summary",{"$f":"SUM(U7:U22)","v":29},null,null,null,"Total Sequences in Block Summary",{"$f":"SUM(Z7:Z22)","v":30},null,null,null,"Total Sequences in Block Summary",{"$f":"SUM(AE7:AE22)","v":29},null,null,null,"Total Sequences in Block Summary",{"$f":"SUM(AJ7:AJ22)","v":29},null,null,null,"Total Sequences in Block Summary",{"$f":"SUM(AO7:AO22)","v":30},null,null,null,"Total Sequences in Block Summary",{"$f":"SUM(AT7:AT22)","v":28}]
[null,null,null,null,null,null,null,null,null,null,null,null,null,null,null,null,null,null,null,"Block 1",null,null,null,null,"Block 2",null,null,null,null,"Block 3",null,null,null,null,"Block 4",null,null,null,null,"Block 5",null,null,null,null,"Block 6"]
["Sequence\nComponent\n1","Time\n1","Sequence\nComponent\n2","Time\n2","Sequence\nComponent\n3","Time\n3","Sequence\nComponent\n4","Time\n4","Sequence\nComponent\n5","Time\n5","Correct?\n0=No 1=Yes","Sequence",null,"Frequency",null,"Relative Frequency","Variability",null,null,"Frequency",null,"Relative Frequency","Variability",null,"Frequency",null,"Relative Frequency","Variability",null,"Frequency",null,"Relative Frequency","Variability",null,"Frequency",null,"Relative Frequency","Variability",null,"Frequency",null,"Relative Frequency","Variability",null,"Frequency",null,"Relative Frequency","Variability"]
[12,34,14,39,13,45,14,51,null,null,0,1111,null,1111,{"$f":"COUNTIF($L$7:$L$500,N7)","v":127},{"$f":"O7/$Q$4","v":0.72571428571428576},{"$f":"IF(P7=0,0,(P7*((LOG(P7))/LOG(2))))","v":-0.33566203418651824},null,null,{"$f":"N7","v":1111},{"$f":"COUNTIF(L7:L35,T7)","v":21},{"$f":"U7/(W4-U20)","v":0.72413793103448276},{"$f":"IF(V7=0,0,(V7*((LOG(V7))/LOG(2))))","v":-0.33720465583879472},null,{"$f":"N7","v":1111},{"$f":"COUNTIF(L36:L65,Y7)","v":23},{"$f":"Z7/(AB4-Z20)","v":0.76666666666666672},{"$f":"IF(AA7=0,0,(AA7*((LOG(AA7))/LOG(2))))","v":-0.2938852903228209},null,{"$f":"N7","v":1111},{"$f":"COUNTIF(L66:L94,AD7)","v":18},{"$f":"AE7/(AG4-AE20)","v":0.62068965517241381},{"$f":"IF(AF7=0,0,(AF7*((LOG(AF7))/LOG(2))))","v":-0.4270692374598164},null,{"$f":"N7","v":1111},{"$f":"COUNTIF(L95:L123,AI7)","v":19},{"$f":"AJ7/(AL4-AJ20)","v":0.65517241379310343},{"$f":"IF(AK7=0,0,(AK7*((LOG(AK7))/LOG(2))))","v":-0.39969021213778433},null,{"$f":"N7","v":1111},{"$f":"COUNTIF(L124:L153,AN7)","v":20},{"$f":"AO7/(AQ4-AO20)","v":0.66666666666666663},{"$f":"IF(AP7=0,0,(AP7*((LOG(AP7))/LOG(2))))","v":-0.38997500048077083},null,{"$f":"N7","v":1111},{"$f":"COUNTIF(L154:L182,AS7)","v":26},{"$f":"AT7/(AV4-AT20)","v":0.9285714285714286},{"$f":"IF(AU7=0,0,(AU7*((LOG(AU7))/LOG(2))))","v":-9.9278403636761048E-2}]
[12,158,14,163,13,169,14,176,null,null,0,1111,null,1112,0,0,0,null,null,1112,{"$f":"COUNTIF(L7:L35,T8)","v":0},{"$f":"U8/(W4-U20)","v":0},0,null,1112,{"$f":"COUNTIF(L36:L65,Y8)","v":0},{"$f":"Z8/(AB4-Z20)","v":0},0,null,1112,{"$f":"COUNTIF(L66:L94,AD8)","v":0},{"$f":"AE8/(AG4-AE20)","v":0},0,null,1112,{"$f":"COUNTIF(L95:L123,AI8)","v":0},{"$f":"AJ8/(AL4-AJ20)","v":0},0,null,1112,{"$f":"COUNTIF(L124:L153,AN8)","v":0},{"$f":"AO8/(AQ4-AO20)","v":0},0,null,1112,{"$f":"COUNTIF(L154:L182,AS8)","v":0},{"$f":"AT8/(AV4-AT20)","v":0},0]
[21,278,12,288,13,295,14,300,null,null,0,2111,null,1121,1,5.7142857142857143E-3,-4.2578349210470448E-2,null,null,1121,{"$f":"COUNTIF(L7:L35,T9)","v":0},{"$f":"U9/(W4-U20)","v":0},0,null,1121,{"$f":"COUNTIF(L36:L65,Y9)","v":0},{"$f":"Z9/(AB4-Z20)","v":0},0,null,1121,{"$f":"COUNTIF(L66:L94,AD9)","v":0},{"$f":"AE9/(AG4-AE20)","v":0},0,null,1121,{"$f":"COUNTIF(L95:L123,AI9)","v":0},{"$f":"AJ9/(AL4-AJ20)","v":0},0,null,1121,{"$f":"COUNTIF(L124:L153,AN9)","v":1},{"$f":"AO9/(AQ4-AO20)","v":3.3333333333333333E-2},-0.16356301985361729,null,1121,{"$f":"COUNTIF(L154:L182,AS9)","v":0},{"$f":"AT9/(AV4-AT20)","v":0},0]
[12,401,14,406,13,414,14,420,null,null,0,1111,null,1122,2,1.1428571428571429E-2,-7.3728126992369469E-2,null,null,1122,{"$f":"COUNTIF(L7:L35,T10)","v":1},{"$f":"U10/(W4-U20)","v":3.4482758620689655E-2},-0.16751658603888178,null,1122,{"$f":"COUNTIF(L36:L65,Y10)","v":0},{"$f":"Z10/(AB4-Z20)","v":0},0,null,1122,{"$f":"COUNTIF(L66:L94,AD10)","v":0},{"$f":"AE10/(AG4-AE20)","v":0},0,null,1122,{"$f":"COUNTIF(L95:L123,AI10)","v":1},{"$f":"AJ10/(AL4-AJ20)","v":3.4482758620689655E-2},-0.16751658603888178,null,1122,{"$f":"COUNTIF(L124:L153,AN10)","v":0},{"$f":"AO10/(AQ4-AO20)","v":0},0,null,1122,{"$f":"COUNTIF(L154:L182,AS10)","v":0},{"$f":"AT10/(AV4-AT20)","v":0},0]
[21,518,12,530,13,533,14,539,null,null,0,2111,null,1211,6,3.4285714285714287E-2,-0.16684280952381164,null,null,1211,{"$f":"COUNTIF(L7:L35,T11)","v":0},{"$f":"U11/(W4-U20)","v":0},0,null,1211,{"$f":"COUNTIF(L36:L65,Y11)","v":3},{"$f":"Z11/(AB4-Z20)","v":0.1},-0.33219280948873625,null,1211,{"$f":"COUNTIF(L66:L94,AD11)","v":2},{"$f":"AE11/(AG4-AE20)","v":6.8965517241379309E-2},-0.26606765483638428,null,1211,{"$f":"COUNTIF(L95:L123,AI11)","v":1},{"$f":"AJ11/(AL4-AJ20)","v":3.4482758620689655E-2},-0.16751658603888178,null,1211,{"$f":"COUNTIF(L124:L153,AN11)","v":0},{"$f":"AO11/(AQ4-AO20)","v":0},0,null,1211,{"$f":"COUNTIF(L154:L182,AS11)","v":0},{"$f":"AT11/(AV4-AT20)","v":0},0]
[12,643,14,645,13,651,14,655,null,null,0,1111,null,1212,0,0,0,null,null,1212,{"$f":"COUNTIF(L7:L35,T12)","v":0},{"$f":"U12/(W4-U20)","v":0},0,null,1212,{"$f":"COUNTIF(L36:L65,Y12)","v":0},{"$f":"Z12/(AB4-Z20)","v":0},0,null,1212,{"$f":"COUNTIF(L66:L94,AD12)","v":0},{"$f":"AE12/(AG4-AE20)","v":0},0,null,1212,{"$f":"COUNTIF(L95:L123,AI12)","v":0},{"$f":"AJ12/(AL4-AJ20)","v":0},0,null,1212,{"$f":"COUNTIF(L124:L153,AN12)","v":0},{"$f":"AO12/(AQ4-AO20)","v":0},0,null,1212,{"$f":"COUNTIF(L154:L182,AS12)","v":0},{"$f":"AT12/(AV4-AT20)","v":0},0]
[12,755,14,760,13,765,14,772,null,null,0,1111,null,1221,1,5.7142857142857143E-3,-4.2578349210470448E-2,null,null,1221,{"$f":"COUNTIF(L7:L35,T13)","v":0},{"$f":"U13/(W4-U20)","v":0},0,null,1221,{"$f":"COUNTIF(L36:L65,Y13)","v":0},{"$f":"Z13/(AB4-Z20)","v":0},0,null,1221,{"$f":"COUNTIF(L66:L94,AD13)","v":0},{"$f":"AE13/(AG4-AE20)","v":0},0,null,1221,{"$f":"COUNTIF(L95:L123,AI13)","v":0},{"$f":"AJ13/(AL4-AJ20)","v":0},0,null,1221,{"$f":"COUNTIF(L124:L153,AN13)","v":1},{"$f":"AO13/(AQ4-AO20)","v":3.3333333333333333E-2},-0.16356301985361729,null,1221,{"$f":"COUNTIF(L154:L182,AS13)","v":0},{"$f":"AT13/(AV4-AT20)","v":0},0]
[12,891,14,897,13,903,14,908,null,null,0,1111,null,1222,2,1.1428571428571429E-2,-7.3728126992369469E-2,null,null,1222,{"$f":"COUNTIF(L7:L35,T14)","v":0},{"$f":"U14/(W4-U20)","v":0},0,null,1222,{"$f":"COUNTIF(L36:L65,Y14)","v":2},{"$f":"Z14/(AB4-Z20)","v":6.6666666666666666E-2},-0.26045937304056793,null,1222,{"$f":"COUNTIF(L66:L94,AD14)","v":0},{"$f":"AE14/(AG4-AE20)","v":0},0,null,1222,{"$f":"COUNTIF(L95:L123,AI14)","v":0},{"$f":"AJ14/(AL4-AJ20)","v":0},0,null,1222,{"$f":"COUNTIF(L124:L153,AN14)","v":0},{"$f":"AO14/(AQ4-AO20)","v":0},0,null,1222,{"$f":"COUNTIF(L154:L182,AS14)","v":0},{"$f":"AT14/(AV4-AT20)","v":0},0]
[12,1005,14,1011,13,1015,14,1021,null,null,0,1111,null,2111,32,0.18285714285714286,-0.44822146044934014,null,null,2111,{"$f":"COUNTIF(L7:L35,T15)","v":6},{"$f":"U15/(W4-U20)","v":0.20689655172413793},-0.4702796884978791,null,2111,{"$f":"COUNTIF(L36:L65,Y15)","v":2},{"$f":"Z15/(AB4-Z20)","v":6.6666666666666666E-2},-0.26045937304056793,null,2111,{"$f":"COUNTIF(L66:L94,AD15)","v":6},{"$f":"AE15/(AG4-AE20)","v":0.20689655172413793},-0.4702796884978791,null,2111,{"$f":"COUNTIF(L95:L123,AI15)","v":8},{"$f":"AJ15/(AL4-AJ20)","v":0.27586206896551724},-0.51254648141450265,null,2111,{"$f":"COUNTIF(L124:L153,AN15)","v":8},{"$f":"AO15/(AQ4-AO20)","v":0.26666666666666666},-0.50850415882893829,null,2111,{"$f":"COUNTIF(L154:L182,AS15)","v":2},{"$f":"AT15/(AV4-AT20)","v":7.1428571428571425E-2},-0.27195392300411453]
[21,1129,12,1141,13,1145,14,1152,null,null,0,2111,null,2112,0,0,0,null,null,2112,{"$f":"COUNTIF(L7:L35,T16)","v":0},{"$f":"U16/(W4-U20)","v":0},0,null,2112,{"$f":"COUNTIF(L36:L65,Y16)","v":0},{"$f":"Z16/(AB4-Z20)","v":0},0,null,2112,{"$f":"COUNTIF(L66:L94,AD16)","v":0},{"$f":"AE16/(AG4-AE20)","v":0},0,null,2112,{"$f":"COUNTIF(L95:L123,AI16)","v":0},{"$f":"AJ16/(AL4-AJ20)","v":0},0,null,2112,{"$f":"COUNTIF(L124:L153,AN16)","v":0},{"$f":"AO16/(AQ4-AO20)","v":0},0,null,2112,{"$f":"COUNTIF(L154:L182,AS16)","v":0},{"$f":"AT16/(AV4-AT20)","v":0},0]
[21,1370,12,1388,24,1405,23,1410,null,null,0,2122,null,2121,0,0,0,null,null,2121,{"$f":"COUNTIF(L7:L35,T17)","v":0},{"$f":"U17/(W4-U20)","v":0},0,null,2121,{"$f":"COUNTIF(L36:L65,Y17)","v":0},{"$f":"Z17/(AB4-Z20)","v":0},0,null,2121,{"$f":"COUNTIF(L66:L94,AD17)","v":0},{"$f":"AE17/(AG4-AE20)","v":0},0,null,2121,{"$f":"COUNTIF(L95:L123,AI17)","v":0},{"$f":"AJ17/(AL4-AJ20)","v":0},0,null,2121,{"$f":"COUNTIF(L124:L153,AN17)","v":0},{"$f":"AO17/(AQ4-AO20)","v":0},0,null,2121,{"$f":"COUNTIF(L154:L182,AS17)","v":0},{"$f":"AT17/(AV4-AT20)","v":0},0]
[12,1504,14,1513,13,1519,14,1537,null,null,0,1111,null,2122,1,5.7142857142857143E-3,-4.2578349210470448E-2,null,null,2122,{"$f":"COUNTIF(L7:L35,T18)","v":1},{"$f":"U18/(W4-U20)","v":3.4482758620689655E-2},-0.16751658603888178,null,2122,{"$f":"COUNTIF(L36:L65,Y18)","v":0},{"$f":"Z18/(AB4-Z20)","v":0},0,null,2122,{"$f":"COUNTIF(L66:L94,AD18)","v":0},{"$f":"AE18/(AG4-AE20)","v":0},0,null,2122,{"$f":"COUNTIF(L95:L123,AI18)","v":0},{"$f":"AJ18/(AL4-AJ20)","v":0},0,null,2122,{"$f":"COUNTIF(L124:L153,AN18)","v":0},{"$f":"AO18/(AQ4-AO20)","v":0},0,null,2122,{"$f":"COUNTIF(L154:L182,AS18)","v":0},{"$f":"AT18/(AV4-AT20)","v":0},0]
[12,1634,14,1658,13,1664,14,1670,null,null,0,1111,null,2211,2,1.1428571428571429E-2,-7.3728126992369469E-2,null,null,2211,{"$f":"COUNTIF(L7:L35,T19)","v":0},{"$f":"U19/(W4-U20)","v":0},0,null,2211,{"$f":"COUNTIF(L36:L65,Y19)","v":0},{"$f":"Z19/(AB4-Z20)","v":0},0,null,2211,{"$f":"COUNTIF(L66:L94,AD19)","v":2},{"$f":"AE19/(AG4-AE20)","v":6.8965517241379309E-2},-0.26606765483638428,null,2211,{"$f":"COUNTIF(L95:L123,AI19)","v":0},{"$f":"AJ19/(AL4-AJ20)","v":0},0,null,2211,{"$f":"COUNTIF(L124:L153,AN19)","v":0},{"$f":"AO19/(AQ4-AO20)","v":0},0,null,2211,{"$f":"COUNTIF(L154:L182,AS19)","v":0},{"$f":"AT19/(AV4-AT20)","v":0},0]
[12,1862,14,1873,13,1880,14,1886,null,null,0,1111,null,2212,0,0,0,null,null,2212,{"$f":"COUNTIF(L7:L35,T20)","v":0},null,null,null,2212,{"$f":"COUNTIF(L36:L65,Y20)","v":0},null,null,null,2212,{"$f":"COUNTIF(L66:L94,AD20)","v":0},null,null,null,2212,{"$f":"COUNTIF(L95:L123,AI20)","v":0},null,null,null,2212,{"$f":"COUNTIF(L124:L153,AN20)","v":0},null,null,null,2212,{"$f":"COUNTIF(L154:L182,AS20)","v":0}]
[21,1983,12,1994,13,1999,14,2006,null,null,0,2111,null,2221,1,5.7142857142857143E-3,-4.2578349210470448E-2,null,null,2221,{"$f":"COUNTIF(L7:L35,T21)","v":0},{"$f":"U21/(W4-U20)","v":0},{"$f":"IF(V21=0,0,(V21*((LOG(V21))/LOG(2))))","v":0},null,2221,{"$f":"COUNTIF(L36:L65,Y21)","v":0},{"$f":"Z21/(AB4-Z20)","v":0},{"$f":"IF(AA21=0,0,(AA21*((LOG(AA21))/LOG(2))))","v":0},null,2221,{"$f":"COUNTIF(L66:L94,AD21)","v":1},{"$f":"AE21/(AG4-AE20)","v":3.4482758620689655E-2},{"$f":"IF(AF21=0,0,(AF21*((LOG(AF21))/LOG(2))))","v":-0.16751658603888178},null,2221,{"$f":"COUNTIF(L95:L123,AI21)","v":0},{"$f":"AJ21/(AL4-AJ20)","v":0},{"$f":"IF(AK21=0,0,(AK21*((LOG(AK21))/LOG(2))))","v":0},null,2221,{"$f":"COUNTIF(L124:L153,AN21)","v":0},{"$f":"AO21/(AQ4-AO20)","v":0},{"$f":"IF(AP21=0,0,(AP21*((LOG(AP21))/LOG(2))))","v":0},null,2221,{"$f":"COUNTIF(L154:L182,AS21)","v":0},{"$f":"AT21/(AV4-AT20)","v":0},{"$f":"IF(AU21=0,0,(AU21*((LOG(AU21))/LOG(2))))","v":0}]
[12,2112,14,2118,13,2124,14,2130,null,null,0,1111,null,2222,0,0,0,null,null,2222,{"$f":"COUNTIF(L7:L35,T22)","v":0},{"$f":"U22/(W4-U20)","v":0},{"$f":"IF(V22=0,0,(V22*((LOG(V22))/LOG(2))))","v":0},null,2222,{"$f":"COUNTIF(L36:L65,Y22)","v":0},{"$f":"Z22/(AB4-Z20)","v":0},{"$f":"IF(AA22=0,0,(AA22*((LOG(AA22))/LOG(2))))","v":0},null,2222,{"$f":"COUNTIF(L66:L94,AD22)","v":0},{"$f":"AE22/(AG4-AE20)","v":0},{"$f":"IF(AF22=0,0,(AF22*((LOG(AF22))/LOG(2))))","v":0},null,2222,{"$f":"COUNTIF(L95:L123,AI22)","v":0},{"$f":"AJ22/(AL4-AJ20)","v":0},{"$f":"IF(AK22=0,0,(AK22*((LOG(AK22))/LOG(2))))","v":0},null,2222,{"$f":"COUNTIF(L124:L153,AN22)","v":0},{"$f":"AO22/(AQ4-AO20)","v":0},{"$f":"IF(AP22=0,0,(AP22*((LOG(AP22))/LOG(2))))","v":0},null,2222,{"$f":"COUNTIF(L154:L182,AS22)","v":0},{"$f":"AT22/(AV4-AT20)","v":0},{"$f":"IF(AU22=0,0,(AU22*((LOG(AU22))/LOG(2))))","v":0}]
[12,2228,14,2242,13,2248,14,2258,null,null,0,1111,null,null,null,{"$f":"SUM(P7:P22)","v":0.99999999999999989},{"$f":"-SUM(Q7:Q22)","v":1.3422240819786604},null,null,null,null,{"$f":"SUM(V7:V22)","v":0.99999999999999989},{"$f":"-SUM(W7:W22)","v":1.1425175164144374},null,null,null,{"$f":"SUM(AA7:AA22)","v":1},{"$f":"-SUM(AB7:AB22)","v":1.1469968458926931},null,null,null,{"$f":"SUM(AF7:AF22)","v":1},{"$f":"-SUM(AG7:AG22)","v":1.5970008216693459},null,null,null,{"$f":"SUM(AK7:AK22)","v":0.99999999999999989},{"$f":"-SUM(AL7:AL22)","v":1.2472698656300505},null,null,null,{"$f":"SUM(AP7:AP22)","v":1},{"$f":"-SUM(AQ7:AQ22)","v":1.2256051990169436},null,null,null,{"$f":"SUM(AU7:AU22)","v":1},{"$f":"-SUM(AV7:AV22)","v":0.37123232664087558}]
[12,2360,14,2363,13,2369,14,2374,null,null,0,1111,null,null,null,"U=",{"$f":"Q23/(LOG(Q4)/LOG(2))","v":0.18013502259347391},null,null,null,null,"U1=",{"$f":"W23/(LOG(W4)/LOG(2))","v":0.23518361178447439},null,null,null,"U2=",{"$f":"AB23/(LOG(AB4)/LOG(2))","v":0.23375227622136346},null,null,null,"U3=",{"$f":"AG23/(LOG(AG4)/LOG(2))","v":0.32873756057734604},null,null,null,"U4=",{"$f":"AL23/(LOG(AL4)/LOG(2))","v":0.25674655106329763},null,null,null,"U5=",{"$f":"AQ23/(LOG(AQ4)/LOG(2))","v":0.24977226924802723},null,null,null,"U6=",{"$f":"AV23/(LOG(AV4)/LOG(2))","v":7.7221743070716289E-2}]
[21,2521,12,2531,13,2535,14,2541,null,null,0,2111]
[12,2709,14,2717,13,2720,14,2727,null,null,0,1111]
[12,2911,14,2913,24,2923,23,2927,null,null,0,1122,null,"Total Target Seq"]
[12,3028,14,3037,13,3041,14,3046,null,null,0,1111,null,{"$f":"COUNTIF(L7:L182,G3)","v":0},null,29,30,29,29,30,29]
[21,3149,12,3161,13,3167,14,3172,null,null,0,2111,null,null,null,"% of reinforcement given in 6 equal intervals based on number of trials "]
[12,3292,14,3295,13,3301,14,3308,null,null,0,1111,null,null,null,"%_1","%_2","%_3","%_4","%_5","%_6"]
[12,3453,14,3458,13,3465,14,3471,null,null,0,1111,null,null,"target sequence",{"$f":"$G$3","v":2212},2212,2212,2212,2212,2212]
[12,3571,14,3582,13,3588,14,3594,null,null,0,1111,null,null,"total reinforcement",{"$f":"U20","v":0},{"$f":"Z20","v":0},{"$f":"AE20","v":0},{"$f":"AJ20","v":0},{"$f":"AO20","v":0},{"$f":"AT20","v":0}]
[12,3766,14,3773,13,3779,14,3785,null,null,0,1111,null,null,"% target"]
[12,3880,14,3886,13,3892,14,3896,null,null,0,1111,null,null,"CCRF"]
[12,3992,14,3997,13,4003,14,4009,null,null,0,1111,null,null,"% CCRf"]
[12,4119,14,4124,13,4129,14,4136,null,null,0,1111,null,null,"average response rate",{"$f":"H35/P28","v":138.24137931034483},{"$f":"(H65-H35)/Q28","v":126.63333333333334},{"$f":"(H94-H65)/R28","v":132.06896551724137},{"$f":"(H123-H94)/S28","v":151.44827586206895},{"$f":"(H153-H123)/T28","v":137.23333333333332},{"$f":"(H182-H153)/U28","v":-694.72413793103453}]
[12,4251,14,4259,13,4264,14,4269,null,null,0,1111]
[12,4365,14,4367,13,4371,14,4378,null,null,0,1111]
[12,4476,14,4482,13,4488,14,4494,null,null,0,1111]
[12,4592,14,4598,13,4604,14,4611,null,null,0,1111]
[12,4773,14,4777,13,4783,14,4789,null,null,0,1111]
[12,4935,14,4940,13,4947,14,4953,null,null,0,1111]
[12,5047,23,5061,24,5065,23,5071,null,null,0,1222]
[12,5164,14,5169,13,5175,14,5181,null,null,0,1111]
[12,5279,14,5285,13,5291,14,5293,null,null,0,1111]
[12,5403,14,5409,13,5415,14,5422,null,null,0,1111]
[12,5526,14,5531,13,5535,14,5542,null,null,0,1111]
[12,5639,23,5652,13,5663,14,5668,null,null,0,1211]
[12,5787,14,5794,13,5800,14,5806,null,null,0,1111]
[12,5936,14,5941,13,5947,14,5953,null,null,0,1111]
[12,6059,14,6065,13,6072,14,6078,null,null,0,1111]
[12,6183,23,6195,13,6207,14,6212,null,null,0,1211]
[12,6321,14,6327,13,6331,14,6336,null,null,0,1111]
[12,6436,23,6446,24,6451,23,6456,null,null,0,1222]
[12,6553,14,6565,13,6570,14,6576,null,null,0,1111]
[12,6678,14,6685,13,6690,14,6696,null,null,0,1111]
[12,6802,14,6806,13,6811,14,6816,null,null,0,1111]
[12,6913,14,6918,13,6925,14,6930,null,null,0,1111]
[12,7035,23,7049,13,7065,14,7071,null,null,0,1211]
[12,7181,14,7188,13,7193,14,7199,null,null,0,1111]
[21,7322,12,7332,13,7336,14,7342,null,null,0,2111]
[12,7438,14,7448,13,7454,14,7460,null,null,0,1111]
[12,7554,14,7559,13,7565,14,7570,null,null,0,1111]
[12,7666,14,7672,13,7678,14,7685,null,null,0,1111]
[21,7784,12,7796,13,7802,14,7808,null,null,0,2111]
[12,7911,14,7927,13,7934,14,7940,null,null,0,1111]
[12,8037,23,8053,13,8065,14,8069,null,null,0,1211]
[12,8170,14,8176,13,8182,14,8189,null,null,0,1111]
[12,8352,14,8359,13,8364,14,8370,null,null,0,1111]
[21,8464,12,8473,13,8487,14,8493,null,null,0,2111]
[12,8588,14,8597,13,8604,14,8611,null,null,0,1111]
[12,8717,14,8721,13,8723,14,8729,null,null,0,1111]
[21,8824,21,8841,11,8855,12,8860,null,null,0,2211]
[21,8958,12,8974,13,8982,14,8996,null,null,0,2111]
[12,9101,14,9108,13,9111,14,9114,null,null,0,1111]
[12,9216,23,9222,13,9237,14,9242,null,null,0,1211]
[12,9354,14,9359,13,9367,14,9371,null,null,0,1111]
[12,9519,14,9532,13,9538,14,9543,null,null,0,1111]
[12,9655,14,9660,13,9666,14,9671,null,null,0,1111]
[21,9780,12,9796,13,9801,14,9807,null,null,0,2111]
[12,9913,14,9920,13,9926,14,9932,null,null,0,1111]
[12,10027,14,10032,13,10036,14,10043,null,null,0,1111]
[21,10151,12,10167,13,10173,14,10179,null,null,0,2111]
[12,10294,14,10301,13,10307,14,10313,null,null,0,1111]
[21,10436,21,10441,11,10456,12,10461,null,null,0,2211]
[12,10560,14,10567,13,10578,14,10583,null,null,0,1111]
[12,10678,14,10689,13,10696,14,10702,null,null,0,1111]
[21,10802,21,10809,22,10828,14,10842,null,null,0,2221]
[21,10974,12,10986,13,10992,14,10998,null,null,0,2111]
[12,11109,14,11120,13,11126,14,11132,null,null,0,1111]
[12,11232,14,11240,13,11246,14,11253,null,null,0,1111]
[12,11351,14,11356,13,11361,14,11367,null,null,0,1111]
[21,11503,12,11515,13,11521,14,11528,null,null,0,2111]
[12,11621,14,11625,13,11632,14,11638,null,null,0,1111]
[12,11735,14,11745,13,11752,14,11757,null,null,0,1111]
[21,11873,12,11895,13,11901,14,11907,null,null,0,2111]
[12,12018,14,12022,13,12028,14,12033,null,null,0,1111]
[12,12227,14,12230,24,12241,23,12245,null,null,0,1122]
[12,12353,14,12358,13,12364,14,12370,null,null,0,1111]
[21,12491,12,12507,13,12512,14,12518,null,null,0,2111]
[12,12647,14,12653,13,12658,14,12665,null,null,0,1111]
[21,12780,12,12792,13,12801,14,12807,null,null,0,2111]
[12,13190,14,13200,13,13205,14,13213,null,null,0,1111]
[12,13391,14,13402,13,13409,14,13414,null,null,0,1111]
[21,13507,12,13521,13,13527,14,13534,null,null,0,2111]
[12,13638,14,13642,13,13648,14,13649,null,null,0,1111]
[12,13746,14,13754,13,13762,14,13769,null,null,0,1111]
[12,13885,14,13892,13,13899,14,13904,null,null,0,1111]
[12,14014,14,14026,13,14033,14,14040,null,null,0,1111]
[12,14137,23,14148,13,14162,14,14167,null,null,0,1211]
[12,14388,14,14393,13,14398,14,14403,null,null,0,1111]
[21,14514,12,14526,13,14531,14,14541,null,null,0,2111]
[12,14636,14,14653,13,14659,14,14666,null,null,0,1111]
[12,14761,14,14768,13,14774,14,14781,null,null,0,1111]
[12,14884,14,14892,13,14898,14,14903,null,null,0,1111]
[12,15041,14,15047,13,15053,14,15060,null,null,0,1111]
[21,15159,12,15169,13,15175,14,15181,null,null,0,2111]
[12,15288,14,15294,13,15300,14,15305,null,null,0,1111]
[12,15417,14,15424,13,15431,14,15436,null,null,0,1111]
[21,15549,12,15565,13,15569,14,15576,null,null,0,2111]
[21,15673,12,15687,13,15694,14,15698,null,null,0,2111]
[12,15881,14,15888,13,15894,14,15900,null,null,0,1111]
[12,16012,14,16019,13,16024,14,16030,null,null,0,1111]
[12,16244,14,16248,13,16253,14,16259,null,null,0,1111]
[21,16367,12,16379,13,16385,14,16391,null,null,0,2111]
[12,16488,14,16493,13,16500,14,16507,null,null,0,1111]
[21,16622,12,16635,13,16638,14,16645,null,null,0,2111]
[12,16742,14,16749,13,16759,14,16761,null,null,0,1111]
[12,16867,23,16877,24,16880,14,16891,null,null,0,1221]
[12,16987,14,16996,13,17007,14,17012,null,null,0,1111]
[12,17135,14,17141,13,17147,14,17152,null,null,0,1111]
[12,17340,14,17346,13,17351,14,17356,null,null,0,1111]
[12,17457,14,17463,13,17471,14,17488,null,null,0,1111]
[21,17581,12,17598,13,17604,14,17614,null,null,0,2111]
[12,17722,14,17726,13,17730,14,17736,null,null,0,1111]
[21,17842,12,17853,13,17859,14,17866,null,null,0,2111]
[21,17987,12,18002,13,18006,14,18011,null,null,0,2111]
[21,18128,12,18138,13,18141,14,18147,null,null,0,2111]
[12,18253,14,18257,13,18262,14,18268,null,null,0,1111]
[12,18369,14,18376,13,18382,14,18386,null,null,0,1111]
[12,18511,14,18517,13,18522,14,18528,null,null,0,1111]
[12,18672,14,18678,13,18684,14,18690,null,null,0,1111]
[12,18804,14,18808,13,18815,14,18819,null,null,0,1111]
[12,18944,14,18947,13,18954,14,18960,null,null,0,1111]
[12,19069,14,19073,13,19079,14,19085,null,null,0,1111]
[21,19182,12,19204,13,19211,14,19216,null,null,0,2111]
[12,19313,14,19319,13,19326,14,19330,null,null,0,1111]
[12,19440,14,19446,24,19460,14,19471,null,null,0,1121]
[12,19624,14,19631,13,19638,14,19643,null,null,0,1111]
[12,19745,14,19749,13,19755,14,19762,null,null,0,1111]
[12,19860,14,19863,13,19869,14,19874,null,null,0,1111]
[12,20001,14,20006,13,20011,14,20017,null,null,0,1111]
[21,20110,12,20136,13,20141,14,20147,null,null,0,2111]
[12,20247,14,20252,13,20258,14,20265,null,null,0,1111]
[12,20389,14,20394,13,20399,14,20415,null,null,0,1111]
[12,20510,14,20515,13,20521,14,20529,null,null,0,1111]
[12,20651,14,20656,13,20663,14,20668,null,null,0,1111]
[12,20780,14,20796,13,20801,14,20808,null,null,0,1111]
[12,20961,14,20966,13,20971,14,20978,null,null,0,1111]
[12,21102,14,21109,13,21113,14,21119,null,null,0,1111]
[12,21263,14,21270,13,21277,14,21282,null,null,0,1111]
[12,21381,14,21386,13,21392,14,21399,null,null,0,1111]
[12,21508,14,21511,13,21517,14,21523,null,null,0,1111]
[12,21629,14,21636,13,21644,14,21651,null,null,0,1111]
[12,21759,14,21768,13,21774,14,21780,null,null,0,1111]
[21,21891,12,21904,13,21910,14,21916,null,null,0,2111]
[21,22072,12,22084,13,22089,14,22095,null,null,0,2111]
[12,22191,14,22201,13,22207,14,22215,null,null,0,1111]
[12,22319,14,22324,13,22329,14,22338,null,null,0,1111]
[12,22436,14,22443,13,22450,14,22457,null,null,0,1111]
[12,22572,14,22578,13,22584,14,22590,null,null,0,1111]
[12,22704,14,22715,13,22722,14,22726,null,null,0,1111]
[12,22823,14,22824,13,22830,14,22836,null,null,0,1111]
[12,22934,14,22939,13,22943,14,22945,null,null,0,1111]
[12,23087,14,23091,13,23098,14,23111,null,null,0,1111]
[12,23218,14,23221,13,23229,14,23241,null,null,0,1111]
[12,23338,14,23343,13,23361,14,23371,null,null,0,1111]
[12,23470,14,23474,13,23479,14,23486,null,null,0,1111]
[12,23598,14,23605,13,23611,14,23617,null,null,0,1111]
[12,23743,14,23748,13,23754,14,23760,null,null,0,1111]
[12,23865,14,23875,13,23882,14,23887,null,null,0,1111]
[12,23994,14,23999,null,null,null,null,null,null,null,11]

{"sheet":"!LB13A25..Du","index":13,"n_rows":177,"n_cols":48,"rows_kept":177,"cut":false,"hidden":false,"merged":[[1,1,1,2],[5,13,5,14],[26,13,26,14],[27,13,27,14],[4,19,4,22],[5,19,5,20],[4,39,4,42],[5,39,5,40],[4,44,4,47],[5,44,5,45],[4,24,4,27],[5,24,5,25],[4,29,4,32],[5,29,5,30],[4,34,4,37],[5,34,5,35]]}
["Report for:!LB13A25..Du"]
["Date:","<date>"]
["Hen:","<hen>",null,null,null,"Correct Sequence",{"$f":"Start!J2","v":2212},null,null,null,null,null,null,null,null,"Total Sequences in Data",{"$f":"4994-COUNTBLANK(L7:L5000)","v":171},null,null,null,null,"Total Sequences in Block Data",{"$f":"COUNTA(L7:L35)","v":29},null,null,null,"Total Sequences in Block Data",{"$f":"COUNTA(L36:L63)","v":28},null,null,null,"Total Sequences in Block Data",{"$f":"COUNTA(L64:L92)","v":29},null,null,null,"Total Sequences in Block Data",{"$f":"COUNTA(L93:L120)","v":28},null,null,null,"Total Sequences in Block Data",{"$f":"COUNTA(L121:L149)","v":29},null,null,null,"Total Sequences in Block Data",{"$f":"COUNTA(L150:L177)","v":28}]
[null,null,null,null,null,null,null,null,null,null,null,null,null,null,null,"Total Sequences in Summary",{"$f":"SUM(O7:O22)","v":171},null,null,null,null,"Total Sequences in Block Summary",{"$f":"SUM(U7:U22)","v":29},null,null,null,"Total Sequences in Block Summary",{"$f":"SUM(Z7:Z22)","v":28},null,null,null,"Total Sequences in Block Summary",{"$f":"SUM(AE7:AE22)","v":29},null,null,null,"Total Sequences in Block Summary",{"$f":"SUM(AJ7:AJ22)","v":28},null,null,null,"Total Sequences in Block Summary",{"$f":"SUM(AO7:AO22)","v":29},null,null,null,"Total Sequences in Block Summary",{"$f":"SUM(AT7:AT22)","v":28}]
[null,null,null,null,null,null,null,null,null,null,null,null,null,null,null,null,null,null,null,"Block 1",null,null,null,null,"Block 2",null,null,null,null,"Block 3",null,null,null,null,"Block 4",null,null,null,null,"Block 5",null,null,null,null,"Block 6"]
["Sequence\nComponent\n1","Time\n1","Sequence\nComponent\n2","Time\n2","Sequence\nComponent\n3","Time\n3","Sequence\nComponent\n4","Time\n4","Sequence\nComponent\n5","Time\n5","Correct?\n0=No 1=Yes","Sequence",null,"Frequency",null,"Relative Frequency","Variability",null,null,"Frequency",null,"Relative Frequency","Variability",null,"Frequency",null,"Relative Frequency","Variability",null,"Frequency",null,"Relative Frequency","Variability",null,"Frequency",null,"Relative Frequency","Variability",null,"Frequency",null,"Relative Frequency","Variability",null,"Frequency",null,"Relative Frequency","Variability"]
[21,21,12,31,13,37,14,42,null,null,0,2111,null,1111,{"$f":"COUNTIF($L$7:$L$500,N7)","v":103},{"$f":"O7/$Q$4","v":0.60233918128654973},{"$f":"IF(P7=0,0,(P7*((LOG(P7))/LOG(2))))","v":-0.44052195750512269},null,null,{"$f":"N7","v":1111},{"$f":"COUNTIF(L7:L35,T7)","v":19},{"$f":"U7/(W4-U20)","v":0.65517241379310343},{"$f":"IF(V7=0,0,(V7*((LOG(V7))/LOG(2))))","v":-0.39969021213778433},null,{"$f":"N7","v":1111},{"$f":"COUNTIF(L36:L63,Y7)","v":17},{"$f":"Z7/(AB4-Z20)","v":0.6071428571428571},{"$f":"IF(AA7=0,0,(AA7*((LOG(AA7))/LOG(2))))","v":-0.43707733477583927},null,{"$f":"N7","v":1111},{"$f":"COUNTIF(L64:L92,AD7)","v":20},{"$f":"AE7/(AG4-AE20)","v":0.68965517241379315},{"$f":"IF(AF7=0,0,(AF7*((LOG(AF7))/LOG(2))))","v":-0.36969165533807569},null,{"$f":"N7","v":1111},{"$f":"COUNTIF(L93:L120,AI7)","v":15},{"$f":"AJ7/(AL4-AJ20)","v":0.5357142857142857},{"$f":"IF(AK7=0,0,(AK7*((LOG(AK7))/LOG(2))))","v":-0.48239160345486726},null,{"$f":"N7","v":1111},{"$f":"COUNTIF(L121:L149,AN7)","v":16},{"$f":"AO7/(AQ4-AO20)","v":0.55172413793103448},{"$f":"IF(AP7=0,0,(AP7*((LOG(AP7))/LOG(2))))","v":-0.47336882489797077},null,{"$f":"N7","v":1111},{"$f":"COUNTIF(L150:L177,AS7)","v":16},{"$f":"AT7/(AV4-AT20)","v":0.5714285714285714},{"$f":"IF(AU7=0,0,(AU7*((LOG(AU7))/LOG(2))))","v":-0.46134566974720237}]
[12,139,14,143,13,149,14,155,null,null,0,1111,null,1112,0,0,0,null,null,1112,{"$f":"COUNTIF(L7:L35,T8)","v":0},{"$f":"U8/(W4-U20)","v":0},0,null,1112,{"$f":"COUNTIF(L36:L63,Y8)","v":0},{"$f":"Z8/(AB4-Z20)","v":0},0,null,1112,{"$f":"COUNTIF(L64:L92,AD8)","v":0},{"$f":"AE8/(AG4-AE20)","v":0},0,null,1112,{"$f":"COUNTIF(L93:L120,AI8)","v":0},{"$f":"AJ8/(AL4-AJ20)","v":0},0,null,1112,{"$f":"COUNTIF(L121:L149,AN8)","v":0},{"$f":"AO8/(AQ4-AO20)","v":0},0,null,1112,{"$f":"COUNTIF(L150:L177,AS8)","v":0},{"$f":"AT8/(AV4-AT20)","v":0},0]
[21,264,12,276,13,281,14,287,null,null,0,2111,null,1121,0,0,0,null,null,1121,{"$f":"COUNTIF(L7:L35,T9)","v":0},{"$f":"U9/(W4-U20)","v":0},0,null,1121,{"$f":"COUNTIF(L36:L63,Y9)","v":0},{"$f":"Z9/(AB4-Z20)","v":0},0,null,1121,{"$f":"COUNTIF(L64:L92,AD9)","v":0},{"$f":"AE9/(AG4-AE20)","v":0},0,null,1121,{"$f":"COUNTIF(L93:L120,AI9)","v":0},{"$f":"AJ9/(AL4-AJ20)","v":0},0,null,1121,{"$f":"COUNTIF(L121:L149,AN9)","v":0},{"$f":"AO9/(AQ4-AO20)","v":0},0,null,1121,{"$f":"COUNTIF(L150:L177,AS9)","v":0},{"$f":"AT9/(AV4-AT20)","v":0},0]
[12,391,14,394,13,399,14,404,null,null,0,1111,null,1122,1,5.8479532163742687E-3,-4.3379254473016944E-2,null,null,1122,{"$f":"COUNTIF(L7:L35,T10)","v":0},{"$f":"U10/(W4-U20)","v":0},0,null,1122,{"$f":"COUNTIF(L36:L63,Y10)","v":1},{"$f":"Z10/(AB4-Z20)","v":3.5714285714285712E-2},-0.17169124721634299,null,1122,{"$f":"COUNTIF(L64:L92,AD10)","v":0},{"$f":"AE10/(AG4-AE20)","v":0},0,null,1122,{"$f":"COUNTIF(L93:L120,AI10)","v":0},{"$f":"AJ10/(AL4-AJ20)","v":0},0,null,1122,{"$f":"COUNTIF(L121:L149,AN10)","v":0},{"$f":"AO10/(AQ4-AO20)","v":0},0,null,1122,{"$f":"COUNTIF(L150:L177,AS10)","v":0},{"$f":"AT10/(AV4-AT20)","v":0},0]
[12,555,14,564,13,569,14,574,null,null,0,1111,null,1211,3,1.7543859649122806E-2,-0.10233140375727617,null,null,1211,{"$f":"COUNTIF(L7:L35,T11)","v":0},{"$f":"U11/(W4-U20)","v":0},0,null,1211,{"$f":"COUNTIF(L36:L63,Y11)","v":0},{"$f":"Z11/(AB4-Z20)","v":0},0,null,1211,{"$f":"COUNTIF(L64:L92,AD11)","v":0},{"$f":"AE11/(AG4-AE20)","v":0},0,null,1211,{"$f":"COUNTIF(L93:L120,AI11)","v":2},{"$f":"AJ11/(AL4-AJ20)","v":7.1428571428571425E-2},-0.27195392300411453,null,1211,{"$f":"COUNTIF(L121:L149,AN11)","v":1},{"$f":"AO11/(AQ4-AO20)","v":3.4482758620689655E-2},-0.16751658603888178,null,1211,{"$f":"COUNTIF(L150:L177,AS11)","v":0},{"$f":"AT11/(AV4-AT20)","v":0},0]
[12,693,14,698,13,711,14,716,null,null,0,1111,null,1212,0,0,0,null,null,1212,{"$f":"COUNTIF(L7:L35,T12)","v":0},{"$f":"U12/(W4-U20)","v":0},0,null,1212,{"$f":"COUNTIF(L36:L63,Y12)","v":0},{"$f":"Z12/(AB4-Z20)","v":0},0,null,1212,{"$f":"COUNTIF(L64:L92,AD12)","v":0},{"$f":"AE12/(AG4-AE20)","v":0},0,null,1212,{"$f":"COUNTIF(L93:L120,AI12)","v":0},{"$f":"AJ12/(AL4-AJ20)","v":0},0,null,1212,{"$f":"COUNTIF(L121:L149,AN12)","v":0},{"$f":"AO12/(AQ4-AO20)","v":0},0,null,1212,{"$f":"COUNTIF(L150:L177,AS12)","v":0},{"$f":"AT12/(AV4-AT20)","v":0},0]
[12,833,14,838,13,843,14,847,null,null,0,1111,null,1221,1,5.8479532163742687E-3,-4.3379254473016944E-2,null,null,1221,{"$f":"COUNTIF(L7:L35,T13)","v":0},{"$f":"U13/(W4-U20)","v":0},0,null,1221,{"$f":"COUNTIF(L36:L63,Y13)","v":0},{"$f":"Z13/(AB4-Z20)","v":0},0,null,1221,{"$f":"COUNTIF(L64:L92,AD13)","v":0},{"$f":"AE13/(AG4-AE20)","v":0},0,null,1221,{"$f":"COUNTIF(L93:L120,AI13)","v":0},{"$f":"AJ13/(AL4-AJ20)","v":0},0,null,1221,{"$f":"COUNTIF(L121:L149,AN13)","v":0},{"$f":"AO13/(AQ4-AO20)","v":0},0,null,1221,{"$f":"COUNTIF(L150:L177,AS13)","v":1},{"$f":"AT13/(AV4-AT20)","v":3.5714285714285712E-2},-0.17169124721634299]
[21,943,12,974,13,980,14,990,null,null,0,2111,null,1222,7,4.0935672514619881E-2,-0.18873381958946231,null,null,1222,{"$f":"COUNTIF(L7:L35,T14)","v":2},{"$f":"U14/(W4-U20)","v":6.8965517241379309E-2},-0.26606765483638428,null,1222,{"$f":"COUNTIF(L36:L63,Y14)","v":1},{"$f":"Z14/(AB4-Z20)","v":3.5714285714285712E-2},-0.17169124721634299,null,1222,{"$f":"COUNTIF(L64:L92,AD14)","v":1},{"$f":"AE14/(AG4-AE20)","v":3.4482758620689655E-2},-0.16751658603888178,null,1222,{"$f":"COUNTIF(L93:L120,AI14)","v":1},{"$f":"AJ14/(AL4-AJ20)","v":3.5714285714285712E-2},-0.17169124721634299,null,1222,{"$f":"COUNTIF(L121:L149,AN14)","v":0},{"$f":"AO14/(AQ4-AO20)","v":0},0,null,1222,{"$f":"COUNTIF(L150:L177,AS14)","v":2},{"$f":"AT14/(AV4-AT20)","v":7.1428571428571425E-2},-0.27195392300411453]
[21,1089,12,1098,13,1103,14,1108,null,null,0,2111,null,2111,47,0.27485380116959063,-0.51212510041396631,null,null,2111,{"$f":"COUNTIF(L7:L35,T15)","v":8},{"$f":"U15/(W4-U20)","v":0.27586206896551724},-0.51254648141450265,null,2111,{"$f":"COUNTIF(L36:L63,Y15)","v":6},{"$f":"Z15/(AB4-Z20)","v":0.21428571428571427},-0.47622694742923877,null,2111,{"$f":"COUNTIF(L64:L92,AD15)","v":6},{"$f":"AE15/(AG4-AE20)","v":0.20689655172413793},-0.4702796884978791,null,2111,{"$f":"COUNTIF(L93:L120,AI15)","v":9},{"$f":"AJ15/(AL4-AJ20)","v":0.32142857142857145},-0.5263167601977724,null,2111,{"$f":"COUNTIF(L121:L149,AN15)","v":11},{"$f":"AO15/(AQ4-AO20)","v":0.37931034482758619},-0.53048424625493174,null,2111,{"$f":"COUNTIF(L150:L177,AS15)","v":7},{"$f":"AT15/(AV4-AT20)","v":0.25},-0.5]
[12,1202,14,1213,13,1219,14,1224,null,null,0,1111,null,2112,0,0,0,null,null,2112,{"$f":"COUNTIF(L7:L35,T16)","v":0},{"$f":"U16/(W4-U20)","v":0},0,null,2112,{"$f":"COUNTIF(L36:L63,Y16)","v":0},{"$f":"Z16/(AB4-Z20)","v":0},0,null,2112,{"$f":"COUNTIF(L64:L92,AD16)","v":0},{"$f":"AE16/(AG4-AE20)","v":0},0,null,2112,{"$f":"COUNTIF(L93:L120,AI16)","v":0},{"$f":"AJ16/(AL4-AJ20)","v":0},0,null,2112,{"$f":"COUNTIF(L121:L149,AN16)","v":0},{"$f":"AO16/(AQ4-AO20)","v":0},0,null,2112,{"$f":"COUNTIF(L150:L177,AS16)","v":0},{"$f":"AT16/(AV4-AT20)","v":0},0]
[12,1323,14,1329,13,1335,14,1347,null,null,0,1111,null,2121,1,5.8479532163742687E-3,-4.3379254473016944E-2,null,null,2121,{"$f":"COUNTIF(L7:L35,T17)","v":0},{"$f":"U17/(W4-U20)","v":0},0,null,2121,{"$f":"COUNTIF(L36:L63,Y17)","v":0},{"$f":"Z17/(AB4-Z20)","v":0},0,null,2121,{"$f":"COUNTIF(L64:L92,AD17)","v":1},{"$f":"AE17/(AG4-AE20)","v":3.4482758620689655E-2},-0.16751658603888178,null,2121,{"$f":"COUNTIF(L93:L120,AI17)","v":0},{"$f":"AJ17/(AL4-AJ20)","v":0},0,null,2121,{"$f":"COUNTIF(L121:L149,AN17)","v":0},{"$f":"AO17/(AQ4-AO20)","v":0},0,null,2121,{"$f":"COUNTIF(L150:L177,AS17)","v":0},{"$f":"AT17/(AV4-AT20)","v":0},0]
[21,1446,12,1453,13,1458,14,1463,null,null,0,2111,null,2122,1,5.8479532163742687E-3,-4.3379254473016944E-2,null,null,2122,{"$f":"COUNTIF(L7:L35,T18)","v":0},{"$f":"U18/(W4-U20)","v":0},0,null,2122,{"$f":"COUNTIF(L36:L63,Y18)","v":1},{"$f":"Z18/(AB4-Z20)","v":3.5714285714285712E-2},-0.17169124721634299,null,2122,{"$f":"COUNTIF(L64:L92,AD18)","v":0},{"$f":"AE18/(AG4-AE20)","v":0},0,null,2122,{"$f":"COUNTIF(L93:L120,AI18)","v":0},{"$f":"AJ18/(AL4-AJ20)","v":0},0,null,2122,{"$f":"COUNTIF(L121:L149,AN18)","v":0},{"$f":"AO18/(AQ4-AO20)","v":0},0,null,2122,{"$f":"COUNTIF(L150:L177,AS18)","v":0},{"$f":"AT18/(AV4-AT20)","v":0},0]
[12,1629,14,1634,13,1639,14,1645,null,null,0,1111,null,2211,3,1.7543859649122806E-2,-0.10233140375727617,null,null,2211,{"$f":"COUNTIF(L7:L35,T19)","v":0},{"$f":"U19/(W4-U20)","v":0},0,null,2211,{"$f":"COUNTIF(L36:L63,Y19)","v":1},{"$f":"Z19/(AB4-Z20)","v":3.5714285714285712E-2},-0.17169124721634299,null,2211,{"$f":"COUNTIF(L64:L92,AD19)","v":0},{"$f":"AE19/(AG4-AE20)","v":0},0,null,2211,{"$f":"COUNTIF(L93:L120,AI19)","v":0},{"$f":"AJ19/(AL4-AJ20)","v":0},0,null,2211,{"$f":"COUNTIF(L121:L149,AN19)","v":1},{"$f":"AO19/(AQ4-AO20)","v":3.4482758620689655E-2},-0.16751658603888178,null,2211,{"$f":"COUNTIF(L150:L177,AS19)","v":1},{"$f":"AT19/(AV4-AT20)","v":3.5714285714285712E-2},-0.17169124721634299]
[12,1755,14,1767,13,1772,14,1777,null,null,0,1111,null,2212,0,0,0,null,null,2212,{"$f":"COUNTIF(L7:L35,T20)","v":0},null,null,null,2212,{"$f":"COUNTIF(L36:L63,Y20)","v":0},null,null,null,2212,{"$f":"COUNTIF(L64:L92,AD20)","v":0},null,null,null,2212,{"$f":"COUNTIF(L93:L120,AI20)","v":0},null,null,null,2212,{"$f":"COUNTIF(L121:L149,AN20)","v":0},null,null,null,2212,{"$f":"COUNTIF(L150:L177,AS20)","v":0}]
[12,1883,23,1894,24,1901,23,1908,null,null,0,1222,null,2221,1,5.8479532163742687E-3,-4.3379254473016944E-2,null,null,2221,{"$f":"COUNTIF(L7:L35,T21)","v":0},{"$f":"U21/(W4-U20)","v":0},{"$f":"IF(V21=0,0,(V21*((LOG(V21))/LOG(2))))","v":0},null,2221,{"$f":"COUNTIF(L36:L63,Y21)","v":0},{"$f":"Z21/(AB4-Z20)","v":0},{"$f":"IF(AA21=0,0,(AA21*((LOG(AA21))/LOG(2))))","v":0},null,2221,{"$f":"COUNTIF(L64:L92,AD21)","v":0},{"$f":"AE21/(AG4-AE20)","v":0},{"$f":"IF(AF21=0,0,(AF21*((LOG(AF21))/LOG(2))))","v":0},null,2221,{"$f":"COUNTIF(L93:L120,AI21)","v":1},{"$f":"AJ21/(AL4-AJ20)","v":3.5714285714285712E-2},{"$f":"IF(AK21=0,0,(AK21*((LOG(AK21))/LOG(2))))","v":-0.17169124721634299},null,2221,{"$f":"COUNTIF(L121:L149,AN21)","v":0},{"$f":"AO21/(AQ4-AO20)","v":0},{"$f":"IF(AP21=0,0,(AP21*((LOG(AP21))/LOG(2))))","v":0},null,2221,{"$f":"COUNTIF(L150:L177,AS21)","v":0},{"$f":"AT21/(AV4-AT20)","v":0},{"$f":"IF(AU21=0,0,(AU21*((LOG(AU21))/LOG(2))))","v":0}]
[12,2010,14,2016,13,2022,14,2028,null,null,0,1111,null,2222,3,1.7543859649122806E-2,-0.10233140375727617,null,null,2222,{"$f":"COUNTIF(L7:L35,T22)","v":0},{"$f":"U22/(W4-U20)","v":0},{"$f":"IF(V22=0,0,(V22*((LOG(V22))/LOG(2))))","v":0},null,2222,{"$f":"COUNTIF(L36:L63,Y22)","v":1},{"$f":"Z22/(AB4-Z20)","v":3.5714285714285712E-2},{"$f":"IF(AA22=0,0,(AA22*((LOG(AA22))/LOG(2))))","v":-0.17169124721634299},null,2222,{"$f":"COUNTIF(L64:L92,AD22)","v":1},{"$f":"AE22/(AG4-AE20)","v":3.4482758620689655E-2},{"$f":"IF(AF22=0,0,(AF22*((LOG(AF22))/LOG(2))))","v":-0.16751658603888178},null,2222,{"$f":"COUNTIF(L93:L120,AI22)","v":0},{"$f":"AJ22/(AL4-AJ20)","v":0},{"$f":"IF(AK22=0,0,(AK22*((LOG(AK22))/LOG(2))))","v":0},null,2222,{"$f":"COUNTIF(L121:L149,AN22)","v":0},{"$f":"AO22/(AQ4-AO20)","v":0},{"$f":"IF(AP22=0,0,(AP22*((LOG(AP22))/LOG(2))))","v":0},null,2222,{"$f":"COUNTIF(L150:L177,AS22)","v":1},{"$f":"AT22/(AV4-AT20)","v":3.5714285714285712E-2},{"$f":"IF(AU22=0,0,(AU22*((LOG(AU22))/LOG(2))))","v":-0.17169124721634299}]
[12,2128,14,2133,13,2137,14,2146,null,null,0,1111,null,null,null,{"$f":"SUM(P7:P22)","v":1},{"$f":"-SUM(Q7:Q22)","v":1.6652713611454646},null,null,null,null,{"$f":"SUM(V7:V22)","v":1},{"$f":"-SUM(W7:W22)","v":1.1783043483886713},null,null,null,{"$f":"SUM(AA7:AA22)","v":0.99999999999999989},{"$f":"-SUM(AB7:AB22)","v":1.771760518286793},null,null,null,{"$f":"SUM(AF7:AF22)","v":0.99999999999999989},{"$f":"-SUM(AG7:AG22)","v":1.3425211019526002},null,null,null,{"$f":"SUM(AK7:AK22)","v":0.99999999999999989},{"$f":"-SUM(AL7:AL22)","v":1.6240447810894403},null,null,null,{"$f":"SUM(AP7:AP22)","v":0.99999999999999989},{"$f":"-SUM(AQ7:AQ22)","v":1.3388862432306663},null,null,null,{"$f":"SUM(AU7:AU22)","v":0.99999999999999989},{"$f":"-SUM(AV7:AV22)","v":1.7483733344003458}]
[21,2242,12,2250,13,2255,14,2261,null,null,0,2111,null,null,null,"U=",{"$f":"Q23/(LOG(Q4)/LOG(2))","v":0.22449507560357312},null,null,null,null,"U1=",{"$f":"W23/(LOG(W4)/LOG(2))","v":0.24255021779016422},null,null,null,"U2=",{"$f":"AB23/(LOG(AB4)/LOG(2))","v":0.36855205139055114},null,null,null,"U3=",{"$f":"AG23/(LOG(AG4)/LOG(2))","v":0.27635371634823475},null,null,null,"U4=",{"$f":"AL23/(LOG(AL4)/LOG(2))","v":0.33782502174695483},null,null,null,"U5=",{"$f":"AQ23/(LOG(AQ4)/LOG(2))","v":0.27560549219388347},null,null,null,"U6=",{"$f":"AV23/(LOG(AV4)/LOG(2))","v":0.3636871757436253}]
[12,2381,14,2387,13,2398,14,2403,null,null,0,1111]
[21,2558,12,2569,13,2574,14,2579,null,null,0,2111]
[12,2680,14,2686,13,2692,14,2698,null,null,0,1111,null,"Total Target Seq"]
[12,2817,14,2821,13,2829,14,2836,null,null,0,1111,null,{"$f":"COUNTIF(L7:L177,G3)","v":0},null,29,28,29,28,29,28]
[12,2933,14,2938,13,2945,14,2950,null,null,0,1111,null,null,null,"% of reinforcement given in 6 equal intervals based on number of trials "]
[12,3064,14,3071,13,3076,14,3082,null,null,0,1111,null,null,null,"%_1","%_2","%_3","%_4","%_5","%_6"]
[12,3186,14,3191,13,3196,14,3202,null,null,0,1111,null,null,"target sequence",{"$f":"$G$3","v":2212},2212,2212,2212,2212,2212]
[12,3307,14,3312,13,3318,14,3324,null,null,0,1111,null,null,"total reinforcement",{"$f":"U20","v":0},{"$f":"Z20","v":0},{"$f":"AE20","v":0},{"$f":"AJ20","v":0},{"$f":"AO20","v":0},{"$f":"AT20","v":0}]
[12,3426,23,3433,24,3438,23,3443,null,null,0,1222,null,null,"% target"]
[21,3582,12,3596,13,3604,14,3609,null,null,0,2111,null,null,"CCRF"]
[12,3707,14,3711,13,3715,14,3719,null,null,0,1111,null,null,"% CCRf"]
[12,3822,14,3827,13,3834,14,3838,null,null,0,1111,null,null,"average response rate",{"$f":"H35/P28","v":128.24137931034483},{"$f":"(H63-H35)/Q28","v":128.28571428571428},{"$f":"(H92-H63)/R28","v":151.68965517241378},{"$f":"(H120-H92)/S28","v":143.60714285714286},{"$f":"(H149-H120)/T28","v":141.82758620689654},{"$f":"(H177-H149)/U28","v":146.60714285714286}]
[12,3942,14,3947,13,3953,14,3959,null,null,0,1111]
[12,4061,14,4069,13,4074,14,4079,null,null,0,1111]
[12,4177,14,4182,13,4188,14,4198,null,null,0,1111]
[12,4297,14,4307,13,4312,14,4322,null,null,0,1111]
[12,4438,14,4444,13,4449,14,4454,null,null,0,1111]
[21,4548,12,4560,13,4564,14,4569,null,null,0,2111]
[12,4683,14,4688,13,4693,14,4698,null,null,0,1111]
[12,4796,14,4801,13,4807,14,4814,null,null,0,1111]
[12,4919,14,4924,13,4930,14,4940,null,null,0,1111]
[12,5039,14,5046,13,5051,14,5057,null,null,0,1111]
[12,5170,14,5176,13,5182,14,5191,null,null,0,1111]
[21,5286,21,5302,11,5315,12,5320,null,null,0,2211]
[12,5335,14,5341,24,5351,23,5355,null,null,0,1122]
[12,5465,23,5477,24,5482,23,5489,null,null,0,1222]
[21,5612,12,5622,13,5628,14,5634,null,null,0,2111]
[21,5732,12,5762,24,5773,23,5778,null,null,0,2122]
[21,5878,12,5892,13,5896,14,5900,null,null,0,2111]
[12,6009,14,6013,13,6023,14,6030,null,null,0,1111]
[12,6134,14,6150,13,6152,14,6157,null,null,0,1111]
[12,6259,14,6264,13,6269,14,6276,null,null,0,1111]
[21,6381,12,6398,13,6403,14,6409,null,null,0,2111]
[21,6510,12,6530,13,6536,14,6543,null,null,0,2111]
[12,6652,14,6658,13,6664,14,6670,null,null,0,1111]
[12,6898,14,6906,13,6910,14,6916,null,null,0,1111]
[21,7011,21,7041,22,7046,23,7053,null,null,0,2222]
[21,7151,12,7178,13,7183,14,7188,null,null,0,2111]
[12,7296,14,7303,13,7306,14,7311,null,null,0,1111]
[12,7407,14,7415,13,7422,14,7428,null,null,0,1111]
[12,7528,23,7543,24,7548,23,7553,null,null,0,1222]
[12,7649,14,7651,13,7658,14,7669,null,null,0,1111]
[12,7767,14,7773,13,7779,14,7785,null,null,0,1111]
[12,7897,14,7902,13,7907,14,7913,null,null,0,1111]
[12,8023,14,8034,13,8040,14,8046,null,null,0,1111]
[12,8222,14,8227,13,8231,14,8234,null,null,0,1111]
[21,8330,12,8344,13,8350,14,8358,null,null,0,2111]
[12,8468,14,8478,13,8485,14,8491,null,null,0,1111]
[12,8596,14,8602,13,8608,14,8614,null,null,0,1111]
[12,8725,14,8730,13,8733,14,8740,null,null,0,1111]
[12,8835,14,8840,13,8846,14,8851,null,null,0,1111]
[12,8960,14,8966,13,8971,14,8977,null,null,0,1111]
[21,9073,12,9087,13,9092,14,9099,null,null,0,2111]
[21,9198,12,9212,13,9214,14,9217,null,null,0,2111]
[12,9326,14,9330,13,9337,14,9340,null,null,0,1111]
[21,9442,12,9457,13,9465,14,9471,null,null,0,2111]
[21,9579,12,9595,24,9598,14,9599,null,null,0,2121]
[12,9953,14,9958,13,9964,14,9969,null,null,0,1111]
[12,10105,14,10109,13,10114,14,10120,null,null,0,1111]
[12,10360,14,10366,13,10372,14,10377,null,null,0,1111]
[12,10487,14,10490,13,10497,14,10501,null,null,0,1111]
[12,10609,14,10615,13,10621,14,10626,null,null,0,1111]
[21,10727,12,10738,13,10745,14,10751,null,null,0,2111]
[21,10874,21,10880,22,10885,23,10892,null,null,0,2222]
[12,11099,14,11105,13,11111,14,11118,null,null,0,1111]
[12,11238,14,11246,13,11252,14,11257,null,null,0,1111]
[12,11568,14,11574,13,11580,14,11585,null,null,0,1111]
[21,11683,12,11699,13,11707,14,11710,null,null,0,2111]
[12,11815,23,11823,13,11838,14,11845,null,null,0,1211]
[12,12008,14,12013,13,12018,14,12023,null,null,0,1111]
[21,12194,12,12206,13,12211,14,12217,null,null,0,2111]
[21,12312,21,12322,22,12340,14,12351,null,null,0,2221]
[21,12514,12,12525,13,12531,14,12541,null,null,0,2111]
[21,12646,12,12655,13,12661,14,12666,null,null,0,2111]
[21,12785,12,12798,13,12801,14,12805,null,null,0,2111]
[12,12916,14,12922,13,12927,14,12933,null,null,0,1111]
[21,13045,12,13061,13,13066,14,13071,null,null,0,2111]
[12,13182,14,13193,13,13200,14,13206,null,null,0,1111]
[12,13314,23,13327,24,13332,23,13338,null,null,0,1222]
[12,13459,14,13463,13,13467,14,13473,null,null,0,1111]
[12,13579,14,13584,13,13590,14,13596,null,null,0,1111]
[12,13704,14,13721,13,13726,14,13733,null,null,0,1111]
[12,13961,14,13965,13,13971,14,13978,null,null,0,1111]
[12,14086,14,14095,13,14101,14,14107,null,null,0,1111]
[12,14224,14,14230,13,14235,14,14241,null,null,0,1111]
[21,14342,12,14362,13,14368,14,14372,null,null,0,2111]
[12,14478,14,14485,13,14490,14,14495,null,null,0,1111]
[21,14600,12,14614,13,14621,14,14627,null,null,0,2111]
[21,14729,12,14747,13,14751,14,14756,null,null,0,2111]
[12,14858,14,14866,13,14872,14,14878,null,null,0,1111]
[12,15040,14,15044,13,15048,14,15053,null,null,0,1111]
[12,15159,14,15166,13,15172,14,15178,null,null,0,1111]
[12,15288,14,15299,13,15304,14,15311,null,null,0,1111]
[12,15446,23,15460,13,15477,14,15482,null,null,0,1211]
[21,15583,12,15594,13,15600,14,15606,null,null,0,2111]
[12,15714,14,15719,13,15725,14,15731,null,null,0,1111]
[12,15827,14,15835,13,15843,14,15849,null,null,0,1111]
[12,15944,14,15950,13,15955,14,15962,null,null,0,1111]
[12,16097,14,16102,13,16114,14,16120,null,null,0,1111]
[12,16242,14,16247,13,16253,14,16258,null,null,0,1111]
[21,16394,12,16404,13,16409,14,16414,null,null,0,2111]
[12,16534,14,16544,13,16550,14,16554,null,null,0,1111]
[21,16654,12,16668,13,16672,14,16677,null,null,0,2111]
[21,16775,12,16785,13,16797,14,16804,null,null,0,2111]
[12,16901,14,16911,13,16917,14,16924,null,null,0,1111]
[12,17037,14,17041,13,17046,14,17051,null,null,0,1111]
[12,17150,14,17154,13,17160,14,17166,null,null,0,1111]
[21,17271,12,17288,13,17293,14,17298,null,null,0,2111]
[12,17401,14,17411,13,17416,14,17422,null,null,0,1111]
[21,17514,12,17552,13,17556,14,17560,null,null,0,2111]
[12,17670,14,17681,13,17687,14,17692,null,null,0,1111]
[12,17852,14,17857,13,17863,14,17869,null,null,0,1111]
[21,18029,12,18046,13,18052,14,18057,null,null,0,2111]
[21,18176,12,18189,13,18193,14,18199,null,null,0,2111]
[12,18313,14,18318,13,18330,14,18337,null,null,0,1111]
[21,18455,12,18470,13,18476,14,18481,null,null,0,2111]
[21,18581,12,18594,13,18599,14,18605,null,null,0,2111]
[12,18704,14,18711,13,18716,14,18722,null,null,0,1111]
[12,18835,23,18843,13,18855,14,18860,null,null,0,1211]
[12,19061,14,19067,13,19072,14,19078,null,null,0,1111]
[12,19262,14,19268,13,19275,14,19287,null,null,0,1111]
[21,19396,21,19400,11,19412,12,19417,null,null,0,2211]
[21,19519,12,19532,13,19539,14,19545,null,null,0,2111]
[12,19674,14,19676,13,19683,14,19691,null,null,0,1111]
[21,19813,12,19832,13,19838,14,19844,null,null,0,2111]
[21,19941,21,19957,11,19973,12,19978,null,null,0,2211]
[12,20079,14,20084,13,20090,14,20097,null,null,0,1111]
[12,20226,14,20232,13,20238,14,20243,null,null,0,1111]
[12,20342,14,20346,13,20352,14,20358,null,null,0,1111]
[12,20517,14,20525,13,20529,14,20540,null,null,0,1111]
[12,20696,14,20701,13,20706,14,20711,null,null,0,1111]
[12,20816,23,20831,24,20836,23,20843,null,null,0,1222]
[12,21019,14,21024,13,21029,14,21033,null,null,0,1111]
[21,21144,21,21149,22,21154,23,21159,null,null,0,2222]
[12,21275,14,21280,13,21287,14,21293,null,null,0,1111]
[12,21403,14,21408,13,21414,14,21421,null,null,0,1111]
[12,21618,14,21624,13,21630,14,21641,null,null,0,1111]
[12,21733,14,21751,13,21757,14,21765,null,null,0,1111]
[12,21860,14,21870,13,21876,14,21884,null,null,0,1111]
[21,21990,12,22002,13,22007,14,22013,null,null,0,2111]
[12,22149,14,22152,13,22156,14,22164,null,null,0,1111]
[21,22272,12,22285,13,22290,14,22295,null,null,0,2111]
[12,22400,14,22406,13,22412,14,22424,null,null,0,1111]
[21,22534,12,22550,13,22555,14,22561,null,null,0,2111]
[12,22662,23,22672,24,22677,23,22683,null,null,0,1222]
[12,22810,14,22822,13,22827,14,22833,null,null,0,1111]
[21,22988,12,23000,13,23004,14,23010,null,null,0,2111]
[21,23104,12,23112,13,23117,14,23125,null,null,0,2111]
[21,23220,12,23235,13,23241,14,23245,null,null,0,2111]
[12,23345,23,23355,24,23359,14,23371,null,null,0,1221]
[21,23524,12,23536,13,23540,14,23546,null,null,0,2111]
[12,23666,14,23672,13,23678,14,23684,null,null,0,1111]
[12,23920,14,23931,13,23942,14,23949,null,null,null,1111]

{"sheet":"!LB14B15..Du","index":14,"n_rows":178,"n_cols":48,"rows_kept":178,"cut":false,"hidden":false,"merged":[[1,1,1,2],[5,13,5,14],[26,13,26,14],[27,13,27,14],[4,19,4,22],[5,19,5,20],[4,39,4,42],[5,39,5,40],[4,44,4,47],[5,44,5,45],[4,24,4,27],[5,24,5,25],[4,29,4,32],[5,29,5,30],[4,34,4,37],[5,34,5,35]]}
["Report for:!LB14B15..Du"]
["Date:","<date>"]
["Hen:","<hen>",null,null,null,"Correct Sequence",{"$f":"Start!J2","v":2212},null,null,null,null,null,null,null,null,"Total Sequences in Data",{"$f":"4994-COUNTBLANK(L7:L5000)","v":172},null,null,null,null,"Total Sequences in Block Data",{"$f":"COUNTA(L7:L35)","v":29},null,null,null,"Total Sequences in Block Data",{"$f":"COUNTA(L36:L63)","v":28},null,null,null,"Total Sequences in Block Data",{"$f":"COUNTA(L64:L92)","v":29},null,null,null,"Total Sequences in Block Data",{"$f":"COUNTA(L93:L121)","v":29},null,null,null,"Total Sequences in Block Data",{"$f":"COUNTA(L122:L149)","v":28},null,null,null,"Total Sequences in Block Data",{"$f":"COUNTA(L150:L178)","v":29}]
[null,null,null,null,null,null,null,null,null,null,null,null,null,null,null,"Total Sequences in Summary",{"$f":"SUM(O7:O22)","v":172},null,null,null,null,"Total Sequences in Block Summary",{"$f":"SUM(U7:U22)","v":29},null,null,null,"Total Sequences in Block Summary",{"$f":"SUM(Z7:Z22)","v":28},null,null,null,"Total Sequences in Block Summary",{"$f":"SUM(AE7:AE22)","v":29},null,null,null,"Total Sequences in Block Summary",{"$f":"SUM(AJ7:AJ22)","v":29},null,null,null,"Total Sequences in Block Summary",{"$f":"SUM(AO7:AO22)","v":28},null,null,null,"Total Sequences in Block Summary",{"$f":"SUM(AT7:AT22)","v":29}]
[null,null,null,null,null,null,null,null,null,null,null,null,null,null,null,null,null,null,null,"Block 1",null,null,null,null,"Block 2",null,null,null,null,"Block 3",null,null,null,null,"Block 4",null,null,null,null,"Block 5",null,null,null,null,"Block 6"]
["Sequence\nComponent\n1","Time\n1","Sequence\nComponent\n2","Time\n2","Sequence\nComponent\n3","Time\n3","Sequence\nComponent\n4","Time\n4","Sequence\nComponent\n5","Time\n5","Correct?\n0=No 1=Yes","Sequence",null,"Frequency",null,"Relative Frequency","Variability",null,null,"Frequency",null,"Relative Frequency","Variability",null,"Frequency",null,"Relative Frequency","Variability",null,"Frequency",null,"Relative Frequency","Variability",null,"Frequency",null,"Relative Frequency","Variability",null,"Frequency",null,"Relative Frequency","Variability",null,"Frequency",null,"Relative Frequency","Variability"]
[12,9,14,12,13,16,14,22,null,null,0,1111,null,1111,{"$f":"COUNTIF($L$7:$L$500,N7)","v":91},{"$f":"O7/$Q$4","v":0.52906976744186052},{"$f":"IF(P7=0,0,(P7*((LOG(P7))/LOG(2))))","v":-0.48593476988261364},null,null,{"$f":"N7","v":1111},{"$f":"COUNTIF(L7:L35,T7)","v":17},{"$f":"U7/(W4-U20)","v":0.58620689655172409},{"$f":"IF(V7=0,0,(V7*((LOG(V7))/LOG(2))))","v":-0.45168305572113648},null,{"$f":"N7","v":1111},{"$f":"COUNTIF(L36:L63,Y7)","v":6},{"$f":"Z7/(AB4-Z20)","v":0.21428571428571427},{"$f":"IF(AA7=0,0,(AA7*((LOG(AA7))/LOG(2))))","v":-0.47622694742923877},null,{"$f":"N7","v":1111},{"$f":"COUNTIF(L64:L92,AD7)","v":7},{"$f":"AE7/(AG4-AE20)","v":0.2413793103448276},{"$f":"IF(AF7=0,0,(AF7*((LOG(AF7))/LOG(2))))","v":-0.49497870729275095},null,{"$f":"N7","v":1111},{"$f":"COUNTIF(L93:L121,AI7)","v":20},{"$f":"AJ7/(AL4-AJ20)","v":0.68965517241379315},{"$f":"IF(AK7=0,0,(AK7*((LOG(AK7))/LOG(2))))","v":-0.36969165533807569},null,{"$f":"N7","v":1111},{"$f":"COUNTIF(L122:L149,AN7)","v":23},{"$f":"AO7/(AQ4-AO20)","v":0.8214285714285714},{"$f":"IF(AP7=0,0,(AP7*((LOG(AP7))/LOG(2))))","v":-0.23311565064334283},null,{"$f":"N7","v":1111},{"$f":"COUNTIF(L150:L178,AS7)","v":18},{"$f":"AT7/(AV4-AT20)","v":0.62068965517241381},{"$f":"IF(AU7=0,0,(AU7*((LOG(AU7))/LOG(2))))","v":-0.4270692374598164}]
[12,143,14,148,13,151,14,159,null,null,0,1111,null,1112,0,0,0,null,null,1112,{"$f":"COUNTIF(L7:L35,T8)","v":0},{"$f":"U8/(W4-U20)","v":0},0,null,1112,{"$f":"COUNTIF(L36:L63,Y8)","v":0},{"$f":"Z8/(AB4-Z20)","v":0},0,null,1112,{"$f":"COUNTIF(L64:L92,AD8)","v":0},{"$f":"AE8/(AG4-AE20)","v":0},0,null,1112,{"$f":"COUNTIF(L93:L121,AI8)","v":0},{"$f":"AJ8/(AL4-AJ20)","v":0},0,null,1112,{"$f":"COUNTIF(L122:L149,AN8)","v":0},{"$f":"AO8/(AQ4-AO20)","v":0},0,null,1112,{"$f":"COUNTIF(L150:L178,AS8)","v":0},{"$f":"AT8/(AV4-AT20)","v":0},0]
[21,260,12,271,13,277,14,285,null,null,0,2111,null,1121,0,0,0,null,null,1121,{"$f":"COUNTIF(L7:L35,T9)","v":0},{"$f":"U9/(W4-U20)","v":0},0,null,1121,{"$f":"COUNTIF(L36:L63,Y9)","v":0},{"$f":"Z9/(AB4-Z20)","v":0},0,null,1121,{"$f":"COUNTIF(L64:L92,AD9)","v":0},{"$f":"AE9/(AG4-AE20)","v":0},0,null,1121,{"$f":"COUNTIF(L93:L121,AI9)","v":0},{"$f":"AJ9/(AL4-AJ20)","v":0},0,null,1121,{"$f":"COUNTIF(L122:L149,AN9)","v":0},{"$f":"AO9/(AQ4-AO20)","v":0},0,null,1121,{"$f":"COUNTIF(L150:L178,AS9)","v":0},{"$f":"AT9/(AV4-AT20)","v":0},0]
[12,385,23,396,13,411,14,414,null,null,0,1211,null,1122,4,2.3255813953488372E-2,-0.12619220359772321,null,null,1122,{"$f":"COUNTIF(L7:L35,T10)","v":1},{"$f":"U10/(W4-U20)","v":3.4482758620689655E-2},-0.16751658603888178,null,1122,{"$f":"COUNTIF(L36:L63,Y10)","v":0},{"$f":"Z10/(AB4-Z20)","v":0},0,null,1122,{"$f":"COUNTIF(L64:L92,AD10)","v":1},{"$f":"AE10/(AG4-AE20)","v":3.4482758620689655E-2},-0.16751658603888178,null,1122,{"$f":"COUNTIF(L93:L121,AI10)","v":1},{"$f":"AJ10/(AL4-AJ20)","v":3.4482758620689655E-2},-0.16751658603888178,null,1122,{"$f":"COUNTIF(L122:L149,AN10)","v":1},{"$f":"AO10/(AQ4-AO20)","v":3.5714285714285712E-2},-0.17169124721634299,null,1122,{"$f":"COUNTIF(L150:L178,AS10)","v":0},{"$f":"AT10/(AV4-AT20)","v":0},0]
[12,519,14,525,13,530,14,536,null,null,0,1111,null,1211,4,2.3255813953488372E-2,-0.12619220359772321,null,null,1211,{"$f":"COUNTIF(L7:L35,T11)","v":1},{"$f":"U11/(W4-U20)","v":3.4482758620689655E-2},-0.16751658603888178,null,1211,{"$f":"COUNTIF(L36:L63,Y11)","v":0},{"$f":"Z11/(AB4-Z20)","v":0},0,null,1211,{"$f":"COUNTIF(L64:L92,AD11)","v":0},{"$f":"AE11/(AG4-AE20)","v":0},0,null,1211,{"$f":"COUNTIF(L93:L121,AI11)","v":0},{"$f":"AJ11/(AL4-AJ20)","v":0},0,null,1211,{"$f":"COUNTIF(L122:L149,AN11)","v":1},{"$f":"AO11/(AQ4-AO20)","v":3.5714285714285712E-2},-0.17169124721634299,null,1211,{"$f":"COUNTIF(L150:L178,AS11)","v":2},{"$f":"AT11/(AV4-AT20)","v":6.8965517241379309E-2},-0.26606765483638428]
[12,636,14,640,13,647,14,657,null,null,0,1111,null,1212,0,0,0,null,null,1212,{"$f":"COUNTIF(L7:L35,T12)","v":0},{"$f":"U12/(W4-U20)","v":0},0,null,1212,{"$f":"COUNTIF(L36:L63,Y12)","v":0},{"$f":"Z12/(AB4-Z20)","v":0},0,null,1212,{"$f":"COUNTIF(L64:L92,AD12)","v":0},{"$f":"AE12/(AG4-AE20)","v":0},0,null,1212,{"$f":"COUNTIF(L93:L121,AI12)","v":0},{"$f":"AJ12/(AL4-AJ20)","v":0},0,null,1212,{"$f":"COUNTIF(L122:L149,AN12)","v":0},{"$f":"AO12/(AQ4-AO20)","v":0},0,null,1212,{"$f":"COUNTIF(L150:L178,AS12)","v":0},{"$f":"AT12/(AV4-AT20)","v":0},0]
[21,749,12,760,13,765,14,770,null,null,0,2111,null,1221,0,0,0,null,null,1221,{"$f":"COUNTIF(L7:L35,T13)","v":0},{"$f":"U13/(W4-U20)","v":0},0,null,1221,{"$f":"COUNTIF(L36:L63,Y13)","v":0},{"$f":"Z13/(AB4-Z20)","v":0},0,null,1221,{"$f":"COUNTIF(L64:L92,AD13)","v":0},{"$f":"AE13/(AG4-AE20)","v":0},0,null,1221,{"$f":"COUNTIF(L93:L121,AI13)","v":0},{"$f":"AJ13/(AL4-AJ20)","v":0},0,null,1221,{"$f":"COUNTIF(L122:L149,AN13)","v":0},{"$f":"AO13/(AQ4-AO20)","v":0},0,null,1221,{"$f":"COUNTIF(L150:L178,AS13)","v":0},{"$f":"AT13/(AV4-AT20)","v":0},0]
[12,866,14,870,13,874,14,877,null,null,0,1111,null,1222,11,6.3953488372093026E-2,-0.25369281684135353,null,null,1222,{"$f":"COUNTIF(L7:L35,T14)","v":1},{"$f":"U14/(W4-U20)","v":3.4482758620689655E-2},-0.16751658603888178,null,1222,{"$f":"COUNTIF(L36:L63,Y14)","v":2},{"$f":"Z14/(AB4-Z20)","v":7.1428571428571425E-2},-0.27195392300411453,null,1222,{"$f":"COUNTIF(L64:L92,AD14)","v":5},{"$f":"AE14/(AG4-AE20)","v":0.17241379310344829},-0.43725050004141547,null,1222,{"$f":"COUNTIF(L93:L121,AI14)","v":1},{"$f":"AJ14/(AL4-AJ20)","v":3.4482758620689655E-2},-0.16751658603888178,null,1222,{"$f":"COUNTIF(L122:L149,AN14)","v":0},{"$f":"AO14/(AQ4-AO20)","v":0},0,null,1222,{"$f":"COUNTIF(L150:L178,AS14)","v":2},{"$f":"AT14/(AV4-AT20)","v":6.8965517241379309E-2},-0.26606765483638428]
[21,982,12,998,13,1004,14,1008,null,null,0,2111,null,2111,32,0.18604651162790697,-0.45139809389806473,null,null,2111,{"$f":"COUNTIF(L7:L35,T15)","v":8},{"$f":"U15/(W4-U20)","v":0.27586206896551724},-0.51254648141450265,null,2111,{"$f":"COUNTIF(L36:L63,Y15)","v":7},{"$f":"Z15/(AB4-Z20)","v":0.25},-0.5,null,2111,{"$f":"COUNTIF(L64:L92,AD15)","v":4},{"$f":"AE15/(AG4-AE20)","v":0.13793103448275862},-0.39420427519000989,null,2111,{"$f":"COUNTIF(L93:L121,AI15)","v":6},{"$f":"AJ15/(AL4-AJ20)","v":0.20689655172413793},-0.4702796884978791,null,2111,{"$f":"COUNTIF(L122:L149,AN15)","v":1},{"$f":"AO15/(AQ4-AO20)","v":3.5714285714285712E-2},-0.17169124721634299,null,2111,{"$f":"COUNTIF(L150:L178,AS15)","v":6},{"$f":"AT15/(AV4-AT20)","v":0.20689655172413793},-0.4702796884978791]
[12,1103,23,1118,24,1124,23,1130,null,null,0,1222,null,2112,0,0,0,null,null,2112,{"$f":"COUNTIF(L7:L35,T16)","v":0},{"$f":"U16/(W4-U20)","v":0},0,null,2112,{"$f":"COUNTIF(L36:L63,Y16)","v":0},{"$f":"Z16/(AB4-Z20)","v":0},0,null,2112,{"$f":"COUNTIF(L64:L92,AD16)","v":0},{"$f":"AE16/(AG4-AE20)","v":0},0,null,2112,{"$f":"COUNTIF(L93:L121,AI16)","v":0},{"$f":"AJ16/(AL4-AJ20)","v":0},0,null,2112,{"$f":"COUNTIF(L122:L149,AN16)","v":0},{"$f":"AO16/(AQ4-AO20)","v":0},0,null,2112,{"$f":"COUNTIF(L150:L178,AS16)","v":0},{"$f":"AT16/(AV4-AT20)","v":0},0]
[12,1227,14,1233,13,1239,14,1246,null,null,0,1111,null,2121,1,5.8139534883720929E-3,-4.3175957876174981E-2,null,null,2121,{"$f":"COUNTIF(L7:L35,T17)","v":0},{"$f":"U17/(W4-U20)","v":0},0,null,2121,{"$f":"COUNTIF(L36:L63,Y17)","v":1},{"$f":"Z17/(AB4-Z20)","v":3.5714285714285712E-2},-0.17169124721634299,null,2121,{"$f":"COUNTIF(L64:L92,AD17)","v":0},{"$f":"AE17/(AG4-AE20)","v":0},0,null,2121,{"$f":"COUNTIF(L93:L121,AI17)","v":0},{"$f":"AJ17/(AL4-AJ20)","v":0},0,null,2121,{"$f":"COUNTIF(L122:L149,AN17)","v":0},{"$f":"AO17/(AQ4-AO20)","v":0},0,null,2121,{"$f":"COUNTIF(L150:L178,AS17)","v":0},{"$f":"AT17/(AV4-AT20)","v":0},0]
[12,1354,14,1360,13,1371,14,1377,null,null,0,1111,null,2122,4,2.3255813953488372E-2,-0.12619220359772321,null,null,2122,{"$f":"COUNTIF(L7:L35,T18)","v":1},{"$f":"U18/(W4-U20)","v":3.4482758620689655E-2},-0.16751658603888178,null,2122,{"$f":"COUNTIF(L36:L63,Y18)","v":1},{"$f":"Z18/(AB4-Z20)","v":3.5714285714285712E-2},-0.17169124721634299,null,2122,{"$f":"COUNTIF(L64:L92,AD18)","v":1},{"$f":"AE18/(AG4-AE20)","v":3.4482758620689655E-2},-0.16751658603888178,null,2122,{"$f":"COUNTIF(L93:L121,AI18)","v":0},{"$f":"AJ18/(AL4-AJ20)","v":0},0,null,2122,{"$f":"COUNTIF(L122:L149,AN18)","v":0},{"$f":"AO18/(AQ4-AO20)","v":0},0,null,2122,{"$f":"COUNTIF(L150:L178,AS18)","v":1},{"$f":"AT18/(AV4-AT20)","v":3.4482758620689655E-2},-0.16751658603888178]
[21,1475,12,1488,13,1493,14,1498,null,null,0,2111,null,2211,13,7.5581395348837205E-2,-0.2816030550889132,null,null,2211,{"$f":"COUNTIF(L7:L35,T19)","v":0},{"$f":"U19/(W4-U20)","v":0},0,null,2211,{"$f":"COUNTIF(L36:L63,Y19)","v":8},{"$f":"Z19/(AB4-Z20)","v":0.2857142857142857},-0.51638712058788683,null,2211,{"$f":"COUNTIF(L64:L92,AD19)","v":3},{"$f":"AE19/(AG4-AE20)","v":0.10344827586206896},-0.33858812011100858,null,2211,{"$f":"COUNTIF(L93:L121,AI19)","v":1},{"$f":"AJ19/(AL4-AJ20)","v":3.4482758620689655E-2},-0.16751658603888178,null,2211,{"$f":"COUNTIF(L122:L149,AN19)","v":1},{"$f":"AO19/(AQ4-AO20)","v":3.5714285714285712E-2},-0.17169124721634299,null,2211,{"$f":"COUNTIF(L150:L178,AS19)","v":0},{"$f":"AT19/(AV4-AT20)","v":0},0]
[12,1601,14,1606,13,1610,14,1616,null,null,0,1111,null,2212,0,0,0,null,null,2212,{"$f":"COUNTIF(L7:L35,T20)","v":0},null,null,null,2212,{"$f":"COUNTIF(L36:L63,Y20)","v":0},null,null,null,2212,{"$f":"COUNTIF(L64:L92,AD20)","v":0},null,null,null,2212,{"$f":"COUNTIF(L93:L121,AI20)","v":0},null,null,null,2212,{"$f":"COUNTIF(L122:L149,AN20)","v":0},null,null,null,2212,{"$f":"COUNTIF(L150:L178,AS20)","v":0}]
[12,1717,14,1722,13,1726,14,1730,null,null,0,1111,null,2221,2,1.1627906976744186E-2,-7.4724008775605782E-2,null,null,2221,{"$f":"COUNTIF(L7:L35,T21)","v":0},{"$f":"U21/(W4-U20)","v":0},{"$f":"IF(V21=0,0,(V21*((LOG(V21))/LOG(2))))","v":0},null,2221,{"$f":"COUNTIF(L36:L63,Y21)","v":0},{"$f":"Z21/(AB4-Z20)","v":0},{"$f":"IF(AA21=0,0,(AA21*((LOG(AA21))/LOG(2))))","v":0},null,2221,{"$f":"COUNTIF(L64:L92,AD21)","v":1},{"$f":"AE21/(AG4-AE20)","v":3.4482758620689655E-2},{"$f":"IF(AF21=0,0,(AF21*((LOG(AF21))/LOG(2))))","v":-0.16751658603888178},null,2221,{"$f":"COUNTIF(L93:L121,AI21)","v":0},{"$f":"AJ21/(AL4-AJ20)","v":0},{"$f":"IF(AK21=0,0,(AK21*((LOG(AK21))/LOG(2))))","v":0},null,2221,{"$f":"COUNTIF(L122:L149,AN21)","v":1},{"$f":"AO21/(AQ4-AO20)","v":3.5714285714285712E-2},{"$f":"IF(AP21=0,0,(AP21*((LOG(AP21))/LOG(2))))","v":-0.17169124721634299},null,2221,{"$f":"COUNTIF(L150:L178,AS21)","v":0},{"$f":"AT21/(AV4-AT20)","v":0},{"$f":"IF(AU21=0,0,(AU21*((LOG(AU21))/LOG(2))))","v":0}]
[12,1824,14,1831,13,1837,14,1845,null,null,0,1111,null,2222,10,5.8139534883720929E-2,-0.23862422440783343,null,null,2222,{"$f":"COUNTIF(L7:L35,T22)","v":0},{"$f":"U22/(W4-U20)","v":0},{"$f":"IF(V22=0,0,(V22*((LOG(V22))/LOG(2))))","v":0},null,2222,{"$f":"COUNTIF(L36:L63,Y22)","v":3},{"$f":"Z22/(AB4-Z20)","v":0.10714285714285714},{"$f":"IF(AA22=0,0,(AA22*((LOG(AA22))/LOG(2))))","v":-0.34525633085747659},null,2222,{"$f":"COUNTIF(L64:L92,AD22)","v":7},{"$f":"AE22/(AG4-AE20)","v":0.2413793103448276},{"$f":"IF(AF22=0,0,(AF22*((LOG(AF22))/LOG(2))))","v":-0.49497870729275095},null,2222,{"$f":"COUNTIF(L93:L121,AI22)","v":0},{"$f":"AJ22/(AL4-AJ20)","v":0},{"$f":"IF(AK22=0,0,(AK22*((LOG(AK22))/LOG(2))))","v":0},null,2222,{"$f":"COUNTIF(L122:L149,AN22)","v":0},{"$f":"AO22/(AQ4-AO20)","v":0},{"$f":"IF(AP22=0,0,(AP22*((LOG(AP22))/LOG(2))))","v":0},null,2222,{"$f":"COUNTIF(L150:L178,AS22)","v":0},{"$f":"AT22/(AV4-AT20)","v":0},{"$f":"IF(AU22=0,0,(AU22*((LOG(AU22))/LOG(2))))","v":0}]
[12,1944,14,1953,13,1959,14,1966,null,null,0,1111,null,null,null,{"$f":"SUM(P7:P22)","v":1.0000000000000002},{"$f":"-SUM(Q7:Q22)","v":2.2077295375637291},null,null,null,null,{"$f":"SUM(V7:V22)","v":0.99999999999999978},{"$f":"-SUM(W7:W22)","v":1.6342958812911663},null,null,null,{"$f":"SUM(AA7:AA22)","v":0.99999999999999989},{"$f":"-SUM(AB7:AB22)","v":2.4532068163114027},null,null,null,{"$f":"SUM(AF7:AF22)","v":1},{"$f":"-SUM(AG7:AG22)","v":2.6625500680445811},null,null,null,{"$f":"SUM(AK7:AK22)","v":0.99999999999999989},{"$f":"-SUM(AL7:AL22)","v":1.3425211019526002},null,null,null,{"$f":"SUM(AP7:AP22)","v":0.99999999999999989},{"$f":"-SUM(AQ7:AQ22)","v":1.0915718867250579},null,null,null,{"$f":"SUM(AU7:AU22)","v":1},{"$f":"-SUM(AV7:AV22)","v":1.5970008216693459}]
[12,2064,14,2070,13,2075,14,2078,null,null,0,1111,null,null,null,"U=",{"$f":"Q23/(LOG(Q4)/LOG(2))","v":0.29728667243729201},null,null,null,null,"U1=",{"$f":"W23/(LOG(W4)/LOG(2))","v":0.33641463046692083},null,null,null,"U2=",{"$f":"AB23/(LOG(AB4)/LOG(2))","v":0.51030282891228707},null,null,null,"U3=",{"$f":"AG23/(LOG(AG4)/LOG(2))","v":0.54807749777429127},null,null,null,"U4=",{"$f":"AL23/(LOG(AL4)/LOG(2))","v":0.27635371634823475},null,null,null,"U5=",{"$f":"AQ23/(LOG(AQ4)/LOG(2))","v":0.2270628868521013},null,null,null,"U6=",{"$f":"AV23/(LOG(AV4)/LOG(2))","v":0.32873756057734604}]
[21,2179,12,2238,13,2243,14,2250,null,null,0,2111]
[21,2360,12,2369,13,2378,14,2383,null,null,0,2111]
[21,2481,12,2506,13,2512,14,2518,null,null,0,2111,null,"Total Target Seq"]
[21,2614,12,2627,24,2637,23,2641,null,null,0,2122,null,{"$f":"COUNTIF(L7:L178,G3)","v":0},null,29,28,29,29,28,29]
[12,2739,14,2744,13,2750,14,2756,null,null,0,1111,null,null,null,"% of reinforcement given in 6 equal intervals based on number of trials "]
[12,2864,14,2870,13,2877,14,2882,null,null,0,1111,null,null,null,"%_1","%_2","%_3","%_4","%_5","%_6"]
[21,2978,12,2989,13,2997,14,3004,null,null,0,2111,null,null,"target sequence",{"$f":"$G$3","v":2212},2212,2212,2212,2212,2212]
[12,3096,14,3102,13,3108,14,3118,null,null,0,1111,null,null,"total reinforcement",{"$f":"U20","v":0},{"$f":"Z20","v":0},{"$f":"AE20","v":0},{"$f":"AJ20","v":0},{"$f":"AO20","v":0},{"$f":"AT20","v":0}]
[12,3225,14,3232,13,3243,14,3254,null,null,0,1111,null,null,"% target"]
[12,3352,14,3358,24,3378,23,3380,null,null,0,1122,null,null,"CCRF"]
[12,3476,14,3492,13,3498,14,3505,null,null,0,1111,null,null,"% CCRf"]
[21,3599,12,3624,13,3630,14,3636,null,null,0,2111,null,null,"average response rate",{"$f":"H35/P28","v":120.86206896551724},{"$f":"(H63-H35)/Q28","v":123.64285714285714},{"$f":"(H92-H63)/R28","v":136.58620689655172},{"$f":"(H121-H92)/S28","v":161.31034482758622},{"$f":"(H149-H121)/T28","v":154.60714285714286},{"$f":"(H178-H149)/U28","v":140.13793103448276}]
[21,3732,12,3746,24,3762,23,3766,null,null,0,2122]
[12,3877,14,3886,13,3892,14,3902,null,null,0,1111]
[21,4008,21,4010,11,4022,12,4031,null,null,0,2211]
[12,4046,14,4050,13,4058,14,4069,null,null,0,1111]
[21,4170,12,4180,13,4186,14,4192,null,null,0,2111]
[12,4313,14,4318,13,4323,14,4328,null,null,0,1111]
[21,4439,12,4454,13,4460,14,4466,null,null,0,2111]
[12,4571,14,4576,13,4583,14,4588,null,null,0,1111]
[21,4694,12,4703,13,4707,14,4712,null,null,0,2111]
[21,4807,21,4829,11,4842,12,4849,null,null,0,2211]
[21,4964,12,4974,13,4988,14,4995,null,null,0,2111]
[21,5091,21,5121,22,5127,23,5133,null,null,0,2222]
[21,5253,12,5266,13,5272,14,5278,null,null,0,2111]
[21,5375,21,5391,11,5405,12,5409,null,null,0,2211]
[21,5435,21,5440,22,5445,23,5457,null,null,0,2222]
[21,5554,21,5571,22,5576,23,5583,null,null,0,2222]
[12,5688,23,5698,24,5702,23,5708,null,null,0,1222]
[21,5808,12,5820,24,5837,14,5853,null,null,0,2121]
[12,5957,14,5961,13,5967,14,5974,null,null,0,1111]
[21,6074,21,6089,11,6107,12,6112,null,null,0,2211]
[21,6212,21,6217,11,6248,12,6254,null,null,0,2211]
[12,6358,23,6377,24,6380,23,6391,null,null,0,1222]
[12,6509,14,6517,13,6522,14,6531,null,null,0,1111]
[21,6637,21,6640,11,6654,12,6664,null,null,0,2211]
[21,6759,12,6778,13,6784,14,6790,null,null,0,2111]
[21,6902,21,6907,11,6921,12,6927,null,null,0,2211]
[21,6945,21,6949,11,6962,12,6967,null,null,0,2211]
[21,7072,21,7087,22,7096,14,7113,null,null,0,2221]
[21,7307,12,7318,13,7322,14,7328,null,null,0,2111]
[12,7448,14,7453,13,7460,14,7466,null,null,0,1111]
[21,7564,21,7586,22,7592,23,7598,null,null,0,2222]
[21,7703,21,7705,22,7712,23,7718,null,null,0,2222]
[12,7854,14,7860,13,7865,14,7871,null,null,0,1111]
[21,7963,21,7982,11,8004,12,8009,null,null,0,2211]
[12,8114,14,8119,13,8125,14,8131,null,null,0,1111]
[12,8223,14,8233,24,8252,23,8256,null,null,0,1122]
[12,8382,14,8390,13,8395,14,8401,null,null,0,1111]
[21,8495,21,8514,11,8530,12,8534,null,null,0,2211]
[21,8562,21,8569,22,8577,23,8581,null,null,0,2222]
[21,8690,12,8700,13,8705,14,8710,null,null,0,2111]
[21,8820,12,8830,24,8841,23,8846,null,null,0,2122]
[21,8942,21,8960,22,8965,23,8971,null,null,0,2222]
[12,9094,23,9102,24,9106,23,9110,null,null,0,1222]
[21,9220,21,9225,22,9230,23,9236,null,null,0,2222]
[21,9340,21,9357,22,9363,23,9369,null,null,0,2222]
[12,9472,14,9481,13,9487,14,9494,null,null,0,1111]
[21,9610,12,9623,13,9629,14,9635,null,null,0,2111]
[21,9739,12,9751,13,9762,14,9769,null,null,0,2111]
[12,9896,14,9901,13,9906,14,9913,null,null,0,1111]
[12,10013,23,10028,24,10031,23,10036,null,null,0,1222]
[12,10230,23,10244,24,10248,23,10254,null,null,0,1222]
[12,10348,23,10364,24,10369,23,10374,null,null,0,1222]
[21,10475,21,10500,11,10517,12,10524,null,null,0,2211]
[12,10653,14,10659,13,10664,14,10670,null,null,0,1111]
[12,10765,23,10777,24,10782,23,10788,null,null,0,1222]
[21,10891,21,10895,22,10922,23,10928,null,null,0,2222]
[12,11024,14,11034,24,11051,23,11056,null,null,0,1122]
[21,11175,12,11187,13,11193,14,11198,null,null,0,2111]
[12,11393,14,11398,13,11404,14,11410,null,null,0,1111]
[21,11698,12,11710,13,11715,14,11720,null,null,0,2111]
[12,11988,14,11994,13,11999,14,12005,null,null,0,1111]
[21,12098,21,12100,11,12129,12,12134,null,null,0,2211]
[12,12235,14,12241,13,12246,14,12252,null,null,0,1111]
[12,12367,14,12375,13,12381,14,12388,null,null,0,1111]
[12,12605,14,12610,13,12615,14,12621,null,null,0,1111]
[12,12816,14,12821,13,12826,14,12832,null,null,0,1111]
[12,12944,14,12949,13,12954,14,12959,null,null,0,1111]
[21,13075,12,13088,13,13093,14,13099,null,null,0,2111]
[12,13193,14,13205,13,13210,14,13216,null,null,0,1111]
[12,13315,14,13320,13,13325,14,13329,null,null,0,1111]
[12,13483,14,13496,13,13501,14,13508,null,null,0,1111]
[21,13613,12,13639,13,13643,14,13657,null,null,0,2111]
[12,13871,14,13880,13,13893,14,13901,null,null,0,1111]
[12,14009,14,14015,13,14021,14,14027,null,null,0,1111]
[12,14211,14,14216,13,14225,14,14232,null,null,0,1111]
[12,14442,14,14455,13,14460,14,14467,null,null,0,1111]
[12,14574,14,14581,13,14586,14,14591,null,null,0,1111]
[12,14694,14,14703,13,14708,14,14714,null,null,0,1111]
[12,14833,14,14835,13,14842,14,14847,null,null,0,1111]
[12,14954,14,14965,13,14972,14,14978,null,null,0,1111]
[21,15105,12,15117,13,15122,14,15128,null,null,0,2111]
[21,15237,12,15247,13,15252,14,15256,null,null,0,2111]
[12,15356,14,15362,13,15367,14,15373,null,null,0,1111]
[12,15470,23,15478,24,15484,23,15490,null,null,0,1222]
[12,15590,14,15593,13,15599,14,15606,null,null,0,1111]
[12,15702,14,15712,13,15718,14,15723,null,null,0,1111]
[12,15887,14,15891,13,15898,14,15904,null,null,0,1111]
[12,16141,14,16149,13,16153,14,16159,null,null,0,1111]
[12,16269,14,16274,13,16279,14,16286,null,null,0,1111]
[12,16394,14,16400,13,16415,14,16423,null,null,0,1111]
[12,16621,14,16632,13,16638,14,16645,null,null,0,1111]
[12,16758,14,16763,13,16773,14,16778,null,null,0,1111]
[21,16886,21,16891,11,16904,12,16910,null,null,0,2211]
[12,17043,14,17050,13,17055,14,17057,null,null,0,1111]
[12,17311,14,17317,13,17323,14,17340,null,null,0,1111]
[12,17452,14,17462,13,17467,14,17472,null,null,0,1111]
[21,17579,12,17595,13,17600,14,17607,null,null,0,2111]
[12,17707,14,17720,13,17725,14,17731,null,null,0,1111]
[12,17832,14,17836,24,17848,23,17851,null,null,0,1122]
[12,17956,14,17959,13,17962,14,17968,null,null,0,1111]
[12,18127,14,18132,13,18137,14,18144,null,null,0,1111]
[12,18264,14,18268,13,18273,14,18279,null,null,0,1111]
[12,18383,14,18388,13,18396,14,18401,null,null,0,1111]
[12,18494,23,18505,13,18517,14,18522,null,null,0,1211]
[12,18628,14,18632,13,18637,14,18643,null,null,0,1111]
[12,18773,14,18781,13,18794,14,18801,null,null,0,1111]
[12,18896,14,18905,13,18913,14,18920,null,null,0,1111]
[12,19069,14,19072,13,19101,14,19108,null,null,0,1111]
[12,19229,14,19236,13,19243,14,19268,null,null,0,1111]
[21,19382,21,19386,22,19392,14,19410,null,null,0,2221]
[12,19545,14,19554,13,19563,14,19570,null,null,0,1111]
[12,19779,14,19788,13,19795,14,19802,null,null,0,1111]
[12,19912,14,19922,13,19928,14,19935,null,null,0,1111]
[21,20044,12,20061,13,20066,14,20073,null,null,0,2111]
[21,20166,12,20177,13,20182,14,20189,null,null,0,2111]
[12,20288,23,20298,13,20310,14,20315,null,null,0,1211]
[12,20471,14,20479,13,20485,14,20492,null,null,0,1111]
[21,20584,12,20595,24,20616,23,20622,null,null,0,2122]
[12,20724,14,20731,13,20738,14,20743,null,null,0,1111]
[21,20857,12,20871,13,20876,14,20882,null,null,0,2111]
[12,20980,23,20991,24,20996,23,21003,null,null,0,1222]
[12,21099,14,21108,13,21115,14,21121,null,null,0,1111]
[12,21240,14,21250,13,21256,14,21263,null,null,0,1111]
[12,21380,14,21385,13,21392,14,21398,null,null,0,1111]
[12,21554,14,21561,13,21568,14,21573,null,null,0,1111]
[12,21679,14,21686,13,21691,14,21698,null,null,0,1111]
[12,21953,14,21958,13,21964,14,21970,null,null,0,1111]
[12,22074,14,22079,13,22085,14,22089,null,null,0,1111]
[21,22181,12,22195,13,22201,14,22207,null,null,0,2111]
[12,22316,14,22321,13,22326,14,22333,null,null,0,1111]
[12,22433,23,22444,13,22456,14,22466,null,null,0,1211]
[12,22628,14,22633,13,22639,14,22646,null,null,0,1111]
[12,22747,23,22759,24,22764,23,22769,null,null,0,1222]
[12,22864,14,22869,13,22873,14,22879,null,null,0,1111]
[12,23001,14,23011,13,23016,14,23021,null,null,0,1111]
[12,23199,14,23205,13,23210,14,23217,null,null,0,1111]
[12,23331,14,23341,13,23346,14,23353,null,null,0,1111]
[12,23493,14,23501,13,23505,14,23508,null,null,0,1111]
[21,23601,12,23612,13,23617,14,23625,null,null,0,2111]
[12,23723,14,23731,13,23739,14,23745,null,null,0,1111]
[12,23843,14,23852,13,23858,14,23864,null,null,0,1111]
[21,23974,12,23989,13,23994,14,23999,null,null,null,2111]

{"sheet":"!LB15A25..Du","index":15,"n_rows":177,"n_cols":48,"rows_kept":177,"cut":false,"hidden":false,"merged":[[1,1,1,2],[5,13,5,14],[26,13,26,14],[27,13,27,14],[4,19,4,22],[5,19,5,20],[4,39,4,42],[5,39,5,40],[4,44,4,47],[5,44,5,45],[4,24,4,27],[5,24,5,25],[4,29,4,32],[5,29,5,30],[4,34,4,37],[5,34,5,35]]}
["Report for:!LB15A25..Du"]
["Date:","<date>"]
["Hen:","<hen>",null,null,null,"Correct Sequence",{"$f":"Start!J2","v":2212},null,null,null,null,null,null,null,null,"Total Sequences in Data",{"$f":"4994-COUNTBLANK(L7:L5000)","v":171},null,null,null,null,"Total Sequences in Block Data",{"$f":"COUNTA(L7:L35)","v":29},null,null,null,"Total Sequences in Block Data",{"$f":"COUNTA(L36:L63)","v":28},null,null,null,"Total Sequences in Block Data",{"$f":"COUNTA(L64:L92)","v":29},null,null,null,"Total Sequences in Block Data",{"$f":"COUNTA(L93:L120)","v":28},null,null,null,"Total Sequences in Block Data",{"$f":"COUNTA(L121:L149)","v":29},null,null,null,"Total Sequences in Block Data",{"$f":"COUNTA(L150:L177)","v":28}]
[null,null,null,null,null,null,null,null,null,null,null,null,null,null,null,"Total Sequences in Summary",{"$f":"SUM(O7:O22)","v":171},null,null,null,null,"Total Sequences in Block Summary",{"$f":"SUM(U7:U22)","v":29},null,null,null,"Total Sequences in Block Summary",{"$f":"SUM(Z7:Z22)","v":28},null,null,null,"Total Sequences in Block Summary",{"$f":"SUM(AE7:AE22)","v":29},null,null,null,"Total Sequences in Block Summary",{"$f":"SUM(AJ7:AJ22)","v":28},null,null,null,"Total Sequences in Block Summary",{"$f":"SUM(AO7:AO22)","v":29},null,null,null,"Total Sequences in Block Summary",{"$f":"SUM(AT7:AT22)","v":28}]
[null,null,null,null,null,null,null,null,null,null,null,null,null,null,null,null,null,null,null,"Block 1",null,null,null,null,"Block 2",null,null,null,null,"Block 3",null,null,null,null,"Block 4",null,null,null,null,"Block 5",null,null,null,null,"Block 6"]
["Sequence\nComponent\n1","Time\n1","Sequence\nComponent\n2","Time\n2","Sequence\nComponent\n3","Time\n3","Sequence\nComponent\n4","Time\n4","Sequence\nComponent\n5","Time\n5","Correct?\n0=No 1=Yes","Sequence",null,"Frequency",null,"Relative Frequency","Variability",null,null,"Frequency",null,"Relative Frequency","Variability",null,"Frequency",null,"Relative Frequency","Variability",null,"Frequency",null,"Relative Frequency","Variability",null,"Frequency",null,"Relative Frequency","Variability",null,"Frequency",null,"Relative Frequency","Variability",null,"Frequency",null,"Relative Frequency","Variability"]
[12,11,14,18,13,25,14,32,null,null,0,1111,null,1111,{"$f":"COUNTIF($L$7:$L$500,N7)","v":80},{"$f":"O7/$Q$4","v":0.46783625730994149},{"$f":"IF(P7=0,0,(P7*((LOG(P7))/LOG(2))))","v":-0.51271317894668322},null,null,{"$f":"N7","v":1111},{"$f":"COUNTIF(L7:L35,T7)","v":17},{"$f":"U7/(W4-U20)","v":0.58620689655172409},{"$f":"IF(V7=0,0,(V7*((LOG(V7))/LOG(2))))","v":-0.45168305572113648},null,{"$f":"N7","v":1111},{"$f":"COUNTIF(L36:L63,Y7)","v":11},{"$f":"Z7/(AB4-Z20)","v":0.39285714285714285},{"$f":"IF(AA7=0,0,(AA7*((LOG(AA7))/LOG(2))))","v":-0.52954129777226344},null,{"$f":"N7","v":1111},{"$f":"COUNTIF(L64:L92,AD7)","v":8},{"$f":"AE7/(AG4-AE20)","v":0.27586206896551724},{"$f":"IF(AF7=0,0,(AF7*((LOG(AF7))/LOG(2))))","v":-0.51254648141450265},null,{"$f":"N7","v":1111},{"$f":"COUNTIF(L93:L120,AI7)","v":18},{"$f":"AJ7/(AL4-AJ20)","v":0.6428571428571429},{"$f":"IF(AK7=0,0,(AK7*((LOG(AK7))/LOG(2))))","v":-0.40977637753840174},null,{"$f":"N7","v":1111},{"$f":"COUNTIF(L121:L149,AN7)","v":8},{"$f":"AO7/(AQ4-AO20)","v":0.27586206896551724},{"$f":"IF(AP7=0,0,(AP7*((LOG(AP7))/LOG(2))))","v":-0.51254648141450265},null,{"$f":"N7","v":1111},{"$f":"COUNTIF(L150:L177,AS7)","v":18},{"$f":"AT7/(AV4-AT20)","v":0.6428571428571429},{"$f":"IF(AU7=0,0,(AU7*((LOG(AU7))/LOG(2))))","v":-0.40977637753840174}]
[21,150,21,156,22,163,14,174,null,null,0,2221,null,1112,0,0,0,null,null,1112,{"$f":"COUNTIF(L7:L35,T8)","v":0},{"$f":"U8/(W4-U20)","v":0},0,null,1112,{"$f":"COUNTIF(L36:L63,Y8)","v":0},{"$f":"Z8/(AB4-Z20)","v":0},0,null,1112,{"$f":"COUNTIF(L64:L92,AD8)","v":0},{"$f":"AE8/(AG4-AE20)","v":0},0,null,1112,{"$f":"COUNTIF(L93:L120,AI8)","v":0},{"$f":"AJ8/(AL4-AJ20)","v":0},0,null,1112,{"$f":"COUNTIF(L121:L149,AN8)","v":0},{"$f":"AO8/(AQ4-AO20)","v":0},0,null,1112,{"$f":"COUNTIF(L150:L177,AS8)","v":0},{"$f":"AT8/(AV4-AT20)","v":0},0]
[21,277,12,289,13,293,14,299,null,null,0,2111,null,1121,0,0,0,null,null,1121,{"$f":"COUNTIF(L7:L35,T9)","v":0},{"$f":"U9/(W4-U20)","v":0},0,null,1121,{"$f":"COUNTIF(L36:L63,Y9)","v":0},{"$f":"Z9/(AB4-Z20)","v":0},0,null,1121,{"$f":"COUNTIF(L64:L92,AD9)","v":0},{"$f":"AE9/(AG4-AE20)","v":0},0,null,1121,{"$f":"COUNTIF(L93:L120,AI9)","v":0},{"$f":"AJ9/(AL4-AJ20)","v":0},0,null,1121,{"$f":"COUNTIF(L121:L149,AN9)","v":0},{"$f":"AO9/(AQ4-AO20)","v":0},0,null,1121,{"$f":"COUNTIF(L150:L177,AS9)","v":0},{"$f":"AT9/(AV4-AT20)","v":0},0]
[21,391,21,408,11,420,12,425,null,null,0,2211,null,1122,0,0,0,null,null,1122,{"$f":"COUNTIF(L7:L35,T10)","v":0},{"$f":"U10/(W4-U20)","v":0},0,null,1122,{"$f":"COUNTIF(L36:L63,Y10)","v":0},{"$f":"Z10/(AB4-Z20)","v":0},0,null,1122,{"$f":"COUNTIF(L64:L92,AD10)","v":0},{"$f":"AE10/(AG4-AE20)","v":0},0,null,1122,{"$f":"COUNTIF(L93:L120,AI10)","v":0},{"$f":"AJ10/(AL4-AJ20)","v":0},0,null,1122,{"$f":"COUNTIF(L121:L149,AN10)","v":0},{"$f":"AO10/(AQ4-AO20)","v":0},0,null,1122,{"$f":"COUNTIF(L150:L177,AS10)","v":0},{"$f":"AT10/(AV4-AT20)","v":0},0]
[12,524,14,529,13,534,14,540,null,null,0,1111,null,1211,2,1.1695906432748537E-2,-7.5062602513285351E-2,null,null,1211,{"$f":"COUNTIF(L7:L35,T11)","v":1},{"$f":"U11/(W4-U20)","v":3.4482758620689655E-2},-0.16751658603888178,null,1211,{"$f":"COUNTIF(L36:L63,Y11)","v":0},{"$f":"Z11/(AB4-Z20)","v":0},0,null,1211,{"$f":"COUNTIF(L64:L92,AD11)","v":0},{"$f":"AE11/(AG4-AE20)","v":0},0,null,1211,{"$f":"COUNTIF(L93:L120,AI11)","v":0},{"$f":"AJ11/(AL4-AJ20)","v":0},0,null,1211,{"$f":"COUNTIF(L121:L149,AN11)","v":1},{"$f":"AO11/(AQ4-AO20)","v":3.4482758620689655E-2},-0.16751658603888178,null,1211,{"$f":"COUNTIF(L150:L177,AS11)","v":0},{"$f":"AT11/(AV4-AT20)","v":0},0]
[12,706,14,714,13,726,14,732,null,null,0,1111,null,1212,0,0,0,null,null,1212,{"$f":"COUNTIF(L7:L35,T12)","v":0},{"$f":"U12/(W4-U20)","v":0},0,null,1212,{"$f":"COUNTIF(L36:L63,Y12)","v":0},{"$f":"Z12/(AB4-Z20)","v":0},0,null,1212,{"$f":"COUNTIF(L64:L92,AD12)","v":0},{"$f":"AE12/(AG4-AE20)","v":0},0,null,1212,{"$f":"COUNTIF(L93:L120,AI12)","v":0},{"$f":"AJ12/(AL4-AJ20)","v":0},0,null,1212,{"$f":"COUNTIF(L121:L149,AN12)","v":0},{"$f":"AO12/(AQ4-AO20)","v":0},0,null,1212,{"$f":"COUNTIF(L150:L177,AS12)","v":0},{"$f":"AT12/(AV4-AT20)","v":0},0]
[21,840,21,843,11,858,12,863,null,null,0,2211,null,1221,0,0,0,null,null,1221,{"$f":"COUNTIF(L7:L35,T13)","v":0},{"$f":"U13/(W4-U20)","v":0},0,null,1221,{"$f":"COUNTIF(L36:L63,Y13)","v":0},{"$f":"Z13/(AB4-Z20)","v":0},0,null,1221,{"$f":"COUNTIF(L64:L92,AD13)","v":0},{"$f":"AE13/(AG4-AE20)","v":0},0,null,1221,{"$f":"COUNTIF(L93:L120,AI13)","v":0},{"$f":"AJ13/(AL4-AJ20)","v":0},0,null,1221,{"$f":"COUNTIF(L121:L149,AN13)","v":0},{"$f":"AO13/(AQ4-AO20)","v":0},0,null,1221,{"$f":"COUNTIF(L150:L177,AS13)","v":0},{"$f":"AT13/(AV4-AT20)","v":0},0]
[12,963,14,972,13,977,14,983,null,null,0,1111,null,1222,15,8.771929824561403E-2,-0.30797911572608588,null,null,1222,{"$f":"COUNTIF(L7:L35,T14)","v":0},{"$f":"U14/(W4-U20)","v":0},0,null,1222,{"$f":"COUNTIF(L36:L63,Y14)","v":5},{"$f":"Z14/(AB4-Z20)","v":0.17857142857142858},-0.44382621913754317,null,1222,{"$f":"COUNTIF(L64:L92,AD14)","v":3},{"$f":"AE14/(AG4-AE20)","v":0.10344827586206896},-0.33858812011100858,null,1222,{"$f":"COUNTIF(L93:L120,AI14)","v":1},{"$f":"AJ14/(AL4-AJ20)","v":3.5714285714285712E-2},-0.17169124721634299,null,1222,{"$f":"COUNTIF(L121:L149,AN14)","v":3},{"$f":"AO14/(AQ4-AO20)","v":0.10344827586206896},-0.33858812011100858,null,1222,{"$f":"COUNTIF(L150:L177,AS14)","v":3},{"$f":"AT14/(AV4-AT20)","v":0.10714285714285714},-0.34525633085747659]
[12,1083,14,1089,13,1096,14,1103,null,null,0,1111,null,2111,43,0.25146198830409355,-0.50080861805791455,null,null,2111,{"$f":"COUNTIF(L7:L35,T15)","v":6},{"$f":"U15/(W4-U20)","v":0.20689655172413793},-0.4702796884978791,null,2111,{"$f":"COUNTIF(L36:L63,Y15)","v":8},{"$f":"Z15/(AB4-Z20)","v":0.2857142857142857},-0.51638712058788683,null,2111,{"$f":"COUNTIF(L64:L92,AD15)","v":9},{"$f":"AE15/(AG4-AE20)","v":0.31034482758620691},-0.52387944631611505,null,2111,{"$f":"COUNTIF(L93:L120,AI15)","v":5},{"$f":"AJ15/(AL4-AJ20)","v":0.17857142857142858},-0.44382621913754317,null,2111,{"$f":"COUNTIF(L121:L149,AN15)","v":12},{"$f":"AO15/(AQ4-AO20)","v":0.41379310344827586},-0.5267662735474824,null,2111,{"$f":"COUNTIF(L150:L177,AS15)","v":3},{"$f":"AT15/(AV4-AT20)","v":0.10714285714285714},-0.34525633085747659]
[21,1197,12,1206,13,1210,14,1216,null,null,0,2111,null,2112,0,0,0,null,null,2112,{"$f":"COUNTIF(L7:L35,T16)","v":0},{"$f":"U16/(W4-U20)","v":0},0,null,2112,{"$f":"COUNTIF(L36:L63,Y16)","v":0},{"$f":"Z16/(AB4-Z20)","v":0},0,null,2112,{"$f":"COUNTIF(L64:L92,AD16)","v":0},{"$f":"AE16/(AG4-AE20)","v":0},0,null,2112,{"$f":"COUNTIF(L93:L120,AI16)","v":0},{"$f":"AJ16/(AL4-AJ20)","v":0},0,null,2112,{"$f":"COUNTIF(L121:L149,AN16)","v":0},{"$f":"AO16/(AQ4-AO20)","v":0},0,null,2112,{"$f":"COUNTIF(L150:L177,AS16)","v":0},{"$f":"AT16/(AV4-AT20)","v":0},0]
[12,1382,14,1390,13,1397,14,1403,null,null,0,1111,null,2121,1,5.8479532163742687E-3,-4.3379254473016944E-2,null,null,2121,{"$f":"COUNTIF(L7:L35,T17)","v":0},{"$f":"U17/(W4-U20)","v":0},0,null,2121,{"$f":"COUNTIF(L36:L63,Y17)","v":0},{"$f":"Z17/(AB4-Z20)","v":0},0,null,2121,{"$f":"COUNTIF(L64:L92,AD17)","v":0},{"$f":"AE17/(AG4-AE20)","v":0},0,null,2121,{"$f":"COUNTIF(L93:L120,AI17)","v":0},{"$f":"AJ17/(AL4-AJ20)","v":0},0,null,2121,{"$f":"COUNTIF(L121:L149,AN17)","v":0},{"$f":"AO17/(AQ4-AO20)","v":0},0,null,2121,{"$f":"COUNTIF(L150:L177,AS17)","v":1},{"$f":"AT17/(AV4-AT20)","v":3.5714285714285712E-2},-0.17169124721634299]
[12,1506,14,1511,13,1519,14,1524,null,null,0,1111,null,2122,3,1.7543859649122806E-2,-0.10233140375727617,null,null,2122,{"$f":"COUNTIF(L7:L35,T18)","v":0},{"$f":"U18/(W4-U20)","v":0},0,null,2122,{"$f":"COUNTIF(L36:L63,Y18)","v":1},{"$f":"Z18/(AB4-Z20)","v":3.5714285714285712E-2},-0.17169124721634299,null,2122,{"$f":"COUNTIF(L64:L92,AD18)","v":1},{"$f":"AE18/(AG4-AE20)","v":3.4482758620689655E-2},-0.16751658603888178,null,2122,{"$f":"COUNTIF(L93:L120,AI18)","v":0},{"$f":"AJ18/(AL4-AJ20)","v":0},0,null,2122,{"$f":"COUNTIF(L121:L149,AN18)","v":0},{"$f":"AO18/(AQ4-AO20)","v":0},0,null,2122,{"$f":"COUNTIF(L150:L177,AS18)","v":1},{"$f":"AT18/(AV4-AT20)","v":3.5714285714285712E-2},-0.17169124721634299]
[12,1633,14,1638,13,1643,14,1649,null,null,0,1111,null,2211,12,7.0175438596491224E-2,-0.26897473783612219,null,null,2211,{"$f":"COUNTIF(L7:L35,T19)","v":3},{"$f":"U19/(W4-U20)","v":0.10344827586206896},-0.33858812011100858,null,2211,{"$f":"COUNTIF(L36:L63,Y19)","v":1},{"$f":"Z19/(AB4-Z20)","v":3.5714285714285712E-2},-0.17169124721634299,null,2211,{"$f":"COUNTIF(L64:L92,AD19)","v":5},{"$f":"AE19/(AG4-AE20)","v":0.17241379310344829},-0.43725050004141547,null,2211,{"$f":"COUNTIF(L93:L120,AI19)","v":0},{"$f":"AJ19/(AL4-AJ20)","v":0},0,null,2211,{"$f":"COUNTIF(L121:L149,AN19)","v":3},{"$f":"AO19/(AQ4-AO20)","v":0.10344827586206896},-0.33858812011100858,null,2211,{"$f":"COUNTIF(L150:L177,AS19)","v":0},{"$f":"AT19/(AV4-AT20)","v":0},0]
[12,1744,14,1749,13,1755,14,1760,null,null,0,1111,null,2212,0,0,0,null,null,2212,{"$f":"COUNTIF(L7:L35,T20)","v":0},null,null,null,2212,{"$f":"COUNTIF(L36:L63,Y20)","v":0},null,null,null,2212,{"$f":"COUNTIF(L64:L92,AD20)","v":0},null,null,null,2212,{"$f":"COUNTIF(L93:L120,AI20)","v":0},null,null,null,2212,{"$f":"COUNTIF(L121:L149,AN20)","v":0},null,null,null,2212,{"$f":"COUNTIF(L150:L177,AS20)","v":0}]
[12,1860,14,1864,13,1870,14,1880,null,null,0,1111,null,2221,1,5.8479532163742687E-3,-4.3379254473016944E-2,null,null,2221,{"$f":"COUNTIF(L7:L35,T21)","v":1},{"$f":"U21/(W4-U20)","v":3.4482758620689655E-2},{"$f":"IF(V21=0,0,(V21*((LOG(V21))/LOG(2))))","v":-0.16751658603888178},null,2221,{"$f":"COUNTIF(L36:L63,Y21)","v":0},{"$f":"Z21/(AB4-Z20)","v":0},{"$f":"IF(AA21=0,0,(AA21*((LOG(AA21))/LOG(2))))","v":0},null,2221,{"$f":"COUNTIF(L64:L92,AD21)","v":0},{"$f":"AE21/(AG4-AE20)","v":0},{"$f":"IF(AF21=0,0,(AF21*((LOG(AF21))/LOG(2))))","v":0},null,2221,{"$f":"COUNTIF(L93:L120,AI21)","v":0},{"$f":"AJ21/(AL4-AJ20)","v":0},{"$f":"IF(AK21=0,0,(AK21*((LOG(AK21))/LOG(2))))","v":0},null,2221,{"$f":"COUNTIF(L121:L149,AN21)","v":0},{"$f":"AO21/(AQ4-AO20)","v":0},{"$f":"IF(AP21=0,0,(AP21*((LOG(AP21))/LOG(2))))","v":0},null,2221,{"$f":"COUNTIF(L150:L177,AS21)","v":0},{"$f":"AT21/(AV4-AT20)","v":0},{"$f":"IF(AU21=0,0,(AU21*((LOG(AU21))/LOG(2))))","v":0}]
[12,1991,14,1997,13,2002,14,2008,null,null,0,1111,null,2222,14,8.1871345029239762E-2,-0.29559629414968486,null,null,2222,{"$f":"COUNTIF(L7:L35,T22)","v":1},{"$f":"U22/(W4-U20)","v":3.4482758620689655E-2},{"$f":"IF(V22=0,0,(V22*((LOG(V22))/LOG(2))))","v":-0.16751658603888178},null,2222,{"$f":"COUNTIF(L36:L63,Y22)","v":2},{"$f":"Z22/(AB4-Z20)","v":7.1428571428571425E-2},{"$f":"IF(AA22=0,0,(AA22*((LOG(AA22))/LOG(2))))","v":-0.27195392300411453},null,2222,{"$f":"COUNTIF(L64:L92,AD22)","v":3},{"$f":"AE22/(AG4-AE20)","v":0.10344827586206896},{"$f":"IF(AF22=0,0,(AF22*((LOG(AF22))/LOG(2))))","v":-0.33858812011100858},null,2222,{"$f":"COUNTIF(L93:L120,AI22)","v":4},{"$f":"AJ22/(AL4-AJ20)","v":0.14285714285714285},{"$f":"IF(AK22=0,0,(AK22*((LOG(AK22))/LOG(2))))","v":-0.40105070315108626},null,2222,{"$f":"COUNTIF(L121:L149,AN22)","v":2},{"$f":"AO22/(AQ4-AO20)","v":6.8965517241379309E-2},{"$f":"IF(AP22=0,0,(AP22*((LOG(AP22))/LOG(2))))","v":-0.26606765483638428},null,2222,{"$f":"COUNTIF(L150:L177,AS22)","v":2},{"$f":"AT22/(AV4-AT20)","v":7.1428571428571425E-2},{"$f":"IF(AU22=0,0,(AU22*((LOG(AU22))/LOG(2))))","v":-0.27195392300411453}]
[21,2100,12,2116,13,2124,14,2130,null,null,0,2111,null,null,null,{"$f":"SUM(P7:P22)","v":0.99999999999999989},{"$f":"-SUM(Q7:Q22)","v":2.1502244599330864},null,null,null,null,{"$f":"SUM(V7:V22)","v":0.99999999999999978},{"$f":"-SUM(W7:W22)","v":1.7631006224466697},null,null,null,{"$f":"SUM(AA7:AA22)","v":0.99999999999999989},{"$f":"-SUM(AB7:AB22)","v":2.1050910549344937},null,null,null,{"$f":"SUM(AF7:AF22)","v":1},{"$f":"-SUM(AG7:AG22)","v":2.3183692540329321},null,null,null,{"$f":"SUM(AK7:AK22)","v":1},{"$f":"-SUM(AL7:AL22)","v":1.4263445470433744},null,null,null,{"$f":"SUM(AP7:AP22)","v":1},{"$f":"-SUM(AQ7:AQ22)","v":2.150073236059268},null,null,null,{"$f":"SUM(AU7:AU22)","v":0.99999999999999989},{"$f":"-SUM(AV7:AV22)","v":1.7156254566901554}]
[12,2238,14,2250,13,2256,14,2261,null,null,0,1111,null,null,null,"U=",{"$f":"Q23/(LOG(Q4)/LOG(2))","v":0.28987155724895963},null,null,null,null,"U1=",{"$f":"W23/(LOG(W4)/LOG(2))","v":0.36292867843966731},null,null,null,"U2=",{"$f":"AB23/(LOG(AB4)/LOG(2))","v":0.43788966886461761},null,null,null,"U3=",{"$f":"AG23/(LOG(AG4)/LOG(2))","v":0.47722896741633941},null,null,null,"U4=",{"$f":"AL23/(LOG(AL4)/LOG(2))","v":0.29670048710131069},null,null,null,"U5=",{"$f":"AQ23/(LOG(AQ4)/LOG(2))","v":0.44258576520075632},null,null,null,"U6=",{"$f":"AV23/(LOG(AV4)/LOG(2))","v":0.35687513913698049}]
[12,2412,14,2416,13,2427,14,2433,null,null,0,1111]
[12,2541,14,2546,13,2550,14,2556,null,null,0,1111]
[12,2664,14,2671,13,2676,14,2682,null,null,0,1111,null,"Total Target Seq"]
[21,2782,21,2811,11,2823,12,2829,null,null,0,2211,null,{"$f":"COUNTIF(L7:L177,G3)","v":0},null,29,28,29,28,29,28]
[12,2930,14,2936,13,2941,14,2946,null,null,0,1111,null,null,null,"% of reinforcement given in 6 equal intervals based on number of trials "]
[12,3058,14,3064,13,3069,14,3074,null,null,0,1111,null,null,null,"%_1","%_2","%_3","%_4","%_5","%_6"]
[21,3171,12,3179,13,3184,14,3190,null,null,0,2111,null,null,"target sequence",{"$f":"$G$3","v":2212},2212,2212,2212,2212,2212]
[21,3286,12,3297,13,3308,14,3313,null,null,0,2111,null,null,"total reinforcement",{"$f":"U20","v":0},{"$f":"Z20","v":0},{"$f":"AE20","v":0},{"$f":"AJ20","v":0},{"$f":"AO20","v":0},{"$f":"AT20","v":0}]
[12,3412,23,3421,13,3434,14,3440,null,null,0,1211,null,null,"% target"]
[21,3549,12,3570,13,3580,14,3586,null,null,0,2111,null,null,"CCRF"]
[21,3679,21,3691,22,3719,23,3721,null,null,0,2222,null,null,"% CCRf"]
[12,3906,14,3916,13,3921,14,3928,null,null,0,1111,null,null,"average response rate",{"$f":"H35/P28","v":128.31034482758622},{"$f":"(H63-H35)/Q28","v":137.89285714285714},{"$f":"(H92-H63)/R28","v":139.82758620689654},{"$f":"(H120-H92)/S28","v":143.78571428571428},{"$f":"(H149-H120)/T28","v":140.86206896551724},{"$f":"(H177-H149)/U28","v":146.57142857142858}]
[21,4039,12,4050,13,4055,14,4060,null,null,0,2111]
[12,4205,14,4213,13,4218,14,4224,null,null,0,1111]
[21,4325,12,4345,24,4352,23,4357,null,null,0,2122]
[12,4463,14,4468,13,4474,14,4480,null,null,0,1111]
[12,4655,14,4661,13,4666,14,4677,null,null,0,1111]
[21,4808,12,4818,13,4822,14,4827,null,null,0,2111]
[21,4919,12,4927,13,4936,14,4942,null,null,0,2111]
[12,5044,23,5053,24,5058,23,5064,null,null,0,1222]
[21,5156,12,5176,13,5181,14,5186,null,null,0,2111]
[12,5285,14,5291,13,5297,14,5309,null,null,0,1111]
[21,5413,21,5416,11,5425,12,5431,null,null,0,2211]
[12,5534,23,5548,24,5553,23,5559,null,null,0,1222]
[12,5679,14,5683,13,5694,14,5701,null,null,0,1111]
[21,5816,21,5824,22,5830,23,5840,null,null,0,2222]
[12,5935,23,5944,24,5948,23,5953,null,null,0,1222]
[21,6062,21,6067,22,6074,23,6079,null,null,0,2222]
[12,6280,14,6285,13,6292,14,6299,null,null,0,1111]
[12,6421,14,6426,13,6432,14,6438,null,null,0,1111]
[12,6541,14,6546,13,6551,14,6557,null,null,0,1111]
[21,6660,12,6672,13,6677,14,6682,null,null,0,2111]
[21,6786,12,6799,13,6809,14,6815,null,null,0,2111]
[12,6947,14,6952,13,6958,14,6964,null,null,0,1111]
[21,7056,12,7064,13,7069,14,7075,null,null,0,2111]
[12,7189,23,7205,24,7210,23,7217,null,null,0,1222]
[12,7324,14,7328,13,7334,14,7340,null,null,0,1111]
[21,7446,12,7458,13,7464,14,7470,null,null,0,2111]
[12,7568,23,7577,24,7579,23,7582,null,null,0,1222]
[12,7779,14,7790,13,7795,14,7800,null,null,0,1111]
[21,7902,12,7910,13,7914,14,7919,null,null,0,2111]
[21,8038,21,8044,22,8049,23,8056,null,null,0,2222]
[21,8164,21,8185,11,8198,12,8203,null,null,0,2211]
[12,8310,14,8321,13,8326,14,8332,null,null,0,1111]
[21,8435,12,8448,13,8453,14,8459,null,null,0,2111]
[12,8563,23,8576,24,8581,23,8586,null,null,0,1222]
[21,8679,21,8694,11,8707,12,8712,null,null,0,2211]
[12,8734,14,8740,13,8747,14,8754,null,null,0,1111]
[21,8852,12,8868,13,8873,14,8880,null,null,0,2111]
[21,8985,12,8999,13,9003,14,9009,null,null,0,2111]
[21,9112,12,9129,13,9134,14,9140,null,null,0,2111]
[21,9241,21,9256,11,9276,12,9281,null,null,0,2211]
[21,9374,21,9397,22,9404,23,9411,null,null,0,2222]
[12,9613,14,9618,13,9630,14,9636,null,null,0,1111]
[21,9773,12,9786,13,9791,14,9797,null,null,0,2111]
[21,9908,21,9924,11,9943,12,9949,null,null,0,2211]
[21,10054,12,10067,13,10077,14,10082,null,null,0,2111]
[12,10203,23,10213,24,10217,23,10223,null,null,0,1222]
[21,10333,12,10350,13,10355,14,10361,null,null,0,2111]
[21,10470,12,10499,24,10512,23,10518,null,null,0,2122]
[12,10623,23,10633,24,10638,23,10644,null,null,0,1222]
[12,10748,14,10759,13,10765,14,10771,null,null,0,1111]
[12,10895,14,10897,13,10908,14,10914,null,null,0,1111]
[12,11029,14,11036,13,11042,14,11049,null,null,0,1111]
[21,11216,12,11229,13,11235,14,11241,null,null,0,2111]
[21,11352,21,11356,22,11363,23,11368,null,null,0,2222]
[12,11480,14,11484,13,11492,14,11497,null,null,0,1111]
[21,11595,21,11613,11,11631,12,11637,null,null,0,2211]
[21,11746,21,11752,22,11760,23,11767,null,null,0,2222]
[12,11873,23,11882,24,11886,23,11893,null,null,0,1222]
[12,11992,14,11999,13,12006,14,12011,null,null,0,1111]
[12,12175,14,12182,13,12188,14,12194,null,null,0,1111]
[12,12402,14,12407,13,12413,14,12419,null,null,0,1111]
[12,12635,14,12641,13,12647,14,12654,null,null,0,1111]
[21,12773,12,12785,13,12789,14,12795,null,null,0,2111]
[12,12931,14,12937,13,12942,14,12948,null,null,0,1111]
[12,13066,14,13073,13,13080,14,13086,null,null,0,1111]
[21,13199,12,13211,13,13216,14,13222,null,null,0,2111]
[21,13316,12,13334,13,13345,14,13352,null,null,0,2111]
[21,13500,12,13513,13,13517,14,13523,null,null,0,2111]
[12,13620,14,13628,13,13634,14,13645,null,null,0,1111]
[12,13747,14,13759,13,13772,14,13779,null,null,0,1111]
[12,13893,14,13899,13,13903,14,13910,null,null,0,1111]
[12,14007,14,14013,13,14021,14,14026,null,null,0,1111]
[12,14182,14,14187,13,14193,14,14199,null,null,0,1111]
[12,14318,14,14323,13,14328,14,14334,null,null,0,1111]
[12,14425,14,14435,13,14440,14,14446,null,null,0,1111]
[12,14542,14,14550,13,14556,14,14563,null,null,0,1111]
[21,14676,21,14681,22,14687,23,14693,null,null,0,2222]
[12,14796,14,14804,13,14815,14,14821,null,null,0,1111]
[12,14946,14,14950,13,14956,14,14963,null,null,0,1111]
[21,15071,12,15091,13,15096,14,15102,null,null,0,2111]
[21,15211,21,15216,22,15229,23,15236,null,null,0,2222]
[12,15374,14,15380,13,15386,14,15392,null,null,0,1111]
[12,15521,14,15525,13,15532,14,15538,null,null,0,1111]
[21,15634,21,15653,22,15658,23,15663,null,null,0,2222]
[21,15853,12,15863,13,15868,14,15874,null,null,0,2111]
[21,15975,12,16004,13,16009,14,16020,null,null,0,2111]
[21,16125,12,16136,13,16141,14,16146,null,null,0,2111]
[12,16243,14,16252,13,16256,14,16262,null,null,0,1111]
[12,16390,14,16400,13,16407,14,16413,null,null,0,1111]
[21,16539,21,16543,22,16549,23,16555,null,null,0,2222]
[21,16655,21,16674,11,16690,12,16700,null,null,0,2211]
[21,16795,12,16814,13,16820,14,16826,null,null,0,2111]
[12,16940,14,16946,13,16952,14,16958,null,null,0,1111]
[21,17109,12,17123,13,17127,14,17133,null,null,0,2111]
[21,17251,12,17262,13,17267,14,17273,null,null,0,2111]
[21,17385,12,17414,13,17418,14,17423,null,null,0,2111]
[21,17545,12,17557,13,17563,14,17568,null,null,0,2111]
[12,17665,14,17671,13,17695,14,17702,null,null,0,1111]
[21,17813,21,17819,11,17837,12,17842,null,null,0,2211]
[12,17939,14,17952,13,17959,14,17965,null,null,0,1111]
[21,18122,12,18134,13,18139,14,18146,null,null,0,2111]
[21,18247,12,18260,13,18265,14,18270,null,null,0,2111]
[21,18408,12,18418,13,18424,14,18430,null,null,0,2111]
[21,18536,12,18548,13,18555,14,18560,null,null,0,2111]
[12,18655,23,18670,13,18684,14,18689,null,null,0,1211]
[12,18800,23,18814,24,18819,23,18825,null,null,0,1222]
[12,18928,23,18940,24,18945,23,18951,null,null,0,1222]
[21,19057,21,19075,22,19083,23,19088,null,null,0,2222]
[12,19198,14,19202,13,19208,14,19214,null,null,0,1111]
[12,19321,23,19333,24,19337,23,19342,null,null,0,1222]
[12,19452,14,19458,13,19464,14,19470,null,null,0,1111]
[12,19590,14,19595,13,19601,14,19607,null,null,0,1111]
[21,19724,21,19728,11,19742,12,19748,null,null,0,2211]
[21,19770,12,19788,13,19793,14,19800,null,null,0,2111]
[12,20029,23,20040,24,20047,23,20053,null,null,0,1222]
[21,20158,12,20172,24,20184,23,20189,null,null,0,2122]
[21,20312,12,20329,24,20340,14,20357,null,null,0,2121]
[21,20453,12,20469,13,20482,14,20489,null,null,0,2111]
[12,20594,14,20633,13,20650,14,20658,null,null,0,1111]
[12,20762,14,20766,13,20773,14,20780,null,null,0,1111]
[12,20879,14,20887,13,20899,14,20907,null,null,0,1111]
[12,21036,14,21042,13,21053,14,21060,null,null,0,1111]
[12,21285,14,21291,13,21303,14,21317,null,null,0,1111]
[21,21412,12,21430,13,21448,14,21455,null,null,0,2111]
[12,21561,14,21571,13,21579,14,21585,null,null,0,1111]
[12,21701,14,21721,13,21727,14,21734,null,null,0,1111]
[12,21937,14,21943,13,21949,14,21956,null,null,0,1111]
[12,22052,14,22059,13,22066,14,22073,null,null,0,1111]
[21,22181,21,22183,22,22189,23,22196,null,null,0,2222]
[12,22377,14,22386,13,22390,14,22397,null,null,0,1111]
[12,22508,14,22522,13,22533,14,22540,null,null,0,1111]
[12,22651,14,22657,13,22662,14,22668,null,null,0,1111]
[12,22768,23,22777,24,22790,23,22796,null,null,0,1222]
[12,22904,14,22910,13,22917,14,22923,null,null,0,1111]
[12,23073,14,23082,13,23087,14,23092,null,null,0,1111]
[12,23189,23,23200,24,23203,23,23209,null,null,0,1222]
[21,23317,21,23321,22,23327,23,23333,null,null,0,2222]
[12,23436,14,23446,13,23450,14,23456,null,null,0,1111]
[12,23566,14,23576,13,23583,14,23589,null,null,0,1111]
[12,23703,14,23710,13,23715,14,23722,null,null,0,1111]
[12,23832,14,23839,13,23845,14,23852,null,null,0,1111]

{"sheet":"!LB16A15..Du","index":16,"n_rows":179,"n_cols":48,"rows_kept":179,"cut":false,"hidden":false,"merged":[[1,1,1,2],[5,13,5,14],[26,13,26,14],[27,13,27,14],[4,19,4,22],[5,19,5,20],[4,39,4,42],[5,39,5,40],[4,44,4,47],[5,44,5,45],[4,24,4,27],[5,24,5,25],[4,29,4,32],[5,29,5,30],[4,34,4,37],[5,34,5,35]]}
["Report for:!LB16A15..Du"]
["Date:","<date>"]
["Hen:","<hen>",null,null,null,"Correct Sequence",{"$f":"Start!J2","v":2212},null,null,null,null,null,null,null,null,"Total Sequences in Data",{"$f":"4994-COUNTBLANK(L7:L5000)","v":173},null,null,null,null,"Total Sequences in Block Data",{"$f":"COUNTA(L7:L35)","v":29},null,null,null,"Total Sequences in Block Data",{"$f":"COUNTA(L36:L64)","v":29},null,null,null,"Total Sequences in Block Data",{"$f":"COUNTA(L65:L92)","v":28},null,null,null,"Total Sequences in Block Data",{"$f":"COUNTA(L93:L121)","v":29},null,null,null,"Total Sequences in Block Data",{"$f":"COUNTA(L122:L150)","v":29},null,null,null,"Total Sequences in Block Data",{"$f":"COUNTA(L151:L179)","v":29}]
[null,null,null,null,null,null,null,null,null,null,null,null,null,null,null,"Total Sequences in Summary",{"$f":"SUM(O7:O22)","v":173},null,null,null,null,"Total Sequences in Block Summary",{"$f":"SUM(U7:U22)","v":29},null,null,null,"Total Sequences in Block Summary",{"$f":"SUM(Z7:Z22)","v":29},null,null,null,"Total Sequences in Block Summary",{"$f":"SUM(AE7:AE22)","v":28},null,null,null,"Total Sequences in Block Summary",{"$f":"SUM(AJ7:AJ22)","v":29},null,null,null,"Total Sequences in Block Summary",{"$f":"SUM(AO7:AO22)","v":29},null,null,null,"Total Sequences in Block Summary",{"$f":"SUM(AT7:AT22)","v":29}]
[null,null,null,null,null,null,null,null,null,null,null,null,null,null,null,null,null,null,null,"Block 1",null,null,null,null,"Block 2",null,null,null,null,"Block 3",null,null,null,null,"Block 4",null,null,null,null,"Block 5",null,null,null,null,"Block 6"]
["Sequence\nComponent\n1","Time\n1","Sequence\nComponent\n2","Time\n2","Sequence\nComponent\n3","Time\n3","Sequence\nComponent\n4","Time\n4","Sequence\nComponent\n5","Time\n5","Correct?\n0=No 1=Yes","Sequence",null,"Frequency",null,"Relative Frequency","Variability",null,null,"Frequency",null,"Relative Frequency","Variability",null,"Frequency",null,"Relative Frequency","Variability",null,"Frequency",null,"Relative Frequency","Variability",null,"Frequency",null,"Relative Frequency","Variability",null,"Frequency",null,"Relative Frequency","Variability",null,"Frequency",null,"Relative Frequency","Variability"]
[21,4,21,29,22,35,14,49,null,null,0,2221,null,1111,{"$f":"COUNTIF($L$7:$L$500,N7)","v":75},{"$f":"O7/$Q$4","v":0.43352601156069365},{"$f":"IF(P7=0,0,(P7*((LOG(P7))/LOG(2))))","v":-0.52274979933851606},null,null,{"$f":"N7","v":1111},{"$f":"COUNTIF(L7:L35,T7)","v":14},{"$f":"U7/(W4-U20)","v":0.48275862068965519},{"$f":"IF(V7=0,0,(V7*((LOG(V7))/LOG(2))))","v":-0.50719879389584666},null,{"$f":"N7","v":1111},{"$f":"COUNTIF(L36:L64,Y7)","v":13},{"$f":"Z7/(AB4-Z20)","v":0.44827586206896552},{"$f":"IF(AA7=0,0,(AA7*((LOG(AA7))/LOG(2))))","v":-0.51889781382152544},null,{"$f":"N7","v":1111},{"$f":"COUNTIF(L65:L92,AD7)","v":15},{"$f":"AE7/(AG4-AE20)","v":0.5357142857142857},{"$f":"IF(AF7=0,0,(AF7*((LOG(AF7))/LOG(2))))","v":-0.48239160345486726},null,{"$f":"N7","v":1111},{"$f":"COUNTIF(L93:L121,AI7)","v":10},{"$f":"AJ7/(AL4-AJ20)","v":0.34482758620689657},{"$f":"IF(AK7=0,0,(AK7*((LOG(AK7))/LOG(2))))","v":-0.52967341387593436},null,{"$f":"N7","v":1111},{"$f":"COUNTIF(L122:L150,AN7)","v":12},{"$f":"AO7/(AQ4-AO20)","v":0.41379310344827586},{"$f":"IF(AP7=0,0,(AP7*((LOG(AP7))/LOG(2))))","v":-0.5267662735474824},null,{"$f":"N7","v":1111},{"$f":"COUNTIF(L151:L179,AS7)","v":11},{"$f":"AT7/(AV4-AT20)","v":0.37931034482758619},{"$f":"IF(AU7=0,0,(AU7*((LOG(AU7))/LOG(2))))","v":-0.53048424625493174}]
[21,152,12,162,13,168,14,179,null,null,0,2111,null,1112,0,0,0,null,null,1112,{"$f":"COUNTIF(L7:L35,T8)","v":0},{"$f":"U8/(W4-U20)","v":0},0,null,1112,{"$f":"COUNTIF(L36:L64,Y8)","v":0},{"$f":"Z8/(AB4-Z20)","v":0},0,null,1112,{"$f":"COUNTIF(L65:L92,AD8)","v":0},{"$f":"AE8/(AG4-AE20)","v":0},0,null,1112,{"$f":"COUNTIF(L93:L121,AI8)","v":0},{"$f":"AJ8/(AL4-AJ20)","v":0},0,null,1112,{"$f":"COUNTIF(L122:L150,AN8)","v":0},{"$f":"AO8/(AQ4-AO20)","v":0},0,null,1112,{"$f":"COUNTIF(L151:L179,AS8)","v":0},{"$f":"AT8/(AV4-AT20)","v":0},0]
[12,354,14,360,13,365,14,370,null,null,0,1111,null,1121,0,0,0,null,null,1121,{"$f":"COUNTIF(L7:L35,T9)","v":0},{"$f":"U9/(W4-U20)","v":0},0,null,1121,{"$f":"COUNTIF(L36:L64,Y9)","v":0},{"$f":"Z9/(AB4-Z20)","v":0},0,null,1121,{"$f":"COUNTIF(L65:L92,AD9)","v":0},{"$f":"AE9/(AG4-AE20)","v":0},0,null,1121,{"$f":"COUNTIF(L93:L121,AI9)","v":0},{"$f":"AJ9/(AL4-AJ20)","v":0},0,null,1121,{"$f":"COUNTIF(L122:L150,AN9)","v":0},{"$f":"AO9/(AQ4-AO20)","v":0},0,null,1121,{"$f":"COUNTIF(L151:L179,AS9)","v":0},{"$f":"AT9/(AV4-AT20)","v":0},0]
[21,467,12,496,13,502,14,507,null,null,0,2111,null,1122,0,0,0,null,null,1122,{"$f":"COUNTIF(L7:L35,T10)","v":0},{"$f":"U10/(W4-U20)","v":0},0,null,1122,{"$f":"COUNTIF(L36:L64,Y10)","v":0},{"$f":"Z10/(AB4-Z20)","v":0},0,null,1122,{"$f":"COUNTIF(L65:L92,AD10)","v":0},{"$f":"AE10/(AG4-AE20)","v":0},0,null,1122,{"$f":"COUNTIF(L93:L121,AI10)","v":0},{"$f":"AJ10/(AL4-AJ20)","v":0},0,null,1122,{"$f":"COUNTIF(L122:L150,AN10)","v":0},{"$f":"AO10/(AQ4-AO20)","v":0},0,null,1122,{"$f":"COUNTIF(L151:L179,AS10)","v":0},{"$f":"AT10/(AV4-AT20)","v":0},0]
[21,615,12,626,13,631,14,637,null,null,0,2111,null,1211,4,2.3121387283236993E-2,-0.12565614399160055,null,null,1211,{"$f":"COUNTIF(L7:L35,T11)","v":0},{"$f":"U11/(W4-U20)","v":0},0,null,1211,{"$f":"COUNTIF(L36:L64,Y11)","v":2},{"$f":"Z11/(AB4-Z20)","v":6.8965517241379309E-2},-0.26606765483638428,null,1211,{"$f":"COUNTIF(L65:L92,AD11)","v":1},{"$f":"AE11/(AG4-AE20)","v":3.5714285714285712E-2},-0.17169124721634299,null,1211,{"$f":"COUNTIF(L93:L121,AI11)","v":1},{"$f":"AJ11/(AL4-AJ20)","v":3.4482758620689655E-2},-0.16751658603888178,null,1211,{"$f":"COUNTIF(L122:L150,AN11)","v":0},{"$f":"AO11/(AQ4-AO20)","v":0},0,null,1211,{"$f":"COUNTIF(L151:L179,AS11)","v":0},{"$f":"AT11/(AV4-AT20)","v":0},0]
[21,734,21,754,11,767,12,772,null,null,0,2211,null,1212,0,0,0,null,null,1212,{"$f":"COUNTIF(L7:L35,T12)","v":0},{"$f":"U12/(W4-U20)","v":0},0,null,1212,{"$f":"COUNTIF(L36:L64,Y12)","v":0},{"$f":"Z12/(AB4-Z20)","v":0},0,null,1212,{"$f":"COUNTIF(L65:L92,AD12)","v":0},{"$f":"AE12/(AG4-AE20)","v":0},0,null,1212,{"$f":"COUNTIF(L93:L121,AI12)","v":0},{"$f":"AJ12/(AL4-AJ20)","v":0},0,null,1212,{"$f":"COUNTIF(L122:L150,AN12)","v":0},{"$f":"AO12/(AQ4-AO20)","v":0},0,null,1212,{"$f":"COUNTIF(L151:L179,AS12)","v":0},{"$f":"AT12/(AV4-AT20)","v":0},0]
[21,881,21,886,22,893,23,899,null,null,0,2222,null,1221,0,0,0,null,null,1221,{"$f":"COUNTIF(L7:L35,T13)","v":0},{"$f":"U13/(W4-U20)","v":0},0,null,1221,{"$f":"COUNTIF(L36:L64,Y13)","v":0},{"$f":"Z13/(AB4-Z20)","v":0},0,null,1221,{"$f":"COUNTIF(L65:L92,AD13)","v":0},{"$f":"AE13/(AG4-AE20)","v":0},0,null,1221,{"$f":"COUNTIF(L93:L121,AI13)","v":0},{"$f":"AJ13/(AL4-AJ20)","v":0},0,null,1221,{"$f":"COUNTIF(L122:L150,AN13)","v":0},{"$f":"AO13/(AQ4-AO20)","v":0},0,null,1221,{"$f":"COUNTIF(L151:L179,AS13)","v":0},{"$f":"AT13/(AV4-AT20)","v":0},0]
[12,1091,14,1099,13,1105,14,1111,null,null,0,1111,null,1222,18,0.10404624277456648,-0.33968010445953423,null,null,1222,{"$f":"COUNTIF(L7:L35,T14)","v":4},{"$f":"U14/(W4-U20)","v":0.13793103448275862},-0.39420427519000989,null,1222,{"$f":"COUNTIF(L36:L64,Y14)","v":3},{"$f":"Z14/(AB4-Z20)","v":0.10344827586206896},-0.33858812011100858,null,1222,{"$f":"COUNTIF(L65:L92,AD14)","v":1},{"$f":"AE14/(AG4-AE20)","v":3.5714285714285712E-2},-0.17169124721634299,null,1222,{"$f":"COUNTIF(L93:L121,AI14)","v":3},{"$f":"AJ14/(AL4-AJ20)","v":0.10344827586206896},-0.33858812011100858,null,1222,{"$f":"COUNTIF(L122:L150,AN14)","v":3},{"$f":"AO14/(AQ4-AO20)","v":0.10344827586206896},-0.33858812011100858,null,1222,{"$f":"COUNTIF(L151:L179,AS14)","v":4},{"$f":"AT14/(AV4-AT20)","v":0.13793103448275862},-0.39420427519000989]
[12,1265,14,1272,13,1277,14,1283,null,null,0,1111,null,2111,31,0.1791907514450867,-0.44447045916037758,null,null,2111,{"$f":"COUNTIF(L7:L35,T15)","v":6},{"$f":"U15/(W4-U20)","v":0.20689655172413793},-0.4702796884978791,null,2111,{"$f":"COUNTIF(L36:L64,Y15)","v":7},{"$f":"Z15/(AB4-Z20)","v":0.2413793103448276},-0.49497870729275095,null,2111,{"$f":"COUNTIF(L65:L92,AD15)","v":7},{"$f":"AE15/(AG4-AE20)","v":0.25},-0.5,null,2111,{"$f":"COUNTIF(L93:L121,AI15)","v":4},{"$f":"AJ15/(AL4-AJ20)","v":0.13793103448275862},-0.39420427519000989,null,2111,{"$f":"COUNTIF(L122:L150,AN15)","v":4},{"$f":"AO15/(AQ4-AO20)","v":0.13793103448275862},-0.39420427519000989,null,2111,{"$f":"COUNTIF(L151:L179,AS15)","v":3},{"$f":"AT15/(AV4-AT20)","v":0.10344827586206896},-0.33858812011100858]
[12,1402,14,1406,13,1410,14,1416,null,null,0,1111,null,2112,0,0,0,null,null,2112,{"$f":"COUNTIF(L7:L35,T16)","v":0},{"$f":"U16/(W4-U20)","v":0},0,null,2112,{"$f":"COUNTIF(L36:L64,Y16)","v":0},{"$f":"Z16/(AB4-Z20)","v":0},0,null,2112,{"$f":"COUNTIF(L65:L92,AD16)","v":0},{"$f":"AE16/(AG4-AE20)","v":0},0,null,2112,{"$f":"COUNTIF(L93:L121,AI16)","v":0},{"$f":"AJ16/(AL4-AJ20)","v":0},0,null,2112,{"$f":"COUNTIF(L122:L150,AN16)","v":0},{"$f":"AO16/(AQ4-AO20)","v":0},0,null,2112,{"$f":"COUNTIF(L151:L179,AS16)","v":0},{"$f":"AT16/(AV4-AT20)","v":0},0]
[12,1515,14,1523,13,1530,14,1536,null,null,0,1111,null,2121,1,5.7803468208092483E-3,-4.2974729639518636E-2,null,null,2121,{"$f":"COUNTIF(L7:L35,T17)","v":0},{"$f":"U17/(W4-U20)","v":0},0,null,2121,{"$f":"COUNTIF(L36:L64,Y17)","v":0},{"$f":"Z17/(AB4-Z20)","v":0},0,null,2121,{"$f":"COUNTIF(L65:L92,AD17)","v":0},{"$f":"AE17/(AG4-AE20)","v":0},0,null,2121,{"$f":"COUNTIF(L93:L121,AI17)","v":1},{"$f":"AJ17/(AL4-AJ20)","v":3.4482758620689655E-2},-0.16751658603888178,null,2121,{"$f":"COUNTIF(L122:L150,AN17)","v":0},{"$f":"AO17/(AQ4-AO20)","v":0},0,null,2121,{"$f":"COUNTIF(L151:L179,AS17)","v":0},{"$f":"AT17/(AV4-AT20)","v":0},0]
[21,1657,21,1663,22,1669,23,1675,null,null,0,2222,null,2122,0,0,0,null,null,2122,{"$f":"COUNTIF(L7:L35,T18)","v":0},{"$f":"U18/(W4-U20)","v":0},0,null,2122,{"$f":"COUNTIF(L36:L64,Y18)","v":0},{"$f":"Z18/(AB4-Z20)","v":0},0,null,2122,{"$f":"COUNTIF(L65:L92,AD18)","v":0},{"$f":"AE18/(AG4-AE20)","v":0},0,null,2122,{"$f":"COUNTIF(L93:L121,AI18)","v":0},{"$f":"AJ18/(AL4-AJ20)","v":0},0,null,2122,{"$f":"COUNTIF(L122:L150,AN18)","v":0},{"$f":"AO18/(AQ4-AO20)","v":0},0,null,2122,{"$f":"COUNTIF(L151:L179,AS18)","v":0},{"$f":"AT18/(AV4-AT20)","v":0},0]
[12,1827,14,1833,13,1838,14,1843,null,null,0,1111,null,2211,7,4.046242774566474E-2,-0.18723071178643838,null,null,2211,{"$f":"COUNTIF(L7:L35,T19)","v":1},{"$f":"U19/(W4-U20)","v":3.4482758620689655E-2},-0.16751658603888178,null,2211,{"$f":"COUNTIF(L36:L64,Y19)","v":1},{"$f":"Z19/(AB4-Z20)","v":3.4482758620689655E-2},-0.16751658603888178,null,2211,{"$f":"COUNTIF(L65:L92,AD19)","v":1},{"$f":"AE19/(AG4-AE20)","v":3.5714285714285712E-2},-0.17169124721634299,null,2211,{"$f":"COUNTIF(L93:L121,AI19)","v":2},{"$f":"AJ19/(AL4-AJ20)","v":6.8965517241379309E-2},-0.26606765483638428,null,2211,{"$f":"COUNTIF(L122:L150,AN19)","v":1},{"$f":"AO19/(AQ4-AO20)","v":3.4482758620689655E-2},-0.16751658603888178,null,2211,{"$f":"COUNTIF(L151:L179,AS19)","v":1},{"$f":"AT19/(AV4-AT20)","v":3.4482758620689655E-2},-0.16751658603888178]
[12,1939,23,1947,24,1952,23,1957,null,null,0,1222,null,2212,0,0,0,null,null,2212,{"$f":"COUNTIF(L7:L35,T20)","v":0},null,null,null,2212,{"$f":"COUNTIF(L36:L64,Y20)","v":0},null,null,null,2212,{"$f":"COUNTIF(L65:L92,AD20)","v":0},null,null,null,2212,{"$f":"COUNTIF(L93:L121,AI20)","v":0},null,null,null,2212,{"$f":"COUNTIF(L122:L150,AN20)","v":0},null,null,null,2212,{"$f":"COUNTIF(L151:L179,AS20)","v":0}]
[12,2052,23,2064,24,2067,23,2072,null,null,0,1222,null,2221,1,5.7803468208092483E-3,-4.2974729639518636E-2,null,null,2221,{"$f":"COUNTIF(L7:L35,T21)","v":1},{"$f":"U21/(W4-U20)","v":3.4482758620689655E-2},{"$f":"IF(V21=0,0,(V21*((LOG(V21))/LOG(2))))","v":-0.16751658603888178},null,2221,{"$f":"COUNTIF(L36:L64,Y21)","v":0},{"$f":"Z21/(AB4-Z20)","v":0},{"$f":"IF(AA21=0,0,(AA21*((LOG(AA21))/LOG(2))))","v":0},null,2221,{"$f":"COUNTIF(L65:L92,AD21)","v":0},{"$f":"AE21/(AG4-AE20)","v":0},{"$f":"IF(AF21=0,0,(AF21*((LOG(AF21))/LOG(2))))","v":0},null,2221,{"$f":"COUNTIF(L93:L121,AI21)","v":0},{"$f":"AJ21/(AL4-AJ20)","v":0},{"$f":"IF(AK21=0,0,(AK21*((LOG(AK21))/LOG(2))))","v":0},null,2221,{"$f":"COUNTIF(L122:L150,AN21)","v":0},{"$f":"AO21/(AQ4-AO20)","v":0},{"$f":"IF(AP21=0,0,(AP21*((LOG(AP21))/LOG(2))))","v":0},null,2221,{"$f":"COUNTIF(L151:L179,AS21)","v":0},{"$f":"AT21/(AV4-AT20)","v":0},{"$f":"IF(AU21=0,0,(AU21*((LOG(AU21))/LOG(2))))","v":0}]
[12,2171,23,2183,24,2187,23,2192,null,null,0,1222,null,2222,36,0.20809248554913296,-0.47126772336993544,null,null,2222,{"$f":"COUNTIF(L7:L35,T22)","v":3},{"$f":"U22/(W4-U20)","v":0.10344827586206896},{"$f":"IF(V22=0,0,(V22*((LOG(V22))/LOG(2))))","v":-0.33858812011100858},null,2222,{"$f":"COUNTIF(L36:L64,Y22)","v":3},{"$f":"Z22/(AB4-Z20)","v":0.10344827586206896},{"$f":"IF(AA22=0,0,(AA22*((LOG(AA22))/LOG(2))))","v":-0.33858812011100858},null,2222,{"$f":"COUNTIF(L65:L92,AD22)","v":3},{"$f":"AE22/(AG4-AE20)","v":0.10714285714285714},{"$f":"IF(AF22=0,0,(AF22*((LOG(AF22))/LOG(2))))","v":-0.34525633085747659},null,2222,{"$f":"COUNTIF(L93:L121,AI22)","v":8},{"$f":"AJ22/(AL4-AJ20)","v":0.27586206896551724},{"$f":"IF(AK22=0,0,(AK22*((LOG(AK22))/LOG(2))))","v":-0.51254648141450265},null,2222,{"$f":"COUNTIF(L122:L150,AN22)","v":9},{"$f":"AO22/(AQ4-AO20)","v":0.31034482758620691},{"$f":"IF(AP22=0,0,(AP22*((LOG(AP22))/LOG(2))))","v":-0.52387944631611505},null,2222,{"$f":"COUNTIF(L151:L179,AS22)","v":10},{"$f":"AT22/(AV4-AT20)","v":0.34482758620689657},{"$f":"IF(AU22=0,0,(AU22*((LOG(AU22))/LOG(2))))","v":-0.52967341387593436}]
[21,2286,12,2311,13,2315,14,2319,null,null,0,2111,null,null,null,{"$f":"SUM(P7:P22)","v":1},{"$f":"-SUM(Q7:Q22)","v":2.1770044013854397},null,null,null,null,{"$f":"SUM(V7:V22)","v":0.99999999999999989},{"$f":"-SUM(W7:W22)","v":2.0453040497725077},null,null,null,{"$f":"SUM(AA7:AA22)","v":1},{"$f":"-SUM(AB7:AB22)","v":2.1246370022115597},null,null,null,{"$f":"SUM(AF7:AF22)","v":0.99999999999999989},{"$f":"-SUM(AG7:AG22)","v":1.8427216759613727},null,null,null,{"$f":"SUM(AK7:AK22)","v":1},{"$f":"-SUM(AL7:AL22)","v":2.3761131175056036},null,null,null,{"$f":"SUM(AP7:AP22)","v":1},{"$f":"-SUM(AQ7:AQ22)","v":1.9509547012034978},null,null,null,{"$f":"SUM(AU7:AU22)","v":0.99999999999999989},{"$f":"-SUM(AV7:AV22)","v":1.9604666414707665}]
[12,2470,14,2485,13,2490,14,2496,null,null,0,1111,null,null,null,"U=",{"$f":"Q23/(LOG(Q4)/LOG(2))","v":0.29281953780726611},null,null,null,null,"U1=",{"$f":"W23/(LOG(W4)/LOG(2))","v":0.42101936006416951},null,null,null,"U2=",{"$f":"AB23/(LOG(AB4)/LOG(2))","v":0.43734979703348265},null,null,null,"U3=",{"$f":"AG23/(LOG(AG4)/LOG(2))","v":0.38331300805488822},null,null,null,"U4=",{"$f":"AL23/(LOG(AL4)/LOG(2))","v":0.48911535880621665},null,null,null,"U5=",{"$f":"AQ23/(LOG(AQ4)/LOG(2))","v":0.40159784551653338},null,null,null,"U6=",{"$f":"AV23/(LOG(AV4)/LOG(2))","v":0.40355584829110352}]
[12,2592,14,2599,13,2605,14,2610,null,null,0,1111]
[21,2712,21,2722,22,2728,23,2734,null,null,0,2222]
[12,2829,14,2835,13,2840,14,2846,null,null,0,1111,null,"Total Target Seq"]
[12,2958,14,2963,13,2968,14,2975,null,null,0,1111,null,{"$f":"COUNTIF(L7:L179,G3)","v":0},null,29,29,28,29,29,29]
[12,3132,14,3137,13,3142,14,3148,null,null,0,1111,null,null,null,"% of reinforcement given in 6 equal intervals based on number of trials "]
[12,3302,14,3308,13,3312,14,3318,null,null,0,1111,null,null,null,"%_1","%_2","%_3","%_4","%_5","%_6"]
[21,3415,12,3437,13,3442,14,3448,null,null,0,2111,null,null,"target sequence",{"$f":"$G$3","v":2212},2212,2212,2212,2212,2212]
[12,3546,23,3559,24,3564,23,3569,null,null,0,1222,null,null,"total reinforcement",{"$f":"U20","v":0},{"$f":"Z20","v":0},{"$f":"AE20","v":0},{"$f":"AJ20","v":0},{"$f":"AO20","v":0},{"$f":"AT20","v":0}]
[12,3678,14,3687,13,3693,14,3698,null,null,0,1111,null,null,"% target"]
[21,3863,12,3871,13,3876,14,3887,null,null,0,2111,null,null,"CCRF"]
[12,3988,14,3993,13,4001,14,4007,null,null,0,1111,null,null,"% CCRf"]
[21,4113,21,4117,22,4123,23,4128,null,null,0,2222,null,null,"average response rate",{"$f":"H35/P28","v":138.17241379310346},{"$f":"(H64-H35)/Q28","v":141.20689655172413},{"$f":"(H92-H64)/R28","v":134.67857142857142},{"$f":"(H121-H92)/S28","v":133.27586206896552},{"$f":"(H150-H121)/T28","v":135.89655172413794},{"$f":"(H179-H150)/U28","v":148.93103448275863}]
[12,4239,14,4245,13,4256,14,4262,null,null,0,1111]
[12,4378,14,4383,13,4391,14,4397,null,null,0,1111]
[21,4517,12,4526,13,4530,14,4536,null,null,0,2111]
[12,4637,14,4641,13,4648,14,4652,null,null,0,1111]
[12,4762,14,4772,13,4778,14,4783,null,null,0,1111]
[12,4900,14,4905,13,4910,14,4916,null,null,0,1111]
[12,5013,23,5025,24,5030,23,5036,null,null,0,1222]
[21,5144,12,5158,13,5163,14,5169,null,null,0,2111]
[12,5263,23,5272,13,5287,14,5292,null,null,0,1211]
[12,5448,14,5452,13,5458,14,5474,null,null,0,1111]
[12,5574,23,5586,24,5590,23,5596,null,null,0,1222]
[12,5708,14,5713,13,5722,14,5728,null,null,0,1111]
[21,5820,21,5823,11,5848,12,5853,null,null,0,2211]
[12,5963,14,5968,13,5973,14,5980,null,null,0,1111]
[12,6075,23,6087,24,6093,23,6099,null,null,0,1222]
[21,6193,21,6226,22,6229,23,6235,null,null,0,2222]
[12,6409,14,6417,13,6422,14,6428,null,null,0,1111]
[21,6528,12,6548,13,6553,14,6560,null,null,0,2111]
[12,6714,14,6721,13,6726,14,6732,null,null,0,1111]
[21,6827,21,6848,22,6854,23,6859,null,null,0,2222]
[12,6983,14,6989,13,6994,14,7001,null,null,0,1111]
[21,7130,12,7143,13,7154,14,7159,null,null,0,2111]
[12,7261,23,7268,13,7286,14,7291,null,null,0,1211]
[12,7384,14,7392,13,7399,14,7406,null,null,0,1111]
[21,7503,12,7512,13,7518,14,7524,null,null,0,2111]
[12,7637,14,7643,13,7655,14,7661,null,null,0,1111]
[21,7874,12,7893,13,7899,14,7912,null,null,0,2111]
[21,8086,12,8094,13,8098,14,8102,null,null,0,2111]
[12,8196,14,8206,13,8213,14,8219,null,null,0,1111]
[12,8322,14,8326,13,8332,14,8338,null,null,0,1111]
[21,8439,12,8453,13,8459,14,8465,null,null,0,2111]
[12,8559,14,8566,13,8573,14,8579,null,null,0,1111]
[21,8732,12,8744,13,8749,14,8755,null,null,0,2111]
[12,8861,14,8865,13,8872,14,8877,null,null,0,1111]
[12,8973,14,8991,13,8997,14,9003,null,null,0,1111]
[21,9126,21,9132,22,9137,23,9143,null,null,0,2222]
[12,9254,23,9265,24,9270,23,9281,null,null,0,1222]
[12,9389,14,9394,13,9399,14,9406,null,null,0,1111]
[21,9508,12,9517,13,9522,14,9528,null,null,0,2111]
[12,9629,23,9642,13,9659,14,9664,null,null,0,1211]
[12,9918,14,9922,13,9932,14,9937,null,null,0,1111]
[21,10034,12,10057,13,10063,14,10068,null,null,0,2111]
[12,10177,14,10183,13,10190,14,10195,null,null,0,1111]
[12,10295,14,10304,13,10310,14,10315,null,null,0,1111]
[12,10435,14,10439,13,10445,14,10450,null,null,0,1111]
[21,10550,12,10563,13,10576,14,10581,null,null,0,2111]
[21,10675,21,10695,22,10700,23,10706,null,null,0,2222]
[12,10826,14,10837,13,10843,14,10849,null,null,0,1111]
[21,10943,12,10954,13,10960,14,10966,null,null,0,2111]
[12,11067,14,11072,13,11078,14,11083,null,null,0,1111]
[21,11205,12,11220,13,11227,14,11234,null,null,0,2111]
[21,11347,21,11354,11,11369,12,11373,null,null,0,2211]
[12,11482,14,11488,13,11494,14,11505,null,null,0,1111]
[12,11610,14,11617,13,11622,14,11628,null,null,0,1111]
[12,11727,14,11731,13,11738,14,11744,null,null,0,1111]
[21,11854,21,11862,22,11867,23,11873,null,null,0,2222]
[12,11970,14,11985,13,11991,14,11997,null,null,0,1111]
[21,12091,21,12107,22,12112,23,12118,null,null,0,2222]
[21,12214,12,12222,24,12229,14,12244,null,null,0,2121]
[12,12357,14,12363,13,12368,14,12374,null,null,0,1111]
[21,12471,21,12487,11,12502,12,12512,null,null,0,2211]
[21,12538,21,12543,22,12550,23,12556,null,null,0,2222]
[21,12658,21,12664,22,12689,23,12715,null,null,0,2222]
[21,12818,12,12832,13,12839,14,12845,null,null,0,2111]
[12,12947,23,12954,24,12960,23,12966,null,null,0,1222]
[12,13070,23,13084,13,13098,14,13103,null,null,0,1211]
[21,13211,21,13218,22,13227,23,13234,null,null,0,2222]
[12,13377,14,13383,13,13388,14,13395,null,null,0,1111]
[12,13497,23,13509,24,13514,23,13520,null,null,0,1222]
[21,13636,21,13640,11,13653,12,13659,null,null,0,2211]
[21,13683,21,13692,22,13701,23,13710,null,null,0,2222]
[12,13822,14,13828,13,13835,14,13842,null,null,0,1111]
[21,13987,21,13994,22,14003,23,14010,null,null,0,2222]
[21,14114,12,14133,13,14139,14,14145,null,null,0,2111]
[21,14280,21,14286,22,14293,23,14299,null,null,0,2222]
[12,14414,14,14419,13,14431,14,14438,null,null,0,1111]
[21,14543,12,14560,13,14565,14,14571,null,null,0,2111]
[21,14733,12,14744,13,14749,14,14755,null,null,0,2111]
[12,14857,14,14867,13,14872,14,14877,null,null,0,1111]
[12,14975,23,14983,24,14985,23,14988,null,null,0,1222]
[12,15083,14,15097,13,15103,14,15109,null,null,0,1111]
[12,15215,14,15220,13,15226,14,15231,null,null,0,1111]
[21,15345,21,15350,22,15356,23,15358,null,null,0,2222]
[12,15468,14,15474,13,15479,14,15486,null,null,0,1111]
[12,15721,14,15725,13,15731,14,15738,null,null,0,1111]
[12,15832,23,15846,24,15851,23,15856,null,null,0,1222]
[21,15965,21,15968,22,15974,23,15982,null,null,0,2222]
[12,16204,14,16213,13,16219,14,16231,null,null,0,1111]
[12,16340,14,16348,13,16355,14,16361,null,null,0,1111]
[12,16478,14,16484,13,16490,14,16495,null,null,0,1111]
[12,16591,23,16603,24,16608,23,16614,null,null,0,1222]
[21,16707,21,16725,22,16730,23,16736,null,null,0,2222]
[12,16942,14,16947,13,16953,14,16959,null,null,0,1111]
[21,17053,21,17074,22,17079,23,17085,null,null,0,2222]
[12,17189,14,17194,13,17200,14,17206,null,null,0,1111]
[21,17316,21,17322,22,17328,23,17334,null,null,0,2222]
[21,17444,21,17449,22,17455,23,17461,null,null,0,2222]
[12,17563,14,17572,13,17578,14,17584,null,null,0,1111]
[21,17692,21,17697,22,17703,23,17709,null,null,0,2222]
[21,17824,21,17829,22,17835,23,17841,null,null,0,2222]
[21,18023,12,18035,13,18040,14,18046,null,null,0,2111]
[21,18138,21,18156,11,18172,12,18177,null,null,0,2211]
[21,18197,21,18201,22,18208,23,18213,null,null,0,2222]
[12,18315,14,18325,13,18331,14,18338,null,null,0,1111]
[12,18453,14,18459,13,18466,14,18472,null,null,0,1111]
[21,18598,12,18615,13,18621,14,18628,null,null,0,2111]
[21,18735,21,18756,22,18760,23,18766,null,null,0,2222]
[12,18894,14,18900,13,18906,14,18912,null,null,0,1111]
[12,19018,14,19023,13,19029,14,19035,null,null,0,1111]
[12,19131,14,19146,13,19153,14,19159,null,null,0,1111]
[21,19271,12,19287,13,19292,14,19298,null,null,0,2111]
[12,19407,14,19413,13,19422,14,19428,null,null,0,1111]
[12,19523,23,19538,24,19542,23,19548,null,null,0,1222]
[21,19654,12,19668,13,19674,14,19679,null,null,0,2111]
[21,19790,21,19796,22,19802,23,19807,null,null,0,2222]
[12,19909,14,19913,13,19919,14,19925,null,null,0,1111]
[21,20048,21,20054,22,20060,23,20067,null,null,0,2222]
[21,20177,12,20195,13,20200,14,20206,null,null,0,2111]
[12,20308,23,20325,24,20330,23,20336,null,null,0,1222]
[21,20451,12,20468,13,20473,14,20479,null,null,0,2111]
[12,20578,23,20586,24,20589,23,20594,null,null,0,1222]
[21,20700,21,20720,22,20728,23,20735,null,null,0,2222]
[12,20924,14,20930,13,20938,14,20944,null,null,0,1111]
[12,21057,14,21067,13,21081,14,21088,null,null,0,1111]
[12,21204,14,21210,13,21216,14,21223,null,null,0,1111]
[12,21362,14,21368,13,21373,14,21380,null,null,0,1111]
[21,21476,21,21497,11,21512,12,21518,null,null,0,2211]
[12,21621,23,21631,24,21638,23,21644,null,null,0,1222]
[21,21755,21,21760,22,21767,23,21772,null,null,0,2222]
[12,21878,23,21893,24,21900,23,21907,null,null,0,1222]
[12,22110,14,22117,13,22123,14,22130,null,null,0,1111]
[21,22247,21,22253,22,22259,23,22266,null,null,0,2222]
[12,22488,14,22494,13,22501,14,22508,null,null,0,1111]
[12,22710,14,22717,13,22722,14,22729,null,null,0,1111]
[12,22852,14,22861,13,22866,14,22872,null,null,0,1111]
[21,23015,12,23030,13,23036,14,23043,null,null,0,2111]
[12,23146,14,23157,13,23162,14,23168,null,null,0,1111]
[21,23279,21,23283,22,23288,23,23295,null,null,0,2222]
[21,23404,21,23411,22,23418,23,23425,null,null,0,2222]
[21,23570,21,23575,22,23581,23,23588,null,null,0,2222]
[21,23705,21,23722,22,23732,23,23740,null,null,0,2222]
[12,23844,14,23851,13,23857,14,23862,null,null,0,1111]
[21,23967,21,23987,22,23991,23,23998,null,null,null,2222]

{"sheet":"!LB17A05..Du","index":17,"n_rows":175,"n_cols":48,"rows_kept":175,"cut":false,"hidden":false,"merged":[[1,1,1,2],[5,13,5,14],[26,13,26,14],[27,13,27,14],[4,19,4,22],[5,19,5,20],[4,39,4,42],[5,39,5,40],[4,44,4,47],[5,44,5,45],[4,24,4,27],[5,24,5,25],[4,29,4,32],[5,29,5,30],[4,34,4,37],[5,34,5,35]]}
["Report for:!LB17A05..Du"]
["Date:","<date>"]
["Hen:","<hen>",null,null,null,"Correct Sequence",{"$f":"Start!J2","v":2212},null,null,null,null,null,null,null,null,"Total Sequences in Data",{"$f":"4994-COUNTBLANK(L7:L5000)","v":169},null,null,null,null,"Total Sequences in Block Data",{"$f":"COUNTA(L7:L34)","v":28},null,null,null,"Total Sequences in Block Data",{"$f":"COUNTA(L35:L62)","v":28},null,null,null,"Total Sequences in Block Data",{"$f":"COUNTA(L63:L91)","v":29},null,null,null,"Total Sequences in Block Data",{"$f":"COUNTA(L92:L119)","v":28},null,null,null,"Total Sequences in Block Data",{"$f":"COUNTA(L120:L147)","v":28},null,null,null,"Total Sequences in Block Data",{"$f":"COUNTA(L148:L175)","v":28}]
[null,null,null,null,null,null,null,null,null,null,null,null,null,null,null,"Total Sequences in Summary",{"$f":"SUM(O7:O22)","v":169},null,null,null,null,"Total Sequences in Block Summary",{"$f":"SUM(U7:U22)","v":28},null,null,null,"Total Sequences in Block Summary",{"$f":"SUM(Z7:Z22)","v":28},null,null,null,"Total Sequences in Block Summary",{"$f":"SUM(AE7:AE22)","v":29},null,null,null,"Total Sequences in Block Summary",{"$f":"SUM(AJ7:AJ22)","v":28},null,null,null,"Total Sequences in Block Summary",{"$f":"SUM(AO7:AO22)","v":28},null,null,null,"Total Sequences in Block Summary",{"$f":"SUM(AT7:AT22)","v":28}]
[null,null,null,null,null,null,null,null,null,null,null,null,null,null,null,null,null,null,null,"Block 1",null,null,null,null,"Block 2",null,null,null,null,"Block 3",null,null,null,null,"Block 4",null,null,null,null,"Block 5",null,null,null,null,"Block 6"]
["Sequence\nComponent\n1","Time\n1","Sequence\nComponent\n2","Time\n2","Sequence\nComponent\n3","Time\n3","Sequence\nComponent\n4","Time\n4","Sequence\nComponent\n5","Time\n5","Correct?\n0=No 1=Yes","Sequence",null,"Frequency",null,"Relative Frequency","Variability",null,null,"Frequency",null,"Relative Frequency","Variability",null,"Frequency",null,"Relative Frequency","Variability",null,"Frequency",null,"Relative Frequency","Variability",null,"Frequency",null,"Relative Frequency","Variability",null,"Frequency",null,"Relative Frequency","Variability",null,"Frequency",null,"Relative Frequency","Variability"]
[21,454,21,459,22,463,14,477,null,null,0,2221,null,1111,{"$f":"COUNTIF($L$7:$L$500,N7)","v":47},{"$f":"O7/$Q$4","v":0.27810650887573962},{"$f":"IF(P7=0,0,(P7*((LOG(P7))/LOG(2))))","v":-0.51346542885451896},null,null,{"$f":"N7","v":1111},{"$f":"COUNTIF(L7:L34,T7)","v":12},{"$f":"U7/(W4-U20)","v":0.42857142857142855},{"$f":"IF(V7=0,0,(V7*((LOG(V7))/LOG(2))))","v":-0.52388246628704915},null,{"$f":"N7","v":1111},{"$f":"COUNTIF(L35:L62,Y7)","v":7},{"$f":"Z7/(AB4-Z20)","v":0.25},{"$f":"IF(AA7=0,0,(AA7*((LOG(AA7))/LOG(2))))","v":-0.5},null,{"$f":"N7","v":1111},{"$f":"COUNTIF(L63:L91,AD7)","v":9},{"$f":"AE7/(AG4-AE20)","v":0.31034482758620691},{"$f":"IF(AF7=0,0,(AF7*((LOG(AF7))/LOG(2))))","v":-0.52387944631611505},null,{"$f":"N7","v":1111},{"$f":"COUNTIF(L92:L119,AI7)","v":5},{"$f":"AJ7/(AL4-AJ20)","v":0.17857142857142858},{"$f":"IF(AK7=0,0,(AK7*((LOG(AK7))/LOG(2))))","v":-0.44382621913754317},null,{"$f":"N7","v":1111},{"$f":"COUNTIF(L120:L147,AN7)","v":7},{"$f":"AO7/(AQ4-AO20)","v":0.25},{"$f":"IF(AP7=0,0,(AP7*((LOG(AP7))/LOG(2))))","v":-0.5},null,{"$f":"N7","v":1111},{"$f":"COUNTIF(L148:L175,AS7)","v":7},{"$f":"AT7/(AV4-AT20)","v":0.25},{"$f":"IF(AU7=0,0,(AU7*((LOG(AU7))/LOG(2))))","v":-0.5}]
[12,684,14,689,13,695,14,700,null,null,0,1111,null,1112,1,5.9171597633136093E-3,-4.3792186013504049E-2,null,null,1112,{"$f":"COUNTIF(L7:L34,T8)","v":1},{"$f":"U8/(W4-U20)","v":3.5714285714285712E-2},-0.17169124721634299,null,1112,{"$f":"COUNTIF(L35:L62,Y8)","v":0},{"$f":"Z8/(AB4-Z20)","v":0},0,null,1112,{"$f":"COUNTIF(L63:L91,AD8)","v":0},{"$f":"AE8/(AG4-AE20)","v":0},0,null,1112,{"$f":"COUNTIF(L92:L119,AI8)","v":0},{"$f":"AJ8/(AL4-AJ20)","v":0},0,null,1112,{"$f":"COUNTIF(L120:L147,AN8)","v":0},{"$f":"AO8/(AQ4-AO20)","v":0},0,null,1112,{"$f":"COUNTIF(L148:L175,AS8)","v":0},{"$f":"AT8/(AV4-AT20)","v":0},0]
[21,832,12,845,13,853,14,871,null,null,0,2111,null,1121,0,0,0,null,null,1121,{"$f":"COUNTIF(L7:L34,T9)","v":0},{"$f":"U9/(W4-U20)","v":0},0,null,1121,{"$f":"COUNTIF(L35:L62,Y9)","v":0},{"$f":"Z9/(AB4-Z20)","v":0},0,null,1121,{"$f":"COUNTIF(L63:L91,AD9)","v":0},{"$f":"AE9/(AG4-AE20)","v":0},0,null,1121,{"$f":"COUNTIF(L92:L119,AI9)","v":0},{"$f":"AJ9/(AL4-AJ20)","v":0},0,null,1121,{"$f":"COUNTIF(L120:L147,AN9)","v":0},{"$f":"AO9/(AQ4-AO20)","v":0},0,null,1121,{"$f":"COUNTIF(L148:L175,AS9)","v":0},{"$f":"AT9/(AV4-AT20)","v":0},0]
[21,970,21,998,22,1004,23,1020,null,null,0,2222,null,1122,1,5.9171597633136093E-3,-4.3792186013504049E-2,null,null,1122,{"$f":"COUNTIF(L7:L34,T10)","v":0},{"$f":"U10/(W4-U20)","v":0},0,null,1122,{"$f":"COUNTIF(L35:L62,Y10)","v":0},{"$f":"Z10/(AB4-Z20)","v":0},0,null,1122,{"$f":"COUNTIF(L63:L91,AD10)","v":0},{"$f":"AE10/(AG4-AE20)","v":0},0,null,1122,{"$f":"COUNTIF(L92:L119,AI10)","v":1},{"$f":"AJ10/(AL4-AJ20)","v":3.5714285714285712E-2},-0.17169124721634299,null,1122,{"$f":"COUNTIF(L120:L147,AN10)","v":0},{"$f":"AO10/(AQ4-AO20)","v":0},0,null,1122,{"$f":"COUNTIF(L148:L175,AS10)","v":0},{"$f":"AT10/(AV4-AT20)","v":0},0]
[21,1124,12,1134,13,1138,14,1144,null,null,0,2111,null,1211,2,1.1834319526627219E-2,-7.5750052500380874E-2,null,null,1211,{"$f":"COUNTIF(L7:L34,T11)","v":2},{"$f":"U11/(W4-U20)","v":7.1428571428571425E-2},-0.27195392300411453,null,1211,{"$f":"COUNTIF(L35:L62,Y11)","v":0},{"$f":"Z11/(AB4-Z20)","v":0},0,null,1211,{"$f":"COUNTIF(L63:L91,AD11)","v":0},{"$f":"AE11/(AG4-AE20)","v":0},0,null,1211,{"$f":"COUNTIF(L92:L119,AI11)","v":0},{"$f":"AJ11/(AL4-AJ20)","v":0},0,null,1211,{"$f":"COUNTIF(L120:L147,AN11)","v":0},{"$f":"AO11/(AQ4-AO20)","v":0},0,null,1211,{"$f":"COUNTIF(L148:L175,AS11)","v":0},{"$f":"AT11/(AV4-AT20)","v":0},0]
[12,1238,23,1245,13,1257,14,1262,null,null,0,1211,null,1212,0,0,0,null,null,1212,{"$f":"COUNTIF(L7:L34,T12)","v":0},{"$f":"U12/(W4-U20)","v":0},0,null,1212,{"$f":"COUNTIF(L35:L62,Y12)","v":0},{"$f":"Z12/(AB4-Z20)","v":0},0,null,1212,{"$f":"COUNTIF(L63:L91,AD12)","v":0},{"$f":"AE12/(AG4-AE20)","v":0},0,null,1212,{"$f":"COUNTIF(L92:L119,AI12)","v":0},{"$f":"AJ12/(AL4-AJ20)","v":0},0,null,1212,{"$f":"COUNTIF(L120:L147,AN12)","v":0},{"$f":"AO12/(AQ4-AO20)","v":0},0,null,1212,{"$f":"COUNTIF(L148:L175,AS12)","v":0},{"$f":"AT12/(AV4-AT20)","v":0},0]
[12,1426,14,1432,13,1438,14,1444,null,null,0,1111,null,1221,1,5.9171597633136093E-3,-4.3792186013504049E-2,null,null,1221,{"$f":"COUNTIF(L7:L34,T13)","v":0},{"$f":"U13/(W4-U20)","v":0},0,null,1221,{"$f":"COUNTIF(L35:L62,Y13)","v":0},{"$f":"Z13/(AB4-Z20)","v":0},0,null,1221,{"$f":"COUNTIF(L63:L91,AD13)","v":0},{"$f":"AE13/(AG4-AE20)","v":0},0,null,1221,{"$f":"COUNTIF(L92:L119,AI13)","v":1},{"$f":"AJ13/(AL4-AJ20)","v":3.5714285714285712E-2},-0.17169124721634299,null,1221,{"$f":"COUNTIF(L120:L147,AN13)","v":0},{"$f":"AO13/(AQ4-AO20)","v":0},0,null,1221,{"$f":"COUNTIF(L148:L175,AS13)","v":0},{"$f":"AT13/(AV4-AT20)","v":0},0]
[12,1573,14,1578,13,1586,23,1597,null,null,0,1112,null,1222,17,0.10059171597633136,-0.3333022610387063,null,null,1222,{"$f":"COUNTIF(L7:L34,T14)","v":3},{"$f":"U14/(W4-U20)","v":0.10714285714285714},-0.34525633085747659,null,1222,{"$f":"COUNTIF(L35:L62,Y14)","v":3},{"$f":"Z14/(AB4-Z20)","v":0.10714285714285714},-0.34525633085747659,null,1222,{"$f":"COUNTIF(L63:L91,AD14)","v":1},{"$f":"AE14/(AG4-AE20)","v":3.4482758620689655E-2},-0.16751658603888178,null,1222,{"$f":"COUNTIF(L92:L119,AI14)","v":2},{"$f":"AJ14/(AL4-AJ20)","v":7.1428571428571425E-2},-0.27195392300411453,null,1222,{"$f":"COUNTIF(L120:L147,AN14)","v":4},{"$f":"AO14/(AQ4-AO20)","v":0.14285714285714285},-0.40105070315108626,null,1222,{"$f":"COUNTIF(L148:L175,AS14)","v":4},{"$f":"AT14/(AV4-AT20)","v":0.14285714285714285},-0.40105070315108626]
[12,1708,14,1713,13,1719,14,1725,null,null,0,1111,null,2111,33,0.19526627218934911,-0.46014210330463384,null,null,2111,{"$f":"COUNTIF(L7:L34,T15)","v":7},{"$f":"U15/(W4-U20)","v":0.25},-0.5,null,2111,{"$f":"COUNTIF(L35:L62,Y15)","v":11},{"$f":"Z15/(AB4-Z20)","v":0.39285714285714285},-0.52954129777226344,null,2111,{"$f":"COUNTIF(L63:L91,AD15)","v":7},{"$f":"AE15/(AG4-AE20)","v":0.2413793103448276},-0.49497870729275095,null,2111,{"$f":"COUNTIF(L92:L119,AI15)","v":1},{"$f":"AJ15/(AL4-AJ20)","v":3.5714285714285712E-2},-0.17169124721634299,null,2111,{"$f":"COUNTIF(L120:L147,AN15)","v":4},{"$f":"AO15/(AQ4-AO20)","v":0.14285714285714285},-0.40105070315108626,null,2111,{"$f":"COUNTIF(L148:L175,AS15)","v":3},{"$f":"AT15/(AV4-AT20)","v":0.10714285714285714},-0.34525633085747659]
[12,1822,23,1831,13,1847,14,1852,null,null,0,1211,null,2112,0,0,0,null,null,2112,{"$f":"COUNTIF(L7:L34,T16)","v":0},{"$f":"U16/(W4-U20)","v":0},0,null,2112,{"$f":"COUNTIF(L35:L62,Y16)","v":0},{"$f":"Z16/(AB4-Z20)","v":0},0,null,2112,{"$f":"COUNTIF(L63:L91,AD16)","v":0},{"$f":"AE16/(AG4-AE20)","v":0},0,null,2112,{"$f":"COUNTIF(L92:L119,AI16)","v":0},{"$f":"AJ16/(AL4-AJ20)","v":0},0,null,2112,{"$f":"COUNTIF(L120:L147,AN16)","v":0},{"$f":"AO16/(AQ4-AO20)","v":0},0,null,2112,{"$f":"COUNTIF(L148:L175,AS16)","v":0},{"$f":"AT16/(AV4-AT20)","v":0},0]
[12,1977,14,1982,13,1992,14,1997,null,null,0,1111,null,2121,0,0,0,null,null,2121,{"$f":"COUNTIF(L7:L34,T17)","v":0},{"$f":"U17/(W4-U20)","v":0},0,null,2121,{"$f":"COUNTIF(L35:L62,Y17)","v":0},{"$f":"Z17/(AB4-Z20)","v":0},0,null,2121,{"$f":"COUNTIF(L63:L91,AD17)","v":0},{"$f":"AE17/(AG4-AE20)","v":0},0,null,2121,{"$f":"COUNTIF(L92:L119,AI17)","v":0},{"$f":"AJ17/(AL4-AJ20)","v":0},0,null,2121,{"$f":"COUNTIF(L120:L147,AN17)","v":0},{"$f":"AO17/(AQ4-AO20)","v":0},0,null,2121,{"$f":"COUNTIF(L148:L175,AS17)","v":0},{"$f":"AT17/(AV4-AT20)","v":0},0]
[12,2137,14,2141,13,2146,14,2154,null,null,0,1111,null,2122,2,1.1834319526627219E-2,-7.5750052500380874E-2,null,null,2122,{"$f":"COUNTIF(L7:L34,T18)","v":0},{"$f":"U18/(W4-U20)","v":0},0,null,2122,{"$f":"COUNTIF(L35:L62,Y18)","v":1},{"$f":"Z18/(AB4-Z20)","v":3.5714285714285712E-2},-0.17169124721634299,null,2122,{"$f":"COUNTIF(L63:L91,AD18)","v":1},{"$f":"AE18/(AG4-AE20)","v":3.4482758620689655E-2},-0.16751658603888178,null,2122,{"$f":"COUNTIF(L92:L119,AI18)","v":0},{"$f":"AJ18/(AL4-AJ20)","v":0},0,null,2122,{"$f":"COUNTIF(L120:L147,AN18)","v":0},{"$f":"AO18/(AQ4-AO20)","v":0},0,null,2122,{"$f":"COUNTIF(L148:L175,AS18)","v":0},{"$f":"AT18/(AV4-AT20)","v":0},0]
[12,2270,14,2273,13,2279,14,2286,null,null,0,1111,null,2211,11,6.5088757396449703E-2,-0.25654394079345416,null,null,2211,{"$f":"COUNTIF(L7:L34,T19)","v":0},{"$f":"U19/(W4-U20)","v":0},0,null,2211,{"$f":"COUNTIF(L35:L62,Y19)","v":1},{"$f":"Z19/(AB4-Z20)","v":3.5714285714285712E-2},-0.17169124721634299,null,2211,{"$f":"COUNTIF(L63:L91,AD19)","v":3},{"$f":"AE19/(AG4-AE20)","v":0.10344827586206896},-0.33858812011100858,null,2211,{"$f":"COUNTIF(L92:L119,AI19)","v":0},{"$f":"AJ19/(AL4-AJ20)","v":0},0,null,2211,{"$f":"COUNTIF(L120:L147,AN19)","v":2},{"$f":"AO19/(AQ4-AO20)","v":7.1428571428571425E-2},-0.27195392300411453,null,2211,{"$f":"COUNTIF(L148:L175,AS19)","v":5},{"$f":"AT19/(AV4-AT20)","v":0.17857142857142858},-0.44382621913754317]
[21,2398,21,2401,22,2406,23,2412,null,null,0,2222,null,2212,0,0,0,null,null,2212,{"$f":"COUNTIF(L7:L34,T20)","v":0},null,null,null,2212,{"$f":"COUNTIF(L35:L62,Y20)","v":0},null,null,null,2212,{"$f":"COUNTIF(L63:L91,AD20)","v":0},null,null,null,2212,{"$f":"COUNTIF(L92:L119,AI20)","v":0},null,null,null,2212,{"$f":"COUNTIF(L120:L147,AN20)","v":0},null,null,null,2212,{"$f":"COUNTIF(L148:L175,AS20)","v":0}]
[21,2507,12,2533,13,2539,14,2546,null,null,0,2111,null,2221,5,2.9585798816568046E-2,-0.1502648325856456,null,null,2221,{"$f":"COUNTIF(L7:L34,T21)","v":1},{"$f":"U21/(W4-U20)","v":3.5714285714285712E-2},{"$f":"IF(V21=0,0,(V21*((LOG(V21))/LOG(2))))","v":-0.17169124721634299},null,2221,{"$f":"COUNTIF(L35:L62,Y21)","v":1},{"$f":"Z21/(AB4-Z20)","v":3.5714285714285712E-2},{"$f":"IF(AA21=0,0,(AA21*((LOG(AA21))/LOG(2))))","v":-0.17169124721634299},null,2221,{"$f":"COUNTIF(L63:L91,AD21)","v":0},{"$f":"AE21/(AG4-AE20)","v":0},{"$f":"IF(AF21=0,0,(AF21*((LOG(AF21))/LOG(2))))","v":0},null,2221,{"$f":"COUNTIF(L92:L119,AI21)","v":2},{"$f":"AJ21/(AL4-AJ20)","v":7.1428571428571425E-2},{"$f":"IF(AK21=0,0,(AK21*((LOG(AK21))/LOG(2))))","v":-0.27195392300411453},null,2221,{"$f":"COUNTIF(L120:L147,AN21)","v":1},{"$f":"AO21/(AQ4-AO20)","v":3.5714285714285712E-2},{"$f":"IF(AP21=0,0,(AP21*((LOG(AP21))/LOG(2))))","v":-0.17169124721634299},null,2221,{"$f":"COUNTIF(L148:L175,AS21)","v":0},{"$f":"AT21/(AV4-AT20)","v":0},{"$f":"IF(AU21=0,0,(AU21*((LOG(AU21))/LOG(2))))","v":0}]
[12,2643,23,2651,24,2667,23,2673,null,null,0,1222,null,2222,49,0.28994082840236685,-0.51788349122001087,null,null,2222,{"$f":"COUNTIF(L7:L34,T22)","v":2},{"$f":"U22/(W4-U20)","v":7.1428571428571425E-2},{"$f":"IF(V22=0,0,(V22*((LOG(V22))/LOG(2))))","v":-0.27195392300411453},null,2222,{"$f":"COUNTIF(L35:L62,Y22)","v":4},{"$f":"Z22/(AB4-Z20)","v":0.14285714285714285},{"$f":"IF(AA22=0,0,(AA22*((LOG(AA22))/LOG(2))))","v":-0.40105070315108626},null,2222,{"$f":"COUNTIF(L63:L91,AD22)","v":8},{"$f":"AE22/(AG4-AE20)","v":0.27586206896551724},{"$f":"IF(AF22=0,0,(AF22*((LOG(AF22))/LOG(2))))","v":-0.51254648141450265},null,2222,{"$f":"COUNTIF(L92:L119,AI22)","v":16},{"$f":"AJ22/(AL4-AJ20)","v":0.5714285714285714},{"$f":"IF(AK22=0,0,(AK22*((LOG(AK22))/LOG(2))))","v":-0.46134566974720237},null,2222,{"$f":"COUNTIF(L120:L147,AN22)","v":10},{"$f":"AO22/(AQ4-AO20)","v":0.35714285714285715},{"$f":"IF(AP22=0,0,(AP22*((LOG(AP22))/LOG(2))))","v":-0.53050958113222924},null,2222,{"$f":"COUNTIF(L148:L175,AS22)","v":9},{"$f":"AT22/(AV4-AT20)","v":0.32142857142857145},{"$f":"IF(AU22=0,0,(AU22*((LOG(AU22))/LOG(2))))","v":-0.5263167601977724}]
[12,2771,14,2776,13,2782,14,2792,null,null,0,1111,null,null,null,{"$f":"SUM(P7:P22)","v":1},{"$f":"-SUM(Q7:Q22)","v":2.5144787208382438},null,null,null,null,{"$f":"SUM(V7:V22)","v":0.99999999999999989},{"$f":"-SUM(W7:W22)","v":2.2564291375854406},null,null,null,{"$f":"SUM(AA7:AA22)","v":1},{"$f":"-SUM(AB7:AB22)","v":2.2909220734298552},null,null,null,{"$f":"SUM(AF7:AF22)","v":1},{"$f":"-SUM(AG7:AG22)","v":2.2050259272121409},null,null,null,{"$f":"SUM(AK7:AK22)","v":0.99999999999999989},{"$f":"-SUM(AL7:AL22)","v":1.9641534765420037},null,null,null,{"$f":"SUM(AP7:AP22)","v":1},{"$f":"-SUM(AQ7:AQ22)","v":2.2762561576548594},null,null,null,{"$f":"SUM(AU7:AU22)","v":1},{"$f":"-SUM(AV7:AV22)","v":2.2164500133438785}]
[21,2964,12,2972,13,2977,14,2982,null,null,0,2111,null,null,null,"U=",{"$f":"Q23/(LOG(Q4)/LOG(2))","v":0.33975404443304735},null,null,null,null,"U1=",{"$f":"W23/(LOG(W4)/LOG(2))","v":0.4693701992403887},null,null,null,"U2=",{"$f":"AB23/(LOG(AB4)/LOG(2))","v":0.47654523341274624},null,null,null,"U3=",{"$f":"AG23/(LOG(AG4)/LOG(2))","v":0.4538976026097517},null,null,null,"U4=",{"$f":"AL23/(LOG(AL4)/LOG(2))","v":0.40857259519780226},null,null,null,"U5=",{"$f":"AQ23/(LOG(AQ4)/LOG(2))","v":0.47349450884325289},null,null,null,"U6=",{"$f":"AV23/(LOG(AV4)/LOG(2))","v":0.46105395779582092}]
[12,3083,14,3092,13,3098,14,3104,null,null,0,1111]
[12,3206,14,3216,13,3222,14,3227,null,null,0,1111]
[12,3321,23,3329,24,3334,23,3345,null,null,0,1222,null,"Total Target Seq"]
[12,3449,23,3459,24,3464,23,3476,null,null,0,1222,null,{"$f":"COUNTIF(L7:L175,G3)","v":0},null,28,28,29,28,28,28]
[12,3576,14,3582,13,3587,14,3592,null,null,0,1111,null,null,null,"% of reinforcement given in 6 equal intervals based on number of trials "]
[21,3706,12,3717,13,3721,14,3726,null,null,0,2111,null,null,null,"%_1","%_2","%_3","%_4","%_5","%_6"]
[12,3856,14,3862,13,3868,14,3875,null,null,0,1111,null,null,"target sequence",{"$f":"$G$3","v":2212},2212,2212,2212,2212,2212]
[21,3976,12,3990,13,3996,14,4002,null,null,0,2111,null,null,"total reinforcement",{"$f":"U20","v":0},{"$f":"Z20","v":0},{"$f":"AE20","v":0},{"$f":"AJ20","v":0},{"$f":"AO20","v":0},{"$f":"AT20","v":0}]
[12,4106,14,4111,13,4115,14,4121,null,null,0,1111,null,null,"% target"]
[21,4228,12,4243,13,4252,14,4258,null,null,0,2111,null,null,"CCRF"]
[21,4369,12,4380,13,4389,14,4395,null,null,0,2111,null,null,"% CCRf"]
[21,4503,12,4516,13,4521,14,4527,null,null,0,2111,null,null,"average response rate",{"$f":"H34/P28","v":152.07142857142858},{"$f":"(H62-H34)/Q28","v":142.21428571428572},{"$f":"(H91-H62)/R28","v":143},{"$f":"(H119-H91)/S28","v":136.17857142857142},{"$f":"(H147-H119)/T28","v":142.28571428571428},{"$f":"(H175-H147)/U28","v":134.32142857142858}]
[21,4622,12,4629,24,4638,23,4648,null,null,0,2122]
[21,4751,12,4764,13,4780,14,4786,null,null,0,2111]
[12,4882,14,4888,13,4894,14,4899,null,null,0,1111]
[12,5075,14,5080,13,5086,14,5092,null,null,0,1111]
[21,5199,12,5232,13,5238,14,5245,null,null,0,2111]
[21,5348,12,5368,13,5373,14,5378,null,null,0,2111]
[12,5484,23,5491,24,5496,23,5502,null,null,0,1222]
[12,5603,23,5610,24,5618,23,5624,null,null,0,1222]
[12,5725,14,5730,13,5735,14,5741,null,null,0,1111]
[21,5849,21,5854,11,5866,12,5870,null,null,0,2211]
[21,5980,21,5985,22,5990,23,5997,null,null,0,2222]
[12,6094,23,6105,24,6109,23,6114,null,null,0,1222]
[21,6208,12,6234,13,6239,14,6244,null,null,0,2111]
[12,6351,14,6356,13,6362,14,6368,null,null,0,1111]
[12,6560,14,6565,13,6571,14,6578,null,null,0,1111]
[21,6671,21,6678,22,6705,23,6707,null,null,0,2222]
[12,6988,14,6992,13,6997,14,7004,null,null,0,1111]
[21,7112,12,7124,13,7129,14,7136,null,null,0,2111]
[21,7250,21,7259,22,7272,23,7295,null,null,0,2222]
[21,7389,21,7404,22,7412,14,7429,null,null,0,2221]
[21,7533,12,7544,13,7550,14,7556,null,null,0,2111]
[21,7665,12,7681,13,7687,14,7707,null,null,0,2111]
[12,7825,14,7831,13,7843,14,7850,null,null,0,1111]
[21,7946,12,7956,13,7962,14,7968,null,null,0,2111]
[21,8079,21,8090,22,8098,23,8104,null,null,0,2222]
[21,8212,12,8227,13,8234,14,8240,null,null,0,2111]
[12,8371,14,8378,13,8383,14,8389,null,null,0,1111]
[12,8560,14,8573,13,8579,14,8585,null,null,0,1111]
[21,8685,21,8692,22,8711,23,8731,null,null,0,2222]
[21,8827,12,8843,13,8850,14,8855,null,null,0,2111]
[21,8960,12,8979,13,8986,14,8994,null,null,0,2111]
[12,9158,14,9168,13,9173,14,9179,null,null,0,1111]
[12,9295,14,9300,13,9306,14,9312,null,null,0,1111]
[21,9404,21,9429,11,9442,12,9448,null,null,0,2211]
[12,9460,14,9466,13,9472,14,9498,null,null,0,1111]
[12,9617,14,9623,13,9629,14,9640,null,null,0,1111]
[12,9737,14,9743,13,9757,14,9763,null,null,0,1111]
[21,9866,21,9883,22,9889,23,9895,null,null,0,2222]
[21,9996,12,10010,24,10018,23,10023,null,null,0,2122]
[12,10163,14,10170,13,10175,14,10180,null,null,0,1111]
[21,10285,21,10292,22,10297,23,10304,null,null,0,2222]
[21,10411,12,10423,13,10427,14,10433,null,null,0,2111]
[21,10601,12,10612,13,10616,14,10622,null,null,0,2111]
[21,10758,12,10769,13,10773,14,10778,null,null,0,2111]
[12,10881,23,10892,24,10896,23,10901,null,null,0,1222]
[21,11010,21,11016,22,11022,23,11029,null,null,0,2222]
[12,11141,14,11146,13,11152,14,11158,null,null,0,1111]
[21,11372,12,11383,13,11387,14,11393,null,null,0,2111]
[21,11490,21,11505,11,11517,12,11522,null,null,0,2211]
[21,11632,21,11637,22,11642,23,11653,null,null,0,2222]
[21,11870,12,11881,13,11886,14,11891,null,null,0,2111]
[21,11989,21,11999,22,12004,23,12009,null,null,0,2222]
[21,12118,21,12121,22,12128,23,12134,null,null,0,2222]
[21,12227,21,12241,22,12245,23,12255,null,null,0,2222]
[21,12363,21,12368,11,12382,12,12387,null,null,0,2211]
[21,12411,21,12416,22,12422,23,12429,null,null,0,2222]
[21,12538,21,12542,22,12548,23,12555,null,null,0,2222]
[12,12661,14,12666,13,12672,14,12678,null,null,0,1111]
[21,12786,21,12791,22,12798,23,12805,null,null,0,2222]
[12,12911,23,12917,24,12924,14,12943,null,null,0,1221]
[21,13049,21,13055,22,13061,23,13066,null,null,0,2222]
[21,13169,21,13174,22,13180,23,13186,null,null,0,2222]
[12,13286,23,13295,24,13299,23,13304,null,null,0,1222]
[12,13467,14,13472,13,13479,14,13491,null,null,0,1111]
[21,13586,21,13629,22,13634,14,13648,null,null,0,2221]
[12,13745,23,13760,24,13765,23,13772,null,null,0,1222]
[21,13884,21,13898,22,13903,14,13916,null,null,0,2221]
[12,14036,14,14041,13,14046,14,14052,null,null,0,1111]
[21,14157,21,14162,22,14168,23,14174,null,null,0,2222]
[21,14274,21,14276,22,14281,23,14289,null,null,0,2222]
[21,14489,21,14495,22,14500,23,14506,null,null,0,2222]
[12,14609,14,14623,13,14629,14,14635,null,null,0,1111]
[12,14747,14,14754,24,14766,23,14770,null,null,0,1122]
[12,14945,14,14951,13,14956,14,14962,null,null,0,1111]
[21,15099,21,15108,22,15113,23,15119,null,null,0,2222]
[21,15235,21,15239,22,15245,23,15250,null,null,0,2222]
[21,15362,21,15367,22,15374,23,15380,null,null,0,2222]
[21,15487,21,15491,22,15497,23,15504,null,null,0,2222]
[21,15664,12,15675,13,15680,14,15686,null,null,0,2111]
[21,15789,21,15795,22,15800,23,15807,null,null,0,2222]
[21,15929,21,15934,22,15941,23,15948,null,null,0,2222]
[21,16052,21,16058,22,16064,23,16070,null,null,0,2222]
[21,16183,21,16188,22,16195,23,16200,null,null,0,2222]
[21,16293,21,16323,22,16328,14,16341,null,null,0,2221]
[21,16437,21,16440,22,16469,23,16475,null,null,0,2222]
[12,16693,14,16702,13,16708,14,16713,null,null,0,1111]
[12,16871,14,16876,13,16880,14,16886,null,null,0,1111]
[21,16997,21,17001,22,17007,23,17013,null,null,0,2222]
[21,17119,21,17122,22,17128,23,17134,null,null,0,2222]
[21,17235,21,17255,22,17272,23,17279,null,null,0,2222]
[21,17384,21,17389,22,17396,23,17402,null,null,0,2222]
[12,17561,14,17566,13,17571,14,17579,null,null,0,1111]
[12,17688,23,17709,24,17714,23,17719,null,null,0,1222]
[12,17813,23,17825,24,17830,23,17835,null,null,0,1222]
[21,17954,21,17960,22,17971,23,17977,null,null,0,2222]
[21,18113,12,18123,13,18128,14,18138,null,null,0,2111]
[21,18265,12,18277,13,18282,14,18288,null,null,0,2111]
[21,18388,21,18423,11,18438,12,18443,null,null,0,2211]
[21,18550,12,18567,13,18573,14,18577,null,null,0,2111]
[21,18682,21,18691,22,18698,23,18705,null,null,0,2222]
[12,18827,14,18833,13,18843,14,18849,null,null,0,1111]
[21,18949,21,18967,11,18985,12,18991,null,null,0,2211]
[12,19095,14,19106,13,19117,14,19124,null,null,0,1111]
[21,19256,12,19268,13,19278,14,19284,null,null,0,2111]
[12,19389,14,19397,13,19402,14,19408,null,null,0,1111]
[21,19522,21,19531,22,19537,23,19549,null,null,0,2222]
[12,19670,23,19678,24,19688,23,19693,null,null,0,1222]
[12,19798,14,19805,13,19811,14,19818,null,null,0,1111]
[21,19922,21,19925,22,19929,23,19934,null,null,0,2222]
[21,20038,21,20042,22,20050,23,20057,null,null,0,2222]
[12,20159,23,20174,24,20178,23,20184,null,null,0,1222]
[12,20345,14,20352,13,20356,14,20362,null,null,0,1111]
[21,20482,21,20487,22,20493,23,20505,null,null,0,2222]
[21,20605,21,20609,22,20615,23,20622,null,null,0,2222]
[21,20727,21,20729,11,20742,12,20748,null,null,0,2211]
[21,20861,21,20866,22,20871,23,20877,null,null,0,2222]
[21,21007,12,21021,13,21032,14,21037,null,null,0,2111]
[21,21139,21,21143,22,21159,23,21164,null,null,0,2222]
[12,21271,23,21278,24,21282,23,21286,null,null,0,1222]
[12,21399,14,21406,13,21412,14,21419,null,null,0,1111]
[12,21579,14,21583,13,21595,14,21601,null,null,0,1111]
[21,21718,21,21727,22,21733,23,21739,null,null,0,2222]
[21,21841,21,21857,22,21863,23,21869,null,null,0,2222]
[21,21976,12,21989,13,21994,14,22001,null,null,0,2111]
[21,22110,21,22128,11,22141,12,22146,null,null,0,2211]
[21,22253,21,22265,11,22283,12,22288,null,null,0,2211]
[21,22390,21,22406,11,22425,12,22436,null,null,0,2211]
[21,22456,21,22464,22,22469,23,22476,null,null,0,2222]
[12,22577,23,22588,24,22593,23,22599,null,null,0,1222]
[12,22693,23,22706,24,22710,23,22717,null,null,0,1222]
[12,22815,23,22829,24,22834,23,22839,null,null,0,1222]
[21,22940,21,22945,22,22947,23,22953,null,null,0,2222]
[12,23045,14,23052,13,23059,14,23064,null,null,0,1111]
[12,23187,14,23199,13,23206,14,23212,null,null,0,1111]
[12,23339,14,23354,13,23370,14,23377,null,null,0,1111]
[21,23485,12,23509,13,23516,14,23521,null,null,0,2111]
[21,23622,21,23628,11,23645,12,23650,null,null,0,2211]
[21,23760,21,23766,22,23780,23,23788,null,null,0,2222]
[12,23925,14,23933,13,23938,14,23945,null,null,null,1111]

{"sheet":"!LB18A05..Du","index":18,"n_rows":176,"n_cols":48,"rows_kept":176,"cut":false,"hidden":false,"merged":[[1,1,1,2],[5,13,5,14],[26,13,26,14],[27,13,27,14],[4,19,4,22],[5,19,5,20],[4,39,4,42],[5,39,5,40],[4,44,4,47],[5,44,5,45],[4,24,4,27],[5,24,5,25],[4,29,4,32],[5,29,5,30],[4,34,4,37],[5,34,5,35]]}
["Report for:!LB18A05..Du"]
["Date:","<date>"]
["Hen:","<hen>",null,null,null,"Correct Sequence",{"$f":"Start!J2","v":2212},null,null,null,null,null,null,null,null,"Total Sequences in Data",{"$f":"4994-COUNTBLANK(L7:L5000)","v":170},null,null,null,null,"Total Sequences in Block Data",{"$f":"COUNTA(L7:L34)","v":28},null,null,null,"Total Sequences in Block Data",{"$f":"COUNTA(L35:L63)","v":29},null,null,null,"Total Sequences in Block Data",{"$f":"COUNTA(L64:L91)","v":28},null,null,null,"Total Sequences in Block Data",{"$f":"COUNTA(L92:L119)","v":28},null,null,null,"Total Sequences in Block Data",{"$f":"COUNTA(L120:L148)","v":29},null,null,null,"Total Sequences in Block Data",{"$f":"COUNTA(L149:L176)","v":28}]
[null,null,null,null,null,null,null,null,null,null,null,null,null,null,null,"Total Sequences in Summary",{"$f":"SUM(O7:O22)","v":170},null,null,null,null,"Total Sequences in Block Summary",{"$f":"SUM(U7:U22)","v":28},null,null,null,"Total Sequences in Block Summary",{"$f":"SUM(Z7:Z22)","v":29},null,null,null,"Total Sequences in Block Summary",{"$f":"SUM(AE7:AE22)","v":28},null,null,null,"Total Sequences in Block Summary",{"$f":"SUM(AJ7:AJ22)","v":28},null,null,null,"Total Sequences in Block Summary",{"$f":"SUM(AO7:AO22)","v":29},null,null,null,"Total Sequences in Block Summary",{"$f":"SUM(AT7:AT22)","v":28}]
[null,null,null,null,null,null,null,null,null,null,null,null,null,null,null,null,null,null,null,"Block 1",null,null,null,null,"Block 2",null,null,null,null,"Block 3",null,null,null,null,"Block 4",null,null,null,null,"Block 5",null,null,null,null,"Block 6"]
["Sequence\nComponent\n1","Time\n1","Sequence\nComponent\n2","Time\n2","Sequence\nComponent\n3","Time\n3","Sequence\nComponent\n4","Time\n4","Sequence\nComponent\n5","Time\n5","Correct?\n0=No 1=Yes","Sequence",null,"Frequency",null,"Relative Frequency","Variability",null,null,"Frequency",null,"Relative Frequency","Variability",null,"Frequency",null,"Relative Frequency","Variability",null,"Frequency",null,"Relative Frequency","Variability",null,"Frequency",null,"Relative Frequency","Variability",null,"Frequency",null,"Relative Frequency","Variability",null,"Frequency",null,"Relative Frequency","Variability"]
[21,24,12,34,13,39,14,45,null,null,0,2111,null,1111,{"$f":"COUNTIF($L$7:$L$500,N7)","v":34},{"$f":"O7/$Q$4","v":0.2},{"$f":"IF(P7=0,0,(P7*((LOG(P7))/LOG(2))))","v":-0.46438561897747244},null,null,{"$f":"N7","v":1111},{"$f":"COUNTIF(L7:L34,T7)","v":6},{"$f":"U7/(W4-U20)","v":0.21428571428571427},{"$f":"IF(V7=0,0,(V7*((LOG(V7))/LOG(2))))","v":-0.47622694742923877},null,{"$f":"N7","v":1111},{"$f":"COUNTIF(L35:L63,Y7)","v":11},{"$f":"Z7/(AB4-Z20)","v":0.37931034482758619},{"$f":"IF(AA7=0,0,(AA7*((LOG(AA7))/LOG(2))))","v":-0.53048424625493174},null,{"$f":"N7","v":1111},{"$f":"COUNTIF(L64:L91,AD7)","v":2},{"$f":"AE7/(AG4-AE20)","v":7.1428571428571425E-2},{"$f":"IF(AF7=0,0,(AF7*((LOG(AF7))/LOG(2))))","v":-0.27195392300411453},null,{"$f":"N7","v":1111},{"$f":"COUNTIF(L92:L119,AI7)","v":7},{"$f":"AJ7/(AL4-AJ20)","v":0.25},{"$f":"IF(AK7=0,0,(AK7*((LOG(AK7))/LOG(2))))","v":-0.5},null,{"$f":"N7","v":1111},{"$f":"COUNTIF(L120:L148,AN7)","v":4},{"$f":"AO7/(AQ4-AO20)","v":0.13793103448275862},{"$f":"IF(AP7=0,0,(AP7*((LOG(AP7))/LOG(2))))","v":-0.39420427519000989},null,{"$f":"N7","v":1111},{"$f":"COUNTIF(L149:L176,AS7)","v":4},{"$f":"AT7/(AV4-AT20)","v":0.14285714285714285},{"$f":"IF(AU7=0,0,(AU7*((LOG(AU7))/LOG(2))))","v":-0.40105070315108626}]
[21,139,21,159,22,167,23,173,null,null,0,2222,null,1112,0,0,0,null,null,1112,{"$f":"COUNTIF(L7:L34,T8)","v":0},{"$f":"U8/(W4-U20)","v":0},0,null,1112,{"$f":"COUNTIF(L35:L63,Y8)","v":0},{"$f":"Z8/(AB4-Z20)","v":0},0,null,1112,{"$f":"COUNTIF(L64:L91,AD8)","v":0},{"$f":"AE8/(AG4-AE20)","v":0},0,null,1112,{"$f":"COUNTIF(L92:L119,AI8)","v":0},{"$f":"AJ8/(AL4-AJ20)","v":0},0,null,1112,{"$f":"COUNTIF(L120:L148,AN8)","v":0},{"$f":"AO8/(AQ4-AO20)","v":0},0,null,1112,{"$f":"COUNTIF(L149:L176,AS8)","v":0},{"$f":"AT8/(AV4-AT20)","v":0},0]
[21,288,21,295,22,302,14,319,null,null,0,2221,null,1121,0,0,0,null,null,1121,{"$f":"COUNTIF(L7:L34,T9)","v":0},{"$f":"U9/(W4-U20)","v":0},0,null,1121,{"$f":"COUNTIF(L35:L63,Y9)","v":0},{"$f":"Z9/(AB4-Z20)","v":0},0,null,1121,{"$f":"COUNTIF(L64:L91,AD9)","v":0},{"$f":"AE9/(AG4-AE20)","v":0},0,null,1121,{"$f":"COUNTIF(L92:L119,AI9)","v":0},{"$f":"AJ9/(AL4-AJ20)","v":0},0,null,1121,{"$f":"COUNTIF(L120:L148,AN9)","v":0},{"$f":"AO9/(AQ4-AO20)","v":0},0,null,1121,{"$f":"COUNTIF(L149:L176,AS9)","v":0},{"$f":"AT9/(AV4-AT20)","v":0},0]
[12,416,14,422,13,428,14,434,null,null,0,1111,null,1122,1,5.8823529411764705E-3,-4.35846525655159E-2,null,null,1122,{"$f":"COUNTIF(L7:L34,T10)","v":0},{"$f":"U10/(W4-U20)","v":0},0,null,1122,{"$f":"COUNTIF(L35:L63,Y10)","v":0},{"$f":"Z10/(AB4-Z20)","v":0},0,null,1122,{"$f":"COUNTIF(L64:L91,AD10)","v":1},{"$f":"AE10/(AG4-AE20)","v":3.5714285714285712E-2},-0.17169124721634299,null,1122,{"$f":"COUNTIF(L92:L119,AI10)","v":0},{"$f":"AJ10/(AL4-AJ20)","v":0},0,null,1122,{"$f":"COUNTIF(L120:L148,AN10)","v":0},{"$f":"AO10/(AQ4-AO20)","v":0},0,null,1122,{"$f":"COUNTIF(L149:L176,AS10)","v":0},{"$f":"AT10/(AV4-AT20)","v":0},0]
[12,593,14,598,13,605,14,610,null,null,0,1111,null,1211,0,0,0,null,null,1211,{"$f":"COUNTIF(L7:L34,T11)","v":0},{"$f":"U11/(W4-U20)","v":0},0,null,1211,{"$f":"COUNTIF(L35:L63,Y11)","v":0},{"$f":"Z11/(AB4-Z20)","v":0},0,null,1211,{"$f":"COUNTIF(L64:L91,AD11)","v":0},{"$f":"AE11/(AG4-AE20)","v":0},0,null,1211,{"$f":"COUNTIF(L92:L119,AI11)","v":0},{"$f":"AJ11/(AL4-AJ20)","v":0},0,null,1211,{"$f":"COUNTIF(L120:L148,AN11)","v":0},{"$f":"AO11/(AQ4-AO20)","v":0},0,null,1211,{"$f":"COUNTIF(L149:L176,AS11)","v":0},{"$f":"AT11/(AV4-AT20)","v":0},0]
[21,713,21,717,22,722,23,732,null,null,0,2222,null,1212,0,0,0,null,null,1212,{"$f":"COUNTIF(L7:L34,T12)","v":0},{"$f":"U12/(W4-U20)","v":0},0,null,1212,{"$f":"COUNTIF(L35:L63,Y12)","v":0},{"$f":"Z12/(AB4-Z20)","v":0},0,null,1212,{"$f":"COUNTIF(L64:L91,AD12)","v":0},{"$f":"AE12/(AG4-AE20)","v":0},0,null,1212,{"$f":"COUNTIF(L92:L119,AI12)","v":0},{"$f":"AJ12/(AL4-AJ20)","v":0},0,null,1212,{"$f":"COUNTIF(L120:L148,AN12)","v":0},{"$f":"AO12/(AQ4-AO20)","v":0},0,null,1212,{"$f":"COUNTIF(L149:L176,AS12)","v":0},{"$f":"AT12/(AV4-AT20)","v":0},0]
[12,832,23,837,24,842,23,847,null,null,0,1222,null,1221,0,0,0,null,null,1221,{"$f":"COUNTIF(L7:L34,T13)","v":0},{"$f":"U13/(W4-U20)","v":0},0,null,1221,{"$f":"COUNTIF(L35:L63,Y13)","v":0},{"$f":"Z13/(AB4-Z20)","v":0},0,null,1221,{"$f":"COUNTIF(L64:L91,AD13)","v":0},{"$f":"AE13/(AG4-AE20)","v":0},0,null,1221,{"$f":"COUNTIF(L92:L119,AI13)","v":0},{"$f":"AJ13/(AL4-AJ20)","v":0},0,null,1221,{"$f":"COUNTIF(L120:L148,AN13)","v":0},{"$f":"AO13/(AQ4-AO20)","v":0},0,null,1221,{"$f":"COUNTIF(L149:L176,AS13)","v":0},{"$f":"AT13/(AV4-AT20)","v":0},0]
[12,1036,14,1039,13,1042,14,1051,null,null,0,1111,null,1222,10,5.8823529411764705E-2,-0.24043899066178465,null,null,1222,{"$f":"COUNTIF(L7:L34,T14)","v":3},{"$f":"U14/(W4-U20)","v":0.10714285714285714},-0.34525633085747659,null,1222,{"$f":"COUNTIF(L35:L63,Y14)","v":2},{"$f":"Z14/(AB4-Z20)","v":6.8965517241379309E-2},-0.26606765483638428,null,1222,{"$f":"COUNTIF(L64:L91,AD14)","v":4},{"$f":"AE14/(AG4-AE20)","v":0.14285714285714285},-0.40105070315108626,null,1222,{"$f":"COUNTIF(L92:L119,AI14)","v":0},{"$f":"AJ14/(AL4-AJ20)","v":0},0,null,1222,{"$f":"COUNTIF(L120:L148,AN14)","v":0},{"$f":"AO14/(AQ4-AO20)","v":0},0,null,1222,{"$f":"COUNTIF(L149:L176,AS14)","v":1},{"$f":"AT14/(AV4-AT20)","v":3.5714285714285712E-2},-0.17169124721634299]
[21,1162,21,1167,22,1169,23,1176,null,null,0,2222,null,2111,31,0.18235294117647058,-0.44771196116632711,null,null,2111,{"$f":"COUNTIF(L7:L34,T15)","v":4},{"$f":"U15/(W4-U20)","v":0.14285714285714285},-0.40105070315108626,null,2111,{"$f":"COUNTIF(L35:L63,Y15)","v":4},{"$f":"Z15/(AB4-Z20)","v":0.13793103448275862},-0.39420427519000989,null,2111,{"$f":"COUNTIF(L64:L91,AD15)","v":4},{"$f":"AE15/(AG4-AE20)","v":0.14285714285714285},-0.40105070315108626,null,2111,{"$f":"COUNTIF(L92:L119,AI15)","v":4},{"$f":"AJ15/(AL4-AJ20)","v":0.14285714285714285},-0.40105070315108626,null,2111,{"$f":"COUNTIF(L120:L148,AN15)","v":7},{"$f":"AO15/(AQ4-AO20)","v":0.2413793103448276},-0.49497870729275095,null,2111,{"$f":"COUNTIF(L149:L176,AS15)","v":8},{"$f":"AT15/(AV4-AT20)","v":0.2857142857142857},-0.51638712058788683]
[21,1283,21,1294,11,1314,12,1319,null,null,0,2211,null,2112,0,0,0,null,null,2112,{"$f":"COUNTIF(L7:L34,T16)","v":0},{"$f":"U16/(W4-U20)","v":0},0,null,2112,{"$f":"COUNTIF(L35:L63,Y16)","v":0},{"$f":"Z16/(AB4-Z20)","v":0},0,null,2112,{"$f":"COUNTIF(L64:L91,AD16)","v":0},{"$f":"AE16/(AG4-AE20)","v":0},0,null,2112,{"$f":"COUNTIF(L92:L119,AI16)","v":0},{"$f":"AJ16/(AL4-AJ20)","v":0},0,null,2112,{"$f":"COUNTIF(L120:L148,AN16)","v":0},{"$f":"AO16/(AQ4-AO20)","v":0},0,null,2112,{"$f":"COUNTIF(L149:L176,AS16)","v":0},{"$f":"AT16/(AV4-AT20)","v":0},0]
[21,1432,12,1447,13,1464,14,1477,null,null,0,2111,null,2121,0,0,0,null,null,2121,{"$f":"COUNTIF(L7:L34,T17)","v":0},{"$f":"U17/(W4-U20)","v":0},0,null,2121,{"$f":"COUNTIF(L35:L63,Y17)","v":0},{"$f":"Z17/(AB4-Z20)","v":0},0,null,2121,{"$f":"COUNTIF(L64:L91,AD17)","v":0},{"$f":"AE17/(AG4-AE20)","v":0},0,null,2121,{"$f":"COUNTIF(L92:L119,AI17)","v":0},{"$f":"AJ17/(AL4-AJ20)","v":0},0,null,2121,{"$f":"COUNTIF(L120:L148,AN17)","v":0},{"$f":"AO17/(AQ4-AO20)","v":0},0,null,2121,{"$f":"COUNTIF(L149:L176,AS17)","v":0},{"$f":"AT17/(AV4-AT20)","v":0},0]
[21,1614,12,1623,13,1627,14,1633,null,null,0,2111,null,2122,0,0,0,null,null,2122,{"$f":"COUNTIF(L7:L34,T18)","v":0},{"$f":"U18/(W4-U20)","v":0},0,null,2122,{"$f":"COUNTIF(L35:L63,Y18)","v":0},{"$f":"Z18/(AB4-Z20)","v":0},0,null,2122,{"$f":"COUNTIF(L64:L91,AD18)","v":0},{"$f":"AE18/(AG4-AE20)","v":0},0,null,2122,{"$f":"COUNTIF(L92:L119,AI18)","v":0},{"$f":"AJ18/(AL4-AJ20)","v":0},0,null,2122,{"$f":"COUNTIF(L120:L148,AN18)","v":0},{"$f":"AO18/(AQ4-AO20)","v":0},0,null,2122,{"$f":"COUNTIF(L149:L176,AS18)","v":0},{"$f":"AT18/(AV4-AT20)","v":0},0]
[21,1738,21,1743,22,1748,23,1755,null,null,0,2222,null,2211,10,5.8823529411764705E-2,-0.24043899066178465,null,null,2211,{"$f":"COUNTIF(L7:L34,T19)","v":4},{"$f":"U19/(W4-U20)","v":0.14285714285714285},-0.40105070315108626,null,2211,{"$f":"COUNTIF(L35:L63,Y19)","v":0},{"$f":"Z19/(AB4-Z20)","v":0},0,null,2211,{"$f":"COUNTIF(L64:L91,AD19)","v":2},{"$f":"AE19/(AG4-AE20)","v":7.1428571428571425E-2},-0.27195392300411453,null,2211,{"$f":"COUNTIF(L92:L119,AI19)","v":2},{"$f":"AJ19/(AL4-AJ20)","v":7.1428571428571425E-2},-0.27195392300411453,null,2211,{"$f":"COUNTIF(L120:L148,AN19)","v":1},{"$f":"AO19/(AQ4-AO20)","v":3.4482758620689655E-2},-0.16751658603888178,null,2211,{"$f":"COUNTIF(L149:L176,AS19)","v":1},{"$f":"AT19/(AV4-AT20)","v":3.5714285714285712E-2},-0.17169124721634299]
[21,1859,21,1864,22,1870,23,1876,null,null,0,2222,null,2212,0,0,0,null,null,2212,{"$f":"COUNTIF(L7:L34,T20)","v":0},null,null,null,2212,{"$f":"COUNTIF(L35:L63,Y20)","v":0},null,null,null,2212,{"$f":"COUNTIF(L64:L91,AD20)","v":0},null,null,null,2212,{"$f":"COUNTIF(L92:L119,AI20)","v":0},null,null,null,2212,{"$f":"COUNTIF(L120:L148,AN20)","v":0},null,null,null,2212,{"$f":"COUNTIF(L149:L176,AS20)","v":0}]
[21,1972,21,1994,22,2009,23,2019,null,null,0,2222,null,2221,3,1.7647058823529412E-2,-0.10278403121323315,null,null,2221,{"$f":"COUNTIF(L7:L34,T21)","v":1},{"$f":"U21/(W4-U20)","v":3.5714285714285712E-2},{"$f":"IF(V21=0,0,(V21*((LOG(V21))/LOG(2))))","v":-0.17169124721634299},null,2221,{"$f":"COUNTIF(L35:L63,Y21)","v":2},{"$f":"Z21/(AB4-Z20)","v":6.8965517241379309E-2},{"$f":"IF(AA21=0,0,(AA21*((LOG(AA21))/LOG(2))))","v":-0.26606765483638428},null,2221,{"$f":"COUNTIF(L64:L91,AD21)","v":0},{"$f":"AE21/(AG4-AE20)","v":0},{"$f":"IF(AF21=0,0,(AF21*((LOG(AF21))/LOG(2))))","v":0},null,2221,{"$f":"COUNTIF(L92:L119,AI21)","v":0},{"$f":"AJ21/(AL4-AJ20)","v":0},{"$f":"IF(AK21=0,0,(AK21*((LOG(AK21))/LOG(2))))","v":0},null,2221,{"$f":"COUNTIF(L120:L148,AN21)","v":0},{"$f":"AO21/(AQ4-AO20)","v":0},{"$f":"IF(AP21=0,0,(AP21*((LOG(AP21))/LOG(2))))","v":0},null,2221,{"$f":"COUNTIF(L149:L176,AS21)","v":0},{"$f":"AT21/(AV4-AT20)","v":0},{"$f":"IF(AU21=0,0,(AU21*((LOG(AU21))/LOG(2))))","v":0}]
[21,2113,21,2128,11,2142,12,2147,null,null,0,2211,null,2222,81,0.47647058823529409,-0.50960479760881916,null,null,2222,{"$f":"COUNTIF(L7:L34,T22)","v":10},{"$f":"U22/(W4-U20)","v":0.35714285714285715},{"$f":"IF(V22=0,0,(V22*((LOG(V22))/LOG(2))))","v":-0.53050958113222924},null,2222,{"$f":"COUNTIF(L35:L63,Y22)","v":10},{"$f":"Z22/(AB4-Z20)","v":0.34482758620689657},{"$f":"IF(AA22=0,0,(AA22*((LOG(AA22))/LOG(2))))","v":-0.52967341387593436},null,2222,{"$f":"COUNTIF(L64:L91,AD22)","v":15},{"$f":"AE22/(AG4-AE20)","v":0.5357142857142857},{"$f":"IF(AF22=0,0,(AF22*((LOG(AF22))/LOG(2))))","v":-0.48239160345486726},null,2222,{"$f":"COUNTIF(L92:L119,AI22)","v":15},{"$f":"AJ22/(AL4-AJ20)","v":0.5357142857142857},{"$f":"IF(AK22=0,0,(AK22*((LOG(AK22))/LOG(2))))","v":-0.48239160345486726},null,2222,{"$f":"COUNTIF(L120:L148,AN22)","v":17},{"$f":"AO22/(AQ4-AO20)","v":0.58620689655172409},{"$f":"IF(AP22=0,0,(AP22*((LOG(AP22))/LOG(2))))","v":-0.45168305572113648},null,2222,{"$f":"COUNTIF(L149:L176,AS22)","v":14},{"$f":"AT22/(AV4-AT20)","v":0.5},{"$f":"IF(AU22=0,0,(AU22*((LOG(AU22))/LOG(2))))","v":-0.5}]
[21,2253,21,2262,22,2268,23,2276,null,null,0,2222,null,null,null,{"$f":"SUM(P7:P22)","v":1},{"$f":"-SUM(Q7:Q22)","v":2.0489490428549368},null,null,null,null,{"$f":"SUM(V7:V22)","v":1},{"$f":"-SUM(W7:W22)","v":2.3257855129374603},null,null,null,{"$f":"SUM(AA7:AA22)","v":1},{"$f":"-SUM(AB7:AB22)","v":1.9864972449936444},null,null,null,{"$f":"SUM(AF7:AF22)","v":1},{"$f":"-SUM(AG7:AG22)","v":2.0000921029816121},null,null,null,{"$f":"SUM(AK7:AK22)","v":1},{"$f":"-SUM(AL7:AL22)","v":1.6553962296100679},null,null,null,{"$f":"SUM(AP7:AP22)","v":1},{"$f":"-SUM(AQ7:AQ22)","v":1.5083826242427791},null,null,null,{"$f":"SUM(AU7:AU22)","v":1},{"$f":"-SUM(AV7:AV22)","v":1.7608203181716591}]
[12,2437,14,2446,13,2451,14,2457,null,null,0,1111,null,null,null,"U=",{"$f":"Q23/(LOG(Q4)/LOG(2))","v":0.27653407149319531},null,null,null,null,"U1=",{"$f":"W23/(LOG(W4)/LOG(2))","v":0.48379733775554001},null,null,null,"U2=",{"$f":"AB23/(LOG(AB4)/LOG(2))","v":0.40891416557332139},null,null,null,"U3=",{"$f":"AG23/(LOG(AG4)/LOG(2))","v":0.41604835411768382},null,null,null,"U4=",{"$f":"AL23/(LOG(AL4)/LOG(2))","v":0.34434658069754898},null,null,null,"U5=",{"$f":"AQ23/(LOG(AQ4)/LOG(2))","v":0.31049578533873384},null,null,null,"U6=",{"$f":"AV23/(LOG(AV4)/LOG(2))","v":0.36627633006510107}]
[21,2566,21,2574,11,2586,12,2590,null,null,0,2211]
[12,2688,23,2695,24,2702,23,2707,null,null,0,1222]
[21,2812,21,2818,22,2823,23,2828,null,null,0,2222,null,"Total Target Seq"]
[21,2939,21,2951,22,2956,23,2963,null,null,0,2222,null,{"$f":"COUNTIF(L7:L176,G3)","v":0},null,28,29,28,28,29,28]
[12,3063,14,3080,13,3093,14,3106,null,null,0,1111,null,null,null,"% of reinforcement given in 6 equal intervals based on number of trials "]
[12,3211,23,3222,24,3228,23,3232,null,null,0,1222,null,null,null,"%_1","%_2","%_3","%_4","%_5","%_6"]
[12,3405,14,3412,13,3418,14,3423,null,null,0,1111,null,null,"target sequence",{"$f":"$G$3","v":2212},2212,2212,2212,2212,2212]
[21,3526,12,3542,13,3547,14,3553,null,null,0,2111,null,null,"total reinforcement",{"$f":"U20","v":0},{"$f":"Z20","v":0},{"$f":"AE20","v":0},{"$f":"AJ20","v":0},{"$f":"AO20","v":0},{"$f":"AT20","v":0}]
[21,3658,21,3662,11,3679,12,3688,null,null,0,2211,null,null,"% target"]
[21,3794,21,3814,22,3821,23,3830,null,null,0,2222,null,null,"CCRF"]
[12,4042,14,4045,13,4051,14,4056,null,null,0,1111,null,null,"% CCRf"]
[21,4181,21,4185,22,4191,23,4197,null,null,0,2222,null,null,"average response rate",{"$f":"H34/P28","v":136.78571428571428},{"$f":"(H63-H34)/Q28","v":143.10344827586206},{"$f":"(H91-H63)/R28","v":142},{"$f":"(H119-H91)/S28","v":136.32142857142858},{"$f":"(H148-H119)/T28","v":139.20689655172413},{"$f":"(H176-H148)/U28","v":146.85714285714286}]
[21,4304,21,4309,22,4315,14,4331,null,null,0,2221]
[21,4437,21,4440,22,4447,23,4453,null,null,0,2222]
[21,4567,21,4573,22,4578,23,4584,null,null,0,2222]
[12,4679,23,4691,24,4700,23,4705,null,null,0,1222]
[12,4812,14,4819,13,4824,14,4830,null,null,0,1111]
[21,4989,21,4993,22,4998,23,5005,null,null,0,2222]
[12,5122,14,5128,13,5133,14,5152,null,null,0,1111]
[12,5271,14,5277,13,5282,14,5290,null,null,0,1111]
[21,5398,21,5402,22,5407,23,5419,null,null,0,2222]
[21,5523,21,5529,22,5534,23,5540,null,null,0,2222]
[12,5650,23,5657,24,5666,23,5672,null,null,0,1222]
[21,5763,21,5786,22,5793,23,5799,null,null,0,2222]
[21,5915,21,5920,22,5925,23,5931,null,null,0,2222]
[21,6048,12,6060,13,6072,14,6077,null,null,0,2111]
[12,6190,14,6199,13,6203,14,6214,null,null,0,1111]
[12,6431,14,6435,13,6440,14,6446,null,null,0,1111]
[12,6568,14,6572,13,6581,14,6588,null,null,0,1111]
[21,6686,21,6720,22,6725,14,6738,null,null,0,2221]
[21,6843,12,6858,13,6865,14,6872,null,null,0,2111]
[12,6977,14,6983,13,6990,14,6995,null,null,0,1111]
[21,7097,21,7104,22,7110,23,7117,null,null,0,2222]
[12,7266,14,7272,13,7278,14,7284,null,null,0,1111]
[21,7402,12,7414,13,7418,14,7424,null,null,0,2111]
[12,7527,14,7533,13,7544,14,7560,null,null,0,1111]
[21,7680,21,7686,22,7691,23,7697,null,null,0,2222]
[12,7838,14,7843,13,7850,14,7856,null,null,0,1111]
[21,7959,12,7970,13,7975,14,7980,null,null,0,2111]
[21,8088,21,8098,22,8105,23,8111,null,null,0,2222]
[21,8340,21,8349,22,8357,23,8362,null,null,0,2222]
[21,8463,21,8467,11,8482,12,8491,null,null,0,2211]
[21,8595,21,8598,22,8607,23,8612,null,null,0,2222]
[12,8711,23,8717,24,8721,23,8727,null,null,0,1222]
[21,8829,21,8843,22,8848,23,8856,null,null,0,2222]
[12,9038,14,9043,24,9054,23,9060,null,null,0,1122]
[21,9176,21,9194,22,9203,23,9209,null,null,0,2222]
[21,9317,21,9335,22,9339,23,9344,null,null,0,2222]
[12,9442,23,9451,24,9456,23,9462,null,null,0,1222]
[12,9556,23,9575,24,9578,23,9583,null,null,0,1222]
[21,9717,21,9722,22,9728,23,9734,null,null,0,2222]
[21,9847,12,9863,13,9873,14,9878,null,null,0,2111]
[12,9980,23,9987,24,9992,23,9997,null,null,0,1222]
[21,10120,21,10125,22,10130,23,10137,null,null,0,2222]
[21,10246,21,10257,22,10264,23,10275,null,null,0,2222]
[21,10382,12,10401,13,10405,14,10410,null,null,0,2111]
[21,10535,21,10540,22,10544,23,10550,null,null,0,2222]
[21,10658,21,10662,22,10667,23,10672,null,null,0,2222]
[21,10863,12,10871,13,10875,14,10879,null,null,0,2111]
[21,10982,21,10999,22,11013,23,11020,null,null,0,2222]
[21,11121,21,11126,11,11140,12,11144,null,null,0,2211]
[12,11247,14,11252,13,11260,14,11267,null,null,0,1111]
[21,11361,21,11390,22,11397,23,11412,null,null,0,2222]
[12,11525,14,11531,13,11537,14,11548,null,null,0,1111]
[21,11655,21,11660,22,11671,23,11677,null,null,0,2222]
[21,11787,21,11801,22,11813,23,11820,null,null,0,2222]
[21,11930,12,11946,13,11951,14,11956,null,null,0,2111]
[21,12070,21,12075,22,12081,23,12093,null,null,0,2222]
[12,12208,14,12219,13,12225,14,12231,null,null,0,1111]
[12,12363,14,12367,13,12371,14,12378,null,null,0,1111]
[12,12513,14,12521,13,12526,14,12533,null,null,0,1111]
[12,12644,14,12656,13,12661,14,12675,null,null,0,1111]
[21,12786,12,12799,13,12808,14,12812,null,null,0,2111]
[12,12916,14,12927,13,12932,14,12939,null,null,0,1111]
[21,13041,21,13047,22,13053,23,13065,null,null,0,2222]
[21,13164,21,13190,11,13207,12,13212,null,null,0,2211]
[21,13220,21,13228,11,13251,12,13262,null,null,0,2211]
[21,13276,21,13284,22,13292,23,13304,null,null,0,2222]
[21,13406,21,13417,22,13424,23,13431,null,null,0,2222]
[21,13591,12,13609,13,13617,14,13623,null,null,0,2111]
[21,13734,21,13737,22,13753,23,13758,null,null,0,2222]
[21,13881,21,13887,22,13898,23,13905,null,null,0,2222]
[21,14018,21,14025,22,14031,23,14039,null,null,0,2222]
[21,14150,21,14158,22,14171,23,14179,null,null,0,2222]
[21,14380,12,14395,13,14398,14,14403,null,null,0,2111]
[21,14514,21,14523,22,14535,23,14542,null,null,0,2222]
[21,14657,21,14683,22,14688,23,14695,null,null,0,2222]
[21,14797,21,14809,22,14813,23,14819,null,null,0,2222]
[21,14923,21,14930,22,14935,23,14941,null,null,0,2222]
[12,15116,14,15122,13,15130,14,15136,null,null,0,1111]
[21,15243,21,15248,22,15250,23,15258,null,null,0,2222]
[21,15355,21,15375,22,15380,23,15385,null,null,0,2222]
[12,15492,14,15500,13,15505,14,15511,null,null,0,1111]
[21,15621,21,15626,22,15631,23,15637,null,null,0,2222]
[21,15747,12,15762,13,15765,14,15773,null,null,0,2111]
[21,15888,21,15893,22,15899,23,15904,null,null,0,2222]
[21,16007,21,16024,22,16029,23,16034,null,null,0,2222]
[21,16228,12,16240,13,16245,14,16251,null,null,0,2111]
[21,16360,21,16377,22,16382,23,16389,null,null,0,2222]
[21,16494,21,16499,22,16505,23,16511,null,null,0,2222]
[21,16622,21,16627,22,16632,23,16638,null,null,0,2222]
[12,16742,14,16750,13,16757,14,16764,null,null,0,1111]
[21,16875,12,16890,13,16895,14,16901,null,null,0,2111]
[21,17014,21,17019,22,17026,23,17032,null,null,0,2222]
[21,17160,21,17165,22,17172,23,17178,null,null,0,2222]
[21,17285,21,17294,22,17300,23,17307,null,null,0,2222]
[21,17418,21,17424,22,17431,23,17437,null,null,0,2222]
[12,17620,14,17625,13,17631,14,17638,null,null,0,1111]
[21,17737,12,17753,13,17760,14,17765,null,null,0,2111]
[21,17870,21,17884,22,17890,23,17895,null,null,0,2222]
[21,18002,21,18011,11,18026,12,18030,null,null,0,2211]
[21,18136,21,18141,22,18147,23,18153,null,null,0,2222]
[21,18252,21,18263,22,18273,23,18281,null,null,0,2222]
[21,18385,21,18393,22,18399,23,18412,null,null,0,2222]
[21,18514,12,18527,13,18532,14,18538,null,null,0,2111]
[21,18652,21,18658,22,18664,23,18670,null,null,0,2222]
[21,18778,21,18784,22,18790,23,18798,null,null,0,2222]
[21,18906,12,18918,13,18922,14,18928,null,null,0,2111]
[12,19109,14,19112,13,19118,14,19124,null,null,0,1111]
[21,19234,12,19252,13,19257,14,19263,null,null,0,2111]
[21,19373,21,19378,22,19384,23,19390,null,null,0,2222]
[21,19492,21,19501,22,19507,23,19513,null,null,0,2222]
[21,19622,12,19637,13,19641,14,19646,null,null,0,2111]
[12,19790,14,19798,13,19805,14,19810,null,null,0,1111]
[21,19913,12,19925,13,19929,14,19935,null,null,0,2111]
[21,20041,21,20061,22,20066,23,20072,null,null,0,2222]
[21,20189,21,20195,22,20201,23,20207,null,null,0,2222]
[12,20376,14,20380,13,20387,14,20393,null,null,0,1111]
[21,20512,12,20525,13,20529,14,20535,null,null,0,2111]
[21,20629,12,20638,13,20653,14,20659,null,null,0,2111]
[21,20766,21,20772,22,20783,23,20789,null,null,0,2222]
[21,20916,21,20937,22,20943,23,20949,null,null,0,2222]
[21,21048,21,21059,11,21076,12,21081,null,null,0,2211]
[21,21198,21,21206,22,21212,23,21219,null,null,0,2222]
[21,21333,21,21338,22,21344,23,21350,null,null,0,2222]
[21,21514,12,21526,13,21530,14,21536,null,null,0,2111]
[12,21745,14,21752,13,21759,14,21765,null,null,0,1111]
[21,21869,21,21875,22,21881,23,21886,null,null,0,2222]
[21,21995,12,22009,13,22015,14,22021,null,null,0,2111]
[12,22121,23,22128,24,22133,23,22139,null,null,0,1222]
[12,22399,14,22404,13,22409,14,22417,null,null,0,1111]
[21,22529,21,22535,22,22541,23,22552,null,null,0,2222]
[21,22660,12,22676,13,22683,14,22688,null,null,0,2111]
[21,22797,21,22802,22,22807,23,22814,null,null,0,2222]
[21,22921,21,22929,22,22935,23,22941,null,null,0,2222]
[21,23048,12,23062,13,23067,14,23074,null,null,0,2111]
[21,23192,21,23201,22,23212,23,23220,null,null,0,2222]
[12,23376,14,23381,13,23387,14,23393,null,null,0,1111]
[21,23489,21,23508,22,23513,23,23518,null,null,0,2222]
[21,23624,21,23629,22,23635,23,23647,null,null,0,2222]
[21,23760,12,23783,13,23789,14,23796,null,null,0,2111]
[21,23903,21,23910,22,23916,23,23922,null,null,null,2222]

{"sheet":"!LB19C55..Du","index":19,"n_rows":178,"n_cols":48,"rows_kept":178,"cut":false,"hidden":false,"merged":[[1,1,1,2],[5,13,5,14],[26,13,26,14],[27,13,27,14],[4,19,4,22],[5,19,5,20],[4,39,4,42],[5,39,5,40],[4,44,4,47],[5,44,5,45],[4,24,4,27],[5,24,5,25],[4,29,4,32],[5,29,5,30],[4,34,4,37],[5,34,5,35]]}
["Report for:!LB19C55..Du"]
["Date:","<date>"]
["Hen:","<hen>",null,null,null,"Correct Sequence",{"$f":"Start!J2","v":2212},null,null,null,null,null,null,null,null,"Total Sequences in Data",{"$f":"4994-COUNTBLANK(L7:L5000)","v":172},null,null,null,null,"Total Sequences in Block Data",{"$f":"COUNTA(L7:L35)","v":29},null,null,null,"Total Sequences in Block Data",{"$f":"COUNTA(L36:L63)","v":28},null,null,null,"Total Sequences in Block Data",{"$f":"COUNTA(L64:L92)","v":29},null,null,null,"Total Sequences in Block Data",{"$f":"COUNTA(L93:L121)","v":29},null,null,null,"Total Sequences in Block Data",{"$f":"COUNTA(L122:L149)","v":28},null,null,null,"Total Sequences in Block Data",{"$f":"COUNTA(L150:L178)","v":29}]
[null,null,null,null,null,null,null,null,null,null,null,null,null,null,null,"Total Sequences in Summary",{"$f":"SUM(O7:O22)","v":172},null,null,null,null,"Total Sequences in Block Summary",{"$f":"SUM(U7:U22)","v":29},null,null,null,"Total Sequences in Block Summary",{"$f":"SUM(Z7:Z22)","v":28},null,null,null,"Total Sequences in Block Summary",{"$f":"SUM(AE7:AE22)","v":29},null,null,null,"Total Sequences in Block Summary",{"$f":"SUM(AJ7:AJ22)","v":29},null,null,null,"Total Sequences in Block Summary",{"$f":"SUM(AO7:AO22)","v":28},null,null,null,"Total Sequences in Block Summary",{"$f":"SUM(AT7:AT22)","v":29}]
[null,null,null,null,null,null,null,null,null,null,null,null,null,null,null,null,null,null,null,"Block 1",null,null,null,null,"Block 2",null,null,null,null,"Block 3",null,null,null,null,"Block 4",null,null,null,null,"Block 5",null,null,null,null,"Block 6"]
["Sequence\nComponent\n1","Time\n1","Sequence\nComponent\n2","Time\n2","Sequence\nComponent\n3","Time\n3","Sequence\nComponent\n4","Time\n4","Sequence\nComponent\n5","Time\n5","Correct?\n0=No 1=Yes","Sequence",null,"Frequency",null,"Relative Frequency","Variability",null,null,"Frequency",null,"Relative Frequency","Variability",null,"Frequency",null,"Relative Frequency","Variability",null,"Frequency",null,"Relative Frequency","Variability",null,"Frequency",null,"Relative Frequency","Variability",null,"Frequency",null,"Relative Frequency","Variability",null,"Frequency",null,"Relative Frequency","Variability"]
[21,18,21,49,22,53,23,64,null,null,0,2222,null,1111,{"$f":"COUNTIF($L$7:$L$500,N7)","v":82},{"$f":"O7/$Q$4","v":0.47674418604651164},{"$f":"IF(P7=0,0,(P7*((LOG(P7))/LOG(2))))","v":-0.50950259015633237},null,null,{"$f":"N7","v":1111},{"$f":"COUNTIF(L7:L35,T7)","v":8},{"$f":"U7/(W4-U20)","v":0.27586206896551724},{"$f":"IF(V7=0,0,(V7*((LOG(V7))/LOG(2))))","v":-0.51254648141450265},null,{"$f":"N7","v":1111},{"$f":"COUNTIF(L36:L63,Y7)","v":9},{"$f":"Z7/(AB4-Z20)","v":0.33333333333333331},{"$f":"IF(AA7=0,0,(AA7*((LOG(AA7))/LOG(2))))","v":-0.52832083357371862},null,{"$f":"N7","v":1111},{"$f":"COUNTIF(L64:L92,AD7)","v":15},{"$f":"AE7/(AG4-AE20)","v":0.51724137931034486},{"$f":"IF(AF7=0,0,(AF7*((LOG(AF7))/LOG(2))))","v":-0.49194331009606224},null,{"$f":"N7","v":1111},{"$f":"COUNTIF(L93:L121,AI7)","v":19},{"$f":"AJ7/(AL4-AJ20)","v":0.65517241379310343},{"$f":"IF(AK7=0,0,(AK7*((LOG(AK7))/LOG(2))))","v":-0.39969021213778433},null,{"$f":"N7","v":1111},{"$f":"COUNTIF(L122:L149,AN7)","v":19},{"$f":"AO7/(AQ4-AO20)","v":0.6785714285714286},{"$f":"IF(AP7=0,0,(AP7*((LOG(AP7))/LOG(2))))","v":-0.37961145584522688},null,{"$f":"N7","v":1111},{"$f":"COUNTIF(L150:L178,AS7)","v":12},{"$f":"AT7/(AV4-AT20)","v":0.41379310344827586},{"$f":"IF(AU7=0,0,(AU7*((LOG(AU7))/LOG(2))))","v":-0.5267662735474824}]
[21,159,21,171,22,187,14,201,null,null,0,2221,null,1112,0,0,0,null,null,1112,{"$f":"COUNTIF(L7:L35,T8)","v":0},{"$f":"U8/(W4-U20)","v":0},0,null,1112,{"$f":"COUNTIF(L36:L63,Y8)","v":0},{"$f":"Z8/(AB4-Z20)","v":0},0,null,1112,{"$f":"COUNTIF(L64:L92,AD8)","v":0},{"$f":"AE8/(AG4-AE20)","v":0},0,null,1112,{"$f":"COUNTIF(L93:L121,AI8)","v":0},{"$f":"AJ8/(AL4-AJ20)","v":0},0,null,1112,{"$f":"COUNTIF(L122:L149,AN8)","v":0},{"$f":"AO8/(AQ4-AO20)","v":0},0,null,1112,{"$f":"COUNTIF(L150:L178,AS8)","v":0},{"$f":"AT8/(AV4-AT20)","v":0},0]
[21,296,21,306,22,312,23,317,null,null,0,2222,null,1121,0,0,0,null,null,1121,{"$f":"COUNTIF(L7:L35,T9)","v":0},{"$f":"U9/(W4-U20)","v":0},0,null,1121,{"$f":"COUNTIF(L36:L63,Y9)","v":0},{"$f":"Z9/(AB4-Z20)","v":0},0,null,1121,{"$f":"COUNTIF(L64:L92,AD9)","v":0},{"$f":"AE9/(AG4-AE20)","v":0},0,null,1121,{"$f":"COUNTIF(L93:L121,AI9)","v":0},{"$f":"AJ9/(AL4-AJ20)","v":0},0,null,1121,{"$f":"COUNTIF(L122:L149,AN9)","v":0},{"$f":"AO9/(AQ4-AO20)","v":0},0,null,1121,{"$f":"COUNTIF(L150:L178,AS9)","v":0},{"$f":"AT9/(AV4-AT20)","v":0},0]
[21,423,21,428,22,431,23,439,null,null,0,2222,null,1122,2,1.1627906976744186E-2,-7.4724008775605782E-2,null,null,1122,{"$f":"COUNTIF(L7:L35,T10)","v":2},{"$f":"U10/(W4-U20)","v":6.8965517241379309E-2},-0.26606765483638428,null,1122,{"$f":"COUNTIF(L36:L63,Y10)","v":0},{"$f":"Z10/(AB4-Z20)","v":0},0,null,1122,{"$f":"COUNTIF(L64:L92,AD10)","v":0},{"$f":"AE10/(AG4-AE20)","v":0},0,null,1122,{"$f":"COUNTIF(L93:L121,AI10)","v":0},{"$f":"AJ10/(AL4-AJ20)","v":0},0,null,1122,{"$f":"COUNTIF(L122:L149,AN10)","v":0},{"$f":"AO10/(AQ4-AO20)","v":0},0,null,1122,{"$f":"COUNTIF(L150:L178,AS10)","v":0},{"$f":"AT10/(AV4-AT20)","v":0},0]
[21,551,21,560,22,568,23,574,null,null,0,2222,null,1211,1,5.8139534883720929E-3,-4.3175957876174981E-2,null,null,1211,{"$f":"COUNTIF(L7:L35,T11)","v":0},{"$f":"U11/(W4-U20)","v":0},0,null,1211,{"$f":"COUNTIF(L36:L63,Y11)","v":0},{"$f":"Z11/(AB4-Z20)","v":0},0,null,1211,{"$f":"COUNTIF(L64:L92,AD11)","v":0},{"$f":"AE11/(AG4-AE20)","v":0},0,null,1211,{"$f":"COUNTIF(L93:L121,AI11)","v":1},{"$f":"AJ11/(AL4-AJ20)","v":3.4482758620689655E-2},-0.16751658603888178,null,1211,{"$f":"COUNTIF(L122:L149,AN11)","v":0},{"$f":"AO11/(AQ4-AO20)","v":0},0,null,1211,{"$f":"COUNTIF(L150:L178,AS11)","v":0},{"$f":"AT11/(AV4-AT20)","v":0},0]
[21,673,21,690,11,708,12,720,null,null,0,2211,null,1212,0,0,0,null,null,1212,{"$f":"COUNTIF(L7:L35,T12)","v":0},{"$f":"U12/(W4-U20)","v":0},0,null,1212,{"$f":"COUNTIF(L36:L63,Y12)","v":0},{"$f":"Z12/(AB4-Z20)","v":0},0,null,1212,{"$f":"COUNTIF(L64:L92,AD12)","v":0},{"$f":"AE12/(AG4-AE20)","v":0},0,null,1212,{"$f":"COUNTIF(L93:L121,AI12)","v":0},{"$f":"AJ12/(AL4-AJ20)","v":0},0,null,1212,{"$f":"COUNTIF(L122:L149,AN12)","v":0},{"$f":"AO12/(AQ4-AO20)","v":0},0,null,1212,{"$f":"COUNTIF(L150:L178,AS12)","v":0},{"$f":"AT12/(AV4-AT20)","v":0},0]
[21,838,12,849,13,853,14,857,null,null,0,2111,null,1221,0,0,0,null,null,1221,{"$f":"COUNTIF(L7:L35,T13)","v":0},{"$f":"U13/(W4-U20)","v":0},0,null,1221,{"$f":"COUNTIF(L36:L63,Y13)","v":0},{"$f":"Z13/(AB4-Z20)","v":0},0,null,1221,{"$f":"COUNTIF(L64:L92,AD13)","v":0},{"$f":"AE13/(AG4-AE20)","v":0},0,null,1221,{"$f":"COUNTIF(L93:L121,AI13)","v":0},{"$f":"AJ13/(AL4-AJ20)","v":0},0,null,1221,{"$f":"COUNTIF(L122:L149,AN13)","v":0},{"$f":"AO13/(AQ4-AO20)","v":0},0,null,1221,{"$f":"COUNTIF(L150:L178,AS13)","v":0},{"$f":"AT13/(AV4-AT20)","v":0},0]
[12,958,14,969,24,977,23,987,null,null,0,1122,null,1222,7,4.0697674418604654E-2,-0.1879788885378573,null,null,1222,{"$f":"COUNTIF(L7:L35,T14)","v":2},{"$f":"U14/(W4-U20)","v":6.8965517241379309E-2},-0.26606765483638428,null,1222,{"$f":"COUNTIF(L36:L63,Y14)","v":0},{"$f":"Z14/(AB4-Z20)","v":0},0,null,1222,{"$f":"COUNTIF(L64:L92,AD14)","v":0},{"$f":"AE14/(AG4-AE20)","v":0},0,null,1222,{"$f":"COUNTIF(L93:L121,AI14)","v":0},{"$f":"AJ14/(AL4-AJ20)","v":0},0,null,1222,{"$f":"COUNTIF(L122:L149,AN14)","v":3},{"$f":"AO14/(AQ4-AO20)","v":0.10714285714285714},-0.34525633085747659,null,1222,{"$f":"COUNTIF(L150:L178,AS14)","v":2},{"$f":"AT14/(AV4-AT20)","v":6.8965517241379309E-2},-0.26606765483638428]
[21,1094,21,1098,22,1107,23,1113,null,null,0,2222,null,2111,27,0.15697674418604651,-0.41934410359618018,null,null,2111,{"$f":"COUNTIF(L7:L35,T15)","v":5},{"$f":"U15/(W4-U20)","v":0.17241379310344829},-0.43725050004141547,null,2111,{"$f":"COUNTIF(L36:L63,Y15)","v":4},{"$f":"Z15/(AB4-Z20)","v":0.14814814814814814},-0.40813148180199532,null,2111,{"$f":"COUNTIF(L64:L92,AD15)","v":2},{"$f":"AE15/(AG4-AE20)","v":6.8965517241379309E-2},-0.26606765483638428,null,2111,{"$f":"COUNTIF(L93:L121,AI15)","v":4},{"$f":"AJ15/(AL4-AJ20)","v":0.13793103448275862},-0.39420427519000989,null,2111,{"$f":"COUNTIF(L122:L149,AN15)","v":3},{"$f":"AO15/(AQ4-AO20)","v":0.10714285714285714},-0.34525633085747659,null,2111,{"$f":"COUNTIF(L150:L178,AS15)","v":9},{"$f":"AT15/(AV4-AT20)","v":0.31034482758620691},-0.52387944631611505]
[21,1221,12,1236,13,1242,14,1248,null,null,0,2111,null,2112,1,5.8139534883720929E-3,-4.3175957876174981E-2,null,null,2112,{"$f":"COUNTIF(L7:L35,T16)","v":1},{"$f":"U16/(W4-U20)","v":3.4482758620689655E-2},-0.16751658603888178,null,2112,{"$f":"COUNTIF(L36:L63,Y16)","v":0},{"$f":"Z16/(AB4-Z20)","v":0},0,null,2112,{"$f":"COUNTIF(L64:L92,AD16)","v":0},{"$f":"AE16/(AG4-AE20)","v":0},0,null,2112,{"$f":"COUNTIF(L93:L121,AI16)","v":0},{"$f":"AJ16/(AL4-AJ20)","v":0},0,null,2112,{"$f":"COUNTIF(L122:L149,AN16)","v":0},{"$f":"AO16/(AQ4-AO20)","v":0},0,null,2112,{"$f":"COUNTIF(L150:L178,AS16)","v":0},{"$f":"AT16/(AV4-AT20)","v":0},0]
[21,1358,12,1367,13,1383,14,1389,null,null,0,2111,null,2121,0,0,0,null,null,2121,{"$f":"COUNTIF(L7:L35,T17)","v":0},{"$f":"U17/(W4-U20)","v":0},0,null,2121,{"$f":"COUNTIF(L36:L63,Y17)","v":0},{"$f":"Z17/(AB4-Z20)","v":0},0,null,2121,{"$f":"COUNTIF(L64:L92,AD17)","v":0},{"$f":"AE17/(AG4-AE20)","v":0},0,null,2121,{"$f":"COUNTIF(L93:L121,AI17)","v":0},{"$f":"AJ17/(AL4-AJ20)","v":0},0,null,2121,{"$f":"COUNTIF(L122:L149,AN17)","v":0},{"$f":"AO17/(AQ4-AO20)","v":0},0,null,2121,{"$f":"COUNTIF(L150:L178,AS17)","v":0},{"$f":"AT17/(AV4-AT20)","v":0},0]
[12,1645,14,1652,13,1658,14,1664,null,null,0,1111,null,2122,1,5.8139534883720929E-3,-4.3175957876174981E-2,null,null,2122,{"$f":"COUNTIF(L7:L35,T18)","v":0},{"$f":"U18/(W4-U20)","v":0},0,null,2122,{"$f":"COUNTIF(L36:L63,Y18)","v":1},{"$f":"Z18/(AB4-Z20)","v":3.7037037037037035E-2},-0.1761069445245729,null,2122,{"$f":"COUNTIF(L64:L92,AD18)","v":0},{"$f":"AE18/(AG4-AE20)","v":0},0,null,2122,{"$f":"COUNTIF(L93:L121,AI18)","v":0},{"$f":"AJ18/(AL4-AJ20)","v":0},0,null,2122,{"$f":"COUNTIF(L122:L149,AN18)","v":0},{"$f":"AO18/(AQ4-AO20)","v":0},0,null,2122,{"$f":"COUNTIF(L150:L178,AS18)","v":0},{"$f":"AT18/(AV4-AT20)","v":0},0]
[21,1784,21,1792,22,1798,23,1810,null,null,0,2222,null,2211,2,1.1627906976744186E-2,-7.4724008775605782E-2,null,null,2211,{"$f":"COUNTIF(L7:L35,T19)","v":1},{"$f":"U19/(W4-U20)","v":3.4482758620689655E-2},-0.16751658603888178,null,2211,{"$f":"COUNTIF(L36:L63,Y19)","v":1},{"$f":"Z19/(AB4-Z20)","v":3.7037037037037035E-2},-0.1761069445245729,null,2211,{"$f":"COUNTIF(L64:L92,AD19)","v":0},{"$f":"AE19/(AG4-AE20)","v":0},0,null,2211,{"$f":"COUNTIF(L93:L121,AI19)","v":0},{"$f":"AJ19/(AL4-AJ20)","v":0},0,null,2211,{"$f":"COUNTIF(L122:L149,AN19)","v":0},{"$f":"AO19/(AQ4-AO20)","v":0},0,null,2211,{"$f":"COUNTIF(L150:L178,AS19)","v":0},{"$f":"AT19/(AV4-AT20)","v":0},0]
[21,1914,12,1924,13,1931,23,1941,null,null,0,2112,null,2212,1,5.8139534883720929E-3,-4.3175957876174981E-2,null,null,2212,{"$f":"COUNTIF(L7:L35,T20)","v":0},null,null,null,2212,{"$f":"COUNTIF(L36:L63,Y20)","v":1},null,null,null,2212,{"$f":"COUNTIF(L64:L92,AD20)","v":0},null,null,null,2212,{"$f":"COUNTIF(L93:L121,AI20)","v":0},null,null,null,2212,{"$f":"COUNTIF(L122:L149,AN20)","v":0},null,null,null,2212,{"$f":"COUNTIF(L150:L178,AS20)","v":0}]
[12,2037,14,2045,24,2053,23,2061,null,null,0,1122,null,2221,1,5.8139534883720929E-3,-4.3175957876174981E-2,null,null,2221,{"$f":"COUNTIF(L7:L35,T21)","v":1},{"$f":"U21/(W4-U20)","v":3.4482758620689655E-2},{"$f":"IF(V21=0,0,(V21*((LOG(V21))/LOG(2))))","v":-0.16751658603888178},null,2221,{"$f":"COUNTIF(L36:L63,Y21)","v":0},{"$f":"Z21/(AB4-Z20)","v":0},{"$f":"IF(AA21=0,0,(AA21*((LOG(AA21))/LOG(2))))","v":0},null,2221,{"$f":"COUNTIF(L64:L92,AD21)","v":0},{"$f":"AE21/(AG4-AE20)","v":0},{"$f":"IF(AF21=0,0,(AF21*((LOG(AF21))/LOG(2))))","v":0},null,2221,{"$f":"COUNTIF(L93:L121,AI21)","v":0},{"$f":"AJ21/(AL4-AJ20)","v":0},{"$f":"IF(AK21=0,0,(AK21*((LOG(AK21))/LOG(2))))","v":0},null,2221,{"$f":"COUNTIF(L122:L149,AN21)","v":0},{"$f":"AO21/(AQ4-AO20)","v":0},{"$f":"IF(AP21=0,0,(AP21*((LOG(AP21))/LOG(2))))","v":0},null,2221,{"$f":"COUNTIF(L150:L178,AS21)","v":0},{"$f":"AT21/(AV4-AT20)","v":0},{"$f":"IF(AU21=0,0,(AU21*((LOG(AU21))/LOG(2))))","v":0}]
[12,2170,14,2186,13,2190,14,2196,null,null,0,1111,null,2222,47,0.27325581395348836,-0.51144632233807941,null,null,2222,{"$f":"COUNTIF(L7:L35,T22)","v":9},{"$f":"U22/(W4-U20)","v":0.31034482758620691},{"$f":"IF(V22=0,0,(V22*((LOG(V22))/LOG(2))))","v":-0.52387944631611505},null,2222,{"$f":"COUNTIF(L36:L63,Y22)","v":12},{"$f":"Z22/(AB4-Z20)","v":0.44444444444444442},{"$f":"IF(AA22=0,0,(AA22*((LOG(AA22))/LOG(2))))","v":-0.51996666730769447},null,2222,{"$f":"COUNTIF(L64:L92,AD22)","v":12},{"$f":"AE22/(AG4-AE20)","v":0.41379310344827586},{"$f":"IF(AF22=0,0,(AF22*((LOG(AF22))/LOG(2))))","v":-0.5267662735474824},null,2222,{"$f":"COUNTIF(L93:L121,AI22)","v":5},{"$f":"AJ22/(AL4-AJ20)","v":0.17241379310344829},{"$f":"IF(AK22=0,0,(AK22*((LOG(AK22))/LOG(2))))","v":-0.43725050004141547},null,2222,{"$f":"COUNTIF(L122:L149,AN22)","v":3},{"$f":"AO22/(AQ4-AO20)","v":0.10714285714285714},{"$f":"IF(AP22=0,0,(AP22*((LOG(AP22))/LOG(2))))","v":-0.34525633085747659},null,2222,{"$f":"COUNTIF(L150:L178,AS22)","v":6},{"$f":"AT22/(AV4-AT20)","v":0.20689655172413793},{"$f":"IF(AU22=0,0,(AU22*((LOG(AU22))/LOG(2))))","v":-0.4702796884978791}]
[12,2307,14,2312,13,2316,14,2327,null,null,0,1111,null,null,null,{"$f":"SUM(P7:P22)","v":1.0000000000000002},{"$f":"-SUM(Q7:Q22)","v":1.9935997115605359},null,null,null,null,{"$f":"SUM(V7:V22)","v":1},{"$f":"-SUM(W7:W22)","v":2.5083614955614473},null,null,null,{"$f":"SUM(AA7:AA22)","v":1},{"$f":"-SUM(AB7:AB22)","v":1.8086328717325544},null,null,null,{"$f":"SUM(AF7:AF22)","v":1},{"$f":"-SUM(AG7:AG22)","v":1.2847772384799288},null,null,null,{"$f":"SUM(AK7:AK22)","v":0.99999999999999989},{"$f":"-SUM(AL7:AL22)","v":1.3986615734080914},null,null,null,{"$f":"SUM(AP7:AP22)","v":0.99999999999999989},{"$f":"-SUM(AQ7:AQ22)","v":1.4153804484176566},null,null,null,{"$f":"SUM(AU7:AU22)","v":1},{"$f":"-SUM(AV7:AV22)","v":1.7869930631978608}]
[12,2430,23,2450,24,2460,23,2470,null,null,0,1222,null,null,null,"U=",{"$f":"Q23/(LOG(Q4)/LOG(2))","v":0.26845255015965408},null,null,null,null,"U1=",{"$f":"W23/(LOG(W4)/LOG(2))","v":0.51633826852704212},null,null,null,"U2=",{"$f":"AB23/(LOG(AB4)/LOG(2))","v":0.37622203915795727},null,null,null,"U3=",{"$f":"AG23/(LOG(AG4)/LOG(2))","v":0.26446732495835756},null,null,null,"U4=",{"$f":"AL23/(LOG(AL4)/LOG(2))","v":0.28791005457018304},null,null,null,"U5=",{"$f":"AQ23/(LOG(AQ4)/LOG(2))","v":0.2944197945367964},null,null,null,"U6=",{"$f":"AV23/(LOG(AV4)/LOG(2))","v":0.36784686168804864}]
[12,2569,14,2577,13,2582,14,2589,null,null,0,1111]
[12,2686,23,2696,24,2702,23,2707,null,null,0,1222]
[21,2819,21,2830,22,2836,23,2844,null,null,0,2222,null,"Total Target Seq"]
[12,2982,14,2986,13,2995,14,3000,null,null,0,1111,null,{"$f":"COUNTIF(L7:L178,G3)","v":1},null,29,28,29,29,28,29]
[21,3111,12,3120,13,3126,14,3131,null,null,0,2111,null,null,null,"% of reinforcement given in 6 equal intervals based on number of trials "]
[21,3233,21,3258,22,3264,23,3274,null,null,0,2222,null,null,null,"%_1","%_2","%_3","%_4","%_5","%_6"]
[21,3384,21,3396,22,3408,23,3413,null,null,0,2222,null,null,"target sequence",{"$f":"$G$3","v":2212},2212,2212,2212,2212,2212]
[12,3584,14,3590,13,3595,14,3608,null,null,0,1111,null,null,"total reinforcement",{"$f":"U20","v":0},{"$f":"Z20","v":1},{"$f":"AE20","v":0},{"$f":"AJ20","v":0},{"$f":"AO20","v":0},{"$f":"AT20","v":0}]
[12,3723,14,3728,13,3741,14,3747,null,null,0,1111,null,null,"% target"]
[12,3852,14,3857,13,3862,14,3868,null,null,0,1111,null,null,"CCRF"]
[21,3977,12,3990,13,3996,14,4003,null,null,0,2111,null,null,"% CCRf"]
[21,4109,21,4126,22,4132,23,4138,null,null,0,2222,null,null,"average response rate",{"$f":"H35/P28","v":138.0344827586207},{"$f":"(H63-H35)/Q28","v":142.03571428571428},{"$f":"(H92-H63)/R28","v":134.41379310344828},{"$f":"(H121-H92)/S28","v":137.24137931034483},{"$f":"(H149-H121)/T28","v":137.42857142857142},{"$f":"(H178-H149)/U28","v":145.06896551724137}]
[12,4246,14,4255,13,4260,14,4270,null,null,0,1111]
[21,4374,21,4384,22,4391,23,4396,null,null,0,2222]
[21,4499,21,4504,11,4514,21,4524,null,null,0,2212]
[12,4655,14,4660,13,4665,14,4671,null,null,0,1111]
[12,4800,14,4804,13,4809,14,4814,null,null,0,1111]
[21,4922,21,4924,22,4930,23,4935,null,null,0,2222]
[12,5078,14,5082,13,5088,14,5094,null,null,0,1111]
[12,5198,14,5215,13,5221,14,5227,null,null,0,1111]
[21,5349,12,5360,13,5366,14,5378,null,null,0,2111]
[12,5478,14,5485,13,5491,14,5497,null,null,0,1111]
[21,5603,21,5605,22,5610,23,5616,null,null,0,2222]
[21,5717,12,5727,24,5740,23,5748,null,null,0,2122]
[21,5840,21,5855,11,5867,12,5870,null,null,0,2211]
[21,5983,21,5998,22,6002,23,6008,null,null,0,2222]
[12,6104,14,6108,13,6113,14,6120,null,null,0,1111]
[12,6358,14,6362,13,6368,14,6373,null,null,0,1111]
[21,6467,21,6491,22,6498,23,6504,null,null,0,2222]
[21,6622,21,6627,22,6633,23,6638,null,null,0,2222]
[21,6747,21,6761,22,6769,23,6774,null,null,0,2222]
[12,6925,14,6928,13,6934,14,6944,null,null,0,1111]
[21,7041,21,7053,22,7058,23,7067,null,null,0,2222]
[21,7187,12,7199,13,7209,14,7216,null,null,0,2111]
[21,7324,12,7335,13,7339,14,7350,null,null,0,2111]
[21,7460,21,7468,22,7480,23,7491,null,null,0,2222]
[21,7704,21,7708,22,7714,23,7719,null,null,0,2222]
[21,7826,12,7843,13,7848,14,7854,null,null,0,2111]
[21,7955,21,7964,22,7976,23,7980,null,null,0,2222]
[21,8094,21,8110,22,8116,23,8122,null,null,0,2222]
[12,8218,14,8224,13,8229,14,8234,null,null,0,1111]
[12,8344,14,8349,13,8360,14,8366,null,null,0,1111]
[21,8472,21,8475,22,8486,23,8494,null,null,0,2222]
[12,8627,14,8635,13,8641,14,8657,null,null,0,1111]
[21,8766,21,8776,22,8782,23,8786,null,null,0,2222]
[21,8912,21,8919,22,8926,23,8933,null,null,0,2222]
[12,9042,14,9047,13,9057,14,9062,null,null,0,1111]
[21,9178,21,9191,22,9197,23,9203,null,null,0,2222]
[21,9315,21,9319,22,9325,23,9335,null,null,0,2222]
[12,9444,14,9449,13,9453,14,9458,null,null,0,1111]
[12,9575,14,9579,13,9585,14,9591,null,null,0,1111]
[12,9702,14,9707,13,9713,14,9719,null,null,0,1111]
[21,9836,21,9852,22,9859,23,9862,null,null,0,2222]
[12,9980,14,9985,13,9991,14,9997,null,null,0,1111]
[12,10147,14,10150,13,10156,14,10162,null,null,0,1111]
[21,10281,21,10289,22,10294,23,10299,null,null,0,2222]
[21,10408,21,10414,22,10419,23,10425,null,null,0,2222]
[21,10524,12,10542,13,10546,14,10551,null,null,0,2111]
[21,10666,21,10671,22,10686,23,10691,null,null,0,2222]
[21,10813,21,10818,22,10823,23,10831,null,null,0,2222]
[12,10938,14,10946,13,10952,14,10957,null,null,0,1111]
[12,11057,14,11067,13,11072,14,11078,null,null,0,1111]
[12,11172,14,11180,13,11185,14,11192,null,null,0,1111]
[12,11287,14,11295,13,11301,14,11307,null,null,0,1111]
[12,11428,14,11434,13,11439,14,11446,null,null,0,1111]
[12,11540,14,11550,13,11554,14,11561,null,null,0,1111]
[21,11664,12,11675,13,11681,14,11687,null,null,0,2111]
[21,11847,21,11854,22,11873,23,11878,null,null,0,2222]
[12,11985,14,11991,13,11996,14,12002,null,null,0,1111]
[21,12102,12,12117,13,12120,14,12125,null,null,0,2111]
[12,12225,14,12231,13,12236,14,12241,null,null,0,1111]
[12,12340,23,12348,13,12360,14,12369,null,null,0,1211]
[12,12597,14,12600,13,12602,14,12605,null,null,0,1111]
[12,12727,14,12730,13,12735,14,12741,null,null,0,1111]
[12,12842,14,12851,13,12857,14,12863,null,null,0,1111]
[21,12963,12,12978,13,12985,14,12995,null,null,0,2111]
[21,13088,21,13106,22,13117,23,13123,null,null,0,2222]
[12,13240,14,13245,13,13258,14,13264,null,null,0,1111]
[21,13368,21,13378,22,13389,23,13396,null,null,0,2222]
[21,13503,12,13522,13,13526,14,13535,null,null,0,2111]
[12,13685,14,13690,13,13695,14,13701,null,null,0,1111]
[12,13883,14,13889,13,13897,14,13903,null,null,0,1111]
[12,14021,14,14026,13,14032,14,14037,null,null,0,1111]
[21,14141,12,14158,13,14169,14,14177,null,null,0,2111]
[21,14282,21,14296,22,14315,23,14320,null,null,0,2222]
[12,14415,14,14424,13,14431,14,14437,null,null,0,1111]
[21,14531,21,14551,22,14555,23,14562,null,null,0,2222]
[12,14671,14,14676,13,14684,14,14696,null,null,0,1111]
[12,14829,14,14835,13,14842,14,14849,null,null,0,1111]
[12,14944,14,14950,13,14955,14,14962,null,null,0,1111]
[12,15066,14,15071,13,15085,14,15092,null,null,0,1111]
[12,15209,14,15214,13,15224,14,15230,null,null,0,1111]
[12,15329,14,15339,13,15348,14,15355,null,null,0,1111]
[12,15452,14,15466,13,15472,14,15478,null,null,0,1111]
[21,15589,21,15594,22,15600,23,15606,null,null,0,2222]
[12,15703,14,15708,13,15713,14,15719,null,null,0,1111]
[12,15832,14,15837,13,15851,14,15858,null,null,0,1111]
[12,15965,23,15981,24,15986,23,15991,null,null,0,1222]
[12,16093,14,16118,13,16124,14,16134,null,null,0,1111]
[12,16270,14,16275,13,16281,14,16287,null,null,0,1111]
[12,16419,14,16425,13,16434,14,16439,null,null,0,1111]
[21,16562,21,16586,22,16593,23,16604,null,null,0,2222]
[12,16721,14,16729,13,16733,14,16738,null,null,0,1111]
[12,16835,14,16841,13,16846,14,16852,null,null,0,1111]
[21,16955,21,16973,22,16977,23,16984,null,null,0,2222]
[12,17100,14,17105,13,17116,14,17122,null,null,0,1111]
[12,17239,14,17248,13,17253,14,17259,null,null,0,1111]
[12,17371,14,17382,13,17387,14,17393,null,null,0,1111]
[21,17511,12,17522,13,17527,14,17538,null,null,0,2111]
[12,17656,14,17664,13,17669,14,17676,null,null,0,1111]
[21,17797,12,17811,13,17819,14,17824,null,null,0,2111]
[12,17950,14,17969,13,17973,14,17979,null,null,0,1111]
[12,18081,23,18090,24,18098,23,18100,null,null,0,1222]
[12,18220,14,18225,13,18230,14,18237,null,null,0,1111]
[21,18351,21,18357,22,18362,23,18368,null,null,0,2222]
[21,18476,12,18484,13,18493,14,18498,null,null,0,2111]
[12,18595,14,18604,13,18610,14,18616,null,null,0,1111]
[12,18714,14,18720,13,18725,14,18731,null,null,0,1111]
[12,18834,23,18849,24,18855,23,18861,null,null,0,1222]
[12,18980,14,18992,13,18997,14,19004,null,null,0,1111]
[12,19180,14,19187,13,19191,14,19196,null,null,0,1111]
[12,19301,14,19322,13,19327,14,19333,null,null,0,1111]
[12,19434,14,19446,13,19452,14,19457,null,null,0,1111]
[12,19558,14,19563,13,19569,14,19575,null,null,0,1111]
[12,19677,14,19695,13,19700,14,19706,null,null,0,1111]
[12,19807,14,19817,13,19822,14,19828,null,null,0,1111]
[21,19941,12,19953,13,19959,14,19965,null,null,0,2111]
[12,20087,14,20092,13,20097,14,20109,null,null,0,1111]
[12,20276,14,20286,13,20292,14,20298,null,null,0,1111]
[21,20406,12,20431,13,20435,14,20441,null,null,0,2111]
[12,20545,23,20554,24,20561,23,20568,null,null,0,1222]
[21,20668,12,20677,13,20681,14,20686,null,null,0,2111]
[21,20794,12,20808,13,20814,14,20820,null,null,0,2111]
[21,20930,21,20935,22,20939,23,20944,null,null,0,2222]
[12,21045,14,21049,13,21060,14,21067,null,null,0,1111]
[12,21183,14,21187,13,21193,14,21203,null,null,0,1111]
[12,21317,14,21329,13,21337,14,21345,null,null,0,1111]
[12,21443,14,21447,13,21452,14,21463,null,null,0,1111]
[21,21568,12,21577,13,21582,14,21588,null,null,0,2111]
[21,21728,12,21739,13,21749,14,21755,null,null,0,2111]
[12,22127,14,22135,13,22140,14,22146,null,null,0,1111]
[21,22247,12,22261,13,22270,14,22276,null,null,0,2111]
[12,22410,14,22415,13,22420,14,22426,null,null,0,1111]
[12,22548,14,22554,13,22563,14,22570,null,null,0,1111]
[21,22681,12,22693,13,22697,14,22701,null,null,0,2111]
[21,22808,21,22829,22,22834,23,22844,null,null,0,2222]
[21,22947,21,22967,22,22974,23,22981,null,null,0,2222]
[12,23091,23,23101,24,23109,23,23114,null,null,0,1222]
[21,23207,12,23238,13,23242,14,23248,null,null,0,2111]
[21,23353,21,23363,22,23368,23,23374,null,null,0,2222]
[12,23490,14,23494,13,23500,14,23505,null,null,0,1111]
[21,23621,21,23629,22,23641,23,23646,null,null,0,2222]
[21,23758,21,23761,22,23768,23,23773,null,null,0,2222]
[12,23870,14,23886,13,23901,14,23913,null,null,null,1111]

{"sheet":"!LB20A15..Du","index":20,"n_rows":175,"n_cols":48,"rows_kept":175,"cut":false,"hidden":false,"merged":[[1,1,1,2],[5,13,5,14],[26,13,26,14],[27,13,27,14],[4,19,4,22],[5,19,5,20],[4,39,4,42],[5,39,5,40],[4,44,4,47],[5,44,5,45],[4,24,4,27],[5,24,5,25],[4,29,4,32],[5,29,5,30],[4,34,4,37],[5,34,5,35]]}
["Report for:!LB20A15..Du"]
["Date:","<date>"]
["Hen:","<hen>",null,null,null,"Correct Sequence",{"$f":"Start!J2","v":2212},null,null,null,null,null,null,null,null,"Total Sequences in Data",{"$f":"4994-COUNTBLANK(L7:L5000)","v":169},null,null,null,null,"Total Sequences in Block Data",{"$f":"COUNTA(L7:L34)","v":28},null,null,null,"Total Sequences in Block Data",{"$f":"COUNTA(L35:L62)","v":28},null,null,null,"Total Sequences in Block Data",{"$f":"COUNTA(L63:L91)","v":29},null,null,null,"Total Sequences in Block Data",{"$f":"COUNTA(L92:L119)","v":28},null,null,null,"Total Sequences in Block Data",{"$f":"COUNTA(L120:L147)","v":28},null,null,null,"Total Sequences in Block Data",{"$f":"COUNTA(L148:L175)","v":28}]
[null,null,null,null,null,null,null,null,null,null,null,null,null,null,null,"Total Sequences in Summary",{"$f":"SUM(O7:O22)","v":169},null,null,null,null,"Total Sequences in Block Summary",{"$f":"SUM(U7:U22)","v":28},null,null,null,"Total Sequences in Block Summary",{"$f":"SUM(Z7:Z22)","v":28},null,null,null,"Total Sequences in Block Summary",{"$f":"SUM(AE7:AE22)","v":29},null,null,null,"Total Sequences in Block Summary",{"$f":"SUM(AJ7:AJ22)","v":28},null,null,null,"Total Sequences in Block Summary",{"$f":"SUM(AO7:AO22)","v":28},null,null,null,"Total Sequences in Block Summary",{"$f":"SUM(AT7:AT22)","v":28}]
[null,null,null,null,null,null,null,null,null,null,null,null,null,null,null,null,null,null,null,"Block 1",null,null,null,null,"Block 2",null,null,null,null,"Block 3",null,null,null,null,"Block 4",null,null,null,null,"Block 5",null,null,null,null,"Block 6"]
["Sequence\nComponent\n1","Time\n1","Sequence\nComponent\n2","Time\n2","Sequence\nComponent\n3","Time\n3","Sequence\nComponent\n4","Time\n4","Sequence\nComponent\n5","Time\n5","Correct?\n0=No 1=Yes","Sequence",null,"Frequency",null,"Relative Frequency","Variability",null,null,"Frequency",null,"Relative Frequency","Variability",null,"Frequency",null,"Relative Frequency","Variability",null,"Frequency",null,"Relative Frequency","Variability",null,"Frequency",null,"Relative Frequency","Variability",null,"Frequency",null,"Relative Frequency","Variability",null,"Frequency",null,"Relative Frequency","Variability"]
[21,12,12,22,13,27,14,34,null,null,0,2111,null,1111,{"$f":"COUNTIF($L$7:$L$500,N7)","v":55},{"$f":"O7/$Q$4","v":0.32544378698224852},{"$f":"IF(P7=0,0,(P7*((LOG(P7))/LOG(2))))","v":-0.52706263166665013},null,null,{"$f":"N7","v":1111},{"$f":"COUNTIF(L7:L34,T7)","v":10},{"$f":"U7/(W4-U20)","v":0.35714285714285715},{"$f":"IF(V7=0,0,(V7*((LOG(V7))/LOG(2))))","v":-0.53050958113222924},null,{"$f":"N7","v":1111},{"$f":"COUNTIF(L35:L62,Y7)","v":8},{"$f":"Z7/(AB4-Z20)","v":0.2857142857142857},{"$f":"IF(AA7=0,0,(AA7*((LOG(AA7))/LOG(2))))","v":-0.51638712058788683},null,{"$f":"N7","v":1111},{"$f":"COUNTIF(L63:L91,AD7)","v":9},{"$f":"AE7/(AG4-AE20)","v":0.31034482758620691},{"$f":"IF(AF7=0,0,(AF7*((LOG(AF7))/LOG(2))))","v":-0.52387944631611505},null,{"$f":"N7","v":1111},{"$f":"COUNTIF(L92:L119,AI7)","v":7},{"$f":"AJ7/(AL4-AJ20)","v":0.25},{"$f":"IF(AK7=0,0,(AK7*((LOG(AK7))/LOG(2))))","v":-0.5},null,{"$f":"N7","v":1111},{"$f":"COUNTIF(L120:L147,AN7)","v":10},{"$f":"AO7/(AQ4-AO20)","v":0.35714285714285715},{"$f":"IF(AP7=0,0,(AP7*((LOG(AP7))/LOG(2))))","v":-0.53050958113222924},null,{"$f":"N7","v":1111},{"$f":"COUNTIF(L148:L175,AS7)","v":11},{"$f":"AT7/(AV4-AT20)","v":0.39285714285714285},{"$f":"IF(AU7=0,0,(AU7*((LOG(AU7))/LOG(2))))","v":-0.52954129777226344}]
[21,167,12,179,13,185,14,190,null,null,0,2111,null,1112,0,0,0,null,null,1112,{"$f":"COUNTIF(L7:L34,T8)","v":0},{"$f":"U8/(W4-U20)","v":0},0,null,1112,{"$f":"COUNTIF(L35:L62,Y8)","v":0},{"$f":"Z8/(AB4-Z20)","v":0},0,null,1112,{"$f":"COUNTIF(L63:L91,AD8)","v":0},{"$f":"AE8/(AG4-AE20)","v":0},0,null,1112,{"$f":"COUNTIF(L92:L119,AI8)","v":0},{"$f":"AJ8/(AL4-AJ20)","v":0},0,null,1112,{"$f":"COUNTIF(L120:L147,AN8)","v":0},{"$f":"AO8/(AQ4-AO20)","v":0},0,null,1112,{"$f":"COUNTIF(L148:L175,AS8)","v":0},{"$f":"AT8/(AV4-AT20)","v":0},0]
[21,293,21,303,22,309,23,328,null,null,0,2222,null,1121,0,0,0,null,null,1121,{"$f":"COUNTIF(L7:L34,T9)","v":0},{"$f":"U9/(W4-U20)","v":0},0,null,1121,{"$f":"COUNTIF(L35:L62,Y9)","v":0},{"$f":"Z9/(AB4-Z20)","v":0},0,null,1121,{"$f":"COUNTIF(L63:L91,AD9)","v":0},{"$f":"AE9/(AG4-AE20)","v":0},0,null,1121,{"$f":"COUNTIF(L92:L119,AI9)","v":0},{"$f":"AJ9/(AL4-AJ20)","v":0},0,null,1121,{"$f":"COUNTIF(L120:L147,AN9)","v":0},{"$f":"AO9/(AQ4-AO20)","v":0},0,null,1121,{"$f":"COUNTIF(L148:L175,AS9)","v":0},{"$f":"AT9/(AV4-AT20)","v":0},0]
[21,432,21,440,22,450,23,457,null,null,0,2222,null,1122,0,0,0,null,null,1122,{"$f":"COUNTIF(L7:L34,T10)","v":0},{"$f":"U10/(W4-U20)","v":0},0,null,1122,{"$f":"COUNTIF(L35:L62,Y10)","v":0},{"$f":"Z10/(AB4-Z20)","v":0},0,null,1122,{"$f":"COUNTIF(L63:L91,AD10)","v":0},{"$f":"AE10/(AG4-AE20)","v":0},0,null,1122,{"$f":"COUNTIF(L92:L119,AI10)","v":0},{"$f":"AJ10/(AL4-AJ20)","v":0},0,null,1122,{"$f":"COUNTIF(L120:L147,AN10)","v":0},{"$f":"AO10/(AQ4-AO20)","v":0},0,null,1122,{"$f":"COUNTIF(L148:L175,AS10)","v":0},{"$f":"AT10/(AV4-AT20)","v":0},0]
[12,704,14,710,13,715,14,721,null,null,0,1111,null,1211,0,0,0,null,null,1211,{"$f":"COUNTIF(L7:L34,T11)","v":0},{"$f":"U11/(W4-U20)","v":0},0,null,1211,{"$f":"COUNTIF(L35:L62,Y11)","v":0},{"$f":"Z11/(AB4-Z20)","v":0},0,null,1211,{"$f":"COUNTIF(L63:L91,AD11)","v":0},{"$f":"AE11/(AG4-AE20)","v":0},0,null,1211,{"$f":"COUNTIF(L92:L119,AI11)","v":0},{"$f":"AJ11/(AL4-AJ20)","v":0},0,null,1211,{"$f":"COUNTIF(L120:L147,AN11)","v":0},{"$f":"AO11/(AQ4-AO20)","v":0},0,null,1211,{"$f":"COUNTIF(L148:L175,AS11)","v":0},{"$f":"AT11/(AV4-AT20)","v":0},0]
[21,819,21,832,22,835,23,838,null,null,0,2222,null,1212,0,0,0,null,null,1212,{"$f":"COUNTIF(L7:L34,T12)","v":0},{"$f":"U12/(W4-U20)","v":0},0,null,1212,{"$f":"COUNTIF(L35:L62,Y12)","v":0},{"$f":"Z12/(AB4-Z20)","v":0},0,null,1212,{"$f":"COUNTIF(L63:L91,AD12)","v":0},{"$f":"AE12/(AG4-AE20)","v":0},0,null,1212,{"$f":"COUNTIF(L92:L119,AI12)","v":0},{"$f":"AJ12/(AL4-AJ20)","v":0},0,null,1212,{"$f":"COUNTIF(L120:L147,AN12)","v":0},{"$f":"AO12/(AQ4-AO20)","v":0},0,null,1212,{"$f":"COUNTIF(L148:L175,AS12)","v":0},{"$f":"AT12/(AV4-AT20)","v":0},0]
[21,950,21,955,22,962,23,968,null,null,0,2222,null,1221,0,0,0,null,null,1221,{"$f":"COUNTIF(L7:L34,T13)","v":0},{"$f":"U13/(W4-U20)","v":0},0,null,1221,{"$f":"COUNTIF(L35:L62,Y13)","v":0},{"$f":"Z13/(AB4-Z20)","v":0},0,null,1221,{"$f":"COUNTIF(L63:L91,AD13)","v":0},{"$f":"AE13/(AG4-AE20)","v":0},0,null,1221,{"$f":"COUNTIF(L92:L119,AI13)","v":0},{"$f":"AJ13/(AL4-AJ20)","v":0},0,null,1221,{"$f":"COUNTIF(L120:L147,AN13)","v":0},{"$f":"AO13/(AQ4-AO20)","v":0},0,null,1221,{"$f":"COUNTIF(L148:L175,AS13)","v":0},{"$f":"AT13/(AV4-AT20)","v":0},0]
[21,1075,21,1082,22,1088,23,1094,null,null,0,2222,null,1222,18,0.10650887573964497,-0.34412532442081473,null,null,1222,{"$f":"COUNTIF(L7:L34,T14)","v":4},{"$f":"U14/(W4-U20)","v":0.14285714285714285},-0.40105070315108626,null,1222,{"$f":"COUNTIF(L35:L62,Y14)","v":2},{"$f":"Z14/(AB4-Z20)","v":7.1428571428571425E-2},-0.27195392300411453,null,1222,{"$f":"COUNTIF(L63:L91,AD14)","v":3},{"$f":"AE14/(AG4-AE20)","v":0.10344827586206896},-0.33858812011100858,null,1222,{"$f":"COUNTIF(L92:L119,AI14)","v":3},{"$f":"AJ14/(AL4-AJ20)","v":0.10714285714285714},-0.34525633085747659,null,1222,{"$f":"COUNTIF(L120:L147,AN14)","v":4},{"$f":"AO14/(AQ4-AO20)","v":0.14285714285714285},-0.40105070315108626,null,1222,{"$f":"COUNTIF(L148:L175,AS14)","v":2},{"$f":"AT14/(AV4-AT20)","v":7.1428571428571425E-2},-0.27195392300411453]
[12,1196,23,1201,24,1209,23,1215,null,null,0,1222,null,2111,17,0.10059171597633136,-0.3333022610387063,null,null,2111,{"$f":"COUNTIF(L7:L34,T15)","v":5},{"$f":"U15/(W4-U20)","v":0.17857142857142858},-0.44382621913754317,null,2111,{"$f":"COUNTIF(L35:L62,Y15)","v":3},{"$f":"Z15/(AB4-Z20)","v":0.10714285714285714},-0.34525633085747659,null,2111,{"$f":"COUNTIF(L63:L91,AD15)","v":1},{"$f":"AE15/(AG4-AE20)","v":3.4482758620689655E-2},-0.16751658603888178,null,2111,{"$f":"COUNTIF(L92:L119,AI15)","v":5},{"$f":"AJ15/(AL4-AJ20)","v":0.17857142857142858},-0.44382621913754317,null,2111,{"$f":"COUNTIF(L120:L147,AN15)","v":0},{"$f":"AO15/(AQ4-AO20)","v":0},0,null,2111,{"$f":"COUNTIF(L148:L175,AS15)","v":3},{"$f":"AT15/(AV4-AT20)","v":0.10714285714285714},-0.34525633085747659]
[21,1316,12,1330,13,1335,14,1340,null,null,0,2111,null,2112,0,0,0,null,null,2112,{"$f":"COUNTIF(L7:L34,T16)","v":0},{"$f":"U16/(W4-U20)","v":0},0,null,2112,{"$f":"COUNTIF(L35:L62,Y16)","v":0},{"$f":"Z16/(AB4-Z20)","v":0},0,null,2112,{"$f":"COUNTIF(L63:L91,AD16)","v":0},{"$f":"AE16/(AG4-AE20)","v":0},0,null,2112,{"$f":"COUNTIF(L92:L119,AI16)","v":0},{"$f":"AJ16/(AL4-AJ20)","v":0},0,null,2112,{"$f":"COUNTIF(L120:L147,AN16)","v":0},{"$f":"AO16/(AQ4-AO20)","v":0},0,null,2112,{"$f":"COUNTIF(L148:L175,AS16)","v":0},{"$f":"AT16/(AV4-AT20)","v":0},0]
[21,1446,12,1457,13,1461,14,1467,null,null,0,2111,null,2121,0,0,0,null,null,2121,{"$f":"COUNTIF(L7:L34,T17)","v":0},{"$f":"U17/(W4-U20)","v":0},0,null,2121,{"$f":"COUNTIF(L35:L62,Y17)","v":0},{"$f":"Z17/(AB4-Z20)","v":0},0,null,2121,{"$f":"COUNTIF(L63:L91,AD17)","v":0},{"$f":"AE17/(AG4-AE20)","v":0},0,null,2121,{"$f":"COUNTIF(L92:L119,AI17)","v":0},{"$f":"AJ17/(AL4-AJ20)","v":0},0,null,2121,{"$f":"COUNTIF(L120:L147,AN17)","v":0},{"$f":"AO17/(AQ4-AO20)","v":0},0,null,2121,{"$f":"COUNTIF(L148:L175,AS17)","v":0},{"$f":"AT17/(AV4-AT20)","v":0},0]
[12,1561,23,1570,24,1574,23,1585,null,null,0,1222,null,2122,1,5.9171597633136093E-3,-4.3792186013504049E-2,null,null,2122,{"$f":"COUNTIF(L7:L34,T18)","v":0},{"$f":"U18/(W4-U20)","v":0},0,null,2122,{"$f":"COUNTIF(L35:L62,Y18)","v":0},{"$f":"Z18/(AB4-Z20)","v":0},0,null,2122,{"$f":"COUNTIF(L63:L91,AD18)","v":1},{"$f":"AE18/(AG4-AE20)","v":3.4482758620689655E-2},-0.16751658603888178,null,2122,{"$f":"COUNTIF(L92:L119,AI18)","v":0},{"$f":"AJ18/(AL4-AJ20)","v":0},0,null,2122,{"$f":"COUNTIF(L120:L147,AN18)","v":0},{"$f":"AO18/(AQ4-AO20)","v":0},0,null,2122,{"$f":"COUNTIF(L148:L175,AS18)","v":0},{"$f":"AT18/(AV4-AT20)","v":0},0]
[21,1837,12,1846,13,1855,14,1861,null,null,0,2111,null,2211,2,1.1834319526627219E-2,-7.5750052500380874E-2,null,null,2211,{"$f":"COUNTIF(L7:L34,T19)","v":0},{"$f":"U19/(W4-U20)","v":0},0,null,2211,{"$f":"COUNTIF(L35:L62,Y19)","v":0},{"$f":"Z19/(AB4-Z20)","v":0},0,null,2211,{"$f":"COUNTIF(L63:L91,AD19)","v":0},{"$f":"AE19/(AG4-AE20)","v":0},0,null,2211,{"$f":"COUNTIF(L92:L119,AI19)","v":1},{"$f":"AJ19/(AL4-AJ20)","v":3.5714285714285712E-2},-0.17169124721634299,null,2211,{"$f":"COUNTIF(L120:L147,AN19)","v":1},{"$f":"AO19/(AQ4-AO20)","v":3.5714285714285712E-2},-0.17169124721634299,null,2211,{"$f":"COUNTIF(L148:L175,AS19)","v":0},{"$f":"AT19/(AV4-AT20)","v":0},0]
[12,1964,23,1976,24,1983,23,1989,null,null,0,1222,null,2212,0,0,0,null,null,2212,{"$f":"COUNTIF(L7:L34,T20)","v":0},null,null,null,2212,{"$f":"COUNTIF(L35:L62,Y20)","v":0},null,null,null,2212,{"$f":"COUNTIF(L63:L91,AD20)","v":0},null,null,null,2212,{"$f":"COUNTIF(L92:L119,AI20)","v":0},null,null,null,2212,{"$f":"COUNTIF(L120:L147,AN20)","v":0},null,null,null,2212,{"$f":"COUNTIF(L148:L175,AS20)","v":0}]
[21,2087,21,2101,22,2106,23,2113,null,null,0,2222,null,2221,0,0,0,null,null,2221,{"$f":"COUNTIF(L7:L34,T21)","v":0},{"$f":"U21/(W4-U20)","v":0},{"$f":"IF(V21=0,0,(V21*((LOG(V21))/LOG(2))))","v":0},null,2221,{"$f":"COUNTIF(L35:L62,Y21)","v":0},{"$f":"Z21/(AB4-Z20)","v":0},{"$f":"IF(AA21=0,0,(AA21*((LOG(AA21))/LOG(2))))","v":0},null,2221,{"$f":"COUNTIF(L63:L91,AD21)","v":0},{"$f":"AE21/(AG4-AE20)","v":0},{"$f":"IF(AF21=0,0,(AF21*((LOG(AF21))/LOG(2))))","v":0},null,2221,{"$f":"COUNTIF(L92:L119,AI21)","v":0},{"$f":"AJ21/(AL4-AJ20)","v":0},{"$f":"IF(AK21=0,0,(AK21*((LOG(AK21))/LOG(2))))","v":0},null,2221,{"$f":"COUNTIF(L120:L147,AN21)","v":0},{"$f":"AO21/(AQ4-AO20)","v":0},{"$f":"IF(AP21=0,0,(AP21*((LOG(AP21))/LOG(2))))","v":0},null,2221,{"$f":"COUNTIF(L148:L175,AS21)","v":0},{"$f":"AT21/(AV4-AT20)","v":0},{"$f":"IF(AU21=0,0,(AU21*((LOG(AU21))/LOG(2))))","v":0}]
[12,2214,14,2219,13,2225,14,2237,null,null,0,1111,null,2222,76,0.44970414201183434,-0.51848725524102668,null,null,2222,{"$f":"COUNTIF(L7:L34,T22)","v":9},{"$f":"U22/(W4-U20)","v":0.32142857142857145},{"$f":"IF(V22=0,0,(V22*((LOG(V22))/LOG(2))))","v":-0.5263167601977724},null,2222,{"$f":"COUNTIF(L35:L62,Y22)","v":15},{"$f":"Z22/(AB4-Z20)","v":0.5357142857142857},{"$f":"IF(AA22=0,0,(AA22*((LOG(AA22))/LOG(2))))","v":-0.48239160345486726},null,2222,{"$f":"COUNTIF(L63:L91,AD22)","v":15},{"$f":"AE22/(AG4-AE20)","v":0.51724137931034486},{"$f":"IF(AF22=0,0,(AF22*((LOG(AF22))/LOG(2))))","v":-0.49194331009606224},null,2222,{"$f":"COUNTIF(L92:L119,AI22)","v":12},{"$f":"AJ22/(AL4-AJ20)","v":0.42857142857142855},{"$f":"IF(AK22=0,0,(AK22*((LOG(AK22))/LOG(2))))","v":-0.52388246628704915},null,2222,{"$f":"COUNTIF(L120:L147,AN22)","v":13},{"$f":"AO22/(AQ4-AO20)","v":0.4642857142857143},{"$f":"IF(AP22=0,0,(AP22*((LOG(AP22))/LOG(2))))","v":-0.51392491610409474},null,2222,{"$f":"COUNTIF(L148:L175,AS22)","v":12},{"$f":"AT22/(AV4-AT20)","v":0.42857142857142855},{"$f":"IF(AU22=0,0,(AU22*((LOG(AU22))/LOG(2))))","v":-0.52388246628704915}]
[12,2389,14,2394,13,2399,14,2424,null,null,0,1111,null,null,null,{"$f":"SUM(P7:P22)","v":1},{"$f":"-SUM(Q7:Q22)","v":1.8425197108810827},null,null,null,null,{"$f":"SUM(V7:V22)","v":1},{"$f":"-SUM(W7:W22)","v":1.9017032636186308},null,null,null,{"$f":"SUM(AA7:AA22)","v":1},{"$f":"-SUM(AB7:AB22)","v":1.615988977904345},null,null,null,{"$f":"SUM(AF7:AF22)","v":1},{"$f":"-SUM(AG7:AG22)","v":1.6894440486009494},null,null,null,{"$f":"SUM(AK7:AK22)","v":1},{"$f":"-SUM(AL7:AL22)","v":1.984656263498412},null,null,null,{"$f":"SUM(AP7:AP22)","v":1},{"$f":"-SUM(AQ7:AQ22)","v":1.6171764476037533},null,null,null,{"$f":"SUM(AU7:AU22)","v":1},{"$f":"-SUM(AV7:AV22)","v":1.6706340179209036}]
[12,2597,14,2610,13,2617,14,2623,null,null,0,1111,null,null,null,"U=",{"$f":"Q23/(LOG(Q4)/LOG(2))","v":0.24895956308223127},null,null,null,null,"U1=",{"$f":"W23/(LOG(W4)/LOG(2))","v":0.39558203928173452},null,null,null,"U2=",{"$f":"AB23/(LOG(AB4)/LOG(2))","v":0.3361492970884461},null,null,null,"U3=",{"$f":"AG23/(LOG(AG4)/LOG(2))","v":0.34776670602363774},null,null,null,"U4=",{"$f":"AL23/(LOG(AL4)/LOG(2))","v":0.41283747417778671},null,null,null,"U5=",{"$f":"AQ23/(LOG(AQ4)/LOG(2))","v":0.33639630812022153},null,null,null,"U6=",{"$f":"AV23/(LOG(AV4)/LOG(2))","v":0.34751626310250727}]
[12,2829,14,2835,13,2841,14,2848,null,null,0,1111]
[12,3000,14,3008,13,3014,14,3018,null,null,0,1111]
[12,3118,23,3126,24,3137,23,3141,null,null,0,1222,null,"Total Target Seq"]
[12,3252,14,3258,13,3265,14,3277,null,null,0,1111,null,{"$f":"COUNTIF(L7:L175,G3)","v":0},null,28,28,29,28,28,28]
[21,3379,21,3390,22,3394,23,3399,null,null,0,2222,null,null,null,"% of reinforcement given in 6 equal intervals based on number of trials "]
[12,3561,14,3564,13,3573,14,3579,null,null,0,1111,null,null,null,"%_1","%_2","%_3","%_4","%_5","%_6"]
[21,3682,21,3690,22,3697,23,3702,null,null,0,2222,null,null,"target sequence",{"$f":"$G$3","v":2212},2212,2212,2212,2212,2212]
[12,3800,14,3806,13,3812,14,3817,null,null,0,1111,null,null,"total reinforcement",{"$f":"U20","v":0},{"$f":"Z20","v":0},{"$f":"AE20","v":0},{"$f":"AJ20","v":0},{"$f":"AO20","v":0},{"$f":"AT20","v":0}]
[21,3918,21,3933,22,3939,23,3951,null,null,0,2222,null,null,"% target"]
[12,4122,14,4124,13,4137,14,4144,null,null,0,1111,null,null,"CCRF"]
[21,4254,21,4258,22,4264,23,4269,null,null,0,2222,null,null,"% CCRf"]
[12,4403,14,4410,13,4416,14,4421,null,null,0,1111,null,null,"average response rate",{"$f":"H34/P28","v":148},{"$f":"(H62-H34)/Q28","v":134.07142857142858},{"$f":"(H91-H62)/R28","v":140.55172413793105},{"$f":"(H119-H91)/S28","v":146.71428571428572},{"$f":"(H147-H119)/T28","v":133.67857142857142},{"$f":"(H175-H147)/U28","v":148.39285714285714}]
[21,4539,21,4544,22,4556,23,4562,null,null,0,2222]
[12,4657,23,4666,24,4677,23,4683,null,null,0,1222]
[12,4775,14,4794,13,4799,14,4809,null,null,0,1111]
[21,4925,21,4929,22,4935,23,4941,null,null,0,2222]
[21,5050,21,5054,22,5059,23,5066,null,null,0,2222]
[21,5235,12,5244,13,5248,14,5253,null,null,0,2111]
[21,5360,12,5370,13,5374,14,5381,null,null,0,2111]
[21,5484,21,5492,22,5497,23,5503,null,null,0,2222]
[12,5664,14,5668,13,5673,14,5677,null,null,0,1111]
[21,5786,12,5799,13,5803,14,5808,null,null,0,2111]
[21,5906,21,5912,22,5917,23,5923,null,null,0,2222]
[12,6042,14,6047,13,6053,14,6060,null,null,0,1111]
[21,6162,21,6165,22,6168,23,6179,null,null,0,2222]
[12,6284,14,6287,13,6303,14,6309,null,null,0,1111]
[12,6403,23,6421,24,6426,23,6430,null,null,0,1222]
[12,6527,14,6533,13,6545,14,6550,null,null,0,1111]
[12,6650,14,6654,13,6659,14,6668,null,null,0,1111]
[21,6777,21,6782,22,6787,23,6792,null,null,0,2222]
[21,6887,21,6898,22,6900,23,6906,null,null,0,2222]
[12,7087,14,7090,13,7096,14,7101,null,null,0,1111]
[21,7205,21,7211,22,7226,23,7238,null,null,0,2222]
[21,7342,21,7353,22,7359,23,7365,null,null,0,2222]
[21,7478,21,7483,22,7489,23,7495,null,null,0,2222]
[21,7608,21,7612,22,7618,23,7623,null,null,0,2222]
[21,7722,21,7738,22,7748,23,7754,null,null,0,2222]
[21,7877,21,7885,22,7892,23,7898,null,null,0,2222]
[12,8046,14,8051,13,8057,14,8062,null,null,0,1111]
[21,8178,21,8186,22,8193,23,8200,null,null,0,2222]
[12,8298,14,8307,13,8319,14,8325,null,null,0,1111]
[12,8426,14,8429,13,8435,14,8448,null,null,0,1111]
[12,8544,23,8568,24,8572,23,8578,null,null,0,1222]
[21,8686,21,8700,22,8707,23,8713,null,null,0,2222]
[21,8821,21,8827,22,8830,23,8833,null,null,0,2222]
[21,8938,21,8962,22,8968,23,8975,null,null,0,2222]
[12,9156,14,9162,13,9167,14,9173,null,null,0,1111]
[21,9269,21,9288,22,9295,23,9302,null,null,0,2222]
[12,9399,23,9408,24,9414,23,9419,null,null,0,1222]
[21,9525,21,9541,22,9553,23,9559,null,null,0,2222]
[21,9670,21,9676,22,9682,23,9688,null,null,0,2222]
[12,9840,14,9845,13,9851,14,9860,null,null,0,1111]
[21,9966,21,9972,22,9979,23,9990,null,null,0,2222]
[21,10091,21,10110,22,10116,23,10121,null,null,0,2222]
[12,10239,14,10248,13,10254,14,10261,null,null,0,1111]
[21,10358,12,10366,24,10382,23,10388,null,null,0,2122]
[12,10505,23,10522,24,10527,23,10533,null,null,0,1222]
[21,10649,21,10655,22,10661,23,10667,null,null,0,2222]
[12,10882,14,10887,13,10893,14,10905,null,null,0,1111]
[12,11018,14,11025,13,11032,14,11037,null,null,0,1111]
[12,11171,14,11175,13,11180,14,11186,null,null,0,1111]
[21,11322,21,11328,22,11334,23,11340,null,null,0,2222]
[21,11437,21,11452,22,11463,23,11475,null,null,0,2222]
[21,11571,21,11585,22,11596,23,11602,null,null,0,2222]
[21,11700,12,11712,13,11718,14,11722,null,null,0,2111]
[21,11827,21,11832,22,11838,23,11844,null,null,0,2222]
[21,11957,21,11962,22,11968,23,11974,null,null,0,2222]
[21,12080,21,12086,22,12091,23,12098,null,null,0,2222]
[21,12203,12,12213,13,12217,14,12222,null,null,0,2111]
[21,12336,12,12349,13,12354,14,12359,null,null,0,2111]
[21,12483,21,12493,22,12500,23,12506,null,null,0,2222]
[12,12644,14,12649,13,12661,14,12664,null,null,0,1111]
[21,12780,12,12792,13,12798,14,12803,null,null,0,2111]
[21,12908,21,12922,22,12932,23,12939,null,null,0,2222]
[21,13046,21,13054,22,13060,23,13067,null,null,0,2222]
[21,13175,21,13184,22,13189,23,13195,null,null,0,2222]
[12,13302,14,13309,13,13316,14,13321,null,null,0,1111]
[21,13425,21,13436,22,13442,23,13453,null,null,0,2222]
[12,13552,23,13563,24,13570,23,13577,null,null,0,1222]
[21,13688,21,13698,22,13709,23,13716,null,null,0,2222]
[21,13830,21,13839,22,13845,23,13850,null,null,0,2222]
[21,13944,21,13954,22,13960,23,13967,null,null,0,2222]
[12,14224,23,14238,24,14242,23,14248,null,null,0,1222]
[12,14417,14,14421,13,14428,14,14433,null,null,0,1111]
[21,14529,21,14544,11,14558,12,14563,null,null,0,2211]
[12,14699,14,14703,13,14714,14,14731,null,null,0,1111]
[12,14939,14,14946,13,14951,14,14957,null,null,0,1111]
[21,15067,21,15072,22,15078,23,15083,null,null,0,2222]
[12,15202,14,15211,13,15217,14,15222,null,null,0,1111]
[21,15385,12,15396,13,15402,14,15407,null,null,0,2111]
[21,15523,21,15533,22,15537,23,15544,null,null,0,2222]
[12,15704,14,15707,13,15714,14,15719,null,null,0,1111]
[21,15816,12,15831,13,15836,14,15842,null,null,0,2111]
[21,15945,21,15952,22,15959,23,15966,null,null,0,2222]
[12,16062,23,16071,24,16077,23,16082,null,null,0,1222]
[21,16194,21,16199,22,16210,23,16220,null,null,0,2222]
[12,16388,14,16396,13,16403,14,16409,null,null,0,1111]
[12,16510,23,16517,24,16523,23,16529,null,null,0,1222]
[21,16623,21,16637,22,16649,23,16655,null,null,0,2222]
[21,16755,21,16764,22,16769,23,16774,null,null,0,2222]
[21,16901,21,16907,22,16912,23,16919,null,null,0,2222]
[12,17092,14,17098,13,17114,14,17126,null,null,0,1111]
[21,17230,21,17234,22,17240,23,17246,null,null,0,2222]
[12,17406,14,17412,13,17417,14,17423,null,null,0,1111]
[12,17521,14,17526,13,17537,14,17543,null,null,0,1111]
[21,17642,21,17651,22,17667,23,17673,null,null,0,2222]
[21,17780,21,17789,22,17797,23,17802,null,null,0,2222]
[21,17911,21,17917,22,17923,23,17930,null,null,0,2222]
[12,18026,14,18031,13,18036,14,18042,null,null,0,1111]
[12,18141,23,18150,24,18155,23,18161,null,null,0,1222]
[12,18264,23,18270,24,18277,23,18285,null,null,0,1222]
[12,18380,14,18386,13,18391,14,18396,null,null,0,1111]
[12,18496,14,18502,13,18506,14,18512,null,null,0,1111]
[12,18619,14,18624,13,18636,14,18642,null,null,0,1111]
[21,18756,21,18760,22,18766,23,18772,null,null,0,2222]
[21,18897,21,18903,22,18908,23,18920,null,null,0,2222]
[12,19015,14,19024,13,19029,14,19035,null,null,0,1111]
[21,19139,21,19162,22,19167,23,19173,null,null,0,2222]
[21,19281,21,19295,22,19302,23,19307,null,null,0,2222]
[21,19420,21,19427,22,19434,23,19441,null,null,0,2222]
[12,19540,23,19551,24,19560,23,19566,null,null,0,1222]
[21,19673,21,19677,11,19689,12,19693,null,null,0,2211]
[12,19804,14,19809,13,19815,14,19825,null,null,0,1111]
[12,19994,14,20001,13,20006,14,20011,null,null,0,1111]
[21,20117,21,20130,22,20136,23,20144,null,null,0,2222]
[21,20243,21,20254,22,20269,23,20276,null,null,0,2222]
[21,20374,12,20386,13,20390,14,20397,null,null,0,2111]
[21,20497,21,20505,22,20511,23,20518,null,null,0,2222]
[12,20726,14,20733,13,20738,14,20744,null,null,0,1111]
[12,20949,14,20954,13,20966,14,20971,null,null,0,1111]
[21,21090,21,21097,22,21103,23,21109,null,null,0,2222]
[12,21206,23,21212,24,21220,23,21225,null,null,0,1222]
[12,21344,14,21349,13,21357,14,21362,null,null,0,1111]
[12,21459,14,21468,13,21474,14,21480,null,null,0,1111]
[12,21677,14,21682,13,21687,14,21692,null,null,0,1111]
[21,21814,21,21818,22,21824,23,21831,null,null,0,2222]
[12,21942,23,21959,24,21966,23,21971,null,null,0,1222]
[21,22080,21,22086,22,22092,23,22104,null,null,0,2222]
[21,22218,12,22230,13,22235,14,22241,null,null,0,2111]
[12,22345,14,22349,13,22354,14,22359,null,null,0,1111]
[21,22470,21,22479,22,22484,23,22490,null,null,0,2222]
[12,22661,14,22671,13,22677,14,22691,null,null,0,1111]
[12,22904,14,22909,13,22913,14,22919,null,null,0,1111]
[21,23029,21,23034,22,23040,23,23046,null,null,0,2222]
[12,23154,14,23160,13,23166,14,23173,null,null,0,1111]
[21,23293,21,23299,22,23306,23,23312,null,null,0,2222]
[12,23472,14,23478,13,23487,14,23493,null,null,0,1111]
[21,23600,21,23606,22,23612,23,23618,null,null,0,2222]
[21,23733,21,23738,22,23743,23,23749,null,null,0,2222]
[21,23841,12,23852,13,23857,14,23863,null,null,0,2111]
[21,23962,21,23971,22,23975,23,23980,null,null,null,2222]

{"sheet":"!LB21B05..Du","index":21,"n_rows":165,"n_cols":48,"rows_kept":165,"cut":false,"hidden":false,"merged":[[1,1,1,2],[5,13,5,14],[26,13,26,14],[27,13,27,14],[4,19,4,22],[5,19,5,20],[4,39,4,42],[5,39,5,40],[4,44,4,47],[5,44,5,45],[4,24,4,27],[5,24,5,25],[4,29,4,32],[5,29,5,30],[4,34,4,37],[5,34,5,35]]}
["Report for:!LB21B05..Du"]
["Date:","<date>"]
["Hen:","<hen>",null,null,null,"Correct Sequence",{"$f":"Start!J2","v":2212},null,null,null,null,null,null,null,null,"Total Sequences in Data",{"$f":"4994-COUNTBLANK(L7:L5000)","v":159},null,null,null,null,"Total Sequences in Block Data",{"$f":"COUNTA(L7:L33)","v":27},null,null,null,"Total Sequences in Block Data",{"$f":"COUNTA(L34:L59)","v":26},null,null,null,"Total Sequences in Block Data",{"$f":"COUNTA(L60:L86)","v":27},null,null,null,"Total Sequences in Block Data",{"$f":"COUNTA(L87:L112)","v":26},null,null,null,"Total Sequences in Block Data",{"$f":"COUNTA(L113:L139)","v":27},null,null,null,"Total Sequences in Block Data",{"$f":"COUNTA(L140:L165)","v":26}]
[null,null,null,null,null,null,null,null,null,null,null,null,null,null,null,"Total Sequences in Summary",{"$f":"SUM(O7:O22)","v":159},null,null,null,null,"Total Sequences in Block Summary",{"$f":"SUM(U7:U22)","v":27},null,null,null,"Total Sequences in Block Summary",{"$f":"SUM(Z7:Z22)","v":26},null,null,null,"Total Sequences in Block Summary",{"$f":"SUM(AE7:AE22)","v":27},null,null,null,"Total Sequences in Block Summary",{"$f":"SUM(AJ7:AJ22)","v":26},null,null,null,"Total Sequences in Block Summary",{"$f":"SUM(AO7:AO22)","v":27},null,null,null,"Total Sequences in Block Summary",{"$f":"SUM(AT7:AT22)","v":26}]
[null,null,null,null,null,null,null,null,null,null,null,null,null,null,null,null,null,null,null,"Block 1",null,null,null,null,"Block 2",null,null,null,null,"Block 3",null,null,null,null,"Block 4",null,null,null,null,"Block 5",null,null,null,null,"Block 6"]
["Sequence\nComponent\n1","Time\n1","Sequence\nComponent\n2","Time\n2","Sequence\nComponent\n3","Time\n3","Sequence\nComponent\n4","Time\n4","Sequence\nComponent\n5","Time\n5","Correct?\n0=No 1=Yes","Sequence",null,"Frequency",null,"Relative Frequency","Variability",null,null,"Frequency",null,"Relative Frequency","Variability",null,"Frequency",null,"Relative Frequency","Variability",null,"Frequency",null,"Relative Frequency","Variability",null,"Frequency",null,"Relative Frequency","Variability",null,"Frequency",null,"Relative Frequency","Variability",null,"Frequency",null,"Relative Frequency","Variability"]
[21,12,21,25,22,31,23,36,null,null,0,2222,null,1111,{"$f":"COUNTIF($L$7:$L$500,N7)","v":96},{"$f":"O7/$Q$4","v":0.60377358490566035},{"$f":"IF(P7=0,0,(P7*((LOG(P7))/LOG(2))))","v":-0.43949914237778065},null,null,{"$f":"N7","v":1111},{"$f":"COUNTIF(L7:L33,T7)","v":15},{"$f":"U7/(W4-U20)","v":0.55555555555555558},{"$f":"IF(V7=0,0,(V7*((LOG(V7))/LOG(2))))","v":-0.4711093925305278},null,{"$f":"N7","v":1111},{"$f":"COUNTIF(L34:L59,Y7)","v":13},{"$f":"Z7/(AB4-Z20)","v":0.5},{"$f":"IF(AA7=0,0,(AA7*((LOG(AA7))/LOG(2))))","v":-0.5},null,{"$f":"N7","v":1111},{"$f":"COUNTIF(L60:L86,AD7)","v":17},{"$f":"AE7/(AG4-AE20)","v":0.62962962962962965},{"$f":"IF(AF7=0,0,(AF7*((LOG(AF7))/LOG(2))))","v":-0.42023034205641457},null,{"$f":"N7","v":1111},{"$f":"COUNTIF(L87:L112,AI7)","v":20},{"$f":"AJ7/(AL4-AJ20)","v":0.76923076923076927},{"$f":"IF(AK7=0,0,(AK7*((LOG(AK7))/LOG(2))))","v":-0.29116278711825366},null,{"$f":"N7","v":1111},{"$f":"COUNTIF(L113:L139,AN7)","v":17},{"$f":"AO7/(AQ4-AO20)","v":0.62962962962962965},{"$f":"IF(AP7=0,0,(AP7*((LOG(AP7))/LOG(2))))","v":-0.42023034205641457},null,{"$f":"N7","v":1111},{"$f":"COUNTIF(L140:L165,AS7)","v":14},{"$f":"AT7/(AV4-AT20)","v":0.53846153846153844},{"$f":"IF(AU7=0,0,(AU7*((LOG(AU7))/LOG(2))))","v":-0.48089181327572433}]
[21,146,21,151,22,158,23,164,null,null,0,2222,null,1112,0,0,0,null,null,1112,{"$f":"COUNTIF(L7:L33,T8)","v":0},{"$f":"U8/(W4-U20)","v":0},0,null,1112,{"$f":"COUNTIF(L34:L59,Y8)","v":0},{"$f":"Z8/(AB4-Z20)","v":0},0,null,1112,{"$f":"COUNTIF(L60:L86,AD8)","v":0},{"$f":"AE8/(AG4-AE20)","v":0},0,null,1112,{"$f":"COUNTIF(L87:L112,AI8)","v":0},{"$f":"AJ8/(AL4-AJ20)","v":0},0,null,1112,{"$f":"COUNTIF(L113:L139,AN8)","v":0},{"$f":"AO8/(AQ4-AO20)","v":0},0,null,1112,{"$f":"COUNTIF(L140:L165,AS8)","v":0},{"$f":"AT8/(AV4-AT20)","v":0},0]
[12,263,14,276,13,282,14,287,null,null,0,1111,null,1121,0,0,0,null,null,1121,{"$f":"COUNTIF(L7:L33,T9)","v":0},{"$f":"U9/(W4-U20)","v":0},0,null,1121,{"$f":"COUNTIF(L34:L59,Y9)","v":0},{"$f":"Z9/(AB4-Z20)","v":0},0,null,1121,{"$f":"COUNTIF(L60:L86,AD9)","v":0},{"$f":"AE9/(AG4-AE20)","v":0},0,null,1121,{"$f":"COUNTIF(L87:L112,AI9)","v":0},{"$f":"AJ9/(AL4-AJ20)","v":0},0,null,1121,{"$f":"COUNTIF(L113:L139,AN9)","v":0},{"$f":"AO9/(AQ4-AO20)","v":0},0,null,1121,{"$f":"COUNTIF(L140:L165,AS9)","v":0},{"$f":"AT9/(AV4-AT20)","v":0},0]
[12,2425,14,2431,13,2434,14,2441,null,null,0,1111,null,1122,0,0,0,null,null,1122,{"$f":"COUNTIF(L7:L33,T10)","v":0},{"$f":"U10/(W4-U20)","v":0},0,null,1122,{"$f":"COUNTIF(L34:L59,Y10)","v":0},{"$f":"Z10/(AB4-Z20)","v":0},0,null,1122,{"$f":"COUNTIF(L60:L86,AD10)","v":0},{"$f":"AE10/(AG4-AE20)","v":0},0,null,1122,{"$f":"COUNTIF(L87:L112,AI10)","v":0},{"$f":"AJ10/(AL4-AJ20)","v":0},0,null,1122,{"$f":"COUNTIF(L113:L139,AN10)","v":0},{"$f":"AO10/(AQ4-AO20)","v":0},0,null,1122,{"$f":"COUNTIF(L140:L165,AS10)","v":0},{"$f":"AT10/(AV4-AT20)","v":0},0]
[12,2604,14,2609,13,2613,14,2624,null,null,0,1111,null,1211,3,1.8867924528301886E-2,-0.10807397084081509,null,null,1211,{"$f":"COUNTIF(L7:L33,T11)","v":0},{"$f":"U11/(W4-U20)","v":0},0,null,1211,{"$f":"COUNTIF(L34:L59,Y11)","v":0},{"$f":"Z11/(AB4-Z20)","v":0},0,null,1211,{"$f":"COUNTIF(L60:L86,AD11)","v":1},{"$f":"AE11/(AG4-AE20)","v":3.7037037037037035E-2},-0.1761069445245729,null,1211,{"$f":"COUNTIF(L87:L112,AI11)","v":0},{"$f":"AJ11/(AL4-AJ20)","v":0},0,null,1211,{"$f":"COUNTIF(L113:L139,AN11)","v":0},{"$f":"AO11/(AQ4-AO20)","v":0},0,null,1211,{"$f":"COUNTIF(L140:L165,AS11)","v":2},{"$f":"AT11/(AV4-AT20)","v":7.6923076923076927E-2},-0.28464920908777636]
[21,2734,21,2738,22,2744,23,2749,null,null,0,2222,null,1212,0,0,0,null,null,1212,{"$f":"COUNTIF(L7:L33,T12)","v":0},{"$f":"U12/(W4-U20)","v":0},0,null,1212,{"$f":"COUNTIF(L34:L59,Y12)","v":0},{"$f":"Z12/(AB4-Z20)","v":0},0,null,1212,{"$f":"COUNTIF(L60:L86,AD12)","v":0},{"$f":"AE12/(AG4-AE20)","v":0},0,null,1212,{"$f":"COUNTIF(L87:L112,AI12)","v":0},{"$f":"AJ12/(AL4-AJ20)","v":0},0,null,1212,{"$f":"COUNTIF(L113:L139,AN12)","v":0},{"$f":"AO12/(AQ4-AO20)","v":0},0,null,1212,{"$f":"COUNTIF(L140:L165,AS12)","v":0},{"$f":"AT12/(AV4-AT20)","v":0},0]
[21,2849,21,2855,22,2860,23,2866,null,null,0,2222,null,1221,1,6.2893081761006293E-3,-4.5992974561536823E-2,null,null,1221,{"$f":"COUNTIF(L7:L33,T13)","v":0},{"$f":"U13/(W4-U20)","v":0},0,null,1221,{"$f":"COUNTIF(L34:L59,Y13)","v":0},{"$f":"Z13/(AB4-Z20)","v":0},0,null,1221,{"$f":"COUNTIF(L60:L86,AD13)","v":0},{"$f":"AE13/(AG4-AE20)","v":0},0,null,1221,{"$f":"COUNTIF(L87:L112,AI13)","v":1},{"$f":"AJ13/(AL4-AJ20)","v":3.8461538461538464E-2},-0.18078614300542661,null,1221,{"$f":"COUNTIF(L113:L139,AN13)","v":0},{"$f":"AO13/(AQ4-AO20)","v":0},0,null,1221,{"$f":"COUNTIF(L140:L165,AS13)","v":0},{"$f":"AT13/(AV4-AT20)","v":0},0]
[21,2977,21,2982,22,2989,23,2994,null,null,0,2222,null,1222,5,3.1446540880503145E-2,-0.15694826605021989,null,null,1222,{"$f":"COUNTIF(L7:L33,T14)","v":0},{"$f":"U14/(W4-U20)","v":0},0,null,1222,{"$f":"COUNTIF(L34:L59,Y14)","v":0},{"$f":"Z14/(AB4-Z20)","v":0},0,null,1222,{"$f":"COUNTIF(L60:L86,AD14)","v":1},{"$f":"AE14/(AG4-AE20)","v":3.7037037037037035E-2},-0.1761069445245729,null,1222,{"$f":"COUNTIF(L87:L112,AI14)","v":1},{"$f":"AJ14/(AL4-AJ20)","v":3.8461538461538464E-2},-0.18078614300542661,null,1222,{"$f":"COUNTIF(L113:L139,AN14)","v":0},{"$f":"AO14/(AQ4-AO20)","v":0},0,null,1222,{"$f":"COUNTIF(L140:L165,AS14)","v":3},{"$f":"AT14/(AV4-AT20)","v":0.11538461538461539},-0.35947814047153104]
[12,3087,14,3091,13,3099,14,3104,null,null,0,1111,null,2111,23,0.14465408805031446,-0.40348668542282307,null,null,2111,{"$f":"COUNTIF(L7:L33,T15)","v":1},{"$f":"U15/(W4-U20)","v":3.7037037037037035E-2},-0.1761069445245729,null,2111,{"$f":"COUNTIF(L34:L59,Y15)","v":3},{"$f":"Z15/(AB4-Z20)","v":0.11538461538461539},-0.35947814047153104,null,2111,{"$f":"COUNTIF(L60:L86,AD15)","v":5},{"$f":"AE15/(AG4-AE20)","v":0.18518518518518517},-0.45054803838446406,null,2111,{"$f":"COUNTIF(L87:L112,AI15)","v":3},{"$f":"AJ15/(AL4-AJ20)","v":0.11538461538461539},-0.35947814047153104,null,2111,{"$f":"COUNTIF(L113:L139,AN15)","v":7},{"$f":"AO15/(AQ4-AO20)","v":0.25925925925925924},-0.5049158541015204,null,2111,{"$f":"COUNTIF(L140:L165,AS15)","v":4},{"$f":"AT15/(AV4-AT20)","v":0.15384615384615385},-0.4154522643293988]
[12,3199,14,3202,13,3208,14,3213,null,null,0,1111,null,2112,0,0,0,null,null,2112,{"$f":"COUNTIF(L7:L33,T16)","v":0},{"$f":"U16/(W4-U20)","v":0},0,null,2112,{"$f":"COUNTIF(L34:L59,Y16)","v":0},{"$f":"Z16/(AB4-Z20)","v":0},0,null,2112,{"$f":"COUNTIF(L60:L86,AD16)","v":0},{"$f":"AE16/(AG4-AE20)","v":0},0,null,2112,{"$f":"COUNTIF(L87:L112,AI16)","v":0},{"$f":"AJ16/(AL4-AJ20)","v":0},0,null,2112,{"$f":"COUNTIF(L113:L139,AN16)","v":0},{"$f":"AO16/(AQ4-AO20)","v":0},0,null,2112,{"$f":"COUNTIF(L140:L165,AS16)","v":0},{"$f":"AT16/(AV4-AT20)","v":0},0]
[12,3340,14,3344,13,3346,14,3349,null,null,0,1111,null,2121,0,0,0,null,null,2121,{"$f":"COUNTIF(L7:L33,T17)","v":0},{"$f":"U17/(W4-U20)","v":0},0,null,2121,{"$f":"COUNTIF(L34:L59,Y17)","v":0},{"$f":"Z17/(AB4-Z20)","v":0},0,null,2121,{"$f":"COUNTIF(L60:L86,AD17)","v":0},{"$f":"AE17/(AG4-AE20)","v":0},0,null,2121,{"$f":"COUNTIF(L87:L112,AI17)","v":0},{"$f":"AJ17/(AL4-AJ20)","v":0},0,null,2121,{"$f":"COUNTIF(L113:L139,AN17)","v":0},{"$f":"AO17/(AQ4-AO20)","v":0},0,null,2121,{"$f":"COUNTIF(L140:L165,AS17)","v":0},{"$f":"AT17/(AV4-AT20)","v":0},0]
[21,3460,21,3468,22,3475,23,3481,null,null,0,2222,null,2122,4,2.5157232704402517E-2,-0.13365743283734227,null,null,2122,{"$f":"COUNTIF(L7:L33,T18)","v":1},{"$f":"U18/(W4-U20)","v":3.7037037037037035E-2},-0.1761069445245729,null,2122,{"$f":"COUNTIF(L34:L59,Y18)","v":1},{"$f":"Z18/(AB4-Z20)","v":3.8461538461538464E-2},-0.18078614300542661,null,2122,{"$f":"COUNTIF(L60:L86,AD18)","v":1},{"$f":"AE18/(AG4-AE20)","v":3.7037037037037035E-2},-0.1761069445245729,null,2122,{"$f":"COUNTIF(L87:L112,AI18)","v":0},{"$f":"AJ18/(AL4-AJ20)","v":0},0,null,2122,{"$f":"COUNTIF(L113:L139,AN18)","v":1},{"$f":"AO18/(AQ4-AO20)","v":3.7037037037037035E-2},-0.1761069445245729,null,2122,{"$f":"COUNTIF(L140:L165,AS18)","v":0},{"$f":"AT18/(AV4-AT20)","v":0},0]
[12,3580,14,3585,13,3591,14,3604,null,null,0,1111,null,2211,7,4.40251572327044E-2,-0.19835658007916512,null,null,2211,{"$f":"COUNTIF(L7:L33,T19)","v":2},{"$f":"U19/(W4-U20)","v":7.407407407407407E-2},-0.27813981497507173,null,2211,{"$f":"COUNTIF(L34:L59,Y19)","v":3},{"$f":"Z19/(AB4-Z20)","v":0.11538461538461539},-0.35947814047153104,null,2211,{"$f":"COUNTIF(L60:L86,AD19)","v":0},{"$f":"AE19/(AG4-AE20)","v":0},0,null,2211,{"$f":"COUNTIF(L87:L112,AI19)","v":0},{"$f":"AJ19/(AL4-AJ20)","v":0},0,null,2211,{"$f":"COUNTIF(L113:L139,AN19)","v":0},{"$f":"AO19/(AQ4-AO20)","v":0},0,null,2211,{"$f":"COUNTIF(L140:L165,AS19)","v":2},{"$f":"AT19/(AV4-AT20)","v":7.6923076923076927E-2},-0.28464920908777636]
[12,3724,14,3727,13,3731,14,3736,null,null,0,1111,null,2212,0,0,0,null,null,2212,{"$f":"COUNTIF(L7:L33,T20)","v":0},null,null,null,2212,{"$f":"COUNTIF(L34:L59,Y20)","v":0},null,null,null,2212,{"$f":"COUNTIF(L60:L86,AD20)","v":0},null,null,null,2212,{"$f":"COUNTIF(L87:L112,AI20)","v":0},null,null,null,2212,{"$f":"COUNTIF(L113:L139,AN20)","v":0},null,null,null,2212,{"$f":"COUNTIF(L140:L165,AS20)","v":0}]
[12,3973,14,3977,13,3982,14,3988,null,null,0,1111,null,2221,1,6.2893081761006293E-3,-4.5992974561536823E-2,null,null,2221,{"$f":"COUNTIF(L7:L33,T21)","v":0},{"$f":"U21/(W4-U20)","v":0},{"$f":"IF(V21=0,0,(V21*((LOG(V21))/LOG(2))))","v":0},null,2221,{"$f":"COUNTIF(L34:L59,Y21)","v":1},{"$f":"Z21/(AB4-Z20)","v":3.8461538461538464E-2},{"$f":"IF(AA21=0,0,(AA21*((LOG(AA21))/LOG(2))))","v":-0.18078614300542661},null,2221,{"$f":"COUNTIF(L60:L86,AD21)","v":0},{"$f":"AE21/(AG4-AE20)","v":0},{"$f":"IF(AF21=0,0,(AF21*((LOG(AF21))/LOG(2))))","v":0},null,2221,{"$f":"COUNTIF(L87:L112,AI21)","v":0},{"$f":"AJ21/(AL4-AJ20)","v":0},{"$f":"IF(AK21=0,0,(AK21*((LOG(AK21))/LOG(2))))","v":0},null,2221,{"$f":"COUNTIF(L113:L139,AN21)","v":0},{"$f":"AO21/(AQ4-AO20)","v":0},{"$f":"IF(AP21=0,0,(AP21*((LOG(AP21))/LOG(2))))","v":0},null,2221,{"$f":"COUNTIF(L140:L165,AS21)","v":0},{"$f":"AT21/(AV4-AT20)","v":0},{"$f":"IF(AU21=0,0,(AU21*((LOG(AU21))/LOG(2))))","v":0}]
[12,4231,14,4235,13,4250,14,4257,null,null,0,1111,null,2222,19,0.11949685534591195,-0.36625253707531213,null,null,2222,{"$f":"COUNTIF(L7:L33,T22)","v":8},{"$f":"U22/(W4-U20)","v":0.29629629629629628},{"$f":"IF(V22=0,0,(V22*((LOG(V22))/LOG(2))))","v":-0.51996666730769436},null,2222,{"$f":"COUNTIF(L34:L59,Y22)","v":5},{"$f":"Z22/(AB4-Z20)","v":0.19230769230769232},{"$f":"IF(AA22=0,0,(AA22*((LOG(AA22))/LOG(2))))","v":-0.45740608139494804},null,2222,{"$f":"COUNTIF(L60:L86,AD22)","v":2},{"$f":"AE22/(AG4-AE20)","v":7.407407407407407E-2},{"$f":"IF(AF22=0,0,(AF22*((LOG(AF22))/LOG(2))))","v":-0.27813981497507173},null,2222,{"$f":"COUNTIF(L87:L112,AI22)","v":1},{"$f":"AJ22/(AL4-AJ20)","v":3.8461538461538464E-2},{"$f":"IF(AK22=0,0,(AK22*((LOG(AK22))/LOG(2))))","v":-0.18078614300542661},null,2222,{"$f":"COUNTIF(L113:L139,AN22)","v":2},{"$f":"AO22/(AQ4-AO20)","v":7.407407407407407E-2},{"$f":"IF(AP22=0,0,(AP22*((LOG(AP22))/LOG(2))))","v":-0.27813981497507173},null,2222,{"$f":"COUNTIF(L140:L165,AS22)","v":1},{"$f":"AT22/(AV4-AT20)","v":3.8461538461538464E-2},{"$f":"IF(AU22=0,0,(AU22*((LOG(AU22))/LOG(2))))","v":-0.18078614300542661}]
[21,4366,21,4373,11,4386,12,4392,null,null,0,2211,null,null,null,{"$f":"SUM(P7:P22)","v":0.99999999999999989},{"$f":"-SUM(Q7:Q22)","v":1.8982605638065317},null,null,null,null,{"$f":"SUM(V7:V22)","v":0.99999999999999989},{"$f":"-SUM(W7:W22)","v":1.6214297638624398},null,null,null,{"$f":"SUM(AA7:AA22)","v":1},{"$f":"-SUM(AB7:AB22)","v":2.037934648348863},null,null,null,{"$f":"SUM(AF7:AF22)","v":0.99999999999999989},{"$f":"-SUM(AG7:AG22)","v":1.677239028989669},null,null,null,{"$f":"SUM(AK7:AK22)","v":1},{"$f":"-SUM(AL7:AL22)","v":1.1929993566060646},null,null,null,{"$f":"SUM(AP7:AP22)","v":0.99999999999999989},{"$f":"-SUM(AQ7:AQ22)","v":1.3793929556575797},null,null,null,{"$f":"SUM(AU7:AU22)","v":1.0000000000000002},{"$f":"-SUM(AV7:AV22)","v":2.0059067792576335}]
[21,4496,21,4510,22,4525,23,4531,null,null,0,2222,null,null,null,"U=",{"$f":"Q23/(LOG(Q4)/LOG(2))","v":0.25957759414634574},null,null,null,null,"U1=",{"$f":"W23/(LOG(W4)/LOG(2))","v":0.34100276044905187},null,null,null,"U2=",{"$f":"AB23/(LOG(AB4)/LOG(2))","v":0.43356255383588155},null,null,null,"U3=",{"$f":"AG23/(LOG(AG4)/LOG(2))","v":0.35274000241362752},null,null,null,"U4=",{"$f":"AL23/(LOG(AL4)/LOG(2))","v":0.25380590500964162},null,null,null,"U5=",{"$f":"AQ23/(LOG(AQ4)/LOG(2))","v":0.29010001919708039},null,null,null,"U6=",{"$f":"AV23/(LOG(AV4)/LOG(2))","v":0.42674875108299876}]
[21,4631,12,4638,24,4644,23,4646,null,null,0,2122]
[12,4825,14,4830,13,4835,14,4846,null,null,0,1111]
[21,4962,21,4975,22,4987,23,4992,null,null,0,2222,null,"Total Target Seq"]
[12,5088,14,5093,13,5097,14,5103,null,null,0,1111,null,{"$f":"COUNTIF(L7:L165,G3)","v":0},null,27,26,27,26,27,26]
[21,5205,21,5209,11,5225,12,5229,null,null,0,2211,null,null,null,"% of reinforcement given in 6 equal intervals based on number of trials "]
[21,5324,12,5333,13,5339,14,5344,null,null,0,2111,null,null,null,"%_1","%_2","%_3","%_4","%_5","%_6"]
[12,5526,14,5530,13,5536,14,5542,null,null,0,1111,null,null,"target sequence",{"$f":"$G$3","v":2212},2212,2212,2212,2212,2212]
[12,5637,14,5640,13,5646,14,5652,null,null,0,1111,null,null,"total reinforcement",{"$f":"U20","v":0},{"$f":"Z20","v":0},{"$f":"AE20","v":0},{"$f":"AJ20","v":0},{"$f":"AO20","v":0},{"$f":"AT20","v":0}]
[12,5748,14,5754,13,5760,14,5767,null,null,0,1111,null,null,"% target"]
[21,5867,21,5876,11,5886,12,5889,null,null,0,2211,null,null,"CCRF"]
[21,6006,21,6016,22,6021,23,6028,null,null,0,2222,null,null,"% CCRf"]
[12,6121,14,6126,13,6131,14,6137,null,null,0,1111,null,null,"average response rate",{"$f":"H33/P28","v":213.59259259259258},{"$f":"(H59-H33)/Q28","v":137.76923076923077},{"$f":"(H86-H59)/R28","v":143.7037037037037},{"$f":"(H112-H86)/S28","v":137.92307692307693},{"$f":"(H139-H112)/T28","v":139.5185185185185},{"$f":"(H165-H139)/U28","v":129.65384615384616}]
[12,6342,14,6351,13,6357,14,6364,null,null,0,1111]
[21,6465,12,6482,13,6487,14,6494,null,null,0,2111]
[12,6611,14,6616,13,6627,14,6633,null,null,0,1111]
[12,6781,14,6790,13,6791,14,6803,null,null,0,1111]
[12,6905,14,6910,13,6915,14,6921,null,null,0,1111]
[21,7017,12,7025,13,7036,14,7042,null,null,0,2111]
[12,7142,14,7147,13,7154,14,7166,null,null,0,1111]
[12,7273,14,7285,13,7291,14,7298,null,null,0,1111]
[21,7404,21,7425,22,7430,23,7436,null,null,0,2222]
[21,7543,21,7549,22,7555,23,7561,null,null,0,2222]
[21,7670,21,7675,22,7682,14,7729,null,null,0,2221]
[12,7916,14,7918,13,7924,14,7930,null,null,0,1111]
[12,8055,14,8059,13,8064,14,8070,null,null,0,1111]
[21,8163,12,8176,13,8182,14,8187,null,null,0,2111]
[12,8287,14,8291,13,8297,14,8304,null,null,0,1111]
[12,8399,14,8406,13,8410,14,8416,null,null,0,1111]
[21,8514,21,8516,11,8532,12,8538,null,null,0,2211]
[12,8633,14,8641,13,8647,14,8653,null,null,0,1111]
[12,8814,14,8820,13,8825,14,8831,null,null,0,1111]
[21,8927,12,8938,24,8946,23,8951,null,null,0,2122]
[21,9059,21,9075,22,9083,23,9090,null,null,0,2222]
[21,9200,21,9207,22,9216,23,9222,null,null,0,2222]
[21,9315,21,9330,11,9342,12,9349,null,null,0,2211]
[21,9451,12,9464,13,9469,14,9475,null,null,0,2111]
[12,9579,14,9582,13,9587,14,9593,null,null,0,1111]
[21,9691,12,9704,24,9715,23,9728,null,null,0,2122]
[12,9827,14,9851,13,9856,14,9862,null,null,0,1111]
[12,10071,14,10076,13,10082,14,10087,null,null,0,1111]
[12,10289,14,10298,13,10304,14,10311,null,null,0,1111]
[12,10449,14,10458,13,10464,14,10470,null,null,0,1111]
[21,10568,12,10580,13,10585,14,10596,null,null,0,2111]
[12,10703,14,10712,13,10717,14,10723,null,null,0,1111]
[12,10917,14,10922,13,10926,14,10936,null,null,0,1111]
[12,11044,14,11051,13,11057,14,11063,null,null,0,1111]
[21,11173,21,11178,22,11181,23,11188,null,null,0,2222]
[21,11293,12,11304,13,11310,14,11315,null,null,0,2111]
[12,11489,14,11493,13,11498,14,11505,null,null,0,1111]
[12,11626,14,11630,13,11636,14,11641,null,null,0,1111]
[12,11735,14,11742,13,11748,14,11753,null,null,0,1111]
[12,11864,14,11872,13,11879,14,11890,null,null,0,1111]
[21,11982,21,11998,22,12006,23,12014,null,null,0,2222]
[12,12112,14,12116,13,12120,14,12125,null,null,0,1111]
[12,12237,14,12243,13,12249,14,12261,null,null,0,1111]
[12,12373,23,12383,24,12390,23,12396,null,null,0,1222]
[21,12503,12,12518,13,12523,14,12528,null,null,0,2111]
[12,12630,23,12637,13,12647,14,12652,null,null,0,1211]
[12,12761,14,12771,13,12777,14,12782,null,null,0,1111]
[12,12956,14,12962,13,12968,14,12974,null,null,0,1111]
[12,13075,14,13080,13,13085,14,13091,null,null,0,1111]
[21,13207,12,13219,13,13223,14,13229,null,null,0,2111]
[12,13324,14,13329,13,13334,14,13340,null,null,0,1111]
[12,13455,14,13460,13,13465,14,13471,null,null,0,1111]
[21,13576,21,13605,22,13611,23,13616,null,null,0,2222]
[12,13714,23,13723,24,13729,14,13742,null,null,0,1221]
[12,13921,14,13926,13,13931,14,13944,null,null,0,1111]
[12,14048,14,14053,13,14058,14,14064,null,null,0,1111]
[12,14166,14,14176,13,14182,14,14188,null,null,0,1111]
[12,14284,14,14291,13,14295,14,14302,null,null,0,1111]
[12,14409,14,14413,13,14418,14,14423,null,null,0,1111]
[12,14523,23,14534,24,14538,23,14543,null,null,0,1222]
[12,14672,14,14676,13,14691,14,14698,null,null,0,1111]
[21,14809,12,14820,13,14825,14,14829,null,null,0,2111]
[12,14943,14,14951,13,14956,14,14961,null,null,0,1111]
[12,15092,14,15097,13,15101,14,15106,null,null,0,1111]
[12,15229,14,15234,13,15239,14,15245,null,null,0,1111]
[21,15371,12,15379,13,15384,14,15390,null,null,0,2111]
[12,15591,14,15596,13,15607,14,15615,null,null,0,1111]
[12,15733,14,15737,13,15742,14,15748,null,null,0,1111]
[21,15856,12,15866,13,15877,14,15881,null,null,0,2111]
[12,15977,14,15991,13,15997,14,16003,null,null,0,1111]
[12,16135,14,16141,13,16146,14,16152,null,null,0,1111]
[12,16252,14,16257,13,16261,14,16265,null,null,0,1111]
[12,16370,14,16375,13,16380,14,16385,null,null,0,1111]
[12,16496,14,16501,13,16506,14,16512,null,null,0,1111]
[12,16664,14,16669,13,16674,14,16679,null,null,0,1111]
[12,16799,14,16804,13,16809,14,16815,null,null,0,1111]
[21,16926,12,16942,13,16948,14,16954,null,null,0,2111]
[12,17113,14,17117,13,17130,14,17142,null,null,0,1111]
[12,17242,14,17249,13,17257,14,17264,null,null,0,1111]
[12,17361,14,17366,13,17371,14,17377,null,null,0,1111]
[12,17474,14,17479,13,17486,14,17497,null,null,0,1111]
[12,17642,14,17663,13,17674,14,17681,null,null,0,1111]
[12,17863,14,17869,13,17875,14,17887,null,null,0,1111]
[12,17990,14,17994,13,17999,14,18005,null,null,0,1111]
[21,18097,12,18131,13,18136,14,18141,null,null,0,2111]
[21,18254,21,18266,22,18273,23,18281,null,null,0,2222]
[12,18393,14,18399,13,18404,14,18409,null,null,0,1111]
[21,18513,12,18524,13,18528,14,18533,null,null,0,2111]
[12,18641,14,18649,13,18654,14,18659,null,null,0,1111]
[12,18827,14,18831,13,18836,14,18842,null,null,0,1111]
[12,18952,14,18962,13,18968,14,18973,null,null,0,1111]
[21,19065,12,19079,13,19085,14,19095,null,null,0,2111]
[12,19195,14,19204,13,19210,14,19216,null,null,0,1111]
[21,19322,12,19332,13,19335,14,19340,null,null,0,2111]
[12,19457,14,19462,13,19469,14,19475,null,null,0,1111]
[21,19598,12,19610,13,19613,14,19618,null,null,0,2111]
[21,19710,12,19722,24,19732,23,19743,null,null,0,2122]
[12,19903,14,19909,13,19915,14,19921,null,null,0,1111]
[12,20042,14,20052,13,20064,14,20071,null,null,0,1111]
[21,20178,21,20189,22,20194,23,20200,null,null,0,2222]
[12,20307,14,20313,13,20318,14,20324,null,null,0,1111]
[21,20434,12,20444,13,20453,14,20458,null,null,0,2111]
[12,20557,14,20569,13,20575,14,20582,null,null,0,1111]
[12,20684,23,20693,24,20697,23,20705,null,null,0,1222]
[12,20805,14,20829,13,20835,14,20841,null,null,0,1111]
[21,20933,12,20942,13,20946,14,20956,null,null,0,2111]
[12,21054,14,21061,13,21067,14,21072,null,null,0,1111]
[21,21173,12,21184,13,21189,14,21194,null,null,0,2111]
[12,21329,23,21340,13,21352,14,21359,null,null,0,1211]
[12,21467,14,21472,13,21481,14,21486,null,null,0,1111]
[12,21594,14,21600,13,21604,14,21610,null,null,0,1111]
[21,21723,12,21738,13,21744,14,21750,null,null,0,2111]
[12,21866,23,21873,13,21886,14,21892,null,null,0,1211]
[12,21989,14,21995,13,22000,14,22006,null,null,0,1111]
[12,22119,14,22129,13,22140,14,22147,null,null,0,1111]
[21,22252,21,22257,22,22264,23,22270,null,null,0,2222]
[21,22370,12,22388,13,22393,14,22403,null,null,0,2111]
[12,22507,23,22516,24,22530,23,22535,null,null,0,1222]
[12,22661,14,22666,13,22671,14,22676,null,null,0,1111]
[12,22821,14,22827,13,22832,14,22838,null,null,0,1111]
[12,22954,14,22959,13,22964,14,22971,null,null,0,1111]
[12,23106,14,23114,13,23124,14,23132,null,null,0,1111]
[12,23239,14,23244,13,23249,14,23254,null,null,0,1111]
[21,23370,21,23374,11,23388,12,23390,null,null,0,2211]
[12,23407,14,23418,13,23425,14,23431,null,null,0,1111]
[12,23553,14,23556,13,23561,14,23566,null,null,0,1111]
[21,23660,21,23672,11,23685,12,23696,null,null,0,2211]
[12,23794,14,23817,13,23821,14,23827,null,null,0,1111]
[12,23929,23,23937,24,23947,23,23953,null,null,1,1222]

{"sheet":"!LB22A45..Du","index":22,"n_rows":178,"n_cols":48,"rows_kept":178,"cut":false,"hidden":false,"merged":[[1,1,1,2],[5,13,5,14],[26,13,26,14],[27,13,27,14],[4,19,4,22],[5,19,5,20],[4,39,4,42],[5,39,5,40],[4,44,4,47],[5,44,5,45],[4,24,4,27],[5,24,5,25],[4,29,4,32],[5,29,5,30],[4,34,4,37],[5,34,5,35]]}
["Report for:!LB22A45..Du"]
["Date:","<date>"]
["Hen:","<hen>",null,null,null,"Correct Sequence",{"$f":"Start!J2","v":2212},null,null,null,null,null,null,null,null,"Total Sequences in Data",{"$f":"4994-COUNTBLANK(L7:L5000)","v":172},null,null,null,null,"Total Sequences in Block Data",{"$f":"COUNTA(L7:L35)","v":29},null,null,null,"Total Sequences in Block Data",{"$f":"COUNTA(L36:L63)","v":28},null,null,null,"Total Sequences in Block Data",{"$f":"COUNTA(L64:L92)","v":29},null,null,null,"Total Sequences in Block Data",{"$f":"COUNTA(L93:L121)","v":29},null,null,null,"Total Sequences in Block Data",{"$f":"COUNTA(L122:L149)","v":28},null,null,null,"Total Sequences in Block Data",{"$f":"COUNTA(L150:L178)","v":29}]
[null,null,null,null,null,null,null,null,null,null,null,null,null,null,null,"Total Sequences in Summary",{"$f":"SUM(O7:O22)","v":172},null,null,null,null,"Total Sequences in Block Summary",{"$f":"SUM(U7:U22)","v":29},null,null,null,"Total Sequences in Block Summary",{"$f":"SUM(Z7:Z22)","v":28},null,null,null,"Total Sequences in Block Summary",{"$f":"SUM(AE7:AE22)","v":29},null,null,null,"Total Sequences in Block Summary",{"$f":"SUM(AJ7:AJ22)","v":29},null,null,null,"Total Sequences in Block Summary",{"$f":"SUM(AO7:AO22)","v":28},null,null,null,"Total Sequences in Block Summary",{"$f":"SUM(AT7:AT22)","v":29}]
[null,null,null,null,null,null,null,null,null,null,null,null,null,null,null,null,null,null,null,"Block 1",null,null,null,null,"Block 2",null,null,null,null,"Block 3",null,null,null,null,"Block 4",null,null,null,null,"Block 5",null,null,null,null,"Block 6"]
["Sequence\nComponent\n1","Time\n1","Sequence\nComponent\n2","Time\n2","Sequence\nComponent\n3","Time\n3","Sequence\nComponent\n4","Time\n4","Sequence\nComponent\n5","Time\n5","Correct?\n0=No 1=Yes","Sequence",null,"Frequency",null,"Relative Frequency","Variability",null,null,"Frequency",null,"Relative Frequency","Variability",null,"Frequency",null,"Relative Frequency","Variability",null,"Frequency",null,"Relative Frequency","Variability",null,"Frequency",null,"Relative Frequency","Variability",null,"Frequency",null,"Relative Frequency","Variability",null,"Frequency",null,"Relative Frequency","Variability"]
[12,100,14,108,13,113,14,119,null,null,0,1111,null,1111,{"$f":"COUNTIF($L$7:$L$500,N7)","v":63},{"$f":"O7/$Q$4","v":0.36627906976744184},{"$f":"IF(P7=0,0,(P7*((LOG(P7))/LOG(2))))","v":-0.53073281607986877},null,null,{"$f":"N7","v":1111},{"$f":"COUNTIF(L7:L35,T7)","v":16},{"$f":"U7/(W4-U20)","v":0.55172413793103448},{"$f":"IF(V7=0,0,(V7*((LOG(V7))/LOG(2))))","v":-0.47336882489797077},null,{"$f":"N7","v":1111},{"$f":"COUNTIF(L36:L63,Y7)","v":12},{"$f":"Z7/(AB4-Z20)","v":0.42857142857142855},{"$f":"IF(AA7=0,0,(AA7*((LOG(AA7))/LOG(2))))","v":-0.52388246628704915},null,{"$f":"N7","v":1111},{"$f":"COUNTIF(L64:L92,AD7)","v":9},{"$f":"AE7/(AG4-AE20)","v":0.31034482758620691},{"$f":"IF(AF7=0,0,(AF7*((LOG(AF7))/LOG(2))))","v":-0.52387944631611505},null,{"$f":"N7","v":1111},{"$f":"COUNTIF(L93:L121,AI7)","v":7},{"$f":"AJ7/(AL4-AJ20)","v":0.2413793103448276},{"$f":"IF(AK7=0,0,(AK7*((LOG(AK7))/LOG(2))))","v":-0.49497870729275095},null,{"$f":"N7","v":1111},{"$f":"COUNTIF(L122:L149,AN7)","v":14},{"$f":"AO7/(AQ4-AO20)","v":0.5},{"$f":"IF(AP7=0,0,(AP7*((LOG(AP7))/LOG(2))))","v":-0.5},null,{"$f":"N7","v":1111},{"$f":"COUNTIF(L150:L178,AS7)","v":5},{"$f":"AT7/(AV4-AT20)","v":0.17241379310344829},{"$f":"IF(AU7=0,0,(AU7*((LOG(AU7))/LOG(2))))","v":-0.43725050004141547}]
[12,235,14,240,13,245,14,251,null,null,0,1111,null,1112,0,0,0,null,null,1112,{"$f":"COUNTIF(L7:L35,T8)","v":0},{"$f":"U8/(W4-U20)","v":0},0,null,1112,{"$f":"COUNTIF(L36:L63,Y8)","v":0},{"$f":"Z8/(AB4-Z20)","v":0},0,null,1112,{"$f":"COUNTIF(L64:L92,AD8)","v":0},{"$f":"AE8/(AG4-AE20)","v":0},0,null,1112,{"$f":"COUNTIF(L93:L121,AI8)","v":0},{"$f":"AJ8/(AL4-AJ20)","v":0},0,null,1112,{"$f":"COUNTIF(L122:L149,AN8)","v":0},{"$f":"AO8/(AQ4-AO20)","v":0},0,null,1112,{"$f":"COUNTIF(L150:L178,AS8)","v":0},{"$f":"AT8/(AV4-AT20)","v":0},0]
[21,357,21,365,22,374,23,379,null,null,0,2222,null,1121,0,0,0,null,null,1121,{"$f":"COUNTIF(L7:L35,T9)","v":0},{"$f":"U9/(W4-U20)","v":0},0,null,1121,{"$f":"COUNTIF(L36:L63,Y9)","v":0},{"$f":"Z9/(AB4-Z20)","v":0},0,null,1121,{"$f":"COUNTIF(L64:L92,AD9)","v":0},{"$f":"AE9/(AG4-AE20)","v":0},0,null,1121,{"$f":"COUNTIF(L93:L121,AI9)","v":0},{"$f":"AJ9/(AL4-AJ20)","v":0},0,null,1121,{"$f":"COUNTIF(L122:L149,AN9)","v":0},{"$f":"AO9/(AQ4-AO20)","v":0},0,null,1121,{"$f":"COUNTIF(L150:L178,AS9)","v":0},{"$f":"AT9/(AV4-AT20)","v":0},0]
[21,484,21,493,22,499,23,506,null,null,0,2222,null,1122,0,0,0,null,null,1122,{"$f":"COUNTIF(L7:L35,T10)","v":0},{"$f":"U10/(W4-U20)","v":0},0,null,1122,{"$f":"COUNTIF(L36:L63,Y10)","v":0},{"$f":"Z10/(AB4-Z20)","v":0},0,null,1122,{"$f":"COUNTIF(L64:L92,AD10)","v":0},{"$f":"AE10/(AG4-AE20)","v":0},0,null,1122,{"$f":"COUNTIF(L93:L121,AI10)","v":0},{"$f":"AJ10/(AL4-AJ20)","v":0},0,null,1122,{"$f":"COUNTIF(L122:L149,AN10)","v":0},{"$f":"AO10/(AQ4-AO20)","v":0},0,null,1122,{"$f":"COUNTIF(L150:L178,AS10)","v":0},{"$f":"AT10/(AV4-AT20)","v":0},0]
[21,598,21,612,22,619,23,625,null,null,0,2222,null,1211,1,5.8139534883720929E-3,-4.3175957876174981E-2,null,null,1211,{"$f":"COUNTIF(L7:L35,T11)","v":1},{"$f":"U11/(W4-U20)","v":3.4482758620689655E-2},-0.16751658603888178,null,1211,{"$f":"COUNTIF(L36:L63,Y11)","v":0},{"$f":"Z11/(AB4-Z20)","v":0},0,null,1211,{"$f":"COUNTIF(L64:L92,AD11)","v":0},{"$f":"AE11/(AG4-AE20)","v":0},0,null,1211,{"$f":"COUNTIF(L93:L121,AI11)","v":0},{"$f":"AJ11/(AL4-AJ20)","v":0},0,null,1211,{"$f":"COUNTIF(L122:L149,AN11)","v":0},{"$f":"AO11/(AQ4-AO20)","v":0},0,null,1211,{"$f":"COUNTIF(L150:L178,AS11)","v":0},{"$f":"AT11/(AV4-AT20)","v":0},0]
[12,726,23,733,13,745,14,750,null,null,0,1211,null,1212,0,0,0,null,null,1212,{"$f":"COUNTIF(L7:L35,T12)","v":0},{"$f":"U12/(W4-U20)","v":0},0,null,1212,{"$f":"COUNTIF(L36:L63,Y12)","v":0},{"$f":"Z12/(AB4-Z20)","v":0},0,null,1212,{"$f":"COUNTIF(L64:L92,AD12)","v":0},{"$f":"AE12/(AG4-AE20)","v":0},0,null,1212,{"$f":"COUNTIF(L93:L121,AI12)","v":0},{"$f":"AJ12/(AL4-AJ20)","v":0},0,null,1212,{"$f":"COUNTIF(L122:L149,AN12)","v":0},{"$f":"AO12/(AQ4-AO20)","v":0},0,null,1212,{"$f":"COUNTIF(L150:L178,AS12)","v":0},{"$f":"AT12/(AV4-AT20)","v":0},0]
[12,923,14,929,13,934,14,940,null,null,0,1111,null,1221,0,0,0,null,null,1221,{"$f":"COUNTIF(L7:L35,T13)","v":0},{"$f":"U13/(W4-U20)","v":0},0,null,1221,{"$f":"COUNTIF(L36:L63,Y13)","v":0},{"$f":"Z13/(AB4-Z20)","v":0},0,null,1221,{"$f":"COUNTIF(L64:L92,AD13)","v":0},{"$f":"AE13/(AG4-AE20)","v":0},0,null,1221,{"$f":"COUNTIF(L93:L121,AI13)","v":0},{"$f":"AJ13/(AL4-AJ20)","v":0},0,null,1221,{"$f":"COUNTIF(L122:L149,AN13)","v":0},{"$f":"AO13/(AQ4-AO20)","v":0},0,null,1221,{"$f":"COUNTIF(L150:L178,AS13)","v":0},{"$f":"AT13/(AV4-AT20)","v":0},0]
[12,1037,23,1049,24,1056,23,1062,null,null,0,1222,null,1222,4,2.3255813953488372E-2,-0.12619220359772321,null,null,1222,{"$f":"COUNTIF(L7:L35,T14)","v":1},{"$f":"U14/(W4-U20)","v":3.4482758620689655E-2},-0.16751658603888178,null,1222,{"$f":"COUNTIF(L36:L63,Y14)","v":0},{"$f":"Z14/(AB4-Z20)","v":0},0,null,1222,{"$f":"COUNTIF(L64:L92,AD14)","v":1},{"$f":"AE14/(AG4-AE20)","v":3.4482758620689655E-2},-0.16751658603888178,null,1222,{"$f":"COUNTIF(L93:L121,AI14)","v":0},{"$f":"AJ14/(AL4-AJ20)","v":0},0,null,1222,{"$f":"COUNTIF(L122:L149,AN14)","v":2},{"$f":"AO14/(AQ4-AO20)","v":7.1428571428571425E-2},-0.27195392300411453,null,1222,{"$f":"COUNTIF(L150:L178,AS14)","v":0},{"$f":"AT14/(AV4-AT20)","v":0},0]
[21,1168,21,1175,22,1187,23,1200,null,null,0,2222,null,2111,21,0.12209302325581395,-0.37042380215343074,null,null,2111,{"$f":"COUNTIF(L7:L35,T15)","v":3},{"$f":"U15/(W4-U20)","v":0.10344827586206896},-0.33858812011100858,null,2111,{"$f":"COUNTIF(L36:L63,Y15)","v":4},{"$f":"Z15/(AB4-Z20)","v":0.14285714285714285},-0.40105070315108626,null,2111,{"$f":"COUNTIF(L64:L92,AD15)","v":4},{"$f":"AE15/(AG4-AE20)","v":0.13793103448275862},-0.39420427519000989,null,2111,{"$f":"COUNTIF(L93:L121,AI15)","v":2},{"$f":"AJ15/(AL4-AJ20)","v":6.8965517241379309E-2},-0.26606765483638428,null,2111,{"$f":"COUNTIF(L122:L149,AN15)","v":4},{"$f":"AO15/(AQ4-AO20)","v":0.14285714285714285},-0.40105070315108626,null,2111,{"$f":"COUNTIF(L150:L178,AS15)","v":4},{"$f":"AT15/(AV4-AT20)","v":0.13793103448275862},-0.39420427519000989]
[21,1305,12,1314,13,1319,14,1324,null,null,0,2111,null,2112,0,0,0,null,null,2112,{"$f":"COUNTIF(L7:L35,T16)","v":0},{"$f":"U16/(W4-U20)","v":0},0,null,2112,{"$f":"COUNTIF(L36:L63,Y16)","v":0},{"$f":"Z16/(AB4-Z20)","v":0},0,null,2112,{"$f":"COUNTIF(L64:L92,AD16)","v":0},{"$f":"AE16/(AG4-AE20)","v":0},0,null,2112,{"$f":"COUNTIF(L93:L121,AI16)","v":0},{"$f":"AJ16/(AL4-AJ20)","v":0},0,null,2112,{"$f":"COUNTIF(L122:L149,AN16)","v":0},{"$f":"AO16/(AQ4-AO20)","v":0},0,null,2112,{"$f":"COUNTIF(L150:L178,AS16)","v":0},{"$f":"AT16/(AV4-AT20)","v":0},0]
[12,1421,14,1425,13,1430,14,1435,null,null,0,1111,null,2121,0,0,0,null,null,2121,{"$f":"COUNTIF(L7:L35,T17)","v":0},{"$f":"U17/(W4-U20)","v":0},0,null,2121,{"$f":"COUNTIF(L36:L63,Y17)","v":0},{"$f":"Z17/(AB4-Z20)","v":0},0,null,2121,{"$f":"COUNTIF(L64:L92,AD17)","v":0},{"$f":"AE17/(AG4-AE20)","v":0},0,null,2121,{"$f":"COUNTIF(L93:L121,AI17)","v":0},{"$f":"AJ17/(AL4-AJ20)","v":0},0,null,2121,{"$f":"COUNTIF(L122:L149,AN17)","v":0},{"$f":"AO17/(AQ4-AO20)","v":0},0,null,2121,{"$f":"COUNTIF(L150:L178,AS17)","v":0},{"$f":"AT17/(AV4-AT20)","v":0},0]
[12,1531,14,1540,13,1546,14,1553,null,null,0,1111,null,2122,0,0,0,null,null,2122,{"$f":"COUNTIF(L7:L35,T18)","v":0},{"$f":"U18/(W4-U20)","v":0},0,null,2122,{"$f":"COUNTIF(L36:L63,Y18)","v":0},{"$f":"Z18/(AB4-Z20)","v":0},0,null,2122,{"$f":"COUNTIF(L64:L92,AD18)","v":0},{"$f":"AE18/(AG4-AE20)","v":0},0,null,2122,{"$f":"COUNTIF(L93:L121,AI18)","v":0},{"$f":"AJ18/(AL4-AJ20)","v":0},0,null,2122,{"$f":"COUNTIF(L122:L149,AN18)","v":0},{"$f":"AO18/(AQ4-AO20)","v":0},0,null,2122,{"$f":"COUNTIF(L150:L178,AS18)","v":0},{"$f":"AT18/(AV4-AT20)","v":0},0]
[12,1673,14,1677,13,1683,14,1690,null,null,0,1111,null,2211,2,1.1627906976744186E-2,-7.4724008775605782E-2,null,null,2211,{"$f":"COUNTIF(L7:L35,T19)","v":0},{"$f":"U19/(W4-U20)","v":0},0,null,2211,{"$f":"COUNTIF(L36:L63,Y19)","v":0},{"$f":"Z19/(AB4-Z20)","v":0},0,null,2211,{"$f":"COUNTIF(L64:L92,AD19)","v":0},{"$f":"AE19/(AG4-AE20)","v":0},0,null,2211,{"$f":"COUNTIF(L93:L121,AI19)","v":1},{"$f":"AJ19/(AL4-AJ20)","v":3.4482758620689655E-2},-0.16751658603888178,null,2211,{"$f":"COUNTIF(L122:L149,AN19)","v":0},{"$f":"AO19/(AQ4-AO20)","v":0},0,null,2211,{"$f":"COUNTIF(L150:L178,AS19)","v":1},{"$f":"AT19/(AV4-AT20)","v":3.4482758620689655E-2},-0.16751658603888178]
[12,1788,14,1793,13,1798,14,1809,null,null,0,1111,null,2212,0,0,0,null,null,2212,{"$f":"COUNTIF(L7:L35,T20)","v":0},null,null,null,2212,{"$f":"COUNTIF(L36:L63,Y20)","v":0},null,null,null,2212,{"$f":"COUNTIF(L64:L92,AD20)","v":0},null,null,null,2212,{"$f":"COUNTIF(L93:L121,AI20)","v":0},null,null,null,2212,{"$f":"COUNTIF(L122:L149,AN20)","v":0},null,null,null,2212,{"$f":"COUNTIF(L150:L178,AS20)","v":0}]
[12,1905,14,1914,13,1926,14,1932,null,null,0,1111,null,2221,0,0,0,null,null,2221,{"$f":"COUNTIF(L7:L35,T21)","v":0},{"$f":"U21/(W4-U20)","v":0},{"$f":"IF(V21=0,0,(V21*((LOG(V21))/LOG(2))))","v":0},null,2221,{"$f":"COUNTIF(L36:L63,Y21)","v":0},{"$f":"Z21/(AB4-Z20)","v":0},{"$f":"IF(AA21=0,0,(AA21*((LOG(AA21))/LOG(2))))","v":0},null,2221,{"$f":"COUNTIF(L64:L92,AD21)","v":0},{"$f":"AE21/(AG4-AE20)","v":0},{"$f":"IF(AF21=0,0,(AF21*((LOG(AF21))/LOG(2))))","v":0},null,2221,{"$f":"COUNTIF(L93:L121,AI21)","v":0},{"$f":"AJ21/(AL4-AJ20)","v":0},{"$f":"IF(AK21=0,0,(AK21*((LOG(AK21))/LOG(2))))","v":0},null,2221,{"$f":"COUNTIF(L122:L149,AN21)","v":0},{"$f":"AO21/(AQ4-AO20)","v":0},{"$f":"IF(AP21=0,0,(AP21*((LOG(AP21))/LOG(2))))","v":0},null,2221,{"$f":"COUNTIF(L150:L178,AS21)","v":0},{"$f":"AT21/(AV4-AT20)","v":0},{"$f":"IF(AU21=0,0,(AU21*((LOG(AU21))/LOG(2))))","v":0}]
[12,2032,14,2037,13,2042,14,2047,null,null,0,1111,null,2222,81,0.47093023255813954,-0.51162555172799606,null,null,2222,{"$f":"COUNTIF(L7:L35,T22)","v":8},{"$f":"U22/(W4-U20)","v":0.27586206896551724},{"$f":"IF(V22=0,0,(V22*((LOG(V22))/LOG(2))))","v":-0.51254648141450265},null,2222,{"$f":"COUNTIF(L36:L63,Y22)","v":12},{"$f":"Z22/(AB4-Z20)","v":0.42857142857142855},{"$f":"IF(AA22=0,0,(AA22*((LOG(AA22))/LOG(2))))","v":-0.52388246628704915},null,2222,{"$f":"COUNTIF(L64:L92,AD22)","v":15},{"$f":"AE22/(AG4-AE20)","v":0.51724137931034486},{"$f":"IF(AF22=0,0,(AF22*((LOG(AF22))/LOG(2))))","v":-0.49194331009606224},null,2222,{"$f":"COUNTIF(L93:L121,AI22)","v":19},{"$f":"AJ22/(AL4-AJ20)","v":0.65517241379310343},{"$f":"IF(AK22=0,0,(AK22*((LOG(AK22))/LOG(2))))","v":-0.39969021213778433},null,2222,{"$f":"COUNTIF(L122:L149,AN22)","v":8},{"$f":"AO22/(AQ4-AO20)","v":0.2857142857142857},{"$f":"IF(AP22=0,0,(AP22*((LOG(AP22))/LOG(2))))","v":-0.51638712058788683},null,2222,{"$f":"COUNTIF(L150:L178,AS22)","v":19},{"$f":"AT22/(AV4-AT20)","v":0.65517241379310343},{"$f":"IF(AU22=0,0,(AU22*((LOG(AU22))/LOG(2))))","v":-0.39969021213778433}]
[21,2158,21,2165,22,2171,23,2177,null,null,0,2222,null,null,null,{"$f":"SUM(P7:P22)","v":1},{"$f":"-SUM(Q7:Q22)","v":1.6568743402107997},null,null,null,null,{"$f":"SUM(V7:V22)","v":0.99999999999999989},{"$f":"-SUM(W7:W22)","v":1.6595365985012456},null,null,null,{"$f":"SUM(AA7:AA22)","v":1},{"$f":"-SUM(AB7:AB22)","v":1.4488156357251847},null,null,null,{"$f":"SUM(AF7:AF22)","v":1},{"$f":"-SUM(AG7:AG22)","v":1.5775436176410689},null,null,null,{"$f":"SUM(AK7:AK22)","v":1},{"$f":"-SUM(AL7:AL22)","v":1.3282531603058012},null,null,null,{"$f":"SUM(AP7:AP22)","v":0.99999999999999989},{"$f":"-SUM(AQ7:AQ22)","v":1.6893917467430875},null,null,null,{"$f":"SUM(AU7:AU22)","v":1},{"$f":"-SUM(AV7:AV22)","v":1.3986615734080914}]
[12,2329,14,2335,13,2340,14,2346,null,null,0,1111,null,null,null,"U=",{"$f":"Q23/(LOG(Q4)/LOG(2))","v":0.22311005531572445},null,null,null,null,"U1=",{"$f":"W23/(LOG(W4)/LOG(2))","v":0.34161035215364521},null,null,null,"U2=",{"$f":"AB23/(LOG(AB4)/LOG(2))","v":0.3013748015728106},null,null,null,"U3=",{"$f":"AG23/(LOG(AG4)/LOG(2))","v":0.32473235675958878},null,null,null,"U4=",{"$f":"AL23/(LOG(AL4)/LOG(2))","v":0.27341670575451088},null,null,null,"U5=",{"$f":"AQ23/(LOG(AQ4)/LOG(2))","v":0.35141814451677894},null,null,null,"U6=",{"$f":"AV23/(LOG(AV4)/LOG(2))","v":0.28791005457018304}]
[12,2445,14,2450,13,2455,14,2460,null,null,0,1111]
[12,2554,14,2578,13,2583,14,2589,null,null,0,1111]
[12,2694,14,2699,13,2704,14,2717,null,null,0,1111,null,"Total Target Seq"]
[21,2809,12,2826,13,2831,14,2837,null,null,0,2111,null,{"$f":"COUNTIF(L7:L178,G3)","v":0},null,29,28,29,29,28,29]
[21,2944,21,2948,22,2954,23,2960,null,null,0,2222,null,null,null,"% of reinforcement given in 6 equal intervals based on number of trials "]
[21,3062,12,3076,13,3082,14,3087,null,null,0,2111,null,null,null,"%_1","%_2","%_3","%_4","%_5","%_6"]
[21,3200,21,3208,22,3214,23,3220,null,null,0,2222,null,null,"target sequence",{"$f":"$G$3","v":2212},2212,2212,2212,2212,2212]
[12,3414,14,3418,13,3429,14,3434,null,null,0,1111,null,null,"total reinforcement",{"$f":"U20","v":0},{"$f":"Z20","v":0},{"$f":"AE20","v":0},{"$f":"AJ20","v":0},{"$f":"AO20","v":0},{"$f":"AT20","v":0}]
[12,3608,14,3613,13,3618,14,3623,null,null,0,1111,null,null,"% target"]
[12,3806,14,3811,13,3817,14,3824,null,null,0,1111,null,null,"CCRF"]
[21,3939,21,3944,22,3950,23,3960,null,null,0,2222,null,null,"% CCRf"]
[12,4140,14,4145,13,4151,14,4158,null,null,0,1111,null,null,"average response rate",{"$f":"H35/P28","v":136.55172413793105},{"$f":"(H63-H35)/Q28","v":144.07142857142858},{"$f":"(H92-H63)/R28","v":137.0344827586207},{"$f":"(H121-H92)/S28","v":142.44827586206895},{"$f":"(H149-H121)/T28","v":137.5},{"$f":"(H178-H149)/U28","v":139.44827586206895}]
[21,4256,12,4268,13,4275,14,4279,null,null,0,2111]
[21,4382,21,4386,22,4392,23,4397,null,null,0,2222]
[21,4505,21,4509,22,4515,23,4521,null,null,0,2222]
[12,4766,14,4771,13,4777,14,4784,null,null,0,1111]
[12,4962,14,4967,13,4974,14,4985,null,null,0,1111]
[12,5094,14,5100,13,5106,14,5113,null,null,0,1111]
[21,5214,21,5219,22,5227,23,5233,null,null,0,2222]
[21,5335,12,5350,13,5369,14,5374,null,null,0,2111]
[12,5504,14,5507,13,5518,14,5524,null,null,0,1111]
[12,5644,14,5649,13,5655,14,5660,null,null,0,1111]
[21,5775,21,5780,22,5787,23,5792,null,null,0,2222]
[12,5891,14,5897,13,5903,14,5908,null,null,0,1111]
[21,6009,21,6027,22,6037,23,6043,null,null,0,2222]
[12,6185,14,6196,13,6201,14,6207,null,null,0,1111]
[21,6310,21,6316,22,6329,23,6332,null,null,0,2222]
[21,6429,12,6443,13,6448,14,6458,null,null,0,2111]
[21,6565,21,6573,22,6578,23,6583,null,null,0,2222]
[12,6725,14,6730,13,6735,14,6741,null,null,0,1111]
[21,6857,12,6869,13,6875,14,6880,null,null,0,2111]
[21,6984,21,6992,22,6999,23,7005,null,null,0,2222]
[21,7098,21,7109,22,7113,23,7119,null,null,0,2222]
[21,7228,21,7234,22,7246,23,7253,null,null,0,2222]
[21,7357,21,7367,22,7375,23,7382,null,null,0,2222]
[12,7530,14,7536,13,7540,14,7546,null,null,0,1111]
[12,7705,14,7711,13,7716,14,7723,null,null,0,1111]
[12,7846,14,7851,13,7857,14,7864,null,null,0,1111]
[21,7960,21,7976,22,7989,23,7994,null,null,0,2222]
[21,8106,12,8119,13,8124,14,8129,null,null,0,2111]
[12,8294,14,8301,13,8307,14,8314,null,null,0,1111]
[21,8419,21,8431,22,8438,23,8442,null,null,0,2222]
[21,8546,21,8552,22,8558,23,8563,null,null,0,2222]
[12,8679,14,8684,13,8690,14,8696,null,null,0,1111]
[21,8802,21,8805,22,8834,23,8842,null,null,0,2222]
[21,9025,21,9033,22,9039,23,9045,null,null,0,2222]
[21,9144,12,9153,13,9159,14,9164,null,null,0,2111]
[21,9272,12,9285,13,9289,14,9295,null,null,0,2111]
[12,9397,14,9402,13,9408,14,9413,null,null,0,1111]
[21,9525,21,9534,22,9540,23,9551,null,null,0,2222]
[21,9664,21,9671,22,9677,23,9683,null,null,0,2222]
[21,9777,21,9791,22,9796,23,9803,null,null,0,2222]
[12,9969,14,9974,13,9979,14,9985,null,null,0,1111]
[21,10092,21,10100,22,10107,23,10112,null,null,0,2222]
[21,10206,21,10227,22,10234,23,10240,null,null,0,2222]
[12,10340,14,10344,13,10351,14,10356,null,null,0,1111]
[21,10466,21,10472,22,10478,23,10485,null,null,0,2222]
[21,10582,21,10595,22,10600,23,10611,null,null,0,2222]
[21,10709,21,10724,22,10730,23,10737,null,null,0,2222]
[21,10844,21,10852,22,10858,23,10864,null,null,0,2222]
[21,10967,21,10974,22,10978,23,10985,null,null,0,2222]
[12,11147,14,11153,13,11159,14,11166,null,null,0,1111]
[12,11279,14,11284,13,11288,14,11294,null,null,0,1111]
[21,11407,21,11422,22,11428,23,11435,null,null,0,2222]
[12,11536,23,11547,24,11560,23,11566,null,null,0,1222]
[12,11689,14,11694,13,11700,14,11713,null,null,0,1111]
[12,11807,14,11811,13,11815,14,11822,null,null,0,1111]
[21,11939,12,11951,13,11961,14,11968,null,null,0,2111]
[21,12077,21,12084,22,12089,23,12094,null,null,0,2222]
[21,12198,21,12205,22,12216,23,12222,null,null,0,2222]
[21,12332,21,12338,22,12344,23,12350,null,null,0,2222]
[21,12458,21,12467,22,12473,23,12479,null,null,0,2222]
[12,12689,14,12693,13,12698,14,12704,null,null,0,1111]
[21,12810,12,12826,13,12835,14,12841,null,null,0,2111]
[21,12957,21,12969,22,12975,23,12980,null,null,0,2222]
[21,13086,21,13091,22,13096,23,13103,null,null,0,2222]
[12,13204,14,13211,13,13217,14,13222,null,null,0,1111]
[21,13328,21,13337,22,13344,23,13350,null,null,0,2222]
[21,13454,21,13472,22,13477,23,13482,null,null,0,2222]
[21,13698,21,13702,22,13708,23,13719,null,null,0,2222]
[12,13833,14,13838,13,13844,14,13850,null,null,0,1111]
[12,14008,14,14023,13,14029,14,14036,null,null,0,1111]
[21,14147,21,14154,22,14160,23,14168,null,null,0,2222]
[21,14272,21,14284,22,14290,23,14296,null,null,0,2222]
[21,14392,21,14402,22,14409,23,14416,null,null,0,2222]
[21,14523,21,14530,22,14537,23,14545,null,null,0,2222]
[21,14654,12,14668,13,14672,14,14677,null,null,0,2111]
[12,14797,14,14802,13,14808,14,14821,null,null,0,1111]
[21,14927,21,14929,22,14938,23,14943,null,null,0,2222]
[21,15050,21,15066,22,15069,23,15076,null,null,0,2222]
[21,15174,21,15178,22,15184,23,15200,null,null,0,2222]
[21,15298,21,15311,22,15316,23,15324,null,null,0,2222]
[21,15422,21,15430,22,15439,23,15444,null,null,0,2222]
[21,15538,21,15549,11,15570,12,15579,null,null,0,2211]
[21,15682,21,15698,22,15701,23,15707,null,null,0,2222]
[12,15858,14,15863,13,15868,14,15874,null,null,0,1111]
[12,16084,14,16088,13,16093,14,16099,null,null,0,1111]
[21,16203,21,16214,22,16220,23,16226,null,null,0,2222]
[21,16333,21,16341,22,16348,23,16360,null,null,0,2222]
[21,16475,12,16492,13,16498,14,16503,null,null,0,2111]
[21,16605,21,16611,22,16617,23,16624,null,null,0,2222]
[21,16734,21,16747,22,16754,23,16760,null,null,0,2222]
[12,16900,14,16905,13,16911,14,16917,null,null,0,1111]
[12,17016,23,17025,24,17040,23,17058,null,null,0,1222]
[12,17199,14,17206,13,17213,14,17225,null,null,0,1111]
[21,17346,12,17357,13,17363,14,17369,null,null,0,2111]
[21,17483,21,17490,22,17496,23,17507,null,null,0,2222]
[12,17633,14,17638,13,17644,14,17650,null,null,0,1111]
[12,17749,14,17753,13,17757,14,17766,null,null,0,1111]
[12,17906,14,17910,13,17915,14,17921,null,null,0,1111]
[12,18022,14,18030,13,18036,14,18043,null,null,0,1111]
[12,18145,23,18152,24,18157,23,18163,null,null,0,1222]
[21,18268,21,18284,22,18290,23,18297,null,null,0,2222]
[12,18427,14,18436,13,18449,14,18463,null,null,0,1111]
[12,18588,14,18594,13,18599,14,18606,null,null,0,1111]
[21,18706,21,18726,22,18733,23,18739,null,null,0,2222]
[12,18836,14,18844,13,18849,14,18855,null,null,0,1111]
[21,18952,12,18974,13,18980,14,18985,null,null,0,2111]
[21,19119,12,19130,13,19135,14,19140,null,null,0,2111]
[12,19274,14,19282,13,19287,14,19299,null,null,0,1111]
[12,19420,14,19426,13,19432,14,19439,null,null,0,1111]
[12,19546,14,19552,13,19558,14,19564,null,null,0,1111]
[12,19680,14,19685,13,19696,14,19703,null,null,0,1111]
[12,19795,14,19804,13,19813,14,19819,null,null,0,1111]
[21,19923,21,19936,22,19942,23,19949,null,null,0,2222]
[21,20041,12,20055,13,20060,14,20068,null,null,0,2111]
[21,20187,21,20194,22,20200,23,20206,null,null,0,2222]
[12,20354,14,20359,13,20370,14,20384,null,null,0,1111]
[12,20501,14,20507,13,20513,14,20518,null,null,0,1111]
[21,20620,21,20627,22,20633,23,20639,null,null,0,2222]
[21,20741,21,20751,22,20758,23,20763,null,null,0,2222]
[21,20869,21,20880,22,20893,23,20899,null,null,0,2222]
[21,20992,21,21027,22,21032,23,21039,null,null,0,2222]
[21,21134,21,21137,22,21144,23,21151,null,null,0,2222]
[21,21256,21,21261,22,21266,23,21272,null,null,0,2222]
[21,21373,21,21377,22,21393,23,21405,null,null,0,2222]
[21,21583,21,21587,22,21592,23,21597,null,null,0,2222]
[21,21702,12,21735,13,21740,14,21746,null,null,0,2111]
[21,21854,21,21874,22,21881,23,21887,null,null,0,2222]
[12,21988,14,22000,13,22005,14,22027,null,null,0,1111]
[21,22133,21,22146,11,22164,12,22173,null,null,0,2211]
[21,22265,21,22292,22,22302,23,22308,null,null,0,2222]
[21,22418,12,22452,13,22458,14,22464,null,null,0,2111]
[21,22583,12,22595,13,22601,14,22606,null,null,0,2111]
[12,22738,14,22746,13,22751,14,22757,null,null,0,1111]
[21,22859,21,22871,22,22877,23,22883,null,null,0,2222]
[12,23037,14,23041,13,23046,14,23052,null,null,0,1111]
[21,23181,21,23186,22,23192,23,23198,null,null,0,2222]
[21,23310,21,23319,22,23324,23,23331,null,null,0,2222]
[21,23436,21,23441,22,23447,23,23454,null,null,0,2222]
[21,23580,21,23584,22,23590,23,23594,null,null,0,2222]
[21,23705,21,23716,22,23720,23,23726,null,null,0,2222]
[21,23837,21,23845,22,23855,23,23861,null,null,0,2222]
[21,23964,21,23976,22,23985,23,23993,null,null,null,2222]

{"sheet":"!LB23A45..Du","index":23,"n_rows":181,"n_cols":48,"rows_kept":181,"cut":false,"hidden":false,"merged":[[1,1,1,2],[5,13,5,14],[26,13,26,14],[27,13,27,14],[4,19,4,22],[5,19,5,20],[4,39,4,42],[5,39,5,40],[4,44,4,47],[5,44,5,45],[4,24,4,27],[5,24,5,25],[4,29,4,32],[5,29,5,30],[4,34,4,37],[5,34,5,35]]}
["Report for:!LB23A45..Du"]
["Date:","<date>"]
["Hen:","<hen>",null,null,null,"Correct Sequence",{"$f":"Start!J2","v":2212},null,null,null,null,null,null,null,null,"Total Sequences in Data",{"$f":"4994-COUNTBLANK(L7:L5000)","v":175},null,null,null,null,"Total Sequences in Block Data",{"$f":"COUNTA(L7:L35)","v":29},null,null,null,"Total Sequences in Block Data",{"$f":"COUNTA(L36:L64)","v":29},null,null,null,"Total Sequences in Block Data",{"$f":"COUNTA(L65:L94)","v":30},null,null,null,"Total Sequences in Block Data",{"$f":"COUNTA(L95:L123)","v":29},null,null,null,"Total Sequences in Block Data",{"$f":"COUNTA(L124:L152)","v":29},null,null,null,"Total Sequences in Block Data",{"$f":"COUNTA(L153:L181)","v":29}]
[null,null,null,null,null,null,null,null,null,null,null,null,null,null,null,"Total Sequences in Summary",{"$f":"SUM(O7:O22)","v":175},null,null,null,null,"Total Sequences in Block Summary",{"$f":"SUM(U7:U22)","v":29},null,null,null,"Total Sequences in Block Summary",{"$f":"SUM(Z7:Z22)","v":29},null,null,null,"Total Sequences in Block Summary",{"$f":"SUM(AE7:AE22)","v":30},null,null,null,"Total Sequences in Block Summary",{"$f":"SUM(AJ7:AJ22)","v":29},null,null,null,"Total Sequences in Block Summary",{"$f":"SUM(AO7:AO22)","v":29},null,null,null,"Total Sequences in Block Summary",{"$f":"SUM(AT7:AT22)","v":29}]
[null,null,null,null,null,null,null,null,null,null,null,null,null,null,null,null,null,null,null,"Block 1",null,null,null,null,"Block 2",null,null,null,null,"Block 3",null,null,null,null,"Block 4",null,null,null,null,"Block 5",null,null,null,null,"Block 6"]
["Sequence\nComponent\n1","Time\n1","Sequence\nComponent\n2","Time\n2","Sequence\nComponent\n3","Time\n3","Sequence\nComponent\n4","Time\n4","Sequence\nComponent\n5","Time\n5","Correct?\n0=No 1=Yes","Sequence",null,"Frequency",null,"Relative Frequency","Variability",null,null,"Frequency",null,"Relative Frequency","Variability",null,"Frequency",null,"Relative Frequency","Variability",null,"Frequency",null,"Relative Frequency","Variability",null,"Frequency",null,"Relative Frequency","Variability",null,"Frequency",null,"Relative Frequency","Variability",null,"Frequency",null,"Relative Frequency","Variability"]
[21,16,21,20,22,27,23,33,null,null,0,2222,null,1111,{"$f":"COUNTIF($L$7:$L$500,N7)","v":44},{"$f":"O7/$Q$4","v":0.25142857142857145},{"$f":"IF(P7=0,0,(P7*((LOG(P7))/LOG(2))))","v":-0.50079027257475084},null,null,{"$f":"N7","v":1111},{"$f":"COUNTIF(L7:L35,T7)","v":12},{"$f":"U7/(W4-U20)","v":0.41379310344827586},{"$f":"IF(V7=0,0,(V7*((LOG(V7))/LOG(2))))","v":-0.5267662735474824},null,{"$f":"N7","v":1111},{"$f":"COUNTIF(L36:L64,Y7)","v":13},{"$f":"Z7/(AB4-Z20)","v":0.44827586206896552},{"$f":"IF(AA7=0,0,(AA7*((LOG(AA7))/LOG(2))))","v":-0.51889781382152544},null,{"$f":"N7","v":1111},{"$f":"COUNTIF(L65:L94,AD7)","v":10},{"$f":"AE7/(AG4-AE20)","v":0.33333333333333331},{"$f":"IF(AF7=0,0,(AF7*((LOG(AF7))/LOG(2))))","v":-0.52832083357371862},null,{"$f":"N7","v":1111},{"$f":"COUNTIF(L95:L123,AI7)","v":5},{"$f":"AJ7/(AL4-AJ20)","v":0.17241379310344829},{"$f":"IF(AK7=0,0,(AK7*((LOG(AK7))/LOG(2))))","v":-0.43725050004141547},null,{"$f":"N7","v":1111},{"$f":"COUNTIF(L124:L152,AN7)","v":3},{"$f":"AO7/(AQ4-AO20)","v":0.10344827586206896},{"$f":"IF(AP7=0,0,(AP7*((LOG(AP7))/LOG(2))))","v":-0.33858812011100858},null,{"$f":"N7","v":1111},{"$f":"COUNTIF(L153:L181,AS7)","v":1},{"$f":"AT7/(AV4-AT20)","v":3.4482758620689655E-2},{"$f":"IF(AU7=0,0,(AU7*((LOG(AU7))/LOG(2))))","v":-0.16751658603888178}]
[12,203,14,208,13,212,14,217,null,null,0,1111,null,1112,0,0,0,null,null,1112,{"$f":"COUNTIF(L7:L35,T8)","v":0},{"$f":"U8/(W4-U20)","v":0},0,null,1112,{"$f":"COUNTIF(L36:L64,Y8)","v":0},{"$f":"Z8/(AB4-Z20)","v":0},0,null,1112,{"$f":"COUNTIF(L65:L94,AD8)","v":0},{"$f":"AE8/(AG4-AE20)","v":0},0,null,1112,{"$f":"COUNTIF(L95:L123,AI8)","v":0},{"$f":"AJ8/(AL4-AJ20)","v":0},0,null,1112,{"$f":"COUNTIF(L124:L152,AN8)","v":0},{"$f":"AO8/(AQ4-AO20)","v":0},0,null,1112,{"$f":"COUNTIF(L153:L181,AS8)","v":0},{"$f":"AT8/(AV4-AT20)","v":0},0]
[21,320,21,334,22,337,23,340,null,null,0,2222,null,1121,0,0,0,null,null,1121,{"$f":"COUNTIF(L7:L35,T9)","v":0},{"$f":"U9/(W4-U20)","v":0},0,null,1121,{"$f":"COUNTIF(L36:L64,Y9)","v":0},{"$f":"Z9/(AB4-Z20)","v":0},0,null,1121,{"$f":"COUNTIF(L65:L94,AD9)","v":0},{"$f":"AE9/(AG4-AE20)","v":0},0,null,1121,{"$f":"COUNTIF(L95:L123,AI9)","v":0},{"$f":"AJ9/(AL4-AJ20)","v":0},0,null,1121,{"$f":"COUNTIF(L124:L152,AN9)","v":0},{"$f":"AO9/(AQ4-AO20)","v":0},0,null,1121,{"$f":"COUNTIF(L153:L181,AS9)","v":0},{"$f":"AT9/(AV4-AT20)","v":0},0]
[21,439,21,446,22,452,23,458,null,null,0,2222,null,1122,1,5.7142857142857143E-3,-4.2578349210470448E-2,null,null,1122,{"$f":"COUNTIF(L7:L35,T10)","v":0},{"$f":"U10/(W4-U20)","v":0},0,null,1122,{"$f":"COUNTIF(L36:L64,Y10)","v":0},{"$f":"Z10/(AB4-Z20)","v":0},0,null,1122,{"$f":"COUNTIF(L65:L94,AD10)","v":1},{"$f":"AE10/(AG4-AE20)","v":3.3333333333333333E-2},-0.16356301985361729,null,1122,{"$f":"COUNTIF(L95:L123,AI10)","v":0},{"$f":"AJ10/(AL4-AJ20)","v":0},0,null,1122,{"$f":"COUNTIF(L124:L152,AN10)","v":0},{"$f":"AO10/(AQ4-AO20)","v":0},0,null,1122,{"$f":"COUNTIF(L153:L181,AS10)","v":0},{"$f":"AT10/(AV4-AT20)","v":0},0]
[21,567,21,572,22,579,23,585,null,null,0,2222,null,1211,0,0,0,null,null,1211,{"$f":"COUNTIF(L7:L35,T11)","v":0},{"$f":"U11/(W4-U20)","v":0},0,null,1211,{"$f":"COUNTIF(L36:L64,Y11)","v":0},{"$f":"Z11/(AB4-Z20)","v":0},0,null,1211,{"$f":"COUNTIF(L65:L94,AD11)","v":0},{"$f":"AE11/(AG4-AE20)","v":0},0,null,1211,{"$f":"COUNTIF(L95:L123,AI11)","v":0},{"$f":"AJ11/(AL4-AJ20)","v":0},0,null,1211,{"$f":"COUNTIF(L124:L152,AN11)","v":0},{"$f":"AO11/(AQ4-AO20)","v":0},0,null,1211,{"$f":"COUNTIF(L153:L181,AS11)","v":0},{"$f":"AT11/(AV4-AT20)","v":0},0]
[12,681,23,689,24,697,23,704,null,null,0,1222,null,1212,0,0,0,null,null,1212,{"$f":"COUNTIF(L7:L35,T12)","v":0},{"$f":"U12/(W4-U20)","v":0},0,null,1212,{"$f":"COUNTIF(L36:L64,Y12)","v":0},{"$f":"Z12/(AB4-Z20)","v":0},0,null,1212,{"$f":"COUNTIF(L65:L94,AD12)","v":0},{"$f":"AE12/(AG4-AE20)","v":0},0,null,1212,{"$f":"COUNTIF(L95:L123,AI12)","v":0},{"$f":"AJ12/(AL4-AJ20)","v":0},0,null,1212,{"$f":"COUNTIF(L124:L152,AN12)","v":0},{"$f":"AO12/(AQ4-AO20)","v":0},0,null,1212,{"$f":"COUNTIF(L153:L181,AS12)","v":0},{"$f":"AT12/(AV4-AT20)","v":0},0]
[12,802,14,808,13,813,14,820,null,null,0,1111,null,1221,0,0,0,null,null,1221,{"$f":"COUNTIF(L7:L35,T13)","v":0},{"$f":"U13/(W4-U20)","v":0},0,null,1221,{"$f":"COUNTIF(L36:L64,Y13)","v":0},{"$f":"Z13/(AB4-Z20)","v":0},0,null,1221,{"$f":"COUNTIF(L65:L94,AD13)","v":0},{"$f":"AE13/(AG4-AE20)","v":0},0,null,1221,{"$f":"COUNTIF(L95:L123,AI13)","v":0},{"$f":"AJ13/(AL4-AJ20)","v":0},0,null,1221,{"$f":"COUNTIF(L124:L152,AN13)","v":0},{"$f":"AO13/(AQ4-AO20)","v":0},0,null,1221,{"$f":"COUNTIF(L153:L181,AS13)","v":0},{"$f":"AT13/(AV4-AT20)","v":0},0]
[12,945,14,949,13,954,14,960,null,null,0,1111,null,1222,3,1.7142857142857144E-2,-0.10056426190476297,null,null,1222,{"$f":"COUNTIF(L7:L35,T14)","v":2},{"$f":"U14/(W4-U20)","v":6.8965517241379309E-2},-0.26606765483638428,null,1222,{"$f":"COUNTIF(L36:L64,Y14)","v":1},{"$f":"Z14/(AB4-Z20)","v":3.4482758620689655E-2},-0.16751658603888178,null,1222,{"$f":"COUNTIF(L65:L94,AD14)","v":0},{"$f":"AE14/(AG4-AE20)","v":0},0,null,1222,{"$f":"COUNTIF(L95:L123,AI14)","v":0},{"$f":"AJ14/(AL4-AJ20)","v":0},0,null,1222,{"$f":"COUNTIF(L124:L152,AN14)","v":0},{"$f":"AO14/(AQ4-AO20)","v":0},0,null,1222,{"$f":"COUNTIF(L153:L181,AS14)","v":0},{"$f":"AT14/(AV4-AT20)","v":0},0]
[12,1065,14,1071,13,1077,14,1083,null,null,0,1111,null,2111,9,5.1428571428571428E-2,-0.22018042853434372,null,null,2111,{"$f":"COUNTIF(L7:L35,T15)","v":2},{"$f":"U15/(W4-U20)","v":6.8965517241379309E-2},-0.26606765483638428,null,2111,{"$f":"COUNTIF(L36:L64,Y15)","v":1},{"$f":"Z15/(AB4-Z20)","v":3.4482758620689655E-2},-0.16751658603888178,null,2111,{"$f":"COUNTIF(L65:L94,AD15)","v":1},{"$f":"AE15/(AG4-AE20)","v":3.3333333333333333E-2},-0.16356301985361729,null,2111,{"$f":"COUNTIF(L95:L123,AI15)","v":0},{"$f":"AJ15/(AL4-AJ20)","v":0},0,null,2111,{"$f":"COUNTIF(L124:L152,AN15)","v":2},{"$f":"AO15/(AQ4-AO20)","v":6.8965517241379309E-2},-0.26606765483638428,null,2111,{"$f":"COUNTIF(L153:L181,AS15)","v":3},{"$f":"AT15/(AV4-AT20)","v":0.10344827586206896},-0.33858812011100858]
[12,1175,14,1181,13,1187,14,1193,null,null,0,1111,null,2112,0,0,0,null,null,2112,{"$f":"COUNTIF(L7:L35,T16)","v":0},{"$f":"U16/(W4-U20)","v":0},0,null,2112,{"$f":"COUNTIF(L36:L64,Y16)","v":0},{"$f":"Z16/(AB4-Z20)","v":0},0,null,2112,{"$f":"COUNTIF(L65:L94,AD16)","v":0},{"$f":"AE16/(AG4-AE20)","v":0},0,null,2112,{"$f":"COUNTIF(L95:L123,AI16)","v":0},{"$f":"AJ16/(AL4-AJ20)","v":0},0,null,2112,{"$f":"COUNTIF(L124:L152,AN16)","v":0},{"$f":"AO16/(AQ4-AO20)","v":0},0,null,2112,{"$f":"COUNTIF(L153:L181,AS16)","v":0},{"$f":"AT16/(AV4-AT20)","v":0},0]
[21,1299,12,1314,13,1320,14,1326,null,null,0,2111,null,2121,0,0,0,null,null,2121,{"$f":"COUNTIF(L7:L35,T17)","v":0},{"$f":"U17/(W4-U20)","v":0},0,null,2121,{"$f":"COUNTIF(L36:L64,Y17)","v":0},{"$f":"Z17/(AB4-Z20)","v":0},0,null,2121,{"$f":"COUNTIF(L65:L94,AD17)","v":0},{"$f":"AE17/(AG4-AE20)","v":0},0,null,2121,{"$f":"COUNTIF(L95:L123,AI17)","v":0},{"$f":"AJ17/(AL4-AJ20)","v":0},0,null,2121,{"$f":"COUNTIF(L124:L152,AN17)","v":0},{"$f":"AO17/(AQ4-AO20)","v":0},0,null,2121,{"$f":"COUNTIF(L153:L181,AS17)","v":0},{"$f":"AT17/(AV4-AT20)","v":0},0]
[12,1424,23,1438,24,1444,23,1456,null,null,0,1222,null,2122,0,0,0,null,null,2122,{"$f":"COUNTIF(L7:L35,T18)","v":0},{"$f":"U18/(W4-U20)","v":0},0,null,2122,{"$f":"COUNTIF(L36:L64,Y18)","v":0},{"$f":"Z18/(AB4-Z20)","v":0},0,null,2122,{"$f":"COUNTIF(L65:L94,AD18)","v":0},{"$f":"AE18/(AG4-AE20)","v":0},0,null,2122,{"$f":"COUNTIF(L95:L123,AI18)","v":0},{"$f":"AJ18/(AL4-AJ20)","v":0},0,null,2122,{"$f":"COUNTIF(L124:L152,AN18)","v":0},{"$f":"AO18/(AQ4-AO20)","v":0},0,null,2122,{"$f":"COUNTIF(L153:L181,AS18)","v":0},{"$f":"AT18/(AV4-AT20)","v":0},0]
[12,1611,14,1620,13,1625,14,1630,null,null,0,1111,null,2211,1,5.7142857142857143E-3,-4.2578349210470448E-2,null,null,2211,{"$f":"COUNTIF(L7:L35,T19)","v":0},{"$f":"U19/(W4-U20)","v":0},0,null,2211,{"$f":"COUNTIF(L36:L64,Y19)","v":0},{"$f":"Z19/(AB4-Z20)","v":0},0,null,2211,{"$f":"COUNTIF(L65:L94,AD19)","v":1},{"$f":"AE19/(AG4-AE20)","v":3.3333333333333333E-2},-0.16356301985361729,null,2211,{"$f":"COUNTIF(L95:L123,AI19)","v":0},{"$f":"AJ19/(AL4-AJ20)","v":0},0,null,2211,{"$f":"COUNTIF(L124:L152,AN19)","v":0},{"$f":"AO19/(AQ4-AO20)","v":0},0,null,2211,{"$f":"COUNTIF(L153:L181,AS19)","v":0},{"$f":"AT19/(AV4-AT20)","v":0},0]
[21,1786,21,1792,22,1799,23,1805,null,null,0,2222,null,2212,0,0,0,null,null,2212,{"$f":"COUNTIF(L7:L35,T20)","v":0},null,null,null,2212,{"$f":"COUNTIF(L36:L64,Y20)","v":0},null,null,null,2212,{"$f":"COUNTIF(L65:L94,AD20)","v":0},null,null,null,2212,{"$f":"COUNTIF(L95:L123,AI20)","v":0},null,null,null,2212,{"$f":"COUNTIF(L124:L152,AN20)","v":0},null,null,null,2212,{"$f":"COUNTIF(L153:L181,AS20)","v":0}]
[12,1899,14,1906,13,1911,14,1917,null,null,0,1111,null,2221,0,0,0,null,null,2221,{"$f":"COUNTIF(L7:L35,T21)","v":0},{"$f":"U21/(W4-U20)","v":0},{"$f":"IF(V21=0,0,(V21*((LOG(V21))/LOG(2))))","v":0},null,2221,{"$f":"COUNTIF(L36:L64,Y21)","v":0},{"$f":"Z21/(AB4-Z20)","v":0},{"$f":"IF(AA21=0,0,(AA21*((LOG(AA21))/LOG(2))))","v":0},null,2221,{"$f":"COUNTIF(L65:L94,AD21)","v":0},{"$f":"AE21/(AG4-AE20)","v":0},{"$f":"IF(AF21=0,0,(AF21*((LOG(AF21))/LOG(2))))","v":0},null,2221,{"$f":"COUNTIF(L95:L123,AI21)","v":0},{"$f":"AJ21/(AL4-AJ20)","v":0},{"$f":"IF(AK21=0,0,(AK21*((LOG(AK21))/LOG(2))))","v":0},null,2221,{"$f":"COUNTIF(L124:L152,AN21)","v":0},{"$f":"AO21/(AQ4-AO20)","v":0},{"$f":"IF(AP21=0,0,(AP21*((LOG(AP21))/LOG(2))))","v":0},null,2221,{"$f":"COUNTIF(L153:L181,AS21)","v":0},{"$f":"AT21/(AV4-AT20)","v":0},{"$f":"IF(AU21=0,0,(AU21*((LOG(AU21))/LOG(2))))","v":0}]
[21,2018,21,2030,22,2037,23,2044,null,null,0,2222,null,2222,117,0.66857142857142859,-0.3883373022464236,null,null,2222,{"$f":"COUNTIF(L7:L35,T22)","v":13},{"$f":"U22/(W4-U20)","v":0.44827586206896552},{"$f":"IF(V22=0,0,(V22*((LOG(V22))/LOG(2))))","v":-0.51889781382152544},null,2222,{"$f":"COUNTIF(L36:L64,Y22)","v":14},{"$f":"Z22/(AB4-Z20)","v":0.48275862068965519},{"$f":"IF(AA22=0,0,(AA22*((LOG(AA22))/LOG(2))))","v":-0.50719879389584666},null,2222,{"$f":"COUNTIF(L65:L94,AD22)","v":17},{"$f":"AE22/(AG4-AE20)","v":0.56666666666666665},{"$f":"IF(AF22=0,0,(AF22*((LOG(AF22))/LOG(2))))","v":-0.46434239413630152},null,2222,{"$f":"COUNTIF(L95:L123,AI22)","v":24},{"$f":"AJ22/(AL4-AJ20)","v":0.82758620689655171},{"$f":"IF(AK22=0,0,(AK22*((LOG(AK22))/LOG(2))))","v":-0.2259463401984132},null,2222,{"$f":"COUNTIF(L124:L152,AN22)","v":24},{"$f":"AO22/(AQ4-AO20)","v":0.82758620689655171},{"$f":"IF(AP22=0,0,(AP22*((LOG(AP22))/LOG(2))))","v":-0.2259463401984132},null,2222,{"$f":"COUNTIF(L153:L181,AS22)","v":25},{"$f":"AT22/(AV4-AT20)","v":0.86206896551724133},{"$f":"IF(AU22=0,0,(AU22*((LOG(AU22))/LOG(2))))","v":-0.18459034944210989}]
[21,2147,21,2153,22,2160,23,2166,null,null,0,2222,null,null,null,{"$f":"SUM(P7:P22)","v":1},{"$f":"-SUM(Q7:Q22)","v":1.295028963681222},null,null,null,null,{"$f":"SUM(V7:V22)","v":1},{"$f":"-SUM(W7:W22)","v":1.5777993970417763},null,null,null,{"$f":"SUM(AA7:AA22)","v":1},{"$f":"-SUM(AB7:AB22)","v":1.3611297797951356},null,null,null,{"$f":"SUM(AF7:AF22)","v":1},{"$f":"-SUM(AG7:AG22)","v":1.483352287270872},null,null,null,{"$f":"SUM(AK7:AK22)","v":1},{"$f":"-SUM(AL7:AL22)","v":0.66319684023982872},null,null,null,{"$f":"SUM(AP7:AP22)","v":1},{"$f":"-SUM(AQ7:AQ22)","v":0.83060211514580606},null,null,null,{"$f":"SUM(AU7:AU22)","v":1},{"$f":"-SUM(AV7:AV22)","v":0.69069505559200017}]
[21,2326,21,2336,22,2345,23,2351,null,null,0,2222,null,null,null,"U=",{"$f":"Q23/(LOG(Q4)/LOG(2))","v":0.1738011370560619},null,null,null,null,"U1=",{"$f":"W23/(LOG(W4)/LOG(2))","v":0.32478500813903305},null,null,null,"U2=",{"$f":"AB23/(LOG(AB4)/LOG(2))","v":0.28018425373839734},null,null,null,"U3=",{"$f":"AG23/(LOG(AG4)/LOG(2))","v":0.30229984923617742},null,null,null,"U4=",{"$f":"AL23/(LOG(AL4)/LOG(2))","v":0.13651696886113754},null,null,null,"U5=",{"$f":"AQ23/(LOG(AQ4)/LOG(2))","v":0.17097681443770124},null,null,null,"U6=",{"$f":"AV23/(LOG(AV4)/LOG(2))","v":0.14217738938969693}]
[21,2455,21,2463,22,2469,23,2474,null,null,0,2222]
[12,2572,14,2587,13,2593,14,2599,null,null,0,1111]
[12,2704,14,2712,13,2718,14,2724,null,null,0,1111,null,"Total Target Seq"]
[12,2823,14,2836,13,2842,14,2847,null,null,0,1111,null,{"$f":"COUNTIF(L7:L181,G3)","v":0},null,29,29,30,29,29,29]
[12,2961,14,2966,13,2971,14,2976,null,null,0,1111,null,null,null,"% of reinforcement given in 6 equal intervals based on number of trials "]
[21,3085,21,3097,22,3103,23,3109,null,null,0,2222,null,null,null,"%_1","%_2","%_3","%_4","%_5","%_6"]
[12,3244,14,3248,13,3253,14,3258,null,null,0,1111,null,null,"target sequence",{"$f":"$G$3","v":2212},2212,2212,2212,2212,2212]
[21,3356,12,3373,13,3379,14,3385,null,null,0,2111,null,null,"total reinforcement",{"$f":"U20","v":0},{"$f":"Z20","v":0},{"$f":"AE20","v":0},{"$f":"AJ20","v":0},{"$f":"AO20","v":0},{"$f":"AT20","v":0}]
[21,3494,21,3500,22,3506,23,3513,null,null,0,2222,null,null,"% target"]
[21,3618,21,3624,22,3631,23,3638,null,null,0,2222,null,null,"CCRF"]
[21,3734,21,3739,22,3744,23,3750,null,null,0,2222,null,null,"% CCRf"]
[21,3855,21,3859,22,3865,23,3870,null,null,0,2222,null,null,"average response rate",{"$f":"H35/P28","v":129.31034482758622},{"$f":"(H64-H35)/Q28","v":137.37931034482759},{"$f":"(H94-H64)/R28","v":132.96666666666667},{"$f":"(H123-H94)/S28","v":134.9655172413793},{"$f":"(H152-H123)/T28","v":139.24137931034483},{"$f":"(H181-H152)/U28","v":148.62068965517241}]
[21,3974,21,3983,22,3990,23,3996,null,null,0,2222]
[12,4091,14,4094,13,4098,14,4103,null,null,0,1111]
[21,4195,21,4205,22,4213,23,4221,null,null,0,2222]
[12,4353,14,4357,13,4365,14,4370,null,null,0,1111]
[12,4476,23,4483,24,4488,23,4494,null,null,0,1222]
[21,4597,21,4606,22,4615,23,4623,null,null,0,2222]
[21,4736,21,4744,22,4750,23,4761,null,null,0,2222]
[21,4858,21,4875,22,4883,23,4890,null,null,0,2222]
[21,4985,21,5001,22,5007,23,5013,null,null,0,2222]
[21,5134,21,5140,22,5145,23,5151,null,null,0,2222]
[12,5258,14,5280,13,5286,14,5293,null,null,0,1111]
[12,5451,14,5459,13,5465,14,5475,null,null,0,1111]
[12,5587,14,5598,13,5604,14,5610,null,null,0,1111]
[12,5725,14,5731,13,5736,14,5742,null,null,0,1111]
[12,5839,14,5843,13,5848,14,5852,null,null,0,1111]
[21,5956,21,5986,22,5993,23,6000,null,null,0,2222]
[12,6110,14,6119,13,6125,14,6131,null,null,0,1111]
[21,6242,21,6252,22,6258,23,6264,null,null,0,2222]
[12,6362,14,6368,13,6377,14,6383,null,null,0,1111]
[21,6503,21,6508,22,6515,23,6522,null,null,0,2222]
[21,6621,12,6636,13,6647,14,6652,null,null,0,2111]
[21,6757,21,6764,22,6771,23,6777,null,null,0,2222]
[12,6957,14,6962,13,6967,14,6978,null,null,0,1111]
[12,7141,14,7147,13,7153,14,7165,null,null,0,1111]
[21,7287,21,7291,22,7298,23,7305,null,null,0,2222]
[12,7429,14,7435,13,7440,14,7446,null,null,0,1111]
[21,7548,21,7552,22,7568,23,7572,null,null,0,2222]
[12,7718,14,7723,13,7728,14,7734,null,null,0,1111]
[21,7832,21,7847,22,7852,23,7858,null,null,0,2222]
[12,7960,14,7966,13,7972,14,7984,null,null,0,1111]
[12,8131,14,8143,13,8147,14,8153,null,null,0,1111]
[21,8258,21,8262,22,8265,23,8271,null,null,0,2222]
[21,8369,21,8384,22,8390,23,8395,null,null,0,2222]
[21,8491,21,8503,22,8511,23,8520,null,null,0,2222]
[12,8660,14,8664,13,8671,14,8676,null,null,0,1111]
[21,8818,12,8830,13,8836,14,8842,null,null,0,2111]
[21,8943,21,8946,22,8952,23,8958,null,null,0,2222]
[12,9053,14,9061,24,9077,23,9081,null,null,0,1122]
[12,9209,14,9219,13,9245,14,9254,null,null,0,1111]
[12,9383,14,9389,13,9395,14,9402,null,null,0,1111]
[12,9495,14,9498,13,9505,14,9513,null,null,0,1111]
[12,9608,14,9617,13,9627,14,9633,null,null,0,1111]
[21,9739,21,9745,22,9751,23,9757,null,null,0,2222]
[21,9860,21,9867,22,9872,23,9879,null,null,0,2222]
[12,10048,14,10058,13,10063,14,10070,null,null,0,1111]
[21,10170,21,10179,22,10185,23,10190,null,null,0,2222]
[21,10290,21,10297,22,10304,23,10311,null,null,0,2222]
[21,10410,21,10421,22,10429,23,10435,null,null,0,2222]
[21,10533,21,10552,22,10556,23,10562,null,null,0,2222]
[12,10662,14,10664,13,10672,14,10677,null,null,0,1111]
[21,10785,21,10791,22,10799,23,10816,null,null,0,2222]
[12,11003,14,11008,13,11013,14,11019,null,null,0,1111]
[21,11130,21,11138,22,11144,23,11150,null,null,0,2222]
[21,11296,21,11303,11,11318,12,11324,null,null,0,2211]
[21,11342,21,11348,22,11353,23,11361,null,null,0,2222]
[21,11456,21,11466,22,11473,23,11482,null,null,0,2222]
[21,11584,21,11592,22,11600,23,11606,null,null,0,2222]
[21,11706,21,11712,22,11717,23,11723,null,null,0,2222]
[12,11821,14,11827,13,11834,14,11840,null,null,0,1111]
[21,11939,21,11949,22,11952,23,11955,null,null,0,2222]
[21,12057,21,12064,22,12069,23,12075,null,null,0,2222]
[21,12177,21,12183,22,12190,23,12195,null,null,0,2222]
[21,12287,21,12316,22,12322,23,12331,null,null,0,2222]
[21,12424,21,12427,22,12435,23,12442,null,null,0,2222]
[21,12546,21,12569,22,12575,23,12581,null,null,0,2222]
[21,12676,21,12694,22,12698,23,12705,null,null,0,2222]
[21,12815,21,12824,22,12830,23,12836,null,null,0,2222]
[21,12957,21,12962,22,12967,23,12984,null,null,0,2222]
[21,13086,21,13089,22,13110,23,13116,null,null,0,2222]
[21,13222,21,13243,22,13250,23,13258,null,null,0,2222]
[12,13439,14,13448,13,13454,14,13459,null,null,0,1111]
[21,13552,21,13573,22,13579,23,13585,null,null,0,2222]
[21,13699,21,13705,22,13711,23,13716,null,null,0,2222]
[21,13823,21,13829,22,13844,23,13850,null,null,0,2222]
[21,13948,21,13954,22,13966,23,13971,null,null,0,2222]
[12,14133,14,14138,13,14144,14,14155,null,null,0,1111]
[21,14266,21,14276,22,14283,23,14288,null,null,0,2222]
[21,14392,21,14398,22,14404,23,14414,null,null,0,2222]
[21,14519,21,14528,22,14536,23,14542,null,null,0,2222]
[12,14710,14,14715,13,14721,14,14728,null,null,0,1111]
[21,14828,21,14836,22,14842,23,14848,null,null,0,2222]
[21,14947,21,14959,22,14965,23,14972,null,null,0,2222]
[21,15070,21,15076,22,15083,23,15091,null,null,0,2222]
[21,15192,21,15211,22,15219,23,15226,null,null,0,2222]
[12,15371,14,15379,13,15385,14,15391,null,null,0,1111]
[21,15487,21,15497,22,15508,23,15513,null,null,0,2222]
[21,15616,21,15624,22,15631,23,15637,null,null,0,2222]
[21,15743,21,15750,22,15759,23,15765,null,null,0,2222]
[21,15860,21,15872,22,15880,23,15887,null,null,0,2222]
[21,16063,12,16079,13,16090,14,16097,null,null,0,2111]
[21,16189,21,16198,22,16205,23,16214,null,null,0,2222]
[21,16314,21,16325,22,16333,23,16340,null,null,0,2222]
[21,16432,21,16456,22,16461,23,16467,null,null,0,2222]
[21,16576,21,16579,22,16585,23,16591,null,null,0,2222]
[21,16690,21,16700,22,16705,23,16711,null,null,0,2222]
[21,16813,21,16825,22,16832,23,16839,null,null,0,2222]
[12,16989,14,16995,13,17002,14,17008,null,null,0,1111]
[21,17112,21,17118,22,17127,23,17133,null,null,0,2222]
[21,17233,21,17239,22,17254,23,17260,null,null,0,2222]
[21,17368,21,17375,22,17381,23,17386,null,null,0,2222]
[21,17491,21,17497,22,17506,23,17512,null,null,0,2222]
[12,17609,14,17614,13,17620,14,17627,null,null,0,1111]
[21,17725,21,17730,22,17736,23,17743,null,null,0,2222]
[21,17849,21,17861,22,17866,23,17872,null,null,0,2222]
[21,18009,12,18027,13,18033,14,18039,null,null,0,2111]
[21,18282,21,18288,22,18293,23,18298,null,null,0,2222]
[12,18489,14,18496,13,18503,14,18517,null,null,0,1111]
[21,18628,21,18634,22,18643,23,18652,null,null,0,2222]
[21,18769,21,18777,22,18784,23,18791,null,null,0,2222]
[21,18908,21,18915,22,18924,23,18931,null,null,0,2222]
[21,19030,21,19039,22,19046,23,19052,null,null,0,2222]
[21,19152,21,19158,22,19164,23,19171,null,null,0,2222]
[21,19273,21,19285,22,19291,23,19297,null,null,0,2222]
[21,19405,21,19409,22,19416,23,19422,null,null,0,2222]
[21,19525,21,19529,22,19538,23,19545,null,null,0,2222]
[21,19652,21,19657,22,19669,23,19675,null,null,0,2222]
[21,19910,21,19914,22,19919,23,19924,null,null,0,2222]
[21,20117,21,20123,22,20129,23,20135,null,null,0,2222]
[21,20246,21,20261,22,20269,23,20276,null,null,0,2222]
[21,20503,12,20522,13,20527,14,20533,null,null,0,2111]
[21,20634,21,20644,22,20654,23,20665,null,null,0,2222]
[21,20795,21,20800,22,20807,23,20813,null,null,0,2222]
[21,20980,21,20983,22,20990,23,20998,null,null,0,2222]
[21,21095,21,21109,22,21116,23,21123,null,null,0,2222]
[21,21220,21,21225,22,21233,23,21241,null,null,0,2222]
[21,21356,21,21362,22,21368,23,21375,null,null,0,2222]
[21,21510,12,21528,13,21534,14,21541,null,null,0,2111]
[21,21639,21,21644,22,21652,23,21658,null,null,0,2222]
[21,21758,21,21767,22,21773,23,21779,null,null,0,2222]
[21,21892,21,21898,22,21905,23,21911,null,null,0,2222]
[21,22018,21,22024,22,22031,23,22037,null,null,0,2222]
[21,22142,21,22147,22,22153,23,22160,null,null,0,2222]
[21,22342,12,22357,13,22362,14,22372,null,null,0,2111]
[21,22474,21,22482,22,22488,23,22494,null,null,0,2222]
[21,22597,21,22601,22,22607,23,22614,null,null,0,2222]
[21,22714,21,22722,22,22729,23,22734,null,null,0,2222]
[21,22837,21,22844,22,22851,23,22856,null,null,0,2222]
[21,22954,21,22961,22,22969,23,22976,null,null,0,2222]
[21,23077,21,23083,22,23089,23,23096,null,null,0,2222]
[21,23197,21,23209,22,23215,23,23222,null,null,0,2222]
[21,23351,21,23359,22,23363,23,23370,null,null,0,2222]
[21,23462,21,23513,22,23518,23,23526,null,null,0,2222]
[12,23697,14,23701,13,23708,14,23716,null,null,0,1111]
[21,23826,21,23835,22,23844,23,23849,null,null,0,2222]
[21,23958,21,23969,22,23978,23,23985,null,null,1,2222]

{"sheet":"!LB24A05..Du","index":24,"n_rows":133,"n_cols":48,"rows_kept":133,"cut":false,"hidden":false,"merged":[[1,1,1,2],[5,13,5,14],[26,13,26,14],[27,13,27,14],[4,19,4,22],[5,19,5,20],[4,39,4,42],[5,39,5,40],[4,44,4,47],[5,44,5,45],[4,24,4,27],[5,24,5,25],[4,29,4,32],[5,29,5,30],[4,34,4,37],[5,34,5,35]]}
["Report for:!LB24A05..Du"]
["Date:","<date>"]
["Hen:","<hen>",null,null,null,"Correct Sequence",{"$f":"Start!J2","v":2212},null,null,null,null,null,null,null,null,"Total Sequences in Data",{"$f":"4994-COUNTBLANK(L7:L5000)","v":127},null,null,null,null,"Total Sequences in Block Data",{"$f":"COUNTA(L7:L27)","v":21},null,null,null,"Total Sequences in Block Data",{"$f":"COUNTA(L28:L48)","v":21},null,null,null,"Total Sequences in Block Data",{"$f":"COUNTA(L49:L70)","v":22},null,null,null,"Total Sequences in Block Data",{"$f":"COUNTA(L71:L91)","v":21},null,null,null,"Total Sequences in Block Data",{"$f":"COUNTA(L92:L112)","v":21},null,null,null,"Total Sequences in Block Data",{"$f":"COUNTA(L113:L133)","v":21}]
[null,null,null,null,null,null,null,null,null,null,null,null,null,null,null,"Total Sequences in Summary",{"$f":"SUM(O7:O22)","v":127},null,null,null,null,"Total Sequences in Block Summary",{"$f":"SUM(U7:U22)","v":21},null,null,null,"Total Sequences in Block Summary",{"$f":"SUM(Z7:Z22)","v":21},null,null,null,"Total Sequences in Block Summary",{"$f":"SUM(AE7:AE22)","v":22},null,null,null,"Total Sequences in Block Summary",{"$f":"SUM(AJ7:AJ22)","v":21},null,null,null,"Total Sequences in Block Summary",{"$f":"SUM(AO7:AO22)","v":21},null,null,null,"Total Sequences in Block Summary",{"$f":"SUM(AT7:AT22)","v":21}]
[null,null,null,null,null,null,null,null,null,null,null,null,null,null,null,null,null,null,null,"Block 1",null,null,null,null,"Block 2",null,null,null,null,"Block 3",null,null,null,null,"Block 4",null,null,null,null,"Block 5",null,null,null,null,"Block 6"]
["Sequence\nComponent\n1","Time\n1","Sequence\nComponent\n2","Time\n2","Sequence\nComponent\n3","Time\n3","Sequence\nComponent\n4","Time\n4","Sequence\nComponent\n5","Time\n5","Correct?\n0=No 1=Yes","Sequence",null,"Frequency",null,"Relative Frequency","Variability",null,null,"Frequency",null,"Relative Frequency","Variability",null,"Frequency",null,"Relative Frequency","Variability",null,"Frequency",null,"Relative Frequency","Variability",null,"Frequency",null,"Relative Frequency","Variability",null,"Frequency",null,"Relative Frequency","Variability",null,"Frequency",null,"Relative Frequency","Variability"]
[21,9,21,14,22,20,23,26,null,null,0,2222,null,1111,{"$f":"COUNTIF($L$7:$L$500,N7)","v":30},{"$f":"O7/$Q$4","v":0.23622047244094488},{"$f":"IF(P7=0,0,(P7*((LOG(P7))/LOG(2))))","v":-0.4917623837394442},null,null,{"$f":"N7","v":1111},{"$f":"COUNTIF(L7:L27,T7)","v":4},{"$f":"U7/(W4-U20)","v":0.19047619047619047},{"$f":"IF(V7=0,0,(V7*((LOG(V7))/LOG(2))))","v":-0.4556795091007162},null,{"$f":"N7","v":1111},{"$f":"COUNTIF(L28:L48,Y7)","v":7},{"$f":"Z7/(AB4-Z20)","v":0.33333333333333331},{"$f":"IF(AA7=0,0,(AA7*((LOG(AA7))/LOG(2))))","v":-0.52832083357371862},null,{"$f":"N7","v":1111},{"$f":"COUNTIF(L49:L70,AD7)","v":5},{"$f":"AE7/(AG4-AE20)","v":0.22727272727272727},{"$f":"IF(AF7=0,0,(AF7*((LOG(AF7))/LOG(2))))","v":-0.48579625539771243},null,{"$f":"N7","v":1111},{"$f":"COUNTIF(L71:L91,AI7)","v":5},{"$f":"AJ7/(AL4-AJ20)","v":0.23809523809523808},{"$f":"IF(AK7=0,0,(AK7*((LOG(AK7))/LOG(2))))","v":-0.49294983997414238},null,{"$f":"N7","v":1111},{"$f":"COUNTIF(L92:L112,AN7)","v":6},{"$f":"AO7/(AQ4-AO20)","v":0.2857142857142857},{"$f":"IF(AP7=0,0,(AP7*((LOG(AP7))/LOG(2))))","v":-0.51638712058788683},null,{"$f":"N7","v":1111},{"$f":"COUNTIF(L113:L133,AS7)","v":3},{"$f":"AT7/(AV4-AT20)","v":0.14285714285714285},{"$f":"IF(AU7=0,0,(AU7*((LOG(AU7))/LOG(2))))","v":-0.40105070315108626}]
[21,140,21,159,22,168,23,181,null,null,0,2222,null,1112,0,0,0,null,null,1112,{"$f":"COUNTIF(L7:L27,T8)","v":0},{"$f":"U8/(W4-U20)","v":0},0,null,1112,{"$f":"COUNTIF(L28:L48,Y8)","v":0},{"$f":"Z8/(AB4-Z20)","v":0},0,null,1112,{"$f":"COUNTIF(L49:L70,AD8)","v":0},{"$f":"AE8/(AG4-AE20)","v":0},0,null,1112,{"$f":"COUNTIF(L71:L91,AI8)","v":0},{"$f":"AJ8/(AL4-AJ20)","v":0},0,null,1112,{"$f":"COUNTIF(L92:L112,AN8)","v":0},{"$f":"AO8/(AQ4-AO20)","v":0},0,null,1112,{"$f":"COUNTIF(L113:L133,AS8)","v":0},{"$f":"AT8/(AV4-AT20)","v":0},0]
[21,280,21,285,22,292,23,300,null,null,0,2222,null,1121,0,0,0,null,null,1121,{"$f":"COUNTIF(L7:L27,T9)","v":0},{"$f":"U9/(W4-U20)","v":0},0,null,1121,{"$f":"COUNTIF(L28:L48,Y9)","v":0},{"$f":"Z9/(AB4-Z20)","v":0},0,null,1121,{"$f":"COUNTIF(L49:L70,AD9)","v":0},{"$f":"AE9/(AG4-AE20)","v":0},0,null,1121,{"$f":"COUNTIF(L71:L91,AI9)","v":0},{"$f":"AJ9/(AL4-AJ20)","v":0},0,null,1121,{"$f":"COUNTIF(L92:L112,AN9)","v":0},{"$f":"AO9/(AQ4-AO20)","v":0},0,null,1121,{"$f":"COUNTIF(L113:L133,AS9)","v":0},{"$f":"AT9/(AV4-AT20)","v":0},0]
[21,392,21,409,22,421,23,428,null,null,0,2222,null,1122,0,0,0,null,null,1122,{"$f":"COUNTIF(L7:L27,T10)","v":0},{"$f":"U10/(W4-U20)","v":0},0,null,1122,{"$f":"COUNTIF(L28:L48,Y10)","v":0},{"$f":"Z10/(AB4-Z20)","v":0},0,null,1122,{"$f":"COUNTIF(L49:L70,AD10)","v":0},{"$f":"AE10/(AG4-AE20)","v":0},0,null,1122,{"$f":"COUNTIF(L71:L91,AI10)","v":0},{"$f":"AJ10/(AL4-AJ20)","v":0},0,null,1122,{"$f":"COUNTIF(L92:L112,AN10)","v":0},{"$f":"AO10/(AQ4-AO20)","v":0},0,null,1122,{"$f":"COUNTIF(L113:L133,AS10)","v":0},{"$f":"AT10/(AV4-AT20)","v":0},0]
[21,526,21,556,22,562,23,568,null,null,0,2222,null,1211,0,0,0,null,null,1211,{"$f":"COUNTIF(L7:L27,T11)","v":0},{"$f":"U11/(W4-U20)","v":0},0,null,1211,{"$f":"COUNTIF(L28:L48,Y11)","v":0},{"$f":"Z11/(AB4-Z20)","v":0},0,null,1211,{"$f":"COUNTIF(L49:L70,AD11)","v":0},{"$f":"AE11/(AG4-AE20)","v":0},0,null,1211,{"$f":"COUNTIF(L71:L91,AI11)","v":0},{"$f":"AJ11/(AL4-AJ20)","v":0},0,null,1211,{"$f":"COUNTIF(L92:L112,AN11)","v":0},{"$f":"AO11/(AQ4-AO20)","v":0},0,null,1211,{"$f":"COUNTIF(L113:L133,AS11)","v":0},{"$f":"AT11/(AV4-AT20)","v":0},0]
[12,711,14,717,13,723,14,729,null,null,0,1111,null,1212,0,0,0,null,null,1212,{"$f":"COUNTIF(L7:L27,T12)","v":0},{"$f":"U12/(W4-U20)","v":0},0,null,1212,{"$f":"COUNTIF(L28:L48,Y12)","v":0},{"$f":"Z12/(AB4-Z20)","v":0},0,null,1212,{"$f":"COUNTIF(L49:L70,AD12)","v":0},{"$f":"AE12/(AG4-AE20)","v":0},0,null,1212,{"$f":"COUNTIF(L71:L91,AI12)","v":0},{"$f":"AJ12/(AL4-AJ20)","v":0},0,null,1212,{"$f":"COUNTIF(L92:L112,AN12)","v":0},{"$f":"AO12/(AQ4-AO20)","v":0},0,null,1212,{"$f":"COUNTIF(L113:L133,AS12)","v":0},{"$f":"AT12/(AV4-AT20)","v":0},0]
[12,2588,14,2601,13,2613,14,2619,null,null,0,1111,null,1221,0,0,0,null,null,1221,{"$f":"COUNTIF(L7:L27,T13)","v":0},{"$f":"U13/(W4-U20)","v":0},0,null,1221,{"$f":"COUNTIF(L28:L48,Y13)","v":0},{"$f":"Z13/(AB4-Z20)","v":0},0,null,1221,{"$f":"COUNTIF(L49:L70,AD13)","v":0},{"$f":"AE13/(AG4-AE20)","v":0},0,null,1221,{"$f":"COUNTIF(L71:L91,AI13)","v":0},{"$f":"AJ13/(AL4-AJ20)","v":0},0,null,1221,{"$f":"COUNTIF(L92:L112,AN13)","v":0},{"$f":"AO13/(AQ4-AO20)","v":0},0,null,1221,{"$f":"COUNTIF(L113:L133,AS13)","v":0},{"$f":"AT13/(AV4-AT20)","v":0},0]
[12,3086,14,3092,13,3098,14,3103,null,null,0,1111,null,1222,5,3.937007874015748E-2,-0.18373057448365368,null,null,1222,{"$f":"COUNTIF(L7:L27,T14)","v":0},{"$f":"U14/(W4-U20)","v":0},0,null,1222,{"$f":"COUNTIF(L28:L48,Y14)","v":0},{"$f":"Z14/(AB4-Z20)","v":0},0,null,1222,{"$f":"COUNTIF(L49:L70,AD14)","v":2},{"$f":"AE14/(AG4-AE20)","v":9.0909090909090912E-2},-0.31449378351248153,null,1222,{"$f":"COUNTIF(L71:L91,AI14)","v":1},{"$f":"AJ14/(AL4-AJ20)","v":4.7619047619047616E-2},-0.20915797251327431,null,1222,{"$f":"COUNTIF(L92:L112,AN14)","v":0},{"$f":"AO14/(AQ4-AO20)","v":0},0,null,1222,{"$f":"COUNTIF(L113:L133,AS14)","v":2},{"$f":"AT14/(AV4-AT20)","v":9.5238095238095233E-2},-0.32307784978845333]
[21,3204,21,3207,22,3214,23,3221,null,null,0,2222,null,2111,10,7.874015748031496E-2,-0.28872099148699237,null,null,2111,{"$f":"COUNTIF(L7:L27,T15)","v":0},{"$f":"U15/(W4-U20)","v":0},0,null,2111,{"$f":"COUNTIF(L28:L48,Y15)","v":0},{"$f":"Z15/(AB4-Z20)","v":0},0,null,2111,{"$f":"COUNTIF(L49:L70,AD15)","v":5},{"$f":"AE15/(AG4-AE20)","v":0.22727272727272727},-0.48579625539771243,null,2111,{"$f":"COUNTIF(L71:L91,AI15)","v":3},{"$f":"AJ15/(AL4-AJ20)","v":0.14285714285714285},-0.40105070315108626,null,2111,{"$f":"COUNTIF(L92:L112,AN15)","v":2},{"$f":"AO15/(AQ4-AO20)","v":9.5238095238095233E-2},-0.32307784978845333,null,2111,{"$f":"COUNTIF(L113:L133,AS15)","v":0},{"$f":"AT15/(AV4-AT20)","v":0},0]
[21,3316,21,3319,22,3327,23,3333,null,null,0,2222,null,2112,0,0,0,null,null,2112,{"$f":"COUNTIF(L7:L27,T16)","v":0},{"$f":"U16/(W4-U20)","v":0},0,null,2112,{"$f":"COUNTIF(L28:L48,Y16)","v":0},{"$f":"Z16/(AB4-Z20)","v":0},0,null,2112,{"$f":"COUNTIF(L49:L70,AD16)","v":0},{"$f":"AE16/(AG4-AE20)","v":0},0,null,2112,{"$f":"COUNTIF(L71:L91,AI16)","v":0},{"$f":"AJ16/(AL4-AJ20)","v":0},0,null,2112,{"$f":"COUNTIF(L92:L112,AN16)","v":0},{"$f":"AO16/(AQ4-AO20)","v":0},0,null,2112,{"$f":"COUNTIF(L113:L133,AS16)","v":0},{"$f":"AT16/(AV4-AT20)","v":0},0]
[21,3429,21,3437,22,3445,23,3462,null,null,0,2222,null,2121,0,0,0,null,null,2121,{"$f":"COUNTIF(L7:L27,T17)","v":0},{"$f":"U17/(W4-U20)","v":0},0,null,2121,{"$f":"COUNTIF(L28:L48,Y17)","v":0},{"$f":"Z17/(AB4-Z20)","v":0},0,null,2121,{"$f":"COUNTIF(L49:L70,AD17)","v":0},{"$f":"AE17/(AG4-AE20)","v":0},0,null,2121,{"$f":"COUNTIF(L71:L91,AI17)","v":0},{"$f":"AJ17/(AL4-AJ20)","v":0},0,null,2121,{"$f":"COUNTIF(L92:L112,AN17)","v":0},{"$f":"AO17/(AQ4-AO20)","v":0},0,null,2121,{"$f":"COUNTIF(L113:L133,AS17)","v":0},{"$f":"AT17/(AV4-AT20)","v":0},0]
[21,3617,21,3622,22,3626,23,3632,null,null,0,2222,null,2122,0,0,0,null,null,2122,{"$f":"COUNTIF(L7:L27,T18)","v":0},{"$f":"U18/(W4-U20)","v":0},0,null,2122,{"$f":"COUNTIF(L28:L48,Y18)","v":0},{"$f":"Z18/(AB4-Z20)","v":0},0,null,2122,{"$f":"COUNTIF(L49:L70,AD18)","v":0},{"$f":"AE18/(AG4-AE20)","v":0},0,null,2122,{"$f":"COUNTIF(L71:L91,AI18)","v":0},{"$f":"AJ18/(AL4-AJ20)","v":0},0,null,2122,{"$f":"COUNTIF(L92:L112,AN18)","v":0},{"$f":"AO18/(AQ4-AO20)","v":0},0,null,2122,{"$f":"COUNTIF(L113:L133,AS18)","v":0},{"$f":"AT18/(AV4-AT20)","v":0},0]
[21,3752,21,3758,22,3766,23,3777,null,null,0,2222,null,2211,3,2.3622047244094488E-2,-0.12764698077285849,null,null,2211,{"$f":"COUNTIF(L7:L27,T19)","v":0},{"$f":"U19/(W4-U20)","v":0},0,null,2211,{"$f":"COUNTIF(L28:L48,Y19)","v":0},{"$f":"Z19/(AB4-Z20)","v":0},0,null,2211,{"$f":"COUNTIF(L49:L70,AD19)","v":0},{"$f":"AE19/(AG4-AE20)","v":0},0,null,2211,{"$f":"COUNTIF(L71:L91,AI19)","v":2},{"$f":"AJ19/(AL4-AJ20)","v":9.5238095238095233E-2},-0.32307784978845333,null,2211,{"$f":"COUNTIF(L92:L112,AN19)","v":0},{"$f":"AO19/(AQ4-AO20)","v":0},0,null,2211,{"$f":"COUNTIF(L113:L133,AS19)","v":1},{"$f":"AT19/(AV4-AT20)","v":4.7619047619047616E-2},-0.20915797251327431]
[21,3878,21,3884,22,3891,23,3897,null,null,0,2222,null,2212,0,0,0,null,null,2212,{"$f":"COUNTIF(L7:L27,T20)","v":0},null,null,null,2212,{"$f":"COUNTIF(L28:L48,Y20)","v":0},null,null,null,2212,{"$f":"COUNTIF(L49:L70,AD20)","v":0},null,null,null,2212,{"$f":"COUNTIF(L71:L91,AI20)","v":0},null,null,null,2212,{"$f":"COUNTIF(L92:L112,AN20)","v":0},null,null,null,2212,{"$f":"COUNTIF(L113:L133,AS20)","v":0}]
[21,3993,21,4010,22,4015,23,4021,null,null,0,2222,null,2221,0,0,0,null,null,2221,{"$f":"COUNTIF(L7:L27,T21)","v":0},{"$f":"U21/(W4-U20)","v":0},{"$f":"IF(V21=0,0,(V21*((LOG(V21))/LOG(2))))","v":0},null,2221,{"$f":"COUNTIF(L28:L48,Y21)","v":0},{"$f":"Z21/(AB4-Z20)","v":0},{"$f":"IF(AA21=0,0,(AA21*((LOG(AA21))/LOG(2))))","v":0},null,2221,{"$f":"COUNTIF(L49:L70,AD21)","v":0},{"$f":"AE21/(AG4-AE20)","v":0},{"$f":"IF(AF21=0,0,(AF21*((LOG(AF21))/LOG(2))))","v":0},null,2221,{"$f":"COUNTIF(L71:L91,AI21)","v":0},{"$f":"AJ21/(AL4-AJ20)","v":0},{"$f":"IF(AK21=0,0,(AK21*((LOG(AK21))/LOG(2))))","v":0},null,2221,{"$f":"COUNTIF(L92:L112,AN21)","v":0},{"$f":"AO21/(AQ4-AO20)","v":0},{"$f":"IF(AP21=0,0,(AP21*((LOG(AP21))/LOG(2))))","v":0},null,2221,{"$f":"COUNTIF(L113:L133,AS21)","v":0},{"$f":"AT21/(AV4-AT20)","v":0},{"$f":"IF(AU21=0,0,(AU21*((LOG(AU21))/LOG(2))))","v":0}]
[12,4136,14,4141,13,4146,14,4152,null,null,0,1111,null,2222,79,0.62204724409448819,-0.42604260747251937,null,null,2222,{"$f":"COUNTIF(L7:L27,T22)","v":17},{"$f":"U22/(W4-U20)","v":0.80952380952380953},{"$f":"IF(V22=0,0,(V22*((LOG(V22))/LOG(2))))","v":-0.24678704218967404},null,2222,{"$f":"COUNTIF(L28:L48,Y22)","v":14},{"$f":"Z22/(AB4-Z20)","v":0.66666666666666663},{"$f":"IF(AA22=0,0,(AA22*((LOG(AA22))/LOG(2))))","v":-0.38997500048077083},null,2222,{"$f":"COUNTIF(L49:L70,AD22)","v":10},{"$f":"AE22/(AG4-AE20)","v":0.45454545454545453},{"$f":"IF(AF22=0,0,(AF22*((LOG(AF22))/LOG(2))))","v":-0.51704705624997038},null,2222,{"$f":"COUNTIF(L71:L91,AI22)","v":10},{"$f":"AJ22/(AL4-AJ20)","v":0.47619047619047616},{"$f":"IF(AK22=0,0,(AK22*((LOG(AK22))/LOG(2))))","v":-0.50970920375780859},null,2222,{"$f":"COUNTIF(L92:L112,AN22)","v":13},{"$f":"AO22/(AQ4-AO20)","v":0.61904761904761907},{"$f":"IF(AP22=0,0,(AP22*((LOG(AP22))/LOG(2))))","v":-0.42830524572808026},null,2222,{"$f":"COUNTIF(L113:L133,AS22)","v":15},{"$f":"AT22/(AV4-AT20)","v":0.7142857142857143},{"$f":"IF(AU22=0,0,(AU22*((LOG(AU22))/LOG(2))))","v":-0.34673344797874411}]
[21,4258,21,4263,22,4268,23,4273,null,null,0,2222,null,null,null,{"$f":"SUM(P7:P22)","v":1},{"$f":"-SUM(Q7:Q22)","v":1.5179035379554682},null,null,null,null,{"$f":"SUM(V7:V22)","v":1},{"$f":"-SUM(W7:W22)","v":0.70246655129039026},null,null,null,{"$f":"SUM(AA7:AA22)","v":1},{"$f":"-SUM(AB7:AB22)","v":0.91829583405448945},null,null,null,{"$f":"SUM(AF7:AF22)","v":1},{"$f":"-SUM(AG7:AG22)","v":1.8031333505578768},null,null,null,{"$f":"SUM(AK7:AK22)","v":0.99999999999999989},{"$f":"-SUM(AL7:AL22)","v":1.9359455691847651},null,null,null,{"$f":"SUM(AP7:AP22)","v":1},{"$f":"-SUM(AQ7:AQ22)","v":1.2677702161044204},null,null,null,{"$f":"SUM(AU7:AU22)","v":1},{"$f":"-SUM(AV7:AV22)","v":1.280019973431558}]
[21,4380,21,4386,22,4394,23,4404,null,null,0,2222,null,null,null,"U=",{"$f":"Q23/(LOG(Q4)/LOG(2))","v":0.21719445160095438},null,null,null,null,"U1=",{"$f":"W23/(LOG(W4)/LOG(2))","v":0.15993073443357403},null,null,null,"U2=",{"$f":"AB23/(LOG(AB4)/LOG(2))","v":0.20906864091656147},null,null,null,"U3=",{"$f":"AG23/(LOG(AG4)/LOG(2))","v":0.40434151810334834},null,null,null,"U4=",{"$f":"AL23/(LOG(AL4)/LOG(2))","v":0.44075720920005967},null,null,null,"U5=",{"$f":"AQ23/(LOG(AQ4)/LOG(2))","v":0.28863356039108323},null,null,null,"U6=",{"$f":"AV23/(LOG(AV4)/LOG(2))","v":0.29142246568822994}]
[21,4501,21,4510,22,4516,23,4522,null,null,0,2222]
[21,4627,21,4642,22,4648,23,4654,null,null,0,2222]
[21,4761,21,4767,22,4774,23,4785,null,null,0,2222,null,"Total Target Seq"]
[21,4885,21,4897,22,4903,23,4909,null,null,0,2222,null,{"$f":"COUNTIF(L7:L133,G3)","v":0},null,21,21,22,21,21,21]
[21,5005,21,5013,22,5020,23,5025,null,null,0,2222,null,null,null,"% of reinforcement given in 6 equal intervals based on number of trials "]
[21,5159,21,5171,22,5179,23,5184,null,null,0,2222,null,null,null,"%_1","%_2","%_3","%_4","%_5","%_6"]
[21,5291,21,5299,22,5304,23,5309,null,null,0,2222,null,null,"target sequence",{"$f":"$G$3","v":2212},2212,2212,2212,2212,2212]
[21,5417,21,5436,22,5442,23,5454,null,null,0,2222,null,null,"total reinforcement",{"$f":"U20","v":0},{"$f":"Z20","v":0},{"$f":"AE20","v":0},{"$f":"AJ20","v":0},{"$f":"AO20","v":0},{"$f":"AT20","v":0}]
[12,5606,14,5612,13,5619,14,5624,null,null,0,1111,null,null,"% target"]
[12,5750,14,5757,13,5762,14,5769,null,null,0,1111,null,null,"CCRF"]
[21,5872,21,5875,22,5889,23,5895,null,null,0,2222,null,null,"% CCRf"]
[12,6006,14,6010,13,6015,14,6021,null,null,0,1111,null,null,"average response rate",{"$f":"H27/P28","v":227.85714285714286},{"$f":"(H48-H27)/Q28","v":135.95238095238096},{"$f":"(H70-H48)/R28","v":137.72727272727272},{"$f":"(H91-H70)/S28","v":143.61904761904762},{"$f":"(H112-H91)/T28","v":148.47619047619048},{"$f":"(H133-H112)/U28","v":139.14285714285714}]
[12,6151,14,6157,13,6163,14,6169,null,null,0,1111]
[21,6277,21,6283,22,6291,23,6296,null,null,0,2222]
[21,6401,21,6413,22,6419,23,6425,null,null,0,2222]
[21,6537,21,6548,22,6555,23,6561,null,null,0,2222]
[12,6661,14,6666,13,6681,14,6694,null,null,0,1111]
[21,6795,21,6801,22,6812,23,6827,null,null,0,2222]
[21,6928,21,6939,22,6946,23,6958,null,null,0,2222]
[21,7070,21,7077,22,7090,23,7095,null,null,0,2222]
[12,7205,14,7210,13,7216,14,7222,null,null,0,1111]
[12,7341,14,7349,13,7354,14,7361,null,null,0,1111]
[21,7469,21,7479,22,7491,23,7503,null,null,0,2222]
[21,7606,21,7625,22,7632,23,7640,null,null,0,2222]
[12,7809,14,7815,13,7822,14,7827,null,null,0,1111]
[21,7924,21,7929,22,7934,23,7944,null,null,0,2222]
[21,8045,12,8057,13,8062,14,8067,null,null,0,2111]
[21,8179,21,8190,22,8198,23,8204,null,null,0,2222]
[12,8312,14,8317,13,8323,14,8329,null,null,0,1111]
[12,8471,14,8481,13,8487,14,8493,null,null,0,1111]
[21,8608,21,8613,22,8618,23,8624,null,null,0,2222]
[21,8728,21,8740,22,8746,23,8759,null,null,0,2222]
[21,8868,21,8879,22,8887,23,8894,null,null,0,2222]
[21,9002,21,9014,22,9021,23,9028,null,null,0,2222]
[12,9220,14,9225,13,9231,14,9237,null,null,0,1111]
[12,9332,23,9347,24,9349,23,9359,null,null,0,1222]
[21,9480,21,9485,22,9492,23,9498,null,null,0,2222]
[12,9592,23,9604,24,9608,23,9613,null,null,0,1222]
[21,9727,21,9738,22,9744,23,9750,null,null,0,2222]
[21,9852,12,9865,13,9871,14,9877,null,null,0,2111]
[21,9982,12,9993,13,9999,14,10005,null,null,0,2111]
[12,10109,14,10119,13,10125,14,10145,null,null,0,1111]
[21,10259,12,10270,13,10276,14,10282,null,null,0,2111]
[21,10384,12,10398,13,10404,14,10410,null,null,0,2111]
[21,10510,21,10523,22,10536,23,10547,null,null,0,2222]
[21,10645,21,10652,22,10664,23,10670,null,null,0,2222]
[21,10773,12,10788,13,10794,14,10800,null,null,0,2111]
[21,10917,21,10925,22,10931,23,10937,null,null,0,2222]
[21,11038,21,11047,22,11052,23,11063,null,null,0,2222]
[21,11172,21,11179,22,11186,23,11192,null,null,0,2222]
[12,11306,14,11311,13,11317,14,11323,null,null,0,1111]
[21,11429,21,11434,22,11438,23,11444,null,null,0,2222]
[12,11660,14,11669,13,11675,14,11681,null,null,0,1111]
[12,11786,14,11791,13,11802,14,11808,null,null,0,1111]
[21,11924,21,11929,22,11935,23,11941,null,null,0,2222]
[21,12047,21,12056,22,12066,23,12072,null,null,0,2222]
[21,12173,21,12176,11,12189,12,12194,null,null,0,2211]
[21,12308,21,12316,22,12321,23,12327,null,null,0,2222]
[21,12433,21,12448,22,12455,23,12462,null,null,0,2222]
[21,12573,21,12580,22,12592,23,12597,null,null,0,2222]
[12,12697,23,12713,24,12719,23,12725,null,null,0,1222]
[21,12833,12,12846,13,12851,14,12857,null,null,0,2111]
[21,12954,12,12978,13,12983,14,12989,null,null,0,2111]
[12,13207,14,13225,13,13240,14,13247,null,null,0,1111]
[21,13339,21,13353,11,13366,12,13371,null,null,0,2211]
[21,13482,21,13494,22,13501,23,13507,null,null,0,2222]
[12,13670,14,13673,13,13680,14,13686,null,null,0,1111]
[12,13880,14,13892,13,13898,14,13911,null,null,0,1111]
[21,14017,21,14029,22,14034,23,14040,null,null,0,2222]
[12,14244,14,14250,13,14255,14,14261,null,null,0,1111]
[21,14361,21,14392,22,14399,23,14406,null,null,0,2222]
[12,14515,14,14521,13,14530,14,14536,null,null,0,1111]
[21,14629,21,14646,22,14652,23,14658,null,null,0,2222]
[12,14798,14,14802,13,14811,14,14817,null,null,0,1111]
[12,14989,14,14996,13,15004,14,15017,null,null,0,1111]
[21,15118,21,15121,22,15138,23,15151,null,null,0,2222]
[21,15296,12,15310,13,15317,14,15328,null,null,0,2111]
[21,15436,21,15452,22,15458,23,15464,null,null,0,2222]
[21,15561,21,15580,22,15587,23,15594,null,null,0,2222]
[21,15699,21,15706,22,15712,23,15719,null,null,0,2222]
[12,15844,14,15853,13,15858,14,15864,null,null,0,1111]
[21,15960,21,15967,22,15979,23,15984,null,null,0,2222]
[21,16101,21,16106,22,16117,23,16122,null,null,0,2222]
[21,16227,21,16237,22,16247,23,16253,null,null,0,2222]
[21,16365,21,16369,22,16374,23,16380,null,null,0,2222]
[21,16477,21,16487,22,16497,23,16503,null,null,0,2222]
[21,16655,12,16666,13,16673,14,16679,null,null,0,2111]
[21,16784,21,16791,22,16798,23,16804,null,null,0,2222]
[21,16905,21,16919,22,16926,23,16931,null,null,0,2222]
[21,17034,21,17043,22,17050,23,17056,null,null,0,2222]
[12,17150,14,17154,13,17166,14,17172,null,null,0,1111]
[21,17269,21,17284,22,17289,23,17296,null,null,0,2222]
[21,17392,21,17411,22,17417,23,17423,null,null,0,2222]
[12,17544,14,17551,13,17556,14,17562,null,null,0,1111]
[21,17659,21,17668,22,17676,23,17684,null,null,0,2222]
[21,17781,21,17791,22,17797,23,17804,null,null,0,2222]
[12,17900,23,17906,24,17912,23,17917,null,null,0,1222]
[21,18018,21,18027,22,18032,23,18038,null,null,0,2222]
[12,18225,14,18233,13,18240,14,18258,null,null,0,1111]
[21,18364,21,18373,22,18381,23,18389,null,null,0,2222]
[21,18566,21,18577,22,18587,23,18593,null,null,0,2222]
[21,18702,21,18710,22,18716,23,18721,null,null,0,2222]
[21,18825,21,18844,22,18849,23,18855,null,null,0,2222]
[21,18974,21,18982,22,18989,23,18994,null,null,0,2222]
[21,19091,21,19093,22,19102,23,19110,null,null,0,2222]
[21,19223,21,19228,22,19233,23,19239,null,null,0,2222]
[21,19351,21,19358,22,19363,23,19369,null,null,0,2222]
[12,19581,23,19594,24,19598,23,19604,null,null,0,1222]
[21,19704,21,19707,11,19721,12,19726,null,null,0,2211]

{"sheet":"!LB25955..Du","index":25,"n_rows":132,"n_cols":48,"rows_kept":132,"cut":false,"hidden":false,"merged":[[1,1,1,2],[5,13,5,14],[26,13,26,14],[27,13,27,14],[4,19,4,22],[5,19,5,20],[4,39,4,42],[5,39,5,40],[4,44,4,47],[5,44,5,45],[4,24,4,27],[5,24,5,25],[4,29,4,32],[5,29,5,30],[4,34,4,37],[5,34,5,35]]}
["Report for:!LB25955..Du"]
["Date:","<date>"]
["Hen:","<hen>",null,null,null,"Correct Sequence",{"$f":"Start!J2","v":2212},null,null,null,null,null,null,null,null,"Total Sequences in Data",{"$f":"4994-COUNTBLANK(L7:L5000)","v":126},null,null,null,null,"Total Sequences in Block Data",{"$f":"COUNTA(L7:L27)","v":21},null,null,null,"Total Sequences in Block Data",{"$f":"COUNTA(L28:L48)","v":21},null,null,null,"Total Sequences in Block Data",{"$f":"COUNTA(L49:L69)","v":21},null,null,null,"Total Sequences in Block Data",{"$f":"COUNTA(L70:L90)","v":21},null,null,null,"Total Sequences in Block Data",{"$f":"COUNTA(L91:L111)","v":21},null,null,null,"Total Sequences in Block Data",{"$f":"COUNTA(L112:L132)","v":21}]
[null,null,null,null,null,null,null,null,null,null,null,null,null,null,null,"Total Sequences in Summary",{"$f":"SUM(O7:O22)","v":126},null,null,null,null,"Total Sequences in Block Summary",{"$f":"SUM(U7:U22)","v":21},null,null,null,"Total Sequences in Block Summary",{"$f":"SUM(Z7:Z22)","v":21},null,null,null,"Total Sequences in Block Summary",{"$f":"SUM(AE7:AE22)","v":21},null,null,null,"Total Sequences in Block Summary",{"$f":"SUM(AJ7:AJ22)","v":21},null,null,null,"Total Sequences in Block Summary",{"$f":"SUM(AO7:AO22)","v":21},null,null,null,"Total Sequences in Block Summary",{"$f":"SUM(AT7:AT22)","v":21}]
[null,null,null,null,null,null,null,null,null,null,null,null,null,null,null,null,null,null,null,"Block 1",null,null,null,null,"Block 2",null,null,null,null,"Block 3",null,null,null,null,"Block 4",null,null,null,null,"Block 5",null,null,null,null,"Block 6"]
["Sequence\nComponent\n1","Time\n1","Sequence\nComponent\n2","Time\n2","Sequence\nComponent\n3","Time\n3","Sequence\nComponent\n4","Time\n4","Sequence\nComponent\n5","Time\n5","Correct?\n0=No 1=Yes","Sequence",null,"Frequency",null,"Relative Frequency","Variability",null,null,"Frequency",null,"Relative Frequency","Variability",null,"Frequency",null,"Relative Frequency","Variability",null,"Frequency",null,"Relative Frequency","Variability",null,"Frequency",null,"Relative Frequency","Variability",null,"Frequency",null,"Relative Frequency","Variability",null,"Frequency",null,"Relative Frequency","Variability"]
[21,7,21,17,22,25,23,32,null,null,0,2222,null,1111,{"$f":"COUNTIF($L$7:$L$500,N7)","v":24},{"$f":"O7/$Q$4","v":0.19047619047619047},{"$f":"IF(P7=0,0,(P7*((LOG(P7))/LOG(2))))","v":-0.4556795091007162},null,null,{"$f":"N7","v":1111},{"$f":"COUNTIF(L7:L27,T7)","v":3},{"$f":"U7/(W4-U20)","v":0.14285714285714285},{"$f":"IF(V7=0,0,(V7*((LOG(V7))/LOG(2))))","v":-0.40105070315108626},null,{"$f":"N7","v":1111},{"$f":"COUNTIF(L28:L48,Y7)","v":6},{"$f":"Z7/(AB4-Z20)","v":0.2857142857142857},{"$f":"IF(AA7=0,0,(AA7*((LOG(AA7))/LOG(2))))","v":-0.51638712058788683},null,{"$f":"N7","v":1111},{"$f":"COUNTIF(L49:L69,AD7)","v":6},{"$f":"AE7/(AG4-AE20)","v":0.2857142857142857},{"$f":"IF(AF7=0,0,(AF7*((LOG(AF7))/LOG(2))))","v":-0.51638712058788683},null,{"$f":"N7","v":1111},{"$f":"COUNTIF(L70:L90,AI7)","v":4},{"$f":"AJ7/(AL4-AJ20)","v":0.19047619047619047},{"$f":"IF(AK7=0,0,(AK7*((LOG(AK7))/LOG(2))))","v":-0.4556795091007162},null,{"$f":"N7","v":1111},{"$f":"COUNTIF(L91:L111,AN7)","v":4},{"$f":"AO7/(AQ4-AO20)","v":0.19047619047619047},{"$f":"IF(AP7=0,0,(AP7*((LOG(AP7))/LOG(2))))","v":-0.4556795091007162},null,{"$f":"N7","v":1111},{"$f":"COUNTIF(L112:L132,AS7)","v":1},{"$f":"AT7/(AV4-AT20)","v":4.7619047619047616E-2},{"$f":"IF(AU7=0,0,(AU7*((LOG(AU7))/LOG(2))))","v":-0.20915797251327431}]
[21,131,21,143,22,160,23,167,null,null,0,2222,null,1112,0,0,0,null,null,1112,{"$f":"COUNTIF(L7:L27,T8)","v":0},{"$f":"U8/(W4-U20)","v":0},0,null,1112,{"$f":"COUNTIF(L28:L48,Y8)","v":0},{"$f":"Z8/(AB4-Z20)","v":0},0,null,1112,{"$f":"COUNTIF(L49:L69,AD8)","v":0},{"$f":"AE8/(AG4-AE20)","v":0},0,null,1112,{"$f":"COUNTIF(L70:L90,AI8)","v":0},{"$f":"AJ8/(AL4-AJ20)","v":0},0,null,1112,{"$f":"COUNTIF(L91:L111,AN8)","v":0},{"$f":"AO8/(AQ4-AO20)","v":0},0,null,1112,{"$f":"COUNTIF(L112:L132,AS8)","v":0},{"$f":"AT8/(AV4-AT20)","v":0},0]
[12,265,14,271,24,281,23,285,null,null,0,1122,null,1121,0,0,0,null,null,1121,{"$f":"COUNTIF(L7:L27,T9)","v":0},{"$f":"U9/(W4-U20)","v":0},0,null,1121,{"$f":"COUNTIF(L28:L48,Y9)","v":0},{"$f":"Z9/(AB4-Z20)","v":0},0,null,1121,{"$f":"COUNTIF(L49:L69,AD9)","v":0},{"$f":"AE9/(AG4-AE20)","v":0},0,null,1121,{"$f":"COUNTIF(L70:L90,AI9)","v":0},{"$f":"AJ9/(AL4-AJ20)","v":0},0,null,1121,{"$f":"COUNTIF(L91:L111,AN9)","v":0},{"$f":"AO9/(AQ4-AO20)","v":0},0,null,1121,{"$f":"COUNTIF(L112:L132,AS9)","v":0},{"$f":"AT9/(AV4-AT20)","v":0},0]
[21,387,21,394,22,401,23,408,null,null,0,2222,null,1122,1,7.9365079365079361E-3,-5.5375237488094572E-2,null,null,1122,{"$f":"COUNTIF(L7:L27,T10)","v":1},{"$f":"U10/(W4-U20)","v":4.7619047619047616E-2},-0.20915797251327431,null,1122,{"$f":"COUNTIF(L28:L48,Y10)","v":0},{"$f":"Z10/(AB4-Z20)","v":0},0,null,1122,{"$f":"COUNTIF(L49:L69,AD10)","v":0},{"$f":"AE10/(AG4-AE20)","v":0},0,null,1122,{"$f":"COUNTIF(L70:L90,AI10)","v":0},{"$f":"AJ10/(AL4-AJ20)","v":0},0,null,1122,{"$f":"COUNTIF(L91:L111,AN10)","v":0},{"$f":"AO10/(AQ4-AO20)","v":0},0,null,1122,{"$f":"COUNTIF(L112:L132,AS10)","v":0},{"$f":"AT10/(AV4-AT20)","v":0},0]
[21,503,21,507,22,527,23,534,null,null,0,2222,null,1211,0,0,0,null,null,1211,{"$f":"COUNTIF(L7:L27,T11)","v":0},{"$f":"U11/(W4-U20)","v":0},0,null,1211,{"$f":"COUNTIF(L28:L48,Y11)","v":0},{"$f":"Z11/(AB4-Z20)","v":0},0,null,1211,{"$f":"COUNTIF(L49:L69,AD11)","v":0},{"$f":"AE11/(AG4-AE20)","v":0},0,null,1211,{"$f":"COUNTIF(L70:L90,AI11)","v":0},{"$f":"AJ11/(AL4-AJ20)","v":0},0,null,1211,{"$f":"COUNTIF(L91:L111,AN11)","v":0},{"$f":"AO11/(AQ4-AO20)","v":0},0,null,1211,{"$f":"COUNTIF(L112:L132,AS11)","v":0},{"$f":"AT11/(AV4-AT20)","v":0},0]
[21,651,21,658,22,665,23,678,null,null,0,2222,null,1212,0,0,0,null,null,1212,{"$f":"COUNTIF(L7:L27,T12)","v":0},{"$f":"U12/(W4-U20)","v":0},0,null,1212,{"$f":"COUNTIF(L28:L48,Y12)","v":0},{"$f":"Z12/(AB4-Z20)","v":0},0,null,1212,{"$f":"COUNTIF(L49:L69,AD12)","v":0},{"$f":"AE12/(AG4-AE20)","v":0},0,null,1212,{"$f":"COUNTIF(L70:L90,AI12)","v":0},{"$f":"AJ12/(AL4-AJ20)","v":0},0,null,1212,{"$f":"COUNTIF(L91:L111,AN12)","v":0},{"$f":"AO12/(AQ4-AO20)","v":0},0,null,1212,{"$f":"COUNTIF(L112:L132,AS12)","v":0},{"$f":"AT12/(AV4-AT20)","v":0},0]
[21,774,21,788,22,797,23,807,null,null,0,2222,null,1221,0,0,0,null,null,1221,{"$f":"COUNTIF(L7:L27,T13)","v":0},{"$f":"U13/(W4-U20)","v":0},0,null,1221,{"$f":"COUNTIF(L28:L48,Y13)","v":0},{"$f":"Z13/(AB4-Z20)","v":0},0,null,1221,{"$f":"COUNTIF(L49:L69,AD13)","v":0},{"$f":"AE13/(AG4-AE20)","v":0},0,null,1221,{"$f":"COUNTIF(L70:L90,AI13)","v":0},{"$f":"AJ13/(AL4-AJ20)","v":0},0,null,1221,{"$f":"COUNTIF(L91:L111,AN13)","v":0},{"$f":"AO13/(AQ4-AO20)","v":0},0,null,1221,{"$f":"COUNTIF(L112:L132,AS13)","v":0},{"$f":"AT13/(AV4-AT20)","v":0},0]
[21,909,21,920,22,928,23,937,null,null,0,2222,null,1222,2,1.5873015873015872E-2,-9.4877459103173273E-2,null,null,1222,{"$f":"COUNTIF(L7:L27,T14)","v":0},{"$f":"U14/(W4-U20)","v":0},0,null,1222,{"$f":"COUNTIF(L28:L48,Y14)","v":0},{"$f":"Z14/(AB4-Z20)","v":0},0,null,1222,{"$f":"COUNTIF(L49:L69,AD14)","v":0},{"$f":"AE14/(AG4-AE20)","v":0},0,null,1222,{"$f":"COUNTIF(L70:L90,AI14)","v":0},{"$f":"AJ14/(AL4-AJ20)","v":0},0,null,1222,{"$f":"COUNTIF(L91:L111,AN14)","v":2},{"$f":"AO14/(AQ4-AO20)","v":9.5238095238095233E-2},-0.32307784978845333,null,1222,{"$f":"COUNTIF(L112:L132,AS14)","v":0},{"$f":"AT14/(AV4-AT20)","v":0},0]
[21,1037,21,1039,11,1055,12,1059,null,null,0,2211,null,2111,7,5.5555555555555552E-2,-0.23166250008012845,null,null,2111,{"$f":"COUNTIF(L7:L27,T15)","v":2},{"$f":"U15/(W4-U20)","v":9.5238095238095233E-2},-0.32307784978845333,null,2111,{"$f":"COUNTIF(L28:L48,Y15)","v":1},{"$f":"Z15/(AB4-Z20)","v":4.7619047619047616E-2},-0.20915797251327431,null,2111,{"$f":"COUNTIF(L49:L69,AD15)","v":1},{"$f":"AE15/(AG4-AE20)","v":4.7619047619047616E-2},-0.20915797251327431,null,2111,{"$f":"COUNTIF(L70:L90,AI15)","v":1},{"$f":"AJ15/(AL4-AJ20)","v":4.7619047619047616E-2},-0.20915797251327431,null,2111,{"$f":"COUNTIF(L91:L111,AN15)","v":2},{"$f":"AO15/(AQ4-AO20)","v":9.5238095238095233E-2},-0.32307784978845333,null,2111,{"$f":"COUNTIF(L112:L132,AS15)","v":0},{"$f":"AT15/(AV4-AT20)","v":0},0]
[21,1156,12,1170,13,1176,14,1186,null,null,0,2111,null,2112,0,0,0,null,null,2112,{"$f":"COUNTIF(L7:L27,T16)","v":0},{"$f":"U16/(W4-U20)","v":0},0,null,2112,{"$f":"COUNTIF(L28:L48,Y16)","v":0},{"$f":"Z16/(AB4-Z20)","v":0},0,null,2112,{"$f":"COUNTIF(L49:L69,AD16)","v":0},{"$f":"AE16/(AG4-AE20)","v":0},0,null,2112,{"$f":"COUNTIF(L70:L90,AI16)","v":0},{"$f":"AJ16/(AL4-AJ20)","v":0},0,null,2112,{"$f":"COUNTIF(L91:L111,AN16)","v":0},{"$f":"AO16/(AQ4-AO20)","v":0},0,null,2112,{"$f":"COUNTIF(L112:L132,AS16)","v":0},{"$f":"AT16/(AV4-AT20)","v":0},0]
[12,1295,14,1310,13,1316,14,1323,null,null,0,1111,null,2121,0,0,0,null,null,2121,{"$f":"COUNTIF(L7:L27,T17)","v":0},{"$f":"U17/(W4-U20)","v":0},0,null,2121,{"$f":"COUNTIF(L28:L48,Y17)","v":0},{"$f":"Z17/(AB4-Z20)","v":0},0,null,2121,{"$f":"COUNTIF(L49:L69,AD17)","v":0},{"$f":"AE17/(AG4-AE20)","v":0},0,null,2121,{"$f":"COUNTIF(L70:L90,AI17)","v":0},{"$f":"AJ17/(AL4-AJ20)","v":0},0,null,2121,{"$f":"COUNTIF(L91:L111,AN17)","v":0},{"$f":"AO17/(AQ4-AO20)","v":0},0,null,2121,{"$f":"COUNTIF(L112:L132,AS17)","v":0},{"$f":"AT17/(AV4-AT20)","v":0},0]
[21,1422,21,1428,22,1436,23,1443,null,null,0,2222,null,2122,0,0,0,null,null,2122,{"$f":"COUNTIF(L7:L27,T18)","v":0},{"$f":"U18/(W4-U20)","v":0},0,null,2122,{"$f":"COUNTIF(L28:L48,Y18)","v":0},{"$f":"Z18/(AB4-Z20)","v":0},0,null,2122,{"$f":"COUNTIF(L49:L69,AD18)","v":0},{"$f":"AE18/(AG4-AE20)","v":0},0,null,2122,{"$f":"COUNTIF(L70:L90,AI18)","v":0},{"$f":"AJ18/(AL4-AJ20)","v":0},0,null,2122,{"$f":"COUNTIF(L91:L111,AN18)","v":0},{"$f":"AO18/(AQ4-AO20)","v":0},0,null,2122,{"$f":"COUNTIF(L112:L132,AS18)","v":0},{"$f":"AT18/(AV4-AT20)","v":0},0]
[12,1670,14,1676,13,1681,14,1687,null,null,0,1111,null,2211,1,7.9365079365079361E-3,-5.5375237488094572E-2,null,null,2211,{"$f":"COUNTIF(L7:L27,T19)","v":1},{"$f":"U19/(W4-U20)","v":4.7619047619047616E-2},-0.20915797251327431,null,2211,{"$f":"COUNTIF(L28:L48,Y19)","v":0},{"$f":"Z19/(AB4-Z20)","v":0},0,null,2211,{"$f":"COUNTIF(L49:L69,AD19)","v":0},{"$f":"AE19/(AG4-AE20)","v":0},0,null,2211,{"$f":"COUNTIF(L70:L90,AI19)","v":0},{"$f":"AJ19/(AL4-AJ20)","v":0},0,null,2211,{"$f":"COUNTIF(L91:L111,AN19)","v":0},{"$f":"AO19/(AQ4-AO20)","v":0},0,null,2211,{"$f":"COUNTIF(L112:L132,AS19)","v":0},{"$f":"AT19/(AV4-AT20)","v":0},0]
[21,1794,21,1801,22,1807,23,1813,null,null,0,2222,null,2212,0,0,0,null,null,2212,{"$f":"COUNTIF(L7:L27,T20)","v":0},null,null,null,2212,{"$f":"COUNTIF(L28:L48,Y20)","v":0},null,null,null,2212,{"$f":"COUNTIF(L49:L69,AD20)","v":0},null,null,null,2212,{"$f":"COUNTIF(L70:L90,AI20)","v":0},null,null,null,2212,{"$f":"COUNTIF(L91:L111,AN20)","v":0},null,null,null,2212,{"$f":"COUNTIF(L112:L132,AS20)","v":0}]
[21,1909,21,1914,22,1920,23,1927,null,null,0,2222,null,2221,0,0,0,null,null,2221,{"$f":"COUNTIF(L7:L27,T21)","v":0},{"$f":"U21/(W4-U20)","v":0},{"$f":"IF(V21=0,0,(V21*((LOG(V21))/LOG(2))))","v":0},null,2221,{"$f":"COUNTIF(L28:L48,Y21)","v":0},{"$f":"Z21/(AB4-Z20)","v":0},{"$f":"IF(AA21=0,0,(AA21*((LOG(AA21))/LOG(2))))","v":0},null,2221,{"$f":"COUNTIF(L49:L69,AD21)","v":0},{"$f":"AE21/(AG4-AE20)","v":0},{"$f":"IF(AF21=0,0,(AF21*((LOG(AF21))/LOG(2))))","v":0},null,2221,{"$f":"COUNTIF(L70:L90,AI21)","v":0},{"$f":"AJ21/(AL4-AJ20)","v":0},{"$f":"IF(AK21=0,0,(AK21*((LOG(AK21))/LOG(2))))","v":0},null,2221,{"$f":"COUNTIF(L91:L111,AN21)","v":0},{"$f":"AO21/(AQ4-AO20)","v":0},{"$f":"IF(AP21=0,0,(AP21*((LOG(AP21))/LOG(2))))","v":0},null,2221,{"$f":"COUNTIF(L112:L132,AS21)","v":0},{"$f":"AT21/(AV4-AT20)","v":0},{"$f":"IF(AU21=0,0,(AU21*((LOG(AU21))/LOG(2))))","v":0}]
[21,2033,21,2036,22,2046,23,2054,null,null,0,2222,null,2222,91,0.72222222222222221,-0.33907270460643685,null,null,2222,{"$f":"COUNTIF(L7:L27,T22)","v":14},{"$f":"U22/(W4-U20)","v":0.66666666666666663},{"$f":"IF(V22=0,0,(V22*((LOG(V22))/LOG(2))))","v":-0.38997500048077083},null,2222,{"$f":"COUNTIF(L28:L48,Y22)","v":14},{"$f":"Z22/(AB4-Z20)","v":0.66666666666666663},{"$f":"IF(AA22=0,0,(AA22*((LOG(AA22))/LOG(2))))","v":-0.38997500048077083},null,2222,{"$f":"COUNTIF(L49:L69,AD22)","v":14},{"$f":"AE22/(AG4-AE20)","v":0.66666666666666663},{"$f":"IF(AF22=0,0,(AF22*((LOG(AF22))/LOG(2))))","v":-0.38997500048077083},null,2222,{"$f":"COUNTIF(L70:L90,AI22)","v":16},{"$f":"AJ22/(AL4-AJ20)","v":0.76190476190476186},{"$f":"IF(AK22=0,0,(AK22*((LOG(AK22))/LOG(2))))","v":-0.29890851259334122},null,2222,{"$f":"COUNTIF(L91:L111,AN22)","v":13},{"$f":"AO22/(AQ4-AO20)","v":0.61904761904761907},{"$f":"IF(AP22=0,0,(AP22*((LOG(AP22))/LOG(2))))","v":-0.42830524572808026},null,2222,{"$f":"COUNTIF(L112:L132,AS22)","v":20},{"$f":"AT22/(AV4-AT20)","v":0.95238095238095233},{"$f":"IF(AU22=0,0,(AU22*((LOG(AU22))/LOG(2))))","v":-6.7037455134664775E-2}]
[21,2149,12,2163,13,2168,14,2186,null,null,0,2111,null,null,null,{"$f":"SUM(P7:P22)","v":1},{"$f":"-SUM(Q7:Q22)","v":1.232042647866644},null,null,null,null,{"$f":"SUM(V7:V22)","v":1},{"$f":"-SUM(W7:W22)","v":1.5324194984468589},null,null,null,{"$f":"SUM(AA7:AA22)","v":1},{"$f":"-SUM(AB7:AB22)","v":1.115520093581932},null,null,null,{"$f":"SUM(AF7:AF22)","v":1},{"$f":"-SUM(AG7:AG22)","v":1.115520093581932},null,null,null,{"$f":"SUM(AK7:AK22)","v":1},{"$f":"-SUM(AL7:AL22)","v":0.96374599420733165},null,null,null,{"$f":"SUM(AP7:AP22)","v":1},{"$f":"-SUM(AQ7:AQ22)","v":1.5301404544057031},null,null,null,{"$f":"SUM(AU7:AU22)","v":1},{"$f":"-SUM(AV7:AV22)","v":0.27619542764793908}]
[21,2284,21,2296,22,2302,23,2310,null,null,0,2222,null,null,null,"U=",{"$f":"Q23/(LOG(Q4)/LOG(2))","v":0.17657922017963576},null,null,null,null,"U1=",{"$f":"W23/(LOG(W4)/LOG(2))","v":0.34888632831945632},null,null,null,"U2=",{"$f":"AB23/(LOG(AB4)/LOG(2))","v":0.25397073713224672},null,null,null,"U3=",{"$f":"AG23/(LOG(AG4)/LOG(2))","v":0.25397073713224672},null,null,null,"U4=",{"$f":"AL23/(LOG(AL4)/LOG(2))","v":0.21941629018187539},null,null,null,"U5=",{"$f":"AQ23/(LOG(AQ4)/LOG(2))","v":0.34836745779581507},null,null,null,"U6=",{"$f":"AV23/(LOG(AV4)/LOG(2))","v":6.2881481701567571E-2}]
[21,2438,21,2446,22,2451,23,2460,null,null,0,2222]
[12,2638,14,2646,13,2652,14,2663,null,null,0,1111]
[21,2756,21,2762,22,2773,23,2779,null,null,0,2222,null,"Total Target Seq"]
[21,2892,21,2905,22,2911,23,2918,null,null,0,2222,null,{"$f":"COUNTIF(L7:L132,G3)","v":0},null,21,21,21,21,21,21]
[21,3023,21,3029,22,3035,23,3041,null,null,0,2222,null,null,null,"% of reinforcement given in 6 equal intervals based on number of trials "]
[21,3149,21,3156,22,3162,23,3168,null,null,0,2222,null,null,null,"%_1","%_2","%_3","%_4","%_5","%_6"]
[21,3273,21,3282,22,3289,23,3301,null,null,0,2222,null,null,"target sequence",{"$f":"$G$3","v":2212},2212,2212,2212,2212,2212]
[21,3407,21,3417,22,3423,23,3430,null,null,0,2222,null,null,"total reinforcement",{"$f":"U20","v":0},{"$f":"Z20","v":0},{"$f":"AE20","v":0},{"$f":"AJ20","v":0},{"$f":"AO20","v":0},{"$f":"AT20","v":0}]
[21,3525,21,3529,22,3537,23,3543,null,null,0,2222,null,null,"% target"]
[12,3710,14,3715,13,3722,14,3729,null,null,0,1111,null,null,"CCRF"]
[21,3832,21,3840,22,3846,23,3853,null,null,0,2222,null,null,"% CCRf"]
[12,4012,14,4016,13,4022,14,4028,null,null,0,1111,null,null,"average response rate",{"$f":"H27/P28","v":132.33333333333334},{"$f":"(H48-H27)/Q28","v":131.42857142857142},{"$f":"(H69-H48)/R28","v":137.04761904761904},{"$f":"(H90-H69)/S28","v":133.33333333333334},{"$f":"(H111-H90)/T28","v":144.33333333333334},{"$f":"(H132-H111)/U28","v":140.23809523809524}]
[21,4128,21,4146,22,4157,23,4162,null,null,0,2222]
[21,4258,12,4271,13,4276,14,4281,null,null,0,2111]
[12,4375,14,4381,13,4387,14,4394,null,null,0,1111]
[12,4511,14,4516,13,4521,14,4527,null,null,0,1111]
[21,4620,21,4630,22,4645,23,4651,null,null,0,2222]
[21,4744,21,4751,22,4757,23,4763,null,null,0,2222]
[12,4866,14,4871,13,4878,14,4884,null,null,0,1111]
[21,4988,21,4991,22,4997,23,5002,null,null,0,2222]
[12,5148,14,5153,13,5157,14,5162,null,null,0,1111]
[21,5269,21,5276,22,5287,23,5293,null,null,0,2222]
[21,5386,21,5398,22,5403,23,5411,null,null,0,2222]
[21,5517,21,5524,22,5531,23,5539,null,null,0,2222]
[21,5635,21,5638,22,5644,23,5652,null,null,0,2222]
[21,5784,12,5795,13,5800,14,5806,null,null,0,2111]
[12,5961,14,5967,13,5972,14,5985,null,null,0,1111]
[21,6087,21,6096,22,6102,23,6107,null,null,0,2222]
[21,6212,21,6217,22,6223,23,6227,null,null,0,2222]
[21,6328,21,6336,22,6340,23,6346,null,null,0,2222]
[21,6445,21,6449,22,6456,23,6461,null,null,0,2222]
[21,6564,21,6571,22,6582,23,6589,null,null,0,2222]
[21,6704,21,6709,22,6714,23,6719,null,null,0,2222]
[12,6816,14,6822,13,6833,14,6840,null,null,0,1111]
[12,6985,14,6991,13,6997,14,7008,null,null,0,1111]
[21,7108,21,7118,22,7124,23,7130,null,null,0,2222]
[21,7238,21,7244,22,7251,23,7266,null,null,0,2222]
[21,7422,21,7430,22,7436,23,7438,null,null,0,2222]
[12,7552,14,7557,13,7563,14,7568,null,null,0,1111]
[21,7672,21,7681,22,7686,23,7692,null,null,0,2222]
[21,7794,21,7801,22,7808,23,7814,null,null,0,2222]
[12,7977,14,7983,13,7990,14,8008,null,null,0,1111]
[12,8114,14,8120,13,8127,14,8132,null,null,0,1111]
[21,8283,21,8289,22,8294,23,8299,null,null,0,2222]
[21,8398,21,8405,22,8412,23,8417,null,null,0,2222]
[12,8531,14,8537,13,8543,14,8548,null,null,0,1111]
[21,8647,21,8654,22,8662,23,8668,null,null,0,2222]
[21,8768,21,8775,22,8784,23,8792,null,null,0,2222]
[21,8892,21,8898,22,8905,23,8911,null,null,0,2222]
[21,9059,12,9073,13,9079,14,9084,null,null,0,2111]
[21,9182,21,9190,22,9197,23,9203,null,null,0,2222]
[12,9305,14,9310,13,9317,14,9323,null,null,0,1111]
[21,9427,21,9432,22,9437,23,9443,null,null,0,2222]
[21,9544,21,9554,22,9560,23,9566,null,null,0,2222]
[21,9673,21,9679,22,9685,23,9690,null,null,0,2222]
[12,9857,14,9866,13,9872,14,9879,null,null,0,1111]
[21,9974,21,9981,22,9989,23,9996,null,null,0,2222]
[21,10112,21,10118,22,10123,23,10128,null,null,0,2222]
[21,10247,21,10251,22,10257,23,10263,null,null,0,2222]
[21,10360,21,10366,22,10374,23,10379,null,null,0,2222]
[12,10556,14,10566,13,10576,14,10585,null,null,0,1111]
[21,10686,21,10693,22,10699,23,10706,null,null,0,2222]
[21,10808,21,10822,22,10829,23,10835,null,null,0,2222]
[21,10949,21,10954,22,10960,23,10966,null,null,0,2222]
[21,11073,21,11082,22,11086,23,11092,null,null,0,2222]
[21,11198,21,11205,22,11211,23,11217,null,null,0,2222]
[21,11319,21,11328,22,11333,23,11339,null,null,0,2222]
[21,11444,21,11451,22,11463,23,11471,null,null,0,2222]
[12,11646,14,11658,13,11664,14,11671,null,null,0,1111]
[21,11776,21,11781,22,11786,23,11791,null,null,0,2222]
[21,11888,21,11897,22,11903,23,11911,null,null,0,2222]
[12,12016,14,12022,13,12030,14,12035,null,null,0,1111]
[12,12145,23,12156,24,12170,23,12176,null,null,0,1222]
[12,12272,23,12285,24,12289,23,12295,null,null,0,1222]
[21,12393,21,12403,22,12411,23,12418,null,null,0,2222]
[21,12517,21,12525,22,12542,23,12548,null,null,0,2222]
[21,12647,21,12652,22,12659,23,12666,null,null,0,2222]
[21,12770,21,12778,22,12783,23,12789,null,null,0,2222]
[21,12896,12,12912,13,12918,14,12925,null,null,0,2111]
[21,13165,21,13173,22,13179,23,13184,null,null,0,2222]
[12,13340,14,13349,13,13355,14,13360,null,null,0,1111]
[12,13513,14,13518,13,13524,14,13531,null,null,0,1111]
[21,13627,21,13631,22,13642,23,13648,null,null,0,2222]
[21,13743,21,13751,22,13757,23,13772,null,null,0,2222]
[21,13866,21,13877,22,13886,23,13893,null,null,0,2222]
[21,14092,12,14106,13,14112,14,14124,null,null,0,2111]
[21,14226,21,14236,22,14241,23,14248,null,null,0,2222]
[21,14434,21,14446,22,14457,23,14463,null,null,0,2222]
[21,14559,21,14572,22,14580,23,14593,null,null,0,2222]
[21,14694,21,14712,22,14720,23,14726,null,null,0,2222]
[21,14942,21,14950,22,14957,23,14963,null,null,0,2222]
[21,15059,21,15069,22,15077,23,15088,null,null,0,2222]
[21,15182,21,15189,22,15201,23,15207,null,null,0,2222]
[21,15310,21,15321,22,15328,23,15334,null,null,0,2222]
[21,15460,21,15475,22,15481,23,15487,null,null,0,2222]
[21,15599,21,15613,22,15618,23,15624,null,null,0,2222]
[21,15724,21,15735,22,15743,23,15750,null,null,0,2222]
[21,15865,21,15873,22,15878,23,15884,null,null,0,2222]
[21,15975,21,15989,22,15999,23,16004,null,null,0,2222]
[12,16113,14,16118,13,16123,14,16130,null,null,0,1111]
[21,16228,21,16235,22,16248,23,16253,null,null,0,2222]
[21,16360,21,16367,22,16372,23,16383,null,null,0,2222]
[21,16491,21,16498,22,16504,23,16510,null,null,0,2222]
[21,16661,21,16672,22,16681,23,16686,null,null,0,2222]
[21,16786,21,16795,22,16802,23,16808,null,null,0,2222]
[21,16905,21,16911,22,16918,23,16929,null,null,0,2222]
[21,17036,21,17048,22,17056,23,17063,null,null,0,2222]
[21,17166,21,17173,22,17181,23,17193,null,null,0,2222]

{"sheet":"!LB26945..Du","index":26,"n_rows":176,"n_cols":48,"rows_kept":176,"cut":false,"hidden":false,"merged":[[1,1,1,2],[5,13,5,14],[26,13,26,14],[27,13,27,14],[4,19,4,22],[5,19,5,20],[4,39,4,42],[5,39,5,40],[4,44,4,47],[5,44,5,45],[4,24,4,27],[5,24,5,25],[4,29,4,32],[5,29,5,30],[4,34,4,37],[5,34,5,35]]}
["Report for:!LB26945..Du"]
["Date:","<date>"]
["Hen:","<hen>",null,null,null,"Correct Sequence",{"$f":"Start!J2","v":2212},null,null,null,null,null,null,null,null,"Total Sequences in Data",{"$f":"4994-COUNTBLANK(L7:L5000)","v":170},null,null,null,null,"Total Sequences in Block Data",{"$f":"COUNTA(L7:L34)","v":28},null,null,null,"Total Sequences in Block Data",{"$f":"COUNTA(L35:L63)","v":29},null,null,null,"Total Sequences in Block Data",{"$f":"COUNTA(L64:L91)","v":28},null,null,null,"Total Sequences in Block Data",{"$f":"COUNTA(L92:L119)","v":28},null,null,null,"Total Sequences in Block Data",{"$f":"COUNTA(L120:L148)","v":29},null,null,null,"Total Sequences in Block Data",{"$f":"COUNTA(L149:L176)","v":28}]
[null,null,null,null,null,null,null,null,null,null,null,null,null,null,null,"Total Sequences in Summary",{"$f":"SUM(O7:O22)","v":170},null,null,null,null,"Total Sequences in Block Summary",{"$f":"SUM(U7:U22)","v":28},null,null,null,"Total Sequences in Block Summary",{"$f":"SUM(Z7:Z22)","v":29},null,null,null,"Total Sequences in Block Summary",{"$f":"SUM(AE7:AE22)","v":28},null,null,null,"Total Sequences in Block Summary",{"$f":"SUM(AJ7:AJ22)","v":28},null,null,null,"Total Sequences in Block Summary",{"$f":"SUM(AO7:AO22)","v":29},null,null,null,"Total Sequences in Block Summary",{"$f":"SUM(AT7:AT22)","v":28}]
[null,null,null,null,null,null,null,null,null,null,null,null,null,null,null,null,null,null,null,"Block 1",null,null,null,null,"Block 2",null,null,null,null,"Block 3",null,null,null,null,"Block 4",null,null,null,null,"Block 5",null,null,null,null,"Block 6"]
["Sequence\nComponent\n1","Time\n1","Sequence\nComponent\n2","Time\n2","Sequence\nComponent\n3","Time\n3","Sequence\nComponent\n4","Time\n4","Sequence\nComponent\n5","Time\n5","Correct?\n0=No 1=Yes","Sequence",null,"Frequency",null,"Relative Frequency","Variability",null,null,"Frequency",null,"Relative Frequency","Variability",null,"Frequency",null,"Relative Frequency","Variability",null,"Frequency",null,"Relative Frequency","Variability",null,"Frequency",null,"Relative Frequency","Variability",null,"Frequency",null,"Relative Frequency","Variability",null,"Frequency",null,"Relative Frequency","Variability"]
[12,29,14,49,13,55,14,62,null,null,0,1111,null,1111,{"$f":"COUNTIF($L$7:$L$500,N7)","v":28},{"$f":"O7/$Q$4","v":0.16470588235294117},{"$f":"IF(P7=0,0,(P7*((LOG(P7))/LOG(2))))","v":-0.42857063761319253},null,null,{"$f":"N7","v":1111},{"$f":"COUNTIF(L7:L34,T7)","v":7},{"$f":"U7/(W4-U20)","v":0.25},{"$f":"IF(V7=0,0,(V7*((LOG(V7))/LOG(2))))","v":-0.5},null,{"$f":"N7","v":1111},{"$f":"COUNTIF(L35:L63,Y7)","v":7},{"$f":"Z7/(AB4-Z20)","v":0.2413793103448276},{"$f":"IF(AA7=0,0,(AA7*((LOG(AA7))/LOG(2))))","v":-0.49497870729275095},null,{"$f":"N7","v":1111},{"$f":"COUNTIF(L64:L91,AD7)","v":2},{"$f":"AE7/(AG4-AE20)","v":7.1428571428571425E-2},{"$f":"IF(AF7=0,0,(AF7*((LOG(AF7))/LOG(2))))","v":-0.27195392300411453},null,{"$f":"N7","v":1111},{"$f":"COUNTIF(L92:L119,AI7)","v":3},{"$f":"AJ7/(AL4-AJ20)","v":0.10714285714285714},{"$f":"IF(AK7=0,0,(AK7*((LOG(AK7))/LOG(2))))","v":-0.34525633085747659},null,{"$f":"N7","v":1111},{"$f":"COUNTIF(L120:L148,AN7)","v":5},{"$f":"AO7/(AQ4-AO20)","v":0.17241379310344829},{"$f":"IF(AP7=0,0,(AP7*((LOG(AP7))/LOG(2))))","v":-0.43725050004141547},null,{"$f":"N7","v":1111},{"$f":"COUNTIF(L149:L176,AS7)","v":4},{"$f":"AT7/(AV4-AT20)","v":0.14285714285714285},{"$f":"IF(AU7=0,0,(AU7*((LOG(AU7))/LOG(2))))","v":-0.40105070315108626}]
[21,166,21,182,22,190,23,210,null,null,0,2222,null,1112,0,0,0,null,null,1112,{"$f":"COUNTIF(L7:L34,T8)","v":0},{"$f":"U8/(W4-U20)","v":0},0,null,1112,{"$f":"COUNTIF(L35:L63,Y8)","v":0},{"$f":"Z8/(AB4-Z20)","v":0},0,null,1112,{"$f":"COUNTIF(L64:L91,AD8)","v":0},{"$f":"AE8/(AG4-AE20)","v":0},0,null,1112,{"$f":"COUNTIF(L92:L119,AI8)","v":0},{"$f":"AJ8/(AL4-AJ20)","v":0},0,null,1112,{"$f":"COUNTIF(L120:L148,AN8)","v":0},{"$f":"AO8/(AQ4-AO20)","v":0},0,null,1112,{"$f":"COUNTIF(L149:L176,AS8)","v":0},{"$f":"AT8/(AV4-AT20)","v":0},0]
[21,316,21,326,22,331,23,340,null,null,0,2222,null,1121,0,0,0,null,null,1121,{"$f":"COUNTIF(L7:L34,T9)","v":0},{"$f":"U9/(W4-U20)","v":0},0,null,1121,{"$f":"COUNTIF(L35:L63,Y9)","v":0},{"$f":"Z9/(AB4-Z20)","v":0},0,null,1121,{"$f":"COUNTIF(L64:L91,AD9)","v":0},{"$f":"AE9/(AG4-AE20)","v":0},0,null,1121,{"$f":"COUNTIF(L92:L119,AI9)","v":0},{"$f":"AJ9/(AL4-AJ20)","v":0},0,null,1121,{"$f":"COUNTIF(L120:L148,AN9)","v":0},{"$f":"AO9/(AQ4-AO20)","v":0},0,null,1121,{"$f":"COUNTIF(L149:L176,AS9)","v":0},{"$f":"AT9/(AV4-AT20)","v":0},0]
[21,443,21,451,22,461,23,467,null,null,0,2222,null,1122,1,5.8823529411764705E-3,-4.35846525655159E-2,null,null,1122,{"$f":"COUNTIF(L7:L34,T10)","v":0},{"$f":"U10/(W4-U20)","v":0},0,null,1122,{"$f":"COUNTIF(L35:L63,Y10)","v":0},{"$f":"Z10/(AB4-Z20)","v":0},0,null,1122,{"$f":"COUNTIF(L64:L91,AD10)","v":0},{"$f":"AE10/(AG4-AE20)","v":0},0,null,1122,{"$f":"COUNTIF(L92:L119,AI10)","v":0},{"$f":"AJ10/(AL4-AJ20)","v":0},0,null,1122,{"$f":"COUNTIF(L120:L148,AN10)","v":0},{"$f":"AO10/(AQ4-AO20)","v":0},0,null,1122,{"$f":"COUNTIF(L149:L176,AS10)","v":1},{"$f":"AT10/(AV4-AT20)","v":3.5714285714285712E-2},-0.17169124721634299]
[12,575,14,586,13,592,14,598,null,null,0,1111,null,1211,0,0,0,null,null,1211,{"$f":"COUNTIF(L7:L34,T11)","v":0},{"$f":"U11/(W4-U20)","v":0},0,null,1211,{"$f":"COUNTIF(L35:L63,Y11)","v":0},{"$f":"Z11/(AB4-Z20)","v":0},0,null,1211,{"$f":"COUNTIF(L64:L91,AD11)","v":0},{"$f":"AE11/(AG4-AE20)","v":0},0,null,1211,{"$f":"COUNTIF(L92:L119,AI11)","v":0},{"$f":"AJ11/(AL4-AJ20)","v":0},0,null,1211,{"$f":"COUNTIF(L120:L148,AN11)","v":0},{"$f":"AO11/(AQ4-AO20)","v":0},0,null,1211,{"$f":"COUNTIF(L149:L176,AS11)","v":0},{"$f":"AT11/(AV4-AT20)","v":0},0]
[12,775,14,779,13,786,14,792,null,null,0,1111,null,1212,0,0,0,null,null,1212,{"$f":"COUNTIF(L7:L34,T12)","v":0},{"$f":"U12/(W4-U20)","v":0},0,null,1212,{"$f":"COUNTIF(L35:L63,Y12)","v":0},{"$f":"Z12/(AB4-Z20)","v":0},0,null,1212,{"$f":"COUNTIF(L64:L91,AD12)","v":0},{"$f":"AE12/(AG4-AE20)","v":0},0,null,1212,{"$f":"COUNTIF(L92:L119,AI12)","v":0},{"$f":"AJ12/(AL4-AJ20)","v":0},0,null,1212,{"$f":"COUNTIF(L120:L148,AN12)","v":0},{"$f":"AO12/(AQ4-AO20)","v":0},0,null,1212,{"$f":"COUNTIF(L149:L176,AS12)","v":0},{"$f":"AT12/(AV4-AT20)","v":0},0]
[12,891,14,903,13,913,14,919,null,null,0,1111,null,1221,0,0,0,null,null,1221,{"$f":"COUNTIF(L7:L34,T13)","v":0},{"$f":"U13/(W4-U20)","v":0},0,null,1221,{"$f":"COUNTIF(L35:L63,Y13)","v":0},{"$f":"Z13/(AB4-Z20)","v":0},0,null,1221,{"$f":"COUNTIF(L64:L91,AD13)","v":0},{"$f":"AE13/(AG4-AE20)","v":0},0,null,1221,{"$f":"COUNTIF(L92:L119,AI13)","v":0},{"$f":"AJ13/(AL4-AJ20)","v":0},0,null,1221,{"$f":"COUNTIF(L120:L148,AN13)","v":0},{"$f":"AO13/(AQ4-AO20)","v":0},0,null,1221,{"$f":"COUNTIF(L149:L176,AS13)","v":0},{"$f":"AT13/(AV4-AT20)","v":0},0]
[21,1015,21,1023,22,1029,23,1035,null,null,0,2222,null,1222,6,3.5294117647058823E-2,-0.17027394477940749,null,null,1222,{"$f":"COUNTIF(L7:L34,T14)","v":2},{"$f":"U14/(W4-U20)","v":7.1428571428571425E-2},-0.27195392300411453,null,1222,{"$f":"COUNTIF(L35:L63,Y14)","v":3},{"$f":"Z14/(AB4-Z20)","v":0.10344827586206896},-0.33858812011100858,null,1222,{"$f":"COUNTIF(L64:L91,AD14)","v":0},{"$f":"AE14/(AG4-AE20)","v":0},0,null,1222,{"$f":"COUNTIF(L92:L119,AI14)","v":1},{"$f":"AJ14/(AL4-AJ20)","v":3.5714285714285712E-2},-0.17169124721634299,null,1222,{"$f":"COUNTIF(L120:L148,AN14)","v":0},{"$f":"AO14/(AQ4-AO20)","v":0},0,null,1222,{"$f":"COUNTIF(L149:L176,AS14)","v":0},{"$f":"AT14/(AV4-AT20)","v":0},0]
[12,1138,23,1148,24,1154,23,1160,null,null,0,1222,null,2111,12,7.0588235294117646E-2,-0.26995965426469731,null,null,2111,{"$f":"COUNTIF(L7:L34,T15)","v":2},{"$f":"U15/(W4-U20)","v":7.1428571428571425E-2},-0.27195392300411453,null,2111,{"$f":"COUNTIF(L35:L63,Y15)","v":3},{"$f":"Z15/(AB4-Z20)","v":0.10344827586206896},-0.33858812011100858,null,2111,{"$f":"COUNTIF(L64:L91,AD15)","v":2},{"$f":"AE15/(AG4-AE20)","v":7.1428571428571425E-2},-0.27195392300411453,null,2111,{"$f":"COUNTIF(L92:L119,AI15)","v":2},{"$f":"AJ15/(AL4-AJ20)","v":7.1428571428571425E-2},-0.27195392300411453,null,2111,{"$f":"COUNTIF(L120:L148,AN15)","v":1},{"$f":"AO15/(AQ4-AO20)","v":3.4482758620689655E-2},-0.16751658603888178,null,2111,{"$f":"COUNTIF(L149:L176,AS15)","v":2},{"$f":"AT15/(AV4-AT20)","v":7.1428571428571425E-2},-0.27195392300411453]
[12,1254,14,1263,13,1268,14,1273,null,null,0,1111,null,2112,0,0,0,null,null,2112,{"$f":"COUNTIF(L7:L34,T16)","v":0},{"$f":"U16/(W4-U20)","v":0},0,null,2112,{"$f":"COUNTIF(L35:L63,Y16)","v":0},{"$f":"Z16/(AB4-Z20)","v":0},0,null,2112,{"$f":"COUNTIF(L64:L91,AD16)","v":0},{"$f":"AE16/(AG4-AE20)","v":0},0,null,2112,{"$f":"COUNTIF(L92:L119,AI16)","v":0},{"$f":"AJ16/(AL4-AJ20)","v":0},0,null,2112,{"$f":"COUNTIF(L120:L148,AN16)","v":0},{"$f":"AO16/(AQ4-AO20)","v":0},0,null,2112,{"$f":"COUNTIF(L149:L176,AS16)","v":0},{"$f":"AT16/(AV4-AT20)","v":0},0]
[21,1374,12,1386,13,1390,14,1396,null,null,0,2111,null,2121,0,0,0,null,null,2121,{"$f":"COUNTIF(L7:L34,T17)","v":0},{"$f":"U17/(W4-U20)","v":0},0,null,2121,{"$f":"COUNTIF(L35:L63,Y17)","v":0},{"$f":"Z17/(AB4-Z20)","v":0},0,null,2121,{"$f":"COUNTIF(L64:L91,AD17)","v":0},{"$f":"AE17/(AG4-AE20)","v":0},0,null,2121,{"$f":"COUNTIF(L92:L119,AI17)","v":0},{"$f":"AJ17/(AL4-AJ20)","v":0},0,null,2121,{"$f":"COUNTIF(L120:L148,AN17)","v":0},{"$f":"AO17/(AQ4-AO20)","v":0},0,null,2121,{"$f":"COUNTIF(L149:L176,AS17)","v":0},{"$f":"AT17/(AV4-AT20)","v":0},0]
[21,1509,21,1517,22,1524,23,1531,null,null,0,2222,null,2122,0,0,0,null,null,2122,{"$f":"COUNTIF(L7:L34,T18)","v":0},{"$f":"U18/(W4-U20)","v":0},0,null,2122,{"$f":"COUNTIF(L35:L63,Y18)","v":0},{"$f":"Z18/(AB4-Z20)","v":0},0,null,2122,{"$f":"COUNTIF(L64:L91,AD18)","v":0},{"$f":"AE18/(AG4-AE20)","v":0},0,null,2122,{"$f":"COUNTIF(L92:L119,AI18)","v":0},{"$f":"AJ18/(AL4-AJ20)","v":0},0,null,2122,{"$f":"COUNTIF(L120:L148,AN18)","v":0},{"$f":"AO18/(AQ4-AO20)","v":0},0,null,2122,{"$f":"COUNTIF(L149:L176,AS18)","v":0},{"$f":"AT18/(AV4-AT20)","v":0},0]
[21,1636,21,1644,22,1651,23,1658,null,null,0,2222,null,2211,2,1.1764705882352941E-2,-7.5404599248678844E-2,null,null,2211,{"$f":"COUNTIF(L7:L34,T19)","v":0},{"$f":"U19/(W4-U20)","v":0},0,null,2211,{"$f":"COUNTIF(L35:L63,Y19)","v":0},{"$f":"Z19/(AB4-Z20)","v":0},0,null,2211,{"$f":"COUNTIF(L64:L91,AD19)","v":1},{"$f":"AE19/(AG4-AE20)","v":3.5714285714285712E-2},-0.17169124721634299,null,2211,{"$f":"COUNTIF(L92:L119,AI19)","v":0},{"$f":"AJ19/(AL4-AJ20)","v":0},0,null,2211,{"$f":"COUNTIF(L120:L148,AN19)","v":1},{"$f":"AO19/(AQ4-AO20)","v":3.4482758620689655E-2},-0.16751658603888178,null,2211,{"$f":"COUNTIF(L149:L176,AS19)","v":0},{"$f":"AT19/(AV4-AT20)","v":0},0]
[21,1766,21,1774,22,1780,23,1785,null,null,0,2222,null,2212,0,0,0,null,null,2212,{"$f":"COUNTIF(L7:L34,T20)","v":0},null,null,null,2212,{"$f":"COUNTIF(L35:L63,Y20)","v":0},null,null,null,2212,{"$f":"COUNTIF(L64:L91,AD20)","v":0},null,null,null,2212,{"$f":"COUNTIF(L92:L119,AI20)","v":0},null,null,null,2212,{"$f":"COUNTIF(L120:L148,AN20)","v":0},null,null,null,2212,{"$f":"COUNTIF(L149:L176,AS20)","v":0}]
[21,1891,21,1897,22,1903,23,1909,null,null,0,2222,null,2221,0,0,0,null,null,2221,{"$f":"COUNTIF(L7:L34,T21)","v":0},{"$f":"U21/(W4-U20)","v":0},{"$f":"IF(V21=0,0,(V21*((LOG(V21))/LOG(2))))","v":0},null,2221,{"$f":"COUNTIF(L35:L63,Y21)","v":0},{"$f":"Z21/(AB4-Z20)","v":0},{"$f":"IF(AA21=0,0,(AA21*((LOG(AA21))/LOG(2))))","v":0},null,2221,{"$f":"COUNTIF(L64:L91,AD21)","v":0},{"$f":"AE21/(AG4-AE20)","v":0},{"$f":"IF(AF21=0,0,(AF21*((LOG(AF21))/LOG(2))))","v":0},null,2221,{"$f":"COUNTIF(L92:L119,AI21)","v":0},{"$f":"AJ21/(AL4-AJ20)","v":0},{"$f":"IF(AK21=0,0,(AK21*((LOG(AK21))/LOG(2))))","v":0},null,2221,{"$f":"COUNTIF(L120:L148,AN21)","v":0},{"$f":"AO21/(AQ4-AO20)","v":0},{"$f":"IF(AP21=0,0,(AP21*((LOG(AP21))/LOG(2))))","v":0},null,2221,{"$f":"COUNTIF(L149:L176,AS21)","v":0},{"$f":"AT21/(AV4-AT20)","v":0},{"$f":"IF(AU21=0,0,(AU21*((LOG(AU21))/LOG(2))))","v":0}]
[21,2014,21,2024,22,2030,23,2038,null,null,0,2222,null,2222,121,0.71176470588235297,-0.34914030330844686,null,null,2222,{"$f":"COUNTIF(L7:L34,T22)","v":17},{"$f":"U22/(W4-U20)","v":0.6071428571428571},{"$f":"IF(V22=0,0,(V22*((LOG(V22))/LOG(2))))","v":-0.43707733477583927},null,2222,{"$f":"COUNTIF(L35:L63,Y22)","v":16},{"$f":"Z22/(AB4-Z20)","v":0.55172413793103448},{"$f":"IF(AA22=0,0,(AA22*((LOG(AA22))/LOG(2))))","v":-0.47336882489797077},null,2222,{"$f":"COUNTIF(L64:L91,AD22)","v":23},{"$f":"AE22/(AG4-AE20)","v":0.8214285714285714},{"$f":"IF(AF22=0,0,(AF22*((LOG(AF22))/LOG(2))))","v":-0.23311565064334283},null,2222,{"$f":"COUNTIF(L92:L119,AI22)","v":22},{"$f":"AJ22/(AL4-AJ20)","v":0.7857142857142857},{"$f":"IF(AK22=0,0,(AK22*((LOG(AK22))/LOG(2))))","v":-0.27336830983024107},null,2222,{"$f":"COUNTIF(L120:L148,AN22)","v":22},{"$f":"AO22/(AQ4-AO20)","v":0.75862068965517238},{"$f":"IF(AP22=0,0,(AP22*((LOG(AP22))/LOG(2))))","v":-0.30234780285469132},null,2222,{"$f":"COUNTIF(L149:L176,AS22)","v":21},{"$f":"AT22/(AV4-AT20)","v":0.75},{"$f":"IF(AU22=0,0,(AU22*((LOG(AU22))/LOG(2))))","v":-0.31127812445913283}]
[21,2168,12,2180,13,2185,14,2193,null,null,0,2111,null,null,null,{"$f":"SUM(P7:P22)","v":1},{"$f":"-SUM(Q7:Q22)","v":1.3369337917799391},null,null,null,null,{"$f":"SUM(V7:V22)","v":0.99999999999999989},{"$f":"-SUM(W7:W22)","v":1.4809851807840684},null,null,null,{"$f":"SUM(AA7:AA22)","v":1},{"$f":"-SUM(AB7:AB22)","v":1.6455237724127389},null,null,null,{"$f":"SUM(AF7:AF22)","v":1},{"$f":"-SUM(AG7:AG22)","v":0.94871474386791488},null,null,null,{"$f":"SUM(AK7:AK22)","v":1},{"$f":"-SUM(AL7:AL22)","v":1.0622698109081752},null,null,null,{"$f":"SUM(AP7:AP22)","v":1},{"$f":"-SUM(AQ7:AQ22)","v":1.0746314749738703},null,null,null,{"$f":"SUM(AU7:AU22)","v":1},{"$f":"-SUM(AV7:AV22)","v":1.1559739978306767}]
[21,2300,21,2318,22,2332,23,2337,null,null,0,2222,null,null,null,"U=",{"$f":"Q23/(LOG(Q4)/LOG(2))","v":0.18043774492439502},null,null,null,null,"U1=",{"$f":"W23/(LOG(W4)/LOG(2))","v":0.30806653654567062},null,null,null,"U2=",{"$f":"AB23/(LOG(AB4)/LOG(2))","v":0.33872585628950719},null,null,null,"U3=",{"$f":"AG23/(LOG(AG4)/LOG(2))","v":0.19734651575545706},null,null,null,"U4=",{"$f":"AL23/(LOG(AL4)/LOG(2))","v":0.22096762733996586},null,null,null,"U5=",{"$f":"AQ23/(LOG(AQ4)/LOG(2))","v":0.22120948518565586},null,null,null,"U6=",{"$f":"AV23/(LOG(AV4)/LOG(2))","v":0.24045946608325444}]
[21,2470,21,2477,22,2484,23,2490,null,null,0,2222]
[12,2595,14,2602,13,2607,14,2613,null,null,0,1111]
[21,2721,21,2736,22,2743,23,2749,null,null,0,2222,null,"Total Target Seq"]
[21,2845,21,2852,22,2859,23,2866,null,null,0,2222,null,{"$f":"COUNTIF(L7:L176,G3)","v":0},null,28,29,28,28,29,28]
[21,2970,21,2984,22,2990,23,3003,null,null,0,2222,null,null,null,"% of reinforcement given in 6 equal intervals based on number of trials "]
[21,3127,21,3132,22,3137,23,3145,null,null,0,2222,null,null,null,"%_1","%_2","%_3","%_4","%_5","%_6"]
[21,3246,21,3259,22,3266,23,3274,null,null,0,2222,null,null,"target sequence",{"$f":"$G$3","v":2212},2212,2212,2212,2212,2212]
[12,3376,23,3383,24,3387,23,3401,null,null,0,1222,null,null,"total reinforcement",{"$f":"U20","v":0},{"$f":"Z20","v":0},{"$f":"AE20","v":0},{"$f":"AJ20","v":0},{"$f":"AO20","v":0},{"$f":"AT20","v":0}]
[12,3509,14,3513,13,3515,14,3522,null,null,0,1111,null,null,"% target"]
[21,3663,21,3669,22,3676,23,3682,null,null,0,2222,null,null,"CCRF"]
[21,3794,21,3800,22,3806,23,3812,null,null,0,2222,null,null,"% CCRf"]
[21,3913,21,3919,22,3924,23,3931,null,null,0,2222,null,null,"average response rate",{"$f":"H34/P28","v":131.5},{"$f":"(H63-H34)/Q28","v":145.41379310344828},{"$f":"(H91-H63)/R28","v":127},{"$f":"(H119-H91)/S28","v":148.25},{"$f":"(H148-H119)/T28","v":143.68965517241378},{"$f":"(H176-H148)/U28","v":146.14285714285714}]
[21,4039,21,4048,22,4054,23,4059,null,null,0,2222]
[12,4277,14,4281,13,4288,14,4293,null,null,0,1111]
[12,4534,14,4545,13,4552,14,4560,null,null,0,1111]
[21,4661,21,4674,22,4680,23,4685,null,null,0,2222]
[21,4786,12,4798,13,4802,14,4808,null,null,0,2111]
[21,4908,12,4921,13,4926,14,4932,null,null,0,2111]
[21,5061,21,5066,22,5073,23,5078,null,null,0,2222]
[21,5192,21,5200,22,5207,23,5213,null,null,0,2222]
[21,5317,21,5323,22,5330,23,5336,null,null,0,2222]
[12,5434,23,5450,24,5458,23,5465,null,null,0,1222]
[12,5645,14,5655,13,5666,14,5673,null,null,0,1111]
[21,5780,21,5789,22,5796,23,5803,null,null,0,2222]
[12,5959,14,5964,13,5969,14,5975,null,null,0,1111]
[21,6079,21,6087,22,6094,23,6099,null,null,0,2222]
[12,6196,23,6213,24,6219,23,6224,null,null,0,1222]
[12,6320,14,6333,13,6339,14,6363,null,null,0,1111]
[12,6482,14,6487,13,6492,14,6498,null,null,0,1111]
[21,6597,21,6605,22,6612,23,6618,null,null,0,2222]
[21,6715,21,6722,22,6729,23,6733,null,null,0,2222]
[12,6895,14,6901,13,6906,14,6912,null,null,0,1111]
[12,7029,23,7035,24,7040,23,7045,null,null,0,1222]
[21,7146,12,7159,13,7164,14,7171,null,null,0,2111]
[21,7277,21,7284,22,7290,23,7296,null,null,0,2222]
[21,7423,21,7430,22,7437,23,7442,null,null,0,2222]
[21,7537,21,7543,22,7548,23,7554,null,null,0,2222]
[21,7647,21,7664,22,7671,23,7676,null,null,0,2222]
[21,7872,21,7882,22,7888,23,7899,null,null,0,2222]
[21,8003,21,8011,22,8018,23,8023,null,null,0,2222]
[21,8123,21,8131,22,8138,23,8143,null,null,0,2222]
[21,8239,21,8249,22,8256,23,8262,null,null,0,2222]
[21,8368,21,8377,22,8382,23,8389,null,null,0,2222]
[12,8530,14,8535,13,8546,14,8559,null,null,0,1111]
[21,8717,21,8723,22,8729,23,8734,null,null,0,2222]
[12,8836,14,8844,13,8850,14,8855,null,null,0,1111]
[21,8953,21,8960,22,8967,23,8973,null,null,0,2222]
[21,9079,21,9084,22,9091,23,9098,null,null,0,2222]
[21,9195,21,9206,22,9216,23,9221,null,null,0,2222]
[21,9323,21,9337,22,9342,23,9348,null,null,0,2222]
[21,9470,12,9484,13,9489,14,9497,null,null,0,2111]
[21,9612,21,9618,22,9624,23,9630,null,null,0,2222]
[21,9732,21,9739,22,9746,23,9752,null,null,0,2222]
[21,9863,21,9866,22,9873,23,9887,null,null,0,2222]
[21,9983,21,9989,22,10002,23,10008,null,null,0,2222]
[21,10105,21,10109,11,10123,12,10128,null,null,0,2211]
[21,10139,21,10146,22,10152,23,10158,null,null,0,2222]
[21,10259,21,10266,22,10274,23,10280,null,null,0,2222]
[21,10382,21,10388,22,10396,23,10404,null,null,0,2222]
[21,10508,12,10523,13,10529,14,10536,null,null,0,2111]
[21,10636,21,10643,22,10649,23,10655,null,null,0,2222]
[21,10765,21,10772,22,10777,23,10783,null,null,0,2222]
[21,10887,21,10897,22,10908,23,10915,null,null,0,2222]
[21,11070,21,11077,22,11079,23,11089,null,null,0,2222]
[21,11198,21,11205,22,11212,23,11218,null,null,0,2222]
[21,11315,21,11322,22,11329,23,11335,null,null,0,2222]
[21,11435,21,11439,22,11445,23,11455,null,null,0,2222]
[21,11547,21,11564,22,11580,23,11586,null,null,0,2222]
[21,11695,21,11703,22,11715,23,11722,null,null,0,2222]
[21,11825,21,11828,22,11835,23,11842,null,null,0,2222]
[21,11978,12,11992,13,11998,14,12004,null,null,0,2111]
[21,12109,21,12115,22,12120,23,12131,null,null,0,2222]
[12,12233,23,12241,24,12248,23,12254,null,null,0,1222]
[21,12350,21,12352,22,12362,23,12370,null,null,0,2222]
[21,12475,21,12479,22,12485,23,12492,null,null,0,2222]
[21,12618,21,12626,22,12632,23,12644,null,null,0,2222]
[21,12741,21,12748,22,12757,23,12765,null,null,0,2222]
[21,12867,21,12875,22,12882,23,12889,null,null,0,2222]
[21,13107,21,13113,22,13121,23,13132,null,null,0,2222]
[21,13245,21,13251,22,13258,23,13264,null,null,0,2222]
[21,13361,21,13372,22,13379,23,13386,null,null,0,2222]
[21,13506,21,13517,22,13522,23,13529,null,null,0,2222]
[21,13635,21,13645,22,13653,23,13659,null,null,0,2222]
[21,13768,12,13781,13,13787,14,13793,null,null,0,2111]
[21,13889,21,13898,22,13905,23,13915,null,null,0,2222]
[21,14125,21,14133,22,14139,23,14145,null,null,0,2222]
[12,14373,14,14377,13,14383,14,14389,null,null,0,1111]
[21,14485,21,14494,22,14501,23,14509,null,null,0,2222]
[21,14608,21,14617,22,14624,23,14631,null,null,0,2222]
[21,14726,21,14731,22,14736,23,14744,null,null,0,2222]
[21,14841,21,14853,22,14860,23,14867,null,null,0,2222]
[21,14966,21,14976,22,14984,23,14999,null,null,0,2222]
[12,15175,14,15180,13,15186,14,15192,null,null,0,1111]
[12,15421,14,15426,13,15433,14,15478,null,null,0,1111]
[21,15580,21,15590,22,15598,23,15606,null,null,0,2222]
[21,15720,21,15730,22,15738,23,15746,null,null,0,2222]
[21,15876,12,15887,13,15891,14,15898,null,null,0,2111]
[21,16000,21,16009,22,16018,23,16025,null,null,0,2222]
[21,16140,21,16148,22,16154,23,16160,null,null,0,2222]
[21,16285,21,16291,22,16296,23,16302,null,null,0,2222]
[12,16419,14,16425,13,16430,14,16435,null,null,0,1111]
[12,16563,14,16568,13,16573,14,16580,null,null,0,1111]
[21,16680,21,16688,22,16694,23,16701,null,null,0,2222]
[21,16908,21,16919,22,16925,23,16931,null,null,0,2222]
[21,17029,21,17036,22,17048,23,17054,null,null,0,2222]
[21,17161,21,17168,22,17175,23,17183,null,null,0,2222]
[12,17280,14,17284,13,17290,14,17296,null,null,0,1111]
[21,17396,21,17411,22,17418,23,17425,null,null,0,2222]
[21,17534,21,17541,22,17550,23,17556,null,null,0,2222]
[21,17660,21,17668,22,17680,23,17688,null,null,0,2222]
[12,17877,14,17884,13,17890,14,17896,null,null,0,1111]
[21,18024,21,18033,22,18041,23,18050,null,null,0,2222]
[21,18258,21,18262,11,18276,12,18283,null,null,0,2211]
[21,18384,21,18392,22,18404,23,18410,null,null,0,2222]
[12,18540,14,18546,13,18551,14,18557,null,null,0,1111]
[21,18661,21,18671,22,18687,23,18694,null,null,0,2222]
[21,18795,21,18812,22,18817,23,18823,null,null,0,2222]
[21,18951,21,18963,22,18968,23,18974,null,null,0,2222]
[21,19080,21,19090,22,19100,23,19107,null,null,0,2222]
[21,19212,21,19229,22,19237,23,19246,null,null,0,2222]
[21,19344,21,19354,22,19362,23,19370,null,null,0,2222]
[21,19493,21,19503,22,19511,23,19518,null,null,0,2222]
[21,19625,21,19637,22,19644,23,19652,null,null,0,2222]
[21,19754,21,19759,22,19767,23,19773,null,null,0,2222]
[12,19936,14,19942,13,19948,14,19955,null,null,0,1111]
[21,20101,21,20105,22,20112,23,20118,null,null,0,2222]
[21,20224,21,20232,22,20239,23,20244,null,null,0,2222]
[21,20362,12,20377,13,20382,14,20388,null,null,0,2111]
[21,20481,21,20486,22,20495,23,20508,null,null,0,2222]
[12,20619,14,20623,13,20629,14,20634,null,null,0,1111]
[12,20762,14,20765,13,20771,14,20777,null,null,0,1111]
[21,20878,21,20888,22,20899,23,20907,null,null,0,2222]
[21,21012,21,21015,22,21022,23,21030,null,null,0,2222]
[21,21133,12,21148,13,21154,14,21161,null,null,0,2111]
[21,21267,21,21275,22,21284,23,21291,null,null,0,2222]
[21,21409,21,21417,22,21427,23,21433,null,null,0,2222]
[12,21630,14,21636,13,21643,14,21649,null,null,0,1111]
[21,21754,21,21759,22,21766,23,21772,null,null,0,2222]
[21,21963,21,21970,22,21980,23,21987,null,null,0,2222]
[21,22183,21,22191,22,22195,23,22201,null,null,0,2222]
[21,22300,21,22310,22,22318,23,22325,null,null,0,2222]
[21,22437,21,22449,22,22457,23,22465,null,null,0,2222]
[21,22568,21,22581,22,22590,23,22598,null,null,0,2222]
[12,22717,14,22720,24,22729,23,22735,null,null,0,1122]
[21,22845,21,22853,22,22860,23,22866,null,null,0,2222]
[21,22978,21,22986,22,22992,23,22998,null,null,0,2222]
[21,23102,21,23111,22,23121,23,23127,null,null,0,2222]
[21,23243,21,23251,22,23258,23,23265,null,null,0,2222]
[21,23371,21,23383,22,23390,23,23396,null,null,0,2222]
[21,23584,21,23597,22,23604,23,23611,null,null,0,2222]
[21,23711,21,23719,22,23732,23,23739,null,null,0,2222]
[21,23839,21,23847,22,23856,23,23865,null,null,0,2222]

{"sheet":"!LB27A55..Du","index":27,"n_rows":174,"n_cols":48,"rows_kept":174,"cut":false,"hidden":false,"merged":[[1,1,1,2],[5,13,5,14],[26,13,26,14],[27,13,27,14],[4,19,4,22],[5,19,5,20],[4,39,4,42],[5,39,5,40],[4,44,4,47],[5,44,5,45],[4,24,4,27],[5,24,5,25],[4,29,4,32],[5,29,5,30],[4,34,4,37],[5,34,5,35]]}
["Report for:!LB27A55..Du"]
["Date:","<date>"]
["Hen:","<hen>",null,null,null,"Correct Sequence",{"$f":"Start!J2","v":2212},null,null,null,null,null,null,null,null,"Total Sequences in Data",{"$f":"4994-COUNTBLANK(L7:L5000)","v":168},null,null,null,null,"Total Sequences in Block Data",{"$f":"COUNTA(L7:L34)","v":28},null,null,null,"Total Sequences in Block Data",{"$f":"COUNTA(L35:L62)","v":28},null,null,null,"Total Sequences in Block Data",{"$f":"COUNTA(L63:L90)","v":28},null,null,null,"Total Sequences in Block Data",{"$f":"COUNTA(L91:L118)","v":28},null,null,null,"Total Sequences in Block Data",{"$f":"COUNTA(L119:L146)","v":28},null,null,null,"Total Sequences in Block Data",{"$f":"COUNTA(L147:L174)","v":28}]
[null,null,null,null,null,null,null,null,null,null,null,null,null,null,null,"Total Sequences in Summary",{"$f":"SUM(O7:O22)","v":167},null,null,null,null,"Total Sequences in Block Summary",{"$f":"SUM(U7:U22)","v":28},null,null,null,"Total Sequences in Block Summary",{"$f":"SUM(Z7:Z22)","v":28},null,null,null,"Total Sequences in Block Summary",{"$f":"SUM(AE7:AE22)","v":28},null,null,null,"Total Sequences in Block Summary",{"$f":"SUM(AJ7:AJ22)","v":28},null,null,null,"Total Sequences in Block Summary",{"$f":"SUM(AO7:AO22)","v":28},null,null,null,"Total Sequences in Block Summary",{"$f":"SUM(AT7:AT22)","v":27}]
[null,null,null,null,null,null,null,null,null,null,null,null,null,null,null,null,null,null,null,"Block 1",null,null,null,null,"Block 2",null,null,null,null,"Block 3",null,null,null,null,"Block 4",null,null,null,null,"Block 5",null,null,null,null,"Block 6"]
["Sequence\nComponent\n1","Time\n1","Sequence\nComponent\n2","Time\n2","Sequence\nComponent\n3","Time\n3","Sequence\nComponent\n4","Time\n4","Sequence\nComponent\n5","Time\n5","Correct?\n0=No 1=Yes","Sequence",null,"Frequency",null,"Relative Frequency","Variability",null,null,"Frequency",null,"Relative Frequency","Variability",null,"Frequency",null,"Relative Frequency","Variability",null,"Frequency",null,"Relative Frequency","Variability",null,"Frequency",null,"Relative Frequency","Variability",null,"Frequency",null,"Relative Frequency","Variability",null,"Frequency",null,"Relative Frequency","Variability"]
[21,17,21,26,22,41,23,49,null,null,0,2222,null,1111,{"$f":"COUNTIF($L$7:$L$500,N7)","v":25},{"$f":"O7/$Q$4","v":0.1497005988023952},{"$f":"IF(P7=0,0,(P7*((LOG(P7))/LOG(2))))","v":-0.41015690160169571},null,null,{"$f":"N7","v":1111},{"$f":"COUNTIF(L7:L34,T7)","v":5},{"$f":"U7/(W4-U20)","v":0.17857142857142858},{"$f":"IF(V7=0,0,(V7*((LOG(V7))/LOG(2))))","v":-0.44382621913754317},null,{"$f":"N7","v":1111},{"$f":"COUNTIF(L35:L62,Y7)","v":9},{"$f":"Z7/(AB4-Z20)","v":0.32142857142857145},{"$f":"IF(AA7=0,0,(AA7*((LOG(AA7))/LOG(2))))","v":-0.5263167601977724},null,{"$f":"N7","v":1111},{"$f":"COUNTIF(L63:L90,AD7)","v":5},{"$f":"AE7/(AG4-AE20)","v":0.17857142857142858},{"$f":"IF(AF7=0,0,(AF7*((LOG(AF7))/LOG(2))))","v":-0.44382621913754317},null,{"$f":"N7","v":1111},{"$f":"COUNTIF(L91:L118,AI7)","v":4},{"$f":"AJ7/(AL4-AJ20)","v":0.14285714285714285},{"$f":"IF(AK7=0,0,(AK7*((LOG(AK7))/LOG(2))))","v":-0.40105070315108626},null,{"$f":"N7","v":1111},{"$f":"COUNTIF(L119:L146,AN7)","v":0},{"$f":"AO7/(AQ4-AO20)","v":0},{"$f":"IF(AP7=0,0,(AP7*((LOG(AP7))/LOG(2))))","v":0},null,{"$f":"N7","v":1111},{"$f":"COUNTIF(L147:L174,AS7)","v":2},{"$f":"AT7/(AV4-AT20)","v":7.407407407407407E-2},{"$f":"IF(AU7=0,0,(AU7*((LOG(AU7))/LOG(2))))","v":-0.27813981497507173}]
[21,156,21,165,22,185,23,196,null,null,0,2222,null,1112,0,0,0,null,null,1112,{"$f":"COUNTIF(L7:L34,T8)","v":0},{"$f":"U8/(W4-U20)","v":0},0,null,1112,{"$f":"COUNTIF(L35:L62,Y8)","v":0},{"$f":"Z8/(AB4-Z20)","v":0},0,null,1112,{"$f":"COUNTIF(L63:L90,AD8)","v":0},{"$f":"AE8/(AG4-AE20)","v":0},0,null,1112,{"$f":"COUNTIF(L91:L118,AI8)","v":0},{"$f":"AJ8/(AL4-AJ20)","v":0},0,null,1112,{"$f":"COUNTIF(L119:L146,AN8)","v":0},{"$f":"AO8/(AQ4-AO20)","v":0},0,null,1112,{"$f":"COUNTIF(L147:L174,AS8)","v":0},{"$f":"AT8/(AV4-AT20)","v":0},0]
[21,297,21,303,11,320,12,325,null,null,0,2211,null,1121,0,0,0,null,null,1121,{"$f":"COUNTIF(L7:L34,T9)","v":0},{"$f":"U9/(W4-U20)","v":0},0,null,1121,{"$f":"COUNTIF(L35:L62,Y9)","v":0},{"$f":"Z9/(AB4-Z20)","v":0},0,null,1121,{"$f":"COUNTIF(L63:L90,AD9)","v":0},{"$f":"AE9/(AG4-AE20)","v":0},0,null,1121,{"$f":"COUNTIF(L91:L118,AI9)","v":0},{"$f":"AJ9/(AL4-AJ20)","v":0},0,null,1121,{"$f":"COUNTIF(L119:L146,AN9)","v":0},{"$f":"AO9/(AQ4-AO20)","v":0},0,null,1121,{"$f":"COUNTIF(L147:L174,AS9)","v":0},{"$f":"AT9/(AV4-AT20)","v":0},0]
[21,450,21,460,22,477,23,492,null,null,0,2222,null,1122,0,0,0,null,null,1122,{"$f":"COUNTIF(L7:L34,T10)","v":0},{"$f":"U10/(W4-U20)","v":0},0,null,1122,{"$f":"COUNTIF(L35:L62,Y10)","v":0},{"$f":"Z10/(AB4-Z20)","v":0},0,null,1122,{"$f":"COUNTIF(L63:L90,AD10)","v":0},{"$f":"AE10/(AG4-AE20)","v":0},0,null,1122,{"$f":"COUNTIF(L91:L118,AI10)","v":0},{"$f":"AJ10/(AL4-AJ20)","v":0},0,null,1122,{"$f":"COUNTIF(L119:L146,AN10)","v":0},{"$f":"AO10/(AQ4-AO20)","v":0},0,null,1122,{"$f":"COUNTIF(L147:L174,AS10)","v":0},{"$f":"AT10/(AV4-AT20)","v":0},0]
[12,593,23,606,24,612,23,618,null,null,0,1222,null,1211,0,0,0,null,null,1211,{"$f":"COUNTIF(L7:L34,T11)","v":0},{"$f":"U11/(W4-U20)","v":0},0,null,1211,{"$f":"COUNTIF(L35:L62,Y11)","v":0},{"$f":"Z11/(AB4-Z20)","v":0},0,null,1211,{"$f":"COUNTIF(L63:L90,AD11)","v":0},{"$f":"AE11/(AG4-AE20)","v":0},0,null,1211,{"$f":"COUNTIF(L91:L118,AI11)","v":0},{"$f":"AJ11/(AL4-AJ20)","v":0},0,null,1211,{"$f":"COUNTIF(L119:L146,AN11)","v":0},{"$f":"AO11/(AQ4-AO20)","v":0},0,null,1211,{"$f":"COUNTIF(L147:L174,AS11)","v":0},{"$f":"AT11/(AV4-AT20)","v":0},0]
[21,713,21,724,22,733,23,742,null,null,0,2222,null,1212,0,0,0,null,null,1212,{"$f":"COUNTIF(L7:L34,T12)","v":0},{"$f":"U12/(W4-U20)","v":0},0,null,1212,{"$f":"COUNTIF(L35:L62,Y12)","v":0},{"$f":"Z12/(AB4-Z20)","v":0},0,null,1212,{"$f":"COUNTIF(L63:L90,AD12)","v":0},{"$f":"AE12/(AG4-AE20)","v":0},0,null,1212,{"$f":"COUNTIF(L91:L118,AI12)","v":0},{"$f":"AJ12/(AL4-AJ20)","v":0},0,null,1212,{"$f":"COUNTIF(L119:L146,AN12)","v":0},{"$f":"AO12/(AQ4-AO20)","v":0},0,null,1212,{"$f":"COUNTIF(L147:L174,AS12)","v":0},{"$f":"AT12/(AV4-AT20)","v":0},0]
[21,925,12,938,13,950,14,956,null,null,0,2111,null,1221,0,0,0,null,null,1221,{"$f":"COUNTIF(L7:L34,T13)","v":0},{"$f":"U13/(W4-U20)","v":0},0,null,1221,{"$f":"COUNTIF(L35:L62,Y13)","v":0},{"$f":"Z13/(AB4-Z20)","v":0},0,null,1221,{"$f":"COUNTIF(L63:L90,AD13)","v":0},{"$f":"AE13/(AG4-AE20)","v":0},0,null,1221,{"$f":"COUNTIF(L91:L118,AI13)","v":0},{"$f":"AJ13/(AL4-AJ20)","v":0},0,null,1221,{"$f":"COUNTIF(L119:L146,AN13)","v":0},{"$f":"AO13/(AQ4-AO20)","v":0},0,null,1221,{"$f":"COUNTIF(L147:L174,AS13)","v":0},{"$f":"AT13/(AV4-AT20)","v":0},0]
[21,1064,21,1071,22,1077,23,1084,null,null,0,2222,null,1222,6,3.5928143712574849E-2,-0.17240988473363697,null,null,1222,{"$f":"COUNTIF(L7:L34,T14)","v":1},{"$f":"U14/(W4-U20)","v":3.5714285714285712E-2},-0.17169124721634299,null,1222,{"$f":"COUNTIF(L35:L62,Y14)","v":2},{"$f":"Z14/(AB4-Z20)","v":7.1428571428571425E-2},-0.27195392300411453,null,1222,{"$f":"COUNTIF(L63:L90,AD14)","v":0},{"$f":"AE14/(AG4-AE20)","v":0},0,null,1222,{"$f":"COUNTIF(L91:L118,AI14)","v":1},{"$f":"AJ14/(AL4-AJ20)","v":3.5714285714285712E-2},-0.17169124721634299,null,1222,{"$f":"COUNTIF(L119:L146,AN14)","v":1},{"$f":"AO14/(AQ4-AO20)","v":3.5714285714285712E-2},-0.17169124721634299,null,1222,{"$f":"COUNTIF(L147:L174,AS14)","v":1},{"$f":"AT14/(AV4-AT20)","v":3.7037037037037035E-2},-0.1761069445245729]
[12,1245,14,1251,13,1257,14,1269,null,null,0,1111,null,2111,7,4.1916167664670656E-2,-0.19182302750248584,null,null,2111,{"$f":"COUNTIF(L7:L34,T15)","v":1},{"$f":"U15/(W4-U20)","v":3.5714285714285712E-2},-0.17169124721634299,null,2111,{"$f":"COUNTIF(L35:L62,Y15)","v":3},{"$f":"Z15/(AB4-Z20)","v":0.10714285714285714},-0.34525633085747659,null,2111,{"$f":"COUNTIF(L63:L90,AD15)","v":0},{"$f":"AE15/(AG4-AE20)","v":0},0,null,2111,{"$f":"COUNTIF(L91:L118,AI15)","v":0},{"$f":"AJ15/(AL4-AJ20)","v":0},0,null,2111,{"$f":"COUNTIF(L119:L146,AN15)","v":1},{"$f":"AO15/(AQ4-AO20)","v":3.5714285714285712E-2},-0.17169124721634299,null,2111,{"$f":"COUNTIF(L147:L174,AS15)","v":2},{"$f":"AT15/(AV4-AT20)","v":7.407407407407407E-2},-0.27813981497507173]
[12,1422,14,1428,13,1434,14,1440,null,null,0,1111,null,2112,0,0,0,null,null,2112,{"$f":"COUNTIF(L7:L34,T16)","v":0},{"$f":"U16/(W4-U20)","v":0},0,null,2112,{"$f":"COUNTIF(L35:L62,Y16)","v":0},{"$f":"Z16/(AB4-Z20)","v":0},0,null,2112,{"$f":"COUNTIF(L63:L90,AD16)","v":0},{"$f":"AE16/(AG4-AE20)","v":0},0,null,2112,{"$f":"COUNTIF(L91:L118,AI16)","v":0},{"$f":"AJ16/(AL4-AJ20)","v":0},0,null,2112,{"$f":"COUNTIF(L119:L146,AN16)","v":0},{"$f":"AO16/(AQ4-AO20)","v":0},0,null,2112,{"$f":"COUNTIF(L147:L174,AS16)","v":0},{"$f":"AT16/(AV4-AT20)","v":0},0]
[21,1544,21,1551,22,1562,23,1568,null,null,0,2222,null,2121,0,0,0,null,null,2121,{"$f":"COUNTIF(L7:L34,T17)","v":0},{"$f":"U17/(W4-U20)","v":0},0,null,2121,{"$f":"COUNTIF(L35:L62,Y17)","v":0},{"$f":"Z17/(AB4-Z20)","v":0},0,null,2121,{"$f":"COUNTIF(L63:L90,AD17)","v":0},{"$f":"AE17/(AG4-AE20)","v":0},0,null,2121,{"$f":"COUNTIF(L91:L118,AI17)","v":0},{"$f":"AJ17/(AL4-AJ20)","v":0},0,null,2121,{"$f":"COUNTIF(L119:L146,AN17)","v":0},{"$f":"AO17/(AQ4-AO20)","v":0},0,null,2121,{"$f":"COUNTIF(L147:L174,AS17)","v":0},{"$f":"AT17/(AV4-AT20)","v":0},0]
[21,1674,21,1683,22,1690,23,1696,null,null,0,2222,null,2122,0,0,0,null,null,2122,{"$f":"COUNTIF(L7:L34,T18)","v":0},{"$f":"U18/(W4-U20)","v":0},0,null,2122,{"$f":"COUNTIF(L35:L62,Y18)","v":0},{"$f":"Z18/(AB4-Z20)","v":0},0,null,2122,{"$f":"COUNTIF(L63:L90,AD18)","v":0},{"$f":"AE18/(AG4-AE20)","v":0},0,null,2122,{"$f":"COUNTIF(L91:L118,AI18)","v":0},{"$f":"AJ18/(AL4-AJ20)","v":0},0,null,2122,{"$f":"COUNTIF(L119:L146,AN18)","v":0},{"$f":"AO18/(AQ4-AO20)","v":0},0,null,2122,{"$f":"COUNTIF(L147:L174,AS18)","v":0},{"$f":"AT18/(AV4-AT20)","v":0},0]
[21,1795,21,1804,22,1812,23,1819,null,null,0,2222,null,2211,2,1.1976047904191617E-2,-7.6451548412862905E-2,null,null,2211,{"$f":"COUNTIF(L7:L34,T19)","v":1},{"$f":"U19/(W4-U20)","v":3.5714285714285712E-2},-0.17169124721634299,null,2211,{"$f":"COUNTIF(L35:L62,Y19)","v":0},{"$f":"Z19/(AB4-Z20)","v":0},0,null,2211,{"$f":"COUNTIF(L63:L90,AD19)","v":0},{"$f":"AE19/(AG4-AE20)","v":0},0,null,2211,{"$f":"COUNTIF(L91:L118,AI19)","v":1},{"$f":"AJ19/(AL4-AJ20)","v":3.5714285714285712E-2},-0.17169124721634299,null,2211,{"$f":"COUNTIF(L119:L146,AN19)","v":0},{"$f":"AO19/(AQ4-AO20)","v":0},0,null,2211,{"$f":"COUNTIF(L147:L174,AS19)","v":0},{"$f":"AT19/(AV4-AT20)","v":0},0]
[21,1930,21,1936,22,1948,23,1953,null,null,0,2222,null,2212,0,0,0,null,null,2212,{"$f":"COUNTIF(L7:L34,T20)","v":0},null,null,null,2212,{"$f":"COUNTIF(L35:L62,Y20)","v":0},null,null,null,2212,{"$f":"COUNTIF(L63:L90,AD20)","v":0},null,null,null,2212,{"$f":"COUNTIF(L91:L118,AI20)","v":0},null,null,null,2212,{"$f":"COUNTIF(L119:L146,AN20)","v":0},null,null,null,2212,{"$f":"COUNTIF(L147:L174,AS20)","v":0}]
[21,2084,21,2091,22,2098,23,2105,null,null,0,2222,null,2221,0,0,0,null,null,2221,{"$f":"COUNTIF(L7:L34,T21)","v":0},{"$f":"U21/(W4-U20)","v":0},{"$f":"IF(V21=0,0,(V21*((LOG(V21))/LOG(2))))","v":0},null,2221,{"$f":"COUNTIF(L35:L62,Y21)","v":0},{"$f":"Z21/(AB4-Z20)","v":0},{"$f":"IF(AA21=0,0,(AA21*((LOG(AA21))/LOG(2))))","v":0},null,2221,{"$f":"COUNTIF(L63:L90,AD21)","v":0},{"$f":"AE21/(AG4-AE20)","v":0},{"$f":"IF(AF21=0,0,(AF21*((LOG(AF21))/LOG(2))))","v":0},null,2221,{"$f":"COUNTIF(L91:L118,AI21)","v":0},{"$f":"AJ21/(AL4-AJ20)","v":0},{"$f":"IF(AK21=0,0,(AK21*((LOG(AK21))/LOG(2))))","v":0},null,2221,{"$f":"COUNTIF(L119:L146,AN21)","v":0},{"$f":"AO21/(AQ4-AO20)","v":0},{"$f":"IF(AP21=0,0,(AP21*((LOG(AP21))/LOG(2))))","v":0},null,2221,{"$f":"COUNTIF(L147:L174,AS21)","v":0},{"$f":"AT21/(AV4-AT20)","v":0},{"$f":"IF(AU21=0,0,(AU21*((LOG(AU21))/LOG(2))))","v":0}]
[12,2210,14,2214,13,2220,14,2226,null,null,0,1111,null,2222,127,0.76047904191616766,-0.30040413128227289,null,null,2222,{"$f":"COUNTIF(L7:L34,T22)","v":20},{"$f":"U22/(W4-U20)","v":0.7142857142857143},{"$f":"IF(V22=0,0,(V22*((LOG(V22))/LOG(2))))","v":-0.34673344797874411},null,2222,{"$f":"COUNTIF(L35:L62,Y22)","v":14},{"$f":"Z22/(AB4-Z20)","v":0.5},{"$f":"IF(AA22=0,0,(AA22*((LOG(AA22))/LOG(2))))","v":-0.5},null,2222,{"$f":"COUNTIF(L63:L90,AD22)","v":23},{"$f":"AE22/(AG4-AE20)","v":0.8214285714285714},{"$f":"IF(AF22=0,0,(AF22*((LOG(AF22))/LOG(2))))","v":-0.23311565064334283},null,2222,{"$f":"COUNTIF(L91:L118,AI22)","v":22},{"$f":"AJ22/(AL4-AJ20)","v":0.7857142857142857},{"$f":"IF(AK22=0,0,(AK22*((LOG(AK22))/LOG(2))))","v":-0.27336830983024107},null,2222,{"$f":"COUNTIF(L119:L146,AN22)","v":26},{"$f":"AO22/(AQ4-AO20)","v":0.9285714285714286},{"$f":"IF(AP22=0,0,(AP22*((LOG(AP22))/LOG(2))))","v":-9.9278403636761048E-2},null,2222,{"$f":"COUNTIF(L147:L174,AS22)","v":22},{"$f":"AT22/(AV4-AT20)","v":0.81481481481481477},{"$f":"IF(AU22=0,0,(AU22*((LOG(AU22))/LOG(2))))","v":-0.24074183102132479}]
[21,2335,21,2342,22,2349,23,2355,null,null,0,2222,null,null,null,{"$f":"SUM(P7:P22)","v":1},{"$f":"-SUM(Q7:Q22)","v":1.1512454935329544},null,null,null,null,{"$f":"SUM(V7:V22)","v":1},{"$f":"-SUM(W7:W22)","v":1.3056334087653163},null,null,null,{"$f":"SUM(AA7:AA22)","v":1},{"$f":"-SUM(AB7:AB22)","v":1.6435270140593634},null,null,null,{"$f":"SUM(AF7:AF22)","v":1},{"$f":"-SUM(AG7:AG22)","v":0.676941869780886},null,null,null,{"$f":"SUM(AK7:AK22)","v":1},{"$f":"-SUM(AL7:AL22)","v":1.0178015074140134},null,null,null,{"$f":"SUM(AP7:AP22)","v":1},{"$f":"-SUM(AQ7:AQ22)","v":0.44266089806944703},null,null,null,{"$f":"SUM(AU7:AU22)","v":1},{"$f":"-SUM(AV7:AV22)","v":0.97312840549604118}]
[21,2459,21,2469,22,2476,23,2482,null,null,0,2222,null,null,null,"U=",{"$f":"Q23/(LOG(Q4)/LOG(2))","v":0.15591706383832002},null,null,null,null,"U1=",{"$f":"W23/(LOG(W4)/LOG(2))","v":0.2715908082373269},null,null,null,"U2=",{"$f":"AB23/(LOG(AB4)/LOG(2))","v":0.34187761060003341},null,null,null,"U3=",{"$f":"AG23/(LOG(AG4)/LOG(2))","v":0.14081379069285507},null,null,null,"U4=",{"$f":"AL23/(LOG(AL4)/LOG(2))","v":0.21171757107927089},null,null,null,"U5=",{"$f":"AQ23/(LOG(AQ4)/LOG(2))","v":9.2079928619038395E-2},null,null,null,"U6=",{"$f":"AV23/(LOG(AV4)/LOG(2))","v":0.20465855502433419}]
[12,2711,14,2718,13,2723,14,2728,null,null,0,1111]
[12,2851,14,2862,13,2868,14,2876,null,null,0,1111]
[21,2975,21,2981,22,2987,23,2992,null,null,0,2222,null,"Total Target Seq"]
[21,3101,21,3110,22,3115,23,3122,null,null,0,2222,null,{"$f":"COUNTIF(L7:L174,G3)","v":0},null,28,28,28,28,28,28]
[21,3227,21,3234,22,3247,23,3261,null,null,0,2222,null,null,null,"% of reinforcement given in 6 equal intervals based on number of trials "]
[21,3362,21,3371,22,3378,23,3385,null,null,0,2222,null,null,null,"%_1","%_2","%_3","%_4","%_5","%_6"]
[21,3492,21,3508,22,3515,23,3527,null,null,0,2222,null,null,"target sequence",{"$f":"$G$3","v":2212},2212,2212,2212,2212,2212]
[21,3640,21,3646,22,3653,23,3659,null,null,0,2222,null,null,"total reinforcement",{"$f":"U20","v":0},{"$f":"Z20","v":0},{"$f":"AE20","v":0},{"$f":"AJ20","v":0},{"$f":"AO20","v":0},{"$f":"AT20","v":0}]
[21,3844,21,3851,22,3860,23,3867,null,null,0,2222,null,null,"% target"]
[21,3972,21,3981,22,3989,23,3995,null,null,0,2222,null,null,"CCRF"]
[12,4107,14,4112,13,4118,14,4124,null,null,0,1111,null,null,"% CCRf"]
[21,4226,12,4241,13,4247,14,4252,null,null,0,2111,null,null,"average response rate",{"$f":"H34/P28","v":142.67857142857142},{"$f":"(H62-H34)/Q28","v":136.42857142857142},{"$f":"(H90-H62)/R28","v":143.71428571428572},{"$f":"(H118-H90)/S28","v":143.60714285714286},{"$f":"(H146-H118)/T28","v":142.25},{"$f":"(H174-H146)/U28","v":-708.67857142857144}]
[21,4353,21,4359,22,4366,23,4372,null,null,0,2222]
[21,4470,21,4478,22,4488,23,4507,null,null,0,2222]
[21,4631,21,4637,22,4643,23,4649,null,null,0,2222]
[12,4882,14,4890,13,4896,14,4902,null,null,0,1111]
[21,5005,21,5012,22,5018,23,5025,null,null,0,2222]
[21,5117,12,5145,13,5151,14,5157,null,null,0,2111]
[21,5256,21,5263,22,5272,23,5281,null,null,0,2222]
[12,5378,14,5384,13,5390,14,5397,null,null,0,1111]
[21,5501,21,5506,22,5512,23,5523,null,null,0,2222]
[12,5623,14,5636,13,5642,14,5653,null,null,0,1111]
[12,5756,14,5764,13,5771,14,5776,null,null,0,1111]
[12,5926,14,5932,13,5939,14,5948,null,null,0,1111]
[12,6046,23,6062,24,6070,23,6083,null,null,0,1222]
[21,6184,21,6194,22,6203,23,6211,null,null,0,2222]
[21,6337,21,6343,22,6349,23,6355,null,null,0,2222]
[21,6468,21,6474,22,6480,23,6486,null,null,0,2222]
[12,6583,14,6589,13,6595,14,6601,null,null,0,1111]
[12,6733,14,6742,13,6747,14,6753,null,null,0,1111]
[21,6847,21,6857,22,6865,23,6872,null,null,0,2222]
[21,6974,21,6987,22,7000,23,7006,null,null,0,2222]
[21,7107,21,7116,22,7124,23,7130,null,null,0,2222]
[12,7239,23,7248,24,7256,23,7264,null,null,0,1222]
[21,7396,12,7408,13,7414,14,7420,null,null,0,2111]
[21,7524,21,7533,22,7546,23,7558,null,null,0,2222]
[21,7666,21,7671,22,7680,23,7693,null,null,0,2222]
[12,7797,14,7802,13,7808,14,7815,null,null,0,1111]
[21,7914,21,7930,22,7937,23,7944,null,null,0,2222]
[21,8069,21,8077,22,8084,23,8089,null,null,0,2222]
[21,8194,21,8210,22,8217,23,8231,null,null,0,2222]
[21,8330,21,8336,22,8342,23,8349,null,null,0,2222]
[21,8448,21,8455,22,8472,23,8478,null,null,0,2222]
[21,8590,21,8603,22,8612,23,8619,null,null,0,2222]
[21,8727,21,8738,22,8745,23,8753,null,null,0,2222]
[21,8897,21,8904,22,8911,23,8918,null,null,0,2222]
[21,9024,21,9045,22,9051,23,9064,null,null,0,2222]
[21,9224,21,9232,22,9238,23,9245,null,null,0,2222]
[21,9345,21,9363,22,9366,23,9371,null,null,0,2222]
[21,9474,21,9482,22,9490,23,9505,null,null,0,2222]
[21,9599,21,9611,22,9619,23,9628,null,null,0,2222]
[12,9806,14,9810,13,9816,14,9822,null,null,0,1111]
[12,10022,14,10029,13,10037,14,10045,null,null,0,1111]
[21,10150,21,10160,22,10168,23,10180,null,null,0,2222]
[21,10295,21,10301,22,10307,23,10312,null,null,0,2222]
[21,10414,21,10434,22,10440,23,10447,null,null,0,2222]
[12,10620,14,10627,13,10632,14,10638,null,null,0,1111]
[21,10739,21,10752,22,10761,23,10768,null,null,0,2222]
[12,10898,14,10904,13,10912,14,10917,null,null,0,1111]
[21,11016,21,11027,22,11034,23,11047,null,null,0,2222]
[21,11151,21,11161,22,11167,23,11174,null,null,0,2222]
[21,11272,21,11277,22,11281,23,11290,null,null,0,2222]
[21,11405,21,11409,22,11426,23,11431,null,null,0,2222]
[12,11569,14,11579,13,11584,14,11590,null,null,0,1111]
[21,11691,21,11700,22,11708,23,11714,null,null,0,2222]
[21,11816,21,11823,22,11832,23,11839,null,null,0,2222]
[21,11946,21,11972,22,11979,23,11987,null,null,0,2222]
[21,12088,21,12095,22,12105,23,12112,null,null,0,2222]
[21,12241,21,12250,22,12256,23,12261,null,null,0,2222]
[21,12360,21,12373,22,12381,23,12388,null,null,0,2222]
[21,12490,21,12497,22,12502,23,12509,null,null,0,2222]
[21,12613,21,12619,22,12627,23,12633,null,null,0,2222]
[21,12748,21,12754,22,12767,23,12773,null,null,0,2222]
[12,12869,23,12890,24,12896,23,12901,null,null,0,1222]
[12,13070,14,13078,13,13083,14,13089,null,null,0,1111]
[21,13192,21,13200,22,13207,23,13213,null,null,0,2222]
[21,13319,21,13326,22,13333,23,13345,null,null,0,2222]
[21,13452,21,13463,22,13469,23,13475,null,null,0,2222]
[21,13590,21,13596,22,13602,23,13608,null,null,0,2222]
[21,13713,21,13720,22,13726,23,13732,null,null,0,2222]
[21,13828,21,13839,22,13848,23,13855,null,null,0,2222]
[12,14015,14,14021,13,14028,14,14036,null,null,0,1111]
[12,14297,14,14304,13,14308,14,14313,null,null,0,1111]
[21,14412,21,14417,22,14426,23,14432,null,null,0,2222]
[21,14524,21,14543,22,14550,23,14557,null,null,0,2222]
[21,14658,21,14666,22,14674,23,14681,null,null,0,2222]
[21,14863,21,14866,22,14876,23,14882,null,null,0,2222]
[21,14978,21,14985,22,14994,23,15010,null,null,0,2222]
[21,15109,21,15116,22,15122,23,15129,null,null,0,2222]
[21,15232,21,15240,22,15248,23,15255,null,null,0,2222]
[21,15370,21,15373,22,15379,23,15387,null,null,0,2222]
[12,15586,14,15591,13,15597,14,15603,null,null,0,1111]
[21,15696,21,15706,11,15726,12,15733,null,null,0,2211]
[21,15836,21,15847,22,15854,23,15860,null,null,0,2222]
[21,15969,21,15977,22,15983,23,15990,null,null,0,2222]
[21,16105,21,16115,22,16124,23,16131,null,null,0,2222]
[21,16229,21,16234,22,16242,23,16249,null,null,0,2222]
[21,16357,21,16366,22,16375,23,16383,null,null,0,2222]
[21,16571,21,16582,22,16590,23,16596,null,null,0,2222]
[21,16705,21,16714,22,16719,23,16727,null,null,0,2222]
[21,16828,21,16838,22,16853,23,16860,null,null,0,2222]
[21,16986,21,16994,22,17001,23,17006,null,null,0,2222]
[12,17104,23,17111,24,17120,23,17127,null,null,0,1222]
[21,17236,21,17244,22,17251,23,17257,null,null,0,2222]
[21,17369,21,17377,22,17383,23,17390,null,null,0,2222]
[21,17496,21,17502,22,17510,23,17522,null,null,0,2222]
[21,17627,21,17643,22,17650,23,17656,null,null,0,2222]
[21,17816,21,17824,22,17829,23,17841,null,null,0,2222]
[21,17947,21,17955,22,17964,23,17978,null,null,0,2222]
[21,18082,21,18098,22,18107,23,18114,null,null,0,2222]
[21,18225,21,18234,22,18248,23,18253,null,null,0,2222]
[21,18346,21,18366,22,18371,23,18378,null,null,0,2222]
[21,18480,21,18490,22,18498,23,18505,null,null,0,2222]
[21,18617,21,18624,22,18631,23,18638,null,null,0,2222]
[21,18774,21,18781,22,18788,23,18795,null,null,0,2222]
[21,18905,21,18923,22,18939,23,18945,null,null,0,2222]
[21,19054,21,19062,22,19066,23,19073,null,null,0,2222]
[21,19214,12,19228,13,19234,14,19245,null,null,0,2111]
[21,19346,21,19362,22,19369,23,19375,null,null,0,2222]
[21,19483,21,19489,22,19497,23,19503,null,null,0,2222]
[21,19609,21,19625,22,19637,23,19643,null,null,0,2222]
[21,19826,21,19832,22,19838,23,19843,null,null,0,2222]
[21,19953,21,19970,22,19976,23,19982,null,null,0,2222]
[21,20088,21,20093,22,20098,23,20104,null,null,0,2222]
[21,20216,21,20226,22,20234,23,20241,null,null,0,2222]
[21,20361,21,20369,22,20384,23,20391,null,null,0,2222]
[21,20499,21,20522,22,20528,23,20552,null,null,0,2222]
[21,20677,21,20692,22,20701,23,20709,null,null,0,2222]
[21,20809,21,20818,22,20826,23,20833,null,null,0,2222]
[21,20937,21,20943,22,20949,23,20957,null,null,0,2222]
[21,21124,12,21142,13,21149,14,21155,null,null,0,2111]
[21,21269,21,21276,22,21283,23,21290,null,null,0,2222]
[21,21420,21,21431,22,21437,23,21451,null,null,0,2222]
[21,21553,21,21561,22,21568,23,21575,null,null,0,2222]
[21,21683,21,21700,22,21708,23,21714,null,null,0,2222]
[21,21816,21,21824,22,21831,23,21838,null,null,0,2222]
[21,21942,21,21950,22,21964,23,21970,null,null,0,2222]
[21,22077,21,22085,22,22090,23,22096,null,null,0,2222]
[21,22209,21,22217,22,22223,23,22230,null,null,0,2222]
[21,22336,21,22346,22,22353,23,22359,null,null,0,2222]
[12,22551,14,22553,13,22558,14,22564,null,null,0,1111]
[12,22785,14,22792,13,22797,14,22804,null,null,0,1111]
[21,22907,21,22932,22,22939,23,22947,null,null,0,2222]
[21,23143,21,23151,22,23165,23,23171,null,null,0,2222]
[21,23276,21,23284,22,23294,23,23307,null,null,0,2222]
[12,23406,23,23428,24,23440,23,23446,null,null,0,1222]
[21,23550,21,23552,22,23558,23,23566,null,null,0,2222]
[21,23680,21,23687,22,23693,23,23700,null,null,0,2222]
[21,23855,12,23874,13,23882,14,23888,null,null,0,2111]
[21,23994,21,24000,null,null,null,null,null,null,null,22]

{"sheet":"!LB28B05..Du","index":28,"n_rows":177,"n_cols":48,"rows_kept":177,"cut":false,"hidden":false,"merged":[[1,1,1,2],[5,13,5,14],[26,13,26,14],[27,13,27,14],[4,19,4,22],[5,19,5,20],[4,39,4,42],[5,39,5,40],[4,44,4,47],[5,44,5,45],[4,24,4,27],[5,24,5,25],[4,29,4,32],[5,29,5,30],[4,34,4,37],[5,34,5,35]]}
["Report for:!LB28B05..Du"]
["Date:","<date>"]
["Hen:","<hen>",null,null,null,"Correct Sequence",{"$f":"Start!J2","v":2212},null,null,null,null,null,null,null,null,"Total Sequences in Data",{"$f":"4994-COUNTBLANK(L7:L5000)","v":171},null,null,null,null,"Total Sequences in Block Data",{"$f":"COUNTA(L7:L35)","v":29},null,null,null,"Total Sequences in Block Data",{"$f":"COUNTA(L36:L63)","v":28},null,null,null,"Total Sequences in Block Data",{"$f":"COUNTA(L64:L92)","v":29},null,null,null,"Total Sequences in Block Data",{"$f":"COUNTA(L93:L120)","v":28},null,null,null,"Total Sequences in Block Data",{"$f":"COUNTA(L121:L149)","v":29},null,null,null,"Total Sequences in Block Data",{"$f":"COUNTA(L150:L177)","v":28}]
[null,null,null,null,null,null,null,null,null,null,null,null,null,null,null,"Total Sequences in Summary",{"$f":"SUM(O7:O22)","v":171},null,null,null,null,"Total Sequences in Block Summary",{"$f":"SUM(U7:U22)","v":29},null,null,null,"Total Sequences in Block Summary",{"$f":"SUM(Z7:Z22)","v":28},null,null,null,"Total Sequences in Block Summary",{"$f":"SUM(AE7:AE22)","v":29},null,null,null,"Total Sequences in Block Summary",{"$f":"SUM(AJ7:AJ22)","v":28},null,null,null,"Total Sequences in Block Summary",{"$f":"SUM(AO7:AO22)","v":29},null,null,null,"Total Sequences in Block Summary",{"$f":"SUM(AT7:AT22)","v":28}]
[null,null,null,null,null,null,null,null,null,null,null,null,null,null,null,null,null,null,null,"Block 1",null,null,null,null,"Block 2",null,null,null,null,"Block 3",null,null,null,null,"Block 4",null,null,null,null,"Block 5",null,null,null,null,"Block 6"]
["Sequence\nComponent\n1","Time\n1","Sequence\nComponent\n2","Time\n2","Sequence\nComponent\n3","Time\n3","Sequence\nComponent\n4","Time\n4","Sequence\nComponent\n5","Time\n5","Correct?\n0=No 1=Yes","Sequence",null,"Frequency",null,"Relative Frequency","Variability",null,null,"Frequency",null,"Relative Frequency","Variability",null,"Frequency",null,"Relative Frequency","Variability",null,"Frequency",null,"Relative Frequency","Variability",null,"Frequency",null,"Relative Frequency","Variability",null,"Frequency",null,"Relative Frequency","Variability",null,"Frequency",null,"Relative Frequency","Variability"]
[21,17,21,21,22,28,23,35,null,null,0,2222,null,1111,{"$f":"COUNTIF($L$7:$L$500,N7)","v":66},{"$f":"O7/$Q$4","v":0.38596491228070173},{"$f":"IF(P7=0,0,(P7*((LOG(P7))/LOG(2))))","v":-0.53010674915094347},null,null,{"$f":"N7","v":1111},{"$f":"COUNTIF(L7:L35,T7)","v":8},{"$f":"U7/(W4-U20)","v":0.27586206896551724},{"$f":"IF(V7=0,0,(V7*((LOG(V7))/LOG(2))))","v":-0.51254648141450265},null,{"$f":"N7","v":1111},{"$f":"COUNTIF(L36:L63,Y7)","v":7},{"$f":"Z7/(AB4-Z20)","v":0.25},{"$f":"IF(AA7=0,0,(AA7*((LOG(AA7))/LOG(2))))","v":-0.5},null,{"$f":"N7","v":1111},{"$f":"COUNTIF(L64:L92,AD7)","v":13},{"$f":"AE7/(AG4-AE20)","v":0.44827586206896552},{"$f":"IF(AF7=0,0,(AF7*((LOG(AF7))/LOG(2))))","v":-0.51889781382152544},null,{"$f":"N7","v":1111},{"$f":"COUNTIF(L93:L120,AI7)","v":16},{"$f":"AJ7/(AL4-AJ20)","v":0.5714285714285714},{"$f":"IF(AK7=0,0,(AK7*((LOG(AK7))/LOG(2))))","v":-0.46134566974720237},null,{"$f":"N7","v":1111},{"$f":"COUNTIF(L121:L149,AN7)","v":11},{"$f":"AO7/(AQ4-AO20)","v":0.37931034482758619},{"$f":"IF(AP7=0,0,(AP7*((LOG(AP7))/LOG(2))))","v":-0.53048424625493174},null,{"$f":"N7","v":1111},{"$f":"COUNTIF(L150:L177,AS7)","v":11},{"$f":"AT7/(AV4-AT20)","v":0.39285714285714285},{"$f":"IF(AU7=0,0,(AU7*((LOG(AU7))/LOG(2))))","v":-0.52954129777226344}]
[21,135,21,142,22,151,23,158,null,null,0,2222,null,1112,0,0,0,null,null,1112,{"$f":"COUNTIF(L7:L35,T8)","v":0},{"$f":"U8/(W4-U20)","v":0},0,null,1112,{"$f":"COUNTIF(L36:L63,Y8)","v":0},{"$f":"Z8/(AB4-Z20)","v":0},0,null,1112,{"$f":"COUNTIF(L64:L92,AD8)","v":0},{"$f":"AE8/(AG4-AE20)","v":0},0,null,1112,{"$f":"COUNTIF(L93:L120,AI8)","v":0},{"$f":"AJ8/(AL4-AJ20)","v":0},0,null,1112,{"$f":"COUNTIF(L121:L149,AN8)","v":0},{"$f":"AO8/(AQ4-AO20)","v":0},0,null,1112,{"$f":"COUNTIF(L150:L177,AS8)","v":0},{"$f":"AT8/(AV4-AT20)","v":0},0]
[21,268,21,276,22,283,23,296,null,null,0,2222,null,1121,0,0,0,null,null,1121,{"$f":"COUNTIF(L7:L35,T9)","v":0},{"$f":"U9/(W4-U20)","v":0},0,null,1121,{"$f":"COUNTIF(L36:L63,Y9)","v":0},{"$f":"Z9/(AB4-Z20)","v":0},0,null,1121,{"$f":"COUNTIF(L64:L92,AD9)","v":0},{"$f":"AE9/(AG4-AE20)","v":0},0,null,1121,{"$f":"COUNTIF(L93:L120,AI9)","v":0},{"$f":"AJ9/(AL4-AJ20)","v":0},0,null,1121,{"$f":"COUNTIF(L121:L149,AN9)","v":0},{"$f":"AO9/(AQ4-AO20)","v":0},0,null,1121,{"$f":"COUNTIF(L150:L177,AS9)","v":0},{"$f":"AT9/(AV4-AT20)","v":0},0]
[21,406,21,412,22,424,23,430,null,null,0,2222,null,1122,1,5.8479532163742687E-3,-4.3379254473016944E-2,null,null,1122,{"$f":"COUNTIF(L7:L35,T10)","v":0},{"$f":"U10/(W4-U20)","v":0},0,null,1122,{"$f":"COUNTIF(L36:L63,Y10)","v":0},{"$f":"Z10/(AB4-Z20)","v":0},0,null,1122,{"$f":"COUNTIF(L64:L92,AD10)","v":0},{"$f":"AE10/(AG4-AE20)","v":0},0,null,1122,{"$f":"COUNTIF(L93:L120,AI10)","v":1},{"$f":"AJ10/(AL4-AJ20)","v":3.5714285714285712E-2},-0.17169124721634299,null,1122,{"$f":"COUNTIF(L121:L149,AN10)","v":0},{"$f":"AO10/(AQ4-AO20)","v":0},0,null,1122,{"$f":"COUNTIF(L150:L177,AS10)","v":0},{"$f":"AT10/(AV4-AT20)","v":0},0]
[21,530,21,545,22,550,23,559,null,null,0,2222,null,1211,0,0,0,null,null,1211,{"$f":"COUNTIF(L7:L35,T11)","v":0},{"$f":"U11/(W4-U20)","v":0},0,null,1211,{"$f":"COUNTIF(L36:L63,Y11)","v":0},{"$f":"Z11/(AB4-Z20)","v":0},0,null,1211,{"$f":"COUNTIF(L64:L92,AD11)","v":0},{"$f":"AE11/(AG4-AE20)","v":0},0,null,1211,{"$f":"COUNTIF(L93:L120,AI11)","v":0},{"$f":"AJ11/(AL4-AJ20)","v":0},0,null,1211,{"$f":"COUNTIF(L121:L149,AN11)","v":0},{"$f":"AO11/(AQ4-AO20)","v":0},0,null,1211,{"$f":"COUNTIF(L150:L177,AS11)","v":0},{"$f":"AT11/(AV4-AT20)","v":0},0]
[21,669,21,676,22,682,23,688,null,null,0,2222,null,1212,0,0,0,null,null,1212,{"$f":"COUNTIF(L7:L35,T12)","v":0},{"$f":"U12/(W4-U20)","v":0},0,null,1212,{"$f":"COUNTIF(L36:L63,Y12)","v":0},{"$f":"Z12/(AB4-Z20)","v":0},0,null,1212,{"$f":"COUNTIF(L64:L92,AD12)","v":0},{"$f":"AE12/(AG4-AE20)","v":0},0,null,1212,{"$f":"COUNTIF(L93:L120,AI12)","v":0},{"$f":"AJ12/(AL4-AJ20)","v":0},0,null,1212,{"$f":"COUNTIF(L121:L149,AN12)","v":0},{"$f":"AO12/(AQ4-AO20)","v":0},0,null,1212,{"$f":"COUNTIF(L150:L177,AS12)","v":0},{"$f":"AT12/(AV4-AT20)","v":0},0]
[12,840,14,843,13,852,14,857,null,null,0,1111,null,1221,0,0,0,null,null,1221,{"$f":"COUNTIF(L7:L35,T13)","v":0},{"$f":"U13/(W4-U20)","v":0},0,null,1221,{"$f":"COUNTIF(L36:L63,Y13)","v":0},{"$f":"Z13/(AB4-Z20)","v":0},0,null,1221,{"$f":"COUNTIF(L64:L92,AD13)","v":0},{"$f":"AE13/(AG4-AE20)","v":0},0,null,1221,{"$f":"COUNTIF(L93:L120,AI13)","v":0},{"$f":"AJ13/(AL4-AJ20)","v":0},0,null,1221,{"$f":"COUNTIF(L121:L149,AN13)","v":0},{"$f":"AO13/(AQ4-AO20)","v":0},0,null,1221,{"$f":"COUNTIF(L150:L177,AS13)","v":0},{"$f":"AT13/(AV4-AT20)","v":0},0]
[21,969,21,978,22,986,23,993,null,null,0,2222,null,1222,7,4.0935672514619881E-2,-0.18873381958946231,null,null,1222,{"$f":"COUNTIF(L7:L35,T14)","v":1},{"$f":"U14/(W4-U20)","v":3.4482758620689655E-2},-0.16751658603888178,null,1222,{"$f":"COUNTIF(L36:L63,Y14)","v":0},{"$f":"Z14/(AB4-Z20)","v":0},0,null,1222,{"$f":"COUNTIF(L64:L92,AD14)","v":2},{"$f":"AE14/(AG4-AE20)","v":6.8965517241379309E-2},-0.26606765483638428,null,1222,{"$f":"COUNTIF(L93:L120,AI14)","v":1},{"$f":"AJ14/(AL4-AJ20)","v":3.5714285714285712E-2},-0.17169124721634299,null,1222,{"$f":"COUNTIF(L121:L149,AN14)","v":2},{"$f":"AO14/(AQ4-AO20)","v":6.8965517241379309E-2},-0.26606765483638428,null,1222,{"$f":"COUNTIF(L150:L177,AS14)","v":1},{"$f":"AT14/(AV4-AT20)","v":3.5714285714285712E-2},-0.17169124721634299]
[21,1096,21,1108,22,1115,23,1123,null,null,0,2222,null,2111,6,3.5087719298245612E-2,-0.16957508821630671,null,null,2111,{"$f":"COUNTIF(L7:L35,T15)","v":0},{"$f":"U15/(W4-U20)","v":0},0,null,2111,{"$f":"COUNTIF(L36:L63,Y15)","v":1},{"$f":"Z15/(AB4-Z20)","v":3.5714285714285712E-2},-0.17169124721634299,null,2111,{"$f":"COUNTIF(L64:L92,AD15)","v":0},{"$f":"AE15/(AG4-AE20)","v":0},0,null,2111,{"$f":"COUNTIF(L93:L120,AI15)","v":3},{"$f":"AJ15/(AL4-AJ20)","v":0.10714285714285714},-0.34525633085747659,null,2111,{"$f":"COUNTIF(L121:L149,AN15)","v":0},{"$f":"AO15/(AQ4-AO20)","v":0},0,null,2111,{"$f":"COUNTIF(L150:L177,AS15)","v":2},{"$f":"AT15/(AV4-AT20)","v":7.1428571428571425E-2},-0.27195392300411453]
[21,1244,21,1251,22,1257,23,1263,null,null,0,2222,null,2112,0,0,0,null,null,2112,{"$f":"COUNTIF(L7:L35,T16)","v":0},{"$f":"U16/(W4-U20)","v":0},0,null,2112,{"$f":"COUNTIF(L36:L63,Y16)","v":0},{"$f":"Z16/(AB4-Z20)","v":0},0,null,2112,{"$f":"COUNTIF(L64:L92,AD16)","v":0},{"$f":"AE16/(AG4-AE20)","v":0},0,null,2112,{"$f":"COUNTIF(L93:L120,AI16)","v":0},{"$f":"AJ16/(AL4-AJ20)","v":0},0,null,2112,{"$f":"COUNTIF(L121:L149,AN16)","v":0},{"$f":"AO16/(AQ4-AO20)","v":0},0,null,2112,{"$f":"COUNTIF(L150:L177,AS16)","v":0},{"$f":"AT16/(AV4-AT20)","v":0},0]
[12,1374,14,1379,13,1388,14,1394,null,null,0,1111,null,2121,0,0,0,null,null,2121,{"$f":"COUNTIF(L7:L35,T17)","v":0},{"$f":"U17/(W4-U20)","v":0},0,null,2121,{"$f":"COUNTIF(L36:L63,Y17)","v":0},{"$f":"Z17/(AB4-Z20)","v":0},0,null,2121,{"$f":"COUNTIF(L64:L92,AD17)","v":0},{"$f":"AE17/(AG4-AE20)","v":0},0,null,2121,{"$f":"COUNTIF(L93:L120,AI17)","v":0},{"$f":"AJ17/(AL4-AJ20)","v":0},0,null,2121,{"$f":"COUNTIF(L121:L149,AN17)","v":0},{"$f":"AO17/(AQ4-AO20)","v":0},0,null,2121,{"$f":"COUNTIF(L150:L177,AS17)","v":0},{"$f":"AT17/(AV4-AT20)","v":0},0]
[21,1565,21,1575,22,1583,23,1588,null,null,0,2222,null,2122,0,0,0,null,null,2122,{"$f":"COUNTIF(L7:L35,T18)","v":0},{"$f":"U18/(W4-U20)","v":0},0,null,2122,{"$f":"COUNTIF(L36:L63,Y18)","v":0},{"$f":"Z18/(AB4-Z20)","v":0},0,null,2122,{"$f":"COUNTIF(L64:L92,AD18)","v":0},{"$f":"AE18/(AG4-AE20)","v":0},0,null,2122,{"$f":"COUNTIF(L93:L120,AI18)","v":0},{"$f":"AJ18/(AL4-AJ20)","v":0},0,null,2122,{"$f":"COUNTIF(L121:L149,AN18)","v":0},{"$f":"AO18/(AQ4-AO20)","v":0},0,null,2122,{"$f":"COUNTIF(L150:L177,AS18)","v":0},{"$f":"AT18/(AV4-AT20)","v":0},0]
[21,1704,21,1712,22,1718,23,1724,null,null,0,2222,null,2211,0,0,0,null,null,2211,{"$f":"COUNTIF(L7:L35,T19)","v":0},{"$f":"U19/(W4-U20)","v":0},0,null,2211,{"$f":"COUNTIF(L36:L63,Y19)","v":0},{"$f":"Z19/(AB4-Z20)","v":0},0,null,2211,{"$f":"COUNTIF(L64:L92,AD19)","v":0},{"$f":"AE19/(AG4-AE20)","v":0},0,null,2211,{"$f":"COUNTIF(L93:L120,AI19)","v":0},{"$f":"AJ19/(AL4-AJ20)","v":0},0,null,2211,{"$f":"COUNTIF(L121:L149,AN19)","v":0},{"$f":"AO19/(AQ4-AO20)","v":0},0,null,2211,{"$f":"COUNTIF(L150:L177,AS19)","v":0},{"$f":"AT19/(AV4-AT20)","v":0},0]
[12,1827,14,1836,13,1840,14,1851,null,null,0,1111,null,2212,0,0,0,null,null,2212,{"$f":"COUNTIF(L7:L35,T20)","v":0},null,null,null,2212,{"$f":"COUNTIF(L36:L63,Y20)","v":0},null,null,null,2212,{"$f":"COUNTIF(L64:L92,AD20)","v":0},null,null,null,2212,{"$f":"COUNTIF(L93:L120,AI20)","v":0},null,null,null,2212,{"$f":"COUNTIF(L121:L149,AN20)","v":0},null,null,null,2212,{"$f":"COUNTIF(L150:L177,AS20)","v":0}]
[21,1954,21,1974,22,1986,23,2007,null,null,0,2222,null,2221,0,0,0,null,null,2221,{"$f":"COUNTIF(L7:L35,T21)","v":0},{"$f":"U21/(W4-U20)","v":0},{"$f":"IF(V21=0,0,(V21*((LOG(V21))/LOG(2))))","v":0},null,2221,{"$f":"COUNTIF(L36:L63,Y21)","v":0},{"$f":"Z21/(AB4-Z20)","v":0},{"$f":"IF(AA21=0,0,(AA21*((LOG(AA21))/LOG(2))))","v":0},null,2221,{"$f":"COUNTIF(L64:L92,AD21)","v":0},{"$f":"AE21/(AG4-AE20)","v":0},{"$f":"IF(AF21=0,0,(AF21*((LOG(AF21))/LOG(2))))","v":0},null,2221,{"$f":"COUNTIF(L93:L120,AI21)","v":0},{"$f":"AJ21/(AL4-AJ20)","v":0},{"$f":"IF(AK21=0,0,(AK21*((LOG(AK21))/LOG(2))))","v":0},null,2221,{"$f":"COUNTIF(L121:L149,AN21)","v":0},{"$f":"AO21/(AQ4-AO20)","v":0},{"$f":"IF(AP21=0,0,(AP21*((LOG(AP21))/LOG(2))))","v":0},null,2221,{"$f":"COUNTIF(L150:L177,AS21)","v":0},{"$f":"AT21/(AV4-AT20)","v":0},{"$f":"IF(AU21=0,0,(AU21*((LOG(AU21))/LOG(2))))","v":0}]
[21,2176,21,2186,22,2194,23,2208,null,null,0,2222,null,2222,91,0.53216374269005851,-0.48429980465810141,null,null,2222,{"$f":"COUNTIF(L7:L35,T22)","v":20},{"$f":"U22/(W4-U20)","v":0.68965517241379315},{"$f":"IF(V22=0,0,(V22*((LOG(V22))/LOG(2))))","v":-0.36969165533807569},null,2222,{"$f":"COUNTIF(L36:L63,Y22)","v":20},{"$f":"Z22/(AB4-Z20)","v":0.7142857142857143},{"$f":"IF(AA22=0,0,(AA22*((LOG(AA22))/LOG(2))))","v":-0.34673344797874411},null,2222,{"$f":"COUNTIF(L64:L92,AD22)","v":14},{"$f":"AE22/(AG4-AE20)","v":0.48275862068965519},{"$f":"IF(AF22=0,0,(AF22*((LOG(AF22))/LOG(2))))","v":-0.50719879389584666},null,2222,{"$f":"COUNTIF(L93:L120,AI22)","v":7},{"$f":"AJ22/(AL4-AJ20)","v":0.25},{"$f":"IF(AK22=0,0,(AK22*((LOG(AK22))/LOG(2))))","v":-0.5},null,2222,{"$f":"COUNTIF(L121:L149,AN22)","v":16},{"$f":"AO22/(AQ4-AO20)","v":0.55172413793103448},{"$f":"IF(AP22=0,0,(AP22*((LOG(AP22))/LOG(2))))","v":-0.47336882489797077},null,2222,{"$f":"COUNTIF(L150:L177,AS22)","v":14},{"$f":"AT22/(AV4-AT20)","v":0.5},{"$f":"IF(AU22=0,0,(AU22*((LOG(AU22))/LOG(2))))","v":-0.5}]
[21,2420,21,2427,22,2434,23,2440,null,null,0,2222,null,null,null,{"$f":"SUM(P7:P22)","v":1},{"$f":"-SUM(Q7:Q22)","v":1.416094716087831},null,null,null,null,{"$f":"SUM(V7:V22)","v":1},{"$f":"-SUM(W7:W22)","v":1.0497547227914601},null,null,null,{"$f":"SUM(AA7:AA22)","v":1},{"$f":"-SUM(AB7:AB22)","v":1.018424695195087},null,null,null,{"$f":"SUM(AF7:AF22)","v":1},{"$f":"-SUM(AG7:AG22)","v":1.2921642625537564},null,null,null,{"$f":"SUM(AK7:AK22)","v":0.99999999999999989},{"$f":"-SUM(AL7:AL22)","v":1.649984495037365},null,null,null,{"$f":"SUM(AP7:AP22)","v":1},{"$f":"-SUM(AQ7:AQ22)","v":1.2699207259892868},null,null,null,{"$f":"SUM(AU7:AU22)","v":1},{"$f":"-SUM(AV7:AV22)","v":1.4731864679927209}]
[12,2651,23,2657,24,2664,23,2673,null,null,0,1222,null,null,null,"U=",{"$f":"Q23/(LOG(Q4)/LOG(2))","v":0.19090359551447802},null,null,null,null,"U1=",{"$f":"W23/(LOG(W4)/LOG(2))","v":0.2160886845470035},null,null,null,"U2=",{"$f":"AB23/(LOG(AB4)/LOG(2))","v":0.21184720323482784},null,null,null,"U3=",{"$f":"AG23/(LOG(AG4)/LOG(2))","v":0.26598792046526393},null,null,null,"U4=",{"$f":"AL23/(LOG(AL4)/LOG(2))","v":0.34322086090767612},null,null,null,"U5=",{"$f":"AQ23/(LOG(AQ4)/LOG(2))","v":0.26140915892075006},null,null,null,"U6=",{"$f":"AV23/(LOG(AV4)/LOG(2))","v":0.30644429044198385}]
[21,2765,21,2775,22,2786,23,2796,null,null,0,2222]
[12,2891,14,2901,13,2908,14,2914,null,null,0,1111]
[12,3099,14,3104,13,3109,14,3115,null,null,0,1111,null,"Total Target Seq"]
[21,3223,21,3229,22,3236,23,3241,null,null,0,2222,null,{"$f":"COUNTIF(L7:L177,G3)","v":0},null,29,28,29,28,29,28]
[21,3347,21,3356,22,3364,23,3371,null,null,0,2222,null,null,null,"% of reinforcement given in 6 equal intervals based on number of trials "]
[12,3473,14,3478,13,3489,14,3497,null,null,0,1111,null,null,null,"%_1","%_2","%_3","%_4","%_5","%_6"]
[21,3600,21,3617,22,3622,23,3629,null,null,0,2222,null,null,"target sequence",{"$f":"$G$3","v":2212},2212,2212,2212,2212,2212]
[12,3722,14,3734,13,3738,14,3744,null,null,0,1111,null,null,"total reinforcement",{"$f":"U20","v":0},{"$f":"Z20","v":0},{"$f":"AE20","v":0},{"$f":"AJ20","v":0},{"$f":"AO20","v":0},{"$f":"AT20","v":0}]
[21,3851,21,3855,22,3865,23,3871,null,null,0,2222,null,null,"% target"]
[12,4037,14,4039,13,4045,14,4050,null,null,0,1111,null,null,"CCRF"]
[21,4151,21,4160,22,4168,23,4176,null,null,0,2222,null,null,"% CCRf"]
[21,4282,21,4284,22,4291,23,4299,null,null,0,2222,null,null,"average response rate",{"$f":"H35/P28","v":144},{"$f":"(H63-H35)/Q28","v":134.21428571428572},{"$f":"(H92-H63)/R28","v":137.72413793103448},{"$f":"(H120-H92)/S28","v":141.71428571428572},{"$f":"(H149-H120)/T28","v":137.62068965517241},{"$f":"(H177-H149)/U28","v":140.42857142857142}]
[21,4397,21,4405,22,4431,23,4437,null,null,0,2222]
[21,4601,21,4611,22,4618,23,4624,null,null,0,2222]
[21,4735,21,4741,22,4747,23,4759,null,null,0,2222]
[21,4875,21,4892,22,4899,23,4907,null,null,0,2222]
[21,5020,21,5031,22,5036,23,5042,null,null,0,2222]
[12,5144,14,5149,13,5154,14,5160,null,null,0,1111]
[12,5297,14,5302,13,5308,14,5316,null,null,0,1111]
[12,5413,14,5422,13,5427,14,5432,null,null,0,1111]
[21,5534,21,5539,22,5545,23,5551,null,null,0,2222]
[21,5664,21,5672,22,5695,23,5702,null,null,0,2222]
[21,5803,21,5807,22,5810,23,5818,null,null,0,2222]
[21,5911,21,5930,22,5948,23,5953,null,null,0,2222]
[21,6046,21,6063,22,6071,23,6077,null,null,0,2222]
[21,6197,21,6203,22,6209,23,6214,null,null,0,2222]
[21,6322,21,6332,22,6338,23,6343,null,null,0,2222]
[12,6446,14,6452,13,6458,14,6465,null,null,0,1111]
[12,6565,14,6578,13,6583,14,6590,null,null,0,1111]
[21,6691,21,6711,22,6717,23,6727,null,null,0,2222]
[21,6830,21,6841,22,6849,23,6862,null,null,0,2222]
[21,6963,21,6979,22,6987,23,6993,null,null,0,2222]
[12,7092,14,7104,13,7111,14,7116,null,null,0,1111]
[21,7226,21,7237,22,7245,23,7252,null,null,0,2222]
[21,7403,21,7406,22,7410,23,7421,null,null,0,2222]
[21,7527,21,7530,22,7536,23,7541,null,null,0,2222]
[21,7640,12,7654,13,7664,14,7669,null,null,0,2111]
[12,7773,14,7779,13,7784,14,7790,null,null,0,1111]
[21,7895,21,7905,22,7921,23,7934,null,null,0,2222]
[12,8054,14,8058,13,8064,14,8069,null,null,0,1111]
[21,8168,21,8180,22,8186,23,8196,null,null,0,2222]
[12,8306,14,8311,13,8317,14,8324,null,null,0,1111]
[12,8462,14,8464,13,8467,14,8472,null,null,0,1111]
[12,8591,23,8599,24,8610,23,8616,null,null,0,1222]
[21,8738,21,8750,22,8757,23,8763,null,null,0,2222]
[21,8870,21,8875,22,8883,23,8901,null,null,0,2222]
[21,9005,21,9019,22,9029,23,9033,null,null,0,2222]
[12,9145,23,9157,24,9167,23,9178,null,null,0,1222]
[12,9277,14,9287,13,9298,14,9304,null,null,0,1111]
[12,9407,14,9411,13,9417,14,9422,null,null,0,1111]
[21,9535,21,9544,22,9552,23,9561,null,null,0,2222]
[12,9672,14,9682,13,9688,14,9695,null,null,0,1111]
[21,9809,21,9812,22,9817,23,9823,null,null,0,2222]
[12,9922,14,9925,13,9936,14,9943,null,null,0,1111]
[21,10054,21,10068,22,10077,23,10091,null,null,0,2222]
[21,10196,21,10212,22,10223,23,10233,null,null,0,2222]
[21,10360,21,10366,22,10381,23,10388,null,null,0,2222]
[21,10498,21,10518,22,10524,23,10530,null,null,0,2222]
[12,10624,14,10629,13,10634,14,10639,null,null,0,1111]
[12,10735,14,10740,13,10747,14,10753,null,null,0,1111]
[12,10851,14,10858,13,10863,14,10869,null,null,0,1111]
[12,10983,14,10992,13,10998,14,11004,null,null,0,1111]
[21,11104,21,11123,22,11133,23,11147,null,null,0,2222]
[12,11310,14,11314,13,11322,14,11329,null,null,0,1111]
[12,11493,14,11497,13,11503,14,11508,null,null,0,1111]
[21,11609,21,11622,22,11635,23,11649,null,null,0,2222]
[21,11757,21,11772,22,11782,23,11791,null,null,0,2222]
[21,11903,21,11913,22,11923,23,11928,null,null,0,2222]
[21,12034,12,12047,13,12051,14,12057,null,null,0,2111]
[12,12201,14,12206,13,12214,14,12221,null,null,0,1111]
[21,12333,12,12344,13,12350,14,12355,null,null,0,2111]
[12,12585,14,12590,13,12596,14,12603,null,null,0,1111]
[21,12722,21,12733,22,12740,23,12753,null,null,0,2222]
[12,12906,14,12918,13,12924,14,12931,null,null,0,1111]
[12,13032,14,13036,13,13043,14,13049,null,null,0,1111]
[12,13148,14,13158,13,13163,14,13182,null,null,0,1111]
[12,13331,14,13337,13,13343,14,13355,null,null,0,1111]
[12,13459,14,13467,13,13473,14,13478,null,null,0,1111]
[12,13585,14,13601,13,13607,14,13615,null,null,0,1111]
[21,13726,21,13736,22,13745,23,13752,null,null,0,2222]
[12,13887,14,13892,13,13898,14,13915,null,null,0,1111]
[12,14015,14,14025,13,14030,14,14040,null,null,0,1111]
[21,14164,21,14171,22,14176,23,14182,null,null,0,2222]
[12,14281,23,14288,24,14298,23,14304,null,null,0,1222]
[12,14416,14,14421,13,14426,14,14437,null,null,0,1111]
[12,14540,14,14545,13,14550,14,14556,null,null,0,1111]
[12,14702,14,14707,13,14719,14,14727,null,null,0,1111]
[21,14850,21,14859,22,14866,23,14871,null,null,0,2222]
[12,14973,14,14979,24,14991,23,14996,null,null,0,1122]
[21,15098,21,15102,22,15105,23,15111,null,null,0,2222]
[12,15268,14,15276,13,15282,14,15288,null,null,0,1111]
[12,15392,14,15397,13,15402,14,15408,null,null,0,1111]
[21,15503,21,15512,22,15519,23,15525,null,null,0,2222]
[21,15633,21,15640,22,15649,23,15655,null,null,0,2222]
[21,15759,12,15768,13,15776,14,15780,null,null,0,2111]
[12,15875,14,15884,13,15890,14,15896,null,null,0,1111]
[12,15993,14,15996,13,16002,14,16010,null,null,0,1111]
[12,16111,14,16116,13,16121,14,16127,null,null,0,1111]
[21,16240,21,16248,22,16255,23,16263,null,null,0,2222]
[21,16369,21,16382,22,16388,23,16397,null,null,0,2222]
[21,16508,21,16514,22,16521,23,16526,null,null,0,2222]
[12,16620,14,16622,13,16638,14,16643,null,null,0,1111]
[21,16743,21,16749,22,16754,23,16762,null,null,0,2222]
[21,16889,21,16895,22,16902,23,16909,null,null,0,2222]
[21,17100,21,17109,22,17115,23,17121,null,null,0,2222]
[21,17221,21,17230,22,17235,23,17241,null,null,0,2222]
[12,17339,23,17347,24,17356,23,17361,null,null,0,1222]
[21,17460,21,17470,22,17478,23,17485,null,null,0,2222]
[12,17580,14,17584,13,17590,14,17594,null,null,0,1111]
[21,17701,21,17711,22,17716,23,17721,null,null,0,2222]
[21,17828,21,17839,22,17846,23,17859,null,null,0,2222]
[12,17954,23,17968,24,17975,23,17981,null,null,0,1222]
[12,18167,14,18178,13,18185,14,18192,null,null,0,1111]
[12,18301,14,18306,13,18312,14,18317,null,null,0,1111]
[12,18505,14,18509,13,18512,14,18524,null,null,0,1111]
[12,18621,14,18634,13,18640,14,18646,null,null,0,1111]
[21,18747,21,18756,22,18762,23,18773,null,null,0,2222]
[12,18875,14,18879,13,18885,14,18892,null,null,0,1111]
[21,19002,21,19011,22,19019,23,19027,null,null,0,2222]
[12,19132,14,19137,13,19142,14,19147,null,null,0,1111]
[21,19252,21,19271,22,19277,23,19284,null,null,0,2222]
[21,19396,21,19404,22,19411,23,19415,null,null,0,2222]
[12,19584,14,19603,13,19609,14,19616,null,null,0,1111]
[21,19730,21,19740,22,19747,23,19753,null,null,0,2222]
[21,19864,21,19868,22,19878,23,19887,null,null,0,2222]
[12,19995,14,20000,13,20006,14,20012,null,null,0,1111]
[12,20109,14,20112,13,20118,14,20124,null,null,0,1111]
[12,20235,14,20241,13,20246,14,20252,null,null,0,1111]
[21,20349,21,20358,22,20366,23,20373,null,null,0,2222]
[21,20476,21,20486,22,20492,23,20500,null,null,0,2222]
[21,20603,21,20610,22,20618,23,20624,null,null,0,2222]
[21,20724,12,20740,13,20745,14,20751,null,null,0,2111]
[12,20853,14,20868,13,20877,14,20883,null,null,0,1111]
[12,21022,14,21027,13,21033,14,21039,null,null,0,1111]
[12,21151,14,21155,13,21161,14,21167,null,null,0,1111]
[21,21277,21,21282,22,21293,23,21298,null,null,0,2222]
[21,21399,21,21419,22,21431,23,21436,null,null,0,2222]
[21,21543,21,21547,22,21554,23,21564,null,null,0,2222]
[21,21671,21,21688,22,21700,23,21712,null,null,0,2222]
[12,21830,14,21836,13,21842,14,21847,null,null,0,1111]
[21,21949,12,21962,13,21967,14,21973,null,null,0,2111]
[12,22076,14,22083,13,22088,14,22094,null,null,0,1111]
[21,22201,21,22213,22,22234,23,22240,null,null,0,2222]
[21,22348,21,22358,22,22369,23,22378,null,null,0,2222]
[12,22552,14,22557,13,22569,14,22576,null,null,0,1111]
[12,22812,14,22816,13,22824,14,22830,null,null,0,1111]
[21,22930,21,22947,22,22954,23,22963,null,null,0,2222]
[21,23084,21,23098,22,23104,23,23111,null,null,0,2222]
[12,23235,14,23244,13,23249,14,23255,null,null,0,1111]
[21,23387,21,23393,22,23399,23,23404,null,null,0,2222]
[21,23510,21,23537,22,23544,23,23551,null,null,0,2222]
[21,23667,21,23674,22,23679,23,23686,null,null,0,2222]
[12,23786,23,23803,24,23814,23,23819,null,null,0,1222]

{"sheet":"!LB29955..Du","index":29,"n_rows":176,"n_cols":48,"rows_kept":176,"cut":false,"hidden":false,"merged":[[1,1,1,2],[5,13,5,14],[26,13,26,14],[27,13,27,14],[4,19,4,22],[5,19,5,20],[4,39,4,42],[5,39,5,40],[4,44,4,47],[5,44,5,45],[4,24,4,27],[5,24,5,25],[4,29,4,32],[5,29,5,30],[4,34,4,37],[5,34,5,35]]}
["Report for:!LB29955..Du"]
["Date:","<date>"]
["Hen:","<hen>",null,null,null,"Correct Sequence",{"$f":"Start!J2","v":2212},null,null,null,null,null,null,null,null,"Total Sequences in Data",{"$f":"4994-COUNTBLANK(L7:L5000)","v":170},null,null,null,null,"Total Sequences in Block Data",{"$f":"COUNTA(L7:L34)","v":28},null,null,null,"Total Sequences in Block Data",{"$f":"COUNTA(L35:L63)","v":29},null,null,null,"Total Sequences in Block Data",{"$f":"COUNTA(L64:L91)","v":28},null,null,null,"Total Sequences in Block Data",{"$f":"COUNTA(L92:L119)","v":28},null,null,null,"Total Sequences in Block Data",{"$f":"COUNTA(L120:L148)","v":29},null,null,null,"Total Sequences in Block Data",{"$f":"COUNTA(L149:L176)","v":28}]
[null,null,null,null,null,null,null,null,null,null,null,null,null,null,null,"Total Sequences in Summary",{"$f":"SUM(O7:O22)","v":170},null,null,null,null,"Total Sequences in Block Summary",{"$f":"SUM(U7:U22)","v":28},null,null,null,"Total Sequences in Block Summary",{"$f":"SUM(Z7:Z22)","v":29},null,null,null,"Total Sequences in Block Summary",{"$f":"SUM(AE7:AE22)","v":28},null,null,null,"Total Sequences in Block Summary",{"$f":"SUM(AJ7:AJ22)","v":28},null,null,null,"Total Sequences in Block Summary",{"$f":"SUM(AO7:AO22)","v":29},null,null,null,"Total Sequences in Block Summary",{"$f":"SUM(AT7:AT22)","v":28}]
[null,null,null,null,null,null,null,null,null,null,null,null,null,null,null,null,null,null,null,"Block 1",null,null,null,null,"Block 2",null,null,null,null,"Block 3",null,null,null,null,"Block 4",null,null,null,null,"Block 5",null,null,null,null,"Block 6"]
["Sequence\nComponent\n1","Time\n1","Sequence\nComponent\n2","Time\n2","Sequence\nComponent\n3","Time\n3","Sequence\nComponent\n4","Time\n4","Sequence\nComponent\n5","Time\n5","Correct?\n0=No 1=Yes","Sequence",null,"Frequency",null,"Relative Frequency","Variability",null,null,"Frequency",null,"Relative Frequency","Variability",null,"Frequency",null,"Relative Frequency","Variability",null,"Frequency",null,"Relative Frequency","Variability",null,"Frequency",null,"Relative Frequency","Variability",null,"Frequency",null,"Relative Frequency","Variability",null,"Frequency",null,"Relative Frequency","Variability"]
[21,21,12,36,13,42,14,47,null,null,0,2111,null,1111,{"$f":"COUNTIF($L$7:$L$500,N7)","v":38},{"$f":"O7/$Q$4","v":0.22352941176470589},{"$f":"IF(P7=0,0,(P7*((LOG(P7))/LOG(2))))","v":-0.4831506474257436},null,null,{"$f":"N7","v":1111},{"$f":"COUNTIF(L7:L34,T7)","v":12},{"$f":"U7/(W4-U20)","v":0.42857142857142855},{"$f":"IF(V7=0,0,(V7*((LOG(V7))/LOG(2))))","v":-0.52388246628704915},null,{"$f":"N7","v":1111},{"$f":"COUNTIF(L35:L63,Y7)","v":6},{"$f":"Z7/(AB4-Z20)","v":0.20689655172413793},{"$f":"IF(AA7=0,0,(AA7*((LOG(AA7))/LOG(2))))","v":-0.4702796884978791},null,{"$f":"N7","v":1111},{"$f":"COUNTIF(L64:L91,AD7)","v":5},{"$f":"AE7/(AG4-AE20)","v":0.17857142857142858},{"$f":"IF(AF7=0,0,(AF7*((LOG(AF7))/LOG(2))))","v":-0.44382621913754317},null,{"$f":"N7","v":1111},{"$f":"COUNTIF(L92:L119,AI7)","v":6},{"$f":"AJ7/(AL4-AJ20)","v":0.21428571428571427},{"$f":"IF(AK7=0,0,(AK7*((LOG(AK7))/LOG(2))))","v":-0.47622694742923877},null,{"$f":"N7","v":1111},{"$f":"COUNTIF(L120:L148,AN7)","v":6},{"$f":"AO7/(AQ4-AO20)","v":0.20689655172413793},{"$f":"IF(AP7=0,0,(AP7*((LOG(AP7))/LOG(2))))","v":-0.4702796884978791},null,{"$f":"N7","v":1111},{"$f":"COUNTIF(L149:L176,AS7)","v":3},{"$f":"AT7/(AV4-AT20)","v":0.10714285714285714},{"$f":"IF(AU7=0,0,(AU7*((LOG(AU7))/LOG(2))))","v":-0.34525633085747659}]
[21,242,21,249,22,256,23,263,null,null,0,2222,null,1112,1,5.8823529411764705E-3,-4.35846525655159E-2,null,null,1112,{"$f":"COUNTIF(L7:L34,T8)","v":0},{"$f":"U8/(W4-U20)","v":0},0,null,1112,{"$f":"COUNTIF(L35:L63,Y8)","v":0},{"$f":"Z8/(AB4-Z20)","v":0},0,null,1112,{"$f":"COUNTIF(L64:L91,AD8)","v":0},{"$f":"AE8/(AG4-AE20)","v":0},0,null,1112,{"$f":"COUNTIF(L92:L119,AI8)","v":0},{"$f":"AJ8/(AL4-AJ20)","v":0},0,null,1112,{"$f":"COUNTIF(L120:L148,AN8)","v":1},{"$f":"AO8/(AQ4-AO20)","v":3.4482758620689655E-2},-0.16751658603888178,null,1112,{"$f":"COUNTIF(L149:L176,AS8)","v":0},{"$f":"AT8/(AV4-AT20)","v":0},0]
[12,367,23,379,24,387,23,393,null,null,0,1222,null,1121,0,0,0,null,null,1121,{"$f":"COUNTIF(L7:L34,T9)","v":0},{"$f":"U9/(W4-U20)","v":0},0,null,1121,{"$f":"COUNTIF(L35:L63,Y9)","v":0},{"$f":"Z9/(AB4-Z20)","v":0},0,null,1121,{"$f":"COUNTIF(L64:L91,AD9)","v":0},{"$f":"AE9/(AG4-AE20)","v":0},0,null,1121,{"$f":"COUNTIF(L92:L119,AI9)","v":0},{"$f":"AJ9/(AL4-AJ20)","v":0},0,null,1121,{"$f":"COUNTIF(L120:L148,AN9)","v":0},{"$f":"AO9/(AQ4-AO20)","v":0},0,null,1121,{"$f":"COUNTIF(L149:L176,AS9)","v":0},{"$f":"AT9/(AV4-AT20)","v":0},0]
[12,491,23,498,13,510,14,516,null,null,0,1211,null,1122,1,5.8823529411764705E-3,-4.35846525655159E-2,null,null,1122,{"$f":"COUNTIF(L7:L34,T10)","v":1},{"$f":"U10/(W4-U20)","v":3.5714285714285712E-2},-0.17169124721634299,null,1122,{"$f":"COUNTIF(L35:L63,Y10)","v":0},{"$f":"Z10/(AB4-Z20)","v":0},0,null,1122,{"$f":"COUNTIF(L64:L91,AD10)","v":0},{"$f":"AE10/(AG4-AE20)","v":0},0,null,1122,{"$f":"COUNTIF(L92:L119,AI10)","v":0},{"$f":"AJ10/(AL4-AJ20)","v":0},0,null,1122,{"$f":"COUNTIF(L120:L148,AN10)","v":0},{"$f":"AO10/(AQ4-AO20)","v":0},0,null,1122,{"$f":"COUNTIF(L149:L176,AS10)","v":0},{"$f":"AT10/(AV4-AT20)","v":0},0]
[12,612,14,624,13,629,14,634,null,null,0,1111,null,1211,1,5.8823529411764705E-3,-4.35846525655159E-2,null,null,1211,{"$f":"COUNTIF(L7:L34,T11)","v":1},{"$f":"U11/(W4-U20)","v":3.5714285714285712E-2},-0.17169124721634299,null,1211,{"$f":"COUNTIF(L35:L63,Y11)","v":0},{"$f":"Z11/(AB4-Z20)","v":0},0,null,1211,{"$f":"COUNTIF(L64:L91,AD11)","v":0},{"$f":"AE11/(AG4-AE20)","v":0},0,null,1211,{"$f":"COUNTIF(L92:L119,AI11)","v":0},{"$f":"AJ11/(AL4-AJ20)","v":0},0,null,1211,{"$f":"COUNTIF(L120:L148,AN11)","v":0},{"$f":"AO11/(AQ4-AO20)","v":0},0,null,1211,{"$f":"COUNTIF(L149:L176,AS11)","v":0},{"$f":"AT11/(AV4-AT20)","v":0},0]
[12,735,14,740,13,751,14,757,null,null,0,1111,null,1212,0,0,0,null,null,1212,{"$f":"COUNTIF(L7:L34,T12)","v":0},{"$f":"U12/(W4-U20)","v":0},0,null,1212,{"$f":"COUNTIF(L35:L63,Y12)","v":0},{"$f":"Z12/(AB4-Z20)","v":0},0,null,1212,{"$f":"COUNTIF(L64:L91,AD12)","v":0},{"$f":"AE12/(AG4-AE20)","v":0},0,null,1212,{"$f":"COUNTIF(L92:L119,AI12)","v":0},{"$f":"AJ12/(AL4-AJ20)","v":0},0,null,1212,{"$f":"COUNTIF(L120:L148,AN12)","v":0},{"$f":"AO12/(AQ4-AO20)","v":0},0,null,1212,{"$f":"COUNTIF(L149:L176,AS12)","v":0},{"$f":"AT12/(AV4-AT20)","v":0},0]
[12,857,14,865,13,867,14,873,null,null,0,1111,null,1221,0,0,0,null,null,1221,{"$f":"COUNTIF(L7:L34,T13)","v":0},{"$f":"U13/(W4-U20)","v":0},0,null,1221,{"$f":"COUNTIF(L35:L63,Y13)","v":0},{"$f":"Z13/(AB4-Z20)","v":0},0,null,1221,{"$f":"COUNTIF(L64:L91,AD13)","v":0},{"$f":"AE13/(AG4-AE20)","v":0},0,null,1221,{"$f":"COUNTIF(L92:L119,AI13)","v":0},{"$f":"AJ13/(AL4-AJ20)","v":0},0,null,1221,{"$f":"COUNTIF(L120:L148,AN13)","v":0},{"$f":"AO13/(AQ4-AO20)","v":0},0,null,1221,{"$f":"COUNTIF(L149:L176,AS13)","v":0},{"$f":"AT13/(AV4-AT20)","v":0},0]
[12,975,23,984,24,994,23,1003,null,null,0,1222,null,1222,3,1.7647058823529412E-2,-0.10278403121323315,null,null,1222,{"$f":"COUNTIF(L7:L34,T14)","v":2},{"$f":"U14/(W4-U20)","v":7.1428571428571425E-2},-0.27195392300411453,null,1222,{"$f":"COUNTIF(L35:L63,Y14)","v":1},{"$f":"Z14/(AB4-Z20)","v":3.4482758620689655E-2},-0.16751658603888178,null,1222,{"$f":"COUNTIF(L64:L91,AD14)","v":0},{"$f":"AE14/(AG4-AE20)","v":0},0,null,1222,{"$f":"COUNTIF(L92:L119,AI14)","v":0},{"$f":"AJ14/(AL4-AJ20)","v":0},0,null,1222,{"$f":"COUNTIF(L120:L148,AN14)","v":0},{"$f":"AO14/(AQ4-AO20)","v":0},0,null,1222,{"$f":"COUNTIF(L149:L176,AS14)","v":0},{"$f":"AT14/(AV4-AT20)","v":0},0]
[21,1233,21,1242,22,1251,23,1259,null,null,0,2222,null,2111,5,2.9411764705882353E-2,-0.14963126003677468,null,null,2111,{"$f":"COUNTIF(L7:L34,T15)","v":1},{"$f":"U15/(W4-U20)","v":3.5714285714285712E-2},-0.17169124721634299,null,2111,{"$f":"COUNTIF(L35:L63,Y15)","v":2},{"$f":"Z15/(AB4-Z20)","v":6.8965517241379309E-2},-0.26606765483638428,null,2111,{"$f":"COUNTIF(L64:L91,AD15)","v":2},{"$f":"AE15/(AG4-AE20)","v":7.1428571428571425E-2},-0.27195392300411453,null,2111,{"$f":"COUNTIF(L92:L119,AI15)","v":0},{"$f":"AJ15/(AL4-AJ20)","v":0},0,null,2111,{"$f":"COUNTIF(L120:L148,AN15)","v":0},{"$f":"AO15/(AQ4-AO20)","v":0},0,null,2111,{"$f":"COUNTIF(L149:L176,AS15)","v":0},{"$f":"AT15/(AV4-AT20)","v":0},0]
[21,1364,21,1373,22,1381,23,1388,null,null,0,2222,null,2112,0,0,0,null,null,2112,{"$f":"COUNTIF(L7:L34,T16)","v":0},{"$f":"U16/(W4-U20)","v":0},0,null,2112,{"$f":"COUNTIF(L35:L63,Y16)","v":0},{"$f":"Z16/(AB4-Z20)","v":0},0,null,2112,{"$f":"COUNTIF(L64:L91,AD16)","v":0},{"$f":"AE16/(AG4-AE20)","v":0},0,null,2112,{"$f":"COUNTIF(L92:L119,AI16)","v":0},{"$f":"AJ16/(AL4-AJ20)","v":0},0,null,2112,{"$f":"COUNTIF(L120:L148,AN16)","v":0},{"$f":"AO16/(AQ4-AO20)","v":0},0,null,2112,{"$f":"COUNTIF(L149:L176,AS16)","v":0},{"$f":"AT16/(AV4-AT20)","v":0},0]
[12,1487,14,1492,13,1497,14,1503,null,null,0,1111,null,2121,0,0,0,null,null,2121,{"$f":"COUNTIF(L7:L34,T17)","v":0},{"$f":"U17/(W4-U20)","v":0},0,null,2121,{"$f":"COUNTIF(L35:L63,Y17)","v":0},{"$f":"Z17/(AB4-Z20)","v":0},0,null,2121,{"$f":"COUNTIF(L64:L91,AD17)","v":0},{"$f":"AE17/(AG4-AE20)","v":0},0,null,2121,{"$f":"COUNTIF(L92:L119,AI17)","v":0},{"$f":"AJ17/(AL4-AJ20)","v":0},0,null,2121,{"$f":"COUNTIF(L120:L148,AN17)","v":0},{"$f":"AO17/(AQ4-AO20)","v":0},0,null,2121,{"$f":"COUNTIF(L149:L176,AS17)","v":0},{"$f":"AT17/(AV4-AT20)","v":0},0]
[12,1616,14,1623,13,1629,14,1635,null,null,0,1111,null,2122,0,0,0,null,null,2122,{"$f":"COUNTIF(L7:L34,T18)","v":0},{"$f":"U18/(W4-U20)","v":0},0,null,2122,{"$f":"COUNTIF(L35:L63,Y18)","v":0},{"$f":"Z18/(AB4-Z20)","v":0},0,null,2122,{"$f":"COUNTIF(L64:L91,AD18)","v":0},{"$f":"AE18/(AG4-AE20)","v":0},0,null,2122,{"$f":"COUNTIF(L92:L119,AI18)","v":0},{"$f":"AJ18/(AL4-AJ20)","v":0},0,null,2122,{"$f":"COUNTIF(L120:L148,AN18)","v":0},{"$f":"AO18/(AQ4-AO20)","v":0},0,null,2122,{"$f":"COUNTIF(L149:L176,AS18)","v":0},{"$f":"AT18/(AV4-AT20)","v":0},0]
[21,1754,21,1761,22,1769,23,1775,null,null,0,2222,null,2211,0,0,0,null,null,2211,{"$f":"COUNTIF(L7:L34,T19)","v":0},{"$f":"U19/(W4-U20)","v":0},0,null,2211,{"$f":"COUNTIF(L35:L63,Y19)","v":0},{"$f":"Z19/(AB4-Z20)","v":0},0,null,2211,{"$f":"COUNTIF(L64:L91,AD19)","v":0},{"$f":"AE19/(AG4-AE20)","v":0},0,null,2211,{"$f":"COUNTIF(L92:L119,AI19)","v":0},{"$f":"AJ19/(AL4-AJ20)","v":0},0,null,2211,{"$f":"COUNTIF(L120:L148,AN19)","v":0},{"$f":"AO19/(AQ4-AO20)","v":0},0,null,2211,{"$f":"COUNTIF(L149:L176,AS19)","v":0},{"$f":"AT19/(AV4-AT20)","v":0},0]
[12,1872,14,1878,24,1888,23,1891,null,null,0,1122,null,2212,0,0,0,null,null,2212,{"$f":"COUNTIF(L7:L34,T20)","v":0},null,null,null,2212,{"$f":"COUNTIF(L35:L63,Y20)","v":0},null,null,null,2212,{"$f":"COUNTIF(L64:L91,AD20)","v":0},null,null,null,2212,{"$f":"COUNTIF(L92:L119,AI20)","v":0},null,null,null,2212,{"$f":"COUNTIF(L120:L148,AN20)","v":0},null,null,null,2212,{"$f":"COUNTIF(L149:L176,AS20)","v":0}]
[21,1991,21,2001,22,2007,23,2013,null,null,0,2222,null,2221,0,0,0,null,null,2221,{"$f":"COUNTIF(L7:L34,T21)","v":0},{"$f":"U21/(W4-U20)","v":0},{"$f":"IF(V21=0,0,(V21*((LOG(V21))/LOG(2))))","v":0},null,2221,{"$f":"COUNTIF(L35:L63,Y21)","v":0},{"$f":"Z21/(AB4-Z20)","v":0},{"$f":"IF(AA21=0,0,(AA21*((LOG(AA21))/LOG(2))))","v":0},null,2221,{"$f":"COUNTIF(L64:L91,AD21)","v":0},{"$f":"AE21/(AG4-AE20)","v":0},{"$f":"IF(AF21=0,0,(AF21*((LOG(AF21))/LOG(2))))","v":0},null,2221,{"$f":"COUNTIF(L92:L119,AI21)","v":0},{"$f":"AJ21/(AL4-AJ20)","v":0},{"$f":"IF(AK21=0,0,(AK21*((LOG(AK21))/LOG(2))))","v":0},null,2221,{"$f":"COUNTIF(L120:L148,AN21)","v":0},{"$f":"AO21/(AQ4-AO20)","v":0},{"$f":"IF(AP21=0,0,(AP21*((LOG(AP21))/LOG(2))))","v":0},null,2221,{"$f":"COUNTIF(L149:L176,AS21)","v":0},{"$f":"AT21/(AV4-AT20)","v":0},{"$f":"IF(AU21=0,0,(AU21*((LOG(AU21))/LOG(2))))","v":0}]
[21,2110,21,2119,22,2128,23,2135,null,null,0,2222,null,2222,121,0.71176470588235297,-0.34914030330844686,null,null,2222,{"$f":"COUNTIF(L7:L34,T22)","v":11},{"$f":"U22/(W4-U20)","v":0.39285714285714285},{"$f":"IF(V22=0,0,(V22*((LOG(V22))/LOG(2))))","v":-0.52954129777226344},null,2222,{"$f":"COUNTIF(L35:L63,Y22)","v":20},{"$f":"Z22/(AB4-Z20)","v":0.68965517241379315},{"$f":"IF(AA22=0,0,(AA22*((LOG(AA22))/LOG(2))))","v":-0.36969165533807569},null,2222,{"$f":"COUNTIF(L64:L91,AD22)","v":21},{"$f":"AE22/(AG4-AE20)","v":0.75},{"$f":"IF(AF22=0,0,(AF22*((LOG(AF22))/LOG(2))))","v":-0.31127812445913283},null,2222,{"$f":"COUNTIF(L92:L119,AI22)","v":22},{"$f":"AJ22/(AL4-AJ20)","v":0.7857142857142857},{"$f":"IF(AK22=0,0,(AK22*((LOG(AK22))/LOG(2))))","v":-0.27336830983024107},null,2222,{"$f":"COUNTIF(L120:L148,AN22)","v":22},{"$f":"AO22/(AQ4-AO20)","v":0.75862068965517238},{"$f":"IF(AP22=0,0,(AP22*((LOG(AP22))/LOG(2))))","v":-0.30234780285469132},null,2222,{"$f":"COUNTIF(L149:L176,AS22)","v":25},{"$f":"AT22/(AV4-AT20)","v":0.8928571428571429},{"$f":"IF(AU22=0,0,(AU22*((LOG(AU22))/LOG(2))))","v":-0.14598101096685656}]
[12,2324,14,2329,13,2335,14,2345,null,null,0,1111,null,null,null,{"$f":"SUM(P7:P22)","v":1},{"$f":"-SUM(Q7:Q22)","v":1.2154601996807459},null,null,null,null,{"$f":"SUM(V7:V22)","v":1},{"$f":"-SUM(W7:W22)","v":1.840451428712456},null,null,null,{"$f":"SUM(AA7:AA22)","v":1},{"$f":"-SUM(AB7:AB22)","v":1.2735555847112208},null,null,null,{"$f":"SUM(AF7:AF22)","v":1},{"$f":"-SUM(AG7:AG22)","v":1.0270582666007906},null,null,null,{"$f":"SUM(AK7:AK22)","v":1},{"$f":"-SUM(AL7:AL22)","v":0.74959525725947984},null,null,null,{"$f":"SUM(AP7:AP22)","v":1},{"$f":"-SUM(AQ7:AQ22)","v":0.94014407739145223},null,null,null,{"$f":"SUM(AU7:AU22)","v":1},{"$f":"-SUM(AV7:AV22)","v":0.49123734182433315}]
[21,2450,21,2455,22,2462,23,2465,null,null,0,2222,null,null,null,"U=",{"$f":"Q23/(LOG(Q4)/LOG(2))","v":0.16404320006285558},null,null,null,null,"U1=",{"$f":"W23/(LOG(W4)/LOG(2))","v":0.38284076348677859},null,null,null,"U2=",{"$f":"AB23/(LOG(AB4)/LOG(2))","v":0.26215738307510134},null,null,null,"U3=",{"$f":"AG23/(LOG(AG4)/LOG(2))","v":0.21364311211729667},null,null,null,"U4=",{"$f":"AL23/(LOG(AL4)/LOG(2))","v":0.1559267558590503},null,null,null,"U5=",{"$f":"AQ23/(LOG(AQ4)/LOG(2))","v":0.19352568038746801},null,null,null,"U6=",{"$f":"AV23/(LOG(AV4)/LOG(2))","v":0.10218453802326662}]
[12,2582,14,2591,13,2596,14,2601,null,null,0,1111]
[12,2720,14,2726,13,2732,14,2738,null,null,0,1111]
[21,2847,21,2853,22,2864,23,2878,null,null,0,2222,null,"Total Target Seq"]
[21,2983,21,2993,22,3004,23,3011,null,null,0,2222,null,{"$f":"COUNTIF(L7:L176,G3)","v":0},null,28,29,28,28,29,28]
[21,3115,21,3124,22,3134,23,3139,null,null,0,2222,null,null,null,"% of reinforcement given in 6 equal intervals based on number of trials "]
[12,3300,14,3308,13,3314,14,3320,null,null,0,1111,null,null,null,"%_1","%_2","%_3","%_4","%_5","%_6"]
[12,3427,14,3436,13,3441,14,3447,null,null,0,1111,null,null,"target sequence",{"$f":"$G$3","v":2212},2212,2212,2212,2212,2212]
[21,3554,21,3558,22,3567,23,3575,null,null,0,2222,null,null,"total reinforcement",{"$f":"U20","v":0},{"$f":"Z20","v":0},{"$f":"AE20","v":0},{"$f":"AJ20","v":0},{"$f":"AO20","v":0},{"$f":"AT20","v":0}]
[12,3682,14,3688,13,3693,14,3698,null,null,0,1111,null,null,"% target"]
[12,3804,14,3814,13,3824,14,3836,null,null,0,1111,null,null,"CCRF"]
[12,3996,14,4000,13,4005,14,4011,null,null,0,1111,null,null,"% CCRf"]
[21,4103,21,4107,22,4115,23,4122,null,null,0,2222,null,null,"average response rate",{"$f":"H34/P28","v":137},{"$f":"(H63-H34)/Q28","v":145.10344827586206},{"$f":"(H91-H63)/R28","v":139.03571428571428},{"$f":"(H119-H91)/S28","v":135.35714285714286},{"$f":"(H148-H119)/T28","v":144.51724137931035},{"$f":"(H176-H148)/U28","v":143.25}]
[21,4224,21,4230,22,4240,23,4249,null,null,0,2222]
[21,4355,21,4373,22,4383,23,4390,null,null,0,2222]
[21,4491,12,4506,13,4514,14,4520,null,null,0,2111]
[21,4626,21,4631,22,4637,23,4643,null,null,0,2222]
[21,4758,21,4768,22,4782,23,4794,null,null,0,2222]
[12,4959,14,4963,13,4968,14,4974,null,null,0,1111]
[21,5171,12,5183,13,5188,14,5193,null,null,0,2111]
[12,5367,14,5372,13,5378,14,5384,null,null,0,1111]
[21,5489,21,5501,22,5510,23,5518,null,null,0,2222]
[12,5637,14,5643,13,5648,14,5664,null,null,0,1111]
[12,5784,14,5792,13,5798,14,5809,null,null,0,1111]
[21,5907,21,5926,22,5932,23,5939,null,null,0,2222]
[12,6041,14,6046,13,6052,14,6058,null,null,0,1111]
[21,6150,21,6162,22,6166,23,6173,null,null,0,2222]
[21,6274,21,6283,22,6289,23,6295,null,null,0,2222]
[21,6398,21,6416,22,6422,23,6437,null,null,0,2222]
[21,6541,21,6559,22,6566,23,6572,null,null,0,2222]
[21,6725,21,6733,22,6738,23,6745,null,null,0,2222]
[21,6934,21,6940,22,6946,23,6957,null,null,0,2222]
[21,7062,21,7070,22,7075,23,7082,null,null,0,2222]
[21,7192,21,7201,22,7208,23,7214,null,null,0,2222]
[21,7322,21,7329,22,7334,23,7341,null,null,0,2222]
[12,7482,23,7493,24,7501,23,7507,null,null,0,1222]
[21,7615,21,7629,22,7638,23,7654,null,null,0,2222]
[21,7757,21,7768,22,7777,23,7785,null,null,0,2222]
[21,7882,21,7901,22,7908,23,7916,null,null,0,2222]
[21,8024,21,8032,22,8037,23,8044,null,null,0,2222]
[21,8147,21,8154,22,8160,23,8166,null,null,0,2222]
[21,8272,21,8280,22,8289,23,8296,null,null,0,2222]
[21,8407,21,8414,22,8419,23,8424,null,null,0,2222]
[21,8531,21,8537,22,8545,23,8562,null,null,0,2222]
[21,8660,21,8671,22,8693,23,8701,null,null,0,2222]
[21,8799,21,8827,22,8835,23,8842,null,null,0,2222]
[21,8972,21,8986,22,8991,23,8998,null,null,0,2222]
[21,9113,21,9119,22,9125,23,9131,null,null,0,2222]
[12,9228,14,9235,13,9244,14,9249,null,null,0,1111]
[21,9356,21,9365,22,9369,23,9372,null,null,0,2222]
[21,9474,21,9484,22,9492,23,9498,null,null,0,2222]
[12,9617,14,9624,13,9629,14,9636,null,null,0,1111]
[21,9791,21,9797,22,9802,23,9808,null,null,0,2222]
[12,9924,14,9930,13,9935,14,9940,null,null,0,1111]
[21,10099,12,10115,13,10120,14,10126,null,null,0,2111]
[21,10233,21,10245,22,10255,23,10260,null,null,0,2222]
[21,10367,21,10377,22,10385,23,10390,null,null,0,2222]
[21,10486,21,10494,22,10497,23,10506,null,null,0,2222]
[21,10600,21,10606,22,10624,23,10631,null,null,0,2222]
[21,10734,21,10747,22,10757,23,10763,null,null,0,2222]
[21,10928,21,10936,22,10952,23,10959,null,null,0,2222]
[21,11064,12,11074,13,11080,14,11085,null,null,0,2111]
[21,11193,21,11202,22,11211,23,11219,null,null,0,2222]
[21,11321,21,11348,22,11357,23,11363,null,null,0,2222]
[12,11460,14,11466,13,11471,14,11477,null,null,0,1111]
[21,11585,21,11591,22,11600,23,11606,null,null,0,2222]
[21,11713,21,11721,22,11726,23,11732,null,null,0,2222]
[12,11914,14,11920,13,11926,14,11937,null,null,0,1111]
[21,12039,21,12049,22,12059,23,12065,null,null,0,2222]
[21,12180,21,12185,22,12190,23,12196,null,null,0,2222]
[21,12313,21,12319,22,12331,23,12338,null,null,0,2222]
[12,12493,14,12497,13,12502,14,12507,null,null,0,1111]
[21,12612,21,12614,22,12619,23,12624,null,null,0,2222]
[21,12721,21,12732,22,12739,23,12744,null,null,0,2222]
[21,12843,21,12863,22,12871,23,12878,null,null,0,2222]
[21,12980,21,13001,22,13006,23,13014,null,null,0,2222]
[21,13117,21,13123,22,13131,23,13138,null,null,0,2222]
[21,13285,21,13291,22,13297,23,13303,null,null,0,2222]
[21,13400,21,13409,22,13417,23,13422,null,null,0,2222]
[21,13531,21,13545,22,13551,23,13557,null,null,0,2222]
[12,13690,14,13699,13,13711,14,13717,null,null,0,1111]
[12,13830,14,13839,13,13846,14,13852,null,null,0,1111]
[21,13952,21,13964,22,13970,23,13977,null,null,0,2222]
[12,14094,14,14105,13,14107,14,14112,null,null,0,1111]
[21,14215,21,14227,22,14233,23,14241,null,null,0,2222]
[21,14385,21,14394,22,14400,23,14411,null,null,0,2222]
[21,14505,21,14520,22,14526,23,14531,null,null,0,2222]
[21,14639,21,14648,22,14654,23,14660,null,null,0,2222]
[21,14768,21,14778,22,14788,23,14796,null,null,0,2222]
[21,14921,21,14928,22,14935,23,14939,null,null,0,2222]
[12,15058,14,15064,13,15069,14,15075,null,null,0,1111]
[12,15190,14,15200,13,15206,14,15212,null,null,0,1111]
[21,15335,21,15340,22,15345,23,15351,null,null,0,2222]
[21,15457,21,15465,22,15476,23,15481,null,null,0,2222]
[21,15589,21,15596,22,15601,23,15606,null,null,0,2222]
[21,15705,21,15715,22,15721,23,15727,null,null,0,2222]
[21,15848,21,15855,22,15862,23,15868,null,null,0,2222]
[12,15967,14,15974,13,15981,14,15988,null,null,0,1111]
[21,16089,21,16101,22,16108,23,16114,null,null,0,2222]
[21,16209,21,16213,22,16220,23,16227,null,null,0,2222]
[21,16389,21,16397,22,16404,23,16409,null,null,0,2222]
[21,16512,21,16518,22,16527,23,16534,null,null,0,2222]
[21,16645,21,16655,22,16661,23,16666,null,null,0,2222]
[21,16775,21,16784,22,16797,23,16803,null,null,0,2222]
[21,16910,21,16918,22,16928,23,16933,null,null,0,2222]
[21,17037,21,17047,22,17052,23,17058,null,null,0,2222]
[21,17168,21,17175,22,17182,23,17188,null,null,0,2222]
[21,17291,21,17321,22,17333,23,17344,null,null,0,2222]
[12,17446,14,17450,13,17457,23,17466,null,null,0,1112]
[21,17568,21,17579,22,17597,23,17604,null,null,0,2222]
[21,17711,21,17717,22,17727,23,17734,null,null,0,2222]
[12,17928,14,17935,13,17941,14,17947,null,null,0,1111]
[21,18052,21,18062,22,18070,23,18076,null,null,0,2222]
[21,18268,21,18273,22,18283,23,18297,null,null,0,2222]
[21,18398,21,18401,22,18409,23,18417,null,null,0,2222]
[21,18546,21,18552,22,18568,23,18574,null,null,0,2222]
[21,18685,21,18694,22,18700,23,18707,null,null,0,2222]
[12,18805,14,18817,13,18823,14,18828,null,null,0,1111]
[12,18948,14,18956,13,18966,14,18972,null,null,0,1111]
[21,19081,21,19092,22,19098,23,19103,null,null,0,2222]
[12,19229,14,19235,13,19253,14,19260,null,null,0,1111]
[21,19368,21,19387,22,19393,23,19399,null,null,0,2222]
[21,19562,21,19567,22,19573,23,19581,null,null,0,2222]
[12,19772,14,19778,13,19783,14,19789,null,null,0,1111]
[21,19892,21,19905,22,19913,23,19918,null,null,0,2222]
[21,20015,21,20024,22,20033,23,20039,null,null,0,2222]
[21,20138,21,20149,22,20155,23,20160,null,null,0,2222]
[21,20269,21,20279,22,20285,23,20291,null,null,0,2222]
[21,20469,21,20479,22,20485,23,20491,null,null,0,2222]
[21,20592,21,20601,22,20607,23,20612,null,null,0,2222]
[21,20720,21,20731,22,20737,23,20743,null,null,0,2222]
[21,20836,21,20848,22,20857,23,20864,null,null,0,2222]
[21,21009,21,21014,22,21019,23,21025,null,null,0,2222]
[21,21195,21,21203,22,21209,23,21215,null,null,0,2222]
[12,21423,14,21430,13,21440,14,21446,null,null,0,1111]
[21,21543,21,21547,22,21557,23,21562,null,null,0,2222]
[21,21663,21,21671,22,21680,23,21686,null,null,0,2222]
[21,21787,21,21797,22,21805,23,21810,null,null,0,2222]
[21,21907,21,21918,22,21926,23,21931,null,null,0,2222]
[12,22038,14,22044,13,22050,14,22055,null,null,0,1111]
[21,22171,21,22177,22,22182,23,22188,null,null,0,2222]
[12,22346,14,22350,13,22356,14,22366,null,null,0,1111]
[21,22461,21,22468,22,22476,23,22481,null,null,0,2222]
[21,22587,21,22598,22,22604,23,22610,null,null,0,2222]
[21,22718,21,22740,22,22746,23,22752,null,null,0,2222]
[21,22931,21,22937,22,22943,23,22949,null,null,0,2222]
[21,23049,21,23061,22,23074,23,23080,null,null,0,2222]
[21,23192,21,23199,22,23215,23,23221,null,null,0,2222]
[21,23321,21,23344,22,23350,23,23356,null,null,0,2222]
[21,23476,21,23480,22,23486,23,23491,null,null,0,2222]
[21,23609,21,23614,22,23619,23,23624,null,null,0,2222]
[21,23729,21,23739,22,23744,23,23750,null,null,0,2222]
[21,23912,21,23918,22,23924,23,23929,null,null,null,2222]

{"sheet":"!LB30955..Du","index":30,"n_rows":180,"n_cols":48,"rows_kept":180,"cut":false,"hidden":false,"merged":[[1,1,1,2],[5,13,5,14],[26,13,26,14],[27,13,27,14],[4,19,4,22],[5,19,5,20],[4,39,4,42],[5,39,5,40],[4,44,4,47],[5,44,5,45],[4,24,4,27],[5,24,5,25],[4,29,4,32],[5,29,5,30],[4,34,4,37],[5,34,5,35]]}
["Report for:!LB30955..Du"]
["Date:","<date>"]
["Hen:","<hen>",null,null,null,"Correct Sequence",{"$f":"Start!J2","v":2212},null,null,null,null,null,null,null,null,"Total Sequences in Data",{"$f":"4994-COUNTBLANK(L7:L5000)","v":174},null,null,null,null,"Total Sequences in Block Data",{"$f":"COUNTA(L7:L35)","v":29},null,null,null,"Total Sequences in Block Data",{"$f":"COUNTA(L36:L64)","v":29},null,null,null,"Total Sequences in Block Data",{"$f":"COUNTA(L65:L93)","v":29},null,null,null,"Total Sequences in Block Data",{"$f":"COUNTA(L94:L122)","v":29},null,null,null,"Total Sequences in Block Data",{"$f":"COUNTA(L123:L151)","v":29},null,null,null,"Total Sequences in Block Data",{"$f":"COUNTA(L152:L180)","v":29}]
[null,null,null,null,null,null,null,null,null,null,null,null,null,null,null,"Total Sequences in Summary",{"$f":"SUM(O7:O22)","v":174},null,null,null,null,"Total Sequences in Block Summary",{"$f":"SUM(U7:U22)","v":29},null,null,null,"Total Sequences in Block Summary",{"$f":"SUM(Z7:Z22)","v":29},null,null,null,"Total Sequences in Block Summary",{"$f":"SUM(AE7:AE22)","v":29},null,null,null,"Total Sequences in Block Summary",{"$f":"SUM(AJ7:AJ22)","v":29},null,null,null,"Total Sequences in Block Summary",{"$f":"SUM(AO7:AO22)","v":29},null,null,null,"Total Sequences in Block Summary",{"$f":"SUM(AT7:AT22)","v":29}]
[null,null,null,null,null,null,null,null,null,null,null,null,null,null,null,null,null,null,null,"Block 1",null,null,null,null,"Block 2",null,null,null,null,"Block 3",null,null,null,null,"Block 4",null,null,null,null,"Block 5",null,null,null,null,"Block 6"]
["Sequence\nComponent\n1","Time\n1","Sequence\nComponent\n2","Time\n2","Sequence\nComponent\n3","Time\n3","Sequence\nComponent\n4","Time\n4","Sequence\nComponent\n5","Time\n5","Correct?\n0=No 1=Yes","Sequence",null,"Frequency",null,"Relative Frequency","Variability",null,null,"Frequency",null,"Relative Frequency","Variability",null,"Frequency",null,"Relative Frequency","Variability",null,"Frequency",null,"Relative Frequency","Variability",null,"Frequency",null,"Relative Frequency","Variability",null,"Frequency",null,"Relative Frequency","Variability",null,"Frequency",null,"Relative Frequency","Variability"]
[21,8,21,37,22,42,23,47,null,null,0,2222,null,1111,{"$f":"COUNTIF($L$7:$L$500,N7)","v":31},{"$f":"O7/$Q$4","v":0.17816091954022989},{"$f":"IF(P7=0,0,(P7*((LOG(P7))/LOG(2))))","v":-0.44339748706504278},null,null,{"$f":"N7","v":1111},{"$f":"COUNTIF(L7:L35,T7)","v":8},{"$f":"U7/(W4-U20)","v":0.27586206896551724},{"$f":"IF(V7=0,0,(V7*((LOG(V7))/LOG(2))))","v":-0.51254648141450265},null,{"$f":"N7","v":1111},{"$f":"COUNTIF(L36:L64,Y7)","v":7},{"$f":"Z7/(AB4-Z20)","v":0.2413793103448276},{"$f":"IF(AA7=0,0,(AA7*((LOG(AA7))/LOG(2))))","v":-0.49497870729275095},null,{"$f":"N7","v":1111},{"$f":"COUNTIF(L65:L93,AD7)","v":5},{"$f":"AE7/(AG4-AE20)","v":0.17241379310344829},{"$f":"IF(AF7=0,0,(AF7*((LOG(AF7))/LOG(2))))","v":-0.43725050004141547},null,{"$f":"N7","v":1111},{"$f":"COUNTIF(L94:L122,AI7)","v":4},{"$f":"AJ7/(AL4-AJ20)","v":0.13793103448275862},{"$f":"IF(AK7=0,0,(AK7*((LOG(AK7))/LOG(2))))","v":-0.39420427519000989},null,{"$f":"N7","v":1111},{"$f":"COUNTIF(L123:L151,AN7)","v":6},{"$f":"AO7/(AQ4-AO20)","v":0.20689655172413793},{"$f":"IF(AP7=0,0,(AP7*((LOG(AP7))/LOG(2))))","v":-0.4702796884978791},null,{"$f":"N7","v":1111},{"$f":"COUNTIF(L152:L180,AS7)","v":1},{"$f":"AT7/(AV4-AT20)","v":3.4482758620689655E-2},{"$f":"IF(AU7=0,0,(AU7*((LOG(AU7))/LOG(2))))","v":-0.16751658603888178}]
[21,162,21,170,22,176,23,181,null,null,0,2222,null,1112,0,0,0,null,null,1112,{"$f":"COUNTIF(L7:L35,T8)","v":0},{"$f":"U8/(W4-U20)","v":0},0,null,1112,{"$f":"COUNTIF(L36:L64,Y8)","v":0},{"$f":"Z8/(AB4-Z20)","v":0},0,null,1112,{"$f":"COUNTIF(L65:L93,AD8)","v":0},{"$f":"AE8/(AG4-AE20)","v":0},0,null,1112,{"$f":"COUNTIF(L94:L122,AI8)","v":0},{"$f":"AJ8/(AL4-AJ20)","v":0},0,null,1112,{"$f":"COUNTIF(L123:L151,AN8)","v":0},{"$f":"AO8/(AQ4-AO20)","v":0},0,null,1112,{"$f":"COUNTIF(L152:L180,AS8)","v":0},{"$f":"AT8/(AV4-AT20)","v":0},0]
[12,342,14,348,13,354,14,365,null,null,0,1111,null,1121,0,0,0,null,null,1121,{"$f":"COUNTIF(L7:L35,T9)","v":0},{"$f":"U9/(W4-U20)","v":0},0,null,1121,{"$f":"COUNTIF(L36:L64,Y9)","v":0},{"$f":"Z9/(AB4-Z20)","v":0},0,null,1121,{"$f":"COUNTIF(L65:L93,AD9)","v":0},{"$f":"AE9/(AG4-AE20)","v":0},0,null,1121,{"$f":"COUNTIF(L94:L122,AI9)","v":0},{"$f":"AJ9/(AL4-AJ20)","v":0},0,null,1121,{"$f":"COUNTIF(L123:L151,AN9)","v":0},{"$f":"AO9/(AQ4-AO20)","v":0},0,null,1121,{"$f":"COUNTIF(L152:L180,AS9)","v":0},{"$f":"AT9/(AV4-AT20)","v":0},0]
[21,463,21,469,22,478,23,491,null,null,0,2222,null,1122,0,0,0,null,null,1122,{"$f":"COUNTIF(L7:L35,T10)","v":0},{"$f":"U10/(W4-U20)","v":0},0,null,1122,{"$f":"COUNTIF(L36:L64,Y10)","v":0},{"$f":"Z10/(AB4-Z20)","v":0},0,null,1122,{"$f":"COUNTIF(L65:L93,AD10)","v":0},{"$f":"AE10/(AG4-AE20)","v":0},0,null,1122,{"$f":"COUNTIF(L94:L122,AI10)","v":0},{"$f":"AJ10/(AL4-AJ20)","v":0},0,null,1122,{"$f":"COUNTIF(L123:L151,AN10)","v":0},{"$f":"AO10/(AQ4-AO20)","v":0},0,null,1122,{"$f":"COUNTIF(L152:L180,AS10)","v":0},{"$f":"AT10/(AV4-AT20)","v":0},0]
[21,589,21,598,22,607,23,614,null,null,0,2222,null,1211,0,0,0,null,null,1211,{"$f":"COUNTIF(L7:L35,T11)","v":0},{"$f":"U11/(W4-U20)","v":0},0,null,1211,{"$f":"COUNTIF(L36:L64,Y11)","v":0},{"$f":"Z11/(AB4-Z20)","v":0},0,null,1211,{"$f":"COUNTIF(L65:L93,AD11)","v":0},{"$f":"AE11/(AG4-AE20)","v":0},0,null,1211,{"$f":"COUNTIF(L94:L122,AI11)","v":0},{"$f":"AJ11/(AL4-AJ20)","v":0},0,null,1211,{"$f":"COUNTIF(L123:L151,AN11)","v":0},{"$f":"AO11/(AQ4-AO20)","v":0},0,null,1211,{"$f":"COUNTIF(L152:L180,AS11)","v":0},{"$f":"AT11/(AV4-AT20)","v":0},0]
[21,728,21,737,22,744,23,750,null,null,0,2222,null,1212,0,0,0,null,null,1212,{"$f":"COUNTIF(L7:L35,T12)","v":0},{"$f":"U12/(W4-U20)","v":0},0,null,1212,{"$f":"COUNTIF(L36:L64,Y12)","v":0},{"$f":"Z12/(AB4-Z20)","v":0},0,null,1212,{"$f":"COUNTIF(L65:L93,AD12)","v":0},{"$f":"AE12/(AG4-AE20)","v":0},0,null,1212,{"$f":"COUNTIF(L94:L122,AI12)","v":0},{"$f":"AJ12/(AL4-AJ20)","v":0},0,null,1212,{"$f":"COUNTIF(L123:L151,AN12)","v":0},{"$f":"AO12/(AQ4-AO20)","v":0},0,null,1212,{"$f":"COUNTIF(L152:L180,AS12)","v":0},{"$f":"AT12/(AV4-AT20)","v":0},0]
[12,907,14,911,13,918,14,923,null,null,0,1111,null,1221,0,0,0,null,null,1221,{"$f":"COUNTIF(L7:L35,T13)","v":0},{"$f":"U13/(W4-U20)","v":0},0,null,1221,{"$f":"COUNTIF(L36:L64,Y13)","v":0},{"$f":"Z13/(AB4-Z20)","v":0},0,null,1221,{"$f":"COUNTIF(L65:L93,AD13)","v":0},{"$f":"AE13/(AG4-AE20)","v":0},0,null,1221,{"$f":"COUNTIF(L94:L122,AI13)","v":0},{"$f":"AJ13/(AL4-AJ20)","v":0},0,null,1221,{"$f":"COUNTIF(L123:L151,AN13)","v":0},{"$f":"AO13/(AQ4-AO20)","v":0},0,null,1221,{"$f":"COUNTIF(L152:L180,AS13)","v":0},{"$f":"AT13/(AV4-AT20)","v":0},0]
[21,1037,21,1046,22,1051,23,1058,null,null,0,2222,null,1222,9,5.1724137931034482E-2,-0.22101819798653879,null,null,1222,{"$f":"COUNTIF(L7:L35,T14)","v":3},{"$f":"U14/(W4-U20)","v":0.10344827586206896},-0.33858812011100858,null,1222,{"$f":"COUNTIF(L36:L64,Y14)","v":2},{"$f":"Z14/(AB4-Z20)","v":6.8965517241379309E-2},-0.26606765483638428,null,1222,{"$f":"COUNTIF(L65:L93,AD14)","v":1},{"$f":"AE14/(AG4-AE20)","v":3.4482758620689655E-2},-0.16751658603888178,null,1222,{"$f":"COUNTIF(L94:L122,AI14)","v":2},{"$f":"AJ14/(AL4-AJ20)","v":6.8965517241379309E-2},-0.26606765483638428,null,1222,{"$f":"COUNTIF(L123:L151,AN14)","v":1},{"$f":"AO14/(AQ4-AO20)","v":3.4482758620689655E-2},-0.16751658603888178,null,1222,{"$f":"COUNTIF(L152:L180,AS14)","v":0},{"$f":"AT14/(AV4-AT20)","v":0},0]
[21,1156,21,1166,22,1178,23,1183,null,null,0,2222,null,2111,1,5.7471264367816091E-3,-4.2775537332463962E-2,null,null,2111,{"$f":"COUNTIF(L7:L35,T15)","v":0},{"$f":"U15/(W4-U20)","v":0},0,null,2111,{"$f":"COUNTIF(L36:L64,Y15)","v":0},{"$f":"Z15/(AB4-Z20)","v":0},0,null,2111,{"$f":"COUNTIF(L65:L93,AD15)","v":0},{"$f":"AE15/(AG4-AE20)","v":0},0,null,2111,{"$f":"COUNTIF(L94:L122,AI15)","v":0},{"$f":"AJ15/(AL4-AJ20)","v":0},0,null,2111,{"$f":"COUNTIF(L123:L151,AN15)","v":0},{"$f":"AO15/(AQ4-AO20)","v":0},0,null,2111,{"$f":"COUNTIF(L152:L180,AS15)","v":1},{"$f":"AT15/(AV4-AT20)","v":3.4482758620689655E-2},-0.16751658603888178]
[12,1285,14,1291,13,1296,14,1306,null,null,0,1111,null,2112,0,0,0,null,null,2112,{"$f":"COUNTIF(L7:L35,T16)","v":0},{"$f":"U16/(W4-U20)","v":0},0,null,2112,{"$f":"COUNTIF(L36:L64,Y16)","v":0},{"$f":"Z16/(AB4-Z20)","v":0},0,null,2112,{"$f":"COUNTIF(L65:L93,AD16)","v":0},{"$f":"AE16/(AG4-AE20)","v":0},0,null,2112,{"$f":"COUNTIF(L94:L122,AI16)","v":0},{"$f":"AJ16/(AL4-AJ20)","v":0},0,null,2112,{"$f":"COUNTIF(L123:L151,AN16)","v":0},{"$f":"AO16/(AQ4-AO20)","v":0},0,null,2112,{"$f":"COUNTIF(L152:L180,AS16)","v":0},{"$f":"AT16/(AV4-AT20)","v":0},0]
[12,1404,23,1415,24,1423,23,1429,null,null,0,1222,null,2121,0,0,0,null,null,2121,{"$f":"COUNTIF(L7:L35,T17)","v":0},{"$f":"U17/(W4-U20)","v":0},0,null,2121,{"$f":"COUNTIF(L36:L64,Y17)","v":0},{"$f":"Z17/(AB4-Z20)","v":0},0,null,2121,{"$f":"COUNTIF(L65:L93,AD17)","v":0},{"$f":"AE17/(AG4-AE20)","v":0},0,null,2121,{"$f":"COUNTIF(L94:L122,AI17)","v":0},{"$f":"AJ17/(AL4-AJ20)","v":0},0,null,2121,{"$f":"COUNTIF(L123:L151,AN17)","v":0},{"$f":"AO17/(AQ4-AO20)","v":0},0,null,2121,{"$f":"COUNTIF(L152:L180,AS17)","v":0},{"$f":"AT17/(AV4-AT20)","v":0},0]
[12,1586,14,1592,13,1594,14,1599,null,null,0,1111,null,2122,0,0,0,null,null,2122,{"$f":"COUNTIF(L7:L35,T18)","v":0},{"$f":"U18/(W4-U20)","v":0},0,null,2122,{"$f":"COUNTIF(L36:L64,Y18)","v":0},{"$f":"Z18/(AB4-Z20)","v":0},0,null,2122,{"$f":"COUNTIF(L65:L93,AD18)","v":0},{"$f":"AE18/(AG4-AE20)","v":0},0,null,2122,{"$f":"COUNTIF(L94:L122,AI18)","v":0},{"$f":"AJ18/(AL4-AJ20)","v":0},0,null,2122,{"$f":"COUNTIF(L123:L151,AN18)","v":0},{"$f":"AO18/(AQ4-AO20)","v":0},0,null,2122,{"$f":"COUNTIF(L152:L180,AS18)","v":0},{"$f":"AT18/(AV4-AT20)","v":0},0]
[21,1713,21,1726,22,1731,23,1747,null,null,0,2222,null,2211,0,0,0,null,null,2211,{"$f":"COUNTIF(L7:L35,T19)","v":0},{"$f":"U19/(W4-U20)","v":0},0,null,2211,{"$f":"COUNTIF(L36:L64,Y19)","v":0},{"$f":"Z19/(AB4-Z20)","v":0},0,null,2211,{"$f":"COUNTIF(L65:L93,AD19)","v":0},{"$f":"AE19/(AG4-AE20)","v":0},0,null,2211,{"$f":"COUNTIF(L94:L122,AI19)","v":0},{"$f":"AJ19/(AL4-AJ20)","v":0},0,null,2211,{"$f":"COUNTIF(L123:L151,AN19)","v":0},{"$f":"AO19/(AQ4-AO20)","v":0},0,null,2211,{"$f":"COUNTIF(L152:L180,AS19)","v":0},{"$f":"AT19/(AV4-AT20)","v":0},0]
[21,1842,21,1851,22,1860,23,1867,null,null,0,2222,null,2212,0,0,0,null,null,2212,{"$f":"COUNTIF(L7:L35,T20)","v":0},null,null,null,2212,{"$f":"COUNTIF(L36:L64,Y20)","v":0},null,null,null,2212,{"$f":"COUNTIF(L65:L93,AD20)","v":0},null,null,null,2212,{"$f":"COUNTIF(L94:L122,AI20)","v":0},null,null,null,2212,{"$f":"COUNTIF(L123:L151,AN20)","v":0},null,null,null,2212,{"$f":"COUNTIF(L152:L180,AS20)","v":0}]
[21,1966,21,1972,22,1980,23,1986,null,null,0,2222,null,2221,0,0,0,null,null,2221,{"$f":"COUNTIF(L7:L35,T21)","v":0},{"$f":"U21/(W4-U20)","v":0},{"$f":"IF(V21=0,0,(V21*((LOG(V21))/LOG(2))))","v":0},null,2221,{"$f":"COUNTIF(L36:L64,Y21)","v":0},{"$f":"Z21/(AB4-Z20)","v":0},{"$f":"IF(AA21=0,0,(AA21*((LOG(AA21))/LOG(2))))","v":0},null,2221,{"$f":"COUNTIF(L65:L93,AD21)","v":0},{"$f":"AE21/(AG4-AE20)","v":0},{"$f":"IF(AF21=0,0,(AF21*((LOG(AF21))/LOG(2))))","v":0},null,2221,{"$f":"COUNTIF(L94:L122,AI21)","v":0},{"$f":"AJ21/(AL4-AJ20)","v":0},{"$f":"IF(AK21=0,0,(AK21*((LOG(AK21))/LOG(2))))","v":0},null,2221,{"$f":"COUNTIF(L123:L151,AN21)","v":0},{"$f":"AO21/(AQ4-AO20)","v":0},{"$f":"IF(AP21=0,0,(AP21*((LOG(AP21))/LOG(2))))","v":0},null,2221,{"$f":"COUNTIF(L152:L180,AS21)","v":0},{"$f":"AT21/(AV4-AT20)","v":0},{"$f":"IF(AU21=0,0,(AU21*((LOG(AU21))/LOG(2))))","v":0}]
[21,2084,21,2095,22,2103,23,2112,null,null,0,2222,null,2222,133,0.76436781609195403,-0.29631563808173933,null,null,2222,{"$f":"COUNTIF(L7:L35,T22)","v":18},{"$f":"U22/(W4-U20)","v":0.62068965517241381},{"$f":"IF(V22=0,0,(V22*((LOG(V22))/LOG(2))))","v":-0.4270692374598164},null,2222,{"$f":"COUNTIF(L36:L64,Y22)","v":20},{"$f":"Z22/(AB4-Z20)","v":0.68965517241379315},{"$f":"IF(AA22=0,0,(AA22*((LOG(AA22))/LOG(2))))","v":-0.36969165533807569},null,2222,{"$f":"COUNTIF(L65:L93,AD22)","v":23},{"$f":"AE22/(AG4-AE20)","v":0.7931034482758621},{"$f":"IF(AF22=0,0,(AF22*((LOG(AF22))/LOG(2))))","v":-0.2652288930559607},null,2222,{"$f":"COUNTIF(L94:L122,AI22)","v":23},{"$f":"AJ22/(AL4-AJ20)","v":0.7931034482758621},{"$f":"IF(AK22=0,0,(AK22*((LOG(AK22))/LOG(2))))","v":-0.2652288930559607},null,2222,{"$f":"COUNTIF(L123:L151,AN22)","v":22},{"$f":"AO22/(AQ4-AO20)","v":0.75862068965517238},{"$f":"IF(AP22=0,0,(AP22*((LOG(AP22))/LOG(2))))","v":-0.30234780285469132},null,2222,{"$f":"COUNTIF(L152:L180,AS22)","v":27},{"$f":"AT22/(AV4-AT20)","v":0.93103448275862066},{"$f":"IF(AU22=0,0,(AU22*((LOG(AU22))/LOG(2))))","v":-9.5983596897613724E-2}]
[21,2208,21,2215,22,2224,23,2232,null,null,0,2222,null,null,null,{"$f":"SUM(P7:P22)","v":1},{"$f":"-SUM(Q7:Q22)","v":1.0035068604657849},null,null,null,null,{"$f":"SUM(V7:V22)","v":1},{"$f":"-SUM(W7:W22)","v":1.2782038389853276},null,null,null,{"$f":"SUM(AA7:AA22)","v":1},{"$f":"-SUM(AB7:AB22)","v":1.1307380174672108},null,null,null,{"$f":"SUM(AF7:AF22)","v":1},{"$f":"-SUM(AG7:AG22)","v":0.86999597913625792},null,null,null,{"$f":"SUM(AK7:AK22)","v":1},{"$f":"-SUM(AL7:AL22)","v":0.92550082308235493},null,null,null,{"$f":"SUM(AP7:AP22)","v":1},{"$f":"-SUM(AQ7:AQ22)","v":0.94014407739145223},null,null,null,{"$f":"SUM(AU7:AU22)","v":1},{"$f":"-SUM(AV7:AV22)","v":0.43101676897537727}]
[21,2332,21,2348,22,2353,23,2359,null,null,0,2222,null,null,null,"U=",{"$f":"Q23/(LOG(Q4)/LOG(2))","v":0.13482661275414581},null,null,null,null,"U1=",{"$f":"W23/(LOG(W4)/LOG(2))","v":0.26311421149389691},null,null,null,"U2=",{"$f":"AB23/(LOG(AB4)/LOG(2))","v":0.23275883923821677},null,null,null,"U3=",{"$f":"AG23/(LOG(AG4)/LOG(2))","v":0.17908591655851291},null,null,null,"U4=",{"$f":"AL23/(LOG(AL4)/LOG(2))","v":0.19051141287102771},null,null,null,"U5=",{"$f":"AQ23/(LOG(AQ4)/LOG(2))","v":0.19352568038746801},null,null,null,"U6=",{"$f":"AV23/(LOG(AV4)/LOG(2))","v":8.872343663091227E-2}]
[12,2500,14,2508,13,2513,14,2518,null,null,0,1111]
[12,2618,23,2635,24,2645,23,2649,null,null,0,1222]
[12,2807,14,2812,13,2825,14,2836,null,null,0,1111,null,"Total Target Seq"]
[12,2990,14,3000,13,3011,14,3017,null,null,0,1111,null,{"$f":"COUNTIF(L7:L180,G3)","v":0},null,29,29,29,29,29,29]
[12,3112,23,3121,24,3130,23,3136,null,null,0,1222,null,null,null,"% of reinforcement given in 6 equal intervals based on number of trials "]
[21,3245,21,3259,22,3265,23,3270,null,null,0,2222,null,null,null,"%_1","%_2","%_3","%_4","%_5","%_6"]
[21,3374,21,3384,22,3390,23,3396,null,null,0,2222,null,null,"target sequence",{"$f":"$G$3","v":2212},2212,2212,2212,2212,2212]
[12,3495,14,3499,13,3504,14,3510,null,null,0,1111,null,null,"total reinforcement",{"$f":"U20","v":0},{"$f":"Z20","v":0},{"$f":"AE20","v":0},{"$f":"AJ20","v":0},{"$f":"AO20","v":0},{"$f":"AT20","v":0}]
[21,3608,21,3627,22,3633,23,3644,null,null,0,2222,null,null,"% target"]
[21,3740,21,3754,22,3769,23,3775,null,null,0,2222,null,null,"CCRF"]
[21,3929,21,3935,22,3942,23,3947,null,null,0,2222,null,null,"% CCRf"]
[21,4053,21,4057,22,4068,23,4076,null,null,0,2222,null,null,"average response rate",{"$f":"H35/P28","v":136.10344827586206},{"$f":"(H64-H35)/Q28","v":135.0344827586207},{"$f":"(H93-H64)/R28","v":134.20689655172413},{"$f":"(H122-H93)/S28","v":141},{"$f":"(H151-H122)/T28","v":146.0344827586207},{"$f":"(H180-H151)/U28","v":132.24137931034483}]
[12,4175,23,4182,24,4190,23,4195,null,null,0,1222]
[21,4301,21,4308,22,4319,23,4324,null,null,0,2222]
[12,4444,14,4456,13,4461,14,4473,null,null,0,1111]
[21,4581,21,4586,22,4592,23,4598,null,null,0,2222]
[12,4747,14,4753,13,4760,14,4766,null,null,0,1111]
[21,4869,21,4876,22,4882,23,4888,null,null,0,2222]
[21,4985,21,4991,22,5001,23,5006,null,null,0,2222]
[12,5124,14,5130,13,5136,14,5143,null,null,0,1111]
[12,5257,14,5265,13,5271,14,5277,null,null,0,1111]
[21,5387,21,5396,22,5407,23,5413,null,null,0,2222]
[21,5515,21,5524,22,5530,23,5536,null,null,0,2222]
[12,5635,23,5646,24,5651,23,5660,null,null,0,1222]
[12,5780,14,5788,13,5793,14,5799,null,null,0,1111]
[21,5905,21,5914,22,5922,23,5927,null,null,0,2222]
[21,6030,21,6039,22,6056,23,6066,null,null,0,2222]
[21,6170,21,6175,22,6181,23,6194,null,null,0,2222]
[12,6308,14,6317,13,6332,14,6339,null,null,0,1111]
[21,6444,21,6448,22,6454,23,6460,null,null,0,2222]
[21,6574,21,6582,22,6590,23,6599,null,null,0,2222]
[21,6718,21,6729,22,6734,23,6739,null,null,0,2222]
[21,6856,21,6862,22,6868,23,6874,null,null,0,2222]
[12,7014,14,7018,13,7023,14,7028,null,null,0,1111]
[21,7127,21,7135,22,7144,23,7151,null,null,0,2222]
[21,7258,21,7266,22,7273,23,7278,null,null,0,2222]
[21,7380,21,7398,22,7401,23,7408,null,null,0,2222]
[21,7516,21,7526,22,7535,23,7541,null,null,0,2222]
[21,7641,21,7648,22,7656,23,7661,null,null,0,2222]
[21,7845,21,7853,22,7857,23,7863,null,null,0,2222]
[21,7972,21,7980,22,7986,23,7991,null,null,0,2222]
[21,8119,21,8129,22,8135,23,8144,null,null,0,2222]
[21,8243,21,8250,22,8260,23,8272,null,null,0,2222]
[21,8368,21,8374,22,8385,23,8391,null,null,0,2222]
[21,8494,21,8502,22,8507,23,8513,null,null,0,2222]
[12,8619,14,8633,13,8647,14,8654,null,null,0,1111]
[21,8753,21,8762,22,8766,23,8773,null,null,0,2222]
[21,8870,21,8876,22,8887,23,8891,null,null,0,2222]
[21,8988,21,8997,22,9002,23,9008,null,null,0,2222]
[21,9112,21,9119,22,9128,23,9143,null,null,0,2222]
[12,9316,14,9324,13,9333,14,9339,null,null,0,1111]
[21,9441,21,9445,22,9450,23,9457,null,null,0,2222]
[21,9553,21,9562,22,9569,23,9575,null,null,0,2222]
[21,9672,21,9675,22,9683,23,9689,null,null,0,2222]
[12,9825,14,9831,13,9838,14,9844,null,null,0,1111]
[21,9950,21,9955,22,9962,23,9967,null,null,0,2222]
[12,10079,14,10085,13,10090,14,10096,null,null,0,1111]
[21,10203,21,10214,22,10222,23,10227,null,null,0,2222]
[21,10341,21,10350,22,10355,23,10360,null,null,0,2222]
[21,10458,21,10461,22,10479,23,10485,null,null,0,2222]
[21,10579,21,10590,22,10599,23,10606,null,null,0,2222]
[21,10793,21,10803,22,10814,23,10820,null,null,0,2222]
[21,10918,21,10929,22,10944,23,10950,null,null,0,2222]
[21,11049,21,11059,22,11068,23,11078,null,null,0,2222]
[21,11182,21,11184,22,11188,23,11197,null,null,0,2222]
[21,11295,21,11305,22,11315,23,11321,null,null,0,2222]
[12,11472,23,11485,24,11499,23,11505,null,null,0,1222]
[12,11615,14,11624,13,11630,14,11637,null,null,0,1111]
[21,11733,21,11740,22,11750,23,11755,null,null,0,2222]
[21,11862,21,11868,22,11874,23,11880,null,null,0,2222]
[12,11977,14,11983,13,11989,14,12000,null,null,0,1111]
[21,12100,21,12108,22,12113,23,12119,null,null,0,2222]
[12,12217,14,12223,13,12228,14,12234,null,null,0,1111]
[21,12332,21,12334,22,12352,23,12357,null,null,0,2222]
[21,12455,21,12464,22,12471,23,12478,null,null,0,2222]
[21,12577,21,12586,22,12594,23,12599,null,null,0,2222]
[21,12708,21,12720,22,12725,23,12730,null,null,0,2222]
[21,12837,21,12846,22,12856,23,12861,null,null,0,2222]
[21,12957,21,12963,22,12968,23,12979,null,null,0,2222]
[21,13087,21,13096,22,13106,23,13111,null,null,0,2222]
[12,13216,14,13219,13,13225,14,13230,null,null,0,1111]
[21,13326,21,13335,22,13347,23,13353,null,null,0,2222]
[21,13460,21,13467,22,13474,23,13479,null,null,0,2222]
[21,13583,21,13598,22,13604,23,13610,null,null,0,2222]
[12,13783,23,13796,24,13799,23,13804,null,null,0,1222]
[12,13997,14,14004,13,14009,14,14014,null,null,0,1111]
[21,14120,21,14133,22,14138,23,14152,null,null,0,2222]
[21,14244,21,14267,22,14277,23,14284,null,null,0,2222]
[21,14387,21,14400,22,14407,23,14420,null,null,0,2222]
[21,14526,21,14535,22,14541,23,14547,null,null,0,2222]
[21,14838,21,14846,22,14852,23,14857,null,null,0,2222]
[21,14960,21,14967,22,14972,23,14979,null,null,0,2222]
[21,15082,21,15090,22,15097,23,15102,null,null,0,2222]
[12,15244,23,15258,24,15267,23,15278,null,null,0,1222]
[21,15387,21,15405,22,15411,23,15417,null,null,0,2222]
[21,15518,21,15528,22,15545,23,15551,null,null,0,2222]
[21,15656,21,15666,22,15676,23,15691,null,null,0,2222]
[21,15817,21,15823,22,15838,23,15844,null,null,0,2222]
[21,15948,21,15960,22,15968,23,15972,null,null,0,2222]
[21,16072,21,16082,22,16098,23,16103,null,null,0,2222]
[21,16274,21,16279,22,16283,23,16299,null,null,0,2222]
[21,16405,21,16418,22,16426,23,16432,null,null,0,2222]
[12,16534,14,16539,13,16546,14,16551,null,null,0,1111]
[21,16652,21,16654,22,16678,23,16682,null,null,0,2222]
[21,16795,21,16804,22,16810,23,16816,null,null,0,2222]
[21,17026,21,17036,22,17041,23,17052,null,null,0,2222]
[12,17198,14,17210,13,17221,14,17227,null,null,0,1111]
[21,17329,21,17338,22,17347,23,17353,null,null,0,2222]
[21,17448,21,17468,22,17476,23,17480,null,null,0,2222]
[21,17589,21,17596,22,17602,23,17608,null,null,0,2222]
[21,17716,21,17721,22,17726,23,17734,null,null,0,2222]
[12,17841,23,17849,24,17854,23,17858,null,null,0,1222]
[21,17963,21,17966,22,17975,23,17981,null,null,0,2222]
[12,18148,14,18157,13,18164,14,18170,null,null,0,1111]
[21,18276,21,18285,22,18291,23,18297,null,null,0,2222]
[21,18399,21,18409,22,18417,23,18427,null,null,0,2222]
[21,18540,21,18547,22,18560,23,18566,null,null,0,2222]
[21,18665,21,18674,22,18683,23,18688,null,null,0,2222]
[21,18795,21,18814,22,18819,23,18825,null,null,0,2222]
[21,18927,21,18935,22,18942,23,18948,null,null,0,2222]
[12,19075,14,19078,13,19088,14,19095,null,null,0,1111]
[12,19215,14,19223,13,19228,14,19234,null,null,0,1111]
[12,19337,14,19353,13,19358,14,19364,null,null,0,1111]
[21,19466,21,19473,22,19482,23,19490,null,null,0,2222]
[21,19588,21,19596,22,19604,23,19616,null,null,0,2222]
[21,19824,21,19834,22,19839,23,19844,null,null,0,2222]
[21,20064,21,20068,22,20073,23,20079,null,null,0,2222]
[21,20185,21,20191,22,20201,23,20207,null,null,0,2222]
[21,20306,21,20313,22,20320,23,20325,null,null,0,2222]
[21,20424,21,20433,22,20443,23,20449,null,null,0,2222]
[21,20556,21,20562,22,20567,23,20575,null,null,0,2222]
[21,20678,21,20688,22,20693,23,20699,null,null,0,2222]
[21,20810,21,20823,22,20828,23,20835,null,null,0,2222]
[21,20942,21,20951,22,20957,23,20961,null,null,0,2222]
[21,21103,21,21112,22,21117,23,21122,null,null,0,2222]
[21,21223,21,21229,22,21238,23,21243,null,null,0,2222]
[21,21347,21,21354,22,21358,23,21366,null,null,0,2222]
[21,21468,21,21477,22,21486,23,21492,null,null,0,2222]
[21,21607,21,21612,22,21620,23,21631,null,null,0,2222]
[21,21749,21,21759,22,21768,23,21773,null,null,0,2222]
[21,21931,21,21938,22,21943,23,21950,null,null,0,2222]
[21,22054,21,22062,22,22068,23,22075,null,null,0,2222]
[21,22180,21,22188,22,22198,23,22208,null,null,0,2222]
[12,22321,14,22327,13,22342,14,22354,null,null,0,1111]
[21,22447,21,22462,22,22466,23,22470,null,null,0,2222]
[21,22586,21,22591,22,22597,23,22603,null,null,0,2222]
[21,22710,21,22716,22,22722,23,22728,null,null,0,2222]
[21,22832,21,22848,22,22853,23,22860,null,null,0,2222]
[21,22966,21,22973,22,22979,23,22990,null,null,0,2222]
[21,23106,21,23112,22,23117,23,23124,null,null,0,2222]
[21,23225,21,23232,22,23238,23,23243,null,null,0,2222]
[21,23377,21,23391,22,23396,23,23402,null,null,0,2222]
[21,23502,21,23509,22,23518,23,23523,null,null,0,2222]
[21,23629,21,23636,22,23647,23,23652,null,null,0,2222]
[21,23760,12,23775,13,23783,14,23788,null,null,0,2111]
[21,23900,21,23904,22,23909,23,23914,null,null,null,2222]

{"sheet":"!LC01B15..Du","index":31,"n_rows":177,"n_cols":48,"rows_kept":177,"cut":false,"hidden":false,"merged":[[1,1,1,2],[5,13,5,14],[26,13,26,14],[27,13,27,14],[4,19,4,22],[5,19,5,20],[4,39,4,42],[5,39,5,40],[4,44,4,47],[5,44,5,45],[4,24,4,27],[5,24,5,25],[4,29,4,32],[5,29,5,30],[4,34,4,37],[5,34,5,35]]}
["Report for:!LC01B15..Du"]
["Date:","<date>"]
["Hen:","<hen>",null,null,null,"Correct Sequence",{"$f":"Start!J2","v":2212},null,null,null,null,null,null,null,null,"Total Sequences in Data",{"$f":"4994-COUNTBLANK(L7:L5000)","v":171},null,null,null,null,"Total Sequences in Block Data",{"$f":"COUNTA(L7:L35)","v":29},null,null,null,"Total Sequences in Block Data",{"$f":"COUNTA(L36:L63)","v":28},null,null,null,"Total Sequences in Block Data",{"$f":"COUNTA(L64:L92)","v":29},null,null,null,"Total Sequences in Block Data",{"$f":"COUNTA(L93:L120)","v":28},null,null,null,"Total Sequences in Block Data",{"$f":"COUNTA(L121:L149)","v":29},null,null,null,"Total Sequences in Block Data",{"$f":"COUNTA(L150:L177)","v":28}]
[null,null,null,null,null,null,null,null,null,null,null,null,null,null,null,"Total Sequences in Summary",{"$f":"SUM(O7:O22)","v":171},null,null,null,null,"Total Sequences in Block Summary",{"$f":"SUM(U7:U22)","v":29},null,null,null,"Total Sequences in Block Summary",{"$f":"SUM(Z7:Z22)","v":28},null,null,null,"Total Sequences in Block Summary",{"$f":"SUM(AE7:AE22)","v":29},null,null,null,"Total Sequences in Block Summary",{"$f":"SUM(AJ7:AJ22)","v":28},null,null,null,"Total Sequences in Block Summary",{"$f":"SUM(AO7:AO22)","v":29},null,null,null,"Total Sequences in Block Summary",{"$f":"SUM(AT7:AT22)","v":28}]
[null,null,null,null,null,null,null,null,null,null,null,null,null,null,null,null,null,null,null,"Block 1",null,null,null,null,"Block 2",null,null,null,null,"Block 3",null,null,null,null,"Block 4",null,null,null,null,"Block 5",null,null,null,null,"Block 6"]
["Sequence\nComponent\n1","Time\n1","Sequence\nComponent\n2","Time\n2","Sequence\nComponent\n3","Time\n3","Sequence\nComponent\n4","Time\n4","Sequence\nComponent\n5","Time\n5","Correct?\n0=No 1=Yes","Sequence",null,"Frequency",null,"Relative Frequency","Variability",null,null,"Frequency",null,"Relative Frequency","Variability",null,"Frequency",null,"Relative Frequency","Variability",null,"Frequency",null,"Relative Frequency","Variability",null,"Frequency",null,"Relative Frequency","Variability",null,"Frequency",null,"Relative Frequency","Variability",null,"Frequency",null,"Relative Frequency","Variability"]
[21,65,21,73,22,78,23,84,null,null,0,2222,null,1111,{"$f":"COUNTIF($L$7:$L$500,N7)","v":18},{"$f":"O7/$Q$4","v":0.10526315789473684},{"$f":"IF(P7=0,0,(P7*((LOG(P7))/LOG(2))))","v":-0.34188710667827216},null,null,{"$f":"N7","v":1111},{"$f":"COUNTIF(L7:L35,T7)","v":2},{"$f":"U7/(W4-U20)","v":6.8965517241379309E-2},{"$f":"IF(V7=0,0,(V7*((LOG(V7))/LOG(2))))","v":-0.26606765483638428},null,{"$f":"N7","v":1111},{"$f":"COUNTIF(L36:L63,Y7)","v":4},{"$f":"Z7/(AB4-Z20)","v":0.14285714285714285},{"$f":"IF(AA7=0,0,(AA7*((LOG(AA7))/LOG(2))))","v":-0.40105070315108626},null,{"$f":"N7","v":1111},{"$f":"COUNTIF(L64:L92,AD7)","v":6},{"$f":"AE7/(AG4-AE20)","v":0.20689655172413793},{"$f":"IF(AF7=0,0,(AF7*((LOG(AF7))/LOG(2))))","v":-0.4702796884978791},null,{"$f":"N7","v":1111},{"$f":"COUNTIF(L93:L120,AI7)","v":1},{"$f":"AJ7/(AL4-AJ20)","v":3.5714285714285712E-2},{"$f":"IF(AK7=0,0,(AK7*((LOG(AK7))/LOG(2))))","v":-0.17169124721634299},null,{"$f":"N7","v":1111},{"$f":"COUNTIF(L121:L149,AN7)","v":3},{"$f":"AO7/(AQ4-AO20)","v":0.10344827586206896},{"$f":"IF(AP7=0,0,(AP7*((LOG(AP7))/LOG(2))))","v":-0.33858812011100858},null,{"$f":"N7","v":1111},{"$f":"COUNTIF(L150:L177,AS7)","v":2},{"$f":"AT7/(AV4-AT20)","v":7.1428571428571425E-2},{"$f":"IF(AU7=0,0,(AU7*((LOG(AU7))/LOG(2))))","v":-0.27195392300411453}]
[21,184,21,194,22,201,23,208,null,null,0,2222,null,1112,0,0,0,null,null,1112,{"$f":"COUNTIF(L7:L35,T8)","v":0},{"$f":"U8/(W4-U20)","v":0},0,null,1112,{"$f":"COUNTIF(L36:L63,Y8)","v":0},{"$f":"Z8/(AB4-Z20)","v":0},0,null,1112,{"$f":"COUNTIF(L64:L92,AD8)","v":0},{"$f":"AE8/(AG4-AE20)","v":0},0,null,1112,{"$f":"COUNTIF(L93:L120,AI8)","v":0},{"$f":"AJ8/(AL4-AJ20)","v":0},0,null,1112,{"$f":"COUNTIF(L121:L149,AN8)","v":0},{"$f":"AO8/(AQ4-AO20)","v":0},0,null,1112,{"$f":"COUNTIF(L150:L177,AS8)","v":0},{"$f":"AT8/(AV4-AT20)","v":0},0]
[21,301,21,315,22,323,23,329,null,null,0,2222,null,1121,0,0,0,null,null,1121,{"$f":"COUNTIF(L7:L35,T9)","v":0},{"$f":"U9/(W4-U20)","v":0},0,null,1121,{"$f":"COUNTIF(L36:L63,Y9)","v":0},{"$f":"Z9/(AB4-Z20)","v":0},0,null,1121,{"$f":"COUNTIF(L64:L92,AD9)","v":0},{"$f":"AE9/(AG4-AE20)","v":0},0,null,1121,{"$f":"COUNTIF(L93:L120,AI9)","v":0},{"$f":"AJ9/(AL4-AJ20)","v":0},0,null,1121,{"$f":"COUNTIF(L121:L149,AN9)","v":0},{"$f":"AO9/(AQ4-AO20)","v":0},0,null,1121,{"$f":"COUNTIF(L150:L177,AS9)","v":0},{"$f":"AT9/(AV4-AT20)","v":0},0]
[21,438,21,448,22,455,23,462,null,null,0,2222,null,1122,0,0,0,null,null,1122,{"$f":"COUNTIF(L7:L35,T10)","v":0},{"$f":"U10/(W4-U20)","v":0},0,null,1122,{"$f":"COUNTIF(L36:L63,Y10)","v":0},{"$f":"Z10/(AB4-Z20)","v":0},0,null,1122,{"$f":"COUNTIF(L64:L92,AD10)","v":0},{"$f":"AE10/(AG4-AE20)","v":0},0,null,1122,{"$f":"COUNTIF(L93:L120,AI10)","v":0},{"$f":"AJ10/(AL4-AJ20)","v":0},0,null,1122,{"$f":"COUNTIF(L121:L149,AN10)","v":0},{"$f":"AO10/(AQ4-AO20)","v":0},0,null,1122,{"$f":"COUNTIF(L150:L177,AS10)","v":0},{"$f":"AT10/(AV4-AT20)","v":0},0]
[21,562,21,575,22,581,23,587,null,null,0,2222,null,1211,0,0,0,null,null,1211,{"$f":"COUNTIF(L7:L35,T11)","v":0},{"$f":"U11/(W4-U20)","v":0},0,null,1211,{"$f":"COUNTIF(L36:L63,Y11)","v":0},{"$f":"Z11/(AB4-Z20)","v":0},0,null,1211,{"$f":"COUNTIF(L64:L92,AD11)","v":0},{"$f":"AE11/(AG4-AE20)","v":0},0,null,1211,{"$f":"COUNTIF(L93:L120,AI11)","v":0},{"$f":"AJ11/(AL4-AJ20)","v":0},0,null,1211,{"$f":"COUNTIF(L121:L149,AN11)","v":0},{"$f":"AO11/(AQ4-AO20)","v":0},0,null,1211,{"$f":"COUNTIF(L150:L177,AS11)","v":0},{"$f":"AT11/(AV4-AT20)","v":0},0]
[21,696,21,698,22,701,23,715,null,null,0,2222,null,1212,0,0,0,null,null,1212,{"$f":"COUNTIF(L7:L35,T12)","v":0},{"$f":"U12/(W4-U20)","v":0},0,null,1212,{"$f":"COUNTIF(L36:L63,Y12)","v":0},{"$f":"Z12/(AB4-Z20)","v":0},0,null,1212,{"$f":"COUNTIF(L64:L92,AD12)","v":0},{"$f":"AE12/(AG4-AE20)","v":0},0,null,1212,{"$f":"COUNTIF(L93:L120,AI12)","v":0},{"$f":"AJ12/(AL4-AJ20)","v":0},0,null,1212,{"$f":"COUNTIF(L121:L149,AN12)","v":0},{"$f":"AO12/(AQ4-AO20)","v":0},0,null,1212,{"$f":"COUNTIF(L150:L177,AS12)","v":0},{"$f":"AT12/(AV4-AT20)","v":0},0]
[21,903,21,908,22,925,23,931,null,null,0,2222,null,1221,0,0,0,null,null,1221,{"$f":"COUNTIF(L7:L35,T13)","v":0},{"$f":"U13/(W4-U20)","v":0},0,null,1221,{"$f":"COUNTIF(L36:L63,Y13)","v":0},{"$f":"Z13/(AB4-Z20)","v":0},0,null,1221,{"$f":"COUNTIF(L64:L92,AD13)","v":0},{"$f":"AE13/(AG4-AE20)","v":0},0,null,1221,{"$f":"COUNTIF(L93:L120,AI13)","v":0},{"$f":"AJ13/(AL4-AJ20)","v":0},0,null,1221,{"$f":"COUNTIF(L121:L149,AN13)","v":0},{"$f":"AO13/(AQ4-AO20)","v":0},0,null,1221,{"$f":"COUNTIF(L150:L177,AS13)","v":0},{"$f":"AT13/(AV4-AT20)","v":0},0]
[21,1037,21,1045,22,1052,23,1057,null,null,0,2222,null,1222,3,1.7543859649122806E-2,-0.10233140375727617,null,null,1222,{"$f":"COUNTIF(L7:L35,T14)","v":1},{"$f":"U14/(W4-U20)","v":3.4482758620689655E-2},-0.16751658603888178,null,1222,{"$f":"COUNTIF(L36:L63,Y14)","v":0},{"$f":"Z14/(AB4-Z20)","v":0},0,null,1222,{"$f":"COUNTIF(L64:L92,AD14)","v":0},{"$f":"AE14/(AG4-AE20)","v":0},0,null,1222,{"$f":"COUNTIF(L93:L120,AI14)","v":1},{"$f":"AJ14/(AL4-AJ20)","v":3.5714285714285712E-2},-0.17169124721634299,null,1222,{"$f":"COUNTIF(L121:L149,AN14)","v":1},{"$f":"AO14/(AQ4-AO20)","v":3.4482758620689655E-2},-0.16751658603888178,null,1222,{"$f":"COUNTIF(L150:L177,AS14)","v":0},{"$f":"AT14/(AV4-AT20)","v":0},0]
[21,1165,21,1174,22,1178,23,1185,null,null,0,2222,null,2111,5,2.9239766081871343E-2,-0.14900363801165309,null,null,2111,{"$f":"COUNTIF(L7:L35,T15)","v":0},{"$f":"U15/(W4-U20)","v":0},0,null,2111,{"$f":"COUNTIF(L36:L63,Y15)","v":1},{"$f":"Z15/(AB4-Z20)","v":3.5714285714285712E-2},-0.17169124721634299,null,2111,{"$f":"COUNTIF(L64:L92,AD15)","v":0},{"$f":"AE15/(AG4-AE20)","v":0},0,null,2111,{"$f":"COUNTIF(L93:L120,AI15)","v":0},{"$f":"AJ15/(AL4-AJ20)","v":0},0,null,2111,{"$f":"COUNTIF(L121:L149,AN15)","v":1},{"$f":"AO15/(AQ4-AO20)","v":3.4482758620689655E-2},-0.16751658603888178,null,2111,{"$f":"COUNTIF(L150:L177,AS15)","v":3},{"$f":"AT15/(AV4-AT20)","v":0.10714285714285714},-0.34525633085747659]
[12,1283,23,1295,24,1299,23,1306,null,null,0,1222,null,2112,0,0,0,null,null,2112,{"$f":"COUNTIF(L7:L35,T16)","v":0},{"$f":"U16/(W4-U20)","v":0},0,null,2112,{"$f":"COUNTIF(L36:L63,Y16)","v":0},{"$f":"Z16/(AB4-Z20)","v":0},0,null,2112,{"$f":"COUNTIF(L64:L92,AD16)","v":0},{"$f":"AE16/(AG4-AE20)","v":0},0,null,2112,{"$f":"COUNTIF(L93:L120,AI16)","v":0},{"$f":"AJ16/(AL4-AJ20)","v":0},0,null,2112,{"$f":"COUNTIF(L121:L149,AN16)","v":0},{"$f":"AO16/(AQ4-AO20)","v":0},0,null,2112,{"$f":"COUNTIF(L150:L177,AS16)","v":0},{"$f":"AT16/(AV4-AT20)","v":0},0]
[21,1412,21,1419,22,1424,23,1429,null,null,0,2222,null,2121,0,0,0,null,null,2121,{"$f":"COUNTIF(L7:L35,T17)","v":0},{"$f":"U17/(W4-U20)","v":0},0,null,2121,{"$f":"COUNTIF(L36:L63,Y17)","v":0},{"$f":"Z17/(AB4-Z20)","v":0},0,null,2121,{"$f":"COUNTIF(L64:L92,AD17)","v":0},{"$f":"AE17/(AG4-AE20)","v":0},0,null,2121,{"$f":"COUNTIF(L93:L120,AI17)","v":0},{"$f":"AJ17/(AL4-AJ20)","v":0},0,null,2121,{"$f":"COUNTIF(L121:L149,AN17)","v":0},{"$f":"AO17/(AQ4-AO20)","v":0},0,null,2121,{"$f":"COUNTIF(L150:L177,AS17)","v":0},{"$f":"AT17/(AV4-AT20)","v":0},0]
[21,1537,21,1545,22,1550,23,1558,null,null,0,2222,null,2122,0,0,0,null,null,2122,{"$f":"COUNTIF(L7:L35,T18)","v":0},{"$f":"U18/(W4-U20)","v":0},0,null,2122,{"$f":"COUNTIF(L36:L63,Y18)","v":0},{"$f":"Z18/(AB4-Z20)","v":0},0,null,2122,{"$f":"COUNTIF(L64:L92,AD18)","v":0},{"$f":"AE18/(AG4-AE20)","v":0},0,null,2122,{"$f":"COUNTIF(L93:L120,AI18)","v":0},{"$f":"AJ18/(AL4-AJ20)","v":0},0,null,2122,{"$f":"COUNTIF(L121:L149,AN18)","v":0},{"$f":"AO18/(AQ4-AO20)","v":0},0,null,2122,{"$f":"COUNTIF(L150:L177,AS18)","v":0},{"$f":"AT18/(AV4-AT20)","v":0},0]
[21,1654,21,1664,22,1671,23,1676,null,null,0,2222,null,2211,1,5.8479532163742687E-3,-4.3379254473016944E-2,null,null,2211,{"$f":"COUNTIF(L7:L35,T19)","v":0},{"$f":"U19/(W4-U20)","v":0},0,null,2211,{"$f":"COUNTIF(L36:L63,Y19)","v":0},{"$f":"Z19/(AB4-Z20)","v":0},0,null,2211,{"$f":"COUNTIF(L64:L92,AD19)","v":1},{"$f":"AE19/(AG4-AE20)","v":3.4482758620689655E-2},-0.16751658603888178,null,2211,{"$f":"COUNTIF(L93:L120,AI19)","v":0},{"$f":"AJ19/(AL4-AJ20)","v":0},0,null,2211,{"$f":"COUNTIF(L121:L149,AN19)","v":0},{"$f":"AO19/(AQ4-AO20)","v":0},0,null,2211,{"$f":"COUNTIF(L150:L177,AS19)","v":0},{"$f":"AT19/(AV4-AT20)","v":0},0]
[21,1901,21,1908,22,1914,23,1919,null,null,0,2222,null,2212,0,0,0,null,null,2212,{"$f":"COUNTIF(L7:L35,T20)","v":0},null,null,null,2212,{"$f":"COUNTIF(L36:L63,Y20)","v":0},null,null,null,2212,{"$f":"COUNTIF(L64:L92,AD20)","v":0},null,null,null,2212,{"$f":"COUNTIF(L93:L120,AI20)","v":0},null,null,null,2212,{"$f":"COUNTIF(L121:L149,AN20)","v":0},null,null,null,2212,{"$f":"COUNTIF(L150:L177,AS20)","v":0}]
[12,2037,14,2042,13,2047,14,2052,null,null,0,1111,null,2221,0,0,0,null,null,2221,{"$f":"COUNTIF(L7:L35,T21)","v":0},{"$f":"U21/(W4-U20)","v":0},{"$f":"IF(V21=0,0,(V21*((LOG(V21))/LOG(2))))","v":0},null,2221,{"$f":"COUNTIF(L36:L63,Y21)","v":0},{"$f":"Z21/(AB4-Z20)","v":0},{"$f":"IF(AA21=0,0,(AA21*((LOG(AA21))/LOG(2))))","v":0},null,2221,{"$f":"COUNTIF(L64:L92,AD21)","v":0},{"$f":"AE21/(AG4-AE20)","v":0},{"$f":"IF(AF21=0,0,(AF21*((LOG(AF21))/LOG(2))))","v":0},null,2221,{"$f":"COUNTIF(L93:L120,AI21)","v":0},{"$f":"AJ21/(AL4-AJ20)","v":0},{"$f":"IF(AK21=0,0,(AK21*((LOG(AK21))/LOG(2))))","v":0},null,2221,{"$f":"COUNTIF(L121:L149,AN21)","v":0},{"$f":"AO21/(AQ4-AO20)","v":0},{"$f":"IF(AP21=0,0,(AP21*((LOG(AP21))/LOG(2))))","v":0},null,2221,{"$f":"COUNTIF(L150:L177,AS21)","v":0},{"$f":"AT21/(AV4-AT20)","v":0},{"$f":"IF(AU21=0,0,(AU21*((LOG(AU21))/LOG(2))))","v":0}]
[21,2148,21,2158,22,2178,23,2184,null,null,0,2222,null,2222,144,0.84210526315789469,-0.2087810639524931,null,null,2222,{"$f":"COUNTIF(L7:L35,T22)","v":26},{"$f":"U22/(W4-U20)","v":0.89655172413793105},{"$f":"IF(V22=0,0,(V22*((LOG(V22))/LOG(2))))","v":-0.14124390350511995},null,2222,{"$f":"COUNTIF(L36:L63,Y22)","v":23},{"$f":"Z22/(AB4-Z20)","v":0.8214285714285714},{"$f":"IF(AA22=0,0,(AA22*((LOG(AA22))/LOG(2))))","v":-0.23311565064334283},null,2222,{"$f":"COUNTIF(L64:L92,AD22)","v":22},{"$f":"AE22/(AG4-AE20)","v":0.75862068965517238},{"$f":"IF(AF22=0,0,(AF22*((LOG(AF22))/LOG(2))))","v":-0.30234780285469132},null,2222,{"$f":"COUNTIF(L93:L120,AI22)","v":26},{"$f":"AJ22/(AL4-AJ20)","v":0.9285714285714286},{"$f":"IF(AK22=0,0,(AK22*((LOG(AK22))/LOG(2))))","v":-9.9278403636761048E-2},null,2222,{"$f":"COUNTIF(L121:L149,AN22)","v":24},{"$f":"AO22/(AQ4-AO20)","v":0.82758620689655171},{"$f":"IF(AP22=0,0,(AP22*((LOG(AP22))/LOG(2))))","v":-0.2259463401984132},null,2222,{"$f":"COUNTIF(L150:L177,AS22)","v":23},{"$f":"AT22/(AV4-AT20)","v":0.8214285714285714},{"$f":"IF(AU22=0,0,(AU22*((LOG(AU22))/LOG(2))))","v":-0.23311565064334283}]
[21,2354,21,2361,22,2367,23,2378,null,null,0,2222,null,null,null,{"$f":"SUM(P7:P22)","v":1},{"$f":"-SUM(Q7:Q22)","v":0.84538246687271146},null,null,null,null,{"$f":"SUM(V7:V22)","v":1},{"$f":"-SUM(W7:W22)","v":0.57482814438038599},null,null,null,{"$f":"SUM(AA7:AA22)","v":1},{"$f":"-SUM(AB7:AB22)","v":0.80585760101077208},null,null,null,{"$f":"SUM(AF7:AF22)","v":1},{"$f":"-SUM(AG7:AG22)","v":0.94014407739145223},null,null,null,{"$f":"SUM(AK7:AK22)","v":1},{"$f":"-SUM(AL7:AL22)","v":0.44266089806944703},null,null,null,{"$f":"SUM(AP7:AP22)","v":1},{"$f":"-SUM(AQ7:AQ22)","v":0.89956763238718529},null,null,null,{"$f":"SUM(AU7:AU22)","v":1},{"$f":"-SUM(AV7:AV22)","v":0.85032590450493395}]
[21,2485,21,2497,22,2503,23,2507,null,null,0,2222,null,null,null,"U=",{"$f":"Q23/(LOG(Q4)/LOG(2))","v":0.11396593086425301},null,null,null,null,"U1=",{"$f":"W23/(LOG(W4)/LOG(2))","v":0.11832655272981175},null,null,null,"U2=",{"$f":"AB23/(LOG(AB4)/LOG(2))","v":0.16763014465881285},null,null,null,"U3=",{"$f":"AG23/(LOG(AG4)/LOG(2))","v":0.19352568038746801},null,null,null,"U4=",{"$f":"AL23/(LOG(AL4)/LOG(2))","v":9.2079928619038395E-2},null,null,null,"U5=",{"$f":"AQ23/(LOG(AQ4)/LOG(2))","v":0.18517314771083462},null,null,null,"U6=",{"$f":"AV23/(LOG(AV4)/LOG(2))","v":0.17688020091950785}]
[21,2619,21,2629,22,2637,23,2641,null,null,0,2222]
[21,2767,21,2773,22,2779,23,2785,null,null,0,2222]
[21,2903,21,2916,22,2928,23,2939,null,null,0,2222,null,"Total Target Seq"]
[21,3039,21,3046,22,3051,23,3056,null,null,0,2222,null,{"$f":"COUNTIF(L7:L177,G3)","v":0},null,29,28,29,28,29,28]
[21,3173,21,3178,22,3184,23,3189,null,null,0,2222,null,null,null,"% of reinforcement given in 6 equal intervals based on number of trials "]
[12,3291,14,3298,13,3304,14,3315,null,null,0,1111,null,null,null,"%_1","%_2","%_3","%_4","%_5","%_6"]
[21,3416,21,3426,22,3433,23,3439,null,null,0,2222,null,null,"target sequence",{"$f":"$G$3","v":2212},2212,2212,2212,2212,2212]
[21,3542,21,3553,22,3558,23,3564,null,null,0,2222,null,null,"total reinforcement",{"$f":"U20","v":0},{"$f":"Z20","v":0},{"$f":"AE20","v":0},{"$f":"AJ20","v":0},{"$f":"AO20","v":0},{"$f":"AT20","v":0}]
[21,3756,21,3759,22,3766,23,3771,null,null,0,2222,null,null,"% target"]
[21,3873,21,3883,22,3888,23,3898,null,null,0,2222,null,null,"CCRF"]
[21,4002,21,4019,22,4026,23,4038,null,null,0,2222,null,null,"% CCRf"]
[21,4144,21,4147,22,4155,23,4164,null,null,0,2222,null,null,"average response rate",{"$f":"H35/P28","v":139.24137931034483},{"$f":"(H63-H35)/Q28","v":140.39285714285714},{"$f":"(H92-H63)/R28","v":146.68965517241378},{"$f":"(H120-H92)/S28","v":146.10714285714286},{"$f":"(H149-H120)/T28","v":133.10344827586206},{"$f":"(H177-H149)/U28","v":135.5}]
[21,4264,21,4269,22,4280,23,4288,null,null,0,2222]
[21,4389,21,4398,22,4409,23,4415,null,null,0,2222]
[21,4525,21,4536,22,4542,23,4547,null,null,0,2222]
[21,4657,21,4673,22,4678,23,4684,null,null,0,2222]
[21,4873,21,4880,22,4889,23,4896,null,null,0,2222]
[21,4992,21,4998,22,5003,23,5010,null,null,0,2222]
[21,5126,21,5146,22,5151,23,5158,null,null,0,2222]
[21,5267,21,5271,22,5278,23,5283,null,null,0,2222]
[12,5392,14,5393,13,5395,14,5401,null,null,0,1111]
[21,5501,21,5510,22,5517,23,5523,null,null,0,2222]
[21,5619,21,5633,22,5641,23,5648,null,null,0,2222]
[21,5749,21,5759,22,5765,23,5771,null,null,0,2222]
[21,5875,21,5883,22,5897,23,5903,null,null,0,2222]
[21,6001,21,6005,22,6013,23,6019,null,null,0,2222]
[21,6125,12,6137,13,6143,14,6148,null,null,0,2111]
[12,6364,14,6372,13,6377,14,6383,null,null,0,1111]
[21,6483,21,6499,22,6513,23,6519,null,null,0,2222]
[12,6711,14,6714,13,6720,14,6725,null,null,0,1111]
[21,6843,21,6848,22,6854,23,6860,null,null,0,2222]
[21,6965,21,6978,22,6986,23,6992,null,null,0,2222]
[21,7104,21,7117,22,7123,23,7129,null,null,0,2222]
[12,7320,14,7325,13,7330,14,7336,null,null,0,1111]
[21,7441,21,7445,22,7453,23,7460,null,null,0,2222]
[21,7564,21,7573,22,7580,23,7586,null,null,0,2222]
[21,7692,21,7702,22,7707,23,7715,null,null,0,2222]
[21,7808,21,7825,22,7839,23,7845,null,null,0,2222]
[21,7951,21,7954,22,7964,23,7969,null,null,0,2222]
[21,8075,21,8085,22,8091,23,8096,null,null,0,2222]
[12,8201,14,8207,13,8214,14,8219,null,null,0,1111]
[12,8358,14,8373,13,8379,14,8409,null,null,0,1111]
[21,8520,21,8536,22,8542,23,8547,null,null,0,2222]
[21,8644,21,8652,22,8658,23,8663,null,null,0,2222]
[12,8768,14,8773,13,8782,14,8788,null,null,0,1111]
[21,8893,21,8900,22,8911,23,8917,null,null,0,2222]
[21,9027,21,9035,22,9043,23,9048,null,null,0,2222]
[21,9155,21,9160,22,9165,23,9170,null,null,0,2222]
[12,9362,14,9371,13,9378,14,9383,null,null,0,1111]
[21,9489,21,9499,22,9504,23,9510,null,null,0,2222]
[21,9683,21,9689,22,9695,23,9707,null,null,0,2222]
[21,9812,21,9817,22,9822,23,9828,null,null,0,2222]
[21,9935,21,9941,11,9954,12,9960,null,null,0,2211]
[21,10070,21,10076,22,10084,23,10090,null,null,0,2222]
[12,10247,14,10249,13,10257,14,10267,null,null,0,1111]
[21,10421,21,10428,22,10434,23,10439,null,null,0,2222]
[12,10605,14,10611,13,10617,14,10635,null,null,0,1111]
[21,10742,21,10746,22,10755,23,10762,null,null,0,2222]
[21,10863,21,10882,22,10887,23,10897,null,null,0,2222]
[21,11002,21,11008,22,11019,23,11026,null,null,0,2222]
[21,11131,21,11140,22,11146,23,11151,null,null,0,2222]
[21,11284,21,11292,22,11297,23,11309,null,null,0,2222]
[21,11423,21,11432,22,11444,23,11450,null,null,0,2222]
[21,11556,21,11568,22,11574,23,11580,null,null,0,2222]
[21,11694,21,11701,22,11712,23,11717,null,null,0,2222]
[21,11826,21,11834,22,11839,23,11845,null,null,0,2222]
[21,12000,21,12008,22,12016,23,12021,null,null,0,2222]
[21,12197,21,12205,22,12216,23,12223,null,null,0,2222]
[21,12320,21,12345,22,12351,23,12357,null,null,0,2222]
[21,12498,21,12508,22,12519,23,12530,null,null,0,2222]
[21,12721,21,12728,22,12733,23,12739,null,null,0,2222]
[21,12837,21,12846,22,12854,23,12860,null,null,0,2222]
[21,12963,21,12976,22,12982,23,12987,null,null,0,2222]
[21,13094,21,13099,22,13106,23,13113,null,null,0,2222]
[21,13277,21,13288,22,13299,23,13306,null,null,0,2222]
[21,13408,21,13416,22,13422,23,13428,null,null,0,2222]
[21,13541,21,13548,22,13553,23,13559,null,null,0,2222]
[21,13669,21,13676,22,13682,23,13686,null,null,0,2222]
[21,13828,21,13833,22,13838,23,13845,null,null,0,2222]
[21,13946,21,13956,22,13972,23,13976,null,null,0,2222]
[21,14131,21,14139,22,14149,23,14156,null,null,0,2222]
[21,14259,21,14268,22,14274,23,14280,null,null,0,2222]
[21,14398,21,14409,22,14419,23,14424,null,null,0,2222]
[21,14544,21,14549,22,14555,23,14561,null,null,0,2222]
[21,14702,21,14709,22,14720,23,14726,null,null,0,2222]
[21,14825,21,14839,22,14846,23,14851,null,null,0,2222]
[12,14949,14,14958,13,14964,14,14970,null,null,0,1111]
[21,15085,21,15098,22,15105,23,15115,null,null,0,2222]
[21,15221,21,15227,22,15234,23,15240,null,null,0,2222]
[21,15385,21,15390,22,15402,23,15407,null,null,0,2222]
[12,15513,23,15535,24,15540,23,15545,null,null,0,1222]
[21,15644,21,15652,22,15659,23,15665,null,null,0,2222]
[21,15764,21,15781,22,15786,23,15796,null,null,0,2222]
[21,15889,21,15901,22,15910,23,15917,null,null,0,2222]
[21,16025,21,16034,22,16039,23,16046,null,null,0,2222]
[21,16296,21,16304,22,16308,23,16314,null,null,0,2222]
[21,16417,21,16428,22,16434,23,16439,null,null,0,2222]
[21,16556,21,16565,22,16571,23,16577,null,null,0,2222]
[21,16678,21,16684,22,16690,23,16698,null,null,0,2222]
[21,16808,21,16813,22,16818,23,16823,null,null,0,2222]
[21,16919,21,16933,22,16946,23,16960,null,null,0,2222]
[21,17059,21,17068,22,17074,23,17080,null,null,0,2222]
[21,17236,21,17244,22,17256,23,17261,null,null,0,2222]
[21,17361,21,17365,22,17370,23,17384,null,null,0,2222]
[21,17491,21,17499,22,17504,23,17509,null,null,0,2222]
[21,17615,21,17623,22,17631,23,17636,null,null,0,2222]
[21,17742,21,17751,22,17761,23,17766,null,null,0,2222]
[21,17867,21,17876,22,17883,23,17888,null,null,0,2222]
[21,17984,21,17996,22,18002,23,18007,null,null,0,2222]
[21,18174,21,18179,22,18185,23,18191,null,null,0,2222]
[21,18289,21,18300,22,18311,23,18328,null,null,0,2222]
[21,18434,21,18444,22,18449,23,18461,null,null,0,2222]
[21,18572,21,18579,22,18594,23,18599,null,null,0,2222]
[21,18698,21,18709,22,18718,23,18725,null,null,0,2222]
[21,18830,12,18848,13,18853,14,18862,null,null,0,2111]
[21,18964,21,18970,22,18976,23,18982,null,null,0,2222]
[12,19099,14,19102,13,19113,14,19120,null,null,0,1111]
[12,19269,14,19281,13,19287,14,19300,null,null,0,1111]
[21,19398,21,19405,22,19415,23,19420,null,null,0,2222]
[21,19530,21,19545,22,19550,23,19556,null,null,0,2222]
[21,19658,21,19671,22,19678,23,19683,null,null,0,2222]
[21,19801,21,19808,22,19812,23,19818,null,null,0,2222]
[12,19913,23,19922,24,19929,23,19935,null,null,0,1222]
[21,20030,21,20042,22,20054,23,20059,null,null,0,2222]
[12,20155,14,20165,13,20169,14,20174,null,null,0,1111]
[21,20271,21,20277,22,20284,23,20289,null,null,0,2222]
[21,20400,21,20411,22,20417,23,20425,null,null,0,2222]
[12,20540,14,20545,13,20550,14,20556,null,null,0,1111]
[21,20686,21,20692,22,20701,23,20706,null,null,0,2222]
[21,20810,12,20822,13,20827,14,20832,null,null,0,2111]
[21,20935,21,20943,22,20951,23,20956,null,null,0,2222]
[21,21063,21,21072,22,21082,23,21087,null,null,0,2222]
[21,21200,21,21205,22,21215,23,21228,null,null,0,2222]
[21,21329,21,21336,22,21354,23,21360,null,null,0,2222]
[21,21532,21,21540,22,21545,23,21553,null,null,0,2222]
[21,21650,21,21659,22,21664,23,21670,null,null,0,2222]
[12,21775,14,21784,13,21791,14,21797,null,null,0,1111]
[21,21902,21,21916,22,21929,23,21941,null,null,0,2222]
[21,22044,21,22053,22,22062,23,22073,null,null,0,2222]
[21,22185,21,22189,22,22199,23,22205,null,null,0,2222]
[21,22313,12,22330,13,22335,14,22341,null,null,0,2111]
[21,22438,21,22446,22,22454,23,22463,null,null,0,2222]
[21,22562,21,22577,22,22586,23,22594,null,null,0,2222]
[21,22703,21,22714,22,22722,23,22729,null,null,0,2222]
[21,22832,21,22835,22,22844,23,22849,null,null,0,2222]
[21,23001,21,23005,22,23009,23,23016,null,null,0,2222]
[21,23140,21,23149,22,23154,23,23161,null,null,0,2222]
[21,23255,21,23266,22,23276,23,23281,null,null,0,2222]
[21,23378,21,23386,22,23395,23,23400,null,null,0,2222]
[21,23549,21,23559,22,23565,23,23570,null,null,0,2222]
[21,23667,12,23680,13,23687,14,23692,null,null,0,2111]
[21,23806,21,23814,22,23824,23,23831,null,null,0,2222]
[21,23937,21,23956,22,23962,23,23968,null,null,null,2222]

{"sheet":"!LC02955..Du","index":32,"n_rows":170,"n_cols":48,"rows_kept":170,"cut":false,"hidden":false,"merged":[[1,1,1,2],[5,13,5,14],[26,13,26,14],[27,13,27,14],[4,19,4,22],[5,19,5,20],[4,39,4,42],[5,39,5,40],[4,44,4,47],[5,44,5,45],[4,24,4,27],[5,24,5,25],[4,29,4,32],[5,29,5,30],[4,34,4,37],[5,34,5,35]]}
["Report for:!LC02955..Du"]
["Date:","<date>"]
["Hen:","<hen>",null,null,null,"Correct Sequence",{"$f":"Start!J2","v":2212},null,null,null,null,null,null,null,null,"Total Sequences in Data",{"$f":"4994-COUNTBLANK(L7:L5000)","v":164},null,null,null,null,"Total Sequences in Block Data",{"$f":"COUNTA(L7:L33)","v":27},null,null,null,"Total Sequences in Block Data",{"$f":"COUNTA(L34:L61)","v":28},null,null,null,"Total Sequences in Block Data",{"$f":"COUNTA(L62:L88)","v":27},null,null,null,"Total Sequences in Block Data",{"$f":"COUNTA(L89:L115)","v":27},null,null,null,"Total Sequences in Block Data",{"$f":"COUNTA(L116:L143)","v":28},null,null,null,"Total Sequences in Block Data",{"$f":"COUNTA(L144:L170)","v":27}]
[null,null,null,null,null,null,null,null,null,null,null,null,null,null,null,"Total Sequences in Summary",{"$f":"SUM(O7:O22)","v":164},null,null,null,null,"Total Sequences in Block Summary",{"$f":"SUM(U7:U22)","v":27},null,null,null,"Total Sequences in Block Summary",{"$f":"SUM(Z7:Z22)","v":28},null,null,null,"Total Sequences in Block Summary",{"$f":"SUM(AE7:AE22)","v":27},null,null,null,"Total Sequences in Block Summary",{"$f":"SUM(AJ7:AJ22)","v":27},null,null,null,"Total Sequences in Block Summary",{"$f":"SUM(AO7:AO22)","v":28},null,null,null,"Total Sequences in Block Summary",{"$f":"SUM(AT7:AT22)","v":27}]
[null,null,null,null,null,null,null,null,null,null,null,null,null,null,null,null,null,null,null,"Block 1",null,null,null,null,"Block 2",null,null,null,null,"Block 3",null,null,null,null,"Block 4",null,null,null,null,"Block 5",null,null,null,null,"Block 6"]
["Sequence\nComponent\n1","Time\n1","Sequence\nComponent\n2","Time\n2","Sequence\nComponent\n3","Time\n3","Sequence\nComponent\n4","Time\n4","Sequence\nComponent\n5","Time\n5","Correct?\n0=No 1=Yes","Sequence",null,"Frequency",null,"Relative Frequency","Variability",null,null,"Frequency",null,"Relative Frequency","Variability",null,"Frequency",null,"Relative Frequency","Variability",null,"Frequency",null,"Relative Frequency","Variability",null,"Frequency",null,"Relative Frequency","Variability",null,"Frequency",null,"Relative Frequency","Variability",null,"Frequency",null,"Relative Frequency","Variability"]
[21,12,21,24,22,31,23,40,null,null,0,2222,null,1111,{"$f":"COUNTIF($L$7:$L$500,N7)","v":34},{"$f":"O7/$Q$4","v":0.2073170731707317},{"$f":"IF(P7=0,0,(P7*((LOG(P7))/LOG(2))))","v":-0.47062824118599572},null,null,{"$f":"N7","v":1111},{"$f":"COUNTIF(L7:L33,T7)","v":5},{"$f":"U7/(W4-U20)","v":0.18518518518518517},{"$f":"IF(V7=0,0,(V7*((LOG(V7))/LOG(2))))","v":-0.45054803838446406},null,{"$f":"N7","v":1111},{"$f":"COUNTIF(L34:L61,Y7)","v":4},{"$f":"Z7/(AB4-Z20)","v":0.14285714285714285},{"$f":"IF(AA7=0,0,(AA7*((LOG(AA7))/LOG(2))))","v":-0.40105070315108626},null,{"$f":"N7","v":1111},{"$f":"COUNTIF(L62:L88,AD7)","v":7},{"$f":"AE7/(AG4-AE20)","v":0.25925925925925924},{"$f":"IF(AF7=0,0,(AF7*((LOG(AF7))/LOG(2))))","v":-0.5049158541015204},null,{"$f":"N7","v":1111},{"$f":"COUNTIF(L89:L115,AI7)","v":4},{"$f":"AJ7/(AL4-AJ20)","v":0.14814814814814814},{"$f":"IF(AK7=0,0,(AK7*((LOG(AK7))/LOG(2))))","v":-0.40813148180199532},null,{"$f":"N7","v":1111},{"$f":"COUNTIF(L116:L143,AN7)","v":6},{"$f":"AO7/(AQ4-AO20)","v":0.21428571428571427},{"$f":"IF(AP7=0,0,(AP7*((LOG(AP7))/LOG(2))))","v":-0.47622694742923877},null,{"$f":"N7","v":1111},{"$f":"COUNTIF(L144:L170,AS7)","v":8},{"$f":"AT7/(AV4-AT20)","v":0.29629629629629628},{"$f":"IF(AU7=0,0,(AU7*((LOG(AU7))/LOG(2))))","v":-0.51996666730769436}]
[21,187,21,193,22,212,23,219,null,null,0,2222,null,1112,0,0,0,null,null,1112,{"$f":"COUNTIF(L7:L33,T8)","v":0},{"$f":"U8/(W4-U20)","v":0},0,null,1112,{"$f":"COUNTIF(L34:L61,Y8)","v":0},{"$f":"Z8/(AB4-Z20)","v":0},0,null,1112,{"$f":"COUNTIF(L62:L88,AD8)","v":0},{"$f":"AE8/(AG4-AE20)","v":0},0,null,1112,{"$f":"COUNTIF(L89:L115,AI8)","v":0},{"$f":"AJ8/(AL4-AJ20)","v":0},0,null,1112,{"$f":"COUNTIF(L116:L143,AN8)","v":0},{"$f":"AO8/(AQ4-AO20)","v":0},0,null,1112,{"$f":"COUNTIF(L144:L170,AS8)","v":0},{"$f":"AT8/(AV4-AT20)","v":0},0]
[12,319,23,329,24,343,23,349,null,null,0,1222,null,1121,0,0,0,null,null,1121,{"$f":"COUNTIF(L7:L33,T9)","v":0},{"$f":"U9/(W4-U20)","v":0},0,null,1121,{"$f":"COUNTIF(L34:L61,Y9)","v":0},{"$f":"Z9/(AB4-Z20)","v":0},0,null,1121,{"$f":"COUNTIF(L62:L88,AD9)","v":0},{"$f":"AE9/(AG4-AE20)","v":0},0,null,1121,{"$f":"COUNTIF(L89:L115,AI9)","v":0},{"$f":"AJ9/(AL4-AJ20)","v":0},0,null,1121,{"$f":"COUNTIF(L116:L143,AN9)","v":0},{"$f":"AO9/(AQ4-AO20)","v":0},0,null,1121,{"$f":"COUNTIF(L144:L170,AS9)","v":0},{"$f":"AT9/(AV4-AT20)","v":0},0]
[21,457,21,465,22,473,23,478,null,null,0,2222,null,1122,0,0,0,null,null,1122,{"$f":"COUNTIF(L7:L33,T10)","v":0},{"$f":"U10/(W4-U20)","v":0},0,null,1122,{"$f":"COUNTIF(L34:L61,Y10)","v":0},{"$f":"Z10/(AB4-Z20)","v":0},0,null,1122,{"$f":"COUNTIF(L62:L88,AD10)","v":0},{"$f":"AE10/(AG4-AE20)","v":0},0,null,1122,{"$f":"COUNTIF(L89:L115,AI10)","v":0},{"$f":"AJ10/(AL4-AJ20)","v":0},0,null,1122,{"$f":"COUNTIF(L116:L143,AN10)","v":0},{"$f":"AO10/(AQ4-AO20)","v":0},0,null,1122,{"$f":"COUNTIF(L144:L170,AS10)","v":0},{"$f":"AT10/(AV4-AT20)","v":0},0]
[12,583,14,588,13,593,14,599,null,null,0,1111,null,1211,0,0,0,null,null,1211,{"$f":"COUNTIF(L7:L33,T11)","v":0},{"$f":"U11/(W4-U20)","v":0},0,null,1211,{"$f":"COUNTIF(L34:L61,Y11)","v":0},{"$f":"Z11/(AB4-Z20)","v":0},0,null,1211,{"$f":"COUNTIF(L62:L88,AD11)","v":0},{"$f":"AE11/(AG4-AE20)","v":0},0,null,1211,{"$f":"COUNTIF(L89:L115,AI11)","v":0},{"$f":"AJ11/(AL4-AJ20)","v":0},0,null,1211,{"$f":"COUNTIF(L116:L143,AN11)","v":0},{"$f":"AO11/(AQ4-AO20)","v":0},0,null,1211,{"$f":"COUNTIF(L144:L170,AS11)","v":0},{"$f":"AT11/(AV4-AT20)","v":0},0]
[21,707,21,712,22,720,23,728,null,null,0,2222,null,1212,0,0,0,null,null,1212,{"$f":"COUNTIF(L7:L33,T12)","v":0},{"$f":"U12/(W4-U20)","v":0},0,null,1212,{"$f":"COUNTIF(L34:L61,Y12)","v":0},{"$f":"Z12/(AB4-Z20)","v":0},0,null,1212,{"$f":"COUNTIF(L62:L88,AD12)","v":0},{"$f":"AE12/(AG4-AE20)","v":0},0,null,1212,{"$f":"COUNTIF(L89:L115,AI12)","v":0},{"$f":"AJ12/(AL4-AJ20)","v":0},0,null,1212,{"$f":"COUNTIF(L116:L143,AN12)","v":0},{"$f":"AO12/(AQ4-AO20)","v":0},0,null,1212,{"$f":"COUNTIF(L144:L170,AS12)","v":0},{"$f":"AT12/(AV4-AT20)","v":0},0]
[21,838,21,844,22,853,23,858,null,null,0,2222,null,1221,0,0,0,null,null,1221,{"$f":"COUNTIF(L7:L33,T13)","v":0},{"$f":"U13/(W4-U20)","v":0},0,null,1221,{"$f":"COUNTIF(L34:L61,Y13)","v":0},{"$f":"Z13/(AB4-Z20)","v":0},0,null,1221,{"$f":"COUNTIF(L62:L88,AD13)","v":0},{"$f":"AE13/(AG4-AE20)","v":0},0,null,1221,{"$f":"COUNTIF(L89:L115,AI13)","v":0},{"$f":"AJ13/(AL4-AJ20)","v":0},0,null,1221,{"$f":"COUNTIF(L116:L143,AN13)","v":0},{"$f":"AO13/(AQ4-AO20)","v":0},0,null,1221,{"$f":"COUNTIF(L144:L170,AS13)","v":0},{"$f":"AT13/(AV4-AT20)","v":0},0]
[21,967,21,974,22,992,23,997,null,null,0,2222,null,1222,6,3.6585365853658534E-2,-0.17460693306939978,null,null,1222,{"$f":"COUNTIF(L7:L33,T14)","v":4},{"$f":"U14/(W4-U20)","v":0.14814814814814814},-0.40813148180199532,null,1222,{"$f":"COUNTIF(L34:L61,Y14)","v":1},{"$f":"Z14/(AB4-Z20)","v":3.5714285714285712E-2},-0.17169124721634299,null,1222,{"$f":"COUNTIF(L62:L88,AD14)","v":0},{"$f":"AE14/(AG4-AE20)","v":0},0,null,1222,{"$f":"COUNTIF(L89:L115,AI14)","v":1},{"$f":"AJ14/(AL4-AJ20)","v":3.7037037037037035E-2},-0.1761069445245729,null,1222,{"$f":"COUNTIF(L116:L143,AN14)","v":0},{"$f":"AO14/(AQ4-AO20)","v":0},0,null,1222,{"$f":"COUNTIF(L144:L170,AS14)","v":0},{"$f":"AT14/(AV4-AT20)","v":0},0]
[21,1198,21,1202,22,1207,23,1213,null,null,0,2222,null,2111,7,4.2682926829268296E-2,-0.19421572913367902,null,null,2111,{"$f":"COUNTIF(L7:L33,T15)","v":1},{"$f":"U15/(W4-U20)","v":3.7037037037037035E-2},-0.1761069445245729,null,2111,{"$f":"COUNTIF(L34:L61,Y15)","v":1},{"$f":"Z15/(AB4-Z20)","v":3.5714285714285712E-2},-0.17169124721634299,null,2111,{"$f":"COUNTIF(L62:L88,AD15)","v":1},{"$f":"AE15/(AG4-AE20)","v":3.7037037037037035E-2},-0.1761069445245729,null,2111,{"$f":"COUNTIF(L89:L115,AI15)","v":2},{"$f":"AJ15/(AL4-AJ20)","v":7.407407407407407E-2},-0.27813981497507173,null,2111,{"$f":"COUNTIF(L116:L143,AN15)","v":1},{"$f":"AO15/(AQ4-AO20)","v":3.5714285714285712E-2},-0.17169124721634299,null,2111,{"$f":"COUNTIF(L144:L170,AS15)","v":1},{"$f":"AT15/(AV4-AT20)","v":3.7037037037037035E-2},-0.1761069445245729]
[21,1322,21,1327,22,1337,23,1344,null,null,0,2222,null,2112,0,0,0,null,null,2112,{"$f":"COUNTIF(L7:L33,T16)","v":0},{"$f":"U16/(W4-U20)","v":0},0,null,2112,{"$f":"COUNTIF(L34:L61,Y16)","v":0},{"$f":"Z16/(AB4-Z20)","v":0},0,null,2112,{"$f":"COUNTIF(L62:L88,AD16)","v":0},{"$f":"AE16/(AG4-AE20)","v":0},0,null,2112,{"$f":"COUNTIF(L89:L115,AI16)","v":0},{"$f":"AJ16/(AL4-AJ20)","v":0},0,null,2112,{"$f":"COUNTIF(L116:L143,AN16)","v":0},{"$f":"AO16/(AQ4-AO20)","v":0},0,null,2112,{"$f":"COUNTIF(L144:L170,AS16)","v":0},{"$f":"AT16/(AV4-AT20)","v":0},0]
[12,1524,14,1530,13,1537,14,1542,null,null,0,1111,null,2121,0,0,0,null,null,2121,{"$f":"COUNTIF(L7:L33,T17)","v":0},{"$f":"U17/(W4-U20)","v":0},0,null,2121,{"$f":"COUNTIF(L34:L61,Y17)","v":0},{"$f":"Z17/(AB4-Z20)","v":0},0,null,2121,{"$f":"COUNTIF(L62:L88,AD17)","v":0},{"$f":"AE17/(AG4-AE20)","v":0},0,null,2121,{"$f":"COUNTIF(L89:L115,AI17)","v":0},{"$f":"AJ17/(AL4-AJ20)","v":0},0,null,2121,{"$f":"COUNTIF(L116:L143,AN17)","v":0},{"$f":"AO17/(AQ4-AO20)","v":0},0,null,2121,{"$f":"COUNTIF(L144:L170,AS17)","v":0},{"$f":"AT17/(AV4-AT20)","v":0},0]
[21,1643,21,1651,22,1657,23,1669,null,null,0,2222,null,2122,1,6.0975609756097563E-3,-4.4863121979378563E-2,null,null,2122,{"$f":"COUNTIF(L7:L33,T18)","v":0},{"$f":"U18/(W4-U20)","v":0},0,null,2122,{"$f":"COUNTIF(L34:L61,Y18)","v":0},{"$f":"Z18/(AB4-Z20)","v":0},0,null,2122,{"$f":"COUNTIF(L62:L88,AD18)","v":0},{"$f":"AE18/(AG4-AE20)","v":0},0,null,2122,{"$f":"COUNTIF(L89:L115,AI18)","v":0},{"$f":"AJ18/(AL4-AJ20)","v":0},0,null,2122,{"$f":"COUNTIF(L116:L143,AN18)","v":1},{"$f":"AO18/(AQ4-AO20)","v":3.5714285714285712E-2},-0.17169124721634299,null,2122,{"$f":"COUNTIF(L144:L170,AS18)","v":0},{"$f":"AT18/(AV4-AT20)","v":0},0]
[21,1773,21,1781,22,1786,23,1792,null,null,0,2222,null,2211,0,0,0,null,null,2211,{"$f":"COUNTIF(L7:L33,T19)","v":0},{"$f":"U19/(W4-U20)","v":0},0,null,2211,{"$f":"COUNTIF(L34:L61,Y19)","v":0},{"$f":"Z19/(AB4-Z20)","v":0},0,null,2211,{"$f":"COUNTIF(L62:L88,AD19)","v":0},{"$f":"AE19/(AG4-AE20)","v":0},0,null,2211,{"$f":"COUNTIF(L89:L115,AI19)","v":0},{"$f":"AJ19/(AL4-AJ20)","v":0},0,null,2211,{"$f":"COUNTIF(L116:L143,AN19)","v":0},{"$f":"AO19/(AQ4-AO20)","v":0},0,null,2211,{"$f":"COUNTIF(L144:L170,AS19)","v":0},{"$f":"AT19/(AV4-AT20)","v":0},0]
[21,1889,21,1895,22,1900,23,1907,null,null,0,2222,null,2212,0,0,0,null,null,2212,{"$f":"COUNTIF(L7:L33,T20)","v":0},null,null,null,2212,{"$f":"COUNTIF(L34:L61,Y20)","v":0},null,null,null,2212,{"$f":"COUNTIF(L62:L88,AD20)","v":0},null,null,null,2212,{"$f":"COUNTIF(L89:L115,AI20)","v":0},null,null,null,2212,{"$f":"COUNTIF(L116:L143,AN20)","v":0},null,null,null,2212,{"$f":"COUNTIF(L144:L170,AS20)","v":0}]
[21,2014,21,2021,22,2026,23,2032,null,null,0,2222,null,2221,0,0,0,null,null,2221,{"$f":"COUNTIF(L7:L33,T21)","v":0},{"$f":"U21/(W4-U20)","v":0},{"$f":"IF(V21=0,0,(V21*((LOG(V21))/LOG(2))))","v":0},null,2221,{"$f":"COUNTIF(L34:L61,Y21)","v":0},{"$f":"Z21/(AB4-Z20)","v":0},{"$f":"IF(AA21=0,0,(AA21*((LOG(AA21))/LOG(2))))","v":0},null,2221,{"$f":"COUNTIF(L62:L88,AD21)","v":0},{"$f":"AE21/(AG4-AE20)","v":0},{"$f":"IF(AF21=0,0,(AF21*((LOG(AF21))/LOG(2))))","v":0},null,2221,{"$f":"COUNTIF(L89:L115,AI21)","v":0},{"$f":"AJ21/(AL4-AJ20)","v":0},{"$f":"IF(AK21=0,0,(AK21*((LOG(AK21))/LOG(2))))","v":0},null,2221,{"$f":"COUNTIF(L116:L143,AN21)","v":0},{"$f":"AO21/(AQ4-AO20)","v":0},{"$f":"IF(AP21=0,0,(AP21*((LOG(AP21))/LOG(2))))","v":0},null,2221,{"$f":"COUNTIF(L144:L170,AS21)","v":0},{"$f":"AT21/(AV4-AT20)","v":0},{"$f":"IF(AU21=0,0,(AU21*((LOG(AU21))/LOG(2))))","v":0}]
[12,2301,14,2311,13,2316,14,2328,null,null,0,1111,null,2222,116,0.70731707317073167,-0.35335510427377653,null,null,2222,{"$f":"COUNTIF(L7:L33,T22)","v":17},{"$f":"U22/(W4-U20)","v":0.62962962962962965},{"$f":"IF(V22=0,0,(V22*((LOG(V22))/LOG(2))))","v":-0.42023034205641457},null,2222,{"$f":"COUNTIF(L34:L61,Y22)","v":22},{"$f":"Z22/(AB4-Z20)","v":0.7857142857142857},{"$f":"IF(AA22=0,0,(AA22*((LOG(AA22))/LOG(2))))","v":-0.27336830983024107},null,2222,{"$f":"COUNTIF(L62:L88,AD22)","v":19},{"$f":"AE22/(AG4-AE20)","v":0.70370370370370372},{"$f":"IF(AF22=0,0,(AF22*((LOG(AF22))/LOG(2))))","v":-0.35674962169176955},null,2222,{"$f":"COUNTIF(L89:L115,AI22)","v":20},{"$f":"AJ22/(AL4-AJ20)","v":0.7407407407407407},{"$f":"IF(AK22=0,0,(AK22*((LOG(AK22))/LOG(2))))","v":-0.32071067205637499},null,2222,{"$f":"COUNTIF(L116:L143,AN22)","v":20},{"$f":"AO22/(AQ4-AO20)","v":0.7142857142857143},{"$f":"IF(AP22=0,0,(AP22*((LOG(AP22))/LOG(2))))","v":-0.34673344797874411},null,2222,{"$f":"COUNTIF(L144:L170,AS22)","v":18},{"$f":"AT22/(AV4-AT20)","v":0.66666666666666663},{"$f":"IF(AU22=0,0,(AU22*((LOG(AU22))/LOG(2))))","v":-0.38997500048077083}]
[21,2534,12,2545,13,2550,14,2567,null,null,0,2111,null,null,null,{"$f":"SUM(P7:P22)","v":1},{"$f":"-SUM(Q7:Q22)","v":1.2376691296422295},null,null,null,null,{"$f":"SUM(V7:V22)","v":1},{"$f":"-SUM(W7:W22)","v":1.4550168067674469},null,null,null,{"$f":"SUM(AA7:AA22)","v":1},{"$f":"-SUM(AB7:AB22)","v":1.0178015074140134},null,null,null,{"$f":"SUM(AF7:AF22)","v":1},{"$f":"-SUM(AG7:AG22)","v":1.0377724203178629},null,null,null,{"$f":"SUM(AK7:AK22)","v":1},{"$f":"-SUM(AL7:AL22)","v":1.1830889133580149},null,null,null,{"$f":"SUM(AP7:AP22)","v":1},{"$f":"-SUM(AQ7:AQ22)","v":1.1663428898406689},null,null,null,{"$f":"SUM(AU7:AU22)","v":1},{"$f":"-SUM(AV7:AV22)","v":1.086048612313038}]
[12,2664,23,2678,24,2684,23,2694,null,null,0,1222,null,null,null,"U=",{"$f":"Q23/(LOG(Q4)/LOG(2))","v":0.16821751703085305},null,null,null,null,"U1=",{"$f":"W23/(LOG(W4)/LOG(2))","v":0.3060044651120381},null,null,null,"U2=",{"$f":"AB23/(LOG(AB4)/LOG(2))","v":0.21171757107927089},null,null,null,"U3=",{"$f":"AG23/(LOG(AG4)/LOG(2))","v":0.21825383247146807},null,null,null,"U4=",{"$f":"AL23/(LOG(AL4)/LOG(2))","v":0.24881533218603191},null,null,null,"U5=",{"$f":"AQ23/(LOG(AQ4)/LOG(2))","v":0.24261634698306414},null,null,null,"U6=",{"$f":"AV23/(LOG(AV4)/LOG(2))","v":0.22840679444442946}]
[21,2807,21,2815,22,2821,23,2833,null,null,0,2222]
[12,2929,23,2948,24,2954,23,2960,null,null,0,1222]
[21,3080,21,3096,22,3102,23,3108,null,null,0,2222,null,"Total Target Seq"]
[21,3345,21,3350,22,3355,23,3361,null,null,0,2222,null,{"$f":"COUNTIF(L7:L170,G3)","v":0},null,27,28,27,27,28,27]
[21,3463,21,3471,22,3477,23,3483,null,null,0,2222,null,null,null,"% of reinforcement given in 6 equal intervals based on number of trials "]
[12,3587,23,3597,24,3604,23,3610,null,null,0,1222,null,null,null,"%_1","%_2","%_3","%_4","%_5","%_6"]
[21,3719,21,3728,22,3740,23,3745,null,null,0,2222,null,null,"target sequence",{"$f":"$G$3","v":2212},2212,2212,2212,2212,2212]
[12,3869,14,3875,13,3881,14,3886,null,null,0,1111,null,null,"total reinforcement",{"$f":"U20","v":0},{"$f":"Z20","v":0},{"$f":"AE20","v":0},{"$f":"AJ20","v":0},{"$f":"AO20","v":0},{"$f":"AT20","v":0}]
[12,3989,14,3994,13,4000,14,4012,null,null,0,1111,null,null,"% target"]
[21,4114,21,4122,22,4129,23,4135,null,null,0,2222,null,null,"CCRF"]
[12,4458,14,4464,13,4470,14,4482,null,null,0,1111,null,null,"% CCRf"]
[12,4579,23,4589,24,4592,23,4599,null,null,0,1222,null,null,"average response rate",{"$f":"H33/P28","v":148.59259259259258},{"$f":"(H61-H33)/Q28","v":141.14285714285714},{"$f":"(H88-H61)/R28","v":138.88888888888889},{"$f":"(H115-H88)/S28","v":152.7037037037037},{"$f":"(H143-H115)/T28","v":154.14285714285714},{"$f":"(H170-H143)/U28","v":141.07407407407408}]
[21,4701,12,4709,13,4714,14,4721,null,null,0,2111]
[21,4835,21,4842,22,4850,23,4862,null,null,0,2222]
[21,4965,21,4971,22,4978,23,4984,null,null,0,2222]
[21,5097,21,5102,22,5107,23,5113,null,null,0,2222]
[21,5329,21,5336,22,5343,23,5349,null,null,0,2222]
[21,5458,21,5465,22,5471,23,5476,null,null,0,2222]
[21,5581,21,5588,22,5596,23,5601,null,null,0,2222]
[21,5714,21,5723,22,5729,23,5734,null,null,0,2222]
[21,5846,21,5851,22,5862,23,5868,null,null,0,2222]
[21,5971,21,5980,22,5987,23,5993,null,null,0,2222]
[21,6102,21,6106,22,6113,23,6121,null,null,0,2222]
[21,6237,21,6244,22,6250,23,6255,null,null,0,2222]
[12,6358,14,6363,13,6367,14,6372,null,null,0,1111]
[21,6471,21,6477,22,6485,23,6490,null,null,0,2222]
[21,6594,21,6604,22,6612,23,6618,null,null,0,2222]
[21,6744,21,6749,22,6756,23,6762,null,null,0,2222]
[21,6869,21,6871,22,6878,23,6884,null,null,0,2222]
[12,6998,14,7004,13,7009,14,7015,null,null,0,1111]
[21,7125,21,7131,22,7136,23,7142,null,null,0,2222]
[12,7247,14,7252,13,7260,14,7266,null,null,0,1111]
[21,7364,21,7370,22,7376,23,7382,null,null,0,2222]
[21,7541,21,7547,22,7555,23,7566,null,null,0,2222]
[21,7675,21,7684,22,7692,23,7704,null,null,0,2222]
[21,7801,21,7808,22,7817,23,7823,null,null,0,2222]
[21,7948,21,7951,22,7959,23,7964,null,null,0,2222]
[12,8077,14,8086,13,8101,14,8115,null,null,0,1111]
[12,8236,14,8242,13,8248,14,8271,null,null,0,1111]
[12,8441,14,8449,13,8456,14,8461,null,null,0,1111]
[21,8598,21,8601,22,8615,23,8620,null,null,0,2222]
[21,8724,21,8732,22,8740,23,8745,null,null,0,2222]
[21,8845,21,8854,22,8860,23,8865,null,null,0,2222]
[21,8964,12,8976,13,8981,14,8987,null,null,0,2111]
[21,9111,21,9116,22,9122,23,9133,null,null,0,2222]
[21,9238,21,9248,22,9254,23,9260,null,null,0,2222]
[21,9373,21,9386,22,9392,23,9403,null,null,0,2222]
[21,9525,21,9534,22,9539,23,9544,null,null,0,2222]
[21,9650,21,9658,22,9667,23,9672,null,null,0,2222]
[21,9814,21,9821,22,9828,23,9833,null,null,0,2222]
[21,9930,21,9935,22,9940,23,9950,null,null,0,2222]
[21,10054,21,10062,22,10068,23,10073,null,null,0,2222]
[21,10178,21,10185,22,10192,23,10198,null,null,0,2222]
[21,10300,21,10316,22,10326,23,10332,null,null,0,2222]
[12,10431,14,10439,13,10444,14,10450,null,null,0,1111]
[12,10623,14,10630,13,10636,14,10642,null,null,0,1111]
[12,10741,14,10750,13,10757,14,10763,null,null,0,1111]
[21,10871,21,10879,22,10894,23,10899,null,null,0,2222]
[21,11015,21,11021,22,11027,23,11032,null,null,0,2222]
[21,11140,21,11148,22,11154,23,11164,null,null,0,2222]
[21,11261,21,11273,22,11281,23,11287,null,null,0,2222]
[12,11383,14,11390,13,11399,14,11405,null,null,0,1111]
[21,11500,21,11514,22,11523,23,11529,null,null,0,2222]
[21,11697,21,11702,22,11707,23,11714,null,null,0,2222]
[21,11824,21,11832,22,11848,23,11853,null,null,0,2222]
[21,11954,21,11960,22,11965,23,11971,null,null,0,2222]
[21,12068,21,12077,22,12082,23,12089,null,null,0,2222]
[12,12195,14,12204,13,12210,14,12216,null,null,0,1111]
[21,12325,21,12334,22,12339,23,12354,null,null,0,2222]
[21,12455,21,12461,22,12467,23,12473,null,null,0,2222]
[21,12580,21,12588,22,12594,23,12599,null,null,0,2222]
[21,12706,21,12712,22,12719,23,12726,null,null,0,2222]
[21,12838,21,12842,22,12851,23,12857,null,null,0,2222]
[12,12976,14,12981,13,12987,14,12994,null,null,0,1111]
[21,13145,21,13150,22,13156,23,13162,null,null,0,2222]
[12,13276,14,13285,13,13290,14,13296,null,null,0,1111]
[21,13629,21,13633,22,13638,23,13643,null,null,0,2222]
[21,13751,21,13759,22,13767,23,13773,null,null,0,2222]
[12,13920,23,13932,24,13938,23,13943,null,null,0,1222]
[21,14139,21,14144,22,14150,23,14155,null,null,0,2222]
[21,14331,12,14345,13,14351,14,14356,null,null,0,2111]
[12,14480,14,14485,13,14491,14,14504,null,null,0,1111]
[21,14610,21,14620,22,14628,23,14636,null,null,0,2222]
[21,14824,21,14829,22,14838,23,14844,null,null,0,2222]
[21,14956,12,14969,13,14975,14,14984,null,null,0,2111]
[21,15088,21,15102,22,15108,23,15115,null,null,0,2222]
[21,15273,21,15279,22,15287,23,15292,null,null,0,2222]
[21,15388,21,15397,22,15406,23,15418,null,null,0,2222]
[21,15519,21,15528,22,15534,23,15539,null,null,0,2222]
[21,15690,21,15694,22,15702,23,15708,null,null,0,2222]
[21,15817,21,15823,22,15832,23,15837,null,null,0,2222]
[21,15948,21,15954,22,15961,23,15966,null,null,0,2222]
[21,16058,21,16073,22,16082,23,16086,null,null,0,2222]
[21,16219,12,16234,24,16241,23,16246,null,null,0,2122]
[21,16351,21,16360,22,16365,23,16371,null,null,0,2222]
[21,16476,21,16484,22,16489,23,16495,null,null,0,2222]
[21,16598,21,16605,22,16611,23,16616,null,null,0,2222]
[12,16723,14,16729,13,16731,14,16738,null,null,0,1111]
[21,16850,21,16855,22,16859,23,16865,null,null,0,2222]
[21,17020,21,17027,22,17033,23,17039,null,null,0,2222]
[21,17164,21,17171,22,17181,23,17192,null,null,0,2222]
[21,17295,21,17302,22,17310,23,17315,null,null,0,2222]
[21,17431,21,17444,22,17456,23,17468,null,null,0,2222]
[21,17574,21,17580,22,17586,23,17591,null,null,0,2222]
[21,17751,21,17753,22,17758,23,17764,null,null,0,2222]
[21,17919,12,17933,13,17939,14,17967,null,null,0,2111]
[21,18069,21,18078,22,18083,23,18088,null,null,0,2222]
[21,18187,21,18194,22,18200,23,18210,null,null,0,2222]
[12,18377,14,18382,13,18387,14,18394,null,null,0,1111]
[21,18491,21,18499,22,18504,23,18511,null,null,0,2222]
[21,18610,21,18623,22,18633,23,18638,null,null,0,2222]
[21,18747,21,18757,22,18774,23,18779,null,null,0,2222]
[12,18880,14,18888,13,18894,14,18899,null,null,0,1111]
[12,19055,14,19071,13,19081,14,19090,null,null,0,1111]
[21,19212,21,19217,22,19223,23,19229,null,null,0,2222]
[21,19338,21,19348,22,19355,23,19361,null,null,0,2222]
[21,19474,21,19485,22,19490,23,19495,null,null,0,2222]
[12,19971,14,19985,13,19991,14,20009,null,null,0,1111]
[12,20134,14,20142,13,20148,14,20153,null,null,0,1111]
[21,20269,21,20274,22,20280,23,20286,null,null,0,2222]
[12,20416,14,20431,13,20437,14,20443,null,null,0,1111]
[21,20690,21,20694,22,20704,23,20709,null,null,0,2222]
[12,20814,14,20817,13,20827,14,20833,null,null,0,1111]
[12,20935,14,20946,13,20951,14,20957,null,null,0,1111]
[12,21072,14,21077,13,21083,14,21089,null,null,0,1111]
[21,21198,21,21203,22,21214,23,21219,null,null,0,2222]
[21,21336,21,21345,22,21354,23,21359,null,null,0,2222]
[21,21481,21,21486,22,21495,23,21501,null,null,0,2222]
[12,21629,14,21633,13,21635,14,21640,null,null,0,1111]
[12,21741,14,21749,13,21759,14,21767,null,null,0,1111]
[21,21890,21,21895,22,21900,23,21906,null,null,0,2222]
[21,22028,21,22034,22,22039,23,22044,null,null,0,2222]
[12,22167,14,22171,13,22183,14,22195,null,null,0,1111]
[21,22314,21,22323,22,22330,23,22335,null,null,0,2222]
[21,22432,21,22441,22,22457,23,22462,null,null,0,2222]
[12,22565,14,22568,13,22574,14,22580,null,null,0,1111]
[21,22683,21,22690,22,22697,23,22704,null,null,0,2222]
[21,22860,21,22863,22,22871,23,22876,null,null,0,2222]
[21,22994,21,22999,22,23004,23,23010,null,null,0,2222]
[21,23113,12,23125,13,23131,14,23136,null,null,0,2111]
[21,23238,21,23242,22,23247,23,23256,null,null,0,2222]
[21,23365,21,23373,22,23379,23,23384,null,null,0,2222]
[21,23506,21,23512,22,23518,23,23524,null,null,0,2222]
[21,23664,21,23671,22,23677,23,23683,null,null,0,2222]
[21,23789,21,23814,22,23823,23,23829,null,null,0,2222]
[21,23929,21,23947,22,23957,23,23962,null,null,null,2222]

{"sheet":"!LC03A35..Du","index":33,"n_rows":179,"n_cols":48,"rows_kept":179,"cut":false,"hidden":false,"merged":[[1,1,1,2],[5,13,5,14],[26,13,26,14],[27,13,27,14],[4,19,4,22],[5,19,5,20],[4,39,4,42],[5,39,5,40],[4,44,4,47],[5,44,5,45],[4,24,4,27],[5,24,5,25],[4,29,4,32],[5,29,5,30],[4,34,4,37],[5,34,5,35]]}
["Report for:!LC03A35..Du"]
["Date:","<date>"]
["Hen:","<hen>",null,null,null,"Correct Sequence",{"$f":"Start!J2","v":2212},null,null,null,null,null,null,null,null,"Total Sequences in Data",{"$f":"4994-COUNTBLANK(L7:L5000)","v":173},null,null,null,null,"Total Sequences in Block Data",{"$f":"COUNTA(L7:L35)","v":29},null,null,null,"Total Sequences in Block Data",{"$f":"COUNTA(L36:L64)","v":29},null,null,null,"Total Sequences in Block Data",{"$f":"COUNTA(L65:L92)","v":28},null,null,null,"Total Sequences in Block Data",{"$f":"COUNTA(L93:L121)","v":29},null,null,null,"Total Sequences in Block Data",{"$f":"COUNTA(L122:L150)","v":29},null,null,null,"Total Sequences in Block Data",{"$f":"COUNTA(L151:L179)","v":29}]
[null,null,null,null,null,null,null,null,null,null,null,null,null,null,null,"Total Sequences in Summary",{"$f":"SUM(O7:O22)","v":172},null,null,null,null,"Total Sequences in Block Summary",{"$f":"SUM(U7:U22)","v":29},null,null,null,"Total Sequences in Block Summary",{"$f":"SUM(Z7:Z22)","v":29},null,null,null,"Total Sequences in Block Summary",{"$f":"SUM(AE7:AE22)","v":28},null,null,null,"Total Sequences in Block Summary",{"$f":"SUM(AJ7:AJ22)","v":29},null,null,null,"Total Sequences in Block Summary",{"$f":"SUM(AO7:AO22)","v":29},null,null,null,"Total Sequences in Block Summary",{"$f":"SUM(AT7:AT22)","v":28}]
[null,null,null,null,null,null,null,null,null,null,null,null,null,null,null,null,null,null,null,"Block 1",null,null,null,null,"Block 2",null,null,null,null,"Block 3",null,null,null,null,"Block 4",null,null,null,null,"Block 5",null,null,null,null,"Block 6"]
["Sequence\nComponent\n1","Time\n1","Sequence\nComponent\n2","Time\n2","Sequence\nComponent\n3","Time\n3","Sequence\nComponent\n4","Time\n4","Sequence\nComponent\n5","Time\n5","Correct?\n0=No 1=Yes","Sequence",null,"Frequency",null,"Relative Frequency","Variability",null,null,"Frequency",null,"Relative Frequency","Variability",null,"Frequency",null,"Relative Frequency","Variability",null,"Frequency",null,"Relative Frequency","Variability",null,"Frequency",null,"Relative Frequency","Variability",null,"Frequency",null,"Relative Frequency","Variability",null,"Frequency",null,"Relative Frequency","Variability"]
[12,60,14,71,13,77,14,83,null,null,0,1111,null,1111,{"$f":"COUNTIF($L$7:$L$500,N7)","v":26},{"$f":"O7/$Q$4","v":0.15116279069767441},{"$f":"IF(P7=0,0,(P7*((LOG(P7))/LOG(2))))","v":-0.41204331948015199},null,null,{"$f":"N7","v":1111},{"$f":"COUNTIF(L7:L35,T7)","v":5},{"$f":"U7/(W4-U20)","v":0.17241379310344829},{"$f":"IF(V7=0,0,(V7*((LOG(V7))/LOG(2))))","v":-0.43725050004141547},null,{"$f":"N7","v":1111},{"$f":"COUNTIF(L36:L64,Y7)","v":6},{"$f":"Z7/(AB4-Z20)","v":0.20689655172413793},{"$f":"IF(AA7=0,0,(AA7*((LOG(AA7))/LOG(2))))","v":-0.4702796884978791},null,{"$f":"N7","v":1111},{"$f":"COUNTIF(L65:L92,AD7)","v":8},{"$f":"AE7/(AG4-AE20)","v":0.2857142857142857},{"$f":"IF(AF7=0,0,(AF7*((LOG(AF7))/LOG(2))))","v":-0.51638712058788683},null,{"$f":"N7","v":1111},{"$f":"COUNTIF(L93:L121,AI7)","v":2},{"$f":"AJ7/(AL4-AJ20)","v":6.8965517241379309E-2},{"$f":"IF(AK7=0,0,(AK7*((LOG(AK7))/LOG(2))))","v":-0.26606765483638428},null,{"$f":"N7","v":1111},{"$f":"COUNTIF(L122:L150,AN7)","v":2},{"$f":"AO7/(AQ4-AO20)","v":6.8965517241379309E-2},{"$f":"IF(AP7=0,0,(AP7*((LOG(AP7))/LOG(2))))","v":-0.26606765483638428},null,{"$f":"N7","v":1111},{"$f":"COUNTIF(L151:L179,AS7)","v":3},{"$f":"AT7/(AV4-AT20)","v":0.10714285714285714},{"$f":"IF(AU7=0,0,(AU7*((LOG(AU7))/LOG(2))))","v":-0.34525633085747659}]
[12,180,23,194,24,200,23,205,null,null,0,1222,null,1112,0,0,0,null,null,1112,{"$f":"COUNTIF(L7:L35,T8)","v":0},{"$f":"U8/(W4-U20)","v":0},0,null,1112,{"$f":"COUNTIF(L36:L64,Y8)","v":0},{"$f":"Z8/(AB4-Z20)","v":0},0,null,1112,{"$f":"COUNTIF(L65:L92,AD8)","v":0},{"$f":"AE8/(AG4-AE20)","v":0},0,null,1112,{"$f":"COUNTIF(L93:L121,AI8)","v":0},{"$f":"AJ8/(AL4-AJ20)","v":0},0,null,1112,{"$f":"COUNTIF(L122:L150,AN8)","v":0},{"$f":"AO8/(AQ4-AO20)","v":0},0,null,1112,{"$f":"COUNTIF(L151:L179,AS8)","v":0},{"$f":"AT8/(AV4-AT20)","v":0},0]
[21,312,21,320,22,325,23,331,null,null,0,2222,null,1121,0,0,0,null,null,1121,{"$f":"COUNTIF(L7:L35,T9)","v":0},{"$f":"U9/(W4-U20)","v":0},0,null,1121,{"$f":"COUNTIF(L36:L64,Y9)","v":0},{"$f":"Z9/(AB4-Z20)","v":0},0,null,1121,{"$f":"COUNTIF(L65:L92,AD9)","v":0},{"$f":"AE9/(AG4-AE20)","v":0},0,null,1121,{"$f":"COUNTIF(L93:L121,AI9)","v":0},{"$f":"AJ9/(AL4-AJ20)","v":0},0,null,1121,{"$f":"COUNTIF(L122:L150,AN9)","v":0},{"$f":"AO9/(AQ4-AO20)","v":0},0,null,1121,{"$f":"COUNTIF(L151:L179,AS9)","v":0},{"$f":"AT9/(AV4-AT20)","v":0},0]
[21,438,21,454,22,459,23,467,null,null,0,2222,null,1122,1,5.8139534883720929E-3,-4.3175957876174981E-2,null,null,1122,{"$f":"COUNTIF(L7:L35,T10)","v":1},{"$f":"U10/(W4-U20)","v":3.4482758620689655E-2},-0.16751658603888178,null,1122,{"$f":"COUNTIF(L36:L64,Y10)","v":0},{"$f":"Z10/(AB4-Z20)","v":0},0,null,1122,{"$f":"COUNTIF(L65:L92,AD10)","v":0},{"$f":"AE10/(AG4-AE20)","v":0},0,null,1122,{"$f":"COUNTIF(L93:L121,AI10)","v":0},{"$f":"AJ10/(AL4-AJ20)","v":0},0,null,1122,{"$f":"COUNTIF(L122:L150,AN10)","v":0},{"$f":"AO10/(AQ4-AO20)","v":0},0,null,1122,{"$f":"COUNTIF(L151:L179,AS10)","v":0},{"$f":"AT10/(AV4-AT20)","v":0},0]
[12,570,14,578,13,583,14,592,null,null,0,1111,null,1211,0,0,0,null,null,1211,{"$f":"COUNTIF(L7:L35,T11)","v":0},{"$f":"U11/(W4-U20)","v":0},0,null,1211,{"$f":"COUNTIF(L36:L64,Y11)","v":0},{"$f":"Z11/(AB4-Z20)","v":0},0,null,1211,{"$f":"COUNTIF(L65:L92,AD11)","v":0},{"$f":"AE11/(AG4-AE20)","v":0},0,null,1211,{"$f":"COUNTIF(L93:L121,AI11)","v":0},{"$f":"AJ11/(AL4-AJ20)","v":0},0,null,1211,{"$f":"COUNTIF(L122:L150,AN11)","v":0},{"$f":"AO11/(AQ4-AO20)","v":0},0,null,1211,{"$f":"COUNTIF(L151:L179,AS11)","v":0},{"$f":"AT11/(AV4-AT20)","v":0},0]
[21,690,21,698,22,707,23,714,null,null,0,2222,null,1212,0,0,0,null,null,1212,{"$f":"COUNTIF(L7:L35,T12)","v":0},{"$f":"U12/(W4-U20)","v":0},0,null,1212,{"$f":"COUNTIF(L36:L64,Y12)","v":0},{"$f":"Z12/(AB4-Z20)","v":0},0,null,1212,{"$f":"COUNTIF(L65:L92,AD12)","v":0},{"$f":"AE12/(AG4-AE20)","v":0},0,null,1212,{"$f":"COUNTIF(L93:L121,AI12)","v":0},{"$f":"AJ12/(AL4-AJ20)","v":0},0,null,1212,{"$f":"COUNTIF(L122:L150,AN12)","v":0},{"$f":"AO12/(AQ4-AO20)","v":0},0,null,1212,{"$f":"COUNTIF(L151:L179,AS12)","v":0},{"$f":"AT12/(AV4-AT20)","v":0},0]
[12,864,14,869,13,876,14,886,null,null,0,1111,null,1221,0,0,0,null,null,1221,{"$f":"COUNTIF(L7:L35,T13)","v":0},{"$f":"U13/(W4-U20)","v":0},0,null,1221,{"$f":"COUNTIF(L36:L64,Y13)","v":0},{"$f":"Z13/(AB4-Z20)","v":0},0,null,1221,{"$f":"COUNTIF(L65:L92,AD13)","v":0},{"$f":"AE13/(AG4-AE20)","v":0},0,null,1221,{"$f":"COUNTIF(L93:L121,AI13)","v":0},{"$f":"AJ13/(AL4-AJ20)","v":0},0,null,1221,{"$f":"COUNTIF(L122:L150,AN13)","v":0},{"$f":"AO13/(AQ4-AO20)","v":0},0,null,1221,{"$f":"COUNTIF(L151:L179,AS13)","v":0},{"$f":"AT13/(AV4-AT20)","v":0},0]
[21,992,21,996,22,1002,23,1007,null,null,0,2222,null,1222,9,5.232558139534884E-2,-0.22271545220545388,null,null,1222,{"$f":"COUNTIF(L7:L35,T14)","v":2},{"$f":"U14/(W4-U20)","v":6.8965517241379309E-2},-0.26606765483638428,null,1222,{"$f":"COUNTIF(L36:L64,Y14)","v":4},{"$f":"Z14/(AB4-Z20)","v":0.13793103448275862},-0.39420427519000989,null,1222,{"$f":"COUNTIF(L65:L92,AD14)","v":0},{"$f":"AE14/(AG4-AE20)","v":0},0,null,1222,{"$f":"COUNTIF(L93:L121,AI14)","v":2},{"$f":"AJ14/(AL4-AJ20)","v":6.8965517241379309E-2},-0.26606765483638428,null,1222,{"$f":"COUNTIF(L122:L150,AN14)","v":0},{"$f":"AO14/(AQ4-AO20)","v":0},0,null,1222,{"$f":"COUNTIF(L151:L179,AS14)","v":1},{"$f":"AT14/(AV4-AT20)","v":3.5714285714285712E-2},-0.17169124721634299]
[12,1117,14,1129,13,1135,14,1141,null,null,0,1111,null,2111,4,2.3255813953488372E-2,-0.12619220359772321,null,null,2111,{"$f":"COUNTIF(L7:L35,T15)","v":1},{"$f":"U15/(W4-U20)","v":3.4482758620689655E-2},-0.16751658603888178,null,2111,{"$f":"COUNTIF(L36:L64,Y15)","v":1},{"$f":"Z15/(AB4-Z20)","v":3.4482758620689655E-2},-0.16751658603888178,null,2111,{"$f":"COUNTIF(L65:L92,AD15)","v":0},{"$f":"AE15/(AG4-AE20)","v":0},0,null,2111,{"$f":"COUNTIF(L93:L121,AI15)","v":1},{"$f":"AJ15/(AL4-AJ20)","v":3.4482758620689655E-2},-0.16751658603888178,null,2111,{"$f":"COUNTIF(L122:L150,AN15)","v":0},{"$f":"AO15/(AQ4-AO20)","v":0},0,null,2111,{"$f":"COUNTIF(L151:L179,AS15)","v":1},{"$f":"AT15/(AV4-AT20)","v":3.5714285714285712E-2},-0.17169124721634299]
[21,1247,12,1260,13,1267,14,1272,null,null,0,2111,null,2112,0,0,0,null,null,2112,{"$f":"COUNTIF(L7:L35,T16)","v":0},{"$f":"U16/(W4-U20)","v":0},0,null,2112,{"$f":"COUNTIF(L36:L64,Y16)","v":0},{"$f":"Z16/(AB4-Z20)","v":0},0,null,2112,{"$f":"COUNTIF(L65:L92,AD16)","v":0},{"$f":"AE16/(AG4-AE20)","v":0},0,null,2112,{"$f":"COUNTIF(L93:L121,AI16)","v":0},{"$f":"AJ16/(AL4-AJ20)","v":0},0,null,2112,{"$f":"COUNTIF(L122:L150,AN16)","v":0},{"$f":"AO16/(AQ4-AO20)","v":0},0,null,2112,{"$f":"COUNTIF(L151:L179,AS16)","v":0},{"$f":"AT16/(AV4-AT20)","v":0},0]
[21,1381,21,1391,22,1401,23,1408,null,null,0,2222,null,2121,0,0,0,null,null,2121,{"$f":"COUNTIF(L7:L35,T17)","v":0},{"$f":"U17/(W4-U20)","v":0},0,null,2121,{"$f":"COUNTIF(L36:L64,Y17)","v":0},{"$f":"Z17/(AB4-Z20)","v":0},0,null,2121,{"$f":"COUNTIF(L65:L92,AD17)","v":0},{"$f":"AE17/(AG4-AE20)","v":0},0,null,2121,{"$f":"COUNTIF(L93:L121,AI17)","v":0},{"$f":"AJ17/(AL4-AJ20)","v":0},0,null,2121,{"$f":"COUNTIF(L122:L150,AN17)","v":0},{"$f":"AO17/(AQ4-AO20)","v":0},0,null,2121,{"$f":"COUNTIF(L151:L179,AS17)","v":0},{"$f":"AT17/(AV4-AT20)","v":0},0]
[21,1507,21,1509,22,1517,23,1527,null,null,0,2222,null,2122,1,5.8139534883720929E-3,-4.3175957876174981E-2,null,null,2122,{"$f":"COUNTIF(L7:L35,T18)","v":1},{"$f":"U18/(W4-U20)","v":3.4482758620689655E-2},-0.16751658603888178,null,2122,{"$f":"COUNTIF(L36:L64,Y18)","v":0},{"$f":"Z18/(AB4-Z20)","v":0},0,null,2122,{"$f":"COUNTIF(L65:L92,AD18)","v":0},{"$f":"AE18/(AG4-AE20)","v":0},0,null,2122,{"$f":"COUNTIF(L93:L121,AI18)","v":0},{"$f":"AJ18/(AL4-AJ20)","v":0},0,null,2122,{"$f":"COUNTIF(L122:L150,AN18)","v":0},{"$f":"AO18/(AQ4-AO20)","v":0},0,null,2122,{"$f":"COUNTIF(L151:L179,AS18)","v":0},{"$f":"AT18/(AV4-AT20)","v":0},0]
[21,1629,21,1636,22,1644,23,1655,null,null,0,2222,null,2211,0,0,0,null,null,2211,{"$f":"COUNTIF(L7:L35,T19)","v":0},{"$f":"U19/(W4-U20)","v":0},0,null,2211,{"$f":"COUNTIF(L36:L64,Y19)","v":0},{"$f":"Z19/(AB4-Z20)","v":0},0,null,2211,{"$f":"COUNTIF(L65:L92,AD19)","v":0},{"$f":"AE19/(AG4-AE20)","v":0},0,null,2211,{"$f":"COUNTIF(L93:L121,AI19)","v":0},{"$f":"AJ19/(AL4-AJ20)","v":0},0,null,2211,{"$f":"COUNTIF(L122:L150,AN19)","v":0},{"$f":"AO19/(AQ4-AO20)","v":0},0,null,2211,{"$f":"COUNTIF(L151:L179,AS19)","v":0},{"$f":"AT19/(AV4-AT20)","v":0},0]
[21,1784,21,1789,22,1800,23,1806,null,null,0,2222,null,2212,0,0,0,null,null,2212,{"$f":"COUNTIF(L7:L35,T20)","v":0},null,null,null,2212,{"$f":"COUNTIF(L36:L64,Y20)","v":0},null,null,null,2212,{"$f":"COUNTIF(L65:L92,AD20)","v":0},null,null,null,2212,{"$f":"COUNTIF(L93:L121,AI20)","v":0},null,null,null,2212,{"$f":"COUNTIF(L122:L150,AN20)","v":0},null,null,null,2212,{"$f":"COUNTIF(L151:L179,AS20)","v":0}]
[12,1923,14,1927,13,1932,14,1937,null,null,0,1111,null,2221,0,0,0,null,null,2221,{"$f":"COUNTIF(L7:L35,T21)","v":0},{"$f":"U21/(W4-U20)","v":0},{"$f":"IF(V21=0,0,(V21*((LOG(V21))/LOG(2))))","v":0},null,2221,{"$f":"COUNTIF(L36:L64,Y21)","v":0},{"$f":"Z21/(AB4-Z20)","v":0},{"$f":"IF(AA21=0,0,(AA21*((LOG(AA21))/LOG(2))))","v":0},null,2221,{"$f":"COUNTIF(L65:L92,AD21)","v":0},{"$f":"AE21/(AG4-AE20)","v":0},{"$f":"IF(AF21=0,0,(AF21*((LOG(AF21))/LOG(2))))","v":0},null,2221,{"$f":"COUNTIF(L93:L121,AI21)","v":0},{"$f":"AJ21/(AL4-AJ20)","v":0},{"$f":"IF(AK21=0,0,(AK21*((LOG(AK21))/LOG(2))))","v":0},null,2221,{"$f":"COUNTIF(L122:L150,AN21)","v":0},{"$f":"AO21/(AQ4-AO20)","v":0},{"$f":"IF(AP21=0,0,(AP21*((LOG(AP21))/LOG(2))))","v":0},null,2221,{"$f":"COUNTIF(L151:L179,AS21)","v":0},{"$f":"AT21/(AV4-AT20)","v":0},{"$f":"IF(AU21=0,0,(AU21*((LOG(AU21))/LOG(2))))","v":0}]
[21,2067,21,2079,22,2084,23,2090,null,null,0,2222,null,2222,131,0.76162790697674421,-0.2991992422358653,null,null,2222,{"$f":"COUNTIF(L7:L35,T22)","v":19},{"$f":"U22/(W4-U20)","v":0.65517241379310343},{"$f":"IF(V22=0,0,(V22*((LOG(V22))/LOG(2))))","v":-0.39969021213778433},null,2222,{"$f":"COUNTIF(L36:L64,Y22)","v":18},{"$f":"Z22/(AB4-Z20)","v":0.62068965517241381},{"$f":"IF(AA22=0,0,(AA22*((LOG(AA22))/LOG(2))))","v":-0.4270692374598164},null,2222,{"$f":"COUNTIF(L65:L92,AD22)","v":20},{"$f":"AE22/(AG4-AE20)","v":0.7142857142857143},{"$f":"IF(AF22=0,0,(AF22*((LOG(AF22))/LOG(2))))","v":-0.34673344797874411},null,2222,{"$f":"COUNTIF(L93:L121,AI22)","v":24},{"$f":"AJ22/(AL4-AJ20)","v":0.82758620689655171},{"$f":"IF(AK22=0,0,(AK22*((LOG(AK22))/LOG(2))))","v":-0.2259463401984132},null,2222,{"$f":"COUNTIF(L122:L150,AN22)","v":27},{"$f":"AO22/(AQ4-AO20)","v":0.93103448275862066},{"$f":"IF(AP22=0,0,(AP22*((LOG(AP22))/LOG(2))))","v":-9.5983596897613724E-2},null,2222,{"$f":"COUNTIF(L151:L179,AS22)","v":23},{"$f":"AT22/(AV4-AT20)","v":0.8214285714285714},{"$f":"IF(AU22=0,0,(AU22*((LOG(AU22))/LOG(2))))","v":-0.23311565064334283}]
[21,2219,21,2233,22,2238,23,2244,null,null,0,2222,null,null,null,{"$f":"SUM(P7:P22)","v":1},{"$f":"-SUM(Q7:Q22)","v":1.1465021332715444},null,null,null,null,{"$f":"SUM(V7:V22)","v":1},{"$f":"-SUM(W7:W22)","v":1.6055581251322295},null,null,null,{"$f":"SUM(AA7:AA22)","v":1},{"$f":"-SUM(AB7:AB22)","v":1.4590697871865872},null,null,null,{"$f":"SUM(AF7:AF22)","v":1},{"$f":"-SUM(AG7:AG22)","v":0.863120568566631},null,null,null,{"$f":"SUM(AK7:AK22)","v":1},{"$f":"-SUM(AL7:AL22)","v":0.92559823591006352},null,null,null,{"$f":"SUM(AP7:AP22)","v":1},{"$f":"-SUM(AQ7:AQ22)","v":0.36205125173399799},null,null,null,{"$f":"SUM(AU7:AU22)","v":1},{"$f":"-SUM(AV7:AV22)","v":0.92175447593350535}]
[12,2350,14,2352,24,2363,23,2366,null,null,0,1122,null,null,null,"U=",{"$f":"Q23/(LOG(Q4)/LOG(2))","v":0.15438476423098332},null,null,null,null,"U1=",{"$f":"W23/(LOG(W4)/LOG(2))","v":0.33049905438958332},null,null,null,"U2=",{"$f":"AB23/(LOG(AB4)/LOG(2))","v":0.30034489403107917},null,null,null,"U3=",{"$f":"AG23/(LOG(AG4)/LOG(2))","v":0.17954167781670785},null,null,null,"U4=",{"$f":"AL23/(LOG(AL4)/LOG(2))","v":0.19053146499305254},null,null,null,"U5=",{"$f":"AQ23/(LOG(AQ4)/LOG(2))","v":7.4527103357778873E-2},null,null,null,"U6=",{"$f":"AV23/(LOG(AV4)/LOG(2))","v":0.19173838646782995}]
[21,2468,12,2475,24,2484,23,2491,null,null,0,2122]
[21,2605,21,2621,22,2628,23,2635,null,null,0,2222]
[21,2733,21,2747,22,2757,23,2764,null,null,0,2222,null,"Total Target Seq"]
[21,2865,21,2871,22,2880,23,2886,null,null,0,2222,null,{"$f":"COUNTIF(L7:L179,G3)","v":0},null,29,29,28,29,29,29]
[21,2991,21,3001,22,3005,23,3010,null,null,0,2222,null,null,null,"% of reinforcement given in 6 equal intervals based on number of trials "]
[21,3106,21,3116,22,3126,23,3133,null,null,0,2222,null,null,null,"%_1","%_2","%_3","%_4","%_5","%_6"]
[21,3224,21,3244,22,3248,23,3258,null,null,0,2222,null,null,"target sequence",{"$f":"$G$3","v":2212},2212,2212,2212,2212,2212]
[21,3412,21,3419,22,3426,23,3431,null,null,0,2222,null,null,"total reinforcement",{"$f":"U20","v":0},{"$f":"Z20","v":0},{"$f":"AE20","v":0},{"$f":"AJ20","v":0},{"$f":"AO20","v":0},{"$f":"AT20","v":0}]
[21,3554,21,3562,22,3567,23,3573,null,null,0,2222,null,null,"% target"]
[12,3712,23,3717,24,3726,23,3732,null,null,0,1222,null,null,"CCRF"]
[21,3849,21,3854,22,3859,23,3864,null,null,0,2222,null,null,"% CCRf"]
[21,3962,21,3970,22,3975,23,3980,null,null,0,2222,null,null,"average response rate",{"$f":"H35/P28","v":133.24137931034483},{"$f":"(H64-H35)/Q28","v":139.62068965517241},{"$f":"(H92-H64)/R28","v":148.39285714285714},{"$f":"(H121-H92)/S28","v":140.13793103448276},{"$f":"(H150-H121)/T28","v":136.34482758620689},{"$f":"(H179-H150)/U28","v":-692.62068965517244}]
[21,4072,21,4085,22,4091,23,4098,null,null,0,2222]
[12,4203,14,4224,13,4231,14,4237,null,null,0,1111]
[21,4404,21,4413,22,4418,23,4423,null,null,0,2222]
[21,4540,21,4556,22,4561,23,4573,null,null,0,2222]
[12,4690,14,4695,13,4699,14,4705,null,null,0,1111]
[21,4797,21,4815,22,4823,23,4830,null,null,0,2222]
[21,4928,21,4937,22,4947,23,4954,null,null,0,2222]
[12,5049,23,5065,24,5074,23,5084,null,null,0,1222]
[21,5191,21,5199,22,5203,23,5208,null,null,0,2222]
[12,5315,23,5327,24,5335,23,5342,null,null,0,1222]
[21,5523,21,5527,22,5539,23,5544,null,null,0,2222]
[12,5652,14,5659,13,5664,14,5670,null,null,0,1111]
[21,5832,12,5843,13,5848,14,5853,null,null,0,2111]
[12,5985,14,5991,13,5996,14,6002,null,null,0,1111]
[12,6106,23,6116,24,6121,23,6126,null,null,0,1222]
[21,6228,21,6240,22,6246,23,6254,null,null,0,2222]
[12,6364,14,6373,13,6384,14,6391,null,null,0,1111]
[21,6494,21,6504,22,6509,23,6521,null,null,0,2222]
[21,6630,21,6635,22,6643,23,6650,null,null,0,2222]
[21,6752,21,6760,22,6769,23,6775,null,null,0,2222]
[12,6876,23,6888,24,6892,23,6897,null,null,0,1222]
[21,7001,21,7008,22,7016,23,7023,null,null,0,2222]
[21,7143,21,7155,22,7160,23,7165,null,null,0,2222]
[21,7359,21,7365,22,7370,23,7376,null,null,0,2222]
[21,7468,21,7483,22,7493,23,7499,null,null,0,2222]
[12,7632,14,7637,13,7643,14,7650,null,null,0,1111]
[21,7752,21,7763,22,7769,23,7781,null,null,0,2222]
[21,7895,21,7901,22,7907,23,7913,null,null,0,2222]
[21,8009,21,8021,22,8039,23,8045,null,null,0,2222]
[21,8142,21,8144,22,8159,23,8164,null,null,0,2222]
[21,8362,21,8368,22,8372,23,8377,null,null,0,2222]
[21,8582,21,8592,22,8598,23,8604,null,null,0,2222]
[12,8792,14,8794,13,8796,14,8800,null,null,0,1111]
[12,8921,14,8925,13,8931,14,8938,null,null,0,1111]
[12,9071,14,9080,13,9087,14,9093,null,null,0,1111]
[21,9193,21,9201,22,9206,23,9213,null,null,0,2222]
[21,9337,21,9342,22,9348,23,9354,null,null,0,2222]
[12,9470,14,9476,13,9482,14,9487,null,null,0,1111]
[21,9592,21,9604,22,9609,23,9615,null,null,0,2222]
[21,9827,21,9838,22,9843,23,9855,null,null,0,2222]
[21,9964,21,9984,22,9989,23,9995,null,null,0,2222]
[21,10102,21,10111,22,10115,23,10121,null,null,0,2222]
[21,10227,21,10230,22,10234,23,10239,null,null,0,2222]
[12,10351,14,10362,13,10368,14,10375,null,null,0,1111]
[12,10509,14,10519,13,10526,14,10538,null,null,0,1111]
[12,10635,14,10643,13,10655,14,10669,null,null,0,1111]
[12,10768,14,10774,13,10780,14,10786,null,null,0,1111]
[21,10901,21,10905,22,10911,23,10916,null,null,0,2222]
[21,11079,21,11083,22,11089,23,11095,null,null,0,2222]
[21,11208,21,11217,22,11224,23,11229,null,null,0,2222]
[21,11343,21,11348,22,11355,23,11360,null,null,0,2222]
[21,11464,21,11474,22,11480,23,11489,null,null,0,2222]
[21,11637,21,11644,22,11650,23,11668,null,null,0,2222]
[21,11784,21,11790,22,11794,23,11801,null,null,0,2222]
[21,11918,21,11928,22,11936,23,11941,null,null,0,2222]
[21,12049,21,12057,22,12063,23,12068,null,null,0,2222]
[21,12200,21,12207,22,12212,23,12222,null,null,0,2222]
[21,12392,21,12400,22,12405,23,12410,null,null,0,2222]
[21,12592,21,12594,22,12603,23,12607,null,null,0,2222]
[21,12711,21,12715,22,12727,23,12731,null,null,0,2222]
[12,12908,14,12915,13,12921,14,12927,null,null,0,1111]
[21,13025,21,13038,22,13043,23,13048,null,null,0,2222]
[21,13162,21,13170,22,13175,23,13182,null,null,0,2222]
[21,13296,21,13304,22,13315,23,13326,null,null,0,2222]
[12,13428,23,13433,24,13435,23,13442,null,null,0,1222]
[21,13557,21,13567,22,13573,23,13578,null,null,0,2222]
[21,13690,21,13705,22,13712,23,13717,null,null,0,2222]
[12,13828,23,13842,24,13848,23,13854,null,null,0,1222]
[21,13955,21,13965,22,13970,23,13980,null,null,0,2222]
[21,14084,21,14093,22,14099,23,14104,null,null,0,2222]
[21,14203,21,14208,22,14218,23,14223,null,null,0,2222]
[21,14332,21,14339,22,14347,23,14352,null,null,0,2222]
[21,14451,21,14457,22,14463,23,14469,null,null,0,2222]
[21,14605,21,14611,22,14622,23,14628,null,null,0,2222]
[21,14727,21,14735,22,14740,23,14745,null,null,0,2222]
[21,14850,21,14858,22,14863,23,14869,null,null,0,2222]
[21,14975,21,14982,22,14991,23,15002,null,null,0,2222]
[21,15132,21,15137,22,15144,23,15150,null,null,0,2222]
[21,15257,12,15270,13,15275,14,15280,null,null,0,2111]
[21,15384,21,15393,22,15404,23,15409,null,null,0,2222]
[12,15516,14,15525,13,15539,14,15544,null,null,0,1111]
[21,15645,21,15660,22,15666,23,15671,null,null,0,2222]
[21,15773,21,15786,22,15791,23,15797,null,null,0,2222]
[21,15911,21,15919,22,15924,23,15932,null,null,0,2222]
[21,16108,21,16120,22,16126,23,16132,null,null,0,2222]
[21,16319,21,16324,22,16329,23,16335,null,null,0,2222]
[21,16438,21,16450,22,16454,23,16460,null,null,0,2222]
[21,16563,21,16570,22,16579,23,16596,null,null,0,2222]
[21,16709,21,16714,22,16720,23,16726,null,null,0,2222]
[21,16828,21,16838,22,16846,23,16852,null,null,0,2222]
[21,16988,21,16992,22,16997,23,17003,null,null,0,2222]
[21,17099,21,17110,22,17116,23,17121,null,null,0,2222]
[21,17235,21,17239,22,17245,23,17255,null,null,0,2222]
[21,17358,21,17371,22,17376,23,17381,null,null,0,2222]
[21,17481,21,17490,22,17497,23,17508,null,null,0,2222]
[21,17636,21,17641,22,17647,23,17653,null,null,0,2222]
[21,17778,21,17790,22,17806,23,17812,null,null,0,2222]
[21,17908,21,17911,22,17926,23,17933,null,null,0,2222]
[21,18025,21,18038,22,18048,23,18055,null,null,0,2222]
[21,18164,21,18171,22,18176,23,18182,null,null,0,2222]
[21,18283,21,18291,22,18297,23,18303,null,null,0,2222]
[21,18429,21,18435,22,18448,23,18454,null,null,0,2222]
[21,18590,21,18602,22,18609,23,18615,null,null,0,2222]
[21,18757,21,18768,22,18774,23,18780,null,null,0,2222]
[21,18876,21,18882,22,18890,23,18900,null,null,0,2222]
[21,19001,21,19009,22,19016,23,19022,null,null,0,2222]
[21,19199,21,19206,22,19211,23,19216,null,null,0,2222]
[21,19321,21,19330,22,19336,23,19340,null,null,0,2222]
[21,19451,21,19459,22,19464,23,19469,null,null,0,2222]
[21,19572,21,19580,22,19585,23,19590,null,null,0,2222]
[21,19692,21,19701,22,19710,23,19716,null,null,0,2222]
[21,19815,21,19823,22,19828,23,19834,null,null,0,2222]
[12,19936,14,19945,13,19952,14,19961,null,null,0,1111]
[12,20078,14,20082,13,20085,14,20086,null,null,0,1111]
[12,20189,14,20198,13,20204,14,20211,null,null,0,1111]
[21,20313,21,20325,22,20330,23,20335,null,null,0,2222]
[21,20437,21,20445,22,20451,23,20457,null,null,0,2222]
[21,20560,21,20569,22,20579,23,20585,null,null,0,2222]
[21,20696,21,20709,22,20715,23,20720,null,null,0,2222]
[21,20821,21,20831,22,20840,23,20846,null,null,0,2222]
[21,20944,21,20965,22,20970,23,20975,null,null,0,2222]
[21,21083,21,21091,22,21096,23,21103,null,null,0,2222]
[21,21271,21,21276,22,21282,23,21289,null,null,0,2222]
[12,21428,14,21431,13,21438,14,21443,null,null,0,1111]
[21,21543,21,21553,22,21560,23,21568,null,null,0,2222]
[21,21669,12,21680,13,21685,14,21694,null,null,0,2111]
[21,21842,21,21849,22,21854,23,21859,null,null,0,2222]
[21,21971,21,21979,22,21985,23,21990,null,null,0,2222]
[21,22113,21,22120,22,22143,23,22150,null,null,0,2222]
[21,22262,21,22274,22,22283,23,22290,null,null,0,2222]
[21,22400,21,22406,22,22417,23,22421,null,null,0,2222]
[12,22525,23,22534,24,22540,23,22545,null,null,0,1222]
[21,22651,21,22655,22,22660,23,22666,null,null,0,2222]
[12,22785,14,22791,13,22796,14,22803,null,null,0,1111]
[21,22905,21,22914,22,22920,23,22925,null,null,0,2222]
[21,23029,21,23037,22,23044,23,23050,null,null,0,2222]
[21,23169,21,23175,22,23182,23,23188,null,null,0,2222]
[21,23326,21,23334,22,23341,23,23347,null,null,0,2222]
[21,23447,21,23456,22,23463,23,23468,null,null,0,2222]
[21,23590,21,23606,22,23613,23,23620,null,null,0,2222]
[21,23728,21,23737,22,23747,23,23753,null,null,0,2222]
[21,23859,21,23870,22,23877,23,23883,null,null,0,2222]
[12,24000,null,null,null,null,null,null,null,null,null,1]