{"text_format":"1","workbook":"xlsx","n_sheets":33,"sheets":["Sample Report","Summary","Start","!M923A0D.ust","!M924B0D.ust","!M92592D.ust","!M92693D.ust","!M927A2D.ust","!M92891D.ust","!M930B0D.ust","!MA01A5D.ust","!MA0294D.ust","!MA0394D.ust","!MA04A5D.ust","!MA05A0D.ust","!MA0685D.ust","!MA0791D.ust","!MA08A5D.ust","!MA0992D.ust","!MA10A3D.ust","!MA13A3D.ust","!MA14A0D.ust","!MA15A4D.ust","!MA1692D.ust","!MA17B1D.ust","!MA18A3D.ust","!MA1994D.ust","!MA2092D.ust","!MA2194D.ust","!MA22B0D.ust","!MA23B1D.ust","!MA24A4D.ust","!MA25A3D.ust"],"not_rendered":{"charts":0,"images":0,"macros":1,"external_links":0,"defined_names":0,"comments":0,"pivot_tables":0},"unopened":[],"bounds":{"document_bytes":16777216,"sheet_cells":100000,"rows_first":2000,"rows_last":500,"rows_between":2000,"halvings":0,"cell_chars":16384,"cell_head_chars":4096},"cells_cut":0,"cells_raw":0,"read":"whole","date_system":"1900"}

{"sheet":"Sample Report","index":0,"n_rows":12,"n_cols":11,"rows_kept":12,"cut":false,"hidden":true,"merged":[[7,0,7,6]]}
[]
["Date"]
["Hen"]
["Program"]
["Start at 999999"]
["Sequence component 1","Time 1","Seqeunce Component 2","Time 2","Seqeunce Component 3","Time 3","Correct   0 = No 1=Yes",null,null,"Seqeunce","Time"]
[12,7,12,42,13,18,"if 77 new line,                                  if 31 or 41 = yes new line on 77, ",null,null,"=string of Seqeunce compponent 1, 2 & 3","=time 3"]
["This continues until ther is a 1 on its own to indicate start of summary data"]
[null,null,null,null,null,null,null,null,null,"10-19 =1"]
["Summary Data ",null,null,null,null,null,null,null,null,"20-29 =2"]
["Correct","Incorrect","Rft","total","Av Correct","Av Incorrect","Percent correct","Time",null,"in this example the seqeunce would be 111"]
[40,33,40,73,23.95,15,54,806]

{"sheet":"Summary","index":1,"n_rows":32,"n_cols":24,"rows_kept":32,"cut":false,"hidden":false,"merged":[]}
[]
["Day","Date","Average Response Rate","Target %","RF for non correct sequence","U Value",null,null,null,null,"Block 1","Block 2","Block 3","Block 4","Block 5","Block 6"]
[1,{"$f":"'!M923A0D.ust'!B2:C2","v":"<date>"},{"$f":"('!M923A0D.ust'!F198/60)/'!M923A0D.ust'!Q3","v":2.0828993055555558},{"$f":"'!M923A0D.ust'!N20/'!M923A0D.ust'!Q3","v":0},{"$f":"SUM('!M923A0D.ust'!L20:Q20)/'!M923A0D.ust'!Q3","v":0.91666666666666663},{"$f":"'!M923A0D.ust'!Q16","v":0.23038198030994742},null,null,null,"Average Response Rate",{"$f":"AVERAGE(C3:C7)","v":2.2617725912462365},{"$f":"AVERAGE(C8:C12)","v":2.5985455204791621},{"$f":"AVERAGE(C13:C17)","v":2.6375961736921494},{"$f":"AVERAGE(C18:C22)","v":5.3436188920012446},{"$f":"AVERAGE(C23:C27)","v":2.5303553824086098},{"$f":"AVERAGE(C28:C32)","v":2.7102461803930611}]
[2,{"$f":"'!M924B0D.ust'!B2:C2","v":"<date>"},{"$f":"('!M924B0D.ust'!F198/60)/'!M924B0D.ust'!Q3","v":2.0750868055555558},{"$f":"'!M924B0D.ust'!N20/'!M924B0D.ust'!Q3","v":2.0833333333333332E-2},{"$f":"SUM('!M924B0D.ust'!L20:Q20)/'!M924B0D.ust'!Q3","v":0.9375},{"$f":"'!M924B0D.ust'!Q16","v":0.26948090638495659},null,null,null,"Target %",{"$f":"AVERAGE(D3:D7)","v":0.21006223837849744},{"$f":"AVERAGE(D8:D12)","v":0.60863526702044002},{"$f":"AVERAGE(D13:D17)","v":0.71880288957688332},{"$f":"AVERAGE(D18:D22)","v":0.4908870214752567},{"$f":"AVERAGE(D23:D27)","v":0.68952068851373716},{"$f":"AVERAGE(D28:D32)","v":0.71581734388670726}]
[3,{"$f":"'!M92592D.ust'!B2:C2","v":"<date>"},{"$f":"('!M92592D.ust'!F184/60)/'!M92592D.ust'!Q3","v":2.2397003745318353},{"$f":"'!M92592D.ust'!N20/'!M92592D.ust'!Q3","v":0.12359550561797752},{"$f":"SUM('!M92592D.ust'!L20:Q20)/'!M92592D.ust'!Q3","v":1.0842696629213484},{"$f":"'!M92592D.ust'!Q16","v":0.32665529946176258},null,null,null,"CCRF",{"$f":"AVERAGE(E3:E7)","v":1.9194519717999561},{"$f":"AVERAGE(E8:E12)","v":4.23478838218763},{"$f":"AVERAGE(E13:E17)","v":4.5688219417321587},{"$f":"AVERAGE(E18:E22)","v":4.820532212885154},{"$f":"AVERAGE(E23:E27)","v":4.0754017263769002},{"$f":"AVERAGE(E28:E32)","v":4.2670856478184493}]
[4,{"$f":"'!M92693D.ust'!B2:C2","v":"<date>"},{"$f":"('!M92693D.ust'!F91/60)/'!M92693D.ust'!Q3","v":2.5462745098039217},{"$f":"'!M92693D.ust'!N20/'!M92693D.ust'!Q3","v":0.44705882352941179},{"$f":"SUM('!M92693D.ust'!L20:Q20)/'!M92693D.ust'!Q3","v":3.388235294117647},{"$f":"'!M92693D.ust'!Q16","v":0.24917465152432408},null,null,null,"U Value",{"$f":"AVERAGE(F3:F7)","v":0.26602485449790081},{"$f":"AVERAGE(F8:F12)","v":0.22432443680157205},{"$f":"AVERAGE(F13:F17)","v":0.20806147131876135},{"$f":"AVERAGE(F18:F22)","v":0.27291220080000766},{"$f":"AVERAGE(F23:F27)","v":0.22774645060363832},{"$f":"AVERAGE(F28:F32)","v":0.21226140522995726}]
[5,{"$f":"'!M927A2D.ust'!B2:C2","v":"<date>"},{"$f":"('!M927A2D.ust'!F91/60)/'!M927A2D.ust'!Q3","v":2.364901960784314},{"$f":"'!M927A2D.ust'!N20/'!M927A2D.ust'!Q3","v":0.45882352941176469},{"$f":"SUM('!M927A2D.ust'!L20:Q20)/'!M927A2D.ust'!Q3","v":3.2705882352941176},{"$f":"'!M927A2D.ust'!Q16","v":0.25443143480851338}]
[6,{"$f":"'!M92891D.ust'!B2:C2","v":"<date>"},{"$f":"('!M92891D.ust'!F80/60)/'!M92891D.ust'!Q3","v":2.6594594594594598},{"$f":"'!M92891D.ust'!N20/'!M92891D.ust'!Q3","v":0.52702702702702697},{"$f":"SUM('!M92891D.ust'!L20:Q20)/'!M92891D.ust'!Q3","v":3.7162162162162162},{"$f":"'!M92891D.ust'!Q16","v":0.23319562434582383}]
[7,{"$f":"'!M930B0D.ust'!B2:C2","v":"<date>"},{"$f":"('!M930B0D.ust'!F73/60)/'!M930B0D.ust'!Q3","v":2.3810945273631838},{"$f":"'!M930B0D.ust'!N20/'!M930B0D.ust'!Q3","v":0.58208955223880599},{"$f":"SUM('!M930B0D.ust'!L20:Q20)/'!M930B0D.ust'!Q3","v":4.0597014925373136},{"$f":"'!M930B0D.ust'!Q16","v":0.2202123920383659},{"$f":"K3","v":2.2617725912462365},{"$f":"L3","v":2.5985455204791621},2.6375961736921494,5.3436188920012446,2.5303553824086098,2.7102461803930611,{"$f":"K4","v":0.21006223837849744},{"$f":"L4","v":0.60863526702044002},0.71880288957688332,0.4908870214752567,0.68952068851373716,0.71581734388670726,{"$f":"K6","v":0.26602485449790081},{"$f":"L6","v":0.22432443680157205},0.20806147131876135,0.27291220080000766,0.22774645060363832,0.21226140522995726]
[8,{"$f":"'!MA01A5D.ust'!B2:C2","v":"<date>"},{"$f":"('!MA01A5D.ust'!F75/60)/'!MA01A5D.ust'!Q3","v":2.2719806763285026},{"$f":"'!MA01A5D.ust'!N20/'!MA01A5D.ust'!Q3","v":0.56521739130434778},{"$f":"SUM('!MA01A5D.ust'!L20:Q20)/'!MA01A5D.ust'!Q3","v":3.9565217391304346},{"$f":"'!MA01A5D.ust'!Q16","v":0.21747724907356625}]
[9,{"$f":"'!MA0294D.ust'!B2:C2","v":"<date>"},{"$f":"('!MA0294D.ust'!F62/60)/'!MA0294D.ust'!Q3","v":2.9089285714285715},{"$f":"'!MA0294D.ust'!N20/'!MA0294D.ust'!Q3","v":0.6964285714285714},{"$f":"SUM('!MA0294D.ust'!L20:Q20)/'!MA0294D.ust'!Q3","v":4.8035714285714288},{"$f":"'!MA0294D.ust'!Q16","v":0.22158366434248009}]
[10,{"$f":"'!MA0394D.ust'!B2:C2","v":"<date>"},{"$f":"('!MA0394D.ust'!F64/60)/'!MA0394D.ust'!Q3","v":2.7712643678160918},{"$f":"'!MA0394D.ust'!N20/'!MA0394D.ust'!Q3","v":0.67241379310344829},{"$f":"SUM('!MA0394D.ust'!L20:Q20)/'!MA0394D.ust'!Q3","v":4.6379310344827589},{"$f":"'!MA0394D.ust'!Q16","v":0.22915325420762406}]
[11,{"$f":"'!MA04A5D.ust'!B2:C2","v":"<date>"},{"$f":"('!MA04A5D.ust'!F66/60)/'!MA04A5D.ust'!Q3","v":3.0058333333333334},{"$f":"'!MA04A5D.ust'!N20/'!MA04A5D.ust'!Q3","v":0.65},{"$f":"SUM('!MA04A5D.ust'!L20:Q20)/'!MA04A5D.ust'!Q3","v":4.5},{"$f":"'!MA04A5D.ust'!Q16","v":0.2305208215741347}]
[12,{"$f":"'!MA05A0D.ust'!B2:C2","v":"<date>"},{"$f":"('!MA05A0D.ust'!F57/60)/'!MA05A0D.ust'!Q3","v":2.6277777777777782},{"$f":"'!MA05A0D.ust'!N20/'!MA05A0D.ust'!Q3","v":0.74509803921568629},{"$f":"SUM('!MA05A0D.ust'!L20:Q20)/'!MA05A0D.ust'!Q3","v":3.2549019607843137},{"$f":"'!MA05A0D.ust'!Q16","v":0.18891931420885841}]
[13,{"$f":"'!MA0685D.ust'!B2:C2","v":"<date>"},{"$f":"('!MA0685D.ust'!F63/60)/'!MA0685D.ust'!Q3","v":2.5701754385964914},{"$f":"'!MA0685D.ust'!N20/'!MA0685D.ust'!Q3","v":0.68421052631578949},{"$f":"SUM('!MA0685D.ust'!L20:Q20)/'!MA0685D.ust'!Q3","v":4.7192982456140351},{"$f":"'!MA0685D.ust'!Q16","v":0.23197180470105855}]
[14,{"$f":"'!MA0791D.ust'!B2:C2","v":"<date>"},{"$f":"('!MA0791D.ust'!F58/60)/'!MA0791D.ust'!Q3","v":2.3727564102564105},{"$f":"'!MA0791D.ust'!N20/'!MA0791D.ust'!Q3","v":0.75},{"$f":"SUM('!MA0791D.ust'!L20:Q20)/'!MA0791D.ust'!Q3","v":5.134615384615385},{"$f":"'!MA0791D.ust'!Q16","v":0.18579166554862883}]
[15,{"$f":"'!MA08A5D.ust'!B2:C2","v":"<date>"},{"$f":"('!MA08A5D.ust'!F57/60)/'!MA08A5D.ust'!Q3","v":2.6114379084967321},{"$f":"'!MA08A5D.ust'!N20/'!MA08A5D.ust'!Q3","v":0.76470588235294112},{"$f":"SUM('!MA08A5D.ust'!L20:Q20)/'!MA08A5D.ust'!Q3","v":5.2352941176470589},{"$f":"'!MA08A5D.ust'!Q16","v":0.20310375056112628}]
[16,{"$f":"'!MA0992D.ust'!B2:C2","v":"<date>"},{"$f":"('!MA0992D.ust'!F57/60)/'!MA0992D.ust'!Q3","v":2.647385620915033},{"$f":"'!MA0992D.ust'!N20/'!MA0992D.ust'!Q3","v":0.76470588235294112},{"$f":"SUM('!MA0992D.ust'!L20:Q20)/'!MA0992D.ust'!Q3","v":5.2352941176470589},{"$f":"'!MA0992D.ust'!Q16","v":0.17241576533862757}]
[17,{"$f":"'!MA10A3D.ust'!B2:C2","v":"<date>"},{"$f":"('!MA10A3D.ust'!F42/60)/'!MA10A3D.ust'!Q3","v":3.9662037037037035},{"$f":"'!MA10A3D.ust'!N20/'!MA10A3D.ust'!Q3","v":0.63888888888888884},{"$f":"SUM('!MA10A3D.ust'!L20:Q20)/'!MA10A3D.ust'!Q3","v":6.833333333333333},{"$f":"'!MA10A3D.ust'!Q16","v":0.20984521612478921}]
[18,{"$f":"'!MA13A3D.ust'!B2:C2","v":"<date>"},{"$f":"('!MA13A3D.ust'!F34/60)/'!MA13A3D.ust'!Q3","v":12.994047619047619},{"$f":"'!MA13A3D.ust'!N20/'!MA13A3D.ust'!Q3","v":7.1428571428571425E-2},{"$f":"SUM('!MA13A3D.ust'!L20:Q20)/'!MA13A3D.ust'!Q3","v":4.3928571428571432},{"$f":"'!MA13A3D.ust'!Q16","v":0.39621512935033776}]
[19,{"$f":"'!MA14A0D.ust'!B2:C2","v":"<date>"},{"$f":"('!MA14A0D.ust'!F91/60)/'!MA14A0D.ust'!Q3","v":4.6149019607843131},{"$f":"'!MA14A0D.ust'!N20/'!MA14A0D.ust'!Q3","v":0.32941176470588235},{"$f":"SUM('!MA14A0D.ust'!L20:Q20)/'!MA14A0D.ust'!Q3","v":3.1411764705882352},{"$f":"'!MA14A0D.ust'!Q16","v":0.34182950199120793}]
[20,{"$f":"'!MA15A4D.ust'!B2:C2","v":"<date>"},{"$f":"('!MA15A4D.ust'!F66/60)/'!MA15A4D.ust'!Q3","v":2.4955555555555553},{"$f":"'!MA15A4D.ust'!N20/'!MA15A4D.ust'!Q3","v":0.65},{"$f":"SUM('!MA15A4D.ust'!L20:Q20)/'!MA15A4D.ust'!Q3","v":4.5},{"$f":"'!MA15A4D.ust'!Q16","v":0.24425539119507589}]
[21,{"$f":"'!MA1692D.ust'!B2:C2","v":"<date>"},{"$f":"('!MA1692D.ust'!F56/60)/'!MA1692D.ust'!Q3","v":2.3943333333333334},{"$f":"'!MA1692D.ust'!N20/'!MA1692D.ust'!Q3","v":0.76},{"$f":"SUM('!MA1692D.ust'!L20:Q20)/'!MA1692D.ust'!Q3","v":5.32},{"$f":"'!MA1692D.ust'!Q16","v":0.19409269880799782}]
[22,{"$f":"'!MA17B1D.ust'!B2:C2","v":"<date>"},{"$f":"('!MA17B1D.ust'!F63/60)/'!MA17B1D.ust'!Q3","v":2.712280701754386},{"$f":"'!MA17B1D.ust'!N20/'!MA17B1D.ust'!Q3","v":0.70175438596491224},{"$f":"SUM('!MA17B1D.ust'!L20:Q20)/'!MA17B1D.ust'!Q3","v":2.9824561403508771},{"$f":"'!MA17B1D.ust'!Q16","v":0.19861384365121429}]
[23,{"$f":"'!MA18A3D.ust'!B2:C2","v":"<date>"},{"$f":"('!MA18A3D.ust'!F71/60)/'!MA18A3D.ust'!Q3","v":2.5464102564102564},{"$f":"'!MA18A3D.ust'!N20/'!MA18A3D.ust'!Q3","v":0.6},{"$f":"SUM('!MA18A3D.ust'!L20:Q20)/'!MA18A3D.ust'!Q3","v":4.1846153846153848},{"$f":"'!MA18A3D.ust'!Q16","v":0.27501507142428072}]
[24,{"$f":"'!MA1994D.ust'!B2:C2","v":"<date>"},{"$f":"('!MA1994D.ust'!F66/60)/'!MA1994D.ust'!Q3","v":2.4094444444444445},{"$f":"'!MA1994D.ust'!N20/'!MA1994D.ust'!Q3","v":0.65},{"$f":"SUM('!MA1994D.ust'!L20:Q20)/'!MA1994D.ust'!Q3","v":2.8333333333333335},{"$f":"'!MA1994D.ust'!Q16","v":0.25675814602410291}]
[25,{"$f":"'!MA2092D.ust'!B2:C2","v":"<date>"},{"$f":"('!MA2092D.ust'!F59/60)/'!MA2092D.ust'!Q3","v":2.5893081761006287},{"$f":"'!MA2092D.ust'!N20/'!MA2092D.ust'!Q3","v":0.73584905660377353},{"$f":"SUM('!MA2092D.ust'!L20:Q20)/'!MA2092D.ust'!Q3","v":5.0566037735849054},{"$f":"'!MA2092D.ust'!Q16","v":0.21425249311059585}]
[26,{"$f":"'!MA2194D.ust'!B2:C2","v":"<date>"},{"$f":"('!MA2194D.ust'!F65/60)/'!MA2194D.ust'!Q3","v":2.7587570621468931},{"$f":"'!MA2194D.ust'!N20/'!MA2194D.ust'!Q3","v":0.66101694915254239},{"$f":"SUM('!MA2194D.ust'!L20:Q20)/'!MA2194D.ust'!Q3","v":4.5762711864406782},{"$f":"'!MA2194D.ust'!Q16","v":0.23074100025184124}]
[27,{"$f":"'!MA22B0D.ust'!B2:C2","v":"<date>"},{"$f":"('!MA22B0D.ust'!F65/60)/'!MA22B0D.ust'!Q3","v":2.5144067796610168},{"$f":"'!MA22B0D.ust'!N20/'!MA22B0D.ust'!Q3","v":0.66101694915254239},{"$f":"SUM('!MA22B0D.ust'!L20:Q20)/'!MA22B0D.ust'!Q3","v":2.8813559322033897},{"$f":"'!MA22B0D.ust'!Q16","v":0.24575749303313091}]
[28,{"$f":"'!MA23B1D.ust'!B2:C2","v":"<date>"},{"$f":"('!MA23B1D.ust'!F62/60)/'!MA23B1D.ust'!Q3","v":2.7163690476190476},{"$f":"'!MA23B1D.ust'!N20/'!MA23B1D.ust'!Q3","v":0.6964285714285714},{"$f":"SUM('!MA23B1D.ust'!L20:Q20)/'!MA23B1D.ust'!Q3","v":3.0178571428571428},{"$f":"'!MA23B1D.ust'!Q16","v":0.21345407723675378}]
[29,{"$f":"'!MA24A4D.ust'!B2:C2","v":"<date>"},{"$f":"('!MA24A4D.ust'!F55/60)/'!MA24A4D.ust'!Q3","v":2.9149659863945581},{"$f":"'!MA24A4D.ust'!N20/'!MA24A4D.ust'!Q3","v":0.79591836734693877},{"$f":"SUM('!MA24A4D.ust'!L20:Q20)/'!MA24A4D.ust'!Q3","v":5.4285714285714288},{"$f":"'!MA24A4D.ust'!Q16","v":0.17206483263553629}]
[30,{"$f":"'!MA25A3D.ust'!B2:C2","v":"<date>"},{"$f":"('!MA25A3D.ust'!F57/60)/'!MA25A3D.ust'!Q3","v":2.6467320261437908},{"$f":"'!MA25A3D.ust'!N20/'!MA25A3D.ust'!Q3","v":0.76470588235294112},{"$f":"SUM('!MA25A3D.ust'!L20:Q20)/'!MA25A3D.ust'!Q3","v":5.4313725490196081},{"$f":"'!MA25A3D.ust'!Q16","v":0.19928962299252398}]

{"sheet":"Start","index":2,"n_rows":36,"n_cols":10,"rows_kept":36,"cut":false,"hidden":false,"merged":[]}
[null,null,null,null,null,"Use Folder 51",null,"Auto Clean Up",null,"Correct sequence"]
[null,null,null,null,null,false,null,true,null,211]
[]
["Working with Folder",null,null,null,null,null,"Process All/Or Pick A number: ALL or an integer"]
["F:\\Possum Chapter\\Raw Data\\Dusti\\Phase 1 repeat\\",null,null,null,null,null,"ALL"]
["Filenames:"]
["!MA18A3D.ust",null,null,null,null,null,"Paint Cells"]
["!MA1994D.ust",null,null,null,null,null,false]
["!MA2092D.ust"]
["!MA2194D.ust"]
["!MA22B0D.ust"]
["!MA23B1D.ust"]
["!MA24A4D.ust"]
["!MA25A3D.ust"]
["!M923A0D.ust"]
["!M924B0D.ust"]
["!M92592D.ust"]
["!M92693D.ust"]
["!M927A2D.ust"]
["!M92891D.ust"]
["!M930B0D.ust"]
["!MA01A5D.ust"]
["!MA0294D.ust"]
["!MA0394D.ust"]
["!MA04A5D.ust"]
["!MA05A0D.ust"]
["!MA0685D.ust"]
["!MA0791D.ust"]
["!MA08A5D.ust"]
["!MA0992D.ust"]
["!MA10A3D.ust"]
["!MA13A3D.ust"]
["!MA14A0D.ust"]
["!MA15A4D.ust"]
["!MA1692D.ust"]
["!MA17B1D.ust"]

{"sheet":"!M923A0D.ust","index":3,"n_rows":198,"n_cols":48,"rows_kept":198,"cut":false,"hidden":false,"merged":[[4,39,4,42],[5,39,5,40],[4,44,4,47],[5,44,5,45],[4,24,4,27],[5,24,5,25],[4,29,4,32],[5,29,5,30],[4,34,4,37],[5,34,5,35],[1,1,1,2],[5,13,5,14],[18,13,18,14],[19,13,19,14],[4,19,4,22],[5,19,5,20]]}
["Report for:!M923A0D.ust"]
["Date:","<date>"]
["Hen:","<hen>",null,null,null,"Correct Sequence",{"$f":"Start!J2","v":211},null,null,null,null,null,null,null,null,"Total Sequences in Data",{"$f":"4994-COUNTBLANK(L7:L5000)","v":192},null,null,null,null,"Total Sequences in Block Data",{"$f":"COUNTA(L7:L38)","v":32},null,null,null,"Total Sequences in Block Data",{"$f":"COUNTA(L39:L70)","v":32},null,null,null,"Total Sequences in Block Data",{"$f":"COUNTA(L71:L102)","v":32},null,null,null,"Total Sequences in Block Data",{"$f":"COUNTA(L103:L134)","v":32},null,null,null,"Total Sequences in Block Data",{"$f":"COUNTA(L135:L166)","v":32},null,null,null,"Total Sequences in Block Data",{"$f":"COUNTA(L167:L198)","v":32}]
[null,null,null,null,null,null,null,null,null,null,null,null,null,null,null,"Total Sequences in Summary",{"$f":"SUM(O7:O14)","v":192},null,null,null,null,"Total Sequences in Block Summary",{"$f":"SUM(U7:U14)","v":32},null,null,null,"Total Sequences in Block Summary",{"$f":"SUM(Z7:Z14)","v":32},null,null,null,"Total Sequences in Block Summary",{"$f":"SUM(AE7:AE14)","v":32},null,null,null,"Total Sequences in Block Summary",{"$f":"SUM(AJ7:AJ14)","v":32},null,null,null,"Total Sequences in Block Summary",{"$f":"SUM(AO7:AO14)","v":32},null,null,null,"Total Sequences in Block Summary",{"$f":"SUM(AT7:AT14)","v":32}]
[null,null,null,null,null,null,null,null,null,null,null,null,null,null,null,null,null,null,null,"Block 1",null,null,null,null,"Block 2",null,null,null,null,"Block 3",null,null,null,null,"Block 4",null,null,null,null,"Block 5",null,null,null,null,"Block 6"]
["Sequence\nComponent\n1","Time\n1","Sequence\nComponent\n2","Time\n2","Sequence\nComponent\n3","Time\n3","Sequence\nComponent\n4","Time\n4","Sequence\nComponent\n5","Time\n5","Correct?\n0=No 1=Yes","Sequence",null,"Frequency",null,"Relative Frequency","Variability",null,null,"Frequency",null,"Relative Frequency","Variability",null,"Frequency",null,"Relative Frequency","Variability",null,"Frequency",null,"Relative Frequency","Variability",null,"Frequency",null,"Relative Frequency","Variability",null,"Frequency",null,"Relative Frequency","Variability",null,"Frequency",null,"Relative Frequency","Variability"]
[12,9,13,16,24,28,null,null,null,null,0,112,null,111,{"$f":"COUNTIF($L$7:$L$500,N7)","v":64},{"$f":"O7/$Q$4","v":0.33333333333333331},{"$f":"IF(P7=0,0,(P7*((LOG(P7))/LOG(2))))","v":-0.52832083357371862},null,null,{"$f":"N7","v":111},{"$f":"COUNTIF(L7:L38,T7)","v":3},{"$f":"U7/(W4-U11)","v":9.375E-2},{"$f":"IF(V7=0,0,(V7*((LOG(V7))/LOG(2))))","v":-0.32015976555739156},null,{"$f":"N7","v":111},{"$f":"COUNTIF(L39:L70,Y7)","v":5},{"$f":"Z7/(AB4-Z11)","v":0.15625},{"$f":"IF(AA7=0,0,(AA7*((LOG(AA7))/LOG(2))))","v":-0.41844873517384967},null,{"$f":"N7","v":111},{"$f":"COUNTIF(L71:L102,AD7)","v":8},{"$f":"AE7/(AG4-AE11)","v":0.25},{"$f":"IF(AF7=0,0,(AF7*((LOG(AF7))/LOG(2))))","v":-0.5},null,{"$f":"N7","v":111},{"$f":"COUNTIF(L103:L134,AI7)","v":25},{"$f":"AJ7/(AL4-AJ11)","v":0.78125},{"$f":"IF(AK7=0,0,(AK7*((LOG(AK7))/LOG(2))))","v":-0.27823735173849634},null,{"$f":"N7","v":111},{"$f":"COUNTIF(L135:L166,AN7)","v":12},{"$f":"AO7/(AQ4-AO11)","v":0.375},{"$f":"IF(AP7=0,0,(AP7*((LOG(AP7))/LOG(2))))","v":-0.53063906222956647},null,{"$f":"N7","v":111},{"$f":"COUNTIF(L167:L198,AS7)","v":11},{"$f":"AT7/(AV4-AT11)","v":0.34375},{"$f":"IF(AU7=0,0,(AU7*((LOG(AU7))/LOG(2))))","v":-0.52957038109342913}]
[12,125,13,130,24,137,null,null,null,null,0,112,null,112,{"$f":"COUNTIF($L$7:$L$500,N8)","v":95},{"$f":"O8/$Q$4","v":0.49479166666666669},{"$f":"IF(P8=0,0,(P8*((LOG(P8))/LOG(2))))","v":-0.5022664311305719},null,null,{"$f":"N8","v":112},{"$f":"COUNTIF(L7:L38,T8)","v":22},{"$f":"U8/(W4-U11)","v":0.6875},{"$f":"IF(V8=0,0,(V8*((LOG(V8))/LOG(2))))","v":-0.3716407621868581},null,{"$f":"N8","v":112},{"$f":"COUNTIF(L39:L70,Y8)","v":20},{"$f":"Z8/(AB4-Z11)","v":0.625},{"$f":"IF(AA8=0,0,(AA8*((LOG(AA8))/LOG(2))))","v":-0.42379494069539858},null,{"$f":"N8","v":112},{"$f":"COUNTIF(L71:L102,AD8)","v":20},{"$f":"AE8/(AG4-AE11)","v":0.625},{"$f":"IF(AF8=0,0,(AF8*((LOG(AF8))/LOG(2))))","v":-0.42379494069539858},null,{"$f":"N8","v":112},{"$f":"COUNTIF(L103:L134,AI8)","v":6},{"$f":"AJ8/(AL4-AJ11)","v":0.1875},{"$f":"IF(AK8=0,0,(AK8*((LOG(AK8))/LOG(2))))","v":-0.45281953111478312},null,{"$f":"N8","v":112},{"$f":"COUNTIF(L135:L166,AN8)","v":15},{"$f":"AO8/(AQ4-AO11)","v":0.46875},{"$f":"IF(AP8=0,0,(AP8*((LOG(AP8))/LOG(2))))","v":-0.512395033308507},null,{"$f":"N8","v":112},{"$f":"COUNTIF(L167:L198,AS8)","v":12},{"$f":"AT8/(AV4-AT11)","v":0.375},{"$f":"IF(AU8=0,0,(AU8*((LOG(AU8))/LOG(2))))","v":-0.53063906222956647}]
[12,236,13,251,24,263,null,null,null,null,0,112,null,121,{"$f":"COUNTIF($L$7:$L$500,N9)","v":5},{"$f":"O9/$Q$4","v":2.6041666666666668E-2},{"$f":"IF(P9=0,0,(P9*((LOG(P9))/LOG(2))))","v":-0.13705818765192171},null,null,{"$f":"N9","v":121},{"$f":"COUNTIF(L7:L38,T9)","v":3},{"$f":"U9/(W4-U11)","v":9.375E-2},{"$f":"IF(V9=0,0,(V9*((LOG(V9))/LOG(2))))","v":-0.32015976555739156},null,{"$f":"N9","v":121},{"$f":"COUNTIF(L39:L70,Y9)","v":1},{"$f":"Z9/(AB4-Z11)","v":3.125E-2},{"$f":"IF(AA9=0,0,(AA9*((LOG(AA9))/LOG(2))))","v":-0.15625},null,{"$f":"N9","v":121},{"$f":"COUNTIF(L71:L102,AD9)","v":0},{"$f":"AE9/(AG4-AE11)","v":0},{"$f":"IF(AF9=0,0,(AF9*((LOG(AF9))/LOG(2))))","v":0},null,{"$f":"N9","v":121},{"$f":"COUNTIF(L103:L134,AI9)","v":0},{"$f":"AJ9/(AL4-AJ11)","v":0},{"$f":"IF(AK9=0,0,(AK9*((LOG(AK9))/LOG(2))))","v":0},null,{"$f":"N9","v":121},{"$f":"COUNTIF(L135:L166,AN9)","v":0},{"$f":"AO9/(AQ4-AO11)","v":0},{"$f":"IF(AP9=0,0,(AP9*((LOG(AP9))/LOG(2))))","v":0},null,{"$f":"N9","v":121},{"$f":"COUNTIF(L167:L198,AS9)","v":1},{"$f":"AT9/(AV4-AT11)","v":3.125E-2},{"$f":"IF(AU9=0,0,(AU9*((LOG(AU9))/LOG(2))))","v":-0.15625}]
[12,362,13,367,24,380,null,null,null,null,0,112,null,122,{"$f":"COUNTIF($L$7:$L$500,N10)","v":18},{"$f":"O10/$Q$4","v":9.375E-2},{"$f":"IF(P10=0,0,(P10*((LOG(P10))/LOG(2))))","v":-0.32015976555739156},null,null,{"$f":"N10","v":122},{"$f":"COUNTIF(L7:L38,T10)","v":4},{"$f":"U10/(W4-U11)","v":0.125},{"$f":"IF(V10=0,0,(V10*((LOG(V10))/LOG(2))))","v":-0.375},null,{"$f":"N10","v":122},{"$f":"COUNTIF(L39:L70,Y10)","v":5},{"$f":"Z10/(AB4-Z11)","v":0.15625},{"$f":"IF(AA10=0,0,(AA10*((LOG(AA10))/LOG(2))))","v":-0.41844873517384967},null,{"$f":"N10","v":122},{"$f":"COUNTIF(L71:L102,AD10)","v":3},{"$f":"AE10/(AG4-AE11)","v":9.375E-2},{"$f":"IF(AF10=0,0,(AF10*((LOG(AF10))/LOG(2))))","v":-0.32015976555739156},null,{"$f":"N10","v":122},{"$f":"COUNTIF(L103:L134,AI10)","v":0},{"$f":"AJ10/(AL4-AJ11)","v":0},{"$f":"IF(AK10=0,0,(AK10*((LOG(AK10))/LOG(2))))","v":0},null,{"$f":"N10","v":122},{"$f":"COUNTIF(L135:L166,AN10)","v":2},{"$f":"AO10/(AQ4-AO11)","v":6.25E-2},{"$f":"IF(AP10=0,0,(AP10*((LOG(AP10))/LOG(2))))","v":-0.25},null,{"$f":"N10","v":122},{"$f":"COUNTIF(L167:L198,AS10)","v":4},{"$f":"AT10/(AV4-AT11)","v":0.125},{"$f":"IF(AU10=0,0,(AU10*((LOG(AU10))/LOG(2))))","v":-0.375}]
[12,480,13,486,24,495,null,null,null,null,0,112,null,211,{"$f":"COUNTIF($L$7:$L$500,N11)","v":0},{"$f":"O11/$Q$4","v":0},{"$f":"IF(P11=0,0,(P11*((LOG(P11))/LOG(2))))","v":0},null,null,{"$f":"N11","v":211},{"$f":"COUNTIF(L7:L38,T11)","v":0},null,null,null,{"$f":"N11","v":211},{"$f":"COUNTIF(L39:L70,Y11)","v":0},null,null,null,{"$f":"N11","v":211},{"$f":"COUNTIF(L71:L102,AD11)","v":0},null,null,null,{"$f":"N11","v":211},{"$f":"COUNTIF(L103:L134,AI11)","v":0},null,null,null,{"$f":"N11","v":211},{"$f":"COUNTIF(L135:L166,AN11)","v":0},null,null,null,{"$f":"N11","v":211},{"$f":"COUNTIF(L167:L198,AS11)","v":0}]
[12,595,13,600,24,609,null,null,null,null,0,112,null,212,{"$f":"COUNTIF($L$7:$L$500,N12)","v":0},{"$f":"O12/$Q$4","v":0},{"$f":"IF(P12=0,0,(P12*((LOG(P12))/LOG(2))))","v":0},null,null,{"$f":"N12","v":212},{"$f":"COUNTIF(L7:L38,T12)","v":0},{"$f":"U12/(W4-U11)","v":0},{"$f":"IF(V12=0,0,(V12*((LOG(V12))/LOG(2))))","v":0},null,{"$f":"N12","v":212},{"$f":"COUNTIF(L39:L70,Y12)","v":0},{"$f":"Z12/(AB4-Z11)","v":0},{"$f":"IF(AA12=0,0,(AA12*((LOG(AA12))/LOG(2))))","v":0},null,{"$f":"N12","v":212},{"$f":"COUNTIF(L71:L102,AD12)","v":0},{"$f":"AE12/(AG4-AE11)","v":0},{"$f":"IF(AF12=0,0,(AF12*((LOG(AF12))/LOG(2))))","v":0},null,{"$f":"N12","v":212},{"$f":"COUNTIF(L103:L134,AI12)","v":0},{"$f":"AJ12/(AL4-AJ11)","v":0},{"$f":"IF(AK12=0,0,(AK12*((LOG(AK12))/LOG(2))))","v":0},null,{"$f":"N12","v":212},{"$f":"COUNTIF(L135:L166,AN12)","v":0},{"$f":"AO12/(AQ4-AO11)","v":0},{"$f":"IF(AP12=0,0,(AP12*((LOG(AP12))/LOG(2))))","v":0},null,{"$f":"N12","v":212},{"$f":"COUNTIF(L167:L198,AS12)","v":0},{"$f":"AT12/(AV4-AT11)","v":0},{"$f":"IF(AU12=0,0,(AU12*((LOG(AU12))/LOG(2))))","v":0}]
[12,706,13,712,24,720,null,null,null,null,0,112,null,221,{"$f":"COUNTIF($L$7:$L$500,N13)","v":2},{"$f":"O13/$Q$4","v":1.0416666666666666E-2},{"$f":"IF(P13=0,0,(P13*((LOG(P13))/LOG(2))))","v":-6.8593359382512042E-2},null,null,{"$f":"N13","v":221},{"$f":"COUNTIF(L7:L38,T13)","v":0},{"$f":"U13/(W4-U11)","v":0},{"$f":"IF(V13=0,0,(V13*((LOG(V13))/LOG(2))))","v":0},null,{"$f":"N13","v":221},{"$f":"COUNTIF(L39:L70,Y13)","v":1},{"$f":"Z13/(AB4-Z11)","v":3.125E-2},{"$f":"IF(AA13=0,0,(AA13*((LOG(AA13))/LOG(2))))","v":-0.15625},null,{"$f":"N13","v":221},{"$f":"COUNTIF(L71:L102,AD13)","v":1},{"$f":"AE13/(AG4-AE11)","v":3.125E-2},{"$f":"IF(AF13=0,0,(AF13*((LOG(AF13))/LOG(2))))","v":-0.15625},null,{"$f":"N13","v":221},{"$f":"COUNTIF(L103:L134,AI13)","v":0},{"$f":"AJ13/(AL4-AJ11)","v":0},{"$f":"IF(AK13=0,0,(AK13*((LOG(AK13))/LOG(2))))","v":0},null,{"$f":"N13","v":221},{"$f":"COUNTIF(L135:L166,AN13)","v":0},{"$f":"AO13/(AQ4-AO11)","v":0},{"$f":"IF(AP13=0,0,(AP13*((LOG(AP13))/LOG(2))))","v":0},null,{"$f":"N13","v":221},{"$f":"COUNTIF(L167:L198,AS13)","v":0},{"$f":"AT13/(AV4-AT11)","v":0},{"$f":"IF(AU13=0,0,(AU13*((LOG(AU13))/LOG(2))))","v":0}]
[12,817,13,823,24,833,null,null,null,null,0,112,null,222,{"$f":"COUNTIF($L$7:$L$500,N14)","v":8},{"$f":"O14/$Q$4","v":4.1666666666666664E-2},{"$f":"IF(P14=0,0,(P14*((LOG(P14))/LOG(2))))","v":-0.19104010419671485},null,null,{"$f":"N14","v":222},{"$f":"COUNTIF(L7:L38,T14)","v":0},{"$f":"U14/(W4-U11)","v":0},{"$f":"IF(V14=0,0,(V14*((LOG(V14))/LOG(2))))","v":0},null,{"$f":"N14","v":222},{"$f":"COUNTIF(L39:L70,Y14)","v":0},{"$f":"Z14/(AB4-Z11)","v":0},{"$f":"IF(AA14=0,0,(AA14*((LOG(AA14))/LOG(2))))","v":0},null,{"$f":"N14","v":222},{"$f":"COUNTIF(L71:L102,AD14)","v":0},{"$f":"AE14/(AG4-AE11)","v":0},{"$f":"IF(AF14=0,0,(AF14*((LOG(AF14))/LOG(2))))","v":0},null,{"$f":"N14","v":222},{"$f":"COUNTIF(L103:L134,AI14)","v":1},{"$f":"AJ14/(AL4-AJ11)","v":3.125E-2},{"$f":"IF(AK14=0,0,(AK14*((LOG(AK14))/LOG(2))))","v":-0.15625},null,{"$f":"N14","v":222},{"$f":"COUNTIF(L135:L166,AN14)","v":3},{"$f":"AO14/(AQ4-AO11)","v":9.375E-2},{"$f":"IF(AP14=0,0,(AP14*((LOG(AP14))/LOG(2))))","v":-0.32015976555739156},null,{"$f":"N14","v":222},{"$f":"COUNTIF(L167:L198,AS14)","v":4},{"$f":"AT14/(AV4-AT11)","v":0.125},{"$f":"IF(AU14=0,0,(AU14*((LOG(AU14))/LOG(2))))","v":-0.375}]
[12,932,13,938,24,946,null,null,null,null,0,112,null,null,null,{"$f":"SUM(P7:P14)","v":0.99999999999999989},{"$f":"-SUM(Q7:Q14)","v":1.7474386814928309},null,null,null,null,{"$f":"SUM(V7:V14)","v":1},{"$f":"-SUM(W7:W14)","v":1.3869602933016412},null,null,null,{"$f":"SUM(AA7:AA14)","v":1},{"$f":"-SUM(AB7:AB14)","v":1.5731924110430979},null,null,null,{"$f":"SUM(AF7:AF14)","v":1},{"$f":"-SUM(AG7:AG14)","v":1.40020470625279},null,null,null,{"$f":"SUM(AK7:AK14)","v":1},{"$f":"-SUM(AL7:AL14)","v":0.88730688285327952},null,null,null,{"$f":"SUM(AP7:AP14)","v":1},{"$f":"-SUM(AQ7:AQ14)","v":1.613193861095465},null,null,null,{"$f":"SUM(AU7:AU14)","v":1},{"$f":"-SUM(AV7:AV14)","v":1.9664594433229956}]
[12,1050,24,1060,13,1100,null,null,null,null,0,121,null,null,null,"U=",{"$f":"Q15/(LOG(Q4)/LOG(2))","v":0.23038198030994742},null,null,null,null,"U1=",{"$f":"W15/(LOG(W4)/LOG(2))","v":0.27739205866032823},null,null,null,"U2=",{"$f":"AB15/(LOG(AB4)/LOG(2))","v":0.31463848220861956},null,null,null,"U3=",{"$f":"AG15/(LOG(AG4)/LOG(2))","v":0.28004094125055801},null,null,null,"U4=",{"$f":"AL15/(LOG(AL4)/LOG(2))","v":0.17746137657065592},null,null,null,"U5=",{"$f":"AQ15/(LOG(AQ4)/LOG(2))","v":0.32263877221909298},null,null,null,"U6=",{"$f":"AV15/(LOG(AV4)/LOG(2))","v":0.39329188866459913}]
[12,1198,13,1203,24,1212,null,null,null,null,0,112]
[12,1312,13,1318,24,1328,null,null,null,null,0,112]
[12,1427,13,1433,24,1439,null,null,null,null,0,112,null,"Total Target Seq"]
[12,1538,13,1543,24,1551,null,null,null,null,0,112,null,{"$f":"COUNTIF(L7:L198,G3)","v":0},null,32,32,32,32,32,32]
[12,1654,13,1660,24,1669,null,null,null,null,0,112,null,null,null,"% of reinforcement given in 6 equal intervals based on number of trials "]
[12,1762,13,1768,24,1778,null,null,null,null,0,112,null,null,null,"%_1","%_2","%_3","%_4","%_5","%_6"]
[12,1886,24,1895,24,1905,null,null,null,null,0,122,null,null,"target sequence",{"$f":"$G$3","v":211},{"$f":"$G$3","v":211},{"$f":"$G$3","v":211},{"$f":"$G$3","v":211},{"$f":"$G$3","v":211},{"$f":"$G$3","v":211}]
[12,2000,13,2006,13,2015,null,null,null,null,0,111,null,null,"total reinforcement",{"$f":"U11","v":0},{"$f":"Z11","v":0},{"$f":"AE11","v":0},{"$f":"AJ11","v":0},{"$f":"AO11","v":0},{"$f":"AT11","v":0}]
[12,2322,13,2335,24,2344,null,null,null,null,0,112,null,null,"% target"]
[12,2440,13,2447,24,2458,null,null,null,null,0,112,null,null,"CCRF"]
[12,2559,13,2564,24,2574,null,null,null,null,0,112,null,null,"% CCRf"]
[12,2670,13,2676,24,2685,null,null,null,null,0,112,null,null,"average response rate",{"$f":"F38/P20","v":123.78125},{"$f":"(F70-F38)/Q20","v":126.65625},{"$f":"(F102-F70)/R20","v":121.40625},{"$f":"(F134-F102)/S20","v":124.09375},{"$f":"(F166-F134)/T20","v":125.0625},{"$f":"(F198-F166)/U20","v":128.84375}]
[12,2782,13,2792,24,2800,null,null,null,null,0,112]
[12,2900,24,2916,13,2999,null,null,null,null,0,121]
[12,3096,13,3104,24,3112,null,null,null,null,0,112]
[12,3208,13,3210,13,3216,null,null,null,null,0,111]
[12,3326,24,3352,24,3360,null,null,null,null,0,122]
[12,3452,13,3459,13,3466,null,null,null,null,0,111]
[12,3562,24,3577,24,3585,null,null,null,null,0,122]
[12,3682,13,3691,24,3699,null,null,null,null,0,112]
[12,3796,24,3815,13,3833,null,null,null,null,0,121]
[12,3936,24,3950,24,3961,null,null,null,null,0,122]
[12,4061,13,4079,24,4090,null,null,null,null,0,112]
[21,4194,22,4200,13,4223,null,null,null,null,0,221]
[12,4357,13,4362,24,4371,null,null,null,null,0,112]
[12,4469,13,4481,24,4489,null,null,null,null,0,112]
[12,4596,24,4606,24,4615,null,null,null,null,0,122]
[12,4714,13,4721,24,4729,null,null,null,null,0,112]
[12,4838,24,4846,24,4854,null,null,null,null,0,122]
[12,4951,13,4957,13,4964,null,null,null,null,0,111]
[12,5061,13,5066,13,5072,null,null,null,null,0,111]
[12,5172,13,5177,24,5186,null,null,null,null,0,112]
[12,5285,13,5291,24,5303,null,null,null,null,0,112]
[12,5424,13,5429,13,5438,null,null,null,null,0,111]
[12,5542,13,5546,24,5555,null,null,null,null,0,112]
[12,5650,13,5661,24,5669,null,null,null,null,0,112]
[12,5770,13,5780,24,5794,null,null,null,null,0,112]
[12,5893,13,5903,24,5912,null,null,null,null,0,112]
[12,6011,13,6016,13,6023,null,null,null,null,0,111]
[12,6122,13,6129,24,6141,null,null,null,null,0,112]
[12,6239,13,6250,24,6259,null,null,null,null,0,112]
[12,6360,13,6366,24,6379,null,null,null,null,0,112]
[12,6484,13,6489,24,6502,null,null,null,null,0,112]
[12,6602,13,6607,24,6621,null,null,null,null,0,112]
[12,6728,24,6737,24,6741,null,null,null,null,0,122]
[12,6848,13,6856,13,6860,null,null,null,null,0,111]
[12,6975,24,6984,24,6997,null,null,null,null,0,122]
[12,7096,13,7105,24,7116,null,null,null,null,0,112]
[12,7217,13,7227,24,7238,null,null,null,null,0,112]
[12,7340,13,7346,24,7356,null,null,null,null,0,112]
[12,7456,13,7464,24,7473,null,null,null,null,0,112]
[12,7572,24,7591,24,7607,null,null,null,null,0,122]
[12,7711,24,7729,13,7749,null,null,null,null,0,121]
[12,7986,13,8000,24,8014,null,null,null,null,0,112]
[12,8116,13,8126,24,8134,null,null,null,null,0,112]
[12,8232,13,8239,24,8249,null,null,null,null,0,112]
[12,8350,13,8362,24,8370,null,null,null,null,0,112]
[12,8473,13,8479,24,8488,null,null,null,null,0,112]
[12,8587,13,8596,24,8606,null,null,null,null,0,112]
[12,8699,13,8701,13,8712,null,null,null,null,0,111]
[12,8821,13,8835,24,8850,null,null,null,null,0,112]
[12,8950,13,8955,24,8968,null,null,null,null,0,112]
[12,9080,13,9094,24,9104,null,null,null,null,0,112]
[12,9205,13,9228,24,9239,null,null,null,null,0,112]
[12,9338,13,9344,24,9353,null,null,null,null,0,112]
[12,9471,13,9481,24,9491,null,null,null,null,0,112]
[12,9589,13,9596,24,9609,null,null,null,null,0,112]
[12,9706,13,9719,24,9729,null,null,null,null,0,112]
[12,9828,13,9834,13,9841,null,null,null,null,0,111]
[12,9943,13,9951,24,9961,null,null,null,null,0,112]
[12,10063,24,10080,24,10090,null,null,null,null,0,122]
[12,10193,24,10203,24,10208,null,null,null,null,0,122]
[12,10305,13,10312,24,10322,null,null,null,null,0,112]
[12,10421,13,10426,13,10430,null,null,null,null,0,111]
[12,10535,13,10547,24,10556,null,null,null,null,0,112]
[12,10653,13,10662,13,10669,null,null,null,null,0,111]
[12,10779,13,10784,13,10797,null,null,null,null,0,111]
[12,10898,13,10903,13,10910,null,null,null,null,0,111]
[12,11015,13,11022,24,11032,null,null,null,null,0,112]
[12,11140,24,11151,24,11160,null,null,null,null,0,122]
[12,11258,13,11264,13,11269,null,null,null,null,0,111]
[21,11371,22,11373,13,11406,null,null,null,null,0,221]
[12,11509,13,11515,13,11524,null,null,null,null,0,111]
[12,11629,13,11635,24,11645,null,null,null,null,0,112]
[12,11738,13,11751,24,11761,null,null,null,null,0,112]
[12,11866,13,11877,24,11899,null,null,null,null,0,112]
[12,11998,13,12004,13,12008,null,null,null,null,0,111]
[12,12107,13,12112,13,12120,null,null,null,null,0,111]
[12,12217,13,12223,13,12230,null,null,null,null,0,111]
[12,12331,13,12343,24,12354,null,null,null,null,0,112]
[12,12458,13,12465,24,12476,null,null,null,null,0,112]
[12,12574,13,12580,13,12589,null,null,null,null,0,111]
[12,12687,13,12696,24,12709,null,null,null,null,0,112]
[12,12807,13,12814,13,12824,null,null,null,null,0,111]
[12,12920,13,12926,13,12938,null,null,null,null,0,111]
[12,13046,13,13050,13,13065,null,null,null,null,0,111]
[12,13170,13,13176,13,13188,null,null,null,null,0,111]
[12,13289,13,13297,13,13304,null,null,null,null,0,111]
[12,13411,13,13418,13,13433,null,null,null,null,0,111]
[12,13533,13,13539,13,13547,null,null,null,null,0,111]
[12,13648,13,13655,13,13661,null,null,null,null,0,111]
[12,13764,13,13769,13,13777,null,null,null,null,0,111]
[12,13877,13,13883,24,13908,null,null,null,null,0,112]
[12,14010,13,14017,13,14026,null,null,null,null,0,111]
[21,14124,22,14129,24,14135,null,null,null,null,0,222]
[12,14352,13,14357,13,14363,null,null,null,null,0,111]
[12,14463,13,14469,13,14475,null,null,null,null,0,111]
[12,14575,13,14583,13,14592,null,null,null,null,0,111]
[12,14695,13,14701,13,14714,null,null,null,null,0,111]
[12,14812,13,14819,13,14832,null,null,null,null,0,111]
[12,14933,13,14937,13,14944,null,null,null,null,0,111]
[12,15042,13,15048,24,15062,null,null,null,null,0,112]
[12,15289,13,15295,24,15306,null,null,null,null,0,112]
[12,15400,13,15407,13,15413,null,null,null,null,0,111]
[12,15512,13,15517,13,15523,null,null,null,null,0,111]
[12,15626,13,15632,13,15639,null,null,null,null,0,111]
[12,15741,13,15747,13,15753,null,null,null,null,0,111]
[12,15853,13,15860,13,15870,null,null,null,null,0,111]
[12,15982,13,15988,24,15997,null,null,null,null,0,112]
[12,16100,13,16105,24,16122,null,null,null,null,0,112]
[12,16235,13,16242,24,16253,null,null,null,null,0,112]
[12,16356,13,16361,13,16367,null,null,null,null,0,111]
[12,16469,13,16480,24,16497,null,null,null,null,0,112]
[12,16593,13,16603,24,16622,null,null,null,null,0,112]
[12,16724,13,16731,13,16737,null,null,null,null,0,111]
[21,16844,22,16849,24,16857,null,null,null,null,0,222]
[12,17135,13,17140,24,17149,null,null,null,null,0,112]
[12,17242,13,17257,24,17268,null,null,null,null,0,112]
[12,17365,13,17373,24,17383,null,null,null,null,0,112]
[12,17480,13,17489,24,17504,null,null,null,null,0,112]
[12,17617,13,17624,24,17634,null,null,null,null,0,112]
[12,17735,13,17742,13,17756,null,null,null,null,0,111]
[12,17860,13,17865,24,17882,null,null,null,null,0,112]
[12,17992,24,18003,24,18015,null,null,null,null,0,122]
[12,18113,13,18118,13,18125,null,null,null,null,0,111]
[21,18227,22,18243,24,18251,null,null,null,null,0,222]
[12,18352,13,18357,24,18368,null,null,null,null,0,112]
[12,18465,13,18471,13,18478,null,null,null,null,0,111]
[12,18572,13,18577,13,18595,null,null,null,null,0,111]
[12,18696,24,18711,24,18722,null,null,null,null,0,122]
[12,18819,13,18830,24,18843,null,null,null,null,0,112]
[12,18938,13,18940,13,18947,null,null,null,null,0,111]
[21,19044,22,19059,24,19065,null,null,null,null,0,222]
[12,19158,13,19169,24,19178,null,null,null,null,0,112]
[12,19273,13,19279,13,19292,null,null,null,null,0,111]
[12,19392,13,19397,13,19402,null,null,null,null,0,111]
[12,19498,13,19505,13,19511,null,null,null,null,0,111]
[12,19620,13,19627,24,19637,null,null,null,null,0,112]
[12,19734,13,19740,13,19748,null,null,null,null,0,111]
[12,19852,13,19860,13,19872,null,null,null,null,0,111]
[12,19971,13,19977,13,19986,null,null,null,null,0,111]
[12,20085,13,20090,24,20109,null,null,null,null,0,112]
[12,20210,13,20221,13,20228,null,null,null,null,0,111]
[21,20338,22,20341,24,20354,null,null,null,null,0,222]
[12,20455,13,20466,24,20480,null,null,null,null,0,112]
[12,20584,13,20591,24,20603,null,null,null,null,0,112]
[21,20695,22,20710,24,20721,null,null,null,null,0,222]
[12,20822,13,20828,13,20839,null,null,null,null,0,111]
[12,20947,24,20959,24,20990,null,null,null,null,0,122]
[12,21090,13,21096,13,21108,null,null,null,null,0,111]
[12,21223,13,21230,24,21244,null,null,null,null,0,112]
[12,21341,13,21347,24,21362,null,null,null,null,0,112]
[12,21509,13,21515,13,21527,null,null,null,null,0,111]
[12,21625,13,21631,24,21642,null,null,null,null,0,112]
[12,21754,13,21767,24,21777,null,null,null,null,0,112]
[12,21872,24,21893,13,21910,null,null,null,null,0,121]
[12,22152,13,22162,24,22174,null,null,null,null,0,112]
[12,22274,13,22281,13,22287,null,null,null,null,0,111]
[12,22387,13,22394,24,22408,null,null,null,null,0,112]
[12,22521,13,22529,13,22536,null,null,null,null,0,111]
[12,22637,24,22655,24,22664,null,null,null,null,0,122]
[12,22767,24,22778,24,22786,null,null,null,null,0,122]
[21,22880,22,22889,24,22895,null,null,null,null,0,222]
[12,23007,13,23017,24,23028,null,null,null,null,0,112]
[12,23137,24,23151,24,23162,null,null,null,null,0,122]
[12,23261,13,23268,24,23285,null,null,null,null,0,112]
[12,23385,13,23390,13,23399,null,null,null,null,0,111]
[12,23497,13,23505,13,23517,null,null,null,null,0,111]
[12,23610,13,23623,24,23640,null,null,null,null,0,112]
[21,23737,22,23753,24,23759,null,null,null,null,0,222]
[12,23869,13,23875,13,23882,null,null,null,null,0,111]
[12,23985,13,23989,13,23995,null,null,null,null,null,111]

{"sheet":"!M924B0D.ust","index":4,"n_rows":198,"n_cols":48,"rows_kept":198,"cut":false,"hidden":false,"merged":[[4,39,4,42],[5,39,5,40],[4,44,4,47],[5,44,5,45],[4,24,4,27],[5,24,5,25],[4,29,4,32],[5,29,5,30],[4,34,4,37],[5,34,5,35],[1,1,1,2],[5,13,5,14],[18,13,18,14],[19,13,19,14],[4,19,4,22],[5,19,5,20]]}
["Report for:!M924B0D.ust"]
["Date:","<date>"]
["Hen:","<hen>",null,null,null,"Correct Sequence",{"$f":"Start!J2","v":211},null,null,null,null,null,null,null,null,"Total Sequences in Data",{"$f":"4994-COUNTBLANK(L7:L5000)","v":192},null,null,null,null,"Total Sequences in Block Data",{"$f":"COUNTA(L7:L38)","v":32},null,null,null,"Total Sequences in Block Data",{"$f":"COUNTA(L39:L70)","v":32},null,null,null,"Total Sequences in Block Data",{"$f":"COUNTA(L71:L102)","v":32},null,null,null,"Total Sequences in Block Data",{"$f":"COUNTA(L103:L134)","v":32},null,null,null,"Total Sequences in Block Data",{"$f":"COUNTA(L135:L166)","v":32},null,null,null,"Total Sequences in Block Data",{"$f":"COUNTA(L167:L198)","v":32}]
[null,null,null,null,null,null,null,null,null,null,null,null,null,null,null,"Total Sequences in Summary",{"$f":"SUM(O7:O14)","v":192},null,null,null,null,"Total Sequences in Block Summary",{"$f":"SUM(U7:U14)","v":32},null,null,null,"Total Sequences in Block Summary",{"$f":"SUM(Z7:Z14)","v":32},null,null,null,"Total Sequences in Block Summary",{"$f":"SUM(AE7:AE14)","v":32},null,null,null,"Total Sequences in Block Summary",{"$f":"SUM(AJ7:AJ14)","v":32},null,null,null,"Total Sequences in Block Summary",{"$f":"SUM(AO7:AO14)","v":32},null,null,null,"Total Sequences in Block Summary",{"$f":"SUM(AT7:AT14)","v":32}]
[null,null,null,null,null,null,null,null,null,null,null,null,null,null,null,null,null,null,null,"Block 1",null,null,null,null,"Block 2",null,null,null,null,"Block 3",null,null,null,null,"Block 4",null,null,null,null,"Block 5",null,null,null,null,"Block 6"]
["Sequence\nComponent\n1","Time\n1","Sequence\nComponent\n2","Time\n2","Sequence\nComponent\n3","Time\n3","Sequence\nComponent\n4","Time\n4","Sequence\nComponent\n5","Time\n5","Correct?\n0=No 1=Yes","Sequence",null,"Frequency",null,"Relative Frequency","Variability",null,null,"Frequency",null,"Relative Frequency","Variability",null,"Frequency",null,"Relative Frequency","Variability",null,"Frequency",null,"Relative Frequency","Variability",null,"Frequency",null,"Relative Frequency","Variability",null,"Frequency",null,"Relative Frequency","Variability",null,"Frequency",null,"Relative Frequency","Variability"]
[12,18,13,23,24,30,null,null,null,null,0,112,null,111,{"$f":"COUNTIF($L$7:$L$500,N7)","v":90},{"$f":"O7/$Q$4","v":0.46875},{"$f":"IF(P7=0,0,(P7*((LOG(P7))/LOG(2))))","v":-0.512395033308507},null,null,{"$f":"N7","v":111},{"$f":"COUNTIF(L7:L38,T7)","v":4},{"$f":"U7/(W4-U11)","v":0.125},{"$f":"IF(V7=0,0,(V7*((LOG(V7))/LOG(2))))","v":-0.375},null,{"$f":"N7","v":111},{"$f":"COUNTIF(L39:L70,Y7)","v":15},{"$f":"Z7/(AB4-Z11)","v":0.4838709677419355},{"$f":"IF(AA7=0,0,(AA7*((LOG(AA7))/LOG(2))))","v":-0.50676082973146286},null,{"$f":"N7","v":111},{"$f":"COUNTIF(L71:L102,AD7)","v":16},{"$f":"AE7/(AG4-AE11)","v":0.5},{"$f":"IF(AF7=0,0,(AF7*((LOG(AF7))/LOG(2))))","v":-0.5},null,{"$f":"N7","v":111},{"$f":"COUNTIF(L103:L134,AI7)","v":20},{"$f":"AJ7/(AL4-AJ11)","v":0.64516129032258063},{"$f":"IF(AK7=0,0,(AK7*((LOG(AK7))/LOG(2))))","v":-0.40791497774162117},null,{"$f":"N7","v":111},{"$f":"COUNTIF(L135:L166,AN7)","v":16},{"$f":"AO7/(AQ4-AO11)","v":0.5},{"$f":"IF(AP7=0,0,(AP7*((LOG(AP7))/LOG(2))))","v":-0.5},null,{"$f":"N7","v":111},{"$f":"COUNTIF(L167:L198,AS7)","v":19},{"$f":"AT7/(AV4-AT11)","v":0.6333333333333333},{"$f":"IF(AU7=0,0,(AU7*((LOG(AU7))/LOG(2))))","v":-0.41734328537112425}]
[12,128,13,133,24,142,null,null,null,null,0,112,null,112,{"$f":"COUNTIF($L$7:$L$500,N8)","v":55},{"$f":"O8/$Q$4","v":0.28645833333333331},{"$f":"IF(P8=0,0,(P8*((LOG(P8))/LOG(2))))","v":-0.51665704841566307},null,null,{"$f":"N8","v":112},{"$f":"COUNTIF(L7:L38,T8)","v":24},{"$f":"U8/(W4-U11)","v":0.75},{"$f":"IF(V8=0,0,(V8*((LOG(V8))/LOG(2))))","v":-0.31127812445913283},null,{"$f":"N8","v":112},{"$f":"COUNTIF(L39:L70,Y8)","v":11},{"$f":"Z8/(AB4-Z11)","v":0.35483870967741937},{"$f":"IF(AA8=0,0,(AA8*((LOG(AA8))/LOG(2))))","v":-0.53040037449178568},null,{"$f":"N8","v":112},{"$f":"COUNTIF(L71:L102,AD8)","v":11},{"$f":"AE8/(AG4-AE11)","v":0.34375},{"$f":"IF(AF8=0,0,(AF8*((LOG(AF8))/LOG(2))))","v":-0.52957038109342913},null,{"$f":"N8","v":112},{"$f":"COUNTIF(L103:L134,AI8)","v":4},{"$f":"AJ8/(AL4-AJ11)","v":0.12903225806451613},{"$f":"IF(AK8=0,0,(AK8*((LOG(AK8))/LOG(2))))","v":-0.38118662069508069},null,{"$f":"N8","v":112},{"$f":"COUNTIF(L135:L166,AN8)","v":4},{"$f":"AO8/(AQ4-AO11)","v":0.125},{"$f":"IF(AP8=0,0,(AP8*((LOG(AP8))/LOG(2))))","v":-0.375},null,{"$f":"N8","v":112},{"$f":"COUNTIF(L167:L198,AS8)","v":1},{"$f":"AT8/(AV4-AT11)","v":3.3333333333333333E-2},{"$f":"IF(AU8=0,0,(AU8*((LOG(AU8))/LOG(2))))","v":-0.16356301985361729}]
[12,240,13,245,24,253,null,null,null,null,0,112,null,121,{"$f":"COUNTIF($L$7:$L$500,N9)","v":3},{"$f":"O9/$Q$4","v":1.5625E-2},{"$f":"IF(P9=0,0,(P9*((LOG(P9))/LOG(2))))","v":-9.375E-2},null,null,{"$f":"N9","v":121},{"$f":"COUNTIF(L7:L38,T9)","v":1},{"$f":"U9/(W4-U11)","v":3.125E-2},{"$f":"IF(V9=0,0,(V9*((LOG(V9))/LOG(2))))","v":-0.15625},null,{"$f":"N9","v":121},{"$f":"COUNTIF(L39:L70,Y9)","v":0},{"$f":"Z9/(AB4-Z11)","v":0},{"$f":"IF(AA9=0,0,(AA9*((LOG(AA9))/LOG(2))))","v":0},null,{"$f":"N9","v":121},{"$f":"COUNTIF(L71:L102,AD9)","v":0},{"$f":"AE9/(AG4-AE11)","v":0},{"$f":"IF(AF9=0,0,(AF9*((LOG(AF9))/LOG(2))))","v":0},null,{"$f":"N9","v":121},{"$f":"COUNTIF(L103:L134,AI9)","v":1},{"$f":"AJ9/(AL4-AJ11)","v":3.2258064516129031E-2},{"$f":"IF(AK9=0,0,(AK9*((LOG(AK9))/LOG(2))))","v":-0.15981278420602821},null,{"$f":"N9","v":121},{"$f":"COUNTIF(L135:L166,AN9)","v":1},{"$f":"AO9/(AQ4-AO11)","v":3.125E-2},{"$f":"IF(AP9=0,0,(AP9*((LOG(AP9))/LOG(2))))","v":-0.15625},null,{"$f":"N9","v":121},{"$f":"COUNTIF(L167:L198,AS9)","v":0},{"$f":"AT9/(AV4-AT11)","v":0},{"$f":"IF(AU9=0,0,(AU9*((LOG(AU9))/LOG(2))))","v":0}]
[12,359,13,364,24,376,null,null,null,null,0,112,null,122,{"$f":"COUNTIF($L$7:$L$500,N10)","v":2},{"$f":"O10/$Q$4","v":1.0416666666666666E-2},{"$f":"IF(P10=0,0,(P10*((LOG(P10))/LOG(2))))","v":-6.8593359382512042E-2},null,null,{"$f":"N10","v":122},{"$f":"COUNTIF(L7:L38,T10)","v":0},{"$f":"U10/(W4-U11)","v":0},{"$f":"IF(V10=0,0,(V10*((LOG(V10))/LOG(2))))","v":0},null,{"$f":"N10","v":122},{"$f":"COUNTIF(L39:L70,Y10)","v":1},{"$f":"Z10/(AB4-Z11)","v":3.2258064516129031E-2},{"$f":"IF(AA10=0,0,(AA10*((LOG(AA10))/LOG(2))))","v":-0.15981278420602821},null,{"$f":"N10","v":122},{"$f":"COUNTIF(L71:L102,AD10)","v":1},{"$f":"AE10/(AG4-AE11)","v":3.125E-2},{"$f":"IF(AF10=0,0,(AF10*((LOG(AF10))/LOG(2))))","v":-0.15625},null,{"$f":"N10","v":122},{"$f":"COUNTIF(L103:L134,AI10)","v":0},{"$f":"AJ10/(AL4-AJ11)","v":0},{"$f":"IF(AK10=0,0,(AK10*((LOG(AK10))/LOG(2))))","v":0},null,{"$f":"N10","v":122},{"$f":"COUNTIF(L135:L166,AN10)","v":0},{"$f":"AO10/(AQ4-AO11)","v":0},{"$f":"IF(AP10=0,0,(AP10*((LOG(AP10))/LOG(2))))","v":0},null,{"$f":"N10","v":122},{"$f":"COUNTIF(L167:L198,AS10)","v":0},{"$f":"AT10/(AV4-AT11)","v":0},{"$f":"IF(AU10=0,0,(AU10*((LOG(AU10))/LOG(2))))","v":0}]
[12,471,13,477,13,482,null,null,null,null,0,111,null,211,{"$f":"COUNTIF($L$7:$L$500,N11)","v":4},{"$f":"O11/$Q$4","v":2.0833333333333332E-2},{"$f":"IF(P11=0,0,(P11*((LOG(P11))/LOG(2))))","v":-0.11635338543169074},null,null,{"$f":"N11","v":211},{"$f":"COUNTIF(L7:L38,T11)","v":0},null,null,null,{"$f":"N11","v":211},{"$f":"COUNTIF(L39:L70,Y11)","v":1},null,null,null,{"$f":"N11","v":211},{"$f":"COUNTIF(L71:L102,AD11)","v":0},null,null,null,{"$f":"N11","v":211},{"$f":"COUNTIF(L103:L134,AI11)","v":1},null,null,null,{"$f":"N11","v":211},{"$f":"COUNTIF(L135:L166,AN11)","v":0},null,null,null,{"$f":"N11","v":211},{"$f":"COUNTIF(L167:L198,AS11)","v":2}]
[12,663,13,667,24,674,null,null,null,null,0,112,null,212,{"$f":"COUNTIF($L$7:$L$500,N12)","v":12},{"$f":"O12/$Q$4","v":6.25E-2},{"$f":"IF(P12=0,0,(P12*((LOG(P12))/LOG(2))))","v":-0.25},null,null,{"$f":"N12","v":212},{"$f":"COUNTIF(L7:L38,T12)","v":0},{"$f":"U12/(W4-U11)","v":0},{"$f":"IF(V12=0,0,(V12*((LOG(V12))/LOG(2))))","v":0},null,{"$f":"N12","v":212},{"$f":"COUNTIF(L39:L70,Y12)","v":0},{"$f":"Z12/(AB4-Z11)","v":0},{"$f":"IF(AA12=0,0,(AA12*((LOG(AA12))/LOG(2))))","v":0},null,{"$f":"N12","v":212},{"$f":"COUNTIF(L71:L102,AD12)","v":1},{"$f":"AE12/(AG4-AE11)","v":3.125E-2},{"$f":"IF(AF12=0,0,(AF12*((LOG(AF12))/LOG(2))))","v":-0.15625},null,{"$f":"N12","v":212},{"$f":"COUNTIF(L103:L134,AI12)","v":2},{"$f":"AJ12/(AL4-AJ11)","v":6.4516129032258063E-2},{"$f":"IF(AK12=0,0,(AK12*((LOG(AK12))/LOG(2))))","v":-0.25510943937979835},null,{"$f":"N12","v":212},{"$f":"COUNTIF(L135:L166,AN12)","v":3},{"$f":"AO12/(AQ4-AO11)","v":9.375E-2},{"$f":"IF(AP12=0,0,(AP12*((LOG(AP12))/LOG(2))))","v":-0.32015976555739156},null,{"$f":"N12","v":212},{"$f":"COUNTIF(L167:L198,AS12)","v":6},{"$f":"AT12/(AV4-AT11)","v":0.2},{"$f":"IF(AU12=0,0,(AU12*((LOG(AU12))/LOG(2))))","v":-0.46438561897747244}]
[12,775,13,783,24,791,null,null,null,null,0,112,null,221,{"$f":"COUNTIF($L$7:$L$500,N13)","v":5},{"$f":"O13/$Q$4","v":2.6041666666666668E-2},{"$f":"IF(P13=0,0,(P13*((LOG(P13))/LOG(2))))","v":-0.13705818765192171},null,null,{"$f":"N13","v":221},{"$f":"COUNTIF(L7:L38,T13)","v":0},{"$f":"U13/(W4-U11)","v":0},{"$f":"IF(V13=0,0,(V13*((LOG(V13))/LOG(2))))","v":0},null,{"$f":"N13","v":221},{"$f":"COUNTIF(L39:L70,Y13)","v":0},{"$f":"Z13/(AB4-Z11)","v":0},{"$f":"IF(AA13=0,0,(AA13*((LOG(AA13))/LOG(2))))","v":0},null,{"$f":"N13","v":221},{"$f":"COUNTIF(L71:L102,AD13)","v":0},{"$f":"AE13/(AG4-AE11)","v":0},{"$f":"IF(AF13=0,0,(AF13*((LOG(AF13))/LOG(2))))","v":0},null,{"$f":"N13","v":221},{"$f":"COUNTIF(L103:L134,AI13)","v":1},{"$f":"AJ13/(AL4-AJ11)","v":3.2258064516129031E-2},{"$f":"IF(AK13=0,0,(AK13*((LOG(AK13))/LOG(2))))","v":-0.15981278420602821},null,{"$f":"N13","v":221},{"$f":"COUNTIF(L135:L166,AN13)","v":1},{"$f":"AO13/(AQ4-AO11)","v":3.125E-2},{"$f":"IF(AP13=0,0,(AP13*((LOG(AP13))/LOG(2))))","v":-0.15625},null,{"$f":"N13","v":221},{"$f":"COUNTIF(L167:L198,AS13)","v":3},{"$f":"AT13/(AV4-AT11)","v":0.1},{"$f":"IF(AU13=0,0,(AU13*((LOG(AU13))/LOG(2))))","v":-0.33219280948873625}]
[12,891,13,897,24,908,null,null,null,null,0,112,null,222,{"$f":"COUNTIF($L$7:$L$500,N14)","v":21},{"$f":"O14/$Q$4","v":0.109375},{"$f":"IF(P14=0,0,(P14*((LOG(P14))/LOG(2))))","v":-0.34919555539994956},null,null,{"$f":"N14","v":222},{"$f":"COUNTIF(L7:L38,T14)","v":3},{"$f":"U14/(W4-U11)","v":9.375E-2},{"$f":"IF(V14=0,0,(V14*((LOG(V14))/LOG(2))))","v":-0.32015976555739156},null,{"$f":"N14","v":222},{"$f":"COUNTIF(L39:L70,Y14)","v":4},{"$f":"Z14/(AB4-Z11)","v":0.12903225806451613},{"$f":"IF(AA14=0,0,(AA14*((LOG(AA14))/LOG(2))))","v":-0.38118662069508069},null,{"$f":"N14","v":222},{"$f":"COUNTIF(L71:L102,AD14)","v":3},{"$f":"AE14/(AG4-AE11)","v":9.375E-2},{"$f":"IF(AF14=0,0,(AF14*((LOG(AF14))/LOG(2))))","v":-0.32015976555739156},null,{"$f":"N14","v":222},{"$f":"COUNTIF(L103:L134,AI14)","v":3},{"$f":"AJ14/(AL4-AJ11)","v":9.6774193548387094E-2},{"$f":"IF(AK14=0,0,(AK14*((LOG(AK14))/LOG(2))))","v":-0.32605488480635986},null,{"$f":"N14","v":222},{"$f":"COUNTIF(L135:L166,AN14)","v":7},{"$f":"AO14/(AQ4-AO11)","v":0.21875},{"$f":"IF(AP14=0,0,(AP14*((LOG(AP14))/LOG(2))))","v":-0.47964111079989907},null,{"$f":"N14","v":222},{"$f":"COUNTIF(L167:L198,AS14)","v":1},{"$f":"AT14/(AV4-AT11)","v":3.3333333333333333E-2},{"$f":"IF(AU14=0,0,(AU14*((LOG(AU14))/LOG(2))))","v":-0.16356301985361729}]
[12,1005,13,1014,24,1023,null,null,null,null,0,112,null,null,null,{"$f":"SUM(P7:P14)","v":0.99999999999999989},{"$f":"-SUM(Q7:Q14)","v":2.0440025695902442},null,null,null,null,{"$f":"SUM(V7:V14)","v":1},{"$f":"-SUM(W7:W14)","v":1.1626878900165245},null,null,null,{"$f":"SUM(AA7:AA14)","v":1},{"$f":"-SUM(AB7:AB14)","v":1.5781606091243574},null,null,null,{"$f":"SUM(AF7:AF14)","v":1},{"$f":"-SUM(AG7:AG14)","v":1.6622301466508207},null,null,null,{"$f":"SUM(AK7:AK14)","v":0.99999999999999989},{"$f":"-SUM(AL7:AL14)","v":1.6898914910349163},null,null,null,{"$f":"SUM(AP7:AP14)","v":1},{"$f":"-SUM(AQ7:AQ14)","v":1.9873008763572906},null,null,null,{"$f":"SUM(AU7:AU14)","v":1},{"$f":"-SUM(AV7:AV14)","v":1.5410477535445677}]
[12,1124,13,1130,24,1137,null,null,null,null,0,112,null,null,null,"U=",{"$f":"Q15/(LOG(Q4)/LOG(2))","v":0.26948090638495659},null,null,null,null,"U1=",{"$f":"W15/(LOG(W4)/LOG(2))","v":0.23253757800330491},null,null,null,"U2=",{"$f":"AB15/(LOG(AB4)/LOG(2))","v":0.31563212182487149},null,null,null,"U3=",{"$f":"AG15/(LOG(AG4)/LOG(2))","v":0.33244602933016415},null,null,null,"U4=",{"$f":"AL15/(LOG(AL4)/LOG(2))","v":0.33797829820698327},null,null,null,"U5=",{"$f":"AQ15/(LOG(AQ4)/LOG(2))","v":0.3974601752714581},null,null,null,"U6=",{"$f":"AV15/(LOG(AV4)/LOG(2))","v":0.30820955070891354}]
[12,1236,13,1246,24,1253,null,null,null,null,0,112]
[12,1352,13,1357,24,1365,null,null,null,null,0,112]
[12,1462,13,1467,13,1472,null,null,null,null,0,111,null,"Total Target Seq"]
[12,1571,13,1577,24,1588,null,null,null,null,0,112,null,{"$f":"COUNTIF(L7:L198,G3)","v":4},null,32,32,32,32,32,32]
[12,1686,13,1693,24,1701,null,null,null,null,0,112,null,null,null,"% of reinforcement given in 6 equal intervals based on number of trials "]
[12,1801,13,1806,24,1821,null,null,null,null,0,112,null,null,null,"%_1","%_2","%_3","%_4","%_5","%_6"]
[12,1917,13,1923,24,1933,null,null,null,null,0,112,null,null,"target sequence",{"$f":"$G$3","v":211},{"$f":"$G$3","v":211},{"$f":"$G$3","v":211},{"$f":"$G$3","v":211},{"$f":"$G$3","v":211},{"$f":"$G$3","v":211}]
[12,2033,13,2038,24,2052,null,null,null,null,0,112,null,null,"total reinforcement",{"$f":"U11","v":0},{"$f":"Z11","v":1},{"$f":"AE11","v":0},{"$f":"AJ11","v":1},{"$f":"AO11","v":0},{"$f":"AT11","v":2}]
[21,2150,22,2171,24,2177,null,null,null,null,0,222,null,null,"% target"]
[12,2335,24,2343,13,2359,null,null,null,null,0,121,null,null,"CCRF"]
[12,2461,13,2468,24,2476,null,null,null,null,0,112,null,null,"% CCRf"]
[12,2577,13,2582,24,2590,null,null,null,null,0,112,null,null,"average response rate",{"$f":"F38/P20","v":117.34375},{"$f":"(F70-F38)/Q20","v":121.65625},{"$f":"(F102-F70)/R20","v":121.375},{"$f":"(F134-F102)/S20","v":124.1875},{"$f":"(F166-F134)/T20","v":129.125},{"$f":"(F198-F166)/U20","v":133.34375}]
[21,2686,22,2690,24,2705,null,null,null,null,0,222]
[12,2805,13,2811,24,2820,null,null,null,null,0,112]
[12,2918,13,2924,24,2935,null,null,null,null,0,112]
[12,3029,13,3037,13,3042,null,null,null,null,0,111]
[12,3141,13,3147,24,3160,null,null,null,null,0,112]
[12,3263,13,3274,24,3282,null,null,null,null,0,112]
[12,3379,13,3386,24,3394,null,null,null,null,0,112]
[12,3504,13,3508,24,3516,null,null,null,null,0,112]
[12,3624,13,3632,13,3641,null,null,null,null,0,111]
[21,3738,22,3748,24,3755,null,null,null,null,0,222]
[12,3848,13,3860,24,3868,null,null,null,null,0,112]
[12,3969,13,3974,13,3992,null,null,null,null,0,111]
[12,4100,13,4106,24,4117,null,null,null,null,0,112]
[12,4217,13,4227,24,4240,null,null,null,null,0,112]
[12,4338,13,4343,13,4351,null,null,null,null,0,111]
[12,4450,13,4456,24,4470,null,null,null,null,0,112]
[12,4567,13,4576,24,4589,null,null,null,null,0,112]
[12,4686,13,4692,24,4707,null,null,null,null,0,112]
[12,4813,13,4818,24,4827,null,null,null,null,0,112]
[12,4924,13,4930,13,4937,null,null,null,null,0,111]
[12,5036,13,5049,13,5064,null,null,null,null,0,111]
[12,5163,13,5168,24,5177,null,null,null,null,0,112]
[21,5270,22,5280,24,5295,null,null,null,null,0,222]
[21,5391,22,5401,24,5407,null,null,null,null,0,222]
[12,5506,13,5511,24,5520,null,null,null,null,0,112]
[12,5620,13,5625,13,5630,null,null,null,null,0,111]
[21,5723,11,5732,11,5738,null,null,null,null,0,211]
[12,5982,13,5988,13,5993,null,null,null,null,0,111]
[12,6110,24,6125,24,6134,null,null,null,null,0,122]
[12,6234,13,6239,24,6252,null,null,null,null,0,112]
[21,6350,22,6355,24,6363,null,null,null,null,0,222]
[12,6459,13,6465,13,6472,null,null,null,null,0,111]
[12,6578,13,6583,24,6591,null,null,null,null,0,112]
[12,6690,13,6695,13,6702,null,null,null,null,0,111]
[12,6800,13,6806,13,6813,null,null,null,null,0,111]
[21,6914,22,6927,24,6933,null,null,null,null,0,222]
[12,7031,13,7035,13,7042,null,null,null,null,0,111]
[12,7147,13,7159,13,7167,null,null,null,null,0,111]
[12,7268,13,7274,13,7287,null,null,null,null,0,111]
[12,7392,13,7397,13,7404,null,null,null,null,0,111]
[12,7513,13,7519,13,7525,null,null,null,null,0,111]
[12,7630,13,7635,13,7648,null,null,null,null,0,111]
[12,7747,13,7754,13,7761,null,null,null,null,0,111]
[12,7860,13,7867,24,7878,null,null,null,null,0,112]
[12,7980,13,7987,24,7996,null,null,null,null,0,112]
[21,8098,22,8106,24,8112,null,null,null,null,0,222]
[21,8209,22,8223,24,8230,null,null,null,null,0,222]
[12,8339,13,8352,24,8368,null,null,null,null,0,112]
[12,8476,13,8482,24,8496,null,null,null,null,0,112]
[12,8593,13,8599,13,8605,null,null,null,null,0,111]
[12,8706,13,8716,24,8726,null,null,null,null,0,112]
[12,8824,13,8830,13,8841,null,null,null,null,0,111]
[12,8943,13,8950,13,8965,null,null,null,null,0,111]
[12,9075,13,9081,24,9091,null,null,null,null,0,112]
[12,9192,13,9198,13,9205,null,null,null,null,0,111]
[12,9308,13,9316,13,9322,null,null,null,null,0,111]
[12,9426,13,9432,24,9443,null,null,null,null,0,112]
[12,9552,13,9557,24,9566,null,null,null,null,0,112]
[12,9671,13,9676,13,9685,null,null,null,null,0,111]
[12,9817,13,9823,13,9836,null,null,null,null,0,111]
[12,9935,13,9940,13,9945,null,null,null,null,0,111]
[12,10037,13,10052,24,10062,null,null,null,null,0,112]
[21,10166,22,10176,24,10183,null,null,null,null,0,222]
[12,10284,13,10289,13,10295,null,null,null,null,0,111]
[21,10396,11,10417,22,10428,null,null,null,null,0,212]
[12,10544,24,10553,24,10561,null,null,null,null,0,122]
[12,10668,13,10679,24,10691,null,null,null,null,0,112]
[12,10790,13,10797,13,10803,null,null,null,null,0,111]
[12,10909,13,10915,13,10922,null,null,null,null,0,111]
[12,11026,13,11032,13,11039,null,null,null,null,0,111]
[12,11168,13,11174,13,11181,null,null,null,null,0,111]
[12,11284,13,11291,13,11298,null,null,null,null,0,111]
[12,11400,13,11406,24,11415,null,null,null,null,0,112]
[12,11519,13,11526,13,11532,null,null,null,null,0,111]
[12,11635,13,11640,13,11649,null,null,null,null,0,111]
[12,11748,13,11750,13,11757,null,null,null,null,0,111]
[12,11868,13,11877,13,11885,null,null,null,null,0,111]
[12,11985,13,11990,24,12013,null,null,null,null,0,112]
[21,12115,22,12151,24,12183,null,null,null,null,0,222]
[12,12278,13,12282,13,12288,null,null,null,null,0,111]
[12,12385,13,12391,13,12397,null,null,null,null,0,111]
[12,12494,13,12500,13,12506,null,null,null,null,0,111]
[12,12613,13,12619,13,12626,null,null,null,null,0,111]
[12,12726,13,12734,13,12740,null,null,null,null,0,111]
[12,12847,13,12853,13,12861,null,null,null,null,0,111]
[12,12970,13,12976,13,12984,null,null,null,null,0,111]
[12,13099,13,13107,13,13116,null,null,null,null,0,111]
[12,13212,13,13218,13,13225,null,null,null,null,0,111]
[21,13328,11,13340,11,13345,null,null,null,null,0,211]
[12,13554,13,13561,24,13570,null,null,null,null,0,112]
[12,13666,13,13674,13,13679,null,null,null,null,0,111]
[21,13779,22,13788,24,13795,null,null,null,null,0,222]
[12,13893,13,13898,13,13904,null,null,null,null,0,111]
[21,14005,22,14030,13,14047,null,null,null,null,0,221]
[21,14146,11,14176,22,14188,null,null,null,null,0,212]
[12,14287,24,14299,13,14319,null,null,null,null,0,121]
[12,14420,13,14426,13,14432,null,null,null,null,0,111]
[12,14546,13,14550,24,14557,null,null,null,null,0,112]
[21,14654,11,14680,22,14690,null,null,null,null,0,212]
[12,14790,13,14795,13,14802,null,null,null,null,0,111]
[12,14902,13,14909,13,14916,null,null,null,null,0,111]
[12,15019,13,15024,13,15031,null,null,null,null,0,111]
[12,15135,13,15153,24,15164,null,null,null,null,0,112]
[12,15267,13,15272,13,15282,null,null,null,null,0,111]
[21,15382,22,15388,24,15399,null,null,null,null,0,222]
[12,15494,13,15499,13,15506,null,null,null,null,0,111]
[21,15599,22,15610,13,15622,null,null,null,null,0,221]
[12,15863,13,15867,24,15879,null,null,null,null,0,112]
[12,15989,13,15995,13,16001,null,null,null,null,0,111]
[12,16103,13,16108,13,16115,null,null,null,null,0,111]
[12,16227,13,16232,13,16239,null,null,null,null,0,111]
[12,16341,13,16347,13,16354,null,null,null,null,0,111]
[12,16452,13,16458,24,16469,null,null,null,null,0,112]
[21,16567,22,16574,24,16588,null,null,null,null,0,222]
[12,16774,13,16780,24,16789,null,null,null,null,0,112]
[12,16926,13,16935,13,16942,null,null,null,null,0,111]
[12,17043,13,17049,13,17057,null,null,null,null,0,111]
[12,17159,13,17165,13,17172,null,null,null,null,0,111]
[12,17274,24,17284,13,17305,null,null,null,null,0,121]
[12,17410,13,17414,24,17427,null,null,null,null,0,112]
[21,17524,22,17542,24,17549,null,null,null,null,0,222]
[21,17649,22,17657,24,17666,null,null,null,null,0,222]
[21,17759,22,17771,24,17779,null,null,null,null,0,222]
[21,17877,11,17890,22,17898,null,null,null,null,0,212]
[21,17997,11,18021,22,18029,null,null,null,null,0,212]
[12,18127,13,18133,13,18139,null,null,null,null,0,111]
[21,18240,11,18257,22,18267,null,null,null,null,0,212]
[21,18365,22,18380,24,18386,null,null,null,null,0,222]
[21,18484,22,18491,24,18498,null,null,null,null,0,222]
[21,18597,22,18603,24,18610,null,null,null,null,0,222]
[12,18705,13,18711,13,18717,null,null,null,null,0,111]
[12,18824,13,18830,13,18837,null,null,null,null,0,111]
[12,18939,13,18945,13,18950,null,null,null,null,0,111]
[12,19048,13,19054,13,19070,null,null,null,null,0,111]
[12,19172,13,19180,13,19187,null,null,null,null,0,111]
[12,19317,13,19324,13,19331,null,null,null,null,0,111]
[12,19510,13,19516,13,19522,null,null,null,null,0,111]
[12,19627,13,19633,13,19638,null,null,null,null,0,111]
[12,19740,13,19746,13,19755,null,null,null,null,0,111]
[12,19858,13,19865,13,19870,null,null,null,null,0,111]
[12,19976,13,19983,13,19989,null,null,null,null,0,111]
[12,20093,13,20100,13,20111,null,null,null,null,0,111]
[21,20210,11,20240,22,20257,null,null,null,null,0,212]
[21,20363,11,20379,11,20386,null,null,null,null,0,211]
[12,20580,13,20588,24,20599,null,null,null,null,0,112]
[12,20714,13,20721,13,20734,null,null,null,null,0,111]
[12,20860,13,20870,13,20877,null,null,null,null,0,111]
[12,20978,13,20986,13,20992,null,null,null,null,0,111]
[12,21094,13,21100,13,21108,null,null,null,null,0,111]
[12,21225,13,21232,13,21239,null,null,null,null,0,111]
[21,21334,11,21348,22,21357,null,null,null,null,0,212]
[21,21455,11,21480,22,21488,null,null,null,null,0,212]
[12,21604,13,21610,13,21622,null,null,null,null,0,111]
[21,21720,11,21741,22,21750,null,null,null,null,0,212]
[21,21852,22,21859,13,21876,null,null,null,null,0,221]
[12,22130,13,22137,13,22144,null,null,null,null,0,111]
[12,22262,13,22269,13,22276,null,null,null,null,0,111]
[21,22375,11,22395,22,22405,null,null,null,null,0,212]
[21,22502,22,22511,24,22520,null,null,null,null,0,222]
[12,22617,13,22624,13,22630,null,null,null,null,0,111]
[12,22737,13,22745,13,22752,null,null,null,null,0,111]
[12,22851,13,22861,13,22869,null,null,null,null,0,111]
[12,22964,13,22971,13,22978,null,null,null,null,0,111]
[21,23077,11,23097,11,23103,null,null,null,null,0,211]
[12,23276,13,23282,13,23296,null,null,null,null,0,111]
[12,23395,13,23407,13,23416,null,null,null,null,0,111]
[21,23513,22,23517,13,23531,null,null,null,null,0,221]
[21,23629,11,23652,22,23663,null,null,null,null,0,212]
[21,23760,22,23767,13,23789,null,null,null,null,0,221]
[12,23890,13,23898,13,23905,null,null,null,null,0,111]

{"sheet":"!M92592D.ust","index":5,"n_rows":184,"n_cols":48,"rows_kept":184,"cut":false,"hidden":false,"merged":[[4,39,4,42],[5,39,5,40],[4,44,4,47],[5,44,5,45],[4,24,4,27],[5,24,5,25],[4,29,4,32],[5,29,5,30],[4,34,4,37],[5,34,5,35],[1,1,1,2],[5,13,5,14],[18,13,18,14],[19,13,19,14],[4,19,4,22],[5,19,5,20]]}
["Report for:!M92592D.ust"]
["Date:","<date>"]
["Hen:","<hen>",null,null,null,"Correct Sequence",{"$f":"Start!J2","v":211},null,null,null,null,null,null,null,null,"Total Sequences in Data",{"$f":"4994-COUNTBLANK(L7:L5000)","v":178},null,null,null,null,"Total Sequences in Block Data",{"$f":"COUNTA(L7:L36)","v":30},null,null,null,"Total Sequences in Block Data",{"$f":"COUNTA(L37:L65)","v":29},null,null,null,"Total Sequences in Block Data",{"$f":"COUNTA(L66:L95)","v":30},null,null,null,"Total Sequences in Block Data",{"$f":"COUNTA(L96:L125)","v":30},null,null,null,"Total Sequences in Block Data",{"$f":"COUNTA(L126:L154)","v":29},null,null,null,"Total Sequences in Block Data",{"$f":"COUNTA(L155:L184)","v":30}]
[null,null,null,null,null,null,null,null,null,null,null,null,null,null,null,"Total Sequences in Summary",{"$f":"SUM(O7:O14)","v":178},null,null,null,null,"Total Sequences in Block Summary",{"$f":"SUM(U7:U14)","v":30},null,null,null,"Total Sequences in Block Summary",{"$f":"SUM(Z7:Z14)","v":29},null,null,null,"Total Sequences in Block Summary",{"$f":"SUM(AE7:AE14)","v":30},null,null,null,"Total Sequences in Block Summary",{"$f":"SUM(AJ7:AJ14)","v":30},null,null,null,"Total Sequences in Block Summary",{"$f":"SUM(AO7:AO14)","v":29},null,null,null,"Total Sequences in Block Summary",{"$f":"SUM(AT7:AT14)","v":30}]
[null,null,null,null,null,null,null,null,null,null,null,null,null,null,null,null,null,null,null,"Block 1",null,null,null,null,"Block 2",null,null,null,null,"Block 3",null,null,null,null,"Block 4",null,null,null,null,"Block 5",null,null,null,null,"Block 6"]
["Sequence\nComponent\n1","Time\n1","Sequence\nComponent\n2","Time\n2","Sequence\nComponent\n3","Time\n3","Sequence\nComponent\n4","Time\n4","Sequence\nComponent\n5","Time\n5","Correct?\n0=No 1=Yes","Sequence",null,"Frequency",null,"Relative Frequency","Variability",null,null,"Frequency",null,"Relative Frequency","Variability",null,"Frequency",null,"Relative Frequency","Variability",null,"Frequency",null,"Relative Frequency","Variability",null,"Frequency",null,"Relative Frequency","Variability",null,"Frequency",null,"Relative Frequency","Variability",null,"Frequency",null,"Relative Frequency","Variability"]
[12,13,24,20,24,27,null,null,null,null,0,122,null,111,{"$f":"COUNTIF($L$7:$L$500,N7)","v":64},{"$f":"O7/$Q$4","v":0.3595505617977528},{"$f":"IF(P7=0,0,(P7*((LOG(P7))/LOG(2))))","v":-0.53060078416769352},null,null,{"$f":"N7","v":111},{"$f":"COUNTIF(L7:L36,T7)","v":9},{"$f":"U7/(W4-U11)","v":0.31034482758620691},{"$f":"IF(V7=0,0,(V7*((LOG(V7))/LOG(2))))","v":-0.52387944631611505},null,{"$f":"N7","v":111},{"$f":"COUNTIF(L37:L65,Y7)","v":12},{"$f":"Z7/(AB4-Z11)","v":0.42857142857142855},{"$f":"IF(AA7=0,0,(AA7*((LOG(AA7))/LOG(2))))","v":-0.52388246628704915},null,{"$f":"N7","v":111},{"$f":"COUNTIF(L66:L95,AD7)","v":11},{"$f":"AE7/(AG4-AE11)","v":0.36666666666666664},{"$f":"IF(AF7=0,0,(AF7*((LOG(AF7))/LOG(2))))","v":-0.53073495822278116},null,{"$f":"N7","v":111},{"$f":"COUNTIF(L96:L125,AI7)","v":10},{"$f":"AJ7/(AL4-AJ11)","v":0.38461538461538464},{"$f":"IF(AK7=0,0,(AK7*((LOG(AK7))/LOG(2))))","v":-0.53019677817451139},null,{"$f":"N7","v":111},{"$f":"COUNTIF(L126:L154,AN7)","v":10},{"$f":"AO7/(AQ4-AO11)","v":0.41666666666666669},{"$f":"IF(AP7=0,0,(AP7*((LOG(AP7))/LOG(2))))","v":-0.52626433576408083},null,{"$f":"N7","v":111},{"$f":"COUNTIF(L155:L184,AS7)","v":12},{"$f":"AT7/(AV4-AT11)","v":0.63157894736842102},{"$f":"IF(AU7=0,0,(AU7*((LOG(AU7))/LOG(2))))","v":-0.41871474487732385}]
[12,127,13,133,24,140,null,null,null,null,0,112,null,112,{"$f":"COUNTIF($L$7:$L$500,N8)","v":30},{"$f":"O8/$Q$4","v":0.16853932584269662},{"$f":"IF(P8=0,0,(P8*((LOG(P8))/LOG(2))))","v":-0.43295103966705833},null,null,{"$f":"N8","v":112},{"$f":"COUNTIF(L7:L36,T8)","v":7},{"$f":"U8/(W4-U11)","v":0.2413793103448276},{"$f":"IF(V8=0,0,(V8*((LOG(V8))/LOG(2))))","v":-0.49497870729275095},null,{"$f":"N8","v":112},{"$f":"COUNTIF(L37:L65,Y8)","v":7},{"$f":"Z8/(AB4-Z11)","v":0.25},{"$f":"IF(AA8=0,0,(AA8*((LOG(AA8))/LOG(2))))","v":-0.5},null,{"$f":"N8","v":112},{"$f":"COUNTIF(L66:L95,AD8)","v":4},{"$f":"AE8/(AG4-AE11)","v":0.13333333333333333},{"$f":"IF(AF8=0,0,(AF8*((LOG(AF8))/LOG(2))))","v":-0.3875854127478025},null,{"$f":"N8","v":112},{"$f":"COUNTIF(L96:L125,AI8)","v":4},{"$f":"AJ8/(AL4-AJ11)","v":0.15384615384615385},{"$f":"IF(AK8=0,0,(AK8*((LOG(AK8))/LOG(2))))","v":-0.4154522643293988},null,{"$f":"N8","v":112},{"$f":"COUNTIF(L126:L154,AN8)","v":4},{"$f":"AO8/(AQ4-AO11)","v":0.16666666666666666},{"$f":"IF(AP8=0,0,(AP8*((LOG(AP8))/LOG(2))))","v":-0.43082708345352599},null,{"$f":"N8","v":112},{"$f":"COUNTIF(L155:L184,AS8)","v":4},{"$f":"AT8/(AV4-AT11)","v":0.21052631578947367},{"$f":"IF(AU8=0,0,(AU8*((LOG(AU8))/LOG(2))))","v":-0.47324789756707064}]
[12,247,13,250,13,254,null,null,null,null,0,111,null,121,{"$f":"COUNTIF($L$7:$L$500,N9)","v":1},{"$f":"O9/$Q$4","v":5.6179775280898875E-3},{"$f":"IF(P9=0,0,(P9*((LOG(P9))/LOG(2))))","v":-4.1998502421159538E-2},null,null,{"$f":"N9","v":121},{"$f":"COUNTIF(L7:L36,T9)","v":0},{"$f":"U9/(W4-U11)","v":0},{"$f":"IF(V9=0,0,(V9*((LOG(V9))/LOG(2))))","v":0},null,{"$f":"N9","v":121},{"$f":"COUNTIF(L37:L65,Y9)","v":1},{"$f":"Z9/(AB4-Z11)","v":3.5714285714285712E-2},{"$f":"IF(AA9=0,0,(AA9*((LOG(AA9))/LOG(2))))","v":-0.17169124721634299},null,{"$f":"N9","v":121},{"$f":"COUNTIF(L66:L95,AD9)","v":0},{"$f":"AE9/(AG4-AE11)","v":0},{"$f":"IF(AF9=0,0,(AF9*((LOG(AF9))/LOG(2))))","v":0},null,{"$f":"N9","v":121},{"$f":"COUNTIF(L96:L125,AI9)","v":0},{"$f":"AJ9/(AL4-AJ11)","v":0},{"$f":"IF(AK9=0,0,(AK9*((LOG(AK9))/LOG(2))))","v":0},null,{"$f":"N9","v":121},{"$f":"COUNTIF(L126:L154,AN9)","v":0},{"$f":"AO9/(AQ4-AO11)","v":0},{"$f":"IF(AP9=0,0,(AP9*((LOG(AP9))/LOG(2))))","v":0},null,{"$f":"N9","v":121},{"$f":"COUNTIF(L155:L184,AS9)","v":0},{"$f":"AT9/(AV4-AT11)","v":0},{"$f":"IF(AU9=0,0,(AU9*((LOG(AU9))/LOG(2))))","v":0}]
[12,353,13,358,13,364,null,null,null,null,0,111,null,122,{"$f":"COUNTIF($L$7:$L$500,N10)","v":1},{"$f":"O10/$Q$4","v":5.6179775280898875E-3},{"$f":"IF(P10=0,0,(P10*((LOG(P10))/LOG(2))))","v":-4.1998502421159538E-2},null,null,{"$f":"N10","v":122},{"$f":"COUNTIF(L7:L36,T10)","v":1},{"$f":"U10/(W4-U11)","v":3.4482758620689655E-2},{"$f":"IF(V10=0,0,(V10*((LOG(V10))/LOG(2))))","v":-0.16751658603888178},null,{"$f":"N10","v":122},{"$f":"COUNTIF(L37:L65,Y10)","v":0},{"$f":"Z10/(AB4-Z11)","v":0},{"$f":"IF(AA10=0,0,(AA10*((LOG(AA10))/LOG(2))))","v":0},null,{"$f":"N10","v":122},{"$f":"COUNTIF(L66:L95,AD10)","v":0},{"$f":"AE10/(AG4-AE11)","v":0},{"$f":"IF(AF10=0,0,(AF10*((LOG(AF10))/LOG(2))))","v":0},null,{"$f":"N10","v":122},{"$f":"COUNTIF(L96:L125,AI10)","v":0},{"$f":"AJ10/(AL4-AJ11)","v":0},{"$f":"IF(AK10=0,0,(AK10*((LOG(AK10))/LOG(2))))","v":0},null,{"$f":"N10","v":122},{"$f":"COUNTIF(L126:L154,AN10)","v":0},{"$f":"AO10/(AQ4-AO11)","v":0},{"$f":"IF(AP10=0,0,(AP10*((LOG(AP10))/LOG(2))))","v":0},null,{"$f":"N10","v":122},{"$f":"COUNTIF(L155:L184,AS10)","v":0},{"$f":"AT10/(AV4-AT11)","v":0},{"$f":"IF(AU10=0,0,(AU10*((LOG(AU10))/LOG(2))))","v":0}]
[21,464,22,473,13,487,null,null,null,null,0,221,null,211,{"$f":"COUNTIF($L$7:$L$500,N11)","v":22},{"$f":"O11/$Q$4","v":0.12359550561797752},{"$f":"IF(P11=0,0,(P11*((LOG(P11))/LOG(2))))","v":-0.37280134759123718},null,null,{"$f":"N11","v":211},{"$f":"COUNTIF(L7:L36,T11)","v":1},null,null,null,{"$f":"N11","v":211},{"$f":"COUNTIF(L37:L65,Y11)","v":1},null,null,null,{"$f":"N11","v":211},{"$f":"COUNTIF(L66:L95,AD11)","v":0},null,null,null,{"$f":"N11","v":211},{"$f":"COUNTIF(L96:L125,AI11)","v":4},null,null,null,{"$f":"N11","v":211},{"$f":"COUNTIF(L126:L154,AN11)","v":5},null,null,null,{"$f":"N11","v":211},{"$f":"COUNTIF(L155:L184,AS11)","v":11}]
[12,661,13,666,13,675,null,null,null,null,0,111,null,212,{"$f":"COUNTIF($L$7:$L$500,N12)","v":18},{"$f":"O12/$Q$4","v":0.10112359550561797},{"$f":"IF(P12=0,0,(P12*((LOG(P12))/LOG(2))))","v":-0.33429523444625581},null,null,{"$f":"N12","v":212},{"$f":"COUNTIF(L7:L36,T12)","v":2},{"$f":"U12/(W4-U11)","v":6.8965517241379309E-2},{"$f":"IF(V12=0,0,(V12*((LOG(V12))/LOG(2))))","v":-0.26606765483638428},null,{"$f":"N12","v":212},{"$f":"COUNTIF(L37:L65,Y12)","v":4},{"$f":"Z12/(AB4-Z11)","v":0.14285714285714285},{"$f":"IF(AA12=0,0,(AA12*((LOG(AA12))/LOG(2))))","v":-0.40105070315108626},null,{"$f":"N12","v":212},{"$f":"COUNTIF(L66:L95,AD12)","v":5},{"$f":"AE12/(AG4-AE11)","v":0.16666666666666666},{"$f":"IF(AF12=0,0,(AF12*((LOG(AF12))/LOG(2))))","v":-0.43082708345352599},null,{"$f":"N12","v":212},{"$f":"COUNTIF(L96:L125,AI12)","v":5},{"$f":"AJ12/(AL4-AJ11)","v":0.19230769230769232},{"$f":"IF(AK12=0,0,(AK12*((LOG(AK12))/LOG(2))))","v":-0.45740608139494804},null,{"$f":"N12","v":212},{"$f":"COUNTIF(L126:L154,AN12)","v":1},{"$f":"AO12/(AQ4-AO11)","v":4.1666666666666664E-2},{"$f":"IF(AP12=0,0,(AP12*((LOG(AP12))/LOG(2))))","v":-0.19104010419671485},null,{"$f":"N12","v":212},{"$f":"COUNTIF(L155:L184,AS12)","v":1},{"$f":"AT12/(AV4-AT11)","v":5.2631578947368418E-2},{"$f":"IF(AU12=0,0,(AU12*((LOG(AU12))/LOG(2))))","v":-0.22357513228650452}]
[21,774,22,784,24,790,null,null,null,null,0,222,null,221,{"$f":"COUNTIF($L$7:$L$500,N13)","v":31},{"$f":"O13/$Q$4","v":0.17415730337078653},{"$f":"IF(P13=0,0,(P13*((LOG(P13))/LOG(2))))","v":-0.43914410526946746},null,null,{"$f":"N13","v":221},{"$f":"COUNTIF(L7:L36,T13)","v":5},{"$f":"U13/(W4-U11)","v":0.17241379310344829},{"$f":"IF(V13=0,0,(V13*((LOG(V13))/LOG(2))))","v":-0.43725050004141547},null,{"$f":"N13","v":221},{"$f":"COUNTIF(L37:L65,Y13)","v":2},{"$f":"Z13/(AB4-Z11)","v":7.1428571428571425E-2},{"$f":"IF(AA13=0,0,(AA13*((LOG(AA13))/LOG(2))))","v":-0.27195392300411453},null,{"$f":"N13","v":221},{"$f":"COUNTIF(L66:L95,AD13)","v":6},{"$f":"AE13/(AG4-AE11)","v":0.2},{"$f":"IF(AF13=0,0,(AF13*((LOG(AF13))/LOG(2))))","v":-0.46438561897747244},null,{"$f":"N13","v":221},{"$f":"COUNTIF(L96:L125,AI13)","v":7},{"$f":"AJ13/(AL4-AJ11)","v":0.26923076923076922},{"$f":"IF(AK13=0,0,(AK13*((LOG(AK13))/LOG(2))))","v":-0.50967667586863141},null,{"$f":"N13","v":221},{"$f":"COUNTIF(L126:L154,AN13)","v":9},{"$f":"AO13/(AQ4-AO11)","v":0.375},{"$f":"IF(AP13=0,0,(AP13*((LOG(AP13))/LOG(2))))","v":-0.53063906222956647},null,{"$f":"N13","v":221},{"$f":"COUNTIF(L155:L184,AS13)","v":2},{"$f":"AT13/(AV4-AT11)","v":0.10526315789473684},{"$f":"IF(AU13=0,0,(AU13*((LOG(AU13))/LOG(2))))","v":-0.34188710667827216}]
[12,925,13,932,13,936,null,null,null,null,0,111,null,222,{"$f":"COUNTIF($L$7:$L$500,N14)","v":11},{"$f":"O14/$Q$4","v":6.1797752808988762E-2},{"$f":"IF(P14=0,0,(P14*((LOG(P14))/LOG(2))))","v":-0.24819842660460731},null,null,{"$f":"N14","v":222},{"$f":"COUNTIF(L7:L36,T14)","v":5},{"$f":"U14/(W4-U11)","v":0.17241379310344829},{"$f":"IF(V14=0,0,(V14*((LOG(V14))/LOG(2))))","v":-0.43725050004141547},null,{"$f":"N14","v":222},{"$f":"COUNTIF(L37:L65,Y14)","v":2},{"$f":"Z14/(AB4-Z11)","v":7.1428571428571425E-2},{"$f":"IF(AA14=0,0,(AA14*((LOG(AA14))/LOG(2))))","v":-0.27195392300411453},null,{"$f":"N14","v":222},{"$f":"COUNTIF(L66:L95,AD14)","v":4},{"$f":"AE14/(AG4-AE11)","v":0.13333333333333333},{"$f":"IF(AF14=0,0,(AF14*((LOG(AF14))/LOG(2))))","v":-0.3875854127478025},null,{"$f":"N14","v":222},{"$f":"COUNTIF(L96:L125,AI14)","v":0},{"$f":"AJ14/(AL4-AJ11)","v":0},{"$f":"IF(AK14=0,0,(AK14*((LOG(AK14))/LOG(2))))","v":0},null,{"$f":"N14","v":222},{"$f":"COUNTIF(L126:L154,AN14)","v":0},{"$f":"AO14/(AQ4-AO11)","v":0},{"$f":"IF(AP14=0,0,(AP14*((LOG(AP14))/LOG(2))))","v":0},null,{"$f":"N14","v":222},{"$f":"COUNTIF(L155:L184,AS14)","v":0},{"$f":"AT14/(AV4-AT11)","v":0},{"$f":"IF(AU14=0,0,(AU14*((LOG(AU14))/LOG(2))))","v":0}]
[21,1036,11,1068,11,1081,null,null,null,null,0,211,null,null,null,{"$f":"SUM(P7:P14)","v":1},{"$f":"-SUM(Q7:Q14)","v":2.4419879425886384},null,null,null,null,{"$f":"SUM(V7:V14)","v":1},{"$f":"-SUM(W7:W14)","v":2.3269433945669631},null,null,null,{"$f":"SUM(AA7:AA14)","v":1},{"$f":"-SUM(AB7:AB14)","v":2.1405322626627075},null,null,null,{"$f":"SUM(AF7:AF14)","v":1},{"$f":"-SUM(AG7:AG14)","v":2.2011184861493844},null,null,null,{"$f":"SUM(AK7:AK14)","v":1},{"$f":"-SUM(AL7:AL14)","v":1.9127317997674895},null,null,null,{"$f":"SUM(AP7:AP14)","v":1},{"$f":"-SUM(AQ7:AQ14)","v":1.6787705856438881},null,null,null,{"$f":"SUM(AU7:AU14)","v":0.99999999999999989},{"$f":"-SUM(AV7:AV14)","v":1.457424881409171}]
[12,1199,13,1203,24,1217,null,null,null,null,0,112,null,null,null,"U=",{"$f":"Q15/(LOG(Q4)/LOG(2))","v":0.32665529946176258},null,null,null,null,"U1=",{"$f":"W15/(LOG(W4)/LOG(2))","v":0.47421953867271655},null,null,null,"U2=",{"$f":"AB15/(LOG(AB4)/LOG(2))","v":0.44062178604848506},null,null,null,"U3=",{"$f":"AG15/(LOG(AG4)/LOG(2))","v":0.4485770455365975},null,null,null,"U4=",{"$f":"AL15/(LOG(AL4)/LOG(2))","v":0.38980526720512415},null,null,null,"U5=",{"$f":"AQ15/(LOG(AQ4)/LOG(2))","v":0.3455696074825429},null,null,null,"U6=",{"$f":"AV15/(LOG(AV4)/LOG(2))","v":0.29701597233765742}]
[21,1332,11,1344,22,1353,null,null,null,null,0,212]
[12,1450,13,1457,24,1465,null,null,null,null,0,112]
[21,1560,22,1573,24,1579,null,null,null,null,0,222,null,"Total Target Seq"]
[12,1677,13,1684,24,1691,null,null,null,null,0,112,null,{"$f":"COUNTIF(L7:L184,G3)","v":22},null,30,29,30,30,29,30]
[21,1788,22,1790,13,1801,null,null,null,null,0,221,null,null,null,"% of reinforcement given in 6 equal intervals based on number of trials "]
[21,1896,22,1904,13,1930,null,null,null,null,0,221,null,null,null,"%_1","%_2","%_3","%_4","%_5","%_6"]
[21,2028,22,2032,13,2052,null,null,null,null,0,221,null,null,"target sequence",{"$f":"$G$3","v":211},{"$f":"$G$3","v":211},{"$f":"$G$3","v":211},{"$f":"$G$3","v":211},{"$f":"$G$3","v":211},{"$f":"$G$3","v":211}]
[21,2150,22,2160,13,2176,null,null,null,null,0,221,null,null,"total reinforcement",{"$f":"U11","v":1},{"$f":"Z11","v":1},{"$f":"AE11","v":0},{"$f":"AJ11","v":4},{"$f":"AO11","v":5},{"$f":"AT11","v":11}]
[21,2278,22,2286,24,2292,null,null,null,null,0,222,null,null,"% target"]
[21,2394,11,2408,22,2417,null,null,null,null,0,212,null,null,"CCRF"]
[12,2516,13,2522,24,2536,null,null,null,null,0,112,null,null,"% CCRf"]
[12,2631,13,2637,24,2644,null,null,null,null,0,112,null,null,"average response rate",{"$f":"F36/P20","v":118.06666666666666},{"$f":"(F65-F36)/Q20","v":132.89655172413794},{"$f":"(F95-F65)/R20","v":119.76666666666667},{"$f":"(F125-F95)/S20","v":137.63333333333333},{"$f":"(F154-F125)/T20","v":139.24137931034483},{"$f":"(F184-F154)/U20","v":158.80000000000001}]
[12,2744,13,2751,13,2758,null,null,null,null,0,111]
[12,2853,13,2859,13,2874,null,null,null,null,0,111]
[21,2972,22,2981,24,2989,null,null,null,null,0,222]
[12,3087,13,3092,13,3098,null,null,null,null,0,111]
[12,3197,13,3204,13,3211,null,null,null,null,0,111]
[12,3310,13,3315,24,3326,null,null,null,null,0,112]
[12,3423,13,3428,13,3435,null,null,null,null,0,111]
[21,3531,22,3536,24,3542,null,null,null,null,0,222]
[12,3643,13,3650,24,3663,null,null,null,null,0,112]
[12,3764,13,3769,13,3776,null,null,null,null,0,111]
[21,3874,11,3895,22,3911,null,null,null,null,0,212]
[21,4009,11,4035,22,4044,null,null,null,null,0,212]
[12,4142,13,4148,24,4161,null,null,null,null,0,112]
[12,4255,13,4262,13,4268,null,null,null,null,0,111]
[12,4368,13,4376,13,4382,null,null,null,null,0,111]
[12,4484,13,4495,13,4503,null,null,null,null,0,111]
[12,4603,13,4613,13,4619,null,null,null,null,0,111]
[12,4723,13,4730,13,4737,null,null,null,null,0,111]
[21,4842,22,4852,13,4882,null,null,null,null,0,221]
[12,4990,13,4996,24,5008,null,null,null,null,0,112]
[21,5108,22,5123,24,5129,null,null,null,null,0,222]
[12,5259,13,5264,13,5271,null,null,null,null,0,111]
[12,5387,13,5400,13,5409,null,null,null,null,0,111]
[12,5507,13,5513,13,5519,null,null,null,null,0,111]
[21,5622,11,5639,22,5652,null,null,null,null,0,212]
[12,5754,13,5761,13,5769,null,null,null,null,0,111]
[12,5874,13,5880,13,5892,null,null,null,null,0,111]
[12,5992,13,5999,24,6016,null,null,null,null,0,112]
[12,6124,13,6131,13,6138,null,null,null,null,0,111]
[21,6236,22,6243,13,6261,null,null,null,null,0,221]
[21,6362,11,6379,11,6385,null,null,null,null,0,211]
[12,6612,13,6618,24,6629,null,null,null,null,0,112]
[12,6761,13,6767,24,6776,null,null,null,null,0,112]
[21,6874,22,6877,24,6886,null,null,null,null,0,222]
[21,6985,11,7001,22,7011,null,null,null,null,0,212]
[12,7124,24,7134,13,7152,null,null,null,null,0,121]
[12,7362,13,7378,24,7396,null,null,null,null,0,112]
[12,7513,13,7525,24,7535,null,null,null,null,0,112]
[12,7631,13,7636,13,7644,null,null,null,null,0,111]
[21,7740,11,7753,22,7768,null,null,null,null,0,212]
[21,7867,11,7884,22,7893,null,null,null,null,0,212]
[12,7991,13,7997,13,8004,null,null,null,null,0,111]
[21,8100,22,8107,13,8118,null,null,null,null,0,221]
[21,8221,22,8227,24,8236,null,null,null,null,0,222]
[12,8346,13,8352,13,8358,null,null,null,null,0,111]
[12,8462,13,8469,13,8476,null,null,null,null,0,111]
[12,8577,13,8583,13,8590,null,null,null,null,0,111]
[21,8687,22,8692,24,8699,null,null,null,null,0,222]
[21,8797,22,8805,13,8836,null,null,null,null,0,221]
[21,8938,22,8942,24,8953,null,null,null,null,0,222]
[12,9056,13,9063,24,9073,null,null,null,null,0,112]
[21,9169,22,9172,24,9181,null,null,null,null,0,222]
[21,9287,11,9304,22,9316,null,null,null,null,0,212]
[12,9419,13,9426,24,9438,null,null,null,null,0,112]
[12,9545,13,9551,13,9557,null,null,null,null,0,111]
[12,9663,13,9669,24,9679,null,null,null,null,0,112]
[12,9780,13,9788,13,9800,null,null,null,null,0,111]
[12,9900,13,9907,13,9919,null,null,null,null,0,111]
[21,10012,22,10015,13,10032,null,null,null,null,0,221]
[21,10125,11,10143,22,10153,null,null,null,null,0,212]
[12,10254,13,10263,13,10269,null,null,null,null,0,111]
[21,10364,11,10384,22,10397,null,null,null,null,0,212]
[21,10498,22,10504,13,10519,null,null,null,null,0,221]
[12,10617,13,10624,13,10631,null,null,null,null,0,111]
[12,10732,13,10737,13,10745,null,null,null,null,0,111]
[21,10842,22,10850,13,10867,null,null,null,null,0,221]
[21,10965,22,10972,13,10989,null,null,null,null,0,221]
[12,11084,13,11091,24,11108,null,null,null,null,0,112]
[12,11212,13,11218,13,11223,null,null,null,null,0,111]
[12,11326,13,11332,13,11338,null,null,null,null,0,111]
[21,11447,11,11464,22,11476,null,null,null,null,0,212]
[21,11581,11,11596,11,11601,null,null,null,null,0,211]
[12,11849,13,11858,13,11865,null,null,null,null,0,111]
[12,11997,13,12004,24,12014,null,null,null,null,0,112]
[21,12111,22,12136,13,12160,null,null,null,null,0,221]
[21,12254,22,12261,13,12280,null,null,null,null,0,221]
[21,12376,22,12385,13,12397,null,null,null,null,0,221]
[21,12497,11,12514,22,12524,null,null,null,null,0,212]
[12,12621,13,12629,13,12635,null,null,null,null,0,111]
[21,12732,22,12739,13,12759,null,null,null,null,0,221]
[12,12864,13,12871,13,12877,null,null,null,null,0,111]
[12,12985,13,12991,13,12998,null,null,null,null,0,111]
[21,13106,11,13117,11,13129,null,null,null,null,0,211]
[12,13362,13,13369,24,13384,null,null,null,null,0,112]
[21,13491,22,13501,13,13512,null,null,null,null,0,221]
[12,13610,13,13617,13,13629,null,null,null,null,0,111]
[21,13728,11,13744,22,13761,null,null,null,null,0,212]
[21,13859,11,13882,11,13890,null,null,null,null,0,211]
[12,14086,13,14091,13,14099,null,null,null,null,0,111]
[21,14199,11,14214,22,14223,null,null,null,null,0,212]
[12,14321,13,14326,24,14336,null,null,null,null,0,112]
[21,14438,11,14453,11,14460,null,null,null,null,0,211]
[12,14628,13,14633,13,14639,null,null,null,null,0,111]
[21,14733,22,14737,13,14751,null,null,null,null,0,221]
[21,14852,22,14859,13,14874,null,null,null,null,0,221]
[21,14974,11,14992,22,15008,null,null,null,null,0,212]
[12,15107,13,15112,13,15118,null,null,null,null,0,111]
[12,15221,13,15228,24,15238,null,null,null,null,0,112]
[12,15360,13,15367,13,15373,null,null,null,null,0,111]
[21,15476,11,15489,11,15500,null,null,null,null,0,211]
[12,15691,13,15696,13,15708,null,null,null,null,0,111]
[12,15809,13,15814,24,15828,null,null,null,null,0,112]
[21,15924,11,15938,22,15947,null,null,null,null,0,212]
[12,16051,13,16059,13,16065,null,null,null,null,0,111]
[21,16164,11,16179,11,16187,null,null,null,null,0,211]
[12,16400,13,16405,13,16412,null,null,null,null,0,111]
[12,16514,13,16518,13,16522,null,null,null,null,0,111]
[21,16621,11,16634,11,16642,null,null,null,null,0,211]
[12,16852,13,16861,13,16868,null,null,null,null,0,111]
[12,17024,13,17031,24,17040,null,null,null,null,0,112]
[21,17131,22,17135,13,17153,null,null,null,null,0,221]
[12,17252,13,17257,13,17264,null,null,null,null,0,111]
[21,17361,22,17370,13,17381,null,null,null,null,0,221]
[21,17481,22,17486,13,17505,null,null,null,null,0,221]
[21,17606,11,17624,11,17640,null,null,null,null,0,211]
[12,17843,13,17847,13,17860,null,null,null,null,0,111]
[12,17958,13,17965,13,17971,null,null,null,null,0,111]
[21,18069,22,18077,13,18089,null,null,null,null,0,221]
[21,18181,22,18192,13,18211,null,null,null,null,0,221]
[21,18310,22,18317,13,18331,null,null,null,null,0,221]
[21,18429,22,18441,13,18462,null,null,null,null,0,221]
[12,18574,13,18580,13,18586,null,null,null,null,0,111]
[21,18683,11,18695,11,18714,null,null,null,null,0,211]
[12,18897,13,18904,24,18917,null,null,null,null,0,112]
[21,19017,22,19022,13,19042,null,null,null,null,0,221]
[21,19138,22,19146,13,19156,null,null,null,null,0,221]
[21,19249,22,19255,13,19279,null,null,null,null,0,221]
[12,19375,13,19380,13,19388,null,null,null,null,0,111]
[12,19488,13,19494,13,19500,null,null,null,null,0,111]
[21,19596,11,19618,11,19624,null,null,null,null,0,211]
[12,19786,13,19791,24,19804,null,null,null,null,0,112]
[21,19907,11,19922,11,19930,null,null,null,null,0,211]
[12,20107,13,20119,24,20129,null,null,null,null,0,112]
[21,20231,11,20243,11,20255,null,null,null,null,0,211]
[12,20474,13,20478,13,20496,null,null,null,null,0,111]
[21,20593,11,20607,11,20622,null,null,null,null,0,211]
[12,20848,13,20853,13,20865,null,null,null,null,0,111]
[21,20964,11,20980,22,20989,null,null,null,null,0,212]
[21,21089,11,21109,11,21126,null,null,null,null,0,211]
[12,21360,13,21369,13,21381,null,null,null,null,0,111]
[21,21475,22,21482,13,21493,null,null,null,null,0,221]
[21,21592,11,21612,11,21625,null,null,null,null,0,211]
[12,21873,13,21881,13,21887,null,null,null,null,0,111]
[21,21981,11,21998,11,22003,null,null,null,null,0,211]
[12,22247,13,22253,24,22262,null,null,null,null,0,112]
[12,22368,13,22373,13,22383,null,null,null,null,0,111]
[21,22484,11,22504,11,22516,null,null,null,null,0,211]
[12,22676,13,22679,13,22683,null,null,null,null,0,111]
[21,22784,11,22796,11,22806,null,null,null,null,0,211]
[12,22997,13,23003,24,23015,null,null,null,null,0,112]
[21,23107,11,23126,11,23134,null,null,null,null,0,211]
[12,23331,13,23335,13,23344,null,null,null,null,0,111]
[12,23459,13,23465,13,23471,null,null,null,null,0,111]
[21,23569,11,23579,11,23591,null,null,null,null,0,211]
[12,23792,13,23797,13,23808,null,null,null,null,0,111]
[12,23906,13,23913,13,23920,null,null,null,null,null,111]

{"sheet":"!M92693D.ust","index":6,"n_rows":91,"n_cols":48,"rows_kept":91,"cut":false,"hidden":false,"merged":[[4,39,4,42],[5,39,5,40],[4,44,4,47],[5,44,5,45],[4,24,4,27],[5,24,5,25],[4,29,4,32],[5,29,5,30],[4,34,4,37],[5,34,5,35],[1,1,1,2],[5,13,5,14],[18,13,18,14],[19,13,19,14],[4,19,4,22],[5,19,5,20]]}
["Report for:!M92693D.ust"]
["Date:","<date>"]
["Hen:","<hen>",null,null,null,"Correct Sequence",{"$f":"Start!J2","v":211},null,null,null,null,null,null,null,null,"Total Sequences in Data",{"$f":"4994-COUNTBLANK(L7:L5000)","v":85},null,null,null,null,"Total Sequences in Block Data",{"$f":"COUNTA(L7:L20)","v":14},null,null,null,"Total Sequences in Block Data",{"$f":"COUNTA(L21:L34)","v":14},null,null,null,"Total Sequences in Block Data",{"$f":"COUNTA(L35:L49)","v":15},null,null,null,"Total Sequences in Block Data",{"$f":"COUNTA(L50:L63)","v":14},null,null,null,"Total Sequences in Block Data",{"$f":"COUNTA(L64:L77)","v":14},null,null,null,"Total Sequences in Block Data",{"$f":"COUNTA(L78:L91)","v":14}]
[null,null,null,null,null,null,null,null,null,null,null,null,null,null,null,"Total Sequences in Summary",{"$f":"SUM(O7:O14)","v":85},null,null,null,null,"Total Sequences in Block Summary",{"$f":"SUM(U7:U14)","v":14},null,null,null,"Total Sequences in Block Summary",{"$f":"SUM(Z7:Z14)","v":14},null,null,null,"Total Sequences in Block Summary",{"$f":"SUM(AE7:AE14)","v":15},null,null,null,"Total Sequences in Block Summary",{"$f":"SUM(AJ7:AJ14)","v":14},null,null,null,"Total Sequences in Block Summary",{"$f":"SUM(AO7:AO14)","v":14},null,null,null,"Total Sequences in Block Summary",{"$f":"SUM(AT7:AT14)","v":14}]
[null,null,null,null,null,null,null,null,null,null,null,null,null,null,null,null,null,null,null,"Block 1",null,null,null,null,"Block 2",null,null,null,null,"Block 3",null,null,null,null,"Block 4",null,null,null,null,"Block 5",null,null,null,null,"Block 6"]
["Sequence\nComponent\n1","Time\n1","Sequence\nComponent\n2","Time\n2","Sequence\nComponent\n3","Time\n3","Sequence\nComponent\n4","Time\n4","Sequence\nComponent\n5","Time\n5","Correct?\n0=No 1=Yes","Sequence",null,"Frequency",null,"Relative Frequency","Variability",null,null,"Frequency",null,"Relative Frequency","Variability",null,"Frequency",null,"Relative Frequency","Variability",null,"Frequency",null,"Relative Frequency","Variability",null,"Frequency",null,"Relative Frequency","Variability",null,"Frequency",null,"Relative Frequency","Variability",null,"Frequency",null,"Relative Frequency","Variability"]
[12,10,13,15,24,23,null,null,null,null,0,112,null,111,{"$f":"COUNTIF($L$7:$L$500,N7)","v":36},{"$f":"O7/$Q$4","v":0.42352941176470588},{"$f":"IF(P7=0,0,(P7*((LOG(P7))/LOG(2))))","v":-0.52495027822392959},null,null,{"$f":"N7","v":111},{"$f":"COUNTIF(L7:L20,T7)","v":6},{"$f":"U7/(W4-U11)","v":0.66666666666666663},{"$f":"IF(V7=0,0,(V7*((LOG(V7))/LOG(2))))","v":-0.38997500048077083},null,{"$f":"N7","v":111},{"$f":"COUNTIF(L21:L34,Y7)","v":5},{"$f":"Z7/(AB4-Z11)","v":0.7142857142857143},{"$f":"IF(AA7=0,0,(AA7*((LOG(AA7))/LOG(2))))","v":-0.34673344797874411},null,{"$f":"N7","v":111},{"$f":"COUNTIF(L35:L49,AD7)","v":5},{"$f":"AE7/(AG4-AE11)","v":0.7142857142857143},{"$f":"IF(AF7=0,0,(AF7*((LOG(AF7))/LOG(2))))","v":-0.34673344797874411},null,{"$f":"N7","v":111},{"$f":"COUNTIF(L50:L63,AI7)","v":8},{"$f":"AJ7/(AL4-AJ11)","v":1},{"$f":"IF(AK7=0,0,(AK7*((LOG(AK7))/LOG(2))))","v":0},null,{"$f":"N7","v":111},{"$f":"COUNTIF(L64:L77,AN7)","v":7},{"$f":"AO7/(AQ4-AO11)","v":0.77777777777777779},{"$f":"IF(AP7=0,0,(AP7*((LOG(AP7))/LOG(2))))","v":-0.28199895063255082},null,{"$f":"N7","v":111},{"$f":"COUNTIF(L78:L91,AS7)","v":5},{"$f":"AT7/(AV4-AT11)","v":0.7142857142857143},{"$f":"IF(AU7=0,0,(AU7*((LOG(AU7))/LOG(2))))","v":-0.34673344797874411}]
[21,122,11,135,11,145,null,null,null,null,0,211,null,112,{"$f":"COUNTIF($L$7:$L$500,N8)","v":6},{"$f":"O8/$Q$4","v":7.0588235294117646E-2},{"$f":"IF(P8=0,0,(P8*((LOG(P8))/LOG(2))))","v":-0.26995965426469731},null,null,{"$f":"N8","v":112},{"$f":"COUNTIF(L7:L20,T8)","v":1},{"$f":"U8/(W4-U11)","v":0.1111111111111111},{"$f":"IF(V8=0,0,(V8*((LOG(V8))/LOG(2))))","v":-0.3522138890491458},null,{"$f":"N8","v":112},{"$f":"COUNTIF(L21:L34,Y8)","v":2},{"$f":"Z8/(AB4-Z11)","v":0.2857142857142857},{"$f":"IF(AA8=0,0,(AA8*((LOG(AA8))/LOG(2))))","v":-0.51638712058788683},null,{"$f":"N8","v":112},{"$f":"COUNTIF(L35:L49,AD8)","v":1},{"$f":"AE8/(AG4-AE11)","v":0.14285714285714285},{"$f":"IF(AF8=0,0,(AF8*((LOG(AF8))/LOG(2))))","v":-0.40105070315108626},null,{"$f":"N8","v":112},{"$f":"COUNTIF(L50:L63,AI8)","v":0},{"$f":"AJ8/(AL4-AJ11)","v":0},{"$f":"IF(AK8=0,0,(AK8*((LOG(AK8))/LOG(2))))","v":0},null,{"$f":"N8","v":112},{"$f":"COUNTIF(L64:L77,AN8)","v":1},{"$f":"AO8/(AQ4-AO11)","v":0.1111111111111111},{"$f":"IF(AP8=0,0,(AP8*((LOG(AP8))/LOG(2))))","v":-0.3522138890491458},null,{"$f":"N8","v":112},{"$f":"COUNTIF(L78:L91,AS8)","v":1},{"$f":"AT8/(AV4-AT11)","v":0.14285714285714285},{"$f":"IF(AU8=0,0,(AU8*((LOG(AU8))/LOG(2))))","v":-0.40105070315108626}]
[12,300,13,304,13,309,null,null,null,null,0,111,null,121,{"$f":"COUNTIF($L$7:$L$500,N9)","v":0},{"$f":"O9/$Q$4","v":0},{"$f":"IF(P9=0,0,(P9*((LOG(P9))/LOG(2))))","v":0},null,null,{"$f":"N9","v":121},{"$f":"COUNTIF(L7:L20,T9)","v":0},{"$f":"U9/(W4-U11)","v":0},{"$f":"IF(V9=0,0,(V9*((LOG(V9))/LOG(2))))","v":0},null,{"$f":"N9","v":121},{"$f":"COUNTIF(L21:L34,Y9)","v":0},{"$f":"Z9/(AB4-Z11)","v":0},{"$f":"IF(AA9=0,0,(AA9*((LOG(AA9))/LOG(2))))","v":0},null,{"$f":"N9","v":121},{"$f":"COUNTIF(L35:L49,AD9)","v":0},{"$f":"AE9/(AG4-AE11)","v":0},{"$f":"IF(AF9=0,0,(AF9*((LOG(AF9))/LOG(2))))","v":0},null,{"$f":"N9","v":121},{"$f":"COUNTIF(L50:L63,AI9)","v":0},{"$f":"AJ9/(AL4-AJ11)","v":0},{"$f":"IF(AK9=0,0,(AK9*((LOG(AK9))/LOG(2))))","v":0},null,{"$f":"N9","v":121},{"$f":"COUNTIF(L64:L77,AN9)","v":0},{"$f":"AO9/(AQ4-AO11)","v":0},{"$f":"IF(AP9=0,0,(AP9*((LOG(AP9))/LOG(2))))","v":0},null,{"$f":"N9","v":121},{"$f":"COUNTIF(L78:L91,AS9)","v":0},{"$f":"AT9/(AV4-AT11)","v":0},{"$f":"IF(AU9=0,0,(AU9*((LOG(AU9))/LOG(2))))","v":0}]
[21,406,11,420,11,426,null,null,null,null,0,211,null,122,{"$f":"COUNTIF($L$7:$L$500,N10)","v":0},{"$f":"O10/$Q$4","v":0},{"$f":"IF(P10=0,0,(P10*((LOG(P10))/LOG(2))))","v":0},null,null,{"$f":"N10","v":122},{"$f":"COUNTIF(L7:L20,T10)","v":0},{"$f":"U10/(W4-U11)","v":0},{"$f":"IF(V10=0,0,(V10*((LOG(V10))/LOG(2))))","v":0},null,{"$f":"N10","v":122},{"$f":"COUNTIF(L21:L34,Y10)","v":0},{"$f":"Z10/(AB4-Z11)","v":0},{"$f":"IF(AA10=0,0,(AA10*((LOG(AA10))/LOG(2))))","v":0},null,{"$f":"N10","v":122},{"$f":"COUNTIF(L35:L49,AD10)","v":0},{"$f":"AE10/(AG4-AE11)","v":0},{"$f":"IF(AF10=0,0,(AF10*((LOG(AF10))/LOG(2))))","v":0},null,{"$f":"N10","v":122},{"$f":"COUNTIF(L50:L63,AI10)","v":0},{"$f":"AJ10/(AL4-AJ11)","v":0},{"$f":"IF(AK10=0,0,(AK10*((LOG(AK10))/LOG(2))))","v":0},null,{"$f":"N10","v":122},{"$f":"COUNTIF(L64:L77,AN10)","v":0},{"$f":"AO10/(AQ4-AO11)","v":0},{"$f":"IF(AP10=0,0,(AP10*((LOG(AP10))/LOG(2))))","v":0},null,{"$f":"N10","v":122},{"$f":"COUNTIF(L78:L91,AS10)","v":0},{"$f":"AT10/(AV4-AT11)","v":0},{"$f":"IF(AU10=0,0,(AU10*((LOG(AU10))/LOG(2))))","v":0}]
[12,566,13,572,13,585,null,null,null,null,0,111,null,211,{"$f":"COUNTIF($L$7:$L$500,N11)","v":38},{"$f":"O11/$Q$4","v":0.44705882352941179},{"$f":"IF(P11=0,0,(P11*((LOG(P11))/LOG(2))))","v":-0.51924247132207557},null,null,{"$f":"N11","v":211},{"$f":"COUNTIF(L7:L20,T11)","v":5},null,null,null,{"$f":"N11","v":211},{"$f":"COUNTIF(L21:L34,Y11)","v":7},null,null,null,{"$f":"N11","v":211},{"$f":"COUNTIF(L35:L49,AD11)","v":8},null,null,null,{"$f":"N11","v":211},{"$f":"COUNTIF(L50:L63,AI11)","v":6},null,null,null,{"$f":"N11","v":211},{"$f":"COUNTIF(L64:L77,AN11)","v":5},null,null,null,{"$f":"N11","v":211},{"$f":"COUNTIF(L78:L91,AS11)","v":7}]
[21,688,11,700,11,706,null,null,null,null,0,211,null,212,{"$f":"COUNTIF($L$7:$L$500,N12)","v":0},{"$f":"O12/$Q$4","v":0},{"$f":"IF(P12=0,0,(P12*((LOG(P12))/LOG(2))))","v":0},null,null,{"$f":"N12","v":212},{"$f":"COUNTIF(L7:L20,T12)","v":0},{"$f":"U12/(W4-U11)","v":0},{"$f":"IF(V12=0,0,(V12*((LOG(V12))/LOG(2))))","v":0},null,{"$f":"N12","v":212},{"$f":"COUNTIF(L21:L34,Y12)","v":0},{"$f":"Z12/(AB4-Z11)","v":0},{"$f":"IF(AA12=0,0,(AA12*((LOG(AA12))/LOG(2))))","v":0},null,{"$f":"N12","v":212},{"$f":"COUNTIF(L35:L49,AD12)","v":0},{"$f":"AE12/(AG4-AE11)","v":0},{"$f":"IF(AF12=0,0,(AF12*((LOG(AF12))/LOG(2))))","v":0},null,{"$f":"N12","v":212},{"$f":"COUNTIF(L50:L63,AI12)","v":0},{"$f":"AJ12/(AL4-AJ11)","v":0},{"$f":"IF(AK12=0,0,(AK12*((LOG(AK12))/LOG(2))))","v":0},null,{"$f":"N12","v":212},{"$f":"COUNTIF(L64:L77,AN12)","v":0},{"$f":"AO12/(AQ4-AO11)","v":0},{"$f":"IF(AP12=0,0,(AP12*((LOG(AP12))/LOG(2))))","v":0},null,{"$f":"N12","v":212},{"$f":"COUNTIF(L78:L91,AS12)","v":0},{"$f":"AT12/(AV4-AT11)","v":0},{"$f":"IF(AU12=0,0,(AU12*((LOG(AU12))/LOG(2))))","v":0}]
[12,856,13,859,13,863,null,null,null,null,0,111,null,221,{"$f":"COUNTIF($L$7:$L$500,N13)","v":4},{"$f":"O13/$Q$4","v":4.7058823529411764E-2},{"$f":"IF(P13=0,0,(P13*((LOG(P13))/LOG(2))))","v":-0.20750074993589185},null,null,{"$f":"N13","v":221},{"$f":"COUNTIF(L7:L20,T13)","v":1},{"$f":"U13/(W4-U11)","v":0.1111111111111111},{"$f":"IF(V13=0,0,(V13*((LOG(V13))/LOG(2))))","v":-0.3522138890491458},null,{"$f":"N13","v":221},{"$f":"COUNTIF(L21:L34,Y13)","v":0},{"$f":"Z13/(AB4-Z11)","v":0},{"$f":"IF(AA13=0,0,(AA13*((LOG(AA13))/LOG(2))))","v":0},null,{"$f":"N13","v":221},{"$f":"COUNTIF(L35:L49,AD13)","v":1},{"$f":"AE13/(AG4-AE11)","v":0.14285714285714285},{"$f":"IF(AF13=0,0,(AF13*((LOG(AF13))/LOG(2))))","v":-0.40105070315108626},null,{"$f":"N13","v":221},{"$f":"COUNTIF(L50:L63,AI13)","v":0},{"$f":"AJ13/(AL4-AJ11)","v":0},{"$f":"IF(AK13=0,0,(AK13*((LOG(AK13))/LOG(2))))","v":0},null,{"$f":"N13","v":221},{"$f":"COUNTIF(L64:L77,AN13)","v":1},{"$f":"AO13/(AQ4-AO11)","v":0.1111111111111111},{"$f":"IF(AP13=0,0,(AP13*((LOG(AP13))/LOG(2))))","v":-0.3522138890491458},null,{"$f":"N13","v":221},{"$f":"COUNTIF(L78:L91,AS13)","v":1},{"$f":"AT13/(AV4-AT11)","v":0.14285714285714285},{"$f":"IF(AU13=0,0,(AU13*((LOG(AU13))/LOG(2))))","v":-0.40105070315108626}]
[21,961,22,967,13,977,null,null,null,null,0,221,null,222,{"$f":"COUNTIF($L$7:$L$500,N14)","v":1},{"$f":"O14/$Q$4","v":1.1764705882352941E-2},{"$f":"IF(P14=0,0,(P14*((LOG(P14))/LOG(2))))","v":-7.5404599248678844E-2},null,null,{"$f":"N14","v":222},{"$f":"COUNTIF(L7:L20,T14)","v":1},{"$f":"U14/(W4-U11)","v":0.1111111111111111},{"$f":"IF(V14=0,0,(V14*((LOG(V14))/LOG(2))))","v":-0.3522138890491458},null,{"$f":"N14","v":222},{"$f":"COUNTIF(L21:L34,Y14)","v":0},{"$f":"Z14/(AB4-Z11)","v":0},{"$f":"IF(AA14=0,0,(AA14*((LOG(AA14))/LOG(2))))","v":0},null,{"$f":"N14","v":222},{"$f":"COUNTIF(L35:L49,AD14)","v":0},{"$f":"AE14/(AG4-AE11)","v":0},{"$f":"IF(AF14=0,0,(AF14*((LOG(AF14))/LOG(2))))","v":0},null,{"$f":"N14","v":222},{"$f":"COUNTIF(L50:L63,AI14)","v":0},{"$f":"AJ14/(AL4-AJ11)","v":0},{"$f":"IF(AK14=0,0,(AK14*((LOG(AK14))/LOG(2))))","v":0},null,{"$f":"N14","v":222},{"$f":"COUNTIF(L64:L77,AN14)","v":0},{"$f":"AO14/(AQ4-AO11)","v":0},{"$f":"IF(AP14=0,0,(AP14*((LOG(AP14))/LOG(2))))","v":0},null,{"$f":"N14","v":222},{"$f":"COUNTIF(L78:L91,AS14)","v":0},{"$f":"AT14/(AV4-AT11)","v":0},{"$f":"IF(AU14=0,0,(AU14*((LOG(AU14))/LOG(2))))","v":0}]
[12,1097,13,1103,13,1112,null,null,null,null,0,111,null,null,null,{"$f":"SUM(P7:P14)","v":1},{"$f":"-SUM(Q7:Q14)","v":1.5970577529952732},null,null,null,null,{"$f":"SUM(V7:V14)","v":1},{"$f":"-SUM(W7:W14)","v":1.4466166676282082},null,null,null,{"$f":"SUM(AA7:AA14)","v":1},{"$f":"-SUM(AB7:AB14)","v":0.863120568566631},null,null,null,{"$f":"SUM(AF7:AF14)","v":1},{"$f":"-SUM(AG7:AG14)","v":1.1488348542809166},null,null,null,{"$f":"SUM(AK7:AK14)","v":1},{"$f":"-SUM(AL7:AL14)","v":0},null,null,null,{"$f":"SUM(AP7:AP14)","v":1},{"$f":"-SUM(AQ7:AQ14)","v":0.98642672873084236},null,null,null,{"$f":"SUM(AU7:AU14)","v":1},{"$f":"-SUM(AV7:AV14)","v":1.1488348542809166}]
[21,1210,11,1223,11,1235,null,null,null,null,0,211,null,null,null,"U=",{"$f":"Q15/(LOG(Q4)/LOG(2))","v":0.24917465152432408},null,null,null,null,"U1=",{"$f":"W15/(LOG(W4)/LOG(2))","v":0.37995319512960329},null,null,null,"U2=",{"$f":"AB15/(LOG(AB4)/LOG(2))","v":0.22669821601506379},null,null,null,"U3=",{"$f":"AG15/(LOG(AG4)/LOG(2))","v":0.29405350013441561},null,null,null,"U4=",{"$f":"AL15/(LOG(AL4)/LOG(2))","v":0},null,null,null,"U5=",{"$f":"AQ15/(LOG(AQ4)/LOG(2))","v":0.25908452164941564},null,null,null,"U6=",{"$f":"AV15/(LOG(AV4)/LOG(2))","v":0.30174094031140475}]
[12,1444,13,1450,13,1460,null,null,null,null,0,111]
[21,1555,11,1566,11,1573,null,null,null,null,0,211]
[12,1727,13,1734,13,1742,null,null,null,null,0,111,null,"Total Target Seq"]
[21,1840,22,1847,24,1853,null,null,null,null,0,222,null,{"$f":"COUNTIF(L7:L91,G3)","v":38},null,14,14,15,14,14,14]
[21,1951,11,1963,11,1971,null,null,null,null,0,211,null,null,null,"% of reinforcement given in 6 equal intervals based on number of trials "]
[12,2172,13,2179,24,2190,null,null,null,null,0,112,null,null,null,"%_1","%_2","%_3","%_4","%_5","%_6"]
[21,2294,11,2304,11,2310,null,null,null,null,0,211,null,null,"target sequence",{"$f":"$G$3","v":211},{"$f":"$G$3","v":211},{"$f":"$G$3","v":211},{"$f":"$G$3","v":211},{"$f":"$G$3","v":211},{"$f":"$G$3","v":211}]
[12,2607,13,2611,13,2616,null,null,null,null,0,111,null,null,"total reinforcement",{"$f":"U11","v":5},{"$f":"Z11","v":7},{"$f":"AE11","v":8},{"$f":"AJ11","v":6},{"$f":"AO11","v":5},{"$f":"AT11","v":7}]
[21,2712,11,2727,11,2735,null,null,null,null,0,211,null,null,"% target"]
[12,2872,13,2883,24,2896,null,null,null,null,0,112,null,null,"CCRF"]
[21,2996,11,3005,11,3013,null,null,null,null,0,211,null,null,"% CCRf"]
[12,3181,13,3192,13,3200,null,null,null,null,0,111,null,null,"average response rate",{"$f":"F20/P20","v":132.35714285714286},{"$f":"(F34-F20)/Q20","v":170.42857142857142},{"$f":"(F49-F34)/R20","v":156.19999999999999},{"$f":"(F63-F49)/S20","v":153.64285714285714},{"$f":"(F77-F63)/T20","v":156.21428571428572},{"$f":"(F91-F77)/U20","v":147.57142857142858}]
[21,3299,11,3314,11,3326,null,null,null,null,0,211]
[12,3504,13,3510,13,3521,null,null,null,null,0,111]
[21,3630,11,3639,11,3646,null,null,null,null,0,211]
[12,3891,13,3900,13,3911,null,null,null,null,0,111]
[21,4011,11,4022,11,4027,null,null,null,null,0,211]
[12,4221,13,4232,13,4239,null,null,null,null,0,111]
[21,4332,11,4347,11,4358,null,null,null,null,0,211]
[12,4628,13,4632,24,4642,null,null,null,null,0,112]
[21,4743,11,4757,11,4763,null,null,null,null,0,211]
[21,4948,11,4956,11,4960,null,null,null,null,0,211]
[12,5165,13,5170,13,5180,null,null,null,null,0,111]
[21,5281,11,5289,11,5296,null,null,null,null,0,211]
[12,5495,13,5504,13,5515,null,null,null,null,0,111]
[21,5609,22,5616,13,5625,null,null,null,null,0,221]
[12,5727,13,5731,13,5737,null,null,null,null,0,111]
[21,5835,11,5847,11,5854,null,null,null,null,0,211]
[12,6002,13,6005,13,6011,null,null,null,null,0,111]
[21,6112,11,6122,11,6129,null,null,null,null,0,211]
[21,6258,11,6267,11,6271,null,null,null,null,0,211]
[12,6457,13,6462,13,6468,null,null,null,null,0,111]
[21,6566,11,6576,11,6582,null,null,null,null,0,211]
[12,6807,13,6811,13,6819,null,null,null,null,0,111]
[21,6918,11,6927,11,6932,null,null,null,null,0,211]
[12,7063,13,7069,13,7077,null,null,null,null,0,111]
[12,7258,13,7263,13,7271,null,null,null,null,0,111]
[21,7368,11,7379,11,7386,null,null,null,null,0,211]
[12,7600,13,7605,13,7612,null,null,null,null,0,111]
[21,7707,11,7718,11,7722,null,null,null,null,0,211]
[12,7867,13,7869,13,7877,null,null,null,null,0,111]
[12,7980,13,7985,13,7993,null,null,null,null,0,111]
[21,8090,11,8102,11,8109,null,null,null,null,0,211]
[12,8278,13,8282,13,8294,null,null,null,null,0,111]
[21,8396,11,8408,11,8414,null,null,null,null,0,211]
[12,8603,13,8609,13,8615,null,null,null,null,0,111]
[21,8710,11,8726,11,8733,null,null,null,null,0,211]
[12,8913,13,8918,13,8924,null,null,null,null,0,111]
[21,9021,22,9028,13,9039,null,null,null,null,0,221]
[12,9147,13,9160,13,9168,null,null,null,null,0,111]
[21,9269,11,9279,11,9291,null,null,null,null,0,211]
[12,9474,13,9480,24,9491,null,null,null,null,0,112]
[21,9589,11,9600,11,9619,null,null,null,null,0,211]
[12,9838,13,9845,13,9865,null,null,null,null,0,111]
[21,9963,11,9972,11,9978,null,null,null,null,0,211]
[12,10156,13,10161,13,10175,null,null,null,null,0,111]
[12,10284,13,10290,13,10299,null,null,null,null,0,111]
[21,10401,11,10410,11,10415,null,null,null,null,0,211]
[12,10582,13,10587,13,10595,null,null,null,null,0,111]
[21,10694,11,10704,11,10709,null,null,null,null,0,211]
[12,10907,13,10914,13,10920,null,null,null,null,0,111]
[21,11017,11,11027,11,11032,null,null,null,null,0,211]
[12,11186,13,11190,13,11196,null,null,null,null,0,111]
[21,11294,11,11304,11,11315,null,null,null,null,0,211]
[12,11485,13,11491,13,11520,null,null,null,null,0,111]
[21,11625,11,11635,11,11641,null,null,null,null,0,211]
[12,11884,13,11892,24,11904,null,null,null,null,0,112]
[21,12001,11,12012,11,12019,null,null,null,null,0,211]
[12,12154,13,12157,13,12162,null,null,null,null,0,111]
[21,12258,11,12268,11,12277,null,null,null,null,0,211]
[12,12446,13,12450,13,12458,null,null,null,null,0,111]
[21,12551,22,12558,13,12568,null,null,null,null,0,221]
[21,12664,11,12679,11,12690,null,null,null,null,0,211]
[12,12844,13,12855,13,12862,null,null,null,null,0,111]
[21,12960,11,12975,11,12986,null,null,null,null,1,211]

{"sheet":"!M927A2D.ust","index":7,"n_rows":91,"n_cols":48,"rows_kept":91,"cut":false,"hidden":false,"merged":[[4,39,4,42],[5,39,5,40],[4,44,4,47],[5,44,5,45],[4,24,4,27],[5,24,5,25],[4,29,4,32],[5,29,5,30],[4,34,4,37],[5,34,5,35],[1,1,1,2],[5,13,5,14],[18,13,18,14],[19,13,19,14],[4,19,4,22],[5,19,5,20]]}
["Report for:!M927A2D.ust"]
["Date:","<date>"]
["Hen:","<hen>",null,null,null,"Correct Sequence",{"$f":"Start!J2","v":211},null,null,null,null,null,null,null,null,"Total Sequences in Data",{"$f":"4994-COUNTBLANK(L7:L5000)","v":85},null,null,null,null,"Total Sequences in Block Data",{"$f":"COUNTA(L7:L20)","v":14},null,null,null,"Total Sequences in Block Data",{"$f":"COUNTA(L21:L34)","v":14},null,null,null,"Total Sequences in Block Data",{"$f":"COUNTA(L35:L49)","v":15},null,null,null,"Total Sequences in Block Data",{"$f":"COUNTA(L50:L63)","v":14},null,null,null,"Total Sequences in Block Data",{"$f":"COUNTA(L64:L77)","v":14},null,null,null,"Total Sequences in Block Data",{"$f":"COUNTA(L78:L91)","v":14}]
[null,null,null,null,null,null,null,null,null,null,null,null,null,null,null,"Total Sequences in Summary",{"$f":"SUM(O7:O14)","v":85},null,null,null,null,"Total Sequences in Block Summary",{"$f":"SUM(U7:U14)","v":14},null,null,null,"Total Sequences in Block Summary",{"$f":"SUM(Z7:Z14)","v":14},null,null,null,"Total Sequences in Block Summary",{"$f":"SUM(AE7:AE14)","v":15},null,null,null,"Total Sequences in Block Summary",{"$f":"SUM(AJ7:AJ14)","v":14},null,null,null,"Total Sequences in Block Summary",{"$f":"SUM(AO7:AO14)","v":14},null,null,null,"Total Sequences in Block Summary",{"$f":"SUM(AT7:AT14)","v":14}]
[null,null,null,null,null,null,null,null,null,null,null,null,null,null,null,null,null,null,null,"Block 1",null,null,null,null,"Block 2",null,null,null,null,"Block 3",null,null,null,null,"Block 4",null,null,null,null,"Block 5",null,null,null,null,"Block 6"]
["Sequence\nComponent\n1","Time\n1","Sequence\nComponent\n2","Time\n2","Sequence\nComponent\n3","Time\n3","Sequence\nComponent\n4","Time\n4","Sequence\nComponent\n5","Time\n5","Correct?\n0=No 1=Yes","Sequence",null,"Frequency",null,"Relative Frequency","Variability",null,null,"Frequency",null,"Relative Frequency","Variability",null,"Frequency",null,"Relative Frequency","Variability",null,"Frequency",null,"Relative Frequency","Variability",null,"Frequency",null,"Relative Frequency","Variability",null,"Frequency",null,"Relative Frequency","Variability",null,"Frequency",null,"Relative Frequency","Variability"]
[12,4,13,8,13,13,null,null,null,null,0,111,null,111,{"$f":"COUNTIF($L$7:$L$500,N7)","v":32},{"$f":"O7/$Q$4","v":0.37647058823529411},{"$f":"IF(P7=0,0,(P7*((LOG(P7))/LOG(2))))","v":-0.53059423478125245},null,null,{"$f":"N7","v":111},{"$f":"COUNTIF(L7:L20,T7)","v":8},{"$f":"U7/(W4-U11)","v":1},{"$f":"IF(V7=0,0,(V7*((LOG(V7))/LOG(2))))","v":0},null,{"$f":"N7","v":111},{"$f":"COUNTIF(L21:L34,Y7)","v":6},{"$f":"Z7/(AB4-Z11)","v":0.8571428571428571},{"$f":"IF(AA7=0,0,(AA7*((LOG(AA7))/LOG(2))))","v":-0.19062207543124113},null,{"$f":"N7","v":111},{"$f":"COUNTIF(L35:L49,AD7)","v":5},{"$f":"AE7/(AG4-AE11)","v":0.625},{"$f":"IF(AF7=0,0,(AF7*((LOG(AF7))/LOG(2))))","v":-0.42379494069539858},null,{"$f":"N7","v":111},{"$f":"COUNTIF(L50:L63,AI7)","v":5},{"$f":"AJ7/(AL4-AJ11)","v":0.5},{"$f":"IF(AK7=0,0,(AK7*((LOG(AK7))/LOG(2))))","v":-0.5},null,{"$f":"N7","v":111},{"$f":"COUNTIF(L64:L77,AN7)","v":6},{"$f":"AO7/(AQ4-AO11)","v":0.75},{"$f":"IF(AP7=0,0,(AP7*((LOG(AP7))/LOG(2))))","v":-0.31127812445913283},null,{"$f":"N7","v":111},{"$f":"COUNTIF(L78:L91,AS7)","v":2},{"$f":"AT7/(AV4-AT11)","v":0.4},{"$f":"IF(AU7=0,0,(AU7*((LOG(AU7))/LOG(2))))","v":-0.52877123795494496}]
[12,111,13,116,13,123,null,null,null,null,0,111,null,112,{"$f":"COUNTIF($L$7:$L$500,N8)","v":1},{"$f":"O8/$Q$4","v":1.1764705882352941E-2},{"$f":"IF(P8=0,0,(P8*((LOG(P8))/LOG(2))))","v":-7.5404599248678844E-2},null,null,{"$f":"N8","v":112},{"$f":"COUNTIF(L7:L20,T8)","v":0},{"$f":"U8/(W4-U11)","v":0},{"$f":"IF(V8=0,0,(V8*((LOG(V8))/LOG(2))))","v":0},null,{"$f":"N8","v":112},{"$f":"COUNTIF(L21:L34,Y8)","v":0},{"$f":"Z8/(AB4-Z11)","v":0},{"$f":"IF(AA8=0,0,(AA8*((LOG(AA8))/LOG(2))))","v":0},null,{"$f":"N8","v":112},{"$f":"COUNTIF(L35:L49,AD8)","v":0},{"$f":"AE8/(AG4-AE11)","v":0},{"$f":"IF(AF8=0,0,(AF8*((LOG(AF8))/LOG(2))))","v":0},null,{"$f":"N8","v":112},{"$f":"COUNTIF(L50:L63,AI8)","v":0},{"$f":"AJ8/(AL4-AJ11)","v":0},{"$f":"IF(AK8=0,0,(AK8*((LOG(AK8))/LOG(2))))","v":0},null,{"$f":"N8","v":112},{"$f":"COUNTIF(L64:L77,AN8)","v":0},{"$f":"AO8/(AQ4-AO11)","v":0},{"$f":"IF(AP8=0,0,(AP8*((LOG(AP8))/LOG(2))))","v":0},null,{"$f":"N8","v":112},{"$f":"COUNTIF(L78:L91,AS8)","v":1},{"$f":"AT8/(AV4-AT11)","v":0.2},{"$f":"IF(AU8=0,0,(AU8*((LOG(AU8))/LOG(2))))","v":-0.46438561897747244}]
[21,220,11,230,11,236,null,null,null,null,0,211,null,121,{"$f":"COUNTIF($L$7:$L$500,N9)","v":0},{"$f":"O9/$Q$4","v":0},{"$f":"IF(P9=0,0,(P9*((LOG(P9))/LOG(2))))","v":0},null,null,{"$f":"N9","v":121},{"$f":"COUNTIF(L7:L20,T9)","v":0},{"$f":"U9/(W4-U11)","v":0},{"$f":"IF(V9=0,0,(V9*((LOG(V9))/LOG(2))))","v":0},null,{"$f":"N9","v":121},{"$f":"COUNTIF(L21:L34,Y9)","v":0},{"$f":"Z9/(AB4-Z11)","v":0},{"$f":"IF(AA9=0,0,(AA9*((LOG(AA9))/LOG(2))))","v":0},null,{"$f":"N9","v":121},{"$f":"COUNTIF(L35:L49,AD9)","v":0},{"$f":"AE9/(AG4-AE11)","v":0},{"$f":"IF(AF9=0,0,(AF9*((LOG(AF9))/LOG(2))))","v":0},null,{"$f":"N9","v":121},{"$f":"COUNTIF(L50:L63,AI9)","v":0},{"$f":"AJ9/(AL4-AJ11)","v":0},{"$f":"IF(AK9=0,0,(AK9*((LOG(AK9))/LOG(2))))","v":0},null,{"$f":"N9","v":121},{"$f":"COUNTIF(L64:L77,AN9)","v":0},{"$f":"AO9/(AQ4-AO11)","v":0},{"$f":"IF(AP9=0,0,(AP9*((LOG(AP9))/LOG(2))))","v":0},null,{"$f":"N9","v":121},{"$f":"COUNTIF(L78:L91,AS9)","v":0},{"$f":"AT9/(AV4-AT11)","v":0},{"$f":"IF(AU9=0,0,(AU9*((LOG(AU9))/LOG(2))))","v":0}]
[12,383,13,388,13,401,null,null,null,null,0,111,null,122,{"$f":"COUNTIF($L$7:$L$500,N10)","v":0},{"$f":"O10/$Q$4","v":0},{"$f":"IF(P10=0,0,(P10*((LOG(P10))/LOG(2))))","v":0},null,null,{"$f":"N10","v":122},{"$f":"COUNTIF(L7:L20,T10)","v":0},{"$f":"U10/(W4-U11)","v":0},{"$f":"IF(V10=0,0,(V10*((LOG(V10))/LOG(2))))","v":0},null,{"$f":"N10","v":122},{"$f":"COUNTIF(L21:L34,Y10)","v":0},{"$f":"Z10/(AB4-Z11)","v":0},{"$f":"IF(AA10=0,0,(AA10*((LOG(AA10))/LOG(2))))","v":0},null,{"$f":"N10","v":122},{"$f":"COUNTIF(L35:L49,AD10)","v":0},{"$f":"AE10/(AG4-AE11)","v":0},{"$f":"IF(AF10=0,0,(AF10*((LOG(AF10))/LOG(2))))","v":0},null,{"$f":"N10","v":122},{"$f":"COUNTIF(L50:L63,AI10)","v":0},{"$f":"AJ10/(AL4-AJ11)","v":0},{"$f":"IF(AK10=0,0,(AK10*((LOG(AK10))/LOG(2))))","v":0},null,{"$f":"N10","v":122},{"$f":"COUNTIF(L64:L77,AN10)","v":0},{"$f":"AO10/(AQ4-AO11)","v":0},{"$f":"IF(AP10=0,0,(AP10*((LOG(AP10))/LOG(2))))","v":0},null,{"$f":"N10","v":122},{"$f":"COUNTIF(L78:L91,AS10)","v":0},{"$f":"AT10/(AV4-AT11)","v":0},{"$f":"IF(AU10=0,0,(AU10*((LOG(AU10))/LOG(2))))","v":0}]
[21,501,11,512,11,517,null,null,null,null,0,211,null,211,{"$f":"COUNTIF($L$7:$L$500,N11)","v":39},{"$f":"O11/$Q$4","v":0.45882352941176469},{"$f":"IF(P11=0,0,(P11*((LOG(P11))/LOG(2))))","v":-0.51571247027932565},null,null,{"$f":"N11","v":211},{"$f":"COUNTIF(L7:L20,T11)","v":6},null,null,null,{"$f":"N11","v":211},{"$f":"COUNTIF(L21:L34,Y11)","v":7},null,null,null,{"$f":"N11","v":211},{"$f":"COUNTIF(L35:L49,AD11)","v":7},null,null,null,{"$f":"N11","v":211},{"$f":"COUNTIF(L50:L63,AI11)","v":4},null,null,null,{"$f":"N11","v":211},{"$f":"COUNTIF(L64:L77,AN11)","v":6},null,null,null,{"$f":"N11","v":211},{"$f":"COUNTIF(L78:L91,AS11)","v":9}]
[12,692,13,696,13,701,null,null,null,null,0,111,null,212,{"$f":"COUNTIF($L$7:$L$500,N12)","v":0},{"$f":"O12/$Q$4","v":0},{"$f":"IF(P12=0,0,(P12*((LOG(P12))/LOG(2))))","v":0},null,null,{"$f":"N12","v":212},{"$f":"COUNTIF(L7:L20,T12)","v":0},{"$f":"U12/(W4-U11)","v":0},{"$f":"IF(V12=0,0,(V12*((LOG(V12))/LOG(2))))","v":0},null,{"$f":"N12","v":212},{"$f":"COUNTIF(L21:L34,Y12)","v":0},{"$f":"Z12/(AB4-Z11)","v":0},{"$f":"IF(AA12=0,0,(AA12*((LOG(AA12))/LOG(2))))","v":0},null,{"$f":"N12","v":212},{"$f":"COUNTIF(L35:L49,AD12)","v":0},{"$f":"AE12/(AG4-AE11)","v":0},{"$f":"IF(AF12=0,0,(AF12*((LOG(AF12))/LOG(2))))","v":0},null,{"$f":"N12","v":212},{"$f":"COUNTIF(L50:L63,AI12)","v":0},{"$f":"AJ12/(AL4-AJ11)","v":0},{"$f":"IF(AK12=0,0,(AK12*((LOG(AK12))/LOG(2))))","v":0},null,{"$f":"N12","v":212},{"$f":"COUNTIF(L64:L77,AN12)","v":0},{"$f":"AO12/(AQ4-AO11)","v":0},{"$f":"IF(AP12=0,0,(AP12*((LOG(AP12))/LOG(2))))","v":0},null,{"$f":"N12","v":212},{"$f":"COUNTIF(L78:L91,AS12)","v":0},{"$f":"AT12/(AV4-AT11)","v":0},{"$f":"IF(AU12=0,0,(AU12*((LOG(AU12))/LOG(2))))","v":0}]
[21,808,11,821,11,827,null,null,null,null,0,211,null,221,{"$f":"COUNTIF($L$7:$L$500,N13)","v":11},{"$f":"O13/$Q$4","v":0.12941176470588237},{"$f":"IF(P13=0,0,(P13*((LOG(P13))/LOG(2))))","v":-0.38175944108828763},null,null,{"$f":"N13","v":221},{"$f":"COUNTIF(L7:L20,T13)","v":0},{"$f":"U13/(W4-U11)","v":0},{"$f":"IF(V13=0,0,(V13*((LOG(V13))/LOG(2))))","v":0},null,{"$f":"N13","v":221},{"$f":"COUNTIF(L21:L34,Y13)","v":1},{"$f":"Z13/(AB4-Z11)","v":0.14285714285714285},{"$f":"IF(AA13=0,0,(AA13*((LOG(AA13))/LOG(2))))","v":-0.40105070315108626},null,{"$f":"N13","v":221},{"$f":"COUNTIF(L35:L49,AD13)","v":2},{"$f":"AE13/(AG4-AE11)","v":0.25},{"$f":"IF(AF13=0,0,(AF13*((LOG(AF13))/LOG(2))))","v":-0.5},null,{"$f":"N13","v":221},{"$f":"COUNTIF(L50:L63,AI13)","v":5},{"$f":"AJ13/(AL4-AJ11)","v":0.5},{"$f":"IF(AK13=0,0,(AK13*((LOG(AK13))/LOG(2))))","v":-0.5},null,{"$f":"N13","v":221},{"$f":"COUNTIF(L64:L77,AN13)","v":2},{"$f":"AO13/(AQ4-AO11)","v":0.25},{"$f":"IF(AP13=0,0,(AP13*((LOG(AP13))/LOG(2))))","v":-0.5},null,{"$f":"N13","v":221},{"$f":"COUNTIF(L78:L91,AS13)","v":1},{"$f":"AT13/(AV4-AT11)","v":0.2},{"$f":"IF(AU13=0,0,(AU13*((LOG(AU13))/LOG(2))))","v":-0.46438561897747244}]
[12,979,13,982,13,988,null,null,null,null,0,111,null,222,{"$f":"COUNTIF($L$7:$L$500,N14)","v":2},{"$f":"O14/$Q$4","v":2.3529411764705882E-2},{"$f":"IF(P14=0,0,(P14*((LOG(P14))/LOG(2))))","v":-0.12727978673265181},null,null,{"$f":"N14","v":222},{"$f":"COUNTIF(L7:L20,T14)","v":0},{"$f":"U14/(W4-U11)","v":0},{"$f":"IF(V14=0,0,(V14*((LOG(V14))/LOG(2))))","v":0},null,{"$f":"N14","v":222},{"$f":"COUNTIF(L21:L34,Y14)","v":0},{"$f":"Z14/(AB4-Z11)","v":0},{"$f":"IF(AA14=0,0,(AA14*((LOG(AA14))/LOG(2))))","v":0},null,{"$f":"N14","v":222},{"$f":"COUNTIF(L35:L49,AD14)","v":1},{"$f":"AE14/(AG4-AE11)","v":0.125},{"$f":"IF(AF14=0,0,(AF14*((LOG(AF14))/LOG(2))))","v":-0.375},null,{"$f":"N14","v":222},{"$f":"COUNTIF(L50:L63,AI14)","v":0},{"$f":"AJ14/(AL4-AJ11)","v":0},{"$f":"IF(AK14=0,0,(AK14*((LOG(AK14))/LOG(2))))","v":0},null,{"$f":"N14","v":222},{"$f":"COUNTIF(L64:L77,AN14)","v":0},{"$f":"AO14/(AQ4-AO11)","v":0},{"$f":"IF(AP14=0,0,(AP14*((LOG(AP14))/LOG(2))))","v":0},null,{"$f":"N14","v":222},{"$f":"COUNTIF(L78:L91,AS14)","v":1},{"$f":"AT14/(AV4-AT11)","v":0.2},{"$f":"IF(AU14=0,0,(AU14*((LOG(AU14))/LOG(2))))","v":-0.46438561897747244}]
[12,1098,13,1103,13,1108,null,null,null,null,0,111,null,null,null,{"$f":"SUM(P7:P14)","v":1},{"$f":"-SUM(Q7:Q14)","v":1.6307505321301963},null,null,null,null,{"$f":"SUM(V7:V14)","v":1},{"$f":"-SUM(W7:W14)","v":0},null,null,null,{"$f":"SUM(AA7:AA14)","v":1},{"$f":"-SUM(AB7:AB14)","v":0.59167277858232736},null,null,null,{"$f":"SUM(AF7:AF14)","v":1},{"$f":"-SUM(AG7:AG14)","v":1.2987949406953985},null,null,null,{"$f":"SUM(AK7:AK14)","v":1},{"$f":"-SUM(AL7:AL14)","v":1},null,null,null,{"$f":"SUM(AP7:AP14)","v":1},{"$f":"-SUM(AQ7:AQ14)","v":0.81127812445913283},null,null,null,{"$f":"SUM(AU7:AU14)","v":1},{"$f":"-SUM(AV7:AV14)","v":1.9219280948873623}]
[21,1203,11,1212,11,1217,null,null,null,null,0,211,null,null,null,"U=",{"$f":"Q15/(LOG(Q4)/LOG(2))","v":0.25443143480851338},null,null,null,null,"U1=",{"$f":"W15/(LOG(W4)/LOG(2))","v":0},null,null,null,"U2=",{"$f":"AB15/(LOG(AB4)/LOG(2))","v":0.15540258018881267},null,null,null,"U3=",{"$f":"AG15/(LOG(AG4)/LOG(2))","v":0.33243698765337565},null,null,null,"U4=",{"$f":"AL15/(LOG(AL4)/LOG(2))","v":0.26264953503719357},null,null,null,"U5=",{"$f":"AQ15/(LOG(AQ4)/LOG(2))","v":0.21308182217503771},null,null,null,"U6=",{"$f":"AV15/(LOG(AV4)/LOG(2))","v":0.50479352049708492}]
[12,1347,13,1350,13,1355,null,null,null,null,0,111]
[21,1456,11,1464,11,1470,null,null,null,null,0,211]
[12,1684,13,1687,13,1692,null,null,null,null,0,111,null,"Total Target Seq"]
[21,1795,11,1802,11,1806,null,null,null,null,0,211,null,{"$f":"COUNTIF(L7:L91,G3)","v":39},null,14,14,15,14,14,14]
[12,1981,13,1983,13,1987,null,null,null,null,0,111,null,null,null,"% of reinforcement given in 6 equal intervals based on number of trials "]
[21,2082,11,2092,11,2098,null,null,null,null,0,211,null,null,null,"%_1","%_2","%_3","%_4","%_5","%_6"]
[12,2227,13,2231,13,2237,null,null,null,null,0,111,null,null,"target sequence",{"$f":"$G$3","v":211},{"$f":"$G$3","v":211},{"$f":"$G$3","v":211},{"$f":"$G$3","v":211},{"$f":"$G$3","v":211},{"$f":"$G$3","v":211}]
[21,2339,11,2348,11,2354,null,null,null,null,0,211,null,null,"total reinforcement",{"$f":"U11","v":6},{"$f":"Z11","v":7},{"$f":"AE11","v":7},{"$f":"AJ11","v":4},{"$f":"AO11","v":6},{"$f":"AT11","v":9}]
[12,2510,13,2515,13,2521,null,null,null,null,0,111,null,null,"% target"]
[21,2618,11,2628,11,2633,null,null,null,null,0,211,null,null,"CCRF"]
[12,2758,13,2762,13,2768,null,null,null,null,0,111,null,null,"% CCRf"]
[21,2867,11,2877,11,2882,null,null,null,null,0,211,null,null,"average response rate",{"$f":"F20/P20","v":129},{"$f":"(F34-F20)/Q20","v":143.35714285714286},{"$f":"(F49-F34)/R20","v":154.33333333333334},{"$f":"(F63-F49)/S20","v":131.57142857142858},{"$f":"(F77-F63)/T20","v":138.5},{"$f":"(F91-F77)/U20","v":153.71428571428572}]
[12,2996,13,3001,13,3007,null,null,null,null,0,111]
[21,3106,11,3116,11,3120,null,null,null,null,0,211]
[21,3329,22,3330,13,3340,null,null,null,null,0,221]
[12,3510,13,3515,13,3522,null,null,null,null,0,111]
[21,3617,11,3627,11,3633,null,null,null,null,0,211]
[21,3801,11,3809,11,3813,null,null,null,null,0,211]
[12,3998,13,4004,13,4016,null,null,null,null,0,111]
[21,4113,11,4122,11,4128,null,null,null,null,0,211]
[12,4329,13,4340,13,4351,null,null,null,null,0,111]
[21,4454,11,4462,11,4467,null,null,null,null,0,211]
[12,4692,13,4696,13,4705,null,null,null,null,0,111]
[21,4805,11,4814,11,4821,null,null,null,null,0,211]
[21,4966,11,4976,11,4994,null,null,null,null,0,211]
[12,5215,13,5220,13,5233,null,null,null,null,0,111]
[21,5326,22,5329,24,5338,null,null,null,null,0,222]
[21,5436,11,5446,11,5450,null,null,null,null,0,211]
[21,5557,11,5566,11,5570,null,null,null,null,0,211]
[21,5716,11,5724,11,5728,null,null,null,null,0,211]
[12,5900,13,5904,13,5909,null,null,null,null,0,111]
[21,6001,22,6007,13,6016,null,null,null,null,0,221]
[21,6113,22,6120,13,6128,null,null,null,null,0,221]
[21,6221,22,6229,13,6243,null,null,null,null,0,221]
[21,6341,22,6348,13,6357,null,null,null,null,0,221]
[21,6449,22,6455,13,6466,null,null,null,null,0,221]
[21,6566,22,6569,13,6582,null,null,null,null,0,221]
[21,6678,22,6682,13,6691,null,null,null,null,0,221]
[21,6788,11,6803,11,6809,null,null,null,null,0,211]
[12,6956,13,6962,13,6968,null,null,null,null,0,111]
[21,7072,11,7081,11,7091,null,null,null,null,0,211]
[12,7246,13,7252,13,7266,null,null,null,null,0,111]
[21,7365,11,7374,11,7381,null,null,null,null,0,211]
[12,7514,13,7520,13,7529,null,null,null,null,0,111]
[21,7633,11,7649,11,7653,null,null,null,null,0,211]
[12,7829,13,7832,13,7839,null,null,null,null,0,111]
[12,7946,13,7956,13,7970,null,null,null,null,0,111]
[21,8067,11,8077,11,8082,null,null,null,null,0,211]
[21,8188,11,8199,11,8206,null,null,null,null,0,211]
[12,8372,13,8377,13,8383,null,null,null,null,0,111]
[21,8478,11,8489,11,8494,null,null,null,null,0,211]
[12,8649,13,8654,13,8672,null,null,null,null,0,111]
[21,8775,11,8784,11,8789,null,null,null,null,0,211]
[12,8946,13,8950,13,8958,null,null,null,null,0,111]
[21,9051,22,9057,13,9065,null,null,null,null,0,221]
[21,9166,11,9176,11,9184,null,null,null,null,0,211]
[21,9324,11,9333,11,9337,null,null,null,null,0,211]
[12,9551,13,9556,13,9569,null,null,null,null,0,111]
[12,9672,13,9676,13,9689,null,null,null,null,0,111]
[12,9794,13,9798,13,9804,null,null,null,null,0,111]
[21,9896,22,9901,13,9909,null,null,null,null,0,221]
[21,10014,11,10025,11,10029,null,null,null,null,0,211]
[21,10150,22,10152,13,10160,null,null,null,null,0,221]
[21,10256,22,10261,24,10264,null,null,null,null,0,222]
[12,10372,13,10377,24,10386,null,null,null,null,0,112]
[21,10485,11,10499,11,10507,null,null,null,null,0,211]
[21,10697,11,10706,11,10720,null,null,null,null,0,211]
[12,10905,13,10910,13,10920,null,null,null,null,0,111]
[12,11028,13,11032,13,11038,null,null,null,null,0,111]
[21,11138,11,11148,11,11154,null,null,null,null,0,211]
[21,11314,11,11323,11,11331,null,null,null,null,0,211]
[21,11530,11,11542,11,11550,null,null,null,null,0,211]
[21,11715,11,11724,11,11727,null,null,null,null,0,211]
[21,11908,11,11916,11,11920,null,null,null,null,0,211]
[21,12049,11,12057,11,12061,null,null,null,null,1,211]

{"sheet":"!M92891D.ust","index":8,"n_rows":80,"n_cols":48,"rows_kept":80,"cut":false,"hidden":false,"merged":[[4,39,4,42],[5,39,5,40],[4,44,4,47],[5,44,5,45],[4,24,4,27],[5,24,5,25],[4,29,4,32],[5,29,5,30],[4,34,4,37],[5,34,5,35],[1,1,1,2],[5,13,5,14],[18,13,18,14],[19,13,19,14],[4,19,4,22],[5,19,5,20]]}
["Report for:!M92891D.ust"]
["Date:","<date>"]
["Hen:","<hen>",null,null,null,"Correct Sequence",{"$f":"Start!J2","v":211},null,null,null,null,null,null,null,null,"Total Sequences in Data",{"$f":"4994-COUNTBLANK(L7:L5000)","v":74},null,null,null,null,"Total Sequences in Block Data",{"$f":"COUNTA(L7:L18)","v":12},null,null,null,"Total Sequences in Block Data",{"$f":"COUNTA(L19:L31)","v":13},null,null,null,"Total Sequences in Block Data",{"$f":"COUNTA(L32:L43)","v":12},null,null,null,"Total Sequences in Block Data",{"$f":"COUNTA(L44:L55)","v":12},null,null,null,"Total Sequences in Block Data",{"$f":"COUNTA(L56:L68)","v":13},null,null,null,"Total Sequences in Block Data",{"$f":"COUNTA(L69:L80)","v":12}]
[null,null,null,null,null,null,null,null,null,null,null,null,null,null,null,"Total Sequences in Summary",{"$f":"SUM(O7:O14)","v":74},null,null,null,null,"Total Sequences in Block Summary",{"$f":"SUM(U7:U14)","v":12},null,null,null,"Total Sequences in Block Summary",{"$f":"SUM(Z7:Z14)","v":13},null,null,null,"Total Sequences in Block Summary",{"$f":"SUM(AE7:AE14)","v":12},null,null,null,"Total Sequences in Block Summary",{"$f":"SUM(AJ7:AJ14)","v":12},null,null,null,"Total Sequences in Block Summary",{"$f":"SUM(AO7:AO14)","v":13},null,null,null,"Total Sequences in Block Summary",{"$f":"SUM(AT7:AT14)","v":12}]
[null,null,null,null,null,null,null,null,null,null,null,null,null,null,null,null,null,null,null,"Block 1",null,null,null,null,"Block 2",null,null,null,null,"Block 3",null,null,null,null,"Block 4",null,null,null,null,"Block 5",null,null,null,null,"Block 6"]
["Sequence\nComponent\n1","Time\n1","Sequence\nComponent\n2","Time\n2","Sequence\nComponent\n3","Time\n3","Sequence\nComponent\n4","Time\n4","Sequence\nComponent\n5","Time\n5","Correct?\n0=No 1=Yes","Sequence",null,"Frequency",null,"Relative Frequency","Variability",null,null,"Frequency",null,"Relative Frequency","Variability",null,"Frequency",null,"Relative Frequency","Variability",null,"Frequency",null,"Relative Frequency","Variability",null,"Frequency",null,"Relative Frequency","Variability",null,"Frequency",null,"Relative Frequency","Variability",null,"Frequency",null,"Relative Frequency","Variability"]
[12,6,13,11,13,17,null,null,null,null,0,111,null,111,{"$f":"COUNTIF($L$7:$L$500,N7)","v":28},{"$f":"O7/$Q$4","v":0.3783783783783784},{"$f":"IF(P7=0,0,(P7*((LOG(P7))/LOG(2))))","v":-0.53052373540537412},null,null,{"$f":"N7","v":111},{"$f":"COUNTIF(L7:L18,T7)","v":5},{"$f":"U7/(W4-U11)","v":0.7142857142857143},{"$f":"IF(V7=0,0,(V7*((LOG(V7))/LOG(2))))","v":-0.34673344797874411},null,{"$f":"N7","v":111},{"$f":"COUNTIF(L19:L31,Y7)","v":4},{"$f":"Z7/(AB4-Z11)","v":1},{"$f":"IF(AA7=0,0,(AA7*((LOG(AA7))/LOG(2))))","v":0},null,{"$f":"N7","v":111},{"$f":"COUNTIF(L32:L43,AD7)","v":6},{"$f":"AE7/(AG4-AE11)","v":1},{"$f":"IF(AF7=0,0,(AF7*((LOG(AF7))/LOG(2))))","v":0},null,{"$f":"N7","v":111},{"$f":"COUNTIF(L44:L55,AI7)","v":4},{"$f":"AJ7/(AL4-AJ11)","v":0.8},{"$f":"IF(AK7=0,0,(AK7*((LOG(AK7))/LOG(2))))","v":-0.25754247590988982},null,{"$f":"N7","v":111},{"$f":"COUNTIF(L56:L68,AN7)","v":6},{"$f":"AO7/(AQ4-AO11)","v":1},{"$f":"IF(AP7=0,0,(AP7*((LOG(AP7))/LOG(2))))","v":0},null,{"$f":"N7","v":111},{"$f":"COUNTIF(L69:L80,AS7)","v":3},{"$f":"AT7/(AV4-AT11)","v":0.42857142857142855},{"$f":"IF(AU7=0,0,(AU7*((LOG(AU7))/LOG(2))))","v":-0.52388246628704915}]
[21,113,11,122,11,126,null,null,null,null,0,211,null,112,{"$f":"COUNTIF($L$7:$L$500,N8)","v":1},{"$f":"O8/$Q$4","v":1.3513513513513514E-2},{"$f":"IF(P8=0,0,(P8*((LOG(P8))/LOG(2))))","v":-8.3911531967958794E-2},null,null,{"$f":"N8","v":112},{"$f":"COUNTIF(L7:L18,T8)","v":0},{"$f":"U8/(W4-U11)","v":0},{"$f":"IF(V8=0,0,(V8*((LOG(V8))/LOG(2))))","v":0},null,{"$f":"N8","v":112},{"$f":"COUNTIF(L19:L31,Y8)","v":0},{"$f":"Z8/(AB4-Z11)","v":0},{"$f":"IF(AA8=0,0,(AA8*((LOG(AA8))/LOG(2))))","v":0},null,{"$f":"N8","v":112},{"$f":"COUNTIF(L32:L43,AD8)","v":0},{"$f":"AE8/(AG4-AE11)","v":0},{"$f":"IF(AF8=0,0,(AF8*((LOG(AF8))/LOG(2))))","v":0},null,{"$f":"N8","v":112},{"$f":"COUNTIF(L44:L55,AI8)","v":0},{"$f":"AJ8/(AL4-AJ11)","v":0},{"$f":"IF(AK8=0,0,(AK8*((LOG(AK8))/LOG(2))))","v":0},null,{"$f":"N8","v":112},{"$f":"COUNTIF(L56:L68,AN8)","v":0},{"$f":"AO8/(AQ4-AO11)","v":0},{"$f":"IF(AP8=0,0,(AP8*((LOG(AP8))/LOG(2))))","v":0},null,{"$f":"N8","v":112},{"$f":"COUNTIF(L69:L80,AS8)","v":1},{"$f":"AT8/(AV4-AT11)","v":0.14285714285714285},{"$f":"IF(AU8=0,0,(AU8*((LOG(AU8))/LOG(2))))","v":-0.40105070315108626}]
[12,288,13,292,13,299,null,null,null,null,0,111,null,121,{"$f":"COUNTIF($L$7:$L$500,N9)","v":0},{"$f":"O9/$Q$4","v":0},{"$f":"IF(P9=0,0,(P9*((LOG(P9))/LOG(2))))","v":0},null,null,{"$f":"N9","v":121},{"$f":"COUNTIF(L7:L18,T9)","v":0},{"$f":"U9/(W4-U11)","v":0},{"$f":"IF(V9=0,0,(V9*((LOG(V9))/LOG(2))))","v":0},null,{"$f":"N9","v":121},{"$f":"COUNTIF(L19:L31,Y9)","v":0},{"$f":"Z9/(AB4-Z11)","v":0},{"$f":"IF(AA9=0,0,(AA9*((LOG(AA9))/LOG(2))))","v":0},null,{"$f":"N9","v":121},{"$f":"COUNTIF(L32:L43,AD9)","v":0},{"$f":"AE9/(AG4-AE11)","v":0},{"$f":"IF(AF9=0,0,(AF9*((LOG(AF9))/LOG(2))))","v":0},null,{"$f":"N9","v":121},{"$f":"COUNTIF(L44:L55,AI9)","v":0},{"$f":"AJ9/(AL4-AJ11)","v":0},{"$f":"IF(AK9=0,0,(AK9*((LOG(AK9))/LOG(2))))","v":0},null,{"$f":"N9","v":121},{"$f":"COUNTIF(L56:L68,AN9)","v":0},{"$f":"AO9/(AQ4-AO11)","v":0},{"$f":"IF(AP9=0,0,(AP9*((LOG(AP9))/LOG(2))))","v":0},null,{"$f":"N9","v":121},{"$f":"COUNTIF(L69:L80,AS9)","v":0},{"$f":"AT9/(AV4-AT11)","v":0},{"$f":"IF(AU9=0,0,(AU9*((LOG(AU9))/LOG(2))))","v":0}]
[21,399,11,409,11,419,null,null,null,null,0,211,null,122,{"$f":"COUNTIF($L$7:$L$500,N10)","v":0},{"$f":"O10/$Q$4","v":0},{"$f":"IF(P10=0,0,(P10*((LOG(P10))/LOG(2))))","v":0},null,null,{"$f":"N10","v":122},{"$f":"COUNTIF(L7:L18,T10)","v":0},{"$f":"U10/(W4-U11)","v":0},{"$f":"IF(V10=0,0,(V10*((LOG(V10))/LOG(2))))","v":0},null,{"$f":"N10","v":122},{"$f":"COUNTIF(L19:L31,Y10)","v":0},{"$f":"Z10/(AB4-Z11)","v":0},{"$f":"IF(AA10=0,0,(AA10*((LOG(AA10))/LOG(2))))","v":0},null,{"$f":"N10","v":122},{"$f":"COUNTIF(L32:L43,AD10)","v":0},{"$f":"AE10/(AG4-AE11)","v":0},{"$f":"IF(AF10=0,0,(AF10*((LOG(AF10))/LOG(2))))","v":0},null,{"$f":"N10","v":122},{"$f":"COUNTIF(L44:L55,AI10)","v":0},{"$f":"AJ10/(AL4-AJ11)","v":0},{"$f":"IF(AK10=0,0,(AK10*((LOG(AK10))/LOG(2))))","v":0},null,{"$f":"N10","v":122},{"$f":"COUNTIF(L56:L68,AN10)","v":0},{"$f":"AO10/(AQ4-AO11)","v":0},{"$f":"IF(AP10=0,0,(AP10*((LOG(AP10))/LOG(2))))","v":0},null,{"$f":"N10","v":122},{"$f":"COUNTIF(L69:L80,AS10)","v":0},{"$f":"AT10/(AV4-AT11)","v":0},{"$f":"IF(AU10=0,0,(AU10*((LOG(AU10))/LOG(2))))","v":0}]
[21,586,11,599,11,604,null,null,null,null,0,211,null,211,{"$f":"COUNTIF($L$7:$L$500,N11)","v":39},{"$f":"O11/$Q$4","v":0.52702702702702697},{"$f":"IF(P11=0,0,(P11*((LOG(P11))/LOG(2))))","v":-0.48699992870136966},null,null,{"$f":"N11","v":211},{"$f":"COUNTIF(L7:L18,T11)","v":5},null,null,null,{"$f":"N11","v":211},{"$f":"COUNTIF(L19:L31,Y11)","v":9},null,null,null,{"$f":"N11","v":211},{"$f":"COUNTIF(L32:L43,AD11)","v":6},null,null,null,{"$f":"N11","v":211},{"$f":"COUNTIF(L44:L55,AI11)","v":7},null,null,null,{"$f":"N11","v":211},{"$f":"COUNTIF(L56:L68,AN11)","v":7},null,null,null,{"$f":"N11","v":211},{"$f":"COUNTIF(L69:L80,AS11)","v":5}]
[12,768,13,773,13,779,null,null,null,null,0,111,null,212,{"$f":"COUNTIF($L$7:$L$500,N12)","v":0},{"$f":"O12/$Q$4","v":0},{"$f":"IF(P12=0,0,(P12*((LOG(P12))/LOG(2))))","v":0},null,null,{"$f":"N12","v":212},{"$f":"COUNTIF(L7:L18,T12)","v":0},{"$f":"U12/(W4-U11)","v":0},{"$f":"IF(V12=0,0,(V12*((LOG(V12))/LOG(2))))","v":0},null,{"$f":"N12","v":212},{"$f":"COUNTIF(L19:L31,Y12)","v":0},{"$f":"Z12/(AB4-Z11)","v":0},{"$f":"IF(AA12=0,0,(AA12*((LOG(AA12))/LOG(2))))","v":0},null,{"$f":"N12","v":212},{"$f":"COUNTIF(L32:L43,AD12)","v":0},{"$f":"AE12/(AG4-AE11)","v":0},{"$f":"IF(AF12=0,0,(AF12*((LOG(AF12))/LOG(2))))","v":0},null,{"$f":"N12","v":212},{"$f":"COUNTIF(L44:L55,AI12)","v":0},{"$f":"AJ12/(AL4-AJ11)","v":0},{"$f":"IF(AK12=0,0,(AK12*((LOG(AK12))/LOG(2))))","v":0},null,{"$f":"N12","v":212},{"$f":"COUNTIF(L56:L68,AN12)","v":0},{"$f":"AO12/(AQ4-AO11)","v":0},{"$f":"IF(AP12=0,0,(AP12*((LOG(AP12))/LOG(2))))","v":0},null,{"$f":"N12","v":212},{"$f":"COUNTIF(L69:L80,AS12)","v":0},{"$f":"AT12/(AV4-AT11)","v":0},{"$f":"IF(AU12=0,0,(AU12*((LOG(AU12))/LOG(2))))","v":0}]
[21,872,22,877,13,886,null,null,null,null,0,221,null,221,{"$f":"COUNTIF($L$7:$L$500,N13)","v":5},{"$f":"O13/$Q$4","v":6.7567567567567571E-2},{"$f":"IF(P13=0,0,(P13*((LOG(P13))/LOG(2))))","v":-0.26267062640145861},null,null,{"$f":"N13","v":221},{"$f":"COUNTIF(L7:L18,T13)","v":2},{"$f":"U13/(W4-U11)","v":0.2857142857142857},{"$f":"IF(V13=0,0,(V13*((LOG(V13))/LOG(2))))","v":-0.51638712058788683},null,{"$f":"N13","v":221},{"$f":"COUNTIF(L19:L31,Y13)","v":0},{"$f":"Z13/(AB4-Z11)","v":0},{"$f":"IF(AA13=0,0,(AA13*((LOG(AA13))/LOG(2))))","v":0},null,{"$f":"N13","v":221},{"$f":"COUNTIF(L32:L43,AD13)","v":0},{"$f":"AE13/(AG4-AE11)","v":0},{"$f":"IF(AF13=0,0,(AF13*((LOG(AF13))/LOG(2))))","v":0},null,{"$f":"N13","v":221},{"$f":"COUNTIF(L44:L55,AI13)","v":1},{"$f":"AJ13/(AL4-AJ11)","v":0.2},{"$f":"IF(AK13=0,0,(AK13*((LOG(AK13))/LOG(2))))","v":-0.46438561897747244},null,{"$f":"N13","v":221},{"$f":"COUNTIF(L56:L68,AN13)","v":0},{"$f":"AO13/(AQ4-AO11)","v":0},{"$f":"IF(AP13=0,0,(AP13*((LOG(AP13))/LOG(2))))","v":0},null,{"$f":"N13","v":221},{"$f":"COUNTIF(L69:L80,AS13)","v":2},{"$f":"AT13/(AV4-AT11)","v":0.2857142857142857},{"$f":"IF(AU13=0,0,(AU13*((LOG(AU13))/LOG(2))))","v":-0.51638712058788683}]
[12,1014,13,1019,13,1038,null,null,null,null,0,111,null,222,{"$f":"COUNTIF($L$7:$L$500,N14)","v":1},{"$f":"O14/$Q$4","v":1.3513513513513514E-2},{"$f":"IF(P14=0,0,(P14*((LOG(P14))/LOG(2))))","v":-8.3911531967958794E-2},null,null,{"$f":"N14","v":222},{"$f":"COUNTIF(L7:L18,T14)","v":0},{"$f":"U14/(W4-U11)","v":0},{"$f":"IF(V14=0,0,(V14*((LOG(V14))/LOG(2))))","v":0},null,{"$f":"N14","v":222},{"$f":"COUNTIF(L19:L31,Y14)","v":0},{"$f":"Z14/(AB4-Z11)","v":0},{"$f":"IF(AA14=0,0,(AA14*((LOG(AA14))/LOG(2))))","v":0},null,{"$f":"N14","v":222},{"$f":"COUNTIF(L32:L43,AD14)","v":0},{"$f":"AE14/(AG4-AE11)","v":0},{"$f":"IF(AF14=0,0,(AF14*((LOG(AF14))/LOG(2))))","v":0},null,{"$f":"N14","v":222},{"$f":"COUNTIF(L44:L55,AI14)","v":0},{"$f":"AJ14/(AL4-AJ11)","v":0},{"$f":"IF(AK14=0,0,(AK14*((LOG(AK14))/LOG(2))))","v":0},null,{"$f":"N14","v":222},{"$f":"COUNTIF(L56:L68,AN14)","v":0},{"$f":"AO14/(AQ4-AO11)","v":0},{"$f":"IF(AP14=0,0,(AP14*((LOG(AP14))/LOG(2))))","v":0},null,{"$f":"N14","v":222},{"$f":"COUNTIF(L69:L80,AS14)","v":1},{"$f":"AT14/(AV4-AT11)","v":0.14285714285714285},{"$f":"IF(AU14=0,0,(AU14*((LOG(AU14))/LOG(2))))","v":-0.40105070315108626}]
[21,1136,22,1144,13,1152,null,null,null,null,0,221,null,null,null,{"$f":"SUM(P7:P14)","v":0.99999999999999989},{"$f":"-SUM(Q7:Q14)","v":1.4480173544441202},null,null,null,null,{"$f":"SUM(V7:V14)","v":1},{"$f":"-SUM(W7:W14)","v":0.863120568566631},null,null,null,{"$f":"SUM(AA7:AA14)","v":1},{"$f":"-SUM(AB7:AB14)","v":0},null,null,null,{"$f":"SUM(AF7:AF14)","v":1},{"$f":"-SUM(AG7:AG14)","v":0},null,null,null,{"$f":"SUM(AK7:AK14)","v":1},{"$f":"-SUM(AL7:AL14)","v":0.72192809488736231},null,null,null,{"$f":"SUM(AP7:AP14)","v":1},{"$f":"-SUM(AQ7:AQ14)","v":0},null,null,null,{"$f":"SUM(AU7:AU14)","v":1},{"$f":"-SUM(AV7:AV14)","v":1.8423709931771084}]
[21,1252,11,1263,11,1267,null,null,null,null,0,211,null,null,null,"U=",{"$f":"Q15/(LOG(Q4)/LOG(2))","v":0.23319562434582383},null,null,null,null,"U1=",{"$f":"W15/(LOG(W4)/LOG(2))","v":0.24076139384805401},null,null,null,"U2=",{"$f":"AB15/(LOG(AB4)/LOG(2))","v":0},null,null,null,"U3=",{"$f":"AG15/(LOG(AG4)/LOG(2))","v":0},null,null,null,"U4=",{"$f":"AL15/(LOG(AL4)/LOG(2))","v":0.20137674933618921},null,null,null,"U5=",{"$f":"AQ15/(LOG(AQ4)/LOG(2))","v":0},null,null,null,"U6=",{"$f":"AV15/(LOG(AV4)/LOG(2))","v":0.51391639181902016}]
[12,1426,13,1430,13,1438,null,null,null,null,0,111]
[21,1536,11,1545,11,1550,null,null,null,null,0,211]
[21,1677,11,1690,11,1701,null,null,null,null,0,211,null,"Total Target Seq"]
[21,1860,11,1867,11,1872,null,null,null,null,0,211,null,{"$f":"COUNTIF(L7:L80,G3)","v":39},null,12,13,12,12,13,12]
[21,2011,11,2019,11,2023,null,null,null,null,0,211,null,null,null,"% of reinforcement given in 6 equal intervals based on number of trials "]
[21,2228,11,2236,11,2241,null,null,null,null,0,211,null,null,null,"%_1","%_2","%_3","%_4","%_5","%_6"]
[12,2427,13,2432,13,2443,null,null,null,null,0,111,null,null,"target sequence",{"$f":"$G$3","v":211},{"$f":"$G$3","v":211},{"$f":"$G$3","v":211},{"$f":"$G$3","v":211},{"$f":"$G$3","v":211},{"$f":"$G$3","v":211}]
[21,2539,11,2550,11,2555,null,null,null,null,0,211,null,null,"total reinforcement",{"$f":"U11","v":5},{"$f":"Z11","v":9},{"$f":"AE11","v":6},{"$f":"AJ11","v":7},{"$f":"AO11","v":7},{"$f":"AT11","v":5}]
[21,2685,11,2692,11,2697,null,null,null,null,0,211,null,null,"% target"]
[12,2934,13,2939,13,2953,null,null,null,null,0,111,null,null,"CCRF"]
[21,3052,11,3060,11,3065,null,null,null,null,0,211,null,null,"% CCRf"]
[12,3173,13,3179,13,3181,null,null,null,null,0,111,null,null,"average response rate",{"$f":"F18/P20","v":129.16666666666666},{"$f":"(F31-F18)/Q20","v":155.69230769230768},{"$f":"(F43-F31)/R20","v":146.33333333333334},{"$f":"(F55-F43)/S20","v":139.58333333333334},{"$f":"(F68-F55)/T20","v":232.69230769230768},{"$f":"(F80-F68)/U20","v":148.16666666666666}]
[21,3282,11,3289,11,3294,null,null,null,null,0,211]
[12,3449,13,3454,13,3460,null,null,null,null,0,111]
[21,3560,11,3568,11,3574,null,null,null,null,0,211]
[21,3710,11,3721,11,3731,null,null,null,null,0,211]
[21,3916,11,3925,11,3936,null,null,null,null,0,211]
[21,4066,11,4078,11,4085,null,null,null,null,0,211]
[12,4213,13,4217,13,4225,null,null,null,null,0,111]
[12,4364,13,4370,13,4383,null,null,null,null,0,111]
[12,4489,13,4493,13,4499,null,null,null,null,0,111]
[21,4600,11,4608,11,4613,null,null,null,null,0,211]
[21,4742,11,4749,11,4754,null,null,null,null,0,211]
[12,4919,13,4924,13,4929,null,null,null,null,0,111]
[12,5058,13,5063,13,5069,null,null,null,null,0,111]
[21,5167,11,5175,11,5179,null,null,null,null,0,211]
[12,5311,13,5316,13,5330,null,null,null,null,0,111]
[21,5429,11,5439,11,5444,null,null,null,null,0,211]
[12,5595,13,5600,13,5607,null,null,null,null,0,111]
[21,5704,22,5708,13,5717,null,null,null,null,0,221]
[21,5819,11,5827,11,5832,null,null,null,null,0,211]
[21,5991,11,5999,11,6004,null,null,null,null,0,211]
[21,6145,11,6152,11,6157,null,null,null,null,0,211]
[12,6333,13,6337,13,6345,null,null,null,null,0,111]
[21,6444,11,6453,11,6457,null,null,null,null,0,211]
[21,6565,11,6574,11,6578,null,null,null,null,0,211]
[12,6711,13,6716,13,6721,null,null,null,null,0,111]
[21,6819,11,6828,11,6839,null,null,null,null,0,211]
[12,6993,13,6998,13,7005,null,null,null,null,0,111]
[12,7118,13,7127,13,7149,null,null,null,null,0,111]
[21,7249,11,7264,11,7268,null,null,null,null,0,211]
[21,7392,11,7399,11,7403,null,null,null,null,0,211]
[12,8578,13,8582,13,8588,null,null,null,null,0,111]
[21,8747,11,8763,11,8769,null,null,null,null,0,211]
[12,8962,13,8967,13,8973,null,null,null,null,0,111]
[12,9080,13,9084,13,9096,null,null,null,null,0,111]
[21,9205,11,9214,11,9219,null,null,null,null,0,211]
[12,9416,13,9421,13,9427,null,null,null,null,0,111]
[21,9530,11,9541,11,9547,null,null,null,null,0,211]
[21,9720,11,9728,11,9733,null,null,null,null,0,211]
[12,9890,13,9895,13,9902,null,null,null,null,0,111]
[21,10003,11,10012,11,10030,null,null,null,null,0,211]
[12,10198,13,10202,24,10215,null,null,null,null,0,112]
[21,10313,22,10315,24,10320,null,null,null,null,0,222]
[21,10413,22,10421,13,10431,null,null,null,null,0,221]
[21,10529,11,10540,11,10552,null,null,null,null,0,211]
[21,10717,11,10727,11,10733,null,null,null,null,0,211]
[12,10925,13,10930,13,10947,null,null,null,null,0,111]
[21,11048,11,11055,11,11060,null,null,null,null,0,211]
[12,11185,13,11191,13,11200,null,null,null,null,0,111]
[21,11296,22,11306,13,11316,null,null,null,null,0,221]
[21,11435,11,11447,11,11453,null,null,null,null,0,211]
[12,11670,13,11678,13,11692,null,null,null,null,0,111]
[21,11794,11,11803,11,11808,null,null,null,null,1,211]

{"sheet":"!M930B0D.ust","index":9,"n_rows":73,"n_cols":48,"rows_kept":73,"cut":false,"hidden":false,"merged":[[4,39,4,42],[5,39,5,40],[4,44,4,47],[5,44,5,45],[4,24,4,27],[5,24,5,25],[4,29,4,32],[5,29,5,30],[4,34,4,37],[5,34,5,35],[1,1,1,2],[5,13,5,14],[18,13,18,14],[19,13,19,14],[4,19,4,22],[5,19,5,20]]}
["Report for:!M930B0D.ust"]
["Date:","<date>"]
["Hen:","<hen>",null,null,null,"Correct Sequence",{"$f":"Start!J2","v":211},null,null,null,null,null,null,null,null,"Total Sequences in Data",{"$f":"4994-COUNTBLANK(L7:L5000)","v":67},null,null,null,null,"Total Sequences in Block Data",{"$f":"COUNTA(L7:L17)","v":11},null,null,null,"Total Sequences in Block Data",{"$f":"COUNTA(L18:L28)","v":11},null,null,null,"Total Sequences in Block Data",{"$f":"COUNTA(L29:L40)","v":12},null,null,null,"Total Sequences in Block Data",{"$f":"COUNTA(L41:L51)","v":11},null,null,null,"Total Sequences in Block Data",{"$f":"COUNTA(L52:L62)","v":11},null,null,null,"Total Sequences in Block Data",{"$f":"COUNTA(L63:L73)","v":11}]
[null,null,null,null,null,null,null,null,null,null,null,null,null,null,null,"Total Sequences in Summary",{"$f":"SUM(O7:O14)","v":67},null,null,null,null,"Total Sequences in Block Summary",{"$f":"SUM(U7:U14)","v":11},null,null,null,"Total Sequences in Block Summary",{"$f":"SUM(Z7:Z14)","v":11},null,null,null,"Total Sequences in Block Summary",{"$f":"SUM(AE7:AE14)","v":12},null,null,null,"Total Sequences in Block Summary",{"$f":"SUM(AJ7:AJ14)","v":11},null,null,null,"Total Sequences in Block Summary",{"$f":"SUM(AO7:AO14)","v":11},null,null,null,"Total Sequences in Block Summary",{"$f":"SUM(AT7:AT14)","v":11}]
[null,null,null,null,null,null,null,null,null,null,null,null,null,null,null,null,null,null,null,"Block 1",null,null,null,null,"Block 2",null,null,null,null,"Block 3",null,null,null,null,"Block 4",null,null,null,null,"Block 5",null,null,null,null,"Block 6"]
["Sequence\nComponent\n1","Time\n1","Sequence\nComponent\n2","Time\n2","Sequence\nComponent\n3","Time\n3","Sequence\nComponent\n4","Time\n4","Sequence\nComponent\n5","Time\n5","Correct?\n0=No 1=Yes","Sequence",null,"Frequency",null,"Relative Frequency","Variability",null,null,"Frequency",null,"Relative Frequency","Variability",null,"Frequency",null,"Relative Frequency","Variability",null,"Frequency",null,"Relative Frequency","Variability",null,"Frequency",null,"Relative Frequency","Variability",null,"Frequency",null,"Relative Frequency","Variability",null,"Frequency",null,"Relative Frequency","Variability"]
[21,26,11,35,11,41,null,null,null,null,0,211,null,111,{"$f":"COUNTIF($L$7:$L$500,N7)","v":23},{"$f":"O7/$Q$4","v":0.34328358208955223},{"$f":"IF(P7=0,0,(P7*((LOG(P7))/LOG(2))))","v":-0.5295242744957831},null,null,{"$f":"N7","v":111},{"$f":"COUNTIF(L7:L17,T7)","v":5},{"$f":"U7/(W4-U11)","v":1},{"$f":"IF(V7=0,0,(V7*((LOG(V7))/LOG(2))))","v":0},null,{"$f":"N7","v":111},{"$f":"COUNTIF(L18:L28,Y7)","v":3},{"$f":"Z7/(AB4-Z11)","v":0.75},{"$f":"IF(AA7=0,0,(AA7*((LOG(AA7))/LOG(2))))","v":-0.31127812445913283},null,{"$f":"N7","v":111},{"$f":"COUNTIF(L29:L40,AD7)","v":5},{"$f":"AE7/(AG4-AE11)","v":1},{"$f":"IF(AF7=0,0,(AF7*((LOG(AF7))/LOG(2))))","v":0},null,{"$f":"N7","v":111},{"$f":"COUNTIF(L41:L51,AI7)","v":4},{"$f":"AJ7/(AL4-AJ11)","v":0.66666666666666663},{"$f":"IF(AK7=0,0,(AK7*((LOG(AK7))/LOG(2))))","v":-0.38997500048077083},null,{"$f":"N7","v":111},{"$f":"COUNTIF(L52:L62,AN7)","v":3},{"$f":"AO7/(AQ4-AO11)","v":0.75},{"$f":"IF(AP7=0,0,(AP7*((LOG(AP7))/LOG(2))))","v":-0.31127812445913283},null,{"$f":"N7","v":111},{"$f":"COUNTIF(L63:L73,AS7)","v":3},{"$f":"AT7/(AV4-AT11)","v":0.75},{"$f":"IF(AU7=0,0,(AU7*((LOG(AU7))/LOG(2))))","v":-0.31127812445913283}]
[12,144,13,149,13,156,null,null,null,null,0,111,null,112,{"$f":"COUNTIF($L$7:$L$500,N8)","v":3},{"$f":"O8/$Q$4","v":4.4776119402985072E-2},{"$f":"IF(P8=0,0,(P8*((LOG(P8))/LOG(2))))","v":-0.20064746371955},null,null,{"$f":"N8","v":112},{"$f":"COUNTIF(L7:L17,T8)","v":0},{"$f":"U8/(W4-U11)","v":0},{"$f":"IF(V8=0,0,(V8*((LOG(V8))/LOG(2))))","v":0},null,{"$f":"N8","v":112},{"$f":"COUNTIF(L18:L28,Y8)","v":1},{"$f":"Z8/(AB4-Z11)","v":0.25},{"$f":"IF(AA8=0,0,(AA8*((LOG(AA8))/LOG(2))))","v":-0.5},null,{"$f":"N8","v":112},{"$f":"COUNTIF(L29:L40,AD8)","v":0},{"$f":"AE8/(AG4-AE11)","v":0},{"$f":"IF(AF8=0,0,(AF8*((LOG(AF8))/LOG(2))))","v":0},null,{"$f":"N8","v":112},{"$f":"COUNTIF(L41:L51,AI8)","v":0},{"$f":"AJ8/(AL4-AJ11)","v":0},{"$f":"IF(AK8=0,0,(AK8*((LOG(AK8))/LOG(2))))","v":0},null,{"$f":"N8","v":112},{"$f":"COUNTIF(L52:L62,AN8)","v":1},{"$f":"AO8/(AQ4-AO11)","v":0.25},{"$f":"IF(AP8=0,0,(AP8*((LOG(AP8))/LOG(2))))","v":-0.5},null,{"$f":"N8","v":112},{"$f":"COUNTIF(L63:L73,AS8)","v":1},{"$f":"AT8/(AV4-AT11)","v":0.25},{"$f":"IF(AU8=0,0,(AU8*((LOG(AU8))/LOG(2))))","v":-0.5}]
[12,258,13,263,13,268,null,null,null,null,0,111,null,121,{"$f":"COUNTIF($L$7:$L$500,N9)","v":0},{"$f":"O9/$Q$4","v":0},{"$f":"IF(P9=0,0,(P9*((LOG(P9))/LOG(2))))","v":0},null,null,{"$f":"N9","v":121},{"$f":"COUNTIF(L7:L17,T9)","v":0},{"$f":"U9/(W4-U11)","v":0},{"$f":"IF(V9=0,0,(V9*((LOG(V9))/LOG(2))))","v":0},null,{"$f":"N9","v":121},{"$f":"COUNTIF(L18:L28,Y9)","v":0},{"$f":"Z9/(AB4-Z11)","v":0},{"$f":"IF(AA9=0,0,(AA9*((LOG(AA9))/LOG(2))))","v":0},null,{"$f":"N9","v":121},{"$f":"COUNTIF(L29:L40,AD9)","v":0},{"$f":"AE9/(AG4-AE11)","v":0},{"$f":"IF(AF9=0,0,(AF9*((LOG(AF9))/LOG(2))))","v":0},null,{"$f":"N9","v":121},{"$f":"COUNTIF(L41:L51,AI9)","v":0},{"$f":"AJ9/(AL4-AJ11)","v":0},{"$f":"IF(AK9=0,0,(AK9*((LOG(AK9))/LOG(2))))","v":0},null,{"$f":"N9","v":121},{"$f":"COUNTIF(L52:L62,AN9)","v":0},{"$f":"AO9/(AQ4-AO11)","v":0},{"$f":"IF(AP9=0,0,(AP9*((LOG(AP9))/LOG(2))))","v":0},null,{"$f":"N9","v":121},{"$f":"COUNTIF(L63:L73,AS9)","v":0},{"$f":"AT9/(AV4-AT11)","v":0},{"$f":"IF(AU9=0,0,(AU9*((LOG(AU9))/LOG(2))))","v":0}]
[21,370,11,378,11,384,null,null,null,null,0,211,null,122,{"$f":"COUNTIF($L$7:$L$500,N10)","v":0},{"$f":"O10/$Q$4","v":0},{"$f":"IF(P10=0,0,(P10*((LOG(P10))/LOG(2))))","v":0},null,null,{"$f":"N10","v":122},{"$f":"COUNTIF(L7:L17,T10)","v":0},{"$f":"U10/(W4-U11)","v":0},{"$f":"IF(V10=0,0,(V10*((LOG(V10))/LOG(2))))","v":0},null,{"$f":"N10","v":122},{"$f":"COUNTIF(L18:L28,Y10)","v":0},{"$f":"Z10/(AB4-Z11)","v":0},{"$f":"IF(AA10=0,0,(AA10*((LOG(AA10))/LOG(2))))","v":0},null,{"$f":"N10","v":122},{"$f":"COUNTIF(L29:L40,AD10)","v":0},{"$f":"AE10/(AG4-AE11)","v":0},{"$f":"IF(AF10=0,0,(AF10*((LOG(AF10))/LOG(2))))","v":0},null,{"$f":"N10","v":122},{"$f":"COUNTIF(L41:L51,AI10)","v":0},{"$f":"AJ10/(AL4-AJ11)","v":0},{"$f":"IF(AK10=0,0,(AK10*((LOG(AK10))/LOG(2))))","v":0},null,{"$f":"N10","v":122},{"$f":"COUNTIF(L52:L62,AN10)","v":0},{"$f":"AO10/(AQ4-AO11)","v":0},{"$f":"IF(AP10=0,0,(AP10*((LOG(AP10))/LOG(2))))","v":0},null,{"$f":"N10","v":122},{"$f":"COUNTIF(L63:L73,AS10)","v":0},{"$f":"AT10/(AV4-AT11)","v":0},{"$f":"IF(AU10=0,0,(AU10*((LOG(AU10))/LOG(2))))","v":0}]
[21,505,11,514,11,516,null,null,null,null,0,211,null,211,{"$f":"COUNTIF($L$7:$L$500,N11)","v":39},{"$f":"O11/$Q$4","v":0.58208955223880599},{"$f":"IF(P11=0,0,(P11*((LOG(P11))/LOG(2))))","v":-0.45442972973470802},null,null,{"$f":"N11","v":211},{"$f":"COUNTIF(L7:L17,T11)","v":6},null,null,null,{"$f":"N11","v":211},{"$f":"COUNTIF(L18:L28,Y11)","v":7},null,null,null,{"$f":"N11","v":211},{"$f":"COUNTIF(L29:L40,AD11)","v":7},null,null,null,{"$f":"N11","v":211},{"$f":"COUNTIF(L41:L51,AI11)","v":5},null,null,null,{"$f":"N11","v":211},{"$f":"COUNTIF(L52:L62,AN11)","v":7},null,null,null,{"$f":"N11","v":211},{"$f":"COUNTIF(L63:L73,AS11)","v":7}]
[21,661,11,670,11,675,null,null,null,null,0,211,null,212,{"$f":"COUNTIF($L$7:$L$500,N12)","v":0},{"$f":"O12/$Q$4","v":0},{"$f":"IF(P12=0,0,(P12*((LOG(P12))/LOG(2))))","v":0},null,null,{"$f":"N12","v":212},{"$f":"COUNTIF(L7:L17,T12)","v":0},{"$f":"U12/(W4-U11)","v":0},{"$f":"IF(V12=0,0,(V12*((LOG(V12))/LOG(2))))","v":0},null,{"$f":"N12","v":212},{"$f":"COUNTIF(L18:L28,Y12)","v":0},{"$f":"Z12/(AB4-Z11)","v":0},{"$f":"IF(AA12=0,0,(AA12*((LOG(AA12))/LOG(2))))","v":0},null,{"$f":"N12","v":212},{"$f":"COUNTIF(L29:L40,AD12)","v":0},{"$f":"AE12/(AG4-AE11)","v":0},{"$f":"IF(AF12=0,0,(AF12*((LOG(AF12))/LOG(2))))","v":0},null,{"$f":"N12","v":212},{"$f":"COUNTIF(L41:L51,AI12)","v":0},{"$f":"AJ12/(AL4-AJ11)","v":0},{"$f":"IF(AK12=0,0,(AK12*((LOG(AK12))/LOG(2))))","v":0},null,{"$f":"N12","v":212},{"$f":"COUNTIF(L52:L62,AN12)","v":0},{"$f":"AO12/(AQ4-AO11)","v":0},{"$f":"IF(AP12=0,0,(AP12*((LOG(AP12))/LOG(2))))","v":0},null,{"$f":"N12","v":212},{"$f":"COUNTIF(L63:L73,AS12)","v":0},{"$f":"AT12/(AV4-AT11)","v":0},{"$f":"IF(AU12=0,0,(AU12*((LOG(AU12))/LOG(2))))","v":0}]
[12,788,13,793,13,823,null,null,null,null,0,111,null,221,{"$f":"COUNTIF($L$7:$L$500,N13)","v":2},{"$f":"O13/$Q$4","v":2.9850746268656716E-2},{"$f":"IF(P13=0,0,(P13*((LOG(P13))/LOG(2))))","v":-0.15122654299873947},null,null,{"$f":"N13","v":221},{"$f":"COUNTIF(L7:L17,T13)","v":0},{"$f":"U13/(W4-U11)","v":0},{"$f":"IF(V13=0,0,(V13*((LOG(V13))/LOG(2))))","v":0},null,{"$f":"N13","v":221},{"$f":"COUNTIF(L18:L28,Y13)","v":0},{"$f":"Z13/(AB4-Z11)","v":0},{"$f":"IF(AA13=0,0,(AA13*((LOG(AA13))/LOG(2))))","v":0},null,{"$f":"N13","v":221},{"$f":"COUNTIF(L29:L40,AD13)","v":0},{"$f":"AE13/(AG4-AE11)","v":0},{"$f":"IF(AF13=0,0,(AF13*((LOG(AF13))/LOG(2))))","v":0},null,{"$f":"N13","v":221},{"$f":"COUNTIF(L41:L51,AI13)","v":2},{"$f":"AJ13/(AL4-AJ11)","v":0.33333333333333331},{"$f":"IF(AK13=0,0,(AK13*((LOG(AK13))/LOG(2))))","v":-0.52832083357371862},null,{"$f":"N13","v":221},{"$f":"COUNTIF(L52:L62,AN13)","v":0},{"$f":"AO13/(AQ4-AO11)","v":0},{"$f":"IF(AP13=0,0,(AP13*((LOG(AP13))/LOG(2))))","v":0},null,{"$f":"N13","v":221},{"$f":"COUNTIF(L63:L73,AS13)","v":0},{"$f":"AT13/(AV4-AT11)","v":0},{"$f":"IF(AU13=0,0,(AU13*((LOG(AU13))/LOG(2))))","v":0}]
[21,916,11,928,11,933,null,null,null,null,0,211,null,222,{"$f":"COUNTIF($L$7:$L$500,N14)","v":0},{"$f":"O14/$Q$4","v":0},{"$f":"IF(P14=0,0,(P14*((LOG(P14))/LOG(2))))","v":0},null,null,{"$f":"N14","v":222},{"$f":"COUNTIF(L7:L17,T14)","v":0},{"$f":"U14/(W4-U11)","v":0},{"$f":"IF(V14=0,0,(V14*((LOG(V14))/LOG(2))))","v":0},null,{"$f":"N14","v":222},{"$f":"COUNTIF(L18:L28,Y14)","v":0},{"$f":"Z14/(AB4-Z11)","v":0},{"$f":"IF(AA14=0,0,(AA14*((LOG(AA14))/LOG(2))))","v":0},null,{"$f":"N14","v":222},{"$f":"COUNTIF(L29:L40,AD14)","v":0},{"$f":"AE14/(AG4-AE11)","v":0},{"$f":"IF(AF14=0,0,(AF14*((LOG(AF14))/LOG(2))))","v":0},null,{"$f":"N14","v":222},{"$f":"COUNTIF(L41:L51,AI14)","v":0},{"$f":"AJ14/(AL4-AJ11)","v":0},{"$f":"IF(AK14=0,0,(AK14*((LOG(AK14))/LOG(2))))","v":0},null,{"$f":"N14","v":222},{"$f":"COUNTIF(L52:L62,AN14)","v":0},{"$f":"AO14/(AQ4-AO11)","v":0},{"$f":"IF(AP14=0,0,(AP14*((LOG(AP14))/LOG(2))))","v":0},null,{"$f":"N14","v":222},{"$f":"COUNTIF(L63:L73,AS14)","v":0},{"$f":"AT14/(AV4-AT11)","v":0},{"$f":"IF(AU14=0,0,(AU14*((LOG(AU14))/LOG(2))))","v":0}]
[12,1038,13,1043,13,1049,null,null,null,null,0,111,null,null,null,{"$f":"SUM(P7:P14)","v":1},{"$f":"-SUM(Q7:Q14)","v":1.3358280109487806},null,null,null,null,{"$f":"SUM(V7:V14)","v":1},{"$f":"-SUM(W7:W14)","v":0},null,null,null,{"$f":"SUM(AA7:AA14)","v":1},{"$f":"-SUM(AB7:AB14)","v":0.81127812445913283},null,null,null,{"$f":"SUM(AF7:AF14)","v":1},{"$f":"-SUM(AG7:AG14)","v":0},null,null,null,{"$f":"SUM(AK7:AK14)","v":1},{"$f":"-SUM(AL7:AL14)","v":0.91829583405448945},null,null,null,{"$f":"SUM(AP7:AP14)","v":1},{"$f":"-SUM(AQ7:AQ14)","v":0.81127812445913283},null,null,null,{"$f":"SUM(AU7:AU14)","v":1},{"$f":"-SUM(AV7:AV14)","v":0.81127812445913283}]
[21,1149,11,1159,11,1171,null,null,null,null,0,211,null,null,null,"U=",{"$f":"Q15/(LOG(Q4)/LOG(2))","v":0.2202123920383659},null,null,null,null,"U1=",{"$f":"W15/(LOG(W4)/LOG(2))","v":0},null,null,null,"U2=",{"$f":"AB15/(LOG(AB4)/LOG(2))","v":0.23451197014228101},null,null,null,"U3=",{"$f":"AG15/(LOG(AG4)/LOG(2))","v":0},null,null,null,"U4=",{"$f":"AL15/(LOG(AL4)/LOG(2))","v":0.26544702577940094},null,null,null,"U5=",{"$f":"AQ15/(LOG(AQ4)/LOG(2))","v":0.23451197014228101},null,null,null,"U6=",{"$f":"AV15/(LOG(AV4)/LOG(2))","v":0.23451197014228101}]
[12,1291,13,1297,13,1304,null,null,null,null,0,111]
[21,1402,11,1411,11,1417,null,null,null,null,0,211]
[12,1524,13,1530,13,1552,null,null,null,null,0,111,null,"Total Target Seq"]
[21,1656,11,1665,11,1670,null,null,null,null,0,211,null,{"$f":"COUNTIF(L7:L73,G3)","v":39},null,11,11,12,11,11,11]
[21,1804,11,1813,11,1819,null,null,null,null,0,211,null,null,null,"% of reinforcement given in 6 equal intervals based on number of trials "]
[12,1973,13,1981,13,1994,null,null,null,null,0,111,null,null,null,"%_1","%_2","%_3","%_4","%_5","%_6"]
[21,2094,11,2105,11,2109,null,null,null,null,0,211,null,null,"target sequence",{"$f":"$G$3","v":211},{"$f":"$G$3","v":211},{"$f":"$G$3","v":211},{"$f":"$G$3","v":211},{"$f":"$G$3","v":211},{"$f":"$G$3","v":211}]
[12,2258,13,2266,13,2271,null,null,null,null,0,111,null,null,"total reinforcement",{"$f":"U11","v":6},{"$f":"Z11","v":7},{"$f":"AE11","v":7},{"$f":"AJ11","v":5},{"$f":"AO11","v":7},{"$f":"AT11","v":7}]
[21,2369,11,2377,11,2382,null,null,null,null,0,211,null,null,"% target"]
[21,2515,11,2522,11,2527,null,null,null,null,0,211,null,null,"CCRF"]
[21,2653,11,2662,11,2668,null,null,null,null,0,211,null,null,"% CCRf"]
[12,2890,13,2895,24,2911,null,null,null,null,0,112,null,null,"average response rate",{"$f":"F17/P20","v":118.54545454545455},{"$f":"(F28-F17)/Q20","v":146.09090909090909},{"$f":"(F40-F28)/R20","v":146.08333333333334},{"$f":"(F51-F40)/S20","v":145.27272727272728},{"$f":"(F62-F51)/T20","v":141.18181818181819},{"$f":"(F73-F62)/U20","v":159.72727272727272}]
[21,3013,11,3023,11,3028,null,null,null,null,0,211]
[21,3145,11,3159,11,3164,null,null,null,null,0,211]
[12,3352,13,3358,13,3364,null,null,null,null,0,111]
[12,3471,13,3477,13,3503,null,null,null,null,0,111]
[21,3602,11,3610,11,3616,null,null,null,null,0,211]
[21,3715,11,3722,11,3728,null,null,null,null,0,211]
[12,3919,13,3927,13,3942,null,null,null,null,0,111]
[21,4042,11,4050,11,4055,null,null,null,null,0,211]
[12,4216,13,4221,13,4242,null,null,null,null,0,111]
[21,4339,11,4351,11,4357,null,null,null,null,0,211]
[12,4531,13,4536,13,4541,null,null,null,null,0,111]
[21,4644,11,4653,11,4664,null,null,null,null,0,211]
[21,4791,11,4797,11,4801,null,null,null,null,0,211]
[21,4936,11,4943,11,4947,null,null,null,null,0,211]
[12,5129,13,5132,13,5139,null,null,null,null,0,111]
[21,5236,11,5244,11,5248,null,null,null,null,0,211]
[12,5412,13,5420,13,5432,null,null,null,null,0,111]
[21,5532,11,5540,11,5545,null,null,null,null,0,211]
[21,5643,11,5650,11,5655,null,null,null,null,0,211]
[12,5865,13,5872,13,5878,null,null,null,null,0,111]
[21,5976,22,5978,13,5988,null,null,null,null,0,221]
[12,6125,13,6131,13,6148,null,null,null,null,0,111]
[21,6240,22,6252,13,6262,null,null,null,null,0,221]
[21,6364,11,6374,11,6380,null,null,null,null,0,211]
[21,6537,11,6544,11,6548,null,null,null,null,0,211]
[12,6698,13,6703,13,6717,null,null,null,null,0,111]
[12,6823,13,6827,13,6839,null,null,null,null,0,111]
[21,6938,11,6946,11,6950,null,null,null,null,0,211]
[12,7058,13,7063,13,7072,null,null,null,null,0,111]
[21,7173,11,7181,11,7187,null,null,null,null,0,211]
[21,7302,11,7309,11,7314,null,null,null,null,0,211]
[12,7543,13,7554,24,7570,null,null,null,null,0,112]
[21,7666,11,7674,11,7680,null,null,null,null,0,211]
[21,7804,11,7813,11,7815,null,null,null,null,0,211]
[12,7989,13,7995,13,8008,null,null,null,null,0,111]
[21,8103,11,8113,11,8117,null,null,null,null,0,211]
[12,8273,13,8277,24,8292,null,null,null,null,0,112]
[12,8406,13,8410,13,8420,null,null,null,null,0,111]
[21,8520,11,8528,11,8535,null,null,null,null,0,211]
[21,8659,11,8666,11,8671,null,null,null,null,0,211]
[12,8863,13,8869,13,8891,null,null,null,null,0,111]
[21,8995,11,9004,11,9010,null,null,null,null,0,211]
[21,9147,11,9155,11,9165,null,null,null,null,0,211]
[21,9302,11,9310,11,9316,null,null,null,null,0,211]
[21,9559,11,9567,11,9572,null,null,null,null,1,211]

{"sheet":"!MA01A5D.ust","index":10,"n_rows":75,"n_cols":48,"rows_kept":75,"cut":false,"hidden":false,"merged":[[4,39,4,42],[5,39,5,40],[4,44,4,47],[5,44,5,45],[4,24,4,27],[5,24,5,25],[4,29,4,32],[5,29,5,30],[4,34,4,37],[5,34,5,35],[1,1,1,2],[5,13,5,14],[18,13,18,14],[19,13,19,14],[4,19,4,22],[5,19,5,20]]}
["Report for:!MA01A5D.ust"]
["Date:","<date>"]
["Hen:","<hen>",null,null,null,"Correct Sequence",{"$f":"Start!J2","v":211},null,null,null,null,null,null,null,null,"Total Sequences in Data",{"$f":"4994-COUNTBLANK(L7:L5000)","v":69},null,null,null,null,"Total Sequences in Block Data",{"$f":"COUNTA(L7:L18)","v":12},null,null,null,"Total Sequences in Block Data",{"$f":"COUNTA(L19:L29)","v":11},null,null,null,"Total Sequences in Block Data",{"$f":"COUNTA(L30:L41)","v":12},null,null,null,"Total Sequences in Block Data",{"$f":"COUNTA(L42:L52)","v":11},null,null,null,"Total Sequences in Block Data",{"$f":"COUNTA(L53:L64)","v":12},null,null,null,"Total Sequences in Block Data",{"$f":"COUNTA(L65:L75)","v":11}]
[null,null,null,null,null,null,null,null,null,null,null,null,null,null,null,"Total Sequences in Summary",{"$f":"SUM(O7:O14)","v":69},null,null,null,null,"Total Sequences in Block Summary",{"$f":"SUM(U7:U14)","v":12},null,null,null,"Total Sequences in Block Summary",{"$f":"SUM(Z7:Z14)","v":11},null,null,null,"Total Sequences in Block Summary",{"$f":"SUM(AE7:AE14)","v":12},null,null,null,"Total Sequences in Block Summary",{"$f":"SUM(AJ7:AJ14)","v":11},null,null,null,"Total Sequences in Block Summary",{"$f":"SUM(AO7:AO14)","v":12},null,null,null,"Total Sequences in Block Summary",{"$f":"SUM(AT7:AT14)","v":11}]
[null,null,null,null,null,null,null,null,null,null,null,null,null,null,null,null,null,null,null,"Block 1",null,null,null,null,"Block 2",null,null,null,null,"Block 3",null,null,null,null,"Block 4",null,null,null,null,"Block 5",null,null,null,null,"Block 6"]
["Sequence\nComponent\n1","Time\n1","Sequence\nComponent\n2","Time\n2","Sequence\nComponent\n3","Time\n3","Sequence\nComponent\n4","Time\n4","Sequence\nComponent\n5","Time\n5","Correct?\n0=No 1=Yes","Sequence",null,"Frequency",null,"Relative Frequency","Variability",null,null,"Frequency",null,"Relative Frequency","Variability",null,"Frequency",null,"Relative Frequency","Variability",null,"Frequency",null,"Relative Frequency","Variability",null,"Frequency",null,"Relative Frequency","Variability",null,"Frequency",null,"Relative Frequency","Variability",null,"Frequency",null,"Relative Frequency","Variability"]
[12,12,13,19,13,26,null,null,null,null,0,111,null,111,{"$f":"COUNTIF($L$7:$L$500,N7)","v":23},{"$f":"O7/$Q$4","v":0.33333333333333331},{"$f":"IF(P7=0,0,(P7*((LOG(P7))/LOG(2))))","v":-0.52832083357371862},null,null,{"$f":"N7","v":111},{"$f":"COUNTIF(L7:L18,T7)","v":6},{"$f":"U7/(W4-U11)","v":1},{"$f":"IF(V7=0,0,(V7*((LOG(V7))/LOG(2))))","v":0},null,{"$f":"N7","v":111},{"$f":"COUNTIF(L19:L29,Y7)","v":4},{"$f":"Z7/(AB4-Z11)","v":0.8},{"$f":"IF(AA7=0,0,(AA7*((LOG(AA7))/LOG(2))))","v":-0.25754247590988982},null,{"$f":"N7","v":111},{"$f":"COUNTIF(L30:L41,AD7)","v":3},{"$f":"AE7/(AG4-AE11)","v":0.42857142857142855},{"$f":"IF(AF7=0,0,(AF7*((LOG(AF7))/LOG(2))))","v":-0.52388246628704915},null,{"$f":"N7","v":111},{"$f":"COUNTIF(L42:L52,AI7)","v":2},{"$f":"AJ7/(AL4-AJ11)","v":0.5},{"$f":"IF(AK7=0,0,(AK7*((LOG(AK7))/LOG(2))))","v":-0.5},null,{"$f":"N7","v":111},{"$f":"COUNTIF(L53:L64,AN7)","v":3},{"$f":"AO7/(AQ4-AO11)","v":1},{"$f":"IF(AP7=0,0,(AP7*((LOG(AP7))/LOG(2))))","v":0},null,{"$f":"N7","v":111},{"$f":"COUNTIF(L65:L75,AS7)","v":5},{"$f":"AT7/(AV4-AT11)","v":1},{"$f":"IF(AU7=0,0,(AU7*((LOG(AU7))/LOG(2))))","v":0}]
[12,119,13,122,13,127,null,null,null,null,0,111,null,112,{"$f":"COUNTIF($L$7:$L$500,N8)","v":0},{"$f":"O8/$Q$4","v":0},{"$f":"IF(P8=0,0,(P8*((LOG(P8))/LOG(2))))","v":0},null,null,{"$f":"N8","v":112},{"$f":"COUNTIF(L7:L18,T8)","v":0},{"$f":"U8/(W4-U11)","v":0},{"$f":"IF(V8=0,0,(V8*((LOG(V8))/LOG(2))))","v":0},null,{"$f":"N8","v":112},{"$f":"COUNTIF(L19:L29,Y8)","v":0},{"$f":"Z8/(AB4-Z11)","v":0},{"$f":"IF(AA8=0,0,(AA8*((LOG(AA8))/LOG(2))))","v":0},null,{"$f":"N8","v":112},{"$f":"COUNTIF(L30:L41,AD8)","v":0},{"$f":"AE8/(AG4-AE11)","v":0},{"$f":"IF(AF8=0,0,(AF8*((LOG(AF8))/LOG(2))))","v":0},null,{"$f":"N8","v":112},{"$f":"COUNTIF(L42:L52,AI8)","v":0},{"$f":"AJ8/(AL4-AJ11)","v":0},{"$f":"IF(AK8=0,0,(AK8*((LOG(AK8))/LOG(2))))","v":0},null,{"$f":"N8","v":112},{"$f":"COUNTIF(L53:L64,AN8)","v":0},{"$f":"AO8/(AQ4-AO11)","v":0},{"$f":"IF(AP8=0,0,(AP8*((LOG(AP8))/LOG(2))))","v":0},null,{"$f":"N8","v":112},{"$f":"COUNTIF(L65:L75,AS8)","v":0},{"$f":"AT8/(AV4-AT11)","v":0},{"$f":"IF(AU8=0,0,(AU8*((LOG(AU8))/LOG(2))))","v":0}]
[21,221,11,229,11,233,null,null,null,null,0,211,null,121,{"$f":"COUNTIF($L$7:$L$500,N9)","v":0},{"$f":"O9/$Q$4","v":0},{"$f":"IF(P9=0,0,(P9*((LOG(P9))/LOG(2))))","v":0},null,null,{"$f":"N9","v":121},{"$f":"COUNTIF(L7:L18,T9)","v":0},{"$f":"U9/(W4-U11)","v":0},{"$f":"IF(V9=0,0,(V9*((LOG(V9))/LOG(2))))","v":0},null,{"$f":"N9","v":121},{"$f":"COUNTIF(L19:L29,Y9)","v":0},{"$f":"Z9/(AB4-Z11)","v":0},{"$f":"IF(AA9=0,0,(AA9*((LOG(AA9))/LOG(2))))","v":0},null,{"$f":"N9","v":121},{"$f":"COUNTIF(L30:L41,AD9)","v":0},{"$f":"AE9/(AG4-AE11)","v":0},{"$f":"IF(AF9=0,0,(AF9*((LOG(AF9))/LOG(2))))","v":0},null,{"$f":"N9","v":121},{"$f":"COUNTIF(L42:L52,AI9)","v":0},{"$f":"AJ9/(AL4-AJ11)","v":0},{"$f":"IF(AK9=0,0,(AK9*((LOG(AK9))/LOG(2))))","v":0},null,{"$f":"N9","v":121},{"$f":"COUNTIF(L53:L64,AN9)","v":0},{"$f":"AO9/(AQ4-AO11)","v":0},{"$f":"IF(AP9=0,0,(AP9*((LOG(AP9))/LOG(2))))","v":0},null,{"$f":"N9","v":121},{"$f":"COUNTIF(L65:L75,AS9)","v":0},{"$f":"AT9/(AV4-AT11)","v":0},{"$f":"IF(AU9=0,0,(AU9*((LOG(AU9))/LOG(2))))","v":0}]
[12,358,13,363,13,377,null,null,null,null,0,111,null,122,{"$f":"COUNTIF($L$7:$L$500,N10)","v":0},{"$f":"O10/$Q$4","v":0},{"$f":"IF(P10=0,0,(P10*((LOG(P10))/LOG(2))))","v":0},null,null,{"$f":"N10","v":122},{"$f":"COUNTIF(L7:L18,T10)","v":0},{"$f":"U10/(W4-U11)","v":0},{"$f":"IF(V10=0,0,(V10*((LOG(V10))/LOG(2))))","v":0},null,{"$f":"N10","v":122},{"$f":"COUNTIF(L19:L29,Y10)","v":0},{"$f":"Z10/(AB4-Z11)","v":0},{"$f":"IF(AA10=0,0,(AA10*((LOG(AA10))/LOG(2))))","v":0},null,{"$f":"N10","v":122},{"$f":"COUNTIF(L30:L41,AD10)","v":0},{"$f":"AE10/(AG4-AE11)","v":0},{"$f":"IF(AF10=0,0,(AF10*((LOG(AF10))/LOG(2))))","v":0},null,{"$f":"N10","v":122},{"$f":"COUNTIF(L42:L52,AI10)","v":0},{"$f":"AJ10/(AL4-AJ11)","v":0},{"$f":"IF(AK10=0,0,(AK10*((LOG(AK10))/LOG(2))))","v":0},null,{"$f":"N10","v":122},{"$f":"COUNTIF(L53:L64,AN10)","v":0},{"$f":"AO10/(AQ4-AO11)","v":0},{"$f":"IF(AP10=0,0,(AP10*((LOG(AP10))/LOG(2))))","v":0},null,{"$f":"N10","v":122},{"$f":"COUNTIF(L65:L75,AS10)","v":0},{"$f":"AT10/(AV4-AT11)","v":0},{"$f":"IF(AU10=0,0,(AU10*((LOG(AU10))/LOG(2))))","v":0}]
[21,475,11,484,11,490,null,null,null,null,0,211,null,211,{"$f":"COUNTIF($L$7:$L$500,N11)","v":39},{"$f":"O11/$Q$4","v":0.56521739130434778},{"$f":"IF(P11=0,0,(P11*((LOG(P11))/LOG(2))))","v":-0.46524300403943353},null,null,{"$f":"N11","v":211},{"$f":"COUNTIF(L7:L18,T11)","v":6},null,null,null,{"$f":"N11","v":211},{"$f":"COUNTIF(L19:L29,Y11)","v":6},null,null,null,{"$f":"N11","v":211},{"$f":"COUNTIF(L30:L41,AD11)","v":5},null,null,null,{"$f":"N11","v":211},{"$f":"COUNTIF(L42:L52,AI11)","v":7},null,null,null,{"$f":"N11","v":211},{"$f":"COUNTIF(L53:L64,AN11)","v":9},null,null,null,{"$f":"N11","v":211},{"$f":"COUNTIF(L65:L75,AS11)","v":6}]
[12,619,13,625,13,631,null,null,null,null,0,111,null,212,{"$f":"COUNTIF($L$7:$L$500,N12)","v":0},{"$f":"O12/$Q$4","v":0},{"$f":"IF(P12=0,0,(P12*((LOG(P12))/LOG(2))))","v":0},null,null,{"$f":"N12","v":212},{"$f":"COUNTIF(L7:L18,T12)","v":0},{"$f":"U12/(W4-U11)","v":0},{"$f":"IF(V12=0,0,(V12*((LOG(V12))/LOG(2))))","v":0},null,{"$f":"N12","v":212},{"$f":"COUNTIF(L19:L29,Y12)","v":0},{"$f":"Z12/(AB4-Z11)","v":0},{"$f":"IF(AA12=0,0,(AA12*((LOG(AA12))/LOG(2))))","v":0},null,{"$f":"N12","v":212},{"$f":"COUNTIF(L30:L41,AD12)","v":0},{"$f":"AE12/(AG4-AE11)","v":0},{"$f":"IF(AF12=0,0,(AF12*((LOG(AF12))/LOG(2))))","v":0},null,{"$f":"N12","v":212},{"$f":"COUNTIF(L42:L52,AI12)","v":0},{"$f":"AJ12/(AL4-AJ11)","v":0},{"$f":"IF(AK12=0,0,(AK12*((LOG(AK12))/LOG(2))))","v":0},null,{"$f":"N12","v":212},{"$f":"COUNTIF(L53:L64,AN12)","v":0},{"$f":"AO12/(AQ4-AO11)","v":0},{"$f":"IF(AP12=0,0,(AP12*((LOG(AP12))/LOG(2))))","v":0},null,{"$f":"N12","v":212},{"$f":"COUNTIF(L65:L75,AS12)","v":0},{"$f":"AT12/(AV4-AT11)","v":0},{"$f":"IF(AU12=0,0,(AU12*((LOG(AU12))/LOG(2))))","v":0}]
[21,735,11,743,11,748,null,null,null,null,0,211,null,221,{"$f":"COUNTIF($L$7:$L$500,N13)","v":7},{"$f":"O13/$Q$4","v":0.10144927536231885},{"$f":"IF(P13=0,0,(P13*((LOG(P13))/LOG(2))))","v":-0.33490125714556451},null,null,{"$f":"N13","v":221},{"$f":"COUNTIF(L7:L18,T13)","v":0},{"$f":"U13/(W4-U11)","v":0},{"$f":"IF(V13=0,0,(V13*((LOG(V13))/LOG(2))))","v":0},null,{"$f":"N13","v":221},{"$f":"COUNTIF(L19:L29,Y13)","v":1},{"$f":"Z13/(AB4-Z11)","v":0.2},{"$f":"IF(AA13=0,0,(AA13*((LOG(AA13))/LOG(2))))","v":-0.46438561897747244},null,{"$f":"N13","v":221},{"$f":"COUNTIF(L30:L41,AD13)","v":4},{"$f":"AE13/(AG4-AE11)","v":0.5714285714285714},{"$f":"IF(AF13=0,0,(AF13*((LOG(AF13))/LOG(2))))","v":-0.46134566974720237},null,{"$f":"N13","v":221},{"$f":"COUNTIF(L42:L52,AI13)","v":2},{"$f":"AJ13/(AL4-AJ11)","v":0.5},{"$f":"IF(AK13=0,0,(AK13*((LOG(AK13))/LOG(2))))","v":-0.5},null,{"$f":"N13","v":221},{"$f":"COUNTIF(L53:L64,AN13)","v":0},{"$f":"AO13/(AQ4-AO11)","v":0},{"$f":"IF(AP13=0,0,(AP13*((LOG(AP13))/LOG(2))))","v":0},null,{"$f":"N13","v":221},{"$f":"COUNTIF(L65:L75,AS13)","v":0},{"$f":"AT13/(AV4-AT11)","v":0},{"$f":"IF(AU13=0,0,(AU13*((LOG(AU13))/LOG(2))))","v":0}]
[21,843,11,851,11,859,null,null,null,null,0,211,null,222,{"$f":"COUNTIF($L$7:$L$500,N14)","v":0},{"$f":"O14/$Q$4","v":0},{"$f":"IF(P14=0,0,(P14*((LOG(P14))/LOG(2))))","v":0},null,null,{"$f":"N14","v":222},{"$f":"COUNTIF(L7:L18,T14)","v":0},{"$f":"U14/(W4-U11)","v":0},{"$f":"IF(V14=0,0,(V14*((LOG(V14))/LOG(2))))","v":0},null,{"$f":"N14","v":222},{"$f":"COUNTIF(L19:L29,Y14)","v":0},{"$f":"Z14/(AB4-Z11)","v":0},{"$f":"IF(AA14=0,0,(AA14*((LOG(AA14))/LOG(2))))","v":0},null,{"$f":"N14","v":222},{"$f":"COUNTIF(L30:L41,AD14)","v":0},{"$f":"AE14/(AG4-AE11)","v":0},{"$f":"IF(AF14=0,0,(AF14*((LOG(AF14))/LOG(2))))","v":0},null,{"$f":"N14","v":222},{"$f":"COUNTIF(L42:L52,AI14)","v":0},{"$f":"AJ14/(AL4-AJ11)","v":0},{"$f":"IF(AK14=0,0,(AK14*((LOG(AK14))/LOG(2))))","v":0},null,{"$f":"N14","v":222},{"$f":"COUNTIF(L53:L64,AN14)","v":0},{"$f":"AO14/(AQ4-AO11)","v":0},{"$f":"IF(AP14=0,0,(AP14*((LOG(AP14))/LOG(2))))","v":0},null,{"$f":"N14","v":222},{"$f":"COUNTIF(L65:L75,AS14)","v":0},{"$f":"AT14/(AV4-AT11)","v":0},{"$f":"IF(AU14=0,0,(AU14*((LOG(AU14))/LOG(2))))","v":0}]
[12,1032,13,1036,13,1045,null,null,null,null,0,111,null,null,null,{"$f":"SUM(P7:P14)","v":1},{"$f":"-SUM(Q7:Q14)","v":1.3284650947587167},null,null,null,null,{"$f":"SUM(V7:V14)","v":1},{"$f":"-SUM(W7:W14)","v":0},null,null,null,{"$f":"SUM(AA7:AA14)","v":1},{"$f":"-SUM(AB7:AB14)","v":0.72192809488736231},null,null,null,{"$f":"SUM(AF7:AF14)","v":1},{"$f":"-SUM(AG7:AG14)","v":0.98522813603425152},null,null,null,{"$f":"SUM(AK7:AK14)","v":1},{"$f":"-SUM(AL7:AL14)","v":1},null,null,null,{"$f":"SUM(AP7:AP14)","v":1},{"$f":"-SUM(AQ7:AQ14)","v":0},null,null,null,{"$f":"SUM(AU7:AU14)","v":1},{"$f":"-SUM(AV7:AV14)","v":0}]
[21,1137,11,1151,11,1162,null,null,null,null,0,211,null,null,null,"U=",{"$f":"Q15/(LOG(Q4)/LOG(2))","v":0.21747724907356625},null,null,null,null,"U1=",{"$f":"W15/(LOG(W4)/LOG(2))","v":0},null,null,null,"U2=",{"$f":"AB15/(LOG(AB4)/LOG(2))","v":0.20868401936261902},null,null,null,"U3=",{"$f":"AG15/(LOG(AG4)/LOG(2))","v":0.27482243840376613},null,null,null,"U4=",{"$f":"AL15/(LOG(AL4)/LOG(2))","v":0.28906482631788782},null,null,null,"U5=",{"$f":"AQ15/(LOG(AQ4)/LOG(2))","v":0},null,null,null,"U6=",{"$f":"AV15/(LOG(AV4)/LOG(2))","v":0}]
[21,1263,11,1273,11,1279,null,null,null,null,0,211]
[12,1392,13,1396,13,1402,null,null,null,null,0,111]
[21,1503,11,1512,11,1517,null,null,null,null,0,211,null,"Total Target Seq"]
[21,1624,11,1633,11,1637,null,null,null,null,0,211,null,{"$f":"COUNTIF(L7:L75,G3)","v":39},null,12,11,12,11,12,11]
[12,1833,13,1837,13,1844,null,null,null,null,0,111,null,null,null,"% of reinforcement given in 6 equal intervals based on number of trials "]
[21,1946,11,1954,11,1959,null,null,null,null,0,211,null,null,null,"%_1","%_2","%_3","%_4","%_5","%_6"]
[21,2054,11,2062,11,2064,null,null,null,null,0,211,null,null,"target sequence",{"$f":"$G$3","v":211},{"$f":"$G$3","v":211},{"$f":"$G$3","v":211},{"$f":"$G$3","v":211},{"$f":"$G$3","v":211},{"$f":"$G$3","v":211}]
[12,2209,13,2212,13,2219,null,null,null,null,0,111,null,null,"total reinforcement",{"$f":"U11","v":6},{"$f":"Z11","v":6},{"$f":"AE11","v":5},{"$f":"AJ11","v":7},{"$f":"AO11","v":9},{"$f":"AT11","v":6}]
[21,2312,22,2316,13,2326,null,null,null,null,0,221,null,null,"% target"]
[12,2430,13,2435,13,2442,null,null,null,null,0,111,null,null,"CCRF"]
[21,2543,11,2553,11,2560,null,null,null,null,0,211,null,null,"% CCRf"]
[12,2686,13,2689,13,2696,null,null,null,null,0,111,null,null,"average response rate",{"$f":"F18/P20","v":116.83333333333333},{"$f":"(F29-F18)/Q20","v":128.09090909090909},{"$f":"(F41-F29)/R20","v":126.5},{"$f":"(F52-F41)/S20","v":141.81818181818181},{"$f":"(F64-F52)/T20","v":156.58333333333334},{"$f":"(F75-F64)/U20","v":148.90909090909091}]
[21,2796,11,2804,11,2811,null,null,null,null,0,211]
[12,2920,13,2925,13,2940,null,null,null,null,0,111]
[21,3036,22,3041,13,3049,null,null,null,null,0,221]
[21,3152,11,3161,11,3172,null,null,null,null,0,211]
[12,3311,13,3317,13,3325,null,null,null,null,0,111]
[21,3424,11,3433,11,3457,null,null,null,null,0,211]
[12,3603,13,3608,13,3614,null,null,null,null,0,111]
[21,3708,22,3718,13,3727,null,null,null,null,0,221]
[21,3825,11,3834,11,3841,null,null,null,null,0,211]
[21,3940,11,3949,11,3975,null,null,null,null,0,211]
[21,4081,22,4085,13,4092,null,null,null,null,0,221]
[21,4191,22,4203,13,4211,null,null,null,null,0,221]
[21,4311,11,4322,11,4329,null,null,null,null,0,211]
[21,4497,22,4499,13,4505,null,null,null,null,0,221]
[21,4601,11,4610,11,4616,null,null,null,null,0,211]
[21,4718,11,4727,11,4732,null,null,null,null,0,211]
[21,4937,11,4945,11,4951,null,null,null,null,0,211]
[21,5078,11,5087,11,5102,null,null,null,null,0,211]
[21,5216,11,5225,11,5229,null,null,null,null,0,211]
[21,5386,11,5394,11,5399,null,null,null,null,0,211]
[12,5514,13,5518,13,5526,null,null,null,null,0,111]
[21,5622,11,5631,11,5637,null,null,null,null,0,211]
[12,5760,13,5764,13,5771,null,null,null,null,0,111]
[21,5868,22,5881,13,5889,null,null,null,null,0,221]
[21,5987,11,5995,11,6001,null,null,null,null,0,211]
[12,6090,13,6095,13,6108,null,null,null,null,0,111]
[21,6207,11,6214,11,6220,null,null,null,null,0,211]
[21,6334,11,6342,11,6347,null,null,null,null,0,211]
[21,6522,11,6529,11,6534,null,null,null,null,0,211]
[21,6663,11,6673,11,6676,null,null,null,null,0,211]
[21,6911,11,6918,11,6923,null,null,null,null,0,211]
[21,7118,11,7126,11,7131,null,null,null,null,0,211]
[12,7360,13,7365,13,7373,null,null,null,null,0,111]
[12,7478,13,7483,13,7494,null,null,null,null,0,111]
[21,7586,11,7598,11,7602,null,null,null,null,0,211]
[21,7749,11,7756,11,7768,null,null,null,null,0,211]
[12,7928,13,7934,13,7946,null,null,null,null,0,111]
[21,8049,11,8057,11,8062,null,null,null,null,0,211]
[12,8221,13,8226,13,8239,null,null,null,null,0,111]
[21,8344,11,8353,11,8358,null,null,null,null,0,211]
[12,8524,13,8530,13,8542,null,null,null,null,0,111]
[21,8639,11,8651,11,8657,null,null,null,null,0,211]
[21,8778,11,8787,11,8791,null,null,null,null,0,211]
[21,8939,11,8948,11,8950,null,null,null,null,0,211]
[12,9143,13,9149,13,9157,null,null,null,null,0,111]
[12,9267,13,9274,13,9290,null,null,null,null,0,111]
[21,9391,11,9399,11,9406,null,null,null,null,1,211]

{"sheet":"!MA0294D.ust","index":11,"n_rows":62,"n_cols":48,"rows_kept":62,"cut":false,"hidden":false,"merged":[[4,39,4,42],[5,39,5,40],[4,44,4,47],[5,44,5,45],[4,24,4,27],[5,24,5,25],[4,29,4,32],[5,29,5,30],[4,34,4,37],[5,34,5,35],[1,1,1,2],[5,13,5,14],[18,13,18,14],[19,13,19,14],[4,19,4,22],[5,19,5,20]]}
["Report for:!MA0294D.ust"]
["Date:","<date>"]
["Hen:","<hen>",null,null,null,"Correct Sequence",{"$f":"Start!J2","v":211},null,null,null,null,null,null,null,null,"Total Sequences in Data",{"$f":"4994-COUNTBLANK(L7:L5000)","v":56},null,null,null,null,"Total Sequences in Block Data",{"$f":"COUNTA(L7:L15)","v":9},null,null,null,"Total Sequences in Block Data",{"$f":"COUNTA(L16:L25)","v":10},null,null,null,"Total Sequences in Block Data",{"$f":"COUNTA(L26:L34)","v":9},null,null,null,"Total Sequences in Block Data",{"$f":"COUNTA(L35:L43)","v":9},null,null,null,"Total Sequences in Block Data",{"$f":"COUNTA(L44:L53)","v":10},null,null,null,"Total Sequences in Block Data",{"$f":"COUNTA(L54:L62)","v":9}]
[null,null,null,null,null,null,null,null,null,null,null,null,null,null,null,"Total Sequences in Summary",{"$f":"SUM(O7:O14)","v":56},null,null,null,null,"Total Sequences in Block Summary",{"$f":"SUM(U7:U14)","v":9},null,null,null,"Total Sequences in Block Summary",{"$f":"SUM(Z7:Z14)","v":10},null,null,null,"Total Sequences in Block Summary",{"$f":"SUM(AE7:AE14)","v":9},null,null,null,"Total Sequences in Block Summary",{"$f":"SUM(AJ7:AJ14)","v":9},null,null,null,"Total Sequences in Block Summary",{"$f":"SUM(AO7:AO14)","v":10},null,null,null,"Total Sequences in Block Summary",{"$f":"SUM(AT7:AT14)","v":9}]
[null,null,null,null,null,null,null,null,null,null,null,null,null,null,null,null,null,null,null,"Block 1",null,null,null,null,"Block 2",null,null,null,null,"Block 3",null,null,null,null,"Block 4",null,null,null,null,"Block 5",null,null,null,null,"Block 6"]
["Sequence\nComponent\n1","Time\n1","Sequence\nComponent\n2","Time\n2","Sequence\nComponent\n3","Time\n3","Sequence\nComponent\n4","Time\n4","Sequence\nComponent\n5","Time\n5","Correct?\n0=No 1=Yes","Sequence",null,"Frequency",null,"Relative Frequency","Variability",null,null,"Frequency",null,"Relative Frequency","Variability",null,"Frequency",null,"Relative Frequency","Variability",null,"Frequency",null,"Relative Frequency","Variability",null,"Frequency",null,"Relative Frequency","Variability",null,"Frequency",null,"Relative Frequency","Variability",null,"Frequency",null,"Relative Frequency","Variability"]
[12,11,13,17,13,28,null,null,null,null,0,111,null,111,{"$f":"COUNTIF($L$7:$L$500,N7)","v":12},{"$f":"O7/$Q$4","v":0.21428571428571427},{"$f":"IF(P7=0,0,(P7*((LOG(P7))/LOG(2))))","v":-0.47622694742923877},null,null,{"$f":"N7","v":111},{"$f":"COUNTIF(L7:L15,T7)","v":4},{"$f":"U7/(W4-U11)","v":1},{"$f":"IF(V7=0,0,(V7*((LOG(V7))/LOG(2))))","v":0},null,{"$f":"N7","v":111},{"$f":"COUNTIF(L16:L25,Y7)","v":1},{"$f":"Z7/(AB4-Z11)","v":0.5},{"$f":"IF(AA7=0,0,(AA7*((LOG(AA7))/LOG(2))))","v":-0.5},null,{"$f":"N7","v":111},{"$f":"COUNTIF(L26:L34,AD7)","v":0},{"$f":"AE7/(AG4-AE11)","v":{"$error":"#DIV/0!"}},{"$f":"IF(AF7=0,0,(AF7*((LOG(AF7))/LOG(2))))","v":{"$error":"#DIV/0!"}},null,{"$f":"N7","v":111},{"$f":"COUNTIF(L35:L43,AI7)","v":4},{"$f":"AJ7/(AL4-AJ11)","v":1},{"$f":"IF(AK7=0,0,(AK7*((LOG(AK7))/LOG(2))))","v":0},null,{"$f":"N7","v":111},{"$f":"COUNTIF(L44:L53,AN7)","v":1},{"$f":"AO7/(AQ4-AO11)","v":0.5},{"$f":"IF(AP7=0,0,(AP7*((LOG(AP7))/LOG(2))))","v":-0.5},null,{"$f":"N7","v":111},{"$f":"COUNTIF(L54:L62,AS7)","v":2},{"$f":"AT7/(AV4-AT11)","v":0.4},{"$f":"IF(AU7=0,0,(AU7*((LOG(AU7))/LOG(2))))","v":-0.52877123795494496}]
[21,121,11,132,11,137,null,null,null,null,0,211,null,112,{"$f":"COUNTIF($L$7:$L$500,N8)","v":2},{"$f":"O8/$Q$4","v":3.5714285714285712E-2},{"$f":"IF(P8=0,0,(P8*((LOG(P8))/LOG(2))))","v":-0.17169124721634299},null,null,{"$f":"N8","v":112},{"$f":"COUNTIF(L7:L15,T8)","v":0},{"$f":"U8/(W4-U11)","v":0},{"$f":"IF(V8=0,0,(V8*((LOG(V8))/LOG(2))))","v":0},null,{"$f":"N8","v":112},{"$f":"COUNTIF(L16:L25,Y8)","v":1},{"$f":"Z8/(AB4-Z11)","v":0.5},{"$f":"IF(AA8=0,0,(AA8*((LOG(AA8))/LOG(2))))","v":-0.5},null,{"$f":"N8","v":112},{"$f":"COUNTIF(L26:L34,AD8)","v":0},{"$f":"AE8/(AG4-AE11)","v":{"$error":"#DIV/0!"}},{"$f":"IF(AF8=0,0,(AF8*((LOG(AF8))/LOG(2))))","v":{"$error":"#DIV/0!"}},null,{"$f":"N8","v":112},{"$f":"COUNTIF(L35:L43,AI8)","v":0},{"$f":"AJ8/(AL4-AJ11)","v":0},{"$f":"IF(AK8=0,0,(AK8*((LOG(AK8))/LOG(2))))","v":0},null,{"$f":"N8","v":112},{"$f":"COUNTIF(L44:L53,AN8)","v":0},{"$f":"AO8/(AQ4-AO11)","v":0},{"$f":"IF(AP8=0,0,(AP8*((LOG(AP8))/LOG(2))))","v":0},null,{"$f":"N8","v":112},{"$f":"COUNTIF(L54:L62,AS8)","v":1},{"$f":"AT8/(AV4-AT11)","v":0.2},{"$f":"IF(AU8=0,0,(AU8*((LOG(AU8))/LOG(2))))","v":-0.46438561897747244}]
[12,359,13,365,13,370,null,null,null,null,0,111,null,121,{"$f":"COUNTIF($L$7:$L$500,N9)","v":0},{"$f":"O9/$Q$4","v":0},{"$f":"IF(P9=0,0,(P9*((LOG(P9))/LOG(2))))","v":0},null,null,{"$f":"N9","v":121},{"$f":"COUNTIF(L7:L15,T9)","v":0},{"$f":"U9/(W4-U11)","v":0},{"$f":"IF(V9=0,0,(V9*((LOG(V9))/LOG(2))))","v":0},null,{"$f":"N9","v":121},{"$f":"COUNTIF(L16:L25,Y9)","v":0},{"$f":"Z9/(AB4-Z11)","v":0},{"$f":"IF(AA9=0,0,(AA9*((LOG(AA9))/LOG(2))))","v":0},null,{"$f":"N9","v":121},{"$f":"COUNTIF(L26:L34,AD9)","v":0},{"$f":"AE9/(AG4-AE11)","v":{"$error":"#DIV/0!"}},{"$f":"IF(AF9=0,0,(AF9*((LOG(AF9))/LOG(2))))","v":{"$error":"#DIV/0!"}},null,{"$f":"N9","v":121},{"$f":"COUNTIF(L35:L43,AI9)","v":0},{"$f":"AJ9/(AL4-AJ11)","v":0},{"$f":"IF(AK9=0,0,(AK9*((LOG(AK9))/LOG(2))))","v":0},null,{"$f":"N9","v":121},{"$f":"COUNTIF(L44:L53,AN9)","v":0},{"$f":"AO9/(AQ4-AO11)","v":0},{"$f":"IF(AP9=0,0,(AP9*((LOG(AP9))/LOG(2))))","v":0},null,{"$f":"N9","v":121},{"$f":"COUNTIF(L54:L62,AS9)","v":0},{"$f":"AT9/(AV4-AT11)","v":0},{"$f":"IF(AU9=0,0,(AU9*((LOG(AU9))/LOG(2))))","v":0}]
[21,470,11,479,11,484,null,null,null,null,0,211,null,122,{"$f":"COUNTIF($L$7:$L$500,N10)","v":0},{"$f":"O10/$Q$4","v":0},{"$f":"IF(P10=0,0,(P10*((LOG(P10))/LOG(2))))","v":0},null,null,{"$f":"N10","v":122},{"$f":"COUNTIF(L7:L15,T10)","v":0},{"$f":"U10/(W4-U11)","v":0},{"$f":"IF(V10=0,0,(V10*((LOG(V10))/LOG(2))))","v":0},null,{"$f":"N10","v":122},{"$f":"COUNTIF(L16:L25,Y10)","v":0},{"$f":"Z10/(AB4-Z11)","v":0},{"$f":"IF(AA10=0,0,(AA10*((LOG(AA10))/LOG(2))))","v":0},null,{"$f":"N10","v":122},{"$f":"COUNTIF(L26:L34,AD10)","v":0},{"$f":"AE10/(AG4-AE11)","v":{"$error":"#DIV/0!"}},{"$f":"IF(AF10=0,0,(AF10*((LOG(AF10))/LOG(2))))","v":{"$error":"#DIV/0!"}},null,{"$f":"N10","v":122},{"$f":"COUNTIF(L35:L43,AI10)","v":0},{"$f":"AJ10/(AL4-AJ11)","v":0},{"$f":"IF(AK10=0,0,(AK10*((LOG(AK10))/LOG(2))))","v":0},null,{"$f":"N10","v":122},{"$f":"COUNTIF(L44:L53,AN10)","v":0},{"$f":"AO10/(AQ4-AO11)","v":0},{"$f":"IF(AP10=0,0,(AP10*((LOG(AP10))/LOG(2))))","v":0},null,{"$f":"N10","v":122},{"$f":"COUNTIF(L54:L62,AS10)","v":0},{"$f":"AT10/(AV4-AT11)","v":0},{"$f":"IF(AU10=0,0,(AU10*((LOG(AU10))/LOG(2))))","v":0}]
[21,733,11,741,11,746,null,null,null,null,0,211,null,211,{"$f":"COUNTIF($L$7:$L$500,N11)","v":39},{"$f":"O11/$Q$4","v":0.6964285714285714},{"$f":"IF(P11=0,0,(P11*((LOG(P11))/LOG(2))))","v":-0.36350277543962278},null,null,{"$f":"N11","v":211},{"$f":"COUNTIF(L7:L15,T11)","v":5},null,null,null,{"$f":"N11","v":211},{"$f":"COUNTIF(L16:L25,Y11)","v":8},null,null,null,{"$f":"N11","v":211},{"$f":"COUNTIF(L26:L34,AD11)","v":9},null,null,null,{"$f":"N11","v":211},{"$f":"COUNTIF(L35:L43,AI11)","v":5},null,null,null,{"$f":"N11","v":211},{"$f":"COUNTIF(L44:L53,AN11)","v":8},null,null,null,{"$f":"N11","v":211},{"$f":"COUNTIF(L54:L62,AS11)","v":4}]
[12,921,13,933,13,943,null,null,null,null,0,111,null,212,{"$f":"COUNTIF($L$7:$L$500,N12)","v":0},{"$f":"O12/$Q$4","v":0},{"$f":"IF(P12=0,0,(P12*((LOG(P12))/LOG(2))))","v":0},null,null,{"$f":"N12","v":212},{"$f":"COUNTIF(L7:L15,T12)","v":0},{"$f":"U12/(W4-U11)","v":0},{"$f":"IF(V12=0,0,(V12*((LOG(V12))/LOG(2))))","v":0},null,{"$f":"N12","v":212},{"$f":"COUNTIF(L16:L25,Y12)","v":0},{"$f":"Z12/(AB4-Z11)","v":0},{"$f":"IF(AA12=0,0,(AA12*((LOG(AA12))/LOG(2))))","v":0},null,{"$f":"N12","v":212},{"$f":"COUNTIF(L26:L34,AD12)","v":0},{"$f":"AE12/(AG4-AE11)","v":{"$error":"#DIV/0!"}},{"$f":"IF(AF12=0,0,(AF12*((LOG(AF12))/LOG(2))))","v":{"$error":"#DIV/0!"}},null,{"$f":"N12","v":212},{"$f":"COUNTIF(L35:L43,AI12)","v":0},{"$f":"AJ12/(AL4-AJ11)","v":0},{"$f":"IF(AK12=0,0,(AK12*((LOG(AK12))/LOG(2))))","v":0},null,{"$f":"N12","v":212},{"$f":"COUNTIF(L44:L53,AN12)","v":0},{"$f":"AO12/(AQ4-AO11)","v":0},{"$f":"IF(AP12=0,0,(AP12*((LOG(AP12))/LOG(2))))","v":0},null,{"$f":"N12","v":212},{"$f":"COUNTIF(L54:L62,AS12)","v":0},{"$f":"AT12/(AV4-AT11)","v":0},{"$f":"IF(AU12=0,0,(AU12*((LOG(AU12))/LOG(2))))","v":0}]
[21,1039,11,1052,11,1057,null,null,null,null,0,211,null,221,{"$f":"COUNTIF($L$7:$L$500,N13)","v":2},{"$f":"O13/$Q$4","v":3.5714285714285712E-2},{"$f":"IF(P13=0,0,(P13*((LOG(P13))/LOG(2))))","v":-0.17169124721634299},null,null,{"$f":"N13","v":221},{"$f":"COUNTIF(L7:L15,T13)","v":0},{"$f":"U13/(W4-U11)","v":0},{"$f":"IF(V13=0,0,(V13*((LOG(V13))/LOG(2))))","v":0},null,{"$f":"N13","v":221},{"$f":"COUNTIF(L16:L25,Y13)","v":0},{"$f":"Z13/(AB4-Z11)","v":0},{"$f":"IF(AA13=0,0,(AA13*((LOG(AA13))/LOG(2))))","v":0},null,{"$f":"N13","v":221},{"$f":"COUNTIF(L26:L34,AD13)","v":0},{"$f":"AE13/(AG4-AE11)","v":{"$error":"#DIV/0!"}},{"$f":"IF(AF13=0,0,(AF13*((LOG(AF13))/LOG(2))))","v":{"$error":"#DIV/0!"}},null,{"$f":"N13","v":221},{"$f":"COUNTIF(L35:L43,AI13)","v":0},{"$f":"AJ13/(AL4-AJ11)","v":0},{"$f":"IF(AK13=0,0,(AK13*((LOG(AK13))/LOG(2))))","v":0},null,{"$f":"N13","v":221},{"$f":"COUNTIF(L44:L53,AN13)","v":0},{"$f":"AO13/(AQ4-AO11)","v":0},{"$f":"IF(AP13=0,0,(AP13*((LOG(AP13))/LOG(2))))","v":0},null,{"$f":"N13","v":221},{"$f":"COUNTIF(L54:L62,AS13)","v":2},{"$f":"AT13/(AV4-AT11)","v":0.4},{"$f":"IF(AU13=0,0,(AU13*((LOG(AU13))/LOG(2))))","v":-0.52877123795494496}]
[21,1173,11,1182,11,1186,null,null,null,null,0,211,null,222,{"$f":"COUNTIF($L$7:$L$500,N14)","v":1},{"$f":"O14/$Q$4","v":1.7857142857142856E-2},{"$f":"IF(P14=0,0,(P14*((LOG(P14))/LOG(2))))","v":-0.10370276646531436},null,null,{"$f":"N14","v":222},{"$f":"COUNTIF(L7:L15,T14)","v":0},{"$f":"U14/(W4-U11)","v":0},{"$f":"IF(V14=0,0,(V14*((LOG(V14))/LOG(2))))","v":0},null,{"$f":"N14","v":222},{"$f":"COUNTIF(L16:L25,Y14)","v":0},{"$f":"Z14/(AB4-Z11)","v":0},{"$f":"IF(AA14=0,0,(AA14*((LOG(AA14))/LOG(2))))","v":0},null,{"$f":"N14","v":222},{"$f":"COUNTIF(L26:L34,AD14)","v":0},{"$f":"AE14/(AG4-AE11)","v":{"$error":"#DIV/0!"}},{"$f":"IF(AF14=0,0,(AF14*((LOG(AF14))/LOG(2))))","v":{"$error":"#DIV/0!"}},null,{"$f":"N14","v":222},{"$f":"COUNTIF(L35:L43,AI14)","v":0},{"$f":"AJ14/(AL4-AJ11)","v":0},{"$f":"IF(AK14=0,0,(AK14*((LOG(AK14))/LOG(2))))","v":0},null,{"$f":"N14","v":222},{"$f":"COUNTIF(L44:L53,AN14)","v":1},{"$f":"AO14/(AQ4-AO11)","v":0.5},{"$f":"IF(AP14=0,0,(AP14*((LOG(AP14))/LOG(2))))","v":-0.5},null,{"$f":"N14","v":222},{"$f":"COUNTIF(L54:L62,AS14)","v":0},{"$f":"AT14/(AV4-AT11)","v":0},{"$f":"IF(AU14=0,0,(AU14*((LOG(AU14))/LOG(2))))","v":0}]
[12,1373,13,1376,13,1385,null,null,null,null,0,111,null,null,null,{"$f":"SUM(P7:P14)","v":1},{"$f":"-SUM(Q7:Q14)","v":1.2868149837668619},null,null,null,null,{"$f":"SUM(V7:V14)","v":1},{"$f":"-SUM(W7:W14)","v":0},null,null,null,{"$f":"SUM(AA7:AA14)","v":1},{"$f":"-SUM(AB7:AB14)","v":1},null,null,null,{"$f":"SUM(AF7:AF14)","v":{"$error":"#DIV/0!"}},{"$f":"-SUM(AG7:AG14)","v":{"$error":"#DIV/0!"}},null,null,null,{"$f":"SUM(AK7:AK14)","v":1},{"$f":"-SUM(AL7:AL14)","v":0},null,null,null,{"$f":"SUM(AP7:AP14)","v":1},{"$f":"-SUM(AQ7:AQ14)","v":1},null,null,null,{"$f":"SUM(AU7:AU14)","v":1},{"$f":"-SUM(AV7:AV14)","v":1.5219280948873624}]
[21,1480,11,1492,11,1499,null,null,null,null,0,211,null,null,null,"U=",{"$f":"Q15/(LOG(Q4)/LOG(2))","v":0.22158366434248009},null,null,null,null,"U1=",{"$f":"W15/(LOG(W4)/LOG(2))","v":0},null,null,null,"U2=",{"$f":"AB15/(LOG(AB4)/LOG(2))","v":0.3010299956639812},null,null,null,"U3=",{"$f":"AG15/(LOG(AG4)/LOG(2))","v":{"$error":"#DIV/0!"}},null,null,null,"U4=",{"$f":"AL15/(LOG(AL4)/LOG(2))","v":0},null,null,null,"U5=",{"$f":"AQ15/(LOG(AQ4)/LOG(2))","v":0.3010299956639812},null,null,null,"U6=",{"$f":"AV15/(LOG(AV4)/LOG(2))","v":0.48011485893038064}]
[21,1652,11,1661,11,1670,null,null,null,null,0,211]
[21,1900,11,1907,11,1916,null,null,null,null,0,211]
[21,2069,11,2078,11,2082,null,null,null,null,0,211,null,"Total Target Seq"]
[21,2251,11,2261,11,2264,null,null,null,null,0,211,null,{"$f":"COUNTIF(L7:L62,G3)","v":39},null,9,10,9,9,10,9]
[12,2438,13,2443,13,2457,null,null,null,null,0,111,null,null,null,"% of reinforcement given in 6 equal intervals based on number of trials "]
[21,2554,11,2563,11,2567,null,null,null,null,0,211,null,null,null,"%_1","%_2","%_3","%_4","%_5","%_6"]
[21,2784,11,2792,11,2797,null,null,null,null,0,211,null,null,"target sequence",{"$f":"$G$3","v":211},{"$f":"$G$3","v":211},{"$f":"$G$3","v":211},{"$f":"$G$3","v":211},{"$f":"$G$3","v":211},{"$f":"$G$3","v":211}]
[12,3018,13,3025,24,3151,null,null,null,null,0,112,null,null,"total reinforcement",{"$f":"U11","v":5},{"$f":"Z11","v":8},{"$f":"AE11","v":9},{"$f":"AJ11","v":5},{"$f":"AO11","v":8},{"$f":"AT11","v":4}]
[21,3301,11,3308,11,3312,null,null,null,null,0,211,null,null,"% target"]
[21,3466,11,3475,11,3491,null,null,null,null,0,211,null,null,"CCRF"]
[21,3683,11,3690,11,3694,null,null,null,null,0,211,null,null,"% CCRf"]
[21,3828,11,3836,11,3840,null,null,null,null,0,211,null,null,"average response rate",{"$f":"F15/P20","v":153.88888888888889},{"$f":"(F25-F15)/Q20","v":192.7},{"$f":"(F34-F25)/R20","v":203},{"$f":"(F43-F34)/S20","v":162},{"$f":"(F53-F43)/T20","v":185.4},{"$f":"(F62-F53)/U20","v":147}]
[21,4035,11,4043,11,4045,null,null,null,null,0,211]
[21,4211,11,4223,11,4237,null,null,null,null,0,211]
[21,4504,11,4513,11,4522,null,null,null,null,0,211]
[21,4683,11,4694,11,4699,null,null,null,null,0,211]
[21,4923,11,4931,11,4937,null,null,null,null,0,211]
[21,5126,11,5135,11,5139,null,null,null,null,0,211]
[12,5324,13,5328,13,5343,null,null,null,null,0,111]
[12,5454,13,5459,13,5473,null,null,null,null,0,111]
[21,5569,11,5579,11,5583,null,null,null,null,0,211]
[21,5773,11,5780,11,5785,null,null,null,null,0,211]
[12,5953,13,5962,13,5971,null,null,null,null,0,111]
[21,6067,11,6076,11,6084,null,null,null,null,0,211]
[21,6225,11,6232,11,6236,null,null,null,null,0,211]
[21,6389,11,6399,11,6409,null,null,null,null,0,211]
[12,6584,13,6590,13,6597,null,null,null,null,0,111]
[21,6692,11,6703,11,6707,null,null,null,null,0,211]
[21,6870,11,6879,11,6885,null,null,null,null,0,211]
[21,7050,11,7059,11,7063,null,null,null,null,0,211]
[21,7265,11,7274,11,7278,null,null,null,null,0,211]
[21,7545,11,7554,11,7560,null,null,null,null,0,211]
[21,7765,11,7776,11,7787,null,null,null,null,0,211]
[21,8026,11,8034,11,8039,null,null,null,null,0,211]
[21,8195,22,8201,24,8211,null,null,null,null,0,222]
[12,8312,13,8317,13,8338,null,null,null,null,0,111]
[21,8437,11,8446,11,8451,null,null,null,null,0,211]
[12,8622,13,8626,13,8635,null,null,null,null,0,111]
[21,8727,22,8732,13,8744,null,null,null,null,0,221]
[21,8842,11,8853,11,8858,null,null,null,null,0,211]
[21,8987,11,8996,11,9000,null,null,null,null,0,211]
[12,9195,13,9199,13,9206,null,null,null,null,0,111]
[21,9298,22,9304,13,9313,null,null,null,null,0,221]
[21,9432,11,9443,11,9460,null,null,null,null,0,211]
[12,9639,13,9646,24,9662,null,null,null,null,0,112]
[21,9758,11,9769,11,9774,null,null,null,null,1,211]

{"sheet":"!MA0394D.ust","index":12,"n_rows":64,"n_cols":48,"rows_kept":64,"cut":false,"hidden":false,"merged":[[4,39,4,42],[5,39,5,40],[4,44,4,47],[5,44,5,45],[4,24,4,27],[5,24,5,25],[4,29,4,32],[5,29,5,30],[4,34,4,37],[5,34,5,35],[1,1,1,2],[5,13,5,14],[18,13,18,14],[19,13,19,14],[4,19,4,22],[5,19,5,20]]}
["Report for:!MA0394D.ust"]
["Date:","<date>"]
["Hen:","<hen>",null,null,null,"Correct Sequence",{"$f":"Start!J2","v":211},null,null,null,null,null,null,null,null,"Total Sequences in Data",{"$f":"4994-COUNTBLANK(L7:L5000)","v":58},null,null,null,null,"Total Sequences in Block Data",{"$f":"COUNTA(L7:L16)","v":10},null,null,null,"Total Sequences in Block Data",{"$f":"COUNTA(L17:L25)","v":9},null,null,null,"Total Sequences in Block Data",{"$f":"COUNTA(L26:L35)","v":10},null,null,null,"Total Sequences in Block Data",{"$f":"COUNTA(L36:L45)","v":10},null,null,null,"Total Sequences in Block Data",{"$f":"COUNTA(L46:L54)","v":9},null,null,null,"Total Sequences in Block Data",{"$f":"COUNTA(L55:L64)","v":10}]
[null,null,null,null,null,null,null,null,null,null,null,null,null,null,null,"Total Sequences in Summary",{"$f":"SUM(O7:O14)","v":58},null,null,null,null,"Total Sequences in Block Summary",{"$f":"SUM(U7:U14)","v":10},null,null,null,"Total Sequences in Block Summary",{"$f":"SUM(Z7:Z14)","v":9},null,null,null,"Total Sequences in Block Summary",{"$f":"SUM(AE7:AE14)","v":10},null,null,null,"Total Sequences in Block Summary",{"$f":"SUM(AJ7:AJ14)","v":10},null,null,null,"Total Sequences in Block Summary",{"$f":"SUM(AO7:AO14)","v":9},null,null,null,"Total Sequences in Block Summary",{"$f":"SUM(AT7:AT14)","v":10}]
[null,null,null,null,null,null,null,null,null,null,null,null,null,null,null,null,null,null,null,"Block 1",null,null,null,null,"Block 2",null,null,null,null,"Block 3",null,null,null,null,"Block 4",null,null,null,null,"Block 5",null,null,null,null,"Block 6"]
["Sequence\nComponent\n1","Time\n1","Sequence\nComponent\n2","Time\n2","Sequence\nComponent\n3","Time\n3","Sequence\nComponent\n4","Time\n4","Sequence\nComponent\n5","Time\n5","Correct?\n0=No 1=Yes","Sequence",null,"Frequency",null,"Relative Frequency","Variability",null,null,"Frequency",null,"Relative Frequency","Variability",null,"Frequency",null,"Relative Frequency","Variability",null,"Frequency",null,"Relative Frequency","Variability",null,"Frequency",null,"Relative Frequency","Variability",null,"Frequency",null,"Relative Frequency","Variability",null,"Frequency",null,"Relative Frequency","Variability"]
[12,4,13,15,13,22,null,null,null,null,0,111,null,111,{"$f":"COUNTIF($L$7:$L$500,N7)","v":12},{"$f":"O7/$Q$4","v":0.20689655172413793},{"$f":"IF(P7=0,0,(P7*((LOG(P7))/LOG(2))))","v":-0.4702796884978791},null,null,{"$f":"N7","v":111},{"$f":"COUNTIF(L7:L16,T7)","v":2},{"$f":"U7/(W4-U11)","v":1},{"$f":"IF(V7=0,0,(V7*((LOG(V7))/LOG(2))))","v":0},null,{"$f":"N7","v":111},{"$f":"COUNTIF(L17:L25,Y7)","v":1},{"$f":"Z7/(AB4-Z11)","v":0.5},{"$f":"IF(AA7=0,0,(AA7*((LOG(AA7))/LOG(2))))","v":-0.5},null,{"$f":"N7","v":111},{"$f":"COUNTIF(L26:L35,AD7)","v":3},{"$f":"AE7/(AG4-AE11)","v":1},{"$f":"IF(AF7=0,0,(AF7*((LOG(AF7))/LOG(2))))","v":0},null,{"$f":"N7","v":111},{"$f":"COUNTIF(L36:L45,AI7)","v":2},{"$f":"AJ7/(AL4-AJ11)","v":0.5},{"$f":"IF(AK7=0,0,(AK7*((LOG(AK7))/LOG(2))))","v":-0.5},null,{"$f":"N7","v":111},{"$f":"COUNTIF(L46:L54,AN7)","v":2},{"$f":"AO7/(AQ4-AO11)","v":0.66666666666666663},{"$f":"IF(AP7=0,0,(AP7*((LOG(AP7))/LOG(2))))","v":-0.38997500048077083},null,{"$f":"N7","v":111},{"$f":"COUNTIF(L55:L64,AS7)","v":2},{"$f":"AT7/(AV4-AT11)","v":0.4},{"$f":"IF(AU7=0,0,(AU7*((LOG(AU7))/LOG(2))))","v":-0.52877123795494496}]
[21,121,11,130,11,136,null,null,null,null,0,211,null,112,{"$f":"COUNTIF($L$7:$L$500,N8)","v":4},{"$f":"O8/$Q$4","v":6.8965517241379309E-2},{"$f":"IF(P8=0,0,(P8*((LOG(P8))/LOG(2))))","v":-0.26606765483638428},null,null,{"$f":"N8","v":112},{"$f":"COUNTIF(L7:L16,T8)","v":0},{"$f":"U8/(W4-U11)","v":0},{"$f":"IF(V8=0,0,(V8*((LOG(V8))/LOG(2))))","v":0},null,{"$f":"N8","v":112},{"$f":"COUNTIF(L17:L25,Y8)","v":0},{"$f":"Z8/(AB4-Z11)","v":0},{"$f":"IF(AA8=0,0,(AA8*((LOG(AA8))/LOG(2))))","v":0},null,{"$f":"N8","v":112},{"$f":"COUNTIF(L26:L35,AD8)","v":0},{"$f":"AE8/(AG4-AE11)","v":0},{"$f":"IF(AF8=0,0,(AF8*((LOG(AF8))/LOG(2))))","v":0},null,{"$f":"N8","v":112},{"$f":"COUNTIF(L36:L45,AI8)","v":1},{"$f":"AJ8/(AL4-AJ11)","v":0.25},{"$f":"IF(AK8=0,0,(AK8*((LOG(AK8))/LOG(2))))","v":-0.5},null,{"$f":"N8","v":112},{"$f":"COUNTIF(L46:L54,AN8)","v":1},{"$f":"AO8/(AQ4-AO11)","v":0.33333333333333331},{"$f":"IF(AP8=0,0,(AP8*((LOG(AP8))/LOG(2))))","v":-0.52832083357371862},null,{"$f":"N8","v":112},{"$f":"COUNTIF(L55:L64,AS8)","v":2},{"$f":"AT8/(AV4-AT11)","v":0.4},{"$f":"IF(AU8=0,0,(AU8*((LOG(AU8))/LOG(2))))","v":-0.52877123795494496}]
[12,340,13,344,13,354,null,null,null,null,0,111,null,121,{"$f":"COUNTIF($L$7:$L$500,N9)","v":0},{"$f":"O9/$Q$4","v":0},{"$f":"IF(P9=0,0,(P9*((LOG(P9))/LOG(2))))","v":0},null,null,{"$f":"N9","v":121},{"$f":"COUNTIF(L7:L16,T9)","v":0},{"$f":"U9/(W4-U11)","v":0},{"$f":"IF(V9=0,0,(V9*((LOG(V9))/LOG(2))))","v":0},null,{"$f":"N9","v":121},{"$f":"COUNTIF(L17:L25,Y9)","v":0},{"$f":"Z9/(AB4-Z11)","v":0},{"$f":"IF(AA9=0,0,(AA9*((LOG(AA9))/LOG(2))))","v":0},null,{"$f":"N9","v":121},{"$f":"COUNTIF(L26:L35,AD9)","v":0},{"$f":"AE9/(AG4-AE11)","v":0},{"$f":"IF(AF9=0,0,(AF9*((LOG(AF9))/LOG(2))))","v":0},null,{"$f":"N9","v":121},{"$f":"COUNTIF(L36:L45,AI9)","v":0},{"$f":"AJ9/(AL4-AJ11)","v":0},{"$f":"IF(AK9=0,0,(AK9*((LOG(AK9))/LOG(2))))","v":0},null,{"$f":"N9","v":121},{"$f":"COUNTIF(L46:L54,AN9)","v":0},{"$f":"AO9/(AQ4-AO11)","v":0},{"$f":"IF(AP9=0,0,(AP9*((LOG(AP9))/LOG(2))))","v":0},null,{"$f":"N9","v":121},{"$f":"COUNTIF(L55:L64,AS9)","v":0},{"$f":"AT9/(AV4-AT11)","v":0},{"$f":"IF(AU9=0,0,(AU9*((LOG(AU9))/LOG(2))))","v":0}]
[21,454,11,465,11,471,null,null,null,null,0,211,null,122,{"$f":"COUNTIF($L$7:$L$500,N10)","v":0},{"$f":"O10/$Q$4","v":0},{"$f":"IF(P10=0,0,(P10*((LOG(P10))/LOG(2))))","v":0},null,null,{"$f":"N10","v":122},{"$f":"COUNTIF(L7:L16,T10)","v":0},{"$f":"U10/(W4-U11)","v":0},{"$f":"IF(V10=0,0,(V10*((LOG(V10))/LOG(2))))","v":0},null,{"$f":"N10","v":122},{"$f":"COUNTIF(L17:L25,Y10)","v":0},{"$f":"Z10/(AB4-Z11)","v":0},{"$f":"IF(AA10=0,0,(AA10*((LOG(AA10))/LOG(2))))","v":0},null,{"$f":"N10","v":122},{"$f":"COUNTIF(L26:L35,AD10)","v":0},{"$f":"AE10/(AG4-AE11)","v":0},{"$f":"IF(AF10=0,0,(AF10*((LOG(AF10))/LOG(2))))","v":0},null,{"$f":"N10","v":122},{"$f":"COUNTIF(L36:L45,AI10)","v":0},{"$f":"AJ10/(AL4-AJ11)","v":0},{"$f":"IF(AK10=0,0,(AK10*((LOG(AK10))/LOG(2))))","v":0},null,{"$f":"N10","v":122},{"$f":"COUNTIF(L46:L54,AN10)","v":0},{"$f":"AO10/(AQ4-AO11)","v":0},{"$f":"IF(AP10=0,0,(AP10*((LOG(AP10))/LOG(2))))","v":0},null,{"$f":"N10","v":122},{"$f":"COUNTIF(L55:L64,AS10)","v":0},{"$f":"AT10/(AV4-AT11)","v":0},{"$f":"IF(AU10=0,0,(AU10*((LOG(AU10))/LOG(2))))","v":0}]
[21,598,11,606,11,611,null,null,null,null,0,211,null,211,{"$f":"COUNTIF($L$7:$L$500,N11)","v":39},{"$f":"O11/$Q$4","v":0.67241379310344829},{"$f":"IF(P11=0,0,(P11*((LOG(P11))/LOG(2))))","v":-0.38500986679909699},null,null,{"$f":"N11","v":211},{"$f":"COUNTIF(L7:L16,T11)","v":8},null,null,null,{"$f":"N11","v":211},{"$f":"COUNTIF(L17:L25,Y11)","v":7},null,null,null,{"$f":"N11","v":211},{"$f":"COUNTIF(L26:L35,AD11)","v":7},null,null,null,{"$f":"N11","v":211},{"$f":"COUNTIF(L36:L45,AI11)","v":6},null,null,null,{"$f":"N11","v":211},{"$f":"COUNTIF(L46:L54,AN11)","v":6},null,null,null,{"$f":"N11","v":211},{"$f":"COUNTIF(L55:L64,AS11)","v":5}]
[21,836,11,846,11,849,null,null,null,null,0,211,null,212,{"$f":"COUNTIF($L$7:$L$500,N12)","v":0},{"$f":"O12/$Q$4","v":0},{"$f":"IF(P12=0,0,(P12*((LOG(P12))/LOG(2))))","v":0},null,null,{"$f":"N12","v":212},{"$f":"COUNTIF(L7:L16,T12)","v":0},{"$f":"U12/(W4-U11)","v":0},{"$f":"IF(V12=0,0,(V12*((LOG(V12))/LOG(2))))","v":0},null,{"$f":"N12","v":212},{"$f":"COUNTIF(L17:L25,Y12)","v":0},{"$f":"Z12/(AB4-Z11)","v":0},{"$f":"IF(AA12=0,0,(AA12*((LOG(AA12))/LOG(2))))","v":0},null,{"$f":"N12","v":212},{"$f":"COUNTIF(L26:L35,AD12)","v":0},{"$f":"AE12/(AG4-AE11)","v":0},{"$f":"IF(AF12=0,0,(AF12*((LOG(AF12))/LOG(2))))","v":0},null,{"$f":"N12","v":212},{"$f":"COUNTIF(L36:L45,AI12)","v":0},{"$f":"AJ12/(AL4-AJ11)","v":0},{"$f":"IF(AK12=0,0,(AK12*((LOG(AK12))/LOG(2))))","v":0},null,{"$f":"N12","v":212},{"$f":"COUNTIF(L46:L54,AN12)","v":0},{"$f":"AO12/(AQ4-AO11)","v":0},{"$f":"IF(AP12=0,0,(AP12*((LOG(AP12))/LOG(2))))","v":0},null,{"$f":"N12","v":212},{"$f":"COUNTIF(L55:L64,AS12)","v":0},{"$f":"AT12/(AV4-AT11)","v":0},{"$f":"IF(AU12=0,0,(AU12*((LOG(AU12))/LOG(2))))","v":0}]
[21,1007,11,1016,11,1020,null,null,null,null,0,211,null,221,{"$f":"COUNTIF($L$7:$L$500,N13)","v":3},{"$f":"O13/$Q$4","v":5.1724137931034482E-2},{"$f":"IF(P13=0,0,(P13*((LOG(P13))/LOG(2))))","v":-0.22101819798653879},null,null,{"$f":"N13","v":221},{"$f":"COUNTIF(L7:L16,T13)","v":0},{"$f":"U13/(W4-U11)","v":0},{"$f":"IF(V13=0,0,(V13*((LOG(V13))/LOG(2))))","v":0},null,{"$f":"N13","v":221},{"$f":"COUNTIF(L17:L25,Y13)","v":1},{"$f":"Z13/(AB4-Z11)","v":0.5},{"$f":"IF(AA13=0,0,(AA13*((LOG(AA13))/LOG(2))))","v":-0.5},null,{"$f":"N13","v":221},{"$f":"COUNTIF(L26:L35,AD13)","v":0},{"$f":"AE13/(AG4-AE11)","v":0},{"$f":"IF(AF13=0,0,(AF13*((LOG(AF13))/LOG(2))))","v":0},null,{"$f":"N13","v":221},{"$f":"COUNTIF(L36:L45,AI13)","v":1},{"$f":"AJ13/(AL4-AJ11)","v":0.25},{"$f":"IF(AK13=0,0,(AK13*((LOG(AK13))/LOG(2))))","v":-0.5},null,{"$f":"N13","v":221},{"$f":"COUNTIF(L46:L54,AN13)","v":0},{"$f":"AO13/(AQ4-AO11)","v":0},{"$f":"IF(AP13=0,0,(AP13*((LOG(AP13))/LOG(2))))","v":0},null,{"$f":"N13","v":221},{"$f":"COUNTIF(L55:L64,AS13)","v":1},{"$f":"AT13/(AV4-AT11)","v":0.2},{"$f":"IF(AU13=0,0,(AU13*((LOG(AU13))/LOG(2))))","v":-0.46438561897747244}]
[21,1190,11,1198,11,1203,null,null,null,null,0,211,null,222,{"$f":"COUNTIF($L$7:$L$500,N14)","v":0},{"$f":"O14/$Q$4","v":0},{"$f":"IF(P14=0,0,(P14*((LOG(P14))/LOG(2))))","v":0},null,null,{"$f":"N14","v":222},{"$f":"COUNTIF(L7:L16,T14)","v":0},{"$f":"U14/(W4-U11)","v":0},{"$f":"IF(V14=0,0,(V14*((LOG(V14))/LOG(2))))","v":0},null,{"$f":"N14","v":222},{"$f":"COUNTIF(L17:L25,Y14)","v":0},{"$f":"Z14/(AB4-Z11)","v":0},{"$f":"IF(AA14=0,0,(AA14*((LOG(AA14))/LOG(2))))","v":0},null,{"$f":"N14","v":222},{"$f":"COUNTIF(L26:L35,AD14)","v":0},{"$f":"AE14/(AG4-AE11)","v":0},{"$f":"IF(AF14=0,0,(AF14*((LOG(AF14))/LOG(2))))","v":0},null,{"$f":"N14","v":222},{"$f":"COUNTIF(L36:L45,AI14)","v":0},{"$f":"AJ14/(AL4-AJ11)","v":0},{"$f":"IF(AK14=0,0,(AK14*((LOG(AK14))/LOG(2))))","v":0},null,{"$f":"N14","v":222},{"$f":"COUNTIF(L46:L54,AN14)","v":0},{"$f":"AO14/(AQ4-AO11)","v":0},{"$f":"IF(AP14=0,0,(AP14*((LOG(AP14))/LOG(2))))","v":0},null,{"$f":"N14","v":222},{"$f":"COUNTIF(L55:L64,AS14)","v":0},{"$f":"AT14/(AV4-AT11)","v":0},{"$f":"IF(AU14=0,0,(AU14*((LOG(AU14))/LOG(2))))","v":0}]
[21,1364,11,1377,11,1384,null,null,null,null,0,211,null,null,null,{"$f":"SUM(P7:P14)","v":1},{"$f":"-SUM(Q7:Q14)","v":1.3423754081198991},null,null,null,null,{"$f":"SUM(V7:V14)","v":1},{"$f":"-SUM(W7:W14)","v":0},null,null,null,{"$f":"SUM(AA7:AA14)","v":1},{"$f":"-SUM(AB7:AB14)","v":1},null,null,null,{"$f":"SUM(AF7:AF14)","v":1},{"$f":"-SUM(AG7:AG14)","v":0},null,null,null,{"$f":"SUM(AK7:AK14)","v":1},{"$f":"-SUM(AL7:AL14)","v":1.5},null,null,null,{"$f":"SUM(AP7:AP14)","v":1},{"$f":"-SUM(AQ7:AQ14)","v":0.91829583405448945},null,null,null,{"$f":"SUM(AU7:AU14)","v":1},{"$f":"-SUM(AV7:AV14)","v":1.5219280948873624}]
[21,1569,11,1578,11,1582,null,null,null,null,0,211,null,null,null,"U=",{"$f":"Q15/(LOG(Q4)/LOG(2))","v":0.22915325420762406},null,null,null,null,"U1=",{"$f":"W15/(LOG(W4)/LOG(2))","v":0},null,null,null,"U2=",{"$f":"AB15/(LOG(AB4)/LOG(2))","v":0.31546487678572877},null,null,null,"U3=",{"$f":"AG15/(LOG(AG4)/LOG(2))","v":0},null,null,null,"U4=",{"$f":"AL15/(LOG(AL4)/LOG(2))","v":0.45154499349597182},null,null,null,"U5=",{"$f":"AQ15/(LOG(AQ4)/LOG(2))","v":0.28969008214284753},null,null,null,"U6=",{"$f":"AV15/(LOG(AV4)/LOG(2))","v":0.45814600780483389}]
[12,1796,13,1800,13,1811,null,null,null,null,0,111]
[21,1907,22,1914,13,1923,null,null,null,null,0,221]
[21,2050,11,2058,11,2065,null,null,null,null,0,211,null,"Total Target Seq"]
[21,2233,11,2242,11,2246,null,null,null,null,0,211,null,{"$f":"COUNTIF(L7:L64,G3)","v":39},null,10,9,10,10,9,10]
[21,2465,11,2474,11,2481,null,null,null,null,0,211,null,null,null,"% of reinforcement given in 6 equal intervals based on number of trials "]
[21,2607,11,2615,11,2624,null,null,null,null,0,211,null,null,null,"%_1","%_2","%_3","%_4","%_5","%_6"]
[21,2829,11,2838,11,2842,null,null,null,null,0,211,null,null,"target sequence",{"$f":"$G$3","v":211},{"$f":"$G$3","v":211},{"$f":"$G$3","v":211},{"$f":"$G$3","v":211},{"$f":"$G$3","v":211},{"$f":"$G$3","v":211}]
[21,2983,11,2994,11,2999,null,null,null,null,0,211,null,null,"total reinforcement",{"$f":"U11","v":8},{"$f":"Z11","v":7},{"$f":"AE11","v":7},{"$f":"AJ11","v":6},{"$f":"AO11","v":6},{"$f":"AT11","v":5}]
[21,3243,11,3251,11,3260,null,null,null,null,0,211,null,null,"% target"]
[21,3398,11,3407,11,3410,null,null,null,null,0,211,null,null,"CCRF"]
[12,3578,13,3582,13,3591,null,null,null,null,0,111,null,null,"% CCRf"]
[21,3713,11,3725,11,3737,null,null,null,null,0,211,null,null,"average response rate",{"$f":"F16/P20","v":158.19999999999999},{"$f":"(F25-F16)/Q20","v":186.44444444444446},{"$f":"(F35-F25)/R20","v":157.5},{"$f":"(F45-F35)/S20","v":166.7},{"$f":"(F54-F45)/T20","v":175},{"$f":"(F64-F54)/U20","v":156.69999999999999}]
[21,3871,11,3878,11,3883,null,null,null,null,0,211]
[12,4050,13,4058,13,4069,null,null,null,null,0,111]
[21,4164,11,4176,11,4181,null,null,null,null,0,211]
[21,4341,11,4350,11,4354,null,null,null,null,0,211]
[21,4514,11,4522,11,4526,null,null,null,null,0,211]
[12,4696,13,4708,13,4717,null,null,null,null,0,111]
[21,4812,11,4822,11,4835,null,null,null,null,0,211]
[21,5029,11,5037,11,5042,null,null,null,null,0,211]
[21,5232,11,5240,11,5245,null,null,null,null,0,211]
[21,5425,11,5433,11,5439,null,null,null,null,0,211]
[12,5649,13,5654,13,5666,null,null,null,null,0,111]
[21,5761,22,5765,13,5773,null,null,null,null,0,221]
[12,5882,13,5887,13,5900,null,null,null,null,0,111]
[21,6000,11,6010,11,6016,null,null,null,null,0,211]
[12,6184,13,6190,24,6200,null,null,null,null,0,112]
[21,6295,11,6304,11,6315,null,null,null,null,0,211]
[21,6491,11,6499,11,6502,null,null,null,null,0,211]
[21,6638,11,6645,11,6651,null,null,null,null,0,211]
[12,6848,13,6858,24,6963,null,null,null,null,0,112]
[21,7060,11,7069,11,7078,null,null,null,null,0,211]
[21,7251,11,7261,11,7266,null,null,null,null,0,211]
[12,7451,13,7455,13,7461,null,null,null,null,0,111]
[21,7560,11,7569,11,7584,null,null,null,null,0,211]
[21,7724,11,7732,11,7736,null,null,null,null,0,211]
[12,7940,13,7948,13,7964,null,null,null,null,0,111]
[21,8060,11,8072,11,8077,null,null,null,null,0,211]
[21,8257,11,8265,11,8271,null,null,null,null,0,211]
[12,8458,13,8463,13,8475,null,null,null,null,0,111]
[21,8568,22,8577,13,8586,null,null,null,null,0,221]
[21,8681,11,8690,11,8696,null,null,null,null,0,211]
[12,8859,13,8864,24,8877,null,null,null,null,0,112]
[21,8972,11,8986,11,8994,null,null,null,null,0,211]
[12,9181,13,9189,24,9202,null,null,null,null,0,112]
[21,9299,11,9308,11,9313,null,null,null,null,0,211]
[12,9517,13,9521,13,9527,null,null,null,null,0,111]
[21,9628,11,9638,11,9644,null,null,null,null,1,211]

{"sheet":"!MA04A5D.ust","index":13,"n_rows":66,"n_cols":48,"rows_kept":66,"cut":false,"hidden":false,"merged":[[4,39,4,42],[5,39,5,40],[4,44,4,47],[5,44,5,45],[4,24,4,27],[5,24,5,25],[4,29,4,32],[5,29,5,30],[4,34,4,37],[5,34,5,35],[1,1,1,2],[5,13,5,14],[18,13,18,14],[19,13,19,14],[4,19,4,22],[5,19,5,20]]}
["Report for:!MA04A5D.ust"]
["Date:","<date>"]
["Hen:","<hen>",null,null,null,"Correct Sequence",{"$f":"Start!J2","v":211},null,null,null,null,null,null,null,null,"Total Sequences in Data",{"$f":"4994-COUNTBLANK(L7:L5000)","v":60},null,null,null,null,"Total Sequences in Block Data",{"$f":"COUNTA(L7:L16)","v":10},null,null,null,"Total Sequences in Block Data",{"$f":"COUNTA(L17:L26)","v":10},null,null,null,"Total Sequences in Block Data",{"$f":"COUNTA(L27:L36)","v":10},null,null,null,"Total Sequences in Block Data",{"$f":"COUNTA(L37:L46)","v":10},null,null,null,"Total Sequences in Block Data",{"$f":"COUNTA(L47:L56)","v":10},null,null,null,"Total Sequences in Block Data",{"$f":"COUNTA(L57:L66)","v":10}]
[null,null,null,null,null,null,null,null,null,null,null,null,null,null,null,"Total Sequences in Summary",{"$f":"SUM(O7:O14)","v":60},null,null,null,null,"Total Sequences in Block Summary",{"$f":"SUM(U7:U14)","v":10},null,null,null,"Total Sequences in Block Summary",{"$f":"SUM(Z7:Z14)","v":10},null,null,null,"Total Sequences in Block Summary",{"$f":"SUM(AE7:AE14)","v":10},null,null,null,"Total Sequences in Block Summary",{"$f":"SUM(AJ7:AJ14)","v":10},null,null,null,"Total Sequences in Block Summary",{"$f":"SUM(AO7:AO14)","v":10},null,null,null,"Total Sequences in Block Summary",{"$f":"SUM(AT7:AT14)","v":10}]
[null,null,null,null,null,null,null,null,null,null,null,null,null,null,null,null,null,null,null,"Block 1",null,null,null,null,"Block 2",null,null,null,null,"Block 3",null,null,null,null,"Block 4",null,null,null,null,"Block 5",null,null,null,null,"Block 6"]
["Sequence\nComponent\n1","Time\n1","Sequence\nComponent\n2","Time\n2","Sequence\nComponent\n3","Time\n3","Sequence\nComponent\n4","Time\n4","Sequence\nComponent\n5","Time\n5","Correct?\n0=No 1=Yes","Sequence",null,"Frequency",null,"Relative Frequency","Variability",null,null,"Frequency",null,"Relative Frequency","Variability",null,"Frequency",null,"Relative Frequency","Variability",null,"Frequency",null,"Relative Frequency","Variability",null,"Frequency",null,"Relative Frequency","Variability",null,"Frequency",null,"Relative Frequency","Variability",null,"Frequency",null,"Relative Frequency","Variability"]
[12,10,13,15,13,23,null,null,null,null,0,111,null,111,{"$f":"COUNTIF($L$7:$L$500,N7)","v":11},{"$f":"O7/$Q$4","v":0.18333333333333332},{"$f":"IF(P7=0,0,(P7*((LOG(P7))/LOG(2))))","v":-0.44870081244472387},null,null,{"$f":"N7","v":111},{"$f":"COUNTIF(L7:L16,T7)","v":4},{"$f":"U7/(W4-U11)","v":1},{"$f":"IF(V7=0,0,(V7*((LOG(V7))/LOG(2))))","v":0},null,{"$f":"N7","v":111},{"$f":"COUNTIF(L17:L26,Y7)","v":4},{"$f":"Z7/(AB4-Z11)","v":1},{"$f":"IF(AA7=0,0,(AA7*((LOG(AA7))/LOG(2))))","v":0},null,{"$f":"N7","v":111},{"$f":"COUNTIF(L27:L36,AD7)","v":0},{"$f":"AE7/(AG4-AE11)","v":0},{"$f":"IF(AF7=0,0,(AF7*((LOG(AF7))/LOG(2))))","v":0},null,{"$f":"N7","v":111},{"$f":"COUNTIF(L37:L46,AI7)","v":0},{"$f":"AJ7/(AL4-AJ11)","v":0},{"$f":"IF(AK7=0,0,(AK7*((LOG(AK7))/LOG(2))))","v":0},null,{"$f":"N7","v":111},{"$f":"COUNTIF(L47:L56,AN7)","v":0},{"$f":"AO7/(AQ4-AO11)","v":0},{"$f":"IF(AP7=0,0,(AP7*((LOG(AP7))/LOG(2))))","v":0},null,{"$f":"N7","v":111},{"$f":"COUNTIF(L57:L66,AS7)","v":3},{"$f":"AT7/(AV4-AT11)","v":1},{"$f":"IF(AU7=0,0,(AU7*((LOG(AU7))/LOG(2))))","v":0}]
[12,120,13,124,13,143,null,null,null,null,0,111,null,112,{"$f":"COUNTIF($L$7:$L$500,N8)","v":9},{"$f":"O8/$Q$4","v":0.15},{"$f":"IF(P8=0,0,(P8*((LOG(P8))/LOG(2))))","v":-0.41054483912493089},null,null,{"$f":"N8","v":112},{"$f":"COUNTIF(L7:L16,T8)","v":0},{"$f":"U8/(W4-U11)","v":0},{"$f":"IF(V8=0,0,(V8*((LOG(V8))/LOG(2))))","v":0},null,{"$f":"N8","v":112},{"$f":"COUNTIF(L17:L26,Y8)","v":0},{"$f":"Z8/(AB4-Z11)","v":0},{"$f":"IF(AA8=0,0,(AA8*((LOG(AA8))/LOG(2))))","v":0},null,{"$f":"N8","v":112},{"$f":"COUNTIF(L27:L36,AD8)","v":3},{"$f":"AE8/(AG4-AE11)","v":1},{"$f":"IF(AF8=0,0,(AF8*((LOG(AF8))/LOG(2))))","v":0},null,{"$f":"N8","v":112},{"$f":"COUNTIF(L37:L46,AI8)","v":4},{"$f":"AJ8/(AL4-AJ11)","v":1},{"$f":"IF(AK8=0,0,(AK8*((LOG(AK8))/LOG(2))))","v":0},null,{"$f":"N8","v":112},{"$f":"COUNTIF(L47:L56,AN8)","v":2},{"$f":"AO8/(AQ4-AO11)","v":0.66666666666666663},{"$f":"IF(AP8=0,0,(AP8*((LOG(AP8))/LOG(2))))","v":-0.38997500048077083},null,{"$f":"N8","v":112},{"$f":"COUNTIF(L57:L66,AS8)","v":0},{"$f":"AT8/(AV4-AT11)","v":0},{"$f":"IF(AU8=0,0,(AU8*((LOG(AU8))/LOG(2))))","v":0}]
[21,244,11,252,11,257,null,null,null,null,0,211,null,121,{"$f":"COUNTIF($L$7:$L$500,N9)","v":0},{"$f":"O9/$Q$4","v":0},{"$f":"IF(P9=0,0,(P9*((LOG(P9))/LOG(2))))","v":0},null,null,{"$f":"N9","v":121},{"$f":"COUNTIF(L7:L16,T9)","v":0},{"$f":"U9/(W4-U11)","v":0},{"$f":"IF(V9=0,0,(V9*((LOG(V9))/LOG(2))))","v":0},null,{"$f":"N9","v":121},{"$f":"COUNTIF(L17:L26,Y9)","v":0},{"$f":"Z9/(AB4-Z11)","v":0},{"$f":"IF(AA9=0,0,(AA9*((LOG(AA9))/LOG(2))))","v":0},null,{"$f":"N9","v":121},{"$f":"COUNTIF(L27:L36,AD9)","v":0},{"$f":"AE9/(AG4-AE11)","v":0},{"$f":"IF(AF9=0,0,(AF9*((LOG(AF9))/LOG(2))))","v":0},null,{"$f":"N9","v":121},{"$f":"COUNTIF(L37:L46,AI9)","v":0},{"$f":"AJ9/(AL4-AJ11)","v":0},{"$f":"IF(AK9=0,0,(AK9*((LOG(AK9))/LOG(2))))","v":0},null,{"$f":"N9","v":121},{"$f":"COUNTIF(L47:L56,AN9)","v":0},{"$f":"AO9/(AQ4-AO11)","v":0},{"$f":"IF(AP9=0,0,(AP9*((LOG(AP9))/LOG(2))))","v":0},null,{"$f":"N9","v":121},{"$f":"COUNTIF(L57:L66,AS9)","v":0},{"$f":"AT9/(AV4-AT11)","v":0},{"$f":"IF(AU9=0,0,(AU9*((LOG(AU9))/LOG(2))))","v":0}]
[12,441,13,445,13,453,null,null,null,null,0,111,null,122,{"$f":"COUNTIF($L$7:$L$500,N10)","v":0},{"$f":"O10/$Q$4","v":0},{"$f":"IF(P10=0,0,(P10*((LOG(P10))/LOG(2))))","v":0},null,null,{"$f":"N10","v":122},{"$f":"COUNTIF(L7:L16,T10)","v":0},{"$f":"U10/(W4-U11)","v":0},{"$f":"IF(V10=0,0,(V10*((LOG(V10))/LOG(2))))","v":0},null,{"$f":"N10","v":122},{"$f":"COUNTIF(L17:L26,Y10)","v":0},{"$f":"Z10/(AB4-Z11)","v":0},{"$f":"IF(AA10=0,0,(AA10*((LOG(AA10))/LOG(2))))","v":0},null,{"$f":"N10","v":122},{"$f":"COUNTIF(L27:L36,AD10)","v":0},{"$f":"AE10/(AG4-AE11)","v":0},{"$f":"IF(AF10=0,0,(AF10*((LOG(AF10))/LOG(2))))","v":0},null,{"$f":"N10","v":122},{"$f":"COUNTIF(L37:L46,AI10)","v":0},{"$f":"AJ10/(AL4-AJ11)","v":0},{"$f":"IF(AK10=0,0,(AK10*((LOG(AK10))/LOG(2))))","v":0},null,{"$f":"N10","v":122},{"$f":"COUNTIF(L47:L56,AN10)","v":0},{"$f":"AO10/(AQ4-AO11)","v":0},{"$f":"IF(AP10=0,0,(AP10*((LOG(AP10))/LOG(2))))","v":0},null,{"$f":"N10","v":122},{"$f":"COUNTIF(L57:L66,AS10)","v":0},{"$f":"AT10/(AV4-AT11)","v":0},{"$f":"IF(AU10=0,0,(AU10*((LOG(AU10))/LOG(2))))","v":0}]
[21,555,11,565,11,569,null,null,null,null,0,211,null,211,{"$f":"COUNTIF($L$7:$L$500,N11)","v":39},{"$f":"O11/$Q$4","v":0.65},{"$f":"IF(P11=0,0,(P11*((LOG(P11))/LOG(2))))","v":-0.40396744488507563},null,null,{"$f":"N11","v":211},{"$f":"COUNTIF(L7:L16,T11)","v":6},null,null,null,{"$f":"N11","v":211},{"$f":"COUNTIF(L17:L26,Y11)","v":6},null,null,null,{"$f":"N11","v":211},{"$f":"COUNTIF(L27:L36,AD11)","v":7},null,null,null,{"$f":"N11","v":211},{"$f":"COUNTIF(L37:L46,AI11)","v":6},null,null,null,{"$f":"N11","v":211},{"$f":"COUNTIF(L47:L56,AN11)","v":7},null,null,null,{"$f":"N11","v":211},{"$f":"COUNTIF(L57:L66,AS11)","v":7}]
[21,796,11,803,11,807,null,null,null,null,0,211,null,212,{"$f":"COUNTIF($L$7:$L$500,N12)","v":0},{"$f":"O12/$Q$4","v":0},{"$f":"IF(P12=0,0,(P12*((LOG(P12))/LOG(2))))","v":0},null,null,{"$f":"N12","v":212},{"$f":"COUNTIF(L7:L16,T12)","v":0},{"$f":"U12/(W4-U11)","v":0},{"$f":"IF(V12=0,0,(V12*((LOG(V12))/LOG(2))))","v":0},null,{"$f":"N12","v":212},{"$f":"COUNTIF(L17:L26,Y12)","v":0},{"$f":"Z12/(AB4-Z11)","v":0},{"$f":"IF(AA12=0,0,(AA12*((LOG(AA12))/LOG(2))))","v":0},null,{"$f":"N12","v":212},{"$f":"COUNTIF(L27:L36,AD12)","v":0},{"$f":"AE12/(AG4-AE11)","v":0},{"$f":"IF(AF12=0,0,(AF12*((LOG(AF12))/LOG(2))))","v":0},null,{"$f":"N12","v":212},{"$f":"COUNTIF(L37:L46,AI12)","v":0},{"$f":"AJ12/(AL4-AJ11)","v":0},{"$f":"IF(AK12=0,0,(AK12*((LOG(AK12))/LOG(2))))","v":0},null,{"$f":"N12","v":212},{"$f":"COUNTIF(L47:L56,AN12)","v":0},{"$f":"AO12/(AQ4-AO11)","v":0},{"$f":"IF(AP12=0,0,(AP12*((LOG(AP12))/LOG(2))))","v":0},null,{"$f":"N12","v":212},{"$f":"COUNTIF(L57:L66,AS12)","v":0},{"$f":"AT12/(AV4-AT11)","v":0},{"$f":"IF(AU12=0,0,(AU12*((LOG(AU12))/LOG(2))))","v":0}]
[21,1005,11,1018,11,1024,null,null,null,null,0,211,null,221,{"$f":"COUNTIF($L$7:$L$500,N13)","v":1},{"$f":"O13/$Q$4","v":1.6666666666666666E-2},{"$f":"IF(P13=0,0,(P13*((LOG(P13))/LOG(2))))","v":-9.8448176593475309E-2},null,null,{"$f":"N13","v":221},{"$f":"COUNTIF(L7:L16,T13)","v":0},{"$f":"U13/(W4-U11)","v":0},{"$f":"IF(V13=0,0,(V13*((LOG(V13))/LOG(2))))","v":0},null,{"$f":"N13","v":221},{"$f":"COUNTIF(L17:L26,Y13)","v":0},{"$f":"Z13/(AB4-Z11)","v":0},{"$f":"IF(AA13=0,0,(AA13*((LOG(AA13))/LOG(2))))","v":0},null,{"$f":"N13","v":221},{"$f":"COUNTIF(L27:L36,AD13)","v":0},{"$f":"AE13/(AG4-AE11)","v":0},{"$f":"IF(AF13=0,0,(AF13*((LOG(AF13))/LOG(2))))","v":0},null,{"$f":"N13","v":221},{"$f":"COUNTIF(L37:L46,AI13)","v":0},{"$f":"AJ13/(AL4-AJ11)","v":0},{"$f":"IF(AK13=0,0,(AK13*((LOG(AK13))/LOG(2))))","v":0},null,{"$f":"N13","v":221},{"$f":"COUNTIF(L47:L56,AN13)","v":1},{"$f":"AO13/(AQ4-AO11)","v":0.33333333333333331},{"$f":"IF(AP13=0,0,(AP13*((LOG(AP13))/LOG(2))))","v":-0.52832083357371862},null,{"$f":"N13","v":221},{"$f":"COUNTIF(L57:L66,AS13)","v":0},{"$f":"AT13/(AV4-AT11)","v":0},{"$f":"IF(AU13=0,0,(AU13*((LOG(AU13))/LOG(2))))","v":0}]
[21,1251,11,1258,11,1274,null,null,null,null,0,211,null,222,{"$f":"COUNTIF($L$7:$L$500,N14)","v":0},{"$f":"O14/$Q$4","v":0},{"$f":"IF(P14=0,0,(P14*((LOG(P14))/LOG(2))))","v":0},null,null,{"$f":"N14","v":222},{"$f":"COUNTIF(L7:L16,T14)","v":0},{"$f":"U14/(W4-U11)","v":0},{"$f":"IF(V14=0,0,(V14*((LOG(V14))/LOG(2))))","v":0},null,{"$f":"N14","v":222},{"$f":"COUNTIF(L17:L26,Y14)","v":0},{"$f":"Z14/(AB4-Z11)","v":0},{"$f":"IF(AA14=0,0,(AA14*((LOG(AA14))/LOG(2))))","v":0},null,{"$f":"N14","v":222},{"$f":"COUNTIF(L27:L36,AD14)","v":0},{"$f":"AE14/(AG4-AE11)","v":0},{"$f":"IF(AF14=0,0,(AF14*((LOG(AF14))/LOG(2))))","v":0},null,{"$f":"N14","v":222},{"$f":"COUNTIF(L37:L46,AI14)","v":0},{"$f":"AJ14/(AL4-AJ11)","v":0},{"$f":"IF(AK14=0,0,(AK14*((LOG(AK14))/LOG(2))))","v":0},null,{"$f":"N14","v":222},{"$f":"COUNTIF(L47:L56,AN14)","v":0},{"$f":"AO14/(AQ4-AO11)","v":0},{"$f":"IF(AP14=0,0,(AP14*((LOG(AP14))/LOG(2))))","v":0},null,{"$f":"N14","v":222},{"$f":"COUNTIF(L57:L66,AS14)","v":0},{"$f":"AT14/(AV4-AT11)","v":0},{"$f":"IF(AU14=0,0,(AU14*((LOG(AU14))/LOG(2))))","v":0}]
[12,1531,13,1537,13,1563,null,null,null,null,0,111,null,null,null,{"$f":"SUM(P7:P14)","v":1},{"$f":"-SUM(Q7:Q14)","v":1.3616612730482056},null,null,null,null,{"$f":"SUM(V7:V14)","v":1},{"$f":"-SUM(W7:W14)","v":0},null,null,null,{"$f":"SUM(AA7:AA14)","v":1},{"$f":"-SUM(AB7:AB14)","v":0},null,null,null,{"$f":"SUM(AF7:AF14)","v":1},{"$f":"-SUM(AG7:AG14)","v":0},null,null,null,{"$f":"SUM(AK7:AK14)","v":1},{"$f":"-SUM(AL7:AL14)","v":0},null,null,null,{"$f":"SUM(AP7:AP14)","v":1},{"$f":"-SUM(AQ7:AQ14)","v":0.91829583405448945},null,null,null,{"$f":"SUM(AU7:AU14)","v":1},{"$f":"-SUM(AV7:AV14)","v":0}]
[21,1661,11,1669,11,1678,null,null,null,null,0,211,null,null,null,"U=",{"$f":"Q15/(LOG(Q4)/LOG(2))","v":0.2305208215741347},null,null,null,null,"U1=",{"$f":"W15/(LOG(W4)/LOG(2))","v":0},null,null,null,"U2=",{"$f":"AB15/(LOG(AB4)/LOG(2))","v":0},null,null,null,"U3=",{"$f":"AG15/(LOG(AG4)/LOG(2))","v":0},null,null,null,"U4=",{"$f":"AL15/(LOG(AL4)/LOG(2))","v":0},null,null,null,"U5=",{"$f":"AQ15/(LOG(AQ4)/LOG(2))","v":0.27643459094367495},null,null,null,"U6=",{"$f":"AV15/(LOG(AV4)/LOG(2))","v":0}]
[12,2007,13,2016,13,2035,null,null,null,null,0,111]
[21,2133,11,2141,11,2150,null,null,null,null,0,211]
[12,2791,13,2794,13,2800,null,null,null,null,0,111,null,"Total Target Seq"]
[21,2897,11,2907,11,2918,null,null,null,null,0,211,null,{"$f":"COUNTIF(L7:L66,G3)","v":39},null,10,10,10,10,10,10]
[12,3030,13,3034,13,3040,null,null,null,null,0,111,null,null,null,"% of reinforcement given in 6 equal intervals based on number of trials "]
[21,3139,11,3148,11,3152,null,null,null,null,0,211,null,null,null,"%_1","%_2","%_3","%_4","%_5","%_6"]
[21,3349,11,3356,11,3361,null,null,null,null,0,211,null,null,"target sequence",{"$f":"$G$3","v":211},{"$f":"$G$3","v":211},{"$f":"$G$3","v":211},{"$f":"$G$3","v":211},{"$f":"$G$3","v":211},{"$f":"$G$3","v":211}]
[12,3529,13,3535,13,3544,null,null,null,null,0,111,null,null,"total reinforcement",{"$f":"U11","v":6},{"$f":"Z11","v":6},{"$f":"AE11","v":7},{"$f":"AJ11","v":6},{"$f":"AO11","v":7},{"$f":"AT11","v":7}]
[21,3646,11,3655,11,3669,null,null,null,null,0,211,null,null,"% target"]
[21,3814,11,3823,11,3828,null,null,null,null,0,211,null,null,"CCRF"]
[12,4005,13,4009,24,4025,null,null,null,null,0,112,null,null,"% CCRf"]
[12,4193,13,4200,24,4291,null,null,null,null,0,112,null,null,"average response rate",{"$f":"F16/P20","v":167.8},{"$f":"(F26-F16)/Q20","v":215},{"$f":"(F36-F26)/R20","v":193.4},{"$f":"(F46-F36)/S20","v":160.4},{"$f":"(F56-F46)/T20","v":154.69999999999999},{"$f":"(F66-F56)/U20","v":190.8}]
[21,4390,11,4397,11,4409,null,null,null,null,0,211]
[21,4536,11,4545,11,4554,null,null,null,null,0,211]
[21,4745,11,4754,11,4758,null,null,null,null,0,211]
[21,5002,11,5012,11,5017,null,null,null,null,0,211]
[21,5215,11,5223,11,5228,null,null,null,null,0,211]
[21,5422,11,5430,11,5436,null,null,null,null,0,211]
[12,5624,13,5629,24,5643,null,null,null,null,0,112]
[21,5745,11,5753,11,5762,null,null,null,null,0,211]
[12,5970,13,5974,24,5989,null,null,null,null,0,112]
[21,6091,11,6100,11,6104,null,null,null,null,0,211]
[21,6244,11,6252,11,6256,null,null,null,null,0,211]
[12,6432,13,6437,24,6451,null,null,null,null,0,112]
[21,6555,11,6563,11,6568,null,null,null,null,0,211]
[12,6713,13,6718,24,6821,null,null,null,null,0,112]
[21,6921,11,6931,11,6936,null,null,null,null,0,211]
[12,7082,13,7085,24,7096,null,null,null,null,0,112]
[21,7194,11,7204,11,7209,null,null,null,null,0,211]
[21,7354,11,7363,11,7366,null,null,null,null,0,211]
[21,7500,11,7509,11,7513,null,null,null,null,0,211]
[21,7674,11,7686,11,7693,null,null,null,null,0,211]
[21,7870,11,7878,11,7884,null,null,null,null,0,211]
[12,8032,13,8041,24,8054,null,null,null,null,0,112]
[21,8150,11,8161,11,8164,null,null,null,null,0,211]
[21,8310,11,8319,11,8324,null,null,null,null,0,211]
[12,8522,13,8531,24,8551,null,null,null,null,0,112]
[21,8647,11,8656,11,8661,null,null,null,null,0,211]
[21,8792,22,8796,13,8804,null,null,null,null,0,221]
[21,8897,11,8907,11,8913,null,null,null,null,0,211]
[21,9119,11,9127,11,9135,null,null,null,null,0,211]
[12,9358,13,9361,13,9367,null,null,null,null,0,111]
[21,9469,11,9478,11,9483,null,null,null,null,0,211]
[21,9658,11,9667,11,9675,null,null,null,null,0,211]
[21,9885,11,9892,11,9902,null,null,null,null,0,211]
[12,10106,13,10111,13,10123,null,null,null,null,0,111]
[21,10221,11,10231,11,10236,null,null,null,null,0,211]
[12,10436,13,10440,13,10445,null,null,null,null,0,111]
[21,10551,11,10560,11,10569,null,null,null,null,0,211]
[21,10794,11,10802,11,10821,null,null,null,null,1,211]

{"sheet":"!MA05A0D.ust","index":14,"n_rows":57,"n_cols":48,"rows_kept":57,"cut":false,"hidden":false,"merged":[[4,39,4,42],[5,39,5,40],[4,44,4,47],[5,44,5,45],[4,24,4,27],[5,24,5,25],[4,29,4,32],[5,29,5,30],[4,34,4,37],[5,34,5,35],[1,1,1,2],[5,13,5,14],[18,13,18,14],[19,13,19,14],[4,19,4,22],[5,19,5,20]]}
["Report for:!MA05A0D.ust"]
["Date:","<date>"]
["Hen:","<hen>",null,null,null,"Correct Sequence",{"$f":"Start!J2","v":211},null,null,null,null,null,null,null,null,"Total Sequences in Data",{"$f":"4994-COUNTBLANK(L7:L5000)","v":51},null,null,null,null,"Total Sequences in Block Data",{"$f":"COUNTA(L7:L15)","v":9},null,null,null,"Total Sequences in Block Data",{"$f":"COUNTA(L16:L23)","v":8},null,null,null,"Total Sequences in Block Data",{"$f":"COUNTA(L24:L32)","v":9},null,null,null,"Total Sequences in Block Data",{"$f":"COUNTA(L33:L40)","v":8},null,null,null,"Total Sequences in Block Data",{"$f":"COUNTA(L41:L49)","v":9},null,null,null,"Total Sequences in Block Data",{"$f":"COUNTA(L50:L57)","v":8}]
[null,null,null,null,null,null,null,null,null,null,null,null,null,null,null,"Total Sequences in Summary",{"$f":"SUM(O7:O14)","v":51},null,null,null,null,"Total Sequences in Block Summary",{"$f":"SUM(U7:U14)","v":9},null,null,null,"Total Sequences in Block Summary",{"$f":"SUM(Z7:Z14)","v":8},null,null,null,"Total Sequences in Block Summary",{"$f":"SUM(AE7:AE14)","v":9},null,null,null,"Total Sequences in Block Summary",{"$f":"SUM(AJ7:AJ14)","v":8},null,null,null,"Total Sequences in Block Summary",{"$f":"SUM(AO7:AO14)","v":9},null,null,null,"Total Sequences in Block Summary",{"$f":"SUM(AT7:AT14)","v":8}]
[null,null,null,null,null,null,null,null,null,null,null,null,null,null,null,null,null,null,null,"Block 1",null,null,null,null,"Block 2",null,null,null,null,"Block 3",null,null,null,null,"Block 4",null,null,null,null,"Block 5",null,null,null,null,"Block 6"]
["Sequence\nComponent\n1","Time\n1","Sequence\nComponent\n2","Time\n2","Sequence\nComponent\n3","Time\n3","Sequence\nComponent\n4","Time\n4","Sequence\nComponent\n5","Time\n5","Correct?\n0=No 1=Yes","Sequence",null,"Frequency",null,"Relative Frequency","Variability",null,null,"Frequency",null,"Relative Frequency","Variability",null,"Frequency",null,"Relative Frequency","Variability",null,"Frequency",null,"Relative Frequency","Variability",null,"Frequency",null,"Relative Frequency","Variability",null,"Frequency",null,"Relative Frequency","Variability",null,"Frequency",null,"Relative Frequency","Variability"]
[21,8,11,19,11,24,null,null,null,null,0,211,null,111,{"$f":"COUNTIF($L$7:$L$500,N7)","v":10},{"$f":"O7/$Q$4","v":0.19607843137254902},{"$f":"IF(P7=0,0,(P7*((LOG(P7))/LOG(2))))","v":-0.46088181315375165},null,null,{"$f":"N7","v":111},{"$f":"COUNTIF(L7:L15,T7)","v":1},{"$f":"U7/(W4-U11)","v":1},{"$f":"IF(V7=0,0,(V7*((LOG(V7))/LOG(2))))","v":0},null,{"$f":"N7","v":111},{"$f":"COUNTIF(L16:L23,Y7)","v":4},{"$f":"Z7/(AB4-Z11)","v":1},{"$f":"IF(AA7=0,0,(AA7*((LOG(AA7))/LOG(2))))","v":0},null,{"$f":"N7","v":111},{"$f":"COUNTIF(L24:L32,AD7)","v":1},{"$f":"AE7/(AG4-AE11)","v":0.5},{"$f":"IF(AF7=0,0,(AF7*((LOG(AF7))/LOG(2))))","v":-0.5},null,{"$f":"N7","v":111},{"$f":"COUNTIF(L33:L40,AI7)","v":0},{"$f":"AJ7/(AL4-AJ11)","v":{"$error":"#DIV/0!"}},{"$f":"IF(AK7=0,0,(AK7*((LOG(AK7))/LOG(2))))","v":{"$error":"#DIV/0!"}},null,{"$f":"N7","v":111},{"$f":"COUNTIF(L41:L49,AN7)","v":3},{"$f":"AO7/(AQ4-AO11)","v":1},{"$f":"IF(AP7=0,0,(AP7*((LOG(AP7))/LOG(2))))","v":0},null,{"$f":"N7","v":111},{"$f":"COUNTIF(L50:L57,AS7)","v":1},{"$f":"AT7/(AV4-AT11)","v":0.33333333333333331},{"$f":"IF(AU7=0,0,(AU7*((LOG(AU7))/LOG(2))))","v":-0.52832083357371862}]
[21,214,11,222,11,225,null,null,null,null,0,211,null,112,{"$f":"COUNTIF($L$7:$L$500,N8)","v":1},{"$f":"O8/$Q$4","v":1.9607843137254902E-2},{"$f":"IF(P8=0,0,(P8*((LOG(P8))/LOG(2))))","v":-0.11122402631316657},null,null,{"$f":"N8","v":112},{"$f":"COUNTIF(L7:L15,T8)","v":0},{"$f":"U8/(W4-U11)","v":0},{"$f":"IF(V8=0,0,(V8*((LOG(V8))/LOG(2))))","v":0},null,{"$f":"N8","v":112},{"$f":"COUNTIF(L16:L23,Y8)","v":0},{"$f":"Z8/(AB4-Z11)","v":0},{"$f":"IF(AA8=0,0,(AA8*((LOG(AA8))/LOG(2))))","v":0},null,{"$f":"N8","v":112},{"$f":"COUNTIF(L24:L32,AD8)","v":0},{"$f":"AE8/(AG4-AE11)","v":0},{"$f":"IF(AF8=0,0,(AF8*((LOG(AF8))/LOG(2))))","v":0},null,{"$f":"N8","v":112},{"$f":"COUNTIF(L33:L40,AI8)","v":0},{"$f":"AJ8/(AL4-AJ11)","v":{"$error":"#DIV/0!"}},{"$f":"IF(AK8=0,0,(AK8*((LOG(AK8))/LOG(2))))","v":{"$error":"#DIV/0!"}},null,{"$f":"N8","v":112},{"$f":"COUNTIF(L41:L49,AN8)","v":0},{"$f":"AO8/(AQ4-AO11)","v":0},{"$f":"IF(AP8=0,0,(AP8*((LOG(AP8))/LOG(2))))","v":0},null,{"$f":"N8","v":112},{"$f":"COUNTIF(L50:L57,AS8)","v":1},{"$f":"AT8/(AV4-AT11)","v":0.33333333333333331},{"$f":"IF(AU8=0,0,(AU8*((LOG(AU8))/LOG(2))))","v":-0.52832083357371862}]
[21,355,11,364,11,373,null,null,null,null,0,211,null,121,{"$f":"COUNTIF($L$7:$L$500,N9)","v":0},{"$f":"O9/$Q$4","v":0},{"$f":"IF(P9=0,0,(P9*((LOG(P9))/LOG(2))))","v":0},null,null,{"$f":"N9","v":121},{"$f":"COUNTIF(L7:L15,T9)","v":0},{"$f":"U9/(W4-U11)","v":0},{"$f":"IF(V9=0,0,(V9*((LOG(V9))/LOG(2))))","v":0},null,{"$f":"N9","v":121},{"$f":"COUNTIF(L16:L23,Y9)","v":0},{"$f":"Z9/(AB4-Z11)","v":0},{"$f":"IF(AA9=0,0,(AA9*((LOG(AA9))/LOG(2))))","v":0},null,{"$f":"N9","v":121},{"$f":"COUNTIF(L24:L32,AD9)","v":0},{"$f":"AE9/(AG4-AE11)","v":0},{"$f":"IF(AF9=0,0,(AF9*((LOG(AF9))/LOG(2))))","v":0},null,{"$f":"N9","v":121},{"$f":"COUNTIF(L33:L40,AI9)","v":0},{"$f":"AJ9/(AL4-AJ11)","v":{"$error":"#DIV/0!"}},{"$f":"IF(AK9=0,0,(AK9*((LOG(AK9))/LOG(2))))","v":{"$error":"#DIV/0!"}},null,{"$f":"N9","v":121},{"$f":"COUNTIF(L41:L49,AN9)","v":0},{"$f":"AO9/(AQ4-AO11)","v":0},{"$f":"IF(AP9=0,0,(AP9*((LOG(AP9))/LOG(2))))","v":0},null,{"$f":"N9","v":121},{"$f":"COUNTIF(L50:L57,AS9)","v":0},{"$f":"AT9/(AV4-AT11)","v":0},{"$f":"IF(AU9=0,0,(AU9*((LOG(AU9))/LOG(2))))","v":0}]
[12,526,13,532,13,550,null,null,null,null,0,111,null,122,{"$f":"COUNTIF($L$7:$L$500,N10)","v":0},{"$f":"O10/$Q$4","v":0},{"$f":"IF(P10=0,0,(P10*((LOG(P10))/LOG(2))))","v":0},null,null,{"$f":"N10","v":122},{"$f":"COUNTIF(L7:L15,T10)","v":0},{"$f":"U10/(W4-U11)","v":0},{"$f":"IF(V10=0,0,(V10*((LOG(V10))/LOG(2))))","v":0},null,{"$f":"N10","v":122},{"$f":"COUNTIF(L16:L23,Y10)","v":0},{"$f":"Z10/(AB4-Z11)","v":0},{"$f":"IF(AA10=0,0,(AA10*((LOG(AA10))/LOG(2))))","v":0},null,{"$f":"N10","v":122},{"$f":"COUNTIF(L24:L32,AD10)","v":0},{"$f":"AE10/(AG4-AE11)","v":0},{"$f":"IF(AF10=0,0,(AF10*((LOG(AF10))/LOG(2))))","v":0},null,{"$f":"N10","v":122},{"$f":"COUNTIF(L33:L40,AI10)","v":0},{"$f":"AJ10/(AL4-AJ11)","v":{"$error":"#DIV/0!"}},{"$f":"IF(AK10=0,0,(AK10*((LOG(AK10))/LOG(2))))","v":{"$error":"#DIV/0!"}},null,{"$f":"N10","v":122},{"$f":"COUNTIF(L41:L49,AN10)","v":0},{"$f":"AO10/(AQ4-AO11)","v":0},{"$f":"IF(AP10=0,0,(AP10*((LOG(AP10))/LOG(2))))","v":0},null,{"$f":"N10","v":122},{"$f":"COUNTIF(L50:L57,AS10)","v":0},{"$f":"AT10/(AV4-AT11)","v":0},{"$f":"IF(AU10=0,0,(AU10*((LOG(AU10))/LOG(2))))","v":0}]
[21,676,11,684,11,686,null,null,null,null,0,211,null,211,{"$f":"COUNTIF($L$7:$L$500,N11)","v":38},{"$f":"O11/$Q$4","v":0.74509803921568629},{"$f":"IF(P11=0,0,(P11*((LOG(P11))/LOG(2))))","v":-0.31629249968746243},null,null,{"$f":"N11","v":211},{"$f":"COUNTIF(L7:L15,T11)","v":8},null,null,null,{"$f":"N11","v":211},{"$f":"COUNTIF(L16:L23,Y11)","v":4},null,null,null,{"$f":"N11","v":211},{"$f":"COUNTIF(L24:L32,AD11)","v":7},null,null,null,{"$f":"N11","v":211},{"$f":"COUNTIF(L33:L40,AI11)","v":8},null,null,null,{"$f":"N11","v":211},{"$f":"COUNTIF(L41:L49,AN11)","v":6},null,null,null,{"$f":"N11","v":211},{"$f":"COUNTIF(L50:L57,AS11)","v":5}]
[21,803,11,811,11,816,null,null,null,null,0,211,null,212,{"$f":"COUNTIF($L$7:$L$500,N12)","v":0},{"$f":"O12/$Q$4","v":0},{"$f":"IF(P12=0,0,(P12*((LOG(P12))/LOG(2))))","v":0},null,null,{"$f":"N12","v":212},{"$f":"COUNTIF(L7:L15,T12)","v":0},{"$f":"U12/(W4-U11)","v":0},{"$f":"IF(V12=0,0,(V12*((LOG(V12))/LOG(2))))","v":0},null,{"$f":"N12","v":212},{"$f":"COUNTIF(L16:L23,Y12)","v":0},{"$f":"Z12/(AB4-Z11)","v":0},{"$f":"IF(AA12=0,0,(AA12*((LOG(AA12))/LOG(2))))","v":0},null,{"$f":"N12","v":212},{"$f":"COUNTIF(L24:L32,AD12)","v":0},{"$f":"AE12/(AG4-AE11)","v":0},{"$f":"IF(AF12=0,0,(AF12*((LOG(AF12))/LOG(2))))","v":0},null,{"$f":"N12","v":212},{"$f":"COUNTIF(L33:L40,AI12)","v":0},{"$f":"AJ12/(AL4-AJ11)","v":{"$error":"#DIV/0!"}},{"$f":"IF(AK12=0,0,(AK12*((LOG(AK12))/LOG(2))))","v":{"$error":"#DIV/0!"}},null,{"$f":"N12","v":212},{"$f":"COUNTIF(L41:L49,AN12)","v":0},{"$f":"AO12/(AQ4-AO11)","v":0},{"$f":"IF(AP12=0,0,(AP12*((LOG(AP12))/LOG(2))))","v":0},null,{"$f":"N12","v":212},{"$f":"COUNTIF(L50:L57,AS12)","v":0},{"$f":"AT12/(AV4-AT11)","v":0},{"$f":"IF(AU12=0,0,(AU12*((LOG(AU12))/LOG(2))))","v":0}]
[21,951,11,960,11,962,null,null,null,null,0,211,null,221,{"$f":"COUNTIF($L$7:$L$500,N13)","v":2},{"$f":"O13/$Q$4","v":3.9215686274509803E-2},{"$f":"IF(P13=0,0,(P13*((LOG(P13))/LOG(2))))","v":-0.18323236635182338},null,null,{"$f":"N13","v":221},{"$f":"COUNTIF(L7:L15,T13)","v":0},{"$f":"U13/(W4-U11)","v":0},{"$f":"IF(V13=0,0,(V13*((LOG(V13))/LOG(2))))","v":0},null,{"$f":"N13","v":221},{"$f":"COUNTIF(L16:L23,Y13)","v":0},{"$f":"Z13/(AB4-Z11)","v":0},{"$f":"IF(AA13=0,0,(AA13*((LOG(AA13))/LOG(2))))","v":0},null,{"$f":"N13","v":221},{"$f":"COUNTIF(L24:L32,AD13)","v":1},{"$f":"AE13/(AG4-AE11)","v":0.5},{"$f":"IF(AF13=0,0,(AF13*((LOG(AF13))/LOG(2))))","v":-0.5},null,{"$f":"N13","v":221},{"$f":"COUNTIF(L33:L40,AI13)","v":0},{"$f":"AJ13/(AL4-AJ11)","v":{"$error":"#DIV/0!"}},{"$f":"IF(AK13=0,0,(AK13*((LOG(AK13))/LOG(2))))","v":{"$error":"#DIV/0!"}},null,{"$f":"N13","v":221},{"$f":"COUNTIF(L41:L49,AN13)","v":0},{"$f":"AO13/(AQ4-AO11)","v":0},{"$f":"IF(AP13=0,0,(AP13*((LOG(AP13))/LOG(2))))","v":0},null,{"$f":"N13","v":221},{"$f":"COUNTIF(L50:L57,AS13)","v":1},{"$f":"AT13/(AV4-AT11)","v":0.33333333333333331},{"$f":"IF(AU13=0,0,(AU13*((LOG(AU13))/LOG(2))))","v":-0.52832083357371862}]
[21,1084,11,1096,11,1109,null,null,null,null,0,211,null,222,{"$f":"COUNTIF($L$7:$L$500,N14)","v":0},{"$f":"O14/$Q$4","v":0},{"$f":"IF(P14=0,0,(P14*((LOG(P14))/LOG(2))))","v":0},null,null,{"$f":"N14","v":222},{"$f":"COUNTIF(L7:L15,T14)","v":0},{"$f":"U14/(W4-U11)","v":0},{"$f":"IF(V14=0,0,(V14*((LOG(V14))/LOG(2))))","v":0},null,{"$f":"N14","v":222},{"$f":"COUNTIF(L16:L23,Y14)","v":0},{"$f":"Z14/(AB4-Z11)","v":0},{"$f":"IF(AA14=0,0,(AA14*((LOG(AA14))/LOG(2))))","v":0},null,{"$f":"N14","v":222},{"$f":"COUNTIF(L24:L32,AD14)","v":0},{"$f":"AE14/(AG4-AE11)","v":0},{"$f":"IF(AF14=0,0,(AF14*((LOG(AF14))/LOG(2))))","v":0},null,{"$f":"N14","v":222},{"$f":"COUNTIF(L33:L40,AI14)","v":0},{"$f":"AJ14/(AL4-AJ11)","v":{"$error":"#DIV/0!"}},{"$f":"IF(AK14=0,0,(AK14*((LOG(AK14))/LOG(2))))","v":{"$error":"#DIV/0!"}},null,{"$f":"N14","v":222},{"$f":"COUNTIF(L41:L49,AN14)","v":0},{"$f":"AO14/(AQ4-AO11)","v":0},{"$f":"IF(AP14=0,0,(AP14*((LOG(AP14))/LOG(2))))","v":0},null,{"$f":"N14","v":222},{"$f":"COUNTIF(L50:L57,AS14)","v":0},{"$f":"AT14/(AV4-AT11)","v":0},{"$f":"IF(AU14=0,0,(AU14*((LOG(AU14))/LOG(2))))","v":0}]
[21,1306,11,1314,11,1317,null,null,null,null,0,211,null,null,null,{"$f":"SUM(P7:P14)","v":1},{"$f":"-SUM(Q7:Q14)","v":1.071630705506204},null,null,null,null,{"$f":"SUM(V7:V14)","v":1},{"$f":"-SUM(W7:W14)","v":0},null,null,null,{"$f":"SUM(AA7:AA14)","v":1},{"$f":"-SUM(AB7:AB14)","v":0},null,null,null,{"$f":"SUM(AF7:AF14)","v":1},{"$f":"-SUM(AG7:AG14)","v":1},null,null,null,{"$f":"SUM(AK7:AK14)","v":{"$error":"#DIV/0!"}},{"$f":"-SUM(AL7:AL14)","v":{"$error":"#DIV/0!"}},null,null,null,{"$f":"SUM(AP7:AP14)","v":1},{"$f":"-SUM(AQ7:AQ14)","v":0},null,null,null,{"$f":"SUM(AU7:AU14)","v":1},{"$f":"-SUM(AV7:AV14)","v":1.5849625007211559}]
[12,1477,13,1489,13,1505,null,null,null,null,0,111,null,null,null,"U=",{"$f":"Q15/(LOG(Q4)/LOG(2))","v":0.18891931420885841},null,null,null,null,"U1=",{"$f":"W15/(LOG(W4)/LOG(2))","v":0},null,null,null,"U2=",{"$f":"AB15/(LOG(AB4)/LOG(2))","v":0},null,null,null,"U3=",{"$f":"AG15/(LOG(AG4)/LOG(2))","v":0.31546487678572877},null,null,null,"U4=",{"$f":"AL15/(LOG(AL4)/LOG(2))","v":{"$error":"#DIV/0!"}},null,null,null,"U5=",{"$f":"AQ15/(LOG(AQ4)/LOG(2))","v":0},null,null,null,"U6=",{"$f":"AV15/(LOG(AV4)/LOG(2))","v":0.52832083357371862}]
[21,1600,11,1613,11,1620,null,null,null,null,0,211]
[12,1727,13,1731,13,1747,null,null,null,null,0,111]
[21,1844,11,1853,11,1862,null,null,null,null,0,211,null,"Total Target Seq"]
[12,1970,13,1973,13,1989,null,null,null,null,0,111,null,{"$f":"COUNTIF(L7:L57,G3)","v":38},null,9,8,9,8,9,8]
[21,2094,11,2103,11,2107,null,null,null,null,0,211,null,null,null,"% of reinforcement given in 6 equal intervals based on number of trials "]
[21,2237,11,2245,11,2248,null,null,null,null,0,211,null,null,null,"%_1","%_2","%_3","%_4","%_5","%_6"]
[12,2544,13,2548,13,2554,null,null,null,null,0,111,null,null,"target sequence",{"$f":"$G$3","v":211},{"$f":"$G$3","v":211},{"$f":"$G$3","v":211},{"$f":"$G$3","v":211},{"$f":"$G$3","v":211},{"$f":"$G$3","v":211}]
[21,2651,11,2659,11,2667,null,null,null,null,0,211,null,null,"total reinforcement",{"$f":"U11","v":8},{"$f":"Z11","v":4},{"$f":"AE11","v":7},{"$f":"AJ11","v":8},{"$f":"AO11","v":6},{"$f":"AT11","v":5}]
[21,2774,22,2776,13,2782,null,null,null,null,0,221,null,null,"% target"]
[21,2888,11,2896,11,2900,null,null,null,null,0,211,null,null,"CCRF"]
[21,3016,11,3025,11,3029,null,null,null,null,0,211,null,null,"% CCRf"]
[21,3197,11,3205,11,3213,null,null,null,null,0,211,null,null,"average response rate",{"$f":"F15/P20","v":146.33333333333334},{"$f":"(F23-F15)/Q20","v":154.625},{"$f":"(F32-F23)/R20","v":145.88888888888889},{"$f":"(F40-F32)/S20","v":173.875},{"$f":"(F49-F40)/T20","v":155.77777777777777},{"$f":"(F57-F49)/U20","v":172.625}]
[21,3386,11,3394,11,3421,null,null,null,null,0,211]
[21,3589,11,3596,11,3601,null,null,null,null,0,211]
[12,3736,13,3740,13,3755,null,null,null,null,0,111]
[21,3854,11,3863,11,3867,null,null,null,null,0,211]
[21,3981,11,3989,11,3995,null,null,null,null,0,211]
[21,4118,11,4128,11,4131,null,null,null,null,0,211]
[21,4347,11,4356,11,4361,null,null,null,null,0,211]
[21,4514,11,4522,11,4527,null,null,null,null,0,211]
[21,4709,11,4718,11,4726,null,null,null,null,0,211]
[21,4863,11,4872,11,4875,null,null,null,null,0,211]
[21,5031,11,5042,11,5045,null,null,null,null,0,211]
[21,5245,11,5254,11,5258,null,null,null,null,0,211]
[21,5426,11,5434,11,5439,null,null,null,null,0,211]
[21,5560,11,5569,11,5578,null,null,null,null,0,211]
[21,5742,11,5752,11,5770,null,null,null,null,0,211]
[12,5934,13,5943,13,5962,null,null,null,null,0,111]
[21,6065,11,6075,11,6080,null,null,null,null,0,211]
[12,6247,13,6251,13,6265,null,null,null,null,0,111]
[21,6364,11,6371,11,6375,null,null,null,null,0,211]
[21,6505,11,6513,11,6517,null,null,null,null,0,211]
[12,6641,13,6645,13,6660,null,null,null,null,0,111]
[21,6754,11,6765,11,6769,null,null,null,null,0,211]
[12,6938,13,6949,24,6963,null,null,null,null,0,112]
[21,7119,11,7127,11,7132,null,null,null,null,0,211]
[21,7407,11,7414,11,7423,null,null,null,null,0,211]
[21,7593,11,7601,11,7610,null,null,null,null,0,211]
[12,7800,13,7802,13,7806,null,null,null,null,0,111]
[21,7917,22,7920,13,7929,null,null,null,null,0,221]
[21,8026,11,8035,11,8041,null,null,null,null,1,211]

{"sheet":"!MA0685D.ust","index":15,"n_rows":63,"n_cols":48,"rows_kept":63,"cut":false,"hidden":false,"merged":[[4,39,4,42],[5,39,5,40],[4,44,4,47],[5,44,5,45],[4,24,4,27],[5,24,5,25],[4,29,4,32],[5,29,5,30],[4,34,4,37],[5,34,5,35],[1,1,1,2],[5,13,5,14],[18,13,18,14],[19,13,19,14],[4,19,4,22],[5,19,5,20]]}
["Report for:!MA0685D.ust"]
["Date:","<date>"]
["Hen:","<hen>",null,null,null,"Correct Sequence",{"$f":"Start!J2","v":211},null,null,null,null,null,null,null,null,"Total Sequences in Data",{"$f":"4994-COUNTBLANK(L7:L5000)","v":57},null,null,null,null,"Total Sequences in Block Data",{"$f":"COUNTA(L7:L16)","v":10},null,null,null,"Total Sequences in Block Data",{"$f":"COUNTA(L17:L25)","v":9},null,null,null,"Total Sequences in Block Data",{"$f":"COUNTA(L26:L35)","v":10},null,null,null,"Total Sequences in Block Data",{"$f":"COUNTA(L36:L44)","v":9},null,null,null,"Total Sequences in Block Data",{"$f":"COUNTA(L45:L54)","v":10},null,null,null,"Total Sequences in Block Data",{"$f":"COUNTA(L55:L63)","v":9}]
[null,null,null,null,null,null,null,null,null,null,null,null,null,null,null,"Total Sequences in Summary",{"$f":"SUM(O7:O14)","v":57},null,null,null,null,"Total Sequences in Block Summary",{"$f":"SUM(U7:U14)","v":10},null,null,null,"Total Sequences in Block Summary",{"$f":"SUM(Z7:Z14)","v":9},null,null,null,"Total Sequences in Block Summary",{"$f":"SUM(AE7:AE14)","v":10},null,null,null,"Total Sequences in Block Summary",{"$f":"SUM(AJ7:AJ14)","v":9},null,null,null,"Total Sequences in Block Summary",{"$f":"SUM(AO7:AO14)","v":10},null,null,null,"Total Sequences in Block Summary",{"$f":"SUM(AT7:AT14)","v":9}]
[null,null,null,null,null,null,null,null,null,null,null,null,null,null,null,null,null,null,null,"Block 1",null,null,null,null,"Block 2",null,null,null,null,"Block 3",null,null,null,null,"Block 4",null,null,null,null,"Block 5",null,null,null,null,"Block 6"]
["Sequence\nComponent\n1","Time\n1","Sequence\nComponent\n2","Time\n2","Sequence\nComponent\n3","Time\n3","Sequence\nComponent\n4","Time\n4","Sequence\nComponent\n5","Time\n5","Correct?\n0=No 1=Yes","Sequence",null,"Frequency",null,"Relative Frequency","Variability",null,null,"Frequency",null,"Relative Frequency","Variability",null,"Frequency",null,"Relative Frequency","Variability",null,"Frequency",null,"Relative Frequency","Variability",null,"Frequency",null,"Relative Frequency","Variability",null,"Frequency",null,"Relative Frequency","Variability",null,"Frequency",null,"Relative Frequency","Variability"]
[12,5,13,9,13,15,null,null,null,null,0,111,null,111,{"$f":"COUNTIF($L$7:$L$500,N7)","v":10},{"$f":"O7/$Q$4","v":0.17543859649122806},{"$f":"IF(P7=0,0,(P7*((LOG(P7))/LOG(2))))","v":-0.44051963496094376},null,null,{"$f":"N7","v":111},{"$f":"COUNTIF(L7:L16,T7)","v":2},{"$f":"U7/(W4-U11)","v":0.66666666666666663},{"$f":"IF(V7=0,0,(V7*((LOG(V7))/LOG(2))))","v":-0.38997500048077083},null,{"$f":"N7","v":111},{"$f":"COUNTIF(L17:L25,Y7)","v":2},{"$f":"Z7/(AB4-Z11)","v":0.66666666666666663},{"$f":"IF(AA7=0,0,(AA7*((LOG(AA7))/LOG(2))))","v":-0.38997500048077083},null,{"$f":"N7","v":111},{"$f":"COUNTIF(L26:L35,AD7)","v":1},{"$f":"AE7/(AG4-AE11)","v":0.5},{"$f":"IF(AF7=0,0,(AF7*((LOG(AF7))/LOG(2))))","v":-0.5},null,{"$f":"N7","v":111},{"$f":"COUNTIF(L36:L44,AI7)","v":3},{"$f":"AJ7/(AL4-AJ11)","v":1},{"$f":"IF(AK7=0,0,(AK7*((LOG(AK7))/LOG(2))))","v":0},null,{"$f":"N7","v":111},{"$f":"COUNTIF(L45:L54,AN7)","v":2},{"$f":"AO7/(AQ4-AO11)","v":0.5},{"$f":"IF(AP7=0,0,(AP7*((LOG(AP7))/LOG(2))))","v":-0.5},null,{"$f":"N7","v":111},{"$f":"COUNTIF(L55:L63,AS7)","v":0},{"$f":"AT7/(AV4-AT11)","v":0},{"$f":"IF(AU7=0,0,(AU7*((LOG(AU7))/LOG(2))))","v":0}]
[21,112,11,120,11,124,null,null,null,null,0,211,null,112,{"$f":"COUNTIF($L$7:$L$500,N8)","v":4},{"$f":"O8/$Q$4","v":7.0175438596491224E-2},{"$f":"IF(P8=0,0,(P8*((LOG(P8))/LOG(2))))","v":-0.26897473783612219},null,null,{"$f":"N8","v":112},{"$f":"COUNTIF(L7:L16,T8)","v":1},{"$f":"U8/(W4-U11)","v":0.33333333333333331},{"$f":"IF(V8=0,0,(V8*((LOG(V8))/LOG(2))))","v":-0.52832083357371862},null,{"$f":"N8","v":112},{"$f":"COUNTIF(L17:L25,Y8)","v":0},{"$f":"Z8/(AB4-Z11)","v":0},{"$f":"IF(AA8=0,0,(AA8*((LOG(AA8))/LOG(2))))","v":0},null,{"$f":"N8","v":112},{"$f":"COUNTIF(L26:L35,AD8)","v":1},{"$f":"AE8/(AG4-AE11)","v":0.5},{"$f":"IF(AF8=0,0,(AF8*((LOG(AF8))/LOG(2))))","v":-0.5},null,{"$f":"N8","v":112},{"$f":"COUNTIF(L36:L44,AI8)","v":0},{"$f":"AJ8/(AL4-AJ11)","v":0},{"$f":"IF(AK8=0,0,(AK8*((LOG(AK8))/LOG(2))))","v":0},null,{"$f":"N8","v":112},{"$f":"COUNTIF(L45:L54,AN8)","v":0},{"$f":"AO8/(AQ4-AO11)","v":0},{"$f":"IF(AP8=0,0,(AP8*((LOG(AP8))/LOG(2))))","v":0},null,{"$f":"N8","v":112},{"$f":"COUNTIF(L55:L63,AS8)","v":2},{"$f":"AT8/(AV4-AT11)","v":0.66666666666666663},{"$f":"IF(AU8=0,0,(AU8*((LOG(AU8))/LOG(2))))","v":-0.38997500048077083}]
[21,247,11,254,11,264,null,null,null,null,0,211,null,121,{"$f":"COUNTIF($L$7:$L$500,N9)","v":0},{"$f":"O9/$Q$4","v":0},{"$f":"IF(P9=0,0,(P9*((LOG(P9))/LOG(2))))","v":0},null,null,{"$f":"N9","v":121},{"$f":"COUNTIF(L7:L16,T9)","v":0},{"$f":"U9/(W4-U11)","v":0},{"$f":"IF(V9=0,0,(V9*((LOG(V9))/LOG(2))))","v":0},null,{"$f":"N9","v":121},{"$f":"COUNTIF(L17:L25,Y9)","v":0},{"$f":"Z9/(AB4-Z11)","v":0},{"$f":"IF(AA9=0,0,(AA9*((LOG(AA9))/LOG(2))))","v":0},null,{"$f":"N9","v":121},{"$f":"COUNTIF(L26:L35,AD9)","v":0},{"$f":"AE9/(AG4-AE11)","v":0},{"$f":"IF(AF9=0,0,(AF9*((LOG(AF9))/LOG(2))))","v":0},null,{"$f":"N9","v":121},{"$f":"COUNTIF(L36:L44,AI9)","v":0},{"$f":"AJ9/(AL4-AJ11)","v":0},{"$f":"IF(AK9=0,0,(AK9*((LOG(AK9))/LOG(2))))","v":0},null,{"$f":"N9","v":121},{"$f":"COUNTIF(L45:L54,AN9)","v":0},{"$f":"AO9/(AQ4-AO11)","v":0},{"$f":"IF(AP9=0,0,(AP9*((LOG(AP9))/LOG(2))))","v":0},null,{"$f":"N9","v":121},{"$f":"COUNTIF(L55:L63,AS9)","v":0},{"$f":"AT9/(AV4-AT11)","v":0},{"$f":"IF(AU9=0,0,(AU9*((LOG(AU9))/LOG(2))))","v":0}]
[21,409,11,419,11,429,null,null,null,null,0,211,null,122,{"$f":"COUNTIF($L$7:$L$500,N10)","v":0},{"$f":"O10/$Q$4","v":0},{"$f":"IF(P10=0,0,(P10*((LOG(P10))/LOG(2))))","v":0},null,null,{"$f":"N10","v":122},{"$f":"COUNTIF(L7:L16,T10)","v":0},{"$f":"U10/(W4-U11)","v":0},{"$f":"IF(V10=0,0,(V10*((LOG(V10))/LOG(2))))","v":0},null,{"$f":"N10","v":122},{"$f":"COUNTIF(L17:L25,Y10)","v":0},{"$f":"Z10/(AB4-Z11)","v":0},{"$f":"IF(AA10=0,0,(AA10*((LOG(AA10))/LOG(2))))","v":0},null,{"$f":"N10","v":122},{"$f":"COUNTIF(L26:L35,AD10)","v":0},{"$f":"AE10/(AG4-AE11)","v":0},{"$f":"IF(AF10=0,0,(AF10*((LOG(AF10))/LOG(2))))","v":0},null,{"$f":"N10","v":122},{"$f":"COUNTIF(L36:L44,AI10)","v":0},{"$f":"AJ10/(AL4-AJ11)","v":0},{"$f":"IF(AK10=0,0,(AK10*((LOG(AK10))/LOG(2))))","v":0},null,{"$f":"N10","v":122},{"$f":"COUNTIF(L45:L54,AN10)","v":0},{"$f":"AO10/(AQ4-AO11)","v":0},{"$f":"IF(AP10=0,0,(AP10*((LOG(AP10))/LOG(2))))","v":0},null,{"$f":"N10","v":122},{"$f":"COUNTIF(L55:L63,AS10)","v":0},{"$f":"AT10/(AV4-AT11)","v":0},{"$f":"IF(AU10=0,0,(AU10*((LOG(AU10))/LOG(2))))","v":0}]
[21,589,11,598,11,601,null,null,null,null,0,211,null,211,{"$f":"COUNTIF($L$7:$L$500,N11)","v":39},{"$f":"O11/$Q$4","v":0.68421052631578949},{"$f":"IF(P11=0,0,(P11*((LOG(P11))/LOG(2))))","v":-0.37459691257539013},null,null,{"$f":"N11","v":211},{"$f":"COUNTIF(L7:L16,T11)","v":7},null,null,null,{"$f":"N11","v":211},{"$f":"COUNTIF(L17:L25,Y11)","v":6},null,null,null,{"$f":"N11","v":211},{"$f":"COUNTIF(L26:L35,AD11)","v":8},null,null,null,{"$f":"N11","v":211},{"$f":"COUNTIF(L36:L44,AI11)","v":6},null,null,null,{"$f":"N11","v":211},{"$f":"COUNTIF(L45:L54,AN11)","v":6},null,null,null,{"$f":"N11","v":211},{"$f":"COUNTIF(L55:L63,AS11)","v":6}]
[12,760,13,765,24,790,null,null,null,null,0,112,null,212,{"$f":"COUNTIF($L$7:$L$500,N12)","v":0},{"$f":"O12/$Q$4","v":0},{"$f":"IF(P12=0,0,(P12*((LOG(P12))/LOG(2))))","v":0},null,null,{"$f":"N12","v":212},{"$f":"COUNTIF(L7:L16,T12)","v":0},{"$f":"U12/(W4-U11)","v":0},{"$f":"IF(V12=0,0,(V12*((LOG(V12))/LOG(2))))","v":0},null,{"$f":"N12","v":212},{"$f":"COUNTIF(L17:L25,Y12)","v":0},{"$f":"Z12/(AB4-Z11)","v":0},{"$f":"IF(AA12=0,0,(AA12*((LOG(AA12))/LOG(2))))","v":0},null,{"$f":"N12","v":212},{"$f":"COUNTIF(L26:L35,AD12)","v":0},{"$f":"AE12/(AG4-AE11)","v":0},{"$f":"IF(AF12=0,0,(AF12*((LOG(AF12))/LOG(2))))","v":0},null,{"$f":"N12","v":212},{"$f":"COUNTIF(L36:L44,AI12)","v":0},{"$f":"AJ12/(AL4-AJ11)","v":0},{"$f":"IF(AK12=0,0,(AK12*((LOG(AK12))/LOG(2))))","v":0},null,{"$f":"N12","v":212},{"$f":"COUNTIF(L45:L54,AN12)","v":0},{"$f":"AO12/(AQ4-AO11)","v":0},{"$f":"IF(AP12=0,0,(AP12*((LOG(AP12))/LOG(2))))","v":0},null,{"$f":"N12","v":212},{"$f":"COUNTIF(L55:L63,AS12)","v":0},{"$f":"AT12/(AV4-AT11)","v":0},{"$f":"IF(AU12=0,0,(AU12*((LOG(AU12))/LOG(2))))","v":0}]
[21,892,11,902,11,906,null,null,null,null,0,211,null,221,{"$f":"COUNTIF($L$7:$L$500,N13)","v":4},{"$f":"O13/$Q$4","v":7.0175438596491224E-2},{"$f":"IF(P13=0,0,(P13*((LOG(P13))/LOG(2))))","v":-0.26897473783612219},null,null,{"$f":"N13","v":221},{"$f":"COUNTIF(L7:L16,T13)","v":0},{"$f":"U13/(W4-U11)","v":0},{"$f":"IF(V13=0,0,(V13*((LOG(V13))/LOG(2))))","v":0},null,{"$f":"N13","v":221},{"$f":"COUNTIF(L17:L25,Y13)","v":1},{"$f":"Z13/(AB4-Z11)","v":0.33333333333333331},{"$f":"IF(AA13=0,0,(AA13*((LOG(AA13))/LOG(2))))","v":-0.52832083357371862},null,{"$f":"N13","v":221},{"$f":"COUNTIF(L26:L35,AD13)","v":0},{"$f":"AE13/(AG4-AE11)","v":0},{"$f":"IF(AF13=0,0,(AF13*((LOG(AF13))/LOG(2))))","v":0},null,{"$f":"N13","v":221},{"$f":"COUNTIF(L36:L44,AI13)","v":0},{"$f":"AJ13/(AL4-AJ11)","v":0},{"$f":"IF(AK13=0,0,(AK13*((LOG(AK13))/LOG(2))))","v":0},null,{"$f":"N13","v":221},{"$f":"COUNTIF(L45:L54,AN13)","v":2},{"$f":"AO13/(AQ4-AO11)","v":0.5},{"$f":"IF(AP13=0,0,(AP13*((LOG(AP13))/LOG(2))))","v":-0.5},null,{"$f":"N13","v":221},{"$f":"COUNTIF(L55:L63,AS13)","v":1},{"$f":"AT13/(AV4-AT11)","v":0.33333333333333331},{"$f":"IF(AU13=0,0,(AU13*((LOG(AU13))/LOG(2))))","v":-0.52832083357371862}]
[21,1009,11,1017,11,1021,null,null,null,null,0,211,null,222,{"$f":"COUNTIF($L$7:$L$500,N14)","v":0},{"$f":"O14/$Q$4","v":0},{"$f":"IF(P14=0,0,(P14*((LOG(P14))/LOG(2))))","v":0},null,null,{"$f":"N14","v":222},{"$f":"COUNTIF(L7:L16,T14)","v":0},{"$f":"U14/(W4-U11)","v":0},{"$f":"IF(V14=0,0,(V14*((LOG(V14))/LOG(2))))","v":0},null,{"$f":"N14","v":222},{"$f":"COUNTIF(L17:L25,Y14)","v":0},{"$f":"Z14/(AB4-Z11)","v":0},{"$f":"IF(AA14=0,0,(AA14*((LOG(AA14))/LOG(2))))","v":0},null,{"$f":"N14","v":222},{"$f":"COUNTIF(L26:L35,AD14)","v":0},{"$f":"AE14/(AG4-AE11)","v":0},{"$f":"IF(AF14=0,0,(AF14*((LOG(AF14))/LOG(2))))","v":0},null,{"$f":"N14","v":222},{"$f":"COUNTIF(L36:L44,AI14)","v":0},{"$f":"AJ14/(AL4-AJ11)","v":0},{"$f":"IF(AK14=0,0,(AK14*((LOG(AK14))/LOG(2))))","v":0},null,{"$f":"N14","v":222},{"$f":"COUNTIF(L45:L54,AN14)","v":0},{"$f":"AO14/(AQ4-AO11)","v":0},{"$f":"IF(AP14=0,0,(AP14*((LOG(AP14))/LOG(2))))","v":0},null,{"$f":"N14","v":222},{"$f":"COUNTIF(L55:L63,AS14)","v":0},{"$f":"AT14/(AV4-AT11)","v":0},{"$f":"IF(AU14=0,0,(AU14*((LOG(AU14))/LOG(2))))","v":0}]
[21,1210,11,1220,11,1224,null,null,null,null,0,211,null,null,null,{"$f":"SUM(P7:P14)","v":1},{"$f":"-SUM(Q7:Q14)","v":1.3530660232085783},null,null,null,null,{"$f":"SUM(V7:V14)","v":1},{"$f":"-SUM(W7:W14)","v":0.91829583405448945},null,null,null,{"$f":"SUM(AA7:AA14)","v":1},{"$f":"-SUM(AB7:AB14)","v":0.91829583405448945},null,null,null,{"$f":"SUM(AF7:AF14)","v":1},{"$f":"-SUM(AG7:AG14)","v":1},null,null,null,{"$f":"SUM(AK7:AK14)","v":1},{"$f":"-SUM(AL7:AL14)","v":0},null,null,null,{"$f":"SUM(AP7:AP14)","v":1},{"$f":"-SUM(AQ7:AQ14)","v":1},null,null,null,{"$f":"SUM(AU7:AU14)","v":1},{"$f":"-SUM(AV7:AV14)","v":0.91829583405448945}]
[12,1367,13,1372,13,1381,null,null,null,null,0,111,null,null,null,"U=",{"$f":"Q15/(LOG(Q4)/LOG(2))","v":0.23197180470105855},null,null,null,null,"U1=",{"$f":"W15/(LOG(W4)/LOG(2))","v":0.27643459094367495},null,null,null,"U2=",{"$f":"AB15/(LOG(AB4)/LOG(2))","v":0.28969008214284753},null,null,null,"U3=",{"$f":"AG15/(LOG(AG4)/LOG(2))","v":0.3010299956639812},null,null,null,"U4=",{"$f":"AL15/(LOG(AL4)/LOG(2))","v":0},null,null,null,"U5=",{"$f":"AQ15/(LOG(AQ4)/LOG(2))","v":0.3010299956639812},null,null,null,"U6=",{"$f":"AV15/(LOG(AV4)/LOG(2))","v":0.28969008214284753}]
[21,1480,11,1489,11,1495,null,null,null,null,0,211]
[12,1655,13,1658,13,1665,null,null,null,null,0,111]
[21,1759,11,1768,11,1772,null,null,null,null,0,211,null,"Total Target Seq"]
[21,1913,11,1922,11,1927,null,null,null,null,0,211,null,{"$f":"COUNTIF(L7:L63,G3)","v":39},null,10,9,10,9,10,9]
[12,2088,13,2095,13,2113,null,null,null,null,0,111,null,null,null,"% of reinforcement given in 6 equal intervals based on number of trials "]
[21,2210,22,2214,13,2224,null,null,null,null,0,221,null,null,null,"%_1","%_2","%_3","%_4","%_5","%_6"]
[21,2356,11,2363,11,2368,null,null,null,null,0,211,null,null,"target sequence",{"$f":"$G$3","v":211},{"$f":"$G$3","v":211},{"$f":"$G$3","v":211},{"$f":"$G$3","v":211},{"$f":"$G$3","v":211},{"$f":"$G$3","v":211}]
[21,2492,11,2501,11,2507,null,null,null,null,0,211,null,null,"total reinforcement",{"$f":"U11","v":7},{"$f":"Z11","v":6},{"$f":"AE11","v":8},{"$f":"AJ11","v":6},{"$f":"AO11","v":6},{"$f":"AT11","v":6}]
[21,2662,11,2671,11,2675,null,null,null,null,0,211,null,null,"% target"]
[21,2863,11,2873,11,2876,null,null,null,null,0,211,null,null,"CCRF"]
[21,3088,11,3097,11,3100,null,null,null,null,0,211,null,null,"% CCRf"]
[21,3251,11,3259,11,3275,null,null,null,null,0,211,null,null,"average response rate",{"$f":"F16/P20","v":138.1},{"$f":"(F25-F16)/Q20","v":143.77777777777777},{"$f":"(F35-F25)/R20","v":169.5},{"$f":"(F44-F35)/S20","v":161.11111111111111},{"$f":"(F54-F44)/T20","v":147.9},{"$f":"(F63-F54)/U20","v":165.66666666666666}]
[21,3399,11,3407,11,3411,null,null,null,null,0,211]
[21,3610,11,3618,11,3623,null,null,null,null,0,211]
[21,3795,11,3803,11,3805,null,null,null,null,0,211]
[12,3941,13,3951,13,3963,null,null,null,null,0,111]
[12,4070,13,4079,24,4092,null,null,null,null,0,112]
[21,4192,11,4201,11,4204,null,null,null,null,0,211]
[21,4350,11,4359,11,4370,null,null,null,null,0,211]
[12,4507,13,4519,13,4541,null,null,null,null,0,111]
[21,4646,11,4653,11,4657,null,null,null,null,0,211]
[21,4761,11,4770,11,4774,null,null,null,null,0,211]
[21,4898,11,4909,11,4919,null,null,null,null,0,211]
[21,5122,11,5129,11,5138,null,null,null,null,0,211]
[12,5359,13,5362,13,5368,null,null,null,null,0,111]
[21,5468,11,5476,11,5485,null,null,null,null,0,211]
[12,5675,13,5679,13,5703,null,null,null,null,0,111]
[21,5801,11,5809,11,5820,null,null,null,null,0,211]
[12,5926,13,5931,13,5937,null,null,null,null,0,111]
[21,6033,22,6040,13,6047,null,null,null,null,0,221]
[21,6143,22,6148,13,6156,null,null,null,null,0,221]
[21,6258,11,6269,11,6273,null,null,null,null,0,211]
[21,6379,11,6389,11,6393,null,null,null,null,0,211]
[21,6614,11,6621,11,6625,null,null,null,null,0,211]
[12,6794,13,6805,13,6818,null,null,null,null,0,111]
[21,6915,11,6924,11,6930,null,null,null,null,0,211]
[21,7091,11,7098,11,7102,null,null,null,null,0,211]
[21,7269,11,7277,11,7299,null,null,null,null,0,211]
[12,7516,13,7519,24,7534,null,null,null,null,0,112]
[21,7626,22,7633,13,7642,null,null,null,null,0,221]
[21,7743,11,7753,11,7764,null,null,null,null,0,211]
[21,7885,11,7893,11,7897,null,null,null,null,0,211]
[21,8038,11,8047,11,8050,null,null,null,null,0,211]
[12,8279,13,8289,24,8299,null,null,null,null,0,112]
[21,8397,11,8406,11,8412,null,null,null,null,0,211]
[21,8558,11,8568,11,8573,null,null,null,null,0,211]
[21,8778,11,8786,11,8790,null,null,null,null,1,211]

{"sheet":"!MA0791D.ust","index":16,"n_rows":58,"n_cols":48,"rows_kept":58,"cut":false,"hidden":false,"merged":[[4,39,4,42],[5,39,5,40],[4,44,4,47],[5,44,5,45],[4,24,4,27],[5,24,5,25],[4,29,4,32],[5,29,5,30],[4,34,4,37],[5,34,5,35],[1,1,1,2],[5,13,5,14],[18,13,18,14],[19,13,19,14],[4,19,4,22],[5,19,5,20]]}
["Report for:!MA0791D.ust"]
["Date:","<date>"]
["Hen:","<hen>",null,null,null,"Correct Sequence",{"$f":"Start!J2","v":211},null,null,null,null,null,null,null,null,"Total Sequences in Data",{"$f":"4994-COUNTBLANK(L7:L5000)","v":52},null,null,null,null,"Total Sequences in Block Data",{"$f":"COUNTA(L7:L15)","v":9},null,null,null,"Total Sequences in Block Data",{"$f":"COUNTA(L16:L23)","v":8},null,null,null,"Total Sequences in Block Data",{"$f":"COUNTA(L24:L32)","v":9},null,null,null,"Total Sequences in Block Data",{"$f":"COUNTA(L33:L41)","v":9},null,null,null,"Total Sequences in Block Data",{"$f":"COUNTA(L42:L49)","v":8},null,null,null,"Total Sequences in Block Data",{"$f":"COUNTA(L50:L58)","v":9}]
[null,null,null,null,null,null,null,null,null,null,null,null,null,null,null,"Total Sequences in Summary",{"$f":"SUM(O7:O14)","v":52},null,null,null,null,"Total Sequences in Block Summary",{"$f":"SUM(U7:U14)","v":9},null,null,null,"Total Sequences in Block Summary",{"$f":"SUM(Z7:Z14)","v":8},null,null,null,"Total Sequences in Block Summary",{"$f":"SUM(AE7:AE14)","v":9},null,null,null,"Total Sequences in Block Summary",{"$f":"SUM(AJ7:AJ14)","v":9},null,null,null,"Total Sequences in Block Summary",{"$f":"SUM(AO7:AO14)","v":8},null,null,null,"Total Sequences in Block Summary",{"$f":"SUM(AT7:AT14)","v":9}]
[null,null,null,null,null,null,null,null,null,null,null,null,null,null,null,null,null,null,null,"Block 1",null,null,null,null,"Block 2",null,null,null,null,"Block 3",null,null,null,null,"Block 4",null,null,null,null,"Block 5",null,null,null,null,"Block 6"]
["Sequence\nComponent\n1","Time\n1","Sequence\nComponent\n2","Time\n2","Sequence\nComponent\n3","Time\n3","Sequence\nComponent\n4","Time\n4","Sequence\nComponent\n5","Time\n5","Correct?\n0=No 1=Yes","Sequence",null,"Frequency",null,"Relative Frequency","Variability",null,null,"Frequency",null,"Relative Frequency","Variability",null,"Frequency",null,"Relative Frequency","Variability",null,"Frequency",null,"Relative Frequency","Variability",null,"Frequency",null,"Relative Frequency","Variability",null,"Frequency",null,"Relative Frequency","Variability",null,"Frequency",null,"Relative Frequency","Variability"]
[21,5,11,19,11,24,null,null,null,null,0,211,null,111,{"$f":"COUNTIF($L$7:$L$500,N7)","v":10},{"$f":"O7/$Q$4","v":0.19230769230769232},{"$f":"IF(P7=0,0,(P7*((LOG(P7))/LOG(2))))","v":-0.45740608139494804},null,null,{"$f":"N7","v":111},{"$f":"COUNTIF(L7:L15,T7)","v":2},{"$f":"U7/(W4-U11)","v":1},{"$f":"IF(V7=0,0,(V7*((LOG(V7))/LOG(2))))","v":0},null,{"$f":"N7","v":111},{"$f":"COUNTIF(L16:L23,Y7)","v":0},{"$f":"Z7/(AB4-Z11)","v":{"$error":"#DIV/0!"}},{"$f":"IF(AA7=0,0,(AA7*((LOG(AA7))/LOG(2))))","v":{"$error":"#DIV/0!"}},null,{"$f":"N7","v":111},{"$f":"COUNTIF(L24:L32,AD7)","v":1},{"$f":"AE7/(AG4-AE11)","v":0.33333333333333331},{"$f":"IF(AF7=0,0,(AF7*((LOG(AF7))/LOG(2))))","v":-0.52832083357371862},null,{"$f":"N7","v":111},{"$f":"COUNTIF(L33:L41,AI7)","v":1},{"$f":"AJ7/(AL4-AJ11)","v":0.5},{"$f":"IF(AK7=0,0,(AK7*((LOG(AK7))/LOG(2))))","v":-0.5},null,{"$f":"N7","v":111},{"$f":"COUNTIF(L42:L49,AN7)","v":3},{"$f":"AO7/(AQ4-AO11)","v":1},{"$f":"IF(AP7=0,0,(AP7*((LOG(AP7))/LOG(2))))","v":0},null,{"$f":"N7","v":111},{"$f":"COUNTIF(L50:L58,AS7)","v":3},{"$f":"AT7/(AV4-AT11)","v":1},{"$f":"IF(AU7=0,0,(AU7*((LOG(AU7))/LOG(2))))","v":0}]
[12,212,13,220,13,233,null,null,null,null,0,111,null,112,{"$f":"COUNTIF($L$7:$L$500,N8)","v":2},{"$f":"O8/$Q$4","v":3.8461538461538464E-2},{"$f":"IF(P8=0,0,(P8*((LOG(P8))/LOG(2))))","v":-0.18078614300542661},null,null,{"$f":"N8","v":112},{"$f":"COUNTIF(L7:L15,T8)","v":0},{"$f":"U8/(W4-U11)","v":0},{"$f":"IF(V8=0,0,(V8*((LOG(V8))/LOG(2))))","v":0},null,{"$f":"N8","v":112},{"$f":"COUNTIF(L16:L23,Y8)","v":0},{"$f":"Z8/(AB4-Z11)","v":{"$error":"#DIV/0!"}},{"$f":"IF(AA8=0,0,(AA8*((LOG(AA8))/LOG(2))))","v":{"$error":"#DIV/0!"}},null,{"$f":"N8","v":112},{"$f":"COUNTIF(L24:L32,AD8)","v":1},{"$f":"AE8/(AG4-AE11)","v":0.33333333333333331},{"$f":"IF(AF8=0,0,(AF8*((LOG(AF8))/LOG(2))))","v":-0.52832083357371862},null,{"$f":"N8","v":112},{"$f":"COUNTIF(L33:L41,AI8)","v":1},{"$f":"AJ8/(AL4-AJ11)","v":0.5},{"$f":"IF(AK8=0,0,(AK8*((LOG(AK8))/LOG(2))))","v":-0.5},null,{"$f":"N8","v":112},{"$f":"COUNTIF(L42:L49,AN8)","v":0},{"$f":"AO8/(AQ4-AO11)","v":0},{"$f":"IF(AP8=0,0,(AP8*((LOG(AP8))/LOG(2))))","v":0},null,{"$f":"N8","v":112},{"$f":"COUNTIF(L50:L58,AS8)","v":0},{"$f":"AT8/(AV4-AT11)","v":0},{"$f":"IF(AU8=0,0,(AU8*((LOG(AU8))/LOG(2))))","v":0}]
[21,333,11,345,11,350,null,null,null,null,0,211,null,121,{"$f":"COUNTIF($L$7:$L$500,N9)","v":0},{"$f":"O9/$Q$4","v":0},{"$f":"IF(P9=0,0,(P9*((LOG(P9))/LOG(2))))","v":0},null,null,{"$f":"N9","v":121},{"$f":"COUNTIF(L7:L15,T9)","v":0},{"$f":"U9/(W4-U11)","v":0},{"$f":"IF(V9=0,0,(V9*((LOG(V9))/LOG(2))))","v":0},null,{"$f":"N9","v":121},{"$f":"COUNTIF(L16:L23,Y9)","v":0},{"$f":"Z9/(AB4-Z11)","v":{"$error":"#DIV/0!"}},{"$f":"IF(AA9=0,0,(AA9*((LOG(AA9))/LOG(2))))","v":{"$error":"#DIV/0!"}},null,{"$f":"N9","v":121},{"$f":"COUNTIF(L24:L32,AD9)","v":0},{"$f":"AE9/(AG4-AE11)","v":0},{"$f":"IF(AF9=0,0,(AF9*((LOG(AF9))/LOG(2))))","v":0},null,{"$f":"N9","v":121},{"$f":"COUNTIF(L33:L41,AI9)","v":0},{"$f":"AJ9/(AL4-AJ11)","v":0},{"$f":"IF(AK9=0,0,(AK9*((LOG(AK9))/LOG(2))))","v":0},null,{"$f":"N9","v":121},{"$f":"COUNTIF(L42:L49,AN9)","v":0},{"$f":"AO9/(AQ4-AO11)","v":0},{"$f":"IF(AP9=0,0,(AP9*((LOG(AP9))/LOG(2))))","v":0},null,{"$f":"N9","v":121},{"$f":"COUNTIF(L50:L58,AS9)","v":0},{"$f":"AT9/(AV4-AT11)","v":0},{"$f":"IF(AU9=0,0,(AU9*((LOG(AU9))/LOG(2))))","v":0}]
[21,470,11,479,11,483,null,null,null,null,0,211,null,122,{"$f":"COUNTIF($L$7:$L$500,N10)","v":0},{"$f":"O10/$Q$4","v":0},{"$f":"IF(P10=0,0,(P10*((LOG(P10))/LOG(2))))","v":0},null,null,{"$f":"N10","v":122},{"$f":"COUNTIF(L7:L15,T10)","v":0},{"$f":"U10/(W4-U11)","v":0},{"$f":"IF(V10=0,0,(V10*((LOG(V10))/LOG(2))))","v":0},null,{"$f":"N10","v":122},{"$f":"COUNTIF(L16:L23,Y10)","v":0},{"$f":"Z10/(AB4-Z11)","v":{"$error":"#DIV/0!"}},{"$f":"IF(AA10=0,0,(AA10*((LOG(AA10))/LOG(2))))","v":{"$error":"#DIV/0!"}},null,{"$f":"N10","v":122},{"$f":"COUNTIF(L24:L32,AD10)","v":0},{"$f":"AE10/(AG4-AE11)","v":0},{"$f":"IF(AF10=0,0,(AF10*((LOG(AF10))/LOG(2))))","v":0},null,{"$f":"N10","v":122},{"$f":"COUNTIF(L33:L41,AI10)","v":0},{"$f":"AJ10/(AL4-AJ11)","v":0},{"$f":"IF(AK10=0,0,(AK10*((LOG(AK10))/LOG(2))))","v":0},null,{"$f":"N10","v":122},{"$f":"COUNTIF(L42:L49,AN10)","v":0},{"$f":"AO10/(AQ4-AO11)","v":0},{"$f":"IF(AP10=0,0,(AP10*((LOG(AP10))/LOG(2))))","v":0},null,{"$f":"N10","v":122},{"$f":"COUNTIF(L50:L58,AS10)","v":0},{"$f":"AT10/(AV4-AT11)","v":0},{"$f":"IF(AU10=0,0,(AU10*((LOG(AU10))/LOG(2))))","v":0}]
[21,603,11,613,11,617,null,null,null,null,0,211,null,211,{"$f":"COUNTIF($L$7:$L$500,N11)","v":39},{"$f":"O11/$Q$4","v":0.75},{"$f":"IF(P11=0,0,(P11*((LOG(P11))/LOG(2))))","v":-0.31127812445913283},null,null,{"$f":"N11","v":211},{"$f":"COUNTIF(L7:L15,T11)","v":7},null,null,null,{"$f":"N11","v":211},{"$f":"COUNTIF(L16:L23,Y11)","v":8},null,null,null,{"$f":"N11","v":211},{"$f":"COUNTIF(L24:L32,AD11)","v":6},null,null,null,{"$f":"N11","v":211},{"$f":"COUNTIF(L33:L41,AI11)","v":7},null,null,null,{"$f":"N11","v":211},{"$f":"COUNTIF(L42:L49,AN11)","v":5},null,null,null,{"$f":"N11","v":211},{"$f":"COUNTIF(L50:L58,AS11)","v":6}]
[21,742,11,753,11,759,null,null,null,null,0,211,null,212,{"$f":"COUNTIF($L$7:$L$500,N12)","v":0},{"$f":"O12/$Q$4","v":0},{"$f":"IF(P12=0,0,(P12*((LOG(P12))/LOG(2))))","v":0},null,null,{"$f":"N12","v":212},{"$f":"COUNTIF(L7:L15,T12)","v":0},{"$f":"U12/(W4-U11)","v":0},{"$f":"IF(V12=0,0,(V12*((LOG(V12))/LOG(2))))","v":0},null,{"$f":"N12","v":212},{"$f":"COUNTIF(L16:L23,Y12)","v":0},{"$f":"Z12/(AB4-Z11)","v":{"$error":"#DIV/0!"}},{"$f":"IF(AA12=0,0,(AA12*((LOG(AA12))/LOG(2))))","v":{"$error":"#DIV/0!"}},null,{"$f":"N12","v":212},{"$f":"COUNTIF(L24:L32,AD12)","v":0},{"$f":"AE12/(AG4-AE11)","v":0},{"$f":"IF(AF12=0,0,(AF12*((LOG(AF12))/LOG(2))))","v":0},null,{"$f":"N12","v":212},{"$f":"COUNTIF(L33:L41,AI12)","v":0},{"$f":"AJ12/(AL4-AJ11)","v":0},{"$f":"IF(AK12=0,0,(AK12*((LOG(AK12))/LOG(2))))","v":0},null,{"$f":"N12","v":212},{"$f":"COUNTIF(L42:L49,AN12)","v":0},{"$f":"AO12/(AQ4-AO11)","v":0},{"$f":"IF(AP12=0,0,(AP12*((LOG(AP12))/LOG(2))))","v":0},null,{"$f":"N12","v":212},{"$f":"COUNTIF(L50:L58,AS12)","v":0},{"$f":"AT12/(AV4-AT11)","v":0},{"$f":"IF(AU12=0,0,(AU12*((LOG(AU12))/LOG(2))))","v":0}]
[12,910,13,917,13,924,null,null,null,null,0,111,null,221,{"$f":"COUNTIF($L$7:$L$500,N13)","v":1},{"$f":"O13/$Q$4","v":1.9230769230769232E-2},{"$f":"IF(P13=0,0,(P13*((LOG(P13))/LOG(2))))","v":-0.10962384073348255},null,null,{"$f":"N13","v":221},{"$f":"COUNTIF(L7:L15,T13)","v":0},{"$f":"U13/(W4-U11)","v":0},{"$f":"IF(V13=0,0,(V13*((LOG(V13))/LOG(2))))","v":0},null,{"$f":"N13","v":221},{"$f":"COUNTIF(L16:L23,Y13)","v":0},{"$f":"Z13/(AB4-Z11)","v":{"$error":"#DIV/0!"}},{"$f":"IF(AA13=0,0,(AA13*((LOG(AA13))/LOG(2))))","v":{"$error":"#DIV/0!"}},null,{"$f":"N13","v":221},{"$f":"COUNTIF(L24:L32,AD13)","v":1},{"$f":"AE13/(AG4-AE11)","v":0.33333333333333331},{"$f":"IF(AF13=0,0,(AF13*((LOG(AF13))/LOG(2))))","v":-0.52832083357371862},null,{"$f":"N13","v":221},{"$f":"COUNTIF(L33:L41,AI13)","v":0},{"$f":"AJ13/(AL4-AJ11)","v":0},{"$f":"IF(AK13=0,0,(AK13*((LOG(AK13))/LOG(2))))","v":0},null,{"$f":"N13","v":221},{"$f":"COUNTIF(L42:L49,AN13)","v":0},{"$f":"AO13/(AQ4-AO11)","v":0},{"$f":"IF(AP13=0,0,(AP13*((LOG(AP13))/LOG(2))))","v":0},null,{"$f":"N13","v":221},{"$f":"COUNTIF(L50:L58,AS13)","v":0},{"$f":"AT13/(AV4-AT11)","v":0},{"$f":"IF(AU13=0,0,(AU13*((LOG(AU13))/LOG(2))))","v":0}]
[21,1020,11,1031,11,1037,null,null,null,null,0,211,null,222,{"$f":"COUNTIF($L$7:$L$500,N14)","v":0},{"$f":"O14/$Q$4","v":0},{"$f":"IF(P14=0,0,(P14*((LOG(P14))/LOG(2))))","v":0},null,null,{"$f":"N14","v":222},{"$f":"COUNTIF(L7:L15,T14)","v":0},{"$f":"U14/(W4-U11)","v":0},{"$f":"IF(V14=0,0,(V14*((LOG(V14))/LOG(2))))","v":0},null,{"$f":"N14","v":222},{"$f":"COUNTIF(L16:L23,Y14)","v":0},{"$f":"Z14/(AB4-Z11)","v":{"$error":"#DIV/0!"}},{"$f":"IF(AA14=0,0,(AA14*((LOG(AA14))/LOG(2))))","v":{"$error":"#DIV/0!"}},null,{"$f":"N14","v":222},{"$f":"COUNTIF(L24:L32,AD14)","v":0},{"$f":"AE14/(AG4-AE11)","v":0},{"$f":"IF(AF14=0,0,(AF14*((LOG(AF14))/LOG(2))))","v":0},null,{"$f":"N14","v":222},{"$f":"COUNTIF(L33:L41,AI14)","v":0},{"$f":"AJ14/(AL4-AJ11)","v":0},{"$f":"IF(AK14=0,0,(AK14*((LOG(AK14))/LOG(2))))","v":0},null,{"$f":"N14","v":222},{"$f":"COUNTIF(L42:L49,AN14)","v":0},{"$f":"AO14/(AQ4-AO11)","v":0},{"$f":"IF(AP14=0,0,(AP14*((LOG(AP14))/LOG(2))))","v":0},null,{"$f":"N14","v":222},{"$f":"COUNTIF(L50:L58,AS14)","v":0},{"$f":"AT14/(AV4-AT11)","v":0},{"$f":"IF(AU14=0,0,(AU14*((LOG(AU14))/LOG(2))))","v":0}]
[21,1166,11,1176,11,1185,null,null,null,null,0,211,null,null,null,{"$f":"SUM(P7:P14)","v":1},{"$f":"-SUM(Q7:Q14)","v":1.05909418959299},null,null,null,null,{"$f":"SUM(V7:V14)","v":1},{"$f":"-SUM(W7:W14)","v":0},null,null,null,{"$f":"SUM(AA7:AA14)","v":{"$error":"#DIV/0!"}},{"$f":"-SUM(AB7:AB14)","v":{"$error":"#DIV/0!"}},null,null,null,{"$f":"SUM(AF7:AF14)","v":1},{"$f":"-SUM(AG7:AG14)","v":1.5849625007211559},null,null,null,{"$f":"SUM(AK7:AK14)","v":1},{"$f":"-SUM(AL7:AL14)","v":1},null,null,null,{"$f":"SUM(AP7:AP14)","v":1},{"$f":"-SUM(AQ7:AQ14)","v":0},null,null,null,{"$f":"SUM(AU7:AU14)","v":1},{"$f":"-SUM(AV7:AV14)","v":0}]
[21,1293,11,1305,11,1310,null,null,null,null,0,211,null,null,null,"U=",{"$f":"Q15/(LOG(Q4)/LOG(2))","v":0.18579166554862883},null,null,null,null,"U1=",{"$f":"W15/(LOG(W4)/LOG(2))","v":0},null,null,null,"U2=",{"$f":"AB15/(LOG(AB4)/LOG(2))","v":{"$error":"#DIV/0!"}},null,null,null,"U3=",{"$f":"AG15/(LOG(AG4)/LOG(2))","v":0.49999999999999994},null,null,null,"U4=",{"$f":"AL15/(LOG(AL4)/LOG(2))","v":0.31546487678572877},null,null,null,"U5=",{"$f":"AQ15/(LOG(AQ4)/LOG(2))","v":0},null,null,null,"U6=",{"$f":"AV15/(LOG(AV4)/LOG(2))","v":0}]
[21,1445,11,1455,11,1462,null,null,null,null,0,211]
[21,1588,11,1598,11,1602,null,null,null,null,0,211]
[21,1741,11,1749,11,1754,null,null,null,null,0,211,null,"Total Target Seq"]
[21,1892,11,1901,11,1906,null,null,null,null,0,211,null,{"$f":"COUNTIF(L7:L58,G3)","v":39},null,9,8,9,9,8,9]
[21,2021,11,2031,11,2040,null,null,null,null,0,211,null,null,null,"% of reinforcement given in 6 equal intervals based on number of trials "]
[21,2176,11,2185,11,2190,null,null,null,null,0,211,null,null,null,"%_1","%_2","%_3","%_4","%_5","%_6"]
[21,2327,11,2337,11,2343,null,null,null,null,0,211,null,null,"target sequence",{"$f":"$G$3","v":211},{"$f":"$G$3","v":211},{"$f":"$G$3","v":211},{"$f":"$G$3","v":211},{"$f":"$G$3","v":211},{"$f":"$G$3","v":211}]
[21,2471,11,2482,11,2494,null,null,null,null,0,211,null,null,"total reinforcement",{"$f":"U11","v":7},{"$f":"Z11","v":8},{"$f":"AE11","v":6},{"$f":"AJ11","v":7},{"$f":"AO11","v":5},{"$f":"AT11","v":6}]
[12,2639,13,2643,13,2650,null,null,null,null,0,111,null,null,"% target"]
[21,2747,22,2756,13,2767,null,null,null,null,0,221,null,null,"CCRF"]
[21,2910,11,2918,11,2922,null,null,null,null,0,211,null,null,"% CCRf"]
[12,3095,13,3105,24,3130,null,null,null,null,0,112,null,null,"average response rate",{"$f":"F15/P20","v":131.66666666666666},{"$f":"(F23-F15)/Q20","v":144.75},{"$f":"(F32-F23)/R20","v":159.11111111111111},{"$f":"(F41-F32)/S20","v":142.88888888888889},{"$f":"(F49-F41)/T20","v":130.125},{"$f":"(F58-F49)/U20","v":144.55555555555554}]
[21,3228,11,3238,11,3249,null,null,null,null,0,211]
[21,3441,11,3451,11,3455,null,null,null,null,0,211]
[21,3584,11,3592,11,3596,null,null,null,null,0,211]
[21,3762,11,3772,11,3775,null,null,null,null,0,211]
[21,3899,11,3913,11,3920,null,null,null,null,0,211]
[12,4053,13,4057,13,4065,null,null,null,null,0,111]
[21,4161,11,4170,11,4175,null,null,null,null,0,211]
[21,4296,11,4306,11,4311,null,null,null,null,0,211]
[21,4451,11,4460,11,4464,null,null,null,null,0,211]
[12,4611,13,4616,24,4627,null,null,null,null,0,112]
[21,4724,11,4732,11,4736,null,null,null,null,0,211]
[21,4885,11,4892,11,4896,null,null,null,null,0,211]
[21,5041,11,5050,11,5061,null,null,null,null,0,211]
[12,5222,13,5227,13,5241,null,null,null,null,0,111]
[12,5349,13,5354,13,5371,null,null,null,null,0,111]
[21,5471,11,5478,11,5487,null,null,null,null,0,211]
[21,5589,11,5595,11,5599,null,null,null,null,0,211]
[21,5695,11,5704,11,5709,null,null,null,null,0,211]
[12,5845,13,5850,13,5863,null,null,null,null,0,111]
[21,5966,11,5974,11,5979,null,null,null,null,0,211]
[21,6089,11,6097,11,6102,null,null,null,null,0,211]
[21,6225,11,6232,11,6236,null,null,null,null,0,211]
[21,6371,11,6378,11,6384,null,null,null,null,0,211]
[12,6613,13,6617,13,6625,null,null,null,null,0,111]
[21,6729,11,6738,11,6743,null,null,null,null,0,211]
[21,6870,11,6879,11,6886,null,null,null,null,0,211]
[12,7024,13,7031,13,7037,null,null,null,null,0,111]
[21,7135,11,7143,11,7158,null,null,null,null,0,211]
[12,7280,13,7285,13,7290,null,null,null,null,0,111]
[21,7390,11,7399,11,7403,null,null,null,null,1,211]

{"sheet":"!MA08A5D.ust","index":17,"n_rows":57,"n_cols":48,"rows_kept":57,"cut":false,"hidden":false,"merged":[[4,39,4,42],[5,39,5,40],[4,44,4,47],[5,44,5,45],[4,24,4,27],[5,24,5,25],[4,29,4,32],[5,29,5,30],[4,34,4,37],[5,34,5,35],[1,1,1,2],[5,13,5,14],[18,13,18,14],[19,13,19,14],[4,19,4,22],[5,19,5,20]]}
["Report for:!MA08A5D.ust"]
["Date:","<date>"]
["Hen:","<hen>",null,null,null,"Correct Sequence",{"$f":"Start!J2","v":211},null,null,null,null,null,null,null,null,"Total Sequences in Data",{"$f":"4994-COUNTBLANK(L7:L5000)","v":51},null,null,null,null,"Total Sequences in Block Data",{"$f":"COUNTA(L7:L15)","v":9},null,null,null,"Total Sequences in Block Data",{"$f":"COUNTA(L16:L23)","v":8},null,null,null,"Total Sequences in Block Data",{"$f":"COUNTA(L24:L32)","v":9},null,null,null,"Total Sequences in Block Data",{"$f":"COUNTA(L33:L40)","v":8},null,null,null,"Total Sequences in Block Data",{"$f":"COUNTA(L41:L49)","v":9},null,null,null,"Total Sequences in Block Data",{"$f":"COUNTA(L50:L57)","v":8}]
[null,null,null,null,null,null,null,null,null,null,null,null,null,null,null,"Total Sequences in Summary",{"$f":"SUM(O7:O14)","v":51},null,null,null,null,"Total Sequences in Block Summary",{"$f":"SUM(U7:U14)","v":9},null,null,null,"Total Sequences in Block Summary",{"$f":"SUM(Z7:Z14)","v":8},null,null,null,"Total Sequences in Block Summary",{"$f":"SUM(AE7:AE14)","v":9},null,null,null,"Total Sequences in Block Summary",{"$f":"SUM(AJ7:AJ14)","v":8},null,null,null,"Total Sequences in Block Summary",{"$f":"SUM(AO7:AO14)","v":9},null,null,null,"Total Sequences in Block Summary",{"$f":"SUM(AT7:AT14)","v":8}]
[null,null,null,null,null,null,null,null,null,null,null,null,null,null,null,null,null,null,null,"Block 1",null,null,null,null,"Block 2",null,null,null,null,"Block 3",null,null,null,null,"Block 4",null,null,null,null,"Block 5",null,null,null,null,"Block 6"]
["Sequence\nComponent\n1","Time\n1","Sequence\nComponent\n2","Time\n2","Sequence\nComponent\n3","Time\n3","Sequence\nComponent\n4","Time\n4","Sequence\nComponent\n5","Time\n5","Correct?\n0=No 1=Yes","Sequence",null,"Frequency",null,"Relative Frequency","Variability",null,null,"Frequency",null,"Relative Frequency","Variability",null,"Frequency",null,"Relative Frequency","Variability",null,"Frequency",null,"Relative Frequency","Variability",null,"Frequency",null,"Relative Frequency","Variability",null,"Frequency",null,"Relative Frequency","Variability",null,"Frequency",null,"Relative Frequency","Variability"]
[21,12,11,21,11,26,null,null,null,null,0,211,null,111,{"$f":"COUNTIF($L$7:$L$500,N7)","v":7},{"$f":"O7/$Q$4","v":0.13725490196078433},{"$f":"IF(P7=0,0,(P7*((LOG(P7))/LOG(2))))","v":-0.39324495959602429},null,null,{"$f":"N7","v":111},{"$f":"COUNTIF(L7:L15,T7)","v":0},{"$f":"U7/(W4-U11)","v":{"$error":"#DIV/0!"}},{"$f":"IF(V7=0,0,(V7*((LOG(V7))/LOG(2))))","v":{"$error":"#DIV/0!"}},null,{"$f":"N7","v":111},{"$f":"COUNTIF(L16:L23,Y7)","v":1},{"$f":"Z7/(AB4-Z11)","v":1},{"$f":"IF(AA7=0,0,(AA7*((LOG(AA7))/LOG(2))))","v":0},null,{"$f":"N7","v":111},{"$f":"COUNTIF(L24:L32,AD7)","v":1},{"$f":"AE7/(AG4-AE11)","v":1},{"$f":"IF(AF7=0,0,(AF7*((LOG(AF7))/LOG(2))))","v":0},null,{"$f":"N7","v":111},{"$f":"COUNTIF(L33:L40,AI7)","v":3},{"$f":"AJ7/(AL4-AJ11)","v":1},{"$f":"IF(AK7=0,0,(AK7*((LOG(AK7))/LOG(2))))","v":0},null,{"$f":"N7","v":111},{"$f":"COUNTIF(L41:L49,AN7)","v":1},{"$f":"AO7/(AQ4-AO11)","v":0.2},{"$f":"IF(AP7=0,0,(AP7*((LOG(AP7))/LOG(2))))","v":-0.46438561897747244},null,{"$f":"N7","v":111},{"$f":"COUNTIF(L50:L57,AS7)","v":1},{"$f":"AT7/(AV4-AT11)","v":0.5},{"$f":"IF(AU7=0,0,(AU7*((LOG(AU7))/LOG(2))))","v":-0.5}]
[21,245,11,254,11,259,null,null,null,null,0,211,null,112,{"$f":"COUNTIF($L$7:$L$500,N8)","v":1},{"$f":"O8/$Q$4","v":1.9607843137254902E-2},{"$f":"IF(P8=0,0,(P8*((LOG(P8))/LOG(2))))","v":-0.11122402631316657},null,null,{"$f":"N8","v":112},{"$f":"COUNTIF(L7:L15,T8)","v":0},{"$f":"U8/(W4-U11)","v":{"$error":"#DIV/0!"}},{"$f":"IF(V8=0,0,(V8*((LOG(V8))/LOG(2))))","v":{"$error":"#DIV/0!"}},null,{"$f":"N8","v":112},{"$f":"COUNTIF(L16:L23,Y8)","v":0},{"$f":"Z8/(AB4-Z11)","v":0},{"$f":"IF(AA8=0,0,(AA8*((LOG(AA8))/LOG(2))))","v":0},null,{"$f":"N8","v":112},{"$f":"COUNTIF(L24:L32,AD8)","v":0},{"$f":"AE8/(AG4-AE11)","v":0},{"$f":"IF(AF8=0,0,(AF8*((LOG(AF8))/LOG(2))))","v":0},null,{"$f":"N8","v":112},{"$f":"COUNTIF(L33:L40,AI8)","v":0},{"$f":"AJ8/(AL4-AJ11)","v":0},{"$f":"IF(AK8=0,0,(AK8*((LOG(AK8))/LOG(2))))","v":0},null,{"$f":"N8","v":112},{"$f":"COUNTIF(L41:L49,AN8)","v":0},{"$f":"AO8/(AQ4-AO11)","v":0},{"$f":"IF(AP8=0,0,(AP8*((LOG(AP8))/LOG(2))))","v":0},null,{"$f":"N8","v":112},{"$f":"COUNTIF(L50:L57,AS8)","v":1},{"$f":"AT8/(AV4-AT11)","v":0.5},{"$f":"IF(AU8=0,0,(AU8*((LOG(AU8))/LOG(2))))","v":-0.5}]
[21,395,11,402,11,408,null,null,null,null,0,211,null,121,{"$f":"COUNTIF($L$7:$L$500,N9)","v":0},{"$f":"O9/$Q$4","v":0},{"$f":"IF(P9=0,0,(P9*((LOG(P9))/LOG(2))))","v":0},null,null,{"$f":"N9","v":121},{"$f":"COUNTIF(L7:L15,T9)","v":0},{"$f":"U9/(W4-U11)","v":{"$error":"#DIV/0!"}},{"$f":"IF(V9=0,0,(V9*((LOG(V9))/LOG(2))))","v":{"$error":"#DIV/0!"}},null,{"$f":"N9","v":121},{"$f":"COUNTIF(L16:L23,Y9)","v":0},{"$f":"Z9/(AB4-Z11)","v":0},{"$f":"IF(AA9=0,0,(AA9*((LOG(AA9))/LOG(2))))","v":0},null,{"$f":"N9","v":121},{"$f":"COUNTIF(L24:L32,AD9)","v":0},{"$f":"AE9/(AG4-AE11)","v":0},{"$f":"IF(AF9=0,0,(AF9*((LOG(AF9))/LOG(2))))","v":0},null,{"$f":"N9","v":121},{"$f":"COUNTIF(L33:L40,AI9)","v":0},{"$f":"AJ9/(AL4-AJ11)","v":0},{"$f":"IF(AK9=0,0,(AK9*((LOG(AK9))/LOG(2))))","v":0},null,{"$f":"N9","v":121},{"$f":"COUNTIF(L41:L49,AN9)","v":0},{"$f":"AO9/(AQ4-AO11)","v":0},{"$f":"IF(AP9=0,0,(AP9*((LOG(AP9))/LOG(2))))","v":0},null,{"$f":"N9","v":121},{"$f":"COUNTIF(L50:L57,AS9)","v":0},{"$f":"AT9/(AV4-AT11)","v":0},{"$f":"IF(AU9=0,0,(AU9*((LOG(AU9))/LOG(2))))","v":0}]
[21,607,11,617,11,620,null,null,null,null,0,211,null,122,{"$f":"COUNTIF($L$7:$L$500,N10)","v":0},{"$f":"O10/$Q$4","v":0},{"$f":"IF(P10=0,0,(P10*((LOG(P10))/LOG(2))))","v":0},null,null,{"$f":"N10","v":122},{"$f":"COUNTIF(L7:L15,T10)","v":0},{"$f":"U10/(W4-U11)","v":{"$error":"#DIV/0!"}},{"$f":"IF(V10=0,0,(V10*((LOG(V10))/LOG(2))))","v":{"$error":"#DIV/0!"}},null,{"$f":"N10","v":122},{"$f":"COUNTIF(L16:L23,Y10)","v":0},{"$f":"Z10/(AB4-Z11)","v":0},{"$f":"IF(AA10=0,0,(AA10*((LOG(AA10))/LOG(2))))","v":0},null,{"$f":"N10","v":122},{"$f":"COUNTIF(L24:L32,AD10)","v":0},{"$f":"AE10/(AG4-AE11)","v":0},{"$f":"IF(AF10=0,0,(AF10*((LOG(AF10))/LOG(2))))","v":0},null,{"$f":"N10","v":122},{"$f":"COUNTIF(L33:L40,AI10)","v":0},{"$f":"AJ10/(AL4-AJ11)","v":0},{"$f":"IF(AK10=0,0,(AK10*((LOG(AK10))/LOG(2))))","v":0},null,{"$f":"N10","v":122},{"$f":"COUNTIF(L41:L49,AN10)","v":0},{"$f":"AO10/(AQ4-AO11)","v":0},{"$f":"IF(AP10=0,0,(AP10*((LOG(AP10))/LOG(2))))","v":0},null,{"$f":"N10","v":122},{"$f":"COUNTIF(L50:L57,AS10)","v":0},{"$f":"AT10/(AV4-AT11)","v":0},{"$f":"IF(AU10=0,0,(AU10*((LOG(AU10))/LOG(2))))","v":0}]
[21,755,11,767,11,778,null,null,null,null,0,211,null,211,{"$f":"COUNTIF($L$7:$L$500,N11)","v":39},{"$f":"O11/$Q$4","v":0.76470588235294112},{"$f":"IF(P11=0,0,(P11*((LOG(P11))/LOG(2))))","v":-0.29595885884824796},null,null,{"$f":"N11","v":211},{"$f":"COUNTIF(L7:L15,T11)","v":9},null,null,null,{"$f":"N11","v":211},{"$f":"COUNTIF(L16:L23,Y11)","v":7},null,null,null,{"$f":"N11","v":211},{"$f":"COUNTIF(L24:L32,AD11)","v":8},null,null,null,{"$f":"N11","v":211},{"$f":"COUNTIF(L33:L40,AI11)","v":5},null,null,null,{"$f":"N11","v":211},{"$f":"COUNTIF(L41:L49,AN11)","v":4},null,null,null,{"$f":"N11","v":211},{"$f":"COUNTIF(L50:L57,AS11)","v":6}]
[21,910,11,920,11,926,null,null,null,null,0,211,null,212,{"$f":"COUNTIF($L$7:$L$500,N12)","v":0},{"$f":"O12/$Q$4","v":0},{"$f":"IF(P12=0,0,(P12*((LOG(P12))/LOG(2))))","v":0},null,null,{"$f":"N12","v":212},{"$f":"COUNTIF(L7:L15,T12)","v":0},{"$f":"U12/(W4-U11)","v":{"$error":"#DIV/0!"}},{"$f":"IF(V12=0,0,(V12*((LOG(V12))/LOG(2))))","v":{"$error":"#DIV/0!"}},null,{"$f":"N12","v":212},{"$f":"COUNTIF(L16:L23,Y12)","v":0},{"$f":"Z12/(AB4-Z11)","v":0},{"$f":"IF(AA12=0,0,(AA12*((LOG(AA12))/LOG(2))))","v":0},null,{"$f":"N12","v":212},{"$f":"COUNTIF(L24:L32,AD12)","v":0},{"$f":"AE12/(AG4-AE11)","v":0},{"$f":"IF(AF12=0,0,(AF12*((LOG(AF12))/LOG(2))))","v":0},null,{"$f":"N12","v":212},{"$f":"COUNTIF(L33:L40,AI12)","v":0},{"$f":"AJ12/(AL4-AJ11)","v":0},{"$f":"IF(AK12=0,0,(AK12*((LOG(AK12))/LOG(2))))","v":0},null,{"$f":"N12","v":212},{"$f":"COUNTIF(L41:L49,AN12)","v":0},{"$f":"AO12/(AQ4-AO11)","v":0},{"$f":"IF(AP12=0,0,(AP12*((LOG(AP12))/LOG(2))))","v":0},null,{"$f":"N12","v":212},{"$f":"COUNTIF(L50:L57,AS12)","v":0},{"$f":"AT12/(AV4-AT11)","v":0},{"$f":"IF(AU12=0,0,(AU12*((LOG(AU12))/LOG(2))))","v":0}]
[21,1054,11,1064,11,1068,null,null,null,null,0,211,null,221,{"$f":"COUNTIF($L$7:$L$500,N13)","v":3},{"$f":"O13/$Q$4","v":5.8823529411764705E-2},{"$f":"IF(P13=0,0,(P13*((LOG(P13))/LOG(2))))","v":-0.24043899066178465},null,null,{"$f":"N13","v":221},{"$f":"COUNTIF(L7:L15,T13)","v":0},{"$f":"U13/(W4-U11)","v":{"$error":"#DIV/0!"}},{"$f":"IF(V13=0,0,(V13*((LOG(V13))/LOG(2))))","v":{"$error":"#DIV/0!"}},null,{"$f":"N13","v":221},{"$f":"COUNTIF(L16:L23,Y13)","v":0},{"$f":"Z13/(AB4-Z11)","v":0},{"$f":"IF(AA13=0,0,(AA13*((LOG(AA13))/LOG(2))))","v":0},null,{"$f":"N13","v":221},{"$f":"COUNTIF(L24:L32,AD13)","v":0},{"$f":"AE13/(AG4-AE11)","v":0},{"$f":"IF(AF13=0,0,(AF13*((LOG(AF13))/LOG(2))))","v":0},null,{"$f":"N13","v":221},{"$f":"COUNTIF(L33:L40,AI13)","v":0},{"$f":"AJ13/(AL4-AJ11)","v":0},{"$f":"IF(AK13=0,0,(AK13*((LOG(AK13))/LOG(2))))","v":0},null,{"$f":"N13","v":221},{"$f":"COUNTIF(L41:L49,AN13)","v":3},{"$f":"AO13/(AQ4-AO11)","v":0.6},{"$f":"IF(AP13=0,0,(AP13*((LOG(AP13))/LOG(2))))","v":-0.44217935649972373},null,{"$f":"N13","v":221},{"$f":"COUNTIF(L50:L57,AS13)","v":0},{"$f":"AT13/(AV4-AT11)","v":0},{"$f":"IF(AU13=0,0,(AU13*((LOG(AU13))/LOG(2))))","v":0}]
[21,1201,11,1211,11,1220,null,null,null,null,0,211,null,222,{"$f":"COUNTIF($L$7:$L$500,N14)","v":1},{"$f":"O14/$Q$4","v":1.9607843137254902E-2},{"$f":"IF(P14=0,0,(P14*((LOG(P14))/LOG(2))))","v":-0.11122402631316657},null,null,{"$f":"N14","v":222},{"$f":"COUNTIF(L7:L15,T14)","v":0},{"$f":"U14/(W4-U11)","v":{"$error":"#DIV/0!"}},{"$f":"IF(V14=0,0,(V14*((LOG(V14))/LOG(2))))","v":{"$error":"#DIV/0!"}},null,{"$f":"N14","v":222},{"$f":"COUNTIF(L16:L23,Y14)","v":0},{"$f":"Z14/(AB4-Z11)","v":0},{"$f":"IF(AA14=0,0,(AA14*((LOG(AA14))/LOG(2))))","v":0},null,{"$f":"N14","v":222},{"$f":"COUNTIF(L24:L32,AD14)","v":0},{"$f":"AE14/(AG4-AE11)","v":0},{"$f":"IF(AF14=0,0,(AF14*((LOG(AF14))/LOG(2))))","v":0},null,{"$f":"N14","v":222},{"$f":"COUNTIF(L33:L40,AI14)","v":0},{"$f":"AJ14/(AL4-AJ11)","v":0},{"$f":"IF(AK14=0,0,(AK14*((LOG(AK14))/LOG(2))))","v":0},null,{"$f":"N14","v":222},{"$f":"COUNTIF(L41:L49,AN14)","v":1},{"$f":"AO14/(AQ4-AO11)","v":0.2},{"$f":"IF(AP14=0,0,(AP14*((LOG(AP14))/LOG(2))))","v":-0.46438561897747244},null,{"$f":"N14","v":222},{"$f":"COUNTIF(L50:L57,AS14)","v":0},{"$f":"AT14/(AV4-AT11)","v":0},{"$f":"IF(AU14=0,0,(AU14*((LOG(AU14))/LOG(2))))","v":0}]
[21,1376,11,1387,11,1403,null,null,null,null,0,211,null,null,null,{"$f":"SUM(P7:P14)","v":1},{"$f":"-SUM(Q7:Q14)","v":1.1520908617323899},null,null,null,null,{"$f":"SUM(V7:V14)","v":{"$error":"#DIV/0!"}},{"$f":"-SUM(W7:W14)","v":{"$error":"#DIV/0!"}},null,null,null,{"$f":"SUM(AA7:AA14)","v":1},{"$f":"-SUM(AB7:AB14)","v":0},null,null,null,{"$f":"SUM(AF7:AF14)","v":1},{"$f":"-SUM(AG7:AG14)","v":0},null,null,null,{"$f":"SUM(AK7:AK14)","v":1},{"$f":"-SUM(AL7:AL14)","v":0},null,null,null,{"$f":"SUM(AP7:AP14)","v":1},{"$f":"-SUM(AQ7:AQ14)","v":1.3709505944546687},null,null,null,{"$f":"SUM(AU7:AU14)","v":1},{"$f":"-SUM(AV7:AV14)","v":1}]
[21,1550,11,1562,11,1567,null,null,null,null,0,211,null,null,null,"U=",{"$f":"Q15/(LOG(Q4)/LOG(2))","v":0.20310375056112628},null,null,null,null,"U1=",{"$f":"W15/(LOG(W4)/LOG(2))","v":{"$error":"#DIV/0!"}},null,null,null,"U2=",{"$f":"AB15/(LOG(AB4)/LOG(2))","v":0},null,null,null,"U3=",{"$f":"AG15/(LOG(AG4)/LOG(2))","v":0},null,null,null,"U4=",{"$f":"AL15/(LOG(AL4)/LOG(2))","v":0},null,null,null,"U5=",{"$f":"AQ15/(LOG(AQ4)/LOG(2))","v":0.43248676035896366},null,null,null,"U6=",{"$f":"AV15/(LOG(AV4)/LOG(2))","v":0.33333333333333331}]
[21,1724,11,1734,11,1737,null,null,null,null,0,211]
[21,1858,11,1867,11,1871,null,null,null,null,0,211]
[12,2028,13,2032,13,2041,null,null,null,null,0,111,null,"Total Target Seq"]
[21,2160,11,2171,11,2176,null,null,null,null,0,211,null,{"$f":"COUNTIF(L7:L57,G3)","v":39},null,9,8,9,8,9,8]
[21,2312,11,2322,11,2327,null,null,null,null,0,211,null,null,null,"% of reinforcement given in 6 equal intervals based on number of trials "]
[21,2544,11,2553,11,2555,null,null,null,null,0,211,null,null,null,"%_1","%_2","%_3","%_4","%_5","%_6"]
[21,2712,11,2721,11,2725,null,null,null,null,0,211,null,null,"target sequence",{"$f":"$G$3","v":211},{"$f":"$G$3","v":211},{"$f":"$G$3","v":211},{"$f":"$G$3","v":211},{"$f":"$G$3","v":211},{"$f":"$G$3","v":211}]
[21,2858,11,2867,11,2870,null,null,null,null,0,211,null,null,"total reinforcement",{"$f":"U11","v":9},{"$f":"Z11","v":7},{"$f":"AE11","v":8},{"$f":"AJ11","v":5},{"$f":"AO11","v":4},{"$f":"AT11","v":6}]
[21,3021,11,3031,11,3036,null,null,null,null,0,211,null,null,"% target"]
[21,3234,11,3241,11,3245,null,null,null,null,0,211,null,null,"CCRF"]
[21,3396,11,3405,11,3410,null,null,null,null,0,211,null,null,"% CCRf"]
[21,3539,11,3548,11,3558,null,null,null,null,0,211,null,null,"average response rate",{"$f":"F15/P20","v":155.88888888888889},{"$f":"(F23-F15)/Q20","v":165.25},{"$f":"(F32-F23)/R20","v":164.66666666666666},{"$f":"(F40-F32)/S20","v":160.625},{"$f":"(F49-F40)/T20","v":134.66666666666666},{"$f":"(F57-F49)/U20","v":160.875}]
[12,3757,13,3761,13,3766,null,null,null,null,0,111]
[21,3864,11,3873,11,3880,null,null,null,null,0,211]
[21,3997,11,4005,11,4014,null,null,null,null,0,211]
[21,4195,11,4204,11,4207,null,null,null,null,0,211]
[21,4343,11,4352,11,4357,null,null,null,null,0,211]
[12,4559,13,4563,13,4569,null,null,null,null,0,111]
[21,4671,11,4679,11,4685,null,null,null,null,0,211]
[12,4783,13,4789,13,4795,null,null,null,null,0,111]
[21,4893,11,4900,11,4905,null,null,null,null,0,211]
[21,5054,11,5062,11,5066,null,null,null,null,0,211]
[21,5230,11,5238,11,5243,null,null,null,null,0,211]
[12,5463,13,5467,13,5492,null,null,null,null,0,111]
[21,5589,22,5594,13,5600,null,null,null,null,0,221]
[21,5695,22,5698,24,5701,null,null,null,null,0,222]
[21,5802,11,5810,11,5819,null,null,null,null,0,211]
[12,5969,13,5973,13,5983,null,null,null,null,0,111]
[21,6083,22,6091,13,6101,null,null,null,null,0,221]
[21,6198,22,6205,13,6214,null,null,null,null,0,221]
[21,6312,11,6323,11,6330,null,null,null,null,0,211]
[21,6520,11,6527,11,6532,null,null,null,null,0,211]
[21,6693,11,6700,11,6704,null,null,null,null,0,211]
[21,6858,11,6866,11,6876,null,null,null,null,0,211]
[21,7038,11,7046,11,7050,null,null,null,null,0,211]
[12,7263,13,7275,24,7298,null,null,null,null,0,112]
[21,7400,11,7408,11,7414,null,null,null,null,0,211]
[21,7535,11,7542,11,7546,null,null,null,null,0,211]
[12,7713,13,7724,13,7747,null,null,null,null,0,111]
[21,7850,11,7861,11,7868,null,null,null,null,0,211]
[21,7979,11,7987,11,7991,null,null,null,null,1,211]

{"sheet":"!MA0992D.ust","index":18,"n_rows":57,"n_cols":48,"rows_kept":57,"cut":false,"hidden":false,"merged":[[4,39,4,42],[5,39,5,40],[4,44,4,47],[5,44,5,45],[4,24,4,27],[5,24,5,25],[4,29,4,32],[5,29,5,30],[4,34,4,37],[5,34,5,35],[1,1,1,2],[5,13,5,14],[18,13,18,14],[19,13,19,14],[4,19,4,22],[5,19,5,20]]}
["Report for:!MA0992D.ust"]
["Date:","<date>"]
["Hen:","<hen>",null,null,null,"Correct Sequence",{"$f":"Start!J2","v":211},null,null,null,null,null,null,null,null,"Total Sequences in Data",{"$f":"4994-COUNTBLANK(L7:L5000)","v":51},null,null,null,null,"Total Sequences in Block Data",{"$f":"COUNTA(L7:L15)","v":9},null,null,null,"Total Sequences in Block Data",{"$f":"COUNTA(L16:L23)","v":8},null,null,null,"Total Sequences in Block Data",{"$f":"COUNTA(L24:L32)","v":9},null,null,null,"Total Sequences in Block Data",{"$f":"COUNTA(L33:L40)","v":8},null,null,null,"Total Sequences in Block Data",{"$f":"COUNTA(L41:L49)","v":9},null,null,null,"Total Sequences in Block Data",{"$f":"COUNTA(L50:L57)","v":8}]
[null,null,null,null,null,null,null,null,null,null,null,null,null,null,null,"Total Sequences in Summary",{"$f":"SUM(O7:O14)","v":51},null,null,null,null,"Total Sequences in Block Summary",{"$f":"SUM(U7:U14)","v":9},null,null,null,"Total Sequences in Block Summary",{"$f":"SUM(Z7:Z14)","v":8},null,null,null,"Total Sequences in Block Summary",{"$f":"SUM(AE7:AE14)","v":9},null,null,null,"Total Sequences in Block Summary",{"$f":"SUM(AJ7:AJ14)","v":8},null,null,null,"Total Sequences in Block Summary",{"$f":"SUM(AO7:AO14)","v":9},null,null,null,"Total Sequences in Block Summary",{"$f":"SUM(AT7:AT14)","v":8}]
[null,null,null,null,null,null,null,null,null,null,null,null,null,null,null,null,null,null,null,"Block 1",null,null,null,null,"Block 2",null,null,null,null,"Block 3",null,null,null,null,"Block 4",null,null,null,null,"Block 5",null,null,null,null,"Block 6"]
["Sequence\nComponent\n1","Time\n1","Sequence\nComponent\n2","Time\n2","Sequence\nComponent\n3","Time\n3","Sequence\nComponent\n4","Time\n4","Sequence\nComponent\n5","Time\n5","Correct?\n0=No 1=Yes","Sequence",null,"Frequency",null,"Relative Frequency","Variability",null,null,"Frequency",null,"Relative Frequency","Variability",null,"Frequency",null,"Relative Frequency","Variability",null,"Frequency",null,"Relative Frequency","Variability",null,"Frequency",null,"Relative Frequency","Variability",null,"Frequency",null,"Relative Frequency","Variability",null,"Frequency",null,"Relative Frequency","Variability"]
[21,4,11,17,11,22,null,null,null,null,0,211,null,111,{"$f":"COUNTIF($L$7:$L$500,N7)","v":9},{"$f":"O7/$Q$4","v":0.17647058823529413},{"$f":"IF(P7=0,0,(P7*((LOG(P7))/LOG(2))))","v":-0.44161770715220888},null,null,{"$f":"N7","v":111},{"$f":"COUNTIF(L7:L15,T7)","v":2},{"$f":"U7/(W4-U11)","v":1},{"$f":"IF(V7=0,0,(V7*((LOG(V7))/LOG(2))))","v":0},null,{"$f":"N7","v":111},{"$f":"COUNTIF(L16:L23,Y7)","v":3},{"$f":"Z7/(AB4-Z11)","v":1},{"$f":"IF(AA7=0,0,(AA7*((LOG(AA7))/LOG(2))))","v":0},null,{"$f":"N7","v":111},{"$f":"COUNTIF(L24:L32,AD7)","v":0},{"$f":"AE7/(AG4-AE11)","v":0},{"$f":"IF(AF7=0,0,(AF7*((LOG(AF7))/LOG(2))))","v":0},null,{"$f":"N7","v":111},{"$f":"COUNTIF(L33:L40,AI7)","v":2},{"$f":"AJ7/(AL4-AJ11)","v":1},{"$f":"IF(AK7=0,0,(AK7*((LOG(AK7))/LOG(2))))","v":0},null,{"$f":"N7","v":111},{"$f":"COUNTIF(L41:L49,AN7)","v":1},{"$f":"AO7/(AQ4-AO11)","v":1},{"$f":"IF(AP7=0,0,(AP7*((LOG(AP7))/LOG(2))))","v":0},null,{"$f":"N7","v":111},{"$f":"COUNTIF(L50:L57,AS7)","v":1},{"$f":"AT7/(AV4-AT11)","v":0.5},{"$f":"IF(AU7=0,0,(AU7*((LOG(AU7))/LOG(2))))","v":-0.5}]
[21,143,11,151,11,164,null,null,null,null,0,211,null,112,{"$f":"COUNTIF($L$7:$L$500,N8)","v":3},{"$f":"O8/$Q$4","v":5.8823529411764705E-2},{"$f":"IF(P8=0,0,(P8*((LOG(P8))/LOG(2))))","v":-0.24043899066178465},null,null,{"$f":"N8","v":112},{"$f":"COUNTIF(L7:L15,T8)","v":0},{"$f":"U8/(W4-U11)","v":0},{"$f":"IF(V8=0,0,(V8*((LOG(V8))/LOG(2))))","v":0},null,{"$f":"N8","v":112},{"$f":"COUNTIF(L16:L23,Y8)","v":0},{"$f":"Z8/(AB4-Z11)","v":0},{"$f":"IF(AA8=0,0,(AA8*((LOG(AA8))/LOG(2))))","v":0},null,{"$f":"N8","v":112},{"$f":"COUNTIF(L24:L32,AD8)","v":2},{"$f":"AE8/(AG4-AE11)","v":1},{"$f":"IF(AF8=0,0,(AF8*((LOG(AF8))/LOG(2))))","v":0},null,{"$f":"N8","v":112},{"$f":"COUNTIF(L33:L40,AI8)","v":0},{"$f":"AJ8/(AL4-AJ11)","v":0},{"$f":"IF(AK8=0,0,(AK8*((LOG(AK8))/LOG(2))))","v":0},null,{"$f":"N8","v":112},{"$f":"COUNTIF(L41:L49,AN8)","v":0},{"$f":"AO8/(AQ4-AO11)","v":0},{"$f":"IF(AP8=0,0,(AP8*((LOG(AP8))/LOG(2))))","v":0},null,{"$f":"N8","v":112},{"$f":"COUNTIF(L50:L57,AS8)","v":1},{"$f":"AT8/(AV4-AT11)","v":0.5},{"$f":"IF(AU8=0,0,(AU8*((LOG(AU8))/LOG(2))))","v":-0.5}]
[21,311,11,320,11,325,null,null,null,null,0,211,null,121,{"$f":"COUNTIF($L$7:$L$500,N9)","v":0},{"$f":"O9/$Q$4","v":0},{"$f":"IF(P9=0,0,(P9*((LOG(P9))/LOG(2))))","v":0},null,null,{"$f":"N9","v":121},{"$f":"COUNTIF(L7:L15,T9)","v":0},{"$f":"U9/(W4-U11)","v":0},{"$f":"IF(V9=0,0,(V9*((LOG(V9))/LOG(2))))","v":0},null,{"$f":"N9","v":121},{"$f":"COUNTIF(L16:L23,Y9)","v":0},{"$f":"Z9/(AB4-Z11)","v":0},{"$f":"IF(AA9=0,0,(AA9*((LOG(AA9))/LOG(2))))","v":0},null,{"$f":"N9","v":121},{"$f":"COUNTIF(L24:L32,AD9)","v":0},{"$f":"AE9/(AG4-AE11)","v":0},{"$f":"IF(AF9=0,0,(AF9*((LOG(AF9))/LOG(2))))","v":0},null,{"$f":"N9","v":121},{"$f":"COUNTIF(L33:L40,AI9)","v":0},{"$f":"AJ9/(AL4-AJ11)","v":0},{"$f":"IF(AK9=0,0,(AK9*((LOG(AK9))/LOG(2))))","v":0},null,{"$f":"N9","v":121},{"$f":"COUNTIF(L41:L49,AN9)","v":0},{"$f":"AO9/(AQ4-AO11)","v":0},{"$f":"IF(AP9=0,0,(AP9*((LOG(AP9))/LOG(2))))","v":0},null,{"$f":"N9","v":121},{"$f":"COUNTIF(L50:L57,AS9)","v":0},{"$f":"AT9/(AV4-AT11)","v":0},{"$f":"IF(AU9=0,0,(AU9*((LOG(AU9))/LOG(2))))","v":0}]
[21,452,11,462,11,465,null,null,null,null,0,211,null,122,{"$f":"COUNTIF($L$7:$L$500,N10)","v":0},{"$f":"O10/$Q$4","v":0},{"$f":"IF(P10=0,0,(P10*((LOG(P10))/LOG(2))))","v":0},null,null,{"$f":"N10","v":122},{"$f":"COUNTIF(L7:L15,T10)","v":0},{"$f":"U10/(W4-U11)","v":0},{"$f":"IF(V10=0,0,(V10*((LOG(V10))/LOG(2))))","v":0},null,{"$f":"N10","v":122},{"$f":"COUNTIF(L16:L23,Y10)","v":0},{"$f":"Z10/(AB4-Z11)","v":0},{"$f":"IF(AA10=0,0,(AA10*((LOG(AA10))/LOG(2))))","v":0},null,{"$f":"N10","v":122},{"$f":"COUNTIF(L24:L32,AD10)","v":0},{"$f":"AE10/(AG4-AE11)","v":0},{"$f":"IF(AF10=0,0,(AF10*((LOG(AF10))/LOG(2))))","v":0},null,{"$f":"N10","v":122},{"$f":"COUNTIF(L33:L40,AI10)","v":0},{"$f":"AJ10/(AL4-AJ11)","v":0},{"$f":"IF(AK10=0,0,(AK10*((LOG(AK10))/LOG(2))))","v":0},null,{"$f":"N10","v":122},{"$f":"COUNTIF(L41:L49,AN10)","v":0},{"$f":"AO10/(AQ4-AO11)","v":0},{"$f":"IF(AP10=0,0,(AP10*((LOG(AP10))/LOG(2))))","v":0},null,{"$f":"N10","v":122},{"$f":"COUNTIF(L50:L57,AS10)","v":0},{"$f":"AT10/(AV4-AT11)","v":0},{"$f":"IF(AU10=0,0,(AU10*((LOG(AU10))/LOG(2))))","v":0}]
[12,664,13,683,13,714,null,null,null,null,0,111,null,211,{"$f":"COUNTIF($L$7:$L$500,N11)","v":39},{"$f":"O11/$Q$4","v":0.76470588235294112},{"$f":"IF(P11=0,0,(P11*((LOG(P11))/LOG(2))))","v":-0.29595885884824796},null,null,{"$f":"N11","v":211},{"$f":"COUNTIF(L7:L15,T11)","v":7},null,null,null,{"$f":"N11","v":211},{"$f":"COUNTIF(L16:L23,Y11)","v":5},null,null,null,{"$f":"N11","v":211},{"$f":"COUNTIF(L24:L32,AD11)","v":7},null,null,null,{"$f":"N11","v":211},{"$f":"COUNTIF(L33:L40,AI11)","v":6},null,null,null,{"$f":"N11","v":211},{"$f":"COUNTIF(L41:L49,AN11)","v":8},null,null,null,{"$f":"N11","v":211},{"$f":"COUNTIF(L50:L57,AS11)","v":6}]
[21,818,11,827,11,838,null,null,null,null,0,211,null,212,{"$f":"COUNTIF($L$7:$L$500,N12)","v":0},{"$f":"O12/$Q$4","v":0},{"$f":"IF(P12=0,0,(P12*((LOG(P12))/LOG(2))))","v":0},null,null,{"$f":"N12","v":212},{"$f":"COUNTIF(L7:L15,T12)","v":0},{"$f":"U12/(W4-U11)","v":0},{"$f":"IF(V12=0,0,(V12*((LOG(V12))/LOG(2))))","v":0},null,{"$f":"N12","v":212},{"$f":"COUNTIF(L16:L23,Y12)","v":0},{"$f":"Z12/(AB4-Z11)","v":0},{"$f":"IF(AA12=0,0,(AA12*((LOG(AA12))/LOG(2))))","v":0},null,{"$f":"N12","v":212},{"$f":"COUNTIF(L24:L32,AD12)","v":0},{"$f":"AE12/(AG4-AE11)","v":0},{"$f":"IF(AF12=0,0,(AF12*((LOG(AF12))/LOG(2))))","v":0},null,{"$f":"N12","v":212},{"$f":"COUNTIF(L33:L40,AI12)","v":0},{"$f":"AJ12/(AL4-AJ11)","v":0},{"$f":"IF(AK12=0,0,(AK12*((LOG(AK12))/LOG(2))))","v":0},null,{"$f":"N12","v":212},{"$f":"COUNTIF(L41:L49,AN12)","v":0},{"$f":"AO12/(AQ4-AO11)","v":0},{"$f":"IF(AP12=0,0,(AP12*((LOG(AP12))/LOG(2))))","v":0},null,{"$f":"N12","v":212},{"$f":"COUNTIF(L50:L57,AS12)","v":0},{"$f":"AT12/(AV4-AT11)","v":0},{"$f":"IF(AU12=0,0,(AU12*((LOG(AU12))/LOG(2))))","v":0}]
[12,934,13,938,13,943,null,null,null,null,0,111,null,221,{"$f":"COUNTIF($L$7:$L$500,N13)","v":0},{"$f":"O13/$Q$4","v":0},{"$f":"IF(P13=0,0,(P13*((LOG(P13))/LOG(2))))","v":0},null,null,{"$f":"N13","v":221},{"$f":"COUNTIF(L7:L15,T13)","v":0},{"$f":"U13/(W4-U11)","v":0},{"$f":"IF(V13=0,0,(V13*((LOG(V13))/LOG(2))))","v":0},null,{"$f":"N13","v":221},{"$f":"COUNTIF(L16:L23,Y13)","v":0},{"$f":"Z13/(AB4-Z11)","v":0},{"$f":"IF(AA13=0,0,(AA13*((LOG(AA13))/LOG(2))))","v":0},null,{"$f":"N13","v":221},{"$f":"COUNTIF(L24:L32,AD13)","v":0},{"$f":"AE13/(AG4-AE11)","v":0},{"$f":"IF(AF13=0,0,(AF13*((LOG(AF13))/LOG(2))))","v":0},null,{"$f":"N13","v":221},{"$f":"COUNTIF(L33:L40,AI13)","v":0},{"$f":"AJ13/(AL4-AJ11)","v":0},{"$f":"IF(AK13=0,0,(AK13*((LOG(AK13))/LOG(2))))","v":0},null,{"$f":"N13","v":221},{"$f":"COUNTIF(L41:L49,AN13)","v":0},{"$f":"AO13/(AQ4-AO11)","v":0},{"$f":"IF(AP13=0,0,(AP13*((LOG(AP13))/LOG(2))))","v":0},null,{"$f":"N13","v":221},{"$f":"COUNTIF(L50:L57,AS13)","v":0},{"$f":"AT13/(AV4-AT11)","v":0},{"$f":"IF(AU13=0,0,(AU13*((LOG(AU13))/LOG(2))))","v":0}]
[21,1043,11,1054,11,1057,null,null,null,null,0,211,null,222,{"$f":"COUNTIF($L$7:$L$500,N14)","v":0},{"$f":"O14/$Q$4","v":0},{"$f":"IF(P14=0,0,(P14*((LOG(P14))/LOG(2))))","v":0},null,null,{"$f":"N14","v":222},{"$f":"COUNTIF(L7:L15,T14)","v":0},{"$f":"U14/(W4-U11)","v":0},{"$f":"IF(V14=0,0,(V14*((LOG(V14))/LOG(2))))","v":0},null,{"$f":"N14","v":222},{"$f":"COUNTIF(L16:L23,Y14)","v":0},{"$f":"Z14/(AB4-Z11)","v":0},{"$f":"IF(AA14=0,0,(AA14*((LOG(AA14))/LOG(2))))","v":0},null,{"$f":"N14","v":222},{"$f":"COUNTIF(L24:L32,AD14)","v":0},{"$f":"AE14/(AG4-AE11)","v":0},{"$f":"IF(AF14=0,0,(AF14*((LOG(AF14))/LOG(2))))","v":0},null,{"$f":"N14","v":222},{"$f":"COUNTIF(L33:L40,AI14)","v":0},{"$f":"AJ14/(AL4-AJ11)","v":0},{"$f":"IF(AK14=0,0,(AK14*((LOG(AK14))/LOG(2))))","v":0},null,{"$f":"N14","v":222},{"$f":"COUNTIF(L41:L49,AN14)","v":0},{"$f":"AO14/(AQ4-AO11)","v":0},{"$f":"IF(AP14=0,0,(AP14*((LOG(AP14))/LOG(2))))","v":0},null,{"$f":"N14","v":222},{"$f":"COUNTIF(L50:L57,AS14)","v":0},{"$f":"AT14/(AV4-AT11)","v":0},{"$f":"IF(AU14=0,0,(AU14*((LOG(AU14))/LOG(2))))","v":0}]
[21,1152,11,1162,11,1166,null,null,null,null,0,211,null,null,null,{"$f":"SUM(P7:P14)","v":1},{"$f":"-SUM(Q7:Q14)","v":0.97801555666224149},null,null,null,null,{"$f":"SUM(V7:V14)","v":1},{"$f":"-SUM(W7:W14)","v":0},null,null,null,{"$f":"SUM(AA7:AA14)","v":1},{"$f":"-SUM(AB7:AB14)","v":0},null,null,null,{"$f":"SUM(AF7:AF14)","v":1},{"$f":"-SUM(AG7:AG14)","v":0},null,null,null,{"$f":"SUM(AK7:AK14)","v":1},{"$f":"-SUM(AL7:AL14)","v":0},null,null,null,{"$f":"SUM(AP7:AP14)","v":1},{"$f":"-SUM(AQ7:AQ14)","v":0},null,null,null,{"$f":"SUM(AU7:AU14)","v":1},{"$f":"-SUM(AV7:AV14)","v":1}]
[12,1340,13,1344,13,1351,null,null,null,null,0,111,null,null,null,"U=",{"$f":"Q15/(LOG(Q4)/LOG(2))","v":0.17241576533862757},null,null,null,null,"U1=",{"$f":"W15/(LOG(W4)/LOG(2))","v":0},null,null,null,"U2=",{"$f":"AB15/(LOG(AB4)/LOG(2))","v":0},null,null,null,"U3=",{"$f":"AG15/(LOG(AG4)/LOG(2))","v":0},null,null,null,"U4=",{"$f":"AL15/(LOG(AL4)/LOG(2))","v":0},null,null,null,"U5=",{"$f":"AQ15/(LOG(AQ4)/LOG(2))","v":0},null,null,null,"U6=",{"$f":"AV15/(LOG(AV4)/LOG(2))","v":0.33333333333333331}]
[21,1454,11,1463,11,1478,null,null,null,null,0,211]
[12,1664,13,1669,13,1681,null,null,null,null,0,111]
[21,1780,11,1789,11,1793,null,null,null,null,0,211,null,"Total Target Seq"]
[21,1920,11,1930,11,1935,null,null,null,null,0,211,null,{"$f":"COUNTIF(L7:L57,G3)","v":39},null,9,8,9,8,9,8]
[21,2061,11,2071,11,2075,null,null,null,null,0,211,null,null,null,"% of reinforcement given in 6 equal intervals based on number of trials "]
[12,2219,13,2223,13,2243,null,null,null,null,0,111,null,null,null,"%_1","%_2","%_3","%_4","%_5","%_6"]
[21,2341,11,2350,11,2359,null,null,null,null,0,211,null,null,"target sequence",{"$f":"$G$3","v":211},{"$f":"$G$3","v":211},{"$f":"$G$3","v":211},{"$f":"$G$3","v":211},{"$f":"$G$3","v":211},{"$f":"$G$3","v":211}]
[12,2507,13,2512,24,2523,null,null,null,null,0,112,null,null,"total reinforcement",{"$f":"U11","v":7},{"$f":"Z11","v":5},{"$f":"AE11","v":7},{"$f":"AJ11","v":6},{"$f":"AO11","v":8},{"$f":"AT11","v":6}]
[12,2659,13,2664,24,2679,null,null,null,null,0,112,null,null,"% target"]
[21,2774,11,2787,11,2792,null,null,null,null,0,211,null,null,"CCRF"]
[21,2915,11,2923,11,2928,null,null,null,null,0,211,null,null,"% CCRf"]
[21,3059,11,3070,11,3076,null,null,null,null,0,211,null,null,"average response rate",{"$f":"F15/P20","v":129.55555555555554},{"$f":"(F23-F15)/Q20","v":149.125},{"$f":"(F32-F23)/R20","v":149.33333333333334},{"$f":"(F40-F32)/S20","v":169.25},{"$f":"(F49-F40)/T20","v":169.77777777777777},{"$f":"(F57-F49)/U20","v":189.5}]
[21,3200,11,3210,11,3213,null,null,null,null,0,211]
[21,3397,11,3406,11,3412,null,null,null,null,0,211]
[21,3529,11,3539,11,3550,null,null,null,null,0,211]
[21,3691,11,3700,11,3703,null,null,null,null,0,211]
[21,3876,11,3886,11,3902,null,null,null,null,0,211]
[21,4089,11,4098,11,4102,null,null,null,null,0,211]
[21,4264,11,4273,11,4277,null,null,null,null,0,211]
[12,4476,13,4478,13,4484,null,null,null,null,0,111]
[21,4586,11,4595,11,4607,null,null,null,null,0,211]
[12,4783,13,4787,13,4802,null,null,null,null,0,111]
[21,4901,11,4909,11,4928,null,null,null,null,0,211]
[21,5044,11,5053,11,5057,null,null,null,null,0,211]
[21,5234,11,5242,11,5246,null,null,null,null,0,211]
[12,5431,13,5435,13,5441,null,null,null,null,0,111]
[21,5539,11,5548,11,5553,null,null,null,null,0,211]
[21,5666,11,5677,11,5681,null,null,null,null,0,211]
[21,5834,11,5841,11,5843,null,null,null,null,0,211]
[21,6003,11,6013,11,6029,null,null,null,null,0,211]
[21,6178,11,6190,11,6193,null,null,null,null,0,211]
[21,6362,11,6372,11,6381,null,null,null,null,0,211]
[21,6575,11,6582,11,6585,null,null,null,null,0,211]
[21,6765,11,6774,11,6780,null,null,null,null,0,211]
[12,6980,13,6984,13,6996,null,null,null,null,0,111]
[21,7094,11,7105,11,7110,null,null,null,null,0,211]
[12,7331,13,7342,24,7353,null,null,null,null,0,112]
[21,7455,11,7464,11,7468,null,null,null,null,0,211]
[21,7612,11,7621,11,7627,null,null,null,null,0,211]
[21,7854,11,7864,11,7869,null,null,null,null,0,211]
[21,8085,11,8093,11,8101,null,null,null,null,1,211]

{"sheet":"!MA10A3D.ust","index":19,"n_rows":42,"n_cols":48,"rows_kept":42,"cut":false,"hidden":false,"merged":[[4,39,4,42],[5,39,5,40],[4,44,4,47],[5,44,5,45],[4,24,4,27],[5,24,5,25],[4,29,4,32],[5,29,5,30],[4,34,4,37],[5,34,5,35],[1,1,1,2],[5,13,5,14],[18,13,18,14],[19,13,19,14],[4,19,4,22],[5,19,5,20]]}
["Report for:!MA10A3D.ust"]
["Date:","<date>"]
["Hen:","<hen>",null,null,null,"Correct Sequence",{"$f":"Start!J2","v":211},null,null,null,null,null,null,null,null,"Total Sequences in Data",{"$f":"4994-COUNTBLANK(L7:L5000)","v":36},null,null,null,null,"Total Sequences in Block Data",{"$f":"COUNTA(L7:L12)","v":6},null,null,null,"Total Sequences in Block Data",{"$f":"COUNTA(L13:L18)","v":6},null,null,null,"Total Sequences in Block Data",{"$f":"COUNTA(L19:L24)","v":6},null,null,null,"Total Sequences in Block Data",{"$f":"COUNTA(L25:L30)","v":6},null,null,null,"Total Sequences in Block Data",{"$f":"COUNTA(L31:L36)","v":6},null,null,null,"Total Sequences in Block Data",{"$f":"COUNTA(L37:L42)","v":6}]
[null,null,null,null,null,null,null,null,null,null,null,null,null,null,null,"Total Sequences in Summary",{"$f":"SUM(O7:O14)","v":36},null,null,null,null,"Total Sequences in Block Summary",{"$f":"SUM(U7:U14)","v":6},null,null,null,"Total Sequences in Block Summary",{"$f":"SUM(Z7:Z14)","v":6},null,null,null,"Total Sequences in Block Summary",{"$f":"SUM(AE7:AE14)","v":6},null,null,null,"Total Sequences in Block Summary",{"$f":"SUM(AJ7:AJ14)","v":6},null,null,null,"Total Sequences in Block Summary",{"$f":"SUM(AO7:AO14)","v":6},null,null,null,"Total Sequences in Block Summary",{"$f":"SUM(AT7:AT14)","v":6}]
[null,null,null,null,null,null,null,null,null,null,null,null,null,null,null,null,null,null,null,"Block 1",null,null,null,null,"Block 2",null,null,null,null,"Block 3",null,null,null,null,"Block 4",null,null,null,null,"Block 5",null,null,null,null,"Block 6"]
["Sequence\nComponent\n1","Time\n1","Sequence\nComponent\n2","Time\n2","Sequence\nComponent\n3","Time\n3","Sequence\nComponent\n4","Time\n4","Sequence\nComponent\n5","Time\n5","Correct?\n0=No 1=Yes","Sequence",null,"Frequency",null,"Relative Frequency","Variability",null,null,"Frequency",null,"Relative Frequency","Variability",null,"Frequency",null,"Relative Frequency","Variability",null,"Frequency",null,"Relative Frequency","Variability",null,"Frequency",null,"Relative Frequency","Variability",null,"Frequency",null,"Relative Frequency","Variability",null,"Frequency",null,"Relative Frequency","Variability"]
[12,13,13,17,13,25,null,null,null,null,0,111,null,111,{"$f":"COUNTIF($L$7:$L$500,N7)","v":12},{"$f":"O7/$Q$4","v":0.33333333333333331},{"$f":"IF(P7=0,0,(P7*((LOG(P7))/LOG(2))))","v":-0.52832083357371862},null,null,{"$f":"N7","v":111},{"$f":"COUNTIF(L7:L12,T7)","v":2},{"$f":"U7/(W4-U11)","v":1},{"$f":"IF(V7=0,0,(V7*((LOG(V7))/LOG(2))))","v":0},null,{"$f":"N7","v":111},{"$f":"COUNTIF(L13:L18,Y7)","v":1},{"$f":"Z7/(AB4-Z11)","v":1},{"$f":"IF(AA7=0,0,(AA7*((LOG(AA7))/LOG(2))))","v":0},null,{"$f":"N7","v":111},{"$f":"COUNTIF(L19:L24,AD7)","v":0},{"$f":"AE7/(AG4-AE11)","v":{"$error":"#DIV/0!"}},{"$f":"IF(AF7=0,0,(AF7*((LOG(AF7))/LOG(2))))","v":{"$error":"#DIV/0!"}},null,{"$f":"N7","v":111},{"$f":"COUNTIF(L25:L30,AI7)","v":4},{"$f":"AJ7/(AL4-AJ11)","v":1},{"$f":"IF(AK7=0,0,(AK7*((LOG(AK7))/LOG(2))))","v":0},null,{"$f":"N7","v":111},{"$f":"COUNTIF(L31:L36,AN7)","v":4},{"$f":"AO7/(AQ4-AO11)","v":1},{"$f":"IF(AP7=0,0,(AP7*((LOG(AP7))/LOG(2))))","v":0},null,{"$f":"N7","v":111},{"$f":"COUNTIF(L37:L42,AS7)","v":1},{"$f":"AT7/(AV4-AT11)","v":0.5},{"$f":"IF(AU7=0,0,(AU7*((LOG(AU7))/LOG(2))))","v":-0.5}]
[21,126,11,135,11,139,null,null,null,null,0,211,null,112,{"$f":"COUNTIF($L$7:$L$500,N8)","v":1},{"$f":"O8/$Q$4","v":2.7777777777777776E-2},{"$f":"IF(P8=0,0,(P8*((LOG(P8))/LOG(2))))","v":-0.14360902781784199},null,null,{"$f":"N8","v":112},{"$f":"COUNTIF(L7:L12,T8)","v":0},{"$f":"U8/(W4-U11)","v":0},{"$f":"IF(V8=0,0,(V8*((LOG(V8))/LOG(2))))","v":0},null,{"$f":"N8","v":112},{"$f":"COUNTIF(L13:L18,Y8)","v":0},{"$f":"Z8/(AB4-Z11)","v":0},{"$f":"IF(AA8=0,0,(AA8*((LOG(AA8))/LOG(2))))","v":0},null,{"$f":"N8","v":112},{"$f":"COUNTIF(L19:L24,AD8)","v":0},{"$f":"AE8/(AG4-AE11)","v":{"$error":"#DIV/0!"}},{"$f":"IF(AF8=0,0,(AF8*((LOG(AF8))/LOG(2))))","v":{"$error":"#DIV/0!"}},null,{"$f":"N8","v":112},{"$f":"COUNTIF(L25:L30,AI8)","v":0},{"$f":"AJ8/(AL4-AJ11)","v":0},{"$f":"IF(AK8=0,0,(AK8*((LOG(AK8))/LOG(2))))","v":0},null,{"$f":"N8","v":112},{"$f":"COUNTIF(L31:L36,AN8)","v":0},{"$f":"AO8/(AQ4-AO11)","v":0},{"$f":"IF(AP8=0,0,(AP8*((LOG(AP8))/LOG(2))))","v":0},null,{"$f":"N8","v":112},{"$f":"COUNTIF(L37:L42,AS8)","v":1},{"$f":"AT8/(AV4-AT11)","v":0.5},{"$f":"IF(AU8=0,0,(AU8*((LOG(AU8))/LOG(2))))","v":-0.5}]
[21,376,11,384,11,388,null,null,null,null,0,211,null,121,{"$f":"COUNTIF($L$7:$L$500,N9)","v":0},{"$f":"O9/$Q$4","v":0},{"$f":"IF(P9=0,0,(P9*((LOG(P9))/LOG(2))))","v":0},null,null,{"$f":"N9","v":121},{"$f":"COUNTIF(L7:L12,T9)","v":0},{"$f":"U9/(W4-U11)","v":0},{"$f":"IF(V9=0,0,(V9*((LOG(V9))/LOG(2))))","v":0},null,{"$f":"N9","v":121},{"$f":"COUNTIF(L13:L18,Y9)","v":0},{"$f":"Z9/(AB4-Z11)","v":0},{"$f":"IF(AA9=0,0,(AA9*((LOG(AA9))/LOG(2))))","v":0},null,{"$f":"N9","v":121},{"$f":"COUNTIF(L19:L24,AD9)","v":0},{"$f":"AE9/(AG4-AE11)","v":{"$error":"#DIV/0!"}},{"$f":"IF(AF9=0,0,(AF9*((LOG(AF9))/LOG(2))))","v":{"$error":"#DIV/0!"}},null,{"$f":"N9","v":121},{"$f":"COUNTIF(L25:L30,AI9)","v":0},{"$f":"AJ9/(AL4-AJ11)","v":0},{"$f":"IF(AK9=0,0,(AK9*((LOG(AK9))/LOG(2))))","v":0},null,{"$f":"N9","v":121},{"$f":"COUNTIF(L31:L36,AN9)","v":0},{"$f":"AO9/(AQ4-AO11)","v":0},{"$f":"IF(AP9=0,0,(AP9*((LOG(AP9))/LOG(2))))","v":0},null,{"$f":"N9","v":121},{"$f":"COUNTIF(L37:L42,AS9)","v":0},{"$f":"AT9/(AV4-AT11)","v":0},{"$f":"IF(AU9=0,0,(AU9*((LOG(AU9))/LOG(2))))","v":0}]
[12,634,13,638,13,655,null,null,null,null,0,111,null,122,{"$f":"COUNTIF($L$7:$L$500,N10)","v":0},{"$f":"O10/$Q$4","v":0},{"$f":"IF(P10=0,0,(P10*((LOG(P10))/LOG(2))))","v":0},null,null,{"$f":"N10","v":122},{"$f":"COUNTIF(L7:L12,T10)","v":0},{"$f":"U10/(W4-U11)","v":0},{"$f":"IF(V10=0,0,(V10*((LOG(V10))/LOG(2))))","v":0},null,{"$f":"N10","v":122},{"$f":"COUNTIF(L13:L18,Y10)","v":0},{"$f":"Z10/(AB4-Z11)","v":0},{"$f":"IF(AA10=0,0,(AA10*((LOG(AA10))/LOG(2))))","v":0},null,{"$f":"N10","v":122},{"$f":"COUNTIF(L19:L24,AD10)","v":0},{"$f":"AE10/(AG4-AE11)","v":{"$error":"#DIV/0!"}},{"$f":"IF(AF10=0,0,(AF10*((LOG(AF10))/LOG(2))))","v":{"$error":"#DIV/0!"}},null,{"$f":"N10","v":122},{"$f":"COUNTIF(L25:L30,AI10)","v":0},{"$f":"AJ10/(AL4-AJ11)","v":0},{"$f":"IF(AK10=0,0,(AK10*((LOG(AK10))/LOG(2))))","v":0},null,{"$f":"N10","v":122},{"$f":"COUNTIF(L31:L36,AN10)","v":0},{"$f":"AO10/(AQ4-AO11)","v":0},{"$f":"IF(AP10=0,0,(AP10*((LOG(AP10))/LOG(2))))","v":0},null,{"$f":"N10","v":122},{"$f":"COUNTIF(L37:L42,AS10)","v":0},{"$f":"AT10/(AV4-AT11)","v":0},{"$f":"IF(AU10=0,0,(AU10*((LOG(AU10))/LOG(2))))","v":0}]
[21,755,11,764,11,769,null,null,null,null,0,211,null,211,{"$f":"COUNTIF($L$7:$L$500,N11)","v":23},{"$f":"O11/$Q$4","v":0.63888888888888884},{"$f":"IF(P11=0,0,(P11*((LOG(P11))/LOG(2))))","v":-0.41295416788505251},null,null,{"$f":"N11","v":211},{"$f":"COUNTIF(L7:L12,T11)","v":4},null,null,null,{"$f":"N11","v":211},{"$f":"COUNTIF(L13:L18,Y11)","v":5},null,null,null,{"$f":"N11","v":211},{"$f":"COUNTIF(L19:L24,AD11)","v":6},null,null,null,{"$f":"N11","v":211},{"$f":"COUNTIF(L25:L30,AI11)","v":2},null,null,null,{"$f":"N11","v":211},{"$f":"COUNTIF(L31:L36,AN11)","v":2},null,null,null,{"$f":"N11","v":211},{"$f":"COUNTIF(L37:L42,AS11)","v":4}]
[21,975,11,984,11,995,null,null,null,null,0,211,null,212,{"$f":"COUNTIF($L$7:$L$500,N12)","v":0},{"$f":"O12/$Q$4","v":0},{"$f":"IF(P12=0,0,(P12*((LOG(P12))/LOG(2))))","v":0},null,null,{"$f":"N12","v":212},{"$f":"COUNTIF(L7:L12,T12)","v":0},{"$f":"U12/(W4-U11)","v":0},{"$f":"IF(V12=0,0,(V12*((LOG(V12))/LOG(2))))","v":0},null,{"$f":"N12","v":212},{"$f":"COUNTIF(L13:L18,Y12)","v":0},{"$f":"Z12/(AB4-Z11)","v":0},{"$f":"IF(AA12=0,0,(AA12*((LOG(AA12))/LOG(2))))","v":0},null,{"$f":"N12","v":212},{"$f":"COUNTIF(L19:L24,AD12)","v":0},{"$f":"AE12/(AG4-AE11)","v":{"$error":"#DIV/0!"}},{"$f":"IF(AF12=0,0,(AF12*((LOG(AF12))/LOG(2))))","v":{"$error":"#DIV/0!"}},null,{"$f":"N12","v":212},{"$f":"COUNTIF(L25:L30,AI12)","v":0},{"$f":"AJ12/(AL4-AJ11)","v":0},{"$f":"IF(AK12=0,0,(AK12*((LOG(AK12))/LOG(2))))","v":0},null,{"$f":"N12","v":212},{"$f":"COUNTIF(L31:L36,AN12)","v":0},{"$f":"AO12/(AQ4-AO11)","v":0},{"$f":"IF(AP12=0,0,(AP12*((LOG(AP12))/LOG(2))))","v":0},null,{"$f":"N12","v":212},{"$f":"COUNTIF(L37:L42,AS12)","v":0},{"$f":"AT12/(AV4-AT11)","v":0},{"$f":"IF(AU12=0,0,(AU12*((LOG(AU12))/LOG(2))))","v":0}]
[21,1189,11,1198,11,1200,null,null,null,null,0,211,null,221,{"$f":"COUNTIF($L$7:$L$500,N13)","v":0},{"$f":"O13/$Q$4","v":0},{"$f":"IF(P13=0,0,(P13*((LOG(P13))/LOG(2))))","v":0},null,null,{"$f":"N13","v":221},{"$f":"COUNTIF(L7:L12,T13)","v":0},{"$f":"U13/(W4-U11)","v":0},{"$f":"IF(V13=0,0,(V13*((LOG(V13))/LOG(2))))","v":0},null,{"$f":"N13","v":221},{"$f":"COUNTIF(L13:L18,Y13)","v":0},{"$f":"Z13/(AB4-Z11)","v":0},{"$f":"IF(AA13=0,0,(AA13*((LOG(AA13))/LOG(2))))","v":0},null,{"$f":"N13","v":221},{"$f":"COUNTIF(L19:L24,AD13)","v":0},{"$f":"AE13/(AG4-AE11)","v":{"$error":"#DIV/0!"}},{"$f":"IF(AF13=0,0,(AF13*((LOG(AF13))/LOG(2))))","v":{"$error":"#DIV/0!"}},null,{"$f":"N13","v":221},{"$f":"COUNTIF(L25:L30,AI13)","v":0},{"$f":"AJ13/(AL4-AJ11)","v":0},{"$f":"IF(AK13=0,0,(AK13*((LOG(AK13))/LOG(2))))","v":0},null,{"$f":"N13","v":221},{"$f":"COUNTIF(L31:L36,AN13)","v":0},{"$f":"AO13/(AQ4-AO11)","v":0},{"$f":"IF(AP13=0,0,(AP13*((LOG(AP13))/LOG(2))))","v":0},null,{"$f":"N13","v":221},{"$f":"COUNTIF(L37:L42,AS13)","v":0},{"$f":"AT13/(AV4-AT11)","v":0},{"$f":"IF(AU13=0,0,(AU13*((LOG(AU13))/LOG(2))))","v":0}]
[12,1430,13,1436,13,1454,null,null,null,null,0,111,null,222,{"$f":"COUNTIF($L$7:$L$500,N14)","v":0},{"$f":"O14/$Q$4","v":0},{"$f":"IF(P14=0,0,(P14*((LOG(P14))/LOG(2))))","v":0},null,null,{"$f":"N14","v":222},{"$f":"COUNTIF(L7:L12,T14)","v":0},{"$f":"U14/(W4-U11)","v":0},{"$f":"IF(V14=0,0,(V14*((LOG(V14))/LOG(2))))","v":0},null,{"$f":"N14","v":222},{"$f":"COUNTIF(L13:L18,Y14)","v":0},{"$f":"Z14/(AB4-Z11)","v":0},{"$f":"IF(AA14=0,0,(AA14*((LOG(AA14))/LOG(2))))","v":0},null,{"$f":"N14","v":222},{"$f":"COUNTIF(L19:L24,AD14)","v":0},{"$f":"AE14/(AG4-AE11)","v":{"$error":"#DIV/0!"}},{"$f":"IF(AF14=0,0,(AF14*((LOG(AF14))/LOG(2))))","v":{"$error":"#DIV/0!"}},null,{"$f":"N14","v":222},{"$f":"COUNTIF(L25:L30,AI14)","v":0},{"$f":"AJ14/(AL4-AJ11)","v":0},{"$f":"IF(AK14=0,0,(AK14*((LOG(AK14))/LOG(2))))","v":0},null,{"$f":"N14","v":222},{"$f":"COUNTIF(L31:L36,AN14)","v":0},{"$f":"AO14/(AQ4-AO11)","v":0},{"$f":"IF(AP14=0,0,(AP14*((LOG(AP14))/LOG(2))))","v":0},null,{"$f":"N14","v":222},{"$f":"COUNTIF(L37:L42,AS14)","v":0},{"$f":"AT14/(AV4-AT11)","v":0},{"$f":"IF(AU14=0,0,(AU14*((LOG(AU14))/LOG(2))))","v":0}]
[21,1550,11,1561,11,1565,null,null,null,null,0,211,null,null,null,{"$f":"SUM(P7:P14)","v":1},{"$f":"-SUM(Q7:Q14)","v":1.0848840292766131},null,null,null,null,{"$f":"SUM(V7:V14)","v":1},{"$f":"-SUM(W7:W14)","v":0},null,null,null,{"$f":"SUM(AA7:AA14)","v":1},{"$f":"-SUM(AB7:AB14)","v":0},null,null,null,{"$f":"SUM(AF7:AF14)","v":{"$error":"#DIV/0!"}},{"$f":"-SUM(AG7:AG14)","v":{"$error":"#DIV/0!"}},null,null,null,{"$f":"SUM(AK7:AK14)","v":1},{"$f":"-SUM(AL7:AL14)","v":0},null,null,null,{"$f":"SUM(AP7:AP14)","v":1},{"$f":"-SUM(AQ7:AQ14)","v":0},null,null,null,{"$f":"SUM(AU7:AU14)","v":1},{"$f":"-SUM(AV7:AV14)","v":1}]
[21,1846,11,1858,11,1862,null,null,null,null,0,211,null,null,null,"U=",{"$f":"Q15/(LOG(Q4)/LOG(2))","v":0.20984521612478921},null,null,null,null,"U1=",{"$f":"W15/(LOG(W4)/LOG(2))","v":0},null,null,null,"U2=",{"$f":"AB15/(LOG(AB4)/LOG(2))","v":0},null,null,null,"U3=",{"$f":"AG15/(LOG(AG4)/LOG(2))","v":{"$error":"#DIV/0!"}},null,null,null,"U4=",{"$f":"AL15/(LOG(AL4)/LOG(2))","v":0},null,null,null,"U5=",{"$f":"AQ15/(LOG(AQ4)/LOG(2))","v":0},null,null,null,"U6=",{"$f":"AV15/(LOG(AV4)/LOG(2))","v":0.38685280723454163}]
[21,2214,11,2224,11,2228,null,null,null,null,0,211]
[21,2512,11,2521,11,2526,null,null,null,null,0,211]
[21,2786,11,2796,11,2811,null,null,null,null,0,211,null,"Total Target Seq"]
[21,3096,11,3104,11,3112,null,null,null,null,0,211,null,{"$f":"COUNTIF(L7:L42,G3)","v":23},null,6,6,6,6,6,6]
[21,3328,11,3337,11,3340,null,null,null,null,0,211,null,null,null,"% of reinforcement given in 6 equal intervals based on number of trials "]
[21,3507,11,3518,11,3523,null,null,null,null,0,211,null,null,null,"%_1","%_2","%_3","%_4","%_5","%_6"]
[21,3682,11,3696,11,3700,null,null,null,null,0,211,null,null,"target sequence",{"$f":"$G$3","v":211},{"$f":"$G$3","v":211},{"$f":"$G$3","v":211},{"$f":"$G$3","v":211},{"$f":"$G$3","v":211},{"$f":"$G$3","v":211}]
[21,3898,11,3909,11,3913,null,null,null,null,0,211,null,null,"total reinforcement",{"$f":"U11","v":4},{"$f":"Z11","v":5},{"$f":"AE11","v":6},{"$f":"AJ11","v":2},{"$f":"AO11","v":2},{"$f":"AT11","v":4}]
[21,4064,11,4076,11,4085,null,null,null,null,0,211,null,null,"% target"]
[12,5213,13,5218,13,5224,null,null,null,null,0,111,null,null,"CCRF"]
[12,5589,13,5594,13,5599,null,null,null,null,0,111,null,null,"% CCRf"]
[12,5980,13,5985,13,5991,null,null,null,null,0,111,null,null,"average response rate",{"$f":"F12/P20","v":165.83333333333334},{"$f":"(F18-F12)/Q20","v":255.16666666666666},{"$f":"(F24-F18)/R20","v":231.16666666666666},{"$f":"(F30-F24)/S20","v":385},{"$f":"(F36-F30)/T20","v":191},{"$f":"(F42-F36)/U20","v":199.66666666666666}]
[12,6092,13,6096,13,6102,null,null,null,null,0,111]
[21,6205,11,6217,11,6223,null,null,null,null,0,211]
[12,6548,13,6553,13,6559,null,null,null,null,0,111]
[12,6717,13,6724,13,6734,null,null,null,null,0,111]
[12,6830,13,6837,13,6843,null,null,null,null,0,111]
[21,6949,11,6962,11,6970,null,null,null,null,0,211]
[21,7126,11,7137,11,7141,null,null,null,null,0,211]
[12,7351,13,7356,13,7369,null,null,null,null,0,111]
[21,7466,11,7481,11,7487,null,null,null,null,0,211]
[21,7760,11,7772,11,7776,null,null,null,null,0,211]
[12,7989,13,7994,24,8006,null,null,null,null,0,112]
[21,8182,11,8192,11,8213,null,null,null,null,0,211]
[21,8408,11,8420,11,8424,null,null,null,null,0,211]
[12,8554,13,8559,13,8567,null,null,null,null,0,111]

{"sheet":"!MA13A3D.ust","index":20,"n_rows":34,"n_cols":48,"rows_kept":34,"cut":false,"hidden":false,"merged":[[4,39,4,42],[5,39,5,40],[4,44,4,47],[5,44,5,45],[4,24,4,27],[5,24,5,25],[4,29,4,32],[5,29,5,30],[4,34,4,37],[5,34,5,35],[1,1,1,2],[5,13,5,14],[18,13,18,14],[19,13,19,14],[4,19,4,22],[5,19,5,20]]}
["Report for:!MA13A3D.ust"]
["Date:","<date>"]
["Hen:","<hen>",null,null,null,"Correct Sequence",{"$f":"Start!J2","v":211},null,null,null,null,null,null,null,null,"Total Sequences in Data",{"$f":"4994-COUNTBLANK(L7:L5000)","v":28},null,null,null,null,"Total Sequences in Block Data",{"$f":"COUNTA(L7:L11)","v":5},null,null,null,"Total Sequences in Block Data",{"$f":"COUNTA(L12:L15)","v":4},null,null,null,"Total Sequences in Block Data",{"$f":"COUNTA(L16:L20)","v":5},null,null,null,"Total Sequences in Block Data",{"$f":"COUNTA(L21:L25)","v":5},null,null,null,"Total Sequences in Block Data",{"$f":"COUNTA(L26:L29)","v":4},null,null,null,"Total Sequences in Block Data",{"$f":"COUNTA(L30:L34)","v":5}]
[null,null,null,null,null,null,null,null,null,null,null,null,null,null,null,"Total Sequences in Summary",{"$f":"SUM(O7:O14)","v":28},null,null,null,null,"Total Sequences in Block Summary",{"$f":"SUM(U7:U14)","v":5},null,null,null,"Total Sequences in Block Summary",{"$f":"SUM(Z7:Z14)","v":4},null,null,null,"Total Sequences in Block Summary",{"$f":"SUM(AE7:AE14)","v":5},null,null,null,"Total Sequences in Block Summary",{"$f":"SUM(AJ7:AJ14)","v":5},null,null,null,"Total Sequences in Block Summary",{"$f":"SUM(AO7:AO14)","v":4},null,null,null,"Total Sequences in Block Summary",{"$f":"SUM(AT7:AT14)","v":5}]
[null,null,null,null,null,null,null,null,null,null,null,null,null,null,null,null,null,null,null,"Block 1",null,null,null,null,"Block 2",null,null,null,null,"Block 3",null,null,null,null,"Block 4",null,null,null,null,"Block 5",null,null,null,null,"Block 6"]
["Sequence\nComponent\n1","Time\n1","Sequence\nComponent\n2","Time\n2","Sequence\nComponent\n3","Time\n3","Sequence\nComponent\n4","Time\n4","Sequence\nComponent\n5","Time\n5","Correct?\n0=No 1=Yes","Sequence",null,"Frequency",null,"Relative Frequency","Variability",null,null,"Frequency",null,"Relative Frequency","Variability",null,"Frequency",null,"Relative Frequency","Variability",null,"Frequency",null,"Relative Frequency","Variability",null,"Frequency",null,"Relative Frequency","Variability",null,"Frequency",null,"Relative Frequency","Variability",null,"Frequency",null,"Relative Frequency","Variability"]
[21,15,22,21,24,27,null,null,null,null,0,222,null,111,{"$f":"COUNTIF($L$7:$L$500,N7)","v":11},{"$f":"O7/$Q$4","v":0.39285714285714285},{"$f":"IF(P7=0,0,(P7*((LOG(P7))/LOG(2))))","v":-0.52954129777226344},null,null,{"$f":"N7","v":111},{"$f":"COUNTIF(L7:L11,T7)","v":2},{"$f":"U7/(W4-U11)","v":0.5},{"$f":"IF(V7=0,0,(V7*((LOG(V7))/LOG(2))))","v":-0.5},null,{"$f":"N7","v":111},{"$f":"COUNTIF(L12:L15,Y7)","v":0},{"$f":"Z7/(AB4-Z11)","v":0},{"$f":"IF(AA7=0,0,(AA7*((LOG(AA7))/LOG(2))))","v":0},null,{"$f":"N7","v":111},{"$f":"COUNTIF(L16:L20,AD7)","v":1},{"$f":"AE7/(AG4-AE11)","v":0.2},{"$f":"IF(AF7=0,0,(AF7*((LOG(AF7))/LOG(2))))","v":-0.46438561897747244},null,{"$f":"N7","v":111},{"$f":"COUNTIF(L21:L25,AI7)","v":1},{"$f":"AJ7/(AL4-AJ11)","v":0.2},{"$f":"IF(AK7=0,0,(AK7*((LOG(AK7))/LOG(2))))","v":-0.46438561897747244},null,{"$f":"N7","v":111},{"$f":"COUNTIF(L26:L29,AN7)","v":4},{"$f":"AO7/(AQ4-AO11)","v":1},{"$f":"IF(AP7=0,0,(AP7*((LOG(AP7))/LOG(2))))","v":0},null,{"$f":"N7","v":111},{"$f":"COUNTIF(L30:L34,AS7)","v":3},{"$f":"AT7/(AV4-AT11)","v":0.6},{"$f":"IF(AU7=0,0,(AU7*((LOG(AU7))/LOG(2))))","v":-0.44217935649972373}]
[12,419,13,426,13,434,null,null,null,null,0,111,null,112,{"$f":"COUNTIF($L$7:$L$500,N8)","v":4},{"$f":"O8/$Q$4","v":0.14285714285714285},{"$f":"IF(P8=0,0,(P8*((LOG(P8))/LOG(2))))","v":-0.40105070315108626},null,null,{"$f":"N8","v":112},{"$f":"COUNTIF(L7:L11,T8)","v":1},{"$f":"U8/(W4-U11)","v":0.25},{"$f":"IF(V8=0,0,(V8*((LOG(V8))/LOG(2))))","v":-0.5},null,{"$f":"N8","v":112},{"$f":"COUNTIF(L12:L15,Y8)","v":0},{"$f":"Z8/(AB4-Z11)","v":0},{"$f":"IF(AA8=0,0,(AA8*((LOG(AA8))/LOG(2))))","v":0},null,{"$f":"N8","v":112},{"$f":"COUNTIF(L16:L20,AD8)","v":2},{"$f":"AE8/(AG4-AE11)","v":0.4},{"$f":"IF(AF8=0,0,(AF8*((LOG(AF8))/LOG(2))))","v":-0.52877123795494496},null,{"$f":"N8","v":112},{"$f":"COUNTIF(L21:L25,AI8)","v":1},{"$f":"AJ8/(AL4-AJ11)","v":0.2},{"$f":"IF(AK8=0,0,(AK8*((LOG(AK8))/LOG(2))))","v":-0.46438561897747244},null,{"$f":"N8","v":112},{"$f":"COUNTIF(L26:L29,AN8)","v":0},{"$f":"AO8/(AQ4-AO11)","v":0},{"$f":"IF(AP8=0,0,(AP8*((LOG(AP8))/LOG(2))))","v":0},null,{"$f":"N8","v":112},{"$f":"COUNTIF(L30:L34,AS8)","v":0},{"$f":"AT8/(AV4-AT11)","v":0},{"$f":"IF(AU8=0,0,(AU8*((LOG(AU8))/LOG(2))))","v":0}]
[21,529,11,540,11,545,null,null,null,null,0,211,null,121,{"$f":"COUNTIF($L$7:$L$500,N9)","v":0},{"$f":"O9/$Q$4","v":0},{"$f":"IF(P9=0,0,(P9*((LOG(P9))/LOG(2))))","v":0},null,null,{"$f":"N9","v":121},{"$f":"COUNTIF(L7:L11,T9)","v":0},{"$f":"U9/(W4-U11)","v":0},{"$f":"IF(V9=0,0,(V9*((LOG(V9))/LOG(2))))","v":0},null,{"$f":"N9","v":121},{"$f":"COUNTIF(L12:L15,Y9)","v":0},{"$f":"Z9/(AB4-Z11)","v":0},{"$f":"IF(AA9=0,0,(AA9*((LOG(AA9))/LOG(2))))","v":0},null,{"$f":"N9","v":121},{"$f":"COUNTIF(L16:L20,AD9)","v":0},{"$f":"AE9/(AG4-AE11)","v":0},{"$f":"IF(AF9=0,0,(AF9*((LOG(AF9))/LOG(2))))","v":0},null,{"$f":"N9","v":121},{"$f":"COUNTIF(L21:L25,AI9)","v":0},{"$f":"AJ9/(AL4-AJ11)","v":0},{"$f":"IF(AK9=0,0,(AK9*((LOG(AK9))/LOG(2))))","v":0},null,{"$f":"N9","v":121},{"$f":"COUNTIF(L26:L29,AN9)","v":0},{"$f":"AO9/(AQ4-AO11)","v":0},{"$f":"IF(AP9=0,0,(AP9*((LOG(AP9))/LOG(2))))","v":0},null,{"$f":"N9","v":121},{"$f":"COUNTIF(L30:L34,AS9)","v":0},{"$f":"AT9/(AV4-AT11)","v":0},{"$f":"IF(AU9=0,0,(AU9*((LOG(AU9))/LOG(2))))","v":0}]
[12,787,13,791,13,797,null,null,null,null,0,111,null,122,{"$f":"COUNTIF($L$7:$L$500,N10)","v":0},{"$f":"O10/$Q$4","v":0},{"$f":"IF(P10=0,0,(P10*((LOG(P10))/LOG(2))))","v":0},null,null,{"$f":"N10","v":122},{"$f":"COUNTIF(L7:L11,T10)","v":0},{"$f":"U10/(W4-U11)","v":0},{"$f":"IF(V10=0,0,(V10*((LOG(V10))/LOG(2))))","v":0},null,{"$f":"N10","v":122},{"$f":"COUNTIF(L12:L15,Y10)","v":0},{"$f":"Z10/(AB4-Z11)","v":0},{"$f":"IF(AA10=0,0,(AA10*((LOG(AA10))/LOG(2))))","v":0},null,{"$f":"N10","v":122},{"$f":"COUNTIF(L16:L20,AD10)","v":0},{"$f":"AE10/(AG4-AE11)","v":0},{"$f":"IF(AF10=0,0,(AF10*((LOG(AF10))/LOG(2))))","v":0},null,{"$f":"N10","v":122},{"$f":"COUNTIF(L21:L25,AI10)","v":0},{"$f":"AJ10/(AL4-AJ11)","v":0},{"$f":"IF(AK10=0,0,(AK10*((LOG(AK10))/LOG(2))))","v":0},null,{"$f":"N10","v":122},{"$f":"COUNTIF(L26:L29,AN10)","v":0},{"$f":"AO10/(AQ4-AO11)","v":0},{"$f":"IF(AP10=0,0,(AP10*((LOG(AP10))/LOG(2))))","v":0},null,{"$f":"N10","v":122},{"$f":"COUNTIF(L30:L34,AS10)","v":0},{"$f":"AT10/(AV4-AT11)","v":0},{"$f":"IF(AU10=0,0,(AU10*((LOG(AU10))/LOG(2))))","v":0}]
[12,1494,13,1501,24,1513,null,null,null,null,0,112,null,211,{"$f":"COUNTIF($L$7:$L$500,N11)","v":2},{"$f":"O11/$Q$4","v":7.1428571428571425E-2},{"$f":"IF(P11=0,0,(P11*((LOG(P11))/LOG(2))))","v":-0.27195392300411453},null,null,{"$f":"N11","v":211},{"$f":"COUNTIF(L7:L11,T11)","v":1},null,null,null,{"$f":"N11","v":211},{"$f":"COUNTIF(L12:L15,Y11)","v":1},null,null,null,{"$f":"N11","v":211},{"$f":"COUNTIF(L16:L20,AD11)","v":0},null,null,null,{"$f":"N11","v":211},{"$f":"COUNTIF(L21:L25,AI11)","v":0},null,null,null,{"$f":"N11","v":211},{"$f":"COUNTIF(L26:L29,AN11)","v":0},null,null,null,{"$f":"N11","v":211},{"$f":"COUNTIF(L30:L34,AS11)","v":0}]
[21,1641,11,1651,11,1660,null,null,null,null,0,211,null,212,{"$f":"COUNTIF($L$7:$L$500,N12)","v":0},{"$f":"O12/$Q$4","v":0},{"$f":"IF(P12=0,0,(P12*((LOG(P12))/LOG(2))))","v":0},null,null,{"$f":"N12","v":212},{"$f":"COUNTIF(L7:L11,T12)","v":0},{"$f":"U12/(W4-U11)","v":0},{"$f":"IF(V12=0,0,(V12*((LOG(V12))/LOG(2))))","v":0},null,{"$f":"N12","v":212},{"$f":"COUNTIF(L12:L15,Y12)","v":0},{"$f":"Z12/(AB4-Z11)","v":0},{"$f":"IF(AA12=0,0,(AA12*((LOG(AA12))/LOG(2))))","v":0},null,{"$f":"N12","v":212},{"$f":"COUNTIF(L16:L20,AD12)","v":0},{"$f":"AE12/(AG4-AE11)","v":0},{"$f":"IF(AF12=0,0,(AF12*((LOG(AF12))/LOG(2))))","v":0},null,{"$f":"N12","v":212},{"$f":"COUNTIF(L21:L25,AI12)","v":0},{"$f":"AJ12/(AL4-AJ11)","v":0},{"$f":"IF(AK12=0,0,(AK12*((LOG(AK12))/LOG(2))))","v":0},null,{"$f":"N12","v":212},{"$f":"COUNTIF(L26:L29,AN12)","v":0},{"$f":"AO12/(AQ4-AO11)","v":0},{"$f":"IF(AP12=0,0,(AP12*((LOG(AP12))/LOG(2))))","v":0},null,{"$f":"N12","v":212},{"$f":"COUNTIF(L30:L34,AS12)","v":0},{"$f":"AT12/(AV4-AT11)","v":0},{"$f":"IF(AU12=0,0,(AU12*((LOG(AU12))/LOG(2))))","v":0}]
[21,1851,22,1853,24,1855,null,null,null,null,0,222,null,221,{"$f":"COUNTIF($L$7:$L$500,N13)","v":1},{"$f":"O13/$Q$4","v":3.5714285714285712E-2},{"$f":"IF(P13=0,0,(P13*((LOG(P13))/LOG(2))))","v":-0.17169124721634299},null,null,{"$f":"N13","v":221},{"$f":"COUNTIF(L7:L11,T13)","v":0},{"$f":"U13/(W4-U11)","v":0},{"$f":"IF(V13=0,0,(V13*((LOG(V13))/LOG(2))))","v":0},null,{"$f":"N13","v":221},{"$f":"COUNTIF(L12:L15,Y13)","v":1},{"$f":"Z13/(AB4-Z11)","v":0.33333333333333331},{"$f":"IF(AA13=0,0,(AA13*((LOG(AA13))/LOG(2))))","v":-0.52832083357371862},null,{"$f":"N13","v":221},{"$f":"COUNTIF(L16:L20,AD13)","v":0},{"$f":"AE13/(AG4-AE11)","v":0},{"$f":"IF(AF13=0,0,(AF13*((LOG(AF13))/LOG(2))))","v":0},null,{"$f":"N13","v":221},{"$f":"COUNTIF(L21:L25,AI13)","v":0},{"$f":"AJ13/(AL4-AJ11)","v":0},{"$f":"IF(AK13=0,0,(AK13*((LOG(AK13))/LOG(2))))","v":0},null,{"$f":"N13","v":221},{"$f":"COUNTIF(L26:L29,AN13)","v":0},{"$f":"AO13/(AQ4-AO11)","v":0},{"$f":"IF(AP13=0,0,(AP13*((LOG(AP13))/LOG(2))))","v":0},null,{"$f":"N13","v":221},{"$f":"COUNTIF(L30:L34,AS13)","v":0},{"$f":"AT13/(AV4-AT11)","v":0},{"$f":"IF(AU13=0,0,(AU13*((LOG(AU13))/LOG(2))))","v":0}]
[21,2068,22,2078,24,2085,null,null,null,null,0,222,null,222,{"$f":"COUNTIF($L$7:$L$500,N14)","v":10},{"$f":"O14/$Q$4","v":0.35714285714285715},{"$f":"IF(P14=0,0,(P14*((LOG(P14))/LOG(2))))","v":-0.53050958113222924},null,null,{"$f":"N14","v":222},{"$f":"COUNTIF(L7:L11,T14)","v":1},{"$f":"U14/(W4-U11)","v":0.25},{"$f":"IF(V14=0,0,(V14*((LOG(V14))/LOG(2))))","v":-0.5},null,{"$f":"N14","v":222},{"$f":"COUNTIF(L12:L15,Y14)","v":2},{"$f":"Z14/(AB4-Z11)","v":0.66666666666666663},{"$f":"IF(AA14=0,0,(AA14*((LOG(AA14))/LOG(2))))","v":-0.38997500048077083},null,{"$f":"N14","v":222},{"$f":"COUNTIF(L16:L20,AD14)","v":2},{"$f":"AE14/(AG4-AE11)","v":0.4},{"$f":"IF(AF14=0,0,(AF14*((LOG(AF14))/LOG(2))))","v":-0.52877123795494496},null,{"$f":"N14","v":222},{"$f":"COUNTIF(L21:L25,AI14)","v":3},{"$f":"AJ14/(AL4-AJ11)","v":0.6},{"$f":"IF(AK14=0,0,(AK14*((LOG(AK14))/LOG(2))))","v":-0.44217935649972373},null,{"$f":"N14","v":222},{"$f":"COUNTIF(L26:L29,AN14)","v":0},{"$f":"AO14/(AQ4-AO11)","v":0},{"$f":"IF(AP14=0,0,(AP14*((LOG(AP14))/LOG(2))))","v":0},null,{"$f":"N14","v":222},{"$f":"COUNTIF(L30:L34,AS14)","v":2},{"$f":"AT14/(AV4-AT11)","v":0.4},{"$f":"IF(AU14=0,0,(AU14*((LOG(AU14))/LOG(2))))","v":-0.52877123795494496}]
[21,2229,22,2233,13,2245,null,null,null,null,0,221,null,null,null,{"$f":"SUM(P7:P14)","v":1},{"$f":"-SUM(Q7:Q14)","v":1.9047467522760364},null,null,null,null,{"$f":"SUM(V7:V14)","v":1},{"$f":"-SUM(W7:W14)","v":1.5},null,null,null,{"$f":"SUM(AA7:AA14)","v":1},{"$f":"-SUM(AB7:AB14)","v":0.91829583405448945},null,null,null,{"$f":"SUM(AF7:AF14)","v":1},{"$f":"-SUM(AG7:AG14)","v":1.5219280948873624},null,null,null,{"$f":"SUM(AK7:AK14)","v":1},{"$f":"-SUM(AL7:AL14)","v":1.3709505944546687},null,null,null,{"$f":"SUM(AP7:AP14)","v":1},{"$f":"-SUM(AQ7:AQ14)","v":0},null,null,null,{"$f":"SUM(AU7:AU14)","v":1},{"$f":"-SUM(AV7:AV14)","v":0.97095059445466869}]
[12,2833,13,2843,13,2857,null,null,null,null,0,111,null,null,null,"U=",{"$f":"Q15/(LOG(Q4)/LOG(2))","v":0.39621512935033776},null,null,null,null,"U1=",{"$f":"W15/(LOG(W4)/LOG(2))","v":0.64601483711008945},null,null,null,"U2=",{"$f":"AB15/(LOG(AB4)/LOG(2))","v":0.45914791702724472},null,null,null,"U3=",{"$f":"AG15/(LOG(AG4)/LOG(2))","v":0.65545875354128547},null,null,null,"U4=",{"$f":"AL15/(LOG(AL4)/LOG(2))","v":0.5904362833084088},null,null,null,"U5=",{"$f":"AQ15/(LOG(AQ4)/LOG(2))","v":0},null,null,null,"U6=",{"$f":"AV15/(LOG(AV4)/LOG(2))","v":0.41816566007905159}]
[21,3436,22,3442,24,3449,null,null,null,null,0,222]
[21,3670,22,3795,24,3798,null,null,null,null,0,222]
[12,7130,13,7139,24,7174,null,null,null,null,0,112,null,"Total Target Seq"]
[12,7875,13,7880,24,7887,null,null,null,null,0,112,null,{"$f":"COUNTIF(L7:L34,G3)","v":2},null,5,4,5,5,4,5]
[21,8419,22,8425,24,8432,null,null,null,null,0,222,null,null,null,"% of reinforcement given in 6 equal intervals based on number of trials "]
[21,12257,22,12260,24,12266,null,null,null,null,0,222,null,null,null,"%_1","%_2","%_3","%_4","%_5","%_6"]
[12,15689,13,15694,24,15708,null,null,null,null,0,112,null,null,"target sequence",{"$f":"$G$3","v":211},{"$f":"$G$3","v":211},{"$f":"$G$3","v":211},{"$f":"$G$3","v":211},{"$f":"$G$3","v":211},{"$f":"$G$3","v":211}]
[12,15910,13,15916,13,15923,null,null,null,null,0,111,null,null,"total reinforcement",{"$f":"U11","v":1},{"$f":"Z11","v":1},{"$f":"AE11","v":0},{"$f":"AJ11","v":0},{"$f":"AO11","v":0},{"$f":"AT11","v":0}]
[21,16098,22,16101,24,16106,null,null,null,null,0,222,null,null,"% target"]
[12,16224,13,16228,13,16241,null,null,null,null,0,111,null,null,"CCRF"]
[12,16734,13,16739,13,16745,null,null,null,null,0,111,null,null,"% CCRf"]
[12,17653,13,17659,13,17665,null,null,null,null,0,111,null,null,"average response rate",{"$f":"F11/P20","v":302.60000000000002},{"$f":"(F15-F11)/Q20","v":183},{"$f":"(F20-F15)/R20","v":1128.4000000000001},{"$f":"(F25-F20)/S20","v":1643.8},{"$f":"(F29-F25)/T20","v":486.75},{"$f":"(F34-F29)/U20","v":755.4}]
[12,18037,13,18042,13,18053,null,null,null,null,0,111]
[21,18504,22,18513,24,18521,null,null,null,null,0,222]
[12,18662,13,18667,13,18673,null,null,null,null,0,111]
[12,18828,13,18839,13,18847,null,null,null,null,0,111]
[12,19207,13,19212,13,19219,null,null,null,null,0,111]
[21,21815,22,21822,24,21830,null,null,null,null,0,222]

{"sheet":"!MA14A0D.ust","index":21,"n_rows":91,"n_cols":48,"rows_kept":91,"cut":false,"hidden":false,"merged":[[4,39,4,42],[5,39,5,40],[4,44,4,47],[5,44,5,45],[4,24,4,27],[5,24,5,25],[4,29,4,32],[5,29,5,30],[4,34,4,37],[5,34,5,35],[1,1,1,2],[5,13,5,14],[18,13,18,14],[19,13,19,14],[4,19,4,22],[5,19,5,20]]}
["Report for:!MA14A0D.ust"]
["Date:","<date>"]
["Hen:","<hen>",null,null,null,"Correct Sequence",{"$f":"Start!J2","v":211},null,null,null,null,null,null,null,null,"Total Sequences in Data",{"$f":"4994-COUNTBLANK(L7:L5000)","v":85},null,null,null,null,"Total Sequences in Block Data",{"$f":"COUNTA(L7:L20)","v":14},null,null,null,"Total Sequences in Block Data",{"$f":"COUNTA(L21:L34)","v":14},null,null,null,"Total Sequences in Block Data",{"$f":"COUNTA(L35:L49)","v":15},null,null,null,"Total Sequences in Block Data",{"$f":"COUNTA(L50:L63)","v":14},null,null,null,"Total Sequences in Block Data",{"$f":"COUNTA(L64:L77)","v":14},null,null,null,"Total Sequences in Block Data",{"$f":"COUNTA(L78:L91)","v":14}]
[null,null,null,null,null,null,null,null,null,null,null,null,null,null,null,"Total Sequences in Summary",{"$f":"SUM(O7:O14)","v":85},null,null,null,null,"Total Sequences in Block Summary",{"$f":"SUM(U7:U14)","v":14},null,null,null,"Total Sequences in Block Summary",{"$f":"SUM(Z7:Z14)","v":14},null,null,null,"Total Sequences in Block Summary",{"$f":"SUM(AE7:AE14)","v":15},null,null,null,"Total Sequences in Block Summary",{"$f":"SUM(AJ7:AJ14)","v":14},null,null,null,"Total Sequences in Block Summary",{"$f":"SUM(AO7:AO14)","v":14},null,null,null,"Total Sequences in Block Summary",{"$f":"SUM(AT7:AT14)","v":14}]
[null,null,null,null,null,null,null,null,null,null,null,null,null,null,null,null,null,null,null,"Block 1",null,null,null,null,"Block 2",null,null,null,null,"Block 3",null,null,null,null,"Block 4",null,null,null,null,"Block 5",null,null,null,null,"Block 6"]
["Sequence\nComponent\n1","Time\n1","Sequence\nComponent\n2","Time\n2","Sequence\nComponent\n3","Time\n3","Sequence\nComponent\n4","Time\n4","Sequence\nComponent\n5","Time\n5","Correct?\n0=No 1=Yes","Sequence",null,"Frequency",null,"Relative Frequency","Variability",null,null,"Frequency",null,"Relative Frequency","Variability",null,"Frequency",null,"Relative Frequency","Variability",null,"Frequency",null,"Relative Frequency","Variability",null,"Frequency",null,"Relative Frequency","Variability",null,"Frequency",null,"Relative Frequency","Variability",null,"Frequency",null,"Relative Frequency","Variability"]
[21,11,11,25,11,30,null,null,null,null,0,211,null,111,{"$f":"COUNTIF($L$7:$L$500,N7)","v":28},{"$f":"O7/$Q$4","v":0.32941176470588235},{"$f":"IF(P7=0,0,(P7*((LOG(P7))/LOG(2))))","v":-0.52772951052050276},null,null,{"$f":"N7","v":111},{"$f":"COUNTIF(L7:L20,T7)","v":5},{"$f":"U7/(W4-U11)","v":0.83333333333333337},{"$f":"IF(V7=0,0,(V7*((LOG(V7))/LOG(2))))","v":-0.21919533819482812},null,{"$f":"N7","v":111},{"$f":"COUNTIF(L21:L34,Y7)","v":4},{"$f":"Z7/(AB4-Z11)","v":0.44444444444444442},{"$f":"IF(AA7=0,0,(AA7*((LOG(AA7))/LOG(2))))","v":-0.51996666730769447},null,{"$f":"N7","v":111},{"$f":"COUNTIF(L35:L49,AD7)","v":4},{"$f":"AE7/(AG4-AE11)","v":0.26666666666666666},{"$f":"IF(AF7=0,0,(AF7*((LOG(AF7))/LOG(2))))","v":-0.50850415882893829},null,{"$f":"N7","v":111},{"$f":"COUNTIF(L50:L63,AI7)","v":1},{"$f":"AJ7/(AL4-AJ11)","v":0.5},{"$f":"IF(AK7=0,0,(AK7*((LOG(AK7))/LOG(2))))","v":-0.5},null,{"$f":"N7","v":111},{"$f":"COUNTIF(L64:L77,AN7)","v":9},{"$f":"AO7/(AQ4-AO11)","v":0.69230769230769229},{"$f":"IF(AP7=0,0,(AP7*((LOG(AP7))/LOG(2))))","v":-0.36727941925300139},null,{"$f":"N7","v":111},{"$f":"COUNTIF(L78:L91,AS7)","v":5},{"$f":"AT7/(AV4-AT11)","v":0.41666666666666669},{"$f":"IF(AU7=0,0,(AU7*((LOG(AU7))/LOG(2))))","v":-0.52626433576408083}]
[21,162,11,178,11,206,null,null,null,null,0,211,null,112,{"$f":"COUNTIF($L$7:$L$500,N8)","v":3},{"$f":"O8/$Q$4","v":3.5294117647058823E-2},{"$f":"IF(P8=0,0,(P8*((LOG(P8))/LOG(2))))","v":-0.17027394477940749},null,null,{"$f":"N8","v":112},{"$f":"COUNTIF(L7:L20,T8)","v":0},{"$f":"U8/(W4-U11)","v":0},{"$f":"IF(V8=0,0,(V8*((LOG(V8))/LOG(2))))","v":0},null,{"$f":"N8","v":112},{"$f":"COUNTIF(L21:L34,Y8)","v":1},{"$f":"Z8/(AB4-Z11)","v":0.1111111111111111},{"$f":"IF(AA8=0,0,(AA8*((LOG(AA8))/LOG(2))))","v":-0.3522138890491458},null,{"$f":"N8","v":112},{"$f":"COUNTIF(L35:L49,AD8)","v":0},{"$f":"AE8/(AG4-AE11)","v":0},{"$f":"IF(AF8=0,0,(AF8*((LOG(AF8))/LOG(2))))","v":0},null,{"$f":"N8","v":112},{"$f":"COUNTIF(L50:L63,AI8)","v":0},{"$f":"AJ8/(AL4-AJ11)","v":0},{"$f":"IF(AK8=0,0,(AK8*((LOG(AK8))/LOG(2))))","v":0},null,{"$f":"N8","v":112},{"$f":"COUNTIF(L64:L77,AN8)","v":2},{"$f":"AO8/(AQ4-AO11)","v":0.15384615384615385},{"$f":"IF(AP8=0,0,(AP8*((LOG(AP8))/LOG(2))))","v":-0.4154522643293988},null,{"$f":"N8","v":112},{"$f":"COUNTIF(L78:L91,AS8)","v":0},{"$f":"AT8/(AV4-AT11)","v":0},{"$f":"IF(AU8=0,0,(AU8*((LOG(AU8))/LOG(2))))","v":0}]
[21,350,11,362,11,371,null,null,null,null,0,211,null,121,{"$f":"COUNTIF($L$7:$L$500,N9)","v":0},{"$f":"O9/$Q$4","v":0},{"$f":"IF(P9=0,0,(P9*((LOG(P9))/LOG(2))))","v":0},null,null,{"$f":"N9","v":121},{"$f":"COUNTIF(L7:L20,T9)","v":0},{"$f":"U9/(W4-U11)","v":0},{"$f":"IF(V9=0,0,(V9*((LOG(V9))/LOG(2))))","v":0},null,{"$f":"N9","v":121},{"$f":"COUNTIF(L21:L34,Y9)","v":0},{"$f":"Z9/(AB4-Z11)","v":0},{"$f":"IF(AA9=0,0,(AA9*((LOG(AA9))/LOG(2))))","v":0},null,{"$f":"N9","v":121},{"$f":"COUNTIF(L35:L49,AD9)","v":0},{"$f":"AE9/(AG4-AE11)","v":0},{"$f":"IF(AF9=0,0,(AF9*((LOG(AF9))/LOG(2))))","v":0},null,{"$f":"N9","v":121},{"$f":"COUNTIF(L50:L63,AI9)","v":0},{"$f":"AJ9/(AL4-AJ11)","v":0},{"$f":"IF(AK9=0,0,(AK9*((LOG(AK9))/LOG(2))))","v":0},null,{"$f":"N9","v":121},{"$f":"COUNTIF(L64:L77,AN9)","v":0},{"$f":"AO9/(AQ4-AO11)","v":0},{"$f":"IF(AP9=0,0,(AP9*((LOG(AP9))/LOG(2))))","v":0},null,{"$f":"N9","v":121},{"$f":"COUNTIF(L78:L91,AS9)","v":0},{"$f":"AT9/(AV4-AT11)","v":0},{"$f":"IF(AU9=0,0,(AU9*((LOG(AU9))/LOG(2))))","v":0}]
[12,494,13,499,13,508,null,null,null,null,0,111,null,122,{"$f":"COUNTIF($L$7:$L$500,N10)","v":2},{"$f":"O10/$Q$4","v":2.3529411764705882E-2},{"$f":"IF(P10=0,0,(P10*((LOG(P10))/LOG(2))))","v":-0.12727978673265181},null,null,{"$f":"N10","v":122},{"$f":"COUNTIF(L7:L20,T10)","v":0},{"$f":"U10/(W4-U11)","v":0},{"$f":"IF(V10=0,0,(V10*((LOG(V10))/LOG(2))))","v":0},null,{"$f":"N10","v":122},{"$f":"COUNTIF(L21:L34,Y10)","v":0},{"$f":"Z10/(AB4-Z11)","v":0},{"$f":"IF(AA10=0,0,(AA10*((LOG(AA10))/LOG(2))))","v":0},null,{"$f":"N10","v":122},{"$f":"COUNTIF(L35:L49,AD10)","v":1},{"$f":"AE10/(AG4-AE11)","v":6.6666666666666666E-2},{"$f":"IF(AF10=0,0,(AF10*((LOG(AF10))/LOG(2))))","v":-0.26045937304056793},null,{"$f":"N10","v":122},{"$f":"COUNTIF(L50:L63,AI10)","v":0},{"$f":"AJ10/(AL4-AJ11)","v":0},{"$f":"IF(AK10=0,0,(AK10*((LOG(AK10))/LOG(2))))","v":0},null,{"$f":"N10","v":122},{"$f":"COUNTIF(L64:L77,AN10)","v":0},{"$f":"AO10/(AQ4-AO11)","v":0},{"$f":"IF(AP10=0,0,(AP10*((LOG(AP10))/LOG(2))))","v":0},null,{"$f":"N10","v":122},{"$f":"COUNTIF(L78:L91,AS10)","v":1},{"$f":"AT10/(AV4-AT11)","v":8.3333333333333329E-2},{"$f":"IF(AU10=0,0,(AU10*((LOG(AU10))/LOG(2))))","v":-0.29874687506009634}]
[12,770,13,775,13,780,null,null,null,null,0,111,null,211,{"$f":"COUNTIF($L$7:$L$500,N11)","v":28},{"$f":"O11/$Q$4","v":0.32941176470588235},{"$f":"IF(P11=0,0,(P11*((LOG(P11))/LOG(2))))","v":-0.52772951052050276},null,null,{"$f":"N11","v":211},{"$f":"COUNTIF(L7:L20,T11)","v":8},null,null,null,{"$f":"N11","v":211},{"$f":"COUNTIF(L21:L34,Y11)","v":5},null,null,null,{"$f":"N11","v":211},{"$f":"COUNTIF(L35:L49,AD11)","v":0},null,null,null,{"$f":"N11","v":211},{"$f":"COUNTIF(L50:L63,AI11)","v":12},null,null,null,{"$f":"N11","v":211},{"$f":"COUNTIF(L64:L77,AN11)","v":1},null,null,null,{"$f":"N11","v":211},{"$f":"COUNTIF(L78:L91,AS11)","v":2}]
[12,940,13,945,13,955,null,null,null,null,0,111,null,212,{"$f":"COUNTIF($L$7:$L$500,N12)","v":1},{"$f":"O12/$Q$4","v":1.1764705882352941E-2},{"$f":"IF(P12=0,0,(P12*((LOG(P12))/LOG(2))))","v":-7.5404599248678844E-2},null,null,{"$f":"N12","v":212},{"$f":"COUNTIF(L7:L20,T12)","v":0},{"$f":"U12/(W4-U11)","v":0},{"$f":"IF(V12=0,0,(V12*((LOG(V12))/LOG(2))))","v":0},null,{"$f":"N12","v":212},{"$f":"COUNTIF(L21:L34,Y12)","v":0},{"$f":"Z12/(AB4-Z11)","v":0},{"$f":"IF(AA12=0,0,(AA12*((LOG(AA12))/LOG(2))))","v":0},null,{"$f":"N12","v":212},{"$f":"COUNTIF(L35:L49,AD12)","v":1},{"$f":"AE12/(AG4-AE11)","v":6.6666666666666666E-2},{"$f":"IF(AF12=0,0,(AF12*((LOG(AF12))/LOG(2))))","v":-0.26045937304056793},null,{"$f":"N12","v":212},{"$f":"COUNTIF(L50:L63,AI12)","v":0},{"$f":"AJ12/(AL4-AJ11)","v":0},{"$f":"IF(AK12=0,0,(AK12*((LOG(AK12))/LOG(2))))","v":0},null,{"$f":"N12","v":212},{"$f":"COUNTIF(L64:L77,AN12)","v":0},{"$f":"AO12/(AQ4-AO11)","v":0},{"$f":"IF(AP12=0,0,(AP12*((LOG(AP12))/LOG(2))))","v":0},null,{"$f":"N12","v":212},{"$f":"COUNTIF(L78:L91,AS12)","v":0},{"$f":"AT12/(AV4-AT11)","v":0},{"$f":"IF(AU12=0,0,(AU12*((LOG(AU12))/LOG(2))))","v":0}]
[21,1088,11,1100,11,1113,null,null,null,null,0,211,null,221,{"$f":"COUNTIF($L$7:$L$500,N13)","v":8},{"$f":"O13/$Q$4","v":9.4117647058823528E-2},{"$f":"IF(P13=0,0,(P13*((LOG(P13))/LOG(2))))","v":-0.32088385281296017},null,null,{"$f":"N13","v":221},{"$f":"COUNTIF(L7:L20,T13)","v":1},{"$f":"U13/(W4-U11)","v":0.16666666666666666},{"$f":"IF(V13=0,0,(V13*((LOG(V13))/LOG(2))))","v":-0.43082708345352599},null,{"$f":"N13","v":221},{"$f":"COUNTIF(L21:L34,Y13)","v":4},{"$f":"Z13/(AB4-Z11)","v":0.44444444444444442},{"$f":"IF(AA13=0,0,(AA13*((LOG(AA13))/LOG(2))))","v":-0.51996666730769447},null,{"$f":"N13","v":221},{"$f":"COUNTIF(L35:L49,AD13)","v":1},{"$f":"AE13/(AG4-AE11)","v":6.6666666666666666E-2},{"$f":"IF(AF13=0,0,(AF13*((LOG(AF13))/LOG(2))))","v":-0.26045937304056793},null,{"$f":"N13","v":221},{"$f":"COUNTIF(L50:L63,AI13)","v":0},{"$f":"AJ13/(AL4-AJ11)","v":0},{"$f":"IF(AK13=0,0,(AK13*((LOG(AK13))/LOG(2))))","v":0},null,{"$f":"N13","v":221},{"$f":"COUNTIF(L64:L77,AN13)","v":2},{"$f":"AO13/(AQ4-AO11)","v":0.15384615384615385},{"$f":"IF(AP13=0,0,(AP13*((LOG(AP13))/LOG(2))))","v":-0.4154522643293988},null,{"$f":"N13","v":221},{"$f":"COUNTIF(L78:L91,AS13)","v":0},{"$f":"AT13/(AV4-AT11)","v":0},{"$f":"IF(AU13=0,0,(AU13*((LOG(AU13))/LOG(2))))","v":0}]
[21,1263,11,1273,11,1281,null,null,null,null,0,211,null,222,{"$f":"COUNTIF($L$7:$L$500,N14)","v":15},{"$f":"O14/$Q$4","v":0.17647058823529413},{"$f":"IF(P14=0,0,(P14*((LOG(P14))/LOG(2))))","v":-0.44161770715220888},null,null,{"$f":"N14","v":222},{"$f":"COUNTIF(L7:L20,T14)","v":0},{"$f":"U14/(W4-U11)","v":0},{"$f":"IF(V14=0,0,(V14*((LOG(V14))/LOG(2))))","v":0},null,{"$f":"N14","v":222},{"$f":"COUNTIF(L21:L34,Y14)","v":0},{"$f":"Z14/(AB4-Z11)","v":0},{"$f":"IF(AA14=0,0,(AA14*((LOG(AA14))/LOG(2))))","v":0},null,{"$f":"N14","v":222},{"$f":"COUNTIF(L35:L49,AD14)","v":8},{"$f":"AE14/(AG4-AE11)","v":0.53333333333333333},{"$f":"IF(AF14=0,0,(AF14*((LOG(AF14))/LOG(2))))","v":-0.4836749843245432},null,{"$f":"N14","v":222},{"$f":"COUNTIF(L50:L63,AI14)","v":1},{"$f":"AJ14/(AL4-AJ11)","v":0.5},{"$f":"IF(AK14=0,0,(AK14*((LOG(AK14))/LOG(2))))","v":-0.5},null,{"$f":"N14","v":222},{"$f":"COUNTIF(L64:L77,AN14)","v":0},{"$f":"AO14/(AQ4-AO11)","v":0},{"$f":"IF(AP14=0,0,(AP14*((LOG(AP14))/LOG(2))))","v":0},null,{"$f":"N14","v":222},{"$f":"COUNTIF(L78:L91,AS14)","v":6},{"$f":"AT14/(AV4-AT11)","v":0.5},{"$f":"IF(AU14=0,0,(AU14*((LOG(AU14))/LOG(2))))","v":-0.5}]
[21,1561,11,1570,11,1574,null,null,null,null,0,211,null,null,null,{"$f":"SUM(P7:P14)","v":0.99999999999999989},{"$f":"-SUM(Q7:Q14)","v":2.1909189117669126},null,null,null,null,{"$f":"SUM(V7:V14)","v":1},{"$f":"-SUM(W7:W14)","v":0.65002242164835411},null,null,null,{"$f":"SUM(AA7:AA14)","v":1},{"$f":"-SUM(AB7:AB14)","v":1.3921472236645349},null,null,null,{"$f":"SUM(AF7:AF14)","v":1},{"$f":"-SUM(AG7:AG14)","v":1.7735572622751854},null,null,null,{"$f":"SUM(AK7:AK14)","v":1},{"$f":"-SUM(AL7:AL14)","v":1},null,null,null,{"$f":"SUM(AP7:AP14)","v":1},{"$f":"-SUM(AQ7:AQ14)","v":1.1981839479117991},null,null,null,{"$f":"SUM(AU7:AU14)","v":1},{"$f":"-SUM(AV7:AV14)","v":1.3250112108241772}]
[21,1803,11,1812,11,1821,null,null,null,null,0,211,null,null,null,"U=",{"$f":"Q15/(LOG(Q4)/LOG(2))","v":0.34182950199120793},null,null,null,null,"U1=",{"$f":"W15/(LOG(W4)/LOG(2))","v":0.17072808680969079},null,null,null,"U2=",{"$f":"AB15/(LOG(AB4)/LOG(2))","v":0.36564682099881002},null,null,null,"U3=",{"$f":"AG15/(LOG(AG4)/LOG(2))","v":0.45395621373906031},null,null,null,"U4=",{"$f":"AL15/(LOG(AL4)/LOG(2))","v":0.26264953503719357},null,null,null,"U5=",{"$f":"AQ15/(LOG(AQ4)/LOG(2))","v":0.31470245680806297},null,null,null,"U6=",{"$f":"AV15/(LOG(AV4)/LOG(2))","v":0.34801357844203901}]
[12,2034,13,2037,13,2041,null,null,null,null,0,111]
[12,2155,13,2164,13,2170,null,null,null,null,0,111]
[21,2263,22,2268,13,2277,null,null,null,null,0,221,null,"Total Target Seq"]
[21,2400,11,2411,11,2414,null,null,null,null,0,211,null,{"$f":"COUNTIF(L7:L91,G3)","v":28},null,14,14,15,14,14,14]
[12,2606,13,2615,13,2631,null,null,null,null,0,111,null,null,null,"% of reinforcement given in 6 equal intervals based on number of trials "]
[12,2806,13,2813,13,2825,null,null,null,null,0,111,null,null,null,"%_1","%_2","%_3","%_4","%_5","%_6"]
[21,2917,22,2922,13,2933,null,null,null,null,0,221,null,null,"target sequence",{"$f":"$G$3","v":211},{"$f":"$G$3","v":211},{"$f":"$G$3","v":211},{"$f":"$G$3","v":211},{"$f":"$G$3","v":211},{"$f":"$G$3","v":211}]
[21,3035,11,3044,11,3052,null,null,null,null,0,211,null,null,"total reinforcement",{"$f":"U11","v":8},{"$f":"Z11","v":5},{"$f":"AE11","v":0},{"$f":"AJ11","v":12},{"$f":"AO11","v":1},{"$f":"AT11","v":2}]
[21,3830,11,3841,11,3846,null,null,null,null,0,211,null,null,"% target"]
[21,4056,11,4066,11,4073,null,null,null,null,0,211,null,null,"CCRF"]
[21,4242,11,4251,11,4264,null,null,null,null,0,211,null,null,"% CCRf"]
[12,4416,13,4420,13,4432,null,null,null,null,0,111,null,null,"average response rate",{"$f":"F20/P20","v":172.42857142857142},{"$f":"(F34-F20)/Q20","v":214},{"$f":"(F49-F34)/R20","v":406},{"$f":"(F63-F49)/S20","v":171.78571428571428},{"$f":"(F77-F63)/T20","v":335.78571428571428},{"$f":"(F91-F77)/U20","v":352.14285714285717}]
[21,4721,22,4724,13,4734,null,null,null,null,0,221]
[21,4831,22,4838,13,4848,null,null,null,null,0,221]
[12,4947,13,4955,24,4971,null,null,null,null,0,112]
[12,5085,13,5087,13,5089,null,null,null,null,0,111]
[21,5209,22,5213,13,5227,null,null,null,null,0,221]
[21,5389,11,5402,11,5410,null,null,null,null,0,211]
[12,6933,13,6945,13,6957,null,null,null,null,0,111]
[12,7366,13,7369,13,7378,null,null,null,null,0,111]
[21,7867,22,7875,24,7882,null,null,null,null,0,222]
[21,8141,22,8147,24,8152,null,null,null,null,0,222]
[21,8733,22,8740,24,8747,null,null,null,null,0,222]
[21,9237,22,9242,24,9248,null,null,null,null,0,222]
[21,9675,22,9683,24,9689,null,null,null,null,0,222]
[21,9869,22,9877,24,9884,null,null,null,null,0,222]
[21,10023,11,10038,22,10047,null,null,null,null,0,212]
[12,10490,13,10494,13,10501,null,null,null,null,0,111]
[21,10640,22,10645,13,10661,null,null,null,null,0,221]
[12,10895,13,10901,13,10907,null,null,null,null,0,111]
[21,11050,22,11060,24,11066,null,null,null,null,0,222]
[21,11203,22,11209,24,11215,null,null,null,null,0,222]
[12,11472,24,11488,24,11500,null,null,null,null,0,122]
[21,11616,11,11630,11,11648,null,null,null,null,0,211]
[21,11774,11,11786,11,11798,null,null,null,null,0,211]
[21,11950,11,11962,11,11968,null,null,null,null,0,211]
[21,12089,11,12100,11,12116,null,null,null,null,0,211]
[21,12270,11,12281,11,12287,null,null,null,null,0,211]
[21,12450,11,12461,11,12471,null,null,null,null,0,211]
[21,12730,11,12743,11,12749,null,null,null,null,0,211]
[12,12935,13,12940,13,12949,null,null,null,null,0,111]
[21,13050,11,13061,11,13065,null,null,null,null,0,211]
[21,13153,11,13166,11,13175,null,null,null,null,0,211]
[21,13272,22,13282,24,13292,null,null,null,null,0,222]
[21,13601,11,13614,11,13629,null,null,null,null,0,211]
[21,13766,11,13778,11,13781,null,null,null,null,0,211]
[21,13886,11,13896,11,13905,null,null,null,null,0,211]
[12,14055,13,14059,13,14065,null,null,null,null,0,111]
[21,14162,22,14175,13,14184,null,null,null,null,0,221]
[12,14292,13,14297,24,14306,null,null,null,null,0,112]
[12,14488,13,14492,13,14498,null,null,null,null,0,111]
[21,14617,11,14632,11,14637,null,null,null,null,0,211]
[21,14736,22,14745,13,14755,null,null,null,null,0,221]
[12,14944,13,14950,13,14955,null,null,null,null,0,111]
[12,16687,13,16692,13,16701,null,null,null,null,0,111]
[12,17224,13,17315,13,17321,null,null,null,null,0,111]
[12,17707,13,17712,13,17720,null,null,null,null,0,111]
[12,18046,13,18054,24,18063,null,null,null,null,0,112]
[12,18294,13,18300,13,18306,null,null,null,null,0,111]
[12,18432,13,18436,13,18441,null,null,null,null,0,111]
[12,18595,13,18599,13,18606,null,null,null,null,0,111]
[12,18918,13,18923,13,18929,null,null,null,null,0,111]
[21,19886,22,19890,24,19898,null,null,null,null,0,222]
[21,20529,22,20536,24,20541,null,null,null,null,0,222]
[12,20688,13,20694,13,20713,null,null,null,null,0,111]
[12,20827,13,20834,13,20840,null,null,null,null,0,111]
[21,21022,11,21033,11,21043,null,null,null,null,0,211]
[21,21153,22,21159,24,21167,null,null,null,null,0,222]
[12,21375,13,21381,13,21387,null,null,null,null,0,111]
[21,21588,22,21597,24,21602,null,null,null,null,0,222]
[12,21760,24,21770,24,21779,null,null,null,null,0,122]
[21,22231,11,22245,11,22257,null,null,null,null,0,211]
[12,22806,13,22811,13,22816,null,null,null,null,0,111]
[21,23260,22,23266,24,23273,null,null,null,null,0,222]
[21,23523,22,23530,24,23536,null,null,null,null,0,222]

{"sheet":"!MA15A4D.ust","index":22,"n_rows":66,"n_cols":48,"rows_kept":66,"cut":false,"hidden":false,"merged":[[4,39,4,42],[5,39,5,40],[4,44,4,47],[5,44,5,45],[4,24,4,27],[5,24,5,25],[4,29,4,32],[5,29,5,30],[4,34,4,37],[5,34,5,35],[1,1,1,2],[5,13,5,14],[18,13,18,14],[19,13,19,14],[4,19,4,22],[5,19,5,20]]}
["Report for:!MA15A4D.ust"]
["Date:","<date>"]
["Hen:","<hen>",null,null,null,"Correct Sequence",{"$f":"Start!J2","v":211},null,null,null,null,null,null,null,null,"Total Sequences in Data",{"$f":"4994-COUNTBLANK(L7:L5000)","v":60},null,null,null,null,"Total Sequences in Block Data",{"$f":"COUNTA(L7:L16)","v":10},null,null,null,"Total Sequences in Block Data",{"$f":"COUNTA(L17:L26)","v":10},null,null,null,"Total Sequences in Block Data",{"$f":"COUNTA(L27:L36)","v":10},null,null,null,"Total Sequences in Block Data",{"$f":"COUNTA(L37:L46)","v":10},null,null,null,"Total Sequences in Block Data",{"$f":"COUNTA(L47:L56)","v":10},null,null,null,"Total Sequences in Block Data",{"$f":"COUNTA(L57:L66)","v":10}]
[null,null,null,null,null,null,null,null,null,null,null,null,null,null,null,"Total Sequences in Summary",{"$f":"SUM(O7:O14)","v":60},null,null,null,null,"Total Sequences in Block Summary",{"$f":"SUM(U7:U14)","v":10},null,null,null,"Total Sequences in Block Summary",{"$f":"SUM(Z7:Z14)","v":10},null,null,null,"Total Sequences in Block Summary",{"$f":"SUM(AE7:AE14)","v":10},null,null,null,"Total Sequences in Block Summary",{"$f":"SUM(AJ7:AJ14)","v":10},null,null,null,"Total Sequences in Block Summary",{"$f":"SUM(AO7:AO14)","v":10},null,null,null,"Total Sequences in Block Summary",{"$f":"SUM(AT7:AT14)","v":10}]
[null,null,null,null,null,null,null,null,null,null,null,null,null,null,null,null,null,null,null,"Block 1",null,null,null,null,"Block 2",null,null,null,null,"Block 3",null,null,null,null,"Block 4",null,null,null,null,"Block 5",null,null,null,null,"Block 6"]
["Sequence\nComponent\n1","Time\n1","Sequence\nComponent\n2","Time\n2","Sequence\nComponent\n3","Time\n3","Sequence\nComponent\n4","Time\n4","Sequence\nComponent\n5","Time\n5","Correct?\n0=No 1=Yes","Sequence",null,"Frequency",null,"Relative Frequency","Variability",null,null,"Frequency",null,"Relative Frequency","Variability",null,"Frequency",null,"Relative Frequency","Variability",null,"Frequency",null,"Relative Frequency","Variability",null,"Frequency",null,"Relative Frequency","Variability",null,"Frequency",null,"Relative Frequency","Variability",null,"Frequency",null,"Relative Frequency","Variability"]
[12,17,13,23,13,37,null,null,null,null,0,111,null,111,{"$f":"COUNTIF($L$7:$L$500,N7)","v":13},{"$f":"O7/$Q$4","v":0.21666666666666667},{"$f":"IF(P7=0,0,(P7*((LOG(P7))/LOG(2))))","v":-0.47806435678460901},null,null,{"$f":"N7","v":111},{"$f":"COUNTIF(L7:L16,T7)","v":2},{"$f":"U7/(W4-U11)","v":0.5},{"$f":"IF(V7=0,0,(V7*((LOG(V7))/LOG(2))))","v":-0.5},null,{"$f":"N7","v":111},{"$f":"COUNTIF(L17:L26,Y7)","v":2},{"$f":"Z7/(AB4-Z11)","v":0.5},{"$f":"IF(AA7=0,0,(AA7*((LOG(AA7))/LOG(2))))","v":-0.5},null,{"$f":"N7","v":111},{"$f":"COUNTIF(L27:L36,AD7)","v":3},{"$f":"AE7/(AG4-AE11)","v":0.75},{"$f":"IF(AF7=0,0,(AF7*((LOG(AF7))/LOG(2))))","v":-0.31127812445913283},null,{"$f":"N7","v":111},{"$f":"COUNTIF(L37:L46,AI7)","v":4},{"$f":"AJ7/(AL4-AJ11)","v":0.66666666666666663},{"$f":"IF(AK7=0,0,(AK7*((LOG(AK7))/LOG(2))))","v":-0.38997500048077083},null,{"$f":"N7","v":111},{"$f":"COUNTIF(L47:L56,AN7)","v":1},{"$f":"AO7/(AQ4-AO11)","v":1},{"$f":"IF(AP7=0,0,(AP7*((LOG(AP7))/LOG(2))))","v":0},null,{"$f":"N7","v":111},{"$f":"COUNTIF(L57:L66,AS7)","v":1},{"$f":"AT7/(AV4-AT11)","v":0.5},{"$f":"IF(AU7=0,0,(AU7*((LOG(AU7))/LOG(2))))","v":-0.5}]
[21,136,22,141,13,148,null,null,null,null,0,221,null,112,{"$f":"COUNTIF($L$7:$L$500,N8)","v":2},{"$f":"O8/$Q$4","v":3.3333333333333333E-2},{"$f":"IF(P8=0,0,(P8*((LOG(P8))/LOG(2))))","v":-0.16356301985361729},null,null,{"$f":"N8","v":112},{"$f":"COUNTIF(L7:L16,T8)","v":0},{"$f":"U8/(W4-U11)","v":0},{"$f":"IF(V8=0,0,(V8*((LOG(V8))/LOG(2))))","v":0},null,{"$f":"N8","v":112},{"$f":"COUNTIF(L17:L26,Y8)","v":0},{"$f":"Z8/(AB4-Z11)","v":0},{"$f":"IF(AA8=0,0,(AA8*((LOG(AA8))/LOG(2))))","v":0},null,{"$f":"N8","v":112},{"$f":"COUNTIF(L27:L36,AD8)","v":1},{"$f":"AE8/(AG4-AE11)","v":0.25},{"$f":"IF(AF8=0,0,(AF8*((LOG(AF8))/LOG(2))))","v":-0.5},null,{"$f":"N8","v":112},{"$f":"COUNTIF(L37:L46,AI8)","v":1},{"$f":"AJ8/(AL4-AJ11)","v":0.16666666666666666},{"$f":"IF(AK8=0,0,(AK8*((LOG(AK8))/LOG(2))))","v":-0.43082708345352599},null,{"$f":"N8","v":112},{"$f":"COUNTIF(L47:L56,AN8)","v":0},{"$f":"AO8/(AQ4-AO11)","v":0},{"$f":"IF(AP8=0,0,(AP8*((LOG(AP8))/LOG(2))))","v":0},null,{"$f":"N8","v":112},{"$f":"COUNTIF(L57:L66,AS8)","v":0},{"$f":"AT8/(AV4-AT11)","v":0},{"$f":"IF(AU8=0,0,(AU8*((LOG(AU8))/LOG(2))))","v":0}]
[21,253,11,262,11,267,null,null,null,null,0,211,null,121,{"$f":"COUNTIF($L$7:$L$500,N9)","v":0},{"$f":"O9/$Q$4","v":0},{"$f":"IF(P9=0,0,(P9*((LOG(P9))/LOG(2))))","v":0},null,null,{"$f":"N9","v":121},{"$f":"COUNTIF(L7:L16,T9)","v":0},{"$f":"U9/(W4-U11)","v":0},{"$f":"IF(V9=0,0,(V9*((LOG(V9))/LOG(2))))","v":0},null,{"$f":"N9","v":121},{"$f":"COUNTIF(L17:L26,Y9)","v":0},{"$f":"Z9/(AB4-Z11)","v":0},{"$f":"IF(AA9=0,0,(AA9*((LOG(AA9))/LOG(2))))","v":0},null,{"$f":"N9","v":121},{"$f":"COUNTIF(L27:L36,AD9)","v":0},{"$f":"AE9/(AG4-AE11)","v":0},{"$f":"IF(AF9=0,0,(AF9*((LOG(AF9))/LOG(2))))","v":0},null,{"$f":"N9","v":121},{"$f":"COUNTIF(L37:L46,AI9)","v":0},{"$f":"AJ9/(AL4-AJ11)","v":0},{"$f":"IF(AK9=0,0,(AK9*((LOG(AK9))/LOG(2))))","v":0},null,{"$f":"N9","v":121},{"$f":"COUNTIF(L47:L56,AN9)","v":0},{"$f":"AO9/(AQ4-AO11)","v":0},{"$f":"IF(AP9=0,0,(AP9*((LOG(AP9))/LOG(2))))","v":0},null,{"$f":"N9","v":121},{"$f":"COUNTIF(L57:L66,AS9)","v":0},{"$f":"AT9/(AV4-AT11)","v":0},{"$f":"IF(AU9=0,0,(AU9*((LOG(AU9))/LOG(2))))","v":0}]
[21,380,11,394,11,399,null,null,null,null,0,211,null,122,{"$f":"COUNTIF($L$7:$L$500,N10)","v":0},{"$f":"O10/$Q$4","v":0},{"$f":"IF(P10=0,0,(P10*((LOG(P10))/LOG(2))))","v":0},null,null,{"$f":"N10","v":122},{"$f":"COUNTIF(L7:L16,T10)","v":0},{"$f":"U10/(W4-U11)","v":0},{"$f":"IF(V10=0,0,(V10*((LOG(V10))/LOG(2))))","v":0},null,{"$f":"N10","v":122},{"$f":"COUNTIF(L17:L26,Y10)","v":0},{"$f":"Z10/(AB4-Z11)","v":0},{"$f":"IF(AA10=0,0,(AA10*((LOG(AA10))/LOG(2))))","v":0},null,{"$f":"N10","v":122},{"$f":"COUNTIF(L27:L36,AD10)","v":0},{"$f":"AE10/(AG4-AE11)","v":0},{"$f":"IF(AF10=0,0,(AF10*((LOG(AF10))/LOG(2))))","v":0},null,{"$f":"N10","v":122},{"$f":"COUNTIF(L37:L46,AI10)","v":0},{"$f":"AJ10/(AL4-AJ11)","v":0},{"$f":"IF(AK10=0,0,(AK10*((LOG(AK10))/LOG(2))))","v":0},null,{"$f":"N10","v":122},{"$f":"COUNTIF(L47:L56,AN10)","v":0},{"$f":"AO10/(AQ4-AO11)","v":0},{"$f":"IF(AP10=0,0,(AP10*((LOG(AP10))/LOG(2))))","v":0},null,{"$f":"N10","v":122},{"$f":"COUNTIF(L57:L66,AS10)","v":0},{"$f":"AT10/(AV4-AT11)","v":0},{"$f":"IF(AU10=0,0,(AU10*((LOG(AU10))/LOG(2))))","v":0}]
[21,585,22,588,24,594,null,null,null,null,0,222,null,211,{"$f":"COUNTIF($L$7:$L$500,N11)","v":39},{"$f":"O11/$Q$4","v":0.65},{"$f":"IF(P11=0,0,(P11*((LOG(P11))/LOG(2))))","v":-0.40396744488507563},null,null,{"$f":"N11","v":211},{"$f":"COUNTIF(L7:L16,T11)","v":6},null,null,null,{"$f":"N11","v":211},{"$f":"COUNTIF(L17:L26,Y11)","v":6},null,null,null,{"$f":"N11","v":211},{"$f":"COUNTIF(L27:L36,AD11)","v":6},null,null,null,{"$f":"N11","v":211},{"$f":"COUNTIF(L37:L46,AI11)","v":4},null,null,null,{"$f":"N11","v":211},{"$f":"COUNTIF(L47:L56,AN11)","v":9},null,null,null,{"$f":"N11","v":211},{"$f":"COUNTIF(L57:L66,AS11)","v":8}]
[21,725,11,735,11,756,null,null,null,null,0,211,null,212,{"$f":"COUNTIF($L$7:$L$500,N12)","v":0},{"$f":"O12/$Q$4","v":0},{"$f":"IF(P12=0,0,(P12*((LOG(P12))/LOG(2))))","v":0},null,null,{"$f":"N12","v":212},{"$f":"COUNTIF(L7:L16,T12)","v":0},{"$f":"U12/(W4-U11)","v":0},{"$f":"IF(V12=0,0,(V12*((LOG(V12))/LOG(2))))","v":0},null,{"$f":"N12","v":212},{"$f":"COUNTIF(L17:L26,Y12)","v":0},{"$f":"Z12/(AB4-Z11)","v":0},{"$f":"IF(AA12=0,0,(AA12*((LOG(AA12))/LOG(2))))","v":0},null,{"$f":"N12","v":212},{"$f":"COUNTIF(L27:L36,AD12)","v":0},{"$f":"AE12/(AG4-AE11)","v":0},{"$f":"IF(AF12=0,0,(AF12*((LOG(AF12))/LOG(2))))","v":0},null,{"$f":"N12","v":212},{"$f":"COUNTIF(L37:L46,AI12)","v":0},{"$f":"AJ12/(AL4-AJ11)","v":0},{"$f":"IF(AK12=0,0,(AK12*((LOG(AK12))/LOG(2))))","v":0},null,{"$f":"N12","v":212},{"$f":"COUNTIF(L47:L56,AN12)","v":0},{"$f":"AO12/(AQ4-AO11)","v":0},{"$f":"IF(AP12=0,0,(AP12*((LOG(AP12))/LOG(2))))","v":0},null,{"$f":"N12","v":212},{"$f":"COUNTIF(L57:L66,AS12)","v":0},{"$f":"AT12/(AV4-AT11)","v":0},{"$f":"IF(AU12=0,0,(AU12*((LOG(AU12))/LOG(2))))","v":0}]
[12,899,13,903,13,915,null,null,null,null,0,111,null,221,{"$f":"COUNTIF($L$7:$L$500,N13)","v":5},{"$f":"O13/$Q$4","v":8.3333333333333329E-2},{"$f":"IF(P13=0,0,(P13*((LOG(P13))/LOG(2))))","v":-0.29874687506009634},null,null,{"$f":"N13","v":221},{"$f":"COUNTIF(L7:L16,T13)","v":1},{"$f":"U13/(W4-U11)","v":0.25},{"$f":"IF(V13=0,0,(V13*((LOG(V13))/LOG(2))))","v":-0.5},null,{"$f":"N13","v":221},{"$f":"COUNTIF(L17:L26,Y13)","v":2},{"$f":"Z13/(AB4-Z11)","v":0.5},{"$f":"IF(AA13=0,0,(AA13*((LOG(AA13))/LOG(2))))","v":-0.5},null,{"$f":"N13","v":221},{"$f":"COUNTIF(L27:L36,AD13)","v":0},{"$f":"AE13/(AG4-AE11)","v":0},{"$f":"IF(AF13=0,0,(AF13*((LOG(AF13))/LOG(2))))","v":0},null,{"$f":"N13","v":221},{"$f":"COUNTIF(L37:L46,AI13)","v":1},{"$f":"AJ13/(AL4-AJ11)","v":0.16666666666666666},{"$f":"IF(AK13=0,0,(AK13*((LOG(AK13))/LOG(2))))","v":-0.43082708345352599},null,{"$f":"N13","v":221},{"$f":"COUNTIF(L47:L56,AN13)","v":0},{"$f":"AO13/(AQ4-AO11)","v":0},{"$f":"IF(AP13=0,0,(AP13*((LOG(AP13))/LOG(2))))","v":0},null,{"$f":"N13","v":221},{"$f":"COUNTIF(L57:L66,AS13)","v":1},{"$f":"AT13/(AV4-AT11)","v":0.5},{"$f":"IF(AU13=0,0,(AU13*((LOG(AU13))/LOG(2))))","v":-0.5}]
[21,1013,11,1026,11,1030,null,null,null,null,0,211,null,222,{"$f":"COUNTIF($L$7:$L$500,N14)","v":1},{"$f":"O14/$Q$4","v":1.6666666666666666E-2},{"$f":"IF(P14=0,0,(P14*((LOG(P14))/LOG(2))))","v":-9.8448176593475309E-2},null,null,{"$f":"N14","v":222},{"$f":"COUNTIF(L7:L16,T14)","v":1},{"$f":"U14/(W4-U11)","v":0.25},{"$f":"IF(V14=0,0,(V14*((LOG(V14))/LOG(2))))","v":-0.5},null,{"$f":"N14","v":222},{"$f":"COUNTIF(L17:L26,Y14)","v":0},{"$f":"Z14/(AB4-Z11)","v":0},{"$f":"IF(AA14=0,0,(AA14*((LOG(AA14))/LOG(2))))","v":0},null,{"$f":"N14","v":222},{"$f":"COUNTIF(L27:L36,AD14)","v":0},{"$f":"AE14/(AG4-AE11)","v":0},{"$f":"IF(AF14=0,0,(AF14*((LOG(AF14))/LOG(2))))","v":0},null,{"$f":"N14","v":222},{"$f":"COUNTIF(L37:L46,AI14)","v":0},{"$f":"AJ14/(AL4-AJ11)","v":0},{"$f":"IF(AK14=0,0,(AK14*((LOG(AK14))/LOG(2))))","v":0},null,{"$f":"N14","v":222},{"$f":"COUNTIF(L47:L56,AN14)","v":0},{"$f":"AO14/(AQ4-AO11)","v":0},{"$f":"IF(AP14=0,0,(AP14*((LOG(AP14))/LOG(2))))","v":0},null,{"$f":"N14","v":222},{"$f":"COUNTIF(L57:L66,AS14)","v":0},{"$f":"AT14/(AV4-AT11)","v":0},{"$f":"IF(AU14=0,0,(AU14*((LOG(AU14))/LOG(2))))","v":0}]
[21,1169,11,1180,11,1187,null,null,null,null,0,211,null,null,null,{"$f":"SUM(P7:P14)","v":1},{"$f":"-SUM(Q7:Q14)","v":1.4427898731768736},null,null,null,null,{"$f":"SUM(V7:V14)","v":1},{"$f":"-SUM(W7:W14)","v":1.5},null,null,null,{"$f":"SUM(AA7:AA14)","v":1},{"$f":"-SUM(AB7:AB14)","v":1},null,null,null,{"$f":"SUM(AF7:AF14)","v":1},{"$f":"-SUM(AG7:AG14)","v":0.81127812445913283},null,null,null,{"$f":"SUM(AK7:AK14)","v":0.99999999999999989},{"$f":"-SUM(AL7:AL14)","v":1.2516291673878228},null,null,null,{"$f":"SUM(AP7:AP14)","v":1},{"$f":"-SUM(AQ7:AQ14)","v":0},null,null,null,{"$f":"SUM(AU7:AU14)","v":1},{"$f":"-SUM(AV7:AV14)","v":1}]
[21,1283,11,1296,11,1298,null,null,null,null,0,211,null,null,null,"U=",{"$f":"Q15/(LOG(Q4)/LOG(2))","v":0.24425539119507589},null,null,null,null,"U1=",{"$f":"W15/(LOG(W4)/LOG(2))","v":0.45154499349597182},null,null,null,"U2=",{"$f":"AB15/(LOG(AB4)/LOG(2))","v":0.3010299956639812},null,null,null,"U3=",{"$f":"AG15/(LOG(AG4)/LOG(2))","v":0.24421905028821556},null,null,null,"U4=",{"$f":"AL15/(LOG(AL4)/LOG(2))","v":0.37677792283166872},null,null,null,"U5=",{"$f":"AQ15/(LOG(AQ4)/LOG(2))","v":0},null,null,null,"U6=",{"$f":"AV15/(LOG(AV4)/LOG(2))","v":0.3010299956639812}]
[21,1444,22,1447,13,1472,null,null,null,null,0,221]
[12,1641,13,1652,13,1660,null,null,null,null,0,111]
[21,1771,11,1782,11,1788,null,null,null,null,0,211,null,"Total Target Seq"]
[21,1886,11,1896,11,1903,null,null,null,null,0,211,null,{"$f":"COUNTIF(L7:L66,G3)","v":39},null,10,10,10,10,10,10]
[21,2005,11,2014,11,2023,null,null,null,null,0,211,null,null,null,"% of reinforcement given in 6 equal intervals based on number of trials "]
[12,2158,13,2172,13,2189,null,null,null,null,0,111,null,null,null,"%_1","%_2","%_3","%_4","%_5","%_6"]
[21,2352,11,2363,11,2369,null,null,null,null,0,211,null,null,"target sequence",{"$f":"$G$3","v":211},{"$f":"$G$3","v":211},{"$f":"$G$3","v":211},{"$f":"$G$3","v":211},{"$f":"$G$3","v":211},{"$f":"$G$3","v":211}]
[21,2468,22,2472,13,2480,null,null,null,null,0,221,null,null,"total reinforcement",{"$f":"U11","v":6},{"$f":"Z11","v":6},{"$f":"AE11","v":6},{"$f":"AJ11","v":4},{"$f":"AO11","v":9},{"$f":"AT11","v":8}]
[21,2580,11,2592,11,2601,null,null,null,null,0,211,null,null,"% target"]
[21,2702,11,2712,11,2718,null,null,null,null,0,211,null,null,"CCRF"]
[12,2864,13,2871,24,2884,null,null,null,null,0,112,null,null,"% CCRf"]
[21,2990,11,3001,11,3011,null,null,null,null,0,211,null,null,"average response rate",{"$f":"F16/P20","v":129.80000000000001},{"$f":"(F26-F16)/Q20","v":142},{"$f":"(F36-F26)/R20","v":150.80000000000001},{"$f":"(F46-F36)/S20","v":144},{"$f":"(F56-F46)/T20","v":167.5},{"$f":"(F66-F56)/U20","v":164.3}]
[21,3120,11,3131,11,3136,null,null,null,null,0,211]
[12,3256,13,3265,13,3284,null,null,null,null,0,111]
[12,3537,13,3543,13,3548,null,null,null,null,0,111]
[21,3646,11,3655,11,3665,null,null,null,null,0,211]
[21,3761,11,3769,11,3774,null,null,null,null,0,211]
[21,3897,11,3908,11,3912,null,null,null,null,0,211]
[12,4088,13,4096,13,4107,null,null,null,null,0,111]
[21,4212,11,4222,11,4226,null,null,null,null,0,211]
[21,4376,11,4384,11,4388,null,null,null,null,0,211]
[12,4574,13,4580,24,4592,null,null,null,null,0,112]
[21,4727,11,4735,11,4745,null,null,null,null,0,211]
[12,4868,13,4873,13,4880,null,null,null,null,0,111]
[12,4997,13,5002,13,5009,null,null,null,null,0,111]
[21,5110,11,5124,11,5131,null,null,null,null,0,211]
[12,5230,13,5236,13,5242,null,null,null,null,0,111]
[21,5345,11,5359,11,5372,null,null,null,null,0,211]
[12,5513,13,5531,13,5545,null,null,null,null,0,111]
[21,5654,22,5658,13,5666,null,null,null,null,0,221]
[21,5765,11,5775,11,5784,null,null,null,null,0,211]
[21,5925,11,5932,11,5938,null,null,null,null,0,211]
[21,6109,11,6121,11,6127,null,null,null,null,0,211]
[21,6312,11,6321,11,6329,null,null,null,null,0,211]
[12,6458,13,6462,13,6468,null,null,null,null,0,111]
[21,6570,11,6584,11,6589,null,null,null,null,0,211]
[21,6757,11,6771,11,6776,null,null,null,null,0,211]
[21,6941,11,6955,11,6968,null,null,null,null,0,211]
[21,7097,11,7109,11,7120,null,null,null,null,0,211]
[21,7326,11,7335,11,7341,null,null,null,null,0,211]
[21,7475,22,7477,13,7486,null,null,null,null,0,221]
[21,7602,11,7613,11,7619,null,null,null,null,0,211]
[21,7725,11,7737,11,7741,null,null,null,null,0,211]
[12,7936,13,7938,13,7944,null,null,null,null,0,111]
[21,8065,11,8083,11,8088,null,null,null,null,0,211]
[21,8211,11,8223,11,8230,null,null,null,null,0,211]
[21,8449,11,8460,11,8462,null,null,null,null,0,211]
[21,8635,11,8645,11,8653,null,null,null,null,0,211]
[21,8810,11,8823,11,8827,null,null,null,null,0,211]
[21,8968,11,8980,11,8984,null,null,null,null,1,211]

{"sheet":"!MA1692D.ust","index":23,"n_rows":56,"n_cols":48,"rows_kept":56,"cut":false,"hidden":false,"merged":[[4,39,4,42],[5,39,5,40],[4,44,4,47],[5,44,5,45],[4,24,4,27],[5,24,5,25],[4,29,4,32],[5,29,5,30],[4,34,4,37],[5,34,5,35],[1,1,1,2],[5,13,5,14],[18,13,18,14],[19,13,19,14],[4,19,4,22],[5,19,5,20]]}
["Report for:!MA1692D.ust"]
["Date:","<date>"]
["Hen:","<hen>",null,null,null,"Correct Sequence",{"$f":"Start!J2","v":211},null,null,null,null,null,null,null,null,"Total Sequences in Data",{"$f":"4994-COUNTBLANK(L7:L5000)","v":50},null,null,null,null,"Total Sequences in Block Data",{"$f":"COUNTA(L7:L14)","v":8},null,null,null,"Total Sequences in Block Data",{"$f":"COUNTA(L15:L23)","v":9},null,null,null,"Total Sequences in Block Data",{"$f":"COUNTA(L24:L31)","v":8},null,null,null,"Total Sequences in Block Data",{"$f":"COUNTA(L32:L39)","v":8},null,null,null,"Total Sequences in Block Data",{"$f":"COUNTA(L40:L48)","v":9},null,null,null,"Total Sequences in Block Data",{"$f":"COUNTA(L49:L56)","v":8}]
[null,null,null,null,null,null,null,null,null,null,null,null,null,null,null,"Total Sequences in Summary",{"$f":"SUM(O7:O14)","v":50},null,null,null,null,"Total Sequences in Block Summary",{"$f":"SUM(U7:U14)","v":8},null,null,null,"Total Sequences in Block Summary",{"$f":"SUM(Z7:Z14)","v":9},null,null,null,"Total Sequences in Block Summary",{"$f":"SUM(AE7:AE14)","v":8},null,null,null,"Total Sequences in Block Summary",{"$f":"SUM(AJ7:AJ14)","v":8},null,null,null,"Total Sequences in Block Summary",{"$f":"SUM(AO7:AO14)","v":9},null,null,null,"Total Sequences in Block Summary",{"$f":"SUM(AT7:AT14)","v":8}]
[null,null,null,null,null,null,null,null,null,null,null,null,null,null,null,null,null,null,null,"Block 1",null,null,null,null,"Block 2",null,null,null,null,"Block 3",null,null,null,null,"Block 4",null,null,null,null,"Block 5",null,null,null,null,"Block 6"]
["Sequence\nComponent\n1","Time\n1","Sequence\nComponent\n2","Time\n2","Sequence\nComponent\n3","Time\n3","Sequence\nComponent\n4","Time\n4","Sequence\nComponent\n5","Time\n5","Correct?\n0=No 1=Yes","Sequence",null,"Frequency",null,"Relative Frequency","Variability",null,null,"Frequency",null,"Relative Frequency","Variability",null,"Frequency",null,"Relative Frequency","Variability",null,"Frequency",null,"Relative Frequency","Variability",null,"Frequency",null,"Relative Frequency","Variability",null,"Frequency",null,"Relative Frequency","Variability",null,"Frequency",null,"Relative Frequency","Variability"]
[12,16,13,23,13,35,null,null,null,null,0,111,null,111,{"$f":"COUNTIF($L$7:$L$500,N7)","v":8},{"$f":"O7/$Q$4","v":0.16},{"$f":"IF(P7=0,0,(P7*((LOG(P7))/LOG(2))))","v":-0.42301699036395596},null,null,{"$f":"N7","v":111},{"$f":"COUNTIF(L7:L14,T7)","v":1},{"$f":"U7/(W4-U11)","v":1},{"$f":"IF(V7=0,0,(V7*((LOG(V7))/LOG(2))))","v":0},null,{"$f":"N7","v":111},{"$f":"COUNTIF(L15:L23,Y7)","v":2},{"$f":"Z7/(AB4-Z11)","v":0.66666666666666663},{"$f":"IF(AA7=0,0,(AA7*((LOG(AA7))/LOG(2))))","v":-0.38997500048077083},null,{"$f":"N7","v":111},{"$f":"COUNTIF(L24:L31,AD7)","v":1},{"$f":"AE7/(AG4-AE11)","v":1},{"$f":"IF(AF7=0,0,(AF7*((LOG(AF7))/LOG(2))))","v":0},null,{"$f":"N7","v":111},{"$f":"COUNTIF(L32:L39,AI7)","v":2},{"$f":"AJ7/(AL4-AJ11)","v":0.66666666666666663},{"$f":"IF(AK7=0,0,(AK7*((LOG(AK7))/LOG(2))))","v":-0.38997500048077083},null,{"$f":"N7","v":111},{"$f":"COUNTIF(L40:L48,AN7)","v":1},{"$f":"AO7/(AQ4-AO11)","v":0.33333333333333331},{"$f":"IF(AP7=0,0,(AP7*((LOG(AP7))/LOG(2))))","v":-0.52832083357371862},null,{"$f":"N7","v":111},{"$f":"COUNTIF(L49:L56,AS7)","v":1},{"$f":"AT7/(AV4-AT11)","v":1},{"$f":"IF(AU7=0,0,(AU7*((LOG(AU7))/LOG(2))))","v":0}]
[21,136,11,144,11,148,null,null,null,null,0,211,null,112,{"$f":"COUNTIF($L$7:$L$500,N8)","v":2},{"$f":"O8/$Q$4","v":0.04},{"$f":"IF(P8=0,0,(P8*((LOG(P8))/LOG(2))))","v":-0.18575424759098899},null,null,{"$f":"N8","v":112},{"$f":"COUNTIF(L7:L14,T8)","v":0},{"$f":"U8/(W4-U11)","v":0},{"$f":"IF(V8=0,0,(V8*((LOG(V8))/LOG(2))))","v":0},null,{"$f":"N8","v":112},{"$f":"COUNTIF(L15:L23,Y8)","v":1},{"$f":"Z8/(AB4-Z11)","v":0.33333333333333331},{"$f":"IF(AA8=0,0,(AA8*((LOG(AA8))/LOG(2))))","v":-0.52832083357371862},null,{"$f":"N8","v":112},{"$f":"COUNTIF(L24:L31,AD8)","v":0},{"$f":"AE8/(AG4-AE11)","v":0},{"$f":"IF(AF8=0,0,(AF8*((LOG(AF8))/LOG(2))))","v":0},null,{"$f":"N8","v":112},{"$f":"COUNTIF(L32:L39,AI8)","v":0},{"$f":"AJ8/(AL4-AJ11)","v":0},{"$f":"IF(AK8=0,0,(AK8*((LOG(AK8))/LOG(2))))","v":0},null,{"$f":"N8","v":112},{"$f":"COUNTIF(L40:L48,AN8)","v":1},{"$f":"AO8/(AQ4-AO11)","v":0.33333333333333331},{"$f":"IF(AP8=0,0,(AP8*((LOG(AP8))/LOG(2))))","v":-0.52832083357371862},null,{"$f":"N8","v":112},{"$f":"COUNTIF(L49:L56,AS8)","v":0},{"$f":"AT8/(AV4-AT11)","v":0},{"$f":"IF(AU8=0,0,(AU8*((LOG(AU8))/LOG(2))))","v":0}]
[21,281,11,290,11,299,null,null,null,null,0,211,null,121,{"$f":"COUNTIF($L$7:$L$500,N9)","v":0},{"$f":"O9/$Q$4","v":0},{"$f":"IF(P9=0,0,(P9*((LOG(P9))/LOG(2))))","v":0},null,null,{"$f":"N9","v":121},{"$f":"COUNTIF(L7:L14,T9)","v":0},{"$f":"U9/(W4-U11)","v":0},{"$f":"IF(V9=0,0,(V9*((LOG(V9))/LOG(2))))","v":0},null,{"$f":"N9","v":121},{"$f":"COUNTIF(L15:L23,Y9)","v":0},{"$f":"Z9/(AB4-Z11)","v":0},{"$f":"IF(AA9=0,0,(AA9*((LOG(AA9))/LOG(2))))","v":0},null,{"$f":"N9","v":121},{"$f":"COUNTIF(L24:L31,AD9)","v":0},{"$f":"AE9/(AG4-AE11)","v":0},{"$f":"IF(AF9=0,0,(AF9*((LOG(AF9))/LOG(2))))","v":0},null,{"$f":"N9","v":121},{"$f":"COUNTIF(L32:L39,AI9)","v":0},{"$f":"AJ9/(AL4-AJ11)","v":0},{"$f":"IF(AK9=0,0,(AK9*((LOG(AK9))/LOG(2))))","v":0},null,{"$f":"N9","v":121},{"$f":"COUNTIF(L40:L48,AN9)","v":0},{"$f":"AO9/(AQ4-AO11)","v":0},{"$f":"IF(AP9=0,0,(AP9*((LOG(AP9))/LOG(2))))","v":0},null,{"$f":"N9","v":121},{"$f":"COUNTIF(L49:L56,AS9)","v":0},{"$f":"AT9/(AV4-AT11)","v":0},{"$f":"IF(AU9=0,0,(AU9*((LOG(AU9))/LOG(2))))","v":0}]
[21,393,11,404,11,408,null,null,null,null,0,211,null,122,{"$f":"COUNTIF($L$7:$L$500,N10)","v":0},{"$f":"O10/$Q$4","v":0},{"$f":"IF(P10=0,0,(P10*((LOG(P10))/LOG(2))))","v":0},null,null,{"$f":"N10","v":122},{"$f":"COUNTIF(L7:L14,T10)","v":0},{"$f":"U10/(W4-U11)","v":0},{"$f":"IF(V10=0,0,(V10*((LOG(V10))/LOG(2))))","v":0},null,{"$f":"N10","v":122},{"$f":"COUNTIF(L15:L23,Y10)","v":0},{"$f":"Z10/(AB4-Z11)","v":0},{"$f":"IF(AA10=0,0,(AA10*((LOG(AA10))/LOG(2))))","v":0},null,{"$f":"N10","v":122},{"$f":"COUNTIF(L24:L31,AD10)","v":0},{"$f":"AE10/(AG4-AE11)","v":0},{"$f":"IF(AF10=0,0,(AF10*((LOG(AF10))/LOG(2))))","v":0},null,{"$f":"N10","v":122},{"$f":"COUNTIF(L32:L39,AI10)","v":0},{"$f":"AJ10/(AL4-AJ11)","v":0},{"$f":"IF(AK10=0,0,(AK10*((LOG(AK10))/LOG(2))))","v":0},null,{"$f":"N10","v":122},{"$f":"COUNTIF(L40:L48,AN10)","v":0},{"$f":"AO10/(AQ4-AO11)","v":0},{"$f":"IF(AP10=0,0,(AP10*((LOG(AP10))/LOG(2))))","v":0},null,{"$f":"N10","v":122},{"$f":"COUNTIF(L49:L56,AS10)","v":0},{"$f":"AT10/(AV4-AT11)","v":0},{"$f":"IF(AU10=0,0,(AU10*((LOG(AU10))/LOG(2))))","v":0}]
[21,555,11,566,11,572,null,null,null,null,0,211,null,211,{"$f":"COUNTIF($L$7:$L$500,N11)","v":38},{"$f":"O11/$Q$4","v":0.76},{"$f":"IF(P11=0,0,(P11*((LOG(P11))/LOG(2))))","v":-0.30090579401166578},null,null,{"$f":"N11","v":211},{"$f":"COUNTIF(L7:L14,T11)","v":7},null,null,null,{"$f":"N11","v":211},{"$f":"COUNTIF(L15:L23,Y11)","v":6},null,null,null,{"$f":"N11","v":211},{"$f":"COUNTIF(L24:L31,AD11)","v":7},null,null,null,{"$f":"N11","v":211},{"$f":"COUNTIF(L32:L39,AI11)","v":5},null,null,null,{"$f":"N11","v":211},{"$f":"COUNTIF(L40:L48,AN11)","v":6},null,null,null,{"$f":"N11","v":211},{"$f":"COUNTIF(L49:L56,AS11)","v":7}]
[21,723,11,733,11,740,null,null,null,null,0,211,null,212,{"$f":"COUNTIF($L$7:$L$500,N12)","v":0},{"$f":"O12/$Q$4","v":0},{"$f":"IF(P12=0,0,(P12*((LOG(P12))/LOG(2))))","v":0},null,null,{"$f":"N12","v":212},{"$f":"COUNTIF(L7:L14,T12)","v":0},{"$f":"U12/(W4-U11)","v":0},{"$f":"IF(V12=0,0,(V12*((LOG(V12))/LOG(2))))","v":0},null,{"$f":"N12","v":212},{"$f":"COUNTIF(L15:L23,Y12)","v":0},{"$f":"Z12/(AB4-Z11)","v":0},{"$f":"IF(AA12=0,0,(AA12*((LOG(AA12))/LOG(2))))","v":0},null,{"$f":"N12","v":212},{"$f":"COUNTIF(L24:L31,AD12)","v":0},{"$f":"AE12/(AG4-AE11)","v":0},{"$f":"IF(AF12=0,0,(AF12*((LOG(AF12))/LOG(2))))","v":0},null,{"$f":"N12","v":212},{"$f":"COUNTIF(L32:L39,AI12)","v":0},{"$f":"AJ12/(AL4-AJ11)","v":0},{"$f":"IF(AK12=0,0,(AK12*((LOG(AK12))/LOG(2))))","v":0},null,{"$f":"N12","v":212},{"$f":"COUNTIF(L40:L48,AN12)","v":0},{"$f":"AO12/(AQ4-AO11)","v":0},{"$f":"IF(AP12=0,0,(AP12*((LOG(AP12))/LOG(2))))","v":0},null,{"$f":"N12","v":212},{"$f":"COUNTIF(L49:L56,AS12)","v":0},{"$f":"AT12/(AV4-AT11)","v":0},{"$f":"IF(AU12=0,0,(AU12*((LOG(AU12))/LOG(2))))","v":0}]
[21,843,11,853,11,857,null,null,null,null,0,211,null,221,{"$f":"COUNTIF($L$7:$L$500,N13)","v":2},{"$f":"O13/$Q$4","v":0.04},{"$f":"IF(P13=0,0,(P13*((LOG(P13))/LOG(2))))","v":-0.18575424759098899},null,null,{"$f":"N13","v":221},{"$f":"COUNTIF(L7:L14,T13)","v":0},{"$f":"U13/(W4-U11)","v":0},{"$f":"IF(V13=0,0,(V13*((LOG(V13))/LOG(2))))","v":0},null,{"$f":"N13","v":221},{"$f":"COUNTIF(L15:L23,Y13)","v":0},{"$f":"Z13/(AB4-Z11)","v":0},{"$f":"IF(AA13=0,0,(AA13*((LOG(AA13))/LOG(2))))","v":0},null,{"$f":"N13","v":221},{"$f":"COUNTIF(L24:L31,AD13)","v":0},{"$f":"AE13/(AG4-AE11)","v":0},{"$f":"IF(AF13=0,0,(AF13*((LOG(AF13))/LOG(2))))","v":0},null,{"$f":"N13","v":221},{"$f":"COUNTIF(L32:L39,AI13)","v":1},{"$f":"AJ13/(AL4-AJ11)","v":0.33333333333333331},{"$f":"IF(AK13=0,0,(AK13*((LOG(AK13))/LOG(2))))","v":-0.52832083357371862},null,{"$f":"N13","v":221},{"$f":"COUNTIF(L40:L48,AN13)","v":1},{"$f":"AO13/(AQ4-AO11)","v":0.33333333333333331},{"$f":"IF(AP13=0,0,(AP13*((LOG(AP13))/LOG(2))))","v":-0.52832083357371862},null,{"$f":"N13","v":221},{"$f":"COUNTIF(L49:L56,AS13)","v":0},{"$f":"AT13/(AV4-AT11)","v":0},{"$f":"IF(AU13=0,0,(AU13*((LOG(AU13))/LOG(2))))","v":0}]
[21,966,11,976,11,980,null,null,null,null,0,211,null,222,{"$f":"COUNTIF($L$7:$L$500,N14)","v":0},{"$f":"O14/$Q$4","v":0},{"$f":"IF(P14=0,0,(P14*((LOG(P14))/LOG(2))))","v":0},null,null,{"$f":"N14","v":222},{"$f":"COUNTIF(L7:L14,T14)","v":0},{"$f":"U14/(W4-U11)","v":0},{"$f":"IF(V14=0,0,(V14*((LOG(V14))/LOG(2))))","v":0},null,{"$f":"N14","v":222},{"$f":"COUNTIF(L15:L23,Y14)","v":0},{"$f":"Z14/(AB4-Z11)","v":0},{"$f":"IF(AA14=0,0,(AA14*((LOG(AA14))/LOG(2))))","v":0},null,{"$f":"N14","v":222},{"$f":"COUNTIF(L24:L31,AD14)","v":0},{"$f":"AE14/(AG4-AE11)","v":0},{"$f":"IF(AF14=0,0,(AF14*((LOG(AF14))/LOG(2))))","v":0},null,{"$f":"N14","v":222},{"$f":"COUNTIF(L32:L39,AI14)","v":0},{"$f":"AJ14/(AL4-AJ11)","v":0},{"$f":"IF(AK14=0,0,(AK14*((LOG(AK14))/LOG(2))))","v":0},null,{"$f":"N14","v":222},{"$f":"COUNTIF(L40:L48,AN14)","v":0},{"$f":"AO14/(AQ4-AO11)","v":0},{"$f":"IF(AP14=0,0,(AP14*((LOG(AP14))/LOG(2))))","v":0},null,{"$f":"N14","v":222},{"$f":"COUNTIF(L49:L56,AS14)","v":0},{"$f":"AT14/(AV4-AT11)","v":0},{"$f":"IF(AU14=0,0,(AU14*((LOG(AU14))/LOG(2))))","v":0}]
[21,1083,11,1097,11,1111,null,null,null,null,0,211,null,null,null,{"$f":"SUM(P7:P14)","v":1},{"$f":"-SUM(Q7:Q14)","v":1.0954312795575998},null,null,null,null,{"$f":"SUM(V7:V14)","v":1},{"$f":"-SUM(W7:W14)","v":0},null,null,null,{"$f":"SUM(AA7:AA14)","v":1},{"$f":"-SUM(AB7:AB14)","v":0.91829583405448945},null,null,null,{"$f":"SUM(AF7:AF14)","v":1},{"$f":"-SUM(AG7:AG14)","v":0},null,null,null,{"$f":"SUM(AK7:AK14)","v":1},{"$f":"-SUM(AL7:AL14)","v":0.91829583405448945},null,null,null,{"$f":"SUM(AP7:AP14)","v":1},{"$f":"-SUM(AQ7:AQ14)","v":1.5849625007211559},null,null,null,{"$f":"SUM(AU7:AU14)","v":1},{"$f":"-SUM(AV7:AV14)","v":0}]
[21,1232,11,1241,11,1245,null,null,null,null,0,211,null,null,null,"U=",{"$f":"Q15/(LOG(Q4)/LOG(2))","v":0.19409269880799782},null,null,null,null,"U1=",{"$f":"W15/(LOG(W4)/LOG(2))","v":0},null,null,null,"U2=",{"$f":"AB15/(LOG(AB4)/LOG(2))","v":0.28969008214284753},null,null,null,"U3=",{"$f":"AG15/(LOG(AG4)/LOG(2))","v":0},null,null,null,"U4=",{"$f":"AL15/(LOG(AL4)/LOG(2))","v":0.30609861135149646},null,null,null,"U5=",{"$f":"AQ15/(LOG(AQ4)/LOG(2))","v":0.49999999999999994},null,null,null,"U6=",{"$f":"AV15/(LOG(AV4)/LOG(2))","v":0}]
[12,1360,13,1368,24,1381,null,null,null,null,0,112]
[12,1499,13,1501,13,1506,null,null,null,null,0,111]
[21,1606,11,1619,11,1629,null,null,null,null,0,211,null,"Total Target Seq"]
[21,1735,11,1746,11,1755,null,null,null,null,0,211,null,{"$f":"COUNTIF(L7:L56,G3)","v":38},null,8,9,8,8,9,8]
[12,1889,13,1891,13,1897,null,null,null,null,0,111,null,null,null,"% of reinforcement given in 6 equal intervals based on number of trials "]
[21,1999,11,2008,11,2012,null,null,null,null,0,211,null,null,null,"%_1","%_2","%_3","%_4","%_5","%_6"]
[21,2109,11,2121,11,2127,null,null,null,null,0,211,null,null,"target sequence",{"$f":"$G$3","v":211},{"$f":"$G$3","v":211},{"$f":"$G$3","v":211},{"$f":"$G$3","v":211},{"$f":"$G$3","v":211},{"$f":"$G$3","v":211}]
[21,2254,11,2266,11,2272,null,null,null,null,0,211,null,null,"total reinforcement",{"$f":"U11","v":7},{"$f":"Z11","v":6},{"$f":"AE11","v":7},{"$f":"AJ11","v":5},{"$f":"AO11","v":6},{"$f":"AT11","v":7}]
[21,2442,11,2456,11,2459,null,null,null,null,0,211,null,null,"% target"]
[21,2599,11,2609,11,2613,null,null,null,null,0,211,null,null,"CCRF"]
[21,2742,11,2753,11,2757,null,null,null,null,0,211,null,null,"% CCRf"]
[21,2932,11,2940,11,2944,null,null,null,null,0,211,null,null,"average response rate",{"$f":"F14/P20","v":122.5},{"$f":"(F23-F14)/Q20","v":127.44444444444444},{"$f":"(F31-F23)/R20","v":172.5},{"$f":"(F39-F31)/S20","v":130.125},{"$f":"(F48-F39)/T20","v":146.11111111111111},{"$f":"(F56-F48)/U20","v":165}]
[21,3071,11,3081,11,3085,null,null,null,null,0,211]
[21,3242,11,3257,11,3271,null,null,null,null,0,211]
[12,3487,13,3491,13,3507,null,null,null,null,0,111]
[21,3607,22,3614,13,3623,null,null,null,null,0,221]
[12,3738,13,3755,13,3765,null,null,null,null,0,111]
[21,3866,11,3874,11,3878,null,null,null,null,0,211]
[21,3992,11,4000,11,4003,null,null,null,null,0,211]
[21,4103,11,4111,11,4116,null,null,null,null,0,211]
[21,4231,11,4242,11,4248,null,null,null,null,0,211]
[21,4355,11,4364,11,4374,null,null,null,null,0,211]
[12,4531,13,4536,13,4548,null,null,null,null,0,111]
[21,4649,11,4658,11,4663,null,null,null,null,0,211]
[12,4867,13,4873,24,4892,null,null,null,null,0,112]
[21,4988,22,4991,13,4999,null,null,null,null,0,221]
[12,5102,13,5109,13,5115,null,null,null,null,0,111]
[21,5221,11,5233,11,5240,null,null,null,null,0,211]
[21,5366,11,5376,11,5383,null,null,null,null,0,211]
[21,5505,11,5515,11,5519,null,null,null,null,0,211]
[21,5681,11,5691,11,5706,null,null,null,null,0,211]
[21,5849,11,5859,11,5863,null,null,null,null,0,211]
[21,5970,11,5980,11,5983,null,null,null,null,0,211]
[12,6164,13,6168,13,6175,null,null,null,null,0,111]
[21,6278,11,6293,11,6301,null,null,null,null,0,211]
[21,6488,11,6497,11,6500,null,null,null,null,0,211]
[21,6622,11,6633,11,6638,null,null,null,null,0,211]
[21,6805,11,6813,11,6820,null,null,null,null,0,211]
[21,6941,11,6953,11,6961,null,null,null,null,0,211]
[21,7167,11,7179,11,7183,null,null,null,null,1,211]

{"sheet":"!MA17B1D.ust","index":24,"n_rows":63,"n_cols":48,"rows_kept":63,"cut":false,"hidden":false,"merged":[[4,39,4,42],[5,39,5,40],[4,44,4,47],[5,44,5,45],[4,24,4,27],[5,24,5,25],[4,29,4,32],[5,29,5,30],[4,34,4,37],[5,34,5,35],[1,1,1,2],[5,13,5,14],[18,13,18,14],[19,13,19,14],[4,19,4,22],[5,19,5,20]]}
["Report for:!MA17B1D.ust"]
["Date:","<date>"]
["Hen:","<hen>",null,null,null,"Correct Sequence",{"$f":"Start!J2","v":211},null,null,null,null,null,null,null,null,"Total Sequences in Data",{"$f":"4994-COUNTBLANK(L7:L5000)","v":57},null,null,null,null,"Total Sequences in Block Data",{"$f":"COUNTA(L7:L16)","v":10},null,null,null,"Total Sequences in Block Data",{"$f":"COUNTA(L17:L25)","v":9},null,null,null,"Total Sequences in Block Data",{"$f":"COUNTA(L26:L35)","v":10},null,null,null,"Total Sequences in Block Data",{"$f":"COUNTA(L36:L44)","v":9},null,null,null,"Total Sequences in Block Data",{"$f":"COUNTA(L45:L54)","v":10},null,null,null,"Total Sequences in Block Data",{"$f":"COUNTA(L55:L63)","v":9}]
[null,null,null,null,null,null,null,null,null,null,null,null,null,null,null,"Total Sequences in Summary",{"$f":"SUM(O7:O14)","v":57},null,null,null,null,"Total Sequences in Block Summary",{"$f":"SUM(U7:U14)","v":10},null,null,null,"Total Sequences in Block Summary",{"$f":"SUM(Z7:Z14)","v":9},null,null,null,"Total Sequences in Block Summary",{"$f":"SUM(AE7:AE14)","v":10},null,null,null,"Total Sequences in Block Summary",{"$f":"SUM(AJ7:AJ14)","v":9},null,null,null,"Total Sequences in Block Summary",{"$f":"SUM(AO7:AO14)","v":10},null,null,null,"Total Sequences in Block Summary",{"$f":"SUM(AT7:AT14)","v":9}]
[null,null,null,null,null,null,null,null,null,null,null,null,null,null,null,null,null,null,null,"Block 1",null,null,null,null,"Block 2",null,null,null,null,"Block 3",null,null,null,null,"Block 4",null,null,null,null,"Block 5",null,null,null,null,"Block 6"]
["Sequence\nComponent\n1","Time\n1","Sequence\nComponent\n2","Time\n2","Sequence\nComponent\n3","Time\n3","Sequence\nComponent\n4","Time\n4","Sequence\nComponent\n5","Time\n5","Correct?\n0=No 1=Yes","Sequence",null,"Frequency",null,"Relative Frequency","Variability",null,null,"Frequency",null,"Relative Frequency","Variability",null,"Frequency",null,"Relative Frequency","Variability",null,"Frequency",null,"Relative Frequency","Variability",null,"Frequency",null,"Relative Frequency","Variability",null,"Frequency",null,"Relative Frequency","Variability",null,"Frequency",null,"Relative Frequency","Variability"]
[12,36,13,41,13,47,null,null,null,null,0,111,null,111,{"$f":"COUNTIF($L$7:$L$500,N7)","v":11},{"$f":"O7/$Q$4","v":0.19298245614035087},{"$f":"IF(P7=0,0,(P7*((LOG(P7))/LOG(2))))","v":-0.45803583071582266},null,null,{"$f":"N7","v":111},{"$f":"COUNTIF(L7:L16,T7)","v":2},{"$f":"U7/(W4-U11)","v":0.66666666666666663},{"$f":"IF(V7=0,0,(V7*((LOG(V7))/LOG(2))))","v":-0.38997500048077083},null,{"$f":"N7","v":111},{"$f":"COUNTIF(L17:L25,Y7)","v":4},{"$f":"Z7/(AB4-Z11)","v":1},{"$f":"IF(AA7=0,0,(AA7*((LOG(AA7))/LOG(2))))","v":0},null,{"$f":"N7","v":111},{"$f":"COUNTIF(L26:L35,AD7)","v":1},{"$f":"AE7/(AG4-AE11)","v":0.16666666666666666},{"$f":"IF(AF7=0,0,(AF7*((LOG(AF7))/LOG(2))))","v":-0.43082708345352599},null,{"$f":"N7","v":111},{"$f":"COUNTIF(L36:L44,AI7)","v":1},{"$f":"AJ7/(AL4-AJ11)","v":1},{"$f":"IF(AK7=0,0,(AK7*((LOG(AK7))/LOG(2))))","v":0},null,{"$f":"N7","v":111},{"$f":"COUNTIF(L45:L54,AN7)","v":1},{"$f":"AO7/(AQ4-AO11)","v":1},{"$f":"IF(AP7=0,0,(AP7*((LOG(AP7))/LOG(2))))","v":0},null,{"$f":"N7","v":111},{"$f":"COUNTIF(L55:L63,AS7)","v":2},{"$f":"AT7/(AV4-AT11)","v":1},{"$f":"IF(AU7=0,0,(AU7*((LOG(AU7))/LOG(2))))","v":0}]
[21,146,11,154,11,161,null,null,null,null,0,211,null,112,{"$f":"COUNTIF($L$7:$L$500,N8)","v":0},{"$f":"O8/$Q$4","v":0},{"$f":"IF(P8=0,0,(P8*((LOG(P8))/LOG(2))))","v":0},null,null,{"$f":"N8","v":112},{"$f":"COUNTIF(L7:L16,T8)","v":0},{"$f":"U8/(W4-U11)","v":0},{"$f":"IF(V8=0,0,(V8*((LOG(V8))/LOG(2))))","v":0},null,{"$f":"N8","v":112},{"$f":"COUNTIF(L17:L25,Y8)","v":0},{"$f":"Z8/(AB4-Z11)","v":0},{"$f":"IF(AA8=0,0,(AA8*((LOG(AA8))/LOG(2))))","v":0},null,{"$f":"N8","v":112},{"$f":"COUNTIF(L26:L35,AD8)","v":0},{"$f":"AE8/(AG4-AE11)","v":0},{"$f":"IF(AF8=0,0,(AF8*((LOG(AF8))/LOG(2))))","v":0},null,{"$f":"N8","v":112},{"$f":"COUNTIF(L36:L44,AI8)","v":0},{"$f":"AJ8/(AL4-AJ11)","v":0},{"$f":"IF(AK8=0,0,(AK8*((LOG(AK8))/LOG(2))))","v":0},null,{"$f":"N8","v":112},{"$f":"COUNTIF(L45:L54,AN8)","v":0},{"$f":"AO8/(AQ4-AO11)","v":0},{"$f":"IF(AP8=0,0,(AP8*((LOG(AP8))/LOG(2))))","v":0},null,{"$f":"N8","v":112},{"$f":"COUNTIF(L55:L63,AS8)","v":0},{"$f":"AT8/(AV4-AT11)","v":0},{"$f":"IF(AU8=0,0,(AU8*((LOG(AU8))/LOG(2))))","v":0}]
[21,370,22,372,13,384,null,null,null,null,0,221,null,121,{"$f":"COUNTIF($L$7:$L$500,N9)","v":0},{"$f":"O9/$Q$4","v":0},{"$f":"IF(P9=0,0,(P9*((LOG(P9))/LOG(2))))","v":0},null,null,{"$f":"N9","v":121},{"$f":"COUNTIF(L7:L16,T9)","v":0},{"$f":"U9/(W4-U11)","v":0},{"$f":"IF(V9=0,0,(V9*((LOG(V9))/LOG(2))))","v":0},null,{"$f":"N9","v":121},{"$f":"COUNTIF(L17:L25,Y9)","v":0},{"$f":"Z9/(AB4-Z11)","v":0},{"$f":"IF(AA9=0,0,(AA9*((LOG(AA9))/LOG(2))))","v":0},null,{"$f":"N9","v":121},{"$f":"COUNTIF(L26:L35,AD9)","v":0},{"$f":"AE9/(AG4-AE11)","v":0},{"$f":"IF(AF9=0,0,(AF9*((LOG(AF9))/LOG(2))))","v":0},null,{"$f":"N9","v":121},{"$f":"COUNTIF(L36:L44,AI9)","v":0},{"$f":"AJ9/(AL4-AJ11)","v":0},{"$f":"IF(AK9=0,0,(AK9*((LOG(AK9))/LOG(2))))","v":0},null,{"$f":"N9","v":121},{"$f":"COUNTIF(L45:L54,AN9)","v":0},{"$f":"AO9/(AQ4-AO11)","v":0},{"$f":"IF(AP9=0,0,(AP9*((LOG(AP9))/LOG(2))))","v":0},null,{"$f":"N9","v":121},{"$f":"COUNTIF(L55:L63,AS9)","v":0},{"$f":"AT9/(AV4-AT11)","v":0},{"$f":"IF(AU9=0,0,(AU9*((LOG(AU9))/LOG(2))))","v":0}]
[21,481,11,491,11,501,null,null,null,null,0,211,null,122,{"$f":"COUNTIF($L$7:$L$500,N10)","v":0},{"$f":"O10/$Q$4","v":0},{"$f":"IF(P10=0,0,(P10*((LOG(P10))/LOG(2))))","v":0},null,null,{"$f":"N10","v":122},{"$f":"COUNTIF(L7:L16,T10)","v":0},{"$f":"U10/(W4-U11)","v":0},{"$f":"IF(V10=0,0,(V10*((LOG(V10))/LOG(2))))","v":0},null,{"$f":"N10","v":122},{"$f":"COUNTIF(L17:L25,Y10)","v":0},{"$f":"Z10/(AB4-Z11)","v":0},{"$f":"IF(AA10=0,0,(AA10*((LOG(AA10))/LOG(2))))","v":0},null,{"$f":"N10","v":122},{"$f":"COUNTIF(L26:L35,AD10)","v":0},{"$f":"AE10/(AG4-AE11)","v":0},{"$f":"IF(AF10=0,0,(AF10*((LOG(AF10))/LOG(2))))","v":0},null,{"$f":"N10","v":122},{"$f":"COUNTIF(L36:L44,AI10)","v":0},{"$f":"AJ10/(AL4-AJ11)","v":0},{"$f":"IF(AK10=0,0,(AK10*((LOG(AK10))/LOG(2))))","v":0},null,{"$f":"N10","v":122},{"$f":"COUNTIF(L45:L54,AN10)","v":0},{"$f":"AO10/(AQ4-AO11)","v":0},{"$f":"IF(AP10=0,0,(AP10*((LOG(AP10))/LOG(2))))","v":0},null,{"$f":"N10","v":122},{"$f":"COUNTIF(L55:L63,AS10)","v":0},{"$f":"AT10/(AV4-AT11)","v":0},{"$f":"IF(AU10=0,0,(AU10*((LOG(AU10))/LOG(2))))","v":0}]
[21,599,11,608,11,613,null,null,null,null,0,211,null,211,{"$f":"COUNTIF($L$7:$L$500,N11)","v":40},{"$f":"O11/$Q$4","v":0.70175438596491224},{"$f":"IF(P11=0,0,(P11*((LOG(P11))/LOG(2))))","v":-0.35856976791395045},null,null,{"$f":"N11","v":211},{"$f":"COUNTIF(L7:L16,T11)","v":7},null,null,null,{"$f":"N11","v":211},{"$f":"COUNTIF(L17:L25,Y11)","v":5},null,null,null,{"$f":"N11","v":211},{"$f":"COUNTIF(L26:L35,AD11)","v":4},null,null,null,{"$f":"N11","v":211},{"$f":"COUNTIF(L36:L44,AI11)","v":8},null,null,null,{"$f":"N11","v":211},{"$f":"COUNTIF(L45:L54,AN11)","v":9},null,null,null,{"$f":"N11","v":211},{"$f":"COUNTIF(L55:L63,AS11)","v":7}]
[12,719,13,723,13,742,null,null,null,null,0,111,null,212,{"$f":"COUNTIF($L$7:$L$500,N12)","v":0},{"$f":"O12/$Q$4","v":0},{"$f":"IF(P12=0,0,(P12*((LOG(P12))/LOG(2))))","v":0},null,null,{"$f":"N12","v":212},{"$f":"COUNTIF(L7:L16,T12)","v":0},{"$f":"U12/(W4-U11)","v":0},{"$f":"IF(V12=0,0,(V12*((LOG(V12))/LOG(2))))","v":0},null,{"$f":"N12","v":212},{"$f":"COUNTIF(L17:L25,Y12)","v":0},{"$f":"Z12/(AB4-Z11)","v":0},{"$f":"IF(AA12=0,0,(AA12*((LOG(AA12))/LOG(2))))","v":0},null,{"$f":"N12","v":212},{"$f":"COUNTIF(L26:L35,AD12)","v":0},{"$f":"AE12/(AG4-AE11)","v":0},{"$f":"IF(AF12=0,0,(AF12*((LOG(AF12))/LOG(2))))","v":0},null,{"$f":"N12","v":212},{"$f":"COUNTIF(L36:L44,AI12)","v":0},{"$f":"AJ12/(AL4-AJ11)","v":0},{"$f":"IF(AK12=0,0,(AK12*((LOG(AK12))/LOG(2))))","v":0},null,{"$f":"N12","v":212},{"$f":"COUNTIF(L45:L54,AN12)","v":0},{"$f":"AO12/(AQ4-AO11)","v":0},{"$f":"IF(AP12=0,0,(AP12*((LOG(AP12))/LOG(2))))","v":0},null,{"$f":"N12","v":212},{"$f":"COUNTIF(L55:L63,AS12)","v":0},{"$f":"AT12/(AV4-AT11)","v":0},{"$f":"IF(AU12=0,0,(AU12*((LOG(AU12))/LOG(2))))","v":0}]
[21,842,11,851,11,857,null,null,null,null,0,211,null,221,{"$f":"COUNTIF($L$7:$L$500,N13)","v":6},{"$f":"O13/$Q$4","v":0.10526315789473684},{"$f":"IF(P13=0,0,(P13*((LOG(P13))/LOG(2))))","v":-0.34188710667827216},null,null,{"$f":"N13","v":221},{"$f":"COUNTIF(L7:L16,T13)","v":1},{"$f":"U13/(W4-U11)","v":0.33333333333333331},{"$f":"IF(V13=0,0,(V13*((LOG(V13))/LOG(2))))","v":-0.52832083357371862},null,{"$f":"N13","v":221},{"$f":"COUNTIF(L17:L25,Y13)","v":0},{"$f":"Z13/(AB4-Z11)","v":0},{"$f":"IF(AA13=0,0,(AA13*((LOG(AA13))/LOG(2))))","v":0},null,{"$f":"N13","v":221},{"$f":"COUNTIF(L26:L35,AD13)","v":5},{"$f":"AE13/(AG4-AE11)","v":0.83333333333333337},{"$f":"IF(AF13=0,0,(AF13*((LOG(AF13))/LOG(2))))","v":-0.21919533819482812},null,{"$f":"N13","v":221},{"$f":"COUNTIF(L36:L44,AI13)","v":0},{"$f":"AJ13/(AL4-AJ11)","v":0},{"$f":"IF(AK13=0,0,(AK13*((LOG(AK13))/LOG(2))))","v":0},null,{"$f":"N13","v":221},{"$f":"COUNTIF(L45:L54,AN13)","v":0},{"$f":"AO13/(AQ4-AO11)","v":0},{"$f":"IF(AP13=0,0,(AP13*((LOG(AP13))/LOG(2))))","v":0},null,{"$f":"N13","v":221},{"$f":"COUNTIF(L55:L63,AS13)","v":0},{"$f":"AT13/(AV4-AT11)","v":0},{"$f":"IF(AU13=0,0,(AU13*((LOG(AU13))/LOG(2))))","v":0}]
[21,951,11,962,11,966,null,null,null,null,0,211,null,222,{"$f":"COUNTIF($L$7:$L$500,N14)","v":0},{"$f":"O14/$Q$4","v":0},{"$f":"IF(P14=0,0,(P14*((LOG(P14))/LOG(2))))","v":0},null,null,{"$f":"N14","v":222},{"$f":"COUNTIF(L7:L16,T14)","v":0},{"$f":"U14/(W4-U11)","v":0},{"$f":"IF(V14=0,0,(V14*((LOG(V14))/LOG(2))))","v":0},null,{"$f":"N14","v":222},{"$f":"COUNTIF(L17:L25,Y14)","v":0},{"$f":"Z14/(AB4-Z11)","v":0},{"$f":"IF(AA14=0,0,(AA14*((LOG(AA14))/LOG(2))))","v":0},null,{"$f":"N14","v":222},{"$f":"COUNTIF(L26:L35,AD14)","v":0},{"$f":"AE14/(AG4-AE11)","v":0},{"$f":"IF(AF14=0,0,(AF14*((LOG(AF14))/LOG(2))))","v":0},null,{"$f":"N14","v":222},{"$f":"COUNTIF(L36:L44,AI14)","v":0},{"$f":"AJ14/(AL4-AJ11)","v":0},{"$f":"IF(AK14=0,0,(AK14*((LOG(AK14))/LOG(2))))","v":0},null,{"$f":"N14","v":222},{"$f":"COUNTIF(L45:L54,AN14)","v":0},{"$f":"AO14/(AQ4-AO11)","v":0},{"$f":"IF(AP14=0,0,(AP14*((LOG(AP14))/LOG(2))))","v":0},null,{"$f":"N14","v":222},{"$f":"COUNTIF(L55:L63,AS14)","v":0},{"$f":"AT14/(AV4-AT11)","v":0},{"$f":"IF(AU14=0,0,(AU14*((LOG(AU14))/LOG(2))))","v":0}]
[21,1089,11,1099,11,1101,null,null,null,null,0,211,null,null,null,{"$f":"SUM(P7:P14)","v":0.99999999999999989},{"$f":"-SUM(Q7:Q14)","v":1.1584927053080452},null,null,null,null,{"$f":"SUM(V7:V14)","v":1},{"$f":"-SUM(W7:W14)","v":0.91829583405448945},null,null,null,{"$f":"SUM(AA7:AA14)","v":1},{"$f":"-SUM(AB7:AB14)","v":0},null,null,null,{"$f":"SUM(AF7:AF14)","v":1},{"$f":"-SUM(AG7:AG14)","v":0.65002242164835411},null,null,null,{"$f":"SUM(AK7:AK14)","v":1},{"$f":"-SUM(AL7:AL14)","v":0},null,null,null,{"$f":"SUM(AP7:AP14)","v":1},{"$f":"-SUM(AQ7:AQ14)","v":0},null,null,null,{"$f":"SUM(AU7:AU14)","v":1},{"$f":"-SUM(AV7:AV14)","v":0}]
[21,1254,11,1263,11,1267,null,null,null,null,0,211,null,null,null,"U=",{"$f":"Q15/(LOG(Q4)/LOG(2))","v":0.19861384365121429},null,null,null,null,"U1=",{"$f":"W15/(LOG(W4)/LOG(2))","v":0.27643459094367495},null,null,null,"U2=",{"$f":"AB15/(LOG(AB4)/LOG(2))","v":0},null,null,null,"U3=",{"$f":"AG15/(LOG(AG4)/LOG(2))","v":0.1956762467702946},null,null,null,"U4=",{"$f":"AL15/(LOG(AL4)/LOG(2))","v":0},null,null,null,"U5=",{"$f":"AQ15/(LOG(AQ4)/LOG(2))","v":0},null,null,null,"U6=",{"$f":"AV15/(LOG(AV4)/LOG(2))","v":0}]
[12,1406,13,1410,13,1426,null,null,null,null,0,111]
[21,1526,11,1536,11,1540,null,null,null,null,0,211]
[21,1641,11,1650,11,1663,null,null,null,null,0,211,null,"Total Target Seq"]
[12,1862,13,1865,13,1875,null,null,null,null,0,111,null,{"$f":"COUNTIF(L7:L63,G3)","v":40},null,10,9,10,9,10,9]
[21,1977,11,1994,11,2011,null,null,null,null,0,211,null,null,null,"% of reinforcement given in 6 equal intervals based on number of trials "]
[21,2126,11,2132,11,2137,null,null,null,null,0,211,null,null,null,"%_1","%_2","%_3","%_4","%_5","%_6"]
[12,2308,13,2310,13,2319,null,null,null,null,0,111,null,null,"target sequence",{"$f":"$G$3","v":211},{"$f":"$G$3","v":211},{"$f":"$G$3","v":211},{"$f":"$G$3","v":211},{"$f":"$G$3","v":211},{"$f":"$G$3","v":211}]
[21,2416,11,2425,11,2429,null,null,null,null,0,211,null,null,"total reinforcement",{"$f":"U11","v":7},{"$f":"Z11","v":5},{"$f":"AE11","v":4},{"$f":"AJ11","v":8},{"$f":"AO11","v":9},{"$f":"AT11","v":7}]
[12,2574,13,2580,13,2597,null,null,null,null,0,111,null,null,"% target"]
[21,2693,22,2697,13,2707,null,null,null,null,0,221,null,null,"CCRF"]
[21,2804,11,2815,11,2820,null,null,null,null,0,211,null,null,"% CCRf"]
[21,2978,11,2988,11,3000,null,null,null,null,0,211,null,null,"average response rate",{"$f":"F16/P20","v":126.7},{"$f":"(F25-F16)/Q20","v":147.77777777777777},{"$f":"(F35-F25)/R20","v":149.6},{"$f":"(F44-F35)/S20","v":184.33333333333334},{"$f":"(F54-F44)/T20","v":191},{"$f":"(F63-F54)/U20","v":179.33333333333334}]
[21,3144,11,3153,11,3157,null,null,null,null,0,211]
[21,3328,11,3339,11,3344,null,null,null,null,0,211]
[12,3627,13,3631,13,3639,null,null,null,null,0,111]
[21,3734,22,3745,13,3752,null,null,null,null,0,221]
[21,3850,22,3856,13,3865,null,null,null,null,0,221]
[21,3957,22,3969,13,3978,null,null,null,null,0,221]
[21,4071,22,4084,13,4093,null,null,null,null,0,221]
[21,4198,11,4207,11,4212,null,null,null,null,0,211]
[21,4365,11,4374,11,4380,null,null,null,null,0,211]
[21,4546,11,4555,11,4584,null,null,null,null,0,211]
[12,4876,13,4881,13,4890,null,null,null,null,0,111]
[21,4997,11,5005,11,5011,null,null,null,null,0,211]
[21,5145,11,5156,11,5161,null,null,null,null,0,211]
[21,5358,11,5368,11,5375,null,null,null,null,0,211]
[21,5580,11,5591,11,5595,null,null,null,null,0,211]
[21,5737,11,5749,11,5752,null,null,null,null,0,211]
[12,6007,13,6022,13,6035,null,null,null,null,0,111]
[21,6132,11,6142,11,6146,null,null,null,null,0,211]
[21,6269,11,6277,11,6281,null,null,null,null,0,211]
[21,6446,11,6456,11,6459,null,null,null,null,0,211]
[21,6660,11,6669,11,6673,null,null,null,null,0,211]
[21,6830,11,6841,11,6844,null,null,null,null,0,211]
[21,6999,11,7010,11,7015,null,null,null,null,0,211]
[21,7242,11,7254,11,7260,null,null,null,null,0,211]
[21,7471,11,7480,11,7484,null,null,null,null,0,211]
[21,7650,11,7658,11,7662,null,null,null,null,0,211]
[12,7871,13,7874,13,7889,null,null,null,null,0,111]
[21,7993,11,8003,11,8008,null,null,null,null,0,211]
[12,8195,13,8199,13,8216,null,null,null,null,0,111]
[21,8320,11,8329,11,8338,null,null,null,null,0,211]
[21,8484,11,8494,11,8499,null,null,null,null,0,211]
[21,8691,11,8701,11,8707,null,null,null,null,0,211]
[21,8887,11,8897,11,8903,null,null,null,null,0,211]
[21,9070,11,9079,11,9088,null,null,null,null,0,211]
[21,9265,11,9273,11,9276,null,null,null,null,1,211]

{"sheet":"!MA18A3D.ust","index":25,"n_rows":71,"n_cols":48,"rows_kept":71,"cut":false,"hidden":false,"merged":[[4,39,4,42],[5,39,5,40],[4,44,4,47],[5,44,5,45],[4,24,4,27],[5,24,5,25],[4,29,4,32],[5,29,5,30],[4,34,4,37],[5,34,5,35],[1,1,1,2],[5,13,5,14],[18,13,18,14],[19,13,19,14],[4,19,4,22],[5,19,5,20]]}
["Report for:!MA18A3D.ust"]
["Date:","<date>"]
["Hen:","<hen>",null,null,null,"Correct Sequence",{"$f":"Start!J2","v":211},null,null,null,null,null,null,null,null,"Total Sequences in Data",{"$f":"4994-COUNTBLANK(L7:L5000)","v":65},null,null,null,null,"Total Sequences in Block Data",{"$f":"COUNTA(L7:L17)","v":11},null,null,null,"Total Sequences in Block Data",{"$f":"COUNTA(L18:L28)","v":11},null,null,null,"Total Sequences in Block Data",{"$f":"COUNTA(L29:L38)","v":10},null,null,null,"Total Sequences in Block Data",{"$f":"COUNTA(L39:L49)","v":11},null,null,null,"Total Sequences in Block Data",{"$f":"COUNTA(L50:L60)","v":11},null,null,null,"Total Sequences in Block Data",{"$f":"COUNTA(L61:L71)","v":11}]
[null,null,null,null,null,null,null,null,null,null,null,null,null,null,null,"Total Sequences in Summary",{"$f":"SUM(O7:O14)","v":65},null,null,null,null,"Total Sequences in Block Summary",{"$f":"SUM(U7:U14)","v":11},null,null,null,"Total Sequences in Block Summary",{"$f":"SUM(Z7:Z14)","v":11},null,null,null,"Total Sequences in Block Summary",{"$f":"SUM(AE7:AE14)","v":10},null,null,null,"Total Sequences in Block Summary",{"$f":"SUM(AJ7:AJ14)","v":11},null,null,null,"Total Sequences in Block Summary",{"$f":"SUM(AO7:AO14)","v":11},null,null,null,"Total Sequences in Block Summary",{"$f":"SUM(AT7:AT14)","v":11}]
[null,null,null,null,null,null,null,null,null,null,null,null,null,null,null,null,null,null,null,"Block 1",null,null,null,null,"Block 2",null,null,null,null,"Block 3",null,null,null,null,"Block 4",null,null,null,null,"Block 5",null,null,null,null,"Block 6"]
["Sequence\nComponent\n1","Time\n1","Sequence\nComponent\n2","Time\n2","Sequence\nComponent\n3","Time\n3","Sequence\nComponent\n4","Time\n4","Sequence\nComponent\n5","Time\n5","Correct?\n0=No 1=Yes","Sequence",null,"Frequency",null,"Relative Frequency","Variability",null,null,"Frequency",null,"Relative Frequency","Variability",null,"Frequency",null,"Relative Frequency","Variability",null,"Frequency",null,"Relative Frequency","Variability",null,"Frequency",null,"Relative Frequency","Variability",null,"Frequency",null,"Relative Frequency","Variability",null,"Frequency",null,"Relative Frequency","Variability"]
[12,11,13,16,13,23,null,null,null,null,0,111,null,111,{"$f":"COUNTIF($L$7:$L$500,N7)","v":14},{"$f":"O7/$Q$4","v":0.2153846153846154},{"$f":"IF(P7=0,0,(P7*((LOG(P7))/LOG(2))))","v":-0.4770796995937216},null,null,{"$f":"N7","v":111},{"$f":"COUNTIF(L7:L17,T7)","v":3},{"$f":"U7/(W4-U11)","v":0.375},{"$f":"IF(V7=0,0,(V7*((LOG(V7))/LOG(2))))","v":-0.53063906222956647},null,{"$f":"N7","v":111},{"$f":"COUNTIF(L18:L28,Y7)","v":1},{"$f":"Z7/(AB4-Z11)","v":1},{"$f":"IF(AA7=0,0,(AA7*((LOG(AA7))/LOG(2))))","v":0},null,{"$f":"N7","v":111},{"$f":"COUNTIF(L29:L38,AD7)","v":2},{"$f":"AE7/(AG4-AE11)","v":1},{"$f":"IF(AF7=0,0,(AF7*((LOG(AF7))/LOG(2))))","v":0},null,{"$f":"N7","v":111},{"$f":"COUNTIF(L39:L49,AI7)","v":3},{"$f":"AJ7/(AL4-AJ11)","v":0.6},{"$f":"IF(AK7=0,0,(AK7*((LOG(AK7))/LOG(2))))","v":-0.44217935649972373},null,{"$f":"N7","v":111},{"$f":"COUNTIF(L50:L60,AN7)","v":3},{"$f":"AO7/(AQ4-AO11)","v":0.5},{"$f":"IF(AP7=0,0,(AP7*((LOG(AP7))/LOG(2))))","v":-0.5},null,{"$f":"N7","v":111},{"$f":"COUNTIF(L61:L71,AS7)","v":2},{"$f":"AT7/(AV4-AT11)","v":0.5},{"$f":"IF(AU7=0,0,(AU7*((LOG(AU7))/LOG(2))))","v":-0.5}]
[21,121,11,130,11,134,null,null,null,null,0,211,null,112,{"$f":"COUNTIF($L$7:$L$500,N8)","v":4},{"$f":"O8/$Q$4","v":6.1538461538461542E-2},{"$f":"IF(P8=0,0,(P8*((LOG(P8))/LOG(2))))","v":-0.24753032695559721},null,null,{"$f":"N8","v":112},{"$f":"COUNTIF(L7:L17,T8)","v":0},{"$f":"U8/(W4-U11)","v":0},{"$f":"IF(V8=0,0,(V8*((LOG(V8))/LOG(2))))","v":0},null,{"$f":"N8","v":112},{"$f":"COUNTIF(L18:L28,Y8)","v":0},{"$f":"Z8/(AB4-Z11)","v":0},{"$f":"IF(AA8=0,0,(AA8*((LOG(AA8))/LOG(2))))","v":0},null,{"$f":"N8","v":112},{"$f":"COUNTIF(L29:L38,AD8)","v":0},{"$f":"AE8/(AG4-AE11)","v":0},{"$f":"IF(AF8=0,0,(AF8*((LOG(AF8))/LOG(2))))","v":0},null,{"$f":"N8","v":112},{"$f":"COUNTIF(L39:L49,AI8)","v":1},{"$f":"AJ8/(AL4-AJ11)","v":0.2},{"$f":"IF(AK8=0,0,(AK8*((LOG(AK8))/LOG(2))))","v":-0.46438561897747244},null,{"$f":"N8","v":112},{"$f":"COUNTIF(L50:L60,AN8)","v":2},{"$f":"AO8/(AQ4-AO11)","v":0.33333333333333331},{"$f":"IF(AP8=0,0,(AP8*((LOG(AP8))/LOG(2))))","v":-0.52832083357371862},null,{"$f":"N8","v":112},{"$f":"COUNTIF(L61:L71,AS8)","v":1},{"$f":"AT8/(AV4-AT11)","v":0.25},{"$f":"IF(AU8=0,0,(AU8*((LOG(AU8))/LOG(2))))","v":-0.5}]
[12,280,13,286,13,302,null,null,null,null,0,111,null,121,{"$f":"COUNTIF($L$7:$L$500,N9)","v":0},{"$f":"O9/$Q$4","v":0},{"$f":"IF(P9=0,0,(P9*((LOG(P9))/LOG(2))))","v":0},null,null,{"$f":"N9","v":121},{"$f":"COUNTIF(L7:L17,T9)","v":0},{"$f":"U9/(W4-U11)","v":0},{"$f":"IF(V9=0,0,(V9*((LOG(V9))/LOG(2))))","v":0},null,{"$f":"N9","v":121},{"$f":"COUNTIF(L18:L28,Y9)","v":0},{"$f":"Z9/(AB4-Z11)","v":0},{"$f":"IF(AA9=0,0,(AA9*((LOG(AA9))/LOG(2))))","v":0},null,{"$f":"N9","v":121},{"$f":"COUNTIF(L29:L38,AD9)","v":0},{"$f":"AE9/(AG4-AE11)","v":0},{"$f":"IF(AF9=0,0,(AF9*((LOG(AF9))/LOG(2))))","v":0},null,{"$f":"N9","v":121},{"$f":"COUNTIF(L39:L49,AI9)","v":0},{"$f":"AJ9/(AL4-AJ11)","v":0},{"$f":"IF(AK9=0,0,(AK9*((LOG(AK9))/LOG(2))))","v":0},null,{"$f":"N9","v":121},{"$f":"COUNTIF(L50:L60,AN9)","v":0},{"$f":"AO9/(AQ4-AO11)","v":0},{"$f":"IF(AP9=0,0,(AP9*((LOG(AP9))/LOG(2))))","v":0},null,{"$f":"N9","v":121},{"$f":"COUNTIF(L61:L71,AS9)","v":0},{"$f":"AT9/(AV4-AT11)","v":0},{"$f":"IF(AU9=0,0,(AU9*((LOG(AU9))/LOG(2))))","v":0}]
[21,401,22,404,13,412,null,null,null,null,0,221,null,122,{"$f":"COUNTIF($L$7:$L$500,N10)","v":0},{"$f":"O10/$Q$4","v":0},{"$f":"IF(P10=0,0,(P10*((LOG(P10))/LOG(2))))","v":0},null,null,{"$f":"N10","v":122},{"$f":"COUNTIF(L7:L17,T10)","v":0},{"$f":"U10/(W4-U11)","v":0},{"$f":"IF(V10=0,0,(V10*((LOG(V10))/LOG(2))))","v":0},null,{"$f":"N10","v":122},{"$f":"COUNTIF(L18:L28,Y10)","v":0},{"$f":"Z10/(AB4-Z11)","v":0},{"$f":"IF(AA10=0,0,(AA10*((LOG(AA10))/LOG(2))))","v":0},null,{"$f":"N10","v":122},{"$f":"COUNTIF(L29:L38,AD10)","v":0},{"$f":"AE10/(AG4-AE11)","v":0},{"$f":"IF(AF10=0,0,(AF10*((LOG(AF10))/LOG(2))))","v":0},null,{"$f":"N10","v":122},{"$f":"COUNTIF(L39:L49,AI10)","v":0},{"$f":"AJ10/(AL4-AJ11)","v":0},{"$f":"IF(AK10=0,0,(AK10*((LOG(AK10))/LOG(2))))","v":0},null,{"$f":"N10","v":122},{"$f":"COUNTIF(L50:L60,AN10)","v":0},{"$f":"AO10/(AQ4-AO11)","v":0},{"$f":"IF(AP10=0,0,(AP10*((LOG(AP10))/LOG(2))))","v":0},null,{"$f":"N10","v":122},{"$f":"COUNTIF(L61:L71,AS10)","v":0},{"$f":"AT10/(AV4-AT11)","v":0},{"$f":"IF(AU10=0,0,(AU10*((LOG(AU10))/LOG(2))))","v":0}]
[21,508,22,513,13,521,null,null,null,null,0,221,null,211,{"$f":"COUNTIF($L$7:$L$500,N11)","v":39},{"$f":"O11/$Q$4","v":0.6},{"$f":"IF(P11=0,0,(P11*((LOG(P11))/LOG(2))))","v":-0.44217935649972373},null,null,{"$f":"N11","v":211},{"$f":"COUNTIF(L7:L17,T11)","v":3},null,null,null,{"$f":"N11","v":211},{"$f":"COUNTIF(L18:L28,Y11)","v":10},null,null,null,{"$f":"N11","v":211},{"$f":"COUNTIF(L29:L38,AD11)","v":8},null,null,null,{"$f":"N11","v":211},{"$f":"COUNTIF(L39:L49,AI11)","v":6},null,null,null,{"$f":"N11","v":211},{"$f":"COUNTIF(L50:L60,AN11)","v":5},null,null,null,{"$f":"N11","v":211},{"$f":"COUNTIF(L61:L71,AS11)","v":7}]
[21,613,22,621,24,627,null,null,null,null,0,222,null,212,{"$f":"COUNTIF($L$7:$L$500,N12)","v":0},{"$f":"O12/$Q$4","v":0},{"$f":"IF(P12=0,0,(P12*((LOG(P12))/LOG(2))))","v":0},null,null,{"$f":"N12","v":212},{"$f":"COUNTIF(L7:L17,T12)","v":0},{"$f":"U12/(W4-U11)","v":0},{"$f":"IF(V12=0,0,(V12*((LOG(V12))/LOG(2))))","v":0},null,{"$f":"N12","v":212},{"$f":"COUNTIF(L18:L28,Y12)","v":0},{"$f":"Z12/(AB4-Z11)","v":0},{"$f":"IF(AA12=0,0,(AA12*((LOG(AA12))/LOG(2))))","v":0},null,{"$f":"N12","v":212},{"$f":"COUNTIF(L29:L38,AD12)","v":0},{"$f":"AE12/(AG4-AE11)","v":0},{"$f":"IF(AF12=0,0,(AF12*((LOG(AF12))/LOG(2))))","v":0},null,{"$f":"N12","v":212},{"$f":"COUNTIF(L39:L49,AI12)","v":0},{"$f":"AJ12/(AL4-AJ11)","v":0},{"$f":"IF(AK12=0,0,(AK12*((LOG(AK12))/LOG(2))))","v":0},null,{"$f":"N12","v":212},{"$f":"COUNTIF(L50:L60,AN12)","v":0},{"$f":"AO12/(AQ4-AO11)","v":0},{"$f":"IF(AP12=0,0,(AP12*((LOG(AP12))/LOG(2))))","v":0},null,{"$f":"N12","v":212},{"$f":"COUNTIF(L61:L71,AS12)","v":0},{"$f":"AT12/(AV4-AT11)","v":0},{"$f":"IF(AU12=0,0,(AU12*((LOG(AU12))/LOG(2))))","v":0}]
[21,725,22,728,24,730,null,null,null,null,0,222,null,221,{"$f":"COUNTIF($L$7:$L$500,N13)","v":5},{"$f":"O13/$Q$4","v":7.6923076923076927E-2},{"$f":"IF(P13=0,0,(P13*((LOG(P13))/LOG(2))))","v":-0.28464920908777636},null,null,{"$f":"N13","v":221},{"$f":"COUNTIF(L7:L17,T13)","v":2},{"$f":"U13/(W4-U11)","v":0.25},{"$f":"IF(V13=0,0,(V13*((LOG(V13))/LOG(2))))","v":-0.5},null,{"$f":"N13","v":221},{"$f":"COUNTIF(L18:L28,Y13)","v":0},{"$f":"Z13/(AB4-Z11)","v":0},{"$f":"IF(AA13=0,0,(AA13*((LOG(AA13))/LOG(2))))","v":0},null,{"$f":"N13","v":221},{"$f":"COUNTIF(L29:L38,AD13)","v":0},{"$f":"AE13/(AG4-AE11)","v":0},{"$f":"IF(AF13=0,0,(AF13*((LOG(AF13))/LOG(2))))","v":0},null,{"$f":"N13","v":221},{"$f":"COUNTIF(L39:L49,AI13)","v":1},{"$f":"AJ13/(AL4-AJ11)","v":0.2},{"$f":"IF(AK13=0,0,(AK13*((LOG(AK13))/LOG(2))))","v":-0.46438561897747244},null,{"$f":"N13","v":221},{"$f":"COUNTIF(L50:L60,AN13)","v":1},{"$f":"AO13/(AQ4-AO11)","v":0.16666666666666666},{"$f":"IF(AP13=0,0,(AP13*((LOG(AP13))/LOG(2))))","v":-0.43082708345352599},null,{"$f":"N13","v":221},{"$f":"COUNTIF(L61:L71,AS13)","v":1},{"$f":"AT13/(AV4-AT11)","v":0.25},{"$f":"IF(AU13=0,0,(AU13*((LOG(AU13))/LOG(2))))","v":-0.5}]
[21,828,22,835,24,842,null,null,null,null,0,222,null,222,{"$f":"COUNTIF($L$7:$L$500,N14)","v":3},{"$f":"O14/$Q$4","v":4.6153846153846156E-2},{"$f":"IF(P14=0,0,(P14*((LOG(P14))/LOG(2))))","v":-0.20480332210649072},null,null,{"$f":"N14","v":222},{"$f":"COUNTIF(L7:L17,T14)","v":3},{"$f":"U14/(W4-U11)","v":0.375},{"$f":"IF(V14=0,0,(V14*((LOG(V14))/LOG(2))))","v":-0.53063906222956647},null,{"$f":"N14","v":222},{"$f":"COUNTIF(L18:L28,Y14)","v":0},{"$f":"Z14/(AB4-Z11)","v":0},{"$f":"IF(AA14=0,0,(AA14*((LOG(AA14))/LOG(2))))","v":0},null,{"$f":"N14","v":222},{"$f":"COUNTIF(L29:L38,AD14)","v":0},{"$f":"AE14/(AG4-AE11)","v":0},{"$f":"IF(AF14=0,0,(AF14*((LOG(AF14))/LOG(2))))","v":0},null,{"$f":"N14","v":222},{"$f":"COUNTIF(L39:L49,AI14)","v":0},{"$f":"AJ14/(AL4-AJ11)","v":0},{"$f":"IF(AK14=0,0,(AK14*((LOG(AK14))/LOG(2))))","v":0},null,{"$f":"N14","v":222},{"$f":"COUNTIF(L50:L60,AN14)","v":0},{"$f":"AO14/(AQ4-AO11)","v":0},{"$f":"IF(AP14=0,0,(AP14*((LOG(AP14))/LOG(2))))","v":0},null,{"$f":"N14","v":222},{"$f":"COUNTIF(L61:L71,AS14)","v":0},{"$f":"AT14/(AV4-AT11)","v":0},{"$f":"IF(AU14=0,0,(AU14*((LOG(AU14))/LOG(2))))","v":0}]
[21,957,11,968,11,978,null,null,null,null,0,211,null,null,null,{"$f":"SUM(P7:P14)","v":1},{"$f":"-SUM(Q7:Q14)","v":1.6562419142433096},null,null,null,null,{"$f":"SUM(V7:V14)","v":1},{"$f":"-SUM(W7:W14)","v":1.5612781244591329},null,null,null,{"$f":"SUM(AA7:AA14)","v":1},{"$f":"-SUM(AB7:AB14)","v":0},null,null,null,{"$f":"SUM(AF7:AF14)","v":1},{"$f":"-SUM(AG7:AG14)","v":0},null,null,null,{"$f":"SUM(AK7:AK14)","v":1},{"$f":"-SUM(AL7:AL14)","v":1.3709505944546687},null,null,null,{"$f":"SUM(AP7:AP14)","v":0.99999999999999989},{"$f":"-SUM(AQ7:AQ14)","v":1.4591479170272446},null,null,null,{"$f":"SUM(AU7:AU14)","v":1},{"$f":"-SUM(AV7:AV14)","v":1.5}]
[21,1127,11,1135,11,1142,null,null,null,null,0,211,null,null,null,"U=",{"$f":"Q15/(LOG(Q4)/LOG(2))","v":0.27501507142428072},null,null,null,null,"U1=",{"$f":"W15/(LOG(W4)/LOG(2))","v":0.45131058988069689},null,null,null,"U2=",{"$f":"AB15/(LOG(AB4)/LOG(2))","v":0},null,null,null,"U3=",{"$f":"AG15/(LOG(AG4)/LOG(2))","v":0},null,null,null,"U4=",{"$f":"AL15/(LOG(AL4)/LOG(2))","v":0.39629359547644388},null,null,null,"U5=",{"$f":"AQ15/(LOG(AQ4)/LOG(2))","v":0.42178833920758824},null,null,null,"U6=",{"$f":"AV15/(LOG(AV4)/LOG(2))","v":0.43359723947683171}]
[12,1286,13,1291,13,1301,null,null,null,null,0,111]
[21,1405,11,1415,11,1422,null,null,null,null,0,211]
[12,1553,13,1558,13,1567,null,null,null,null,0,111,null,"Total Target Seq"]
[21,1670,11,1679,11,1689,null,null,null,null,0,211,null,{"$f":"COUNTIF(L7:L71,G3)","v":39},null,11,11,10,11,11,11]
[21,1860,11,1869,11,1878,null,null,null,null,0,211,null,null,null,"% of reinforcement given in 6 equal intervals based on number of trials "]
[21,2007,11,2015,11,2021,null,null,null,null,0,211,null,null,null,"%_1","%_2","%_3","%_4","%_5","%_6"]
[21,2223,11,2231,11,2235,null,null,null,null,0,211,null,null,"target sequence",{"$f":"$G$3","v":211},{"$f":"$G$3","v":211},{"$f":"$G$3","v":211},{"$f":"$G$3","v":211},{"$f":"$G$3","v":211},{"$f":"$G$3","v":211}]
[21,2348,11,2356,11,2366,null,null,null,null,0,211,null,null,"total reinforcement",{"$f":"U11","v":3},{"$f":"Z11","v":10},{"$f":"AE11","v":8},{"$f":"AJ11","v":6},{"$f":"AO11","v":5},{"$f":"AT11","v":7}]
[21,2555,11,2564,11,2567,null,null,null,null,0,211,null,null,"% target"]
[21,2754,11,2765,11,2778,null,null,null,null,0,211,null,null,"CCRF"]
[21,2915,11,2925,11,2928,null,null,null,null,0,211,null,null,"% CCRf"]
[21,3103,11,3112,11,3131,null,null,null,null,0,211,null,null,"average response rate",{"$f":"F17/P20","v":118.27272727272727},{"$f":"(F28-F17)/Q20","v":166.36363636363637},{"$f":"(F38-F28)/R20","v":170},{"$f":"(F49-F38)/S20","v":159.81818181818181},{"$f":"(F60-F49)/T20","v":137.90909090909091},{"$f":"(F71-F60)/U20","v":165.90909090909091}]
[21,3293,11,3303,11,3316,null,null,null,null,0,211]
[21,3434,11,3443,11,3449,null,null,null,null,0,211]
[21,3596,11,3606,11,3618,null,null,null,null,0,211]
[21,3723,11,3733,11,3737,null,null,null,null,0,211]
[21,3911,11,3921,11,3925,null,null,null,null,0,211]
[21,4094,11,4102,11,4106,null,null,null,null,0,211]
[12,4328,13,4339,13,4356,null,null,null,null,0,111]
[21,4454,11,4464,11,4468,null,null,null,null,0,211]
[21,4608,11,4616,11,4627,null,null,null,null,0,211]
[12,4802,13,4810,13,4831,null,null,null,null,0,111]
[21,4933,11,4942,11,4950,null,null,null,null,0,211]
[21,5102,11,5110,11,5114,null,null,null,null,0,211]
[12,5318,13,5322,13,5337,null,null,null,null,0,111]
[21,5433,22,5439,13,5448,null,null,null,null,0,221]
[21,5548,11,5558,11,5564,null,null,null,null,0,211]
[12,5742,13,5746,13,5760,null,null,null,null,0,111]
[21,5864,11,5873,11,5877,null,null,null,null,0,211]
[21,5986,11,5993,11,6003,null,null,null,null,0,211]
[12,6212,13,6216,24,6228,null,null,null,null,0,112]
[12,6451,13,6458,13,6477,null,null,null,null,0,111]
[21,6575,11,6584,11,6589,null,null,null,null,0,211]
[12,6707,13,6713,13,6720,null,null,null,null,0,111]
[12,6832,13,6850,13,6861,null,null,null,null,0,111]
[21,6964,11,6973,11,6978,null,null,null,null,0,211]
[21,7079,11,7090,11,7093,null,null,null,null,0,211]
[21,7238,11,7250,11,7253,null,null,null,null,0,211]
[12,7416,13,7421,24,7438,null,null,null,null,0,112]
[12,7558,13,7566,13,7586,null,null,null,null,0,111]
[21,7685,11,7696,11,7701,null,null,null,null,0,211]
[12,7833,13,7837,24,7873,null,null,null,null,0,112]
[21,7968,22,7973,13,7985,null,null,null,null,0,221]
[21,8084,11,8095,11,8106,null,null,null,null,0,211]
[21,8233,11,8243,11,8246,null,null,null,null,0,211]
[12,8371,13,8376,13,8387,null,null,null,null,0,111]
[21,8484,11,8499,11,8503,null,null,null,null,0,211]
[21,8665,11,8675,11,8681,null,null,null,null,0,211]
[21,8844,11,8857,11,8861,null,null,null,null,0,211]
[12,9131,13,9133,13,9150,null,null,null,null,0,111]
[21,9251,11,9261,11,9266,null,null,null,null,0,211]
[12,9465,13,9474,24,9494,null,null,null,null,0,112]
[21,9618,22,9627,13,9636,null,null,null,null,0,221]
[21,9737,11,9748,11,9756,null,null,null,null,0,211]
[21,9911,11,9921,11,9931,null,null,null,null,1,211]

{"sheet":"!MA1994D.ust","index":26,"n_rows":66,"n_cols":48,"rows_kept":66,"cut":false,"hidden":false,"merged":[[4,39,4,42],[5,39,5,40],[4,44,4,47],[5,44,5,45],[4,24,4,27],[5,24,5,25],[4,29,4,32],[5,29,5,30],[4,34,4,37],[5,34,5,35],[1,1,1,2],[5,13,5,14],[18,13,18,14],[19,13,19,14],[4,19,4,22],[5,19,5,20]]}
["Report for:!MA1994D.ust"]
["Date:","<date>"]
["Hen:","<hen>",null,null,null,"Correct Sequence",{"$f":"Start!J2","v":211},null,null,null,null,null,null,null,null,"Total Sequences in Data",{"$f":"4994-COUNTBLANK(L7:L5000)","v":60},null,null,null,null,"Total Sequences in Block Data",{"$f":"COUNTA(L7:L16)","v":10},null,null,null,"Total Sequences in Block Data",{"$f":"COUNTA(L17:L26)","v":10},null,null,null,"Total Sequences in Block Data",{"$f":"COUNTA(L27:L36)","v":10},null,null,null,"Total Sequences in Block Data",{"$f":"COUNTA(L37:L46)","v":10},null,null,null,"Total Sequences in Block Data",{"$f":"COUNTA(L47:L56)","v":10},null,null,null,"Total Sequences in Block Data",{"$f":"COUNTA(L57:L66)","v":10}]
[null,null,null,null,null,null,null,null,null,null,null,null,null,null,null,"Total Sequences in Summary",{"$f":"SUM(O7:O14)","v":60},null,null,null,null,"Total Sequences in Block Summary",{"$f":"SUM(U7:U14)","v":10},null,null,null,"Total Sequences in Block Summary",{"$f":"SUM(Z7:Z14)","v":10},null,null,null,"Total Sequences in Block Summary",{"$f":"SUM(AE7:AE14)","v":10},null,null,null,"Total Sequences in Block Summary",{"$f":"SUM(AJ7:AJ14)","v":10},null,null,null,"Total Sequences in Block Summary",{"$f":"SUM(AO7:AO14)","v":10},null,null,null,"Total Sequences in Block Summary",{"$f":"SUM(AT7:AT14)","v":10}]
[null,null,null,null,null,null,null,null,null,null,null,null,null,null,null,null,null,null,null,"Block 1",null,null,null,null,"Block 2",null,null,null,null,"Block 3",null,null,null,null,"Block 4",null,null,null,null,"Block 5",null,null,null,null,"Block 6"]
["Sequence\nComponent\n1","Time\n1","Sequence\nComponent\n2","Time\n2","Sequence\nComponent\n3","Time\n3","Sequence\nComponent\n4","Time\n4","Sequence\nComponent\n5","Time\n5","Correct?\n0=No 1=Yes","Sequence",null,"Frequency",null,"Relative Frequency","Variability",null,null,"Frequency",null,"Relative Frequency","Variability",null,"Frequency",null,"Relative Frequency","Variability",null,"Frequency",null,"Relative Frequency","Variability",null,"Frequency",null,"Relative Frequency","Variability",null,"Frequency",null,"Relative Frequency","Variability",null,"Frequency",null,"Relative Frequency","Variability"]
[12,12,13,18,13,23,null,null,null,null,0,111,null,111,{"$f":"COUNTIF($L$7:$L$500,N7)","v":8},{"$f":"O7/$Q$4","v":0.13333333333333333},{"$f":"IF(P7=0,0,(P7*((LOG(P7))/LOG(2))))","v":-0.3875854127478025},null,null,{"$f":"N7","v":111},{"$f":"COUNTIF(L7:L16,T7)","v":2},{"$f":"U7/(W4-U11)","v":0.66666666666666663},{"$f":"IF(V7=0,0,(V7*((LOG(V7))/LOG(2))))","v":-0.38997500048077083},null,{"$f":"N7","v":111},{"$f":"COUNTIF(L17:L26,Y7)","v":1},{"$f":"Z7/(AB4-Z11)","v":0.25},{"$f":"IF(AA7=0,0,(AA7*((LOG(AA7))/LOG(2))))","v":-0.5},null,{"$f":"N7","v":111},{"$f":"COUNTIF(L27:L36,AD7)","v":2},{"$f":"AE7/(AG4-AE11)","v":1},{"$f":"IF(AF7=0,0,(AF7*((LOG(AF7))/LOG(2))))","v":0},null,{"$f":"N7","v":111},{"$f":"COUNTIF(L37:L46,AI7)","v":1},{"$f":"AJ7/(AL4-AJ11)","v":0.33333333333333331},{"$f":"IF(AK7=0,0,(AK7*((LOG(AK7))/LOG(2))))","v":-0.52832083357371862},null,{"$f":"N7","v":111},{"$f":"COUNTIF(L47:L56,AN7)","v":1},{"$f":"AO7/(AQ4-AO11)","v":0.2},{"$f":"IF(AP7=0,0,(AP7*((LOG(AP7))/LOG(2))))","v":-0.46438561897747244},null,{"$f":"N7","v":111},{"$f":"COUNTIF(L57:L66,AS7)","v":1},{"$f":"AT7/(AV4-AT11)","v":0.25},{"$f":"IF(AU7=0,0,(AU7*((LOG(AU7))/LOG(2))))","v":-0.5}]
[21,124,11,132,11,137,null,null,null,null,0,211,null,112,{"$f":"COUNTIF($L$7:$L$500,N8)","v":9},{"$f":"O8/$Q$4","v":0.15},{"$f":"IF(P8=0,0,(P8*((LOG(P8))/LOG(2))))","v":-0.41054483912493089},null,null,{"$f":"N8","v":112},{"$f":"COUNTIF(L7:L16,T8)","v":1},{"$f":"U8/(W4-U11)","v":0.33333333333333331},{"$f":"IF(V8=0,0,(V8*((LOG(V8))/LOG(2))))","v":-0.52832083357371862},null,{"$f":"N8","v":112},{"$f":"COUNTIF(L17:L26,Y8)","v":1},{"$f":"Z8/(AB4-Z11)","v":0.25},{"$f":"IF(AA8=0,0,(AA8*((LOG(AA8))/LOG(2))))","v":-0.5},null,{"$f":"N8","v":112},{"$f":"COUNTIF(L27:L36,AD8)","v":0},{"$f":"AE8/(AG4-AE11)","v":0},{"$f":"IF(AF8=0,0,(AF8*((LOG(AF8))/LOG(2))))","v":0},null,{"$f":"N8","v":112},{"$f":"COUNTIF(L37:L46,AI8)","v":2},{"$f":"AJ8/(AL4-AJ11)","v":0.66666666666666663},{"$f":"IF(AK8=0,0,(AK8*((LOG(AK8))/LOG(2))))","v":-0.38997500048077083},null,{"$f":"N8","v":112},{"$f":"COUNTIF(L47:L56,AN8)","v":4},{"$f":"AO8/(AQ4-AO11)","v":0.8},{"$f":"IF(AP8=0,0,(AP8*((LOG(AP8))/LOG(2))))","v":-0.25754247590988982},null,{"$f":"N8","v":112},{"$f":"COUNTIF(L57:L66,AS8)","v":1},{"$f":"AT8/(AV4-AT11)","v":0.25},{"$f":"IF(AU8=0,0,(AU8*((LOG(AU8))/LOG(2))))","v":-0.5}]
[12,286,13,290,24,307,null,null,null,null,0,112,null,121,{"$f":"COUNTIF($L$7:$L$500,N9)","v":0},{"$f":"O9/$Q$4","v":0},{"$f":"IF(P9=0,0,(P9*((LOG(P9))/LOG(2))))","v":0},null,null,{"$f":"N9","v":121},{"$f":"COUNTIF(L7:L16,T9)","v":0},{"$f":"U9/(W4-U11)","v":0},{"$f":"IF(V9=0,0,(V9*((LOG(V9))/LOG(2))))","v":0},null,{"$f":"N9","v":121},{"$f":"COUNTIF(L17:L26,Y9)","v":0},{"$f":"Z9/(AB4-Z11)","v":0},{"$f":"IF(AA9=0,0,(AA9*((LOG(AA9))/LOG(2))))","v":0},null,{"$f":"N9","v":121},{"$f":"COUNTIF(L27:L36,AD9)","v":0},{"$f":"AE9/(AG4-AE11)","v":0},{"$f":"IF(AF9=0,0,(AF9*((LOG(AF9))/LOG(2))))","v":0},null,{"$f":"N9","v":121},{"$f":"COUNTIF(L37:L46,AI9)","v":0},{"$f":"AJ9/(AL4-AJ11)","v":0},{"$f":"IF(AK9=0,0,(AK9*((LOG(AK9))/LOG(2))))","v":0},null,{"$f":"N9","v":121},{"$f":"COUNTIF(L47:L56,AN9)","v":0},{"$f":"AO9/(AQ4-AO11)","v":0},{"$f":"IF(AP9=0,0,(AP9*((LOG(AP9))/LOG(2))))","v":0},null,{"$f":"N9","v":121},{"$f":"COUNTIF(L57:L66,AS9)","v":0},{"$f":"AT9/(AV4-AT11)","v":0},{"$f":"IF(AU9=0,0,(AU9*((LOG(AU9))/LOG(2))))","v":0}]
[21,403,11,416,11,421,null,null,null,null,0,211,null,122,{"$f":"COUNTIF($L$7:$L$500,N10)","v":1},{"$f":"O10/$Q$4","v":1.6666666666666666E-2},{"$f":"IF(P10=0,0,(P10*((LOG(P10))/LOG(2))))","v":-9.8448176593475309E-2},null,null,{"$f":"N10","v":122},{"$f":"COUNTIF(L7:L16,T10)","v":0},{"$f":"U10/(W4-U11)","v":0},{"$f":"IF(V10=0,0,(V10*((LOG(V10))/LOG(2))))","v":0},null,{"$f":"N10","v":122},{"$f":"COUNTIF(L17:L26,Y10)","v":1},{"$f":"Z10/(AB4-Z11)","v":0.25},{"$f":"IF(AA10=0,0,(AA10*((LOG(AA10))/LOG(2))))","v":-0.5},null,{"$f":"N10","v":122},{"$f":"COUNTIF(L27:L36,AD10)","v":0},{"$f":"AE10/(AG4-AE11)","v":0},{"$f":"IF(AF10=0,0,(AF10*((LOG(AF10))/LOG(2))))","v":0},null,{"$f":"N10","v":122},{"$f":"COUNTIF(L37:L46,AI10)","v":0},{"$f":"AJ10/(AL4-AJ11)","v":0},{"$f":"IF(AK10=0,0,(AK10*((LOG(AK10))/LOG(2))))","v":0},null,{"$f":"N10","v":122},{"$f":"COUNTIF(L47:L56,AN10)","v":0},{"$f":"AO10/(AQ4-AO11)","v":0},{"$f":"IF(AP10=0,0,(AP10*((LOG(AP10))/LOG(2))))","v":0},null,{"$f":"N10","v":122},{"$f":"COUNTIF(L57:L66,AS10)","v":0},{"$f":"AT10/(AV4-AT11)","v":0},{"$f":"IF(AU10=0,0,(AU10*((LOG(AU10))/LOG(2))))","v":0}]
[21,554,11,563,11,565,null,null,null,null,0,211,null,211,{"$f":"COUNTIF($L$7:$L$500,N11)","v":39},{"$f":"O11/$Q$4","v":0.65},{"$f":"IF(P11=0,0,(P11*((LOG(P11))/LOG(2))))","v":-0.40396744488507563},null,null,{"$f":"N11","v":211},{"$f":"COUNTIF(L7:L16,T11)","v":7},null,null,null,{"$f":"N11","v":211},{"$f":"COUNTIF(L17:L26,Y11)","v":6},null,null,null,{"$f":"N11","v":211},{"$f":"COUNTIF(L27:L36,AD11)","v":8},null,null,null,{"$f":"N11","v":211},{"$f":"COUNTIF(L37:L46,AI11)","v":7},null,null,null,{"$f":"N11","v":211},{"$f":"COUNTIF(L47:L56,AN11)","v":5},null,null,null,{"$f":"N11","v":211},{"$f":"COUNTIF(L57:L66,AS11)","v":6}]
[21,707,11,714,11,716,null,null,null,null,0,211,null,212,{"$f":"COUNTIF($L$7:$L$500,N12)","v":0},{"$f":"O12/$Q$4","v":0},{"$f":"IF(P12=0,0,(P12*((LOG(P12))/LOG(2))))","v":0},null,null,{"$f":"N12","v":212},{"$f":"COUNTIF(L7:L16,T12)","v":0},{"$f":"U12/(W4-U11)","v":0},{"$f":"IF(V12=0,0,(V12*((LOG(V12))/LOG(2))))","v":0},null,{"$f":"N12","v":212},{"$f":"COUNTIF(L17:L26,Y12)","v":0},{"$f":"Z12/(AB4-Z11)","v":0},{"$f":"IF(AA12=0,0,(AA12*((LOG(AA12))/LOG(2))))","v":0},null,{"$f":"N12","v":212},{"$f":"COUNTIF(L27:L36,AD12)","v":0},{"$f":"AE12/(AG4-AE11)","v":0},{"$f":"IF(AF12=0,0,(AF12*((LOG(AF12))/LOG(2))))","v":0},null,{"$f":"N12","v":212},{"$f":"COUNTIF(L37:L46,AI12)","v":0},{"$f":"AJ12/(AL4-AJ11)","v":0},{"$f":"IF(AK12=0,0,(AK12*((LOG(AK12))/LOG(2))))","v":0},null,{"$f":"N12","v":212},{"$f":"COUNTIF(L47:L56,AN12)","v":0},{"$f":"AO12/(AQ4-AO11)","v":0},{"$f":"IF(AP12=0,0,(AP12*((LOG(AP12))/LOG(2))))","v":0},null,{"$f":"N12","v":212},{"$f":"COUNTIF(L57:L66,AS12)","v":0},{"$f":"AT12/(AV4-AT11)","v":0},{"$f":"IF(AU12=0,0,(AU12*((LOG(AU12))/LOG(2))))","v":0}]
[21,870,11,879,11,885,null,null,null,null,0,211,null,221,{"$f":"COUNTIF($L$7:$L$500,N13)","v":3},{"$f":"O13/$Q$4","v":0.05},{"$f":"IF(P13=0,0,(P13*((LOG(P13))/LOG(2))))","v":-0.21609640474436814},null,null,{"$f":"N13","v":221},{"$f":"COUNTIF(L7:L16,T13)","v":0},{"$f":"U13/(W4-U11)","v":0},{"$f":"IF(V13=0,0,(V13*((LOG(V13))/LOG(2))))","v":0},null,{"$f":"N13","v":221},{"$f":"COUNTIF(L17:L26,Y13)","v":1},{"$f":"Z13/(AB4-Z11)","v":0.25},{"$f":"IF(AA13=0,0,(AA13*((LOG(AA13))/LOG(2))))","v":-0.5},null,{"$f":"N13","v":221},{"$f":"COUNTIF(L27:L36,AD13)","v":0},{"$f":"AE13/(AG4-AE11)","v":0},{"$f":"IF(AF13=0,0,(AF13*((LOG(AF13))/LOG(2))))","v":0},null,{"$f":"N13","v":221},{"$f":"COUNTIF(L37:L46,AI13)","v":0},{"$f":"AJ13/(AL4-AJ11)","v":0},{"$f":"IF(AK13=0,0,(AK13*((LOG(AK13))/LOG(2))))","v":0},null,{"$f":"N13","v":221},{"$f":"COUNTIF(L47:L56,AN13)","v":0},{"$f":"AO13/(AQ4-AO11)","v":0},{"$f":"IF(AP13=0,0,(AP13*((LOG(AP13))/LOG(2))))","v":0},null,{"$f":"N13","v":221},{"$f":"COUNTIF(L57:L66,AS13)","v":2},{"$f":"AT13/(AV4-AT11)","v":0.5},{"$f":"IF(AU13=0,0,(AU13*((LOG(AU13))/LOG(2))))","v":-0.5}]
[21,1018,11,1025,11,1028,null,null,null,null,0,211,null,222,{"$f":"COUNTIF($L$7:$L$500,N14)","v":0},{"$f":"O14/$Q$4","v":0},{"$f":"IF(P14=0,0,(P14*((LOG(P14))/LOG(2))))","v":0},null,null,{"$f":"N14","v":222},{"$f":"COUNTIF(L7:L16,T14)","v":0},{"$f":"U14/(W4-U11)","v":0},{"$f":"IF(V14=0,0,(V14*((LOG(V14))/LOG(2))))","v":0},null,{"$f":"N14","v":222},{"$f":"COUNTIF(L17:L26,Y14)","v":0},{"$f":"Z14/(AB4-Z11)","v":0},{"$f":"IF(AA14=0,0,(AA14*((LOG(AA14))/LOG(2))))","v":0},null,{"$f":"N14","v":222},{"$f":"COUNTIF(L27:L36,AD14)","v":0},{"$f":"AE14/(AG4-AE11)","v":0},{"$f":"IF(AF14=0,0,(AF14*((LOG(AF14))/LOG(2))))","v":0},null,{"$f":"N14","v":222},{"$f":"COUNTIF(L37:L46,AI14)","v":0},{"$f":"AJ14/(AL4-AJ11)","v":0},{"$f":"IF(AK14=0,0,(AK14*((LOG(AK14))/LOG(2))))","v":0},null,{"$f":"N14","v":222},{"$f":"COUNTIF(L47:L56,AN14)","v":0},{"$f":"AO14/(AQ4-AO11)","v":0},{"$f":"IF(AP14=0,0,(AP14*((LOG(AP14))/LOG(2))))","v":0},null,{"$f":"N14","v":222},{"$f":"COUNTIF(L57:L66,AS14)","v":0},{"$f":"AT14/(AV4-AT11)","v":0},{"$f":"IF(AU14=0,0,(AU14*((LOG(AU14))/LOG(2))))","v":0}]
[21,1157,11,1166,11,1173,null,null,null,null,0,211,null,null,null,{"$f":"SUM(P7:P14)","v":1},{"$f":"-SUM(Q7:Q14)","v":1.5166422780956523},null,null,null,null,{"$f":"SUM(V7:V14)","v":1},{"$f":"-SUM(W7:W14)","v":0.91829583405448945},null,null,null,{"$f":"SUM(AA7:AA14)","v":1},{"$f":"-SUM(AB7:AB14)","v":2},null,null,null,{"$f":"SUM(AF7:AF14)","v":1},{"$f":"-SUM(AG7:AG14)","v":0},null,null,null,{"$f":"SUM(AK7:AK14)","v":1},{"$f":"-SUM(AL7:AL14)","v":0.91829583405448945},null,null,null,{"$f":"SUM(AP7:AP14)","v":1},{"$f":"-SUM(AQ7:AQ14)","v":0.72192809488736231},null,null,null,{"$f":"SUM(AU7:AU14)","v":1},{"$f":"-SUM(AV7:AV14)","v":1.5}]
[12,1314,13,1322,13,1337,null,null,null,null,0,111,null,null,null,"U=",{"$f":"Q15/(LOG(Q4)/LOG(2))","v":0.25675814602410291},null,null,null,null,"U1=",{"$f":"W15/(LOG(W4)/LOG(2))","v":0.27643459094367495},null,null,null,"U2=",{"$f":"AB15/(LOG(AB4)/LOG(2))","v":0.6020599913279624},null,null,null,"U3=",{"$f":"AG15/(LOG(AG4)/LOG(2))","v":0},null,null,null,"U4=",{"$f":"AL15/(LOG(AL4)/LOG(2))","v":0.27643459094367495},null,null,null,"U5=",{"$f":"AQ15/(LOG(AQ4)/LOG(2))","v":0.21732201127364889},null,null,null,"U6=",{"$f":"AV15/(LOG(AV4)/LOG(2))","v":0.45154499349597182}]
[21,1434,11,1444,11,1450,null,null,null,null,0,211]
[12,1576,13,1580,24,1600,null,null,null,null,0,112]
[21,1695,11,1712,11,1723,null,null,null,null,0,211,null,"Total Target Seq"]
[12,1846,13,1857,13,1866,null,null,null,null,0,111,null,{"$f":"COUNTIF(L7:L66,G3)","v":39},null,10,10,10,10,10,10]
[21,1962,22,1972,13,1980,null,null,null,null,0,221,null,null,null,"% of reinforcement given in 6 equal intervals based on number of trials "]
[21,2101,11,2116,11,2138,null,null,null,null,0,211,null,null,null,"%_1","%_2","%_3","%_4","%_5","%_6"]
[12,2279,24,2289,24,2311,null,null,null,null,0,122,null,null,"target sequence",{"$f":"$G$3","v":211},{"$f":"$G$3","v":211},{"$f":"$G$3","v":211},{"$f":"$G$3","v":211},{"$f":"$G$3","v":211},{"$f":"$G$3","v":211}]
[21,2410,11,2420,11,2426,null,null,null,null,0,211,null,null,"total reinforcement",{"$f":"U11","v":7},{"$f":"Z11","v":6},{"$f":"AE11","v":8},{"$f":"AJ11","v":7},{"$f":"AO11","v":5},{"$f":"AT11","v":6}]
[21,2522,11,2532,11,2534,null,null,null,null,0,211,null,null,"% target"]
[21,2667,11,2676,11,2684,null,null,null,null,0,211,null,null,"CCRF"]
[21,2808,11,2816,11,2820,null,null,null,null,0,211,null,null,"% CCRf"]
[21,2989,11,2999,11,3008,null,null,null,null,0,211,null,null,"average response rate",{"$f":"F16/P20","v":133.69999999999999},{"$f":"(F26-F16)/Q20","v":134.69999999999999},{"$f":"(F36-F26)/R20","v":148.9},{"$f":"(F46-F36)/S20","v":150},{"$f":"(F56-F46)/T20","v":141.30000000000001},{"$f":"(F66-F56)/U20","v":158.80000000000001}]
[21,3116,11,3125,11,3130,null,null,null,null,0,211]
[12,3251,13,3257,13,3269,null,null,null,null,0,111]
[12,3377,13,3398,13,3409,null,null,null,null,0,111]
[21,3506,11,3515,11,3524,null,null,null,null,0,211]
[21,3671,11,3679,11,3685,null,null,null,null,0,211]
[21,3849,11,3859,11,3861,null,null,null,null,0,211]
[21,4036,11,4049,11,4063,null,null,null,null,0,211]
[21,4160,11,4170,11,4173,null,null,null,null,0,211]
[12,4318,13,4337,24,4360,null,null,null,null,0,112]
[21,4464,11,4472,11,4487,null,null,null,null,0,211]
[21,4607,11,4616,11,4619,null,null,null,null,0,211]
[21,4732,11,4742,11,4748,null,null,null,null,0,211]
[12,4893,13,4897,13,4920,null,null,null,null,0,111]
[21,5013,11,5032,11,5035,null,null,null,null,0,211]
[21,5132,11,5140,11,5145,null,null,null,null,0,211]
[21,5274,11,5283,11,5286,null,null,null,null,0,211]
[12,5543,13,5547,24,5562,null,null,null,null,0,112]
[21,5661,11,5668,11,5673,null,null,null,null,0,211]
[21,5798,11,5806,11,5809,null,null,null,null,0,211]
[12,5987,13,5997,24,6074,null,null,null,null,0,112]
[21,6173,11,6183,11,6190,null,null,null,null,0,211]
[12,6300,13,6305,24,6325,null,null,null,null,0,112]
[12,6433,13,6450,24,6462,null,null,null,null,0,112]
[21,6568,11,6577,11,6582,null,null,null,null,0,211]
[12,6702,13,6707,13,6712,null,null,null,null,0,111]
[21,6809,11,6819,11,6823,null,null,null,null,0,211]
[12,6957,13,6962,24,6974,null,null,null,null,0,112]
[21,7069,11,7081,11,7086,null,null,null,null,0,211]
[21,7229,11,7238,11,7242,null,null,null,null,0,211]
[21,7426,11,7436,11,7444,null,null,null,null,0,211]
[21,7635,11,7646,11,7648,null,null,null,null,0,211]
[21,7746,11,7756,11,7761,null,null,null,null,0,211]
[12,7937,13,7943,13,7960,null,null,null,null,0,111]
[21,8057,22,8066,13,8076,null,null,null,null,0,221]
[21,8179,11,8187,11,8196,null,null,null,null,0,211]
[12,8431,13,8435,24,8449,null,null,null,null,0,112]
[21,8542,22,8548,13,8558,null,null,null,null,0,221]
[21,8655,11,8665,11,8674,null,null,null,null,1,211]

{"sheet":"!MA2092D.ust","index":27,"n_rows":59,"n_cols":48,"rows_kept":59,"cut":false,"hidden":false,"merged":[[4,39,4,42],[5,39,5,40],[4,44,4,47],[5,44,5,45],[4,24,4,27],[5,24,5,25],[4,29,4,32],[5,29,5,30],[4,34,4,37],[5,34,5,35],[1,1,1,2],[5,13,5,14],[18,13,18,14],[19,13,19,14],[4,19,4,22],[5,19,5,20]]}
["Report for:!MA2092D.ust"]
["Date:","<date>"]
["Hen:","<hen>",null,null,null,"Correct Sequence",{"$f":"Start!J2","v":211},null,null,null,null,null,null,null,null,"Total Sequences in Data",{"$f":"4994-COUNTBLANK(L7:L5000)","v":53},null,null,null,null,"Total Sequences in Block Data",{"$f":"COUNTA(L7:L15)","v":9},null,null,null,"Total Sequences in Block Data",{"$f":"COUNTA(L16:L24)","v":9},null,null,null,"Total Sequences in Block Data",{"$f":"COUNTA(L25:L32)","v":8},null,null,null,"Total Sequences in Block Data",{"$f":"COUNTA(L33:L41)","v":9},null,null,null,"Total Sequences in Block Data",{"$f":"COUNTA(L42:L50)","v":9},null,null,null,"Total Sequences in Block Data",{"$f":"COUNTA(L51:L59)","v":9}]
[null,null,null,null,null,null,null,null,null,null,null,null,null,null,null,"Total Sequences in Summary",{"$f":"SUM(O7:O14)","v":53},null,null,null,null,"Total Sequences in Block Summary",{"$f":"SUM(U7:U14)","v":9},null,null,null,"Total Sequences in Block Summary",{"$f":"SUM(Z7:Z14)","v":9},null,null,null,"Total Sequences in Block Summary",{"$f":"SUM(AE7:AE14)","v":8},null,null,null,"Total Sequences in Block Summary",{"$f":"SUM(AJ7:AJ14)","v":9},null,null,null,"Total Sequences in Block Summary",{"$f":"SUM(AO7:AO14)","v":9},null,null,null,"Total Sequences in Block Summary",{"$f":"SUM(AT7:AT14)","v":9}]
[null,null,null,null,null,null,null,null,null,null,null,null,null,null,null,null,null,null,null,"Block 1",null,null,null,null,"Block 2",null,null,null,null,"Block 3",null,null,null,null,"Block 4",null,null,null,null,"Block 5",null,null,null,null,"Block 6"]
["Sequence\nComponent\n1","Time\n1","Sequence\nComponent\n2","Time\n2","Sequence\nComponent\n3","Time\n3","Sequence\nComponent\n4","Time\n4","Sequence\nComponent\n5","Time\n5","Correct?\n0=No 1=Yes","Sequence",null,"Frequency",null,"Relative Frequency","Variability",null,null,"Frequency",null,"Relative Frequency","Variability",null,"Frequency",null,"Relative Frequency","Variability",null,"Frequency",null,"Relative Frequency","Variability",null,"Frequency",null,"Relative Frequency","Variability",null,"Frequency",null,"Relative Frequency","Variability",null,"Frequency",null,"Relative Frequency","Variability"]
[12,16,13,20,13,27,null,null,null,null,0,111,null,111,{"$f":"COUNTIF($L$7:$L$500,N7)","v":7},{"$f":"O7/$Q$4","v":0.13207547169811321},{"$f":"IF(P7=0,0,(P7*((LOG(P7))/LOG(2))))","v":-0.38573507033092763},null,null,{"$f":"N7","v":111},{"$f":"COUNTIF(L7:L15,T7)","v":3},{"$f":"U7/(W4-U11)","v":0.75},{"$f":"IF(V7=0,0,(V7*((LOG(V7))/LOG(2))))","v":-0.31127812445913283},null,{"$f":"N7","v":111},{"$f":"COUNTIF(L16:L24,Y7)","v":0},{"$f":"Z7/(AB4-Z11)","v":{"$error":"#DIV/0!"}},{"$f":"IF(AA7=0,0,(AA7*((LOG(AA7))/LOG(2))))","v":{"$error":"#DIV/0!"}},null,{"$f":"N7","v":111},{"$f":"COUNTIF(L25:L32,AD7)","v":2},{"$f":"AE7/(AG4-AE11)","v":1},{"$f":"IF(AF7=0,0,(AF7*((LOG(AF7))/LOG(2))))","v":0},null,{"$f":"N7","v":111},{"$f":"COUNTIF(L33:L41,AI7)","v":2},{"$f":"AJ7/(AL4-AJ11)","v":1},{"$f":"IF(AK7=0,0,(AK7*((LOG(AK7))/LOG(2))))","v":0},null,{"$f":"N7","v":111},{"$f":"COUNTIF(L42:L50,AN7)","v":0},{"$f":"AO7/(AQ4-AO11)","v":0},{"$f":"IF(AP7=0,0,(AP7*((LOG(AP7))/LOG(2))))","v":0},null,{"$f":"N7","v":111},{"$f":"COUNTIF(L51:L59,AS7)","v":0},{"$f":"AT7/(AV4-AT11)","v":0},{"$f":"IF(AU7=0,0,(AU7*((LOG(AU7))/LOG(2))))","v":0}]
[21,125,11,134,11,139,null,null,null,null,0,211,null,112,{"$f":"COUNTIF($L$7:$L$500,N8)","v":4},{"$f":"O8/$Q$4","v":7.5471698113207544E-2},{"$f":"IF(P8=0,0,(P8*((LOG(P8))/LOG(2))))","v":-0.28135248713684519},null,null,{"$f":"N8","v":112},{"$f":"COUNTIF(L7:L15,T8)","v":0},{"$f":"U8/(W4-U11)","v":0},{"$f":"IF(V8=0,0,(V8*((LOG(V8))/LOG(2))))","v":0},null,{"$f":"N8","v":112},{"$f":"COUNTIF(L16:L24,Y8)","v":0},{"$f":"Z8/(AB4-Z11)","v":{"$error":"#DIV/0!"}},{"$f":"IF(AA8=0,0,(AA8*((LOG(AA8))/LOG(2))))","v":{"$error":"#DIV/0!"}},null,{"$f":"N8","v":112},{"$f":"COUNTIF(L25:L32,AD8)","v":0},{"$f":"AE8/(AG4-AE11)","v":0},{"$f":"IF(AF8=0,0,(AF8*((LOG(AF8))/LOG(2))))","v":0},null,{"$f":"N8","v":112},{"$f":"COUNTIF(L33:L41,AI8)","v":0},{"$f":"AJ8/(AL4-AJ11)","v":0},{"$f":"IF(AK8=0,0,(AK8*((LOG(AK8))/LOG(2))))","v":0},null,{"$f":"N8","v":112},{"$f":"COUNTIF(L42:L50,AN8)","v":3},{"$f":"AO8/(AQ4-AO11)","v":1},{"$f":"IF(AP8=0,0,(AP8*((LOG(AP8))/LOG(2))))","v":0},null,{"$f":"N8","v":112},{"$f":"COUNTIF(L51:L59,AS8)","v":1},{"$f":"AT8/(AV4-AT11)","v":0.33333333333333331},{"$f":"IF(AU8=0,0,(AU8*((LOG(AU8))/LOG(2))))","v":-0.52832083357371862}]
[21,265,11,274,11,286,null,null,null,null,0,211,null,121,{"$f":"COUNTIF($L$7:$L$500,N9)","v":0},{"$f":"O9/$Q$4","v":0},{"$f":"IF(P9=0,0,(P9*((LOG(P9))/LOG(2))))","v":0},null,null,{"$f":"N9","v":121},{"$f":"COUNTIF(L7:L15,T9)","v":0},{"$f":"U9/(W4-U11)","v":0},{"$f":"IF(V9=0,0,(V9*((LOG(V9))/LOG(2))))","v":0},null,{"$f":"N9","v":121},{"$f":"COUNTIF(L16:L24,Y9)","v":0},{"$f":"Z9/(AB4-Z11)","v":{"$error":"#DIV/0!"}},{"$f":"IF(AA9=0,0,(AA9*((LOG(AA9))/LOG(2))))","v":{"$error":"#DIV/0!"}},null,{"$f":"N9","v":121},{"$f":"COUNTIF(L25:L32,AD9)","v":0},{"$f":"AE9/(AG4-AE11)","v":0},{"$f":"IF(AF9=0,0,(AF9*((LOG(AF9))/LOG(2))))","v":0},null,{"$f":"N9","v":121},{"$f":"COUNTIF(L33:L41,AI9)","v":0},{"$f":"AJ9/(AL4-AJ11)","v":0},{"$f":"IF(AK9=0,0,(AK9*((LOG(AK9))/LOG(2))))","v":0},null,{"$f":"N9","v":121},{"$f":"COUNTIF(L42:L50,AN9)","v":0},{"$f":"AO9/(AQ4-AO11)","v":0},{"$f":"IF(AP9=0,0,(AP9*((LOG(AP9))/LOG(2))))","v":0},null,{"$f":"N9","v":121},{"$f":"COUNTIF(L51:L59,AS9)","v":0},{"$f":"AT9/(AV4-AT11)","v":0},{"$f":"IF(AU9=0,0,(AU9*((LOG(AU9))/LOG(2))))","v":0}]
[21,437,11,445,11,450,null,null,null,null,0,211,null,122,{"$f":"COUNTIF($L$7:$L$500,N10)","v":0},{"$f":"O10/$Q$4","v":0},{"$f":"IF(P10=0,0,(P10*((LOG(P10))/LOG(2))))","v":0},null,null,{"$f":"N10","v":122},{"$f":"COUNTIF(L7:L15,T10)","v":0},{"$f":"U10/(W4-U11)","v":0},{"$f":"IF(V10=0,0,(V10*((LOG(V10))/LOG(2))))","v":0},null,{"$f":"N10","v":122},{"$f":"COUNTIF(L16:L24,Y10)","v":0},{"$f":"Z10/(AB4-Z11)","v":{"$error":"#DIV/0!"}},{"$f":"IF(AA10=0,0,(AA10*((LOG(AA10))/LOG(2))))","v":{"$error":"#DIV/0!"}},null,{"$f":"N10","v":122},{"$f":"COUNTIF(L25:L32,AD10)","v":0},{"$f":"AE10/(AG4-AE11)","v":0},{"$f":"IF(AF10=0,0,(AF10*((LOG(AF10))/LOG(2))))","v":0},null,{"$f":"N10","v":122},{"$f":"COUNTIF(L33:L41,AI10)","v":0},{"$f":"AJ10/(AL4-AJ11)","v":0},{"$f":"IF(AK10=0,0,(AK10*((LOG(AK10))/LOG(2))))","v":0},null,{"$f":"N10","v":122},{"$f":"COUNTIF(L42:L50,AN10)","v":0},{"$f":"AO10/(AQ4-AO11)","v":0},{"$f":"IF(AP10=0,0,(AP10*((LOG(AP10))/LOG(2))))","v":0},null,{"$f":"N10","v":122},{"$f":"COUNTIF(L51:L59,AS10)","v":0},{"$f":"AT10/(AV4-AT11)","v":0},{"$f":"IF(AU10=0,0,(AU10*((LOG(AU10))/LOG(2))))","v":0}]
[12,629,13,638,13,653,null,null,null,null,0,111,null,211,{"$f":"COUNTIF($L$7:$L$500,N11)","v":39},{"$f":"O11/$Q$4","v":0.73584905660377353},{"$f":"IF(P11=0,0,(P11*((LOG(P11))/LOG(2))))","v":-0.32562662627051103},null,null,{"$f":"N11","v":211},{"$f":"COUNTIF(L7:L15,T11)","v":5},null,null,null,{"$f":"N11","v":211},{"$f":"COUNTIF(L16:L24,Y11)","v":9},null,null,null,{"$f":"N11","v":211},{"$f":"COUNTIF(L25:L32,AD11)","v":6},null,null,null,{"$f":"N11","v":211},{"$f":"COUNTIF(L33:L41,AI11)","v":7},null,null,null,{"$f":"N11","v":211},{"$f":"COUNTIF(L42:L50,AN11)","v":6},null,null,null,{"$f":"N11","v":211},{"$f":"COUNTIF(L51:L59,AS11)","v":6}]
[21,752,11,760,11,770,null,null,null,null,0,211,null,212,{"$f":"COUNTIF($L$7:$L$500,N12)","v":0},{"$f":"O12/$Q$4","v":0},{"$f":"IF(P12=0,0,(P12*((LOG(P12))/LOG(2))))","v":0},null,null,{"$f":"N12","v":212},{"$f":"COUNTIF(L7:L15,T12)","v":0},{"$f":"U12/(W4-U11)","v":0},{"$f":"IF(V12=0,0,(V12*((LOG(V12))/LOG(2))))","v":0},null,{"$f":"N12","v":212},{"$f":"COUNTIF(L16:L24,Y12)","v":0},{"$f":"Z12/(AB4-Z11)","v":{"$error":"#DIV/0!"}},{"$f":"IF(AA12=0,0,(AA12*((LOG(AA12))/LOG(2))))","v":{"$error":"#DIV/0!"}},null,{"$f":"N12","v":212},{"$f":"COUNTIF(L25:L32,AD12)","v":0},{"$f":"AE12/(AG4-AE11)","v":0},{"$f":"IF(AF12=0,0,(AF12*((LOG(AF12))/LOG(2))))","v":0},null,{"$f":"N12","v":212},{"$f":"COUNTIF(L33:L41,AI12)","v":0},{"$f":"AJ12/(AL4-AJ11)","v":0},{"$f":"IF(AK12=0,0,(AK12*((LOG(AK12))/LOG(2))))","v":0},null,{"$f":"N12","v":212},{"$f":"COUNTIF(L42:L50,AN12)","v":0},{"$f":"AO12/(AQ4-AO11)","v":0},{"$f":"IF(AP12=0,0,(AP12*((LOG(AP12))/LOG(2))))","v":0},null,{"$f":"N12","v":212},{"$f":"COUNTIF(L51:L59,AS12)","v":0},{"$f":"AT12/(AV4-AT11)","v":0},{"$f":"IF(AU12=0,0,(AU12*((LOG(AU12))/LOG(2))))","v":0}]
[12,909,13,915,13,923,null,null,null,null,0,111,null,221,{"$f":"COUNTIF($L$7:$L$500,N13)","v":3},{"$f":"O13/$Q$4","v":5.6603773584905662E-2},{"$f":"IF(P13=0,0,(P13*((LOG(P13))/LOG(2))))","v":-0.23450705399105903},null,null,{"$f":"N13","v":221},{"$f":"COUNTIF(L7:L15,T13)","v":1},{"$f":"U13/(W4-U11)","v":0.25},{"$f":"IF(V13=0,0,(V13*((LOG(V13))/LOG(2))))","v":-0.5},null,{"$f":"N13","v":221},{"$f":"COUNTIF(L16:L24,Y13)","v":0},{"$f":"Z13/(AB4-Z11)","v":{"$error":"#DIV/0!"}},{"$f":"IF(AA13=0,0,(AA13*((LOG(AA13))/LOG(2))))","v":{"$error":"#DIV/0!"}},null,{"$f":"N13","v":221},{"$f":"COUNTIF(L25:L32,AD13)","v":0},{"$f":"AE13/(AG4-AE11)","v":0},{"$f":"IF(AF13=0,0,(AF13*((LOG(AF13))/LOG(2))))","v":0},null,{"$f":"N13","v":221},{"$f":"COUNTIF(L33:L41,AI13)","v":0},{"$f":"AJ13/(AL4-AJ11)","v":0},{"$f":"IF(AK13=0,0,(AK13*((LOG(AK13))/LOG(2))))","v":0},null,{"$f":"N13","v":221},{"$f":"COUNTIF(L42:L50,AN13)","v":0},{"$f":"AO13/(AQ4-AO11)","v":0},{"$f":"IF(AP13=0,0,(AP13*((LOG(AP13))/LOG(2))))","v":0},null,{"$f":"N13","v":221},{"$f":"COUNTIF(L51:L59,AS13)","v":2},{"$f":"AT13/(AV4-AT11)","v":0.66666666666666663},{"$f":"IF(AU13=0,0,(AU13*((LOG(AU13))/LOG(2))))","v":-0.38997500048077083}]
[21,1018,22,1023,13,1031,null,null,null,null,0,221,null,222,{"$f":"COUNTIF($L$7:$L$500,N14)","v":0},{"$f":"O14/$Q$4","v":0},{"$f":"IF(P14=0,0,(P14*((LOG(P14))/LOG(2))))","v":0},null,null,{"$f":"N14","v":222},{"$f":"COUNTIF(L7:L15,T14)","v":0},{"$f":"U14/(W4-U11)","v":0},{"$f":"IF(V14=0,0,(V14*((LOG(V14))/LOG(2))))","v":0},null,{"$f":"N14","v":222},{"$f":"COUNTIF(L16:L24,Y14)","v":0},{"$f":"Z14/(AB4-Z11)","v":{"$error":"#DIV/0!"}},{"$f":"IF(AA14=0,0,(AA14*((LOG(AA14))/LOG(2))))","v":{"$error":"#DIV/0!"}},null,{"$f":"N14","v":222},{"$f":"COUNTIF(L25:L32,AD14)","v":0},{"$f":"AE14/(AG4-AE11)","v":0},{"$f":"IF(AF14=0,0,(AF14*((LOG(AF14))/LOG(2))))","v":0},null,{"$f":"N14","v":222},{"$f":"COUNTIF(L33:L41,AI14)","v":0},{"$f":"AJ14/(AL4-AJ11)","v":0},{"$f":"IF(AK14=0,0,(AK14*((LOG(AK14))/LOG(2))))","v":0},null,{"$f":"N14","v":222},{"$f":"COUNTIF(L42:L50,AN14)","v":0},{"$f":"AO14/(AQ4-AO11)","v":0},{"$f":"IF(AP14=0,0,(AP14*((LOG(AP14))/LOG(2))))","v":0},null,{"$f":"N14","v":222},{"$f":"COUNTIF(L51:L59,AS14)","v":0},{"$f":"AT14/(AV4-AT11)","v":0},{"$f":"IF(AU14=0,0,(AU14*((LOG(AU14))/LOG(2))))","v":0}]
[21,1134,11,1143,11,1149,null,null,null,null,0,211,null,null,null,{"$f":"SUM(P7:P14)","v":1},{"$f":"-SUM(Q7:Q14)","v":1.2272212377293428},null,null,null,null,{"$f":"SUM(V7:V14)","v":1},{"$f":"-SUM(W7:W14)","v":0.81127812445913283},null,null,null,{"$f":"SUM(AA7:AA14)","v":{"$error":"#DIV/0!"}},{"$f":"-SUM(AB7:AB14)","v":{"$error":"#DIV/0!"}},null,null,null,{"$f":"SUM(AF7:AF14)","v":1},{"$f":"-SUM(AG7:AG14)","v":0},null,null,null,{"$f":"SUM(AK7:AK14)","v":1},{"$f":"-SUM(AL7:AL14)","v":0},null,null,null,{"$f":"SUM(AP7:AP14)","v":1},{"$f":"-SUM(AQ7:AQ14)","v":0},null,null,null,{"$f":"SUM(AU7:AU14)","v":1},{"$f":"-SUM(AV7:AV14)","v":0.91829583405448945}]
[21,1293,11,1301,11,1304,null,null,null,null,0,211,null,null,null,"U=",{"$f":"Q15/(LOG(Q4)/LOG(2))","v":0.21425249311059585},null,null,null,null,"U1=",{"$f":"W15/(LOG(W4)/LOG(2))","v":0.25592975357145742},null,null,null,"U2=",{"$f":"AB15/(LOG(AB4)/LOG(2))","v":{"$error":"#DIV/0!"}},null,null,null,"U3=",{"$f":"AG15/(LOG(AG4)/LOG(2))","v":0},null,null,null,"U4=",{"$f":"AL15/(LOG(AL4)/LOG(2))","v":0},null,null,null,"U5=",{"$f":"AQ15/(LOG(AQ4)/LOG(2))","v":0},null,null,null,"U6=",{"$f":"AV15/(LOG(AV4)/LOG(2))","v":0.28969008214284753}]
[21,1451,11,1462,11,1472,null,null,null,null,0,211]
[21,1619,11,1630,11,1642,null,null,null,null,0,211]
[21,1762,11,1776,11,1788,null,null,null,null,0,211,null,"Total Target Seq"]
[21,1900,11,1913,11,1915,null,null,null,null,0,211,null,{"$f":"COUNTIF(L7:L59,G3)","v":39},null,9,9,8,9,9,9]
[21,2047,11,2061,11,2069,null,null,null,null,0,211,null,null,null,"% of reinforcement given in 6 equal intervals based on number of trials "]
[21,2278,11,2288,11,2293,null,null,null,null,0,211,null,null,null,"%_1","%_2","%_3","%_4","%_5","%_6"]
[21,2465,11,2477,11,2484,null,null,null,null,0,211,null,null,"target sequence",{"$f":"$G$3","v":211},{"$f":"$G$3","v":211},{"$f":"$G$3","v":211},{"$f":"$G$3","v":211},{"$f":"$G$3","v":211},{"$f":"$G$3","v":211}]
[21,2633,11,2643,11,2653,null,null,null,null,0,211,null,null,"total reinforcement",{"$f":"U11","v":5},{"$f":"Z11","v":9},{"$f":"AE11","v":6},{"$f":"AJ11","v":7},{"$f":"AO11","v":6},{"$f":"AT11","v":6}]
[21,2776,11,2789,11,2796,null,null,null,null,0,211,null,null,"% target"]
[21,2947,11,2957,11,2960,null,null,null,null,0,211,null,null,"CCRF"]
[12,3124,13,3131,13,3140,null,null,null,null,0,111,null,null,"% CCRf"]
[21,3240,11,3249,11,3253,null,null,null,null,0,211,null,null,"average response rate",{"$f":"F15/P20","v":127.66666666666667},{"$f":"(F24-F15)/Q20","v":167.11111111111111},{"$f":"(F32-F24)/R20","v":161.875},{"$f":"(F41-F32)/S20","v":142.77777777777777},{"$f":"(F50-F41)/T20","v":177.77777777777777},{"$f":"(F59-F50)/U20","v":155.66666666666666}]
[21,3369,11,3380,11,3385,null,null,null,null,0,211]
[21,3598,11,3608,11,3620,null,null,null,null,0,211]
[21,3750,11,3762,11,3768,null,null,null,null,0,211]
[12,3940,13,3943,13,3948,null,null,null,null,0,111]
[21,4048,11,4057,11,4063,null,null,null,null,0,211]
[12,4278,13,4281,13,4287,null,null,null,null,0,111]
[21,4387,11,4396,11,4400,null,null,null,null,0,211]
[21,4545,11,4554,11,4558,null,null,null,null,0,211]
[12,4698,13,4701,13,4713,null,null,null,null,0,111]
[21,4811,11,4821,11,4828,null,null,null,null,0,211]
[21,4943,11,4950,11,4955,null,null,null,null,0,211]
[21,5080,11,5087,11,5089,null,null,null,null,0,211]
[21,5219,11,5229,11,5233,null,null,null,null,0,211]
[12,5501,13,5510,24,5521,null,null,null,null,0,112]
[12,5691,13,5696,24,5711,null,null,null,null,0,112]
[21,5809,11,5818,11,5822,null,null,null,null,0,211]
[12,5981,13,5984,24,5993,null,null,null,null,0,112]
[21,6094,11,6102,11,6106,null,null,null,null,0,211]
[21,6244,11,6252,11,6260,null,null,null,null,0,211]
[21,6385,11,6396,11,6402,null,null,null,null,0,211]
[21,6607,11,6618,11,6621,null,null,null,null,0,211]
[21,6810,11,6824,11,6833,null,null,null,null,0,211]
[21,7016,11,7029,11,7034,null,null,null,null,0,211]
[21,7195,22,7197,13,7207,null,null,null,null,0,221]
[21,7299,22,7307,13,7316,null,null,null,null,0,221]
[21,7418,11,7428,11,7434,null,null,null,null,0,211]
[21,7580,11,7589,11,7592,null,null,null,null,0,211]
[12,7775,13,7781,24,7791,null,null,null,null,0,112]
[21,7886,11,7902,11,7910,null,null,null,null,0,211]
[21,8071,11,8079,11,8082,null,null,null,null,0,211]
[21,8213,11,8222,11,8234,null,null,null,null,1,211]

{"sheet":"!MA2194D.ust","index":28,"n_rows":65,"n_cols":48,"rows_kept":65,"cut":false,"hidden":false,"merged":[[4,39,4,42],[5,39,5,40],[4,44,4,47],[5,44,5,45],[4,24,4,27],[5,24,5,25],[4,29,4,32],[5,29,5,30],[4,34,4,37],[5,34,5,35],[1,1,1,2],[5,13,5,14],[18,13,18,14],[19,13,19,14],[4,19,4,22],[5,19,5,20]]}
["Report for:!MA2194D.ust"]
["Date:","<date>"]
["Hen:","<hen>",null,null,null,"Correct Sequence",{"$f":"Start!J2","v":211},null,null,null,null,null,null,null,null,"Total Sequences in Data",{"$f":"4994-COUNTBLANK(L7:L5000)","v":59},null,null,null,null,"Total Sequences in Block Data",{"$f":"COUNTA(L7:L16)","v":10},null,null,null,"Total Sequences in Block Data",{"$f":"COUNTA(L17:L26)","v":10},null,null,null,"Total Sequences in Block Data",{"$f":"COUNTA(L27:L35)","v":9},null,null,null,"Total Sequences in Block Data",{"$f":"COUNTA(L36:L45)","v":10},null,null,null,"Total Sequences in Block Data",{"$f":"COUNTA(L46:L55)","v":10},null,null,null,"Total Sequences in Block Data",{"$f":"COUNTA(L56:L65)","v":10}]
[null,null,null,null,null,null,null,null,null,null,null,null,null,null,null,"Total Sequences in Summary",{"$f":"SUM(O7:O14)","v":59},null,null,null,null,"Total Sequences in Block Summary",{"$f":"SUM(U7:U14)","v":10},null,null,null,"Total Sequences in Block Summary",{"$f":"SUM(Z7:Z14)","v":10},null,null,null,"Total Sequences in Block Summary",{"$f":"SUM(AE7:AE14)","v":9},null,null,null,"Total Sequences in Block Summary",{"$f":"SUM(AJ7:AJ14)","v":10},null,null,null,"Total Sequences in Block Summary",{"$f":"SUM(AO7:AO14)","v":10},null,null,null,"Total Sequences in Block Summary",{"$f":"SUM(AT7:AT14)","v":10}]
[null,null,null,null,null,null,null,null,null,null,null,null,null,null,null,null,null,null,null,"Block 1",null,null,null,null,"Block 2",null,null,null,null,"Block 3",null,null,null,null,"Block 4",null,null,null,null,"Block 5",null,null,null,null,"Block 6"]
["Sequence\nComponent\n1","Time\n1","Sequence\nComponent\n2","Time\n2","Sequence\nComponent\n3","Time\n3","Sequence\nComponent\n4","Time\n4","Sequence\nComponent\n5","Time\n5","Correct?\n0=No 1=Yes","Sequence",null,"Frequency",null,"Relative Frequency","Variability",null,null,"Frequency",null,"Relative Frequency","Variability",null,"Frequency",null,"Relative Frequency","Variability",null,"Frequency",null,"Relative Frequency","Variability",null,"Frequency",null,"Relative Frequency","Variability",null,"Frequency",null,"Relative Frequency","Variability",null,"Frequency",null,"Relative Frequency","Variability"]
[21,14,11,26,11,33,null,null,null,null,0,211,null,111,{"$f":"COUNTIF($L$7:$L$500,N7)","v":13},{"$f":"O7/$Q$4","v":0.22033898305084745},{"$f":"IF(P7=0,0,(P7*((LOG(P7))/LOG(2))))","v":-0.48082446281135144},null,null,{"$f":"N7","v":111},{"$f":"COUNTIF(L7:L16,T7)","v":4},{"$f":"U7/(W4-U11)","v":0.8},{"$f":"IF(V7=0,0,(V7*((LOG(V7))/LOG(2))))","v":-0.25754247590988982},null,{"$f":"N7","v":111},{"$f":"COUNTIF(L17:L26,Y7)","v":1},{"$f":"Z7/(AB4-Z11)","v":0.33333333333333331},{"$f":"IF(AA7=0,0,(AA7*((LOG(AA7))/LOG(2))))","v":-0.52832083357371862},null,{"$f":"N7","v":111},{"$f":"COUNTIF(L27:L35,AD7)","v":1},{"$f":"AE7/(AG4-AE11)","v":0.33333333333333331},{"$f":"IF(AF7=0,0,(AF7*((LOG(AF7))/LOG(2))))","v":-0.52832083357371862},null,{"$f":"N7","v":111},{"$f":"COUNTIF(L36:L45,AI7)","v":3},{"$f":"AJ7/(AL4-AJ11)","v":1},{"$f":"IF(AK7=0,0,(AK7*((LOG(AK7))/LOG(2))))","v":0},null,{"$f":"N7","v":111},{"$f":"COUNTIF(L46:L55,AN7)","v":2},{"$f":"AO7/(AQ4-AO11)","v":1},{"$f":"IF(AP7=0,0,(AP7*((LOG(AP7))/LOG(2))))","v":0},null,{"$f":"N7","v":111},{"$f":"COUNTIF(L56:L65,AS7)","v":2},{"$f":"AT7/(AV4-AT11)","v":0.5},{"$f":"IF(AU7=0,0,(AU7*((LOG(AU7))/LOG(2))))","v":-0.5}]
[21,222,11,233,11,244,null,null,null,null,0,211,null,112,{"$f":"COUNTIF($L$7:$L$500,N8)","v":4},{"$f":"O8/$Q$4","v":6.7796610169491525E-2},{"$f":"IF(P8=0,0,(P8*((LOG(P8))/LOG(2))))","v":-0.2632300372448706},null,null,{"$f":"N8","v":112},{"$f":"COUNTIF(L7:L16,T8)","v":1},{"$f":"U8/(W4-U11)","v":0.2},{"$f":"IF(V8=0,0,(V8*((LOG(V8))/LOG(2))))","v":-0.46438561897747244},null,{"$f":"N8","v":112},{"$f":"COUNTIF(L17:L26,Y8)","v":1},{"$f":"Z8/(AB4-Z11)","v":0.33333333333333331},{"$f":"IF(AA8=0,0,(AA8*((LOG(AA8))/LOG(2))))","v":-0.52832083357371862},null,{"$f":"N8","v":112},{"$f":"COUNTIF(L27:L35,AD8)","v":1},{"$f":"AE8/(AG4-AE11)","v":0.33333333333333331},{"$f":"IF(AF8=0,0,(AF8*((LOG(AF8))/LOG(2))))","v":-0.52832083357371862},null,{"$f":"N8","v":112},{"$f":"COUNTIF(L36:L45,AI8)","v":0},{"$f":"AJ8/(AL4-AJ11)","v":0},{"$f":"IF(AK8=0,0,(AK8*((LOG(AK8))/LOG(2))))","v":0},null,{"$f":"N8","v":112},{"$f":"COUNTIF(L46:L55,AN8)","v":0},{"$f":"AO8/(AQ4-AO11)","v":0},{"$f":"IF(AP8=0,0,(AP8*((LOG(AP8))/LOG(2))))","v":0},null,{"$f":"N8","v":112},{"$f":"COUNTIF(L56:L65,AS8)","v":1},{"$f":"AT8/(AV4-AT11)","v":0.25},{"$f":"IF(AU8=0,0,(AU8*((LOG(AU8))/LOG(2))))","v":-0.5}]
[21,422,11,431,11,436,null,null,null,null,0,211,null,121,{"$f":"COUNTIF($L$7:$L$500,N9)","v":0},{"$f":"O9/$Q$4","v":0},{"$f":"IF(P9=0,0,(P9*((LOG(P9))/LOG(2))))","v":0},null,null,{"$f":"N9","v":121},{"$f":"COUNTIF(L7:L16,T9)","v":0},{"$f":"U9/(W4-U11)","v":0},{"$f":"IF(V9=0,0,(V9*((LOG(V9))/LOG(2))))","v":0},null,{"$f":"N9","v":121},{"$f":"COUNTIF(L17:L26,Y9)","v":0},{"$f":"Z9/(AB4-Z11)","v":0},{"$f":"IF(AA9=0,0,(AA9*((LOG(AA9))/LOG(2))))","v":0},null,{"$f":"N9","v":121},{"$f":"COUNTIF(L27:L35,AD9)","v":0},{"$f":"AE9/(AG4-AE11)","v":0},{"$f":"IF(AF9=0,0,(AF9*((LOG(AF9))/LOG(2))))","v":0},null,{"$f":"N9","v":121},{"$f":"COUNTIF(L36:L45,AI9)","v":0},{"$f":"AJ9/(AL4-AJ11)","v":0},{"$f":"IF(AK9=0,0,(AK9*((LOG(AK9))/LOG(2))))","v":0},null,{"$f":"N9","v":121},{"$f":"COUNTIF(L46:L55,AN9)","v":0},{"$f":"AO9/(AQ4-AO11)","v":0},{"$f":"IF(AP9=0,0,(AP9*((LOG(AP9))/LOG(2))))","v":0},null,{"$f":"N9","v":121},{"$f":"COUNTIF(L56:L65,AS9)","v":0},{"$f":"AT9/(AV4-AT11)","v":0},{"$f":"IF(AU9=0,0,(AU9*((LOG(AU9))/LOG(2))))","v":0}]
[12,634,13,638,13,651,null,null,null,null,0,111,null,122,{"$f":"COUNTIF($L$7:$L$500,N10)","v":0},{"$f":"O10/$Q$4","v":0},{"$f":"IF(P10=0,0,(P10*((LOG(P10))/LOG(2))))","v":0},null,null,{"$f":"N10","v":122},{"$f":"COUNTIF(L7:L16,T10)","v":0},{"$f":"U10/(W4-U11)","v":0},{"$f":"IF(V10=0,0,(V10*((LOG(V10))/LOG(2))))","v":0},null,{"$f":"N10","v":122},{"$f":"COUNTIF(L17:L26,Y10)","v":0},{"$f":"Z10/(AB4-Z11)","v":0},{"$f":"IF(AA10=0,0,(AA10*((LOG(AA10))/LOG(2))))","v":0},null,{"$f":"N10","v":122},{"$f":"COUNTIF(L27:L35,AD10)","v":0},{"$f":"AE10/(AG4-AE11)","v":0},{"$f":"IF(AF10=0,0,(AF10*((LOG(AF10))/LOG(2))))","v":0},null,{"$f":"N10","v":122},{"$f":"COUNTIF(L36:L45,AI10)","v":0},{"$f":"AJ10/(AL4-AJ11)","v":0},{"$f":"IF(AK10=0,0,(AK10*((LOG(AK10))/LOG(2))))","v":0},null,{"$f":"N10","v":122},{"$f":"COUNTIF(L46:L55,AN10)","v":0},{"$f":"AO10/(AQ4-AO11)","v":0},{"$f":"IF(AP10=0,0,(AP10*((LOG(AP10))/LOG(2))))","v":0},null,{"$f":"N10","v":122},{"$f":"COUNTIF(L56:L65,AS10)","v":0},{"$f":"AT10/(AV4-AT11)","v":0},{"$f":"IF(AU10=0,0,(AU10*((LOG(AU10))/LOG(2))))","v":0}]
[12,880,13,884,13,893,null,null,null,null,0,111,null,211,{"$f":"COUNTIF($L$7:$L$500,N11)","v":39},{"$f":"O11/$Q$4","v":0.66101694915254239},{"$f":"IF(P11=0,0,(P11*((LOG(P11))/LOG(2))))","v":-0.39478631168617156},null,null,{"$f":"N11","v":211},{"$f":"COUNTIF(L7:L16,T11)","v":5},null,null,null,{"$f":"N11","v":211},{"$f":"COUNTIF(L17:L26,Y11)","v":7},null,null,null,{"$f":"N11","v":211},{"$f":"COUNTIF(L27:L35,AD11)","v":6},null,null,null,{"$f":"N11","v":211},{"$f":"COUNTIF(L36:L45,AI11)","v":7},null,null,null,{"$f":"N11","v":211},{"$f":"COUNTIF(L46:L55,AN11)","v":8},null,null,null,{"$f":"N11","v":211},{"$f":"COUNTIF(L56:L65,AS11)","v":6}]
[12,1003,13,1007,13,1015,null,null,null,null,0,111,null,212,{"$f":"COUNTIF($L$7:$L$500,N12)","v":0},{"$f":"O12/$Q$4","v":0},{"$f":"IF(P12=0,0,(P12*((LOG(P12))/LOG(2))))","v":0},null,null,{"$f":"N12","v":212},{"$f":"COUNTIF(L7:L16,T12)","v":0},{"$f":"U12/(W4-U11)","v":0},{"$f":"IF(V12=0,0,(V12*((LOG(V12))/LOG(2))))","v":0},null,{"$f":"N12","v":212},{"$f":"COUNTIF(L17:L26,Y12)","v":0},{"$f":"Z12/(AB4-Z11)","v":0},{"$f":"IF(AA12=0,0,(AA12*((LOG(AA12))/LOG(2))))","v":0},null,{"$f":"N12","v":212},{"$f":"COUNTIF(L27:L35,AD12)","v":0},{"$f":"AE12/(AG4-AE11)","v":0},{"$f":"IF(AF12=0,0,(AF12*((LOG(AF12))/LOG(2))))","v":0},null,{"$f":"N12","v":212},{"$f":"COUNTIF(L36:L45,AI12)","v":0},{"$f":"AJ12/(AL4-AJ11)","v":0},{"$f":"IF(AK12=0,0,(AK12*((LOG(AK12))/LOG(2))))","v":0},null,{"$f":"N12","v":212},{"$f":"COUNTIF(L46:L55,AN12)","v":0},{"$f":"AO12/(AQ4-AO11)","v":0},{"$f":"IF(AP12=0,0,(AP12*((LOG(AP12))/LOG(2))))","v":0},null,{"$f":"N12","v":212},{"$f":"COUNTIF(L56:L65,AS12)","v":0},{"$f":"AT12/(AV4-AT11)","v":0},{"$f":"IF(AU12=0,0,(AU12*((LOG(AU12))/LOG(2))))","v":0}]
[21,1118,11,1126,11,1131,null,null,null,null,0,211,null,221,{"$f":"COUNTIF($L$7:$L$500,N13)","v":3},{"$f":"O13/$Q$4","v":5.0847457627118647E-2},{"$f":"IF(P13=0,0,(P13*((LOG(P13))/LOG(2))))","v":-0.21852612959189924},null,null,{"$f":"N13","v":221},{"$f":"COUNTIF(L7:L16,T13)","v":0},{"$f":"U13/(W4-U11)","v":0},{"$f":"IF(V13=0,0,(V13*((LOG(V13))/LOG(2))))","v":0},null,{"$f":"N13","v":221},{"$f":"COUNTIF(L17:L26,Y13)","v":1},{"$f":"Z13/(AB4-Z11)","v":0.33333333333333331},{"$f":"IF(AA13=0,0,(AA13*((LOG(AA13))/LOG(2))))","v":-0.52832083357371862},null,{"$f":"N13","v":221},{"$f":"COUNTIF(L27:L35,AD13)","v":1},{"$f":"AE13/(AG4-AE11)","v":0.33333333333333331},{"$f":"IF(AF13=0,0,(AF13*((LOG(AF13))/LOG(2))))","v":-0.52832083357371862},null,{"$f":"N13","v":221},{"$f":"COUNTIF(L36:L45,AI13)","v":0},{"$f":"AJ13/(AL4-AJ11)","v":0},{"$f":"IF(AK13=0,0,(AK13*((LOG(AK13))/LOG(2))))","v":0},null,{"$f":"N13","v":221},{"$f":"COUNTIF(L46:L55,AN13)","v":0},{"$f":"AO13/(AQ4-AO11)","v":0},{"$f":"IF(AP13=0,0,(AP13*((LOG(AP13))/LOG(2))))","v":0},null,{"$f":"N13","v":221},{"$f":"COUNTIF(L56:L65,AS13)","v":1},{"$f":"AT13/(AV4-AT11)","v":0.25},{"$f":"IF(AU13=0,0,(AU13*((LOG(AU13))/LOG(2))))","v":-0.5}]
[12,1257,13,1263,13,1296,null,null,null,null,0,111,null,222,{"$f":"COUNTIF($L$7:$L$500,N14)","v":0},{"$f":"O14/$Q$4","v":0},{"$f":"IF(P14=0,0,(P14*((LOG(P14))/LOG(2))))","v":0},null,null,{"$f":"N14","v":222},{"$f":"COUNTIF(L7:L16,T14)","v":0},{"$f":"U14/(W4-U11)","v":0},{"$f":"IF(V14=0,0,(V14*((LOG(V14))/LOG(2))))","v":0},null,{"$f":"N14","v":222},{"$f":"COUNTIF(L17:L26,Y14)","v":0},{"$f":"Z14/(AB4-Z11)","v":0},{"$f":"IF(AA14=0,0,(AA14*((LOG(AA14))/LOG(2))))","v":0},null,{"$f":"N14","v":222},{"$f":"COUNTIF(L27:L35,AD14)","v":0},{"$f":"AE14/(AG4-AE11)","v":0},{"$f":"IF(AF14=0,0,(AF14*((LOG(AF14))/LOG(2))))","v":0},null,{"$f":"N14","v":222},{"$f":"COUNTIF(L36:L45,AI14)","v":0},{"$f":"AJ14/(AL4-AJ11)","v":0},{"$f":"IF(AK14=0,0,(AK14*((LOG(AK14))/LOG(2))))","v":0},null,{"$f":"N14","v":222},{"$f":"COUNTIF(L46:L55,AN14)","v":0},{"$f":"AO14/(AQ4-AO11)","v":0},{"$f":"IF(AP14=0,0,(AP14*((LOG(AP14))/LOG(2))))","v":0},null,{"$f":"N14","v":222},{"$f":"COUNTIF(L56:L65,AS14)","v":0},{"$f":"AT14/(AV4-AT11)","v":0},{"$f":"IF(AU14=0,0,(AU14*((LOG(AU14))/LOG(2))))","v":0}]
[21,1395,11,1404,11,1411,null,null,null,null,0,211,null,null,null,{"$f":"SUM(P7:P14)","v":1},{"$f":"-SUM(Q7:Q14)","v":1.3573669413342928},null,null,null,null,{"$f":"SUM(V7:V14)","v":1},{"$f":"-SUM(W7:W14)","v":0.72192809488736231},null,null,null,{"$f":"SUM(AA7:AA14)","v":1},{"$f":"-SUM(AB7:AB14)","v":1.5849625007211559},null,null,null,{"$f":"SUM(AF7:AF14)","v":1},{"$f":"-SUM(AG7:AG14)","v":1.5849625007211559},null,null,null,{"$f":"SUM(AK7:AK14)","v":1},{"$f":"-SUM(AL7:AL14)","v":0},null,null,null,{"$f":"SUM(AP7:AP14)","v":1},{"$f":"-SUM(AQ7:AQ14)","v":0},null,null,null,{"$f":"SUM(AU7:AU14)","v":1},{"$f":"-SUM(AV7:AV14)","v":1.5}]
[12,1588,13,1597,24,1620,null,null,null,null,0,112,null,null,null,"U=",{"$f":"Q15/(LOG(Q4)/LOG(2))","v":0.23074100025184124},null,null,null,null,"U1=",{"$f":"W15/(LOG(W4)/LOG(2))","v":0.21732201127364889},null,null,null,"U2=",{"$f":"AB15/(LOG(AB4)/LOG(2))","v":0.47712125471966238},null,null,null,"U3=",{"$f":"AG15/(LOG(AG4)/LOG(2))","v":0.49999999999999994},null,null,null,"U4=",{"$f":"AL15/(LOG(AL4)/LOG(2))","v":0},null,null,null,"U5=",{"$f":"AQ15/(LOG(AQ4)/LOG(2))","v":0},null,null,null,"U6=",{"$f":"AV15/(LOG(AV4)/LOG(2))","v":0.45154499349597182}]
[21,1723,11,1731,11,1739,null,null,null,null,0,211]
[21,1867,11,1879,11,1890,null,null,null,null,0,211]
[12,2095,13,2105,24,2116,null,null,null,null,0,112,null,"Total Target Seq"]
[21,2212,11,2222,11,2227,null,null,null,null,0,211,null,{"$f":"COUNTIF(L7:L65,G3)","v":39},null,10,10,9,10,10,10]
[21,2344,11,2352,11,2360,null,null,null,null,0,211,null,null,null,"% of reinforcement given in 6 equal intervals based on number of trials "]
[21,2483,11,2497,11,2500,null,null,null,null,0,211,null,null,null,"%_1","%_2","%_3","%_4","%_5","%_6"]
[12,2704,13,2707,13,2713,null,null,null,null,0,111,null,null,"target sequence",{"$f":"$G$3","v":211},{"$f":"$G$3","v":211},{"$f":"$G$3","v":211},{"$f":"$G$3","v":211},{"$f":"$G$3","v":211},{"$f":"$G$3","v":211}]
[21,2809,22,2812,13,2821,null,null,null,null,0,221,null,null,"total reinforcement",{"$f":"U11","v":5},{"$f":"Z11","v":7},{"$f":"AE11","v":6},{"$f":"AJ11","v":7},{"$f":"AO11","v":8},{"$f":"AT11","v":6}]
[21,2920,11,2929,11,2938,null,null,null,null,0,211,null,null,"% target"]
[21,3094,11,3102,11,3106,null,null,null,null,0,211,null,null,"CCRF"]
[21,3302,11,3310,11,3314,null,null,null,null,0,211,null,null,"% CCRf"]
[21,3561,11,3573,11,3578,null,null,null,null,0,211,null,null,"average response rate",{"$f":"F16/P20","v":162},{"$f":"(F26-F16)/Q20","v":148.6},{"$f":"(F35-F26)/R20","v":169.11111111111111},{"$f":"(F45-F35)/S20","v":171.2},{"$f":"(F55-F45)/T20","v":179},{"$f":"(F65-F55)/U20","v":163.6}]
[12,3809,13,3814,13,3831,null,null,null,null,0,111]
[21,3930,11,3940,11,3943,null,null,null,null,0,211]
[21,4066,11,4076,11,4084,null,null,null,null,0,211]
[12,4250,13,4256,24,4270,null,null,null,null,0,112]
[21,4369,22,4375,13,4384,null,null,null,null,0,221]
[21,4479,11,4496,11,4502,null,null,null,null,0,211]
[21,4612,11,4622,11,4628,null,null,null,null,0,211]
[21,4840,11,4849,11,4856,null,null,null,null,0,211]
[21,4986,11,4995,11,5003,null,null,null,null,0,211]
[21,5163,11,5173,11,5179,null,null,null,null,0,211]
[12,5317,13,5321,13,5332,null,null,null,null,0,111]
[21,5428,11,5440,11,5445,null,null,null,null,0,211]
[21,5580,11,5589,11,5594,null,null,null,null,0,211]
[21,5766,11,5776,11,5781,null,null,null,null,0,211]
[12,6006,13,6013,13,6030,null,null,null,null,0,111]
[21,6130,11,6138,11,6144,null,null,null,null,0,211]
[12,6322,13,6327,13,6340,null,null,null,null,0,111]
[21,6443,11,6453,11,6462,null,null,null,null,0,211]
[21,6610,11,6619,11,6623,null,null,null,null,0,211]
[21,6782,11,6792,11,6794,null,null,null,null,0,211]
[21,6936,11,6947,11,6952,null,null,null,null,0,211]
[21,7163,11,7172,11,7176,null,null,null,null,0,211]
[21,7383,11,7397,11,7402,null,null,null,null,0,211]
[21,7604,11,7613,11,7617,null,null,null,null,0,211]
[12,7863,13,7867,13,7879,null,null,null,null,0,111]
[12,7995,13,8003,13,8017,null,null,null,null,0,111]
[21,8117,11,8126,11,8130,null,null,null,null,0,211]
[12,8298,13,8303,13,8308,null,null,null,null,0,111]
[21,8404,11,8414,11,8419,null,null,null,null,0,211]
[21,8546,11,8553,11,8558,null,null,null,null,0,211]
[12,8818,13,8823,13,8830,null,null,null,null,0,111]
[21,8923,22,8927,13,8935,null,null,null,null,0,221]
[21,9039,11,9048,11,9052,null,null,null,null,0,211]
[21,9229,11,9239,11,9255,null,null,null,null,0,211]
[12,9414,13,9418,24,9431,null,null,null,null,0,112]
[21,9532,11,9542,11,9545,null,null,null,null,0,211]
[21,9749,11,9758,11,9766,null,null,null,null,1,211]

{"sheet":"!MA22B0D.ust","index":29,"n_rows":65,"n_cols":48,"rows_kept":65,"cut":false,"hidden":false,"merged":[[4,39,4,42],[5,39,5,40],[4,44,4,47],[5,44,5,45],[4,24,4,27],[5,24,5,25],[4,29,4,32],[5,29,5,30],[4,34,4,37],[5,34,5,35],[1,1,1,2],[5,13,5,14],[18,13,18,14],[19,13,19,14],[4,19,4,22],[5,19,5,20]]}
["Report for:!MA22B0D.ust"]
["Date:","<date>"]
["Hen:","<hen>",null,null,null,"Correct Sequence",{"$f":"Start!J2","v":211},null,null,null,null,null,null,null,null,"Total Sequences in Data",{"$f":"4994-COUNTBLANK(L7:L5000)","v":59},null,null,null,null,"Total Sequences in Block Data",{"$f":"COUNTA(L7:L16)","v":10},null,null,null,"Total Sequences in Block Data",{"$f":"COUNTA(L17:L26)","v":10},null,null,null,"Total Sequences in Block Data",{"$f":"COUNTA(L27:L35)","v":9},null,null,null,"Total Sequences in Block Data",{"$f":"COUNTA(L36:L45)","v":10},null,null,null,"Total Sequences in Block Data",{"$f":"COUNTA(L46:L55)","v":10},null,null,null,"Total Sequences in Block Data",{"$f":"COUNTA(L56:L65)","v":10}]
[null,null,null,null,null,null,null,null,null,null,null,null,null,null,null,"Total Sequences in Summary",{"$f":"SUM(O7:O14)","v":59},null,null,null,null,"Total Sequences in Block Summary",{"$f":"SUM(U7:U14)","v":10},null,null,null,"Total Sequences in Block Summary",{"$f":"SUM(Z7:Z14)","v":10},null,null,null,"Total Sequences in Block Summary",{"$f":"SUM(AE7:AE14)","v":9},null,null,null,"Total Sequences in Block Summary",{"$f":"SUM(AJ7:AJ14)","v":10},null,null,null,"Total Sequences in Block Summary",{"$f":"SUM(AO7:AO14)","v":10},null,null,null,"Total Sequences in Block Summary",{"$f":"SUM(AT7:AT14)","v":10}]
[null,null,null,null,null,null,null,null,null,null,null,null,null,null,null,null,null,null,null,"Block 1",null,null,null,null,"Block 2",null,null,null,null,"Block 3",null,null,null,null,"Block 4",null,null,null,null,"Block 5",null,null,null,null,"Block 6"]
["Sequence\nComponent\n1","Time\n1","Sequence\nComponent\n2","Time\n2","Sequence\nComponent\n3","Time\n3","Sequence\nComponent\n4","Time\n4","Sequence\nComponent\n5","Time\n5","Correct?\n0=No 1=Yes","Sequence",null,"Frequency",null,"Relative Frequency","Variability",null,null,"Frequency",null,"Relative Frequency","Variability",null,"Frequency",null,"Relative Frequency","Variability",null,"Frequency",null,"Relative Frequency","Variability",null,"Frequency",null,"Relative Frequency","Variability",null,"Frequency",null,"Relative Frequency","Variability",null,"Frequency",null,"Relative Frequency","Variability"]
[21,9,22,12,13,22,null,null,null,null,0,221,null,111,{"$f":"COUNTIF($L$7:$L$500,N7)","v":9},{"$f":"O7/$Q$4","v":0.15254237288135594},{"$f":"IF(P7=0,0,(P7*((LOG(P7))/LOG(2))))","v":-0.4138044479877247},null,null,{"$f":"N7","v":111},{"$f":"COUNTIF(L7:L16,T7)","v":2},{"$f":"U7/(W4-U11)","v":0.4},{"$f":"IF(V7=0,0,(V7*((LOG(V7))/LOG(2))))","v":-0.52877123795494496},null,{"$f":"N7","v":111},{"$f":"COUNTIF(L17:L26,Y7)","v":2},{"$f":"Z7/(AB4-Z11)","v":1},{"$f":"IF(AA7=0,0,(AA7*((LOG(AA7))/LOG(2))))","v":0},null,{"$f":"N7","v":111},{"$f":"COUNTIF(L27:L35,AD7)","v":2},{"$f":"AE7/(AG4-AE11)","v":0.66666666666666663},{"$f":"IF(AF7=0,0,(AF7*((LOG(AF7))/LOG(2))))","v":-0.38997500048077083},null,{"$f":"N7","v":111},{"$f":"COUNTIF(L36:L45,AI7)","v":0},{"$f":"AJ7/(AL4-AJ11)","v":0},{"$f":"IF(AK7=0,0,(AK7*((LOG(AK7))/LOG(2))))","v":0},null,{"$f":"N7","v":111},{"$f":"COUNTIF(L46:L55,AN7)","v":3},{"$f":"AO7/(AQ4-AO11)","v":0.5},{"$f":"IF(AP7=0,0,(AP7*((LOG(AP7))/LOG(2))))","v":-0.5},null,{"$f":"N7","v":111},{"$f":"COUNTIF(L56:L65,AS7)","v":0},{"$f":"AT7/(AV4-AT11)","v":0},{"$f":"IF(AU7=0,0,(AU7*((LOG(AU7))/LOG(2))))","v":0}]
[21,119,11,127,11,148,null,null,null,null,0,211,null,112,{"$f":"COUNTIF($L$7:$L$500,N8)","v":5},{"$f":"O8/$Q$4","v":8.4745762711864403E-2},{"$f":"IF(P8=0,0,(P8*((LOG(P8))/LOG(2))))","v":-0.30175550461648132},null,null,{"$f":"N8","v":112},{"$f":"COUNTIF(L7:L16,T8)","v":1},{"$f":"U8/(W4-U11)","v":0.2},{"$f":"IF(V8=0,0,(V8*((LOG(V8))/LOG(2))))","v":-0.46438561897747244},null,{"$f":"N8","v":112},{"$f":"COUNTIF(L17:L26,Y8)","v":0},{"$f":"Z8/(AB4-Z11)","v":0},{"$f":"IF(AA8=0,0,(AA8*((LOG(AA8))/LOG(2))))","v":0},null,{"$f":"N8","v":112},{"$f":"COUNTIF(L27:L35,AD8)","v":1},{"$f":"AE8/(AG4-AE11)","v":0.33333333333333331},{"$f":"IF(AF8=0,0,(AF8*((LOG(AF8))/LOG(2))))","v":-0.52832083357371862},null,{"$f":"N8","v":112},{"$f":"COUNTIF(L36:L45,AI8)","v":0},{"$f":"AJ8/(AL4-AJ11)","v":0},{"$f":"IF(AK8=0,0,(AK8*((LOG(AK8))/LOG(2))))","v":0},null,{"$f":"N8","v":112},{"$f":"COUNTIF(L46:L55,AN8)","v":1},{"$f":"AO8/(AQ4-AO11)","v":0.16666666666666666},{"$f":"IF(AP8=0,0,(AP8*((LOG(AP8))/LOG(2))))","v":-0.43082708345352599},null,{"$f":"N8","v":112},{"$f":"COUNTIF(L56:L65,AS8)","v":2},{"$f":"AT8/(AV4-AT11)","v":0.66666666666666663},{"$f":"IF(AU8=0,0,(AU8*((LOG(AU8))/LOG(2))))","v":-0.38997500048077083}]
[12,298,13,308,13,321,null,null,null,null,0,111,null,121,{"$f":"COUNTIF($L$7:$L$500,N9)","v":0},{"$f":"O9/$Q$4","v":0},{"$f":"IF(P9=0,0,(P9*((LOG(P9))/LOG(2))))","v":0},null,null,{"$f":"N9","v":121},{"$f":"COUNTIF(L7:L16,T9)","v":0},{"$f":"U9/(W4-U11)","v":0},{"$f":"IF(V9=0,0,(V9*((LOG(V9))/LOG(2))))","v":0},null,{"$f":"N9","v":121},{"$f":"COUNTIF(L17:L26,Y9)","v":0},{"$f":"Z9/(AB4-Z11)","v":0},{"$f":"IF(AA9=0,0,(AA9*((LOG(AA9))/LOG(2))))","v":0},null,{"$f":"N9","v":121},{"$f":"COUNTIF(L27:L35,AD9)","v":0},{"$f":"AE9/(AG4-AE11)","v":0},{"$f":"IF(AF9=0,0,(AF9*((LOG(AF9))/LOG(2))))","v":0},null,{"$f":"N9","v":121},{"$f":"COUNTIF(L36:L45,AI9)","v":0},{"$f":"AJ9/(AL4-AJ11)","v":0},{"$f":"IF(AK9=0,0,(AK9*((LOG(AK9))/LOG(2))))","v":0},null,{"$f":"N9","v":121},{"$f":"COUNTIF(L46:L55,AN9)","v":0},{"$f":"AO9/(AQ4-AO11)","v":0},{"$f":"IF(AP9=0,0,(AP9*((LOG(AP9))/LOG(2))))","v":0},null,{"$f":"N9","v":121},{"$f":"COUNTIF(L56:L65,AS9)","v":0},{"$f":"AT9/(AV4-AT11)","v":0},{"$f":"IF(AU9=0,0,(AU9*((LOG(AU9))/LOG(2))))","v":0}]
[12,472,13,476,13,486,null,null,null,null,0,111,null,122,{"$f":"COUNTIF($L$7:$L$500,N10)","v":0},{"$f":"O10/$Q$4","v":0},{"$f":"IF(P10=0,0,(P10*((LOG(P10))/LOG(2))))","v":0},null,null,{"$f":"N10","v":122},{"$f":"COUNTIF(L7:L16,T10)","v":0},{"$f":"U10/(W4-U11)","v":0},{"$f":"IF(V10=0,0,(V10*((LOG(V10))/LOG(2))))","v":0},null,{"$f":"N10","v":122},{"$f":"COUNTIF(L17:L26,Y10)","v":0},{"$f":"Z10/(AB4-Z11)","v":0},{"$f":"IF(AA10=0,0,(AA10*((LOG(AA10))/LOG(2))))","v":0},null,{"$f":"N10","v":122},{"$f":"COUNTIF(L27:L35,AD10)","v":0},{"$f":"AE10/(AG4-AE11)","v":0},{"$f":"IF(AF10=0,0,(AF10*((LOG(AF10))/LOG(2))))","v":0},null,{"$f":"N10","v":122},{"$f":"COUNTIF(L36:L45,AI10)","v":0},{"$f":"AJ10/(AL4-AJ11)","v":0},{"$f":"IF(AK10=0,0,(AK10*((LOG(AK10))/LOG(2))))","v":0},null,{"$f":"N10","v":122},{"$f":"COUNTIF(L46:L55,AN10)","v":0},{"$f":"AO10/(AQ4-AO11)","v":0},{"$f":"IF(AP10=0,0,(AP10*((LOG(AP10))/LOG(2))))","v":0},null,{"$f":"N10","v":122},{"$f":"COUNTIF(L56:L65,AS10)","v":0},{"$f":"AT10/(AV4-AT11)","v":0},{"$f":"IF(AU10=0,0,(AU10*((LOG(AU10))/LOG(2))))","v":0}]
[21,579,22,584,13,593,null,null,null,null,0,221,null,211,{"$f":"COUNTIF($L$7:$L$500,N11)","v":39},{"$f":"O11/$Q$4","v":0.66101694915254239},{"$f":"IF(P11=0,0,(P11*((LOG(P11))/LOG(2))))","v":-0.39478631168617156},null,null,{"$f":"N11","v":211},{"$f":"COUNTIF(L7:L16,T11)","v":5},null,null,null,{"$f":"N11","v":211},{"$f":"COUNTIF(L17:L26,Y11)","v":8},null,null,null,{"$f":"N11","v":211},{"$f":"COUNTIF(L27:L35,AD11)","v":6},null,null,null,{"$f":"N11","v":211},{"$f":"COUNTIF(L36:L45,AI11)","v":9},null,null,null,{"$f":"N11","v":211},{"$f":"COUNTIF(L46:L55,AN11)","v":4},null,null,null,{"$f":"N11","v":211},{"$f":"COUNTIF(L56:L65,AS11)","v":7}]
[21,692,11,701,11,706,null,null,null,null,0,211,null,212,{"$f":"COUNTIF($L$7:$L$500,N12)","v":0},{"$f":"O12/$Q$4","v":0},{"$f":"IF(P12=0,0,(P12*((LOG(P12))/LOG(2))))","v":0},null,null,{"$f":"N12","v":212},{"$f":"COUNTIF(L7:L16,T12)","v":0},{"$f":"U12/(W4-U11)","v":0},{"$f":"IF(V12=0,0,(V12*((LOG(V12))/LOG(2))))","v":0},null,{"$f":"N12","v":212},{"$f":"COUNTIF(L17:L26,Y12)","v":0},{"$f":"Z12/(AB4-Z11)","v":0},{"$f":"IF(AA12=0,0,(AA12*((LOG(AA12))/LOG(2))))","v":0},null,{"$f":"N12","v":212},{"$f":"COUNTIF(L27:L35,AD12)","v":0},{"$f":"AE12/(AG4-AE11)","v":0},{"$f":"IF(AF12=0,0,(AF12*((LOG(AF12))/LOG(2))))","v":0},null,{"$f":"N12","v":212},{"$f":"COUNTIF(L36:L45,AI12)","v":0},{"$f":"AJ12/(AL4-AJ11)","v":0},{"$f":"IF(AK12=0,0,(AK12*((LOG(AK12))/LOG(2))))","v":0},null,{"$f":"N12","v":212},{"$f":"COUNTIF(L46:L55,AN12)","v":0},{"$f":"AO12/(AQ4-AO11)","v":0},{"$f":"IF(AP12=0,0,(AP12*((LOG(AP12))/LOG(2))))","v":0},null,{"$f":"N12","v":212},{"$f":"COUNTIF(L56:L65,AS12)","v":0},{"$f":"AT12/(AV4-AT11)","v":0},{"$f":"IF(AU12=0,0,(AU12*((LOG(AU12))/LOG(2))))","v":0}]
[21,809,11,817,11,820,null,null,null,null,0,211,null,221,{"$f":"COUNTIF($L$7:$L$500,N13)","v":6},{"$f":"O13/$Q$4","v":0.10169491525423729},{"$f":"IF(P13=0,0,(P13*((LOG(P13))/LOG(2))))","v":-0.33535734392956118},null,null,{"$f":"N13","v":221},{"$f":"COUNTIF(L7:L16,T13)","v":2},{"$f":"U13/(W4-U11)","v":0.4},{"$f":"IF(V13=0,0,(V13*((LOG(V13))/LOG(2))))","v":-0.52877123795494496},null,{"$f":"N13","v":221},{"$f":"COUNTIF(L17:L26,Y13)","v":0},{"$f":"Z13/(AB4-Z11)","v":0},{"$f":"IF(AA13=0,0,(AA13*((LOG(AA13))/LOG(2))))","v":0},null,{"$f":"N13","v":221},{"$f":"COUNTIF(L27:L35,AD13)","v":0},{"$f":"AE13/(AG4-AE11)","v":0},{"$f":"IF(AF13=0,0,(AF13*((LOG(AF13))/LOG(2))))","v":0},null,{"$f":"N13","v":221},{"$f":"COUNTIF(L36:L45,AI13)","v":1},{"$f":"AJ13/(AL4-AJ11)","v":1},{"$f":"IF(AK13=0,0,(AK13*((LOG(AK13))/LOG(2))))","v":0},null,{"$f":"N13","v":221},{"$f":"COUNTIF(L46:L55,AN13)","v":2},{"$f":"AO13/(AQ4-AO11)","v":0.33333333333333331},{"$f":"IF(AP13=0,0,(AP13*((LOG(AP13))/LOG(2))))","v":-0.52832083357371862},null,{"$f":"N13","v":221},{"$f":"COUNTIF(L56:L65,AS13)","v":1},{"$f":"AT13/(AV4-AT11)","v":0.33333333333333331},{"$f":"IF(AU13=0,0,(AU13*((LOG(AU13))/LOG(2))))","v":-0.52832083357371862}]
[21,939,11,947,11,956,null,null,null,null,0,211,null,222,{"$f":"COUNTIF($L$7:$L$500,N14)","v":0},{"$f":"O14/$Q$4","v":0},{"$f":"IF(P14=0,0,(P14*((LOG(P14))/LOG(2))))","v":0},null,null,{"$f":"N14","v":222},{"$f":"COUNTIF(L7:L16,T14)","v":0},{"$f":"U14/(W4-U11)","v":0},{"$f":"IF(V14=0,0,(V14*((LOG(V14))/LOG(2))))","v":0},null,{"$f":"N14","v":222},{"$f":"COUNTIF(L17:L26,Y14)","v":0},{"$f":"Z14/(AB4-Z11)","v":0},{"$f":"IF(AA14=0,0,(AA14*((LOG(AA14))/LOG(2))))","v":0},null,{"$f":"N14","v":222},{"$f":"COUNTIF(L27:L35,AD14)","v":0},{"$f":"AE14/(AG4-AE11)","v":0},{"$f":"IF(AF14=0,0,(AF14*((LOG(AF14))/LOG(2))))","v":0},null,{"$f":"N14","v":222},{"$f":"COUNTIF(L36:L45,AI14)","v":0},{"$f":"AJ14/(AL4-AJ11)","v":0},{"$f":"IF(AK14=0,0,(AK14*((LOG(AK14))/LOG(2))))","v":0},null,{"$f":"N14","v":222},{"$f":"COUNTIF(L46:L55,AN14)","v":0},{"$f":"AO14/(AQ4-AO11)","v":0},{"$f":"IF(AP14=0,0,(AP14*((LOG(AP14))/LOG(2))))","v":0},null,{"$f":"N14","v":222},{"$f":"COUNTIF(L56:L65,AS14)","v":0},{"$f":"AT14/(AV4-AT11)","v":0},{"$f":"IF(AU14=0,0,(AU14*((LOG(AU14))/LOG(2))))","v":0}]
[12,1105,13,1116,24,1132,null,null,null,null,0,112,null,null,null,{"$f":"SUM(P7:P14)","v":1},{"$f":"-SUM(Q7:Q14)","v":1.4457036082199388},null,null,null,null,{"$f":"SUM(V7:V14)","v":1},{"$f":"-SUM(W7:W14)","v":1.5219280948873624},null,null,null,{"$f":"SUM(AA7:AA14)","v":1},{"$f":"-SUM(AB7:AB14)","v":0},null,null,null,{"$f":"SUM(AF7:AF14)","v":1},{"$f":"-SUM(AG7:AG14)","v":0.91829583405448945},null,null,null,{"$f":"SUM(AK7:AK14)","v":1},{"$f":"-SUM(AL7:AL14)","v":0},null,null,null,{"$f":"SUM(AP7:AP14)","v":1},{"$f":"-SUM(AQ7:AQ14)","v":1.4591479170272446},null,null,null,{"$f":"SUM(AU7:AU14)","v":1},{"$f":"-SUM(AV7:AV14)","v":0.91829583405448945}]
[21,1228,11,1237,11,1243,null,null,null,null,0,211,null,null,null,"U=",{"$f":"Q15/(LOG(Q4)/LOG(2))","v":0.24575749303313091},null,null,null,null,"U1=",{"$f":"W15/(LOG(W4)/LOG(2))","v":0.45814600780483389},null,null,null,"U2=",{"$f":"AB15/(LOG(AB4)/LOG(2))","v":0},null,null,null,"U3=",{"$f":"AG15/(LOG(AG4)/LOG(2))","v":0.28969008214284753},null,null,null,"U4=",{"$f":"AL15/(LOG(AL4)/LOG(2))","v":0},null,null,null,"U5=",{"$f":"AQ15/(LOG(AQ4)/LOG(2))","v":0.43924729113581862},null,null,null,"U6=",{"$f":"AV15/(LOG(AV4)/LOG(2))","v":0.27643459094367495}]
[21,1367,11,1376,11,1384,null,null,null,null,0,211]
[21,1529,11,1538,11,1542,null,null,null,null,0,211]
[21,1680,11,1689,11,1699,null,null,null,null,0,211,null,"Total Target Seq"]
[12,1901,13,1905,13,1913,null,null,null,null,0,111,null,{"$f":"COUNTIF(L7:L65,G3)","v":39},null,10,10,9,10,10,10]
[21,2013,11,2027,11,2037,null,null,null,null,0,211,null,null,null,"% of reinforcement given in 6 equal intervals based on number of trials "]
[21,2162,11,2170,11,2173,null,null,null,null,0,211,null,null,null,"%_1","%_2","%_3","%_4","%_5","%_6"]
[12,2299,13,2310,13,2330,null,null,null,null,0,111,null,null,"target sequence",{"$f":"$G$3","v":211},{"$f":"$G$3","v":211},{"$f":"$G$3","v":211},{"$f":"$G$3","v":211},{"$f":"$G$3","v":211},{"$f":"$G$3","v":211}]
[21,2431,11,2439,11,2443,null,null,null,null,0,211,null,null,"total reinforcement",{"$f":"U11","v":5},{"$f":"Z11","v":8},{"$f":"AE11","v":6},{"$f":"AJ11","v":9},{"$f":"AO11","v":4},{"$f":"AT11","v":7}]
[21,2574,11,2583,11,2591,null,null,null,null,0,211,null,null,"% target"]
[21,2765,11,2772,11,2777,null,null,null,null,0,211,null,null,"CCRF"]
[21,2943,11,2953,11,2958,null,null,null,null,0,211,null,null,"% CCRf"]
[21,3144,11,3153,11,3158,null,null,null,null,0,211,null,null,"average response rate",{"$f":"F16/P20","v":124.3},{"$f":"(F26-F16)/Q20","v":153.4},{"$f":"(F35-F26)/R20","v":167.77777777777777},{"$f":"(F45-F35)/S20","v":163},{"$f":"(F55-F45)/T20","v":138.5},{"$f":"(F65-F55)/U20","v":159.9}]
[21,3335,11,3344,11,3349,null,null,null,null,0,211]
[21,3596,11,3605,11,3609,null,null,null,null,0,211]
[12,3794,13,3799,13,3807,null,null,null,null,0,111]
[21,3905,11,3913,11,3918,null,null,null,null,0,211]
[12,4031,13,4036,24,4051,null,null,null,null,0,112]
[21,4145,11,4155,11,4160,null,null,null,null,0,211]
[12,4280,13,4282,13,4287,null,null,null,null,0,111]
[21,4386,22,4393,13,4403,null,null,null,null,0,221]
[21,4502,11,4514,11,4519,null,null,null,null,0,211]
[21,4660,11,4669,11,4677,null,null,null,null,0,211]
[21,4826,11,4835,11,4840,null,null,null,null,0,211]
[21,5010,11,5019,11,5024,null,null,null,null,0,211]
[21,5137,11,5145,11,5153,null,null,null,null,0,211]
[21,5287,11,5305,11,5316,null,null,null,null,0,211]
[21,5547,11,5555,11,5559,null,null,null,null,0,211]
[21,5742,11,5749,11,5752,null,null,null,null,0,211]
[21,5903,11,5914,11,5917,null,null,null,null,0,211]
[12,6094,13,6097,13,6103,null,null,null,null,0,111]
[21,6199,11,6210,11,6214,null,null,null,null,0,211]
[12,6339,13,6343,13,6349,null,null,null,null,0,111]
[12,6455,13,6458,13,6471,null,null,null,null,0,111]
[21,6567,22,6575,13,6583,null,null,null,null,0,221]
[21,6680,22,6682,13,6696,null,null,null,null,0,221]
[21,6797,11,6807,11,6812,null,null,null,null,0,211]
[21,6939,11,6946,11,6950,null,null,null,null,0,211]
[12,7168,13,7174,24,7191,null,null,null,null,0,112]
[21,7287,11,7295,11,7302,null,null,null,null,0,211]
[21,7477,11,7486,11,7495,null,null,null,null,0,211]
[12,7664,13,7669,24,7679,null,null,null,null,0,112]
[21,7779,11,7788,11,7793,null,null,null,null,0,211]
[21,7958,11,7967,11,7972,null,null,null,null,0,211]
[21,8128,11,8136,11,8141,null,null,null,null,0,211]
[12,8320,13,8325,24,8337,null,null,null,null,0,112]
[21,8432,22,8435,13,8444,null,null,null,null,0,221]
[21,8543,11,8554,11,8562,null,null,null,null,0,211]
[21,8685,11,8693,11,8698,null,null,null,null,0,211]
[21,8888,11,8898,11,8901,null,null,null,null,1,211]

{"sheet":"!MA23B1D.ust","index":30,"n_rows":62,"n_cols":48,"rows_kept":62,"cut":false,"hidden":false,"merged":[[4,39,4,42],[5,39,5,40],[4,44,4,47],[5,44,5,45],[4,24,4,27],[5,24,5,25],[4,29,4,32],[5,29,5,30],[4,34,4,37],[5,34,5,35],[1,1,1,2],[5,13,5,14],[18,13,18,14],[19,13,19,14],[4,19,4,22],[5,19,5,20]]}
["Report for:!MA23B1D.ust"]
["Date:","<date>"]
["Hen:","<hen>",null,null,null,"Correct Sequence",{"$f":"Start!J2","v":211},null,null,null,null,null,null,null,null,"Total Sequences in Data",{"$f":"4994-COUNTBLANK(L7:L5000)","v":56},null,null,null,null,"Total Sequences in Block Data",{"$f":"COUNTA(L7:L15)","v":9},null,null,null,"Total Sequences in Block Data",{"$f":"COUNTA(L16:L25)","v":10},null,null,null,"Total Sequences in Block Data",{"$f":"COUNTA(L26:L34)","v":9},null,null,null,"Total Sequences in Block Data",{"$f":"COUNTA(L35:L43)","v":9},null,null,null,"Total Sequences in Block Data",{"$f":"COUNTA(L44:L53)","v":10},null,null,null,"Total Sequences in Block Data",{"$f":"COUNTA(L54:L62)","v":9}]
[null,null,null,null,null,null,null,null,null,null,null,null,null,null,null,"Total Sequences in Summary",{"$f":"SUM(O7:O14)","v":56},null,null,null,null,"Total Sequences in Block Summary",{"$f":"SUM(U7:U14)","v":9},null,null,null,"Total Sequences in Block Summary",{"$f":"SUM(Z7:Z14)","v":10},null,null,null,"Total Sequences in Block Summary",{"$f":"SUM(AE7:AE14)","v":9},null,null,null,"Total Sequences in Block Summary",{"$f":"SUM(AJ7:AJ14)","v":9},null,null,null,"Total Sequences in Block Summary",{"$f":"SUM(AO7:AO14)","v":10},null,null,null,"Total Sequences in Block Summary",{"$f":"SUM(AT7:AT14)","v":9}]
[null,null,null,null,null,null,null,null,null,null,null,null,null,null,null,null,null,null,null,"Block 1",null,null,null,null,"Block 2",null,null,null,null,"Block 3",null,null,null,null,"Block 4",null,null,null,null,"Block 5",null,null,null,null,"Block 6"]
["Sequence\nComponent\n1","Time\n1","Sequence\nComponent\n2","Time\n2","Sequence\nComponent\n3","Time\n3","Sequence\nComponent\n4","Time\n4","Sequence\nComponent\n5","Time\n5","Correct?\n0=No 1=Yes","Sequence",null,"Frequency",null,"Relative Frequency","Variability",null,null,"Frequency",null,"Relative Frequency","Variability",null,"Frequency",null,"Relative Frequency","Variability",null,"Frequency",null,"Relative Frequency","Variability",null,"Frequency",null,"Relative Frequency","Variability",null,"Frequency",null,"Relative Frequency","Variability",null,"Frequency",null,"Relative Frequency","Variability"]
[21,19,11,29,11,37,null,null,null,null,0,211,null,111,{"$f":"COUNTIF($L$7:$L$500,N7)","v":11},{"$f":"O7/$Q$4","v":0.19642857142857142},{"$f":"IF(P7=0,0,(P7*((LOG(P7))/LOG(2))))","v":-0.46119922031470312},null,null,{"$f":"N7","v":111},{"$f":"COUNTIF(L7:L15,T7)","v":0},{"$f":"U7/(W4-U11)","v":{"$error":"#DIV/0!"}},{"$f":"IF(V7=0,0,(V7*((LOG(V7))/LOG(2))))","v":{"$error":"#DIV/0!"}},null,{"$f":"N7","v":111},{"$f":"COUNTIF(L16:L25,Y7)","v":4},{"$f":"Z7/(AB4-Z11)","v":0.8},{"$f":"IF(AA7=0,0,(AA7*((LOG(AA7))/LOG(2))))","v":-0.25754247590988982},null,{"$f":"N7","v":111},{"$f":"COUNTIF(L26:L34,AD7)","v":1},{"$f":"AE7/(AG4-AE11)","v":1},{"$f":"IF(AF7=0,0,(AF7*((LOG(AF7))/LOG(2))))","v":0},null,{"$f":"N7","v":111},{"$f":"COUNTIF(L35:L43,AI7)","v":4},{"$f":"AJ7/(AL4-AJ11)","v":1},{"$f":"IF(AK7=0,0,(AK7*((LOG(AK7))/LOG(2))))","v":0},null,{"$f":"N7","v":111},{"$f":"COUNTIF(L44:L53,AN7)","v":1},{"$f":"AO7/(AQ4-AO11)","v":0.2},{"$f":"IF(AP7=0,0,(AP7*((LOG(AP7))/LOG(2))))","v":-0.46438561897747244},null,{"$f":"N7","v":111},{"$f":"COUNTIF(L54:L62,AS7)","v":1},{"$f":"AT7/(AV4-AT11)","v":0.5},{"$f":"IF(AU7=0,0,(AU7*((LOG(AU7))/LOG(2))))","v":-0.5}]
[21,260,11,268,11,272,null,null,null,null,0,211,null,112,{"$f":"COUNTIF($L$7:$L$500,N8)","v":1},{"$f":"O8/$Q$4","v":1.7857142857142856E-2},{"$f":"IF(P8=0,0,(P8*((LOG(P8))/LOG(2))))","v":-0.10370276646531436},null,null,{"$f":"N8","v":112},{"$f":"COUNTIF(L7:L15,T8)","v":0},{"$f":"U8/(W4-U11)","v":{"$error":"#DIV/0!"}},{"$f":"IF(V8=0,0,(V8*((LOG(V8))/LOG(2))))","v":{"$error":"#DIV/0!"}},null,{"$f":"N8","v":112},{"$f":"COUNTIF(L16:L25,Y8)","v":0},{"$f":"Z8/(AB4-Z11)","v":0},{"$f":"IF(AA8=0,0,(AA8*((LOG(AA8))/LOG(2))))","v":0},null,{"$f":"N8","v":112},{"$f":"COUNTIF(L26:L34,AD8)","v":0},{"$f":"AE8/(AG4-AE11)","v":0},{"$f":"IF(AF8=0,0,(AF8*((LOG(AF8))/LOG(2))))","v":0},null,{"$f":"N8","v":112},{"$f":"COUNTIF(L35:L43,AI8)","v":0},{"$f":"AJ8/(AL4-AJ11)","v":0},{"$f":"IF(AK8=0,0,(AK8*((LOG(AK8))/LOG(2))))","v":0},null,{"$f":"N8","v":112},{"$f":"COUNTIF(L44:L53,AN8)","v":0},{"$f":"AO8/(AQ4-AO11)","v":0},{"$f":"IF(AP8=0,0,(AP8*((LOG(AP8))/LOG(2))))","v":0},null,{"$f":"N8","v":112},{"$f":"COUNTIF(L54:L62,AS8)","v":1},{"$f":"AT8/(AV4-AT11)","v":0.5},{"$f":"IF(AU8=0,0,(AU8*((LOG(AU8))/LOG(2))))","v":-0.5}]
[21,438,11,446,11,451,null,null,null,null,0,211,null,121,{"$f":"COUNTIF($L$7:$L$500,N9)","v":0},{"$f":"O9/$Q$4","v":0},{"$f":"IF(P9=0,0,(P9*((LOG(P9))/LOG(2))))","v":0},null,null,{"$f":"N9","v":121},{"$f":"COUNTIF(L7:L15,T9)","v":0},{"$f":"U9/(W4-U11)","v":{"$error":"#DIV/0!"}},{"$f":"IF(V9=0,0,(V9*((LOG(V9))/LOG(2))))","v":{"$error":"#DIV/0!"}},null,{"$f":"N9","v":121},{"$f":"COUNTIF(L16:L25,Y9)","v":0},{"$f":"Z9/(AB4-Z11)","v":0},{"$f":"IF(AA9=0,0,(AA9*((LOG(AA9))/LOG(2))))","v":0},null,{"$f":"N9","v":121},{"$f":"COUNTIF(L26:L34,AD9)","v":0},{"$f":"AE9/(AG4-AE11)","v":0},{"$f":"IF(AF9=0,0,(AF9*((LOG(AF9))/LOG(2))))","v":0},null,{"$f":"N9","v":121},{"$f":"COUNTIF(L35:L43,AI9)","v":0},{"$f":"AJ9/(AL4-AJ11)","v":0},{"$f":"IF(AK9=0,0,(AK9*((LOG(AK9))/LOG(2))))","v":0},null,{"$f":"N9","v":121},{"$f":"COUNTIF(L44:L53,AN9)","v":0},{"$f":"AO9/(AQ4-AO11)","v":0},{"$f":"IF(AP9=0,0,(AP9*((LOG(AP9))/LOG(2))))","v":0},null,{"$f":"N9","v":121},{"$f":"COUNTIF(L54:L62,AS9)","v":0},{"$f":"AT9/(AV4-AT11)","v":0},{"$f":"IF(AU9=0,0,(AU9*((LOG(AU9))/LOG(2))))","v":0}]
[21,583,11,592,11,596,null,null,null,null,0,211,null,122,{"$f":"COUNTIF($L$7:$L$500,N10)","v":0},{"$f":"O10/$Q$4","v":0},{"$f":"IF(P10=0,0,(P10*((LOG(P10))/LOG(2))))","v":0},null,null,{"$f":"N10","v":122},{"$f":"COUNTIF(L7:L15,T10)","v":0},{"$f":"U10/(W4-U11)","v":{"$error":"#DIV/0!"}},{"$f":"IF(V10=0,0,(V10*((LOG(V10))/LOG(2))))","v":{"$error":"#DIV/0!"}},null,{"$f":"N10","v":122},{"$f":"COUNTIF(L16:L25,Y10)","v":0},{"$f":"Z10/(AB4-Z11)","v":0},{"$f":"IF(AA10=0,0,(AA10*((LOG(AA10))/LOG(2))))","v":0},null,{"$f":"N10","v":122},{"$f":"COUNTIF(L26:L34,AD10)","v":0},{"$f":"AE10/(AG4-AE11)","v":0},{"$f":"IF(AF10=0,0,(AF10*((LOG(AF10))/LOG(2))))","v":0},null,{"$f":"N10","v":122},{"$f":"COUNTIF(L35:L43,AI10)","v":0},{"$f":"AJ10/(AL4-AJ11)","v":0},{"$f":"IF(AK10=0,0,(AK10*((LOG(AK10))/LOG(2))))","v":0},null,{"$f":"N10","v":122},{"$f":"COUNTIF(L44:L53,AN10)","v":0},{"$f":"AO10/(AQ4-AO11)","v":0},{"$f":"IF(AP10=0,0,(AP10*((LOG(AP10))/LOG(2))))","v":0},null,{"$f":"N10","v":122},{"$f":"COUNTIF(L54:L62,AS10)","v":0},{"$f":"AT10/(AV4-AT11)","v":0},{"$f":"IF(AU10=0,0,(AU10*((LOG(AU10))/LOG(2))))","v":0}]
[21,749,11,762,11,776,null,null,null,null,0,211,null,211,{"$f":"COUNTIF($L$7:$L$500,N11)","v":39},{"$f":"O11/$Q$4","v":0.6964285714285714},{"$f":"IF(P11=0,0,(P11*((LOG(P11))/LOG(2))))","v":-0.36350277543962278},null,null,{"$f":"N11","v":211},{"$f":"COUNTIF(L7:L15,T11)","v":9},null,null,null,{"$f":"N11","v":211},{"$f":"COUNTIF(L16:L25,Y11)","v":5},null,null,null,{"$f":"N11","v":211},{"$f":"COUNTIF(L26:L34,AD11)","v":8},null,null,null,{"$f":"N11","v":211},{"$f":"COUNTIF(L35:L43,AI11)","v":5},null,null,null,{"$f":"N11","v":211},{"$f":"COUNTIF(L44:L53,AN11)","v":5},null,null,null,{"$f":"N11","v":211},{"$f":"COUNTIF(L54:L62,AS11)","v":7}]
[21,1073,11,1080,11,1087,null,null,null,null,0,211,null,212,{"$f":"COUNTIF($L$7:$L$500,N12)","v":0},{"$f":"O12/$Q$4","v":0},{"$f":"IF(P12=0,0,(P12*((LOG(P12))/LOG(2))))","v":0},null,null,{"$f":"N12","v":212},{"$f":"COUNTIF(L7:L15,T12)","v":0},{"$f":"U12/(W4-U11)","v":{"$error":"#DIV/0!"}},{"$f":"IF(V12=0,0,(V12*((LOG(V12))/LOG(2))))","v":{"$error":"#DIV/0!"}},null,{"$f":"N12","v":212},{"$f":"COUNTIF(L16:L25,Y12)","v":0},{"$f":"Z12/(AB4-Z11)","v":0},{"$f":"IF(AA12=0,0,(AA12*((LOG(AA12))/LOG(2))))","v":0},null,{"$f":"N12","v":212},{"$f":"COUNTIF(L26:L34,AD12)","v":0},{"$f":"AE12/(AG4-AE11)","v":0},{"$f":"IF(AF12=0,0,(AF12*((LOG(AF12))/LOG(2))))","v":0},null,{"$f":"N12","v":212},{"$f":"COUNTIF(L35:L43,AI12)","v":0},{"$f":"AJ12/(AL4-AJ11)","v":0},{"$f":"IF(AK12=0,0,(AK12*((LOG(AK12))/LOG(2))))","v":0},null,{"$f":"N12","v":212},{"$f":"COUNTIF(L44:L53,AN12)","v":0},{"$f":"AO12/(AQ4-AO11)","v":0},{"$f":"IF(AP12=0,0,(AP12*((LOG(AP12))/LOG(2))))","v":0},null,{"$f":"N12","v":212},{"$f":"COUNTIF(L54:L62,AS12)","v":0},{"$f":"AT12/(AV4-AT11)","v":0},{"$f":"IF(AU12=0,0,(AU12*((LOG(AU12))/LOG(2))))","v":0}]
[21,1239,11,1249,11,1252,null,null,null,null,0,211,null,221,{"$f":"COUNTIF($L$7:$L$500,N13)","v":5},{"$f":"O13/$Q$4","v":8.9285714285714288E-2},{"$f":"IF(P13=0,0,(P13*((LOG(P13))/LOG(2))))","v":-0.31119882385448588},null,null,{"$f":"N13","v":221},{"$f":"COUNTIF(L7:L15,T13)","v":0},{"$f":"U13/(W4-U11)","v":{"$error":"#DIV/0!"}},{"$f":"IF(V13=0,0,(V13*((LOG(V13))/LOG(2))))","v":{"$error":"#DIV/0!"}},null,{"$f":"N13","v":221},{"$f":"COUNTIF(L16:L25,Y13)","v":1},{"$f":"Z13/(AB4-Z11)","v":0.2},{"$f":"IF(AA13=0,0,(AA13*((LOG(AA13))/LOG(2))))","v":-0.46438561897747244},null,{"$f":"N13","v":221},{"$f":"COUNTIF(L26:L34,AD13)","v":0},{"$f":"AE13/(AG4-AE11)","v":0},{"$f":"IF(AF13=0,0,(AF13*((LOG(AF13))/LOG(2))))","v":0},null,{"$f":"N13","v":221},{"$f":"COUNTIF(L35:L43,AI13)","v":0},{"$f":"AJ13/(AL4-AJ11)","v":0},{"$f":"IF(AK13=0,0,(AK13*((LOG(AK13))/LOG(2))))","v":0},null,{"$f":"N13","v":221},{"$f":"COUNTIF(L44:L53,AN13)","v":4},{"$f":"AO13/(AQ4-AO11)","v":0.8},{"$f":"IF(AP13=0,0,(AP13*((LOG(AP13))/LOG(2))))","v":-0.25754247590988982},null,{"$f":"N13","v":221},{"$f":"COUNTIF(L54:L62,AS13)","v":0},{"$f":"AT13/(AV4-AT11)","v":0},{"$f":"IF(AU13=0,0,(AU13*((LOG(AU13))/LOG(2))))","v":0}]
[21,1381,11,1391,11,1394,null,null,null,null,0,211,null,222,{"$f":"COUNTIF($L$7:$L$500,N14)","v":0},{"$f":"O14/$Q$4","v":0},{"$f":"IF(P14=0,0,(P14*((LOG(P14))/LOG(2))))","v":0},null,null,{"$f":"N14","v":222},{"$f":"COUNTIF(L7:L15,T14)","v":0},{"$f":"U14/(W4-U11)","v":{"$error":"#DIV/0!"}},{"$f":"IF(V14=0,0,(V14*((LOG(V14))/LOG(2))))","v":{"$error":"#DIV/0!"}},null,{"$f":"N14","v":222},{"$f":"COUNTIF(L16:L25,Y14)","v":0},{"$f":"Z14/(AB4-Z11)","v":0},{"$f":"IF(AA14=0,0,(AA14*((LOG(AA14))/LOG(2))))","v":0},null,{"$f":"N14","v":222},{"$f":"COUNTIF(L26:L34,AD14)","v":0},{"$f":"AE14/(AG4-AE11)","v":0},{"$f":"IF(AF14=0,0,(AF14*((LOG(AF14))/LOG(2))))","v":0},null,{"$f":"N14","v":222},{"$f":"COUNTIF(L35:L43,AI14)","v":0},{"$f":"AJ14/(AL4-AJ11)","v":0},{"$f":"IF(AK14=0,0,(AK14*((LOG(AK14))/LOG(2))))","v":0},null,{"$f":"N14","v":222},{"$f":"COUNTIF(L44:L53,AN14)","v":0},{"$f":"AO14/(AQ4-AO11)","v":0},{"$f":"IF(AP14=0,0,(AP14*((LOG(AP14))/LOG(2))))","v":0},null,{"$f":"N14","v":222},{"$f":"COUNTIF(L54:L62,AS14)","v":0},{"$f":"AT14/(AV4-AT11)","v":0},{"$f":"IF(AU14=0,0,(AU14*((LOG(AU14))/LOG(2))))","v":0}]
[21,1544,11,1554,11,1558,null,null,null,null,0,211,null,null,null,{"$f":"SUM(P7:P14)","v":1},{"$f":"-SUM(Q7:Q14)","v":1.2396035860741261},null,null,null,null,{"$f":"SUM(V7:V14)","v":{"$error":"#DIV/0!"}},{"$f":"-SUM(W7:W14)","v":{"$error":"#DIV/0!"}},null,null,null,{"$f":"SUM(AA7:AA14)","v":1},{"$f":"-SUM(AB7:AB14)","v":0.72192809488736231},null,null,null,{"$f":"SUM(AF7:AF14)","v":1},{"$f":"-SUM(AG7:AG14)","v":0},null,null,null,{"$f":"SUM(AK7:AK14)","v":1},{"$f":"-SUM(AL7:AL14)","v":0},null,null,null,{"$f":"SUM(AP7:AP14)","v":1},{"$f":"-SUM(AQ7:AQ14)","v":0.72192809488736231},null,null,null,{"$f":"SUM(AU7:AU14)","v":1},{"$f":"-SUM(AV7:AV14)","v":1}]
[21,1711,11,1722,11,1729,null,null,null,null,0,211,null,null,null,"U=",{"$f":"Q15/(LOG(Q4)/LOG(2))","v":0.21345407723675378},null,null,null,null,"U1=",{"$f":"W15/(LOG(W4)/LOG(2))","v":{"$error":"#DIV/0!"}},null,null,null,"U2=",{"$f":"AB15/(LOG(AB4)/LOG(2))","v":0.21732201127364889},null,null,null,"U3=",{"$f":"AG15/(LOG(AG4)/LOG(2))","v":0},null,null,null,"U4=",{"$f":"AL15/(LOG(AL4)/LOG(2))","v":0},null,null,null,"U5=",{"$f":"AQ15/(LOG(AQ4)/LOG(2))","v":0.21732201127364889},null,null,null,"U6=",{"$f":"AV15/(LOG(AV4)/LOG(2))","v":0.31546487678572877}]
[12,1913,13,1920,13,1934,null,null,null,null,0,111]
[21,2097,11,2106,11,2114,null,null,null,null,0,211]
[21,2254,11,2264,11,2272,null,null,null,null,0,211,null,"Total Target Seq"]
[12,2409,13,2414,13,2428,null,null,null,null,0,111,null,{"$f":"COUNTIF(L7:L62,G3)","v":39},null,9,10,9,9,10,9]
[21,2523,11,2533,11,2537,null,null,null,null,0,211,null,null,null,"% of reinforcement given in 6 equal intervals based on number of trials "]
[12,2685,13,2697,13,2718,null,null,null,null,0,111,null,null,null,"%_1","%_2","%_3","%_4","%_5","%_6"]
[21,2818,11,2829,11,2834,null,null,null,null,0,211,null,null,"target sequence",{"$f":"$G$3","v":211},{"$f":"$G$3","v":211},{"$f":"$G$3","v":211},{"$f":"$G$3","v":211},{"$f":"$G$3","v":211},{"$f":"$G$3","v":211}]
[12,2970,13,2973,13,2983,null,null,null,null,0,111,null,null,"total reinforcement",{"$f":"U11","v":9},{"$f":"Z11","v":5},{"$f":"AE11","v":8},{"$f":"AJ11","v":5},{"$f":"AO11","v":5},{"$f":"AT11","v":7}]
[21,3080,22,3086,13,3094,null,null,null,null,0,221,null,null,"% target"]
[21,3190,11,3201,11,3207,null,null,null,null,0,211,null,null,"CCRF"]
[21,3319,11,3328,11,3335,null,null,null,null,0,211,null,null,"% CCRf"]
[21,3546,11,3555,11,3560,null,null,null,null,0,211,null,null,"average response rate",{"$f":"F15/P20","v":173.11111111111111},{"$f":"(F25-F15)/Q20","v":153.6},{"$f":"(F34-F25)/R20","v":162.11111111111111},{"$f":"(F43-F34)/S20","v":166.44444444444446},{"$f":"(F53-F43)/T20","v":141.5},{"$f":"(F62-F53)/U20","v":184.55555555555554}]
[12,3753,13,3758,13,3769,null,null,null,null,0,111]
[21,3866,11,3874,11,3879,null,null,null,null,0,211]
[21,4031,11,4040,11,4043,null,null,null,null,0,211]
[21,4192,11,4200,11,4205,null,null,null,null,0,211]
[21,4368,11,4376,11,4380,null,null,null,null,0,211]
[21,4535,11,4543,11,4553,null,null,null,null,0,211]
[21,4696,11,4705,11,4710,null,null,null,null,0,211]
[12,4944,13,4950,13,4957,null,null,null,null,0,111]
[21,5053,11,5063,11,5067,null,null,null,null,0,211]
[21,5212,11,5224,11,5231,null,null,null,null,0,211]
[12,5490,13,5496,13,5502,null,null,null,null,0,111]
[21,5625,11,5632,11,5636,null,null,null,null,0,211]
[12,5800,13,5803,13,5814,null,null,null,null,0,111]
[12,5921,13,5926,13,5939,null,null,null,null,0,111]
[21,6039,11,6047,11,6051,null,null,null,null,0,211]
[12,6168,13,6171,13,6182,null,null,null,null,0,111]
[21,6278,22,6283,13,6292,null,null,null,null,0,221]
[21,6387,22,6391,13,6402,null,null,null,null,0,221]
[21,6496,22,6503,13,6514,null,null,null,null,0,221]
[21,6608,22,6612,13,6621,null,null,null,null,0,221]
[21,6724,11,6734,11,6744,null,null,null,null,0,211]
[21,6891,11,6900,11,6909,null,null,null,null,0,211]
[21,7111,11,7120,11,7126,null,null,null,null,0,211]
[21,7255,11,7264,11,7267,null,null,null,null,0,211]
[21,7448,11,7457,11,7466,null,null,null,null,0,211]
[12,7698,13,7704,13,7714,null,null,null,null,0,111]
[21,7812,11,7822,11,7826,null,null,null,null,0,211]
[12,7995,13,8002,24,8013,null,null,null,null,0,112]
[21,8105,11,8123,11,8127,null,null,null,null,0,211]
[21,8260,11,8270,11,8274,null,null,null,null,0,211]
[21,8436,11,8447,11,8452,null,null,null,null,0,211]
[21,8649,11,8661,11,8664,null,null,null,null,0,211]
[21,8845,11,8855,11,8859,null,null,null,null,0,211]
[21,9113,11,9122,11,9127,null,null,null,null,1,211]

{"sheet":"!MA24A4D.ust","index":31,"n_rows":55,"n_cols":48,"rows_kept":55,"cut":false,"hidden":false,"merged":[[4,39,4,42],[5,39,5,40],[4,44,4,47],[5,44,5,45],[4,24,4,27],[5,24,5,25],[4,29,4,32],[5,29,5,30],[4,34,4,37],[5,34,5,35],[1,1,1,2],[5,13,5,14],[18,13,18,14],[19,13,19,14],[4,19,4,22],[5,19,5,20]]}
["Report for:!MA24A4D.ust"]
["Date:","<date>"]
["Hen:","<hen>",null,null,null,"Correct Sequence",{"$f":"Start!J2","v":211},null,null,null,null,null,null,null,null,"Total Sequences in Data",{"$f":"4994-COUNTBLANK(L7:L5000)","v":49},null,null,null,null,"Total Sequences in Block Data",{"$f":"COUNTA(L7:L14)","v":8},null,null,null,"Total Sequences in Block Data",{"$f":"COUNTA(L15:L22)","v":8},null,null,null,"Total Sequences in Block Data",{"$f":"COUNTA(L23:L31)","v":9},null,null,null,"Total Sequences in Block Data",{"$f":"COUNTA(L32:L39)","v":8},null,null,null,"Total Sequences in Block Data",{"$f":"COUNTA(L40:L47)","v":8},null,null,null,"Total Sequences in Block Data",{"$f":"COUNTA(L48:L55)","v":8}]
[null,null,null,null,null,null,null,null,null,null,null,null,null,null,null,"Total Sequences in Summary",{"$f":"SUM(O7:O14)","v":49},null,null,null,null,"Total Sequences in Block Summary",{"$f":"SUM(U7:U14)","v":8},null,null,null,"Total Sequences in Block Summary",{"$f":"SUM(Z7:Z14)","v":8},null,null,null,"Total Sequences in Block Summary",{"$f":"SUM(AE7:AE14)","v":9},null,null,null,"Total Sequences in Block Summary",{"$f":"SUM(AJ7:AJ14)","v":8},null,null,null,"Total Sequences in Block Summary",{"$f":"SUM(AO7:AO14)","v":8},null,null,null,"Total Sequences in Block Summary",{"$f":"SUM(AT7:AT14)","v":8}]
[null,null,null,null,null,null,null,null,null,null,null,null,null,null,null,null,null,null,null,"Block 1",null,null,null,null,"Block 2",null,null,null,null,"Block 3",null,null,null,null,"Block 4",null,null,null,null,"Block 5",null,null,null,null,"Block 6"]
["Sequence\nComponent\n1","Time\n1","Sequence\nComponent\n2","Time\n2","Sequence\nComponent\n3","Time\n3","Sequence\nComponent\n4","Time\n4","Sequence\nComponent\n5","Time\n5","Correct?\n0=No 1=Yes","Sequence",null,"Frequency",null,"Relative Frequency","Variability",null,null,"Frequency",null,"Relative Frequency","Variability",null,"Frequency",null,"Relative Frequency","Variability",null,"Frequency",null,"Relative Frequency","Variability",null,"Frequency",null,"Relative Frequency","Variability",null,"Frequency",null,"Relative Frequency","Variability",null,"Frequency",null,"Relative Frequency","Variability"]
[12,21,13,23,13,29,null,null,null,null,0,111,null,111,{"$f":"COUNTIF($L$7:$L$500,N7)","v":7},{"$f":"O7/$Q$4","v":0.14285714285714285},{"$f":"IF(P7=0,0,(P7*((LOG(P7))/LOG(2))))","v":-0.40105070315108626},null,null,{"$f":"N7","v":111},{"$f":"COUNTIF(L7:L14,T7)","v":3},{"$f":"U7/(W4-U11)","v":1},{"$f":"IF(V7=0,0,(V7*((LOG(V7))/LOG(2))))","v":0},null,{"$f":"N7","v":111},{"$f":"COUNTIF(L15:L22,Y7)","v":2},{"$f":"Z7/(AB4-Z11)","v":0.66666666666666663},{"$f":"IF(AA7=0,0,(AA7*((LOG(AA7))/LOG(2))))","v":-0.38997500048077083},null,{"$f":"N7","v":111},{"$f":"COUNTIF(L23:L31,AD7)","v":0},{"$f":"AE7/(AG4-AE11)","v":{"$error":"#DIV/0!"}},{"$f":"IF(AF7=0,0,(AF7*((LOG(AF7))/LOG(2))))","v":{"$error":"#DIV/0!"}},null,{"$f":"N7","v":111},{"$f":"COUNTIF(L32:L39,AI7)","v":0},{"$f":"AJ7/(AL4-AJ11)","v":{"$error":"#DIV/0!"}},{"$f":"IF(AK7=0,0,(AK7*((LOG(AK7))/LOG(2))))","v":{"$error":"#DIV/0!"}},null,{"$f":"N7","v":111},{"$f":"COUNTIF(L40:L47,AN7)","v":1},{"$f":"AO7/(AQ4-AO11)","v":0.5},{"$f":"IF(AP7=0,0,(AP7*((LOG(AP7))/LOG(2))))","v":-0.5},null,{"$f":"N7","v":111},{"$f":"COUNTIF(L48:L55,AS7)","v":1},{"$f":"AT7/(AV4-AT11)","v":0.5},{"$f":"IF(AU7=0,0,(AU7*((LOG(AU7))/LOG(2))))","v":-0.5}]
[21,124,11,137,11,142,null,null,null,null,0,211,null,112,{"$f":"COUNTIF($L$7:$L$500,N8)","v":2},{"$f":"O8/$Q$4","v":4.0816326530612242E-2},{"$f":"IF(P8=0,0,(P8*((LOG(P8))/LOG(2))))","v":-0.18835550384143707},null,null,{"$f":"N8","v":112},{"$f":"COUNTIF(L7:L14,T8)","v":0},{"$f":"U8/(W4-U11)","v":0},{"$f":"IF(V8=0,0,(V8*((LOG(V8))/LOG(2))))","v":0},null,{"$f":"N8","v":112},{"$f":"COUNTIF(L15:L22,Y8)","v":1},{"$f":"Z8/(AB4-Z11)","v":0.33333333333333331},{"$f":"IF(AA8=0,0,(AA8*((LOG(AA8))/LOG(2))))","v":-0.52832083357371862},null,{"$f":"N8","v":112},{"$f":"COUNTIF(L23:L31,AD8)","v":0},{"$f":"AE8/(AG4-AE11)","v":{"$error":"#DIV/0!"}},{"$f":"IF(AF8=0,0,(AF8*((LOG(AF8))/LOG(2))))","v":{"$error":"#DIV/0!"}},null,{"$f":"N8","v":112},{"$f":"COUNTIF(L32:L39,AI8)","v":0},{"$f":"AJ8/(AL4-AJ11)","v":{"$error":"#DIV/0!"}},{"$f":"IF(AK8=0,0,(AK8*((LOG(AK8))/LOG(2))))","v":{"$error":"#DIV/0!"}},null,{"$f":"N8","v":112},{"$f":"COUNTIF(L40:L47,AN8)","v":0},{"$f":"AO8/(AQ4-AO11)","v":0},{"$f":"IF(AP8=0,0,(AP8*((LOG(AP8))/LOG(2))))","v":0},null,{"$f":"N8","v":112},{"$f":"COUNTIF(L48:L55,AS8)","v":1},{"$f":"AT8/(AV4-AT11)","v":0.5},{"$f":"IF(AU8=0,0,(AU8*((LOG(AU8))/LOG(2))))","v":-0.5}]
[21,233,11,242,11,247,null,null,null,null,0,211,null,121,{"$f":"COUNTIF($L$7:$L$500,N9)","v":0},{"$f":"O9/$Q$4","v":0},{"$f":"IF(P9=0,0,(P9*((LOG(P9))/LOG(2))))","v":0},null,null,{"$f":"N9","v":121},{"$f":"COUNTIF(L7:L14,T9)","v":0},{"$f":"U9/(W4-U11)","v":0},{"$f":"IF(V9=0,0,(V9*((LOG(V9))/LOG(2))))","v":0},null,{"$f":"N9","v":121},{"$f":"COUNTIF(L15:L22,Y9)","v":0},{"$f":"Z9/(AB4-Z11)","v":0},{"$f":"IF(AA9=0,0,(AA9*((LOG(AA9))/LOG(2))))","v":0},null,{"$f":"N9","v":121},{"$f":"COUNTIF(L23:L31,AD9)","v":0},{"$f":"AE9/(AG4-AE11)","v":{"$error":"#DIV/0!"}},{"$f":"IF(AF9=0,0,(AF9*((LOG(AF9))/LOG(2))))","v":{"$error":"#DIV/0!"}},null,{"$f":"N9","v":121},{"$f":"COUNTIF(L32:L39,AI9)","v":0},{"$f":"AJ9/(AL4-AJ11)","v":{"$error":"#DIV/0!"}},{"$f":"IF(AK9=0,0,(AK9*((LOG(AK9))/LOG(2))))","v":{"$error":"#DIV/0!"}},null,{"$f":"N9","v":121},{"$f":"COUNTIF(L40:L47,AN9)","v":0},{"$f":"AO9/(AQ4-AO11)","v":0},{"$f":"IF(AP9=0,0,(AP9*((LOG(AP9))/LOG(2))))","v":0},null,{"$f":"N9","v":121},{"$f":"COUNTIF(L48:L55,AS9)","v":0},{"$f":"AT9/(AV4-AT11)","v":0},{"$f":"IF(AU9=0,0,(AU9*((LOG(AU9))/LOG(2))))","v":0}]
[12,366,13,377,13,392,null,null,null,null,0,111,null,122,{"$f":"COUNTIF($L$7:$L$500,N10)","v":0},{"$f":"O10/$Q$4","v":0},{"$f":"IF(P10=0,0,(P10*((LOG(P10))/LOG(2))))","v":0},null,null,{"$f":"N10","v":122},{"$f":"COUNTIF(L7:L14,T10)","v":0},{"$f":"U10/(W4-U11)","v":0},{"$f":"IF(V10=0,0,(V10*((LOG(V10))/LOG(2))))","v":0},null,{"$f":"N10","v":122},{"$f":"COUNTIF(L15:L22,Y10)","v":0},{"$f":"Z10/(AB4-Z11)","v":0},{"$f":"IF(AA10=0,0,(AA10*((LOG(AA10))/LOG(2))))","v":0},null,{"$f":"N10","v":122},{"$f":"COUNTIF(L23:L31,AD10)","v":0},{"$f":"AE10/(AG4-AE11)","v":{"$error":"#DIV/0!"}},{"$f":"IF(AF10=0,0,(AF10*((LOG(AF10))/LOG(2))))","v":{"$error":"#DIV/0!"}},null,{"$f":"N10","v":122},{"$f":"COUNTIF(L32:L39,AI10)","v":0},{"$f":"AJ10/(AL4-AJ11)","v":{"$error":"#DIV/0!"}},{"$f":"IF(AK10=0,0,(AK10*((LOG(AK10))/LOG(2))))","v":{"$error":"#DIV/0!"}},null,{"$f":"N10","v":122},{"$f":"COUNTIF(L40:L47,AN10)","v":0},{"$f":"AO10/(AQ4-AO11)","v":0},{"$f":"IF(AP10=0,0,(AP10*((LOG(AP10))/LOG(2))))","v":0},null,{"$f":"N10","v":122},{"$f":"COUNTIF(L48:L55,AS10)","v":0},{"$f":"AT10/(AV4-AT11)","v":0},{"$f":"IF(AU10=0,0,(AU10*((LOG(AU10))/LOG(2))))","v":0}]
[21,493,11,501,11,505,null,null,null,null,0,211,null,211,{"$f":"COUNTIF($L$7:$L$500,N11)","v":39},{"$f":"O11/$Q$4","v":0.79591836734693877},{"$f":"IF(P11=0,0,(P11*((LOG(P11))/LOG(2))))","v":-0.26210198744623336},null,null,{"$f":"N11","v":211},{"$f":"COUNTIF(L7:L14,T11)","v":5},null,null,null,{"$f":"N11","v":211},{"$f":"COUNTIF(L15:L22,Y11)","v":5},null,null,null,{"$f":"N11","v":211},{"$f":"COUNTIF(L23:L31,AD11)","v":9},null,null,null,{"$f":"N11","v":211},{"$f":"COUNTIF(L32:L39,AI11)","v":8},null,null,null,{"$f":"N11","v":211},{"$f":"COUNTIF(L40:L47,AN11)","v":6},null,null,null,{"$f":"N11","v":211},{"$f":"COUNTIF(L48:L55,AS11)","v":6}]
[12,642,13,646,13,653,null,null,null,null,0,111,null,212,{"$f":"COUNTIF($L$7:$L$500,N12)","v":0},{"$f":"O12/$Q$4","v":0},{"$f":"IF(P12=0,0,(P12*((LOG(P12))/LOG(2))))","v":0},null,null,{"$f":"N12","v":212},{"$f":"COUNTIF(L7:L14,T12)","v":0},{"$f":"U12/(W4-U11)","v":0},{"$f":"IF(V12=0,0,(V12*((LOG(V12))/LOG(2))))","v":0},null,{"$f":"N12","v":212},{"$f":"COUNTIF(L15:L22,Y12)","v":0},{"$f":"Z12/(AB4-Z11)","v":0},{"$f":"IF(AA12=0,0,(AA12*((LOG(AA12))/LOG(2))))","v":0},null,{"$f":"N12","v":212},{"$f":"COUNTIF(L23:L31,AD12)","v":0},{"$f":"AE12/(AG4-AE11)","v":{"$error":"#DIV/0!"}},{"$f":"IF(AF12=0,0,(AF12*((LOG(AF12))/LOG(2))))","v":{"$error":"#DIV/0!"}},null,{"$f":"N12","v":212},{"$f":"COUNTIF(L32:L39,AI12)","v":0},{"$f":"AJ12/(AL4-AJ11)","v":{"$error":"#DIV/0!"}},{"$f":"IF(AK12=0,0,(AK12*((LOG(AK12))/LOG(2))))","v":{"$error":"#DIV/0!"}},null,{"$f":"N12","v":212},{"$f":"COUNTIF(L40:L47,AN12)","v":0},{"$f":"AO12/(AQ4-AO11)","v":0},{"$f":"IF(AP12=0,0,(AP12*((LOG(AP12))/LOG(2))))","v":0},null,{"$f":"N12","v":212},{"$f":"COUNTIF(L48:L55,AS12)","v":0},{"$f":"AT12/(AV4-AT11)","v":0},{"$f":"IF(AU12=0,0,(AU12*((LOG(AU12))/LOG(2))))","v":0}]
[21,751,11,759,11,763,null,null,null,null,0,211,null,221,{"$f":"COUNTIF($L$7:$L$500,N13)","v":1},{"$f":"O13/$Q$4","v":2.0408163265306121E-2},{"$f":"IF(P13=0,0,(P13*((LOG(P13))/LOG(2))))","v":-0.11458591518602465},null,null,{"$f":"N13","v":221},{"$f":"COUNTIF(L7:L14,T13)","v":0},{"$f":"U13/(W4-U11)","v":0},{"$f":"IF(V13=0,0,(V13*((LOG(V13))/LOG(2))))","v":0},null,{"$f":"N13","v":221},{"$f":"COUNTIF(L15:L22,Y13)","v":0},{"$f":"Z13/(AB4-Z11)","v":0},{"$f":"IF(AA13=0,0,(AA13*((LOG(AA13))/LOG(2))))","v":0},null,{"$f":"N13","v":221},{"$f":"COUNTIF(L23:L31,AD13)","v":0},{"$f":"AE13/(AG4-AE11)","v":{"$error":"#DIV/0!"}},{"$f":"IF(AF13=0,0,(AF13*((LOG(AF13))/LOG(2))))","v":{"$error":"#DIV/0!"}},null,{"$f":"N13","v":221},{"$f":"COUNTIF(L32:L39,AI13)","v":0},{"$f":"AJ13/(AL4-AJ11)","v":{"$error":"#DIV/0!"}},{"$f":"IF(AK13=0,0,(AK13*((LOG(AK13))/LOG(2))))","v":{"$error":"#DIV/0!"}},null,{"$f":"N13","v":221},{"$f":"COUNTIF(L40:L47,AN13)","v":1},{"$f":"AO13/(AQ4-AO11)","v":0.5},{"$f":"IF(AP13=0,0,(AP13*((LOG(AP13))/LOG(2))))","v":-0.5},null,{"$f":"N13","v":221},{"$f":"COUNTIF(L48:L55,AS13)","v":0},{"$f":"AT13/(AV4-AT11)","v":0},{"$f":"IF(AU13=0,0,(AU13*((LOG(AU13))/LOG(2))))","v":0}]
[21,920,11,928,11,937,null,null,null,null,0,211,null,222,{"$f":"COUNTIF($L$7:$L$500,N14)","v":0},{"$f":"O14/$Q$4","v":0},{"$f":"IF(P14=0,0,(P14*((LOG(P14))/LOG(2))))","v":0},null,null,{"$f":"N14","v":222},{"$f":"COUNTIF(L7:L14,T14)","v":0},{"$f":"U14/(W4-U11)","v":0},{"$f":"IF(V14=0,0,(V14*((LOG(V14))/LOG(2))))","v":0},null,{"$f":"N14","v":222},{"$f":"COUNTIF(L15:L22,Y14)","v":0},{"$f":"Z14/(AB4-Z11)","v":0},{"$f":"IF(AA14=0,0,(AA14*((LOG(AA14))/LOG(2))))","v":0},null,{"$f":"N14","v":222},{"$f":"COUNTIF(L23:L31,AD14)","v":0},{"$f":"AE14/(AG4-AE11)","v":{"$error":"#DIV/0!"}},{"$f":"IF(AF14=0,0,(AF14*((LOG(AF14))/LOG(2))))","v":{"$error":"#DIV/0!"}},null,{"$f":"N14","v":222},{"$f":"COUNTIF(L32:L39,AI14)","v":0},{"$f":"AJ14/(AL4-AJ11)","v":{"$error":"#DIV/0!"}},{"$f":"IF(AK14=0,0,(AK14*((LOG(AK14))/LOG(2))))","v":{"$error":"#DIV/0!"}},null,{"$f":"N14","v":222},{"$f":"COUNTIF(L40:L47,AN14)","v":0},{"$f":"AO14/(AQ4-AO11)","v":0},{"$f":"IF(AP14=0,0,(AP14*((LOG(AP14))/LOG(2))))","v":0},null,{"$f":"N14","v":222},{"$f":"COUNTIF(L48:L55,AS14)","v":0},{"$f":"AT14/(AV4-AT11)","v":0},{"$f":"IF(AU14=0,0,(AU14*((LOG(AU14))/LOG(2))))","v":0}]
[21,1109,11,1119,11,1124,null,null,null,null,0,211,null,null,null,{"$f":"SUM(P7:P14)","v":1},{"$f":"-SUM(Q7:Q14)","v":0.96609410962478137},null,null,null,null,{"$f":"SUM(V7:V14)","v":1},{"$f":"-SUM(W7:W14)","v":0},null,null,null,{"$f":"SUM(AA7:AA14)","v":1},{"$f":"-SUM(AB7:AB14)","v":0.91829583405448945},null,null,null,{"$f":"SUM(AF7:AF14)","v":{"$error":"#DIV/0!"}},{"$f":"-SUM(AG7:AG14)","v":{"$error":"#DIV/0!"}},null,null,null,{"$f":"SUM(AK7:AK14)","v":{"$error":"#DIV/0!"}},{"$f":"-SUM(AL7:AL14)","v":{"$error":"#DIV/0!"}},null,null,null,{"$f":"SUM(AP7:AP14)","v":1},{"$f":"-SUM(AQ7:AQ14)","v":1},null,null,null,{"$f":"SUM(AU7:AU14)","v":1},{"$f":"-SUM(AV7:AV14)","v":1}]
[12,1302,13,1306,24,1316,null,null,null,null,0,112,null,null,null,"U=",{"$f":"Q15/(LOG(Q4)/LOG(2))","v":0.17206483263553629},null,null,null,null,"U1=",{"$f":"W15/(LOG(W4)/LOG(2))","v":0},null,null,null,"U2=",{"$f":"AB15/(LOG(AB4)/LOG(2))","v":0.30609861135149646},null,null,null,"U3=",{"$f":"AG15/(LOG(AG4)/LOG(2))","v":{"$error":"#DIV/0!"}},null,null,null,"U4=",{"$f":"AL15/(LOG(AL4)/LOG(2))","v":{"$error":"#DIV/0!"}},null,null,null,"U5=",{"$f":"AQ15/(LOG(AQ4)/LOG(2))","v":0.33333333333333331},null,null,null,"U6=",{"$f":"AV15/(LOG(AV4)/LOG(2))","v":0.33333333333333331}]
[21,1412,11,1425,11,1435,null,null,null,null,0,211]
[21,1554,11,1566,11,1580,null,null,null,null,0,211]
[12,1740,13,1744,13,1751,null,null,null,null,0,111,null,"Total Target Seq"]
[21,1851,11,1862,11,1867,null,null,null,null,0,211,null,{"$f":"COUNTIF(L7:L55,G3)","v":39},null,8,8,9,8,8,8]
[21,2021,11,2032,11,2037,null,null,null,null,0,211,null,null,null,"% of reinforcement given in 6 equal intervals based on number of trials "]
[12,2177,13,2186,13,2202,null,null,null,null,0,111,null,null,null,"%_1","%_2","%_3","%_4","%_5","%_6"]
[21,2301,11,2310,11,2313,null,null,null,null,0,211,null,null,"target sequence",{"$f":"$G$3","v":211},{"$f":"$G$3","v":211},{"$f":"$G$3","v":211},{"$f":"$G$3","v":211},{"$f":"$G$3","v":211},{"$f":"$G$3","v":211}]
[21,2440,11,2448,11,2452,null,null,null,null,0,211,null,null,"total reinforcement",{"$f":"U11","v":5},{"$f":"Z11","v":5},{"$f":"AE11","v":9},{"$f":"AJ11","v":8},{"$f":"AO11","v":6},{"$f":"AT11","v":6}]
[21,2626,11,2635,11,2638,null,null,null,null,0,211,null,null,"% target"]
[21,2825,11,2834,11,2836,null,null,null,null,0,211,null,null,"CCRF"]
[21,3010,11,3025,11,3042,null,null,null,null,0,211,null,null,"% CCRf"]
[21,3209,11,3217,11,3221,null,null,null,null,0,211,null,null,"average response rate",{"$f":"F14/P20","v":117.125},{"$f":"(F22-F14)/Q20","v":158.125},{"$f":"(F31-F22)/R20","v":170.33333333333334},{"$f":"(F39-F31)/S20","v":193.25},{"$f":"(F47-F39)/T20","v":198},{"$f":"(F55-F47)/U20","v":213.125}]
[21,3417,11,3426,11,3429,null,null,null,null,0,211]
[21,3578,11,3587,11,3592,null,null,null,null,0,211]
[21,3724,11,3732,11,3735,null,null,null,null,0,211]
[21,3957,11,3966,11,3972,null,null,null,null,0,211]
[21,4097,11,4105,11,4109,null,null,null,null,0,211]
[21,4283,11,4291,11,4295,null,null,null,null,0,211]
[21,4401,11,4409,11,4413,null,null,null,null,0,211]
[21,4617,11,4626,11,4630,null,null,null,null,0,211]
[21,4857,11,4865,11,4880,null,null,null,null,0,211]
[21,5063,11,5075,11,5079,null,null,null,null,0,211]
[21,5267,11,5276,11,5281,null,null,null,null,0,211]
[21,5441,11,5451,11,5455,null,null,null,null,0,211]
[21,5664,11,5676,11,5682,null,null,null,null,0,211]
[21,5899,11,5908,11,5912,null,null,null,null,0,211]
[21,6116,11,6125,11,6130,null,null,null,null,0,211]
[12,6363,13,6367,13,6380,null,null,null,null,0,111]
[21,6481,11,6493,11,6496,null,null,null,null,0,211]
[21,6652,11,6661,11,6665,null,null,null,null,0,211]
[21,6851,22,6854,13,6865,null,null,null,null,0,221]
[21,7095,11,7105,11,7117,null,null,null,null,0,211]
[12,7400,13,7405,24,7419,null,null,null,null,0,112]
[21,7521,11,7532,11,7535,null,null,null,null,0,211]
[21,7667,11,7675,11,7686,null,null,null,null,0,211]
[21,7899,11,7908,11,7912,null,null,null,null,0,211]
[21,8154,11,8163,11,8167,null,null,null,null,0,211]
[12,8445,13,8448,13,8462,null,null,null,null,0,111]
[21,8557,11,8566,11,8570,null,null,null,null,1,211]

{"sheet":"!MA25A3D.ust","index":32,"n_rows":57,"n_cols":48,"rows_kept":57,"cut":false,"hidden":false,"merged":[[4,39,4,42],[5,39,5,40],[4,44,4,47],[5,44,5,45],[4,24,4,27],[5,24,5,25],[4,29,4,32],[5,29,5,30],[4,34,4,37],[5,34,5,35],[1,1,1,2],[5,13,5,14],[18,13,18,14],[19,13,19,14],[4,19,4,22],[5,19,5,20]]}
["Report for:!MA25A3D.ust"]
["Date:","<date>"]
["Hen:","<hen>",null,null,null,"Correct Sequence",{"$f":"Start!J2","v":211},null,null,null,null,null,null,null,null,"Total Sequences in Data",{"$f":"4994-COUNTBLANK(L7:L5000)","v":51},null,null,null,null,"Total Sequences in Block Data",{"$f":"COUNTA(L7:L15)","v":9},null,null,null,"Total Sequences in Block Data",{"$f":"COUNTA(L16:L23)","v":8},null,null,null,"Total Sequences in Block Data",{"$f":"COUNTA(L24:L32)","v":9},null,null,null,"Total Sequences in Block Data",{"$f":"COUNTA(L33:L40)","v":8},null,null,null,"Total Sequences in Block Data",{"$f":"COUNTA(L41:L49)","v":9},null,null,null,"Total Sequences in Block Data",{"$f":"COUNTA(L50:L57)","v":8}]
[null,null,null,null,null,null,null,null,null,null,null,null,null,null,null,"Total Sequences in Summary",{"$f":"SUM(O7:O14)","v":51},null,null,null,null,"Total Sequences in Block Summary",{"$f":"SUM(U7:U14)","v":9},null,null,null,"Total Sequences in Block Summary",{"$f":"SUM(Z7:Z14)","v":8},null,null,null,"Total Sequences in Block Summary",{"$f":"SUM(AE7:AE14)","v":9},null,null,null,"Total Sequences in Block Summary",{"$f":"SUM(AJ7:AJ14)","v":8},null,null,null,"Total Sequences in Block Summary",{"$f":"SUM(AO7:AO14)","v":9},null,null,null,"Total Sequences in Block Summary",{"$f":"SUM(AT7:AT14)","v":8}]
[null,null,null,null,null,null,null,null,null,null,null,null,null,null,null,null,null,null,null,"Block 1",null,null,null,null,"Block 2",null,null,null,null,"Block 3",null,null,null,null,"Block 4",null,null,null,null,"Block 5",null,null,null,null,"Block 6"]
["Sequence\nComponent\n1","Time\n1","Sequence\nComponent\n2","Time\n2","Sequence\nComponent\n3","Time\n3","Sequence\nComponent\n4","Time\n4","Sequence\nComponent\n5","Time\n5","Correct?\n0=No 1=Yes","Sequence",null,"Frequency",null,"Relative Frequency","Variability",null,null,"Frequency",null,"Relative Frequency","Variability",null,"Frequency",null,"Relative Frequency","Variability",null,"Frequency",null,"Relative Frequency","Variability",null,"Frequency",null,"Relative Frequency","Variability",null,"Frequency",null,"Relative Frequency","Variability",null,"Frequency",null,"Relative Frequency","Variability"]
[21,8,11,17,11,22,null,null,null,null,0,211,null,111,{"$f":"COUNTIF($L$7:$L$500,N7)","v":6},{"$f":"O7/$Q$4","v":0.11764705882352941},{"$f":"IF(P7=0,0,(P7*((LOG(P7))/LOG(2))))","v":-0.36323092250003997},null,null,{"$f":"N7","v":111},{"$f":"COUNTIF(L7:L15,T7)","v":4},{"$f":"U7/(W4-U11)","v":1},{"$f":"IF(V7=0,0,(V7*((LOG(V7))/LOG(2))))","v":0},null,{"$f":"N7","v":111},{"$f":"COUNTIF(L16:L23,Y7)","v":1},{"$f":"Z7/(AB4-Z11)","v":0.5},{"$f":"IF(AA7=0,0,(AA7*((LOG(AA7))/LOG(2))))","v":-0.5},null,{"$f":"N7","v":111},{"$f":"COUNTIF(L24:L32,AD7)","v":1},{"$f":"AE7/(AG4-AE11)","v":0.5},{"$f":"IF(AF7=0,0,(AF7*((LOG(AF7))/LOG(2))))","v":-0.5},null,{"$f":"N7","v":111},{"$f":"COUNTIF(L33:L40,AI7)","v":0},{"$f":"AJ7/(AL4-AJ11)","v":0},{"$f":"IF(AK7=0,0,(AK7*((LOG(AK7))/LOG(2))))","v":0},null,{"$f":"N7","v":111},{"$f":"COUNTIF(L41:L49,AN7)","v":0},{"$f":"AO7/(AQ4-AO11)","v":{"$error":"#DIV/0!"}},{"$f":"IF(AP7=0,0,(AP7*((LOG(AP7))/LOG(2))))","v":{"$error":"#DIV/0!"}},null,{"$f":"N7","v":111},{"$f":"COUNTIF(L50:L57,AS7)","v":0},{"$f":"AT7/(AV4-AT11)","v":{"$error":"#DIV/0!"}},{"$f":"IF(AU7=0,0,(AU7*((LOG(AU7))/LOG(2))))","v":{"$error":"#DIV/0!"}}]
[12,202,13,208,13,224,null,null,null,null,0,111,null,112,{"$f":"COUNTIF($L$7:$L$500,N8)","v":2},{"$f":"O8/$Q$4","v":3.9215686274509803E-2},{"$f":"IF(P8=0,0,(P8*((LOG(P8))/LOG(2))))","v":-0.18323236635182338},null,null,{"$f":"N8","v":112},{"$f":"COUNTIF(L7:L15,T8)","v":0},{"$f":"U8/(W4-U11)","v":0},{"$f":"IF(V8=0,0,(V8*((LOG(V8))/LOG(2))))","v":0},null,{"$f":"N8","v":112},{"$f":"COUNTIF(L16:L23,Y8)","v":0},{"$f":"Z8/(AB4-Z11)","v":0},{"$f":"IF(AA8=0,0,(AA8*((LOG(AA8))/LOG(2))))","v":0},null,{"$f":"N8","v":112},{"$f":"COUNTIF(L24:L32,AD8)","v":1},{"$f":"AE8/(AG4-AE11)","v":0.5},{"$f":"IF(AF8=0,0,(AF8*((LOG(AF8))/LOG(2))))","v":-0.5},null,{"$f":"N8","v":112},{"$f":"COUNTIF(L33:L40,AI8)","v":1},{"$f":"AJ8/(AL4-AJ11)","v":0.25},{"$f":"IF(AK8=0,0,(AK8*((LOG(AK8))/LOG(2))))","v":-0.5},null,{"$f":"N8","v":112},{"$f":"COUNTIF(L41:L49,AN8)","v":0},{"$f":"AO8/(AQ4-AO11)","v":{"$error":"#DIV/0!"}},{"$f":"IF(AP8=0,0,(AP8*((LOG(AP8))/LOG(2))))","v":{"$error":"#DIV/0!"}},null,{"$f":"N8","v":112},{"$f":"COUNTIF(L50:L57,AS8)","v":0},{"$f":"AT8/(AV4-AT11)","v":{"$error":"#DIV/0!"}},{"$f":"IF(AU8=0,0,(AU8*((LOG(AU8))/LOG(2))))","v":{"$error":"#DIV/0!"}}]
[21,361,11,373,11,389,null,null,null,null,0,211,null,121,{"$f":"COUNTIF($L$7:$L$500,N9)","v":0},{"$f":"O9/$Q$4","v":0},{"$f":"IF(P9=0,0,(P9*((LOG(P9))/LOG(2))))","v":0},null,null,{"$f":"N9","v":121},{"$f":"COUNTIF(L7:L15,T9)","v":0},{"$f":"U9/(W4-U11)","v":0},{"$f":"IF(V9=0,0,(V9*((LOG(V9))/LOG(2))))","v":0},null,{"$f":"N9","v":121},{"$f":"COUNTIF(L16:L23,Y9)","v":0},{"$f":"Z9/(AB4-Z11)","v":0},{"$f":"IF(AA9=0,0,(AA9*((LOG(AA9))/LOG(2))))","v":0},null,{"$f":"N9","v":121},{"$f":"COUNTIF(L24:L32,AD9)","v":0},{"$f":"AE9/(AG4-AE11)","v":0},{"$f":"IF(AF9=0,0,(AF9*((LOG(AF9))/LOG(2))))","v":0},null,{"$f":"N9","v":121},{"$f":"COUNTIF(L33:L40,AI9)","v":0},{"$f":"AJ9/(AL4-AJ11)","v":0},{"$f":"IF(AK9=0,0,(AK9*((LOG(AK9))/LOG(2))))","v":0},null,{"$f":"N9","v":121},{"$f":"COUNTIF(L41:L49,AN9)","v":0},{"$f":"AO9/(AQ4-AO11)","v":{"$error":"#DIV/0!"}},{"$f":"IF(AP9=0,0,(AP9*((LOG(AP9))/LOG(2))))","v":{"$error":"#DIV/0!"}},null,{"$f":"N9","v":121},{"$f":"COUNTIF(L50:L57,AS9)","v":0},{"$f":"AT9/(AV4-AT11)","v":{"$error":"#DIV/0!"}},{"$f":"IF(AU9=0,0,(AU9*((LOG(AU9))/LOG(2))))","v":{"$error":"#DIV/0!"}}]
[21,507,11,518,11,523,null,null,null,null,0,211,null,122,{"$f":"COUNTIF($L$7:$L$500,N10)","v":0},{"$f":"O10/$Q$4","v":0},{"$f":"IF(P10=0,0,(P10*((LOG(P10))/LOG(2))))","v":0},null,null,{"$f":"N10","v":122},{"$f":"COUNTIF(L7:L15,T10)","v":0},{"$f":"U10/(W4-U11)","v":0},{"$f":"IF(V10=0,0,(V10*((LOG(V10))/LOG(2))))","v":0},null,{"$f":"N10","v":122},{"$f":"COUNTIF(L16:L23,Y10)","v":0},{"$f":"Z10/(AB4-Z11)","v":0},{"$f":"IF(AA10=0,0,(AA10*((LOG(AA10))/LOG(2))))","v":0},null,{"$f":"N10","v":122},{"$f":"COUNTIF(L24:L32,AD10)","v":0},{"$f":"AE10/(AG4-AE11)","v":0},{"$f":"IF(AF10=0,0,(AF10*((LOG(AF10))/LOG(2))))","v":0},null,{"$f":"N10","v":122},{"$f":"COUNTIF(L33:L40,AI10)","v":0},{"$f":"AJ10/(AL4-AJ11)","v":0},{"$f":"IF(AK10=0,0,(AK10*((LOG(AK10))/LOG(2))))","v":0},null,{"$f":"N10","v":122},{"$f":"COUNTIF(L41:L49,AN10)","v":0},{"$f":"AO10/(AQ4-AO11)","v":{"$error":"#DIV/0!"}},{"$f":"IF(AP10=0,0,(AP10*((LOG(AP10))/LOG(2))))","v":{"$error":"#DIV/0!"}},null,{"$f":"N10","v":122},{"$f":"COUNTIF(L50:L57,AS10)","v":0},{"$f":"AT10/(AV4-AT11)","v":{"$error":"#DIV/0!"}},{"$f":"IF(AU10=0,0,(AU10*((LOG(AU10))/LOG(2))))","v":{"$error":"#DIV/0!"}}]
[12,726,13,729,13,742,null,null,null,null,0,111,null,211,{"$f":"COUNTIF($L$7:$L$500,N11)","v":39},{"$f":"O11/$Q$4","v":0.76470588235294112},{"$f":"IF(P11=0,0,(P11*((LOG(P11))/LOG(2))))","v":-0.29595885884824796},null,null,{"$f":"N11","v":211},{"$f":"COUNTIF(L7:L15,T11)","v":5},null,null,null,{"$f":"N11","v":211},{"$f":"COUNTIF(L16:L23,Y11)","v":6},null,null,null,{"$f":"N11","v":211},{"$f":"COUNTIF(L24:L32,AD11)","v":7},null,null,null,{"$f":"N11","v":211},{"$f":"COUNTIF(L33:L40,AI11)","v":4},null,null,null,{"$f":"N11","v":211},{"$f":"COUNTIF(L41:L49,AN11)","v":9},null,null,null,{"$f":"N11","v":211},{"$f":"COUNTIF(L50:L57,AS11)","v":8}]
[21,840,11,848,11,860,null,null,null,null,0,211,null,212,{"$f":"COUNTIF($L$7:$L$500,N12)","v":0},{"$f":"O12/$Q$4","v":0},{"$f":"IF(P12=0,0,(P12*((LOG(P12))/LOG(2))))","v":0},null,null,{"$f":"N12","v":212},{"$f":"COUNTIF(L7:L15,T12)","v":0},{"$f":"U12/(W4-U11)","v":0},{"$f":"IF(V12=0,0,(V12*((LOG(V12))/LOG(2))))","v":0},null,{"$f":"N12","v":212},{"$f":"COUNTIF(L16:L23,Y12)","v":0},{"$f":"Z12/(AB4-Z11)","v":0},{"$f":"IF(AA12=0,0,(AA12*((LOG(AA12))/LOG(2))))","v":0},null,{"$f":"N12","v":212},{"$f":"COUNTIF(L24:L32,AD12)","v":0},{"$f":"AE12/(AG4-AE11)","v":0},{"$f":"IF(AF12=0,0,(AF12*((LOG(AF12))/LOG(2))))","v":0},null,{"$f":"N12","v":212},{"$f":"COUNTIF(L33:L40,AI12)","v":0},{"$f":"AJ12/(AL4-AJ11)","v":0},{"$f":"IF(AK12=0,0,(AK12*((LOG(AK12))/LOG(2))))","v":0},null,{"$f":"N12","v":212},{"$f":"COUNTIF(L41:L49,AN12)","v":0},{"$f":"AO12/(AQ4-AO11)","v":{"$error":"#DIV/0!"}},{"$f":"IF(AP12=0,0,(AP12*((LOG(AP12))/LOG(2))))","v":{"$error":"#DIV/0!"}},null,{"$f":"N12","v":212},{"$f":"COUNTIF(L50:L57,AS12)","v":0},{"$f":"AT12/(AV4-AT11)","v":{"$error":"#DIV/0!"}},{"$f":"IF(AU12=0,0,(AU12*((LOG(AU12))/LOG(2))))","v":{"$error":"#DIV/0!"}}]
[21,1010,11,1020,11,1022,null,null,null,null,0,211,null,221,{"$f":"COUNTIF($L$7:$L$500,N13)","v":4},{"$f":"O13/$Q$4","v":7.8431372549019607E-2},{"$f":"IF(P13=0,0,(P13*((LOG(P13))/LOG(2))))","v":-0.2880333601546271},null,null,{"$f":"N13","v":221},{"$f":"COUNTIF(L7:L15,T13)","v":0},{"$f":"U13/(W4-U11)","v":0},{"$f":"IF(V13=0,0,(V13*((LOG(V13))/LOG(2))))","v":0},null,{"$f":"N13","v":221},{"$f":"COUNTIF(L16:L23,Y13)","v":1},{"$f":"Z13/(AB4-Z11)","v":0.5},{"$f":"IF(AA13=0,0,(AA13*((LOG(AA13))/LOG(2))))","v":-0.5},null,{"$f":"N13","v":221},{"$f":"COUNTIF(L24:L32,AD13)","v":0},{"$f":"AE13/(AG4-AE11)","v":0},{"$f":"IF(AF13=0,0,(AF13*((LOG(AF13))/LOG(2))))","v":0},null,{"$f":"N13","v":221},{"$f":"COUNTIF(L33:L40,AI13)","v":3},{"$f":"AJ13/(AL4-AJ11)","v":0.75},{"$f":"IF(AK13=0,0,(AK13*((LOG(AK13))/LOG(2))))","v":-0.31127812445913283},null,{"$f":"N13","v":221},{"$f":"COUNTIF(L41:L49,AN13)","v":0},{"$f":"AO13/(AQ4-AO11)","v":{"$error":"#DIV/0!"}},{"$f":"IF(AP13=0,0,(AP13*((LOG(AP13))/LOG(2))))","v":{"$error":"#DIV/0!"}},null,{"$f":"N13","v":221},{"$f":"COUNTIF(L50:L57,AS13)","v":0},{"$f":"AT13/(AV4-AT11)","v":{"$error":"#DIV/0!"}},{"$f":"IF(AU13=0,0,(AU13*((LOG(AU13))/LOG(2))))","v":{"$error":"#DIV/0!"}}]
[12,1204,13,1207,13,1216,null,null,null,null,0,111,null,222,{"$f":"COUNTIF($L$7:$L$500,N14)","v":0},{"$f":"O14/$Q$4","v":0},{"$f":"IF(P14=0,0,(P14*((LOG(P14))/LOG(2))))","v":0},null,null,{"$f":"N14","v":222},{"$f":"COUNTIF(L7:L15,T14)","v":0},{"$f":"U14/(W4-U11)","v":0},{"$f":"IF(V14=0,0,(V14*((LOG(V14))/LOG(2))))","v":0},null,{"$f":"N14","v":222},{"$f":"COUNTIF(L16:L23,Y14)","v":0},{"$f":"Z14/(AB4-Z11)","v":0},{"$f":"IF(AA14=0,0,(AA14*((LOG(AA14))/LOG(2))))","v":0},null,{"$f":"N14","v":222},{"$f":"COUNTIF(L24:L32,AD14)","v":0},{"$f":"AE14/(AG4-AE11)","v":0},{"$f":"IF(AF14=0,0,(AF14*((LOG(AF14))/LOG(2))))","v":0},null,{"$f":"N14","v":222},{"$f":"COUNTIF(L33:L40,AI14)","v":0},{"$f":"AJ14/(AL4-AJ11)","v":0},{"$f":"IF(AK14=0,0,(AK14*((LOG(AK14))/LOG(2))))","v":0},null,{"$f":"N14","v":222},{"$f":"COUNTIF(L41:L49,AN14)","v":0},{"$f":"AO14/(AQ4-AO11)","v":{"$error":"#DIV/0!"}},{"$f":"IF(AP14=0,0,(AP14*((LOG(AP14))/LOG(2))))","v":{"$error":"#DIV/0!"}},null,{"$f":"N14","v":222},{"$f":"COUNTIF(L50:L57,AS14)","v":0},{"$f":"AT14/(AV4-AT11)","v":{"$error":"#DIV/0!"}},{"$f":"IF(AU14=0,0,(AU14*((LOG(AU14))/LOG(2))))","v":{"$error":"#DIV/0!"}}]
[12,1323,13,1328,13,1340,null,null,null,null,0,111,null,null,null,{"$f":"SUM(P7:P14)","v":1},{"$f":"-SUM(Q7:Q14)","v":1.1304555078547383},null,null,null,null,{"$f":"SUM(V7:V14)","v":1},{"$f":"-SUM(W7:W14)","v":0},null,null,null,{"$f":"SUM(AA7:AA14)","v":1},{"$f":"-SUM(AB7:AB14)","v":1},null,null,null,{"$f":"SUM(AF7:AF14)","v":1},{"$f":"-SUM(AG7:AG14)","v":1},null,null,null,{"$f":"SUM(AK7:AK14)","v":1},{"$f":"-SUM(AL7:AL14)","v":0.81127812445913283},null,null,null,{"$f":"SUM(AP7:AP14)","v":{"$error":"#DIV/0!"}},{"$f":"-SUM(AQ7:AQ14)","v":{"$error":"#DIV/0!"}},null,null,null,{"$f":"SUM(AU7:AU14)","v":{"$error":"#DIV/0!"}},{"$f":"-SUM(AV7:AV14)","v":{"$error":"#DIV/0!"}}]
[21,1439,11,1448,11,1453,null,null,null,null,0,211,null,null,null,"U=",{"$f":"Q15/(LOG(Q4)/LOG(2))","v":0.19928962299252398},null,null,null,null,"U1=",{"$f":"W15/(LOG(W4)/LOG(2))","v":0},null,null,null,"U2=",{"$f":"AB15/(LOG(AB4)/LOG(2))","v":0.33333333333333331},null,null,null,"U3=",{"$f":"AG15/(LOG(AG4)/LOG(2))","v":0.31546487678572877},null,null,null,"U4=",{"$f":"AL15/(LOG(AL4)/LOG(2))","v":0.27042604148637761},null,null,null,"U5=",{"$f":"AQ15/(LOG(AQ4)/LOG(2))","v":{"$error":"#DIV/0!"}},null,null,null,"U6=",{"$f":"AV15/(LOG(AV4)/LOG(2))","v":{"$error":"#DIV/0!"}}]
[21,1585,11,1598,11,1603,null,null,null,null,0,211]
[21,1742,11,1753,11,1757,null,null,null,null,0,211]
[12,1939,13,1945,13,1951,null,null,null,null,0,111,null,"Total Target Seq"]
[21,2044,22,2052,13,2061,null,null,null,null,0,221,null,{"$f":"COUNTIF(L7:L57,G3)","v":39},null,9,8,9,8,9,8]
[21,2156,11,2166,11,2170,null,null,null,null,0,211,null,null,null,"% of reinforcement given in 6 equal intervals based on number of trials "]
[21,2292,11,2300,11,2307,null,null,null,null,0,211,null,null,null,"%_1","%_2","%_3","%_4","%_5","%_6"]
[21,2447,11,2456,11,2461,null,null,null,null,0,211,null,null,"target sequence",{"$f":"$G$3","v":211},{"$f":"$G$3","v":211},{"$f":"$G$3","v":211},{"$f":"$G$3","v":211},{"$f":"$G$3","v":211},{"$f":"$G$3","v":211}]
[21,2620,11,2629,11,2633,null,null,null,null,0,211,null,null,"total reinforcement",{"$f":"U11","v":5},{"$f":"Z11","v":6},{"$f":"AE11","v":7},{"$f":"AJ11","v":4},{"$f":"AO11","v":9},{"$f":"AT11","v":8}]
[21,2790,11,2798,11,2804,null,null,null,null,0,211,null,null,"% target"]
[21,2965,11,2975,11,2981,null,null,null,null,0,211,null,null,"CCRF"]
[21,3180,11,3187,11,3191,null,null,null,null,0,211,null,null,"% CCRf"]
[12,3367,13,3376,24,3388,null,null,null,null,0,112,null,null,"average response rate",{"$f":"F15/P20","v":148.88888888888889},{"$f":"(F23-F15)/Q20","v":140.125},{"$f":"(F32-F23)/R20","v":164.77777777777777},{"$f":"(F40-F32)/S20","v":146},{"$f":"(F49-F40)/T20","v":153.33333333333334},{"$f":"(F57-F49)/U20","v":200.875}]
[21,3488,11,3497,11,3506,null,null,null,null,0,211]
[12,3631,13,3635,13,3639,null,null,null,null,0,111]
[21,3735,11,3745,11,3748,null,null,null,null,0,211]
[21,3931,11,3942,11,3944,null,null,null,null,0,211]
[21,4086,11,4097,11,4100,null,null,null,null,0,211]
[21,4227,11,4239,11,4241,null,null,null,null,0,211]
[21,4446,11,4459,11,4463,null,null,null,null,0,211]
[21,4633,11,4644,11,4652,null,null,null,null,0,211]
[12,4764,13,4768,24,4778,null,null,null,null,0,112]
[21,4870,22,4879,13,4889,null,null,null,null,0,221]
[21,4982,22,4991,13,5001,null,null,null,null,0,221]
[21,5095,22,5103,13,5112,null,null,null,null,0,221]
[21,5209,11,5220,11,5229,null,null,null,null,0,211]
[21,5365,11,5373,11,5377,null,null,null,null,0,211]
[21,5514,11,5522,11,5526,null,null,null,null,0,211]
[21,5676,11,5684,11,5688,null,null,null,null,0,211]
[21,5803,11,5814,11,5822,null,null,null,null,0,211]
[21,5989,11,5996,11,5998,null,null,null,null,0,211]
[21,6130,11,6139,11,6151,null,null,null,null,0,211]
[21,6353,11,6362,11,6366,null,null,null,null,0,211]
[21,6475,11,6484,11,6492,null,null,null,null,0,211]
[21,6724,11,6732,11,6737,null,null,null,null,0,211]
[21,6877,11,6888,11,6890,null,null,null,null,0,211]
[21,7046,11,7054,11,7059,null,null,null,null,0,211]
[21,7215,11,7226,11,7229,null,null,null,null,0,211]
[21,7419,11,7428,11,7431,null,null,null,null,0,211]
[21,7657,11,7665,11,7669,null,null,null,null,0,211]
[21,7871,11,7879,11,7884,null,null,null,null,0,211]
[21,8085,11,8094,11,8099,null,null,null,null,1,211]