{"text_format":"1","workbook":"xlsx","n_sheets":22,"sheets":["Sample Report","Summary","Start","!N41191B.AXT","!N41292B.AXT","!N41382B.AXT","!N41492B.AXT","!N41585B.AXT","!N41684B.AXT","!N417A3B.AXT","!N41895B.AXT","!N41990B.AXT","!N42091B.AXT","!N421A1B.AXT","!N42294B.AXT","!N42385B.AXT","!N424A4B.AXT","!N42683B.AXT","!N42785B.AXT","!N42894B.AXT","!N42982B.AXT","!N501A0B.AXT"],"not_rendered":{"charts":0,"images":0,"macros":1,"external_links":0,"defined_names":0,"comments":0,"pivot_tables":0},"unopened":[],"bounds":{"document_bytes":16777216,"sheet_cells":100000,"rows_first":2000,"rows_last":500,"rows_between":2000,"halvings":0,"cell_chars":16384,"cell_head_chars":4096},"cells_cut":0,"cells_raw":0,"read":"whole","date_system":"1900"}

{"sheet":"Sample Report","index":0,"n_rows":12,"n_cols":11,"rows_kept":12,"cut":false,"hidden":true,"merged":[[7,0,7,6]]}
[]
["Date"]
["Hen"]
["Program"]
["Start at 999999"]
["Sequence component 1","Time 1","Seqeunce Component 2","Time 2","Seqeunce Component 3","Time 3","Correct   0 = No 1=Yes",null,null,"Seqeunce","Time"]
[12,7,12,42,13,18,"if 77 new line,                                  if 31 or 41 = yes new line on 77, ",null,null,"=string of Seqeunce compponent 1, 2 & 3","=time 3"]
["This continues until ther is a 1 on its own to indicate start of summary data"]
[null,null,null,null,null,null,null,null,null,"10-19 =1"]
["Summary Data ",null,null,null,null,null,null,null,null,"20-29 =2"]
["Correct","Incorrect","Rft","total","Av Correct","Av Incorrect","Percent correct","Time",null,"in this example the seqeunce would be 111"]
[40,33,40,73,23.95,15,54,806]

{"sheet":"Summary","index":1,"n_rows":32,"n_cols":24,"rows_kept":32,"cut":false,"hidden":false,"merged":[]}
[]
["Day","Date","Average Response Rate","Target %","RF for non correct sequence","U Value",null,null,null,null,"Block 1","Block 2","Block 3","Block 4","Block 5","Block 6"]
[1,{"$f":"'!N41191B.AXT'!B2:C2","v":"<date>"},{"$f":"('!N41191B.AXT'!F32/60)/'!N41191B.AXT'!Q3","v":4.5691358024691358},{"$f":"'!N41191B.AXT'!N20/'!N41191B.AXT'!Q3","v":0},{"$f":"SUM('!N41191B.AXT'!L20:Q20)/'!N41191B.AXT'!Q3","v":8.1851851851851851},{"$f":"'!N41191B.AXT'!Q16","v":0.54980030259142243},null,null,null,"Average Response Rate",{"$f":"AVERAGE(C3:C5)","v":7.4442053982086662},{"$f":"AVERAGE(C6:C8)","v":21.839931364931363},{"$f":"AVERAGE(C9:C11)","v":116.12314814814816},{"$f":"AVERAGE(C12:C14)","v":33.915740740740738},{"$f":"AVERAGE(C15:C18)","v":8.53095238095238},{"$f":"AVERAGE(C19:C21)","v":22.441111111111113}]
[2,{"$f":"'!N41292B.AXT'!B2:C2","v":"<date>"},{"$f":"('!N41292B.AXT'!F22/60)/'!N41292B.AXT'!Q3","v":10.517647058823529},{"$f":"'!N41292B.AXT'!N20/'!N41292B.AXT'!Q3","v":0.11764705882352941},{"$f":"SUM('!N41292B.AXT'!L20:Q20)/'!N41292B.AXT'!Q3","v":7.5882352941176467},{"$f":"'!N41292B.AXT'!Q16","v":0.67570488277869578},null,null,null,"Target %",{"$f":"AVERAGE(D3:D5)","v":6.0049019607843139E-2},{"$f":"AVERAGE(D6:D8)","v":7.6923076923076927E-2},{"$f":"AVERAGE(D9:D11)","v":0},{"$f":"AVERAGE(D12:D14)","v":0},{"$f":"AVERAGE(D15:D18)","v":9.6428571428571419E-2},{"$f":"AVERAGE(D19:D21)","v":0.13333333333333333}]
[3,{"$f":"'!N41382B.AXT'!B2:C2","v":"<date>"},{"$f":"('!N41382B.AXT'!F22/60)/'!N41382B.AXT'!Q3","v":7.2458333333333336},{"$f":"'!N41382B.AXT'!N20/'!N41382B.AXT'!Q3","v":6.25E-2},{"$f":"SUM('!N41382B.AXT'!L20:Q20)/'!N41382B.AXT'!Q3","v":7.3125},{"$f":"'!N41382B.AXT'!Q16","v":0.70695488277869578},null,null,null,"CCRF",{"$f":"AVERAGE(E3:E5)","v":7.695306826434277},{"$f":"AVERAGE(E6:E8)","v":1.9759129759129757},{"$f":"AVERAGE(E9:E11)","v":0.27777777777777773},{"$f":"AVERAGE(E12:E14)","v":0.22222222222222221},{"$f":"AVERAGE(E15:E18)","v":0.24285714285714285},{"$f":"AVERAGE(E19:E21)","v":0.56666666666666665}]
[4,{"$f":"'!N41492B.AXT'!B2:C2","v":"<date>"},{"$f":"('!N41492B.AXT'!F12/60)/'!N41492B.AXT'!Q3","v":34.736111111111107},{"$f":"'!N41492B.AXT'!N20/'!N41492B.AXT'!Q3","v":0},{"$f":"SUM('!N41492B.AXT'!L20:Q20)/'!N41492B.AXT'!Q3","v":0.33333333333333331},{"$f":"'!N41492B.AXT'!Q16","v":0.74209812851030543},null,null,null,"U Value",{"$f":"AVERAGE(F3:F5)","v":0.64415335604960466},{"$f":"AVERAGE(F6:F8)","v":0.62693373631374127},{"$f":"AVERAGE(F9:F11)","v":0.52646005476189839},{"$f":"AVERAGE(F12:F14)","v":0.6092431255902141},{"$f":"AVERAGE(F15:F18)","v":0.37239493934170953},{"$f":"AVERAGE(F19:F21)","v":0.47272188669301718}]
[5,{"$f":"'!N41585B.AXT'!B2:C2","v":"<date>"},{"$f":"('!N41585B.AXT'!F32/60)/'!N41585B.AXT'!Q3","v":15.339743589743589},{"$f":"'!N41585B.AXT'!N20/'!N41585B.AXT'!Q3","v":0.23076923076923078},{"$f":"SUM('!N41585B.AXT'!L20:Q20)/'!N41585B.AXT'!Q3","v":5.2307692307692308},{"$f":"'!N41585B.AXT'!Q16","v":0.52644117071754215}]
[6,{"$f":"'!N41684B.AXT'!B2:C2","v":"<date>"},{"$f":"('!N41684B.AXT'!F17/60)/'!N41684B.AXT'!Q3","v":15.443939393939393},{"$f":"'!N41684B.AXT'!N20/'!N41684B.AXT'!Q3","v":0},{"$f":"SUM('!N41684B.AXT'!L20:Q20)/'!N41684B.AXT'!Q3","v":0.36363636363636365},{"$f":"'!N41684B.AXT'!Q16","v":0.61226190971337646}]
[7,{"$f":"'!N417A3B.AXT'!B2:C2","v":"<date>"},{"$f":"('!N417A3B.AXT'!F9/60)/'!N417A3B.AXT'!Q3","v":104.47777777777777},{"$f":"'!N417A3B.AXT'!N20/'!N417A3B.AXT'!Q3","v":0},{"$f":"SUM('!N417A3B.AXT'!L20:Q20)/'!N417A3B.AXT'!Q3","v":0.33333333333333331},{"$f":"'!N417A3B.AXT'!Q16","v":0.57938016428569505},{"$f":"K3","v":7.4442053982086662},{"$f":"L3","v":21.839931364931363},116.12314814814816,33.915740740740738,8.53095238095238,22.441111111111113,{"$f":"K4","v":6.0049019607843139E-2},{"$f":"L4","v":7.6923076923076927E-2},0,0,9.6428571428571419E-2,0.13333333333333333,{"$f":"K6","v":0.64415335604960466},{"$f":"L6","v":0.62693373631374127},0.52646005476189839,0.6092431255902141,0.37239493934170953,0.47272188669301718]
[8,{"$f":"'!N41895B.AXT'!B2:C2","v":"<date>"},{"$f":"('!N41895B.AXT'!F7/60)/'!N41895B.AXT'!Q3","v":168.76666666666668},{"$f":"'!N41895B.AXT'!N20/'!N41895B.AXT'!Q3","v":0},{"$f":"SUM('!N41895B.AXT'!L20:Q20)/'!N41895B.AXT'!Q3","v":0},0]
[9,{"$f":"'!N41990B.AXT'!B2:C2","v":"<date>"},{"$f":"('!N41990B.AXT'!F8/60)/'!N41990B.AXT'!Q3","v":75.125},{"$f":"'!N41990B.AXT'!N20/'!N41990B.AXT'!Q3","v":0},{"$f":"SUM('!N41990B.AXT'!L20:Q20)/'!N41990B.AXT'!Q3","v":0.5},{"$f":"'!N41990B.AXT'!Q16","v":1}]
[10,{"$f":"'!N42091B.AXT'!B2:C2","v":"<date>"},{"$f":"('!N42091B.AXT'!F9/60)/'!N42091B.AXT'!Q3","v":10.616666666666667},{"$f":"'!N42091B.AXT'!N20/'!N42091B.AXT'!Q3","v":0},{"$f":"SUM('!N42091B.AXT'!L20:Q20)/'!N42091B.AXT'!Q3","v":0.33333333333333331},{"$f":"'!N42091B.AXT'!Q16","v":0.99999999999999989}]
[11,{"$f":"'!N421A1B.AXT'!B2:C2","v":"<date>"},{"$f":"('!N421A1B.AXT'!F11/60)/'!N421A1B.AXT'!Q3","v":60.31388888888889},{"$f":"'!N421A1B.AXT'!N20/'!N421A1B.AXT'!Q3","v":0},{"$f":"SUM('!N421A1B.AXT'!L20:Q20)/'!N421A1B.AXT'!Q3","v":0.33333333333333331},{"$f":"'!N421A1B.AXT'!Q16","v":0.82772937677064262}]
[12,{"$f":"'!N42294B.AXT'!B2:C2","v":"<date>"},{"$f":"('!N42294B.AXT'!F7/60)/'!N42294B.AXT'!Q3","v":30.816666666666666},{"$f":"'!N42294B.AXT'!N20/'!N42294B.AXT'!Q3","v":0},{"$f":"SUM('!N42294B.AXT'!L20:Q20)/'!N42294B.AXT'!Q3","v":0},0]
[13,{"$f":"'!N42385B.AXT'!B2:C2","v":"<date>"},0,0,0,0]
[14,{"$f":"'!N424A4B.AXT'!B2:C2","v":"<date>"},{"$f":"('!N424A4B.AXT'!F7/60)/'!N424A4B.AXT'!Q3","v":0},{"$f":"'!N424A4B.AXT'!N20/'!N424A4B.AXT'!Q3","v":0},{"$f":"SUM('!N424A4B.AXT'!L20:Q20)/'!N424A4B.AXT'!Q3","v":0},0]
[15,{"$f":"'!N42683B.AXT'!B2:C2","v":"<date>"},{"$f":"('!N42683B.AXT'!F15/60)/'!N42683B.AXT'!Q3","v":6.4833333333333325},{"$f":"'!N42683B.AXT'!N20/'!N42683B.AXT'!Q3","v":0.1},{"$f":"SUM('!N42683B.AXT'!L20:Q20)/'!N42683B.AXT'!Q3","v":0.4},{"$f":"'!N42683B.AXT'!Q16","v":0.69312672142856502}]
[16,{"$f":"'!N42785B.AXT'!B2:C2","v":"<date>"},{"$f":"('!N42785B.AXT'!F13/60)/'!N42785B.AXT'!Q3","v":27.640476190476189},{"$f":"'!N42785B.AXT'!N20/'!N42785B.AXT'!Q3","v":0.2857142857142857},{"$f":"SUM('!N42785B.AXT'!L20:Q20)/'!N42785B.AXT'!Q3","v":0.5714285714285714},{"$f":"'!N42785B.AXT'!Q16","v":0.79645303593827299}]
[17,{"$f":"'!N42894B.AXT'!B2:C2","v":"<date>"},{"$f":"('!N42894B.AXT'!F11/60)/'!N42894B.AXT'!Q3","v":31.919999999999998},{"$f":"'!N42894B.AXT'!N20/'!N42894B.AXT'!Q3","v":0.2},{"$f":"SUM('!N42894B.AXT'!L20:Q20)/'!N42894B.AXT'!Q3","v":0.6},{"$f":"'!N42894B.AXT'!Q16","v":0.5904362833084088}]
[18,{"$f":"'!N42982B.AXT'!B2:C2","v":"<date>"},{"$f":"('!N42982B.AXT'!F11/60)/'!N42982B.AXT'!Q3","v":24.453333333333333},{"$f":"'!N42982B.AXT'!N20/'!N42982B.AXT'!Q3","v":0.2},{"$f":"SUM('!N42982B.AXT'!L20:Q20)/'!N42982B.AXT'!Q3","v":0.6},{"$f":"'!N42982B.AXT'!Q16","v":0.82772937677064262}]
[19,{"$f":"'!N501A0B.AXT'!B2:C2","v":"<date>"},{"$f":"('!N501A0B.AXT'!F7/60)/'!N501A0B.AXT'!Q3","v":10.95},{"$f":"'!N501A0B.AXT'!N20/'!N501A0B.AXT'!Q3","v":0},{"$f":"SUM('!N501A0B.AXT'!L20:Q20)/'!N501A0B.AXT'!Q3","v":0.5},0]
[20]
[21]
[22]
[23]
[24]
[25]
[26]
[27]
[28]
[29]
[30]

{"sheet":"Start","index":2,"n_rows":25,"n_cols":10,"rows_kept":25,"cut":false,"hidden":false,"merged":[]}
[null,null,null,null,null,"Use Folder 51",null,"Auto Clean Up",null,"Correct sequence"]
[null,null,null,null,null,false,null,true,null,112]
[]
["Working with Folder",null,null,null,null,null,"Process All/Or Pick A number: ALL or an integer"]
["F:\\Possum Chapter\\Raw Data\\baxter\\LLR\\",null,null,null,null,null,"ALL"]
["Filenames:"]
["!N42294B.AXT",null,null,null,null,null,"Paint Cells"]
["!N42385B.AXT",null,null,null,null,null,false]
["!N424A4B.AXT"]
["!N42683B.AXT"]
["!N42785B.AXT"]
["!N42894B.AXT"]
["!N42982B.AXT"]
["!N501A0B.AXT"]
["!N41191B.AXT"]
["!N41292B.AXT"]
["!N41382B.AXT"]
["!N41492B.AXT"]
["!N41585B.AXT"]
["!N41684B.AXT"]
["!N417A3B.AXT"]
["!N41895B.AXT"]
["!N41990B.AXT"]
["!N42091B.AXT"]
["!N421A1B.AXT"]

{"sheet":"!N41191B.AXT","index":3,"n_rows":33,"n_cols":48,"rows_kept":33,"cut":false,"hidden":false,"merged":[[4,39,4,42],[5,39,5,40],[4,44,4,47],[5,44,5,45],[4,24,4,27],[5,24,5,25],[4,29,4,32],[5,29,5,30],[4,34,4,37],[5,34,5,35],[1,1,1,2],[5,13,5,14],[18,13,18,14],[19,13,19,14],[4,19,4,22],[5,19,5,20]]}
["Report for:!N41191B.AXT"]
["Date:","<date>"]
["Hen:","<hen>",null,null,null,"Correct Sequence",{"$f":"Start!J2","v":112},null,null,null,null,null,null,null,null,"Total Sequences in Data",{"$f":"4994-COUNTBLANK(L7:L5000)","v":27},null,null,null,null,"Total Sequences in Block Data",{"$f":"COUNTA(L7:L11)","v":5},null,null,null,"Total Sequences in Block Data",{"$f":"COUNTA(L12:L15)","v":4},null,null,null,"Total Sequences in Block Data",{"$f":"COUNTA(L16:L20)","v":5},null,null,null,"Total Sequences in Block Data",{"$f":"COUNTA(L21:L24)","v":4},null,null,null,"Total Sequences in Block Data",{"$f":"COUNTA(L25:L29)","v":5},null,null,null,"Total Sequences in Block Data",{"$f":"COUNTA(L30:L33)","v":4}]
[null,null,null,null,null,null,null,null,null,null,null,null,null,null,null,"Total Sequences in Summary",{"$f":"SUM(O7:O14)","v":26},null,null,null,null,"Total Sequences in Block Summary",{"$f":"SUM(U7:U14)","v":5},null,null,null,"Total Sequences in Block Summary",{"$f":"SUM(Z7:Z14)","v":4},null,null,null,"Total Sequences in Block Summary",{"$f":"SUM(AE7:AE14)","v":5},null,null,null,"Total Sequences in Block Summary",{"$f":"SUM(AJ7:AJ14)","v":4},null,null,null,"Total Sequences in Block Summary",{"$f":"SUM(AO7:AO14)","v":5},null,null,null,"Total Sequences in Block Summary",{"$f":"SUM(AT7:AT14)","v":3}]
[null,null,null,null,null,null,null,null,null,null,null,null,null,null,null,null,null,null,null,"Block 1",null,null,null,null,"Block 2",null,null,null,null,"Block 3",null,null,null,null,"Block 4",null,null,null,null,"Block 5",null,null,null,null,"Block 6"]
["Sequence\nComponent\n1","Time\n1","Sequence\nComponent\n2","Time\n2","Sequence\nComponent\n3","Time\n3","Sequence\nComponent\n4","Time\n4","Sequence\nComponent\n5","Time\n5","Correct?\n0=No 1=Yes","Sequence",null,"Frequency",null,"Relative Frequency","Variability",null,null,"Frequency",null,"Relative Frequency","Variability",null,"Frequency",null,"Relative Frequency","Variability",null,"Frequency",null,"Relative Frequency","Variability",null,"Frequency",null,"Relative Frequency","Variability",null,"Frequency",null,"Relative Frequency","Variability",null,"Frequency",null,"Relative Frequency","Variability"]
[11,37,22,43,14,54,null,null,null,null,0,121,null,111,{"$f":"COUNTIF($L$7:$L$500,N7)","v":6},{"$f":"O7/$Q$4","v":0.23076923076923078},{"$f":"IF(P7=0,0,(P7*((LOG(P7))/LOG(2))))","v":-0.48818705017383146},null,null,{"$f":"N7","v":111},{"$f":"COUNTIF(L7:L11,T7)","v":1},{"$f":"U7/(W4-U8)","v":0.2},{"$f":"IF(V7=0,0,(V7*((LOG(V7))/LOG(2))))","v":-0.46438561897747244},null,{"$f":"N7","v":111},{"$f":"COUNTIF(L12:L15,Y7)","v":1},{"$f":"Z7/(AB4-Z8)","v":0.25},{"$f":"IF(AA7=0,0,(AA7*((LOG(AA7))/LOG(2))))","v":-0.5},null,{"$f":"N7","v":111},{"$f":"COUNTIF(L16:L20,AD7)","v":0},{"$f":"AE7/(AG4-AE8)","v":0},{"$f":"IF(AF7=0,0,(AF7*((LOG(AF7))/LOG(2))))","v":0},null,{"$f":"N7","v":111},{"$f":"COUNTIF(L21:L24,AI7)","v":1},{"$f":"AJ7/(AL4-AJ8)","v":0.25},{"$f":"IF(AK7=0,0,(AK7*((LOG(AK7))/LOG(2))))","v":-0.5},null,{"$f":"N7","v":111},{"$f":"COUNTIF(L25:L29,AN7)","v":2},{"$f":"AO7/(AQ4-AO8)","v":0.4},{"$f":"IF(AP7=0,0,(AP7*((LOG(AP7))/LOG(2))))","v":-0.52877123795494496},null,{"$f":"N7","v":111},{"$f":"COUNTIF(L30:L33,AS7)","v":1},{"$f":"AT7/(AV4-AT8)","v":0.33333333333333331},{"$f":"IF(AU7=0,0,(AU7*((LOG(AU7))/LOG(2))))","v":-0.52832083357371862}]
[22,284,24,303,14,316,null,null,null,null,0,221,null,112,{"$f":"COUNTIF($L$7:$L$500,N8)","v":0},{"$f":"O8/$Q$4","v":0},{"$f":"IF(P8=0,0,(P8*((LOG(P8))/LOG(2))))","v":0},null,null,{"$f":"N8","v":112},{"$f":"COUNTIF(L7:L11,T8)","v":0},null,null,null,{"$f":"N8","v":112},{"$f":"COUNTIF(L12:L15,Y8)","v":0},null,null,null,{"$f":"N8","v":112},{"$f":"COUNTIF(L16:L20,AD8)","v":0},null,null,null,{"$f":"N8","v":112},{"$f":"COUNTIF(L21:L24,AI8)","v":0},null,null,null,{"$f":"N8","v":112},{"$f":"COUNTIF(L25:L29,AN8)","v":0},null,null,null,{"$f":"N8","v":112},{"$f":"COUNTIF(L30:L33,AS8)","v":0}]
[22,569,24,579,23,584,null,null,null,null,0,222,null,121,{"$f":"COUNTIF($L$7:$L$500,N9)","v":1},{"$f":"O9/$Q$4","v":3.8461538461538464E-2},{"$f":"IF(P9=0,0,(P9*((LOG(P9))/LOG(2))))","v":-0.18078614300542661},null,null,{"$f":"N9","v":121},{"$f":"COUNTIF(L7:L11,T9)","v":1},{"$f":"U9/(W4-U8)","v":0.2},{"$f":"IF(V9=0,0,(V9*((LOG(V9))/LOG(2))))","v":-0.46438561897747244},null,{"$f":"N9","v":121},{"$f":"COUNTIF(L12:L15,Y9)","v":0},{"$f":"Z9/(AB4-Z8)","v":0},{"$f":"IF(AA9=0,0,(AA9*((LOG(AA9))/LOG(2))))","v":0},null,{"$f":"N9","v":121},{"$f":"COUNTIF(L16:L20,AD9)","v":0},{"$f":"AE9/(AG4-AE8)","v":0},{"$f":"IF(AF9=0,0,(AF9*((LOG(AF9))/LOG(2))))","v":0},null,{"$f":"N9","v":121},{"$f":"COUNTIF(L21:L24,AI9)","v":0},{"$f":"AJ9/(AL4-AJ8)","v":0},{"$f":"IF(AK9=0,0,(AK9*((LOG(AK9))/LOG(2))))","v":0},null,{"$f":"N9","v":121},{"$f":"COUNTIF(L25:L29,AN9)","v":0},{"$f":"AO9/(AQ4-AO8)","v":0},{"$f":"IF(AP9=0,0,(AP9*((LOG(AP9))/LOG(2))))","v":0},null,{"$f":"N9","v":121},{"$f":"COUNTIF(L30:L33,AS9)","v":0},{"$f":"AT9/(AV4-AT8)","v":0},{"$f":"IF(AU9=0,0,(AU9*((LOG(AU9))/LOG(2))))","v":0}]
[22,759,24,765,23,768,null,null,null,null,0,222,null,122,{"$f":"COUNTIF($L$7:$L$500,N10)","v":4},{"$f":"O10/$Q$4","v":0.15384615384615385},{"$f":"IF(P10=0,0,(P10*((LOG(P10))/LOG(2))))","v":-0.4154522643293988},null,null,{"$f":"N10","v":122},{"$f":"COUNTIF(L7:L11,T10)","v":0},{"$f":"U10/(W4-U8)","v":0},{"$f":"IF(V10=0,0,(V10*((LOG(V10))/LOG(2))))","v":0},null,{"$f":"N10","v":122},{"$f":"COUNTIF(L12:L15,Y10)","v":0},{"$f":"Z10/(AB4-Z8)","v":0},{"$f":"IF(AA10=0,0,(AA10*((LOG(AA10))/LOG(2))))","v":0},null,{"$f":"N10","v":122},{"$f":"COUNTIF(L16:L20,AD10)","v":2},{"$f":"AE10/(AG4-AE8)","v":0.4},{"$f":"IF(AF10=0,0,(AF10*((LOG(AF10))/LOG(2))))","v":-0.52877123795494496},null,{"$f":"N10","v":122},{"$f":"COUNTIF(L21:L24,AI10)","v":1},{"$f":"AJ10/(AL4-AJ8)","v":0.25},{"$f":"IF(AK10=0,0,(AK10*((LOG(AK10))/LOG(2))))","v":-0.5},null,{"$f":"N10","v":122},{"$f":"COUNTIF(L25:L29,AN10)","v":0},{"$f":"AO10/(AQ4-AO8)","v":0},{"$f":"IF(AP10=0,0,(AP10*((LOG(AP10))/LOG(2))))","v":0},null,{"$f":"N10","v":122},{"$f":"COUNTIF(L30:L33,AS10)","v":1},{"$f":"AT10/(AV4-AT8)","v":0.33333333333333331},{"$f":"IF(AU10=0,0,(AU10*((LOG(AU10))/LOG(2))))","v":-0.52832083357371862}]
[11,874,11,881,12,887,null,null,null,null,0,111,null,211,{"$f":"COUNTIF($L$7:$L$500,N11)","v":1},{"$f":"O11/$Q$4","v":3.8461538461538464E-2},{"$f":"IF(P11=0,0,(P11*((LOG(P11))/LOG(2))))","v":-0.18078614300542661},null,null,{"$f":"N11","v":211},{"$f":"COUNTIF(L7:L11,T11)","v":0},{"$f":"U11/(W4-U8)","v":0},{"$f":"IF(V11=0,0,(V11*((LOG(V11))/LOG(2))))","v":0},null,{"$f":"N11","v":211},{"$f":"COUNTIF(L12:L15,Y11)","v":0},{"$f":"Z11/(AB4-Z8)","v":0},{"$f":"IF(AA11=0,0,(AA11*((LOG(AA11))/LOG(2))))","v":0},null,{"$f":"N11","v":211},{"$f":"COUNTIF(L16:L20,AD11)","v":0},{"$f":"AE11/(AG4-AE8)","v":0},{"$f":"IF(AF11=0,0,(AF11*((LOG(AF11))/LOG(2))))","v":0},null,{"$f":"N11","v":211},{"$f":"COUNTIF(L21:L24,AI11)","v":1},{"$f":"AJ11/(AL4-AJ8)","v":0.25},{"$f":"IF(AK11=0,0,(AK11*((LOG(AK11))/LOG(2))))","v":-0.5},null,{"$f":"N11","v":211},{"$f":"COUNTIF(L25:L29,AN11)","v":0},{"$f":"AO11/(AQ4-AO8)","v":0},{"$f":"IF(AP11=0,0,(AP11*((LOG(AP11))/LOG(2))))","v":0},null,{"$f":"N11","v":211},{"$f":"COUNTIF(L30:L33,AS11)","v":0},{"$f":"AT11/(AV4-AT8)","v":0},{"$f":"IF(AU11=0,0,(AU11*((LOG(AU11))/LOG(2))))","v":0}]
[22,1179,13,1188,23,1191,null,null,null,null,0,212,null,212,{"$f":"COUNTIF($L$7:$L$500,N12)","v":4},{"$f":"O12/$Q$4","v":0.15384615384615385},{"$f":"IF(P12=0,0,(P12*((LOG(P12))/LOG(2))))","v":-0.4154522643293988},null,null,{"$f":"N12","v":212},{"$f":"COUNTIF(L7:L11,T12)","v":0},{"$f":"U12/(W4-U8)","v":0},{"$f":"IF(V12=0,0,(V12*((LOG(V12))/LOG(2))))","v":0},null,{"$f":"N12","v":212},{"$f":"COUNTIF(L12:L15,Y12)","v":3},{"$f":"Z12/(AB4-Z8)","v":0.75},{"$f":"IF(AA12=0,0,(AA12*((LOG(AA12))/LOG(2))))","v":-0.31127812445913283},null,{"$f":"N12","v":212},{"$f":"COUNTIF(L16:L20,AD12)","v":1},{"$f":"AE12/(AG4-AE8)","v":0.2},{"$f":"IF(AF12=0,0,(AF12*((LOG(AF12))/LOG(2))))","v":-0.46438561897747244},null,{"$f":"N12","v":212},{"$f":"COUNTIF(L21:L24,AI12)","v":0},{"$f":"AJ12/(AL4-AJ8)","v":0},{"$f":"IF(AK12=0,0,(AK12*((LOG(AK12))/LOG(2))))","v":0},null,{"$f":"N12","v":212},{"$f":"COUNTIF(L25:L29,AN12)","v":0},{"$f":"AO12/(AQ4-AO8)","v":0},{"$f":"IF(AP12=0,0,(AP12*((LOG(AP12))/LOG(2))))","v":0},null,{"$f":"N12","v":212},{"$f":"COUNTIF(L30:L33,AS12)","v":0},{"$f":"AT12/(AV4-AT8)","v":0},{"$f":"IF(AU12=0,0,(AU12*((LOG(AU12))/LOG(2))))","v":0}]
[11,1549,11,1553,12,1570,null,null,null,null,0,111,null,221,{"$f":"COUNTIF($L$7:$L$500,N13)","v":4},{"$f":"O13/$Q$4","v":0.15384615384615385},{"$f":"IF(P13=0,0,(P13*((LOG(P13))/LOG(2))))","v":-0.4154522643293988},null,null,{"$f":"N13","v":221},{"$f":"COUNTIF(L7:L11,T13)","v":1},{"$f":"U13/(W4-U8)","v":0.2},{"$f":"IF(V13=0,0,(V13*((LOG(V13))/LOG(2))))","v":-0.46438561897747244},null,{"$f":"N13","v":221},{"$f":"COUNTIF(L12:L15,Y13)","v":0},{"$f":"Z13/(AB4-Z8)","v":0},{"$f":"IF(AA13=0,0,(AA13*((LOG(AA13))/LOG(2))))","v":0},null,{"$f":"N13","v":221},{"$f":"COUNTIF(L16:L20,AD13)","v":2},{"$f":"AE13/(AG4-AE8)","v":0.4},{"$f":"IF(AF13=0,0,(AF13*((LOG(AF13))/LOG(2))))","v":-0.52877123795494496},null,{"$f":"N13","v":221},{"$f":"COUNTIF(L21:L24,AI13)","v":0},{"$f":"AJ13/(AL4-AJ8)","v":0},{"$f":"IF(AK13=0,0,(AK13*((LOG(AK13))/LOG(2))))","v":0},null,{"$f":"N13","v":221},{"$f":"COUNTIF(L25:L29,AN13)","v":1},{"$f":"AO13/(AQ4-AO8)","v":0.2},{"$f":"IF(AP13=0,0,(AP13*((LOG(AP13))/LOG(2))))","v":-0.46438561897747244},null,{"$f":"N13","v":221},{"$f":"COUNTIF(L30:L33,AS13)","v":0},{"$f":"AT13/(AV4-AT8)","v":0},{"$f":"IF(AU13=0,0,(AU13*((LOG(AU13))/LOG(2))))","v":0}]
[22,2534,13,2538,23,2543,null,null,null,null,0,212,null,222,{"$f":"COUNTIF($L$7:$L$500,N14)","v":6},{"$f":"O14/$Q$4","v":0.23076923076923078},{"$f":"IF(P14=0,0,(P14*((LOG(P14))/LOG(2))))","v":-0.48818705017383146},null,null,{"$f":"N14","v":222},{"$f":"COUNTIF(L7:L11,T14)","v":2},{"$f":"U14/(W4-U8)","v":0.4},{"$f":"IF(V14=0,0,(V14*((LOG(V14))/LOG(2))))","v":-0.52877123795494496},null,{"$f":"N14","v":222},{"$f":"COUNTIF(L12:L15,Y14)","v":0},{"$f":"Z14/(AB4-Z8)","v":0},{"$f":"IF(AA14=0,0,(AA14*((LOG(AA14))/LOG(2))))","v":0},null,{"$f":"N14","v":222},{"$f":"COUNTIF(L16:L20,AD14)","v":0},{"$f":"AE14/(AG4-AE8)","v":0},{"$f":"IF(AF14=0,0,(AF14*((LOG(AF14))/LOG(2))))","v":0},null,{"$f":"N14","v":222},{"$f":"COUNTIF(L21:L24,AI14)","v":1},{"$f":"AJ14/(AL4-AJ8)","v":0.25},{"$f":"IF(AK14=0,0,(AK14*((LOG(AK14))/LOG(2))))","v":-0.5},null,{"$f":"N14","v":222},{"$f":"COUNTIF(L25:L29,AN14)","v":2},{"$f":"AO14/(AQ4-AO8)","v":0.4},{"$f":"IF(AP14=0,0,(AP14*((LOG(AP14))/LOG(2))))","v":-0.52877123795494496},null,{"$f":"N14","v":222},{"$f":"COUNTIF(L30:L33,AS14)","v":1},{"$f":"AT14/(AV4-AT8)","v":0.33333333333333331},{"$f":"IF(AU14=0,0,(AU14*((LOG(AU14))/LOG(2))))","v":-0.52832083357371862}]
[22,2694,13,2704,23,2712,null,null,null,null,0,212,null,null,null,{"$f":"SUM(P7:P14)","v":1},{"$f":"-SUM(Q7:Q14)","v":2.5843031793467128},null,null,null,null,{"$f":"SUM(V7:V14)","v":1},{"$f":"-SUM(W7:W14)","v":1.9219280948873623},null,null,null,{"$f":"SUM(AA7:AA14)","v":1},{"$f":"-SUM(AB7:AB14)","v":0.81127812445913283},null,null,null,{"$f":"SUM(AF7:AF14)","v":1},{"$f":"-SUM(AG7:AG14)","v":1.5219280948873624},null,null,null,{"$f":"SUM(AK7:AK14)","v":1},{"$f":"-SUM(AL7:AL14)","v":2},null,null,null,{"$f":"SUM(AP7:AP14)","v":1},{"$f":"-SUM(AQ7:AQ14)","v":1.5219280948873624},null,null,null,{"$f":"SUM(AU7:AU14)","v":1},{"$f":"-SUM(AV7:AV14)","v":1.5849625007211559}]
[11,2807,22,2813,23,2819,null,null,null,null,0,122,null,null,null,"U=",{"$f":"Q15/(LOG(Q4)/LOG(2))","v":0.54980030259142243},null,null,null,null,"U1=",{"$f":"W15/(LOG(W4)/LOG(2))","v":0.82772937677064262},null,null,null,"U2=",{"$f":"AB15/(LOG(AB4)/LOG(2))","v":0.40563906222956642},null,null,null,"U3=",{"$f":"AG15/(LOG(AG4)/LOG(2))","v":0.65545875354128547},null,null,null,"U4=",{"$f":"AL15/(LOG(AL4)/LOG(2))","v":1},null,null,null,"U5=",{"$f":"AQ15/(LOG(AQ4)/LOG(2))","v":0.65545875354128547},null,null,null,"U6=",{"$f":"AV15/(LOG(AV4)/LOG(2))","v":0.99999999999999989}]
[22,2917,24,2926,14,2931,null,null,null,null,0,221]
[11,3041,22,3054,23,3064,null,null,null,null,0,122]
[22,3160,24,3165,14,3179,null,null,null,null,0,221,null,"Total Target Seq"]
[22,4089,13,4099,23,4110,null,null,null,null,0,212,null,{"$f":"COUNTIF(L7:L33,G3)","v":0},null,5,4,5,4,5,4]
[11,4212,22,4227,23,4235,null,null,null,null,0,122,null,null,null,"% of reinforcement given in 6 equal intervals based on number of trials "]
[22,4545,13,4555,14,4557,null,null,null,null,0,211,null,null,null,"%_1","%_2","%_3","%_4","%_5","%_6"]
[11,4659,11,4672,12,4689,null,null,null,null,0,111,null,null,"target sequence",{"$f":"$G$3","v":112},{"$f":"$G$3","v":112},{"$f":"$G$3","v":112},{"$f":"$G$3","v":112},{"$f":"$G$3","v":112},{"$f":"$G$3","v":112}]
[22,4785,24,4788,23,4793,null,null,null,null,0,222,null,null,"total reinforcement",{"$f":"U8","v":0},{"$f":"Z8","v":0},{"$f":"AE8","v":0},{"$f":"AJ8","v":0},{"$f":"AO8","v":0},{"$f":"AT8","v":0}]
[11,4904,11,4929,12,4937,null,null,null,null,0,111,null,null,"% target"]
[11,5032,11,5041,12,5048,null,null,null,null,0,111,null,null,"CCRF"]
[22,5157,24,5166,23,5171,null,null,null,null,0,222,null,null,"% CCRf"]
[22,5305,24,5339,14,5356,null,null,null,null,0,221,null,null,"average response rate",{"$f":"F11/P20","v":177.4},{"$f":"(F15-F11)/Q20","v":456.25},{"$f":"(F20-F15)/R20","v":279.60000000000002},{"$f":"(F24-F20)/S20","v":170.75},{"$f":"(F29-F24)/T20","v":154.19999999999999},{"$f":"(F33-F29)/U20","v":-1391}]
[22,5550,24,5556,23,5564,null,null,null,null,0,222]
[11,5655,22,5661,23,5683,null,null,null,null,0,122]
[22,7129,24,7143,23,7162,null,null,null,null,0,222]
[11,7379,11,7391,12,7402,null,null,null,null,0,111]
[11,22879,null,null,null,null,null,null,null,null,null,1]

{"sheet":"!N41292B.AXT","index":4,"n_rows":28,"n_cols":48,"rows_kept":28,"cut":false,"hidden":false,"merged":[[4,39,4,42],[5,39,5,40],[4,44,4,47],[5,44,5,45],[4,24,4,27],[5,24,5,25],[4,29,4,32],[5,29,5,30],[4,34,4,37],[5,34,5,35],[1,1,1,2],[5,13,5,14],[18,13,18,14],[19,13,19,14],[4,19,4,22],[5,19,5,20]]}
["Report for:!N41292B.AXT"]
["Date:","<date>"]
["Hen:","<hen>",null,null,null,"Correct Sequence",{"$f":"Start!J2","v":112},null,null,null,null,null,null,null,null,"Total Sequences in Data",{"$f":"4994-COUNTBLANK(L7:L5000)","v":17},null,null,null,null,"Total Sequences in Block Data",{"$f":"COUNTA(L7:L9)","v":3},null,null,null,"Total Sequences in Block Data",{"$f":"COUNTA(L10:L12)","v":3},null,null,null,"Total Sequences in Block Data",{"$f":"COUNTA(L13:L14)","v":2},null,null,null,"Total Sequences in Block Data",{"$f":"COUNTA(L15:L17)","v":3},null,null,null,"Total Sequences in Block Data",{"$f":"COUNTA(L18:L20)","v":3},null,null,null,"Total Sequences in Block Data",{"$f":"COUNTA(L21:L23)","v":3}]
[null,null,null,null,null,null,null,null,null,null,null,null,null,null,null,"Total Sequences in Summary",{"$f":"SUM(O7:O14)","v":16},null,null,null,null,"Total Sequences in Block Summary",{"$f":"SUM(U7:U14)","v":3},null,null,null,"Total Sequences in Block Summary",{"$f":"SUM(Z7:Z14)","v":3},null,null,null,"Total Sequences in Block Summary",{"$f":"SUM(AE7:AE14)","v":2},null,null,null,"Total Sequences in Block Summary",{"$f":"SUM(AJ7:AJ14)","v":3},null,null,null,"Total Sequences in Block Summary",{"$f":"SUM(AO7:AO14)","v":3},null,null,null,"Total Sequences in Block Summary",{"$f":"SUM(AT7:AT14)","v":2}]
[null,null,null,null,null,null,null,null,null,null,null,null,null,null,null,null,null,null,null,"Block 1",null,null,null,null,"Block 2",null,null,null,null,"Block 3",null,null,null,null,"Block 4",null,null,null,null,"Block 5",null,null,null,null,"Block 6"]
["Sequence\nComponent\n1","Time\n1","Sequence\nComponent\n2","Time\n2","Sequence\nComponent\n3","Time\n3","Sequence\nComponent\n4","Time\n4","Sequence\nComponent\n5","Time\n5","Correct?\n0=No 1=Yes","Sequence",null,"Frequency",null,"Relative Frequency","Variability",null,null,"Frequency",null,"Relative Frequency","Variability",null,"Frequency",null,"Relative Frequency","Variability",null,"Frequency",null,"Relative Frequency","Variability",null,"Frequency",null,"Relative Frequency","Variability",null,"Frequency",null,"Relative Frequency","Variability",null,"Frequency",null,"Relative Frequency","Variability"]
[11,438,22,447,14,452,null,null,null,null,0,121,null,111,{"$f":"COUNTIF($L$7:$L$500,N7)","v":4},{"$f":"O7/$Q$4","v":0.25},{"$f":"IF(P7=0,0,(P7*((LOG(P7))/LOG(2))))","v":-0.5},null,null,{"$f":"N7","v":111},{"$f":"COUNTIF(L7:L9,T7)","v":0},{"$f":"U7/(W4-U8)","v":0},{"$f":"IF(V7=0,0,(V7*((LOG(V7))/LOG(2))))","v":0},null,{"$f":"N7","v":111},{"$f":"COUNTIF(L10:L12,Y7)","v":1},{"$f":"Z7/(AB4-Z8)","v":0.33333333333333331},{"$f":"IF(AA7=0,0,(AA7*((LOG(AA7))/LOG(2))))","v":-0.52832083357371862},null,{"$f":"N7","v":111},{"$f":"COUNTIF(L13:L14,AD7)","v":0},{"$f":"AE7/(AG4-AE8)","v":0},{"$f":"IF(AF7=0,0,(AF7*((LOG(AF7))/LOG(2))))","v":0},null,{"$f":"N7","v":111},{"$f":"COUNTIF(L15:L17,AI7)","v":1},{"$f":"AJ7/(AL4-AJ8)","v":0.33333333333333331},{"$f":"IF(AK7=0,0,(AK7*((LOG(AK7))/LOG(2))))","v":-0.52832083357371862},null,{"$f":"N7","v":111},{"$f":"COUNTIF(L18:L20,AN7)","v":1},{"$f":"AO7/(AQ4-AO8)","v":0.33333333333333331},{"$f":"IF(AP7=0,0,(AP7*((LOG(AP7))/LOG(2))))","v":-0.52832083357371862},null,{"$f":"N7","v":111},{"$f":"COUNTIF(L21:L23,AS7)","v":1},{"$f":"AT7/(AV4-AT8)","v":0.5},{"$f":"IF(AU7=0,0,(AU7*((LOG(AU7))/LOG(2))))","v":-0.5}]
[11,713,11,717,21,728,null,null,null,null,0,112,null,112,{"$f":"COUNTIF($L$7:$L$500,N8)","v":2},{"$f":"O8/$Q$4","v":0.125},{"$f":"IF(P8=0,0,(P8*((LOG(P8))/LOG(2))))","v":-0.375},null,null,{"$f":"N8","v":112},{"$f":"COUNTIF(L7:L9,T8)","v":1},null,null,null,{"$f":"N8","v":112},{"$f":"COUNTIF(L10:L12,Y8)","v":0},null,null,null,{"$f":"N8","v":112},{"$f":"COUNTIF(L13:L14,AD8)","v":1},null,null,null,{"$f":"N8","v":112},{"$f":"COUNTIF(L15:L17,AI8)","v":0},null,null,null,{"$f":"N8","v":112},{"$f":"COUNTIF(L18:L20,AN8)","v":0},null,null,null,{"$f":"N8","v":112},{"$f":"COUNTIF(L21:L23,AS8)","v":0}]
[11,1330,22,1348,23,1351,null,null,null,null,0,122,null,121,{"$f":"COUNTIF($L$7:$L$500,N9)","v":2},{"$f":"O9/$Q$4","v":0.125},{"$f":"IF(P9=0,0,(P9*((LOG(P9))/LOG(2))))","v":-0.375},null,null,{"$f":"N9","v":121},{"$f":"COUNTIF(L7:L9,T9)","v":1},{"$f":"U9/(W4-U8)","v":0.5},{"$f":"IF(V9=0,0,(V9*((LOG(V9))/LOG(2))))","v":-0.5},null,{"$f":"N9","v":121},{"$f":"COUNTIF(L10:L12,Y9)","v":0},{"$f":"Z9/(AB4-Z8)","v":0},{"$f":"IF(AA9=0,0,(AA9*((LOG(AA9))/LOG(2))))","v":0},null,{"$f":"N9","v":121},{"$f":"COUNTIF(L13:L14,AD9)","v":0},{"$f":"AE9/(AG4-AE8)","v":0},{"$f":"IF(AF9=0,0,(AF9*((LOG(AF9))/LOG(2))))","v":0},null,{"$f":"N9","v":121},{"$f":"COUNTIF(L15:L17,AI9)","v":0},{"$f":"AJ9/(AL4-AJ8)","v":0},{"$f":"IF(AK9=0,0,(AK9*((LOG(AK9))/LOG(2))))","v":0},null,{"$f":"N9","v":121},{"$f":"COUNTIF(L18:L20,AN9)","v":1},{"$f":"AO9/(AQ4-AO8)","v":0.33333333333333331},{"$f":"IF(AP9=0,0,(AP9*((LOG(AP9))/LOG(2))))","v":-0.52832083357371862},null,{"$f":"N9","v":121},{"$f":"COUNTIF(L21:L23,AS9)","v":0},{"$f":"AT9/(AV4-AT8)","v":0},{"$f":"IF(AU9=0,0,(AU9*((LOG(AU9))/LOG(2))))","v":0}]
[11,1876,22,1882,23,1889,null,null,null,null,0,122,null,122,{"$f":"COUNTIF($L$7:$L$500,N10)","v":3},{"$f":"O10/$Q$4","v":0.1875},{"$f":"IF(P10=0,0,(P10*((LOG(P10))/LOG(2))))","v":-0.45281953111478312},null,null,{"$f":"N10","v":122},{"$f":"COUNTIF(L7:L9,T10)","v":1},{"$f":"U10/(W4-U8)","v":0.5},{"$f":"IF(V10=0,0,(V10*((LOG(V10))/LOG(2))))","v":-0.5},null,{"$f":"N10","v":122},{"$f":"COUNTIF(L10:L12,Y10)","v":1},{"$f":"Z10/(AB4-Z8)","v":0.33333333333333331},{"$f":"IF(AA10=0,0,(AA10*((LOG(AA10))/LOG(2))))","v":-0.52832083357371862},null,{"$f":"N10","v":122},{"$f":"COUNTIF(L13:L14,AD10)","v":0},{"$f":"AE10/(AG4-AE8)","v":0},{"$f":"IF(AF10=0,0,(AF10*((LOG(AF10))/LOG(2))))","v":0},null,{"$f":"N10","v":122},{"$f":"COUNTIF(L15:L17,AI10)","v":1},{"$f":"AJ10/(AL4-AJ8)","v":0.33333333333333331},{"$f":"IF(AK10=0,0,(AK10*((LOG(AK10))/LOG(2))))","v":-0.52832083357371862},null,{"$f":"N10","v":122},{"$f":"COUNTIF(L18:L20,AN10)","v":0},{"$f":"AO10/(AQ4-AO8)","v":0},{"$f":"IF(AP10=0,0,(AP10*((LOG(AP10))/LOG(2))))","v":0},null,{"$f":"N10","v":122},{"$f":"COUNTIF(L21:L23,AS10)","v":0},{"$f":"AT10/(AV4-AT8)","v":0},{"$f":"IF(AU10=0,0,(AU10*((LOG(AU10))/LOG(2))))","v":0}]
[11,1985,11,1988,12,2008,null,null,null,null,0,111,null,211,{"$f":"COUNTIF($L$7:$L$500,N11)","v":2},{"$f":"O11/$Q$4","v":0.125},{"$f":"IF(P11=0,0,(P11*((LOG(P11))/LOG(2))))","v":-0.375},null,null,{"$f":"N11","v":211},{"$f":"COUNTIF(L7:L9,T11)","v":0},{"$f":"U11/(W4-U8)","v":0},{"$f":"IF(V11=0,0,(V11*((LOG(V11))/LOG(2))))","v":0},null,{"$f":"N11","v":211},{"$f":"COUNTIF(L10:L12,Y11)","v":1},{"$f":"Z11/(AB4-Z8)","v":0.33333333333333331},{"$f":"IF(AA11=0,0,(AA11*((LOG(AA11))/LOG(2))))","v":-0.52832083357371862},null,{"$f":"N11","v":211},{"$f":"COUNTIF(L13:L14,AD11)","v":1},{"$f":"AE11/(AG4-AE8)","v":1},{"$f":"IF(AF11=0,0,(AF11*((LOG(AF11))/LOG(2))))","v":0},null,{"$f":"N11","v":211},{"$f":"COUNTIF(L15:L17,AI11)","v":0},{"$f":"AJ11/(AL4-AJ8)","v":0},{"$f":"IF(AK11=0,0,(AK11*((LOG(AK11))/LOG(2))))","v":0},null,{"$f":"N11","v":211},{"$f":"COUNTIF(L18:L20,AN11)","v":0},{"$f":"AO11/(AQ4-AO8)","v":0},{"$f":"IF(AP11=0,0,(AP11*((LOG(AP11))/LOG(2))))","v":0},null,{"$f":"N11","v":211},{"$f":"COUNTIF(L21:L23,AS11)","v":0},{"$f":"AT11/(AV4-AT8)","v":0},{"$f":"IF(AU11=0,0,(AU11*((LOG(AU11))/LOG(2))))","v":0}]
[22,2564,13,2576,14,2584,null,null,null,null,0,211,null,212,{"$f":"COUNTIF($L$7:$L$500,N12)","v":1},{"$f":"O12/$Q$4","v":6.25E-2},{"$f":"IF(P12=0,0,(P12*((LOG(P12))/LOG(2))))","v":-0.25},null,null,{"$f":"N12","v":212},{"$f":"COUNTIF(L7:L9,T12)","v":0},{"$f":"U12/(W4-U8)","v":0},{"$f":"IF(V12=0,0,(V12*((LOG(V12))/LOG(2))))","v":0},null,{"$f":"N12","v":212},{"$f":"COUNTIF(L10:L12,Y12)","v":0},{"$f":"Z12/(AB4-Z8)","v":0},{"$f":"IF(AA12=0,0,(AA12*((LOG(AA12))/LOG(2))))","v":0},null,{"$f":"N12","v":212},{"$f":"COUNTIF(L13:L14,AD12)","v":0},{"$f":"AE12/(AG4-AE8)","v":0},{"$f":"IF(AF12=0,0,(AF12*((LOG(AF12))/LOG(2))))","v":0},null,{"$f":"N12","v":212},{"$f":"COUNTIF(L15:L17,AI12)","v":0},{"$f":"AJ12/(AL4-AJ8)","v":0},{"$f":"IF(AK12=0,0,(AK12*((LOG(AK12))/LOG(2))))","v":0},null,{"$f":"N12","v":212},{"$f":"COUNTIF(L18:L20,AN12)","v":0},{"$f":"AO12/(AQ4-AO8)","v":0},{"$f":"IF(AP12=0,0,(AP12*((LOG(AP12))/LOG(2))))","v":0},null,{"$f":"N12","v":212},{"$f":"COUNTIF(L21:L23,AS12)","v":1},{"$f":"AT12/(AV4-AT8)","v":0.5},{"$f":"IF(AU12=0,0,(AU12*((LOG(AU12))/LOG(2))))","v":-0.5}]
[11,2677,11,2681,21,2692,null,null,null,null,0,112,null,221,{"$f":"COUNTIF($L$7:$L$500,N13)","v":2},{"$f":"O13/$Q$4","v":0.125},{"$f":"IF(P13=0,0,(P13*((LOG(P13))/LOG(2))))","v":-0.375},null,null,{"$f":"N13","v":221},{"$f":"COUNTIF(L7:L9,T13)","v":0},{"$f":"U13/(W4-U8)","v":0},{"$f":"IF(V13=0,0,(V13*((LOG(V13))/LOG(2))))","v":0},null,{"$f":"N13","v":221},{"$f":"COUNTIF(L10:L12,Y13)","v":0},{"$f":"Z13/(AB4-Z8)","v":0},{"$f":"IF(AA13=0,0,(AA13*((LOG(AA13))/LOG(2))))","v":0},null,{"$f":"N13","v":221},{"$f":"COUNTIF(L13:L14,AD13)","v":0},{"$f":"AE13/(AG4-AE8)","v":0},{"$f":"IF(AF13=0,0,(AF13*((LOG(AF13))/LOG(2))))","v":0},null,{"$f":"N13","v":221},{"$f":"COUNTIF(L15:L17,AI13)","v":1},{"$f":"AJ13/(AL4-AJ8)","v":0.33333333333333331},{"$f":"IF(AK13=0,0,(AK13*((LOG(AK13))/LOG(2))))","v":-0.52832083357371862},null,{"$f":"N13","v":221},{"$f":"COUNTIF(L18:L20,AN13)","v":1},{"$f":"AO13/(AQ4-AO8)","v":0.33333333333333331},{"$f":"IF(AP13=0,0,(AP13*((LOG(AP13))/LOG(2))))","v":-0.52832083357371862},null,{"$f":"N13","v":221},{"$f":"COUNTIF(L21:L23,AS13)","v":0},{"$f":"AT13/(AV4-AT8)","v":0},{"$f":"IF(AU13=0,0,(AU13*((LOG(AU13))/LOG(2))))","v":0}]
[22,3774,13,3779,14,3787,null,null,null,null,0,211,null,222,{"$f":"COUNTIF($L$7:$L$500,N14)","v":0},{"$f":"O14/$Q$4","v":0},{"$f":"IF(P14=0,0,(P14*((LOG(P14))/LOG(2))))","v":0},null,null,{"$f":"N14","v":222},{"$f":"COUNTIF(L7:L9,T14)","v":0},{"$f":"U14/(W4-U8)","v":0},{"$f":"IF(V14=0,0,(V14*((LOG(V14))/LOG(2))))","v":0},null,{"$f":"N14","v":222},{"$f":"COUNTIF(L10:L12,Y14)","v":0},{"$f":"Z14/(AB4-Z8)","v":0},{"$f":"IF(AA14=0,0,(AA14*((LOG(AA14))/LOG(2))))","v":0},null,{"$f":"N14","v":222},{"$f":"COUNTIF(L13:L14,AD14)","v":0},{"$f":"AE14/(AG4-AE8)","v":0},{"$f":"IF(AF14=0,0,(AF14*((LOG(AF14))/LOG(2))))","v":0},null,{"$f":"N14","v":222},{"$f":"COUNTIF(L15:L17,AI14)","v":0},{"$f":"AJ14/(AL4-AJ8)","v":0},{"$f":"IF(AK14=0,0,(AK14*((LOG(AK14))/LOG(2))))","v":0},null,{"$f":"N14","v":222},{"$f":"COUNTIF(L18:L20,AN14)","v":0},{"$f":"AO14/(AQ4-AO8)","v":0},{"$f":"IF(AP14=0,0,(AP14*((LOG(AP14))/LOG(2))))","v":0},null,{"$f":"N14","v":222},{"$f":"COUNTIF(L21:L23,AS14)","v":0},{"$f":"AT14/(AV4-AT8)","v":0},{"$f":"IF(AU14=0,0,(AU14*((LOG(AU14))/LOG(2))))","v":0}]
[22,3885,24,3888,14,3898,null,null,null,null,0,221,null,null,null,{"$f":"SUM(P7:P14)","v":1},{"$f":"-SUM(Q7:Q14)","v":2.7028195311147831},null,null,null,null,{"$f":"SUM(V7:V14)","v":1},{"$f":"-SUM(W7:W14)","v":1},null,null,null,{"$f":"SUM(AA7:AA14)","v":1},{"$f":"-SUM(AB7:AB14)","v":1.5849625007211559},null,null,null,{"$f":"SUM(AF7:AF14)","v":1},{"$f":"-SUM(AG7:AG14)","v":0},null,null,null,{"$f":"SUM(AK7:AK14)","v":1},{"$f":"-SUM(AL7:AL14)","v":1.5849625007211559},null,null,null,{"$f":"SUM(AP7:AP14)","v":1},{"$f":"-SUM(AQ7:AQ14)","v":1.5849625007211559},null,null,null,{"$f":"SUM(AU7:AU14)","v":1},{"$f":"-SUM(AV7:AV14)","v":1}]
[11,3993,11,4003,12,4028,null,null,null,null,0,111,null,null,null,"U=",{"$f":"Q15/(LOG(Q4)/LOG(2))","v":0.67570488277869578},null,null,null,null,"U1=",{"$f":"W15/(LOG(W4)/LOG(2))","v":0.63092975357145753},null,null,null,"U2=",{"$f":"AB15/(LOG(AB4)/LOG(2))","v":0.99999999999999989},null,null,null,"U3=",{"$f":"AG15/(LOG(AG4)/LOG(2))","v":0},null,null,null,"U4=",{"$f":"AL15/(LOG(AL4)/LOG(2))","v":0.99999999999999989},null,null,null,"U5=",{"$f":"AQ15/(LOG(AQ4)/LOG(2))","v":0.99999999999999989},null,null,null,"U6=",{"$f":"AV15/(LOG(AV4)/LOG(2))","v":1}]
[11,4496,22,4501,23,4510,null,null,null,null,0,122]
[11,4608,11,4615,12,4620,null,null,null,null,0,111]
[22,4731,24,4737,14,4749,null,null,null,null,0,221,null,"Total Target Seq"]
[11,4855,22,4866,14,4880,null,null,null,null,0,121,null,{"$f":"COUNTIF(L7:L23,G3)","v":2},null,3,3,2,3,3,3]
[22,5500,13,5520,23,5523,null,null,null,null,0,212,null,null,null,"% of reinforcement given in 6 equal intervals based on number of trials "]
[11,10714,11,10720,12,10728,null,null,null,null,0,111,null,null,null,"%_1","%_2","%_3","%_4","%_5","%_6"]
[22,15227,null,null,null,null,null,null,null,null,null,2,null,null,"target sequence",{"$f":"$G$3","v":112},{"$f":"$G$3","v":112},{"$f":"$G$3","v":112},{"$f":"$G$3","v":112},{"$f":"$G$3","v":112},{"$f":"$G$3","v":112}]
[null,null,null,null,null,null,null,null,null,null,null,null,null,null,"total reinforcement",{"$f":"U8","v":1},{"$f":"Z8","v":0},{"$f":"AE8","v":1},{"$f":"AJ8","v":0},{"$f":"AO8","v":0},{"$f":"AT8","v":0}]
[null,null,null,null,null,null,null,null,null,null,null,null,null,null,"% target"]
[null,null,null,null,null,null,null,null,null,null,null,null,null,null,"CCRF"]
[null,null,null,null,null,null,null,null,null,null,null,null,null,null,"% CCRf"]
[null,null,null,null,null,null,null,null,null,null,null,null,null,null,"average response rate",{"$f":"F9/P20","v":450.33333333333331},{"$f":"(F12-F9)/Q20","v":411},{"$f":"(F14-F12)/R20","v":601.5},{"$f":"(F17-F14)/S20","v":241},{"$f":"(F20-F17)/T20","v":123.33333333333333},{"$f":"(F23-F20)/U20","v":-1626.6666666666667}]

{"sheet":"!N41382B.AXT","index":5,"n_rows":28,"n_cols":48,"rows_kept":28,"cut":false,"hidden":false,"merged":[[4,39,4,42],[5,39,5,40],[4,44,4,47],[5,44,5,45],[4,24,4,27],[5,24,5,25],[4,29,4,32],[5,29,5,30],[4,34,4,37],[5,34,5,35],[1,1,1,2],[5,13,5,14],[18,13,18,14],[19,13,19,14],[4,19,4,22],[5,19,5,20]]}
["Report for:!N41382B.AXT"]
["Date:","<date>"]
["Hen:","<hen>",null,null,null,"Correct Sequence",{"$f":"Start!J2","v":112},null,null,null,null,null,null,null,null,"Total Sequences in Data",{"$f":"4994-COUNTBLANK(L7:L5000)","v":16},null,null,null,null,"Total Sequences in Block Data",{"$f":"COUNTA(L7:L9)","v":3},null,null,null,"Total Sequences in Block Data",{"$f":"COUNTA(L10:L11)","v":2},null,null,null,"Total Sequences in Block Data",{"$f":"COUNTA(L12:L14)","v":3},null,null,null,"Total Sequences in Block Data",{"$f":"COUNTA(L15:L17)","v":3},null,null,null,"Total Sequences in Block Data",{"$f":"COUNTA(L18:L19)","v":2},null,null,null,"Total Sequences in Block Data",{"$f":"COUNTA(L20:L22)","v":3}]
[null,null,null,null,null,null,null,null,null,null,null,null,null,null,null,"Total Sequences in Summary",{"$f":"SUM(O7:O14)","v":16},null,null,null,null,"Total Sequences in Block Summary",{"$f":"SUM(U7:U14)","v":3},null,null,null,"Total Sequences in Block Summary",{"$f":"SUM(Z7:Z14)","v":2},null,null,null,"Total Sequences in Block Summary",{"$f":"SUM(AE7:AE14)","v":3},null,null,null,"Total Sequences in Block Summary",{"$f":"SUM(AJ7:AJ14)","v":3},null,null,null,"Total Sequences in Block Summary",{"$f":"SUM(AO7:AO14)","v":2},null,null,null,"Total Sequences in Block Summary",{"$f":"SUM(AT7:AT14)","v":3}]
[null,null,null,null,null,null,null,null,null,null,null,null,null,null,null,null,null,null,null,"Block 1",null,null,null,null,"Block 2",null,null,null,null,"Block 3",null,null,null,null,"Block 4",null,null,null,null,"Block 5",null,null,null,null,"Block 6"]
["Sequence\nComponent\n1","Time\n1","Sequence\nComponent\n2","Time\n2","Sequence\nComponent\n3","Time\n3","Sequence\nComponent\n4","Time\n4","Sequence\nComponent\n5","Time\n5","Correct?\n0=No 1=Yes","Sequence",null,"Frequency",null,"Relative Frequency","Variability",null,null,"Frequency",null,"Relative Frequency","Variability",null,"Frequency",null,"Relative Frequency","Variability",null,"Frequency",null,"Relative Frequency","Variability",null,"Frequency",null,"Relative Frequency","Variability",null,"Frequency",null,"Relative Frequency","Variability",null,"Frequency",null,"Relative Frequency","Variability"]
[11,250,22,258,23,264,null,null,null,null,0,122,null,111,{"$f":"COUNTIF($L$7:$L$500,N7)","v":4},{"$f":"O7/$Q$4","v":0.25},{"$f":"IF(P7=0,0,(P7*((LOG(P7))/LOG(2))))","v":-0.5},null,null,{"$f":"N7","v":111},{"$f":"COUNTIF(L7:L9,T7)","v":0},{"$f":"U7/(W4-U8)","v":0},{"$f":"IF(V7=0,0,(V7*((LOG(V7))/LOG(2))))","v":0},null,{"$f":"N7","v":111},{"$f":"COUNTIF(L10:L11,Y7)","v":0},{"$f":"Z7/(AB4-Z8)","v":0},{"$f":"IF(AA7=0,0,(AA7*((LOG(AA7))/LOG(2))))","v":0},null,{"$f":"N7","v":111},{"$f":"COUNTIF(L12:L14,AD7)","v":1},{"$f":"AE7/(AG4-AE8)","v":0.33333333333333331},{"$f":"IF(AF7=0,0,(AF7*((LOG(AF7))/LOG(2))))","v":-0.52832083357371862},null,{"$f":"N7","v":111},{"$f":"COUNTIF(L15:L17,AI7)","v":0},{"$f":"AJ7/(AL4-AJ8)","v":0},{"$f":"IF(AK7=0,0,(AK7*((LOG(AK7))/LOG(2))))","v":0},null,{"$f":"N7","v":111},{"$f":"COUNTIF(L18:L19,AN7)","v":0},{"$f":"AO7/(AQ4-AO8)","v":0},{"$f":"IF(AP7=0,0,(AP7*((LOG(AP7))/LOG(2))))","v":0},null,{"$f":"N7","v":111},{"$f":"COUNTIF(L20:L22,AS7)","v":3},{"$f":"AT7/(AV4-AT8)","v":1},{"$f":"IF(AU7=0,0,(AU7*((LOG(AU7))/LOG(2))))","v":0}]
[22,487,13,493,23,507,null,null,null,null,0,212,null,112,{"$f":"COUNTIF($L$7:$L$500,N8)","v":1},{"$f":"O8/$Q$4","v":6.25E-2},{"$f":"IF(P8=0,0,(P8*((LOG(P8))/LOG(2))))","v":-0.25},null,null,{"$f":"N8","v":112},{"$f":"COUNTIF(L7:L9,T8)","v":1},null,null,null,{"$f":"N8","v":112},{"$f":"COUNTIF(L10:L11,Y8)","v":0},null,null,null,{"$f":"N8","v":112},{"$f":"COUNTIF(L12:L14,AD8)","v":0},null,null,null,{"$f":"N8","v":112},{"$f":"COUNTIF(L15:L17,AI8)","v":0},null,null,null,{"$f":"N8","v":112},{"$f":"COUNTIF(L18:L19,AN8)","v":0},null,null,null,{"$f":"N8","v":112},{"$f":"COUNTIF(L20:L22,AS8)","v":0}]
[11,1030,11,1035,21,1047,null,null,null,null,0,112,null,121,{"$f":"COUNTIF($L$7:$L$500,N9)","v":2},{"$f":"O9/$Q$4","v":0.125},{"$f":"IF(P9=0,0,(P9*((LOG(P9))/LOG(2))))","v":-0.375},null,null,{"$f":"N9","v":121},{"$f":"COUNTIF(L7:L9,T9)","v":0},{"$f":"U9/(W4-U8)","v":0},{"$f":"IF(V9=0,0,(V9*((LOG(V9))/LOG(2))))","v":0},null,{"$f":"N9","v":121},{"$f":"COUNTIF(L10:L11,Y9)","v":0},{"$f":"Z9/(AB4-Z8)","v":0},{"$f":"IF(AA9=0,0,(AA9*((LOG(AA9))/LOG(2))))","v":0},null,{"$f":"N9","v":121},{"$f":"COUNTIF(L12:L14,AD9)","v":0},{"$f":"AE9/(AG4-AE8)","v":0},{"$f":"IF(AF9=0,0,(AF9*((LOG(AF9))/LOG(2))))","v":0},null,{"$f":"N9","v":121},{"$f":"COUNTIF(L15:L17,AI9)","v":1},{"$f":"AJ9/(AL4-AJ8)","v":0.33333333333333331},{"$f":"IF(AK9=0,0,(AK9*((LOG(AK9))/LOG(2))))","v":-0.52832083357371862},null,{"$f":"N9","v":121},{"$f":"COUNTIF(L18:L19,AN9)","v":1},{"$f":"AO9/(AQ4-AO8)","v":0.5},{"$f":"IF(AP9=0,0,(AP9*((LOG(AP9))/LOG(2))))","v":-0.5},null,{"$f":"N9","v":121},{"$f":"COUNTIF(L20:L22,AS9)","v":0},{"$f":"AT9/(AV4-AT8)","v":0},{"$f":"IF(AU9=0,0,(AU9*((LOG(AU9))/LOG(2))))","v":0}]
[11,1583,22,1605,23,1610,null,null,null,null,0,122,null,122,{"$f":"COUNTIF($L$7:$L$500,N10)","v":2},{"$f":"O10/$Q$4","v":0.125},{"$f":"IF(P10=0,0,(P10*((LOG(P10))/LOG(2))))","v":-0.375},null,null,{"$f":"N10","v":122},{"$f":"COUNTIF(L7:L9,T10)","v":1},{"$f":"U10/(W4-U8)","v":0.5},{"$f":"IF(V10=0,0,(V10*((LOG(V10))/LOG(2))))","v":-0.5},null,{"$f":"N10","v":122},{"$f":"COUNTIF(L10:L11,Y10)","v":1},{"$f":"Z10/(AB4-Z8)","v":0.5},{"$f":"IF(AA10=0,0,(AA10*((LOG(AA10))/LOG(2))))","v":-0.5},null,{"$f":"N10","v":122},{"$f":"COUNTIF(L12:L14,AD10)","v":0},{"$f":"AE10/(AG4-AE8)","v":0},{"$f":"IF(AF10=0,0,(AF10*((LOG(AF10))/LOG(2))))","v":0},null,{"$f":"N10","v":122},{"$f":"COUNTIF(L15:L17,AI10)","v":0},{"$f":"AJ10/(AL4-AJ8)","v":0},{"$f":"IF(AK10=0,0,(AK10*((LOG(AK10))/LOG(2))))","v":0},null,{"$f":"N10","v":122},{"$f":"COUNTIF(L18:L19,AN10)","v":0},{"$f":"AO10/(AQ4-AO8)","v":0},{"$f":"IF(AP10=0,0,(AP10*((LOG(AP10))/LOG(2))))","v":0},null,{"$f":"N10","v":122},{"$f":"COUNTIF(L20:L22,AS10)","v":0},{"$f":"AT10/(AV4-AT8)","v":0},{"$f":"IF(AU10=0,0,(AU10*((LOG(AU10))/LOG(2))))","v":0}]
[22,2010,13,2023,23,2037,null,null,null,null,0,212,null,211,{"$f":"COUNTIF($L$7:$L$500,N11)","v":1},{"$f":"O11/$Q$4","v":6.25E-2},{"$f":"IF(P11=0,0,(P11*((LOG(P11))/LOG(2))))","v":-0.25},null,null,{"$f":"N11","v":211},{"$f":"COUNTIF(L7:L9,T11)","v":0},{"$f":"U11/(W4-U8)","v":0},{"$f":"IF(V11=0,0,(V11*((LOG(V11))/LOG(2))))","v":0},null,{"$f":"N11","v":211},{"$f":"COUNTIF(L10:L11,Y11)","v":0},{"$f":"Z11/(AB4-Z8)","v":0},{"$f":"IF(AA11=0,0,(AA11*((LOG(AA11))/LOG(2))))","v":0},null,{"$f":"N11","v":211},{"$f":"COUNTIF(L12:L14,AD11)","v":1},{"$f":"AE11/(AG4-AE8)","v":0.33333333333333331},{"$f":"IF(AF11=0,0,(AF11*((LOG(AF11))/LOG(2))))","v":-0.52832083357371862},null,{"$f":"N11","v":211},{"$f":"COUNTIF(L15:L17,AI11)","v":0},{"$f":"AJ11/(AL4-AJ8)","v":0},{"$f":"IF(AK11=0,0,(AK11*((LOG(AK11))/LOG(2))))","v":0},null,{"$f":"N11","v":211},{"$f":"COUNTIF(L18:L19,AN11)","v":0},{"$f":"AO11/(AQ4-AO8)","v":0},{"$f":"IF(AP11=0,0,(AP11*((LOG(AP11))/LOG(2))))","v":0},null,{"$f":"N11","v":211},{"$f":"COUNTIF(L20:L22,AS11)","v":0},{"$f":"AT11/(AV4-AT8)","v":0},{"$f":"IF(AU11=0,0,(AU11*((LOG(AU11))/LOG(2))))","v":0}]
[22,2172,13,2179,14,2186,null,null,null,null,0,211,null,212,{"$f":"COUNTIF($L$7:$L$500,N12)","v":2},{"$f":"O12/$Q$4","v":0.125},{"$f":"IF(P12=0,0,(P12*((LOG(P12))/LOG(2))))","v":-0.375},null,null,{"$f":"N12","v":212},{"$f":"COUNTIF(L7:L9,T12)","v":1},{"$f":"U12/(W4-U8)","v":0.5},{"$f":"IF(V12=0,0,(V12*((LOG(V12))/LOG(2))))","v":-0.5},null,{"$f":"N12","v":212},{"$f":"COUNTIF(L10:L11,Y12)","v":1},{"$f":"Z12/(AB4-Z8)","v":0.5},{"$f":"IF(AA12=0,0,(AA12*((LOG(AA12))/LOG(2))))","v":-0.5},null,{"$f":"N12","v":212},{"$f":"COUNTIF(L12:L14,AD12)","v":0},{"$f":"AE12/(AG4-AE8)","v":0},{"$f":"IF(AF12=0,0,(AF12*((LOG(AF12))/LOG(2))))","v":0},null,{"$f":"N12","v":212},{"$f":"COUNTIF(L15:L17,AI12)","v":0},{"$f":"AJ12/(AL4-AJ8)","v":0},{"$f":"IF(AK12=0,0,(AK12*((LOG(AK12))/LOG(2))))","v":0},null,{"$f":"N12","v":212},{"$f":"COUNTIF(L18:L19,AN12)","v":0},{"$f":"AO12/(AQ4-AO8)","v":0},{"$f":"IF(AP12=0,0,(AP12*((LOG(AP12))/LOG(2))))","v":0},null,{"$f":"N12","v":212},{"$f":"COUNTIF(L20:L22,AS12)","v":0},{"$f":"AT12/(AV4-AT8)","v":0},{"$f":"IF(AU12=0,0,(AU12*((LOG(AU12))/LOG(2))))","v":0}]
[11,2304,11,2308,12,2313,null,null,null,null,0,111,null,221,{"$f":"COUNTIF($L$7:$L$500,N13)","v":1},{"$f":"O13/$Q$4","v":6.25E-2},{"$f":"IF(P13=0,0,(P13*((LOG(P13))/LOG(2))))","v":-0.25},null,null,{"$f":"N13","v":221},{"$f":"COUNTIF(L7:L9,T13)","v":0},{"$f":"U13/(W4-U8)","v":0},{"$f":"IF(V13=0,0,(V13*((LOG(V13))/LOG(2))))","v":0},null,{"$f":"N13","v":221},{"$f":"COUNTIF(L10:L11,Y13)","v":0},{"$f":"Z13/(AB4-Z8)","v":0},{"$f":"IF(AA13=0,0,(AA13*((LOG(AA13))/LOG(2))))","v":0},null,{"$f":"N13","v":221},{"$f":"COUNTIF(L12:L14,AD13)","v":1},{"$f":"AE13/(AG4-AE8)","v":0.33333333333333331},{"$f":"IF(AF13=0,0,(AF13*((LOG(AF13))/LOG(2))))","v":-0.52832083357371862},null,{"$f":"N13","v":221},{"$f":"COUNTIF(L15:L17,AI13)","v":0},{"$f":"AJ13/(AL4-AJ8)","v":0},{"$f":"IF(AK13=0,0,(AK13*((LOG(AK13))/LOG(2))))","v":0},null,{"$f":"N13","v":221},{"$f":"COUNTIF(L18:L19,AN13)","v":0},{"$f":"AO13/(AQ4-AO8)","v":0},{"$f":"IF(AP13=0,0,(AP13*((LOG(AP13))/LOG(2))))","v":0},null,{"$f":"N13","v":221},{"$f":"COUNTIF(L20:L22,AS13)","v":0},{"$f":"AT13/(AV4-AT8)","v":0},{"$f":"IF(AU13=0,0,(AU13*((LOG(AU13))/LOG(2))))","v":0}]
[22,2633,24,2642,14,2652,null,null,null,null,0,221,null,222,{"$f":"COUNTIF($L$7:$L$500,N14)","v":3},{"$f":"O14/$Q$4","v":0.1875},{"$f":"IF(P14=0,0,(P14*((LOG(P14))/LOG(2))))","v":-0.45281953111478312},null,null,{"$f":"N14","v":222},{"$f":"COUNTIF(L7:L9,T14)","v":0},{"$f":"U14/(W4-U8)","v":0},{"$f":"IF(V14=0,0,(V14*((LOG(V14))/LOG(2))))","v":0},null,{"$f":"N14","v":222},{"$f":"COUNTIF(L10:L11,Y14)","v":0},{"$f":"Z14/(AB4-Z8)","v":0},{"$f":"IF(AA14=0,0,(AA14*((LOG(AA14))/LOG(2))))","v":0},null,{"$f":"N14","v":222},{"$f":"COUNTIF(L12:L14,AD14)","v":0},{"$f":"AE14/(AG4-AE8)","v":0},{"$f":"IF(AF14=0,0,(AF14*((LOG(AF14))/LOG(2))))","v":0},null,{"$f":"N14","v":222},{"$f":"COUNTIF(L15:L17,AI14)","v":2},{"$f":"AJ14/(AL4-AJ8)","v":0.66666666666666663},{"$f":"IF(AK14=0,0,(AK14*((LOG(AK14))/LOG(2))))","v":-0.38997500048077083},null,{"$f":"N14","v":222},{"$f":"COUNTIF(L18:L19,AN14)","v":1},{"$f":"AO14/(AQ4-AO8)","v":0.5},{"$f":"IF(AP14=0,0,(AP14*((LOG(AP14))/LOG(2))))","v":-0.5},null,{"$f":"N14","v":222},{"$f":"COUNTIF(L20:L22,AS14)","v":0},{"$f":"AT14/(AV4-AT8)","v":0},{"$f":"IF(AU14=0,0,(AU14*((LOG(AU14))/LOG(2))))","v":0}]
[22,4073,24,4080,23,4095,null,null,null,null,0,222,null,null,null,{"$f":"SUM(P7:P14)","v":1},{"$f":"-SUM(Q7:Q14)","v":2.8278195311147831},null,null,null,null,{"$f":"SUM(V7:V14)","v":1},{"$f":"-SUM(W7:W14)","v":1},null,null,null,{"$f":"SUM(AA7:AA14)","v":1},{"$f":"-SUM(AB7:AB14)","v":1},null,null,null,{"$f":"SUM(AF7:AF14)","v":1},{"$f":"-SUM(AG7:AG14)","v":1.5849625007211559},null,null,null,{"$f":"SUM(AK7:AK14)","v":1},{"$f":"-SUM(AL7:AL14)","v":0.91829583405448945},null,null,null,{"$f":"SUM(AP7:AP14)","v":1},{"$f":"-SUM(AQ7:AQ14)","v":1},null,null,null,{"$f":"SUM(AU7:AU14)","v":1},{"$f":"-SUM(AV7:AV14)","v":0}]
[22,4198,24,4202,23,4210,null,null,null,null,0,222,null,null,null,"U=",{"$f":"Q15/(LOG(Q4)/LOG(2))","v":0.70695488277869578},null,null,null,null,"U1=",{"$f":"W15/(LOG(W4)/LOG(2))","v":0.63092975357145753},null,null,null,"U2=",{"$f":"AB15/(LOG(AB4)/LOG(2))","v":1},null,null,null,"U3=",{"$f":"AG15/(LOG(AG4)/LOG(2))","v":0.99999999999999989},null,null,null,"U4=",{"$f":"AL15/(LOG(AL4)/LOG(2))","v":0.57938016428569505},null,null,null,"U5=",{"$f":"AQ15/(LOG(AQ4)/LOG(2))","v":1},null,null,null,"U6=",{"$f":"AV15/(LOG(AV4)/LOG(2))","v":0}]
[11,4399,22,4413,14,4421,null,null,null,null,0,121]
[11,5105,22,5124,14,5132,null,null,null,null,0,121]
[22,5292,24,6318,23,6322,null,null,null,null,0,222,null,"Total Target Seq"]
[11,6629,11,6645,12,6656,null,null,null,null,0,111,null,{"$f":"COUNTIF(L7:L22,G3)","v":1},null,3,2,3,3,2,3]
[11,6787,11,6795,12,6807,null,null,null,null,0,111,null,null,null,"% of reinforcement given in 6 equal intervals based on number of trials "]
[11,6938,11,6948,12,6956,null,null,null,null,0,111,null,null,null,"%_1","%_2","%_3","%_4","%_5","%_6"]
[null,null,null,null,null,null,null,null,null,null,null,null,null,null,"target sequence",{"$f":"$G$3","v":112},{"$f":"$G$3","v":112},{"$f":"$G$3","v":112},{"$f":"$G$3","v":112},{"$f":"$G$3","v":112},{"$f":"$G$3","v":112}]
[null,null,null,null,null,null,null,null,null,null,null,null,null,null,"total reinforcement",{"$f":"U8","v":1},{"$f":"Z8","v":0},{"$f":"AE8","v":0},{"$f":"AJ8","v":0},{"$f":"AO8","v":0},{"$f":"AT8","v":0}]
[null,null,null,null,null,null,null,null,null,null,null,null,null,null,"% target"]
[null,null,null,null,null,null,null,null,null,null,null,null,null,null,"CCRF"]
[null,null,null,null,null,null,null,null,null,null,null,null,null,null,"% CCRf"]
[null,null,null,null,null,null,null,null,null,null,null,null,null,null,"average response rate",{"$f":"F9/P20","v":349},{"$f":"(F11-F9)/Q20","v":495},{"$f":"(F14-F11)/R20","v":205},{"$f":"(F17-F14)/S20","v":589.66666666666663},{"$f":"(F19-F17)/T20","v":950.5},{"$f":"(F22-F19)/U20","v":211.33333333333334}]

{"sheet":"!N41492B.AXT","index":6,"n_rows":28,"n_cols":48,"rows_kept":28,"cut":false,"hidden":false,"merged":[[4,39,4,42],[5,39,5,40],[4,44,4,47],[5,44,5,45],[4,24,4,27],[5,24,5,25],[4,29,4,32],[5,29,5,30],[4,34,4,37],[5,34,5,35],[1,1,1,2],[5,13,5,14],[18,13,18,14],[19,13,19,14],[4,19,4,22],[5,19,5,20]]}
["Report for:!N41492B.AXT"]
["Date:","<date>"]
["Hen:","<hen>",null,null,null,"Correct Sequence",{"$f":"Start!J2","v":112},null,null,null,null,null,null,null,null,"Total Sequences in Data",{"$f":"4994-COUNTBLANK(L7:L5000)","v":6},null,null,null,null,"Total Sequences in Block Data",{"$f":"COUNTA(L7:L7)","v":1},null,null,null,"Total Sequences in Block Data",{"$f":"COUNTA(L8:L8)","v":1},null,null,null,"Total Sequences in Block Data",{"$f":"COUNTA(L9:L9)","v":1},null,null,null,"Total Sequences in Block Data",{"$f":"COUNTA(L10:L10)","v":1},null,null,null,"Total Sequences in Block Data",{"$f":"COUNTA(L11:L11)","v":1},null,null,null,"Total Sequences in Block Data",{"$f":"COUNTA(L12:L12)","v":1}]
[null,null,null,null,null,null,null,null,null,null,null,null,null,null,null,"Total Sequences in Summary",{"$f":"SUM(O7:O14)","v":6},null,null,null,null,"Total Sequences in Block Summary",{"$f":"SUM(U7:U14)","v":1},null,null,null,"Total Sequences in Block Summary",{"$f":"SUM(Z7:Z14)","v":1},null,null,null,"Total Sequences in Block Summary",{"$f":"SUM(AE7:AE14)","v":1},null,null,null,"Total Sequences in Block Summary",{"$f":"SUM(AJ7:AJ14)","v":1},null,null,null,"Total Sequences in Block Summary",{"$f":"SUM(AO7:AO14)","v":1},null,null,null,"Total Sequences in Block Summary",{"$f":"SUM(AT7:AT14)","v":1}]
[null,null,null,null,null,null,null,null,null,null,null,null,null,null,null,null,null,null,null,"Block 1",null,null,null,null,"Block 2",null,null,null,null,"Block 3",null,null,null,null,"Block 4",null,null,null,null,"Block 5",null,null,null,null,"Block 6"]
["Sequence\nComponent\n1","Time\n1","Sequence\nComponent\n2","Time\n2","Sequence\nComponent\n3","Time\n3","Sequence\nComponent\n4","Time\n4","Sequence\nComponent\n5","Time\n5","Correct?\n0=No 1=Yes","Sequence",null,"Frequency",null,"Relative Frequency","Variability",null,null,"Frequency",null,"Relative Frequency","Variability",null,"Frequency",null,"Relative Frequency","Variability",null,"Frequency",null,"Relative Frequency","Variability",null,"Frequency",null,"Relative Frequency","Variability",null,"Frequency",null,"Relative Frequency","Variability",null,"Frequency",null,"Relative Frequency","Variability"]
[22,46,24,50,14,85,null,null,null,null,0,221,null,111,{"$f":"COUNTIF($L$7:$L$500,N7)","v":2},{"$f":"O7/$Q$4","v":0.33333333333333331},{"$f":"IF(P7=0,0,(P7*((LOG(P7))/LOG(2))))","v":-0.52832083357371862},null,null,{"$f":"N7","v":111},{"$f":"COUNTIF(L7:L7,T7)","v":0},{"$f":"U7/(W4-U8)","v":0},{"$f":"IF(V7=0,0,(V7*((LOG(V7))/LOG(2))))","v":0},null,{"$f":"N7","v":111},{"$f":"COUNTIF(L8:L8,Y7)","v":0},{"$f":"Z7/(AB4-Z8)","v":0},{"$f":"IF(AA7=0,0,(AA7*((LOG(AA7))/LOG(2))))","v":0},null,{"$f":"N7","v":111},{"$f":"COUNTIF(L9:L9,AD7)","v":0},{"$f":"AE7/(AG4-AE8)","v":0},{"$f":"IF(AF7=0,0,(AF7*((LOG(AF7))/LOG(2))))","v":0},null,{"$f":"N7","v":111},{"$f":"COUNTIF(L10:L10,AI7)","v":1},{"$f":"AJ7/(AL4-AJ8)","v":1},{"$f":"IF(AK7=0,0,(AK7*((LOG(AK7))/LOG(2))))","v":0},null,{"$f":"N7","v":111},{"$f":"COUNTIF(L11:L11,AN7)","v":0},{"$f":"AO7/(AQ4-AO8)","v":0},{"$f":"IF(AP7=0,0,(AP7*((LOG(AP7))/LOG(2))))","v":0},null,{"$f":"N7","v":111},{"$f":"COUNTIF(L12:L12,AS7)","v":1},{"$f":"AT7/(AV4-AT8)","v":1},{"$f":"IF(AU7=0,0,(AU7*((LOG(AU7))/LOG(2))))","v":0}]
[22,507,24,522,23,623,null,null,null,null,0,222,null,112,{"$f":"COUNTIF($L$7:$L$500,N8)","v":0},{"$f":"O8/$Q$4","v":0},{"$f":"IF(P8=0,0,(P8*((LOG(P8))/LOG(2))))","v":0},null,null,{"$f":"N8","v":112},{"$f":"COUNTIF(L7:L7,T8)","v":0},null,null,null,{"$f":"N8","v":112},{"$f":"COUNTIF(L8:L8,Y8)","v":0},null,null,null,{"$f":"N8","v":112},{"$f":"COUNTIF(L9:L9,AD8)","v":0},null,null,null,{"$f":"N8","v":112},{"$f":"COUNTIF(L10:L10,AI8)","v":0},null,null,null,{"$f":"N8","v":112},{"$f":"COUNTIF(L11:L11,AN8)","v":0},null,null,null,{"$f":"N8","v":112},{"$f":"COUNTIF(L12:L12,AS8)","v":0}]
[22,8486,24,8488,14,9459,null,null,null,null,0,221,null,121,{"$f":"COUNTIF($L$7:$L$500,N9)","v":0},{"$f":"O9/$Q$4","v":0},{"$f":"IF(P9=0,0,(P9*((LOG(P9))/LOG(2))))","v":0},null,null,{"$f":"N9","v":121},{"$f":"COUNTIF(L7:L7,T9)","v":0},{"$f":"U9/(W4-U8)","v":0},{"$f":"IF(V9=0,0,(V9*((LOG(V9))/LOG(2))))","v":0},null,{"$f":"N9","v":121},{"$f":"COUNTIF(L8:L8,Y9)","v":0},{"$f":"Z9/(AB4-Z8)","v":0},{"$f":"IF(AA9=0,0,(AA9*((LOG(AA9))/LOG(2))))","v":0},null,{"$f":"N9","v":121},{"$f":"COUNTIF(L9:L9,AD9)","v":0},{"$f":"AE9/(AG4-AE8)","v":0},{"$f":"IF(AF9=0,0,(AF9*((LOG(AF9))/LOG(2))))","v":0},null,{"$f":"N9","v":121},{"$f":"COUNTIF(L10:L10,AI9)","v":0},{"$f":"AJ9/(AL4-AJ8)","v":0},{"$f":"IF(AK9=0,0,(AK9*((LOG(AK9))/LOG(2))))","v":0},null,{"$f":"N9","v":121},{"$f":"COUNTIF(L11:L11,AN9)","v":0},{"$f":"AO9/(AQ4-AO8)","v":0},{"$f":"IF(AP9=0,0,(AP9*((LOG(AP9))/LOG(2))))","v":0},null,{"$f":"N9","v":121},{"$f":"COUNTIF(L12:L12,AS9)","v":0},{"$f":"AT9/(AV4-AT8)","v":0},{"$f":"IF(AU9=0,0,(AU9*((LOG(AU9))/LOG(2))))","v":0}]
[11,9557,11,9570,12,9573,null,null,null,null,0,111,null,122,{"$f":"COUNTIF($L$7:$L$500,N10)","v":0},{"$f":"O10/$Q$4","v":0},{"$f":"IF(P10=0,0,(P10*((LOG(P10))/LOG(2))))","v":0},null,null,{"$f":"N10","v":122},{"$f":"COUNTIF(L7:L7,T10)","v":0},{"$f":"U10/(W4-U8)","v":0},{"$f":"IF(V10=0,0,(V10*((LOG(V10))/LOG(2))))","v":0},null,{"$f":"N10","v":122},{"$f":"COUNTIF(L8:L8,Y10)","v":0},{"$f":"Z10/(AB4-Z8)","v":0},{"$f":"IF(AA10=0,0,(AA10*((LOG(AA10))/LOG(2))))","v":0},null,{"$f":"N10","v":122},{"$f":"COUNTIF(L9:L9,AD10)","v":0},{"$f":"AE10/(AG4-AE8)","v":0},{"$f":"IF(AF10=0,0,(AF10*((LOG(AF10))/LOG(2))))","v":0},null,{"$f":"N10","v":122},{"$f":"COUNTIF(L10:L10,AI10)","v":0},{"$f":"AJ10/(AL4-AJ8)","v":0},{"$f":"IF(AK10=0,0,(AK10*((LOG(AK10))/LOG(2))))","v":0},null,{"$f":"N10","v":122},{"$f":"COUNTIF(L11:L11,AN10)","v":0},{"$f":"AO10/(AQ4-AO8)","v":0},{"$f":"IF(AP10=0,0,(AP10*((LOG(AP10))/LOG(2))))","v":0},null,{"$f":"N10","v":122},{"$f":"COUNTIF(L12:L12,AS10)","v":0},{"$f":"AT10/(AV4-AT8)","v":0},{"$f":"IF(AU10=0,0,(AU10*((LOG(AU10))/LOG(2))))","v":0}]
[22,10465,13,10473,14,10477,null,null,null,null,0,211,null,211,{"$f":"COUNTIF($L$7:$L$500,N11)","v":1},{"$f":"O11/$Q$4","v":0.16666666666666666},{"$f":"IF(P11=0,0,(P11*((LOG(P11))/LOG(2))))","v":-0.43082708345352599},null,null,{"$f":"N11","v":211},{"$f":"COUNTIF(L7:L7,T11)","v":0},{"$f":"U11/(W4-U8)","v":0},{"$f":"IF(V11=0,0,(V11*((LOG(V11))/LOG(2))))","v":0},null,{"$f":"N11","v":211},{"$f":"COUNTIF(L8:L8,Y11)","v":0},{"$f":"Z11/(AB4-Z8)","v":0},{"$f":"IF(AA11=0,0,(AA11*((LOG(AA11))/LOG(2))))","v":0},null,{"$f":"N11","v":211},{"$f":"COUNTIF(L9:L9,AD11)","v":0},{"$f":"AE11/(AG4-AE8)","v":0},{"$f":"IF(AF11=0,0,(AF11*((LOG(AF11))/LOG(2))))","v":0},null,{"$f":"N11","v":211},{"$f":"COUNTIF(L10:L10,AI11)","v":0},{"$f":"AJ11/(AL4-AJ8)","v":0},{"$f":"IF(AK11=0,0,(AK11*((LOG(AK11))/LOG(2))))","v":0},null,{"$f":"N11","v":211},{"$f":"COUNTIF(L11:L11,AN11)","v":1},{"$f":"AO11/(AQ4-AO8)","v":1},{"$f":"IF(AP11=0,0,(AP11*((LOG(AP11))/LOG(2))))","v":0},null,{"$f":"N11","v":211},{"$f":"COUNTIF(L12:L12,AS11)","v":0},{"$f":"AT11/(AV4-AT8)","v":0},{"$f":"IF(AU11=0,0,(AU11*((LOG(AU11))/LOG(2))))","v":0}]
[11,12495,11,12499,12,12505,null,null,null,null,0,111,null,212,{"$f":"COUNTIF($L$7:$L$500,N12)","v":0},{"$f":"O12/$Q$4","v":0},{"$f":"IF(P12=0,0,(P12*((LOG(P12))/LOG(2))))","v":0},null,null,{"$f":"N12","v":212},{"$f":"COUNTIF(L7:L7,T12)","v":0},{"$f":"U12/(W4-U8)","v":0},{"$f":"IF(V12=0,0,(V12*((LOG(V12))/LOG(2))))","v":0},null,{"$f":"N12","v":212},{"$f":"COUNTIF(L8:L8,Y12)","v":0},{"$f":"Z12/(AB4-Z8)","v":0},{"$f":"IF(AA12=0,0,(AA12*((LOG(AA12))/LOG(2))))","v":0},null,{"$f":"N12","v":212},{"$f":"COUNTIF(L9:L9,AD12)","v":0},{"$f":"AE12/(AG4-AE8)","v":0},{"$f":"IF(AF12=0,0,(AF12*((LOG(AF12))/LOG(2))))","v":0},null,{"$f":"N12","v":212},{"$f":"COUNTIF(L10:L10,AI12)","v":0},{"$f":"AJ12/(AL4-AJ8)","v":0},{"$f":"IF(AK12=0,0,(AK12*((LOG(AK12))/LOG(2))))","v":0},null,{"$f":"N12","v":212},{"$f":"COUNTIF(L11:L11,AN12)","v":0},{"$f":"AO12/(AQ4-AO8)","v":0},{"$f":"IF(AP12=0,0,(AP12*((LOG(AP12))/LOG(2))))","v":0},null,{"$f":"N12","v":212},{"$f":"COUNTIF(L12:L12,AS12)","v":0},{"$f":"AT12/(AV4-AT8)","v":0},{"$f":"IF(AU12=0,0,(AU12*((LOG(AU12))/LOG(2))))","v":0}]
[null,null,null,null,null,null,null,null,null,null,null,null,null,221,{"$f":"COUNTIF($L$7:$L$500,N13)","v":2},{"$f":"O13/$Q$4","v":0.33333333333333331},{"$f":"IF(P13=0,0,(P13*((LOG(P13))/LOG(2))))","v":-0.52832083357371862},null,null,{"$f":"N13","v":221},{"$f":"COUNTIF(L7:L7,T13)","v":1},{"$f":"U13/(W4-U8)","v":1},{"$f":"IF(V13=0,0,(V13*((LOG(V13))/LOG(2))))","v":0},null,{"$f":"N13","v":221},{"$f":"COUNTIF(L8:L8,Y13)","v":0},{"$f":"Z13/(AB4-Z8)","v":0},{"$f":"IF(AA13=0,0,(AA13*((LOG(AA13))/LOG(2))))","v":0},null,{"$f":"N13","v":221},{"$f":"COUNTIF(L9:L9,AD13)","v":1},{"$f":"AE13/(AG4-AE8)","v":1},{"$f":"IF(AF13=0,0,(AF13*((LOG(AF13))/LOG(2))))","v":0},null,{"$f":"N13","v":221},{"$f":"COUNTIF(L10:L10,AI13)","v":0},{"$f":"AJ13/(AL4-AJ8)","v":0},{"$f":"IF(AK13=0,0,(AK13*((LOG(AK13))/LOG(2))))","v":0},null,{"$f":"N13","v":221},{"$f":"COUNTIF(L11:L11,AN13)","v":0},{"$f":"AO13/(AQ4-AO8)","v":0},{"$f":"IF(AP13=0,0,(AP13*((LOG(AP13))/LOG(2))))","v":0},null,{"$f":"N13","v":221},{"$f":"COUNTIF(L12:L12,AS13)","v":0},{"$f":"AT13/(AV4-AT8)","v":0},{"$f":"IF(AU13=0,0,(AU13*((LOG(AU13))/LOG(2))))","v":0}]
[null,null,null,null,null,null,null,null,null,null,null,null,null,222,{"$f":"COUNTIF($L$7:$L$500,N14)","v":1},{"$f":"O14/$Q$4","v":0.16666666666666666},{"$f":"IF(P14=0,0,(P14*((LOG(P14))/LOG(2))))","v":-0.43082708345352599},null,null,{"$f":"N14","v":222},{"$f":"COUNTIF(L7:L7,T14)","v":0},{"$f":"U14/(W4-U8)","v":0},{"$f":"IF(V14=0,0,(V14*((LOG(V14))/LOG(2))))","v":0},null,{"$f":"N14","v":222},{"$f":"COUNTIF(L8:L8,Y14)","v":1},{"$f":"Z14/(AB4-Z8)","v":1},{"$f":"IF(AA14=0,0,(AA14*((LOG(AA14))/LOG(2))))","v":0},null,{"$f":"N14","v":222},{"$f":"COUNTIF(L9:L9,AD14)","v":0},{"$f":"AE14/(AG4-AE8)","v":0},{"$f":"IF(AF14=0,0,(AF14*((LOG(AF14))/LOG(2))))","v":0},null,{"$f":"N14","v":222},{"$f":"COUNTIF(L10:L10,AI14)","v":0},{"$f":"AJ14/(AL4-AJ8)","v":0},{"$f":"IF(AK14=0,0,(AK14*((LOG(AK14))/LOG(2))))","v":0},null,{"$f":"N14","v":222},{"$f":"COUNTIF(L11:L11,AN14)","v":0},{"$f":"AO14/(AQ4-AO8)","v":0},{"$f":"IF(AP14=0,0,(AP14*((LOG(AP14))/LOG(2))))","v":0},null,{"$f":"N14","v":222},{"$f":"COUNTIF(L12:L12,AS14)","v":0},{"$f":"AT14/(AV4-AT8)","v":0},{"$f":"IF(AU14=0,0,(AU14*((LOG(AU14))/LOG(2))))","v":0}]
[null,null,null,null,null,null,null,null,null,null,null,null,null,null,null,{"$f":"SUM(P7:P14)","v":0.99999999999999989},{"$f":"-SUM(Q7:Q14)","v":1.9182958340544891},null,null,null,null,{"$f":"SUM(V7:V14)","v":1},{"$f":"-SUM(W7:W14)","v":0},null,null,null,{"$f":"SUM(AA7:AA14)","v":1},{"$f":"-SUM(AB7:AB14)","v":0},null,null,null,{"$f":"SUM(AF7:AF14)","v":1},{"$f":"-SUM(AG7:AG14)","v":0},null,null,null,{"$f":"SUM(AK7:AK14)","v":1},{"$f":"-SUM(AL7:AL14)","v":0},null,null,null,{"$f":"SUM(AP7:AP14)","v":1},{"$f":"-SUM(AQ7:AQ14)","v":0},null,null,null,{"$f":"SUM(AU7:AU14)","v":1},{"$f":"-SUM(AV7:AV14)","v":0}]
[null,null,null,null,null,null,null,null,null,null,null,null,null,null,null,"U=",{"$f":"Q15/(LOG(Q4)/LOG(2))","v":0.74209812851030543},null,null,null,null,"U1=",{"$f":"W15/(LOG(W4)/LOG(2))","v":{"$error":"#DIV/0!"}},null,null,null,"U2=",{"$f":"AB15/(LOG(AB4)/LOG(2))","v":{"$error":"#DIV/0!"}},null,null,null,"U3=",{"$f":"AG15/(LOG(AG4)/LOG(2))","v":{"$error":"#DIV/0!"}},null,null,null,"U4=",{"$f":"AL15/(LOG(AL4)/LOG(2))","v":{"$error":"#DIV/0!"}},null,null,null,"U5=",{"$f":"AQ15/(LOG(AQ4)/LOG(2))","v":{"$error":"#DIV/0!"}},null,null,null,"U6=",{"$f":"AV15/(LOG(AV4)/LOG(2))","v":{"$error":"#DIV/0!"}}]
[]
[]
[null,null,null,null,null,null,null,null,null,null,null,null,null,"Total Target Seq"]
[null,null,null,null,null,null,null,null,null,null,null,null,null,{"$f":"COUNTIF(L7:L12,G3)","v":0},null,1,1,1,1,1,1]
[null,null,null,null,null,null,null,null,null,null,null,null,null,null,null,"% of reinforcement given in 6 equal intervals based on number of trials "]
[null,null,null,null,null,null,null,null,null,null,null,null,null,null,null,"%_1","%_2","%_3","%_4","%_5","%_6"]
[null,null,null,null,null,null,null,null,null,null,null,null,null,null,"target sequence",{"$f":"$G$3","v":112},{"$f":"$G$3","v":112},{"$f":"$G$3","v":112},{"$f":"$G$3","v":112},{"$f":"$G$3","v":112},{"$f":"$G$3","v":112}]
[null,null,null,null,null,null,null,null,null,null,null,null,null,null,"total reinforcement",{"$f":"U8","v":0},{"$f":"Z8","v":0},{"$f":"AE8","v":0},{"$f":"AJ8","v":0},{"$f":"AO8","v":0},{"$f":"AT8","v":0}]
[null,null,null,null,null,null,null,null,null,null,null,null,null,null,"% target"]
[null,null,null,null,null,null,null,null,null,null,null,null,null,null,"CCRF"]
[null,null,null,null,null,null,null,null,null,null,null,null,null,null,"% CCRf"]
[null,null,null,null,null,null,null,null,null,null,null,null,null,null,"average response rate",{"$f":"F7/P20","v":85},{"$f":"(F8-F7)/Q20","v":538},{"$f":"(F9-F8)/R20","v":8836},{"$f":"(F10-F9)/S20","v":114},{"$f":"(F11-F10)/T20","v":904},{"$f":"(F12-F11)/U20","v":2028}]

{"sheet":"!N41585B.AXT","index":7,"n_rows":32,"n_cols":48,"rows_kept":32,"cut":false,"hidden":false,"merged":[[4,39,4,42],[5,39,5,40],[4,44,4,47],[5,44,5,45],[4,24,4,27],[5,24,5,25],[4,29,4,32],[5,29,5,30],[4,34,4,37],[5,34,5,35],[1,1,1,2],[5,13,5,14],[18,13,18,14],[19,13,19,14],[4,19,4,22],[5,19,5,20]]}
["Report for:!N41585B.AXT"]
["Date:","<date>"]
["Hen:","<hen>",null,null,null,"Correct Sequence",{"$f":"Start!J2","v":112},null,null,null,null,null,null,null,null,"Total Sequences in Data",{"$f":"4994-COUNTBLANK(L7:L5000)","v":26},null,null,null,null,"Total Sequences in Block Data",{"$f":"COUNTA(L7:L10)","v":4},null,null,null,"Total Sequences in Block Data",{"$f":"COUNTA(L11:L15)","v":5},null,null,null,"Total Sequences in Block Data",{"$f":"COUNTA(L16:L19)","v":4},null,null,null,"Total Sequences in Block Data",{"$f":"COUNTA(L20:L23)","v":4},null,null,null,"Total Sequences in Block Data",{"$f":"COUNTA(L24:L28)","v":5},null,null,null,"Total Sequences in Block Data",{"$f":"COUNTA(L29:L32)","v":4}]
[null,null,null,null,null,null,null,null,null,null,null,null,null,null,null,"Total Sequences in Summary",{"$f":"SUM(O7:O14)","v":26},null,null,null,null,"Total Sequences in Block Summary",{"$f":"SUM(U7:U14)","v":4},null,null,null,"Total Sequences in Block Summary",{"$f":"SUM(Z7:Z14)","v":5},null,null,null,"Total Sequences in Block Summary",{"$f":"SUM(AE7:AE14)","v":4},null,null,null,"Total Sequences in Block Summary",{"$f":"SUM(AJ7:AJ14)","v":4},null,null,null,"Total Sequences in Block Summary",{"$f":"SUM(AO7:AO14)","v":5},null,null,null,"Total Sequences in Block Summary",{"$f":"SUM(AT7:AT14)","v":4}]
[null,null,null,null,null,null,null,null,null,null,null,null,null,null,null,null,null,null,null,"Block 1",null,null,null,null,"Block 2",null,null,null,null,"Block 3",null,null,null,null,"Block 4",null,null,null,null,"Block 5",null,null,null,null,"Block 6"]
["Sequence\nComponent\n1","Time\n1","Sequence\nComponent\n2","Time\n2","Sequence\nComponent\n3","Time\n3","Sequence\nComponent\n4","Time\n4","Sequence\nComponent\n5","Time\n5","Correct?\n0=No 1=Yes","Sequence",null,"Frequency",null,"Relative Frequency","Variability",null,null,"Frequency",null,"Relative Frequency","Variability",null,"Frequency",null,"Relative Frequency","Variability",null,"Frequency",null,"Relative Frequency","Variability",null,"Frequency",null,"Relative Frequency","Variability",null,"Frequency",null,"Relative Frequency","Variability",null,"Frequency",null,"Relative Frequency","Variability"]
[11,949,11,966,21,973,null,null,null,null,0,112,null,111,{"$f":"COUNTIF($L$7:$L$500,N7)","v":1},{"$f":"O7/$Q$4","v":3.8461538461538464E-2},{"$f":"IF(P7=0,0,(P7*((LOG(P7))/LOG(2))))","v":-0.18078614300542661},null,null,{"$f":"N7","v":111},{"$f":"COUNTIF(L7:L10,T7)","v":0},{"$f":"U7/(W4-U8)","v":0},{"$f":"IF(V7=0,0,(V7*((LOG(V7))/LOG(2))))","v":0},null,{"$f":"N7","v":111},{"$f":"COUNTIF(L11:L15,Y7)","v":0},{"$f":"Z7/(AB4-Z8)","v":0},{"$f":"IF(AA7=0,0,(AA7*((LOG(AA7))/LOG(2))))","v":0},null,{"$f":"N7","v":111},{"$f":"COUNTIF(L16:L19,AD7)","v":0},{"$f":"AE7/(AG4-AE8)","v":0},{"$f":"IF(AF7=0,0,(AF7*((LOG(AF7))/LOG(2))))","v":0},null,{"$f":"N7","v":111},{"$f":"COUNTIF(L20:L23,AI7)","v":0},{"$f":"AJ7/(AL4-AJ8)","v":0},{"$f":"IF(AK7=0,0,(AK7*((LOG(AK7))/LOG(2))))","v":0},null,{"$f":"N7","v":111},{"$f":"COUNTIF(L24:L28,AN7)","v":0},{"$f":"AO7/(AQ4-AO8)","v":0},{"$f":"IF(AP7=0,0,(AP7*((LOG(AP7))/LOG(2))))","v":0},null,{"$f":"N7","v":111},{"$f":"COUNTIF(L29:L32,AS7)","v":1},{"$f":"AT7/(AV4-AT8)","v":0.25},{"$f":"IF(AU7=0,0,(AU7*((LOG(AU7))/LOG(2))))","v":-0.5}]
[22,1277,24,1292,23,1296,null,null,null,null,0,222,null,112,{"$f":"COUNTIF($L$7:$L$500,N8)","v":6},{"$f":"O8/$Q$4","v":0.23076923076923078},{"$f":"IF(P8=0,0,(P8*((LOG(P8))/LOG(2))))","v":-0.48818705017383146},null,null,{"$f":"N8","v":112},{"$f":"COUNTIF(L7:L10,T8)","v":2},null,null,null,{"$f":"N8","v":112},{"$f":"COUNTIF(L11:L15,Y8)","v":0},null,null,null,{"$f":"N8","v":112},{"$f":"COUNTIF(L16:L19,AD8)","v":1},null,null,null,{"$f":"N8","v":112},{"$f":"COUNTIF(L20:L23,AI8)","v":1},null,null,null,{"$f":"N8","v":112},{"$f":"COUNTIF(L24:L28,AN8)","v":2},null,null,null,{"$f":"N8","v":112},{"$f":"COUNTIF(L29:L32,AS8)","v":0}]
[11,1396,11,1409,21,1423,null,null,null,null,0,112,null,121,{"$f":"COUNTIF($L$7:$L$500,N9)","v":5},{"$f":"O9/$Q$4","v":0.19230769230769232},{"$f":"IF(P9=0,0,(P9*((LOG(P9))/LOG(2))))","v":-0.45740608139494804},null,null,{"$f":"N9","v":121},{"$f":"COUNTIF(L7:L10,T9)","v":1},{"$f":"U9/(W4-U8)","v":0.5},{"$f":"IF(V9=0,0,(V9*((LOG(V9))/LOG(2))))","v":-0.5},null,{"$f":"N9","v":121},{"$f":"COUNTIF(L11:L15,Y9)","v":0},{"$f":"Z9/(AB4-Z8)","v":0},{"$f":"IF(AA9=0,0,(AA9*((LOG(AA9))/LOG(2))))","v":0},null,{"$f":"N9","v":121},{"$f":"COUNTIF(L16:L19,AD9)","v":0},{"$f":"AE9/(AG4-AE8)","v":0},{"$f":"IF(AF9=0,0,(AF9*((LOG(AF9))/LOG(2))))","v":0},null,{"$f":"N9","v":121},{"$f":"COUNTIF(L20:L23,AI9)","v":1},{"$f":"AJ9/(AL4-AJ8)","v":0.33333333333333331},{"$f":"IF(AK9=0,0,(AK9*((LOG(AK9))/LOG(2))))","v":-0.52832083357371862},null,{"$f":"N9","v":121},{"$f":"COUNTIF(L24:L28,AN9)","v":2},{"$f":"AO9/(AQ4-AO8)","v":0.66666666666666663},{"$f":"IF(AP9=0,0,(AP9*((LOG(AP9))/LOG(2))))","v":-0.38997500048077083},null,{"$f":"N9","v":121},{"$f":"COUNTIF(L29:L32,AS9)","v":1},{"$f":"AT9/(AV4-AT8)","v":0.25},{"$f":"IF(AU9=0,0,(AU9*((LOG(AU9))/LOG(2))))","v":-0.5}]
[11,2436,22,2449,14,2451,null,null,null,null,0,121,null,122,{"$f":"COUNTIF($L$7:$L$500,N10)","v":0},{"$f":"O10/$Q$4","v":0},{"$f":"IF(P10=0,0,(P10*((LOG(P10))/LOG(2))))","v":0},null,null,{"$f":"N10","v":122},{"$f":"COUNTIF(L7:L10,T10)","v":0},{"$f":"U10/(W4-U8)","v":0},{"$f":"IF(V10=0,0,(V10*((LOG(V10))/LOG(2))))","v":0},null,{"$f":"N10","v":122},{"$f":"COUNTIF(L11:L15,Y10)","v":0},{"$f":"Z10/(AB4-Z8)","v":0},{"$f":"IF(AA10=0,0,(AA10*((LOG(AA10))/LOG(2))))","v":0},null,{"$f":"N10","v":122},{"$f":"COUNTIF(L16:L19,AD10)","v":0},{"$f":"AE10/(AG4-AE8)","v":0},{"$f":"IF(AF10=0,0,(AF10*((LOG(AF10))/LOG(2))))","v":0},null,{"$f":"N10","v":122},{"$f":"COUNTIF(L20:L23,AI10)","v":0},{"$f":"AJ10/(AL4-AJ8)","v":0},{"$f":"IF(AK10=0,0,(AK10*((LOG(AK10))/LOG(2))))","v":0},null,{"$f":"N10","v":122},{"$f":"COUNTIF(L24:L28,AN10)","v":0},{"$f":"AO10/(AQ4-AO8)","v":0},{"$f":"IF(AP10=0,0,(AP10*((LOG(AP10))/LOG(2))))","v":0},null,{"$f":"N10","v":122},{"$f":"COUNTIF(L29:L32,AS10)","v":0},{"$f":"AT10/(AV4-AT8)","v":0},{"$f":"IF(AU10=0,0,(AU10*((LOG(AU10))/LOG(2))))","v":0}]
[22,2552,24,2562,14,2577,null,null,null,null,0,221,null,211,{"$f":"COUNTIF($L$7:$L$500,N11)","v":3},{"$f":"O11/$Q$4","v":0.11538461538461539},{"$f":"IF(P11=0,0,(P11*((LOG(P11))/LOG(2))))","v":-0.35947814047153104},null,null,{"$f":"N11","v":211},{"$f":"COUNTIF(L7:L10,T11)","v":0},{"$f":"U11/(W4-U8)","v":0},{"$f":"IF(V11=0,0,(V11*((LOG(V11))/LOG(2))))","v":0},null,{"$f":"N11","v":211},{"$f":"COUNTIF(L11:L15,Y11)","v":1},{"$f":"Z11/(AB4-Z8)","v":0.2},{"$f":"IF(AA11=0,0,(AA11*((LOG(AA11))/LOG(2))))","v":-0.46438561897747244},null,{"$f":"N11","v":211},{"$f":"COUNTIF(L16:L19,AD11)","v":0},{"$f":"AE11/(AG4-AE8)","v":0},{"$f":"IF(AF11=0,0,(AF11*((LOG(AF11))/LOG(2))))","v":0},null,{"$f":"N11","v":211},{"$f":"COUNTIF(L20:L23,AI11)","v":1},{"$f":"AJ11/(AL4-AJ8)","v":0.33333333333333331},{"$f":"IF(AK11=0,0,(AK11*((LOG(AK11))/LOG(2))))","v":-0.52832083357371862},null,{"$f":"N11","v":211},{"$f":"COUNTIF(L24:L28,AN11)","v":0},{"$f":"AO11/(AQ4-AO8)","v":0},{"$f":"IF(AP11=0,0,(AP11*((LOG(AP11))/LOG(2))))","v":0},null,{"$f":"N11","v":211},{"$f":"COUNTIF(L29:L32,AS11)","v":1},{"$f":"AT11/(AV4-AT8)","v":0.25},{"$f":"IF(AU11=0,0,(AU11*((LOG(AU11))/LOG(2))))","v":-0.5}]
[22,2687,24,2690,23,2721,null,null,null,null,0,222,null,212,{"$f":"COUNTIF($L$7:$L$500,N12)","v":1},{"$f":"O12/$Q$4","v":3.8461538461538464E-2},{"$f":"IF(P12=0,0,(P12*((LOG(P12))/LOG(2))))","v":-0.18078614300542661},null,null,{"$f":"N12","v":212},{"$f":"COUNTIF(L7:L10,T12)","v":0},{"$f":"U12/(W4-U8)","v":0},{"$f":"IF(V12=0,0,(V12*((LOG(V12))/LOG(2))))","v":0},null,{"$f":"N12","v":212},{"$f":"COUNTIF(L11:L15,Y12)","v":0},{"$f":"Z12/(AB4-Z8)","v":0},{"$f":"IF(AA12=0,0,(AA12*((LOG(AA12))/LOG(2))))","v":0},null,{"$f":"N12","v":212},{"$f":"COUNTIF(L16:L19,AD12)","v":0},{"$f":"AE12/(AG4-AE8)","v":0},{"$f":"IF(AF12=0,0,(AF12*((LOG(AF12))/LOG(2))))","v":0},null,{"$f":"N12","v":212},{"$f":"COUNTIF(L20:L23,AI12)","v":0},{"$f":"AJ12/(AL4-AJ8)","v":0},{"$f":"IF(AK12=0,0,(AK12*((LOG(AK12))/LOG(2))))","v":0},null,{"$f":"N12","v":212},{"$f":"COUNTIF(L24:L28,AN12)","v":0},{"$f":"AO12/(AQ4-AO8)","v":0},{"$f":"IF(AP12=0,0,(AP12*((LOG(AP12))/LOG(2))))","v":0},null,{"$f":"N12","v":212},{"$f":"COUNTIF(L29:L32,AS12)","v":1},{"$f":"AT12/(AV4-AT8)","v":0.25},{"$f":"IF(AU12=0,0,(AU12*((LOG(AU12))/LOG(2))))","v":-0.5}]
[22,2966,24,2973,23,2977,null,null,null,null,0,222,null,221,{"$f":"COUNTIF($L$7:$L$500,N13)","v":2},{"$f":"O13/$Q$4","v":7.6923076923076927E-2},{"$f":"IF(P13=0,0,(P13*((LOG(P13))/LOG(2))))","v":-0.28464920908777636},null,null,{"$f":"N13","v":221},{"$f":"COUNTIF(L7:L10,T13)","v":0},{"$f":"U13/(W4-U8)","v":0},{"$f":"IF(V13=0,0,(V13*((LOG(V13))/LOG(2))))","v":0},null,{"$f":"N13","v":221},{"$f":"COUNTIF(L11:L15,Y13)","v":1},{"$f":"Z13/(AB4-Z8)","v":0.2},{"$f":"IF(AA13=0,0,(AA13*((LOG(AA13))/LOG(2))))","v":-0.46438561897747244},null,{"$f":"N13","v":221},{"$f":"COUNTIF(L16:L19,AD13)","v":0},{"$f":"AE13/(AG4-AE8)","v":0},{"$f":"IF(AF13=0,0,(AF13*((LOG(AF13))/LOG(2))))","v":0},null,{"$f":"N13","v":221},{"$f":"COUNTIF(L20:L23,AI13)","v":1},{"$f":"AJ13/(AL4-AJ8)","v":0.33333333333333331},{"$f":"IF(AK13=0,0,(AK13*((LOG(AK13))/LOG(2))))","v":-0.52832083357371862},null,{"$f":"N13","v":221},{"$f":"COUNTIF(L24:L28,AN13)","v":0},{"$f":"AO13/(AQ4-AO8)","v":0},{"$f":"IF(AP13=0,0,(AP13*((LOG(AP13))/LOG(2))))","v":0},null,{"$f":"N13","v":221},{"$f":"COUNTIF(L29:L32,AS13)","v":0},{"$f":"AT13/(AV4-AT8)","v":0},{"$f":"IF(AU13=0,0,(AU13*((LOG(AU13))/LOG(2))))","v":0}]
[22,3123,24,3129,23,3132,null,null,null,null,0,222,null,222,{"$f":"COUNTIF($L$7:$L$500,N14)","v":8},{"$f":"O14/$Q$4","v":0.30769230769230771},{"$f":"IF(P14=0,0,(P14*((LOG(P14))/LOG(2))))","v":-0.52321222096648989},null,null,{"$f":"N14","v":222},{"$f":"COUNTIF(L7:L10,T14)","v":1},{"$f":"U14/(W4-U8)","v":0.5},{"$f":"IF(V14=0,0,(V14*((LOG(V14))/LOG(2))))","v":-0.5},null,{"$f":"N14","v":222},{"$f":"COUNTIF(L11:L15,Y14)","v":3},{"$f":"Z14/(AB4-Z8)","v":0.6},{"$f":"IF(AA14=0,0,(AA14*((LOG(AA14))/LOG(2))))","v":-0.44217935649972373},null,{"$f":"N14","v":222},{"$f":"COUNTIF(L16:L19,AD14)","v":3},{"$f":"AE14/(AG4-AE8)","v":1},{"$f":"IF(AF14=0,0,(AF14*((LOG(AF14))/LOG(2))))","v":0},null,{"$f":"N14","v":222},{"$f":"COUNTIF(L20:L23,AI14)","v":0},{"$f":"AJ14/(AL4-AJ8)","v":0},{"$f":"IF(AK14=0,0,(AK14*((LOG(AK14))/LOG(2))))","v":0},null,{"$f":"N14","v":222},{"$f":"COUNTIF(L24:L28,AN14)","v":1},{"$f":"AO14/(AQ4-AO8)","v":0.33333333333333331},{"$f":"IF(AP14=0,0,(AP14*((LOG(AP14))/LOG(2))))","v":-0.52832083357371862},null,{"$f":"N14","v":222},{"$f":"COUNTIF(L29:L32,AS14)","v":0},{"$f":"AT14/(AV4-AT8)","v":0},{"$f":"IF(AU14=0,0,(AU14*((LOG(AU14))/LOG(2))))","v":0}]
[22,3233,13,3251,14,3266,null,null,null,null,0,211,null,null,null,{"$f":"SUM(P7:P14)","v":1},{"$f":"-SUM(Q7:Q14)","v":2.47450498810543},null,null,null,null,{"$f":"SUM(V7:V14)","v":1},{"$f":"-SUM(W7:W14)","v":1},null,null,null,{"$f":"SUM(AA7:AA14)","v":1},{"$f":"-SUM(AB7:AB14)","v":1.3709505944546687},null,null,null,{"$f":"SUM(AF7:AF14)","v":1},{"$f":"-SUM(AG7:AG14)","v":0},null,null,null,{"$f":"SUM(AK7:AK14)","v":1},{"$f":"-SUM(AL7:AL14)","v":1.5849625007211559},null,null,null,{"$f":"SUM(AP7:AP14)","v":1},{"$f":"-SUM(AQ7:AQ14)","v":0.91829583405448945},null,null,null,{"$f":"SUM(AU7:AU14)","v":1},{"$f":"-SUM(AV7:AV14)","v":2}]
[22,3613,24,3616,23,3621,null,null,null,null,0,222,null,null,null,"U=",{"$f":"Q15/(LOG(Q4)/LOG(2))","v":0.52644117071754215},null,null,null,null,"U1=",{"$f":"W15/(LOG(W4)/LOG(2))","v":0.5},null,null,null,"U2=",{"$f":"AB15/(LOG(AB4)/LOG(2))","v":0.5904362833084088},null,null,null,"U3=",{"$f":"AG15/(LOG(AG4)/LOG(2))","v":0},null,null,null,"U4=",{"$f":"AL15/(LOG(AL4)/LOG(2))","v":0.79248125036057793},null,null,null,"U5=",{"$f":"AQ15/(LOG(AQ4)/LOG(2))","v":0.3954884891037232},null,null,null,"U6=",{"$f":"AV15/(LOG(AV4)/LOG(2))","v":1}]
[11,3720,11,3727,21,3734,null,null,null,null,0,112]
[22,4346,24,4353,23,4356,null,null,null,null,0,222]
[22,4452,24,4456,23,4460,null,null,null,null,0,222,null,"Total Target Seq"]
[11,4571,22,4597,14,4599,null,null,null,null,0,121,null,{"$f":"COUNTIF(L7:L32,G3)","v":6},null,4,5,4,4,5,4]
[11,4711,11,4715,21,4723,null,null,null,null,0,112,null,null,null,"% of reinforcement given in 6 equal intervals based on number of trials "]
[22,5737,24,5740,14,5750,null,null,null,null,0,221,null,null,null,"%_1","%_2","%_3","%_4","%_5","%_6"]
[22,5878,13,5893,14,5899,null,null,null,null,0,211,null,null,"target sequence",{"$f":"$G$3","v":112},{"$f":"$G$3","v":112},{"$f":"$G$3","v":112},{"$f":"$G$3","v":112},{"$f":"$G$3","v":112},{"$f":"$G$3","v":112}]
[11,5999,22,6004,14,6018,null,null,null,null,0,121,null,null,"total reinforcement",{"$f":"U8","v":2},{"$f":"Z8","v":0},{"$f":"AE8","v":1},{"$f":"AJ8","v":1},{"$f":"AO8","v":2},{"$f":"AT8","v":0}]
[11,6117,11,6141,21,6144,null,null,null,null,0,112,null,null,"% target"]
[22,7039,24,7047,23,7051,null,null,null,null,0,222,null,null,"CCRF"]
[11,7165,22,7174,14,7177,null,null,null,null,0,121,null,null,"% CCRf"]
[11,7366,11,7382,21,7398,null,null,null,null,0,112,null,null,"average response rate",{"$f":"F10/P20","v":612.75},{"$f":"(F15-F10)/Q20","v":163},{"$f":"(F19-F15)/R20","v":298.5},{"$f":"(F23-F19)/S20","v":359.75},{"$f":"(F28-F23)/T20","v":299.8},{"$f":"(F32-F28)/U20","v":4133}]
[11,7709,22,7721,14,7734,null,null,null,null,0,121]
[22,7955,13,7968,23,7986,null,null,null,null,0,212]
[22,8091,13,8109,14,8111,null,null,null,null,0,211]
[11,23897,11,23915,12,23930,null,null,null,null,null,111]

{"sheet":"!N41684B.AXT","index":8,"n_rows":28,"n_cols":48,"rows_kept":28,"cut":false,"hidden":false,"merged":[[4,39,4,42],[5,39,5,40],[4,44,4,47],[5,44,5,45],[4,24,4,27],[5,24,5,25],[4,29,4,32],[5,29,5,30],[4,34,4,37],[5,34,5,35],[1,1,1,2],[5,13,5,14],[18,13,18,14],[19,13,19,14],[4,19,4,22],[5,19,5,20]]}
["Report for:!N41684B.AXT"]
["Date:","<date>"]
["Hen:","<hen>",null,null,null,"Correct Sequence",{"$f":"Start!J2","v":112},null,null,null,null,null,null,null,null,"Total Sequences in Data",{"$f":"4994-COUNTBLANK(L7:L5000)","v":11},null,null,null,null,"Total Sequences in Block Data",{"$f":"COUNTA(L7:L8)","v":2},null,null,null,"Total Sequences in Block Data",{"$f":"COUNTA(L9:L10)","v":2},null,null,null,"Total Sequences in Block Data",{"$f":"COUNTA(L11:L11)","v":1},null,null,null,"Total Sequences in Block Data",{"$f":"COUNTA(L12:L13)","v":2},null,null,null,"Total Sequences in Block Data",{"$f":"COUNTA(L14:L15)","v":2},null,null,null,"Total Sequences in Block Data",{"$f":"COUNTA(L16:L17)","v":2}]
[null,null,null,null,null,null,null,null,null,null,null,null,null,null,null,"Total Sequences in Summary",{"$f":"SUM(O7:O14)","v":11},null,null,null,null,"Total Sequences in Block Summary",{"$f":"SUM(U7:U14)","v":2},null,null,null,"Total Sequences in Block Summary",{"$f":"SUM(Z7:Z14)","v":2},null,null,null,"Total Sequences in Block Summary",{"$f":"SUM(AE7:AE14)","v":1},null,null,null,"Total Sequences in Block Summary",{"$f":"SUM(AJ7:AJ14)","v":2},null,null,null,"Total Sequences in Block Summary",{"$f":"SUM(AO7:AO14)","v":2},null,null,null,"Total Sequences in Block Summary",{"$f":"SUM(AT7:AT14)","v":2}]
[null,null,null,null,null,null,null,null,null,null,null,null,null,null,null,null,null,null,null,"Block 1",null,null,null,null,"Block 2",null,null,null,null,"Block 3",null,null,null,null,"Block 4",null,null,null,null,"Block 5",null,null,null,null,"Block 6"]
["Sequence\nComponent\n1","Time\n1","Sequence\nComponent\n2","Time\n2","Sequence\nComponent\n3","Time\n3","Sequence\nComponent\n4","Time\n4","Sequence\nComponent\n5","Time\n5","Correct?\n0=No 1=Yes","Sequence",null,"Frequency",null,"Relative Frequency","Variability",null,null,"Frequency",null,"Relative Frequency","Variability",null,"Frequency",null,"Relative Frequency","Variability",null,"Frequency",null,"Relative Frequency","Variability",null,"Frequency",null,"Relative Frequency","Variability",null,"Frequency",null,"Relative Frequency","Variability",null,"Frequency",null,"Relative Frequency","Variability"]
[22,715,13,730,23,748,null,null,null,null,0,212,null,111,{"$f":"COUNTIF($L$7:$L$500,N7)","v":4},{"$f":"O7/$Q$4","v":0.36363636363636365},{"$f":"IF(P7=0,0,(P7*((LOG(P7))/LOG(2))))","v":-0.53070240677719893},null,null,{"$f":"N7","v":111},{"$f":"COUNTIF(L7:L8,T7)","v":0},{"$f":"U7/(W4-U8)","v":0},{"$f":"IF(V7=0,0,(V7*((LOG(V7))/LOG(2))))","v":0},null,{"$f":"N7","v":111},{"$f":"COUNTIF(L9:L10,Y7)","v":2},{"$f":"Z7/(AB4-Z8)","v":1},{"$f":"IF(AA7=0,0,(AA7*((LOG(AA7))/LOG(2))))","v":0},null,{"$f":"N7","v":111},{"$f":"COUNTIF(L11:L11,AD7)","v":0},{"$f":"AE7/(AG4-AE8)","v":0},{"$f":"IF(AF7=0,0,(AF7*((LOG(AF7))/LOG(2))))","v":0},null,{"$f":"N7","v":111},{"$f":"COUNTIF(L12:L13,AI7)","v":1},{"$f":"AJ7/(AL4-AJ8)","v":0.5},{"$f":"IF(AK7=0,0,(AK7*((LOG(AK7))/LOG(2))))","v":-0.5},null,{"$f":"N7","v":111},{"$f":"COUNTIF(L14:L15,AN7)","v":0},{"$f":"AO7/(AQ4-AO8)","v":0},{"$f":"IF(AP7=0,0,(AP7*((LOG(AP7))/LOG(2))))","v":0},null,{"$f":"N7","v":111},{"$f":"COUNTIF(L16:L17,AS7)","v":1},{"$f":"AT7/(AV4-AT8)","v":0.5},{"$f":"IF(AU7=0,0,(AU7*((LOG(AU7))/LOG(2))))","v":-0.5}]
[22,851,13,863,23,875,null,null,null,null,0,212,null,112,{"$f":"COUNTIF($L$7:$L$500,N8)","v":0},{"$f":"O8/$Q$4","v":0},{"$f":"IF(P8=0,0,(P8*((LOG(P8))/LOG(2))))","v":0},null,null,{"$f":"N8","v":112},{"$f":"COUNTIF(L7:L8,T8)","v":0},null,null,null,{"$f":"N8","v":112},{"$f":"COUNTIF(L9:L10,Y8)","v":0},null,null,null,{"$f":"N8","v":112},{"$f":"COUNTIF(L11:L11,AD8)","v":0},null,null,null,{"$f":"N8","v":112},{"$f":"COUNTIF(L12:L13,AI8)","v":0},null,null,null,{"$f":"N8","v":112},{"$f":"COUNTIF(L14:L15,AN8)","v":0},null,null,null,{"$f":"N8","v":112},{"$f":"COUNTIF(L16:L17,AS8)","v":0}]
[11,978,11,993,12,1008,null,null,null,null,0,111,null,121,{"$f":"COUNTIF($L$7:$L$500,N9)","v":0},{"$f":"O9/$Q$4","v":0},{"$f":"IF(P9=0,0,(P9*((LOG(P9))/LOG(2))))","v":0},null,null,{"$f":"N9","v":121},{"$f":"COUNTIF(L7:L8,T9)","v":0},{"$f":"U9/(W4-U8)","v":0},{"$f":"IF(V9=0,0,(V9*((LOG(V9))/LOG(2))))","v":0},null,{"$f":"N9","v":121},{"$f":"COUNTIF(L9:L10,Y9)","v":0},{"$f":"Z9/(AB4-Z8)","v":0},{"$f":"IF(AA9=0,0,(AA9*((LOG(AA9))/LOG(2))))","v":0},null,{"$f":"N9","v":121},{"$f":"COUNTIF(L11:L11,AD9)","v":0},{"$f":"AE9/(AG4-AE8)","v":0},{"$f":"IF(AF9=0,0,(AF9*((LOG(AF9))/LOG(2))))","v":0},null,{"$f":"N9","v":121},{"$f":"COUNTIF(L12:L13,AI9)","v":0},{"$f":"AJ9/(AL4-AJ8)","v":0},{"$f":"IF(AK9=0,0,(AK9*((LOG(AK9))/LOG(2))))","v":0},null,{"$f":"N9","v":121},{"$f":"COUNTIF(L14:L15,AN9)","v":0},{"$f":"AO9/(AQ4-AO8)","v":0},{"$f":"IF(AP9=0,0,(AP9*((LOG(AP9))/LOG(2))))","v":0},null,{"$f":"N9","v":121},{"$f":"COUNTIF(L16:L17,AS9)","v":0},{"$f":"AT9/(AV4-AT8)","v":0},{"$f":"IF(AU9=0,0,(AU9*((LOG(AU9))/LOG(2))))","v":0}]
[11,1133,11,1136,12,1151,null,null,null,null,0,111,null,122,{"$f":"COUNTIF($L$7:$L$500,N10)","v":1},{"$f":"O10/$Q$4","v":9.0909090909090912E-2},{"$f":"IF(P10=0,0,(P10*((LOG(P10))/LOG(2))))","v":-0.31449378351248153},null,null,{"$f":"N10","v":122},{"$f":"COUNTIF(L7:L8,T10)","v":0},{"$f":"U10/(W4-U8)","v":0},{"$f":"IF(V10=0,0,(V10*((LOG(V10))/LOG(2))))","v":0},null,{"$f":"N10","v":122},{"$f":"COUNTIF(L9:L10,Y10)","v":0},{"$f":"Z10/(AB4-Z8)","v":0},{"$f":"IF(AA10=0,0,(AA10*((LOG(AA10))/LOG(2))))","v":0},null,{"$f":"N10","v":122},{"$f":"COUNTIF(L11:L11,AD10)","v":1},{"$f":"AE10/(AG4-AE8)","v":1},{"$f":"IF(AF10=0,0,(AF10*((LOG(AF10))/LOG(2))))","v":0},null,{"$f":"N10","v":122},{"$f":"COUNTIF(L12:L13,AI10)","v":0},{"$f":"AJ10/(AL4-AJ8)","v":0},{"$f":"IF(AK10=0,0,(AK10*((LOG(AK10))/LOG(2))))","v":0},null,{"$f":"N10","v":122},{"$f":"COUNTIF(L14:L15,AN10)","v":0},{"$f":"AO10/(AQ4-AO8)","v":0},{"$f":"IF(AP10=0,0,(AP10*((LOG(AP10))/LOG(2))))","v":0},null,{"$f":"N10","v":122},{"$f":"COUNTIF(L16:L17,AS10)","v":0},{"$f":"AT10/(AV4-AT8)","v":0},{"$f":"IF(AU10=0,0,(AU10*((LOG(AU10))/LOG(2))))","v":0}]
[11,1252,22,1254,23,1269,null,null,null,null,0,122,null,211,{"$f":"COUNTIF($L$7:$L$500,N11)","v":1},{"$f":"O11/$Q$4","v":9.0909090909090912E-2},{"$f":"IF(P11=0,0,(P11*((LOG(P11))/LOG(2))))","v":-0.31449378351248153},null,null,{"$f":"N11","v":211},{"$f":"COUNTIF(L7:L8,T11)","v":0},{"$f":"U11/(W4-U8)","v":0},{"$f":"IF(V11=0,0,(V11*((LOG(V11))/LOG(2))))","v":0},null,{"$f":"N11","v":211},{"$f":"COUNTIF(L9:L10,Y11)","v":0},{"$f":"Z11/(AB4-Z8)","v":0},{"$f":"IF(AA11=0,0,(AA11*((LOG(AA11))/LOG(2))))","v":0},null,{"$f":"N11","v":211},{"$f":"COUNTIF(L11:L11,AD11)","v":0},{"$f":"AE11/(AG4-AE8)","v":0},{"$f":"IF(AF11=0,0,(AF11*((LOG(AF11))/LOG(2))))","v":0},null,{"$f":"N11","v":211},{"$f":"COUNTIF(L12:L13,AI11)","v":0},{"$f":"AJ11/(AL4-AJ8)","v":0},{"$f":"IF(AK11=0,0,(AK11*((LOG(AK11))/LOG(2))))","v":0},null,{"$f":"N11","v":211},{"$f":"COUNTIF(L14:L15,AN11)","v":1},{"$f":"AO11/(AQ4-AO8)","v":0.5},{"$f":"IF(AP11=0,0,(AP11*((LOG(AP11))/LOG(2))))","v":-0.5},null,{"$f":"N11","v":211},{"$f":"COUNTIF(L16:L17,AS11)","v":0},{"$f":"AT11/(AV4-AT8)","v":0},{"$f":"IF(AU11=0,0,(AU11*((LOG(AU11))/LOG(2))))","v":0}]
[22,1440,24,1444,14,1459,null,null,null,null,0,221,null,212,{"$f":"COUNTIF($L$7:$L$500,N12)","v":2},{"$f":"O12/$Q$4","v":0.18181818181818182},{"$f":"IF(P12=0,0,(P12*((LOG(P12))/LOG(2))))","v":-0.44716938520678134},null,null,{"$f":"N12","v":212},{"$f":"COUNTIF(L7:L8,T12)","v":2},{"$f":"U12/(W4-U8)","v":1},{"$f":"IF(V12=0,0,(V12*((LOG(V12))/LOG(2))))","v":0},null,{"$f":"N12","v":212},{"$f":"COUNTIF(L9:L10,Y12)","v":0},{"$f":"Z12/(AB4-Z8)","v":0},{"$f":"IF(AA12=0,0,(AA12*((LOG(AA12))/LOG(2))))","v":0},null,{"$f":"N12","v":212},{"$f":"COUNTIF(L11:L11,AD12)","v":0},{"$f":"AE12/(AG4-AE8)","v":0},{"$f":"IF(AF12=0,0,(AF12*((LOG(AF12))/LOG(2))))","v":0},null,{"$f":"N12","v":212},{"$f":"COUNTIF(L12:L13,AI12)","v":0},{"$f":"AJ12/(AL4-AJ8)","v":0},{"$f":"IF(AK12=0,0,(AK12*((LOG(AK12))/LOG(2))))","v":0},null,{"$f":"N12","v":212},{"$f":"COUNTIF(L14:L15,AN12)","v":0},{"$f":"AO12/(AQ4-AO8)","v":0},{"$f":"IF(AP12=0,0,(AP12*((LOG(AP12))/LOG(2))))","v":0},null,{"$f":"N12","v":212},{"$f":"COUNTIF(L16:L17,AS12)","v":0},{"$f":"AT12/(AV4-AT8)","v":0},{"$f":"IF(AU12=0,0,(AU12*((LOG(AU12))/LOG(2))))","v":0}]
[11,1586,11,1591,12,1596,null,null,null,null,0,111,null,221,{"$f":"COUNTIF($L$7:$L$500,N13)","v":3},{"$f":"O13/$Q$4","v":0.27272727272727271},{"$f":"IF(P13=0,0,(P13*((LOG(P13))/LOG(2))))","v":-0.51121885034076575},null,null,{"$f":"N13","v":221},{"$f":"COUNTIF(L7:L8,T13)","v":0},{"$f":"U13/(W4-U8)","v":0},{"$f":"IF(V13=0,0,(V13*((LOG(V13))/LOG(2))))","v":0},null,{"$f":"N13","v":221},{"$f":"COUNTIF(L9:L10,Y13)","v":0},{"$f":"Z13/(AB4-Z8)","v":0},{"$f":"IF(AA13=0,0,(AA13*((LOG(AA13))/LOG(2))))","v":0},null,{"$f":"N13","v":221},{"$f":"COUNTIF(L11:L11,AD13)","v":0},{"$f":"AE13/(AG4-AE8)","v":0},{"$f":"IF(AF13=0,0,(AF13*((LOG(AF13))/LOG(2))))","v":0},null,{"$f":"N13","v":221},{"$f":"COUNTIF(L12:L13,AI13)","v":1},{"$f":"AJ13/(AL4-AJ8)","v":0.5},{"$f":"IF(AK13=0,0,(AK13*((LOG(AK13))/LOG(2))))","v":-0.5},null,{"$f":"N13","v":221},{"$f":"COUNTIF(L14:L15,AN13)","v":1},{"$f":"AO13/(AQ4-AO8)","v":0.5},{"$f":"IF(AP13=0,0,(AP13*((LOG(AP13))/LOG(2))))","v":-0.5},null,{"$f":"N13","v":221},{"$f":"COUNTIF(L16:L17,AS13)","v":1},{"$f":"AT13/(AV4-AT8)","v":0.5},{"$f":"IF(AU13=0,0,(AU13*((LOG(AU13))/LOG(2))))","v":-0.5}]
[22,2777,13,2796,14,2800,null,null,null,null,0,211,null,222,{"$f":"COUNTIF($L$7:$L$500,N14)","v":0},{"$f":"O14/$Q$4","v":0},{"$f":"IF(P14=0,0,(P14*((LOG(P14))/LOG(2))))","v":0},null,null,{"$f":"N14","v":222},{"$f":"COUNTIF(L7:L8,T14)","v":0},{"$f":"U14/(W4-U8)","v":0},{"$f":"IF(V14=0,0,(V14*((LOG(V14))/LOG(2))))","v":0},null,{"$f":"N14","v":222},{"$f":"COUNTIF(L9:L10,Y14)","v":0},{"$f":"Z14/(AB4-Z8)","v":0},{"$f":"IF(AA14=0,0,(AA14*((LOG(AA14))/LOG(2))))","v":0},null,{"$f":"N14","v":222},{"$f":"COUNTIF(L11:L11,AD14)","v":0},{"$f":"AE14/(AG4-AE8)","v":0},{"$f":"IF(AF14=0,0,(AF14*((LOG(AF14))/LOG(2))))","v":0},null,{"$f":"N14","v":222},{"$f":"COUNTIF(L12:L13,AI14)","v":0},{"$f":"AJ14/(AL4-AJ8)","v":0},{"$f":"IF(AK14=0,0,(AK14*((LOG(AK14))/LOG(2))))","v":0},null,{"$f":"N14","v":222},{"$f":"COUNTIF(L14:L15,AN14)","v":0},{"$f":"AO14/(AQ4-AO8)","v":0},{"$f":"IF(AP14=0,0,(AP14*((LOG(AP14))/LOG(2))))","v":0},null,{"$f":"N14","v":222},{"$f":"COUNTIF(L16:L17,AS14)","v":0},{"$f":"AT14/(AV4-AT8)","v":0},{"$f":"IF(AU14=0,0,(AU14*((LOG(AU14))/LOG(2))))","v":0}]
[22,2984,24,2987,14,3016,null,null,null,null,0,221,null,null,null,{"$f":"SUM(P7:P14)","v":1},{"$f":"-SUM(Q7:Q14)","v":2.1180782093497088},null,null,null,null,{"$f":"SUM(V7:V14)","v":1},{"$f":"-SUM(W7:W14)","v":0},null,null,null,{"$f":"SUM(AA7:AA14)","v":1},{"$f":"-SUM(AB7:AB14)","v":0},null,null,null,{"$f":"SUM(AF7:AF14)","v":1},{"$f":"-SUM(AG7:AG14)","v":0},null,null,null,{"$f":"SUM(AK7:AK14)","v":1},{"$f":"-SUM(AL7:AL14)","v":1},null,null,null,{"$f":"SUM(AP7:AP14)","v":1},{"$f":"-SUM(AQ7:AQ14)","v":1},null,null,null,{"$f":"SUM(AU7:AU14)","v":1},{"$f":"-SUM(AV7:AV14)","v":1}]
[22,3123,24,3131,14,3141,null,null,null,null,0,221,null,null,null,"U=",{"$f":"Q15/(LOG(Q4)/LOG(2))","v":0.61226190971337646},null,null,null,null,"U1=",{"$f":"W15/(LOG(W4)/LOG(2))","v":0},null,null,null,"U2=",{"$f":"AB15/(LOG(AB4)/LOG(2))","v":0},null,null,null,"U3=",{"$f":"AG15/(LOG(AG4)/LOG(2))","v":{"$error":"#DIV/0!"}},null,null,null,"U4=",{"$f":"AL15/(LOG(AL4)/LOG(2))","v":1},null,null,null,"U5=",{"$f":"AQ15/(LOG(AQ4)/LOG(2))","v":1},null,null,null,"U6=",{"$f":"AV15/(LOG(AV4)/LOG(2))","v":1}]
[11,10168,11,10181,12,10193,null,null,null,null,0,111]
[]
[null,null,null,null,null,null,null,null,null,null,null,null,null,"Total Target Seq"]
[null,null,null,null,null,null,null,null,null,null,null,null,null,{"$f":"COUNTIF(L7:L17,G3)","v":0},null,2,2,1,2,2,2]
[null,null,null,null,null,null,null,null,null,null,null,null,null,null,null,"% of reinforcement given in 6 equal intervals based on number of trials "]
[null,null,null,null,null,null,null,null,null,null,null,null,null,null,null,"%_1","%_2","%_3","%_4","%_5","%_6"]
[null,null,null,null,null,null,null,null,null,null,null,null,null,null,"target sequence",{"$f":"$G$3","v":112},{"$f":"$G$3","v":112},{"$f":"$G$3","v":112},{"$f":"$G$3","v":112},{"$f":"$G$3","v":112},{"$f":"$G$3","v":112}]
[null,null,null,null,null,null,null,null,null,null,null,null,null,null,"total reinforcement",{"$f":"U8","v":0},{"$f":"Z8","v":0},{"$f":"AE8","v":0},{"$f":"AJ8","v":0},{"$f":"AO8","v":0},{"$f":"AT8","v":0}]
[null,null,null,null,null,null,null,null,null,null,null,null,null,null,"% target"]
[null,null,null,null,null,null,null,null,null,null,null,null,null,null,"CCRF"]
[null,null,null,null,null,null,null,null,null,null,null,null,null,null,"% CCRf"]
[null,null,null,null,null,null,null,null,null,null,null,null,null,null,"average response rate",{"$f":"F8/P20","v":437.5},{"$f":"(F10-F8)/Q20","v":138},{"$f":"(F11-F10)/R20","v":118},{"$f":"(F13-F11)/S20","v":163.5},{"$f":"(F15-F13)/T20","v":710},{"$f":"(F17-F15)/U20","v":3588.5}]

{"sheet":"!N417A3B.AXT","index":9,"n_rows":28,"n_cols":48,"rows_kept":28,"cut":false,"hidden":false,"merged":[[4,39,4,42],[5,39,5,40],[4,44,4,47],[5,44,5,45],[4,24,4,27],[5,24,5,25],[4,29,4,32],[5,29,5,30],[4,34,4,37],[5,34,5,35],[1,1,1,2],[5,13,5,14],[18,13,18,14],[19,13,19,14],[4,19,4,22],[5,19,5,20]]}
["Report for:!N417A3B.AXT"]
["Date:","<date>"]
["Hen:","<hen>",null,null,null,"Correct Sequence",{"$f":"Start!J2","v":112},null,null,null,null,null,null,null,null,"Total Sequences in Data",{"$f":"4994-COUNTBLANK(L7:L5000)","v":3},null,null,null,null,"Total Sequences in Block Data",{"$f":"COUNTA(L7:L7)","v":1},null,null,null,"Total Sequences in Block Data",{"$f":"COUNTA(L7:L8)","v":2},null,null,null,"Total Sequences in Block Data",{"$f":"COUNTA(L8:L8)","v":1},null,null,null,"Total Sequences in Block Data",{"$f":"COUNTA(L8:L9)","v":2},null,null,null,"Total Sequences in Block Data",{"$f":"COUNTA(L9:L9)","v":1},null,null,null,"Total Sequences in Block Data",{"$f":"COUNTA(L9:L10)","v":1}]
[null,null,null,null,null,null,null,null,null,null,null,null,null,null,null,"Total Sequences in Summary",{"$f":"SUM(O7:O14)","v":3},null,null,null,null,"Total Sequences in Block Summary",{"$f":"SUM(U7:U14)","v":1},null,null,null,"Total Sequences in Block Summary",{"$f":"SUM(Z7:Z14)","v":2},null,null,null,"Total Sequences in Block Summary",{"$f":"SUM(AE7:AE14)","v":1},null,null,null,"Total Sequences in Block Summary",{"$f":"SUM(AJ7:AJ14)","v":2},null,null,null,"Total Sequences in Block Summary",{"$f":"SUM(AO7:AO14)","v":1},null,null,null,"Total Sequences in Block Summary",{"$f":"SUM(AT7:AT14)","v":1}]
[null,null,null,null,null,null,null,null,null,null,null,null,null,null,null,null,null,null,null,"Block 1",null,null,null,null,"Block 2",null,null,null,null,"Block 3",null,null,null,null,"Block 4",null,null,null,null,"Block 5",null,null,null,null,"Block 6"]
["Sequence\nComponent\n1","Time\n1","Sequence\nComponent\n2","Time\n2","Sequence\nComponent\n3","Time\n3","Sequence\nComponent\n4","Time\n4","Sequence\nComponent\n5","Time\n5","Correct?\n0=No 1=Yes","Sequence",null,"Frequency",null,"Relative Frequency","Variability",null,null,"Frequency",null,"Relative Frequency","Variability",null,"Frequency",null,"Relative Frequency","Variability",null,"Frequency",null,"Relative Frequency","Variability",null,"Frequency",null,"Relative Frequency","Variability",null,"Frequency",null,"Relative Frequency","Variability",null,"Frequency",null,"Relative Frequency","Variability"]
[11,2400,22,2427,23,2430,null,null,null,null,0,122,null,111,{"$f":"COUNTIF($L$7:$L$500,N7)","v":2},{"$f":"O7/$Q$4","v":0.66666666666666663},{"$f":"IF(P7=0,0,(P7*((LOG(P7))/LOG(2))))","v":-0.38997500048077083},null,null,{"$f":"N7","v":111},{"$f":"COUNTIF(L7:L7,T7)","v":0},{"$f":"U7/(W4-U8)","v":0},{"$f":"IF(V7=0,0,(V7*((LOG(V7))/LOG(2))))","v":0},null,{"$f":"N7","v":111},{"$f":"COUNTIF(L7:L8,Y7)","v":1},{"$f":"Z7/(AB4-Z8)","v":0.5},{"$f":"IF(AA7=0,0,(AA7*((LOG(AA7))/LOG(2))))","v":-0.5},null,{"$f":"N7","v":111},{"$f":"COUNTIF(L8:L8,AD7)","v":1},{"$f":"AE7/(AG4-AE8)","v":1},{"$f":"IF(AF7=0,0,(AF7*((LOG(AF7))/LOG(2))))","v":0},null,{"$f":"N7","v":111},{"$f":"COUNTIF(L8:L9,AI7)","v":2},{"$f":"AJ7/(AL4-AJ8)","v":1},{"$f":"IF(AK7=0,0,(AK7*((LOG(AK7))/LOG(2))))","v":0},null,{"$f":"N7","v":111},{"$f":"COUNTIF(L9:L9,AN7)","v":1},{"$f":"AO7/(AQ4-AO8)","v":1},{"$f":"IF(AP7=0,0,(AP7*((LOG(AP7))/LOG(2))))","v":0},null,{"$f":"N7","v":111},{"$f":"COUNTIF(L9:L10,AS7)","v":1},{"$f":"AT7/(AV4-AT8)","v":1},{"$f":"IF(AU7=0,0,(AU7*((LOG(AU7))/LOG(2))))","v":0}]
[11,2570,11,2574,12,2590,null,null,null,null,0,111,null,112,{"$f":"COUNTIF($L$7:$L$500,N8)","v":0},{"$f":"O8/$Q$4","v":0},{"$f":"IF(P8=0,0,(P8*((LOG(P8))/LOG(2))))","v":0},null,null,{"$f":"N8","v":112},{"$f":"COUNTIF(L7:L7,T8)","v":0},null,null,null,{"$f":"N8","v":112},{"$f":"COUNTIF(L7:L8,Y8)","v":0},null,null,null,{"$f":"N8","v":112},{"$f":"COUNTIF(L8:L8,AD8)","v":0},null,null,null,{"$f":"N8","v":112},{"$f":"COUNTIF(L8:L9,AI8)","v":0},null,null,null,{"$f":"N8","v":112},{"$f":"COUNTIF(L9:L9,AN8)","v":0},null,null,null,{"$f":"N8","v":112},{"$f":"COUNTIF(L9:L10,AS8)","v":0}]
[11,18782,11,18798,12,18806,null,null,null,null,0,111,null,121,{"$f":"COUNTIF($L$7:$L$500,N9)","v":0},{"$f":"O9/$Q$4","v":0},{"$f":"IF(P9=0,0,(P9*((LOG(P9))/LOG(2))))","v":0},null,null,{"$f":"N9","v":121},{"$f":"COUNTIF(L7:L7,T9)","v":0},{"$f":"U9/(W4-U8)","v":0},{"$f":"IF(V9=0,0,(V9*((LOG(V9))/LOG(2))))","v":0},null,{"$f":"N9","v":121},{"$f":"COUNTIF(L7:L8,Y9)","v":0},{"$f":"Z9/(AB4-Z8)","v":0},{"$f":"IF(AA9=0,0,(AA9*((LOG(AA9))/LOG(2))))","v":0},null,{"$f":"N9","v":121},{"$f":"COUNTIF(L8:L8,AD9)","v":0},{"$f":"AE9/(AG4-AE8)","v":0},{"$f":"IF(AF9=0,0,(AF9*((LOG(AF9))/LOG(2))))","v":0},null,{"$f":"N9","v":121},{"$f":"COUNTIF(L8:L9,AI9)","v":0},{"$f":"AJ9/(AL4-AJ8)","v":0},{"$f":"IF(AK9=0,0,(AK9*((LOG(AK9))/LOG(2))))","v":0},null,{"$f":"N9","v":121},{"$f":"COUNTIF(L9:L9,AN9)","v":0},{"$f":"AO9/(AQ4-AO8)","v":0},{"$f":"IF(AP9=0,0,(AP9*((LOG(AP9))/LOG(2))))","v":0},null,{"$f":"N9","v":121},{"$f":"COUNTIF(L9:L10,AS9)","v":0},{"$f":"AT9/(AV4-AT8)","v":0},{"$f":"IF(AU9=0,0,(AU9*((LOG(AU9))/LOG(2))))","v":0}]
[null,null,null,null,null,null,null,null,null,null,null,null,null,122,{"$f":"COUNTIF($L$7:$L$500,N10)","v":1},{"$f":"O10/$Q$4","v":0.33333333333333331},{"$f":"IF(P10=0,0,(P10*((LOG(P10))/LOG(2))))","v":-0.52832083357371862},null,null,{"$f":"N10","v":122},{"$f":"COUNTIF(L7:L7,T10)","v":1},{"$f":"U10/(W4-U8)","v":1},{"$f":"IF(V10=0,0,(V10*((LOG(V10))/LOG(2))))","v":0},null,{"$f":"N10","v":122},{"$f":"COUNTIF(L7:L8,Y10)","v":1},{"$f":"Z10/(AB4-Z8)","v":0.5},{"$f":"IF(AA10=0,0,(AA10*((LOG(AA10))/LOG(2))))","v":-0.5},null,{"$f":"N10","v":122},{"$f":"COUNTIF(L8:L8,AD10)","v":0},{"$f":"AE10/(AG4-AE8)","v":0},{"$f":"IF(AF10=0,0,(AF10*((LOG(AF10))/LOG(2))))","v":0},null,{"$f":"N10","v":122},{"$f":"COUNTIF(L8:L9,AI10)","v":0},{"$f":"AJ10/(AL4-AJ8)","v":0},{"$f":"IF(AK10=0,0,(AK10*((LOG(AK10))/LOG(2))))","v":0},null,{"$f":"N10","v":122},{"$f":"COUNTIF(L9:L9,AN10)","v":0},{"$f":"AO10/(AQ4-AO8)","v":0},{"$f":"IF(AP10=0,0,(AP10*((LOG(AP10))/LOG(2))))","v":0},null,{"$f":"N10","v":122},{"$f":"COUNTIF(L9:L10,AS10)","v":0},{"$f":"AT10/(AV4-AT8)","v":0},{"$f":"IF(AU10=0,0,(AU10*((LOG(AU10))/LOG(2))))","v":0}]
[null,null,null,null,null,null,null,null,null,null,null,null,null,211,{"$f":"COUNTIF($L$7:$L$500,N11)","v":0},{"$f":"O11/$Q$4","v":0},{"$f":"IF(P11=0,0,(P11*((LOG(P11))/LOG(2))))","v":0},null,null,{"$f":"N11","v":211},{"$f":"COUNTIF(L7:L7,T11)","v":0},{"$f":"U11/(W4-U8)","v":0},{"$f":"IF(V11=0,0,(V11*((LOG(V11))/LOG(2))))","v":0},null,{"$f":"N11","v":211},{"$f":"COUNTIF(L7:L8,Y11)","v":0},{"$f":"Z11/(AB4-Z8)","v":0},{"$f":"IF(AA11=0,0,(AA11*((LOG(AA11))/LOG(2))))","v":0},null,{"$f":"N11","v":211},{"$f":"COUNTIF(L8:L8,AD11)","v":0},{"$f":"AE11/(AG4-AE8)","v":0},{"$f":"IF(AF11=0,0,(AF11*((LOG(AF11))/LOG(2))))","v":0},null,{"$f":"N11","v":211},{"$f":"COUNTIF(L8:L9,AI11)","v":0},{"$f":"AJ11/(AL4-AJ8)","v":0},{"$f":"IF(AK11=0,0,(AK11*((LOG(AK11))/LOG(2))))","v":0},null,{"$f":"N11","v":211},{"$f":"COUNTIF(L9:L9,AN11)","v":0},{"$f":"AO11/(AQ4-AO8)","v":0},{"$f":"IF(AP11=0,0,(AP11*((LOG(AP11))/LOG(2))))","v":0},null,{"$f":"N11","v":211},{"$f":"COUNTIF(L9:L10,AS11)","v":0},{"$f":"AT11/(AV4-AT8)","v":0},{"$f":"IF(AU11=0,0,(AU11*((LOG(AU11))/LOG(2))))","v":0}]
[null,null,null,null,null,null,null,null,null,null,null,null,null,212,{"$f":"COUNTIF($L$7:$L$500,N12)","v":0},{"$f":"O12/$Q$4","v":0},{"$f":"IF(P12=0,0,(P12*((LOG(P12))/LOG(2))))","v":0},null,null,{"$f":"N12","v":212},{"$f":"COUNTIF(L7:L7,T12)","v":0},{"$f":"U12/(W4-U8)","v":0},{"$f":"IF(V12=0,0,(V12*((LOG(V12))/LOG(2))))","v":0},null,{"$f":"N12","v":212},{"$f":"COUNTIF(L7:L8,Y12)","v":0},{"$f":"Z12/(AB4-Z8)","v":0},{"$f":"IF(AA12=0,0,(AA12*((LOG(AA12))/LOG(2))))","v":0},null,{"$f":"N12","v":212},{"$f":"COUNTIF(L8:L8,AD12)","v":0},{"$f":"AE12/(AG4-AE8)","v":0},{"$f":"IF(AF12=0,0,(AF12*((LOG(AF12))/LOG(2))))","v":0},null,{"$f":"N12","v":212},{"$f":"COUNTIF(L8:L9,AI12)","v":0},{"$f":"AJ12/(AL4-AJ8)","v":0},{"$f":"IF(AK12=0,0,(AK12*((LOG(AK12))/LOG(2))))","v":0},null,{"$f":"N12","v":212},{"$f":"COUNTIF(L9:L9,AN12)","v":0},{"$f":"AO12/(AQ4-AO8)","v":0},{"$f":"IF(AP12=0,0,(AP12*((LOG(AP12))/LOG(2))))","v":0},null,{"$f":"N12","v":212},{"$f":"COUNTIF(L9:L10,AS12)","v":0},{"$f":"AT12/(AV4-AT8)","v":0},{"$f":"IF(AU12=0,0,(AU12*((LOG(AU12))/LOG(2))))","v":0}]
[null,null,null,null,null,null,null,null,null,null,null,null,null,221,{"$f":"COUNTIF($L$7:$L$500,N13)","v":0},{"$f":"O13/$Q$4","v":0},{"$f":"IF(P13=0,0,(P13*((LOG(P13))/LOG(2))))","v":0},null,null,{"$f":"N13","v":221},{"$f":"COUNTIF(L7:L7,T13)","v":0},{"$f":"U13/(W4-U8)","v":0},{"$f":"IF(V13=0,0,(V13*((LOG(V13))/LOG(2))))","v":0},null,{"$f":"N13","v":221},{"$f":"COUNTIF(L7:L8,Y13)","v":0},{"$f":"Z13/(AB4-Z8)","v":0},{"$f":"IF(AA13=0,0,(AA13*((LOG(AA13))/LOG(2))))","v":0},null,{"$f":"N13","v":221},{"$f":"COUNTIF(L8:L8,AD13)","v":0},{"$f":"AE13/(AG4-AE8)","v":0},{"$f":"IF(AF13=0,0,(AF13*((LOG(AF13))/LOG(2))))","v":0},null,{"$f":"N13","v":221},{"$f":"COUNTIF(L8:L9,AI13)","v":0},{"$f":"AJ13/(AL4-AJ8)","v":0},{"$f":"IF(AK13=0,0,(AK13*((LOG(AK13))/LOG(2))))","v":0},null,{"$f":"N13","v":221},{"$f":"COUNTIF(L9:L9,AN13)","v":0},{"$f":"AO13/(AQ4-AO8)","v":0},{"$f":"IF(AP13=0,0,(AP13*((LOG(AP13))/LOG(2))))","v":0},null,{"$f":"N13","v":221},{"$f":"COUNTIF(L9:L10,AS13)","v":0},{"$f":"AT13/(AV4-AT8)","v":0},{"$f":"IF(AU13=0,0,(AU13*((LOG(AU13))/LOG(2))))","v":0}]
[null,null,null,null,null,null,null,null,null,null,null,null,null,222,{"$f":"COUNTIF($L$7:$L$500,N14)","v":0},{"$f":"O14/$Q$4","v":0},{"$f":"IF(P14=0,0,(P14*((LOG(P14))/LOG(2))))","v":0},null,null,{"$f":"N14","v":222},{"$f":"COUNTIF(L7:L7,T14)","v":0},{"$f":"U14/(W4-U8)","v":0},{"$f":"IF(V14=0,0,(V14*((LOG(V14))/LOG(2))))","v":0},null,{"$f":"N14","v":222},{"$f":"COUNTIF(L7:L8,Y14)","v":0},{"$f":"Z14/(AB4-Z8)","v":0},{"$f":"IF(AA14=0,0,(AA14*((LOG(AA14))/LOG(2))))","v":0},null,{"$f":"N14","v":222},{"$f":"COUNTIF(L8:L8,AD14)","v":0},{"$f":"AE14/(AG4-AE8)","v":0},{"$f":"IF(AF14=0,0,(AF14*((LOG(AF14))/LOG(2))))","v":0},null,{"$f":"N14","v":222},{"$f":"COUNTIF(L8:L9,AI14)","v":0},{"$f":"AJ14/(AL4-AJ8)","v":0},{"$f":"IF(AK14=0,0,(AK14*((LOG(AK14))/LOG(2))))","v":0},null,{"$f":"N14","v":222},{"$f":"COUNTIF(L9:L9,AN14)","v":0},{"$f":"AO14/(AQ4-AO8)","v":0},{"$f":"IF(AP14=0,0,(AP14*((LOG(AP14))/LOG(2))))","v":0},null,{"$f":"N14","v":222},{"$f":"COUNTIF(L9:L10,AS14)","v":0},{"$f":"AT14/(AV4-AT8)","v":0},{"$f":"IF(AU14=0,0,(AU14*((LOG(AU14))/LOG(2))))","v":0}]
[null,null,null,null,null,null,null,null,null,null,null,null,null,null,null,{"$f":"SUM(P7:P14)","v":1},{"$f":"-SUM(Q7:Q14)","v":0.91829583405448945},null,null,null,null,{"$f":"SUM(V7:V14)","v":1},{"$f":"-SUM(W7:W14)","v":0},null,null,null,{"$f":"SUM(AA7:AA14)","v":1},{"$f":"-SUM(AB7:AB14)","v":1},null,null,null,{"$f":"SUM(AF7:AF14)","v":1},{"$f":"-SUM(AG7:AG14)","v":0},null,null,null,{"$f":"SUM(AK7:AK14)","v":1},{"$f":"-SUM(AL7:AL14)","v":0},null,null,null,{"$f":"SUM(AP7:AP14)","v":1},{"$f":"-SUM(AQ7:AQ14)","v":0},null,null,null,{"$f":"SUM(AU7:AU14)","v":1},{"$f":"-SUM(AV7:AV14)","v":0}]
[null,null,null,null,null,null,null,null,null,null,null,null,null,null,null,"U=",{"$f":"Q15/(LOG(Q4)/LOG(2))","v":0.57938016428569505},null,null,null,null,"U1=",{"$f":"W15/(LOG(W4)/LOG(2))","v":{"$error":"#DIV/0!"}},null,null,null,"U2=",{"$f":"AB15/(LOG(AB4)/LOG(2))","v":1},null,null,null,"U3=",{"$f":"AG15/(LOG(AG4)/LOG(2))","v":{"$error":"#DIV/0!"}},null,null,null,"U4=",{"$f":"AL15/(LOG(AL4)/LOG(2))","v":0},null,null,null,"U5=",{"$f":"AQ15/(LOG(AQ4)/LOG(2))","v":{"$error":"#DIV/0!"}},null,null,null,"U6=",{"$f":"AV15/(LOG(AV4)/LOG(2))","v":{"$error":"#DIV/0!"}}]
[]
[]
[null,null,null,null,null,null,null,null,null,null,null,null,null,"Total Target Seq"]
[null,null,null,null,null,null,null,null,null,null,null,null,null,{"$f":"COUNTIF(L7:L9,G3)","v":0},null,1,0,1,0,1,0]
[null,null,null,null,null,null,null,null,null,null,null,null,null,null,null,"% of reinforcement given in 6 equal intervals based on number of trials "]
[null,null,null,null,null,null,null,null,null,null,null,null,null,null,null,"%_1","%_2","%_3","%_4","%_5","%_6"]
[null,null,null,null,null,null,null,null,null,null,null,null,null,null,"target sequence",{"$f":"$G$3","v":112},{"$f":"$G$3","v":112},{"$f":"$G$3","v":112},{"$f":"$G$3","v":112},{"$f":"$G$3","v":112},{"$f":"$G$3","v":112}]
[null,null,null,null,null,null,null,null,null,null,null,null,null,null,"total reinforcement",{"$f":"U8","v":0},{"$f":"Z8","v":0},{"$f":"AE8","v":0},{"$f":"AJ8","v":0},{"$f":"AO8","v":0},{"$f":"AT8","v":0}]
[null,null,null,null,null,null,null,null,null,null,null,null,null,null,"% target"]
[null,null,null,null,null,null,null,null,null,null,null,null,null,null,"CCRF"]
[null,null,null,null,null,null,null,null,null,null,null,null,null,null,"% CCRf"]
[null,null,null,null,null,null,null,null,null,null,null,null,null,null,"average response rate",{"$f":"F7/P20","v":2430},{"$f":"(F7-F7)/Q20","v":{"$error":"#DIV/0!"}},{"$f":"(F8-F7)/R20","v":160},{"$f":"(F8-F8)/S20","v":{"$error":"#DIV/0!"}},{"$f":"(F9-F8)/T20","v":16216},{"$f":"(F9-F9)/U20","v":{"$error":"#DIV/0!"}}]

{"sheet":"!N41895B.AXT","index":10,"n_rows":28,"n_cols":48,"rows_kept":28,"cut":false,"hidden":false,"merged":[[4,39,4,42],[5,39,5,40],[4,44,4,47],[5,44,5,45],[4,24,4,27],[5,24,5,25],[4,29,4,32],[5,29,5,30],[4,34,4,37],[5,34,5,35],[1,1,1,2],[5,13,5,14],[18,13,18,14],[19,13,19,14],[4,19,4,22],[5,19,5,20]]}
["Report for:!N41895B.AXT"]
["Date:","<date>"]
["Hen:","<hen>",null,null,null,"Correct Sequence",{"$f":"Start!J2","v":112},null,null,null,null,null,null,null,null,"Total Sequences in Data",{"$f":"4994-COUNTBLANK(L7:L5000)","v":1},null,null,null,null,"Total Sequences in Block Data",{"$f":"COUNTA(L6:L7)","v":2},null,null,null,"Total Sequences in Block Data",{"$f":"COUNTA(L6:L7)","v":2},null,null,null,"Total Sequences in Block Data",{"$f":"COUNTA(L7:L7)","v":1},null,null,null,"Total Sequences in Block Data",{"$f":"COUNTA(L7:L8)","v":1},null,null,null,"Total Sequences in Block Data",{"$f":"COUNTA(L7:L8)","v":1},null,null,null,"Total Sequences in Block Data",{"$f":"COUNTA(L7:L8)","v":1}]
[null,null,null,null,null,null,null,null,null,null,null,null,null,null,null,"Total Sequences in Summary",{"$f":"SUM(O7:O14)","v":1},null,null,null,null,"Total Sequences in Block Summary",{"$f":"SUM(U7:U14)","v":1},null,null,null,"Total Sequences in Block Summary",{"$f":"SUM(Z7:Z14)","v":1},null,null,null,"Total Sequences in Block Summary",{"$f":"SUM(AE7:AE14)","v":1},null,null,null,"Total Sequences in Block Summary",{"$f":"SUM(AJ7:AJ14)","v":1},null,null,null,"Total Sequences in Block Summary",{"$f":"SUM(AO7:AO14)","v":1},null,null,null,"Total Sequences in Block Summary",{"$f":"SUM(AT7:AT14)","v":1}]
[null,null,null,null,null,null,null,null,null,null,null,null,null,null,null,null,null,null,null,"Block 1",null,null,null,null,"Block 2",null,null,null,null,"Block 3",null,null,null,null,"Block 4",null,null,null,null,"Block 5",null,null,null,null,"Block 6"]
["Sequence\nComponent\n1","Time\n1","Sequence\nComponent\n2","Time\n2","Sequence\nComponent\n3","Time\n3","Sequence\nComponent\n4","Time\n4","Sequence\nComponent\n5","Time\n5","Correct?\n0=No 1=Yes","Sequence",null,"Frequency",null,"Relative Frequency","Variability",null,null,"Frequency",null,"Relative Frequency","Variability",null,"Frequency",null,"Relative Frequency","Variability",null,"Frequency",null,"Relative Frequency","Variability",null,"Frequency",null,"Relative Frequency","Variability",null,"Frequency",null,"Relative Frequency","Variability",null,"Frequency",null,"Relative Frequency","Variability"]
[11,10093,22,10115,23,10126,null,null,null,null,0,122,null,111,{"$f":"COUNTIF($L$7:$L$500,N7)","v":0},{"$f":"O7/$Q$4","v":0},{"$f":"IF(P7=0,0,(P7*((LOG(P7))/LOG(2))))","v":0},null,null,{"$f":"N7","v":111},{"$f":"COUNTIF(L6:L7,T7)","v":0},{"$f":"U7/(W4-U8)","v":0},{"$f":"IF(V7=0,0,(V7*((LOG(V7))/LOG(2))))","v":0},null,{"$f":"N7","v":111},{"$f":"COUNTIF(L6:L7,Y7)","v":0},{"$f":"Z7/(AB4-Z8)","v":0},{"$f":"IF(AA7=0,0,(AA7*((LOG(AA7))/LOG(2))))","v":0},null,{"$f":"N7","v":111},{"$f":"COUNTIF(L7:L7,AD7)","v":0},{"$f":"AE7/(AG4-AE8)","v":0},{"$f":"IF(AF7=0,0,(AF7*((LOG(AF7))/LOG(2))))","v":0},null,{"$f":"N7","v":111},{"$f":"COUNTIF(L7:L8,AI7)","v":0},{"$f":"AJ7/(AL4-AJ8)","v":0},{"$f":"IF(AK7=0,0,(AK7*((LOG(AK7))/LOG(2))))","v":0},null,{"$f":"N7","v":111},{"$f":"COUNTIF(L7:L8,AN7)","v":0},{"$f":"AO7/(AQ4-AO8)","v":0},{"$f":"IF(AP7=0,0,(AP7*((LOG(AP7))/LOG(2))))","v":0},null,{"$f":"N7","v":111},{"$f":"COUNTIF(L7:L8,AS7)","v":0},{"$f":"AT7/(AV4-AT8)","v":0},{"$f":"IF(AU7=0,0,(AU7*((LOG(AU7))/LOG(2))))","v":0}]
[null,null,null,null,null,null,null,null,null,null,null,null,null,112,{"$f":"COUNTIF($L$7:$L$500,N8)","v":0},{"$f":"O8/$Q$4","v":0},{"$f":"IF(P8=0,0,(P8*((LOG(P8))/LOG(2))))","v":0},null,null,{"$f":"N8","v":112},{"$f":"COUNTIF(L6:L7,T8)","v":0},null,null,null,{"$f":"N8","v":112},{"$f":"COUNTIF(L6:L7,Y8)","v":0},null,null,null,{"$f":"N8","v":112},{"$f":"COUNTIF(L7:L7,AD8)","v":0},null,null,null,{"$f":"N8","v":112},{"$f":"COUNTIF(L7:L8,AI8)","v":0},null,null,null,{"$f":"N8","v":112},{"$f":"COUNTIF(L7:L8,AN8)","v":0},null,null,null,{"$f":"N8","v":112},{"$f":"COUNTIF(L7:L8,AS8)","v":0}]
[null,null,null,null,null,null,null,null,null,null,null,null,null,121,{"$f":"COUNTIF($L$7:$L$500,N9)","v":0},{"$f":"O9/$Q$4","v":0},{"$f":"IF(P9=0,0,(P9*((LOG(P9))/LOG(2))))","v":0},null,null,{"$f":"N9","v":121},{"$f":"COUNTIF(L6:L7,T9)","v":0},{"$f":"U9/(W4-U8)","v":0},{"$f":"IF(V9=0,0,(V9*((LOG(V9))/LOG(2))))","v":0},null,{"$f":"N9","v":121},{"$f":"COUNTIF(L6:L7,Y9)","v":0},{"$f":"Z9/(AB4-Z8)","v":0},{"$f":"IF(AA9=0,0,(AA9*((LOG(AA9))/LOG(2))))","v":0},null,{"$f":"N9","v":121},{"$f":"COUNTIF(L7:L7,AD9)","v":0},{"$f":"AE9/(AG4-AE8)","v":0},{"$f":"IF(AF9=0,0,(AF9*((LOG(AF9))/LOG(2))))","v":0},null,{"$f":"N9","v":121},{"$f":"COUNTIF(L7:L8,AI9)","v":0},{"$f":"AJ9/(AL4-AJ8)","v":0},{"$f":"IF(AK9=0,0,(AK9*((LOG(AK9))/LOG(2))))","v":0},null,{"$f":"N9","v":121},{"$f":"COUNTIF(L7:L8,AN9)","v":0},{"$f":"AO9/(AQ4-AO8)","v":0},{"$f":"IF(AP9=0,0,(AP9*((LOG(AP9))/LOG(2))))","v":0},null,{"$f":"N9","v":121},{"$f":"COUNTIF(L7:L8,AS9)","v":0},{"$f":"AT9/(AV4-AT8)","v":0},{"$f":"IF(AU9=0,0,(AU9*((LOG(AU9))/LOG(2))))","v":0}]
[null,null,null,null,null,null,null,null,null,null,null,null,null,122,{"$f":"COUNTIF($L$7:$L$500,N10)","v":1},{"$f":"O10/$Q$4","v":1},{"$f":"IF(P10=0,0,(P10*((LOG(P10))/LOG(2))))","v":0},null,null,{"$f":"N10","v":122},{"$f":"COUNTIF(L6:L7,T10)","v":1},{"$f":"U10/(W4-U8)","v":1},{"$f":"IF(V10=0,0,(V10*((LOG(V10))/LOG(2))))","v":0},null,{"$f":"N10","v":122},{"$f":"COUNTIF(L6:L7,Y10)","v":1},{"$f":"Z10/(AB4-Z8)","v":1},{"$f":"IF(AA10=0,0,(AA10*((LOG(AA10))/LOG(2))))","v":0},null,{"$f":"N10","v":122},{"$f":"COUNTIF(L7:L7,AD10)","v":1},{"$f":"AE10/(AG4-AE8)","v":1},{"$f":"IF(AF10=0,0,(AF10*((LOG(AF10))/LOG(2))))","v":0},null,{"$f":"N10","v":122},{"$f":"COUNTIF(L7:L8,AI10)","v":1},{"$f":"AJ10/(AL4-AJ8)","v":1},{"$f":"IF(AK10=0,0,(AK10*((LOG(AK10))/LOG(2))))","v":0},null,{"$f":"N10","v":122},{"$f":"COUNTIF(L7:L8,AN10)","v":1},{"$f":"AO10/(AQ4-AO8)","v":1},{"$f":"IF(AP10=0,0,(AP10*((LOG(AP10))/LOG(2))))","v":0},null,{"$f":"N10","v":122},{"$f":"COUNTIF(L7:L8,AS10)","v":1},{"$f":"AT10/(AV4-AT8)","v":1},{"$f":"IF(AU10=0,0,(AU10*((LOG(AU10))/LOG(2))))","v":0}]
[null,null,null,null,null,null,null,null,null,null,null,null,null,211,{"$f":"COUNTIF($L$7:$L$500,N11)","v":0},{"$f":"O11/$Q$4","v":0},{"$f":"IF(P11=0,0,(P11*((LOG(P11))/LOG(2))))","v":0},null,null,{"$f":"N11","v":211},{"$f":"COUNTIF(L6:L7,T11)","v":0},{"$f":"U11/(W4-U8)","v":0},{"$f":"IF(V11=0,0,(V11*((LOG(V11))/LOG(2))))","v":0},null,{"$f":"N11","v":211},{"$f":"COUNTIF(L6:L7,Y11)","v":0},{"$f":"Z11/(AB4-Z8)","v":0},{"$f":"IF(AA11=0,0,(AA11*((LOG(AA11))/LOG(2))))","v":0},null,{"$f":"N11","v":211},{"$f":"COUNTIF(L7:L7,AD11)","v":0},{"$f":"AE11/(AG4-AE8)","v":0},{"$f":"IF(AF11=0,0,(AF11*((LOG(AF11))/LOG(2))))","v":0},null,{"$f":"N11","v":211},{"$f":"COUNTIF(L7:L8,AI11)","v":0},{"$f":"AJ11/(AL4-AJ8)","v":0},{"$f":"IF(AK11=0,0,(AK11*((LOG(AK11))/LOG(2))))","v":0},null,{"$f":"N11","v":211},{"$f":"COUNTIF(L7:L8,AN11)","v":0},{"$f":"AO11/(AQ4-AO8)","v":0},{"$f":"IF(AP11=0,0,(AP11*((LOG(AP11))/LOG(2))))","v":0},null,{"$f":"N11","v":211},{"$f":"COUNTIF(L7:L8,AS11)","v":0},{"$f":"AT11/(AV4-AT8)","v":0},{"$f":"IF(AU11=0,0,(AU11*((LOG(AU11))/LOG(2))))","v":0}]
[null,null,null,null,null,null,null,null,null,null,null,null,null,212,{"$f":"COUNTIF($L$7:$L$500,N12)","v":0},{"$f":"O12/$Q$4","v":0},{"$f":"IF(P12=0,0,(P12*((LOG(P12))/LOG(2))))","v":0},null,null,{"$f":"N12","v":212},{"$f":"COUNTIF(L6:L7,T12)","v":0},{"$f":"U12/(W4-U8)","v":0},{"$f":"IF(V12=0,0,(V12*((LOG(V12))/LOG(2))))","v":0},null,{"$f":"N12","v":212},{"$f":"COUNTIF(L6:L7,Y12)","v":0},{"$f":"Z12/(AB4-Z8)","v":0},{"$f":"IF(AA12=0,0,(AA12*((LOG(AA12))/LOG(2))))","v":0},null,{"$f":"N12","v":212},{"$f":"COUNTIF(L7:L7,AD12)","v":0},{"$f":"AE12/(AG4-AE8)","v":0},{"$f":"IF(AF12=0,0,(AF12*((LOG(AF12))/LOG(2))))","v":0},null,{"$f":"N12","v":212},{"$f":"COUNTIF(L7:L8,AI12)","v":0},{"$f":"AJ12/(AL4-AJ8)","v":0},{"$f":"IF(AK12=0,0,(AK12*((LOG(AK12))/LOG(2))))","v":0},null,{"$f":"N12","v":212},{"$f":"COUNTIF(L7:L8,AN12)","v":0},{"$f":"AO12/(AQ4-AO8)","v":0},{"$f":"IF(AP12=0,0,(AP12*((LOG(AP12))/LOG(2))))","v":0},null,{"$f":"N12","v":212},{"$f":"COUNTIF(L7:L8,AS12)","v":0},{"$f":"AT12/(AV4-AT8)","v":0},{"$f":"IF(AU12=0,0,(AU12*((LOG(AU12))/LOG(2))))","v":0}]
[null,null,null,null,null,null,null,null,null,null,null,null,null,221,{"$f":"COUNTIF($L$7:$L$500,N13)","v":0},{"$f":"O13/$Q$4","v":0},{"$f":"IF(P13=0,0,(P13*((LOG(P13))/LOG(2))))","v":0},null,null,{"$f":"N13","v":221},{"$f":"COUNTIF(L6:L7,T13)","v":0},{"$f":"U13/(W4-U8)","v":0},{"$f":"IF(V13=0,0,(V13*((LOG(V13))/LOG(2))))","v":0},null,{"$f":"N13","v":221},{"$f":"COUNTIF(L6:L7,Y13)","v":0},{"$f":"Z13/(AB4-Z8)","v":0},{"$f":"IF(AA13=0,0,(AA13*((LOG(AA13))/LOG(2))))","v":0},null,{"$f":"N13","v":221},{"$f":"COUNTIF(L7:L7,AD13)","v":0},{"$f":"AE13/(AG4-AE8)","v":0},{"$f":"IF(AF13=0,0,(AF13*((LOG(AF13))/LOG(2))))","v":0},null,{"$f":"N13","v":221},{"$f":"COUNTIF(L7:L8,AI13)","v":0},{"$f":"AJ13/(AL4-AJ8)","v":0},{"$f":"IF(AK13=0,0,(AK13*((LOG(AK13))/LOG(2))))","v":0},null,{"$f":"N13","v":221},{"$f":"COUNTIF(L7:L8,AN13)","v":0},{"$f":"AO13/(AQ4-AO8)","v":0},{"$f":"IF(AP13=0,0,(AP13*((LOG(AP13))/LOG(2))))","v":0},null,{"$f":"N13","v":221},{"$f":"COUNTIF(L7:L8,AS13)","v":0},{"$f":"AT13/(AV4-AT8)","v":0},{"$f":"IF(AU13=0,0,(AU13*((LOG(AU13))/LOG(2))))","v":0}]
[null,null,null,null,null,null,null,null,null,null,null,null,null,222,{"$f":"COUNTIF($L$7:$L$500,N14)","v":0},{"$f":"O14/$Q$4","v":0},{"$f":"IF(P14=0,0,(P14*((LOG(P14))/LOG(2))))","v":0},null,null,{"$f":"N14","v":222},{"$f":"COUNTIF(L6:L7,T14)","v":0},{"$f":"U14/(W4-U8)","v":0},{"$f":"IF(V14=0,0,(V14*((LOG(V14))/LOG(2))))","v":0},null,{"$f":"N14","v":222},{"$f":"COUNTIF(L6:L7,Y14)","v":0},{"$f":"Z14/(AB4-Z8)","v":0},{"$f":"IF(AA14=0,0,(AA14*((LOG(AA14))/LOG(2))))","v":0},null,{"$f":"N14","v":222},{"$f":"COUNTIF(L7:L7,AD14)","v":0},{"$f":"AE14/(AG4-AE8)","v":0},{"$f":"IF(AF14=0,0,(AF14*((LOG(AF14))/LOG(2))))","v":0},null,{"$f":"N14","v":222},{"$f":"COUNTIF(L7:L8,AI14)","v":0},{"$f":"AJ14/(AL4-AJ8)","v":0},{"$f":"IF(AK14=0,0,(AK14*((LOG(AK14))/LOG(2))))","v":0},null,{"$f":"N14","v":222},{"$f":"COUNTIF(L7:L8,AN14)","v":0},{"$f":"AO14/(AQ4-AO8)","v":0},{"$f":"IF(AP14=0,0,(AP14*((LOG(AP14))/LOG(2))))","v":0},null,{"$f":"N14","v":222},{"$f":"COUNTIF(L7:L8,AS14)","v":0},{"$f":"AT14/(AV4-AT8)","v":0},{"$f":"IF(AU14=0,0,(AU14*((LOG(AU14))/LOG(2))))","v":0}]
[null,null,null,null,null,null,null,null,null,null,null,null,null,null,null,{"$f":"SUM(P7:P14)","v":1},{"$f":"-SUM(Q7:Q14)","v":0},null,null,null,null,{"$f":"SUM(V7:V14)","v":1},{"$f":"-SUM(W7:W14)","v":0},null,null,null,{"$f":"SUM(AA7:AA14)","v":1},{"$f":"-SUM(AB7:AB14)","v":0},null,null,null,{"$f":"SUM(AF7:AF14)","v":1},{"$f":"-SUM(AG7:AG14)","v":0},null,null,null,{"$f":"SUM(AK7:AK14)","v":1},{"$f":"-SUM(AL7:AL14)","v":0},null,null,null,{"$f":"SUM(AP7:AP14)","v":1},{"$f":"-SUM(AQ7:AQ14)","v":0},null,null,null,{"$f":"SUM(AU7:AU14)","v":1},{"$f":"-SUM(AV7:AV14)","v":0}]
[null,null,null,null,null,null,null,null,null,null,null,null,null,null,null,"U=",{"$f":"Q15/(LOG(Q4)/LOG(2))","v":{"$error":"#DIV/0!"}},null,null,null,null,"U1=",{"$f":"W15/(LOG(W4)/LOG(2))","v":{"$error":"#DIV/0!"}},null,null,null,"U2=",{"$f":"AB15/(LOG(AB4)/LOG(2))","v":{"$error":"#DIV/0!"}},null,null,null,"U3=",{"$f":"AG15/(LOG(AG4)/LOG(2))","v":{"$error":"#DIV/0!"}},null,null,null,"U4=",{"$f":"AL15/(LOG(AL4)/LOG(2))","v":{"$error":"#DIV/0!"}},null,null,null,"U5=",{"$f":"AQ15/(LOG(AQ4)/LOG(2))","v":{"$error":"#DIV/0!"}},null,null,null,"U6=",{"$f":"AV15/(LOG(AV4)/LOG(2))","v":{"$error":"#DIV/0!"}}]
[]
[]
[null,null,null,null,null,null,null,null,null,null,null,null,null,"Total Target Seq"]
[null,null,null,null,null,null,null,null,null,null,null,null,null,{"$f":"COUNTIF(L7:L7,G3)","v":0},null,0,0,1,0,0,0]
[null,null,null,null,null,null,null,null,null,null,null,null,null,null,null,"% of reinforcement given in 6 equal intervals based on number of trials "]
[null,null,null,null,null,null,null,null,null,null,null,null,null,null,null,"%_1","%_2","%_3","%_4","%_5","%_6"]
[null,null,null,null,null,null,null,null,null,null,null,null,null,null,"target sequence",{"$f":"$G$3","v":112},{"$f":"$G$3","v":112},{"$f":"$G$3","v":112},{"$f":"$G$3","v":112},{"$f":"$G$3","v":112},{"$f":"$G$3","v":112}]
[null,null,null,null,null,null,null,null,null,null,null,null,null,null,"total reinforcement",{"$f":"U8","v":0},{"$f":"Z8","v":0},{"$f":"AE8","v":0},{"$f":"AJ8","v":0},{"$f":"AO8","v":0},{"$f":"AT8","v":0}]
[null,null,null,null,null,null,null,null,null,null,null,null,null,null,"% target"]
[null,null,null,null,null,null,null,null,null,null,null,null,null,null,"CCRF"]
[null,null,null,null,null,null,null,null,null,null,null,null,null,null,"% CCRf"]
[null,null,null,null,null,null,null,null,null,null,null,null,null,null,"average response rate",{"$f":"F6/P20","v":{"$error":"#VALUE!"}},{"$f":"(F6-F6)/Q20","v":{"$error":"#VALUE!"}},{"$f":"(F7-F6)/R20","v":{"$error":"#VALUE!"}},{"$f":"(F7-F7)/S20","v":{"$error":"#DIV/0!"}},{"$f":"(F7-F7)/T20","v":{"$error":"#DIV/0!"}},{"$f":"(F7-F7)/U20","v":{"$error":"#DIV/0!"}}]

{"sheet":"!N41990B.AXT","index":11,"n_rows":28,"n_cols":48,"rows_kept":28,"cut":false,"hidden":false,"merged":[[4,39,4,42],[5,39,5,40],[4,44,4,47],[5,44,5,45],[4,24,4,27],[5,24,5,25],[4,29,4,32],[5,29,5,30],[4,34,4,37],[5,34,5,35],[1,1,1,2],[5,13,5,14],[18,13,18,14],[19,13,19,14],[4,19,4,22],[5,19,5,20]]}
["Report for:!N41990B.AXT"]
["Date:","<date>"]
["Hen:","<hen>",null,null,null,"Correct Sequence",{"$f":"Start!J2","v":112},null,null,null,null,null,null,null,null,"Total Sequences in Data",{"$f":"4994-COUNTBLANK(L7:L5000)","v":2},null,null,null,null,"Total Sequences in Block Data",{"$f":"COUNTA(L6:L7)","v":2},null,null,null,"Total Sequences in Block Data",{"$f":"COUNTA(L7:L7)","v":1},null,null,null,"Total Sequences in Block Data",{"$f":"COUNTA(L7:L8)","v":2},null,null,null,"Total Sequences in Block Data",{"$f":"COUNTA(L7:L8)","v":2},null,null,null,"Total Sequences in Block Data",{"$f":"COUNTA(L8:L8)","v":1},null,null,null,"Total Sequences in Block Data",{"$f":"COUNTA(L8:L9)","v":1}]
[null,null,null,null,null,null,null,null,null,null,null,null,null,null,null,"Total Sequences in Summary",{"$f":"SUM(O7:O14)","v":2},null,null,null,null,"Total Sequences in Block Summary",{"$f":"SUM(U7:U14)","v":1},null,null,null,"Total Sequences in Block Summary",{"$f":"SUM(Z7:Z14)","v":1},null,null,null,"Total Sequences in Block Summary",{"$f":"SUM(AE7:AE14)","v":2},null,null,null,"Total Sequences in Block Summary",{"$f":"SUM(AJ7:AJ14)","v":2},null,null,null,"Total Sequences in Block Summary",{"$f":"SUM(AO7:AO14)","v":1},null,null,null,"Total Sequences in Block Summary",{"$f":"SUM(AT7:AT14)","v":1}]
[null,null,null,null,null,null,null,null,null,null,null,null,null,null,null,null,null,null,null,"Block 1",null,null,null,null,"Block 2",null,null,null,null,"Block 3",null,null,null,null,"Block 4",null,null,null,null,"Block 5",null,null,null,null,"Block 6"]
["Sequence\nComponent\n1","Time\n1","Sequence\nComponent\n2","Time\n2","Sequence\nComponent\n3","Time\n3","Sequence\nComponent\n4","Time\n4","Sequence\nComponent\n5","Time\n5","Correct?\n0=No 1=Yes","Sequence",null,"Frequency",null,"Relative Frequency","Variability",null,null,"Frequency",null,"Relative Frequency","Variability",null,"Frequency",null,"Relative Frequency","Variability",null,"Frequency",null,"Relative Frequency","Variability",null,"Frequency",null,"Relative Frequency","Variability",null,"Frequency",null,"Relative Frequency","Variability",null,"Frequency",null,"Relative Frequency","Variability"]
[22,881,24,887,14,894,null,null,null,null,0,221,null,111,{"$f":"COUNTIF($L$7:$L$500,N7)","v":0},{"$f":"O7/$Q$4","v":0},{"$f":"IF(P7=0,0,(P7*((LOG(P7))/LOG(2))))","v":0},null,null,{"$f":"N7","v":111},{"$f":"COUNTIF(L6:L7,T7)","v":0},{"$f":"U7/(W4-U8)","v":0},{"$f":"IF(V7=0,0,(V7*((LOG(V7))/LOG(2))))","v":0},null,{"$f":"N7","v":111},{"$f":"COUNTIF(L7:L7,Y7)","v":0},{"$f":"Z7/(AB4-Z8)","v":0},{"$f":"IF(AA7=0,0,(AA7*((LOG(AA7))/LOG(2))))","v":0},null,{"$f":"N7","v":111},{"$f":"COUNTIF(L7:L8,AD7)","v":0},{"$f":"AE7/(AG4-AE8)","v":0},{"$f":"IF(AF7=0,0,(AF7*((LOG(AF7))/LOG(2))))","v":0},null,{"$f":"N7","v":111},{"$f":"COUNTIF(L7:L8,AI7)","v":0},{"$f":"AJ7/(AL4-AJ8)","v":0},{"$f":"IF(AK7=0,0,(AK7*((LOG(AK7))/LOG(2))))","v":0},null,{"$f":"N7","v":111},{"$f":"COUNTIF(L8:L8,AN7)","v":0},{"$f":"AO7/(AQ4-AO8)","v":0},{"$f":"IF(AP7=0,0,(AP7*((LOG(AP7))/LOG(2))))","v":0},null,{"$f":"N7","v":111},{"$f":"COUNTIF(L8:L9,AS7)","v":0},{"$f":"AT7/(AV4-AT8)","v":0},{"$f":"IF(AU7=0,0,(AU7*((LOG(AU7))/LOG(2))))","v":0}]
[22,5754,13,8994,14,9015,null,null,null,null,0,211,null,112,{"$f":"COUNTIF($L$7:$L$500,N8)","v":0},{"$f":"O8/$Q$4","v":0},{"$f":"IF(P8=0,0,(P8*((LOG(P8))/LOG(2))))","v":0},null,null,{"$f":"N8","v":112},{"$f":"COUNTIF(L6:L7,T8)","v":0},null,null,null,{"$f":"N8","v":112},{"$f":"COUNTIF(L7:L7,Y8)","v":0},null,null,null,{"$f":"N8","v":112},{"$f":"COUNTIF(L7:L8,AD8)","v":0},null,null,null,{"$f":"N8","v":112},{"$f":"COUNTIF(L7:L8,AI8)","v":0},null,null,null,{"$f":"N8","v":112},{"$f":"COUNTIF(L8:L8,AN8)","v":0},null,null,null,{"$f":"N8","v":112},{"$f":"COUNTIF(L8:L9,AS8)","v":0}]
[null,null,null,null,null,null,null,null,null,null,null,null,null,121,{"$f":"COUNTIF($L$7:$L$500,N9)","v":0},{"$f":"O9/$Q$4","v":0},{"$f":"IF(P9=0,0,(P9*((LOG(P9))/LOG(2))))","v":0},null,null,{"$f":"N9","v":121},{"$f":"COUNTIF(L6:L7,T9)","v":0},{"$f":"U9/(W4-U8)","v":0},{"$f":"IF(V9=0,0,(V9*((LOG(V9))/LOG(2))))","v":0},null,{"$f":"N9","v":121},{"$f":"COUNTIF(L7:L7,Y9)","v":0},{"$f":"Z9/(AB4-Z8)","v":0},{"$f":"IF(AA9=0,0,(AA9*((LOG(AA9))/LOG(2))))","v":0},null,{"$f":"N9","v":121},{"$f":"COUNTIF(L7:L8,AD9)","v":0},{"$f":"AE9/(AG4-AE8)","v":0},{"$f":"IF(AF9=0,0,(AF9*((LOG(AF9))/LOG(2))))","v":0},null,{"$f":"N9","v":121},{"$f":"COUNTIF(L7:L8,AI9)","v":0},{"$f":"AJ9/(AL4-AJ8)","v":0},{"$f":"IF(AK9=0,0,(AK9*((LOG(AK9))/LOG(2))))","v":0},null,{"$f":"N9","v":121},{"$f":"COUNTIF(L8:L8,AN9)","v":0},{"$f":"AO9/(AQ4-AO8)","v":0},{"$f":"IF(AP9=0,0,(AP9*((LOG(AP9))/LOG(2))))","v":0},null,{"$f":"N9","v":121},{"$f":"COUNTIF(L8:L9,AS9)","v":0},{"$f":"AT9/(AV4-AT8)","v":0},{"$f":"IF(AU9=0,0,(AU9*((LOG(AU9))/LOG(2))))","v":0}]
[null,null,null,null,null,null,null,null,null,null,null,null,null,122,{"$f":"COUNTIF($L$7:$L$500,N10)","v":0},{"$f":"O10/$Q$4","v":0},{"$f":"IF(P10=0,0,(P10*((LOG(P10))/LOG(2))))","v":0},null,null,{"$f":"N10","v":122},{"$f":"COUNTIF(L6:L7,T10)","v":0},{"$f":"U10/(W4-U8)","v":0},{"$f":"IF(V10=0,0,(V10*((LOG(V10))/LOG(2))))","v":0},null,{"$f":"N10","v":122},{"$f":"COUNTIF(L7:L7,Y10)","v":0},{"$f":"Z10/(AB4-Z8)","v":0},{"$f":"IF(AA10=0,0,(AA10*((LOG(AA10))/LOG(2))))","v":0},null,{"$f":"N10","v":122},{"$f":"COUNTIF(L7:L8,AD10)","v":0},{"$f":"AE10/(AG4-AE8)","v":0},{"$f":"IF(AF10=0,0,(AF10*((LOG(AF10))/LOG(2))))","v":0},null,{"$f":"N10","v":122},{"$f":"COUNTIF(L7:L8,AI10)","v":0},{"$f":"AJ10/(AL4-AJ8)","v":0},{"$f":"IF(AK10=0,0,(AK10*((LOG(AK10))/LOG(2))))","v":0},null,{"$f":"N10","v":122},{"$f":"COUNTIF(L8:L8,AN10)","v":0},{"$f":"AO10/(AQ4-AO8)","v":0},{"$f":"IF(AP10=0,0,(AP10*((LOG(AP10))/LOG(2))))","v":0},null,{"$f":"N10","v":122},{"$f":"COUNTIF(L8:L9,AS10)","v":0},{"$f":"AT10/(AV4-AT8)","v":0},{"$f":"IF(AU10=0,0,(AU10*((LOG(AU10))/LOG(2))))","v":0}]
[null,null,null,null,null,null,null,null,null,null,null,null,null,211,{"$f":"COUNTIF($L$7:$L$500,N11)","v":1},{"$f":"O11/$Q$4","v":0.5},{"$f":"IF(P11=0,0,(P11*((LOG(P11))/LOG(2))))","v":-0.5},null,null,{"$f":"N11","v":211},{"$f":"COUNTIF(L6:L7,T11)","v":0},{"$f":"U11/(W4-U8)","v":0},{"$f":"IF(V11=0,0,(V11*((LOG(V11))/LOG(2))))","v":0},null,{"$f":"N11","v":211},{"$f":"COUNTIF(L7:L7,Y11)","v":0},{"$f":"Z11/(AB4-Z8)","v":0},{"$f":"IF(AA11=0,0,(AA11*((LOG(AA11))/LOG(2))))","v":0},null,{"$f":"N11","v":211},{"$f":"COUNTIF(L7:L8,AD11)","v":1},{"$f":"AE11/(AG4-AE8)","v":0.5},{"$f":"IF(AF11=0,0,(AF11*((LOG(AF11))/LOG(2))))","v":-0.5},null,{"$f":"N11","v":211},{"$f":"COUNTIF(L7:L8,AI11)","v":1},{"$f":"AJ11/(AL4-AJ8)","v":0.5},{"$f":"IF(AK11=0,0,(AK11*((LOG(AK11))/LOG(2))))","v":-0.5},null,{"$f":"N11","v":211},{"$f":"COUNTIF(L8:L8,AN11)","v":1},{"$f":"AO11/(AQ4-AO8)","v":1},{"$f":"IF(AP11=0,0,(AP11*((LOG(AP11))/LOG(2))))","v":0},null,{"$f":"N11","v":211},{"$f":"COUNTIF(L8:L9,AS11)","v":1},{"$f":"AT11/(AV4-AT8)","v":1},{"$f":"IF(AU11=0,0,(AU11*((LOG(AU11))/LOG(2))))","v":0}]
[null,null,null,null,null,null,null,null,null,null,null,null,null,212,{"$f":"COUNTIF($L$7:$L$500,N12)","v":0},{"$f":"O12/$Q$4","v":0},{"$f":"IF(P12=0,0,(P12*((LOG(P12))/LOG(2))))","v":0},null,null,{"$f":"N12","v":212},{"$f":"COUNTIF(L6:L7,T12)","v":0},{"$f":"U12/(W4-U8)","v":0},{"$f":"IF(V12=0,0,(V12*((LOG(V12))/LOG(2))))","v":0},null,{"$f":"N12","v":212},{"$f":"COUNTIF(L7:L7,Y12)","v":0},{"$f":"Z12/(AB4-Z8)","v":0},{"$f":"IF(AA12=0,0,(AA12*((LOG(AA12))/LOG(2))))","v":0},null,{"$f":"N12","v":212},{"$f":"COUNTIF(L7:L8,AD12)","v":0},{"$f":"AE12/(AG4-AE8)","v":0},{"$f":"IF(AF12=0,0,(AF12*((LOG(AF12))/LOG(2))))","v":0},null,{"$f":"N12","v":212},{"$f":"COUNTIF(L7:L8,AI12)","v":0},{"$f":"AJ12/(AL4-AJ8)","v":0},{"$f":"IF(AK12=0,0,(AK12*((LOG(AK12))/LOG(2))))","v":0},null,{"$f":"N12","v":212},{"$f":"COUNTIF(L8:L8,AN12)","v":0},{"$f":"AO12/(AQ4-AO8)","v":0},{"$f":"IF(AP12=0,0,(AP12*((LOG(AP12))/LOG(2))))","v":0},null,{"$f":"N12","v":212},{"$f":"COUNTIF(L8:L9,AS12)","v":0},{"$f":"AT12/(AV4-AT8)","v":0},{"$f":"IF(AU12=0,0,(AU12*((LOG(AU12))/LOG(2))))","v":0}]
[null,null,null,null,null,null,null,null,null,null,null,null,null,221,{"$f":"COUNTIF($L$7:$L$500,N13)","v":1},{"$f":"O13/$Q$4","v":0.5},{"$f":"IF(P13=0,0,(P13*((LOG(P13))/LOG(2))))","v":-0.5},null,null,{"$f":"N13","v":221},{"$f":"COUNTIF(L6:L7,T13)","v":1},{"$f":"U13/(W4-U8)","v":1},{"$f":"IF(V13=0,0,(V13*((LOG(V13))/LOG(2))))","v":0},null,{"$f":"N13","v":221},{"$f":"COUNTIF(L7:L7,Y13)","v":1},{"$f":"Z13/(AB4-Z8)","v":1},{"$f":"IF(AA13=0,0,(AA13*((LOG(AA13))/LOG(2))))","v":0},null,{"$f":"N13","v":221},{"$f":"COUNTIF(L7:L8,AD13)","v":1},{"$f":"AE13/(AG4-AE8)","v":0.5},{"$f":"IF(AF13=0,0,(AF13*((LOG(AF13))/LOG(2))))","v":-0.5},null,{"$f":"N13","v":221},{"$f":"COUNTIF(L7:L8,AI13)","v":1},{"$f":"AJ13/(AL4-AJ8)","v":0.5},{"$f":"IF(AK13=0,0,(AK13*((LOG(AK13))/LOG(2))))","v":-0.5},null,{"$f":"N13","v":221},{"$f":"COUNTIF(L8:L8,AN13)","v":0},{"$f":"AO13/(AQ4-AO8)","v":0},{"$f":"IF(AP13=0,0,(AP13*((LOG(AP13))/LOG(2))))","v":0},null,{"$f":"N13","v":221},{"$f":"COUNTIF(L8:L9,AS13)","v":0},{"$f":"AT13/(AV4-AT8)","v":0},{"$f":"IF(AU13=0,0,(AU13*((LOG(AU13))/LOG(2))))","v":0}]
[null,null,null,null,null,null,null,null,null,null,null,null,null,222,{"$f":"COUNTIF($L$7:$L$500,N14)","v":0},{"$f":"O14/$Q$4","v":0},{"$f":"IF(P14=0,0,(P14*((LOG(P14))/LOG(2))))","v":0},null,null,{"$f":"N14","v":222},{"$f":"COUNTIF(L6:L7,T14)","v":0},{"$f":"U14/(W4-U8)","v":0},{"$f":"IF(V14=0,0,(V14*((LOG(V14))/LOG(2))))","v":0},null,{"$f":"N14","v":222},{"$f":"COUNTIF(L7:L7,Y14)","v":0},{"$f":"Z14/(AB4-Z8)","v":0},{"$f":"IF(AA14=0,0,(AA14*((LOG(AA14))/LOG(2))))","v":0},null,{"$f":"N14","v":222},{"$f":"COUNTIF(L7:L8,AD14)","v":0},{"$f":"AE14/(AG4-AE8)","v":0},{"$f":"IF(AF14=0,0,(AF14*((LOG(AF14))/LOG(2))))","v":0},null,{"$f":"N14","v":222},{"$f":"COUNTIF(L7:L8,AI14)","v":0},{"$f":"AJ14/(AL4-AJ8)","v":0},{"$f":"IF(AK14=0,0,(AK14*((LOG(AK14))/LOG(2))))","v":0},null,{"$f":"N14","v":222},{"$f":"COUNTIF(L8:L8,AN14)","v":0},{"$f":"AO14/(AQ4-AO8)","v":0},{"$f":"IF(AP14=0,0,(AP14*((LOG(AP14))/LOG(2))))","v":0},null,{"$f":"N14","v":222},{"$f":"COUNTIF(L8:L9,AS14)","v":0},{"$f":"AT14/(AV4-AT8)","v":0},{"$f":"IF(AU14=0,0,(AU14*((LOG(AU14))/LOG(2))))","v":0}]
[null,null,null,null,null,null,null,null,null,null,null,null,null,null,null,{"$f":"SUM(P7:P14)","v":1},{"$f":"-SUM(Q7:Q14)","v":1},null,null,null,null,{"$f":"SUM(V7:V14)","v":1},{"$f":"-SUM(W7:W14)","v":0},null,null,null,{"$f":"SUM(AA7:AA14)","v":1},{"$f":"-SUM(AB7:AB14)","v":0},null,null,null,{"$f":"SUM(AF7:AF14)","v":1},{"$f":"-SUM(AG7:AG14)","v":1},null,null,null,{"$f":"SUM(AK7:AK14)","v":1},{"$f":"-SUM(AL7:AL14)","v":1},null,null,null,{"$f":"SUM(AP7:AP14)","v":1},{"$f":"-SUM(AQ7:AQ14)","v":0},null,null,null,{"$f":"SUM(AU7:AU14)","v":1},{"$f":"-SUM(AV7:AV14)","v":0}]
[null,null,null,null,null,null,null,null,null,null,null,null,null,null,null,"U=",{"$f":"Q15/(LOG(Q4)/LOG(2))","v":1},null,null,null,null,"U1=",{"$f":"W15/(LOG(W4)/LOG(2))","v":{"$error":"#DIV/0!"}},null,null,null,"U2=",{"$f":"AB15/(LOG(AB4)/LOG(2))","v":{"$error":"#DIV/0!"}},null,null,null,"U3=",{"$f":"AG15/(LOG(AG4)/LOG(2))","v":1},null,null,null,"U4=",{"$f":"AL15/(LOG(AL4)/LOG(2))","v":1},null,null,null,"U5=",{"$f":"AQ15/(LOG(AQ4)/LOG(2))","v":{"$error":"#DIV/0!"}},null,null,null,"U6=",{"$f":"AV15/(LOG(AV4)/LOG(2))","v":{"$error":"#DIV/0!"}}]
[]
[]
[null,null,null,null,null,null,null,null,null,null,null,null,null,"Total Target Seq"]
[null,null,null,null,null,null,null,null,null,null,null,null,null,{"$f":"COUNTIF(L7:L8,G3)","v":0},null,0,1,0,0,1,0]
[null,null,null,null,null,null,null,null,null,null,null,null,null,null,null,"% of reinforcement given in 6 equal intervals based on number of trials "]
[null,null,null,null,null,null,null,null,null,null,null,null,null,null,null,"%_1","%_2","%_3","%_4","%_5","%_6"]
[null,null,null,null,null,null,null,null,null,null,null,null,null,null,"target sequence",{"$f":"$G$3","v":112},{"$f":"$G$3","v":112},{"$f":"$G$3","v":112},{"$f":"$G$3","v":112},{"$f":"$G$3","v":112},{"$f":"$G$3","v":112}]
[null,null,null,null,null,null,null,null,null,null,null,null,null,null,"total reinforcement",{"$f":"U8","v":0},{"$f":"Z8","v":0},{"$f":"AE8","v":0},{"$f":"AJ8","v":0},{"$f":"AO8","v":0},{"$f":"AT8","v":0}]
[null,null,null,null,null,null,null,null,null,null,null,null,null,null,"% target"]
[null,null,null,null,null,null,null,null,null,null,null,null,null,null,"CCRF"]
[null,null,null,null,null,null,null,null,null,null,null,null,null,null,"% CCRf"]
[null,null,null,null,null,null,null,null,null,null,null,null,null,null,"average response rate",{"$f":"F6/P20","v":{"$error":"#VALUE!"}},{"$f":"(F7-F6)/Q20","v":{"$error":"#VALUE!"}},{"$f":"(F7-F7)/R20","v":{"$error":"#DIV/0!"}},{"$f":"(F7-F7)/S20","v":{"$error":"#DIV/0!"}},{"$f":"(F8-F7)/T20","v":8121},{"$f":"(F8-F8)/U20","v":{"$error":"#DIV/0!"}}]

{"sheet":"!N42091B.AXT","index":12,"n_rows":28,"n_cols":48,"rows_kept":28,"cut":false,"hidden":false,"merged":[[4,39,4,42],[5,39,5,40],[4,44,4,47],[5,44,5,45],[4,24,4,27],[5,24,5,25],[4,29,4,32],[5,29,5,30],[4,34,4,37],[5,34,5,35],[1,1,1,2],[5,13,5,14],[18,13,18,14],[19,13,19,14],[4,19,4,22],[5,19,5,20]]}
["Report for:!N42091B.AXT"]
["Date:","<date>"]
["Hen:","<hen>",null,null,null,"Correct Sequence",{"$f":"Start!J2","v":112},null,null,null,null,null,null,null,null,"Total Sequences in Data",{"$f":"4994-COUNTBLANK(L7:L5000)","v":3},null,null,null,null,"Total Sequences in Block Data",{"$f":"COUNTA(L7:L7)","v":1},null,null,null,"Total Sequences in Block Data",{"$f":"COUNTA(L7:L8)","v":2},null,null,null,"Total Sequences in Block Data",{"$f":"COUNTA(L8:L8)","v":1},null,null,null,"Total Sequences in Block Data",{"$f":"COUNTA(L8:L9)","v":2},null,null,null,"Total Sequences in Block Data",{"$f":"COUNTA(L9:L9)","v":1},null,null,null,"Total Sequences in Block Data",{"$f":"COUNTA(L9:L10)","v":1}]
[null,null,null,null,null,null,null,null,null,null,null,null,null,null,null,"Total Sequences in Summary",{"$f":"SUM(O7:O14)","v":3},null,null,null,null,"Total Sequences in Block Summary",{"$f":"SUM(U7:U14)","v":1},null,null,null,"Total Sequences in Block Summary",{"$f":"SUM(Z7:Z14)","v":2},null,null,null,"Total Sequences in Block Summary",{"$f":"SUM(AE7:AE14)","v":1},null,null,null,"Total Sequences in Block Summary",{"$f":"SUM(AJ7:AJ14)","v":2},null,null,null,"Total Sequences in Block Summary",{"$f":"SUM(AO7:AO14)","v":1},null,null,null,"Total Sequences in Block Summary",{"$f":"SUM(AT7:AT14)","v":1}]
[null,null,null,null,null,null,null,null,null,null,null,null,null,null,null,null,null,null,null,"Block 1",null,null,null,null,"Block 2",null,null,null,null,"Block 3",null,null,null,null,"Block 4",null,null,null,null,"Block 5",null,null,null,null,"Block 6"]
["Sequence\nComponent\n1","Time\n1","Sequence\nComponent\n2","Time\n2","Sequence\nComponent\n3","Time\n3","Sequence\nComponent\n4","Time\n4","Sequence\nComponent\n5","Time\n5","Correct?\n0=No 1=Yes","Sequence",null,"Frequency",null,"Relative Frequency","Variability",null,null,"Frequency",null,"Relative Frequency","Variability",null,"Frequency",null,"Relative Frequency","Variability",null,"Frequency",null,"Relative Frequency","Variability",null,"Frequency",null,"Relative Frequency","Variability",null,"Frequency",null,"Relative Frequency","Variability",null,"Frequency",null,"Relative Frequency","Variability"]
[22,1069,13,1088,14,1095,null,null,null,null,0,211,null,111,{"$f":"COUNTIF($L$7:$L$500,N7)","v":0},{"$f":"O7/$Q$4","v":0},{"$f":"IF(P7=0,0,(P7*((LOG(P7))/LOG(2))))","v":0},null,null,{"$f":"N7","v":111},{"$f":"COUNTIF(L7:L7,T7)","v":0},{"$f":"U7/(W4-U8)","v":0},{"$f":"IF(V7=0,0,(V7*((LOG(V7))/LOG(2))))","v":0},null,{"$f":"N7","v":111},{"$f":"COUNTIF(L7:L8,Y7)","v":0},{"$f":"Z7/(AB4-Z8)","v":0},{"$f":"IF(AA7=0,0,(AA7*((LOG(AA7))/LOG(2))))","v":0},null,{"$f":"N7","v":111},{"$f":"COUNTIF(L8:L8,AD7)","v":0},{"$f":"AE7/(AG4-AE8)","v":0},{"$f":"IF(AF7=0,0,(AF7*((LOG(AF7))/LOG(2))))","v":0},null,{"$f":"N7","v":111},{"$f":"COUNTIF(L8:L9,AI7)","v":0},{"$f":"AJ7/(AL4-AJ8)","v":0},{"$f":"IF(AK7=0,0,(AK7*((LOG(AK7))/LOG(2))))","v":0},null,{"$f":"N7","v":111},{"$f":"COUNTIF(L9:L9,AN7)","v":0},{"$f":"AO7/(AQ4-AO8)","v":0},{"$f":"IF(AP7=0,0,(AP7*((LOG(AP7))/LOG(2))))","v":0},null,{"$f":"N7","v":111},{"$f":"COUNTIF(L9:L10,AS7)","v":0},{"$f":"AT7/(AV4-AT8)","v":0},{"$f":"IF(AU7=0,0,(AU7*((LOG(AU7))/LOG(2))))","v":0}]
[11,1380,22,1390,23,1422,null,null,null,null,0,122,null,112,{"$f":"COUNTIF($L$7:$L$500,N8)","v":0},{"$f":"O8/$Q$4","v":0},{"$f":"IF(P8=0,0,(P8*((LOG(P8))/LOG(2))))","v":0},null,null,{"$f":"N8","v":112},{"$f":"COUNTIF(L7:L7,T8)","v":0},null,null,null,{"$f":"N8","v":112},{"$f":"COUNTIF(L7:L8,Y8)","v":0},null,null,null,{"$f":"N8","v":112},{"$f":"COUNTIF(L8:L8,AD8)","v":0},null,null,null,{"$f":"N8","v":112},{"$f":"COUNTIF(L8:L9,AI8)","v":0},null,null,null,{"$f":"N8","v":112},{"$f":"COUNTIF(L9:L9,AN8)","v":0},null,null,null,{"$f":"N8","v":112},{"$f":"COUNTIF(L9:L10,AS8)","v":0}]
[11,1879,22,1895,14,1911,null,null,null,null,0,121,null,121,{"$f":"COUNTIF($L$7:$L$500,N9)","v":1},{"$f":"O9/$Q$4","v":0.33333333333333331},{"$f":"IF(P9=0,0,(P9*((LOG(P9))/LOG(2))))","v":-0.52832083357371862},null,null,{"$f":"N9","v":121},{"$f":"COUNTIF(L7:L7,T9)","v":0},{"$f":"U9/(W4-U8)","v":0},{"$f":"IF(V9=0,0,(V9*((LOG(V9))/LOG(2))))","v":0},null,{"$f":"N9","v":121},{"$f":"COUNTIF(L7:L8,Y9)","v":0},{"$f":"Z9/(AB4-Z8)","v":0},{"$f":"IF(AA9=0,0,(AA9*((LOG(AA9))/LOG(2))))","v":0},null,{"$f":"N9","v":121},{"$f":"COUNTIF(L8:L8,AD9)","v":0},{"$f":"AE9/(AG4-AE8)","v":0},{"$f":"IF(AF9=0,0,(AF9*((LOG(AF9))/LOG(2))))","v":0},null,{"$f":"N9","v":121},{"$f":"COUNTIF(L8:L9,AI9)","v":1},{"$f":"AJ9/(AL4-AJ8)","v":0.5},{"$f":"IF(AK9=0,0,(AK9*((LOG(AK9))/LOG(2))))","v":-0.5},null,{"$f":"N9","v":121},{"$f":"COUNTIF(L9:L9,AN9)","v":1},{"$f":"AO9/(AQ4-AO8)","v":1},{"$f":"IF(AP9=0,0,(AP9*((LOG(AP9))/LOG(2))))","v":0},null,{"$f":"N9","v":121},{"$f":"COUNTIF(L9:L10,AS9)","v":1},{"$f":"AT9/(AV4-AT8)","v":1},{"$f":"IF(AU9=0,0,(AU9*((LOG(AU9))/LOG(2))))","v":0}]
[null,null,null,null,null,null,null,null,null,null,null,null,null,122,{"$f":"COUNTIF($L$7:$L$500,N10)","v":1},{"$f":"O10/$Q$4","v":0.33333333333333331},{"$f":"IF(P10=0,0,(P10*((LOG(P10))/LOG(2))))","v":-0.52832083357371862},null,null,{"$f":"N10","v":122},{"$f":"COUNTIF(L7:L7,T10)","v":0},{"$f":"U10/(W4-U8)","v":0},{"$f":"IF(V10=0,0,(V10*((LOG(V10))/LOG(2))))","v":0},null,{"$f":"N10","v":122},{"$f":"COUNTIF(L7:L8,Y10)","v":1},{"$f":"Z10/(AB4-Z8)","v":0.5},{"$f":"IF(AA10=0,0,(AA10*((LOG(AA10))/LOG(2))))","v":-0.5},null,{"$f":"N10","v":122},{"$f":"COUNTIF(L8:L8,AD10)","v":1},{"$f":"AE10/(AG4-AE8)","v":1},{"$f":"IF(AF10=0,0,(AF10*((LOG(AF10))/LOG(2))))","v":0},null,{"$f":"N10","v":122},{"$f":"COUNTIF(L8:L9,AI10)","v":1},{"$f":"AJ10/(AL4-AJ8)","v":0.5},{"$f":"IF(AK10=0,0,(AK10*((LOG(AK10))/LOG(2))))","v":-0.5},null,{"$f":"N10","v":122},{"$f":"COUNTIF(L9:L9,AN10)","v":0},{"$f":"AO10/(AQ4-AO8)","v":0},{"$f":"IF(AP10=0,0,(AP10*((LOG(AP10))/LOG(2))))","v":0},null,{"$f":"N10","v":122},{"$f":"COUNTIF(L9:L10,AS10)","v":0},{"$f":"AT10/(AV4-AT8)","v":0},{"$f":"IF(AU10=0,0,(AU10*((LOG(AU10))/LOG(2))))","v":0}]
[null,null,null,null,null,null,null,null,null,null,null,null,null,211,{"$f":"COUNTIF($L$7:$L$500,N11)","v":1},{"$f":"O11/$Q$4","v":0.33333333333333331},{"$f":"IF(P11=0,0,(P11*((LOG(P11))/LOG(2))))","v":-0.52832083357371862},null,null,{"$f":"N11","v":211},{"$f":"COUNTIF(L7:L7,T11)","v":1},{"$f":"U11/(W4-U8)","v":1},{"$f":"IF(V11=0,0,(V11*((LOG(V11))/LOG(2))))","v":0},null,{"$f":"N11","v":211},{"$f":"COUNTIF(L7:L8,Y11)","v":1},{"$f":"Z11/(AB4-Z8)","v":0.5},{"$f":"IF(AA11=0,0,(AA11*((LOG(AA11))/LOG(2))))","v":-0.5},null,{"$f":"N11","v":211},{"$f":"COUNTIF(L8:L8,AD11)","v":0},{"$f":"AE11/(AG4-AE8)","v":0},{"$f":"IF(AF11=0,0,(AF11*((LOG(AF11))/LOG(2))))","v":0},null,{"$f":"N11","v":211},{"$f":"COUNTIF(L8:L9,AI11)","v":0},{"$f":"AJ11/(AL4-AJ8)","v":0},{"$f":"IF(AK11=0,0,(AK11*((LOG(AK11))/LOG(2))))","v":0},null,{"$f":"N11","v":211},{"$f":"COUNTIF(L9:L9,AN11)","v":0},{"$f":"AO11/(AQ4-AO8)","v":0},{"$f":"IF(AP11=0,0,(AP11*((LOG(AP11))/LOG(2))))","v":0},null,{"$f":"N11","v":211},{"$f":"COUNTIF(L9:L10,AS11)","v":0},{"$f":"AT11/(AV4-AT8)","v":0},{"$f":"IF(AU11=0,0,(AU11*((LOG(AU11))/LOG(2))))","v":0}]
[null,null,null,null,null,null,null,null,null,null,null,null,null,212,{"$f":"COUNTIF($L$7:$L$500,N12)","v":0},{"$f":"O12/$Q$4","v":0},{"$f":"IF(P12=0,0,(P12*((LOG(P12))/LOG(2))))","v":0},null,null,{"$f":"N12","v":212},{"$f":"COUNTIF(L7:L7,T12)","v":0},{"$f":"U12/(W4-U8)","v":0},{"$f":"IF(V12=0,0,(V12*((LOG(V12))/LOG(2))))","v":0},null,{"$f":"N12","v":212},{"$f":"COUNTIF(L7:L8,Y12)","v":0},{"$f":"Z12/(AB4-Z8)","v":0},{"$f":"IF(AA12=0,0,(AA12*((LOG(AA12))/LOG(2))))","v":0},null,{"$f":"N12","v":212},{"$f":"COUNTIF(L8:L8,AD12)","v":0},{"$f":"AE12/(AG4-AE8)","v":0},{"$f":"IF(AF12=0,0,(AF12*((LOG(AF12))/LOG(2))))","v":0},null,{"$f":"N12","v":212},{"$f":"COUNTIF(L8:L9,AI12)","v":0},{"$f":"AJ12/(AL4-AJ8)","v":0},{"$f":"IF(AK12=0,0,(AK12*((LOG(AK12))/LOG(2))))","v":0},null,{"$f":"N12","v":212},{"$f":"COUNTIF(L9:L9,AN12)","v":0},{"$f":"AO12/(AQ4-AO8)","v":0},{"$f":"IF(AP12=0,0,(AP12*((LOG(AP12))/LOG(2))))","v":0},null,{"$f":"N12","v":212},{"$f":"COUNTIF(L9:L10,AS12)","v":0},{"$f":"AT12/(AV4-AT8)","v":0},{"$f":"IF(AU12=0,0,(AU12*((LOG(AU12))/LOG(2))))","v":0}]
[null,null,null,null,null,null,null,null,null,null,null,null,null,221,{"$f":"COUNTIF($L$7:$L$500,N13)","v":0},{"$f":"O13/$Q$4","v":0},{"$f":"IF(P13=0,0,(P13*((LOG(P13))/LOG(2))))","v":0},null,null,{"$f":"N13","v":221},{"$f":"COUNTIF(L7:L7,T13)","v":0},{"$f":"U13/(W4-U8)","v":0},{"$f":"IF(V13=0,0,(V13*((LOG(V13))/LOG(2))))","v":0},null,{"$f":"N13","v":221},{"$f":"COUNTIF(L7:L8,Y13)","v":0},{"$f":"Z13/(AB4-Z8)","v":0},{"$f":"IF(AA13=0,0,(AA13*((LOG(AA13))/LOG(2))))","v":0},null,{"$f":"N13","v":221},{"$f":"COUNTIF(L8:L8,AD13)","v":0},{"$f":"AE13/(AG4-AE8)","v":0},{"$f":"IF(AF13=0,0,(AF13*((LOG(AF13))/LOG(2))))","v":0},null,{"$f":"N13","v":221},{"$f":"COUNTIF(L8:L9,AI13)","v":0},{"$f":"AJ13/(AL4-AJ8)","v":0},{"$f":"IF(AK13=0,0,(AK13*((LOG(AK13))/LOG(2))))","v":0},null,{"$f":"N13","v":221},{"$f":"COUNTIF(L9:L9,AN13)","v":0},{"$f":"AO13/(AQ4-AO8)","v":0},{"$f":"IF(AP13=0,0,(AP13*((LOG(AP13))/LOG(2))))","v":0},null,{"$f":"N13","v":221},{"$f":"COUNTIF(L9:L10,AS13)","v":0},{"$f":"AT13/(AV4-AT8)","v":0},{"$f":"IF(AU13=0,0,(AU13*((LOG(AU13))/LOG(2))))","v":0}]
[null,null,null,null,null,null,null,null,null,null,null,null,null,222,{"$f":"COUNTIF($L$7:$L$500,N14)","v":0},{"$f":"O14/$Q$4","v":0},{"$f":"IF(P14=0,0,(P14*((LOG(P14))/LOG(2))))","v":0},null,null,{"$f":"N14","v":222},{"$f":"COUNTIF(L7:L7,T14)","v":0},{"$f":"U14/(W4-U8)","v":0},{"$f":"IF(V14=0,0,(V14*((LOG(V14))/LOG(2))))","v":0},null,{"$f":"N14","v":222},{"$f":"COUNTIF(L7:L8,Y14)","v":0},{"$f":"Z14/(AB4-Z8)","v":0},{"$f":"IF(AA14=0,0,(AA14*((LOG(AA14))/LOG(2))))","v":0},null,{"$f":"N14","v":222},{"$f":"COUNTIF(L8:L8,AD14)","v":0},{"$f":"AE14/(AG4-AE8)","v":0},{"$f":"IF(AF14=0,0,(AF14*((LOG(AF14))/LOG(2))))","v":0},null,{"$f":"N14","v":222},{"$f":"COUNTIF(L8:L9,AI14)","v":0},{"$f":"AJ14/(AL4-AJ8)","v":0},{"$f":"IF(AK14=0,0,(AK14*((LOG(AK14))/LOG(2))))","v":0},null,{"$f":"N14","v":222},{"$f":"COUNTIF(L9:L9,AN14)","v":0},{"$f":"AO14/(AQ4-AO8)","v":0},{"$f":"IF(AP14=0,0,(AP14*((LOG(AP14))/LOG(2))))","v":0},null,{"$f":"N14","v":222},{"$f":"COUNTIF(L9:L10,AS14)","v":0},{"$f":"AT14/(AV4-AT8)","v":0},{"$f":"IF(AU14=0,0,(AU14*((LOG(AU14))/LOG(2))))","v":0}]
[null,null,null,null,null,null,null,null,null,null,null,null,null,null,null,{"$f":"SUM(P7:P14)","v":1},{"$f":"-SUM(Q7:Q14)","v":1.5849625007211559},null,null,null,null,{"$f":"SUM(V7:V14)","v":1},{"$f":"-SUM(W7:W14)","v":0},null,null,null,{"$f":"SUM(AA7:AA14)","v":1},{"$f":"-SUM(AB7:AB14)","v":1},null,null,null,{"$f":"SUM(AF7:AF14)","v":1},{"$f":"-SUM(AG7:AG14)","v":0},null,null,null,{"$f":"SUM(AK7:AK14)","v":1},{"$f":"-SUM(AL7:AL14)","v":1},null,null,null,{"$f":"SUM(AP7:AP14)","v":1},{"$f":"-SUM(AQ7:AQ14)","v":0},null,null,null,{"$f":"SUM(AU7:AU14)","v":1},{"$f":"-SUM(AV7:AV14)","v":0}]
[null,null,null,null,null,null,null,null,null,null,null,null,null,null,null,"U=",{"$f":"Q15/(LOG(Q4)/LOG(2))","v":0.99999999999999989},null,null,null,null,"U1=",{"$f":"W15/(LOG(W4)/LOG(2))","v":{"$error":"#DIV/0!"}},null,null,null,"U2=",{"$f":"AB15/(LOG(AB4)/LOG(2))","v":1},null,null,null,"U3=",{"$f":"AG15/(LOG(AG4)/LOG(2))","v":{"$error":"#DIV/0!"}},null,null,null,"U4=",{"$f":"AL15/(LOG(AL4)/LOG(2))","v":1},null,null,null,"U5=",{"$f":"AQ15/(LOG(AQ4)/LOG(2))","v":{"$error":"#DIV/0!"}},null,null,null,"U6=",{"$f":"AV15/(LOG(AV4)/LOG(2))","v":{"$error":"#DIV/0!"}}]
[]
[]
[null,null,null,null,null,null,null,null,null,null,null,null,null,"Total Target Seq"]
[null,null,null,null,null,null,null,null,null,null,null,null,null,{"$f":"COUNTIF(L7:L9,G3)","v":0},null,1,0,1,0,1,0]
[null,null,null,null,null,null,null,null,null,null,null,null,null,null,null,"% of reinforcement given in 6 equal intervals based on number of trials "]
[null,null,null,null,null,null,null,null,null,null,null,null,null,null,null,"%_1","%_2","%_3","%_4","%_5","%_6"]
[null,null,null,null,null,null,null,null,null,null,null,null,null,null,"target sequence",{"$f":"$G$3","v":112},{"$f":"$G$3","v":112},{"$f":"$G$3","v":112},{"$f":"$G$3","v":112},{"$f":"$G$3","v":112},{"$f":"$G$3","v":112}]
[null,null,null,null,null,null,null,null,null,null,null,null,null,null,"total reinforcement",{"$f":"U8","v":0},{"$f":"Z8","v":0},{"$f":"AE8","v":0},{"$f":"AJ8","v":0},{"$f":"AO8","v":0},{"$f":"AT8","v":0}]
[null,null,null,null,null,null,null,null,null,null,null,null,null,null,"% target"]
[null,null,null,null,null,null,null,null,null,null,null,null,null,null,"CCRF"]
[null,null,null,null,null,null,null,null,null,null,null,null,null,null,"% CCRf"]
[null,null,null,null,null,null,null,null,null,null,null,null,null,null,"average response rate",{"$f":"F7/P20","v":1095},{"$f":"(F7-F7)/Q20","v":{"$error":"#DIV/0!"}},{"$f":"(F8-F7)/R20","v":327},{"$f":"(F8-F8)/S20","v":{"$error":"#DIV/0!"}},{"$f":"(F9-F8)/T20","v":489},{"$f":"(F9-F9)/U20","v":{"$error":"#DIV/0!"}}]

{"sheet":"!N421A1B.AXT","index":13,"n_rows":28,"n_cols":48,"rows_kept":28,"cut":false,"hidden":false,"merged":[[4,39,4,42],[5,39,5,40],[4,44,4,47],[5,44,5,45],[4,24,4,27],[5,24,5,25],[4,29,4,32],[5,29,5,30],[4,34,4,37],[5,34,5,35],[1,1,1,2],[5,13,5,14],[18,13,18,14],[19,13,19,14],[4,19,4,22],[5,19,5,20]]}
["Report for:!N421A1B.AXT"]
["Date:","<date>"]
["Hen:","<hen>",null,null,null,"Correct Sequence",{"$f":"Start!J2","v":112},null,null,null,null,null,null,null,null,"Total Sequences in Data",{"$f":"4994-COUNTBLANK(L7:L5000)","v":6},null,null,null,null,"Total Sequences in Block Data",{"$f":"COUNTA(L7:L7)","v":1},null,null,null,"Total Sequences in Block Data",{"$f":"COUNTA(L8:L8)","v":1},null,null,null,"Total Sequences in Block Data",{"$f":"COUNTA(L9:L9)","v":1},null,null,null,"Total Sequences in Block Data",{"$f":"COUNTA(L10:L10)","v":1},null,null,null,"Total Sequences in Block Data",{"$f":"COUNTA(L11:L11)","v":1},null,null,null,"Total Sequences in Block Data",{"$f":"COUNTA(L12:L12)","v":1}]
[null,null,null,null,null,null,null,null,null,null,null,null,null,null,null,"Total Sequences in Summary",{"$f":"SUM(O7:O14)","v":5},null,null,null,null,"Total Sequences in Block Summary",{"$f":"SUM(U7:U14)","v":1},null,null,null,"Total Sequences in Block Summary",{"$f":"SUM(Z7:Z14)","v":1},null,null,null,"Total Sequences in Block Summary",{"$f":"SUM(AE7:AE14)","v":1},null,null,null,"Total Sequences in Block Summary",{"$f":"SUM(AJ7:AJ14)","v":1},null,null,null,"Total Sequences in Block Summary",{"$f":"SUM(AO7:AO14)","v":1},null,null,null,"Total Sequences in Block Summary",{"$f":"SUM(AT7:AT14)","v":0}]
[null,null,null,null,null,null,null,null,null,null,null,null,null,null,null,null,null,null,null,"Block 1",null,null,null,null,"Block 2",null,null,null,null,"Block 3",null,null,null,null,"Block 4",null,null,null,null,"Block 5",null,null,null,null,"Block 6"]
["Sequence\nComponent\n1","Time\n1","Sequence\nComponent\n2","Time\n2","Sequence\nComponent\n3","Time\n3","Sequence\nComponent\n4","Time\n4","Sequence\nComponent\n5","Time\n5","Correct?\n0=No 1=Yes","Sequence",null,"Frequency",null,"Relative Frequency","Variability",null,null,"Frequency",null,"Relative Frequency","Variability",null,"Frequency",null,"Relative Frequency","Variability",null,"Frequency",null,"Relative Frequency","Variability",null,"Frequency",null,"Relative Frequency","Variability",null,"Frequency",null,"Relative Frequency","Variability",null,"Frequency",null,"Relative Frequency","Variability"]
[22,16,24,22,14,31,null,null,null,null,0,221,null,111,{"$f":"COUNTIF($L$7:$L$500,N7)","v":1},{"$f":"O7/$Q$4","v":0.2},{"$f":"IF(P7=0,0,(P7*((LOG(P7))/LOG(2))))","v":-0.46438561897747244},null,null,{"$f":"N7","v":111},{"$f":"COUNTIF(L7:L7,T7)","v":0},{"$f":"U7/(W4-U8)","v":0},{"$f":"IF(V7=0,0,(V7*((LOG(V7))/LOG(2))))","v":0},null,{"$f":"N7","v":111},{"$f":"COUNTIF(L8:L8,Y7)","v":0},{"$f":"Z7/(AB4-Z8)","v":0},{"$f":"IF(AA7=0,0,(AA7*((LOG(AA7))/LOG(2))))","v":0},null,{"$f":"N7","v":111},{"$f":"COUNTIF(L9:L9,AD7)","v":1},{"$f":"AE7/(AG4-AE8)","v":1},{"$f":"IF(AF7=0,0,(AF7*((LOG(AF7))/LOG(2))))","v":0},null,{"$f":"N7","v":111},{"$f":"COUNTIF(L10:L10,AI7)","v":0},{"$f":"AJ7/(AL4-AJ8)","v":0},{"$f":"IF(AK7=0,0,(AK7*((LOG(AK7))/LOG(2))))","v":0},null,{"$f":"N7","v":111},{"$f":"COUNTIF(L11:L11,AN7)","v":0},{"$f":"AO7/(AQ4-AO8)","v":0},{"$f":"IF(AP7=0,0,(AP7*((LOG(AP7))/LOG(2))))","v":0},null,{"$f":"N7","v":111},{"$f":"COUNTIF(L12:L12,AS7)","v":0},{"$f":"AT7/(AV4-AT8)","v":{"$error":"#DIV/0!"}},{"$f":"IF(AU7=0,0,(AU7*((LOG(AU7))/LOG(2))))","v":{"$error":"#DIV/0!"}}]
[22,1102,13,1124,14,1134,null,null,null,null,0,211,null,112,{"$f":"COUNTIF($L$7:$L$500,N8)","v":0},{"$f":"O8/$Q$4","v":0},{"$f":"IF(P8=0,0,(P8*((LOG(P8))/LOG(2))))","v":0},null,null,{"$f":"N8","v":112},{"$f":"COUNTIF(L7:L7,T8)","v":0},null,null,null,{"$f":"N8","v":112},{"$f":"COUNTIF(L8:L8,Y8)","v":0},null,null,null,{"$f":"N8","v":112},{"$f":"COUNTIF(L9:L9,AD8)","v":0},null,null,null,{"$f":"N8","v":112},{"$f":"COUNTIF(L10:L10,AI8)","v":0},null,null,null,{"$f":"N8","v":112},{"$f":"COUNTIF(L11:L11,AN8)","v":0},null,null,null,{"$f":"N8","v":112},{"$f":"COUNTIF(L12:L12,AS8)","v":0}]
[11,3185,11,3188,12,3204,null,null,null,null,0,111,null,121,{"$f":"COUNTIF($L$7:$L$500,N9)","v":0},{"$f":"O9/$Q$4","v":0},{"$f":"IF(P9=0,0,(P9*((LOG(P9))/LOG(2))))","v":0},null,null,{"$f":"N9","v":121},{"$f":"COUNTIF(L7:L7,T9)","v":0},{"$f":"U9/(W4-U8)","v":0},{"$f":"IF(V9=0,0,(V9*((LOG(V9))/LOG(2))))","v":0},null,{"$f":"N9","v":121},{"$f":"COUNTIF(L8:L8,Y9)","v":0},{"$f":"Z9/(AB4-Z8)","v":0},{"$f":"IF(AA9=0,0,(AA9*((LOG(AA9))/LOG(2))))","v":0},null,{"$f":"N9","v":121},{"$f":"COUNTIF(L9:L9,AD9)","v":0},{"$f":"AE9/(AG4-AE8)","v":0},{"$f":"IF(AF9=0,0,(AF9*((LOG(AF9))/LOG(2))))","v":0},null,{"$f":"N9","v":121},{"$f":"COUNTIF(L10:L10,AI9)","v":0},{"$f":"AJ9/(AL4-AJ8)","v":0},{"$f":"IF(AK9=0,0,(AK9*((LOG(AK9))/LOG(2))))","v":0},null,{"$f":"N9","v":121},{"$f":"COUNTIF(L11:L11,AN9)","v":0},{"$f":"AO9/(AQ4-AO8)","v":0},{"$f":"IF(AP9=0,0,(AP9*((LOG(AP9))/LOG(2))))","v":0},null,{"$f":"N9","v":121},{"$f":"COUNTIF(L12:L12,AS9)","v":0},{"$f":"AT9/(AV4-AT8)","v":{"$error":"#DIV/0!"}},{"$f":"IF(AU9=0,0,(AU9*((LOG(AU9))/LOG(2))))","v":{"$error":"#DIV/0!"}}]
[11,3315,22,3319,23,3348,null,null,null,null,0,122,null,122,{"$f":"COUNTIF($L$7:$L$500,N10)","v":1},{"$f":"O10/$Q$4","v":0.2},{"$f":"IF(P10=0,0,(P10*((LOG(P10))/LOG(2))))","v":-0.46438561897747244},null,null,{"$f":"N10","v":122},{"$f":"COUNTIF(L7:L7,T10)","v":0},{"$f":"U10/(W4-U8)","v":0},{"$f":"IF(V10=0,0,(V10*((LOG(V10))/LOG(2))))","v":0},null,{"$f":"N10","v":122},{"$f":"COUNTIF(L8:L8,Y10)","v":0},{"$f":"Z10/(AB4-Z8)","v":0},{"$f":"IF(AA10=0,0,(AA10*((LOG(AA10))/LOG(2))))","v":0},null,{"$f":"N10","v":122},{"$f":"COUNTIF(L9:L9,AD10)","v":0},{"$f":"AE10/(AG4-AE8)","v":0},{"$f":"IF(AF10=0,0,(AF10*((LOG(AF10))/LOG(2))))","v":0},null,{"$f":"N10","v":122},{"$f":"COUNTIF(L10:L10,AI10)","v":1},{"$f":"AJ10/(AL4-AJ8)","v":1},{"$f":"IF(AK10=0,0,(AK10*((LOG(AK10))/LOG(2))))","v":0},null,{"$f":"N10","v":122},{"$f":"COUNTIF(L11:L11,AN10)","v":0},{"$f":"AO10/(AQ4-AO8)","v":0},{"$f":"IF(AP10=0,0,(AP10*((LOG(AP10))/LOG(2))))","v":0},null,{"$f":"N10","v":122},{"$f":"COUNTIF(L12:L12,AS10)","v":0},{"$f":"AT10/(AV4-AT8)","v":{"$error":"#DIV/0!"}},{"$f":"IF(AU10=0,0,(AU10*((LOG(AU10))/LOG(2))))","v":{"$error":"#DIV/0!"}}]
[22,21693,24,21709,14,21713,null,null,null,null,0,221,null,211,{"$f":"COUNTIF($L$7:$L$500,N11)","v":1},{"$f":"O11/$Q$4","v":0.2},{"$f":"IF(P11=0,0,(P11*((LOG(P11))/LOG(2))))","v":-0.46438561897747244},null,null,{"$f":"N11","v":211},{"$f":"COUNTIF(L7:L7,T11)","v":0},{"$f":"U11/(W4-U8)","v":0},{"$f":"IF(V11=0,0,(V11*((LOG(V11))/LOG(2))))","v":0},null,{"$f":"N11","v":211},{"$f":"COUNTIF(L8:L8,Y11)","v":1},{"$f":"Z11/(AB4-Z8)","v":1},{"$f":"IF(AA11=0,0,(AA11*((LOG(AA11))/LOG(2))))","v":0},null,{"$f":"N11","v":211},{"$f":"COUNTIF(L9:L9,AD11)","v":0},{"$f":"AE11/(AG4-AE8)","v":0},{"$f":"IF(AF11=0,0,(AF11*((LOG(AF11))/LOG(2))))","v":0},null,{"$f":"N11","v":211},{"$f":"COUNTIF(L10:L10,AI11)","v":0},{"$f":"AJ11/(AL4-AJ8)","v":0},{"$f":"IF(AK11=0,0,(AK11*((LOG(AK11))/LOG(2))))","v":0},null,{"$f":"N11","v":211},{"$f":"COUNTIF(L11:L11,AN11)","v":0},{"$f":"AO11/(AQ4-AO8)","v":0},{"$f":"IF(AP11=0,0,(AP11*((LOG(AP11))/LOG(2))))","v":0},null,{"$f":"N11","v":211},{"$f":"COUNTIF(L12:L12,AS11)","v":0},{"$f":"AT11/(AV4-AT8)","v":{"$error":"#DIV/0!"}},{"$f":"IF(AU11=0,0,(AU11*((LOG(AU11))/LOG(2))))","v":{"$error":"#DIV/0!"}}]
[22,23258,null,null,null,null,null,null,null,null,null,2,null,212,{"$f":"COUNTIF($L$7:$L$500,N12)","v":0},{"$f":"O12/$Q$4","v":0},{"$f":"IF(P12=0,0,(P12*((LOG(P12))/LOG(2))))","v":0},null,null,{"$f":"N12","v":212},{"$f":"COUNTIF(L7:L7,T12)","v":0},{"$f":"U12/(W4-U8)","v":0},{"$f":"IF(V12=0,0,(V12*((LOG(V12))/LOG(2))))","v":0},null,{"$f":"N12","v":212},{"$f":"COUNTIF(L8:L8,Y12)","v":0},{"$f":"Z12/(AB4-Z8)","v":0},{"$f":"IF(AA12=0,0,(AA12*((LOG(AA12))/LOG(2))))","v":0},null,{"$f":"N12","v":212},{"$f":"COUNTIF(L9:L9,AD12)","v":0},{"$f":"AE12/(AG4-AE8)","v":0},{"$f":"IF(AF12=0,0,(AF12*((LOG(AF12))/LOG(2))))","v":0},null,{"$f":"N12","v":212},{"$f":"COUNTIF(L10:L10,AI12)","v":0},{"$f":"AJ12/(AL4-AJ8)","v":0},{"$f":"IF(AK12=0,0,(AK12*((LOG(AK12))/LOG(2))))","v":0},null,{"$f":"N12","v":212},{"$f":"COUNTIF(L11:L11,AN12)","v":0},{"$f":"AO12/(AQ4-AO8)","v":0},{"$f":"IF(AP12=0,0,(AP12*((LOG(AP12))/LOG(2))))","v":0},null,{"$f":"N12","v":212},{"$f":"COUNTIF(L12:L12,AS12)","v":0},{"$f":"AT12/(AV4-AT8)","v":{"$error":"#DIV/0!"}},{"$f":"IF(AU12=0,0,(AU12*((LOG(AU12))/LOG(2))))","v":{"$error":"#DIV/0!"}}]
[null,null,null,null,null,null,null,null,null,null,null,null,null,221,{"$f":"COUNTIF($L$7:$L$500,N13)","v":2},{"$f":"O13/$Q$4","v":0.4},{"$f":"IF(P13=0,0,(P13*((LOG(P13))/LOG(2))))","v":-0.52877123795494496},null,null,{"$f":"N13","v":221},{"$f":"COUNTIF(L7:L7,T13)","v":1},{"$f":"U13/(W4-U8)","v":1},{"$f":"IF(V13=0,0,(V13*((LOG(V13))/LOG(2))))","v":0},null,{"$f":"N13","v":221},{"$f":"COUNTIF(L8:L8,Y13)","v":0},{"$f":"Z13/(AB4-Z8)","v":0},{"$f":"IF(AA13=0,0,(AA13*((LOG(AA13))/LOG(2))))","v":0},null,{"$f":"N13","v":221},{"$f":"COUNTIF(L9:L9,AD13)","v":0},{"$f":"AE13/(AG4-AE8)","v":0},{"$f":"IF(AF13=0,0,(AF13*((LOG(AF13))/LOG(2))))","v":0},null,{"$f":"N13","v":221},{"$f":"COUNTIF(L10:L10,AI13)","v":0},{"$f":"AJ13/(AL4-AJ8)","v":0},{"$f":"IF(AK13=0,0,(AK13*((LOG(AK13))/LOG(2))))","v":0},null,{"$f":"N13","v":221},{"$f":"COUNTIF(L11:L11,AN13)","v":1},{"$f":"AO13/(AQ4-AO8)","v":1},{"$f":"IF(AP13=0,0,(AP13*((LOG(AP13))/LOG(2))))","v":0},null,{"$f":"N13","v":221},{"$f":"COUNTIF(L12:L12,AS13)","v":0},{"$f":"AT13/(AV4-AT8)","v":{"$error":"#DIV/0!"}},{"$f":"IF(AU13=0,0,(AU13*((LOG(AU13))/LOG(2))))","v":{"$error":"#DIV/0!"}}]
[null,null,null,null,null,null,null,null,null,null,null,null,null,222,{"$f":"COUNTIF($L$7:$L$500,N14)","v":0},{"$f":"O14/$Q$4","v":0},{"$f":"IF(P14=0,0,(P14*((LOG(P14))/LOG(2))))","v":0},null,null,{"$f":"N14","v":222},{"$f":"COUNTIF(L7:L7,T14)","v":0},{"$f":"U14/(W4-U8)","v":0},{"$f":"IF(V14=0,0,(V14*((LOG(V14))/LOG(2))))","v":0},null,{"$f":"N14","v":222},{"$f":"COUNTIF(L8:L8,Y14)","v":0},{"$f":"Z14/(AB4-Z8)","v":0},{"$f":"IF(AA14=0,0,(AA14*((LOG(AA14))/LOG(2))))","v":0},null,{"$f":"N14","v":222},{"$f":"COUNTIF(L9:L9,AD14)","v":0},{"$f":"AE14/(AG4-AE8)","v":0},{"$f":"IF(AF14=0,0,(AF14*((LOG(AF14))/LOG(2))))","v":0},null,{"$f":"N14","v":222},{"$f":"COUNTIF(L10:L10,AI14)","v":0},{"$f":"AJ14/(AL4-AJ8)","v":0},{"$f":"IF(AK14=0,0,(AK14*((LOG(AK14))/LOG(2))))","v":0},null,{"$f":"N14","v":222},{"$f":"COUNTIF(L11:L11,AN14)","v":0},{"$f":"AO14/(AQ4-AO8)","v":0},{"$f":"IF(AP14=0,0,(AP14*((LOG(AP14))/LOG(2))))","v":0},null,{"$f":"N14","v":222},{"$f":"COUNTIF(L12:L12,AS14)","v":0},{"$f":"AT14/(AV4-AT8)","v":{"$error":"#DIV/0!"}},{"$f":"IF(AU14=0,0,(AU14*((LOG(AU14))/LOG(2))))","v":{"$error":"#DIV/0!"}}]
[null,null,null,null,null,null,null,null,null,null,null,null,null,null,null,{"$f":"SUM(P7:P14)","v":1},{"$f":"-SUM(Q7:Q14)","v":1.9219280948873623},null,null,null,null,{"$f":"SUM(V7:V14)","v":1},{"$f":"-SUM(W7:W14)","v":0},null,null,null,{"$f":"SUM(AA7:AA14)","v":1},{"$f":"-SUM(AB7:AB14)","v":0},null,null,null,{"$f":"SUM(AF7:AF14)","v":1},{"$f":"-SUM(AG7:AG14)","v":0},null,null,null,{"$f":"SUM(AK7:AK14)","v":1},{"$f":"-SUM(AL7:AL14)","v":0},null,null,null,{"$f":"SUM(AP7:AP14)","v":1},{"$f":"-SUM(AQ7:AQ14)","v":0},null,null,null,{"$f":"SUM(AU7:AU14)","v":{"$error":"#DIV/0!"}},{"$f":"-SUM(AV7:AV14)","v":{"$error":"#DIV/0!"}}]
[null,null,null,null,null,null,null,null,null,null,null,null,null,null,null,"U=",{"$f":"Q15/(LOG(Q4)/LOG(2))","v":0.82772937677064262},null,null,null,null,"U1=",{"$f":"W15/(LOG(W4)/LOG(2))","v":{"$error":"#DIV/0!"}},null,null,null,"U2=",{"$f":"AB15/(LOG(AB4)/LOG(2))","v":{"$error":"#DIV/0!"}},null,null,null,"U3=",{"$f":"AG15/(LOG(AG4)/LOG(2))","v":{"$error":"#DIV/0!"}},null,null,null,"U4=",{"$f":"AL15/(LOG(AL4)/LOG(2))","v":{"$error":"#DIV/0!"}},null,null,null,"U5=",{"$f":"AQ15/(LOG(AQ4)/LOG(2))","v":{"$error":"#DIV/0!"}},null,null,null,"U6=",{"$f":"AV15/(LOG(AV4)/LOG(2))","v":{"$error":"#DIV/0!"}}]
[]
[]
[null,null,null,null,null,null,null,null,null,null,null,null,null,"Total Target Seq"]
[null,null,null,null,null,null,null,null,null,null,null,null,null,{"$f":"COUNTIF(L7:L12,G3)","v":0},null,1,1,1,1,1,1]
[null,null,null,null,null,null,null,null,null,null,null,null,null,null,null,"% of reinforcement given in 6 equal intervals based on number of trials "]
[null,null,null,null,null,null,null,null,null,null,null,null,null,null,null,"%_1","%_2","%_3","%_4","%_5","%_6"]
[null,null,null,null,null,null,null,null,null,null,null,null,null,null,"target sequence",{"$f":"$G$3","v":112},{"$f":"$G$3","v":112},{"$f":"$G$3","v":112},{"$f":"$G$3","v":112},{"$f":"$G$3","v":112},{"$f":"$G$3","v":112}]
[null,null,null,null,null,null,null,null,null,null,null,null,null,null,"total reinforcement",{"$f":"U8","v":0},{"$f":"Z8","v":0},{"$f":"AE8","v":0},{"$f":"AJ8","v":0},{"$f":"AO8","v":0},{"$f":"AT8","v":0}]
[null,null,null,null,null,null,null,null,null,null,null,null,null,null,"% target"]
[null,null,null,null,null,null,null,null,null,null,null,null,null,null,"CCRF"]
[null,null,null,null,null,null,null,null,null,null,null,null,null,null,"% CCRf"]
[null,null,null,null,null,null,null,null,null,null,null,null,null,null,"average response rate",{"$f":"F7/P20","v":31},{"$f":"(F8-F7)/Q20","v":1103},{"$f":"(F9-F8)/R20","v":2070},{"$f":"(F10-F9)/S20","v":144},{"$f":"(F11-F10)/T20","v":18365},{"$f":"(F12-F11)/U20","v":-21713}]

{"sheet":"!N42294B.AXT","index":14,"n_rows":28,"n_cols":48,"rows_kept":28,"cut":false,"hidden":false,"merged":[[4,39,4,42],[5,39,5,40],[4,44,4,47],[5,44,5,45],[4,24,4,27],[5,24,5,25],[4,29,4,32],[5,29,5,30],[4,34,4,37],[5,34,5,35],[1,1,1,2],[5,13,5,14],[18,13,18,14],[19,13,19,14],[4,19,4,22],[5,19,5,20]]}
["Report for:!N42294B.AXT"]
["Date:","<date>"]
["Hen:","<hen>",null,null,null,"Correct Sequence",{"$f":"Start!J2","v":112},null,null,null,null,null,null,null,null,"Total Sequences in Data",{"$f":"4994-COUNTBLANK(L7:L5000)","v":1},null,null,null,null,"Total Sequences in Block Data",{"$f":"COUNTA(L6:L7)","v":2},null,null,null,"Total Sequences in Block Data",{"$f":"COUNTA(L6:L7)","v":2},null,null,null,"Total Sequences in Block Data",{"$f":"COUNTA(L7:L7)","v":1},null,null,null,"Total Sequences in Block Data",{"$f":"COUNTA(L7:L8)","v":1},null,null,null,"Total Sequences in Block Data",{"$f":"COUNTA(L7:L8)","v":1},null,null,null,"Total Sequences in Block Data",{"$f":"COUNTA(L7:L8)","v":1}]
[null,null,null,null,null,null,null,null,null,null,null,null,null,null,null,"Total Sequences in Summary",{"$f":"SUM(O7:O14)","v":1},null,null,null,null,"Total Sequences in Block Summary",{"$f":"SUM(U7:U14)","v":1},null,null,null,"Total Sequences in Block Summary",{"$f":"SUM(Z7:Z14)","v":1},null,null,null,"Total Sequences in Block Summary",{"$f":"SUM(AE7:AE14)","v":1},null,null,null,"Total Sequences in Block Summary",{"$f":"SUM(AJ7:AJ14)","v":1},null,null,null,"Total Sequences in Block Summary",{"$f":"SUM(AO7:AO14)","v":1},null,null,null,"Total Sequences in Block Summary",{"$f":"SUM(AT7:AT14)","v":1}]
[null,null,null,null,null,null,null,null,null,null,null,null,null,null,null,null,null,null,null,"Block 1",null,null,null,null,"Block 2",null,null,null,null,"Block 3",null,null,null,null,"Block 4",null,null,null,null,"Block 5",null,null,null,null,"Block 6"]
["Sequence\nComponent\n1","Time\n1","Sequence\nComponent\n2","Time\n2","Sequence\nComponent\n3","Time\n3","Sequence\nComponent\n4","Time\n4","Sequence\nComponent\n5","Time\n5","Correct?\n0=No 1=Yes","Sequence",null,"Frequency",null,"Relative Frequency","Variability",null,null,"Frequency",null,"Relative Frequency","Variability",null,"Frequency",null,"Relative Frequency","Variability",null,"Frequency",null,"Relative Frequency","Variability",null,"Frequency",null,"Relative Frequency","Variability",null,"Frequency",null,"Relative Frequency","Variability",null,"Frequency",null,"Relative Frequency","Variability"]
[11,1817,11,1841,12,1849,null,null,null,null,0,111,null,111,{"$f":"COUNTIF($L$7:$L$500,N7)","v":1},{"$f":"O7/$Q$4","v":1},{"$f":"IF(P7=0,0,(P7*((LOG(P7))/LOG(2))))","v":0},null,null,{"$f":"N7","v":111},{"$f":"COUNTIF(L6:L7,T7)","v":1},{"$f":"U7/(W4-U8)","v":1},{"$f":"IF(V7=0,0,(V7*((LOG(V7))/LOG(2))))","v":0},null,{"$f":"N7","v":111},{"$f":"COUNTIF(L6:L7,Y7)","v":1},{"$f":"Z7/(AB4-Z8)","v":1},{"$f":"IF(AA7=0,0,(AA7*((LOG(AA7))/LOG(2))))","v":0},null,{"$f":"N7","v":111},{"$f":"COUNTIF(L7:L7,AD7)","v":1},{"$f":"AE7/(AG4-AE8)","v":1},{"$f":"IF(AF7=0,0,(AF7*((LOG(AF7))/LOG(2))))","v":0},null,{"$f":"N7","v":111},{"$f":"COUNTIF(L7:L8,AI7)","v":1},{"$f":"AJ7/(AL4-AJ8)","v":1},{"$f":"IF(AK7=0,0,(AK7*((LOG(AK7))/LOG(2))))","v":0},null,{"$f":"N7","v":111},{"$f":"COUNTIF(L7:L8,AN7)","v":1},{"$f":"AO7/(AQ4-AO8)","v":1},{"$f":"IF(AP7=0,0,(AP7*((LOG(AP7))/LOG(2))))","v":0},null,{"$f":"N7","v":111},{"$f":"COUNTIF(L7:L8,AS7)","v":1},{"$f":"AT7/(AV4-AT8)","v":1},{"$f":"IF(AU7=0,0,(AU7*((LOG(AU7))/LOG(2))))","v":0}]
[null,null,null,null,null,null,null,null,null,null,null,null,null,112,{"$f":"COUNTIF($L$7:$L$500,N8)","v":0},{"$f":"O8/$Q$4","v":0},{"$f":"IF(P8=0,0,(P8*((LOG(P8))/LOG(2))))","v":0},null,null,{"$f":"N8","v":112},{"$f":"COUNTIF(L6:L7,T8)","v":0},null,null,null,{"$f":"N8","v":112},{"$f":"COUNTIF(L6:L7,Y8)","v":0},null,null,null,{"$f":"N8","v":112},{"$f":"COUNTIF(L7:L7,AD8)","v":0},null,null,null,{"$f":"N8","v":112},{"$f":"COUNTIF(L7:L8,AI8)","v":0},null,null,null,{"$f":"N8","v":112},{"$f":"COUNTIF(L7:L8,AN8)","v":0},null,null,null,{"$f":"N8","v":112},{"$f":"COUNTIF(L7:L8,AS8)","v":0}]
[null,null,null,null,null,null,null,null,null,null,null,null,null,121,{"$f":"COUNTIF($L$7:$L$500,N9)","v":0},{"$f":"O9/$Q$4","v":0},{"$f":"IF(P9=0,0,(P9*((LOG(P9))/LOG(2))))","v":0},null,null,{"$f":"N9","v":121},{"$f":"COUNTIF(L6:L7,T9)","v":0},{"$f":"U9/(W4-U8)","v":0},{"$f":"IF(V9=0,0,(V9*((LOG(V9))/LOG(2))))","v":0},null,{"$f":"N9","v":121},{"$f":"COUNTIF(L6:L7,Y9)","v":0},{"$f":"Z9/(AB4-Z8)","v":0},{"$f":"IF(AA9=0,0,(AA9*((LOG(AA9))/LOG(2))))","v":0},null,{"$f":"N9","v":121},{"$f":"COUNTIF(L7:L7,AD9)","v":0},{"$f":"AE9/(AG4-AE8)","v":0},{"$f":"IF(AF9=0,0,(AF9*((LOG(AF9))/LOG(2))))","v":0},null,{"$f":"N9","v":121},{"$f":"COUNTIF(L7:L8,AI9)","v":0},{"$f":"AJ9/(AL4-AJ8)","v":0},{"$f":"IF(AK9=0,0,(AK9*((LOG(AK9))/LOG(2))))","v":0},null,{"$f":"N9","v":121},{"$f":"COUNTIF(L7:L8,AN9)","v":0},{"$f":"AO9/(AQ4-AO8)","v":0},{"$f":"IF(AP9=0,0,(AP9*((LOG(AP9))/LOG(2))))","v":0},null,{"$f":"N9","v":121},{"$f":"COUNTIF(L7:L8,AS9)","v":0},{"$f":"AT9/(AV4-AT8)","v":0},{"$f":"IF(AU9=0,0,(AU9*((LOG(AU9))/LOG(2))))","v":0}]
[null,null,null,null,null,null,null,null,null,null,null,null,null,122,{"$f":"COUNTIF($L$7:$L$500,N10)","v":0},{"$f":"O10/$Q$4","v":0},{"$f":"IF(P10=0,0,(P10*((LOG(P10))/LOG(2))))","v":0},null,null,{"$f":"N10","v":122},{"$f":"COUNTIF(L6:L7,T10)","v":0},{"$f":"U10/(W4-U8)","v":0},{"$f":"IF(V10=0,0,(V10*((LOG(V10))/LOG(2))))","v":0},null,{"$f":"N10","v":122},{"$f":"COUNTIF(L6:L7,Y10)","v":0},{"$f":"Z10/(AB4-Z8)","v":0},{"$f":"IF(AA10=0,0,(AA10*((LOG(AA10))/LOG(2))))","v":0},null,{"$f":"N10","v":122},{"$f":"COUNTIF(L7:L7,AD10)","v":0},{"$f":"AE10/(AG4-AE8)","v":0},{"$f":"IF(AF10=0,0,(AF10*((LOG(AF10))/LOG(2))))","v":0},null,{"$f":"N10","v":122},{"$f":"COUNTIF(L7:L8,AI10)","v":0},{"$f":"AJ10/(AL4-AJ8)","v":0},{"$f":"IF(AK10=0,0,(AK10*((LOG(AK10))/LOG(2))))","v":0},null,{"$f":"N10","v":122},{"$f":"COUNTIF(L7:L8,AN10)","v":0},{"$f":"AO10/(AQ4-AO8)","v":0},{"$f":"IF(AP10=0,0,(AP10*((LOG(AP10))/LOG(2))))","v":0},null,{"$f":"N10","v":122},{"$f":"COUNTIF(L7:L8,AS10)","v":0},{"$f":"AT10/(AV4-AT8)","v":0},{"$f":"IF(AU10=0,0,(AU10*((LOG(AU10))/LOG(2))))","v":0}]
[null,null,null,null,null,null,null,null,null,null,null,null,null,211,{"$f":"COUNTIF($L$7:$L$500,N11)","v":0},{"$f":"O11/$Q$4","v":0},{"$f":"IF(P11=0,0,(P11*((LOG(P11))/LOG(2))))","v":0},null,null,{"$f":"N11","v":211},{"$f":"COUNTIF(L6:L7,T11)","v":0},{"$f":"U11/(W4-U8)","v":0},{"$f":"IF(V11=0,0,(V11*((LOG(V11))/LOG(2))))","v":0},null,{"$f":"N11","v":211},{"$f":"COUNTIF(L6:L7,Y11)","v":0},{"$f":"Z11/(AB4-Z8)","v":0},{"$f":"IF(AA11=0,0,(AA11*((LOG(AA11))/LOG(2))))","v":0},null,{"$f":"N11","v":211},{"$f":"COUNTIF(L7:L7,AD11)","v":0},{"$f":"AE11/(AG4-AE8)","v":0},{"$f":"IF(AF11=0,0,(AF11*((LOG(AF11))/LOG(2))))","v":0},null,{"$f":"N11","v":211},{"$f":"COUNTIF(L7:L8,AI11)","v":0},{"$f":"AJ11/(AL4-AJ8)","v":0},{"$f":"IF(AK11=0,0,(AK11*((LOG(AK11))/LOG(2))))","v":0},null,{"$f":"N11","v":211},{"$f":"COUNTIF(L7:L8,AN11)","v":0},{"$f":"AO11/(AQ4-AO8)","v":0},{"$f":"IF(AP11=0,0,(AP11*((LOG(AP11))/LOG(2))))","v":0},null,{"$f":"N11","v":211},{"$f":"COUNTIF(L7:L8,AS11)","v":0},{"$f":"AT11/(AV4-AT8)","v":0},{"$f":"IF(AU11=0,0,(AU11*((LOG(AU11))/LOG(2))))","v":0}]
[null,null,null,null,null,null,null,null,null,null,null,null,null,212,{"$f":"COUNTIF($L$7:$L$500,N12)","v":0},{"$f":"O12/$Q$4","v":0},{"$f":"IF(P12=0,0,(P12*((LOG(P12))/LOG(2))))","v":0},null,null,{"$f":"N12","v":212},{"$f":"COUNTIF(L6:L7,T12)","v":0},{"$f":"U12/(W4-U8)","v":0},{"$f":"IF(V12=0,0,(V12*((LOG(V12))/LOG(2))))","v":0},null,{"$f":"N12","v":212},{"$f":"COUNTIF(L6:L7,Y12)","v":0},{"$f":"Z12/(AB4-Z8)","v":0},{"$f":"IF(AA12=0,0,(AA12*((LOG(AA12))/LOG(2))))","v":0},null,{"$f":"N12","v":212},{"$f":"COUNTIF(L7:L7,AD12)","v":0},{"$f":"AE12/(AG4-AE8)","v":0},{"$f":"IF(AF12=0,0,(AF12*((LOG(AF12))/LOG(2))))","v":0},null,{"$f":"N12","v":212},{"$f":"COUNTIF(L7:L8,AI12)","v":0},{"$f":"AJ12/(AL4-AJ8)","v":0},{"$f":"IF(AK12=0,0,(AK12*((LOG(AK12))/LOG(2))))","v":0},null,{"$f":"N12","v":212},{"$f":"COUNTIF(L7:L8,AN12)","v":0},{"$f":"AO12/(AQ4-AO8)","v":0},{"$f":"IF(AP12=0,0,(AP12*((LOG(AP12))/LOG(2))))","v":0},null,{"$f":"N12","v":212},{"$f":"COUNTIF(L7:L8,AS12)","v":0},{"$f":"AT12/(AV4-AT8)","v":0},{"$f":"IF(AU12=0,0,(AU12*((LOG(AU12))/LOG(2))))","v":0}]
[null,null,null,null,null,null,null,null,null,null,null,null,null,221,{"$f":"COUNTIF($L$7:$L$500,N13)","v":0},{"$f":"O13/$Q$4","v":0},{"$f":"IF(P13=0,0,(P13*((LOG(P13))/LOG(2))))","v":0},null,null,{"$f":"N13","v":221},{"$f":"COUNTIF(L6:L7,T13)","v":0},{"$f":"U13/(W4-U8)","v":0},{"$f":"IF(V13=0,0,(V13*((LOG(V13))/LOG(2))))","v":0},null,{"$f":"N13","v":221},{"$f":"COUNTIF(L6:L7,Y13)","v":0},{"$f":"Z13/(AB4-Z8)","v":0},{"$f":"IF(AA13=0,0,(AA13*((LOG(AA13))/LOG(2))))","v":0},null,{"$f":"N13","v":221},{"$f":"COUNTIF(L7:L7,AD13)","v":0},{"$f":"AE13/(AG4-AE8)","v":0},{"$f":"IF(AF13=0,0,(AF13*((LOG(AF13))/LOG(2))))","v":0},null,{"$f":"N13","v":221},{"$f":"COUNTIF(L7:L8,AI13)","v":0},{"$f":"AJ13/(AL4-AJ8)","v":0},{"$f":"IF(AK13=0,0,(AK13*((LOG(AK13))/LOG(2))))","v":0},null,{"$f":"N13","v":221},{"$f":"COUNTIF(L7:L8,AN13)","v":0},{"$f":"AO13/(AQ4-AO8)","v":0},{"$f":"IF(AP13=0,0,(AP13*((LOG(AP13))/LOG(2))))","v":0},null,{"$f":"N13","v":221},{"$f":"COUNTIF(L7:L8,AS13)","v":0},{"$f":"AT13/(AV4-AT8)","v":0},{"$f":"IF(AU13=0,0,(AU13*((LOG(AU13))/LOG(2))))","v":0}]
[null,null,null,null,null,null,null,null,null,null,null,null,null,222,{"$f":"COUNTIF($L$7:$L$500,N14)","v":0},{"$f":"O14/$Q$4","v":0},{"$f":"IF(P14=0,0,(P14*((LOG(P14))/LOG(2))))","v":0},null,null,{"$f":"N14","v":222},{"$f":"COUNTIF(L6:L7,T14)","v":0},{"$f":"U14/(W4-U8)","v":0},{"$f":"IF(V14=0,0,(V14*((LOG(V14))/LOG(2))))","v":0},null,{"$f":"N14","v":222},{"$f":"COUNTIF(L6:L7,Y14)","v":0},{"$f":"Z14/(AB4-Z8)","v":0},{"$f":"IF(AA14=0,0,(AA14*((LOG(AA14))/LOG(2))))","v":0},null,{"$f":"N14","v":222},{"$f":"COUNTIF(L7:L7,AD14)","v":0},{"$f":"AE14/(AG4-AE8)","v":0},{"$f":"IF(AF14=0,0,(AF14*((LOG(AF14))/LOG(2))))","v":0},null,{"$f":"N14","v":222},{"$f":"COUNTIF(L7:L8,AI14)","v":0},{"$f":"AJ14/(AL4-AJ8)","v":0},{"$f":"IF(AK14=0,0,(AK14*((LOG(AK14))/LOG(2))))","v":0},null,{"$f":"N14","v":222},{"$f":"COUNTIF(L7:L8,AN14)","v":0},{"$f":"AO14/(AQ4-AO8)","v":0},{"$f":"IF(AP14=0,0,(AP14*((LOG(AP14))/LOG(2))))","v":0},null,{"$f":"N14","v":222},{"$f":"COUNTIF(L7:L8,AS14)","v":0},{"$f":"AT14/(AV4-AT8)","v":0},{"$f":"IF(AU14=0,0,(AU14*((LOG(AU14))/LOG(2))))","v":0}]
[null,null,null,null,null,null,null,null,null,null,null,null,null,null,null,{"$f":"SUM(P7:P14)","v":1},{"$f":"-SUM(Q7:Q14)","v":0},null,null,null,null,{"$f":"SUM(V7:V14)","v":1},{"$f":"-SUM(W7:W14)","v":0},null,null,null,{"$f":"SUM(AA7:AA14)","v":1},{"$f":"-SUM(AB7:AB14)","v":0},null,null,null,{"$f":"SUM(AF7:AF14)","v":1},{"$f":"-SUM(AG7:AG14)","v":0},null,null,null,{"$f":"SUM(AK7:AK14)","v":1},{"$f":"-SUM(AL7:AL14)","v":0},null,null,null,{"$f":"SUM(AP7:AP14)","v":1},{"$f":"-SUM(AQ7:AQ14)","v":0},null,null,null,{"$f":"SUM(AU7:AU14)","v":1},{"$f":"-SUM(AV7:AV14)","v":0}]
[null,null,null,null,null,null,null,null,null,null,null,null,null,null,null,"U=",{"$f":"Q15/(LOG(Q4)/LOG(2))","v":{"$error":"#DIV/0!"}},null,null,null,null,"U1=",{"$f":"W15/(LOG(W4)/LOG(2))","v":{"$error":"#DIV/0!"}},null,null,null,"U2=",{"$f":"AB15/(LOG(AB4)/LOG(2))","v":{"$error":"#DIV/0!"}},null,null,null,"U3=",{"$f":"AG15/(LOG(AG4)/LOG(2))","v":{"$error":"#DIV/0!"}},null,null,null,"U4=",{"$f":"AL15/(LOG(AL4)/LOG(2))","v":{"$error":"#DIV/0!"}},null,null,null,"U5=",{"$f":"AQ15/(LOG(AQ4)/LOG(2))","v":{"$error":"#DIV/0!"}},null,null,null,"U6=",{"$f":"AV15/(LOG(AV4)/LOG(2))","v":{"$error":"#DIV/0!"}}]
[]
[]
[null,null,null,null,null,null,null,null,null,null,null,null,null,"Total Target Seq"]
[null,null,null,null,null,null,null,null,null,null,null,null,null,{"$f":"COUNTIF(L7:L7,G3)","v":0},null,0,0,1,0,0,0]
[null,null,null,null,null,null,null,null,null,null,null,null,null,null,null,"% of reinforcement given in 6 equal intervals based on number of trials "]
[null,null,null,null,null,null,null,null,null,null,null,null,null,null,null,"%_1","%_2","%_3","%_4","%_5","%_6"]
[null,null,null,null,null,null,null,null,null,null,null,null,null,null,"target sequence",{"$f":"$G$3","v":112},{"$f":"$G$3","v":112},{"$f":"$G$3","v":112},{"$f":"$G$3","v":112},{"$f":"$G$3","v":112},{"$f":"$G$3","v":112}]
[null,null,null,null,null,null,null,null,null,null,null,null,null,null,"total reinforcement",{"$f":"U8","v":0},{"$f":"Z8","v":0},{"$f":"AE8","v":0},{"$f":"AJ8","v":0},{"$f":"AO8","v":0},{"$f":"AT8","v":0}]
[null,null,null,null,null,null,null,null,null,null,null,null,null,null,"% target"]
[null,null,null,null,null,null,null,null,null,null,null,null,null,null,"CCRF"]
[null,null,null,null,null,null,null,null,null,null,null,null,null,null,"% CCRf"]
[null,null,null,null,null,null,null,null,null,null,null,null,null,null,"average response rate",{"$f":"F6/P20","v":{"$error":"#VALUE!"}},{"$f":"(F6-F6)/Q20","v":{"$error":"#VALUE!"}},{"$f":"(F7-F6)/R20","v":{"$error":"#VALUE!"}},{"$f":"(F7-F7)/S20","v":{"$error":"#DIV/0!"}},{"$f":"(F7-F7)/T20","v":{"$error":"#DIV/0!"}},{"$f":"(F7-F7)/U20","v":{"$error":"#DIV/0!"}}]

{"sheet":"!N42385B.AXT","index":15,"n_rows":28,"n_cols":48,"rows_kept":28,"cut":false,"hidden":false,"merged":[[4,39,4,42],[5,39,5,40],[4,44,4,47],[5,44,5,45],[4,24,4,27],[5,24,5,25],[4,29,4,32],[5,29,5,30],[4,34,4,37],[5,34,5,35],[1,1,1,2],[5,13,5,14],[18,13,18,14],[19,13,19,14],[4,19,4,22],[5,19,5,20]]}
["Report for:!N42385B.AXT"]
["Date:","<date>"]
["Hen:","<hen>",null,null,null,"Correct Sequence",{"$f":"Start!J2","v":112},null,null,null,null,null,null,null,null,"Total Sequences in Data",{"$f":"4994-COUNTBLANK(L7:L5000)","v":0},null,null,null,null,"Total Sequences in Block Data",{"$f":"COUNTA(L6:L7)","v":1},null,null,null,"Total Sequences in Block Data",{"$f":"COUNTA(L6:L7)","v":1},null,null,null,"Total Sequences in Block Data",{"$f":"COUNTA(L6:L7)","v":1},null,null,null,"Total Sequences in Block Data",{"$f":"COUNTA(L6:L7)","v":1},null,null,null,"Total Sequences in Block Data",{"$f":"COUNTA(L6:L7)","v":1},null,null,null,"Total Sequences in Block Data",{"$f":"COUNTA(L6:L7)","v":1}]
[null,null,null,null,null,null,null,null,null,null,null,null,null,null,null,"Total Sequences in Summary",{"$f":"SUM(O7:O14)","v":0},null,null,null,null,"Total Sequences in Block Summary",{"$f":"SUM(U7:U14)","v":0},null,null,null,"Total Sequences in Block Summary",{"$f":"SUM(Z7:Z14)","v":0},null,null,null,"Total Sequences in Block Summary",{"$f":"SUM(AE7:AE14)","v":0},null,null,null,"Total Sequences in Block Summary",{"$f":"SUM(AJ7:AJ14)","v":0},null,null,null,"Total Sequences in Block Summary",{"$f":"SUM(AO7:AO14)","v":0},null,null,null,"Total Sequences in Block Summary",{"$f":"SUM(AT7:AT14)","v":0}]
[null,null,null,null,null,null,null,null,null,null,null,null,null,null,null,null,null,null,null,"Block 1",null,null,null,null,"Block 2",null,null,null,null,"Block 3",null,null,null,null,"Block 4",null,null,null,null,"Block 5",null,null,null,null,"Block 6"]
["Sequence\nComponent\n1","Time\n1","Sequence\nComponent\n2","Time\n2","Sequence\nComponent\n3","Time\n3","Sequence\nComponent\n4","Time\n4","Sequence\nComponent\n5","Time\n5","Correct?\n0=No 1=Yes","Sequence",null,"Frequency",null,"Relative Frequency","Variability",null,null,"Frequency",null,"Relative Frequency","Variability",null,"Frequency",null,"Relative Frequency","Variability",null,"Frequency",null,"Relative Frequency","Variability",null,"Frequency",null,"Relative Frequency","Variability",null,"Frequency",null,"Relative Frequency","Variability",null,"Frequency",null,"Relative Frequency","Variability"]
[null,null,null,null,null,null,null,null,null,null,null,null,null,111,{"$f":"COUNTIF($L$7:$L$500,N7)","v":0},{"$f":"O7/$Q$4","v":{"$error":"#DIV/0!"}},{"$f":"IF(P7=0,0,(P7*((LOG(P7))/LOG(2))))","v":{"$error":"#DIV/0!"}},null,null,{"$f":"N7","v":111},{"$f":"COUNTIF(L6:L7,T7)","v":0},{"$f":"U7/(W4-U8)","v":{"$error":"#DIV/0!"}},{"$f":"IF(V7=0,0,(V7*((LOG(V7))/LOG(2))))","v":{"$error":"#DIV/0!"}},null,{"$f":"N7","v":111},{"$f":"COUNTIF(L6:L7,Y7)","v":0},{"$f":"Z7/(AB4-Z8)","v":{"$error":"#DIV/0!"}},{"$f":"IF(AA7=0,0,(AA7*((LOG(AA7))/LOG(2))))","v":{"$error":"#DIV/0!"}},null,{"$f":"N7","v":111},{"$f":"COUNTIF(L6:L7,AD7)","v":0},{"$f":"AE7/(AG4-AE8)","v":{"$error":"#DIV/0!"}},{"$f":"IF(AF7=0,0,(AF7*((LOG(AF7))/LOG(2))))","v":{"$error":"#DIV/0!"}},null,{"$f":"N7","v":111},{"$f":"COUNTIF(L6:L7,AI7)","v":0},{"$f":"AJ7/(AL4-AJ8)","v":{"$error":"#DIV/0!"}},{"$f":"IF(AK7=0,0,(AK7*((LOG(AK7))/LOG(2))))","v":{"$error":"#DIV/0!"}},null,{"$f":"N7","v":111},{"$f":"COUNTIF(L6:L7,AN7)","v":0},{"$f":"AO7/(AQ4-AO8)","v":{"$error":"#DIV/0!"}},{"$f":"IF(AP7=0,0,(AP7*((LOG(AP7))/LOG(2))))","v":{"$error":"#DIV/0!"}},null,{"$f":"N7","v":111},{"$f":"COUNTIF(L6:L7,AS7)","v":0},{"$f":"AT7/(AV4-AT8)","v":{"$error":"#DIV/0!"}},{"$f":"IF(AU7=0,0,(AU7*((LOG(AU7))/LOG(2))))","v":{"$error":"#DIV/0!"}}]
[null,null,null,null,null,null,null,null,null,null,null,null,null,112,{"$f":"COUNTIF($L$7:$L$500,N8)","v":0},{"$f":"O8/$Q$4","v":{"$error":"#DIV/0!"}},{"$f":"IF(P8=0,0,(P8*((LOG(P8))/LOG(2))))","v":{"$error":"#DIV/0!"}},null,null,{"$f":"N8","v":112},{"$f":"COUNTIF(L6:L7,T8)","v":0},null,null,null,{"$f":"N8","v":112},{"$f":"COUNTIF(L6:L7,Y8)","v":0},null,null,null,{"$f":"N8","v":112},{"$f":"COUNTIF(L6:L7,AD8)","v":0},null,null,null,{"$f":"N8","v":112},{"$f":"COUNTIF(L6:L7,AI8)","v":0},null,null,null,{"$f":"N8","v":112},{"$f":"COUNTIF(L6:L7,AN8)","v":0},null,null,null,{"$f":"N8","v":112},{"$f":"COUNTIF(L6:L7,AS8)","v":0}]
[null,null,null,null,null,null,null,null,null,null,null,null,null,121,{"$f":"COUNTIF($L$7:$L$500,N9)","v":0},{"$f":"O9/$Q$4","v":{"$error":"#DIV/0!"}},{"$f":"IF(P9=0,0,(P9*((LOG(P9))/LOG(2))))","v":{"$error":"#DIV/0!"}},null,null,{"$f":"N9","v":121},{"$f":"COUNTIF(L6:L7,T9)","v":0},{"$f":"U9/(W4-U8)","v":{"$error":"#DIV/0!"}},{"$f":"IF(V9=0,0,(V9*((LOG(V9))/LOG(2))))","v":{"$error":"#DIV/0!"}},null,{"$f":"N9","v":121},{"$f":"COUNTIF(L6:L7,Y9)","v":0},{"$f":"Z9/(AB4-Z8)","v":{"$error":"#DIV/0!"}},{"$f":"IF(AA9=0,0,(AA9*((LOG(AA9))/LOG(2))))","v":{"$error":"#DIV/0!"}},null,{"$f":"N9","v":121},{"$f":"COUNTIF(L6:L7,AD9)","v":0},{"$f":"AE9/(AG4-AE8)","v":{"$error":"#DIV/0!"}},{"$f":"IF(AF9=0,0,(AF9*((LOG(AF9))/LOG(2))))","v":{"$error":"#DIV/0!"}},null,{"$f":"N9","v":121},{"$f":"COUNTIF(L6:L7,AI9)","v":0},{"$f":"AJ9/(AL4-AJ8)","v":{"$error":"#DIV/0!"}},{"$f":"IF(AK9=0,0,(AK9*((LOG(AK9))/LOG(2))))","v":{"$error":"#DIV/0!"}},null,{"$f":"N9","v":121},{"$f":"COUNTIF(L6:L7,AN9)","v":0},{"$f":"AO9/(AQ4-AO8)","v":{"$error":"#DIV/0!"}},{"$f":"IF(AP9=0,0,(AP9*((LOG(AP9))/LOG(2))))","v":{"$error":"#DIV/0!"}},null,{"$f":"N9","v":121},{"$f":"COUNTIF(L6:L7,AS9)","v":0},{"$f":"AT9/(AV4-AT8)","v":{"$error":"#DIV/0!"}},{"$f":"IF(AU9=0,0,(AU9*((LOG(AU9))/LOG(2))))","v":{"$error":"#DIV/0!"}}]
[null,null,null,null,null,null,null,null,null,null,null,null,null,122,{"$f":"COUNTIF($L$7:$L$500,N10)","v":0},{"$f":"O10/$Q$4","v":{"$error":"#DIV/0!"}},{"$f":"IF(P10=0,0,(P10*((LOG(P10))/LOG(2))))","v":{"$error":"#DIV/0!"}},null,null,{"$f":"N10","v":122},{"$f":"COUNTIF(L6:L7,T10)","v":0},{"$f":"U10/(W4-U8)","v":{"$error":"#DIV/0!"}},{"$f":"IF(V10=0,0,(V10*((LOG(V10))/LOG(2))))","v":{"$error":"#DIV/0!"}},null,{"$f":"N10","v":122},{"$f":"COUNTIF(L6:L7,Y10)","v":0},{"$f":"Z10/(AB4-Z8)","v":{"$error":"#DIV/0!"}},{"$f":"IF(AA10=0,0,(AA10*((LOG(AA10))/LOG(2))))","v":{"$error":"#DIV/0!"}},null,{"$f":"N10","v":122},{"$f":"COUNTIF(L6:L7,AD10)","v":0},{"$f":"AE10/(AG4-AE8)","v":{"$error":"#DIV/0!"}},{"$f":"IF(AF10=0,0,(AF10*((LOG(AF10))/LOG(2))))","v":{"$error":"#DIV/0!"}},null,{"$f":"N10","v":122},{"$f":"COUNTIF(L6:L7,AI10)","v":0},{"$f":"AJ10/(AL4-AJ8)","v":{"$error":"#DIV/0!"}},{"$f":"IF(AK10=0,0,(AK10*((LOG(AK10))/LOG(2))))","v":{"$error":"#DIV/0!"}},null,{"$f":"N10","v":122},{"$f":"COUNTIF(L6:L7,AN10)","v":0},{"$f":"AO10/(AQ4-AO8)","v":{"$error":"#DIV/0!"}},{"$f":"IF(AP10=0,0,(AP10*((LOG(AP10))/LOG(2))))","v":{"$error":"#DIV/0!"}},null,{"$f":"N10","v":122},{"$f":"COUNTIF(L6:L7,AS10)","v":0},{"$f":"AT10/(AV4-AT8)","v":{"$error":"#DIV/0!"}},{"$f":"IF(AU10=0,0,(AU10*((LOG(AU10))/LOG(2))))","v":{"$error":"#DIV/0!"}}]
[null,null,null,null,null,null,null,null,null,null,null,null,null,211,{"$f":"COUNTIF($L$7:$L$500,N11)","v":0},{"$f":"O11/$Q$4","v":{"$error":"#DIV/0!"}},{"$f":"IF(P11=0,0,(P11*((LOG(P11))/LOG(2))))","v":{"$error":"#DIV/0!"}},null,null,{"$f":"N11","v":211},{"$f":"COUNTIF(L6:L7,T11)","v":0},{"$f":"U11/(W4-U8)","v":{"$error":"#DIV/0!"}},{"$f":"IF(V11=0,0,(V11*((LOG(V11))/LOG(2))))","v":{"$error":"#DIV/0!"}},null,{"$f":"N11","v":211},{"$f":"COUNTIF(L6:L7,Y11)","v":0},{"$f":"Z11/(AB4-Z8)","v":{"$error":"#DIV/0!"}},{"$f":"IF(AA11=0,0,(AA11*((LOG(AA11))/LOG(2))))","v":{"$error":"#DIV/0!"}},null,{"$f":"N11","v":211},{"$f":"COUNTIF(L6:L7,AD11)","v":0},{"$f":"AE11/(AG4-AE8)","v":{"$error":"#DIV/0!"}},{"$f":"IF(AF11=0,0,(AF11*((LOG(AF11))/LOG(2))))","v":{"$error":"#DIV/0!"}},null,{"$f":"N11","v":211},{"$f":"COUNTIF(L6:L7,AI11)","v":0},{"$f":"AJ11/(AL4-AJ8)","v":{"$error":"#DIV/0!"}},{"$f":"IF(AK11=0,0,(AK11*((LOG(AK11))/LOG(2))))","v":{"$error":"#DIV/0!"}},null,{"$f":"N11","v":211},{"$f":"COUNTIF(L6:L7,AN11)","v":0},{"$f":"AO11/(AQ4-AO8)","v":{"$error":"#DIV/0!"}},{"$f":"IF(AP11=0,0,(AP11*((LOG(AP11))/LOG(2))))","v":{"$error":"#DIV/0!"}},null,{"$f":"N11","v":211},{"$f":"COUNTIF(L6:L7,AS11)","v":0},{"$f":"AT11/(AV4-AT8)","v":{"$error":"#DIV/0!"}},{"$f":"IF(AU11=0,0,(AU11*((LOG(AU11))/LOG(2))))","v":{"$error":"#DIV/0!"}}]
[null,null,null,null,null,null,null,null,null,null,null,null,null,212,{"$f":"COUNTIF($L$7:$L$500,N12)","v":0},{"$f":"O12/$Q$4","v":{"$error":"#DIV/0!"}},{"$f":"IF(P12=0,0,(P12*((LOG(P12))/LOG(2))))","v":{"$error":"#DIV/0!"}},null,null,{"$f":"N12","v":212},{"$f":"COUNTIF(L6:L7,T12)","v":0},{"$f":"U12/(W4-U8)","v":{"$error":"#DIV/0!"}},{"$f":"IF(V12=0,0,(V12*((LOG(V12))/LOG(2))))","v":{"$error":"#DIV/0!"}},null,{"$f":"N12","v":212},{"$f":"COUNTIF(L6:L7,Y12)","v":0},{"$f":"Z12/(AB4-Z8)","v":{"$error":"#DIV/0!"}},{"$f":"IF(AA12=0,0,(AA12*((LOG(AA12))/LOG(2))))","v":{"$error":"#DIV/0!"}},null,{"$f":"N12","v":212},{"$f":"COUNTIF(L6:L7,AD12)","v":0},{"$f":"AE12/(AG4-AE8)","v":{"$error":"#DIV/0!"}},{"$f":"IF(AF12=0,0,(AF12*((LOG(AF12))/LOG(2))))","v":{"$error":"#DIV/0!"}},null,{"$f":"N12","v":212},{"$f":"COUNTIF(L6:L7,AI12)","v":0},{"$f":"AJ12/(AL4-AJ8)","v":{"$error":"#DIV/0!"}},{"$f":"IF(AK12=0,0,(AK12*((LOG(AK12))/LOG(2))))","v":{"$error":"#DIV/0!"}},null,{"$f":"N12","v":212},{"$f":"COUNTIF(L6:L7,AN12)","v":0},{"$f":"AO12/(AQ4-AO8)","v":{"$error":"#DIV/0!"}},{"$f":"IF(AP12=0,0,(AP12*((LOG(AP12))/LOG(2))))","v":{"$error":"#DIV/0!"}},null,{"$f":"N12","v":212},{"$f":"COUNTIF(L6:L7,AS12)","v":0},{"$f":"AT12/(AV4-AT8)","v":{"$error":"#DIV/0!"}},{"$f":"IF(AU12=0,0,(AU12*((LOG(AU12))/LOG(2))))","v":{"$error":"#DIV/0!"}}]
[null,null,null,null,null,null,null,null,null,null,null,null,null,221,{"$f":"COUNTIF($L$7:$L$500,N13)","v":0},{"$f":"O13/$Q$4","v":{"$error":"#DIV/0!"}},{"$f":"IF(P13=0,0,(P13*((LOG(P13))/LOG(2))))","v":{"$error":"#DIV/0!"}},null,null,{"$f":"N13","v":221},{"$f":"COUNTIF(L6:L7,T13)","v":0},{"$f":"U13/(W4-U8)","v":{"$error":"#DIV/0!"}},{"$f":"IF(V13=0,0,(V13*((LOG(V13))/LOG(2))))","v":{"$error":"#DIV/0!"}},null,{"$f":"N13","v":221},{"$f":"COUNTIF(L6:L7,Y13)","v":0},{"$f":"Z13/(AB4-Z8)","v":{"$error":"#DIV/0!"}},{"$f":"IF(AA13=0,0,(AA13*((LOG(AA13))/LOG(2))))","v":{"$error":"#DIV/0!"}},null,{"$f":"N13","v":221},{"$f":"COUNTIF(L6:L7,AD13)","v":0},{"$f":"AE13/(AG4-AE8)","v":{"$error":"#DIV/0!"}},{"$f":"IF(AF13=0,0,(AF13*((LOG(AF13))/LOG(2))))","v":{"$error":"#DIV/0!"}},null,{"$f":"N13","v":221},{"$f":"COUNTIF(L6:L7,AI13)","v":0},{"$f":"AJ13/(AL4-AJ8)","v":{"$error":"#DIV/0!"}},{"$f":"IF(AK13=0,0,(AK13*((LOG(AK13))/LOG(2))))","v":{"$error":"#DIV/0!"}},null,{"$f":"N13","v":221},{"$f":"COUNTIF(L6:L7,AN13)","v":0},{"$f":"AO13/(AQ4-AO8)","v":{"$error":"#DIV/0!"}},{"$f":"IF(AP13=0,0,(AP13*((LOG(AP13))/LOG(2))))","v":{"$error":"#DIV/0!"}},null,{"$f":"N13","v":221},{"$f":"COUNTIF(L6:L7,AS13)","v":0},{"$f":"AT13/(AV4-AT8)","v":{"$error":"#DIV/0!"}},{"$f":"IF(AU13=0,0,(AU13*((LOG(AU13))/LOG(2))))","v":{"$error":"#DIV/0!"}}]
[null,null,null,null,null,null,null,null,null,null,null,null,null,222,{"$f":"COUNTIF($L$7:$L$500,N14)","v":0},{"$f":"O14/$Q$4","v":{"$error":"#DIV/0!"}},{"$f":"IF(P14=0,0,(P14*((LOG(P14))/LOG(2))))","v":{"$error":"#DIV/0!"}},null,null,{"$f":"N14","v":222},{"$f":"COUNTIF(L6:L7,T14)","v":0},{"$f":"U14/(W4-U8)","v":{"$error":"#DIV/0!"}},{"$f":"IF(V14=0,0,(V14*((LOG(V14))/LOG(2))))","v":{"$error":"#DIV/0!"}},null,{"$f":"N14","v":222},{"$f":"COUNTIF(L6:L7,Y14)","v":0},{"$f":"Z14/(AB4-Z8)","v":{"$error":"#DIV/0!"}},{"$f":"IF(AA14=0,0,(AA14*((LOG(AA14))/LOG(2))))","v":{"$error":"#DIV/0!"}},null,{"$f":"N14","v":222},{"$f":"COUNTIF(L6:L7,AD14)","v":0},{"$f":"AE14/(AG4-AE8)","v":{"$error":"#DIV/0!"}},{"$f":"IF(AF14=0,0,(AF14*((LOG(AF14))/LOG(2))))","v":{"$error":"#DIV/0!"}},null,{"$f":"N14","v":222},{"$f":"COUNTIF(L6:L7,AI14)","v":0},{"$f":"AJ14/(AL4-AJ8)","v":{"$error":"#DIV/0!"}},{"$f":"IF(AK14=0,0,(AK14*((LOG(AK14))/LOG(2))))","v":{"$error":"#DIV/0!"}},null,{"$f":"N14","v":222},{"$f":"COUNTIF(L6:L7,AN14)","v":0},{"$f":"AO14/(AQ4-AO8)","v":{"$error":"#DIV/0!"}},{"$f":"IF(AP14=0,0,(AP14*((LOG(AP14))/LOG(2))))","v":{"$error":"#DIV/0!"}},null,{"$f":"N14","v":222},{"$f":"COUNTIF(L6:L7,AS14)","v":0},{"$f":"AT14/(AV4-AT8)","v":{"$error":"#DIV/0!"}},{"$f":"IF(AU14=0,0,(AU14*((LOG(AU14))/LOG(2))))","v":{"$error":"#DIV/0!"}}]
[null,null,null,null,null,null,null,null,null,null,null,null,null,null,null,{"$f":"SUM(P7:P14)","v":{"$error":"#DIV/0!"}},{"$f":"-SUM(Q7:Q14)","v":{"$error":"#DIV/0!"}},null,null,null,null,{"$f":"SUM(V7:V14)","v":{"$error":"#DIV/0!"}},{"$f":"-SUM(W7:W14)","v":{"$error":"#DIV/0!"}},null,null,null,{"$f":"SUM(AA7:AA14)","v":{"$error":"#DIV/0!"}},{"$f":"-SUM(AB7:AB14)","v":{"$error":"#DIV/0!"}},null,null,null,{"$f":"SUM(AF7:AF14)","v":{"$error":"#DIV/0!"}},{"$f":"-SUM(AG7:AG14)","v":{"$error":"#DIV/0!"}},null,null,null,{"$f":"SUM(AK7:AK14)","v":{"$error":"#DIV/0!"}},{"$f":"-SUM(AL7:AL14)","v":{"$error":"#DIV/0!"}},null,null,null,{"$f":"SUM(AP7:AP14)","v":{"$error":"#DIV/0!"}},{"$f":"-SUM(AQ7:AQ14)","v":{"$error":"#DIV/0!"}},null,null,null,{"$f":"SUM(AU7:AU14)","v":{"$error":"#DIV/0!"}},{"$f":"-SUM(AV7:AV14)","v":{"$error":"#DIV/0!"}}]
[null,null,null,null,null,null,null,null,null,null,null,null,null,null,null,"U=",{"$f":"Q15/(LOG(Q4)/LOG(2))","v":{"$error":"#DIV/0!"}},null,null,null,null,"U1=",{"$f":"W15/(LOG(W4)/LOG(2))","v":{"$error":"#DIV/0!"}},null,null,null,"U2=",{"$f":"AB15/(LOG(AB4)/LOG(2))","v":{"$error":"#DIV/0!"}},null,null,null,"U3=",{"$f":"AG15/(LOG(AG4)/LOG(2))","v":{"$error":"#DIV/0!"}},null,null,null,"U4=",{"$f":"AL15/(LOG(AL4)/LOG(2))","v":{"$error":"#DIV/0!"}},null,null,null,"U5=",{"$f":"AQ15/(LOG(AQ4)/LOG(2))","v":{"$error":"#DIV/0!"}},null,null,null,"U6=",{"$f":"AV15/(LOG(AV4)/LOG(2))","v":{"$error":"#DIV/0!"}}]
[]
[]
[null,null,null,null,null,null,null,null,null,null,null,null,null,"Total Target Seq"]
[null,null,null,null,null,null,null,null,null,null,null,null,null,{"$f":"COUNTIF(L6:L7,G3)","v":0},null,0,0,0,0,0,0]
[null,null,null,null,null,null,null,null,null,null,null,null,null,null,null,"% of reinforcement given in 6 equal intervals based on number of trials "]
[null,null,null,null,null,null,null,null,null,null,null,null,null,null,null,"%_1","%_2","%_3","%_4","%_5","%_6"]
[null,null,null,null,null,null,null,null,null,null,null,null,null,null,"target sequence",{"$f":"$G$3","v":112},{"$f":"$G$3","v":112},{"$f":"$G$3","v":112},{"$f":"$G$3","v":112},{"$f":"$G$3","v":112},{"$f":"$G$3","v":112}]
[null,null,null,null,null,null,null,null,null,null,null,null,null,null,"total reinforcement",{"$f":"U8","v":0},{"$f":"Z8","v":0},{"$f":"AE8","v":0},{"$f":"AJ8","v":0},{"$f":"AO8","v":0},{"$f":"AT8","v":0}]
[null,null,null,null,null,null,null,null,null,null,null,null,null,null,"% target"]
[null,null,null,null,null,null,null,null,null,null,null,null,null,null,"CCRF"]
[null,null,null,null,null,null,null,null,null,null,null,null,null,null,"% CCRf"]
[null,null,null,null,null,null,null,null,null,null,null,null,null,null,"average response rate",{"$f":"F6/P20","v":{"$error":"#VALUE!"}},{"$f":"(F6-F6)/Q20","v":{"$error":"#VALUE!"}},{"$f":"(F6-F6)/R20","v":{"$error":"#VALUE!"}},{"$f":"(F6-F6)/S20","v":{"$error":"#VALUE!"}},{"$f":"(F6-F6)/T20","v":{"$error":"#VALUE!"}},{"$f":"(F6-F6)/U20","v":{"$error":"#VALUE!"}}]

{"sheet":"!N424A4B.AXT","index":16,"n_rows":28,"n_cols":48,"rows_kept":28,"cut":false,"hidden":false,"merged":[[4,39,4,42],[5,39,5,40],[4,44,4,47],[5,44,5,45],[4,24,4,27],[5,24,5,25],[4,29,4,32],[5,29,5,30],[4,34,4,37],[5,34,5,35],[1,1,1,2],[5,13,5,14],[18,13,18,14],[19,13,19,14],[4,19,4,22],[5,19,5,20]]}
["Report for:!N424A4B.AXT"]
["Date:","<date>"]
["Hen:","<hen>",null,null,null,"Correct Sequence",{"$f":"Start!J2","v":112},null,null,null,null,null,null,null,null,"Total Sequences in Data",{"$f":"4994-COUNTBLANK(L7:L5000)","v":1},null,null,null,null,"Total Sequences in Block Data",{"$f":"COUNTA(L6:L7)","v":2},null,null,null,"Total Sequences in Block Data",{"$f":"COUNTA(L6:L7)","v":2},null,null,null,"Total Sequences in Block Data",{"$f":"COUNTA(L7:L7)","v":1},null,null,null,"Total Sequences in Block Data",{"$f":"COUNTA(L7:L8)","v":1},null,null,null,"Total Sequences in Block Data",{"$f":"COUNTA(L7:L8)","v":1},null,null,null,"Total Sequences in Block Data",{"$f":"COUNTA(L7:L8)","v":1}]
[null,null,null,null,null,null,null,null,null,null,null,null,null,null,null,"Total Sequences in Summary",{"$f":"SUM(O7:O14)","v":0},null,null,null,null,"Total Sequences in Block Summary",{"$f":"SUM(U7:U14)","v":0},null,null,null,"Total Sequences in Block Summary",{"$f":"SUM(Z7:Z14)","v":0},null,null,null,"Total Sequences in Block Summary",{"$f":"SUM(AE7:AE14)","v":0},null,null,null,"Total Sequences in Block Summary",{"$f":"SUM(AJ7:AJ14)","v":0},null,null,null,"Total Sequences in Block Summary",{"$f":"SUM(AO7:AO14)","v":0},null,null,null,"Total Sequences in Block Summary",{"$f":"SUM(AT7:AT14)","v":0}]
[null,null,null,null,null,null,null,null,null,null,null,null,null,null,null,null,null,null,null,"Block 1",null,null,null,null,"Block 2",null,null,null,null,"Block 3",null,null,null,null,"Block 4",null,null,null,null,"Block 5",null,null,null,null,"Block 6"]
["Sequence\nComponent\n1","Time\n1","Sequence\nComponent\n2","Time\n2","Sequence\nComponent\n3","Time\n3","Sequence\nComponent\n4","Time\n4","Sequence\nComponent\n5","Time\n5","Correct?\n0=No 1=Yes","Sequence",null,"Frequency",null,"Relative Frequency","Variability",null,null,"Frequency",null,"Relative Frequency","Variability",null,"Frequency",null,"Relative Frequency","Variability",null,"Frequency",null,"Relative Frequency","Variability",null,"Frequency",null,"Relative Frequency","Variability",null,"Frequency",null,"Relative Frequency","Variability",null,"Frequency",null,"Relative Frequency","Variability"]
[22,14615,null,null,null,null,null,null,null,null,null,2,null,111,{"$f":"COUNTIF($L$7:$L$500,N7)","v":0},{"$f":"O7/$Q$4","v":{"$error":"#DIV/0!"}},{"$f":"IF(P7=0,0,(P7*((LOG(P7))/LOG(2))))","v":{"$error":"#DIV/0!"}},null,null,{"$f":"N7","v":111},{"$f":"COUNTIF(L6:L7,T7)","v":0},{"$f":"U7/(W4-U8)","v":{"$error":"#DIV/0!"}},{"$f":"IF(V7=0,0,(V7*((LOG(V7))/LOG(2))))","v":{"$error":"#DIV/0!"}},null,{"$f":"N7","v":111},{"$f":"COUNTIF(L6:L7,Y7)","v":0},{"$f":"Z7/(AB4-Z8)","v":{"$error":"#DIV/0!"}},{"$f":"IF(AA7=0,0,(AA7*((LOG(AA7))/LOG(2))))","v":{"$error":"#DIV/0!"}},null,{"$f":"N7","v":111},{"$f":"COUNTIF(L7:L7,AD7)","v":0},{"$f":"AE7/(AG4-AE8)","v":{"$error":"#DIV/0!"}},{"$f":"IF(AF7=0,0,(AF7*((LOG(AF7))/LOG(2))))","v":{"$error":"#DIV/0!"}},null,{"$f":"N7","v":111},{"$f":"COUNTIF(L7:L8,AI7)","v":0},{"$f":"AJ7/(AL4-AJ8)","v":{"$error":"#DIV/0!"}},{"$f":"IF(AK7=0,0,(AK7*((LOG(AK7))/LOG(2))))","v":{"$error":"#DIV/0!"}},null,{"$f":"N7","v":111},{"$f":"COUNTIF(L7:L8,AN7)","v":0},{"$f":"AO7/(AQ4-AO8)","v":{"$error":"#DIV/0!"}},{"$f":"IF(AP7=0,0,(AP7*((LOG(AP7))/LOG(2))))","v":{"$error":"#DIV/0!"}},null,{"$f":"N7","v":111},{"$f":"COUNTIF(L7:L8,AS7)","v":0},{"$f":"AT7/(AV4-AT8)","v":{"$error":"#DIV/0!"}},{"$f":"IF(AU7=0,0,(AU7*((LOG(AU7))/LOG(2))))","v":{"$error":"#DIV/0!"}}]
[null,null,null,null,null,null,null,null,null,null,null,null,null,112,{"$f":"COUNTIF($L$7:$L$500,N8)","v":0},{"$f":"O8/$Q$4","v":{"$error":"#DIV/0!"}},{"$f":"IF(P8=0,0,(P8*((LOG(P8))/LOG(2))))","v":{"$error":"#DIV/0!"}},null,null,{"$f":"N8","v":112},{"$f":"COUNTIF(L6:L7,T8)","v":0},null,null,null,{"$f":"N8","v":112},{"$f":"COUNTIF(L6:L7,Y8)","v":0},null,null,null,{"$f":"N8","v":112},{"$f":"COUNTIF(L7:L7,AD8)","v":0},null,null,null,{"$f":"N8","v":112},{"$f":"COUNTIF(L7:L8,AI8)","v":0},null,null,null,{"$f":"N8","v":112},{"$f":"COUNTIF(L7:L8,AN8)","v":0},null,null,null,{"$f":"N8","v":112},{"$f":"COUNTIF(L7:L8,AS8)","v":0}]
[null,null,null,null,null,null,null,null,null,null,null,null,null,121,{"$f":"COUNTIF($L$7:$L$500,N9)","v":0},{"$f":"O9/$Q$4","v":{"$error":"#DIV/0!"}},{"$f":"IF(P9=0,0,(P9*((LOG(P9))/LOG(2))))","v":{"$error":"#DIV/0!"}},null,null,{"$f":"N9","v":121},{"$f":"COUNTIF(L6:L7,T9)","v":0},{"$f":"U9/(W4-U8)","v":{"$error":"#DIV/0!"}},{"$f":"IF(V9=0,0,(V9*((LOG(V9))/LOG(2))))","v":{"$error":"#DIV/0!"}},null,{"$f":"N9","v":121},{"$f":"COUNTIF(L6:L7,Y9)","v":0},{"$f":"Z9/(AB4-Z8)","v":{"$error":"#DIV/0!"}},{"$f":"IF(AA9=0,0,(AA9*((LOG(AA9))/LOG(2))))","v":{"$error":"#DIV/0!"}},null,{"$f":"N9","v":121},{"$f":"COUNTIF(L7:L7,AD9)","v":0},{"$f":"AE9/(AG4-AE8)","v":{"$error":"#DIV/0!"}},{"$f":"IF(AF9=0,0,(AF9*((LOG(AF9))/LOG(2))))","v":{"$error":"#DIV/0!"}},null,{"$f":"N9","v":121},{"$f":"COUNTIF(L7:L8,AI9)","v":0},{"$f":"AJ9/(AL4-AJ8)","v":{"$error":"#DIV/0!"}},{"$f":"IF(AK9=0,0,(AK9*((LOG(AK9))/LOG(2))))","v":{"$error":"#DIV/0!"}},null,{"$f":"N9","v":121},{"$f":"COUNTIF(L7:L8,AN9)","v":0},{"$f":"AO9/(AQ4-AO8)","v":{"$error":"#DIV/0!"}},{"$f":"IF(AP9=0,0,(AP9*((LOG(AP9))/LOG(2))))","v":{"$error":"#DIV/0!"}},null,{"$f":"N9","v":121},{"$f":"COUNTIF(L7:L8,AS9)","v":0},{"$f":"AT9/(AV4-AT8)","v":{"$error":"#DIV/0!"}},{"$f":"IF(AU9=0,0,(AU9*((LOG(AU9))/LOG(2))))","v":{"$error":"#DIV/0!"}}]
[null,null,null,null,null,null,null,null,null,null,null,null,null,122,{"$f":"COUNTIF($L$7:$L$500,N10)","v":0},{"$f":"O10/$Q$4","v":{"$error":"#DIV/0!"}},{"$f":"IF(P10=0,0,(P10*((LOG(P10))/LOG(2))))","v":{"$error":"#DIV/0!"}},null,null,{"$f":"N10","v":122},{"$f":"COUNTIF(L6:L7,T10)","v":0},{"$f":"U10/(W4-U8)","v":{"$error":"#DIV/0!"}},{"$f":"IF(V10=0,0,(V10*((LOG(V10))/LOG(2))))","v":{"$error":"#DIV/0!"}},null,{"$f":"N10","v":122},{"$f":"COUNTIF(L6:L7,Y10)","v":0},{"$f":"Z10/(AB4-Z8)","v":{"$error":"#DIV/0!"}},{"$f":"IF(AA10=0,0,(AA10*((LOG(AA10))/LOG(2))))","v":{"$error":"#DIV/0!"}},null,{"$f":"N10","v":122},{"$f":"COUNTIF(L7:L7,AD10)","v":0},{"$f":"AE10/(AG4-AE8)","v":{"$error":"#DIV/0!"}},{"$f":"IF(AF10=0,0,(AF10*((LOG(AF10))/LOG(2))))","v":{"$error":"#DIV/0!"}},null,{"$f":"N10","v":122},{"$f":"COUNTIF(L7:L8,AI10)","v":0},{"$f":"AJ10/(AL4-AJ8)","v":{"$error":"#DIV/0!"}},{"$f":"IF(AK10=0,0,(AK10*((LOG(AK10))/LOG(2))))","v":{"$error":"#DIV/0!"}},null,{"$f":"N10","v":122},{"$f":"COUNTIF(L7:L8,AN10)","v":0},{"$f":"AO10/(AQ4-AO8)","v":{"$error":"#DIV/0!"}},{"$f":"IF(AP10=0,0,(AP10*((LOG(AP10))/LOG(2))))","v":{"$error":"#DIV/0!"}},null,{"$f":"N10","v":122},{"$f":"COUNTIF(L7:L8,AS10)","v":0},{"$f":"AT10/(AV4-AT8)","v":{"$error":"#DIV/0!"}},{"$f":"IF(AU10=0,0,(AU10*((LOG(AU10))/LOG(2))))","v":{"$error":"#DIV/0!"}}]
[null,null,null,null,null,null,null,null,null,null,null,null,null,211,{"$f":"COUNTIF($L$7:$L$500,N11)","v":0},{"$f":"O11/$Q$4","v":{"$error":"#DIV/0!"}},{"$f":"IF(P11=0,0,(P11*((LOG(P11))/LOG(2))))","v":{"$error":"#DIV/0!"}},null,null,{"$f":"N11","v":211},{"$f":"COUNTIF(L6:L7,T11)","v":0},{"$f":"U11/(W4-U8)","v":{"$error":"#DIV/0!"}},{"$f":"IF(V11=0,0,(V11*((LOG(V11))/LOG(2))))","v":{"$error":"#DIV/0!"}},null,{"$f":"N11","v":211},{"$f":"COUNTIF(L6:L7,Y11)","v":0},{"$f":"Z11/(AB4-Z8)","v":{"$error":"#DIV/0!"}},{"$f":"IF(AA11=0,0,(AA11*((LOG(AA11))/LOG(2))))","v":{"$error":"#DIV/0!"}},null,{"$f":"N11","v":211},{"$f":"COUNTIF(L7:L7,AD11)","v":0},{"$f":"AE11/(AG4-AE8)","v":{"$error":"#DIV/0!"}},{"$f":"IF(AF11=0,0,(AF11*((LOG(AF11))/LOG(2))))","v":{"$error":"#DIV/0!"}},null,{"$f":"N11","v":211},{"$f":"COUNTIF(L7:L8,AI11)","v":0},{"$f":"AJ11/(AL4-AJ8)","v":{"$error":"#DIV/0!"}},{"$f":"IF(AK11=0,0,(AK11*((LOG(AK11))/LOG(2))))","v":{"$error":"#DIV/0!"}},null,{"$f":"N11","v":211},{"$f":"COUNTIF(L7:L8,AN11)","v":0},{"$f":"AO11/(AQ4-AO8)","v":{"$error":"#DIV/0!"}},{"$f":"IF(AP11=0,0,(AP11*((LOG(AP11))/LOG(2))))","v":{"$error":"#DIV/0!"}},null,{"$f":"N11","v":211},{"$f":"COUNTIF(L7:L8,AS11)","v":0},{"$f":"AT11/(AV4-AT8)","v":{"$error":"#DIV/0!"}},{"$f":"IF(AU11=0,0,(AU11*((LOG(AU11))/LOG(2))))","v":{"$error":"#DIV/0!"}}]
[null,null,null,null,null,null,null,null,null,null,null,null,null,212,{"$f":"COUNTIF($L$7:$L$500,N12)","v":0},{"$f":"O12/$Q$4","v":{"$error":"#DIV/0!"}},{"$f":"IF(P12=0,0,(P12*((LOG(P12))/LOG(2))))","v":{"$error":"#DIV/0!"}},null,null,{"$f":"N12","v":212},{"$f":"COUNTIF(L6:L7,T12)","v":0},{"$f":"U12/(W4-U8)","v":{"$error":"#DIV/0!"}},{"$f":"IF(V12=0,0,(V12*((LOG(V12))/LOG(2))))","v":{"$error":"#DIV/0!"}},null,{"$f":"N12","v":212},{"$f":"COUNTIF(L6:L7,Y12)","v":0},{"$f":"Z12/(AB4-Z8)","v":{"$error":"#DIV/0!"}},{"$f":"IF(AA12=0,0,(AA12*((LOG(AA12))/LOG(2))))","v":{"$error":"#DIV/0!"}},null,{"$f":"N12","v":212},{"$f":"COUNTIF(L7:L7,AD12)","v":0},{"$f":"AE12/(AG4-AE8)","v":{"$error":"#DIV/0!"}},{"$f":"IF(AF12=0,0,(AF12*((LOG(AF12))/LOG(2))))","v":{"$error":"#DIV/0!"}},null,{"$f":"N12","v":212},{"$f":"COUNTIF(L7:L8,AI12)","v":0},{"$f":"AJ12/(AL4-AJ8)","v":{"$error":"#DIV/0!"}},{"$f":"IF(AK12=0,0,(AK12*((LOG(AK12))/LOG(2))))","v":{"$error":"#DIV/0!"}},null,{"$f":"N12","v":212},{"$f":"COUNTIF(L7:L8,AN12)","v":0},{"$f":"AO12/(AQ4-AO8)","v":{"$error":"#DIV/0!"}},{"$f":"IF(AP12=0,0,(AP12*((LOG(AP12))/LOG(2))))","v":{"$error":"#DIV/0!"}},null,{"$f":"N12","v":212},{"$f":"COUNTIF(L7:L8,AS12)","v":0},{"$f":"AT12/(AV4-AT8)","v":{"$error":"#DIV/0!"}},{"$f":"IF(AU12=0,0,(AU12*((LOG(AU12))/LOG(2))))","v":{"$error":"#DIV/0!"}}]
[null,null,null,null,null,null,null,null,null,null,null,null,null,221,{"$f":"COUNTIF($L$7:$L$500,N13)","v":0},{"$f":"O13/$Q$4","v":{"$error":"#DIV/0!"}},{"$f":"IF(P13=0,0,(P13*((LOG(P13))/LOG(2))))","v":{"$error":"#DIV/0!"}},null,null,{"$f":"N13","v":221},{"$f":"COUNTIF(L6:L7,T13)","v":0},{"$f":"U13/(W4-U8)","v":{"$error":"#DIV/0!"}},{"$f":"IF(V13=0,0,(V13*((LOG(V13))/LOG(2))))","v":{"$error":"#DIV/0!"}},null,{"$f":"N13","v":221},{"$f":"COUNTIF(L6:L7,Y13)","v":0},{"$f":"Z13/(AB4-Z8)","v":{"$error":"#DIV/0!"}},{"$f":"IF(AA13=0,0,(AA13*((LOG(AA13))/LOG(2))))","v":{"$error":"#DIV/0!"}},null,{"$f":"N13","v":221},{"$f":"COUNTIF(L7:L7,AD13)","v":0},{"$f":"AE13/(AG4-AE8)","v":{"$error":"#DIV/0!"}},{"$f":"IF(AF13=0,0,(AF13*((LOG(AF13))/LOG(2))))","v":{"$error":"#DIV/0!"}},null,{"$f":"N13","v":221},{"$f":"COUNTIF(L7:L8,AI13)","v":0},{"$f":"AJ13/(AL4-AJ8)","v":{"$error":"#DIV/0!"}},{"$f":"IF(AK13=0,0,(AK13*((LOG(AK13))/LOG(2))))","v":{"$error":"#DIV/0!"}},null,{"$f":"N13","v":221},{"$f":"COUNTIF(L7:L8,AN13)","v":0},{"$f":"AO13/(AQ4-AO8)","v":{"$error":"#DIV/0!"}},{"$f":"IF(AP13=0,0,(AP13*((LOG(AP13))/LOG(2))))","v":{"$error":"#DIV/0!"}},null,{"$f":"N13","v":221},{"$f":"COUNTIF(L7:L8,AS13)","v":0},{"$f":"AT13/(AV4-AT8)","v":{"$error":"#DIV/0!"}},{"$f":"IF(AU13=0,0,(AU13*((LOG(AU13))/LOG(2))))","v":{"$error":"#DIV/0!"}}]
[null,null,null,null,null,null,null,null,null,null,null,null,null,222,{"$f":"COUNTIF($L$7:$L$500,N14)","v":0},{"$f":"O14/$Q$4","v":{"$error":"#DIV/0!"}},{"$f":"IF(P14=0,0,(P14*((LOG(P14))/LOG(2))))","v":{"$error":"#DIV/0!"}},null,null,{"$f":"N14","v":222},{"$f":"COUNTIF(L6:L7,T14)","v":0},{"$f":"U14/(W4-U8)","v":{"$error":"#DIV/0!"}},{"$f":"IF(V14=0,0,(V14*((LOG(V14))/LOG(2))))","v":{"$error":"#DIV/0!"}},null,{"$f":"N14","v":222},{"$f":"COUNTIF(L6:L7,Y14)","v":0},{"$f":"Z14/(AB4-Z8)","v":{"$error":"#DIV/0!"}},{"$f":"IF(AA14=0,0,(AA14*((LOG(AA14))/LOG(2))))","v":{"$error":"#DIV/0!"}},null,{"$f":"N14","v":222},{"$f":"COUNTIF(L7:L7,AD14)","v":0},{"$f":"AE14/(AG4-AE8)","v":{"$error":"#DIV/0!"}},{"$f":"IF(AF14=0,0,(AF14*((LOG(AF14))/LOG(2))))","v":{"$error":"#DIV/0!"}},null,{"$f":"N14","v":222},{"$f":"COUNTIF(L7:L8,AI14)","v":0},{"$f":"AJ14/(AL4-AJ8)","v":{"$error":"#DIV/0!"}},{"$f":"IF(AK14=0,0,(AK14*((LOG(AK14))/LOG(2))))","v":{"$error":"#DIV/0!"}},null,{"$f":"N14","v":222},{"$f":"COUNTIF(L7:L8,AN14)","v":0},{"$f":"AO14/(AQ4-AO8)","v":{"$error":"#DIV/0!"}},{"$f":"IF(AP14=0,0,(AP14*((LOG(AP14))/LOG(2))))","v":{"$error":"#DIV/0!"}},null,{"$f":"N14","v":222},{"$f":"COUNTIF(L7:L8,AS14)","v":0},{"$f":"AT14/(AV4-AT8)","v":{"$error":"#DIV/0!"}},{"$f":"IF(AU14=0,0,(AU14*((LOG(AU14))/LOG(2))))","v":{"$error":"#DIV/0!"}}]
[null,null,null,null,null,null,null,null,null,null,null,null,null,null,null,{"$f":"SUM(P7:P14)","v":{"$error":"#DIV/0!"}},{"$f":"-SUM(Q7:Q14)","v":{"$error":"#DIV/0!"}},null,null,null,null,{"$f":"SUM(V7:V14)","v":{"$error":"#DIV/0!"}},{"$f":"-SUM(W7:W14)","v":{"$error":"#DIV/0!"}},null,null,null,{"$f":"SUM(AA7:AA14)","v":{"$error":"#DIV/0!"}},{"$f":"-SUM(AB7:AB14)","v":{"$error":"#DIV/0!"}},null,null,null,{"$f":"SUM(AF7:AF14)","v":{"$error":"#DIV/0!"}},{"$f":"-SUM(AG7:AG14)","v":{"$error":"#DIV/0!"}},null,null,null,{"$f":"SUM(AK7:AK14)","v":{"$error":"#DIV/0!"}},{"$f":"-SUM(AL7:AL14)","v":{"$error":"#DIV/0!"}},null,null,null,{"$f":"SUM(AP7:AP14)","v":{"$error":"#DIV/0!"}},{"$f":"-SUM(AQ7:AQ14)","v":{"$error":"#DIV/0!"}},null,null,null,{"$f":"SUM(AU7:AU14)","v":{"$error":"#DIV/0!"}},{"$f":"-SUM(AV7:AV14)","v":{"$error":"#DIV/0!"}}]
[null,null,null,null,null,null,null,null,null,null,null,null,null,null,null,"U=",{"$f":"Q15/(LOG(Q4)/LOG(2))","v":{"$error":"#DIV/0!"}},null,null,null,null,"U1=",{"$f":"W15/(LOG(W4)/LOG(2))","v":{"$error":"#DIV/0!"}},null,null,null,"U2=",{"$f":"AB15/(LOG(AB4)/LOG(2))","v":{"$error":"#DIV/0!"}},null,null,null,"U3=",{"$f":"AG15/(LOG(AG4)/LOG(2))","v":{"$error":"#DIV/0!"}},null,null,null,"U4=",{"$f":"AL15/(LOG(AL4)/LOG(2))","v":{"$error":"#DIV/0!"}},null,null,null,"U5=",{"$f":"AQ15/(LOG(AQ4)/LOG(2))","v":{"$error":"#DIV/0!"}},null,null,null,"U6=",{"$f":"AV15/(LOG(AV4)/LOG(2))","v":{"$error":"#DIV/0!"}}]
[]
[]
[null,null,null,null,null,null,null,null,null,null,null,null,null,"Total Target Seq"]
[null,null,null,null,null,null,null,null,null,null,null,null,null,{"$f":"COUNTIF(L7:L7,G3)","v":0},null,0,0,1,0,0,0]
[null,null,null,null,null,null,null,null,null,null,null,null,null,null,null,"% of reinforcement given in 6 equal intervals based on number of trials "]
[null,null,null,null,null,null,null,null,null,null,null,null,null,null,null,"%_1","%_2","%_3","%_4","%_5","%_6"]
[null,null,null,null,null,null,null,null,null,null,null,null,null,null,"target sequence",{"$f":"$G$3","v":112},{"$f":"$G$3","v":112},{"$f":"$G$3","v":112},{"$f":"$G$3","v":112},{"$f":"$G$3","v":112},{"$f":"$G$3","v":112}]
[null,null,null,null,null,null,null,null,null,null,null,null,null,null,"total reinforcement",{"$f":"U8","v":0},{"$f":"Z8","v":0},{"$f":"AE8","v":0},{"$f":"AJ8","v":0},{"$f":"AO8","v":0},{"$f":"AT8","v":0}]
[null,null,null,null,null,null,null,null,null,null,null,null,null,null,"% target"]
[null,null,null,null,null,null,null,null,null,null,null,null,null,null,"CCRF"]
[null,null,null,null,null,null,null,null,null,null,null,null,null,null,"% CCRf"]
[null,null,null,null,null,null,null,null,null,null,null,null,null,null,"average response rate",{"$f":"F6/P20","v":{"$error":"#VALUE!"}},{"$f":"(F6-F6)/Q20","v":{"$error":"#VALUE!"}},{"$f":"(F7-F6)/R20","v":{"$error":"#VALUE!"}},{"$f":"(F7-F7)/S20","v":{"$error":"#DIV/0!"}},{"$f":"(F7-F7)/T20","v":{"$error":"#DIV/0!"}},{"$f":"(F7-F7)/U20","v":{"$error":"#DIV/0!"}}]

{"sheet":"!N42683B.AXT","index":17,"n_rows":28,"n_cols":48,"rows_kept":28,"cut":false,"hidden":false,"merged":[[4,39,4,42],[5,39,5,40],[4,44,4,47],[5,44,5,45],[4,24,4,27],[5,24,5,25],[4,29,4,32],[5,29,5,30],[4,34,4,37],[5,34,5,35],[1,1,1,2],[5,13,5,14],[18,13,18,14],[19,13,19,14],[4,19,4,22],[5,19,5,20]]}
["Report for:!N42683B.AXT"]
["Date:","<date>"]
["Hen:","<hen>",null,null,null,"Correct Sequence",{"$f":"Start!J2","v":112},null,null,null,null,null,null,null,null,"Total Sequences in Data",{"$f":"4994-COUNTBLANK(L7:L5000)","v":10},null,null,null,null,"Total Sequences in Block Data",{"$f":"COUNTA(L7:L8)","v":2},null,null,null,"Total Sequences in Block Data",{"$f":"COUNTA(L9:L9)","v":1},null,null,null,"Total Sequences in Block Data",{"$f":"COUNTA(L10:L11)","v":2},null,null,null,"Total Sequences in Block Data",{"$f":"COUNTA(L12:L13)","v":2},null,null,null,"Total Sequences in Block Data",{"$f":"COUNTA(L14:L14)","v":1},null,null,null,"Total Sequences in Block Data",{"$f":"COUNTA(L15:L16)","v":2}]
[null,null,null,null,null,null,null,null,null,null,null,null,null,null,null,"Total Sequences in Summary",{"$f":"SUM(O7:O14)","v":9},null,null,null,null,"Total Sequences in Block Summary",{"$f":"SUM(U7:U14)","v":2},null,null,null,"Total Sequences in Block Summary",{"$f":"SUM(Z7:Z14)","v":1},null,null,null,"Total Sequences in Block Summary",{"$f":"SUM(AE7:AE14)","v":2},null,null,null,"Total Sequences in Block Summary",{"$f":"SUM(AJ7:AJ14)","v":2},null,null,null,"Total Sequences in Block Summary",{"$f":"SUM(AO7:AO14)","v":1},null,null,null,"Total Sequences in Block Summary",{"$f":"SUM(AT7:AT14)","v":1}]
[null,null,null,null,null,null,null,null,null,null,null,null,null,null,null,null,null,null,null,"Block 1",null,null,null,null,"Block 2",null,null,null,null,"Block 3",null,null,null,null,"Block 4",null,null,null,null,"Block 5",null,null,null,null,"Block 6"]
["Sequence\nComponent\n1","Time\n1","Sequence\nComponent\n2","Time\n2","Sequence\nComponent\n3","Time\n3","Sequence\nComponent\n4","Time\n4","Sequence\nComponent\n5","Time\n5","Correct?\n0=No 1=Yes","Sequence",null,"Frequency",null,"Relative Frequency","Variability",null,null,"Frequency",null,"Relative Frequency","Variability",null,"Frequency",null,"Relative Frequency","Variability",null,"Frequency",null,"Relative Frequency","Variability",null,"Frequency",null,"Relative Frequency","Variability",null,"Frequency",null,"Relative Frequency","Variability",null,"Frequency",null,"Relative Frequency","Variability"]
[22,637,24,641,14,657,null,null,null,null,0,221,null,111,{"$f":"COUNTIF($L$7:$L$500,N7)","v":3},{"$f":"O7/$Q$4","v":0.33333333333333331},{"$f":"IF(P7=0,0,(P7*((LOG(P7))/LOG(2))))","v":-0.52832083357371862},null,null,{"$f":"N7","v":111},{"$f":"COUNTIF(L7:L8,T7)","v":0},{"$f":"U7/(W4-U8)","v":0},{"$f":"IF(V7=0,0,(V7*((LOG(V7))/LOG(2))))","v":0},null,{"$f":"N7","v":111},{"$f":"COUNTIF(L9:L9,Y7)","v":0},{"$f":"Z7/(AB4-Z8)","v":0},{"$f":"IF(AA7=0,0,(AA7*((LOG(AA7))/LOG(2))))","v":0},null,{"$f":"N7","v":111},{"$f":"COUNTIF(L10:L11,AD7)","v":0},{"$f":"AE7/(AG4-AE8)","v":0},{"$f":"IF(AF7=0,0,(AF7*((LOG(AF7))/LOG(2))))","v":0},null,{"$f":"N7","v":111},{"$f":"COUNTIF(L12:L13,AI7)","v":1},{"$f":"AJ7/(AL4-AJ8)","v":0.5},{"$f":"IF(AK7=0,0,(AK7*((LOG(AK7))/LOG(2))))","v":-0.5},null,{"$f":"N7","v":111},{"$f":"COUNTIF(L14:L14,AN7)","v":1},{"$f":"AO7/(AQ4-AO8)","v":1},{"$f":"IF(AP7=0,0,(AP7*((LOG(AP7))/LOG(2))))","v":0},null,{"$f":"N7","v":111},{"$f":"COUNTIF(L15:L16,AS7)","v":1},{"$f":"AT7/(AV4-AT8)","v":1},{"$f":"IF(AU7=0,0,(AU7*((LOG(AU7))/LOG(2))))","v":0}]
[22,887,13,898,23,904,null,null,null,null,0,212,null,112,{"$f":"COUNTIF($L$7:$L$500,N8)","v":1},{"$f":"O8/$Q$4","v":0.1111111111111111},{"$f":"IF(P8=0,0,(P8*((LOG(P8))/LOG(2))))","v":-0.3522138890491458},null,null,{"$f":"N8","v":112},{"$f":"COUNTIF(L7:L8,T8)","v":0},null,null,null,{"$f":"N8","v":112},{"$f":"COUNTIF(L9:L9,Y8)","v":0},null,null,null,{"$f":"N8","v":112},{"$f":"COUNTIF(L10:L11,AD8)","v":1},null,null,null,{"$f":"N8","v":112},{"$f":"COUNTIF(L12:L13,AI8)","v":0},null,null,null,{"$f":"N8","v":112},{"$f":"COUNTIF(L14:L14,AN8)","v":0},null,null,null,{"$f":"N8","v":112},{"$f":"COUNTIF(L15:L16,AS8)","v":0}]
[22,1903,24,1906,14,1927,null,null,null,null,0,221,null,121,{"$f":"COUNTIF($L$7:$L$500,N9)","v":0},{"$f":"O9/$Q$4","v":0},{"$f":"IF(P9=0,0,(P9*((LOG(P9))/LOG(2))))","v":0},null,null,{"$f":"N9","v":121},{"$f":"COUNTIF(L7:L8,T9)","v":0},{"$f":"U9/(W4-U8)","v":0},{"$f":"IF(V9=0,0,(V9*((LOG(V9))/LOG(2))))","v":0},null,{"$f":"N9","v":121},{"$f":"COUNTIF(L9:L9,Y9)","v":0},{"$f":"Z9/(AB4-Z8)","v":0},{"$f":"IF(AA9=0,0,(AA9*((LOG(AA9))/LOG(2))))","v":0},null,{"$f":"N9","v":121},{"$f":"COUNTIF(L10:L11,AD9)","v":0},{"$f":"AE9/(AG4-AE8)","v":0},{"$f":"IF(AF9=0,0,(AF9*((LOG(AF9))/LOG(2))))","v":0},null,{"$f":"N9","v":121},{"$f":"COUNTIF(L12:L13,AI9)","v":0},{"$f":"AJ9/(AL4-AJ8)","v":0},{"$f":"IF(AK9=0,0,(AK9*((LOG(AK9))/LOG(2))))","v":0},null,{"$f":"N9","v":121},{"$f":"COUNTIF(L14:L14,AN9)","v":0},{"$f":"AO9/(AQ4-AO8)","v":0},{"$f":"IF(AP9=0,0,(AP9*((LOG(AP9))/LOG(2))))","v":0},null,{"$f":"N9","v":121},{"$f":"COUNTIF(L15:L16,AS9)","v":0},{"$f":"AT9/(AV4-AT8)","v":0},{"$f":"IF(AU9=0,0,(AU9*((LOG(AU9))/LOG(2))))","v":0}]
[11,2023,11,2026,21,2058,null,null,null,null,0,112,null,122,{"$f":"COUNTIF($L$7:$L$500,N10)","v":0},{"$f":"O10/$Q$4","v":0},{"$f":"IF(P10=0,0,(P10*((LOG(P10))/LOG(2))))","v":0},null,null,{"$f":"N10","v":122},{"$f":"COUNTIF(L7:L8,T10)","v":0},{"$f":"U10/(W4-U8)","v":0},{"$f":"IF(V10=0,0,(V10*((LOG(V10))/LOG(2))))","v":0},null,{"$f":"N10","v":122},{"$f":"COUNTIF(L9:L9,Y10)","v":0},{"$f":"Z10/(AB4-Z8)","v":0},{"$f":"IF(AA10=0,0,(AA10*((LOG(AA10))/LOG(2))))","v":0},null,{"$f":"N10","v":122},{"$f":"COUNTIF(L10:L11,AD10)","v":0},{"$f":"AE10/(AG4-AE8)","v":0},{"$f":"IF(AF10=0,0,(AF10*((LOG(AF10))/LOG(2))))","v":0},null,{"$f":"N10","v":122},{"$f":"COUNTIF(L12:L13,AI10)","v":0},{"$f":"AJ10/(AL4-AJ8)","v":0},{"$f":"IF(AK10=0,0,(AK10*((LOG(AK10))/LOG(2))))","v":0},null,{"$f":"N10","v":122},{"$f":"COUNTIF(L14:L14,AN10)","v":0},{"$f":"AO10/(AQ4-AO8)","v":0},{"$f":"IF(AP10=0,0,(AP10*((LOG(AP10))/LOG(2))))","v":0},null,{"$f":"N10","v":122},{"$f":"COUNTIF(L15:L16,AS10)","v":0},{"$f":"AT10/(AV4-AT8)","v":0},{"$f":"IF(AU10=0,0,(AU10*((LOG(AU10))/LOG(2))))","v":0}]
[22,2683,24,2702,23,2709,null,null,null,null,0,222,null,211,{"$f":"COUNTIF($L$7:$L$500,N11)","v":0},{"$f":"O11/$Q$4","v":0},{"$f":"IF(P11=0,0,(P11*((LOG(P11))/LOG(2))))","v":0},null,null,{"$f":"N11","v":211},{"$f":"COUNTIF(L7:L8,T11)","v":0},{"$f":"U11/(W4-U8)","v":0},{"$f":"IF(V11=0,0,(V11*((LOG(V11))/LOG(2))))","v":0},null,{"$f":"N11","v":211},{"$f":"COUNTIF(L9:L9,Y11)","v":0},{"$f":"Z11/(AB4-Z8)","v":0},{"$f":"IF(AA11=0,0,(AA11*((LOG(AA11))/LOG(2))))","v":0},null,{"$f":"N11","v":211},{"$f":"COUNTIF(L10:L11,AD11)","v":0},{"$f":"AE11/(AG4-AE8)","v":0},{"$f":"IF(AF11=0,0,(AF11*((LOG(AF11))/LOG(2))))","v":0},null,{"$f":"N11","v":211},{"$f":"COUNTIF(L12:L13,AI11)","v":0},{"$f":"AJ11/(AL4-AJ8)","v":0},{"$f":"IF(AK11=0,0,(AK11*((LOG(AK11))/LOG(2))))","v":0},null,{"$f":"N11","v":211},{"$f":"COUNTIF(L14:L14,AN11)","v":0},{"$f":"AO11/(AQ4-AO8)","v":0},{"$f":"IF(AP11=0,0,(AP11*((LOG(AP11))/LOG(2))))","v":0},null,{"$f":"N11","v":211},{"$f":"COUNTIF(L15:L16,AS11)","v":0},{"$f":"AT11/(AV4-AT8)","v":0},{"$f":"IF(AU11=0,0,(AU11*((LOG(AU11))/LOG(2))))","v":0}]
[11,2990,11,3012,12,3019,null,null,null,null,0,111,null,212,{"$f":"COUNTIF($L$7:$L$500,N12)","v":1},{"$f":"O12/$Q$4","v":0.1111111111111111},{"$f":"IF(P12=0,0,(P12*((LOG(P12))/LOG(2))))","v":-0.3522138890491458},null,null,{"$f":"N12","v":212},{"$f":"COUNTIF(L7:L8,T12)","v":1},{"$f":"U12/(W4-U8)","v":0.5},{"$f":"IF(V12=0,0,(V12*((LOG(V12))/LOG(2))))","v":-0.5},null,{"$f":"N12","v":212},{"$f":"COUNTIF(L9:L9,Y12)","v":0},{"$f":"Z12/(AB4-Z8)","v":0},{"$f":"IF(AA12=0,0,(AA12*((LOG(AA12))/LOG(2))))","v":0},null,{"$f":"N12","v":212},{"$f":"COUNTIF(L10:L11,AD12)","v":0},{"$f":"AE12/(AG4-AE8)","v":0},{"$f":"IF(AF12=0,0,(AF12*((LOG(AF12))/LOG(2))))","v":0},null,{"$f":"N12","v":212},{"$f":"COUNTIF(L12:L13,AI12)","v":0},{"$f":"AJ12/(AL4-AJ8)","v":0},{"$f":"IF(AK12=0,0,(AK12*((LOG(AK12))/LOG(2))))","v":0},null,{"$f":"N12","v":212},{"$f":"COUNTIF(L14:L14,AN12)","v":0},{"$f":"AO12/(AQ4-AO8)","v":0},{"$f":"IF(AP12=0,0,(AP12*((LOG(AP12))/LOG(2))))","v":0},null,{"$f":"N12","v":212},{"$f":"COUNTIF(L15:L16,AS12)","v":0},{"$f":"AT12/(AV4-AT8)","v":0},{"$f":"IF(AU12=0,0,(AU12*((LOG(AU12))/LOG(2))))","v":0}]
[22,3254,24,3283,23,3296,null,null,null,null,0,222,null,221,{"$f":"COUNTIF($L$7:$L$500,N13)","v":2},{"$f":"O13/$Q$4","v":0.22222222222222221},{"$f":"IF(P13=0,0,(P13*((LOG(P13))/LOG(2))))","v":-0.48220555587606945},null,null,{"$f":"N13","v":221},{"$f":"COUNTIF(L7:L8,T13)","v":1},{"$f":"U13/(W4-U8)","v":0.5},{"$f":"IF(V13=0,0,(V13*((LOG(V13))/LOG(2))))","v":-0.5},null,{"$f":"N13","v":221},{"$f":"COUNTIF(L9:L9,Y13)","v":1},{"$f":"Z13/(AB4-Z8)","v":1},{"$f":"IF(AA13=0,0,(AA13*((LOG(AA13))/LOG(2))))","v":0},null,{"$f":"N13","v":221},{"$f":"COUNTIF(L10:L11,AD13)","v":0},{"$f":"AE13/(AG4-AE8)","v":0},{"$f":"IF(AF13=0,0,(AF13*((LOG(AF13))/LOG(2))))","v":0},null,{"$f":"N13","v":221},{"$f":"COUNTIF(L12:L13,AI13)","v":0},{"$f":"AJ13/(AL4-AJ8)","v":0},{"$f":"IF(AK13=0,0,(AK13*((LOG(AK13))/LOG(2))))","v":0},null,{"$f":"N13","v":221},{"$f":"COUNTIF(L14:L14,AN13)","v":0},{"$f":"AO13/(AQ4-AO8)","v":0},{"$f":"IF(AP13=0,0,(AP13*((LOG(AP13))/LOG(2))))","v":0},null,{"$f":"N13","v":221},{"$f":"COUNTIF(L15:L16,AS13)","v":0},{"$f":"AT13/(AV4-AT8)","v":0},{"$f":"IF(AU13=0,0,(AU13*((LOG(AU13))/LOG(2))))","v":0}]
[11,3731,11,3749,12,3759,null,null,null,null,0,111,null,222,{"$f":"COUNTIF($L$7:$L$500,N14)","v":2},{"$f":"O14/$Q$4","v":0.22222222222222221},{"$f":"IF(P14=0,0,(P14*((LOG(P14))/LOG(2))))","v":-0.48220555587606945},null,null,{"$f":"N14","v":222},{"$f":"COUNTIF(L7:L8,T14)","v":0},{"$f":"U14/(W4-U8)","v":0},{"$f":"IF(V14=0,0,(V14*((LOG(V14))/LOG(2))))","v":0},null,{"$f":"N14","v":222},{"$f":"COUNTIF(L9:L9,Y14)","v":0},{"$f":"Z14/(AB4-Z8)","v":0},{"$f":"IF(AA14=0,0,(AA14*((LOG(AA14))/LOG(2))))","v":0},null,{"$f":"N14","v":222},{"$f":"COUNTIF(L10:L11,AD14)","v":1},{"$f":"AE14/(AG4-AE8)","v":1},{"$f":"IF(AF14=0,0,(AF14*((LOG(AF14))/LOG(2))))","v":0},null,{"$f":"N14","v":222},{"$f":"COUNTIF(L12:L13,AI14)","v":1},{"$f":"AJ14/(AL4-AJ8)","v":0.5},{"$f":"IF(AK14=0,0,(AK14*((LOG(AK14))/LOG(2))))","v":-0.5},null,{"$f":"N14","v":222},{"$f":"COUNTIF(L14:L14,AN14)","v":0},{"$f":"AO14/(AQ4-AO8)","v":0},{"$f":"IF(AP14=0,0,(AP14*((LOG(AP14))/LOG(2))))","v":0},null,{"$f":"N14","v":222},{"$f":"COUNTIF(L15:L16,AS14)","v":0},{"$f":"AT14/(AV4-AT8)","v":0},{"$f":"IF(AU14=0,0,(AU14*((LOG(AU14))/LOG(2))))","v":0}]
[11,3855,11,3881,12,3890,null,null,null,null,0,111,null,null,null,{"$f":"SUM(P7:P14)","v":1},{"$f":"-SUM(Q7:Q14)","v":2.1971597234241491},null,null,null,null,{"$f":"SUM(V7:V14)","v":1},{"$f":"-SUM(W7:W14)","v":1},null,null,null,{"$f":"SUM(AA7:AA14)","v":1},{"$f":"-SUM(AB7:AB14)","v":0},null,null,null,{"$f":"SUM(AF7:AF14)","v":1},{"$f":"-SUM(AG7:AG14)","v":0},null,null,null,{"$f":"SUM(AK7:AK14)","v":1},{"$f":"-SUM(AL7:AL14)","v":1},null,null,null,{"$f":"SUM(AP7:AP14)","v":1},{"$f":"-SUM(AQ7:AQ14)","v":0},null,null,null,{"$f":"SUM(AU7:AU14)","v":1},{"$f":"-SUM(AV7:AV14)","v":0}]
[22,13179,null,null,null,null,null,null,null,null,null,2,null,null,null,"U=",{"$f":"Q15/(LOG(Q4)/LOG(2))","v":0.69312672142856502},null,null,null,null,"U1=",{"$f":"W15/(LOG(W4)/LOG(2))","v":1},null,null,null,"U2=",{"$f":"AB15/(LOG(AB4)/LOG(2))","v":{"$error":"#DIV/0!"}},null,null,null,"U3=",{"$f":"AG15/(LOG(AG4)/LOG(2))","v":0},null,null,null,"U4=",{"$f":"AL15/(LOG(AL4)/LOG(2))","v":1},null,null,null,"U5=",{"$f":"AQ15/(LOG(AQ4)/LOG(2))","v":{"$error":"#DIV/0!"}},null,null,null,"U6=",{"$f":"AV15/(LOG(AV4)/LOG(2))","v":{"$error":"#DIV/0!"}}]
[]
[]
[null,null,null,null,null,null,null,null,null,null,null,null,null,"Total Target Seq"]
[null,null,null,null,null,null,null,null,null,null,null,null,null,{"$f":"COUNTIF(L7:L16,G3)","v":1},null,2,1,2,2,1,2]
[null,null,null,null,null,null,null,null,null,null,null,null,null,null,null,"% of reinforcement given in 6 equal intervals based on number of trials "]
[null,null,null,null,null,null,null,null,null,null,null,null,null,null,null,"%_1","%_2","%_3","%_4","%_5","%_6"]
[null,null,null,null,null,null,null,null,null,null,null,null,null,null,"target sequence",{"$f":"$G$3","v":112},{"$f":"$G$3","v":112},{"$f":"$G$3","v":112},{"$f":"$G$3","v":112},{"$f":"$G$3","v":112},{"$f":"$G$3","v":112}]
[null,null,null,null,null,null,null,null,null,null,null,null,null,null,"total reinforcement",{"$f":"U8","v":0},{"$f":"Z8","v":0},{"$f":"AE8","v":1},{"$f":"AJ8","v":0},{"$f":"AO8","v":0},{"$f":"AT8","v":0}]
[null,null,null,null,null,null,null,null,null,null,null,null,null,null,"% target"]
[null,null,null,null,null,null,null,null,null,null,null,null,null,null,"CCRF"]
[null,null,null,null,null,null,null,null,null,null,null,null,null,null,"% CCRf"]
[null,null,null,null,null,null,null,null,null,null,null,null,null,null,"average response rate",{"$f":"F8/P20","v":452},{"$f":"(F9-F8)/Q20","v":1023},{"$f":"(F11-F9)/R20","v":391},{"$f":"(F13-F11)/S20","v":293.5},{"$f":"(F14-F13)/T20","v":463},{"$f":"(F16-F14)/U20","v":-1879.5}]

{"sheet":"!N42785B.AXT","index":18,"n_rows":28,"n_cols":48,"rows_kept":28,"cut":false,"hidden":false,"merged":[[4,39,4,42],[5,39,5,40],[4,44,4,47],[5,44,5,45],[4,24,4,27],[5,24,5,25],[4,29,4,32],[5,29,5,30],[4,34,4,37],[5,34,5,35],[1,1,1,2],[5,13,5,14],[18,13,18,14],[19,13,19,14],[4,19,4,22],[5,19,5,20]]}
["Report for:!N42785B.AXT"]
["Date:","<date>"]
["Hen:","<hen>",null,null,null,"Correct Sequence",{"$f":"Start!J2","v":112},null,null,null,null,null,null,null,null,"Total Sequences in Data",{"$f":"4994-COUNTBLANK(L7:L5000)","v":7},null,null,null,null,"Total Sequences in Block Data",{"$f":"COUNTA(L7:L7)","v":1},null,null,null,"Total Sequences in Block Data",{"$f":"COUNTA(L8:L8)","v":1},null,null,null,"Total Sequences in Block Data",{"$f":"COUNTA(L9:L10)","v":2},null,null,null,"Total Sequences in Block Data",{"$f":"COUNTA(L11:L11)","v":1},null,null,null,"Total Sequences in Block Data",{"$f":"COUNTA(L12:L12)","v":1},null,null,null,"Total Sequences in Block Data",{"$f":"COUNTA(L13:L13)","v":1}]
[null,null,null,null,null,null,null,null,null,null,null,null,null,null,null,"Total Sequences in Summary",{"$f":"SUM(O7:O14)","v":7},null,null,null,null,"Total Sequences in Block Summary",{"$f":"SUM(U7:U14)","v":1},null,null,null,"Total Sequences in Block Summary",{"$f":"SUM(Z7:Z14)","v":1},null,null,null,"Total Sequences in Block Summary",{"$f":"SUM(AE7:AE14)","v":2},null,null,null,"Total Sequences in Block Summary",{"$f":"SUM(AJ7:AJ14)","v":1},null,null,null,"Total Sequences in Block Summary",{"$f":"SUM(AO7:AO14)","v":1},null,null,null,"Total Sequences in Block Summary",{"$f":"SUM(AT7:AT14)","v":1}]
[null,null,null,null,null,null,null,null,null,null,null,null,null,null,null,null,null,null,null,"Block 1",null,null,null,null,"Block 2",null,null,null,null,"Block 3",null,null,null,null,"Block 4",null,null,null,null,"Block 5",null,null,null,null,"Block 6"]
["Sequence\nComponent\n1","Time\n1","Sequence\nComponent\n2","Time\n2","Sequence\nComponent\n3","Time\n3","Sequence\nComponent\n4","Time\n4","Sequence\nComponent\n5","Time\n5","Correct?\n0=No 1=Yes","Sequence",null,"Frequency",null,"Relative Frequency","Variability",null,null,"Frequency",null,"Relative Frequency","Variability",null,"Frequency",null,"Relative Frequency","Variability",null,"Frequency",null,"Relative Frequency","Variability",null,"Frequency",null,"Relative Frequency","Variability",null,"Frequency",null,"Relative Frequency","Variability",null,"Frequency",null,"Relative Frequency","Variability"]
[22,2400,13,2412,23,2424,null,null,null,null,0,212,null,111,{"$f":"COUNTIF($L$7:$L$500,N7)","v":2},{"$f":"O7/$Q$4","v":0.2857142857142857},{"$f":"IF(P7=0,0,(P7*((LOG(P7))/LOG(2))))","v":-0.51638712058788683},null,null,{"$f":"N7","v":111},{"$f":"COUNTIF(L7:L7,T7)","v":0},{"$f":"U7/(W4-U8)","v":0},{"$f":"IF(V7=0,0,(V7*((LOG(V7))/LOG(2))))","v":0},null,{"$f":"N7","v":111},{"$f":"COUNTIF(L8:L8,Y7)","v":0},{"$f":"Z7/(AB4-Z8)","v":0},{"$f":"IF(AA7=0,0,(AA7*((LOG(AA7))/LOG(2))))","v":0},null,{"$f":"N7","v":111},{"$f":"COUNTIF(L9:L10,AD7)","v":0},{"$f":"AE7/(AG4-AE8)","v":{"$error":"#DIV/0!"}},{"$f":"IF(AF7=0,0,(AF7*((LOG(AF7))/LOG(2))))","v":{"$error":"#DIV/0!"}},null,{"$f":"N7","v":111},{"$f":"COUNTIF(L11:L11,AI7)","v":0},{"$f":"AJ7/(AL4-AJ8)","v":0},{"$f":"IF(AK7=0,0,(AK7*((LOG(AK7))/LOG(2))))","v":0},null,{"$f":"N7","v":111},{"$f":"COUNTIF(L12:L12,AN7)","v":1},{"$f":"AO7/(AQ4-AO8)","v":1},{"$f":"IF(AP7=0,0,(AP7*((LOG(AP7))/LOG(2))))","v":0},null,{"$f":"N7","v":111},{"$f":"COUNTIF(L13:L13,AS7)","v":1},{"$f":"AT7/(AV4-AT8)","v":1},{"$f":"IF(AU7=0,0,(AU7*((LOG(AU7))/LOG(2))))","v":0}]
[22,5267,13,6848,14,6867,null,null,null,null,0,211,null,112,{"$f":"COUNTIF($L$7:$L$500,N8)","v":2},{"$f":"O8/$Q$4","v":0.2857142857142857},{"$f":"IF(P8=0,0,(P8*((LOG(P8))/LOG(2))))","v":-0.51638712058788683},null,null,{"$f":"N8","v":112},{"$f":"COUNTIF(L7:L7,T8)","v":0},null,null,null,{"$f":"N8","v":112},{"$f":"COUNTIF(L8:L8,Y8)","v":0},null,null,null,{"$f":"N8","v":112},{"$f":"COUNTIF(L9:L10,AD8)","v":2},null,null,null,{"$f":"N8","v":112},{"$f":"COUNTIF(L11:L11,AI8)","v":0},null,null,null,{"$f":"N8","v":112},{"$f":"COUNTIF(L12:L12,AN8)","v":0},null,null,null,{"$f":"N8","v":112},{"$f":"COUNTIF(L13:L13,AS8)","v":0}]
[11,10366,11,10369,21,10380,null,null,null,null,0,112,null,121,{"$f":"COUNTIF($L$7:$L$500,N9)","v":0},{"$f":"O9/$Q$4","v":0},{"$f":"IF(P9=0,0,(P9*((LOG(P9))/LOG(2))))","v":0},null,null,{"$f":"N9","v":121},{"$f":"COUNTIF(L7:L7,T9)","v":0},{"$f":"U9/(W4-U8)","v":0},{"$f":"IF(V9=0,0,(V9*((LOG(V9))/LOG(2))))","v":0},null,{"$f":"N9","v":121},{"$f":"COUNTIF(L8:L8,Y9)","v":0},{"$f":"Z9/(AB4-Z8)","v":0},{"$f":"IF(AA9=0,0,(AA9*((LOG(AA9))/LOG(2))))","v":0},null,{"$f":"N9","v":121},{"$f":"COUNTIF(L9:L10,AD9)","v":0},{"$f":"AE9/(AG4-AE8)","v":{"$error":"#DIV/0!"}},{"$f":"IF(AF9=0,0,(AF9*((LOG(AF9))/LOG(2))))","v":{"$error":"#DIV/0!"}},null,{"$f":"N9","v":121},{"$f":"COUNTIF(L11:L11,AI9)","v":0},{"$f":"AJ9/(AL4-AJ8)","v":0},{"$f":"IF(AK9=0,0,(AK9*((LOG(AK9))/LOG(2))))","v":0},null,{"$f":"N9","v":121},{"$f":"COUNTIF(L12:L12,AN9)","v":0},{"$f":"AO9/(AQ4-AO8)","v":0},{"$f":"IF(AP9=0,0,(AP9*((LOG(AP9))/LOG(2))))","v":0},null,{"$f":"N9","v":121},{"$f":"COUNTIF(L13:L13,AS9)","v":0},{"$f":"AT9/(AV4-AT8)","v":0},{"$f":"IF(AU9=0,0,(AU9*((LOG(AU9))/LOG(2))))","v":0}]
[11,10661,11,10696,21,10719,null,null,null,null,0,112,null,122,{"$f":"COUNTIF($L$7:$L$500,N10)","v":0},{"$f":"O10/$Q$4","v":0},{"$f":"IF(P10=0,0,(P10*((LOG(P10))/LOG(2))))","v":0},null,null,{"$f":"N10","v":122},{"$f":"COUNTIF(L7:L7,T10)","v":0},{"$f":"U10/(W4-U8)","v":0},{"$f":"IF(V10=0,0,(V10*((LOG(V10))/LOG(2))))","v":0},null,{"$f":"N10","v":122},{"$f":"COUNTIF(L8:L8,Y10)","v":0},{"$f":"Z10/(AB4-Z8)","v":0},{"$f":"IF(AA10=0,0,(AA10*((LOG(AA10))/LOG(2))))","v":0},null,{"$f":"N10","v":122},{"$f":"COUNTIF(L9:L10,AD10)","v":0},{"$f":"AE10/(AG4-AE8)","v":{"$error":"#DIV/0!"}},{"$f":"IF(AF10=0,0,(AF10*((LOG(AF10))/LOG(2))))","v":{"$error":"#DIV/0!"}},null,{"$f":"N10","v":122},{"$f":"COUNTIF(L11:L11,AI10)","v":0},{"$f":"AJ10/(AL4-AJ8)","v":0},{"$f":"IF(AK10=0,0,(AK10*((LOG(AK10))/LOG(2))))","v":0},null,{"$f":"N10","v":122},{"$f":"COUNTIF(L12:L12,AN10)","v":0},{"$f":"AO10/(AQ4-AO8)","v":0},{"$f":"IF(AP10=0,0,(AP10*((LOG(AP10))/LOG(2))))","v":0},null,{"$f":"N10","v":122},{"$f":"COUNTIF(L13:L13,AS10)","v":0},{"$f":"AT10/(AV4-AT8)","v":0},{"$f":"IF(AU10=0,0,(AU10*((LOG(AU10))/LOG(2))))","v":0}]
[22,11159,24,11186,14,11199,null,null,null,null,0,221,null,211,{"$f":"COUNTIF($L$7:$L$500,N11)","v":1},{"$f":"O11/$Q$4","v":0.14285714285714285},{"$f":"IF(P11=0,0,(P11*((LOG(P11))/LOG(2))))","v":-0.40105070315108626},null,null,{"$f":"N11","v":211},{"$f":"COUNTIF(L7:L7,T11)","v":0},{"$f":"U11/(W4-U8)","v":0},{"$f":"IF(V11=0,0,(V11*((LOG(V11))/LOG(2))))","v":0},null,{"$f":"N11","v":211},{"$f":"COUNTIF(L8:L8,Y11)","v":1},{"$f":"Z11/(AB4-Z8)","v":1},{"$f":"IF(AA11=0,0,(AA11*((LOG(AA11))/LOG(2))))","v":0},null,{"$f":"N11","v":211},{"$f":"COUNTIF(L9:L10,AD11)","v":0},{"$f":"AE11/(AG4-AE8)","v":{"$error":"#DIV/0!"}},{"$f":"IF(AF11=0,0,(AF11*((LOG(AF11))/LOG(2))))","v":{"$error":"#DIV/0!"}},null,{"$f":"N11","v":211},{"$f":"COUNTIF(L11:L11,AI11)","v":0},{"$f":"AJ11/(AL4-AJ8)","v":0},{"$f":"IF(AK11=0,0,(AK11*((LOG(AK11))/LOG(2))))","v":0},null,{"$f":"N11","v":211},{"$f":"COUNTIF(L12:L12,AN11)","v":0},{"$f":"AO11/(AQ4-AO8)","v":0},{"$f":"IF(AP11=0,0,(AP11*((LOG(AP11))/LOG(2))))","v":0},null,{"$f":"N11","v":211},{"$f":"COUNTIF(L13:L13,AS11)","v":0},{"$f":"AT11/(AV4-AT8)","v":0},{"$f":"IF(AU11=0,0,(AU11*((LOG(AU11))/LOG(2))))","v":0}]
[11,11439,11,11443,12,11462,null,null,null,null,0,111,null,212,{"$f":"COUNTIF($L$7:$L$500,N12)","v":1},{"$f":"O12/$Q$4","v":0.14285714285714285},{"$f":"IF(P12=0,0,(P12*((LOG(P12))/LOG(2))))","v":-0.40105070315108626},null,null,{"$f":"N12","v":212},{"$f":"COUNTIF(L7:L7,T12)","v":1},{"$f":"U12/(W4-U8)","v":1},{"$f":"IF(V12=0,0,(V12*((LOG(V12))/LOG(2))))","v":0},null,{"$f":"N12","v":212},{"$f":"COUNTIF(L8:L8,Y12)","v":0},{"$f":"Z12/(AB4-Z8)","v":0},{"$f":"IF(AA12=0,0,(AA12*((LOG(AA12))/LOG(2))))","v":0},null,{"$f":"N12","v":212},{"$f":"COUNTIF(L9:L10,AD12)","v":0},{"$f":"AE12/(AG4-AE8)","v":{"$error":"#DIV/0!"}},{"$f":"IF(AF12=0,0,(AF12*((LOG(AF12))/LOG(2))))","v":{"$error":"#DIV/0!"}},null,{"$f":"N12","v":212},{"$f":"COUNTIF(L11:L11,AI12)","v":0},{"$f":"AJ12/(AL4-AJ8)","v":0},{"$f":"IF(AK12=0,0,(AK12*((LOG(AK12))/LOG(2))))","v":0},null,{"$f":"N12","v":212},{"$f":"COUNTIF(L12:L12,AN12)","v":0},{"$f":"AO12/(AQ4-AO8)","v":0},{"$f":"IF(AP12=0,0,(AP12*((LOG(AP12))/LOG(2))))","v":0},null,{"$f":"N12","v":212},{"$f":"COUNTIF(L13:L13,AS12)","v":0},{"$f":"AT12/(AV4-AT8)","v":0},{"$f":"IF(AU12=0,0,(AU12*((LOG(AU12))/LOG(2))))","v":0}]
[11,11578,11,11598,12,11609,null,null,null,null,0,111,null,221,{"$f":"COUNTIF($L$7:$L$500,N13)","v":1},{"$f":"O13/$Q$4","v":0.14285714285714285},{"$f":"IF(P13=0,0,(P13*((LOG(P13))/LOG(2))))","v":-0.40105070315108626},null,null,{"$f":"N13","v":221},{"$f":"COUNTIF(L7:L7,T13)","v":0},{"$f":"U13/(W4-U8)","v":0},{"$f":"IF(V13=0,0,(V13*((LOG(V13))/LOG(2))))","v":0},null,{"$f":"N13","v":221},{"$f":"COUNTIF(L8:L8,Y13)","v":0},{"$f":"Z13/(AB4-Z8)","v":0},{"$f":"IF(AA13=0,0,(AA13*((LOG(AA13))/LOG(2))))","v":0},null,{"$f":"N13","v":221},{"$f":"COUNTIF(L9:L10,AD13)","v":0},{"$f":"AE13/(AG4-AE8)","v":{"$error":"#DIV/0!"}},{"$f":"IF(AF13=0,0,(AF13*((LOG(AF13))/LOG(2))))","v":{"$error":"#DIV/0!"}},null,{"$f":"N13","v":221},{"$f":"COUNTIF(L11:L11,AI13)","v":1},{"$f":"AJ13/(AL4-AJ8)","v":1},{"$f":"IF(AK13=0,0,(AK13*((LOG(AK13))/LOG(2))))","v":0},null,{"$f":"N13","v":221},{"$f":"COUNTIF(L12:L12,AN13)","v":0},{"$f":"AO13/(AQ4-AO8)","v":0},{"$f":"IF(AP13=0,0,(AP13*((LOG(AP13))/LOG(2))))","v":0},null,{"$f":"N13","v":221},{"$f":"COUNTIF(L13:L13,AS13)","v":0},{"$f":"AT13/(AV4-AT8)","v":0},{"$f":"IF(AU13=0,0,(AU13*((LOG(AU13))/LOG(2))))","v":0}]
[null,null,null,null,null,null,null,null,null,null,null,null,null,222,{"$f":"COUNTIF($L$7:$L$500,N14)","v":0},{"$f":"O14/$Q$4","v":0},{"$f":"IF(P14=0,0,(P14*((LOG(P14))/LOG(2))))","v":0},null,null,{"$f":"N14","v":222},{"$f":"COUNTIF(L7:L7,T14)","v":0},{"$f":"U14/(W4-U8)","v":0},{"$f":"IF(V14=0,0,(V14*((LOG(V14))/LOG(2))))","v":0},null,{"$f":"N14","v":222},{"$f":"COUNTIF(L8:L8,Y14)","v":0},{"$f":"Z14/(AB4-Z8)","v":0},{"$f":"IF(AA14=0,0,(AA14*((LOG(AA14))/LOG(2))))","v":0},null,{"$f":"N14","v":222},{"$f":"COUNTIF(L9:L10,AD14)","v":0},{"$f":"AE14/(AG4-AE8)","v":{"$error":"#DIV/0!"}},{"$f":"IF(AF14=0,0,(AF14*((LOG(AF14))/LOG(2))))","v":{"$error":"#DIV/0!"}},null,{"$f":"N14","v":222},{"$f":"COUNTIF(L11:L11,AI14)","v":0},{"$f":"AJ14/(AL4-AJ8)","v":0},{"$f":"IF(AK14=0,0,(AK14*((LOG(AK14))/LOG(2))))","v":0},null,{"$f":"N14","v":222},{"$f":"COUNTIF(L12:L12,AN14)","v":0},{"$f":"AO14/(AQ4-AO8)","v":0},{"$f":"IF(AP14=0,0,(AP14*((LOG(AP14))/LOG(2))))","v":0},null,{"$f":"N14","v":222},{"$f":"COUNTIF(L13:L13,AS14)","v":0},{"$f":"AT14/(AV4-AT8)","v":0},{"$f":"IF(AU14=0,0,(AU14*((LOG(AU14))/LOG(2))))","v":0}]
[null,null,null,null,null,null,null,null,null,null,null,null,null,null,null,{"$f":"SUM(P7:P14)","v":0.99999999999999978},{"$f":"-SUM(Q7:Q14)","v":2.2359263506290326},null,null,null,null,{"$f":"SUM(V7:V14)","v":1},{"$f":"-SUM(W7:W14)","v":0},null,null,null,{"$f":"SUM(AA7:AA14)","v":1},{"$f":"-SUM(AB7:AB14)","v":0},null,null,null,{"$f":"SUM(AF7:AF14)","v":{"$error":"#DIV/0!"}},{"$f":"-SUM(AG7:AG14)","v":{"$error":"#DIV/0!"}},null,null,null,{"$f":"SUM(AK7:AK14)","v":1},{"$f":"-SUM(AL7:AL14)","v":0},null,null,null,{"$f":"SUM(AP7:AP14)","v":1},{"$f":"-SUM(AQ7:AQ14)","v":0},null,null,null,{"$f":"SUM(AU7:AU14)","v":1},{"$f":"-SUM(AV7:AV14)","v":0}]
[null,null,null,null,null,null,null,null,null,null,null,null,null,null,null,"U=",{"$f":"Q15/(LOG(Q4)/LOG(2))","v":0.79645303593827299},null,null,null,null,"U1=",{"$f":"W15/(LOG(W4)/LOG(2))","v":{"$error":"#DIV/0!"}},null,null,null,"U2=",{"$f":"AB15/(LOG(AB4)/LOG(2))","v":{"$error":"#DIV/0!"}},null,null,null,"U3=",{"$f":"AG15/(LOG(AG4)/LOG(2))","v":{"$error":"#DIV/0!"}},null,null,null,"U4=",{"$f":"AL15/(LOG(AL4)/LOG(2))","v":{"$error":"#DIV/0!"}},null,null,null,"U5=",{"$f":"AQ15/(LOG(AQ4)/LOG(2))","v":{"$error":"#DIV/0!"}},null,null,null,"U6=",{"$f":"AV15/(LOG(AV4)/LOG(2))","v":{"$error":"#DIV/0!"}}]
[]
[]
[null,null,null,null,null,null,null,null,null,null,null,null,null,"Total Target Seq"]
[null,null,null,null,null,null,null,null,null,null,null,null,null,{"$f":"COUNTIF(L7:L13,G3)","v":2},null,1,1,2,1,1,1]
[null,null,null,null,null,null,null,null,null,null,null,null,null,null,null,"% of reinforcement given in 6 equal intervals based on number of trials "]
[null,null,null,null,null,null,null,null,null,null,null,null,null,null,null,"%_1","%_2","%_3","%_4","%_5","%_6"]
[null,null,null,null,null,null,null,null,null,null,null,null,null,null,"target sequence",{"$f":"$G$3","v":112},{"$f":"$G$3","v":112},{"$f":"$G$3","v":112},{"$f":"$G$3","v":112},{"$f":"$G$3","v":112},{"$f":"$G$3","v":112}]
[null,null,null,null,null,null,null,null,null,null,null,null,null,null,"total reinforcement",{"$f":"U8","v":0},{"$f":"Z8","v":0},{"$f":"AE8","v":2},{"$f":"AJ8","v":0},{"$f":"AO8","v":0},{"$f":"AT8","v":0}]
[null,null,null,null,null,null,null,null,null,null,null,null,null,null,"% target"]
[null,null,null,null,null,null,null,null,null,null,null,null,null,null,"CCRF"]
[null,null,null,null,null,null,null,null,null,null,null,null,null,null,"% CCRf"]
[null,null,null,null,null,null,null,null,null,null,null,null,null,null,"average response rate",{"$f":"F7/P20","v":2424},{"$f":"(F8-F7)/Q20","v":4443},{"$f":"(F10-F8)/R20","v":1926},{"$f":"(F11-F10)/S20","v":480},{"$f":"(F12-F11)/T20","v":263},{"$f":"(F13-F12)/U20","v":147}]

{"sheet":"!N42894B.AXT","index":19,"n_rows":28,"n_cols":48,"rows_kept":28,"cut":false,"hidden":false,"merged":[[4,39,4,42],[5,39,5,40],[4,44,4,47],[5,44,5,45],[4,24,4,27],[5,24,5,25],[4,29,4,32],[5,29,5,30],[4,34,4,37],[5,34,5,35],[1,1,1,2],[5,13,5,14],[18,13,18,14],[19,13,19,14],[4,19,4,22],[5,19,5,20]]}
["Report for:!N42894B.AXT"]
["Date:","<date>"]
["Hen:","<hen>",null,null,null,"Correct Sequence",{"$f":"Start!J2","v":112},null,null,null,null,null,null,null,null,"Total Sequences in Data",{"$f":"4994-COUNTBLANK(L7:L5000)","v":5},null,null,null,null,"Total Sequences in Block Data",{"$f":"COUNTA(L7:L7)","v":1},null,null,null,"Total Sequences in Block Data",{"$f":"COUNTA(L8:L8)","v":1},null,null,null,"Total Sequences in Block Data",{"$f":"COUNTA(L8:L9)","v":2},null,null,null,"Total Sequences in Block Data",{"$f":"COUNTA(L9:L9)","v":1},null,null,null,"Total Sequences in Block Data",{"$f":"COUNTA(L10:L10)","v":1},null,null,null,"Total Sequences in Block Data",{"$f":"COUNTA(L11:L11)","v":1}]
[null,null,null,null,null,null,null,null,null,null,null,null,null,null,null,"Total Sequences in Summary",{"$f":"SUM(O7:O14)","v":5},null,null,null,null,"Total Sequences in Block Summary",{"$f":"SUM(U7:U14)","v":1},null,null,null,"Total Sequences in Block Summary",{"$f":"SUM(Z7:Z14)","v":1},null,null,null,"Total Sequences in Block Summary",{"$f":"SUM(AE7:AE14)","v":2},null,null,null,"Total Sequences in Block Summary",{"$f":"SUM(AJ7:AJ14)","v":1},null,null,null,"Total Sequences in Block Summary",{"$f":"SUM(AO7:AO14)","v":1},null,null,null,"Total Sequences in Block Summary",{"$f":"SUM(AT7:AT14)","v":1}]
[null,null,null,null,null,null,null,null,null,null,null,null,null,null,null,null,null,null,null,"Block 1",null,null,null,null,"Block 2",null,null,null,null,"Block 3",null,null,null,null,"Block 4",null,null,null,null,"Block 5",null,null,null,null,"Block 6"]
["Sequence\nComponent\n1","Time\n1","Sequence\nComponent\n2","Time\n2","Sequence\nComponent\n3","Time\n3","Sequence\nComponent\n4","Time\n4","Sequence\nComponent\n5","Time\n5","Correct?\n0=No 1=Yes","Sequence",null,"Frequency",null,"Relative Frequency","Variability",null,null,"Frequency",null,"Relative Frequency","Variability",null,"Frequency",null,"Relative Frequency","Variability",null,"Frequency",null,"Relative Frequency","Variability",null,"Frequency",null,"Relative Frequency","Variability",null,"Frequency",null,"Relative Frequency","Variability",null,"Frequency",null,"Relative Frequency","Variability"]
[11,8317,11,8328,12,8349,null,null,null,null,0,111,null,111,{"$f":"COUNTIF($L$7:$L$500,N7)","v":3},{"$f":"O7/$Q$4","v":0.6},{"$f":"IF(P7=0,0,(P7*((LOG(P7))/LOG(2))))","v":-0.44217935649972373},null,null,{"$f":"N7","v":111},{"$f":"COUNTIF(L7:L7,T7)","v":1},{"$f":"U7/(W4-U8)","v":1},{"$f":"IF(V7=0,0,(V7*((LOG(V7))/LOG(2))))","v":0},null,{"$f":"N7","v":111},{"$f":"COUNTIF(L8:L8,Y7)","v":0},{"$f":"Z7/(AB4-Z8)","v":{"$error":"#DIV/0!"}},{"$f":"IF(AA7=0,0,(AA7*((LOG(AA7))/LOG(2))))","v":{"$error":"#DIV/0!"}},null,{"$f":"N7","v":111},{"$f":"COUNTIF(L8:L9,AD7)","v":0},{"$f":"AE7/(AG4-AE8)","v":0},{"$f":"IF(AF7=0,0,(AF7*((LOG(AF7))/LOG(2))))","v":0},null,{"$f":"N7","v":111},{"$f":"COUNTIF(L9:L9,AI7)","v":0},{"$f":"AJ7/(AL4-AJ8)","v":0},{"$f":"IF(AK7=0,0,(AK7*((LOG(AK7))/LOG(2))))","v":0},null,{"$f":"N7","v":111},{"$f":"COUNTIF(L10:L10,AN7)","v":1},{"$f":"AO7/(AQ4-AO8)","v":1},{"$f":"IF(AP7=0,0,(AP7*((LOG(AP7))/LOG(2))))","v":0},null,{"$f":"N7","v":111},{"$f":"COUNTIF(L11:L11,AS7)","v":1},{"$f":"AT7/(AV4-AT8)","v":1},{"$f":"IF(AU7=0,0,(AU7*((LOG(AU7))/LOG(2))))","v":0}]
[11,8482,11,8485,21,8507,null,null,null,null,0,112,null,112,{"$f":"COUNTIF($L$7:$L$500,N8)","v":1},{"$f":"O8/$Q$4","v":0.2},{"$f":"IF(P8=0,0,(P8*((LOG(P8))/LOG(2))))","v":-0.46438561897747244},null,null,{"$f":"N8","v":112},{"$f":"COUNTIF(L7:L7,T8)","v":0},null,null,null,{"$f":"N8","v":112},{"$f":"COUNTIF(L8:L8,Y8)","v":1},null,null,null,{"$f":"N8","v":112},{"$f":"COUNTIF(L8:L9,AD8)","v":1},null,null,null,{"$f":"N8","v":112},{"$f":"COUNTIF(L9:L9,AI8)","v":0},null,null,null,{"$f":"N8","v":112},{"$f":"COUNTIF(L10:L10,AN8)","v":0},null,null,null,{"$f":"N8","v":112},{"$f":"COUNTIF(L11:L11,AS8)","v":0}]
[22,9312,24,9314,14,9334,null,null,null,null,0,221,null,121,{"$f":"COUNTIF($L$7:$L$500,N9)","v":0},{"$f":"O9/$Q$4","v":0},{"$f":"IF(P9=0,0,(P9*((LOG(P9))/LOG(2))))","v":0},null,null,{"$f":"N9","v":121},{"$f":"COUNTIF(L7:L7,T9)","v":0},{"$f":"U9/(W4-U8)","v":0},{"$f":"IF(V9=0,0,(V9*((LOG(V9))/LOG(2))))","v":0},null,{"$f":"N9","v":121},{"$f":"COUNTIF(L8:L8,Y9)","v":0},{"$f":"Z9/(AB4-Z8)","v":{"$error":"#DIV/0!"}},{"$f":"IF(AA9=0,0,(AA9*((LOG(AA9))/LOG(2))))","v":{"$error":"#DIV/0!"}},null,{"$f":"N9","v":121},{"$f":"COUNTIF(L8:L9,AD9)","v":0},{"$f":"AE9/(AG4-AE8)","v":0},{"$f":"IF(AF9=0,0,(AF9*((LOG(AF9))/LOG(2))))","v":0},null,{"$f":"N9","v":121},{"$f":"COUNTIF(L9:L9,AI9)","v":0},{"$f":"AJ9/(AL4-AJ8)","v":0},{"$f":"IF(AK9=0,0,(AK9*((LOG(AK9))/LOG(2))))","v":0},null,{"$f":"N9","v":121},{"$f":"COUNTIF(L10:L10,AN9)","v":0},{"$f":"AO9/(AQ4-AO8)","v":0},{"$f":"IF(AP9=0,0,(AP9*((LOG(AP9))/LOG(2))))","v":0},null,{"$f":"N9","v":121},{"$f":"COUNTIF(L11:L11,AS9)","v":0},{"$f":"AT9/(AV4-AT8)","v":0},{"$f":"IF(AU9=0,0,(AU9*((LOG(AU9))/LOG(2))))","v":0}]
[11,9443,11,9450,12,9458,null,null,null,null,0,111,null,122,{"$f":"COUNTIF($L$7:$L$500,N10)","v":0},{"$f":"O10/$Q$4","v":0},{"$f":"IF(P10=0,0,(P10*((LOG(P10))/LOG(2))))","v":0},null,null,{"$f":"N10","v":122},{"$f":"COUNTIF(L7:L7,T10)","v":0},{"$f":"U10/(W4-U8)","v":0},{"$f":"IF(V10=0,0,(V10*((LOG(V10))/LOG(2))))","v":0},null,{"$f":"N10","v":122},{"$f":"COUNTIF(L8:L8,Y10)","v":0},{"$f":"Z10/(AB4-Z8)","v":{"$error":"#DIV/0!"}},{"$f":"IF(AA10=0,0,(AA10*((LOG(AA10))/LOG(2))))","v":{"$error":"#DIV/0!"}},null,{"$f":"N10","v":122},{"$f":"COUNTIF(L8:L9,AD10)","v":0},{"$f":"AE10/(AG4-AE8)","v":0},{"$f":"IF(AF10=0,0,(AF10*((LOG(AF10))/LOG(2))))","v":0},null,{"$f":"N10","v":122},{"$f":"COUNTIF(L9:L9,AI10)","v":0},{"$f":"AJ10/(AL4-AJ8)","v":0},{"$f":"IF(AK10=0,0,(AK10*((LOG(AK10))/LOG(2))))","v":0},null,{"$f":"N10","v":122},{"$f":"COUNTIF(L10:L10,AN10)","v":0},{"$f":"AO10/(AQ4-AO8)","v":0},{"$f":"IF(AP10=0,0,(AP10*((LOG(AP10))/LOG(2))))","v":0},null,{"$f":"N10","v":122},{"$f":"COUNTIF(L11:L11,AS10)","v":0},{"$f":"AT10/(AV4-AT8)","v":0},{"$f":"IF(AU10=0,0,(AU10*((LOG(AU10))/LOG(2))))","v":0}]
[11,9556,11,9565,12,9576,null,null,null,null,0,111,null,211,{"$f":"COUNTIF($L$7:$L$500,N11)","v":0},{"$f":"O11/$Q$4","v":0},{"$f":"IF(P11=0,0,(P11*((LOG(P11))/LOG(2))))","v":0},null,null,{"$f":"N11","v":211},{"$f":"COUNTIF(L7:L7,T11)","v":0},{"$f":"U11/(W4-U8)","v":0},{"$f":"IF(V11=0,0,(V11*((LOG(V11))/LOG(2))))","v":0},null,{"$f":"N11","v":211},{"$f":"COUNTIF(L8:L8,Y11)","v":0},{"$f":"Z11/(AB4-Z8)","v":{"$error":"#DIV/0!"}},{"$f":"IF(AA11=0,0,(AA11*((LOG(AA11))/LOG(2))))","v":{"$error":"#DIV/0!"}},null,{"$f":"N11","v":211},{"$f":"COUNTIF(L8:L9,AD11)","v":0},{"$f":"AE11/(AG4-AE8)","v":0},{"$f":"IF(AF11=0,0,(AF11*((LOG(AF11))/LOG(2))))","v":0},null,{"$f":"N11","v":211},{"$f":"COUNTIF(L9:L9,AI11)","v":0},{"$f":"AJ11/(AL4-AJ8)","v":0},{"$f":"IF(AK11=0,0,(AK11*((LOG(AK11))/LOG(2))))","v":0},null,{"$f":"N11","v":211},{"$f":"COUNTIF(L10:L10,AN11)","v":0},{"$f":"AO11/(AQ4-AO8)","v":0},{"$f":"IF(AP11=0,0,(AP11*((LOG(AP11))/LOG(2))))","v":0},null,{"$f":"N11","v":211},{"$f":"COUNTIF(L11:L11,AS11)","v":0},{"$f":"AT11/(AV4-AT8)","v":0},{"$f":"IF(AU11=0,0,(AU11*((LOG(AU11))/LOG(2))))","v":0}]
[null,null,null,null,null,null,null,null,null,null,null,null,null,212,{"$f":"COUNTIF($L$7:$L$500,N12)","v":0},{"$f":"O12/$Q$4","v":0},{"$f":"IF(P12=0,0,(P12*((LOG(P12))/LOG(2))))","v":0},null,null,{"$f":"N12","v":212},{"$f":"COUNTIF(L7:L7,T12)","v":0},{"$f":"U12/(W4-U8)","v":0},{"$f":"IF(V12=0,0,(V12*((LOG(V12))/LOG(2))))","v":0},null,{"$f":"N12","v":212},{"$f":"COUNTIF(L8:L8,Y12)","v":0},{"$f":"Z12/(AB4-Z8)","v":{"$error":"#DIV/0!"}},{"$f":"IF(AA12=0,0,(AA12*((LOG(AA12))/LOG(2))))","v":{"$error":"#DIV/0!"}},null,{"$f":"N12","v":212},{"$f":"COUNTIF(L8:L9,AD12)","v":0},{"$f":"AE12/(AG4-AE8)","v":0},{"$f":"IF(AF12=0,0,(AF12*((LOG(AF12))/LOG(2))))","v":0},null,{"$f":"N12","v":212},{"$f":"COUNTIF(L9:L9,AI12)","v":0},{"$f":"AJ12/(AL4-AJ8)","v":0},{"$f":"IF(AK12=0,0,(AK12*((LOG(AK12))/LOG(2))))","v":0},null,{"$f":"N12","v":212},{"$f":"COUNTIF(L10:L10,AN12)","v":0},{"$f":"AO12/(AQ4-AO8)","v":0},{"$f":"IF(AP12=0,0,(AP12*((LOG(AP12))/LOG(2))))","v":0},null,{"$f":"N12","v":212},{"$f":"COUNTIF(L11:L11,AS12)","v":0},{"$f":"AT12/(AV4-AT8)","v":0},{"$f":"IF(AU12=0,0,(AU12*((LOG(AU12))/LOG(2))))","v":0}]
[null,null,null,null,null,null,null,null,null,null,null,null,null,221,{"$f":"COUNTIF($L$7:$L$500,N13)","v":1},{"$f":"O13/$Q$4","v":0.2},{"$f":"IF(P13=0,0,(P13*((LOG(P13))/LOG(2))))","v":-0.46438561897747244},null,null,{"$f":"N13","v":221},{"$f":"COUNTIF(L7:L7,T13)","v":0},{"$f":"U13/(W4-U8)","v":0},{"$f":"IF(V13=0,0,(V13*((LOG(V13))/LOG(2))))","v":0},null,{"$f":"N13","v":221},{"$f":"COUNTIF(L8:L8,Y13)","v":0},{"$f":"Z13/(AB4-Z8)","v":{"$error":"#DIV/0!"}},{"$f":"IF(AA13=0,0,(AA13*((LOG(AA13))/LOG(2))))","v":{"$error":"#DIV/0!"}},null,{"$f":"N13","v":221},{"$f":"COUNTIF(L8:L9,AD13)","v":1},{"$f":"AE13/(AG4-AE8)","v":1},{"$f":"IF(AF13=0,0,(AF13*((LOG(AF13))/LOG(2))))","v":0},null,{"$f":"N13","v":221},{"$f":"COUNTIF(L9:L9,AI13)","v":1},{"$f":"AJ13/(AL4-AJ8)","v":1},{"$f":"IF(AK13=0,0,(AK13*((LOG(AK13))/LOG(2))))","v":0},null,{"$f":"N13","v":221},{"$f":"COUNTIF(L10:L10,AN13)","v":0},{"$f":"AO13/(AQ4-AO8)","v":0},{"$f":"IF(AP13=0,0,(AP13*((LOG(AP13))/LOG(2))))","v":0},null,{"$f":"N13","v":221},{"$f":"COUNTIF(L11:L11,AS13)","v":0},{"$f":"AT13/(AV4-AT8)","v":0},{"$f":"IF(AU13=0,0,(AU13*((LOG(AU13))/LOG(2))))","v":0}]
[null,null,null,null,null,null,null,null,null,null,null,null,null,222,{"$f":"COUNTIF($L$7:$L$500,N14)","v":0},{"$f":"O14/$Q$4","v":0},{"$f":"IF(P14=0,0,(P14*((LOG(P14))/LOG(2))))","v":0},null,null,{"$f":"N14","v":222},{"$f":"COUNTIF(L7:L7,T14)","v":0},{"$f":"U14/(W4-U8)","v":0},{"$f":"IF(V14=0,0,(V14*((LOG(V14))/LOG(2))))","v":0},null,{"$f":"N14","v":222},{"$f":"COUNTIF(L8:L8,Y14)","v":0},{"$f":"Z14/(AB4-Z8)","v":{"$error":"#DIV/0!"}},{"$f":"IF(AA14=0,0,(AA14*((LOG(AA14))/LOG(2))))","v":{"$error":"#DIV/0!"}},null,{"$f":"N14","v":222},{"$f":"COUNTIF(L8:L9,AD14)","v":0},{"$f":"AE14/(AG4-AE8)","v":0},{"$f":"IF(AF14=0,0,(AF14*((LOG(AF14))/LOG(2))))","v":0},null,{"$f":"N14","v":222},{"$f":"COUNTIF(L9:L9,AI14)","v":0},{"$f":"AJ14/(AL4-AJ8)","v":0},{"$f":"IF(AK14=0,0,(AK14*((LOG(AK14))/LOG(2))))","v":0},null,{"$f":"N14","v":222},{"$f":"COUNTIF(L10:L10,AN14)","v":0},{"$f":"AO14/(AQ4-AO8)","v":0},{"$f":"IF(AP14=0,0,(AP14*((LOG(AP14))/LOG(2))))","v":0},null,{"$f":"N14","v":222},{"$f":"COUNTIF(L11:L11,AS14)","v":0},{"$f":"AT14/(AV4-AT8)","v":0},{"$f":"IF(AU14=0,0,(AU14*((LOG(AU14))/LOG(2))))","v":0}]
[null,null,null,null,null,null,null,null,null,null,null,null,null,null,null,{"$f":"SUM(P7:P14)","v":1},{"$f":"-SUM(Q7:Q14)","v":1.3709505944546687},null,null,null,null,{"$f":"SUM(V7:V14)","v":1},{"$f":"-SUM(W7:W14)","v":0},null,null,null,{"$f":"SUM(AA7:AA14)","v":{"$error":"#DIV/0!"}},{"$f":"-SUM(AB7:AB14)","v":{"$error":"#DIV/0!"}},null,null,null,{"$f":"SUM(AF7:AF14)","v":1},{"$f":"-SUM(AG7:AG14)","v":0},null,null,null,{"$f":"SUM(AK7:AK14)","v":1},{"$f":"-SUM(AL7:AL14)","v":0},null,null,null,{"$f":"SUM(AP7:AP14)","v":1},{"$f":"-SUM(AQ7:AQ14)","v":0},null,null,null,{"$f":"SUM(AU7:AU14)","v":1},{"$f":"-SUM(AV7:AV14)","v":0}]
[null,null,null,null,null,null,null,null,null,null,null,null,null,null,null,"U=",{"$f":"Q15/(LOG(Q4)/LOG(2))","v":0.5904362833084088},null,null,null,null,"U1=",{"$f":"W15/(LOG(W4)/LOG(2))","v":{"$error":"#DIV/0!"}},null,null,null,"U2=",{"$f":"AB15/(LOG(AB4)/LOG(2))","v":{"$error":"#DIV/0!"}},null,null,null,"U3=",{"$f":"AG15/(LOG(AG4)/LOG(2))","v":0},null,null,null,"U4=",{"$f":"AL15/(LOG(AL4)/LOG(2))","v":{"$error":"#DIV/0!"}},null,null,null,"U5=",{"$f":"AQ15/(LOG(AQ4)/LOG(2))","v":{"$error":"#DIV/0!"}},null,null,null,"U6=",{"$f":"AV15/(LOG(AV4)/LOG(2))","v":{"$error":"#DIV/0!"}}]
[]
[]
[null,null,null,null,null,null,null,null,null,null,null,null,null,"Total Target Seq"]
[null,null,null,null,null,null,null,null,null,null,null,null,null,{"$f":"COUNTIF(L7:L11,G3)","v":1},null,1,1,0,1,1,1]
[null,null,null,null,null,null,null,null,null,null,null,null,null,null,null,"% of reinforcement given in 6 equal intervals based on number of trials "]
[null,null,null,null,null,null,null,null,null,null,null,null,null,null,null,"%_1","%_2","%_3","%_4","%_5","%_6"]
[null,null,null,null,null,null,null,null,null,null,null,null,null,null,"target sequence",{"$f":"$G$3","v":112},{"$f":"$G$3","v":112},{"$f":"$G$3","v":112},{"$f":"$G$3","v":112},{"$f":"$G$3","v":112},{"$f":"$G$3","v":112}]
[null,null,null,null,null,null,null,null,null,null,null,null,null,null,"total reinforcement",{"$f":"U8","v":0},{"$f":"Z8","v":1},{"$f":"AE8","v":1},{"$f":"AJ8","v":0},{"$f":"AO8","v":0},{"$f":"AT8","v":0}]
[null,null,null,null,null,null,null,null,null,null,null,null,null,null,"% target"]
[null,null,null,null,null,null,null,null,null,null,null,null,null,null,"CCRF"]
[null,null,null,null,null,null,null,null,null,null,null,null,null,null,"% CCRf"]
[null,null,null,null,null,null,null,null,null,null,null,null,null,null,"average response rate",{"$f":"F7/P20","v":8349},{"$f":"(F8-F7)/Q20","v":158},{"$f":"(F8-F8)/R20","v":{"$error":"#DIV/0!"}},{"$f":"(F9-F8)/S20","v":827},{"$f":"(F10-F9)/T20","v":124},{"$f":"(F11-F10)/U20","v":118}]

{"sheet":"!N42982B.AXT","index":20,"n_rows":28,"n_cols":48,"rows_kept":28,"cut":false,"hidden":false,"merged":[[4,39,4,42],[5,39,5,40],[4,44,4,47],[5,44,5,45],[4,24,4,27],[5,24,5,25],[4,29,4,32],[5,29,5,30],[4,34,4,37],[5,34,5,35],[1,1,1,2],[5,13,5,14],[18,13,18,14],[19,13,19,14],[4,19,4,22],[5,19,5,20]]}
["Report for:!N42982B.AXT"]
["Date:","<date>"]
["Hen:","<hen>",null,null,null,"Correct Sequence",{"$f":"Start!J2","v":112},null,null,null,null,null,null,null,null,"Total Sequences in Data",{"$f":"4994-COUNTBLANK(L7:L5000)","v":5},null,null,null,null,"Total Sequences in Block Data",{"$f":"COUNTA(L7:L7)","v":1},null,null,null,"Total Sequences in Block Data",{"$f":"COUNTA(L8:L8)","v":1},null,null,null,"Total Sequences in Block Data",{"$f":"COUNTA(L8:L9)","v":2},null,null,null,"Total Sequences in Block Data",{"$f":"COUNTA(L9:L9)","v":1},null,null,null,"Total Sequences in Block Data",{"$f":"COUNTA(L10:L10)","v":1},null,null,null,"Total Sequences in Block Data",{"$f":"COUNTA(L11:L11)","v":1}]
[null,null,null,null,null,null,null,null,null,null,null,null,null,null,null,"Total Sequences in Summary",{"$f":"SUM(O7:O14)","v":5},null,null,null,null,"Total Sequences in Block Summary",{"$f":"SUM(U7:U14)","v":1},null,null,null,"Total Sequences in Block Summary",{"$f":"SUM(Z7:Z14)","v":1},null,null,null,"Total Sequences in Block Summary",{"$f":"SUM(AE7:AE14)","v":2},null,null,null,"Total Sequences in Block Summary",{"$f":"SUM(AJ7:AJ14)","v":1},null,null,null,"Total Sequences in Block Summary",{"$f":"SUM(AO7:AO14)","v":1},null,null,null,"Total Sequences in Block Summary",{"$f":"SUM(AT7:AT14)","v":1}]
[null,null,null,null,null,null,null,null,null,null,null,null,null,null,null,null,null,null,null,"Block 1",null,null,null,null,"Block 2",null,null,null,null,"Block 3",null,null,null,null,"Block 4",null,null,null,null,"Block 5",null,null,null,null,"Block 6"]
["Sequence\nComponent\n1","Time\n1","Sequence\nComponent\n2","Time\n2","Sequence\nComponent\n3","Time\n3","Sequence\nComponent\n4","Time\n4","Sequence\nComponent\n5","Time\n5","Correct?\n0=No 1=Yes","Sequence",null,"Frequency",null,"Relative Frequency","Variability",null,null,"Frequency",null,"Relative Frequency","Variability",null,"Frequency",null,"Relative Frequency","Variability",null,"Frequency",null,"Relative Frequency","Variability",null,"Frequency",null,"Relative Frequency","Variability",null,"Frequency",null,"Relative Frequency","Variability",null,"Frequency",null,"Relative Frequency","Variability"]
[22,3623,24,3650,14,3665,null,null,null,null,0,221,null,111,{"$f":"COUNTIF($L$7:$L$500,N7)","v":0},{"$f":"O7/$Q$4","v":0},{"$f":"IF(P7=0,0,(P7*((LOG(P7))/LOG(2))))","v":0},null,null,{"$f":"N7","v":111},{"$f":"COUNTIF(L7:L7,T7)","v":0},{"$f":"U7/(W4-U8)","v":0},{"$f":"IF(V7=0,0,(V7*((LOG(V7))/LOG(2))))","v":0},null,{"$f":"N7","v":111},{"$f":"COUNTIF(L8:L8,Y7)","v":0},{"$f":"Z7/(AB4-Z8)","v":0},{"$f":"IF(AA7=0,0,(AA7*((LOG(AA7))/LOG(2))))","v":0},null,{"$f":"N7","v":111},{"$f":"COUNTIF(L8:L9,AD7)","v":0},{"$f":"AE7/(AG4-AE8)","v":0},{"$f":"IF(AF7=0,0,(AF7*((LOG(AF7))/LOG(2))))","v":0},null,{"$f":"N7","v":111},{"$f":"COUNTIF(L9:L9,AI7)","v":0},{"$f":"AJ7/(AL4-AJ8)","v":{"$error":"#DIV/0!"}},{"$f":"IF(AK7=0,0,(AK7*((LOG(AK7))/LOG(2))))","v":{"$error":"#DIV/0!"}},null,{"$f":"N7","v":111},{"$f":"COUNTIF(L10:L10,AN7)","v":0},{"$f":"AO7/(AQ4-AO8)","v":0},{"$f":"IF(AP7=0,0,(AP7*((LOG(AP7))/LOG(2))))","v":0},null,{"$f":"N7","v":111},{"$f":"COUNTIF(L11:L11,AS7)","v":0},{"$f":"AT7/(AV4-AT8)","v":0},{"$f":"IF(AU7=0,0,(AU7*((LOG(AU7))/LOG(2))))","v":0}]
[11,3898,22,3909,14,3922,null,null,null,null,0,121,null,112,{"$f":"COUNTIF($L$7:$L$500,N8)","v":1},{"$f":"O8/$Q$4","v":0.2},{"$f":"IF(P8=0,0,(P8*((LOG(P8))/LOG(2))))","v":-0.46438561897747244},null,null,{"$f":"N8","v":112},{"$f":"COUNTIF(L7:L7,T8)","v":0},null,null,null,{"$f":"N8","v":112},{"$f":"COUNTIF(L8:L8,Y8)","v":0},null,null,null,{"$f":"N8","v":112},{"$f":"COUNTIF(L8:L9,AD8)","v":1},null,null,null,{"$f":"N8","v":112},{"$f":"COUNTIF(L9:L9,AI8)","v":1},null,null,null,{"$f":"N8","v":112},{"$f":"COUNTIF(L10:L10,AN8)","v":0},null,null,null,{"$f":"N8","v":112},{"$f":"COUNTIF(L11:L11,AS8)","v":0}]
[11,4051,11,4058,21,4070,null,null,null,null,0,112,null,121,{"$f":"COUNTIF($L$7:$L$500,N9)","v":2},{"$f":"O9/$Q$4","v":0.4},{"$f":"IF(P9=0,0,(P9*((LOG(P9))/LOG(2))))","v":-0.52877123795494496},null,null,{"$f":"N9","v":121},{"$f":"COUNTIF(L7:L7,T9)","v":0},{"$f":"U9/(W4-U8)","v":0},{"$f":"IF(V9=0,0,(V9*((LOG(V9))/LOG(2))))","v":0},null,{"$f":"N9","v":121},{"$f":"COUNTIF(L8:L8,Y9)","v":1},{"$f":"Z9/(AB4-Z8)","v":1},{"$f":"IF(AA9=0,0,(AA9*((LOG(AA9))/LOG(2))))","v":0},null,{"$f":"N9","v":121},{"$f":"COUNTIF(L8:L9,AD9)","v":1},{"$f":"AE9/(AG4-AE8)","v":1},{"$f":"IF(AF9=0,0,(AF9*((LOG(AF9))/LOG(2))))","v":0},null,{"$f":"N9","v":121},{"$f":"COUNTIF(L9:L9,AI9)","v":0},{"$f":"AJ9/(AL4-AJ8)","v":{"$error":"#DIV/0!"}},{"$f":"IF(AK9=0,0,(AK9*((LOG(AK9))/LOG(2))))","v":{"$error":"#DIV/0!"}},null,{"$f":"N9","v":121},{"$f":"COUNTIF(L10:L10,AN9)","v":0},{"$f":"AO9/(AQ4-AO8)","v":0},{"$f":"IF(AP9=0,0,(AP9*((LOG(AP9))/LOG(2))))","v":0},null,{"$f":"N9","v":121},{"$f":"COUNTIF(L11:L11,AS9)","v":1},{"$f":"AT9/(AV4-AT8)","v":1},{"$f":"IF(AU9=0,0,(AU9*((LOG(AU9))/LOG(2))))","v":0}]
[22,4342,24,4357,23,4360,null,null,null,null,0,222,null,122,{"$f":"COUNTIF($L$7:$L$500,N10)","v":0},{"$f":"O10/$Q$4","v":0},{"$f":"IF(P10=0,0,(P10*((LOG(P10))/LOG(2))))","v":0},null,null,{"$f":"N10","v":122},{"$f":"COUNTIF(L7:L7,T10)","v":0},{"$f":"U10/(W4-U8)","v":0},{"$f":"IF(V10=0,0,(V10*((LOG(V10))/LOG(2))))","v":0},null,{"$f":"N10","v":122},{"$f":"COUNTIF(L8:L8,Y10)","v":0},{"$f":"Z10/(AB4-Z8)","v":0},{"$f":"IF(AA10=0,0,(AA10*((LOG(AA10))/LOG(2))))","v":0},null,{"$f":"N10","v":122},{"$f":"COUNTIF(L8:L9,AD10)","v":0},{"$f":"AE10/(AG4-AE8)","v":0},{"$f":"IF(AF10=0,0,(AF10*((LOG(AF10))/LOG(2))))","v":0},null,{"$f":"N10","v":122},{"$f":"COUNTIF(L9:L9,AI10)","v":0},{"$f":"AJ10/(AL4-AJ8)","v":{"$error":"#DIV/0!"}},{"$f":"IF(AK10=0,0,(AK10*((LOG(AK10))/LOG(2))))","v":{"$error":"#DIV/0!"}},null,{"$f":"N10","v":122},{"$f":"COUNTIF(L10:L10,AN10)","v":0},{"$f":"AO10/(AQ4-AO8)","v":0},{"$f":"IF(AP10=0,0,(AP10*((LOG(AP10))/LOG(2))))","v":0},null,{"$f":"N10","v":122},{"$f":"COUNTIF(L11:L11,AS10)","v":0},{"$f":"AT10/(AV4-AT8)","v":0},{"$f":"IF(AU10=0,0,(AU10*((LOG(AU10))/LOG(2))))","v":0}]
[11,7303,22,7316,14,7336,null,null,null,null,0,121,null,211,{"$f":"COUNTIF($L$7:$L$500,N11)","v":0},{"$f":"O11/$Q$4","v":0},{"$f":"IF(P11=0,0,(P11*((LOG(P11))/LOG(2))))","v":0},null,null,{"$f":"N11","v":211},{"$f":"COUNTIF(L7:L7,T11)","v":0},{"$f":"U11/(W4-U8)","v":0},{"$f":"IF(V11=0,0,(V11*((LOG(V11))/LOG(2))))","v":0},null,{"$f":"N11","v":211},{"$f":"COUNTIF(L8:L8,Y11)","v":0},{"$f":"Z11/(AB4-Z8)","v":0},{"$f":"IF(AA11=0,0,(AA11*((LOG(AA11))/LOG(2))))","v":0},null,{"$f":"N11","v":211},{"$f":"COUNTIF(L8:L9,AD11)","v":0},{"$f":"AE11/(AG4-AE8)","v":0},{"$f":"IF(AF11=0,0,(AF11*((LOG(AF11))/LOG(2))))","v":0},null,{"$f":"N11","v":211},{"$f":"COUNTIF(L9:L9,AI11)","v":0},{"$f":"AJ11/(AL4-AJ8)","v":{"$error":"#DIV/0!"}},{"$f":"IF(AK11=0,0,(AK11*((LOG(AK11))/LOG(2))))","v":{"$error":"#DIV/0!"}},null,{"$f":"N11","v":211},{"$f":"COUNTIF(L10:L10,AN11)","v":0},{"$f":"AO11/(AQ4-AO8)","v":0},{"$f":"IF(AP11=0,0,(AP11*((LOG(AP11))/LOG(2))))","v":0},null,{"$f":"N11","v":211},{"$f":"COUNTIF(L11:L11,AS11)","v":0},{"$f":"AT11/(AV4-AT8)","v":0},{"$f":"IF(AU11=0,0,(AU11*((LOG(AU11))/LOG(2))))","v":0}]
[null,null,null,null,null,null,null,null,null,null,null,null,null,212,{"$f":"COUNTIF($L$7:$L$500,N12)","v":0},{"$f":"O12/$Q$4","v":0},{"$f":"IF(P12=0,0,(P12*((LOG(P12))/LOG(2))))","v":0},null,null,{"$f":"N12","v":212},{"$f":"COUNTIF(L7:L7,T12)","v":0},{"$f":"U12/(W4-U8)","v":0},{"$f":"IF(V12=0,0,(V12*((LOG(V12))/LOG(2))))","v":0},null,{"$f":"N12","v":212},{"$f":"COUNTIF(L8:L8,Y12)","v":0},{"$f":"Z12/(AB4-Z8)","v":0},{"$f":"IF(AA12=0,0,(AA12*((LOG(AA12))/LOG(2))))","v":0},null,{"$f":"N12","v":212},{"$f":"COUNTIF(L8:L9,AD12)","v":0},{"$f":"AE12/(AG4-AE8)","v":0},{"$f":"IF(AF12=0,0,(AF12*((LOG(AF12))/LOG(2))))","v":0},null,{"$f":"N12","v":212},{"$f":"COUNTIF(L9:L9,AI12)","v":0},{"$f":"AJ12/(AL4-AJ8)","v":{"$error":"#DIV/0!"}},{"$f":"IF(AK12=0,0,(AK12*((LOG(AK12))/LOG(2))))","v":{"$error":"#DIV/0!"}},null,{"$f":"N12","v":212},{"$f":"COUNTIF(L10:L10,AN12)","v":0},{"$f":"AO12/(AQ4-AO8)","v":0},{"$f":"IF(AP12=0,0,(AP12*((LOG(AP12))/LOG(2))))","v":0},null,{"$f":"N12","v":212},{"$f":"COUNTIF(L11:L11,AS12)","v":0},{"$f":"AT12/(AV4-AT8)","v":0},{"$f":"IF(AU12=0,0,(AU12*((LOG(AU12))/LOG(2))))","v":0}]
[null,null,null,null,null,null,null,null,null,null,null,null,null,221,{"$f":"COUNTIF($L$7:$L$500,N13)","v":1},{"$f":"O13/$Q$4","v":0.2},{"$f":"IF(P13=0,0,(P13*((LOG(P13))/LOG(2))))","v":-0.46438561897747244},null,null,{"$f":"N13","v":221},{"$f":"COUNTIF(L7:L7,T13)","v":1},{"$f":"U13/(W4-U8)","v":1},{"$f":"IF(V13=0,0,(V13*((LOG(V13))/LOG(2))))","v":0},null,{"$f":"N13","v":221},{"$f":"COUNTIF(L8:L8,Y13)","v":0},{"$f":"Z13/(AB4-Z8)","v":0},{"$f":"IF(AA13=0,0,(AA13*((LOG(AA13))/LOG(2))))","v":0},null,{"$f":"N13","v":221},{"$f":"COUNTIF(L8:L9,AD13)","v":0},{"$f":"AE13/(AG4-AE8)","v":0},{"$f":"IF(AF13=0,0,(AF13*((LOG(AF13))/LOG(2))))","v":0},null,{"$f":"N13","v":221},{"$f":"COUNTIF(L9:L9,AI13)","v":0},{"$f":"AJ13/(AL4-AJ8)","v":{"$error":"#DIV/0!"}},{"$f":"IF(AK13=0,0,(AK13*((LOG(AK13))/LOG(2))))","v":{"$error":"#DIV/0!"}},null,{"$f":"N13","v":221},{"$f":"COUNTIF(L10:L10,AN13)","v":0},{"$f":"AO13/(AQ4-AO8)","v":0},{"$f":"IF(AP13=0,0,(AP13*((LOG(AP13))/LOG(2))))","v":0},null,{"$f":"N13","v":221},{"$f":"COUNTIF(L11:L11,AS13)","v":0},{"$f":"AT13/(AV4-AT8)","v":0},{"$f":"IF(AU13=0,0,(AU13*((LOG(AU13))/LOG(2))))","v":0}]
[null,null,null,null,null,null,null,null,null,null,null,null,null,222,{"$f":"COUNTIF($L$7:$L$500,N14)","v":1},{"$f":"O14/$Q$4","v":0.2},{"$f":"IF(P14=0,0,(P14*((LOG(P14))/LOG(2))))","v":-0.46438561897747244},null,null,{"$f":"N14","v":222},{"$f":"COUNTIF(L7:L7,T14)","v":0},{"$f":"U14/(W4-U8)","v":0},{"$f":"IF(V14=0,0,(V14*((LOG(V14))/LOG(2))))","v":0},null,{"$f":"N14","v":222},{"$f":"COUNTIF(L8:L8,Y14)","v":0},{"$f":"Z14/(AB4-Z8)","v":0},{"$f":"IF(AA14=0,0,(AA14*((LOG(AA14))/LOG(2))))","v":0},null,{"$f":"N14","v":222},{"$f":"COUNTIF(L8:L9,AD14)","v":0},{"$f":"AE14/(AG4-AE8)","v":0},{"$f":"IF(AF14=0,0,(AF14*((LOG(AF14))/LOG(2))))","v":0},null,{"$f":"N14","v":222},{"$f":"COUNTIF(L9:L9,AI14)","v":0},{"$f":"AJ14/(AL4-AJ8)","v":{"$error":"#DIV/0!"}},{"$f":"IF(AK14=0,0,(AK14*((LOG(AK14))/LOG(2))))","v":{"$error":"#DIV/0!"}},null,{"$f":"N14","v":222},{"$f":"COUNTIF(L10:L10,AN14)","v":1},{"$f":"AO14/(AQ4-AO8)","v":1},{"$f":"IF(AP14=0,0,(AP14*((LOG(AP14))/LOG(2))))","v":0},null,{"$f":"N14","v":222},{"$f":"COUNTIF(L11:L11,AS14)","v":0},{"$f":"AT14/(AV4-AT8)","v":0},{"$f":"IF(AU14=0,0,(AU14*((LOG(AU14))/LOG(2))))","v":0}]
[null,null,null,null,null,null,null,null,null,null,null,null,null,null,null,{"$f":"SUM(P7:P14)","v":1},{"$f":"-SUM(Q7:Q14)","v":1.9219280948873623},null,null,null,null,{"$f":"SUM(V7:V14)","v":1},{"$f":"-SUM(W7:W14)","v":0},null,null,null,{"$f":"SUM(AA7:AA14)","v":1},{"$f":"-SUM(AB7:AB14)","v":0},null,null,null,{"$f":"SUM(AF7:AF14)","v":1},{"$f":"-SUM(AG7:AG14)","v":0},null,null,null,{"$f":"SUM(AK7:AK14)","v":{"$error":"#DIV/0!"}},{"$f":"-SUM(AL7:AL14)","v":{"$error":"#DIV/0!"}},null,null,null,{"$f":"SUM(AP7:AP14)","v":1},{"$f":"-SUM(AQ7:AQ14)","v":0},null,null,null,{"$f":"SUM(AU7:AU14)","v":1},{"$f":"-SUM(AV7:AV14)","v":0}]
[null,null,null,null,null,null,null,null,null,null,null,null,null,null,null,"U=",{"$f":"Q15/(LOG(Q4)/LOG(2))","v":0.82772937677064262},null,null,null,null,"U1=",{"$f":"W15/(LOG(W4)/LOG(2))","v":{"$error":"#DIV/0!"}},null,null,null,"U2=",{"$f":"AB15/(LOG(AB4)/LOG(2))","v":{"$error":"#DIV/0!"}},null,null,null,"U3=",{"$f":"AG15/(LOG(AG4)/LOG(2))","v":0},null,null,null,"U4=",{"$f":"AL15/(LOG(AL4)/LOG(2))","v":{"$error":"#DIV/0!"}},null,null,null,"U5=",{"$f":"AQ15/(LOG(AQ4)/LOG(2))","v":{"$error":"#DIV/0!"}},null,null,null,"U6=",{"$f":"AV15/(LOG(AV4)/LOG(2))","v":{"$error":"#DIV/0!"}}]
[]
[]
[null,null,null,null,null,null,null,null,null,null,null,null,null,"Total Target Seq"]
[null,null,null,null,null,null,null,null,null,null,null,null,null,{"$f":"COUNTIF(L7:L11,G3)","v":1},null,1,1,0,1,1,1]
[null,null,null,null,null,null,null,null,null,null,null,null,null,null,null,"% of reinforcement given in 6 equal intervals based on number of trials "]
[null,null,null,null,null,null,null,null,null,null,null,null,null,null,null,"%_1","%_2","%_3","%_4","%_5","%_6"]
[null,null,null,null,null,null,null,null,null,null,null,null,null,null,"target sequence",{"$f":"$G$3","v":112},{"$f":"$G$3","v":112},{"$f":"$G$3","v":112},{"$f":"$G$3","v":112},{"$f":"$G$3","v":112},{"$f":"$G$3","v":112}]
[null,null,null,null,null,null,null,null,null,null,null,null,null,null,"total reinforcement",{"$f":"U8","v":0},{"$f":"Z8","v":0},{"$f":"AE8","v":1},{"$f":"AJ8","v":1},{"$f":"AO8","v":0},{"$f":"AT8","v":0}]
[null,null,null,null,null,null,null,null,null,null,null,null,null,null,"% target"]
[null,null,null,null,null,null,null,null,null,null,null,null,null,null,"CCRF"]
[null,null,null,null,null,null,null,null,null,null,null,null,null,null,"% CCRf"]
[null,null,null,null,null,null,null,null,null,null,null,null,null,null,"average response rate",{"$f":"F7/P20","v":3665},{"$f":"(F8-F7)/Q20","v":257},{"$f":"(F8-F8)/R20","v":{"$error":"#DIV/0!"}},{"$f":"(F9-F8)/S20","v":148},{"$f":"(F10-F9)/T20","v":290},{"$f":"(F11-F10)/U20","v":2976}]

{"sheet":"!N501A0B.AXT","index":21,"n_rows":28,"n_cols":48,"rows_kept":28,"cut":false,"hidden":false,"merged":[[4,39,4,42],[5,39,5,40],[4,44,4,47],[5,44,5,45],[4,24,4,27],[5,24,5,25],[4,29,4,32],[5,29,5,30],[4,34,4,37],[5,34,5,35],[1,1,1,2],[5,13,5,14],[18,13,18,14],[19,13,19,14],[4,19,4,22],[5,19,5,20]]}
["Report for:!N501A0B.AXT"]
["Date:","<date>"]
["Hen:","<hen>",null,null,null,"Correct Sequence",{"$f":"Start!J2","v":112},null,null,null,null,null,null,null,null,"Total Sequences in Data",{"$f":"4994-COUNTBLANK(L7:L5000)","v":2},null,null,null,null,"Total Sequences in Block Data",{"$f":"COUNTA(L6:L7)","v":2},null,null,null,"Total Sequences in Block Data",{"$f":"COUNTA(L7:L7)","v":1},null,null,null,"Total Sequences in Block Data",{"$f":"COUNTA(L7:L8)","v":2},null,null,null,"Total Sequences in Block Data",{"$f":"COUNTA(L7:L8)","v":2},null,null,null,"Total Sequences in Block Data",{"$f":"COUNTA(L8:L8)","v":1},null,null,null,"Total Sequences in Block Data",{"$f":"COUNTA(L8:L9)","v":1}]
[null,null,null,null,null,null,null,null,null,null,null,null,null,null,null,"Total Sequences in Summary",{"$f":"SUM(O7:O14)","v":1},null,null,null,null,"Total Sequences in Block Summary",{"$f":"SUM(U7:U14)","v":1},null,null,null,"Total Sequences in Block Summary",{"$f":"SUM(Z7:Z14)","v":1},null,null,null,"Total Sequences in Block Summary",{"$f":"SUM(AE7:AE14)","v":1},null,null,null,"Total Sequences in Block Summary",{"$f":"SUM(AJ7:AJ14)","v":1},null,null,null,"Total Sequences in Block Summary",{"$f":"SUM(AO7:AO14)","v":0},null,null,null,"Total Sequences in Block Summary",{"$f":"SUM(AT7:AT14)","v":0}]
[null,null,null,null,null,null,null,null,null,null,null,null,null,null,null,null,null,null,null,"Block 1",null,null,null,null,"Block 2",null,null,null,null,"Block 3",null,null,null,null,"Block 4",null,null,null,null,"Block 5",null,null,null,null,"Block 6"]
["Sequence\nComponent\n1","Time\n1","Sequence\nComponent\n2","Time\n2","Sequence\nComponent\n3","Time\n3","Sequence\nComponent\n4","Time\n4","Sequence\nComponent\n5","Time\n5","Correct?\n0=No 1=Yes","Sequence",null,"Frequency",null,"Relative Frequency","Variability",null,null,"Frequency",null,"Relative Frequency","Variability",null,"Frequency",null,"Relative Frequency","Variability",null,"Frequency",null,"Relative Frequency","Variability",null,"Frequency",null,"Relative Frequency","Variability",null,"Frequency",null,"Relative Frequency","Variability",null,"Frequency",null,"Relative Frequency","Variability"]
[11,1297,22,1305,23,1314,null,null,null,null,0,122,null,111,{"$f":"COUNTIF($L$7:$L$500,N7)","v":0},{"$f":"O7/$Q$4","v":0},{"$f":"IF(P7=0,0,(P7*((LOG(P7))/LOG(2))))","v":0},null,null,{"$f":"N7","v":111},{"$f":"COUNTIF(L6:L7,T7)","v":0},{"$f":"U7/(W4-U8)","v":0},{"$f":"IF(V7=0,0,(V7*((LOG(V7))/LOG(2))))","v":0},null,{"$f":"N7","v":111},{"$f":"COUNTIF(L7:L7,Y7)","v":0},{"$f":"Z7/(AB4-Z8)","v":0},{"$f":"IF(AA7=0,0,(AA7*((LOG(AA7))/LOG(2))))","v":0},null,{"$f":"N7","v":111},{"$f":"COUNTIF(L7:L8,AD7)","v":0},{"$f":"AE7/(AG4-AE8)","v":0},{"$f":"IF(AF7=0,0,(AF7*((LOG(AF7))/LOG(2))))","v":0},null,{"$f":"N7","v":111},{"$f":"COUNTIF(L7:L8,AI7)","v":0},{"$f":"AJ7/(AL4-AJ8)","v":0},{"$f":"IF(AK7=0,0,(AK7*((LOG(AK7))/LOG(2))))","v":0},null,{"$f":"N7","v":111},{"$f":"COUNTIF(L8:L8,AN7)","v":0},{"$f":"AO7/(AQ4-AO8)","v":{"$error":"#DIV/0!"}},{"$f":"IF(AP7=0,0,(AP7*((LOG(AP7))/LOG(2))))","v":{"$error":"#DIV/0!"}},null,{"$f":"N7","v":111},{"$f":"COUNTIF(L8:L9,AS7)","v":0},{"$f":"AT7/(AV4-AT8)","v":{"$error":"#DIV/0!"}},{"$f":"IF(AU7=0,0,(AU7*((LOG(AU7))/LOG(2))))","v":{"$error":"#DIV/0!"}}]
[22,16009,null,null,null,null,null,null,null,null,null,2,null,112,{"$f":"COUNTIF($L$7:$L$500,N8)","v":0},{"$f":"O8/$Q$4","v":0},{"$f":"IF(P8=0,0,(P8*((LOG(P8))/LOG(2))))","v":0},null,null,{"$f":"N8","v":112},{"$f":"COUNTIF(L6:L7,T8)","v":0},null,null,null,{"$f":"N8","v":112},{"$f":"COUNTIF(L7:L7,Y8)","v":0},null,null,null,{"$f":"N8","v":112},{"$f":"COUNTIF(L7:L8,AD8)","v":0},null,null,null,{"$f":"N8","v":112},{"$f":"COUNTIF(L7:L8,AI8)","v":0},null,null,null,{"$f":"N8","v":112},{"$f":"COUNTIF(L8:L8,AN8)","v":0},null,null,null,{"$f":"N8","v":112},{"$f":"COUNTIF(L8:L9,AS8)","v":0}]
[null,null,null,null,null,null,null,null,null,null,null,null,null,121,{"$f":"COUNTIF($L$7:$L$500,N9)","v":0},{"$f":"O9/$Q$4","v":0},{"$f":"IF(P9=0,0,(P9*((LOG(P9))/LOG(2))))","v":0},null,null,{"$f":"N9","v":121},{"$f":"COUNTIF(L6:L7,T9)","v":0},{"$f":"U9/(W4-U8)","v":0},{"$f":"IF(V9=0,0,(V9*((LOG(V9))/LOG(2))))","v":0},null,{"$f":"N9","v":121},{"$f":"COUNTIF(L7:L7,Y9)","v":0},{"$f":"Z9/(AB4-Z8)","v":0},{"$f":"IF(AA9=0,0,(AA9*((LOG(AA9))/LOG(2))))","v":0},null,{"$f":"N9","v":121},{"$f":"COUNTIF(L7:L8,AD9)","v":0},{"$f":"AE9/(AG4-AE8)","v":0},{"$f":"IF(AF9=0,0,(AF9*((LOG(AF9))/LOG(2))))","v":0},null,{"$f":"N9","v":121},{"$f":"COUNTIF(L7:L8,AI9)","v":0},{"$f":"AJ9/(AL4-AJ8)","v":0},{"$f":"IF(AK9=0,0,(AK9*((LOG(AK9))/LOG(2))))","v":0},null,{"$f":"N9","v":121},{"$f":"COUNTIF(L8:L8,AN9)","v":0},{"$f":"AO9/(AQ4-AO8)","v":{"$error":"#DIV/0!"}},{"$f":"IF(AP9=0,0,(AP9*((LOG(AP9))/LOG(2))))","v":{"$error":"#DIV/0!"}},null,{"$f":"N9","v":121},{"$f":"COUNTIF(L8:L9,AS9)","v":0},{"$f":"AT9/(AV4-AT8)","v":{"$error":"#DIV/0!"}},{"$f":"IF(AU9=0,0,(AU9*((LOG(AU9))/LOG(2))))","v":{"$error":"#DIV/0!"}}]
[null,null,null,null,null,null,null,null,null,null,null,null,null,122,{"$f":"COUNTIF($L$7:$L$500,N10)","v":1},{"$f":"O10/$Q$4","v":1},{"$f":"IF(P10=0,0,(P10*((LOG(P10))/LOG(2))))","v":0},null,null,{"$f":"N10","v":122},{"$f":"COUNTIF(L6:L7,T10)","v":1},{"$f":"U10/(W4-U8)","v":1},{"$f":"IF(V10=0,0,(V10*((LOG(V10))/LOG(2))))","v":0},null,{"$f":"N10","v":122},{"$f":"COUNTIF(L7:L7,Y10)","v":1},{"$f":"Z10/(AB4-Z8)","v":1},{"$f":"IF(AA10=0,0,(AA10*((LOG(AA10))/LOG(2))))","v":0},null,{"$f":"N10","v":122},{"$f":"COUNTIF(L7:L8,AD10)","v":1},{"$f":"AE10/(AG4-AE8)","v":1},{"$f":"IF(AF10=0,0,(AF10*((LOG(AF10))/LOG(2))))","v":0},null,{"$f":"N10","v":122},{"$f":"COUNTIF(L7:L8,AI10)","v":1},{"$f":"AJ10/(AL4-AJ8)","v":1},{"$f":"IF(AK10=0,0,(AK10*((LOG(AK10))/LOG(2))))","v":0},null,{"$f":"N10","v":122},{"$f":"COUNTIF(L8:L8,AN10)","v":0},{"$f":"AO10/(AQ4-AO8)","v":{"$error":"#DIV/0!"}},{"$f":"IF(AP10=0,0,(AP10*((LOG(AP10))/LOG(2))))","v":{"$error":"#DIV/0!"}},null,{"$f":"N10","v":122},{"$f":"COUNTIF(L8:L9,AS10)","v":0},{"$f":"AT10/(AV4-AT8)","v":{"$error":"#DIV/0!"}},{"$f":"IF(AU10=0,0,(AU10*((LOG(AU10))/LOG(2))))","v":{"$error":"#DIV/0!"}}]
[null,null,null,null,null,null,null,null,null,null,null,null,null,211,{"$f":"COUNTIF($L$7:$L$500,N11)","v":0},{"$f":"O11/$Q$4","v":0},{"$f":"IF(P11=0,0,(P11*((LOG(P11))/LOG(2))))","v":0},null,null,{"$f":"N11","v":211},{"$f":"COUNTIF(L6:L7,T11)","v":0},{"$f":"U11/(W4-U8)","v":0},{"$f":"IF(V11=0,0,(V11*((LOG(V11))/LOG(2))))","v":0},null,{"$f":"N11","v":211},{"$f":"COUNTIF(L7:L7,Y11)","v":0},{"$f":"Z11/(AB4-Z8)","v":0},{"$f":"IF(AA11=0,0,(AA11*((LOG(AA11))/LOG(2))))","v":0},null,{"$f":"N11","v":211},{"$f":"COUNTIF(L7:L8,AD11)","v":0},{"$f":"AE11/(AG4-AE8)","v":0},{"$f":"IF(AF11=0,0,(AF11*((LOG(AF11))/LOG(2))))","v":0},null,{"$f":"N11","v":211},{"$f":"COUNTIF(L7:L8,AI11)","v":0},{"$f":"AJ11/(AL4-AJ8)","v":0},{"$f":"IF(AK11=0,0,(AK11*((LOG(AK11))/LOG(2))))","v":0},null,{"$f":"N11","v":211},{"$f":"COUNTIF(L8:L8,AN11)","v":0},{"$f":"AO11/(AQ4-AO8)","v":{"$error":"#DIV/0!"}},{"$f":"IF(AP11=0,0,(AP11*((LOG(AP11))/LOG(2))))","v":{"$error":"#DIV/0!"}},null,{"$f":"N11","v":211},{"$f":"COUNTIF(L8:L9,AS11)","v":0},{"$f":"AT11/(AV4-AT8)","v":{"$error":"#DIV/0!"}},{"$f":"IF(AU11=0,0,(AU11*((LOG(AU11))/LOG(2))))","v":{"$error":"#DIV/0!"}}]
[null,null,null,null,null,null,null,null,null,null,null,null,null,212,{"$f":"COUNTIF($L$7:$L$500,N12)","v":0},{"$f":"O12/$Q$4","v":0},{"$f":"IF(P12=0,0,(P12*((LOG(P12))/LOG(2))))","v":0},null,null,{"$f":"N12","v":212},{"$f":"COUNTIF(L6:L7,T12)","v":0},{"$f":"U12/(W4-U8)","v":0},{"$f":"IF(V12=0,0,(V12*((LOG(V12))/LOG(2))))","v":0},null,{"$f":"N12","v":212},{"$f":"COUNTIF(L7:L7,Y12)","v":0},{"$f":"Z12/(AB4-Z8)","v":0},{"$f":"IF(AA12=0,0,(AA12*((LOG(AA12))/LOG(2))))","v":0},null,{"$f":"N12","v":212},{"$f":"COUNTIF(L7:L8,AD12)","v":0},{"$f":"AE12/(AG4-AE8)","v":0},{"$f":"IF(AF12=0,0,(AF12*((LOG(AF12))/LOG(2))))","v":0},null,{"$f":"N12","v":212},{"$f":"COUNTIF(L7:L8,AI12)","v":0},{"$f":"AJ12/(AL4-AJ8)","v":0},{"$f":"IF(AK12=0,0,(AK12*((LOG(AK12))/LOG(2))))","v":0},null,{"$f":"N12","v":212},{"$f":"COUNTIF(L8:L8,AN12)","v":0},{"$f":"AO12/(AQ4-AO8)","v":{"$error":"#DIV/0!"}},{"$f":"IF(AP12=0,0,(AP12*((LOG(AP12))/LOG(2))))","v":{"$error":"#DIV/0!"}},null,{"$f":"N12","v":212},{"$f":"COUNTIF(L8:L9,AS12)","v":0},{"$f":"AT12/(AV4-AT8)","v":{"$error":"#DIV/0!"}},{"$f":"IF(AU12=0,0,(AU12*((LOG(AU12))/LOG(2))))","v":{"$error":"#DIV/0!"}}]
[null,null,null,null,null,null,null,null,null,null,null,null,null,221,{"$f":"COUNTIF($L$7:$L$500,N13)","v":0},{"$f":"O13/$Q$4","v":0},{"$f":"IF(P13=0,0,(P13*((LOG(P13))/LOG(2))))","v":0},null,null,{"$f":"N13","v":221},{"$f":"COUNTIF(L6:L7,T13)","v":0},{"$f":"U13/(W4-U8)","v":0},{"$f":"IF(V13=0,0,(V13*((LOG(V13))/LOG(2))))","v":0},null,{"$f":"N13","v":221},{"$f":"COUNTIF(L7:L7,Y13)","v":0},{"$f":"Z13/(AB4-Z8)","v":0},{"$f":"IF(AA13=0,0,(AA13*((LOG(AA13))/LOG(2))))","v":0},null,{"$f":"N13","v":221},{"$f":"COUNTIF(L7:L8,AD13)","v":0},{"$f":"AE13/(AG4-AE8)","v":0},{"$f":"IF(AF13=0,0,(AF13*((LOG(AF13))/LOG(2))))","v":0},null,{"$f":"N13","v":221},{"$f":"COUNTIF(L7:L8,AI13)","v":0},{"$f":"AJ13/(AL4-AJ8)","v":0},{"$f":"IF(AK13=0,0,(AK13*((LOG(AK13))/LOG(2))))","v":0},null,{"$f":"N13","v":221},{"$f":"COUNTIF(L8:L8,AN13)","v":0},{"$f":"AO13/(AQ4-AO8)","v":{"$error":"#DIV/0!"}},{"$f":"IF(AP13=0,0,(AP13*((LOG(AP13))/LOG(2))))","v":{"$error":"#DIV/0!"}},null,{"$f":"N13","v":221},{"$f":"COUNTIF(L8:L9,AS13)","v":0},{"$f":"AT13/(AV4-AT8)","v":{"$error":"#DIV/0!"}},{"$f":"IF(AU13=0,0,(AU13*((LOG(AU13))/LOG(2))))","v":{"$error":"#DIV/0!"}}]
[null,null,null,null,null,null,null,null,null,null,null,null,null,222,{"$f":"COUNTIF($L$7:$L$500,N14)","v":0},{"$f":"O14/$Q$4","v":0},{"$f":"IF(P14=0,0,(P14*((LOG(P14))/LOG(2))))","v":0},null,null,{"$f":"N14","v":222},{"$f":"COUNTIF(L6:L7,T14)","v":0},{"$f":"U14/(W4-U8)","v":0},{"$f":"IF(V14=0,0,(V14*((LOG(V14))/LOG(2))))","v":0},null,{"$f":"N14","v":222},{"$f":"COUNTIF(L7:L7,Y14)","v":0},{"$f":"Z14/(AB4-Z8)","v":0},{"$f":"IF(AA14=0,0,(AA14*((LOG(AA14))/LOG(2))))","v":0},null,{"$f":"N14","v":222},{"$f":"COUNTIF(L7:L8,AD14)","v":0},{"$f":"AE14/(AG4-AE8)","v":0},{"$f":"IF(AF14=0,0,(AF14*((LOG(AF14))/LOG(2))))","v":0},null,{"$f":"N14","v":222},{"$f":"COUNTIF(L7:L8,AI14)","v":0},{"$f":"AJ14/(AL4-AJ8)","v":0},{"$f":"IF(AK14=0,0,(AK14*((LOG(AK14))/LOG(2))))","v":0},null,{"$f":"N14","v":222},{"$f":"COUNTIF(L8:L8,AN14)","v":0},{"$f":"AO14/(AQ4-AO8)","v":{"$error":"#DIV/0!"}},{"$f":"IF(AP14=0,0,(AP14*((LOG(AP14))/LOG(2))))","v":{"$error":"#DIV/0!"}},null,{"$f":"N14","v":222},{"$f":"COUNTIF(L8:L9,AS14)","v":0},{"$f":"AT14/(AV4-AT8)","v":{"$error":"#DIV/0!"}},{"$f":"IF(AU14=0,0,(AU14*((LOG(AU14))/LOG(2))))","v":{"$error":"#DIV/0!"}}]
[null,null,null,null,null,null,null,null,null,null,null,null,null,null,null,{"$f":"SUM(P7:P14)","v":1},{"$f":"-SUM(Q7:Q14)","v":0},null,null,null,null,{"$f":"SUM(V7:V14)","v":1},{"$f":"-SUM(W7:W14)","v":0},null,null,null,{"$f":"SUM(AA7:AA14)","v":1},{"$f":"-SUM(AB7:AB14)","v":0},null,null,null,{"$f":"SUM(AF7:AF14)","v":1},{"$f":"-SUM(AG7:AG14)","v":0},null,null,null,{"$f":"SUM(AK7:AK14)","v":1},{"$f":"-SUM(AL7:AL14)","v":0},null,null,null,{"$f":"SUM(AP7:AP14)","v":{"$error":"#DIV/0!"}},{"$f":"-SUM(AQ7:AQ14)","v":{"$error":"#DIV/0!"}},null,null,null,{"$f":"SUM(AU7:AU14)","v":{"$error":"#DIV/0!"}},{"$f":"-SUM(AV7:AV14)","v":{"$error":"#DIV/0!"}}]
[null,null,null,null,null,null,null,null,null,null,null,null,null,null,null,"U=",{"$f":"Q15/(LOG(Q4)/LOG(2))","v":{"$error":"#DIV/0!"}},null,null,null,null,"U1=",{"$f":"W15/(LOG(W4)/LOG(2))","v":{"$error":"#DIV/0!"}},null,null,null,"U2=",{"$f":"AB15/(LOG(AB4)/LOG(2))","v":{"$error":"#DIV/0!"}},null,null,null,"U3=",{"$f":"AG15/(LOG(AG4)/LOG(2))","v":{"$error":"#DIV/0!"}},null,null,null,"U4=",{"$f":"AL15/(LOG(AL4)/LOG(2))","v":{"$error":"#DIV/0!"}},null,null,null,"U5=",{"$f":"AQ15/(LOG(AQ4)/LOG(2))","v":{"$error":"#DIV/0!"}},null,null,null,"U6=",{"$f":"AV15/(LOG(AV4)/LOG(2))","v":{"$error":"#DIV/0!"}}]
[]
[]
[null,null,null,null,null,null,null,null,null,null,null,null,null,"Total Target Seq"]
[null,null,null,null,null,null,null,null,null,null,null,null,null,{"$f":"COUNTIF(L7:L8,G3)","v":0},null,0,1,0,0,1,0]
[null,null,null,null,null,null,null,null,null,null,null,null,null,null,null,"% of reinforcement given in 6 equal intervals based on number of trials "]
[null,null,null,null,null,null,null,null,null,null,null,null,null,null,null,"%_1","%_2","%_3","%_4","%_5","%_6"]
[null,null,null,null,null,null,null,null,null,null,null,null,null,null,"target sequence",{"$f":"$G$3","v":112},{"$f":"$G$3","v":112},{"$f":"$G$3","v":112},{"$f":"$G$3","v":112},{"$f":"$G$3","v":112},{"$f":"$G$3","v":112}]
[null,null,null,null,null,null,null,null,null,null,null,null,null,null,"total reinforcement",{"$f":"U8","v":0},{"$f":"Z8","v":0},{"$f":"AE8","v":0},{"$f":"AJ8","v":0},{"$f":"AO8","v":0},{"$f":"AT8","v":0}]
[null,null,null,null,null,null,null,null,null,null,null,null,null,null,"% target"]
[null,null,null,null,null,null,null,null,null,null,null,null,null,null,"CCRF"]
[null,null,null,null,null,null,null,null,null,null,null,null,null,null,"% CCRf"]
[null,null,null,null,null,null,null,null,null,null,null,null,null,null,"average response rate",{"$f":"F6/P20","v":{"$error":"#VALUE!"}},{"$f":"(F7-F6)/Q20","v":{"$error":"#VALUE!"}},{"$f":"(F7-F7)/R20","v":{"$error":"#DIV/0!"}},{"$f":"(F7-F7)/S20","v":{"$error":"#DIV/0!"}},{"$f":"(F8-F7)/T20","v":-1314},{"$f":"(F8-F8)/U20","v":{"$error":"#DIV/0!"}}]