{"text_format":"1","workbook":"xlsx","n_sheets":32,"sheets":["Sample Report","Summary","Start","!N123A3B.AXT","!N12495B.AXT","!N125A0B.AXT","!N126A0B.AXT","!N12795B.AXT","!N12891B.AXT","!N129A2B.AXT","!N13092B.AXT","!N13192B.AXT","!N20192B.AXT","!N202B0B.AXT","!N20385B.AXT","!N204A1B.AXT","!N20592B.AXT","!N206A3B.AXT","!N207A1B.AXT","!N20893B.AXT","!N20994B.AXT","!N21094B.AXT","!N211A5B.AXT","!N212A0B.AXT","!N213A3B.AXT","!N21491B.AXT","!N21592B.AXT","!N216A1B.AXT","!N21793B.AXT","!N218A1B.AXT","!N219A4B.AXT","!N22094B.AXT"],"not_rendered":{"charts":0,"images":0,"macros":1,"external_links":0,"defined_names":0,"comments":0,"pivot_tables":0},"unopened":[],"bounds":{"document_bytes":16777216,"sheet_cells":100000,"rows_first":2000,"rows_last":500,"rows_between":2000,"halvings":0,"cell_chars":16384,"cell_head_chars":4096},"cells_cut":0,"cells_raw":0,"read":"whole","date_system":"1900"}

{"sheet":"Sample Report","index":0,"n_rows":12,"n_cols":11,"rows_kept":12,"cut":false,"hidden":true,"merged":[[7,0,7,6]]}
[]
["Date"]
["Hen"]
["Program"]
["Start at 999999"]
["Sequence component 1","Time 1","Seqeunce Component 2","Time 2","Seqeunce Component 3","Time 3","Correct   0 = No 1=Yes",null,null,"Seqeunce","Time"]
[12,7,12,42,13,18,"if 77 new line,                                  if 31 or 41 = yes new line on 77, ",null,null,"=string of Seqeunce compponent 1, 2 & 3","=time 3"]
["This continues until ther is a 1 on its own to indicate start of summary data"]
[null,null,null,null,null,null,null,null,null,"10-19 =1"]
["Summary Data ",null,null,null,null,null,null,null,null,"20-29 =2"]
["Correct","Incorrect","Rft","total","Av Correct","Av Incorrect","Percent correct","Time",null,"in this example the seqeunce would be 111"]
[40,33,40,73,23.95,15,54,806]

{"sheet":"Summary","index":1,"n_rows":32,"n_cols":24,"rows_kept":32,"cut":false,"hidden":false,"merged":[]}
[]
["Day","Date","Average Response Rate","Target %","RF for non correct sequence","U Value",null,null,null,null,"Block 1","Block 2","Block 3","Block 4","Block 5","Block 6"]
[1,{"$f":"'!N123A3B.AXT'!B2:C2","v":"<date>"},{"$f":"('!N123A3B.AXT'!F104/60)/'!N123A3B.AXT'!Q3","v":2.8442176870748299},{"$f":"'!N123A3B.AXT'!N20/'!N123A3B.AXT'!Q3","v":0.36734693877551022},{"$f":"SUM('!N123A3B.AXT'!L20:Q20)/'!N123A3B.AXT'!Q3","v":2.8673469387755102},{"$f":"'!N123A3B.AXT'!Q16","v":0.31681743109354893},null,null,null,"Average Response Rate",{"$f":"AVERAGE(C3:C7)","v":3.0228175031840139},{"$f":"AVERAGE(C8:C12)","v":3.0099090541837095},{"$f":"AVERAGE(C13:C17)","v":3.323309178743961},{"$f":"AVERAGE(C18:C22)","v":4.2375427249427542},{"$f":"AVERAGE(C23:C27)","v":3.5937610434354625},{"$f":"AVERAGE(C28:C32)","v":3.2311296437767023}]
[2,{"$f":"'!N12495B.AXT'!B2:C2","v":"<date>"},{"$f":"('!N12495B.AXT'!F96/60)/'!N12495B.AXT'!Q3","v":2.6798148148148146},{"$f":"'!N12495B.AXT'!N20/'!N12495B.AXT'!Q3","v":0.41111111111111109},{"$f":"SUM('!N12495B.AXT'!L20:Q20)/'!N12495B.AXT'!Q3","v":3.2111111111111112},{"$f":"'!N12495B.AXT'!Q16","v":0.35650062604318555},null,null,null,"Target %",{"$f":"AVERAGE(D3:D7)","v":0.5480567769326552},{"$f":"AVERAGE(D8:D12)","v":0.93241091417125332},{"$f":"AVERAGE(D13:D17)","v":0.93345410628019321},{"$f":"AVERAGE(D18:D22)","v":0.94474569861977675},{"$f":"AVERAGE(D23:D27)","v":0.93049095607235122},{"$f":"AVERAGE(D28:D32)","v":0.85242657669128263}]
[3,{"$f":"'!N125A0B.AXT'!B2:C2","v":"<date>"},{"$f":"('!N125A0B.AXT'!F80/60)/'!N125A0B.AXT'!Q3","v":2.7912162162162164},{"$f":"'!N125A0B.AXT'!N20/'!N125A0B.AXT'!Q3","v":0.52702702702702697},{"$f":"SUM('!N125A0B.AXT'!L20:Q20)/'!N125A0B.AXT'!Q3","v":3.8513513513513513},{"$f":"'!N125A0B.AXT'!Q16","v":0.31126472327007459},null,null,null,"CCRF",{"$f":"AVERAGE(E3:E7)","v":3.6030259637051207},{"$f":"AVERAGE(E8:E12)","v":3.8549872914878223},{"$f":"AVERAGE(E13:E17)","v":4.34572463768116},{"$f":"AVERAGE(E18:E22)","v":3.9256532425789374},{"$f":"AVERAGE(E23:E27)","v":3.8576005906238464},{"$f":"AVERAGE(E28:E32)","v":5.2885270774976654}]
[4,{"$f":"'!N126A0B.AXT'!B2:C2","v":"<date>"},{"$f":"('!N126A0B.AXT'!F67/60)/'!N126A0B.AXT'!Q3","v":3.303005464480874},{"$f":"'!N126A0B.AXT'!N20/'!N126A0B.AXT'!Q3","v":0.63934426229508201},{"$f":"SUM('!N126A0B.AXT'!L20:Q20)/'!N126A0B.AXT'!Q3","v":4.4262295081967213},{"$f":"'!N126A0B.AXT'!Q16","v":0.29100896855844177},null,null,null,"U Value",{"$f":"AVERAGE(F3:F7)","v":0.29431694011700205},{"$f":"AVERAGE(F8:F12)","v":7.2800136004294871E-2},{"$f":"AVERAGE(F13:F17)","v":7.414256577109353E-2},{"$f":"AVERAGE(F18:F22)","v":6.5874151278887405E-2},{"$f":"AVERAGE(F23:F27)","v":8.3857323121551613E-2},{"$f":"AVERAGE(F28:F32)","v":0.16835907638703665}]
[5,{"$f":"'!N12795B.AXT'!B2:C2","v":"<date>"},{"$f":"('!N12795B.AXT'!F50/60)/'!N12795B.AXT'!Q3","v":3.4958333333333331},{"$f":"'!N12795B.AXT'!N20/'!N12795B.AXT'!Q3","v":0.79545454545454541},{"$f":"SUM('!N12795B.AXT'!L20:Q20)/'!N12795B.AXT'!Q3","v":3.6590909090909092},{"$f":"'!N12795B.AXT'!Q16","v":0.19599295161975941}]
[6,{"$f":"'!N12891B.AXT'!B2:C2","v":"<date>"},{"$f":"('!N12891B.AXT'!F52/60)/'!N12891B.AXT'!Q3","v":3.4710144927536231},{"$f":"'!N12891B.AXT'!N20/'!N12891B.AXT'!Q3","v":0.86956521739130432},{"$f":"SUM('!N12891B.AXT'!L20:Q20)/'!N12891B.AXT'!Q3","v":3.6086956521739131},{"$f":"'!N12891B.AXT'!Q16","v":0.12282058141733007}]
[7,{"$f":"'!N129A2B.AXT'!B2:C2","v":"<date>"},{"$f":"('!N129A2B.AXT'!F47/60)/'!N129A2B.AXT'!Q3","v":2.814227642276423},{"$f":"'!N129A2B.AXT'!N20/'!N129A2B.AXT'!Q3","v":0.97560975609756095},{"$f":"SUM('!N129A2B.AXT'!L20:Q20)/'!N129A2B.AXT'!Q3","v":4.024390243902439},{"$f":"'!N129A2B.AXT'!Q16","v":3.0877354779509855E-2},{"$f":"K3","v":3.0228175031840139},{"$f":"L3","v":3.0099090541837095},3.323309178743961,4.2375427249427542,3.5937610434354625,3.2311296437767023,{"$f":"K4","v":0.5480567769326552},{"$f":"L4","v":0.93241091417125332},0.93345410628019321,0.94474569861977675,0.93049095607235122,0.85242657669128263,{"$f":"K6","v":0.29431694011700205},{"$f":"L6","v":7.2800136004294871E-2},7.414256577109353E-2,6.5874151278887405E-2,8.3857323121551613E-2,0.16835907638703665]
[8,{"$f":"'!N13092B.AXT'!B2:C2","v":"<date>"},{"$f":"('!N13092B.AXT'!F48/60)/'!N13092B.AXT'!Q3","v":2.7702380952380952},{"$f":"'!N13092B.AXT'!N20/'!N13092B.AXT'!Q3","v":0.95238095238095233},{"$f":"SUM('!N13092B.AXT'!L20:Q20)/'!N13092B.AXT'!Q3","v":3.9285714285714284},{"$f":"'!N13092B.AXT'!Q16","v":6.0051078206022804E-2}]
[9,{"$f":"'!N13192B.AXT'!B2:C2","v":"<date>"},{"$f":"('!N13192B.AXT'!F47/60)/'!N13192B.AXT'!Q3","v":3.1540650406504063},{"$f":"'!N13192B.AXT'!N20/'!N13192B.AXT'!Q3","v":0.97560975609756095},{"$f":"SUM('!N13192B.AXT'!L20:Q20)/'!N13192B.AXT'!Q3","v":4.024390243902439},{"$f":"'!N13192B.AXT'!Q16","v":3.0877354779509855E-2}]
[10,{"$f":"'!N20192B.AXT'!B2:C2","v":"<date>"},{"$f":"('!N20192B.AXT'!F51/60)/'!N20192B.AXT'!Q3","v":2.84},{"$f":"'!N20192B.AXT'!N20/'!N20192B.AXT'!Q3","v":0.88888888888888884},{"$f":"SUM('!N20192B.AXT'!L20:Q20)/'!N20192B.AXT'!Q3","v":3.6888888888888891},{"$f":"'!N20192B.AXT'!Q16","v":0.1193743108391018}]
[11,{"$f":"'!N202B0B.AXT'!B2:C2","v":"<date>"},{"$f":"('!N202B0B.AXT'!F46/60)/'!N202B0B.AXT'!Q3","v":4.0600000000000005},{"$f":"'!N202B0B.AXT'!N20/'!N202B0B.AXT'!Q3","v":1},{"$f":"SUM('!N202B0B.AXT'!L20:Q20)/'!N202B0B.AXT'!Q3","v":4.0999999999999996},{"$f":"'!N202B0B.AXT'!Q16","v":0}]
[12,{"$f":"'!N20385B.AXT'!B2:C2","v":"<date>"},{"$f":"('!N20385B.AXT'!F46/60)/'!N20385B.AXT'!Q3","v":3.4866666666666668},{"$f":"'!N20385B.AXT'!N20/'!N20385B.AXT'!Q3","v":0.97499999999999998},{"$f":"SUM('!N20385B.AXT'!L20:Q20)/'!N20385B.AXT'!Q3","v":4.0750000000000002},{"$f":"'!N20385B.AXT'!Q16","v":3.1691696785362135E-2}]
[13,{"$f":"'!N204A1B.AXT'!B2:C2","v":"<date>"},{"$f":"('!N204A1B.AXT'!F52/60)/'!N204A1B.AXT'!Q3","v":2.8887681159420286},{"$f":"'!N204A1B.AXT'!N20/'!N204A1B.AXT'!Q3","v":0.84782608695652173},{"$f":"SUM('!N204A1B.AXT'!L20:Q20)/'!N204A1B.AXT'!Q3","v":3.5869565217391304},{"$f":"'!N204A1B.AXT'!Q16","v":0.16214440998236476}]
[14,{"$f":"'!N20592B.AXT'!B2:C2","v":"<date>"},{"$f":"('!N20592B.AXT'!F46/60)/'!N20592B.AXT'!Q3","v":3.1633333333333331},{"$f":"'!N20592B.AXT'!N20/'!N20592B.AXT'!Q3","v":1},{"$f":"SUM('!N20592B.AXT'!L20:Q20)/'!N20592B.AXT'!Q3","v":4.0999999999999996},{"$f":"'!N20592B.AXT'!Q16","v":0}]
[15,{"$f":"'!N206A3B.AXT'!B2:C2","v":"<date>"},{"$f":"('!N206A3B.AXT'!F51/60)/'!N206A3B.AXT'!Q3","v":3.0177777777777779},{"$f":"'!N206A3B.AXT'!N20/'!N206A3B.AXT'!Q3","v":0.84444444444444444},{"$f":"SUM('!N206A3B.AXT'!L20:Q20)/'!N206A3B.AXT'!Q3","v":5.8666666666666663},{"$f":"'!N206A3B.AXT'!Q16","v":0.17687672208774077}]
[16,{"$f":"'!N207A1B.AXT'!B2:C2","v":"<date>"},{"$f":"('!N207A1B.AXT'!F47/60)/'!N207A1B.AXT'!Q3","v":3.0308943089430893},{"$f":"'!N207A1B.AXT'!N20/'!N207A1B.AXT'!Q3","v":0.97560975609756095},{"$f":"SUM('!N207A1B.AXT'!L20:Q20)/'!N207A1B.AXT'!Q3","v":4.024390243902439},{"$f":"'!N207A1B.AXT'!Q16","v":3.0877354779509855E-2}]
[17,{"$f":"'!N20893B.AXT'!B2:C2","v":"<date>"},{"$f":"('!N20893B.AXT'!F49/60)/'!N20893B.AXT'!Q3","v":3.3457364341085274},{"$f":"'!N20893B.AXT'!N20/'!N20893B.AXT'!Q3","v":0.93023255813953487},{"$f":"SUM('!N20893B.AXT'!L20:Q20)/'!N20893B.AXT'!Q3","v":3.8372093023255816},{"$f":"'!N20893B.AXT'!Q16","v":7.9082455473912391E-2}]
[18,{"$f":"'!N20994B.AXT'!B2:C2","v":"<date>"},{"$f":"('!N20994B.AXT'!F47/60)/'!N20994B.AXT'!Q3","v":8.7085365853658541},{"$f":"'!N20994B.AXT'!N20/'!N20994B.AXT'!Q3","v":0.95121951219512191},{"$f":"SUM('!N20994B.AXT'!L20:Q20)/'!N20994B.AXT'!Q3","v":4},{"$f":"'!N20994B.AXT'!Q16","v":6.1590495799665711E-2}]
[19,{"$f":"'!N21094B.AXT'!B2:C2","v":"<date>"},{"$f":"('!N21094B.AXT'!F46/60)/'!N21094B.AXT'!Q3","v":3.2162500000000001},{"$f":"'!N21094B.AXT'!N20/'!N21094B.AXT'!Q3","v":1},{"$f":"SUM('!N21094B.AXT'!L20:Q20)/'!N21094B.AXT'!Q3","v":4.0999999999999996},{"$f":"'!N21094B.AXT'!Q16","v":0}]
[20,{"$f":"'!N211A5B.AXT'!B2:C2","v":"<date>"},{"$f":"('!N211A5B.AXT'!F51/60)/'!N211A5B.AXT'!Q3","v":2.8862962962962961},{"$f":"'!N211A5B.AXT'!N20/'!N211A5B.AXT'!Q3","v":0.8666666666666667},{"$f":"SUM('!N211A5B.AXT'!L20:Q20)/'!N211A5B.AXT'!Q3","v":3.6666666666666665},{"$f":"'!N211A5B.AXT'!Q16","v":0.15782045034134909}]
[21,{"$f":"'!N212A0B.AXT'!B2:C2","v":"<date>"},{"$f":"('!N212A0B.AXT'!F48/60)/'!N212A0B.AXT'!Q3","v":3.4555555555555553},{"$f":"'!N212A0B.AXT'!N20/'!N212A0B.AXT'!Q3","v":0.95238095238095233},{"$f":"SUM('!N212A0B.AXT'!L20:Q20)/'!N212A0B.AXT'!Q3","v":3.9285714285714284},{"$f":"'!N212A0B.AXT'!Q16","v":5.1220172329100477E-2}]
[22,{"$f":"'!N213A3B.AXT'!B2:C2","v":"<date>"},{"$f":"('!N213A3B.AXT'!F48/60)/'!N213A3B.AXT'!Q3","v":3.6976190476190478},{"$f":"'!N213A3B.AXT'!N20/'!N213A3B.AXT'!Q3","v":0.95238095238095233},{"$f":"SUM('!N213A3B.AXT'!L20:Q20)/'!N213A3B.AXT'!Q3","v":3.9285714285714284},{"$f":"'!N213A3B.AXT'!Q16","v":6.0051078206022804E-2}]
[23,{"$f":"'!N21491B.AXT'!B2:C2","v":"<date>"},{"$f":"('!N21491B.AXT'!F49/60)/'!N21491B.AXT'!Q3","v":3.7457364341085269},{"$f":"'!N21491B.AXT'!N20/'!N21491B.AXT'!Q3","v":0.93023255813953487},{"$f":"SUM('!N21491B.AXT'!L20:Q20)/'!N21491B.AXT'!Q3","v":3.8372093023255816},{"$f":"'!N21491B.AXT'!Q16","v":8.7654029108735945E-2}]
[24,{"$f":"'!N21592B.AXT'!B2:C2","v":"<date>"},{"$f":"('!N21592B.AXT'!F48/60)/'!N21592B.AXT'!Q3","v":3.7428571428571424},{"$f":"'!N21592B.AXT'!N20/'!N21592B.AXT'!Q3","v":0.9285714285714286},{"$f":"SUM('!N21592B.AXT'!L20:Q20)/'!N21592B.AXT'!Q3","v":3.9047619047619047},{"$f":"'!N21592B.AXT'!Q16","v":8.9839654429245561E-2}]
[25,{"$f":"'!N216A1B.AXT'!B2:C2","v":"<date>"},{"$f":"('!N216A1B.AXT'!F51/60)/'!N216A1B.AXT'!Q3","v":3.3270370370370372},{"$f":"'!N216A1B.AXT'!N20/'!N216A1B.AXT'!Q3","v":0.88888888888888884},{"$f":"SUM('!N216A1B.AXT'!L20:Q20)/'!N216A1B.AXT'!Q3","v":3.6888888888888891},{"$f":"'!N216A1B.AXT'!Q16","v":0.13052168153465332}]
[26,{"$f":"'!N21793B.AXT'!B2:C2","v":"<date>"},{"$f":"('!N21793B.AXT'!F51/60)/'!N21793B.AXT'!Q3","v":3.0737037037037038},{"$f":"'!N21793B.AXT'!N20/'!N21793B.AXT'!Q3","v":0.88888888888888884},{"$f":"SUM('!N21793B.AXT'!L20:Q20)/'!N21793B.AXT'!Q3","v":5.9111111111111114},{"$f":"'!N21793B.AXT'!Q16","v":0.10624329480532822}]
[27,{"$f":"'!N218A1B.AXT'!B2:C2","v":"<date>"},{"$f":"('!N218A1B.AXT'!F50/60)/'!N218A1B.AXT'!Q3","v":3.5098484848484848},{"$f":"'!N218A1B.AXT'!N20/'!N218A1B.AXT'!Q3","v":0.88636363636363635},{"$f":"SUM('!N218A1B.AXT'!L20:Q20)/'!N218A1B.AXT'!Q3","v":3.75},{"$f":"'!N218A1B.AXT'!Q16","v":0.12523908075685272}]
[28,{"$f":"'!N219A4B.AXT'!B2:C2","v":"<date>"},{"$f":"('!N219A4B.AXT'!F48/60)/'!N219A4B.AXT'!Q3","v":3.0821428571428569},{"$f":"'!N219A4B.AXT'!N20/'!N219A4B.AXT'!Q3","v":0.9285714285714286},{"$f":"SUM('!N219A4B.AXT'!L20:Q20)/'!N219A4B.AXT'!Q3","v":3.9047619047619047},{"$f":"'!N219A4B.AXT'!Q16","v":8.9839654429245561E-2}]
[29,{"$f":"'!N22094B.AXT'!B2:C2","v":"<date>"},{"$f":"('!N22094B.AXT'!F23/60)/'!N22094B.AXT'!Q3","v":3.2588235294117647},{"$f":"'!N22094B.AXT'!N20/'!N22094B.AXT'!Q3","v":0.70588235294117652},{"$f":"SUM('!N22094B.AXT'!L20:Q20)/'!N22094B.AXT'!Q3","v":7.5882352941176467},{"$f":"'!N22094B.AXT'!Q16","v":0.35211427555672009}]
[30]

{"sheet":"Start","index":2,"n_rows":35,"n_cols":10,"rows_kept":35,"cut":false,"hidden":false,"merged":[]}
[null,null,null,null,null,"Use Folder 51",null,"Auto Clean Up",null,"Correct sequence"]
[null,null,null,null,null,false,null,true,null,111]
[]
["Working with Folder",null,null,null,null,null,"Process All/Or Pick A number: ALL or an integer"]
["F:\\Possum Chapter\\Raw Data\\baxter\\LLL Var\\",null,null,null,null,null,"ALL"]
["Filenames:"]
["!N125A0B.AXT",null,null,null,null,null,"Paint Cells"]
["!N126A0B.AXT",null,null,null,null,null,false]
["!N12795B.AXT"]
["!N12891B.AXT"]
["!N129A2B.AXT"]
["!N13092B.AXT"]
["!N13192B.AXT"]
["!N20192B.AXT"]
["!N202B0B.AXT"]
["!N20385B.AXT"]
["!N204A1B.AXT"]
["!N20592B.AXT"]
["!N206A3B.AXT"]
["!N207A1B.AXT"]
["!N20893B.AXT"]
["!N20994B.AXT"]
["!N21094B.AXT"]
["!N211A5B.AXT"]
["!N212A0B.AXT"]
["!N213A3B.AXT"]
["!N21491B.AXT"]
["!N21592B.AXT"]
["!N216A1B.AXT"]
["!N21793B.AXT"]
["!N218A1B.AXT"]
["!N219A4B.AXT"]
["!N22094B.AXT"]
["!N123A3B.AXT"]
["!N12495B.AXT"]

{"sheet":"!N123A3B.AXT","index":3,"n_rows":104,"n_cols":48,"rows_kept":104,"cut":false,"hidden":false,"merged":[[4,39,4,42],[5,39,5,40],[4,44,4,47],[5,44,5,45],[4,24,4,27],[5,24,5,25],[4,29,4,32],[5,29,5,30],[4,34,4,37],[5,34,5,35],[1,1,1,2],[5,13,5,14],[18,13,18,14],[19,13,19,14],[4,19,4,22],[5,19,5,20]]}
["Report for:!N123A3B.AXT"]
["Date:","<date>"]
["Hen:","<hen>",null,null,null,"Correct Sequence",{"$f":"Start!J2","v":111},null,null,null,null,null,null,null,null,"Total Sequences in Data",{"$f":"4994-COUNTBLANK(L7:L5000)","v":98},null,null,null,null,"Total Sequences in Block Data",{"$f":"COUNTA(L7:L22)","v":16},null,null,null,"Total Sequences in Block Data",{"$f":"COUNTA(L23:L39)","v":17},null,null,null,"Total Sequences in Block Data",{"$f":"COUNTA(L40:L55)","v":16},null,null,null,"Total Sequences in Block Data",{"$f":"COUNTA(L56:L71)","v":16},null,null,null,"Total Sequences in Block Data",{"$f":"COUNTA(L72:L88)","v":17},null,null,null,"Total Sequences in Block Data",{"$f":"COUNTA(L89:L104)","v":16}]
[null,null,null,null,null,null,null,null,null,null,null,null,null,null,null,"Total Sequences in Summary",{"$f":"SUM(O7:O14)","v":98},null,null,null,null,"Total Sequences in Block Summary",{"$f":"SUM(U7:U14)","v":16},null,null,null,"Total Sequences in Block Summary",{"$f":"SUM(Z7:Z14)","v":17},null,null,null,"Total Sequences in Block Summary",{"$f":"SUM(AE7:AE14)","v":16},null,null,null,"Total Sequences in Block Summary",{"$f":"SUM(AJ7:AJ14)","v":16},null,null,null,"Total Sequences in Block Summary",{"$f":"SUM(AO7:AO14)","v":17},null,null,null,"Total Sequences in Block Summary",{"$f":"SUM(AT7:AT14)","v":16}]
[null,null,null,null,null,null,null,null,null,null,null,null,null,null,null,null,null,null,null,"Block 1",null,null,null,null,"Block 2",null,null,null,null,"Block 3",null,null,null,null,"Block 4",null,null,null,null,"Block 5",null,null,null,null,"Block 6"]
["Sequence\nComponent\n1","Time\n1","Sequence\nComponent\n2","Time\n2","Sequence\nComponent\n3","Time\n3","Sequence\nComponent\n4","Time\n4","Sequence\nComponent\n5","Time\n5","Correct?\n0=No 1=Yes","Sequence",null,"Frequency",null,"Relative Frequency","Variability",null,null,"Frequency",null,"Relative Frequency","Variability",null,"Frequency",null,"Relative Frequency","Variability",null,"Frequency",null,"Relative Frequency","Variability",null,"Frequency",null,"Relative Frequency","Variability",null,"Frequency",null,"Relative Frequency","Variability",null,"Frequency",null,"Relative Frequency","Variability"]
[22,117,24,119,24,123,null,null,null,null,0,222,null,111,{"$f":"COUNTIF($L$7:$L$500,N7)","v":36},{"$f":"O7/$Q$4","v":0.36734693877551022},{"$f":"IF(P7=0,0,(P7*((LOG(P7))/LOG(2))))","v":-0.5307372891451454},null,null,{"$f":"N7","v":111},{"$f":"COUNTIF(L7:L22,T7)","v":3},null,null,null,{"$f":"N7","v":111},{"$f":"COUNTIF(L23:L39,Y7)","v":6},null,null,null,{"$f":"N7","v":111},{"$f":"COUNTIF(L40:L55,AD7)","v":6},null,null,null,{"$f":"N7","v":111},{"$f":"COUNTIF(L56:L71,AI7)","v":6},null,null,null,{"$f":"N7","v":111},{"$f":"COUNTIF(L72:L88,AN7)","v":8},null,null,null,{"$f":"N7","v":111},{"$f":"COUNTIF(L89:L104,AS7)","v":7}]
[11,1007,22,1020,13,1035,null,null,null,null,0,121,null,112,{"$f":"COUNTIF($L$7:$L$500,N8)","v":1},{"$f":"O8/$Q$4","v":1.020408163265306E-2},{"$f":"IF(P8=0,0,(P8*((LOG(P8))/LOG(2))))","v":-6.7497039225665384E-2},null,null,{"$f":"N8","v":112},{"$f":"COUNTIF(L7:L22,T8)","v":0},{"$f":"U8/(W4-U7)","v":0},{"$f":"IF(V8=0,0,(V8*((LOG(V8))/LOG(2))))","v":0},null,{"$f":"N8","v":112},{"$f":"COUNTIF(L23:L39,Y8)","v":1},{"$f":"Z8/(AB4-Z7)","v":9.0909090909090912E-2},{"$f":"IF(AA8=0,0,(AA8*((LOG(AA8))/LOG(2))))","v":-0.31449378351248153},null,{"$f":"N8","v":112},{"$f":"COUNTIF(L40:L55,AD8)","v":0},{"$f":"AE8/(AG4-AE7)","v":0},{"$f":"IF(AF8=0,0,(AF8*((LOG(AF8))/LOG(2))))","v":0},null,{"$f":"N8","v":112},{"$f":"COUNTIF(L56:L71,AI8)","v":0},{"$f":"AJ8/(AL4-AJ7)","v":0},{"$f":"IF(AK8=0,0,(AK8*((LOG(AK8))/LOG(2))))","v":0},null,{"$f":"N8","v":112},{"$f":"COUNTIF(L72:L88,AN8)","v":0},{"$f":"AO8/(AQ4-AO7)","v":0},{"$f":"IF(AP8=0,0,(AP8*((LOG(AP8))/LOG(2))))","v":0},null,{"$f":"N8","v":112},{"$f":"COUNTIF(L89:L104,AS8)","v":0},{"$f":"AT8/(AV4-AT7)","v":0},{"$f":"IF(AU8=0,0,(AU8*((LOG(AU8))/LOG(2))))","v":0}]
[22,1140,24,1144,24,1187,null,null,null,null,0,222,null,121,{"$f":"COUNTIF($L$7:$L$500,N9)","v":5},{"$f":"O9/$Q$4","v":5.1020408163265307E-2},{"$f":"IF(P9=0,0,(P9*((LOG(P9))/LOG(2))))","v":-0.21901947700142071},null,null,{"$f":"N9","v":121},{"$f":"COUNTIF(L7:L22,T9)","v":1},{"$f":"U9/(W4-U7)","v":7.6923076923076927E-2},{"$f":"IF(V9=0,0,(V9*((LOG(V9))/LOG(2))))","v":-0.28464920908777636},null,{"$f":"N9","v":121},{"$f":"COUNTIF(L23:L39,Y9)","v":0},{"$f":"Z9/(AB4-Z7)","v":0},{"$f":"IF(AA9=0,0,(AA9*((LOG(AA9))/LOG(2))))","v":0},null,{"$f":"N9","v":121},{"$f":"COUNTIF(L40:L55,AD9)","v":1},{"$f":"AE9/(AG4-AE7)","v":0.1},{"$f":"IF(AF9=0,0,(AF9*((LOG(AF9))/LOG(2))))","v":-0.33219280948873625},null,{"$f":"N9","v":121},{"$f":"COUNTIF(L56:L71,AI9)","v":0},{"$f":"AJ9/(AL4-AJ7)","v":0},{"$f":"IF(AK9=0,0,(AK9*((LOG(AK9))/LOG(2))))","v":0},null,{"$f":"N9","v":121},{"$f":"COUNTIF(L72:L88,AN9)","v":1},{"$f":"AO9/(AQ4-AO7)","v":0.1111111111111111},{"$f":"IF(AP9=0,0,(AP9*((LOG(AP9))/LOG(2))))","v":-0.3522138890491458},null,{"$f":"N9","v":121},{"$f":"COUNTIF(L89:L104,AS9)","v":2},{"$f":"AT9/(AV4-AT7)","v":0.22222222222222221},{"$f":"IF(AU9=0,0,(AU9*((LOG(AU9))/LOG(2))))","v":-0.48220555587606945}]
[22,1279,24,1289,13,1301,null,null,null,null,0,221,null,122,{"$f":"COUNTIF($L$7:$L$500,N10)","v":0},{"$f":"O10/$Q$4","v":0},{"$f":"IF(P10=0,0,(P10*((LOG(P10))/LOG(2))))","v":0},null,null,{"$f":"N10","v":122},{"$f":"COUNTIF(L7:L22,T10)","v":0},{"$f":"U10/(W4-U7)","v":0},{"$f":"IF(V10=0,0,(V10*((LOG(V10))/LOG(2))))","v":0},null,{"$f":"N10","v":122},{"$f":"COUNTIF(L23:L39,Y10)","v":0},{"$f":"Z10/(AB4-Z7)","v":0},{"$f":"IF(AA10=0,0,(AA10*((LOG(AA10))/LOG(2))))","v":0},null,{"$f":"N10","v":122},{"$f":"COUNTIF(L40:L55,AD10)","v":0},{"$f":"AE10/(AG4-AE7)","v":0},{"$f":"IF(AF10=0,0,(AF10*((LOG(AF10))/LOG(2))))","v":0},null,{"$f":"N10","v":122},{"$f":"COUNTIF(L56:L71,AI10)","v":0},{"$f":"AJ10/(AL4-AJ7)","v":0},{"$f":"IF(AK10=0,0,(AK10*((LOG(AK10))/LOG(2))))","v":0},null,{"$f":"N10","v":122},{"$f":"COUNTIF(L72:L88,AN10)","v":0},{"$f":"AO10/(AQ4-AO7)","v":0},{"$f":"IF(AP10=0,0,(AP10*((LOG(AP10))/LOG(2))))","v":0},null,{"$f":"N10","v":122},{"$f":"COUNTIF(L89:L104,AS10)","v":0},{"$f":"AT10/(AV4-AT7)","v":0},{"$f":"IF(AU10=0,0,(AU10*((LOG(AU10))/LOG(2))))","v":0}]
[22,1441,24,1444,24,1451,null,null,null,null,0,222,null,211,{"$f":"COUNTIF($L$7:$L$500,N11)","v":13},{"$f":"O11/$Q$4","v":0.1326530612244898},{"$f":"IF(P11=0,0,(P11*((LOG(P11))/LOG(2))))","v":-0.386586853445546},null,null,{"$f":"N11","v":211},{"$f":"COUNTIF(L7:L22,T11)","v":1},{"$f":"U11/(W4-U7)","v":7.6923076923076927E-2},{"$f":"IF(V11=0,0,(V11*((LOG(V11))/LOG(2))))","v":-0.28464920908777636},null,{"$f":"N11","v":211},{"$f":"COUNTIF(L23:L39,Y11)","v":2},{"$f":"Z11/(AB4-Z7)","v":0.18181818181818182},{"$f":"IF(AA11=0,0,(AA11*((LOG(AA11))/LOG(2))))","v":-0.44716938520678134},null,{"$f":"N11","v":211},{"$f":"COUNTIF(L40:L55,AD11)","v":3},{"$f":"AE11/(AG4-AE7)","v":0.3},{"$f":"IF(AF11=0,0,(AF11*((LOG(AF11))/LOG(2))))","v":-0.52108967824986185},null,{"$f":"N11","v":211},{"$f":"COUNTIF(L56:L71,AI11)","v":2},{"$f":"AJ11/(AL4-AJ7)","v":0.2},{"$f":"IF(AK11=0,0,(AK11*((LOG(AK11))/LOG(2))))","v":-0.46438561897747244},null,{"$f":"N11","v":211},{"$f":"COUNTIF(L72:L88,AN11)","v":3},{"$f":"AO11/(AQ4-AO7)","v":0.33333333333333331},{"$f":"IF(AP11=0,0,(AP11*((LOG(AP11))/LOG(2))))","v":-0.52832083357371862},null,{"$f":"N11","v":211},{"$f":"COUNTIF(L89:L104,AS11)","v":2},{"$f":"AT11/(AV4-AT7)","v":0.22222222222222221},{"$f":"IF(AU11=0,0,(AU11*((LOG(AU11))/LOG(2))))","v":-0.48220555587606945}]
[22,1544,13,1555,13,1580,null,null,null,null,0,211,null,212,{"$f":"COUNTIF($L$7:$L$500,N12)","v":2},{"$f":"O12/$Q$4","v":2.0408163265306121E-2},{"$f":"IF(P12=0,0,(P12*((LOG(P12))/LOG(2))))","v":-0.11458591518602465},null,null,{"$f":"N12","v":212},{"$f":"COUNTIF(L7:L22,T12)","v":2},{"$f":"U12/(W4-U7)","v":0.15384615384615385},{"$f":"IF(V12=0,0,(V12*((LOG(V12))/LOG(2))))","v":-0.4154522643293988},null,{"$f":"N12","v":212},{"$f":"COUNTIF(L23:L39,Y12)","v":0},{"$f":"Z12/(AB4-Z7)","v":0},{"$f":"IF(AA12=0,0,(AA12*((LOG(AA12))/LOG(2))))","v":0},null,{"$f":"N12","v":212},{"$f":"COUNTIF(L40:L55,AD12)","v":0},{"$f":"AE12/(AG4-AE7)","v":0},{"$f":"IF(AF12=0,0,(AF12*((LOG(AF12))/LOG(2))))","v":0},null,{"$f":"N12","v":212},{"$f":"COUNTIF(L56:L71,AI12)","v":0},{"$f":"AJ12/(AL4-AJ7)","v":0},{"$f":"IF(AK12=0,0,(AK12*((LOG(AK12))/LOG(2))))","v":0},null,{"$f":"N12","v":212},{"$f":"COUNTIF(L72:L88,AN12)","v":0},{"$f":"AO12/(AQ4-AO7)","v":0},{"$f":"IF(AP12=0,0,(AP12*((LOG(AP12))/LOG(2))))","v":0},null,{"$f":"N12","v":212},{"$f":"COUNTIF(L89:L104,AS12)","v":0},{"$f":"AT12/(AV4-AT7)","v":0},{"$f":"IF(AU12=0,0,(AU12*((LOG(AU12))/LOG(2))))","v":0}]
[22,1679,24,1681,24,1685,null,null,null,null,0,222,null,221,{"$f":"COUNTIF($L$7:$L$500,N13)","v":6},{"$f":"O13/$Q$4","v":6.1224489795918366E-2},{"$f":"IF(P13=0,0,(P13*((LOG(P13))/LOG(2))))","v":-0.24671922510575831},null,null,{"$f":"N13","v":221},{"$f":"COUNTIF(L7:L22,T13)","v":1},{"$f":"U13/(W4-U7)","v":7.6923076923076927E-2},{"$f":"IF(V13=0,0,(V13*((LOG(V13))/LOG(2))))","v":-0.28464920908777636},null,{"$f":"N13","v":221},{"$f":"COUNTIF(L23:L39,Y13)","v":0},{"$f":"Z13/(AB4-Z7)","v":0},{"$f":"IF(AA13=0,0,(AA13*((LOG(AA13))/LOG(2))))","v":0},null,{"$f":"N13","v":221},{"$f":"COUNTIF(L40:L55,AD13)","v":0},{"$f":"AE13/(AG4-AE7)","v":0},{"$f":"IF(AF13=0,0,(AF13*((LOG(AF13))/LOG(2))))","v":0},null,{"$f":"N13","v":221},{"$f":"COUNTIF(L56:L71,AI13)","v":0},{"$f":"AJ13/(AL4-AJ7)","v":0},{"$f":"IF(AK13=0,0,(AK13*((LOG(AK13))/LOG(2))))","v":0},null,{"$f":"N13","v":221},{"$f":"COUNTIF(L72:L88,AN13)","v":3},{"$f":"AO13/(AQ4-AO7)","v":0.33333333333333331},{"$f":"IF(AP13=0,0,(AP13*((LOG(AP13))/LOG(2))))","v":-0.52832083357371862},null,{"$f":"N13","v":221},{"$f":"COUNTIF(L89:L104,AS13)","v":2},{"$f":"AT13/(AV4-AT7)","v":0.22222222222222221},{"$f":"IF(AU13=0,0,(AU13*((LOG(AU13))/LOG(2))))","v":-0.48220555587606945}]
[11,1789,11,1793,11,1802,null,null,null,null,0,111,null,222,{"$f":"COUNTIF($L$7:$L$500,N14)","v":35},{"$f":"O14/$Q$4","v":0.35714285714285715},{"$f":"IF(P14=0,0,(P14*((LOG(P14))/LOG(2))))","v":-0.53050958113222924},null,null,{"$f":"N14","v":222},{"$f":"COUNTIF(L7:L22,T14)","v":8},{"$f":"U14/(W4-U7)","v":0.61538461538461542},{"$f":"IF(V14=0,0,(V14*((LOG(V14))/LOG(2))))","v":-0.43103982654836437},null,{"$f":"N14","v":222},{"$f":"COUNTIF(L23:L39,Y14)","v":8},{"$f":"Z14/(AB4-Z7)","v":0.72727272727272729},{"$f":"IF(AA14=0,0,(AA14*((LOG(AA14))/LOG(2))))","v":-0.33413208628167068},null,{"$f":"N14","v":222},{"$f":"COUNTIF(L40:L55,AD14)","v":6},{"$f":"AE14/(AG4-AE7)","v":0.6},{"$f":"IF(AF14=0,0,(AF14*((LOG(AF14))/LOG(2))))","v":-0.44217935649972373},null,{"$f":"N14","v":222},{"$f":"COUNTIF(L56:L71,AI14)","v":8},{"$f":"AJ14/(AL4-AJ7)","v":0.8},{"$f":"IF(AK14=0,0,(AK14*((LOG(AK14))/LOG(2))))","v":-0.25754247590988982},null,{"$f":"N14","v":222},{"$f":"COUNTIF(L72:L88,AN14)","v":2},{"$f":"AO14/(AQ4-AO7)","v":0.22222222222222221},{"$f":"IF(AP14=0,0,(AP14*((LOG(AP14))/LOG(2))))","v":-0.48220555587606945},null,{"$f":"N14","v":222},{"$f":"COUNTIF(L89:L104,AS14)","v":3},{"$f":"AT14/(AV4-AT7)","v":0.33333333333333331},{"$f":"IF(AU14=0,0,(AU14*((LOG(AU14))/LOG(2))))","v":-0.52832083357371862}]
[22,1933,24,1937,24,1989,null,null,null,null,0,222,null,null,null,{"$f":"SUM(P7:P14)","v":1},{"$f":"-SUM(Q7:Q14)","v":2.0956553802417899},null,null,null,null,{"$f":"SUM(V7:V14)","v":1},{"$f":"-SUM(W7:W14)","v":1.7004397181410922},null,null,null,{"$f":"SUM(AA7:AA14)","v":1},{"$f":"-SUM(AB7:AB14)","v":1.0957952550009336},null,null,null,{"$f":"SUM(AF7:AF14)","v":1},{"$f":"-SUM(AG7:AG14)","v":1.2954618442383219},null,null,null,{"$f":"SUM(AK7:AK14)","v":1},{"$f":"-SUM(AL7:AL14)","v":0.72192809488736231},null,null,null,{"$f":"SUM(AP7:AP14)","v":0.99999999999999989},{"$f":"-SUM(AQ7:AQ14)","v":1.8910611120726524},null,null,null,{"$f":"SUM(AU7:AU14)","v":1},{"$f":"-SUM(AV7:AV14)","v":1.974937501201927}]
[22,2093,13,2101,24,2138,null,null,null,null,0,212,null,null,null,"U=",{"$f":"Q15/(LOG(Q4)/LOG(2))","v":0.31681743109354893},null,null,null,null,"U1=",{"$f":"W15/(LOG(W4)/LOG(2))","v":0.42510992953527305},null,null,null,"U2=",{"$f":"AB15/(LOG(AB4)/LOG(2))","v":0.26808690318655815},null,null,null,"U3=",{"$f":"AG15/(LOG(AG4)/LOG(2))","v":0.32386546105958047},null,null,null,"U4=",{"$f":"AL15/(LOG(AL4)/LOG(2))","v":0.18048202372184058},null,null,null,"U5=",{"$f":"AQ15/(LOG(AQ4)/LOG(2))","v":0.46264912624726984},null,null,null,"U6=",{"$f":"AV15/(LOG(AV4)/LOG(2))","v":0.49373437530048175}]
[11,2240,11,2261,11,2270,null,null,null,null,0,111]
[22,2570,24,2572,24,2577,null,null,null,null,0,222]
[22,2708,24,2712,24,2716,null,null,null,null,0,222,null,"Total Target Seq"]
[22,2819,13,2837,24,2860,null,null,null,null,0,212,null,{"$f":"COUNTIF(L7:L104,G3)","v":36},null,16,17,16,16,17,16]
[22,2962,24,2966,24,2968,null,null,null,null,0,222,null,null,null,"% of reinforcement given in 6 equal intervals based on number of trials "]
[11,3061,11,3077,11,3090,null,null,null,null,0,111,null,null,null,"%_1","%_2","%_3","%_4","%_5","%_6"]
[22,3196,24,3200,24,3205,null,null,null,null,0,222,null,null,"target sequence",{"$f":"$G$3","v":111},{"$f":"$G$3","v":111},{"$f":"$G$3","v":111},{"$f":"$G$3","v":111},{"$f":"$G$3","v":111},{"$f":"$G$3","v":111}]
[11,3300,11,3309,11,3334,null,null,null,null,0,111,null,null,"total reinforcement",{"$f":"U7","v":3},{"$f":"Z7","v":6},{"$f":"AE7","v":6},{"$f":"AJ7","v":6},{"$f":"AO7","v":8},{"$f":"AT7","v":7}]
[22,3531,24,3535,24,3539,null,null,null,null,0,222,null,null,"% target"]
[22,3635,13,3644,13,3652,null,null,null,null,0,211,null,null,"CCRF"]
[11,3849,11,3853,22,3859,null,null,null,null,0,112,null,null,"% CCRf"]
[11,3980,11,3990,11,4001,null,null,null,null,0,111,null,null,"average response rate",{"$f":"F22/P20","v":193.125},{"$f":"(F39-F22)/Q20","v":148.88235294117646},{"$f":"(F55-F39)/R20","v":161.0625},{"$f":"(F71-F55)/S20","v":165.6875},{"$f":"(F88-F71)/T20","v":188.35294117647058},{"$f":"(F104-F88)/U20","v":167.0625}]
[22,4092,13,4104,13,4128,null,null,null,null,0,211]
[22,4229,24,4235,24,4240,null,null,null,null,0,222]
[11,4347,11,4368,11,4377,null,null,null,null,0,111]
[22,4609,24,4613,24,4616,null,null,null,null,0,222]
[11,4723,11,4726,11,4748,null,null,null,null,0,111]
[22,4881,24,4885,24,4888,null,null,null,null,0,222]
[22,5013,24,5017,24,5020,null,null,null,null,0,222]
[11,5113,11,5122,11,5131,null,null,null,null,0,111]
[22,5370,24,5375,24,5378,null,null,null,null,0,222]
[22,5475,24,5478,24,5486,null,null,null,null,0,222]
[11,5601,11,5610,11,5621,null,null,null,null,0,111]
[22,5825,13,5837,13,5844,null,null,null,null,0,211]
[22,6143,13,6151,13,6161,null,null,null,null,0,211]
[11,6267,11,6272,11,6279,null,null,null,null,0,111]
[22,6461,24,6466,24,6470,null,null,null,null,0,222]
[22,6584,13,6591,13,6598,null,null,null,null,0,211]
[11,6692,11,6702,11,6712,null,null,null,null,0,111]
[22,6944,24,6946,24,6950,null,null,null,null,0,222]
[11,7045,11,7049,11,7057,null,null,null,null,0,111]
[22,7228,24,7234,24,7237,null,null,null,null,0,222]
[11,7336,11,7343,11,7358,null,null,null,null,0,111]
[22,7529,24,7537,24,7542,null,null,null,null,0,222]
[11,7641,22,7660,13,7662,null,null,null,null,0,121]
[11,7773,11,7783,11,7786,null,null,null,null,0,111]
[11,7924,11,7946,11,7955,null,null,null,null,0,111]
[22,8087,24,8093,24,8096,null,null,null,null,0,222]
[22,8191,24,8194,24,8198,null,null,null,null,0,222]
[11,8296,11,8308,11,8317,null,null,null,null,0,111]
[22,8615,24,8619,24,8623,null,null,null,null,0,222]
[22,8726,24,8729,24,8732,null,null,null,null,0,222]
[11,8829,11,8837,11,8846,null,null,null,null,0,111]
[22,9023,24,9027,24,9032,null,null,null,null,0,222]
[11,9133,11,9138,11,9141,null,null,null,null,0,111]
[22,9427,24,9430,24,9438,null,null,null,null,0,222]
[22,9633,13,9650,13,9677,null,null,null,null,0,211]
[11,9804,11,9850,11,9859,null,null,null,null,0,111]
[22,10015,24,10020,24,10027,null,null,null,null,0,222]
[11,10127,11,10134,11,10148,null,null,null,null,0,111]
[22,10269,24,10277,24,10280,null,null,null,null,0,222]
[11,10385,11,10395,11,10398,null,null,null,null,0,111]
[22,10581,24,10588,24,10592,null,null,null,null,0,222]
[22,10726,24,10729,24,10738,null,null,null,null,0,222]
[22,10837,13,10842,13,10849,null,null,null,null,0,211]
[11,11030,11,11053,11,11056,null,null,null,null,0,111]
[22,11188,13,11199,13,11225,null,null,null,null,0,211]
[11,11327,22,11343,13,11354,null,null,null,null,0,121]
[11,11456,11,11461,11,11471,null,null,null,null,0,111]
[22,11808,24,11812,24,11817,null,null,null,null,0,222]
[11,11909,11,11916,11,11930,null,null,null,null,0,111]
[22,12039,13,12054,13,12070,null,null,null,null,0,211]
[11,12176,11,12183,11,12192,null,null,null,null,0,111]
[22,12545,24,12548,24,12551,null,null,null,null,0,222]
[22,12720,24,12725,13,12732,null,null,null,null,0,221]
[11,12894,11,12904,11,12919,null,null,null,null,0,111]
[22,13184,24,13192,13,13208,null,null,null,null,0,221]
[11,13320,11,13328,11,13331,null,null,null,null,0,111]
[22,13608,24,13616,13,13628,null,null,null,null,0,221]
[11,13758,11,13762,11,13781,null,null,null,null,0,111]
[22,13921,13,13927,13,13936,null,null,null,null,0,211]
[11,14028,11,14038,11,14051,null,null,null,null,0,111]
[22,14258,24,14262,24,14266,null,null,null,null,0,222]
[22,14363,24,14366,13,14370,null,null,null,null,0,221]
[11,14476,11,14482,11,14491,null,null,null,null,0,111]
[11,14597,11,14605,11,14612,null,null,null,null,0,111]
[22,14736,24,14740,24,14743,null,null,null,null,0,222]
[11,14840,11,14845,11,14853,null,null,null,null,0,111]
[22,14963,24,14966,24,14970,null,null,null,null,0,222]
[11,15368,11,15376,11,15392,null,null,null,null,0,111]
[11,15672,11,15681,11,15699,null,null,null,null,0,111]
[22,15826,13,15831,13,15844,null,null,null,null,0,211]
[11,15944,11,15948,11,15950,null,null,null,null,0,111]
[22,16096,24,16106,13,16115,null,null,null,null,0,221]
[11,16227,22,16229,13,16231,null,null,null,null,0,121]
[11,16467,22,16481,13,16495,null,null,null,null,0,121]
[22,16586,13,16599,13,16605,null,null,null,null,0,211]
[11,16709,11,16715,11,16724,null,null,null,null,1,111]

{"sheet":"!N12495B.AXT","index":4,"n_rows":96,"n_cols":48,"rows_kept":96,"cut":false,"hidden":false,"merged":[[4,39,4,42],[5,39,5,40],[4,44,4,47],[5,44,5,45],[4,24,4,27],[5,24,5,25],[4,29,4,32],[5,29,5,30],[4,34,4,37],[5,34,5,35],[1,1,1,2],[5,13,5,14],[18,13,18,14],[19,13,19,14],[4,19,4,22],[5,19,5,20]]}
["Report for:!N12495B.AXT"]
["Date:","<date>"]
["Hen:","<hen>",null,null,null,"Correct Sequence",{"$f":"Start!J2","v":111},null,null,null,null,null,null,null,null,"Total Sequences in Data",{"$f":"4994-COUNTBLANK(L7:L5000)","v":90},null,null,null,null,"Total Sequences in Block Data",{"$f":"COUNTA(L7:L21)","v":15},null,null,null,"Total Sequences in Block Data",{"$f":"COUNTA(L22:L36)","v":15},null,null,null,"Total Sequences in Block Data",{"$f":"COUNTA(L37:L51)","v":15},null,null,null,"Total Sequences in Block Data",{"$f":"COUNTA(L52:L66)","v":15},null,null,null,"Total Sequences in Block Data",{"$f":"COUNTA(L67:L81)","v":15},null,null,null,"Total Sequences in Block Data",{"$f":"COUNTA(L82:L96)","v":15}]
[null,null,null,null,null,null,null,null,null,null,null,null,null,null,null,"Total Sequences in Summary",{"$f":"SUM(O7:O14)","v":90},null,null,null,null,"Total Sequences in Block Summary",{"$f":"SUM(U7:U14)","v":15},null,null,null,"Total Sequences in Block Summary",{"$f":"SUM(Z7:Z14)","v":15},null,null,null,"Total Sequences in Block Summary",{"$f":"SUM(AE7:AE14)","v":15},null,null,null,"Total Sequences in Block Summary",{"$f":"SUM(AJ7:AJ14)","v":15},null,null,null,"Total Sequences in Block Summary",{"$f":"SUM(AO7:AO14)","v":15},null,null,null,"Total Sequences in Block Summary",{"$f":"SUM(AT7:AT14)","v":15}]
[null,null,null,null,null,null,null,null,null,null,null,null,null,null,null,null,null,null,null,"Block 1",null,null,null,null,"Block 2",null,null,null,null,"Block 3",null,null,null,null,"Block 4",null,null,null,null,"Block 5",null,null,null,null,"Block 6"]
["Sequence\nComponent\n1","Time\n1","Sequence\nComponent\n2","Time\n2","Sequence\nComponent\n3","Time\n3","Sequence\nComponent\n4","Time\n4","Sequence\nComponent\n5","Time\n5","Correct?\n0=No 1=Yes","Sequence",null,"Frequency",null,"Relative Frequency","Variability",null,null,"Frequency",null,"Relative Frequency","Variability",null,"Frequency",null,"Relative Frequency","Variability",null,"Frequency",null,"Relative Frequency","Variability",null,"Frequency",null,"Relative Frequency","Variability",null,"Frequency",null,"Relative Frequency","Variability",null,"Frequency",null,"Relative Frequency","Variability"]
[11,18,22,31,24,39,null,null,null,null,0,122,null,111,{"$f":"COUNTIF($L$7:$L$500,N7)","v":37},{"$f":"O7/$Q$4","v":0.41111111111111109},{"$f":"IF(P7=0,0,(P7*((LOG(P7))/LOG(2))))","v":-0.52720877817696465},null,null,{"$f":"N7","v":111},{"$f":"COUNTIF(L7:L21,T7)","v":6},null,null,null,{"$f":"N7","v":111},{"$f":"COUNTIF(L22:L36,Y7)","v":7},null,null,null,{"$f":"N7","v":111},{"$f":"COUNTIF(L37:L51,AD7)","v":7},null,null,null,{"$f":"N7","v":111},{"$f":"COUNTIF(L52:L66,AI7)","v":6},null,null,null,{"$f":"N7","v":111},{"$f":"COUNTIF(L67:L81,AN7)","v":6},null,null,null,{"$f":"N7","v":111},{"$f":"COUNTIF(L82:L96,AS7)","v":5}]
[11,138,11,150,11,160,null,null,null,null,0,111,null,112,{"$f":"COUNTIF($L$7:$L$500,N8)","v":1},{"$f":"O8/$Q$4","v":1.1111111111111112E-2},{"$f":"IF(P8=0,0,(P8*((LOG(P8))/LOG(2))))","v":-7.2131701070329707E-2},null,null,{"$f":"N8","v":112},{"$f":"COUNTIF(L7:L21,T8)","v":0},{"$f":"U8/(W4-U7)","v":0},{"$f":"IF(V8=0,0,(V8*((LOG(V8))/LOG(2))))","v":0},null,{"$f":"N8","v":112},{"$f":"COUNTIF(L22:L36,Y8)","v":0},{"$f":"Z8/(AB4-Z7)","v":0},{"$f":"IF(AA8=0,0,(AA8*((LOG(AA8))/LOG(2))))","v":0},null,{"$f":"N8","v":112},{"$f":"COUNTIF(L37:L51,AD8)","v":0},{"$f":"AE8/(AG4-AE7)","v":0},{"$f":"IF(AF8=0,0,(AF8*((LOG(AF8))/LOG(2))))","v":0},null,{"$f":"N8","v":112},{"$f":"COUNTIF(L52:L66,AI8)","v":0},{"$f":"AJ8/(AL4-AJ7)","v":0},{"$f":"IF(AK8=0,0,(AK8*((LOG(AK8))/LOG(2))))","v":0},null,{"$f":"N8","v":112},{"$f":"COUNTIF(L67:L81,AN8)","v":1},{"$f":"AO8/(AQ4-AO7)","v":0.1111111111111111},{"$f":"IF(AP8=0,0,(AP8*((LOG(AP8))/LOG(2))))","v":-0.3522138890491458},null,{"$f":"N8","v":112},{"$f":"COUNTIF(L82:L96,AS8)","v":0},{"$f":"AT8/(AV4-AT7)","v":0},{"$f":"IF(AU8=0,0,(AU8*((LOG(AU8))/LOG(2))))","v":0}]
[22,333,24,345,24,348,null,null,null,null,0,222,null,121,{"$f":"COUNTIF($L$7:$L$500,N9)","v":3},{"$f":"O9/$Q$4","v":3.3333333333333333E-2},{"$f":"IF(P9=0,0,(P9*((LOG(P9))/LOG(2))))","v":-0.16356301985361729},null,null,{"$f":"N9","v":121},{"$f":"COUNTIF(L7:L21,T9)","v":0},{"$f":"U9/(W4-U7)","v":0},{"$f":"IF(V9=0,0,(V9*((LOG(V9))/LOG(2))))","v":0},null,{"$f":"N9","v":121},{"$f":"COUNTIF(L22:L36,Y9)","v":0},{"$f":"Z9/(AB4-Z7)","v":0},{"$f":"IF(AA9=0,0,(AA9*((LOG(AA9))/LOG(2))))","v":0},null,{"$f":"N9","v":121},{"$f":"COUNTIF(L37:L51,AD9)","v":1},{"$f":"AE9/(AG4-AE7)","v":0.125},{"$f":"IF(AF9=0,0,(AF9*((LOG(AF9))/LOG(2))))","v":-0.375},null,{"$f":"N9","v":121},{"$f":"COUNTIF(L52:L66,AI9)","v":0},{"$f":"AJ9/(AL4-AJ7)","v":0},{"$f":"IF(AK9=0,0,(AK9*((LOG(AK9))/LOG(2))))","v":0},null,{"$f":"N9","v":121},{"$f":"COUNTIF(L67:L81,AN9)","v":2},{"$f":"AO9/(AQ4-AO7)","v":0.22222222222222221},{"$f":"IF(AP9=0,0,(AP9*((LOG(AP9))/LOG(2))))","v":-0.48220555587606945},null,{"$f":"N9","v":121},{"$f":"COUNTIF(L82:L96,AS9)","v":0},{"$f":"AT9/(AV4-AT7)","v":0},{"$f":"IF(AU9=0,0,(AU9*((LOG(AU9))/LOG(2))))","v":0}]
[11,458,11,491,11,498,null,null,null,null,0,111,null,122,{"$f":"COUNTIF($L$7:$L$500,N10)","v":2},{"$f":"O10/$Q$4","v":2.2222222222222223E-2},{"$f":"IF(P10=0,0,(P10*((LOG(P10))/LOG(2))))","v":-0.12204117991843723},null,null,{"$f":"N10","v":122},{"$f":"COUNTIF(L7:L21,T10)","v":1},{"$f":"U10/(W4-U7)","v":0.1111111111111111},{"$f":"IF(V10=0,0,(V10*((LOG(V10))/LOG(2))))","v":-0.3522138890491458},null,{"$f":"N10","v":122},{"$f":"COUNTIF(L22:L36,Y10)","v":0},{"$f":"Z10/(AB4-Z7)","v":0},{"$f":"IF(AA10=0,0,(AA10*((LOG(AA10))/LOG(2))))","v":0},null,{"$f":"N10","v":122},{"$f":"COUNTIF(L37:L51,AD10)","v":1},{"$f":"AE10/(AG4-AE7)","v":0.125},{"$f":"IF(AF10=0,0,(AF10*((LOG(AF10))/LOG(2))))","v":-0.375},null,{"$f":"N10","v":122},{"$f":"COUNTIF(L52:L66,AI10)","v":0},{"$f":"AJ10/(AL4-AJ7)","v":0},{"$f":"IF(AK10=0,0,(AK10*((LOG(AK10))/LOG(2))))","v":0},null,{"$f":"N10","v":122},{"$f":"COUNTIF(L67:L81,AN10)","v":0},{"$f":"AO10/(AQ4-AO7)","v":0},{"$f":"IF(AP10=0,0,(AP10*((LOG(AP10))/LOG(2))))","v":0},null,{"$f":"N10","v":122},{"$f":"COUNTIF(L82:L96,AS10)","v":0},{"$f":"AT10/(AV4-AT7)","v":0},{"$f":"IF(AU10=0,0,(AU10*((LOG(AU10))/LOG(2))))","v":0}]
[11,590,11,608,11,615,null,null,null,null,0,111,null,211,{"$f":"COUNTIF($L$7:$L$500,N11)","v":15},{"$f":"O11/$Q$4","v":0.16666666666666666},{"$f":"IF(P11=0,0,(P11*((LOG(P11))/LOG(2))))","v":-0.43082708345352599},null,null,{"$f":"N11","v":211},{"$f":"COUNTIF(L7:L21,T11)","v":3},{"$f":"U11/(W4-U7)","v":0.33333333333333331},{"$f":"IF(V11=0,0,(V11*((LOG(V11))/LOG(2))))","v":-0.52832083357371862},null,{"$f":"N11","v":211},{"$f":"COUNTIF(L22:L36,Y11)","v":2},{"$f":"Z11/(AB4-Z7)","v":0.25},{"$f":"IF(AA11=0,0,(AA11*((LOG(AA11))/LOG(2))))","v":-0.5},null,{"$f":"N11","v":211},{"$f":"COUNTIF(L37:L51,AD11)","v":3},{"$f":"AE11/(AG4-AE7)","v":0.375},{"$f":"IF(AF11=0,0,(AF11*((LOG(AF11))/LOG(2))))","v":-0.53063906222956647},null,{"$f":"N11","v":211},{"$f":"COUNTIF(L52:L66,AI11)","v":2},{"$f":"AJ11/(AL4-AJ7)","v":0.22222222222222221},{"$f":"IF(AK11=0,0,(AK11*((LOG(AK11))/LOG(2))))","v":-0.48220555587606945},null,{"$f":"N11","v":211},{"$f":"COUNTIF(L67:L81,AN11)","v":1},{"$f":"AO11/(AQ4-AO7)","v":0.1111111111111111},{"$f":"IF(AP11=0,0,(AP11*((LOG(AP11))/LOG(2))))","v":-0.3522138890491458},null,{"$f":"N11","v":211},{"$f":"COUNTIF(L82:L96,AS11)","v":4},{"$f":"AT11/(AV4-AT7)","v":0.4},{"$f":"IF(AU11=0,0,(AU11*((LOG(AU11))/LOG(2))))","v":-0.52877123795494496}]
[22,712,13,725,13,736,null,null,null,null,0,211,null,212,{"$f":"COUNTIF($L$7:$L$500,N12)","v":3},{"$f":"O12/$Q$4","v":3.3333333333333333E-2},{"$f":"IF(P12=0,0,(P12*((LOG(P12))/LOG(2))))","v":-0.16356301985361729},null,null,{"$f":"N12","v":212},{"$f":"COUNTIF(L7:L21,T12)","v":0},{"$f":"U12/(W4-U7)","v":0},{"$f":"IF(V12=0,0,(V12*((LOG(V12))/LOG(2))))","v":0},null,{"$f":"N12","v":212},{"$f":"COUNTIF(L22:L36,Y12)","v":1},{"$f":"Z12/(AB4-Z7)","v":0.125},{"$f":"IF(AA12=0,0,(AA12*((LOG(AA12))/LOG(2))))","v":-0.375},null,{"$f":"N12","v":212},{"$f":"COUNTIF(L37:L51,AD12)","v":1},{"$f":"AE12/(AG4-AE7)","v":0.125},{"$f":"IF(AF12=0,0,(AF12*((LOG(AF12))/LOG(2))))","v":-0.375},null,{"$f":"N12","v":212},{"$f":"COUNTIF(L52:L66,AI12)","v":0},{"$f":"AJ12/(AL4-AJ7)","v":0},{"$f":"IF(AK12=0,0,(AK12*((LOG(AK12))/LOG(2))))","v":0},null,{"$f":"N12","v":212},{"$f":"COUNTIF(L67:L81,AN12)","v":0},{"$f":"AO12/(AQ4-AO7)","v":0},{"$f":"IF(AP12=0,0,(AP12*((LOG(AP12))/LOG(2))))","v":0},null,{"$f":"N12","v":212},{"$f":"COUNTIF(L82:L96,AS12)","v":1},{"$f":"AT12/(AV4-AT7)","v":0.1},{"$f":"IF(AU12=0,0,(AU12*((LOG(AU12))/LOG(2))))","v":-0.33219280948873625}]
[11,838,11,854,11,862,null,null,null,null,0,111,null,221,{"$f":"COUNTIF($L$7:$L$500,N13)","v":11},{"$f":"O13/$Q$4","v":0.12222222222222222},{"$f":"IF(P13=0,0,(P13*((LOG(P13))/LOG(2))))","v":-0.37062929171795722},null,null,{"$f":"N13","v":221},{"$f":"COUNTIF(L7:L21,T13)","v":1},{"$f":"U13/(W4-U7)","v":0.1111111111111111},{"$f":"IF(V13=0,0,(V13*((LOG(V13))/LOG(2))))","v":-0.3522138890491458},null,{"$f":"N13","v":221},{"$f":"COUNTIF(L22:L36,Y13)","v":1},{"$f":"Z13/(AB4-Z7)","v":0.125},{"$f":"IF(AA13=0,0,(AA13*((LOG(AA13))/LOG(2))))","v":-0.375},null,{"$f":"N13","v":221},{"$f":"COUNTIF(L37:L51,AD13)","v":2},{"$f":"AE13/(AG4-AE7)","v":0.25},{"$f":"IF(AF13=0,0,(AF13*((LOG(AF13))/LOG(2))))","v":-0.5},null,{"$f":"N13","v":221},{"$f":"COUNTIF(L52:L66,AI13)","v":2},{"$f":"AJ13/(AL4-AJ7)","v":0.22222222222222221},{"$f":"IF(AK13=0,0,(AK13*((LOG(AK13))/LOG(2))))","v":-0.48220555587606945},null,{"$f":"N13","v":221},{"$f":"COUNTIF(L67:L81,AN13)","v":1},{"$f":"AO13/(AQ4-AO7)","v":0.1111111111111111},{"$f":"IF(AP13=0,0,(AP13*((LOG(AP13))/LOG(2))))","v":-0.3522138890491458},null,{"$f":"N13","v":221},{"$f":"COUNTIF(L82:L96,AS13)","v":4},{"$f":"AT13/(AV4-AT7)","v":0.4},{"$f":"IF(AU13=0,0,(AU13*((LOG(AU13))/LOG(2))))","v":-0.52877123795494496}]
[22,955,24,962,13,983,null,null,null,null,0,221,null,222,{"$f":"COUNTIF($L$7:$L$500,N14)","v":18},{"$f":"O14/$Q$4","v":0.2},{"$f":"IF(P14=0,0,(P14*((LOG(P14))/LOG(2))))","v":-0.46438561897747244},null,null,{"$f":"N14","v":222},{"$f":"COUNTIF(L7:L21,T14)","v":4},{"$f":"U14/(W4-U7)","v":0.44444444444444442},{"$f":"IF(V14=0,0,(V14*((LOG(V14))/LOG(2))))","v":-0.51996666730769447},null,{"$f":"N14","v":222},{"$f":"COUNTIF(L22:L36,Y14)","v":4},{"$f":"Z14/(AB4-Z7)","v":0.5},{"$f":"IF(AA14=0,0,(AA14*((LOG(AA14))/LOG(2))))","v":-0.5},null,{"$f":"N14","v":222},{"$f":"COUNTIF(L37:L51,AD14)","v":0},{"$f":"AE14/(AG4-AE7)","v":0},{"$f":"IF(AF14=0,0,(AF14*((LOG(AF14))/LOG(2))))","v":0},null,{"$f":"N14","v":222},{"$f":"COUNTIF(L52:L66,AI14)","v":5},{"$f":"AJ14/(AL4-AJ7)","v":0.55555555555555558},{"$f":"IF(AK14=0,0,(AK14*((LOG(AK14))/LOG(2))))","v":-0.4711093925305278},null,{"$f":"N14","v":222},{"$f":"COUNTIF(L67:L81,AN14)","v":4},{"$f":"AO14/(AQ4-AO7)","v":0.44444444444444442},{"$f":"IF(AP14=0,0,(AP14*((LOG(AP14))/LOG(2))))","v":-0.51996666730769447},null,{"$f":"N14","v":222},{"$f":"COUNTIF(L82:L96,AS14)","v":1},{"$f":"AT14/(AV4-AT7)","v":0.1},{"$f":"IF(AU14=0,0,(AU14*((LOG(AU14))/LOG(2))))","v":-0.33219280948873625}]
[22,1099,24,1102,24,1107,null,null,null,null,0,222,null,null,null,{"$f":"SUM(P7:P14)","v":1},{"$f":"-SUM(Q7:Q14)","v":2.3143496930219216},null,null,null,null,{"$f":"SUM(V7:V14)","v":1},{"$f":"-SUM(W7:W14)","v":1.7527152789797045},null,null,null,{"$f":"SUM(AA7:AA14)","v":1},{"$f":"-SUM(AB7:AB14)","v":1.75},null,null,null,{"$f":"SUM(AF7:AF14)","v":1},{"$f":"-SUM(AG7:AG14)","v":2.1556390622295662},null,null,null,{"$f":"SUM(AK7:AK14)","v":1},{"$f":"-SUM(AL7:AL14)","v":1.4355205042826666},null,null,null,{"$f":"SUM(AP7:AP14)","v":1},{"$f":"-SUM(AQ7:AQ14)","v":2.0588138903312014},null,null,null,{"$f":"SUM(AU7:AU14)","v":1},{"$f":"-SUM(AV7:AV14)","v":1.7219280948873625}]
[22,1227,24,1232,24,1235,null,null,null,null,0,222,null,null,null,"U=",{"$f":"Q15/(LOG(Q4)/LOG(2))","v":0.35650062604318555},null,null,null,null,"U1=",{"$f":"W15/(LOG(W4)/LOG(2))","v":0.44862154086162986},null,null,null,"U2=",{"$f":"AB15/(LOG(AB4)/LOG(2))","v":0.44792654341717708},null,null,null,"U3=",{"$f":"AG15/(LOG(AG4)/LOG(2))","v":0.55175311657116266},null,null,null,"U4=",{"$f":"AL15/(LOG(AL4)/LOG(2))","v":0.36743299285018161},null,null,null,"U5=",{"$f":"AQ15/(LOG(AQ4)/LOG(2))","v":0.52696993682018634},null,null,null,"U6=",{"$f":"AV15/(LOG(AV4)/LOG(2))","v":0.44074131403189787}]
[22,1337,13,1353,13,1356,null,null,null,null,0,211]
[22,1450,13,1457,13,1461,null,null,null,null,0,211]
[11,1565,11,1573,11,1578,null,null,null,null,0,111,null,"Total Target Seq"]
[22,1670,24,1678,24,1682,null,null,null,null,0,222,null,{"$f":"COUNTIF(L7:L96,G3)","v":37},null,15,15,15,15,15,15]
[11,1779,11,1796,11,1813,null,null,null,null,0,111,null,null,null,"% of reinforcement given in 6 equal intervals based on number of trials "]
[22,1906,13,1923,13,1939,null,null,null,null,0,211,null,null,null,"%_1","%_2","%_3","%_4","%_5","%_6"]
[11,2087,11,2103,11,2124,null,null,null,null,0,111,null,null,"target sequence",{"$f":"$G$3","v":111},{"$f":"$G$3","v":111},{"$f":"$G$3","v":111},{"$f":"$G$3","v":111},{"$f":"$G$3","v":111},{"$f":"$G$3","v":111}]
[22,2232,24,2237,13,2279,null,null,null,null,0,221,null,null,"total reinforcement",{"$f":"U7","v":6},{"$f":"Z7","v":7},{"$f":"AE7","v":7},{"$f":"AJ7","v":6},{"$f":"AO7","v":6},{"$f":"AT7","v":5}]
[11,2391,11,2412,11,2422,null,null,null,null,0,111,null,null,"% target"]
[22,2526,24,2528,24,2533,null,null,null,null,0,222,null,null,"CCRF"]
[11,2633,11,2650,11,2670,null,null,null,null,0,111,null,null,"% CCRf"]
[22,2803,24,2809,24,2812,null,null,null,null,0,222,null,null,"average response rate",{"$f":"F21/P20","v":120.86666666666666},{"$f":"(F36-F21)/Q20","v":162.86666666666667},{"$f":"(F51-F36)/R20","v":157},{"$f":"(F66-F51)/S20","v":171.8},{"$f":"(F81-F66)/T20","v":195},{"$f":"(F96-F81)/U20","v":157.19999999999999}]
[11,2915,11,2946,11,2956,null,null,null,null,0,111]
[22,3153,13,3168,24,3180,null,null,null,null,0,212]
[22,3319,13,3345,13,3360,null,null,null,null,0,211]
[22,3524,24,3533,24,3538,null,null,null,null,0,222]
[11,3652,11,3686,11,3690,null,null,null,null,0,111]
[11,3840,11,3857,11,3864,null,null,null,null,0,111]
[22,4113,24,4116,24,4123,null,null,null,null,0,222]
[11,4233,11,4248,11,4256,null,null,null,null,0,111]
[22,4403,13,4410,13,4424,null,null,null,null,0,211]
[22,4519,24,4527,13,4542,null,null,null,null,0,221]
[11,4633,11,4636,11,4650,null,null,null,null,0,111]
[22,4867,13,4870,24,4894,null,null,null,null,0,212]
[11,5012,11,5022,11,5029,null,null,null,null,0,111]
[22,5204,24,5209,13,5218,null,null,null,null,0,221]
[11,5312,11,5331,11,5333,null,null,null,null,0,111]
[22,5437,13,5442,13,5468,null,null,null,null,0,211]
[11,5571,11,5589,11,5616,null,null,null,null,0,111]
[11,5832,22,5837,24,5844,null,null,null,null,0,122]
[11,5939,11,5946,11,5968,null,null,null,null,0,111]
[11,6157,11,6169,11,6187,null,null,null,null,0,111]
[11,6319,22,6328,13,6332,null,null,null,null,0,121]
[22,6467,13,6474,13,6489,null,null,null,null,0,211]
[11,6586,11,6597,11,6611,null,null,null,null,0,111]
[11,6710,11,6713,11,6720,null,null,null,null,0,111]
[22,7007,24,7011,24,7044,null,null,null,null,0,222]
[22,7154,24,7162,24,7170,null,null,null,null,0,222]
[22,7264,24,7267,13,7281,null,null,null,null,0,221]
[11,7379,11,7385,11,7398,null,null,null,null,0,111]
[11,7547,11,7563,11,7586,null,null,null,null,0,111]
[11,7856,11,7870,11,7877,null,null,null,null,0,111]
[22,8014,24,8021,24,8026,null,null,null,null,0,222]
[22,8123,13,8135,13,8170,null,null,null,null,0,211]
[22,8293,13,8312,13,8340,null,null,null,null,0,211]
[11,8436,11,8439,11,8444,null,null,null,null,0,111]
[22,8754,24,8762,24,8766,null,null,null,null,0,222]
[11,8864,11,8867,11,8891,null,null,null,null,0,111]
[22,9049,24,9056,24,9060,null,null,null,null,0,222]
[22,9170,24,9173,13,9188,null,null,null,null,0,221]
[11,9279,11,9294,11,9300,null,null,null,null,0,111]
[11,9435,11,9451,11,9463,null,null,null,null,0,111]
[11,9612,11,9617,22,9620,null,null,null,null,0,112]
[22,9864,24,9876,13,9894,null,null,null,null,0,221]
[11,9993,11,10006,11,10009,null,null,null,null,0,111]
[11,10392,11,10409,11,10416,null,null,null,null,0,111]
[22,10566,24,10580,24,10584,null,null,null,null,0,222]
[11,10745,11,10753,11,10757,null,null,null,null,0,111]
[22,11066,24,11072,24,11077,null,null,null,null,0,222]
[11,11186,22,11200,13,11217,null,null,null,null,0,121]
[22,11383,24,11386,24,11391,null,null,null,null,0,222]
[11,11499,22,11505,13,11510,null,null,null,null,0,121]
[22,11660,24,11664,24,11670,null,null,null,null,0,222]
[11,11774,11,11783,11,11842,null,null,null,null,0,111]
[22,12081,13,12095,13,12113,null,null,null,null,0,211]
[22,12238,24,12246,13,12257,null,null,null,null,0,221]
[22,12366,13,12384,13,12409,null,null,null,null,0,211]
[22,12510,13,12518,13,12539,null,null,null,null,0,211]
[22,12645,13,12647,24,12654,null,null,null,null,0,212]
[11,12759,11,12773,11,12784,null,null,null,null,0,111]
[22,12887,13,12894,13,12908,null,null,null,null,0,211]
[11,13014,11,13031,11,13041,null,null,null,null,0,111]
[22,13169,24,13172,24,13177,null,null,null,null,0,222]
[11,13288,11,13301,11,13305,null,null,null,null,0,111]
[22,13759,24,13763,13,13778,null,null,null,null,0,221]
[22,13879,13,13893,13,13902,null,null,null,null,0,211]
[22,14004,24,14019,13,14028,null,null,null,null,0,221]
[11,14123,11,14145,11,14174,null,null,null,null,0,111]
[22,14341,24,14348,13,14355,null,null,null,null,0,221]
[11,14448,11,14464,11,14471,null,null,null,null,1,111]

{"sheet":"!N125A0B.AXT","index":5,"n_rows":80,"n_cols":48,"rows_kept":80,"cut":false,"hidden":false,"merged":[[4,39,4,42],[5,39,5,40],[4,44,4,47],[5,44,5,45],[4,24,4,27],[5,24,5,25],[4,29,4,32],[5,29,5,30],[4,34,4,37],[5,34,5,35],[1,1,1,2],[5,13,5,14],[18,13,18,14],[19,13,19,14],[4,19,4,22],[5,19,5,20]]}
["Report for:!N125A0B.AXT"]
["Date:","<date>"]
["Hen:","<hen>",null,null,null,"Correct Sequence",{"$f":"Start!J2","v":111},null,null,null,null,null,null,null,null,"Total Sequences in Data",{"$f":"4994-COUNTBLANK(L7:L5000)","v":74},null,null,null,null,"Total Sequences in Block Data",{"$f":"COUNTA(L7:L18)","v":12},null,null,null,"Total Sequences in Block Data",{"$f":"COUNTA(L19:L31)","v":13},null,null,null,"Total Sequences in Block Data",{"$f":"COUNTA(L32:L43)","v":12},null,null,null,"Total Sequences in Block Data",{"$f":"COUNTA(L44:L55)","v":12},null,null,null,"Total Sequences in Block Data",{"$f":"COUNTA(L56:L68)","v":13},null,null,null,"Total Sequences in Block Data",{"$f":"COUNTA(L69:L80)","v":12}]
[null,null,null,null,null,null,null,null,null,null,null,null,null,null,null,"Total Sequences in Summary",{"$f":"SUM(O7:O14)","v":74},null,null,null,null,"Total Sequences in Block Summary",{"$f":"SUM(U7:U14)","v":12},null,null,null,"Total Sequences in Block Summary",{"$f":"SUM(Z7:Z14)","v":13},null,null,null,"Total Sequences in Block Summary",{"$f":"SUM(AE7:AE14)","v":12},null,null,null,"Total Sequences in Block Summary",{"$f":"SUM(AJ7:AJ14)","v":12},null,null,null,"Total Sequences in Block Summary",{"$f":"SUM(AO7:AO14)","v":13},null,null,null,"Total Sequences in Block Summary",{"$f":"SUM(AT7:AT14)","v":12}]
[null,null,null,null,null,null,null,null,null,null,null,null,null,null,null,null,null,null,null,"Block 1",null,null,null,null,"Block 2",null,null,null,null,"Block 3",null,null,null,null,"Block 4",null,null,null,null,"Block 5",null,null,null,null,"Block 6"]
["Sequence\nComponent\n1","Time\n1","Sequence\nComponent\n2","Time\n2","Sequence\nComponent\n3","Time\n3","Sequence\nComponent\n4","Time\n4","Sequence\nComponent\n5","Time\n5","Correct?\n0=No 1=Yes","Sequence",null,"Frequency",null,"Relative Frequency","Variability",null,null,"Frequency",null,"Relative Frequency","Variability",null,"Frequency",null,"Relative Frequency","Variability",null,"Frequency",null,"Relative Frequency","Variability",null,"Frequency",null,"Relative Frequency","Variability",null,"Frequency",null,"Relative Frequency","Variability",null,"Frequency",null,"Relative Frequency","Variability"]
[11,50,22,70,13,94,null,null,null,null,0,121,null,111,{"$f":"COUNTIF($L$7:$L$500,N7)","v":39},{"$f":"O7/$Q$4","v":0.52702702702702697},{"$f":"IF(P7=0,0,(P7*((LOG(P7))/LOG(2))))","v":-0.48699992870136966},null,null,{"$f":"N7","v":111},{"$f":"COUNTIF(L7:L18,T7)","v":4},null,null,null,{"$f":"N7","v":111},{"$f":"COUNTIF(L19:L31,Y7)","v":7},null,null,null,{"$f":"N7","v":111},{"$f":"COUNTIF(L32:L43,AD7)","v":8},null,null,null,{"$f":"N7","v":111},{"$f":"COUNTIF(L44:L55,AI7)","v":7},null,null,null,{"$f":"N7","v":111},{"$f":"COUNTIF(L56:L68,AN7)","v":6},null,null,null,{"$f":"N7","v":111},{"$f":"COUNTIF(L69:L80,AS7)","v":7}]
[22,253,13,268,24,282,null,null,null,null,0,212,null,112,{"$f":"COUNTIF($L$7:$L$500,N8)","v":1},{"$f":"O8/$Q$4","v":1.3513513513513514E-2},{"$f":"IF(P8=0,0,(P8*((LOG(P8))/LOG(2))))","v":-8.3911531967958794E-2},null,null,{"$f":"N8","v":112},{"$f":"COUNTIF(L7:L18,T8)","v":0},{"$f":"U8/(W4-U7)","v":0},{"$f":"IF(V8=0,0,(V8*((LOG(V8))/LOG(2))))","v":0},null,{"$f":"N8","v":112},{"$f":"COUNTIF(L19:L31,Y8)","v":0},{"$f":"Z8/(AB4-Z7)","v":0},{"$f":"IF(AA8=0,0,(AA8*((LOG(AA8))/LOG(2))))","v":0},null,{"$f":"N8","v":112},{"$f":"COUNTIF(L32:L43,AD8)","v":0},{"$f":"AE8/(AG4-AE7)","v":0},{"$f":"IF(AF8=0,0,(AF8*((LOG(AF8))/LOG(2))))","v":0},null,{"$f":"N8","v":112},{"$f":"COUNTIF(L44:L55,AI8)","v":0},{"$f":"AJ8/(AL4-AJ7)","v":0},{"$f":"IF(AK8=0,0,(AK8*((LOG(AK8))/LOG(2))))","v":0},null,{"$f":"N8","v":112},{"$f":"COUNTIF(L56:L68,AN8)","v":1},{"$f":"AO8/(AQ4-AO7)","v":0.14285714285714285},{"$f":"IF(AP8=0,0,(AP8*((LOG(AP8))/LOG(2))))","v":-0.40105070315108626},null,{"$f":"N8","v":112},{"$f":"COUNTIF(L69:L80,AS8)","v":0},{"$f":"AT8/(AV4-AT7)","v":0},{"$f":"IF(AU8=0,0,(AU8*((LOG(AU8))/LOG(2))))","v":0}]
[22,383,13,386,13,397,null,null,null,null,0,211,null,121,{"$f":"COUNTIF($L$7:$L$500,N9)","v":2},{"$f":"O9/$Q$4","v":2.7027027027027029E-2},{"$f":"IF(P9=0,0,(P9*((LOG(P9))/LOG(2))))","v":-0.14079603690889056},null,null,{"$f":"N9","v":121},{"$f":"COUNTIF(L7:L18,T9)","v":1},{"$f":"U9/(W4-U7)","v":0.125},{"$f":"IF(V9=0,0,(V9*((LOG(V9))/LOG(2))))","v":-0.375},null,{"$f":"N9","v":121},{"$f":"COUNTIF(L19:L31,Y9)","v":1},{"$f":"Z9/(AB4-Z7)","v":0.16666666666666666},{"$f":"IF(AA9=0,0,(AA9*((LOG(AA9))/LOG(2))))","v":-0.43082708345352599},null,{"$f":"N9","v":121},{"$f":"COUNTIF(L32:L43,AD9)","v":0},{"$f":"AE9/(AG4-AE7)","v":0},{"$f":"IF(AF9=0,0,(AF9*((LOG(AF9))/LOG(2))))","v":0},null,{"$f":"N9","v":121},{"$f":"COUNTIF(L44:L55,AI9)","v":0},{"$f":"AJ9/(AL4-AJ7)","v":0},{"$f":"IF(AK9=0,0,(AK9*((LOG(AK9))/LOG(2))))","v":0},null,{"$f":"N9","v":121},{"$f":"COUNTIF(L56:L68,AN9)","v":0},{"$f":"AO9/(AQ4-AO7)","v":0},{"$f":"IF(AP9=0,0,(AP9*((LOG(AP9))/LOG(2))))","v":0},null,{"$f":"N9","v":121},{"$f":"COUNTIF(L69:L80,AS9)","v":0},{"$f":"AT9/(AV4-AT7)","v":0},{"$f":"IF(AU9=0,0,(AU9*((LOG(AU9))/LOG(2))))","v":0}]
[11,492,11,495,11,525,null,null,null,null,0,111,null,122,{"$f":"COUNTIF($L$7:$L$500,N10)","v":1},{"$f":"O10/$Q$4","v":1.3513513513513514E-2},{"$f":"IF(P10=0,0,(P10*((LOG(P10))/LOG(2))))","v":-8.3911531967958794E-2},null,null,{"$f":"N10","v":122},{"$f":"COUNTIF(L7:L18,T10)","v":0},{"$f":"U10/(W4-U7)","v":0},{"$f":"IF(V10=0,0,(V10*((LOG(V10))/LOG(2))))","v":0},null,{"$f":"N10","v":122},{"$f":"COUNTIF(L19:L31,Y10)","v":0},{"$f":"Z10/(AB4-Z7)","v":0},{"$f":"IF(AA10=0,0,(AA10*((LOG(AA10))/LOG(2))))","v":0},null,{"$f":"N10","v":122},{"$f":"COUNTIF(L32:L43,AD10)","v":1},{"$f":"AE10/(AG4-AE7)","v":0.25},{"$f":"IF(AF10=0,0,(AF10*((LOG(AF10))/LOG(2))))","v":-0.5},null,{"$f":"N10","v":122},{"$f":"COUNTIF(L44:L55,AI10)","v":0},{"$f":"AJ10/(AL4-AJ7)","v":0},{"$f":"IF(AK10=0,0,(AK10*((LOG(AK10))/LOG(2))))","v":0},null,{"$f":"N10","v":122},{"$f":"COUNTIF(L56:L68,AN10)","v":0},{"$f":"AO10/(AQ4-AO7)","v":0},{"$f":"IF(AP10=0,0,(AP10*((LOG(AP10))/LOG(2))))","v":0},null,{"$f":"N10","v":122},{"$f":"COUNTIF(L69:L80,AS10)","v":0},{"$f":"AT10/(AV4-AT7)","v":0},{"$f":"IF(AU10=0,0,(AU10*((LOG(AU10))/LOG(2))))","v":0}]
[22,783,13,799,13,824,null,null,null,null,0,211,null,211,{"$f":"COUNTIF($L$7:$L$500,N11)","v":18},{"$f":"O11/$Q$4","v":0.24324324324324326},{"$f":"IF(P11=0,0,(P11*((LOG(P11))/LOG(2))))","v":-0.49610149399134429},null,null,{"$f":"N11","v":211},{"$f":"COUNTIF(L7:L18,T11)","v":5},{"$f":"U11/(W4-U7)","v":0.625},{"$f":"IF(V11=0,0,(V11*((LOG(V11))/LOG(2))))","v":-0.42379494069539858},null,{"$f":"N11","v":211},{"$f":"COUNTIF(L19:L31,Y11)","v":2},{"$f":"Z11/(AB4-Z7)","v":0.33333333333333331},{"$f":"IF(AA11=0,0,(AA11*((LOG(AA11))/LOG(2))))","v":-0.52832083357371862},null,{"$f":"N11","v":211},{"$f":"COUNTIF(L32:L43,AD11)","v":2},{"$f":"AE11/(AG4-AE7)","v":0.5},{"$f":"IF(AF11=0,0,(AF11*((LOG(AF11))/LOG(2))))","v":-0.5},null,{"$f":"N11","v":211},{"$f":"COUNTIF(L44:L55,AI11)","v":2},{"$f":"AJ11/(AL4-AJ7)","v":0.4},{"$f":"IF(AK11=0,0,(AK11*((LOG(AK11))/LOG(2))))","v":-0.52877123795494496},null,{"$f":"N11","v":211},{"$f":"COUNTIF(L56:L68,AN11)","v":4},{"$f":"AO11/(AQ4-AO7)","v":0.5714285714285714},{"$f":"IF(AP11=0,0,(AP11*((LOG(AP11))/LOG(2))))","v":-0.46134566974720237},null,{"$f":"N11","v":211},{"$f":"COUNTIF(L69:L80,AS11)","v":3},{"$f":"AT11/(AV4-AT7)","v":0.6},{"$f":"IF(AU11=0,0,(AU11*((LOG(AU11))/LOG(2))))","v":-0.44217935649972373}]
[11,922,11,937,11,944,null,null,null,null,0,111,null,212,{"$f":"COUNTIF($L$7:$L$500,N12)","v":1},{"$f":"O12/$Q$4","v":1.3513513513513514E-2},{"$f":"IF(P12=0,0,(P12*((LOG(P12))/LOG(2))))","v":-8.3911531967958794E-2},null,null,{"$f":"N12","v":212},{"$f":"COUNTIF(L7:L18,T12)","v":1},{"$f":"U12/(W4-U7)","v":0.125},{"$f":"IF(V12=0,0,(V12*((LOG(V12))/LOG(2))))","v":-0.375},null,{"$f":"N12","v":212},{"$f":"COUNTIF(L19:L31,Y12)","v":0},{"$f":"Z12/(AB4-Z7)","v":0},{"$f":"IF(AA12=0,0,(AA12*((LOG(AA12))/LOG(2))))","v":0},null,{"$f":"N12","v":212},{"$f":"COUNTIF(L32:L43,AD12)","v":0},{"$f":"AE12/(AG4-AE7)","v":0},{"$f":"IF(AF12=0,0,(AF12*((LOG(AF12))/LOG(2))))","v":0},null,{"$f":"N12","v":212},{"$f":"COUNTIF(L44:L55,AI12)","v":0},{"$f":"AJ12/(AL4-AJ7)","v":0},{"$f":"IF(AK12=0,0,(AK12*((LOG(AK12))/LOG(2))))","v":0},null,{"$f":"N12","v":212},{"$f":"COUNTIF(L56:L68,AN12)","v":0},{"$f":"AO12/(AQ4-AO7)","v":0},{"$f":"IF(AP12=0,0,(AP12*((LOG(AP12))/LOG(2))))","v":0},null,{"$f":"N12","v":212},{"$f":"COUNTIF(L69:L80,AS12)","v":0},{"$f":"AT12/(AV4-AT7)","v":0},{"$f":"IF(AU12=0,0,(AU12*((LOG(AU12))/LOG(2))))","v":0}]
[11,1049,11,1062,11,1085,null,null,null,null,0,111,null,221,{"$f":"COUNTIF($L$7:$L$500,N13)","v":3},{"$f":"O13/$Q$4","v":4.0540540540540543E-2},{"$f":"IF(P13=0,0,(P13*((LOG(P13))/LOG(2))))","v":-0.1874793593881538},null,null,{"$f":"N13","v":221},{"$f":"COUNTIF(L7:L18,T13)","v":0},{"$f":"U13/(W4-U7)","v":0},{"$f":"IF(V13=0,0,(V13*((LOG(V13))/LOG(2))))","v":0},null,{"$f":"N13","v":221},{"$f":"COUNTIF(L19:L31,Y13)","v":1},{"$f":"Z13/(AB4-Z7)","v":0.16666666666666666},{"$f":"IF(AA13=0,0,(AA13*((LOG(AA13))/LOG(2))))","v":-0.43082708345352599},null,{"$f":"N13","v":221},{"$f":"COUNTIF(L32:L43,AD13)","v":0},{"$f":"AE13/(AG4-AE7)","v":0},{"$f":"IF(AF13=0,0,(AF13*((LOG(AF13))/LOG(2))))","v":0},null,{"$f":"N13","v":221},{"$f":"COUNTIF(L44:L55,AI13)","v":1},{"$f":"AJ13/(AL4-AJ7)","v":0.2},{"$f":"IF(AK13=0,0,(AK13*((LOG(AK13))/LOG(2))))","v":-0.46438561897747244},null,{"$f":"N13","v":221},{"$f":"COUNTIF(L56:L68,AN13)","v":1},{"$f":"AO13/(AQ4-AO7)","v":0.14285714285714285},{"$f":"IF(AP13=0,0,(AP13*((LOG(AP13))/LOG(2))))","v":-0.40105070315108626},null,{"$f":"N13","v":221},{"$f":"COUNTIF(L69:L80,AS13)","v":0},{"$f":"AT13/(AV4-AT7)","v":0},{"$f":"IF(AU13=0,0,(AU13*((LOG(AU13))/LOG(2))))","v":0}]
[22,1191,24,1195,24,1202,null,null,null,null,0,222,null,222,{"$f":"COUNTIF($L$7:$L$500,N14)","v":9},{"$f":"O14/$Q$4","v":0.12162162162162163},{"$f":"IF(P14=0,0,(P14*((LOG(P14))/LOG(2))))","v":-0.36967236861729375},null,null,{"$f":"N14","v":222},{"$f":"COUNTIF(L7:L18,T14)","v":1},{"$f":"U14/(W4-U7)","v":0.125},{"$f":"IF(V14=0,0,(V14*((LOG(V14))/LOG(2))))","v":-0.375},null,{"$f":"N14","v":222},{"$f":"COUNTIF(L19:L31,Y14)","v":2},{"$f":"Z14/(AB4-Z7)","v":0.33333333333333331},{"$f":"IF(AA14=0,0,(AA14*((LOG(AA14))/LOG(2))))","v":-0.52832083357371862},null,{"$f":"N14","v":222},{"$f":"COUNTIF(L32:L43,AD14)","v":1},{"$f":"AE14/(AG4-AE7)","v":0.25},{"$f":"IF(AF14=0,0,(AF14*((LOG(AF14))/LOG(2))))","v":-0.5},null,{"$f":"N14","v":222},{"$f":"COUNTIF(L44:L55,AI14)","v":2},{"$f":"AJ14/(AL4-AJ7)","v":0.4},{"$f":"IF(AK14=0,0,(AK14*((LOG(AK14))/LOG(2))))","v":-0.52877123795494496},null,{"$f":"N14","v":222},{"$f":"COUNTIF(L56:L68,AN14)","v":1},{"$f":"AO14/(AQ4-AO7)","v":0.14285714285714285},{"$f":"IF(AP14=0,0,(AP14*((LOG(AP14))/LOG(2))))","v":-0.40105070315108626},null,{"$f":"N14","v":222},{"$f":"COUNTIF(L69:L80,AS14)","v":2},{"$f":"AT14/(AV4-AT7)","v":0.4},{"$f":"IF(AU14=0,0,(AU14*((LOG(AU14))/LOG(2))))","v":-0.52877123795494496}]
[22,1316,13,1338,13,1349,null,null,null,null,0,211,null,null,null,{"$f":"SUM(P7:P14)","v":1},{"$f":"-SUM(Q7:Q14)","v":1.9327837835109285},null,null,null,null,{"$f":"SUM(V7:V14)","v":1},{"$f":"-SUM(W7:W14)","v":1.5487949406953985},null,null,null,{"$f":"SUM(AA7:AA14)","v":1},{"$f":"-SUM(AB7:AB14)","v":1.9182958340544891},null,null,null,{"$f":"SUM(AF7:AF14)","v":1},{"$f":"-SUM(AG7:AG14)","v":1.5},null,null,null,{"$f":"SUM(AK7:AK14)","v":1},{"$f":"-SUM(AL7:AL14)","v":1.5219280948873624},null,null,null,{"$f":"SUM(AP7:AP14)","v":0.99999999999999978},{"$f":"-SUM(AQ7:AQ14)","v":1.6644977792004614},null,null,null,{"$f":"SUM(AU7:AU14)","v":1},{"$f":"-SUM(AV7:AV14)","v":0.97095059445466869}]
[11,1440,11,1448,11,1473,null,null,null,null,0,111,null,null,null,"U=",{"$f":"Q15/(LOG(Q4)/LOG(2))","v":0.31126472327007459},null,null,null,null,"U1=",{"$f":"W15/(LOG(W4)/LOG(2))","v":0.43202542296714136},null,null,null,"U2=",{"$f":"AB15/(LOG(AB4)/LOG(2))","v":0.51839672584050112},null,null,null,"U3=",{"$f":"AG15/(LOG(AG4)/LOG(2))","v":0.41841441847669475},null,null,null,"U4=",{"$f":"AL15/(LOG(AL4)/LOG(2))","v":0.42453110585709308},null,null,null,"U5=",{"$f":"AQ15/(LOG(AQ4)/LOG(2))","v":0.44981080789950506},null,null,null,"U6=",{"$f":"AV15/(LOG(AV4)/LOG(2))","v":0.27083981889890085}]
[22,1591,13,1600,13,1616,null,null,null,null,0,211]
[22,1769,13,1782,13,1802,null,null,null,null,0,211]
[11,1911,11,1919,11,1922,null,null,null,null,0,111,null,"Total Target Seq"]
[22,2099,24,2111,13,2126,null,null,null,null,0,221,null,{"$f":"COUNTIF(L7:L80,G3)","v":39},null,12,13,12,12,13,12]
[11,2234,22,2243,13,2253,null,null,null,null,0,121,null,null,null,"% of reinforcement given in 6 equal intervals based on number of trials "]
[11,2394,11,2410,11,2419,null,null,null,null,0,111,null,null,null,"%_1","%_2","%_3","%_4","%_5","%_6"]
[22,2565,24,2567,24,2575,null,null,null,null,0,222,null,null,"target sequence",{"$f":"$G$3","v":111},{"$f":"$G$3","v":111},{"$f":"$G$3","v":111},{"$f":"$G$3","v":111},{"$f":"$G$3","v":111},{"$f":"$G$3","v":111}]
[11,2678,11,2680,11,2688,null,null,null,null,0,111,null,null,"total reinforcement",{"$f":"U7","v":4},{"$f":"Z7","v":7},{"$f":"AE7","v":8},{"$f":"AJ7","v":7},{"$f":"AO7","v":6},{"$f":"AT7","v":7}]
[11,2796,11,2803,11,2812,null,null,null,null,0,111,null,null,"% target"]
[22,3059,13,3066,13,3077,null,null,null,null,0,211,null,null,"CCRF"]
[11,3178,11,3193,11,3202,null,null,null,null,0,111,null,null,"% CCRf"]
[11,3307,11,3315,11,3318,null,null,null,null,0,111,null,null,"average response rate",{"$f":"F18/P20","v":150.16666666666666},{"$f":"(F31-F18)/Q20","v":182.92307692307693},{"$f":"(F43-F31)/R20","v":174.25},{"$f":"(F55-F43)/S20","v":177.5},{"$f":"(F68-F55)/T20","v":171.84615384615384},{"$f":"(F80-F68)/U20","v":146.5}]
[22,3862,13,3877,13,3902,null,null,null,null,0,211]
[11,3998,11,4014,11,4018,null,null,null,null,0,111]
[22,4170,24,4176,24,4180,null,null,null,null,0,222]
[22,4290,13,4306,13,4326,null,null,null,null,0,211]
[22,4427,13,4437,13,4446,null,null,null,null,0,211]
[11,4573,11,4592,11,4595,null,null,null,null,0,111]
[11,4743,11,4755,11,4763,null,null,null,null,0,111]
[11,4904,22,4908,24,4920,null,null,null,null,0,122]
[11,5014,11,5023,11,5026,null,null,null,null,0,111]
[11,5310,11,5325,11,5329,null,null,null,null,0,111]
[11,5536,11,5552,11,5640,null,null,null,null,0,111]
[11,5753,11,5757,11,5765,null,null,null,null,0,111]
[22,6028,24,6034,24,6038,null,null,null,null,0,222]
[11,6137,11,6144,11,6151,null,null,null,null,0,111]
[11,6254,11,6261,11,6271,null,null,null,null,0,111]
[11,6513,11,6520,11,6530,null,null,null,null,0,111]
[11,6695,11,6712,11,6744,null,null,null,null,0,111]
[22,6941,24,6948,24,6955,null,null,null,null,0,222]
[11,7063,11,7071,11,7077,null,null,null,null,0,111]
[22,7249,13,7257,13,7264,null,null,null,null,0,211]
[11,7376,11,7397,11,7399,null,null,null,null,0,111]
[22,7563,13,7580,13,7587,null,null,null,null,0,211]
[11,7699,11,7707,11,7727,null,null,null,null,0,111]
[22,7890,24,7894,24,7896,null,null,null,null,0,222]
[11,7988,11,8011,11,8018,null,null,null,null,0,111]
[22,8250,24,8262,13,8274,null,null,null,null,0,221]
[11,8380,11,8396,11,8401,null,null,null,null,0,111]
[22,8608,13,8623,13,8629,null,null,null,null,0,211]
[22,8730,13,8734,13,8736,null,null,null,null,0,211]
[11,8841,11,8883,22,8889,null,null,null,null,0,112]
[22,8990,24,8994,13,9011,null,null,null,null,0,221]
[11,9112,11,9117,11,9126,null,null,null,null,0,111]
[22,9231,24,9234,24,9237,null,null,null,null,0,222]
[11,9353,11,9364,11,9366,null,null,null,null,0,111]
[22,9633,13,9644,13,9655,null,null,null,null,0,211]
[11,9763,11,9772,11,9777,null,null,null,null,0,111]
[11,10069,11,10072,11,10077,null,null,null,null,0,111]
[22,10249,13,10260,13,10267,null,null,null,null,0,211]
[11,10362,11,10374,11,10377,null,null,null,null,0,111]
[11,10573,11,10627,11,10635,null,null,null,null,0,111]
[22,10744,24,10749,24,10755,null,null,null,null,0,222]
[11,10846,11,10852,11,10863,null,null,null,null,0,111]
[11,10959,11,10962,11,10966,null,null,null,null,0,111]
[22,11112,13,11119,13,11132,null,null,null,null,0,211]
[11,11244,11,11247,11,11249,null,null,null,null,0,111]
[22,11419,13,11427,13,11439,null,null,null,null,0,211]
[11,11538,11,11571,11,11574,null,null,null,null,0,111]
[11,11686,11,11692,11,11703,null,null,null,null,0,111]
[22,11983,13,11991,13,11994,null,null,null,null,0,211]
[11,12088,11,12091,11,12099,null,null,null,null,0,111]
[22,12271,24,12278,24,12283,null,null,null,null,0,222]
[11,12383,11,12391,11,12393,null,null,null,null,1,111]

{"sheet":"!N126A0B.AXT","index":6,"n_rows":67,"n_cols":48,"rows_kept":67,"cut":false,"hidden":false,"merged":[[4,39,4,42],[5,39,5,40],[4,44,4,47],[5,44,5,45],[4,24,4,27],[5,24,5,25],[4,29,4,32],[5,29,5,30],[4,34,4,37],[5,34,5,35],[1,1,1,2],[5,13,5,14],[18,13,18,14],[19,13,19,14],[4,19,4,22],[5,19,5,20]]}
["Report for:!N126A0B.AXT"]
["Date:","<date>"]
["Hen:","<hen>",null,null,null,"Correct Sequence",{"$f":"Start!J2","v":111},null,null,null,null,null,null,null,null,"Total Sequences in Data",{"$f":"4994-COUNTBLANK(L7:L5000)","v":61},null,null,null,null,"Total Sequences in Block Data",{"$f":"COUNTA(L7:L16)","v":10},null,null,null,"Total Sequences in Block Data",{"$f":"COUNTA(L17:L26)","v":10},null,null,null,"Total Sequences in Block Data",{"$f":"COUNTA(L27:L37)","v":11},null,null,null,"Total Sequences in Block Data",{"$f":"COUNTA(L38:L47)","v":10},null,null,null,"Total Sequences in Block Data",{"$f":"COUNTA(L48:L57)","v":10},null,null,null,"Total Sequences in Block Data",{"$f":"COUNTA(L58:L67)","v":10}]
[null,null,null,null,null,null,null,null,null,null,null,null,null,null,null,"Total Sequences in Summary",{"$f":"SUM(O7:O14)","v":61},null,null,null,null,"Total Sequences in Block Summary",{"$f":"SUM(U7:U14)","v":10},null,null,null,"Total Sequences in Block Summary",{"$f":"SUM(Z7:Z14)","v":10},null,null,null,"Total Sequences in Block Summary",{"$f":"SUM(AE7:AE14)","v":11},null,null,null,"Total Sequences in Block Summary",{"$f":"SUM(AJ7:AJ14)","v":10},null,null,null,"Total Sequences in Block Summary",{"$f":"SUM(AO7:AO14)","v":10},null,null,null,"Total Sequences in Block Summary",{"$f":"SUM(AT7:AT14)","v":10}]
[null,null,null,null,null,null,null,null,null,null,null,null,null,null,null,null,null,null,null,"Block 1",null,null,null,null,"Block 2",null,null,null,null,"Block 3",null,null,null,null,"Block 4",null,null,null,null,"Block 5",null,null,null,null,"Block 6"]
["Sequence\nComponent\n1","Time\n1","Sequence\nComponent\n2","Time\n2","Sequence\nComponent\n3","Time\n3","Sequence\nComponent\n4","Time\n4","Sequence\nComponent\n5","Time\n5","Correct?\n0=No 1=Yes","Sequence",null,"Frequency",null,"Relative Frequency","Variability",null,null,"Frequency",null,"Relative Frequency","Variability",null,"Frequency",null,"Relative Frequency","Variability",null,"Frequency",null,"Relative Frequency","Variability",null,"Frequency",null,"Relative Frequency","Variability",null,"Frequency",null,"Relative Frequency","Variability",null,"Frequency",null,"Relative Frequency","Variability"]
[11,168,11,192,11,223,null,null,null,null,0,111,null,111,{"$f":"COUNTIF($L$7:$L$500,N7)","v":39},{"$f":"O7/$Q$4","v":0.63934426229508201},{"$f":"IF(P7=0,0,(P7*((LOG(P7))/LOG(2))))","v":-0.41259130539876843},null,null,{"$f":"N7","v":111},{"$f":"COUNTIF(L7:L16,T7)","v":6},null,null,null,{"$f":"N7","v":111},{"$f":"COUNTIF(L17:L26,Y7)","v":3},null,null,null,{"$f":"N7","v":111},{"$f":"COUNTIF(L27:L37,AD7)","v":9},null,null,null,{"$f":"N7","v":111},{"$f":"COUNTIF(L38:L47,AI7)","v":7},null,null,null,{"$f":"N7","v":111},{"$f":"COUNTIF(L48:L57,AN7)","v":6},null,null,null,{"$f":"N7","v":111},{"$f":"COUNTIF(L58:L67,AS7)","v":8}]
[11,356,11,372,11,393,null,null,null,null,0,111,null,112,{"$f":"COUNTIF($L$7:$L$500,N8)","v":2},{"$f":"O8/$Q$4","v":3.2786885245901641E-2},{"$f":"IF(P8=0,0,(P8*((LOG(P8))/LOG(2))))","v":-0.16166351926435696},null,null,{"$f":"N8","v":112},{"$f":"COUNTIF(L7:L16,T8)","v":0},{"$f":"U8/(W4-U7)","v":0},{"$f":"IF(V8=0,0,(V8*((LOG(V8))/LOG(2))))","v":0},null,{"$f":"N8","v":112},{"$f":"COUNTIF(L17:L26,Y8)","v":1},{"$f":"Z8/(AB4-Z7)","v":0.14285714285714285},{"$f":"IF(AA8=0,0,(AA8*((LOG(AA8))/LOG(2))))","v":-0.40105070315108626},null,{"$f":"N8","v":112},{"$f":"COUNTIF(L27:L37,AD8)","v":0},{"$f":"AE8/(AG4-AE7)","v":0},{"$f":"IF(AF8=0,0,(AF8*((LOG(AF8))/LOG(2))))","v":0},null,{"$f":"N8","v":112},{"$f":"COUNTIF(L38:L47,AI8)","v":0},{"$f":"AJ8/(AL4-AJ7)","v":0},{"$f":"IF(AK8=0,0,(AK8*((LOG(AK8))/LOG(2))))","v":0},null,{"$f":"N8","v":112},{"$f":"COUNTIF(L48:L57,AN8)","v":0},{"$f":"AO8/(AQ4-AO7)","v":0},{"$f":"IF(AP8=0,0,(AP8*((LOG(AP8))/LOG(2))))","v":0},null,{"$f":"N8","v":112},{"$f":"COUNTIF(L58:L67,AS8)","v":1},{"$f":"AT8/(AV4-AT7)","v":0.5},{"$f":"IF(AU8=0,0,(AU8*((LOG(AU8))/LOG(2))))","v":-0.5}]
[22,568,24,579,13,592,null,null,null,null,0,221,null,121,{"$f":"COUNTIF($L$7:$L$500,N9)","v":4},{"$f":"O9/$Q$4","v":6.5573770491803282E-2},{"$f":"IF(P9=0,0,(P9*((LOG(P9))/LOG(2))))","v":-0.25775326803691057},null,null,{"$f":"N9","v":121},{"$f":"COUNTIF(L7:L16,T9)","v":0},{"$f":"U9/(W4-U7)","v":0},{"$f":"IF(V9=0,0,(V9*((LOG(V9))/LOG(2))))","v":0},null,{"$f":"N9","v":121},{"$f":"COUNTIF(L17:L26,Y9)","v":1},{"$f":"Z9/(AB4-Z7)","v":0.14285714285714285},{"$f":"IF(AA9=0,0,(AA9*((LOG(AA9))/LOG(2))))","v":-0.40105070315108626},null,{"$f":"N9","v":121},{"$f":"COUNTIF(L27:L37,AD9)","v":0},{"$f":"AE9/(AG4-AE7)","v":0},{"$f":"IF(AF9=0,0,(AF9*((LOG(AF9))/LOG(2))))","v":0},null,{"$f":"N9","v":121},{"$f":"COUNTIF(L38:L47,AI9)","v":3},{"$f":"AJ9/(AL4-AJ7)","v":1},{"$f":"IF(AK9=0,0,(AK9*((LOG(AK9))/LOG(2))))","v":0},null,{"$f":"N9","v":121},{"$f":"COUNTIF(L48:L57,AN9)","v":0},{"$f":"AO9/(AQ4-AO7)","v":0},{"$f":"IF(AP9=0,0,(AP9*((LOG(AP9))/LOG(2))))","v":0},null,{"$f":"N9","v":121},{"$f":"COUNTIF(L58:L67,AS9)","v":0},{"$f":"AT9/(AV4-AT7)","v":0},{"$f":"IF(AU9=0,0,(AU9*((LOG(AU9))/LOG(2))))","v":0}]
[22,735,13,749,13,755,null,null,null,null,0,211,null,122,{"$f":"COUNTIF($L$7:$L$500,N10)","v":0},{"$f":"O10/$Q$4","v":0},{"$f":"IF(P10=0,0,(P10*((LOG(P10))/LOG(2))))","v":0},null,null,{"$f":"N10","v":122},{"$f":"COUNTIF(L7:L16,T10)","v":0},{"$f":"U10/(W4-U7)","v":0},{"$f":"IF(V10=0,0,(V10*((LOG(V10))/LOG(2))))","v":0},null,{"$f":"N10","v":122},{"$f":"COUNTIF(L17:L26,Y10)","v":0},{"$f":"Z10/(AB4-Z7)","v":0},{"$f":"IF(AA10=0,0,(AA10*((LOG(AA10))/LOG(2))))","v":0},null,{"$f":"N10","v":122},{"$f":"COUNTIF(L27:L37,AD10)","v":0},{"$f":"AE10/(AG4-AE7)","v":0},{"$f":"IF(AF10=0,0,(AF10*((LOG(AF10))/LOG(2))))","v":0},null,{"$f":"N10","v":122},{"$f":"COUNTIF(L38:L47,AI10)","v":0},{"$f":"AJ10/(AL4-AJ7)","v":0},{"$f":"IF(AK10=0,0,(AK10*((LOG(AK10))/LOG(2))))","v":0},null,{"$f":"N10","v":122},{"$f":"COUNTIF(L48:L57,AN10)","v":0},{"$f":"AO10/(AQ4-AO7)","v":0},{"$f":"IF(AP10=0,0,(AP10*((LOG(AP10))/LOG(2))))","v":0},null,{"$f":"N10","v":122},{"$f":"COUNTIF(L58:L67,AS10)","v":0},{"$f":"AT10/(AV4-AT7)","v":0},{"$f":"IF(AU10=0,0,(AU10*((LOG(AU10))/LOG(2))))","v":0}]
[11,855,11,863,11,870,null,null,null,null,0,111,null,211,{"$f":"COUNTIF($L$7:$L$500,N11)","v":8},{"$f":"O11/$Q$4","v":0.13114754098360656},{"$f":"IF(P11=0,0,(P11*((LOG(P11))/LOG(2))))","v":-0.38435899509021459},null,null,{"$f":"N11","v":211},{"$f":"COUNTIF(L7:L16,T11)","v":1},{"$f":"U11/(W4-U7)","v":0.25},{"$f":"IF(V11=0,0,(V11*((LOG(V11))/LOG(2))))","v":-0.5},null,{"$f":"N11","v":211},{"$f":"COUNTIF(L17:L26,Y11)","v":3},{"$f":"Z11/(AB4-Z7)","v":0.42857142857142855},{"$f":"IF(AA11=0,0,(AA11*((LOG(AA11))/LOG(2))))","v":-0.52388246628704915},null,{"$f":"N11","v":211},{"$f":"COUNTIF(L27:L37,AD11)","v":1},{"$f":"AE11/(AG4-AE7)","v":0.5},{"$f":"IF(AF11=0,0,(AF11*((LOG(AF11))/LOG(2))))","v":-0.5},null,{"$f":"N11","v":211},{"$f":"COUNTIF(L38:L47,AI11)","v":0},{"$f":"AJ11/(AL4-AJ7)","v":0},{"$f":"IF(AK11=0,0,(AK11*((LOG(AK11))/LOG(2))))","v":0},null,{"$f":"N11","v":211},{"$f":"COUNTIF(L48:L57,AN11)","v":2},{"$f":"AO11/(AQ4-AO7)","v":0.5},{"$f":"IF(AP11=0,0,(AP11*((LOG(AP11))/LOG(2))))","v":-0.5},null,{"$f":"N11","v":211},{"$f":"COUNTIF(L58:L67,AS11)","v":1},{"$f":"AT11/(AV4-AT7)","v":0.5},{"$f":"IF(AU11=0,0,(AU11*((LOG(AU11))/LOG(2))))","v":-0.5}]
[22,979,24,983,24,989,null,null,null,null,0,222,null,212,{"$f":"COUNTIF($L$7:$L$500,N12)","v":0},{"$f":"O12/$Q$4","v":0},{"$f":"IF(P12=0,0,(P12*((LOG(P12))/LOG(2))))","v":0},null,null,{"$f":"N12","v":212},{"$f":"COUNTIF(L7:L16,T12)","v":0},{"$f":"U12/(W4-U7)","v":0},{"$f":"IF(V12=0,0,(V12*((LOG(V12))/LOG(2))))","v":0},null,{"$f":"N12","v":212},{"$f":"COUNTIF(L17:L26,Y12)","v":0},{"$f":"Z12/(AB4-Z7)","v":0},{"$f":"IF(AA12=0,0,(AA12*((LOG(AA12))/LOG(2))))","v":0},null,{"$f":"N12","v":212},{"$f":"COUNTIF(L27:L37,AD12)","v":0},{"$f":"AE12/(AG4-AE7)","v":0},{"$f":"IF(AF12=0,0,(AF12*((LOG(AF12))/LOG(2))))","v":0},null,{"$f":"N12","v":212},{"$f":"COUNTIF(L38:L47,AI12)","v":0},{"$f":"AJ12/(AL4-AJ7)","v":0},{"$f":"IF(AK12=0,0,(AK12*((LOG(AK12))/LOG(2))))","v":0},null,{"$f":"N12","v":212},{"$f":"COUNTIF(L48:L57,AN12)","v":0},{"$f":"AO12/(AQ4-AO7)","v":0},{"$f":"IF(AP12=0,0,(AP12*((LOG(AP12))/LOG(2))))","v":0},null,{"$f":"N12","v":212},{"$f":"COUNTIF(L58:L67,AS12)","v":0},{"$f":"AT12/(AV4-AT7)","v":0},{"$f":"IF(AU12=0,0,(AU12*((LOG(AU12))/LOG(2))))","v":0}]
[11,1150,11,1153,11,1173,null,null,null,null,0,111,null,221,{"$f":"COUNTIF($L$7:$L$500,N13)","v":3},{"$f":"O13/$Q$4","v":4.9180327868852458E-2},{"$f":"IF(P13=0,0,(P13*((LOG(P13))/LOG(2))))","v":-0.21372663132008507},null,null,{"$f":"N13","v":221},{"$f":"COUNTIF(L7:L16,T13)","v":1},{"$f":"U13/(W4-U7)","v":0.25},{"$f":"IF(V13=0,0,(V13*((LOG(V13))/LOG(2))))","v":-0.5},null,{"$f":"N13","v":221},{"$f":"COUNTIF(L17:L26,Y13)","v":1},{"$f":"Z13/(AB4-Z7)","v":0.14285714285714285},{"$f":"IF(AA13=0,0,(AA13*((LOG(AA13))/LOG(2))))","v":-0.40105070315108626},null,{"$f":"N13","v":221},{"$f":"COUNTIF(L27:L37,AD13)","v":0},{"$f":"AE13/(AG4-AE7)","v":0},{"$f":"IF(AF13=0,0,(AF13*((LOG(AF13))/LOG(2))))","v":0},null,{"$f":"N13","v":221},{"$f":"COUNTIF(L38:L47,AI13)","v":0},{"$f":"AJ13/(AL4-AJ7)","v":0},{"$f":"IF(AK13=0,0,(AK13*((LOG(AK13))/LOG(2))))","v":0},null,{"$f":"N13","v":221},{"$f":"COUNTIF(L48:L57,AN13)","v":1},{"$f":"AO13/(AQ4-AO7)","v":0.25},{"$f":"IF(AP13=0,0,(AP13*((LOG(AP13))/LOG(2))))","v":-0.5},null,{"$f":"N13","v":221},{"$f":"COUNTIF(L58:L67,AS13)","v":0},{"$f":"AT13/(AV4-AT7)","v":0},{"$f":"IF(AU13=0,0,(AU13*((LOG(AU13))/LOG(2))))","v":0}]
[22,1372,24,1377,24,1382,null,null,null,null,0,222,null,222,{"$f":"COUNTIF($L$7:$L$500,N14)","v":5},{"$f":"O14/$Q$4","v":8.1967213114754092E-2},{"$f":"IF(P14=0,0,(P14*((LOG(P14))/LOG(2))))","v":-0.29580403628487895},null,null,{"$f":"N14","v":222},{"$f":"COUNTIF(L7:L16,T14)","v":2},{"$f":"U14/(W4-U7)","v":0.5},{"$f":"IF(V14=0,0,(V14*((LOG(V14))/LOG(2))))","v":-0.5},null,{"$f":"N14","v":222},{"$f":"COUNTIF(L17:L26,Y14)","v":1},{"$f":"Z14/(AB4-Z7)","v":0.14285714285714285},{"$f":"IF(AA14=0,0,(AA14*((LOG(AA14))/LOG(2))))","v":-0.40105070315108626},null,{"$f":"N14","v":222},{"$f":"COUNTIF(L27:L37,AD14)","v":1},{"$f":"AE14/(AG4-AE7)","v":0.5},{"$f":"IF(AF14=0,0,(AF14*((LOG(AF14))/LOG(2))))","v":-0.5},null,{"$f":"N14","v":222},{"$f":"COUNTIF(L38:L47,AI14)","v":0},{"$f":"AJ14/(AL4-AJ7)","v":0},{"$f":"IF(AK14=0,0,(AK14*((LOG(AK14))/LOG(2))))","v":0},null,{"$f":"N14","v":222},{"$f":"COUNTIF(L48:L57,AN14)","v":1},{"$f":"AO14/(AQ4-AO7)","v":0.25},{"$f":"IF(AP14=0,0,(AP14*((LOG(AP14))/LOG(2))))","v":-0.5},null,{"$f":"N14","v":222},{"$f":"COUNTIF(L58:L67,AS14)","v":0},{"$f":"AT14/(AV4-AT7)","v":0},{"$f":"IF(AU14=0,0,(AU14*((LOG(AU14))/LOG(2))))","v":0}]
[11,1483,11,1493,11,1502,null,null,null,null,0,111,null,null,null,{"$f":"SUM(P7:P14)","v":1.0000000000000002},{"$f":"-SUM(Q7:Q14)","v":1.7258977553952146},null,null,null,null,{"$f":"SUM(V7:V14)","v":1},{"$f":"-SUM(W7:W14)","v":1.5},null,null,null,{"$f":"SUM(AA7:AA14)","v":0.99999999999999978},{"$f":"-SUM(AB7:AB14)","v":2.1280852788913944},null,null,null,{"$f":"SUM(AF7:AF14)","v":1},{"$f":"-SUM(AG7:AG14)","v":1},null,null,null,{"$f":"SUM(AK7:AK14)","v":1},{"$f":"-SUM(AL7:AL14)","v":0},null,null,null,{"$f":"SUM(AP7:AP14)","v":1},{"$f":"-SUM(AQ7:AQ14)","v":1.5},null,null,null,{"$f":"SUM(AU7:AU14)","v":1},{"$f":"-SUM(AV7:AV14)","v":1}]
[11,1741,11,1759,11,1783,null,null,null,null,0,111,null,null,null,"U=",{"$f":"Q15/(LOG(Q4)/LOG(2))","v":0.29100896855844177},null,null,null,null,"U1=",{"$f":"W15/(LOG(W4)/LOG(2))","v":0.45154499349597182},null,null,null,"U2=",{"$f":"AB15/(LOG(AB4)/LOG(2))","v":0.64061750227725867},null,null,null,"U3=",{"$f":"AG15/(LOG(AG4)/LOG(2))","v":0.28906482631788782},null,null,null,"U4=",{"$f":"AL15/(LOG(AL4)/LOG(2))","v":0},null,null,null,"U5=",{"$f":"AQ15/(LOG(AQ4)/LOG(2))","v":0.45154499349597182},null,null,null,"U6=",{"$f":"AV15/(LOG(AV4)/LOG(2))","v":0.3010299956639812}]
[22,1901,24,1918,24,1924,null,null,null,null,0,222]
[22,2073,13,2081,13,2088,null,null,null,null,0,211]
[11,2194,11,2208,11,2210,null,null,null,null,0,111,null,"Total Target Seq"]
[22,2408,13,2413,13,2426,null,null,null,null,0,211,null,{"$f":"COUNTIF(L7:L67,G3)","v":39},null,10,10,11,10,10,10]
[22,2630,13,2641,13,2647,null,null,null,null,0,211,null,null,null,"% of reinforcement given in 6 equal intervals based on number of trials "]
[11,2749,22,2753,13,2770,null,null,null,null,0,121,null,null,null,"%_1","%_2","%_3","%_4","%_5","%_6"]
[11,2879,11,2934,11,2956,null,null,null,null,0,111,null,null,"target sequence",{"$f":"$G$3","v":111},{"$f":"$G$3","v":111},{"$f":"$G$3","v":111},{"$f":"$G$3","v":111},{"$f":"$G$3","v":111},{"$f":"$G$3","v":111}]
[22,3217,24,3220,13,3234,null,null,null,null,0,221,null,null,"total reinforcement",{"$f":"U7","v":6},{"$f":"Z7","v":3},{"$f":"AE7","v":9},{"$f":"AJ7","v":7},{"$f":"AO7","v":6},{"$f":"AT7","v":8}]
[11,3343,11,3362,11,3381,null,null,null,null,0,111,null,null,"% target"]
[11,3585,11,3598,22,3620,null,null,null,null,0,112,null,null,"CCRF"]
[11,3723,11,3743,11,3761,null,null,null,null,0,111,null,null,"% CCRf"]
[22,4062,13,4067,13,4075,null,null,null,null,0,211,null,null,"average response rate",{"$f":"F16/P20","v":178.3},{"$f":"(F26-F16)/Q20","v":183.7},{"$f":"(F37-F26)/R20","v":220},{"$f":"(F47-F37)/S20","v":196.7},{"$f":"(F57-F47)/T20","v":201.9},{"$f":"(F67-F57)/U20","v":206.3}]
[11,4181,11,4200,11,4217,null,null,null,null,0,111]
[11,4415,11,4432,11,4453,null,null,null,null,0,111]
[11,4690,11,4711,11,4729,null,null,null,null,0,111]
[11,4982,11,4999,11,5015,null,null,null,null,0,111]
[11,5223,11,5242,11,5261,null,null,null,null,0,111]
[11,5449,11,5465,11,5542,null,null,null,null,0,111]
[22,5697,24,5703,24,5709,null,null,null,null,0,222]
[11,5807,11,5822,11,5837,null,null,null,null,0,111]
[11,6003,11,6023,11,6040,null,null,null,null,0,111]
[11,6353,11,6371,11,6388,null,null,null,null,0,111]
[11,6628,11,6647,11,6666,null,null,null,null,0,111]
[11,6908,11,6913,11,6915,null,null,null,null,0,111]
[11,7011,11,7027,11,7040,null,null,null,null,0,111]
[11,7211,22,7215,13,7222,null,null,null,null,0,121]
[11,7316,11,7330,11,7344,null,null,null,null,0,111]
[11,7525,22,7551,13,7568,null,null,null,null,0,121]
[11,7662,11,7676,11,7692,null,null,null,null,0,111]
[11,7826,22,7855,13,7873,null,null,null,null,0,121]
[11,7974,11,7989,11,8007,null,null,null,null,0,111]
[11,8141,11,8149,11,8162,null,null,null,null,0,111]
[11,8356,11,8362,11,8365,null,null,null,null,0,111]
[11,8485,11,8504,11,8515,null,null,null,null,0,111]
[22,9070,24,9080,13,9094,null,null,null,null,0,221]
[11,9192,11,9197,11,9200,null,null,null,null,0,111]
[22,9377,13,9382,13,9389,null,null,null,null,0,211]
[22,9491,13,9505,13,9511,null,null,null,null,0,211]
[22,9669,24,9676,24,9681,null,null,null,null,0,222]
[11,9775,11,9782,11,9791,null,null,null,null,0,111]
[11,10016,11,10018,11,10026,null,null,null,null,0,111]
[22,10209,13,10218,13,10225,null,null,null,null,0,211]
[11,10321,11,10341,22,10362,null,null,null,null,0,112]
[11,10456,11,10473,11,10480,null,null,null,null,0,111]
[11,10902,11,10923,11,10931,null,null,null,null,0,111]
[11,11048,11,11061,11,11069,null,null,null,null,0,111]
[11,11252,11,11264,11,11267,null,null,null,null,0,111]
[11,11480,11,11494,11,11507,null,null,null,null,0,111]
[11,11661,11,11675,11,11688,null,null,null,null,0,111]
[11,11896,11,11904,11,11916,null,null,null,null,0,111]
[11,12048,11,12073,11,12089,null,null,null,null,1,111]

{"sheet":"!N12795B.AXT","index":7,"n_rows":50,"n_cols":48,"rows_kept":50,"cut":false,"hidden":false,"merged":[[4,39,4,42],[5,39,5,40],[4,44,4,47],[5,44,5,45],[4,24,4,27],[5,24,5,25],[4,29,4,32],[5,29,5,30],[4,34,4,37],[5,34,5,35],[1,1,1,2],[5,13,5,14],[18,13,18,14],[19,13,19,14],[4,19,4,22],[5,19,5,20]]}
["Report for:!N12795B.AXT"]
["Date:","<date>"]
["Hen:","<hen>",null,null,null,"Correct Sequence",{"$f":"Start!J2","v":111},null,null,null,null,null,null,null,null,"Total Sequences in Data",{"$f":"4994-COUNTBLANK(L7:L5000)","v":44},null,null,null,null,"Total Sequences in Block Data",{"$f":"COUNTA(L7:L13)","v":7},null,null,null,"Total Sequences in Block Data",{"$f":"COUNTA(L14:L21)","v":8},null,null,null,"Total Sequences in Block Data",{"$f":"COUNTA(L22:L28)","v":7},null,null,null,"Total Sequences in Block Data",{"$f":"COUNTA(L29:L35)","v":7},null,null,null,"Total Sequences in Block Data",{"$f":"COUNTA(L36:L43)","v":8},null,null,null,"Total Sequences in Block Data",{"$f":"COUNTA(L44:L50)","v":7}]
[null,null,null,null,null,null,null,null,null,null,null,null,null,null,null,"Total Sequences in Summary",{"$f":"SUM(O7:O14)","v":44},null,null,null,null,"Total Sequences in Block Summary",{"$f":"SUM(U7:U14)","v":7},null,null,null,"Total Sequences in Block Summary",{"$f":"SUM(Z7:Z14)","v":8},null,null,null,"Total Sequences in Block Summary",{"$f":"SUM(AE7:AE14)","v":7},null,null,null,"Total Sequences in Block Summary",{"$f":"SUM(AJ7:AJ14)","v":7},null,null,null,"Total Sequences in Block Summary",{"$f":"SUM(AO7:AO14)","v":8},null,null,null,"Total Sequences in Block Summary",{"$f":"SUM(AT7:AT14)","v":7}]
[null,null,null,null,null,null,null,null,null,null,null,null,null,null,null,null,null,null,null,"Block 1",null,null,null,null,"Block 2",null,null,null,null,"Block 3",null,null,null,null,"Block 4",null,null,null,null,"Block 5",null,null,null,null,"Block 6"]
["Sequence\nComponent\n1","Time\n1","Sequence\nComponent\n2","Time\n2","Sequence\nComponent\n3","Time\n3","Sequence\nComponent\n4","Time\n4","Sequence\nComponent\n5","Time\n5","Correct?\n0=No 1=Yes","Sequence",null,"Frequency",null,"Relative Frequency","Variability",null,null,"Frequency",null,"Relative Frequency","Variability",null,"Frequency",null,"Relative Frequency","Variability",null,"Frequency",null,"Relative Frequency","Variability",null,"Frequency",null,"Relative Frequency","Variability",null,"Frequency",null,"Relative Frequency","Variability",null,"Frequency",null,"Relative Frequency","Variability"]
[11,69,11,91,11,103,null,null,null,null,0,111,null,111,{"$f":"COUNTIF($L$7:$L$500,N7)","v":35},{"$f":"O7/$Q$4","v":0.79545454545454541},{"$f":"IF(P7=0,0,(P7*((LOG(P7))/LOG(2))))","v":-0.26261820589162682},null,null,{"$f":"N7","v":111},{"$f":"COUNTIF(L7:L13,T7)","v":5},null,null,null,{"$f":"N7","v":111},{"$f":"COUNTIF(L14:L21,Y7)","v":7},null,null,null,{"$f":"N7","v":111},{"$f":"COUNTIF(L22:L28,AD7)","v":4},null,null,null,{"$f":"N7","v":111},{"$f":"COUNTIF(L29:L35,AI7)","v":5},null,null,null,{"$f":"N7","v":111},{"$f":"COUNTIF(L36:L43,AN7)","v":8},null,null,null,{"$f":"N7","v":111},{"$f":"COUNTIF(L44:L50,AS7)","v":6}]
[11,246,22,267,13,269,null,null,null,null,0,121,null,112,{"$f":"COUNTIF($L$7:$L$500,N8)","v":1},{"$f":"O8/$Q$4","v":2.2727272727272728E-2},{"$f":"IF(P8=0,0,(P8*((LOG(P8))/LOG(2))))","v":-0.12407799133266585},null,null,{"$f":"N8","v":112},{"$f":"COUNTIF(L7:L13,T8)","v":0},{"$f":"U8/(W4-U7)","v":0},{"$f":"IF(V8=0,0,(V8*((LOG(V8))/LOG(2))))","v":0},null,{"$f":"N8","v":112},{"$f":"COUNTIF(L14:L21,Y8)","v":0},{"$f":"Z8/(AB4-Z7)","v":0},{"$f":"IF(AA8=0,0,(AA8*((LOG(AA8))/LOG(2))))","v":0},null,{"$f":"N8","v":112},{"$f":"COUNTIF(L22:L28,AD8)","v":1},{"$f":"AE8/(AG4-AE7)","v":0.33333333333333331},{"$f":"IF(AF8=0,0,(AF8*((LOG(AF8))/LOG(2))))","v":-0.52832083357371862},null,{"$f":"N8","v":112},{"$f":"COUNTIF(L29:L35,AI8)","v":0},{"$f":"AJ8/(AL4-AJ7)","v":0},{"$f":"IF(AK8=0,0,(AK8*((LOG(AK8))/LOG(2))))","v":0},null,{"$f":"N8","v":112},{"$f":"COUNTIF(L36:L43,AN8)","v":0},{"$f":"AO8/(AQ4-AO7)","v":{"$error":"#DIV/0!"}},{"$f":"IF(AP8=0,0,(AP8*((LOG(AP8))/LOG(2))))","v":{"$error":"#DIV/0!"}},null,{"$f":"N8","v":112},{"$f":"COUNTIF(L44:L50,AS8)","v":0},{"$f":"AT8/(AV4-AT7)","v":0},{"$f":"IF(AU8=0,0,(AU8*((LOG(AU8))/LOG(2))))","v":0}]
[11,379,11,389,11,392,null,null,null,null,0,111,null,121,{"$f":"COUNTIF($L$7:$L$500,N9)","v":2},{"$f":"O9/$Q$4","v":4.5454545454545456E-2},{"$f":"IF(P9=0,0,(P9*((LOG(P9))/LOG(2))))","v":-0.20270143721078623},null,null,{"$f":"N9","v":121},{"$f":"COUNTIF(L7:L13,T9)","v":1},{"$f":"U9/(W4-U7)","v":0.5},{"$f":"IF(V9=0,0,(V9*((LOG(V9))/LOG(2))))","v":-0.5},null,{"$f":"N9","v":121},{"$f":"COUNTIF(L14:L21,Y9)","v":0},{"$f":"Z9/(AB4-Z7)","v":0},{"$f":"IF(AA9=0,0,(AA9*((LOG(AA9))/LOG(2))))","v":0},null,{"$f":"N9","v":121},{"$f":"COUNTIF(L22:L28,AD9)","v":1},{"$f":"AE9/(AG4-AE7)","v":0.33333333333333331},{"$f":"IF(AF9=0,0,(AF9*((LOG(AF9))/LOG(2))))","v":-0.52832083357371862},null,{"$f":"N9","v":121},{"$f":"COUNTIF(L29:L35,AI9)","v":0},{"$f":"AJ9/(AL4-AJ7)","v":0},{"$f":"IF(AK9=0,0,(AK9*((LOG(AK9))/LOG(2))))","v":0},null,{"$f":"N9","v":121},{"$f":"COUNTIF(L36:L43,AN9)","v":0},{"$f":"AO9/(AQ4-AO7)","v":{"$error":"#DIV/0!"}},{"$f":"IF(AP9=0,0,(AP9*((LOG(AP9))/LOG(2))))","v":{"$error":"#DIV/0!"}},null,{"$f":"N9","v":121},{"$f":"COUNTIF(L44:L50,AS9)","v":0},{"$f":"AT9/(AV4-AT7)","v":0},{"$f":"IF(AU9=0,0,(AU9*((LOG(AU9))/LOG(2))))","v":0}]
[11,588,11,590,11,619,null,null,null,null,0,111,null,122,{"$f":"COUNTIF($L$7:$L$500,N10)","v":0},{"$f":"O10/$Q$4","v":0},{"$f":"IF(P10=0,0,(P10*((LOG(P10))/LOG(2))))","v":0},null,null,{"$f":"N10","v":122},{"$f":"COUNTIF(L7:L13,T10)","v":0},{"$f":"U10/(W4-U7)","v":0},{"$f":"IF(V10=0,0,(V10*((LOG(V10))/LOG(2))))","v":0},null,{"$f":"N10","v":122},{"$f":"COUNTIF(L14:L21,Y10)","v":0},{"$f":"Z10/(AB4-Z7)","v":0},{"$f":"IF(AA10=0,0,(AA10*((LOG(AA10))/LOG(2))))","v":0},null,{"$f":"N10","v":122},{"$f":"COUNTIF(L22:L28,AD10)","v":0},{"$f":"AE10/(AG4-AE7)","v":0},{"$f":"IF(AF10=0,0,(AF10*((LOG(AF10))/LOG(2))))","v":0},null,{"$f":"N10","v":122},{"$f":"COUNTIF(L29:L35,AI10)","v":0},{"$f":"AJ10/(AL4-AJ7)","v":0},{"$f":"IF(AK10=0,0,(AK10*((LOG(AK10))/LOG(2))))","v":0},null,{"$f":"N10","v":122},{"$f":"COUNTIF(L36:L43,AN10)","v":0},{"$f":"AO10/(AQ4-AO7)","v":{"$error":"#DIV/0!"}},{"$f":"IF(AP10=0,0,(AP10*((LOG(AP10))/LOG(2))))","v":{"$error":"#DIV/0!"}},null,{"$f":"N10","v":122},{"$f":"COUNTIF(L44:L50,AS10)","v":0},{"$f":"AT10/(AV4-AT7)","v":0},{"$f":"IF(AU10=0,0,(AU10*((LOG(AU10))/LOG(2))))","v":0}]
[11,714,11,737,11,744,null,null,null,null,0,111,null,211,{"$f":"COUNTIF($L$7:$L$500,N11)","v":1},{"$f":"O11/$Q$4","v":2.2727272727272728E-2},{"$f":"IF(P11=0,0,(P11*((LOG(P11))/LOG(2))))","v":-0.12407799133266585},null,null,{"$f":"N11","v":211},{"$f":"COUNTIF(L7:L13,T11)","v":0},{"$f":"U11/(W4-U7)","v":0},{"$f":"IF(V11=0,0,(V11*((LOG(V11))/LOG(2))))","v":0},null,{"$f":"N11","v":211},{"$f":"COUNTIF(L14:L21,Y11)","v":0},{"$f":"Z11/(AB4-Z7)","v":0},{"$f":"IF(AA11=0,0,(AA11*((LOG(AA11))/LOG(2))))","v":0},null,{"$f":"N11","v":211},{"$f":"COUNTIF(L22:L28,AD11)","v":0},{"$f":"AE11/(AG4-AE7)","v":0},{"$f":"IF(AF11=0,0,(AF11*((LOG(AF11))/LOG(2))))","v":0},null,{"$f":"N11","v":211},{"$f":"COUNTIF(L29:L35,AI11)","v":1},{"$f":"AJ11/(AL4-AJ7)","v":0.5},{"$f":"IF(AK11=0,0,(AK11*((LOG(AK11))/LOG(2))))","v":-0.5},null,{"$f":"N11","v":211},{"$f":"COUNTIF(L36:L43,AN11)","v":0},{"$f":"AO11/(AQ4-AO7)","v":{"$error":"#DIV/0!"}},{"$f":"IF(AP11=0,0,(AP11*((LOG(AP11))/LOG(2))))","v":{"$error":"#DIV/0!"}},null,{"$f":"N11","v":211},{"$f":"COUNTIF(L44:L50,AS11)","v":0},{"$f":"AT11/(AV4-AT7)","v":0},{"$f":"IF(AU11=0,0,(AU11*((LOG(AU11))/LOG(2))))","v":0}]
[11,857,11,863,11,865,null,null,null,null,0,111,null,212,{"$f":"COUNTIF($L$7:$L$500,N12)","v":0},{"$f":"O12/$Q$4","v":0},{"$f":"IF(P12=0,0,(P12*((LOG(P12))/LOG(2))))","v":0},null,null,{"$f":"N12","v":212},{"$f":"COUNTIF(L7:L13,T12)","v":0},{"$f":"U12/(W4-U7)","v":0},{"$f":"IF(V12=0,0,(V12*((LOG(V12))/LOG(2))))","v":0},null,{"$f":"N12","v":212},{"$f":"COUNTIF(L14:L21,Y12)","v":0},{"$f":"Z12/(AB4-Z7)","v":0},{"$f":"IF(AA12=0,0,(AA12*((LOG(AA12))/LOG(2))))","v":0},null,{"$f":"N12","v":212},{"$f":"COUNTIF(L22:L28,AD12)","v":0},{"$f":"AE12/(AG4-AE7)","v":0},{"$f":"IF(AF12=0,0,(AF12*((LOG(AF12))/LOG(2))))","v":0},null,{"$f":"N12","v":212},{"$f":"COUNTIF(L29:L35,AI12)","v":0},{"$f":"AJ12/(AL4-AJ7)","v":0},{"$f":"IF(AK12=0,0,(AK12*((LOG(AK12))/LOG(2))))","v":0},null,{"$f":"N12","v":212},{"$f":"COUNTIF(L36:L43,AN12)","v":0},{"$f":"AO12/(AQ4-AO7)","v":{"$error":"#DIV/0!"}},{"$f":"IF(AP12=0,0,(AP12*((LOG(AP12))/LOG(2))))","v":{"$error":"#DIV/0!"}},null,{"$f":"N12","v":212},{"$f":"COUNTIF(L44:L50,AS12)","v":0},{"$f":"AT12/(AV4-AT7)","v":0},{"$f":"IF(AU12=0,0,(AU12*((LOG(AU12))/LOG(2))))","v":0}]
[22,1255,24,1261,13,1276,null,null,null,null,0,221,null,221,{"$f":"COUNTIF($L$7:$L$500,N13)","v":5},{"$f":"O13/$Q$4","v":0.11363636363636363},{"$f":"IF(P13=0,0,(P13*((LOG(P13))/LOG(2))))","v":-0.35653449133521992},null,null,{"$f":"N13","v":221},{"$f":"COUNTIF(L7:L13,T13)","v":1},{"$f":"U13/(W4-U7)","v":0.5},{"$f":"IF(V13=0,0,(V13*((LOG(V13))/LOG(2))))","v":-0.5},null,{"$f":"N13","v":221},{"$f":"COUNTIF(L14:L21,Y13)","v":1},{"$f":"Z13/(AB4-Z7)","v":1},{"$f":"IF(AA13=0,0,(AA13*((LOG(AA13))/LOG(2))))","v":0},null,{"$f":"N13","v":221},{"$f":"COUNTIF(L22:L28,AD13)","v":1},{"$f":"AE13/(AG4-AE7)","v":0.33333333333333331},{"$f":"IF(AF13=0,0,(AF13*((LOG(AF13))/LOG(2))))","v":-0.52832083357371862},null,{"$f":"N13","v":221},{"$f":"COUNTIF(L29:L35,AI13)","v":1},{"$f":"AJ13/(AL4-AJ7)","v":0.5},{"$f":"IF(AK13=0,0,(AK13*((LOG(AK13))/LOG(2))))","v":-0.5},null,{"$f":"N13","v":221},{"$f":"COUNTIF(L36:L43,AN13)","v":0},{"$f":"AO13/(AQ4-AO7)","v":{"$error":"#DIV/0!"}},{"$f":"IF(AP13=0,0,(AP13*((LOG(AP13))/LOG(2))))","v":{"$error":"#DIV/0!"}},null,{"$f":"N13","v":221},{"$f":"COUNTIF(L44:L50,AS13)","v":1},{"$f":"AT13/(AV4-AT7)","v":1},{"$f":"IF(AU13=0,0,(AU13*((LOG(AU13))/LOG(2))))","v":0}]
[11,1375,11,1383,11,1386,null,null,null,null,0,111,null,222,{"$f":"COUNTIF($L$7:$L$500,N14)","v":0},{"$f":"O14/$Q$4","v":0},{"$f":"IF(P14=0,0,(P14*((LOG(P14))/LOG(2))))","v":0},null,null,{"$f":"N14","v":222},{"$f":"COUNTIF(L7:L13,T14)","v":0},{"$f":"U14/(W4-U7)","v":0},{"$f":"IF(V14=0,0,(V14*((LOG(V14))/LOG(2))))","v":0},null,{"$f":"N14","v":222},{"$f":"COUNTIF(L14:L21,Y14)","v":0},{"$f":"Z14/(AB4-Z7)","v":0},{"$f":"IF(AA14=0,0,(AA14*((LOG(AA14))/LOG(2))))","v":0},null,{"$f":"N14","v":222},{"$f":"COUNTIF(L22:L28,AD14)","v":0},{"$f":"AE14/(AG4-AE7)","v":0},{"$f":"IF(AF14=0,0,(AF14*((LOG(AF14))/LOG(2))))","v":0},null,{"$f":"N14","v":222},{"$f":"COUNTIF(L29:L35,AI14)","v":0},{"$f":"AJ14/(AL4-AJ7)","v":0},{"$f":"IF(AK14=0,0,(AK14*((LOG(AK14))/LOG(2))))","v":0},null,{"$f":"N14","v":222},{"$f":"COUNTIF(L36:L43,AN14)","v":0},{"$f":"AO14/(AQ4-AO7)","v":{"$error":"#DIV/0!"}},{"$f":"IF(AP14=0,0,(AP14*((LOG(AP14))/LOG(2))))","v":{"$error":"#DIV/0!"}},null,{"$f":"N14","v":222},{"$f":"COUNTIF(L44:L50,AS14)","v":0},{"$f":"AT14/(AV4-AT7)","v":0},{"$f":"IF(AU14=0,0,(AU14*((LOG(AU14))/LOG(2))))","v":0}]
[11,1704,11,1710,11,1718,null,null,null,null,0,111,null,null,null,{"$f":"SUM(P7:P14)","v":0.99999999999999989},{"$f":"-SUM(Q7:Q14)","v":1.0700101171029646},null,null,null,null,{"$f":"SUM(V7:V14)","v":1},{"$f":"-SUM(W7:W14)","v":1},null,null,null,{"$f":"SUM(AA7:AA14)","v":1},{"$f":"-SUM(AB7:AB14)","v":0},null,null,null,{"$f":"SUM(AF7:AF14)","v":1},{"$f":"-SUM(AG7:AG14)","v":1.5849625007211559},null,null,null,{"$f":"SUM(AK7:AK14)","v":1},{"$f":"-SUM(AL7:AL14)","v":1},null,null,null,{"$f":"SUM(AP7:AP14)","v":{"$error":"#DIV/0!"}},{"$f":"-SUM(AQ7:AQ14)","v":{"$error":"#DIV/0!"}},null,null,null,{"$f":"SUM(AU7:AU14)","v":1},{"$f":"-SUM(AV7:AV14)","v":0}]
[11,1967,11,1974,11,1976,null,null,null,null,0,111,null,null,null,"U=",{"$f":"Q15/(LOG(Q4)/LOG(2))","v":0.19599295161975941},null,null,null,null,"U1=",{"$f":"W15/(LOG(W4)/LOG(2))","v":0.35620718710802218},null,null,null,"U2=",{"$f":"AB15/(LOG(AB4)/LOG(2))","v":0},null,null,null,"U3=",{"$f":"AG15/(LOG(AG4)/LOG(2))","v":0.56457503405357945},null,null,null,"U4=",{"$f":"AL15/(LOG(AL4)/LOG(2))","v":0.35620718710802218},null,null,null,"U5=",{"$f":"AQ15/(LOG(AQ4)/LOG(2))","v":{"$error":"#DIV/0!"}},null,null,null,"U6=",{"$f":"AV15/(LOG(AV4)/LOG(2))","v":0}]
[11,2166,11,2182,11,2193,null,null,null,null,0,111]
[22,2544,24,2556,13,2561,null,null,null,null,0,221]
[11,2666,11,2680,11,2687,null,null,null,null,0,111,null,"Total Target Seq"]
[11,2933,11,2943,11,2995,null,null,null,null,0,111,null,{"$f":"COUNTIF(L7:L50,G3)","v":35},null,7,8,7,7,8,7]
[11,3144,11,3153,11,3169,null,null,null,null,0,111,null,null,null,"% of reinforcement given in 6 equal intervals based on number of trials "]
[11,3484,11,3501,11,3533,null,null,null,null,0,111,null,null,null,"%_1","%_2","%_3","%_4","%_5","%_6"]
[11,3705,11,3723,11,3742,null,null,null,null,0,111,null,null,"target sequence",{"$f":"$G$3","v":111},{"$f":"$G$3","v":111},{"$f":"$G$3","v":111},{"$f":"$G$3","v":111},{"$f":"$G$3","v":111},{"$f":"$G$3","v":111}]
[11,3931,11,3947,11,3962,null,null,null,null,0,111,null,null,"total reinforcement",{"$f":"U7","v":5},{"$f":"Z7","v":7},{"$f":"AE7","v":4},{"$f":"AJ7","v":5},{"$f":"AO7","v":8},{"$f":"AT7","v":6}]
[11,4106,11,4160,22,4206,null,null,null,null,0,112,null,null,"% target"]
[11,4305,11,4336,11,4354,null,null,null,null,0,111,null,null,"CCRF"]
[11,4560,22,4689,13,4703,null,null,null,null,0,121,null,null,"% CCRf"]
[22,4852,24,4863,13,4871,null,null,null,null,0,221,null,null,"average response rate",{"$f":"F13/P20","v":182.28571428571428},{"$f":"(F21-F13)/Q20","v":236.625},{"$f":"(F28-F21)/R20","v":243.14285714285714},{"$f":"(F35-F28)/S20","v":151.14285714285714},{"$f":"(F43-F35)/T20","v":213.375},{"$f":"(F50-F43)/U20","v":227.57142857142858}]
[11,5001,11,5007,11,5010,null,null,null,null,0,111]
[11,5144,11,5151,11,5159,null,null,null,null,0,111]
[11,5251,11,5255,11,5274,null,null,null,null,0,111]
[22,5475,13,5483,13,5487,null,null,null,null,0,211]
[11,5592,11,5610,11,5614,null,null,null,null,0,111]
[11,5751,11,5767,11,5786,null,null,null,null,0,111]
[22,5892,24,5896,13,5929,null,null,null,null,0,221]
[11,6034,11,6061,11,6078,null,null,null,null,0,111]
[11,6268,11,6286,11,6306,null,null,null,null,0,111]
[11,6481,11,6501,11,6520,null,null,null,null,0,111]
[11,6656,11,6679,11,6699,null,null,null,null,0,111]
[11,6990,11,7005,11,7022,null,null,null,null,0,111]
[11,7210,11,7233,11,7254,null,null,null,null,0,111]
[11,7371,11,7390,11,7405,null,null,null,null,0,111]
[11,7597,11,7617,11,7636,null,null,null,null,0,111]
[11,7899,11,7916,11,7931,null,null,null,null,0,111]
[11,8082,11,8108,11,8131,null,null,null,null,0,111]
[11,8439,11,8459,11,8476,null,null,null,null,0,111]
[22,8626,24,8630,13,8655,null,null,null,null,0,221]
[11,8750,11,8763,11,8777,null,null,null,null,0,111]
[11,8979,11,9008,11,9028,null,null,null,null,0,111]
[11,9220,11,9226,11,9229,null,null,null,null,0,111]

{"sheet":"!N12891B.AXT","index":8,"n_rows":52,"n_cols":48,"rows_kept":52,"cut":false,"hidden":false,"merged":[[4,39,4,42],[5,39,5,40],[4,44,4,47],[5,44,5,45],[4,24,4,27],[5,24,5,25],[4,29,4,32],[5,29,5,30],[4,34,4,37],[5,34,5,35],[1,1,1,2],[5,13,5,14],[18,13,18,14],[19,13,19,14],[4,19,4,22],[5,19,5,20]]}
["Report for:!N12891B.AXT"]
["Date:","<date>"]
["Hen:","<hen>",null,null,null,"Correct Sequence",{"$f":"Start!J2","v":111},null,null,null,null,null,null,null,null,"Total Sequences in Data",{"$f":"4994-COUNTBLANK(L7:L5000)","v":46},null,null,null,null,"Total Sequences in Block Data",{"$f":"COUNTA(L7:L14)","v":8},null,null,null,"Total Sequences in Block Data",{"$f":"COUNTA(L15:L21)","v":7},null,null,null,"Total Sequences in Block Data",{"$f":"COUNTA(L22:L29)","v":8},null,null,null,"Total Sequences in Block Data",{"$f":"COUNTA(L30:L37)","v":8},null,null,null,"Total Sequences in Block Data",{"$f":"COUNTA(L38:L44)","v":7},null,null,null,"Total Sequences in Block Data",{"$f":"COUNTA(L45:L52)","v":8}]
[null,null,null,null,null,null,null,null,null,null,null,null,null,null,null,"Total Sequences in Summary",{"$f":"SUM(O7:O14)","v":46},null,null,null,null,"Total Sequences in Block Summary",{"$f":"SUM(U7:U14)","v":8},null,null,null,"Total Sequences in Block Summary",{"$f":"SUM(Z7:Z14)","v":7},null,null,null,"Total Sequences in Block Summary",{"$f":"SUM(AE7:AE14)","v":8},null,null,null,"Total Sequences in Block Summary",{"$f":"SUM(AJ7:AJ14)","v":8},null,null,null,"Total Sequences in Block Summary",{"$f":"SUM(AO7:AO14)","v":7},null,null,null,"Total Sequences in Block Summary",{"$f":"SUM(AT7:AT14)","v":8}]
[null,null,null,null,null,null,null,null,null,null,null,null,null,null,null,null,null,null,null,"Block 1",null,null,null,null,"Block 2",null,null,null,null,"Block 3",null,null,null,null,"Block 4",null,null,null,null,"Block 5",null,null,null,null,"Block 6"]
["Sequence\nComponent\n1","Time\n1","Sequence\nComponent\n2","Time\n2","Sequence\nComponent\n3","Time\n3","Sequence\nComponent\n4","Time\n4","Sequence\nComponent\n5","Time\n5","Correct?\n0=No 1=Yes","Sequence",null,"Frequency",null,"Relative Frequency","Variability",null,null,"Frequency",null,"Relative Frequency","Variability",null,"Frequency",null,"Relative Frequency","Variability",null,"Frequency",null,"Relative Frequency","Variability",null,"Frequency",null,"Relative Frequency","Variability",null,"Frequency",null,"Relative Frequency","Variability",null,"Frequency",null,"Relative Frequency","Variability"]
[11,90,11,108,22,112,null,null,null,null,0,112,null,111,{"$f":"COUNTIF($L$7:$L$500,N7)","v":40},{"$f":"O7/$Q$4","v":0.86956521739130432},{"$f":"IF(P7=0,0,(P7*((LOG(P7))/LOG(2))))","v":-0.17533379232143528},null,null,{"$f":"N7","v":111},{"$f":"COUNTIF(L7:L14,T7)","v":6},null,null,null,{"$f":"N7","v":111},{"$f":"COUNTIF(L15:L21,Y7)","v":7},null,null,null,{"$f":"N7","v":111},{"$f":"COUNTIF(L22:L29,AD7)","v":6},null,null,null,{"$f":"N7","v":111},{"$f":"COUNTIF(L30:L37,AI7)","v":8},null,null,null,{"$f":"N7","v":111},{"$f":"COUNTIF(L38:L44,AN7)","v":7},null,null,null,{"$f":"N7","v":111},{"$f":"COUNTIF(L45:L52,AS7)","v":6}]
[11,223,11,227,11,236,null,null,null,null,0,111,null,112,{"$f":"COUNTIF($L$7:$L$500,N8)","v":2},{"$f":"O8/$Q$4","v":4.3478260869565216E-2},{"$f":"IF(P8=0,0,(P8*((LOG(P8))/LOG(2))))","v":-0.19667660678508753},null,null,{"$f":"N8","v":112},{"$f":"COUNTIF(L7:L14,T8)","v":1},{"$f":"U8/(W4-U7)","v":0.5},{"$f":"IF(V8=0,0,(V8*((LOG(V8))/LOG(2))))","v":-0.5},null,{"$f":"N8","v":112},{"$f":"COUNTIF(L15:L21,Y8)","v":0},{"$f":"Z8/(AB4-Z7)","v":{"$error":"#DIV/0!"}},{"$f":"IF(AA8=0,0,(AA8*((LOG(AA8))/LOG(2))))","v":{"$error":"#DIV/0!"}},null,{"$f":"N8","v":112},{"$f":"COUNTIF(L22:L29,AD8)","v":0},{"$f":"AE8/(AG4-AE7)","v":0},{"$f":"IF(AF8=0,0,(AF8*((LOG(AF8))/LOG(2))))","v":0},null,{"$f":"N8","v":112},{"$f":"COUNTIF(L30:L37,AI8)","v":0},{"$f":"AJ8/(AL4-AJ7)","v":{"$error":"#DIV/0!"}},{"$f":"IF(AK8=0,0,(AK8*((LOG(AK8))/LOG(2))))","v":{"$error":"#DIV/0!"}},null,{"$f":"N8","v":112},{"$f":"COUNTIF(L38:L44,AN8)","v":0},{"$f":"AO8/(AQ4-AO7)","v":{"$error":"#DIV/0!"}},{"$f":"IF(AP8=0,0,(AP8*((LOG(AP8))/LOG(2))))","v":{"$error":"#DIV/0!"}},null,{"$f":"N8","v":112},{"$f":"COUNTIF(L45:L52,AS8)","v":1},{"$f":"AT8/(AV4-AT7)","v":0.5},{"$f":"IF(AU8=0,0,(AU8*((LOG(AU8))/LOG(2))))","v":-0.5}]
[11,511,11,515,11,517,null,null,null,null,0,111,null,121,{"$f":"COUNTIF($L$7:$L$500,N9)","v":0},{"$f":"O9/$Q$4","v":0},{"$f":"IF(P9=0,0,(P9*((LOG(P9))/LOG(2))))","v":0},null,null,{"$f":"N9","v":121},{"$f":"COUNTIF(L7:L14,T9)","v":0},{"$f":"U9/(W4-U7)","v":0},{"$f":"IF(V9=0,0,(V9*((LOG(V9))/LOG(2))))","v":0},null,{"$f":"N9","v":121},{"$f":"COUNTIF(L15:L21,Y9)","v":0},{"$f":"Z9/(AB4-Z7)","v":{"$error":"#DIV/0!"}},{"$f":"IF(AA9=0,0,(AA9*((LOG(AA9))/LOG(2))))","v":{"$error":"#DIV/0!"}},null,{"$f":"N9","v":121},{"$f":"COUNTIF(L22:L29,AD9)","v":0},{"$f":"AE9/(AG4-AE7)","v":0},{"$f":"IF(AF9=0,0,(AF9*((LOG(AF9))/LOG(2))))","v":0},null,{"$f":"N9","v":121},{"$f":"COUNTIF(L30:L37,AI9)","v":0},{"$f":"AJ9/(AL4-AJ7)","v":{"$error":"#DIV/0!"}},{"$f":"IF(AK9=0,0,(AK9*((LOG(AK9))/LOG(2))))","v":{"$error":"#DIV/0!"}},null,{"$f":"N9","v":121},{"$f":"COUNTIF(L38:L44,AN9)","v":0},{"$f":"AO9/(AQ4-AO7)","v":{"$error":"#DIV/0!"}},{"$f":"IF(AP9=0,0,(AP9*((LOG(AP9))/LOG(2))))","v":{"$error":"#DIV/0!"}},null,{"$f":"N9","v":121},{"$f":"COUNTIF(L45:L52,AS9)","v":0},{"$f":"AT9/(AV4-AT7)","v":0},{"$f":"IF(AU9=0,0,(AU9*((LOG(AU9))/LOG(2))))","v":0}]
[11,609,11,616,11,628,null,null,null,null,0,111,null,122,{"$f":"COUNTIF($L$7:$L$500,N10)","v":0},{"$f":"O10/$Q$4","v":0},{"$f":"IF(P10=0,0,(P10*((LOG(P10))/LOG(2))))","v":0},null,null,{"$f":"N10","v":122},{"$f":"COUNTIF(L7:L14,T10)","v":0},{"$f":"U10/(W4-U7)","v":0},{"$f":"IF(V10=0,0,(V10*((LOG(V10))/LOG(2))))","v":0},null,{"$f":"N10","v":122},{"$f":"COUNTIF(L15:L21,Y10)","v":0},{"$f":"Z10/(AB4-Z7)","v":{"$error":"#DIV/0!"}},{"$f":"IF(AA10=0,0,(AA10*((LOG(AA10))/LOG(2))))","v":{"$error":"#DIV/0!"}},null,{"$f":"N10","v":122},{"$f":"COUNTIF(L22:L29,AD10)","v":0},{"$f":"AE10/(AG4-AE7)","v":0},{"$f":"IF(AF10=0,0,(AF10*((LOG(AF10))/LOG(2))))","v":0},null,{"$f":"N10","v":122},{"$f":"COUNTIF(L30:L37,AI10)","v":0},{"$f":"AJ10/(AL4-AJ7)","v":{"$error":"#DIV/0!"}},{"$f":"IF(AK10=0,0,(AK10*((LOG(AK10))/LOG(2))))","v":{"$error":"#DIV/0!"}},null,{"$f":"N10","v":122},{"$f":"COUNTIF(L38:L44,AN10)","v":0},{"$f":"AO10/(AQ4-AO7)","v":{"$error":"#DIV/0!"}},{"$f":"IF(AP10=0,0,(AP10*((LOG(AP10))/LOG(2))))","v":{"$error":"#DIV/0!"}},null,{"$f":"N10","v":122},{"$f":"COUNTIF(L45:L52,AS10)","v":0},{"$f":"AT10/(AV4-AT7)","v":0},{"$f":"IF(AU10=0,0,(AU10*((LOG(AU10))/LOG(2))))","v":0}]
[11,758,11,767,11,791,null,null,null,null,0,111,null,211,{"$f":"COUNTIF($L$7:$L$500,N11)","v":4},{"$f":"O11/$Q$4","v":8.6956521739130432E-2},{"$f":"IF(P11=0,0,(P11*((LOG(P11))/LOG(2))))","v":-0.30639669183104457},null,null,{"$f":"N11","v":211},{"$f":"COUNTIF(L7:L14,T11)","v":1},{"$f":"U11/(W4-U7)","v":0.5},{"$f":"IF(V11=0,0,(V11*((LOG(V11))/LOG(2))))","v":-0.5},null,{"$f":"N11","v":211},{"$f":"COUNTIF(L15:L21,Y11)","v":0},{"$f":"Z11/(AB4-Z7)","v":{"$error":"#DIV/0!"}},{"$f":"IF(AA11=0,0,(AA11*((LOG(AA11))/LOG(2))))","v":{"$error":"#DIV/0!"}},null,{"$f":"N11","v":211},{"$f":"COUNTIF(L22:L29,AD11)","v":2},{"$f":"AE11/(AG4-AE7)","v":1},{"$f":"IF(AF11=0,0,(AF11*((LOG(AF11))/LOG(2))))","v":0},null,{"$f":"N11","v":211},{"$f":"COUNTIF(L30:L37,AI11)","v":0},{"$f":"AJ11/(AL4-AJ7)","v":{"$error":"#DIV/0!"}},{"$f":"IF(AK11=0,0,(AK11*((LOG(AK11))/LOG(2))))","v":{"$error":"#DIV/0!"}},null,{"$f":"N11","v":211},{"$f":"COUNTIF(L38:L44,AN11)","v":0},{"$f":"AO11/(AQ4-AO7)","v":{"$error":"#DIV/0!"}},{"$f":"IF(AP11=0,0,(AP11*((LOG(AP11))/LOG(2))))","v":{"$error":"#DIV/0!"}},null,{"$f":"N11","v":211},{"$f":"COUNTIF(L45:L52,AS11)","v":1},{"$f":"AT11/(AV4-AT7)","v":0.5},{"$f":"IF(AU11=0,0,(AU11*((LOG(AU11))/LOG(2))))","v":-0.5}]
[22,887,13,893,13,895,null,null,null,null,0,211,null,212,{"$f":"COUNTIF($L$7:$L$500,N12)","v":0},{"$f":"O12/$Q$4","v":0},{"$f":"IF(P12=0,0,(P12*((LOG(P12))/LOG(2))))","v":0},null,null,{"$f":"N12","v":212},{"$f":"COUNTIF(L7:L14,T12)","v":0},{"$f":"U12/(W4-U7)","v":0},{"$f":"IF(V12=0,0,(V12*((LOG(V12))/LOG(2))))","v":0},null,{"$f":"N12","v":212},{"$f":"COUNTIF(L15:L21,Y12)","v":0},{"$f":"Z12/(AB4-Z7)","v":{"$error":"#DIV/0!"}},{"$f":"IF(AA12=0,0,(AA12*((LOG(AA12))/LOG(2))))","v":{"$error":"#DIV/0!"}},null,{"$f":"N12","v":212},{"$f":"COUNTIF(L22:L29,AD12)","v":0},{"$f":"AE12/(AG4-AE7)","v":0},{"$f":"IF(AF12=0,0,(AF12*((LOG(AF12))/LOG(2))))","v":0},null,{"$f":"N12","v":212},{"$f":"COUNTIF(L30:L37,AI12)","v":0},{"$f":"AJ12/(AL4-AJ7)","v":{"$error":"#DIV/0!"}},{"$f":"IF(AK12=0,0,(AK12*((LOG(AK12))/LOG(2))))","v":{"$error":"#DIV/0!"}},null,{"$f":"N12","v":212},{"$f":"COUNTIF(L38:L44,AN12)","v":0},{"$f":"AO12/(AQ4-AO7)","v":{"$error":"#DIV/0!"}},{"$f":"IF(AP12=0,0,(AP12*((LOG(AP12))/LOG(2))))","v":{"$error":"#DIV/0!"}},null,{"$f":"N12","v":212},{"$f":"COUNTIF(L45:L52,AS12)","v":0},{"$f":"AT12/(AV4-AT7)","v":0},{"$f":"IF(AU12=0,0,(AU12*((LOG(AU12))/LOG(2))))","v":0}]
[11,994,11,1010,11,1024,null,null,null,null,0,111,null,221,{"$f":"COUNTIF($L$7:$L$500,N13)","v":0},{"$f":"O13/$Q$4","v":0},{"$f":"IF(P13=0,0,(P13*((LOG(P13))/LOG(2))))","v":0},null,null,{"$f":"N13","v":221},{"$f":"COUNTIF(L7:L14,T13)","v":0},{"$f":"U13/(W4-U7)","v":0},{"$f":"IF(V13=0,0,(V13*((LOG(V13))/LOG(2))))","v":0},null,{"$f":"N13","v":221},{"$f":"COUNTIF(L15:L21,Y13)","v":0},{"$f":"Z13/(AB4-Z7)","v":{"$error":"#DIV/0!"}},{"$f":"IF(AA13=0,0,(AA13*((LOG(AA13))/LOG(2))))","v":{"$error":"#DIV/0!"}},null,{"$f":"N13","v":221},{"$f":"COUNTIF(L22:L29,AD13)","v":0},{"$f":"AE13/(AG4-AE7)","v":0},{"$f":"IF(AF13=0,0,(AF13*((LOG(AF13))/LOG(2))))","v":0},null,{"$f":"N13","v":221},{"$f":"COUNTIF(L30:L37,AI13)","v":0},{"$f":"AJ13/(AL4-AJ7)","v":{"$error":"#DIV/0!"}},{"$f":"IF(AK13=0,0,(AK13*((LOG(AK13))/LOG(2))))","v":{"$error":"#DIV/0!"}},null,{"$f":"N13","v":221},{"$f":"COUNTIF(L38:L44,AN13)","v":0},{"$f":"AO13/(AQ4-AO7)","v":{"$error":"#DIV/0!"}},{"$f":"IF(AP13=0,0,(AP13*((LOG(AP13))/LOG(2))))","v":{"$error":"#DIV/0!"}},null,{"$f":"N13","v":221},{"$f":"COUNTIF(L45:L52,AS13)","v":0},{"$f":"AT13/(AV4-AT7)","v":0},{"$f":"IF(AU13=0,0,(AU13*((LOG(AU13))/LOG(2))))","v":0}]
[11,1156,11,1175,11,1194,null,null,null,null,0,111,null,222,{"$f":"COUNTIF($L$7:$L$500,N14)","v":0},{"$f":"O14/$Q$4","v":0},{"$f":"IF(P14=0,0,(P14*((LOG(P14))/LOG(2))))","v":0},null,null,{"$f":"N14","v":222},{"$f":"COUNTIF(L7:L14,T14)","v":0},{"$f":"U14/(W4-U7)","v":0},{"$f":"IF(V14=0,0,(V14*((LOG(V14))/LOG(2))))","v":0},null,{"$f":"N14","v":222},{"$f":"COUNTIF(L15:L21,Y14)","v":0},{"$f":"Z14/(AB4-Z7)","v":{"$error":"#DIV/0!"}},{"$f":"IF(AA14=0,0,(AA14*((LOG(AA14))/LOG(2))))","v":{"$error":"#DIV/0!"}},null,{"$f":"N14","v":222},{"$f":"COUNTIF(L22:L29,AD14)","v":0},{"$f":"AE14/(AG4-AE7)","v":0},{"$f":"IF(AF14=0,0,(AF14*((LOG(AF14))/LOG(2))))","v":0},null,{"$f":"N14","v":222},{"$f":"COUNTIF(L30:L37,AI14)","v":0},{"$f":"AJ14/(AL4-AJ7)","v":{"$error":"#DIV/0!"}},{"$f":"IF(AK14=0,0,(AK14*((LOG(AK14))/LOG(2))))","v":{"$error":"#DIV/0!"}},null,{"$f":"N14","v":222},{"$f":"COUNTIF(L38:L44,AN14)","v":0},{"$f":"AO14/(AQ4-AO7)","v":{"$error":"#DIV/0!"}},{"$f":"IF(AP14=0,0,(AP14*((LOG(AP14))/LOG(2))))","v":{"$error":"#DIV/0!"}},null,{"$f":"N14","v":222},{"$f":"COUNTIF(L45:L52,AS14)","v":0},{"$f":"AT14/(AV4-AT7)","v":0},{"$f":"IF(AU14=0,0,(AU14*((LOG(AU14))/LOG(2))))","v":0}]
[11,1307,11,1330,11,1341,null,null,null,null,0,111,null,null,null,{"$f":"SUM(P7:P14)","v":1},{"$f":"-SUM(Q7:Q14)","v":0.67840709093756735},null,null,null,null,{"$f":"SUM(V7:V14)","v":1},{"$f":"-SUM(W7:W14)","v":1},null,null,null,{"$f":"SUM(AA7:AA14)","v":{"$error":"#DIV/0!"}},{"$f":"-SUM(AB7:AB14)","v":{"$error":"#DIV/0!"}},null,null,null,{"$f":"SUM(AF7:AF14)","v":1},{"$f":"-SUM(AG7:AG14)","v":0},null,null,null,{"$f":"SUM(AK7:AK14)","v":{"$error":"#DIV/0!"}},{"$f":"-SUM(AL7:AL14)","v":{"$error":"#DIV/0!"}},null,null,null,{"$f":"SUM(AP7:AP14)","v":{"$error":"#DIV/0!"}},{"$f":"-SUM(AQ7:AQ14)","v":{"$error":"#DIV/0!"}},null,null,null,{"$f":"SUM(AU7:AU14)","v":1},{"$f":"-SUM(AV7:AV14)","v":1}]
[11,1476,11,1498,11,1520,null,null,null,null,0,111,null,null,null,"U=",{"$f":"Q15/(LOG(Q4)/LOG(2))","v":0.12282058141733007},null,null,null,null,"U1=",{"$f":"W15/(LOG(W4)/LOG(2))","v":0.33333333333333331},null,null,null,"U2=",{"$f":"AB15/(LOG(AB4)/LOG(2))","v":{"$error":"#DIV/0!"}},null,null,null,"U3=",{"$f":"AG15/(LOG(AG4)/LOG(2))","v":0},null,null,null,"U4=",{"$f":"AL15/(LOG(AL4)/LOG(2))","v":{"$error":"#DIV/0!"}},null,null,null,"U5=",{"$f":"AQ15/(LOG(AQ4)/LOG(2))","v":{"$error":"#DIV/0!"}},null,null,null,"U6=",{"$f":"AV15/(LOG(AV4)/LOG(2))","v":0.33333333333333331}]
[11,1677,11,1696,11,1721,null,null,null,null,0,111]
[11,1961,11,1988,11,2006,null,null,null,null,0,111]
[11,2304,11,2326,11,2344,null,null,null,null,0,111,null,"Total Target Seq"]
[11,2458,11,2491,11,2509,null,null,null,null,0,111,null,{"$f":"COUNTIF(L7:L52,G3)","v":40},null,8,7,8,8,7,8]
[11,2696,11,2727,11,2750,null,null,null,null,0,111,null,null,null,"% of reinforcement given in 6 equal intervals based on number of trials "]
[11,2868,11,2904,11,2923,null,null,null,null,0,111,null,null,null,"%_1","%_2","%_3","%_4","%_5","%_6"]
[11,3176,11,3202,11,3217,null,null,null,null,0,111,null,null,"target sequence",{"$f":"$G$3","v":111},{"$f":"$G$3","v":111},{"$f":"$G$3","v":111},{"$f":"$G$3","v":111},{"$f":"$G$3","v":111},{"$f":"$G$3","v":111}]
[11,3363,11,3383,11,3401,null,null,null,null,0,111,null,null,"total reinforcement",{"$f":"U7","v":6},{"$f":"Z7","v":7},{"$f":"AE7","v":6},{"$f":"AJ7","v":8},{"$f":"AO7","v":7},{"$f":"AT7","v":6}]
[11,3592,11,3615,11,3631,null,null,null,null,0,111,null,null,"% target"]
[22,3888,13,3927,13,3958,null,null,null,null,0,211,null,null,"CCRF"]
[22,4064,13,4070,13,4078,null,null,null,null,0,211,null,null,"% CCRf"]
[11,4170,11,4173,11,4180,null,null,null,null,0,111,null,null,"average response rate",{"$f":"F14/P20","v":149.25},{"$f":"(F21-F14)/Q20","v":222.28571428571428},{"$f":"(F29-F21)/R20","v":202},{"$f":"(F37-F29)/S20","v":197.75},{"$f":"(F44-F37)/T20","v":244.28571428571428},{"$f":"(F52-F44)/U20","v":240.25}]
[11,4335,11,4351,11,4366,null,null,null,null,0,111]
[11,4508,11,4527,11,4544,null,null,null,null,0,111]
[11,4666,11,4693,11,4710,null,null,null,null,0,111]
[11,4848,11,4896,11,4918,null,null,null,null,0,111]
[11,5025,11,5053,11,5069,null,null,null,null,0,111]
[11,5235,11,5246,11,5264,null,null,null,null,0,111]
[11,5409,11,5429,11,5458,null,null,null,null,0,111]
[11,5719,11,5745,11,5784,null,null,null,null,0,111]
[11,5908,11,5925,11,5948,null,null,null,null,0,111]
[11,6132,11,6174,11,6201,null,null,null,null,0,111]
[11,6482,11,6504,11,6521,null,null,null,null,0,111]
[11,6695,11,6734,11,6750,null,null,null,null,0,111]
[11,7068,11,7084,11,7104,null,null,null,null,0,111]
[11,7307,11,7321,11,7345,null,null,null,null,0,111]
[11,7433,11,7453,11,7474,null,null,null,null,0,111]
[11,7615,11,7637,11,7658,null,null,null,null,0,111]
[11,7844,11,7859,11,7876,null,null,null,null,0,111]
[22,8194,13,8205,13,8223,null,null,null,null,0,211]
[11,8330,11,8513,22,8517,null,null,null,null,0,112]
[11,8668,11,8693,11,8701,null,null,null,null,0,111]
[11,8864,11,8880,11,8899,null,null,null,null,0,111]
[11,9083,11,9101,11,9119,null,null,null,null,0,111]
[11,9351,11,9366,11,9388,null,null,null,null,0,111]
[11,9545,11,9566,11,9580,null,null,null,null,1,111]

{"sheet":"!N129A2B.AXT","index":9,"n_rows":47,"n_cols":48,"rows_kept":47,"cut":false,"hidden":false,"merged":[[4,39,4,42],[5,39,5,40],[4,44,4,47],[5,44,5,45],[4,24,4,27],[5,24,5,25],[4,29,4,32],[5,29,5,30],[4,34,4,37],[5,34,5,35],[1,1,1,2],[5,13,5,14],[18,13,18,14],[19,13,19,14],[4,19,4,22],[5,19,5,20]]}
["Report for:!N129A2B.AXT"]
["Date:","<date>"]
["Hen:","<hen>",null,null,null,"Correct Sequence",{"$f":"Start!J2","v":111},null,null,null,null,null,null,null,null,"Total Sequences in Data",{"$f":"4994-COUNTBLANK(L7:L5000)","v":41},null,null,null,null,"Total Sequences in Block Data",{"$f":"COUNTA(L7:L13)","v":7},null,null,null,"Total Sequences in Block Data",{"$f":"COUNTA(L14:L20)","v":7},null,null,null,"Total Sequences in Block Data",{"$f":"COUNTA(L21:L26)","v":6},null,null,null,"Total Sequences in Block Data",{"$f":"COUNTA(L27:L33)","v":7},null,null,null,"Total Sequences in Block Data",{"$f":"COUNTA(L34:L40)","v":7},null,null,null,"Total Sequences in Block Data",{"$f":"COUNTA(L41:L47)","v":7}]
[null,null,null,null,null,null,null,null,null,null,null,null,null,null,null,"Total Sequences in Summary",{"$f":"SUM(O7:O14)","v":41},null,null,null,null,"Total Sequences in Block Summary",{"$f":"SUM(U7:U14)","v":7},null,null,null,"Total Sequences in Block Summary",{"$f":"SUM(Z7:Z14)","v":7},null,null,null,"Total Sequences in Block Summary",{"$f":"SUM(AE7:AE14)","v":6},null,null,null,"Total Sequences in Block Summary",{"$f":"SUM(AJ7:AJ14)","v":7},null,null,null,"Total Sequences in Block Summary",{"$f":"SUM(AO7:AO14)","v":7},null,null,null,"Total Sequences in Block Summary",{"$f":"SUM(AT7:AT14)","v":7}]
[null,null,null,null,null,null,null,null,null,null,null,null,null,null,null,null,null,null,null,"Block 1",null,null,null,null,"Block 2",null,null,null,null,"Block 3",null,null,null,null,"Block 4",null,null,null,null,"Block 5",null,null,null,null,"Block 6"]
["Sequence\nComponent\n1","Time\n1","Sequence\nComponent\n2","Time\n2","Sequence\nComponent\n3","Time\n3","Sequence\nComponent\n4","Time\n4","Sequence\nComponent\n5","Time\n5","Correct?\n0=No 1=Yes","Sequence",null,"Frequency",null,"Relative Frequency","Variability",null,null,"Frequency",null,"Relative Frequency","Variability",null,"Frequency",null,"Relative Frequency","Variability",null,"Frequency",null,"Relative Frequency","Variability",null,"Frequency",null,"Relative Frequency","Variability",null,"Frequency",null,"Relative Frequency","Variability",null,"Frequency",null,"Relative Frequency","Variability"]
[11,36,11,38,22,50,null,null,null,null,0,112,null,111,{"$f":"COUNTIF($L$7:$L$500,N7)","v":40},{"$f":"O7/$Q$4","v":0.97560975609756095},{"$f":"IF(P7=0,0,(P7*((LOG(P7))/LOG(2))))","v":-3.4755033883630611E-2},null,null,{"$f":"N7","v":111},{"$f":"COUNTIF(L7:L13,T7)","v":6},null,null,null,{"$f":"N7","v":111},{"$f":"COUNTIF(L14:L20,Y7)","v":7},null,null,null,{"$f":"N7","v":111},{"$f":"COUNTIF(L21:L26,AD7)","v":6},null,null,null,{"$f":"N7","v":111},{"$f":"COUNTIF(L27:L33,AI7)","v":7},null,null,null,{"$f":"N7","v":111},{"$f":"COUNTIF(L34:L40,AN7)","v":7},null,null,null,{"$f":"N7","v":111},{"$f":"COUNTIF(L41:L47,AS7)","v":7}]
[11,154,11,164,11,172,null,null,null,null,0,111,null,112,{"$f":"COUNTIF($L$7:$L$500,N8)","v":1},{"$f":"O8/$Q$4","v":2.4390243902439025E-2},{"$f":"IF(P8=0,0,(P8*((LOG(P8))/LOG(2))))","v":-0.13067200011263619},null,null,{"$f":"N8","v":112},{"$f":"COUNTIF(L7:L13,T8)","v":1},{"$f":"U8/(W4-U7)","v":1},{"$f":"IF(V8=0,0,(V8*((LOG(V8))/LOG(2))))","v":0},null,{"$f":"N8","v":112},{"$f":"COUNTIF(L14:L20,Y8)","v":0},{"$f":"Z8/(AB4-Z7)","v":{"$error":"#DIV/0!"}},{"$f":"IF(AA8=0,0,(AA8*((LOG(AA8))/LOG(2))))","v":{"$error":"#DIV/0!"}},null,{"$f":"N8","v":112},{"$f":"COUNTIF(L21:L26,AD8)","v":0},{"$f":"AE8/(AG4-AE7)","v":{"$error":"#DIV/0!"}},{"$f":"IF(AF8=0,0,(AF8*((LOG(AF8))/LOG(2))))","v":{"$error":"#DIV/0!"}},null,{"$f":"N8","v":112},{"$f":"COUNTIF(L27:L33,AI8)","v":0},{"$f":"AJ8/(AL4-AJ7)","v":{"$error":"#DIV/0!"}},{"$f":"IF(AK8=0,0,(AK8*((LOG(AK8))/LOG(2))))","v":{"$error":"#DIV/0!"}},null,{"$f":"N8","v":112},{"$f":"COUNTIF(L34:L40,AN8)","v":0},{"$f":"AO8/(AQ4-AO7)","v":{"$error":"#DIV/0!"}},{"$f":"IF(AP8=0,0,(AP8*((LOG(AP8))/LOG(2))))","v":{"$error":"#DIV/0!"}},null,{"$f":"N8","v":112},{"$f":"COUNTIF(L41:L47,AS8)","v":0},{"$f":"AT8/(AV4-AT7)","v":{"$error":"#DIV/0!"}},{"$f":"IF(AU8=0,0,(AU8*((LOG(AU8))/LOG(2))))","v":{"$error":"#DIV/0!"}}]
[11,298,11,312,11,328,null,null,null,null,0,111,null,121,{"$f":"COUNTIF($L$7:$L$500,N9)","v":0},{"$f":"O9/$Q$4","v":0},{"$f":"IF(P9=0,0,(P9*((LOG(P9))/LOG(2))))","v":0},null,null,{"$f":"N9","v":121},{"$f":"COUNTIF(L7:L13,T9)","v":0},{"$f":"U9/(W4-U7)","v":0},{"$f":"IF(V9=0,0,(V9*((LOG(V9))/LOG(2))))","v":0},null,{"$f":"N9","v":121},{"$f":"COUNTIF(L14:L20,Y9)","v":0},{"$f":"Z9/(AB4-Z7)","v":{"$error":"#DIV/0!"}},{"$f":"IF(AA9=0,0,(AA9*((LOG(AA9))/LOG(2))))","v":{"$error":"#DIV/0!"}},null,{"$f":"N9","v":121},{"$f":"COUNTIF(L21:L26,AD9)","v":0},{"$f":"AE9/(AG4-AE7)","v":{"$error":"#DIV/0!"}},{"$f":"IF(AF9=0,0,(AF9*((LOG(AF9))/LOG(2))))","v":{"$error":"#DIV/0!"}},null,{"$f":"N9","v":121},{"$f":"COUNTIF(L27:L33,AI9)","v":0},{"$f":"AJ9/(AL4-AJ7)","v":{"$error":"#DIV/0!"}},{"$f":"IF(AK9=0,0,(AK9*((LOG(AK9))/LOG(2))))","v":{"$error":"#DIV/0!"}},null,{"$f":"N9","v":121},{"$f":"COUNTIF(L34:L40,AN9)","v":0},{"$f":"AO9/(AQ4-AO7)","v":{"$error":"#DIV/0!"}},{"$f":"IF(AP9=0,0,(AP9*((LOG(AP9))/LOG(2))))","v":{"$error":"#DIV/0!"}},null,{"$f":"N9","v":121},{"$f":"COUNTIF(L41:L47,AS9)","v":0},{"$f":"AT9/(AV4-AT7)","v":{"$error":"#DIV/0!"}},{"$f":"IF(AU9=0,0,(AU9*((LOG(AU9))/LOG(2))))","v":{"$error":"#DIV/0!"}}]
[11,436,11,455,11,460,null,null,null,null,0,111,null,122,{"$f":"COUNTIF($L$7:$L$500,N10)","v":0},{"$f":"O10/$Q$4","v":0},{"$f":"IF(P10=0,0,(P10*((LOG(P10))/LOG(2))))","v":0},null,null,{"$f":"N10","v":122},{"$f":"COUNTIF(L7:L13,T10)","v":0},{"$f":"U10/(W4-U7)","v":0},{"$f":"IF(V10=0,0,(V10*((LOG(V10))/LOG(2))))","v":0},null,{"$f":"N10","v":122},{"$f":"COUNTIF(L14:L20,Y10)","v":0},{"$f":"Z10/(AB4-Z7)","v":{"$error":"#DIV/0!"}},{"$f":"IF(AA10=0,0,(AA10*((LOG(AA10))/LOG(2))))","v":{"$error":"#DIV/0!"}},null,{"$f":"N10","v":122},{"$f":"COUNTIF(L21:L26,AD10)","v":0},{"$f":"AE10/(AG4-AE7)","v":{"$error":"#DIV/0!"}},{"$f":"IF(AF10=0,0,(AF10*((LOG(AF10))/LOG(2))))","v":{"$error":"#DIV/0!"}},null,{"$f":"N10","v":122},{"$f":"COUNTIF(L27:L33,AI10)","v":0},{"$f":"AJ10/(AL4-AJ7)","v":{"$error":"#DIV/0!"}},{"$f":"IF(AK10=0,0,(AK10*((LOG(AK10))/LOG(2))))","v":{"$error":"#DIV/0!"}},null,{"$f":"N10","v":122},{"$f":"COUNTIF(L34:L40,AN10)","v":0},{"$f":"AO10/(AQ4-AO7)","v":{"$error":"#DIV/0!"}},{"$f":"IF(AP10=0,0,(AP10*((LOG(AP10))/LOG(2))))","v":{"$error":"#DIV/0!"}},null,{"$f":"N10","v":122},{"$f":"COUNTIF(L41:L47,AS10)","v":0},{"$f":"AT10/(AV4-AT7)","v":{"$error":"#DIV/0!"}},{"$f":"IF(AU10=0,0,(AU10*((LOG(AU10))/LOG(2))))","v":{"$error":"#DIV/0!"}}]
[11,560,11,576,11,584,null,null,null,null,0,111,null,211,{"$f":"COUNTIF($L$7:$L$500,N11)","v":0},{"$f":"O11/$Q$4","v":0},{"$f":"IF(P11=0,0,(P11*((LOG(P11))/LOG(2))))","v":0},null,null,{"$f":"N11","v":211},{"$f":"COUNTIF(L7:L13,T11)","v":0},{"$f":"U11/(W4-U7)","v":0},{"$f":"IF(V11=0,0,(V11*((LOG(V11))/LOG(2))))","v":0},null,{"$f":"N11","v":211},{"$f":"COUNTIF(L14:L20,Y11)","v":0},{"$f":"Z11/(AB4-Z7)","v":{"$error":"#DIV/0!"}},{"$f":"IF(AA11=0,0,(AA11*((LOG(AA11))/LOG(2))))","v":{"$error":"#DIV/0!"}},null,{"$f":"N11","v":211},{"$f":"COUNTIF(L21:L26,AD11)","v":0},{"$f":"AE11/(AG4-AE7)","v":{"$error":"#DIV/0!"}},{"$f":"IF(AF11=0,0,(AF11*((LOG(AF11))/LOG(2))))","v":{"$error":"#DIV/0!"}},null,{"$f":"N11","v":211},{"$f":"COUNTIF(L27:L33,AI11)","v":0},{"$f":"AJ11/(AL4-AJ7)","v":{"$error":"#DIV/0!"}},{"$f":"IF(AK11=0,0,(AK11*((LOG(AK11))/LOG(2))))","v":{"$error":"#DIV/0!"}},null,{"$f":"N11","v":211},{"$f":"COUNTIF(L34:L40,AN11)","v":0},{"$f":"AO11/(AQ4-AO7)","v":{"$error":"#DIV/0!"}},{"$f":"IF(AP11=0,0,(AP11*((LOG(AP11))/LOG(2))))","v":{"$error":"#DIV/0!"}},null,{"$f":"N11","v":211},{"$f":"COUNTIF(L41:L47,AS11)","v":0},{"$f":"AT11/(AV4-AT7)","v":{"$error":"#DIV/0!"}},{"$f":"IF(AU11=0,0,(AU11*((LOG(AU11))/LOG(2))))","v":{"$error":"#DIV/0!"}}]
[11,673,11,677,11,739,null,null,null,null,0,111,null,212,{"$f":"COUNTIF($L$7:$L$500,N12)","v":0},{"$f":"O12/$Q$4","v":0},{"$f":"IF(P12=0,0,(P12*((LOG(P12))/LOG(2))))","v":0},null,null,{"$f":"N12","v":212},{"$f":"COUNTIF(L7:L13,T12)","v":0},{"$f":"U12/(W4-U7)","v":0},{"$f":"IF(V12=0,0,(V12*((LOG(V12))/LOG(2))))","v":0},null,{"$f":"N12","v":212},{"$f":"COUNTIF(L14:L20,Y12)","v":0},{"$f":"Z12/(AB4-Z7)","v":{"$error":"#DIV/0!"}},{"$f":"IF(AA12=0,0,(AA12*((LOG(AA12))/LOG(2))))","v":{"$error":"#DIV/0!"}},null,{"$f":"N12","v":212},{"$f":"COUNTIF(L21:L26,AD12)","v":0},{"$f":"AE12/(AG4-AE7)","v":{"$error":"#DIV/0!"}},{"$f":"IF(AF12=0,0,(AF12*((LOG(AF12))/LOG(2))))","v":{"$error":"#DIV/0!"}},null,{"$f":"N12","v":212},{"$f":"COUNTIF(L27:L33,AI12)","v":0},{"$f":"AJ12/(AL4-AJ7)","v":{"$error":"#DIV/0!"}},{"$f":"IF(AK12=0,0,(AK12*((LOG(AK12))/LOG(2))))","v":{"$error":"#DIV/0!"}},null,{"$f":"N12","v":212},{"$f":"COUNTIF(L34:L40,AN12)","v":0},{"$f":"AO12/(AQ4-AO7)","v":{"$error":"#DIV/0!"}},{"$f":"IF(AP12=0,0,(AP12*((LOG(AP12))/LOG(2))))","v":{"$error":"#DIV/0!"}},null,{"$f":"N12","v":212},{"$f":"COUNTIF(L41:L47,AS12)","v":0},{"$f":"AT12/(AV4-AT7)","v":{"$error":"#DIV/0!"}},{"$f":"IF(AU12=0,0,(AU12*((LOG(AU12))/LOG(2))))","v":{"$error":"#DIV/0!"}}]
[11,853,11,871,11,891,null,null,null,null,0,111,null,221,{"$f":"COUNTIF($L$7:$L$500,N13)","v":0},{"$f":"O13/$Q$4","v":0},{"$f":"IF(P13=0,0,(P13*((LOG(P13))/LOG(2))))","v":0},null,null,{"$f":"N13","v":221},{"$f":"COUNTIF(L7:L13,T13)","v":0},{"$f":"U13/(W4-U7)","v":0},{"$f":"IF(V13=0,0,(V13*((LOG(V13))/LOG(2))))","v":0},null,{"$f":"N13","v":221},{"$f":"COUNTIF(L14:L20,Y13)","v":0},{"$f":"Z13/(AB4-Z7)","v":{"$error":"#DIV/0!"}},{"$f":"IF(AA13=0,0,(AA13*((LOG(AA13))/LOG(2))))","v":{"$error":"#DIV/0!"}},null,{"$f":"N13","v":221},{"$f":"COUNTIF(L21:L26,AD13)","v":0},{"$f":"AE13/(AG4-AE7)","v":{"$error":"#DIV/0!"}},{"$f":"IF(AF13=0,0,(AF13*((LOG(AF13))/LOG(2))))","v":{"$error":"#DIV/0!"}},null,{"$f":"N13","v":221},{"$f":"COUNTIF(L27:L33,AI13)","v":0},{"$f":"AJ13/(AL4-AJ7)","v":{"$error":"#DIV/0!"}},{"$f":"IF(AK13=0,0,(AK13*((LOG(AK13))/LOG(2))))","v":{"$error":"#DIV/0!"}},null,{"$f":"N13","v":221},{"$f":"COUNTIF(L34:L40,AN13)","v":0},{"$f":"AO13/(AQ4-AO7)","v":{"$error":"#DIV/0!"}},{"$f":"IF(AP13=0,0,(AP13*((LOG(AP13))/LOG(2))))","v":{"$error":"#DIV/0!"}},null,{"$f":"N13","v":221},{"$f":"COUNTIF(L41:L47,AS13)","v":0},{"$f":"AT13/(AV4-AT7)","v":{"$error":"#DIV/0!"}},{"$f":"IF(AU13=0,0,(AU13*((LOG(AU13))/LOG(2))))","v":{"$error":"#DIV/0!"}}]
[11,1056,11,1072,11,1093,null,null,null,null,0,111,null,222,{"$f":"COUNTIF($L$7:$L$500,N14)","v":0},{"$f":"O14/$Q$4","v":0},{"$f":"IF(P14=0,0,(P14*((LOG(P14))/LOG(2))))","v":0},null,null,{"$f":"N14","v":222},{"$f":"COUNTIF(L7:L13,T14)","v":0},{"$f":"U14/(W4-U7)","v":0},{"$f":"IF(V14=0,0,(V14*((LOG(V14))/LOG(2))))","v":0},null,{"$f":"N14","v":222},{"$f":"COUNTIF(L14:L20,Y14)","v":0},{"$f":"Z14/(AB4-Z7)","v":{"$error":"#DIV/0!"}},{"$f":"IF(AA14=0,0,(AA14*((LOG(AA14))/LOG(2))))","v":{"$error":"#DIV/0!"}},null,{"$f":"N14","v":222},{"$f":"COUNTIF(L21:L26,AD14)","v":0},{"$f":"AE14/(AG4-AE7)","v":{"$error":"#DIV/0!"}},{"$f":"IF(AF14=0,0,(AF14*((LOG(AF14))/LOG(2))))","v":{"$error":"#DIV/0!"}},null,{"$f":"N14","v":222},{"$f":"COUNTIF(L27:L33,AI14)","v":0},{"$f":"AJ14/(AL4-AJ7)","v":{"$error":"#DIV/0!"}},{"$f":"IF(AK14=0,0,(AK14*((LOG(AK14))/LOG(2))))","v":{"$error":"#DIV/0!"}},null,{"$f":"N14","v":222},{"$f":"COUNTIF(L34:L40,AN14)","v":0},{"$f":"AO14/(AQ4-AO7)","v":{"$error":"#DIV/0!"}},{"$f":"IF(AP14=0,0,(AP14*((LOG(AP14))/LOG(2))))","v":{"$error":"#DIV/0!"}},null,{"$f":"N14","v":222},{"$f":"COUNTIF(L41:L47,AS14)","v":0},{"$f":"AT14/(AV4-AT7)","v":{"$error":"#DIV/0!"}},{"$f":"IF(AU14=0,0,(AU14*((LOG(AU14))/LOG(2))))","v":{"$error":"#DIV/0!"}}]
[11,1198,11,1218,11,1239,null,null,null,null,0,111,null,null,null,{"$f":"SUM(P7:P14)","v":1},{"$f":"-SUM(Q7:Q14)","v":0.16542703399626679},null,null,null,null,{"$f":"SUM(V7:V14)","v":1},{"$f":"-SUM(W7:W14)","v":0},null,null,null,{"$f":"SUM(AA7:AA14)","v":{"$error":"#DIV/0!"}},{"$f":"-SUM(AB7:AB14)","v":{"$error":"#DIV/0!"}},null,null,null,{"$f":"SUM(AF7:AF14)","v":{"$error":"#DIV/0!"}},{"$f":"-SUM(AG7:AG14)","v":{"$error":"#DIV/0!"}},null,null,null,{"$f":"SUM(AK7:AK14)","v":{"$error":"#DIV/0!"}},{"$f":"-SUM(AL7:AL14)","v":{"$error":"#DIV/0!"}},null,null,null,{"$f":"SUM(AP7:AP14)","v":{"$error":"#DIV/0!"}},{"$f":"-SUM(AQ7:AQ14)","v":{"$error":"#DIV/0!"}},null,null,null,{"$f":"SUM(AU7:AU14)","v":{"$error":"#DIV/0!"}},{"$f":"-SUM(AV7:AV14)","v":{"$error":"#DIV/0!"}}]
[11,1372,11,1387,11,1406,null,null,null,null,0,111,null,null,null,"U=",{"$f":"Q15/(LOG(Q4)/LOG(2))","v":3.0877354779509855E-2},null,null,null,null,"U1=",{"$f":"W15/(LOG(W4)/LOG(2))","v":0},null,null,null,"U2=",{"$f":"AB15/(LOG(AB4)/LOG(2))","v":{"$error":"#DIV/0!"}},null,null,null,"U3=",{"$f":"AG15/(LOG(AG4)/LOG(2))","v":{"$error":"#DIV/0!"}},null,null,null,"U4=",{"$f":"AL15/(LOG(AL4)/LOG(2))","v":{"$error":"#DIV/0!"}},null,null,null,"U5=",{"$f":"AQ15/(LOG(AQ4)/LOG(2))","v":{"$error":"#DIV/0!"}},null,null,null,"U6=",{"$f":"AV15/(LOG(AV4)/LOG(2))","v":{"$error":"#DIV/0!"}}]
[11,1492,11,1513,11,1540,null,null,null,null,0,111]
[11,1631,11,1645,11,1669,null,null,null,null,0,111]
[11,1788,11,1814,11,1842,null,null,null,null,0,111,null,"Total Target Seq"]
[11,1933,11,1953,11,1973,null,null,null,null,0,111,null,{"$f":"COUNTIF(L7:L47,G3)","v":40},null,7,7,6,7,7,7]
[11,2079,11,2091,11,2107,null,null,null,null,0,111,null,null,null,"% of reinforcement given in 6 equal intervals based on number of trials "]
[11,2248,11,2259,11,2267,null,null,null,null,0,111,null,null,null,"%_1","%_2","%_3","%_4","%_5","%_6"]
[11,2417,11,2436,11,2454,null,null,null,null,0,111,null,null,"target sequence",{"$f":"$G$3","v":111},{"$f":"$G$3","v":111},{"$f":"$G$3","v":111},{"$f":"$G$3","v":111},{"$f":"$G$3","v":111},{"$f":"$G$3","v":111}]
[11,2596,11,2622,11,2646,null,null,null,null,0,111,null,null,"total reinforcement",{"$f":"U7","v":6},{"$f":"Z7","v":7},{"$f":"AE7","v":6},{"$f":"AJ7","v":7},{"$f":"AO7","v":7},{"$f":"AT7","v":7}]
[11,2745,11,2788,11,2804,null,null,null,null,0,111,null,null,"% target"]
[11,2984,11,2999,11,3016,null,null,null,null,0,111,null,null,"CCRF"]
[11,3203,11,3219,11,3236,null,null,null,null,0,111,null,null,"% CCRf"]
[11,3352,11,3373,11,3391,null,null,null,null,0,111,null,null,"average response rate",{"$f":"F13/P20","v":127.28571428571429},{"$f":"(F20-F13)/Q20","v":154.57142857142858},{"$f":"(F26-F20)/R20","v":173.83333333333334},{"$f":"(F33-F26)/S20","v":173.28571428571428},{"$f":"(F40-F33)/T20","v":180.85714285714286},{"$f":"(F47-F40)/U20","v":204}]
[11,3533,11,3555,11,3570,null,null,null,null,0,111]
[11,3679,11,3697,11,3716,null,null,null,null,0,111]
[11,3832,11,3850,11,3870,null,null,null,null,0,111]
[11,4016,11,4042,11,4069,null,null,null,null,0,111]
[11,4193,11,4211,11,4229,null,null,null,null,0,111]
[11,4401,11,4421,11,4443,null,null,null,null,0,111]
[11,4630,11,4643,11,4657,null,null,null,null,0,111]
[11,4775,11,4780,11,4796,null,null,null,null,0,111]
[11,4901,11,4921,11,4968,null,null,null,null,0,111]
[11,5097,11,5112,11,5127,null,null,null,null,0,111]
[11,5230,11,5249,11,5268,null,null,null,null,0,111]
[11,5446,11,5476,11,5495,null,null,null,null,0,111]
[11,5677,11,5696,11,5718,null,null,null,null,0,111]
[11,5820,11,5852,11,5871,null,null,null,null,0,111]
[11,5991,11,6009,11,6025,null,null,null,null,0,111]
[11,6185,11,6205,11,6227,null,null,null,null,0,111]
[11,6356,11,6369,11,6386,null,null,null,null,0,111]
[11,6511,11,6530,11,6549,null,null,null,null,0,111]
[11,6906,11,6911,11,6923,null,null,null,null,1,111]

{"sheet":"!N13092B.AXT","index":10,"n_rows":48,"n_cols":48,"rows_kept":48,"cut":false,"hidden":false,"merged":[[4,39,4,42],[5,39,5,40],[4,44,4,47],[5,44,5,45],[4,24,4,27],[5,24,5,25],[4,29,4,32],[5,29,5,30],[4,34,4,37],[5,34,5,35],[1,1,1,2],[5,13,5,14],[18,13,18,14],[19,13,19,14],[4,19,4,22],[5,19,5,20]]}
["Report for:!N13092B.AXT"]
["Date:","<date>"]
["Hen:","<hen>",null,null,null,"Correct Sequence",{"$f":"Start!J2","v":111},null,null,null,null,null,null,null,null,"Total Sequences in Data",{"$f":"4994-COUNTBLANK(L7:L5000)","v":42},null,null,null,null,"Total Sequences in Block Data",{"$f":"COUNTA(L7:L13)","v":7},null,null,null,"Total Sequences in Block Data",{"$f":"COUNTA(L14:L20)","v":7},null,null,null,"Total Sequences in Block Data",{"$f":"COUNTA(L21:L27)","v":7},null,null,null,"Total Sequences in Block Data",{"$f":"COUNTA(L28:L34)","v":7},null,null,null,"Total Sequences in Block Data",{"$f":"COUNTA(L35:L41)","v":7},null,null,null,"Total Sequences in Block Data",{"$f":"COUNTA(L42:L48)","v":7}]
[null,null,null,null,null,null,null,null,null,null,null,null,null,null,null,"Total Sequences in Summary",{"$f":"SUM(O7:O14)","v":42},null,null,null,null,"Total Sequences in Block Summary",{"$f":"SUM(U7:U14)","v":7},null,null,null,"Total Sequences in Block Summary",{"$f":"SUM(Z7:Z14)","v":7},null,null,null,"Total Sequences in Block Summary",{"$f":"SUM(AE7:AE14)","v":7},null,null,null,"Total Sequences in Block Summary",{"$f":"SUM(AJ7:AJ14)","v":7},null,null,null,"Total Sequences in Block Summary",{"$f":"SUM(AO7:AO14)","v":7},null,null,null,"Total Sequences in Block Summary",{"$f":"SUM(AT7:AT14)","v":7}]
[null,null,null,null,null,null,null,null,null,null,null,null,null,null,null,null,null,null,null,"Block 1",null,null,null,null,"Block 2",null,null,null,null,"Block 3",null,null,null,null,"Block 4",null,null,null,null,"Block 5",null,null,null,null,"Block 6"]
["Sequence\nComponent\n1","Time\n1","Sequence\nComponent\n2","Time\n2","Sequence\nComponent\n3","Time\n3","Sequence\nComponent\n4","Time\n4","Sequence\nComponent\n5","Time\n5","Correct?\n0=No 1=Yes","Sequence",null,"Frequency",null,"Relative Frequency","Variability",null,null,"Frequency",null,"Relative Frequency","Variability",null,"Frequency",null,"Relative Frequency","Variability",null,"Frequency",null,"Relative Frequency","Variability",null,"Frequency",null,"Relative Frequency","Variability",null,"Frequency",null,"Relative Frequency","Variability",null,"Frequency",null,"Relative Frequency","Variability"]
[11,45,11,61,11,73,null,null,null,null,0,111,null,111,{"$f":"COUNTIF($L$7:$L$500,N7)","v":40},{"$f":"O7/$Q$4","v":0.95238095238095233},{"$f":"IF(P7=0,0,(P7*((LOG(P7))/LOG(2))))","v":-6.7037455134664775E-2},null,null,{"$f":"N7","v":111},{"$f":"COUNTIF(L7:L13,T7)","v":7},null,null,null,{"$f":"N7","v":111},{"$f":"COUNTIF(L14:L20,Y7)","v":6},null,null,null,{"$f":"N7","v":111},{"$f":"COUNTIF(L21:L27,AD7)","v":7},null,null,null,{"$f":"N7","v":111},{"$f":"COUNTIF(L28:L34,AI7)","v":7},null,null,null,{"$f":"N7","v":111},{"$f":"COUNTIF(L35:L41,AN7)","v":7},null,null,null,{"$f":"N7","v":111},{"$f":"COUNTIF(L42:L48,AS7)","v":6}]
[11,167,11,170,11,186,null,null,null,null,0,111,null,112,{"$f":"COUNTIF($L$7:$L$500,N8)","v":0},{"$f":"O8/$Q$4","v":0},{"$f":"IF(P8=0,0,(P8*((LOG(P8))/LOG(2))))","v":0},null,null,{"$f":"N8","v":112},{"$f":"COUNTIF(L7:L13,T8)","v":0},{"$f":"U8/(W4-U7)","v":{"$error":"#DIV/0!"}},{"$f":"IF(V8=0,0,(V8*((LOG(V8))/LOG(2))))","v":{"$error":"#DIV/0!"}},null,{"$f":"N8","v":112},{"$f":"COUNTIF(L14:L20,Y8)","v":0},{"$f":"Z8/(AB4-Z7)","v":0},{"$f":"IF(AA8=0,0,(AA8*((LOG(AA8))/LOG(2))))","v":0},null,{"$f":"N8","v":112},{"$f":"COUNTIF(L21:L27,AD8)","v":0},{"$f":"AE8/(AG4-AE7)","v":{"$error":"#DIV/0!"}},{"$f":"IF(AF8=0,0,(AF8*((LOG(AF8))/LOG(2))))","v":{"$error":"#DIV/0!"}},null,{"$f":"N8","v":112},{"$f":"COUNTIF(L28:L34,AI8)","v":0},{"$f":"AJ8/(AL4-AJ7)","v":{"$error":"#DIV/0!"}},{"$f":"IF(AK8=0,0,(AK8*((LOG(AK8))/LOG(2))))","v":{"$error":"#DIV/0!"}},null,{"$f":"N8","v":112},{"$f":"COUNTIF(L35:L41,AN8)","v":0},{"$f":"AO8/(AQ4-AO7)","v":{"$error":"#DIV/0!"}},{"$f":"IF(AP8=0,0,(AP8*((LOG(AP8))/LOG(2))))","v":{"$error":"#DIV/0!"}},null,{"$f":"N8","v":112},{"$f":"COUNTIF(L42:L48,AS8)","v":0},{"$f":"AT8/(AV4-AT7)","v":0},{"$f":"IF(AU8=0,0,(AU8*((LOG(AU8))/LOG(2))))","v":0}]
[11,289,11,312,11,319,null,null,null,null,0,111,null,121,{"$f":"COUNTIF($L$7:$L$500,N9)","v":0},{"$f":"O9/$Q$4","v":0},{"$f":"IF(P9=0,0,(P9*((LOG(P9))/LOG(2))))","v":0},null,null,{"$f":"N9","v":121},{"$f":"COUNTIF(L7:L13,T9)","v":0},{"$f":"U9/(W4-U7)","v":{"$error":"#DIV/0!"}},{"$f":"IF(V9=0,0,(V9*((LOG(V9))/LOG(2))))","v":{"$error":"#DIV/0!"}},null,{"$f":"N9","v":121},{"$f":"COUNTIF(L14:L20,Y9)","v":0},{"$f":"Z9/(AB4-Z7)","v":0},{"$f":"IF(AA9=0,0,(AA9*((LOG(AA9))/LOG(2))))","v":0},null,{"$f":"N9","v":121},{"$f":"COUNTIF(L21:L27,AD9)","v":0},{"$f":"AE9/(AG4-AE7)","v":{"$error":"#DIV/0!"}},{"$f":"IF(AF9=0,0,(AF9*((LOG(AF9))/LOG(2))))","v":{"$error":"#DIV/0!"}},null,{"$f":"N9","v":121},{"$f":"COUNTIF(L28:L34,AI9)","v":0},{"$f":"AJ9/(AL4-AJ7)","v":{"$error":"#DIV/0!"}},{"$f":"IF(AK9=0,0,(AK9*((LOG(AK9))/LOG(2))))","v":{"$error":"#DIV/0!"}},null,{"$f":"N9","v":121},{"$f":"COUNTIF(L35:L41,AN9)","v":0},{"$f":"AO9/(AQ4-AO7)","v":{"$error":"#DIV/0!"}},{"$f":"IF(AP9=0,0,(AP9*((LOG(AP9))/LOG(2))))","v":{"$error":"#DIV/0!"}},null,{"$f":"N9","v":121},{"$f":"COUNTIF(L42:L48,AS9)","v":0},{"$f":"AT9/(AV4-AT7)","v":0},{"$f":"IF(AU9=0,0,(AU9*((LOG(AU9))/LOG(2))))","v":0}]
[11,428,11,444,11,459,null,null,null,null,0,111,null,122,{"$f":"COUNTIF($L$7:$L$500,N10)","v":0},{"$f":"O10/$Q$4","v":0},{"$f":"IF(P10=0,0,(P10*((LOG(P10))/LOG(2))))","v":0},null,null,{"$f":"N10","v":122},{"$f":"COUNTIF(L7:L13,T10)","v":0},{"$f":"U10/(W4-U7)","v":{"$error":"#DIV/0!"}},{"$f":"IF(V10=0,0,(V10*((LOG(V10))/LOG(2))))","v":{"$error":"#DIV/0!"}},null,{"$f":"N10","v":122},{"$f":"COUNTIF(L14:L20,Y10)","v":0},{"$f":"Z10/(AB4-Z7)","v":0},{"$f":"IF(AA10=0,0,(AA10*((LOG(AA10))/LOG(2))))","v":0},null,{"$f":"N10","v":122},{"$f":"COUNTIF(L21:L27,AD10)","v":0},{"$f":"AE10/(AG4-AE7)","v":{"$error":"#DIV/0!"}},{"$f":"IF(AF10=0,0,(AF10*((LOG(AF10))/LOG(2))))","v":{"$error":"#DIV/0!"}},null,{"$f":"N10","v":122},{"$f":"COUNTIF(L28:L34,AI10)","v":0},{"$f":"AJ10/(AL4-AJ7)","v":{"$error":"#DIV/0!"}},{"$f":"IF(AK10=0,0,(AK10*((LOG(AK10))/LOG(2))))","v":{"$error":"#DIV/0!"}},null,{"$f":"N10","v":122},{"$f":"COUNTIF(L35:L41,AN10)","v":0},{"$f":"AO10/(AQ4-AO7)","v":{"$error":"#DIV/0!"}},{"$f":"IF(AP10=0,0,(AP10*((LOG(AP10))/LOG(2))))","v":{"$error":"#DIV/0!"}},null,{"$f":"N10","v":122},{"$f":"COUNTIF(L42:L48,AS10)","v":0},{"$f":"AT10/(AV4-AT7)","v":0},{"$f":"IF(AU10=0,0,(AU10*((LOG(AU10))/LOG(2))))","v":0}]
[11,603,11,620,11,636,null,null,null,null,0,111,null,211,{"$f":"COUNTIF($L$7:$L$500,N11)","v":1},{"$f":"O11/$Q$4","v":2.3809523809523808E-2},{"$f":"IF(P11=0,0,(P11*((LOG(P11))/LOG(2))))","v":-0.12838851006616095},null,null,{"$f":"N11","v":211},{"$f":"COUNTIF(L7:L13,T11)","v":0},{"$f":"U11/(W4-U7)","v":{"$error":"#DIV/0!"}},{"$f":"IF(V11=0,0,(V11*((LOG(V11))/LOG(2))))","v":{"$error":"#DIV/0!"}},null,{"$f":"N11","v":211},{"$f":"COUNTIF(L14:L20,Y11)","v":1},{"$f":"Z11/(AB4-Z7)","v":1},{"$f":"IF(AA11=0,0,(AA11*((LOG(AA11))/LOG(2))))","v":0},null,{"$f":"N11","v":211},{"$f":"COUNTIF(L21:L27,AD11)","v":0},{"$f":"AE11/(AG4-AE7)","v":{"$error":"#DIV/0!"}},{"$f":"IF(AF11=0,0,(AF11*((LOG(AF11))/LOG(2))))","v":{"$error":"#DIV/0!"}},null,{"$f":"N11","v":211},{"$f":"COUNTIF(L28:L34,AI11)","v":0},{"$f":"AJ11/(AL4-AJ7)","v":{"$error":"#DIV/0!"}},{"$f":"IF(AK11=0,0,(AK11*((LOG(AK11))/LOG(2))))","v":{"$error":"#DIV/0!"}},null,{"$f":"N11","v":211},{"$f":"COUNTIF(L35:L41,AN11)","v":0},{"$f":"AO11/(AQ4-AO7)","v":{"$error":"#DIV/0!"}},{"$f":"IF(AP11=0,0,(AP11*((LOG(AP11))/LOG(2))))","v":{"$error":"#DIV/0!"}},null,{"$f":"N11","v":211},{"$f":"COUNTIF(L42:L48,AS11)","v":0},{"$f":"AT11/(AV4-AT7)","v":0},{"$f":"IF(AU11=0,0,(AU11*((LOG(AU11))/LOG(2))))","v":0}]
[11,735,11,752,11,773,null,null,null,null,0,111,null,212,{"$f":"COUNTIF($L$7:$L$500,N12)","v":1},{"$f":"O12/$Q$4","v":2.3809523809523808E-2},{"$f":"IF(P12=0,0,(P12*((LOG(P12))/LOG(2))))","v":-0.12838851006616095},null,null,{"$f":"N12","v":212},{"$f":"COUNTIF(L7:L13,T12)","v":0},{"$f":"U12/(W4-U7)","v":{"$error":"#DIV/0!"}},{"$f":"IF(V12=0,0,(V12*((LOG(V12))/LOG(2))))","v":{"$error":"#DIV/0!"}},null,{"$f":"N12","v":212},{"$f":"COUNTIF(L14:L20,Y12)","v":0},{"$f":"Z12/(AB4-Z7)","v":0},{"$f":"IF(AA12=0,0,(AA12*((LOG(AA12))/LOG(2))))","v":0},null,{"$f":"N12","v":212},{"$f":"COUNTIF(L21:L27,AD12)","v":0},{"$f":"AE12/(AG4-AE7)","v":{"$error":"#DIV/0!"}},{"$f":"IF(AF12=0,0,(AF12*((LOG(AF12))/LOG(2))))","v":{"$error":"#DIV/0!"}},null,{"$f":"N12","v":212},{"$f":"COUNTIF(L28:L34,AI12)","v":0},{"$f":"AJ12/(AL4-AJ7)","v":{"$error":"#DIV/0!"}},{"$f":"IF(AK12=0,0,(AK12*((LOG(AK12))/LOG(2))))","v":{"$error":"#DIV/0!"}},null,{"$f":"N12","v":212},{"$f":"COUNTIF(L35:L41,AN12)","v":0},{"$f":"AO12/(AQ4-AO7)","v":{"$error":"#DIV/0!"}},{"$f":"IF(AP12=0,0,(AP12*((LOG(AP12))/LOG(2))))","v":{"$error":"#DIV/0!"}},null,{"$f":"N12","v":212},{"$f":"COUNTIF(L42:L48,AS12)","v":1},{"$f":"AT12/(AV4-AT7)","v":1},{"$f":"IF(AU12=0,0,(AU12*((LOG(AU12))/LOG(2))))","v":0}]
[11,873,11,894,11,914,null,null,null,null,0,111,null,221,{"$f":"COUNTIF($L$7:$L$500,N13)","v":0},{"$f":"O13/$Q$4","v":0},{"$f":"IF(P13=0,0,(P13*((LOG(P13))/LOG(2))))","v":0},null,null,{"$f":"N13","v":221},{"$f":"COUNTIF(L7:L13,T13)","v":0},{"$f":"U13/(W4-U7)","v":{"$error":"#DIV/0!"}},{"$f":"IF(V13=0,0,(V13*((LOG(V13))/LOG(2))))","v":{"$error":"#DIV/0!"}},null,{"$f":"N13","v":221},{"$f":"COUNTIF(L14:L20,Y13)","v":0},{"$f":"Z13/(AB4-Z7)","v":0},{"$f":"IF(AA13=0,0,(AA13*((LOG(AA13))/LOG(2))))","v":0},null,{"$f":"N13","v":221},{"$f":"COUNTIF(L21:L27,AD13)","v":0},{"$f":"AE13/(AG4-AE7)","v":{"$error":"#DIV/0!"}},{"$f":"IF(AF13=0,0,(AF13*((LOG(AF13))/LOG(2))))","v":{"$error":"#DIV/0!"}},null,{"$f":"N13","v":221},{"$f":"COUNTIF(L28:L34,AI13)","v":0},{"$f":"AJ13/(AL4-AJ7)","v":{"$error":"#DIV/0!"}},{"$f":"IF(AK13=0,0,(AK13*((LOG(AK13))/LOG(2))))","v":{"$error":"#DIV/0!"}},null,{"$f":"N13","v":221},{"$f":"COUNTIF(L35:L41,AN13)","v":0},{"$f":"AO13/(AQ4-AO7)","v":{"$error":"#DIV/0!"}},{"$f":"IF(AP13=0,0,(AP13*((LOG(AP13))/LOG(2))))","v":{"$error":"#DIV/0!"}},null,{"$f":"N13","v":221},{"$f":"COUNTIF(L42:L48,AS13)","v":0},{"$f":"AT13/(AV4-AT7)","v":0},{"$f":"IF(AU13=0,0,(AU13*((LOG(AU13))/LOG(2))))","v":0}]
[11,1030,11,1072,11,1112,null,null,null,null,0,111,null,222,{"$f":"COUNTIF($L$7:$L$500,N14)","v":0},{"$f":"O14/$Q$4","v":0},{"$f":"IF(P14=0,0,(P14*((LOG(P14))/LOG(2))))","v":0},null,null,{"$f":"N14","v":222},{"$f":"COUNTIF(L7:L13,T14)","v":0},{"$f":"U14/(W4-U7)","v":{"$error":"#DIV/0!"}},{"$f":"IF(V14=0,0,(V14*((LOG(V14))/LOG(2))))","v":{"$error":"#DIV/0!"}},null,{"$f":"N14","v":222},{"$f":"COUNTIF(L14:L20,Y14)","v":0},{"$f":"Z14/(AB4-Z7)","v":0},{"$f":"IF(AA14=0,0,(AA14*((LOG(AA14))/LOG(2))))","v":0},null,{"$f":"N14","v":222},{"$f":"COUNTIF(L21:L27,AD14)","v":0},{"$f":"AE14/(AG4-AE7)","v":{"$error":"#DIV/0!"}},{"$f":"IF(AF14=0,0,(AF14*((LOG(AF14))/LOG(2))))","v":{"$error":"#DIV/0!"}},null,{"$f":"N14","v":222},{"$f":"COUNTIF(L28:L34,AI14)","v":0},{"$f":"AJ14/(AL4-AJ7)","v":{"$error":"#DIV/0!"}},{"$f":"IF(AK14=0,0,(AK14*((LOG(AK14))/LOG(2))))","v":{"$error":"#DIV/0!"}},null,{"$f":"N14","v":222},{"$f":"COUNTIF(L35:L41,AN14)","v":0},{"$f":"AO14/(AQ4-AO7)","v":{"$error":"#DIV/0!"}},{"$f":"IF(AP14=0,0,(AP14*((LOG(AP14))/LOG(2))))","v":{"$error":"#DIV/0!"}},null,{"$f":"N14","v":222},{"$f":"COUNTIF(L42:L48,AS14)","v":0},{"$f":"AT14/(AV4-AT7)","v":0},{"$f":"IF(AU14=0,0,(AU14*((LOG(AU14))/LOG(2))))","v":0}]
[11,1282,11,1306,11,1327,null,null,null,null,0,111,null,null,null,{"$f":"SUM(P7:P14)","v":1},{"$f":"-SUM(Q7:Q14)","v":0.3238144752669867},null,null,null,null,{"$f":"SUM(V7:V14)","v":{"$error":"#DIV/0!"}},{"$f":"-SUM(W7:W14)","v":{"$error":"#DIV/0!"}},null,null,null,{"$f":"SUM(AA7:AA14)","v":1},{"$f":"-SUM(AB7:AB14)","v":0},null,null,null,{"$f":"SUM(AF7:AF14)","v":{"$error":"#DIV/0!"}},{"$f":"-SUM(AG7:AG14)","v":{"$error":"#DIV/0!"}},null,null,null,{"$f":"SUM(AK7:AK14)","v":{"$error":"#DIV/0!"}},{"$f":"-SUM(AL7:AL14)","v":{"$error":"#DIV/0!"}},null,null,null,{"$f":"SUM(AP7:AP14)","v":{"$error":"#DIV/0!"}},{"$f":"-SUM(AQ7:AQ14)","v":{"$error":"#DIV/0!"}},null,null,null,{"$f":"SUM(AU7:AU14)","v":1},{"$f":"-SUM(AV7:AV14)","v":0}]
[11,1415,11,1435,11,1454,null,null,null,null,0,111,null,null,null,"U=",{"$f":"Q15/(LOG(Q4)/LOG(2))","v":6.0051078206022804E-2},null,null,null,null,"U1=",{"$f":"W15/(LOG(W4)/LOG(2))","v":{"$error":"#DIV/0!"}},null,null,null,"U2=",{"$f":"AB15/(LOG(AB4)/LOG(2))","v":0},null,null,null,"U3=",{"$f":"AG15/(LOG(AG4)/LOG(2))","v":{"$error":"#DIV/0!"}},null,null,null,"U4=",{"$f":"AL15/(LOG(AL4)/LOG(2))","v":{"$error":"#DIV/0!"}},null,null,null,"U5=",{"$f":"AQ15/(LOG(AQ4)/LOG(2))","v":{"$error":"#DIV/0!"}},null,null,null,"U6=",{"$f":"AV15/(LOG(AV4)/LOG(2))","v":0}]
[11,1547,11,1565,11,1581,null,null,null,null,0,111]
[11,1844,11,1880,11,1903,null,null,null,null,0,111]
[22,2112,13,2125,13,2142,null,null,null,null,0,211,null,"Total Target Seq"]
[11,2301,11,2315,11,2329,null,null,null,null,0,111,null,{"$f":"COUNTIF(L7:L48,G3)","v":40},null,7,7,7,7,7,7]
[11,2446,11,2462,11,2481,null,null,null,null,0,111,null,null,null,"% of reinforcement given in 6 equal intervals based on number of trials "]
[11,2586,11,2603,11,2619,null,null,null,null,0,111,null,null,null,"%_1","%_2","%_3","%_4","%_5","%_6"]
[11,2729,11,2742,11,2751,null,null,null,null,0,111,null,null,"target sequence",{"$f":"$G$3","v":111},{"$f":"$G$3","v":111},{"$f":"$G$3","v":111},{"$f":"$G$3","v":111},{"$f":"$G$3","v":111},{"$f":"$G$3","v":111}]
[11,2848,11,2863,11,2873,null,null,null,null,0,111,null,null,"total reinforcement",{"$f":"U7","v":7},{"$f":"Z7","v":6},{"$f":"AE7","v":7},{"$f":"AJ7","v":7},{"$f":"AO7","v":7},{"$f":"AT7","v":6}]
[11,3004,11,3044,11,3100,null,null,null,null,0,111,null,null,"% target"]
[11,3187,11,3211,11,3227,null,null,null,null,0,111,null,null,"CCRF"]
[11,3353,11,3377,11,3401,null,null,null,null,0,111,null,null,"% CCRf"]
[11,3512,11,3529,11,3558,null,null,null,null,0,111,null,null,"average response rate",{"$f":"F13/P20","v":130.57142857142858},{"$f":"(F20-F13)/Q20","v":202.14285714285714},{"$f":"(F27-F20)/R20","v":153.14285714285714},{"$f":"(F34-F27)/S20","v":179.42857142857142},{"$f":"(F41-F34)/T20","v":170.28571428571428},{"$f":"(F48-F41)/U20","v":161.71428571428572}]
[11,3708,11,3728,11,3765,null,null,null,null,0,111]
[11,3859,11,3875,11,3892,null,null,null,null,0,111]
[11,4085,11,4103,11,4128,null,null,null,null,0,111]
[11,4316,11,4332,11,4351,null,null,null,null,0,111]
[11,4493,11,4517,11,4533,null,null,null,null,0,111]
[11,4620,11,4638,11,4657,null,null,null,null,0,111]
[11,4744,11,4761,11,4785,null,null,null,null,0,111]
[11,4925,11,4942,11,4960,null,null,null,null,0,111]
[11,5119,11,5135,11,5149,null,null,null,null,0,111]
[11,5308,11,5324,11,5345,null,null,null,null,0,111]
[11,5439,11,5449,11,5465,null,null,null,null,0,111]
[11,5641,11,5660,11,5681,null,null,null,null,0,111]
[11,5778,11,5829,11,5849,null,null,null,null,0,111]
[11,5977,11,5999,11,6018,null,null,null,null,0,111]
[11,6128,11,6145,11,6163,null,null,null,null,0,111]
[11,6270,11,6287,11,6304,null,null,null,null,0,111]
[22,6485,13,6501,24,6512,null,null,null,null,0,212]
[11,6647,11,6662,11,6676,null,null,null,null,0,111]
[11,6808,11,6830,11,6846,null,null,null,null,0,111]
[11,6945,11,6963,11,6981,null,null,null,null,1,111]

{"sheet":"!N13192B.AXT","index":11,"n_rows":47,"n_cols":48,"rows_kept":47,"cut":false,"hidden":false,"merged":[[4,39,4,42],[5,39,5,40],[4,44,4,47],[5,44,5,45],[4,24,4,27],[5,24,5,25],[4,29,4,32],[5,29,5,30],[4,34,4,37],[5,34,5,35],[1,1,1,2],[5,13,5,14],[18,13,18,14],[19,13,19,14],[4,19,4,22],[5,19,5,20]]}
["Report for:!N13192B.AXT"]
["Date:","<date>"]
["Hen:","<hen>",null,null,null,"Correct Sequence",{"$f":"Start!J2","v":111},null,null,null,null,null,null,null,null,"Total Sequences in Data",{"$f":"4994-COUNTBLANK(L7:L5000)","v":41},null,null,null,null,"Total Sequences in Block Data",{"$f":"COUNTA(L7:L13)","v":7},null,null,null,"Total Sequences in Block Data",{"$f":"COUNTA(L14:L20)","v":7},null,null,null,"Total Sequences in Block Data",{"$f":"COUNTA(L21:L26)","v":6},null,null,null,"Total Sequences in Block Data",{"$f":"COUNTA(L27:L33)","v":7},null,null,null,"Total Sequences in Block Data",{"$f":"COUNTA(L34:L40)","v":7},null,null,null,"Total Sequences in Block Data",{"$f":"COUNTA(L41:L47)","v":7}]
[null,null,null,null,null,null,null,null,null,null,null,null,null,null,null,"Total Sequences in Summary",{"$f":"SUM(O7:O14)","v":41},null,null,null,null,"Total Sequences in Block Summary",{"$f":"SUM(U7:U14)","v":7},null,null,null,"Total Sequences in Block Summary",{"$f":"SUM(Z7:Z14)","v":7},null,null,null,"Total Sequences in Block Summary",{"$f":"SUM(AE7:AE14)","v":6},null,null,null,"Total Sequences in Block Summary",{"$f":"SUM(AJ7:AJ14)","v":7},null,null,null,"Total Sequences in Block Summary",{"$f":"SUM(AO7:AO14)","v":7},null,null,null,"Total Sequences in Block Summary",{"$f":"SUM(AT7:AT14)","v":7}]
[null,null,null,null,null,null,null,null,null,null,null,null,null,null,null,null,null,null,null,"Block 1",null,null,null,null,"Block 2",null,null,null,null,"Block 3",null,null,null,null,"Block 4",null,null,null,null,"Block 5",null,null,null,null,"Block 6"]
["Sequence\nComponent\n1","Time\n1","Sequence\nComponent\n2","Time\n2","Sequence\nComponent\n3","Time\n3","Sequence\nComponent\n4","Time\n4","Sequence\nComponent\n5","Time\n5","Correct?\n0=No 1=Yes","Sequence",null,"Frequency",null,"Relative Frequency","Variability",null,null,"Frequency",null,"Relative Frequency","Variability",null,"Frequency",null,"Relative Frequency","Variability",null,"Frequency",null,"Relative Frequency","Variability",null,"Frequency",null,"Relative Frequency","Variability",null,"Frequency",null,"Relative Frequency","Variability",null,"Frequency",null,"Relative Frequency","Variability"]
[11,17,22,35,24,41,null,null,null,null,0,122,null,111,{"$f":"COUNTIF($L$7:$L$500,N7)","v":40},{"$f":"O7/$Q$4","v":0.97560975609756095},{"$f":"IF(P7=0,0,(P7*((LOG(P7))/LOG(2))))","v":-3.4755033883630611E-2},null,null,{"$f":"N7","v":111},{"$f":"COUNTIF(L7:L13,T7)","v":6},null,null,null,{"$f":"N7","v":111},{"$f":"COUNTIF(L14:L20,Y7)","v":7},null,null,null,{"$f":"N7","v":111},{"$f":"COUNTIF(L21:L26,AD7)","v":6},null,null,null,{"$f":"N7","v":111},{"$f":"COUNTIF(L27:L33,AI7)","v":7},null,null,null,{"$f":"N7","v":111},{"$f":"COUNTIF(L34:L40,AN7)","v":7},null,null,null,{"$f":"N7","v":111},{"$f":"COUNTIF(L41:L47,AS7)","v":7}]
[11,160,11,176,11,201,null,null,null,null,0,111,null,112,{"$f":"COUNTIF($L$7:$L$500,N8)","v":0},{"$f":"O8/$Q$4","v":0},{"$f":"IF(P8=0,0,(P8*((LOG(P8))/LOG(2))))","v":0},null,null,{"$f":"N8","v":112},{"$f":"COUNTIF(L7:L13,T8)","v":0},{"$f":"U8/(W4-U7)","v":0},{"$f":"IF(V8=0,0,(V8*((LOG(V8))/LOG(2))))","v":0},null,{"$f":"N8","v":112},{"$f":"COUNTIF(L14:L20,Y8)","v":0},{"$f":"Z8/(AB4-Z7)","v":{"$error":"#DIV/0!"}},{"$f":"IF(AA8=0,0,(AA8*((LOG(AA8))/LOG(2))))","v":{"$error":"#DIV/0!"}},null,{"$f":"N8","v":112},{"$f":"COUNTIF(L21:L26,AD8)","v":0},{"$f":"AE8/(AG4-AE7)","v":{"$error":"#DIV/0!"}},{"$f":"IF(AF8=0,0,(AF8*((LOG(AF8))/LOG(2))))","v":{"$error":"#DIV/0!"}},null,{"$f":"N8","v":112},{"$f":"COUNTIF(L27:L33,AI8)","v":0},{"$f":"AJ8/(AL4-AJ7)","v":{"$error":"#DIV/0!"}},{"$f":"IF(AK8=0,0,(AK8*((LOG(AK8))/LOG(2))))","v":{"$error":"#DIV/0!"}},null,{"$f":"N8","v":112},{"$f":"COUNTIF(L34:L40,AN8)","v":0},{"$f":"AO8/(AQ4-AO7)","v":{"$error":"#DIV/0!"}},{"$f":"IF(AP8=0,0,(AP8*((LOG(AP8))/LOG(2))))","v":{"$error":"#DIV/0!"}},null,{"$f":"N8","v":112},{"$f":"COUNTIF(L41:L47,AS8)","v":0},{"$f":"AT8/(AV4-AT7)","v":{"$error":"#DIV/0!"}},{"$f":"IF(AU8=0,0,(AU8*((LOG(AU8))/LOG(2))))","v":{"$error":"#DIV/0!"}}]
[11,324,11,370,11,388,null,null,null,null,0,111,null,121,{"$f":"COUNTIF($L$7:$L$500,N9)","v":0},{"$f":"O9/$Q$4","v":0},{"$f":"IF(P9=0,0,(P9*((LOG(P9))/LOG(2))))","v":0},null,null,{"$f":"N9","v":121},{"$f":"COUNTIF(L7:L13,T9)","v":0},{"$f":"U9/(W4-U7)","v":0},{"$f":"IF(V9=0,0,(V9*((LOG(V9))/LOG(2))))","v":0},null,{"$f":"N9","v":121},{"$f":"COUNTIF(L14:L20,Y9)","v":0},{"$f":"Z9/(AB4-Z7)","v":{"$error":"#DIV/0!"}},{"$f":"IF(AA9=0,0,(AA9*((LOG(AA9))/LOG(2))))","v":{"$error":"#DIV/0!"}},null,{"$f":"N9","v":121},{"$f":"COUNTIF(L21:L26,AD9)","v":0},{"$f":"AE9/(AG4-AE7)","v":{"$error":"#DIV/0!"}},{"$f":"IF(AF9=0,0,(AF9*((LOG(AF9))/LOG(2))))","v":{"$error":"#DIV/0!"}},null,{"$f":"N9","v":121},{"$f":"COUNTIF(L27:L33,AI9)","v":0},{"$f":"AJ9/(AL4-AJ7)","v":{"$error":"#DIV/0!"}},{"$f":"IF(AK9=0,0,(AK9*((LOG(AK9))/LOG(2))))","v":{"$error":"#DIV/0!"}},null,{"$f":"N9","v":121},{"$f":"COUNTIF(L34:L40,AN9)","v":0},{"$f":"AO9/(AQ4-AO7)","v":{"$error":"#DIV/0!"}},{"$f":"IF(AP9=0,0,(AP9*((LOG(AP9))/LOG(2))))","v":{"$error":"#DIV/0!"}},null,{"$f":"N9","v":121},{"$f":"COUNTIF(L41:L47,AS9)","v":0},{"$f":"AT9/(AV4-AT7)","v":{"$error":"#DIV/0!"}},{"$f":"IF(AU9=0,0,(AU9*((LOG(AU9))/LOG(2))))","v":{"$error":"#DIV/0!"}}]
[11,545,11,569,11,595,null,null,null,null,0,111,null,122,{"$f":"COUNTIF($L$7:$L$500,N10)","v":1},{"$f":"O10/$Q$4","v":2.4390243902439025E-2},{"$f":"IF(P10=0,0,(P10*((LOG(P10))/LOG(2))))","v":-0.13067200011263619},null,null,{"$f":"N10","v":122},{"$f":"COUNTIF(L7:L13,T10)","v":1},{"$f":"U10/(W4-U7)","v":1},{"$f":"IF(V10=0,0,(V10*((LOG(V10))/LOG(2))))","v":0},null,{"$f":"N10","v":122},{"$f":"COUNTIF(L14:L20,Y10)","v":0},{"$f":"Z10/(AB4-Z7)","v":{"$error":"#DIV/0!"}},{"$f":"IF(AA10=0,0,(AA10*((LOG(AA10))/LOG(2))))","v":{"$error":"#DIV/0!"}},null,{"$f":"N10","v":122},{"$f":"COUNTIF(L21:L26,AD10)","v":0},{"$f":"AE10/(AG4-AE7)","v":{"$error":"#DIV/0!"}},{"$f":"IF(AF10=0,0,(AF10*((LOG(AF10))/LOG(2))))","v":{"$error":"#DIV/0!"}},null,{"$f":"N10","v":122},{"$f":"COUNTIF(L27:L33,AI10)","v":0},{"$f":"AJ10/(AL4-AJ7)","v":{"$error":"#DIV/0!"}},{"$f":"IF(AK10=0,0,(AK10*((LOG(AK10))/LOG(2))))","v":{"$error":"#DIV/0!"}},null,{"$f":"N10","v":122},{"$f":"COUNTIF(L34:L40,AN10)","v":0},{"$f":"AO10/(AQ4-AO7)","v":{"$error":"#DIV/0!"}},{"$f":"IF(AP10=0,0,(AP10*((LOG(AP10))/LOG(2))))","v":{"$error":"#DIV/0!"}},null,{"$f":"N10","v":122},{"$f":"COUNTIF(L41:L47,AS10)","v":0},{"$f":"AT10/(AV4-AT7)","v":{"$error":"#DIV/0!"}},{"$f":"IF(AU10=0,0,(AU10*((LOG(AU10))/LOG(2))))","v":{"$error":"#DIV/0!"}}]
[11,694,11,717,11,771,null,null,null,null,0,111,null,211,{"$f":"COUNTIF($L$7:$L$500,N11)","v":0},{"$f":"O11/$Q$4","v":0},{"$f":"IF(P11=0,0,(P11*((LOG(P11))/LOG(2))))","v":0},null,null,{"$f":"N11","v":211},{"$f":"COUNTIF(L7:L13,T11)","v":0},{"$f":"U11/(W4-U7)","v":0},{"$f":"IF(V11=0,0,(V11*((LOG(V11))/LOG(2))))","v":0},null,{"$f":"N11","v":211},{"$f":"COUNTIF(L14:L20,Y11)","v":0},{"$f":"Z11/(AB4-Z7)","v":{"$error":"#DIV/0!"}},{"$f":"IF(AA11=0,0,(AA11*((LOG(AA11))/LOG(2))))","v":{"$error":"#DIV/0!"}},null,{"$f":"N11","v":211},{"$f":"COUNTIF(L21:L26,AD11)","v":0},{"$f":"AE11/(AG4-AE7)","v":{"$error":"#DIV/0!"}},{"$f":"IF(AF11=0,0,(AF11*((LOG(AF11))/LOG(2))))","v":{"$error":"#DIV/0!"}},null,{"$f":"N11","v":211},{"$f":"COUNTIF(L27:L33,AI11)","v":0},{"$f":"AJ11/(AL4-AJ7)","v":{"$error":"#DIV/0!"}},{"$f":"IF(AK11=0,0,(AK11*((LOG(AK11))/LOG(2))))","v":{"$error":"#DIV/0!"}},null,{"$f":"N11","v":211},{"$f":"COUNTIF(L34:L40,AN11)","v":0},{"$f":"AO11/(AQ4-AO7)","v":{"$error":"#DIV/0!"}},{"$f":"IF(AP11=0,0,(AP11*((LOG(AP11))/LOG(2))))","v":{"$error":"#DIV/0!"}},null,{"$f":"N11","v":211},{"$f":"COUNTIF(L41:L47,AS11)","v":0},{"$f":"AT11/(AV4-AT7)","v":{"$error":"#DIV/0!"}},{"$f":"IF(AU11=0,0,(AU11*((LOG(AU11))/LOG(2))))","v":{"$error":"#DIV/0!"}}]
[11,885,11,905,11,929,null,null,null,null,0,111,null,212,{"$f":"COUNTIF($L$7:$L$500,N12)","v":0},{"$f":"O12/$Q$4","v":0},{"$f":"IF(P12=0,0,(P12*((LOG(P12))/LOG(2))))","v":0},null,null,{"$f":"N12","v":212},{"$f":"COUNTIF(L7:L13,T12)","v":0},{"$f":"U12/(W4-U7)","v":0},{"$f":"IF(V12=0,0,(V12*((LOG(V12))/LOG(2))))","v":0},null,{"$f":"N12","v":212},{"$f":"COUNTIF(L14:L20,Y12)","v":0},{"$f":"Z12/(AB4-Z7)","v":{"$error":"#DIV/0!"}},{"$f":"IF(AA12=0,0,(AA12*((LOG(AA12))/LOG(2))))","v":{"$error":"#DIV/0!"}},null,{"$f":"N12","v":212},{"$f":"COUNTIF(L21:L26,AD12)","v":0},{"$f":"AE12/(AG4-AE7)","v":{"$error":"#DIV/0!"}},{"$f":"IF(AF12=0,0,(AF12*((LOG(AF12))/LOG(2))))","v":{"$error":"#DIV/0!"}},null,{"$f":"N12","v":212},{"$f":"COUNTIF(L27:L33,AI12)","v":0},{"$f":"AJ12/(AL4-AJ7)","v":{"$error":"#DIV/0!"}},{"$f":"IF(AK12=0,0,(AK12*((LOG(AK12))/LOG(2))))","v":{"$error":"#DIV/0!"}},null,{"$f":"N12","v":212},{"$f":"COUNTIF(L34:L40,AN12)","v":0},{"$f":"AO12/(AQ4-AO7)","v":{"$error":"#DIV/0!"}},{"$f":"IF(AP12=0,0,(AP12*((LOG(AP12))/LOG(2))))","v":{"$error":"#DIV/0!"}},null,{"$f":"N12","v":212},{"$f":"COUNTIF(L41:L47,AS12)","v":0},{"$f":"AT12/(AV4-AT7)","v":{"$error":"#DIV/0!"}},{"$f":"IF(AU12=0,0,(AU12*((LOG(AU12))/LOG(2))))","v":{"$error":"#DIV/0!"}}]
[11,1029,11,1055,11,1117,null,null,null,null,0,111,null,221,{"$f":"COUNTIF($L$7:$L$500,N13)","v":0},{"$f":"O13/$Q$4","v":0},{"$f":"IF(P13=0,0,(P13*((LOG(P13))/LOG(2))))","v":0},null,null,{"$f":"N13","v":221},{"$f":"COUNTIF(L7:L13,T13)","v":0},{"$f":"U13/(W4-U7)","v":0},{"$f":"IF(V13=0,0,(V13*((LOG(V13))/LOG(2))))","v":0},null,{"$f":"N13","v":221},{"$f":"COUNTIF(L14:L20,Y13)","v":0},{"$f":"Z13/(AB4-Z7)","v":{"$error":"#DIV/0!"}},{"$f":"IF(AA13=0,0,(AA13*((LOG(AA13))/LOG(2))))","v":{"$error":"#DIV/0!"}},null,{"$f":"N13","v":221},{"$f":"COUNTIF(L21:L26,AD13)","v":0},{"$f":"AE13/(AG4-AE7)","v":{"$error":"#DIV/0!"}},{"$f":"IF(AF13=0,0,(AF13*((LOG(AF13))/LOG(2))))","v":{"$error":"#DIV/0!"}},null,{"$f":"N13","v":221},{"$f":"COUNTIF(L27:L33,AI13)","v":0},{"$f":"AJ13/(AL4-AJ7)","v":{"$error":"#DIV/0!"}},{"$f":"IF(AK13=0,0,(AK13*((LOG(AK13))/LOG(2))))","v":{"$error":"#DIV/0!"}},null,{"$f":"N13","v":221},{"$f":"COUNTIF(L34:L40,AN13)","v":0},{"$f":"AO13/(AQ4-AO7)","v":{"$error":"#DIV/0!"}},{"$f":"IF(AP13=0,0,(AP13*((LOG(AP13))/LOG(2))))","v":{"$error":"#DIV/0!"}},null,{"$f":"N13","v":221},{"$f":"COUNTIF(L41:L47,AS13)","v":0},{"$f":"AT13/(AV4-AT7)","v":{"$error":"#DIV/0!"}},{"$f":"IF(AU13=0,0,(AU13*((LOG(AU13))/LOG(2))))","v":{"$error":"#DIV/0!"}}]
[11,1210,11,1227,11,1252,null,null,null,null,0,111,null,222,{"$f":"COUNTIF($L$7:$L$500,N14)","v":0},{"$f":"O14/$Q$4","v":0},{"$f":"IF(P14=0,0,(P14*((LOG(P14))/LOG(2))))","v":0},null,null,{"$f":"N14","v":222},{"$f":"COUNTIF(L7:L13,T14)","v":0},{"$f":"U14/(W4-U7)","v":0},{"$f":"IF(V14=0,0,(V14*((LOG(V14))/LOG(2))))","v":0},null,{"$f":"N14","v":222},{"$f":"COUNTIF(L14:L20,Y14)","v":0},{"$f":"Z14/(AB4-Z7)","v":{"$error":"#DIV/0!"}},{"$f":"IF(AA14=0,0,(AA14*((LOG(AA14))/LOG(2))))","v":{"$error":"#DIV/0!"}},null,{"$f":"N14","v":222},{"$f":"COUNTIF(L21:L26,AD14)","v":0},{"$f":"AE14/(AG4-AE7)","v":{"$error":"#DIV/0!"}},{"$f":"IF(AF14=0,0,(AF14*((LOG(AF14))/LOG(2))))","v":{"$error":"#DIV/0!"}},null,{"$f":"N14","v":222},{"$f":"COUNTIF(L27:L33,AI14)","v":0},{"$f":"AJ14/(AL4-AJ7)","v":{"$error":"#DIV/0!"}},{"$f":"IF(AK14=0,0,(AK14*((LOG(AK14))/LOG(2))))","v":{"$error":"#DIV/0!"}},null,{"$f":"N14","v":222},{"$f":"COUNTIF(L34:L40,AN14)","v":0},{"$f":"AO14/(AQ4-AO7)","v":{"$error":"#DIV/0!"}},{"$f":"IF(AP14=0,0,(AP14*((LOG(AP14))/LOG(2))))","v":{"$error":"#DIV/0!"}},null,{"$f":"N14","v":222},{"$f":"COUNTIF(L41:L47,AS14)","v":0},{"$f":"AT14/(AV4-AT7)","v":{"$error":"#DIV/0!"}},{"$f":"IF(AU14=0,0,(AU14*((LOG(AU14))/LOG(2))))","v":{"$error":"#DIV/0!"}}]
[11,1401,11,1420,11,1441,null,null,null,null,0,111,null,null,null,{"$f":"SUM(P7:P14)","v":1},{"$f":"-SUM(Q7:Q14)","v":0.16542703399626679},null,null,null,null,{"$f":"SUM(V7:V14)","v":1},{"$f":"-SUM(W7:W14)","v":0},null,null,null,{"$f":"SUM(AA7:AA14)","v":{"$error":"#DIV/0!"}},{"$f":"-SUM(AB7:AB14)","v":{"$error":"#DIV/0!"}},null,null,null,{"$f":"SUM(AF7:AF14)","v":{"$error":"#DIV/0!"}},{"$f":"-SUM(AG7:AG14)","v":{"$error":"#DIV/0!"}},null,null,null,{"$f":"SUM(AK7:AK14)","v":{"$error":"#DIV/0!"}},{"$f":"-SUM(AL7:AL14)","v":{"$error":"#DIV/0!"}},null,null,null,{"$f":"SUM(AP7:AP14)","v":{"$error":"#DIV/0!"}},{"$f":"-SUM(AQ7:AQ14)","v":{"$error":"#DIV/0!"}},null,null,null,{"$f":"SUM(AU7:AU14)","v":{"$error":"#DIV/0!"}},{"$f":"-SUM(AV7:AV14)","v":{"$error":"#DIV/0!"}}]
[11,1601,11,1615,11,1638,null,null,null,null,0,111,null,null,null,"U=",{"$f":"Q15/(LOG(Q4)/LOG(2))","v":3.0877354779509855E-2},null,null,null,null,"U1=",{"$f":"W15/(LOG(W4)/LOG(2))","v":0},null,null,null,"U2=",{"$f":"AB15/(LOG(AB4)/LOG(2))","v":{"$error":"#DIV/0!"}},null,null,null,"U3=",{"$f":"AG15/(LOG(AG4)/LOG(2))","v":{"$error":"#DIV/0!"}},null,null,null,"U4=",{"$f":"AL15/(LOG(AL4)/LOG(2))","v":{"$error":"#DIV/0!"}},null,null,null,"U5=",{"$f":"AQ15/(LOG(AQ4)/LOG(2))","v":{"$error":"#DIV/0!"}},null,null,null,"U6=",{"$f":"AV15/(LOG(AV4)/LOG(2))","v":{"$error":"#DIV/0!"}}]
[11,1897,11,1917,11,1935,null,null,null,null,0,111]
[11,2050,11,2068,11,2085,null,null,null,null,0,111]
[11,2252,11,2275,11,2298,null,null,null,null,0,111,null,"Total Target Seq"]
[11,2398,11,2417,11,2457,null,null,null,null,0,111,null,{"$f":"COUNTIF(L7:L47,G3)","v":40},null,7,7,6,7,7,7]
[11,2627,11,2648,11,2688,null,null,null,null,0,111,null,null,null,"% of reinforcement given in 6 equal intervals based on number of trials "]
[11,2777,11,2805,11,2821,null,null,null,null,0,111,null,null,null,"%_1","%_2","%_3","%_4","%_5","%_6"]
[11,2937,11,2950,11,2987,null,null,null,null,0,111,null,null,"target sequence",{"$f":"$G$3","v":111},{"$f":"$G$3","v":111},{"$f":"$G$3","v":111},{"$f":"$G$3","v":111},{"$f":"$G$3","v":111},{"$f":"$G$3","v":111}]
[11,3173,11,3202,11,3224,null,null,null,null,0,111,null,null,"total reinforcement",{"$f":"U7","v":6},{"$f":"Z7","v":7},{"$f":"AE7","v":6},{"$f":"AJ7","v":7},{"$f":"AO7","v":7},{"$f":"AT7","v":7}]
[11,3321,11,3335,11,3359,null,null,null,null,0,111,null,null,"% target"]
[11,3481,11,3497,11,3514,null,null,null,null,0,111,null,null,"CCRF"]
[11,3635,11,3662,11,3697,null,null,null,null,0,111,null,null,"% CCRf"]
[11,3915,11,3951,11,3978,null,null,null,null,0,111,null,null,"average response rate",{"$f":"F13/P20","v":159.57142857142858},{"$f":"(F20-F13)/Q20","v":191.42857142857142},{"$f":"(F26-F20)/R20","v":176.16666666666666},{"$f":"(F33-F26)/S20","v":219.85714285714286},{"$f":"(F40-F33)/T20","v":186.85714285714286},{"$f":"(F47-F40)/U20","v":199.71428571428572}]
[11,4146,11,4165,11,4187,null,null,null,null,0,111]
[11,4324,11,4345,11,4363,null,null,null,null,0,111]
[11,4498,11,4542,11,4582,null,null,null,null,0,111]
[11,4706,11,4772,11,4789,null,null,null,null,0,111]
[11,5019,11,5036,11,5053,null,null,null,null,0,111]
[11,5220,11,5248,11,5267,null,null,null,null,0,111]
[11,5446,11,5463,11,5480,null,null,null,null,0,111]
[11,5631,11,5646,11,5663,null,null,null,null,0,111]
[11,5817,11,5833,11,5853,null,null,null,null,0,111]
[11,6014,11,6029,11,6050,null,null,null,null,0,111]
[11,6192,11,6210,11,6226,null,null,null,null,0,111]
[11,6318,11,6341,11,6361,null,null,null,null,0,111]
[11,6492,11,6507,11,6533,null,null,null,null,0,111]
[11,6669,11,6685,11,6710,null,null,null,null,0,111]
[11,6933,11,6947,11,6962,null,null,null,null,0,111]
[11,7107,11,7122,11,7138,null,null,null,null,0,111]
[11,7347,11,7362,11,7379,null,null,null,null,0,111]
[11,7517,11,7546,11,7568,null,null,null,null,0,111]
[11,7724,11,7742,11,7759,null,null,null,null,1,111]

{"sheet":"!N20192B.AXT","index":12,"n_rows":51,"n_cols":48,"rows_kept":51,"cut":false,"hidden":false,"merged":[[4,39,4,42],[5,39,5,40],[4,44,4,47],[5,44,5,45],[4,24,4,27],[5,24,5,25],[4,29,4,32],[5,29,5,30],[4,34,4,37],[5,34,5,35],[1,1,1,2],[5,13,5,14],[18,13,18,14],[19,13,19,14],[4,19,4,22],[5,19,5,20]]}
["Report for:!N20192B.AXT"]
["Date:","<date>"]
["Hen:","<hen>",null,null,null,"Correct Sequence",{"$f":"Start!J2","v":111},null,null,null,null,null,null,null,null,"Total Sequences in Data",{"$f":"4994-COUNTBLANK(L7:L5000)","v":45},null,null,null,null,"Total Sequences in Block Data",{"$f":"COUNTA(L7:L14)","v":8},null,null,null,"Total Sequences in Block Data",{"$f":"COUNTA(L15:L21)","v":7},null,null,null,"Total Sequences in Block Data",{"$f":"COUNTA(L22:L29)","v":8},null,null,null,"Total Sequences in Block Data",{"$f":"COUNTA(L30:L36)","v":7},null,null,null,"Total Sequences in Block Data",{"$f":"COUNTA(L37:L44)","v":8},null,null,null,"Total Sequences in Block Data",{"$f":"COUNTA(L45:L51)","v":7}]
[null,null,null,null,null,null,null,null,null,null,null,null,null,null,null,"Total Sequences in Summary",{"$f":"SUM(O7:O14)","v":45},null,null,null,null,"Total Sequences in Block Summary",{"$f":"SUM(U7:U14)","v":8},null,null,null,"Total Sequences in Block Summary",{"$f":"SUM(Z7:Z14)","v":7},null,null,null,"Total Sequences in Block Summary",{"$f":"SUM(AE7:AE14)","v":8},null,null,null,"Total Sequences in Block Summary",{"$f":"SUM(AJ7:AJ14)","v":7},null,null,null,"Total Sequences in Block Summary",{"$f":"SUM(AO7:AO14)","v":8},null,null,null,"Total Sequences in Block Summary",{"$f":"SUM(AT7:AT14)","v":7}]
[null,null,null,null,null,null,null,null,null,null,null,null,null,null,null,null,null,null,null,"Block 1",null,null,null,null,"Block 2",null,null,null,null,"Block 3",null,null,null,null,"Block 4",null,null,null,null,"Block 5",null,null,null,null,"Block 6"]
["Sequence\nComponent\n1","Time\n1","Sequence\nComponent\n2","Time\n2","Sequence\nComponent\n3","Time\n3","Sequence\nComponent\n4","Time\n4","Sequence\nComponent\n5","Time\n5","Correct?\n0=No 1=Yes","Sequence",null,"Frequency",null,"Relative Frequency","Variability",null,null,"Frequency",null,"Relative Frequency","Variability",null,"Frequency",null,"Relative Frequency","Variability",null,"Frequency",null,"Relative Frequency","Variability",null,"Frequency",null,"Relative Frequency","Variability",null,"Frequency",null,"Relative Frequency","Variability",null,"Frequency",null,"Relative Frequency","Variability"]
[11,22,22,33,13,47,null,null,null,null,0,121,null,111,{"$f":"COUNTIF($L$7:$L$500,N7)","v":40},{"$f":"O7/$Q$4","v":0.88888888888888884},{"$f":"IF(P7=0,0,(P7*((LOG(P7))/LOG(2))))","v":-0.15104444572649992},null,null,{"$f":"N7","v":111},{"$f":"COUNTIF(L7:L14,T7)","v":5},null,null,null,{"$f":"N7","v":111},{"$f":"COUNTIF(L15:L21,Y7)","v":7},null,null,null,{"$f":"N7","v":111},{"$f":"COUNTIF(L22:L29,AD7)","v":8},null,null,null,{"$f":"N7","v":111},{"$f":"COUNTIF(L30:L36,AI7)","v":7},null,null,null,{"$f":"N7","v":111},{"$f":"COUNTIF(L37:L44,AN7)","v":6},null,null,null,{"$f":"N7","v":111},{"$f":"COUNTIF(L45:L51,AS7)","v":7}]
[11,140,11,144,11,157,null,null,null,null,0,111,null,112,{"$f":"COUNTIF($L$7:$L$500,N8)","v":0},{"$f":"O8/$Q$4","v":0},{"$f":"IF(P8=0,0,(P8*((LOG(P8))/LOG(2))))","v":0},null,null,{"$f":"N8","v":112},{"$f":"COUNTIF(L7:L14,T8)","v":0},{"$f":"U8/(W4-U7)","v":0},{"$f":"IF(V8=0,0,(V8*((LOG(V8))/LOG(2))))","v":0},null,{"$f":"N8","v":112},{"$f":"COUNTIF(L15:L21,Y8)","v":0},{"$f":"Z8/(AB4-Z7)","v":{"$error":"#DIV/0!"}},{"$f":"IF(AA8=0,0,(AA8*((LOG(AA8))/LOG(2))))","v":{"$error":"#DIV/0!"}},null,{"$f":"N8","v":112},{"$f":"COUNTIF(L22:L29,AD8)","v":0},{"$f":"AE8/(AG4-AE7)","v":{"$error":"#DIV/0!"}},{"$f":"IF(AF8=0,0,(AF8*((LOG(AF8))/LOG(2))))","v":{"$error":"#DIV/0!"}},null,{"$f":"N8","v":112},{"$f":"COUNTIF(L30:L36,AI8)","v":0},{"$f":"AJ8/(AL4-AJ7)","v":{"$error":"#DIV/0!"}},{"$f":"IF(AK8=0,0,(AK8*((LOG(AK8))/LOG(2))))","v":{"$error":"#DIV/0!"}},null,{"$f":"N8","v":112},{"$f":"COUNTIF(L37:L44,AN8)","v":0},{"$f":"AO8/(AQ4-AO7)","v":0},{"$f":"IF(AP8=0,0,(AP8*((LOG(AP8))/LOG(2))))","v":0},null,{"$f":"N8","v":112},{"$f":"COUNTIF(L45:L51,AS8)","v":0},{"$f":"AT8/(AV4-AT7)","v":{"$error":"#DIV/0!"}},{"$f":"IF(AU8=0,0,(AU8*((LOG(AU8))/LOG(2))))","v":{"$error":"#DIV/0!"}}]
[11,280,11,295,11,315,null,null,null,null,0,111,null,121,{"$f":"COUNTIF($L$7:$L$500,N9)","v":1},{"$f":"O9/$Q$4","v":2.2222222222222223E-2},{"$f":"IF(P9=0,0,(P9*((LOG(P9))/LOG(2))))","v":-0.12204117991843723},null,null,{"$f":"N9","v":121},{"$f":"COUNTIF(L7:L14,T9)","v":1},{"$f":"U9/(W4-U7)","v":0.33333333333333331},{"$f":"IF(V9=0,0,(V9*((LOG(V9))/LOG(2))))","v":-0.52832083357371862},null,{"$f":"N9","v":121},{"$f":"COUNTIF(L15:L21,Y9)","v":0},{"$f":"Z9/(AB4-Z7)","v":{"$error":"#DIV/0!"}},{"$f":"IF(AA9=0,0,(AA9*((LOG(AA9))/LOG(2))))","v":{"$error":"#DIV/0!"}},null,{"$f":"N9","v":121},{"$f":"COUNTIF(L22:L29,AD9)","v":0},{"$f":"AE9/(AG4-AE7)","v":{"$error":"#DIV/0!"}},{"$f":"IF(AF9=0,0,(AF9*((LOG(AF9))/LOG(2))))","v":{"$error":"#DIV/0!"}},null,{"$f":"N9","v":121},{"$f":"COUNTIF(L30:L36,AI9)","v":0},{"$f":"AJ9/(AL4-AJ7)","v":{"$error":"#DIV/0!"}},{"$f":"IF(AK9=0,0,(AK9*((LOG(AK9))/LOG(2))))","v":{"$error":"#DIV/0!"}},null,{"$f":"N9","v":121},{"$f":"COUNTIF(L37:L44,AN9)","v":0},{"$f":"AO9/(AQ4-AO7)","v":0},{"$f":"IF(AP9=0,0,(AP9*((LOG(AP9))/LOG(2))))","v":0},null,{"$f":"N9","v":121},{"$f":"COUNTIF(L45:L51,AS9)","v":0},{"$f":"AT9/(AV4-AT7)","v":{"$error":"#DIV/0!"}},{"$f":"IF(AU9=0,0,(AU9*((LOG(AU9))/LOG(2))))","v":{"$error":"#DIV/0!"}}]
[22,438,13,468,13,488,null,null,null,null,0,211,null,122,{"$f":"COUNTIF($L$7:$L$500,N10)","v":0},{"$f":"O10/$Q$4","v":0},{"$f":"IF(P10=0,0,(P10*((LOG(P10))/LOG(2))))","v":0},null,null,{"$f":"N10","v":122},{"$f":"COUNTIF(L7:L14,T10)","v":0},{"$f":"U10/(W4-U7)","v":0},{"$f":"IF(V10=0,0,(V10*((LOG(V10))/LOG(2))))","v":0},null,{"$f":"N10","v":122},{"$f":"COUNTIF(L15:L21,Y10)","v":0},{"$f":"Z10/(AB4-Z7)","v":{"$error":"#DIV/0!"}},{"$f":"IF(AA10=0,0,(AA10*((LOG(AA10))/LOG(2))))","v":{"$error":"#DIV/0!"}},null,{"$f":"N10","v":122},{"$f":"COUNTIF(L22:L29,AD10)","v":0},{"$f":"AE10/(AG4-AE7)","v":{"$error":"#DIV/0!"}},{"$f":"IF(AF10=0,0,(AF10*((LOG(AF10))/LOG(2))))","v":{"$error":"#DIV/0!"}},null,{"$f":"N10","v":122},{"$f":"COUNTIF(L30:L36,AI10)","v":0},{"$f":"AJ10/(AL4-AJ7)","v":{"$error":"#DIV/0!"}},{"$f":"IF(AK10=0,0,(AK10*((LOG(AK10))/LOG(2))))","v":{"$error":"#DIV/0!"}},null,{"$f":"N10","v":122},{"$f":"COUNTIF(L37:L44,AN10)","v":0},{"$f":"AO10/(AQ4-AO7)","v":0},{"$f":"IF(AP10=0,0,(AP10*((LOG(AP10))/LOG(2))))","v":0},null,{"$f":"N10","v":122},{"$f":"COUNTIF(L45:L51,AS10)","v":0},{"$f":"AT10/(AV4-AT7)","v":{"$error":"#DIV/0!"}},{"$f":"IF(AU10=0,0,(AU10*((LOG(AU10))/LOG(2))))","v":{"$error":"#DIV/0!"}}]
[11,596,11,603,11,605,null,null,null,null,0,111,null,211,{"$f":"COUNTIF($L$7:$L$500,N11)","v":3},{"$f":"O11/$Q$4","v":6.6666666666666666E-2},{"$f":"IF(P11=0,0,(P11*((LOG(P11))/LOG(2))))","v":-0.26045937304056793},null,null,{"$f":"N11","v":211},{"$f":"COUNTIF(L7:L14,T11)","v":2},{"$f":"U11/(W4-U7)","v":0.66666666666666663},{"$f":"IF(V11=0,0,(V11*((LOG(V11))/LOG(2))))","v":-0.38997500048077083},null,{"$f":"N11","v":211},{"$f":"COUNTIF(L15:L21,Y11)","v":0},{"$f":"Z11/(AB4-Z7)","v":{"$error":"#DIV/0!"}},{"$f":"IF(AA11=0,0,(AA11*((LOG(AA11))/LOG(2))))","v":{"$error":"#DIV/0!"}},null,{"$f":"N11","v":211},{"$f":"COUNTIF(L22:L29,AD11)","v":0},{"$f":"AE11/(AG4-AE7)","v":{"$error":"#DIV/0!"}},{"$f":"IF(AF11=0,0,(AF11*((LOG(AF11))/LOG(2))))","v":{"$error":"#DIV/0!"}},null,{"$f":"N11","v":211},{"$f":"COUNTIF(L30:L36,AI11)","v":0},{"$f":"AJ11/(AL4-AJ7)","v":{"$error":"#DIV/0!"}},{"$f":"IF(AK11=0,0,(AK11*((LOG(AK11))/LOG(2))))","v":{"$error":"#DIV/0!"}},null,{"$f":"N11","v":211},{"$f":"COUNTIF(L37:L44,AN11)","v":1},{"$f":"AO11/(AQ4-AO7)","v":0.5},{"$f":"IF(AP11=0,0,(AP11*((LOG(AP11))/LOG(2))))","v":-0.5},null,{"$f":"N11","v":211},{"$f":"COUNTIF(L45:L51,AS11)","v":0},{"$f":"AT11/(AV4-AT7)","v":{"$error":"#DIV/0!"}},{"$f":"IF(AU11=0,0,(AU11*((LOG(AU11))/LOG(2))))","v":{"$error":"#DIV/0!"}}]
[11,693,11,709,11,722,null,null,null,null,0,111,null,212,{"$f":"COUNTIF($L$7:$L$500,N12)","v":1},{"$f":"O12/$Q$4","v":2.2222222222222223E-2},{"$f":"IF(P12=0,0,(P12*((LOG(P12))/LOG(2))))","v":-0.12204117991843723},null,null,{"$f":"N12","v":212},{"$f":"COUNTIF(L7:L14,T12)","v":0},{"$f":"U12/(W4-U7)","v":0},{"$f":"IF(V12=0,0,(V12*((LOG(V12))/LOG(2))))","v":0},null,{"$f":"N12","v":212},{"$f":"COUNTIF(L15:L21,Y12)","v":0},{"$f":"Z12/(AB4-Z7)","v":{"$error":"#DIV/0!"}},{"$f":"IF(AA12=0,0,(AA12*((LOG(AA12))/LOG(2))))","v":{"$error":"#DIV/0!"}},null,{"$f":"N12","v":212},{"$f":"COUNTIF(L22:L29,AD12)","v":0},{"$f":"AE12/(AG4-AE7)","v":{"$error":"#DIV/0!"}},{"$f":"IF(AF12=0,0,(AF12*((LOG(AF12))/LOG(2))))","v":{"$error":"#DIV/0!"}},null,{"$f":"N12","v":212},{"$f":"COUNTIF(L30:L36,AI12)","v":0},{"$f":"AJ12/(AL4-AJ7)","v":{"$error":"#DIV/0!"}},{"$f":"IF(AK12=0,0,(AK12*((LOG(AK12))/LOG(2))))","v":{"$error":"#DIV/0!"}},null,{"$f":"N12","v":212},{"$f":"COUNTIF(L37:L44,AN12)","v":1},{"$f":"AO12/(AQ4-AO7)","v":0.5},{"$f":"IF(AP12=0,0,(AP12*((LOG(AP12))/LOG(2))))","v":-0.5},null,{"$f":"N12","v":212},{"$f":"COUNTIF(L45:L51,AS12)","v":0},{"$f":"AT12/(AV4-AT7)","v":{"$error":"#DIV/0!"}},{"$f":"IF(AU12=0,0,(AU12*((LOG(AU12))/LOG(2))))","v":{"$error":"#DIV/0!"}}]
[22,867,13,873,13,885,null,null,null,null,0,211,null,221,{"$f":"COUNTIF($L$7:$L$500,N13)","v":0},{"$f":"O13/$Q$4","v":0},{"$f":"IF(P13=0,0,(P13*((LOG(P13))/LOG(2))))","v":0},null,null,{"$f":"N13","v":221},{"$f":"COUNTIF(L7:L14,T13)","v":0},{"$f":"U13/(W4-U7)","v":0},{"$f":"IF(V13=0,0,(V13*((LOG(V13))/LOG(2))))","v":0},null,{"$f":"N13","v":221},{"$f":"COUNTIF(L15:L21,Y13)","v":0},{"$f":"Z13/(AB4-Z7)","v":{"$error":"#DIV/0!"}},{"$f":"IF(AA13=0,0,(AA13*((LOG(AA13))/LOG(2))))","v":{"$error":"#DIV/0!"}},null,{"$f":"N13","v":221},{"$f":"COUNTIF(L22:L29,AD13)","v":0},{"$f":"AE13/(AG4-AE7)","v":{"$error":"#DIV/0!"}},{"$f":"IF(AF13=0,0,(AF13*((LOG(AF13))/LOG(2))))","v":{"$error":"#DIV/0!"}},null,{"$f":"N13","v":221},{"$f":"COUNTIF(L30:L36,AI13)","v":0},{"$f":"AJ13/(AL4-AJ7)","v":{"$error":"#DIV/0!"}},{"$f":"IF(AK13=0,0,(AK13*((LOG(AK13))/LOG(2))))","v":{"$error":"#DIV/0!"}},null,{"$f":"N13","v":221},{"$f":"COUNTIF(L37:L44,AN13)","v":0},{"$f":"AO13/(AQ4-AO7)","v":0},{"$f":"IF(AP13=0,0,(AP13*((LOG(AP13))/LOG(2))))","v":0},null,{"$f":"N13","v":221},{"$f":"COUNTIF(L45:L51,AS13)","v":0},{"$f":"AT13/(AV4-AT7)","v":{"$error":"#DIV/0!"}},{"$f":"IF(AU13=0,0,(AU13*((LOG(AU13))/LOG(2))))","v":{"$error":"#DIV/0!"}}]
[11,1103,11,1110,11,1119,null,null,null,null,0,111,null,222,{"$f":"COUNTIF($L$7:$L$500,N14)","v":0},{"$f":"O14/$Q$4","v":0},{"$f":"IF(P14=0,0,(P14*((LOG(P14))/LOG(2))))","v":0},null,null,{"$f":"N14","v":222},{"$f":"COUNTIF(L7:L14,T14)","v":0},{"$f":"U14/(W4-U7)","v":0},{"$f":"IF(V14=0,0,(V14*((LOG(V14))/LOG(2))))","v":0},null,{"$f":"N14","v":222},{"$f":"COUNTIF(L15:L21,Y14)","v":0},{"$f":"Z14/(AB4-Z7)","v":{"$error":"#DIV/0!"}},{"$f":"IF(AA14=0,0,(AA14*((LOG(AA14))/LOG(2))))","v":{"$error":"#DIV/0!"}},null,{"$f":"N14","v":222},{"$f":"COUNTIF(L22:L29,AD14)","v":0},{"$f":"AE14/(AG4-AE7)","v":{"$error":"#DIV/0!"}},{"$f":"IF(AF14=0,0,(AF14*((LOG(AF14))/LOG(2))))","v":{"$error":"#DIV/0!"}},null,{"$f":"N14","v":222},{"$f":"COUNTIF(L30:L36,AI14)","v":0},{"$f":"AJ14/(AL4-AJ7)","v":{"$error":"#DIV/0!"}},{"$f":"IF(AK14=0,0,(AK14*((LOG(AK14))/LOG(2))))","v":{"$error":"#DIV/0!"}},null,{"$f":"N14","v":222},{"$f":"COUNTIF(L37:L44,AN14)","v":0},{"$f":"AO14/(AQ4-AO7)","v":0},{"$f":"IF(AP14=0,0,(AP14*((LOG(AP14))/LOG(2))))","v":0},null,{"$f":"N14","v":222},{"$f":"COUNTIF(L45:L51,AS14)","v":0},{"$f":"AT14/(AV4-AT7)","v":{"$error":"#DIV/0!"}},{"$f":"IF(AU14=0,0,(AU14*((LOG(AU14))/LOG(2))))","v":{"$error":"#DIV/0!"}}]
[11,1209,11,1225,11,1241,null,null,null,null,0,111,null,null,null,{"$f":"SUM(P7:P14)","v":1},{"$f":"-SUM(Q7:Q14)","v":0.6555861786039423},null,null,null,null,{"$f":"SUM(V7:V14)","v":1},{"$f":"-SUM(W7:W14)","v":0.91829583405448945},null,null,null,{"$f":"SUM(AA7:AA14)","v":{"$error":"#DIV/0!"}},{"$f":"-SUM(AB7:AB14)","v":{"$error":"#DIV/0!"}},null,null,null,{"$f":"SUM(AF7:AF14)","v":{"$error":"#DIV/0!"}},{"$f":"-SUM(AG7:AG14)","v":{"$error":"#DIV/0!"}},null,null,null,{"$f":"SUM(AK7:AK14)","v":{"$error":"#DIV/0!"}},{"$f":"-SUM(AL7:AL14)","v":{"$error":"#DIV/0!"}},null,null,null,{"$f":"SUM(AP7:AP14)","v":1},{"$f":"-SUM(AQ7:AQ14)","v":1},null,null,null,{"$f":"SUM(AU7:AU14)","v":{"$error":"#DIV/0!"}},{"$f":"-SUM(AV7:AV14)","v":{"$error":"#DIV/0!"}}]
[11,1332,11,1358,11,1372,null,null,null,null,0,111,null,null,null,"U=",{"$f":"Q15/(LOG(Q4)/LOG(2))","v":0.1193743108391018},null,null,null,null,"U1=",{"$f":"W15/(LOG(W4)/LOG(2))","v":0.30609861135149646},null,null,null,"U2=",{"$f":"AB15/(LOG(AB4)/LOG(2))","v":{"$error":"#DIV/0!"}},null,null,null,"U3=",{"$f":"AG15/(LOG(AG4)/LOG(2))","v":{"$error":"#DIV/0!"}},null,null,null,"U4=",{"$f":"AL15/(LOG(AL4)/LOG(2))","v":{"$error":"#DIV/0!"}},null,null,null,"U5=",{"$f":"AQ15/(LOG(AQ4)/LOG(2))","v":0.33333333333333331},null,null,null,"U6=",{"$f":"AV15/(LOG(AV4)/LOG(2))","v":{"$error":"#DIV/0!"}}]
[11,1486,11,1525,11,1553,null,null,null,null,0,111]
[11,1646,11,1674,11,1688,null,null,null,null,0,111]
[11,1837,11,1856,11,1897,null,null,null,null,0,111,null,"Total Target Seq"]
[11,1999,11,2017,11,2067,null,null,null,null,0,111,null,{"$f":"COUNTIF(L7:L51,G3)","v":40},null,8,7,8,7,8,7]
[11,2183,11,2204,11,2225,null,null,null,null,0,111,null,null,null,"% of reinforcement given in 6 equal intervals based on number of trials "]
[11,2333,11,2348,11,2371,null,null,null,null,0,111,null,null,null,"%_1","%_2","%_3","%_4","%_5","%_6"]
[11,2464,11,2484,11,2503,null,null,null,null,0,111,null,null,"target sequence",{"$f":"$G$3","v":111},{"$f":"$G$3","v":111},{"$f":"$G$3","v":111},{"$f":"$G$3","v":111},{"$f":"$G$3","v":111},{"$f":"$G$3","v":111}]
[11,2706,11,2725,11,2744,null,null,null,null,0,111,null,null,"total reinforcement",{"$f":"U7","v":5},{"$f":"Z7","v":7},{"$f":"AE7","v":8},{"$f":"AJ7","v":7},{"$f":"AO7","v":6},{"$f":"AT7","v":7}]
[11,2840,11,2852,11,2869,null,null,null,null,0,111,null,null,"% target"]
[11,2970,11,2979,11,2997,null,null,null,null,0,111,null,null,"CCRF"]
[11,3137,11,3175,11,3193,null,null,null,null,0,111,null,null,"% CCRf"]
[11,3308,11,3320,11,3337,null,null,null,null,0,111,null,null,"average response rate",{"$f":"F14/P20","v":139.875},{"$f":"(F21-F14)/Q20","v":158},{"$f":"(F29-F21)/R20","v":156.75},{"$f":"(F36-F29)/S20","v":204},{"$f":"(F44-F36)/T20","v":170.875},{"$f":"(F51-F44)/U20","v":199.14285714285714}]
[11,3449,11,3462,11,3479,null,null,null,null,0,111]
[11,3592,11,3612,11,3630,null,null,null,null,0,111]
[11,3766,11,3788,11,3815,null,null,null,null,0,111]
[11,3991,11,4022,11,4061,null,null,null,null,0,111]
[11,4261,11,4282,11,4298,null,null,null,null,0,111]
[11,4394,11,4407,11,4484,null,null,null,null,0,111]
[11,4662,11,4679,11,4700,null,null,null,null,0,111]
[11,4870,11,4889,11,4907,null,null,null,null,0,111]
[11,5032,11,5062,11,5092,null,null,null,null,0,111]
[11,5218,11,5238,11,5259,null,null,null,null,0,111]
[11,5374,11,5385,11,5441,null,null,null,null,0,111]
[11,5580,11,5602,11,5620,null,null,null,null,0,111]
[11,5745,11,5760,11,5778,null,null,null,null,0,111]
[22,5948,13,5981,13,5987,null,null,null,null,0,211]
[11,6139,11,6157,11,6172,null,null,null,null,0,111]
[22,6270,13,6272,24,6274,null,null,null,null,0,212]
[11,6479,11,6494,11,6510,null,null,null,null,0,111]
[11,6650,11,6667,11,6686,null,null,null,null,0,111]
[11,6827,11,6842,11,6861,null,null,null,null,0,111]
[11,7038,11,7059,11,7077,null,null,null,null,0,111]
[11,7216,11,7249,11,7273,null,null,null,null,0,111]
[11,7388,11,7405,11,7423,null,null,null,null,0,111]
[11,7615,11,7633,11,7668,null,null,null,null,1,111]

{"sheet":"!N202B0B.AXT","index":13,"n_rows":46,"n_cols":48,"rows_kept":46,"cut":false,"hidden":false,"merged":[[4,39,4,42],[5,39,5,40],[4,44,4,47],[5,44,5,45],[4,24,4,27],[5,24,5,25],[4,29,4,32],[5,29,5,30],[4,34,4,37],[5,34,5,35],[1,1,1,2],[5,13,5,14],[18,13,18,14],[19,13,19,14],[4,19,4,22],[5,19,5,20]]}
["Report for:!N202B0B.AXT"]
["Date:","<date>"]
["Hen:","<hen>",null,null,null,"Correct Sequence",{"$f":"Start!J2","v":111},null,null,null,null,null,null,null,null,"Total Sequences in Data",{"$f":"4994-COUNTBLANK(L7:L5000)","v":40},null,null,null,null,"Total Sequences in Block Data",{"$f":"COUNTA(L7:L13)","v":7},null,null,null,"Total Sequences in Block Data",{"$f":"COUNTA(L14:L19)","v":6},null,null,null,"Total Sequences in Block Data",{"$f":"COUNTA(L20:L26)","v":7},null,null,null,"Total Sequences in Block Data",{"$f":"COUNTA(L27:L33)","v":7},null,null,null,"Total Sequences in Block Data",{"$f":"COUNTA(L34:L39)","v":6},null,null,null,"Total Sequences in Block Data",{"$f":"COUNTA(L40:L46)","v":7}]
[null,null,null,null,null,null,null,null,null,null,null,null,null,null,null,"Total Sequences in Summary",{"$f":"SUM(O7:O14)","v":40},null,null,null,null,"Total Sequences in Block Summary",{"$f":"SUM(U7:U14)","v":7},null,null,null,"Total Sequences in Block Summary",{"$f":"SUM(Z7:Z14)","v":6},null,null,null,"Total Sequences in Block Summary",{"$f":"SUM(AE7:AE14)","v":7},null,null,null,"Total Sequences in Block Summary",{"$f":"SUM(AJ7:AJ14)","v":7},null,null,null,"Total Sequences in Block Summary",{"$f":"SUM(AO7:AO14)","v":6},null,null,null,"Total Sequences in Block Summary",{"$f":"SUM(AT7:AT14)","v":7}]
[null,null,null,null,null,null,null,null,null,null,null,null,null,null,null,null,null,null,null,"Block 1",null,null,null,null,"Block 2",null,null,null,null,"Block 3",null,null,null,null,"Block 4",null,null,null,null,"Block 5",null,null,null,null,"Block 6"]
["Sequence\nComponent\n1","Time\n1","Sequence\nComponent\n2","Time\n2","Sequence\nComponent\n3","Time\n3","Sequence\nComponent\n4","Time\n4","Sequence\nComponent\n5","Time\n5","Correct?\n0=No 1=Yes","Sequence",null,"Frequency",null,"Relative Frequency","Variability",null,null,"Frequency",null,"Relative Frequency","Variability",null,"Frequency",null,"Relative Frequency","Variability",null,"Frequency",null,"Relative Frequency","Variability",null,"Frequency",null,"Relative Frequency","Variability",null,"Frequency",null,"Relative Frequency","Variability",null,"Frequency",null,"Relative Frequency","Variability"]
[11,721,11,737,11,752,null,null,null,null,0,111,null,111,{"$f":"COUNTIF($L$7:$L$500,N7)","v":40},{"$f":"O7/$Q$4","v":1},{"$f":"IF(P7=0,0,(P7*((LOG(P7))/LOG(2))))","v":0},null,null,{"$f":"N7","v":111},{"$f":"COUNTIF(L7:L13,T7)","v":7},null,null,null,{"$f":"N7","v":111},{"$f":"COUNTIF(L14:L19,Y7)","v":6},null,null,null,{"$f":"N7","v":111},{"$f":"COUNTIF(L20:L26,AD7)","v":7},null,null,null,{"$f":"N7","v":111},{"$f":"COUNTIF(L27:L33,AI7)","v":7},null,null,null,{"$f":"N7","v":111},{"$f":"COUNTIF(L34:L39,AN7)","v":6},null,null,null,{"$f":"N7","v":111},{"$f":"COUNTIF(L40:L46,AS7)","v":7}]
[11,994,11,1017,11,1083,null,null,null,null,0,111,null,112,{"$f":"COUNTIF($L$7:$L$500,N8)","v":0},{"$f":"O8/$Q$4","v":0},{"$f":"IF(P8=0,0,(P8*((LOG(P8))/LOG(2))))","v":0},null,null,{"$f":"N8","v":112},{"$f":"COUNTIF(L7:L13,T8)","v":0},{"$f":"U8/(W4-U7)","v":{"$error":"#DIV/0!"}},{"$f":"IF(V8=0,0,(V8*((LOG(V8))/LOG(2))))","v":{"$error":"#DIV/0!"}},null,{"$f":"N8","v":112},{"$f":"COUNTIF(L14:L19,Y8)","v":0},{"$f":"Z8/(AB4-Z7)","v":{"$error":"#DIV/0!"}},{"$f":"IF(AA8=0,0,(AA8*((LOG(AA8))/LOG(2))))","v":{"$error":"#DIV/0!"}},null,{"$f":"N8","v":112},{"$f":"COUNTIF(L20:L26,AD8)","v":0},{"$f":"AE8/(AG4-AE7)","v":{"$error":"#DIV/0!"}},{"$f":"IF(AF8=0,0,(AF8*((LOG(AF8))/LOG(2))))","v":{"$error":"#DIV/0!"}},null,{"$f":"N8","v":112},{"$f":"COUNTIF(L27:L33,AI8)","v":0},{"$f":"AJ8/(AL4-AJ7)","v":{"$error":"#DIV/0!"}},{"$f":"IF(AK8=0,0,(AK8*((LOG(AK8))/LOG(2))))","v":{"$error":"#DIV/0!"}},null,{"$f":"N8","v":112},{"$f":"COUNTIF(L34:L39,AN8)","v":0},{"$f":"AO8/(AQ4-AO7)","v":{"$error":"#DIV/0!"}},{"$f":"IF(AP8=0,0,(AP8*((LOG(AP8))/LOG(2))))","v":{"$error":"#DIV/0!"}},null,{"$f":"N8","v":112},{"$f":"COUNTIF(L40:L46,AS8)","v":0},{"$f":"AT8/(AV4-AT7)","v":{"$error":"#DIV/0!"}},{"$f":"IF(AU8=0,0,(AU8*((LOG(AU8))/LOG(2))))","v":{"$error":"#DIV/0!"}}]
[11,1450,11,1486,11,1500,null,null,null,null,0,111,null,121,{"$f":"COUNTIF($L$7:$L$500,N9)","v":0},{"$f":"O9/$Q$4","v":0},{"$f":"IF(P9=0,0,(P9*((LOG(P9))/LOG(2))))","v":0},null,null,{"$f":"N9","v":121},{"$f":"COUNTIF(L7:L13,T9)","v":0},{"$f":"U9/(W4-U7)","v":{"$error":"#DIV/0!"}},{"$f":"IF(V9=0,0,(V9*((LOG(V9))/LOG(2))))","v":{"$error":"#DIV/0!"}},null,{"$f":"N9","v":121},{"$f":"COUNTIF(L14:L19,Y9)","v":0},{"$f":"Z9/(AB4-Z7)","v":{"$error":"#DIV/0!"}},{"$f":"IF(AA9=0,0,(AA9*((LOG(AA9))/LOG(2))))","v":{"$error":"#DIV/0!"}},null,{"$f":"N9","v":121},{"$f":"COUNTIF(L20:L26,AD9)","v":0},{"$f":"AE9/(AG4-AE7)","v":{"$error":"#DIV/0!"}},{"$f":"IF(AF9=0,0,(AF9*((LOG(AF9))/LOG(2))))","v":{"$error":"#DIV/0!"}},null,{"$f":"N9","v":121},{"$f":"COUNTIF(L27:L33,AI9)","v":0},{"$f":"AJ9/(AL4-AJ7)","v":{"$error":"#DIV/0!"}},{"$f":"IF(AK9=0,0,(AK9*((LOG(AK9))/LOG(2))))","v":{"$error":"#DIV/0!"}},null,{"$f":"N9","v":121},{"$f":"COUNTIF(L34:L39,AN9)","v":0},{"$f":"AO9/(AQ4-AO7)","v":{"$error":"#DIV/0!"}},{"$f":"IF(AP9=0,0,(AP9*((LOG(AP9))/LOG(2))))","v":{"$error":"#DIV/0!"}},null,{"$f":"N9","v":121},{"$f":"COUNTIF(L40:L46,AS9)","v":0},{"$f":"AT9/(AV4-AT7)","v":{"$error":"#DIV/0!"}},{"$f":"IF(AU9=0,0,(AU9*((LOG(AU9))/LOG(2))))","v":{"$error":"#DIV/0!"}}]
[11,1680,11,1703,11,1732,null,null,null,null,0,111,null,122,{"$f":"COUNTIF($L$7:$L$500,N10)","v":0},{"$f":"O10/$Q$4","v":0},{"$f":"IF(P10=0,0,(P10*((LOG(P10))/LOG(2))))","v":0},null,null,{"$f":"N10","v":122},{"$f":"COUNTIF(L7:L13,T10)","v":0},{"$f":"U10/(W4-U7)","v":{"$error":"#DIV/0!"}},{"$f":"IF(V10=0,0,(V10*((LOG(V10))/LOG(2))))","v":{"$error":"#DIV/0!"}},null,{"$f":"N10","v":122},{"$f":"COUNTIF(L14:L19,Y10)","v":0},{"$f":"Z10/(AB4-Z7)","v":{"$error":"#DIV/0!"}},{"$f":"IF(AA10=0,0,(AA10*((LOG(AA10))/LOG(2))))","v":{"$error":"#DIV/0!"}},null,{"$f":"N10","v":122},{"$f":"COUNTIF(L20:L26,AD10)","v":0},{"$f":"AE10/(AG4-AE7)","v":{"$error":"#DIV/0!"}},{"$f":"IF(AF10=0,0,(AF10*((LOG(AF10))/LOG(2))))","v":{"$error":"#DIV/0!"}},null,{"$f":"N10","v":122},{"$f":"COUNTIF(L27:L33,AI10)","v":0},{"$f":"AJ10/(AL4-AJ7)","v":{"$error":"#DIV/0!"}},{"$f":"IF(AK10=0,0,(AK10*((LOG(AK10))/LOG(2))))","v":{"$error":"#DIV/0!"}},null,{"$f":"N10","v":122},{"$f":"COUNTIF(L34:L39,AN10)","v":0},{"$f":"AO10/(AQ4-AO7)","v":{"$error":"#DIV/0!"}},{"$f":"IF(AP10=0,0,(AP10*((LOG(AP10))/LOG(2))))","v":{"$error":"#DIV/0!"}},null,{"$f":"N10","v":122},{"$f":"COUNTIF(L40:L46,AS10)","v":0},{"$f":"AT10/(AV4-AT7)","v":{"$error":"#DIV/0!"}},{"$f":"IF(AU10=0,0,(AU10*((LOG(AU10))/LOG(2))))","v":{"$error":"#DIV/0!"}}]
[11,1871,11,1886,11,1902,null,null,null,null,0,111,null,211,{"$f":"COUNTIF($L$7:$L$500,N11)","v":0},{"$f":"O11/$Q$4","v":0},{"$f":"IF(P11=0,0,(P11*((LOG(P11))/LOG(2))))","v":0},null,null,{"$f":"N11","v":211},{"$f":"COUNTIF(L7:L13,T11)","v":0},{"$f":"U11/(W4-U7)","v":{"$error":"#DIV/0!"}},{"$f":"IF(V11=0,0,(V11*((LOG(V11))/LOG(2))))","v":{"$error":"#DIV/0!"}},null,{"$f":"N11","v":211},{"$f":"COUNTIF(L14:L19,Y11)","v":0},{"$f":"Z11/(AB4-Z7)","v":{"$error":"#DIV/0!"}},{"$f":"IF(AA11=0,0,(AA11*((LOG(AA11))/LOG(2))))","v":{"$error":"#DIV/0!"}},null,{"$f":"N11","v":211},{"$f":"COUNTIF(L20:L26,AD11)","v":0},{"$f":"AE11/(AG4-AE7)","v":{"$error":"#DIV/0!"}},{"$f":"IF(AF11=0,0,(AF11*((LOG(AF11))/LOG(2))))","v":{"$error":"#DIV/0!"}},null,{"$f":"N11","v":211},{"$f":"COUNTIF(L27:L33,AI11)","v":0},{"$f":"AJ11/(AL4-AJ7)","v":{"$error":"#DIV/0!"}},{"$f":"IF(AK11=0,0,(AK11*((LOG(AK11))/LOG(2))))","v":{"$error":"#DIV/0!"}},null,{"$f":"N11","v":211},{"$f":"COUNTIF(L34:L39,AN11)","v":0},{"$f":"AO11/(AQ4-AO7)","v":{"$error":"#DIV/0!"}},{"$f":"IF(AP11=0,0,(AP11*((LOG(AP11))/LOG(2))))","v":{"$error":"#DIV/0!"}},null,{"$f":"N11","v":211},{"$f":"COUNTIF(L40:L46,AS11)","v":0},{"$f":"AT11/(AV4-AT7)","v":{"$error":"#DIV/0!"}},{"$f":"IF(AU11=0,0,(AU11*((LOG(AU11))/LOG(2))))","v":{"$error":"#DIV/0!"}}]
[11,2092,11,2135,11,2153,null,null,null,null,0,111,null,212,{"$f":"COUNTIF($L$7:$L$500,N12)","v":0},{"$f":"O12/$Q$4","v":0},{"$f":"IF(P12=0,0,(P12*((LOG(P12))/LOG(2))))","v":0},null,null,{"$f":"N12","v":212},{"$f":"COUNTIF(L7:L13,T12)","v":0},{"$f":"U12/(W4-U7)","v":{"$error":"#DIV/0!"}},{"$f":"IF(V12=0,0,(V12*((LOG(V12))/LOG(2))))","v":{"$error":"#DIV/0!"}},null,{"$f":"N12","v":212},{"$f":"COUNTIF(L14:L19,Y12)","v":0},{"$f":"Z12/(AB4-Z7)","v":{"$error":"#DIV/0!"}},{"$f":"IF(AA12=0,0,(AA12*((LOG(AA12))/LOG(2))))","v":{"$error":"#DIV/0!"}},null,{"$f":"N12","v":212},{"$f":"COUNTIF(L20:L26,AD12)","v":0},{"$f":"AE12/(AG4-AE7)","v":{"$error":"#DIV/0!"}},{"$f":"IF(AF12=0,0,(AF12*((LOG(AF12))/LOG(2))))","v":{"$error":"#DIV/0!"}},null,{"$f":"N12","v":212},{"$f":"COUNTIF(L27:L33,AI12)","v":0},{"$f":"AJ12/(AL4-AJ7)","v":{"$error":"#DIV/0!"}},{"$f":"IF(AK12=0,0,(AK12*((LOG(AK12))/LOG(2))))","v":{"$error":"#DIV/0!"}},null,{"$f":"N12","v":212},{"$f":"COUNTIF(L34:L39,AN12)","v":0},{"$f":"AO12/(AQ4-AO7)","v":{"$error":"#DIV/0!"}},{"$f":"IF(AP12=0,0,(AP12*((LOG(AP12))/LOG(2))))","v":{"$error":"#DIV/0!"}},null,{"$f":"N12","v":212},{"$f":"COUNTIF(L40:L46,AS12)","v":0},{"$f":"AT12/(AV4-AT7)","v":{"$error":"#DIV/0!"}},{"$f":"IF(AU12=0,0,(AU12*((LOG(AU12))/LOG(2))))","v":{"$error":"#DIV/0!"}}]
[11,2288,11,2305,11,2324,null,null,null,null,0,111,null,221,{"$f":"COUNTIF($L$7:$L$500,N13)","v":0},{"$f":"O13/$Q$4","v":0},{"$f":"IF(P13=0,0,(P13*((LOG(P13))/LOG(2))))","v":0},null,null,{"$f":"N13","v":221},{"$f":"COUNTIF(L7:L13,T13)","v":0},{"$f":"U13/(W4-U7)","v":{"$error":"#DIV/0!"}},{"$f":"IF(V13=0,0,(V13*((LOG(V13))/LOG(2))))","v":{"$error":"#DIV/0!"}},null,{"$f":"N13","v":221},{"$f":"COUNTIF(L14:L19,Y13)","v":0},{"$f":"Z13/(AB4-Z7)","v":{"$error":"#DIV/0!"}},{"$f":"IF(AA13=0,0,(AA13*((LOG(AA13))/LOG(2))))","v":{"$error":"#DIV/0!"}},null,{"$f":"N13","v":221},{"$f":"COUNTIF(L20:L26,AD13)","v":0},{"$f":"AE13/(AG4-AE7)","v":{"$error":"#DIV/0!"}},{"$f":"IF(AF13=0,0,(AF13*((LOG(AF13))/LOG(2))))","v":{"$error":"#DIV/0!"}},null,{"$f":"N13","v":221},{"$f":"COUNTIF(L27:L33,AI13)","v":0},{"$f":"AJ13/(AL4-AJ7)","v":{"$error":"#DIV/0!"}},{"$f":"IF(AK13=0,0,(AK13*((LOG(AK13))/LOG(2))))","v":{"$error":"#DIV/0!"}},null,{"$f":"N13","v":221},{"$f":"COUNTIF(L34:L39,AN13)","v":0},{"$f":"AO13/(AQ4-AO7)","v":{"$error":"#DIV/0!"}},{"$f":"IF(AP13=0,0,(AP13*((LOG(AP13))/LOG(2))))","v":{"$error":"#DIV/0!"}},null,{"$f":"N13","v":221},{"$f":"COUNTIF(L40:L46,AS13)","v":0},{"$f":"AT13/(AV4-AT7)","v":{"$error":"#DIV/0!"}},{"$f":"IF(AU13=0,0,(AU13*((LOG(AU13))/LOG(2))))","v":{"$error":"#DIV/0!"}}]
[11,2466,11,2487,11,2506,null,null,null,null,0,111,null,222,{"$f":"COUNTIF($L$7:$L$500,N14)","v":0},{"$f":"O14/$Q$4","v":0},{"$f":"IF(P14=0,0,(P14*((LOG(P14))/LOG(2))))","v":0},null,null,{"$f":"N14","v":222},{"$f":"COUNTIF(L7:L13,T14)","v":0},{"$f":"U14/(W4-U7)","v":{"$error":"#DIV/0!"}},{"$f":"IF(V14=0,0,(V14*((LOG(V14))/LOG(2))))","v":{"$error":"#DIV/0!"}},null,{"$f":"N14","v":222},{"$f":"COUNTIF(L14:L19,Y14)","v":0},{"$f":"Z14/(AB4-Z7)","v":{"$error":"#DIV/0!"}},{"$f":"IF(AA14=0,0,(AA14*((LOG(AA14))/LOG(2))))","v":{"$error":"#DIV/0!"}},null,{"$f":"N14","v":222},{"$f":"COUNTIF(L20:L26,AD14)","v":0},{"$f":"AE14/(AG4-AE7)","v":{"$error":"#DIV/0!"}},{"$f":"IF(AF14=0,0,(AF14*((LOG(AF14))/LOG(2))))","v":{"$error":"#DIV/0!"}},null,{"$f":"N14","v":222},{"$f":"COUNTIF(L27:L33,AI14)","v":0},{"$f":"AJ14/(AL4-AJ7)","v":{"$error":"#DIV/0!"}},{"$f":"IF(AK14=0,0,(AK14*((LOG(AK14))/LOG(2))))","v":{"$error":"#DIV/0!"}},null,{"$f":"N14","v":222},{"$f":"COUNTIF(L34:L39,AN14)","v":0},{"$f":"AO14/(AQ4-AO7)","v":{"$error":"#DIV/0!"}},{"$f":"IF(AP14=0,0,(AP14*((LOG(AP14))/LOG(2))))","v":{"$error":"#DIV/0!"}},null,{"$f":"N14","v":222},{"$f":"COUNTIF(L40:L46,AS14)","v":0},{"$f":"AT14/(AV4-AT7)","v":{"$error":"#DIV/0!"}},{"$f":"IF(AU14=0,0,(AU14*((LOG(AU14))/LOG(2))))","v":{"$error":"#DIV/0!"}}]
[11,2666,11,2695,11,2713,null,null,null,null,0,111,null,null,null,{"$f":"SUM(P7:P14)","v":1},{"$f":"-SUM(Q7:Q14)","v":0},null,null,null,null,{"$f":"SUM(V7:V14)","v":{"$error":"#DIV/0!"}},{"$f":"-SUM(W7:W14)","v":{"$error":"#DIV/0!"}},null,null,null,{"$f":"SUM(AA7:AA14)","v":{"$error":"#DIV/0!"}},{"$f":"-SUM(AB7:AB14)","v":{"$error":"#DIV/0!"}},null,null,null,{"$f":"SUM(AF7:AF14)","v":{"$error":"#DIV/0!"}},{"$f":"-SUM(AG7:AG14)","v":{"$error":"#DIV/0!"}},null,null,null,{"$f":"SUM(AK7:AK14)","v":{"$error":"#DIV/0!"}},{"$f":"-SUM(AL7:AL14)","v":{"$error":"#DIV/0!"}},null,null,null,{"$f":"SUM(AP7:AP14)","v":{"$error":"#DIV/0!"}},{"$f":"-SUM(AQ7:AQ14)","v":{"$error":"#DIV/0!"}},null,null,null,{"$f":"SUM(AU7:AU14)","v":{"$error":"#DIV/0!"}},{"$f":"-SUM(AV7:AV14)","v":{"$error":"#DIV/0!"}}]
[11,2912,11,2931,11,2963,null,null,null,null,0,111,null,null,null,"U=",{"$f":"Q15/(LOG(Q4)/LOG(2))","v":0},null,null,null,null,"U1=",{"$f":"W15/(LOG(W4)/LOG(2))","v":{"$error":"#DIV/0!"}},null,null,null,"U2=",{"$f":"AB15/(LOG(AB4)/LOG(2))","v":{"$error":"#DIV/0!"}},null,null,null,"U3=",{"$f":"AG15/(LOG(AG4)/LOG(2))","v":{"$error":"#DIV/0!"}},null,null,null,"U4=",{"$f":"AL15/(LOG(AL4)/LOG(2))","v":{"$error":"#DIV/0!"}},null,null,null,"U5=",{"$f":"AQ15/(LOG(AQ4)/LOG(2))","v":{"$error":"#DIV/0!"}},null,null,null,"U6=",{"$f":"AV15/(LOG(AV4)/LOG(2))","v":{"$error":"#DIV/0!"}}]
[11,3130,11,3147,11,3163,null,null,null,null,0,111]
[11,3281,11,3300,11,3304,null,null,null,null,0,111]
[11,3681,11,3694,11,3706,null,null,null,null,0,111,null,"Total Target Seq"]
[11,3830,11,3856,11,3889,null,null,null,null,0,111,null,{"$f":"COUNTIF(L7:L46,G3)","v":40},null,7,6,7,7,6,7]
[11,4049,11,4071,11,4141,null,null,null,null,0,111,null,null,null,"% of reinforcement given in 6 equal intervals based on number of trials "]
[11,4331,11,4348,11,4364,null,null,null,null,0,111,null,null,null,"%_1","%_2","%_3","%_4","%_5","%_6"]
[11,4709,11,4725,11,4746,null,null,null,null,0,111,null,null,"target sequence",{"$f":"$G$3","v":111},{"$f":"$G$3","v":111},{"$f":"$G$3","v":111},{"$f":"$G$3","v":111},{"$f":"$G$3","v":111},{"$f":"$G$3","v":111}]
[11,4843,11,4864,11,4886,null,null,null,null,0,111,null,null,"total reinforcement",{"$f":"U7","v":7},{"$f":"Z7","v":6},{"$f":"AE7","v":7},{"$f":"AJ7","v":7},{"$f":"AO7","v":6},{"$f":"AT7","v":7}]
[11,5099,11,5119,11,5146,null,null,null,null,0,111,null,null,"% target"]
[11,5333,11,5348,11,5369,null,null,null,null,0,111,null,null,"CCRF"]
[11,5647,11,5665,11,5681,null,null,null,null,0,111,null,null,"% CCRf"]
[11,5804,11,5820,11,5845,null,null,null,null,0,111,null,null,"average response rate",{"$f":"F13/P20","v":332},{"$f":"(F19-F13)/Q20","v":230.33333333333334},{"$f":"(F26-F19)/R20","v":237.57142857142858},{"$f":"(F33-F26)/S20","v":223.57142857142858},{"$f":"(F39-F33)/T20","v":185.66666666666666},{"$f":"(F46-F39)/U20","v":242.28571428571428}]
[11,5989,11,6004,11,6036,null,null,null,null,0,111]
[11,6191,11,6212,11,6234,null,null,null,null,0,111]
[11,6399,11,6429,11,6446,null,null,null,null,0,111]
[11,6585,11,6603,11,6635,null,null,null,null,0,111]
[11,6900,11,6916,11,6934,null,null,null,null,0,111]
[11,7075,11,7091,11,7108,null,null,null,null,0,111]
[11,7293,11,7312,11,7326,null,null,null,null,0,111]
[11,7491,11,7510,11,7527,null,null,null,null,0,111]
[11,7654,11,7671,11,7688,null,null,null,null,0,111]
[11,7861,11,7883,11,7900,null,null,null,null,0,111]
[11,8021,11,8034,11,8048,null,null,null,null,0,111]
[11,8146,11,8195,11,8211,null,null,null,null,0,111]
[11,8460,11,8474,11,8506,null,null,null,null,0,111]
[11,8839,11,8852,11,8867,null,null,null,null,0,111]
[11,9081,11,9103,11,9124,null,null,null,null,0,111]
[11,9254,11,9273,11,9290,null,null,null,null,0,111]
[11,9533,11,9543,11,9572,null,null,null,null,0,111]
[11,9678,11,9730,11,9744,null,null,null,null,1,111]

{"sheet":"!N20385B.AXT","index":14,"n_rows":46,"n_cols":48,"rows_kept":46,"cut":false,"hidden":false,"merged":[[4,39,4,42],[5,39,5,40],[4,44,4,47],[5,44,5,45],[4,24,4,27],[5,24,5,25],[4,29,4,32],[5,29,5,30],[4,34,4,37],[5,34,5,35],[1,1,1,2],[5,13,5,14],[18,13,18,14],[19,13,19,14],[4,19,4,22],[5,19,5,20]]}
["Report for:!N20385B.AXT"]
["Date:","<date>"]
["Hen:","<hen>",null,null,null,"Correct Sequence",{"$f":"Start!J2","v":111},null,null,null,null,null,null,null,null,"Total Sequences in Data",{"$f":"4994-COUNTBLANK(L7:L5000)","v":40},null,null,null,null,"Total Sequences in Block Data",{"$f":"COUNTA(L7:L13)","v":7},null,null,null,"Total Sequences in Block Data",{"$f":"COUNTA(L14:L19)","v":6},null,null,null,"Total Sequences in Block Data",{"$f":"COUNTA(L20:L26)","v":7},null,null,null,"Total Sequences in Block Data",{"$f":"COUNTA(L27:L33)","v":7},null,null,null,"Total Sequences in Block Data",{"$f":"COUNTA(L34:L39)","v":6},null,null,null,"Total Sequences in Block Data",{"$f":"COUNTA(L40:L46)","v":7}]
[null,null,null,null,null,null,null,null,null,null,null,null,null,null,null,"Total Sequences in Summary",{"$f":"SUM(O7:O14)","v":40},null,null,null,null,"Total Sequences in Block Summary",{"$f":"SUM(U7:U14)","v":7},null,null,null,"Total Sequences in Block Summary",{"$f":"SUM(Z7:Z14)","v":6},null,null,null,"Total Sequences in Block Summary",{"$f":"SUM(AE7:AE14)","v":7},null,null,null,"Total Sequences in Block Summary",{"$f":"SUM(AJ7:AJ14)","v":7},null,null,null,"Total Sequences in Block Summary",{"$f":"SUM(AO7:AO14)","v":6},null,null,null,"Total Sequences in Block Summary",{"$f":"SUM(AT7:AT14)","v":7}]
[null,null,null,null,null,null,null,null,null,null,null,null,null,null,null,null,null,null,null,"Block 1",null,null,null,null,"Block 2",null,null,null,null,"Block 3",null,null,null,null,"Block 4",null,null,null,null,"Block 5",null,null,null,null,"Block 6"]
["Sequence\nComponent\n1","Time\n1","Sequence\nComponent\n2","Time\n2","Sequence\nComponent\n3","Time\n3","Sequence\nComponent\n4","Time\n4","Sequence\nComponent\n5","Time\n5","Correct?\n0=No 1=Yes","Sequence",null,"Frequency",null,"Relative Frequency","Variability",null,null,"Frequency",null,"Relative Frequency","Variability",null,"Frequency",null,"Relative Frequency","Variability",null,"Frequency",null,"Relative Frequency","Variability",null,"Frequency",null,"Relative Frequency","Variability",null,"Frequency",null,"Relative Frequency","Variability",null,"Frequency",null,"Relative Frequency","Variability"]
[11,208,11,212,22,240,null,null,null,null,0,112,null,111,{"$f":"COUNTIF($L$7:$L$500,N7)","v":39},{"$f":"O7/$Q$4","v":0.97499999999999998},{"$f":"IF(P7=0,0,(P7*((LOG(P7))/LOG(2))))","v":-3.5612729124486181E-2},null,null,{"$f":"N7","v":111},{"$f":"COUNTIF(L7:L13,T7)","v":6},null,null,null,{"$f":"N7","v":111},{"$f":"COUNTIF(L14:L19,Y7)","v":6},null,null,null,{"$f":"N7","v":111},{"$f":"COUNTIF(L20:L26,AD7)","v":7},null,null,null,{"$f":"N7","v":111},{"$f":"COUNTIF(L27:L33,AI7)","v":7},null,null,null,{"$f":"N7","v":111},{"$f":"COUNTIF(L34:L39,AN7)","v":6},null,null,null,{"$f":"N7","v":111},{"$f":"COUNTIF(L40:L46,AS7)","v":7}]
[11,342,11,358,11,376,null,null,null,null,0,111,null,112,{"$f":"COUNTIF($L$7:$L$500,N8)","v":1},{"$f":"O8/$Q$4","v":2.5000000000000001E-2},{"$f":"IF(P8=0,0,(P8*((LOG(P8))/LOG(2))))","v":-0.13304820237218404},null,null,{"$f":"N8","v":112},{"$f":"COUNTIF(L7:L13,T8)","v":1},{"$f":"U8/(W4-U7)","v":1},{"$f":"IF(V8=0,0,(V8*((LOG(V8))/LOG(2))))","v":0},null,{"$f":"N8","v":112},{"$f":"COUNTIF(L14:L19,Y8)","v":0},{"$f":"Z8/(AB4-Z7)","v":{"$error":"#DIV/0!"}},{"$f":"IF(AA8=0,0,(AA8*((LOG(AA8))/LOG(2))))","v":{"$error":"#DIV/0!"}},null,{"$f":"N8","v":112},{"$f":"COUNTIF(L20:L26,AD8)","v":0},{"$f":"AE8/(AG4-AE7)","v":{"$error":"#DIV/0!"}},{"$f":"IF(AF8=0,0,(AF8*((LOG(AF8))/LOG(2))))","v":{"$error":"#DIV/0!"}},null,{"$f":"N8","v":112},{"$f":"COUNTIF(L27:L33,AI8)","v":0},{"$f":"AJ8/(AL4-AJ7)","v":{"$error":"#DIV/0!"}},{"$f":"IF(AK8=0,0,(AK8*((LOG(AK8))/LOG(2))))","v":{"$error":"#DIV/0!"}},null,{"$f":"N8","v":112},{"$f":"COUNTIF(L34:L39,AN8)","v":0},{"$f":"AO8/(AQ4-AO7)","v":{"$error":"#DIV/0!"}},{"$f":"IF(AP8=0,0,(AP8*((LOG(AP8))/LOG(2))))","v":{"$error":"#DIV/0!"}},null,{"$f":"N8","v":112},{"$f":"COUNTIF(L40:L46,AS8)","v":0},{"$f":"AT8/(AV4-AT7)","v":{"$error":"#DIV/0!"}},{"$f":"IF(AU8=0,0,(AU8*((LOG(AU8))/LOG(2))))","v":{"$error":"#DIV/0!"}}]
[11,521,11,540,11,571,null,null,null,null,0,111,null,121,{"$f":"COUNTIF($L$7:$L$500,N9)","v":0},{"$f":"O9/$Q$4","v":0},{"$f":"IF(P9=0,0,(P9*((LOG(P9))/LOG(2))))","v":0},null,null,{"$f":"N9","v":121},{"$f":"COUNTIF(L7:L13,T9)","v":0},{"$f":"U9/(W4-U7)","v":0},{"$f":"IF(V9=0,0,(V9*((LOG(V9))/LOG(2))))","v":0},null,{"$f":"N9","v":121},{"$f":"COUNTIF(L14:L19,Y9)","v":0},{"$f":"Z9/(AB4-Z7)","v":{"$error":"#DIV/0!"}},{"$f":"IF(AA9=0,0,(AA9*((LOG(AA9))/LOG(2))))","v":{"$error":"#DIV/0!"}},null,{"$f":"N9","v":121},{"$f":"COUNTIF(L20:L26,AD9)","v":0},{"$f":"AE9/(AG4-AE7)","v":{"$error":"#DIV/0!"}},{"$f":"IF(AF9=0,0,(AF9*((LOG(AF9))/LOG(2))))","v":{"$error":"#DIV/0!"}},null,{"$f":"N9","v":121},{"$f":"COUNTIF(L27:L33,AI9)","v":0},{"$f":"AJ9/(AL4-AJ7)","v":{"$error":"#DIV/0!"}},{"$f":"IF(AK9=0,0,(AK9*((LOG(AK9))/LOG(2))))","v":{"$error":"#DIV/0!"}},null,{"$f":"N9","v":121},{"$f":"COUNTIF(L34:L39,AN9)","v":0},{"$f":"AO9/(AQ4-AO7)","v":{"$error":"#DIV/0!"}},{"$f":"IF(AP9=0,0,(AP9*((LOG(AP9))/LOG(2))))","v":{"$error":"#DIV/0!"}},null,{"$f":"N9","v":121},{"$f":"COUNTIF(L40:L46,AS9)","v":0},{"$f":"AT9/(AV4-AT7)","v":{"$error":"#DIV/0!"}},{"$f":"IF(AU9=0,0,(AU9*((LOG(AU9))/LOG(2))))","v":{"$error":"#DIV/0!"}}]
[11,775,11,793,11,810,null,null,null,null,0,111,null,122,{"$f":"COUNTIF($L$7:$L$500,N10)","v":0},{"$f":"O10/$Q$4","v":0},{"$f":"IF(P10=0,0,(P10*((LOG(P10))/LOG(2))))","v":0},null,null,{"$f":"N10","v":122},{"$f":"COUNTIF(L7:L13,T10)","v":0},{"$f":"U10/(W4-U7)","v":0},{"$f":"IF(V10=0,0,(V10*((LOG(V10))/LOG(2))))","v":0},null,{"$f":"N10","v":122},{"$f":"COUNTIF(L14:L19,Y10)","v":0},{"$f":"Z10/(AB4-Z7)","v":{"$error":"#DIV/0!"}},{"$f":"IF(AA10=0,0,(AA10*((LOG(AA10))/LOG(2))))","v":{"$error":"#DIV/0!"}},null,{"$f":"N10","v":122},{"$f":"COUNTIF(L20:L26,AD10)","v":0},{"$f":"AE10/(AG4-AE7)","v":{"$error":"#DIV/0!"}},{"$f":"IF(AF10=0,0,(AF10*((LOG(AF10))/LOG(2))))","v":{"$error":"#DIV/0!"}},null,{"$f":"N10","v":122},{"$f":"COUNTIF(L27:L33,AI10)","v":0},{"$f":"AJ10/(AL4-AJ7)","v":{"$error":"#DIV/0!"}},{"$f":"IF(AK10=0,0,(AK10*((LOG(AK10))/LOG(2))))","v":{"$error":"#DIV/0!"}},null,{"$f":"N10","v":122},{"$f":"COUNTIF(L34:L39,AN10)","v":0},{"$f":"AO10/(AQ4-AO7)","v":{"$error":"#DIV/0!"}},{"$f":"IF(AP10=0,0,(AP10*((LOG(AP10))/LOG(2))))","v":{"$error":"#DIV/0!"}},null,{"$f":"N10","v":122},{"$f":"COUNTIF(L40:L46,AS10)","v":0},{"$f":"AT10/(AV4-AT7)","v":{"$error":"#DIV/0!"}},{"$f":"IF(AU10=0,0,(AU10*((LOG(AU10))/LOG(2))))","v":{"$error":"#DIV/0!"}}]
[11,907,11,928,11,971,null,null,null,null,0,111,null,211,{"$f":"COUNTIF($L$7:$L$500,N11)","v":0},{"$f":"O11/$Q$4","v":0},{"$f":"IF(P11=0,0,(P11*((LOG(P11))/LOG(2))))","v":0},null,null,{"$f":"N11","v":211},{"$f":"COUNTIF(L7:L13,T11)","v":0},{"$f":"U11/(W4-U7)","v":0},{"$f":"IF(V11=0,0,(V11*((LOG(V11))/LOG(2))))","v":0},null,{"$f":"N11","v":211},{"$f":"COUNTIF(L14:L19,Y11)","v":0},{"$f":"Z11/(AB4-Z7)","v":{"$error":"#DIV/0!"}},{"$f":"IF(AA11=0,0,(AA11*((LOG(AA11))/LOG(2))))","v":{"$error":"#DIV/0!"}},null,{"$f":"N11","v":211},{"$f":"COUNTIF(L20:L26,AD11)","v":0},{"$f":"AE11/(AG4-AE7)","v":{"$error":"#DIV/0!"}},{"$f":"IF(AF11=0,0,(AF11*((LOG(AF11))/LOG(2))))","v":{"$error":"#DIV/0!"}},null,{"$f":"N11","v":211},{"$f":"COUNTIF(L27:L33,AI11)","v":0},{"$f":"AJ11/(AL4-AJ7)","v":{"$error":"#DIV/0!"}},{"$f":"IF(AK11=0,0,(AK11*((LOG(AK11))/LOG(2))))","v":{"$error":"#DIV/0!"}},null,{"$f":"N11","v":211},{"$f":"COUNTIF(L34:L39,AN11)","v":0},{"$f":"AO11/(AQ4-AO7)","v":{"$error":"#DIV/0!"}},{"$f":"IF(AP11=0,0,(AP11*((LOG(AP11))/LOG(2))))","v":{"$error":"#DIV/0!"}},null,{"$f":"N11","v":211},{"$f":"COUNTIF(L40:L46,AS11)","v":0},{"$f":"AT11/(AV4-AT7)","v":{"$error":"#DIV/0!"}},{"$f":"IF(AU11=0,0,(AU11*((LOG(AU11))/LOG(2))))","v":{"$error":"#DIV/0!"}}]
[11,1089,11,1100,11,1132,null,null,null,null,0,111,null,212,{"$f":"COUNTIF($L$7:$L$500,N12)","v":0},{"$f":"O12/$Q$4","v":0},{"$f":"IF(P12=0,0,(P12*((LOG(P12))/LOG(2))))","v":0},null,null,{"$f":"N12","v":212},{"$f":"COUNTIF(L7:L13,T12)","v":0},{"$f":"U12/(W4-U7)","v":0},{"$f":"IF(V12=0,0,(V12*((LOG(V12))/LOG(2))))","v":0},null,{"$f":"N12","v":212},{"$f":"COUNTIF(L14:L19,Y12)","v":0},{"$f":"Z12/(AB4-Z7)","v":{"$error":"#DIV/0!"}},{"$f":"IF(AA12=0,0,(AA12*((LOG(AA12))/LOG(2))))","v":{"$error":"#DIV/0!"}},null,{"$f":"N12","v":212},{"$f":"COUNTIF(L20:L26,AD12)","v":0},{"$f":"AE12/(AG4-AE7)","v":{"$error":"#DIV/0!"}},{"$f":"IF(AF12=0,0,(AF12*((LOG(AF12))/LOG(2))))","v":{"$error":"#DIV/0!"}},null,{"$f":"N12","v":212},{"$f":"COUNTIF(L27:L33,AI12)","v":0},{"$f":"AJ12/(AL4-AJ7)","v":{"$error":"#DIV/0!"}},{"$f":"IF(AK12=0,0,(AK12*((LOG(AK12))/LOG(2))))","v":{"$error":"#DIV/0!"}},null,{"$f":"N12","v":212},{"$f":"COUNTIF(L34:L39,AN12)","v":0},{"$f":"AO12/(AQ4-AO7)","v":{"$error":"#DIV/0!"}},{"$f":"IF(AP12=0,0,(AP12*((LOG(AP12))/LOG(2))))","v":{"$error":"#DIV/0!"}},null,{"$f":"N12","v":212},{"$f":"COUNTIF(L40:L46,AS12)","v":0},{"$f":"AT12/(AV4-AT7)","v":{"$error":"#DIV/0!"}},{"$f":"IF(AU12=0,0,(AU12*((LOG(AU12))/LOG(2))))","v":{"$error":"#DIV/0!"}}]
[11,1254,11,1348,11,1359,null,null,null,null,0,111,null,221,{"$f":"COUNTIF($L$7:$L$500,N13)","v":0},{"$f":"O13/$Q$4","v":0},{"$f":"IF(P13=0,0,(P13*((LOG(P13))/LOG(2))))","v":0},null,null,{"$f":"N13","v":221},{"$f":"COUNTIF(L7:L13,T13)","v":0},{"$f":"U13/(W4-U7)","v":0},{"$f":"IF(V13=0,0,(V13*((LOG(V13))/LOG(2))))","v":0},null,{"$f":"N13","v":221},{"$f":"COUNTIF(L14:L19,Y13)","v":0},{"$f":"Z13/(AB4-Z7)","v":{"$error":"#DIV/0!"}},{"$f":"IF(AA13=0,0,(AA13*((LOG(AA13))/LOG(2))))","v":{"$error":"#DIV/0!"}},null,{"$f":"N13","v":221},{"$f":"COUNTIF(L20:L26,AD13)","v":0},{"$f":"AE13/(AG4-AE7)","v":{"$error":"#DIV/0!"}},{"$f":"IF(AF13=0,0,(AF13*((LOG(AF13))/LOG(2))))","v":{"$error":"#DIV/0!"}},null,{"$f":"N13","v":221},{"$f":"COUNTIF(L27:L33,AI13)","v":0},{"$f":"AJ13/(AL4-AJ7)","v":{"$error":"#DIV/0!"}},{"$f":"IF(AK13=0,0,(AK13*((LOG(AK13))/LOG(2))))","v":{"$error":"#DIV/0!"}},null,{"$f":"N13","v":221},{"$f":"COUNTIF(L34:L39,AN13)","v":0},{"$f":"AO13/(AQ4-AO7)","v":{"$error":"#DIV/0!"}},{"$f":"IF(AP13=0,0,(AP13*((LOG(AP13))/LOG(2))))","v":{"$error":"#DIV/0!"}},null,{"$f":"N13","v":221},{"$f":"COUNTIF(L40:L46,AS13)","v":0},{"$f":"AT13/(AV4-AT7)","v":{"$error":"#DIV/0!"}},{"$f":"IF(AU13=0,0,(AU13*((LOG(AU13))/LOG(2))))","v":{"$error":"#DIV/0!"}}]
[11,1578,11,1599,11,1617,null,null,null,null,0,111,null,222,{"$f":"COUNTIF($L$7:$L$500,N14)","v":0},{"$f":"O14/$Q$4","v":0},{"$f":"IF(P14=0,0,(P14*((LOG(P14))/LOG(2))))","v":0},null,null,{"$f":"N14","v":222},{"$f":"COUNTIF(L7:L13,T14)","v":0},{"$f":"U14/(W4-U7)","v":0},{"$f":"IF(V14=0,0,(V14*((LOG(V14))/LOG(2))))","v":0},null,{"$f":"N14","v":222},{"$f":"COUNTIF(L14:L19,Y14)","v":0},{"$f":"Z14/(AB4-Z7)","v":{"$error":"#DIV/0!"}},{"$f":"IF(AA14=0,0,(AA14*((LOG(AA14))/LOG(2))))","v":{"$error":"#DIV/0!"}},null,{"$f":"N14","v":222},{"$f":"COUNTIF(L20:L26,AD14)","v":0},{"$f":"AE14/(AG4-AE7)","v":{"$error":"#DIV/0!"}},{"$f":"IF(AF14=0,0,(AF14*((LOG(AF14))/LOG(2))))","v":{"$error":"#DIV/0!"}},null,{"$f":"N14","v":222},{"$f":"COUNTIF(L27:L33,AI14)","v":0},{"$f":"AJ14/(AL4-AJ7)","v":{"$error":"#DIV/0!"}},{"$f":"IF(AK14=0,0,(AK14*((LOG(AK14))/LOG(2))))","v":{"$error":"#DIV/0!"}},null,{"$f":"N14","v":222},{"$f":"COUNTIF(L34:L39,AN14)","v":0},{"$f":"AO14/(AQ4-AO7)","v":{"$error":"#DIV/0!"}},{"$f":"IF(AP14=0,0,(AP14*((LOG(AP14))/LOG(2))))","v":{"$error":"#DIV/0!"}},null,{"$f":"N14","v":222},{"$f":"COUNTIF(L40:L46,AS14)","v":0},{"$f":"AT14/(AV4-AT7)","v":{"$error":"#DIV/0!"}},{"$f":"IF(AU14=0,0,(AU14*((LOG(AU14))/LOG(2))))","v":{"$error":"#DIV/0!"}}]
[11,1775,11,1796,11,1815,null,null,null,null,0,111,null,null,null,{"$f":"SUM(P7:P14)","v":1},{"$f":"-SUM(Q7:Q14)","v":0.16866093149667022},null,null,null,null,{"$f":"SUM(V7:V14)","v":1},{"$f":"-SUM(W7:W14)","v":0},null,null,null,{"$f":"SUM(AA7:AA14)","v":{"$error":"#DIV/0!"}},{"$f":"-SUM(AB7:AB14)","v":{"$error":"#DIV/0!"}},null,null,null,{"$f":"SUM(AF7:AF14)","v":{"$error":"#DIV/0!"}},{"$f":"-SUM(AG7:AG14)","v":{"$error":"#DIV/0!"}},null,null,null,{"$f":"SUM(AK7:AK14)","v":{"$error":"#DIV/0!"}},{"$f":"-SUM(AL7:AL14)","v":{"$error":"#DIV/0!"}},null,null,null,{"$f":"SUM(AP7:AP14)","v":{"$error":"#DIV/0!"}},{"$f":"-SUM(AQ7:AQ14)","v":{"$error":"#DIV/0!"}},null,null,null,{"$f":"SUM(AU7:AU14)","v":{"$error":"#DIV/0!"}},{"$f":"-SUM(AV7:AV14)","v":{"$error":"#DIV/0!"}}]
[11,1943,11,1976,11,2031,null,null,null,null,0,111,null,null,null,"U=",{"$f":"Q15/(LOG(Q4)/LOG(2))","v":3.1691696785362135E-2},null,null,null,null,"U1=",{"$f":"W15/(LOG(W4)/LOG(2))","v":0},null,null,null,"U2=",{"$f":"AB15/(LOG(AB4)/LOG(2))","v":{"$error":"#DIV/0!"}},null,null,null,"U3=",{"$f":"AG15/(LOG(AG4)/LOG(2))","v":{"$error":"#DIV/0!"}},null,null,null,"U4=",{"$f":"AL15/(LOG(AL4)/LOG(2))","v":{"$error":"#DIV/0!"}},null,null,null,"U5=",{"$f":"AQ15/(LOG(AQ4)/LOG(2))","v":{"$error":"#DIV/0!"}},null,null,null,"U6=",{"$f":"AV15/(LOG(AV4)/LOG(2))","v":{"$error":"#DIV/0!"}}]
[11,2133,11,2154,11,2171,null,null,null,null,0,111]
[11,2309,11,2321,11,2381,null,null,null,null,0,111]
[11,2485,11,2505,11,2588,null,null,null,null,0,111,null,"Total Target Seq"]
[11,2769,11,2795,11,2815,null,null,null,null,0,111,null,{"$f":"COUNTIF(L7:L46,G3)","v":39},null,7,6,7,7,6,7]
[11,2951,11,2971,11,3017,null,null,null,null,0,111,null,null,null,"% of reinforcement given in 6 equal intervals based on number of trials "]
[11,3128,11,3146,11,3184,null,null,null,null,0,111,null,null,null,"%_1","%_2","%_3","%_4","%_5","%_6"]
[11,3289,11,3309,11,3330,null,null,null,null,0,111,null,null,"target sequence",{"$f":"$G$3","v":111},{"$f":"$G$3","v":111},{"$f":"$G$3","v":111},{"$f":"$G$3","v":111},{"$f":"$G$3","v":111},{"$f":"$G$3","v":111}]
[11,3575,11,3601,11,3612,null,null,null,null,0,111,null,null,"total reinforcement",{"$f":"U7","v":6},{"$f":"Z7","v":6},{"$f":"AE7","v":7},{"$f":"AJ7","v":7},{"$f":"AO7","v":6},{"$f":"AT7","v":7}]
[11,4013,11,4027,11,4042,null,null,null,null,0,111,null,null,"% target"]
[11,4129,11,4151,11,4174,null,null,null,null,0,111,null,null,"CCRF"]
[11,4381,11,4411,11,4430,null,null,null,null,0,111,null,null,"% CCRf"]
[11,4590,11,4642,11,4661,null,null,null,null,0,111,null,null,"average response rate",{"$f":"F13/P20","v":194.14285714285714},{"$f":"(F19-F13)/Q20","v":204.83333333333334},{"$f":"(F26-F19)/R20","v":226.57142857142858},{"$f":"(F33-F26)/S20","v":212.42857142857142},{"$f":"(F39-F33)/T20","v":216},{"$f":"(F46-F39)/U20","v":201.57142857142858}]
[11,4802,11,4810,11,4839,null,null,null,null,0,111]
[11,5009,11,5027,11,5048,null,null,null,null,0,111]
[11,5177,11,5191,11,5208,null,null,null,null,0,111]
[11,5347,11,5364,11,5401,null,null,null,null,0,111]
[11,5588,11,5642,11,5661,null,null,null,null,0,111]
[11,5819,11,5840,11,5867,null,null,null,null,0,111]
[11,6071,11,6089,11,6108,null,null,null,null,0,111]
[11,6255,11,6272,11,6290,null,null,null,null,0,111]
[11,6459,11,6478,11,6496,null,null,null,null,0,111]
[11,6711,11,6731,11,6772,null,null,null,null,0,111]
[11,6922,11,6938,11,6957,null,null,null,null,0,111]
[11,7137,11,7156,11,7174,null,null,null,null,0,111]
[11,7332,11,7350,11,7369,null,null,null,null,0,111]
[11,7505,11,7521,11,7542,null,null,null,null,0,111]
[11,7775,11,7798,11,7814,null,null,null,null,0,111]
[11,7950,11,7968,11,7988,null,null,null,null,0,111]
[11,8211,11,8226,11,8246,null,null,null,null,0,111]
[11,8338,11,8355,11,8368,null,null,null,null,1,111]

{"sheet":"!N204A1B.AXT","index":15,"n_rows":52,"n_cols":48,"rows_kept":52,"cut":false,"hidden":false,"merged":[[4,39,4,42],[5,39,5,40],[4,44,4,47],[5,44,5,45],[4,24,4,27],[5,24,5,25],[4,29,4,32],[5,29,5,30],[4,34,4,37],[5,34,5,35],[1,1,1,2],[5,13,5,14],[18,13,18,14],[19,13,19,14],[4,19,4,22],[5,19,5,20]]}
["Report for:!N204A1B.AXT"]
["Date:","<date>"]
["Hen:","<hen>",null,null,null,"Correct Sequence",{"$f":"Start!J2","v":111},null,null,null,null,null,null,null,null,"Total Sequences in Data",{"$f":"4994-COUNTBLANK(L7:L5000)","v":46},null,null,null,null,"Total Sequences in Block Data",{"$f":"COUNTA(L7:L14)","v":8},null,null,null,"Total Sequences in Block Data",{"$f":"COUNTA(L15:L21)","v":7},null,null,null,"Total Sequences in Block Data",{"$f":"COUNTA(L22:L29)","v":8},null,null,null,"Total Sequences in Block Data",{"$f":"COUNTA(L30:L37)","v":8},null,null,null,"Total Sequences in Block Data",{"$f":"COUNTA(L38:L44)","v":7},null,null,null,"Total Sequences in Block Data",{"$f":"COUNTA(L45:L52)","v":8}]
[null,null,null,null,null,null,null,null,null,null,null,null,null,null,null,"Total Sequences in Summary",{"$f":"SUM(O7:O14)","v":46},null,null,null,null,"Total Sequences in Block Summary",{"$f":"SUM(U7:U14)","v":8},null,null,null,"Total Sequences in Block Summary",{"$f":"SUM(Z7:Z14)","v":7},null,null,null,"Total Sequences in Block Summary",{"$f":"SUM(AE7:AE14)","v":8},null,null,null,"Total Sequences in Block Summary",{"$f":"SUM(AJ7:AJ14)","v":8},null,null,null,"Total Sequences in Block Summary",{"$f":"SUM(AO7:AO14)","v":7},null,null,null,"Total Sequences in Block Summary",{"$f":"SUM(AT7:AT14)","v":8}]
[null,null,null,null,null,null,null,null,null,null,null,null,null,null,null,null,null,null,null,"Block 1",null,null,null,null,"Block 2",null,null,null,null,"Block 3",null,null,null,null,"Block 4",null,null,null,null,"Block 5",null,null,null,null,"Block 6"]
["Sequence\nComponent\n1","Time\n1","Sequence\nComponent\n2","Time\n2","Sequence\nComponent\n3","Time\n3","Sequence\nComponent\n4","Time\n4","Sequence\nComponent\n5","Time\n5","Correct?\n0=No 1=Yes","Sequence",null,"Frequency",null,"Relative Frequency","Variability",null,null,"Frequency",null,"Relative Frequency","Variability",null,"Frequency",null,"Relative Frequency","Variability",null,"Frequency",null,"Relative Frequency","Variability",null,"Frequency",null,"Relative Frequency","Variability",null,"Frequency",null,"Relative Frequency","Variability",null,"Frequency",null,"Relative Frequency","Variability"]
[11,5,11,9,11,39,null,null,null,null,0,111,null,111,{"$f":"COUNTIF($L$7:$L$500,N7)","v":39},{"$f":"O7/$Q$4","v":0.84782608695652173},{"$f":"IF(P7=0,0,(P7*((LOG(P7))/LOG(2))))","v":-0.2019180380564308},null,null,{"$f":"N7","v":111},{"$f":"COUNTIF(L7:L14,T7)","v":8},null,null,null,{"$f":"N7","v":111},{"$f":"COUNTIF(L15:L21,Y7)","v":7},null,null,null,{"$f":"N7","v":111},{"$f":"COUNTIF(L22:L29,AD7)","v":7},null,null,null,{"$f":"N7","v":111},{"$f":"COUNTIF(L30:L37,AI7)","v":7},null,null,null,{"$f":"N7","v":111},{"$f":"COUNTIF(L38:L44,AN7)","v":5},null,null,null,{"$f":"N7","v":111},{"$f":"COUNTIF(L45:L52,AS7)","v":5}]
[11,136,11,157,11,184,null,null,null,null,0,111,null,112,{"$f":"COUNTIF($L$7:$L$500,N8)","v":2},{"$f":"O8/$Q$4","v":4.3478260869565216E-2},{"$f":"IF(P8=0,0,(P8*((LOG(P8))/LOG(2))))","v":-0.19667660678508753},null,null,{"$f":"N8","v":112},{"$f":"COUNTIF(L7:L14,T8)","v":0},{"$f":"U8/(W4-U7)","v":{"$error":"#DIV/0!"}},{"$f":"IF(V8=0,0,(V8*((LOG(V8))/LOG(2))))","v":{"$error":"#DIV/0!"}},null,{"$f":"N8","v":112},{"$f":"COUNTIF(L15:L21,Y8)","v":0},{"$f":"Z8/(AB4-Z7)","v":{"$error":"#DIV/0!"}},{"$f":"IF(AA8=0,0,(AA8*((LOG(AA8))/LOG(2))))","v":{"$error":"#DIV/0!"}},null,{"$f":"N8","v":112},{"$f":"COUNTIF(L22:L29,AD8)","v":0},{"$f":"AE8/(AG4-AE7)","v":0},{"$f":"IF(AF8=0,0,(AF8*((LOG(AF8))/LOG(2))))","v":0},null,{"$f":"N8","v":112},{"$f":"COUNTIF(L30:L37,AI8)","v":0},{"$f":"AJ8/(AL4-AJ7)","v":0},{"$f":"IF(AK8=0,0,(AK8*((LOG(AK8))/LOG(2))))","v":0},null,{"$f":"N8","v":112},{"$f":"COUNTIF(L38:L44,AN8)","v":1},{"$f":"AO8/(AQ4-AO7)","v":0.5},{"$f":"IF(AP8=0,0,(AP8*((LOG(AP8))/LOG(2))))","v":-0.5},null,{"$f":"N8","v":112},{"$f":"COUNTIF(L45:L52,AS8)","v":1},{"$f":"AT8/(AV4-AT7)","v":0.33333333333333331},{"$f":"IF(AU8=0,0,(AU8*((LOG(AU8))/LOG(2))))","v":-0.52832083357371862}]
[11,273,11,294,11,324,null,null,null,null,0,111,null,121,{"$f":"COUNTIF($L$7:$L$500,N9)","v":1},{"$f":"O9/$Q$4","v":2.1739130434782608E-2},{"$f":"IF(P9=0,0,(P9*((LOG(P9))/LOG(2))))","v":-0.12007743382732637},null,null,{"$f":"N9","v":121},{"$f":"COUNTIF(L7:L14,T9)","v":0},{"$f":"U9/(W4-U7)","v":{"$error":"#DIV/0!"}},{"$f":"IF(V9=0,0,(V9*((LOG(V9))/LOG(2))))","v":{"$error":"#DIV/0!"}},null,{"$f":"N9","v":121},{"$f":"COUNTIF(L15:L21,Y9)","v":0},{"$f":"Z9/(AB4-Z7)","v":{"$error":"#DIV/0!"}},{"$f":"IF(AA9=0,0,(AA9*((LOG(AA9))/LOG(2))))","v":{"$error":"#DIV/0!"}},null,{"$f":"N9","v":121},{"$f":"COUNTIF(L22:L29,AD9)","v":1},{"$f":"AE9/(AG4-AE7)","v":1},{"$f":"IF(AF9=0,0,(AF9*((LOG(AF9))/LOG(2))))","v":0},null,{"$f":"N9","v":121},{"$f":"COUNTIF(L30:L37,AI9)","v":0},{"$f":"AJ9/(AL4-AJ7)","v":0},{"$f":"IF(AK9=0,0,(AK9*((LOG(AK9))/LOG(2))))","v":0},null,{"$f":"N9","v":121},{"$f":"COUNTIF(L38:L44,AN9)","v":0},{"$f":"AO9/(AQ4-AO7)","v":0},{"$f":"IF(AP9=0,0,(AP9*((LOG(AP9))/LOG(2))))","v":0},null,{"$f":"N9","v":121},{"$f":"COUNTIF(L45:L52,AS9)","v":0},{"$f":"AT9/(AV4-AT7)","v":0},{"$f":"IF(AU9=0,0,(AU9*((LOG(AU9))/LOG(2))))","v":0}]
[11,414,11,432,11,450,null,null,null,null,0,111,null,122,{"$f":"COUNTIF($L$7:$L$500,N10)","v":1},{"$f":"O10/$Q$4","v":2.1739130434782608E-2},{"$f":"IF(P10=0,0,(P10*((LOG(P10))/LOG(2))))","v":-0.12007743382732637},null,null,{"$f":"N10","v":122},{"$f":"COUNTIF(L7:L14,T10)","v":0},{"$f":"U10/(W4-U7)","v":{"$error":"#DIV/0!"}},{"$f":"IF(V10=0,0,(V10*((LOG(V10))/LOG(2))))","v":{"$error":"#DIV/0!"}},null,{"$f":"N10","v":122},{"$f":"COUNTIF(L15:L21,Y10)","v":0},{"$f":"Z10/(AB4-Z7)","v":{"$error":"#DIV/0!"}},{"$f":"IF(AA10=0,0,(AA10*((LOG(AA10))/LOG(2))))","v":{"$error":"#DIV/0!"}},null,{"$f":"N10","v":122},{"$f":"COUNTIF(L22:L29,AD10)","v":0},{"$f":"AE10/(AG4-AE7)","v":0},{"$f":"IF(AF10=0,0,(AF10*((LOG(AF10))/LOG(2))))","v":0},null,{"$f":"N10","v":122},{"$f":"COUNTIF(L30:L37,AI10)","v":1},{"$f":"AJ10/(AL4-AJ7)","v":1},{"$f":"IF(AK10=0,0,(AK10*((LOG(AK10))/LOG(2))))","v":0},null,{"$f":"N10","v":122},{"$f":"COUNTIF(L38:L44,AN10)","v":0},{"$f":"AO10/(AQ4-AO7)","v":0},{"$f":"IF(AP10=0,0,(AP10*((LOG(AP10))/LOG(2))))","v":0},null,{"$f":"N10","v":122},{"$f":"COUNTIF(L45:L52,AS10)","v":0},{"$f":"AT10/(AV4-AT7)","v":0},{"$f":"IF(AU10=0,0,(AU10*((LOG(AU10))/LOG(2))))","v":0}]
[11,597,11,617,11,636,null,null,null,null,0,111,null,211,{"$f":"COUNTIF($L$7:$L$500,N11)","v":3},{"$f":"O11/$Q$4","v":6.5217391304347824E-2},{"$f":"IF(P11=0,0,(P11*((LOG(P11))/LOG(2))))","v":-0.25686518186972979},null,null,{"$f":"N11","v":211},{"$f":"COUNTIF(L7:L14,T11)","v":0},{"$f":"U11/(W4-U7)","v":{"$error":"#DIV/0!"}},{"$f":"IF(V11=0,0,(V11*((LOG(V11))/LOG(2))))","v":{"$error":"#DIV/0!"}},null,{"$f":"N11","v":211},{"$f":"COUNTIF(L15:L21,Y11)","v":0},{"$f":"Z11/(AB4-Z7)","v":{"$error":"#DIV/0!"}},{"$f":"IF(AA11=0,0,(AA11*((LOG(AA11))/LOG(2))))","v":{"$error":"#DIV/0!"}},null,{"$f":"N11","v":211},{"$f":"COUNTIF(L22:L29,AD11)","v":0},{"$f":"AE11/(AG4-AE7)","v":0},{"$f":"IF(AF11=0,0,(AF11*((LOG(AF11))/LOG(2))))","v":0},null,{"$f":"N11","v":211},{"$f":"COUNTIF(L30:L37,AI11)","v":0},{"$f":"AJ11/(AL4-AJ7)","v":0},{"$f":"IF(AK11=0,0,(AK11*((LOG(AK11))/LOG(2))))","v":0},null,{"$f":"N11","v":211},{"$f":"COUNTIF(L38:L44,AN11)","v":1},{"$f":"AO11/(AQ4-AO7)","v":0.5},{"$f":"IF(AP11=0,0,(AP11*((LOG(AP11))/LOG(2))))","v":-0.5},null,{"$f":"N11","v":211},{"$f":"COUNTIF(L45:L52,AS11)","v":2},{"$f":"AT11/(AV4-AT7)","v":0.66666666666666663},{"$f":"IF(AU11=0,0,(AU11*((LOG(AU11))/LOG(2))))","v":-0.38997500048077083}]
[11,728,11,747,11,768,null,null,null,null,0,111,null,212,{"$f":"COUNTIF($L$7:$L$500,N12)","v":0},{"$f":"O12/$Q$4","v":0},{"$f":"IF(P12=0,0,(P12*((LOG(P12))/LOG(2))))","v":0},null,null,{"$f":"N12","v":212},{"$f":"COUNTIF(L7:L14,T12)","v":0},{"$f":"U12/(W4-U7)","v":{"$error":"#DIV/0!"}},{"$f":"IF(V12=0,0,(V12*((LOG(V12))/LOG(2))))","v":{"$error":"#DIV/0!"}},null,{"$f":"N12","v":212},{"$f":"COUNTIF(L15:L21,Y12)","v":0},{"$f":"Z12/(AB4-Z7)","v":{"$error":"#DIV/0!"}},{"$f":"IF(AA12=0,0,(AA12*((LOG(AA12))/LOG(2))))","v":{"$error":"#DIV/0!"}},null,{"$f":"N12","v":212},{"$f":"COUNTIF(L22:L29,AD12)","v":0},{"$f":"AE12/(AG4-AE7)","v":0},{"$f":"IF(AF12=0,0,(AF12*((LOG(AF12))/LOG(2))))","v":0},null,{"$f":"N12","v":212},{"$f":"COUNTIF(L30:L37,AI12)","v":0},{"$f":"AJ12/(AL4-AJ7)","v":0},{"$f":"IF(AK12=0,0,(AK12*((LOG(AK12))/LOG(2))))","v":0},null,{"$f":"N12","v":212},{"$f":"COUNTIF(L38:L44,AN12)","v":0},{"$f":"AO12/(AQ4-AO7)","v":0},{"$f":"IF(AP12=0,0,(AP12*((LOG(AP12))/LOG(2))))","v":0},null,{"$f":"N12","v":212},{"$f":"COUNTIF(L45:L52,AS12)","v":0},{"$f":"AT12/(AV4-AT7)","v":0},{"$f":"IF(AU12=0,0,(AU12*((LOG(AU12))/LOG(2))))","v":0}]
[11,886,11,915,11,940,null,null,null,null,0,111,null,221,{"$f":"COUNTIF($L$7:$L$500,N13)","v":0},{"$f":"O13/$Q$4","v":0},{"$f":"IF(P13=0,0,(P13*((LOG(P13))/LOG(2))))","v":0},null,null,{"$f":"N13","v":221},{"$f":"COUNTIF(L7:L14,T13)","v":0},{"$f":"U13/(W4-U7)","v":{"$error":"#DIV/0!"}},{"$f":"IF(V13=0,0,(V13*((LOG(V13))/LOG(2))))","v":{"$error":"#DIV/0!"}},null,{"$f":"N13","v":221},{"$f":"COUNTIF(L15:L21,Y13)","v":0},{"$f":"Z13/(AB4-Z7)","v":{"$error":"#DIV/0!"}},{"$f":"IF(AA13=0,0,(AA13*((LOG(AA13))/LOG(2))))","v":{"$error":"#DIV/0!"}},null,{"$f":"N13","v":221},{"$f":"COUNTIF(L22:L29,AD13)","v":0},{"$f":"AE13/(AG4-AE7)","v":0},{"$f":"IF(AF13=0,0,(AF13*((LOG(AF13))/LOG(2))))","v":0},null,{"$f":"N13","v":221},{"$f":"COUNTIF(L30:L37,AI13)","v":0},{"$f":"AJ13/(AL4-AJ7)","v":0},{"$f":"IF(AK13=0,0,(AK13*((LOG(AK13))/LOG(2))))","v":0},null,{"$f":"N13","v":221},{"$f":"COUNTIF(L38:L44,AN13)","v":0},{"$f":"AO13/(AQ4-AO7)","v":0},{"$f":"IF(AP13=0,0,(AP13*((LOG(AP13))/LOG(2))))","v":0},null,{"$f":"N13","v":221},{"$f":"COUNTIF(L45:L52,AS13)","v":0},{"$f":"AT13/(AV4-AT7)","v":0},{"$f":"IF(AU13=0,0,(AU13*((LOG(AU13))/LOG(2))))","v":0}]
[11,1165,11,1250,11,1271,null,null,null,null,0,111,null,222,{"$f":"COUNTIF($L$7:$L$500,N14)","v":0},{"$f":"O14/$Q$4","v":0},{"$f":"IF(P14=0,0,(P14*((LOG(P14))/LOG(2))))","v":0},null,null,{"$f":"N14","v":222},{"$f":"COUNTIF(L7:L14,T14)","v":0},{"$f":"U14/(W4-U7)","v":{"$error":"#DIV/0!"}},{"$f":"IF(V14=0,0,(V14*((LOG(V14))/LOG(2))))","v":{"$error":"#DIV/0!"}},null,{"$f":"N14","v":222},{"$f":"COUNTIF(L15:L21,Y14)","v":0},{"$f":"Z14/(AB4-Z7)","v":{"$error":"#DIV/0!"}},{"$f":"IF(AA14=0,0,(AA14*((LOG(AA14))/LOG(2))))","v":{"$error":"#DIV/0!"}},null,{"$f":"N14","v":222},{"$f":"COUNTIF(L22:L29,AD14)","v":0},{"$f":"AE14/(AG4-AE7)","v":0},{"$f":"IF(AF14=0,0,(AF14*((LOG(AF14))/LOG(2))))","v":0},null,{"$f":"N14","v":222},{"$f":"COUNTIF(L30:L37,AI14)","v":0},{"$f":"AJ14/(AL4-AJ7)","v":0},{"$f":"IF(AK14=0,0,(AK14*((LOG(AK14))/LOG(2))))","v":0},null,{"$f":"N14","v":222},{"$f":"COUNTIF(L38:L44,AN14)","v":0},{"$f":"AO14/(AQ4-AO7)","v":0},{"$f":"IF(AP14=0,0,(AP14*((LOG(AP14))/LOG(2))))","v":0},null,{"$f":"N14","v":222},{"$f":"COUNTIF(L45:L52,AS14)","v":0},{"$f":"AT14/(AV4-AT7)","v":0},{"$f":"IF(AU14=0,0,(AU14*((LOG(AU14))/LOG(2))))","v":0}]
[11,1406,11,1433,11,1556,null,null,null,null,0,111,null,null,null,{"$f":"SUM(P7:P14)","v":0.99999999999999989},{"$f":"-SUM(Q7:Q14)","v":0.89561469436590091},null,null,null,null,{"$f":"SUM(V7:V14)","v":{"$error":"#DIV/0!"}},{"$f":"-SUM(W7:W14)","v":{"$error":"#DIV/0!"}},null,null,null,{"$f":"SUM(AA7:AA14)","v":{"$error":"#DIV/0!"}},{"$f":"-SUM(AB7:AB14)","v":{"$error":"#DIV/0!"}},null,null,null,{"$f":"SUM(AF7:AF14)","v":1},{"$f":"-SUM(AG7:AG14)","v":0},null,null,null,{"$f":"SUM(AK7:AK14)","v":1},{"$f":"-SUM(AL7:AL14)","v":0},null,null,null,{"$f":"SUM(AP7:AP14)","v":1},{"$f":"-SUM(AQ7:AQ14)","v":1},null,null,null,{"$f":"SUM(AU7:AU14)","v":1},{"$f":"-SUM(AV7:AV14)","v":0.91829583405448945}]
[11,1746,11,1764,11,1785,null,null,null,null,0,111,null,null,null,"U=",{"$f":"Q15/(LOG(Q4)/LOG(2))","v":0.16214440998236476},null,null,null,null,"U1=",{"$f":"W15/(LOG(W4)/LOG(2))","v":{"$error":"#DIV/0!"}},null,null,null,"U2=",{"$f":"AB15/(LOG(AB4)/LOG(2))","v":{"$error":"#DIV/0!"}},null,null,null,"U3=",{"$f":"AG15/(LOG(AG4)/LOG(2))","v":0},null,null,null,"U4=",{"$f":"AL15/(LOG(AL4)/LOG(2))","v":0},null,null,null,"U5=",{"$f":"AQ15/(LOG(AQ4)/LOG(2))","v":0.35620718710802218},null,null,null,"U6=",{"$f":"AV15/(LOG(AV4)/LOG(2))","v":0.30609861135149646}]
[11,1919,11,1933,11,1947,null,null,null,null,0,111]
[11,2051,11,2069,11,2113,null,null,null,null,0,111]
[11,2211,11,2229,11,2247,null,null,null,null,0,111,null,"Total Target Seq"]
[11,2358,11,2374,11,2451,null,null,null,null,0,111,null,{"$f":"COUNTIF(L7:L52,G3)","v":39},null,8,7,8,8,7,8]
[11,2550,11,2565,11,2582,null,null,null,null,0,111,null,null,null,"% of reinforcement given in 6 equal intervals based on number of trials "]
[11,2739,11,2755,11,2770,null,null,null,null,0,111,null,null,null,"%_1","%_2","%_3","%_4","%_5","%_6"]
[11,2867,11,2888,11,2964,null,null,null,null,0,111,null,null,"target sequence",{"$f":"$G$3","v":111},{"$f":"$G$3","v":111},{"$f":"$G$3","v":111},{"$f":"$G$3","v":111},{"$f":"$G$3","v":111},{"$f":"$G$3","v":111}]
[11,3123,22,3145,13,3153,null,null,null,null,0,121,null,null,"total reinforcement",{"$f":"U7","v":8},{"$f":"Z7","v":7},{"$f":"AE7","v":7},{"$f":"AJ7","v":7},{"$f":"AO7","v":5},{"$f":"AT7","v":5}]
[11,3246,11,3259,11,3274,null,null,null,null,0,111,null,null,"% target"]
[11,3416,11,3435,11,3470,null,null,null,null,0,111,null,null,"CCRF"]
[11,3559,11,3577,11,3591,null,null,null,null,0,111,null,null,"% CCRf"]
[11,3736,11,3751,11,3765,null,null,null,null,0,111,null,null,"average response rate",{"$f":"F14/P20","v":158.875},{"$f":"(F21-F14)/Q20","v":187.28571428571428},{"$f":"(F29-F21)/R20","v":168.75},{"$f":"(F37-F29)/S20","v":198.625},{"$f":"(F44-F37)/T20","v":185.28571428571428},{"$f":"(F52-F44)/U20","v":144.375}]
[11,3896,11,3916,11,3932,null,null,null,null,0,111]
[11,4030,11,4087,11,4106,null,null,null,null,0,111]
[11,4241,22,4276,24,4280,null,null,null,null,0,122]
[11,4389,11,4407,11,4421,null,null,null,null,0,111]
[11,4579,11,4612,11,4632,null,null,null,null,0,111]
[11,4761,11,4856,11,4864,null,null,null,null,0,111]
[11,5022,11,5050,11,5068,null,null,null,null,0,111]
[11,5286,11,5297,11,5316,null,null,null,null,0,111]
[11,5494,11,5508,11,5521,null,null,null,null,0,111]
[11,5664,11,5677,11,5700,null,null,null,null,0,111]
[11,5843,11,5861,11,5896,null,null,null,null,0,111]
[11,6042,11,6089,11,6098,null,null,null,null,0,111]
[11,6244,11,6280,11,6305,null,null,null,null,0,111]
[11,6448,11,6462,11,6480,null,null,null,null,0,111]
[11,6617,11,6653,22,6692,null,null,null,null,0,112]
[22,6803,13,6810,13,6818,null,null,null,null,0,211]
[22,6920,13,6926,13,6932,null,null,null,null,0,211]
[11,7031,11,7037,11,7040,null,null,null,null,0,111]
[11,7167,11,7186,22,7190,null,null,null,null,0,112]
[11,7290,11,7293,11,7304,null,null,null,null,0,111]
[22,7399,13,7408,13,7411,null,null,null,null,0,211]
[11,7520,11,7524,11,7542,null,null,null,null,0,111]
[11,7703,11,7723,11,7740,null,null,null,null,0,111]
[11,7947,11,7958,11,7973,null,null,null,null,1,111]

{"sheet":"!N20592B.AXT","index":16,"n_rows":46,"n_cols":48,"rows_kept":46,"cut":false,"hidden":false,"merged":[[4,39,4,42],[5,39,5,40],[4,44,4,47],[5,44,5,45],[4,24,4,27],[5,24,5,25],[4,29,4,32],[5,29,5,30],[4,34,4,37],[5,34,5,35],[1,1,1,2],[5,13,5,14],[18,13,18,14],[19,13,19,14],[4,19,4,22],[5,19,5,20]]}
["Report for:!N20592B.AXT"]
["Date:","<date>"]
["Hen:","<hen>",null,null,null,"Correct Sequence",{"$f":"Start!J2","v":111},null,null,null,null,null,null,null,null,"Total Sequences in Data",{"$f":"4994-COUNTBLANK(L7:L5000)","v":40},null,null,null,null,"Total Sequences in Block Data",{"$f":"COUNTA(L7:L13)","v":7},null,null,null,"Total Sequences in Block Data",{"$f":"COUNTA(L14:L19)","v":6},null,null,null,"Total Sequences in Block Data",{"$f":"COUNTA(L20:L26)","v":7},null,null,null,"Total Sequences in Block Data",{"$f":"COUNTA(L27:L33)","v":7},null,null,null,"Total Sequences in Block Data",{"$f":"COUNTA(L34:L39)","v":6},null,null,null,"Total Sequences in Block Data",{"$f":"COUNTA(L40:L46)","v":7}]
[null,null,null,null,null,null,null,null,null,null,null,null,null,null,null,"Total Sequences in Summary",{"$f":"SUM(O7:O14)","v":40},null,null,null,null,"Total Sequences in Block Summary",{"$f":"SUM(U7:U14)","v":7},null,null,null,"Total Sequences in Block Summary",{"$f":"SUM(Z7:Z14)","v":6},null,null,null,"Total Sequences in Block Summary",{"$f":"SUM(AE7:AE14)","v":7},null,null,null,"Total Sequences in Block Summary",{"$f":"SUM(AJ7:AJ14)","v":7},null,null,null,"Total Sequences in Block Summary",{"$f":"SUM(AO7:AO14)","v":6},null,null,null,"Total Sequences in Block Summary",{"$f":"SUM(AT7:AT14)","v":7}]
[null,null,null,null,null,null,null,null,null,null,null,null,null,null,null,null,null,null,null,"Block 1",null,null,null,null,"Block 2",null,null,null,null,"Block 3",null,null,null,null,"Block 4",null,null,null,null,"Block 5",null,null,null,null,"Block 6"]
["Sequence\nComponent\n1","Time\n1","Sequence\nComponent\n2","Time\n2","Sequence\nComponent\n3","Time\n3","Sequence\nComponent\n4","Time\n4","Sequence\nComponent\n5","Time\n5","Correct?\n0=No 1=Yes","Sequence",null,"Frequency",null,"Relative Frequency","Variability",null,null,"Frequency",null,"Relative Frequency","Variability",null,"Frequency",null,"Relative Frequency","Variability",null,"Frequency",null,"Relative Frequency","Variability",null,"Frequency",null,"Relative Frequency","Variability",null,"Frequency",null,"Relative Frequency","Variability",null,"Frequency",null,"Relative Frequency","Variability"]
[11,10,11,21,11,29,null,null,null,null,0,111,null,111,{"$f":"COUNTIF($L$7:$L$500,N7)","v":40},{"$f":"O7/$Q$4","v":1},{"$f":"IF(P7=0,0,(P7*((LOG(P7))/LOG(2))))","v":0},null,null,{"$f":"N7","v":111},{"$f":"COUNTIF(L7:L13,T7)","v":7},null,null,null,{"$f":"N7","v":111},{"$f":"COUNTIF(L14:L19,Y7)","v":6},null,null,null,{"$f":"N7","v":111},{"$f":"COUNTIF(L20:L26,AD7)","v":7},null,null,null,{"$f":"N7","v":111},{"$f":"COUNTIF(L27:L33,AI7)","v":7},null,null,null,{"$f":"N7","v":111},{"$f":"COUNTIF(L34:L39,AN7)","v":6},null,null,null,{"$f":"N7","v":111},{"$f":"COUNTIF(L40:L46,AS7)","v":7}]
[11,122,11,135,11,144,null,null,null,null,0,111,null,112,{"$f":"COUNTIF($L$7:$L$500,N8)","v":0},{"$f":"O8/$Q$4","v":0},{"$f":"IF(P8=0,0,(P8*((LOG(P8))/LOG(2))))","v":0},null,null,{"$f":"N8","v":112},{"$f":"COUNTIF(L7:L13,T8)","v":0},{"$f":"U8/(W4-U7)","v":{"$error":"#DIV/0!"}},{"$f":"IF(V8=0,0,(V8*((LOG(V8))/LOG(2))))","v":{"$error":"#DIV/0!"}},null,{"$f":"N8","v":112},{"$f":"COUNTIF(L14:L19,Y8)","v":0},{"$f":"Z8/(AB4-Z7)","v":{"$error":"#DIV/0!"}},{"$f":"IF(AA8=0,0,(AA8*((LOG(AA8))/LOG(2))))","v":{"$error":"#DIV/0!"}},null,{"$f":"N8","v":112},{"$f":"COUNTIF(L20:L26,AD8)","v":0},{"$f":"AE8/(AG4-AE7)","v":{"$error":"#DIV/0!"}},{"$f":"IF(AF8=0,0,(AF8*((LOG(AF8))/LOG(2))))","v":{"$error":"#DIV/0!"}},null,{"$f":"N8","v":112},{"$f":"COUNTIF(L27:L33,AI8)","v":0},{"$f":"AJ8/(AL4-AJ7)","v":{"$error":"#DIV/0!"}},{"$f":"IF(AK8=0,0,(AK8*((LOG(AK8))/LOG(2))))","v":{"$error":"#DIV/0!"}},null,{"$f":"N8","v":112},{"$f":"COUNTIF(L34:L39,AN8)","v":0},{"$f":"AO8/(AQ4-AO7)","v":{"$error":"#DIV/0!"}},{"$f":"IF(AP8=0,0,(AP8*((LOG(AP8))/LOG(2))))","v":{"$error":"#DIV/0!"}},null,{"$f":"N8","v":112},{"$f":"COUNTIF(L40:L46,AS8)","v":0},{"$f":"AT8/(AV4-AT7)","v":{"$error":"#DIV/0!"}},{"$f":"IF(AU8=0,0,(AU8*((LOG(AU8))/LOG(2))))","v":{"$error":"#DIV/0!"}}]
[11,248,11,260,11,273,null,null,null,null,0,111,null,121,{"$f":"COUNTIF($L$7:$L$500,N9)","v":0},{"$f":"O9/$Q$4","v":0},{"$f":"IF(P9=0,0,(P9*((LOG(P9))/LOG(2))))","v":0},null,null,{"$f":"N9","v":121},{"$f":"COUNTIF(L7:L13,T9)","v":0},{"$f":"U9/(W4-U7)","v":{"$error":"#DIV/0!"}},{"$f":"IF(V9=0,0,(V9*((LOG(V9))/LOG(2))))","v":{"$error":"#DIV/0!"}},null,{"$f":"N9","v":121},{"$f":"COUNTIF(L14:L19,Y9)","v":0},{"$f":"Z9/(AB4-Z7)","v":{"$error":"#DIV/0!"}},{"$f":"IF(AA9=0,0,(AA9*((LOG(AA9))/LOG(2))))","v":{"$error":"#DIV/0!"}},null,{"$f":"N9","v":121},{"$f":"COUNTIF(L20:L26,AD9)","v":0},{"$f":"AE9/(AG4-AE7)","v":{"$error":"#DIV/0!"}},{"$f":"IF(AF9=0,0,(AF9*((LOG(AF9))/LOG(2))))","v":{"$error":"#DIV/0!"}},null,{"$f":"N9","v":121},{"$f":"COUNTIF(L27:L33,AI9)","v":0},{"$f":"AJ9/(AL4-AJ7)","v":{"$error":"#DIV/0!"}},{"$f":"IF(AK9=0,0,(AK9*((LOG(AK9))/LOG(2))))","v":{"$error":"#DIV/0!"}},null,{"$f":"N9","v":121},{"$f":"COUNTIF(L34:L39,AN9)","v":0},{"$f":"AO9/(AQ4-AO7)","v":{"$error":"#DIV/0!"}},{"$f":"IF(AP9=0,0,(AP9*((LOG(AP9))/LOG(2))))","v":{"$error":"#DIV/0!"}},null,{"$f":"N9","v":121},{"$f":"COUNTIF(L40:L46,AS9)","v":0},{"$f":"AT9/(AV4-AT7)","v":{"$error":"#DIV/0!"}},{"$f":"IF(AU9=0,0,(AU9*((LOG(AU9))/LOG(2))))","v":{"$error":"#DIV/0!"}}]
[11,374,11,408,11,442,null,null,null,null,0,111,null,122,{"$f":"COUNTIF($L$7:$L$500,N10)","v":0},{"$f":"O10/$Q$4","v":0},{"$f":"IF(P10=0,0,(P10*((LOG(P10))/LOG(2))))","v":0},null,null,{"$f":"N10","v":122},{"$f":"COUNTIF(L7:L13,T10)","v":0},{"$f":"U10/(W4-U7)","v":{"$error":"#DIV/0!"}},{"$f":"IF(V10=0,0,(V10*((LOG(V10))/LOG(2))))","v":{"$error":"#DIV/0!"}},null,{"$f":"N10","v":122},{"$f":"COUNTIF(L14:L19,Y10)","v":0},{"$f":"Z10/(AB4-Z7)","v":{"$error":"#DIV/0!"}},{"$f":"IF(AA10=0,0,(AA10*((LOG(AA10))/LOG(2))))","v":{"$error":"#DIV/0!"}},null,{"$f":"N10","v":122},{"$f":"COUNTIF(L20:L26,AD10)","v":0},{"$f":"AE10/(AG4-AE7)","v":{"$error":"#DIV/0!"}},{"$f":"IF(AF10=0,0,(AF10*((LOG(AF10))/LOG(2))))","v":{"$error":"#DIV/0!"}},null,{"$f":"N10","v":122},{"$f":"COUNTIF(L27:L33,AI10)","v":0},{"$f":"AJ10/(AL4-AJ7)","v":{"$error":"#DIV/0!"}},{"$f":"IF(AK10=0,0,(AK10*((LOG(AK10))/LOG(2))))","v":{"$error":"#DIV/0!"}},null,{"$f":"N10","v":122},{"$f":"COUNTIF(L34:L39,AN10)","v":0},{"$f":"AO10/(AQ4-AO7)","v":{"$error":"#DIV/0!"}},{"$f":"IF(AP10=0,0,(AP10*((LOG(AP10))/LOG(2))))","v":{"$error":"#DIV/0!"}},null,{"$f":"N10","v":122},{"$f":"COUNTIF(L40:L46,AS10)","v":0},{"$f":"AT10/(AV4-AT7)","v":{"$error":"#DIV/0!"}},{"$f":"IF(AU10=0,0,(AU10*((LOG(AU10))/LOG(2))))","v":{"$error":"#DIV/0!"}}]
[11,536,11,555,11,575,null,null,null,null,0,111,null,211,{"$f":"COUNTIF($L$7:$L$500,N11)","v":0},{"$f":"O11/$Q$4","v":0},{"$f":"IF(P11=0,0,(P11*((LOG(P11))/LOG(2))))","v":0},null,null,{"$f":"N11","v":211},{"$f":"COUNTIF(L7:L13,T11)","v":0},{"$f":"U11/(W4-U7)","v":{"$error":"#DIV/0!"}},{"$f":"IF(V11=0,0,(V11*((LOG(V11))/LOG(2))))","v":{"$error":"#DIV/0!"}},null,{"$f":"N11","v":211},{"$f":"COUNTIF(L14:L19,Y11)","v":0},{"$f":"Z11/(AB4-Z7)","v":{"$error":"#DIV/0!"}},{"$f":"IF(AA11=0,0,(AA11*((LOG(AA11))/LOG(2))))","v":{"$error":"#DIV/0!"}},null,{"$f":"N11","v":211},{"$f":"COUNTIF(L20:L26,AD11)","v":0},{"$f":"AE11/(AG4-AE7)","v":{"$error":"#DIV/0!"}},{"$f":"IF(AF11=0,0,(AF11*((LOG(AF11))/LOG(2))))","v":{"$error":"#DIV/0!"}},null,{"$f":"N11","v":211},{"$f":"COUNTIF(L27:L33,AI11)","v":0},{"$f":"AJ11/(AL4-AJ7)","v":{"$error":"#DIV/0!"}},{"$f":"IF(AK11=0,0,(AK11*((LOG(AK11))/LOG(2))))","v":{"$error":"#DIV/0!"}},null,{"$f":"N11","v":211},{"$f":"COUNTIF(L34:L39,AN11)","v":0},{"$f":"AO11/(AQ4-AO7)","v":{"$error":"#DIV/0!"}},{"$f":"IF(AP11=0,0,(AP11*((LOG(AP11))/LOG(2))))","v":{"$error":"#DIV/0!"}},null,{"$f":"N11","v":211},{"$f":"COUNTIF(L40:L46,AS11)","v":0},{"$f":"AT11/(AV4-AT7)","v":{"$error":"#DIV/0!"}},{"$f":"IF(AU11=0,0,(AU11*((LOG(AU11))/LOG(2))))","v":{"$error":"#DIV/0!"}}]
[11,681,11,724,11,743,null,null,null,null,0,111,null,212,{"$f":"COUNTIF($L$7:$L$500,N12)","v":0},{"$f":"O12/$Q$4","v":0},{"$f":"IF(P12=0,0,(P12*((LOG(P12))/LOG(2))))","v":0},null,null,{"$f":"N12","v":212},{"$f":"COUNTIF(L7:L13,T12)","v":0},{"$f":"U12/(W4-U7)","v":{"$error":"#DIV/0!"}},{"$f":"IF(V12=0,0,(V12*((LOG(V12))/LOG(2))))","v":{"$error":"#DIV/0!"}},null,{"$f":"N12","v":212},{"$f":"COUNTIF(L14:L19,Y12)","v":0},{"$f":"Z12/(AB4-Z7)","v":{"$error":"#DIV/0!"}},{"$f":"IF(AA12=0,0,(AA12*((LOG(AA12))/LOG(2))))","v":{"$error":"#DIV/0!"}},null,{"$f":"N12","v":212},{"$f":"COUNTIF(L20:L26,AD12)","v":0},{"$f":"AE12/(AG4-AE7)","v":{"$error":"#DIV/0!"}},{"$f":"IF(AF12=0,0,(AF12*((LOG(AF12))/LOG(2))))","v":{"$error":"#DIV/0!"}},null,{"$f":"N12","v":212},{"$f":"COUNTIF(L27:L33,AI12)","v":0},{"$f":"AJ12/(AL4-AJ7)","v":{"$error":"#DIV/0!"}},{"$f":"IF(AK12=0,0,(AK12*((LOG(AK12))/LOG(2))))","v":{"$error":"#DIV/0!"}},null,{"$f":"N12","v":212},{"$f":"COUNTIF(L34:L39,AN12)","v":0},{"$f":"AO12/(AQ4-AO7)","v":{"$error":"#DIV/0!"}},{"$f":"IF(AP12=0,0,(AP12*((LOG(AP12))/LOG(2))))","v":{"$error":"#DIV/0!"}},null,{"$f":"N12","v":212},{"$f":"COUNTIF(L40:L46,AS12)","v":0},{"$f":"AT12/(AV4-AT7)","v":{"$error":"#DIV/0!"}},{"$f":"IF(AU12=0,0,(AU12*((LOG(AU12))/LOG(2))))","v":{"$error":"#DIV/0!"}}]
[11,844,11,865,11,883,null,null,null,null,0,111,null,221,{"$f":"COUNTIF($L$7:$L$500,N13)","v":0},{"$f":"O13/$Q$4","v":0},{"$f":"IF(P13=0,0,(P13*((LOG(P13))/LOG(2))))","v":0},null,null,{"$f":"N13","v":221},{"$f":"COUNTIF(L7:L13,T13)","v":0},{"$f":"U13/(W4-U7)","v":{"$error":"#DIV/0!"}},{"$f":"IF(V13=0,0,(V13*((LOG(V13))/LOG(2))))","v":{"$error":"#DIV/0!"}},null,{"$f":"N13","v":221},{"$f":"COUNTIF(L14:L19,Y13)","v":0},{"$f":"Z13/(AB4-Z7)","v":{"$error":"#DIV/0!"}},{"$f":"IF(AA13=0,0,(AA13*((LOG(AA13))/LOG(2))))","v":{"$error":"#DIV/0!"}},null,{"$f":"N13","v":221},{"$f":"COUNTIF(L20:L26,AD13)","v":0},{"$f":"AE13/(AG4-AE7)","v":{"$error":"#DIV/0!"}},{"$f":"IF(AF13=0,0,(AF13*((LOG(AF13))/LOG(2))))","v":{"$error":"#DIV/0!"}},null,{"$f":"N13","v":221},{"$f":"COUNTIF(L27:L33,AI13)","v":0},{"$f":"AJ13/(AL4-AJ7)","v":{"$error":"#DIV/0!"}},{"$f":"IF(AK13=0,0,(AK13*((LOG(AK13))/LOG(2))))","v":{"$error":"#DIV/0!"}},null,{"$f":"N13","v":221},{"$f":"COUNTIF(L34:L39,AN13)","v":0},{"$f":"AO13/(AQ4-AO7)","v":{"$error":"#DIV/0!"}},{"$f":"IF(AP13=0,0,(AP13*((LOG(AP13))/LOG(2))))","v":{"$error":"#DIV/0!"}},null,{"$f":"N13","v":221},{"$f":"COUNTIF(L40:L46,AS13)","v":0},{"$f":"AT13/(AV4-AT7)","v":{"$error":"#DIV/0!"}},{"$f":"IF(AU13=0,0,(AU13*((LOG(AU13))/LOG(2))))","v":{"$error":"#DIV/0!"}}]
[11,1018,11,1040,11,1062,null,null,null,null,0,111,null,222,{"$f":"COUNTIF($L$7:$L$500,N14)","v":0},{"$f":"O14/$Q$4","v":0},{"$f":"IF(P14=0,0,(P14*((LOG(P14))/LOG(2))))","v":0},null,null,{"$f":"N14","v":222},{"$f":"COUNTIF(L7:L13,T14)","v":0},{"$f":"U14/(W4-U7)","v":{"$error":"#DIV/0!"}},{"$f":"IF(V14=0,0,(V14*((LOG(V14))/LOG(2))))","v":{"$error":"#DIV/0!"}},null,{"$f":"N14","v":222},{"$f":"COUNTIF(L14:L19,Y14)","v":0},{"$f":"Z14/(AB4-Z7)","v":{"$error":"#DIV/0!"}},{"$f":"IF(AA14=0,0,(AA14*((LOG(AA14))/LOG(2))))","v":{"$error":"#DIV/0!"}},null,{"$f":"N14","v":222},{"$f":"COUNTIF(L20:L26,AD14)","v":0},{"$f":"AE14/(AG4-AE7)","v":{"$error":"#DIV/0!"}},{"$f":"IF(AF14=0,0,(AF14*((LOG(AF14))/LOG(2))))","v":{"$error":"#DIV/0!"}},null,{"$f":"N14","v":222},{"$f":"COUNTIF(L27:L33,AI14)","v":0},{"$f":"AJ14/(AL4-AJ7)","v":{"$error":"#DIV/0!"}},{"$f":"IF(AK14=0,0,(AK14*((LOG(AK14))/LOG(2))))","v":{"$error":"#DIV/0!"}},null,{"$f":"N14","v":222},{"$f":"COUNTIF(L34:L39,AN14)","v":0},{"$f":"AO14/(AQ4-AO7)","v":{"$error":"#DIV/0!"}},{"$f":"IF(AP14=0,0,(AP14*((LOG(AP14))/LOG(2))))","v":{"$error":"#DIV/0!"}},null,{"$f":"N14","v":222},{"$f":"COUNTIF(L40:L46,AS14)","v":0},{"$f":"AT14/(AV4-AT7)","v":{"$error":"#DIV/0!"}},{"$f":"IF(AU14=0,0,(AU14*((LOG(AU14))/LOG(2))))","v":{"$error":"#DIV/0!"}}]
[11,1175,11,1190,11,1214,null,null,null,null,0,111,null,null,null,{"$f":"SUM(P7:P14)","v":1},{"$f":"-SUM(Q7:Q14)","v":0},null,null,null,null,{"$f":"SUM(V7:V14)","v":{"$error":"#DIV/0!"}},{"$f":"-SUM(W7:W14)","v":{"$error":"#DIV/0!"}},null,null,null,{"$f":"SUM(AA7:AA14)","v":{"$error":"#DIV/0!"}},{"$f":"-SUM(AB7:AB14)","v":{"$error":"#DIV/0!"}},null,null,null,{"$f":"SUM(AF7:AF14)","v":{"$error":"#DIV/0!"}},{"$f":"-SUM(AG7:AG14)","v":{"$error":"#DIV/0!"}},null,null,null,{"$f":"SUM(AK7:AK14)","v":{"$error":"#DIV/0!"}},{"$f":"-SUM(AL7:AL14)","v":{"$error":"#DIV/0!"}},null,null,null,{"$f":"SUM(AP7:AP14)","v":{"$error":"#DIV/0!"}},{"$f":"-SUM(AQ7:AQ14)","v":{"$error":"#DIV/0!"}},null,null,null,{"$f":"SUM(AU7:AU14)","v":{"$error":"#DIV/0!"}},{"$f":"-SUM(AV7:AV14)","v":{"$error":"#DIV/0!"}}]
[11,1334,11,1358,11,1411,null,null,null,null,0,111,null,null,null,"U=",{"$f":"Q15/(LOG(Q4)/LOG(2))","v":0},null,null,null,null,"U1=",{"$f":"W15/(LOG(W4)/LOG(2))","v":{"$error":"#DIV/0!"}},null,null,null,"U2=",{"$f":"AB15/(LOG(AB4)/LOG(2))","v":{"$error":"#DIV/0!"}},null,null,null,"U3=",{"$f":"AG15/(LOG(AG4)/LOG(2))","v":{"$error":"#DIV/0!"}},null,null,null,"U4=",{"$f":"AL15/(LOG(AL4)/LOG(2))","v":{"$error":"#DIV/0!"}},null,null,null,"U5=",{"$f":"AQ15/(LOG(AQ4)/LOG(2))","v":{"$error":"#DIV/0!"}},null,null,null,"U6=",{"$f":"AV15/(LOG(AV4)/LOG(2))","v":{"$error":"#DIV/0!"}}]
[11,1622,11,1671,11,1691,null,null,null,null,0,111]
[11,1801,11,1818,11,1836,null,null,null,null,0,111]
[11,1981,11,2004,11,2027,null,null,null,null,0,111,null,"Total Target Seq"]
[11,2141,11,2173,11,2212,null,null,null,null,0,111,null,{"$f":"COUNTIF(L7:L46,G3)","v":40},null,7,6,7,7,6,7]
[11,2365,11,2395,11,2413,null,null,null,null,0,111,null,null,null,"% of reinforcement given in 6 equal intervals based on number of trials "]
[11,2610,11,2626,11,2641,null,null,null,null,0,111,null,null,null,"%_1","%_2","%_3","%_4","%_5","%_6"]
[11,2868,11,2888,11,2914,null,null,null,null,0,111,null,null,"target sequence",{"$f":"$G$3","v":111},{"$f":"$G$3","v":111},{"$f":"$G$3","v":111},{"$f":"$G$3","v":111},{"$f":"$G$3","v":111},{"$f":"$G$3","v":111}]
[11,3037,11,3056,11,3085,null,null,null,null,0,111,null,null,"total reinforcement",{"$f":"U7","v":7},{"$f":"Z7","v":6},{"$f":"AE7","v":7},{"$f":"AJ7","v":7},{"$f":"AO7","v":6},{"$f":"AT7","v":7}]
[11,3273,11,3320,11,3340,null,null,null,null,0,111,null,null,"% target"]
[11,3456,11,3467,11,3498,null,null,null,null,0,111,null,null,"CCRF"]
[11,3714,11,3737,11,3766,null,null,null,null,0,111,null,null,"% CCRf"]
[11,3943,11,3967,11,3992,null,null,null,null,0,111,null,null,"average response rate",{"$f":"F13/P20","v":126.14285714285714},{"$f":"(F19-F13)/Q20","v":190.66666666666666},{"$f":"(F26-F19)/R20","v":210.14285714285714},{"$f":"(F33-F26)/S20","v":202.14285714285714},{"$f":"(F39-F33)/T20","v":185.66666666666666},{"$f":"(F46-F39)/U20","v":223.57142857142858}]
[11,4116,11,4143,11,4153,null,null,null,null,0,111]
[11,4345,11,4362,11,4380,null,null,null,null,0,111]
[11,4473,11,4489,11,4505,null,null,null,null,0,111]
[11,4690,11,4720,11,4738,null,null,null,null,0,111]
[11,4871,11,4894,11,4913,null,null,null,null,0,111]
[11,5069,11,5086,11,5120,null,null,null,null,0,111]
[11,5285,11,5308,11,5332,null,null,null,null,0,111]
[11,5464,11,5483,11,5500,null,null,null,null,0,111]
[11,5626,11,5638,11,5655,null,null,null,null,0,111]
[11,5854,11,5886,11,5899,null,null,null,null,0,111]
[11,5994,11,6010,11,6027,null,null,null,null,0,111]
[11,6193,11,6207,11,6221,null,null,null,null,0,111]
[11,6352,11,6384,11,6414,null,null,null,null,0,111]
[11,6591,11,6607,11,6625,null,null,null,null,0,111]
[11,6795,11,6807,11,6825,null,null,null,null,0,111]
[11,6979,11,6991,11,7042,null,null,null,null,0,111]
[11,7171,11,7184,11,7201,null,null,null,null,0,111]
[11,7564,11,7578,11,7592,null,null,null,null,1,111]

{"sheet":"!N206A3B.AXT","index":17,"n_rows":51,"n_cols":48,"rows_kept":51,"cut":false,"hidden":false,"merged":[[4,39,4,42],[5,39,5,40],[4,44,4,47],[5,44,5,45],[4,24,4,27],[5,24,5,25],[4,29,4,32],[5,29,5,30],[4,34,4,37],[5,34,5,35],[1,1,1,2],[5,13,5,14],[18,13,18,14],[19,13,19,14],[4,19,4,22],[5,19,5,20]]}
["Report for:!N206A3B.AXT"]
["Date:","<date>"]
["Hen:","<hen>",null,null,null,"Correct Sequence",{"$f":"Start!J2","v":111},null,null,null,null,null,null,null,null,"Total Sequences in Data",{"$f":"4994-COUNTBLANK(L7:L5000)","v":45},null,null,null,null,"Total Sequences in Block Data",{"$f":"COUNTA(L7:L14)","v":8},null,null,null,"Total Sequences in Block Data",{"$f":"COUNTA(L15:L21)","v":7},null,null,null,"Total Sequences in Block Data",{"$f":"COUNTA(L22:L29)","v":8},null,null,null,"Total Sequences in Block Data",{"$f":"COUNTA(L30:L36)","v":7},null,null,null,"Total Sequences in Block Data",{"$f":"COUNTA(L37:L44)","v":8},null,null,null,"Total Sequences in Block Data",{"$f":"COUNTA(L45:L51)","v":7}]
[null,null,null,null,null,null,null,null,null,null,null,null,null,null,null,"Total Sequences in Summary",{"$f":"SUM(O7:O14)","v":45},null,null,null,null,"Total Sequences in Block Summary",{"$f":"SUM(U7:U14)","v":8},null,null,null,"Total Sequences in Block Summary",{"$f":"SUM(Z7:Z14)","v":7},null,null,null,"Total Sequences in Block Summary",{"$f":"SUM(AE7:AE14)","v":8},null,null,null,"Total Sequences in Block Summary",{"$f":"SUM(AJ7:AJ14)","v":7},null,null,null,"Total Sequences in Block Summary",{"$f":"SUM(AO7:AO14)","v":8},null,null,null,"Total Sequences in Block Summary",{"$f":"SUM(AT7:AT14)","v":7}]
[null,null,null,null,null,null,null,null,null,null,null,null,null,null,null,null,null,null,null,"Block 1",null,null,null,null,"Block 2",null,null,null,null,"Block 3",null,null,null,null,"Block 4",null,null,null,null,"Block 5",null,null,null,null,"Block 6"]
["Sequence\nComponent\n1","Time\n1","Sequence\nComponent\n2","Time\n2","Sequence\nComponent\n3","Time\n3","Sequence\nComponent\n4","Time\n4","Sequence\nComponent\n5","Time\n5","Correct?\n0=No 1=Yes","Sequence",null,"Frequency",null,"Relative Frequency","Variability",null,null,"Frequency",null,"Relative Frequency","Variability",null,"Frequency",null,"Relative Frequency","Variability",null,"Frequency",null,"Relative Frequency","Variability",null,"Frequency",null,"Relative Frequency","Variability",null,"Frequency",null,"Relative Frequency","Variability",null,"Frequency",null,"Relative Frequency","Variability"]
[11,3,11,12,11,16,null,null,null,null,0,111,null,111,{"$f":"COUNTIF($L$7:$L$500,N7)","v":38},{"$f":"O7/$Q$4","v":0.84444444444444444},{"$f":"IF(P7=0,0,(P7*((LOG(P7))/LOG(2))))","v":-0.20598160332603091},null,null,{"$f":"N7","v":111},{"$f":"COUNTIF(L7:L14,T7)","v":6},null,null,null,{"$f":"N7","v":111},{"$f":"COUNTIF(L15:L21,Y7)","v":4},null,null,null,{"$f":"N7","v":111},{"$f":"COUNTIF(L22:L29,AD7)","v":8},null,null,null,{"$f":"N7","v":111},{"$f":"COUNTIF(L30:L36,AI7)","v":6},null,null,null,{"$f":"N7","v":111},{"$f":"COUNTIF(L37:L44,AN7)","v":7},null,null,null,{"$f":"N7","v":111},{"$f":"COUNTIF(L45:L51,AS7)","v":7}]
[11,112,22,118,13,125,null,null,null,null,0,121,null,112,{"$f":"COUNTIF($L$7:$L$500,N8)","v":0},{"$f":"O8/$Q$4","v":0},{"$f":"IF(P8=0,0,(P8*((LOG(P8))/LOG(2))))","v":0},null,null,{"$f":"N8","v":112},{"$f":"COUNTIF(L7:L14,T8)","v":0},{"$f":"U8/(W4-U7)","v":0},{"$f":"IF(V8=0,0,(V8*((LOG(V8))/LOG(2))))","v":0},null,{"$f":"N8","v":112},{"$f":"COUNTIF(L15:L21,Y8)","v":0},{"$f":"Z8/(AB4-Z7)","v":0},{"$f":"IF(AA8=0,0,(AA8*((LOG(AA8))/LOG(2))))","v":0},null,{"$f":"N8","v":112},{"$f":"COUNTIF(L22:L29,AD8)","v":0},{"$f":"AE8/(AG4-AE7)","v":{"$error":"#DIV/0!"}},{"$f":"IF(AF8=0,0,(AF8*((LOG(AF8))/LOG(2))))","v":{"$error":"#DIV/0!"}},null,{"$f":"N8","v":112},{"$f":"COUNTIF(L30:L36,AI8)","v":0},{"$f":"AJ8/(AL4-AJ7)","v":0},{"$f":"IF(AK8=0,0,(AK8*((LOG(AK8))/LOG(2))))","v":0},null,{"$f":"N8","v":112},{"$f":"COUNTIF(L37:L44,AN8)","v":0},{"$f":"AO8/(AQ4-AO7)","v":0},{"$f":"IF(AP8=0,0,(AP8*((LOG(AP8))/LOG(2))))","v":0},null,{"$f":"N8","v":112},{"$f":"COUNTIF(L45:L51,AS8)","v":0},{"$f":"AT8/(AV4-AT7)","v":{"$error":"#DIV/0!"}},{"$f":"IF(AU8=0,0,(AU8*((LOG(AU8))/LOG(2))))","v":{"$error":"#DIV/0!"}}]
[22,278,13,297,13,310,null,null,null,null,0,211,null,121,{"$f":"COUNTIF($L$7:$L$500,N9)","v":2},{"$f":"O9/$Q$4","v":4.4444444444444446E-2},{"$f":"IF(P9=0,0,(P9*((LOG(P9))/LOG(2))))","v":-0.19963791539243},null,null,{"$f":"N9","v":121},{"$f":"COUNTIF(L7:L14,T9)","v":1},{"$f":"U9/(W4-U7)","v":0.5},{"$f":"IF(V9=0,0,(V9*((LOG(V9))/LOG(2))))","v":-0.5},null,{"$f":"N9","v":121},{"$f":"COUNTIF(L15:L21,Y9)","v":1},{"$f":"Z9/(AB4-Z7)","v":0.33333333333333331},{"$f":"IF(AA9=0,0,(AA9*((LOG(AA9))/LOG(2))))","v":-0.52832083357371862},null,{"$f":"N9","v":121},{"$f":"COUNTIF(L22:L29,AD9)","v":0},{"$f":"AE9/(AG4-AE7)","v":{"$error":"#DIV/0!"}},{"$f":"IF(AF9=0,0,(AF9*((LOG(AF9))/LOG(2))))","v":{"$error":"#DIV/0!"}},null,{"$f":"N9","v":121},{"$f":"COUNTIF(L30:L36,AI9)","v":0},{"$f":"AJ9/(AL4-AJ7)","v":0},{"$f":"IF(AK9=0,0,(AK9*((LOG(AK9))/LOG(2))))","v":0},null,{"$f":"N9","v":121},{"$f":"COUNTIF(L37:L44,AN9)","v":0},{"$f":"AO9/(AQ4-AO7)","v":0},{"$f":"IF(AP9=0,0,(AP9*((LOG(AP9))/LOG(2))))","v":0},null,{"$f":"N9","v":121},{"$f":"COUNTIF(L45:L51,AS9)","v":0},{"$f":"AT9/(AV4-AT7)","v":{"$error":"#DIV/0!"}},{"$f":"IF(AU9=0,0,(AU9*((LOG(AU9))/LOG(2))))","v":{"$error":"#DIV/0!"}}]
[11,413,11,419,11,431,null,null,null,null,0,111,null,122,{"$f":"COUNTIF($L$7:$L$500,N10)","v":1},{"$f":"O10/$Q$4","v":2.2222222222222223E-2},{"$f":"IF(P10=0,0,(P10*((LOG(P10))/LOG(2))))","v":-0.12204117991843723},null,null,{"$f":"N10","v":122},{"$f":"COUNTIF(L7:L14,T10)","v":0},{"$f":"U10/(W4-U7)","v":0},{"$f":"IF(V10=0,0,(V10*((LOG(V10))/LOG(2))))","v":0},null,{"$f":"N10","v":122},{"$f":"COUNTIF(L15:L21,Y10)","v":1},{"$f":"Z10/(AB4-Z7)","v":0.33333333333333331},{"$f":"IF(AA10=0,0,(AA10*((LOG(AA10))/LOG(2))))","v":-0.52832083357371862},null,{"$f":"N10","v":122},{"$f":"COUNTIF(L22:L29,AD10)","v":0},{"$f":"AE10/(AG4-AE7)","v":{"$error":"#DIV/0!"}},{"$f":"IF(AF10=0,0,(AF10*((LOG(AF10))/LOG(2))))","v":{"$error":"#DIV/0!"}},null,{"$f":"N10","v":122},{"$f":"COUNTIF(L30:L36,AI10)","v":0},{"$f":"AJ10/(AL4-AJ7)","v":0},{"$f":"IF(AK10=0,0,(AK10*((LOG(AK10))/LOG(2))))","v":0},null,{"$f":"N10","v":122},{"$f":"COUNTIF(L37:L44,AN10)","v":0},{"$f":"AO10/(AQ4-AO7)","v":0},{"$f":"IF(AP10=0,0,(AP10*((LOG(AP10))/LOG(2))))","v":0},null,{"$f":"N10","v":122},{"$f":"COUNTIF(L45:L51,AS10)","v":0},{"$f":"AT10/(AV4-AT7)","v":{"$error":"#DIV/0!"}},{"$f":"IF(AU10=0,0,(AU10*((LOG(AU10))/LOG(2))))","v":{"$error":"#DIV/0!"}}]
[11,534,11,596,11,612,null,null,null,null,0,111,null,211,{"$f":"COUNTIF($L$7:$L$500,N11)","v":2},{"$f":"O11/$Q$4","v":4.4444444444444446E-2},{"$f":"IF(P11=0,0,(P11*((LOG(P11))/LOG(2))))","v":-0.19963791539243},null,null,{"$f":"N11","v":211},{"$f":"COUNTIF(L7:L14,T11)","v":1},{"$f":"U11/(W4-U7)","v":0.5},{"$f":"IF(V11=0,0,(V11*((LOG(V11))/LOG(2))))","v":-0.5},null,{"$f":"N11","v":211},{"$f":"COUNTIF(L15:L21,Y11)","v":1},{"$f":"Z11/(AB4-Z7)","v":0.33333333333333331},{"$f":"IF(AA11=0,0,(AA11*((LOG(AA11))/LOG(2))))","v":-0.52832083357371862},null,{"$f":"N11","v":211},{"$f":"COUNTIF(L22:L29,AD11)","v":0},{"$f":"AE11/(AG4-AE7)","v":{"$error":"#DIV/0!"}},{"$f":"IF(AF11=0,0,(AF11*((LOG(AF11))/LOG(2))))","v":{"$error":"#DIV/0!"}},null,{"$f":"N11","v":211},{"$f":"COUNTIF(L30:L36,AI11)","v":0},{"$f":"AJ11/(AL4-AJ7)","v":0},{"$f":"IF(AK11=0,0,(AK11*((LOG(AK11))/LOG(2))))","v":0},null,{"$f":"N11","v":211},{"$f":"COUNTIF(L37:L44,AN11)","v":0},{"$f":"AO11/(AQ4-AO7)","v":0},{"$f":"IF(AP11=0,0,(AP11*((LOG(AP11))/LOG(2))))","v":0},null,{"$f":"N11","v":211},{"$f":"COUNTIF(L45:L51,AS11)","v":0},{"$f":"AT11/(AV4-AT7)","v":{"$error":"#DIV/0!"}},{"$f":"IF(AU11=0,0,(AU11*((LOG(AU11))/LOG(2))))","v":{"$error":"#DIV/0!"}}]
[11,786,11,806,11,842,null,null,null,null,0,111,null,212,{"$f":"COUNTIF($L$7:$L$500,N12)","v":0},{"$f":"O12/$Q$4","v":0},{"$f":"IF(P12=0,0,(P12*((LOG(P12))/LOG(2))))","v":0},null,null,{"$f":"N12","v":212},{"$f":"COUNTIF(L7:L14,T12)","v":0},{"$f":"U12/(W4-U7)","v":0},{"$f":"IF(V12=0,0,(V12*((LOG(V12))/LOG(2))))","v":0},null,{"$f":"N12","v":212},{"$f":"COUNTIF(L15:L21,Y12)","v":0},{"$f":"Z12/(AB4-Z7)","v":0},{"$f":"IF(AA12=0,0,(AA12*((LOG(AA12))/LOG(2))))","v":0},null,{"$f":"N12","v":212},{"$f":"COUNTIF(L22:L29,AD12)","v":0},{"$f":"AE12/(AG4-AE7)","v":{"$error":"#DIV/0!"}},{"$f":"IF(AF12=0,0,(AF12*((LOG(AF12))/LOG(2))))","v":{"$error":"#DIV/0!"}},null,{"$f":"N12","v":212},{"$f":"COUNTIF(L30:L36,AI12)","v":0},{"$f":"AJ12/(AL4-AJ7)","v":0},{"$f":"IF(AK12=0,0,(AK12*((LOG(AK12))/LOG(2))))","v":0},null,{"$f":"N12","v":212},{"$f":"COUNTIF(L37:L44,AN12)","v":0},{"$f":"AO12/(AQ4-AO7)","v":0},{"$f":"IF(AP12=0,0,(AP12*((LOG(AP12))/LOG(2))))","v":0},null,{"$f":"N12","v":212},{"$f":"COUNTIF(L45:L51,AS12)","v":0},{"$f":"AT12/(AV4-AT7)","v":{"$error":"#DIV/0!"}},{"$f":"IF(AU12=0,0,(AU12*((LOG(AU12))/LOG(2))))","v":{"$error":"#DIV/0!"}}]
[11,947,11,995,11,1031,null,null,null,null,0,111,null,221,{"$f":"COUNTIF($L$7:$L$500,N13)","v":1},{"$f":"O13/$Q$4","v":2.2222222222222223E-2},{"$f":"IF(P13=0,0,(P13*((LOG(P13))/LOG(2))))","v":-0.12204117991843723},null,null,{"$f":"N13","v":221},{"$f":"COUNTIF(L7:L14,T13)","v":0},{"$f":"U13/(W4-U7)","v":0},{"$f":"IF(V13=0,0,(V13*((LOG(V13))/LOG(2))))","v":0},null,{"$f":"N13","v":221},{"$f":"COUNTIF(L15:L21,Y13)","v":0},{"$f":"Z13/(AB4-Z7)","v":0},{"$f":"IF(AA13=0,0,(AA13*((LOG(AA13))/LOG(2))))","v":0},null,{"$f":"N13","v":221},{"$f":"COUNTIF(L22:L29,AD13)","v":0},{"$f":"AE13/(AG4-AE7)","v":{"$error":"#DIV/0!"}},{"$f":"IF(AF13=0,0,(AF13*((LOG(AF13))/LOG(2))))","v":{"$error":"#DIV/0!"}},null,{"$f":"N13","v":221},{"$f":"COUNTIF(L30:L36,AI13)","v":0},{"$f":"AJ13/(AL4-AJ7)","v":0},{"$f":"IF(AK13=0,0,(AK13*((LOG(AK13))/LOG(2))))","v":0},null,{"$f":"N13","v":221},{"$f":"COUNTIF(L37:L44,AN13)","v":1},{"$f":"AO13/(AQ4-AO7)","v":1},{"$f":"IF(AP13=0,0,(AP13*((LOG(AP13))/LOG(2))))","v":0},null,{"$f":"N13","v":221},{"$f":"COUNTIF(L45:L51,AS13)","v":0},{"$f":"AT13/(AV4-AT7)","v":{"$error":"#DIV/0!"}},{"$f":"IF(AU13=0,0,(AU13*((LOG(AU13))/LOG(2))))","v":{"$error":"#DIV/0!"}}]
[11,1151,11,1168,11,1196,null,null,null,null,0,111,null,222,{"$f":"COUNTIF($L$7:$L$500,N14)","v":1},{"$f":"O14/$Q$4","v":2.2222222222222223E-2},{"$f":"IF(P14=0,0,(P14*((LOG(P14))/LOG(2))))","v":-0.12204117991843723},null,null,{"$f":"N14","v":222},{"$f":"COUNTIF(L7:L14,T14)","v":0},{"$f":"U14/(W4-U7)","v":0},{"$f":"IF(V14=0,0,(V14*((LOG(V14))/LOG(2))))","v":0},null,{"$f":"N14","v":222},{"$f":"COUNTIF(L15:L21,Y14)","v":0},{"$f":"Z14/(AB4-Z7)","v":0},{"$f":"IF(AA14=0,0,(AA14*((LOG(AA14))/LOG(2))))","v":0},null,{"$f":"N14","v":222},{"$f":"COUNTIF(L22:L29,AD14)","v":0},{"$f":"AE14/(AG4-AE7)","v":{"$error":"#DIV/0!"}},{"$f":"IF(AF14=0,0,(AF14*((LOG(AF14))/LOG(2))))","v":{"$error":"#DIV/0!"}},null,{"$f":"N14","v":222},{"$f":"COUNTIF(L30:L36,AI14)","v":1},{"$f":"AJ14/(AL4-AJ7)","v":1},{"$f":"IF(AK14=0,0,(AK14*((LOG(AK14))/LOG(2))))","v":0},null,{"$f":"N14","v":222},{"$f":"COUNTIF(L37:L44,AN14)","v":0},{"$f":"AO14/(AQ4-AO7)","v":0},{"$f":"IF(AP14=0,0,(AP14*((LOG(AP14))/LOG(2))))","v":0},null,{"$f":"N14","v":222},{"$f":"COUNTIF(L45:L51,AS14)","v":0},{"$f":"AT14/(AV4-AT7)","v":{"$error":"#DIV/0!"}},{"$f":"IF(AU14=0,0,(AU14*((LOG(AU14))/LOG(2))))","v":{"$error":"#DIV/0!"}}]
[11,1308,11,1323,11,1340,null,null,null,null,0,111,null,null,null,{"$f":"SUM(P7:P14)","v":1},{"$f":"-SUM(Q7:Q14)","v":0.97138097386620259},null,null,null,null,{"$f":"SUM(V7:V14)","v":1},{"$f":"-SUM(W7:W14)","v":1},null,null,null,{"$f":"SUM(AA7:AA14)","v":1},{"$f":"-SUM(AB7:AB14)","v":1.5849625007211559},null,null,null,{"$f":"SUM(AF7:AF14)","v":{"$error":"#DIV/0!"}},{"$f":"-SUM(AG7:AG14)","v":{"$error":"#DIV/0!"}},null,null,null,{"$f":"SUM(AK7:AK14)","v":1},{"$f":"-SUM(AL7:AL14)","v":0},null,null,null,{"$f":"SUM(AP7:AP14)","v":1},{"$f":"-SUM(AQ7:AQ14)","v":0},null,null,null,{"$f":"SUM(AU7:AU14)","v":{"$error":"#DIV/0!"}},{"$f":"-SUM(AV7:AV14)","v":{"$error":"#DIV/0!"}}]
[11,1706,22,1737,13,1747,null,null,null,null,0,121,null,null,null,"U=",{"$f":"Q15/(LOG(Q4)/LOG(2))","v":0.17687672208774077},null,null,null,null,"U1=",{"$f":"W15/(LOG(W4)/LOG(2))","v":0.33333333333333331},null,null,null,"U2=",{"$f":"AB15/(LOG(AB4)/LOG(2))","v":0.56457503405357945},null,null,null,"U3=",{"$f":"AG15/(LOG(AG4)/LOG(2))","v":{"$error":"#DIV/0!"}},null,null,null,"U4=",{"$f":"AL15/(LOG(AL4)/LOG(2))","v":0},null,null,null,"U5=",{"$f":"AQ15/(LOG(AQ4)/LOG(2))","v":0},null,null,null,"U6=",{"$f":"AV15/(LOG(AV4)/LOG(2))","v":{"$error":"#DIV/0!"}}]
[11,1849,11,1853,11,1864,null,null,null,null,0,111]
[11,1965,22,1970,24,1979,null,null,null,null,0,122]
[11,2074,11,2089,11,2098,null,null,null,null,0,111,null,"Total Target Seq"]
[22,2193,13,2209,13,2217,null,null,null,null,0,211,null,{"$f":"COUNTIF(L7:L51,G3)","v":38},null,8,7,8,7,8,7]
[11,2314,11,2322,11,2325,null,null,null,null,0,111,null,null,null,"% of reinforcement given in 6 equal intervals based on number of trials "]
[11,2449,11,2466,11,2484,null,null,null,null,0,111,null,null,null,"%_1","%_2","%_3","%_4","%_5","%_6"]
[11,2575,11,2591,11,2630,null,null,null,null,0,111,null,null,"target sequence",{"$f":"$G$3","v":111},{"$f":"$G$3","v":111},{"$f":"$G$3","v":111},{"$f":"$G$3","v":111},{"$f":"$G$3","v":111},{"$f":"$G$3","v":111}]
[11,2798,11,2865,11,2883,null,null,null,null,0,111,null,null,"total reinforcement",{"$f":"U7","v":6},{"$f":"Z7","v":4},{"$f":"AE7","v":8},{"$f":"AJ7","v":6},{"$f":"AO7","v":7},{"$f":"AT7","v":7}]
[11,3094,11,3130,11,3150,null,null,null,null,0,111,null,null,"% target"]
[11,3307,11,3348,11,3367,null,null,null,null,0,111,null,null,"CCRF"]
[11,3570,11,3639,11,3660,null,null,null,null,0,111,null,null,"% CCRf"]
[11,3777,11,3793,11,3812,null,null,null,null,0,111,null,null,"average response rate",{"$f":"F14/P20","v":149.5},{"$f":"(F21-F14)/Q20","v":161.28571428571428},{"$f":"(F29-F21)/R20","v":205.75},{"$f":"(F36-F29)/S20","v":210.42857142857142},{"$f":"(F44-F36)/T20","v":176.375},{"$f":"(F51-F44)/U20","v":184.71428571428572}]
[11,3938,11,3955,11,3971,null,null,null,null,0,111]
[11,4090,11,4110,11,4131,null,null,null,null,0,111]
[11,4363,11,4567,11,4578,null,null,null,null,0,111]
[22,4695,24,4697,24,4701,null,null,null,null,0,222]
[11,4809,11,4816,11,4826,null,null,null,null,0,111]
[11,4986,11,5006,11,5036,null,null,null,null,0,111]
[11,5199,11,5221,11,5241,null,null,null,null,0,111]
[11,5408,11,5428,11,5444,null,null,null,null,0,111]
[11,5561,11,5575,11,5592,null,null,null,null,0,111]
[11,5731,11,5747,11,5767,null,null,null,null,0,111]
[11,5899,11,5916,11,5933,null,null,null,null,0,111]
[22,6121,24,6125,13,6150,null,null,null,null,0,221]
[11,6314,11,6335,11,6361,null,null,null,null,0,111]
[11,6473,11,6487,11,6512,null,null,null,null,0,111]
[11,6647,11,6664,11,6681,null,null,null,null,0,111]
[11,6831,11,6841,11,6855,null,null,null,null,0,111]
[11,6957,11,6969,11,6983,null,null,null,null,0,111]
[11,7170,11,7214,11,7228,null,null,null,null,0,111]
[11,7492,11,7505,11,7520,null,null,null,null,0,111]
[11,7662,11,7676,11,7693,null,null,null,null,0,111]
[11,7820,11,7833,11,7853,null,null,null,null,0,111]
[11,7986,11,7998,11,8012,null,null,null,null,0,111]
[11,8117,11,8131,11,8148,null,null,null,null,1,111]

{"sheet":"!N207A1B.AXT","index":18,"n_rows":47,"n_cols":48,"rows_kept":47,"cut":false,"hidden":false,"merged":[[4,39,4,42],[5,39,5,40],[4,44,4,47],[5,44,5,45],[4,24,4,27],[5,24,5,25],[4,29,4,32],[5,29,5,30],[4,34,4,37],[5,34,5,35],[1,1,1,2],[5,13,5,14],[18,13,18,14],[19,13,19,14],[4,19,4,22],[5,19,5,20]]}
["Report for:!N207A1B.AXT"]
["Date:","<date>"]
["Hen:","<hen>",null,null,null,"Correct Sequence",{"$f":"Start!J2","v":111},null,null,null,null,null,null,null,null,"Total Sequences in Data",{"$f":"4994-COUNTBLANK(L7:L5000)","v":41},null,null,null,null,"Total Sequences in Block Data",{"$f":"COUNTA(L7:L13)","v":7},null,null,null,"Total Sequences in Block Data",{"$f":"COUNTA(L14:L20)","v":7},null,null,null,"Total Sequences in Block Data",{"$f":"COUNTA(L21:L26)","v":6},null,null,null,"Total Sequences in Block Data",{"$f":"COUNTA(L27:L33)","v":7},null,null,null,"Total Sequences in Block Data",{"$f":"COUNTA(L34:L40)","v":7},null,null,null,"Total Sequences in Block Data",{"$f":"COUNTA(L41:L47)","v":7}]
[null,null,null,null,null,null,null,null,null,null,null,null,null,null,null,"Total Sequences in Summary",{"$f":"SUM(O7:O14)","v":41},null,null,null,null,"Total Sequences in Block Summary",{"$f":"SUM(U7:U14)","v":7},null,null,null,"Total Sequences in Block Summary",{"$f":"SUM(Z7:Z14)","v":7},null,null,null,"Total Sequences in Block Summary",{"$f":"SUM(AE7:AE14)","v":6},null,null,null,"Total Sequences in Block Summary",{"$f":"SUM(AJ7:AJ14)","v":7},null,null,null,"Total Sequences in Block Summary",{"$f":"SUM(AO7:AO14)","v":7},null,null,null,"Total Sequences in Block Summary",{"$f":"SUM(AT7:AT14)","v":7}]
[null,null,null,null,null,null,null,null,null,null,null,null,null,null,null,null,null,null,null,"Block 1",null,null,null,null,"Block 2",null,null,null,null,"Block 3",null,null,null,null,"Block 4",null,null,null,null,"Block 5",null,null,null,null,"Block 6"]
["Sequence\nComponent\n1","Time\n1","Sequence\nComponent\n2","Time\n2","Sequence\nComponent\n3","Time\n3","Sequence\nComponent\n4","Time\n4","Sequence\nComponent\n5","Time\n5","Correct?\n0=No 1=Yes","Sequence",null,"Frequency",null,"Relative Frequency","Variability",null,null,"Frequency",null,"Relative Frequency","Variability",null,"Frequency",null,"Relative Frequency","Variability",null,"Frequency",null,"Relative Frequency","Variability",null,"Frequency",null,"Relative Frequency","Variability",null,"Frequency",null,"Relative Frequency","Variability",null,"Frequency",null,"Relative Frequency","Variability"]
[11,66,11,81,11,99,null,null,null,null,0,111,null,111,{"$f":"COUNTIF($L$7:$L$500,N7)","v":40},{"$f":"O7/$Q$4","v":0.97560975609756095},{"$f":"IF(P7=0,0,(P7*((LOG(P7))/LOG(2))))","v":-3.4755033883630611E-2},null,null,{"$f":"N7","v":111},{"$f":"COUNTIF(L7:L13,T7)","v":6},null,null,null,{"$f":"N7","v":111},{"$f":"COUNTIF(L14:L20,Y7)","v":7},null,null,null,{"$f":"N7","v":111},{"$f":"COUNTIF(L21:L26,AD7)","v":6},null,null,null,{"$f":"N7","v":111},{"$f":"COUNTIF(L27:L33,AI7)","v":7},null,null,null,{"$f":"N7","v":111},{"$f":"COUNTIF(L34:L40,AN7)","v":7},null,null,null,{"$f":"N7","v":111},{"$f":"COUNTIF(L41:L47,AS7)","v":7}]
[11,201,11,211,11,235,null,null,null,null,0,111,null,112,{"$f":"COUNTIF($L$7:$L$500,N8)","v":0},{"$f":"O8/$Q$4","v":0},{"$f":"IF(P8=0,0,(P8*((LOG(P8))/LOG(2))))","v":0},null,null,{"$f":"N8","v":112},{"$f":"COUNTIF(L7:L13,T8)","v":0},{"$f":"U8/(W4-U7)","v":0},{"$f":"IF(V8=0,0,(V8*((LOG(V8))/LOG(2))))","v":0},null,{"$f":"N8","v":112},{"$f":"COUNTIF(L14:L20,Y8)","v":0},{"$f":"Z8/(AB4-Z7)","v":{"$error":"#DIV/0!"}},{"$f":"IF(AA8=0,0,(AA8*((LOG(AA8))/LOG(2))))","v":{"$error":"#DIV/0!"}},null,{"$f":"N8","v":112},{"$f":"COUNTIF(L21:L26,AD8)","v":0},{"$f":"AE8/(AG4-AE7)","v":{"$error":"#DIV/0!"}},{"$f":"IF(AF8=0,0,(AF8*((LOG(AF8))/LOG(2))))","v":{"$error":"#DIV/0!"}},null,{"$f":"N8","v":112},{"$f":"COUNTIF(L27:L33,AI8)","v":0},{"$f":"AJ8/(AL4-AJ7)","v":{"$error":"#DIV/0!"}},{"$f":"IF(AK8=0,0,(AK8*((LOG(AK8))/LOG(2))))","v":{"$error":"#DIV/0!"}},null,{"$f":"N8","v":112},{"$f":"COUNTIF(L34:L40,AN8)","v":0},{"$f":"AO8/(AQ4-AO7)","v":{"$error":"#DIV/0!"}},{"$f":"IF(AP8=0,0,(AP8*((LOG(AP8))/LOG(2))))","v":{"$error":"#DIV/0!"}},null,{"$f":"N8","v":112},{"$f":"COUNTIF(L41:L47,AS8)","v":0},{"$f":"AT8/(AV4-AT7)","v":{"$error":"#DIV/0!"}},{"$f":"IF(AU8=0,0,(AU8*((LOG(AU8))/LOG(2))))","v":{"$error":"#DIV/0!"}}]
[22,332,13,345,13,352,null,null,null,null,0,211,null,121,{"$f":"COUNTIF($L$7:$L$500,N9)","v":0},{"$f":"O9/$Q$4","v":0},{"$f":"IF(P9=0,0,(P9*((LOG(P9))/LOG(2))))","v":0},null,null,{"$f":"N9","v":121},{"$f":"COUNTIF(L7:L13,T9)","v":0},{"$f":"U9/(W4-U7)","v":0},{"$f":"IF(V9=0,0,(V9*((LOG(V9))/LOG(2))))","v":0},null,{"$f":"N9","v":121},{"$f":"COUNTIF(L14:L20,Y9)","v":0},{"$f":"Z9/(AB4-Z7)","v":{"$error":"#DIV/0!"}},{"$f":"IF(AA9=0,0,(AA9*((LOG(AA9))/LOG(2))))","v":{"$error":"#DIV/0!"}},null,{"$f":"N9","v":121},{"$f":"COUNTIF(L21:L26,AD9)","v":0},{"$f":"AE9/(AG4-AE7)","v":{"$error":"#DIV/0!"}},{"$f":"IF(AF9=0,0,(AF9*((LOG(AF9))/LOG(2))))","v":{"$error":"#DIV/0!"}},null,{"$f":"N9","v":121},{"$f":"COUNTIF(L27:L33,AI9)","v":0},{"$f":"AJ9/(AL4-AJ7)","v":{"$error":"#DIV/0!"}},{"$f":"IF(AK9=0,0,(AK9*((LOG(AK9))/LOG(2))))","v":{"$error":"#DIV/0!"}},null,{"$f":"N9","v":121},{"$f":"COUNTIF(L34:L40,AN9)","v":0},{"$f":"AO9/(AQ4-AO7)","v":{"$error":"#DIV/0!"}},{"$f":"IF(AP9=0,0,(AP9*((LOG(AP9))/LOG(2))))","v":{"$error":"#DIV/0!"}},null,{"$f":"N9","v":121},{"$f":"COUNTIF(L41:L47,AS9)","v":0},{"$f":"AT9/(AV4-AT7)","v":{"$error":"#DIV/0!"}},{"$f":"IF(AU9=0,0,(AU9*((LOG(AU9))/LOG(2))))","v":{"$error":"#DIV/0!"}}]
[11,451,11,455,11,472,null,null,null,null,0,111,null,122,{"$f":"COUNTIF($L$7:$L$500,N10)","v":0},{"$f":"O10/$Q$4","v":0},{"$f":"IF(P10=0,0,(P10*((LOG(P10))/LOG(2))))","v":0},null,null,{"$f":"N10","v":122},{"$f":"COUNTIF(L7:L13,T10)","v":0},{"$f":"U10/(W4-U7)","v":0},{"$f":"IF(V10=0,0,(V10*((LOG(V10))/LOG(2))))","v":0},null,{"$f":"N10","v":122},{"$f":"COUNTIF(L14:L20,Y10)","v":0},{"$f":"Z10/(AB4-Z7)","v":{"$error":"#DIV/0!"}},{"$f":"IF(AA10=0,0,(AA10*((LOG(AA10))/LOG(2))))","v":{"$error":"#DIV/0!"}},null,{"$f":"N10","v":122},{"$f":"COUNTIF(L21:L26,AD10)","v":0},{"$f":"AE10/(AG4-AE7)","v":{"$error":"#DIV/0!"}},{"$f":"IF(AF10=0,0,(AF10*((LOG(AF10))/LOG(2))))","v":{"$error":"#DIV/0!"}},null,{"$f":"N10","v":122},{"$f":"COUNTIF(L27:L33,AI10)","v":0},{"$f":"AJ10/(AL4-AJ7)","v":{"$error":"#DIV/0!"}},{"$f":"IF(AK10=0,0,(AK10*((LOG(AK10))/LOG(2))))","v":{"$error":"#DIV/0!"}},null,{"$f":"N10","v":122},{"$f":"COUNTIF(L34:L40,AN10)","v":0},{"$f":"AO10/(AQ4-AO7)","v":{"$error":"#DIV/0!"}},{"$f":"IF(AP10=0,0,(AP10*((LOG(AP10))/LOG(2))))","v":{"$error":"#DIV/0!"}},null,{"$f":"N10","v":122},{"$f":"COUNTIF(L41:L47,AS10)","v":0},{"$f":"AT10/(AV4-AT7)","v":{"$error":"#DIV/0!"}},{"$f":"IF(AU10=0,0,(AU10*((LOG(AU10))/LOG(2))))","v":{"$error":"#DIV/0!"}}]
[11,622,11,641,11,663,null,null,null,null,0,111,null,211,{"$f":"COUNTIF($L$7:$L$500,N11)","v":1},{"$f":"O11/$Q$4","v":2.4390243902439025E-2},{"$f":"IF(P11=0,0,(P11*((LOG(P11))/LOG(2))))","v":-0.13067200011263619},null,null,{"$f":"N11","v":211},{"$f":"COUNTIF(L7:L13,T11)","v":1},{"$f":"U11/(W4-U7)","v":1},{"$f":"IF(V11=0,0,(V11*((LOG(V11))/LOG(2))))","v":0},null,{"$f":"N11","v":211},{"$f":"COUNTIF(L14:L20,Y11)","v":0},{"$f":"Z11/(AB4-Z7)","v":{"$error":"#DIV/0!"}},{"$f":"IF(AA11=0,0,(AA11*((LOG(AA11))/LOG(2))))","v":{"$error":"#DIV/0!"}},null,{"$f":"N11","v":211},{"$f":"COUNTIF(L21:L26,AD11)","v":0},{"$f":"AE11/(AG4-AE7)","v":{"$error":"#DIV/0!"}},{"$f":"IF(AF11=0,0,(AF11*((LOG(AF11))/LOG(2))))","v":{"$error":"#DIV/0!"}},null,{"$f":"N11","v":211},{"$f":"COUNTIF(L27:L33,AI11)","v":0},{"$f":"AJ11/(AL4-AJ7)","v":{"$error":"#DIV/0!"}},{"$f":"IF(AK11=0,0,(AK11*((LOG(AK11))/LOG(2))))","v":{"$error":"#DIV/0!"}},null,{"$f":"N11","v":211},{"$f":"COUNTIF(L34:L40,AN11)","v":0},{"$f":"AO11/(AQ4-AO7)","v":{"$error":"#DIV/0!"}},{"$f":"IF(AP11=0,0,(AP11*((LOG(AP11))/LOG(2))))","v":{"$error":"#DIV/0!"}},null,{"$f":"N11","v":211},{"$f":"COUNTIF(L41:L47,AS11)","v":0},{"$f":"AT11/(AV4-AT7)","v":{"$error":"#DIV/0!"}},{"$f":"IF(AU11=0,0,(AU11*((LOG(AU11))/LOG(2))))","v":{"$error":"#DIV/0!"}}]
[11,775,11,798,11,820,null,null,null,null,0,111,null,212,{"$f":"COUNTIF($L$7:$L$500,N12)","v":0},{"$f":"O12/$Q$4","v":0},{"$f":"IF(P12=0,0,(P12*((LOG(P12))/LOG(2))))","v":0},null,null,{"$f":"N12","v":212},{"$f":"COUNTIF(L7:L13,T12)","v":0},{"$f":"U12/(W4-U7)","v":0},{"$f":"IF(V12=0,0,(V12*((LOG(V12))/LOG(2))))","v":0},null,{"$f":"N12","v":212},{"$f":"COUNTIF(L14:L20,Y12)","v":0},{"$f":"Z12/(AB4-Z7)","v":{"$error":"#DIV/0!"}},{"$f":"IF(AA12=0,0,(AA12*((LOG(AA12))/LOG(2))))","v":{"$error":"#DIV/0!"}},null,{"$f":"N12","v":212},{"$f":"COUNTIF(L21:L26,AD12)","v":0},{"$f":"AE12/(AG4-AE7)","v":{"$error":"#DIV/0!"}},{"$f":"IF(AF12=0,0,(AF12*((LOG(AF12))/LOG(2))))","v":{"$error":"#DIV/0!"}},null,{"$f":"N12","v":212},{"$f":"COUNTIF(L27:L33,AI12)","v":0},{"$f":"AJ12/(AL4-AJ7)","v":{"$error":"#DIV/0!"}},{"$f":"IF(AK12=0,0,(AK12*((LOG(AK12))/LOG(2))))","v":{"$error":"#DIV/0!"}},null,{"$f":"N12","v":212},{"$f":"COUNTIF(L34:L40,AN12)","v":0},{"$f":"AO12/(AQ4-AO7)","v":{"$error":"#DIV/0!"}},{"$f":"IF(AP12=0,0,(AP12*((LOG(AP12))/LOG(2))))","v":{"$error":"#DIV/0!"}},null,{"$f":"N12","v":212},{"$f":"COUNTIF(L41:L47,AS12)","v":0},{"$f":"AT12/(AV4-AT7)","v":{"$error":"#DIV/0!"}},{"$f":"IF(AU12=0,0,(AU12*((LOG(AU12))/LOG(2))))","v":{"$error":"#DIV/0!"}}]
[11,1015,11,1035,11,1073,null,null,null,null,0,111,null,221,{"$f":"COUNTIF($L$7:$L$500,N13)","v":0},{"$f":"O13/$Q$4","v":0},{"$f":"IF(P13=0,0,(P13*((LOG(P13))/LOG(2))))","v":0},null,null,{"$f":"N13","v":221},{"$f":"COUNTIF(L7:L13,T13)","v":0},{"$f":"U13/(W4-U7)","v":0},{"$f":"IF(V13=0,0,(V13*((LOG(V13))/LOG(2))))","v":0},null,{"$f":"N13","v":221},{"$f":"COUNTIF(L14:L20,Y13)","v":0},{"$f":"Z13/(AB4-Z7)","v":{"$error":"#DIV/0!"}},{"$f":"IF(AA13=0,0,(AA13*((LOG(AA13))/LOG(2))))","v":{"$error":"#DIV/0!"}},null,{"$f":"N13","v":221},{"$f":"COUNTIF(L21:L26,AD13)","v":0},{"$f":"AE13/(AG4-AE7)","v":{"$error":"#DIV/0!"}},{"$f":"IF(AF13=0,0,(AF13*((LOG(AF13))/LOG(2))))","v":{"$error":"#DIV/0!"}},null,{"$f":"N13","v":221},{"$f":"COUNTIF(L27:L33,AI13)","v":0},{"$f":"AJ13/(AL4-AJ7)","v":{"$error":"#DIV/0!"}},{"$f":"IF(AK13=0,0,(AK13*((LOG(AK13))/LOG(2))))","v":{"$error":"#DIV/0!"}},null,{"$f":"N13","v":221},{"$f":"COUNTIF(L34:L40,AN13)","v":0},{"$f":"AO13/(AQ4-AO7)","v":{"$error":"#DIV/0!"}},{"$f":"IF(AP13=0,0,(AP13*((LOG(AP13))/LOG(2))))","v":{"$error":"#DIV/0!"}},null,{"$f":"N13","v":221},{"$f":"COUNTIF(L41:L47,AS13)","v":0},{"$f":"AT13/(AV4-AT7)","v":{"$error":"#DIV/0!"}},{"$f":"IF(AU13=0,0,(AU13*((LOG(AU13))/LOG(2))))","v":{"$error":"#DIV/0!"}}]
[11,1167,11,1200,11,1218,null,null,null,null,0,111,null,222,{"$f":"COUNTIF($L$7:$L$500,N14)","v":0},{"$f":"O14/$Q$4","v":0},{"$f":"IF(P14=0,0,(P14*((LOG(P14))/LOG(2))))","v":0},null,null,{"$f":"N14","v":222},{"$f":"COUNTIF(L7:L13,T14)","v":0},{"$f":"U14/(W4-U7)","v":0},{"$f":"IF(V14=0,0,(V14*((LOG(V14))/LOG(2))))","v":0},null,{"$f":"N14","v":222},{"$f":"COUNTIF(L14:L20,Y14)","v":0},{"$f":"Z14/(AB4-Z7)","v":{"$error":"#DIV/0!"}},{"$f":"IF(AA14=0,0,(AA14*((LOG(AA14))/LOG(2))))","v":{"$error":"#DIV/0!"}},null,{"$f":"N14","v":222},{"$f":"COUNTIF(L21:L26,AD14)","v":0},{"$f":"AE14/(AG4-AE7)","v":{"$error":"#DIV/0!"}},{"$f":"IF(AF14=0,0,(AF14*((LOG(AF14))/LOG(2))))","v":{"$error":"#DIV/0!"}},null,{"$f":"N14","v":222},{"$f":"COUNTIF(L27:L33,AI14)","v":0},{"$f":"AJ14/(AL4-AJ7)","v":{"$error":"#DIV/0!"}},{"$f":"IF(AK14=0,0,(AK14*((LOG(AK14))/LOG(2))))","v":{"$error":"#DIV/0!"}},null,{"$f":"N14","v":222},{"$f":"COUNTIF(L34:L40,AN14)","v":0},{"$f":"AO14/(AQ4-AO7)","v":{"$error":"#DIV/0!"}},{"$f":"IF(AP14=0,0,(AP14*((LOG(AP14))/LOG(2))))","v":{"$error":"#DIV/0!"}},null,{"$f":"N14","v":222},{"$f":"COUNTIF(L41:L47,AS14)","v":0},{"$f":"AT14/(AV4-AT7)","v":{"$error":"#DIV/0!"}},{"$f":"IF(AU14=0,0,(AU14*((LOG(AU14))/LOG(2))))","v":{"$error":"#DIV/0!"}}]
[11,1393,11,1422,11,1446,null,null,null,null,0,111,null,null,null,{"$f":"SUM(P7:P14)","v":1},{"$f":"-SUM(Q7:Q14)","v":0.16542703399626679},null,null,null,null,{"$f":"SUM(V7:V14)","v":1},{"$f":"-SUM(W7:W14)","v":0},null,null,null,{"$f":"SUM(AA7:AA14)","v":{"$error":"#DIV/0!"}},{"$f":"-SUM(AB7:AB14)","v":{"$error":"#DIV/0!"}},null,null,null,{"$f":"SUM(AF7:AF14)","v":{"$error":"#DIV/0!"}},{"$f":"-SUM(AG7:AG14)","v":{"$error":"#DIV/0!"}},null,null,null,{"$f":"SUM(AK7:AK14)","v":{"$error":"#DIV/0!"}},{"$f":"-SUM(AL7:AL14)","v":{"$error":"#DIV/0!"}},null,null,null,{"$f":"SUM(AP7:AP14)","v":{"$error":"#DIV/0!"}},{"$f":"-SUM(AQ7:AQ14)","v":{"$error":"#DIV/0!"}},null,null,null,{"$f":"SUM(AU7:AU14)","v":{"$error":"#DIV/0!"}},{"$f":"-SUM(AV7:AV14)","v":{"$error":"#DIV/0!"}}]
[11,1598,11,1645,11,1665,null,null,null,null,0,111,null,null,null,"U=",{"$f":"Q15/(LOG(Q4)/LOG(2))","v":3.0877354779509855E-2},null,null,null,null,"U1=",{"$f":"W15/(LOG(W4)/LOG(2))","v":0},null,null,null,"U2=",{"$f":"AB15/(LOG(AB4)/LOG(2))","v":{"$error":"#DIV/0!"}},null,null,null,"U3=",{"$f":"AG15/(LOG(AG4)/LOG(2))","v":{"$error":"#DIV/0!"}},null,null,null,"U4=",{"$f":"AL15/(LOG(AL4)/LOG(2))","v":{"$error":"#DIV/0!"}},null,null,null,"U5=",{"$f":"AQ15/(LOG(AQ4)/LOG(2))","v":{"$error":"#DIV/0!"}},null,null,null,"U6=",{"$f":"AV15/(LOG(AV4)/LOG(2))","v":{"$error":"#DIV/0!"}}]
[11,1803,11,1821,11,1849,null,null,null,null,0,111]
[11,2003,11,2035,11,2046,null,null,null,null,0,111]
[11,2301,11,2320,11,2337,null,null,null,null,0,111,null,"Total Target Seq"]
[11,2456,11,2470,11,2487,null,null,null,null,0,111,null,{"$f":"COUNTIF(L7:L47,G3)","v":40},null,7,7,6,7,7,7]
[11,2696,11,2713,11,2727,null,null,null,null,0,111,null,null,null,"% of reinforcement given in 6 equal intervals based on number of trials "]
[11,2938,11,2954,11,2968,null,null,null,null,0,111,null,null,null,"%_1","%_2","%_3","%_4","%_5","%_6"]
[11,3110,11,3125,11,3140,null,null,null,null,0,111,null,null,"target sequence",{"$f":"$G$3","v":111},{"$f":"$G$3","v":111},{"$f":"$G$3","v":111},{"$f":"$G$3","v":111},{"$f":"$G$3","v":111},{"$f":"$G$3","v":111}]
[11,3261,11,3278,11,3301,null,null,null,null,0,111,null,null,"total reinforcement",{"$f":"U7","v":6},{"$f":"Z7","v":7},{"$f":"AE7","v":6},{"$f":"AJ7","v":7},{"$f":"AO7","v":7},{"$f":"AT7","v":7}]
[11,3402,11,3424,11,3439,null,null,null,null,0,111,null,null,"% target"]
[11,3668,11,3720,11,3741,null,null,null,null,0,111,null,null,"CCRF"]
[11,3867,11,3890,11,3900,null,null,null,null,0,111,null,null,"% CCRf"]
[11,4011,11,4027,11,4047,null,null,null,null,0,111,null,null,"average response rate",{"$f":"F13/P20","v":153.28571428571428},{"$f":"(F20-F13)/Q20","v":202},{"$f":"(F26-F20)/R20","v":209},{"$f":"(F33-F26)/S20","v":172.71428571428572},{"$f":"(F40-F33)/T20","v":171.85714285714286},{"$f":"(F47-F40)/U20","v":186.14285714285714}]
[11,4261,11,4271,11,4284,null,null,null,null,0,111]
[11,4437,11,4465,11,4487,null,null,null,null,0,111]
[11,4614,11,4633,11,4661,null,null,null,null,0,111]
[11,4758,11,4780,11,4801,null,null,null,null,0,111]
[11,4921,11,4934,11,4950,null,null,null,null,0,111]
[11,5073,11,5082,11,5094,null,null,null,null,0,111]
[11,5294,11,5304,11,5321,null,null,null,null,0,111]
[11,5412,11,5429,11,5447,null,null,null,null,0,111]
[11,5550,11,5570,11,5586,null,null,null,null,0,111]
[11,5751,11,5765,11,5777,null,null,null,null,0,111]
[11,5961,11,5975,11,5989,null,null,null,null,0,111]
[11,6093,11,6134,11,6153,null,null,null,null,0,111]
[11,6301,11,6321,11,6346,null,null,null,null,0,111]
[11,6464,11,6481,11,6496,null,null,null,null,0,111]
[11,6629,11,6644,11,6660,null,null,null,null,0,111]
[11,6824,11,6833,11,6846,null,null,null,null,0,111]
[11,7079,11,7092,11,7107,null,null,null,null,0,111]
[11,7255,11,7272,11,7293,null,null,null,null,0,111]
[11,7417,11,7438,11,7456,null,null,null,null,1,111]

{"sheet":"!N20893B.AXT","index":19,"n_rows":49,"n_cols":48,"rows_kept":49,"cut":false,"hidden":false,"merged":[[4,39,4,42],[5,39,5,40],[4,44,4,47],[5,44,5,45],[4,24,4,27],[5,24,5,25],[4,29,4,32],[5,29,5,30],[4,34,4,37],[5,34,5,35],[1,1,1,2],[5,13,5,14],[18,13,18,14],[19,13,19,14],[4,19,4,22],[5,19,5,20]]}
["Report for:!N20893B.AXT"]
["Date:","<date>"]
["Hen:","<hen>",null,null,null,"Correct Sequence",{"$f":"Start!J2","v":111},null,null,null,null,null,null,null,null,"Total Sequences in Data",{"$f":"4994-COUNTBLANK(L7:L5000)","v":43},null,null,null,null,"Total Sequences in Block Data",{"$f":"COUNTA(L7:L13)","v":7},null,null,null,"Total Sequences in Block Data",{"$f":"COUNTA(L14:L20)","v":7},null,null,null,"Total Sequences in Block Data",{"$f":"COUNTA(L21:L28)","v":8},null,null,null,"Total Sequences in Block Data",{"$f":"COUNTA(L29:L35)","v":7},null,null,null,"Total Sequences in Block Data",{"$f":"COUNTA(L36:L42)","v":7},null,null,null,"Total Sequences in Block Data",{"$f":"COUNTA(L43:L49)","v":7}]
[null,null,null,null,null,null,null,null,null,null,null,null,null,null,null,"Total Sequences in Summary",{"$f":"SUM(O7:O14)","v":43},null,null,null,null,"Total Sequences in Block Summary",{"$f":"SUM(U7:U14)","v":7},null,null,null,"Total Sequences in Block Summary",{"$f":"SUM(Z7:Z14)","v":7},null,null,null,"Total Sequences in Block Summary",{"$f":"SUM(AE7:AE14)","v":8},null,null,null,"Total Sequences in Block Summary",{"$f":"SUM(AJ7:AJ14)","v":7},null,null,null,"Total Sequences in Block Summary",{"$f":"SUM(AO7:AO14)","v":7},null,null,null,"Total Sequences in Block Summary",{"$f":"SUM(AT7:AT14)","v":7}]
[null,null,null,null,null,null,null,null,null,null,null,null,null,null,null,null,null,null,null,"Block 1",null,null,null,null,"Block 2",null,null,null,null,"Block 3",null,null,null,null,"Block 4",null,null,null,null,"Block 5",null,null,null,null,"Block 6"]
["Sequence\nComponent\n1","Time\n1","Sequence\nComponent\n2","Time\n2","Sequence\nComponent\n3","Time\n3","Sequence\nComponent\n4","Time\n4","Sequence\nComponent\n5","Time\n5","Correct?\n0=No 1=Yes","Sequence",null,"Frequency",null,"Relative Frequency","Variability",null,null,"Frequency",null,"Relative Frequency","Variability",null,"Frequency",null,"Relative Frequency","Variability",null,"Frequency",null,"Relative Frequency","Variability",null,"Frequency",null,"Relative Frequency","Variability",null,"Frequency",null,"Relative Frequency","Variability",null,"Frequency",null,"Relative Frequency","Variability"]
[11,78,11,93,11,107,null,null,null,null,0,111,null,111,{"$f":"COUNTIF($L$7:$L$500,N7)","v":40},{"$f":"O7/$Q$4","v":0.93023255813953487},{"$f":"IF(P7=0,0,(P7*((LOG(P7))/LOG(2))))","v":-9.7057357967195917E-2},null,null,{"$f":"N7","v":111},{"$f":"COUNTIF(L7:L13,T7)","v":7},null,null,null,{"$f":"N7","v":111},{"$f":"COUNTIF(L14:L20,Y7)","v":7},null,null,null,{"$f":"N7","v":111},{"$f":"COUNTIF(L21:L28,AD7)","v":6},null,null,null,{"$f":"N7","v":111},{"$f":"COUNTIF(L29:L35,AI7)","v":6},null,null,null,{"$f":"N7","v":111},{"$f":"COUNTIF(L36:L42,AN7)","v":7},null,null,null,{"$f":"N7","v":111},{"$f":"COUNTIF(L43:L49,AS7)","v":7}]
[11,237,11,255,11,294,null,null,null,null,0,111,null,112,{"$f":"COUNTIF($L$7:$L$500,N8)","v":0},{"$f":"O8/$Q$4","v":0},{"$f":"IF(P8=0,0,(P8*((LOG(P8))/LOG(2))))","v":0},null,null,{"$f":"N8","v":112},{"$f":"COUNTIF(L7:L13,T8)","v":0},{"$f":"U8/(W4-U7)","v":{"$error":"#DIV/0!"}},{"$f":"IF(V8=0,0,(V8*((LOG(V8))/LOG(2))))","v":{"$error":"#DIV/0!"}},null,{"$f":"N8","v":112},{"$f":"COUNTIF(L14:L20,Y8)","v":0},{"$f":"Z8/(AB4-Z7)","v":{"$error":"#DIV/0!"}},{"$f":"IF(AA8=0,0,(AA8*((LOG(AA8))/LOG(2))))","v":{"$error":"#DIV/0!"}},null,{"$f":"N8","v":112},{"$f":"COUNTIF(L21:L28,AD8)","v":0},{"$f":"AE8/(AG4-AE7)","v":0},{"$f":"IF(AF8=0,0,(AF8*((LOG(AF8))/LOG(2))))","v":0},null,{"$f":"N8","v":112},{"$f":"COUNTIF(L29:L35,AI8)","v":0},{"$f":"AJ8/(AL4-AJ7)","v":0},{"$f":"IF(AK8=0,0,(AK8*((LOG(AK8))/LOG(2))))","v":0},null,{"$f":"N8","v":112},{"$f":"COUNTIF(L36:L42,AN8)","v":0},{"$f":"AO8/(AQ4-AO7)","v":{"$error":"#DIV/0!"}},{"$f":"IF(AP8=0,0,(AP8*((LOG(AP8))/LOG(2))))","v":{"$error":"#DIV/0!"}},null,{"$f":"N8","v":112},{"$f":"COUNTIF(L43:L49,AS8)","v":0},{"$f":"AT8/(AV4-AT7)","v":{"$error":"#DIV/0!"}},{"$f":"IF(AU8=0,0,(AU8*((LOG(AU8))/LOG(2))))","v":{"$error":"#DIV/0!"}}]
[11,587,11,605,11,633,null,null,null,null,0,111,null,121,{"$f":"COUNTIF($L$7:$L$500,N9)","v":0},{"$f":"O9/$Q$4","v":0},{"$f":"IF(P9=0,0,(P9*((LOG(P9))/LOG(2))))","v":0},null,null,{"$f":"N9","v":121},{"$f":"COUNTIF(L7:L13,T9)","v":0},{"$f":"U9/(W4-U7)","v":{"$error":"#DIV/0!"}},{"$f":"IF(V9=0,0,(V9*((LOG(V9))/LOG(2))))","v":{"$error":"#DIV/0!"}},null,{"$f":"N9","v":121},{"$f":"COUNTIF(L14:L20,Y9)","v":0},{"$f":"Z9/(AB4-Z7)","v":{"$error":"#DIV/0!"}},{"$f":"IF(AA9=0,0,(AA9*((LOG(AA9))/LOG(2))))","v":{"$error":"#DIV/0!"}},null,{"$f":"N9","v":121},{"$f":"COUNTIF(L21:L28,AD9)","v":0},{"$f":"AE9/(AG4-AE7)","v":0},{"$f":"IF(AF9=0,0,(AF9*((LOG(AF9))/LOG(2))))","v":0},null,{"$f":"N9","v":121},{"$f":"COUNTIF(L29:L35,AI9)","v":0},{"$f":"AJ9/(AL4-AJ7)","v":0},{"$f":"IF(AK9=0,0,(AK9*((LOG(AK9))/LOG(2))))","v":0},null,{"$f":"N9","v":121},{"$f":"COUNTIF(L36:L42,AN9)","v":0},{"$f":"AO9/(AQ4-AO7)","v":{"$error":"#DIV/0!"}},{"$f":"IF(AP9=0,0,(AP9*((LOG(AP9))/LOG(2))))","v":{"$error":"#DIV/0!"}},null,{"$f":"N9","v":121},{"$f":"COUNTIF(L43:L49,AS9)","v":0},{"$f":"AT9/(AV4-AT7)","v":{"$error":"#DIV/0!"}},{"$f":"IF(AU9=0,0,(AU9*((LOG(AU9))/LOG(2))))","v":{"$error":"#DIV/0!"}}]
[11,729,11,744,11,759,null,null,null,null,0,111,null,122,{"$f":"COUNTIF($L$7:$L$500,N10)","v":0},{"$f":"O10/$Q$4","v":0},{"$f":"IF(P10=0,0,(P10*((LOG(P10))/LOG(2))))","v":0},null,null,{"$f":"N10","v":122},{"$f":"COUNTIF(L7:L13,T10)","v":0},{"$f":"U10/(W4-U7)","v":{"$error":"#DIV/0!"}},{"$f":"IF(V10=0,0,(V10*((LOG(V10))/LOG(2))))","v":{"$error":"#DIV/0!"}},null,{"$f":"N10","v":122},{"$f":"COUNTIF(L14:L20,Y10)","v":0},{"$f":"Z10/(AB4-Z7)","v":{"$error":"#DIV/0!"}},{"$f":"IF(AA10=0,0,(AA10*((LOG(AA10))/LOG(2))))","v":{"$error":"#DIV/0!"}},null,{"$f":"N10","v":122},{"$f":"COUNTIF(L21:L28,AD10)","v":0},{"$f":"AE10/(AG4-AE7)","v":0},{"$f":"IF(AF10=0,0,(AF10*((LOG(AF10))/LOG(2))))","v":0},null,{"$f":"N10","v":122},{"$f":"COUNTIF(L29:L35,AI10)","v":0},{"$f":"AJ10/(AL4-AJ7)","v":0},{"$f":"IF(AK10=0,0,(AK10*((LOG(AK10))/LOG(2))))","v":0},null,{"$f":"N10","v":122},{"$f":"COUNTIF(L36:L42,AN10)","v":0},{"$f":"AO10/(AQ4-AO7)","v":{"$error":"#DIV/0!"}},{"$f":"IF(AP10=0,0,(AP10*((LOG(AP10))/LOG(2))))","v":{"$error":"#DIV/0!"}},null,{"$f":"N10","v":122},{"$f":"COUNTIF(L43:L49,AS10)","v":0},{"$f":"AT10/(AV4-AT7)","v":{"$error":"#DIV/0!"}},{"$f":"IF(AU10=0,0,(AU10*((LOG(AU10))/LOG(2))))","v":{"$error":"#DIV/0!"}}]
[11,877,11,895,11,915,null,null,null,null,0,111,null,211,{"$f":"COUNTIF($L$7:$L$500,N11)","v":2},{"$f":"O11/$Q$4","v":4.6511627906976744E-2},{"$f":"IF(P11=0,0,(P11*((LOG(P11))/LOG(2))))","v":-0.20587277928846967},null,null,{"$f":"N11","v":211},{"$f":"COUNTIF(L7:L13,T11)","v":0},{"$f":"U11/(W4-U7)","v":{"$error":"#DIV/0!"}},{"$f":"IF(V11=0,0,(V11*((LOG(V11))/LOG(2))))","v":{"$error":"#DIV/0!"}},null,{"$f":"N11","v":211},{"$f":"COUNTIF(L14:L20,Y11)","v":0},{"$f":"Z11/(AB4-Z7)","v":{"$error":"#DIV/0!"}},{"$f":"IF(AA11=0,0,(AA11*((LOG(AA11))/LOG(2))))","v":{"$error":"#DIV/0!"}},null,{"$f":"N11","v":211},{"$f":"COUNTIF(L21:L28,AD11)","v":2},{"$f":"AE11/(AG4-AE7)","v":1},{"$f":"IF(AF11=0,0,(AF11*((LOG(AF11))/LOG(2))))","v":0},null,{"$f":"N11","v":211},{"$f":"COUNTIF(L29:L35,AI11)","v":0},{"$f":"AJ11/(AL4-AJ7)","v":0},{"$f":"IF(AK11=0,0,(AK11*((LOG(AK11))/LOG(2))))","v":0},null,{"$f":"N11","v":211},{"$f":"COUNTIF(L36:L42,AN11)","v":0},{"$f":"AO11/(AQ4-AO7)","v":{"$error":"#DIV/0!"}},{"$f":"IF(AP11=0,0,(AP11*((LOG(AP11))/LOG(2))))","v":{"$error":"#DIV/0!"}},null,{"$f":"N11","v":211},{"$f":"COUNTIF(L43:L49,AS11)","v":0},{"$f":"AT11/(AV4-AT7)","v":{"$error":"#DIV/0!"}},{"$f":"IF(AU11=0,0,(AU11*((LOG(AU11))/LOG(2))))","v":{"$error":"#DIV/0!"}}]
[11,1214,11,1231,11,1253,null,null,null,null,0,111,null,212,{"$f":"COUNTIF($L$7:$L$500,N12)","v":1},{"$f":"O12/$Q$4","v":2.3255813953488372E-2},{"$f":"IF(P12=0,0,(P12*((LOG(P12))/LOG(2))))","v":-0.12619220359772321},null,null,{"$f":"N12","v":212},{"$f":"COUNTIF(L7:L13,T12)","v":0},{"$f":"U12/(W4-U7)","v":{"$error":"#DIV/0!"}},{"$f":"IF(V12=0,0,(V12*((LOG(V12))/LOG(2))))","v":{"$error":"#DIV/0!"}},null,{"$f":"N12","v":212},{"$f":"COUNTIF(L14:L20,Y12)","v":0},{"$f":"Z12/(AB4-Z7)","v":{"$error":"#DIV/0!"}},{"$f":"IF(AA12=0,0,(AA12*((LOG(AA12))/LOG(2))))","v":{"$error":"#DIV/0!"}},null,{"$f":"N12","v":212},{"$f":"COUNTIF(L21:L28,AD12)","v":0},{"$f":"AE12/(AG4-AE7)","v":0},{"$f":"IF(AF12=0,0,(AF12*((LOG(AF12))/LOG(2))))","v":0},null,{"$f":"N12","v":212},{"$f":"COUNTIF(L29:L35,AI12)","v":1},{"$f":"AJ12/(AL4-AJ7)","v":1},{"$f":"IF(AK12=0,0,(AK12*((LOG(AK12))/LOG(2))))","v":0},null,{"$f":"N12","v":212},{"$f":"COUNTIF(L36:L42,AN12)","v":0},{"$f":"AO12/(AQ4-AO7)","v":{"$error":"#DIV/0!"}},{"$f":"IF(AP12=0,0,(AP12*((LOG(AP12))/LOG(2))))","v":{"$error":"#DIV/0!"}},null,{"$f":"N12","v":212},{"$f":"COUNTIF(L43:L49,AS12)","v":0},{"$f":"AT12/(AV4-AT7)","v":{"$error":"#DIV/0!"}},{"$f":"IF(AU12=0,0,(AU12*((LOG(AU12))/LOG(2))))","v":{"$error":"#DIV/0!"}}]
[11,1365,11,1380,11,1397,null,null,null,null,0,111,null,221,{"$f":"COUNTIF($L$7:$L$500,N13)","v":0},{"$f":"O13/$Q$4","v":0},{"$f":"IF(P13=0,0,(P13*((LOG(P13))/LOG(2))))","v":0},null,null,{"$f":"N13","v":221},{"$f":"COUNTIF(L7:L13,T13)","v":0},{"$f":"U13/(W4-U7)","v":{"$error":"#DIV/0!"}},{"$f":"IF(V13=0,0,(V13*((LOG(V13))/LOG(2))))","v":{"$error":"#DIV/0!"}},null,{"$f":"N13","v":221},{"$f":"COUNTIF(L14:L20,Y13)","v":0},{"$f":"Z13/(AB4-Z7)","v":{"$error":"#DIV/0!"}},{"$f":"IF(AA13=0,0,(AA13*((LOG(AA13))/LOG(2))))","v":{"$error":"#DIV/0!"}},null,{"$f":"N13","v":221},{"$f":"COUNTIF(L21:L28,AD13)","v":0},{"$f":"AE13/(AG4-AE7)","v":0},{"$f":"IF(AF13=0,0,(AF13*((LOG(AF13))/LOG(2))))","v":0},null,{"$f":"N13","v":221},{"$f":"COUNTIF(L29:L35,AI13)","v":0},{"$f":"AJ13/(AL4-AJ7)","v":0},{"$f":"IF(AK13=0,0,(AK13*((LOG(AK13))/LOG(2))))","v":0},null,{"$f":"N13","v":221},{"$f":"COUNTIF(L36:L42,AN13)","v":0},{"$f":"AO13/(AQ4-AO7)","v":{"$error":"#DIV/0!"}},{"$f":"IF(AP13=0,0,(AP13*((LOG(AP13))/LOG(2))))","v":{"$error":"#DIV/0!"}},null,{"$f":"N13","v":221},{"$f":"COUNTIF(L43:L49,AS13)","v":0},{"$f":"AT13/(AV4-AT7)","v":{"$error":"#DIV/0!"}},{"$f":"IF(AU13=0,0,(AU13*((LOG(AU13))/LOG(2))))","v":{"$error":"#DIV/0!"}}]
[11,1532,11,1549,11,1565,null,null,null,null,0,111,null,222,{"$f":"COUNTIF($L$7:$L$500,N14)","v":0},{"$f":"O14/$Q$4","v":0},{"$f":"IF(P14=0,0,(P14*((LOG(P14))/LOG(2))))","v":0},null,null,{"$f":"N14","v":222},{"$f":"COUNTIF(L7:L13,T14)","v":0},{"$f":"U14/(W4-U7)","v":{"$error":"#DIV/0!"}},{"$f":"IF(V14=0,0,(V14*((LOG(V14))/LOG(2))))","v":{"$error":"#DIV/0!"}},null,{"$f":"N14","v":222},{"$f":"COUNTIF(L14:L20,Y14)","v":0},{"$f":"Z14/(AB4-Z7)","v":{"$error":"#DIV/0!"}},{"$f":"IF(AA14=0,0,(AA14*((LOG(AA14))/LOG(2))))","v":{"$error":"#DIV/0!"}},null,{"$f":"N14","v":222},{"$f":"COUNTIF(L21:L28,AD14)","v":0},{"$f":"AE14/(AG4-AE7)","v":0},{"$f":"IF(AF14=0,0,(AF14*((LOG(AF14))/LOG(2))))","v":0},null,{"$f":"N14","v":222},{"$f":"COUNTIF(L29:L35,AI14)","v":0},{"$f":"AJ14/(AL4-AJ7)","v":0},{"$f":"IF(AK14=0,0,(AK14*((LOG(AK14))/LOG(2))))","v":0},null,{"$f":"N14","v":222},{"$f":"COUNTIF(L36:L42,AN14)","v":0},{"$f":"AO14/(AQ4-AO7)","v":{"$error":"#DIV/0!"}},{"$f":"IF(AP14=0,0,(AP14*((LOG(AP14))/LOG(2))))","v":{"$error":"#DIV/0!"}},null,{"$f":"N14","v":222},{"$f":"COUNTIF(L43:L49,AS14)","v":0},{"$f":"AT14/(AV4-AT7)","v":{"$error":"#DIV/0!"}},{"$f":"IF(AU14=0,0,(AU14*((LOG(AU14))/LOG(2))))","v":{"$error":"#DIV/0!"}}]
[11,1734,11,1755,11,1774,null,null,null,null,0,111,null,null,null,{"$f":"SUM(P7:P14)","v":1},{"$f":"-SUM(Q7:Q14)","v":0.4291223408533888},null,null,null,null,{"$f":"SUM(V7:V14)","v":{"$error":"#DIV/0!"}},{"$f":"-SUM(W7:W14)","v":{"$error":"#DIV/0!"}},null,null,null,{"$f":"SUM(AA7:AA14)","v":{"$error":"#DIV/0!"}},{"$f":"-SUM(AB7:AB14)","v":{"$error":"#DIV/0!"}},null,null,null,{"$f":"SUM(AF7:AF14)","v":1},{"$f":"-SUM(AG7:AG14)","v":0},null,null,null,{"$f":"SUM(AK7:AK14)","v":1},{"$f":"-SUM(AL7:AL14)","v":0},null,null,null,{"$f":"SUM(AP7:AP14)","v":{"$error":"#DIV/0!"}},{"$f":"-SUM(AQ7:AQ14)","v":{"$error":"#DIV/0!"}},null,null,null,{"$f":"SUM(AU7:AU14)","v":{"$error":"#DIV/0!"}},{"$f":"-SUM(AV7:AV14)","v":{"$error":"#DIV/0!"}}]
[11,2064,11,2084,11,2103,null,null,null,null,0,111,null,null,null,"U=",{"$f":"Q15/(LOG(Q4)/LOG(2))","v":7.9082455473912391E-2},null,null,null,null,"U1=",{"$f":"W15/(LOG(W4)/LOG(2))","v":{"$error":"#DIV/0!"}},null,null,null,"U2=",{"$f":"AB15/(LOG(AB4)/LOG(2))","v":{"$error":"#DIV/0!"}},null,null,null,"U3=",{"$f":"AG15/(LOG(AG4)/LOG(2))","v":0},null,null,null,"U4=",{"$f":"AL15/(LOG(AL4)/LOG(2))","v":0},null,null,null,"U5=",{"$f":"AQ15/(LOG(AQ4)/LOG(2))","v":{"$error":"#DIV/0!"}},null,null,null,"U6=",{"$f":"AV15/(LOG(AV4)/LOG(2))","v":{"$error":"#DIV/0!"}}]
[11,2222,11,2262,11,2282,null,null,null,null,0,111]
[11,2453,11,2473,11,2496,null,null,null,null,0,111]
[11,2705,11,2732,11,2757,null,null,null,null,0,111,null,"Total Target Seq"]
[11,2987,11,3012,11,3041,null,null,null,null,0,111,null,{"$f":"COUNTIF(L7:L49,G3)","v":40},null,7,7,8,7,7,7]
[11,3408,11,3412,11,3431,null,null,null,null,0,111,null,null,null,"% of reinforcement given in 6 equal intervals based on number of trials "]
[11,3542,11,3560,11,3578,null,null,null,null,0,111,null,null,null,"%_1","%_2","%_3","%_4","%_5","%_6"]
[11,3680,11,3695,11,3711,null,null,null,null,0,111,null,null,"target sequence",{"$f":"$G$3","v":111},{"$f":"$G$3","v":111},{"$f":"$G$3","v":111},{"$f":"$G$3","v":111},{"$f":"$G$3","v":111},{"$f":"$G$3","v":111}]
[11,3800,11,3820,11,3836,null,null,null,null,0,111,null,null,"total reinforcement",{"$f":"U7","v":7},{"$f":"Z7","v":7},{"$f":"AE7","v":6},{"$f":"AJ7","v":6},{"$f":"AO7","v":7},{"$f":"AT7","v":7}]
[22,3934,13,3937,13,3989,null,null,null,null,0,211,null,null,"% target"]
[22,4139,13,4151,13,4157,null,null,null,null,0,211,null,null,"CCRF"]
[11,4277,11,4291,11,4305,null,null,null,null,0,111,null,null,"% CCRf"]
[11,4430,11,4447,11,4466,null,null,null,null,0,111,null,null,"average response rate",{"$f":"F13/P20","v":199.57142857142858},{"$f":"(F20-F13)/Q20","v":234.85714285714286},{"$f":"(F28-F20)/R20","v":178.125},{"$f":"(F35-F28)/S20","v":177.42857142857142},{"$f":"(F42-F35)/T20","v":229.71428571428572},{"$f":"(F49-F42)/U20","v":188}]
[11,4638,11,4651,11,4667,null,null,null,null,0,111]
[11,4768,11,4783,11,4800,null,null,null,null,0,111]
[11,5035,11,5057,11,5073,null,null,null,null,0,111]
[11,5279,11,5294,11,5309,null,null,null,null,0,111]
[22,5406,13,5409,24,5411,null,null,null,null,0,212]
[11,5508,11,5522,11,5539,null,null,null,null,0,111]
[11,5685,11,5688,11,5708,null,null,null,null,0,111]
[11,5881,11,5900,11,5917,null,null,null,null,0,111]
[11,6134,11,6155,11,6177,null,null,null,null,0,111]
[11,6343,11,6361,11,6378,null,null,null,null,0,111]
[11,6647,11,6662,11,6677,null,null,null,null,0,111]
[11,6918,11,6921,11,6943,null,null,null,null,0,111]
[11,7137,11,7152,11,7166,null,null,null,null,0,111]
[11,7287,11,7301,11,7316,null,null,null,null,0,111]
[11,7489,11,7501,11,7515,null,null,null,null,0,111]
[11,7611,11,7629,11,7671,null,null,null,null,0,111]
[11,7845,11,7861,11,7879,null,null,null,null,0,111]
[11,7990,11,8005,11,8028,null,null,null,null,0,111]
[11,8151,11,8165,11,8181,null,null,null,null,0,111]
[11,8455,11,8474,11,8487,null,null,null,null,0,111]
[11,8600,11,8617,11,8632,null,null,null,null,1,111]

{"sheet":"!N20994B.AXT","index":20,"n_rows":47,"n_cols":48,"rows_kept":47,"cut":false,"hidden":false,"merged":[[4,39,4,42],[5,39,5,40],[4,44,4,47],[5,44,5,45],[4,24,4,27],[5,24,5,25],[4,29,4,32],[5,29,5,30],[4,34,4,37],[5,34,5,35],[1,1,1,2],[5,13,5,14],[18,13,18,14],[19,13,19,14],[4,19,4,22],[5,19,5,20]]}
["Report for:!N20994B.AXT"]
["Date:","<date>"]
["Hen:","<hen>",null,null,null,"Correct Sequence",{"$f":"Start!J2","v":111},null,null,null,null,null,null,null,null,"Total Sequences in Data",{"$f":"4994-COUNTBLANK(L7:L5000)","v":41},null,null,null,null,"Total Sequences in Block Data",{"$f":"COUNTA(L7:L13)","v":7},null,null,null,"Total Sequences in Block Data",{"$f":"COUNTA(L14:L20)","v":7},null,null,null,"Total Sequences in Block Data",{"$f":"COUNTA(L21:L26)","v":6},null,null,null,"Total Sequences in Block Data",{"$f":"COUNTA(L27:L33)","v":7},null,null,null,"Total Sequences in Block Data",{"$f":"COUNTA(L34:L40)","v":7},null,null,null,"Total Sequences in Block Data",{"$f":"COUNTA(L41:L47)","v":7}]
[null,null,null,null,null,null,null,null,null,null,null,null,null,null,null,"Total Sequences in Summary",{"$f":"SUM(O7:O14)","v":41},null,null,null,null,"Total Sequences in Block Summary",{"$f":"SUM(U7:U14)","v":7},null,null,null,"Total Sequences in Block Summary",{"$f":"SUM(Z7:Z14)","v":7},null,null,null,"Total Sequences in Block Summary",{"$f":"SUM(AE7:AE14)","v":6},null,null,null,"Total Sequences in Block Summary",{"$f":"SUM(AJ7:AJ14)","v":7},null,null,null,"Total Sequences in Block Summary",{"$f":"SUM(AO7:AO14)","v":7},null,null,null,"Total Sequences in Block Summary",{"$f":"SUM(AT7:AT14)","v":7}]
[null,null,null,null,null,null,null,null,null,null,null,null,null,null,null,null,null,null,null,"Block 1",null,null,null,null,"Block 2",null,null,null,null,"Block 3",null,null,null,null,"Block 4",null,null,null,null,"Block 5",null,null,null,null,"Block 6"]
["Sequence\nComponent\n1","Time\n1","Sequence\nComponent\n2","Time\n2","Sequence\nComponent\n3","Time\n3","Sequence\nComponent\n4","Time\n4","Sequence\nComponent\n5","Time\n5","Correct?\n0=No 1=Yes","Sequence",null,"Frequency",null,"Relative Frequency","Variability",null,null,"Frequency",null,"Relative Frequency","Variability",null,"Frequency",null,"Relative Frequency","Variability",null,"Frequency",null,"Relative Frequency","Variability",null,"Frequency",null,"Relative Frequency","Variability",null,"Frequency",null,"Relative Frequency","Variability",null,"Frequency",null,"Relative Frequency","Variability"]
[11,13042,22,13060,13,13064,null,null,null,null,0,121,null,111,{"$f":"COUNTIF($L$7:$L$500,N7)","v":39},{"$f":"O7/$Q$4","v":0.95121951219512191},{"$f":"IF(P7=0,0,(P7*((LOG(P7))/LOG(2))))","v":-6.8630284011648321E-2},null,null,{"$f":"N7","v":111},{"$f":"COUNTIF(L7:L13,T7)","v":6},null,null,null,{"$f":"N7","v":111},{"$f":"COUNTIF(L14:L20,Y7)","v":7},null,null,null,{"$f":"N7","v":111},{"$f":"COUNTIF(L21:L26,AD7)","v":5},null,null,null,{"$f":"N7","v":111},{"$f":"COUNTIF(L27:L33,AI7)","v":7},null,null,null,{"$f":"N7","v":111},{"$f":"COUNTIF(L34:L40,AN7)","v":7},null,null,null,{"$f":"N7","v":111},{"$f":"COUNTIF(L41:L47,AS7)","v":7}]
[11,13153,11,13156,11,13160,null,null,null,null,0,111,null,112,{"$f":"COUNTIF($L$7:$L$500,N8)","v":0},{"$f":"O8/$Q$4","v":0},{"$f":"IF(P8=0,0,(P8*((LOG(P8))/LOG(2))))","v":0},null,null,{"$f":"N8","v":112},{"$f":"COUNTIF(L7:L13,T8)","v":0},{"$f":"U8/(W4-U7)","v":0},{"$f":"IF(V8=0,0,(V8*((LOG(V8))/LOG(2))))","v":0},null,{"$f":"N8","v":112},{"$f":"COUNTIF(L14:L20,Y8)","v":0},{"$f":"Z8/(AB4-Z7)","v":{"$error":"#DIV/0!"}},{"$f":"IF(AA8=0,0,(AA8*((LOG(AA8))/LOG(2))))","v":{"$error":"#DIV/0!"}},null,{"$f":"N8","v":112},{"$f":"COUNTIF(L21:L26,AD8)","v":0},{"$f":"AE8/(AG4-AE7)","v":0},{"$f":"IF(AF8=0,0,(AF8*((LOG(AF8))/LOG(2))))","v":0},null,{"$f":"N8","v":112},{"$f":"COUNTIF(L27:L33,AI8)","v":0},{"$f":"AJ8/(AL4-AJ7)","v":{"$error":"#DIV/0!"}},{"$f":"IF(AK8=0,0,(AK8*((LOG(AK8))/LOG(2))))","v":{"$error":"#DIV/0!"}},null,{"$f":"N8","v":112},{"$f":"COUNTIF(L34:L40,AN8)","v":0},{"$f":"AO8/(AQ4-AO7)","v":{"$error":"#DIV/0!"}},{"$f":"IF(AP8=0,0,(AP8*((LOG(AP8))/LOG(2))))","v":{"$error":"#DIV/0!"}},null,{"$f":"N8","v":112},{"$f":"COUNTIF(L41:L47,AS8)","v":0},{"$f":"AT8/(AV4-AT7)","v":{"$error":"#DIV/0!"}},{"$f":"IF(AU8=0,0,(AU8*((LOG(AU8))/LOG(2))))","v":{"$error":"#DIV/0!"}}]
[11,13269,11,13319,11,13337,null,null,null,null,0,111,null,121,{"$f":"COUNTIF($L$7:$L$500,N9)","v":1},{"$f":"O9/$Q$4","v":2.4390243902439025E-2},{"$f":"IF(P9=0,0,(P9*((LOG(P9))/LOG(2))))","v":-0.13067200011263619},null,null,{"$f":"N9","v":121},{"$f":"COUNTIF(L7:L13,T9)","v":1},{"$f":"U9/(W4-U7)","v":1},{"$f":"IF(V9=0,0,(V9*((LOG(V9))/LOG(2))))","v":0},null,{"$f":"N9","v":121},{"$f":"COUNTIF(L14:L20,Y9)","v":0},{"$f":"Z9/(AB4-Z7)","v":{"$error":"#DIV/0!"}},{"$f":"IF(AA9=0,0,(AA9*((LOG(AA9))/LOG(2))))","v":{"$error":"#DIV/0!"}},null,{"$f":"N9","v":121},{"$f":"COUNTIF(L21:L26,AD9)","v":0},{"$f":"AE9/(AG4-AE7)","v":0},{"$f":"IF(AF9=0,0,(AF9*((LOG(AF9))/LOG(2))))","v":0},null,{"$f":"N9","v":121},{"$f":"COUNTIF(L27:L33,AI9)","v":0},{"$f":"AJ9/(AL4-AJ7)","v":{"$error":"#DIV/0!"}},{"$f":"IF(AK9=0,0,(AK9*((LOG(AK9))/LOG(2))))","v":{"$error":"#DIV/0!"}},null,{"$f":"N9","v":121},{"$f":"COUNTIF(L34:L40,AN9)","v":0},{"$f":"AO9/(AQ4-AO7)","v":{"$error":"#DIV/0!"}},{"$f":"IF(AP9=0,0,(AP9*((LOG(AP9))/LOG(2))))","v":{"$error":"#DIV/0!"}},null,{"$f":"N9","v":121},{"$f":"COUNTIF(L41:L47,AS9)","v":0},{"$f":"AT9/(AV4-AT7)","v":{"$error":"#DIV/0!"}},{"$f":"IF(AU9=0,0,(AU9*((LOG(AU9))/LOG(2))))","v":{"$error":"#DIV/0!"}}]
[11,13448,11,13464,11,13483,null,null,null,null,0,111,null,122,{"$f":"COUNTIF($L$7:$L$500,N10)","v":0},{"$f":"O10/$Q$4","v":0},{"$f":"IF(P10=0,0,(P10*((LOG(P10))/LOG(2))))","v":0},null,null,{"$f":"N10","v":122},{"$f":"COUNTIF(L7:L13,T10)","v":0},{"$f":"U10/(W4-U7)","v":0},{"$f":"IF(V10=0,0,(V10*((LOG(V10))/LOG(2))))","v":0},null,{"$f":"N10","v":122},{"$f":"COUNTIF(L14:L20,Y10)","v":0},{"$f":"Z10/(AB4-Z7)","v":{"$error":"#DIV/0!"}},{"$f":"IF(AA10=0,0,(AA10*((LOG(AA10))/LOG(2))))","v":{"$error":"#DIV/0!"}},null,{"$f":"N10","v":122},{"$f":"COUNTIF(L21:L26,AD10)","v":0},{"$f":"AE10/(AG4-AE7)","v":0},{"$f":"IF(AF10=0,0,(AF10*((LOG(AF10))/LOG(2))))","v":0},null,{"$f":"N10","v":122},{"$f":"COUNTIF(L27:L33,AI10)","v":0},{"$f":"AJ10/(AL4-AJ7)","v":{"$error":"#DIV/0!"}},{"$f":"IF(AK10=0,0,(AK10*((LOG(AK10))/LOG(2))))","v":{"$error":"#DIV/0!"}},null,{"$f":"N10","v":122},{"$f":"COUNTIF(L34:L40,AN10)","v":0},{"$f":"AO10/(AQ4-AO7)","v":{"$error":"#DIV/0!"}},{"$f":"IF(AP10=0,0,(AP10*((LOG(AP10))/LOG(2))))","v":{"$error":"#DIV/0!"}},null,{"$f":"N10","v":122},{"$f":"COUNTIF(L41:L47,AS10)","v":0},{"$f":"AT10/(AV4-AT7)","v":{"$error":"#DIV/0!"}},{"$f":"IF(AU10=0,0,(AU10*((LOG(AU10))/LOG(2))))","v":{"$error":"#DIV/0!"}}]
[11,13584,11,13590,11,13602,null,null,null,null,0,111,null,211,{"$f":"COUNTIF($L$7:$L$500,N11)","v":0},{"$f":"O11/$Q$4","v":0},{"$f":"IF(P11=0,0,(P11*((LOG(P11))/LOG(2))))","v":0},null,null,{"$f":"N11","v":211},{"$f":"COUNTIF(L7:L13,T11)","v":0},{"$f":"U11/(W4-U7)","v":0},{"$f":"IF(V11=0,0,(V11*((LOG(V11))/LOG(2))))","v":0},null,{"$f":"N11","v":211},{"$f":"COUNTIF(L14:L20,Y11)","v":0},{"$f":"Z11/(AB4-Z7)","v":{"$error":"#DIV/0!"}},{"$f":"IF(AA11=0,0,(AA11*((LOG(AA11))/LOG(2))))","v":{"$error":"#DIV/0!"}},null,{"$f":"N11","v":211},{"$f":"COUNTIF(L21:L26,AD11)","v":0},{"$f":"AE11/(AG4-AE7)","v":0},{"$f":"IF(AF11=0,0,(AF11*((LOG(AF11))/LOG(2))))","v":0},null,{"$f":"N11","v":211},{"$f":"COUNTIF(L27:L33,AI11)","v":0},{"$f":"AJ11/(AL4-AJ7)","v":{"$error":"#DIV/0!"}},{"$f":"IF(AK11=0,0,(AK11*((LOG(AK11))/LOG(2))))","v":{"$error":"#DIV/0!"}},null,{"$f":"N11","v":211},{"$f":"COUNTIF(L34:L40,AN11)","v":0},{"$f":"AO11/(AQ4-AO7)","v":{"$error":"#DIV/0!"}},{"$f":"IF(AP11=0,0,(AP11*((LOG(AP11))/LOG(2))))","v":{"$error":"#DIV/0!"}},null,{"$f":"N11","v":211},{"$f":"COUNTIF(L41:L47,AS11)","v":0},{"$f":"AT11/(AV4-AT7)","v":{"$error":"#DIV/0!"}},{"$f":"IF(AU11=0,0,(AU11*((LOG(AU11))/LOG(2))))","v":{"$error":"#DIV/0!"}}]
[11,13751,11,13771,11,13801,null,null,null,null,0,111,null,212,{"$f":"COUNTIF($L$7:$L$500,N12)","v":0},{"$f":"O12/$Q$4","v":0},{"$f":"IF(P12=0,0,(P12*((LOG(P12))/LOG(2))))","v":0},null,null,{"$f":"N12","v":212},{"$f":"COUNTIF(L7:L13,T12)","v":0},{"$f":"U12/(W4-U7)","v":0},{"$f":"IF(V12=0,0,(V12*((LOG(V12))/LOG(2))))","v":0},null,{"$f":"N12","v":212},{"$f":"COUNTIF(L14:L20,Y12)","v":0},{"$f":"Z12/(AB4-Z7)","v":{"$error":"#DIV/0!"}},{"$f":"IF(AA12=0,0,(AA12*((LOG(AA12))/LOG(2))))","v":{"$error":"#DIV/0!"}},null,{"$f":"N12","v":212},{"$f":"COUNTIF(L21:L26,AD12)","v":0},{"$f":"AE12/(AG4-AE7)","v":0},{"$f":"IF(AF12=0,0,(AF12*((LOG(AF12))/LOG(2))))","v":0},null,{"$f":"N12","v":212},{"$f":"COUNTIF(L27:L33,AI12)","v":0},{"$f":"AJ12/(AL4-AJ7)","v":{"$error":"#DIV/0!"}},{"$f":"IF(AK12=0,0,(AK12*((LOG(AK12))/LOG(2))))","v":{"$error":"#DIV/0!"}},null,{"$f":"N12","v":212},{"$f":"COUNTIF(L34:L40,AN12)","v":0},{"$f":"AO12/(AQ4-AO7)","v":{"$error":"#DIV/0!"}},{"$f":"IF(AP12=0,0,(AP12*((LOG(AP12))/LOG(2))))","v":{"$error":"#DIV/0!"}},null,{"$f":"N12","v":212},{"$f":"COUNTIF(L41:L47,AS12)","v":0},{"$f":"AT12/(AV4-AT7)","v":{"$error":"#DIV/0!"}},{"$f":"IF(AU12=0,0,(AU12*((LOG(AU12))/LOG(2))))","v":{"$error":"#DIV/0!"}}]
[11,13967,11,13993,11,14011,null,null,null,null,0,111,null,221,{"$f":"COUNTIF($L$7:$L$500,N13)","v":1},{"$f":"O13/$Q$4","v":2.4390243902439025E-2},{"$f":"IF(P13=0,0,(P13*((LOG(P13))/LOG(2))))","v":-0.13067200011263619},null,null,{"$f":"N13","v":221},{"$f":"COUNTIF(L7:L13,T13)","v":0},{"$f":"U13/(W4-U7)","v":0},{"$f":"IF(V13=0,0,(V13*((LOG(V13))/LOG(2))))","v":0},null,{"$f":"N13","v":221},{"$f":"COUNTIF(L14:L20,Y13)","v":0},{"$f":"Z13/(AB4-Z7)","v":{"$error":"#DIV/0!"}},{"$f":"IF(AA13=0,0,(AA13*((LOG(AA13))/LOG(2))))","v":{"$error":"#DIV/0!"}},null,{"$f":"N13","v":221},{"$f":"COUNTIF(L21:L26,AD13)","v":1},{"$f":"AE13/(AG4-AE7)","v":1},{"$f":"IF(AF13=0,0,(AF13*((LOG(AF13))/LOG(2))))","v":0},null,{"$f":"N13","v":221},{"$f":"COUNTIF(L27:L33,AI13)","v":0},{"$f":"AJ13/(AL4-AJ7)","v":{"$error":"#DIV/0!"}},{"$f":"IF(AK13=0,0,(AK13*((LOG(AK13))/LOG(2))))","v":{"$error":"#DIV/0!"}},null,{"$f":"N13","v":221},{"$f":"COUNTIF(L34:L40,AN13)","v":0},{"$f":"AO13/(AQ4-AO7)","v":{"$error":"#DIV/0!"}},{"$f":"IF(AP13=0,0,(AP13*((LOG(AP13))/LOG(2))))","v":{"$error":"#DIV/0!"}},null,{"$f":"N13","v":221},{"$f":"COUNTIF(L41:L47,AS13)","v":0},{"$f":"AT13/(AV4-AT7)","v":{"$error":"#DIV/0!"}},{"$f":"IF(AU13=0,0,(AU13*((LOG(AU13))/LOG(2))))","v":{"$error":"#DIV/0!"}}]
[11,14160,11,14173,11,14186,null,null,null,null,0,111,null,222,{"$f":"COUNTIF($L$7:$L$500,N14)","v":0},{"$f":"O14/$Q$4","v":0},{"$f":"IF(P14=0,0,(P14*((LOG(P14))/LOG(2))))","v":0},null,null,{"$f":"N14","v":222},{"$f":"COUNTIF(L7:L13,T14)","v":0},{"$f":"U14/(W4-U7)","v":0},{"$f":"IF(V14=0,0,(V14*((LOG(V14))/LOG(2))))","v":0},null,{"$f":"N14","v":222},{"$f":"COUNTIF(L14:L20,Y14)","v":0},{"$f":"Z14/(AB4-Z7)","v":{"$error":"#DIV/0!"}},{"$f":"IF(AA14=0,0,(AA14*((LOG(AA14))/LOG(2))))","v":{"$error":"#DIV/0!"}},null,{"$f":"N14","v":222},{"$f":"COUNTIF(L21:L26,AD14)","v":0},{"$f":"AE14/(AG4-AE7)","v":0},{"$f":"IF(AF14=0,0,(AF14*((LOG(AF14))/LOG(2))))","v":0},null,{"$f":"N14","v":222},{"$f":"COUNTIF(L27:L33,AI14)","v":0},{"$f":"AJ14/(AL4-AJ7)","v":{"$error":"#DIV/0!"}},{"$f":"IF(AK14=0,0,(AK14*((LOG(AK14))/LOG(2))))","v":{"$error":"#DIV/0!"}},null,{"$f":"N14","v":222},{"$f":"COUNTIF(L34:L40,AN14)","v":0},{"$f":"AO14/(AQ4-AO7)","v":{"$error":"#DIV/0!"}},{"$f":"IF(AP14=0,0,(AP14*((LOG(AP14))/LOG(2))))","v":{"$error":"#DIV/0!"}},null,{"$f":"N14","v":222},{"$f":"COUNTIF(L41:L47,AS14)","v":0},{"$f":"AT14/(AV4-AT7)","v":{"$error":"#DIV/0!"}},{"$f":"IF(AU14=0,0,(AU14*((LOG(AU14))/LOG(2))))","v":{"$error":"#DIV/0!"}}]
[11,14332,11,14349,11,14367,null,null,null,null,0,111,null,null,null,{"$f":"SUM(P7:P14)","v":1},{"$f":"-SUM(Q7:Q14)","v":0.32997428423692071},null,null,null,null,{"$f":"SUM(V7:V14)","v":1},{"$f":"-SUM(W7:W14)","v":0},null,null,null,{"$f":"SUM(AA7:AA14)","v":{"$error":"#DIV/0!"}},{"$f":"-SUM(AB7:AB14)","v":{"$error":"#DIV/0!"}},null,null,null,{"$f":"SUM(AF7:AF14)","v":1},{"$f":"-SUM(AG7:AG14)","v":0},null,null,null,{"$f":"SUM(AK7:AK14)","v":{"$error":"#DIV/0!"}},{"$f":"-SUM(AL7:AL14)","v":{"$error":"#DIV/0!"}},null,null,null,{"$f":"SUM(AP7:AP14)","v":{"$error":"#DIV/0!"}},{"$f":"-SUM(AQ7:AQ14)","v":{"$error":"#DIV/0!"}},null,null,null,{"$f":"SUM(AU7:AU14)","v":{"$error":"#DIV/0!"}},{"$f":"-SUM(AV7:AV14)","v":{"$error":"#DIV/0!"}}]
[11,14521,11,14537,11,14573,null,null,null,null,0,111,null,null,null,"U=",{"$f":"Q15/(LOG(Q4)/LOG(2))","v":6.1590495799665711E-2},null,null,null,null,"U1=",{"$f":"W15/(LOG(W4)/LOG(2))","v":0},null,null,null,"U2=",{"$f":"AB15/(LOG(AB4)/LOG(2))","v":{"$error":"#DIV/0!"}},null,null,null,"U3=",{"$f":"AG15/(LOG(AG4)/LOG(2))","v":0},null,null,null,"U4=",{"$f":"AL15/(LOG(AL4)/LOG(2))","v":{"$error":"#DIV/0!"}},null,null,null,"U5=",{"$f":"AQ15/(LOG(AQ4)/LOG(2))","v":{"$error":"#DIV/0!"}},null,null,null,"U6=",{"$f":"AV15/(LOG(AV4)/LOG(2))","v":{"$error":"#DIV/0!"}}]
[11,14803,11,14819,11,14853,null,null,null,null,0,111]
[11,14987,11,15007,11,15034,null,null,null,null,0,111]
[11,15183,11,15199,11,15214,null,null,null,null,0,111,null,"Total Target Seq"]
[11,15316,11,15334,11,15352,null,null,null,null,0,111,null,{"$f":"COUNTIF(L7:L47,G3)","v":39},null,7,7,6,7,7,7]
[11,15678,11,15689,11,15701,null,null,null,null,0,111,null,null,null,"% of reinforcement given in 6 equal intervals based on number of trials "]
[22,15794,24,15802,13,15856,null,null,null,null,0,221,null,null,null,"%_1","%_2","%_3","%_4","%_5","%_6"]
[11,15959,11,15975,11,15993,null,null,null,null,0,111,null,null,"target sequence",{"$f":"$G$3","v":111},{"$f":"$G$3","v":111},{"$f":"$G$3","v":111},{"$f":"$G$3","v":111},{"$f":"$G$3","v":111},{"$f":"$G$3","v":111}]
[11,16140,11,16154,11,16169,null,null,null,null,0,111,null,null,"total reinforcement",{"$f":"U7","v":6},{"$f":"Z7","v":7},{"$f":"AE7","v":5},{"$f":"AJ7","v":7},{"$f":"AO7","v":7},{"$f":"AT7","v":7}]
[11,16377,11,16393,11,16406,null,null,null,null,0,111,null,null,"% target"]
[11,16688,11,16704,11,16719,null,null,null,null,0,111,null,null,"CCRF"]
[11,16868,11,16883,11,16897,null,null,null,null,0,111,null,null,"% CCRf"]
[11,17135,11,17150,11,17164,null,null,null,null,0,111,null,null,"average response rate",{"$f":"F13/P20","v":2001.5714285714287},{"$f":"(F20-F13)/Q20","v":191.57142857142858},{"$f":"(F26-F20)/R20","v":227.83333333333334},{"$f":"(F33-F26)/S20","v":194},{"$f":"(F40-F33)/T20","v":239.42857142857142},{"$f":"(F47-F40)/U20","v":238.57142857142858}]
[11,17328,11,17341,11,17353,null,null,null,null,0,111]
[11,17505,11,17522,11,17537,null,null,null,null,0,111]
[11,17685,11,17703,11,17723,null,null,null,null,0,111]
[11,17913,11,17925,11,17940,null,null,null,null,0,111]
[11,18051,11,18063,11,18077,null,null,null,null,0,111]
[11,18181,11,18195,11,18198,null,null,null,null,0,111]
[11,18496,11,18508,11,18520,null,null,null,null,0,111]
[11,18752,11,18770,11,18788,null,null,null,null,0,111]
[11,19003,11,19023,11,19039,null,null,null,null,0,111]
[11,19241,11,19260,11,19275,null,null,null,null,0,111]
[11,19472,11,19489,11,19507,null,null,null,null,0,111]
[11,19722,11,19734,11,19753,null,null,null,null,0,111]
[11,19931,11,19946,11,19962,null,null,null,null,0,111]
[11,20406,11,20417,11,20432,null,null,null,null,0,111]
[11,20560,11,20577,11,20592,null,null,null,null,0,111]
[11,20819,11,20833,11,20856,null,null,null,null,0,111]
[11,21031,11,21046,11,21060,null,null,null,null,0,111]
[11,21184,11,21200,11,21222,null,null,null,null,0,111]
[11,21388,11,21406,11,21423,null,null,null,null,1,111]

{"sheet":"!N21094B.AXT","index":21,"n_rows":46,"n_cols":48,"rows_kept":46,"cut":false,"hidden":false,"merged":[[4,39,4,42],[5,39,5,40],[4,44,4,47],[5,44,5,45],[4,24,4,27],[5,24,5,25],[4,29,4,32],[5,29,5,30],[4,34,4,37],[5,34,5,35],[1,1,1,2],[5,13,5,14],[18,13,18,14],[19,13,19,14],[4,19,4,22],[5,19,5,20]]}
["Report for:!N21094B.AXT"]
["Date:","<date>"]
["Hen:","<hen>",null,null,null,"Correct Sequence",{"$f":"Start!J2","v":111},null,null,null,null,null,null,null,null,"Total Sequences in Data",{"$f":"4994-COUNTBLANK(L7:L5000)","v":40},null,null,null,null,"Total Sequences in Block Data",{"$f":"COUNTA(L7:L13)","v":7},null,null,null,"Total Sequences in Block Data",{"$f":"COUNTA(L14:L19)","v":6},null,null,null,"Total Sequences in Block Data",{"$f":"COUNTA(L20:L26)","v":7},null,null,null,"Total Sequences in Block Data",{"$f":"COUNTA(L27:L33)","v":7},null,null,null,"Total Sequences in Block Data",{"$f":"COUNTA(L34:L39)","v":6},null,null,null,"Total Sequences in Block Data",{"$f":"COUNTA(L40:L46)","v":7}]
[null,null,null,null,null,null,null,null,null,null,null,null,null,null,null,"Total Sequences in Summary",{"$f":"SUM(O7:O14)","v":40},null,null,null,null,"Total Sequences in Block Summary",{"$f":"SUM(U7:U14)","v":7},null,null,null,"Total Sequences in Block Summary",{"$f":"SUM(Z7:Z14)","v":6},null,null,null,"Total Sequences in Block Summary",{"$f":"SUM(AE7:AE14)","v":7},null,null,null,"Total Sequences in Block Summary",{"$f":"SUM(AJ7:AJ14)","v":7},null,null,null,"Total Sequences in Block Summary",{"$f":"SUM(AO7:AO14)","v":6},null,null,null,"Total Sequences in Block Summary",{"$f":"SUM(AT7:AT14)","v":7}]
[null,null,null,null,null,null,null,null,null,null,null,null,null,null,null,null,null,null,null,"Block 1",null,null,null,null,"Block 2",null,null,null,null,"Block 3",null,null,null,null,"Block 4",null,null,null,null,"Block 5",null,null,null,null,"Block 6"]
["Sequence\nComponent\n1","Time\n1","Sequence\nComponent\n2","Time\n2","Sequence\nComponent\n3","Time\n3","Sequence\nComponent\n4","Time\n4","Sequence\nComponent\n5","Time\n5","Correct?\n0=No 1=Yes","Sequence",null,"Frequency",null,"Relative Frequency","Variability",null,null,"Frequency",null,"Relative Frequency","Variability",null,"Frequency",null,"Relative Frequency","Variability",null,"Frequency",null,"Relative Frequency","Variability",null,"Frequency",null,"Relative Frequency","Variability",null,"Frequency",null,"Relative Frequency","Variability",null,"Frequency",null,"Relative Frequency","Variability"]
[11,48,11,53,11,56,null,null,null,null,0,111,null,111,{"$f":"COUNTIF($L$7:$L$500,N7)","v":40},{"$f":"O7/$Q$4","v":1},{"$f":"IF(P7=0,0,(P7*((LOG(P7))/LOG(2))))","v":0},null,null,{"$f":"N7","v":111},{"$f":"COUNTIF(L7:L13,T7)","v":7},null,null,null,{"$f":"N7","v":111},{"$f":"COUNTIF(L14:L19,Y7)","v":6},null,null,null,{"$f":"N7","v":111},{"$f":"COUNTIF(L20:L26,AD7)","v":7},null,null,null,{"$f":"N7","v":111},{"$f":"COUNTIF(L27:L33,AI7)","v":7},null,null,null,{"$f":"N7","v":111},{"$f":"COUNTIF(L34:L39,AN7)","v":6},null,null,null,{"$f":"N7","v":111},{"$f":"COUNTIF(L40:L46,AS7)","v":7}]
[11,163,11,193,11,211,null,null,null,null,0,111,null,112,{"$f":"COUNTIF($L$7:$L$500,N8)","v":0},{"$f":"O8/$Q$4","v":0},{"$f":"IF(P8=0,0,(P8*((LOG(P8))/LOG(2))))","v":0},null,null,{"$f":"N8","v":112},{"$f":"COUNTIF(L7:L13,T8)","v":0},{"$f":"U8/(W4-U7)","v":{"$error":"#DIV/0!"}},{"$f":"IF(V8=0,0,(V8*((LOG(V8))/LOG(2))))","v":{"$error":"#DIV/0!"}},null,{"$f":"N8","v":112},{"$f":"COUNTIF(L14:L19,Y8)","v":0},{"$f":"Z8/(AB4-Z7)","v":{"$error":"#DIV/0!"}},{"$f":"IF(AA8=0,0,(AA8*((LOG(AA8))/LOG(2))))","v":{"$error":"#DIV/0!"}},null,{"$f":"N8","v":112},{"$f":"COUNTIF(L20:L26,AD8)","v":0},{"$f":"AE8/(AG4-AE7)","v":{"$error":"#DIV/0!"}},{"$f":"IF(AF8=0,0,(AF8*((LOG(AF8))/LOG(2))))","v":{"$error":"#DIV/0!"}},null,{"$f":"N8","v":112},{"$f":"COUNTIF(L27:L33,AI8)","v":0},{"$f":"AJ8/(AL4-AJ7)","v":{"$error":"#DIV/0!"}},{"$f":"IF(AK8=0,0,(AK8*((LOG(AK8))/LOG(2))))","v":{"$error":"#DIV/0!"}},null,{"$f":"N8","v":112},{"$f":"COUNTIF(L34:L39,AN8)","v":0},{"$f":"AO8/(AQ4-AO7)","v":{"$error":"#DIV/0!"}},{"$f":"IF(AP8=0,0,(AP8*((LOG(AP8))/LOG(2))))","v":{"$error":"#DIV/0!"}},null,{"$f":"N8","v":112},{"$f":"COUNTIF(L40:L46,AS8)","v":0},{"$f":"AT8/(AV4-AT7)","v":{"$error":"#DIV/0!"}},{"$f":"IF(AU8=0,0,(AU8*((LOG(AU8))/LOG(2))))","v":{"$error":"#DIV/0!"}}]
[11,308,11,332,11,359,null,null,null,null,0,111,null,121,{"$f":"COUNTIF($L$7:$L$500,N9)","v":0},{"$f":"O9/$Q$4","v":0},{"$f":"IF(P9=0,0,(P9*((LOG(P9))/LOG(2))))","v":0},null,null,{"$f":"N9","v":121},{"$f":"COUNTIF(L7:L13,T9)","v":0},{"$f":"U9/(W4-U7)","v":{"$error":"#DIV/0!"}},{"$f":"IF(V9=0,0,(V9*((LOG(V9))/LOG(2))))","v":{"$error":"#DIV/0!"}},null,{"$f":"N9","v":121},{"$f":"COUNTIF(L14:L19,Y9)","v":0},{"$f":"Z9/(AB4-Z7)","v":{"$error":"#DIV/0!"}},{"$f":"IF(AA9=0,0,(AA9*((LOG(AA9))/LOG(2))))","v":{"$error":"#DIV/0!"}},null,{"$f":"N9","v":121},{"$f":"COUNTIF(L20:L26,AD9)","v":0},{"$f":"AE9/(AG4-AE7)","v":{"$error":"#DIV/0!"}},{"$f":"IF(AF9=0,0,(AF9*((LOG(AF9))/LOG(2))))","v":{"$error":"#DIV/0!"}},null,{"$f":"N9","v":121},{"$f":"COUNTIF(L27:L33,AI9)","v":0},{"$f":"AJ9/(AL4-AJ7)","v":{"$error":"#DIV/0!"}},{"$f":"IF(AK9=0,0,(AK9*((LOG(AK9))/LOG(2))))","v":{"$error":"#DIV/0!"}},null,{"$f":"N9","v":121},{"$f":"COUNTIF(L34:L39,AN9)","v":0},{"$f":"AO9/(AQ4-AO7)","v":{"$error":"#DIV/0!"}},{"$f":"IF(AP9=0,0,(AP9*((LOG(AP9))/LOG(2))))","v":{"$error":"#DIV/0!"}},null,{"$f":"N9","v":121},{"$f":"COUNTIF(L40:L46,AS9)","v":0},{"$f":"AT9/(AV4-AT7)","v":{"$error":"#DIV/0!"}},{"$f":"IF(AU9=0,0,(AU9*((LOG(AU9))/LOG(2))))","v":{"$error":"#DIV/0!"}}]
[11,465,11,482,11,499,null,null,null,null,0,111,null,122,{"$f":"COUNTIF($L$7:$L$500,N10)","v":0},{"$f":"O10/$Q$4","v":0},{"$f":"IF(P10=0,0,(P10*((LOG(P10))/LOG(2))))","v":0},null,null,{"$f":"N10","v":122},{"$f":"COUNTIF(L7:L13,T10)","v":0},{"$f":"U10/(W4-U7)","v":{"$error":"#DIV/0!"}},{"$f":"IF(V10=0,0,(V10*((LOG(V10))/LOG(2))))","v":{"$error":"#DIV/0!"}},null,{"$f":"N10","v":122},{"$f":"COUNTIF(L14:L19,Y10)","v":0},{"$f":"Z10/(AB4-Z7)","v":{"$error":"#DIV/0!"}},{"$f":"IF(AA10=0,0,(AA10*((LOG(AA10))/LOG(2))))","v":{"$error":"#DIV/0!"}},null,{"$f":"N10","v":122},{"$f":"COUNTIF(L20:L26,AD10)","v":0},{"$f":"AE10/(AG4-AE7)","v":{"$error":"#DIV/0!"}},{"$f":"IF(AF10=0,0,(AF10*((LOG(AF10))/LOG(2))))","v":{"$error":"#DIV/0!"}},null,{"$f":"N10","v":122},{"$f":"COUNTIF(L27:L33,AI10)","v":0},{"$f":"AJ10/(AL4-AJ7)","v":{"$error":"#DIV/0!"}},{"$f":"IF(AK10=0,0,(AK10*((LOG(AK10))/LOG(2))))","v":{"$error":"#DIV/0!"}},null,{"$f":"N10","v":122},{"$f":"COUNTIF(L34:L39,AN10)","v":0},{"$f":"AO10/(AQ4-AO7)","v":{"$error":"#DIV/0!"}},{"$f":"IF(AP10=0,0,(AP10*((LOG(AP10))/LOG(2))))","v":{"$error":"#DIV/0!"}},null,{"$f":"N10","v":122},{"$f":"COUNTIF(L40:L46,AS10)","v":0},{"$f":"AT10/(AV4-AT7)","v":{"$error":"#DIV/0!"}},{"$f":"IF(AU10=0,0,(AU10*((LOG(AU10))/LOG(2))))","v":{"$error":"#DIV/0!"}}]
[11,598,11,652,11,676,null,null,null,null,0,111,null,211,{"$f":"COUNTIF($L$7:$L$500,N11)","v":0},{"$f":"O11/$Q$4","v":0},{"$f":"IF(P11=0,0,(P11*((LOG(P11))/LOG(2))))","v":0},null,null,{"$f":"N11","v":211},{"$f":"COUNTIF(L7:L13,T11)","v":0},{"$f":"U11/(W4-U7)","v":{"$error":"#DIV/0!"}},{"$f":"IF(V11=0,0,(V11*((LOG(V11))/LOG(2))))","v":{"$error":"#DIV/0!"}},null,{"$f":"N11","v":211},{"$f":"COUNTIF(L14:L19,Y11)","v":0},{"$f":"Z11/(AB4-Z7)","v":{"$error":"#DIV/0!"}},{"$f":"IF(AA11=0,0,(AA11*((LOG(AA11))/LOG(2))))","v":{"$error":"#DIV/0!"}},null,{"$f":"N11","v":211},{"$f":"COUNTIF(L20:L26,AD11)","v":0},{"$f":"AE11/(AG4-AE7)","v":{"$error":"#DIV/0!"}},{"$f":"IF(AF11=0,0,(AF11*((LOG(AF11))/LOG(2))))","v":{"$error":"#DIV/0!"}},null,{"$f":"N11","v":211},{"$f":"COUNTIF(L27:L33,AI11)","v":0},{"$f":"AJ11/(AL4-AJ7)","v":{"$error":"#DIV/0!"}},{"$f":"IF(AK11=0,0,(AK11*((LOG(AK11))/LOG(2))))","v":{"$error":"#DIV/0!"}},null,{"$f":"N11","v":211},{"$f":"COUNTIF(L34:L39,AN11)","v":0},{"$f":"AO11/(AQ4-AO7)","v":{"$error":"#DIV/0!"}},{"$f":"IF(AP11=0,0,(AP11*((LOG(AP11))/LOG(2))))","v":{"$error":"#DIV/0!"}},null,{"$f":"N11","v":211},{"$f":"COUNTIF(L40:L46,AS11)","v":0},{"$f":"AT11/(AV4-AT7)","v":{"$error":"#DIV/0!"}},{"$f":"IF(AU11=0,0,(AU11*((LOG(AU11))/LOG(2))))","v":{"$error":"#DIV/0!"}}]
[11,777,11,795,11,813,null,null,null,null,0,111,null,212,{"$f":"COUNTIF($L$7:$L$500,N12)","v":0},{"$f":"O12/$Q$4","v":0},{"$f":"IF(P12=0,0,(P12*((LOG(P12))/LOG(2))))","v":0},null,null,{"$f":"N12","v":212},{"$f":"COUNTIF(L7:L13,T12)","v":0},{"$f":"U12/(W4-U7)","v":{"$error":"#DIV/0!"}},{"$f":"IF(V12=0,0,(V12*((LOG(V12))/LOG(2))))","v":{"$error":"#DIV/0!"}},null,{"$f":"N12","v":212},{"$f":"COUNTIF(L14:L19,Y12)","v":0},{"$f":"Z12/(AB4-Z7)","v":{"$error":"#DIV/0!"}},{"$f":"IF(AA12=0,0,(AA12*((LOG(AA12))/LOG(2))))","v":{"$error":"#DIV/0!"}},null,{"$f":"N12","v":212},{"$f":"COUNTIF(L20:L26,AD12)","v":0},{"$f":"AE12/(AG4-AE7)","v":{"$error":"#DIV/0!"}},{"$f":"IF(AF12=0,0,(AF12*((LOG(AF12))/LOG(2))))","v":{"$error":"#DIV/0!"}},null,{"$f":"N12","v":212},{"$f":"COUNTIF(L27:L33,AI12)","v":0},{"$f":"AJ12/(AL4-AJ7)","v":{"$error":"#DIV/0!"}},{"$f":"IF(AK12=0,0,(AK12*((LOG(AK12))/LOG(2))))","v":{"$error":"#DIV/0!"}},null,{"$f":"N12","v":212},{"$f":"COUNTIF(L34:L39,AN12)","v":0},{"$f":"AO12/(AQ4-AO7)","v":{"$error":"#DIV/0!"}},{"$f":"IF(AP12=0,0,(AP12*((LOG(AP12))/LOG(2))))","v":{"$error":"#DIV/0!"}},null,{"$f":"N12","v":212},{"$f":"COUNTIF(L40:L46,AS12)","v":0},{"$f":"AT12/(AV4-AT7)","v":{"$error":"#DIV/0!"}},{"$f":"IF(AU12=0,0,(AU12*((LOG(AU12))/LOG(2))))","v":{"$error":"#DIV/0!"}}]
[11,1025,11,1043,11,1058,null,null,null,null,0,111,null,221,{"$f":"COUNTIF($L$7:$L$500,N13)","v":0},{"$f":"O13/$Q$4","v":0},{"$f":"IF(P13=0,0,(P13*((LOG(P13))/LOG(2))))","v":0},null,null,{"$f":"N13","v":221},{"$f":"COUNTIF(L7:L13,T13)","v":0},{"$f":"U13/(W4-U7)","v":{"$error":"#DIV/0!"}},{"$f":"IF(V13=0,0,(V13*((LOG(V13))/LOG(2))))","v":{"$error":"#DIV/0!"}},null,{"$f":"N13","v":221},{"$f":"COUNTIF(L14:L19,Y13)","v":0},{"$f":"Z13/(AB4-Z7)","v":{"$error":"#DIV/0!"}},{"$f":"IF(AA13=0,0,(AA13*((LOG(AA13))/LOG(2))))","v":{"$error":"#DIV/0!"}},null,{"$f":"N13","v":221},{"$f":"COUNTIF(L20:L26,AD13)","v":0},{"$f":"AE13/(AG4-AE7)","v":{"$error":"#DIV/0!"}},{"$f":"IF(AF13=0,0,(AF13*((LOG(AF13))/LOG(2))))","v":{"$error":"#DIV/0!"}},null,{"$f":"N13","v":221},{"$f":"COUNTIF(L27:L33,AI13)","v":0},{"$f":"AJ13/(AL4-AJ7)","v":{"$error":"#DIV/0!"}},{"$f":"IF(AK13=0,0,(AK13*((LOG(AK13))/LOG(2))))","v":{"$error":"#DIV/0!"}},null,{"$f":"N13","v":221},{"$f":"COUNTIF(L34:L39,AN13)","v":0},{"$f":"AO13/(AQ4-AO7)","v":{"$error":"#DIV/0!"}},{"$f":"IF(AP13=0,0,(AP13*((LOG(AP13))/LOG(2))))","v":{"$error":"#DIV/0!"}},null,{"$f":"N13","v":221},{"$f":"COUNTIF(L40:L46,AS13)","v":0},{"$f":"AT13/(AV4-AT7)","v":{"$error":"#DIV/0!"}},{"$f":"IF(AU13=0,0,(AU13*((LOG(AU13))/LOG(2))))","v":{"$error":"#DIV/0!"}}]
[11,1193,11,1222,11,1267,null,null,null,null,0,111,null,222,{"$f":"COUNTIF($L$7:$L$500,N14)","v":0},{"$f":"O14/$Q$4","v":0},{"$f":"IF(P14=0,0,(P14*((LOG(P14))/LOG(2))))","v":0},null,null,{"$f":"N14","v":222},{"$f":"COUNTIF(L7:L13,T14)","v":0},{"$f":"U14/(W4-U7)","v":{"$error":"#DIV/0!"}},{"$f":"IF(V14=0,0,(V14*((LOG(V14))/LOG(2))))","v":{"$error":"#DIV/0!"}},null,{"$f":"N14","v":222},{"$f":"COUNTIF(L14:L19,Y14)","v":0},{"$f":"Z14/(AB4-Z7)","v":{"$error":"#DIV/0!"}},{"$f":"IF(AA14=0,0,(AA14*((LOG(AA14))/LOG(2))))","v":{"$error":"#DIV/0!"}},null,{"$f":"N14","v":222},{"$f":"COUNTIF(L20:L26,AD14)","v":0},{"$f":"AE14/(AG4-AE7)","v":{"$error":"#DIV/0!"}},{"$f":"IF(AF14=0,0,(AF14*((LOG(AF14))/LOG(2))))","v":{"$error":"#DIV/0!"}},null,{"$f":"N14","v":222},{"$f":"COUNTIF(L27:L33,AI14)","v":0},{"$f":"AJ14/(AL4-AJ7)","v":{"$error":"#DIV/0!"}},{"$f":"IF(AK14=0,0,(AK14*((LOG(AK14))/LOG(2))))","v":{"$error":"#DIV/0!"}},null,{"$f":"N14","v":222},{"$f":"COUNTIF(L34:L39,AN14)","v":0},{"$f":"AO14/(AQ4-AO7)","v":{"$error":"#DIV/0!"}},{"$f":"IF(AP14=0,0,(AP14*((LOG(AP14))/LOG(2))))","v":{"$error":"#DIV/0!"}},null,{"$f":"N14","v":222},{"$f":"COUNTIF(L40:L46,AS14)","v":0},{"$f":"AT14/(AV4-AT7)","v":{"$error":"#DIV/0!"}},{"$f":"IF(AU14=0,0,(AU14*((LOG(AU14))/LOG(2))))","v":{"$error":"#DIV/0!"}}]
[11,1367,11,1386,11,1403,null,null,null,null,0,111,null,null,null,{"$f":"SUM(P7:P14)","v":1},{"$f":"-SUM(Q7:Q14)","v":0},null,null,null,null,{"$f":"SUM(V7:V14)","v":{"$error":"#DIV/0!"}},{"$f":"-SUM(W7:W14)","v":{"$error":"#DIV/0!"}},null,null,null,{"$f":"SUM(AA7:AA14)","v":{"$error":"#DIV/0!"}},{"$f":"-SUM(AB7:AB14)","v":{"$error":"#DIV/0!"}},null,null,null,{"$f":"SUM(AF7:AF14)","v":{"$error":"#DIV/0!"}},{"$f":"-SUM(AG7:AG14)","v":{"$error":"#DIV/0!"}},null,null,null,{"$f":"SUM(AK7:AK14)","v":{"$error":"#DIV/0!"}},{"$f":"-SUM(AL7:AL14)","v":{"$error":"#DIV/0!"}},null,null,null,{"$f":"SUM(AP7:AP14)","v":{"$error":"#DIV/0!"}},{"$f":"-SUM(AQ7:AQ14)","v":{"$error":"#DIV/0!"}},null,null,null,{"$f":"SUM(AU7:AU14)","v":{"$error":"#DIV/0!"}},{"$f":"-SUM(AV7:AV14)","v":{"$error":"#DIV/0!"}}]
[11,1503,11,1524,11,1547,null,null,null,null,0,111,null,null,null,"U=",{"$f":"Q15/(LOG(Q4)/LOG(2))","v":0},null,null,null,null,"U1=",{"$f":"W15/(LOG(W4)/LOG(2))","v":{"$error":"#DIV/0!"}},null,null,null,"U2=",{"$f":"AB15/(LOG(AB4)/LOG(2))","v":{"$error":"#DIV/0!"}},null,null,null,"U3=",{"$f":"AG15/(LOG(AG4)/LOG(2))","v":{"$error":"#DIV/0!"}},null,null,null,"U4=",{"$f":"AL15/(LOG(AL4)/LOG(2))","v":{"$error":"#DIV/0!"}},null,null,null,"U5=",{"$f":"AQ15/(LOG(AQ4)/LOG(2))","v":{"$error":"#DIV/0!"}},null,null,null,"U6=",{"$f":"AV15/(LOG(AV4)/LOG(2))","v":{"$error":"#DIV/0!"}}]
[11,1637,11,1658,11,1676,null,null,null,null,0,111]
[11,1862,11,1879,11,1895,null,null,null,null,0,111]
[11,2033,11,2048,11,2063,null,null,null,null,0,111,null,"Total Target Seq"]
[11,2166,11,2184,11,2222,null,null,null,null,0,111,null,{"$f":"COUNTIF(L7:L46,G3)","v":40},null,7,6,7,7,6,7]
[11,2381,11,2414,11,2439,null,null,null,null,0,111,null,null,null,"% of reinforcement given in 6 equal intervals based on number of trials "]
[11,2565,11,2637,11,2666,null,null,null,null,0,111,null,null,null,"%_1","%_2","%_3","%_4","%_5","%_6"]
[11,2855,11,2875,11,2900,null,null,null,null,0,111,null,null,"target sequence",{"$f":"$G$3","v":111},{"$f":"$G$3","v":111},{"$f":"$G$3","v":111},{"$f":"$G$3","v":111},{"$f":"$G$3","v":111},{"$f":"$G$3","v":111}]
[11,3125,11,3139,11,3156,null,null,null,null,0,111,null,null,"total reinforcement",{"$f":"U7","v":7},{"$f":"Z7","v":6},{"$f":"AE7","v":7},{"$f":"AJ7","v":7},{"$f":"AO7","v":6},{"$f":"AT7","v":7}]
[11,3272,11,3293,11,3309,null,null,null,null,0,111,null,null,"% target"]
[11,3432,11,3454,11,3469,null,null,null,null,0,111,null,null,"CCRF"]
[11,3644,11,3665,11,3683,null,null,null,null,0,111,null,null,"% CCRf"]
[11,3810,11,3839,11,3854,null,null,null,null,0,111,null,null,"average response rate",{"$f":"F13/P20","v":151.14285714285714},{"$f":"(F19-F13)/Q20","v":167.5},{"$f":"(F26-F19)/R20","v":200.85714285714286},{"$f":"(F33-F26)/S20","v":186.42857142857142},{"$f":"(F39-F33)/T20","v":261.33333333333331},{"$f":"(F46-F39)/U20","v":196.71428571428572}]
[11,3984,11,4010,11,4030,null,null,null,null,0,111]
[11,4123,11,4154,11,4170,null,null,null,null,0,111]
[11,4294,11,4322,11,4340,null,null,null,null,0,111]
[11,4508,11,4529,11,4552,null,null,null,null,0,111]
[11,4746,11,4759,11,4774,null,null,null,null,0,111]
[11,4867,11,4882,11,4949,null,null,null,null,0,111]
[11,5168,11,5184,11,5202,null,null,null,null,0,111]
[11,5417,11,5433,11,5448,null,null,null,null,0,111]
[11,5765,11,5778,11,5795,null,null,null,null,0,111]
[11,6135,11,6146,11,6159,null,null,null,null,0,111]
[11,6308,11,6322,11,6342,null,null,null,null,0,111]
[11,6483,11,6499,11,6515,null,null,null,null,0,111]
[11,6659,11,6675,11,6693,null,null,null,null,0,111]
[11,6848,11,6868,11,6927,null,null,null,null,0,111]
[11,7117,11,7133,11,7164,null,null,null,null,0,111]
[11,7293,11,7314,11,7330,null,null,null,null,0,111]
[11,7508,11,7524,11,7558,null,null,null,null,0,111]
[11,7695,11,7706,11,7719,null,null,null,null,1,111]

{"sheet":"!N211A5B.AXT","index":22,"n_rows":51,"n_cols":48,"rows_kept":51,"cut":false,"hidden":false,"merged":[[4,39,4,42],[5,39,5,40],[4,44,4,47],[5,44,5,45],[4,24,4,27],[5,24,5,25],[4,29,4,32],[5,29,5,30],[4,34,4,37],[5,34,5,35],[1,1,1,2],[5,13,5,14],[18,13,18,14],[19,13,19,14],[4,19,4,22],[5,19,5,20]]}
["Report for:!N211A5B.AXT"]
["Date:","<date>"]
["Hen:","<hen>",null,null,null,"Correct Sequence",{"$f":"Start!J2","v":111},null,null,null,null,null,null,null,null,"Total Sequences in Data",{"$f":"4994-COUNTBLANK(L7:L5000)","v":45},null,null,null,null,"Total Sequences in Block Data",{"$f":"COUNTA(L7:L14)","v":8},null,null,null,"Total Sequences in Block Data",{"$f":"COUNTA(L15:L21)","v":7},null,null,null,"Total Sequences in Block Data",{"$f":"COUNTA(L22:L29)","v":8},null,null,null,"Total Sequences in Block Data",{"$f":"COUNTA(L30:L36)","v":7},null,null,null,"Total Sequences in Block Data",{"$f":"COUNTA(L37:L44)","v":8},null,null,null,"Total Sequences in Block Data",{"$f":"COUNTA(L45:L51)","v":7}]
[null,null,null,null,null,null,null,null,null,null,null,null,null,null,null,"Total Sequences in Summary",{"$f":"SUM(O7:O14)","v":45},null,null,null,null,"Total Sequences in Block Summary",{"$f":"SUM(U7:U14)","v":8},null,null,null,"Total Sequences in Block Summary",{"$f":"SUM(Z7:Z14)","v":7},null,null,null,"Total Sequences in Block Summary",{"$f":"SUM(AE7:AE14)","v":8},null,null,null,"Total Sequences in Block Summary",{"$f":"SUM(AJ7:AJ14)","v":7},null,null,null,"Total Sequences in Block Summary",{"$f":"SUM(AO7:AO14)","v":8},null,null,null,"Total Sequences in Block Summary",{"$f":"SUM(AT7:AT14)","v":7}]
[null,null,null,null,null,null,null,null,null,null,null,null,null,null,null,null,null,null,null,"Block 1",null,null,null,null,"Block 2",null,null,null,null,"Block 3",null,null,null,null,"Block 4",null,null,null,null,"Block 5",null,null,null,null,"Block 6"]
["Sequence\nComponent\n1","Time\n1","Sequence\nComponent\n2","Time\n2","Sequence\nComponent\n3","Time\n3","Sequence\nComponent\n4","Time\n4","Sequence\nComponent\n5","Time\n5","Correct?\n0=No 1=Yes","Sequence",null,"Frequency",null,"Relative Frequency","Variability",null,null,"Frequency",null,"Relative Frequency","Variability",null,"Frequency",null,"Relative Frequency","Variability",null,"Frequency",null,"Relative Frequency","Variability",null,"Frequency",null,"Relative Frequency","Variability",null,"Frequency",null,"Relative Frequency","Variability",null,"Frequency",null,"Relative Frequency","Variability"]
[11,63,22,70,24,72,null,null,null,null,0,122,null,111,{"$f":"COUNTIF($L$7:$L$500,N7)","v":39},{"$f":"O7/$Q$4","v":0.8666666666666667},{"$f":"IF(P7=0,0,(P7*((LOG(P7))/LOG(2))))","v":-0.17892409380510282},null,null,{"$f":"N7","v":111},{"$f":"COUNTIF(L7:L14,T7)","v":3},null,null,null,{"$f":"N7","v":111},{"$f":"COUNTIF(L15:L21,Y7)","v":7},null,null,null,{"$f":"N7","v":111},{"$f":"COUNTIF(L22:L29,AD7)","v":8},null,null,null,{"$f":"N7","v":111},{"$f":"COUNTIF(L30:L36,AI7)","v":7},null,null,null,{"$f":"N7","v":111},{"$f":"COUNTIF(L37:L44,AN7)","v":7},null,null,null,{"$f":"N7","v":111},{"$f":"COUNTIF(L45:L51,AS7)","v":7}]
[11,190,11,209,11,231,null,null,null,null,0,111,null,112,{"$f":"COUNTIF($L$7:$L$500,N8)","v":0},{"$f":"O8/$Q$4","v":0},{"$f":"IF(P8=0,0,(P8*((LOG(P8))/LOG(2))))","v":0},null,null,{"$f":"N8","v":112},{"$f":"COUNTIF(L7:L14,T8)","v":0},{"$f":"U8/(W4-U7)","v":0},{"$f":"IF(V8=0,0,(V8*((LOG(V8))/LOG(2))))","v":0},null,{"$f":"N8","v":112},{"$f":"COUNTIF(L15:L21,Y8)","v":0},{"$f":"Z8/(AB4-Z7)","v":{"$error":"#DIV/0!"}},{"$f":"IF(AA8=0,0,(AA8*((LOG(AA8))/LOG(2))))","v":{"$error":"#DIV/0!"}},null,{"$f":"N8","v":112},{"$f":"COUNTIF(L22:L29,AD8)","v":0},{"$f":"AE8/(AG4-AE7)","v":{"$error":"#DIV/0!"}},{"$f":"IF(AF8=0,0,(AF8*((LOG(AF8))/LOG(2))))","v":{"$error":"#DIV/0!"}},null,{"$f":"N8","v":112},{"$f":"COUNTIF(L30:L36,AI8)","v":0},{"$f":"AJ8/(AL4-AJ7)","v":{"$error":"#DIV/0!"}},{"$f":"IF(AK8=0,0,(AK8*((LOG(AK8))/LOG(2))))","v":{"$error":"#DIV/0!"}},null,{"$f":"N8","v":112},{"$f":"COUNTIF(L37:L44,AN8)","v":0},{"$f":"AO8/(AQ4-AO7)","v":0},{"$f":"IF(AP8=0,0,(AP8*((LOG(AP8))/LOG(2))))","v":0},null,{"$f":"N8","v":112},{"$f":"COUNTIF(L45:L51,AS8)","v":0},{"$f":"AT8/(AV4-AT7)","v":{"$error":"#DIV/0!"}},{"$f":"IF(AU8=0,0,(AU8*((LOG(AU8))/LOG(2))))","v":{"$error":"#DIV/0!"}}]
[11,385,11,421,11,440,null,null,null,null,0,111,null,121,{"$f":"COUNTIF($L$7:$L$500,N9)","v":2},{"$f":"O9/$Q$4","v":4.4444444444444446E-2},{"$f":"IF(P9=0,0,(P9*((LOG(P9))/LOG(2))))","v":-0.19963791539243},null,null,{"$f":"N9","v":121},{"$f":"COUNTIF(L7:L14,T9)","v":2},{"$f":"U9/(W4-U7)","v":0.4},{"$f":"IF(V9=0,0,(V9*((LOG(V9))/LOG(2))))","v":-0.52877123795494496},null,{"$f":"N9","v":121},{"$f":"COUNTIF(L15:L21,Y9)","v":0},{"$f":"Z9/(AB4-Z7)","v":{"$error":"#DIV/0!"}},{"$f":"IF(AA9=0,0,(AA9*((LOG(AA9))/LOG(2))))","v":{"$error":"#DIV/0!"}},null,{"$f":"N9","v":121},{"$f":"COUNTIF(L22:L29,AD9)","v":0},{"$f":"AE9/(AG4-AE7)","v":{"$error":"#DIV/0!"}},{"$f":"IF(AF9=0,0,(AF9*((LOG(AF9))/LOG(2))))","v":{"$error":"#DIV/0!"}},null,{"$f":"N9","v":121},{"$f":"COUNTIF(L30:L36,AI9)","v":0},{"$f":"AJ9/(AL4-AJ7)","v":{"$error":"#DIV/0!"}},{"$f":"IF(AK9=0,0,(AK9*((LOG(AK9))/LOG(2))))","v":{"$error":"#DIV/0!"}},null,{"$f":"N9","v":121},{"$f":"COUNTIF(L37:L44,AN9)","v":0},{"$f":"AO9/(AQ4-AO7)","v":0},{"$f":"IF(AP9=0,0,(AP9*((LOG(AP9))/LOG(2))))","v":0},null,{"$f":"N9","v":121},{"$f":"COUNTIF(L45:L51,AS9)","v":0},{"$f":"AT9/(AV4-AT7)","v":{"$error":"#DIV/0!"}},{"$f":"IF(AU9=0,0,(AU9*((LOG(AU9))/LOG(2))))","v":{"$error":"#DIV/0!"}}]
[22,542,24,547,13,610,null,null,null,null,0,221,null,122,{"$f":"COUNTIF($L$7:$L$500,N10)","v":1},{"$f":"O10/$Q$4","v":2.2222222222222223E-2},{"$f":"IF(P10=0,0,(P10*((LOG(P10))/LOG(2))))","v":-0.12204117991843723},null,null,{"$f":"N10","v":122},{"$f":"COUNTIF(L7:L14,T10)","v":1},{"$f":"U10/(W4-U7)","v":0.2},{"$f":"IF(V10=0,0,(V10*((LOG(V10))/LOG(2))))","v":-0.46438561897747244},null,{"$f":"N10","v":122},{"$f":"COUNTIF(L15:L21,Y10)","v":0},{"$f":"Z10/(AB4-Z7)","v":{"$error":"#DIV/0!"}},{"$f":"IF(AA10=0,0,(AA10*((LOG(AA10))/LOG(2))))","v":{"$error":"#DIV/0!"}},null,{"$f":"N10","v":122},{"$f":"COUNTIF(L22:L29,AD10)","v":0},{"$f":"AE10/(AG4-AE7)","v":{"$error":"#DIV/0!"}},{"$f":"IF(AF10=0,0,(AF10*((LOG(AF10))/LOG(2))))","v":{"$error":"#DIV/0!"}},null,{"$f":"N10","v":122},{"$f":"COUNTIF(L30:L36,AI10)","v":0},{"$f":"AJ10/(AL4-AJ7)","v":{"$error":"#DIV/0!"}},{"$f":"IF(AK10=0,0,(AK10*((LOG(AK10))/LOG(2))))","v":{"$error":"#DIV/0!"}},null,{"$f":"N10","v":122},{"$f":"COUNTIF(L37:L44,AN10)","v":0},{"$f":"AO10/(AQ4-AO7)","v":0},{"$f":"IF(AP10=0,0,(AP10*((LOG(AP10))/LOG(2))))","v":0},null,{"$f":"N10","v":122},{"$f":"COUNTIF(L45:L51,AS10)","v":0},{"$f":"AT10/(AV4-AT7)","v":{"$error":"#DIV/0!"}},{"$f":"IF(AU10=0,0,(AU10*((LOG(AU10))/LOG(2))))","v":{"$error":"#DIV/0!"}}]
[11,703,22,726,13,732,null,null,null,null,0,121,null,211,{"$f":"COUNTIF($L$7:$L$500,N11)","v":1},{"$f":"O11/$Q$4","v":2.2222222222222223E-2},{"$f":"IF(P11=0,0,(P11*((LOG(P11))/LOG(2))))","v":-0.12204117991843723},null,null,{"$f":"N11","v":211},{"$f":"COUNTIF(L7:L14,T11)","v":0},{"$f":"U11/(W4-U7)","v":0},{"$f":"IF(V11=0,0,(V11*((LOG(V11))/LOG(2))))","v":0},null,{"$f":"N11","v":211},{"$f":"COUNTIF(L15:L21,Y11)","v":0},{"$f":"Z11/(AB4-Z7)","v":{"$error":"#DIV/0!"}},{"$f":"IF(AA11=0,0,(AA11*((LOG(AA11))/LOG(2))))","v":{"$error":"#DIV/0!"}},null,{"$f":"N11","v":211},{"$f":"COUNTIF(L22:L29,AD11)","v":0},{"$f":"AE11/(AG4-AE7)","v":{"$error":"#DIV/0!"}},{"$f":"IF(AF11=0,0,(AF11*((LOG(AF11))/LOG(2))))","v":{"$error":"#DIV/0!"}},null,{"$f":"N11","v":211},{"$f":"COUNTIF(L30:L36,AI11)","v":0},{"$f":"AJ11/(AL4-AJ7)","v":{"$error":"#DIV/0!"}},{"$f":"IF(AK11=0,0,(AK11*((LOG(AK11))/LOG(2))))","v":{"$error":"#DIV/0!"}},null,{"$f":"N11","v":211},{"$f":"COUNTIF(L37:L44,AN11)","v":1},{"$f":"AO11/(AQ4-AO7)","v":1},{"$f":"IF(AP11=0,0,(AP11*((LOG(AP11))/LOG(2))))","v":0},null,{"$f":"N11","v":211},{"$f":"COUNTIF(L45:L51,AS11)","v":0},{"$f":"AT11/(AV4-AT7)","v":{"$error":"#DIV/0!"}},{"$f":"IF(AU11=0,0,(AU11*((LOG(AU11))/LOG(2))))","v":{"$error":"#DIV/0!"}}]
[11,845,11,852,11,854,null,null,null,null,0,111,null,212,{"$f":"COUNTIF($L$7:$L$500,N12)","v":0},{"$f":"O12/$Q$4","v":0},{"$f":"IF(P12=0,0,(P12*((LOG(P12))/LOG(2))))","v":0},null,null,{"$f":"N12","v":212},{"$f":"COUNTIF(L7:L14,T12)","v":0},{"$f":"U12/(W4-U7)","v":0},{"$f":"IF(V12=0,0,(V12*((LOG(V12))/LOG(2))))","v":0},null,{"$f":"N12","v":212},{"$f":"COUNTIF(L15:L21,Y12)","v":0},{"$f":"Z12/(AB4-Z7)","v":{"$error":"#DIV/0!"}},{"$f":"IF(AA12=0,0,(AA12*((LOG(AA12))/LOG(2))))","v":{"$error":"#DIV/0!"}},null,{"$f":"N12","v":212},{"$f":"COUNTIF(L22:L29,AD12)","v":0},{"$f":"AE12/(AG4-AE7)","v":{"$error":"#DIV/0!"}},{"$f":"IF(AF12=0,0,(AF12*((LOG(AF12))/LOG(2))))","v":{"$error":"#DIV/0!"}},null,{"$f":"N12","v":212},{"$f":"COUNTIF(L30:L36,AI12)","v":0},{"$f":"AJ12/(AL4-AJ7)","v":{"$error":"#DIV/0!"}},{"$f":"IF(AK12=0,0,(AK12*((LOG(AK12))/LOG(2))))","v":{"$error":"#DIV/0!"}},null,{"$f":"N12","v":212},{"$f":"COUNTIF(L37:L44,AN12)","v":0},{"$f":"AO12/(AQ4-AO7)","v":0},{"$f":"IF(AP12=0,0,(AP12*((LOG(AP12))/LOG(2))))","v":0},null,{"$f":"N12","v":212},{"$f":"COUNTIF(L45:L51,AS12)","v":0},{"$f":"AT12/(AV4-AT7)","v":{"$error":"#DIV/0!"}},{"$f":"IF(AU12=0,0,(AU12*((LOG(AU12))/LOG(2))))","v":{"$error":"#DIV/0!"}}]
[11,963,22,978,13,980,null,null,null,null,0,121,null,221,{"$f":"COUNTIF($L$7:$L$500,N13)","v":1},{"$f":"O13/$Q$4","v":2.2222222222222223E-2},{"$f":"IF(P13=0,0,(P13*((LOG(P13))/LOG(2))))","v":-0.12204117991843723},null,null,{"$f":"N13","v":221},{"$f":"COUNTIF(L7:L14,T13)","v":1},{"$f":"U13/(W4-U7)","v":0.2},{"$f":"IF(V13=0,0,(V13*((LOG(V13))/LOG(2))))","v":-0.46438561897747244},null,{"$f":"N13","v":221},{"$f":"COUNTIF(L15:L21,Y13)","v":0},{"$f":"Z13/(AB4-Z7)","v":{"$error":"#DIV/0!"}},{"$f":"IF(AA13=0,0,(AA13*((LOG(AA13))/LOG(2))))","v":{"$error":"#DIV/0!"}},null,{"$f":"N13","v":221},{"$f":"COUNTIF(L22:L29,AD13)","v":0},{"$f":"AE13/(AG4-AE7)","v":{"$error":"#DIV/0!"}},{"$f":"IF(AF13=0,0,(AF13*((LOG(AF13))/LOG(2))))","v":{"$error":"#DIV/0!"}},null,{"$f":"N13","v":221},{"$f":"COUNTIF(L30:L36,AI13)","v":0},{"$f":"AJ13/(AL4-AJ7)","v":{"$error":"#DIV/0!"}},{"$f":"IF(AK13=0,0,(AK13*((LOG(AK13))/LOG(2))))","v":{"$error":"#DIV/0!"}},null,{"$f":"N13","v":221},{"$f":"COUNTIF(L37:L44,AN13)","v":0},{"$f":"AO13/(AQ4-AO7)","v":0},{"$f":"IF(AP13=0,0,(AP13*((LOG(AP13))/LOG(2))))","v":0},null,{"$f":"N13","v":221},{"$f":"COUNTIF(L45:L51,AS13)","v":0},{"$f":"AT13/(AV4-AT7)","v":{"$error":"#DIV/0!"}},{"$f":"IF(AU13=0,0,(AU13*((LOG(AU13))/LOG(2))))","v":{"$error":"#DIV/0!"}}]
[22,1107,24,1124,24,1129,null,null,null,null,0,222,null,222,{"$f":"COUNTIF($L$7:$L$500,N14)","v":1},{"$f":"O14/$Q$4","v":2.2222222222222223E-2},{"$f":"IF(P14=0,0,(P14*((LOG(P14))/LOG(2))))","v":-0.12204117991843723},null,null,{"$f":"N14","v":222},{"$f":"COUNTIF(L7:L14,T14)","v":1},{"$f":"U14/(W4-U7)","v":0.2},{"$f":"IF(V14=0,0,(V14*((LOG(V14))/LOG(2))))","v":-0.46438561897747244},null,{"$f":"N14","v":222},{"$f":"COUNTIF(L15:L21,Y14)","v":0},{"$f":"Z14/(AB4-Z7)","v":{"$error":"#DIV/0!"}},{"$f":"IF(AA14=0,0,(AA14*((LOG(AA14))/LOG(2))))","v":{"$error":"#DIV/0!"}},null,{"$f":"N14","v":222},{"$f":"COUNTIF(L22:L29,AD14)","v":0},{"$f":"AE14/(AG4-AE7)","v":{"$error":"#DIV/0!"}},{"$f":"IF(AF14=0,0,(AF14*((LOG(AF14))/LOG(2))))","v":{"$error":"#DIV/0!"}},null,{"$f":"N14","v":222},{"$f":"COUNTIF(L30:L36,AI14)","v":0},{"$f":"AJ14/(AL4-AJ7)","v":{"$error":"#DIV/0!"}},{"$f":"IF(AK14=0,0,(AK14*((LOG(AK14))/LOG(2))))","v":{"$error":"#DIV/0!"}},null,{"$f":"N14","v":222},{"$f":"COUNTIF(L37:L44,AN14)","v":0},{"$f":"AO14/(AQ4-AO7)","v":0},{"$f":"IF(AP14=0,0,(AP14*((LOG(AP14))/LOG(2))))","v":0},null,{"$f":"N14","v":222},{"$f":"COUNTIF(L45:L51,AS14)","v":0},{"$f":"AT14/(AV4-AT7)","v":{"$error":"#DIV/0!"}},{"$f":"IF(AU14=0,0,(AU14*((LOG(AU14))/LOG(2))))","v":{"$error":"#DIV/0!"}}]
[11,1222,11,1225,11,1229,null,null,null,null,0,111,null,null,null,{"$f":"SUM(P7:P14)","v":1},{"$f":"-SUM(Q7:Q14)","v":0.86672672887128166},null,null,null,null,{"$f":"SUM(V7:V14)","v":1},{"$f":"-SUM(W7:W14)","v":1.9219280948873623},null,null,null,{"$f":"SUM(AA7:AA14)","v":{"$error":"#DIV/0!"}},{"$f":"-SUM(AB7:AB14)","v":{"$error":"#DIV/0!"}},null,null,null,{"$f":"SUM(AF7:AF14)","v":{"$error":"#DIV/0!"}},{"$f":"-SUM(AG7:AG14)","v":{"$error":"#DIV/0!"}},null,null,null,{"$f":"SUM(AK7:AK14)","v":{"$error":"#DIV/0!"}},{"$f":"-SUM(AL7:AL14)","v":{"$error":"#DIV/0!"}},null,null,null,{"$f":"SUM(AP7:AP14)","v":1},{"$f":"-SUM(AQ7:AQ14)","v":0},null,null,null,{"$f":"SUM(AU7:AU14)","v":{"$error":"#DIV/0!"}},{"$f":"-SUM(AV7:AV14)","v":{"$error":"#DIV/0!"}}]
[11,1429,11,1443,11,1462,null,null,null,null,0,111,null,null,null,"U=",{"$f":"Q15/(LOG(Q4)/LOG(2))","v":0.15782045034134909},null,null,null,null,"U1=",{"$f":"W15/(LOG(W4)/LOG(2))","v":0.64064269829578746},null,null,null,"U2=",{"$f":"AB15/(LOG(AB4)/LOG(2))","v":{"$error":"#DIV/0!"}},null,null,null,"U3=",{"$f":"AG15/(LOG(AG4)/LOG(2))","v":{"$error":"#DIV/0!"}},null,null,null,"U4=",{"$f":"AL15/(LOG(AL4)/LOG(2))","v":{"$error":"#DIV/0!"}},null,null,null,"U5=",{"$f":"AQ15/(LOG(AQ4)/LOG(2))","v":0},null,null,null,"U6=",{"$f":"AV15/(LOG(AV4)/LOG(2))","v":{"$error":"#DIV/0!"}}]
[11,1594,11,1608,11,1623,null,null,null,null,0,111]
[11,1772,11,1805,11,1824,null,null,null,null,0,111]
[11,1949,11,1967,11,1984,null,null,null,null,0,111,null,"Total Target Seq"]
[11,2114,11,2128,11,2143,null,null,null,null,0,111,null,{"$f":"COUNTIF(L7:L51,G3)","v":39},null,8,7,8,7,8,7]
[11,2346,11,2366,11,2382,null,null,null,null,0,111,null,null,null,"% of reinforcement given in 6 equal intervals based on number of trials "]
[11,2490,11,2505,11,2520,null,null,null,null,0,111,null,null,null,"%_1","%_2","%_3","%_4","%_5","%_6"]
[11,2654,11,2670,11,2684,null,null,null,null,0,111,null,null,"target sequence",{"$f":"$G$3","v":111},{"$f":"$G$3","v":111},{"$f":"$G$3","v":111},{"$f":"$G$3","v":111},{"$f":"$G$3","v":111},{"$f":"$G$3","v":111}]
[11,2887,11,2894,11,2907,null,null,null,null,0,111,null,null,"total reinforcement",{"$f":"U7","v":3},{"$f":"Z7","v":7},{"$f":"AE7","v":8},{"$f":"AJ7","v":7},{"$f":"AO7","v":7},{"$f":"AT7","v":7}]
[11,3057,11,3083,11,3098,null,null,null,null,0,111,null,null,"% target"]
[11,3234,11,3286,11,3311,null,null,null,null,0,111,null,null,"CCRF"]
[11,3445,11,3482,11,3504,null,null,null,null,0,111,null,null,"% CCRf"]
[11,3714,11,3732,11,3750,null,null,null,null,0,111,null,null,"average response rate",{"$f":"F14/P20","v":141.125},{"$f":"(F21-F14)/Q20","v":179},{"$f":"(F29-F21)/R20","v":195.625},{"$f":"(F36-F29)/S20","v":170.57142857142858},{"$f":"(F44-F36)/T20","v":175.75},{"$f":"(F51-F44)/U20","v":178}]
[11,3915,11,3931,11,3947,null,null,null,null,0,111]
[11,4092,11,4094,11,4108,null,null,null,null,0,111]
[11,4225,11,4244,11,4261,null,null,null,null,0,111]
[11,4439,11,4455,11,4475,null,null,null,null,0,111]
[11,4620,11,4634,11,4650,null,null,null,null,0,111]
[11,4779,11,4784,11,4792,null,null,null,null,0,111]
[11,4934,11,4961,11,4980,null,null,null,null,0,111]
[11,5105,11,5127,11,5141,null,null,null,null,0,111]
[11,5326,11,5340,11,5363,null,null,null,null,0,111]
[11,5459,11,5472,11,5531,null,null,null,null,0,111]
[11,5628,11,5641,11,5661,null,null,null,null,0,111]
[22,5777,13,5816,13,5823,null,null,null,null,0,211]
[11,5922,11,5940,11,5952,null,null,null,null,0,111]
[11,6057,11,6068,11,6079,null,null,null,null,0,111]
[11,6348,11,6369,11,6387,null,null,null,null,0,111]
[11,6514,11,6530,11,6547,null,null,null,null,0,111]
[11,6691,11,6707,11,6724,null,null,null,null,0,111]
[11,6856,11,6870,11,6884,null,null,null,null,0,111]
[11,7022,11,7040,11,7054,null,null,null,null,0,111]
[11,7176,11,7192,11,7206,null,null,null,null,0,111]
[11,7366,11,7398,11,7415,null,null,null,null,0,111]
[11,7575,11,7593,11,7607,null,null,null,null,0,111]
[11,7765,11,7779,11,7793,null,null,null,null,1,111]

{"sheet":"!N212A0B.AXT","index":23,"n_rows":48,"n_cols":48,"rows_kept":48,"cut":false,"hidden":false,"merged":[[4,39,4,42],[5,39,5,40],[4,44,4,47],[5,44,5,45],[4,24,4,27],[5,24,5,25],[4,29,4,32],[5,29,5,30],[4,34,4,37],[5,34,5,35],[1,1,1,2],[5,13,5,14],[18,13,18,14],[19,13,19,14],[4,19,4,22],[5,19,5,20]]}
["Report for:!N212A0B.AXT"]
["Date:","<date>"]
["Hen:","<hen>",null,null,null,"Correct Sequence",{"$f":"Start!J2","v":111},null,null,null,null,null,null,null,null,"Total Sequences in Data",{"$f":"4994-COUNTBLANK(L7:L5000)","v":42},null,null,null,null,"Total Sequences in Block Data",{"$f":"COUNTA(L7:L13)","v":7},null,null,null,"Total Sequences in Block Data",{"$f":"COUNTA(L14:L20)","v":7},null,null,null,"Total Sequences in Block Data",{"$f":"COUNTA(L21:L27)","v":7},null,null,null,"Total Sequences in Block Data",{"$f":"COUNTA(L28:L34)","v":7},null,null,null,"Total Sequences in Block Data",{"$f":"COUNTA(L35:L41)","v":7},null,null,null,"Total Sequences in Block Data",{"$f":"COUNTA(L42:L48)","v":7}]
[null,null,null,null,null,null,null,null,null,null,null,null,null,null,null,"Total Sequences in Summary",{"$f":"SUM(O7:O14)","v":42},null,null,null,null,"Total Sequences in Block Summary",{"$f":"SUM(U7:U14)","v":7},null,null,null,"Total Sequences in Block Summary",{"$f":"SUM(Z7:Z14)","v":7},null,null,null,"Total Sequences in Block Summary",{"$f":"SUM(AE7:AE14)","v":7},null,null,null,"Total Sequences in Block Summary",{"$f":"SUM(AJ7:AJ14)","v":7},null,null,null,"Total Sequences in Block Summary",{"$f":"SUM(AO7:AO14)","v":7},null,null,null,"Total Sequences in Block Summary",{"$f":"SUM(AT7:AT14)","v":7}]
[null,null,null,null,null,null,null,null,null,null,null,null,null,null,null,null,null,null,null,"Block 1",null,null,null,null,"Block 2",null,null,null,null,"Block 3",null,null,null,null,"Block 4",null,null,null,null,"Block 5",null,null,null,null,"Block 6"]
["Sequence\nComponent\n1","Time\n1","Sequence\nComponent\n2","Time\n2","Sequence\nComponent\n3","Time\n3","Sequence\nComponent\n4","Time\n4","Sequence\nComponent\n5","Time\n5","Correct?\n0=No 1=Yes","Sequence",null,"Frequency",null,"Relative Frequency","Variability",null,null,"Frequency",null,"Relative Frequency","Variability",null,"Frequency",null,"Relative Frequency","Variability",null,"Frequency",null,"Relative Frequency","Variability",null,"Frequency",null,"Relative Frequency","Variability",null,"Frequency",null,"Relative Frequency","Variability",null,"Frequency",null,"Relative Frequency","Variability"]
[11,88,11,94,11,101,null,null,null,null,0,111,null,111,{"$f":"COUNTIF($L$7:$L$500,N7)","v":40},{"$f":"O7/$Q$4","v":0.95238095238095233},{"$f":"IF(P7=0,0,(P7*((LOG(P7))/LOG(2))))","v":-6.7037455134664775E-2},null,null,{"$f":"N7","v":111},{"$f":"COUNTIF(L7:L13,T7)","v":5},null,null,null,{"$f":"N7","v":111},{"$f":"COUNTIF(L14:L20,Y7)","v":7},null,null,null,{"$f":"N7","v":111},{"$f":"COUNTIF(L21:L27,AD7)","v":7},null,null,null,{"$f":"N7","v":111},{"$f":"COUNTIF(L28:L34,AI7)","v":7},null,null,null,{"$f":"N7","v":111},{"$f":"COUNTIF(L35:L41,AN7)","v":7},null,null,null,{"$f":"N7","v":111},{"$f":"COUNTIF(L42:L48,AS7)","v":7}]
[11,211,11,218,11,221,null,null,null,null,0,111,null,112,{"$f":"COUNTIF($L$7:$L$500,N8)","v":0},{"$f":"O8/$Q$4","v":0},{"$f":"IF(P8=0,0,(P8*((LOG(P8))/LOG(2))))","v":0},null,null,{"$f":"N8","v":112},{"$f":"COUNTIF(L7:L13,T8)","v":0},{"$f":"U8/(W4-U7)","v":0},{"$f":"IF(V8=0,0,(V8*((LOG(V8))/LOG(2))))","v":0},null,{"$f":"N8","v":112},{"$f":"COUNTIF(L14:L20,Y8)","v":0},{"$f":"Z8/(AB4-Z7)","v":{"$error":"#DIV/0!"}},{"$f":"IF(AA8=0,0,(AA8*((LOG(AA8))/LOG(2))))","v":{"$error":"#DIV/0!"}},null,{"$f":"N8","v":112},{"$f":"COUNTIF(L21:L27,AD8)","v":0},{"$f":"AE8/(AG4-AE7)","v":{"$error":"#DIV/0!"}},{"$f":"IF(AF8=0,0,(AF8*((LOG(AF8))/LOG(2))))","v":{"$error":"#DIV/0!"}},null,{"$f":"N8","v":112},{"$f":"COUNTIF(L28:L34,AI8)","v":0},{"$f":"AJ8/(AL4-AJ7)","v":{"$error":"#DIV/0!"}},{"$f":"IF(AK8=0,0,(AK8*((LOG(AK8))/LOG(2))))","v":{"$error":"#DIV/0!"}},null,{"$f":"N8","v":112},{"$f":"COUNTIF(L35:L41,AN8)","v":0},{"$f":"AO8/(AQ4-AO7)","v":{"$error":"#DIV/0!"}},{"$f":"IF(AP8=0,0,(AP8*((LOG(AP8))/LOG(2))))","v":{"$error":"#DIV/0!"}},null,{"$f":"N8","v":112},{"$f":"COUNTIF(L42:L48,AS8)","v":0},{"$f":"AT8/(AV4-AT7)","v":{"$error":"#DIV/0!"}},{"$f":"IF(AU8=0,0,(AU8*((LOG(AU8))/LOG(2))))","v":{"$error":"#DIV/0!"}}]
[22,326,13,424,13,459,null,null,null,null,0,211,null,121,{"$f":"COUNTIF($L$7:$L$500,N9)","v":0},{"$f":"O9/$Q$4","v":0},{"$f":"IF(P9=0,0,(P9*((LOG(P9))/LOG(2))))","v":0},null,null,{"$f":"N9","v":121},{"$f":"COUNTIF(L7:L13,T9)","v":0},{"$f":"U9/(W4-U7)","v":0},{"$f":"IF(V9=0,0,(V9*((LOG(V9))/LOG(2))))","v":0},null,{"$f":"N9","v":121},{"$f":"COUNTIF(L14:L20,Y9)","v":0},{"$f":"Z9/(AB4-Z7)","v":{"$error":"#DIV/0!"}},{"$f":"IF(AA9=0,0,(AA9*((LOG(AA9))/LOG(2))))","v":{"$error":"#DIV/0!"}},null,{"$f":"N9","v":121},{"$f":"COUNTIF(L21:L27,AD9)","v":0},{"$f":"AE9/(AG4-AE7)","v":{"$error":"#DIV/0!"}},{"$f":"IF(AF9=0,0,(AF9*((LOG(AF9))/LOG(2))))","v":{"$error":"#DIV/0!"}},null,{"$f":"N9","v":121},{"$f":"COUNTIF(L28:L34,AI9)","v":0},{"$f":"AJ9/(AL4-AJ7)","v":{"$error":"#DIV/0!"}},{"$f":"IF(AK9=0,0,(AK9*((LOG(AK9))/LOG(2))))","v":{"$error":"#DIV/0!"}},null,{"$f":"N9","v":121},{"$f":"COUNTIF(L35:L41,AN9)","v":0},{"$f":"AO9/(AQ4-AO7)","v":{"$error":"#DIV/0!"}},{"$f":"IF(AP9=0,0,(AP9*((LOG(AP9))/LOG(2))))","v":{"$error":"#DIV/0!"}},null,{"$f":"N9","v":121},{"$f":"COUNTIF(L42:L48,AS9)","v":0},{"$f":"AT9/(AV4-AT7)","v":{"$error":"#DIV/0!"}},{"$f":"IF(AU9=0,0,(AU9*((LOG(AU9))/LOG(2))))","v":{"$error":"#DIV/0!"}}]
[11,593,11,596,11,599,null,null,null,null,0,111,null,122,{"$f":"COUNTIF($L$7:$L$500,N10)","v":0},{"$f":"O10/$Q$4","v":0},{"$f":"IF(P10=0,0,(P10*((LOG(P10))/LOG(2))))","v":0},null,null,{"$f":"N10","v":122},{"$f":"COUNTIF(L7:L13,T10)","v":0},{"$f":"U10/(W4-U7)","v":0},{"$f":"IF(V10=0,0,(V10*((LOG(V10))/LOG(2))))","v":0},null,{"$f":"N10","v":122},{"$f":"COUNTIF(L14:L20,Y10)","v":0},{"$f":"Z10/(AB4-Z7)","v":{"$error":"#DIV/0!"}},{"$f":"IF(AA10=0,0,(AA10*((LOG(AA10))/LOG(2))))","v":{"$error":"#DIV/0!"}},null,{"$f":"N10","v":122},{"$f":"COUNTIF(L21:L27,AD10)","v":0},{"$f":"AE10/(AG4-AE7)","v":{"$error":"#DIV/0!"}},{"$f":"IF(AF10=0,0,(AF10*((LOG(AF10))/LOG(2))))","v":{"$error":"#DIV/0!"}},null,{"$f":"N10","v":122},{"$f":"COUNTIF(L28:L34,AI10)","v":0},{"$f":"AJ10/(AL4-AJ7)","v":{"$error":"#DIV/0!"}},{"$f":"IF(AK10=0,0,(AK10*((LOG(AK10))/LOG(2))))","v":{"$error":"#DIV/0!"}},null,{"$f":"N10","v":122},{"$f":"COUNTIF(L35:L41,AN10)","v":0},{"$f":"AO10/(AQ4-AO7)","v":{"$error":"#DIV/0!"}},{"$f":"IF(AP10=0,0,(AP10*((LOG(AP10))/LOG(2))))","v":{"$error":"#DIV/0!"}},null,{"$f":"N10","v":122},{"$f":"COUNTIF(L42:L48,AS10)","v":0},{"$f":"AT10/(AV4-AT7)","v":{"$error":"#DIV/0!"}},{"$f":"IF(AU10=0,0,(AU10*((LOG(AU10))/LOG(2))))","v":{"$error":"#DIV/0!"}}]
[22,695,13,702,13,704,null,null,null,null,0,211,null,211,{"$f":"COUNTIF($L$7:$L$500,N11)","v":2},{"$f":"O11/$Q$4","v":4.7619047619047616E-2},{"$f":"IF(P11=0,0,(P11*((LOG(P11))/LOG(2))))","v":-0.20915797251327431},null,null,{"$f":"N11","v":211},{"$f":"COUNTIF(L7:L13,T11)","v":2},{"$f":"U11/(W4-U7)","v":1},{"$f":"IF(V11=0,0,(V11*((LOG(V11))/LOG(2))))","v":0},null,{"$f":"N11","v":211},{"$f":"COUNTIF(L14:L20,Y11)","v":0},{"$f":"Z11/(AB4-Z7)","v":{"$error":"#DIV/0!"}},{"$f":"IF(AA11=0,0,(AA11*((LOG(AA11))/LOG(2))))","v":{"$error":"#DIV/0!"}},null,{"$f":"N11","v":211},{"$f":"COUNTIF(L21:L27,AD11)","v":0},{"$f":"AE11/(AG4-AE7)","v":{"$error":"#DIV/0!"}},{"$f":"IF(AF11=0,0,(AF11*((LOG(AF11))/LOG(2))))","v":{"$error":"#DIV/0!"}},null,{"$f":"N11","v":211},{"$f":"COUNTIF(L28:L34,AI11)","v":0},{"$f":"AJ11/(AL4-AJ7)","v":{"$error":"#DIV/0!"}},{"$f":"IF(AK11=0,0,(AK11*((LOG(AK11))/LOG(2))))","v":{"$error":"#DIV/0!"}},null,{"$f":"N11","v":211},{"$f":"COUNTIF(L35:L41,AN11)","v":0},{"$f":"AO11/(AQ4-AO7)","v":{"$error":"#DIV/0!"}},{"$f":"IF(AP11=0,0,(AP11*((LOG(AP11))/LOG(2))))","v":{"$error":"#DIV/0!"}},null,{"$f":"N11","v":211},{"$f":"COUNTIF(L42:L48,AS11)","v":0},{"$f":"AT11/(AV4-AT7)","v":{"$error":"#DIV/0!"}},{"$f":"IF(AU11=0,0,(AU11*((LOG(AU11))/LOG(2))))","v":{"$error":"#DIV/0!"}}]
[11,814,11,816,11,824,null,null,null,null,0,111,null,212,{"$f":"COUNTIF($L$7:$L$500,N12)","v":0},{"$f":"O12/$Q$4","v":0},{"$f":"IF(P12=0,0,(P12*((LOG(P12))/LOG(2))))","v":0},null,null,{"$f":"N12","v":212},{"$f":"COUNTIF(L7:L13,T12)","v":0},{"$f":"U12/(W4-U7)","v":0},{"$f":"IF(V12=0,0,(V12*((LOG(V12))/LOG(2))))","v":0},null,{"$f":"N12","v":212},{"$f":"COUNTIF(L14:L20,Y12)","v":0},{"$f":"Z12/(AB4-Z7)","v":{"$error":"#DIV/0!"}},{"$f":"IF(AA12=0,0,(AA12*((LOG(AA12))/LOG(2))))","v":{"$error":"#DIV/0!"}},null,{"$f":"N12","v":212},{"$f":"COUNTIF(L21:L27,AD12)","v":0},{"$f":"AE12/(AG4-AE7)","v":{"$error":"#DIV/0!"}},{"$f":"IF(AF12=0,0,(AF12*((LOG(AF12))/LOG(2))))","v":{"$error":"#DIV/0!"}},null,{"$f":"N12","v":212},{"$f":"COUNTIF(L28:L34,AI12)","v":0},{"$f":"AJ12/(AL4-AJ7)","v":{"$error":"#DIV/0!"}},{"$f":"IF(AK12=0,0,(AK12*((LOG(AK12))/LOG(2))))","v":{"$error":"#DIV/0!"}},null,{"$f":"N12","v":212},{"$f":"COUNTIF(L35:L41,AN12)","v":0},{"$f":"AO12/(AQ4-AO7)","v":{"$error":"#DIV/0!"}},{"$f":"IF(AP12=0,0,(AP12*((LOG(AP12))/LOG(2))))","v":{"$error":"#DIV/0!"}},null,{"$f":"N12","v":212},{"$f":"COUNTIF(L42:L48,AS12)","v":0},{"$f":"AT12/(AV4-AT7)","v":{"$error":"#DIV/0!"}},{"$f":"IF(AU12=0,0,(AU12*((LOG(AU12))/LOG(2))))","v":{"$error":"#DIV/0!"}}]
[11,915,11,923,11,951,null,null,null,null,0,111,null,221,{"$f":"COUNTIF($L$7:$L$500,N13)","v":0},{"$f":"O13/$Q$4","v":0},{"$f":"IF(P13=0,0,(P13*((LOG(P13))/LOG(2))))","v":0},null,null,{"$f":"N13","v":221},{"$f":"COUNTIF(L7:L13,T13)","v":0},{"$f":"U13/(W4-U7)","v":0},{"$f":"IF(V13=0,0,(V13*((LOG(V13))/LOG(2))))","v":0},null,{"$f":"N13","v":221},{"$f":"COUNTIF(L14:L20,Y13)","v":0},{"$f":"Z13/(AB4-Z7)","v":{"$error":"#DIV/0!"}},{"$f":"IF(AA13=0,0,(AA13*((LOG(AA13))/LOG(2))))","v":{"$error":"#DIV/0!"}},null,{"$f":"N13","v":221},{"$f":"COUNTIF(L21:L27,AD13)","v":0},{"$f":"AE13/(AG4-AE7)","v":{"$error":"#DIV/0!"}},{"$f":"IF(AF13=0,0,(AF13*((LOG(AF13))/LOG(2))))","v":{"$error":"#DIV/0!"}},null,{"$f":"N13","v":221},{"$f":"COUNTIF(L28:L34,AI13)","v":0},{"$f":"AJ13/(AL4-AJ7)","v":{"$error":"#DIV/0!"}},{"$f":"IF(AK13=0,0,(AK13*((LOG(AK13))/LOG(2))))","v":{"$error":"#DIV/0!"}},null,{"$f":"N13","v":221},{"$f":"COUNTIF(L35:L41,AN13)","v":0},{"$f":"AO13/(AQ4-AO7)","v":{"$error":"#DIV/0!"}},{"$f":"IF(AP13=0,0,(AP13*((LOG(AP13))/LOG(2))))","v":{"$error":"#DIV/0!"}},null,{"$f":"N13","v":221},{"$f":"COUNTIF(L42:L48,AS13)","v":0},{"$f":"AT13/(AV4-AT7)","v":{"$error":"#DIV/0!"}},{"$f":"IF(AU13=0,0,(AU13*((LOG(AU13))/LOG(2))))","v":{"$error":"#DIV/0!"}}]
[11,1061,11,1078,11,1118,null,null,null,null,0,111,null,222,{"$f":"COUNTIF($L$7:$L$500,N14)","v":0},{"$f":"O14/$Q$4","v":0},{"$f":"IF(P14=0,0,(P14*((LOG(P14))/LOG(2))))","v":0},null,null,{"$f":"N14","v":222},{"$f":"COUNTIF(L7:L13,T14)","v":0},{"$f":"U14/(W4-U7)","v":0},{"$f":"IF(V14=0,0,(V14*((LOG(V14))/LOG(2))))","v":0},null,{"$f":"N14","v":222},{"$f":"COUNTIF(L14:L20,Y14)","v":0},{"$f":"Z14/(AB4-Z7)","v":{"$error":"#DIV/0!"}},{"$f":"IF(AA14=0,0,(AA14*((LOG(AA14))/LOG(2))))","v":{"$error":"#DIV/0!"}},null,{"$f":"N14","v":222},{"$f":"COUNTIF(L21:L27,AD14)","v":0},{"$f":"AE14/(AG4-AE7)","v":{"$error":"#DIV/0!"}},{"$f":"IF(AF14=0,0,(AF14*((LOG(AF14))/LOG(2))))","v":{"$error":"#DIV/0!"}},null,{"$f":"N14","v":222},{"$f":"COUNTIF(L28:L34,AI14)","v":0},{"$f":"AJ14/(AL4-AJ7)","v":{"$error":"#DIV/0!"}},{"$f":"IF(AK14=0,0,(AK14*((LOG(AK14))/LOG(2))))","v":{"$error":"#DIV/0!"}},null,{"$f":"N14","v":222},{"$f":"COUNTIF(L35:L41,AN14)","v":0},{"$f":"AO14/(AQ4-AO7)","v":{"$error":"#DIV/0!"}},{"$f":"IF(AP14=0,0,(AP14*((LOG(AP14))/LOG(2))))","v":{"$error":"#DIV/0!"}},null,{"$f":"N14","v":222},{"$f":"COUNTIF(L42:L48,AS14)","v":0},{"$f":"AT14/(AV4-AT7)","v":{"$error":"#DIV/0!"}},{"$f":"IF(AU14=0,0,(AU14*((LOG(AU14))/LOG(2))))","v":{"$error":"#DIV/0!"}}]
[11,1282,11,1305,11,1325,null,null,null,null,0,111,null,null,null,{"$f":"SUM(P7:P14)","v":1},{"$f":"-SUM(Q7:Q14)","v":0.27619542764793908},null,null,null,null,{"$f":"SUM(V7:V14)","v":1},{"$f":"-SUM(W7:W14)","v":0},null,null,null,{"$f":"SUM(AA7:AA14)","v":{"$error":"#DIV/0!"}},{"$f":"-SUM(AB7:AB14)","v":{"$error":"#DIV/0!"}},null,null,null,{"$f":"SUM(AF7:AF14)","v":{"$error":"#DIV/0!"}},{"$f":"-SUM(AG7:AG14)","v":{"$error":"#DIV/0!"}},null,null,null,{"$f":"SUM(AK7:AK14)","v":{"$error":"#DIV/0!"}},{"$f":"-SUM(AL7:AL14)","v":{"$error":"#DIV/0!"}},null,null,null,{"$f":"SUM(AP7:AP14)","v":{"$error":"#DIV/0!"}},{"$f":"-SUM(AQ7:AQ14)","v":{"$error":"#DIV/0!"}},null,null,null,{"$f":"SUM(AU7:AU14)","v":{"$error":"#DIV/0!"}},{"$f":"-SUM(AV7:AV14)","v":{"$error":"#DIV/0!"}}]
[11,1461,11,1479,11,1568,null,null,null,null,0,111,null,null,null,"U=",{"$f":"Q15/(LOG(Q4)/LOG(2))","v":5.1220172329100477E-2},null,null,null,null,"U1=",{"$f":"W15/(LOG(W4)/LOG(2))","v":0},null,null,null,"U2=",{"$f":"AB15/(LOG(AB4)/LOG(2))","v":{"$error":"#DIV/0!"}},null,null,null,"U3=",{"$f":"AG15/(LOG(AG4)/LOG(2))","v":{"$error":"#DIV/0!"}},null,null,null,"U4=",{"$f":"AL15/(LOG(AL4)/LOG(2))","v":{"$error":"#DIV/0!"}},null,null,null,"U5=",{"$f":"AQ15/(LOG(AQ4)/LOG(2))","v":{"$error":"#DIV/0!"}},null,null,null,"U6=",{"$f":"AV15/(LOG(AV4)/LOG(2))","v":{"$error":"#DIV/0!"}}]
[11,1664,11,1706,11,1762,null,null,null,null,0,111]
[11,1860,11,1957,11,1977,null,null,null,null,0,111]
[11,2190,11,2233,11,2255,null,null,null,null,0,111,null,"Total Target Seq"]
[11,2575,11,2590,11,2607,null,null,null,null,0,111,null,{"$f":"COUNTIF(L7:L48,G3)","v":40},null,7,7,7,7,7,7]
[11,2747,11,2762,11,2782,null,null,null,null,0,111,null,null,null,"% of reinforcement given in 6 equal intervals based on number of trials "]
[11,3029,11,3047,11,3064,null,null,null,null,0,111,null,null,null,"%_1","%_2","%_3","%_4","%_5","%_6"]
[11,3211,11,3230,11,3251,null,null,null,null,0,111,null,null,"target sequence",{"$f":"$G$3","v":111},{"$f":"$G$3","v":111},{"$f":"$G$3","v":111},{"$f":"$G$3","v":111},{"$f":"$G$3","v":111},{"$f":"$G$3","v":111}]
[11,3390,11,3409,11,3427,null,null,null,null,0,111,null,null,"total reinforcement",{"$f":"U7","v":5},{"$f":"Z7","v":7},{"$f":"AE7","v":7},{"$f":"AJ7","v":7},{"$f":"AO7","v":7},{"$f":"AT7","v":7}]
[11,3699,11,3716,11,3732,null,null,null,null,0,111,null,null,"% target"]
[11,4040,11,4052,11,4078,null,null,null,null,0,111,null,null,"CCRF"]
[11,4227,11,4246,11,4282,null,null,null,null,0,111,null,null,"% CCRf"]
[11,4503,11,4520,11,4537,null,null,null,null,0,111,null,null,"average response rate",{"$f":"F13/P20","v":135.85714285714286},{"$f":"(F20-F13)/Q20","v":236.57142857142858},{"$f":"(F27-F20)/R20","v":239.28571428571428},{"$f":"(F34-F27)/S20","v":221.71428571428572},{"$f":"(F41-F34)/T20","v":210},{"$f":"(F48-F41)/U20","v":200.57142857142858}]
[11,4682,11,4697,11,4715,null,null,null,null,0,111]
[11,4891,11,4914,11,4930,null,null,null,null,0,111]
[11,5183,11,5201,11,5222,null,null,null,null,0,111]
[11,5365,11,5390,11,5424,null,null,null,null,0,111]
[11,5549,11,5575,11,5623,null,null,null,null,0,111]
[11,5799,11,5815,11,5834,null,null,null,null,0,111]
[11,6057,11,6082,11,6100,null,null,null,null,0,111]
[11,6264,11,6282,11,6299,null,null,null,null,0,111]
[11,6404,11,6425,11,6443,null,null,null,null,0,111]
[11,6557,11,6579,11,6596,null,null,null,null,0,111]
[11,6811,11,6825,11,6836,null,null,null,null,0,111]
[11,7062,11,7075,11,7097,null,null,null,null,0,111]
[11,7263,11,7280,11,7304,null,null,null,null,0,111]
[11,7464,11,7480,11,7528,null,null,null,null,0,111]
[11,7791,11,7806,11,7820,null,null,null,null,0,111]
[11,7924,11,7928,11,7940,null,null,null,null,0,111]
[11,8052,11,8063,11,8103,null,null,null,null,0,111]
[11,8306,11,8326,11,8343,null,null,null,null,0,111]
[11,8466,11,8483,11,8501,null,null,null,null,0,111]
[11,8636,11,8662,11,8708,null,null,null,null,1,111]

{"sheet":"!N213A3B.AXT","index":24,"n_rows":48,"n_cols":48,"rows_kept":48,"cut":false,"hidden":false,"merged":[[4,39,4,42],[5,39,5,40],[4,44,4,47],[5,44,5,45],[4,24,4,27],[5,24,5,25],[4,29,4,32],[5,29,5,30],[4,34,4,37],[5,34,5,35],[1,1,1,2],[5,13,5,14],[18,13,18,14],[19,13,19,14],[4,19,4,22],[5,19,5,20]]}
["Report for:!N213A3B.AXT"]
["Date:","<date>"]
["Hen:","<hen>",null,null,null,"Correct Sequence",{"$f":"Start!J2","v":111},null,null,null,null,null,null,null,null,"Total Sequences in Data",{"$f":"4994-COUNTBLANK(L7:L5000)","v":42},null,null,null,null,"Total Sequences in Block Data",{"$f":"COUNTA(L7:L13)","v":7},null,null,null,"Total Sequences in Block Data",{"$f":"COUNTA(L14:L20)","v":7},null,null,null,"Total Sequences in Block Data",{"$f":"COUNTA(L21:L27)","v":7},null,null,null,"Total Sequences in Block Data",{"$f":"COUNTA(L28:L34)","v":7},null,null,null,"Total Sequences in Block Data",{"$f":"COUNTA(L35:L41)","v":7},null,null,null,"Total Sequences in Block Data",{"$f":"COUNTA(L42:L48)","v":7}]
[null,null,null,null,null,null,null,null,null,null,null,null,null,null,null,"Total Sequences in Summary",{"$f":"SUM(O7:O14)","v":42},null,null,null,null,"Total Sequences in Block Summary",{"$f":"SUM(U7:U14)","v":7},null,null,null,"Total Sequences in Block Summary",{"$f":"SUM(Z7:Z14)","v":7},null,null,null,"Total Sequences in Block Summary",{"$f":"SUM(AE7:AE14)","v":7},null,null,null,"Total Sequences in Block Summary",{"$f":"SUM(AJ7:AJ14)","v":7},null,null,null,"Total Sequences in Block Summary",{"$f":"SUM(AO7:AO14)","v":7},null,null,null,"Total Sequences in Block Summary",{"$f":"SUM(AT7:AT14)","v":7}]
[null,null,null,null,null,null,null,null,null,null,null,null,null,null,null,null,null,null,null,"Block 1",null,null,null,null,"Block 2",null,null,null,null,"Block 3",null,null,null,null,"Block 4",null,null,null,null,"Block 5",null,null,null,null,"Block 6"]
["Sequence\nComponent\n1","Time\n1","Sequence\nComponent\n2","Time\n2","Sequence\nComponent\n3","Time\n3","Sequence\nComponent\n4","Time\n4","Sequence\nComponent\n5","Time\n5","Correct?\n0=No 1=Yes","Sequence",null,"Frequency",null,"Relative Frequency","Variability",null,null,"Frequency",null,"Relative Frequency","Variability",null,"Frequency",null,"Relative Frequency","Variability",null,"Frequency",null,"Relative Frequency","Variability",null,"Frequency",null,"Relative Frequency","Variability",null,"Frequency",null,"Relative Frequency","Variability",null,"Frequency",null,"Relative Frequency","Variability"]
[11,5,11,22,22,33,null,null,null,null,0,112,null,111,{"$f":"COUNTIF($L$7:$L$500,N7)","v":40},{"$f":"O7/$Q$4","v":0.95238095238095233},{"$f":"IF(P7=0,0,(P7*((LOG(P7))/LOG(2))))","v":-6.7037455134664775E-2},null,null,{"$f":"N7","v":111},{"$f":"COUNTIF(L7:L13,T7)","v":6},null,null,null,{"$f":"N7","v":111},{"$f":"COUNTIF(L14:L20,Y7)","v":7},null,null,null,{"$f":"N7","v":111},{"$f":"COUNTIF(L21:L27,AD7)","v":6},null,null,null,{"$f":"N7","v":111},{"$f":"COUNTIF(L28:L34,AI7)","v":7},null,null,null,{"$f":"N7","v":111},{"$f":"COUNTIF(L35:L41,AN7)","v":7},null,null,null,{"$f":"N7","v":111},{"$f":"COUNTIF(L42:L48,AS7)","v":7}]
[11,128,11,131,11,141,null,null,null,null,0,111,null,112,{"$f":"COUNTIF($L$7:$L$500,N8)","v":1},{"$f":"O8/$Q$4","v":2.3809523809523808E-2},{"$f":"IF(P8=0,0,(P8*((LOG(P8))/LOG(2))))","v":-0.12838851006616095},null,null,{"$f":"N8","v":112},{"$f":"COUNTIF(L7:L13,T8)","v":1},{"$f":"U8/(W4-U7)","v":1},{"$f":"IF(V8=0,0,(V8*((LOG(V8))/LOG(2))))","v":0},null,{"$f":"N8","v":112},{"$f":"COUNTIF(L14:L20,Y8)","v":0},{"$f":"Z8/(AB4-Z7)","v":{"$error":"#DIV/0!"}},{"$f":"IF(AA8=0,0,(AA8*((LOG(AA8))/LOG(2))))","v":{"$error":"#DIV/0!"}},null,{"$f":"N8","v":112},{"$f":"COUNTIF(L21:L27,AD8)","v":0},{"$f":"AE8/(AG4-AE7)","v":0},{"$f":"IF(AF8=0,0,(AF8*((LOG(AF8))/LOG(2))))","v":0},null,{"$f":"N8","v":112},{"$f":"COUNTIF(L28:L34,AI8)","v":0},{"$f":"AJ8/(AL4-AJ7)","v":{"$error":"#DIV/0!"}},{"$f":"IF(AK8=0,0,(AK8*((LOG(AK8))/LOG(2))))","v":{"$error":"#DIV/0!"}},null,{"$f":"N8","v":112},{"$f":"COUNTIF(L35:L41,AN8)","v":0},{"$f":"AO8/(AQ4-AO7)","v":{"$error":"#DIV/0!"}},{"$f":"IF(AP8=0,0,(AP8*((LOG(AP8))/LOG(2))))","v":{"$error":"#DIV/0!"}},null,{"$f":"N8","v":112},{"$f":"COUNTIF(L42:L48,AS8)","v":0},{"$f":"AT8/(AV4-AT7)","v":{"$error":"#DIV/0!"}},{"$f":"IF(AU8=0,0,(AU8*((LOG(AU8))/LOG(2))))","v":{"$error":"#DIV/0!"}}]
[11,254,11,266,11,283,null,null,null,null,0,111,null,121,{"$f":"COUNTIF($L$7:$L$500,N9)","v":0},{"$f":"O9/$Q$4","v":0},{"$f":"IF(P9=0,0,(P9*((LOG(P9))/LOG(2))))","v":0},null,null,{"$f":"N9","v":121},{"$f":"COUNTIF(L7:L13,T9)","v":0},{"$f":"U9/(W4-U7)","v":0},{"$f":"IF(V9=0,0,(V9*((LOG(V9))/LOG(2))))","v":0},null,{"$f":"N9","v":121},{"$f":"COUNTIF(L14:L20,Y9)","v":0},{"$f":"Z9/(AB4-Z7)","v":{"$error":"#DIV/0!"}},{"$f":"IF(AA9=0,0,(AA9*((LOG(AA9))/LOG(2))))","v":{"$error":"#DIV/0!"}},null,{"$f":"N9","v":121},{"$f":"COUNTIF(L21:L27,AD9)","v":0},{"$f":"AE9/(AG4-AE7)","v":0},{"$f":"IF(AF9=0,0,(AF9*((LOG(AF9))/LOG(2))))","v":0},null,{"$f":"N9","v":121},{"$f":"COUNTIF(L28:L34,AI9)","v":0},{"$f":"AJ9/(AL4-AJ7)","v":{"$error":"#DIV/0!"}},{"$f":"IF(AK9=0,0,(AK9*((LOG(AK9))/LOG(2))))","v":{"$error":"#DIV/0!"}},null,{"$f":"N9","v":121},{"$f":"COUNTIF(L35:L41,AN9)","v":0},{"$f":"AO9/(AQ4-AO7)","v":{"$error":"#DIV/0!"}},{"$f":"IF(AP9=0,0,(AP9*((LOG(AP9))/LOG(2))))","v":{"$error":"#DIV/0!"}},null,{"$f":"N9","v":121},{"$f":"COUNTIF(L42:L48,AS9)","v":0},{"$f":"AT9/(AV4-AT7)","v":{"$error":"#DIV/0!"}},{"$f":"IF(AU9=0,0,(AU9*((LOG(AU9))/LOG(2))))","v":{"$error":"#DIV/0!"}}]
[11,513,11,538,11,550,null,null,null,null,0,111,null,122,{"$f":"COUNTIF($L$7:$L$500,N10)","v":0},{"$f":"O10/$Q$4","v":0},{"$f":"IF(P10=0,0,(P10*((LOG(P10))/LOG(2))))","v":0},null,null,{"$f":"N10","v":122},{"$f":"COUNTIF(L7:L13,T10)","v":0},{"$f":"U10/(W4-U7)","v":0},{"$f":"IF(V10=0,0,(V10*((LOG(V10))/LOG(2))))","v":0},null,{"$f":"N10","v":122},{"$f":"COUNTIF(L14:L20,Y10)","v":0},{"$f":"Z10/(AB4-Z7)","v":{"$error":"#DIV/0!"}},{"$f":"IF(AA10=0,0,(AA10*((LOG(AA10))/LOG(2))))","v":{"$error":"#DIV/0!"}},null,{"$f":"N10","v":122},{"$f":"COUNTIF(L21:L27,AD10)","v":0},{"$f":"AE10/(AG4-AE7)","v":0},{"$f":"IF(AF10=0,0,(AF10*((LOG(AF10))/LOG(2))))","v":0},null,{"$f":"N10","v":122},{"$f":"COUNTIF(L28:L34,AI10)","v":0},{"$f":"AJ10/(AL4-AJ7)","v":{"$error":"#DIV/0!"}},{"$f":"IF(AK10=0,0,(AK10*((LOG(AK10))/LOG(2))))","v":{"$error":"#DIV/0!"}},null,{"$f":"N10","v":122},{"$f":"COUNTIF(L35:L41,AN10)","v":0},{"$f":"AO10/(AQ4-AO7)","v":{"$error":"#DIV/0!"}},{"$f":"IF(AP10=0,0,(AP10*((LOG(AP10))/LOG(2))))","v":{"$error":"#DIV/0!"}},null,{"$f":"N10","v":122},{"$f":"COUNTIF(L42:L48,AS10)","v":0},{"$f":"AT10/(AV4-AT7)","v":{"$error":"#DIV/0!"}},{"$f":"IF(AU10=0,0,(AU10*((LOG(AU10))/LOG(2))))","v":{"$error":"#DIV/0!"}}]
[11,832,11,848,11,868,null,null,null,null,0,111,null,211,{"$f":"COUNTIF($L$7:$L$500,N11)","v":1},{"$f":"O11/$Q$4","v":2.3809523809523808E-2},{"$f":"IF(P11=0,0,(P11*((LOG(P11))/LOG(2))))","v":-0.12838851006616095},null,null,{"$f":"N11","v":211},{"$f":"COUNTIF(L7:L13,T11)","v":0},{"$f":"U11/(W4-U7)","v":0},{"$f":"IF(V11=0,0,(V11*((LOG(V11))/LOG(2))))","v":0},null,{"$f":"N11","v":211},{"$f":"COUNTIF(L14:L20,Y11)","v":0},{"$f":"Z11/(AB4-Z7)","v":{"$error":"#DIV/0!"}},{"$f":"IF(AA11=0,0,(AA11*((LOG(AA11))/LOG(2))))","v":{"$error":"#DIV/0!"}},null,{"$f":"N11","v":211},{"$f":"COUNTIF(L21:L27,AD11)","v":1},{"$f":"AE11/(AG4-AE7)","v":1},{"$f":"IF(AF11=0,0,(AF11*((LOG(AF11))/LOG(2))))","v":0},null,{"$f":"N11","v":211},{"$f":"COUNTIF(L28:L34,AI11)","v":0},{"$f":"AJ11/(AL4-AJ7)","v":{"$error":"#DIV/0!"}},{"$f":"IF(AK11=0,0,(AK11*((LOG(AK11))/LOG(2))))","v":{"$error":"#DIV/0!"}},null,{"$f":"N11","v":211},{"$f":"COUNTIF(L35:L41,AN11)","v":0},{"$f":"AO11/(AQ4-AO7)","v":{"$error":"#DIV/0!"}},{"$f":"IF(AP11=0,0,(AP11*((LOG(AP11))/LOG(2))))","v":{"$error":"#DIV/0!"}},null,{"$f":"N11","v":211},{"$f":"COUNTIF(L42:L48,AS11)","v":0},{"$f":"AT11/(AV4-AT7)","v":{"$error":"#DIV/0!"}},{"$f":"IF(AU11=0,0,(AU11*((LOG(AU11))/LOG(2))))","v":{"$error":"#DIV/0!"}}]
[11,1117,11,1133,11,1149,null,null,null,null,0,111,null,212,{"$f":"COUNTIF($L$7:$L$500,N12)","v":0},{"$f":"O12/$Q$4","v":0},{"$f":"IF(P12=0,0,(P12*((LOG(P12))/LOG(2))))","v":0},null,null,{"$f":"N12","v":212},{"$f":"COUNTIF(L7:L13,T12)","v":0},{"$f":"U12/(W4-U7)","v":0},{"$f":"IF(V12=0,0,(V12*((LOG(V12))/LOG(2))))","v":0},null,{"$f":"N12","v":212},{"$f":"COUNTIF(L14:L20,Y12)","v":0},{"$f":"Z12/(AB4-Z7)","v":{"$error":"#DIV/0!"}},{"$f":"IF(AA12=0,0,(AA12*((LOG(AA12))/LOG(2))))","v":{"$error":"#DIV/0!"}},null,{"$f":"N12","v":212},{"$f":"COUNTIF(L21:L27,AD12)","v":0},{"$f":"AE12/(AG4-AE7)","v":0},{"$f":"IF(AF12=0,0,(AF12*((LOG(AF12))/LOG(2))))","v":0},null,{"$f":"N12","v":212},{"$f":"COUNTIF(L28:L34,AI12)","v":0},{"$f":"AJ12/(AL4-AJ7)","v":{"$error":"#DIV/0!"}},{"$f":"IF(AK12=0,0,(AK12*((LOG(AK12))/LOG(2))))","v":{"$error":"#DIV/0!"}},null,{"$f":"N12","v":212},{"$f":"COUNTIF(L35:L41,AN12)","v":0},{"$f":"AO12/(AQ4-AO7)","v":{"$error":"#DIV/0!"}},{"$f":"IF(AP12=0,0,(AP12*((LOG(AP12))/LOG(2))))","v":{"$error":"#DIV/0!"}},null,{"$f":"N12","v":212},{"$f":"COUNTIF(L42:L48,AS12)","v":0},{"$f":"AT12/(AV4-AT7)","v":{"$error":"#DIV/0!"}},{"$f":"IF(AU12=0,0,(AU12*((LOG(AU12))/LOG(2))))","v":{"$error":"#DIV/0!"}}]
[11,1272,11,1286,11,1316,null,null,null,null,0,111,null,221,{"$f":"COUNTIF($L$7:$L$500,N13)","v":0},{"$f":"O13/$Q$4","v":0},{"$f":"IF(P13=0,0,(P13*((LOG(P13))/LOG(2))))","v":0},null,null,{"$f":"N13","v":221},{"$f":"COUNTIF(L7:L13,T13)","v":0},{"$f":"U13/(W4-U7)","v":0},{"$f":"IF(V13=0,0,(V13*((LOG(V13))/LOG(2))))","v":0},null,{"$f":"N13","v":221},{"$f":"COUNTIF(L14:L20,Y13)","v":0},{"$f":"Z13/(AB4-Z7)","v":{"$error":"#DIV/0!"}},{"$f":"IF(AA13=0,0,(AA13*((LOG(AA13))/LOG(2))))","v":{"$error":"#DIV/0!"}},null,{"$f":"N13","v":221},{"$f":"COUNTIF(L21:L27,AD13)","v":0},{"$f":"AE13/(AG4-AE7)","v":0},{"$f":"IF(AF13=0,0,(AF13*((LOG(AF13))/LOG(2))))","v":0},null,{"$f":"N13","v":221},{"$f":"COUNTIF(L28:L34,AI13)","v":0},{"$f":"AJ13/(AL4-AJ7)","v":{"$error":"#DIV/0!"}},{"$f":"IF(AK13=0,0,(AK13*((LOG(AK13))/LOG(2))))","v":{"$error":"#DIV/0!"}},null,{"$f":"N13","v":221},{"$f":"COUNTIF(L35:L41,AN13)","v":0},{"$f":"AO13/(AQ4-AO7)","v":{"$error":"#DIV/0!"}},{"$f":"IF(AP13=0,0,(AP13*((LOG(AP13))/LOG(2))))","v":{"$error":"#DIV/0!"}},null,{"$f":"N13","v":221},{"$f":"COUNTIF(L42:L48,AS13)","v":0},{"$f":"AT13/(AV4-AT7)","v":{"$error":"#DIV/0!"}},{"$f":"IF(AU13=0,0,(AU13*((LOG(AU13))/LOG(2))))","v":{"$error":"#DIV/0!"}}]
[11,1416,11,1437,11,1459,null,null,null,null,0,111,null,222,{"$f":"COUNTIF($L$7:$L$500,N14)","v":0},{"$f":"O14/$Q$4","v":0},{"$f":"IF(P14=0,0,(P14*((LOG(P14))/LOG(2))))","v":0},null,null,{"$f":"N14","v":222},{"$f":"COUNTIF(L7:L13,T14)","v":0},{"$f":"U14/(W4-U7)","v":0},{"$f":"IF(V14=0,0,(V14*((LOG(V14))/LOG(2))))","v":0},null,{"$f":"N14","v":222},{"$f":"COUNTIF(L14:L20,Y14)","v":0},{"$f":"Z14/(AB4-Z7)","v":{"$error":"#DIV/0!"}},{"$f":"IF(AA14=0,0,(AA14*((LOG(AA14))/LOG(2))))","v":{"$error":"#DIV/0!"}},null,{"$f":"N14","v":222},{"$f":"COUNTIF(L21:L27,AD14)","v":0},{"$f":"AE14/(AG4-AE7)","v":0},{"$f":"IF(AF14=0,0,(AF14*((LOG(AF14))/LOG(2))))","v":0},null,{"$f":"N14","v":222},{"$f":"COUNTIF(L28:L34,AI14)","v":0},{"$f":"AJ14/(AL4-AJ7)","v":{"$error":"#DIV/0!"}},{"$f":"IF(AK14=0,0,(AK14*((LOG(AK14))/LOG(2))))","v":{"$error":"#DIV/0!"}},null,{"$f":"N14","v":222},{"$f":"COUNTIF(L35:L41,AN14)","v":0},{"$f":"AO14/(AQ4-AO7)","v":{"$error":"#DIV/0!"}},{"$f":"IF(AP14=0,0,(AP14*((LOG(AP14))/LOG(2))))","v":{"$error":"#DIV/0!"}},null,{"$f":"N14","v":222},{"$f":"COUNTIF(L42:L48,AS14)","v":0},{"$f":"AT14/(AV4-AT7)","v":{"$error":"#DIV/0!"}},{"$f":"IF(AU14=0,0,(AU14*((LOG(AU14))/LOG(2))))","v":{"$error":"#DIV/0!"}}]
[11,1601,11,1620,11,1639,null,null,null,null,0,111,null,null,null,{"$f":"SUM(P7:P14)","v":1},{"$f":"-SUM(Q7:Q14)","v":0.3238144752669867},null,null,null,null,{"$f":"SUM(V7:V14)","v":1},{"$f":"-SUM(W7:W14)","v":0},null,null,null,{"$f":"SUM(AA7:AA14)","v":{"$error":"#DIV/0!"}},{"$f":"-SUM(AB7:AB14)","v":{"$error":"#DIV/0!"}},null,null,null,{"$f":"SUM(AF7:AF14)","v":1},{"$f":"-SUM(AG7:AG14)","v":0},null,null,null,{"$f":"SUM(AK7:AK14)","v":{"$error":"#DIV/0!"}},{"$f":"-SUM(AL7:AL14)","v":{"$error":"#DIV/0!"}},null,null,null,{"$f":"SUM(AP7:AP14)","v":{"$error":"#DIV/0!"}},{"$f":"-SUM(AQ7:AQ14)","v":{"$error":"#DIV/0!"}},null,null,null,{"$f":"SUM(AU7:AU14)","v":{"$error":"#DIV/0!"}},{"$f":"-SUM(AV7:AV14)","v":{"$error":"#DIV/0!"}}]
[11,1939,11,1956,11,1979,null,null,null,null,0,111,null,null,null,"U=",{"$f":"Q15/(LOG(Q4)/LOG(2))","v":6.0051078206022804E-2},null,null,null,null,"U1=",{"$f":"W15/(LOG(W4)/LOG(2))","v":0},null,null,null,"U2=",{"$f":"AB15/(LOG(AB4)/LOG(2))","v":{"$error":"#DIV/0!"}},null,null,null,"U3=",{"$f":"AG15/(LOG(AG4)/LOG(2))","v":0},null,null,null,"U4=",{"$f":"AL15/(LOG(AL4)/LOG(2))","v":{"$error":"#DIV/0!"}},null,null,null,"U5=",{"$f":"AQ15/(LOG(AQ4)/LOG(2))","v":{"$error":"#DIV/0!"}},null,null,null,"U6=",{"$f":"AV15/(LOG(AV4)/LOG(2))","v":{"$error":"#DIV/0!"}}]
[11,2072,11,2093,11,2112,null,null,null,null,0,111]
[11,2387,11,2400,11,2416,null,null,null,null,0,111]
[11,2584,11,2598,11,2614,null,null,null,null,0,111,null,"Total Target Seq"]
[11,2741,11,2759,11,2776,null,null,null,null,0,111,null,{"$f":"COUNTIF(L7:L48,G3)","v":40},null,7,7,7,7,7,7]
[11,2990,11,3001,11,3015,null,null,null,null,0,111,null,null,null,"% of reinforcement given in 6 equal intervals based on number of trials "]
[11,3131,11,3143,11,3159,null,null,null,null,0,111,null,null,null,"%_1","%_2","%_3","%_4","%_5","%_6"]
[11,3358,11,3374,11,3392,null,null,null,null,0,111,null,null,"target sequence",{"$f":"$G$3","v":111},{"$f":"$G$3","v":111},{"$f":"$G$3","v":111},{"$f":"$G$3","v":111},{"$f":"$G$3","v":111},{"$f":"$G$3","v":111}]
[22,3544,13,3565,13,3577,null,null,null,null,0,211,null,null,"total reinforcement",{"$f":"U7","v":6},{"$f":"Z7","v":7},{"$f":"AE7","v":6},{"$f":"AJ7","v":7},{"$f":"AO7","v":7},{"$f":"AT7","v":7}]
[11,3801,11,3816,11,3833,null,null,null,null,0,111,null,null,"% target"]
[11,3978,11,3993,11,4010,null,null,null,null,0,111,null,null,"CCRF"]
[11,4239,11,4255,11,4271,null,null,null,null,0,111,null,null,"% CCRf"]
[11,4438,11,4456,11,4472,null,null,null,null,0,111,null,null,"average response rate",{"$f":"F13/P20","v":188},{"$f":"(F20-F13)/Q20","v":208.57142857142858},{"$f":"(F27-F20)/R20","v":213.57142857142858},{"$f":"(F34-F27)/S20","v":254.71428571428572},{"$f":"(F41-F34)/T20","v":242.85714285714286},{"$f":"(F48-F41)/U20","v":223.42857142857142}]
[11,4661,11,4677,11,4692,null,null,null,null,0,111]
[11,4877,11,4893,11,4907,null,null,null,null,0,111]
[11,5042,11,5101,11,5114,null,null,null,null,0,111]
[11,5452,11,5466,11,5477,null,null,null,null,0,111]
[11,5759,11,5770,11,5783,null,null,null,null,0,111]
[11,6017,11,6035,11,6054,null,null,null,null,0,111]
[11,6232,11,6249,11,6265,null,null,null,null,0,111]
[11,6473,11,6491,11,6508,null,null,null,null,0,111]
[11,6770,11,6785,11,6805,null,null,null,null,0,111]
[11,7027,11,7041,11,7055,null,null,null,null,0,111]
[11,7182,11,7198,11,7214,null,null,null,null,0,111]
[11,7402,11,7429,11,7446,null,null,null,null,0,111]
[11,7726,11,7739,11,7754,null,null,null,null,0,111]
[11,7951,11,7982,11,8002,null,null,null,null,0,111]
[11,8149,11,8169,11,8201,null,null,null,null,0,111]
[11,8356,11,8369,11,8386,null,null,null,null,0,111]
[11,8604,11,8629,11,8648,null,null,null,null,0,111]
[11,8771,11,8786,11,8803,null,null,null,null,0,111]
[11,9020,11,9033,11,9056,null,null,null,null,0,111]
[11,9294,11,9305,11,9318,null,null,null,null,1,111]

{"sheet":"!N21491B.AXT","index":25,"n_rows":49,"n_cols":48,"rows_kept":49,"cut":false,"hidden":false,"merged":[[4,39,4,42],[5,39,5,40],[4,44,4,47],[5,44,5,45],[4,24,4,27],[5,24,5,25],[4,29,4,32],[5,29,5,30],[4,34,4,37],[5,34,5,35],[1,1,1,2],[5,13,5,14],[18,13,18,14],[19,13,19,14],[4,19,4,22],[5,19,5,20]]}
["Report for:!N21491B.AXT"]
["Date:","<date>"]
["Hen:","<hen>",null,null,null,"Correct Sequence",{"$f":"Start!J2","v":111},null,null,null,null,null,null,null,null,"Total Sequences in Data",{"$f":"4994-COUNTBLANK(L7:L5000)","v":43},null,null,null,null,"Total Sequences in Block Data",{"$f":"COUNTA(L7:L13)","v":7},null,null,null,"Total Sequences in Block Data",{"$f":"COUNTA(L14:L20)","v":7},null,null,null,"Total Sequences in Block Data",{"$f":"COUNTA(L21:L28)","v":8},null,null,null,"Total Sequences in Block Data",{"$f":"COUNTA(L29:L35)","v":7},null,null,null,"Total Sequences in Block Data",{"$f":"COUNTA(L36:L42)","v":7},null,null,null,"Total Sequences in Block Data",{"$f":"COUNTA(L43:L49)","v":7}]
[null,null,null,null,null,null,null,null,null,null,null,null,null,null,null,"Total Sequences in Summary",{"$f":"SUM(O7:O14)","v":43},null,null,null,null,"Total Sequences in Block Summary",{"$f":"SUM(U7:U14)","v":7},null,null,null,"Total Sequences in Block Summary",{"$f":"SUM(Z7:Z14)","v":7},null,null,null,"Total Sequences in Block Summary",{"$f":"SUM(AE7:AE14)","v":8},null,null,null,"Total Sequences in Block Summary",{"$f":"SUM(AJ7:AJ14)","v":7},null,null,null,"Total Sequences in Block Summary",{"$f":"SUM(AO7:AO14)","v":7},null,null,null,"Total Sequences in Block Summary",{"$f":"SUM(AT7:AT14)","v":7}]
[null,null,null,null,null,null,null,null,null,null,null,null,null,null,null,null,null,null,null,"Block 1",null,null,null,null,"Block 2",null,null,null,null,"Block 3",null,null,null,null,"Block 4",null,null,null,null,"Block 5",null,null,null,null,"Block 6"]
["Sequence\nComponent\n1","Time\n1","Sequence\nComponent\n2","Time\n2","Sequence\nComponent\n3","Time\n3","Sequence\nComponent\n4","Time\n4","Sequence\nComponent\n5","Time\n5","Correct?\n0=No 1=Yes","Sequence",null,"Frequency",null,"Relative Frequency","Variability",null,null,"Frequency",null,"Relative Frequency","Variability",null,"Frequency",null,"Relative Frequency","Variability",null,"Frequency",null,"Relative Frequency","Variability",null,"Frequency",null,"Relative Frequency","Variability",null,"Frequency",null,"Relative Frequency","Variability",null,"Frequency",null,"Relative Frequency","Variability"]
[11,14,22,18,13,25,null,null,null,null,0,121,null,111,{"$f":"COUNTIF($L$7:$L$500,N7)","v":40},{"$f":"O7/$Q$4","v":0.93023255813953487},{"$f":"IF(P7=0,0,(P7*((LOG(P7))/LOG(2))))","v":-9.7057357967195917E-2},null,null,{"$f":"N7","v":111},{"$f":"COUNTIF(L7:L13,T7)","v":5},null,null,null,{"$f":"N7","v":111},{"$f":"COUNTIF(L14:L20,Y7)","v":7},null,null,null,{"$f":"N7","v":111},{"$f":"COUNTIF(L21:L28,AD7)","v":8},null,null,null,{"$f":"N7","v":111},{"$f":"COUNTIF(L29:L35,AI7)","v":7},null,null,null,{"$f":"N7","v":111},{"$f":"COUNTIF(L36:L42,AN7)","v":7},null,null,null,{"$f":"N7","v":111},{"$f":"COUNTIF(L43:L49,AS7)","v":6}]
[11,124,11,171,22,197,null,null,null,null,0,112,null,112,{"$f":"COUNTIF($L$7:$L$500,N8)","v":1},{"$f":"O8/$Q$4","v":2.3255813953488372E-2},{"$f":"IF(P8=0,0,(P8*((LOG(P8))/LOG(2))))","v":-0.12619220359772321},null,null,{"$f":"N8","v":112},{"$f":"COUNTIF(L7:L13,T8)","v":1},{"$f":"U8/(W4-U7)","v":0.5},{"$f":"IF(V8=0,0,(V8*((LOG(V8))/LOG(2))))","v":-0.5},null,{"$f":"N8","v":112},{"$f":"COUNTIF(L14:L20,Y8)","v":0},{"$f":"Z8/(AB4-Z7)","v":{"$error":"#DIV/0!"}},{"$f":"IF(AA8=0,0,(AA8*((LOG(AA8))/LOG(2))))","v":{"$error":"#DIV/0!"}},null,{"$f":"N8","v":112},{"$f":"COUNTIF(L21:L28,AD8)","v":0},{"$f":"AE8/(AG4-AE7)","v":{"$error":"#DIV/0!"}},{"$f":"IF(AF8=0,0,(AF8*((LOG(AF8))/LOG(2))))","v":{"$error":"#DIV/0!"}},null,{"$f":"N8","v":112},{"$f":"COUNTIF(L29:L35,AI8)","v":0},{"$f":"AJ8/(AL4-AJ7)","v":{"$error":"#DIV/0!"}},{"$f":"IF(AK8=0,0,(AK8*((LOG(AK8))/LOG(2))))","v":{"$error":"#DIV/0!"}},null,{"$f":"N8","v":112},{"$f":"COUNTIF(L36:L42,AN8)","v":0},{"$f":"AO8/(AQ4-AO7)","v":{"$error":"#DIV/0!"}},{"$f":"IF(AP8=0,0,(AP8*((LOG(AP8))/LOG(2))))","v":{"$error":"#DIV/0!"}},null,{"$f":"N8","v":112},{"$f":"COUNTIF(L43:L49,AS8)","v":0},{"$f":"AT8/(AV4-AT7)","v":0},{"$f":"IF(AU8=0,0,(AU8*((LOG(AU8))/LOG(2))))","v":0}]
[11,325,11,334,11,346,null,null,null,null,0,111,null,121,{"$f":"COUNTIF($L$7:$L$500,N9)","v":1},{"$f":"O9/$Q$4","v":2.3255813953488372E-2},{"$f":"IF(P9=0,0,(P9*((LOG(P9))/LOG(2))))","v":-0.12619220359772321},null,null,{"$f":"N9","v":121},{"$f":"COUNTIF(L7:L13,T9)","v":1},{"$f":"U9/(W4-U7)","v":0.5},{"$f":"IF(V9=0,0,(V9*((LOG(V9))/LOG(2))))","v":-0.5},null,{"$f":"N9","v":121},{"$f":"COUNTIF(L14:L20,Y9)","v":0},{"$f":"Z9/(AB4-Z7)","v":{"$error":"#DIV/0!"}},{"$f":"IF(AA9=0,0,(AA9*((LOG(AA9))/LOG(2))))","v":{"$error":"#DIV/0!"}},null,{"$f":"N9","v":121},{"$f":"COUNTIF(L21:L28,AD9)","v":0},{"$f":"AE9/(AG4-AE7)","v":{"$error":"#DIV/0!"}},{"$f":"IF(AF9=0,0,(AF9*((LOG(AF9))/LOG(2))))","v":{"$error":"#DIV/0!"}},null,{"$f":"N9","v":121},{"$f":"COUNTIF(L29:L35,AI9)","v":0},{"$f":"AJ9/(AL4-AJ7)","v":{"$error":"#DIV/0!"}},{"$f":"IF(AK9=0,0,(AK9*((LOG(AK9))/LOG(2))))","v":{"$error":"#DIV/0!"}},null,{"$f":"N9","v":121},{"$f":"COUNTIF(L36:L42,AN9)","v":0},{"$f":"AO9/(AQ4-AO7)","v":{"$error":"#DIV/0!"}},{"$f":"IF(AP9=0,0,(AP9*((LOG(AP9))/LOG(2))))","v":{"$error":"#DIV/0!"}},null,{"$f":"N9","v":121},{"$f":"COUNTIF(L43:L49,AS9)","v":0},{"$f":"AT9/(AV4-AT7)","v":0},{"$f":"IF(AU9=0,0,(AU9*((LOG(AU9))/LOG(2))))","v":0}]
[11,499,11,523,11,543,null,null,null,null,0,111,null,122,{"$f":"COUNTIF($L$7:$L$500,N10)","v":0},{"$f":"O10/$Q$4","v":0},{"$f":"IF(P10=0,0,(P10*((LOG(P10))/LOG(2))))","v":0},null,null,{"$f":"N10","v":122},{"$f":"COUNTIF(L7:L13,T10)","v":0},{"$f":"U10/(W4-U7)","v":0},{"$f":"IF(V10=0,0,(V10*((LOG(V10))/LOG(2))))","v":0},null,{"$f":"N10","v":122},{"$f":"COUNTIF(L14:L20,Y10)","v":0},{"$f":"Z10/(AB4-Z7)","v":{"$error":"#DIV/0!"}},{"$f":"IF(AA10=0,0,(AA10*((LOG(AA10))/LOG(2))))","v":{"$error":"#DIV/0!"}},null,{"$f":"N10","v":122},{"$f":"COUNTIF(L21:L28,AD10)","v":0},{"$f":"AE10/(AG4-AE7)","v":{"$error":"#DIV/0!"}},{"$f":"IF(AF10=0,0,(AF10*((LOG(AF10))/LOG(2))))","v":{"$error":"#DIV/0!"}},null,{"$f":"N10","v":122},{"$f":"COUNTIF(L29:L35,AI10)","v":0},{"$f":"AJ10/(AL4-AJ7)","v":{"$error":"#DIV/0!"}},{"$f":"IF(AK10=0,0,(AK10*((LOG(AK10))/LOG(2))))","v":{"$error":"#DIV/0!"}},null,{"$f":"N10","v":122},{"$f":"COUNTIF(L36:L42,AN10)","v":0},{"$f":"AO10/(AQ4-AO7)","v":{"$error":"#DIV/0!"}},{"$f":"IF(AP10=0,0,(AP10*((LOG(AP10))/LOG(2))))","v":{"$error":"#DIV/0!"}},null,{"$f":"N10","v":122},{"$f":"COUNTIF(L43:L49,AS10)","v":0},{"$f":"AT10/(AV4-AT7)","v":0},{"$f":"IF(AU10=0,0,(AU10*((LOG(AU10))/LOG(2))))","v":0}]
[11,653,11,679,11,694,null,null,null,null,0,111,null,211,{"$f":"COUNTIF($L$7:$L$500,N11)","v":1},{"$f":"O11/$Q$4","v":2.3255813953488372E-2},{"$f":"IF(P11=0,0,(P11*((LOG(P11))/LOG(2))))","v":-0.12619220359772321},null,null,{"$f":"N11","v":211},{"$f":"COUNTIF(L7:L13,T11)","v":0},{"$f":"U11/(W4-U7)","v":0},{"$f":"IF(V11=0,0,(V11*((LOG(V11))/LOG(2))))","v":0},null,{"$f":"N11","v":211},{"$f":"COUNTIF(L14:L20,Y11)","v":0},{"$f":"Z11/(AB4-Z7)","v":{"$error":"#DIV/0!"}},{"$f":"IF(AA11=0,0,(AA11*((LOG(AA11))/LOG(2))))","v":{"$error":"#DIV/0!"}},null,{"$f":"N11","v":211},{"$f":"COUNTIF(L21:L28,AD11)","v":0},{"$f":"AE11/(AG4-AE7)","v":{"$error":"#DIV/0!"}},{"$f":"IF(AF11=0,0,(AF11*((LOG(AF11))/LOG(2))))","v":{"$error":"#DIV/0!"}},null,{"$f":"N11","v":211},{"$f":"COUNTIF(L29:L35,AI11)","v":0},{"$f":"AJ11/(AL4-AJ7)","v":{"$error":"#DIV/0!"}},{"$f":"IF(AK11=0,0,(AK11*((LOG(AK11))/LOG(2))))","v":{"$error":"#DIV/0!"}},null,{"$f":"N11","v":211},{"$f":"COUNTIF(L36:L42,AN11)","v":0},{"$f":"AO11/(AQ4-AO7)","v":{"$error":"#DIV/0!"}},{"$f":"IF(AP11=0,0,(AP11*((LOG(AP11))/LOG(2))))","v":{"$error":"#DIV/0!"}},null,{"$f":"N11","v":211},{"$f":"COUNTIF(L43:L49,AS11)","v":1},{"$f":"AT11/(AV4-AT7)","v":1},{"$f":"IF(AU11=0,0,(AU11*((LOG(AU11))/LOG(2))))","v":0}]
[11,823,11,852,11,875,null,null,null,null,0,111,null,212,{"$f":"COUNTIF($L$7:$L$500,N12)","v":0},{"$f":"O12/$Q$4","v":0},{"$f":"IF(P12=0,0,(P12*((LOG(P12))/LOG(2))))","v":0},null,null,{"$f":"N12","v":212},{"$f":"COUNTIF(L7:L13,T12)","v":0},{"$f":"U12/(W4-U7)","v":0},{"$f":"IF(V12=0,0,(V12*((LOG(V12))/LOG(2))))","v":0},null,{"$f":"N12","v":212},{"$f":"COUNTIF(L14:L20,Y12)","v":0},{"$f":"Z12/(AB4-Z7)","v":{"$error":"#DIV/0!"}},{"$f":"IF(AA12=0,0,(AA12*((LOG(AA12))/LOG(2))))","v":{"$error":"#DIV/0!"}},null,{"$f":"N12","v":212},{"$f":"COUNTIF(L21:L28,AD12)","v":0},{"$f":"AE12/(AG4-AE7)","v":{"$error":"#DIV/0!"}},{"$f":"IF(AF12=0,0,(AF12*((LOG(AF12))/LOG(2))))","v":{"$error":"#DIV/0!"}},null,{"$f":"N12","v":212},{"$f":"COUNTIF(L29:L35,AI12)","v":0},{"$f":"AJ12/(AL4-AJ7)","v":{"$error":"#DIV/0!"}},{"$f":"IF(AK12=0,0,(AK12*((LOG(AK12))/LOG(2))))","v":{"$error":"#DIV/0!"}},null,{"$f":"N12","v":212},{"$f":"COUNTIF(L36:L42,AN12)","v":0},{"$f":"AO12/(AQ4-AO7)","v":{"$error":"#DIV/0!"}},{"$f":"IF(AP12=0,0,(AP12*((LOG(AP12))/LOG(2))))","v":{"$error":"#DIV/0!"}},null,{"$f":"N12","v":212},{"$f":"COUNTIF(L43:L49,AS12)","v":0},{"$f":"AT12/(AV4-AT7)","v":0},{"$f":"IF(AU12=0,0,(AU12*((LOG(AU12))/LOG(2))))","v":0}]
[11,1070,11,1105,11,1134,null,null,null,null,0,111,null,221,{"$f":"COUNTIF($L$7:$L$500,N13)","v":0},{"$f":"O13/$Q$4","v":0},{"$f":"IF(P13=0,0,(P13*((LOG(P13))/LOG(2))))","v":0},null,null,{"$f":"N13","v":221},{"$f":"COUNTIF(L7:L13,T13)","v":0},{"$f":"U13/(W4-U7)","v":0},{"$f":"IF(V13=0,0,(V13*((LOG(V13))/LOG(2))))","v":0},null,{"$f":"N13","v":221},{"$f":"COUNTIF(L14:L20,Y13)","v":0},{"$f":"Z13/(AB4-Z7)","v":{"$error":"#DIV/0!"}},{"$f":"IF(AA13=0,0,(AA13*((LOG(AA13))/LOG(2))))","v":{"$error":"#DIV/0!"}},null,{"$f":"N13","v":221},{"$f":"COUNTIF(L21:L28,AD13)","v":0},{"$f":"AE13/(AG4-AE7)","v":{"$error":"#DIV/0!"}},{"$f":"IF(AF13=0,0,(AF13*((LOG(AF13))/LOG(2))))","v":{"$error":"#DIV/0!"}},null,{"$f":"N13","v":221},{"$f":"COUNTIF(L29:L35,AI13)","v":0},{"$f":"AJ13/(AL4-AJ7)","v":{"$error":"#DIV/0!"}},{"$f":"IF(AK13=0,0,(AK13*((LOG(AK13))/LOG(2))))","v":{"$error":"#DIV/0!"}},null,{"$f":"N13","v":221},{"$f":"COUNTIF(L36:L42,AN13)","v":0},{"$f":"AO13/(AQ4-AO7)","v":{"$error":"#DIV/0!"}},{"$f":"IF(AP13=0,0,(AP13*((LOG(AP13))/LOG(2))))","v":{"$error":"#DIV/0!"}},null,{"$f":"N13","v":221},{"$f":"COUNTIF(L43:L49,AS13)","v":0},{"$f":"AT13/(AV4-AT7)","v":0},{"$f":"IF(AU13=0,0,(AU13*((LOG(AU13))/LOG(2))))","v":0}]
[11,1453,11,1471,11,1490,null,null,null,null,0,111,null,222,{"$f":"COUNTIF($L$7:$L$500,N14)","v":0},{"$f":"O14/$Q$4","v":0},{"$f":"IF(P14=0,0,(P14*((LOG(P14))/LOG(2))))","v":0},null,null,{"$f":"N14","v":222},{"$f":"COUNTIF(L7:L13,T14)","v":0},{"$f":"U14/(W4-U7)","v":0},{"$f":"IF(V14=0,0,(V14*((LOG(V14))/LOG(2))))","v":0},null,{"$f":"N14","v":222},{"$f":"COUNTIF(L14:L20,Y14)","v":0},{"$f":"Z14/(AB4-Z7)","v":{"$error":"#DIV/0!"}},{"$f":"IF(AA14=0,0,(AA14*((LOG(AA14))/LOG(2))))","v":{"$error":"#DIV/0!"}},null,{"$f":"N14","v":222},{"$f":"COUNTIF(L21:L28,AD14)","v":0},{"$f":"AE14/(AG4-AE7)","v":{"$error":"#DIV/0!"}},{"$f":"IF(AF14=0,0,(AF14*((LOG(AF14))/LOG(2))))","v":{"$error":"#DIV/0!"}},null,{"$f":"N14","v":222},{"$f":"COUNTIF(L29:L35,AI14)","v":0},{"$f":"AJ14/(AL4-AJ7)","v":{"$error":"#DIV/0!"}},{"$f":"IF(AK14=0,0,(AK14*((LOG(AK14))/LOG(2))))","v":{"$error":"#DIV/0!"}},null,{"$f":"N14","v":222},{"$f":"COUNTIF(L36:L42,AN14)","v":0},{"$f":"AO14/(AQ4-AO7)","v":{"$error":"#DIV/0!"}},{"$f":"IF(AP14=0,0,(AP14*((LOG(AP14))/LOG(2))))","v":{"$error":"#DIV/0!"}},null,{"$f":"N14","v":222},{"$f":"COUNTIF(L43:L49,AS14)","v":0},{"$f":"AT14/(AV4-AT7)","v":0},{"$f":"IF(AU14=0,0,(AU14*((LOG(AU14))/LOG(2))))","v":0}]
[11,2160,11,2165,11,2173,null,null,null,null,0,111,null,null,null,{"$f":"SUM(P7:P14)","v":1},{"$f":"-SUM(Q7:Q14)","v":0.47563396876036557},null,null,null,null,{"$f":"SUM(V7:V14)","v":1},{"$f":"-SUM(W7:W14)","v":1},null,null,null,{"$f":"SUM(AA7:AA14)","v":{"$error":"#DIV/0!"}},{"$f":"-SUM(AB7:AB14)","v":{"$error":"#DIV/0!"}},null,null,null,{"$f":"SUM(AF7:AF14)","v":{"$error":"#DIV/0!"}},{"$f":"-SUM(AG7:AG14)","v":{"$error":"#DIV/0!"}},null,null,null,{"$f":"SUM(AK7:AK14)","v":{"$error":"#DIV/0!"}},{"$f":"-SUM(AL7:AL14)","v":{"$error":"#DIV/0!"}},null,null,null,{"$f":"SUM(AP7:AP14)","v":{"$error":"#DIV/0!"}},{"$f":"-SUM(AQ7:AQ14)","v":{"$error":"#DIV/0!"}},null,null,null,{"$f":"SUM(AU7:AU14)","v":1},{"$f":"-SUM(AV7:AV14)","v":0}]
[11,2299,11,2335,11,2361,null,null,null,null,0,111,null,null,null,"U=",{"$f":"Q15/(LOG(Q4)/LOG(2))","v":8.7654029108735945E-2},null,null,null,null,"U1=",{"$f":"W15/(LOG(W4)/LOG(2))","v":0.35620718710802218},null,null,null,"U2=",{"$f":"AB15/(LOG(AB4)/LOG(2))","v":{"$error":"#DIV/0!"}},null,null,null,"U3=",{"$f":"AG15/(LOG(AG4)/LOG(2))","v":{"$error":"#DIV/0!"}},null,null,null,"U4=",{"$f":"AL15/(LOG(AL4)/LOG(2))","v":{"$error":"#DIV/0!"}},null,null,null,"U5=",{"$f":"AQ15/(LOG(AQ4)/LOG(2))","v":{"$error":"#DIV/0!"}},null,null,null,"U6=",{"$f":"AV15/(LOG(AV4)/LOG(2))","v":0}]
[11,2465,11,2488,11,2508,null,null,null,null,0,111]
[11,2782,11,2799,11,2815,null,null,null,null,0,111]
[11,3002,11,3018,11,3039,null,null,null,null,0,111,null,"Total Target Seq"]
[11,3228,11,3244,11,3262,null,null,null,null,0,111,null,{"$f":"COUNTIF(L7:L49,G3)","v":40},null,7,7,8,7,7,7]
[11,3393,11,3414,11,3432,null,null,null,null,0,111,null,null,null,"% of reinforcement given in 6 equal intervals based on number of trials "]
[11,3537,11,3553,11,3571,null,null,null,null,0,111,null,null,null,"%_1","%_2","%_3","%_4","%_5","%_6"]
[11,3986,11,3999,11,4015,null,null,null,null,0,111,null,null,"target sequence",{"$f":"$G$3","v":111},{"$f":"$G$3","v":111},{"$f":"$G$3","v":111},{"$f":"$G$3","v":111},{"$f":"$G$3","v":111},{"$f":"$G$3","v":111}]
[11,4128,11,4145,11,4164,null,null,null,null,0,111,null,null,"total reinforcement",{"$f":"U7","v":5},{"$f":"Z7","v":7},{"$f":"AE7","v":8},{"$f":"AJ7","v":7},{"$f":"AO7","v":7},{"$f":"AT7","v":6}]
[11,4265,11,4272,11,4282,null,null,null,null,0,111,null,null,"% target"]
[11,4511,11,4537,11,4555,null,null,null,null,0,111,null,null,"CCRF"]
[11,4786,11,4812,11,4825,null,null,null,null,0,111,null,null,"% CCRf"]
[11,5127,11,5141,11,5157,null,null,null,null,0,111,null,null,"average response rate",{"$f":"F13/P20","v":162},{"$f":"(F20-F13)/Q20","v":304},{"$f":"(F28-F20)/R20","v":236.875},{"$f":"(F35-F28)/S20","v":254.28571428571428},{"$f":"(F42-F35)/T20","v":199.85714285714286},{"$f":"(F49-F42)/U20","v":189.71428571428572}]
[11,5297,11,5312,11,5330,null,null,null,null,0,111]
[11,5506,11,5546,11,5564,null,null,null,null,0,111]
[11,5824,11,5839,11,5856,null,null,null,null,0,111]
[11,6103,11,6120,11,6136,null,null,null,null,0,111]
[11,6403,11,6420,11,6438,null,null,null,null,0,111]
[11,6611,11,6629,11,6660,null,null,null,null,0,111]
[11,6830,11,6849,11,6937,null,null,null,null,0,111]
[11,7047,11,7086,11,7102,null,null,null,null,0,111]
[11,7251,11,7273,11,7287,null,null,null,null,0,111]
[11,7438,11,7454,11,7476,null,null,null,null,0,111]
[11,7574,11,7602,11,7623,null,null,null,null,0,111]
[11,7769,11,7791,11,7800,null,null,null,null,0,111]
[11,7990,11,8002,11,8027,null,null,null,null,0,111]
[11,8241,11,8312,11,8336,null,null,null,null,0,111]
[11,8502,11,8533,11,8572,null,null,null,null,0,111]
[11,8757,11,8783,11,8793,null,null,null,null,0,111]
[11,8957,11,8974,11,8988,null,null,null,null,0,111]
[11,9104,11,9121,11,9163,null,null,null,null,0,111]
[11,9358,11,9370,11,9385,null,null,null,null,0,111]
[22,9510,13,9532,13,9546,null,null,null,null,0,211]
[11,9649,11,9656,11,9664,null,null,null,null,1,111]

{"sheet":"!N21592B.AXT","index":26,"n_rows":48,"n_cols":48,"rows_kept":48,"cut":false,"hidden":false,"merged":[[4,39,4,42],[5,39,5,40],[4,44,4,47],[5,44,5,45],[4,24,4,27],[5,24,5,25],[4,29,4,32],[5,29,5,30],[4,34,4,37],[5,34,5,35],[1,1,1,2],[5,13,5,14],[18,13,18,14],[19,13,19,14],[4,19,4,22],[5,19,5,20]]}
["Report for:!N21592B.AXT"]
["Date:","<date>"]
["Hen:","<hen>",null,null,null,"Correct Sequence",{"$f":"Start!J2","v":111},null,null,null,null,null,null,null,null,"Total Sequences in Data",{"$f":"4994-COUNTBLANK(L7:L5000)","v":42},null,null,null,null,"Total Sequences in Block Data",{"$f":"COUNTA(L7:L13)","v":7},null,null,null,"Total Sequences in Block Data",{"$f":"COUNTA(L14:L20)","v":7},null,null,null,"Total Sequences in Block Data",{"$f":"COUNTA(L21:L27)","v":7},null,null,null,"Total Sequences in Block Data",{"$f":"COUNTA(L28:L34)","v":7},null,null,null,"Total Sequences in Block Data",{"$f":"COUNTA(L35:L41)","v":7},null,null,null,"Total Sequences in Block Data",{"$f":"COUNTA(L42:L48)","v":7}]
[null,null,null,null,null,null,null,null,null,null,null,null,null,null,null,"Total Sequences in Summary",{"$f":"SUM(O7:O14)","v":42},null,null,null,null,"Total Sequences in Block Summary",{"$f":"SUM(U7:U14)","v":7},null,null,null,"Total Sequences in Block Summary",{"$f":"SUM(Z7:Z14)","v":7},null,null,null,"Total Sequences in Block Summary",{"$f":"SUM(AE7:AE14)","v":7},null,null,null,"Total Sequences in Block Summary",{"$f":"SUM(AJ7:AJ14)","v":7},null,null,null,"Total Sequences in Block Summary",{"$f":"SUM(AO7:AO14)","v":7},null,null,null,"Total Sequences in Block Summary",{"$f":"SUM(AT7:AT14)","v":7}]
[null,null,null,null,null,null,null,null,null,null,null,null,null,null,null,null,null,null,null,"Block 1",null,null,null,null,"Block 2",null,null,null,null,"Block 3",null,null,null,null,"Block 4",null,null,null,null,"Block 5",null,null,null,null,"Block 6"]
["Sequence\nComponent\n1","Time\n1","Sequence\nComponent\n2","Time\n2","Sequence\nComponent\n3","Time\n3","Sequence\nComponent\n4","Time\n4","Sequence\nComponent\n5","Time\n5","Correct?\n0=No 1=Yes","Sequence",null,"Frequency",null,"Relative Frequency","Variability",null,null,"Frequency",null,"Relative Frequency","Variability",null,"Frequency",null,"Relative Frequency","Variability",null,"Frequency",null,"Relative Frequency","Variability",null,"Frequency",null,"Relative Frequency","Variability",null,"Frequency",null,"Relative Frequency","Variability",null,"Frequency",null,"Relative Frequency","Variability"]
[22,190,13,203,13,210,null,null,null,null,0,211,null,111,{"$f":"COUNTIF($L$7:$L$500,N7)","v":39},{"$f":"O7/$Q$4","v":0.9285714285714286},{"$f":"IF(P7=0,0,(P7*((LOG(P7))/LOG(2))))","v":-9.9278403636761048E-2},null,null,{"$f":"N7","v":111},{"$f":"COUNTIF(L7:L13,T7)","v":5},null,null,null,{"$f":"N7","v":111},{"$f":"COUNTIF(L14:L20,Y7)","v":7},null,null,null,{"$f":"N7","v":111},{"$f":"COUNTIF(L21:L27,AD7)","v":7},null,null,null,{"$f":"N7","v":111},{"$f":"COUNTIF(L28:L34,AI7)","v":7},null,null,null,{"$f":"N7","v":111},{"$f":"COUNTIF(L35:L41,AN7)","v":6},null,null,null,{"$f":"N7","v":111},{"$f":"COUNTIF(L42:L48,AS7)","v":7}]
[11,313,22,325,13,331,null,null,null,null,0,121,null,112,{"$f":"COUNTIF($L$7:$L$500,N8)","v":1},{"$f":"O8/$Q$4","v":2.3809523809523808E-2},{"$f":"IF(P8=0,0,(P8*((LOG(P8))/LOG(2))))","v":-0.12838851006616095},null,null,{"$f":"N8","v":112},{"$f":"COUNTIF(L7:L13,T8)","v":0},{"$f":"U8/(W4-U7)","v":0},{"$f":"IF(V8=0,0,(V8*((LOG(V8))/LOG(2))))","v":0},null,{"$f":"N8","v":112},{"$f":"COUNTIF(L14:L20,Y8)","v":0},{"$f":"Z8/(AB4-Z7)","v":{"$error":"#DIV/0!"}},{"$f":"IF(AA8=0,0,(AA8*((LOG(AA8))/LOG(2))))","v":{"$error":"#DIV/0!"}},null,{"$f":"N8","v":112},{"$f":"COUNTIF(L21:L27,AD8)","v":0},{"$f":"AE8/(AG4-AE7)","v":{"$error":"#DIV/0!"}},{"$f":"IF(AF8=0,0,(AF8*((LOG(AF8))/LOG(2))))","v":{"$error":"#DIV/0!"}},null,{"$f":"N8","v":112},{"$f":"COUNTIF(L28:L34,AI8)","v":0},{"$f":"AJ8/(AL4-AJ7)","v":{"$error":"#DIV/0!"}},{"$f":"IF(AK8=0,0,(AK8*((LOG(AK8))/LOG(2))))","v":{"$error":"#DIV/0!"}},null,{"$f":"N8","v":112},{"$f":"COUNTIF(L35:L41,AN8)","v":1},{"$f":"AO8/(AQ4-AO7)","v":1},{"$f":"IF(AP8=0,0,(AP8*((LOG(AP8))/LOG(2))))","v":0},null,{"$f":"N8","v":112},{"$f":"COUNTIF(L42:L48,AS8)","v":0},{"$f":"AT8/(AV4-AT7)","v":{"$error":"#DIV/0!"}},{"$f":"IF(AU8=0,0,(AU8*((LOG(AU8))/LOG(2))))","v":{"$error":"#DIV/0!"}}]
[11,431,11,436,11,446,null,null,null,null,0,111,null,121,{"$f":"COUNTIF($L$7:$L$500,N9)","v":1},{"$f":"O9/$Q$4","v":2.3809523809523808E-2},{"$f":"IF(P9=0,0,(P9*((LOG(P9))/LOG(2))))","v":-0.12838851006616095},null,null,{"$f":"N9","v":121},{"$f":"COUNTIF(L7:L13,T9)","v":1},{"$f":"U9/(W4-U7)","v":0.5},{"$f":"IF(V9=0,0,(V9*((LOG(V9))/LOG(2))))","v":-0.5},null,{"$f":"N9","v":121},{"$f":"COUNTIF(L14:L20,Y9)","v":0},{"$f":"Z9/(AB4-Z7)","v":{"$error":"#DIV/0!"}},{"$f":"IF(AA9=0,0,(AA9*((LOG(AA9))/LOG(2))))","v":{"$error":"#DIV/0!"}},null,{"$f":"N9","v":121},{"$f":"COUNTIF(L21:L27,AD9)","v":0},{"$f":"AE9/(AG4-AE7)","v":{"$error":"#DIV/0!"}},{"$f":"IF(AF9=0,0,(AF9*((LOG(AF9))/LOG(2))))","v":{"$error":"#DIV/0!"}},null,{"$f":"N9","v":121},{"$f":"COUNTIF(L28:L34,AI9)","v":0},{"$f":"AJ9/(AL4-AJ7)","v":{"$error":"#DIV/0!"}},{"$f":"IF(AK9=0,0,(AK9*((LOG(AK9))/LOG(2))))","v":{"$error":"#DIV/0!"}},null,{"$f":"N9","v":121},{"$f":"COUNTIF(L35:L41,AN9)","v":0},{"$f":"AO9/(AQ4-AO7)","v":0},{"$f":"IF(AP9=0,0,(AP9*((LOG(AP9))/LOG(2))))","v":0},null,{"$f":"N9","v":121},{"$f":"COUNTIF(L42:L48,AS9)","v":0},{"$f":"AT9/(AV4-AT7)","v":{"$error":"#DIV/0!"}},{"$f":"IF(AU9=0,0,(AU9*((LOG(AU9))/LOG(2))))","v":{"$error":"#DIV/0!"}}]
[11,599,11,631,11,647,null,null,null,null,0,111,null,122,{"$f":"COUNTIF($L$7:$L$500,N10)","v":0},{"$f":"O10/$Q$4","v":0},{"$f":"IF(P10=0,0,(P10*((LOG(P10))/LOG(2))))","v":0},null,null,{"$f":"N10","v":122},{"$f":"COUNTIF(L7:L13,T10)","v":0},{"$f":"U10/(W4-U7)","v":0},{"$f":"IF(V10=0,0,(V10*((LOG(V10))/LOG(2))))","v":0},null,{"$f":"N10","v":122},{"$f":"COUNTIF(L14:L20,Y10)","v":0},{"$f":"Z10/(AB4-Z7)","v":{"$error":"#DIV/0!"}},{"$f":"IF(AA10=0,0,(AA10*((LOG(AA10))/LOG(2))))","v":{"$error":"#DIV/0!"}},null,{"$f":"N10","v":122},{"$f":"COUNTIF(L21:L27,AD10)","v":0},{"$f":"AE10/(AG4-AE7)","v":{"$error":"#DIV/0!"}},{"$f":"IF(AF10=0,0,(AF10*((LOG(AF10))/LOG(2))))","v":{"$error":"#DIV/0!"}},null,{"$f":"N10","v":122},{"$f":"COUNTIF(L28:L34,AI10)","v":0},{"$f":"AJ10/(AL4-AJ7)","v":{"$error":"#DIV/0!"}},{"$f":"IF(AK10=0,0,(AK10*((LOG(AK10))/LOG(2))))","v":{"$error":"#DIV/0!"}},null,{"$f":"N10","v":122},{"$f":"COUNTIF(L35:L41,AN10)","v":0},{"$f":"AO10/(AQ4-AO7)","v":0},{"$f":"IF(AP10=0,0,(AP10*((LOG(AP10))/LOG(2))))","v":0},null,{"$f":"N10","v":122},{"$f":"COUNTIF(L42:L48,AS10)","v":0},{"$f":"AT10/(AV4-AT7)","v":{"$error":"#DIV/0!"}},{"$f":"IF(AU10=0,0,(AU10*((LOG(AU10))/LOG(2))))","v":{"$error":"#DIV/0!"}}]
[11,791,11,809,11,829,null,null,null,null,0,111,null,211,{"$f":"COUNTIF($L$7:$L$500,N11)","v":1},{"$f":"O11/$Q$4","v":2.3809523809523808E-2},{"$f":"IF(P11=0,0,(P11*((LOG(P11))/LOG(2))))","v":-0.12838851006616095},null,null,{"$f":"N11","v":211},{"$f":"COUNTIF(L7:L13,T11)","v":1},{"$f":"U11/(W4-U7)","v":0.5},{"$f":"IF(V11=0,0,(V11*((LOG(V11))/LOG(2))))","v":-0.5},null,{"$f":"N11","v":211},{"$f":"COUNTIF(L14:L20,Y11)","v":0},{"$f":"Z11/(AB4-Z7)","v":{"$error":"#DIV/0!"}},{"$f":"IF(AA11=0,0,(AA11*((LOG(AA11))/LOG(2))))","v":{"$error":"#DIV/0!"}},null,{"$f":"N11","v":211},{"$f":"COUNTIF(L21:L27,AD11)","v":0},{"$f":"AE11/(AG4-AE7)","v":{"$error":"#DIV/0!"}},{"$f":"IF(AF11=0,0,(AF11*((LOG(AF11))/LOG(2))))","v":{"$error":"#DIV/0!"}},null,{"$f":"N11","v":211},{"$f":"COUNTIF(L28:L34,AI11)","v":0},{"$f":"AJ11/(AL4-AJ7)","v":{"$error":"#DIV/0!"}},{"$f":"IF(AK11=0,0,(AK11*((LOG(AK11))/LOG(2))))","v":{"$error":"#DIV/0!"}},null,{"$f":"N11","v":211},{"$f":"COUNTIF(L35:L41,AN11)","v":0},{"$f":"AO11/(AQ4-AO7)","v":0},{"$f":"IF(AP11=0,0,(AP11*((LOG(AP11))/LOG(2))))","v":0},null,{"$f":"N11","v":211},{"$f":"COUNTIF(L42:L48,AS11)","v":0},{"$f":"AT11/(AV4-AT7)","v":{"$error":"#DIV/0!"}},{"$f":"IF(AU11=0,0,(AU11*((LOG(AU11))/LOG(2))))","v":{"$error":"#DIV/0!"}}]
[11,1089,11,1106,11,1124,null,null,null,null,0,111,null,212,{"$f":"COUNTIF($L$7:$L$500,N12)","v":0},{"$f":"O12/$Q$4","v":0},{"$f":"IF(P12=0,0,(P12*((LOG(P12))/LOG(2))))","v":0},null,null,{"$f":"N12","v":212},{"$f":"COUNTIF(L7:L13,T12)","v":0},{"$f":"U12/(W4-U7)","v":0},{"$f":"IF(V12=0,0,(V12*((LOG(V12))/LOG(2))))","v":0},null,{"$f":"N12","v":212},{"$f":"COUNTIF(L14:L20,Y12)","v":0},{"$f":"Z12/(AB4-Z7)","v":{"$error":"#DIV/0!"}},{"$f":"IF(AA12=0,0,(AA12*((LOG(AA12))/LOG(2))))","v":{"$error":"#DIV/0!"}},null,{"$f":"N12","v":212},{"$f":"COUNTIF(L21:L27,AD12)","v":0},{"$f":"AE12/(AG4-AE7)","v":{"$error":"#DIV/0!"}},{"$f":"IF(AF12=0,0,(AF12*((LOG(AF12))/LOG(2))))","v":{"$error":"#DIV/0!"}},null,{"$f":"N12","v":212},{"$f":"COUNTIF(L28:L34,AI12)","v":0},{"$f":"AJ12/(AL4-AJ7)","v":{"$error":"#DIV/0!"}},{"$f":"IF(AK12=0,0,(AK12*((LOG(AK12))/LOG(2))))","v":{"$error":"#DIV/0!"}},null,{"$f":"N12","v":212},{"$f":"COUNTIF(L35:L41,AN12)","v":0},{"$f":"AO12/(AQ4-AO7)","v":0},{"$f":"IF(AP12=0,0,(AP12*((LOG(AP12))/LOG(2))))","v":0},null,{"$f":"N12","v":212},{"$f":"COUNTIF(L42:L48,AS12)","v":0},{"$f":"AT12/(AV4-AT7)","v":{"$error":"#DIV/0!"}},{"$f":"IF(AU12=0,0,(AU12*((LOG(AU12))/LOG(2))))","v":{"$error":"#DIV/0!"}}]
[11,1314,11,1329,11,1347,null,null,null,null,0,111,null,221,{"$f":"COUNTIF($L$7:$L$500,N13)","v":0},{"$f":"O13/$Q$4","v":0},{"$f":"IF(P13=0,0,(P13*((LOG(P13))/LOG(2))))","v":0},null,null,{"$f":"N13","v":221},{"$f":"COUNTIF(L7:L13,T13)","v":0},{"$f":"U13/(W4-U7)","v":0},{"$f":"IF(V13=0,0,(V13*((LOG(V13))/LOG(2))))","v":0},null,{"$f":"N13","v":221},{"$f":"COUNTIF(L14:L20,Y13)","v":0},{"$f":"Z13/(AB4-Z7)","v":{"$error":"#DIV/0!"}},{"$f":"IF(AA13=0,0,(AA13*((LOG(AA13))/LOG(2))))","v":{"$error":"#DIV/0!"}},null,{"$f":"N13","v":221},{"$f":"COUNTIF(L21:L27,AD13)","v":0},{"$f":"AE13/(AG4-AE7)","v":{"$error":"#DIV/0!"}},{"$f":"IF(AF13=0,0,(AF13*((LOG(AF13))/LOG(2))))","v":{"$error":"#DIV/0!"}},null,{"$f":"N13","v":221},{"$f":"COUNTIF(L28:L34,AI13)","v":0},{"$f":"AJ13/(AL4-AJ7)","v":{"$error":"#DIV/0!"}},{"$f":"IF(AK13=0,0,(AK13*((LOG(AK13))/LOG(2))))","v":{"$error":"#DIV/0!"}},null,{"$f":"N13","v":221},{"$f":"COUNTIF(L35:L41,AN13)","v":0},{"$f":"AO13/(AQ4-AO7)","v":0},{"$f":"IF(AP13=0,0,(AP13*((LOG(AP13))/LOG(2))))","v":0},null,{"$f":"N13","v":221},{"$f":"COUNTIF(L42:L48,AS13)","v":0},{"$f":"AT13/(AV4-AT7)","v":{"$error":"#DIV/0!"}},{"$f":"IF(AU13=0,0,(AU13*((LOG(AU13))/LOG(2))))","v":{"$error":"#DIV/0!"}}]
[11,1515,11,1533,11,1551,null,null,null,null,0,111,null,222,{"$f":"COUNTIF($L$7:$L$500,N14)","v":0},{"$f":"O14/$Q$4","v":0},{"$f":"IF(P14=0,0,(P14*((LOG(P14))/LOG(2))))","v":0},null,null,{"$f":"N14","v":222},{"$f":"COUNTIF(L7:L13,T14)","v":0},{"$f":"U14/(W4-U7)","v":0},{"$f":"IF(V14=0,0,(V14*((LOG(V14))/LOG(2))))","v":0},null,{"$f":"N14","v":222},{"$f":"COUNTIF(L14:L20,Y14)","v":0},{"$f":"Z14/(AB4-Z7)","v":{"$error":"#DIV/0!"}},{"$f":"IF(AA14=0,0,(AA14*((LOG(AA14))/LOG(2))))","v":{"$error":"#DIV/0!"}},null,{"$f":"N14","v":222},{"$f":"COUNTIF(L21:L27,AD14)","v":0},{"$f":"AE14/(AG4-AE7)","v":{"$error":"#DIV/0!"}},{"$f":"IF(AF14=0,0,(AF14*((LOG(AF14))/LOG(2))))","v":{"$error":"#DIV/0!"}},null,{"$f":"N14","v":222},{"$f":"COUNTIF(L28:L34,AI14)","v":0},{"$f":"AJ14/(AL4-AJ7)","v":{"$error":"#DIV/0!"}},{"$f":"IF(AK14=0,0,(AK14*((LOG(AK14))/LOG(2))))","v":{"$error":"#DIV/0!"}},null,{"$f":"N14","v":222},{"$f":"COUNTIF(L35:L41,AN14)","v":0},{"$f":"AO14/(AQ4-AO7)","v":0},{"$f":"IF(AP14=0,0,(AP14*((LOG(AP14))/LOG(2))))","v":0},null,{"$f":"N14","v":222},{"$f":"COUNTIF(L42:L48,AS14)","v":0},{"$f":"AT14/(AV4-AT7)","v":{"$error":"#DIV/0!"}},{"$f":"IF(AU14=0,0,(AU14*((LOG(AU14))/LOG(2))))","v":{"$error":"#DIV/0!"}}]
[11,1662,11,1681,11,1700,null,null,null,null,0,111,null,null,null,{"$f":"SUM(P7:P14)","v":1},{"$f":"-SUM(Q7:Q14)","v":0.48444393383524387},null,null,null,null,{"$f":"SUM(V7:V14)","v":1},{"$f":"-SUM(W7:W14)","v":1},null,null,null,{"$f":"SUM(AA7:AA14)","v":{"$error":"#DIV/0!"}},{"$f":"-SUM(AB7:AB14)","v":{"$error":"#DIV/0!"}},null,null,null,{"$f":"SUM(AF7:AF14)","v":{"$error":"#DIV/0!"}},{"$f":"-SUM(AG7:AG14)","v":{"$error":"#DIV/0!"}},null,null,null,{"$f":"SUM(AK7:AK14)","v":{"$error":"#DIV/0!"}},{"$f":"-SUM(AL7:AL14)","v":{"$error":"#DIV/0!"}},null,null,null,{"$f":"SUM(AP7:AP14)","v":1},{"$f":"-SUM(AQ7:AQ14)","v":0},null,null,null,{"$f":"SUM(AU7:AU14)","v":{"$error":"#DIV/0!"}},{"$f":"-SUM(AV7:AV14)","v":{"$error":"#DIV/0!"}}]
[11,2037,11,2052,11,2067,null,null,null,null,0,111,null,null,null,"U=",{"$f":"Q15/(LOG(Q4)/LOG(2))","v":8.9839654429245561E-2},null,null,null,null,"U1=",{"$f":"W15/(LOG(W4)/LOG(2))","v":0.35620718710802218},null,null,null,"U2=",{"$f":"AB15/(LOG(AB4)/LOG(2))","v":{"$error":"#DIV/0!"}},null,null,null,"U3=",{"$f":"AG15/(LOG(AG4)/LOG(2))","v":{"$error":"#DIV/0!"}},null,null,null,"U4=",{"$f":"AL15/(LOG(AL4)/LOG(2))","v":{"$error":"#DIV/0!"}},null,null,null,"U5=",{"$f":"AQ15/(LOG(AQ4)/LOG(2))","v":0},null,null,null,"U6=",{"$f":"AV15/(LOG(AV4)/LOG(2))","v":{"$error":"#DIV/0!"}}]
[11,2204,11,2246,11,2263,null,null,null,null,0,111]
[11,2467,11,2495,11,2517,null,null,null,null,0,111]
[11,2703,11,2728,11,2740,null,null,null,null,0,111,null,"Total Target Seq"]
[11,2975,11,2994,11,3014,null,null,null,null,0,111,null,{"$f":"COUNTIF(L7:L48,G3)","v":39},null,7,7,7,7,7,7]
[11,3305,11,3324,11,3364,null,null,null,null,0,111,null,null,null,"% of reinforcement given in 6 equal intervals based on number of trials "]
[11,3471,11,3595,11,3611,null,null,null,null,0,111,null,null,null,"%_1","%_2","%_3","%_4","%_5","%_6"]
[11,3785,11,3806,11,3842,null,null,null,null,0,111,null,null,"target sequence",{"$f":"$G$3","v":111},{"$f":"$G$3","v":111},{"$f":"$G$3","v":111},{"$f":"$G$3","v":111},{"$f":"$G$3","v":111},{"$f":"$G$3","v":111}]
[11,4079,11,4098,11,4118,null,null,null,null,0,111,null,null,"total reinforcement",{"$f":"U7","v":5},{"$f":"Z7","v":7},{"$f":"AE7","v":7},{"$f":"AJ7","v":7},{"$f":"AO7","v":6},{"$f":"AT7","v":7}]
[11,4264,11,4291,11,4312,null,null,null,null,0,111,null,null,"% target"]
[11,4487,11,4502,11,4522,null,null,null,null,0,111,null,null,"CCRF"]
[11,4677,11,4751,11,4769,null,null,null,null,0,111,null,null,"% CCRf"]
[11,4986,11,4999,11,5023,null,null,null,null,0,111,null,null,"average response rate",{"$f":"F13/P20","v":192.42857142857142},{"$f":"(F20-F13)/Q20","v":238.14285714285714},{"$f":"(F27-F20)/R20","v":250.71428571428572},{"$f":"(F34-F27)/S20","v":222.71428571428572},{"$f":"(F41-F34)/T20","v":202.14285714285714},{"$f":"(F48-F41)/U20","v":241.28571428571428}]
[11,5198,11,5215,11,5232,null,null,null,null,0,111]
[11,5427,11,5439,11,5459,null,null,null,null,0,111]
[11,5695,11,5709,11,5726,null,null,null,null,0,111]
[11,5855,11,5893,11,5908,null,null,null,null,0,111]
[11,6057,11,6073,11,6114,null,null,null,null,0,111]
[11,6289,11,6307,11,6328,null,null,null,null,0,111]
[11,6529,11,6549,11,6569,null,null,null,null,0,111]
[11,6660,11,6676,11,6702,null,null,null,null,0,111]
[11,6813,11,6831,22,6863,null,null,null,null,0,112]
[11,6968,11,6976,11,7006,null,null,null,null,0,111]
[11,7134,11,7173,11,7176,null,null,null,null,0,111]
[11,7459,11,7485,11,7521,null,null,null,null,0,111]
[11,7712,11,7734,11,7743,null,null,null,null,0,111]
[11,7954,11,7965,11,7977,null,null,null,null,0,111]
[11,8144,11,8172,11,8198,null,null,null,null,0,111]
[11,8594,11,8605,11,8618,null,null,null,null,0,111]
[11,8761,11,8778,11,8803,null,null,null,null,0,111]
[11,8933,11,8952,11,8971,null,null,null,null,0,111]
[11,9165,11,9190,11,9212,null,null,null,null,0,111]
[11,9392,11,9409,11,9432,null,null,null,null,1,111]

{"sheet":"!N216A1B.AXT","index":27,"n_rows":51,"n_cols":48,"rows_kept":51,"cut":false,"hidden":false,"merged":[[4,39,4,42],[5,39,5,40],[4,44,4,47],[5,44,5,45],[4,24,4,27],[5,24,5,25],[4,29,4,32],[5,29,5,30],[4,34,4,37],[5,34,5,35],[1,1,1,2],[5,13,5,14],[18,13,18,14],[19,13,19,14],[4,19,4,22],[5,19,5,20]]}
["Report for:!N216A1B.AXT"]
["Date:","<date>"]
["Hen:","<hen>",null,null,null,"Correct Sequence",{"$f":"Start!J2","v":111},null,null,null,null,null,null,null,null,"Total Sequences in Data",{"$f":"4994-COUNTBLANK(L7:L5000)","v":45},null,null,null,null,"Total Sequences in Block Data",{"$f":"COUNTA(L7:L14)","v":8},null,null,null,"Total Sequences in Block Data",{"$f":"COUNTA(L15:L21)","v":7},null,null,null,"Total Sequences in Block Data",{"$f":"COUNTA(L22:L29)","v":8},null,null,null,"Total Sequences in Block Data",{"$f":"COUNTA(L30:L36)","v":7},null,null,null,"Total Sequences in Block Data",{"$f":"COUNTA(L37:L44)","v":8},null,null,null,"Total Sequences in Block Data",{"$f":"COUNTA(L45:L51)","v":7}]
[null,null,null,null,null,null,null,null,null,null,null,null,null,null,null,"Total Sequences in Summary",{"$f":"SUM(O7:O14)","v":45},null,null,null,null,"Total Sequences in Block Summary",{"$f":"SUM(U7:U14)","v":8},null,null,null,"Total Sequences in Block Summary",{"$f":"SUM(Z7:Z14)","v":7},null,null,null,"Total Sequences in Block Summary",{"$f":"SUM(AE7:AE14)","v":8},null,null,null,"Total Sequences in Block Summary",{"$f":"SUM(AJ7:AJ14)","v":7},null,null,null,"Total Sequences in Block Summary",{"$f":"SUM(AO7:AO14)","v":8},null,null,null,"Total Sequences in Block Summary",{"$f":"SUM(AT7:AT14)","v":7}]
[null,null,null,null,null,null,null,null,null,null,null,null,null,null,null,null,null,null,null,"Block 1",null,null,null,null,"Block 2",null,null,null,null,"Block 3",null,null,null,null,"Block 4",null,null,null,null,"Block 5",null,null,null,null,"Block 6"]
["Sequence\nComponent\n1","Time\n1","Sequence\nComponent\n2","Time\n2","Sequence\nComponent\n3","Time\n3","Sequence\nComponent\n4","Time\n4","Sequence\nComponent\n5","Time\n5","Correct?\n0=No 1=Yes","Sequence",null,"Frequency",null,"Relative Frequency","Variability",null,null,"Frequency",null,"Relative Frequency","Variability",null,"Frequency",null,"Relative Frequency","Variability",null,"Frequency",null,"Relative Frequency","Variability",null,"Frequency",null,"Relative Frequency","Variability",null,"Frequency",null,"Relative Frequency","Variability",null,"Frequency",null,"Relative Frequency","Variability"]
[11,68,11,73,11,96,null,null,null,null,0,111,null,111,{"$f":"COUNTIF($L$7:$L$500,N7)","v":40},{"$f":"O7/$Q$4","v":0.88888888888888884},{"$f":"IF(P7=0,0,(P7*((LOG(P7))/LOG(2))))","v":-0.15104444572649992},null,null,{"$f":"N7","v":111},{"$f":"COUNTIF(L7:L14,T7)","v":4},null,null,null,{"$f":"N7","v":111},{"$f":"COUNTIF(L15:L21,Y7)","v":6},null,null,null,{"$f":"N7","v":111},{"$f":"COUNTIF(L22:L29,AD7)","v":8},null,null,null,{"$f":"N7","v":111},{"$f":"COUNTIF(L30:L36,AI7)","v":7},null,null,null,{"$f":"N7","v":111},{"$f":"COUNTIF(L37:L44,AN7)","v":8},null,null,null,{"$f":"N7","v":111},{"$f":"COUNTIF(L45:L51,AS7)","v":7}]
[11,260,22,268,24,281,null,null,null,null,0,122,null,112,{"$f":"COUNTIF($L$7:$L$500,N8)","v":1},{"$f":"O8/$Q$4","v":2.2222222222222223E-2},{"$f":"IF(P8=0,0,(P8*((LOG(P8))/LOG(2))))","v":-0.12204117991843723},null,null,{"$f":"N8","v":112},{"$f":"COUNTIF(L7:L14,T8)","v":1},{"$f":"U8/(W4-U7)","v":0.25},{"$f":"IF(V8=0,0,(V8*((LOG(V8))/LOG(2))))","v":-0.5},null,{"$f":"N8","v":112},{"$f":"COUNTIF(L15:L21,Y8)","v":0},{"$f":"Z8/(AB4-Z7)","v":0},{"$f":"IF(AA8=0,0,(AA8*((LOG(AA8))/LOG(2))))","v":0},null,{"$f":"N8","v":112},{"$f":"COUNTIF(L22:L29,AD8)","v":0},{"$f":"AE8/(AG4-AE7)","v":{"$error":"#DIV/0!"}},{"$f":"IF(AF8=0,0,(AF8*((LOG(AF8))/LOG(2))))","v":{"$error":"#DIV/0!"}},null,{"$f":"N8","v":112},{"$f":"COUNTIF(L30:L36,AI8)","v":0},{"$f":"AJ8/(AL4-AJ7)","v":{"$error":"#DIV/0!"}},{"$f":"IF(AK8=0,0,(AK8*((LOG(AK8))/LOG(2))))","v":{"$error":"#DIV/0!"}},null,{"$f":"N8","v":112},{"$f":"COUNTIF(L37:L44,AN8)","v":0},{"$f":"AO8/(AQ4-AO7)","v":{"$error":"#DIV/0!"}},{"$f":"IF(AP8=0,0,(AP8*((LOG(AP8))/LOG(2))))","v":{"$error":"#DIV/0!"}},null,{"$f":"N8","v":112},{"$f":"COUNTIF(L45:L51,AS8)","v":0},{"$f":"AT8/(AV4-AT7)","v":{"$error":"#DIV/0!"}},{"$f":"IF(AU8=0,0,(AU8*((LOG(AU8))/LOG(2))))","v":{"$error":"#DIV/0!"}}]
[11,385,11,406,11,416,null,null,null,null,0,111,null,121,{"$f":"COUNTIF($L$7:$L$500,N9)","v":1},{"$f":"O9/$Q$4","v":2.2222222222222223E-2},{"$f":"IF(P9=0,0,(P9*((LOG(P9))/LOG(2))))","v":-0.12204117991843723},null,null,{"$f":"N9","v":121},{"$f":"COUNTIF(L7:L14,T9)","v":1},{"$f":"U9/(W4-U7)","v":0.25},{"$f":"IF(V9=0,0,(V9*((LOG(V9))/LOG(2))))","v":-0.5},null,{"$f":"N9","v":121},{"$f":"COUNTIF(L15:L21,Y9)","v":0},{"$f":"Z9/(AB4-Z7)","v":0},{"$f":"IF(AA9=0,0,(AA9*((LOG(AA9))/LOG(2))))","v":0},null,{"$f":"N9","v":121},{"$f":"COUNTIF(L22:L29,AD9)","v":0},{"$f":"AE9/(AG4-AE7)","v":{"$error":"#DIV/0!"}},{"$f":"IF(AF9=0,0,(AF9*((LOG(AF9))/LOG(2))))","v":{"$error":"#DIV/0!"}},null,{"$f":"N9","v":121},{"$f":"COUNTIF(L30:L36,AI9)","v":0},{"$f":"AJ9/(AL4-AJ7)","v":{"$error":"#DIV/0!"}},{"$f":"IF(AK9=0,0,(AK9*((LOG(AK9))/LOG(2))))","v":{"$error":"#DIV/0!"}},null,{"$f":"N9","v":121},{"$f":"COUNTIF(L37:L44,AN9)","v":0},{"$f":"AO9/(AQ4-AO7)","v":{"$error":"#DIV/0!"}},{"$f":"IF(AP9=0,0,(AP9*((LOG(AP9))/LOG(2))))","v":{"$error":"#DIV/0!"}},null,{"$f":"N9","v":121},{"$f":"COUNTIF(L45:L51,AS9)","v":0},{"$f":"AT9/(AV4-AT7)","v":{"$error":"#DIV/0!"}},{"$f":"IF(AU9=0,0,(AU9*((LOG(AU9))/LOG(2))))","v":{"$error":"#DIV/0!"}}]
[11,564,11,580,22,604,null,null,null,null,0,112,null,122,{"$f":"COUNTIF($L$7:$L$500,N10)","v":2},{"$f":"O10/$Q$4","v":4.4444444444444446E-2},{"$f":"IF(P10=0,0,(P10*((LOG(P10))/LOG(2))))","v":-0.19963791539243},null,null,{"$f":"N10","v":122},{"$f":"COUNTIF(L7:L14,T10)","v":2},{"$f":"U10/(W4-U7)","v":0.5},{"$f":"IF(V10=0,0,(V10*((LOG(V10))/LOG(2))))","v":-0.5},null,{"$f":"N10","v":122},{"$f":"COUNTIF(L15:L21,Y10)","v":0},{"$f":"Z10/(AB4-Z7)","v":0},{"$f":"IF(AA10=0,0,(AA10*((LOG(AA10))/LOG(2))))","v":0},null,{"$f":"N10","v":122},{"$f":"COUNTIF(L22:L29,AD10)","v":0},{"$f":"AE10/(AG4-AE7)","v":{"$error":"#DIV/0!"}},{"$f":"IF(AF10=0,0,(AF10*((LOG(AF10))/LOG(2))))","v":{"$error":"#DIV/0!"}},null,{"$f":"N10","v":122},{"$f":"COUNTIF(L30:L36,AI10)","v":0},{"$f":"AJ10/(AL4-AJ7)","v":{"$error":"#DIV/0!"}},{"$f":"IF(AK10=0,0,(AK10*((LOG(AK10))/LOG(2))))","v":{"$error":"#DIV/0!"}},null,{"$f":"N10","v":122},{"$f":"COUNTIF(L37:L44,AN10)","v":0},{"$f":"AO10/(AQ4-AO7)","v":{"$error":"#DIV/0!"}},{"$f":"IF(AP10=0,0,(AP10*((LOG(AP10))/LOG(2))))","v":{"$error":"#DIV/0!"}},null,{"$f":"N10","v":122},{"$f":"COUNTIF(L45:L51,AS10)","v":0},{"$f":"AT10/(AV4-AT7)","v":{"$error":"#DIV/0!"}},{"$f":"IF(AU10=0,0,(AU10*((LOG(AU10))/LOG(2))))","v":{"$error":"#DIV/0!"}}]
[11,706,22,711,13,719,null,null,null,null,0,121,null,211,{"$f":"COUNTIF($L$7:$L$500,N11)","v":1},{"$f":"O11/$Q$4","v":2.2222222222222223E-2},{"$f":"IF(P11=0,0,(P11*((LOG(P11))/LOG(2))))","v":-0.12204117991843723},null,null,{"$f":"N11","v":211},{"$f":"COUNTIF(L7:L14,T11)","v":0},{"$f":"U11/(W4-U7)","v":0},{"$f":"IF(V11=0,0,(V11*((LOG(V11))/LOG(2))))","v":0},null,{"$f":"N11","v":211},{"$f":"COUNTIF(L15:L21,Y11)","v":1},{"$f":"Z11/(AB4-Z7)","v":1},{"$f":"IF(AA11=0,0,(AA11*((LOG(AA11))/LOG(2))))","v":0},null,{"$f":"N11","v":211},{"$f":"COUNTIF(L22:L29,AD11)","v":0},{"$f":"AE11/(AG4-AE7)","v":{"$error":"#DIV/0!"}},{"$f":"IF(AF11=0,0,(AF11*((LOG(AF11))/LOG(2))))","v":{"$error":"#DIV/0!"}},null,{"$f":"N11","v":211},{"$f":"COUNTIF(L30:L36,AI11)","v":0},{"$f":"AJ11/(AL4-AJ7)","v":{"$error":"#DIV/0!"}},{"$f":"IF(AK11=0,0,(AK11*((LOG(AK11))/LOG(2))))","v":{"$error":"#DIV/0!"}},null,{"$f":"N11","v":211},{"$f":"COUNTIF(L37:L44,AN11)","v":0},{"$f":"AO11/(AQ4-AO7)","v":{"$error":"#DIV/0!"}},{"$f":"IF(AP11=0,0,(AP11*((LOG(AP11))/LOG(2))))","v":{"$error":"#DIV/0!"}},null,{"$f":"N11","v":211},{"$f":"COUNTIF(L45:L51,AS11)","v":0},{"$f":"AT11/(AV4-AT7)","v":{"$error":"#DIV/0!"}},{"$f":"IF(AU11=0,0,(AU11*((LOG(AU11))/LOG(2))))","v":{"$error":"#DIV/0!"}}]
[11,904,11,909,11,915,null,null,null,null,0,111,null,212,{"$f":"COUNTIF($L$7:$L$500,N12)","v":0},{"$f":"O12/$Q$4","v":0},{"$f":"IF(P12=0,0,(P12*((LOG(P12))/LOG(2))))","v":0},null,null,{"$f":"N12","v":212},{"$f":"COUNTIF(L7:L14,T12)","v":0},{"$f":"U12/(W4-U7)","v":0},{"$f":"IF(V12=0,0,(V12*((LOG(V12))/LOG(2))))","v":0},null,{"$f":"N12","v":212},{"$f":"COUNTIF(L15:L21,Y12)","v":0},{"$f":"Z12/(AB4-Z7)","v":0},{"$f":"IF(AA12=0,0,(AA12*((LOG(AA12))/LOG(2))))","v":0},null,{"$f":"N12","v":212},{"$f":"COUNTIF(L22:L29,AD12)","v":0},{"$f":"AE12/(AG4-AE7)","v":{"$error":"#DIV/0!"}},{"$f":"IF(AF12=0,0,(AF12*((LOG(AF12))/LOG(2))))","v":{"$error":"#DIV/0!"}},null,{"$f":"N12","v":212},{"$f":"COUNTIF(L30:L36,AI12)","v":0},{"$f":"AJ12/(AL4-AJ7)","v":{"$error":"#DIV/0!"}},{"$f":"IF(AK12=0,0,(AK12*((LOG(AK12))/LOG(2))))","v":{"$error":"#DIV/0!"}},null,{"$f":"N12","v":212},{"$f":"COUNTIF(L37:L44,AN12)","v":0},{"$f":"AO12/(AQ4-AO7)","v":{"$error":"#DIV/0!"}},{"$f":"IF(AP12=0,0,(AP12*((LOG(AP12))/LOG(2))))","v":{"$error":"#DIV/0!"}},null,{"$f":"N12","v":212},{"$f":"COUNTIF(L45:L51,AS12)","v":0},{"$f":"AT12/(AV4-AT7)","v":{"$error":"#DIV/0!"}},{"$f":"IF(AU12=0,0,(AU12*((LOG(AU12))/LOG(2))))","v":{"$error":"#DIV/0!"}}]
[11,1019,11,1043,11,1063,null,null,null,null,0,111,null,221,{"$f":"COUNTIF($L$7:$L$500,N13)","v":0},{"$f":"O13/$Q$4","v":0},{"$f":"IF(P13=0,0,(P13*((LOG(P13))/LOG(2))))","v":0},null,null,{"$f":"N13","v":221},{"$f":"COUNTIF(L7:L14,T13)","v":0},{"$f":"U13/(W4-U7)","v":0},{"$f":"IF(V13=0,0,(V13*((LOG(V13))/LOG(2))))","v":0},null,{"$f":"N13","v":221},{"$f":"COUNTIF(L15:L21,Y13)","v":0},{"$f":"Z13/(AB4-Z7)","v":0},{"$f":"IF(AA13=0,0,(AA13*((LOG(AA13))/LOG(2))))","v":0},null,{"$f":"N13","v":221},{"$f":"COUNTIF(L22:L29,AD13)","v":0},{"$f":"AE13/(AG4-AE7)","v":{"$error":"#DIV/0!"}},{"$f":"IF(AF13=0,0,(AF13*((LOG(AF13))/LOG(2))))","v":{"$error":"#DIV/0!"}},null,{"$f":"N13","v":221},{"$f":"COUNTIF(L30:L36,AI13)","v":0},{"$f":"AJ13/(AL4-AJ7)","v":{"$error":"#DIV/0!"}},{"$f":"IF(AK13=0,0,(AK13*((LOG(AK13))/LOG(2))))","v":{"$error":"#DIV/0!"}},null,{"$f":"N13","v":221},{"$f":"COUNTIF(L37:L44,AN13)","v":0},{"$f":"AO13/(AQ4-AO7)","v":{"$error":"#DIV/0!"}},{"$f":"IF(AP13=0,0,(AP13*((LOG(AP13))/LOG(2))))","v":{"$error":"#DIV/0!"}},null,{"$f":"N13","v":221},{"$f":"COUNTIF(L45:L51,AS13)","v":0},{"$f":"AT13/(AV4-AT7)","v":{"$error":"#DIV/0!"}},{"$f":"IF(AU13=0,0,(AU13*((LOG(AU13))/LOG(2))))","v":{"$error":"#DIV/0!"}}]
[11,1430,22,1443,24,1446,null,null,null,null,0,122,null,222,{"$f":"COUNTIF($L$7:$L$500,N14)","v":0},{"$f":"O14/$Q$4","v":0},{"$f":"IF(P14=0,0,(P14*((LOG(P14))/LOG(2))))","v":0},null,null,{"$f":"N14","v":222},{"$f":"COUNTIF(L7:L14,T14)","v":0},{"$f":"U14/(W4-U7)","v":0},{"$f":"IF(V14=0,0,(V14*((LOG(V14))/LOG(2))))","v":0},null,{"$f":"N14","v":222},{"$f":"COUNTIF(L15:L21,Y14)","v":0},{"$f":"Z14/(AB4-Z7)","v":0},{"$f":"IF(AA14=0,0,(AA14*((LOG(AA14))/LOG(2))))","v":0},null,{"$f":"N14","v":222},{"$f":"COUNTIF(L22:L29,AD14)","v":0},{"$f":"AE14/(AG4-AE7)","v":{"$error":"#DIV/0!"}},{"$f":"IF(AF14=0,0,(AF14*((LOG(AF14))/LOG(2))))","v":{"$error":"#DIV/0!"}},null,{"$f":"N14","v":222},{"$f":"COUNTIF(L30:L36,AI14)","v":0},{"$f":"AJ14/(AL4-AJ7)","v":{"$error":"#DIV/0!"}},{"$f":"IF(AK14=0,0,(AK14*((LOG(AK14))/LOG(2))))","v":{"$error":"#DIV/0!"}},null,{"$f":"N14","v":222},{"$f":"COUNTIF(L37:L44,AN14)","v":0},{"$f":"AO14/(AQ4-AO7)","v":{"$error":"#DIV/0!"}},{"$f":"IF(AP14=0,0,(AP14*((LOG(AP14))/LOG(2))))","v":{"$error":"#DIV/0!"}},null,{"$f":"N14","v":222},{"$f":"COUNTIF(L45:L51,AS14)","v":0},{"$f":"AT14/(AV4-AT7)","v":{"$error":"#DIV/0!"}},{"$f":"IF(AU14=0,0,(AU14*((LOG(AU14))/LOG(2))))","v":{"$error":"#DIV/0!"}}]
[11,1552,11,1563,11,1586,null,null,null,null,0,111,null,null,null,{"$f":"SUM(P7:P14)","v":1},{"$f":"-SUM(Q7:Q14)","v":0.71680590087424156},null,null,null,null,{"$f":"SUM(V7:V14)","v":1},{"$f":"-SUM(W7:W14)","v":1.5},null,null,null,{"$f":"SUM(AA7:AA14)","v":1},{"$f":"-SUM(AB7:AB14)","v":0},null,null,null,{"$f":"SUM(AF7:AF14)","v":{"$error":"#DIV/0!"}},{"$f":"-SUM(AG7:AG14)","v":{"$error":"#DIV/0!"}},null,null,null,{"$f":"SUM(AK7:AK14)","v":{"$error":"#DIV/0!"}},{"$f":"-SUM(AL7:AL14)","v":{"$error":"#DIV/0!"}},null,null,null,{"$f":"SUM(AP7:AP14)","v":{"$error":"#DIV/0!"}},{"$f":"-SUM(AQ7:AQ14)","v":{"$error":"#DIV/0!"}},null,null,null,{"$f":"SUM(AU7:AU14)","v":{"$error":"#DIV/0!"}},{"$f":"-SUM(AV7:AV14)","v":{"$error":"#DIV/0!"}}]
[11,1841,11,1861,11,1878,null,null,null,null,0,111,null,null,null,"U=",{"$f":"Q15/(LOG(Q4)/LOG(2))","v":0.13052168153465332},null,null,null,null,"U1=",{"$f":"W15/(LOG(W4)/LOG(2))","v":0.5},null,null,null,"U2=",{"$f":"AB15/(LOG(AB4)/LOG(2))","v":0},null,null,null,"U3=",{"$f":"AG15/(LOG(AG4)/LOG(2))","v":{"$error":"#DIV/0!"}},null,null,null,"U4=",{"$f":"AL15/(LOG(AL4)/LOG(2))","v":{"$error":"#DIV/0!"}},null,null,null,"U5=",{"$f":"AQ15/(LOG(AQ4)/LOG(2))","v":{"$error":"#DIV/0!"}},null,null,null,"U6=",{"$f":"AV15/(LOG(AV4)/LOG(2))","v":{"$error":"#DIV/0!"}}]
[22,1987,13,2017,13,2023,null,null,null,null,0,211]
[11,2124,11,2144,11,2156,null,null,null,null,0,111]
[11,2257,11,2277,11,2324,null,null,null,null,0,111,null,"Total Target Seq"]
[11,2502,11,2512,11,2520,null,null,null,null,0,111,null,{"$f":"COUNTIF(L7:L51,G3)","v":40},null,8,7,8,7,8,7]
[11,2884,11,2905,11,2924,null,null,null,null,0,111,null,null,null,"% of reinforcement given in 6 equal intervals based on number of trials "]
[11,3092,11,3115,11,3133,null,null,null,null,0,111,null,null,null,"%_1","%_2","%_3","%_4","%_5","%_6"]
[11,3274,11,3295,11,3316,null,null,null,null,0,111,null,null,"target sequence",{"$f":"$G$3","v":111},{"$f":"$G$3","v":111},{"$f":"$G$3","v":111},{"$f":"$G$3","v":111},{"$f":"$G$3","v":111},{"$f":"$G$3","v":111}]
[11,3453,11,3470,11,3489,null,null,null,null,0,111,null,null,"total reinforcement",{"$f":"U7","v":4},{"$f":"Z7","v":6},{"$f":"AE7","v":8},{"$f":"AJ7","v":7},{"$f":"AO7","v":8},{"$f":"AT7","v":7}]
[11,3615,11,3647,11,3659,null,null,null,null,0,111,null,null,"% target"]
[11,3806,11,3825,11,3871,null,null,null,null,0,111,null,null,"CCRF"]
[11,4161,11,4175,11,4204,null,null,null,null,0,111,null,null,"% CCRf"]
[11,4297,11,4339,11,4354,null,null,null,null,0,111,null,null,"average response rate",{"$f":"F14/P20","v":180.75},{"$f":"(F21-F14)/Q20","v":211.14285714285714},{"$f":"(F29-F21)/R20","v":206},{"$f":"(F36-F29)/S20","v":191.28571428571428},{"$f":"(F44-F36)/T20","v":210.5},{"$f":"(F51-F44)/U20","v":198.28571428571428}]
[11,4530,11,4562,11,4572,null,null,null,null,0,111]
[11,4710,11,4728,11,4753,null,null,null,null,0,111]
[11,4867,11,4895,11,4923,null,null,null,null,0,111]
[11,5179,11,5196,11,5221,null,null,null,null,0,111]
[11,5312,11,5340,11,5369,null,null,null,null,0,111]
[11,5498,11,5511,11,5571,null,null,null,null,0,111]
[11,5665,11,5687,11,5708,null,null,null,null,0,111]
[11,5878,11,5893,11,5911,null,null,null,null,0,111]
[11,6047,11,6062,11,6078,null,null,null,null,0,111]
[11,6201,11,6223,11,6270,null,null,null,null,0,111]
[11,6390,11,6406,11,6427,null,null,null,null,0,111]
[11,6643,11,6658,11,6674,null,null,null,null,0,111]
[11,6840,11,6861,11,6883,null,null,null,null,0,111]
[11,7187,11,7203,11,7225,null,null,null,null,0,111]
[11,7326,11,7350,11,7361,null,null,null,null,0,111]
[11,7578,11,7583,11,7595,null,null,null,null,0,111]
[11,7724,11,7736,11,7743,null,null,null,null,0,111]
[11,7863,11,7878,11,7895,null,null,null,null,0,111]
[11,8074,11,8107,11,8121,null,null,null,null,0,111]
[11,8256,11,8279,11,8342,null,null,null,null,0,111]
[11,8572,11,8586,11,8604,null,null,null,null,0,111]
[11,8809,11,8825,11,8842,null,null,null,null,0,111]
[11,8944,11,8967,11,8983,null,null,null,null,1,111]

{"sheet":"!N21793B.AXT","index":28,"n_rows":51,"n_cols":48,"rows_kept":51,"cut":false,"hidden":false,"merged":[[4,39,4,42],[5,39,5,40],[4,44,4,47],[5,44,5,45],[4,24,4,27],[5,24,5,25],[4,29,4,32],[5,29,5,30],[4,34,4,37],[5,34,5,35],[1,1,1,2],[5,13,5,14],[18,13,18,14],[19,13,19,14],[4,19,4,22],[5,19,5,20]]}
["Report for:!N21793B.AXT"]
["Date:","<date>"]
["Hen:","<hen>",null,null,null,"Correct Sequence",{"$f":"Start!J2","v":111},null,null,null,null,null,null,null,null,"Total Sequences in Data",{"$f":"4994-COUNTBLANK(L7:L5000)","v":45},null,null,null,null,"Total Sequences in Block Data",{"$f":"COUNTA(L7:L14)","v":8},null,null,null,"Total Sequences in Block Data",{"$f":"COUNTA(L15:L21)","v":7},null,null,null,"Total Sequences in Block Data",{"$f":"COUNTA(L22:L29)","v":8},null,null,null,"Total Sequences in Block Data",{"$f":"COUNTA(L30:L36)","v":7},null,null,null,"Total Sequences in Block Data",{"$f":"COUNTA(L37:L44)","v":8},null,null,null,"Total Sequences in Block Data",{"$f":"COUNTA(L45:L51)","v":7}]
[null,null,null,null,null,null,null,null,null,null,null,null,null,null,null,"Total Sequences in Summary",{"$f":"SUM(O7:O14)","v":45},null,null,null,null,"Total Sequences in Block Summary",{"$f":"SUM(U7:U14)","v":8},null,null,null,"Total Sequences in Block Summary",{"$f":"SUM(Z7:Z14)","v":7},null,null,null,"Total Sequences in Block Summary",{"$f":"SUM(AE7:AE14)","v":8},null,null,null,"Total Sequences in Block Summary",{"$f":"SUM(AJ7:AJ14)","v":7},null,null,null,"Total Sequences in Block Summary",{"$f":"SUM(AO7:AO14)","v":8},null,null,null,"Total Sequences in Block Summary",{"$f":"SUM(AT7:AT14)","v":7}]
[null,null,null,null,null,null,null,null,null,null,null,null,null,null,null,null,null,null,null,"Block 1",null,null,null,null,"Block 2",null,null,null,null,"Block 3",null,null,null,null,"Block 4",null,null,null,null,"Block 5",null,null,null,null,"Block 6"]
["Sequence\nComponent\n1","Time\n1","Sequence\nComponent\n2","Time\n2","Sequence\nComponent\n3","Time\n3","Sequence\nComponent\n4","Time\n4","Sequence\nComponent\n5","Time\n5","Correct?\n0=No 1=Yes","Sequence",null,"Frequency",null,"Relative Frequency","Variability",null,null,"Frequency",null,"Relative Frequency","Variability",null,"Frequency",null,"Relative Frequency","Variability",null,"Frequency",null,"Relative Frequency","Variability",null,"Frequency",null,"Relative Frequency","Variability",null,"Frequency",null,"Relative Frequency","Variability",null,"Frequency",null,"Relative Frequency","Variability"]
[11,81,11,120,11,137,null,null,null,null,0,111,null,111,{"$f":"COUNTIF($L$7:$L$500,N7)","v":40},{"$f":"O7/$Q$4","v":0.88888888888888884},{"$f":"IF(P7=0,0,(P7*((LOG(P7))/LOG(2))))","v":-0.15104444572649992},null,null,{"$f":"N7","v":111},{"$f":"COUNTIF(L7:L14,T7)","v":5},null,null,null,{"$f":"N7","v":111},{"$f":"COUNTIF(L15:L21,Y7)","v":6},null,null,null,{"$f":"N7","v":111},{"$f":"COUNTIF(L22:L29,AD7)","v":8},null,null,null,{"$f":"N7","v":111},{"$f":"COUNTIF(L30:L36,AI7)","v":7},null,null,null,{"$f":"N7","v":111},{"$f":"COUNTIF(L37:L44,AN7)","v":7},null,null,null,{"$f":"N7","v":111},{"$f":"COUNTIF(L45:L51,AS7)","v":7}]
[11,250,11,254,11,257,null,null,null,null,0,111,null,112,{"$f":"COUNTIF($L$7:$L$500,N8)","v":0},{"$f":"O8/$Q$4","v":0},{"$f":"IF(P8=0,0,(P8*((LOG(P8))/LOG(2))))","v":0},null,null,{"$f":"N8","v":112},{"$f":"COUNTIF(L7:L14,T8)","v":0},{"$f":"U8/(W4-U7)","v":0},{"$f":"IF(V8=0,0,(V8*((LOG(V8))/LOG(2))))","v":0},null,{"$f":"N8","v":112},{"$f":"COUNTIF(L15:L21,Y8)","v":0},{"$f":"Z8/(AB4-Z7)","v":0},{"$f":"IF(AA8=0,0,(AA8*((LOG(AA8))/LOG(2))))","v":0},null,{"$f":"N8","v":112},{"$f":"COUNTIF(L22:L29,AD8)","v":0},{"$f":"AE8/(AG4-AE7)","v":{"$error":"#DIV/0!"}},{"$f":"IF(AF8=0,0,(AF8*((LOG(AF8))/LOG(2))))","v":{"$error":"#DIV/0!"}},null,{"$f":"N8","v":112},{"$f":"COUNTIF(L30:L36,AI8)","v":0},{"$f":"AJ8/(AL4-AJ7)","v":{"$error":"#DIV/0!"}},{"$f":"IF(AK8=0,0,(AK8*((LOG(AK8))/LOG(2))))","v":{"$error":"#DIV/0!"}},null,{"$f":"N8","v":112},{"$f":"COUNTIF(L37:L44,AN8)","v":0},{"$f":"AO8/(AQ4-AO7)","v":0},{"$f":"IF(AP8=0,0,(AP8*((LOG(AP8))/LOG(2))))","v":0},null,{"$f":"N8","v":112},{"$f":"COUNTIF(L45:L51,AS8)","v":0},{"$f":"AT8/(AV4-AT7)","v":{"$error":"#DIV/0!"}},{"$f":"IF(AU8=0,0,(AU8*((LOG(AU8))/LOG(2))))","v":{"$error":"#DIV/0!"}}]
[11,365,11,386,11,401,null,null,null,null,0,111,null,121,{"$f":"COUNTIF($L$7:$L$500,N9)","v":1},{"$f":"O9/$Q$4","v":2.2222222222222223E-2},{"$f":"IF(P9=0,0,(P9*((LOG(P9))/LOG(2))))","v":-0.12204117991843723},null,null,{"$f":"N9","v":121},{"$f":"COUNTIF(L7:L14,T9)","v":1},{"$f":"U9/(W4-U7)","v":0.33333333333333331},{"$f":"IF(V9=0,0,(V9*((LOG(V9))/LOG(2))))","v":-0.52832083357371862},null,{"$f":"N9","v":121},{"$f":"COUNTIF(L15:L21,Y9)","v":0},{"$f":"Z9/(AB4-Z7)","v":0},{"$f":"IF(AA9=0,0,(AA9*((LOG(AA9))/LOG(2))))","v":0},null,{"$f":"N9","v":121},{"$f":"COUNTIF(L22:L29,AD9)","v":0},{"$f":"AE9/(AG4-AE7)","v":{"$error":"#DIV/0!"}},{"$f":"IF(AF9=0,0,(AF9*((LOG(AF9))/LOG(2))))","v":{"$error":"#DIV/0!"}},null,{"$f":"N9","v":121},{"$f":"COUNTIF(L30:L36,AI9)","v":0},{"$f":"AJ9/(AL4-AJ7)","v":{"$error":"#DIV/0!"}},{"$f":"IF(AK9=0,0,(AK9*((LOG(AK9))/LOG(2))))","v":{"$error":"#DIV/0!"}},null,{"$f":"N9","v":121},{"$f":"COUNTIF(L37:L44,AN9)","v":0},{"$f":"AO9/(AQ4-AO7)","v":0},{"$f":"IF(AP9=0,0,(AP9*((LOG(AP9))/LOG(2))))","v":0},null,{"$f":"N9","v":121},{"$f":"COUNTIF(L45:L51,AS9)","v":0},{"$f":"AT9/(AV4-AT7)","v":{"$error":"#DIV/0!"}},{"$f":"IF(AU9=0,0,(AU9*((LOG(AU9))/LOG(2))))","v":{"$error":"#DIV/0!"}}]
[22,500,13,532,13,559,null,null,null,null,0,211,null,122,{"$f":"COUNTIF($L$7:$L$500,N10)","v":0},{"$f":"O10/$Q$4","v":0},{"$f":"IF(P10=0,0,(P10*((LOG(P10))/LOG(2))))","v":0},null,null,{"$f":"N10","v":122},{"$f":"COUNTIF(L7:L14,T10)","v":0},{"$f":"U10/(W4-U7)","v":0},{"$f":"IF(V10=0,0,(V10*((LOG(V10))/LOG(2))))","v":0},null,{"$f":"N10","v":122},{"$f":"COUNTIF(L15:L21,Y10)","v":0},{"$f":"Z10/(AB4-Z7)","v":0},{"$f":"IF(AA10=0,0,(AA10*((LOG(AA10))/LOG(2))))","v":0},null,{"$f":"N10","v":122},{"$f":"COUNTIF(L22:L29,AD10)","v":0},{"$f":"AE10/(AG4-AE7)","v":{"$error":"#DIV/0!"}},{"$f":"IF(AF10=0,0,(AF10*((LOG(AF10))/LOG(2))))","v":{"$error":"#DIV/0!"}},null,{"$f":"N10","v":122},{"$f":"COUNTIF(L30:L36,AI10)","v":0},{"$f":"AJ10/(AL4-AJ7)","v":{"$error":"#DIV/0!"}},{"$f":"IF(AK10=0,0,(AK10*((LOG(AK10))/LOG(2))))","v":{"$error":"#DIV/0!"}},null,{"$f":"N10","v":122},{"$f":"COUNTIF(L37:L44,AN10)","v":0},{"$f":"AO10/(AQ4-AO7)","v":0},{"$f":"IF(AP10=0,0,(AP10*((LOG(AP10))/LOG(2))))","v":0},null,{"$f":"N10","v":122},{"$f":"COUNTIF(L45:L51,AS10)","v":0},{"$f":"AT10/(AV4-AT7)","v":{"$error":"#DIV/0!"}},{"$f":"IF(AU10=0,0,(AU10*((LOG(AU10))/LOG(2))))","v":{"$error":"#DIV/0!"}}]
[22,675,13,701,13,714,null,null,null,null,0,211,null,211,{"$f":"COUNTIF($L$7:$L$500,N11)","v":4},{"$f":"O11/$Q$4","v":8.8888888888888892E-2},{"$f":"IF(P11=0,0,(P11*((LOG(P11))/LOG(2))))","v":-0.31038694189597105},null,null,{"$f":"N11","v":211},{"$f":"COUNTIF(L7:L14,T11)","v":2},{"$f":"U11/(W4-U7)","v":0.66666666666666663},{"$f":"IF(V11=0,0,(V11*((LOG(V11))/LOG(2))))","v":-0.38997500048077083},null,{"$f":"N11","v":211},{"$f":"COUNTIF(L15:L21,Y11)","v":1},{"$f":"Z11/(AB4-Z7)","v":1},{"$f":"IF(AA11=0,0,(AA11*((LOG(AA11))/LOG(2))))","v":0},null,{"$f":"N11","v":211},{"$f":"COUNTIF(L22:L29,AD11)","v":0},{"$f":"AE11/(AG4-AE7)","v":{"$error":"#DIV/0!"}},{"$f":"IF(AF11=0,0,(AF11*((LOG(AF11))/LOG(2))))","v":{"$error":"#DIV/0!"}},null,{"$f":"N11","v":211},{"$f":"COUNTIF(L30:L36,AI11)","v":0},{"$f":"AJ11/(AL4-AJ7)","v":{"$error":"#DIV/0!"}},{"$f":"IF(AK11=0,0,(AK11*((LOG(AK11))/LOG(2))))","v":{"$error":"#DIV/0!"}},null,{"$f":"N11","v":211},{"$f":"COUNTIF(L37:L44,AN11)","v":1},{"$f":"AO11/(AQ4-AO7)","v":1},{"$f":"IF(AP11=0,0,(AP11*((LOG(AP11))/LOG(2))))","v":0},null,{"$f":"N11","v":211},{"$f":"COUNTIF(L45:L51,AS11)","v":0},{"$f":"AT11/(AV4-AT7)","v":{"$error":"#DIV/0!"}},{"$f":"IF(AU11=0,0,(AU11*((LOG(AU11))/LOG(2))))","v":{"$error":"#DIV/0!"}}]
[11,810,22,822,13,839,null,null,null,null,0,121,null,212,{"$f":"COUNTIF($L$7:$L$500,N12)","v":0},{"$f":"O12/$Q$4","v":0},{"$f":"IF(P12=0,0,(P12*((LOG(P12))/LOG(2))))","v":0},null,null,{"$f":"N12","v":212},{"$f":"COUNTIF(L7:L14,T12)","v":0},{"$f":"U12/(W4-U7)","v":0},{"$f":"IF(V12=0,0,(V12*((LOG(V12))/LOG(2))))","v":0},null,{"$f":"N12","v":212},{"$f":"COUNTIF(L15:L21,Y12)","v":0},{"$f":"Z12/(AB4-Z7)","v":0},{"$f":"IF(AA12=0,0,(AA12*((LOG(AA12))/LOG(2))))","v":0},null,{"$f":"N12","v":212},{"$f":"COUNTIF(L22:L29,AD12)","v":0},{"$f":"AE12/(AG4-AE7)","v":{"$error":"#DIV/0!"}},{"$f":"IF(AF12=0,0,(AF12*((LOG(AF12))/LOG(2))))","v":{"$error":"#DIV/0!"}},null,{"$f":"N12","v":212},{"$f":"COUNTIF(L30:L36,AI12)","v":0},{"$f":"AJ12/(AL4-AJ7)","v":{"$error":"#DIV/0!"}},{"$f":"IF(AK12=0,0,(AK12*((LOG(AK12))/LOG(2))))","v":{"$error":"#DIV/0!"}},null,{"$f":"N12","v":212},{"$f":"COUNTIF(L37:L44,AN12)","v":0},{"$f":"AO12/(AQ4-AO7)","v":0},{"$f":"IF(AP12=0,0,(AP12*((LOG(AP12))/LOG(2))))","v":0},null,{"$f":"N12","v":212},{"$f":"COUNTIF(L45:L51,AS12)","v":0},{"$f":"AT12/(AV4-AT7)","v":{"$error":"#DIV/0!"}},{"$f":"IF(AU12=0,0,(AU12*((LOG(AU12))/LOG(2))))","v":{"$error":"#DIV/0!"}}]
[11,935,11,947,11,962,null,null,null,null,0,111,null,221,{"$f":"COUNTIF($L$7:$L$500,N13)","v":0},{"$f":"O13/$Q$4","v":0},{"$f":"IF(P13=0,0,(P13*((LOG(P13))/LOG(2))))","v":0},null,null,{"$f":"N13","v":221},{"$f":"COUNTIF(L7:L14,T13)","v":0},{"$f":"U13/(W4-U7)","v":0},{"$f":"IF(V13=0,0,(V13*((LOG(V13))/LOG(2))))","v":0},null,{"$f":"N13","v":221},{"$f":"COUNTIF(L15:L21,Y13)","v":0},{"$f":"Z13/(AB4-Z7)","v":0},{"$f":"IF(AA13=0,0,(AA13*((LOG(AA13))/LOG(2))))","v":0},null,{"$f":"N13","v":221},{"$f":"COUNTIF(L22:L29,AD13)","v":0},{"$f":"AE13/(AG4-AE7)","v":{"$error":"#DIV/0!"}},{"$f":"IF(AF13=0,0,(AF13*((LOG(AF13))/LOG(2))))","v":{"$error":"#DIV/0!"}},null,{"$f":"N13","v":221},{"$f":"COUNTIF(L30:L36,AI13)","v":0},{"$f":"AJ13/(AL4-AJ7)","v":{"$error":"#DIV/0!"}},{"$f":"IF(AK13=0,0,(AK13*((LOG(AK13))/LOG(2))))","v":{"$error":"#DIV/0!"}},null,{"$f":"N13","v":221},{"$f":"COUNTIF(L37:L44,AN13)","v":0},{"$f":"AO13/(AQ4-AO7)","v":0},{"$f":"IF(AP13=0,0,(AP13*((LOG(AP13))/LOG(2))))","v":0},null,{"$f":"N13","v":221},{"$f":"COUNTIF(L45:L51,AS13)","v":0},{"$f":"AT13/(AV4-AT7)","v":{"$error":"#DIV/0!"}},{"$f":"IF(AU13=0,0,(AU13*((LOG(AU13))/LOG(2))))","v":{"$error":"#DIV/0!"}}]
[11,1053,11,1070,11,1086,null,null,null,null,0,111,null,222,{"$f":"COUNTIF($L$7:$L$500,N14)","v":0},{"$f":"O14/$Q$4","v":0},{"$f":"IF(P14=0,0,(P14*((LOG(P14))/LOG(2))))","v":0},null,null,{"$f":"N14","v":222},{"$f":"COUNTIF(L7:L14,T14)","v":0},{"$f":"U14/(W4-U7)","v":0},{"$f":"IF(V14=0,0,(V14*((LOG(V14))/LOG(2))))","v":0},null,{"$f":"N14","v":222},{"$f":"COUNTIF(L15:L21,Y14)","v":0},{"$f":"Z14/(AB4-Z7)","v":0},{"$f":"IF(AA14=0,0,(AA14*((LOG(AA14))/LOG(2))))","v":0},null,{"$f":"N14","v":222},{"$f":"COUNTIF(L22:L29,AD14)","v":0},{"$f":"AE14/(AG4-AE7)","v":{"$error":"#DIV/0!"}},{"$f":"IF(AF14=0,0,(AF14*((LOG(AF14))/LOG(2))))","v":{"$error":"#DIV/0!"}},null,{"$f":"N14","v":222},{"$f":"COUNTIF(L30:L36,AI14)","v":0},{"$f":"AJ14/(AL4-AJ7)","v":{"$error":"#DIV/0!"}},{"$f":"IF(AK14=0,0,(AK14*((LOG(AK14))/LOG(2))))","v":{"$error":"#DIV/0!"}},null,{"$f":"N14","v":222},{"$f":"COUNTIF(L37:L44,AN14)","v":0},{"$f":"AO14/(AQ4-AO7)","v":0},{"$f":"IF(AP14=0,0,(AP14*((LOG(AP14))/LOG(2))))","v":0},null,{"$f":"N14","v":222},{"$f":"COUNTIF(L45:L51,AS14)","v":0},{"$f":"AT14/(AV4-AT7)","v":{"$error":"#DIV/0!"}},{"$f":"IF(AU14=0,0,(AU14*((LOG(AU14))/LOG(2))))","v":{"$error":"#DIV/0!"}}]
[11,1195,11,1215,11,1239,null,null,null,null,0,111,null,null,null,{"$f":"SUM(P7:P14)","v":1},{"$f":"-SUM(Q7:Q14)","v":0.58347256754090826},null,null,null,null,{"$f":"SUM(V7:V14)","v":1},{"$f":"-SUM(W7:W14)","v":0.91829583405448945},null,null,null,{"$f":"SUM(AA7:AA14)","v":1},{"$f":"-SUM(AB7:AB14)","v":0},null,null,null,{"$f":"SUM(AF7:AF14)","v":{"$error":"#DIV/0!"}},{"$f":"-SUM(AG7:AG14)","v":{"$error":"#DIV/0!"}},null,null,null,{"$f":"SUM(AK7:AK14)","v":{"$error":"#DIV/0!"}},{"$f":"-SUM(AL7:AL14)","v":{"$error":"#DIV/0!"}},null,null,null,{"$f":"SUM(AP7:AP14)","v":1},{"$f":"-SUM(AQ7:AQ14)","v":0},null,null,null,{"$f":"SUM(AU7:AU14)","v":{"$error":"#DIV/0!"}},{"$f":"-SUM(AV7:AV14)","v":{"$error":"#DIV/0!"}}]
[11,1466,11,1492,11,1518,null,null,null,null,0,111,null,null,null,"U=",{"$f":"Q15/(LOG(Q4)/LOG(2))","v":0.10624329480532822},null,null,null,null,"U1=",{"$f":"W15/(LOG(W4)/LOG(2))","v":0.30609861135149646},null,null,null,"U2=",{"$f":"AB15/(LOG(AB4)/LOG(2))","v":0},null,null,null,"U3=",{"$f":"AG15/(LOG(AG4)/LOG(2))","v":{"$error":"#DIV/0!"}},null,null,null,"U4=",{"$f":"AL15/(LOG(AL4)/LOG(2))","v":{"$error":"#DIV/0!"}},null,null,null,"U5=",{"$f":"AQ15/(LOG(AQ4)/LOG(2))","v":0},null,null,null,"U6=",{"$f":"AV15/(LOG(AV4)/LOG(2))","v":{"$error":"#DIV/0!"}}]
[11,1759,11,1774,11,1789,null,null,null,null,0,111]
[11,1978,11,1996,11,2013,null,null,null,null,0,111]
[11,2129,11,2146,11,2164,null,null,null,null,0,111,null,"Total Target Seq"]
[22,2468,13,2491,13,2503,null,null,null,null,0,211,null,{"$f":"COUNTIF(L7:L51,G3)","v":40},null,8,7,8,7,8,7]
[11,2603,11,2618,11,2632,null,null,null,null,0,111,null,null,null,"% of reinforcement given in 6 equal intervals based on number of trials "]
[11,2735,11,2771,11,2803,null,null,null,null,0,111,null,null,null,"%_1","%_2","%_3","%_4","%_5","%_6"]
[11,2905,11,2939,11,2961,null,null,null,null,0,111,null,null,"target sequence",{"$f":"$G$3","v":111},{"$f":"$G$3","v":111},{"$f":"$G$3","v":111},{"$f":"$G$3","v":111},{"$f":"$G$3","v":111},{"$f":"$G$3","v":111}]
[11,3153,11,3175,11,3193,null,null,null,null,0,111,null,null,"total reinforcement",{"$f":"U7","v":5},{"$f":"Z7","v":6},{"$f":"AE7","v":8},{"$f":"AJ7","v":7},{"$f":"AO7","v":7},{"$f":"AT7","v":7}]
[11,3326,11,3342,11,3361,null,null,null,null,0,111,null,null,"% target"]
[11,3598,11,3614,11,3629,null,null,null,null,0,111,null,null,"CCRF"]
[11,3790,11,3808,11,3825,null,null,null,null,0,111,null,null,"% CCRf"]
[11,3966,11,4018,11,4036,null,null,null,null,0,111,null,null,"average response rate",{"$f":"F14/P20","v":135.75},{"$f":"(F21-F14)/Q20","v":220.85714285714286},{"$f":"(F29-F21)/R20","v":214.125},{"$f":"(F36-F29)/S20","v":193.28571428571428},{"$f":"(F44-F36)/T20","v":160.5},{"$f":"(F51-F44)/U20","v":188.14285714285714}]
[11,4318,11,4331,11,4345,null,null,null,null,0,111]
[11,4490,11,4508,11,4528,null,null,null,null,0,111]
[11,4681,11,4701,11,4722,null,null,null,null,0,111]
[11,4866,11,4878,11,4894,null,null,null,null,0,111]
[11,5009,11,5016,11,5026,null,null,null,null,0,111]
[11,5182,11,5215,11,5241,null,null,null,null,0,111]
[11,5398,11,5412,11,5431,null,null,null,null,0,111]
[11,5658,11,5686,11,5698,null,null,null,null,0,111]
[11,5817,11,5834,11,5852,null,null,null,null,0,111]
[11,5979,11,6001,11,6062,null,null,null,null,0,111]
[11,6198,11,6228,11,6245,null,null,null,null,0,111]
[11,6364,11,6381,11,6400,null,null,null,null,0,111]
[11,6499,11,6525,11,6545,null,null,null,null,0,111]
[11,6659,11,6673,11,6695,null,null,null,null,0,111]
[11,6783,11,6800,11,6815,null,null,null,null,0,111]
[22,6921,13,6963,13,6982,null,null,null,null,0,211]
[11,7078,11,7094,11,7109,null,null,null,null,0,111]
[11,7219,11,7237,11,7242,null,null,null,null,0,111]
[11,7362,11,7382,11,7398,null,null,null,null,0,111]
[11,7504,11,7543,11,7555,null,null,null,null,0,111]
[11,7741,11,7752,11,7766,null,null,null,null,0,111]
[11,7908,11,7926,11,7933,null,null,null,null,0,111]
[11,8261,11,8284,11,8299,null,null,null,null,1,111]

{"sheet":"!N218A1B.AXT","index":29,"n_rows":50,"n_cols":48,"rows_kept":50,"cut":false,"hidden":false,"merged":[[4,39,4,42],[5,39,5,40],[4,44,4,47],[5,44,5,45],[4,24,4,27],[5,24,5,25],[4,29,4,32],[5,29,5,30],[4,34,4,37],[5,34,5,35],[1,1,1,2],[5,13,5,14],[18,13,18,14],[19,13,19,14],[4,19,4,22],[5,19,5,20]]}
["Report for:!N218A1B.AXT"]
["Date:","<date>"]
["Hen:","<hen>",null,null,null,"Correct Sequence",{"$f":"Start!J2","v":111},null,null,null,null,null,null,null,null,"Total Sequences in Data",{"$f":"4994-COUNTBLANK(L7:L5000)","v":44},null,null,null,null,"Total Sequences in Block Data",{"$f":"COUNTA(L7:L13)","v":7},null,null,null,"Total Sequences in Block Data",{"$f":"COUNTA(L14:L21)","v":8},null,null,null,"Total Sequences in Block Data",{"$f":"COUNTA(L22:L28)","v":7},null,null,null,"Total Sequences in Block Data",{"$f":"COUNTA(L29:L35)","v":7},null,null,null,"Total Sequences in Block Data",{"$f":"COUNTA(L36:L43)","v":8},null,null,null,"Total Sequences in Block Data",{"$f":"COUNTA(L44:L50)","v":7}]
[null,null,null,null,null,null,null,null,null,null,null,null,null,null,null,"Total Sequences in Summary",{"$f":"SUM(O7:O14)","v":44},null,null,null,null,"Total Sequences in Block Summary",{"$f":"SUM(U7:U14)","v":7},null,null,null,"Total Sequences in Block Summary",{"$f":"SUM(Z7:Z14)","v":8},null,null,null,"Total Sequences in Block Summary",{"$f":"SUM(AE7:AE14)","v":7},null,null,null,"Total Sequences in Block Summary",{"$f":"SUM(AJ7:AJ14)","v":7},null,null,null,"Total Sequences in Block Summary",{"$f":"SUM(AO7:AO14)","v":8},null,null,null,"Total Sequences in Block Summary",{"$f":"SUM(AT7:AT14)","v":7}]
[null,null,null,null,null,null,null,null,null,null,null,null,null,null,null,null,null,null,null,"Block 1",null,null,null,null,"Block 2",null,null,null,null,"Block 3",null,null,null,null,"Block 4",null,null,null,null,"Block 5",null,null,null,null,"Block 6"]
["Sequence\nComponent\n1","Time\n1","Sequence\nComponent\n2","Time\n2","Sequence\nComponent\n3","Time\n3","Sequence\nComponent\n4","Time\n4","Sequence\nComponent\n5","Time\n5","Correct?\n0=No 1=Yes","Sequence",null,"Frequency",null,"Relative Frequency","Variability",null,null,"Frequency",null,"Relative Frequency","Variability",null,"Frequency",null,"Relative Frequency","Variability",null,"Frequency",null,"Relative Frequency","Variability",null,"Frequency",null,"Relative Frequency","Variability",null,"Frequency",null,"Relative Frequency","Variability",null,"Frequency",null,"Relative Frequency","Variability"]
[11,40,22,52,13,69,null,null,null,null,0,121,null,111,{"$f":"COUNTIF($L$7:$L$500,N7)","v":39},{"$f":"O7/$Q$4","v":0.88636363636363635},{"$f":"IF(P7=0,0,(P7*((LOG(P7))/LOG(2))))","v":-0.15425333161879334},null,null,{"$f":"N7","v":111},{"$f":"COUNTIF(L7:L13,T7)","v":4},null,null,null,{"$f":"N7","v":111},{"$f":"COUNTIF(L14:L21,Y7)","v":7},null,null,null,{"$f":"N7","v":111},{"$f":"COUNTIF(L22:L28,AD7)","v":7},null,null,null,{"$f":"N7","v":111},{"$f":"COUNTIF(L29:L35,AI7)","v":7},null,null,null,{"$f":"N7","v":111},{"$f":"COUNTIF(L36:L43,AN7)","v":7},null,null,null,{"$f":"N7","v":111},{"$f":"COUNTIF(L44:L50,AS7)","v":7}]
[22,252,13,273,13,297,null,null,null,null,0,211,null,112,{"$f":"COUNTIF($L$7:$L$500,N8)","v":0},{"$f":"O8/$Q$4","v":0},{"$f":"IF(P8=0,0,(P8*((LOG(P8))/LOG(2))))","v":0},null,null,{"$f":"N8","v":112},{"$f":"COUNTIF(L7:L13,T8)","v":0},{"$f":"U8/(W4-U7)","v":0},{"$f":"IF(V8=0,0,(V8*((LOG(V8))/LOG(2))))","v":0},null,{"$f":"N8","v":112},{"$f":"COUNTIF(L14:L21,Y8)","v":0},{"$f":"Z8/(AB4-Z7)","v":0},{"$f":"IF(AA8=0,0,(AA8*((LOG(AA8))/LOG(2))))","v":0},null,{"$f":"N8","v":112},{"$f":"COUNTIF(L22:L28,AD8)","v":0},{"$f":"AE8/(AG4-AE7)","v":{"$error":"#DIV/0!"}},{"$f":"IF(AF8=0,0,(AF8*((LOG(AF8))/LOG(2))))","v":{"$error":"#DIV/0!"}},null,{"$f":"N8","v":112},{"$f":"COUNTIF(L29:L35,AI8)","v":0},{"$f":"AJ8/(AL4-AJ7)","v":{"$error":"#DIV/0!"}},{"$f":"IF(AK8=0,0,(AK8*((LOG(AK8))/LOG(2))))","v":{"$error":"#DIV/0!"}},null,{"$f":"N8","v":112},{"$f":"COUNTIF(L36:L43,AN8)","v":0},{"$f":"AO8/(AQ4-AO7)","v":0},{"$f":"IF(AP8=0,0,(AP8*((LOG(AP8))/LOG(2))))","v":0},null,{"$f":"N8","v":112},{"$f":"COUNTIF(L44:L50,AS8)","v":0},{"$f":"AT8/(AV4-AT7)","v":{"$error":"#DIV/0!"}},{"$f":"IF(AU8=0,0,(AU8*((LOG(AU8))/LOG(2))))","v":{"$error":"#DIV/0!"}}]
[11,534,11,541,11,559,null,null,null,null,0,111,null,121,{"$f":"COUNTIF($L$7:$L$500,N9)","v":2},{"$f":"O9/$Q$4","v":4.5454545454545456E-2},{"$f":"IF(P9=0,0,(P9*((LOG(P9))/LOG(2))))","v":-0.20270143721078623},null,null,{"$f":"N9","v":121},{"$f":"COUNTIF(L7:L13,T9)","v":2},{"$f":"U9/(W4-U7)","v":0.66666666666666663},{"$f":"IF(V9=0,0,(V9*((LOG(V9))/LOG(2))))","v":-0.38997500048077083},null,{"$f":"N9","v":121},{"$f":"COUNTIF(L14:L21,Y9)","v":0},{"$f":"Z9/(AB4-Z7)","v":0},{"$f":"IF(AA9=0,0,(AA9*((LOG(AA9))/LOG(2))))","v":0},null,{"$f":"N9","v":121},{"$f":"COUNTIF(L22:L28,AD9)","v":0},{"$f":"AE9/(AG4-AE7)","v":{"$error":"#DIV/0!"}},{"$f":"IF(AF9=0,0,(AF9*((LOG(AF9))/LOG(2))))","v":{"$error":"#DIV/0!"}},null,{"$f":"N9","v":121},{"$f":"COUNTIF(L29:L35,AI9)","v":0},{"$f":"AJ9/(AL4-AJ7)","v":{"$error":"#DIV/0!"}},{"$f":"IF(AK9=0,0,(AK9*((LOG(AK9))/LOG(2))))","v":{"$error":"#DIV/0!"}},null,{"$f":"N9","v":121},{"$f":"COUNTIF(L36:L43,AN9)","v":0},{"$f":"AO9/(AQ4-AO7)","v":0},{"$f":"IF(AP9=0,0,(AP9*((LOG(AP9))/LOG(2))))","v":0},null,{"$f":"N9","v":121},{"$f":"COUNTIF(L44:L50,AS9)","v":0},{"$f":"AT9/(AV4-AT7)","v":{"$error":"#DIV/0!"}},{"$f":"IF(AU9=0,0,(AU9*((LOG(AU9))/LOG(2))))","v":{"$error":"#DIV/0!"}}]
[11,711,11,714,11,741,null,null,null,null,0,111,null,122,{"$f":"COUNTIF($L$7:$L$500,N10)","v":0},{"$f":"O10/$Q$4","v":0},{"$f":"IF(P10=0,0,(P10*((LOG(P10))/LOG(2))))","v":0},null,null,{"$f":"N10","v":122},{"$f":"COUNTIF(L7:L13,T10)","v":0},{"$f":"U10/(W4-U7)","v":0},{"$f":"IF(V10=0,0,(V10*((LOG(V10))/LOG(2))))","v":0},null,{"$f":"N10","v":122},{"$f":"COUNTIF(L14:L21,Y10)","v":0},{"$f":"Z10/(AB4-Z7)","v":0},{"$f":"IF(AA10=0,0,(AA10*((LOG(AA10))/LOG(2))))","v":0},null,{"$f":"N10","v":122},{"$f":"COUNTIF(L22:L28,AD10)","v":0},{"$f":"AE10/(AG4-AE7)","v":{"$error":"#DIV/0!"}},{"$f":"IF(AF10=0,0,(AF10*((LOG(AF10))/LOG(2))))","v":{"$error":"#DIV/0!"}},null,{"$f":"N10","v":122},{"$f":"COUNTIF(L29:L35,AI10)","v":0},{"$f":"AJ10/(AL4-AJ7)","v":{"$error":"#DIV/0!"}},{"$f":"IF(AK10=0,0,(AK10*((LOG(AK10))/LOG(2))))","v":{"$error":"#DIV/0!"}},null,{"$f":"N10","v":122},{"$f":"COUNTIF(L36:L43,AN10)","v":0},{"$f":"AO10/(AQ4-AO7)","v":0},{"$f":"IF(AP10=0,0,(AP10*((LOG(AP10))/LOG(2))))","v":0},null,{"$f":"N10","v":122},{"$f":"COUNTIF(L44:L50,AS10)","v":0},{"$f":"AT10/(AV4-AT7)","v":{"$error":"#DIV/0!"}},{"$f":"IF(AU10=0,0,(AU10*((LOG(AU10))/LOG(2))))","v":{"$error":"#DIV/0!"}}]
[11,1112,11,1130,11,1143,null,null,null,null,0,111,null,211,{"$f":"COUNTIF($L$7:$L$500,N11)","v":2},{"$f":"O11/$Q$4","v":4.5454545454545456E-2},{"$f":"IF(P11=0,0,(P11*((LOG(P11))/LOG(2))))","v":-0.20270143721078623},null,null,{"$f":"N11","v":211},{"$f":"COUNTIF(L7:L13,T11)","v":1},{"$f":"U11/(W4-U7)","v":0.33333333333333331},{"$f":"IF(V11=0,0,(V11*((LOG(V11))/LOG(2))))","v":-0.52832083357371862},null,{"$f":"N11","v":211},{"$f":"COUNTIF(L14:L21,Y11)","v":0},{"$f":"Z11/(AB4-Z7)","v":0},{"$f":"IF(AA11=0,0,(AA11*((LOG(AA11))/LOG(2))))","v":0},null,{"$f":"N11","v":211},{"$f":"COUNTIF(L22:L28,AD11)","v":0},{"$f":"AE11/(AG4-AE7)","v":{"$error":"#DIV/0!"}},{"$f":"IF(AF11=0,0,(AF11*((LOG(AF11))/LOG(2))))","v":{"$error":"#DIV/0!"}},null,{"$f":"N11","v":211},{"$f":"COUNTIF(L29:L35,AI11)","v":0},{"$f":"AJ11/(AL4-AJ7)","v":{"$error":"#DIV/0!"}},{"$f":"IF(AK11=0,0,(AK11*((LOG(AK11))/LOG(2))))","v":{"$error":"#DIV/0!"}},null,{"$f":"N11","v":211},{"$f":"COUNTIF(L36:L43,AN11)","v":1},{"$f":"AO11/(AQ4-AO7)","v":1},{"$f":"IF(AP11=0,0,(AP11*((LOG(AP11))/LOG(2))))","v":0},null,{"$f":"N11","v":211},{"$f":"COUNTIF(L44:L50,AS11)","v":0},{"$f":"AT11/(AV4-AT7)","v":{"$error":"#DIV/0!"}},{"$f":"IF(AU11=0,0,(AU11*((LOG(AU11))/LOG(2))))","v":{"$error":"#DIV/0!"}}]
[11,1597,22,1606,13,1628,null,null,null,null,0,121,null,212,{"$f":"COUNTIF($L$7:$L$500,N12)","v":0},{"$f":"O12/$Q$4","v":0},{"$f":"IF(P12=0,0,(P12*((LOG(P12))/LOG(2))))","v":0},null,null,{"$f":"N12","v":212},{"$f":"COUNTIF(L7:L13,T12)","v":0},{"$f":"U12/(W4-U7)","v":0},{"$f":"IF(V12=0,0,(V12*((LOG(V12))/LOG(2))))","v":0},null,{"$f":"N12","v":212},{"$f":"COUNTIF(L14:L21,Y12)","v":0},{"$f":"Z12/(AB4-Z7)","v":0},{"$f":"IF(AA12=0,0,(AA12*((LOG(AA12))/LOG(2))))","v":0},null,{"$f":"N12","v":212},{"$f":"COUNTIF(L22:L28,AD12)","v":0},{"$f":"AE12/(AG4-AE7)","v":{"$error":"#DIV/0!"}},{"$f":"IF(AF12=0,0,(AF12*((LOG(AF12))/LOG(2))))","v":{"$error":"#DIV/0!"}},null,{"$f":"N12","v":212},{"$f":"COUNTIF(L29:L35,AI12)","v":0},{"$f":"AJ12/(AL4-AJ7)","v":{"$error":"#DIV/0!"}},{"$f":"IF(AK12=0,0,(AK12*((LOG(AK12))/LOG(2))))","v":{"$error":"#DIV/0!"}},null,{"$f":"N12","v":212},{"$f":"COUNTIF(L36:L43,AN12)","v":0},{"$f":"AO12/(AQ4-AO7)","v":0},{"$f":"IF(AP12=0,0,(AP12*((LOG(AP12))/LOG(2))))","v":0},null,{"$f":"N12","v":212},{"$f":"COUNTIF(L44:L50,AS12)","v":0},{"$f":"AT12/(AV4-AT7)","v":{"$error":"#DIV/0!"}},{"$f":"IF(AU12=0,0,(AU12*((LOG(AU12))/LOG(2))))","v":{"$error":"#DIV/0!"}}]
[11,1725,11,1730,11,1742,null,null,null,null,0,111,null,221,{"$f":"COUNTIF($L$7:$L$500,N13)","v":1},{"$f":"O13/$Q$4","v":2.2727272727272728E-2},{"$f":"IF(P13=0,0,(P13*((LOG(P13))/LOG(2))))","v":-0.12407799133266585},null,null,{"$f":"N13","v":221},{"$f":"COUNTIF(L7:L13,T13)","v":0},{"$f":"U13/(W4-U7)","v":0},{"$f":"IF(V13=0,0,(V13*((LOG(V13))/LOG(2))))","v":0},null,{"$f":"N13","v":221},{"$f":"COUNTIF(L14:L21,Y13)","v":1},{"$f":"Z13/(AB4-Z7)","v":1},{"$f":"IF(AA13=0,0,(AA13*((LOG(AA13))/LOG(2))))","v":0},null,{"$f":"N13","v":221},{"$f":"COUNTIF(L22:L28,AD13)","v":0},{"$f":"AE13/(AG4-AE7)","v":{"$error":"#DIV/0!"}},{"$f":"IF(AF13=0,0,(AF13*((LOG(AF13))/LOG(2))))","v":{"$error":"#DIV/0!"}},null,{"$f":"N13","v":221},{"$f":"COUNTIF(L29:L35,AI13)","v":0},{"$f":"AJ13/(AL4-AJ7)","v":{"$error":"#DIV/0!"}},{"$f":"IF(AK13=0,0,(AK13*((LOG(AK13))/LOG(2))))","v":{"$error":"#DIV/0!"}},null,{"$f":"N13","v":221},{"$f":"COUNTIF(L36:L43,AN13)","v":0},{"$f":"AO13/(AQ4-AO7)","v":0},{"$f":"IF(AP13=0,0,(AP13*((LOG(AP13))/LOG(2))))","v":0},null,{"$f":"N13","v":221},{"$f":"COUNTIF(L44:L50,AS13)","v":0},{"$f":"AT13/(AV4-AT7)","v":{"$error":"#DIV/0!"}},{"$f":"IF(AU13=0,0,(AU13*((LOG(AU13))/LOG(2))))","v":{"$error":"#DIV/0!"}}]
[22,1924,24,1927,13,1945,null,null,null,null,0,221,null,222,{"$f":"COUNTIF($L$7:$L$500,N14)","v":0},{"$f":"O14/$Q$4","v":0},{"$f":"IF(P14=0,0,(P14*((LOG(P14))/LOG(2))))","v":0},null,null,{"$f":"N14","v":222},{"$f":"COUNTIF(L7:L13,T14)","v":0},{"$f":"U14/(W4-U7)","v":0},{"$f":"IF(V14=0,0,(V14*((LOG(V14))/LOG(2))))","v":0},null,{"$f":"N14","v":222},{"$f":"COUNTIF(L14:L21,Y14)","v":0},{"$f":"Z14/(AB4-Z7)","v":0},{"$f":"IF(AA14=0,0,(AA14*((LOG(AA14))/LOG(2))))","v":0},null,{"$f":"N14","v":222},{"$f":"COUNTIF(L22:L28,AD14)","v":0},{"$f":"AE14/(AG4-AE7)","v":{"$error":"#DIV/0!"}},{"$f":"IF(AF14=0,0,(AF14*((LOG(AF14))/LOG(2))))","v":{"$error":"#DIV/0!"}},null,{"$f":"N14","v":222},{"$f":"COUNTIF(L29:L35,AI14)","v":0},{"$f":"AJ14/(AL4-AJ7)","v":{"$error":"#DIV/0!"}},{"$f":"IF(AK14=0,0,(AK14*((LOG(AK14))/LOG(2))))","v":{"$error":"#DIV/0!"}},null,{"$f":"N14","v":222},{"$f":"COUNTIF(L36:L43,AN14)","v":0},{"$f":"AO14/(AQ4-AO7)","v":0},{"$f":"IF(AP14=0,0,(AP14*((LOG(AP14))/LOG(2))))","v":0},null,{"$f":"N14","v":222},{"$f":"COUNTIF(L44:L50,AS14)","v":0},{"$f":"AT14/(AV4-AT7)","v":{"$error":"#DIV/0!"}},{"$f":"IF(AU14=0,0,(AU14*((LOG(AU14))/LOG(2))))","v":{"$error":"#DIV/0!"}}]
[11,2041,11,2045,11,2047,null,null,null,null,0,111,null,null,null,{"$f":"SUM(P7:P14)","v":0.99999999999999989},{"$f":"-SUM(Q7:Q14)","v":0.68373419737303165},null,null,null,null,{"$f":"SUM(V7:V14)","v":1},{"$f":"-SUM(W7:W14)","v":0.91829583405448945},null,null,null,{"$f":"SUM(AA7:AA14)","v":1},{"$f":"-SUM(AB7:AB14)","v":0},null,null,null,{"$f":"SUM(AF7:AF14)","v":{"$error":"#DIV/0!"}},{"$f":"-SUM(AG7:AG14)","v":{"$error":"#DIV/0!"}},null,null,null,{"$f":"SUM(AK7:AK14)","v":{"$error":"#DIV/0!"}},{"$f":"-SUM(AL7:AL14)","v":{"$error":"#DIV/0!"}},null,null,null,{"$f":"SUM(AP7:AP14)","v":1},{"$f":"-SUM(AQ7:AQ14)","v":0},null,null,null,{"$f":"SUM(AU7:AU14)","v":{"$error":"#DIV/0!"}},{"$f":"-SUM(AV7:AV14)","v":{"$error":"#DIV/0!"}}]
[11,2269,11,2276,11,2280,null,null,null,null,0,111,null,null,null,"U=",{"$f":"Q15/(LOG(Q4)/LOG(2))","v":0.12523908075685272},null,null,null,null,"U1=",{"$f":"W15/(LOG(W4)/LOG(2))","v":0.32710357598156481},null,null,null,"U2=",{"$f":"AB15/(LOG(AB4)/LOG(2))","v":0},null,null,null,"U3=",{"$f":"AG15/(LOG(AG4)/LOG(2))","v":{"$error":"#DIV/0!"}},null,null,null,"U4=",{"$f":"AL15/(LOG(AL4)/LOG(2))","v":{"$error":"#DIV/0!"}},null,null,null,"U5=",{"$f":"AQ15/(LOG(AQ4)/LOG(2))","v":0},null,null,null,"U6=",{"$f":"AV15/(LOG(AV4)/LOG(2))","v":{"$error":"#DIV/0!"}}]
[11,2407,11,2422,11,2437,null,null,null,null,0,111]
[11,2586,11,2599,11,2604,null,null,null,null,0,111]
[11,2730,11,2737,11,2751,null,null,null,null,0,111,null,"Total Target Seq"]
[11,3133,11,3151,11,3154,null,null,null,null,0,111,null,{"$f":"COUNTIF(L7:L50,G3)","v":39},null,7,8,7,7,8,7]
[11,3313,11,3327,11,3339,null,null,null,null,0,111,null,null,null,"% of reinforcement given in 6 equal intervals based on number of trials "]
[11,3580,11,3605,11,3624,null,null,null,null,0,111,null,null,null,"%_1","%_2","%_3","%_4","%_5","%_6"]
[11,4078,11,4081,11,4090,null,null,null,null,0,111,null,null,"target sequence",{"$f":"$G$3","v":111},{"$f":"$G$3","v":111},{"$f":"$G$3","v":111},{"$f":"$G$3","v":111},{"$f":"$G$3","v":111},{"$f":"$G$3","v":111}]
[11,4200,11,4205,11,4211,null,null,null,null,0,111,null,null,"total reinforcement",{"$f":"U7","v":4},{"$f":"Z7","v":7},{"$f":"AE7","v":7},{"$f":"AJ7","v":7},{"$f":"AO7","v":7},{"$f":"AT7","v":7}]
[11,4430,11,4450,11,4472,null,null,null,null,0,111,null,null,"% target"]
[11,4592,11,4632,11,4639,null,null,null,null,0,111,null,null,"CCRF"]
[11,4814,11,4817,11,4827,null,null,null,null,0,111,null,null,"% CCRf"]
[11,4934,11,4953,11,4970,null,null,null,null,0,111,null,null,"average response rate",{"$f":"F13/P20","v":248.85714285714286},{"$f":"(F21-F13)/Q20","v":199.625},{"$f":"(F28-F21)/R20","v":233},{"$f":"(F35-F28)/S20","v":216.71428571428572},{"$f":"(F43-F35)/T20","v":179.625},{"$f":"(F50-F43)/U20","v":191.71428571428572}]
[11,5157,11,5176,11,5212,null,null,null,null,0,111]
[11,5331,11,5333,11,5349,null,null,null,null,0,111]
[11,5465,11,5477,11,5490,null,null,null,null,0,111]
[11,5759,11,5766,11,5779,null,null,null,null,0,111]
[11,5919,11,5940,11,5960,null,null,null,null,0,111]
[11,6260,11,6279,11,6281,null,null,null,null,0,111]
[11,6455,11,6479,11,6487,null,null,null,null,0,111]
[11,6680,11,6692,11,6716,null,null,null,null,0,111]
[11,6831,11,6840,11,6862,null,null,null,null,0,111]
[11,7030,11,7053,11,7057,null,null,null,null,0,111]
[11,7237,11,7256,11,7291,null,null,null,null,0,111]
[11,7384,11,7397,11,7422,null,null,null,null,0,111]
[11,7598,11,7613,11,7632,null,null,null,null,0,111]
[11,7726,11,7743,11,7761,null,null,null,null,0,111]
[22,7864,13,7912,13,7924,null,null,null,null,0,211]
[11,8016,11,8036,11,8047,null,null,null,null,0,111]
[11,8206,11,8224,11,8251,null,null,null,null,0,111]
[11,8364,11,8381,11,8400,null,null,null,null,0,111]
[11,8600,11,8622,11,8647,null,null,null,null,0,111]
[11,8854,11,8874,11,8893,null,null,null,null,0,111]
[11,9056,11,9063,11,9113,null,null,null,null,0,111]
[11,9216,11,9237,11,9266,null,null,null,null,1,111]

{"sheet":"!N219A4B.AXT","index":30,"n_rows":48,"n_cols":48,"rows_kept":48,"cut":false,"hidden":false,"merged":[[4,39,4,42],[5,39,5,40],[4,44,4,47],[5,44,5,45],[4,24,4,27],[5,24,5,25],[4,29,4,32],[5,29,5,30],[4,34,4,37],[5,34,5,35],[1,1,1,2],[5,13,5,14],[18,13,18,14],[19,13,19,14],[4,19,4,22],[5,19,5,20]]}
["Report for:!N219A4B.AXT"]
["Date:","<date>"]
["Hen:","<hen>",null,null,null,"Correct Sequence",{"$f":"Start!J2","v":111},null,null,null,null,null,null,null,null,"Total Sequences in Data",{"$f":"4994-COUNTBLANK(L7:L5000)","v":42},null,null,null,null,"Total Sequences in Block Data",{"$f":"COUNTA(L7:L13)","v":7},null,null,null,"Total Sequences in Block Data",{"$f":"COUNTA(L14:L20)","v":7},null,null,null,"Total Sequences in Block Data",{"$f":"COUNTA(L21:L27)","v":7},null,null,null,"Total Sequences in Block Data",{"$f":"COUNTA(L28:L34)","v":7},null,null,null,"Total Sequences in Block Data",{"$f":"COUNTA(L35:L41)","v":7},null,null,null,"Total Sequences in Block Data",{"$f":"COUNTA(L42:L48)","v":7}]
[null,null,null,null,null,null,null,null,null,null,null,null,null,null,null,"Total Sequences in Summary",{"$f":"SUM(O7:O14)","v":42},null,null,null,null,"Total Sequences in Block Summary",{"$f":"SUM(U7:U14)","v":7},null,null,null,"Total Sequences in Block Summary",{"$f":"SUM(Z7:Z14)","v":7},null,null,null,"Total Sequences in Block Summary",{"$f":"SUM(AE7:AE14)","v":7},null,null,null,"Total Sequences in Block Summary",{"$f":"SUM(AJ7:AJ14)","v":7},null,null,null,"Total Sequences in Block Summary",{"$f":"SUM(AO7:AO14)","v":7},null,null,null,"Total Sequences in Block Summary",{"$f":"SUM(AT7:AT14)","v":7}]
[null,null,null,null,null,null,null,null,null,null,null,null,null,null,null,null,null,null,null,"Block 1",null,null,null,null,"Block 2",null,null,null,null,"Block 3",null,null,null,null,"Block 4",null,null,null,null,"Block 5",null,null,null,null,"Block 6"]
["Sequence\nComponent\n1","Time\n1","Sequence\nComponent\n2","Time\n2","Sequence\nComponent\n3","Time\n3","Sequence\nComponent\n4","Time\n4","Sequence\nComponent\n5","Time\n5","Correct?\n0=No 1=Yes","Sequence",null,"Frequency",null,"Relative Frequency","Variability",null,null,"Frequency",null,"Relative Frequency","Variability",null,"Frequency",null,"Relative Frequency","Variability",null,"Frequency",null,"Relative Frequency","Variability",null,"Frequency",null,"Relative Frequency","Variability",null,"Frequency",null,"Relative Frequency","Variability",null,"Frequency",null,"Relative Frequency","Variability"]
[11,52,11,55,11,69,null,null,null,null,0,111,null,111,{"$f":"COUNTIF($L$7:$L$500,N7)","v":39},{"$f":"O7/$Q$4","v":0.9285714285714286},{"$f":"IF(P7=0,0,(P7*((LOG(P7))/LOG(2))))","v":-9.9278403636761048E-2},null,null,{"$f":"N7","v":111},{"$f":"COUNTIF(L7:L13,T7)","v":4},null,null,null,{"$f":"N7","v":111},{"$f":"COUNTIF(L14:L20,Y7)","v":7},null,null,null,{"$f":"N7","v":111},{"$f":"COUNTIF(L21:L27,AD7)","v":7},null,null,null,{"$f":"N7","v":111},{"$f":"COUNTIF(L28:L34,AI7)","v":7},null,null,null,{"$f":"N7","v":111},{"$f":"COUNTIF(L35:L41,AN7)","v":7},null,null,null,{"$f":"N7","v":111},{"$f":"COUNTIF(L42:L48,AS7)","v":7}]
[11,170,22,175,13,181,null,null,null,null,0,121,null,112,{"$f":"COUNTIF($L$7:$L$500,N8)","v":1},{"$f":"O8/$Q$4","v":2.3809523809523808E-2},{"$f":"IF(P8=0,0,(P8*((LOG(P8))/LOG(2))))","v":-0.12838851006616095},null,null,{"$f":"N8","v":112},{"$f":"COUNTIF(L7:L13,T8)","v":1},{"$f":"U8/(W4-U7)","v":0.33333333333333331},{"$f":"IF(V8=0,0,(V8*((LOG(V8))/LOG(2))))","v":-0.52832083357371862},null,{"$f":"N8","v":112},{"$f":"COUNTIF(L14:L20,Y8)","v":0},{"$f":"Z8/(AB4-Z7)","v":{"$error":"#DIV/0!"}},{"$f":"IF(AA8=0,0,(AA8*((LOG(AA8))/LOG(2))))","v":{"$error":"#DIV/0!"}},null,{"$f":"N8","v":112},{"$f":"COUNTIF(L21:L27,AD8)","v":0},{"$f":"AE8/(AG4-AE7)","v":{"$error":"#DIV/0!"}},{"$f":"IF(AF8=0,0,(AF8*((LOG(AF8))/LOG(2))))","v":{"$error":"#DIV/0!"}},null,{"$f":"N8","v":112},{"$f":"COUNTIF(L28:L34,AI8)","v":0},{"$f":"AJ8/(AL4-AJ7)","v":{"$error":"#DIV/0!"}},{"$f":"IF(AK8=0,0,(AK8*((LOG(AK8))/LOG(2))))","v":{"$error":"#DIV/0!"}},null,{"$f":"N8","v":112},{"$f":"COUNTIF(L35:L41,AN8)","v":0},{"$f":"AO8/(AQ4-AO7)","v":{"$error":"#DIV/0!"}},{"$f":"IF(AP8=0,0,(AP8*((LOG(AP8))/LOG(2))))","v":{"$error":"#DIV/0!"}},null,{"$f":"N8","v":112},{"$f":"COUNTIF(L42:L48,AS8)","v":0},{"$f":"AT8/(AV4-AT7)","v":{"$error":"#DIV/0!"}},{"$f":"IF(AU8=0,0,(AU8*((LOG(AU8))/LOG(2))))","v":{"$error":"#DIV/0!"}}]
[11,274,11,283,22,289,null,null,null,null,0,112,null,121,{"$f":"COUNTIF($L$7:$L$500,N9)","v":1},{"$f":"O9/$Q$4","v":2.3809523809523808E-2},{"$f":"IF(P9=0,0,(P9*((LOG(P9))/LOG(2))))","v":-0.12838851006616095},null,null,{"$f":"N9","v":121},{"$f":"COUNTIF(L7:L13,T9)","v":1},{"$f":"U9/(W4-U7)","v":0.33333333333333331},{"$f":"IF(V9=0,0,(V9*((LOG(V9))/LOG(2))))","v":-0.52832083357371862},null,{"$f":"N9","v":121},{"$f":"COUNTIF(L14:L20,Y9)","v":0},{"$f":"Z9/(AB4-Z7)","v":{"$error":"#DIV/0!"}},{"$f":"IF(AA9=0,0,(AA9*((LOG(AA9))/LOG(2))))","v":{"$error":"#DIV/0!"}},null,{"$f":"N9","v":121},{"$f":"COUNTIF(L21:L27,AD9)","v":0},{"$f":"AE9/(AG4-AE7)","v":{"$error":"#DIV/0!"}},{"$f":"IF(AF9=0,0,(AF9*((LOG(AF9))/LOG(2))))","v":{"$error":"#DIV/0!"}},null,{"$f":"N9","v":121},{"$f":"COUNTIF(L28:L34,AI9)","v":0},{"$f":"AJ9/(AL4-AJ7)","v":{"$error":"#DIV/0!"}},{"$f":"IF(AK9=0,0,(AK9*((LOG(AK9))/LOG(2))))","v":{"$error":"#DIV/0!"}},null,{"$f":"N9","v":121},{"$f":"COUNTIF(L35:L41,AN9)","v":0},{"$f":"AO9/(AQ4-AO7)","v":{"$error":"#DIV/0!"}},{"$f":"IF(AP9=0,0,(AP9*((LOG(AP9))/LOG(2))))","v":{"$error":"#DIV/0!"}},null,{"$f":"N9","v":121},{"$f":"COUNTIF(L42:L48,AS9)","v":0},{"$f":"AT9/(AV4-AT7)","v":{"$error":"#DIV/0!"}},{"$f":"IF(AU9=0,0,(AU9*((LOG(AU9))/LOG(2))))","v":{"$error":"#DIV/0!"}}]
[22,382,24,387,24,392,null,null,null,null,0,222,null,122,{"$f":"COUNTIF($L$7:$L$500,N10)","v":0},{"$f":"O10/$Q$4","v":0},{"$f":"IF(P10=0,0,(P10*((LOG(P10))/LOG(2))))","v":0},null,null,{"$f":"N10","v":122},{"$f":"COUNTIF(L7:L13,T10)","v":0},{"$f":"U10/(W4-U7)","v":0},{"$f":"IF(V10=0,0,(V10*((LOG(V10))/LOG(2))))","v":0},null,{"$f":"N10","v":122},{"$f":"COUNTIF(L14:L20,Y10)","v":0},{"$f":"Z10/(AB4-Z7)","v":{"$error":"#DIV/0!"}},{"$f":"IF(AA10=0,0,(AA10*((LOG(AA10))/LOG(2))))","v":{"$error":"#DIV/0!"}},null,{"$f":"N10","v":122},{"$f":"COUNTIF(L21:L27,AD10)","v":0},{"$f":"AE10/(AG4-AE7)","v":{"$error":"#DIV/0!"}},{"$f":"IF(AF10=0,0,(AF10*((LOG(AF10))/LOG(2))))","v":{"$error":"#DIV/0!"}},null,{"$f":"N10","v":122},{"$f":"COUNTIF(L28:L34,AI10)","v":0},{"$f":"AJ10/(AL4-AJ7)","v":{"$error":"#DIV/0!"}},{"$f":"IF(AK10=0,0,(AK10*((LOG(AK10))/LOG(2))))","v":{"$error":"#DIV/0!"}},null,{"$f":"N10","v":122},{"$f":"COUNTIF(L35:L41,AN10)","v":0},{"$f":"AO10/(AQ4-AO7)","v":{"$error":"#DIV/0!"}},{"$f":"IF(AP10=0,0,(AP10*((LOG(AP10))/LOG(2))))","v":{"$error":"#DIV/0!"}},null,{"$f":"N10","v":122},{"$f":"COUNTIF(L42:L48,AS10)","v":0},{"$f":"AT10/(AV4-AT7)","v":{"$error":"#DIV/0!"}},{"$f":"IF(AU10=0,0,(AU10*((LOG(AU10))/LOG(2))))","v":{"$error":"#DIV/0!"}}]
[11,496,11,501,11,518,null,null,null,null,0,111,null,211,{"$f":"COUNTIF($L$7:$L$500,N11)","v":0},{"$f":"O11/$Q$4","v":0},{"$f":"IF(P11=0,0,(P11*((LOG(P11))/LOG(2))))","v":0},null,null,{"$f":"N11","v":211},{"$f":"COUNTIF(L7:L13,T11)","v":0},{"$f":"U11/(W4-U7)","v":0},{"$f":"IF(V11=0,0,(V11*((LOG(V11))/LOG(2))))","v":0},null,{"$f":"N11","v":211},{"$f":"COUNTIF(L14:L20,Y11)","v":0},{"$f":"Z11/(AB4-Z7)","v":{"$error":"#DIV/0!"}},{"$f":"IF(AA11=0,0,(AA11*((LOG(AA11))/LOG(2))))","v":{"$error":"#DIV/0!"}},null,{"$f":"N11","v":211},{"$f":"COUNTIF(L21:L27,AD11)","v":0},{"$f":"AE11/(AG4-AE7)","v":{"$error":"#DIV/0!"}},{"$f":"IF(AF11=0,0,(AF11*((LOG(AF11))/LOG(2))))","v":{"$error":"#DIV/0!"}},null,{"$f":"N11","v":211},{"$f":"COUNTIF(L28:L34,AI11)","v":0},{"$f":"AJ11/(AL4-AJ7)","v":{"$error":"#DIV/0!"}},{"$f":"IF(AK11=0,0,(AK11*((LOG(AK11))/LOG(2))))","v":{"$error":"#DIV/0!"}},null,{"$f":"N11","v":211},{"$f":"COUNTIF(L35:L41,AN11)","v":0},{"$f":"AO11/(AQ4-AO7)","v":{"$error":"#DIV/0!"}},{"$f":"IF(AP11=0,0,(AP11*((LOG(AP11))/LOG(2))))","v":{"$error":"#DIV/0!"}},null,{"$f":"N11","v":211},{"$f":"COUNTIF(L42:L48,AS11)","v":0},{"$f":"AT11/(AV4-AT7)","v":{"$error":"#DIV/0!"}},{"$f":"IF(AU11=0,0,(AU11*((LOG(AU11))/LOG(2))))","v":{"$error":"#DIV/0!"}}]
[11,633,11,677,11,700,null,null,null,null,0,111,null,212,{"$f":"COUNTIF($L$7:$L$500,N12)","v":0},{"$f":"O12/$Q$4","v":0},{"$f":"IF(P12=0,0,(P12*((LOG(P12))/LOG(2))))","v":0},null,null,{"$f":"N12","v":212},{"$f":"COUNTIF(L7:L13,T12)","v":0},{"$f":"U12/(W4-U7)","v":0},{"$f":"IF(V12=0,0,(V12*((LOG(V12))/LOG(2))))","v":0},null,{"$f":"N12","v":212},{"$f":"COUNTIF(L14:L20,Y12)","v":0},{"$f":"Z12/(AB4-Z7)","v":{"$error":"#DIV/0!"}},{"$f":"IF(AA12=0,0,(AA12*((LOG(AA12))/LOG(2))))","v":{"$error":"#DIV/0!"}},null,{"$f":"N12","v":212},{"$f":"COUNTIF(L21:L27,AD12)","v":0},{"$f":"AE12/(AG4-AE7)","v":{"$error":"#DIV/0!"}},{"$f":"IF(AF12=0,0,(AF12*((LOG(AF12))/LOG(2))))","v":{"$error":"#DIV/0!"}},null,{"$f":"N12","v":212},{"$f":"COUNTIF(L28:L34,AI12)","v":0},{"$f":"AJ12/(AL4-AJ7)","v":{"$error":"#DIV/0!"}},{"$f":"IF(AK12=0,0,(AK12*((LOG(AK12))/LOG(2))))","v":{"$error":"#DIV/0!"}},null,{"$f":"N12","v":212},{"$f":"COUNTIF(L35:L41,AN12)","v":0},{"$f":"AO12/(AQ4-AO7)","v":{"$error":"#DIV/0!"}},{"$f":"IF(AP12=0,0,(AP12*((LOG(AP12))/LOG(2))))","v":{"$error":"#DIV/0!"}},null,{"$f":"N12","v":212},{"$f":"COUNTIF(L42:L48,AS12)","v":0},{"$f":"AT12/(AV4-AT7)","v":{"$error":"#DIV/0!"}},{"$f":"IF(AU12=0,0,(AU12*((LOG(AU12))/LOG(2))))","v":{"$error":"#DIV/0!"}}]
[11,803,11,826,11,848,null,null,null,null,0,111,null,221,{"$f":"COUNTIF($L$7:$L$500,N13)","v":0},{"$f":"O13/$Q$4","v":0},{"$f":"IF(P13=0,0,(P13*((LOG(P13))/LOG(2))))","v":0},null,null,{"$f":"N13","v":221},{"$f":"COUNTIF(L7:L13,T13)","v":0},{"$f":"U13/(W4-U7)","v":0},{"$f":"IF(V13=0,0,(V13*((LOG(V13))/LOG(2))))","v":0},null,{"$f":"N13","v":221},{"$f":"COUNTIF(L14:L20,Y13)","v":0},{"$f":"Z13/(AB4-Z7)","v":{"$error":"#DIV/0!"}},{"$f":"IF(AA13=0,0,(AA13*((LOG(AA13))/LOG(2))))","v":{"$error":"#DIV/0!"}},null,{"$f":"N13","v":221},{"$f":"COUNTIF(L21:L27,AD13)","v":0},{"$f":"AE13/(AG4-AE7)","v":{"$error":"#DIV/0!"}},{"$f":"IF(AF13=0,0,(AF13*((LOG(AF13))/LOG(2))))","v":{"$error":"#DIV/0!"}},null,{"$f":"N13","v":221},{"$f":"COUNTIF(L28:L34,AI13)","v":0},{"$f":"AJ13/(AL4-AJ7)","v":{"$error":"#DIV/0!"}},{"$f":"IF(AK13=0,0,(AK13*((LOG(AK13))/LOG(2))))","v":{"$error":"#DIV/0!"}},null,{"$f":"N13","v":221},{"$f":"COUNTIF(L35:L41,AN13)","v":0},{"$f":"AO13/(AQ4-AO7)","v":{"$error":"#DIV/0!"}},{"$f":"IF(AP13=0,0,(AP13*((LOG(AP13))/LOG(2))))","v":{"$error":"#DIV/0!"}},null,{"$f":"N13","v":221},{"$f":"COUNTIF(L42:L48,AS13)","v":0},{"$f":"AT13/(AV4-AT7)","v":{"$error":"#DIV/0!"}},{"$f":"IF(AU13=0,0,(AU13*((LOG(AU13))/LOG(2))))","v":{"$error":"#DIV/0!"}}]
[11,997,11,1032,11,1046,null,null,null,null,0,111,null,222,{"$f":"COUNTIF($L$7:$L$500,N14)","v":1},{"$f":"O14/$Q$4","v":2.3809523809523808E-2},{"$f":"IF(P14=0,0,(P14*((LOG(P14))/LOG(2))))","v":-0.12838851006616095},null,null,{"$f":"N14","v":222},{"$f":"COUNTIF(L7:L13,T14)","v":1},{"$f":"U14/(W4-U7)","v":0.33333333333333331},{"$f":"IF(V14=0,0,(V14*((LOG(V14))/LOG(2))))","v":-0.52832083357371862},null,{"$f":"N14","v":222},{"$f":"COUNTIF(L14:L20,Y14)","v":0},{"$f":"Z14/(AB4-Z7)","v":{"$error":"#DIV/0!"}},{"$f":"IF(AA14=0,0,(AA14*((LOG(AA14))/LOG(2))))","v":{"$error":"#DIV/0!"}},null,{"$f":"N14","v":222},{"$f":"COUNTIF(L21:L27,AD14)","v":0},{"$f":"AE14/(AG4-AE7)","v":{"$error":"#DIV/0!"}},{"$f":"IF(AF14=0,0,(AF14*((LOG(AF14))/LOG(2))))","v":{"$error":"#DIV/0!"}},null,{"$f":"N14","v":222},{"$f":"COUNTIF(L28:L34,AI14)","v":0},{"$f":"AJ14/(AL4-AJ7)","v":{"$error":"#DIV/0!"}},{"$f":"IF(AK14=0,0,(AK14*((LOG(AK14))/LOG(2))))","v":{"$error":"#DIV/0!"}},null,{"$f":"N14","v":222},{"$f":"COUNTIF(L35:L41,AN14)","v":0},{"$f":"AO14/(AQ4-AO7)","v":{"$error":"#DIV/0!"}},{"$f":"IF(AP14=0,0,(AP14*((LOG(AP14))/LOG(2))))","v":{"$error":"#DIV/0!"}},null,{"$f":"N14","v":222},{"$f":"COUNTIF(L42:L48,AS14)","v":0},{"$f":"AT14/(AV4-AT7)","v":{"$error":"#DIV/0!"}},{"$f":"IF(AU14=0,0,(AU14*((LOG(AU14))/LOG(2))))","v":{"$error":"#DIV/0!"}}]
[11,1253,11,1274,11,1294,null,null,null,null,0,111,null,null,null,{"$f":"SUM(P7:P14)","v":1},{"$f":"-SUM(Q7:Q14)","v":0.48444393383524387},null,null,null,null,{"$f":"SUM(V7:V14)","v":1},{"$f":"-SUM(W7:W14)","v":1.5849625007211559},null,null,null,{"$f":"SUM(AA7:AA14)","v":{"$error":"#DIV/0!"}},{"$f":"-SUM(AB7:AB14)","v":{"$error":"#DIV/0!"}},null,null,null,{"$f":"SUM(AF7:AF14)","v":{"$error":"#DIV/0!"}},{"$f":"-SUM(AG7:AG14)","v":{"$error":"#DIV/0!"}},null,null,null,{"$f":"SUM(AK7:AK14)","v":{"$error":"#DIV/0!"}},{"$f":"-SUM(AL7:AL14)","v":{"$error":"#DIV/0!"}},null,null,null,{"$f":"SUM(AP7:AP14)","v":{"$error":"#DIV/0!"}},{"$f":"-SUM(AQ7:AQ14)","v":{"$error":"#DIV/0!"}},null,null,null,{"$f":"SUM(AU7:AU14)","v":{"$error":"#DIV/0!"}},{"$f":"-SUM(AV7:AV14)","v":{"$error":"#DIV/0!"}}]
[11,1402,11,1406,11,1420,null,null,null,null,0,111,null,null,null,"U=",{"$f":"Q15/(LOG(Q4)/LOG(2))","v":8.9839654429245561E-2},null,null,null,null,"U1=",{"$f":"W15/(LOG(W4)/LOG(2))","v":0.56457503405357945},null,null,null,"U2=",{"$f":"AB15/(LOG(AB4)/LOG(2))","v":{"$error":"#DIV/0!"}},null,null,null,"U3=",{"$f":"AG15/(LOG(AG4)/LOG(2))","v":{"$error":"#DIV/0!"}},null,null,null,"U4=",{"$f":"AL15/(LOG(AL4)/LOG(2))","v":{"$error":"#DIV/0!"}},null,null,null,"U5=",{"$f":"AQ15/(LOG(AQ4)/LOG(2))","v":{"$error":"#DIV/0!"}},null,null,null,"U6=",{"$f":"AV15/(LOG(AV4)/LOG(2))","v":{"$error":"#DIV/0!"}}]
[11,1513,11,1525,11,1544,null,null,null,null,0,111]
[11,1708,11,1725,11,1744,null,null,null,null,0,111]
[11,1901,11,1927,11,1967,null,null,null,null,0,111,null,"Total Target Seq"]
[11,2088,11,2128,11,2154,null,null,null,null,0,111,null,{"$f":"COUNTIF(L7:L48,G3)","v":39},null,7,7,7,7,7,7]
[11,2276,11,2293,11,2313,null,null,null,null,0,111,null,null,null,"% of reinforcement given in 6 equal intervals based on number of trials "]
[11,2457,11,2481,11,2505,null,null,null,null,0,111,null,null,null,"%_1","%_2","%_3","%_4","%_5","%_6"]
[11,2704,11,2730,11,2750,null,null,null,null,0,111,null,null,"target sequence",{"$f":"$G$3","v":111},{"$f":"$G$3","v":111},{"$f":"$G$3","v":111},{"$f":"$G$3","v":111},{"$f":"$G$3","v":111},{"$f":"$G$3","v":111}]
[11,2839,11,2850,11,2857,null,null,null,null,0,111,null,null,"total reinforcement",{"$f":"U7","v":4},{"$f":"Z7","v":7},{"$f":"AE7","v":7},{"$f":"AJ7","v":7},{"$f":"AO7","v":7},{"$f":"AT7","v":7}]
[11,3050,11,3072,11,3092,null,null,null,null,0,111,null,null,"% target"]
[11,3248,11,3251,11,3272,null,null,null,null,0,111,null,null,"CCRF"]
[11,3438,11,3456,11,3475,null,null,null,null,0,111,null,null,"% CCRf"]
[11,3765,11,3779,11,3800,null,null,null,null,0,111,null,null,"average response rate",{"$f":"F13/P20","v":121.14285714285714},{"$f":"(F20-F13)/Q20","v":186.57142857142858},{"$f":"(F27-F20)/R20","v":188.71428571428572},{"$f":"(F34-F27)/S20","v":212.85714285714286},{"$f":"(F41-F34)/T20","v":184.85714285714286},{"$f":"(F48-F41)/U20","v":215.42857142857142}]
[11,3896,11,3916,11,3940,null,null,null,null,0,111]
[11,4103,11,4120,11,4141,null,null,null,null,0,111]
[11,4329,11,4347,11,4364,null,null,null,null,0,111]
[11,4557,11,4575,11,4578,null,null,null,null,0,111]
[11,4726,11,4747,11,4768,null,null,null,null,0,111]
[11,4939,11,4950,11,4965,null,null,null,null,0,111]
[11,5057,11,5077,11,5097,null,null,null,null,0,111]
[11,5209,11,5231,11,5252,null,null,null,null,0,111]
[11,5368,11,5382,11,5402,null,null,null,null,0,111]
[11,5589,11,5612,11,5637,null,null,null,null,0,111]
[11,5771,11,5790,11,5808,null,null,null,null,0,111]
[11,5947,11,5980,11,6000,null,null,null,null,0,111]
[11,6221,11,6240,11,6259,null,null,null,null,0,111]
[11,6390,11,6410,11,6429,null,null,null,null,0,111]
[11,6716,11,6742,11,6767,null,null,null,null,0,111]
[11,6916,11,6935,11,6957,null,null,null,null,0,111]
[11,7132,11,7148,11,7173,null,null,null,null,0,111]
[11,7314,11,7332,11,7350,null,null,null,null,0,111]
[11,7578,11,7582,11,7609,null,null,null,null,0,111]
[11,7725,11,7744,11,7767,null,null,null,null,1,111]

{"sheet":"!N22094B.AXT","index":31,"n_rows":28,"n_cols":48,"rows_kept":28,"cut":false,"hidden":false,"merged":[[4,39,4,42],[5,39,5,40],[4,44,4,47],[5,44,5,45],[4,24,4,27],[5,24,5,25],[4,29,4,32],[5,29,5,30],[4,34,4,37],[5,34,5,35],[1,1,1,2],[5,13,5,14],[18,13,18,14],[19,13,19,14],[4,19,4,22],[5,19,5,20]]}
["Report for:!N22094B.AXT"]
["Date:","<date>"]
["Hen:","<hen>",null,null,null,"Correct Sequence",{"$f":"Start!J2","v":111},null,null,null,null,null,null,null,null,"Total Sequences in Data",{"$f":"4994-COUNTBLANK(L7:L5000)","v":17},null,null,null,null,"Total Sequences in Block Data",{"$f":"COUNTA(L7:L9)","v":3},null,null,null,"Total Sequences in Block Data",{"$f":"COUNTA(L10:L12)","v":3},null,null,null,"Total Sequences in Block Data",{"$f":"COUNTA(L13:L14)","v":2},null,null,null,"Total Sequences in Block Data",{"$f":"COUNTA(L15:L17)","v":3},null,null,null,"Total Sequences in Block Data",{"$f":"COUNTA(L18:L20)","v":3},null,null,null,"Total Sequences in Block Data",{"$f":"COUNTA(L21:L23)","v":3}]
[null,null,null,null,null,null,null,null,null,null,null,null,null,null,null,"Total Sequences in Summary",{"$f":"SUM(O7:O14)","v":17},null,null,null,null,"Total Sequences in Block Summary",{"$f":"SUM(U7:U14)","v":3},null,null,null,"Total Sequences in Block Summary",{"$f":"SUM(Z7:Z14)","v":3},null,null,null,"Total Sequences in Block Summary",{"$f":"SUM(AE7:AE14)","v":2},null,null,null,"Total Sequences in Block Summary",{"$f":"SUM(AJ7:AJ14)","v":3},null,null,null,"Total Sequences in Block Summary",{"$f":"SUM(AO7:AO14)","v":3},null,null,null,"Total Sequences in Block Summary",{"$f":"SUM(AT7:AT14)","v":3}]
[null,null,null,null,null,null,null,null,null,null,null,null,null,null,null,null,null,null,null,"Block 1",null,null,null,null,"Block 2",null,null,null,null,"Block 3",null,null,null,null,"Block 4",null,null,null,null,"Block 5",null,null,null,null,"Block 6"]
["Sequence\nComponent\n1","Time\n1","Sequence\nComponent\n2","Time\n2","Sequence\nComponent\n3","Time\n3","Sequence\nComponent\n4","Time\n4","Sequence\nComponent\n5","Time\n5","Correct?\n0=No 1=Yes","Sequence",null,"Frequency",null,"Relative Frequency","Variability",null,null,"Frequency",null,"Relative Frequency","Variability",null,"Frequency",null,"Relative Frequency","Variability",null,"Frequency",null,"Relative Frequency","Variability",null,"Frequency",null,"Relative Frequency","Variability",null,"Frequency",null,"Relative Frequency","Variability",null,"Frequency",null,"Relative Frequency","Variability"]
[11,369,11,373,11,376,null,null,null,null,0,111,null,111,{"$f":"COUNTIF($L$7:$L$500,N7)","v":12},{"$f":"O7/$Q$4","v":0.70588235294117652},{"$f":"IF(P7=0,0,(P7*((LOG(P7))/LOG(2))))","v":-0.35470612272648222},null,null,{"$f":"N7","v":111},{"$f":"COUNTIF(L7:L9,T7)","v":2},null,null,null,{"$f":"N7","v":111},{"$f":"COUNTIF(L10:L12,Y7)","v":1},null,null,null,{"$f":"N7","v":111},{"$f":"COUNTIF(L13:L14,AD7)","v":1},null,null,null,{"$f":"N7","v":111},{"$f":"COUNTIF(L15:L17,AI7)","v":2},null,null,null,{"$f":"N7","v":111},{"$f":"COUNTIF(L18:L20,AN7)","v":3},null,null,null,{"$f":"N7","v":111},{"$f":"COUNTIF(L21:L23,AS7)","v":3}]
[11,484,11,486,11,496,null,null,null,null,0,111,null,112,{"$f":"COUNTIF($L$7:$L$500,N8)","v":1},{"$f":"O8/$Q$4","v":5.8823529411764705E-2},{"$f":"IF(P8=0,0,(P8*((LOG(P8))/LOG(2))))","v":-0.24043899066178465},null,null,{"$f":"N8","v":112},{"$f":"COUNTIF(L7:L9,T8)","v":1},{"$f":"U8/(W4-U7)","v":1},{"$f":"IF(V8=0,0,(V8*((LOG(V8))/LOG(2))))","v":0},null,{"$f":"N8","v":112},{"$f":"COUNTIF(L10:L12,Y8)","v":0},{"$f":"Z8/(AB4-Z7)","v":0},{"$f":"IF(AA8=0,0,(AA8*((LOG(AA8))/LOG(2))))","v":0},null,{"$f":"N8","v":112},{"$f":"COUNTIF(L13:L14,AD8)","v":0},{"$f":"AE8/(AG4-AE7)","v":0},{"$f":"IF(AF8=0,0,(AF8*((LOG(AF8))/LOG(2))))","v":0},null,{"$f":"N8","v":112},{"$f":"COUNTIF(L15:L17,AI8)","v":0},{"$f":"AJ8/(AL4-AJ7)","v":0},{"$f":"IF(AK8=0,0,(AK8*((LOG(AK8))/LOG(2))))","v":0},null,{"$f":"N8","v":112},{"$f":"COUNTIF(L18:L20,AN8)","v":0},{"$f":"AO8/(AQ4-AO7)","v":{"$error":"#DIV/0!"}},{"$f":"IF(AP8=0,0,(AP8*((LOG(AP8))/LOG(2))))","v":{"$error":"#DIV/0!"}},null,{"$f":"N8","v":112},{"$f":"COUNTIF(L21:L23,AS8)","v":0},{"$f":"AT8/(AV4-AT7)","v":{"$error":"#DIV/0!"}},{"$f":"IF(AU8=0,0,(AU8*((LOG(AU8))/LOG(2))))","v":{"$error":"#DIV/0!"}}]
[11,604,11,609,22,617,null,null,null,null,0,112,null,121,{"$f":"COUNTIF($L$7:$L$500,N9)","v":0},{"$f":"O9/$Q$4","v":0},{"$f":"IF(P9=0,0,(P9*((LOG(P9))/LOG(2))))","v":0},null,null,{"$f":"N9","v":121},{"$f":"COUNTIF(L7:L9,T9)","v":0},{"$f":"U9/(W4-U7)","v":0},{"$f":"IF(V9=0,0,(V9*((LOG(V9))/LOG(2))))","v":0},null,{"$f":"N9","v":121},{"$f":"COUNTIF(L10:L12,Y9)","v":0},{"$f":"Z9/(AB4-Z7)","v":0},{"$f":"IF(AA9=0,0,(AA9*((LOG(AA9))/LOG(2))))","v":0},null,{"$f":"N9","v":121},{"$f":"COUNTIF(L13:L14,AD9)","v":0},{"$f":"AE9/(AG4-AE7)","v":0},{"$f":"IF(AF9=0,0,(AF9*((LOG(AF9))/LOG(2))))","v":0},null,{"$f":"N9","v":121},{"$f":"COUNTIF(L15:L17,AI9)","v":0},{"$f":"AJ9/(AL4-AJ7)","v":0},{"$f":"IF(AK9=0,0,(AK9*((LOG(AK9))/LOG(2))))","v":0},null,{"$f":"N9","v":121},{"$f":"COUNTIF(L18:L20,AN9)","v":0},{"$f":"AO9/(AQ4-AO7)","v":{"$error":"#DIV/0!"}},{"$f":"IF(AP9=0,0,(AP9*((LOG(AP9))/LOG(2))))","v":{"$error":"#DIV/0!"}},null,{"$f":"N9","v":121},{"$f":"COUNTIF(L21:L23,AS9)","v":0},{"$f":"AT9/(AV4-AT7)","v":{"$error":"#DIV/0!"}},{"$f":"IF(AU9=0,0,(AU9*((LOG(AU9))/LOG(2))))","v":{"$error":"#DIV/0!"}}]
[22,718,24,723,13,730,null,null,null,null,0,221,null,122,{"$f":"COUNTIF($L$7:$L$500,N10)","v":1},{"$f":"O10/$Q$4","v":5.8823529411764705E-2},{"$f":"IF(P10=0,0,(P10*((LOG(P10))/LOG(2))))","v":-0.24043899066178465},null,null,{"$f":"N10","v":122},{"$f":"COUNTIF(L7:L9,T10)","v":0},{"$f":"U10/(W4-U7)","v":0},{"$f":"IF(V10=0,0,(V10*((LOG(V10))/LOG(2))))","v":0},null,{"$f":"N10","v":122},{"$f":"COUNTIF(L10:L12,Y10)","v":1},{"$f":"Z10/(AB4-Z7)","v":0.5},{"$f":"IF(AA10=0,0,(AA10*((LOG(AA10))/LOG(2))))","v":-0.5},null,{"$f":"N10","v":122},{"$f":"COUNTIF(L13:L14,AD10)","v":0},{"$f":"AE10/(AG4-AE7)","v":0},{"$f":"IF(AF10=0,0,(AF10*((LOG(AF10))/LOG(2))))","v":0},null,{"$f":"N10","v":122},{"$f":"COUNTIF(L15:L17,AI10)","v":0},{"$f":"AJ10/(AL4-AJ7)","v":0},{"$f":"IF(AK10=0,0,(AK10*((LOG(AK10))/LOG(2))))","v":0},null,{"$f":"N10","v":122},{"$f":"COUNTIF(L18:L20,AN10)","v":0},{"$f":"AO10/(AQ4-AO7)","v":{"$error":"#DIV/0!"}},{"$f":"IF(AP10=0,0,(AP10*((LOG(AP10))/LOG(2))))","v":{"$error":"#DIV/0!"}},null,{"$f":"N10","v":122},{"$f":"COUNTIF(L21:L23,AS10)","v":0},{"$f":"AT10/(AV4-AT7)","v":{"$error":"#DIV/0!"}},{"$f":"IF(AU10=0,0,(AU10*((LOG(AU10))/LOG(2))))","v":{"$error":"#DIV/0!"}}]
[11,863,22,886,24,891,null,null,null,null,0,122,null,211,{"$f":"COUNTIF($L$7:$L$500,N11)","v":0},{"$f":"O11/$Q$4","v":0},{"$f":"IF(P11=0,0,(P11*((LOG(P11))/LOG(2))))","v":0},null,null,{"$f":"N11","v":211},{"$f":"COUNTIF(L7:L9,T11)","v":0},{"$f":"U11/(W4-U7)","v":0},{"$f":"IF(V11=0,0,(V11*((LOG(V11))/LOG(2))))","v":0},null,{"$f":"N11","v":211},{"$f":"COUNTIF(L10:L12,Y11)","v":0},{"$f":"Z11/(AB4-Z7)","v":0},{"$f":"IF(AA11=0,0,(AA11*((LOG(AA11))/LOG(2))))","v":0},null,{"$f":"N11","v":211},{"$f":"COUNTIF(L13:L14,AD11)","v":0},{"$f":"AE11/(AG4-AE7)","v":0},{"$f":"IF(AF11=0,0,(AF11*((LOG(AF11))/LOG(2))))","v":0},null,{"$f":"N11","v":211},{"$f":"COUNTIF(L15:L17,AI11)","v":0},{"$f":"AJ11/(AL4-AJ7)","v":0},{"$f":"IF(AK11=0,0,(AK11*((LOG(AK11))/LOG(2))))","v":0},null,{"$f":"N11","v":211},{"$f":"COUNTIF(L18:L20,AN11)","v":0},{"$f":"AO11/(AQ4-AO7)","v":{"$error":"#DIV/0!"}},{"$f":"IF(AP11=0,0,(AP11*((LOG(AP11))/LOG(2))))","v":{"$error":"#DIV/0!"}},null,{"$f":"N11","v":211},{"$f":"COUNTIF(L21:L23,AS11)","v":0},{"$f":"AT11/(AV4-AT7)","v":{"$error":"#DIV/0!"}},{"$f":"IF(AU11=0,0,(AU11*((LOG(AU11))/LOG(2))))","v":{"$error":"#DIV/0!"}}]
[11,994,11,1016,11,1040,null,null,null,null,0,111,null,212,{"$f":"COUNTIF($L$7:$L$500,N12)","v":0},{"$f":"O12/$Q$4","v":0},{"$f":"IF(P12=0,0,(P12*((LOG(P12))/LOG(2))))","v":0},null,null,{"$f":"N12","v":212},{"$f":"COUNTIF(L7:L9,T12)","v":0},{"$f":"U12/(W4-U7)","v":0},{"$f":"IF(V12=0,0,(V12*((LOG(V12))/LOG(2))))","v":0},null,{"$f":"N12","v":212},{"$f":"COUNTIF(L10:L12,Y12)","v":0},{"$f":"Z12/(AB4-Z7)","v":0},{"$f":"IF(AA12=0,0,(AA12*((LOG(AA12))/LOG(2))))","v":0},null,{"$f":"N12","v":212},{"$f":"COUNTIF(L13:L14,AD12)","v":0},{"$f":"AE12/(AG4-AE7)","v":0},{"$f":"IF(AF12=0,0,(AF12*((LOG(AF12))/LOG(2))))","v":0},null,{"$f":"N12","v":212},{"$f":"COUNTIF(L15:L17,AI12)","v":0},{"$f":"AJ12/(AL4-AJ7)","v":0},{"$f":"IF(AK12=0,0,(AK12*((LOG(AK12))/LOG(2))))","v":0},null,{"$f":"N12","v":212},{"$f":"COUNTIF(L18:L20,AN12)","v":0},{"$f":"AO12/(AQ4-AO7)","v":{"$error":"#DIV/0!"}},{"$f":"IF(AP12=0,0,(AP12*((LOG(AP12))/LOG(2))))","v":{"$error":"#DIV/0!"}},null,{"$f":"N12","v":212},{"$f":"COUNTIF(L21:L23,AS12)","v":0},{"$f":"AT12/(AV4-AT7)","v":{"$error":"#DIV/0!"}},{"$f":"IF(AU12=0,0,(AU12*((LOG(AU12))/LOG(2))))","v":{"$error":"#DIV/0!"}}]
[22,1131,24,1133,24,1139,null,null,null,null,0,222,null,221,{"$f":"COUNTIF($L$7:$L$500,N13)","v":1},{"$f":"O13/$Q$4","v":5.8823529411764705E-2},{"$f":"IF(P13=0,0,(P13*((LOG(P13))/LOG(2))))","v":-0.24043899066178465},null,null,{"$f":"N13","v":221},{"$f":"COUNTIF(L7:L9,T13)","v":0},{"$f":"U13/(W4-U7)","v":0},{"$f":"IF(V13=0,0,(V13*((LOG(V13))/LOG(2))))","v":0},null,{"$f":"N13","v":221},{"$f":"COUNTIF(L10:L12,Y13)","v":1},{"$f":"Z13/(AB4-Z7)","v":0.5},{"$f":"IF(AA13=0,0,(AA13*((LOG(AA13))/LOG(2))))","v":-0.5},null,{"$f":"N13","v":221},{"$f":"COUNTIF(L13:L14,AD13)","v":0},{"$f":"AE13/(AG4-AE7)","v":0},{"$f":"IF(AF13=0,0,(AF13*((LOG(AF13))/LOG(2))))","v":0},null,{"$f":"N13","v":221},{"$f":"COUNTIF(L15:L17,AI13)","v":0},{"$f":"AJ13/(AL4-AJ7)","v":0},{"$f":"IF(AK13=0,0,(AK13*((LOG(AK13))/LOG(2))))","v":0},null,{"$f":"N13","v":221},{"$f":"COUNTIF(L18:L20,AN13)","v":0},{"$f":"AO13/(AQ4-AO7)","v":{"$error":"#DIV/0!"}},{"$f":"IF(AP13=0,0,(AP13*((LOG(AP13))/LOG(2))))","v":{"$error":"#DIV/0!"}},null,{"$f":"N13","v":221},{"$f":"COUNTIF(L21:L23,AS13)","v":0},{"$f":"AT13/(AV4-AT7)","v":{"$error":"#DIV/0!"}},{"$f":"IF(AU13=0,0,(AU13*((LOG(AU13))/LOG(2))))","v":{"$error":"#DIV/0!"}}]
[11,1233,11,1257,11,1274,null,null,null,null,0,111,null,222,{"$f":"COUNTIF($L$7:$L$500,N14)","v":2},{"$f":"O14/$Q$4","v":0.11764705882352941},{"$f":"IF(P14=0,0,(P14*((LOG(P14))/LOG(2))))","v":-0.36323092250003997},null,null,{"$f":"N14","v":222},{"$f":"COUNTIF(L7:L9,T14)","v":0},{"$f":"U14/(W4-U7)","v":0},{"$f":"IF(V14=0,0,(V14*((LOG(V14))/LOG(2))))","v":0},null,{"$f":"N14","v":222},{"$f":"COUNTIF(L10:L12,Y14)","v":0},{"$f":"Z14/(AB4-Z7)","v":0},{"$f":"IF(AA14=0,0,(AA14*((LOG(AA14))/LOG(2))))","v":0},null,{"$f":"N14","v":222},{"$f":"COUNTIF(L13:L14,AD14)","v":1},{"$f":"AE14/(AG4-AE7)","v":1},{"$f":"IF(AF14=0,0,(AF14*((LOG(AF14))/LOG(2))))","v":0},null,{"$f":"N14","v":222},{"$f":"COUNTIF(L15:L17,AI14)","v":1},{"$f":"AJ14/(AL4-AJ7)","v":1},{"$f":"IF(AK14=0,0,(AK14*((LOG(AK14))/LOG(2))))","v":0},null,{"$f":"N14","v":222},{"$f":"COUNTIF(L18:L20,AN14)","v":0},{"$f":"AO14/(AQ4-AO7)","v":{"$error":"#DIV/0!"}},{"$f":"IF(AP14=0,0,(AP14*((LOG(AP14))/LOG(2))))","v":{"$error":"#DIV/0!"}},null,{"$f":"N14","v":222},{"$f":"COUNTIF(L21:L23,AS14)","v":0},{"$f":"AT14/(AV4-AT7)","v":{"$error":"#DIV/0!"}},{"$f":"IF(AU14=0,0,(AU14*((LOG(AU14))/LOG(2))))","v":{"$error":"#DIV/0!"}}]
[22,1369,24,1374,24,1383,null,null,null,null,0,222,null,null,null,{"$f":"SUM(P7:P14)","v":1},{"$f":"-SUM(Q7:Q14)","v":1.439254017211876},null,null,null,null,{"$f":"SUM(V7:V14)","v":1},{"$f":"-SUM(W7:W14)","v":0},null,null,null,{"$f":"SUM(AA7:AA14)","v":1},{"$f":"-SUM(AB7:AB14)","v":1},null,null,null,{"$f":"SUM(AF7:AF14)","v":1},{"$f":"-SUM(AG7:AG14)","v":0},null,null,null,{"$f":"SUM(AK7:AK14)","v":1},{"$f":"-SUM(AL7:AL14)","v":0},null,null,null,{"$f":"SUM(AP7:AP14)","v":{"$error":"#DIV/0!"}},{"$f":"-SUM(AQ7:AQ14)","v":{"$error":"#DIV/0!"}},null,null,null,{"$f":"SUM(AU7:AU14)","v":{"$error":"#DIV/0!"}},{"$f":"-SUM(AV7:AV14)","v":{"$error":"#DIV/0!"}}]
[11,1504,11,1507,11,1541,null,null,null,null,0,111,null,null,null,"U=",{"$f":"Q15/(LOG(Q4)/LOG(2))","v":0.35211427555672009},null,null,null,null,"U1=",{"$f":"W15/(LOG(W4)/LOG(2))","v":0},null,null,null,"U2=",{"$f":"AB15/(LOG(AB4)/LOG(2))","v":0.63092975357145753},null,null,null,"U3=",{"$f":"AG15/(LOG(AG4)/LOG(2))","v":0},null,null,null,"U4=",{"$f":"AL15/(LOG(AL4)/LOG(2))","v":0},null,null,null,"U5=",{"$f":"AQ15/(LOG(AQ4)/LOG(2))","v":{"$error":"#DIV/0!"}},null,null,null,"U6=",{"$f":"AV15/(LOG(AV4)/LOG(2))","v":{"$error":"#DIV/0!"}}]
[11,1717,11,1790,11,1850,null,null,null,null,0,111]
[11,2052,11,2073,11,2102,null,null,null,null,0,111]
[11,2211,11,2220,11,2242,null,null,null,null,0,111,null,"Total Target Seq"]
[11,2682,11,2702,11,2717,null,null,null,null,0,111,null,{"$f":"COUNTIF(L7:L23,G3)","v":12},null,3,3,2,3,3,3]
[11,2845,11,2861,11,2898,null,null,null,null,0,111,null,null,null,"% of reinforcement given in 6 equal intervals based on number of trials "]
[11,3000,11,3002,11,3020,null,null,null,null,0,111,null,null,null,"%_1","%_2","%_3","%_4","%_5","%_6"]
[11,3239,11,3261,11,3324,null,null,null,null,0,111,null,null,"target sequence",{"$f":"$G$3","v":111},{"$f":"$G$3","v":111},{"$f":"$G$3","v":111},{"$f":"$G$3","v":111},{"$f":"$G$3","v":111},{"$f":"$G$3","v":111}]
[null,null,null,null,null,null,null,null,null,null,null,null,null,null,"total reinforcement",{"$f":"U7","v":2},{"$f":"Z7","v":1},{"$f":"AE7","v":1},{"$f":"AJ7","v":2},{"$f":"AO7","v":3},{"$f":"AT7","v":3}]
[null,null,null,null,null,null,null,null,null,null,null,null,null,null,"% target"]
[null,null,null,null,null,null,null,null,null,null,null,null,null,null,"CCRF"]
[null,null,null,null,null,null,null,null,null,null,null,null,null,null,"% CCRf"]
[null,null,null,null,null,null,null,null,null,null,null,null,null,null,"average response rate",{"$f":"F9/P20","v":205.66666666666666},{"$f":"(F12-F9)/Q20","v":141},{"$f":"(F14-F12)/R20","v":117},{"$f":"(F17-F14)/S20","v":192},{"$f":"(F20-F17)/T20","v":289},{"$f":"(F23-F20)/U20","v":202.33333333333334}]