{"text_format":"1","workbook":"xlsx","n_sheets":33,"sheets":["Sample Report","Summary","Start","!MC2194B.AXT","!MC22A3B.AXT","!MC2391B.AXT","!MC2493B.AXT","!MC2695B.AXT","!MC2795B.AXT","!MC28A1B.AXT","!MC29A1B.AXT","!MC3094B.AXT","!MC31A0B.AXT","!N10293B.AXT","!N103A1B.AXT","!N104B0B.AXT","!N10583B.AXT","!N10690B.AXT","!N10795B.AXT","!N10894B.AXT","!N10995B.AXT","!N110A1B.AXT","!N111A2B.AXT","!N11292B.AXT","!N11394B.AXT","!N11491B.AXT","!N11595B.AXT","!N11693B.AXT","!N117A0B.AXT","!N11993B.AXT","!N120A2B.AXT","!N12193B.AXT","!N122A1B.AXT"],"not_rendered":{"charts":0,"images":0,"macros":1,"external_links":0,"defined_names":0,"comments":0,"pivot_tables":0},"unopened":[],"bounds":{"document_bytes":16777216,"sheet_cells":100000,"rows_first":2000,"rows_last":500,"rows_between":2000,"halvings":0,"cell_chars":16384,"cell_head_chars":4096},"cells_cut":0,"cells_raw":0,"read":"whole","date_system":"1900"}

{"sheet":"Sample Report","index":0,"n_rows":12,"n_cols":11,"rows_kept":12,"cut":false,"hidden":true,"merged":[[7,0,7,6]]}
[]
["Date"]
["Hen"]
["Program"]
["Start at 999999"]
["Sequence component 1","Time 1","Seqeunce Component 2","Time 2","Seqeunce Component 3","Time 3","Correct   0 = No 1=Yes",null,null,"Seqeunce","Time"]
[12,7,12,42,13,18,"if 77 new line,                                  if 31 or 41 = yes new line on 77, ",null,null,"=string of Seqeunce compponent 1, 2 & 3","=time 3"]
["This continues until ther is a 1 on its own to indicate start of summary data"]
[null,null,null,null,null,null,null,null,null,"10-19 =1"]
["Summary Data ",null,null,null,null,null,null,null,null,"20-29 =2"]
["Correct","Incorrect","Rft","total","Av Correct","Av Incorrect","Percent correct","Time",null,"in this example the seqeunce would be 111"]
[40,33,40,73,23.95,15,54,806]

{"sheet":"Summary","index":1,"n_rows":32,"n_cols":24,"rows_kept":32,"cut":false,"hidden":false,"merged":[]}
[]
["Day","Date","Average Response Rate","Target %","RF for non correct sequence","U Value",null,null,null,null,"Block 1","Block 2","Block 3","Block 4","Block 5","Block 6"]
[1,{"$f":"'!MC2194B.AXT'!B2:C2","v":"<date>"},{"$f":"('!MC2194B.AXT'!F19/60)/'!MC2194B.AXT'!Q3","v":30.061538461538461},{"$f":"'!MC2194B.AXT'!N20/'!MC2194B.AXT'!Q3","v":7.6923076923076927E-2},{"$f":"SUM('!MC2194B.AXT'!L20:Q20)/'!MC2194B.AXT'!Q3","v":0.38461538461538464},{"$f":"'!MC2194B.AXT'!Q16","v":0.59236361147730188},null,null,null,"Average Response Rate",{"$f":"AVERAGE(C3:C7)","v":8.8636941534549987},{"$f":"AVERAGE(C8:C12)","v":6.9071607217729847},{"$f":"AVERAGE(C13:C17)","v":5.6643199012332559},{"$f":"AVERAGE(C18:C22)","v":3.1640500064697319},{"$f":"AVERAGE(C23:C27)","v":3.1919263588799094},{"$f":"AVERAGE(C28:C32)","v":2.8393949032857364}]
[2,{"$f":"'!MC22A3B.AXT'!B2:C2","v":"<date>"},{"$f":"('!MC22A3B.AXT'!F21/60)/'!MC22A3B.AXT'!Q3","v":2.8166666666666669},{"$f":"'!MC22A3B.AXT'!N20/'!MC22A3B.AXT'!Q3","v":6.25E-2},{"$f":"SUM('!MC22A3B.AXT'!L20:Q20)/'!MC22A3B.AXT'!Q3","v":13.5625},{"$f":"'!MC22A3B.AXT'!Q16","v":0.52221168702167775},null,null,null,"Target %",{"$f":"AVERAGE(D3:D7)","v":0.31810277161262379},{"$f":"AVERAGE(D8:D12)","v":0.47068194070080871},{"$f":"AVERAGE(D13:D17)","v":0.47345403184386237},{"$f":"AVERAGE(D18:D22)","v":0.64333183284157291},{"$f":"AVERAGE(D23:D27)","v":0.80013057342349769},{"$f":"AVERAGE(D28:D32)","v":0.87986029522580367}]
[3,{"$f":"'!MC2391B.AXT'!B2:C2","v":"<date>"},{"$f":"('!MC2391B.AXT'!F37/60)/'!MC2391B.AXT'!Q3","v":4.4215053763440855},{"$f":"'!MC2391B.AXT'!N20/'!MC2391B.AXT'!Q3","v":0},{"$f":"SUM('!MC2391B.AXT'!L20:Q20)/'!MC2391B.AXT'!Q3","v":4.225806451612903},{"$f":"'!MC2391B.AXT'!Q16","v":0.48418259679932629},null,null,null,"CCRF",{"$f":"AVERAGE(E3:E7)","v":5.6927828190401684},{"$f":"AVERAGE(E8:E12)","v":7.0159496855345909},{"$f":"AVERAGE(E13:E17)","v":4.49136354781007},{"$f":"AVERAGE(E18:E22)","v":5.1691956938923909},{"$f":"AVERAGE(E23:E27)","v":6.1939042828082895},{"$f":"AVERAGE(E28:E32)","v":6.1685223419676047}]
[4,{"$f":"'!MC2493B.AXT'!B2:C2","v":"<date>"},{"$f":"('!MC2493B.AXT'!F64/60)/'!MC2493B.AXT'!Q3","v":3.1997126436781609},{"$f":"'!MC2493B.AXT'!N20/'!MC2493B.AXT'!Q3","v":0.65517241379310343},{"$f":"SUM('!MC2493B.AXT'!L20:Q20)/'!MC2493B.AXT'!Q3","v":4.6379310344827589},{"$f":"'!MC2493B.AXT'!Q16","v":0.31084205180398067},null,null,null,"U Value",{"$f":"AVERAGE(F3:F7)","v":0.41781728145902841},{"$f":"AVERAGE(F8:F12)","v":0.40027412554531916},{"$f":"AVERAGE(F13:F17)","v":0.4202679792461918},{"$f":"AVERAGE(F18:F22)","v":0.28937360039178606},{"$f":"AVERAGE(F23:F27)","v":0.19485606152623922},{"$f":"AVERAGE(F28:F32)","v":0.12780605347854074}]
[5,{"$f":"'!MC2695B.AXT'!B2:C2","v":"<date>"},{"$f":"('!MC2695B.AXT'!F55/60)/'!MC2695B.AXT'!Q3","v":3.8190476190476188},{"$f":"'!MC2695B.AXT'!N20/'!MC2695B.AXT'!Q3","v":0.79591836734693877},{"$f":"SUM('!MC2695B.AXT'!L20:Q20)/'!MC2695B.AXT'!Q3","v":5.6530612244897958},{"$f":"'!MC2695B.AXT'!Q16","v":0.17948646019285558}]
[6,{"$f":"'!MC2795B.AXT'!B2:C2","v":"<date>"},{"$f":"('!MC2795B.AXT'!F62/60)/'!MC2795B.AXT'!Q3","v":3.4639880952380948},{"$f":"'!MC2795B.AXT'!N20/'!MC2795B.AXT'!Q3","v":0.6964285714285714},{"$f":"SUM('!MC2795B.AXT'!L20:Q20)/'!MC2795B.AXT'!Q3","v":5},{"$f":"'!MC2795B.AXT'!Q16","v":0.27266783222422547}]
[7,{"$f":"'!MC28A1B.AXT'!B2:C2","v":"<date>"},{"$f":"('!MC28A1B.AXT'!F59/60)/'!MC28A1B.AXT'!Q3","v":3.39937106918239},{"$f":"'!MC28A1B.AXT'!N20/'!MC28A1B.AXT'!Q3","v":0.71698113207547165},{"$f":"SUM('!MC28A1B.AXT'!L20:Q20)/'!MC28A1B.AXT'!Q3","v":5.2264150943396226},{"$f":"'!MC28A1B.AXT'!Q16","v":0.27850635166462806},{"$f":"K3","v":8.8636941534549987},{"$f":"L3","v":6.9071607217729847},5.6643199012332559,3.1640500064697319,3.1919263588799094,2.8393949032857364,{"$f":"K4","v":0.31810277161262379},{"$f":"L4","v":0.47068194070080871},0.47345403184386237,0.64333183284157291,0.80013057342349769,0.87986029522580367,{"$f":"K6","v":0.41781728145902841},{"$f":"L6","v":0.40027412554531916},0.4202679792461918,0.28937360039178606,0.19485606152623922,0.12780605347854074]
[8,{"$f":"'!MC29A1B.AXT'!B2:C2","v":"<date>"},{"$f":"('!MC29A1B.AXT'!F56/60)/'!MC29A1B.AXT'!Q3","v":3.1796666666666664},{"$f":"'!MC29A1B.AXT'!N20/'!MC29A1B.AXT'!Q3","v":0.74},{"$f":"SUM('!MC29A1B.AXT'!L20:Q20)/'!MC29A1B.AXT'!Q3","v":5.52},{"$f":"'!MC29A1B.AXT'!Q16","v":0.24782084307123195}]
[9,{"$f":"'!MC3094B.AXT'!B2:C2","v":"<date>"},{"$f":"('!MC3094B.AXT'!F36/60)/'!MC3094B.AXT'!Q3","v":7.1511111111111108},{"$f":"'!MC3094B.AXT'!N20/'!MC3094B.AXT'!Q3","v":0.1},{"$f":"SUM('!MC3094B.AXT'!L20:Q20)/'!MC3094B.AXT'!Q3","v":7.833333333333333},{"$f":"'!MC3094B.AXT'!Q16","v":0.55250477739825554}]
[10,{"$f":"'!MC31A0B.AXT'!B2:C2","v":"<date>"},{"$f":"('!MC31A0B.AXT'!F26/60)/'!MC31A0B.AXT'!Q3","v":17.341666666666665},{"$f":"'!MC31A0B.AXT'!N20/'!MC31A0B.AXT'!Q3","v":0.1},{"$f":"SUM('!MC31A0B.AXT'!L20:Q20)/'!MC31A0B.AXT'!Q3","v":11.5},{"$f":"'!MC31A0B.AXT'!Q16","v":0.64987082336825441}]
[11,{"$f":"'!N10293B.AXT'!B2:C2","v":"<date>"},{"$f":"('!N10293B.AXT'!F35/60)/'!N10293B.AXT'!Q3","v":11.513793103448275},{"$f":"'!N10293B.AXT'!N20/'!N10293B.AXT'!Q3","v":0.37931034482758619},{"$f":"SUM('!N10293B.AXT'!L20:Q20)/'!N10293B.AXT'!Q3","v":8.3793103448275854},{"$f":"'!N10293B.AXT'!Q16","v":0.5178353762242498}]
[12,{"$f":"'!N103A1B.AXT'!B2:C2","v":"<date>"},{"$f":"('!N103A1B.AXT'!F65/60)/'!N103A1B.AXT'!Q3","v":4.3488700564971747},{"$f":"'!N103A1B.AXT'!N20/'!N103A1B.AXT'!Q3","v":0.6271186440677966},{"$f":"SUM('!N103A1B.AXT'!L20:Q20)/'!N103A1B.AXT'!Q3","v":4.7288135593220337},{"$f":"'!N103A1B.AXT'!Q16","v":0.33193528175536546}]
[13,{"$f":"'!N104B0B.AXT'!B2:C2","v":"<date>"},{"$f":"('!N104B0B.AXT'!F64/60)/'!N104B0B.AXT'!Q3","v":4.616954022988506},{"$f":"'!N104B0B.AXT'!N20/'!N104B0B.AXT'!Q3","v":0.62068965517241381},{"$f":"SUM('!N104B0B.AXT'!L20:Q20)/'!N104B0B.AXT'!Q3","v":3.0517241379310347},{"$f":"'!N104B0B.AXT'!Q16","v":0.32896851138088506}]
[14,{"$f":"'!N10583B.AXT'!B2:C2","v":"<date>"},{"$f":"('!N10583B.AXT'!F45/60)/'!N10583B.AXT'!Q3","v":4.7937500000000002},{"$f":"'!N10583B.AXT'!N20/'!N10583B.AXT'!Q3","v":0.22500000000000001},{"$f":"SUM('!N10583B.AXT'!L20:Q20)/'!N10583B.AXT'!Q3","v":3.6},{"$f":"'!N10583B.AXT'!Q16","v":0.54025207229817984}]
[15,{"$f":"'!N10690B.AXT'!B2:C2","v":"<date>"},{"$f":"('!N10690B.AXT'!F72/60)/'!N10690B.AXT'!Q3","v":3.0482323232323232},{"$f":"'!N10690B.AXT'!N20/'!N10690B.AXT'!Q3","v":0.51515151515151514},{"$f":"SUM('!N10690B.AXT'!L20:Q20)/'!N10690B.AXT'!Q3","v":2.6969696969696968},{"$f":"'!N10690B.AXT'!Q16","v":0.38234865457227901}]
[16,{"$f":"'!N10795B.AXT'!B2:C2","v":"<date>"},{"$f":"('!N10795B.AXT'!F40/60)/'!N10795B.AXT'!Q3","v":4.9441176470588237},{"$f":"'!N10795B.AXT'!N20/'!N10795B.AXT'!Q3","v":0.17647058823529413},{"$f":"SUM('!N10795B.AXT'!L20:Q20)/'!N10795B.AXT'!Q3","v":4.0588235294117645},{"$f":"'!N10795B.AXT'!Q16","v":0.54673102672183582}]
[17,{"$f":"'!N10894B.AXT'!B2:C2","v":"<date>"},{"$f":"('!N10894B.AXT'!F60/60)/'!N10894B.AXT'!Q3","v":2.9805555555555552},{"$f":"'!N10894B.AXT'!N20/'!N10894B.AXT'!Q3","v":0.72222222222222221},{"$f":"SUM('!N10894B.AXT'!L20:Q20)/'!N10894B.AXT'!Q3","v":5.166666666666667},{"$f":"'!N10894B.AXT'!Q16","v":0.24299417338755616}]
[18,{"$f":"'!N10995B.AXT'!B2:C2","v":"<date>"},{"$f":"('!N10995B.AXT'!F64/60)/'!N10995B.AXT'!Q3","v":2.7744252873563218},{"$f":"'!N10995B.AXT'!N20/'!N10995B.AXT'!Q3","v":0.67241379310344829},{"$f":"SUM('!N10995B.AXT'!L20:Q20)/'!N10995B.AXT'!Q3","v":4.8275862068965516},{"$f":"'!N10995B.AXT'!Q16","v":0.28879679575566475}]
[19,{"$f":"'!N110A1B.AXT'!B2:C2","v":"<date>"},{"$f":"('!N110A1B.AXT'!F48/60)/'!N110A1B.AXT'!Q3","v":2.4837301587301588},{"$f":"'!N110A1B.AXT'!N20/'!N110A1B.AXT'!Q3","v":0.9285714285714286},{"$f":"SUM('!N110A1B.AXT'!L20:Q20)/'!N110A1B.AXT'!Q3","v":6.5476190476190474},{"$f":"'!N110A1B.AXT'!Q16","v":8.9839654429245561E-2}]
[20,{"$f":"'!N111A2B.AXT'!B2:C2","v":"<date>"},{"$f":"('!N111A2B.AXT'!F59/60)/'!N111A2B.AXT'!Q3","v":2.6374213836477987},{"$f":"'!N111A2B.AXT'!N20/'!N111A2B.AXT'!Q3","v":0.71698113207547165},{"$f":"SUM('!N111A2B.AXT'!L20:Q20)/'!N111A2B.AXT'!Q3","v":5.2452830188679247},{"$f":"'!N111A2B.AXT'!Q16","v":0.27850635166462806}]
[21,{"$f":"'!N11292B.AXT'!B2:C2","v":"<date>"},{"$f":"('!N11292B.AXT'!F49/60)/'!N11292B.AXT'!Q3","v":2.8267441860465117},{"$f":"'!N11292B.AXT'!N20/'!N11292B.AXT'!Q3","v":0.90697674418604646},{"$f":"SUM('!N11292B.AXT'!L20:Q20)/'!N11292B.AXT'!Q3","v":6.3953488372093021},{"$f":"'!N11292B.AXT'!Q16","v":9.6189386806520519E-2}]
[22,{"$f":"'!N11394B.AXT'!B2:C2","v":"<date>"},{"$f":"('!N11394B.AXT'!F42/60)/'!N11394B.AXT'!Q3","v":4.7671296296296299},{"$f":"'!N11394B.AXT'!N20/'!N11394B.AXT'!Q3","v":0.63888888888888884},{"$f":"SUM('!N11394B.AXT'!L20:Q20)/'!N11394B.AXT'!Q3","v":7.1388888888888893},{"$f":"'!N11394B.AXT'!Q16","v":0.3442741488552441}]
[23,{"$f":"'!N11491B.AXT'!B2:C2","v":"<date>"},{"$f":"('!N11491B.AXT'!F54/60)/'!N11491B.AXT'!Q3","v":2.6347222222222224},{"$f":"'!N11491B.AXT'!N20/'!N11491B.AXT'!Q3","v":0.8125},{"$f":"SUM('!N11491B.AXT'!L20:Q20)/'!N11491B.AXT'!Q3","v":5.770833333333333},{"$f":"'!N11491B.AXT'!Q16","v":0.165764088571629}]
[24,{"$f":"'!N11595B.AXT'!B2:C2","v":"<date>"},{"$f":"('!N11595B.AXT'!F53/60)/'!N11595B.AXT'!Q3","v":2.8230496453900709},{"$f":"'!N11595B.AXT'!N20/'!N11595B.AXT'!Q3","v":0.82978723404255317},{"$f":"SUM('!N11595B.AXT'!L20:Q20)/'!N11595B.AXT'!Q3","v":5.8936170212765955},{"$f":"'!N11595B.AXT'!Q16","v":0.18455165276393395}]
[25,{"$f":"'!N11693B.AXT'!B2:C2","v":"<date>"},{"$f":"('!N11693B.AXT'!F54/60)/'!N11693B.AXT'!Q3","v":2.9079861111111112},{"$f":"'!N11693B.AXT'!N20/'!N11693B.AXT'!Q3","v":0.8125},{"$f":"SUM('!N11693B.AXT'!L20:Q20)/'!N11693B.AXT'!Q3","v":5.770833333333333},{"$f":"'!N11693B.AXT'!Q16","v":0.18350103063386861}]
[26,{"$f":"'!N117A0B.AXT'!B2:C2","v":"<date>"},{"$f":"('!N117A0B.AXT'!F52/60)/'!N117A0B.AXT'!Q3","v":2.9931159420289855},{"$f":"'!N117A0B.AXT'!N20/'!N117A0B.AXT'!Q3","v":0.84782608695652173},{"$f":"SUM('!N117A0B.AXT'!L20:Q20)/'!N117A0B.AXT'!Q3","v":6},{"$f":"'!N117A0B.AXT'!Q16","v":0.16214440998236473}]
[27,{"$f":"'!N11993B.AXT'!B2:C2","v":"<date>"},{"$f":"('!N11993B.AXT'!F56/60)/'!N11993B.AXT'!Q3","v":3.4219999999999997},{"$f":"'!N11993B.AXT'!N20/'!N11993B.AXT'!Q3","v":0.78},{"$f":"SUM('!N11993B.AXT'!L20:Q20)/'!N11993B.AXT'!Q3","v":5.56},{"$f":"'!N11993B.AXT'!Q16","v":0.2074905737494305}]
[28,{"$f":"'!N120A2B.AXT'!B2:C2","v":"<date>"},{"$f":"('!N120A2B.AXT'!F51/60)/'!N120A2B.AXT'!Q3","v":2.2166666666666668},{"$f":"'!N120A2B.AXT'!N20/'!N120A2B.AXT'!Q3","v":0.88888888888888884},{"$f":"SUM('!N120A2B.AXT'!L20:Q20)/'!N120A2B.AXT'!Q3","v":6.1555555555555559},{"$f":"'!N120A2B.AXT'!Q16","v":0.13052168153465332}]
[29,{"$f":"'!N12193B.AXT'!B2:C2","v":"<date>"},{"$f":"('!N12193B.AXT'!F47/60)/'!N12193B.AXT'!Q3","v":2.9016260162601628},{"$f":"'!N12193B.AXT'!N20/'!N12193B.AXT'!Q3","v":0.97560975609756095},{"$f":"SUM('!N12193B.AXT'!L20:Q20)/'!N12193B.AXT'!Q3","v":6.7317073170731705},{"$f":"'!N12193B.AXT'!Q16","v":3.0877354779509855E-2}]
[30,{"$f":"'!N122A1B.AXT'!B2:C2","v":"<date>"},{"$f":"('!N122A1B.AXT'!F49/60)/'!N122A1B.AXT'!Q3","v":2.6635658914728682},{"$f":"'!N122A1B.AXT'!N20/'!N122A1B.AXT'!Q3","v":0.90697674418604646},{"$f":"SUM('!N122A1B.AXT'!L20:Q20)/'!N122A1B.AXT'!Q3","v":6.3953488372093021},{"$f":"'!N122A1B.AXT'!Q16","v":0.10799624734674516}]

{"sheet":"Start","index":2,"n_rows":36,"n_cols":10,"rows_kept":36,"cut":false,"hidden":false,"merged":[]}
[null,null,null,null,null,"Use Folder 51",null,"Auto Clean Up",null,"Correct sequence"]
[null,null,null,null,null,false,null,true,null,222]
[]
["Working with Folder",null,null,null,null,null,"Process All/Or Pick A number: ALL or an integer"]
["F:\\Possum Chapter\\Raw Data\\baxter\\RRR\\",null,null,null,null,null,"ALL"]
["Filenames:"]
["!N11693B.AXT",null,null,null,null,null,"Paint Cells"]
["!N117A0B.AXT",null,null,null,null,null,false]
["!N11993B.AXT"]
["!N120A2B.AXT"]
["!N12193B.AXT"]
["!N122A1B.AXT"]
["!MC2194B.AXT"]
["!MC22A3B.AXT"]
["!MC2391B.AXT"]
["!MC2493B.AXT"]
["!MC2695B.AXT"]
["!MC2795B.AXT"]
["!MC28A1B.AXT"]
["!MC29A1B.AXT"]
["!MC3094B.AXT"]
["!MC31A0B.AXT"]
["!N10293B.AXT"]
["!N103A1B.AXT"]
["!N104B0B.AXT"]
["!N10583B.AXT"]
["!N10690B.AXT"]
["!N10795B.AXT"]
["!N10894B.AXT"]
["!N10995B.AXT"]
["!N110A1B.AXT"]
["!N111A2B.AXT"]
["!N11292B.AXT"]
["!N11394B.AXT"]
["!N11491B.AXT"]
["!N11595B.AXT"]

{"sheet":"!MC2194B.AXT","index":3,"n_rows":28,"n_cols":48,"rows_kept":28,"cut":false,"hidden":false,"merged":[[4,39,4,42],[5,39,5,40],[4,44,4,47],[5,44,5,45],[4,24,4,27],[5,24,5,25],[4,29,4,32],[5,29,5,30],[4,34,4,37],[5,34,5,35],[1,1,1,2],[5,13,5,14],[18,13,18,14],[19,13,19,14],[4,19,4,22],[5,19,5,20]]}
["Report for:!MC2194B.AXT"]
["Date:","<date>"]
["Hen:","<hen>",null,null,null,"Correct Sequence",{"$f":"Start!J2","v":222},null,null,null,null,null,null,null,null,"Total Sequences in Data",{"$f":"4994-COUNTBLANK(L7:L5000)","v":13},null,null,null,null,"Total Sequences in Block Data",{"$f":"COUNTA(L7:L8)","v":2},null,null,null,"Total Sequences in Block Data",{"$f":"COUNTA(L9:L10)","v":2},null,null,null,"Total Sequences in Block Data",{"$f":"COUNTA(L11:L13)","v":3},null,null,null,"Total Sequences in Block Data",{"$f":"COUNTA(L14:L15)","v":2},null,null,null,"Total Sequences in Block Data",{"$f":"COUNTA(L16:L17)","v":2},null,null,null,"Total Sequences in Block Data",{"$f":"COUNTA(L18:L19)","v":2}]
[null,null,null,null,null,null,null,null,null,null,null,null,null,null,null,"Total Sequences in Summary",{"$f":"SUM(O7:O14)","v":13},null,null,null,null,"Total Sequences in Block Summary",{"$f":"SUM(U7:U14)","v":2},null,null,null,"Total Sequences in Block Summary",{"$f":"SUM(Z7:Z14)","v":2},null,null,null,"Total Sequences in Block Summary",{"$f":"SUM(AE7:AE14)","v":3},null,null,null,"Total Sequences in Block Summary",{"$f":"SUM(AJ7:AJ14)","v":2},null,null,null,"Total Sequences in Block Summary",{"$f":"SUM(AO7:AO14)","v":2},null,null,null,"Total Sequences in Block Summary",{"$f":"SUM(AT7:AT14)","v":2}]
[null,null,null,null,null,null,null,null,null,null,null,null,null,null,null,null,null,null,null,"Block 1",null,null,null,null,"Block 2",null,null,null,null,"Block 3",null,null,null,null,"Block 4",null,null,null,null,"Block 5",null,null,null,null,"Block 6"]
["Sequence\nComponent\n1","Time\n1","Sequence\nComponent\n2","Time\n2","Sequence\nComponent\n3","Time\n3","Sequence\nComponent\n4","Time\n4","Sequence\nComponent\n5","Time\n5","Correct?\n0=No 1=Yes","Sequence",null,"Frequency",null,"Relative Frequency","Variability",null,null,"Frequency",null,"Relative Frequency","Variability",null,"Frequency",null,"Relative Frequency","Variability",null,"Frequency",null,"Relative Frequency","Variability",null,"Frequency",null,"Relative Frequency","Variability",null,"Frequency",null,"Relative Frequency","Variability",null,"Frequency",null,"Relative Frequency","Variability"]
[12,13712,14,13749,14,13755,null,null,null,null,0,111,null,111,{"$f":"COUNTIF($L$7:$L$500,N7)","v":5},{"$f":"O7/$Q$4","v":0.38461538461538464},{"$f":"IF(P7=0,0,(P7*((LOG(P7))/LOG(2))))","v":-0.53019677817451139},null,null,{"$f":"N7","v":111},{"$f":"COUNTIF(L7:L8,T7)","v":1},{"$f":"U7/(W4-U14)","v":0.5},{"$f":"IF(V7=0,0,(V7*((LOG(V7))/LOG(2))))","v":-0.5},null,{"$f":"N7","v":111},{"$f":"COUNTIF(L9:L10,Y7)","v":0},{"$f":"Z7/(AB4-Z14)","v":0},{"$f":"IF(AA7=0,0,(AA7*((LOG(AA7))/LOG(2))))","v":0},null,{"$f":"N7","v":111},{"$f":"COUNTIF(L11:L13,AD7)","v":0},{"$f":"AE7/(AG4-AE14)","v":0},{"$f":"IF(AF7=0,0,(AF7*((LOG(AF7))/LOG(2))))","v":0},null,{"$f":"N7","v":111},{"$f":"COUNTIF(L14:L15,AI7)","v":1},{"$f":"AJ7/(AL4-AJ14)","v":1},{"$f":"IF(AK7=0,0,(AK7*((LOG(AK7))/LOG(2))))","v":0},null,{"$f":"N7","v":111},{"$f":"COUNTIF(L16:L17,AN7)","v":1},{"$f":"AO7/(AQ4-AO14)","v":0.5},{"$f":"IF(AP7=0,0,(AP7*((LOG(AP7))/LOG(2))))","v":-0.5},null,{"$f":"N7","v":111},{"$f":"COUNTIF(L18:L19,AS7)","v":2},{"$f":"AT7/(AV4-AT14)","v":1},{"$f":"IF(AU7=0,0,(AU7*((LOG(AU7))/LOG(2))))","v":0}]
[12,14224,23,14235,14,14246,null,null,null,null,0,121,null,112,{"$f":"COUNTIF($L$7:$L$500,N8)","v":1},{"$f":"O8/$Q$4","v":7.6923076923076927E-2},{"$f":"IF(P8=0,0,(P8*((LOG(P8))/LOG(2))))","v":-0.28464920908777636},null,null,{"$f":"N8","v":112},{"$f":"COUNTIF(L7:L8,T8)","v":0},{"$f":"U8/(W4-U14)","v":0},{"$f":"IF(V8=0,0,(V8*((LOG(V8))/LOG(2))))","v":0},null,{"$f":"N8","v":112},{"$f":"COUNTIF(L9:L10,Y8)","v":1},{"$f":"Z8/(AB4-Z14)","v":0.5},{"$f":"IF(AA8=0,0,(AA8*((LOG(AA8))/LOG(2))))","v":-0.5},null,{"$f":"N8","v":112},{"$f":"COUNTIF(L11:L13,AD8)","v":0},{"$f":"AE8/(AG4-AE14)","v":0},{"$f":"IF(AF8=0,0,(AF8*((LOG(AF8))/LOG(2))))","v":0},null,{"$f":"N8","v":112},{"$f":"COUNTIF(L14:L15,AI8)","v":0},{"$f":"AJ8/(AL4-AJ14)","v":0},{"$f":"IF(AK8=0,0,(AK8*((LOG(AK8))/LOG(2))))","v":0},null,{"$f":"N8","v":112},{"$f":"COUNTIF(L16:L17,AN8)","v":0},{"$f":"AO8/(AQ4-AO14)","v":0},{"$f":"IF(AP8=0,0,(AP8*((LOG(AP8))/LOG(2))))","v":0},null,{"$f":"N8","v":112},{"$f":"COUNTIF(L18:L19,AS8)","v":0},{"$f":"AT8/(AV4-AT14)","v":0},{"$f":"IF(AU8=0,0,(AU8*((LOG(AU8))/LOG(2))))","v":0}]
[21,14916,12,14924,14,14933,null,null,null,null,0,211,null,121,{"$f":"COUNTIF($L$7:$L$500,N9)","v":1},{"$f":"O9/$Q$4","v":7.6923076923076927E-2},{"$f":"IF(P9=0,0,(P9*((LOG(P9))/LOG(2))))","v":-0.28464920908777636},null,null,{"$f":"N9","v":121},{"$f":"COUNTIF(L7:L8,T9)","v":1},{"$f":"U9/(W4-U14)","v":0.5},{"$f":"IF(V9=0,0,(V9*((LOG(V9))/LOG(2))))","v":-0.5},null,{"$f":"N9","v":121},{"$f":"COUNTIF(L9:L10,Y9)","v":0},{"$f":"Z9/(AB4-Z14)","v":0},{"$f":"IF(AA9=0,0,(AA9*((LOG(AA9))/LOG(2))))","v":0},null,{"$f":"N9","v":121},{"$f":"COUNTIF(L11:L13,AD9)","v":0},{"$f":"AE9/(AG4-AE14)","v":0},{"$f":"IF(AF9=0,0,(AF9*((LOG(AF9))/LOG(2))))","v":0},null,{"$f":"N9","v":121},{"$f":"COUNTIF(L14:L15,AI9)","v":0},{"$f":"AJ9/(AL4-AJ14)","v":0},{"$f":"IF(AK9=0,0,(AK9*((LOG(AK9))/LOG(2))))","v":0},null,{"$f":"N9","v":121},{"$f":"COUNTIF(L16:L17,AN9)","v":0},{"$f":"AO9/(AQ4-AO14)","v":0},{"$f":"IF(AP9=0,0,(AP9*((LOG(AP9))/LOG(2))))","v":0},null,{"$f":"N9","v":121},{"$f":"COUNTIF(L18:L19,AS9)","v":0},{"$f":"AT9/(AV4-AT14)","v":0},{"$f":"IF(AU9=0,0,(AU9*((LOG(AU9))/LOG(2))))","v":0}]
[12,15185,14,17247,23,17263,null,null,null,null,0,112,null,122,{"$f":"COUNTIF($L$7:$L$500,N10)","v":0},{"$f":"O10/$Q$4","v":0},{"$f":"IF(P10=0,0,(P10*((LOG(P10))/LOG(2))))","v":0},null,null,{"$f":"N10","v":122},{"$f":"COUNTIF(L7:L8,T10)","v":0},{"$f":"U10/(W4-U14)","v":0},{"$f":"IF(V10=0,0,(V10*((LOG(V10))/LOG(2))))","v":0},null,{"$f":"N10","v":122},{"$f":"COUNTIF(L9:L10,Y10)","v":0},{"$f":"Z10/(AB4-Z14)","v":0},{"$f":"IF(AA10=0,0,(AA10*((LOG(AA10))/LOG(2))))","v":0},null,{"$f":"N10","v":122},{"$f":"COUNTIF(L11:L13,AD10)","v":0},{"$f":"AE10/(AG4-AE14)","v":0},{"$f":"IF(AF10=0,0,(AF10*((LOG(AF10))/LOG(2))))","v":0},null,{"$f":"N10","v":122},{"$f":"COUNTIF(L14:L15,AI10)","v":0},{"$f":"AJ10/(AL4-AJ14)","v":0},{"$f":"IF(AK10=0,0,(AK10*((LOG(AK10))/LOG(2))))","v":0},null,{"$f":"N10","v":122},{"$f":"COUNTIF(L16:L17,AN10)","v":0},{"$f":"AO10/(AQ4-AO14)","v":0},{"$f":"IF(AP10=0,0,(AP10*((LOG(AP10))/LOG(2))))","v":0},null,{"$f":"N10","v":122},{"$f":"COUNTIF(L18:L19,AS10)","v":0},{"$f":"AT10/(AV4-AT14)","v":0},{"$f":"IF(AU10=0,0,(AU10*((LOG(AU10))/LOG(2))))","v":0}]
[21,20765,12,20776,14,20785,null,null,null,null,0,211,null,211,{"$f":"COUNTIF($L$7:$L$500,N11)","v":4},{"$f":"O11/$Q$4","v":0.30769230769230771},{"$f":"IF(P11=0,0,(P11*((LOG(P11))/LOG(2))))","v":-0.52321222096648989},null,null,{"$f":"N11","v":211},{"$f":"COUNTIF(L7:L8,T11)","v":0},{"$f":"U11/(W4-U14)","v":0},{"$f":"IF(V11=0,0,(V11*((LOG(V11))/LOG(2))))","v":0},null,{"$f":"N11","v":211},{"$f":"COUNTIF(L9:L10,Y11)","v":1},{"$f":"Z11/(AB4-Z14)","v":0.5},{"$f":"IF(AA11=0,0,(AA11*((LOG(AA11))/LOG(2))))","v":-0.5},null,{"$f":"N11","v":211},{"$f":"COUNTIF(L11:L13,AD11)","v":3},{"$f":"AE11/(AG4-AE14)","v":1},{"$f":"IF(AF11=0,0,(AF11*((LOG(AF11))/LOG(2))))","v":0},null,{"$f":"N11","v":211},{"$f":"COUNTIF(L14:L15,AI11)","v":0},{"$f":"AJ11/(AL4-AJ14)","v":0},{"$f":"IF(AK11=0,0,(AK11*((LOG(AK11))/LOG(2))))","v":0},null,{"$f":"N11","v":211},{"$f":"COUNTIF(L16:L17,AN11)","v":0},{"$f":"AO11/(AQ4-AO14)","v":0},{"$f":"IF(AP11=0,0,(AP11*((LOG(AP11))/LOG(2))))","v":0},null,{"$f":"N11","v":211},{"$f":"COUNTIF(L18:L19,AS11)","v":0},{"$f":"AT11/(AV4-AT14)","v":0},{"$f":"IF(AU11=0,0,(AU11*((LOG(AU11))/LOG(2))))","v":0}]
[21,20885,12,20899,14,20912,null,null,null,null,0,211,null,212,{"$f":"COUNTIF($L$7:$L$500,N12)","v":0},{"$f":"O12/$Q$4","v":0},{"$f":"IF(P12=0,0,(P12*((LOG(P12))/LOG(2))))","v":0},null,null,{"$f":"N12","v":212},{"$f":"COUNTIF(L7:L8,T12)","v":0},{"$f":"U12/(W4-U14)","v":0},{"$f":"IF(V12=0,0,(V12*((LOG(V12))/LOG(2))))","v":0},null,{"$f":"N12","v":212},{"$f":"COUNTIF(L9:L10,Y12)","v":0},{"$f":"Z12/(AB4-Z14)","v":0},{"$f":"IF(AA12=0,0,(AA12*((LOG(AA12))/LOG(2))))","v":0},null,{"$f":"N12","v":212},{"$f":"COUNTIF(L11:L13,AD12)","v":0},{"$f":"AE12/(AG4-AE14)","v":0},{"$f":"IF(AF12=0,0,(AF12*((LOG(AF12))/LOG(2))))","v":0},null,{"$f":"N12","v":212},{"$f":"COUNTIF(L14:L15,AI12)","v":0},{"$f":"AJ12/(AL4-AJ14)","v":0},{"$f":"IF(AK12=0,0,(AK12*((LOG(AK12))/LOG(2))))","v":0},null,{"$f":"N12","v":212},{"$f":"COUNTIF(L16:L17,AN12)","v":0},{"$f":"AO12/(AQ4-AO14)","v":0},{"$f":"IF(AP12=0,0,(AP12*((LOG(AP12))/LOG(2))))","v":0},null,{"$f":"N12","v":212},{"$f":"COUNTIF(L18:L19,AS12)","v":0},{"$f":"AT12/(AV4-AT14)","v":0},{"$f":"IF(AU12=0,0,(AU12*((LOG(AU12))/LOG(2))))","v":0}]
[21,21005,12,21011,14,21019,null,null,null,null,0,211,null,221,{"$f":"COUNTIF($L$7:$L$500,N13)","v":1},{"$f":"O13/$Q$4","v":7.6923076923076927E-2},{"$f":"IF(P13=0,0,(P13*((LOG(P13))/LOG(2))))","v":-0.28464920908777636},null,null,{"$f":"N13","v":221},{"$f":"COUNTIF(L7:L8,T13)","v":0},{"$f":"U13/(W4-U14)","v":0},{"$f":"IF(V13=0,0,(V13*((LOG(V13))/LOG(2))))","v":0},null,{"$f":"N13","v":221},{"$f":"COUNTIF(L9:L10,Y13)","v":0},{"$f":"Z13/(AB4-Z14)","v":0},{"$f":"IF(AA13=0,0,(AA13*((LOG(AA13))/LOG(2))))","v":0},null,{"$f":"N13","v":221},{"$f":"COUNTIF(L11:L13,AD13)","v":0},{"$f":"AE13/(AG4-AE14)","v":0},{"$f":"IF(AF13=0,0,(AF13*((LOG(AF13))/LOG(2))))","v":0},null,{"$f":"N13","v":221},{"$f":"COUNTIF(L14:L15,AI13)","v":0},{"$f":"AJ13/(AL4-AJ14)","v":0},{"$f":"IF(AK13=0,0,(AK13*((LOG(AK13))/LOG(2))))","v":0},null,{"$f":"N13","v":221},{"$f":"COUNTIF(L16:L17,AN13)","v":1},{"$f":"AO13/(AQ4-AO14)","v":0.5},{"$f":"IF(AP13=0,0,(AP13*((LOG(AP13))/LOG(2))))","v":-0.5},null,{"$f":"N13","v":221},{"$f":"COUNTIF(L18:L19,AS13)","v":0},{"$f":"AT13/(AV4-AT14)","v":0},{"$f":"IF(AU13=0,0,(AU13*((LOG(AU13))/LOG(2))))","v":0}]
[21,21137,21,21142,21,21147,null,null,null,null,0,222,null,222,{"$f":"COUNTIF($L$7:$L$500,N14)","v":1},{"$f":"O14/$Q$4","v":7.6923076923076927E-2},{"$f":"IF(P14=0,0,(P14*((LOG(P14))/LOG(2))))","v":-0.28464920908777636},null,null,{"$f":"N14","v":222},{"$f":"COUNTIF(L7:L8,T14)","v":0},null,null,null,{"$f":"N14","v":222},{"$f":"COUNTIF(L9:L10,Y14)","v":0},null,null,null,{"$f":"N14","v":222},{"$f":"COUNTIF(L11:L13,AD14)","v":0},null,null,null,{"$f":"N14","v":222},{"$f":"COUNTIF(L14:L15,AI14)","v":1},null,null,null,{"$f":"N14","v":222},{"$f":"COUNTIF(L16:L17,AN14)","v":0},null,null,null,{"$f":"N14","v":222},{"$f":"COUNTIF(L18:L19,AS14)","v":0}]
[12,22714,14,22755,14,22790,null,null,null,null,0,111,null,null,null,{"$f":"SUM(P7:P14)","v":1},{"$f":"-SUM(Q7:Q14)","v":2.1920058354921066},null,null,null,null,{"$f":"SUM(V7:V14)","v":1},{"$f":"-SUM(W7:W14)","v":1},null,null,null,{"$f":"SUM(AA7:AA14)","v":1},{"$f":"-SUM(AB7:AB14)","v":1},null,null,null,{"$f":"SUM(AF7:AF14)","v":1},{"$f":"-SUM(AG7:AG14)","v":0},null,null,null,{"$f":"SUM(AK7:AK14)","v":1},{"$f":"-SUM(AL7:AL14)","v":0},null,null,null,{"$f":"SUM(AP7:AP14)","v":1},{"$f":"-SUM(AQ7:AQ14)","v":1},null,null,null,{"$f":"SUM(AU7:AU14)","v":1},{"$f":"-SUM(AV7:AV14)","v":0}]
[21,22898,21,22902,12,22919,null,null,null,null,0,221,null,null,null,"U=",{"$f":"Q15/(LOG(Q4)/LOG(2))","v":0.59236361147730188},null,null,null,null,"U1=",{"$f":"W15/(LOG(W4)/LOG(2))","v":1},null,null,null,"U2=",{"$f":"AB15/(LOG(AB4)/LOG(2))","v":1},null,null,null,"U3=",{"$f":"AG15/(LOG(AG4)/LOG(2))","v":0},null,null,null,"U4=",{"$f":"AL15/(LOG(AL4)/LOG(2))","v":0},null,null,null,"U5=",{"$f":"AQ15/(LOG(AQ4)/LOG(2))","v":1},null,null,null,"U6=",{"$f":"AV15/(LOG(AV4)/LOG(2))","v":0}]
[12,23013,14,23020,14,23042,null,null,null,null,0,111]
[12,23138,14,23159,14,23165,null,null,null,null,0,111]
[12,23394,14,23425,14,23448,null,null,null,null,0,111,null,"Total Target Seq"]
[null,null,null,null,null,null,null,null,null,null,null,null,null,{"$f":"COUNTIF(L7:L19,G3)","v":1},null,2,2,3,2,2,2]
[null,null,null,null,null,null,null,null,null,null,null,null,null,null,null,"% of reinforcement given in 6 equal intervals based on number of trials "]
[null,null,null,null,null,null,null,null,null,null,null,null,null,null,null,"%_1","%_2","%_3","%_4","%_5","%_6"]
[null,null,null,null,null,null,null,null,null,null,null,null,null,null,"target sequence",{"$f":"$G$3","v":222},{"$f":"$G$3","v":222},{"$f":"$G$3","v":222},{"$f":"$G$3","v":222},{"$f":"$G$3","v":222},{"$f":"$G$3","v":222}]
[null,null,null,null,null,null,null,null,null,null,null,null,null,null,"total reinforcement",{"$f":"U14","v":0},{"$f":"Z14","v":0},{"$f":"AE14","v":0},{"$f":"AJ14","v":1},{"$f":"AO14","v":0},{"$f":"AT14","v":0}]
[null,null,null,null,null,null,null,null,null,null,null,null,null,null,"% target"]
[null,null,null,null,null,null,null,null,null,null,null,null,null,null,"CCRF"]
[null,null,null,null,null,null,null,null,null,null,null,null,null,null,"% CCRf"]
[null,null,null,null,null,null,null,null,null,null,null,null,null,null,"average response rate",{"$f":"F8/P20","v":7123},{"$f":"(F10-F8)/Q20","v":1508.5},{"$f":"(F13-F10)/R20","v":1252},{"$f":"(F15-F13)/S20","v":885.5},{"$f":"(F17-F15)/T20","v":126},{"$f":"(F19-F17)/U20","v":203}]

{"sheet":"!MC22A3B.AXT","index":4,"n_rows":28,"n_cols":48,"rows_kept":28,"cut":false,"hidden":false,"merged":[[4,39,4,42],[5,39,5,40],[4,44,4,47],[5,44,5,45],[4,24,4,27],[5,24,5,25],[4,29,4,32],[5,29,5,30],[4,34,4,37],[5,34,5,35],[1,1,1,2],[5,13,5,14],[18,13,18,14],[19,13,19,14],[4,19,4,22],[5,19,5,20]]}
["Report for:!MC22A3B.AXT"]
["Date:","<date>"]
["Hen:","<hen>",null,null,null,"Correct Sequence",{"$f":"Start!J2","v":222},null,null,null,null,null,null,null,null,"Total Sequences in Data",{"$f":"4994-COUNTBLANK(L7:L5000)","v":16},null,null,null,null,"Total Sequences in Block Data",{"$f":"COUNTA(L7:L9)","v":3},null,null,null,"Total Sequences in Block Data",{"$f":"COUNTA(L10:L11)","v":2},null,null,null,"Total Sequences in Block Data",{"$f":"COUNTA(L12:L14)","v":3},null,null,null,"Total Sequences in Block Data",{"$f":"COUNTA(L15:L17)","v":3},null,null,null,"Total Sequences in Block Data",{"$f":"COUNTA(L18:L19)","v":2},null,null,null,"Total Sequences in Block Data",{"$f":"COUNTA(L20:L22)","v":3}]
[null,null,null,null,null,null,null,null,null,null,null,null,null,null,null,"Total Sequences in Summary",{"$f":"SUM(O7:O14)","v":15},null,null,null,null,"Total Sequences in Block Summary",{"$f":"SUM(U7:U14)","v":3},null,null,null,"Total Sequences in Block Summary",{"$f":"SUM(Z7:Z14)","v":2},null,null,null,"Total Sequences in Block Summary",{"$f":"SUM(AE7:AE14)","v":3},null,null,null,"Total Sequences in Block Summary",{"$f":"SUM(AJ7:AJ14)","v":3},null,null,null,"Total Sequences in Block Summary",{"$f":"SUM(AO7:AO14)","v":2},null,null,null,"Total Sequences in Block Summary",{"$f":"SUM(AT7:AT14)","v":2}]
[null,null,null,null,null,null,null,null,null,null,null,null,null,null,null,null,null,null,null,"Block 1",null,null,null,null,"Block 2",null,null,null,null,"Block 3",null,null,null,null,"Block 4",null,null,null,null,"Block 5",null,null,null,null,"Block 6"]
["Sequence\nComponent\n1","Time\n1","Sequence\nComponent\n2","Time\n2","Sequence\nComponent\n3","Time\n3","Sequence\nComponent\n4","Time\n4","Sequence\nComponent\n5","Time\n5","Correct?\n0=No 1=Yes","Sequence",null,"Frequency",null,"Relative Frequency","Variability",null,null,"Frequency",null,"Relative Frequency","Variability",null,"Frequency",null,"Relative Frequency","Variability",null,"Frequency",null,"Relative Frequency","Variability",null,"Frequency",null,"Relative Frequency","Variability",null,"Frequency",null,"Relative Frequency","Variability",null,"Frequency",null,"Relative Frequency","Variability"]
[12,154,14,168,14,184,null,null,null,null,0,111,null,111,{"$f":"COUNTIF($L$7:$L$500,N7)","v":8},{"$f":"O7/$Q$4","v":0.53333333333333333},{"$f":"IF(P7=0,0,(P7*((LOG(P7))/LOG(2))))","v":-0.4836749843245432},null,null,{"$f":"N7","v":111},{"$f":"COUNTIF(L7:L9,T7)","v":2},{"$f":"U7/(W4-U14)","v":0.66666666666666663},{"$f":"IF(V7=0,0,(V7*((LOG(V7))/LOG(2))))","v":-0.38997500048077083},null,{"$f":"N7","v":111},{"$f":"COUNTIF(L10:L11,Y7)","v":2},{"$f":"Z7/(AB4-Z14)","v":1},{"$f":"IF(AA7=0,0,(AA7*((LOG(AA7))/LOG(2))))","v":0},null,{"$f":"N7","v":111},{"$f":"COUNTIF(L12:L14,AD7)","v":3},{"$f":"AE7/(AG4-AE14)","v":1},{"$f":"IF(AF7=0,0,(AF7*((LOG(AF7))/LOG(2))))","v":0},null,{"$f":"N7","v":111},{"$f":"COUNTIF(L15:L17,AI7)","v":1},{"$f":"AJ7/(AL4-AJ14)","v":0.33333333333333331},{"$f":"IF(AK7=0,0,(AK7*((LOG(AK7))/LOG(2))))","v":-0.52832083357371862},null,{"$f":"N7","v":111},{"$f":"COUNTIF(L18:L19,AN7)","v":0},{"$f":"AO7/(AQ4-AO14)","v":0},{"$f":"IF(AP7=0,0,(AP7*((LOG(AP7))/LOG(2))))","v":0},null,{"$f":"N7","v":111},{"$f":"COUNTIF(L20:L22,AS7)","v":0},{"$f":"AT7/(AV4-AT14)","v":0},{"$f":"IF(AU7=0,0,(AU7*((LOG(AU7))/LOG(2))))","v":0}]
[12,292,14,297,23,317,null,null,null,null,0,112,null,112,{"$f":"COUNTIF($L$7:$L$500,N8)","v":2},{"$f":"O8/$Q$4","v":0.13333333333333333},{"$f":"IF(P8=0,0,(P8*((LOG(P8))/LOG(2))))","v":-0.3875854127478025},null,null,{"$f":"N8","v":112},{"$f":"COUNTIF(L7:L9,T8)","v":1},{"$f":"U8/(W4-U14)","v":0.33333333333333331},{"$f":"IF(V8=0,0,(V8*((LOG(V8))/LOG(2))))","v":-0.52832083357371862},null,{"$f":"N8","v":112},{"$f":"COUNTIF(L10:L11,Y8)","v":0},{"$f":"Z8/(AB4-Z14)","v":0},{"$f":"IF(AA8=0,0,(AA8*((LOG(AA8))/LOG(2))))","v":0},null,{"$f":"N8","v":112},{"$f":"COUNTIF(L12:L14,AD8)","v":0},{"$f":"AE8/(AG4-AE14)","v":0},{"$f":"IF(AF8=0,0,(AF8*((LOG(AF8))/LOG(2))))","v":0},null,{"$f":"N8","v":112},{"$f":"COUNTIF(L15:L17,AI8)","v":1},{"$f":"AJ8/(AL4-AJ14)","v":0.33333333333333331},{"$f":"IF(AK8=0,0,(AK8*((LOG(AK8))/LOG(2))))","v":-0.52832083357371862},null,{"$f":"N8","v":112},{"$f":"COUNTIF(L18:L19,AN8)","v":0},{"$f":"AO8/(AQ4-AO14)","v":0},{"$f":"IF(AP8=0,0,(AP8*((LOG(AP8))/LOG(2))))","v":0},null,{"$f":"N8","v":112},{"$f":"COUNTIF(L20:L22,AS8)","v":0},{"$f":"AT8/(AV4-AT14)","v":0},{"$f":"IF(AU8=0,0,(AU8*((LOG(AU8))/LOG(2))))","v":0}]
[12,464,14,470,14,481,null,null,null,null,0,111,null,121,{"$f":"COUNTIF($L$7:$L$500,N9)","v":2},{"$f":"O9/$Q$4","v":0.13333333333333333},{"$f":"IF(P9=0,0,(P9*((LOG(P9))/LOG(2))))","v":-0.3875854127478025},null,null,{"$f":"N9","v":121},{"$f":"COUNTIF(L7:L9,T9)","v":0},{"$f":"U9/(W4-U14)","v":0},{"$f":"IF(V9=0,0,(V9*((LOG(V9))/LOG(2))))","v":0},null,{"$f":"N9","v":121},{"$f":"COUNTIF(L10:L11,Y9)","v":0},{"$f":"Z9/(AB4-Z14)","v":0},{"$f":"IF(AA9=0,0,(AA9*((LOG(AA9))/LOG(2))))","v":0},null,{"$f":"N9","v":121},{"$f":"COUNTIF(L12:L14,AD9)","v":0},{"$f":"AE9/(AG4-AE14)","v":0},{"$f":"IF(AF9=0,0,(AF9*((LOG(AF9))/LOG(2))))","v":0},null,{"$f":"N9","v":121},{"$f":"COUNTIF(L15:L17,AI9)","v":0},{"$f":"AJ9/(AL4-AJ14)","v":0},{"$f":"IF(AK9=0,0,(AK9*((LOG(AK9))/LOG(2))))","v":0},null,{"$f":"N9","v":121},{"$f":"COUNTIF(L18:L19,AN9)","v":1},{"$f":"AO9/(AQ4-AO14)","v":1},{"$f":"IF(AP9=0,0,(AP9*((LOG(AP9))/LOG(2))))","v":0},null,{"$f":"N9","v":121},{"$f":"COUNTIF(L20:L22,AS9)","v":1},{"$f":"AT9/(AV4-AT14)","v":0.5},{"$f":"IF(AU9=0,0,(AU9*((LOG(AU9))/LOG(2))))","v":-0.5}]
[12,581,14,588,14,620,null,null,null,null,0,111,null,122,{"$f":"COUNTIF($L$7:$L$500,N10)","v":0},{"$f":"O10/$Q$4","v":0},{"$f":"IF(P10=0,0,(P10*((LOG(P10))/LOG(2))))","v":0},null,null,{"$f":"N10","v":122},{"$f":"COUNTIF(L7:L9,T10)","v":0},{"$f":"U10/(W4-U14)","v":0},{"$f":"IF(V10=0,0,(V10*((LOG(V10))/LOG(2))))","v":0},null,{"$f":"N10","v":122},{"$f":"COUNTIF(L10:L11,Y10)","v":0},{"$f":"Z10/(AB4-Z14)","v":0},{"$f":"IF(AA10=0,0,(AA10*((LOG(AA10))/LOG(2))))","v":0},null,{"$f":"N10","v":122},{"$f":"COUNTIF(L12:L14,AD10)","v":0},{"$f":"AE10/(AG4-AE14)","v":0},{"$f":"IF(AF10=0,0,(AF10*((LOG(AF10))/LOG(2))))","v":0},null,{"$f":"N10","v":122},{"$f":"COUNTIF(L15:L17,AI10)","v":0},{"$f":"AJ10/(AL4-AJ14)","v":0},{"$f":"IF(AK10=0,0,(AK10*((LOG(AK10))/LOG(2))))","v":0},null,{"$f":"N10","v":122},{"$f":"COUNTIF(L18:L19,AN10)","v":0},{"$f":"AO10/(AQ4-AO14)","v":0},{"$f":"IF(AP10=0,0,(AP10*((LOG(AP10))/LOG(2))))","v":0},null,{"$f":"N10","v":122},{"$f":"COUNTIF(L20:L22,AS10)","v":0},{"$f":"AT10/(AV4-AT14)","v":0},{"$f":"IF(AU10=0,0,(AU10*((LOG(AU10))/LOG(2))))","v":0}]
[12,775,14,819,14,827,null,null,null,null,0,111,null,211,{"$f":"COUNTIF($L$7:$L$500,N11)","v":1},{"$f":"O11/$Q$4","v":6.6666666666666666E-2},{"$f":"IF(P11=0,0,(P11*((LOG(P11))/LOG(2))))","v":-0.26045937304056793},null,null,{"$f":"N11","v":211},{"$f":"COUNTIF(L7:L9,T11)","v":0},{"$f":"U11/(W4-U14)","v":0},{"$f":"IF(V11=0,0,(V11*((LOG(V11))/LOG(2))))","v":0},null,{"$f":"N11","v":211},{"$f":"COUNTIF(L10:L11,Y11)","v":0},{"$f":"Z11/(AB4-Z14)","v":0},{"$f":"IF(AA11=0,0,(AA11*((LOG(AA11))/LOG(2))))","v":0},null,{"$f":"N11","v":211},{"$f":"COUNTIF(L12:L14,AD11)","v":0},{"$f":"AE11/(AG4-AE14)","v":0},{"$f":"IF(AF11=0,0,(AF11*((LOG(AF11))/LOG(2))))","v":0},null,{"$f":"N11","v":211},{"$f":"COUNTIF(L15:L17,AI11)","v":0},{"$f":"AJ11/(AL4-AJ14)","v":0},{"$f":"IF(AK11=0,0,(AK11*((LOG(AK11))/LOG(2))))","v":0},null,{"$f":"N11","v":211},{"$f":"COUNTIF(L18:L19,AN11)","v":0},{"$f":"AO11/(AQ4-AO14)","v":0},{"$f":"IF(AP11=0,0,(AP11*((LOG(AP11))/LOG(2))))","v":0},null,{"$f":"N11","v":211},{"$f":"COUNTIF(L20:L22,AS11)","v":1},{"$f":"AT11/(AV4-AT14)","v":0.5},{"$f":"IF(AU11=0,0,(AU11*((LOG(AU11))/LOG(2))))","v":-0.5}]
[12,1355,14,1368,14,1378,null,null,null,null,0,111,null,212,{"$f":"COUNTIF($L$7:$L$500,N12)","v":1},{"$f":"O12/$Q$4","v":6.6666666666666666E-2},{"$f":"IF(P12=0,0,(P12*((LOG(P12))/LOG(2))))","v":-0.26045937304056793},null,null,{"$f":"N12","v":212},{"$f":"COUNTIF(L7:L9,T12)","v":0},{"$f":"U12/(W4-U14)","v":0},{"$f":"IF(V12=0,0,(V12*((LOG(V12))/LOG(2))))","v":0},null,{"$f":"N12","v":212},{"$f":"COUNTIF(L10:L11,Y12)","v":0},{"$f":"Z12/(AB4-Z14)","v":0},{"$f":"IF(AA12=0,0,(AA12*((LOG(AA12))/LOG(2))))","v":0},null,{"$f":"N12","v":212},{"$f":"COUNTIF(L12:L14,AD12)","v":0},{"$f":"AE12/(AG4-AE14)","v":0},{"$f":"IF(AF12=0,0,(AF12*((LOG(AF12))/LOG(2))))","v":0},null,{"$f":"N12","v":212},{"$f":"COUNTIF(L15:L17,AI12)","v":1},{"$f":"AJ12/(AL4-AJ14)","v":0.33333333333333331},{"$f":"IF(AK12=0,0,(AK12*((LOG(AK12))/LOG(2))))","v":-0.52832083357371862},null,{"$f":"N12","v":212},{"$f":"COUNTIF(L18:L19,AN12)","v":0},{"$f":"AO12/(AQ4-AO14)","v":0},{"$f":"IF(AP12=0,0,(AP12*((LOG(AP12))/LOG(2))))","v":0},null,{"$f":"N12","v":212},{"$f":"COUNTIF(L20:L22,AS12)","v":0},{"$f":"AT12/(AV4-AT14)","v":0},{"$f":"IF(AU12=0,0,(AU12*((LOG(AU12))/LOG(2))))","v":0}]
[12,1474,14,1481,14,1494,null,null,null,null,0,111,null,221,{"$f":"COUNTIF($L$7:$L$500,N13)","v":0},{"$f":"O13/$Q$4","v":0},{"$f":"IF(P13=0,0,(P13*((LOG(P13))/LOG(2))))","v":0},null,null,{"$f":"N13","v":221},{"$f":"COUNTIF(L7:L9,T13)","v":0},{"$f":"U13/(W4-U14)","v":0},{"$f":"IF(V13=0,0,(V13*((LOG(V13))/LOG(2))))","v":0},null,{"$f":"N13","v":221},{"$f":"COUNTIF(L10:L11,Y13)","v":0},{"$f":"Z13/(AB4-Z14)","v":0},{"$f":"IF(AA13=0,0,(AA13*((LOG(AA13))/LOG(2))))","v":0},null,{"$f":"N13","v":221},{"$f":"COUNTIF(L12:L14,AD13)","v":0},{"$f":"AE13/(AG4-AE14)","v":0},{"$f":"IF(AF13=0,0,(AF13*((LOG(AF13))/LOG(2))))","v":0},null,{"$f":"N13","v":221},{"$f":"COUNTIF(L15:L17,AI13)","v":0},{"$f":"AJ13/(AL4-AJ14)","v":0},{"$f":"IF(AK13=0,0,(AK13*((LOG(AK13))/LOG(2))))","v":0},null,{"$f":"N13","v":221},{"$f":"COUNTIF(L18:L19,AN13)","v":0},{"$f":"AO13/(AQ4-AO14)","v":0},{"$f":"IF(AP13=0,0,(AP13*((LOG(AP13))/LOG(2))))","v":0},null,{"$f":"N13","v":221},{"$f":"COUNTIF(L20:L22,AS13)","v":0},{"$f":"AT13/(AV4-AT14)","v":0},{"$f":"IF(AU13=0,0,(AU13*((LOG(AU13))/LOG(2))))","v":0}]
[12,1615,14,1635,14,1645,null,null,null,null,0,111,null,222,{"$f":"COUNTIF($L$7:$L$500,N14)","v":1},{"$f":"O14/$Q$4","v":6.6666666666666666E-2},{"$f":"IF(P14=0,0,(P14*((LOG(P14))/LOG(2))))","v":-0.26045937304056793},null,null,{"$f":"N14","v":222},{"$f":"COUNTIF(L7:L9,T14)","v":0},null,null,null,{"$f":"N14","v":222},{"$f":"COUNTIF(L10:L11,Y14)","v":0},null,null,null,{"$f":"N14","v":222},{"$f":"COUNTIF(L12:L14,AD14)","v":0},null,null,null,{"$f":"N14","v":222},{"$f":"COUNTIF(L15:L17,AI14)","v":0},null,null,null,{"$f":"N14","v":222},{"$f":"COUNTIF(L18:L19,AN14)","v":1},null,null,null,{"$f":"N14","v":222},{"$f":"COUNTIF(L20:L22,AS14)","v":0}]
[12,1741,14,1759,14,1768,null,null,null,null,0,111,null,null,null,{"$f":"SUM(P7:P14)","v":0.99999999999999989},{"$f":"-SUM(Q7:Q14)","v":2.040223928941852},null,null,null,null,{"$f":"SUM(V7:V14)","v":1},{"$f":"-SUM(W7:W14)","v":0.91829583405448945},null,null,null,{"$f":"SUM(AA7:AA14)","v":1},{"$f":"-SUM(AB7:AB14)","v":0},null,null,null,{"$f":"SUM(AF7:AF14)","v":1},{"$f":"-SUM(AG7:AG14)","v":0},null,null,null,{"$f":"SUM(AK7:AK14)","v":1},{"$f":"-SUM(AL7:AL14)","v":1.5849625007211559},null,null,null,{"$f":"SUM(AP7:AP14)","v":1},{"$f":"-SUM(AQ7:AQ14)","v":0},null,null,null,{"$f":"SUM(AU7:AU14)","v":1},{"$f":"-SUM(AV7:AV14)","v":1}]
[12,1878,14,1885,23,1893,null,null,null,null,0,112,null,null,null,"U=",{"$f":"Q15/(LOG(Q4)/LOG(2))","v":0.52221168702167775},null,null,null,null,"U1=",{"$f":"W15/(LOG(W4)/LOG(2))","v":0.57938016428569505},null,null,null,"U2=",{"$f":"AB15/(LOG(AB4)/LOG(2))","v":0},null,null,null,"U3=",{"$f":"AG15/(LOG(AG4)/LOG(2))","v":0},null,null,null,"U4=",{"$f":"AL15/(LOG(AL4)/LOG(2))","v":0.99999999999999989},null,null,null,"U5=",{"$f":"AQ15/(LOG(AQ4)/LOG(2))","v":0},null,null,null,"U6=",{"$f":"AV15/(LOG(AV4)/LOG(2))","v":1}]
[21,1992,12,1996,23,2014,null,null,null,null,0,212]
[12,2116,23,2125,14,2130,null,null,null,null,0,121]
[21,2325,21,2327,21,2330,null,null,null,null,0,222,null,"Total Target Seq"]
[21,2575,12,2584,14,2591,null,null,null,null,0,211,null,{"$f":"COUNTIF(L7:L22,G3)","v":1},null,3,2,3,3,2,3]
[12,2685,23,2697,14,2704,null,null,null,null,0,121,null,null,null,"% of reinforcement given in 6 equal intervals based on number of trials "]
[21,15387,12,18871,null,null,null,null,null,null,null,21,null,null,null,"%_1","%_2","%_3","%_4","%_5","%_6"]
[null,null,null,null,null,null,null,null,null,null,null,null,null,null,"target sequence",{"$f":"$G$3","v":222},{"$f":"$G$3","v":222},{"$f":"$G$3","v":222},{"$f":"$G$3","v":222},{"$f":"$G$3","v":222},{"$f":"$G$3","v":222}]
[null,null,null,null,null,null,null,null,null,null,null,null,null,null,"total reinforcement",{"$f":"U14","v":0},{"$f":"Z14","v":0},{"$f":"AE14","v":0},{"$f":"AJ14","v":0},{"$f":"AO14","v":1},{"$f":"AT14","v":0}]
[null,null,null,null,null,null,null,null,null,null,null,null,null,null,"% target"]
[null,null,null,null,null,null,null,null,null,null,null,null,null,null,"CCRF"]
[null,null,null,null,null,null,null,null,null,null,null,null,null,null,"% CCRf"]
[null,null,null,null,null,null,null,null,null,null,null,null,null,null,"average response rate",{"$f":"F9/P20","v":160.33333333333334},{"$f":"(F11-F9)/Q20","v":173},{"$f":"(F14-F11)/R20","v":272.66666666666669},{"$f":"(F17-F14)/S20","v":123},{"$f":"(F19-F17)/T20","v":158},{"$f":"(F22-F19)/U20","v":-776.66666666666663}]

{"sheet":"!MC2391B.AXT","index":5,"n_rows":37,"n_cols":48,"rows_kept":37,"cut":false,"hidden":false,"merged":[[4,39,4,42],[5,39,5,40],[4,44,4,47],[5,44,5,45],[4,24,4,27],[5,24,5,25],[4,29,4,32],[5,29,5,30],[4,34,4,37],[5,34,5,35],[1,1,1,2],[5,13,5,14],[18,13,18,14],[19,13,19,14],[4,19,4,22],[5,19,5,20]]}
["Report for:!MC2391B.AXT"]
["Date:","<date>"]
["Hen:","<hen>",null,null,null,"Correct Sequence",{"$f":"Start!J2","v":222},null,null,null,null,null,null,null,null,"Total Sequences in Data",{"$f":"4994-COUNTBLANK(L7:L5000)","v":31},null,null,null,null,"Total Sequences in Block Data",{"$f":"COUNTA(L7:L11)","v":5},null,null,null,"Total Sequences in Block Data",{"$f":"COUNTA(L12:L16)","v":5},null,null,null,"Total Sequences in Block Data",{"$f":"COUNTA(L17:L22)","v":6},null,null,null,"Total Sequences in Block Data",{"$f":"COUNTA(L23:L27)","v":5},null,null,null,"Total Sequences in Block Data",{"$f":"COUNTA(L28:L32)","v":5},null,null,null,"Total Sequences in Block Data",{"$f":"COUNTA(L33:L37)","v":5}]
[null,null,null,null,null,null,null,null,null,null,null,null,null,null,null,"Total Sequences in Summary",{"$f":"SUM(O7:O14)","v":31},null,null,null,null,"Total Sequences in Block Summary",{"$f":"SUM(U7:U14)","v":5},null,null,null,"Total Sequences in Block Summary",{"$f":"SUM(Z7:Z14)","v":5},null,null,null,"Total Sequences in Block Summary",{"$f":"SUM(AE7:AE14)","v":6},null,null,null,"Total Sequences in Block Summary",{"$f":"SUM(AJ7:AJ14)","v":5},null,null,null,"Total Sequences in Block Summary",{"$f":"SUM(AO7:AO14)","v":5},null,null,null,"Total Sequences in Block Summary",{"$f":"SUM(AT7:AT14)","v":5}]
[null,null,null,null,null,null,null,null,null,null,null,null,null,null,null,null,null,null,null,"Block 1",null,null,null,null,"Block 2",null,null,null,null,"Block 3",null,null,null,null,"Block 4",null,null,null,null,"Block 5",null,null,null,null,"Block 6"]
["Sequence\nComponent\n1","Time\n1","Sequence\nComponent\n2","Time\n2","Sequence\nComponent\n3","Time\n3","Sequence\nComponent\n4","Time\n4","Sequence\nComponent\n5","Time\n5","Correct?\n0=No 1=Yes","Sequence",null,"Frequency",null,"Relative Frequency","Variability",null,null,"Frequency",null,"Relative Frequency","Variability",null,"Frequency",null,"Relative Frequency","Variability",null,"Frequency",null,"Relative Frequency","Variability",null,"Frequency",null,"Relative Frequency","Variability",null,"Frequency",null,"Relative Frequency","Variability",null,"Frequency",null,"Relative Frequency","Variability"]
[12,79,14,123,23,133,null,null,null,null,0,112,null,111,{"$f":"COUNTIF($L$7:$L$500,N7)","v":8},{"$f":"O7/$Q$4","v":0.25806451612903225},{"$f":"IF(P7=0,0,(P7*((LOG(P7))/LOG(2))))","v":-0.50430872526112902},null,null,{"$f":"N7","v":111},{"$f":"COUNTIF(L7:L11,T7)","v":2},{"$f":"U7/(W4-U14)","v":0.4},{"$f":"IF(V7=0,0,(V7*((LOG(V7))/LOG(2))))","v":-0.52877123795494496},null,{"$f":"N7","v":111},{"$f":"COUNTIF(L12:L16,Y7)","v":0},{"$f":"Z7/(AB4-Z14)","v":0},{"$f":"IF(AA7=0,0,(AA7*((LOG(AA7))/LOG(2))))","v":0},null,{"$f":"N7","v":111},{"$f":"COUNTIF(L17:L22,AD7)","v":3},{"$f":"AE7/(AG4-AE14)","v":0.5},{"$f":"IF(AF7=0,0,(AF7*((LOG(AF7))/LOG(2))))","v":-0.5},null,{"$f":"N7","v":111},{"$f":"COUNTIF(L23:L27,AI7)","v":2},{"$f":"AJ7/(AL4-AJ14)","v":0.4},{"$f":"IF(AK7=0,0,(AK7*((LOG(AK7))/LOG(2))))","v":-0.52877123795494496},null,{"$f":"N7","v":111},{"$f":"COUNTIF(L28:L32,AN7)","v":0},{"$f":"AO7/(AQ4-AO14)","v":0},{"$f":"IF(AP7=0,0,(AP7*((LOG(AP7))/LOG(2))))","v":0},null,{"$f":"N7","v":111},{"$f":"COUNTIF(L33:L37,AS7)","v":1},{"$f":"AT7/(AV4-AT14)","v":0.2},{"$f":"IF(AU7=0,0,(AU7*((LOG(AU7))/LOG(2))))","v":-0.46438561897747244}]
[12,303,14,334,14,340,null,null,null,null,0,111,null,112,{"$f":"COUNTIF($L$7:$L$500,N8)","v":5},{"$f":"O8/$Q$4","v":0.16129032258064516},{"$f":"IF(P8=0,0,(P8*((LOG(P8))/LOG(2))))","v":-0.42455938959669559},null,null,{"$f":"N8","v":112},{"$f":"COUNTIF(L7:L11,T8)","v":2},{"$f":"U8/(W4-U14)","v":0.4},{"$f":"IF(V8=0,0,(V8*((LOG(V8))/LOG(2))))","v":-0.52877123795494496},null,{"$f":"N8","v":112},{"$f":"COUNTIF(L12:L16,Y8)","v":0},{"$f":"Z8/(AB4-Z14)","v":0},{"$f":"IF(AA8=0,0,(AA8*((LOG(AA8))/LOG(2))))","v":0},null,{"$f":"N8","v":112},{"$f":"COUNTIF(L17:L22,AD8)","v":0},{"$f":"AE8/(AG4-AE14)","v":0},{"$f":"IF(AF8=0,0,(AF8*((LOG(AF8))/LOG(2))))","v":0},null,{"$f":"N8","v":112},{"$f":"COUNTIF(L23:L27,AI8)","v":0},{"$f":"AJ8/(AL4-AJ14)","v":0},{"$f":"IF(AK8=0,0,(AK8*((LOG(AK8))/LOG(2))))","v":0},null,{"$f":"N8","v":112},{"$f":"COUNTIF(L28:L32,AN8)","v":2},{"$f":"AO8/(AQ4-AO14)","v":0.4},{"$f":"IF(AP8=0,0,(AP8*((LOG(AP8))/LOG(2))))","v":-0.52877123795494496},null,{"$f":"N8","v":112},{"$f":"COUNTIF(L33:L37,AS8)","v":1},{"$f":"AT8/(AV4-AT14)","v":0.2},{"$f":"IF(AU8=0,0,(AU8*((LOG(AU8))/LOG(2))))","v":-0.46438561897747244}]
[12,435,14,450,23,455,null,null,null,null,0,112,null,121,{"$f":"COUNTIF($L$7:$L$500,N9)","v":8},{"$f":"O9/$Q$4","v":0.25806451612903225},{"$f":"IF(P9=0,0,(P9*((LOG(P9))/LOG(2))))","v":-0.50430872526112902},null,null,{"$f":"N9","v":121},{"$f":"COUNTIF(L7:L11,T9)","v":0},{"$f":"U9/(W4-U14)","v":0},{"$f":"IF(V9=0,0,(V9*((LOG(V9))/LOG(2))))","v":0},null,{"$f":"N9","v":121},{"$f":"COUNTIF(L12:L16,Y9)","v":2},{"$f":"Z9/(AB4-Z14)","v":0.4},{"$f":"IF(AA9=0,0,(AA9*((LOG(AA9))/LOG(2))))","v":-0.52877123795494496},null,{"$f":"N9","v":121},{"$f":"COUNTIF(L17:L22,AD9)","v":2},{"$f":"AE9/(AG4-AE14)","v":0.33333333333333331},{"$f":"IF(AF9=0,0,(AF9*((LOG(AF9))/LOG(2))))","v":-0.52832083357371862},null,{"$f":"N9","v":121},{"$f":"COUNTIF(L23:L27,AI9)","v":1},{"$f":"AJ9/(AL4-AJ14)","v":0.2},{"$f":"IF(AK9=0,0,(AK9*((LOG(AK9))/LOG(2))))","v":-0.46438561897747244},null,{"$f":"N9","v":121},{"$f":"COUNTIF(L28:L32,AN9)","v":1},{"$f":"AO9/(AQ4-AO14)","v":0.2},{"$f":"IF(AP9=0,0,(AP9*((LOG(AP9))/LOG(2))))","v":-0.46438561897747244},null,{"$f":"N9","v":121},{"$f":"COUNTIF(L33:L37,AS9)","v":2},{"$f":"AT9/(AV4-AT14)","v":0.4},{"$f":"IF(AU9=0,0,(AU9*((LOG(AU9))/LOG(2))))","v":-0.52877123795494496}]
[21,556,21,562,12,569,null,null,null,null,0,221,null,122,{"$f":"COUNTIF($L$7:$L$500,N10)","v":1},{"$f":"O10/$Q$4","v":3.2258064516129031E-2},{"$f":"IF(P10=0,0,(P10*((LOG(P10))/LOG(2))))","v":-0.15981278420602821},null,null,{"$f":"N10","v":122},{"$f":"COUNTIF(L7:L11,T10)","v":0},{"$f":"U10/(W4-U14)","v":0},{"$f":"IF(V10=0,0,(V10*((LOG(V10))/LOG(2))))","v":0},null,{"$f":"N10","v":122},{"$f":"COUNTIF(L12:L16,Y10)","v":0},{"$f":"Z10/(AB4-Z14)","v":0},{"$f":"IF(AA10=0,0,(AA10*((LOG(AA10))/LOG(2))))","v":0},null,{"$f":"N10","v":122},{"$f":"COUNTIF(L17:L22,AD10)","v":0},{"$f":"AE10/(AG4-AE14)","v":0},{"$f":"IF(AF10=0,0,(AF10*((LOG(AF10))/LOG(2))))","v":0},null,{"$f":"N10","v":122},{"$f":"COUNTIF(L23:L27,AI10)","v":1},{"$f":"AJ10/(AL4-AJ14)","v":0.2},{"$f":"IF(AK10=0,0,(AK10*((LOG(AK10))/LOG(2))))","v":-0.46438561897747244},null,{"$f":"N10","v":122},{"$f":"COUNTIF(L28:L32,AN10)","v":0},{"$f":"AO10/(AQ4-AO14)","v":0},{"$f":"IF(AP10=0,0,(AP10*((LOG(AP10))/LOG(2))))","v":0},null,{"$f":"N10","v":122},{"$f":"COUNTIF(L33:L37,AS10)","v":0},{"$f":"AT10/(AV4-AT14)","v":0},{"$f":"IF(AU10=0,0,(AU10*((LOG(AU10))/LOG(2))))","v":0}]
[12,684,14,690,14,705,null,null,null,null,0,111,null,211,{"$f":"COUNTIF($L$7:$L$500,N11)","v":4},{"$f":"O11/$Q$4","v":0.12903225806451613},{"$f":"IF(P11=0,0,(P11*((LOG(P11))/LOG(2))))","v":-0.38118662069508069},null,null,{"$f":"N11","v":211},{"$f":"COUNTIF(L7:L11,T11)","v":0},{"$f":"U11/(W4-U14)","v":0},{"$f":"IF(V11=0,0,(V11*((LOG(V11))/LOG(2))))","v":0},null,{"$f":"N11","v":211},{"$f":"COUNTIF(L12:L16,Y11)","v":2},{"$f":"Z11/(AB4-Z14)","v":0.4},{"$f":"IF(AA11=0,0,(AA11*((LOG(AA11))/LOG(2))))","v":-0.52877123795494496},null,{"$f":"N11","v":211},{"$f":"COUNTIF(L17:L22,AD11)","v":0},{"$f":"AE11/(AG4-AE14)","v":0},{"$f":"IF(AF11=0,0,(AF11*((LOG(AF11))/LOG(2))))","v":0},null,{"$f":"N11","v":211},{"$f":"COUNTIF(L23:L27,AI11)","v":0},{"$f":"AJ11/(AL4-AJ14)","v":0},{"$f":"IF(AK11=0,0,(AK11*((LOG(AK11))/LOG(2))))","v":0},null,{"$f":"N11","v":211},{"$f":"COUNTIF(L28:L32,AN11)","v":2},{"$f":"AO11/(AQ4-AO14)","v":0.4},{"$f":"IF(AP11=0,0,(AP11*((LOG(AP11))/LOG(2))))","v":-0.52877123795494496},null,{"$f":"N11","v":211},{"$f":"COUNTIF(L33:L37,AS11)","v":0},{"$f":"AT11/(AV4-AT14)","v":0},{"$f":"IF(AU11=0,0,(AU11*((LOG(AU11))/LOG(2))))","v":0}]
[21,802,21,805,12,814,null,null,null,null,0,221,null,212,{"$f":"COUNTIF($L$7:$L$500,N12)","v":0},{"$f":"O12/$Q$4","v":0},{"$f":"IF(P12=0,0,(P12*((LOG(P12))/LOG(2))))","v":0},null,null,{"$f":"N12","v":212},{"$f":"COUNTIF(L7:L11,T12)","v":0},{"$f":"U12/(W4-U14)","v":0},{"$f":"IF(V12=0,0,(V12*((LOG(V12))/LOG(2))))","v":0},null,{"$f":"N12","v":212},{"$f":"COUNTIF(L12:L16,Y12)","v":0},{"$f":"Z12/(AB4-Z14)","v":0},{"$f":"IF(AA12=0,0,(AA12*((LOG(AA12))/LOG(2))))","v":0},null,{"$f":"N12","v":212},{"$f":"COUNTIF(L17:L22,AD12)","v":0},{"$f":"AE12/(AG4-AE14)","v":0},{"$f":"IF(AF12=0,0,(AF12*((LOG(AF12))/LOG(2))))","v":0},null,{"$f":"N12","v":212},{"$f":"COUNTIF(L23:L27,AI12)","v":0},{"$f":"AJ12/(AL4-AJ14)","v":0},{"$f":"IF(AK12=0,0,(AK12*((LOG(AK12))/LOG(2))))","v":0},null,{"$f":"N12","v":212},{"$f":"COUNTIF(L28:L32,AN12)","v":0},{"$f":"AO12/(AQ4-AO14)","v":0},{"$f":"IF(AP12=0,0,(AP12*((LOG(AP12))/LOG(2))))","v":0},null,{"$f":"N12","v":212},{"$f":"COUNTIF(L33:L37,AS12)","v":0},{"$f":"AT12/(AV4-AT14)","v":0},{"$f":"IF(AU12=0,0,(AU12*((LOG(AU12))/LOG(2))))","v":0}]
[21,1290,12,1305,14,1334,null,null,null,null,0,211,null,221,{"$f":"COUNTIF($L$7:$L$500,N13)","v":5},{"$f":"O13/$Q$4","v":0.16129032258064516},{"$f":"IF(P13=0,0,(P13*((LOG(P13))/LOG(2))))","v":-0.42455938959669559},null,null,{"$f":"N13","v":221},{"$f":"COUNTIF(L7:L11,T13)","v":1},{"$f":"U13/(W4-U14)","v":0.2},{"$f":"IF(V13=0,0,(V13*((LOG(V13))/LOG(2))))","v":-0.46438561897747244},null,{"$f":"N13","v":221},{"$f":"COUNTIF(L12:L16,Y13)","v":1},{"$f":"Z13/(AB4-Z14)","v":0.2},{"$f":"IF(AA13=0,0,(AA13*((LOG(AA13))/LOG(2))))","v":-0.46438561897747244},null,{"$f":"N13","v":221},{"$f":"COUNTIF(L17:L22,AD13)","v":1},{"$f":"AE13/(AG4-AE14)","v":0.16666666666666666},{"$f":"IF(AF13=0,0,(AF13*((LOG(AF13))/LOG(2))))","v":-0.43082708345352599},null,{"$f":"N13","v":221},{"$f":"COUNTIF(L23:L27,AI13)","v":1},{"$f":"AJ13/(AL4-AJ14)","v":0.2},{"$f":"IF(AK13=0,0,(AK13*((LOG(AK13))/LOG(2))))","v":-0.46438561897747244},null,{"$f":"N13","v":221},{"$f":"COUNTIF(L28:L32,AN13)","v":0},{"$f":"AO13/(AQ4-AO14)","v":0},{"$f":"IF(AP13=0,0,(AP13*((LOG(AP13))/LOG(2))))","v":0},null,{"$f":"N13","v":221},{"$f":"COUNTIF(L33:L37,AS13)","v":1},{"$f":"AT13/(AV4-AT14)","v":0.2},{"$f":"IF(AU13=0,0,(AU13*((LOG(AU13))/LOG(2))))","v":-0.46438561897747244}]
[12,1432,23,1450,14,1456,null,null,null,null,0,121,null,222,{"$f":"COUNTIF($L$7:$L$500,N14)","v":0},{"$f":"O14/$Q$4","v":0},{"$f":"IF(P14=0,0,(P14*((LOG(P14))/LOG(2))))","v":0},null,null,{"$f":"N14","v":222},{"$f":"COUNTIF(L7:L11,T14)","v":0},null,null,null,{"$f":"N14","v":222},{"$f":"COUNTIF(L12:L16,Y14)","v":0},null,null,null,{"$f":"N14","v":222},{"$f":"COUNTIF(L17:L22,AD14)","v":0},null,null,null,{"$f":"N14","v":222},{"$f":"COUNTIF(L23:L27,AI14)","v":0},null,null,null,{"$f":"N14","v":222},{"$f":"COUNTIF(L28:L32,AN14)","v":0},null,null,null,{"$f":"N14","v":222},{"$f":"COUNTIF(L33:L37,AS14)","v":0}]
[12,1616,23,1627,14,1630,null,null,null,null,0,121,null,null,null,{"$f":"SUM(P7:P14)","v":0.99999999999999989},{"$f":"-SUM(Q7:Q14)","v":2.3987356346167581},null,null,null,null,{"$f":"SUM(V7:V14)","v":1},{"$f":"-SUM(W7:W14)","v":1.5219280948873624},null,null,null,{"$f":"SUM(AA7:AA14)","v":1},{"$f":"-SUM(AB7:AB14)","v":1.5219280948873624},null,null,null,{"$f":"SUM(AF7:AF14)","v":0.99999999999999989},{"$f":"-SUM(AG7:AG14)","v":1.4591479170272446},null,null,null,{"$f":"SUM(AK7:AK14)","v":1},{"$f":"-SUM(AL7:AL14)","v":1.9219280948873623},null,null,null,{"$f":"SUM(AP7:AP14)","v":1},{"$f":"-SUM(AQ7:AQ14)","v":1.5219280948873624},null,null,null,{"$f":"SUM(AU7:AU14)","v":1},{"$f":"-SUM(AV7:AV14)","v":1.9219280948873623}]
[21,1736,12,1744,14,1763,null,null,null,null,0,211,null,null,null,"U=",{"$f":"Q15/(LOG(Q4)/LOG(2))","v":0.48418259679932629},null,null,null,null,"U1=",{"$f":"W15/(LOG(W4)/LOG(2))","v":0.65545875354128547},null,null,null,"U2=",{"$f":"AB15/(LOG(AB4)/LOG(2))","v":0.65545875354128547},null,null,null,"U3=",{"$f":"AG15/(LOG(AG4)/LOG(2))","v":0.56447546787242353},null,null,null,"U4=",{"$f":"AL15/(LOG(AL4)/LOG(2))","v":0.82772937677064262},null,null,null,"U5=",{"$f":"AQ15/(LOG(AQ4)/LOG(2))","v":0.65545875354128547},null,null,null,"U6=",{"$f":"AV15/(LOG(AV4)/LOG(2))","v":0.82772937677064262}]
[12,1902,14,1910,14,1930,null,null,null,null,0,111]
[21,2287,21,2290,12,2306,null,null,null,null,0,221]
[12,2415,14,2423,14,2425,null,null,null,null,0,111,null,"Total Target Seq"]
[12,2536,23,2554,14,2571,null,null,null,null,0,121,null,{"$f":"COUNTIF(L7:L37,G3)","v":0},null,5,5,6,5,5,5]
[12,2870,14,2888,14,2910,null,null,null,null,0,111,null,null,null,"% of reinforcement given in 6 equal intervals based on number of trials "]
[12,3029,23,3038,14,3042,null,null,null,null,0,121,null,null,null,"%_1","%_2","%_3","%_4","%_5","%_6"]
[12,3143,23,3158,14,3163,null,null,null,null,0,121,null,null,"target sequence",{"$f":"$G$3","v":222},{"$f":"$G$3","v":222},{"$f":"$G$3","v":222},{"$f":"$G$3","v":222},{"$f":"$G$3","v":222},{"$f":"$G$3","v":222}]
[12,3634,14,3647,14,3674,null,null,null,null,0,111,null,null,"total reinforcement",{"$f":"U14","v":0},{"$f":"Z14","v":0},{"$f":"AE14","v":0},{"$f":"AJ14","v":0},{"$f":"AO14","v":0},{"$f":"AT14","v":0}]
[21,3998,21,4005,12,4029,null,null,null,null,0,221,null,null,"% target"]
[12,4257,14,4282,14,4290,null,null,null,null,0,111,null,null,"CCRF"]
[12,4442,23,4470,23,4479,null,null,null,null,0,122,null,null,"% CCRf"]
[12,4567,23,4601,14,4604,null,null,null,null,0,121,null,null,"average response rate",{"$f":"F11/P20","v":141},{"$f":"(F16-F11)/Q20","v":211.6},{"$f":"(F22-F16)/R20","v":213.16666666666666},{"$f":"(F27-F22)/S20","v":287.39999999999998},{"$f":"(F32-F27)/T20","v":202.4},{"$f":"(F37-F32)/U20","v":546.6}]
[12,4707,14,4712,23,4723,null,null,null,null,0,112]
[12,5051,14,5083,23,5105,null,null,null,null,0,112]
[21,5198,12,5202,14,5232,null,null,null,null,0,211]
[21,5475,12,5483,14,5491,null,null,null,null,0,211]
[12,5597,14,5607,23,5619,null,null,null,null,0,112]
[12,5713,23,5730,14,5734,null,null,null,null,0,121]
[12,5901,23,5913,14,5916,null,null,null,null,0,121]
[21,8072,21,8074,12,8098,null,null,null,null,0,221]
[12,8199,14,8213,14,8224,null,null,null,null,0,111]

{"sheet":"!MC2493B.AXT","index":6,"n_rows":64,"n_cols":48,"rows_kept":64,"cut":false,"hidden":false,"merged":[[4,39,4,42],[5,39,5,40],[4,44,4,47],[5,44,5,45],[4,24,4,27],[5,24,5,25],[4,29,4,32],[5,29,5,30],[4,34,4,37],[5,34,5,35],[1,1,1,2],[5,13,5,14],[18,13,18,14],[19,13,19,14],[4,19,4,22],[5,19,5,20]]}
["Report for:!MC2493B.AXT"]
["Date:","<date>"]
["Hen:","<hen>",null,null,null,"Correct Sequence",{"$f":"Start!J2","v":222},null,null,null,null,null,null,null,null,"Total Sequences in Data",{"$f":"4994-COUNTBLANK(L7:L5000)","v":58},null,null,null,null,"Total Sequences in Block Data",{"$f":"COUNTA(L7:L16)","v":10},null,null,null,"Total Sequences in Block Data",{"$f":"COUNTA(L17:L25)","v":9},null,null,null,"Total Sequences in Block Data",{"$f":"COUNTA(L26:L35)","v":10},null,null,null,"Total Sequences in Block Data",{"$f":"COUNTA(L36:L45)","v":10},null,null,null,"Total Sequences in Block Data",{"$f":"COUNTA(L46:L54)","v":9},null,null,null,"Total Sequences in Block Data",{"$f":"COUNTA(L55:L64)","v":10}]
[null,null,null,null,null,null,null,null,null,null,null,null,null,null,null,"Total Sequences in Summary",{"$f":"SUM(O7:O14)","v":58},null,null,null,null,"Total Sequences in Block Summary",{"$f":"SUM(U7:U14)","v":10},null,null,null,"Total Sequences in Block Summary",{"$f":"SUM(Z7:Z14)","v":9},null,null,null,"Total Sequences in Block Summary",{"$f":"SUM(AE7:AE14)","v":10},null,null,null,"Total Sequences in Block Summary",{"$f":"SUM(AJ7:AJ14)","v":10},null,null,null,"Total Sequences in Block Summary",{"$f":"SUM(AO7:AO14)","v":9},null,null,null,"Total Sequences in Block Summary",{"$f":"SUM(AT7:AT14)","v":10}]
[null,null,null,null,null,null,null,null,null,null,null,null,null,null,null,null,null,null,null,"Block 1",null,null,null,null,"Block 2",null,null,null,null,"Block 3",null,null,null,null,"Block 4",null,null,null,null,"Block 5",null,null,null,null,"Block 6"]
["Sequence\nComponent\n1","Time\n1","Sequence\nComponent\n2","Time\n2","Sequence\nComponent\n3","Time\n3","Sequence\nComponent\n4","Time\n4","Sequence\nComponent\n5","Time\n5","Correct?\n0=No 1=Yes","Sequence",null,"Frequency",null,"Relative Frequency","Variability",null,null,"Frequency",null,"Relative Frequency","Variability",null,"Frequency",null,"Relative Frequency","Variability",null,"Frequency",null,"Relative Frequency","Variability",null,"Frequency",null,"Relative Frequency","Variability",null,"Frequency",null,"Relative Frequency","Variability",null,"Frequency",null,"Relative Frequency","Variability"]
[12,140,23,163,14,177,null,null,null,null,0,121,null,111,{"$f":"COUNTIF($L$7:$L$500,N7)","v":3},{"$f":"O7/$Q$4","v":5.1724137931034482E-2},{"$f":"IF(P7=0,0,(P7*((LOG(P7))/LOG(2))))","v":-0.22101819798653879},null,null,{"$f":"N7","v":111},{"$f":"COUNTIF(L7:L16,T7)","v":1},{"$f":"U7/(W4-U14)","v":0.125},{"$f":"IF(V7=0,0,(V7*((LOG(V7))/LOG(2))))","v":-0.375},null,{"$f":"N7","v":111},{"$f":"COUNTIF(L17:L25,Y7)","v":1},{"$f":"Z7/(AB4-Z14)","v":0.16666666666666666},{"$f":"IF(AA7=0,0,(AA7*((LOG(AA7))/LOG(2))))","v":-0.43082708345352599},null,{"$f":"N7","v":111},{"$f":"COUNTIF(L26:L35,AD7)","v":1},{"$f":"AE7/(AG4-AE14)","v":0.33333333333333331},{"$f":"IF(AF7=0,0,(AF7*((LOG(AF7))/LOG(2))))","v":-0.52832083357371862},null,{"$f":"N7","v":111},{"$f":"COUNTIF(L36:L45,AI7)","v":0},{"$f":"AJ7/(AL4-AJ14)","v":{"$error":"#DIV/0!"}},{"$f":"IF(AK7=0,0,(AK7*((LOG(AK7))/LOG(2))))","v":{"$error":"#DIV/0!"}},null,{"$f":"N7","v":111},{"$f":"COUNTIF(L46:L54,AN7)","v":0},{"$f":"AO7/(AQ4-AO14)","v":0},{"$f":"IF(AP7=0,0,(AP7*((LOG(AP7))/LOG(2))))","v":0},null,{"$f":"N7","v":111},{"$f":"COUNTIF(L55:L64,AS7)","v":0},{"$f":"AT7/(AV4-AT14)","v":0},{"$f":"IF(AU7=0,0,(AU7*((LOG(AU7))/LOG(2))))","v":0}]
[12,272,14,290,14,308,null,null,null,null,0,111,null,112,{"$f":"COUNTIF($L$7:$L$500,N8)","v":1},{"$f":"O8/$Q$4","v":1.7241379310344827E-2},{"$f":"IF(P8=0,0,(P8*((LOG(P8))/LOG(2))))","v":-0.10099967232978573},null,null,{"$f":"N8","v":112},{"$f":"COUNTIF(L7:L16,T8)","v":1},{"$f":"U8/(W4-U14)","v":0.125},{"$f":"IF(V8=0,0,(V8*((LOG(V8))/LOG(2))))","v":-0.375},null,{"$f":"N8","v":112},{"$f":"COUNTIF(L17:L25,Y8)","v":0},{"$f":"Z8/(AB4-Z14)","v":0},{"$f":"IF(AA8=0,0,(AA8*((LOG(AA8))/LOG(2))))","v":0},null,{"$f":"N8","v":112},{"$f":"COUNTIF(L26:L35,AD8)","v":0},{"$f":"AE8/(AG4-AE14)","v":0},{"$f":"IF(AF8=0,0,(AF8*((LOG(AF8))/LOG(2))))","v":0},null,{"$f":"N8","v":112},{"$f":"COUNTIF(L36:L45,AI8)","v":0},{"$f":"AJ8/(AL4-AJ14)","v":{"$error":"#DIV/0!"}},{"$f":"IF(AK8=0,0,(AK8*((LOG(AK8))/LOG(2))))","v":{"$error":"#DIV/0!"}},null,{"$f":"N8","v":112},{"$f":"COUNTIF(L46:L54,AN8)","v":0},{"$f":"AO8/(AQ4-AO14)","v":0},{"$f":"IF(AP8=0,0,(AP8*((LOG(AP8))/LOG(2))))","v":0},null,{"$f":"N8","v":112},{"$f":"COUNTIF(L55:L64,AS8)","v":0},{"$f":"AT8/(AV4-AT14)","v":0},{"$f":"IF(AU8=0,0,(AU8*((LOG(AU8))/LOG(2))))","v":0}]
[12,569,14,575,23,586,null,null,null,null,0,112,null,121,{"$f":"COUNTIF($L$7:$L$500,N9)","v":1},{"$f":"O9/$Q$4","v":1.7241379310344827E-2},{"$f":"IF(P9=0,0,(P9*((LOG(P9))/LOG(2))))","v":-0.10099967232978573},null,null,{"$f":"N9","v":121},{"$f":"COUNTIF(L7:L16,T9)","v":1},{"$f":"U9/(W4-U14)","v":0.125},{"$f":"IF(V9=0,0,(V9*((LOG(V9))/LOG(2))))","v":-0.375},null,{"$f":"N9","v":121},{"$f":"COUNTIF(L17:L25,Y9)","v":0},{"$f":"Z9/(AB4-Z14)","v":0},{"$f":"IF(AA9=0,0,(AA9*((LOG(AA9))/LOG(2))))","v":0},null,{"$f":"N9","v":121},{"$f":"COUNTIF(L26:L35,AD9)","v":0},{"$f":"AE9/(AG4-AE14)","v":0},{"$f":"IF(AF9=0,0,(AF9*((LOG(AF9))/LOG(2))))","v":0},null,{"$f":"N9","v":121},{"$f":"COUNTIF(L36:L45,AI9)","v":0},{"$f":"AJ9/(AL4-AJ14)","v":{"$error":"#DIV/0!"}},{"$f":"IF(AK9=0,0,(AK9*((LOG(AK9))/LOG(2))))","v":{"$error":"#DIV/0!"}},null,{"$f":"N9","v":121},{"$f":"COUNTIF(L46:L54,AN9)","v":0},{"$f":"AO9/(AQ4-AO14)","v":0},{"$f":"IF(AP9=0,0,(AP9*((LOG(AP9))/LOG(2))))","v":0},null,{"$f":"N9","v":121},{"$f":"COUNTIF(L55:L64,AS9)","v":0},{"$f":"AT9/(AV4-AT14)","v":0},{"$f":"IF(AU9=0,0,(AU9*((LOG(AU9))/LOG(2))))","v":0}]
[21,845,12,854,23,872,null,null,null,null,0,212,null,122,{"$f":"COUNTIF($L$7:$L$500,N10)","v":2},{"$f":"O10/$Q$4","v":3.4482758620689655E-2},{"$f":"IF(P10=0,0,(P10*((LOG(P10))/LOG(2))))","v":-0.16751658603888178},null,null,{"$f":"N10","v":122},{"$f":"COUNTIF(L7:L16,T10)","v":0},{"$f":"U10/(W4-U14)","v":0},{"$f":"IF(V10=0,0,(V10*((LOG(V10))/LOG(2))))","v":0},null,{"$f":"N10","v":122},{"$f":"COUNTIF(L17:L25,Y10)","v":1},{"$f":"Z10/(AB4-Z14)","v":0.16666666666666666},{"$f":"IF(AA10=0,0,(AA10*((LOG(AA10))/LOG(2))))","v":-0.43082708345352599},null,{"$f":"N10","v":122},{"$f":"COUNTIF(L26:L35,AD10)","v":1},{"$f":"AE10/(AG4-AE14)","v":0.33333333333333331},{"$f":"IF(AF10=0,0,(AF10*((LOG(AF10))/LOG(2))))","v":-0.52832083357371862},null,{"$f":"N10","v":122},{"$f":"COUNTIF(L36:L45,AI10)","v":0},{"$f":"AJ10/(AL4-AJ14)","v":{"$error":"#DIV/0!"}},{"$f":"IF(AK10=0,0,(AK10*((LOG(AK10))/LOG(2))))","v":{"$error":"#DIV/0!"}},null,{"$f":"N10","v":122},{"$f":"COUNTIF(L46:L54,AN10)","v":0},{"$f":"AO10/(AQ4-AO14)","v":0},{"$f":"IF(AP10=0,0,(AP10*((LOG(AP10))/LOG(2))))","v":0},null,{"$f":"N10","v":122},{"$f":"COUNTIF(L55:L64,AS10)","v":0},{"$f":"AT10/(AV4-AT14)","v":0},{"$f":"IF(AU10=0,0,(AU10*((LOG(AU10))/LOG(2))))","v":0}]
[21,970,12,974,14,1001,null,null,null,null,0,211,null,211,{"$f":"COUNTIF($L$7:$L$500,N11)","v":5},{"$f":"O11/$Q$4","v":8.6206896551724144E-2},{"$f":"IF(P11=0,0,(P11*((LOG(P11))/LOG(2))))","v":-0.30483214657243185},null,null,{"$f":"N11","v":211},{"$f":"COUNTIF(L7:L16,T11)","v":3},{"$f":"U11/(W4-U14)","v":0.375},{"$f":"IF(V11=0,0,(V11*((LOG(V11))/LOG(2))))","v":-0.53063906222956647},null,{"$f":"N11","v":211},{"$f":"COUNTIF(L17:L25,Y11)","v":2},{"$f":"Z11/(AB4-Z14)","v":0.33333333333333331},{"$f":"IF(AA11=0,0,(AA11*((LOG(AA11))/LOG(2))))","v":-0.52832083357371862},null,{"$f":"N11","v":211},{"$f":"COUNTIF(L26:L35,AD11)","v":0},{"$f":"AE11/(AG4-AE14)","v":0},{"$f":"IF(AF11=0,0,(AF11*((LOG(AF11))/LOG(2))))","v":0},null,{"$f":"N11","v":211},{"$f":"COUNTIF(L36:L45,AI11)","v":0},{"$f":"AJ11/(AL4-AJ14)","v":{"$error":"#DIV/0!"}},{"$f":"IF(AK11=0,0,(AK11*((LOG(AK11))/LOG(2))))","v":{"$error":"#DIV/0!"}},null,{"$f":"N11","v":211},{"$f":"COUNTIF(L46:L54,AN11)","v":0},{"$f":"AO11/(AQ4-AO14)","v":0},{"$f":"IF(AP11=0,0,(AP11*((LOG(AP11))/LOG(2))))","v":0},null,{"$f":"N11","v":211},{"$f":"COUNTIF(L55:L64,AS11)","v":0},{"$f":"AT11/(AV4-AT14)","v":0},{"$f":"IF(AU11=0,0,(AU11*((LOG(AU11))/LOG(2))))","v":0}]
[21,1116,12,1122,14,1137,null,null,null,null,0,211,null,212,{"$f":"COUNTIF($L$7:$L$500,N12)","v":3},{"$f":"O12/$Q$4","v":5.1724137931034482E-2},{"$f":"IF(P12=0,0,(P12*((LOG(P12))/LOG(2))))","v":-0.22101819798653879},null,null,{"$f":"N12","v":212},{"$f":"COUNTIF(L7:L16,T12)","v":1},{"$f":"U12/(W4-U14)","v":0.125},{"$f":"IF(V12=0,0,(V12*((LOG(V12))/LOG(2))))","v":-0.375},null,{"$f":"N12","v":212},{"$f":"COUNTIF(L17:L25,Y12)","v":1},{"$f":"Z12/(AB4-Z14)","v":0.16666666666666666},{"$f":"IF(AA12=0,0,(AA12*((LOG(AA12))/LOG(2))))","v":-0.43082708345352599},null,{"$f":"N12","v":212},{"$f":"COUNTIF(L26:L35,AD12)","v":0},{"$f":"AE12/(AG4-AE14)","v":0},{"$f":"IF(AF12=0,0,(AF12*((LOG(AF12))/LOG(2))))","v":0},null,{"$f":"N12","v":212},{"$f":"COUNTIF(L36:L45,AI12)","v":0},{"$f":"AJ12/(AL4-AJ14)","v":{"$error":"#DIV/0!"}},{"$f":"IF(AK12=0,0,(AK12*((LOG(AK12))/LOG(2))))","v":{"$error":"#DIV/0!"}},null,{"$f":"N12","v":212},{"$f":"COUNTIF(L46:L54,AN12)","v":0},{"$f":"AO12/(AQ4-AO14)","v":0},{"$f":"IF(AP12=0,0,(AP12*((LOG(AP12))/LOG(2))))","v":0},null,{"$f":"N12","v":212},{"$f":"COUNTIF(L55:L64,AS12)","v":1},{"$f":"AT12/(AV4-AT14)","v":1},{"$f":"IF(AU12=0,0,(AU12*((LOG(AU12))/LOG(2))))","v":0}]
[21,1245,12,1259,14,1268,null,null,null,null,0,211,null,221,{"$f":"COUNTIF($L$7:$L$500,N13)","v":5},{"$f":"O13/$Q$4","v":8.6206896551724144E-2},{"$f":"IF(P13=0,0,(P13*((LOG(P13))/LOG(2))))","v":-0.30483214657243185},null,null,{"$f":"N13","v":221},{"$f":"COUNTIF(L7:L16,T13)","v":1},{"$f":"U13/(W4-U14)","v":0.125},{"$f":"IF(V13=0,0,(V13*((LOG(V13))/LOG(2))))","v":-0.375},null,{"$f":"N13","v":221},{"$f":"COUNTIF(L17:L25,Y13)","v":1},{"$f":"Z13/(AB4-Z14)","v":0.16666666666666666},{"$f":"IF(AA13=0,0,(AA13*((LOG(AA13))/LOG(2))))","v":-0.43082708345352599},null,{"$f":"N13","v":221},{"$f":"COUNTIF(L26:L35,AD13)","v":1},{"$f":"AE13/(AG4-AE14)","v":0.33333333333333331},{"$f":"IF(AF13=0,0,(AF13*((LOG(AF13))/LOG(2))))","v":-0.52832083357371862},null,{"$f":"N13","v":221},{"$f":"COUNTIF(L36:L45,AI13)","v":0},{"$f":"AJ13/(AL4-AJ14)","v":{"$error":"#DIV/0!"}},{"$f":"IF(AK13=0,0,(AK13*((LOG(AK13))/LOG(2))))","v":{"$error":"#DIV/0!"}},null,{"$f":"N13","v":221},{"$f":"COUNTIF(L46:L54,AN13)","v":2},{"$f":"AO13/(AQ4-AO14)","v":1},{"$f":"IF(AP13=0,0,(AP13*((LOG(AP13))/LOG(2))))","v":0},null,{"$f":"N13","v":221},{"$f":"COUNTIF(L55:L64,AS13)","v":0},{"$f":"AT13/(AV4-AT14)","v":0},{"$f":"IF(AU13=0,0,(AU13*((LOG(AU13))/LOG(2))))","v":0}]
[21,1387,21,1389,12,1406,null,null,null,null,0,221,null,222,{"$f":"COUNTIF($L$7:$L$500,N14)","v":38},{"$f":"O14/$Q$4","v":0.65517241379310343},{"$f":"IF(P14=0,0,(P14*((LOG(P14))/LOG(2))))","v":-0.39969021213778433},null,null,{"$f":"N14","v":222},{"$f":"COUNTIF(L7:L16,T14)","v":2},null,null,null,{"$f":"N14","v":222},{"$f":"COUNTIF(L17:L25,Y14)","v":3},null,null,null,{"$f":"N14","v":222},{"$f":"COUNTIF(L26:L35,AD14)","v":7},null,null,null,{"$f":"N14","v":222},{"$f":"COUNTIF(L36:L45,AI14)","v":10},null,null,null,{"$f":"N14","v":222},{"$f":"COUNTIF(L46:L54,AN14)","v":7},null,null,null,{"$f":"N14","v":222},{"$f":"COUNTIF(L55:L64,AS14)","v":9}]
[21,1636,21,1640,21,1647,null,null,null,null,0,222,null,null,null,{"$f":"SUM(P7:P14)","v":1},{"$f":"-SUM(Q7:Q14)","v":1.8209068319541788},null,null,null,null,{"$f":"SUM(V7:V14)","v":1},{"$f":"-SUM(W7:W14)","v":2.4056390622295662},null,null,null,{"$f":"SUM(AA7:AA14)","v":0.99999999999999989},{"$f":"-SUM(AB7:AB14)","v":2.2516291673878226},null,null,null,{"$f":"SUM(AF7:AF14)","v":1},{"$f":"-SUM(AG7:AG14)","v":1.5849625007211559},null,null,null,{"$f":"SUM(AK7:AK14)","v":{"$error":"#DIV/0!"}},{"$f":"-SUM(AL7:AL14)","v":{"$error":"#DIV/0!"}},null,null,null,{"$f":"SUM(AP7:AP14)","v":1},{"$f":"-SUM(AQ7:AQ14)","v":0},null,null,null,{"$f":"SUM(AU7:AU14)","v":1},{"$f":"-SUM(AV7:AV14)","v":0}]
[21,1745,21,1748,21,1752,null,null,null,null,0,222,null,null,null,"U=",{"$f":"Q15/(LOG(Q4)/LOG(2))","v":0.31084205180398067},null,null,null,null,"U1=",{"$f":"W15/(LOG(W4)/LOG(2))","v":0.72416951647207017},null,null,null,"U2=",{"$f":"AB15/(LOG(AB4)/LOG(2))","v":0.71030991785715247},null,null,null,"U3=",{"$f":"AG15/(LOG(AG4)/LOG(2))","v":0.47712125471966238},null,null,null,"U4=",{"$f":"AL15/(LOG(AL4)/LOG(2))","v":{"$error":"#DIV/0!"}},null,null,null,"U5=",{"$f":"AQ15/(LOG(AQ4)/LOG(2))","v":0},null,null,null,"U6=",{"$f":"AV15/(LOG(AV4)/LOG(2))","v":0}]
[21,2038,21,2045,21,2047,null,null,null,null,0,222]
[21,2229,21,2233,21,2241,null,null,null,null,0,222]
[21,2431,21,2435,12,2459,null,null,null,null,0,221,null,"Total Target Seq"]
[21,2551,12,2605,23,2642,null,null,null,null,0,212,null,{"$f":"COUNTIF(L7:L64,G3)","v":38},null,10,9,10,10,9,10]
[12,2751,23,2770,23,2778,null,null,null,null,0,122,null,null,null,"% of reinforcement given in 6 equal intervals based on number of trials "]
[21,2872,12,2878,14,2889,null,null,null,null,0,211,null,null,null,"%_1","%_2","%_3","%_4","%_5","%_6"]
[12,2986,14,2995,14,3011,null,null,null,null,0,111,null,null,"target sequence",{"$f":"$G$3","v":222},{"$f":"$G$3","v":222},{"$f":"$G$3","v":222},{"$f":"$G$3","v":222},{"$f":"$G$3","v":222},{"$f":"$G$3","v":222}]
[21,3109,21,3112,21,3123,null,null,null,null,0,222,null,null,"total reinforcement",{"$f":"U14","v":2},{"$f":"Z14","v":3},{"$f":"AE14","v":7},{"$f":"AJ14","v":10},{"$f":"AO14","v":7},{"$f":"AT14","v":9}]
[21,3381,12,3391,14,3399,null,null,null,null,0,211,null,null,"% target"]
[21,3498,21,3501,21,3506,null,null,null,null,0,222,null,null,"CCRF"]
[21,3839,21,3843,21,3846,null,null,null,null,0,222,null,null,"% CCRf"]
[21,4027,21,4031,21,4036,null,null,null,null,0,222,null,null,"average response rate",{"$f":"F16/P20","v":175.2},{"$f":"(F25-F16)/Q20","v":183},{"$f":"(F35-F25)/R20","v":214.2},{"$f":"(F45-F35)/S20","v":197.4},{"$f":"(F54-F45)/T20","v":234.88888888888889},{"$f":"(F64-F54)/U20","v":150.6}]
[21,4236,21,4240,21,4244,null,null,null,null,0,222]
[21,4444,21,4448,12,4491,null,null,null,null,0,221]
[12,4799,14,4824,14,4832,null,null,null,null,0,111]
[12,4946,23,4964,23,4968,null,null,null,null,0,122]
[21,5078,21,5082,21,5085,null,null,null,null,0,222]
[21,5343,21,5349,21,5354,null,null,null,null,0,222]
[21,5533,21,5537,21,5541,null,null,null,null,0,222]
[21,5740,21,5745,21,5750,null,null,null,null,0,222]
[21,5957,21,5961,21,5966,null,null,null,null,0,222]
[21,6098,21,6103,21,6107,null,null,null,null,0,222]
[21,6371,21,6373,21,6379,null,null,null,null,0,222]
[21,6631,21,6636,21,6642,null,null,null,null,0,222]
[21,6838,21,6843,21,6848,null,null,null,null,0,222]
[21,7026,21,7031,21,7034,null,null,null,null,0,222]
[21,7133,21,7139,21,7145,null,null,null,null,0,222]
[21,7333,21,7339,21,7344,null,null,null,null,0,222]
[21,7507,21,7512,21,7515,null,null,null,null,0,222]
[21,7724,21,7732,12,7787,null,null,null,null,0,221]
[21,8079,21,8083,21,8088,null,null,null,null,0,222]
[21,8231,21,8236,21,8244,null,null,null,null,0,222]
[21,8559,21,8563,21,8568,null,null,null,null,0,222]
[21,8816,21,8821,21,8826,null,null,null,null,0,222]
[21,8949,21,8953,21,8957,null,null,null,null,0,222]
[21,9231,21,9234,21,9239,null,null,null,null,0,222]
[21,9455,21,9459,12,9513,null,null,null,null,0,221]
[21,9621,21,9625,21,9629,null,null,null,null,0,222]
[21,9815,21,9819,21,9823,null,null,null,null,0,222]
[21,9977,21,9982,21,9986,null,null,null,null,0,222]
[21,10152,21,10156,21,10161,null,null,null,null,0,222]
[21,10285,21,10288,21,10293,null,null,null,null,0,222]
[21,10456,21,10461,21,10464,null,null,null,null,0,222]
[21,10557,21,10560,21,10564,null,null,null,null,0,222]
[21,10651,12,10669,23,10685,null,null,null,null,0,212]
[21,10859,21,10863,21,10866,null,null,null,null,0,222]
[21,10981,21,10984,21,10988,null,null,null,null,0,222]
[21,11120,21,11133,21,11135,null,null,null,null,1,222]

{"sheet":"!MC2695B.AXT","index":7,"n_rows":55,"n_cols":48,"rows_kept":55,"cut":false,"hidden":false,"merged":[[4,39,4,42],[5,39,5,40],[4,44,4,47],[5,44,5,45],[4,24,4,27],[5,24,5,25],[4,29,4,32],[5,29,5,30],[4,34,4,37],[5,34,5,35],[1,1,1,2],[5,13,5,14],[18,13,18,14],[19,13,19,14],[4,19,4,22],[5,19,5,20]]}
["Report for:!MC2695B.AXT"]
["Date:","<date>"]
["Hen:","<hen>",null,null,null,"Correct Sequence",{"$f":"Start!J2","v":222},null,null,null,null,null,null,null,null,"Total Sequences in Data",{"$f":"4994-COUNTBLANK(L7:L5000)","v":49},null,null,null,null,"Total Sequences in Block Data",{"$f":"COUNTA(L7:L14)","v":8},null,null,null,"Total Sequences in Block Data",{"$f":"COUNTA(L15:L22)","v":8},null,null,null,"Total Sequences in Block Data",{"$f":"COUNTA(L23:L31)","v":9},null,null,null,"Total Sequences in Block Data",{"$f":"COUNTA(L32:L39)","v":8},null,null,null,"Total Sequences in Block Data",{"$f":"COUNTA(L40:L47)","v":8},null,null,null,"Total Sequences in Block Data",{"$f":"COUNTA(L48:L55)","v":8}]
[null,null,null,null,null,null,null,null,null,null,null,null,null,null,null,"Total Sequences in Summary",{"$f":"SUM(O7:O14)","v":49},null,null,null,null,"Total Sequences in Block Summary",{"$f":"SUM(U7:U14)","v":8},null,null,null,"Total Sequences in Block Summary",{"$f":"SUM(Z7:Z14)","v":8},null,null,null,"Total Sequences in Block Summary",{"$f":"SUM(AE7:AE14)","v":9},null,null,null,"Total Sequences in Block Summary",{"$f":"SUM(AJ7:AJ14)","v":8},null,null,null,"Total Sequences in Block Summary",{"$f":"SUM(AO7:AO14)","v":8},null,null,null,"Total Sequences in Block Summary",{"$f":"SUM(AT7:AT14)","v":8}]
[null,null,null,null,null,null,null,null,null,null,null,null,null,null,null,null,null,null,null,"Block 1",null,null,null,null,"Block 2",null,null,null,null,"Block 3",null,null,null,null,"Block 4",null,null,null,null,"Block 5",null,null,null,null,"Block 6"]
["Sequence\nComponent\n1","Time\n1","Sequence\nComponent\n2","Time\n2","Sequence\nComponent\n3","Time\n3","Sequence\nComponent\n4","Time\n4","Sequence\nComponent\n5","Time\n5","Correct?\n0=No 1=Yes","Sequence",null,"Frequency",null,"Relative Frequency","Variability",null,null,"Frequency",null,"Relative Frequency","Variability",null,"Frequency",null,"Relative Frequency","Variability",null,"Frequency",null,"Relative Frequency","Variability",null,"Frequency",null,"Relative Frequency","Variability",null,"Frequency",null,"Relative Frequency","Variability",null,"Frequency",null,"Relative Frequency","Variability"]
[21,94,12,119,14,133,null,null,null,null,0,211,null,111,{"$f":"COUNTIF($L$7:$L$500,N7)","v":0},{"$f":"O7/$Q$4","v":0},{"$f":"IF(P7=0,0,(P7*((LOG(P7))/LOG(2))))","v":0},null,null,{"$f":"N7","v":111},{"$f":"COUNTIF(L7:L14,T7)","v":0},{"$f":"U7/(W4-U14)","v":0},{"$f":"IF(V7=0,0,(V7*((LOG(V7))/LOG(2))))","v":0},null,{"$f":"N7","v":111},{"$f":"COUNTIF(L15:L22,Y7)","v":0},{"$f":"Z7/(AB4-Z14)","v":0},{"$f":"IF(AA7=0,0,(AA7*((LOG(AA7))/LOG(2))))","v":0},null,{"$f":"N7","v":111},{"$f":"COUNTIF(L23:L31,AD7)","v":0},{"$f":"AE7/(AG4-AE14)","v":0},{"$f":"IF(AF7=0,0,(AF7*((LOG(AF7))/LOG(2))))","v":0},null,{"$f":"N7","v":111},{"$f":"COUNTIF(L32:L39,AI7)","v":0},{"$f":"AJ7/(AL4-AJ14)","v":0},{"$f":"IF(AK7=0,0,(AK7*((LOG(AK7))/LOG(2))))","v":0},null,{"$f":"N7","v":111},{"$f":"COUNTIF(L40:L47,AN7)","v":0},{"$f":"AO7/(AQ4-AO14)","v":0},{"$f":"IF(AP7=0,0,(AP7*((LOG(AP7))/LOG(2))))","v":0},null,{"$f":"N7","v":111},{"$f":"COUNTIF(L48:L55,AS7)","v":0},{"$f":"AT7/(AV4-AT14)","v":0},{"$f":"IF(AU7=0,0,(AU7*((LOG(AU7))/LOG(2))))","v":0}]
[21,288,21,291,21,297,null,null,null,null,0,222,null,112,{"$f":"COUNTIF($L$7:$L$500,N8)","v":0},{"$f":"O8/$Q$4","v":0},{"$f":"IF(P8=0,0,(P8*((LOG(P8))/LOG(2))))","v":0},null,null,{"$f":"N8","v":112},{"$f":"COUNTIF(L7:L14,T8)","v":0},{"$f":"U8/(W4-U14)","v":0},{"$f":"IF(V8=0,0,(V8*((LOG(V8))/LOG(2))))","v":0},null,{"$f":"N8","v":112},{"$f":"COUNTIF(L15:L22,Y8)","v":0},{"$f":"Z8/(AB4-Z14)","v":0},{"$f":"IF(AA8=0,0,(AA8*((LOG(AA8))/LOG(2))))","v":0},null,{"$f":"N8","v":112},{"$f":"COUNTIF(L23:L31,AD8)","v":0},{"$f":"AE8/(AG4-AE14)","v":0},{"$f":"IF(AF8=0,0,(AF8*((LOG(AF8))/LOG(2))))","v":0},null,{"$f":"N8","v":112},{"$f":"COUNTIF(L32:L39,AI8)","v":0},{"$f":"AJ8/(AL4-AJ14)","v":0},{"$f":"IF(AK8=0,0,(AK8*((LOG(AK8))/LOG(2))))","v":0},null,{"$f":"N8","v":112},{"$f":"COUNTIF(L40:L47,AN8)","v":0},{"$f":"AO8/(AQ4-AO14)","v":0},{"$f":"IF(AP8=0,0,(AP8*((LOG(AP8))/LOG(2))))","v":0},null,{"$f":"N8","v":112},{"$f":"COUNTIF(L48:L55,AS8)","v":0},{"$f":"AT8/(AV4-AT14)","v":0},{"$f":"IF(AU8=0,0,(AU8*((LOG(AU8))/LOG(2))))","v":0}]
[12,442,23,537,23,541,null,null,null,null,0,122,null,121,{"$f":"COUNTIF($L$7:$L$500,N9)","v":0},{"$f":"O9/$Q$4","v":0},{"$f":"IF(P9=0,0,(P9*((LOG(P9))/LOG(2))))","v":0},null,null,{"$f":"N9","v":121},{"$f":"COUNTIF(L7:L14,T9)","v":0},{"$f":"U9/(W4-U14)","v":0},{"$f":"IF(V9=0,0,(V9*((LOG(V9))/LOG(2))))","v":0},null,{"$f":"N9","v":121},{"$f":"COUNTIF(L15:L22,Y9)","v":0},{"$f":"Z9/(AB4-Z14)","v":0},{"$f":"IF(AA9=0,0,(AA9*((LOG(AA9))/LOG(2))))","v":0},null,{"$f":"N9","v":121},{"$f":"COUNTIF(L23:L31,AD9)","v":0},{"$f":"AE9/(AG4-AE14)","v":0},{"$f":"IF(AF9=0,0,(AF9*((LOG(AF9))/LOG(2))))","v":0},null,{"$f":"N9","v":121},{"$f":"COUNTIF(L32:L39,AI9)","v":0},{"$f":"AJ9/(AL4-AJ14)","v":0},{"$f":"IF(AK9=0,0,(AK9*((LOG(AK9))/LOG(2))))","v":0},null,{"$f":"N9","v":121},{"$f":"COUNTIF(L40:L47,AN9)","v":0},{"$f":"AO9/(AQ4-AO14)","v":0},{"$f":"IF(AP9=0,0,(AP9*((LOG(AP9))/LOG(2))))","v":0},null,{"$f":"N9","v":121},{"$f":"COUNTIF(L48:L55,AS9)","v":0},{"$f":"AT9/(AV4-AT14)","v":0},{"$f":"IF(AU9=0,0,(AU9*((LOG(AU9))/LOG(2))))","v":0}]
[21,648,21,654,21,657,null,null,null,null,0,222,null,122,{"$f":"COUNTIF($L$7:$L$500,N10)","v":4},{"$f":"O10/$Q$4","v":8.1632653061224483E-2},{"$f":"IF(P10=0,0,(P10*((LOG(P10))/LOG(2))))","v":-0.29507835462164966},null,null,{"$f":"N10","v":122},{"$f":"COUNTIF(L7:L14,T10)","v":1},{"$f":"U10/(W4-U14)","v":0.33333333333333331},{"$f":"IF(V10=0,0,(V10*((LOG(V10))/LOG(2))))","v":-0.52832083357371862},null,{"$f":"N10","v":122},{"$f":"COUNTIF(L15:L22,Y10)","v":1},{"$f":"Z10/(AB4-Z14)","v":0.5},{"$f":"IF(AA10=0,0,(AA10*((LOG(AA10))/LOG(2))))","v":-0.5},null,{"$f":"N10","v":122},{"$f":"COUNTIF(L23:L31,AD10)","v":2},{"$f":"AE10/(AG4-AE14)","v":1},{"$f":"IF(AF10=0,0,(AF10*((LOG(AF10))/LOG(2))))","v":0},null,{"$f":"N10","v":122},{"$f":"COUNTIF(L32:L39,AI10)","v":0},{"$f":"AJ10/(AL4-AJ14)","v":0},{"$f":"IF(AK10=0,0,(AK10*((LOG(AK10))/LOG(2))))","v":0},null,{"$f":"N10","v":122},{"$f":"COUNTIF(L40:L47,AN10)","v":0},{"$f":"AO10/(AQ4-AO14)","v":0},{"$f":"IF(AP10=0,0,(AP10*((LOG(AP10))/LOG(2))))","v":0},null,{"$f":"N10","v":122},{"$f":"COUNTIF(L48:L55,AS10)","v":0},{"$f":"AT10/(AV4-AT14)","v":0},{"$f":"IF(AU10=0,0,(AU10*((LOG(AU10))/LOG(2))))","v":0}]
[21,826,21,834,21,841,null,null,null,null,0,222,null,211,{"$f":"COUNTIF($L$7:$L$500,N11)","v":1},{"$f":"O11/$Q$4","v":2.0408163265306121E-2},{"$f":"IF(P11=0,0,(P11*((LOG(P11))/LOG(2))))","v":-0.11458591518602465},null,null,{"$f":"N11","v":211},{"$f":"COUNTIF(L7:L14,T11)","v":1},{"$f":"U11/(W4-U14)","v":0.33333333333333331},{"$f":"IF(V11=0,0,(V11*((LOG(V11))/LOG(2))))","v":-0.52832083357371862},null,{"$f":"N11","v":211},{"$f":"COUNTIF(L15:L22,Y11)","v":0},{"$f":"Z11/(AB4-Z14)","v":0},{"$f":"IF(AA11=0,0,(AA11*((LOG(AA11))/LOG(2))))","v":0},null,{"$f":"N11","v":211},{"$f":"COUNTIF(L23:L31,AD11)","v":0},{"$f":"AE11/(AG4-AE14)","v":0},{"$f":"IF(AF11=0,0,(AF11*((LOG(AF11))/LOG(2))))","v":0},null,{"$f":"N11","v":211},{"$f":"COUNTIF(L32:L39,AI11)","v":0},{"$f":"AJ11/(AL4-AJ14)","v":0},{"$f":"IF(AK11=0,0,(AK11*((LOG(AK11))/LOG(2))))","v":0},null,{"$f":"N11","v":211},{"$f":"COUNTIF(L40:L47,AN11)","v":0},{"$f":"AO11/(AQ4-AO14)","v":0},{"$f":"IF(AP11=0,0,(AP11*((LOG(AP11))/LOG(2))))","v":0},null,{"$f":"N11","v":211},{"$f":"COUNTIF(L48:L55,AS11)","v":0},{"$f":"AT11/(AV4-AT14)","v":0},{"$f":"IF(AU11=0,0,(AU11*((LOG(AU11))/LOG(2))))","v":0}]
[21,962,21,967,21,970,null,null,null,null,0,222,null,212,{"$f":"COUNTIF($L$7:$L$500,N12)","v":0},{"$f":"O12/$Q$4","v":0},{"$f":"IF(P12=0,0,(P12*((LOG(P12))/LOG(2))))","v":0},null,null,{"$f":"N12","v":212},{"$f":"COUNTIF(L7:L14,T12)","v":0},{"$f":"U12/(W4-U14)","v":0},{"$f":"IF(V12=0,0,(V12*((LOG(V12))/LOG(2))))","v":0},null,{"$f":"N12","v":212},{"$f":"COUNTIF(L15:L22,Y12)","v":0},{"$f":"Z12/(AB4-Z14)","v":0},{"$f":"IF(AA12=0,0,(AA12*((LOG(AA12))/LOG(2))))","v":0},null,{"$f":"N12","v":212},{"$f":"COUNTIF(L23:L31,AD12)","v":0},{"$f":"AE12/(AG4-AE14)","v":0},{"$f":"IF(AF12=0,0,(AF12*((LOG(AF12))/LOG(2))))","v":0},null,{"$f":"N12","v":212},{"$f":"COUNTIF(L32:L39,AI12)","v":0},{"$f":"AJ12/(AL4-AJ14)","v":0},{"$f":"IF(AK12=0,0,(AK12*((LOG(AK12))/LOG(2))))","v":0},null,{"$f":"N12","v":212},{"$f":"COUNTIF(L40:L47,AN12)","v":0},{"$f":"AO12/(AQ4-AO14)","v":0},{"$f":"IF(AP12=0,0,(AP12*((LOG(AP12))/LOG(2))))","v":0},null,{"$f":"N12","v":212},{"$f":"COUNTIF(L48:L55,AS12)","v":0},{"$f":"AT12/(AV4-AT14)","v":0},{"$f":"IF(AU12=0,0,(AU12*((LOG(AU12))/LOG(2))))","v":0}]
[21,1227,21,1235,12,1253,null,null,null,null,0,221,null,221,{"$f":"COUNTIF($L$7:$L$500,N13)","v":5},{"$f":"O13/$Q$4","v":0.10204081632653061},{"$f":"IF(P13=0,0,(P13*((LOG(P13))/LOG(2))))","v":-0.33599813767631082},null,null,{"$f":"N13","v":221},{"$f":"COUNTIF(L7:L14,T13)","v":1},{"$f":"U13/(W4-U14)","v":0.33333333333333331},{"$f":"IF(V13=0,0,(V13*((LOG(V13))/LOG(2))))","v":-0.52832083357371862},null,{"$f":"N13","v":221},{"$f":"COUNTIF(L15:L22,Y13)","v":1},{"$f":"Z13/(AB4-Z14)","v":0.5},{"$f":"IF(AA13=0,0,(AA13*((LOG(AA13))/LOG(2))))","v":-0.5},null,{"$f":"N13","v":221},{"$f":"COUNTIF(L23:L31,AD13)","v":0},{"$f":"AE13/(AG4-AE14)","v":0},{"$f":"IF(AF13=0,0,(AF13*((LOG(AF13))/LOG(2))))","v":0},null,{"$f":"N13","v":221},{"$f":"COUNTIF(L32:L39,AI13)","v":1},{"$f":"AJ13/(AL4-AJ14)","v":1},{"$f":"IF(AK13=0,0,(AK13*((LOG(AK13))/LOG(2))))","v":0},null,{"$f":"N13","v":221},{"$f":"COUNTIF(L40:L47,AN13)","v":1},{"$f":"AO13/(AQ4-AO14)","v":1},{"$f":"IF(AP13=0,0,(AP13*((LOG(AP13))/LOG(2))))","v":0},null,{"$f":"N13","v":221},{"$f":"COUNTIF(L48:L55,AS13)","v":1},{"$f":"AT13/(AV4-AT14)","v":1},{"$f":"IF(AU13=0,0,(AU13*((LOG(AU13))/LOG(2))))","v":0}]
[21,1394,21,1400,21,1403,null,null,null,null,0,222,null,222,{"$f":"COUNTIF($L$7:$L$500,N14)","v":39},{"$f":"O14/$Q$4","v":0.79591836734693877},{"$f":"IF(P14=0,0,(P14*((LOG(P14))/LOG(2))))","v":-0.26210198744623336},null,null,{"$f":"N14","v":222},{"$f":"COUNTIF(L7:L14,T14)","v":5},null,null,null,{"$f":"N14","v":222},{"$f":"COUNTIF(L15:L22,Y14)","v":6},null,null,null,{"$f":"N14","v":222},{"$f":"COUNTIF(L23:L31,AD14)","v":7},null,null,null,{"$f":"N14","v":222},{"$f":"COUNTIF(L32:L39,AI14)","v":7},null,null,null,{"$f":"N14","v":222},{"$f":"COUNTIF(L40:L47,AN14)","v":7},null,null,null,{"$f":"N14","v":222},{"$f":"COUNTIF(L48:L55,AS14)","v":7}]
[21,1924,21,1974,21,1977,null,null,null,null,0,222,null,null,null,{"$f":"SUM(P7:P14)","v":1},{"$f":"-SUM(Q7:Q14)","v":1.0077643949302186},null,null,null,null,{"$f":"SUM(V7:V14)","v":1},{"$f":"-SUM(W7:W14)","v":1.5849625007211559},null,null,null,{"$f":"SUM(AA7:AA14)","v":1},{"$f":"-SUM(AB7:AB14)","v":1},null,null,null,{"$f":"SUM(AF7:AF14)","v":1},{"$f":"-SUM(AG7:AG14)","v":0},null,null,null,{"$f":"SUM(AK7:AK14)","v":1},{"$f":"-SUM(AL7:AL14)","v":0},null,null,null,{"$f":"SUM(AP7:AP14)","v":1},{"$f":"-SUM(AQ7:AQ14)","v":0},null,null,null,{"$f":"SUM(AU7:AU14)","v":1},{"$f":"-SUM(AV7:AV14)","v":0}]
[21,2147,21,2151,21,2157,null,null,null,null,0,222,null,null,null,"U=",{"$f":"Q15/(LOG(Q4)/LOG(2))","v":0.17948646019285558},null,null,null,null,"U1=",{"$f":"W15/(LOG(W4)/LOG(2))","v":0.52832083357371862},null,null,null,"U2=",{"$f":"AB15/(LOG(AB4)/LOG(2))","v":0.33333333333333331},null,null,null,"U3=",{"$f":"AG15/(LOG(AG4)/LOG(2))","v":0},null,null,null,"U4=",{"$f":"AL15/(LOG(AL4)/LOG(2))","v":0},null,null,null,"U5=",{"$f":"AQ15/(LOG(AQ4)/LOG(2))","v":0},null,null,null,"U6=",{"$f":"AV15/(LOG(AV4)/LOG(2))","v":0}]
[21,2317,21,2322,21,2327,null,null,null,null,0,222]
[21,2445,21,2451,21,2460,null,null,null,null,0,222]
[21,2621,21,2625,12,2707,null,null,null,null,0,221,null,"Total Target Seq"]
[21,3026,21,3029,21,3031,null,null,null,null,0,222,null,{"$f":"COUNTIF(L7:L55,G3)","v":39},null,8,8,9,8,8,8]
[21,3145,21,3152,21,3156,null,null,null,null,0,222,null,null,null,"% of reinforcement given in 6 equal intervals based on number of trials "]
[12,3261,23,3275,23,3279,null,null,null,null,0,122,null,null,null,"%_1","%_2","%_3","%_4","%_5","%_6"]
[21,3418,21,3428,21,3431,null,null,null,null,0,222,null,null,"target sequence",{"$f":"$G$3","v":222},{"$f":"$G$3","v":222},{"$f":"$G$3","v":222},{"$f":"$G$3","v":222},{"$f":"$G$3","v":222},{"$f":"$G$3","v":222}]
[21,3577,21,3581,21,3596,null,null,null,null,0,222,null,null,"total reinforcement",{"$f":"U14","v":5},{"$f":"Z14","v":6},{"$f":"AE14","v":7},{"$f":"AJ14","v":7},{"$f":"AO14","v":7},{"$f":"AT14","v":7}]
[21,3810,21,3814,21,3820,null,null,null,null,0,222,null,null,"% target"]
[21,4485,21,4488,21,4493,null,null,null,null,0,222,null,null,"CCRF"]
[12,4612,23,4620,23,4625,null,null,null,null,0,122,null,null,"% CCRf"]
[21,4726,21,4730,21,4735,null,null,null,null,0,222,null,null,"average response rate",{"$f":"F14/P20","v":175.375},{"$f":"(F22-F14)/Q20","v":234.5},{"$f":"(F31-F22)/R20","v":240.33333333333334},{"$f":"(F39-F31)/S20","v":172.625},{"$f":"(F47-F39)/T20","v":303.375},{"$f":"(F55-F47)/U20","v":247.25}]
[21,4942,21,4946,21,4951,null,null,null,null,0,222]
[21,5294,21,5297,21,5301,null,null,null,null,0,222]
[12,5419,23,5439,23,5442,null,null,null,null,0,122]
[21,5540,21,5544,21,5548,null,null,null,null,0,222]
[21,5642,21,5649,21,5653,null,null,null,null,0,222]
[21,5800,21,5806,21,5811,null,null,null,null,0,222]
[21,6167,21,6173,21,6180,null,null,null,null,0,222]
[21,6289,21,6294,21,6299,null,null,null,null,0,222]
[21,6417,21,6421,12,6442,null,null,null,null,0,221]
[21,6685,21,6691,21,6694,null,null,null,null,0,222]
[21,6816,21,6820,21,6823,null,null,null,null,0,222]
[21,6943,21,6951,21,6955,null,null,null,null,0,222]
[21,7553,21,7559,21,7565,null,null,null,null,0,222]
[21,7710,21,7733,21,7736,null,null,null,null,0,222]
[21,7904,21,7906,21,7912,null,null,null,null,0,222]
[21,8006,21,8014,21,8018,null,null,null,null,0,222]
[21,8189,21,8194,21,8201,null,null,null,null,0,222]
[21,8420,21,8429,21,8485,null,null,null,null,0,222]
[21,9198,21,9201,12,9250,null,null,null,null,0,221]
[21,9366,21,9369,21,9438,null,null,null,null,0,222]
[21,9671,21,9674,21,9678,null,null,null,null,0,222]
[21,9920,21,9923,21,9927,null,null,null,null,0,222]
[21,10071,21,10080,12,10102,null,null,null,null,0,221]
[21,10267,21,10276,21,10279,null,null,null,null,0,222]
[21,10649,21,10652,21,10656,null,null,null,null,0,222]
[21,10917,21,10921,21,10927,null,null,null,null,0,222]
[21,11220,21,11224,21,11228,null,null,null,null,1,222]

{"sheet":"!MC2795B.AXT","index":8,"n_rows":62,"n_cols":48,"rows_kept":62,"cut":false,"hidden":false,"merged":[[4,39,4,42],[5,39,5,40],[4,44,4,47],[5,44,5,45],[4,24,4,27],[5,24,5,25],[4,29,4,32],[5,29,5,30],[4,34,4,37],[5,34,5,35],[1,1,1,2],[5,13,5,14],[18,13,18,14],[19,13,19,14],[4,19,4,22],[5,19,5,20]]}
["Report for:!MC2795B.AXT"]
["Date:","<date>"]
["Hen:","<hen>",null,null,null,"Correct Sequence",{"$f":"Start!J2","v":222},null,null,null,null,null,null,null,null,"Total Sequences in Data",{"$f":"4994-COUNTBLANK(L7:L5000)","v":56},null,null,null,null,"Total Sequences in Block Data",{"$f":"COUNTA(L7:L15)","v":9},null,null,null,"Total Sequences in Block Data",{"$f":"COUNTA(L16:L25)","v":10},null,null,null,"Total Sequences in Block Data",{"$f":"COUNTA(L26:L34)","v":9},null,null,null,"Total Sequences in Block Data",{"$f":"COUNTA(L35:L43)","v":9},null,null,null,"Total Sequences in Block Data",{"$f":"COUNTA(L44:L53)","v":10},null,null,null,"Total Sequences in Block Data",{"$f":"COUNTA(L54:L62)","v":9}]
[null,null,null,null,null,null,null,null,null,null,null,null,null,null,null,"Total Sequences in Summary",{"$f":"SUM(O7:O14)","v":56},null,null,null,null,"Total Sequences in Block Summary",{"$f":"SUM(U7:U14)","v":9},null,null,null,"Total Sequences in Block Summary",{"$f":"SUM(Z7:Z14)","v":10},null,null,null,"Total Sequences in Block Summary",{"$f":"SUM(AE7:AE14)","v":9},null,null,null,"Total Sequences in Block Summary",{"$f":"SUM(AJ7:AJ14)","v":9},null,null,null,"Total Sequences in Block Summary",{"$f":"SUM(AO7:AO14)","v":10},null,null,null,"Total Sequences in Block Summary",{"$f":"SUM(AT7:AT14)","v":9}]
[null,null,null,null,null,null,null,null,null,null,null,null,null,null,null,null,null,null,null,"Block 1",null,null,null,null,"Block 2",null,null,null,null,"Block 3",null,null,null,null,"Block 4",null,null,null,null,"Block 5",null,null,null,null,"Block 6"]
["Sequence\nComponent\n1","Time\n1","Sequence\nComponent\n2","Time\n2","Sequence\nComponent\n3","Time\n3","Sequence\nComponent\n4","Time\n4","Sequence\nComponent\n5","Time\n5","Correct?\n0=No 1=Yes","Sequence",null,"Frequency",null,"Relative Frequency","Variability",null,null,"Frequency",null,"Relative Frequency","Variability",null,"Frequency",null,"Relative Frequency","Variability",null,"Frequency",null,"Relative Frequency","Variability",null,"Frequency",null,"Relative Frequency","Variability",null,"Frequency",null,"Relative Frequency","Variability",null,"Frequency",null,"Relative Frequency","Variability"]
[12,88,14,91,23,104,null,null,null,null,0,112,null,111,{"$f":"COUNTIF($L$7:$L$500,N7)","v":2},{"$f":"O7/$Q$4","v":3.5714285714285712E-2},{"$f":"IF(P7=0,0,(P7*((LOG(P7))/LOG(2))))","v":-0.17169124721634299},null,null,{"$f":"N7","v":111},{"$f":"COUNTIF(L7:L15,T7)","v":2},{"$f":"U7/(W4-U14)","v":0.22222222222222221},{"$f":"IF(V7=0,0,(V7*((LOG(V7))/LOG(2))))","v":-0.48220555587606945},null,{"$f":"N7","v":111},{"$f":"COUNTIF(L16:L25,Y7)","v":0},{"$f":"Z7/(AB4-Z14)","v":0},{"$f":"IF(AA7=0,0,(AA7*((LOG(AA7))/LOG(2))))","v":0},null,{"$f":"N7","v":111},{"$f":"COUNTIF(L26:L34,AD7)","v":0},{"$f":"AE7/(AG4-AE14)","v":{"$error":"#DIV/0!"}},{"$f":"IF(AF7=0,0,(AF7*((LOG(AF7))/LOG(2))))","v":{"$error":"#DIV/0!"}},null,{"$f":"N7","v":111},{"$f":"COUNTIF(L35:L43,AI7)","v":0},{"$f":"AJ7/(AL4-AJ14)","v":{"$error":"#DIV/0!"}},{"$f":"IF(AK7=0,0,(AK7*((LOG(AK7))/LOG(2))))","v":{"$error":"#DIV/0!"}},null,{"$f":"N7","v":111},{"$f":"COUNTIF(L44:L53,AN7)","v":0},{"$f":"AO7/(AQ4-AO14)","v":0},{"$f":"IF(AP7=0,0,(AP7*((LOG(AP7))/LOG(2))))","v":0},null,{"$f":"N7","v":111},{"$f":"COUNTIF(L54:L62,AS7)","v":0},{"$f":"AT7/(AV4-AT14)","v":{"$error":"#DIV/0!"}},{"$f":"IF(AU7=0,0,(AU7*((LOG(AU7))/LOG(2))))","v":{"$error":"#DIV/0!"}}]
[21,204,12,211,23,226,null,null,null,null,0,212,null,112,{"$f":"COUNTIF($L$7:$L$500,N8)","v":3},{"$f":"O8/$Q$4","v":5.3571428571428568E-2},{"$f":"IF(P8=0,0,(P8*((LOG(P8))/LOG(2))))","v":-0.22619959400016687},null,null,{"$f":"N8","v":112},{"$f":"COUNTIF(L7:L15,T8)","v":3},{"$f":"U8/(W4-U14)","v":0.33333333333333331},{"$f":"IF(V8=0,0,(V8*((LOG(V8))/LOG(2))))","v":-0.52832083357371862},null,{"$f":"N8","v":112},{"$f":"COUNTIF(L16:L25,Y8)","v":0},{"$f":"Z8/(AB4-Z14)","v":0},{"$f":"IF(AA8=0,0,(AA8*((LOG(AA8))/LOG(2))))","v":0},null,{"$f":"N8","v":112},{"$f":"COUNTIF(L26:L34,AD8)","v":0},{"$f":"AE8/(AG4-AE14)","v":{"$error":"#DIV/0!"}},{"$f":"IF(AF8=0,0,(AF8*((LOG(AF8))/LOG(2))))","v":{"$error":"#DIV/0!"}},null,{"$f":"N8","v":112},{"$f":"COUNTIF(L35:L43,AI8)","v":0},{"$f":"AJ8/(AL4-AJ14)","v":{"$error":"#DIV/0!"}},{"$f":"IF(AK8=0,0,(AK8*((LOG(AK8))/LOG(2))))","v":{"$error":"#DIV/0!"}},null,{"$f":"N8","v":112},{"$f":"COUNTIF(L44:L53,AN8)","v":0},{"$f":"AO8/(AQ4-AO14)","v":0},{"$f":"IF(AP8=0,0,(AP8*((LOG(AP8))/LOG(2))))","v":0},null,{"$f":"N8","v":112},{"$f":"COUNTIF(L54:L62,AS8)","v":0},{"$f":"AT8/(AV4-AT14)","v":{"$error":"#DIV/0!"}},{"$f":"IF(AU8=0,0,(AU8*((LOG(AU8))/LOG(2))))","v":{"$error":"#DIV/0!"}}]
[12,319,14,324,23,336,null,null,null,null,0,112,null,121,{"$f":"COUNTIF($L$7:$L$500,N9)","v":1},{"$f":"O9/$Q$4","v":1.7857142857142856E-2},{"$f":"IF(P9=0,0,(P9*((LOG(P9))/LOG(2))))","v":-0.10370276646531436},null,null,{"$f":"N9","v":121},{"$f":"COUNTIF(L7:L15,T9)","v":1},{"$f":"U9/(W4-U14)","v":0.1111111111111111},{"$f":"IF(V9=0,0,(V9*((LOG(V9))/LOG(2))))","v":-0.3522138890491458},null,{"$f":"N9","v":121},{"$f":"COUNTIF(L16:L25,Y9)","v":0},{"$f":"Z9/(AB4-Z14)","v":0},{"$f":"IF(AA9=0,0,(AA9*((LOG(AA9))/LOG(2))))","v":0},null,{"$f":"N9","v":121},{"$f":"COUNTIF(L26:L34,AD9)","v":0},{"$f":"AE9/(AG4-AE14)","v":{"$error":"#DIV/0!"}},{"$f":"IF(AF9=0,0,(AF9*((LOG(AF9))/LOG(2))))","v":{"$error":"#DIV/0!"}},null,{"$f":"N9","v":121},{"$f":"COUNTIF(L35:L43,AI9)","v":0},{"$f":"AJ9/(AL4-AJ14)","v":{"$error":"#DIV/0!"}},{"$f":"IF(AK9=0,0,(AK9*((LOG(AK9))/LOG(2))))","v":{"$error":"#DIV/0!"}},null,{"$f":"N9","v":121},{"$f":"COUNTIF(L44:L53,AN9)","v":0},{"$f":"AO9/(AQ4-AO14)","v":0},{"$f":"IF(AP9=0,0,(AP9*((LOG(AP9))/LOG(2))))","v":0},null,{"$f":"N9","v":121},{"$f":"COUNTIF(L54:L62,AS9)","v":0},{"$f":"AT9/(AV4-AT14)","v":{"$error":"#DIV/0!"}},{"$f":"IF(AU9=0,0,(AU9*((LOG(AU9))/LOG(2))))","v":{"$error":"#DIV/0!"}}]
[21,432,21,435,12,440,null,null,null,null,0,221,null,122,{"$f":"COUNTIF($L$7:$L$500,N10)","v":2},{"$f":"O10/$Q$4","v":3.5714285714285712E-2},{"$f":"IF(P10=0,0,(P10*((LOG(P10))/LOG(2))))","v":-0.17169124721634299},null,null,{"$f":"N10","v":122},{"$f":"COUNTIF(L7:L15,T10)","v":0},{"$f":"U10/(W4-U14)","v":0},{"$f":"IF(V10=0,0,(V10*((LOG(V10))/LOG(2))))","v":0},null,{"$f":"N10","v":122},{"$f":"COUNTIF(L16:L25,Y10)","v":2},{"$f":"Z10/(AB4-Z14)","v":0.66666666666666663},{"$f":"IF(AA10=0,0,(AA10*((LOG(AA10))/LOG(2))))","v":-0.38997500048077083},null,{"$f":"N10","v":122},{"$f":"COUNTIF(L26:L34,AD10)","v":0},{"$f":"AE10/(AG4-AE14)","v":{"$error":"#DIV/0!"}},{"$f":"IF(AF10=0,0,(AF10*((LOG(AF10))/LOG(2))))","v":{"$error":"#DIV/0!"}},null,{"$f":"N10","v":122},{"$f":"COUNTIF(L35:L43,AI10)","v":0},{"$f":"AJ10/(AL4-AJ14)","v":{"$error":"#DIV/0!"}},{"$f":"IF(AK10=0,0,(AK10*((LOG(AK10))/LOG(2))))","v":{"$error":"#DIV/0!"}},null,{"$f":"N10","v":122},{"$f":"COUNTIF(L44:L53,AN10)","v":0},{"$f":"AO10/(AQ4-AO14)","v":0},{"$f":"IF(AP10=0,0,(AP10*((LOG(AP10))/LOG(2))))","v":0},null,{"$f":"N10","v":122},{"$f":"COUNTIF(L54:L62,AS10)","v":0},{"$f":"AT10/(AV4-AT14)","v":{"$error":"#DIV/0!"}},{"$f":"IF(AU10=0,0,(AU10*((LOG(AU10))/LOG(2))))","v":{"$error":"#DIV/0!"}}]
[12,541,14,549,14,561,null,null,null,null,0,111,null,211,{"$f":"COUNTIF($L$7:$L$500,N11)","v":0},{"$f":"O11/$Q$4","v":0},{"$f":"IF(P11=0,0,(P11*((LOG(P11))/LOG(2))))","v":0},null,null,{"$f":"N11","v":211},{"$f":"COUNTIF(L7:L15,T11)","v":0},{"$f":"U11/(W4-U14)","v":0},{"$f":"IF(V11=0,0,(V11*((LOG(V11))/LOG(2))))","v":0},null,{"$f":"N11","v":211},{"$f":"COUNTIF(L16:L25,Y11)","v":0},{"$f":"Z11/(AB4-Z14)","v":0},{"$f":"IF(AA11=0,0,(AA11*((LOG(AA11))/LOG(2))))","v":0},null,{"$f":"N11","v":211},{"$f":"COUNTIF(L26:L34,AD11)","v":0},{"$f":"AE11/(AG4-AE14)","v":{"$error":"#DIV/0!"}},{"$f":"IF(AF11=0,0,(AF11*((LOG(AF11))/LOG(2))))","v":{"$error":"#DIV/0!"}},null,{"$f":"N11","v":211},{"$f":"COUNTIF(L35:L43,AI11)","v":0},{"$f":"AJ11/(AL4-AJ14)","v":{"$error":"#DIV/0!"}},{"$f":"IF(AK11=0,0,(AK11*((LOG(AK11))/LOG(2))))","v":{"$error":"#DIV/0!"}},null,{"$f":"N11","v":211},{"$f":"COUNTIF(L44:L53,AN11)","v":0},{"$f":"AO11/(AQ4-AO14)","v":0},{"$f":"IF(AP11=0,0,(AP11*((LOG(AP11))/LOG(2))))","v":0},null,{"$f":"N11","v":211},{"$f":"COUNTIF(L54:L62,AS11)","v":0},{"$f":"AT11/(AV4-AT14)","v":{"$error":"#DIV/0!"}},{"$f":"IF(AU11=0,0,(AU11*((LOG(AU11))/LOG(2))))","v":{"$error":"#DIV/0!"}}]
[12,674,23,686,14,690,null,null,null,null,0,121,null,212,{"$f":"COUNTIF($L$7:$L$500,N12)","v":2},{"$f":"O12/$Q$4","v":3.5714285714285712E-2},{"$f":"IF(P12=0,0,(P12*((LOG(P12))/LOG(2))))","v":-0.17169124721634299},null,null,{"$f":"N12","v":212},{"$f":"COUNTIF(L7:L15,T12)","v":1},{"$f":"U12/(W4-U14)","v":0.1111111111111111},{"$f":"IF(V12=0,0,(V12*((LOG(V12))/LOG(2))))","v":-0.3522138890491458},null,{"$f":"N12","v":212},{"$f":"COUNTIF(L16:L25,Y12)","v":1},{"$f":"Z12/(AB4-Z14)","v":0.33333333333333331},{"$f":"IF(AA12=0,0,(AA12*((LOG(AA12))/LOG(2))))","v":-0.52832083357371862},null,{"$f":"N12","v":212},{"$f":"COUNTIF(L26:L34,AD12)","v":0},{"$f":"AE12/(AG4-AE14)","v":{"$error":"#DIV/0!"}},{"$f":"IF(AF12=0,0,(AF12*((LOG(AF12))/LOG(2))))","v":{"$error":"#DIV/0!"}},null,{"$f":"N12","v":212},{"$f":"COUNTIF(L35:L43,AI12)","v":0},{"$f":"AJ12/(AL4-AJ14)","v":{"$error":"#DIV/0!"}},{"$f":"IF(AK12=0,0,(AK12*((LOG(AK12))/LOG(2))))","v":{"$error":"#DIV/0!"}},null,{"$f":"N12","v":212},{"$f":"COUNTIF(L44:L53,AN12)","v":0},{"$f":"AO12/(AQ4-AO14)","v":0},{"$f":"IF(AP12=0,0,(AP12*((LOG(AP12))/LOG(2))))","v":0},null,{"$f":"N12","v":212},{"$f":"COUNTIF(L54:L62,AS12)","v":0},{"$f":"AT12/(AV4-AT14)","v":{"$error":"#DIV/0!"}},{"$f":"IF(AU12=0,0,(AU12*((LOG(AU12))/LOG(2))))","v":{"$error":"#DIV/0!"}}]
[12,788,14,790,23,792,null,null,null,null,0,112,null,221,{"$f":"COUNTIF($L$7:$L$500,N13)","v":7},{"$f":"O13/$Q$4","v":0.125},{"$f":"IF(P13=0,0,(P13*((LOG(P13))/LOG(2))))","v":-0.375},null,null,{"$f":"N13","v":221},{"$f":"COUNTIF(L7:L15,T13)","v":2},{"$f":"U13/(W4-U14)","v":0.22222222222222221},{"$f":"IF(V13=0,0,(V13*((LOG(V13))/LOG(2))))","v":-0.48220555587606945},null,{"$f":"N13","v":221},{"$f":"COUNTIF(L16:L25,Y13)","v":0},{"$f":"Z13/(AB4-Z14)","v":0},{"$f":"IF(AA13=0,0,(AA13*((LOG(AA13))/LOG(2))))","v":0},null,{"$f":"N13","v":221},{"$f":"COUNTIF(L26:L34,AD13)","v":0},{"$f":"AE13/(AG4-AE14)","v":{"$error":"#DIV/0!"}},{"$f":"IF(AF13=0,0,(AF13*((LOG(AF13))/LOG(2))))","v":{"$error":"#DIV/0!"}},null,{"$f":"N13","v":221},{"$f":"COUNTIF(L35:L43,AI13)","v":0},{"$f":"AJ13/(AL4-AJ14)","v":{"$error":"#DIV/0!"}},{"$f":"IF(AK13=0,0,(AK13*((LOG(AK13))/LOG(2))))","v":{"$error":"#DIV/0!"}},null,{"$f":"N13","v":221},{"$f":"COUNTIF(L44:L53,AN13)","v":5},{"$f":"AO13/(AQ4-AO14)","v":1},{"$f":"IF(AP13=0,0,(AP13*((LOG(AP13))/LOG(2))))","v":0},null,{"$f":"N13","v":221},{"$f":"COUNTIF(L54:L62,AS13)","v":0},{"$f":"AT13/(AV4-AT14)","v":{"$error":"#DIV/0!"}},{"$f":"IF(AU13=0,0,(AU13*((LOG(AU13))/LOG(2))))","v":{"$error":"#DIV/0!"}}]
[21,992,21,998,12,1007,null,null,null,null,0,221,null,222,{"$f":"COUNTIF($L$7:$L$500,N14)","v":39},{"$f":"O14/$Q$4","v":0.6964285714285714},{"$f":"IF(P14=0,0,(P14*((LOG(P14))/LOG(2))))","v":-0.36350277543962278},null,null,{"$f":"N14","v":222},{"$f":"COUNTIF(L7:L15,T14)","v":0},null,null,null,{"$f":"N14","v":222},{"$f":"COUNTIF(L16:L25,Y14)","v":7},null,null,null,{"$f":"N14","v":222},{"$f":"COUNTIF(L26:L34,AD14)","v":9},null,null,null,{"$f":"N14","v":222},{"$f":"COUNTIF(L35:L43,AI14)","v":9},null,null,null,{"$f":"N14","v":222},{"$f":"COUNTIF(L44:L53,AN14)","v":5},null,null,null,{"$f":"N14","v":222},{"$f":"COUNTIF(L54:L62,AS14)","v":9}]
[12,1103,14,1111,14,1114,null,null,null,null,0,111,null,null,null,{"$f":"SUM(P7:P14)","v":1},{"$f":"-SUM(Q7:Q14)","v":1.5834788775541329},null,null,null,null,{"$f":"SUM(V7:V14)","v":1},{"$f":"-SUM(W7:W14)","v":2.1971597234241491},null,null,null,{"$f":"SUM(AA7:AA14)","v":1},{"$f":"-SUM(AB7:AB14)","v":0.91829583405448945},null,null,null,{"$f":"SUM(AF7:AF14)","v":{"$error":"#DIV/0!"}},{"$f":"-SUM(AG7:AG14)","v":{"$error":"#DIV/0!"}},null,null,null,{"$f":"SUM(AK7:AK14)","v":{"$error":"#DIV/0!"}},{"$f":"-SUM(AL7:AL14)","v":{"$error":"#DIV/0!"}},null,null,null,{"$f":"SUM(AP7:AP14)","v":1},{"$f":"-SUM(AQ7:AQ14)","v":0},null,null,null,{"$f":"SUM(AU7:AU14)","v":{"$error":"#DIV/0!"}},{"$f":"-SUM(AV7:AV14)","v":{"$error":"#DIV/0!"}}]
[21,1368,21,1370,21,1373,null,null,null,null,0,222,null,null,null,"U=",{"$f":"Q15/(LOG(Q4)/LOG(2))","v":0.27266783222422547},null,null,null,null,"U1=",{"$f":"W15/(LOG(W4)/LOG(2))","v":0.69312672142856502},null,null,null,"U2=",{"$f":"AB15/(LOG(AB4)/LOG(2))","v":0.27643459094367495},null,null,null,"U3=",{"$f":"AG15/(LOG(AG4)/LOG(2))","v":{"$error":"#DIV/0!"}},null,null,null,"U4=",{"$f":"AL15/(LOG(AL4)/LOG(2))","v":{"$error":"#DIV/0!"}},null,null,null,"U5=",{"$f":"AQ15/(LOG(AQ4)/LOG(2))","v":0},null,null,null,"U6=",{"$f":"AV15/(LOG(AV4)/LOG(2))","v":{"$error":"#DIV/0!"}}]
[21,1564,21,1567,21,1572,null,null,null,null,0,222]
[21,1707,21,1711,21,1715,null,null,null,null,0,222]
[21,1803,12,1818,23,1827,null,null,null,null,0,212,null,"Total Target Seq"]
[21,1967,21,1971,21,1983,null,null,null,null,0,222,null,{"$f":"COUNTIF(L7:L62,G3)","v":39},null,9,10,9,9,10,9]
[21,2156,21,2158,21,2162,null,null,null,null,0,222,null,null,null,"% of reinforcement given in 6 equal intervals based on number of trials "]
[12,2268,23,2287,23,2291,null,null,null,null,0,122,null,null,null,"%_1","%_2","%_3","%_4","%_5","%_6"]
[12,2386,23,2407,23,2410,null,null,null,null,0,122,null,null,"target sequence",{"$f":"$G$3","v":222},{"$f":"$G$3","v":222},{"$f":"$G$3","v":222},{"$f":"$G$3","v":222},{"$f":"$G$3","v":222},{"$f":"$G$3","v":222}]
[21,2734,21,2736,21,2739,null,null,null,null,0,222,null,null,"total reinforcement",{"$f":"U14","v":0},{"$f":"Z14","v":7},{"$f":"AE14","v":9},{"$f":"AJ14","v":9},{"$f":"AO14","v":5},{"$f":"AT14","v":9}]
[21,2845,21,2849,21,2858,null,null,null,null,0,222,null,null,"% target"]
[21,3176,21,3179,21,3182,null,null,null,null,0,222,null,null,"CCRF"]
[21,3313,21,3318,21,3323,null,null,null,null,0,222,null,null,"% CCRf"]
[21,3531,21,3534,21,3538,null,null,null,null,0,222,null,null,"average response rate",{"$f":"F15/P20","v":123.77777777777777},{"$f":"(F25-F15)/Q20","v":174.4},{"$f":"(F34-F25)/R20","v":229.11111111111111},{"$f":"(F43-F34)/S20","v":200},{"$f":"(F53-F43)/T20","v":227.4},{"$f":"(F62-F53)/U20","v":293.88888888888891}]
[21,3656,21,3661,21,3665,null,null,null,null,0,222]
[21,3823,21,3827,21,3833,null,null,null,null,0,222]
[21,3921,21,3923,21,3926,null,null,null,null,0,222]
[21,4414,21,4416,21,4419,null,null,null,null,0,222]
[21,4657,21,4661,21,4665,null,null,null,null,0,222]
[21,4912,21,4916,21,4920,null,null,null,null,0,222]
[21,5181,21,5189,21,5191,null,null,null,null,0,222]
[21,5383,21,5386,21,5392,null,null,null,null,0,222]
[21,5497,21,5501,21,5506,null,null,null,null,0,222]
[21,5624,21,5628,21,5690,null,null,null,null,0,222]
[21,5789,21,5794,21,5799,null,null,null,null,0,222]
[21,5916,21,5924,21,5932,null,null,null,null,0,222]
[21,6122,21,6131,21,6136,null,null,null,null,0,222]
[21,6492,21,6497,21,6506,null,null,null,null,0,222]
[21,6693,21,6717,21,6720,null,null,null,null,0,222]
[21,6919,21,6923,21,6927,null,null,null,null,0,222]
[21,7220,21,7223,21,7226,null,null,null,null,0,222]
[21,7612,21,7618,12,7674,null,null,null,null,0,221]
[21,7861,21,7866,12,7901,null,null,null,null,0,221]
[21,8018,21,8022,21,8024,null,null,null,null,0,222]
[21,8336,21,8339,12,8367,null,null,null,null,0,221]
[21,8466,21,8472,21,8474,null,null,null,null,0,222]
[21,8652,21,8656,21,8708,null,null,null,null,0,222]
[21,8796,21,8810,12,8835,null,null,null,null,0,221]
[21,8947,21,8955,12,8994,null,null,null,null,0,221]
[21,9115,21,9119,21,9123,null,null,null,null,0,222]
[21,9477,21,9480,21,9484,null,null,null,null,0,222]
[21,9785,21,9787,21,9791,null,null,null,null,0,222]
[21,10191,21,10201,21,10204,null,null,null,null,0,222]
[21,10465,21,10472,21,10504,null,null,null,null,0,222]
[21,10667,21,10670,21,10675,null,null,null,null,0,222]
[21,11069,21,11071,21,11075,null,null,null,null,0,222]
[21,11369,21,11372,21,11377,null,null,null,null,0,222]
[21,11597,21,11603,21,11639,null,null,null,null,1,222]

{"sheet":"!MC28A1B.AXT","index":9,"n_rows":59,"n_cols":48,"rows_kept":59,"cut":false,"hidden":false,"merged":[[4,39,4,42],[5,39,5,40],[4,44,4,47],[5,44,5,45],[4,24,4,27],[5,24,5,25],[4,29,4,32],[5,29,5,30],[4,34,4,37],[5,34,5,35],[1,1,1,2],[5,13,5,14],[18,13,18,14],[19,13,19,14],[4,19,4,22],[5,19,5,20]]}
["Report for:!MC28A1B.AXT"]
["Date:","<date>"]
["Hen:","<hen>",null,null,null,"Correct Sequence",{"$f":"Start!J2","v":222},null,null,null,null,null,null,null,null,"Total Sequences in Data",{"$f":"4994-COUNTBLANK(L7:L5000)","v":53},null,null,null,null,"Total Sequences in Block Data",{"$f":"COUNTA(L7:L15)","v":9},null,null,null,"Total Sequences in Block Data",{"$f":"COUNTA(L16:L24)","v":9},null,null,null,"Total Sequences in Block Data",{"$f":"COUNTA(L25:L32)","v":8},null,null,null,"Total Sequences in Block Data",{"$f":"COUNTA(L33:L41)","v":9},null,null,null,"Total Sequences in Block Data",{"$f":"COUNTA(L42:L50)","v":9},null,null,null,"Total Sequences in Block Data",{"$f":"COUNTA(L51:L59)","v":9}]
[null,null,null,null,null,null,null,null,null,null,null,null,null,null,null,"Total Sequences in Summary",{"$f":"SUM(O7:O14)","v":53},null,null,null,null,"Total Sequences in Block Summary",{"$f":"SUM(U7:U14)","v":9},null,null,null,"Total Sequences in Block Summary",{"$f":"SUM(Z7:Z14)","v":9},null,null,null,"Total Sequences in Block Summary",{"$f":"SUM(AE7:AE14)","v":8},null,null,null,"Total Sequences in Block Summary",{"$f":"SUM(AJ7:AJ14)","v":9},null,null,null,"Total Sequences in Block Summary",{"$f":"SUM(AO7:AO14)","v":9},null,null,null,"Total Sequences in Block Summary",{"$f":"SUM(AT7:AT14)","v":9}]
[null,null,null,null,null,null,null,null,null,null,null,null,null,null,null,null,null,null,null,"Block 1",null,null,null,null,"Block 2",null,null,null,null,"Block 3",null,null,null,null,"Block 4",null,null,null,null,"Block 5",null,null,null,null,"Block 6"]
["Sequence\nComponent\n1","Time\n1","Sequence\nComponent\n2","Time\n2","Sequence\nComponent\n3","Time\n3","Sequence\nComponent\n4","Time\n4","Sequence\nComponent\n5","Time\n5","Correct?\n0=No 1=Yes","Sequence",null,"Frequency",null,"Relative Frequency","Variability",null,null,"Frequency",null,"Relative Frequency","Variability",null,"Frequency",null,"Relative Frequency","Variability",null,"Frequency",null,"Relative Frequency","Variability",null,"Frequency",null,"Relative Frequency","Variability",null,"Frequency",null,"Relative Frequency","Variability",null,"Frequency",null,"Relative Frequency","Variability"]
[21,42,21,49,21,79,null,null,null,null,0,222,null,111,{"$f":"COUNTIF($L$7:$L$500,N7)","v":2},{"$f":"O7/$Q$4","v":3.7735849056603772E-2},{"$f":"IF(P7=0,0,(P7*((LOG(P7))/LOG(2))))","v":-0.17841209262502639},null,null,{"$f":"N7","v":111},{"$f":"COUNTIF(L7:L15,T7)","v":0},{"$f":"U7/(W4-U14)","v":{"$error":"#DIV/0!"}},{"$f":"IF(V7=0,0,(V7*((LOG(V7))/LOG(2))))","v":{"$error":"#DIV/0!"}},null,{"$f":"N7","v":111},{"$f":"COUNTIF(L16:L24,Y7)","v":0},{"$f":"Z7/(AB4-Z14)","v":0},{"$f":"IF(AA7=0,0,(AA7*((LOG(AA7))/LOG(2))))","v":0},null,{"$f":"N7","v":111},{"$f":"COUNTIF(L25:L32,AD7)","v":1},{"$f":"AE7/(AG4-AE14)","v":0.5},{"$f":"IF(AF7=0,0,(AF7*((LOG(AF7))/LOG(2))))","v":-0.5},null,{"$f":"N7","v":111},{"$f":"COUNTIF(L33:L41,AI7)","v":0},{"$f":"AJ7/(AL4-AJ14)","v":0},{"$f":"IF(AK7=0,0,(AK7*((LOG(AK7))/LOG(2))))","v":0},null,{"$f":"N7","v":111},{"$f":"COUNTIF(L42:L50,AN7)","v":0},{"$f":"AO7/(AQ4-AO14)","v":0},{"$f":"IF(AP7=0,0,(AP7*((LOG(AP7))/LOG(2))))","v":0},null,{"$f":"N7","v":111},{"$f":"COUNTIF(L51:L59,AS7)","v":1},{"$f":"AT7/(AV4-AT14)","v":0.2},{"$f":"IF(AU7=0,0,(AU7*((LOG(AU7))/LOG(2))))","v":-0.46438561897747244}]
[21,680,21,692,21,695,null,null,null,null,0,222,null,112,{"$f":"COUNTIF($L$7:$L$500,N8)","v":1},{"$f":"O8/$Q$4","v":1.8867924528301886E-2},{"$f":"IF(P8=0,0,(P8*((LOG(P8))/LOG(2))))","v":-0.10807397084081509},null,null,{"$f":"N8","v":112},{"$f":"COUNTIF(L7:L15,T8)","v":0},{"$f":"U8/(W4-U14)","v":{"$error":"#DIV/0!"}},{"$f":"IF(V8=0,0,(V8*((LOG(V8))/LOG(2))))","v":{"$error":"#DIV/0!"}},null,{"$f":"N8","v":112},{"$f":"COUNTIF(L16:L24,Y8)","v":0},{"$f":"Z8/(AB4-Z14)","v":0},{"$f":"IF(AA8=0,0,(AA8*((LOG(AA8))/LOG(2))))","v":0},null,{"$f":"N8","v":112},{"$f":"COUNTIF(L25:L32,AD8)","v":0},{"$f":"AE8/(AG4-AE14)","v":0},{"$f":"IF(AF8=0,0,(AF8*((LOG(AF8))/LOG(2))))","v":0},null,{"$f":"N8","v":112},{"$f":"COUNTIF(L33:L41,AI8)","v":0},{"$f":"AJ8/(AL4-AJ14)","v":0},{"$f":"IF(AK8=0,0,(AK8*((LOG(AK8))/LOG(2))))","v":0},null,{"$f":"N8","v":112},{"$f":"COUNTIF(L42:L50,AN8)","v":0},{"$f":"AO8/(AQ4-AO14)","v":0},{"$f":"IF(AP8=0,0,(AP8*((LOG(AP8))/LOG(2))))","v":0},null,{"$f":"N8","v":112},{"$f":"COUNTIF(L51:L59,AS8)","v":1},{"$f":"AT8/(AV4-AT14)","v":0.2},{"$f":"IF(AU8=0,0,(AU8*((LOG(AU8))/LOG(2))))","v":-0.46438561897747244}]
[21,849,21,853,21,858,null,null,null,null,0,222,null,121,{"$f":"COUNTIF($L$7:$L$500,N9)","v":1},{"$f":"O9/$Q$4","v":1.8867924528301886E-2},{"$f":"IF(P9=0,0,(P9*((LOG(P9))/LOG(2))))","v":-0.10807397084081509},null,null,{"$f":"N9","v":121},{"$f":"COUNTIF(L7:L15,T9)","v":0},{"$f":"U9/(W4-U14)","v":{"$error":"#DIV/0!"}},{"$f":"IF(V9=0,0,(V9*((LOG(V9))/LOG(2))))","v":{"$error":"#DIV/0!"}},null,{"$f":"N9","v":121},{"$f":"COUNTIF(L16:L24,Y9)","v":0},{"$f":"Z9/(AB4-Z14)","v":0},{"$f":"IF(AA9=0,0,(AA9*((LOG(AA9))/LOG(2))))","v":0},null,{"$f":"N9","v":121},{"$f":"COUNTIF(L25:L32,AD9)","v":0},{"$f":"AE9/(AG4-AE14)","v":0},{"$f":"IF(AF9=0,0,(AF9*((LOG(AF9))/LOG(2))))","v":0},null,{"$f":"N9","v":121},{"$f":"COUNTIF(L33:L41,AI9)","v":1},{"$f":"AJ9/(AL4-AJ14)","v":0.2},{"$f":"IF(AK9=0,0,(AK9*((LOG(AK9))/LOG(2))))","v":-0.46438561897747244},null,{"$f":"N9","v":121},{"$f":"COUNTIF(L42:L50,AN9)","v":0},{"$f":"AO9/(AQ4-AO14)","v":0},{"$f":"IF(AP9=0,0,(AP9*((LOG(AP9))/LOG(2))))","v":0},null,{"$f":"N9","v":121},{"$f":"COUNTIF(L51:L59,AS9)","v":0},{"$f":"AT9/(AV4-AT14)","v":0},{"$f":"IF(AU9=0,0,(AU9*((LOG(AU9))/LOG(2))))","v":0}]
[21,1136,21,1138,21,1143,null,null,null,null,0,222,null,122,{"$f":"COUNTIF($L$7:$L$500,N10)","v":2},{"$f":"O10/$Q$4","v":3.7735849056603772E-2},{"$f":"IF(P10=0,0,(P10*((LOG(P10))/LOG(2))))","v":-0.17841209262502639},null,null,{"$f":"N10","v":122},{"$f":"COUNTIF(L7:L15,T10)","v":0},{"$f":"U10/(W4-U14)","v":{"$error":"#DIV/0!"}},{"$f":"IF(V10=0,0,(V10*((LOG(V10))/LOG(2))))","v":{"$error":"#DIV/0!"}},null,{"$f":"N10","v":122},{"$f":"COUNTIF(L16:L24,Y10)","v":0},{"$f":"Z10/(AB4-Z14)","v":0},{"$f":"IF(AA10=0,0,(AA10*((LOG(AA10))/LOG(2))))","v":0},null,{"$f":"N10","v":122},{"$f":"COUNTIF(L25:L32,AD10)","v":1},{"$f":"AE10/(AG4-AE14)","v":0.5},{"$f":"IF(AF10=0,0,(AF10*((LOG(AF10))/LOG(2))))","v":-0.5},null,{"$f":"N10","v":122},{"$f":"COUNTIF(L33:L41,AI10)","v":0},{"$f":"AJ10/(AL4-AJ14)","v":0},{"$f":"IF(AK10=0,0,(AK10*((LOG(AK10))/LOG(2))))","v":0},null,{"$f":"N10","v":122},{"$f":"COUNTIF(L42:L50,AN10)","v":0},{"$f":"AO10/(AQ4-AO14)","v":0},{"$f":"IF(AP10=0,0,(AP10*((LOG(AP10))/LOG(2))))","v":0},null,{"$f":"N10","v":122},{"$f":"COUNTIF(L51:L59,AS10)","v":1},{"$f":"AT10/(AV4-AT14)","v":0.2},{"$f":"IF(AU10=0,0,(AU10*((LOG(AU10))/LOG(2))))","v":-0.46438561897747244}]
[21,1268,21,1272,21,1285,null,null,null,null,0,222,null,211,{"$f":"COUNTIF($L$7:$L$500,N11)","v":2},{"$f":"O11/$Q$4","v":3.7735849056603772E-2},{"$f":"IF(P11=0,0,(P11*((LOG(P11))/LOG(2))))","v":-0.17841209262502639},null,null,{"$f":"N11","v":211},{"$f":"COUNTIF(L7:L15,T11)","v":0},{"$f":"U11/(W4-U14)","v":{"$error":"#DIV/0!"}},{"$f":"IF(V11=0,0,(V11*((LOG(V11))/LOG(2))))","v":{"$error":"#DIV/0!"}},null,{"$f":"N11","v":211},{"$f":"COUNTIF(L16:L24,Y11)","v":0},{"$f":"Z11/(AB4-Z14)","v":0},{"$f":"IF(AA11=0,0,(AA11*((LOG(AA11))/LOG(2))))","v":0},null,{"$f":"N11","v":211},{"$f":"COUNTIF(L25:L32,AD11)","v":0},{"$f":"AE11/(AG4-AE14)","v":0},{"$f":"IF(AF11=0,0,(AF11*((LOG(AF11))/LOG(2))))","v":0},null,{"$f":"N11","v":211},{"$f":"COUNTIF(L33:L41,AI11)","v":2},{"$f":"AJ11/(AL4-AJ14)","v":0.4},{"$f":"IF(AK11=0,0,(AK11*((LOG(AK11))/LOG(2))))","v":-0.52877123795494496},null,{"$f":"N11","v":211},{"$f":"COUNTIF(L42:L50,AN11)","v":0},{"$f":"AO11/(AQ4-AO14)","v":0},{"$f":"IF(AP11=0,0,(AP11*((LOG(AP11))/LOG(2))))","v":0},null,{"$f":"N11","v":211},{"$f":"COUNTIF(L51:L59,AS11)","v":0},{"$f":"AT11/(AV4-AT14)","v":0},{"$f":"IF(AU11=0,0,(AU11*((LOG(AU11))/LOG(2))))","v":0}]
[21,1550,21,1553,21,1557,null,null,null,null,0,222,null,212,{"$f":"COUNTIF($L$7:$L$500,N12)","v":2},{"$f":"O12/$Q$4","v":3.7735849056603772E-2},{"$f":"IF(P12=0,0,(P12*((LOG(P12))/LOG(2))))","v":-0.17841209262502639},null,null,{"$f":"N12","v":212},{"$f":"COUNTIF(L7:L15,T12)","v":0},{"$f":"U12/(W4-U14)","v":{"$error":"#DIV/0!"}},{"$f":"IF(V12=0,0,(V12*((LOG(V12))/LOG(2))))","v":{"$error":"#DIV/0!"}},null,{"$f":"N12","v":212},{"$f":"COUNTIF(L16:L24,Y12)","v":0},{"$f":"Z12/(AB4-Z14)","v":0},{"$f":"IF(AA12=0,0,(AA12*((LOG(AA12))/LOG(2))))","v":0},null,{"$f":"N12","v":212},{"$f":"COUNTIF(L25:L32,AD12)","v":0},{"$f":"AE12/(AG4-AE14)","v":0},{"$f":"IF(AF12=0,0,(AF12*((LOG(AF12))/LOG(2))))","v":0},null,{"$f":"N12","v":212},{"$f":"COUNTIF(L33:L41,AI12)","v":1},{"$f":"AJ12/(AL4-AJ14)","v":0.2},{"$f":"IF(AK12=0,0,(AK12*((LOG(AK12))/LOG(2))))","v":-0.46438561897747244},null,{"$f":"N12","v":212},{"$f":"COUNTIF(L42:L50,AN12)","v":0},{"$f":"AO12/(AQ4-AO14)","v":0},{"$f":"IF(AP12=0,0,(AP12*((LOG(AP12))/LOG(2))))","v":0},null,{"$f":"N12","v":212},{"$f":"COUNTIF(L51:L59,AS12)","v":1},{"$f":"AT12/(AV4-AT14)","v":0.2},{"$f":"IF(AU12=0,0,(AU12*((LOG(AU12))/LOG(2))))","v":-0.46438561897747244}]
[21,1776,21,1784,21,1787,null,null,null,null,0,222,null,221,{"$f":"COUNTIF($L$7:$L$500,N13)","v":5},{"$f":"O13/$Q$4","v":9.4339622641509441E-2},{"$f":"IF(P13=0,0,(P13*((LOG(P13))/LOG(2))))","v":-0.32132003393168274},null,null,{"$f":"N13","v":221},{"$f":"COUNTIF(L7:L15,T13)","v":0},{"$f":"U13/(W4-U14)","v":{"$error":"#DIV/0!"}},{"$f":"IF(V13=0,0,(V13*((LOG(V13))/LOG(2))))","v":{"$error":"#DIV/0!"}},null,{"$f":"N13","v":221},{"$f":"COUNTIF(L16:L24,Y13)","v":1},{"$f":"Z13/(AB4-Z14)","v":1},{"$f":"IF(AA13=0,0,(AA13*((LOG(AA13))/LOG(2))))","v":0},null,{"$f":"N13","v":221},{"$f":"COUNTIF(L25:L32,AD13)","v":0},{"$f":"AE13/(AG4-AE14)","v":0},{"$f":"IF(AF13=0,0,(AF13*((LOG(AF13))/LOG(2))))","v":0},null,{"$f":"N13","v":221},{"$f":"COUNTIF(L33:L41,AI13)","v":1},{"$f":"AJ13/(AL4-AJ14)","v":0.2},{"$f":"IF(AK13=0,0,(AK13*((LOG(AK13))/LOG(2))))","v":-0.46438561897747244},null,{"$f":"N13","v":221},{"$f":"COUNTIF(L42:L50,AN13)","v":2},{"$f":"AO13/(AQ4-AO14)","v":1},{"$f":"IF(AP13=0,0,(AP13*((LOG(AP13))/LOG(2))))","v":0},null,{"$f":"N13","v":221},{"$f":"COUNTIF(L51:L59,AS13)","v":1},{"$f":"AT13/(AV4-AT14)","v":0.2},{"$f":"IF(AU13=0,0,(AU13*((LOG(AU13))/LOG(2))))","v":-0.46438561897747244}]
[21,1910,21,1916,21,1919,null,null,null,null,0,222,null,222,{"$f":"COUNTIF($L$7:$L$500,N14)","v":38},{"$f":"O14/$Q$4","v":0.71698113207547165},{"$f":"IF(P14=0,0,(P14*((LOG(P14))/LOG(2))))","v":-0.34414588231217591},null,null,{"$f":"N14","v":222},{"$f":"COUNTIF(L7:L15,T14)","v":9},null,null,null,{"$f":"N14","v":222},{"$f":"COUNTIF(L16:L24,Y14)","v":8},null,null,null,{"$f":"N14","v":222},{"$f":"COUNTIF(L25:L32,AD14)","v":6},null,null,null,{"$f":"N14","v":222},{"$f":"COUNTIF(L33:L41,AI14)","v":4},null,null,null,{"$f":"N14","v":222},{"$f":"COUNTIF(L42:L50,AN14)","v":7},null,null,null,{"$f":"N14","v":222},{"$f":"COUNTIF(L51:L59,AS14)","v":4}]
[21,2097,21,2100,21,2109,null,null,null,null,0,222,null,null,null,{"$f":"SUM(P7:P14)","v":1},{"$f":"-SUM(Q7:Q14)","v":1.5952622284255944},null,null,null,null,{"$f":"SUM(V7:V14)","v":{"$error":"#DIV/0!"}},{"$f":"-SUM(W7:W14)","v":{"$error":"#DIV/0!"}},null,null,null,{"$f":"SUM(AA7:AA14)","v":1},{"$f":"-SUM(AB7:AB14)","v":0},null,null,null,{"$f":"SUM(AF7:AF14)","v":1},{"$f":"-SUM(AG7:AG14)","v":1},null,null,null,{"$f":"SUM(AK7:AK14)","v":1},{"$f":"-SUM(AL7:AL14)","v":1.9219280948873623},null,null,null,{"$f":"SUM(AP7:AP14)","v":1},{"$f":"-SUM(AQ7:AQ14)","v":0},null,null,null,{"$f":"SUM(AU7:AU14)","v":1},{"$f":"-SUM(AV7:AV14)","v":2.3219280948873622}]
[21,2200,21,2209,21,2211,null,null,null,null,0,222,null,null,null,"U=",{"$f":"Q15/(LOG(Q4)/LOG(2))","v":0.27850635166462806},null,null,null,null,"U1=",{"$f":"W15/(LOG(W4)/LOG(2))","v":{"$error":"#DIV/0!"}},null,null,null,"U2=",{"$f":"AB15/(LOG(AB4)/LOG(2))","v":0},null,null,null,"U3=",{"$f":"AG15/(LOG(AG4)/LOG(2))","v":0.33333333333333331},null,null,null,"U4=",{"$f":"AL15/(LOG(AL4)/LOG(2))","v":0.60630080964467215},null,null,null,"U5=",{"$f":"AQ15/(LOG(AQ4)/LOG(2))","v":0},null,null,null,"U6=",{"$f":"AV15/(LOG(AV4)/LOG(2))","v":0.73248676035896354}]
[21,2506,21,2509,21,2516,null,null,null,null,0,222]
[21,2788,21,2796,21,2799,null,null,null,null,0,222]
[21,3141,21,3143,21,3148,null,null,null,null,0,222,null,"Total Target Seq"]
[21,3235,21,3245,12,3256,null,null,null,null,0,221,null,{"$f":"COUNTIF(L7:L59,G3)","v":38},null,9,9,8,9,9,9]
[21,3402,21,3410,21,3414,null,null,null,null,0,222,null,null,null,"% of reinforcement given in 6 equal intervals based on number of trials "]
[21,3549,21,3556,21,3562,null,null,null,null,0,222,null,null,null,"%_1","%_2","%_3","%_4","%_5","%_6"]
[21,3802,21,3810,21,3813,null,null,null,null,0,222,null,null,"target sequence",{"$f":"$G$3","v":222},{"$f":"$G$3","v":222},{"$f":"$G$3","v":222},{"$f":"$G$3","v":222},{"$f":"$G$3","v":222},{"$f":"$G$3","v":222}]
[21,3978,21,3983,21,3990,null,null,null,null,0,222,null,null,"total reinforcement",{"$f":"U14","v":9},{"$f":"Z14","v":8},{"$f":"AE14","v":6},{"$f":"AJ14","v":4},{"$f":"AO14","v":7},{"$f":"AT14","v":4}]
[21,4284,21,4286,21,4289,null,null,null,null,0,222,null,null,"% target"]
[21,4402,21,4410,21,4414,null,null,null,null,0,222,null,null,"CCRF"]
[21,4736,21,4739,21,4744,null,null,null,null,0,222,null,null,"% CCRf"]
[21,4964,21,4966,21,5015,null,null,null,null,0,222,null,null,"average response rate",{"$f":"F15/P20","v":234.33333333333334},{"$f":"(F24-F15)/Q20","v":209},{"$f":"(F32-F24)/R20","v":214.75},{"$f":"(F41-F32)/S20","v":169.55555555555554},{"$f":"(F50-F41)/T20","v":227.66666666666666},{"$f":"(F59-F50)/U20","v":169.66666666666666}]
[12,5135,23,5185,23,5189,null,null,null,null,0,122]
[12,5345,14,5374,14,5387,null,null,null,null,0,111]
[21,5551,21,5557,21,5559,null,null,null,null,0,222]
[21,5700,21,5704,21,5708,null,null,null,null,0,222]
[21,5915,21,5919,21,5922,null,null,null,null,0,222]
[21,6143,21,6147,21,6154,null,null,null,null,0,222]
[21,6345,21,6350,21,6352,null,null,null,null,0,222]
[21,6541,21,6546,21,6607,null,null,null,null,0,222]
[12,6711,23,6735,14,6746,null,null,null,null,0,121]
[21,6838,21,6842,12,6848,null,null,null,null,0,221]
[21,6956,12,6977,14,6981,null,null,null,null,0,211]
[21,7082,12,7084,14,7108,null,null,null,null,0,211]
[21,7201,12,7205,23,7234,null,null,null,null,0,212]
[21,7344,21,7350,21,7356,null,null,null,null,0,222]
[21,7640,21,7644,21,7648,null,null,null,null,0,222]
[21,7892,21,7895,12,7918,null,null,null,null,0,221]
[21,8024,21,8033,21,8037,null,null,null,null,0,222]
[21,8278,21,8282,21,8288,null,null,null,null,0,222]
[21,8589,21,8592,21,8598,null,null,null,null,0,222]
[21,8762,21,8767,21,8773,null,null,null,null,0,222]
[21,8964,21,8968,21,8975,null,null,null,null,0,222]
[21,9217,21,9223,12,9283,null,null,null,null,0,221]
[12,9389,14,9414,23,9433,null,null,null,null,0,112]
[21,9543,12,9554,23,9565,null,null,null,null,0,212]
[12,9665,23,9666,23,9672,null,null,null,null,0,122]
[21,9887,21,9890,21,9895,null,null,null,null,0,222]
[21,9991,21,9996,21,10001,null,null,null,null,0,222]
[21,10207,21,10211,21,10217,null,null,null,null,0,222]
[21,10477,21,10481,12,10509,null,null,null,null,0,221]
[12,10609,14,10612,14,10619,null,null,null,null,0,111]
[21,10804,21,10808,21,10810,null,null,null,null,1,222]

{"sheet":"!MC29A1B.AXT","index":10,"n_rows":56,"n_cols":48,"rows_kept":56,"cut":false,"hidden":false,"merged":[[4,39,4,42],[5,39,5,40],[4,44,4,47],[5,44,5,45],[4,24,4,27],[5,24,5,25],[4,29,4,32],[5,29,5,30],[4,34,4,37],[5,34,5,35],[1,1,1,2],[5,13,5,14],[18,13,18,14],[19,13,19,14],[4,19,4,22],[5,19,5,20]]}
["Report for:!MC29A1B.AXT"]
["Date:","<date>"]
["Hen:","<hen>",null,null,null,"Correct Sequence",{"$f":"Start!J2","v":222},null,null,null,null,null,null,null,null,"Total Sequences in Data",{"$f":"4994-COUNTBLANK(L7:L5000)","v":50},null,null,null,null,"Total Sequences in Block Data",{"$f":"COUNTA(L7:L14)","v":8},null,null,null,"Total Sequences in Block Data",{"$f":"COUNTA(L15:L23)","v":9},null,null,null,"Total Sequences in Block Data",{"$f":"COUNTA(L24:L31)","v":8},null,null,null,"Total Sequences in Block Data",{"$f":"COUNTA(L32:L39)","v":8},null,null,null,"Total Sequences in Block Data",{"$f":"COUNTA(L40:L48)","v":9},null,null,null,"Total Sequences in Block Data",{"$f":"COUNTA(L49:L56)","v":8}]
[null,null,null,null,null,null,null,null,null,null,null,null,null,null,null,"Total Sequences in Summary",{"$f":"SUM(O7:O14)","v":50},null,null,null,null,"Total Sequences in Block Summary",{"$f":"SUM(U7:U14)","v":8},null,null,null,"Total Sequences in Block Summary",{"$f":"SUM(Z7:Z14)","v":9},null,null,null,"Total Sequences in Block Summary",{"$f":"SUM(AE7:AE14)","v":8},null,null,null,"Total Sequences in Block Summary",{"$f":"SUM(AJ7:AJ14)","v":8},null,null,null,"Total Sequences in Block Summary",{"$f":"SUM(AO7:AO14)","v":9},null,null,null,"Total Sequences in Block Summary",{"$f":"SUM(AT7:AT14)","v":8}]
[null,null,null,null,null,null,null,null,null,null,null,null,null,null,null,null,null,null,null,"Block 1",null,null,null,null,"Block 2",null,null,null,null,"Block 3",null,null,null,null,"Block 4",null,null,null,null,"Block 5",null,null,null,null,"Block 6"]
["Sequence\nComponent\n1","Time\n1","Sequence\nComponent\n2","Time\n2","Sequence\nComponent\n3","Time\n3","Sequence\nComponent\n4","Time\n4","Sequence\nComponent\n5","Time\n5","Correct?\n0=No 1=Yes","Sequence",null,"Frequency",null,"Relative Frequency","Variability",null,null,"Frequency",null,"Relative Frequency","Variability",null,"Frequency",null,"Relative Frequency","Variability",null,"Frequency",null,"Relative Frequency","Variability",null,"Frequency",null,"Relative Frequency","Variability",null,"Frequency",null,"Relative Frequency","Variability",null,"Frequency",null,"Relative Frequency","Variability"]
[21,77,21,109,21,116,null,null,null,null,0,222,null,111,{"$f":"COUNTIF($L$7:$L$500,N7)","v":2},{"$f":"O7/$Q$4","v":0.04},{"$f":"IF(P7=0,0,(P7*((LOG(P7))/LOG(2))))","v":-0.18575424759098899},null,null,{"$f":"N7","v":111},{"$f":"COUNTIF(L7:L14,T7)","v":0},{"$f":"U7/(W4-U14)","v":0},{"$f":"IF(V7=0,0,(V7*((LOG(V7))/LOG(2))))","v":0},null,{"$f":"N7","v":111},{"$f":"COUNTIF(L15:L23,Y7)","v":0},{"$f":"Z7/(AB4-Z14)","v":{"$error":"#DIV/0!"}},{"$f":"IF(AA7=0,0,(AA7*((LOG(AA7))/LOG(2))))","v":{"$error":"#DIV/0!"}},null,{"$f":"N7","v":111},{"$f":"COUNTIF(L24:L31,AD7)","v":0},{"$f":"AE7/(AG4-AE14)","v":{"$error":"#DIV/0!"}},{"$f":"IF(AF7=0,0,(AF7*((LOG(AF7))/LOG(2))))","v":{"$error":"#DIV/0!"}},null,{"$f":"N7","v":111},{"$f":"COUNTIF(L32:L39,AI7)","v":0},{"$f":"AJ7/(AL4-AJ14)","v":{"$error":"#DIV/0!"}},{"$f":"IF(AK7=0,0,(AK7*((LOG(AK7))/LOG(2))))","v":{"$error":"#DIV/0!"}},null,{"$f":"N7","v":111},{"$f":"COUNTIF(L40:L48,AN7)","v":0},{"$f":"AO7/(AQ4-AO14)","v":0},{"$f":"IF(AP7=0,0,(AP7*((LOG(AP7))/LOG(2))))","v":0},null,{"$f":"N7","v":111},{"$f":"COUNTIF(L49:L56,AS7)","v":2},{"$f":"AT7/(AV4-AT14)","v":0.2857142857142857},{"$f":"IF(AU7=0,0,(AU7*((LOG(AU7))/LOG(2))))","v":-0.51638712058788683}]
[21,224,21,229,21,232,null,null,null,null,0,222,null,112,{"$f":"COUNTIF($L$7:$L$500,N8)","v":0},{"$f":"O8/$Q$4","v":0},{"$f":"IF(P8=0,0,(P8*((LOG(P8))/LOG(2))))","v":0},null,null,{"$f":"N8","v":112},{"$f":"COUNTIF(L7:L14,T8)","v":0},{"$f":"U8/(W4-U14)","v":0},{"$f":"IF(V8=0,0,(V8*((LOG(V8))/LOG(2))))","v":0},null,{"$f":"N8","v":112},{"$f":"COUNTIF(L15:L23,Y8)","v":0},{"$f":"Z8/(AB4-Z14)","v":{"$error":"#DIV/0!"}},{"$f":"IF(AA8=0,0,(AA8*((LOG(AA8))/LOG(2))))","v":{"$error":"#DIV/0!"}},null,{"$f":"N8","v":112},{"$f":"COUNTIF(L24:L31,AD8)","v":0},{"$f":"AE8/(AG4-AE14)","v":{"$error":"#DIV/0!"}},{"$f":"IF(AF8=0,0,(AF8*((LOG(AF8))/LOG(2))))","v":{"$error":"#DIV/0!"}},null,{"$f":"N8","v":112},{"$f":"COUNTIF(L32:L39,AI8)","v":0},{"$f":"AJ8/(AL4-AJ14)","v":{"$error":"#DIV/0!"}},{"$f":"IF(AK8=0,0,(AK8*((LOG(AK8))/LOG(2))))","v":{"$error":"#DIV/0!"}},null,{"$f":"N8","v":112},{"$f":"COUNTIF(L40:L48,AN8)","v":0},{"$f":"AO8/(AQ4-AO14)","v":0},{"$f":"IF(AP8=0,0,(AP8*((LOG(AP8))/LOG(2))))","v":0},null,{"$f":"N8","v":112},{"$f":"COUNTIF(L49:L56,AS8)","v":0},{"$f":"AT8/(AV4-AT14)","v":0},{"$f":"IF(AU8=0,0,(AU8*((LOG(AU8))/LOG(2))))","v":0}]
[21,445,21,448,21,455,null,null,null,null,0,222,null,121,{"$f":"COUNTIF($L$7:$L$500,N9)","v":1},{"$f":"O9/$Q$4","v":0.02},{"$f":"IF(P9=0,0,(P9*((LOG(P9))/LOG(2))))","v":-0.11287712379549449},null,null,{"$f":"N9","v":121},{"$f":"COUNTIF(L7:L14,T9)","v":0},{"$f":"U9/(W4-U14)","v":0},{"$f":"IF(V9=0,0,(V9*((LOG(V9))/LOG(2))))","v":0},null,{"$f":"N9","v":121},{"$f":"COUNTIF(L15:L23,Y9)","v":0},{"$f":"Z9/(AB4-Z14)","v":{"$error":"#DIV/0!"}},{"$f":"IF(AA9=0,0,(AA9*((LOG(AA9))/LOG(2))))","v":{"$error":"#DIV/0!"}},null,{"$f":"N9","v":121},{"$f":"COUNTIF(L24:L31,AD9)","v":0},{"$f":"AE9/(AG4-AE14)","v":{"$error":"#DIV/0!"}},{"$f":"IF(AF9=0,0,(AF9*((LOG(AF9))/LOG(2))))","v":{"$error":"#DIV/0!"}},null,{"$f":"N9","v":121},{"$f":"COUNTIF(L32:L39,AI9)","v":0},{"$f":"AJ9/(AL4-AJ14)","v":{"$error":"#DIV/0!"}},{"$f":"IF(AK9=0,0,(AK9*((LOG(AK9))/LOG(2))))","v":{"$error":"#DIV/0!"}},null,{"$f":"N9","v":121},{"$f":"COUNTIF(L40:L48,AN9)","v":0},{"$f":"AO9/(AQ4-AO14)","v":0},{"$f":"IF(AP9=0,0,(AP9*((LOG(AP9))/LOG(2))))","v":0},null,{"$f":"N9","v":121},{"$f":"COUNTIF(L49:L56,AS9)","v":1},{"$f":"AT9/(AV4-AT14)","v":0.14285714285714285},{"$f":"IF(AU9=0,0,(AU9*((LOG(AU9))/LOG(2))))","v":-0.40105070315108626}]
[21,801,21,804,21,807,null,null,null,null,0,222,null,122,{"$f":"COUNTIF($L$7:$L$500,N10)","v":4},{"$f":"O10/$Q$4","v":0.08},{"$f":"IF(P10=0,0,(P10*((LOG(P10))/LOG(2))))","v":-0.29150849518197797},null,null,{"$f":"N10","v":122},{"$f":"COUNTIF(L7:L14,T10)","v":1},{"$f":"U10/(W4-U14)","v":0.5},{"$f":"IF(V10=0,0,(V10*((LOG(V10))/LOG(2))))","v":-0.5},null,{"$f":"N10","v":122},{"$f":"COUNTIF(L15:L23,Y10)","v":0},{"$f":"Z10/(AB4-Z14)","v":{"$error":"#DIV/0!"}},{"$f":"IF(AA10=0,0,(AA10*((LOG(AA10))/LOG(2))))","v":{"$error":"#DIV/0!"}},null,{"$f":"N10","v":122},{"$f":"COUNTIF(L24:L31,AD10)","v":0},{"$f":"AE10/(AG4-AE14)","v":{"$error":"#DIV/0!"}},{"$f":"IF(AF10=0,0,(AF10*((LOG(AF10))/LOG(2))))","v":{"$error":"#DIV/0!"}},null,{"$f":"N10","v":122},{"$f":"COUNTIF(L32:L39,AI10)","v":0},{"$f":"AJ10/(AL4-AJ14)","v":{"$error":"#DIV/0!"}},{"$f":"IF(AK10=0,0,(AK10*((LOG(AK10))/LOG(2))))","v":{"$error":"#DIV/0!"}},null,{"$f":"N10","v":122},{"$f":"COUNTIF(L40:L48,AN10)","v":2},{"$f":"AO10/(AQ4-AO14)","v":0.5},{"$f":"IF(AP10=0,0,(AP10*((LOG(AP10))/LOG(2))))","v":-0.5},null,{"$f":"N10","v":122},{"$f":"COUNTIF(L49:L56,AS10)","v":1},{"$f":"AT10/(AV4-AT14)","v":0.14285714285714285},{"$f":"IF(AU10=0,0,(AU10*((LOG(AU10))/LOG(2))))","v":-0.40105070315108626}]
[21,926,21,928,21,931,null,null,null,null,0,222,null,211,{"$f":"COUNTIF($L$7:$L$500,N11)","v":0},{"$f":"O11/$Q$4","v":0},{"$f":"IF(P11=0,0,(P11*((LOG(P11))/LOG(2))))","v":0},null,null,{"$f":"N11","v":211},{"$f":"COUNTIF(L7:L14,T11)","v":0},{"$f":"U11/(W4-U14)","v":0},{"$f":"IF(V11=0,0,(V11*((LOG(V11))/LOG(2))))","v":0},null,{"$f":"N11","v":211},{"$f":"COUNTIF(L15:L23,Y11)","v":0},{"$f":"Z11/(AB4-Z14)","v":{"$error":"#DIV/0!"}},{"$f":"IF(AA11=0,0,(AA11*((LOG(AA11))/LOG(2))))","v":{"$error":"#DIV/0!"}},null,{"$f":"N11","v":211},{"$f":"COUNTIF(L24:L31,AD11)","v":0},{"$f":"AE11/(AG4-AE14)","v":{"$error":"#DIV/0!"}},{"$f":"IF(AF11=0,0,(AF11*((LOG(AF11))/LOG(2))))","v":{"$error":"#DIV/0!"}},null,{"$f":"N11","v":211},{"$f":"COUNTIF(L32:L39,AI11)","v":0},{"$f":"AJ11/(AL4-AJ14)","v":{"$error":"#DIV/0!"}},{"$f":"IF(AK11=0,0,(AK11*((LOG(AK11))/LOG(2))))","v":{"$error":"#DIV/0!"}},null,{"$f":"N11","v":211},{"$f":"COUNTIF(L40:L48,AN11)","v":0},{"$f":"AO11/(AQ4-AO14)","v":0},{"$f":"IF(AP11=0,0,(AP11*((LOG(AP11))/LOG(2))))","v":0},null,{"$f":"N11","v":211},{"$f":"COUNTIF(L49:L56,AS11)","v":0},{"$f":"AT11/(AV4-AT14)","v":0},{"$f":"IF(AU11=0,0,(AU11*((LOG(AU11))/LOG(2))))","v":0}]
[12,1039,23,1063,23,1066,null,null,null,null,0,122,null,212,{"$f":"COUNTIF($L$7:$L$500,N12)","v":3},{"$f":"O12/$Q$4","v":0.06},{"$f":"IF(P12=0,0,(P12*((LOG(P12))/LOG(2))))","v":-0.2435336213432141},null,null,{"$f":"N12","v":212},{"$f":"COUNTIF(L7:L14,T12)","v":1},{"$f":"U12/(W4-U14)","v":0.5},{"$f":"IF(V12=0,0,(V12*((LOG(V12))/LOG(2))))","v":-0.5},null,{"$f":"N12","v":212},{"$f":"COUNTIF(L15:L23,Y12)","v":0},{"$f":"Z12/(AB4-Z14)","v":{"$error":"#DIV/0!"}},{"$f":"IF(AA12=0,0,(AA12*((LOG(AA12))/LOG(2))))","v":{"$error":"#DIV/0!"}},null,{"$f":"N12","v":212},{"$f":"COUNTIF(L24:L31,AD12)","v":0},{"$f":"AE12/(AG4-AE14)","v":{"$error":"#DIV/0!"}},{"$f":"IF(AF12=0,0,(AF12*((LOG(AF12))/LOG(2))))","v":{"$error":"#DIV/0!"}},null,{"$f":"N12","v":212},{"$f":"COUNTIF(L32:L39,AI12)","v":0},{"$f":"AJ12/(AL4-AJ14)","v":{"$error":"#DIV/0!"}},{"$f":"IF(AK12=0,0,(AK12*((LOG(AK12))/LOG(2))))","v":{"$error":"#DIV/0!"}},null,{"$f":"N12","v":212},{"$f":"COUNTIF(L40:L48,AN12)","v":1},{"$f":"AO12/(AQ4-AO14)","v":0.25},{"$f":"IF(AP12=0,0,(AP12*((LOG(AP12))/LOG(2))))","v":-0.5},null,{"$f":"N12","v":212},{"$f":"COUNTIF(L49:L56,AS12)","v":1},{"$f":"AT12/(AV4-AT14)","v":0.14285714285714285},{"$f":"IF(AU12=0,0,(AU12*((LOG(AU12))/LOG(2))))","v":-0.40105070315108626}]
[21,1218,21,1223,21,1226,null,null,null,null,0,222,null,221,{"$f":"COUNTIF($L$7:$L$500,N13)","v":3},{"$f":"O13/$Q$4","v":0.06},{"$f":"IF(P13=0,0,(P13*((LOG(P13))/LOG(2))))","v":-0.2435336213432141},null,null,{"$f":"N13","v":221},{"$f":"COUNTIF(L7:L14,T13)","v":0},{"$f":"U13/(W4-U14)","v":0},{"$f":"IF(V13=0,0,(V13*((LOG(V13))/LOG(2))))","v":0},null,{"$f":"N13","v":221},{"$f":"COUNTIF(L15:L23,Y13)","v":0},{"$f":"Z13/(AB4-Z14)","v":{"$error":"#DIV/0!"}},{"$f":"IF(AA13=0,0,(AA13*((LOG(AA13))/LOG(2))))","v":{"$error":"#DIV/0!"}},null,{"$f":"N13","v":221},{"$f":"COUNTIF(L24:L31,AD13)","v":0},{"$f":"AE13/(AG4-AE14)","v":{"$error":"#DIV/0!"}},{"$f":"IF(AF13=0,0,(AF13*((LOG(AF13))/LOG(2))))","v":{"$error":"#DIV/0!"}},null,{"$f":"N13","v":221},{"$f":"COUNTIF(L32:L39,AI13)","v":0},{"$f":"AJ13/(AL4-AJ14)","v":{"$error":"#DIV/0!"}},{"$f":"IF(AK13=0,0,(AK13*((LOG(AK13))/LOG(2))))","v":{"$error":"#DIV/0!"}},null,{"$f":"N13","v":221},{"$f":"COUNTIF(L40:L48,AN13)","v":1},{"$f":"AO13/(AQ4-AO14)","v":0.25},{"$f":"IF(AP13=0,0,(AP13*((LOG(AP13))/LOG(2))))","v":-0.5},null,{"$f":"N13","v":221},{"$f":"COUNTIF(L49:L56,AS13)","v":2},{"$f":"AT13/(AV4-AT14)","v":0.2857142857142857},{"$f":"IF(AU13=0,0,(AU13*((LOG(AU13))/LOG(2))))","v":-0.51638712058788683}]
[21,1333,12,1350,23,1358,null,null,null,null,0,212,null,222,{"$f":"COUNTIF($L$7:$L$500,N14)","v":37},{"$f":"O14/$Q$4","v":0.74},{"$f":"IF(P14=0,0,(P14*((LOG(P14))/LOG(2))))","v":-0.3214580898678735},null,null,{"$f":"N14","v":222},{"$f":"COUNTIF(L7:L14,T14)","v":6},null,null,null,{"$f":"N14","v":222},{"$f":"COUNTIF(L15:L23,Y14)","v":9},null,null,null,{"$f":"N14","v":222},{"$f":"COUNTIF(L24:L31,AD14)","v":8},null,null,null,{"$f":"N14","v":222},{"$f":"COUNTIF(L32:L39,AI14)","v":8},null,null,null,{"$f":"N14","v":222},{"$f":"COUNTIF(L40:L48,AN14)","v":5},null,null,null,{"$f":"N14","v":222},{"$f":"COUNTIF(L49:L56,AS14)","v":1}]
[21,1450,21,1455,21,1459,null,null,null,null,0,222,null,null,null,{"$f":"SUM(P7:P14)","v":1},{"$f":"-SUM(Q7:Q14)","v":1.398665199122763},null,null,null,null,{"$f":"SUM(V7:V14)","v":1},{"$f":"-SUM(W7:W14)","v":1},null,null,null,{"$f":"SUM(AA7:AA14)","v":{"$error":"#DIV/0!"}},{"$f":"-SUM(AB7:AB14)","v":{"$error":"#DIV/0!"}},null,null,null,{"$f":"SUM(AF7:AF14)","v":{"$error":"#DIV/0!"}},{"$f":"-SUM(AG7:AG14)","v":{"$error":"#DIV/0!"}},null,null,null,{"$f":"SUM(AK7:AK14)","v":{"$error":"#DIV/0!"}},{"$f":"-SUM(AL7:AL14)","v":{"$error":"#DIV/0!"}},null,null,null,{"$f":"SUM(AP7:AP14)","v":1},{"$f":"-SUM(AQ7:AQ14)","v":1.5},null,null,null,{"$f":"SUM(AU7:AU14)","v":0.99999999999999989},{"$f":"-SUM(AV7:AV14)","v":2.2359263506290326}]
[21,1583,21,1588,21,1591,null,null,null,null,0,222,null,null,null,"U=",{"$f":"Q15/(LOG(Q4)/LOG(2))","v":0.24782084307123195},null,null,null,null,"U1=",{"$f":"W15/(LOG(W4)/LOG(2))","v":0.33333333333333331},null,null,null,"U2=",{"$f":"AB15/(LOG(AB4)/LOG(2))","v":{"$error":"#DIV/0!"}},null,null,null,"U3=",{"$f":"AG15/(LOG(AG4)/LOG(2))","v":{"$error":"#DIV/0!"}},null,null,null,"U4=",{"$f":"AL15/(LOG(AL4)/LOG(2))","v":{"$error":"#DIV/0!"}},null,null,null,"U5=",{"$f":"AQ15/(LOG(AQ4)/LOG(2))","v":0.47319731517859309},null,null,null,"U6=",{"$f":"AV15/(LOG(AV4)/LOG(2))","v":0.74530878354301089}]
[21,1719,21,1725,21,1728,null,null,null,null,0,222]
[21,1897,21,1903,21,1907,null,null,null,null,0,222]
[21,2120,21,2122,21,2128,null,null,null,null,0,222,null,"Total Target Seq"]
[21,2264,21,2267,21,2271,null,null,null,null,0,222,null,{"$f":"COUNTIF(L7:L56,G3)","v":37},null,8,9,8,8,9,8]
[21,2377,21,2383,21,2387,null,null,null,null,0,222,null,null,null,"% of reinforcement given in 6 equal intervals based on number of trials "]
[21,2571,21,2577,21,2582,null,null,null,null,0,222,null,null,null,"%_1","%_2","%_3","%_4","%_5","%_6"]
[21,2786,21,2788,21,2792,null,null,null,null,0,222,null,null,"target sequence",{"$f":"$G$3","v":222},{"$f":"$G$3","v":222},{"$f":"$G$3","v":222},{"$f":"$G$3","v":222},{"$f":"$G$3","v":222},{"$f":"$G$3","v":222}]
[21,2917,21,2921,21,2927,null,null,null,null,0,222,null,null,"total reinforcement",{"$f":"U14","v":6},{"$f":"Z14","v":9},{"$f":"AE14","v":8},{"$f":"AJ14","v":8},{"$f":"AO14","v":5},{"$f":"AT14","v":1}]
[21,3210,21,3216,21,3220,null,null,null,null,0,222,null,null,"% target"]
[21,3488,21,3493,21,3497,null,null,null,null,0,222,null,null,"CCRF"]
[21,3679,21,3684,21,3688,null,null,null,null,0,222,null,null,"% CCRf"]
[21,3887,21,3894,21,3899,null,null,null,null,0,222,null,null,"average response rate",{"$f":"F14/P20","v":169.75},{"$f":"(F23-F14)/Q20","v":159.33333333333334},{"$f":"(F31-F23)/R20","v":204},{"$f":"(F39-F31)/S20","v":232.125},{"$f":"(F48-F39)/T20","v":201.33333333333334},{"$f":"(F56-F48)/U20","v":180.75}]
[21,4145,21,4151,21,4156,null,null,null,null,0,222]
[21,4293,21,4298,21,4300,null,null,null,null,0,222]
[21,4416,21,4420,21,4424,null,null,null,null,0,222]
[21,4754,21,4759,21,4763,null,null,null,null,0,222]
[21,4969,21,4974,21,4977,null,null,null,null,0,222]
[21,5207,21,5211,21,5214,null,null,null,null,0,222]
[21,5324,21,5326,21,5330,null,null,null,null,0,222]
[21,5429,21,5434,21,5440,null,null,null,null,0,222]
[21,5755,21,5762,21,5765,null,null,null,null,0,222]
[21,6040,21,6085,21,6088,null,null,null,null,0,222]
[21,6272,21,6277,21,6281,null,null,null,null,0,222]
[21,6374,21,6377,21,6471,null,null,null,null,0,222]
[21,6602,12,6613,23,6623,null,null,null,null,0,212]
[21,6742,21,6745,21,6747,null,null,null,null,0,222]
[21,7015,21,7024,21,7139,null,null,null,null,0,222]
[21,7299,21,7304,21,7307,null,null,null,null,0,222]
[21,7566,21,7568,21,7573,null,null,null,null,0,222]
[21,7811,21,7815,12,7853,null,null,null,null,0,221]
[12,7947,23,7961,23,7969,null,null,null,null,0,122]
[12,8076,23,8091,23,8093,null,null,null,null,0,122]
[12,8250,23,8257,14,8267,null,null,null,null,0,121]
[12,8359,14,8369,14,8377,null,null,null,null,0,111]
[12,8472,14,8487,14,8498,null,null,null,null,0,111]
[21,8674,21,8677,12,8702,null,null,null,null,0,221]
[21,8965,12,8980,23,8986,null,null,null,null,0,212]
[12,9084,23,9103,23,9106,null,null,null,null,0,122]
[21,9388,21,9407,12,9408,null,null,null,null,0,221]
[21,9521,21,9535,21,9539,null,null,null,null,1,222]

{"sheet":"!MC3094B.AXT","index":11,"n_rows":36,"n_cols":48,"rows_kept":36,"cut":false,"hidden":false,"merged":[[4,39,4,42],[5,39,5,40],[4,44,4,47],[5,44,5,45],[4,24,4,27],[5,24,5,25],[4,29,4,32],[5,29,5,30],[4,34,4,37],[5,34,5,35],[1,1,1,2],[5,13,5,14],[18,13,18,14],[19,13,19,14],[4,19,4,22],[5,19,5,20]]}
["Report for:!MC3094B.AXT"]
["Date:","<date>"]
["Hen:","<hen>",null,null,null,"Correct Sequence",{"$f":"Start!J2","v":222},null,null,null,null,null,null,null,null,"Total Sequences in Data",{"$f":"4994-COUNTBLANK(L7:L5000)","v":30},null,null,null,null,"Total Sequences in Block Data",{"$f":"COUNTA(L7:L11)","v":5},null,null,null,"Total Sequences in Block Data",{"$f":"COUNTA(L12:L16)","v":5},null,null,null,"Total Sequences in Block Data",{"$f":"COUNTA(L17:L21)","v":5},null,null,null,"Total Sequences in Block Data",{"$f":"COUNTA(L22:L26)","v":5},null,null,null,"Total Sequences in Block Data",{"$f":"COUNTA(L27:L31)","v":5},null,null,null,"Total Sequences in Block Data",{"$f":"COUNTA(L32:L36)","v":5}]
[null,null,null,null,null,null,null,null,null,null,null,null,null,null,null,"Total Sequences in Summary",{"$f":"SUM(O7:O14)","v":30},null,null,null,null,"Total Sequences in Block Summary",{"$f":"SUM(U7:U14)","v":5},null,null,null,"Total Sequences in Block Summary",{"$f":"SUM(Z7:Z14)","v":5},null,null,null,"Total Sequences in Block Summary",{"$f":"SUM(AE7:AE14)","v":5},null,null,null,"Total Sequences in Block Summary",{"$f":"SUM(AJ7:AJ14)","v":5},null,null,null,"Total Sequences in Block Summary",{"$f":"SUM(AO7:AO14)","v":5},null,null,null,"Total Sequences in Block Summary",{"$f":"SUM(AT7:AT14)","v":5}]
[null,null,null,null,null,null,null,null,null,null,null,null,null,null,null,null,null,null,null,"Block 1",null,null,null,null,"Block 2",null,null,null,null,"Block 3",null,null,null,null,"Block 4",null,null,null,null,"Block 5",null,null,null,null,"Block 6"]
["Sequence\nComponent\n1","Time\n1","Sequence\nComponent\n2","Time\n2","Sequence\nComponent\n3","Time\n3","Sequence\nComponent\n4","Time\n4","Sequence\nComponent\n5","Time\n5","Correct?\n0=No 1=Yes","Sequence",null,"Frequency",null,"Relative Frequency","Variability",null,null,"Frequency",null,"Relative Frequency","Variability",null,"Frequency",null,"Relative Frequency","Variability",null,"Frequency",null,"Relative Frequency","Variability",null,"Frequency",null,"Relative Frequency","Variability",null,"Frequency",null,"Relative Frequency","Variability",null,"Frequency",null,"Relative Frequency","Variability"]
[21,11,21,14,12,17,null,null,null,null,0,221,null,111,{"$f":"COUNTIF($L$7:$L$500,N7)","v":4},{"$f":"O7/$Q$4","v":0.13333333333333333},{"$f":"IF(P7=0,0,(P7*((LOG(P7))/LOG(2))))","v":-0.3875854127478025},null,null,{"$f":"N7","v":111},{"$f":"COUNTIF(L7:L11,T7)","v":2},{"$f":"U7/(W4-U14)","v":0.4},{"$f":"IF(V7=0,0,(V7*((LOG(V7))/LOG(2))))","v":-0.52877123795494496},null,{"$f":"N7","v":111},{"$f":"COUNTIF(L12:L16,Y7)","v":0},{"$f":"Z7/(AB4-Z14)","v":0},{"$f":"IF(AA7=0,0,(AA7*((LOG(AA7))/LOG(2))))","v":0},null,{"$f":"N7","v":111},{"$f":"COUNTIF(L17:L21,AD7)","v":1},{"$f":"AE7/(AG4-AE14)","v":0.33333333333333331},{"$f":"IF(AF7=0,0,(AF7*((LOG(AF7))/LOG(2))))","v":-0.52832083357371862},null,{"$f":"N7","v":111},{"$f":"COUNTIF(L22:L26,AI7)","v":0},{"$f":"AJ7/(AL4-AJ14)","v":0},{"$f":"IF(AK7=0,0,(AK7*((LOG(AK7))/LOG(2))))","v":0},null,{"$f":"N7","v":111},{"$f":"COUNTIF(L27:L31,AN7)","v":1},{"$f":"AO7/(AQ4-AO14)","v":0.2},{"$f":"IF(AP7=0,0,(AP7*((LOG(AP7))/LOG(2))))","v":-0.46438561897747244},null,{"$f":"N7","v":111},{"$f":"COUNTIF(L32:L36,AS7)","v":0},{"$f":"AT7/(AV4-AT14)","v":0},{"$f":"IF(AU7=0,0,(AU7*((LOG(AU7))/LOG(2))))","v":0}]
[21,120,12,122,23,127,null,null,null,null,0,212,null,112,{"$f":"COUNTIF($L$7:$L$500,N8)","v":2},{"$f":"O8/$Q$4","v":6.6666666666666666E-2},{"$f":"IF(P8=0,0,(P8*((LOG(P8))/LOG(2))))","v":-0.26045937304056793},null,null,{"$f":"N8","v":112},{"$f":"COUNTIF(L7:L11,T8)","v":0},{"$f":"U8/(W4-U14)","v":0},{"$f":"IF(V8=0,0,(V8*((LOG(V8))/LOG(2))))","v":0},null,{"$f":"N8","v":112},{"$f":"COUNTIF(L12:L16,Y8)","v":0},{"$f":"Z8/(AB4-Z14)","v":0},{"$f":"IF(AA8=0,0,(AA8*((LOG(AA8))/LOG(2))))","v":0},null,{"$f":"N8","v":112},{"$f":"COUNTIF(L17:L21,AD8)","v":0},{"$f":"AE8/(AG4-AE14)","v":0},{"$f":"IF(AF8=0,0,(AF8*((LOG(AF8))/LOG(2))))","v":0},null,{"$f":"N8","v":112},{"$f":"COUNTIF(L22:L26,AI8)","v":0},{"$f":"AJ8/(AL4-AJ14)","v":0},{"$f":"IF(AK8=0,0,(AK8*((LOG(AK8))/LOG(2))))","v":0},null,{"$f":"N8","v":112},{"$f":"COUNTIF(L27:L31,AN8)","v":1},{"$f":"AO8/(AQ4-AO14)","v":0.2},{"$f":"IF(AP8=0,0,(AP8*((LOG(AP8))/LOG(2))))","v":-0.46438561897747244},null,{"$f":"N8","v":112},{"$f":"COUNTIF(L32:L36,AS8)","v":1},{"$f":"AT8/(AV4-AT14)","v":0.2},{"$f":"IF(AU8=0,0,(AU8*((LOG(AU8))/LOG(2))))","v":-0.46438561897747244}]
[12,224,14,233,14,245,null,null,null,null,0,111,null,121,{"$f":"COUNTIF($L$7:$L$500,N9)","v":5},{"$f":"O9/$Q$4","v":0.16666666666666666},{"$f":"IF(P9=0,0,(P9*((LOG(P9))/LOG(2))))","v":-0.43082708345352599},null,null,{"$f":"N9","v":121},{"$f":"COUNTIF(L7:L11,T9)","v":0},{"$f":"U9/(W4-U14)","v":0},{"$f":"IF(V9=0,0,(V9*((LOG(V9))/LOG(2))))","v":0},null,{"$f":"N9","v":121},{"$f":"COUNTIF(L12:L16,Y9)","v":3},{"$f":"Z9/(AB4-Z14)","v":0.6},{"$f":"IF(AA9=0,0,(AA9*((LOG(AA9))/LOG(2))))","v":-0.44217935649972373},null,{"$f":"N9","v":121},{"$f":"COUNTIF(L17:L21,AD9)","v":0},{"$f":"AE9/(AG4-AE14)","v":0},{"$f":"IF(AF9=0,0,(AF9*((LOG(AF9))/LOG(2))))","v":0},null,{"$f":"N9","v":121},{"$f":"COUNTIF(L22:L26,AI9)","v":1},{"$f":"AJ9/(AL4-AJ14)","v":0.25},{"$f":"IF(AK9=0,0,(AK9*((LOG(AK9))/LOG(2))))","v":-0.5},null,{"$f":"N9","v":121},{"$f":"COUNTIF(L27:L31,AN9)","v":0},{"$f":"AO9/(AQ4-AO14)","v":0},{"$f":"IF(AP9=0,0,(AP9*((LOG(AP9))/LOG(2))))","v":0},null,{"$f":"N9","v":121},{"$f":"COUNTIF(L32:L36,AS9)","v":1},{"$f":"AT9/(AV4-AT14)","v":0.2},{"$f":"IF(AU9=0,0,(AU9*((LOG(AU9))/LOG(2))))","v":-0.46438561897747244}]
[12,373,14,375,14,378,null,null,null,null,0,111,null,122,{"$f":"COUNTIF($L$7:$L$500,N10)","v":1},{"$f":"O10/$Q$4","v":3.3333333333333333E-2},{"$f":"IF(P10=0,0,(P10*((LOG(P10))/LOG(2))))","v":-0.16356301985361729},null,null,{"$f":"N10","v":122},{"$f":"COUNTIF(L7:L11,T10)","v":0},{"$f":"U10/(W4-U14)","v":0},{"$f":"IF(V10=0,0,(V10*((LOG(V10))/LOG(2))))","v":0},null,{"$f":"N10","v":122},{"$f":"COUNTIF(L12:L16,Y10)","v":0},{"$f":"Z10/(AB4-Z14)","v":0},{"$f":"IF(AA10=0,0,(AA10*((LOG(AA10))/LOG(2))))","v":0},null,{"$f":"N10","v":122},{"$f":"COUNTIF(L17:L21,AD10)","v":1},{"$f":"AE10/(AG4-AE14)","v":0.33333333333333331},{"$f":"IF(AF10=0,0,(AF10*((LOG(AF10))/LOG(2))))","v":-0.52832083357371862},null,{"$f":"N10","v":122},{"$f":"COUNTIF(L22:L26,AI10)","v":0},{"$f":"AJ10/(AL4-AJ14)","v":0},{"$f":"IF(AK10=0,0,(AK10*((LOG(AK10))/LOG(2))))","v":0},null,{"$f":"N10","v":122},{"$f":"COUNTIF(L27:L31,AN10)","v":0},{"$f":"AO10/(AQ4-AO14)","v":0},{"$f":"IF(AP10=0,0,(AP10*((LOG(AP10))/LOG(2))))","v":0},null,{"$f":"N10","v":122},{"$f":"COUNTIF(L32:L36,AS10)","v":0},{"$f":"AT10/(AV4-AT14)","v":0},{"$f":"IF(AU10=0,0,(AU10*((LOG(AU10))/LOG(2))))","v":0}]
[21,478,21,491,12,495,null,null,null,null,0,221,null,211,{"$f":"COUNTIF($L$7:$L$500,N11)","v":8},{"$f":"O11/$Q$4","v":0.26666666666666666},{"$f":"IF(P11=0,0,(P11*((LOG(P11))/LOG(2))))","v":-0.50850415882893829},null,null,{"$f":"N11","v":211},{"$f":"COUNTIF(L7:L11,T11)","v":0},{"$f":"U11/(W4-U14)","v":0},{"$f":"IF(V11=0,0,(V11*((LOG(V11))/LOG(2))))","v":0},null,{"$f":"N11","v":211},{"$f":"COUNTIF(L12:L16,Y11)","v":1},{"$f":"Z11/(AB4-Z14)","v":0.2},{"$f":"IF(AA11=0,0,(AA11*((LOG(AA11))/LOG(2))))","v":-0.46438561897747244},null,{"$f":"N11","v":211},{"$f":"COUNTIF(L17:L21,AD11)","v":1},{"$f":"AE11/(AG4-AE14)","v":0.33333333333333331},{"$f":"IF(AF11=0,0,(AF11*((LOG(AF11))/LOG(2))))","v":-0.52832083357371862},null,{"$f":"N11","v":211},{"$f":"COUNTIF(L22:L26,AI11)","v":3},{"$f":"AJ11/(AL4-AJ14)","v":0.75},{"$f":"IF(AK11=0,0,(AK11*((LOG(AK11))/LOG(2))))","v":-0.31127812445913283},null,{"$f":"N11","v":211},{"$f":"COUNTIF(L27:L31,AN11)","v":2},{"$f":"AO11/(AQ4-AO14)","v":0.4},{"$f":"IF(AP11=0,0,(AP11*((LOG(AP11))/LOG(2))))","v":-0.52877123795494496},null,{"$f":"N11","v":211},{"$f":"COUNTIF(L32:L36,AS11)","v":1},{"$f":"AT11/(AV4-AT14)","v":0.2},{"$f":"IF(AU11=0,0,(AU11*((LOG(AU11))/LOG(2))))","v":-0.46438561897747244}]
[21,586,21,590,12,604,null,null,null,null,0,221,null,212,{"$f":"COUNTIF($L$7:$L$500,N12)","v":1},{"$f":"O12/$Q$4","v":3.3333333333333333E-2},{"$f":"IF(P12=0,0,(P12*((LOG(P12))/LOG(2))))","v":-0.16356301985361729},null,null,{"$f":"N12","v":212},{"$f":"COUNTIF(L7:L11,T12)","v":1},{"$f":"U12/(W4-U14)","v":0.2},{"$f":"IF(V12=0,0,(V12*((LOG(V12))/LOG(2))))","v":-0.46438561897747244},null,{"$f":"N12","v":212},{"$f":"COUNTIF(L12:L16,Y12)","v":0},{"$f":"Z12/(AB4-Z14)","v":0},{"$f":"IF(AA12=0,0,(AA12*((LOG(AA12))/LOG(2))))","v":0},null,{"$f":"N12","v":212},{"$f":"COUNTIF(L17:L21,AD12)","v":0},{"$f":"AE12/(AG4-AE14)","v":0},{"$f":"IF(AF12=0,0,(AF12*((LOG(AF12))/LOG(2))))","v":0},null,{"$f":"N12","v":212},{"$f":"COUNTIF(L22:L26,AI12)","v":0},{"$f":"AJ12/(AL4-AJ14)","v":0},{"$f":"IF(AK12=0,0,(AK12*((LOG(AK12))/LOG(2))))","v":0},null,{"$f":"N12","v":212},{"$f":"COUNTIF(L27:L31,AN12)","v":0},{"$f":"AO12/(AQ4-AO14)","v":0},{"$f":"IF(AP12=0,0,(AP12*((LOG(AP12))/LOG(2))))","v":0},null,{"$f":"N12","v":212},{"$f":"COUNTIF(L32:L36,AS12)","v":0},{"$f":"AT12/(AV4-AT14)","v":0},{"$f":"IF(AU12=0,0,(AU12*((LOG(AU12))/LOG(2))))","v":0}]
[12,842,23,855,14,860,null,null,null,null,0,121,null,221,{"$f":"COUNTIF($L$7:$L$500,N13)","v":6},{"$f":"O13/$Q$4","v":0.2},{"$f":"IF(P13=0,0,(P13*((LOG(P13))/LOG(2))))","v":-0.46438561897747244},null,null,{"$f":"N13","v":221},{"$f":"COUNTIF(L7:L11,T13)","v":2},{"$f":"U13/(W4-U14)","v":0.4},{"$f":"IF(V13=0,0,(V13*((LOG(V13))/LOG(2))))","v":-0.52877123795494496},null,{"$f":"N13","v":221},{"$f":"COUNTIF(L12:L16,Y13)","v":1},{"$f":"Z13/(AB4-Z14)","v":0.2},{"$f":"IF(AA13=0,0,(AA13*((LOG(AA13))/LOG(2))))","v":-0.46438561897747244},null,{"$f":"N13","v":221},{"$f":"COUNTIF(L17:L21,AD13)","v":0},{"$f":"AE13/(AG4-AE14)","v":0},{"$f":"IF(AF13=0,0,(AF13*((LOG(AF13))/LOG(2))))","v":0},null,{"$f":"N13","v":221},{"$f":"COUNTIF(L22:L26,AI13)","v":0},{"$f":"AJ13/(AL4-AJ14)","v":0},{"$f":"IF(AK13=0,0,(AK13*((LOG(AK13))/LOG(2))))","v":0},null,{"$f":"N13","v":221},{"$f":"COUNTIF(L27:L31,AN13)","v":1},{"$f":"AO13/(AQ4-AO14)","v":0.2},{"$f":"IF(AP13=0,0,(AP13*((LOG(AP13))/LOG(2))))","v":-0.46438561897747244},null,{"$f":"N13","v":221},{"$f":"COUNTIF(L32:L36,AS13)","v":2},{"$f":"AT13/(AV4-AT14)","v":0.4},{"$f":"IF(AU13=0,0,(AU13*((LOG(AU13))/LOG(2))))","v":-0.52877123795494496}]
[21,961,12,964,14,969,null,null,null,null,0,211,null,222,{"$f":"COUNTIF($L$7:$L$500,N14)","v":3},{"$f":"O14/$Q$4","v":0.1},{"$f":"IF(P14=0,0,(P14*((LOG(P14))/LOG(2))))","v":-0.33219280948873625},null,null,{"$f":"N14","v":222},{"$f":"COUNTIF(L7:L11,T14)","v":0},null,null,null,{"$f":"N14","v":222},{"$f":"COUNTIF(L12:L16,Y14)","v":0},null,null,null,{"$f":"N14","v":222},{"$f":"COUNTIF(L17:L21,AD14)","v":2},null,null,null,{"$f":"N14","v":222},{"$f":"COUNTIF(L22:L26,AI14)","v":1},null,null,null,{"$f":"N14","v":222},{"$f":"COUNTIF(L27:L31,AN14)","v":0},null,null,null,{"$f":"N14","v":222},{"$f":"COUNTIF(L32:L36,AS14)","v":0}]
[12,1086,23,1090,14,1094,null,null,null,null,0,121,null,null,null,{"$f":"SUM(P7:P14)","v":1.0000000000000002},{"$f":"-SUM(Q7:Q14)","v":2.711080496244278},null,null,null,null,{"$f":"SUM(V7:V14)","v":1},{"$f":"-SUM(W7:W14)","v":1.5219280948873624},null,null,null,{"$f":"SUM(AA7:AA14)","v":1},{"$f":"-SUM(AB7:AB14)","v":1.3709505944546687},null,null,null,{"$f":"SUM(AF7:AF14)","v":1},{"$f":"-SUM(AG7:AG14)","v":1.5849625007211559},null,null,null,{"$f":"SUM(AK7:AK14)","v":1},{"$f":"-SUM(AL7:AL14)","v":0.81127812445913283},null,null,null,{"$f":"SUM(AP7:AP14)","v":1},{"$f":"-SUM(AQ7:AQ14)","v":1.9219280948873623},null,null,null,{"$f":"SUM(AU7:AU14)","v":1},{"$f":"-SUM(AV7:AV14)","v":1.9219280948873623}]
[12,1294,23,1300,14,1308,null,null,null,null,0,121,null,null,null,"U=",{"$f":"Q15/(LOG(Q4)/LOG(2))","v":0.55250477739825554},null,null,null,null,"U1=",{"$f":"W15/(LOG(W4)/LOG(2))","v":0.65545875354128547},null,null,null,"U2=",{"$f":"AB15/(LOG(AB4)/LOG(2))","v":0.5904362833084088},null,null,null,"U3=",{"$f":"AG15/(LOG(AG4)/LOG(2))","v":0.68260619448598503},null,null,null,"U4=",{"$f":"AL15/(LOG(AL4)/LOG(2))","v":0.34939847028229709},null,null,null,"U5=",{"$f":"AQ15/(LOG(AQ4)/LOG(2))","v":0.82772937677064262},null,null,null,"U6=",{"$f":"AV15/(LOG(AV4)/LOG(2))","v":0.82772937677064262}]
[12,1667,14,1673,14,1695,null,null,null,null,0,111]
[12,1855,23,1858,23,1860,null,null,null,null,0,122]
[21,1959,21,1962,21,1965,null,null,null,null,0,222,null,"Total Target Seq"]
[21,2087,21,2089,21,2092,null,null,null,null,0,222,null,{"$f":"COUNTIF(L7:L36,G3)","v":3},null,5,5,5,5,5,5]
[21,2207,12,2212,14,2217,null,null,null,null,0,211,null,null,null,"% of reinforcement given in 6 equal intervals based on number of trials "]
[21,2351,12,2356,14,2365,null,null,null,null,0,211,null,null,null,"%_1","%_2","%_3","%_4","%_5","%_6"]
[21,2475,21,2486,21,2511,null,null,null,null,0,222,null,null,"target sequence",{"$f":"$G$3","v":222},{"$f":"$G$3","v":222},{"$f":"$G$3","v":222},{"$f":"$G$3","v":222},{"$f":"$G$3","v":222},{"$f":"$G$3","v":222}]
[21,2626,12,2638,14,2645,null,null,null,null,0,211,null,null,"total reinforcement",{"$f":"U14","v":0},{"$f":"Z14","v":0},{"$f":"AE14","v":2},{"$f":"AJ14","v":1},{"$f":"AO14","v":0},{"$f":"AT14","v":0}]
[21,2775,12,2779,14,2783,null,null,null,null,0,211,null,null,"% target"]
[12,2881,23,2884,14,2890,null,null,null,null,0,121,null,null,"CCRF"]
[12,2982,14,3001,14,3011,null,null,null,null,0,111,null,null,"% CCRf"]
[21,3159,12,3164,14,3167,null,null,null,null,0,211,null,null,"average response rate",{"$f":"F11/P20","v":99},{"$f":"(F16-F11)/Q20","v":162.6},{"$f":"(F21-F16)/R20","v":181.8},{"$f":"(F26-F21)/S20","v":134.6},{"$f":"(F31-F26)/T20","v":121.4},{"$f":"(F36-F31)/U20","v":1875}]
[21,3264,12,3270,14,3279,null,null,null,null,0,211]
[12,3385,14,3391,23,3399,null,null,null,null,0,112]
[21,3486,21,3491,12,3497,null,null,null,null,0,221]
[21,8069,21,8076,12,8085,null,null,null,null,0,221]
[12,8458,14,8463,23,8477,null,null,null,null,0,112]
[21,10468,12,10488,14,10501,null,null,null,null,0,211]
[21,12697,21,12709,12,12719,null,null,null,null,0,221]
[12,12852,23,12869,14,12872,null,null,null,null,0,121]

{"sheet":"!MC31A0B.AXT","index":12,"n_rows":28,"n_cols":48,"rows_kept":28,"cut":false,"hidden":false,"merged":[[4,39,4,42],[5,39,5,40],[4,44,4,47],[5,44,5,45],[4,24,4,27],[5,24,5,25],[4,29,4,32],[5,29,5,30],[4,34,4,37],[5,34,5,35],[1,1,1,2],[5,13,5,14],[18,13,18,14],[19,13,19,14],[4,19,4,22],[5,19,5,20]]}
["Report for:!MC31A0B.AXT"]
["Date:","<date>"]
["Hen:","<hen>",null,null,null,"Correct Sequence",{"$f":"Start!J2","v":222},null,null,null,null,null,null,null,null,"Total Sequences in Data",{"$f":"4994-COUNTBLANK(L7:L5000)","v":20},null,null,null,null,"Total Sequences in Block Data",{"$f":"COUNTA(L7:L9)","v":3},null,null,null,"Total Sequences in Block Data",{"$f":"COUNTA(L10:L13)","v":4},null,null,null,"Total Sequences in Block Data",{"$f":"COUNTA(L14:L16)","v":3},null,null,null,"Total Sequences in Block Data",{"$f":"COUNTA(L17:L19)","v":3},null,null,null,"Total Sequences in Block Data",{"$f":"COUNTA(L20:L23)","v":4},null,null,null,"Total Sequences in Block Data",{"$f":"COUNTA(L24:L26)","v":3}]
[null,null,null,null,null,null,null,null,null,null,null,null,null,null,null,"Total Sequences in Summary",{"$f":"SUM(O7:O14)","v":20},null,null,null,null,"Total Sequences in Block Summary",{"$f":"SUM(U7:U14)","v":3},null,null,null,"Total Sequences in Block Summary",{"$f":"SUM(Z7:Z14)","v":4},null,null,null,"Total Sequences in Block Summary",{"$f":"SUM(AE7:AE14)","v":3},null,null,null,"Total Sequences in Block Summary",{"$f":"SUM(AJ7:AJ14)","v":3},null,null,null,"Total Sequences in Block Summary",{"$f":"SUM(AO7:AO14)","v":4},null,null,null,"Total Sequences in Block Summary",{"$f":"SUM(AT7:AT14)","v":3}]
[null,null,null,null,null,null,null,null,null,null,null,null,null,null,null,null,null,null,null,"Block 1",null,null,null,null,"Block 2",null,null,null,null,"Block 3",null,null,null,null,"Block 4",null,null,null,null,"Block 5",null,null,null,null,"Block 6"]
["Sequence\nComponent\n1","Time\n1","Sequence\nComponent\n2","Time\n2","Sequence\nComponent\n3","Time\n3","Sequence\nComponent\n4","Time\n4","Sequence\nComponent\n5","Time\n5","Correct?\n0=No 1=Yes","Sequence",null,"Frequency",null,"Relative Frequency","Variability",null,null,"Frequency",null,"Relative Frequency","Variability",null,"Frequency",null,"Relative Frequency","Variability",null,"Frequency",null,"Relative Frequency","Variability",null,"Frequency",null,"Relative Frequency","Variability",null,"Frequency",null,"Relative Frequency","Variability",null,"Frequency",null,"Relative Frequency","Variability"]
[12,1655,23,1677,23,1683,null,null,null,null,0,122,null,111,{"$f":"COUNTIF($L$7:$L$500,N7)","v":6},{"$f":"O7/$Q$4","v":0.3},{"$f":"IF(P7=0,0,(P7*((LOG(P7))/LOG(2))))","v":-0.52108967824986185},null,null,{"$f":"N7","v":111},{"$f":"COUNTIF(L7:L9,T7)","v":0},{"$f":"U7/(W4-U14)","v":0},{"$f":"IF(V7=0,0,(V7*((LOG(V7))/LOG(2))))","v":0},null,{"$f":"N7","v":111},{"$f":"COUNTIF(L10:L13,Y7)","v":1},{"$f":"Z7/(AB4-Z14)","v":0.5},{"$f":"IF(AA7=0,0,(AA7*((LOG(AA7))/LOG(2))))","v":-0.5},null,{"$f":"N7","v":111},{"$f":"COUNTIF(L14:L16,AD7)","v":0},{"$f":"AE7/(AG4-AE14)","v":0},{"$f":"IF(AF7=0,0,(AF7*((LOG(AF7))/LOG(2))))","v":0},null,{"$f":"N7","v":111},{"$f":"COUNTIF(L17:L19,AI7)","v":3},{"$f":"AJ7/(AL4-AJ14)","v":1},{"$f":"IF(AK7=0,0,(AK7*((LOG(AK7))/LOG(2))))","v":0},null,{"$f":"N7","v":111},{"$f":"COUNTIF(L20:L23,AN7)","v":1},{"$f":"AO7/(AQ4-AO14)","v":0.25},{"$f":"IF(AP7=0,0,(AP7*((LOG(AP7))/LOG(2))))","v":-0.5},null,{"$f":"N7","v":111},{"$f":"COUNTIF(L24:L26,AS7)","v":1},{"$f":"AT7/(AV4-AT14)","v":0.33333333333333331},{"$f":"IF(AU7=0,0,(AU7*((LOG(AU7))/LOG(2))))","v":-0.52832083357371862}]
[12,1787,14,1794,23,1807,null,null,null,null,0,112,null,112,{"$f":"COUNTIF($L$7:$L$500,N8)","v":2},{"$f":"O8/$Q$4","v":0.1},{"$f":"IF(P8=0,0,(P8*((LOG(P8))/LOG(2))))","v":-0.33219280948873625},null,null,{"$f":"N8","v":112},{"$f":"COUNTIF(L7:L9,T8)","v":1},{"$f":"U8/(W4-U14)","v":0.33333333333333331},{"$f":"IF(V8=0,0,(V8*((LOG(V8))/LOG(2))))","v":-0.52832083357371862},null,{"$f":"N8","v":112},{"$f":"COUNTIF(L10:L13,Y8)","v":0},{"$f":"Z8/(AB4-Z14)","v":0},{"$f":"IF(AA8=0,0,(AA8*((LOG(AA8))/LOG(2))))","v":0},null,{"$f":"N8","v":112},{"$f":"COUNTIF(L14:L16,AD8)","v":0},{"$f":"AE8/(AG4-AE14)","v":0},{"$f":"IF(AF8=0,0,(AF8*((LOG(AF8))/LOG(2))))","v":0},null,{"$f":"N8","v":112},{"$f":"COUNTIF(L17:L19,AI8)","v":0},{"$f":"AJ8/(AL4-AJ14)","v":0},{"$f":"IF(AK8=0,0,(AK8*((LOG(AK8))/LOG(2))))","v":0},null,{"$f":"N8","v":112},{"$f":"COUNTIF(L20:L23,AN8)","v":0},{"$f":"AO8/(AQ4-AO14)","v":0},{"$f":"IF(AP8=0,0,(AP8*((LOG(AP8))/LOG(2))))","v":0},null,{"$f":"N8","v":112},{"$f":"COUNTIF(L24:L26,AS8)","v":1},{"$f":"AT8/(AV4-AT14)","v":0.33333333333333331},{"$f":"IF(AU8=0,0,(AU8*((LOG(AU8))/LOG(2))))","v":-0.52832083357371862}]
[21,1894,12,1899,23,1917,null,null,null,null,0,212,null,121,{"$f":"COUNTIF($L$7:$L$500,N9)","v":3},{"$f":"O9/$Q$4","v":0.15},{"$f":"IF(P9=0,0,(P9*((LOG(P9))/LOG(2))))","v":-0.41054483912493089},null,null,{"$f":"N9","v":121},{"$f":"COUNTIF(L7:L9,T9)","v":0},{"$f":"U9/(W4-U14)","v":0},{"$f":"IF(V9=0,0,(V9*((LOG(V9))/LOG(2))))","v":0},null,{"$f":"N9","v":121},{"$f":"COUNTIF(L10:L13,Y9)","v":1},{"$f":"Z9/(AB4-Z14)","v":0.5},{"$f":"IF(AA9=0,0,(AA9*((LOG(AA9))/LOG(2))))","v":-0.5},null,{"$f":"N9","v":121},{"$f":"COUNTIF(L14:L16,AD9)","v":1},{"$f":"AE9/(AG4-AE14)","v":0.33333333333333331},{"$f":"IF(AF9=0,0,(AF9*((LOG(AF9))/LOG(2))))","v":-0.52832083357371862},null,{"$f":"N9","v":121},{"$f":"COUNTIF(L17:L19,AI9)","v":0},{"$f":"AJ9/(AL4-AJ14)","v":0},{"$f":"IF(AK9=0,0,(AK9*((LOG(AK9))/LOG(2))))","v":0},null,{"$f":"N9","v":121},{"$f":"COUNTIF(L20:L23,AN9)","v":1},{"$f":"AO9/(AQ4-AO14)","v":0.25},{"$f":"IF(AP9=0,0,(AP9*((LOG(AP9))/LOG(2))))","v":-0.5},null,{"$f":"N9","v":121},{"$f":"COUNTIF(L24:L26,AS9)","v":0},{"$f":"AT9/(AV4-AT14)","v":0},{"$f":"IF(AU9=0,0,(AU9*((LOG(AU9))/LOG(2))))","v":0}]
[21,2160,21,2163,21,2166,null,null,null,null,0,222,null,122,{"$f":"COUNTIF($L$7:$L$500,N10)","v":1},{"$f":"O10/$Q$4","v":0.05},{"$f":"IF(P10=0,0,(P10*((LOG(P10))/LOG(2))))","v":-0.21609640474436814},null,null,{"$f":"N10","v":122},{"$f":"COUNTIF(L7:L9,T10)","v":1},{"$f":"U10/(W4-U14)","v":0.33333333333333331},{"$f":"IF(V10=0,0,(V10*((LOG(V10))/LOG(2))))","v":-0.52832083357371862},null,{"$f":"N10","v":122},{"$f":"COUNTIF(L10:L13,Y10)","v":0},{"$f":"Z10/(AB4-Z14)","v":0},{"$f":"IF(AA10=0,0,(AA10*((LOG(AA10))/LOG(2))))","v":0},null,{"$f":"N10","v":122},{"$f":"COUNTIF(L14:L16,AD10)","v":0},{"$f":"AE10/(AG4-AE14)","v":0},{"$f":"IF(AF10=0,0,(AF10*((LOG(AF10))/LOG(2))))","v":0},null,{"$f":"N10","v":122},{"$f":"COUNTIF(L17:L19,AI10)","v":0},{"$f":"AJ10/(AL4-AJ14)","v":0},{"$f":"IF(AK10=0,0,(AK10*((LOG(AK10))/LOG(2))))","v":0},null,{"$f":"N10","v":122},{"$f":"COUNTIF(L20:L23,AN10)","v":0},{"$f":"AO10/(AQ4-AO14)","v":0},{"$f":"IF(AP10=0,0,(AP10*((LOG(AP10))/LOG(2))))","v":0},null,{"$f":"N10","v":122},{"$f":"COUNTIF(L24:L26,AS10)","v":0},{"$f":"AT10/(AV4-AT14)","v":0},{"$f":"IF(AU10=0,0,(AU10*((LOG(AU10))/LOG(2))))","v":0}]
[12,2256,14,2283,14,2292,null,null,null,null,0,111,null,211,{"$f":"COUNTIF($L$7:$L$500,N11)","v":2},{"$f":"O11/$Q$4","v":0.1},{"$f":"IF(P11=0,0,(P11*((LOG(P11))/LOG(2))))","v":-0.33219280948873625},null,null,{"$f":"N11","v":211},{"$f":"COUNTIF(L7:L9,T11)","v":0},{"$f":"U11/(W4-U14)","v":0},{"$f":"IF(V11=0,0,(V11*((LOG(V11))/LOG(2))))","v":0},null,{"$f":"N11","v":211},{"$f":"COUNTIF(L10:L13,Y11)","v":0},{"$f":"Z11/(AB4-Z14)","v":0},{"$f":"IF(AA11=0,0,(AA11*((LOG(AA11))/LOG(2))))","v":0},null,{"$f":"N11","v":211},{"$f":"COUNTIF(L14:L16,AD11)","v":0},{"$f":"AE11/(AG4-AE14)","v":0},{"$f":"IF(AF11=0,0,(AF11*((LOG(AF11))/LOG(2))))","v":0},null,{"$f":"N11","v":211},{"$f":"COUNTIF(L17:L19,AI11)","v":0},{"$f":"AJ11/(AL4-AJ14)","v":0},{"$f":"IF(AK11=0,0,(AK11*((LOG(AK11))/LOG(2))))","v":0},null,{"$f":"N11","v":211},{"$f":"COUNTIF(L20:L23,AN11)","v":1},{"$f":"AO11/(AQ4-AO14)","v":0.25},{"$f":"IF(AP11=0,0,(AP11*((LOG(AP11))/LOG(2))))","v":-0.5},null,{"$f":"N11","v":211},{"$f":"COUNTIF(L24:L26,AS11)","v":1},{"$f":"AT11/(AV4-AT14)","v":0.33333333333333331},{"$f":"IF(AU11=0,0,(AU11*((LOG(AU11))/LOG(2))))","v":-0.52832083357371862}]
[21,2393,21,2397,21,2407,null,null,null,null,0,222,null,212,{"$f":"COUNTIF($L$7:$L$500,N12)","v":2},{"$f":"O12/$Q$4","v":0.1},{"$f":"IF(P12=0,0,(P12*((LOG(P12))/LOG(2))))","v":-0.33219280948873625},null,null,{"$f":"N12","v":212},{"$f":"COUNTIF(L7:L9,T12)","v":1},{"$f":"U12/(W4-U14)","v":0.33333333333333331},{"$f":"IF(V12=0,0,(V12*((LOG(V12))/LOG(2))))","v":-0.52832083357371862},null,{"$f":"N12","v":212},{"$f":"COUNTIF(L10:L13,Y12)","v":0},{"$f":"Z12/(AB4-Z14)","v":0},{"$f":"IF(AA12=0,0,(AA12*((LOG(AA12))/LOG(2))))","v":0},null,{"$f":"N12","v":212},{"$f":"COUNTIF(L14:L16,AD12)","v":1},{"$f":"AE12/(AG4-AE14)","v":0.33333333333333331},{"$f":"IF(AF12=0,0,(AF12*((LOG(AF12))/LOG(2))))","v":-0.52832083357371862},null,{"$f":"N12","v":212},{"$f":"COUNTIF(L17:L19,AI12)","v":0},{"$f":"AJ12/(AL4-AJ14)","v":0},{"$f":"IF(AK12=0,0,(AK12*((LOG(AK12))/LOG(2))))","v":0},null,{"$f":"N12","v":212},{"$f":"COUNTIF(L20:L23,AN12)","v":0},{"$f":"AO12/(AQ4-AO14)","v":0},{"$f":"IF(AP12=0,0,(AP12*((LOG(AP12))/LOG(2))))","v":0},null,{"$f":"N12","v":212},{"$f":"COUNTIF(L24:L26,AS12)","v":0},{"$f":"AT12/(AV4-AT14)","v":0},{"$f":"IF(AU12=0,0,(AU12*((LOG(AU12))/LOG(2))))","v":0}]
[12,2520,23,2535,14,2550,null,null,null,null,0,121,null,221,{"$f":"COUNTIF($L$7:$L$500,N13)","v":2},{"$f":"O13/$Q$4","v":0.1},{"$f":"IF(P13=0,0,(P13*((LOG(P13))/LOG(2))))","v":-0.33219280948873625},null,null,{"$f":"N13","v":221},{"$f":"COUNTIF(L7:L9,T13)","v":0},{"$f":"U13/(W4-U14)","v":0},{"$f":"IF(V13=0,0,(V13*((LOG(V13))/LOG(2))))","v":0},null,{"$f":"N13","v":221},{"$f":"COUNTIF(L10:L13,Y13)","v":0},{"$f":"Z13/(AB4-Z14)","v":0},{"$f":"IF(AA13=0,0,(AA13*((LOG(AA13))/LOG(2))))","v":0},null,{"$f":"N13","v":221},{"$f":"COUNTIF(L14:L16,AD13)","v":1},{"$f":"AE13/(AG4-AE14)","v":0.33333333333333331},{"$f":"IF(AF13=0,0,(AF13*((LOG(AF13))/LOG(2))))","v":-0.52832083357371862},null,{"$f":"N13","v":221},{"$f":"COUNTIF(L17:L19,AI13)","v":0},{"$f":"AJ13/(AL4-AJ14)","v":0},{"$f":"IF(AK13=0,0,(AK13*((LOG(AK13))/LOG(2))))","v":0},null,{"$f":"N13","v":221},{"$f":"COUNTIF(L20:L23,AN13)","v":1},{"$f":"AO13/(AQ4-AO14)","v":0.25},{"$f":"IF(AP13=0,0,(AP13*((LOG(AP13))/LOG(2))))","v":-0.5},null,{"$f":"N13","v":221},{"$f":"COUNTIF(L24:L26,AS13)","v":0},{"$f":"AT13/(AV4-AT14)","v":0},{"$f":"IF(AU13=0,0,(AU13*((LOG(AU13))/LOG(2))))","v":0}]
[12,2868,23,2881,14,2899,null,null,null,null,0,121,null,222,{"$f":"COUNTIF($L$7:$L$500,N14)","v":2},{"$f":"O14/$Q$4","v":0.1},{"$f":"IF(P14=0,0,(P14*((LOG(P14))/LOG(2))))","v":-0.33219280948873625},null,null,{"$f":"N14","v":222},{"$f":"COUNTIF(L7:L9,T14)","v":0},null,null,null,{"$f":"N14","v":222},{"$f":"COUNTIF(L10:L13,Y14)","v":2},null,null,null,{"$f":"N14","v":222},{"$f":"COUNTIF(L14:L16,AD14)","v":0},null,null,null,{"$f":"N14","v":222},{"$f":"COUNTIF(L17:L19,AI14)","v":0},null,null,null,{"$f":"N14","v":222},{"$f":"COUNTIF(L20:L23,AN14)","v":0},null,null,null,{"$f":"N14","v":222},{"$f":"COUNTIF(L24:L26,AS14)","v":0}]
[21,4331,21,4347,12,4356,null,null,null,null,0,221,null,null,null,{"$f":"SUM(P7:P14)","v":1},{"$f":"-SUM(Q7:Q14)","v":2.8086949695628416},null,null,null,null,{"$f":"SUM(V7:V14)","v":1},{"$f":"-SUM(W7:W14)","v":1.5849625007211559},null,null,null,{"$f":"SUM(AA7:AA14)","v":1},{"$f":"-SUM(AB7:AB14)","v":1},null,null,null,{"$f":"SUM(AF7:AF14)","v":1},{"$f":"-SUM(AG7:AG14)","v":1.5849625007211559},null,null,null,{"$f":"SUM(AK7:AK14)","v":1},{"$f":"-SUM(AL7:AL14)","v":0},null,null,null,{"$f":"SUM(AP7:AP14)","v":1},{"$f":"-SUM(AQ7:AQ14)","v":2},null,null,null,{"$f":"SUM(AU7:AU14)","v":1},{"$f":"-SUM(AV7:AV14)","v":1.5849625007211559}]
[21,4500,12,4513,23,4529,null,null,null,null,0,212,null,null,null,"U=",{"$f":"Q15/(LOG(Q4)/LOG(2))","v":0.64987082336825441},null,null,null,null,"U1=",{"$f":"W15/(LOG(W4)/LOG(2))","v":0.99999999999999989},null,null,null,"U2=",{"$f":"AB15/(LOG(AB4)/LOG(2))","v":0.5},null,null,null,"U3=",{"$f":"AG15/(LOG(AG4)/LOG(2))","v":0.99999999999999989},null,null,null,"U4=",{"$f":"AL15/(LOG(AL4)/LOG(2))","v":0},null,null,null,"U5=",{"$f":"AQ15/(LOG(AQ4)/LOG(2))","v":1},null,null,null,"U6=",{"$f":"AV15/(LOG(AV4)/LOG(2))","v":0.99999999999999989}]
[12,4632,14,4649,14,4677,null,null,null,null,0,111]
[12,6452,14,6460,14,6464,null,null,null,null,0,111]
[12,6902,14,6914,14,6921,null,null,null,null,0,111,null,"Total Target Seq"]
[21,7520,21,7523,12,7533,null,null,null,null,0,221,null,{"$f":"COUNTIF(L7:L26,G3)","v":2},null,3,4,3,3,4,3]
[21,7626,12,7632,14,7639,null,null,null,null,0,211,null,null,null,"% of reinforcement given in 6 equal intervals based on number of trials "]
[12,8056,23,8072,14,8075,null,null,null,null,0,121,null,null,null,"%_1","%_2","%_3","%_4","%_5","%_6"]
[12,16429,14,16446,14,16449,null,null,null,null,0,111,null,null,"target sequence",{"$f":"$G$3","v":222},{"$f":"$G$3","v":222},{"$f":"$G$3","v":222},{"$f":"$G$3","v":222},{"$f":"$G$3","v":222},{"$f":"$G$3","v":222}]
[21,16546,12,16568,14,16597,null,null,null,null,0,211,null,null,"total reinforcement",{"$f":"U14","v":0},{"$f":"Z14","v":2},{"$f":"AE14","v":0},{"$f":"AJ14","v":0},{"$f":"AO14","v":0},{"$f":"AT14","v":0}]
[12,20627,14,20629,23,20654,null,null,null,null,0,112,null,null,"% target"]
[12,20789,14,20803,14,20810,null,null,null,null,0,111,null,null,"CCRF"]
[null,null,null,null,null,null,null,null,null,null,null,null,null,null,"% CCRf"]
[null,null,null,null,null,null,null,null,null,null,null,null,null,null,"average response rate",{"$f":"F9/P20","v":639},{"$f":"(F13-F9)/Q20","v":158.25},{"$f":"(F16-F13)/R20","v":659.66666666666663},{"$f":"(F19-F16)/S20","v":797.33333333333337},{"$f":"(F23-F19)/T20","v":2382},{"$f":"(F26-F23)/U20","v":1453.6666666666667}]

{"sheet":"!N10293B.AXT","index":13,"n_rows":35,"n_cols":48,"rows_kept":35,"cut":false,"hidden":false,"merged":[[4,39,4,42],[5,39,5,40],[4,44,4,47],[5,44,5,45],[4,24,4,27],[5,24,5,25],[4,29,4,32],[5,29,5,30],[4,34,4,37],[5,34,5,35],[1,1,1,2],[5,13,5,14],[18,13,18,14],[19,13,19,14],[4,19,4,22],[5,19,5,20]]}
["Report for:!N10293B.AXT"]
["Date:","<date>"]
["Hen:","<hen>",null,null,null,"Correct Sequence",{"$f":"Start!J2","v":222},null,null,null,null,null,null,null,null,"Total Sequences in Data",{"$f":"4994-COUNTBLANK(L7:L5000)","v":29},null,null,null,null,"Total Sequences in Block Data",{"$f":"COUNTA(L7:L11)","v":5},null,null,null,"Total Sequences in Block Data",{"$f":"COUNTA(L12:L16)","v":5},null,null,null,"Total Sequences in Block Data",{"$f":"COUNTA(L17:L20)","v":4},null,null,null,"Total Sequences in Block Data",{"$f":"COUNTA(L21:L25)","v":5},null,null,null,"Total Sequences in Block Data",{"$f":"COUNTA(L26:L30)","v":5},null,null,null,"Total Sequences in Block Data",{"$f":"COUNTA(L31:L35)","v":5}]
[null,null,null,null,null,null,null,null,null,null,null,null,null,null,null,"Total Sequences in Summary",{"$f":"SUM(O7:O14)","v":29},null,null,null,null,"Total Sequences in Block Summary",{"$f":"SUM(U7:U14)","v":5},null,null,null,"Total Sequences in Block Summary",{"$f":"SUM(Z7:Z14)","v":5},null,null,null,"Total Sequences in Block Summary",{"$f":"SUM(AE7:AE14)","v":4},null,null,null,"Total Sequences in Block Summary",{"$f":"SUM(AJ7:AJ14)","v":5},null,null,null,"Total Sequences in Block Summary",{"$f":"SUM(AO7:AO14)","v":5},null,null,null,"Total Sequences in Block Summary",{"$f":"SUM(AT7:AT14)","v":5}]
[null,null,null,null,null,null,null,null,null,null,null,null,null,null,null,null,null,null,null,"Block 1",null,null,null,null,"Block 2",null,null,null,null,"Block 3",null,null,null,null,"Block 4",null,null,null,null,"Block 5",null,null,null,null,"Block 6"]
["Sequence\nComponent\n1","Time\n1","Sequence\nComponent\n2","Time\n2","Sequence\nComponent\n3","Time\n3","Sequence\nComponent\n4","Time\n4","Sequence\nComponent\n5","Time\n5","Correct?\n0=No 1=Yes","Sequence",null,"Frequency",null,"Relative Frequency","Variability",null,null,"Frequency",null,"Relative Frequency","Variability",null,"Frequency",null,"Relative Frequency","Variability",null,"Frequency",null,"Relative Frequency","Variability",null,"Frequency",null,"Relative Frequency","Variability",null,"Frequency",null,"Relative Frequency","Variability",null,"Frequency",null,"Relative Frequency","Variability"]
[12,1221,23,1232,23,1235,null,null,null,null,0,122,null,111,{"$f":"COUNTIF($L$7:$L$500,N7)","v":5},{"$f":"O7/$Q$4","v":0.17241379310344829},{"$f":"IF(P7=0,0,(P7*((LOG(P7))/LOG(2))))","v":-0.43725050004141547},null,null,{"$f":"N7","v":111},{"$f":"COUNTIF(L7:L11,T7)","v":0},{"$f":"U7/(W4-U14)","v":0},{"$f":"IF(V7=0,0,(V7*((LOG(V7))/LOG(2))))","v":0},null,{"$f":"N7","v":111},{"$f":"COUNTIF(L12:L16,Y7)","v":0},{"$f":"Z7/(AB4-Z14)","v":0},{"$f":"IF(AA7=0,0,(AA7*((LOG(AA7))/LOG(2))))","v":0},null,{"$f":"N7","v":111},{"$f":"COUNTIF(L17:L20,AD7)","v":2},{"$f":"AE7/(AG4-AE14)","v":1},{"$f":"IF(AF7=0,0,(AF7*((LOG(AF7))/LOG(2))))","v":0},null,{"$f":"N7","v":111},{"$f":"COUNTIF(L21:L25,AI7)","v":0},{"$f":"AJ7/(AL4-AJ14)","v":0},{"$f":"IF(AK7=0,0,(AK7*((LOG(AK7))/LOG(2))))","v":0},null,{"$f":"N7","v":111},{"$f":"COUNTIF(L26:L30,AN7)","v":2},{"$f":"AO7/(AQ4-AO14)","v":0.5},{"$f":"IF(AP7=0,0,(AP7*((LOG(AP7))/LOG(2))))","v":-0.5},null,{"$f":"N7","v":111},{"$f":"COUNTIF(L31:L35,AS7)","v":1},{"$f":"AT7/(AV4-AT14)","v":0.33333333333333331},{"$f":"IF(AU7=0,0,(AU7*((LOG(AU7))/LOG(2))))","v":-0.52832083357371862}]
[12,1356,23,1367,23,1370,null,null,null,null,0,122,null,112,{"$f":"COUNTIF($L$7:$L$500,N8)","v":2},{"$f":"O8/$Q$4","v":6.8965517241379309E-2},{"$f":"IF(P8=0,0,(P8*((LOG(P8))/LOG(2))))","v":-0.26606765483638428},null,null,{"$f":"N8","v":112},{"$f":"COUNTIF(L7:L11,T8)","v":0},{"$f":"U8/(W4-U14)","v":0},{"$f":"IF(V8=0,0,(V8*((LOG(V8))/LOG(2))))","v":0},null,{"$f":"N8","v":112},{"$f":"COUNTIF(L12:L16,Y8)","v":1},{"$f":"Z8/(AB4-Z14)","v":0.5},{"$f":"IF(AA8=0,0,(AA8*((LOG(AA8))/LOG(2))))","v":-0.5},null,{"$f":"N8","v":112},{"$f":"COUNTIF(L17:L20,AD8)","v":0},{"$f":"AE8/(AG4-AE14)","v":0},{"$f":"IF(AF8=0,0,(AF8*((LOG(AF8))/LOG(2))))","v":0},null,{"$f":"N8","v":112},{"$f":"COUNTIF(L21:L25,AI8)","v":1},{"$f":"AJ8/(AL4-AJ14)","v":0.33333333333333331},{"$f":"IF(AK8=0,0,(AK8*((LOG(AK8))/LOG(2))))","v":-0.52832083357371862},null,{"$f":"N8","v":112},{"$f":"COUNTIF(L26:L30,AN8)","v":0},{"$f":"AO8/(AQ4-AO14)","v":0},{"$f":"IF(AP8=0,0,(AP8*((LOG(AP8))/LOG(2))))","v":0},null,{"$f":"N8","v":112},{"$f":"COUNTIF(L31:L35,AS8)","v":0},{"$f":"AT8/(AV4-AT14)","v":0},{"$f":"IF(AU8=0,0,(AU8*((LOG(AU8))/LOG(2))))","v":0}]
[21,1465,12,1469,23,1494,null,null,null,null,0,212,null,121,{"$f":"COUNTIF($L$7:$L$500,N9)","v":0},{"$f":"O9/$Q$4","v":0},{"$f":"IF(P9=0,0,(P9*((LOG(P9))/LOG(2))))","v":0},null,null,{"$f":"N9","v":121},{"$f":"COUNTIF(L7:L11,T9)","v":0},{"$f":"U9/(W4-U14)","v":0},{"$f":"IF(V9=0,0,(V9*((LOG(V9))/LOG(2))))","v":0},null,{"$f":"N9","v":121},{"$f":"COUNTIF(L12:L16,Y9)","v":0},{"$f":"Z9/(AB4-Z14)","v":0},{"$f":"IF(AA9=0,0,(AA9*((LOG(AA9))/LOG(2))))","v":0},null,{"$f":"N9","v":121},{"$f":"COUNTIF(L17:L20,AD9)","v":0},{"$f":"AE9/(AG4-AE14)","v":0},{"$f":"IF(AF9=0,0,(AF9*((LOG(AF9))/LOG(2))))","v":0},null,{"$f":"N9","v":121},{"$f":"COUNTIF(L21:L25,AI9)","v":0},{"$f":"AJ9/(AL4-AJ14)","v":0},{"$f":"IF(AK9=0,0,(AK9*((LOG(AK9))/LOG(2))))","v":0},null,{"$f":"N9","v":121},{"$f":"COUNTIF(L26:L30,AN9)","v":0},{"$f":"AO9/(AQ4-AO14)","v":0},{"$f":"IF(AP9=0,0,(AP9*((LOG(AP9))/LOG(2))))","v":0},null,{"$f":"N9","v":121},{"$f":"COUNTIF(L31:L35,AS9)","v":0},{"$f":"AT9/(AV4-AT14)","v":0},{"$f":"IF(AU9=0,0,(AU9*((LOG(AU9))/LOG(2))))","v":0}]
[21,1610,12,1621,14,1629,null,null,null,null,0,211,null,122,{"$f":"COUNTIF($L$7:$L$500,N10)","v":3},{"$f":"O10/$Q$4","v":0.10344827586206896},{"$f":"IF(P10=0,0,(P10*((LOG(P10))/LOG(2))))","v":-0.33858812011100858},null,null,{"$f":"N10","v":122},{"$f":"COUNTIF(L7:L11,T10)","v":2},{"$f":"U10/(W4-U14)","v":0.5},{"$f":"IF(V10=0,0,(V10*((LOG(V10))/LOG(2))))","v":-0.5},null,{"$f":"N10","v":122},{"$f":"COUNTIF(L12:L16,Y10)","v":0},{"$f":"Z10/(AB4-Z14)","v":0},{"$f":"IF(AA10=0,0,(AA10*((LOG(AA10))/LOG(2))))","v":0},null,{"$f":"N10","v":122},{"$f":"COUNTIF(L17:L20,AD10)","v":0},{"$f":"AE10/(AG4-AE14)","v":0},{"$f":"IF(AF10=0,0,(AF10*((LOG(AF10))/LOG(2))))","v":0},null,{"$f":"N10","v":122},{"$f":"COUNTIF(L21:L25,AI10)","v":1},{"$f":"AJ10/(AL4-AJ14)","v":0.33333333333333331},{"$f":"IF(AK10=0,0,(AK10*((LOG(AK10))/LOG(2))))","v":-0.52832083357371862},null,{"$f":"N10","v":122},{"$f":"COUNTIF(L26:L30,AN10)","v":0},{"$f":"AO10/(AQ4-AO14)","v":0},{"$f":"IF(AP10=0,0,(AP10*((LOG(AP10))/LOG(2))))","v":0},null,{"$f":"N10","v":122},{"$f":"COUNTIF(L31:L35,AS10)","v":0},{"$f":"AT10/(AV4-AT14)","v":0},{"$f":"IF(AU10=0,0,(AU10*((LOG(AU10))/LOG(2))))","v":0}]
[21,1749,21,1756,21,1759,null,null,null,null,0,222,null,211,{"$f":"COUNTIF($L$7:$L$500,N11)","v":3},{"$f":"O11/$Q$4","v":0.10344827586206896},{"$f":"IF(P11=0,0,(P11*((LOG(P11))/LOG(2))))","v":-0.33858812011100858},null,null,{"$f":"N11","v":211},{"$f":"COUNTIF(L7:L11,T11)","v":1},{"$f":"U11/(W4-U14)","v":0.25},{"$f":"IF(V11=0,0,(V11*((LOG(V11))/LOG(2))))","v":-0.5},null,{"$f":"N11","v":211},{"$f":"COUNTIF(L12:L16,Y11)","v":0},{"$f":"Z11/(AB4-Z14)","v":0},{"$f":"IF(AA11=0,0,(AA11*((LOG(AA11))/LOG(2))))","v":0},null,{"$f":"N11","v":211},{"$f":"COUNTIF(L17:L20,AD11)","v":0},{"$f":"AE11/(AG4-AE14)","v":0},{"$f":"IF(AF11=0,0,(AF11*((LOG(AF11))/LOG(2))))","v":0},null,{"$f":"N11","v":211},{"$f":"COUNTIF(L21:L25,AI11)","v":1},{"$f":"AJ11/(AL4-AJ14)","v":0.33333333333333331},{"$f":"IF(AK11=0,0,(AK11*((LOG(AK11))/LOG(2))))","v":-0.52832083357371862},null,{"$f":"N11","v":211},{"$f":"COUNTIF(L26:L30,AN11)","v":1},{"$f":"AO11/(AQ4-AO14)","v":0.25},{"$f":"IF(AP11=0,0,(AP11*((LOG(AP11))/LOG(2))))","v":-0.5},null,{"$f":"N11","v":211},{"$f":"COUNTIF(L31:L35,AS11)","v":0},{"$f":"AT11/(AV4-AT14)","v":0},{"$f":"IF(AU11=0,0,(AU11*((LOG(AU11))/LOG(2))))","v":0}]
[21,1886,21,1893,21,1895,null,null,null,null,0,222,null,212,{"$f":"COUNTIF($L$7:$L$500,N12)","v":2},{"$f":"O12/$Q$4","v":6.8965517241379309E-2},{"$f":"IF(P12=0,0,(P12*((LOG(P12))/LOG(2))))","v":-0.26606765483638428},null,null,{"$f":"N12","v":212},{"$f":"COUNTIF(L7:L11,T12)","v":1},{"$f":"U12/(W4-U14)","v":0.25},{"$f":"IF(V12=0,0,(V12*((LOG(V12))/LOG(2))))","v":-0.5},null,{"$f":"N12","v":212},{"$f":"COUNTIF(L12:L16,Y12)","v":1},{"$f":"Z12/(AB4-Z14)","v":0.5},{"$f":"IF(AA12=0,0,(AA12*((LOG(AA12))/LOG(2))))","v":-0.5},null,{"$f":"N12","v":212},{"$f":"COUNTIF(L17:L20,AD12)","v":0},{"$f":"AE12/(AG4-AE14)","v":0},{"$f":"IF(AF12=0,0,(AF12*((LOG(AF12))/LOG(2))))","v":0},null,{"$f":"N12","v":212},{"$f":"COUNTIF(L21:L25,AI12)","v":0},{"$f":"AJ12/(AL4-AJ14)","v":0},{"$f":"IF(AK12=0,0,(AK12*((LOG(AK12))/LOG(2))))","v":0},null,{"$f":"N12","v":212},{"$f":"COUNTIF(L26:L30,AN12)","v":0},{"$f":"AO12/(AQ4-AO14)","v":0},{"$f":"IF(AP12=0,0,(AP12*((LOG(AP12))/LOG(2))))","v":0},null,{"$f":"N12","v":212},{"$f":"COUNTIF(L31:L35,AS12)","v":0},{"$f":"AT12/(AV4-AT14)","v":0},{"$f":"IF(AU12=0,0,(AU12*((LOG(AU12))/LOG(2))))","v":0}]
[21,1992,12,2003,23,2018,null,null,null,null,0,212,null,221,{"$f":"COUNTIF($L$7:$L$500,N13)","v":3},{"$f":"O13/$Q$4","v":0.10344827586206896},{"$f":"IF(P13=0,0,(P13*((LOG(P13))/LOG(2))))","v":-0.33858812011100858},null,null,{"$f":"N13","v":221},{"$f":"COUNTIF(L7:L11,T13)","v":0},{"$f":"U13/(W4-U14)","v":0},{"$f":"IF(V13=0,0,(V13*((LOG(V13))/LOG(2))))","v":0},null,{"$f":"N13","v":221},{"$f":"COUNTIF(L12:L16,Y13)","v":0},{"$f":"Z13/(AB4-Z14)","v":0},{"$f":"IF(AA13=0,0,(AA13*((LOG(AA13))/LOG(2))))","v":0},null,{"$f":"N13","v":221},{"$f":"COUNTIF(L17:L20,AD13)","v":0},{"$f":"AE13/(AG4-AE14)","v":0},{"$f":"IF(AF13=0,0,(AF13*((LOG(AF13))/LOG(2))))","v":0},null,{"$f":"N13","v":221},{"$f":"COUNTIF(L21:L25,AI13)","v":0},{"$f":"AJ13/(AL4-AJ14)","v":0},{"$f":"IF(AK13=0,0,(AK13*((LOG(AK13))/LOG(2))))","v":0},null,{"$f":"N13","v":221},{"$f":"COUNTIF(L26:L30,AN13)","v":1},{"$f":"AO13/(AQ4-AO14)","v":0.25},{"$f":"IF(AP13=0,0,(AP13*((LOG(AP13))/LOG(2))))","v":-0.5},null,{"$f":"N13","v":221},{"$f":"COUNTIF(L31:L35,AS13)","v":2},{"$f":"AT13/(AV4-AT14)","v":0.66666666666666663},{"$f":"IF(AU13=0,0,(AU13*((LOG(AU13))/LOG(2))))","v":-0.38997500048077083}]
[12,2113,14,2115,23,2119,null,null,null,null,0,112,null,222,{"$f":"COUNTIF($L$7:$L$500,N14)","v":11},{"$f":"O14/$Q$4","v":0.37931034482758619},{"$f":"IF(P14=0,0,(P14*((LOG(P14))/LOG(2))))","v":-0.53048424625493174},null,null,{"$f":"N14","v":222},{"$f":"COUNTIF(L7:L11,T14)","v":1},null,null,null,{"$f":"N14","v":222},{"$f":"COUNTIF(L12:L16,Y14)","v":3},null,null,null,{"$f":"N14","v":222},{"$f":"COUNTIF(L17:L20,AD14)","v":2},null,null,null,{"$f":"N14","v":222},{"$f":"COUNTIF(L21:L25,AI14)","v":2},null,null,null,{"$f":"N14","v":222},{"$f":"COUNTIF(L26:L30,AN14)","v":1},null,null,null,{"$f":"N14","v":222},{"$f":"COUNTIF(L31:L35,AS14)","v":2}]
[21,2255,21,2263,21,2272,null,null,null,null,0,222,null,null,null,{"$f":"SUM(P7:P14)","v":1},{"$f":"-SUM(Q7:Q14)","v":2.5156344163021416},null,null,null,null,{"$f":"SUM(V7:V14)","v":1},{"$f":"-SUM(W7:W14)","v":1.5},null,null,null,{"$f":"SUM(AA7:AA14)","v":1},{"$f":"-SUM(AB7:AB14)","v":1},null,null,null,{"$f":"SUM(AF7:AF14)","v":1},{"$f":"-SUM(AG7:AG14)","v":0},null,null,null,{"$f":"SUM(AK7:AK14)","v":1},{"$f":"-SUM(AL7:AL14)","v":1.5849625007211559},null,null,null,{"$f":"SUM(AP7:AP14)","v":1},{"$f":"-SUM(AQ7:AQ14)","v":1.5},null,null,null,{"$f":"SUM(AU7:AU14)","v":1},{"$f":"-SUM(AV7:AV14)","v":0.91829583405448945}]
[21,2387,21,2391,21,2394,null,null,null,null,0,222,null,null,null,"U=",{"$f":"Q15/(LOG(Q4)/LOG(2))","v":0.5178353762242498},null,null,null,null,"U1=",{"$f":"W15/(LOG(W4)/LOG(2))","v":0.64601483711008945},null,null,null,"U2=",{"$f":"AB15/(LOG(AB4)/LOG(2))","v":0.430676558073393},null,null,null,"U3=",{"$f":"AG15/(LOG(AG4)/LOG(2))","v":0},null,null,null,"U4=",{"$f":"AL15/(LOG(AL4)/LOG(2))","v":0.68260619448598503},null,null,null,"U5=",{"$f":"AQ15/(LOG(AQ4)/LOG(2))","v":0.64601483711008945},null,null,null,"U6=",{"$f":"AV15/(LOG(AV4)/LOG(2))","v":0.3954884891037232}]
[12,2484,14,2488,14,2494,null,null,null,null,0,111]
[21,2635,21,2641,21,2643,null,null,null,null,0,222]
[12,2740,14,2743,14,2761,null,null,null,null,0,111,null,"Total Target Seq"]
[21,2936,21,2941,21,2951,null,null,null,null,0,222,null,{"$f":"COUNTIF(L7:L35,G3)","v":11},null,5,5,4,5,5,5]
[21,3059,21,3062,21,3067,null,null,null,null,0,222,null,null,null,"% of reinforcement given in 6 equal intervals based on number of trials "]
[12,3159,23,3163,23,3179,null,null,null,null,0,122,null,null,null,"%_1","%_2","%_3","%_4","%_5","%_6"]
[21,3272,12,3292,14,3300,null,null,null,null,0,211,null,null,"target sequence",{"$f":"$G$3","v":222},{"$f":"$G$3","v":222},{"$f":"$G$3","v":222},{"$f":"$G$3","v":222},{"$f":"$G$3","v":222},{"$f":"$G$3","v":222}]
[12,3417,14,3424,23,3428,null,null,null,null,0,112,null,null,"total reinforcement",{"$f":"U14","v":1},{"$f":"Z14","v":3},{"$f":"AE14","v":2},{"$f":"AJ14","v":2},{"$f":"AO14","v":1},{"$f":"AT14","v":2}]
[21,3770,21,3774,21,3806,null,null,null,null,0,222,null,null,"% target"]
[12,3913,14,3918,14,3923,null,null,null,null,0,111,null,null,"CCRF"]
[21,4079,21,4082,21,4089,null,null,null,null,0,222,null,null,"% CCRf"]
[12,4180,14,4201,14,4204,null,null,null,null,0,111,null,null,"average response rate",{"$f":"F11/P20","v":351.8},{"$f":"(F16-F11)/Q20","v":127},{"$f":"(F20-F16)/R20","v":139.25},{"$f":"(F25-F20)/S20","v":171},{"$f":"(F30-F25)/T20","v":155.19999999999999},{"$f":"(F35-F30)/U20","v":3090.4}]
[21,4301,21,4320,12,4346,null,null,null,null,0,221]
[21,4565,12,4577,14,4582,null,null,null,null,0,211]
[21,6155,21,6204,21,6209,null,null,null,null,0,222]
[21,11599,21,11604,12,11625,null,null,null,null,0,221]
[12,11735,14,11742,14,11757,null,null,null,null,0,111]
[21,19902,21,19914,21,19923,null,null,null,null,0,222]
[21,20017,21,20023,12,20034,null,null,null,null,0,221]

{"sheet":"!N103A1B.AXT","index":14,"n_rows":65,"n_cols":48,"rows_kept":65,"cut":false,"hidden":false,"merged":[[4,39,4,42],[5,39,5,40],[4,44,4,47],[5,44,5,45],[4,24,4,27],[5,24,5,25],[4,29,4,32],[5,29,5,30],[4,34,4,37],[5,34,5,35],[1,1,1,2],[5,13,5,14],[18,13,18,14],[19,13,19,14],[4,19,4,22],[5,19,5,20]]}
["Report for:!N103A1B.AXT"]
["Date:","<date>"]
["Hen:","<hen>",null,null,null,"Correct Sequence",{"$f":"Start!J2","v":222},null,null,null,null,null,null,null,null,"Total Sequences in Data",{"$f":"4994-COUNTBLANK(L7:L5000)","v":59},null,null,null,null,"Total Sequences in Block Data",{"$f":"COUNTA(L7:L16)","v":10},null,null,null,"Total Sequences in Block Data",{"$f":"COUNTA(L17:L26)","v":10},null,null,null,"Total Sequences in Block Data",{"$f":"COUNTA(L27:L35)","v":9},null,null,null,"Total Sequences in Block Data",{"$f":"COUNTA(L36:L45)","v":10},null,null,null,"Total Sequences in Block Data",{"$f":"COUNTA(L46:L55)","v":10},null,null,null,"Total Sequences in Block Data",{"$f":"COUNTA(L56:L65)","v":10}]
[null,null,null,null,null,null,null,null,null,null,null,null,null,null,null,"Total Sequences in Summary",{"$f":"SUM(O7:O14)","v":59},null,null,null,null,"Total Sequences in Block Summary",{"$f":"SUM(U7:U14)","v":10},null,null,null,"Total Sequences in Block Summary",{"$f":"SUM(Z7:Z14)","v":10},null,null,null,"Total Sequences in Block Summary",{"$f":"SUM(AE7:AE14)","v":9},null,null,null,"Total Sequences in Block Summary",{"$f":"SUM(AJ7:AJ14)","v":10},null,null,null,"Total Sequences in Block Summary",{"$f":"SUM(AO7:AO14)","v":10},null,null,null,"Total Sequences in Block Summary",{"$f":"SUM(AT7:AT14)","v":10}]
[null,null,null,null,null,null,null,null,null,null,null,null,null,null,null,null,null,null,null,"Block 1",null,null,null,null,"Block 2",null,null,null,null,"Block 3",null,null,null,null,"Block 4",null,null,null,null,"Block 5",null,null,null,null,"Block 6"]
["Sequence\nComponent\n1","Time\n1","Sequence\nComponent\n2","Time\n2","Sequence\nComponent\n3","Time\n3","Sequence\nComponent\n4","Time\n4","Sequence\nComponent\n5","Time\n5","Correct?\n0=No 1=Yes","Sequence",null,"Frequency",null,"Relative Frequency","Variability",null,null,"Frequency",null,"Relative Frequency","Variability",null,"Frequency",null,"Relative Frequency","Variability",null,"Frequency",null,"Relative Frequency","Variability",null,"Frequency",null,"Relative Frequency","Variability",null,"Frequency",null,"Relative Frequency","Variability",null,"Frequency",null,"Relative Frequency","Variability"]
[21,11,21,13,21,23,null,null,null,null,0,222,null,111,{"$f":"COUNTIF($L$7:$L$500,N7)","v":3},{"$f":"O7/$Q$4","v":5.0847457627118647E-2},{"$f":"IF(P7=0,0,(P7*((LOG(P7))/LOG(2))))","v":-0.21852612959189924},null,null,{"$f":"N7","v":111},{"$f":"COUNTIF(L7:L16,T7)","v":1},{"$f":"U7/(W4-U14)","v":0.2},{"$f":"IF(V7=0,0,(V7*((LOG(V7))/LOG(2))))","v":-0.46438561897747244},null,{"$f":"N7","v":111},{"$f":"COUNTIF(L17:L26,Y7)","v":0},{"$f":"Z7/(AB4-Z14)","v":0},{"$f":"IF(AA7=0,0,(AA7*((LOG(AA7))/LOG(2))))","v":0},null,{"$f":"N7","v":111},{"$f":"COUNTIF(L27:L35,AD7)","v":0},{"$f":"AE7/(AG4-AE14)","v":0},{"$f":"IF(AF7=0,0,(AF7*((LOG(AF7))/LOG(2))))","v":0},null,{"$f":"N7","v":111},{"$f":"COUNTIF(L36:L45,AI7)","v":2},{"$f":"AJ7/(AL4-AJ14)","v":0.5},{"$f":"IF(AK7=0,0,(AK7*((LOG(AK7))/LOG(2))))","v":-0.5},null,{"$f":"N7","v":111},{"$f":"COUNTIF(L46:L55,AN7)","v":0},{"$f":"AO7/(AQ4-AO14)","v":{"$error":"#DIV/0!"}},{"$f":"IF(AP7=0,0,(AP7*((LOG(AP7))/LOG(2))))","v":{"$error":"#DIV/0!"}},null,{"$f":"N7","v":111},{"$f":"COUNTIF(L56:L65,AS7)","v":0},{"$f":"AT7/(AV4-AT14)","v":0},{"$f":"IF(AU7=0,0,(AU7*((LOG(AU7))/LOG(2))))","v":0}]
[21,112,12,124,23,140,null,null,null,null,0,212,null,112,{"$f":"COUNTIF($L$7:$L$500,N8)","v":2},{"$f":"O8/$Q$4","v":3.3898305084745763E-2},{"$f":"IF(P8=0,0,(P8*((LOG(P8))/LOG(2))))","v":-0.16551332370718108},null,null,{"$f":"N8","v":112},{"$f":"COUNTIF(L7:L16,T8)","v":0},{"$f":"U8/(W4-U14)","v":0},{"$f":"IF(V8=0,0,(V8*((LOG(V8))/LOG(2))))","v":0},null,{"$f":"N8","v":112},{"$f":"COUNTIF(L17:L26,Y8)","v":0},{"$f":"Z8/(AB4-Z14)","v":0},{"$f":"IF(AA8=0,0,(AA8*((LOG(AA8))/LOG(2))))","v":0},null,{"$f":"N8","v":112},{"$f":"COUNTIF(L27:L35,AD8)","v":2},{"$f":"AE8/(AG4-AE14)","v":0.33333333333333331},{"$f":"IF(AF8=0,0,(AF8*((LOG(AF8))/LOG(2))))","v":-0.52832083357371862},null,{"$f":"N8","v":112},{"$f":"COUNTIF(L36:L45,AI8)","v":0},{"$f":"AJ8/(AL4-AJ14)","v":0},{"$f":"IF(AK8=0,0,(AK8*((LOG(AK8))/LOG(2))))","v":0},null,{"$f":"N8","v":112},{"$f":"COUNTIF(L46:L55,AN8)","v":0},{"$f":"AO8/(AQ4-AO14)","v":{"$error":"#DIV/0!"}},{"$f":"IF(AP8=0,0,(AP8*((LOG(AP8))/LOG(2))))","v":{"$error":"#DIV/0!"}},null,{"$f":"N8","v":112},{"$f":"COUNTIF(L56:L65,AS8)","v":0},{"$f":"AT8/(AV4-AT14)","v":0},{"$f":"IF(AU8=0,0,(AU8*((LOG(AU8))/LOG(2))))","v":0}]
[12,236,14,245,14,253,null,null,null,null,0,111,null,121,{"$f":"COUNTIF($L$7:$L$500,N9)","v":1},{"$f":"O9/$Q$4","v":1.6949152542372881E-2},{"$f":"IF(P9=0,0,(P9*((LOG(P9))/LOG(2))))","v":-9.9705814395963419E-2},null,null,{"$f":"N9","v":121},{"$f":"COUNTIF(L7:L16,T9)","v":0},{"$f":"U9/(W4-U14)","v":0},{"$f":"IF(V9=0,0,(V9*((LOG(V9))/LOG(2))))","v":0},null,{"$f":"N9","v":121},{"$f":"COUNTIF(L17:L26,Y9)","v":0},{"$f":"Z9/(AB4-Z14)","v":0},{"$f":"IF(AA9=0,0,(AA9*((LOG(AA9))/LOG(2))))","v":0},null,{"$f":"N9","v":121},{"$f":"COUNTIF(L27:L35,AD9)","v":0},{"$f":"AE9/(AG4-AE14)","v":0},{"$f":"IF(AF9=0,0,(AF9*((LOG(AF9))/LOG(2))))","v":0},null,{"$f":"N9","v":121},{"$f":"COUNTIF(L36:L45,AI9)","v":1},{"$f":"AJ9/(AL4-AJ14)","v":0.25},{"$f":"IF(AK9=0,0,(AK9*((LOG(AK9))/LOG(2))))","v":-0.5},null,{"$f":"N9","v":121},{"$f":"COUNTIF(L46:L55,AN9)","v":0},{"$f":"AO9/(AQ4-AO14)","v":{"$error":"#DIV/0!"}},{"$f":"IF(AP9=0,0,(AP9*((LOG(AP9))/LOG(2))))","v":{"$error":"#DIV/0!"}},null,{"$f":"N9","v":121},{"$f":"COUNTIF(L56:L65,AS9)","v":0},{"$f":"AT9/(AV4-AT14)","v":0},{"$f":"IF(AU9=0,0,(AU9*((LOG(AU9))/LOG(2))))","v":0}]
[21,599,21,602,21,606,null,null,null,null,0,222,null,122,{"$f":"COUNTIF($L$7:$L$500,N10)","v":4},{"$f":"O10/$Q$4","v":6.7796610169491525E-2},{"$f":"IF(P10=0,0,(P10*((LOG(P10))/LOG(2))))","v":-0.2632300372448706},null,null,{"$f":"N10","v":122},{"$f":"COUNTIF(L7:L16,T10)","v":0},{"$f":"U10/(W4-U14)","v":0},{"$f":"IF(V10=0,0,(V10*((LOG(V10))/LOG(2))))","v":0},null,{"$f":"N10","v":122},{"$f":"COUNTIF(L17:L26,Y10)","v":2},{"$f":"Z10/(AB4-Z14)","v":0.5},{"$f":"IF(AA10=0,0,(AA10*((LOG(AA10))/LOG(2))))","v":-0.5},null,{"$f":"N10","v":122},{"$f":"COUNTIF(L27:L35,AD10)","v":1},{"$f":"AE10/(AG4-AE14)","v":0.16666666666666666},{"$f":"IF(AF10=0,0,(AF10*((LOG(AF10))/LOG(2))))","v":-0.43082708345352599},null,{"$f":"N10","v":122},{"$f":"COUNTIF(L36:L45,AI10)","v":1},{"$f":"AJ10/(AL4-AJ14)","v":0.25},{"$f":"IF(AK10=0,0,(AK10*((LOG(AK10))/LOG(2))))","v":-0.5},null,{"$f":"N10","v":122},{"$f":"COUNTIF(L46:L55,AN10)","v":0},{"$f":"AO10/(AQ4-AO14)","v":{"$error":"#DIV/0!"}},{"$f":"IF(AP10=0,0,(AP10*((LOG(AP10))/LOG(2))))","v":{"$error":"#DIV/0!"}},null,{"$f":"N10","v":122},{"$f":"COUNTIF(L56:L65,AS10)","v":0},{"$f":"AT10/(AV4-AT14)","v":0},{"$f":"IF(AU10=0,0,(AU10*((LOG(AU10))/LOG(2))))","v":0}]
[21,703,12,706,23,716,null,null,null,null,0,212,null,211,{"$f":"COUNTIF($L$7:$L$500,N11)","v":3},{"$f":"O11/$Q$4","v":5.0847457627118647E-2},{"$f":"IF(P11=0,0,(P11*((LOG(P11))/LOG(2))))","v":-0.21852612959189924},null,null,{"$f":"N11","v":211},{"$f":"COUNTIF(L7:L16,T11)","v":0},{"$f":"U11/(W4-U14)","v":0},{"$f":"IF(V11=0,0,(V11*((LOG(V11))/LOG(2))))","v":0},null,{"$f":"N11","v":211},{"$f":"COUNTIF(L17:L26,Y11)","v":1},{"$f":"Z11/(AB4-Z14)","v":0.25},{"$f":"IF(AA11=0,0,(AA11*((LOG(AA11))/LOG(2))))","v":-0.5},null,{"$f":"N11","v":211},{"$f":"COUNTIF(L27:L35,AD11)","v":2},{"$f":"AE11/(AG4-AE14)","v":0.33333333333333331},{"$f":"IF(AF11=0,0,(AF11*((LOG(AF11))/LOG(2))))","v":-0.52832083357371862},null,{"$f":"N11","v":211},{"$f":"COUNTIF(L36:L45,AI11)","v":0},{"$f":"AJ11/(AL4-AJ14)","v":0},{"$f":"IF(AK11=0,0,(AK11*((LOG(AK11))/LOG(2))))","v":0},null,{"$f":"N11","v":211},{"$f":"COUNTIF(L46:L55,AN11)","v":0},{"$f":"AO11/(AQ4-AO14)","v":{"$error":"#DIV/0!"}},{"$f":"IF(AP11=0,0,(AP11*((LOG(AP11))/LOG(2))))","v":{"$error":"#DIV/0!"}},null,{"$f":"N11","v":211},{"$f":"COUNTIF(L56:L65,AS11)","v":0},{"$f":"AT11/(AV4-AT14)","v":0},{"$f":"IF(AU11=0,0,(AU11*((LOG(AU11))/LOG(2))))","v":0}]
[21,863,12,876,23,889,null,null,null,null,0,212,null,212,{"$f":"COUNTIF($L$7:$L$500,N12)","v":5},{"$f":"O12/$Q$4","v":8.4745762711864403E-2},{"$f":"IF(P12=0,0,(P12*((LOG(P12))/LOG(2))))","v":-0.30175550461648132},null,null,{"$f":"N12","v":212},{"$f":"COUNTIF(L7:L16,T12)","v":3},{"$f":"U12/(W4-U14)","v":0.6},{"$f":"IF(V12=0,0,(V12*((LOG(V12))/LOG(2))))","v":-0.44217935649972373},null,{"$f":"N12","v":212},{"$f":"COUNTIF(L17:L26,Y12)","v":0},{"$f":"Z12/(AB4-Z14)","v":0},{"$f":"IF(AA12=0,0,(AA12*((LOG(AA12))/LOG(2))))","v":0},null,{"$f":"N12","v":212},{"$f":"COUNTIF(L27:L35,AD12)","v":1},{"$f":"AE12/(AG4-AE14)","v":0.16666666666666666},{"$f":"IF(AF12=0,0,(AF12*((LOG(AF12))/LOG(2))))","v":-0.43082708345352599},null,{"$f":"N12","v":212},{"$f":"COUNTIF(L36:L45,AI12)","v":0},{"$f":"AJ12/(AL4-AJ14)","v":0},{"$f":"IF(AK12=0,0,(AK12*((LOG(AK12))/LOG(2))))","v":0},null,{"$f":"N12","v":212},{"$f":"COUNTIF(L46:L55,AN12)","v":0},{"$f":"AO12/(AQ4-AO14)","v":{"$error":"#DIV/0!"}},{"$f":"IF(AP12=0,0,(AP12*((LOG(AP12))/LOG(2))))","v":{"$error":"#DIV/0!"}},null,{"$f":"N12","v":212},{"$f":"COUNTIF(L56:L65,AS12)","v":1},{"$f":"AT12/(AV4-AT14)","v":0.33333333333333331},{"$f":"IF(AU12=0,0,(AU12*((LOG(AU12))/LOG(2))))","v":-0.52832083357371862}]
[21,985,21,996,12,1012,null,null,null,null,0,221,null,221,{"$f":"COUNTIF($L$7:$L$500,N13)","v":4},{"$f":"O13/$Q$4","v":6.7796610169491525E-2},{"$f":"IF(P13=0,0,(P13*((LOG(P13))/LOG(2))))","v":-0.2632300372448706},null,null,{"$f":"N13","v":221},{"$f":"COUNTIF(L7:L16,T13)","v":1},{"$f":"U13/(W4-U14)","v":0.2},{"$f":"IF(V13=0,0,(V13*((LOG(V13))/LOG(2))))","v":-0.46438561897747244},null,{"$f":"N13","v":221},{"$f":"COUNTIF(L17:L26,Y13)","v":1},{"$f":"Z13/(AB4-Z14)","v":0.25},{"$f":"IF(AA13=0,0,(AA13*((LOG(AA13))/LOG(2))))","v":-0.5},null,{"$f":"N13","v":221},{"$f":"COUNTIF(L27:L35,AD13)","v":0},{"$f":"AE13/(AG4-AE14)","v":0},{"$f":"IF(AF13=0,0,(AF13*((LOG(AF13))/LOG(2))))","v":0},null,{"$f":"N13","v":221},{"$f":"COUNTIF(L36:L45,AI13)","v":0},{"$f":"AJ13/(AL4-AJ14)","v":0},{"$f":"IF(AK13=0,0,(AK13*((LOG(AK13))/LOG(2))))","v":0},null,{"$f":"N13","v":221},{"$f":"COUNTIF(L46:L55,AN13)","v":0},{"$f":"AO13/(AQ4-AO14)","v":{"$error":"#DIV/0!"}},{"$f":"IF(AP13=0,0,(AP13*((LOG(AP13))/LOG(2))))","v":{"$error":"#DIV/0!"}},null,{"$f":"N13","v":221},{"$f":"COUNTIF(L56:L65,AS13)","v":2},{"$f":"AT13/(AV4-AT14)","v":0.66666666666666663},{"$f":"IF(AU13=0,0,(AU13*((LOG(AU13))/LOG(2))))","v":-0.38997500048077083}]
[21,1182,21,1194,21,1215,null,null,null,null,0,222,null,222,{"$f":"COUNTIF($L$7:$L$500,N14)","v":37},{"$f":"O14/$Q$4","v":0.6271186440677966},{"$f":"IF(P14=0,0,(P14*((LOG(P14))/LOG(2))))","v":-0.42216980166299972},null,null,{"$f":"N14","v":222},{"$f":"COUNTIF(L7:L16,T14)","v":5},null,null,null,{"$f":"N14","v":222},{"$f":"COUNTIF(L17:L26,Y14)","v":6},null,null,null,{"$f":"N14","v":222},{"$f":"COUNTIF(L27:L35,AD14)","v":3},null,null,null,{"$f":"N14","v":222},{"$f":"COUNTIF(L36:L45,AI14)","v":6},null,null,null,{"$f":"N14","v":222},{"$f":"COUNTIF(L46:L55,AN14)","v":10},null,null,null,{"$f":"N14","v":222},{"$f":"COUNTIF(L56:L65,AS14)","v":7}]
[21,1385,21,1389,21,1393,null,null,null,null,0,222,null,null,null,{"$f":"SUM(P7:P14)","v":1},{"$f":"-SUM(Q7:Q14)","v":1.9526567780561652},null,null,null,null,{"$f":"SUM(V7:V14)","v":1},{"$f":"-SUM(W7:W14)","v":1.3709505944546687},null,null,null,{"$f":"SUM(AA7:AA14)","v":1},{"$f":"-SUM(AB7:AB14)","v":1.5},null,null,null,{"$f":"SUM(AF7:AF14)","v":0.99999999999999989},{"$f":"-SUM(AG7:AG14)","v":1.9182958340544891},null,null,null,{"$f":"SUM(AK7:AK14)","v":1},{"$f":"-SUM(AL7:AL14)","v":1.5},null,null,null,{"$f":"SUM(AP7:AP14)","v":{"$error":"#DIV/0!"}},{"$f":"-SUM(AQ7:AQ14)","v":{"$error":"#DIV/0!"}},null,null,null,{"$f":"SUM(AU7:AU14)","v":1},{"$f":"-SUM(AV7:AV14)","v":0.91829583405448945}]
[21,1601,21,1605,21,1609,null,null,null,null,0,222,null,null,null,"U=",{"$f":"Q15/(LOG(Q4)/LOG(2))","v":0.33193528175536546},null,null,null,null,"U1=",{"$f":"W15/(LOG(W4)/LOG(2))","v":0.41269725150422137},null,null,null,"U2=",{"$f":"AB15/(LOG(AB4)/LOG(2))","v":0.45154499349597182},null,null,null,"U3=",{"$f":"AG15/(LOG(AG4)/LOG(2))","v":0.60515495892857618},null,null,null,"U4=",{"$f":"AL15/(LOG(AL4)/LOG(2))","v":0.45154499349597182},null,null,null,"U5=",{"$f":"AQ15/(LOG(AQ4)/LOG(2))","v":{"$error":"#DIV/0!"}},null,null,null,"U6=",{"$f":"AV15/(LOG(AV4)/LOG(2))","v":0.27643459094367495}]
[21,1719,21,1724,21,1730,null,null,null,null,0,222]
[21,1963,21,1968,21,1973,null,null,null,null,0,222]
[21,2150,21,2156,21,2159,null,null,null,null,0,222,null,"Total Target Seq"]
[21,2254,21,2260,21,2265,null,null,null,null,0,222,null,{"$f":"COUNTIF(L7:L65,G3)","v":37},null,10,10,9,10,10,10]
[21,2498,21,2503,21,2508,null,null,null,null,0,222,null,null,null,"% of reinforcement given in 6 equal intervals based on number of trials "]
[21,2644,21,2650,21,2654,null,null,null,null,0,222,null,null,null,"%_1","%_2","%_3","%_4","%_5","%_6"]
[12,2759,23,2770,23,2774,null,null,null,null,0,122,null,null,"target sequence",{"$f":"$G$3","v":222},{"$f":"$G$3","v":222},{"$f":"$G$3","v":222},{"$f":"$G$3","v":222},{"$f":"$G$3","v":222},{"$f":"$G$3","v":222}]
[21,2869,21,2875,12,2881,null,null,null,null,0,221,null,null,"total reinforcement",{"$f":"U14","v":5},{"$f":"Z14","v":6},{"$f":"AE14","v":3},{"$f":"AJ14","v":6},{"$f":"AO14","v":10},{"$f":"AT14","v":7}]
[21,2979,12,2995,14,3027,null,null,null,null,0,211,null,null,"% target"]
[12,3129,23,3156,23,3160,null,null,null,null,0,122,null,null,"CCRF"]
[21,3457,21,3460,21,3464,null,null,null,null,0,222,null,null,"% CCRf"]
[21,3558,12,3570,14,3577,null,null,null,null,0,211,null,null,"average response rate",{"$f":"F16/P20","v":160.9},{"$f":"(F26-F16)/Q20","v":155.1},{"$f":"(F35-F26)/R20","v":814.11111111111109},{"$f":"(F45-F35)/S20","v":141.1},{"$f":"(F55-F45)/T20","v":188.8},{"$f":"(F65-F55)/U20","v":160.9}]
[21,3678,21,3682,21,3687,null,null,null,null,0,222]
[21,3778,12,3785,23,3805,null,null,null,null,0,212]
[12,3899,23,3910,23,3921,null,null,null,null,0,122]
[21,4096,21,4102,21,4106,null,null,null,null,0,222]
[12,4340,14,4349,23,4351,null,null,null,null,0,112]
[12,4453,14,4457,23,4469,null,null,null,null,0,112]
[21,10461,12,10474,14,10487,null,null,null,null,0,211]
[12,10617,23,10624,23,10630,null,null,null,null,0,122]
[12,10812,14,10825,14,10840,null,null,null,null,0,111]
[12,10951,23,10967,14,10971,null,null,null,null,0,121]
[12,11070,14,11074,14,11078,null,null,null,null,0,111]
[21,11173,21,11179,21,11185,null,null,null,null,0,222]
[21,11272,21,11275,21,11284,null,null,null,null,0,222]
[21,11408,21,11412,21,11418,null,null,null,null,0,222]
[21,11530,21,11535,21,11546,null,null,null,null,0,222]
[21,11744,21,11750,21,11753,null,null,null,null,0,222]
[21,11892,21,11894,21,11898,null,null,null,null,0,222]
[21,12038,21,12043,21,12048,null,null,null,null,0,222]
[21,12260,21,12264,21,12307,null,null,null,null,0,222]
[21,12489,21,12493,21,12498,null,null,null,null,0,222]
[21,12691,21,12695,21,12699,null,null,null,null,0,222]
[21,12928,21,12935,21,12939,null,null,null,null,0,222]
[21,13138,21,13142,21,13146,null,null,null,null,0,222]
[21,13298,21,13303,21,13352,null,null,null,null,0,222]
[21,13481,21,13486,21,13493,null,null,null,null,0,222]
[21,13614,21,13617,21,13622,null,null,null,null,0,222]
[21,13781,21,13783,21,13786,null,null,null,null,0,222]
[21,13879,21,13882,21,13889,null,null,null,null,0,222]
[21,14090,21,14093,21,14095,null,null,null,null,0,222]
[21,14279,21,14283,21,14287,null,null,null,null,0,222]
[21,14431,21,14435,21,14479,null,null,null,null,0,222]
[21,14566,21,14638,21,14640,null,null,null,null,0,222]
[21,14757,12,14783,23,14798,null,null,null,null,0,212]
[21,14896,21,14899,21,14902,null,null,null,null,0,222]
[21,15131,21,15133,12,15163,null,null,null,null,0,221]
[21,15257,21,15266,12,15271,null,null,null,null,0,221]
[21,15376,21,15391,21,15395,null,null,null,null,1,222]

{"sheet":"!N104B0B.AXT","index":15,"n_rows":64,"n_cols":48,"rows_kept":64,"cut":false,"hidden":false,"merged":[[4,39,4,42],[5,39,5,40],[4,44,4,47],[5,44,5,45],[4,24,4,27],[5,24,5,25],[4,29,4,32],[5,29,5,30],[4,34,4,37],[5,34,5,35],[1,1,1,2],[5,13,5,14],[18,13,18,14],[19,13,19,14],[4,19,4,22],[5,19,5,20]]}
["Report for:!N104B0B.AXT"]
["Date:","<date>"]
["Hen:","<hen>",null,null,null,"Correct Sequence",{"$f":"Start!J2","v":222},null,null,null,null,null,null,null,null,"Total Sequences in Data",{"$f":"4994-COUNTBLANK(L7:L5000)","v":58},null,null,null,null,"Total Sequences in Block Data",{"$f":"COUNTA(L7:L16)","v":10},null,null,null,"Total Sequences in Block Data",{"$f":"COUNTA(L17:L25)","v":9},null,null,null,"Total Sequences in Block Data",{"$f":"COUNTA(L26:L35)","v":10},null,null,null,"Total Sequences in Block Data",{"$f":"COUNTA(L36:L45)","v":10},null,null,null,"Total Sequences in Block Data",{"$f":"COUNTA(L46:L54)","v":9},null,null,null,"Total Sequences in Block Data",{"$f":"COUNTA(L55:L64)","v":10}]
[null,null,null,null,null,null,null,null,null,null,null,null,null,null,null,"Total Sequences in Summary",{"$f":"SUM(O7:O14)","v":58},null,null,null,null,"Total Sequences in Block Summary",{"$f":"SUM(U7:U14)","v":10},null,null,null,"Total Sequences in Block Summary",{"$f":"SUM(Z7:Z14)","v":9},null,null,null,"Total Sequences in Block Summary",{"$f":"SUM(AE7:AE14)","v":10},null,null,null,"Total Sequences in Block Summary",{"$f":"SUM(AJ7:AJ14)","v":10},null,null,null,"Total Sequences in Block Summary",{"$f":"SUM(AO7:AO14)","v":9},null,null,null,"Total Sequences in Block Summary",{"$f":"SUM(AT7:AT14)","v":10}]
[null,null,null,null,null,null,null,null,null,null,null,null,null,null,null,null,null,null,null,"Block 1",null,null,null,null,"Block 2",null,null,null,null,"Block 3",null,null,null,null,"Block 4",null,null,null,null,"Block 5",null,null,null,null,"Block 6"]
["Sequence\nComponent\n1","Time\n1","Sequence\nComponent\n2","Time\n2","Sequence\nComponent\n3","Time\n3","Sequence\nComponent\n4","Time\n4","Sequence\nComponent\n5","Time\n5","Correct?\n0=No 1=Yes","Sequence",null,"Frequency",null,"Relative Frequency","Variability",null,null,"Frequency",null,"Relative Frequency","Variability",null,"Frequency",null,"Relative Frequency","Variability",null,"Frequency",null,"Relative Frequency","Variability",null,"Frequency",null,"Relative Frequency","Variability",null,"Frequency",null,"Relative Frequency","Variability",null,"Frequency",null,"Relative Frequency","Variability"]
[21,63,21,67,21,73,null,null,null,null,0,222,null,111,{"$f":"COUNTIF($L$7:$L$500,N7)","v":1},{"$f":"O7/$Q$4","v":1.7241379310344827E-2},{"$f":"IF(P7=0,0,(P7*((LOG(P7))/LOG(2))))","v":-0.10099967232978573},null,null,{"$f":"N7","v":111},{"$f":"COUNTIF(L7:L16,T7)","v":0},{"$f":"U7/(W4-U14)","v":0},{"$f":"IF(V7=0,0,(V7*((LOG(V7))/LOG(2))))","v":0},null,{"$f":"N7","v":111},{"$f":"COUNTIF(L17:L25,Y7)","v":0},{"$f":"Z7/(AB4-Z14)","v":0},{"$f":"IF(AA7=0,0,(AA7*((LOG(AA7))/LOG(2))))","v":0},null,{"$f":"N7","v":111},{"$f":"COUNTIF(L26:L35,AD7)","v":1},{"$f":"AE7/(AG4-AE14)","v":0.1111111111111111},{"$f":"IF(AF7=0,0,(AF7*((LOG(AF7))/LOG(2))))","v":-0.3522138890491458},null,{"$f":"N7","v":111},{"$f":"COUNTIF(L36:L45,AI7)","v":0},{"$f":"AJ7/(AL4-AJ14)","v":0},{"$f":"IF(AK7=0,0,(AK7*((LOG(AK7))/LOG(2))))","v":0},null,{"$f":"N7","v":111},{"$f":"COUNTIF(L46:L54,AN7)","v":0},{"$f":"AO7/(AQ4-AO14)","v":{"$error":"#DIV/0!"}},{"$f":"IF(AP7=0,0,(AP7*((LOG(AP7))/LOG(2))))","v":{"$error":"#DIV/0!"}},null,{"$f":"N7","v":111},{"$f":"COUNTIF(L55:L64,AS7)","v":0},{"$f":"AT7/(AV4-AT14)","v":0},{"$f":"IF(AU7=0,0,(AU7*((LOG(AU7))/LOG(2))))","v":0}]
[21,194,21,201,21,207,null,null,null,null,0,222,null,112,{"$f":"COUNTIF($L$7:$L$500,N8)","v":1},{"$f":"O8/$Q$4","v":1.7241379310344827E-2},{"$f":"IF(P8=0,0,(P8*((LOG(P8))/LOG(2))))","v":-0.10099967232978573},null,null,{"$f":"N8","v":112},{"$f":"COUNTIF(L7:L16,T8)","v":0},{"$f":"U8/(W4-U14)","v":0},{"$f":"IF(V8=0,0,(V8*((LOG(V8))/LOG(2))))","v":0},null,{"$f":"N8","v":112},{"$f":"COUNTIF(L17:L25,Y8)","v":1},{"$f":"Z8/(AB4-Z14)","v":0.14285714285714285},{"$f":"IF(AA8=0,0,(AA8*((LOG(AA8))/LOG(2))))","v":-0.40105070315108626},null,{"$f":"N8","v":112},{"$f":"COUNTIF(L26:L35,AD8)","v":0},{"$f":"AE8/(AG4-AE14)","v":0},{"$f":"IF(AF8=0,0,(AF8*((LOG(AF8))/LOG(2))))","v":0},null,{"$f":"N8","v":112},{"$f":"COUNTIF(L36:L45,AI8)","v":0},{"$f":"AJ8/(AL4-AJ14)","v":0},{"$f":"IF(AK8=0,0,(AK8*((LOG(AK8))/LOG(2))))","v":0},null,{"$f":"N8","v":112},{"$f":"COUNTIF(L46:L54,AN8)","v":0},{"$f":"AO8/(AQ4-AO14)","v":{"$error":"#DIV/0!"}},{"$f":"IF(AP8=0,0,(AP8*((LOG(AP8))/LOG(2))))","v":{"$error":"#DIV/0!"}},null,{"$f":"N8","v":112},{"$f":"COUNTIF(L55:L64,AS8)","v":0},{"$f":"AT8/(AV4-AT14)","v":0},{"$f":"IF(AU8=0,0,(AU8*((LOG(AU8))/LOG(2))))","v":0}]
[21,324,21,329,21,333,null,null,null,null,0,222,null,121,{"$f":"COUNTIF($L$7:$L$500,N9)","v":2},{"$f":"O9/$Q$4","v":3.4482758620689655E-2},{"$f":"IF(P9=0,0,(P9*((LOG(P9))/LOG(2))))","v":-0.16751658603888178},null,null,{"$f":"N9","v":121},{"$f":"COUNTIF(L7:L16,T9)","v":0},{"$f":"U9/(W4-U14)","v":0},{"$f":"IF(V9=0,0,(V9*((LOG(V9))/LOG(2))))","v":0},null,{"$f":"N9","v":121},{"$f":"COUNTIF(L17:L25,Y9)","v":0},{"$f":"Z9/(AB4-Z14)","v":0},{"$f":"IF(AA9=0,0,(AA9*((LOG(AA9))/LOG(2))))","v":0},null,{"$f":"N9","v":121},{"$f":"COUNTIF(L26:L35,AD9)","v":1},{"$f":"AE9/(AG4-AE14)","v":0.1111111111111111},{"$f":"IF(AF9=0,0,(AF9*((LOG(AF9))/LOG(2))))","v":-0.3522138890491458},null,{"$f":"N9","v":121},{"$f":"COUNTIF(L36:L45,AI9)","v":1},{"$f":"AJ9/(AL4-AJ14)","v":1},{"$f":"IF(AK9=0,0,(AK9*((LOG(AK9))/LOG(2))))","v":0},null,{"$f":"N9","v":121},{"$f":"COUNTIF(L46:L54,AN9)","v":0},{"$f":"AO9/(AQ4-AO14)","v":{"$error":"#DIV/0!"}},{"$f":"IF(AP9=0,0,(AP9*((LOG(AP9))/LOG(2))))","v":{"$error":"#DIV/0!"}},null,{"$f":"N9","v":121},{"$f":"COUNTIF(L55:L64,AS9)","v":0},{"$f":"AT9/(AV4-AT14)","v":0},{"$f":"IF(AU9=0,0,(AU9*((LOG(AU9))/LOG(2))))","v":0}]
[21,420,21,422,12,445,null,null,null,null,0,221,null,122,{"$f":"COUNTIF($L$7:$L$500,N10)","v":3},{"$f":"O10/$Q$4","v":5.1724137931034482E-2},{"$f":"IF(P10=0,0,(P10*((LOG(P10))/LOG(2))))","v":-0.22101819798653879},null,null,{"$f":"N10","v":122},{"$f":"COUNTIF(L7:L16,T10)","v":0},{"$f":"U10/(W4-U14)","v":0},{"$f":"IF(V10=0,0,(V10*((LOG(V10))/LOG(2))))","v":0},null,{"$f":"N10","v":122},{"$f":"COUNTIF(L17:L25,Y10)","v":2},{"$f":"Z10/(AB4-Z14)","v":0.2857142857142857},{"$f":"IF(AA10=0,0,(AA10*((LOG(AA10))/LOG(2))))","v":-0.51638712058788683},null,{"$f":"N10","v":122},{"$f":"COUNTIF(L26:L35,AD10)","v":1},{"$f":"AE10/(AG4-AE14)","v":0.1111111111111111},{"$f":"IF(AF10=0,0,(AF10*((LOG(AF10))/LOG(2))))","v":-0.3522138890491458},null,{"$f":"N10","v":122},{"$f":"COUNTIF(L36:L45,AI10)","v":0},{"$f":"AJ10/(AL4-AJ14)","v":0},{"$f":"IF(AK10=0,0,(AK10*((LOG(AK10))/LOG(2))))","v":0},null,{"$f":"N10","v":122},{"$f":"COUNTIF(L46:L54,AN10)","v":0},{"$f":"AO10/(AQ4-AO14)","v":{"$error":"#DIV/0!"}},{"$f":"IF(AP10=0,0,(AP10*((LOG(AP10))/LOG(2))))","v":{"$error":"#DIV/0!"}},null,{"$f":"N10","v":122},{"$f":"COUNTIF(L55:L64,AS10)","v":0},{"$f":"AT10/(AV4-AT14)","v":0},{"$f":"IF(AU10=0,0,(AU10*((LOG(AU10))/LOG(2))))","v":0}]
[21,540,21,551,12,561,null,null,null,null,0,221,null,211,{"$f":"COUNTIF($L$7:$L$500,N11)","v":4},{"$f":"O11/$Q$4","v":6.8965517241379309E-2},{"$f":"IF(P11=0,0,(P11*((LOG(P11))/LOG(2))))","v":-0.26606765483638428},null,null,{"$f":"N11","v":211},{"$f":"COUNTIF(L7:L16,T11)","v":0},{"$f":"U11/(W4-U14)","v":0},{"$f":"IF(V11=0,0,(V11*((LOG(V11))/LOG(2))))","v":0},null,{"$f":"N11","v":211},{"$f":"COUNTIF(L17:L25,Y11)","v":1},{"$f":"Z11/(AB4-Z14)","v":0.14285714285714285},{"$f":"IF(AA11=0,0,(AA11*((LOG(AA11))/LOG(2))))","v":-0.40105070315108626},null,{"$f":"N11","v":211},{"$f":"COUNTIF(L26:L35,AD11)","v":3},{"$f":"AE11/(AG4-AE14)","v":0.33333333333333331},{"$f":"IF(AF11=0,0,(AF11*((LOG(AF11))/LOG(2))))","v":-0.52832083357371862},null,{"$f":"N11","v":211},{"$f":"COUNTIF(L36:L45,AI11)","v":0},{"$f":"AJ11/(AL4-AJ14)","v":0},{"$f":"IF(AK11=0,0,(AK11*((LOG(AK11))/LOG(2))))","v":0},null,{"$f":"N11","v":211},{"$f":"COUNTIF(L46:L54,AN11)","v":0},{"$f":"AO11/(AQ4-AO14)","v":{"$error":"#DIV/0!"}},{"$f":"IF(AP11=0,0,(AP11*((LOG(AP11))/LOG(2))))","v":{"$error":"#DIV/0!"}},null,{"$f":"N11","v":211},{"$f":"COUNTIF(L55:L64,AS11)","v":0},{"$f":"AT11/(AV4-AT14)","v":0},{"$f":"IF(AU11=0,0,(AU11*((LOG(AU11))/LOG(2))))","v":0}]
[21,707,12,724,23,737,null,null,null,null,0,212,null,212,{"$f":"COUNTIF($L$7:$L$500,N12)","v":5},{"$f":"O12/$Q$4","v":8.6206896551724144E-2},{"$f":"IF(P12=0,0,(P12*((LOG(P12))/LOG(2))))","v":-0.30483214657243185},null,null,{"$f":"N12","v":212},{"$f":"COUNTIF(L7:L16,T12)","v":1},{"$f":"U12/(W4-U14)","v":0.25},{"$f":"IF(V12=0,0,(V12*((LOG(V12))/LOG(2))))","v":-0.5},null,{"$f":"N12","v":212},{"$f":"COUNTIF(L17:L25,Y12)","v":2},{"$f":"Z12/(AB4-Z14)","v":0.2857142857142857},{"$f":"IF(AA12=0,0,(AA12*((LOG(AA12))/LOG(2))))","v":-0.51638712058788683},null,{"$f":"N12","v":212},{"$f":"COUNTIF(L26:L35,AD12)","v":1},{"$f":"AE12/(AG4-AE14)","v":0.1111111111111111},{"$f":"IF(AF12=0,0,(AF12*((LOG(AF12))/LOG(2))))","v":-0.3522138890491458},null,{"$f":"N12","v":212},{"$f":"COUNTIF(L36:L45,AI12)","v":0},{"$f":"AJ12/(AL4-AJ14)","v":0},{"$f":"IF(AK12=0,0,(AK12*((LOG(AK12))/LOG(2))))","v":0},null,{"$f":"N12","v":212},{"$f":"COUNTIF(L46:L54,AN12)","v":0},{"$f":"AO12/(AQ4-AO14)","v":{"$error":"#DIV/0!"}},{"$f":"IF(AP12=0,0,(AP12*((LOG(AP12))/LOG(2))))","v":{"$error":"#DIV/0!"}},null,{"$f":"N12","v":212},{"$f":"COUNTIF(L55:L64,AS12)","v":1},{"$f":"AT12/(AV4-AT14)","v":1},{"$f":"IF(AU12=0,0,(AU12*((LOG(AU12))/LOG(2))))","v":0}]
[21,836,21,838,12,853,null,null,null,null,0,221,null,221,{"$f":"COUNTIF($L$7:$L$500,N13)","v":6},{"$f":"O13/$Q$4","v":0.10344827586206896},{"$f":"IF(P13=0,0,(P13*((LOG(P13))/LOG(2))))","v":-0.33858812011100858},null,null,{"$f":"N13","v":221},{"$f":"COUNTIF(L7:L16,T13)","v":3},{"$f":"U13/(W4-U14)","v":0.75},{"$f":"IF(V13=0,0,(V13*((LOG(V13))/LOG(2))))","v":-0.31127812445913283},null,{"$f":"N13","v":221},{"$f":"COUNTIF(L17:L25,Y13)","v":1},{"$f":"Z13/(AB4-Z14)","v":0.14285714285714285},{"$f":"IF(AA13=0,0,(AA13*((LOG(AA13))/LOG(2))))","v":-0.40105070315108626},null,{"$f":"N13","v":221},{"$f":"COUNTIF(L26:L35,AD13)","v":2},{"$f":"AE13/(AG4-AE14)","v":0.22222222222222221},{"$f":"IF(AF13=0,0,(AF13*((LOG(AF13))/LOG(2))))","v":-0.48220555587606945},null,{"$f":"N13","v":221},{"$f":"COUNTIF(L36:L45,AI13)","v":0},{"$f":"AJ13/(AL4-AJ14)","v":0},{"$f":"IF(AK13=0,0,(AK13*((LOG(AK13))/LOG(2))))","v":0},null,{"$f":"N13","v":221},{"$f":"COUNTIF(L46:L54,AN13)","v":0},{"$f":"AO13/(AQ4-AO14)","v":{"$error":"#DIV/0!"}},{"$f":"IF(AP13=0,0,(AP13*((LOG(AP13))/LOG(2))))","v":{"$error":"#DIV/0!"}},null,{"$f":"N13","v":221},{"$f":"COUNTIF(L55:L64,AS13)","v":0},{"$f":"AT13/(AV4-AT14)","v":0},{"$f":"IF(AU13=0,0,(AU13*((LOG(AU13))/LOG(2))))","v":0}]
[21,950,21,953,21,961,null,null,null,null,0,222,null,222,{"$f":"COUNTIF($L$7:$L$500,N14)","v":36},{"$f":"O14/$Q$4","v":0.62068965517241381},{"$f":"IF(P14=0,0,(P14*((LOG(P14))/LOG(2))))","v":-0.4270692374598164},null,null,{"$f":"N14","v":222},{"$f":"COUNTIF(L7:L16,T14)","v":6},null,null,null,{"$f":"N14","v":222},{"$f":"COUNTIF(L17:L25,Y14)","v":2},null,null,null,{"$f":"N14","v":222},{"$f":"COUNTIF(L26:L35,AD14)","v":1},null,null,null,{"$f":"N14","v":222},{"$f":"COUNTIF(L36:L45,AI14)","v":9},null,null,null,{"$f":"N14","v":222},{"$f":"COUNTIF(L46:L54,AN14)","v":9},null,null,null,{"$f":"N14","v":222},{"$f":"COUNTIF(L55:L64,AS14)","v":9}]
[21,1065,21,1067,21,1072,null,null,null,null,0,222,null,null,null,{"$f":"SUM(P7:P14)","v":1},{"$f":"-SUM(Q7:Q14)","v":1.9270912876646331},null,null,null,null,{"$f":"SUM(V7:V14)","v":1},{"$f":"-SUM(W7:W14)","v":0.81127812445913283},null,null,null,{"$f":"SUM(AA7:AA14)","v":1},{"$f":"-SUM(AB7:AB14)","v":2.2359263506290326},null,null,null,{"$f":"SUM(AF7:AF14)","v":0.99999999999999989},{"$f":"-SUM(AG7:AG14)","v":2.4193819456463714},null,null,null,{"$f":"SUM(AK7:AK14)","v":1},{"$f":"-SUM(AL7:AL14)","v":0},null,null,null,{"$f":"SUM(AP7:AP14)","v":{"$error":"#DIV/0!"}},{"$f":"-SUM(AQ7:AQ14)","v":{"$error":"#DIV/0!"}},null,null,null,{"$f":"SUM(AU7:AU14)","v":1},{"$f":"-SUM(AV7:AV14)","v":0}]
[21,1201,21,1208,21,1212,null,null,null,null,0,222,null,null,null,"U=",{"$f":"Q15/(LOG(Q4)/LOG(2))","v":0.32896851138088506},null,null,null,null,"U1=",{"$f":"W15/(LOG(W4)/LOG(2))","v":0.24421905028821556},null,null,null,"U2=",{"$f":"AB15/(LOG(AB4)/LOG(2))","v":0.7053562307031519},null,null,null,"U3=",{"$f":"AG15/(LOG(AG4)/LOG(2))","v":0.7283065366074416},null,null,null,"U4=",{"$f":"AL15/(LOG(AL4)/LOG(2))","v":0},null,null,null,"U5=",{"$f":"AQ15/(LOG(AQ4)/LOG(2))","v":{"$error":"#DIV/0!"}},null,null,null,"U6=",{"$f":"AV15/(LOG(AV4)/LOG(2))","v":0}]
[21,1301,21,1307,12,1316,null,null,null,null,0,221]
[21,1419,21,1421,21,1426,null,null,null,null,0,222]
[21,1525,12,1528,23,1538,null,null,null,null,0,212,null,"Total Target Seq"]
[12,1633,23,1636,23,1646,null,null,null,null,0,122,null,{"$f":"COUNTIF(L7:L64,G3)","v":36},null,10,9,10,10,9,10]
[21,1740,12,1744,23,1751,null,null,null,null,0,212,null,null,null,"% of reinforcement given in 6 equal intervals based on number of trials "]
[21,1847,12,1851,14,1860,null,null,null,null,0,211,null,null,null,"%_1","%_2","%_3","%_4","%_5","%_6"]
[21,1985,21,1988,21,1996,null,null,null,null,0,222,null,null,"target sequence",{"$f":"$G$3","v":222},{"$f":"$G$3","v":222},{"$f":"$G$3","v":222},{"$f":"$G$3","v":222},{"$f":"$G$3","v":222},{"$f":"$G$3","v":222}]
[12,2083,23,2103,23,2107,null,null,null,null,0,122,null,null,"total reinforcement",{"$f":"U14","v":6},{"$f":"Z14","v":2},{"$f":"AE14","v":1},{"$f":"AJ14","v":9},{"$f":"AO14","v":9},{"$f":"AT14","v":9}]
[12,3133,14,3140,23,3151,null,null,null,null,0,112,null,null,"% target"]
[12,3244,23,3247,14,3250,null,null,null,null,0,121,null,null,"CCRF"]
[21,3355,21,3359,12,3371,null,null,null,null,0,221,null,null,"% CCRf"]
[21,5456,12,9494,14,9511,null,null,null,null,0,211,null,null,"average response rate",{"$f":"F16/P20","v":121.2},{"$f":"(F25-F16)/Q20","v":215.44444444444446},{"$f":"(F35-F25)/R20","v":770.9},{"$f":"(F45-F35)/S20","v":170.3},{"$f":"(F54-F45)/T20","v":196.66666666666666},{"$f":"(F64-F54)/U20","v":173.4}]
[21,9620,21,9626,12,9641,null,null,null,null,0,221]
[21,9745,12,9748,14,9757,null,null,null,null,0,211]
[12,9886,14,9908,14,9924,null,null,null,null,0,111]
[21,10012,21,10020,21,10025,null,null,null,null,0,222]
[12,10117,23,10122,23,10134,null,null,null,null,0,122]
[21,10232,12,10250,23,10264,null,null,null,null,0,212]
[21,10829,12,10835,14,10860,null,null,null,null,0,211]
[12,10955,23,10972,14,10976,null,null,null,null,0,121]
[21,11064,21,11068,21,11072,null,null,null,null,0,222]
[21,11259,21,11263,21,11268,null,null,null,null,0,222]
[21,11436,21,11442,21,11446,null,null,null,null,0,222]
[21,11605,21,11609,21,11614,null,null,null,null,0,222]
[21,11825,21,11832,21,11837,null,null,null,null,0,222]
[21,11949,21,11955,21,11960,null,null,null,null,0,222]
[21,12250,21,12255,21,12258,null,null,null,null,0,222]
[21,12380,21,12388,21,12392,null,null,null,null,0,222]
[21,12548,21,12555,21,12563,null,null,null,null,0,222]
[21,12768,21,12770,21,12775,null,null,null,null,0,222]
[21,12869,21,12873,21,12878,null,null,null,null,0,222]
[21,13056,21,13061,21,13067,null,null,null,null,0,222]
[21,13213,21,13216,21,13221,null,null,null,null,0,222]
[21,13462,21,13466,21,13470,null,null,null,null,0,222]
[21,13762,21,13766,21,13800,null,null,null,null,0,222]
[21,13900,21,13905,21,13909,null,null,null,null,0,222]
[21,14079,21,14084,21,14088,null,null,null,null,0,222]
[21,14282,21,14287,21,14333,null,null,null,null,0,222]
[21,14515,12,14527,23,14528,null,null,null,null,0,212]
[21,14625,21,14629,21,14633,null,null,null,null,0,222]
[21,14769,21,14772,21,14776,null,null,null,null,0,222]
[21,14915,21,14920,21,14924,null,null,null,null,0,222]
[21,15107,21,15111,21,15115,null,null,null,null,0,222]
[21,15264,21,15269,21,15273,null,null,null,null,0,222]
[21,15441,21,15446,21,15451,null,null,null,null,0,222]
[21,15641,21,15647,21,15652,null,null,null,null,0,222]
[21,15785,21,15790,21,15796,null,null,null,null,0,222]
[21,16056,21,16061,21,16067,null,null,null,null,1,222]

{"sheet":"!N10583B.AXT","index":16,"n_rows":46,"n_cols":48,"rows_kept":46,"cut":false,"hidden":false,"merged":[[4,39,4,42],[5,39,5,40],[4,44,4,47],[5,44,5,45],[4,24,4,27],[5,24,5,25],[4,29,4,32],[5,29,5,30],[4,34,4,37],[5,34,5,35],[1,1,1,2],[5,13,5,14],[18,13,18,14],[19,13,19,14],[4,19,4,22],[5,19,5,20]]}
["Report for:!N10583B.AXT"]
["Date:","<date>"]
["Hen:","<hen>",null,null,null,"Correct Sequence",{"$f":"Start!J2","v":222},null,null,null,null,null,null,null,null,"Total Sequences in Data",{"$f":"4994-COUNTBLANK(L7:L5000)","v":40},null,null,null,null,"Total Sequences in Block Data",{"$f":"COUNTA(L7:L13)","v":7},null,null,null,"Total Sequences in Block Data",{"$f":"COUNTA(L14:L19)","v":6},null,null,null,"Total Sequences in Block Data",{"$f":"COUNTA(L20:L26)","v":7},null,null,null,"Total Sequences in Block Data",{"$f":"COUNTA(L27:L33)","v":7},null,null,null,"Total Sequences in Block Data",{"$f":"COUNTA(L34:L39)","v":6},null,null,null,"Total Sequences in Block Data",{"$f":"COUNTA(L40:L46)","v":7}]
[null,null,null,null,null,null,null,null,null,null,null,null,null,null,null,"Total Sequences in Summary",{"$f":"SUM(O7:O14)","v":39},null,null,null,null,"Total Sequences in Block Summary",{"$f":"SUM(U7:U14)","v":7},null,null,null,"Total Sequences in Block Summary",{"$f":"SUM(Z7:Z14)","v":6},null,null,null,"Total Sequences in Block Summary",{"$f":"SUM(AE7:AE14)","v":7},null,null,null,"Total Sequences in Block Summary",{"$f":"SUM(AJ7:AJ14)","v":7},null,null,null,"Total Sequences in Block Summary",{"$f":"SUM(AO7:AO14)","v":6},null,null,null,"Total Sequences in Block Summary",{"$f":"SUM(AT7:AT14)","v":6}]
[null,null,null,null,null,null,null,null,null,null,null,null,null,null,null,null,null,null,null,"Block 1",null,null,null,null,"Block 2",null,null,null,null,"Block 3",null,null,null,null,"Block 4",null,null,null,null,"Block 5",null,null,null,null,"Block 6"]
["Sequence\nComponent\n1","Time\n1","Sequence\nComponent\n2","Time\n2","Sequence\nComponent\n3","Time\n3","Sequence\nComponent\n4","Time\n4","Sequence\nComponent\n5","Time\n5","Correct?\n0=No 1=Yes","Sequence",null,"Frequency",null,"Relative Frequency","Variability",null,null,"Frequency",null,"Relative Frequency","Variability",null,"Frequency",null,"Relative Frequency","Variability",null,"Frequency",null,"Relative Frequency","Variability",null,"Frequency",null,"Relative Frequency","Variability",null,"Frequency",null,"Relative Frequency","Variability",null,"Frequency",null,"Relative Frequency","Variability"]
[21,16,12,29,23,39,null,null,null,null,0,212,null,111,{"$f":"COUNTIF($L$7:$L$500,N7)","v":5},{"$f":"O7/$Q$4","v":0.12820512820512819},{"$f":"IF(P7=0,0,(P7*((LOG(P7))/LOG(2))))","v":-0.37993257999678021},null,null,{"$f":"N7","v":111},{"$f":"COUNTIF(L7:L13,T7)","v":0},{"$f":"U7/(W4-U14)","v":0},{"$f":"IF(V7=0,0,(V7*((LOG(V7))/LOG(2))))","v":0},null,{"$f":"N7","v":111},{"$f":"COUNTIF(L14:L19,Y7)","v":0},{"$f":"Z7/(AB4-Z14)","v":0},{"$f":"IF(AA7=0,0,(AA7*((LOG(AA7))/LOG(2))))","v":0},null,{"$f":"N7","v":111},{"$f":"COUNTIF(L20:L26,AD7)","v":2},{"$f":"AE7/(AG4-AE14)","v":0.2857142857142857},{"$f":"IF(AF7=0,0,(AF7*((LOG(AF7))/LOG(2))))","v":-0.51638712058788683},null,{"$f":"N7","v":111},{"$f":"COUNTIF(L27:L33,AI7)","v":1},{"$f":"AJ7/(AL4-AJ14)","v":0.16666666666666666},{"$f":"IF(AK7=0,0,(AK7*((LOG(AK7))/LOG(2))))","v":-0.43082708345352599},null,{"$f":"N7","v":111},{"$f":"COUNTIF(L34:L39,AN7)","v":1},{"$f":"AO7/(AQ4-AO14)","v":0.33333333333333331},{"$f":"IF(AP7=0,0,(AP7*((LOG(AP7))/LOG(2))))","v":-0.52832083357371862},null,{"$f":"N7","v":111},{"$f":"COUNTIF(L40:L46,AS7)","v":1},{"$f":"AT7/(AV4-AT14)","v":0.16666666666666666},{"$f":"IF(AU7=0,0,(AU7*((LOG(AU7))/LOG(2))))","v":-0.43082708345352599}]
[12,141,23,148,23,157,null,null,null,null,0,122,null,112,{"$f":"COUNTIF($L$7:$L$500,N8)","v":2},{"$f":"O8/$Q$4","v":5.128205128205128E-2},{"$f":"IF(P8=0,0,(P8*((LOG(P8))/LOG(2))))","v":-0.21976421635191018},null,null,{"$f":"N8","v":112},{"$f":"COUNTIF(L7:L13,T8)","v":1},{"$f":"U8/(W4-U14)","v":0.2},{"$f":"IF(V8=0,0,(V8*((LOG(V8))/LOG(2))))","v":-0.46438561897747244},null,{"$f":"N8","v":112},{"$f":"COUNTIF(L14:L19,Y8)","v":0},{"$f":"Z8/(AB4-Z14)","v":0},{"$f":"IF(AA8=0,0,(AA8*((LOG(AA8))/LOG(2))))","v":0},null,{"$f":"N8","v":112},{"$f":"COUNTIF(L20:L26,AD8)","v":0},{"$f":"AE8/(AG4-AE14)","v":0},{"$f":"IF(AF8=0,0,(AF8*((LOG(AF8))/LOG(2))))","v":0},null,{"$f":"N8","v":112},{"$f":"COUNTIF(L27:L33,AI8)","v":0},{"$f":"AJ8/(AL4-AJ14)","v":0},{"$f":"IF(AK8=0,0,(AK8*((LOG(AK8))/LOG(2))))","v":0},null,{"$f":"N8","v":112},{"$f":"COUNTIF(L34:L39,AN8)","v":1},{"$f":"AO8/(AQ4-AO14)","v":0.33333333333333331},{"$f":"IF(AP8=0,0,(AP8*((LOG(AP8))/LOG(2))))","v":-0.52832083357371862},null,{"$f":"N8","v":112},{"$f":"COUNTIF(L40:L46,AS8)","v":0},{"$f":"AT8/(AV4-AT14)","v":0},{"$f":"IF(AU8=0,0,(AU8*((LOG(AU8))/LOG(2))))","v":0}]
[12,251,23,266,23,273,null,null,null,null,0,122,null,121,{"$f":"COUNTIF($L$7:$L$500,N9)","v":4},{"$f":"O9/$Q$4","v":0.10256410256410256},{"$f":"IF(P9=0,0,(P9*((LOG(P9))/LOG(2))))","v":-0.33696433013971777},null,null,{"$f":"N9","v":121},{"$f":"COUNTIF(L7:L13,T9)","v":0},{"$f":"U9/(W4-U14)","v":0},{"$f":"IF(V9=0,0,(V9*((LOG(V9))/LOG(2))))","v":0},null,{"$f":"N9","v":121},{"$f":"COUNTIF(L14:L19,Y9)","v":0},{"$f":"Z9/(AB4-Z14)","v":0},{"$f":"IF(AA9=0,0,(AA9*((LOG(AA9))/LOG(2))))","v":0},null,{"$f":"N9","v":121},{"$f":"COUNTIF(L20:L26,AD9)","v":2},{"$f":"AE9/(AG4-AE14)","v":0.2857142857142857},{"$f":"IF(AF9=0,0,(AF9*((LOG(AF9))/LOG(2))))","v":-0.51638712058788683},null,{"$f":"N9","v":121},{"$f":"COUNTIF(L27:L33,AI9)","v":1},{"$f":"AJ9/(AL4-AJ14)","v":0.16666666666666666},{"$f":"IF(AK9=0,0,(AK9*((LOG(AK9))/LOG(2))))","v":-0.43082708345352599},null,{"$f":"N9","v":121},{"$f":"COUNTIF(L34:L39,AN9)","v":0},{"$f":"AO9/(AQ4-AO14)","v":0},{"$f":"IF(AP9=0,0,(AP9*((LOG(AP9))/LOG(2))))","v":0},null,{"$f":"N9","v":121},{"$f":"COUNTIF(L40:L46,AS9)","v":1},{"$f":"AT9/(AV4-AT14)","v":0.16666666666666666},{"$f":"IF(AU9=0,0,(AU9*((LOG(AU9))/LOG(2))))","v":-0.43082708345352599}]
[12,369,23,378,23,386,null,null,null,null,0,122,null,122,{"$f":"COUNTIF($L$7:$L$500,N10)","v":6},{"$f":"O10/$Q$4","v":0.15384615384615385},{"$f":"IF(P10=0,0,(P10*((LOG(P10))/LOG(2))))","v":-0.4154522643293988},null,null,{"$f":"N10","v":122},{"$f":"COUNTIF(L7:L13,T10)","v":3},{"$f":"U10/(W4-U14)","v":0.6},{"$f":"IF(V10=0,0,(V10*((LOG(V10))/LOG(2))))","v":-0.44217935649972373},null,{"$f":"N10","v":122},{"$f":"COUNTIF(L14:L19,Y10)","v":1},{"$f":"Z10/(AB4-Z14)","v":0.33333333333333331},{"$f":"IF(AA10=0,0,(AA10*((LOG(AA10))/LOG(2))))","v":-0.52832083357371862},null,{"$f":"N10","v":122},{"$f":"COUNTIF(L20:L26,AD10)","v":1},{"$f":"AE10/(AG4-AE14)","v":0.14285714285714285},{"$f":"IF(AF10=0,0,(AF10*((LOG(AF10))/LOG(2))))","v":-0.40105070315108626},null,{"$f":"N10","v":122},{"$f":"COUNTIF(L27:L33,AI10)","v":0},{"$f":"AJ10/(AL4-AJ14)","v":0},{"$f":"IF(AK10=0,0,(AK10*((LOG(AK10))/LOG(2))))","v":0},null,{"$f":"N10","v":122},{"$f":"COUNTIF(L34:L39,AN10)","v":0},{"$f":"AO10/(AQ4-AO14)","v":0},{"$f":"IF(AP10=0,0,(AP10*((LOG(AP10))/LOG(2))))","v":0},null,{"$f":"N10","v":122},{"$f":"COUNTIF(L40:L46,AS10)","v":1},{"$f":"AT10/(AV4-AT14)","v":0.16666666666666666},{"$f":"IF(AU10=0,0,(AU10*((LOG(AU10))/LOG(2))))","v":-0.43082708345352599}]
[12,507,14,511,23,527,null,null,null,null,0,112,null,211,{"$f":"COUNTIF($L$7:$L$500,N11)","v":2},{"$f":"O11/$Q$4","v":5.128205128205128E-2},{"$f":"IF(P11=0,0,(P11*((LOG(P11))/LOG(2))))","v":-0.21976421635191018},null,null,{"$f":"N11","v":211},{"$f":"COUNTIF(L7:L13,T11)","v":0},{"$f":"U11/(W4-U14)","v":0},{"$f":"IF(V11=0,0,(V11*((LOG(V11))/LOG(2))))","v":0},null,{"$f":"N11","v":211},{"$f":"COUNTIF(L14:L19,Y11)","v":0},{"$f":"Z11/(AB4-Z14)","v":0},{"$f":"IF(AA11=0,0,(AA11*((LOG(AA11))/LOG(2))))","v":0},null,{"$f":"N11","v":211},{"$f":"COUNTIF(L20:L26,AD11)","v":1},{"$f":"AE11/(AG4-AE14)","v":0.14285714285714285},{"$f":"IF(AF11=0,0,(AF11*((LOG(AF11))/LOG(2))))","v":-0.40105070315108626},null,{"$f":"N11","v":211},{"$f":"COUNTIF(L27:L33,AI11)","v":1},{"$f":"AJ11/(AL4-AJ14)","v":0.16666666666666666},{"$f":"IF(AK11=0,0,(AK11*((LOG(AK11))/LOG(2))))","v":-0.43082708345352599},null,{"$f":"N11","v":211},{"$f":"COUNTIF(L34:L39,AN11)","v":0},{"$f":"AO11/(AQ4-AO14)","v":0},{"$f":"IF(AP11=0,0,(AP11*((LOG(AP11))/LOG(2))))","v":0},null,{"$f":"N11","v":211},{"$f":"COUNTIF(L40:L46,AS11)","v":0},{"$f":"AT11/(AV4-AT14)","v":0},{"$f":"IF(AU11=0,0,(AU11*((LOG(AU11))/LOG(2))))","v":0}]
[21,622,21,632,21,642,null,null,null,null,0,222,null,212,{"$f":"COUNTIF($L$7:$L$500,N12)","v":6},{"$f":"O12/$Q$4","v":0.15384615384615385},{"$f":"IF(P12=0,0,(P12*((LOG(P12))/LOG(2))))","v":-0.4154522643293988},null,null,{"$f":"N12","v":212},{"$f":"COUNTIF(L7:L13,T12)","v":1},{"$f":"U12/(W4-U14)","v":0.2},{"$f":"IF(V12=0,0,(V12*((LOG(V12))/LOG(2))))","v":-0.46438561897747244},null,{"$f":"N12","v":212},{"$f":"COUNTIF(L14:L19,Y12)","v":0},{"$f":"Z12/(AB4-Z14)","v":0},{"$f":"IF(AA12=0,0,(AA12*((LOG(AA12))/LOG(2))))","v":0},null,{"$f":"N12","v":212},{"$f":"COUNTIF(L20:L26,AD12)","v":1},{"$f":"AE12/(AG4-AE14)","v":0.14285714285714285},{"$f":"IF(AF12=0,0,(AF12*((LOG(AF12))/LOG(2))))","v":-0.40105070315108626},null,{"$f":"N12","v":212},{"$f":"COUNTIF(L27:L33,AI12)","v":1},{"$f":"AJ12/(AL4-AJ14)","v":0.16666666666666666},{"$f":"IF(AK12=0,0,(AK12*((LOG(AK12))/LOG(2))))","v":-0.43082708345352599},null,{"$f":"N12","v":212},{"$f":"COUNTIF(L34:L39,AN12)","v":1},{"$f":"AO12/(AQ4-AO14)","v":0.33333333333333331},{"$f":"IF(AP12=0,0,(AP12*((LOG(AP12))/LOG(2))))","v":-0.52832083357371862},null,{"$f":"N12","v":212},{"$f":"COUNTIF(L40:L46,AS12)","v":2},{"$f":"AT12/(AV4-AT14)","v":0.33333333333333331},{"$f":"IF(AU12=0,0,(AU12*((LOG(AU12))/LOG(2))))","v":-0.52832083357371862}]
[21,743,21,748,21,755,null,null,null,null,0,222,null,221,{"$f":"COUNTIF($L$7:$L$500,N13)","v":5},{"$f":"O13/$Q$4","v":0.12820512820512819},{"$f":"IF(P13=0,0,(P13*((LOG(P13))/LOG(2))))","v":-0.37993257999678021},null,null,{"$f":"N13","v":221},{"$f":"COUNTIF(L7:L13,T13)","v":0},{"$f":"U13/(W4-U14)","v":0},{"$f":"IF(V13=0,0,(V13*((LOG(V13))/LOG(2))))","v":0},null,{"$f":"N13","v":221},{"$f":"COUNTIF(L14:L19,Y13)","v":2},{"$f":"Z13/(AB4-Z14)","v":0.66666666666666663},{"$f":"IF(AA13=0,0,(AA13*((LOG(AA13))/LOG(2))))","v":-0.38997500048077083},null,{"$f":"N13","v":221},{"$f":"COUNTIF(L20:L26,AD13)","v":0},{"$f":"AE13/(AG4-AE14)","v":0},{"$f":"IF(AF13=0,0,(AF13*((LOG(AF13))/LOG(2))))","v":0},null,{"$f":"N13","v":221},{"$f":"COUNTIF(L27:L33,AI13)","v":2},{"$f":"AJ13/(AL4-AJ14)","v":0.33333333333333331},{"$f":"IF(AK13=0,0,(AK13*((LOG(AK13))/LOG(2))))","v":-0.52832083357371862},null,{"$f":"N13","v":221},{"$f":"COUNTIF(L34:L39,AN13)","v":0},{"$f":"AO13/(AQ4-AO14)","v":0},{"$f":"IF(AP13=0,0,(AP13*((LOG(AP13))/LOG(2))))","v":0},null,{"$f":"N13","v":221},{"$f":"COUNTIF(L40:L46,AS13)","v":1},{"$f":"AT13/(AV4-AT14)","v":0.16666666666666666},{"$f":"IF(AU13=0,0,(AU13*((LOG(AU13))/LOG(2))))","v":-0.43082708345352599}]
[21,940,21,944,21,946,null,null,null,null,0,222,null,222,{"$f":"COUNTIF($L$7:$L$500,N14)","v":9},{"$f":"O14/$Q$4","v":0.23076923076923078},{"$f":"IF(P14=0,0,(P14*((LOG(P14))/LOG(2))))","v":-0.48818705017383146},null,null,{"$f":"N14","v":222},{"$f":"COUNTIF(L7:L13,T14)","v":2},null,null,null,{"$f":"N14","v":222},{"$f":"COUNTIF(L14:L19,Y14)","v":3},null,null,null,{"$f":"N14","v":222},{"$f":"COUNTIF(L20:L26,AD14)","v":0},null,null,null,{"$f":"N14","v":222},{"$f":"COUNTIF(L27:L33,AI14)","v":1},null,null,null,{"$f":"N14","v":222},{"$f":"COUNTIF(L34:L39,AN14)","v":3},null,null,null,{"$f":"N14","v":222},{"$f":"COUNTIF(L40:L46,AS14)","v":0}]
[21,1052,21,1059,21,1063,null,null,null,null,0,222,null,null,null,{"$f":"SUM(P7:P14)","v":1},{"$f":"-SUM(Q7:Q14)","v":2.8554495016697272},null,null,null,null,{"$f":"SUM(V7:V14)","v":1},{"$f":"-SUM(W7:W14)","v":1.3709505944546687},null,null,null,{"$f":"SUM(AA7:AA14)","v":1},{"$f":"-SUM(AB7:AB14)","v":0.91829583405448945},null,null,null,{"$f":"SUM(AF7:AF14)","v":0.99999999999999978},{"$f":"-SUM(AG7:AG14)","v":2.2359263506290326},null,null,null,{"$f":"SUM(AK7:AK14)","v":1},{"$f":"-SUM(AL7:AL14)","v":2.2516291673878226},null,null,null,{"$f":"SUM(AP7:AP14)","v":1},{"$f":"-SUM(AQ7:AQ14)","v":1.5849625007211559},null,null,null,{"$f":"SUM(AU7:AU14)","v":0.99999999999999989},{"$f":"-SUM(AV7:AV14)","v":2.2516291673878226}]
[21,1153,21,1158,12,1186,null,null,null,null,0,221,null,null,null,"U=",{"$f":"Q15/(LOG(Q4)/LOG(2))","v":0.54025207229817984},null,null,null,null,"U1=",{"$f":"W15/(LOG(W4)/LOG(2))","v":0.48834245491476841},null,null,null,"U2=",{"$f":"AB15/(LOG(AB4)/LOG(2))","v":0.35524532127576403},null,null,null,"U3=",{"$f":"AG15/(LOG(AG4)/LOG(2))","v":0.79645303593827299},null,null,null,"U4=",{"$f":"AL15/(LOG(AL4)/LOG(2))","v":0.80204649212559431},null,null,null,"U5=",{"$f":"AQ15/(LOG(AQ4)/LOG(2))","v":0.61314719276545826},null,null,null,"U6=",{"$f":"AV15/(LOG(AV4)/LOG(2))","v":0.87104906425515272}]
[12,1283,23,1294,23,1297,null,null,null,null,0,122]
[21,1399,21,1405,21,1409,null,null,null,null,0,222]
[21,1519,21,1523,12,1550,null,null,null,null,0,221,null,"Total Target Seq"]
[12,1659,23,1699,23,1716,null,null,null,null,0,122,null,{"$f":"COUNTIF(L7:L46,G3)","v":9},null,7,6,7,7,6,7]
[12,1821,23,1863,14,1874,null,null,null,null,0,121,null,null,null,"% of reinforcement given in 6 equal intervals based on number of trials "]
[12,2007,14,2012,14,2016,null,null,null,null,0,111,null,null,null,"%_1","%_2","%_3","%_4","%_5","%_6"]
[12,2122,14,2133,14,2152,null,null,null,null,0,111,null,null,"target sequence",{"$f":"$G$3","v":222},{"$f":"$G$3","v":222},{"$f":"$G$3","v":222},{"$f":"$G$3","v":222},{"$f":"$G$3","v":222},{"$f":"$G$3","v":222}]
[21,2241,12,2250,23,2264,null,null,null,null,0,212,null,null,"total reinforcement",{"$f":"U14","v":2},{"$f":"Z14","v":3},{"$f":"AE14","v":0},{"$f":"AJ14","v":1},{"$f":"AO14","v":3},{"$f":"AT14","v":0}]
[21,2506,12,2516,14,2534,null,null,null,null,0,211,null,null,"% target"]
[12,2630,23,2638,14,2658,null,null,null,null,0,121,null,null,"CCRF"]
[21,2760,21,2763,21,2768,null,null,null,null,0,222,null,null,"% CCRf"]
[21,2855,21,2881,12,2884,null,null,null,null,0,221,null,null,"average response rate",{"$f":"F13/P20","v":107.85714285714286},{"$f":"(F19-F13)/Q20","v":132.5},{"$f":"(F26-F19)/R20","v":158.28571428571428},{"$f":"(F33-F26)/S20","v":155},{"$f":"(F39-F33)/T20","v":135.66666666666666},{"$f":"(F46-F39)/U20","v":-651}]
[12,2976,23,2987,14,2991,null,null,null,null,0,121]
[21,3361,12,3373,23,3389,null,null,null,null,0,212]
[12,3484,14,3486,14,3490,null,null,null,null,0,111]
[21,3592,12,3610,14,3619,null,null,null,null,0,211]
[21,3722,21,3725,12,3743,null,null,null,null,0,221]
[21,3838,21,3840,21,3850,null,null,null,null,0,222]
[21,3950,21,3954,21,3962,null,null,null,null,0,222]
[21,4095,21,4099,21,4104,null,null,null,null,0,222]
[12,4197,14,4206,23,4214,null,null,null,null,0,112]
[12,4313,14,4317,14,4321,null,null,null,null,0,111]
[21,4540,12,4547,23,4557,null,null,null,null,0,212]
[21,4689,12,4695,23,4726,null,null,null,null,0,212]
[21,7400,21,7776,12,7785,null,null,null,null,0,221]
[21,7871,12,7878,23,7880,null,null,null,null,0,212]
[12,7987,14,7994,14,8014,null,null,null,null,0,111]
[12,8123,23,8134,14,8146,null,null,null,null,0,121]
[12,11465,23,11490,23,11505,null,null,null,null,0,122]
[21,22441,null,null,null,null,null,null,null,null,null,2]

{"sheet":"!N10690B.AXT","index":17,"n_rows":72,"n_cols":48,"rows_kept":72,"cut":false,"hidden":false,"merged":[[4,39,4,42],[5,39,5,40],[4,44,4,47],[5,44,5,45],[4,24,4,27],[5,24,5,25],[4,29,4,32],[5,29,5,30],[4,34,4,37],[5,34,5,35],[1,1,1,2],[5,13,5,14],[18,13,18,14],[19,13,19,14],[4,19,4,22],[5,19,5,20]]}
["Report for:!N10690B.AXT"]
["Date:","<date>"]
["Hen:","<hen>",null,null,null,"Correct Sequence",{"$f":"Start!J2","v":222},null,null,null,null,null,null,null,null,"Total Sequences in Data",{"$f":"4994-COUNTBLANK(L7:L5000)","v":66},null,null,null,null,"Total Sequences in Block Data",{"$f":"COUNTA(L7:L17)","v":11},null,null,null,"Total Sequences in Block Data",{"$f":"COUNTA(L18:L28)","v":11},null,null,null,"Total Sequences in Block Data",{"$f":"COUNTA(L29:L39)","v":11},null,null,null,"Total Sequences in Block Data",{"$f":"COUNTA(L40:L50)","v":11},null,null,null,"Total Sequences in Block Data",{"$f":"COUNTA(L51:L61)","v":11},null,null,null,"Total Sequences in Block Data",{"$f":"COUNTA(L62:L72)","v":11}]
[null,null,null,null,null,null,null,null,null,null,null,null,null,null,null,"Total Sequences in Summary",{"$f":"SUM(O7:O14)","v":66},null,null,null,null,"Total Sequences in Block Summary",{"$f":"SUM(U7:U14)","v":11},null,null,null,"Total Sequences in Block Summary",{"$f":"SUM(Z7:Z14)","v":11},null,null,null,"Total Sequences in Block Summary",{"$f":"SUM(AE7:AE14)","v":11},null,null,null,"Total Sequences in Block Summary",{"$f":"SUM(AJ7:AJ14)","v":11},null,null,null,"Total Sequences in Block Summary",{"$f":"SUM(AO7:AO14)","v":11},null,null,null,"Total Sequences in Block Summary",{"$f":"SUM(AT7:AT14)","v":11}]
[null,null,null,null,null,null,null,null,null,null,null,null,null,null,null,null,null,null,null,"Block 1",null,null,null,null,"Block 2",null,null,null,null,"Block 3",null,null,null,null,"Block 4",null,null,null,null,"Block 5",null,null,null,null,"Block 6"]
["Sequence\nComponent\n1","Time\n1","Sequence\nComponent\n2","Time\n2","Sequence\nComponent\n3","Time\n3","Sequence\nComponent\n4","Time\n4","Sequence\nComponent\n5","Time\n5","Correct?\n0=No 1=Yes","Sequence",null,"Frequency",null,"Relative Frequency","Variability",null,null,"Frequency",null,"Relative Frequency","Variability",null,"Frequency",null,"Relative Frequency","Variability",null,"Frequency",null,"Relative Frequency","Variability",null,"Frequency",null,"Relative Frequency","Variability",null,"Frequency",null,"Relative Frequency","Variability",null,"Frequency",null,"Relative Frequency","Variability"]
[12,20,23,23,23,30,null,null,null,null,0,122,null,111,{"$f":"COUNTIF($L$7:$L$500,N7)","v":3},{"$f":"O7/$Q$4","v":4.5454545454545456E-2},{"$f":"IF(P7=0,0,(P7*((LOG(P7))/LOG(2))))","v":-0.20270143721078623},null,null,{"$f":"N7","v":111},{"$f":"COUNTIF(L7:L17,T7)","v":0},{"$f":"U7/(W4-U14)","v":0},{"$f":"IF(V7=0,0,(V7*((LOG(V7))/LOG(2))))","v":0},null,{"$f":"N7","v":111},{"$f":"COUNTIF(L18:L28,Y7)","v":1},{"$f":"Z7/(AB4-Z14)","v":0.16666666666666666},{"$f":"IF(AA7=0,0,(AA7*((LOG(AA7))/LOG(2))))","v":-0.43082708345352599},null,{"$f":"N7","v":111},{"$f":"COUNTIF(L29:L39,AD7)","v":0},{"$f":"AE7/(AG4-AE14)","v":0},{"$f":"IF(AF7=0,0,(AF7*((LOG(AF7))/LOG(2))))","v":0},null,{"$f":"N7","v":111},{"$f":"COUNTIF(L40:L50,AI7)","v":1},{"$f":"AJ7/(AL4-AJ14)","v":0.1111111111111111},{"$f":"IF(AK7=0,0,(AK7*((LOG(AK7))/LOG(2))))","v":-0.3522138890491458},null,{"$f":"N7","v":111},{"$f":"COUNTIF(L51:L61,AN7)","v":0},{"$f":"AO7/(AQ4-AO14)","v":0},{"$f":"IF(AP7=0,0,(AP7*((LOG(AP7))/LOG(2))))","v":0},null,{"$f":"N7","v":111},{"$f":"COUNTIF(L62:L72,AS7)","v":1},{"$f":"AT7/(AV4-AT14)","v":0.2},{"$f":"IF(AU7=0,0,(AU7*((LOG(AU7))/LOG(2))))","v":-0.46438561897747244}]
[21,138,21,143,12,145,null,null,null,null,0,221,null,112,{"$f":"COUNTIF($L$7:$L$500,N8)","v":2},{"$f":"O8/$Q$4","v":3.0303030303030304E-2},{"$f":"IF(P8=0,0,(P8*((LOG(P8))/LOG(2))))","v":-0.15286042785934709},null,null,{"$f":"N8","v":112},{"$f":"COUNTIF(L7:L17,T8)","v":0},{"$f":"U8/(W4-U14)","v":0},{"$f":"IF(V8=0,0,(V8*((LOG(V8))/LOG(2))))","v":0},null,{"$f":"N8","v":112},{"$f":"COUNTIF(L18:L28,Y8)","v":0},{"$f":"Z8/(AB4-Z14)","v":0},{"$f":"IF(AA8=0,0,(AA8*((LOG(AA8))/LOG(2))))","v":0},null,{"$f":"N8","v":112},{"$f":"COUNTIF(L29:L39,AD8)","v":1},{"$f":"AE8/(AG4-AE14)","v":0.25},{"$f":"IF(AF8=0,0,(AF8*((LOG(AF8))/LOG(2))))","v":-0.5},null,{"$f":"N8","v":112},{"$f":"COUNTIF(L40:L50,AI8)","v":0},{"$f":"AJ8/(AL4-AJ14)","v":0},{"$f":"IF(AK8=0,0,(AK8*((LOG(AK8))/LOG(2))))","v":0},null,{"$f":"N8","v":112},{"$f":"COUNTIF(L51:L61,AN8)","v":1},{"$f":"AO8/(AQ4-AO14)","v":1},{"$f":"IF(AP8=0,0,(AP8*((LOG(AP8))/LOG(2))))","v":0},null,{"$f":"N8","v":112},{"$f":"COUNTIF(L62:L72,AS8)","v":0},{"$f":"AT8/(AV4-AT14)","v":0},{"$f":"IF(AU8=0,0,(AU8*((LOG(AU8))/LOG(2))))","v":0}]
[21,321,21,325,12,348,null,null,null,null,0,221,null,121,{"$f":"COUNTIF($L$7:$L$500,N9)","v":6},{"$f":"O9/$Q$4","v":9.0909090909090912E-2},{"$f":"IF(P9=0,0,(P9*((LOG(P9))/LOG(2))))","v":-0.31449378351248153},null,null,{"$f":"N9","v":121},{"$f":"COUNTIF(L7:L17,T9)","v":1},{"$f":"U9/(W4-U14)","v":0.14285714285714285},{"$f":"IF(V9=0,0,(V9*((LOG(V9))/LOG(2))))","v":-0.40105070315108626},null,{"$f":"N9","v":121},{"$f":"COUNTIF(L18:L28,Y9)","v":0},{"$f":"Z9/(AB4-Z14)","v":0},{"$f":"IF(AA9=0,0,(AA9*((LOG(AA9))/LOG(2))))","v":0},null,{"$f":"N9","v":121},{"$f":"COUNTIF(L29:L39,AD9)","v":1},{"$f":"AE9/(AG4-AE14)","v":0.25},{"$f":"IF(AF9=0,0,(AF9*((LOG(AF9))/LOG(2))))","v":-0.5},null,{"$f":"N9","v":121},{"$f":"COUNTIF(L40:L50,AI9)","v":3},{"$f":"AJ9/(AL4-AJ14)","v":0.33333333333333331},{"$f":"IF(AK9=0,0,(AK9*((LOG(AK9))/LOG(2))))","v":-0.52832083357371862},null,{"$f":"N9","v":121},{"$f":"COUNTIF(L51:L61,AN9)","v":0},{"$f":"AO9/(AQ4-AO14)","v":0},{"$f":"IF(AP9=0,0,(AP9*((LOG(AP9))/LOG(2))))","v":0},null,{"$f":"N9","v":121},{"$f":"COUNTIF(L62:L72,AS9)","v":1},{"$f":"AT9/(AV4-AT14)","v":0.2},{"$f":"IF(AU9=0,0,(AU9*((LOG(AU9))/LOG(2))))","v":-0.46438561897747244}]
[21,443,21,448,12,455,null,null,null,null,0,221,null,122,{"$f":"COUNTIF($L$7:$L$500,N10)","v":6},{"$f":"O10/$Q$4","v":9.0909090909090912E-2},{"$f":"IF(P10=0,0,(P10*((LOG(P10))/LOG(2))))","v":-0.31449378351248153},null,null,{"$f":"N10","v":122},{"$f":"COUNTIF(L7:L17,T10)","v":2},{"$f":"U10/(W4-U14)","v":0.2857142857142857},{"$f":"IF(V10=0,0,(V10*((LOG(V10))/LOG(2))))","v":-0.51638712058788683},null,{"$f":"N10","v":122},{"$f":"COUNTIF(L18:L28,Y10)","v":3},{"$f":"Z10/(AB4-Z14)","v":0.5},{"$f":"IF(AA10=0,0,(AA10*((LOG(AA10))/LOG(2))))","v":-0.5},null,{"$f":"N10","v":122},{"$f":"COUNTIF(L29:L39,AD10)","v":0},{"$f":"AE10/(AG4-AE14)","v":0},{"$f":"IF(AF10=0,0,(AF10*((LOG(AF10))/LOG(2))))","v":0},null,{"$f":"N10","v":122},{"$f":"COUNTIF(L40:L50,AI10)","v":1},{"$f":"AJ10/(AL4-AJ14)","v":0.1111111111111111},{"$f":"IF(AK10=0,0,(AK10*((LOG(AK10))/LOG(2))))","v":-0.3522138890491458},null,{"$f":"N10","v":122},{"$f":"COUNTIF(L51:L61,AN10)","v":0},{"$f":"AO10/(AQ4-AO14)","v":0},{"$f":"IF(AP10=0,0,(AP10*((LOG(AP10))/LOG(2))))","v":0},null,{"$f":"N10","v":122},{"$f":"COUNTIF(L62:L72,AS10)","v":0},{"$f":"AT10/(AV4-AT14)","v":0},{"$f":"IF(AU10=0,0,(AU10*((LOG(AU10))/LOG(2))))","v":0}]
[21,576,21,581,21,600,null,null,null,null,0,222,null,211,{"$f":"COUNTIF($L$7:$L$500,N11)","v":4},{"$f":"O11/$Q$4","v":6.0606060606060608E-2},{"$f":"IF(P11=0,0,(P11*((LOG(P11))/LOG(2))))","v":-0.24511479511263354},null,null,{"$f":"N11","v":211},{"$f":"COUNTIF(L7:L17,T11)","v":0},{"$f":"U11/(W4-U14)","v":0},{"$f":"IF(V11=0,0,(V11*((LOG(V11))/LOG(2))))","v":0},null,{"$f":"N11","v":211},{"$f":"COUNTIF(L18:L28,Y11)","v":2},{"$f":"Z11/(AB4-Z14)","v":0.33333333333333331},{"$f":"IF(AA11=0,0,(AA11*((LOG(AA11))/LOG(2))))","v":-0.52832083357371862},null,{"$f":"N11","v":211},{"$f":"COUNTIF(L29:L39,AD11)","v":0},{"$f":"AE11/(AG4-AE14)","v":0},{"$f":"IF(AF11=0,0,(AF11*((LOG(AF11))/LOG(2))))","v":0},null,{"$f":"N11","v":211},{"$f":"COUNTIF(L40:L50,AI11)","v":0},{"$f":"AJ11/(AL4-AJ14)","v":0},{"$f":"IF(AK11=0,0,(AK11*((LOG(AK11))/LOG(2))))","v":0},null,{"$f":"N11","v":211},{"$f":"COUNTIF(L51:L61,AN11)","v":0},{"$f":"AO11/(AQ4-AO14)","v":0},{"$f":"IF(AP11=0,0,(AP11*((LOG(AP11))/LOG(2))))","v":0},null,{"$f":"N11","v":211},{"$f":"COUNTIF(L62:L72,AS11)","v":2},{"$f":"AT11/(AV4-AT14)","v":0.4},{"$f":"IF(AU11=0,0,(AU11*((LOG(AU11))/LOG(2))))","v":-0.52877123795494496}]
[21,758,21,766,21,769,null,null,null,null,0,222,null,212,{"$f":"COUNTIF($L$7:$L$500,N12)","v":4},{"$f":"O12/$Q$4","v":6.0606060606060608E-2},{"$f":"IF(P12=0,0,(P12*((LOG(P12))/LOG(2))))","v":-0.24511479511263354},null,null,{"$f":"N12","v":212},{"$f":"COUNTIF(L7:L17,T12)","v":1},{"$f":"U12/(W4-U14)","v":0.14285714285714285},{"$f":"IF(V12=0,0,(V12*((LOG(V12))/LOG(2))))","v":-0.40105070315108626},null,{"$f":"N12","v":212},{"$f":"COUNTIF(L18:L28,Y12)","v":0},{"$f":"Z12/(AB4-Z14)","v":0},{"$f":"IF(AA12=0,0,(AA12*((LOG(AA12))/LOG(2))))","v":0},null,{"$f":"N12","v":212},{"$f":"COUNTIF(L29:L39,AD12)","v":1},{"$f":"AE12/(AG4-AE14)","v":0.25},{"$f":"IF(AF12=0,0,(AF12*((LOG(AF12))/LOG(2))))","v":-0.5},null,{"$f":"N12","v":212},{"$f":"COUNTIF(L40:L50,AI12)","v":1},{"$f":"AJ12/(AL4-AJ14)","v":0.1111111111111111},{"$f":"IF(AK12=0,0,(AK12*((LOG(AK12))/LOG(2))))","v":-0.3522138890491458},null,{"$f":"N12","v":212},{"$f":"COUNTIF(L51:L61,AN12)","v":0},{"$f":"AO12/(AQ4-AO14)","v":0},{"$f":"IF(AP12=0,0,(AP12*((LOG(AP12))/LOG(2))))","v":0},null,{"$f":"N12","v":212},{"$f":"COUNTIF(L62:L72,AS12)","v":1},{"$f":"AT12/(AV4-AT14)","v":0.2},{"$f":"IF(AU12=0,0,(AU12*((LOG(AU12))/LOG(2))))","v":-0.46438561897747244}]
[21,1012,21,1022,21,1025,null,null,null,null,0,222,null,221,{"$f":"COUNTIF($L$7:$L$500,N13)","v":7},{"$f":"O13/$Q$4","v":0.10606060606060606},{"$f":"IF(P13=0,0,(P13*((LOG(P13))/LOG(2))))","v":-0.34332233910766585},null,null,{"$f":"N13","v":221},{"$f":"COUNTIF(L7:L17,T13)","v":3},{"$f":"U13/(W4-U14)","v":0.42857142857142855},{"$f":"IF(V13=0,0,(V13*((LOG(V13))/LOG(2))))","v":-0.52388246628704915},null,{"$f":"N13","v":221},{"$f":"COUNTIF(L18:L28,Y13)","v":0},{"$f":"Z13/(AB4-Z14)","v":0},{"$f":"IF(AA13=0,0,(AA13*((LOG(AA13))/LOG(2))))","v":0},null,{"$f":"N13","v":221},{"$f":"COUNTIF(L29:L39,AD13)","v":1},{"$f":"AE13/(AG4-AE14)","v":0.25},{"$f":"IF(AF13=0,0,(AF13*((LOG(AF13))/LOG(2))))","v":-0.5},null,{"$f":"N13","v":221},{"$f":"COUNTIF(L40:L50,AI13)","v":3},{"$f":"AJ13/(AL4-AJ14)","v":0.33333333333333331},{"$f":"IF(AK13=0,0,(AK13*((LOG(AK13))/LOG(2))))","v":-0.52832083357371862},null,{"$f":"N13","v":221},{"$f":"COUNTIF(L51:L61,AN13)","v":0},{"$f":"AO13/(AQ4-AO14)","v":0},{"$f":"IF(AP13=0,0,(AP13*((LOG(AP13))/LOG(2))))","v":0},null,{"$f":"N13","v":221},{"$f":"COUNTIF(L62:L72,AS13)","v":0},{"$f":"AT13/(AV4-AT14)","v":0},{"$f":"IF(AU13=0,0,(AU13*((LOG(AU13))/LOG(2))))","v":0}]
[21,1117,21,1162,21,1168,null,null,null,null,0,222,null,222,{"$f":"COUNTIF($L$7:$L$500,N14)","v":34},{"$f":"O14/$Q$4","v":0.51515151515151514},{"$f":"IF(P14=0,0,(P14*((LOG(P14))/LOG(2))))","v":-0.49296459781327084},null,null,{"$f":"N14","v":222},{"$f":"COUNTIF(L7:L17,T14)","v":4},null,null,null,{"$f":"N14","v":222},{"$f":"COUNTIF(L18:L28,Y14)","v":5},null,null,null,{"$f":"N14","v":222},{"$f":"COUNTIF(L29:L39,AD14)","v":7},null,null,null,{"$f":"N14","v":222},{"$f":"COUNTIF(L40:L50,AI14)","v":2},null,null,null,{"$f":"N14","v":222},{"$f":"COUNTIF(L51:L61,AN14)","v":10},null,null,null,{"$f":"N14","v":222},{"$f":"COUNTIF(L62:L72,AS14)","v":6}]
[12,1282,23,1291,14,1304,null,null,null,null,0,121,null,null,null,{"$f":"SUM(P7:P14)","v":1},{"$f":"-SUM(Q7:Q14)","v":2.3110659592412999},null,null,null,null,{"$f":"SUM(V7:V14)","v":1},{"$f":"-SUM(W7:W14)","v":1.8423709931771086},null,null,null,{"$f":"SUM(AA7:AA14)","v":1},{"$f":"-SUM(AB7:AB14)","v":1.4591479170272446},null,null,null,{"$f":"SUM(AF7:AF14)","v":1},{"$f":"-SUM(AG7:AG14)","v":2},null,null,null,{"$f":"SUM(AK7:AK14)","v":1},{"$f":"-SUM(AL7:AL14)","v":2.1132833342948745},null,null,null,{"$f":"SUM(AP7:AP14)","v":1},{"$f":"-SUM(AQ7:AQ14)","v":0},null,null,null,{"$f":"SUM(AU7:AU14)","v":1},{"$f":"-SUM(AV7:AV14)","v":1.9219280948873623}]
[12,1413,23,1421,23,1435,null,null,null,null,0,122,null,null,null,"U=",{"$f":"Q15/(LOG(Q4)/LOG(2))","v":0.38234865457227901},null,null,null,null,"U1=",{"$f":"W15/(LOG(W4)/LOG(2))","v":0.53256465115585538},null,null,null,"U2=",{"$f":"AB15/(LOG(AB4)/LOG(2))","v":0.42178833920758824},null,null,null,"U3=",{"$f":"AG15/(LOG(AG4)/LOG(2))","v":0.57812965263577565},null,null,null,"U4=",{"$f":"AL15/(LOG(AL4)/LOG(2))","v":0.61087587998843473},null,null,null,"U5=",{"$f":"AQ15/(LOG(AQ4)/LOG(2))","v":0},null,null,null,"U6=",{"$f":"AV15/(LOG(AV4)/LOG(2))","v":0.55556181094408441}]
[21,1540,12,1542,23,1551,null,null,null,null,0,212]
[21,1741,21,1749,21,1752,null,null,null,null,0,222]
[21,1846,12,1855,14,1858,null,null,null,null,0,211,null,"Total Target Seq"]
[12,1969,23,1975,23,1982,null,null,null,null,0,122,null,{"$f":"COUNTIF(L7:L72,G3)","v":34},null,11,11,11,11,11,11]
[21,2143,21,2147,21,2150,null,null,null,null,0,222,null,null,null,"% of reinforcement given in 6 equal intervals based on number of trials "]
[12,2256,14,2273,14,2283,null,null,null,null,0,111,null,null,null,"%_1","%_2","%_3","%_4","%_5","%_6"]
[21,2389,12,2397,14,2407,null,null,null,null,0,211,null,null,"target sequence",{"$f":"$G$3","v":222},{"$f":"$G$3","v":222},{"$f":"$G$3","v":222},{"$f":"$G$3","v":222},{"$f":"$G$3","v":222},{"$f":"$G$3","v":222}]
[21,3444,21,3447,21,3456,null,null,null,null,0,222,null,null,"total reinforcement",{"$f":"U14","v":4},{"$f":"Z14","v":5},{"$f":"AE14","v":7},{"$f":"AJ14","v":2},{"$f":"AO14","v":10},{"$f":"AT14","v":6}]
[12,3545,23,3549,23,3554,null,null,null,null,0,122,null,null,"% target"]
[21,3666,21,3677,21,3683,null,null,null,null,0,222,null,null,"CCRF"]
[21,4036,21,4041,21,4094,null,null,null,null,0,222,null,null,"% CCRf"]
[12,4253,23,4257,23,4262,null,null,null,null,0,122,null,null,"average response rate",{"$f":"F17/P20","v":141},{"$f":"(F28-F17)/Q20","v":246.45454545454547},{"$f":"(F39-F28)/R20","v":183.45454545454547},{"$f":"(F50-F39)/S20","v":186.63636363636363},{"$f":"(F61-F50)/T20","v":163.81818181818181},{"$f":"(F72-F61)/U20","v":176}]
[12,4361,14,4368,23,4382,null,null,null,null,0,112]
[12,4478,23,4488,14,4491,null,null,null,null,0,121]
[21,4582,21,4609,12,4621,null,null,null,null,0,221]
[21,4717,21,4727,21,4735,null,null,null,null,0,222]
[21,4934,21,4937,21,4941,null,null,null,null,0,222]
[21,5048,21,5053,21,5092,null,null,null,null,0,222]
[21,5233,21,5239,21,5248,null,null,null,null,0,222]
[21,5388,21,5488,21,5533,null,null,null,null,0,222]
[21,5768,21,5781,21,5784,null,null,null,null,0,222]
[21,5895,21,5899,21,5906,null,null,null,null,0,222]
[21,6260,12,6276,23,6280,null,null,null,null,0,212]
[21,6402,21,6406,21,6422,null,null,null,null,0,222]
[12,6514,23,6526,14,6540,null,null,null,null,0,121]
[21,6641,21,6644,21,6651,null,null,null,null,0,222]
[21,6741,21,6745,12,6757,null,null,null,null,0,221]
[21,6854,12,6861,23,6883,null,null,null,null,0,212]
[12,6994,23,7021,14,7032,null,null,null,null,0,121]
[12,7146,23,7167,14,7171,null,null,null,null,0,121]
[21,7950,21,7965,12,7981,null,null,null,null,0,221]
[12,8083,14,8090,14,8103,null,null,null,null,0,111]
[12,8196,23,8210,23,8215,null,null,null,null,0,122]
[21,8311,21,8314,12,8333,null,null,null,null,0,221]
[21,8438,21,8441,21,8449,null,null,null,null,0,222]
[21,8560,21,8565,21,8603,null,null,null,null,0,222]
[21,8828,21,8831,21,8889,null,null,null,null,0,222]
[21,8976,21,8980,21,8984,null,null,null,null,0,222]
[21,9134,21,9146,21,9152,null,null,null,null,0,222]
[12,9239,14,9246,23,9258,null,null,null,null,0,112]
[21,9363,21,9369,21,9378,null,null,null,null,0,222]
[21,9485,21,9489,21,9493,null,null,null,null,0,222]
[21,9664,21,9674,21,9677,null,null,null,null,0,222]
[21,9841,21,9847,21,9854,null,null,null,null,0,222]
[21,10125,21,10131,21,10135,null,null,null,null,0,222]
[21,10365,21,10371,21,10377,null,null,null,null,0,222]
[21,10761,21,10766,21,10769,null,null,null,null,0,222]
[21,10864,21,10870,21,10874,null,null,null,null,0,222]
[21,11019,21,11026,21,11030,null,null,null,null,0,222]
[21,11321,21,11323,21,11329,null,null,null,null,0,222]
[21,11420,12,11436,23,11438,null,null,null,null,0,212]
[12,11531,23,11544,14,11550,null,null,null,null,0,121]
[21,11645,12,11650,14,11658,null,null,null,null,0,211]
[12,11786,14,11813,14,11821,null,null,null,null,0,111]
[21,11959,21,11961,21,11966,null,null,null,null,0,222]
[21,12061,12,12067,14,12071,null,null,null,null,0,211]

{"sheet":"!N10795B.AXT","index":18,"n_rows":40,"n_cols":48,"rows_kept":40,"cut":false,"hidden":false,"merged":[[4,39,4,42],[5,39,5,40],[4,44,4,47],[5,44,5,45],[4,24,4,27],[5,24,5,25],[4,29,4,32],[5,29,5,30],[4,34,4,37],[5,34,5,35],[1,1,1,2],[5,13,5,14],[18,13,18,14],[19,13,19,14],[4,19,4,22],[5,19,5,20]]}
["Report for:!N10795B.AXT"]
["Date:","<date>"]
["Hen:","<hen>",null,null,null,"Correct Sequence",{"$f":"Start!J2","v":222},null,null,null,null,null,null,null,null,"Total Sequences in Data",{"$f":"4994-COUNTBLANK(L7:L5000)","v":34},null,null,null,null,"Total Sequences in Block Data",{"$f":"COUNTA(L7:L12)","v":6},null,null,null,"Total Sequences in Block Data",{"$f":"COUNTA(L13:L17)","v":5},null,null,null,"Total Sequences in Block Data",{"$f":"COUNTA(L18:L23)","v":6},null,null,null,"Total Sequences in Block Data",{"$f":"COUNTA(L24:L29)","v":6},null,null,null,"Total Sequences in Block Data",{"$f":"COUNTA(L30:L34)","v":5},null,null,null,"Total Sequences in Block Data",{"$f":"COUNTA(L35:L40)","v":6}]
[null,null,null,null,null,null,null,null,null,null,null,null,null,null,null,"Total Sequences in Summary",{"$f":"SUM(O7:O14)","v":34},null,null,null,null,"Total Sequences in Block Summary",{"$f":"SUM(U7:U14)","v":6},null,null,null,"Total Sequences in Block Summary",{"$f":"SUM(Z7:Z14)","v":5},null,null,null,"Total Sequences in Block Summary",{"$f":"SUM(AE7:AE14)","v":6},null,null,null,"Total Sequences in Block Summary",{"$f":"SUM(AJ7:AJ14)","v":6},null,null,null,"Total Sequences in Block Summary",{"$f":"SUM(AO7:AO14)","v":5},null,null,null,"Total Sequences in Block Summary",{"$f":"SUM(AT7:AT14)","v":6}]
[null,null,null,null,null,null,null,null,null,null,null,null,null,null,null,null,null,null,null,"Block 1",null,null,null,null,"Block 2",null,null,null,null,"Block 3",null,null,null,null,"Block 4",null,null,null,null,"Block 5",null,null,null,null,"Block 6"]
["Sequence\nComponent\n1","Time\n1","Sequence\nComponent\n2","Time\n2","Sequence\nComponent\n3","Time\n3","Sequence\nComponent\n4","Time\n4","Sequence\nComponent\n5","Time\n5","Correct?\n0=No 1=Yes","Sequence",null,"Frequency",null,"Relative Frequency","Variability",null,null,"Frequency",null,"Relative Frequency","Variability",null,"Frequency",null,"Relative Frequency","Variability",null,"Frequency",null,"Relative Frequency","Variability",null,"Frequency",null,"Relative Frequency","Variability",null,"Frequency",null,"Relative Frequency","Variability",null,"Frequency",null,"Relative Frequency","Variability"]
[21,6,12,9,14,20,null,null,null,null,0,211,null,111,{"$f":"COUNTIF($L$7:$L$500,N7)","v":2},{"$f":"O7/$Q$4","v":5.8823529411764705E-2},{"$f":"IF(P7=0,0,(P7*((LOG(P7))/LOG(2))))","v":-0.24043899066178465},null,null,{"$f":"N7","v":111},{"$f":"COUNTIF(L7:L12,T7)","v":0},{"$f":"U7/(W4-U14)","v":0},{"$f":"IF(V7=0,0,(V7*((LOG(V7))/LOG(2))))","v":0},null,{"$f":"N7","v":111},{"$f":"COUNTIF(L13:L17,Y7)","v":0},{"$f":"Z7/(AB4-Z14)","v":0},{"$f":"IF(AA7=0,0,(AA7*((LOG(AA7))/LOG(2))))","v":0},null,{"$f":"N7","v":111},{"$f":"COUNTIF(L18:L23,AD7)","v":2},{"$f":"AE7/(AG4-AE14)","v":0.4},{"$f":"IF(AF7=0,0,(AF7*((LOG(AF7))/LOG(2))))","v":-0.52877123795494496},null,{"$f":"N7","v":111},{"$f":"COUNTIF(L24:L29,AI7)","v":0},{"$f":"AJ7/(AL4-AJ14)","v":0},{"$f":"IF(AK7=0,0,(AK7*((LOG(AK7))/LOG(2))))","v":0},null,{"$f":"N7","v":111},{"$f":"COUNTIF(L30:L34,AN7)","v":0},{"$f":"AO7/(AQ4-AO14)","v":0},{"$f":"IF(AP7=0,0,(AP7*((LOG(AP7))/LOG(2))))","v":0},null,{"$f":"N7","v":111},{"$f":"COUNTIF(L35:L40,AS7)","v":0},{"$f":"AT7/(AV4-AT14)","v":0},{"$f":"IF(AU7=0,0,(AU7*((LOG(AU7))/LOG(2))))","v":0}]
[12,116,23,132,23,141,null,null,null,null,0,122,null,112,{"$f":"COUNTIF($L$7:$L$500,N8)","v":5},{"$f":"O8/$Q$4","v":0.14705882352941177},{"$f":"IF(P8=0,0,(P8*((LOG(P8))/LOG(2))))","v":-0.40669628622984955},null,null,{"$f":"N8","v":112},{"$f":"COUNTIF(L7:L12,T8)","v":2},{"$f":"U8/(W4-U14)","v":0.33333333333333331},{"$f":"IF(V8=0,0,(V8*((LOG(V8))/LOG(2))))","v":-0.52832083357371862},null,{"$f":"N8","v":112},{"$f":"COUNTIF(L13:L17,Y8)","v":1},{"$f":"Z8/(AB4-Z14)","v":0.2},{"$f":"IF(AA8=0,0,(AA8*((LOG(AA8))/LOG(2))))","v":-0.46438561897747244},null,{"$f":"N8","v":112},{"$f":"COUNTIF(L18:L23,AD8)","v":0},{"$f":"AE8/(AG4-AE14)","v":0},{"$f":"IF(AF8=0,0,(AF8*((LOG(AF8))/LOG(2))))","v":0},null,{"$f":"N8","v":112},{"$f":"COUNTIF(L24:L29,AI8)","v":2},{"$f":"AJ8/(AL4-AJ14)","v":0.33333333333333331},{"$f":"IF(AK8=0,0,(AK8*((LOG(AK8))/LOG(2))))","v":-0.52832083357371862},null,{"$f":"N8","v":112},{"$f":"COUNTIF(L30:L34,AN8)","v":0},{"$f":"AO8/(AQ4-AO14)","v":0},{"$f":"IF(AP8=0,0,(AP8*((LOG(AP8))/LOG(2))))","v":0},null,{"$f":"N8","v":112},{"$f":"COUNTIF(L35:L40,AS8)","v":0},{"$f":"AT8/(AV4-AT14)","v":0},{"$f":"IF(AU8=0,0,(AU8*((LOG(AU8))/LOG(2))))","v":0}]
[12,245,14,247,23,262,null,null,null,null,0,112,null,121,{"$f":"COUNTIF($L$7:$L$500,N9)","v":4},{"$f":"O9/$Q$4","v":0.11764705882352941},{"$f":"IF(P9=0,0,(P9*((LOG(P9))/LOG(2))))","v":-0.36323092250003997},null,null,{"$f":"N9","v":121},{"$f":"COUNTIF(L7:L12,T9)","v":0},{"$f":"U9/(W4-U14)","v":0},{"$f":"IF(V9=0,0,(V9*((LOG(V9))/LOG(2))))","v":0},null,{"$f":"N9","v":121},{"$f":"COUNTIF(L13:L17,Y9)","v":1},{"$f":"Z9/(AB4-Z14)","v":0.2},{"$f":"IF(AA9=0,0,(AA9*((LOG(AA9))/LOG(2))))","v":-0.46438561897747244},null,{"$f":"N9","v":121},{"$f":"COUNTIF(L18:L23,AD9)","v":1},{"$f":"AE9/(AG4-AE14)","v":0.2},{"$f":"IF(AF9=0,0,(AF9*((LOG(AF9))/LOG(2))))","v":-0.46438561897747244},null,{"$f":"N9","v":121},{"$f":"COUNTIF(L24:L29,AI9)","v":0},{"$f":"AJ9/(AL4-AJ14)","v":0},{"$f":"IF(AK9=0,0,(AK9*((LOG(AK9))/LOG(2))))","v":0},null,{"$f":"N9","v":121},{"$f":"COUNTIF(L30:L34,AN9)","v":1},{"$f":"AO9/(AQ4-AO14)","v":0.5},{"$f":"IF(AP9=0,0,(AP9*((LOG(AP9))/LOG(2))))","v":-0.5},null,{"$f":"N9","v":121},{"$f":"COUNTIF(L35:L40,AS9)","v":1},{"$f":"AT9/(AV4-AT14)","v":0.25},{"$f":"IF(AU9=0,0,(AU9*((LOG(AU9))/LOG(2))))","v":-0.5}]
[12,419,14,433,23,435,null,null,null,null,0,112,null,122,{"$f":"COUNTIF($L$7:$L$500,N10)","v":3},{"$f":"O10/$Q$4","v":8.8235294117647065E-2},{"$f":"IF(P10=0,0,(P10*((LOG(P10))/LOG(2))))","v":-0.30904414769375149},null,null,{"$f":"N10","v":122},{"$f":"COUNTIF(L7:L12,T10)","v":1},{"$f":"U10/(W4-U14)","v":0.16666666666666666},{"$f":"IF(V10=0,0,(V10*((LOG(V10))/LOG(2))))","v":-0.43082708345352599},null,{"$f":"N10","v":122},{"$f":"COUNTIF(L13:L17,Y10)","v":0},{"$f":"Z10/(AB4-Z14)","v":0},{"$f":"IF(AA10=0,0,(AA10*((LOG(AA10))/LOG(2))))","v":0},null,{"$f":"N10","v":122},{"$f":"COUNTIF(L18:L23,AD10)","v":0},{"$f":"AE10/(AG4-AE14)","v":0},{"$f":"IF(AF10=0,0,(AF10*((LOG(AF10))/LOG(2))))","v":0},null,{"$f":"N10","v":122},{"$f":"COUNTIF(L24:L29,AI10)","v":1},{"$f":"AJ10/(AL4-AJ14)","v":0.16666666666666666},{"$f":"IF(AK10=0,0,(AK10*((LOG(AK10))/LOG(2))))","v":-0.43082708345352599},null,{"$f":"N10","v":122},{"$f":"COUNTIF(L30:L34,AN10)","v":0},{"$f":"AO10/(AQ4-AO14)","v":0},{"$f":"IF(AP10=0,0,(AP10*((LOG(AP10))/LOG(2))))","v":0},null,{"$f":"N10","v":122},{"$f":"COUNTIF(L35:L40,AS10)","v":1},{"$f":"AT10/(AV4-AT14)","v":0.25},{"$f":"IF(AU10=0,0,(AU10*((LOG(AU10))/LOG(2))))","v":-0.5}]
[21,879,12,889,14,904,null,null,null,null,0,211,null,211,{"$f":"COUNTIF($L$7:$L$500,N11)","v":9},{"$f":"O11/$Q$4","v":0.26470588235294118},{"$f":"IF(P11=0,0,(P11*((LOG(P11))/LOG(2))))","v":-0.50758354583153664},null,null,{"$f":"N11","v":211},{"$f":"COUNTIF(L7:L12,T11)","v":2},{"$f":"U11/(W4-U14)","v":0.33333333333333331},{"$f":"IF(V11=0,0,(V11*((LOG(V11))/LOG(2))))","v":-0.52832083357371862},null,{"$f":"N11","v":211},{"$f":"COUNTIF(L13:L17,Y11)","v":0},{"$f":"Z11/(AB4-Z14)","v":0},{"$f":"IF(AA11=0,0,(AA11*((LOG(AA11))/LOG(2))))","v":0},null,{"$f":"N11","v":211},{"$f":"COUNTIF(L18:L23,AD11)","v":2},{"$f":"AE11/(AG4-AE14)","v":0.4},{"$f":"IF(AF11=0,0,(AF11*((LOG(AF11))/LOG(2))))","v":-0.52877123795494496},null,{"$f":"N11","v":211},{"$f":"COUNTIF(L24:L29,AI11)","v":2},{"$f":"AJ11/(AL4-AJ14)","v":0.33333333333333331},{"$f":"IF(AK11=0,0,(AK11*((LOG(AK11))/LOG(2))))","v":-0.52832083357371862},null,{"$f":"N11","v":211},{"$f":"COUNTIF(L30:L34,AN11)","v":1},{"$f":"AO11/(AQ4-AO14)","v":0.5},{"$f":"IF(AP11=0,0,(AP11*((LOG(AP11))/LOG(2))))","v":-0.5},null,{"$f":"N11","v":211},{"$f":"COUNTIF(L35:L40,AS11)","v":2},{"$f":"AT11/(AV4-AT14)","v":0.5},{"$f":"IF(AU11=0,0,(AU11*((LOG(AU11))/LOG(2))))","v":-0.5}]
[21,1039,12,1045,23,1062,null,null,null,null,0,212,null,212,{"$f":"COUNTIF($L$7:$L$500,N12)","v":1},{"$f":"O12/$Q$4","v":2.9411764705882353E-2},{"$f":"IF(P12=0,0,(P12*((LOG(P12))/LOG(2))))","v":-0.14963126003677468},null,null,{"$f":"N12","v":212},{"$f":"COUNTIF(L7:L12,T12)","v":1},{"$f":"U12/(W4-U14)","v":0.16666666666666666},{"$f":"IF(V12=0,0,(V12*((LOG(V12))/LOG(2))))","v":-0.43082708345352599},null,{"$f":"N12","v":212},{"$f":"COUNTIF(L13:L17,Y12)","v":0},{"$f":"Z12/(AB4-Z14)","v":0},{"$f":"IF(AA12=0,0,(AA12*((LOG(AA12))/LOG(2))))","v":0},null,{"$f":"N12","v":212},{"$f":"COUNTIF(L18:L23,AD12)","v":0},{"$f":"AE12/(AG4-AE14)","v":0},{"$f":"IF(AF12=0,0,(AF12*((LOG(AF12))/LOG(2))))","v":0},null,{"$f":"N12","v":212},{"$f":"COUNTIF(L24:L29,AI12)","v":0},{"$f":"AJ12/(AL4-AJ14)","v":0},{"$f":"IF(AK12=0,0,(AK12*((LOG(AK12))/LOG(2))))","v":0},null,{"$f":"N12","v":212},{"$f":"COUNTIF(L30:L34,AN12)","v":0},{"$f":"AO12/(AQ4-AO14)","v":0},{"$f":"IF(AP12=0,0,(AP12*((LOG(AP12))/LOG(2))))","v":0},null,{"$f":"N12","v":212},{"$f":"COUNTIF(L35:L40,AS12)","v":0},{"$f":"AT12/(AV4-AT14)","v":0},{"$f":"IF(AU12=0,0,(AU12*((LOG(AU12))/LOG(2))))","v":0}]
[21,1500,21,1504,12,1525,null,null,null,null,0,221,null,221,{"$f":"COUNTIF($L$7:$L$500,N13)","v":4},{"$f":"O13/$Q$4","v":0.11764705882352941},{"$f":"IF(P13=0,0,(P13*((LOG(P13))/LOG(2))))","v":-0.36323092250003997},null,null,{"$f":"N13","v":221},{"$f":"COUNTIF(L7:L12,T13)","v":0},{"$f":"U13/(W4-U14)","v":0},{"$f":"IF(V13=0,0,(V13*((LOG(V13))/LOG(2))))","v":0},null,{"$f":"N13","v":221},{"$f":"COUNTIF(L13:L17,Y13)","v":3},{"$f":"Z13/(AB4-Z14)","v":0.6},{"$f":"IF(AA13=0,0,(AA13*((LOG(AA13))/LOG(2))))","v":-0.44217935649972373},null,{"$f":"N13","v":221},{"$f":"COUNTIF(L18:L23,AD13)","v":0},{"$f":"AE13/(AG4-AE14)","v":0},{"$f":"IF(AF13=0,0,(AF13*((LOG(AF13))/LOG(2))))","v":0},null,{"$f":"N13","v":221},{"$f":"COUNTIF(L24:L29,AI13)","v":1},{"$f":"AJ13/(AL4-AJ14)","v":0.16666666666666666},{"$f":"IF(AK13=0,0,(AK13*((LOG(AK13))/LOG(2))))","v":-0.43082708345352599},null,{"$f":"N13","v":221},{"$f":"COUNTIF(L30:L34,AN13)","v":0},{"$f":"AO13/(AQ4-AO14)","v":0},{"$f":"IF(AP13=0,0,(AP13*((LOG(AP13))/LOG(2))))","v":0},null,{"$f":"N13","v":221},{"$f":"COUNTIF(L35:L40,AS13)","v":0},{"$f":"AT13/(AV4-AT14)","v":0},{"$f":"IF(AU13=0,0,(AU13*((LOG(AU13))/LOG(2))))","v":0}]
[12,1639,23,1646,14,1652,null,null,null,null,0,121,null,222,{"$f":"COUNTIF($L$7:$L$500,N14)","v":6},{"$f":"O14/$Q$4","v":0.17647058823529413},{"$f":"IF(P14=0,0,(P14*((LOG(P14))/LOG(2))))","v":-0.44161770715220888},null,null,{"$f":"N14","v":222},{"$f":"COUNTIF(L7:L12,T14)","v":0},null,null,null,{"$f":"N14","v":222},{"$f":"COUNTIF(L13:L17,Y14)","v":0},null,null,null,{"$f":"N14","v":222},{"$f":"COUNTIF(L18:L23,AD14)","v":1},null,null,null,{"$f":"N14","v":222},{"$f":"COUNTIF(L24:L29,AI14)","v":0},null,null,null,{"$f":"N14","v":222},{"$f":"COUNTIF(L30:L34,AN14)","v":3},null,null,null,{"$f":"N14","v":222},{"$f":"COUNTIF(L35:L40,AS14)","v":2}]
[12,1752,14,1755,23,1762,null,null,null,null,0,112,null,null,null,{"$f":"SUM(P7:P14)","v":1},{"$f":"-SUM(Q7:Q14)","v":2.7814737826059859},null,null,null,null,{"$f":"SUM(V7:V14)","v":0.99999999999999989},{"$f":"-SUM(W7:W14)","v":1.9182958340544891},null,null,null,{"$f":"SUM(AA7:AA14)","v":1},{"$f":"-SUM(AB7:AB14)","v":1.3709505944546687},null,null,null,{"$f":"SUM(AF7:AF14)","v":1},{"$f":"-SUM(AG7:AG14)","v":1.5219280948873624},null,null,null,{"$f":"SUM(AK7:AK14)","v":0.99999999999999989},{"$f":"-SUM(AL7:AL14)","v":1.9182958340544891},null,null,null,{"$f":"SUM(AP7:AP14)","v":1},{"$f":"-SUM(AQ7:AQ14)","v":1},null,null,null,{"$f":"SUM(AU7:AU14)","v":1},{"$f":"-SUM(AV7:AV14)","v":1.5}]
[21,1913,21,1918,12,1934,null,null,null,null,0,221,null,null,null,"U=",{"$f":"Q15/(LOG(Q4)/LOG(2))","v":0.54673102672183582},null,null,null,null,"U1=",{"$f":"W15/(LOG(W4)/LOG(2))","v":0.74209812851030543},null,null,null,"U2=",{"$f":"AB15/(LOG(AB4)/LOG(2))","v":0.5904362833084088},null,null,null,"U3=",{"$f":"AG15/(LOG(AG4)/LOG(2))","v":0.58876215591629388},null,null,null,"U4=",{"$f":"AL15/(LOG(AL4)/LOG(2))","v":0.74209812851030543},null,null,null,"U5=",{"$f":"AQ15/(LOG(AQ4)/LOG(2))","v":0.430676558073393},null,null,null,"U6=",{"$f":"AV15/(LOG(AV4)/LOG(2))","v":0.58027921085181244}]
[21,2036,21,2045,12,2069,null,null,null,null,0,221]
[21,2181,21,2198,21,2201,null,null,null,null,0,222]
[21,2289,12,2294,14,2304,null,null,null,null,0,211,null,"Total Target Seq"]
[12,2400,23,2417,14,2421,null,null,null,null,0,121,null,{"$f":"COUNTIF(L7:L40,G3)","v":6},null,6,5,6,6,5,6]
[12,2696,14,2703,14,2715,null,null,null,null,0,111,null,null,null,"% of reinforcement given in 6 equal intervals based on number of trials "]
[12,2815,14,2840,14,2847,null,null,null,null,0,111,null,null,null,"%_1","%_2","%_3","%_4","%_5","%_6"]
[21,3118,12,3122,14,3136,null,null,null,null,0,211,null,null,"target sequence",{"$f":"$G$3","v":222},{"$f":"$G$3","v":222},{"$f":"$G$3","v":222},{"$f":"$G$3","v":222},{"$f":"$G$3","v":222},{"$f":"$G$3","v":222}]
[21,3241,12,3244,14,3252,null,null,null,null,0,211,null,null,"total reinforcement",{"$f":"U14","v":0},{"$f":"Z14","v":0},{"$f":"AE14","v":1},{"$f":"AJ14","v":0},{"$f":"AO14","v":3},{"$f":"AT14","v":2}]
[12,3377,14,3387,23,3406,null,null,null,null,0,112,null,null,"% target"]
[21,3500,21,3517,12,3529,null,null,null,null,0,221,null,null,"CCRF"]
[12,3629,14,3633,23,3643,null,null,null,null,0,112,null,null,"% CCRf"]
[21,3737,12,3751,14,3760,null,null,null,null,0,211,null,null,"average response rate",{"$f":"F12/P20","v":177},{"$f":"(F17-F12)/Q20","v":201.4},{"$f":"(F23-F17)/R20","v":177.83333333333334},{"$f":"(F29-F23)/S20","v":176},{"$f":"(F34-F29)/T20","v":502.8},{"$f":"(F40-F34)/U20","v":563.33333333333337}]
[12,4170,23,4181,23,4192,null,null,null,null,0,122]
[21,6095,12,6102,14,6121,null,null,null,null,0,211]
[21,6284,21,6286,21,6292,null,null,null,null,0,222]
[12,6396,23,6415,14,6419,null,null,null,null,0,121]
[21,6514,21,6521,21,6523,null,null,null,null,0,222]
[21,6692,21,6696,21,6706,null,null,null,null,0,222]
[21,6793,12,6797,14,6804,null,null,null,null,0,211]
[21,6908,21,6913,21,6918,null,null,null,null,0,222]
[21,7914,12,7938,14,7952,null,null,null,null,0,211]
[12,9797,23,9814,23,9821,null,null,null,null,0,122]
[21,9934,21,9936,21,9941,null,null,null,null,0,222]
[12,10064,23,10078,14,10086,null,null,null,null,0,121]

{"sheet":"!N10894B.AXT","index":19,"n_rows":60,"n_cols":48,"rows_kept":60,"cut":false,"hidden":false,"merged":[[4,39,4,42],[5,39,5,40],[4,44,4,47],[5,44,5,45],[4,24,4,27],[5,24,5,25],[4,29,4,32],[5,29,5,30],[4,34,4,37],[5,34,5,35],[1,1,1,2],[5,13,5,14],[18,13,18,14],[19,13,19,14],[4,19,4,22],[5,19,5,20]]}
["Report for:!N10894B.AXT"]
["Date:","<date>"]
["Hen:","<hen>",null,null,null,"Correct Sequence",{"$f":"Start!J2","v":222},null,null,null,null,null,null,null,null,"Total Sequences in Data",{"$f":"4994-COUNTBLANK(L7:L5000)","v":54},null,null,null,null,"Total Sequences in Block Data",{"$f":"COUNTA(L7:L15)","v":9},null,null,null,"Total Sequences in Block Data",{"$f":"COUNTA(L16:L24)","v":9},null,null,null,"Total Sequences in Block Data",{"$f":"COUNTA(L25:L33)","v":9},null,null,null,"Total Sequences in Block Data",{"$f":"COUNTA(L34:L42)","v":9},null,null,null,"Total Sequences in Block Data",{"$f":"COUNTA(L43:L51)","v":9},null,null,null,"Total Sequences in Block Data",{"$f":"COUNTA(L52:L60)","v":9}]
[null,null,null,null,null,null,null,null,null,null,null,null,null,null,null,"Total Sequences in Summary",{"$f":"SUM(O7:O14)","v":54},null,null,null,null,"Total Sequences in Block Summary",{"$f":"SUM(U7:U14)","v":9},null,null,null,"Total Sequences in Block Summary",{"$f":"SUM(Z7:Z14)","v":9},null,null,null,"Total Sequences in Block Summary",{"$f":"SUM(AE7:AE14)","v":9},null,null,null,"Total Sequences in Block Summary",{"$f":"SUM(AJ7:AJ14)","v":9},null,null,null,"Total Sequences in Block Summary",{"$f":"SUM(AO7:AO14)","v":9},null,null,null,"Total Sequences in Block Summary",{"$f":"SUM(AT7:AT14)","v":9}]
[null,null,null,null,null,null,null,null,null,null,null,null,null,null,null,null,null,null,null,"Block 1",null,null,null,null,"Block 2",null,null,null,null,"Block 3",null,null,null,null,"Block 4",null,null,null,null,"Block 5",null,null,null,null,"Block 6"]
["Sequence\nComponent\n1","Time\n1","Sequence\nComponent\n2","Time\n2","Sequence\nComponent\n3","Time\n3","Sequence\nComponent\n4","Time\n4","Sequence\nComponent\n5","Time\n5","Correct?\n0=No 1=Yes","Sequence",null,"Frequency",null,"Relative Frequency","Variability",null,null,"Frequency",null,"Relative Frequency","Variability",null,"Frequency",null,"Relative Frequency","Variability",null,"Frequency",null,"Relative Frequency","Variability",null,"Frequency",null,"Relative Frequency","Variability",null,"Frequency",null,"Relative Frequency","Variability",null,"Frequency",null,"Relative Frequency","Variability"]
[21,8,12,14,23,34,null,null,null,null,0,212,null,111,{"$f":"COUNTIF($L$7:$L$500,N7)","v":1},{"$f":"O7/$Q$4","v":1.8518518518518517E-2},{"$f":"IF(P7=0,0,(P7*((LOG(P7))/LOG(2))))","v":-0.10657199078080498},null,null,{"$f":"N7","v":111},{"$f":"COUNTIF(L7:L15,T7)","v":0},{"$f":"U7/(W4-U14)","v":0},{"$f":"IF(V7=0,0,(V7*((LOG(V7))/LOG(2))))","v":0},null,{"$f":"N7","v":111},{"$f":"COUNTIF(L16:L24,Y7)","v":1},{"$f":"Z7/(AB4-Z14)","v":0.33333333333333331},{"$f":"IF(AA7=0,0,(AA7*((LOG(AA7))/LOG(2))))","v":-0.52832083357371862},null,{"$f":"N7","v":111},{"$f":"COUNTIF(L25:L33,AD7)","v":0},{"$f":"AE7/(AG4-AE14)","v":0},{"$f":"IF(AF7=0,0,(AF7*((LOG(AF7))/LOG(2))))","v":0},null,{"$f":"N7","v":111},{"$f":"COUNTIF(L34:L42,AI7)","v":0},{"$f":"AJ7/(AL4-AJ14)","v":0},{"$f":"IF(AK7=0,0,(AK7*((LOG(AK7))/LOG(2))))","v":0},null,{"$f":"N7","v":111},{"$f":"COUNTIF(L43:L51,AN7)","v":0},{"$f":"AO7/(AQ4-AO14)","v":0},{"$f":"IF(AP7=0,0,(AP7*((LOG(AP7))/LOG(2))))","v":0},null,{"$f":"N7","v":111},{"$f":"COUNTIF(L52:L60,AS7)","v":0},{"$f":"AT7/(AV4-AT14)","v":{"$error":"#DIV/0!"}},{"$f":"IF(AU7=0,0,(AU7*((LOG(AU7))/LOG(2))))","v":{"$error":"#DIV/0!"}}]
[12,127,23,147,23,153,null,null,null,null,0,122,null,112,{"$f":"COUNTIF($L$7:$L$500,N8)","v":0},{"$f":"O8/$Q$4","v":0},{"$f":"IF(P8=0,0,(P8*((LOG(P8))/LOG(2))))","v":0},null,null,{"$f":"N8","v":112},{"$f":"COUNTIF(L7:L15,T8)","v":0},{"$f":"U8/(W4-U14)","v":0},{"$f":"IF(V8=0,0,(V8*((LOG(V8))/LOG(2))))","v":0},null,{"$f":"N8","v":112},{"$f":"COUNTIF(L16:L24,Y8)","v":0},{"$f":"Z8/(AB4-Z14)","v":0},{"$f":"IF(AA8=0,0,(AA8*((LOG(AA8))/LOG(2))))","v":0},null,{"$f":"N8","v":112},{"$f":"COUNTIF(L25:L33,AD8)","v":0},{"$f":"AE8/(AG4-AE14)","v":0},{"$f":"IF(AF8=0,0,(AF8*((LOG(AF8))/LOG(2))))","v":0},null,{"$f":"N8","v":112},{"$f":"COUNTIF(L34:L42,AI8)","v":0},{"$f":"AJ8/(AL4-AJ14)","v":0},{"$f":"IF(AK8=0,0,(AK8*((LOG(AK8))/LOG(2))))","v":0},null,{"$f":"N8","v":112},{"$f":"COUNTIF(L43:L51,AN8)","v":0},{"$f":"AO8/(AQ4-AO14)","v":0},{"$f":"IF(AP8=0,0,(AP8*((LOG(AP8))/LOG(2))))","v":0},null,{"$f":"N8","v":112},{"$f":"COUNTIF(L52:L60,AS8)","v":0},{"$f":"AT8/(AV4-AT14)","v":{"$error":"#DIV/0!"}},{"$f":"IF(AU8=0,0,(AU8*((LOG(AU8))/LOG(2))))","v":{"$error":"#DIV/0!"}}]
[21,246,21,251,12,269,null,null,null,null,0,221,null,121,{"$f":"COUNTIF($L$7:$L$500,N9)","v":0},{"$f":"O9/$Q$4","v":0},{"$f":"IF(P9=0,0,(P9*((LOG(P9))/LOG(2))))","v":0},null,null,{"$f":"N9","v":121},{"$f":"COUNTIF(L7:L15,T9)","v":0},{"$f":"U9/(W4-U14)","v":0},{"$f":"IF(V9=0,0,(V9*((LOG(V9))/LOG(2))))","v":0},null,{"$f":"N9","v":121},{"$f":"COUNTIF(L16:L24,Y9)","v":0},{"$f":"Z9/(AB4-Z14)","v":0},{"$f":"IF(AA9=0,0,(AA9*((LOG(AA9))/LOG(2))))","v":0},null,{"$f":"N9","v":121},{"$f":"COUNTIF(L25:L33,AD9)","v":0},{"$f":"AE9/(AG4-AE14)","v":0},{"$f":"IF(AF9=0,0,(AF9*((LOG(AF9))/LOG(2))))","v":0},null,{"$f":"N9","v":121},{"$f":"COUNTIF(L34:L42,AI9)","v":0},{"$f":"AJ9/(AL4-AJ14)","v":0},{"$f":"IF(AK9=0,0,(AK9*((LOG(AK9))/LOG(2))))","v":0},null,{"$f":"N9","v":121},{"$f":"COUNTIF(L43:L51,AN9)","v":0},{"$f":"AO9/(AQ4-AO14)","v":0},{"$f":"IF(AP9=0,0,(AP9*((LOG(AP9))/LOG(2))))","v":0},null,{"$f":"N9","v":121},{"$f":"COUNTIF(L52:L60,AS9)","v":0},{"$f":"AT9/(AV4-AT14)","v":{"$error":"#DIV/0!"}},{"$f":"IF(AU9=0,0,(AU9*((LOG(AU9))/LOG(2))))","v":{"$error":"#DIV/0!"}}]
[21,466,21,471,12,486,null,null,null,null,0,221,null,122,{"$f":"COUNTIF($L$7:$L$500,N10)","v":2},{"$f":"O10/$Q$4","v":3.7037037037037035E-2},{"$f":"IF(P10=0,0,(P10*((LOG(P10))/LOG(2))))","v":-0.1761069445245729},null,null,{"$f":"N10","v":122},{"$f":"COUNTIF(L7:L15,T10)","v":1},{"$f":"U10/(W4-U14)","v":0.25},{"$f":"IF(V10=0,0,(V10*((LOG(V10))/LOG(2))))","v":-0.5},null,{"$f":"N10","v":122},{"$f":"COUNTIF(L16:L24,Y10)","v":0},{"$f":"Z10/(AB4-Z14)","v":0},{"$f":"IF(AA10=0,0,(AA10*((LOG(AA10))/LOG(2))))","v":0},null,{"$f":"N10","v":122},{"$f":"COUNTIF(L25:L33,AD10)","v":1},{"$f":"AE10/(AG4-AE14)","v":0.25},{"$f":"IF(AF10=0,0,(AF10*((LOG(AF10))/LOG(2))))","v":-0.5},null,{"$f":"N10","v":122},{"$f":"COUNTIF(L34:L42,AI10)","v":0},{"$f":"AJ10/(AL4-AJ14)","v":0},{"$f":"IF(AK10=0,0,(AK10*((LOG(AK10))/LOG(2))))","v":0},null,{"$f":"N10","v":122},{"$f":"COUNTIF(L43:L51,AN10)","v":0},{"$f":"AO10/(AQ4-AO14)","v":0},{"$f":"IF(AP10=0,0,(AP10*((LOG(AP10))/LOG(2))))","v":0},null,{"$f":"N10","v":122},{"$f":"COUNTIF(L52:L60,AS10)","v":0},{"$f":"AT10/(AV4-AT14)","v":{"$error":"#DIV/0!"}},{"$f":"IF(AU10=0,0,(AU10*((LOG(AU10))/LOG(2))))","v":{"$error":"#DIV/0!"}}]
[21,590,21,598,21,604,null,null,null,null,0,222,null,211,{"$f":"COUNTIF($L$7:$L$500,N11)","v":1},{"$f":"O11/$Q$4","v":1.8518518518518517E-2},{"$f":"IF(P11=0,0,(P11*((LOG(P11))/LOG(2))))","v":-0.10657199078080498},null,null,{"$f":"N11","v":211},{"$f":"COUNTIF(L7:L15,T11)","v":0},{"$f":"U11/(W4-U14)","v":0},{"$f":"IF(V11=0,0,(V11*((LOG(V11))/LOG(2))))","v":0},null,{"$f":"N11","v":211},{"$f":"COUNTIF(L16:L24,Y11)","v":1},{"$f":"Z11/(AB4-Z14)","v":0.33333333333333331},{"$f":"IF(AA11=0,0,(AA11*((LOG(AA11))/LOG(2))))","v":-0.52832083357371862},null,{"$f":"N11","v":211},{"$f":"COUNTIF(L25:L33,AD11)","v":0},{"$f":"AE11/(AG4-AE14)","v":0},{"$f":"IF(AF11=0,0,(AF11*((LOG(AF11))/LOG(2))))","v":0},null,{"$f":"N11","v":211},{"$f":"COUNTIF(L34:L42,AI11)","v":0},{"$f":"AJ11/(AL4-AJ14)","v":0},{"$f":"IF(AK11=0,0,(AK11*((LOG(AK11))/LOG(2))))","v":0},null,{"$f":"N11","v":211},{"$f":"COUNTIF(L43:L51,AN11)","v":0},{"$f":"AO11/(AQ4-AO14)","v":0},{"$f":"IF(AP11=0,0,(AP11*((LOG(AP11))/LOG(2))))","v":0},null,{"$f":"N11","v":211},{"$f":"COUNTIF(L52:L60,AS11)","v":0},{"$f":"AT11/(AV4-AT14)","v":{"$error":"#DIV/0!"}},{"$f":"IF(AU11=0,0,(AU11*((LOG(AU11))/LOG(2))))","v":{"$error":"#DIV/0!"}}]
[21,698,21,701,21,708,null,null,null,null,0,222,null,212,{"$f":"COUNTIF($L$7:$L$500,N12)","v":6},{"$f":"O12/$Q$4","v":0.1111111111111111},{"$f":"IF(P12=0,0,(P12*((LOG(P12))/LOG(2))))","v":-0.3522138890491458},null,null,{"$f":"N12","v":212},{"$f":"COUNTIF(L7:L15,T12)","v":1},{"$f":"U12/(W4-U14)","v":0.25},{"$f":"IF(V12=0,0,(V12*((LOG(V12))/LOG(2))))","v":-0.5},null,{"$f":"N12","v":212},{"$f":"COUNTIF(L16:L24,Y12)","v":1},{"$f":"Z12/(AB4-Z14)","v":0.33333333333333331},{"$f":"IF(AA12=0,0,(AA12*((LOG(AA12))/LOG(2))))","v":-0.52832083357371862},null,{"$f":"N12","v":212},{"$f":"COUNTIF(L25:L33,AD12)","v":1},{"$f":"AE12/(AG4-AE14)","v":0.25},{"$f":"IF(AF12=0,0,(AF12*((LOG(AF12))/LOG(2))))","v":-0.5},null,{"$f":"N12","v":212},{"$f":"COUNTIF(L34:L42,AI12)","v":1},{"$f":"AJ12/(AL4-AJ14)","v":1},{"$f":"IF(AK12=0,0,(AK12*((LOG(AK12))/LOG(2))))","v":0},null,{"$f":"N12","v":212},{"$f":"COUNTIF(L43:L51,AN12)","v":2},{"$f":"AO12/(AQ4-AO14)","v":0.66666666666666663},{"$f":"IF(AP12=0,0,(AP12*((LOG(AP12))/LOG(2))))","v":-0.38997500048077083},null,{"$f":"N12","v":212},{"$f":"COUNTIF(L52:L60,AS12)","v":0},{"$f":"AT12/(AV4-AT14)","v":{"$error":"#DIV/0!"}},{"$f":"IF(AU12=0,0,(AU12*((LOG(AU12))/LOG(2))))","v":{"$error":"#DIV/0!"}}]
[21,829,21,832,21,841,null,null,null,null,0,222,null,221,{"$f":"COUNTIF($L$7:$L$500,N13)","v":5},{"$f":"O13/$Q$4","v":9.2592592592592587E-2},{"$f":"IF(P13=0,0,(P13*((LOG(P13))/LOG(2))))","v":-0.31786661178482462},null,null,{"$f":"N13","v":221},{"$f":"COUNTIF(L7:L15,T13)","v":2},{"$f":"U13/(W4-U14)","v":0.5},{"$f":"IF(V13=0,0,(V13*((LOG(V13))/LOG(2))))","v":-0.5},null,{"$f":"N13","v":221},{"$f":"COUNTIF(L16:L24,Y13)","v":0},{"$f":"Z13/(AB4-Z14)","v":0},{"$f":"IF(AA13=0,0,(AA13*((LOG(AA13))/LOG(2))))","v":0},null,{"$f":"N13","v":221},{"$f":"COUNTIF(L25:L33,AD13)","v":2},{"$f":"AE13/(AG4-AE14)","v":0.5},{"$f":"IF(AF13=0,0,(AF13*((LOG(AF13))/LOG(2))))","v":-0.5},null,{"$f":"N13","v":221},{"$f":"COUNTIF(L34:L42,AI13)","v":0},{"$f":"AJ13/(AL4-AJ14)","v":0},{"$f":"IF(AK13=0,0,(AK13*((LOG(AK13))/LOG(2))))","v":0},null,{"$f":"N13","v":221},{"$f":"COUNTIF(L43:L51,AN13)","v":1},{"$f":"AO13/(AQ4-AO14)","v":0.33333333333333331},{"$f":"IF(AP13=0,0,(AP13*((LOG(AP13))/LOG(2))))","v":-0.52832083357371862},null,{"$f":"N13","v":221},{"$f":"COUNTIF(L52:L60,AS13)","v":0},{"$f":"AT13/(AV4-AT14)","v":{"$error":"#DIV/0!"}},{"$f":"IF(AU13=0,0,(AU13*((LOG(AU13))/LOG(2))))","v":{"$error":"#DIV/0!"}}]
[21,987,21,994,21,1001,null,null,null,null,0,222,null,222,{"$f":"COUNTIF($L$7:$L$500,N14)","v":39},{"$f":"O14/$Q$4","v":0.72222222222222221},{"$f":"IF(P14=0,0,(P14*((LOG(P14))/LOG(2))))","v":-0.33907270460643685},null,null,{"$f":"N14","v":222},{"$f":"COUNTIF(L7:L15,T14)","v":5},null,null,null,{"$f":"N14","v":222},{"$f":"COUNTIF(L16:L24,Y14)","v":6},null,null,null,{"$f":"N14","v":222},{"$f":"COUNTIF(L25:L33,AD14)","v":5},null,null,null,{"$f":"N14","v":222},{"$f":"COUNTIF(L34:L42,AI14)","v":8},null,null,null,{"$f":"N14","v":222},{"$f":"COUNTIF(L43:L51,AN14)","v":6},null,null,null,{"$f":"N14","v":222},{"$f":"COUNTIF(L52:L60,AS14)","v":9}]
[21,1155,21,1162,21,1169,null,null,null,null,0,222,null,null,null,{"$f":"SUM(P7:P14)","v":1},{"$f":"-SUM(Q7:Q14)","v":1.39840413152659},null,null,null,null,{"$f":"SUM(V7:V14)","v":1},{"$f":"-SUM(W7:W14)","v":1.5},null,null,null,{"$f":"SUM(AA7:AA14)","v":1},{"$f":"-SUM(AB7:AB14)","v":1.5849625007211559},null,null,null,{"$f":"SUM(AF7:AF14)","v":1},{"$f":"-SUM(AG7:AG14)","v":1.5},null,null,null,{"$f":"SUM(AK7:AK14)","v":1},{"$f":"-SUM(AL7:AL14)","v":0},null,null,null,{"$f":"SUM(AP7:AP14)","v":1},{"$f":"-SUM(AQ7:AQ14)","v":0.91829583405448945},null,null,null,{"$f":"SUM(AU7:AU14)","v":{"$error":"#DIV/0!"}},{"$f":"-SUM(AV7:AV14)","v":{"$error":"#DIV/0!"}}]
[21,1280,21,1286,21,1290,null,null,null,null,0,222,null,null,null,"U=",{"$f":"Q15/(LOG(Q4)/LOG(2))","v":0.24299417338755616},null,null,null,null,"U1=",{"$f":"W15/(LOG(W4)/LOG(2))","v":0.47319731517859309},null,null,null,"U2=",{"$f":"AB15/(LOG(AB4)/LOG(2))","v":0.49999999999999994},null,null,null,"U3=",{"$f":"AG15/(LOG(AG4)/LOG(2))","v":0.47319731517859309},null,null,null,"U4=",{"$f":"AL15/(LOG(AL4)/LOG(2))","v":0},null,null,null,"U5=",{"$f":"AQ15/(LOG(AQ4)/LOG(2))","v":0.28969008214284753},null,null,null,"U6=",{"$f":"AV15/(LOG(AV4)/LOG(2))","v":{"$error":"#DIV/0!"}}]
[21,1474,12,1481,14,1491,null,null,null,null,0,211]
[12,1602,14,1628,14,1632,null,null,null,null,0,111]
[21,1724,21,1734,21,1756,null,null,null,null,0,222,null,"Total Target Seq"]
[21,2168,21,2173,21,2180,null,null,null,null,0,222,null,{"$f":"COUNTIF(L7:L60,G3)","v":39},null,9,9,9,9,9,9]
[21,2285,21,2290,21,2297,null,null,null,null,0,222,null,null,null,"% of reinforcement given in 6 equal intervals based on number of trials "]
[21,2573,21,2582,21,2588,null,null,null,null,0,222,null,null,null,"%_1","%_2","%_3","%_4","%_5","%_6"]
[21,2773,12,2794,23,2796,null,null,null,null,0,212,null,null,"target sequence",{"$f":"$G$3","v":222},{"$f":"$G$3","v":222},{"$f":"$G$3","v":222},{"$f":"$G$3","v":222},{"$f":"$G$3","v":222},{"$f":"$G$3","v":222}]
[21,2935,21,2941,21,2945,null,null,null,null,0,222,null,null,"total reinforcement",{"$f":"U14","v":5},{"$f":"Z14","v":6},{"$f":"AE14","v":5},{"$f":"AJ14","v":8},{"$f":"AO14","v":6},{"$f":"AT14","v":9}]
[21,3181,21,3239,12,3241,null,null,null,null,0,221,null,null,"% target"]
[21,3334,21,3350,12,3362,null,null,null,null,0,221,null,null,"CCRF"]
[21,3455,21,3458,21,3465,null,null,null,null,0,222,null,null,"% CCRf"]
[21,3575,12,3592,23,3600,null,null,null,null,0,212,null,null,"average response rate",{"$f":"F15/P20","v":129.88888888888889},{"$f":"(F24-F15)/Q20","v":197.33333333333334},{"$f":"(F33-F24)/R20","v":194.77777777777777},{"$f":"(F42-F33)/S20","v":261},{"$f":"(F51-F42)/T20","v":156.77777777777777},{"$f":"(F60-F51)/U20","v":133.22222222222223}]
[12,3746,23,3765,23,3773,null,null,null,null,0,122]
[21,3868,21,3874,21,3878,null,null,null,null,0,222]
[21,3974,21,3977,21,3982,null,null,null,null,0,222]
[21,4368,21,4374,21,4378,null,null,null,null,0,222]
[21,4689,21,4694,21,4698,null,null,null,null,0,222]
[21,4915,21,4919,21,4921,null,null,null,null,0,222]
[21,5132,21,5136,21,5192,null,null,null,null,0,222]
[21,5369,21,5374,21,5380,null,null,null,null,0,222]
[21,5701,21,5706,21,5710,null,null,null,null,0,222]
[21,6039,21,6045,21,6087,null,null,null,null,0,222]
[21,6255,21,6260,21,6309,null,null,null,null,0,222]
[21,6608,21,6616,21,6620,null,null,null,null,0,222]
[21,6742,21,6746,21,6756,null,null,null,null,0,222]
[21,7007,12,7042,23,7047,null,null,null,null,0,212]
[21,7147,21,7155,21,7188,null,null,null,null,0,222]
[21,7390,21,7392,12,7423,null,null,null,null,0,221]
[21,7527,12,7542,23,7551,null,null,null,null,0,212]
[21,7645,21,7648,21,7657,null,null,null,null,0,222]
[21,7847,21,7850,21,7873,null,null,null,null,0,222]
[21,8059,12,8060,23,8063,null,null,null,null,0,212]
[21,8160,21,8165,21,8168,null,null,null,null,0,222]
[21,8347,21,8353,21,8356,null,null,null,null,0,222]
[21,8443,21,8454,21,8458,null,null,null,null,0,222]
[21,8562,21,8574,21,8582,null,null,null,null,0,222]
[21,8671,21,8675,21,8679,null,null,null,null,0,222]
[21,8769,21,8777,21,8781,null,null,null,null,0,222]
[21,8959,21,8961,21,8968,null,null,null,null,0,222]
[21,9061,21,9067,21,9072,null,null,null,null,0,222]
[21,9170,21,9195,21,9198,null,null,null,null,0,222]
[21,9408,21,9414,21,9420,null,null,null,null,0,222]
[21,9544,21,9551,21,9555,null,null,null,null,0,222]
[21,9646,21,9650,21,9657,null,null,null,null,1,222]

{"sheet":"!N10995B.AXT","index":20,"n_rows":64,"n_cols":48,"rows_kept":64,"cut":false,"hidden":false,"merged":[[4,39,4,42],[5,39,5,40],[4,44,4,47],[5,44,5,45],[4,24,4,27],[5,24,5,25],[4,29,4,32],[5,29,5,30],[4,34,4,37],[5,34,5,35],[1,1,1,2],[5,13,5,14],[18,13,18,14],[19,13,19,14],[4,19,4,22],[5,19,5,20]]}
["Report for:!N10995B.AXT"]
["Date:","<date>"]
["Hen:","<hen>",null,null,null,"Correct Sequence",{"$f":"Start!J2","v":222},null,null,null,null,null,null,null,null,"Total Sequences in Data",{"$f":"4994-COUNTBLANK(L7:L5000)","v":58},null,null,null,null,"Total Sequences in Block Data",{"$f":"COUNTA(L7:L16)","v":10},null,null,null,"Total Sequences in Block Data",{"$f":"COUNTA(L17:L25)","v":9},null,null,null,"Total Sequences in Block Data",{"$f":"COUNTA(L26:L35)","v":10},null,null,null,"Total Sequences in Block Data",{"$f":"COUNTA(L36:L45)","v":10},null,null,null,"Total Sequences in Block Data",{"$f":"COUNTA(L46:L54)","v":9},null,null,null,"Total Sequences in Block Data",{"$f":"COUNTA(L55:L64)","v":10}]
[null,null,null,null,null,null,null,null,null,null,null,null,null,null,null,"Total Sequences in Summary",{"$f":"SUM(O7:O14)","v":58},null,null,null,null,"Total Sequences in Block Summary",{"$f":"SUM(U7:U14)","v":10},null,null,null,"Total Sequences in Block Summary",{"$f":"SUM(Z7:Z14)","v":9},null,null,null,"Total Sequences in Block Summary",{"$f":"SUM(AE7:AE14)","v":10},null,null,null,"Total Sequences in Block Summary",{"$f":"SUM(AJ7:AJ14)","v":10},null,null,null,"Total Sequences in Block Summary",{"$f":"SUM(AO7:AO14)","v":9},null,null,null,"Total Sequences in Block Summary",{"$f":"SUM(AT7:AT14)","v":10}]
[null,null,null,null,null,null,null,null,null,null,null,null,null,null,null,null,null,null,null,"Block 1",null,null,null,null,"Block 2",null,null,null,null,"Block 3",null,null,null,null,"Block 4",null,null,null,null,"Block 5",null,null,null,null,"Block 6"]
["Sequence\nComponent\n1","Time\n1","Sequence\nComponent\n2","Time\n2","Sequence\nComponent\n3","Time\n3","Sequence\nComponent\n4","Time\n4","Sequence\nComponent\n5","Time\n5","Correct?\n0=No 1=Yes","Sequence",null,"Frequency",null,"Relative Frequency","Variability",null,null,"Frequency",null,"Relative Frequency","Variability",null,"Frequency",null,"Relative Frequency","Variability",null,"Frequency",null,"Relative Frequency","Variability",null,"Frequency",null,"Relative Frequency","Variability",null,"Frequency",null,"Relative Frequency","Variability",null,"Frequency",null,"Relative Frequency","Variability"]
[21,134,21,156,21,160,null,null,null,null,0,222,null,111,{"$f":"COUNTIF($L$7:$L$500,N7)","v":2},{"$f":"O7/$Q$4","v":3.4482758620689655E-2},{"$f":"IF(P7=0,0,(P7*((LOG(P7))/LOG(2))))","v":-0.16751658603888178},null,null,{"$f":"N7","v":111},{"$f":"COUNTIF(L7:L16,T7)","v":0},{"$f":"U7/(W4-U14)","v":0},{"$f":"IF(V7=0,0,(V7*((LOG(V7))/LOG(2))))","v":0},null,{"$f":"N7","v":111},{"$f":"COUNTIF(L17:L25,Y7)","v":0},{"$f":"Z7/(AB4-Z14)","v":0},{"$f":"IF(AA7=0,0,(AA7*((LOG(AA7))/LOG(2))))","v":0},null,{"$f":"N7","v":111},{"$f":"COUNTIF(L26:L35,AD7)","v":0},{"$f":"AE7/(AG4-AE14)","v":0},{"$f":"IF(AF7=0,0,(AF7*((LOG(AF7))/LOG(2))))","v":0},null,{"$f":"N7","v":111},{"$f":"COUNTIF(L36:L45,AI7)","v":2},{"$f":"AJ7/(AL4-AJ14)","v":0.33333333333333331},{"$f":"IF(AK7=0,0,(AK7*((LOG(AK7))/LOG(2))))","v":-0.52832083357371862},null,{"$f":"N7","v":111},{"$f":"COUNTIF(L46:L54,AN7)","v":0},{"$f":"AO7/(AQ4-AO14)","v":0},{"$f":"IF(AP7=0,0,(AP7*((LOG(AP7))/LOG(2))))","v":0},null,{"$f":"N7","v":111},{"$f":"COUNTIF(L55:L64,AS7)","v":0},{"$f":"AT7/(AV4-AT14)","v":0},{"$f":"IF(AU7=0,0,(AU7*((LOG(AU7))/LOG(2))))","v":0}]
[21,383,21,396,21,398,null,null,null,null,0,222,null,112,{"$f":"COUNTIF($L$7:$L$500,N8)","v":0},{"$f":"O8/$Q$4","v":0},{"$f":"IF(P8=0,0,(P8*((LOG(P8))/LOG(2))))","v":0},null,null,{"$f":"N8","v":112},{"$f":"COUNTIF(L7:L16,T8)","v":0},{"$f":"U8/(W4-U14)","v":0},{"$f":"IF(V8=0,0,(V8*((LOG(V8))/LOG(2))))","v":0},null,{"$f":"N8","v":112},{"$f":"COUNTIF(L17:L25,Y8)","v":0},{"$f":"Z8/(AB4-Z14)","v":0},{"$f":"IF(AA8=0,0,(AA8*((LOG(AA8))/LOG(2))))","v":0},null,{"$f":"N8","v":112},{"$f":"COUNTIF(L26:L35,AD8)","v":0},{"$f":"AE8/(AG4-AE14)","v":0},{"$f":"IF(AF8=0,0,(AF8*((LOG(AF8))/LOG(2))))","v":0},null,{"$f":"N8","v":112},{"$f":"COUNTIF(L36:L45,AI8)","v":0},{"$f":"AJ8/(AL4-AJ14)","v":0},{"$f":"IF(AK8=0,0,(AK8*((LOG(AK8))/LOG(2))))","v":0},null,{"$f":"N8","v":112},{"$f":"COUNTIF(L46:L54,AN8)","v":0},{"$f":"AO8/(AQ4-AO14)","v":0},{"$f":"IF(AP8=0,0,(AP8*((LOG(AP8))/LOG(2))))","v":0},null,{"$f":"N8","v":112},{"$f":"COUNTIF(L55:L64,AS8)","v":0},{"$f":"AT8/(AV4-AT14)","v":0},{"$f":"IF(AU8=0,0,(AU8*((LOG(AU8))/LOG(2))))","v":0}]
[21,579,21,588,21,591,null,null,null,null,0,222,null,121,{"$f":"COUNTIF($L$7:$L$500,N9)","v":4},{"$f":"O9/$Q$4","v":6.8965517241379309E-2},{"$f":"IF(P9=0,0,(P9*((LOG(P9))/LOG(2))))","v":-0.26606765483638428},null,null,{"$f":"N9","v":121},{"$f":"COUNTIF(L7:L16,T9)","v":0},{"$f":"U9/(W4-U14)","v":0},{"$f":"IF(V9=0,0,(V9*((LOG(V9))/LOG(2))))","v":0},null,{"$f":"N9","v":121},{"$f":"COUNTIF(L17:L25,Y9)","v":3},{"$f":"Z9/(AB4-Z14)","v":0.75},{"$f":"IF(AA9=0,0,(AA9*((LOG(AA9))/LOG(2))))","v":-0.31127812445913283},null,{"$f":"N9","v":121},{"$f":"COUNTIF(L26:L35,AD9)","v":0},{"$f":"AE9/(AG4-AE14)","v":0},{"$f":"IF(AF9=0,0,(AF9*((LOG(AF9))/LOG(2))))","v":0},null,{"$f":"N9","v":121},{"$f":"COUNTIF(L36:L45,AI9)","v":1},{"$f":"AJ9/(AL4-AJ14)","v":0.16666666666666666},{"$f":"IF(AK9=0,0,(AK9*((LOG(AK9))/LOG(2))))","v":-0.43082708345352599},null,{"$f":"N9","v":121},{"$f":"COUNTIF(L46:L54,AN9)","v":0},{"$f":"AO9/(AQ4-AO14)","v":0},{"$f":"IF(AP9=0,0,(AP9*((LOG(AP9))/LOG(2))))","v":0},null,{"$f":"N9","v":121},{"$f":"COUNTIF(L55:L64,AS9)","v":0},{"$f":"AT9/(AV4-AT14)","v":0},{"$f":"IF(AU9=0,0,(AU9*((LOG(AU9))/LOG(2))))","v":0}]
[21,691,21,695,12,723,null,null,null,null,0,221,null,122,{"$f":"COUNTIF($L$7:$L$500,N10)","v":2},{"$f":"O10/$Q$4","v":3.4482758620689655E-2},{"$f":"IF(P10=0,0,(P10*((LOG(P10))/LOG(2))))","v":-0.16751658603888178},null,null,{"$f":"N10","v":122},{"$f":"COUNTIF(L7:L16,T10)","v":1},{"$f":"U10/(W4-U14)","v":0.5},{"$f":"IF(V10=0,0,(V10*((LOG(V10))/LOG(2))))","v":-0.5},null,{"$f":"N10","v":122},{"$f":"COUNTIF(L17:L25,Y10)","v":0},{"$f":"Z10/(AB4-Z14)","v":0},{"$f":"IF(AA10=0,0,(AA10*((LOG(AA10))/LOG(2))))","v":0},null,{"$f":"N10","v":122},{"$f":"COUNTIF(L26:L35,AD10)","v":1},{"$f":"AE10/(AG4-AE14)","v":0.25},{"$f":"IF(AF10=0,0,(AF10*((LOG(AF10))/LOG(2))))","v":-0.5},null,{"$f":"N10","v":122},{"$f":"COUNTIF(L36:L45,AI10)","v":0},{"$f":"AJ10/(AL4-AJ14)","v":0},{"$f":"IF(AK10=0,0,(AK10*((LOG(AK10))/LOG(2))))","v":0},null,{"$f":"N10","v":122},{"$f":"COUNTIF(L46:L54,AN10)","v":0},{"$f":"AO10/(AQ4-AO14)","v":0},{"$f":"IF(AP10=0,0,(AP10*((LOG(AP10))/LOG(2))))","v":0},null,{"$f":"N10","v":122},{"$f":"COUNTIF(L55:L64,AS10)","v":0},{"$f":"AT10/(AV4-AT14)","v":0},{"$f":"IF(AU10=0,0,(AU10*((LOG(AU10))/LOG(2))))","v":0}]
[21,872,21,879,21,889,null,null,null,null,0,222,null,211,{"$f":"COUNTIF($L$7:$L$500,N11)","v":1},{"$f":"O11/$Q$4","v":1.7241379310344827E-2},{"$f":"IF(P11=0,0,(P11*((LOG(P11))/LOG(2))))","v":-0.10099967232978573},null,null,{"$f":"N11","v":211},{"$f":"COUNTIF(L7:L16,T11)","v":0},{"$f":"U11/(W4-U14)","v":0},{"$f":"IF(V11=0,0,(V11*((LOG(V11))/LOG(2))))","v":0},null,{"$f":"N11","v":211},{"$f":"COUNTIF(L17:L25,Y11)","v":0},{"$f":"Z11/(AB4-Z14)","v":0},{"$f":"IF(AA11=0,0,(AA11*((LOG(AA11))/LOG(2))))","v":0},null,{"$f":"N11","v":211},{"$f":"COUNTIF(L26:L35,AD11)","v":0},{"$f":"AE11/(AG4-AE14)","v":0},{"$f":"IF(AF11=0,0,(AF11*((LOG(AF11))/LOG(2))))","v":0},null,{"$f":"N11","v":211},{"$f":"COUNTIF(L36:L45,AI11)","v":1},{"$f":"AJ11/(AL4-AJ14)","v":0.16666666666666666},{"$f":"IF(AK11=0,0,(AK11*((LOG(AK11))/LOG(2))))","v":-0.43082708345352599},null,{"$f":"N11","v":211},{"$f":"COUNTIF(L46:L54,AN11)","v":0},{"$f":"AO11/(AQ4-AO14)","v":0},{"$f":"IF(AP11=0,0,(AP11*((LOG(AP11))/LOG(2))))","v":0},null,{"$f":"N11","v":211},{"$f":"COUNTIF(L55:L64,AS11)","v":0},{"$f":"AT11/(AV4-AT14)","v":0},{"$f":"IF(AU11=0,0,(AU11*((LOG(AU11))/LOG(2))))","v":0}]
[21,1159,21,1163,21,1167,null,null,null,null,0,222,null,212,{"$f":"COUNTIF($L$7:$L$500,N12)","v":6},{"$f":"O12/$Q$4","v":0.10344827586206896},{"$f":"IF(P12=0,0,(P12*((LOG(P12))/LOG(2))))","v":-0.33858812011100858},null,null,{"$f":"N12","v":212},{"$f":"COUNTIF(L7:L16,T12)","v":0},{"$f":"U12/(W4-U14)","v":0},{"$f":"IF(V12=0,0,(V12*((LOG(V12))/LOG(2))))","v":0},null,{"$f":"N12","v":212},{"$f":"COUNTIF(L17:L25,Y12)","v":0},{"$f":"Z12/(AB4-Z14)","v":0},{"$f":"IF(AA12=0,0,(AA12*((LOG(AA12))/LOG(2))))","v":0},null,{"$f":"N12","v":212},{"$f":"COUNTIF(L26:L35,AD12)","v":1},{"$f":"AE12/(AG4-AE14)","v":0.25},{"$f":"IF(AF12=0,0,(AF12*((LOG(AF12))/LOG(2))))","v":-0.5},null,{"$f":"N12","v":212},{"$f":"COUNTIF(L36:L45,AI12)","v":2},{"$f":"AJ12/(AL4-AJ14)","v":0.33333333333333331},{"$f":"IF(AK12=0,0,(AK12*((LOG(AK12))/LOG(2))))","v":-0.52832083357371862},null,{"$f":"N12","v":212},{"$f":"COUNTIF(L46:L54,AN12)","v":1},{"$f":"AO12/(AQ4-AO14)","v":1},{"$f":"IF(AP12=0,0,(AP12*((LOG(AP12))/LOG(2))))","v":0},null,{"$f":"N12","v":212},{"$f":"COUNTIF(L55:L64,AS12)","v":2},{"$f":"AT12/(AV4-AT14)","v":1},{"$f":"IF(AU12=0,0,(AU12*((LOG(AU12))/LOG(2))))","v":0}]
[12,1255,23,1264,23,1275,null,null,null,null,0,122,null,221,{"$f":"COUNTIF($L$7:$L$500,N13)","v":4},{"$f":"O13/$Q$4","v":6.8965517241379309E-2},{"$f":"IF(P13=0,0,(P13*((LOG(P13))/LOG(2))))","v":-0.26606765483638428},null,null,{"$f":"N13","v":221},{"$f":"COUNTIF(L7:L16,T13)","v":1},{"$f":"U13/(W4-U14)","v":0.5},{"$f":"IF(V13=0,0,(V13*((LOG(V13))/LOG(2))))","v":-0.5},null,{"$f":"N13","v":221},{"$f":"COUNTIF(L17:L25,Y13)","v":1},{"$f":"Z13/(AB4-Z14)","v":0.25},{"$f":"IF(AA13=0,0,(AA13*((LOG(AA13))/LOG(2))))","v":-0.5},null,{"$f":"N13","v":221},{"$f":"COUNTIF(L26:L35,AD13)","v":2},{"$f":"AE13/(AG4-AE14)","v":0.5},{"$f":"IF(AF13=0,0,(AF13*((LOG(AF13))/LOG(2))))","v":-0.5},null,{"$f":"N13","v":221},{"$f":"COUNTIF(L36:L45,AI13)","v":0},{"$f":"AJ13/(AL4-AJ14)","v":0},{"$f":"IF(AK13=0,0,(AK13*((LOG(AK13))/LOG(2))))","v":0},null,{"$f":"N13","v":221},{"$f":"COUNTIF(L46:L54,AN13)","v":0},{"$f":"AO13/(AQ4-AO14)","v":0},{"$f":"IF(AP13=0,0,(AP13*((LOG(AP13))/LOG(2))))","v":0},null,{"$f":"N13","v":221},{"$f":"COUNTIF(L55:L64,AS13)","v":0},{"$f":"AT13/(AV4-AT14)","v":0},{"$f":"IF(AU13=0,0,(AU13*((LOG(AU13))/LOG(2))))","v":0}]
[21,1374,21,1380,21,1400,null,null,null,null,0,222,null,222,{"$f":"COUNTIF($L$7:$L$500,N14)","v":39},{"$f":"O14/$Q$4","v":0.67241379310344829},{"$f":"IF(P14=0,0,(P14*((LOG(P14))/LOG(2))))","v":-0.38500986679909699},null,null,{"$f":"N14","v":222},{"$f":"COUNTIF(L7:L16,T14)","v":8},null,null,null,{"$f":"N14","v":222},{"$f":"COUNTIF(L17:L25,Y14)","v":5},null,null,null,{"$f":"N14","v":222},{"$f":"COUNTIF(L26:L35,AD14)","v":6},null,null,null,{"$f":"N14","v":222},{"$f":"COUNTIF(L36:L45,AI14)","v":4},null,null,null,{"$f":"N14","v":222},{"$f":"COUNTIF(L46:L54,AN14)","v":8},null,null,null,{"$f":"N14","v":222},{"$f":"COUNTIF(L55:L64,AS14)","v":8}]
[21,1679,21,1685,21,1687,null,null,null,null,0,222,null,null,null,{"$f":"SUM(P7:P14)","v":1},{"$f":"-SUM(Q7:Q14)","v":1.6917661409904232},null,null,null,null,{"$f":"SUM(V7:V14)","v":1},{"$f":"-SUM(W7:W14)","v":1},null,null,null,{"$f":"SUM(AA7:AA14)","v":1},{"$f":"-SUM(AB7:AB14)","v":0.81127812445913283},null,null,null,{"$f":"SUM(AF7:AF14)","v":1},{"$f":"-SUM(AG7:AG14)","v":1.5},null,null,null,{"$f":"SUM(AK7:AK14)","v":1},{"$f":"-SUM(AL7:AL14)","v":1.9182958340544891},null,null,null,{"$f":"SUM(AP7:AP14)","v":1},{"$f":"-SUM(AQ7:AQ14)","v":0},null,null,null,{"$f":"SUM(AU7:AU14)","v":1},{"$f":"-SUM(AV7:AV14)","v":0}]
[21,1795,21,1803,21,1806,null,null,null,null,0,222,null,null,null,"U=",{"$f":"Q15/(LOG(Q4)/LOG(2))","v":0.28879679575566475},null,null,null,null,"U1=",{"$f":"W15/(LOG(W4)/LOG(2))","v":0.3010299956639812},null,null,null,"U2=",{"$f":"AB15/(LOG(AB4)/LOG(2))","v":0.25592975357145742},null,null,null,"U3=",{"$f":"AG15/(LOG(AG4)/LOG(2))","v":0.45154499349597182},null,null,null,"U4=",{"$f":"AL15/(LOG(AL4)/LOG(2))","v":0.57746458660765609},null,null,null,"U5=",{"$f":"AQ15/(LOG(AQ4)/LOG(2))","v":0},null,null,null,"U6=",{"$f":"AV15/(LOG(AV4)/LOG(2))","v":0}]
[21,1975,21,1981,12,2041,null,null,null,null,0,221]
[12,2141,23,2149,14,2156,null,null,null,null,0,121]
[21,2385,21,2388,21,2392,null,null,null,null,0,222,null,"Total Target Seq"]
[21,2505,21,2511,21,2540,null,null,null,null,0,222,null,{"$f":"COUNTIF(L7:L64,G3)","v":39},null,10,9,10,10,9,10]
[12,2642,23,2654,14,2660,null,null,null,null,0,121,null,null,null,"% of reinforcement given in 6 equal intervals based on number of trials "]
[21,2818,21,2822,21,2843,null,null,null,null,0,222,null,null,null,"%_1","%_2","%_3","%_4","%_5","%_6"]
[21,2950,21,2954,21,2958,null,null,null,null,0,222,null,null,"target sequence",{"$f":"$G$3","v":222},{"$f":"$G$3","v":222},{"$f":"$G$3","v":222},{"$f":"$G$3","v":222},{"$f":"$G$3","v":222},{"$f":"$G$3","v":222}]
[21,3158,21,3164,21,3168,null,null,null,null,0,222,null,null,"total reinforcement",{"$f":"U14","v":8},{"$f":"Z14","v":5},{"$f":"AE14","v":6},{"$f":"AJ14","v":4},{"$f":"AO14","v":8},{"$f":"AT14","v":8}]
[12,3512,23,3524,14,3528,null,null,null,null,0,121,null,null,"% target"]
[21,3644,21,3648,21,3654,null,null,null,null,0,222,null,null,"CCRF"]
[21,3747,12,3756,23,3773,null,null,null,null,0,212,null,null,"% CCRf"]
[21,3972,21,3978,12,3984,null,null,null,null,0,221,null,null,"average response rate",{"$f":"F16/P20","v":180.6},{"$f":"(F25-F16)/Q20","v":191.33333333333334},{"$f":"(F35-F25)/R20","v":167},{"$f":"(F45-F35)/S20","v":162.69999999999999},{"$f":"(F54-F45)/T20","v":153.88888888888889},{"$f":"(F64-F54)/U20","v":144.5}]
[21,4083,21,4091,21,4096,null,null,null,null,0,222]
[21,4324,21,4327,21,4331,null,null,null,null,0,222]
[21,4424,21,4431,21,4442,null,null,null,null,0,222]
[21,4640,21,4644,21,4650,null,null,null,null,0,222]
[21,4831,21,4848,21,4852,null,null,null,null,0,222]
[21,5058,21,5074,12,5078,null,null,null,null,0,221]
[12,5172,23,5181,23,5198,null,null,null,null,0,122]
[21,5309,12,5310,23,5325,null,null,null,null,0,212]
[12,5427,23,5430,14,5441,null,null,null,null,0,121]
[21,5692,12,5696,14,5704,null,null,null,null,0,211]
[21,5799,21,5812,21,5820,null,null,null,null,0,222]
[21,5914,12,5935,23,5949,null,null,null,null,0,212]
[12,6041,14,6051,14,6066,null,null,null,null,0,111]
[12,6256,14,6268,14,6273,null,null,null,null,0,111]
[21,6375,21,6383,21,6389,null,null,null,null,0,222]
[21,6587,21,6591,21,6639,null,null,null,null,0,222]
[21,6795,21,6819,21,6825,null,null,null,null,0,222]
[21,6947,21,6954,21,6995,null,null,null,null,0,222]
[21,7142,21,7147,21,7155,null,null,null,null,0,222]
[21,7376,21,7383,21,7389,null,null,null,null,0,222]
[21,7493,21,7500,21,7507,null,null,null,null,0,222]
[21,7708,21,7712,21,7716,null,null,null,null,0,222]
[21,7814,21,7821,21,7824,null,null,null,null,0,222]
[21,7915,12,7917,23,7930,null,null,null,null,0,212]
[21,8024,21,8028,21,8032,null,null,null,null,0,222]
[21,8188,21,8207,21,8210,null,null,null,null,0,222]
[21,8316,12,8331,23,8336,null,null,null,null,0,212]
[21,8468,21,8471,21,8476,null,null,null,null,0,222]
[21,8617,21,8624,21,8629,null,null,null,null,0,222]
[21,8821,21,8826,21,8832,null,null,null,null,0,222]
[21,8940,12,8949,23,8954,null,null,null,null,0,212]
[21,9119,21,9126,21,9133,null,null,null,null,0,222]
[21,9220,21,9229,21,9247,null,null,null,null,0,222]
[21,9394,21,9399,21,9406,null,null,null,null,0,222]
[21,9499,21,9513,21,9516,null,null,null,null,0,222]
[21,9609,21,9642,21,9655,null,null,null,null,1,222]

{"sheet":"!N110A1B.AXT","index":21,"n_rows":48,"n_cols":48,"rows_kept":48,"cut":false,"hidden":false,"merged":[[4,39,4,42],[5,39,5,40],[4,44,4,47],[5,44,5,45],[4,24,4,27],[5,24,5,25],[4,29,4,32],[5,29,5,30],[4,34,4,37],[5,34,5,35],[1,1,1,2],[5,13,5,14],[18,13,18,14],[19,13,19,14],[4,19,4,22],[5,19,5,20]]}
["Report for:!N110A1B.AXT"]
["Date:","<date>"]
["Hen:","<hen>",null,null,null,"Correct Sequence",{"$f":"Start!J2","v":222},null,null,null,null,null,null,null,null,"Total Sequences in Data",{"$f":"4994-COUNTBLANK(L7:L5000)","v":42},null,null,null,null,"Total Sequences in Block Data",{"$f":"COUNTA(L7:L13)","v":7},null,null,null,"Total Sequences in Block Data",{"$f":"COUNTA(L14:L20)","v":7},null,null,null,"Total Sequences in Block Data",{"$f":"COUNTA(L21:L27)","v":7},null,null,null,"Total Sequences in Block Data",{"$f":"COUNTA(L28:L34)","v":7},null,null,null,"Total Sequences in Block Data",{"$f":"COUNTA(L35:L41)","v":7},null,null,null,"Total Sequences in Block Data",{"$f":"COUNTA(L42:L48)","v":7}]
[null,null,null,null,null,null,null,null,null,null,null,null,null,null,null,"Total Sequences in Summary",{"$f":"SUM(O7:O14)","v":42},null,null,null,null,"Total Sequences in Block Summary",{"$f":"SUM(U7:U14)","v":7},null,null,null,"Total Sequences in Block Summary",{"$f":"SUM(Z7:Z14)","v":7},null,null,null,"Total Sequences in Block Summary",{"$f":"SUM(AE7:AE14)","v":7},null,null,null,"Total Sequences in Block Summary",{"$f":"SUM(AJ7:AJ14)","v":7},null,null,null,"Total Sequences in Block Summary",{"$f":"SUM(AO7:AO14)","v":7},null,null,null,"Total Sequences in Block Summary",{"$f":"SUM(AT7:AT14)","v":7}]
[null,null,null,null,null,null,null,null,null,null,null,null,null,null,null,null,null,null,null,"Block 1",null,null,null,null,"Block 2",null,null,null,null,"Block 3",null,null,null,null,"Block 4",null,null,null,null,"Block 5",null,null,null,null,"Block 6"]
["Sequence\nComponent\n1","Time\n1","Sequence\nComponent\n2","Time\n2","Sequence\nComponent\n3","Time\n3","Sequence\nComponent\n4","Time\n4","Sequence\nComponent\n5","Time\n5","Correct?\n0=No 1=Yes","Sequence",null,"Frequency",null,"Relative Frequency","Variability",null,null,"Frequency",null,"Relative Frequency","Variability",null,"Frequency",null,"Relative Frequency","Variability",null,"Frequency",null,"Relative Frequency","Variability",null,"Frequency",null,"Relative Frequency","Variability",null,"Frequency",null,"Relative Frequency","Variability",null,"Frequency",null,"Relative Frequency","Variability"]
[21,18,21,22,21,26,null,null,null,null,0,222,null,111,{"$f":"COUNTIF($L$7:$L$500,N7)","v":0},{"$f":"O7/$Q$4","v":0},{"$f":"IF(P7=0,0,(P7*((LOG(P7))/LOG(2))))","v":0},null,null,{"$f":"N7","v":111},{"$f":"COUNTIF(L7:L13,T7)","v":0},{"$f":"U7/(W4-U14)","v":{"$error":"#DIV/0!"}},{"$f":"IF(V7=0,0,(V7*((LOG(V7))/LOG(2))))","v":{"$error":"#DIV/0!"}},null,{"$f":"N7","v":111},{"$f":"COUNTIF(L14:L20,Y7)","v":0},{"$f":"Z7/(AB4-Z14)","v":0},{"$f":"IF(AA7=0,0,(AA7*((LOG(AA7))/LOG(2))))","v":0},null,{"$f":"N7","v":111},{"$f":"COUNTIF(L21:L27,AD7)","v":0},{"$f":"AE7/(AG4-AE14)","v":0},{"$f":"IF(AF7=0,0,(AF7*((LOG(AF7))/LOG(2))))","v":0},null,{"$f":"N7","v":111},{"$f":"COUNTIF(L28:L34,AI7)","v":0},{"$f":"AJ7/(AL4-AJ14)","v":{"$error":"#DIV/0!"}},{"$f":"IF(AK7=0,0,(AK7*((LOG(AK7))/LOG(2))))","v":{"$error":"#DIV/0!"}},null,{"$f":"N7","v":111},{"$f":"COUNTIF(L35:L41,AN7)","v":0},{"$f":"AO7/(AQ4-AO14)","v":{"$error":"#DIV/0!"}},{"$f":"IF(AP7=0,0,(AP7*((LOG(AP7))/LOG(2))))","v":{"$error":"#DIV/0!"}},null,{"$f":"N7","v":111},{"$f":"COUNTIF(L42:L48,AS7)","v":0},{"$f":"AT7/(AV4-AT14)","v":0},{"$f":"IF(AU7=0,0,(AU7*((LOG(AU7))/LOG(2))))","v":0}]
[21,120,21,127,21,133,null,null,null,null,0,222,null,112,{"$f":"COUNTIF($L$7:$L$500,N8)","v":0},{"$f":"O8/$Q$4","v":0},{"$f":"IF(P8=0,0,(P8*((LOG(P8))/LOG(2))))","v":0},null,null,{"$f":"N8","v":112},{"$f":"COUNTIF(L7:L13,T8)","v":0},{"$f":"U8/(W4-U14)","v":{"$error":"#DIV/0!"}},{"$f":"IF(V8=0,0,(V8*((LOG(V8))/LOG(2))))","v":{"$error":"#DIV/0!"}},null,{"$f":"N8","v":112},{"$f":"COUNTIF(L14:L20,Y8)","v":0},{"$f":"Z8/(AB4-Z14)","v":0},{"$f":"IF(AA8=0,0,(AA8*((LOG(AA8))/LOG(2))))","v":0},null,{"$f":"N8","v":112},{"$f":"COUNTIF(L21:L27,AD8)","v":0},{"$f":"AE8/(AG4-AE14)","v":0},{"$f":"IF(AF8=0,0,(AF8*((LOG(AF8))/LOG(2))))","v":0},null,{"$f":"N8","v":112},{"$f":"COUNTIF(L28:L34,AI8)","v":0},{"$f":"AJ8/(AL4-AJ14)","v":{"$error":"#DIV/0!"}},{"$f":"IF(AK8=0,0,(AK8*((LOG(AK8))/LOG(2))))","v":{"$error":"#DIV/0!"}},null,{"$f":"N8","v":112},{"$f":"COUNTIF(L35:L41,AN8)","v":0},{"$f":"AO8/(AQ4-AO14)","v":{"$error":"#DIV/0!"}},{"$f":"IF(AP8=0,0,(AP8*((LOG(AP8))/LOG(2))))","v":{"$error":"#DIV/0!"}},null,{"$f":"N8","v":112},{"$f":"COUNTIF(L42:L48,AS8)","v":0},{"$f":"AT8/(AV4-AT14)","v":0},{"$f":"IF(AU8=0,0,(AU8*((LOG(AU8))/LOG(2))))","v":0}]
[21,249,21,255,21,277,null,null,null,null,0,222,null,121,{"$f":"COUNTIF($L$7:$L$500,N9)","v":0},{"$f":"O9/$Q$4","v":0},{"$f":"IF(P9=0,0,(P9*((LOG(P9))/LOG(2))))","v":0},null,null,{"$f":"N9","v":121},{"$f":"COUNTIF(L7:L13,T9)","v":0},{"$f":"U9/(W4-U14)","v":{"$error":"#DIV/0!"}},{"$f":"IF(V9=0,0,(V9*((LOG(V9))/LOG(2))))","v":{"$error":"#DIV/0!"}},null,{"$f":"N9","v":121},{"$f":"COUNTIF(L14:L20,Y9)","v":0},{"$f":"Z9/(AB4-Z14)","v":0},{"$f":"IF(AA9=0,0,(AA9*((LOG(AA9))/LOG(2))))","v":0},null,{"$f":"N9","v":121},{"$f":"COUNTIF(L21:L27,AD9)","v":0},{"$f":"AE9/(AG4-AE14)","v":0},{"$f":"IF(AF9=0,0,(AF9*((LOG(AF9))/LOG(2))))","v":0},null,{"$f":"N9","v":121},{"$f":"COUNTIF(L28:L34,AI9)","v":0},{"$f":"AJ9/(AL4-AJ14)","v":{"$error":"#DIV/0!"}},{"$f":"IF(AK9=0,0,(AK9*((LOG(AK9))/LOG(2))))","v":{"$error":"#DIV/0!"}},null,{"$f":"N9","v":121},{"$f":"COUNTIF(L35:L41,AN9)","v":0},{"$f":"AO9/(AQ4-AO14)","v":{"$error":"#DIV/0!"}},{"$f":"IF(AP9=0,0,(AP9*((LOG(AP9))/LOG(2))))","v":{"$error":"#DIV/0!"}},null,{"$f":"N9","v":121},{"$f":"COUNTIF(L42:L48,AS9)","v":0},{"$f":"AT9/(AV4-AT14)","v":0},{"$f":"IF(AU9=0,0,(AU9*((LOG(AU9))/LOG(2))))","v":0}]
[21,370,21,375,21,409,null,null,null,null,0,222,null,122,{"$f":"COUNTIF($L$7:$L$500,N10)","v":1},{"$f":"O10/$Q$4","v":2.3809523809523808E-2},{"$f":"IF(P10=0,0,(P10*((LOG(P10))/LOG(2))))","v":-0.12838851006616095},null,null,{"$f":"N10","v":122},{"$f":"COUNTIF(L7:L13,T10)","v":0},{"$f":"U10/(W4-U14)","v":{"$error":"#DIV/0!"}},{"$f":"IF(V10=0,0,(V10*((LOG(V10))/LOG(2))))","v":{"$error":"#DIV/0!"}},null,{"$f":"N10","v":122},{"$f":"COUNTIF(L14:L20,Y10)","v":1},{"$f":"Z10/(AB4-Z14)","v":1},{"$f":"IF(AA10=0,0,(AA10*((LOG(AA10))/LOG(2))))","v":0},null,{"$f":"N10","v":122},{"$f":"COUNTIF(L21:L27,AD10)","v":0},{"$f":"AE10/(AG4-AE14)","v":0},{"$f":"IF(AF10=0,0,(AF10*((LOG(AF10))/LOG(2))))","v":0},null,{"$f":"N10","v":122},{"$f":"COUNTIF(L28:L34,AI10)","v":0},{"$f":"AJ10/(AL4-AJ14)","v":{"$error":"#DIV/0!"}},{"$f":"IF(AK10=0,0,(AK10*((LOG(AK10))/LOG(2))))","v":{"$error":"#DIV/0!"}},null,{"$f":"N10","v":122},{"$f":"COUNTIF(L35:L41,AN10)","v":0},{"$f":"AO10/(AQ4-AO14)","v":{"$error":"#DIV/0!"}},{"$f":"IF(AP10=0,0,(AP10*((LOG(AP10))/LOG(2))))","v":{"$error":"#DIV/0!"}},null,{"$f":"N10","v":122},{"$f":"COUNTIF(L42:L48,AS10)","v":0},{"$f":"AT10/(AV4-AT14)","v":0},{"$f":"IF(AU10=0,0,(AU10*((LOG(AU10))/LOG(2))))","v":0}]
[21,503,21,508,21,510,null,null,null,null,0,222,null,211,{"$f":"COUNTIF($L$7:$L$500,N11)","v":1},{"$f":"O11/$Q$4","v":2.3809523809523808E-2},{"$f":"IF(P11=0,0,(P11*((LOG(P11))/LOG(2))))","v":-0.12838851006616095},null,null,{"$f":"N11","v":211},{"$f":"COUNTIF(L7:L13,T11)","v":0},{"$f":"U11/(W4-U14)","v":{"$error":"#DIV/0!"}},{"$f":"IF(V11=0,0,(V11*((LOG(V11))/LOG(2))))","v":{"$error":"#DIV/0!"}},null,{"$f":"N11","v":211},{"$f":"COUNTIF(L14:L20,Y11)","v":0},{"$f":"Z11/(AB4-Z14)","v":0},{"$f":"IF(AA11=0,0,(AA11*((LOG(AA11))/LOG(2))))","v":0},null,{"$f":"N11","v":211},{"$f":"COUNTIF(L21:L27,AD11)","v":0},{"$f":"AE11/(AG4-AE14)","v":0},{"$f":"IF(AF11=0,0,(AF11*((LOG(AF11))/LOG(2))))","v":0},null,{"$f":"N11","v":211},{"$f":"COUNTIF(L28:L34,AI11)","v":0},{"$f":"AJ11/(AL4-AJ14)","v":{"$error":"#DIV/0!"}},{"$f":"IF(AK11=0,0,(AK11*((LOG(AK11))/LOG(2))))","v":{"$error":"#DIV/0!"}},null,{"$f":"N11","v":211},{"$f":"COUNTIF(L35:L41,AN11)","v":0},{"$f":"AO11/(AQ4-AO14)","v":{"$error":"#DIV/0!"}},{"$f":"IF(AP11=0,0,(AP11*((LOG(AP11))/LOG(2))))","v":{"$error":"#DIV/0!"}},null,{"$f":"N11","v":211},{"$f":"COUNTIF(L42:L48,AS11)","v":1},{"$f":"AT11/(AV4-AT14)","v":1},{"$f":"IF(AU11=0,0,(AU11*((LOG(AU11))/LOG(2))))","v":0}]
[21,666,21,684,21,687,null,null,null,null,0,222,null,212,{"$f":"COUNTIF($L$7:$L$500,N12)","v":1},{"$f":"O12/$Q$4","v":2.3809523809523808E-2},{"$f":"IF(P12=0,0,(P12*((LOG(P12))/LOG(2))))","v":-0.12838851006616095},null,null,{"$f":"N12","v":212},{"$f":"COUNTIF(L7:L13,T12)","v":0},{"$f":"U12/(W4-U14)","v":{"$error":"#DIV/0!"}},{"$f":"IF(V12=0,0,(V12*((LOG(V12))/LOG(2))))","v":{"$error":"#DIV/0!"}},null,{"$f":"N12","v":212},{"$f":"COUNTIF(L14:L20,Y12)","v":0},{"$f":"Z12/(AB4-Z14)","v":0},{"$f":"IF(AA12=0,0,(AA12*((LOG(AA12))/LOG(2))))","v":0},null,{"$f":"N12","v":212},{"$f":"COUNTIF(L21:L27,AD12)","v":1},{"$f":"AE12/(AG4-AE14)","v":1},{"$f":"IF(AF12=0,0,(AF12*((LOG(AF12))/LOG(2))))","v":0},null,{"$f":"N12","v":212},{"$f":"COUNTIF(L28:L34,AI12)","v":0},{"$f":"AJ12/(AL4-AJ14)","v":{"$error":"#DIV/0!"}},{"$f":"IF(AK12=0,0,(AK12*((LOG(AK12))/LOG(2))))","v":{"$error":"#DIV/0!"}},null,{"$f":"N12","v":212},{"$f":"COUNTIF(L35:L41,AN12)","v":0},{"$f":"AO12/(AQ4-AO14)","v":{"$error":"#DIV/0!"}},{"$f":"IF(AP12=0,0,(AP12*((LOG(AP12))/LOG(2))))","v":{"$error":"#DIV/0!"}},null,{"$f":"N12","v":212},{"$f":"COUNTIF(L42:L48,AS12)","v":0},{"$f":"AT12/(AV4-AT14)","v":0},{"$f":"IF(AU12=0,0,(AU12*((LOG(AU12))/LOG(2))))","v":0}]
[21,816,21,818,21,823,null,null,null,null,0,222,null,221,{"$f":"COUNTIF($L$7:$L$500,N13)","v":0},{"$f":"O13/$Q$4","v":0},{"$f":"IF(P13=0,0,(P13*((LOG(P13))/LOG(2))))","v":0},null,null,{"$f":"N13","v":221},{"$f":"COUNTIF(L7:L13,T13)","v":0},{"$f":"U13/(W4-U14)","v":{"$error":"#DIV/0!"}},{"$f":"IF(V13=0,0,(V13*((LOG(V13))/LOG(2))))","v":{"$error":"#DIV/0!"}},null,{"$f":"N13","v":221},{"$f":"COUNTIF(L14:L20,Y13)","v":0},{"$f":"Z13/(AB4-Z14)","v":0},{"$f":"IF(AA13=0,0,(AA13*((LOG(AA13))/LOG(2))))","v":0},null,{"$f":"N13","v":221},{"$f":"COUNTIF(L21:L27,AD13)","v":0},{"$f":"AE13/(AG4-AE14)","v":0},{"$f":"IF(AF13=0,0,(AF13*((LOG(AF13))/LOG(2))))","v":0},null,{"$f":"N13","v":221},{"$f":"COUNTIF(L28:L34,AI13)","v":0},{"$f":"AJ13/(AL4-AJ14)","v":{"$error":"#DIV/0!"}},{"$f":"IF(AK13=0,0,(AK13*((LOG(AK13))/LOG(2))))","v":{"$error":"#DIV/0!"}},null,{"$f":"N13","v":221},{"$f":"COUNTIF(L35:L41,AN13)","v":0},{"$f":"AO13/(AQ4-AO14)","v":{"$error":"#DIV/0!"}},{"$f":"IF(AP13=0,0,(AP13*((LOG(AP13))/LOG(2))))","v":{"$error":"#DIV/0!"}},null,{"$f":"N13","v":221},{"$f":"COUNTIF(L42:L48,AS13)","v":0},{"$f":"AT13/(AV4-AT14)","v":0},{"$f":"IF(AU13=0,0,(AU13*((LOG(AU13))/LOG(2))))","v":0}]
[21,922,21,932,21,936,null,null,null,null,0,222,null,222,{"$f":"COUNTIF($L$7:$L$500,N14)","v":39},{"$f":"O14/$Q$4","v":0.9285714285714286},{"$f":"IF(P14=0,0,(P14*((LOG(P14))/LOG(2))))","v":-9.9278403636761048E-2},null,null,{"$f":"N14","v":222},{"$f":"COUNTIF(L7:L13,T14)","v":7},null,null,null,{"$f":"N14","v":222},{"$f":"COUNTIF(L14:L20,Y14)","v":6},null,null,null,{"$f":"N14","v":222},{"$f":"COUNTIF(L21:L27,AD14)","v":6},null,null,null,{"$f":"N14","v":222},{"$f":"COUNTIF(L28:L34,AI14)","v":7},null,null,null,{"$f":"N14","v":222},{"$f":"COUNTIF(L35:L41,AN14)","v":7},null,null,null,{"$f":"N14","v":222},{"$f":"COUNTIF(L42:L48,AS14)","v":6}]
[12,1038,23,1077,23,1092,null,null,null,null,0,122,null,null,null,{"$f":"SUM(P7:P14)","v":1},{"$f":"-SUM(Q7:Q14)","v":0.48444393383524392},null,null,null,null,{"$f":"SUM(V7:V14)","v":{"$error":"#DIV/0!"}},{"$f":"-SUM(W7:W14)","v":{"$error":"#DIV/0!"}},null,null,null,{"$f":"SUM(AA7:AA14)","v":1},{"$f":"-SUM(AB7:AB14)","v":0},null,null,null,{"$f":"SUM(AF7:AF14)","v":1},{"$f":"-SUM(AG7:AG14)","v":0},null,null,null,{"$f":"SUM(AK7:AK14)","v":{"$error":"#DIV/0!"}},{"$f":"-SUM(AL7:AL14)","v":{"$error":"#DIV/0!"}},null,null,null,{"$f":"SUM(AP7:AP14)","v":{"$error":"#DIV/0!"}},{"$f":"-SUM(AQ7:AQ14)","v":{"$error":"#DIV/0!"}},null,null,null,{"$f":"SUM(AU7:AU14)","v":1},{"$f":"-SUM(AV7:AV14)","v":0}]
[21,1318,21,1328,21,1333,null,null,null,null,0,222,null,null,null,"U=",{"$f":"Q15/(LOG(Q4)/LOG(2))","v":8.9839654429245561E-2},null,null,null,null,"U1=",{"$f":"W15/(LOG(W4)/LOG(2))","v":{"$error":"#DIV/0!"}},null,null,null,"U2=",{"$f":"AB15/(LOG(AB4)/LOG(2))","v":0},null,null,null,"U3=",{"$f":"AG15/(LOG(AG4)/LOG(2))","v":0},null,null,null,"U4=",{"$f":"AL15/(LOG(AL4)/LOG(2))","v":{"$error":"#DIV/0!"}},null,null,null,"U5=",{"$f":"AQ15/(LOG(AQ4)/LOG(2))","v":{"$error":"#DIV/0!"}},null,null,null,"U6=",{"$f":"AV15/(LOG(AV4)/LOG(2))","v":0}]
[21,1457,21,1465,21,1470,null,null,null,null,0,222]
[21,1657,21,1665,21,1671,null,null,null,null,0,222]
[21,1791,21,1801,21,1808,null,null,null,null,0,222,null,"Total Target Seq"]
[21,1937,21,1946,21,1953,null,null,null,null,0,222,null,{"$f":"COUNTIF(L7:L48,G3)","v":39},null,7,7,7,7,7,7]
[21,2164,21,2171,21,2174,null,null,null,null,0,222,null,null,null,"% of reinforcement given in 6 equal intervals based on number of trials "]
[21,2277,12,2283,23,2319,null,null,null,null,0,212,null,null,null,"%_1","%_2","%_3","%_4","%_5","%_6"]
[21,2418,21,2420,21,2429,null,null,null,null,0,222,null,null,"target sequence",{"$f":"$G$3","v":222},{"$f":"$G$3","v":222},{"$f":"$G$3","v":222},{"$f":"$G$3","v":222},{"$f":"$G$3","v":222},{"$f":"$G$3","v":222}]
[21,2520,21,2523,21,2530,null,null,null,null,0,222,null,null,"total reinforcement",{"$f":"U14","v":7},{"$f":"Z14","v":6},{"$f":"AE14","v":6},{"$f":"AJ14","v":7},{"$f":"AO14","v":7},{"$f":"AT14","v":6}]
[21,2748,21,2754,21,2763,null,null,null,null,0,222,null,null,"% target"]
[21,2905,21,2912,21,2921,null,null,null,null,0,222,null,null,"CCRF"]
[21,3036,21,3042,21,3051,null,null,null,null,0,222,null,null,"% CCRf"]
[21,3153,21,3160,21,3168,null,null,null,null,0,222,null,null,"average response rate",{"$f":"F13/P20","v":117.57142857142857},{"$f":"(F20-F13)/Q20","v":161.42857142857142},{"$f":"(F27-F20)/R20","v":156.85714285714286},{"$f":"(F34-F27)/S20","v":165.42857142857142},{"$f":"(F41-F34)/T20","v":143.28571428571428},{"$f":"(F48-F41)/U20","v":149.57142857142858}]
[21,3296,21,3303,21,3308,null,null,null,null,0,222]
[21,3495,21,3508,21,3517,null,null,null,null,0,222]
[21,3606,21,3609,21,3613,null,null,null,null,0,222]
[21,3786,21,3791,21,3816,null,null,null,null,0,222]
[21,4004,21,4012,21,4065,null,null,null,null,0,222]
[21,4182,21,4191,21,4209,null,null,null,null,0,222]
[21,4378,21,4384,21,4392,null,null,null,null,0,222]
[21,4519,21,4528,21,4540,null,null,null,null,0,222]
[21,4634,21,4649,21,4660,null,null,null,null,0,222]
[21,4768,21,4774,21,4778,null,null,null,null,0,222]
[21,4957,21,4963,21,5015,null,null,null,null,0,222]
[21,5102,21,5107,21,5111,null,null,null,null,0,222]
[21,5198,21,5208,21,5212,null,null,null,null,0,222]
[21,5312,21,5316,21,5319,null,null,null,null,0,222]
[21,5417,21,5422,21,5433,null,null,null,null,0,222]
[21,5522,21,5526,21,5530,null,null,null,null,0,222]
[21,5624,21,5632,21,5636,null,null,null,null,0,222]
[21,5730,12,5736,14,5748,null,null,null,null,0,211]
[21,6126,21,6130,21,6136,null,null,null,null,0,222]
[21,6249,21,6254,21,6259,null,null,null,null,1,222]

{"sheet":"!N111A2B.AXT","index":22,"n_rows":59,"n_cols":48,"rows_kept":59,"cut":false,"hidden":false,"merged":[[4,39,4,42],[5,39,5,40],[4,44,4,47],[5,44,5,45],[4,24,4,27],[5,24,5,25],[4,29,4,32],[5,29,5,30],[4,34,4,37],[5,34,5,35],[1,1,1,2],[5,13,5,14],[18,13,18,14],[19,13,19,14],[4,19,4,22],[5,19,5,20]]}
["Report for:!N111A2B.AXT"]
["Date:","<date>"]
["Hen:","<hen>",null,null,null,"Correct Sequence",{"$f":"Start!J2","v":222},null,null,null,null,null,null,null,null,"Total Sequences in Data",{"$f":"4994-COUNTBLANK(L7:L5000)","v":53},null,null,null,null,"Total Sequences in Block Data",{"$f":"COUNTA(L7:L15)","v":9},null,null,null,"Total Sequences in Block Data",{"$f":"COUNTA(L16:L24)","v":9},null,null,null,"Total Sequences in Block Data",{"$f":"COUNTA(L25:L32)","v":8},null,null,null,"Total Sequences in Block Data",{"$f":"COUNTA(L33:L41)","v":9},null,null,null,"Total Sequences in Block Data",{"$f":"COUNTA(L42:L50)","v":9},null,null,null,"Total Sequences in Block Data",{"$f":"COUNTA(L51:L59)","v":9}]
[null,null,null,null,null,null,null,null,null,null,null,null,null,null,null,"Total Sequences in Summary",{"$f":"SUM(O7:O14)","v":53},null,null,null,null,"Total Sequences in Block Summary",{"$f":"SUM(U7:U14)","v":9},null,null,null,"Total Sequences in Block Summary",{"$f":"SUM(Z7:Z14)","v":9},null,null,null,"Total Sequences in Block Summary",{"$f":"SUM(AE7:AE14)","v":8},null,null,null,"Total Sequences in Block Summary",{"$f":"SUM(AJ7:AJ14)","v":9},null,null,null,"Total Sequences in Block Summary",{"$f":"SUM(AO7:AO14)","v":9},null,null,null,"Total Sequences in Block Summary",{"$f":"SUM(AT7:AT14)","v":9}]
[null,null,null,null,null,null,null,null,null,null,null,null,null,null,null,null,null,null,null,"Block 1",null,null,null,null,"Block 2",null,null,null,null,"Block 3",null,null,null,null,"Block 4",null,null,null,null,"Block 5",null,null,null,null,"Block 6"]
["Sequence\nComponent\n1","Time\n1","Sequence\nComponent\n2","Time\n2","Sequence\nComponent\n3","Time\n3","Sequence\nComponent\n4","Time\n4","Sequence\nComponent\n5","Time\n5","Correct?\n0=No 1=Yes","Sequence",null,"Frequency",null,"Relative Frequency","Variability",null,null,"Frequency",null,"Relative Frequency","Variability",null,"Frequency",null,"Relative Frequency","Variability",null,"Frequency",null,"Relative Frequency","Variability",null,"Frequency",null,"Relative Frequency","Variability",null,"Frequency",null,"Relative Frequency","Variability",null,"Frequency",null,"Relative Frequency","Variability"]
[21,21,12,24,14,34,null,null,null,null,0,211,null,111,{"$f":"COUNTIF($L$7:$L$500,N7)","v":2},{"$f":"O7/$Q$4","v":3.7735849056603772E-2},{"$f":"IF(P7=0,0,(P7*((LOG(P7))/LOG(2))))","v":-0.17841209262502639},null,null,{"$f":"N7","v":111},{"$f":"COUNTIF(L7:L15,T7)","v":1},{"$f":"U7/(W4-U14)","v":0.2},{"$f":"IF(V7=0,0,(V7*((LOG(V7))/LOG(2))))","v":-0.46438561897747244},null,{"$f":"N7","v":111},{"$f":"COUNTIF(L16:L24,Y7)","v":0},{"$f":"Z7/(AB4-Z14)","v":{"$error":"#DIV/0!"}},{"$f":"IF(AA7=0,0,(AA7*((LOG(AA7))/LOG(2))))","v":{"$error":"#DIV/0!"}},null,{"$f":"N7","v":111},{"$f":"COUNTIF(L25:L32,AD7)","v":0},{"$f":"AE7/(AG4-AE14)","v":{"$error":"#DIV/0!"}},{"$f":"IF(AF7=0,0,(AF7*((LOG(AF7))/LOG(2))))","v":{"$error":"#DIV/0!"}},null,{"$f":"N7","v":111},{"$f":"COUNTIF(L33:L41,AI7)","v":1},{"$f":"AJ7/(AL4-AJ14)","v":0.5},{"$f":"IF(AK7=0,0,(AK7*((LOG(AK7))/LOG(2))))","v":-0.5},null,{"$f":"N7","v":111},{"$f":"COUNTIF(L42:L50,AN7)","v":0},{"$f":"AO7/(AQ4-AO14)","v":0},{"$f":"IF(AP7=0,0,(AP7*((LOG(AP7))/LOG(2))))","v":0},null,{"$f":"N7","v":111},{"$f":"COUNTIF(L51:L59,AS7)","v":0},{"$f":"AT7/(AV4-AT14)","v":0},{"$f":"IF(AU7=0,0,(AU7*((LOG(AU7))/LOG(2))))","v":0}]
[12,128,23,153,14,159,null,null,null,null,0,121,null,112,{"$f":"COUNTIF($L$7:$L$500,N8)","v":2},{"$f":"O8/$Q$4","v":3.7735849056603772E-2},{"$f":"IF(P8=0,0,(P8*((LOG(P8))/LOG(2))))","v":-0.17841209262502639},null,null,{"$f":"N8","v":112},{"$f":"COUNTIF(L7:L15,T8)","v":1},{"$f":"U8/(W4-U14)","v":0.2},{"$f":"IF(V8=0,0,(V8*((LOG(V8))/LOG(2))))","v":-0.46438561897747244},null,{"$f":"N8","v":112},{"$f":"COUNTIF(L16:L24,Y8)","v":0},{"$f":"Z8/(AB4-Z14)","v":{"$error":"#DIV/0!"}},{"$f":"IF(AA8=0,0,(AA8*((LOG(AA8))/LOG(2))))","v":{"$error":"#DIV/0!"}},null,{"$f":"N8","v":112},{"$f":"COUNTIF(L25:L32,AD8)","v":0},{"$f":"AE8/(AG4-AE14)","v":{"$error":"#DIV/0!"}},{"$f":"IF(AF8=0,0,(AF8*((LOG(AF8))/LOG(2))))","v":{"$error":"#DIV/0!"}},null,{"$f":"N8","v":112},{"$f":"COUNTIF(L33:L41,AI8)","v":0},{"$f":"AJ8/(AL4-AJ14)","v":0},{"$f":"IF(AK8=0,0,(AK8*((LOG(AK8))/LOG(2))))","v":0},null,{"$f":"N8","v":112},{"$f":"COUNTIF(L42:L50,AN8)","v":0},{"$f":"AO8/(AQ4-AO14)","v":0},{"$f":"IF(AP8=0,0,(AP8*((LOG(AP8))/LOG(2))))","v":0},null,{"$f":"N8","v":112},{"$f":"COUNTIF(L51:L59,AS8)","v":1},{"$f":"AT8/(AV4-AT14)","v":0.2},{"$f":"IF(AU8=0,0,(AU8*((LOG(AU8))/LOG(2))))","v":-0.46438561897747244}]
[12,252,14,263,23,283,null,null,null,null,0,112,null,121,{"$f":"COUNTIF($L$7:$L$500,N9)","v":2},{"$f":"O9/$Q$4","v":3.7735849056603772E-2},{"$f":"IF(P9=0,0,(P9*((LOG(P9))/LOG(2))))","v":-0.17841209262502639},null,null,{"$f":"N9","v":121},{"$f":"COUNTIF(L7:L15,T9)","v":1},{"$f":"U9/(W4-U14)","v":0.2},{"$f":"IF(V9=0,0,(V9*((LOG(V9))/LOG(2))))","v":-0.46438561897747244},null,{"$f":"N9","v":121},{"$f":"COUNTIF(L16:L24,Y9)","v":0},{"$f":"Z9/(AB4-Z14)","v":{"$error":"#DIV/0!"}},{"$f":"IF(AA9=0,0,(AA9*((LOG(AA9))/LOG(2))))","v":{"$error":"#DIV/0!"}},null,{"$f":"N9","v":121},{"$f":"COUNTIF(L25:L32,AD9)","v":0},{"$f":"AE9/(AG4-AE14)","v":{"$error":"#DIV/0!"}},{"$f":"IF(AF9=0,0,(AF9*((LOG(AF9))/LOG(2))))","v":{"$error":"#DIV/0!"}},null,{"$f":"N9","v":121},{"$f":"COUNTIF(L33:L41,AI9)","v":0},{"$f":"AJ9/(AL4-AJ14)","v":0},{"$f":"IF(AK9=0,0,(AK9*((LOG(AK9))/LOG(2))))","v":0},null,{"$f":"N9","v":121},{"$f":"COUNTIF(L42:L50,AN9)","v":0},{"$f":"AO9/(AQ4-AO14)","v":0},{"$f":"IF(AP9=0,0,(AP9*((LOG(AP9))/LOG(2))))","v":0},null,{"$f":"N9","v":121},{"$f":"COUNTIF(L51:L59,AS9)","v":1},{"$f":"AT9/(AV4-AT14)","v":0.2},{"$f":"IF(AU9=0,0,(AU9*((LOG(AU9))/LOG(2))))","v":-0.46438561897747244}]
[21,408,21,417,21,424,null,null,null,null,0,222,null,122,{"$f":"COUNTIF($L$7:$L$500,N10)","v":1},{"$f":"O10/$Q$4","v":1.8867924528301886E-2},{"$f":"IF(P10=0,0,(P10*((LOG(P10))/LOG(2))))","v":-0.10807397084081509},null,null,{"$f":"N10","v":122},{"$f":"COUNTIF(L7:L15,T10)","v":0},{"$f":"U10/(W4-U14)","v":0},{"$f":"IF(V10=0,0,(V10*((LOG(V10))/LOG(2))))","v":0},null,{"$f":"N10","v":122},{"$f":"COUNTIF(L16:L24,Y10)","v":0},{"$f":"Z10/(AB4-Z14)","v":{"$error":"#DIV/0!"}},{"$f":"IF(AA10=0,0,(AA10*((LOG(AA10))/LOG(2))))","v":{"$error":"#DIV/0!"}},null,{"$f":"N10","v":122},{"$f":"COUNTIF(L25:L32,AD10)","v":0},{"$f":"AE10/(AG4-AE14)","v":{"$error":"#DIV/0!"}},{"$f":"IF(AF10=0,0,(AF10*((LOG(AF10))/LOG(2))))","v":{"$error":"#DIV/0!"}},null,{"$f":"N10","v":122},{"$f":"COUNTIF(L33:L41,AI10)","v":1},{"$f":"AJ10/(AL4-AJ14)","v":0.5},{"$f":"IF(AK10=0,0,(AK10*((LOG(AK10))/LOG(2))))","v":-0.5},null,{"$f":"N10","v":122},{"$f":"COUNTIF(L42:L50,AN10)","v":0},{"$f":"AO10/(AQ4-AO14)","v":0},{"$f":"IF(AP10=0,0,(AP10*((LOG(AP10))/LOG(2))))","v":0},null,{"$f":"N10","v":122},{"$f":"COUNTIF(L51:L59,AS10)","v":0},{"$f":"AT10/(AV4-AT14)","v":0},{"$f":"IF(AU10=0,0,(AU10*((LOG(AU10))/LOG(2))))","v":0}]
[21,519,21,533,12,541,null,null,null,null,0,221,null,211,{"$f":"COUNTIF($L$7:$L$500,N11)","v":1},{"$f":"O11/$Q$4","v":1.8867924528301886E-2},{"$f":"IF(P11=0,0,(P11*((LOG(P11))/LOG(2))))","v":-0.10807397084081509},null,null,{"$f":"N11","v":211},{"$f":"COUNTIF(L7:L15,T11)","v":1},{"$f":"U11/(W4-U14)","v":0.2},{"$f":"IF(V11=0,0,(V11*((LOG(V11))/LOG(2))))","v":-0.46438561897747244},null,{"$f":"N11","v":211},{"$f":"COUNTIF(L16:L24,Y11)","v":0},{"$f":"Z11/(AB4-Z14)","v":{"$error":"#DIV/0!"}},{"$f":"IF(AA11=0,0,(AA11*((LOG(AA11))/LOG(2))))","v":{"$error":"#DIV/0!"}},null,{"$f":"N11","v":211},{"$f":"COUNTIF(L25:L32,AD11)","v":0},{"$f":"AE11/(AG4-AE14)","v":{"$error":"#DIV/0!"}},{"$f":"IF(AF11=0,0,(AF11*((LOG(AF11))/LOG(2))))","v":{"$error":"#DIV/0!"}},null,{"$f":"N11","v":211},{"$f":"COUNTIF(L33:L41,AI11)","v":0},{"$f":"AJ11/(AL4-AJ14)","v":0},{"$f":"IF(AK11=0,0,(AK11*((LOG(AK11))/LOG(2))))","v":0},null,{"$f":"N11","v":211},{"$f":"COUNTIF(L42:L50,AN11)","v":0},{"$f":"AO11/(AQ4-AO14)","v":0},{"$f":"IF(AP11=0,0,(AP11*((LOG(AP11))/LOG(2))))","v":0},null,{"$f":"N11","v":211},{"$f":"COUNTIF(L51:L59,AS11)","v":0},{"$f":"AT11/(AV4-AT14)","v":0},{"$f":"IF(AU11=0,0,(AU11*((LOG(AU11))/LOG(2))))","v":0}]
[12,636,14,649,14,660,null,null,null,null,0,111,null,212,{"$f":"COUNTIF($L$7:$L$500,N12)","v":2},{"$f":"O12/$Q$4","v":3.7735849056603772E-2},{"$f":"IF(P12=0,0,(P12*((LOG(P12))/LOG(2))))","v":-0.17841209262502639},null,null,{"$f":"N12","v":212},{"$f":"COUNTIF(L7:L15,T12)","v":0},{"$f":"U12/(W4-U14)","v":0},{"$f":"IF(V12=0,0,(V12*((LOG(V12))/LOG(2))))","v":0},null,{"$f":"N12","v":212},{"$f":"COUNTIF(L16:L24,Y12)","v":0},{"$f":"Z12/(AB4-Z14)","v":{"$error":"#DIV/0!"}},{"$f":"IF(AA12=0,0,(AA12*((LOG(AA12))/LOG(2))))","v":{"$error":"#DIV/0!"}},null,{"$f":"N12","v":212},{"$f":"COUNTIF(L25:L32,AD12)","v":0},{"$f":"AE12/(AG4-AE14)","v":{"$error":"#DIV/0!"}},{"$f":"IF(AF12=0,0,(AF12*((LOG(AF12))/LOG(2))))","v":{"$error":"#DIV/0!"}},null,{"$f":"N12","v":212},{"$f":"COUNTIF(L33:L41,AI12)","v":0},{"$f":"AJ12/(AL4-AJ14)","v":0},{"$f":"IF(AK12=0,0,(AK12*((LOG(AK12))/LOG(2))))","v":0},null,{"$f":"N12","v":212},{"$f":"COUNTIF(L42:L50,AN12)","v":1},{"$f":"AO12/(AQ4-AO14)","v":0.33333333333333331},{"$f":"IF(AP12=0,0,(AP12*((LOG(AP12))/LOG(2))))","v":-0.52832083357371862},null,{"$f":"N12","v":212},{"$f":"COUNTIF(L51:L59,AS12)","v":1},{"$f":"AT12/(AV4-AT14)","v":0.2},{"$f":"IF(AU12=0,0,(AU12*((LOG(AU12))/LOG(2))))","v":-0.46438561897747244}]
[21,758,21,762,21,771,null,null,null,null,0,222,null,221,{"$f":"COUNTIF($L$7:$L$500,N13)","v":5},{"$f":"O13/$Q$4","v":9.4339622641509441E-2},{"$f":"IF(P13=0,0,(P13*((LOG(P13))/LOG(2))))","v":-0.32132003393168274},null,null,{"$f":"N13","v":221},{"$f":"COUNTIF(L7:L15,T13)","v":1},{"$f":"U13/(W4-U14)","v":0.2},{"$f":"IF(V13=0,0,(V13*((LOG(V13))/LOG(2))))","v":-0.46438561897747244},null,{"$f":"N13","v":221},{"$f":"COUNTIF(L16:L24,Y13)","v":0},{"$f":"Z13/(AB4-Z14)","v":{"$error":"#DIV/0!"}},{"$f":"IF(AA13=0,0,(AA13*((LOG(AA13))/LOG(2))))","v":{"$error":"#DIV/0!"}},null,{"$f":"N13","v":221},{"$f":"COUNTIF(L25:L32,AD13)","v":0},{"$f":"AE13/(AG4-AE14)","v":{"$error":"#DIV/0!"}},{"$f":"IF(AF13=0,0,(AF13*((LOG(AF13))/LOG(2))))","v":{"$error":"#DIV/0!"}},null,{"$f":"N13","v":221},{"$f":"COUNTIF(L33:L41,AI13)","v":0},{"$f":"AJ13/(AL4-AJ14)","v":0},{"$f":"IF(AK13=0,0,(AK13*((LOG(AK13))/LOG(2))))","v":0},null,{"$f":"N13","v":221},{"$f":"COUNTIF(L42:L50,AN13)","v":2},{"$f":"AO13/(AQ4-AO14)","v":0.66666666666666663},{"$f":"IF(AP13=0,0,(AP13*((LOG(AP13))/LOG(2))))","v":-0.38997500048077083},null,{"$f":"N13","v":221},{"$f":"COUNTIF(L51:L59,AS13)","v":2},{"$f":"AT13/(AV4-AT14)","v":0.4},{"$f":"IF(AU13=0,0,(AU13*((LOG(AU13))/LOG(2))))","v":-0.52877123795494496}]
[21,862,21,868,21,882,null,null,null,null,0,222,null,222,{"$f":"COUNTIF($L$7:$L$500,N14)","v":38},{"$f":"O14/$Q$4","v":0.71698113207547165},{"$f":"IF(P14=0,0,(P14*((LOG(P14))/LOG(2))))","v":-0.34414588231217591},null,null,{"$f":"N14","v":222},{"$f":"COUNTIF(L7:L15,T14)","v":4},null,null,null,{"$f":"N14","v":222},{"$f":"COUNTIF(L16:L24,Y14)","v":9},null,null,null,{"$f":"N14","v":222},{"$f":"COUNTIF(L25:L32,AD14)","v":8},null,null,null,{"$f":"N14","v":222},{"$f":"COUNTIF(L33:L41,AI14)","v":7},null,null,null,{"$f":"N14","v":222},{"$f":"COUNTIF(L42:L50,AN14)","v":6},null,null,null,{"$f":"N14","v":222},{"$f":"COUNTIF(L51:L59,AS14)","v":4}]
[21,1019,21,1023,21,1030,null,null,null,null,0,222,null,null,null,{"$f":"SUM(P7:P14)","v":1},{"$f":"-SUM(Q7:Q14)","v":1.5952622284255944},null,null,null,null,{"$f":"SUM(V7:V14)","v":1},{"$f":"-SUM(W7:W14)","v":2.3219280948873622},null,null,null,{"$f":"SUM(AA7:AA14)","v":{"$error":"#DIV/0!"}},{"$f":"-SUM(AB7:AB14)","v":{"$error":"#DIV/0!"}},null,null,null,{"$f":"SUM(AF7:AF14)","v":{"$error":"#DIV/0!"}},{"$f":"-SUM(AG7:AG14)","v":{"$error":"#DIV/0!"}},null,null,null,{"$f":"SUM(AK7:AK14)","v":1},{"$f":"-SUM(AL7:AL14)","v":1},null,null,null,{"$f":"SUM(AP7:AP14)","v":1},{"$f":"-SUM(AQ7:AQ14)","v":0.91829583405448945},null,null,null,{"$f":"SUM(AU7:AU14)","v":1},{"$f":"-SUM(AV7:AV14)","v":1.9219280948873623}]
[21,1171,21,1175,21,1179,null,null,null,null,0,222,null,null,null,"U=",{"$f":"Q15/(LOG(Q4)/LOG(2))","v":0.27850635166462806},null,null,null,null,"U1=",{"$f":"W15/(LOG(W4)/LOG(2))","v":0.73248676035896354},null,null,null,"U2=",{"$f":"AB15/(LOG(AB4)/LOG(2))","v":{"$error":"#DIV/0!"}},null,null,null,"U3=",{"$f":"AG15/(LOG(AG4)/LOG(2))","v":{"$error":"#DIV/0!"}},null,null,null,"U4=",{"$f":"AL15/(LOG(AL4)/LOG(2))","v":0.31546487678572877},null,null,null,"U5=",{"$f":"AQ15/(LOG(AQ4)/LOG(2))","v":0.28969008214284753},null,null,null,"U6=",{"$f":"AV15/(LOG(AV4)/LOG(2))","v":0.60630080964467215}]
[21,1283,21,1287,21,1291,null,null,null,null,0,222]
[21,1382,21,1394,21,1398,null,null,null,null,0,222]
[21,1549,21,1552,21,1555,null,null,null,null,0,222,null,"Total Target Seq"]
[21,1767,21,1772,21,1815,null,null,null,null,0,222,null,{"$f":"COUNTIF(L7:L59,G3)","v":38},null,9,9,8,9,9,9]
[21,1948,21,1955,21,2025,null,null,null,null,0,222,null,null,null,"% of reinforcement given in 6 equal intervals based on number of trials "]
[21,2155,21,2159,21,2171,null,null,null,null,0,222,null,null,null,"%_1","%_2","%_3","%_4","%_5","%_6"]
[21,2313,21,2319,21,2325,null,null,null,null,0,222,null,null,"target sequence",{"$f":"$G$3","v":222},{"$f":"$G$3","v":222},{"$f":"$G$3","v":222},{"$f":"$G$3","v":222},{"$f":"$G$3","v":222},{"$f":"$G$3","v":222}]
[21,2554,21,2562,21,2564,null,null,null,null,0,222,null,null,"total reinforcement",{"$f":"U14","v":4},{"$f":"Z14","v":9},{"$f":"AE14","v":8},{"$f":"AJ14","v":7},{"$f":"AO14","v":6},{"$f":"AT14","v":4}]
[21,2669,21,2675,21,2680,null,null,null,null,0,222,null,null,"% target"]
[21,2809,21,2813,21,2821,null,null,null,null,0,222,null,null,"CCRF"]
[21,3033,21,3046,21,3048,null,null,null,null,0,222,null,null,"% CCRf"]
[21,3299,21,3307,21,3315,null,null,null,null,0,222,null,null,"average response rate",{"$f":"F15/P20","v":114.44444444444444},{"$f":"(F24-F15)/Q20","v":170.44444444444446},{"$f":"(F32-F24)/R20","v":179.25},{"$f":"(F41-F32)/S20","v":169},{"$f":"(F50-F41)/T20","v":137.55555555555554},{"$f":"(F59-F50)/U20","v":181.11111111111111}]
[21,3535,21,3546,21,3553,null,null,null,null,0,222]
[21,3668,21,3673,21,3678,null,null,null,null,0,222]
[21,3837,21,3845,21,3848,null,null,null,null,0,222]
[21,3941,21,3946,21,3998,null,null,null,null,0,222]
[21,4292,21,4298,21,4301,null,null,null,null,0,222]
[12,4406,23,4415,23,4433,null,null,null,null,0,122]
[12,4525,14,4532,14,4549,null,null,null,null,0,111]
[21,4689,21,4694,21,4696,null,null,null,null,0,222]
[21,4944,21,4950,21,4955,null,null,null,null,0,222]
[21,5108,21,5123,21,5126,null,null,null,null,0,222]
[21,5218,21,5226,21,5233,null,null,null,null,0,222]
[21,5385,21,5403,21,5406,null,null,null,null,0,222]
[21,5502,21,5516,21,5519,null,null,null,null,0,222]
[21,5632,21,5642,12,5678,null,null,null,null,0,221]
[21,5813,21,5816,21,5820,null,null,null,null,0,222]
[21,5938,21,5945,21,5950,null,null,null,null,0,222]
[21,6113,21,6121,21,6128,null,null,null,null,0,222]
[21,6259,21,6266,21,6311,null,null,null,null,0,222]
[21,6400,21,6408,21,6410,null,null,null,null,0,222]
[21,6507,21,6520,12,6536,null,null,null,null,0,221]
[21,6636,12,6638,23,6644,null,null,null,null,0,212]
[21,6745,21,6749,21,6757,null,null,null,null,0,222]
[21,6954,21,6958,21,6992,null,null,null,null,0,222]
[21,7140,21,7145,21,7151,null,null,null,null,0,222]
[21,7385,21,7399,12,7418,null,null,null,null,0,221]
[12,7516,14,7520,23,7535,null,null,null,null,0,112]
[21,7636,12,7639,23,7659,null,null,null,null,0,212]
[21,7756,21,7808,12,7825,null,null,null,null,0,221]
[21,7917,21,7938,21,7954,null,null,null,null,0,222]
[12,8044,23,8058,14,8064,null,null,null,null,0,121]
[21,8369,21,8384,21,8387,null,null,null,null,1,222]

{"sheet":"!N11292B.AXT","index":23,"n_rows":49,"n_cols":48,"rows_kept":49,"cut":false,"hidden":false,"merged":[[4,39,4,42],[5,39,5,40],[4,44,4,47],[5,44,5,45],[4,24,4,27],[5,24,5,25],[4,29,4,32],[5,29,5,30],[4,34,4,37],[5,34,5,35],[1,1,1,2],[5,13,5,14],[18,13,18,14],[19,13,19,14],[4,19,4,22],[5,19,5,20]]}
["Report for:!N11292B.AXT"]
["Date:","<date>"]
["Hen:","<hen>",null,null,null,"Correct Sequence",{"$f":"Start!J2","v":222},null,null,null,null,null,null,null,null,"Total Sequences in Data",{"$f":"4994-COUNTBLANK(L7:L5000)","v":43},null,null,null,null,"Total Sequences in Block Data",{"$f":"COUNTA(L7:L13)","v":7},null,null,null,"Total Sequences in Block Data",{"$f":"COUNTA(L14:L20)","v":7},null,null,null,"Total Sequences in Block Data",{"$f":"COUNTA(L21:L28)","v":8},null,null,null,"Total Sequences in Block Data",{"$f":"COUNTA(L29:L35)","v":7},null,null,null,"Total Sequences in Block Data",{"$f":"COUNTA(L36:L42)","v":7},null,null,null,"Total Sequences in Block Data",{"$f":"COUNTA(L43:L49)","v":7}]
[null,null,null,null,null,null,null,null,null,null,null,null,null,null,null,"Total Sequences in Summary",{"$f":"SUM(O7:O14)","v":43},null,null,null,null,"Total Sequences in Block Summary",{"$f":"SUM(U7:U14)","v":7},null,null,null,"Total Sequences in Block Summary",{"$f":"SUM(Z7:Z14)","v":7},null,null,null,"Total Sequences in Block Summary",{"$f":"SUM(AE7:AE14)","v":8},null,null,null,"Total Sequences in Block Summary",{"$f":"SUM(AJ7:AJ14)","v":7},null,null,null,"Total Sequences in Block Summary",{"$f":"SUM(AO7:AO14)","v":7},null,null,null,"Total Sequences in Block Summary",{"$f":"SUM(AT7:AT14)","v":7}]
[null,null,null,null,null,null,null,null,null,null,null,null,null,null,null,null,null,null,null,"Block 1",null,null,null,null,"Block 2",null,null,null,null,"Block 3",null,null,null,null,"Block 4",null,null,null,null,"Block 5",null,null,null,null,"Block 6"]
["Sequence\nComponent\n1","Time\n1","Sequence\nComponent\n2","Time\n2","Sequence\nComponent\n3","Time\n3","Sequence\nComponent\n4","Time\n4","Sequence\nComponent\n5","Time\n5","Correct?\n0=No 1=Yes","Sequence",null,"Frequency",null,"Relative Frequency","Variability",null,null,"Frequency",null,"Relative Frequency","Variability",null,"Frequency",null,"Relative Frequency","Variability",null,"Frequency",null,"Relative Frequency","Variability",null,"Frequency",null,"Relative Frequency","Variability",null,"Frequency",null,"Relative Frequency","Variability",null,"Frequency",null,"Relative Frequency","Variability"]
[21,110,21,116,12,132,null,null,null,null,0,221,null,111,{"$f":"COUNTIF($L$7:$L$500,N7)","v":0},{"$f":"O7/$Q$4","v":0},{"$f":"IF(P7=0,0,(P7*((LOG(P7))/LOG(2))))","v":0},null,null,{"$f":"N7","v":111},{"$f":"COUNTIF(L7:L13,T7)","v":0},{"$f":"U7/(W4-U14)","v":0},{"$f":"IF(V7=0,0,(V7*((LOG(V7))/LOG(2))))","v":0},null,{"$f":"N7","v":111},{"$f":"COUNTIF(L14:L20,Y7)","v":0},{"$f":"Z7/(AB4-Z14)","v":{"$error":"#DIV/0!"}},{"$f":"IF(AA7=0,0,(AA7*((LOG(AA7))/LOG(2))))","v":{"$error":"#DIV/0!"}},null,{"$f":"N7","v":111},{"$f":"COUNTIF(L21:L28,AD7)","v":0},{"$f":"AE7/(AG4-AE14)","v":0},{"$f":"IF(AF7=0,0,(AF7*((LOG(AF7))/LOG(2))))","v":0},null,{"$f":"N7","v":111},{"$f":"COUNTIF(L29:L35,AI7)","v":0},{"$f":"AJ7/(AL4-AJ14)","v":0},{"$f":"IF(AK7=0,0,(AK7*((LOG(AK7))/LOG(2))))","v":0},null,{"$f":"N7","v":111},{"$f":"COUNTIF(L36:L42,AN7)","v":0},{"$f":"AO7/(AQ4-AO14)","v":0},{"$f":"IF(AP7=0,0,(AP7*((LOG(AP7))/LOG(2))))","v":0},null,{"$f":"N7","v":111},{"$f":"COUNTIF(L43:L49,AS7)","v":0},{"$f":"AT7/(AV4-AT14)","v":{"$error":"#DIV/0!"}},{"$f":"IF(AU7=0,0,(AU7*((LOG(AU7))/LOG(2))))","v":{"$error":"#DIV/0!"}}]
[21,242,21,251,21,255,null,null,null,null,0,222,null,112,{"$f":"COUNTIF($L$7:$L$500,N8)","v":0},{"$f":"O8/$Q$4","v":0},{"$f":"IF(P8=0,0,(P8*((LOG(P8))/LOG(2))))","v":0},null,null,{"$f":"N8","v":112},{"$f":"COUNTIF(L7:L13,T8)","v":0},{"$f":"U8/(W4-U14)","v":0},{"$f":"IF(V8=0,0,(V8*((LOG(V8))/LOG(2))))","v":0},null,{"$f":"N8","v":112},{"$f":"COUNTIF(L14:L20,Y8)","v":0},{"$f":"Z8/(AB4-Z14)","v":{"$error":"#DIV/0!"}},{"$f":"IF(AA8=0,0,(AA8*((LOG(AA8))/LOG(2))))","v":{"$error":"#DIV/0!"}},null,{"$f":"N8","v":112},{"$f":"COUNTIF(L21:L28,AD8)","v":0},{"$f":"AE8/(AG4-AE14)","v":0},{"$f":"IF(AF8=0,0,(AF8*((LOG(AF8))/LOG(2))))","v":0},null,{"$f":"N8","v":112},{"$f":"COUNTIF(L29:L35,AI8)","v":0},{"$f":"AJ8/(AL4-AJ14)","v":0},{"$f":"IF(AK8=0,0,(AK8*((LOG(AK8))/LOG(2))))","v":0},null,{"$f":"N8","v":112},{"$f":"COUNTIF(L36:L42,AN8)","v":0},{"$f":"AO8/(AQ4-AO14)","v":0},{"$f":"IF(AP8=0,0,(AP8*((LOG(AP8))/LOG(2))))","v":0},null,{"$f":"N8","v":112},{"$f":"COUNTIF(L43:L49,AS8)","v":0},{"$f":"AT8/(AV4-AT14)","v":{"$error":"#DIV/0!"}},{"$f":"IF(AU8=0,0,(AU8*((LOG(AU8))/LOG(2))))","v":{"$error":"#DIV/0!"}}]
[21,409,21,412,21,416,null,null,null,null,0,222,null,121,{"$f":"COUNTIF($L$7:$L$500,N9)","v":0},{"$f":"O9/$Q$4","v":0},{"$f":"IF(P9=0,0,(P9*((LOG(P9))/LOG(2))))","v":0},null,null,{"$f":"N9","v":121},{"$f":"COUNTIF(L7:L13,T9)","v":0},{"$f":"U9/(W4-U14)","v":0},{"$f":"IF(V9=0,0,(V9*((LOG(V9))/LOG(2))))","v":0},null,{"$f":"N9","v":121},{"$f":"COUNTIF(L14:L20,Y9)","v":0},{"$f":"Z9/(AB4-Z14)","v":{"$error":"#DIV/0!"}},{"$f":"IF(AA9=0,0,(AA9*((LOG(AA9))/LOG(2))))","v":{"$error":"#DIV/0!"}},null,{"$f":"N9","v":121},{"$f":"COUNTIF(L21:L28,AD9)","v":0},{"$f":"AE9/(AG4-AE14)","v":0},{"$f":"IF(AF9=0,0,(AF9*((LOG(AF9))/LOG(2))))","v":0},null,{"$f":"N9","v":121},{"$f":"COUNTIF(L29:L35,AI9)","v":0},{"$f":"AJ9/(AL4-AJ14)","v":0},{"$f":"IF(AK9=0,0,(AK9*((LOG(AK9))/LOG(2))))","v":0},null,{"$f":"N9","v":121},{"$f":"COUNTIF(L36:L42,AN9)","v":0},{"$f":"AO9/(AQ4-AO14)","v":0},{"$f":"IF(AP9=0,0,(AP9*((LOG(AP9))/LOG(2))))","v":0},null,{"$f":"N9","v":121},{"$f":"COUNTIF(L43:L49,AS9)","v":0},{"$f":"AT9/(AV4-AT14)","v":{"$error":"#DIV/0!"}},{"$f":"IF(AU9=0,0,(AU9*((LOG(AU9))/LOG(2))))","v":{"$error":"#DIV/0!"}}]
[21,551,21,554,21,557,null,null,null,null,0,222,null,122,{"$f":"COUNTIF($L$7:$L$500,N10)","v":0},{"$f":"O10/$Q$4","v":0},{"$f":"IF(P10=0,0,(P10*((LOG(P10))/LOG(2))))","v":0},null,null,{"$f":"N10","v":122},{"$f":"COUNTIF(L7:L13,T10)","v":0},{"$f":"U10/(W4-U14)","v":0},{"$f":"IF(V10=0,0,(V10*((LOG(V10))/LOG(2))))","v":0},null,{"$f":"N10","v":122},{"$f":"COUNTIF(L14:L20,Y10)","v":0},{"$f":"Z10/(AB4-Z14)","v":{"$error":"#DIV/0!"}},{"$f":"IF(AA10=0,0,(AA10*((LOG(AA10))/LOG(2))))","v":{"$error":"#DIV/0!"}},null,{"$f":"N10","v":122},{"$f":"COUNTIF(L21:L28,AD10)","v":0},{"$f":"AE10/(AG4-AE14)","v":0},{"$f":"IF(AF10=0,0,(AF10*((LOG(AF10))/LOG(2))))","v":0},null,{"$f":"N10","v":122},{"$f":"COUNTIF(L29:L35,AI10)","v":0},{"$f":"AJ10/(AL4-AJ14)","v":0},{"$f":"IF(AK10=0,0,(AK10*((LOG(AK10))/LOG(2))))","v":0},null,{"$f":"N10","v":122},{"$f":"COUNTIF(L36:L42,AN10)","v":0},{"$f":"AO10/(AQ4-AO14)","v":0},{"$f":"IF(AP10=0,0,(AP10*((LOG(AP10))/LOG(2))))","v":0},null,{"$f":"N10","v":122},{"$f":"COUNTIF(L43:L49,AS10)","v":0},{"$f":"AT10/(AV4-AT14)","v":{"$error":"#DIV/0!"}},{"$f":"IF(AU10=0,0,(AU10*((LOG(AU10))/LOG(2))))","v":{"$error":"#DIV/0!"}}]
[21,716,21,723,21,728,null,null,null,null,0,222,null,211,{"$f":"COUNTIF($L$7:$L$500,N11)","v":0},{"$f":"O11/$Q$4","v":0},{"$f":"IF(P11=0,0,(P11*((LOG(P11))/LOG(2))))","v":0},null,null,{"$f":"N11","v":211},{"$f":"COUNTIF(L7:L13,T11)","v":0},{"$f":"U11/(W4-U14)","v":0},{"$f":"IF(V11=0,0,(V11*((LOG(V11))/LOG(2))))","v":0},null,{"$f":"N11","v":211},{"$f":"COUNTIF(L14:L20,Y11)","v":0},{"$f":"Z11/(AB4-Z14)","v":{"$error":"#DIV/0!"}},{"$f":"IF(AA11=0,0,(AA11*((LOG(AA11))/LOG(2))))","v":{"$error":"#DIV/0!"}},null,{"$f":"N11","v":211},{"$f":"COUNTIF(L21:L28,AD11)","v":0},{"$f":"AE11/(AG4-AE14)","v":0},{"$f":"IF(AF11=0,0,(AF11*((LOG(AF11))/LOG(2))))","v":0},null,{"$f":"N11","v":211},{"$f":"COUNTIF(L29:L35,AI11)","v":0},{"$f":"AJ11/(AL4-AJ14)","v":0},{"$f":"IF(AK11=0,0,(AK11*((LOG(AK11))/LOG(2))))","v":0},null,{"$f":"N11","v":211},{"$f":"COUNTIF(L36:L42,AN11)","v":0},{"$f":"AO11/(AQ4-AO14)","v":0},{"$f":"IF(AP11=0,0,(AP11*((LOG(AP11))/LOG(2))))","v":0},null,{"$f":"N11","v":211},{"$f":"COUNTIF(L43:L49,AS11)","v":0},{"$f":"AT11/(AV4-AT14)","v":{"$error":"#DIV/0!"}},{"$f":"IF(AU11=0,0,(AU11*((LOG(AU11))/LOG(2))))","v":{"$error":"#DIV/0!"}}]
[21,873,21,880,21,884,null,null,null,null,0,222,null,212,{"$f":"COUNTIF($L$7:$L$500,N12)","v":1},{"$f":"O12/$Q$4","v":2.3255813953488372E-2},{"$f":"IF(P12=0,0,(P12*((LOG(P12))/LOG(2))))","v":-0.12619220359772321},null,null,{"$f":"N12","v":212},{"$f":"COUNTIF(L7:L13,T12)","v":0},{"$f":"U12/(W4-U14)","v":0},{"$f":"IF(V12=0,0,(V12*((LOG(V12))/LOG(2))))","v":0},null,{"$f":"N12","v":212},{"$f":"COUNTIF(L14:L20,Y12)","v":0},{"$f":"Z12/(AB4-Z14)","v":{"$error":"#DIV/0!"}},{"$f":"IF(AA12=0,0,(AA12*((LOG(AA12))/LOG(2))))","v":{"$error":"#DIV/0!"}},null,{"$f":"N12","v":212},{"$f":"COUNTIF(L21:L28,AD12)","v":0},{"$f":"AE12/(AG4-AE14)","v":0},{"$f":"IF(AF12=0,0,(AF12*((LOG(AF12))/LOG(2))))","v":0},null,{"$f":"N12","v":212},{"$f":"COUNTIF(L29:L35,AI12)","v":1},{"$f":"AJ12/(AL4-AJ14)","v":1},{"$f":"IF(AK12=0,0,(AK12*((LOG(AK12))/LOG(2))))","v":0},null,{"$f":"N12","v":212},{"$f":"COUNTIF(L36:L42,AN12)","v":0},{"$f":"AO12/(AQ4-AO14)","v":0},{"$f":"IF(AP12=0,0,(AP12*((LOG(AP12))/LOG(2))))","v":0},null,{"$f":"N12","v":212},{"$f":"COUNTIF(L43:L49,AS12)","v":0},{"$f":"AT12/(AV4-AT14)","v":{"$error":"#DIV/0!"}},{"$f":"IF(AU12=0,0,(AU12*((LOG(AU12))/LOG(2))))","v":{"$error":"#DIV/0!"}}]
[21,1117,21,1123,21,1127,null,null,null,null,0,222,null,221,{"$f":"COUNTIF($L$7:$L$500,N13)","v":3},{"$f":"O13/$Q$4","v":6.9767441860465115E-2},{"$f":"IF(P13=0,0,(P13*((LOG(P13))/LOG(2))))","v":-0.26799783167308894},null,null,{"$f":"N13","v":221},{"$f":"COUNTIF(L7:L13,T13)","v":1},{"$f":"U13/(W4-U14)","v":1},{"$f":"IF(V13=0,0,(V13*((LOG(V13))/LOG(2))))","v":0},null,{"$f":"N13","v":221},{"$f":"COUNTIF(L14:L20,Y13)","v":0},{"$f":"Z13/(AB4-Z14)","v":{"$error":"#DIV/0!"}},{"$f":"IF(AA13=0,0,(AA13*((LOG(AA13))/LOG(2))))","v":{"$error":"#DIV/0!"}},null,{"$f":"N13","v":221},{"$f":"COUNTIF(L21:L28,AD13)","v":1},{"$f":"AE13/(AG4-AE14)","v":1},{"$f":"IF(AF13=0,0,(AF13*((LOG(AF13))/LOG(2))))","v":0},null,{"$f":"N13","v":221},{"$f":"COUNTIF(L29:L35,AI13)","v":0},{"$f":"AJ13/(AL4-AJ14)","v":0},{"$f":"IF(AK13=0,0,(AK13*((LOG(AK13))/LOG(2))))","v":0},null,{"$f":"N13","v":221},{"$f":"COUNTIF(L36:L42,AN13)","v":1},{"$f":"AO13/(AQ4-AO14)","v":1},{"$f":"IF(AP13=0,0,(AP13*((LOG(AP13))/LOG(2))))","v":0},null,{"$f":"N13","v":221},{"$f":"COUNTIF(L43:L49,AS13)","v":0},{"$f":"AT13/(AV4-AT14)","v":{"$error":"#DIV/0!"}},{"$f":"IF(AU13=0,0,(AU13*((LOG(AU13))/LOG(2))))","v":{"$error":"#DIV/0!"}}]
[21,1342,21,1356,21,1368,null,null,null,null,0,222,null,222,{"$f":"COUNTIF($L$7:$L$500,N14)","v":39},{"$f":"O14/$Q$4","v":0.90697674418604646},{"$f":"IF(P14=0,0,(P14*((LOG(P14))/LOG(2))))","v":-0.12775904413381717},null,null,{"$f":"N14","v":222},{"$f":"COUNTIF(L7:L13,T14)","v":6},null,null,null,{"$f":"N14","v":222},{"$f":"COUNTIF(L14:L20,Y14)","v":7},null,null,null,{"$f":"N14","v":222},{"$f":"COUNTIF(L21:L28,AD14)","v":7},null,null,null,{"$f":"N14","v":222},{"$f":"COUNTIF(L29:L35,AI14)","v":6},null,null,null,{"$f":"N14","v":222},{"$f":"COUNTIF(L36:L42,AN14)","v":6},null,null,null,{"$f":"N14","v":222},{"$f":"COUNTIF(L43:L49,AS14)","v":7}]
[21,1534,21,1541,21,1554,null,null,null,null,0,222,null,null,null,{"$f":"SUM(P7:P14)","v":1},{"$f":"-SUM(Q7:Q14)","v":0.52194907940462931},null,null,null,null,{"$f":"SUM(V7:V14)","v":1},{"$f":"-SUM(W7:W14)","v":0},null,null,null,{"$f":"SUM(AA7:AA14)","v":{"$error":"#DIV/0!"}},{"$f":"-SUM(AB7:AB14)","v":{"$error":"#DIV/0!"}},null,null,null,{"$f":"SUM(AF7:AF14)","v":1},{"$f":"-SUM(AG7:AG14)","v":0},null,null,null,{"$f":"SUM(AK7:AK14)","v":1},{"$f":"-SUM(AL7:AL14)","v":0},null,null,null,{"$f":"SUM(AP7:AP14)","v":1},{"$f":"-SUM(AQ7:AQ14)","v":0},null,null,null,{"$f":"SUM(AU7:AU14)","v":{"$error":"#DIV/0!"}},{"$f":"-SUM(AV7:AV14)","v":{"$error":"#DIV/0!"}}]
[21,1813,21,1820,21,1827,null,null,null,null,0,222,null,null,null,"U=",{"$f":"Q15/(LOG(Q4)/LOG(2))","v":9.6189386806520519E-2},null,null,null,null,"U1=",{"$f":"W15/(LOG(W4)/LOG(2))","v":0},null,null,null,"U2=",{"$f":"AB15/(LOG(AB4)/LOG(2))","v":{"$error":"#DIV/0!"}},null,null,null,"U3=",{"$f":"AG15/(LOG(AG4)/LOG(2))","v":0},null,null,null,"U4=",{"$f":"AL15/(LOG(AL4)/LOG(2))","v":0},null,null,null,"U5=",{"$f":"AQ15/(LOG(AQ4)/LOG(2))","v":0},null,null,null,"U6=",{"$f":"AV15/(LOG(AV4)/LOG(2))","v":{"$error":"#DIV/0!"}}]
[21,1958,21,1964,21,1969,null,null,null,null,0,222]
[21,2136,21,2150,21,2152,null,null,null,null,0,222]
[21,2260,21,2263,21,2267,null,null,null,null,0,222,null,"Total Target Seq"]
[21,2353,21,2363,21,2367,null,null,null,null,0,222,null,{"$f":"COUNTIF(L7:L49,G3)","v":39},null,7,7,8,7,7,7]
[21,2470,21,2474,21,2479,null,null,null,null,0,222,null,null,null,"% of reinforcement given in 6 equal intervals based on number of trials "]
[21,2617,21,2626,21,2630,null,null,null,null,0,222,null,null,null,"%_1","%_2","%_3","%_4","%_5","%_6"]
[21,2745,21,2753,21,2758,null,null,null,null,0,222,null,null,"target sequence",{"$f":"$G$3","v":222},{"$f":"$G$3","v":222},{"$f":"$G$3","v":222},{"$f":"$G$3","v":222},{"$f":"$G$3","v":222},{"$f":"$G$3","v":222}]
[21,2851,21,2946,21,2961,null,null,null,null,0,222,null,null,"total reinforcement",{"$f":"U14","v":6},{"$f":"Z14","v":7},{"$f":"AE14","v":7},{"$f":"AJ14","v":6},{"$f":"AO14","v":6},{"$f":"AT14","v":7}]
[21,3147,21,3151,21,3157,null,null,null,null,0,222,null,null,"% target"]
[21,3271,21,3301,12,3305,null,null,null,null,0,221,null,null,"CCRF"]
[21,3474,21,3477,21,3482,null,null,null,null,0,222,null,null,"% CCRf"]
[21,3635,21,3638,21,3644,null,null,null,null,0,222,null,null,"average response rate",{"$f":"F13/P20","v":161},{"$f":"(F20-F13)/Q20","v":177.14285714285714},{"$f":"(F28-F20)/R20","v":159.625},{"$f":"(F35-F28)/S20","v":171.57142857142858},{"$f":"(F42-F35)/T20","v":188.85714285714286},{"$f":"(F49-F42)/U20","v":160.85714285714286}]
[21,3897,21,3904,21,3908,null,null,null,null,0,222]
[21,4094,21,4102,21,4107,null,null,null,null,0,222]
[21,4309,12,4320,23,4333,null,null,null,null,0,212]
[21,4434,21,4440,21,4443,null,null,null,null,0,222]
[21,4556,21,4568,21,4581,null,null,null,null,0,222]
[21,4725,21,4733,21,4739,null,null,null,null,0,222]
[21,4831,21,4839,21,4845,null,null,null,null,0,222]
[21,4992,21,5044,21,5053,null,null,null,null,0,222]
[21,5223,21,5230,21,5236,null,null,null,null,0,222]
[21,5384,21,5391,21,5397,null,null,null,null,0,222]
[21,5636,21,5643,21,5650,null,null,null,null,0,222]
[21,5813,21,5819,21,5823,null,null,null,null,0,222]
[21,5930,21,5932,21,5953,null,null,null,null,0,222]
[21,6128,21,6164,12,6167,null,null,null,null,0,221]
[21,6283,21,6287,21,6291,null,null,null,null,0,222]
[21,6409,21,6415,21,6420,null,null,null,null,0,222]
[21,6617,21,6622,21,6628,null,null,null,null,0,222]
[21,6818,21,6824,21,6832,null,null,null,null,0,222]
[21,6927,21,6935,21,6941,null,null,null,null,0,222]
[21,7061,21,7066,21,7072,null,null,null,null,0,222]
[21,7284,21,7287,21,7293,null,null,null,null,1,222]

{"sheet":"!N11394B.AXT","index":24,"n_rows":42,"n_cols":48,"rows_kept":42,"cut":false,"hidden":false,"merged":[[4,39,4,42],[5,39,5,40],[4,44,4,47],[5,44,5,45],[4,24,4,27],[5,24,5,25],[4,29,4,32],[5,29,5,30],[4,34,4,37],[5,34,5,35],[1,1,1,2],[5,13,5,14],[18,13,18,14],[19,13,19,14],[4,19,4,22],[5,19,5,20]]}
["Report for:!N11394B.AXT"]
["Date:","<date>"]
["Hen:","<hen>",null,null,null,"Correct Sequence",{"$f":"Start!J2","v":222},null,null,null,null,null,null,null,null,"Total Sequences in Data",{"$f":"4994-COUNTBLANK(L7:L5000)","v":36},null,null,null,null,"Total Sequences in Block Data",{"$f":"COUNTA(L7:L12)","v":6},null,null,null,"Total Sequences in Block Data",{"$f":"COUNTA(L13:L18)","v":6},null,null,null,"Total Sequences in Block Data",{"$f":"COUNTA(L19:L24)","v":6},null,null,null,"Total Sequences in Block Data",{"$f":"COUNTA(L25:L30)","v":6},null,null,null,"Total Sequences in Block Data",{"$f":"COUNTA(L31:L36)","v":6},null,null,null,"Total Sequences in Block Data",{"$f":"COUNTA(L37:L42)","v":6}]
[null,null,null,null,null,null,null,null,null,null,null,null,null,null,null,"Total Sequences in Summary",{"$f":"SUM(O7:O14)","v":36},null,null,null,null,"Total Sequences in Block Summary",{"$f":"SUM(U7:U14)","v":6},null,null,null,"Total Sequences in Block Summary",{"$f":"SUM(Z7:Z14)","v":6},null,null,null,"Total Sequences in Block Summary",{"$f":"SUM(AE7:AE14)","v":6},null,null,null,"Total Sequences in Block Summary",{"$f":"SUM(AJ7:AJ14)","v":6},null,null,null,"Total Sequences in Block Summary",{"$f":"SUM(AO7:AO14)","v":6},null,null,null,"Total Sequences in Block Summary",{"$f":"SUM(AT7:AT14)","v":6}]
[null,null,null,null,null,null,null,null,null,null,null,null,null,null,null,null,null,null,null,"Block 1",null,null,null,null,"Block 2",null,null,null,null,"Block 3",null,null,null,null,"Block 4",null,null,null,null,"Block 5",null,null,null,null,"Block 6"]
["Sequence\nComponent\n1","Time\n1","Sequence\nComponent\n2","Time\n2","Sequence\nComponent\n3","Time\n3","Sequence\nComponent\n4","Time\n4","Sequence\nComponent\n5","Time\n5","Correct?\n0=No 1=Yes","Sequence",null,"Frequency",null,"Relative Frequency","Variability",null,null,"Frequency",null,"Relative Frequency","Variability",null,"Frequency",null,"Relative Frequency","Variability",null,"Frequency",null,"Relative Frequency","Variability",null,"Frequency",null,"Relative Frequency","Variability",null,"Frequency",null,"Relative Frequency","Variability",null,"Frequency",null,"Relative Frequency","Variability"]
[12,155,23,177,14,200,null,null,null,null,0,121,null,111,{"$f":"COUNTIF($L$7:$L$500,N7)","v":1},{"$f":"O7/$Q$4","v":2.7777777777777776E-2},{"$f":"IF(P7=0,0,(P7*((LOG(P7))/LOG(2))))","v":-0.14360902781784199},null,null,{"$f":"N7","v":111},{"$f":"COUNTIF(L7:L12,T7)","v":0},{"$f":"U7/(W4-U14)","v":0},{"$f":"IF(V7=0,0,(V7*((LOG(V7))/LOG(2))))","v":0},null,{"$f":"N7","v":111},{"$f":"COUNTIF(L13:L18,Y7)","v":0},{"$f":"Z7/(AB4-Z14)","v":{"$error":"#DIV/0!"}},{"$f":"IF(AA7=0,0,(AA7*((LOG(AA7))/LOG(2))))","v":{"$error":"#DIV/0!"}},null,{"$f":"N7","v":111},{"$f":"COUNTIF(L19:L24,AD7)","v":0},{"$f":"AE7/(AG4-AE14)","v":{"$error":"#DIV/0!"}},{"$f":"IF(AF7=0,0,(AF7*((LOG(AF7))/LOG(2))))","v":{"$error":"#DIV/0!"}},null,{"$f":"N7","v":111},{"$f":"COUNTIF(L25:L30,AI7)","v":0},{"$f":"AJ7/(AL4-AJ14)","v":{"$error":"#DIV/0!"}},{"$f":"IF(AK7=0,0,(AK7*((LOG(AK7))/LOG(2))))","v":{"$error":"#DIV/0!"}},null,{"$f":"N7","v":111},{"$f":"COUNTIF(L31:L36,AN7)","v":0},{"$f":"AO7/(AQ4-AO14)","v":0},{"$f":"IF(AP7=0,0,(AP7*((LOG(AP7))/LOG(2))))","v":0},null,{"$f":"N7","v":111},{"$f":"COUNTIF(L37:L42,AS7)","v":1},{"$f":"AT7/(AV4-AT14)","v":0.16666666666666666},{"$f":"IF(AU7=0,0,(AU7*((LOG(AU7))/LOG(2))))","v":-0.43082708345352599}]
[21,320,21,323,21,326,null,null,null,null,0,222,null,112,{"$f":"COUNTIF($L$7:$L$500,N8)","v":0},{"$f":"O8/$Q$4","v":0},{"$f":"IF(P8=0,0,(P8*((LOG(P8))/LOG(2))))","v":0},null,null,{"$f":"N8","v":112},{"$f":"COUNTIF(L7:L12,T8)","v":0},{"$f":"U8/(W4-U14)","v":0},{"$f":"IF(V8=0,0,(V8*((LOG(V8))/LOG(2))))","v":0},null,{"$f":"N8","v":112},{"$f":"COUNTIF(L13:L18,Y8)","v":0},{"$f":"Z8/(AB4-Z14)","v":{"$error":"#DIV/0!"}},{"$f":"IF(AA8=0,0,(AA8*((LOG(AA8))/LOG(2))))","v":{"$error":"#DIV/0!"}},null,{"$f":"N8","v":112},{"$f":"COUNTIF(L19:L24,AD8)","v":0},{"$f":"AE8/(AG4-AE14)","v":{"$error":"#DIV/0!"}},{"$f":"IF(AF8=0,0,(AF8*((LOG(AF8))/LOG(2))))","v":{"$error":"#DIV/0!"}},null,{"$f":"N8","v":112},{"$f":"COUNTIF(L25:L30,AI8)","v":0},{"$f":"AJ8/(AL4-AJ14)","v":{"$error":"#DIV/0!"}},{"$f":"IF(AK8=0,0,(AK8*((LOG(AK8))/LOG(2))))","v":{"$error":"#DIV/0!"}},null,{"$f":"N8","v":112},{"$f":"COUNTIF(L31:L36,AN8)","v":0},{"$f":"AO8/(AQ4-AO14)","v":0},{"$f":"IF(AP8=0,0,(AP8*((LOG(AP8))/LOG(2))))","v":0},null,{"$f":"N8","v":112},{"$f":"COUNTIF(L37:L42,AS8)","v":0},{"$f":"AT8/(AV4-AT14)","v":0},{"$f":"IF(AU8=0,0,(AU8*((LOG(AU8))/LOG(2))))","v":0}]
[21,455,12,486,23,501,null,null,null,null,0,212,null,121,{"$f":"COUNTIF($L$7:$L$500,N9)","v":2},{"$f":"O9/$Q$4","v":5.5555555555555552E-2},{"$f":"IF(P9=0,0,(P9*((LOG(P9))/LOG(2))))","v":-0.23166250008012845},null,null,{"$f":"N9","v":121},{"$f":"COUNTIF(L7:L12,T9)","v":1},{"$f":"U9/(W4-U14)","v":0.33333333333333331},{"$f":"IF(V9=0,0,(V9*((LOG(V9))/LOG(2))))","v":-0.52832083357371862},null,{"$f":"N9","v":121},{"$f":"COUNTIF(L13:L18,Y9)","v":0},{"$f":"Z9/(AB4-Z14)","v":{"$error":"#DIV/0!"}},{"$f":"IF(AA9=0,0,(AA9*((LOG(AA9))/LOG(2))))","v":{"$error":"#DIV/0!"}},null,{"$f":"N9","v":121},{"$f":"COUNTIF(L19:L24,AD9)","v":0},{"$f":"AE9/(AG4-AE14)","v":{"$error":"#DIV/0!"}},{"$f":"IF(AF9=0,0,(AF9*((LOG(AF9))/LOG(2))))","v":{"$error":"#DIV/0!"}},null,{"$f":"N9","v":121},{"$f":"COUNTIF(L25:L30,AI9)","v":0},{"$f":"AJ9/(AL4-AJ14)","v":{"$error":"#DIV/0!"}},{"$f":"IF(AK9=0,0,(AK9*((LOG(AK9))/LOG(2))))","v":{"$error":"#DIV/0!"}},null,{"$f":"N9","v":121},{"$f":"COUNTIF(L31:L36,AN9)","v":1},{"$f":"AO9/(AQ4-AO14)","v":0.25},{"$f":"IF(AP9=0,0,(AP9*((LOG(AP9))/LOG(2))))","v":-0.5},null,{"$f":"N9","v":121},{"$f":"COUNTIF(L37:L42,AS9)","v":0},{"$f":"AT9/(AV4-AT14)","v":0},{"$f":"IF(AU9=0,0,(AU9*((LOG(AU9))/LOG(2))))","v":0}]
[21,666,21,670,21,717,null,null,null,null,0,222,null,122,{"$f":"COUNTIF($L$7:$L$500,N10)","v":1},{"$f":"O10/$Q$4","v":2.7777777777777776E-2},{"$f":"IF(P10=0,0,(P10*((LOG(P10))/LOG(2))))","v":-0.14360902781784199},null,null,{"$f":"N10","v":122},{"$f":"COUNTIF(L7:L12,T10)","v":0},{"$f":"U10/(W4-U14)","v":0},{"$f":"IF(V10=0,0,(V10*((LOG(V10))/LOG(2))))","v":0},null,{"$f":"N10","v":122},{"$f":"COUNTIF(L13:L18,Y10)","v":0},{"$f":"Z10/(AB4-Z14)","v":{"$error":"#DIV/0!"}},{"$f":"IF(AA10=0,0,(AA10*((LOG(AA10))/LOG(2))))","v":{"$error":"#DIV/0!"}},null,{"$f":"N10","v":122},{"$f":"COUNTIF(L19:L24,AD10)","v":0},{"$f":"AE10/(AG4-AE14)","v":{"$error":"#DIV/0!"}},{"$f":"IF(AF10=0,0,(AF10*((LOG(AF10))/LOG(2))))","v":{"$error":"#DIV/0!"}},null,{"$f":"N10","v":122},{"$f":"COUNTIF(L25:L30,AI10)","v":0},{"$f":"AJ10/(AL4-AJ14)","v":{"$error":"#DIV/0!"}},{"$f":"IF(AK10=0,0,(AK10*((LOG(AK10))/LOG(2))))","v":{"$error":"#DIV/0!"}},null,{"$f":"N10","v":122},{"$f":"COUNTIF(L31:L36,AN10)","v":0},{"$f":"AO10/(AQ4-AO14)","v":0},{"$f":"IF(AP10=0,0,(AP10*((LOG(AP10))/LOG(2))))","v":0},null,{"$f":"N10","v":122},{"$f":"COUNTIF(L37:L42,AS10)","v":1},{"$f":"AT10/(AV4-AT14)","v":0.16666666666666666},{"$f":"IF(AU10=0,0,(AU10*((LOG(AU10))/LOG(2))))","v":-0.43082708345352599}]
[21,852,21,855,21,857,null,null,null,null,0,222,null,211,{"$f":"COUNTIF($L$7:$L$500,N11)","v":1},{"$f":"O11/$Q$4","v":2.7777777777777776E-2},{"$f":"IF(P11=0,0,(P11*((LOG(P11))/LOG(2))))","v":-0.14360902781784199},null,null,{"$f":"N11","v":211},{"$f":"COUNTIF(L7:L12,T11)","v":0},{"$f":"U11/(W4-U14)","v":0},{"$f":"IF(V11=0,0,(V11*((LOG(V11))/LOG(2))))","v":0},null,{"$f":"N11","v":211},{"$f":"COUNTIF(L13:L18,Y11)","v":0},{"$f":"Z11/(AB4-Z14)","v":{"$error":"#DIV/0!"}},{"$f":"IF(AA11=0,0,(AA11*((LOG(AA11))/LOG(2))))","v":{"$error":"#DIV/0!"}},null,{"$f":"N11","v":211},{"$f":"COUNTIF(L19:L24,AD11)","v":0},{"$f":"AE11/(AG4-AE14)","v":{"$error":"#DIV/0!"}},{"$f":"IF(AF11=0,0,(AF11*((LOG(AF11))/LOG(2))))","v":{"$error":"#DIV/0!"}},null,{"$f":"N11","v":211},{"$f":"COUNTIF(L25:L30,AI11)","v":0},{"$f":"AJ11/(AL4-AJ14)","v":{"$error":"#DIV/0!"}},{"$f":"IF(AK11=0,0,(AK11*((LOG(AK11))/LOG(2))))","v":{"$error":"#DIV/0!"}},null,{"$f":"N11","v":211},{"$f":"COUNTIF(L31:L36,AN11)","v":1},{"$f":"AO11/(AQ4-AO14)","v":0.25},{"$f":"IF(AP11=0,0,(AP11*((LOG(AP11))/LOG(2))))","v":-0.5},null,{"$f":"N11","v":211},{"$f":"COUNTIF(L37:L42,AS11)","v":0},{"$f":"AT11/(AV4-AT14)","v":0},{"$f":"IF(AU11=0,0,(AU11*((LOG(AU11))/LOG(2))))","v":0}]
[21,1059,12,1067,23,1086,null,null,null,null,0,212,null,212,{"$f":"COUNTIF($L$7:$L$500,N12)","v":4},{"$f":"O12/$Q$4","v":0.1111111111111111},{"$f":"IF(P12=0,0,(P12*((LOG(P12))/LOG(2))))","v":-0.3522138890491458},null,null,{"$f":"N12","v":212},{"$f":"COUNTIF(L7:L12,T12)","v":2},{"$f":"U12/(W4-U14)","v":0.66666666666666663},{"$f":"IF(V12=0,0,(V12*((LOG(V12))/LOG(2))))","v":-0.38997500048077083},null,{"$f":"N12","v":212},{"$f":"COUNTIF(L13:L18,Y12)","v":0},{"$f":"Z12/(AB4-Z14)","v":{"$error":"#DIV/0!"}},{"$f":"IF(AA12=0,0,(AA12*((LOG(AA12))/LOG(2))))","v":{"$error":"#DIV/0!"}},null,{"$f":"N12","v":212},{"$f":"COUNTIF(L19:L24,AD12)","v":0},{"$f":"AE12/(AG4-AE14)","v":{"$error":"#DIV/0!"}},{"$f":"IF(AF12=0,0,(AF12*((LOG(AF12))/LOG(2))))","v":{"$error":"#DIV/0!"}},null,{"$f":"N12","v":212},{"$f":"COUNTIF(L25:L30,AI12)","v":0},{"$f":"AJ12/(AL4-AJ14)","v":{"$error":"#DIV/0!"}},{"$f":"IF(AK12=0,0,(AK12*((LOG(AK12))/LOG(2))))","v":{"$error":"#DIV/0!"}},null,{"$f":"N12","v":212},{"$f":"COUNTIF(L31:L36,AN12)","v":0},{"$f":"AO12/(AQ4-AO14)","v":0},{"$f":"IF(AP12=0,0,(AP12*((LOG(AP12))/LOG(2))))","v":0},null,{"$f":"N12","v":212},{"$f":"COUNTIF(L37:L42,AS12)","v":2},{"$f":"AT12/(AV4-AT14)","v":0.33333333333333331},{"$f":"IF(AU12=0,0,(AU12*((LOG(AU12))/LOG(2))))","v":-0.52832083357371862}]
[21,1184,21,1192,21,1194,null,null,null,null,0,222,null,221,{"$f":"COUNTIF($L$7:$L$500,N13)","v":4},{"$f":"O13/$Q$4","v":0.1111111111111111},{"$f":"IF(P13=0,0,(P13*((LOG(P13))/LOG(2))))","v":-0.3522138890491458},null,null,{"$f":"N13","v":221},{"$f":"COUNTIF(L7:L12,T13)","v":0},{"$f":"U13/(W4-U14)","v":0},{"$f":"IF(V13=0,0,(V13*((LOG(V13))/LOG(2))))","v":0},null,{"$f":"N13","v":221},{"$f":"COUNTIF(L13:L18,Y13)","v":0},{"$f":"Z13/(AB4-Z14)","v":{"$error":"#DIV/0!"}},{"$f":"IF(AA13=0,0,(AA13*((LOG(AA13))/LOG(2))))","v":{"$error":"#DIV/0!"}},null,{"$f":"N13","v":221},{"$f":"COUNTIF(L19:L24,AD13)","v":0},{"$f":"AE13/(AG4-AE14)","v":{"$error":"#DIV/0!"}},{"$f":"IF(AF13=0,0,(AF13*((LOG(AF13))/LOG(2))))","v":{"$error":"#DIV/0!"}},null,{"$f":"N13","v":221},{"$f":"COUNTIF(L25:L30,AI13)","v":0},{"$f":"AJ13/(AL4-AJ14)","v":{"$error":"#DIV/0!"}},{"$f":"IF(AK13=0,0,(AK13*((LOG(AK13))/LOG(2))))","v":{"$error":"#DIV/0!"}},null,{"$f":"N13","v":221},{"$f":"COUNTIF(L31:L36,AN13)","v":2},{"$f":"AO13/(AQ4-AO14)","v":0.5},{"$f":"IF(AP13=0,0,(AP13*((LOG(AP13))/LOG(2))))","v":-0.5},null,{"$f":"N13","v":221},{"$f":"COUNTIF(L37:L42,AS13)","v":2},{"$f":"AT13/(AV4-AT14)","v":0.33333333333333331},{"$f":"IF(AU13=0,0,(AU13*((LOG(AU13))/LOG(2))))","v":-0.52832083357371862}]
[21,1288,21,1295,21,1298,null,null,null,null,0,222,null,222,{"$f":"COUNTIF($L$7:$L$500,N14)","v":23},{"$f":"O14/$Q$4","v":0.63888888888888884},{"$f":"IF(P14=0,0,(P14*((LOG(P14))/LOG(2))))","v":-0.41295416788505251},null,null,{"$f":"N14","v":222},{"$f":"COUNTIF(L7:L12,T14)","v":3},null,null,null,{"$f":"N14","v":222},{"$f":"COUNTIF(L13:L18,Y14)","v":6},null,null,null,{"$f":"N14","v":222},{"$f":"COUNTIF(L19:L24,AD14)","v":6},null,null,null,{"$f":"N14","v":222},{"$f":"COUNTIF(L25:L30,AI14)","v":6},null,null,null,{"$f":"N14","v":222},{"$f":"COUNTIF(L31:L36,AN14)","v":2},null,null,null,{"$f":"N14","v":222},{"$f":"COUNTIF(L37:L42,AS14)","v":0}]
[21,1399,21,1402,21,1406,null,null,null,null,0,222,null,null,null,{"$f":"SUM(P7:P14)","v":1},{"$f":"-SUM(Q7:Q14)","v":1.7798715295169987},null,null,null,null,{"$f":"SUM(V7:V14)","v":1},{"$f":"-SUM(W7:W14)","v":0.91829583405448945},null,null,null,{"$f":"SUM(AA7:AA14)","v":{"$error":"#DIV/0!"}},{"$f":"-SUM(AB7:AB14)","v":{"$error":"#DIV/0!"}},null,null,null,{"$f":"SUM(AF7:AF14)","v":{"$error":"#DIV/0!"}},{"$f":"-SUM(AG7:AG14)","v":{"$error":"#DIV/0!"}},null,null,null,{"$f":"SUM(AK7:AK14)","v":{"$error":"#DIV/0!"}},{"$f":"-SUM(AL7:AL14)","v":{"$error":"#DIV/0!"}},null,null,null,{"$f":"SUM(AP7:AP14)","v":1},{"$f":"-SUM(AQ7:AQ14)","v":1.5},null,null,null,{"$f":"SUM(AU7:AU14)","v":1},{"$f":"-SUM(AV7:AV14)","v":1.9182958340544893}]
[21,1578,21,1581,21,1585,null,null,null,null,0,222,null,null,null,"U=",{"$f":"Q15/(LOG(Q4)/LOG(2))","v":0.3442741488552441},null,null,null,null,"U1=",{"$f":"W15/(LOG(W4)/LOG(2))","v":0.35524532127576403},null,null,null,"U2=",{"$f":"AB15/(LOG(AB4)/LOG(2))","v":{"$error":"#DIV/0!"}},null,null,null,"U3=",{"$f":"AG15/(LOG(AG4)/LOG(2))","v":{"$error":"#DIV/0!"}},null,null,null,"U4=",{"$f":"AL15/(LOG(AL4)/LOG(2))","v":{"$error":"#DIV/0!"}},null,null,null,"U5=",{"$f":"AQ15/(LOG(AQ4)/LOG(2))","v":0.58027921085181244},null,null,null,"U6=",{"$f":"AV15/(LOG(AV4)/LOG(2))","v":0.74209812851030554}]
[21,1690,21,1693,21,1697,null,null,null,null,0,222]
[21,1868,21,1870,21,1879,null,null,null,null,0,222]
[21,2029,21,2033,21,2039,null,null,null,null,0,222,null,"Total Target Seq"]
[21,2286,21,2303,21,2305,null,null,null,null,0,222,null,{"$f":"COUNTIF(L7:L42,G3)","v":23},null,6,6,6,6,6,6]
[21,2423,21,2429,21,2433,null,null,null,null,0,222,null,null,null,"% of reinforcement given in 6 equal intervals based on number of trials "]
[21,2615,21,2626,21,2630,null,null,null,null,0,222,null,null,null,"%_1","%_2","%_3","%_4","%_5","%_6"]
[21,2736,21,2743,21,2747,null,null,null,null,0,222,null,null,"target sequence",{"$f":"$G$3","v":222},{"$f":"$G$3","v":222},{"$f":"$G$3","v":222},{"$f":"$G$3","v":222},{"$f":"$G$3","v":222},{"$f":"$G$3","v":222}]
[21,3024,21,3030,21,3032,null,null,null,null,0,222,null,null,"total reinforcement",{"$f":"U14","v":3},{"$f":"Z14","v":6},{"$f":"AE14","v":6},{"$f":"AJ14","v":6},{"$f":"AO14","v":2},{"$f":"AT14","v":0}]
[21,3386,21,3389,21,3399,null,null,null,null,0,222,null,null,"% target"]
[21,3493,21,3497,21,3506,null,null,null,null,0,222,null,null,"CCRF"]
[21,3714,21,3717,21,3728,null,null,null,null,0,222,null,null,"% CCRf"]
[21,3860,21,3868,21,3873,null,null,null,null,0,222,null,null,"average response rate",{"$f":"F12/P20","v":181},{"$f":"(F18-F12)/Q20","v":132.16666666666666},{"$f":"(F24-F18)/R20","v":192.16666666666666},{"$f":"(F30-F24)/S20","v":184.16666666666666},{"$f":"(F36-F30)/T20","v":142.16666666666666},{"$f":"(F42-F36)/U20","v":884.5}]
[21,4005,21,4008,21,4012,null,null,null,null,0,222]
[21,4114,21,4122,21,4137,null,null,null,null,0,222]
[21,4336,21,4342,21,4351,null,null,null,null,0,222]
[21,4491,21,4496,12,4501,null,null,null,null,0,221]
[12,4600,23,4622,14,4624,null,null,null,null,0,121]
[21,4721,12,4725,14,4728,null,null,null,null,0,211]
[21,4875,21,4878,21,4882,null,null,null,null,0,222]
[21,4976,21,4983,12,4990,null,null,null,null,0,221]
[12,5217,23,5226,23,5230,null,null,null,null,0,122]
[21,5332,21,5341,12,5347,null,null,null,null,0,221]
[12,5442,14,5473,14,5497,null,null,null,null,0,111]
[21,6073,12,6082,23,6135,null,null,null,null,0,212]
[21,8270,12,8280,23,8461,null,null,null,null,0,212]
[21,10281,21,10284,12,10297,null,null,null,null,0,221]

{"sheet":"!N11491B.AXT","index":25,"n_rows":54,"n_cols":48,"rows_kept":54,"cut":false,"hidden":false,"merged":[[4,39,4,42],[5,39,5,40],[4,44,4,47],[5,44,5,45],[4,24,4,27],[5,24,5,25],[4,29,4,32],[5,29,5,30],[4,34,4,37],[5,34,5,35],[1,1,1,2],[5,13,5,14],[18,13,18,14],[19,13,19,14],[4,19,4,22],[5,19,5,20]]}
["Report for:!N11491B.AXT"]
["Date:","<date>"]
["Hen:","<hen>",null,null,null,"Correct Sequence",{"$f":"Start!J2","v":222},null,null,null,null,null,null,null,null,"Total Sequences in Data",{"$f":"4994-COUNTBLANK(L7:L5000)","v":48},null,null,null,null,"Total Sequences in Block Data",{"$f":"COUNTA(L7:L14)","v":8},null,null,null,"Total Sequences in Block Data",{"$f":"COUNTA(L15:L22)","v":8},null,null,null,"Total Sequences in Block Data",{"$f":"COUNTA(L23:L30)","v":8},null,null,null,"Total Sequences in Block Data",{"$f":"COUNTA(L31:L38)","v":8},null,null,null,"Total Sequences in Block Data",{"$f":"COUNTA(L39:L46)","v":8},null,null,null,"Total Sequences in Block Data",{"$f":"COUNTA(L47:L54)","v":8}]
[null,null,null,null,null,null,null,null,null,null,null,null,null,null,null,"Total Sequences in Summary",{"$f":"SUM(O7:O14)","v":48},null,null,null,null,"Total Sequences in Block Summary",{"$f":"SUM(U7:U14)","v":8},null,null,null,"Total Sequences in Block Summary",{"$f":"SUM(Z7:Z14)","v":8},null,null,null,"Total Sequences in Block Summary",{"$f":"SUM(AE7:AE14)","v":8},null,null,null,"Total Sequences in Block Summary",{"$f":"SUM(AJ7:AJ14)","v":8},null,null,null,"Total Sequences in Block Summary",{"$f":"SUM(AO7:AO14)","v":8},null,null,null,"Total Sequences in Block Summary",{"$f":"SUM(AT7:AT14)","v":8}]
[null,null,null,null,null,null,null,null,null,null,null,null,null,null,null,null,null,null,null,"Block 1",null,null,null,null,"Block 2",null,null,null,null,"Block 3",null,null,null,null,"Block 4",null,null,null,null,"Block 5",null,null,null,null,"Block 6"]
["Sequence\nComponent\n1","Time\n1","Sequence\nComponent\n2","Time\n2","Sequence\nComponent\n3","Time\n3","Sequence\nComponent\n4","Time\n4","Sequence\nComponent\n5","Time\n5","Correct?\n0=No 1=Yes","Sequence",null,"Frequency",null,"Relative Frequency","Variability",null,null,"Frequency",null,"Relative Frequency","Variability",null,"Frequency",null,"Relative Frequency","Variability",null,"Frequency",null,"Relative Frequency","Variability",null,"Frequency",null,"Relative Frequency","Variability",null,"Frequency",null,"Relative Frequency","Variability",null,"Frequency",null,"Relative Frequency","Variability"]
[21,54,21,58,21,112,null,null,null,null,0,222,null,111,{"$f":"COUNTIF($L$7:$L$500,N7)","v":0},{"$f":"O7/$Q$4","v":0},{"$f":"IF(P7=0,0,(P7*((LOG(P7))/LOG(2))))","v":0},null,null,{"$f":"N7","v":111},{"$f":"COUNTIF(L7:L14,T7)","v":0},{"$f":"U7/(W4-U14)","v":0},{"$f":"IF(V7=0,0,(V7*((LOG(V7))/LOG(2))))","v":0},null,{"$f":"N7","v":111},{"$f":"COUNTIF(L15:L22,Y7)","v":0},{"$f":"Z7/(AB4-Z14)","v":0},{"$f":"IF(AA7=0,0,(AA7*((LOG(AA7))/LOG(2))))","v":0},null,{"$f":"N7","v":111},{"$f":"COUNTIF(L23:L30,AD7)","v":0},{"$f":"AE7/(AG4-AE14)","v":{"$error":"#DIV/0!"}},{"$f":"IF(AF7=0,0,(AF7*((LOG(AF7))/LOG(2))))","v":{"$error":"#DIV/0!"}},null,{"$f":"N7","v":111},{"$f":"COUNTIF(L31:L38,AI7)","v":0},{"$f":"AJ7/(AL4-AJ14)","v":0},{"$f":"IF(AK7=0,0,(AK7*((LOG(AK7))/LOG(2))))","v":0},null,{"$f":"N7","v":111},{"$f":"COUNTIF(L39:L46,AN7)","v":0},{"$f":"AO7/(AQ4-AO14)","v":{"$error":"#DIV/0!"}},{"$f":"IF(AP7=0,0,(AP7*((LOG(AP7))/LOG(2))))","v":{"$error":"#DIV/0!"}},null,{"$f":"N7","v":111},{"$f":"COUNTIF(L47:L54,AS7)","v":0},{"$f":"AT7/(AV4-AT14)","v":0},{"$f":"IF(AU7=0,0,(AU7*((LOG(AU7))/LOG(2))))","v":0}]
[21,246,21,250,21,265,null,null,null,null,0,222,null,112,{"$f":"COUNTIF($L$7:$L$500,N8)","v":0},{"$f":"O8/$Q$4","v":0},{"$f":"IF(P8=0,0,(P8*((LOG(P8))/LOG(2))))","v":0},null,null,{"$f":"N8","v":112},{"$f":"COUNTIF(L7:L14,T8)","v":0},{"$f":"U8/(W4-U14)","v":0},{"$f":"IF(V8=0,0,(V8*((LOG(V8))/LOG(2))))","v":0},null,{"$f":"N8","v":112},{"$f":"COUNTIF(L15:L22,Y8)","v":0},{"$f":"Z8/(AB4-Z14)","v":0},{"$f":"IF(AA8=0,0,(AA8*((LOG(AA8))/LOG(2))))","v":0},null,{"$f":"N8","v":112},{"$f":"COUNTIF(L23:L30,AD8)","v":0},{"$f":"AE8/(AG4-AE14)","v":{"$error":"#DIV/0!"}},{"$f":"IF(AF8=0,0,(AF8*((LOG(AF8))/LOG(2))))","v":{"$error":"#DIV/0!"}},null,{"$f":"N8","v":112},{"$f":"COUNTIF(L31:L38,AI8)","v":0},{"$f":"AJ8/(AL4-AJ14)","v":0},{"$f":"IF(AK8=0,0,(AK8*((LOG(AK8))/LOG(2))))","v":0},null,{"$f":"N8","v":112},{"$f":"COUNTIF(L39:L46,AN8)","v":0},{"$f":"AO8/(AQ4-AO14)","v":{"$error":"#DIV/0!"}},{"$f":"IF(AP8=0,0,(AP8*((LOG(AP8))/LOG(2))))","v":{"$error":"#DIV/0!"}},null,{"$f":"N8","v":112},{"$f":"COUNTIF(L47:L54,AS8)","v":0},{"$f":"AT8/(AV4-AT14)","v":0},{"$f":"IF(AU8=0,0,(AU8*((LOG(AU8))/LOG(2))))","v":0}]
[21,437,21,444,21,450,null,null,null,null,0,222,null,121,{"$f":"COUNTIF($L$7:$L$500,N9)","v":0},{"$f":"O9/$Q$4","v":0},{"$f":"IF(P9=0,0,(P9*((LOG(P9))/LOG(2))))","v":0},null,null,{"$f":"N9","v":121},{"$f":"COUNTIF(L7:L14,T9)","v":0},{"$f":"U9/(W4-U14)","v":0},{"$f":"IF(V9=0,0,(V9*((LOG(V9))/LOG(2))))","v":0},null,{"$f":"N9","v":121},{"$f":"COUNTIF(L15:L22,Y9)","v":0},{"$f":"Z9/(AB4-Z14)","v":0},{"$f":"IF(AA9=0,0,(AA9*((LOG(AA9))/LOG(2))))","v":0},null,{"$f":"N9","v":121},{"$f":"COUNTIF(L23:L30,AD9)","v":0},{"$f":"AE9/(AG4-AE14)","v":{"$error":"#DIV/0!"}},{"$f":"IF(AF9=0,0,(AF9*((LOG(AF9))/LOG(2))))","v":{"$error":"#DIV/0!"}},null,{"$f":"N9","v":121},{"$f":"COUNTIF(L31:L38,AI9)","v":0},{"$f":"AJ9/(AL4-AJ14)","v":0},{"$f":"IF(AK9=0,0,(AK9*((LOG(AK9))/LOG(2))))","v":0},null,{"$f":"N9","v":121},{"$f":"COUNTIF(L39:L46,AN9)","v":0},{"$f":"AO9/(AQ4-AO14)","v":{"$error":"#DIV/0!"}},{"$f":"IF(AP9=0,0,(AP9*((LOG(AP9))/LOG(2))))","v":{"$error":"#DIV/0!"}},null,{"$f":"N9","v":121},{"$f":"COUNTIF(L47:L54,AS9)","v":0},{"$f":"AT9/(AV4-AT14)","v":0},{"$f":"IF(AU9=0,0,(AU9*((LOG(AU9))/LOG(2))))","v":0}]
[21,616,21,626,21,633,null,null,null,null,0,222,null,122,{"$f":"COUNTIF($L$7:$L$500,N10)","v":1},{"$f":"O10/$Q$4","v":2.0833333333333332E-2},{"$f":"IF(P10=0,0,(P10*((LOG(P10))/LOG(2))))","v":-0.11635338543169074},null,null,{"$f":"N10","v":122},{"$f":"COUNTIF(L7:L14,T10)","v":1},{"$f":"U10/(W4-U14)","v":0.33333333333333331},{"$f":"IF(V10=0,0,(V10*((LOG(V10))/LOG(2))))","v":-0.52832083357371862},null,{"$f":"N10","v":122},{"$f":"COUNTIF(L15:L22,Y10)","v":0},{"$f":"Z10/(AB4-Z14)","v":0},{"$f":"IF(AA10=0,0,(AA10*((LOG(AA10))/LOG(2))))","v":0},null,{"$f":"N10","v":122},{"$f":"COUNTIF(L23:L30,AD10)","v":0},{"$f":"AE10/(AG4-AE14)","v":{"$error":"#DIV/0!"}},{"$f":"IF(AF10=0,0,(AF10*((LOG(AF10))/LOG(2))))","v":{"$error":"#DIV/0!"}},null,{"$f":"N10","v":122},{"$f":"COUNTIF(L31:L38,AI10)","v":0},{"$f":"AJ10/(AL4-AJ14)","v":0},{"$f":"IF(AK10=0,0,(AK10*((LOG(AK10))/LOG(2))))","v":0},null,{"$f":"N10","v":122},{"$f":"COUNTIF(L39:L46,AN10)","v":0},{"$f":"AO10/(AQ4-AO14)","v":{"$error":"#DIV/0!"}},{"$f":"IF(AP10=0,0,(AP10*((LOG(AP10))/LOG(2))))","v":{"$error":"#DIV/0!"}},null,{"$f":"N10","v":122},{"$f":"COUNTIF(L47:L54,AS10)","v":0},{"$f":"AT10/(AV4-AT14)","v":0},{"$f":"IF(AU10=0,0,(AU10*((LOG(AU10))/LOG(2))))","v":0}]
[21,794,12,812,23,831,null,null,null,null,0,212,null,211,{"$f":"COUNTIF($L$7:$L$500,N11)","v":0},{"$f":"O11/$Q$4","v":0},{"$f":"IF(P11=0,0,(P11*((LOG(P11))/LOG(2))))","v":0},null,null,{"$f":"N11","v":211},{"$f":"COUNTIF(L7:L14,T11)","v":0},{"$f":"U11/(W4-U14)","v":0},{"$f":"IF(V11=0,0,(V11*((LOG(V11))/LOG(2))))","v":0},null,{"$f":"N11","v":211},{"$f":"COUNTIF(L15:L22,Y11)","v":0},{"$f":"Z11/(AB4-Z14)","v":0},{"$f":"IF(AA11=0,0,(AA11*((LOG(AA11))/LOG(2))))","v":0},null,{"$f":"N11","v":211},{"$f":"COUNTIF(L23:L30,AD11)","v":0},{"$f":"AE11/(AG4-AE14)","v":{"$error":"#DIV/0!"}},{"$f":"IF(AF11=0,0,(AF11*((LOG(AF11))/LOG(2))))","v":{"$error":"#DIV/0!"}},null,{"$f":"N11","v":211},{"$f":"COUNTIF(L31:L38,AI11)","v":0},{"$f":"AJ11/(AL4-AJ14)","v":0},{"$f":"IF(AK11=0,0,(AK11*((LOG(AK11))/LOG(2))))","v":0},null,{"$f":"N11","v":211},{"$f":"COUNTIF(L39:L46,AN11)","v":0},{"$f":"AO11/(AQ4-AO14)","v":{"$error":"#DIV/0!"}},{"$f":"IF(AP11=0,0,(AP11*((LOG(AP11))/LOG(2))))","v":{"$error":"#DIV/0!"}},null,{"$f":"N11","v":211},{"$f":"COUNTIF(L47:L54,AS11)","v":0},{"$f":"AT11/(AV4-AT14)","v":0},{"$f":"IF(AU11=0,0,(AU11*((LOG(AU11))/LOG(2))))","v":0}]
[12,934,23,940,23,951,null,null,null,null,0,122,null,212,{"$f":"COUNTIF($L$7:$L$500,N12)","v":6},{"$f":"O12/$Q$4","v":0.125},{"$f":"IF(P12=0,0,(P12*((LOG(P12))/LOG(2))))","v":-0.375},null,null,{"$f":"N12","v":212},{"$f":"COUNTIF(L7:L14,T12)","v":2},{"$f":"U12/(W4-U14)","v":0.66666666666666663},{"$f":"IF(V12=0,0,(V12*((LOG(V12))/LOG(2))))","v":-0.38997500048077083},null,{"$f":"N12","v":212},{"$f":"COUNTIF(L15:L22,Y12)","v":1},{"$f":"Z12/(AB4-Z14)","v":1},{"$f":"IF(AA12=0,0,(AA12*((LOG(AA12))/LOG(2))))","v":0},null,{"$f":"N12","v":212},{"$f":"COUNTIF(L23:L30,AD12)","v":0},{"$f":"AE12/(AG4-AE14)","v":{"$error":"#DIV/0!"}},{"$f":"IF(AF12=0,0,(AF12*((LOG(AF12))/LOG(2))))","v":{"$error":"#DIV/0!"}},null,{"$f":"N12","v":212},{"$f":"COUNTIF(L31:L38,AI12)","v":1},{"$f":"AJ12/(AL4-AJ14)","v":0.33333333333333331},{"$f":"IF(AK12=0,0,(AK12*((LOG(AK12))/LOG(2))))","v":-0.52832083357371862},null,{"$f":"N12","v":212},{"$f":"COUNTIF(L39:L46,AN12)","v":0},{"$f":"AO12/(AQ4-AO14)","v":{"$error":"#DIV/0!"}},{"$f":"IF(AP12=0,0,(AP12*((LOG(AP12))/LOG(2))))","v":{"$error":"#DIV/0!"}},null,{"$f":"N12","v":212},{"$f":"COUNTIF(L47:L54,AS12)","v":2},{"$f":"AT12/(AV4-AT14)","v":1},{"$f":"IF(AU12=0,0,(AU12*((LOG(AU12))/LOG(2))))","v":0}]
[21,1039,12,1085,23,1097,null,null,null,null,0,212,null,221,{"$f":"COUNTIF($L$7:$L$500,N13)","v":2},{"$f":"O13/$Q$4","v":4.1666666666666664E-2},{"$f":"IF(P13=0,0,(P13*((LOG(P13))/LOG(2))))","v":-0.19104010419671485},null,null,{"$f":"N13","v":221},{"$f":"COUNTIF(L7:L14,T13)","v":0},{"$f":"U13/(W4-U14)","v":0},{"$f":"IF(V13=0,0,(V13*((LOG(V13))/LOG(2))))","v":0},null,{"$f":"N13","v":221},{"$f":"COUNTIF(L15:L22,Y13)","v":0},{"$f":"Z13/(AB4-Z14)","v":0},{"$f":"IF(AA13=0,0,(AA13*((LOG(AA13))/LOG(2))))","v":0},null,{"$f":"N13","v":221},{"$f":"COUNTIF(L23:L30,AD13)","v":0},{"$f":"AE13/(AG4-AE14)","v":{"$error":"#DIV/0!"}},{"$f":"IF(AF13=0,0,(AF13*((LOG(AF13))/LOG(2))))","v":{"$error":"#DIV/0!"}},null,{"$f":"N13","v":221},{"$f":"COUNTIF(L31:L38,AI13)","v":2},{"$f":"AJ13/(AL4-AJ14)","v":0.66666666666666663},{"$f":"IF(AK13=0,0,(AK13*((LOG(AK13))/LOG(2))))","v":-0.38997500048077083},null,{"$f":"N13","v":221},{"$f":"COUNTIF(L39:L46,AN13)","v":0},{"$f":"AO13/(AQ4-AO14)","v":{"$error":"#DIV/0!"}},{"$f":"IF(AP13=0,0,(AP13*((LOG(AP13))/LOG(2))))","v":{"$error":"#DIV/0!"}},null,{"$f":"N13","v":221},{"$f":"COUNTIF(L47:L54,AS13)","v":0},{"$f":"AT13/(AV4-AT14)","v":0},{"$f":"IF(AU13=0,0,(AU13*((LOG(AU13))/LOG(2))))","v":0}]
[21,1202,21,1207,21,1215,null,null,null,null,0,222,null,222,{"$f":"COUNTIF($L$7:$L$500,N14)","v":39},{"$f":"O14/$Q$4","v":0.8125},{"$f":"IF(P14=0,0,(P14*((LOG(P14))/LOG(2))))","v":-0.24339272901036266},null,null,{"$f":"N14","v":222},{"$f":"COUNTIF(L7:L14,T14)","v":5},null,null,null,{"$f":"N14","v":222},{"$f":"COUNTIF(L15:L22,Y14)","v":7},null,null,null,{"$f":"N14","v":222},{"$f":"COUNTIF(L23:L30,AD14)","v":8},null,null,null,{"$f":"N14","v":222},{"$f":"COUNTIF(L31:L38,AI14)","v":5},null,null,null,{"$f":"N14","v":222},{"$f":"COUNTIF(L39:L46,AN14)","v":8},null,null,null,{"$f":"N14","v":222},{"$f":"COUNTIF(L47:L54,AS14)","v":6}]
[21,1413,21,1417,21,1428,null,null,null,null,0,222,null,null,null,{"$f":"SUM(P7:P14)","v":1},{"$f":"-SUM(Q7:Q14)","v":0.92578621863876831},null,null,null,null,{"$f":"SUM(V7:V14)","v":1},{"$f":"-SUM(W7:W14)","v":0.91829583405448945},null,null,null,{"$f":"SUM(AA7:AA14)","v":1},{"$f":"-SUM(AB7:AB14)","v":0},null,null,null,{"$f":"SUM(AF7:AF14)","v":{"$error":"#DIV/0!"}},{"$f":"-SUM(AG7:AG14)","v":{"$error":"#DIV/0!"}},null,null,null,{"$f":"SUM(AK7:AK14)","v":1},{"$f":"-SUM(AL7:AL14)","v":0.91829583405448945},null,null,null,{"$f":"SUM(AP7:AP14)","v":{"$error":"#DIV/0!"}},{"$f":"-SUM(AQ7:AQ14)","v":{"$error":"#DIV/0!"}},null,null,null,{"$f":"SUM(AU7:AU14)","v":1},{"$f":"-SUM(AV7:AV14)","v":0}]
[21,1538,21,1546,21,1593,null,null,null,null,0,222,null,null,null,"U=",{"$f":"Q15/(LOG(Q4)/LOG(2))","v":0.165764088571629},null,null,null,null,"U1=",{"$f":"W15/(LOG(W4)/LOG(2))","v":0.30609861135149646},null,null,null,"U2=",{"$f":"AB15/(LOG(AB4)/LOG(2))","v":0},null,null,null,"U3=",{"$f":"AG15/(LOG(AG4)/LOG(2))","v":{"$error":"#DIV/0!"}},null,null,null,"U4=",{"$f":"AL15/(LOG(AL4)/LOG(2))","v":0.30609861135149646},null,null,null,"U5=",{"$f":"AQ15/(LOG(AQ4)/LOG(2))","v":{"$error":"#DIV/0!"}},null,null,null,"U6=",{"$f":"AV15/(LOG(AV4)/LOG(2))","v":0}]
[21,1781,12,1785,23,1816,null,null,null,null,0,212]
[21,1911,21,1917,21,1920,null,null,null,null,0,222]
[21,2030,21,2085,21,2109,null,null,null,null,0,222,null,"Total Target Seq"]
[21,2355,21,2359,21,2362,null,null,null,null,0,222,null,{"$f":"COUNTIF(L7:L54,G3)","v":39},null,8,8,8,8,8,8]
[21,2461,21,2468,21,2482,null,null,null,null,0,222,null,null,null,"% of reinforcement given in 6 equal intervals based on number of trials "]
[21,2665,21,2673,21,2695,null,null,null,null,0,222,null,null,null,"%_1","%_2","%_3","%_4","%_5","%_6"]
[21,2799,21,2807,21,2848,null,null,null,null,0,222,null,null,"target sequence",{"$f":"$G$3","v":222},{"$f":"$G$3","v":222},{"$f":"$G$3","v":222},{"$f":"$G$3","v":222},{"$f":"$G$3","v":222},{"$f":"$G$3","v":222}]
[21,2960,21,2964,21,2970,null,null,null,null,0,222,null,null,"total reinforcement",{"$f":"U14","v":5},{"$f":"Z14","v":7},{"$f":"AE14","v":8},{"$f":"AJ14","v":5},{"$f":"AO14","v":8},{"$f":"AT14","v":6}]
[21,3061,21,3068,21,3071,null,null,null,null,0,222,null,null,"% target"]
[21,3186,21,3190,21,3193,null,null,null,null,0,222,null,null,"CCRF"]
[21,3280,21,3284,21,3289,null,null,null,null,0,222,null,null,"% CCRf"]
[21,3430,21,3435,21,3440,null,null,null,null,0,222,null,null,"average response rate",{"$f":"F14/P20","v":151.875},{"$f":"(F22-F14)/Q20","v":185},{"$f":"(F30-F22)/R20","v":152.125},{"$f":"(F38-F30)/S20","v":156},{"$f":"(F46-F38)/T20","v":183},{"$f":"(F54-F46)/U20","v":120.5}]
[21,3767,21,3772,21,3776,null,null,null,null,0,222]
[21,3903,21,3909,21,3912,null,null,null,null,0,222]
[21,4010,21,4025,21,4032,null,null,null,null,0,222]
[21,4169,21,4175,21,4178,null,null,null,null,0,222]
[21,4352,21,4365,12,4367,null,null,null,null,0,221]
[21,4504,21,4508,21,4517,null,null,null,null,0,222]
[21,4723,21,4726,21,4734,null,null,null,null,0,222]
[21,4852,21,4857,12,4903,null,null,null,null,0,221]
[21,5002,12,5007,23,5044,null,null,null,null,0,212]
[21,5154,21,5157,21,5160,null,null,null,null,0,222]
[21,5268,21,5284,21,5323,null,null,null,null,0,222]
[21,5492,21,5495,21,5502,null,null,null,null,0,222]
[21,5757,21,5763,21,5818,null,null,null,null,0,222]
[21,5993,21,5998,21,6003,null,null,null,null,0,222]
[21,6172,21,6179,21,6183,null,null,null,null,0,222]
[21,6277,21,6281,21,6287,null,null,null,null,0,222]
[21,6381,21,6388,21,6392,null,null,null,null,0,222]
[21,6597,21,6603,21,6624,null,null,null,null,0,222]
[21,6728,21,6733,21,6736,null,null,null,null,0,222]
[21,6911,21,6916,21,6923,null,null,null,null,0,222]
[21,7023,12,7026,23,7039,null,null,null,null,0,212]
[21,7133,12,7138,23,7154,null,null,null,null,0,212]
[21,7257,21,7272,21,7276,null,null,null,null,0,222]
[21,7363,21,7378,21,7398,null,null,null,null,0,222]
[21,7486,21,7490,21,7494,null,null,null,null,0,222]
[21,7582,21,7585,21,7588,null,null,null,null,1,222]

{"sheet":"!N11595B.AXT","index":26,"n_rows":53,"n_cols":48,"rows_kept":53,"cut":false,"hidden":false,"merged":[[4,39,4,42],[5,39,5,40],[4,44,4,47],[5,44,5,45],[4,24,4,27],[5,24,5,25],[4,29,4,32],[5,29,5,30],[4,34,4,37],[5,34,5,35],[1,1,1,2],[5,13,5,14],[18,13,18,14],[19,13,19,14],[4,19,4,22],[5,19,5,20]]}
["Report for:!N11595B.AXT"]
["Date:","<date>"]
["Hen:","<hen>",null,null,null,"Correct Sequence",{"$f":"Start!J2","v":222},null,null,null,null,null,null,null,null,"Total Sequences in Data",{"$f":"4994-COUNTBLANK(L7:L5000)","v":47},null,null,null,null,"Total Sequences in Block Data",{"$f":"COUNTA(L7:L14)","v":8},null,null,null,"Total Sequences in Block Data",{"$f":"COUNTA(L15:L22)","v":8},null,null,null,"Total Sequences in Block Data",{"$f":"COUNTA(L23:L29)","v":7},null,null,null,"Total Sequences in Block Data",{"$f":"COUNTA(L30:L37)","v":8},null,null,null,"Total Sequences in Block Data",{"$f":"COUNTA(L38:L45)","v":8},null,null,null,"Total Sequences in Block Data",{"$f":"COUNTA(L46:L53)","v":8}]
[null,null,null,null,null,null,null,null,null,null,null,null,null,null,null,"Total Sequences in Summary",{"$f":"SUM(O7:O14)","v":47},null,null,null,null,"Total Sequences in Block Summary",{"$f":"SUM(U7:U14)","v":8},null,null,null,"Total Sequences in Block Summary",{"$f":"SUM(Z7:Z14)","v":8},null,null,null,"Total Sequences in Block Summary",{"$f":"SUM(AE7:AE14)","v":7},null,null,null,"Total Sequences in Block Summary",{"$f":"SUM(AJ7:AJ14)","v":8},null,null,null,"Total Sequences in Block Summary",{"$f":"SUM(AO7:AO14)","v":8},null,null,null,"Total Sequences in Block Summary",{"$f":"SUM(AT7:AT14)","v":8}]
[null,null,null,null,null,null,null,null,null,null,null,null,null,null,null,null,null,null,null,"Block 1",null,null,null,null,"Block 2",null,null,null,null,"Block 3",null,null,null,null,"Block 4",null,null,null,null,"Block 5",null,null,null,null,"Block 6"]
["Sequence\nComponent\n1","Time\n1","Sequence\nComponent\n2","Time\n2","Sequence\nComponent\n3","Time\n3","Sequence\nComponent\n4","Time\n4","Sequence\nComponent\n5","Time\n5","Correct?\n0=No 1=Yes","Sequence",null,"Frequency",null,"Relative Frequency","Variability",null,null,"Frequency",null,"Relative Frequency","Variability",null,"Frequency",null,"Relative Frequency","Variability",null,"Frequency",null,"Relative Frequency","Variability",null,"Frequency",null,"Relative Frequency","Variability",null,"Frequency",null,"Relative Frequency","Variability",null,"Frequency",null,"Relative Frequency","Variability"]
[12,17,23,27,14,58,null,null,null,null,0,121,null,111,{"$f":"COUNTIF($L$7:$L$500,N7)","v":1},{"$f":"O7/$Q$4","v":2.1276595744680851E-2},{"$f":"IF(P7=0,0,(P7*((LOG(P7))/LOG(2))))","v":-0.11818274152505612},null,null,{"$f":"N7","v":111},{"$f":"COUNTIF(L7:L14,T7)","v":1},{"$f":"U7/(W4-U14)","v":0.16666666666666666},{"$f":"IF(V7=0,0,(V7*((LOG(V7))/LOG(2))))","v":-0.43082708345352599},null,{"$f":"N7","v":111},{"$f":"COUNTIF(L15:L22,Y7)","v":0},{"$f":"Z7/(AB4-Z14)","v":{"$error":"#DIV/0!"}},{"$f":"IF(AA7=0,0,(AA7*((LOG(AA7))/LOG(2))))","v":{"$error":"#DIV/0!"}},null,{"$f":"N7","v":111},{"$f":"COUNTIF(L23:L29,AD7)","v":0},{"$f":"AE7/(AG4-AE14)","v":0},{"$f":"IF(AF7=0,0,(AF7*((LOG(AF7))/LOG(2))))","v":0},null,{"$f":"N7","v":111},{"$f":"COUNTIF(L30:L37,AI7)","v":0},{"$f":"AJ7/(AL4-AJ14)","v":{"$error":"#DIV/0!"}},{"$f":"IF(AK7=0,0,(AK7*((LOG(AK7))/LOG(2))))","v":{"$error":"#DIV/0!"}},null,{"$f":"N7","v":111},{"$f":"COUNTIF(L38:L45,AN7)","v":0},{"$f":"AO7/(AQ4-AO14)","v":0},{"$f":"IF(AP7=0,0,(AP7*((LOG(AP7))/LOG(2))))","v":0},null,{"$f":"N7","v":111},{"$f":"COUNTIF(L46:L53,AS7)","v":0},{"$f":"AT7/(AV4-AT14)","v":{"$error":"#DIV/0!"}},{"$f":"IF(AU7=0,0,(AU7*((LOG(AU7))/LOG(2))))","v":{"$error":"#DIV/0!"}}]
[21,182,12,204,23,218,null,null,null,null,0,212,null,112,{"$f":"COUNTIF($L$7:$L$500,N8)","v":2},{"$f":"O8/$Q$4","v":4.2553191489361701E-2},{"$f":"IF(P8=0,0,(P8*((LOG(P8))/LOG(2))))","v":-0.19381229156075053},null,null,{"$f":"N8","v":112},{"$f":"COUNTIF(L7:L14,T8)","v":1},{"$f":"U8/(W4-U14)","v":0.16666666666666666},{"$f":"IF(V8=0,0,(V8*((LOG(V8))/LOG(2))))","v":-0.43082708345352599},null,{"$f":"N8","v":112},{"$f":"COUNTIF(L15:L22,Y8)","v":0},{"$f":"Z8/(AB4-Z14)","v":{"$error":"#DIV/0!"}},{"$f":"IF(AA8=0,0,(AA8*((LOG(AA8))/LOG(2))))","v":{"$error":"#DIV/0!"}},null,{"$f":"N8","v":112},{"$f":"COUNTIF(L23:L29,AD8)","v":1},{"$f":"AE8/(AG4-AE14)","v":1},{"$f":"IF(AF8=0,0,(AF8*((LOG(AF8))/LOG(2))))","v":0},null,{"$f":"N8","v":112},{"$f":"COUNTIF(L30:L37,AI8)","v":0},{"$f":"AJ8/(AL4-AJ14)","v":{"$error":"#DIV/0!"}},{"$f":"IF(AK8=0,0,(AK8*((LOG(AK8))/LOG(2))))","v":{"$error":"#DIV/0!"}},null,{"$f":"N8","v":112},{"$f":"COUNTIF(L38:L45,AN8)","v":0},{"$f":"AO8/(AQ4-AO14)","v":0},{"$f":"IF(AP8=0,0,(AP8*((LOG(AP8))/LOG(2))))","v":0},null,{"$f":"N8","v":112},{"$f":"COUNTIF(L46:L53,AS8)","v":0},{"$f":"AT8/(AV4-AT14)","v":{"$error":"#DIV/0!"}},{"$f":"IF(AU8=0,0,(AU8*((LOG(AU8))/LOG(2))))","v":{"$error":"#DIV/0!"}}]
[21,311,12,317,23,333,null,null,null,null,0,212,null,121,{"$f":"COUNTIF($L$7:$L$500,N9)","v":1},{"$f":"O9/$Q$4","v":2.1276595744680851E-2},{"$f":"IF(P9=0,0,(P9*((LOG(P9))/LOG(2))))","v":-0.11818274152505612},null,null,{"$f":"N9","v":121},{"$f":"COUNTIF(L7:L14,T9)","v":1},{"$f":"U9/(W4-U14)","v":0.16666666666666666},{"$f":"IF(V9=0,0,(V9*((LOG(V9))/LOG(2))))","v":-0.43082708345352599},null,{"$f":"N9","v":121},{"$f":"COUNTIF(L15:L22,Y9)","v":0},{"$f":"Z9/(AB4-Z14)","v":{"$error":"#DIV/0!"}},{"$f":"IF(AA9=0,0,(AA9*((LOG(AA9))/LOG(2))))","v":{"$error":"#DIV/0!"}},null,{"$f":"N9","v":121},{"$f":"COUNTIF(L23:L29,AD9)","v":0},{"$f":"AE9/(AG4-AE14)","v":0},{"$f":"IF(AF9=0,0,(AF9*((LOG(AF9))/LOG(2))))","v":0},null,{"$f":"N9","v":121},{"$f":"COUNTIF(L30:L37,AI9)","v":0},{"$f":"AJ9/(AL4-AJ14)","v":{"$error":"#DIV/0!"}},{"$f":"IF(AK9=0,0,(AK9*((LOG(AK9))/LOG(2))))","v":{"$error":"#DIV/0!"}},null,{"$f":"N9","v":121},{"$f":"COUNTIF(L38:L45,AN9)","v":0},{"$f":"AO9/(AQ4-AO14)","v":0},{"$f":"IF(AP9=0,0,(AP9*((LOG(AP9))/LOG(2))))","v":0},null,{"$f":"N9","v":121},{"$f":"COUNTIF(L46:L53,AS9)","v":0},{"$f":"AT9/(AV4-AT14)","v":{"$error":"#DIV/0!"}},{"$f":"IF(AU9=0,0,(AU9*((LOG(AU9))/LOG(2))))","v":{"$error":"#DIV/0!"}}]
[12,429,14,455,14,457,null,null,null,null,0,111,null,122,{"$f":"COUNTIF($L$7:$L$500,N10)","v":0},{"$f":"O10/$Q$4","v":0},{"$f":"IF(P10=0,0,(P10*((LOG(P10))/LOG(2))))","v":0},null,null,{"$f":"N10","v":122},{"$f":"COUNTIF(L7:L14,T10)","v":0},{"$f":"U10/(W4-U14)","v":0},{"$f":"IF(V10=0,0,(V10*((LOG(V10))/LOG(2))))","v":0},null,{"$f":"N10","v":122},{"$f":"COUNTIF(L15:L22,Y10)","v":0},{"$f":"Z10/(AB4-Z14)","v":{"$error":"#DIV/0!"}},{"$f":"IF(AA10=0,0,(AA10*((LOG(AA10))/LOG(2))))","v":{"$error":"#DIV/0!"}},null,{"$f":"N10","v":122},{"$f":"COUNTIF(L23:L29,AD10)","v":0},{"$f":"AE10/(AG4-AE14)","v":0},{"$f":"IF(AF10=0,0,(AF10*((LOG(AF10))/LOG(2))))","v":0},null,{"$f":"N10","v":122},{"$f":"COUNTIF(L30:L37,AI10)","v":0},{"$f":"AJ10/(AL4-AJ14)","v":{"$error":"#DIV/0!"}},{"$f":"IF(AK10=0,0,(AK10*((LOG(AK10))/LOG(2))))","v":{"$error":"#DIV/0!"}},null,{"$f":"N10","v":122},{"$f":"COUNTIF(L38:L45,AN10)","v":0},{"$f":"AO10/(AQ4-AO14)","v":0},{"$f":"IF(AP10=0,0,(AP10*((LOG(AP10))/LOG(2))))","v":0},null,{"$f":"N10","v":122},{"$f":"COUNTIF(L46:L53,AS10)","v":0},{"$f":"AT10/(AV4-AT14)","v":{"$error":"#DIV/0!"}},{"$f":"IF(AU10=0,0,(AU10*((LOG(AU10))/LOG(2))))","v":{"$error":"#DIV/0!"}}]
[21,552,12,565,14,569,null,null,null,null,0,211,null,211,{"$f":"COUNTIF($L$7:$L$500,N11)","v":1},{"$f":"O11/$Q$4","v":2.1276595744680851E-2},{"$f":"IF(P11=0,0,(P11*((LOG(P11))/LOG(2))))","v":-0.11818274152505612},null,null,{"$f":"N11","v":211},{"$f":"COUNTIF(L7:L14,T11)","v":1},{"$f":"U11/(W4-U14)","v":0.16666666666666666},{"$f":"IF(V11=0,0,(V11*((LOG(V11))/LOG(2))))","v":-0.43082708345352599},null,{"$f":"N11","v":211},{"$f":"COUNTIF(L15:L22,Y11)","v":0},{"$f":"Z11/(AB4-Z14)","v":{"$error":"#DIV/0!"}},{"$f":"IF(AA11=0,0,(AA11*((LOG(AA11))/LOG(2))))","v":{"$error":"#DIV/0!"}},null,{"$f":"N11","v":211},{"$f":"COUNTIF(L23:L29,AD11)","v":0},{"$f":"AE11/(AG4-AE14)","v":0},{"$f":"IF(AF11=0,0,(AF11*((LOG(AF11))/LOG(2))))","v":0},null,{"$f":"N11","v":211},{"$f":"COUNTIF(L30:L37,AI11)","v":0},{"$f":"AJ11/(AL4-AJ14)","v":{"$error":"#DIV/0!"}},{"$f":"IF(AK11=0,0,(AK11*((LOG(AK11))/LOG(2))))","v":{"$error":"#DIV/0!"}},null,{"$f":"N11","v":211},{"$f":"COUNTIF(L38:L45,AN11)","v":0},{"$f":"AO11/(AQ4-AO14)","v":0},{"$f":"IF(AP11=0,0,(AP11*((LOG(AP11))/LOG(2))))","v":0},null,{"$f":"N11","v":211},{"$f":"COUNTIF(L46:L53,AS11)","v":0},{"$f":"AT11/(AV4-AT14)","v":{"$error":"#DIV/0!"}},{"$f":"IF(AU11=0,0,(AU11*((LOG(AU11))/LOG(2))))","v":{"$error":"#DIV/0!"}}]
[12,681,14,687,23,717,null,null,null,null,0,112,null,212,{"$f":"COUNTIF($L$7:$L$500,N12)","v":3},{"$f":"O12/$Q$4","v":6.3829787234042548E-2},{"$f":"IF(P12=0,0,(P12*((LOG(P12))/LOG(2))))","v":-0.2533804053802009},null,null,{"$f":"N12","v":212},{"$f":"COUNTIF(L7:L14,T12)","v":2},{"$f":"U12/(W4-U14)","v":0.33333333333333331},{"$f":"IF(V12=0,0,(V12*((LOG(V12))/LOG(2))))","v":-0.52832083357371862},null,{"$f":"N12","v":212},{"$f":"COUNTIF(L15:L22,Y12)","v":0},{"$f":"Z12/(AB4-Z14)","v":{"$error":"#DIV/0!"}},{"$f":"IF(AA12=0,0,(AA12*((LOG(AA12))/LOG(2))))","v":{"$error":"#DIV/0!"}},null,{"$f":"N12","v":212},{"$f":"COUNTIF(L23:L29,AD12)","v":0},{"$f":"AE12/(AG4-AE14)","v":0},{"$f":"IF(AF12=0,0,(AF12*((LOG(AF12))/LOG(2))))","v":0},null,{"$f":"N12","v":212},{"$f":"COUNTIF(L30:L37,AI12)","v":0},{"$f":"AJ12/(AL4-AJ14)","v":{"$error":"#DIV/0!"}},{"$f":"IF(AK12=0,0,(AK12*((LOG(AK12))/LOG(2))))","v":{"$error":"#DIV/0!"}},null,{"$f":"N12","v":212},{"$f":"COUNTIF(L38:L45,AN12)","v":1},{"$f":"AO12/(AQ4-AO14)","v":1},{"$f":"IF(AP12=0,0,(AP12*((LOG(AP12))/LOG(2))))","v":0},null,{"$f":"N12","v":212},{"$f":"COUNTIF(L46:L53,AS12)","v":0},{"$f":"AT12/(AV4-AT14)","v":{"$error":"#DIV/0!"}},{"$f":"IF(AU12=0,0,(AU12*((LOG(AU12))/LOG(2))))","v":{"$error":"#DIV/0!"}}]
[21,824,21,829,21,836,null,null,null,null,0,222,null,221,{"$f":"COUNTIF($L$7:$L$500,N13)","v":0},{"$f":"O13/$Q$4","v":0},{"$f":"IF(P13=0,0,(P13*((LOG(P13))/LOG(2))))","v":0},null,null,{"$f":"N13","v":221},{"$f":"COUNTIF(L7:L14,T13)","v":0},{"$f":"U13/(W4-U14)","v":0},{"$f":"IF(V13=0,0,(V13*((LOG(V13))/LOG(2))))","v":0},null,{"$f":"N13","v":221},{"$f":"COUNTIF(L15:L22,Y13)","v":0},{"$f":"Z13/(AB4-Z14)","v":{"$error":"#DIV/0!"}},{"$f":"IF(AA13=0,0,(AA13*((LOG(AA13))/LOG(2))))","v":{"$error":"#DIV/0!"}},null,{"$f":"N13","v":221},{"$f":"COUNTIF(L23:L29,AD13)","v":0},{"$f":"AE13/(AG4-AE14)","v":0},{"$f":"IF(AF13=0,0,(AF13*((LOG(AF13))/LOG(2))))","v":0},null,{"$f":"N13","v":221},{"$f":"COUNTIF(L30:L37,AI13)","v":0},{"$f":"AJ13/(AL4-AJ14)","v":{"$error":"#DIV/0!"}},{"$f":"IF(AK13=0,0,(AK13*((LOG(AK13))/LOG(2))))","v":{"$error":"#DIV/0!"}},null,{"$f":"N13","v":221},{"$f":"COUNTIF(L38:L45,AN13)","v":0},{"$f":"AO13/(AQ4-AO14)","v":0},{"$f":"IF(AP13=0,0,(AP13*((LOG(AP13))/LOG(2))))","v":0},null,{"$f":"N13","v":221},{"$f":"COUNTIF(L46:L53,AS13)","v":0},{"$f":"AT13/(AV4-AT14)","v":{"$error":"#DIV/0!"}},{"$f":"IF(AU13=0,0,(AU13*((LOG(AU13))/LOG(2))))","v":{"$error":"#DIV/0!"}}]
[21,1102,21,1106,21,1110,null,null,null,null,0,222,null,222,{"$f":"COUNTIF($L$7:$L$500,N14)","v":39},{"$f":"O14/$Q$4","v":0.82978723404255317},{"$f":"IF(P14=0,0,(P14*((LOG(P14))/LOG(2))))","v":-0.22336763148511007},null,null,{"$f":"N14","v":222},{"$f":"COUNTIF(L7:L14,T14)","v":2},null,null,null,{"$f":"N14","v":222},{"$f":"COUNTIF(L15:L22,Y14)","v":8},null,null,null,{"$f":"N14","v":222},{"$f":"COUNTIF(L23:L29,AD14)","v":6},null,null,null,{"$f":"N14","v":222},{"$f":"COUNTIF(L30:L37,AI14)","v":8},null,null,null,{"$f":"N14","v":222},{"$f":"COUNTIF(L38:L45,AN14)","v":7},null,null,null,{"$f":"N14","v":222},{"$f":"COUNTIF(L46:L53,AS14)","v":8}]
[21,1310,21,1320,21,1333,null,null,null,null,0,222,null,null,null,{"$f":"SUM(P7:P14)","v":1},{"$f":"-SUM(Q7:Q14)","v":1.02510855300123},null,null,null,null,{"$f":"SUM(V7:V14)","v":1},{"$f":"-SUM(W7:W14)","v":2.2516291673878226},null,null,null,{"$f":"SUM(AA7:AA14)","v":{"$error":"#DIV/0!"}},{"$f":"-SUM(AB7:AB14)","v":{"$error":"#DIV/0!"}},null,null,null,{"$f":"SUM(AF7:AF14)","v":1},{"$f":"-SUM(AG7:AG14)","v":0},null,null,null,{"$f":"SUM(AK7:AK14)","v":{"$error":"#DIV/0!"}},{"$f":"-SUM(AL7:AL14)","v":{"$error":"#DIV/0!"}},null,null,null,{"$f":"SUM(AP7:AP14)","v":1},{"$f":"-SUM(AQ7:AQ14)","v":0},null,null,null,{"$f":"SUM(AU7:AU14)","v":{"$error":"#DIV/0!"}},{"$f":"-SUM(AV7:AV14)","v":{"$error":"#DIV/0!"}}]
[21,1429,21,1434,21,1488,null,null,null,null,0,222,null,null,null,"U=",{"$f":"Q15/(LOG(Q4)/LOG(2))","v":0.18455165276393395},null,null,null,null,"U1=",{"$f":"W15/(LOG(W4)/LOG(2))","v":0.75054305579594083},null,null,null,"U2=",{"$f":"AB15/(LOG(AB4)/LOG(2))","v":{"$error":"#DIV/0!"}},null,null,null,"U3=",{"$f":"AG15/(LOG(AG4)/LOG(2))","v":0},null,null,null,"U4=",{"$f":"AL15/(LOG(AL4)/LOG(2))","v":{"$error":"#DIV/0!"}},null,null,null,"U5=",{"$f":"AQ15/(LOG(AQ4)/LOG(2))","v":0},null,null,null,"U6=",{"$f":"AV15/(LOG(AV4)/LOG(2))","v":{"$error":"#DIV/0!"}}]
[21,1611,21,1616,21,1622,null,null,null,null,0,222]
[21,1854,21,1859,21,1871,null,null,null,null,0,222]
[21,2058,21,2063,21,2072,null,null,null,null,0,222,null,"Total Target Seq"]
[21,2280,21,2286,21,2291,null,null,null,null,0,222,null,{"$f":"COUNTIF(L7:L53,G3)","v":39},null,8,8,7,8,8,8]
[21,2418,21,2424,21,2433,null,null,null,null,0,222,null,null,null,"% of reinforcement given in 6 equal intervals based on number of trials "]
[21,2612,21,2615,21,2622,null,null,null,null,0,222,null,null,null,"%_1","%_2","%_3","%_4","%_5","%_6"]
[21,2948,21,2953,21,2956,null,null,null,null,0,222,null,null,"target sequence",{"$f":"$G$3","v":222},{"$f":"$G$3","v":222},{"$f":"$G$3","v":222},{"$f":"$G$3","v":222},{"$f":"$G$3","v":222},{"$f":"$G$3","v":222}]
[12,3043,14,3055,23,3060,null,null,null,null,0,112,null,null,"total reinforcement",{"$f":"U14","v":2},{"$f":"Z14","v":8},{"$f":"AE14","v":6},{"$f":"AJ14","v":8},{"$f":"AO14","v":7},{"$f":"AT14","v":8}]
[21,3160,21,3177,21,3180,null,null,null,null,0,222,null,null,"% target"]
[21,3287,21,3293,21,3302,null,null,null,null,0,222,null,null,"CCRF"]
[21,3427,21,3444,21,3511,null,null,null,null,0,222,null,null,"% CCRf"]
[21,3620,21,3624,21,3627,null,null,null,null,0,222,null,null,"average response rate",{"$f":"F14/P20","v":138.75},{"$f":"(F22-F14)/Q20","v":189},{"$f":"(F29-F22)/R20","v":157.71428571428572},{"$f":"(F37-F29)/S20","v":203.375},{"$f":"(F45-F37)/T20","v":170.5},{"$f":"(F53-F45)/U20","v":155.5}]
[21,3718,21,3722,21,3726,null,null,null,null,0,222]
[21,3887,21,3890,21,3894,null,null,null,null,0,222]
[21,3994,21,4001,21,4026,null,null,null,null,0,222]
[21,4211,21,4215,21,4223,null,null,null,null,0,222]
[21,4549,21,4559,21,4565,null,null,null,null,0,222]
[21,4685,21,4694,21,4701,null,null,null,null,0,222]
[21,4853,21,4860,21,4869,null,null,null,null,0,222]
[21,5204,21,5244,21,5254,null,null,null,null,0,222]
[21,5343,21,5346,21,5353,null,null,null,null,0,222]
[21,5484,21,5489,21,5495,null,null,null,null,0,222]
[21,5681,21,5685,21,5732,null,null,null,null,0,222]
[21,5846,12,5851,23,5890,null,null,null,null,0,212]
[21,5990,21,6007,21,6012,null,null,null,null,0,222]
[21,6143,21,6149,21,6192,null,null,null,null,0,222]
[21,6284,21,6290,21,6309,null,null,null,null,0,222]
[21,6515,21,6520,21,6525,null,null,null,null,0,222]
[21,6676,21,6683,21,6717,null,null,null,null,0,222]
[21,6853,21,6863,21,6892,null,null,null,null,0,222]
[21,6983,21,6987,21,6991,null,null,null,null,0,222]
[21,7105,21,7110,21,7112,null,null,null,null,0,222]
[21,7255,21,7259,21,7266,null,null,null,null,0,222]
[21,7480,21,7487,21,7491,null,null,null,null,0,222]
[21,7626,21,7630,21,7637,null,null,null,null,0,222]
[21,7855,21,7857,21,7861,null,null,null,null,0,222]
[21,7953,21,7956,21,7961,null,null,null,null,1,222]

{"sheet":"!N11693B.AXT","index":27,"n_rows":54,"n_cols":48,"rows_kept":54,"cut":false,"hidden":false,"merged":[[4,39,4,42],[5,39,5,40],[4,44,4,47],[5,44,5,45],[4,24,4,27],[5,24,5,25],[4,29,4,32],[5,29,5,30],[4,34,4,37],[5,34,5,35],[1,1,1,2],[5,13,5,14],[18,13,18,14],[19,13,19,14],[4,19,4,22],[5,19,5,20]]}
["Report for:!N11693B.AXT"]
["Date:","<date>"]
["Hen:","<hen>",null,null,null,"Correct Sequence",{"$f":"Start!J2","v":222},null,null,null,null,null,null,null,null,"Total Sequences in Data",{"$f":"4994-COUNTBLANK(L7:L5000)","v":48},null,null,null,null,"Total Sequences in Block Data",{"$f":"COUNTA(L7:L14)","v":8},null,null,null,"Total Sequences in Block Data",{"$f":"COUNTA(L15:L22)","v":8},null,null,null,"Total Sequences in Block Data",{"$f":"COUNTA(L23:L30)","v":8},null,null,null,"Total Sequences in Block Data",{"$f":"COUNTA(L31:L38)","v":8},null,null,null,"Total Sequences in Block Data",{"$f":"COUNTA(L39:L46)","v":8},null,null,null,"Total Sequences in Block Data",{"$f":"COUNTA(L47:L54)","v":8}]
[null,null,null,null,null,null,null,null,null,null,null,null,null,null,null,"Total Sequences in Summary",{"$f":"SUM(O7:O14)","v":48},null,null,null,null,"Total Sequences in Block Summary",{"$f":"SUM(U7:U14)","v":8},null,null,null,"Total Sequences in Block Summary",{"$f":"SUM(Z7:Z14)","v":8},null,null,null,"Total Sequences in Block Summary",{"$f":"SUM(AE7:AE14)","v":8},null,null,null,"Total Sequences in Block Summary",{"$f":"SUM(AJ7:AJ14)","v":8},null,null,null,"Total Sequences in Block Summary",{"$f":"SUM(AO7:AO14)","v":8},null,null,null,"Total Sequences in Block Summary",{"$f":"SUM(AT7:AT14)","v":8}]
[null,null,null,null,null,null,null,null,null,null,null,null,null,null,null,null,null,null,null,"Block 1",null,null,null,null,"Block 2",null,null,null,null,"Block 3",null,null,null,null,"Block 4",null,null,null,null,"Block 5",null,null,null,null,"Block 6"]
["Sequence\nComponent\n1","Time\n1","Sequence\nComponent\n2","Time\n2","Sequence\nComponent\n3","Time\n3","Sequence\nComponent\n4","Time\n4","Sequence\nComponent\n5","Time\n5","Correct?\n0=No 1=Yes","Sequence",null,"Frequency",null,"Relative Frequency","Variability",null,null,"Frequency",null,"Relative Frequency","Variability",null,"Frequency",null,"Relative Frequency","Variability",null,"Frequency",null,"Relative Frequency","Variability",null,"Frequency",null,"Relative Frequency","Variability",null,"Frequency",null,"Relative Frequency","Variability",null,"Frequency",null,"Relative Frequency","Variability"]
[21,210,12,224,23,232,null,null,null,null,0,212,null,111,{"$f":"COUNTIF($L$7:$L$500,N7)","v":0},{"$f":"O7/$Q$4","v":0},{"$f":"IF(P7=0,0,(P7*((LOG(P7))/LOG(2))))","v":0},null,null,{"$f":"N7","v":111},{"$f":"COUNTIF(L7:L14,T7)","v":0},{"$f":"U7/(W4-U14)","v":0},{"$f":"IF(V7=0,0,(V7*((LOG(V7))/LOG(2))))","v":0},null,{"$f":"N7","v":111},{"$f":"COUNTIF(L15:L22,Y7)","v":0},{"$f":"Z7/(AB4-Z14)","v":{"$error":"#DIV/0!"}},{"$f":"IF(AA7=0,0,(AA7*((LOG(AA7))/LOG(2))))","v":{"$error":"#DIV/0!"}},null,{"$f":"N7","v":111},{"$f":"COUNTIF(L23:L30,AD7)","v":0},{"$f":"AE7/(AG4-AE14)","v":{"$error":"#DIV/0!"}},{"$f":"IF(AF7=0,0,(AF7*((LOG(AF7))/LOG(2))))","v":{"$error":"#DIV/0!"}},null,{"$f":"N7","v":111},{"$f":"COUNTIF(L31:L38,AI7)","v":0},{"$f":"AJ7/(AL4-AJ14)","v":{"$error":"#DIV/0!"}},{"$f":"IF(AK7=0,0,(AK7*((LOG(AK7))/LOG(2))))","v":{"$error":"#DIV/0!"}},null,{"$f":"N7","v":111},{"$f":"COUNTIF(L39:L46,AN7)","v":0},{"$f":"AO7/(AQ4-AO14)","v":0},{"$f":"IF(AP7=0,0,(AP7*((LOG(AP7))/LOG(2))))","v":0},null,{"$f":"N7","v":111},{"$f":"COUNTIF(L47:L54,AS7)","v":0},{"$f":"AT7/(AV4-AT14)","v":0},{"$f":"IF(AU7=0,0,(AU7*((LOG(AU7))/LOG(2))))","v":0}]
[21,327,21,336,12,347,null,null,null,null,0,221,null,112,{"$f":"COUNTIF($L$7:$L$500,N8)","v":0},{"$f":"O8/$Q$4","v":0},{"$f":"IF(P8=0,0,(P8*((LOG(P8))/LOG(2))))","v":0},null,null,{"$f":"N8","v":112},{"$f":"COUNTIF(L7:L14,T8)","v":0},{"$f":"U8/(W4-U14)","v":0},{"$f":"IF(V8=0,0,(V8*((LOG(V8))/LOG(2))))","v":0},null,{"$f":"N8","v":112},{"$f":"COUNTIF(L15:L22,Y8)","v":0},{"$f":"Z8/(AB4-Z14)","v":{"$error":"#DIV/0!"}},{"$f":"IF(AA8=0,0,(AA8*((LOG(AA8))/LOG(2))))","v":{"$error":"#DIV/0!"}},null,{"$f":"N8","v":112},{"$f":"COUNTIF(L23:L30,AD8)","v":0},{"$f":"AE8/(AG4-AE14)","v":{"$error":"#DIV/0!"}},{"$f":"IF(AF8=0,0,(AF8*((LOG(AF8))/LOG(2))))","v":{"$error":"#DIV/0!"}},null,{"$f":"N8","v":112},{"$f":"COUNTIF(L31:L38,AI8)","v":0},{"$f":"AJ8/(AL4-AJ14)","v":{"$error":"#DIV/0!"}},{"$f":"IF(AK8=0,0,(AK8*((LOG(AK8))/LOG(2))))","v":{"$error":"#DIV/0!"}},null,{"$f":"N8","v":112},{"$f":"COUNTIF(L39:L46,AN8)","v":0},{"$f":"AO8/(AQ4-AO14)","v":0},{"$f":"IF(AP8=0,0,(AP8*((LOG(AP8))/LOG(2))))","v":0},null,{"$f":"N8","v":112},{"$f":"COUNTIF(L47:L54,AS8)","v":0},{"$f":"AT8/(AV4-AT14)","v":0},{"$f":"IF(AU8=0,0,(AU8*((LOG(AU8))/LOG(2))))","v":0}]
[21,446,12,449,23,456,null,null,null,null,0,212,null,121,{"$f":"COUNTIF($L$7:$L$500,N9)","v":1},{"$f":"O9/$Q$4","v":2.0833333333333332E-2},{"$f":"IF(P9=0,0,(P9*((LOG(P9))/LOG(2))))","v":-0.11635338543169074},null,null,{"$f":"N9","v":121},{"$f":"COUNTIF(L7:L14,T9)","v":1},{"$f":"U9/(W4-U14)","v":0.16666666666666666},{"$f":"IF(V9=0,0,(V9*((LOG(V9))/LOG(2))))","v":-0.43082708345352599},null,{"$f":"N9","v":121},{"$f":"COUNTIF(L15:L22,Y9)","v":0},{"$f":"Z9/(AB4-Z14)","v":{"$error":"#DIV/0!"}},{"$f":"IF(AA9=0,0,(AA9*((LOG(AA9))/LOG(2))))","v":{"$error":"#DIV/0!"}},null,{"$f":"N9","v":121},{"$f":"COUNTIF(L23:L30,AD9)","v":0},{"$f":"AE9/(AG4-AE14)","v":{"$error":"#DIV/0!"}},{"$f":"IF(AF9=0,0,(AF9*((LOG(AF9))/LOG(2))))","v":{"$error":"#DIV/0!"}},null,{"$f":"N9","v":121},{"$f":"COUNTIF(L31:L38,AI9)","v":0},{"$f":"AJ9/(AL4-AJ14)","v":{"$error":"#DIV/0!"}},{"$f":"IF(AK9=0,0,(AK9*((LOG(AK9))/LOG(2))))","v":{"$error":"#DIV/0!"}},null,{"$f":"N9","v":121},{"$f":"COUNTIF(L39:L46,AN9)","v":0},{"$f":"AO9/(AQ4-AO14)","v":0},{"$f":"IF(AP9=0,0,(AP9*((LOG(AP9))/LOG(2))))","v":0},null,{"$f":"N9","v":121},{"$f":"COUNTIF(L47:L54,AS9)","v":0},{"$f":"AT9/(AV4-AT14)","v":0},{"$f":"IF(AU9=0,0,(AU9*((LOG(AU9))/LOG(2))))","v":0}]
[12,561,23,572,23,576,null,null,null,null,0,122,null,122,{"$f":"COUNTIF($L$7:$L$500,N10)","v":1},{"$f":"O10/$Q$4","v":2.0833333333333332E-2},{"$f":"IF(P10=0,0,(P10*((LOG(P10))/LOG(2))))","v":-0.11635338543169074},null,null,{"$f":"N10","v":122},{"$f":"COUNTIF(L7:L14,T10)","v":1},{"$f":"U10/(W4-U14)","v":0.16666666666666666},{"$f":"IF(V10=0,0,(V10*((LOG(V10))/LOG(2))))","v":-0.43082708345352599},null,{"$f":"N10","v":122},{"$f":"COUNTIF(L15:L22,Y10)","v":0},{"$f":"Z10/(AB4-Z14)","v":{"$error":"#DIV/0!"}},{"$f":"IF(AA10=0,0,(AA10*((LOG(AA10))/LOG(2))))","v":{"$error":"#DIV/0!"}},null,{"$f":"N10","v":122},{"$f":"COUNTIF(L23:L30,AD10)","v":0},{"$f":"AE10/(AG4-AE14)","v":{"$error":"#DIV/0!"}},{"$f":"IF(AF10=0,0,(AF10*((LOG(AF10))/LOG(2))))","v":{"$error":"#DIV/0!"}},null,{"$f":"N10","v":122},{"$f":"COUNTIF(L31:L38,AI10)","v":0},{"$f":"AJ10/(AL4-AJ14)","v":{"$error":"#DIV/0!"}},{"$f":"IF(AK10=0,0,(AK10*((LOG(AK10))/LOG(2))))","v":{"$error":"#DIV/0!"}},null,{"$f":"N10","v":122},{"$f":"COUNTIF(L39:L46,AN10)","v":0},{"$f":"AO10/(AQ4-AO14)","v":0},{"$f":"IF(AP10=0,0,(AP10*((LOG(AP10))/LOG(2))))","v":0},null,{"$f":"N10","v":122},{"$f":"COUNTIF(L47:L54,AS10)","v":0},{"$f":"AT10/(AV4-AT14)","v":0},{"$f":"IF(AU10=0,0,(AU10*((LOG(AU10))/LOG(2))))","v":0}]
[12,725,23,762,14,773,null,null,null,null,0,121,null,211,{"$f":"COUNTIF($L$7:$L$500,N11)","v":0},{"$f":"O11/$Q$4","v":0},{"$f":"IF(P11=0,0,(P11*((LOG(P11))/LOG(2))))","v":0},null,null,{"$f":"N11","v":211},{"$f":"COUNTIF(L7:L14,T11)","v":0},{"$f":"U11/(W4-U14)","v":0},{"$f":"IF(V11=0,0,(V11*((LOG(V11))/LOG(2))))","v":0},null,{"$f":"N11","v":211},{"$f":"COUNTIF(L15:L22,Y11)","v":0},{"$f":"Z11/(AB4-Z14)","v":{"$error":"#DIV/0!"}},{"$f":"IF(AA11=0,0,(AA11*((LOG(AA11))/LOG(2))))","v":{"$error":"#DIV/0!"}},null,{"$f":"N11","v":211},{"$f":"COUNTIF(L23:L30,AD11)","v":0},{"$f":"AE11/(AG4-AE14)","v":{"$error":"#DIV/0!"}},{"$f":"IF(AF11=0,0,(AF11*((LOG(AF11))/LOG(2))))","v":{"$error":"#DIV/0!"}},null,{"$f":"N11","v":211},{"$f":"COUNTIF(L31:L38,AI11)","v":0},{"$f":"AJ11/(AL4-AJ14)","v":{"$error":"#DIV/0!"}},{"$f":"IF(AK11=0,0,(AK11*((LOG(AK11))/LOG(2))))","v":{"$error":"#DIV/0!"}},null,{"$f":"N11","v":211},{"$f":"COUNTIF(L39:L46,AN11)","v":0},{"$f":"AO11/(AQ4-AO14)","v":0},{"$f":"IF(AP11=0,0,(AP11*((LOG(AP11))/LOG(2))))","v":0},null,{"$f":"N11","v":211},{"$f":"COUNTIF(L47:L54,AS11)","v":0},{"$f":"AT11/(AV4-AT14)","v":0},{"$f":"IF(AU11=0,0,(AU11*((LOG(AU11))/LOG(2))))","v":0}]
[21,879,21,884,21,996,null,null,null,null,0,222,null,212,{"$f":"COUNTIF($L$7:$L$500,N12)","v":4},{"$f":"O12/$Q$4","v":8.3333333333333329E-2},{"$f":"IF(P12=0,0,(P12*((LOG(P12))/LOG(2))))","v":-0.29874687506009634},null,null,{"$f":"N12","v":212},{"$f":"COUNTIF(L7:L14,T12)","v":3},{"$f":"U12/(W4-U14)","v":0.5},{"$f":"IF(V12=0,0,(V12*((LOG(V12))/LOG(2))))","v":-0.5},null,{"$f":"N12","v":212},{"$f":"COUNTIF(L15:L22,Y12)","v":0},{"$f":"Z12/(AB4-Z14)","v":{"$error":"#DIV/0!"}},{"$f":"IF(AA12=0,0,(AA12*((LOG(AA12))/LOG(2))))","v":{"$error":"#DIV/0!"}},null,{"$f":"N12","v":212},{"$f":"COUNTIF(L23:L30,AD12)","v":0},{"$f":"AE12/(AG4-AE14)","v":{"$error":"#DIV/0!"}},{"$f":"IF(AF12=0,0,(AF12*((LOG(AF12))/LOG(2))))","v":{"$error":"#DIV/0!"}},null,{"$f":"N12","v":212},{"$f":"COUNTIF(L31:L38,AI12)","v":0},{"$f":"AJ12/(AL4-AJ14)","v":{"$error":"#DIV/0!"}},{"$f":"IF(AK12=0,0,(AK12*((LOG(AK12))/LOG(2))))","v":{"$error":"#DIV/0!"}},null,{"$f":"N12","v":212},{"$f":"COUNTIF(L39:L46,AN12)","v":0},{"$f":"AO12/(AQ4-AO14)","v":0},{"$f":"IF(AP12=0,0,(AP12*((LOG(AP12))/LOG(2))))","v":0},null,{"$f":"N12","v":212},{"$f":"COUNTIF(L47:L54,AS12)","v":1},{"$f":"AT12/(AV4-AT14)","v":1},{"$f":"IF(AU12=0,0,(AU12*((LOG(AU12))/LOG(2))))","v":0}]
[21,1090,12,1104,23,1120,null,null,null,null,0,212,null,221,{"$f":"COUNTIF($L$7:$L$500,N13)","v":3},{"$f":"O13/$Q$4","v":6.25E-2},{"$f":"IF(P13=0,0,(P13*((LOG(P13))/LOG(2))))","v":-0.25},null,null,{"$f":"N13","v":221},{"$f":"COUNTIF(L7:L14,T13)","v":1},{"$f":"U13/(W4-U14)","v":0.16666666666666666},{"$f":"IF(V13=0,0,(V13*((LOG(V13))/LOG(2))))","v":-0.43082708345352599},null,{"$f":"N13","v":221},{"$f":"COUNTIF(L15:L22,Y13)","v":0},{"$f":"Z13/(AB4-Z14)","v":{"$error":"#DIV/0!"}},{"$f":"IF(AA13=0,0,(AA13*((LOG(AA13))/LOG(2))))","v":{"$error":"#DIV/0!"}},null,{"$f":"N13","v":221},{"$f":"COUNTIF(L23:L30,AD13)","v":0},{"$f":"AE13/(AG4-AE14)","v":{"$error":"#DIV/0!"}},{"$f":"IF(AF13=0,0,(AF13*((LOG(AF13))/LOG(2))))","v":{"$error":"#DIV/0!"}},null,{"$f":"N13","v":221},{"$f":"COUNTIF(L31:L38,AI13)","v":0},{"$f":"AJ13/(AL4-AJ14)","v":{"$error":"#DIV/0!"}},{"$f":"IF(AK13=0,0,(AK13*((LOG(AK13))/LOG(2))))","v":{"$error":"#DIV/0!"}},null,{"$f":"N13","v":221},{"$f":"COUNTIF(L39:L46,AN13)","v":2},{"$f":"AO13/(AQ4-AO14)","v":1},{"$f":"IF(AP13=0,0,(AP13*((LOG(AP13))/LOG(2))))","v":0},null,{"$f":"N13","v":221},{"$f":"COUNTIF(L47:L54,AS13)","v":0},{"$f":"AT13/(AV4-AT14)","v":0},{"$f":"IF(AU13=0,0,(AU13*((LOG(AU13))/LOG(2))))","v":0}]
[21,1217,21,1221,21,1230,null,null,null,null,0,222,null,222,{"$f":"COUNTIF($L$7:$L$500,N14)","v":39},{"$f":"O14/$Q$4","v":0.8125},{"$f":"IF(P14=0,0,(P14*((LOG(P14))/LOG(2))))","v":-0.24339272901036266},null,null,{"$f":"N14","v":222},{"$f":"COUNTIF(L7:L14,T14)","v":2},null,null,null,{"$f":"N14","v":222},{"$f":"COUNTIF(L15:L22,Y14)","v":8},null,null,null,{"$f":"N14","v":222},{"$f":"COUNTIF(L23:L30,AD14)","v":8},null,null,null,{"$f":"N14","v":222},{"$f":"COUNTIF(L31:L38,AI14)","v":8},null,null,null,{"$f":"N14","v":222},{"$f":"COUNTIF(L39:L46,AN14)","v":6},null,null,null,{"$f":"N14","v":222},{"$f":"COUNTIF(L47:L54,AS14)","v":7}]
[21,1321,21,1337,21,1347,null,null,null,null,0,222,null,null,null,{"$f":"SUM(P7:P14)","v":1},{"$f":"-SUM(Q7:Q14)","v":1.0248463749338403},null,null,null,null,{"$f":"SUM(V7:V14)","v":0.99999999999999989},{"$f":"-SUM(W7:W14)","v":1.7924812503605778},null,null,null,{"$f":"SUM(AA7:AA14)","v":{"$error":"#DIV/0!"}},{"$f":"-SUM(AB7:AB14)","v":{"$error":"#DIV/0!"}},null,null,null,{"$f":"SUM(AF7:AF14)","v":{"$error":"#DIV/0!"}},{"$f":"-SUM(AG7:AG14)","v":{"$error":"#DIV/0!"}},null,null,null,{"$f":"SUM(AK7:AK14)","v":{"$error":"#DIV/0!"}},{"$f":"-SUM(AL7:AL14)","v":{"$error":"#DIV/0!"}},null,null,null,{"$f":"SUM(AP7:AP14)","v":1},{"$f":"-SUM(AQ7:AQ14)","v":0},null,null,null,{"$f":"SUM(AU7:AU14)","v":1},{"$f":"-SUM(AV7:AV14)","v":0}]
[21,1470,21,1475,21,1479,null,null,null,null,0,222,null,null,null,"U=",{"$f":"Q15/(LOG(Q4)/LOG(2))","v":0.18350103063386861},null,null,null,null,"U1=",{"$f":"W15/(LOG(W4)/LOG(2))","v":0.59749375012019257},null,null,null,"U2=",{"$f":"AB15/(LOG(AB4)/LOG(2))","v":{"$error":"#DIV/0!"}},null,null,null,"U3=",{"$f":"AG15/(LOG(AG4)/LOG(2))","v":{"$error":"#DIV/0!"}},null,null,null,"U4=",{"$f":"AL15/(LOG(AL4)/LOG(2))","v":{"$error":"#DIV/0!"}},null,null,null,"U5=",{"$f":"AQ15/(LOG(AQ4)/LOG(2))","v":0},null,null,null,"U6=",{"$f":"AV15/(LOG(AV4)/LOG(2))","v":0}]
[21,1696,21,1713,21,1716,null,null,null,null,0,222]
[21,1838,21,1842,21,1853,null,null,null,null,0,222]
[21,2042,21,2045,21,2049,null,null,null,null,0,222,null,"Total Target Seq"]
[21,2196,21,2211,21,2214,null,null,null,null,0,222,null,{"$f":"COUNTIF(L7:L54,G3)","v":39},null,8,8,8,8,8,8]
[21,2382,21,2397,21,2399,null,null,null,null,0,222,null,null,null,"% of reinforcement given in 6 equal intervals based on number of trials "]
[21,2526,21,2549,21,2553,null,null,null,null,0,222,null,null,null,"%_1","%_2","%_3","%_4","%_5","%_6"]
[21,2753,21,2758,21,2760,null,null,null,null,0,222,null,null,"target sequence",{"$f":"$G$3","v":222},{"$f":"$G$3","v":222},{"$f":"$G$3","v":222},{"$f":"$G$3","v":222},{"$f":"$G$3","v":222},{"$f":"$G$3","v":222}]
[21,2851,21,2857,21,2888,null,null,null,null,0,222,null,null,"total reinforcement",{"$f":"U14","v":2},{"$f":"Z14","v":8},{"$f":"AE14","v":8},{"$f":"AJ14","v":8},{"$f":"AO14","v":6},{"$f":"AT14","v":7}]
[21,3073,21,3080,21,3083,null,null,null,null,0,222,null,null,"% target"]
[21,3185,21,3191,21,3194,null,null,null,null,0,222,null,null,"CCRF"]
[21,3312,21,3316,21,3330,null,null,null,null,0,222,null,null,"% CCRf"]
[21,3429,21,3432,21,3436,null,null,null,null,0,222,null,null,"average response rate",{"$f":"F14/P20","v":153.75},{"$f":"(F22-F14)/Q20","v":165.375},{"$f":"(F30-F22)/R20","v":149.375},{"$f":"(F38-F30)/S20","v":209.25},{"$f":"(F46-F38)/T20","v":182.875},{"$f":"(F54-F46)/U20","v":186.25}]
[21,3525,21,3528,21,3531,null,null,null,null,0,222]
[21,3735,21,3741,21,3748,null,null,null,null,0,222]
[21,3950,21,3964,21,3966,null,null,null,null,0,222]
[21,4065,21,4069,21,4073,null,null,null,null,0,222]
[21,4173,21,4191,21,4194,null,null,null,null,0,222]
[21,4379,21,4384,21,4450,null,null,null,null,0,222]
[21,4807,21,4811,21,4861,null,null,null,null,0,222]
[21,5008,21,5012,21,5020,null,null,null,null,0,222]
[21,5170,21,5173,21,5243,null,null,null,null,0,222]
[21,5381,21,5390,21,5422,null,null,null,null,0,222]
[21,5680,21,5685,12,5719,null,null,null,null,0,221]
[21,5817,21,5829,21,5832,null,null,null,null,0,222]
[21,6006,21,6010,21,6015,null,null,null,null,0,222]
[21,6242,21,6246,21,6254,null,null,null,null,0,222]
[21,6387,21,6406,21,6408,null,null,null,null,0,222]
[21,6514,21,6525,12,6526,null,null,null,null,0,221]
[21,6627,21,6631,21,6636,null,null,null,null,0,222]
[21,6877,21,6880,21,6885,null,null,null,null,0,222]
[21,7152,21,7155,21,7160,null,null,null,null,0,222]
[21,7312,12,7343,23,7374,null,null,null,null,0,212]
[21,7478,21,7480,21,7486,null,null,null,null,0,222]
[21,7694,21,7704,21,7742,null,null,null,null,0,222]
[21,7850,21,7852,21,7860,null,null,null,null,0,222]
[21,7971,21,7980,21,8010,null,null,null,null,0,222]
[21,8165,21,8170,21,8181,null,null,null,null,0,222]
[21,8368,21,8371,21,8375,null,null,null,null,1,222]

{"sheet":"!N117A0B.AXT","index":28,"n_rows":52,"n_cols":48,"rows_kept":52,"cut":false,"hidden":false,"merged":[[4,39,4,42],[5,39,5,40],[4,44,4,47],[5,44,5,45],[4,24,4,27],[5,24,5,25],[4,29,4,32],[5,29,5,30],[4,34,4,37],[5,34,5,35],[1,1,1,2],[5,13,5,14],[18,13,18,14],[19,13,19,14],[4,19,4,22],[5,19,5,20]]}
["Report for:!N117A0B.AXT"]
["Date:","<date>"]
["Hen:","<hen>",null,null,null,"Correct Sequence",{"$f":"Start!J2","v":222},null,null,null,null,null,null,null,null,"Total Sequences in Data",{"$f":"4994-COUNTBLANK(L7:L5000)","v":46},null,null,null,null,"Total Sequences in Block Data",{"$f":"COUNTA(L7:L14)","v":8},null,null,null,"Total Sequences in Block Data",{"$f":"COUNTA(L15:L21)","v":7},null,null,null,"Total Sequences in Block Data",{"$f":"COUNTA(L22:L29)","v":8},null,null,null,"Total Sequences in Block Data",{"$f":"COUNTA(L30:L37)","v":8},null,null,null,"Total Sequences in Block Data",{"$f":"COUNTA(L38:L44)","v":7},null,null,null,"Total Sequences in Block Data",{"$f":"COUNTA(L45:L52)","v":8}]
[null,null,null,null,null,null,null,null,null,null,null,null,null,null,null,"Total Sequences in Summary",{"$f":"SUM(O7:O14)","v":46},null,null,null,null,"Total Sequences in Block Summary",{"$f":"SUM(U7:U14)","v":8},null,null,null,"Total Sequences in Block Summary",{"$f":"SUM(Z7:Z14)","v":7},null,null,null,"Total Sequences in Block Summary",{"$f":"SUM(AE7:AE14)","v":8},null,null,null,"Total Sequences in Block Summary",{"$f":"SUM(AJ7:AJ14)","v":8},null,null,null,"Total Sequences in Block Summary",{"$f":"SUM(AO7:AO14)","v":7},null,null,null,"Total Sequences in Block Summary",{"$f":"SUM(AT7:AT14)","v":8}]
[null,null,null,null,null,null,null,null,null,null,null,null,null,null,null,null,null,null,null,"Block 1",null,null,null,null,"Block 2",null,null,null,null,"Block 3",null,null,null,null,"Block 4",null,null,null,null,"Block 5",null,null,null,null,"Block 6"]
["Sequence\nComponent\n1","Time\n1","Sequence\nComponent\n2","Time\n2","Sequence\nComponent\n3","Time\n3","Sequence\nComponent\n4","Time\n4","Sequence\nComponent\n5","Time\n5","Correct?\n0=No 1=Yes","Sequence",null,"Frequency",null,"Relative Frequency","Variability",null,null,"Frequency",null,"Relative Frequency","Variability",null,"Frequency",null,"Relative Frequency","Variability",null,"Frequency",null,"Relative Frequency","Variability",null,"Frequency",null,"Relative Frequency","Variability",null,"Frequency",null,"Relative Frequency","Variability",null,"Frequency",null,"Relative Frequency","Variability"]
[12,2,23,13,14,16,null,null,null,null,0,121,null,111,{"$f":"COUNTIF($L$7:$L$500,N7)","v":0},{"$f":"O7/$Q$4","v":0},{"$f":"IF(P7=0,0,(P7*((LOG(P7))/LOG(2))))","v":0},null,null,{"$f":"N7","v":111},{"$f":"COUNTIF(L7:L14,T7)","v":0},{"$f":"U7/(W4-U14)","v":0},{"$f":"IF(V7=0,0,(V7*((LOG(V7))/LOG(2))))","v":0},null,{"$f":"N7","v":111},{"$f":"COUNTIF(L15:L21,Y7)","v":0},{"$f":"Z7/(AB4-Z14)","v":{"$error":"#DIV/0!"}},{"$f":"IF(AA7=0,0,(AA7*((LOG(AA7))/LOG(2))))","v":{"$error":"#DIV/0!"}},null,{"$f":"N7","v":111},{"$f":"COUNTIF(L22:L29,AD7)","v":0},{"$f":"AE7/(AG4-AE14)","v":{"$error":"#DIV/0!"}},{"$f":"IF(AF7=0,0,(AF7*((LOG(AF7))/LOG(2))))","v":{"$error":"#DIV/0!"}},null,{"$f":"N7","v":111},{"$f":"COUNTIF(L30:L37,AI7)","v":0},{"$f":"AJ7/(AL4-AJ14)","v":0},{"$f":"IF(AK7=0,0,(AK7*((LOG(AK7))/LOG(2))))","v":0},null,{"$f":"N7","v":111},{"$f":"COUNTIF(L38:L44,AN7)","v":0},{"$f":"AO7/(AQ4-AO14)","v":0},{"$f":"IF(AP7=0,0,(AP7*((LOG(AP7))/LOG(2))))","v":0},null,{"$f":"N7","v":111},{"$f":"COUNTIF(L45:L52,AS7)","v":0},{"$f":"AT7/(AV4-AT14)","v":0},{"$f":"IF(AU7=0,0,(AU7*((LOG(AU7))/LOG(2))))","v":0}]
[21,118,12,132,23,148,null,null,null,null,0,212,null,112,{"$f":"COUNTIF($L$7:$L$500,N8)","v":0},{"$f":"O8/$Q$4","v":0},{"$f":"IF(P8=0,0,(P8*((LOG(P8))/LOG(2))))","v":0},null,null,{"$f":"N8","v":112},{"$f":"COUNTIF(L7:L14,T8)","v":0},{"$f":"U8/(W4-U14)","v":0},{"$f":"IF(V8=0,0,(V8*((LOG(V8))/LOG(2))))","v":0},null,{"$f":"N8","v":112},{"$f":"COUNTIF(L15:L21,Y8)","v":0},{"$f":"Z8/(AB4-Z14)","v":{"$error":"#DIV/0!"}},{"$f":"IF(AA8=0,0,(AA8*((LOG(AA8))/LOG(2))))","v":{"$error":"#DIV/0!"}},null,{"$f":"N8","v":112},{"$f":"COUNTIF(L22:L29,AD8)","v":0},{"$f":"AE8/(AG4-AE14)","v":{"$error":"#DIV/0!"}},{"$f":"IF(AF8=0,0,(AF8*((LOG(AF8))/LOG(2))))","v":{"$error":"#DIV/0!"}},null,{"$f":"N8","v":112},{"$f":"COUNTIF(L30:L37,AI8)","v":0},{"$f":"AJ8/(AL4-AJ14)","v":0},{"$f":"IF(AK8=0,0,(AK8*((LOG(AK8))/LOG(2))))","v":0},null,{"$f":"N8","v":112},{"$f":"COUNTIF(L38:L44,AN8)","v":0},{"$f":"AO8/(AQ4-AO14)","v":0},{"$f":"IF(AP8=0,0,(AP8*((LOG(AP8))/LOG(2))))","v":0},null,{"$f":"N8","v":112},{"$f":"COUNTIF(L45:L52,AS8)","v":0},{"$f":"AT8/(AV4-AT14)","v":0},{"$f":"IF(AU8=0,0,(AU8*((LOG(AU8))/LOG(2))))","v":0}]
[21,241,12,258,23,282,null,null,null,null,0,212,null,121,{"$f":"COUNTIF($L$7:$L$500,N9)","v":1},{"$f":"O9/$Q$4","v":2.1739130434782608E-2},{"$f":"IF(P9=0,0,(P9*((LOG(P9))/LOG(2))))","v":-0.12007743382732637},null,null,{"$f":"N9","v":121},{"$f":"COUNTIF(L7:L14,T9)","v":1},{"$f":"U9/(W4-U14)","v":0.33333333333333331},{"$f":"IF(V9=0,0,(V9*((LOG(V9))/LOG(2))))","v":-0.52832083357371862},null,{"$f":"N9","v":121},{"$f":"COUNTIF(L15:L21,Y9)","v":0},{"$f":"Z9/(AB4-Z14)","v":{"$error":"#DIV/0!"}},{"$f":"IF(AA9=0,0,(AA9*((LOG(AA9))/LOG(2))))","v":{"$error":"#DIV/0!"}},null,{"$f":"N9","v":121},{"$f":"COUNTIF(L22:L29,AD9)","v":0},{"$f":"AE9/(AG4-AE14)","v":{"$error":"#DIV/0!"}},{"$f":"IF(AF9=0,0,(AF9*((LOG(AF9))/LOG(2))))","v":{"$error":"#DIV/0!"}},null,{"$f":"N9","v":121},{"$f":"COUNTIF(L30:L37,AI9)","v":0},{"$f":"AJ9/(AL4-AJ14)","v":0},{"$f":"IF(AK9=0,0,(AK9*((LOG(AK9))/LOG(2))))","v":0},null,{"$f":"N9","v":121},{"$f":"COUNTIF(L38:L44,AN9)","v":0},{"$f":"AO9/(AQ4-AO14)","v":0},{"$f":"IF(AP9=0,0,(AP9*((LOG(AP9))/LOG(2))))","v":0},null,{"$f":"N9","v":121},{"$f":"COUNTIF(L45:L52,AS9)","v":0},{"$f":"AT9/(AV4-AT14)","v":0},{"$f":"IF(AU9=0,0,(AU9*((LOG(AU9))/LOG(2))))","v":0}]
[21,419,21,421,21,429,null,null,null,null,0,222,null,122,{"$f":"COUNTIF($L$7:$L$500,N10)","v":1},{"$f":"O10/$Q$4","v":2.1739130434782608E-2},{"$f":"IF(P10=0,0,(P10*((LOG(P10))/LOG(2))))","v":-0.12007743382732637},null,null,{"$f":"N10","v":122},{"$f":"COUNTIF(L7:L14,T10)","v":0},{"$f":"U10/(W4-U14)","v":0},{"$f":"IF(V10=0,0,(V10*((LOG(V10))/LOG(2))))","v":0},null,{"$f":"N10","v":122},{"$f":"COUNTIF(L15:L21,Y10)","v":0},{"$f":"Z10/(AB4-Z14)","v":{"$error":"#DIV/0!"}},{"$f":"IF(AA10=0,0,(AA10*((LOG(AA10))/LOG(2))))","v":{"$error":"#DIV/0!"}},null,{"$f":"N10","v":122},{"$f":"COUNTIF(L22:L29,AD10)","v":0},{"$f":"AE10/(AG4-AE14)","v":{"$error":"#DIV/0!"}},{"$f":"IF(AF10=0,0,(AF10*((LOG(AF10))/LOG(2))))","v":{"$error":"#DIV/0!"}},null,{"$f":"N10","v":122},{"$f":"COUNTIF(L30:L37,AI10)","v":0},{"$f":"AJ10/(AL4-AJ14)","v":0},{"$f":"IF(AK10=0,0,(AK10*((LOG(AK10))/LOG(2))))","v":0},null,{"$f":"N10","v":122},{"$f":"COUNTIF(L38:L44,AN10)","v":0},{"$f":"AO10/(AQ4-AO14)","v":0},{"$f":"IF(AP10=0,0,(AP10*((LOG(AP10))/LOG(2))))","v":0},null,{"$f":"N10","v":122},{"$f":"COUNTIF(L45:L52,AS10)","v":1},{"$f":"AT10/(AV4-AT14)","v":1},{"$f":"IF(AU10=0,0,(AU10*((LOG(AU10))/LOG(2))))","v":0}]
[21,713,21,718,21,726,null,null,null,null,0,222,null,211,{"$f":"COUNTIF($L$7:$L$500,N11)","v":0},{"$f":"O11/$Q$4","v":0},{"$f":"IF(P11=0,0,(P11*((LOG(P11))/LOG(2))))","v":0},null,null,{"$f":"N11","v":211},{"$f":"COUNTIF(L7:L14,T11)","v":0},{"$f":"U11/(W4-U14)","v":0},{"$f":"IF(V11=0,0,(V11*((LOG(V11))/LOG(2))))","v":0},null,{"$f":"N11","v":211},{"$f":"COUNTIF(L15:L21,Y11)","v":0},{"$f":"Z11/(AB4-Z14)","v":{"$error":"#DIV/0!"}},{"$f":"IF(AA11=0,0,(AA11*((LOG(AA11))/LOG(2))))","v":{"$error":"#DIV/0!"}},null,{"$f":"N11","v":211},{"$f":"COUNTIF(L22:L29,AD11)","v":0},{"$f":"AE11/(AG4-AE14)","v":{"$error":"#DIV/0!"}},{"$f":"IF(AF11=0,0,(AF11*((LOG(AF11))/LOG(2))))","v":{"$error":"#DIV/0!"}},null,{"$f":"N11","v":211},{"$f":"COUNTIF(L30:L37,AI11)","v":0},{"$f":"AJ11/(AL4-AJ14)","v":0},{"$f":"IF(AK11=0,0,(AK11*((LOG(AK11))/LOG(2))))","v":0},null,{"$f":"N11","v":211},{"$f":"COUNTIF(L38:L44,AN11)","v":0},{"$f":"AO11/(AQ4-AO14)","v":0},{"$f":"IF(AP11=0,0,(AP11*((LOG(AP11))/LOG(2))))","v":0},null,{"$f":"N11","v":211},{"$f":"COUNTIF(L45:L52,AS11)","v":0},{"$f":"AT11/(AV4-AT14)","v":0},{"$f":"IF(AU11=0,0,(AU11*((LOG(AU11))/LOG(2))))","v":0}]
[21,900,21,905,21,913,null,null,null,null,0,222,null,212,{"$f":"COUNTIF($L$7:$L$500,N12)","v":2},{"$f":"O12/$Q$4","v":4.3478260869565216E-2},{"$f":"IF(P12=0,0,(P12*((LOG(P12))/LOG(2))))","v":-0.19667660678508753},null,null,{"$f":"N12","v":212},{"$f":"COUNTIF(L7:L14,T12)","v":2},{"$f":"U12/(W4-U14)","v":0.66666666666666663},{"$f":"IF(V12=0,0,(V12*((LOG(V12))/LOG(2))))","v":-0.38997500048077083},null,{"$f":"N12","v":212},{"$f":"COUNTIF(L15:L21,Y12)","v":0},{"$f":"Z12/(AB4-Z14)","v":{"$error":"#DIV/0!"}},{"$f":"IF(AA12=0,0,(AA12*((LOG(AA12))/LOG(2))))","v":{"$error":"#DIV/0!"}},null,{"$f":"N12","v":212},{"$f":"COUNTIF(L22:L29,AD12)","v":0},{"$f":"AE12/(AG4-AE14)","v":{"$error":"#DIV/0!"}},{"$f":"IF(AF12=0,0,(AF12*((LOG(AF12))/LOG(2))))","v":{"$error":"#DIV/0!"}},null,{"$f":"N12","v":212},{"$f":"COUNTIF(L30:L37,AI12)","v":0},{"$f":"AJ12/(AL4-AJ14)","v":0},{"$f":"IF(AK12=0,0,(AK12*((LOG(AK12))/LOG(2))))","v":0},null,{"$f":"N12","v":212},{"$f":"COUNTIF(L38:L44,AN12)","v":0},{"$f":"AO12/(AQ4-AO14)","v":0},{"$f":"IF(AP12=0,0,(AP12*((LOG(AP12))/LOG(2))))","v":0},null,{"$f":"N12","v":212},{"$f":"COUNTIF(L45:L52,AS12)","v":0},{"$f":"AT12/(AV4-AT14)","v":0},{"$f":"IF(AU12=0,0,(AU12*((LOG(AU12))/LOG(2))))","v":0}]
[21,1194,21,1199,21,1207,null,null,null,null,0,222,null,221,{"$f":"COUNTIF($L$7:$L$500,N13)","v":3},{"$f":"O13/$Q$4","v":6.5217391304347824E-2},{"$f":"IF(P13=0,0,(P13*((LOG(P13))/LOG(2))))","v":-0.25686518186972979},null,null,{"$f":"N13","v":221},{"$f":"COUNTIF(L7:L14,T13)","v":0},{"$f":"U13/(W4-U14)","v":0},{"$f":"IF(V13=0,0,(V13*((LOG(V13))/LOG(2))))","v":0},null,{"$f":"N13","v":221},{"$f":"COUNTIF(L15:L21,Y13)","v":0},{"$f":"Z13/(AB4-Z14)","v":{"$error":"#DIV/0!"}},{"$f":"IF(AA13=0,0,(AA13*((LOG(AA13))/LOG(2))))","v":{"$error":"#DIV/0!"}},null,{"$f":"N13","v":221},{"$f":"COUNTIF(L22:L29,AD13)","v":0},{"$f":"AE13/(AG4-AE14)","v":{"$error":"#DIV/0!"}},{"$f":"IF(AF13=0,0,(AF13*((LOG(AF13))/LOG(2))))","v":{"$error":"#DIV/0!"}},null,{"$f":"N13","v":221},{"$f":"COUNTIF(L30:L37,AI13)","v":1},{"$f":"AJ13/(AL4-AJ14)","v":1},{"$f":"IF(AK13=0,0,(AK13*((LOG(AK13))/LOG(2))))","v":0},null,{"$f":"N13","v":221},{"$f":"COUNTIF(L38:L44,AN13)","v":2},{"$f":"AO13/(AQ4-AO14)","v":1},{"$f":"IF(AP13=0,0,(AP13*((LOG(AP13))/LOG(2))))","v":0},null,{"$f":"N13","v":221},{"$f":"COUNTIF(L45:L52,AS13)","v":0},{"$f":"AT13/(AV4-AT14)","v":0},{"$f":"IF(AU13=0,0,(AU13*((LOG(AU13))/LOG(2))))","v":0}]
[21,1407,21,1411,21,1477,null,null,null,null,0,222,null,222,{"$f":"COUNTIF($L$7:$L$500,N14)","v":39},{"$f":"O14/$Q$4","v":0.84782608695652173},{"$f":"IF(P14=0,0,(P14*((LOG(P14))/LOG(2))))","v":-0.2019180380564308},null,null,{"$f":"N14","v":222},{"$f":"COUNTIF(L7:L14,T14)","v":5},null,null,null,{"$f":"N14","v":222},{"$f":"COUNTIF(L15:L21,Y14)","v":7},null,null,null,{"$f":"N14","v":222},{"$f":"COUNTIF(L22:L29,AD14)","v":8},null,null,null,{"$f":"N14","v":222},{"$f":"COUNTIF(L30:L37,AI14)","v":7},null,null,null,{"$f":"N14","v":222},{"$f":"COUNTIF(L38:L44,AN14)","v":5},null,null,null,{"$f":"N14","v":222},{"$f":"COUNTIF(L45:L52,AS14)","v":7}]
[21,1568,21,1573,21,1607,null,null,null,null,0,222,null,null,null,{"$f":"SUM(P7:P14)","v":1},{"$f":"-SUM(Q7:Q14)","v":0.8956146943659008},null,null,null,null,{"$f":"SUM(V7:V14)","v":1},{"$f":"-SUM(W7:W14)","v":0.91829583405448945},null,null,null,{"$f":"SUM(AA7:AA14)","v":{"$error":"#DIV/0!"}},{"$f":"-SUM(AB7:AB14)","v":{"$error":"#DIV/0!"}},null,null,null,{"$f":"SUM(AF7:AF14)","v":{"$error":"#DIV/0!"}},{"$f":"-SUM(AG7:AG14)","v":{"$error":"#DIV/0!"}},null,null,null,{"$f":"SUM(AK7:AK14)","v":1},{"$f":"-SUM(AL7:AL14)","v":0},null,null,null,{"$f":"SUM(AP7:AP14)","v":1},{"$f":"-SUM(AQ7:AQ14)","v":0},null,null,null,{"$f":"SUM(AU7:AU14)","v":1},{"$f":"-SUM(AV7:AV14)","v":0}]
[21,1707,21,1712,21,1721,null,null,null,null,0,222,null,null,null,"U=",{"$f":"Q15/(LOG(Q4)/LOG(2))","v":0.16214440998236473},null,null,null,null,"U1=",{"$f":"W15/(LOG(W4)/LOG(2))","v":0.30609861135149646},null,null,null,"U2=",{"$f":"AB15/(LOG(AB4)/LOG(2))","v":{"$error":"#DIV/0!"}},null,null,null,"U3=",{"$f":"AG15/(LOG(AG4)/LOG(2))","v":{"$error":"#DIV/0!"}},null,null,null,"U4=",{"$f":"AL15/(LOG(AL4)/LOG(2))","v":0},null,null,null,"U5=",{"$f":"AQ15/(LOG(AQ4)/LOG(2))","v":0},null,null,null,"U6=",{"$f":"AV15/(LOG(AV4)/LOG(2))","v":0}]
[21,1834,21,1869,21,1873,null,null,null,null,0,222]
[21,1982,21,1992,21,2003,null,null,null,null,0,222]
[21,2221,21,2225,21,2231,null,null,null,null,0,222,null,"Total Target Seq"]
[21,2403,21,2407,21,2461,null,null,null,null,0,222,null,{"$f":"COUNTIF(L7:L52,G3)","v":39},null,8,7,8,8,7,8]
[21,2598,21,2604,21,2611,null,null,null,null,0,222,null,null,null,"% of reinforcement given in 6 equal intervals based on number of trials "]
[21,2890,21,2893,21,2898,null,null,null,null,0,222,null,null,null,"%_1","%_2","%_3","%_4","%_5","%_6"]
[21,3047,21,3059,21,3093,null,null,null,null,0,222,null,null,"target sequence",{"$f":"$G$3","v":222},{"$f":"$G$3","v":222},{"$f":"$G$3","v":222},{"$f":"$G$3","v":222},{"$f":"$G$3","v":222},{"$f":"$G$3","v":222}]
[21,3219,21,3224,21,3230,null,null,null,null,0,222,null,null,"total reinforcement",{"$f":"U14","v":5},{"$f":"Z14","v":7},{"$f":"AE14","v":8},{"$f":"AJ14","v":7},{"$f":"AO14","v":5},{"$f":"AT14","v":7}]
[21,3356,21,3359,21,3362,null,null,null,null,0,222,null,null,"% target"]
[21,3550,21,3555,21,3560,null,null,null,null,0,222,null,null,"CCRF"]
[21,3705,21,3720,21,3723,null,null,null,null,0,222,null,null,"% CCRf"]
[21,3846,21,3852,21,3860,null,null,null,null,0,222,null,null,"average response rate",{"$f":"F14/P20","v":184.625},{"$f":"(F21-F14)/Q20","v":162},{"$f":"(F29-F21)/R20","v":174.125},{"$f":"(F37-F29)/S20","v":189.625},{"$f":"(F44-F37)/T20","v":181.57142857142858},{"$f":"(F52-F44)/U20","v":183.625}]
[21,3991,21,3997,21,4004,null,null,null,null,0,222]
[21,4227,21,4233,21,4238,null,null,null,null,0,222]
[21,4436,21,4443,21,4475,null,null,null,null,0,222]
[21,4595,21,4599,21,4606,null,null,null,null,0,222]
[21,4723,21,4725,21,4729,null,null,null,null,0,222]
[21,4988,21,4991,21,4997,null,null,null,null,0,222]
[21,5218,21,5279,12,5281,null,null,null,null,0,221]
[21,5399,21,5403,21,5409,null,null,null,null,0,222]
[21,5514,21,5516,21,5521,null,null,null,null,0,222]
[21,5640,21,5646,21,5651,null,null,null,null,0,222]
[21,5969,21,6041,21,6054,null,null,null,null,0,222]
[21,6186,21,6188,21,6194,null,null,null,null,0,222]
[21,6314,21,6318,12,6340,null,null,null,null,0,221]
[21,6477,21,6481,21,6484,null,null,null,null,0,222]
[21,6573,21,6577,21,6581,null,null,null,null,0,222]
[21,6768,21,6770,12,6792,null,null,null,null,0,221]
[12,6893,23,6897,23,6913,null,null,null,null,0,122]
[21,7053,21,7055,21,7058,null,null,null,null,0,222]
[21,7274,21,7276,21,7280,null,null,null,null,0,222]
[21,7483,21,7487,21,7531,null,null,null,null,0,222]
[21,7648,21,7654,21,7661,null,null,null,null,0,222]
[21,7811,21,7815,21,7821,null,null,null,null,0,222]
[21,8077,21,8081,21,8097,null,null,null,null,0,222]
[21,8221,21,8223,21,8261,null,null,null,null,1,222]

{"sheet":"!N11993B.AXT","index":29,"n_rows":56,"n_cols":48,"rows_kept":56,"cut":false,"hidden":false,"merged":[[4,39,4,42],[5,39,5,40],[4,44,4,47],[5,44,5,45],[4,24,4,27],[5,24,5,25],[4,29,4,32],[5,29,5,30],[4,34,4,37],[5,34,5,35],[1,1,1,2],[5,13,5,14],[18,13,18,14],[19,13,19,14],[4,19,4,22],[5,19,5,20]]}
["Report for:!N11993B.AXT"]
["Date:","<date>"]
["Hen:","<hen>",null,null,null,"Correct Sequence",{"$f":"Start!J2","v":222},null,null,null,null,null,null,null,null,"Total Sequences in Data",{"$f":"4994-COUNTBLANK(L7:L5000)","v":50},null,null,null,null,"Total Sequences in Block Data",{"$f":"COUNTA(L7:L14)","v":8},null,null,null,"Total Sequences in Block Data",{"$f":"COUNTA(L15:L23)","v":9},null,null,null,"Total Sequences in Block Data",{"$f":"COUNTA(L24:L31)","v":8},null,null,null,"Total Sequences in Block Data",{"$f":"COUNTA(L32:L39)","v":8},null,null,null,"Total Sequences in Block Data",{"$f":"COUNTA(L40:L48)","v":9},null,null,null,"Total Sequences in Block Data",{"$f":"COUNTA(L49:L56)","v":8}]
[null,null,null,null,null,null,null,null,null,null,null,null,null,null,null,"Total Sequences in Summary",{"$f":"SUM(O7:O14)","v":50},null,null,null,null,"Total Sequences in Block Summary",{"$f":"SUM(U7:U14)","v":8},null,null,null,"Total Sequences in Block Summary",{"$f":"SUM(Z7:Z14)","v":9},null,null,null,"Total Sequences in Block Summary",{"$f":"SUM(AE7:AE14)","v":8},null,null,null,"Total Sequences in Block Summary",{"$f":"SUM(AJ7:AJ14)","v":8},null,null,null,"Total Sequences in Block Summary",{"$f":"SUM(AO7:AO14)","v":9},null,null,null,"Total Sequences in Block Summary",{"$f":"SUM(AT7:AT14)","v":8}]
[null,null,null,null,null,null,null,null,null,null,null,null,null,null,null,null,null,null,null,"Block 1",null,null,null,null,"Block 2",null,null,null,null,"Block 3",null,null,null,null,"Block 4",null,null,null,null,"Block 5",null,null,null,null,"Block 6"]
["Sequence\nComponent\n1","Time\n1","Sequence\nComponent\n2","Time\n2","Sequence\nComponent\n3","Time\n3","Sequence\nComponent\n4","Time\n4","Sequence\nComponent\n5","Time\n5","Correct?\n0=No 1=Yes","Sequence",null,"Frequency",null,"Relative Frequency","Variability",null,null,"Frequency",null,"Relative Frequency","Variability",null,"Frequency",null,"Relative Frequency","Variability",null,"Frequency",null,"Relative Frequency","Variability",null,"Frequency",null,"Relative Frequency","Variability",null,"Frequency",null,"Relative Frequency","Variability",null,"Frequency",null,"Relative Frequency","Variability"]
[21,137,21,142,21,147,null,null,null,null,0,222,null,111,{"$f":"COUNTIF($L$7:$L$500,N7)","v":2},{"$f":"O7/$Q$4","v":0.04},{"$f":"IF(P7=0,0,(P7*((LOG(P7))/LOG(2))))","v":-0.18575424759098899},null,null,{"$f":"N7","v":111},{"$f":"COUNTIF(L7:L14,T7)","v":0},{"$f":"U7/(W4-U14)","v":0},{"$f":"IF(V7=0,0,(V7*((LOG(V7))/LOG(2))))","v":0},null,{"$f":"N7","v":111},{"$f":"COUNTIF(L15:L23,Y7)","v":0},{"$f":"Z7/(AB4-Z14)","v":0},{"$f":"IF(AA7=0,0,(AA7*((LOG(AA7))/LOG(2))))","v":0},null,{"$f":"N7","v":111},{"$f":"COUNTIF(L24:L31,AD7)","v":2},{"$f":"AE7/(AG4-AE14)","v":0.5},{"$f":"IF(AF7=0,0,(AF7*((LOG(AF7))/LOG(2))))","v":-0.5},null,{"$f":"N7","v":111},{"$f":"COUNTIF(L32:L39,AI7)","v":0},{"$f":"AJ7/(AL4-AJ14)","v":0},{"$f":"IF(AK7=0,0,(AK7*((LOG(AK7))/LOG(2))))","v":0},null,{"$f":"N7","v":111},{"$f":"COUNTIF(L40:L48,AN7)","v":0},{"$f":"AO7/(AQ4-AO14)","v":0},{"$f":"IF(AP7=0,0,(AP7*((LOG(AP7))/LOG(2))))","v":0},null,{"$f":"N7","v":111},{"$f":"COUNTIF(L49:L56,AS7)","v":0},{"$f":"AT7/(AV4-AT14)","v":0},{"$f":"IF(AU7=0,0,(AU7*((LOG(AU7))/LOG(2))))","v":0}]
[21,569,21,577,21,582,null,null,null,null,0,222,null,112,{"$f":"COUNTIF($L$7:$L$500,N8)","v":0},{"$f":"O8/$Q$4","v":0},{"$f":"IF(P8=0,0,(P8*((LOG(P8))/LOG(2))))","v":0},null,null,{"$f":"N8","v":112},{"$f":"COUNTIF(L7:L14,T8)","v":0},{"$f":"U8/(W4-U14)","v":0},{"$f":"IF(V8=0,0,(V8*((LOG(V8))/LOG(2))))","v":0},null,{"$f":"N8","v":112},{"$f":"COUNTIF(L15:L23,Y8)","v":0},{"$f":"Z8/(AB4-Z14)","v":0},{"$f":"IF(AA8=0,0,(AA8*((LOG(AA8))/LOG(2))))","v":0},null,{"$f":"N8","v":112},{"$f":"COUNTIF(L24:L31,AD8)","v":0},{"$f":"AE8/(AG4-AE14)","v":0},{"$f":"IF(AF8=0,0,(AF8*((LOG(AF8))/LOG(2))))","v":0},null,{"$f":"N8","v":112},{"$f":"COUNTIF(L32:L39,AI8)","v":0},{"$f":"AJ8/(AL4-AJ14)","v":0},{"$f":"IF(AK8=0,0,(AK8*((LOG(AK8))/LOG(2))))","v":0},null,{"$f":"N8","v":112},{"$f":"COUNTIF(L40:L48,AN8)","v":0},{"$f":"AO8/(AQ4-AO14)","v":0},{"$f":"IF(AP8=0,0,(AP8*((LOG(AP8))/LOG(2))))","v":0},null,{"$f":"N8","v":112},{"$f":"COUNTIF(L49:L56,AS8)","v":0},{"$f":"AT8/(AV4-AT14)","v":0},{"$f":"IF(AU8=0,0,(AU8*((LOG(AU8))/LOG(2))))","v":0}]
[21,702,21,710,21,755,null,null,null,null,0,222,null,121,{"$f":"COUNTIF($L$7:$L$500,N9)","v":0},{"$f":"O9/$Q$4","v":0},{"$f":"IF(P9=0,0,(P9*((LOG(P9))/LOG(2))))","v":0},null,null,{"$f":"N9","v":121},{"$f":"COUNTIF(L7:L14,T9)","v":0},{"$f":"U9/(W4-U14)","v":0},{"$f":"IF(V9=0,0,(V9*((LOG(V9))/LOG(2))))","v":0},null,{"$f":"N9","v":121},{"$f":"COUNTIF(L15:L23,Y9)","v":0},{"$f":"Z9/(AB4-Z14)","v":0},{"$f":"IF(AA9=0,0,(AA9*((LOG(AA9))/LOG(2))))","v":0},null,{"$f":"N9","v":121},{"$f":"COUNTIF(L24:L31,AD9)","v":0},{"$f":"AE9/(AG4-AE14)","v":0},{"$f":"IF(AF9=0,0,(AF9*((LOG(AF9))/LOG(2))))","v":0},null,{"$f":"N9","v":121},{"$f":"COUNTIF(L32:L39,AI9)","v":0},{"$f":"AJ9/(AL4-AJ14)","v":0},{"$f":"IF(AK9=0,0,(AK9*((LOG(AK9))/LOG(2))))","v":0},null,{"$f":"N9","v":121},{"$f":"COUNTIF(L40:L48,AN9)","v":0},{"$f":"AO9/(AQ4-AO14)","v":0},{"$f":"IF(AP9=0,0,(AP9*((LOG(AP9))/LOG(2))))","v":0},null,{"$f":"N9","v":121},{"$f":"COUNTIF(L49:L56,AS9)","v":0},{"$f":"AT9/(AV4-AT14)","v":0},{"$f":"IF(AU9=0,0,(AU9*((LOG(AU9))/LOG(2))))","v":0}]
[21,872,12,898,23,909,null,null,null,null,0,212,null,122,{"$f":"COUNTIF($L$7:$L$500,N10)","v":1},{"$f":"O10/$Q$4","v":0.02},{"$f":"IF(P10=0,0,(P10*((LOG(P10))/LOG(2))))","v":-0.11287712379549449},null,null,{"$f":"N10","v":122},{"$f":"COUNTIF(L7:L14,T10)","v":0},{"$f":"U10/(W4-U14)","v":0},{"$f":"IF(V10=0,0,(V10*((LOG(V10))/LOG(2))))","v":0},null,{"$f":"N10","v":122},{"$f":"COUNTIF(L15:L23,Y10)","v":0},{"$f":"Z10/(AB4-Z14)","v":0},{"$f":"IF(AA10=0,0,(AA10*((LOG(AA10))/LOG(2))))","v":0},null,{"$f":"N10","v":122},{"$f":"COUNTIF(L24:L31,AD10)","v":1},{"$f":"AE10/(AG4-AE14)","v":0.25},{"$f":"IF(AF10=0,0,(AF10*((LOG(AF10))/LOG(2))))","v":-0.5},null,{"$f":"N10","v":122},{"$f":"COUNTIF(L32:L39,AI10)","v":0},{"$f":"AJ10/(AL4-AJ14)","v":0},{"$f":"IF(AK10=0,0,(AK10*((LOG(AK10))/LOG(2))))","v":0},null,{"$f":"N10","v":122},{"$f":"COUNTIF(L40:L48,AN10)","v":0},{"$f":"AO10/(AQ4-AO14)","v":0},{"$f":"IF(AP10=0,0,(AP10*((LOG(AP10))/LOG(2))))","v":0},null,{"$f":"N10","v":122},{"$f":"COUNTIF(L49:L56,AS10)","v":0},{"$f":"AT10/(AV4-AT14)","v":0},{"$f":"IF(AU10=0,0,(AU10*((LOG(AU10))/LOG(2))))","v":0}]
[21,1327,21,1331,21,1337,null,null,null,null,0,222,null,211,{"$f":"COUNTIF($L$7:$L$500,N11)","v":1},{"$f":"O11/$Q$4","v":0.02},{"$f":"IF(P11=0,0,(P11*((LOG(P11))/LOG(2))))","v":-0.11287712379549449},null,null,{"$f":"N11","v":211},{"$f":"COUNTIF(L7:L14,T11)","v":0},{"$f":"U11/(W4-U14)","v":0},{"$f":"IF(V11=0,0,(V11*((LOG(V11))/LOG(2))))","v":0},null,{"$f":"N11","v":211},{"$f":"COUNTIF(L15:L23,Y11)","v":0},{"$f":"Z11/(AB4-Z14)","v":0},{"$f":"IF(AA11=0,0,(AA11*((LOG(AA11))/LOG(2))))","v":0},null,{"$f":"N11","v":211},{"$f":"COUNTIF(L24:L31,AD11)","v":1},{"$f":"AE11/(AG4-AE14)","v":0.25},{"$f":"IF(AF11=0,0,(AF11*((LOG(AF11))/LOG(2))))","v":-0.5},null,{"$f":"N11","v":211},{"$f":"COUNTIF(L32:L39,AI11)","v":0},{"$f":"AJ11/(AL4-AJ14)","v":0},{"$f":"IF(AK11=0,0,(AK11*((LOG(AK11))/LOG(2))))","v":0},null,{"$f":"N11","v":211},{"$f":"COUNTIF(L40:L48,AN11)","v":0},{"$f":"AO11/(AQ4-AO14)","v":0},{"$f":"IF(AP11=0,0,(AP11*((LOG(AP11))/LOG(2))))","v":0},null,{"$f":"N11","v":211},{"$f":"COUNTIF(L49:L56,AS11)","v":0},{"$f":"AT11/(AV4-AT14)","v":0},{"$f":"IF(AU11=0,0,(AU11*((LOG(AU11))/LOG(2))))","v":0}]
[21,1451,21,1455,21,1489,null,null,null,null,0,222,null,212,{"$f":"COUNTIF($L$7:$L$500,N12)","v":6},{"$f":"O12/$Q$4","v":0.12},{"$f":"IF(P12=0,0,(P12*((LOG(P12))/LOG(2))))","v":-0.36706724268642821},null,null,{"$f":"N12","v":212},{"$f":"COUNTIF(L7:L14,T12)","v":1},{"$f":"U12/(W4-U14)","v":1},{"$f":"IF(V12=0,0,(V12*((LOG(V12))/LOG(2))))","v":0},null,{"$f":"N12","v":212},{"$f":"COUNTIF(L15:L23,Y12)","v":3},{"$f":"Z12/(AB4-Z14)","v":1},{"$f":"IF(AA12=0,0,(AA12*((LOG(AA12))/LOG(2))))","v":0},null,{"$f":"N12","v":212},{"$f":"COUNTIF(L24:L31,AD12)","v":0},{"$f":"AE12/(AG4-AE14)","v":0},{"$f":"IF(AF12=0,0,(AF12*((LOG(AF12))/LOG(2))))","v":0},null,{"$f":"N12","v":212},{"$f":"COUNTIF(L32:L39,AI12)","v":1},{"$f":"AJ12/(AL4-AJ14)","v":1},{"$f":"IF(AK12=0,0,(AK12*((LOG(AK12))/LOG(2))))","v":0},null,{"$f":"N12","v":212},{"$f":"COUNTIF(L40:L48,AN12)","v":1},{"$f":"AO12/(AQ4-AO14)","v":1},{"$f":"IF(AP12=0,0,(AP12*((LOG(AP12))/LOG(2))))","v":0},null,{"$f":"N12","v":212},{"$f":"COUNTIF(L49:L56,AS12)","v":0},{"$f":"AT12/(AV4-AT14)","v":0},{"$f":"IF(AU12=0,0,(AU12*((LOG(AU12))/LOG(2))))","v":0}]
[21,1581,21,1591,21,1611,null,null,null,null,0,222,null,221,{"$f":"COUNTIF($L$7:$L$500,N13)","v":1},{"$f":"O13/$Q$4","v":0.02},{"$f":"IF(P13=0,0,(P13*((LOG(P13))/LOG(2))))","v":-0.11287712379549449},null,null,{"$f":"N13","v":221},{"$f":"COUNTIF(L7:L14,T13)","v":0},{"$f":"U13/(W4-U14)","v":0},{"$f":"IF(V13=0,0,(V13*((LOG(V13))/LOG(2))))","v":0},null,{"$f":"N13","v":221},{"$f":"COUNTIF(L15:L23,Y13)","v":0},{"$f":"Z13/(AB4-Z14)","v":0},{"$f":"IF(AA13=0,0,(AA13*((LOG(AA13))/LOG(2))))","v":0},null,{"$f":"N13","v":221},{"$f":"COUNTIF(L24:L31,AD13)","v":0},{"$f":"AE13/(AG4-AE14)","v":0},{"$f":"IF(AF13=0,0,(AF13*((LOG(AF13))/LOG(2))))","v":0},null,{"$f":"N13","v":221},{"$f":"COUNTIF(L32:L39,AI13)","v":0},{"$f":"AJ13/(AL4-AJ14)","v":0},{"$f":"IF(AK13=0,0,(AK13*((LOG(AK13))/LOG(2))))","v":0},null,{"$f":"N13","v":221},{"$f":"COUNTIF(L40:L48,AN13)","v":0},{"$f":"AO13/(AQ4-AO14)","v":0},{"$f":"IF(AP13=0,0,(AP13*((LOG(AP13))/LOG(2))))","v":0},null,{"$f":"N13","v":221},{"$f":"COUNTIF(L49:L56,AS13)","v":1},{"$f":"AT13/(AV4-AT14)","v":1},{"$f":"IF(AU13=0,0,(AU13*((LOG(AU13))/LOG(2))))","v":0}]
[21,1749,21,1759,21,1825,null,null,null,null,0,222,null,222,{"$f":"COUNTIF($L$7:$L$500,N14)","v":39},{"$f":"O14/$Q$4","v":0.78},{"$f":"IF(P14=0,0,(P14*((LOG(P14))/LOG(2))))","v":-0.27959409731173152},null,null,{"$f":"N14","v":222},{"$f":"COUNTIF(L7:L14,T14)","v":7},null,null,null,{"$f":"N14","v":222},{"$f":"COUNTIF(L15:L23,Y14)","v":6},null,null,null,{"$f":"N14","v":222},{"$f":"COUNTIF(L24:L31,AD14)","v":4},null,null,null,{"$f":"N14","v":222},{"$f":"COUNTIF(L32:L39,AI14)","v":7},null,null,null,{"$f":"N14","v":222},{"$f":"COUNTIF(L40:L48,AN14)","v":8},null,null,null,{"$f":"N14","v":222},{"$f":"COUNTIF(L49:L56,AS14)","v":7}]
[21,1918,12,1932,23,1946,null,null,null,null,0,212,null,null,null,{"$f":"SUM(P7:P14)","v":1},{"$f":"-SUM(Q7:Q14)","v":1.1710469589756323},null,null,null,null,{"$f":"SUM(V7:V14)","v":1},{"$f":"-SUM(W7:W14)","v":0},null,null,null,{"$f":"SUM(AA7:AA14)","v":1},{"$f":"-SUM(AB7:AB14)","v":0},null,null,null,{"$f":"SUM(AF7:AF14)","v":1},{"$f":"-SUM(AG7:AG14)","v":1.5},null,null,null,{"$f":"SUM(AK7:AK14)","v":1},{"$f":"-SUM(AL7:AL14)","v":0},null,null,null,{"$f":"SUM(AP7:AP14)","v":1},{"$f":"-SUM(AQ7:AQ14)","v":0},null,null,null,{"$f":"SUM(AU7:AU14)","v":1},{"$f":"-SUM(AV7:AV14)","v":0}]
[21,2046,21,2050,21,2060,null,null,null,null,0,222,null,null,null,"U=",{"$f":"Q15/(LOG(Q4)/LOG(2))","v":0.2074905737494305},null,null,null,null,"U1=",{"$f":"W15/(LOG(W4)/LOG(2))","v":0},null,null,null,"U2=",{"$f":"AB15/(LOG(AB4)/LOG(2))","v":0},null,null,null,"U3=",{"$f":"AG15/(LOG(AG4)/LOG(2))","v":0.5},null,null,null,"U4=",{"$f":"AL15/(LOG(AL4)/LOG(2))","v":0},null,null,null,"U5=",{"$f":"AQ15/(LOG(AQ4)/LOG(2))","v":0},null,null,null,"U6=",{"$f":"AV15/(LOG(AV4)/LOG(2))","v":0}]
[21,2152,21,2160,21,2178,null,null,null,null,0,222]
[21,2456,21,2469,21,2473,null,null,null,null,0,222]
[21,2562,12,2584,23,2586,null,null,null,null,0,212,null,"Total Target Seq"]
[21,2690,21,2699,21,2714,null,null,null,null,0,222,null,{"$f":"COUNTIF(L7:L56,G3)","v":39},null,8,9,8,8,9,8]
[21,2840,21,2842,21,2846,null,null,null,null,0,222,null,null,null,"% of reinforcement given in 6 equal intervals based on number of trials "]
[21,2986,12,2994,23,2999,null,null,null,null,0,212,null,null,null,"%_1","%_2","%_3","%_4","%_5","%_6"]
[21,3109,21,3114,21,3123,null,null,null,null,0,222,null,null,"target sequence",{"$f":"$G$3","v":222},{"$f":"$G$3","v":222},{"$f":"$G$3","v":222},{"$f":"$G$3","v":222},{"$f":"$G$3","v":222},{"$f":"$G$3","v":222}]
[21,3433,21,3435,21,3440,null,null,null,null,0,222,null,null,"total reinforcement",{"$f":"U14","v":7},{"$f":"Z14","v":6},{"$f":"AE14","v":4},{"$f":"AJ14","v":7},{"$f":"AO14","v":8},{"$f":"AT14","v":7}]
[12,3535,23,3539,23,3545,null,null,null,null,0,122,null,null,"% target"]
[12,3648,14,3668,14,3680,null,null,null,null,0,111,null,null,"CCRF"]
[21,3799,21,3802,21,3805,null,null,null,null,0,222,null,null,"% CCRf"]
[12,3902,14,3921,14,3927,null,null,null,null,0,111,null,null,"average response rate",{"$f":"F14/P20","v":228.125},{"$f":"(F23-F14)/Q20","v":144.22222222222223},{"$f":"(F31-F23)/R20","v":168.5},{"$f":"(F39-F31)/S20","v":246.25},{"$f":"(F48-F39)/T20","v":235.55555555555554},{"$f":"(F56-F48)/U20","v":213.125}]
[21,4025,12,4032,14,4061,null,null,null,null,0,211]
[21,4231,21,4240,21,4244,null,null,null,null,0,222]
[21,4460,21,4466,21,4471,null,null,null,null,0,222]
[21,4806,21,4825,21,4828,null,null,null,null,0,222]
[21,4980,21,4984,21,5015,null,null,null,null,0,222]
[21,5261,21,5264,21,5268,null,null,null,null,0,222]
[21,5682,21,5685,21,5689,null,null,null,null,0,222]
[21,5899,12,5934,23,5944,null,null,null,null,0,212]
[21,6037,21,6042,21,6047,null,null,null,null,0,222]
[21,6163,21,6172,21,6185,null,null,null,null,0,222]
[21,6403,21,6407,21,6441,null,null,null,null,0,222]
[21,6676,12,6681,23,6697,null,null,null,null,0,212]
[21,6818,21,6822,21,6827,null,null,null,null,0,222]
[21,7087,21,7092,21,7098,null,null,null,null,0,222]
[21,7354,21,7357,21,7375,null,null,null,null,0,222]
[21,7553,21,7558,21,7565,null,null,null,null,0,222]
[21,7716,21,7722,21,7729,null,null,null,null,0,222]
[21,7947,21,7953,21,8195,null,null,null,null,0,222]
[21,8384,21,8395,21,8439,null,null,null,null,0,222]
[21,8555,21,8559,21,8561,null,null,null,null,0,222]
[21,8921,21,8924,12,8961,null,null,null,null,0,221]
[21,9072,21,9078,21,9081,null,null,null,null,0,222]
[21,9181,21,9187,21,9191,null,null,null,null,0,222]
[21,9452,21,9455,21,9460,null,null,null,null,0,222]
[21,9595,21,9602,21,9607,null,null,null,null,0,222]
[21,9719,21,9727,21,9732,null,null,null,null,0,222]
[21,10013,21,10024,21,10027,null,null,null,null,0,222]
[21,10260,21,10264,21,10266,null,null,null,null,1,222]

{"sheet":"!N120A2B.AXT","index":30,"n_rows":51,"n_cols":48,"rows_kept":51,"cut":false,"hidden":false,"merged":[[4,39,4,42],[5,39,5,40],[4,44,4,47],[5,44,5,45],[4,24,4,27],[5,24,5,25],[4,29,4,32],[5,29,5,30],[4,34,4,37],[5,34,5,35],[1,1,1,2],[5,13,5,14],[18,13,18,14],[19,13,19,14],[4,19,4,22],[5,19,5,20]]}
["Report for:!N120A2B.AXT"]
["Date:","<date>"]
["Hen:","<hen>",null,null,null,"Correct Sequence",{"$f":"Start!J2","v":222},null,null,null,null,null,null,null,null,"Total Sequences in Data",{"$f":"4994-COUNTBLANK(L7:L5000)","v":45},null,null,null,null,"Total Sequences in Block Data",{"$f":"COUNTA(L7:L14)","v":8},null,null,null,"Total Sequences in Block Data",{"$f":"COUNTA(L15:L21)","v":7},null,null,null,"Total Sequences in Block Data",{"$f":"COUNTA(L22:L29)","v":8},null,null,null,"Total Sequences in Block Data",{"$f":"COUNTA(L30:L36)","v":7},null,null,null,"Total Sequences in Block Data",{"$f":"COUNTA(L37:L44)","v":8},null,null,null,"Total Sequences in Block Data",{"$f":"COUNTA(L45:L51)","v":7}]
[null,null,null,null,null,null,null,null,null,null,null,null,null,null,null,"Total Sequences in Summary",{"$f":"SUM(O7:O14)","v":45},null,null,null,null,"Total Sequences in Block Summary",{"$f":"SUM(U7:U14)","v":8},null,null,null,"Total Sequences in Block Summary",{"$f":"SUM(Z7:Z14)","v":7},null,null,null,"Total Sequences in Block Summary",{"$f":"SUM(AE7:AE14)","v":8},null,null,null,"Total Sequences in Block Summary",{"$f":"SUM(AJ7:AJ14)","v":7},null,null,null,"Total Sequences in Block Summary",{"$f":"SUM(AO7:AO14)","v":8},null,null,null,"Total Sequences in Block Summary",{"$f":"SUM(AT7:AT14)","v":7}]
[null,null,null,null,null,null,null,null,null,null,null,null,null,null,null,null,null,null,null,"Block 1",null,null,null,null,"Block 2",null,null,null,null,"Block 3",null,null,null,null,"Block 4",null,null,null,null,"Block 5",null,null,null,null,"Block 6"]
["Sequence\nComponent\n1","Time\n1","Sequence\nComponent\n2","Time\n2","Sequence\nComponent\n3","Time\n3","Sequence\nComponent\n4","Time\n4","Sequence\nComponent\n5","Time\n5","Correct?\n0=No 1=Yes","Sequence",null,"Frequency",null,"Relative Frequency","Variability",null,null,"Frequency",null,"Relative Frequency","Variability",null,"Frequency",null,"Relative Frequency","Variability",null,"Frequency",null,"Relative Frequency","Variability",null,"Frequency",null,"Relative Frequency","Variability",null,"Frequency",null,"Relative Frequency","Variability",null,"Frequency",null,"Relative Frequency","Variability"]
[12,3,14,17,14,22,null,null,null,null,0,111,null,111,{"$f":"COUNTIF($L$7:$L$500,N7)","v":1},{"$f":"O7/$Q$4","v":2.2222222222222223E-2},{"$f":"IF(P7=0,0,(P7*((LOG(P7))/LOG(2))))","v":-0.12204117991843723},null,null,{"$f":"N7","v":111},{"$f":"COUNTIF(L7:L14,T7)","v":1},{"$f":"U7/(W4-U14)","v":1},{"$f":"IF(V7=0,0,(V7*((LOG(V7))/LOG(2))))","v":0},null,{"$f":"N7","v":111},{"$f":"COUNTIF(L15:L21,Y7)","v":0},{"$f":"Z7/(AB4-Z14)","v":0},{"$f":"IF(AA7=0,0,(AA7*((LOG(AA7))/LOG(2))))","v":0},null,{"$f":"N7","v":111},{"$f":"COUNTIF(L22:L29,AD7)","v":0},{"$f":"AE7/(AG4-AE14)","v":0},{"$f":"IF(AF7=0,0,(AF7*((LOG(AF7))/LOG(2))))","v":0},null,{"$f":"N7","v":111},{"$f":"COUNTIF(L30:L36,AI7)","v":0},{"$f":"AJ7/(AL4-AJ14)","v":{"$error":"#DIV/0!"}},{"$f":"IF(AK7=0,0,(AK7*((LOG(AK7))/LOG(2))))","v":{"$error":"#DIV/0!"}},null,{"$f":"N7","v":111},{"$f":"COUNTIF(L37:L44,AN7)","v":0},{"$f":"AO7/(AQ4-AO14)","v":{"$error":"#DIV/0!"}},{"$f":"IF(AP7=0,0,(AP7*((LOG(AP7))/LOG(2))))","v":{"$error":"#DIV/0!"}},null,{"$f":"N7","v":111},{"$f":"COUNTIF(L45:L51,AS7)","v":0},{"$f":"AT7/(AV4-AT14)","v":{"$error":"#DIV/0!"}},{"$f":"IF(AU7=0,0,(AU7*((LOG(AU7))/LOG(2))))","v":{"$error":"#DIV/0!"}}]
[21,153,21,158,21,196,null,null,null,null,0,222,null,112,{"$f":"COUNTIF($L$7:$L$500,N8)","v":0},{"$f":"O8/$Q$4","v":0},{"$f":"IF(P8=0,0,(P8*((LOG(P8))/LOG(2))))","v":0},null,null,{"$f":"N8","v":112},{"$f":"COUNTIF(L7:L14,T8)","v":0},{"$f":"U8/(W4-U14)","v":0},{"$f":"IF(V8=0,0,(V8*((LOG(V8))/LOG(2))))","v":0},null,{"$f":"N8","v":112},{"$f":"COUNTIF(L15:L21,Y8)","v":0},{"$f":"Z8/(AB4-Z14)","v":0},{"$f":"IF(AA8=0,0,(AA8*((LOG(AA8))/LOG(2))))","v":0},null,{"$f":"N8","v":112},{"$f":"COUNTIF(L22:L29,AD8)","v":0},{"$f":"AE8/(AG4-AE14)","v":0},{"$f":"IF(AF8=0,0,(AF8*((LOG(AF8))/LOG(2))))","v":0},null,{"$f":"N8","v":112},{"$f":"COUNTIF(L30:L36,AI8)","v":0},{"$f":"AJ8/(AL4-AJ14)","v":{"$error":"#DIV/0!"}},{"$f":"IF(AK8=0,0,(AK8*((LOG(AK8))/LOG(2))))","v":{"$error":"#DIV/0!"}},null,{"$f":"N8","v":112},{"$f":"COUNTIF(L37:L44,AN8)","v":0},{"$f":"AO8/(AQ4-AO14)","v":{"$error":"#DIV/0!"}},{"$f":"IF(AP8=0,0,(AP8*((LOG(AP8))/LOG(2))))","v":{"$error":"#DIV/0!"}},null,{"$f":"N8","v":112},{"$f":"COUNTIF(L45:L51,AS8)","v":0},{"$f":"AT8/(AV4-AT14)","v":{"$error":"#DIV/0!"}},{"$f":"IF(AU8=0,0,(AU8*((LOG(AU8))/LOG(2))))","v":{"$error":"#DIV/0!"}}]
[21,443,21,461,21,464,null,null,null,null,0,222,null,121,{"$f":"COUNTIF($L$7:$L$500,N9)","v":0},{"$f":"O9/$Q$4","v":0},{"$f":"IF(P9=0,0,(P9*((LOG(P9))/LOG(2))))","v":0},null,null,{"$f":"N9","v":121},{"$f":"COUNTIF(L7:L14,T9)","v":0},{"$f":"U9/(W4-U14)","v":0},{"$f":"IF(V9=0,0,(V9*((LOG(V9))/LOG(2))))","v":0},null,{"$f":"N9","v":121},{"$f":"COUNTIF(L15:L21,Y9)","v":0},{"$f":"Z9/(AB4-Z14)","v":0},{"$f":"IF(AA9=0,0,(AA9*((LOG(AA9))/LOG(2))))","v":0},null,{"$f":"N9","v":121},{"$f":"COUNTIF(L22:L29,AD9)","v":0},{"$f":"AE9/(AG4-AE14)","v":0},{"$f":"IF(AF9=0,0,(AF9*((LOG(AF9))/LOG(2))))","v":0},null,{"$f":"N9","v":121},{"$f":"COUNTIF(L30:L36,AI9)","v":0},{"$f":"AJ9/(AL4-AJ14)","v":{"$error":"#DIV/0!"}},{"$f":"IF(AK9=0,0,(AK9*((LOG(AK9))/LOG(2))))","v":{"$error":"#DIV/0!"}},null,{"$f":"N9","v":121},{"$f":"COUNTIF(L37:L44,AN9)","v":0},{"$f":"AO9/(AQ4-AO14)","v":{"$error":"#DIV/0!"}},{"$f":"IF(AP9=0,0,(AP9*((LOG(AP9))/LOG(2))))","v":{"$error":"#DIV/0!"}},null,{"$f":"N9","v":121},{"$f":"COUNTIF(L45:L51,AS9)","v":0},{"$f":"AT9/(AV4-AT14)","v":{"$error":"#DIV/0!"}},{"$f":"IF(AU9=0,0,(AU9*((LOG(AU9))/LOG(2))))","v":{"$error":"#DIV/0!"}}]
[21,578,21,582,21,585,null,null,null,null,0,222,null,122,{"$f":"COUNTIF($L$7:$L$500,N10)","v":1},{"$f":"O10/$Q$4","v":2.2222222222222223E-2},{"$f":"IF(P10=0,0,(P10*((LOG(P10))/LOG(2))))","v":-0.12204117991843723},null,null,{"$f":"N10","v":122},{"$f":"COUNTIF(L7:L14,T10)","v":0},{"$f":"U10/(W4-U14)","v":0},{"$f":"IF(V10=0,0,(V10*((LOG(V10))/LOG(2))))","v":0},null,{"$f":"N10","v":122},{"$f":"COUNTIF(L15:L21,Y10)","v":0},{"$f":"Z10/(AB4-Z14)","v":0},{"$f":"IF(AA10=0,0,(AA10*((LOG(AA10))/LOG(2))))","v":0},null,{"$f":"N10","v":122},{"$f":"COUNTIF(L22:L29,AD10)","v":1},{"$f":"AE10/(AG4-AE14)","v":0.33333333333333331},{"$f":"IF(AF10=0,0,(AF10*((LOG(AF10))/LOG(2))))","v":-0.52832083357371862},null,{"$f":"N10","v":122},{"$f":"COUNTIF(L30:L36,AI10)","v":0},{"$f":"AJ10/(AL4-AJ14)","v":{"$error":"#DIV/0!"}},{"$f":"IF(AK10=0,0,(AK10*((LOG(AK10))/LOG(2))))","v":{"$error":"#DIV/0!"}},null,{"$f":"N10","v":122},{"$f":"COUNTIF(L37:L44,AN10)","v":0},{"$f":"AO10/(AQ4-AO14)","v":{"$error":"#DIV/0!"}},{"$f":"IF(AP10=0,0,(AP10*((LOG(AP10))/LOG(2))))","v":{"$error":"#DIV/0!"}},null,{"$f":"N10","v":122},{"$f":"COUNTIF(L45:L51,AS10)","v":0},{"$f":"AT10/(AV4-AT14)","v":{"$error":"#DIV/0!"}},{"$f":"IF(AU10=0,0,(AU10*((LOG(AU10))/LOG(2))))","v":{"$error":"#DIV/0!"}}]
[21,673,21,677,21,680,null,null,null,null,0,222,null,211,{"$f":"COUNTIF($L$7:$L$500,N11)","v":0},{"$f":"O11/$Q$4","v":0},{"$f":"IF(P11=0,0,(P11*((LOG(P11))/LOG(2))))","v":0},null,null,{"$f":"N11","v":211},{"$f":"COUNTIF(L7:L14,T11)","v":0},{"$f":"U11/(W4-U14)","v":0},{"$f":"IF(V11=0,0,(V11*((LOG(V11))/LOG(2))))","v":0},null,{"$f":"N11","v":211},{"$f":"COUNTIF(L15:L21,Y11)","v":0},{"$f":"Z11/(AB4-Z14)","v":0},{"$f":"IF(AA11=0,0,(AA11*((LOG(AA11))/LOG(2))))","v":0},null,{"$f":"N11","v":211},{"$f":"COUNTIF(L22:L29,AD11)","v":0},{"$f":"AE11/(AG4-AE14)","v":0},{"$f":"IF(AF11=0,0,(AF11*((LOG(AF11))/LOG(2))))","v":0},null,{"$f":"N11","v":211},{"$f":"COUNTIF(L30:L36,AI11)","v":0},{"$f":"AJ11/(AL4-AJ14)","v":{"$error":"#DIV/0!"}},{"$f":"IF(AK11=0,0,(AK11*((LOG(AK11))/LOG(2))))","v":{"$error":"#DIV/0!"}},null,{"$f":"N11","v":211},{"$f":"COUNTIF(L37:L44,AN11)","v":0},{"$f":"AO11/(AQ4-AO14)","v":{"$error":"#DIV/0!"}},{"$f":"IF(AP11=0,0,(AP11*((LOG(AP11))/LOG(2))))","v":{"$error":"#DIV/0!"}},null,{"$f":"N11","v":211},{"$f":"COUNTIF(L45:L51,AS11)","v":0},{"$f":"AT11/(AV4-AT14)","v":{"$error":"#DIV/0!"}},{"$f":"IF(AU11=0,0,(AU11*((LOG(AU11))/LOG(2))))","v":{"$error":"#DIV/0!"}}]
[21,769,21,776,21,781,null,null,null,null,0,222,null,212,{"$f":"COUNTIF($L$7:$L$500,N12)","v":1},{"$f":"O12/$Q$4","v":2.2222222222222223E-2},{"$f":"IF(P12=0,0,(P12*((LOG(P12))/LOG(2))))","v":-0.12204117991843723},null,null,{"$f":"N12","v":212},{"$f":"COUNTIF(L7:L14,T12)","v":0},{"$f":"U12/(W4-U14)","v":0},{"$f":"IF(V12=0,0,(V12*((LOG(V12))/LOG(2))))","v":0},null,{"$f":"N12","v":212},{"$f":"COUNTIF(L15:L21,Y12)","v":1},{"$f":"Z12/(AB4-Z14)","v":1},{"$f":"IF(AA12=0,0,(AA12*((LOG(AA12))/LOG(2))))","v":0},null,{"$f":"N12","v":212},{"$f":"COUNTIF(L22:L29,AD12)","v":0},{"$f":"AE12/(AG4-AE14)","v":0},{"$f":"IF(AF12=0,0,(AF12*((LOG(AF12))/LOG(2))))","v":0},null,{"$f":"N12","v":212},{"$f":"COUNTIF(L30:L36,AI12)","v":0},{"$f":"AJ12/(AL4-AJ14)","v":{"$error":"#DIV/0!"}},{"$f":"IF(AK12=0,0,(AK12*((LOG(AK12))/LOG(2))))","v":{"$error":"#DIV/0!"}},null,{"$f":"N12","v":212},{"$f":"COUNTIF(L37:L44,AN12)","v":0},{"$f":"AO12/(AQ4-AO14)","v":{"$error":"#DIV/0!"}},{"$f":"IF(AP12=0,0,(AP12*((LOG(AP12))/LOG(2))))","v":{"$error":"#DIV/0!"}},null,{"$f":"N12","v":212},{"$f":"COUNTIF(L45:L51,AS12)","v":0},{"$f":"AT12/(AV4-AT14)","v":{"$error":"#DIV/0!"}},{"$f":"IF(AU12=0,0,(AU12*((LOG(AU12))/LOG(2))))","v":{"$error":"#DIV/0!"}}]
[21,968,21,973,21,977,null,null,null,null,0,222,null,221,{"$f":"COUNTIF($L$7:$L$500,N13)","v":2},{"$f":"O13/$Q$4","v":4.4444444444444446E-2},{"$f":"IF(P13=0,0,(P13*((LOG(P13))/LOG(2))))","v":-0.19963791539243},null,null,{"$f":"N13","v":221},{"$f":"COUNTIF(L7:L14,T13)","v":0},{"$f":"U13/(W4-U14)","v":0},{"$f":"IF(V13=0,0,(V13*((LOG(V13))/LOG(2))))","v":0},null,{"$f":"N13","v":221},{"$f":"COUNTIF(L15:L21,Y13)","v":0},{"$f":"Z13/(AB4-Z14)","v":0},{"$f":"IF(AA13=0,0,(AA13*((LOG(AA13))/LOG(2))))","v":0},null,{"$f":"N13","v":221},{"$f":"COUNTIF(L22:L29,AD13)","v":2},{"$f":"AE13/(AG4-AE14)","v":0.66666666666666663},{"$f":"IF(AF13=0,0,(AF13*((LOG(AF13))/LOG(2))))","v":-0.38997500048077083},null,{"$f":"N13","v":221},{"$f":"COUNTIF(L30:L36,AI13)","v":0},{"$f":"AJ13/(AL4-AJ14)","v":{"$error":"#DIV/0!"}},{"$f":"IF(AK13=0,0,(AK13*((LOG(AK13))/LOG(2))))","v":{"$error":"#DIV/0!"}},null,{"$f":"N13","v":221},{"$f":"COUNTIF(L37:L44,AN13)","v":0},{"$f":"AO13/(AQ4-AO14)","v":{"$error":"#DIV/0!"}},{"$f":"IF(AP13=0,0,(AP13*((LOG(AP13))/LOG(2))))","v":{"$error":"#DIV/0!"}},null,{"$f":"N13","v":221},{"$f":"COUNTIF(L45:L51,AS13)","v":0},{"$f":"AT13/(AV4-AT14)","v":{"$error":"#DIV/0!"}},{"$f":"IF(AU13=0,0,(AU13*((LOG(AU13))/LOG(2))))","v":{"$error":"#DIV/0!"}}]
[21,1070,21,1073,21,1077,null,null,null,null,0,222,null,222,{"$f":"COUNTIF($L$7:$L$500,N14)","v":40},{"$f":"O14/$Q$4","v":0.88888888888888884},{"$f":"IF(P14=0,0,(P14*((LOG(P14))/LOG(2))))","v":-0.15104444572649992},null,null,{"$f":"N14","v":222},{"$f":"COUNTIF(L7:L14,T14)","v":7},null,null,null,{"$f":"N14","v":222},{"$f":"COUNTIF(L15:L21,Y14)","v":6},null,null,null,{"$f":"N14","v":222},{"$f":"COUNTIF(L22:L29,AD14)","v":5},null,null,null,{"$f":"N14","v":222},{"$f":"COUNTIF(L30:L36,AI14)","v":7},null,null,null,{"$f":"N14","v":222},{"$f":"COUNTIF(L37:L44,AN14)","v":8},null,null,null,{"$f":"N14","v":222},{"$f":"COUNTIF(L45:L51,AS14)","v":7}]
[21,1193,21,1197,21,1201,null,null,null,null,0,222,null,null,null,{"$f":"SUM(P7:P14)","v":1},{"$f":"-SUM(Q7:Q14)","v":0.71680590087424156},null,null,null,null,{"$f":"SUM(V7:V14)","v":1},{"$f":"-SUM(W7:W14)","v":0},null,null,null,{"$f":"SUM(AA7:AA14)","v":1},{"$f":"-SUM(AB7:AB14)","v":0},null,null,null,{"$f":"SUM(AF7:AF14)","v":1},{"$f":"-SUM(AG7:AG14)","v":0.91829583405448945},null,null,null,{"$f":"SUM(AK7:AK14)","v":{"$error":"#DIV/0!"}},{"$f":"-SUM(AL7:AL14)","v":{"$error":"#DIV/0!"}},null,null,null,{"$f":"SUM(AP7:AP14)","v":{"$error":"#DIV/0!"}},{"$f":"-SUM(AQ7:AQ14)","v":{"$error":"#DIV/0!"}},null,null,null,{"$f":"SUM(AU7:AU14)","v":{"$error":"#DIV/0!"}},{"$f":"-SUM(AV7:AV14)","v":{"$error":"#DIV/0!"}}]
[21,1306,21,1319,21,1331,null,null,null,null,0,222,null,null,null,"U=",{"$f":"Q15/(LOG(Q4)/LOG(2))","v":0.13052168153465332},null,null,null,null,"U1=",{"$f":"W15/(LOG(W4)/LOG(2))","v":0},null,null,null,"U2=",{"$f":"AB15/(LOG(AB4)/LOG(2))","v":0},null,null,null,"U3=",{"$f":"AG15/(LOG(AG4)/LOG(2))","v":0.30609861135149646},null,null,null,"U4=",{"$f":"AL15/(LOG(AL4)/LOG(2))","v":{"$error":"#DIV/0!"}},null,null,null,"U5=",{"$f":"AQ15/(LOG(AQ4)/LOG(2))","v":{"$error":"#DIV/0!"}},null,null,null,"U6=",{"$f":"AV15/(LOG(AV4)/LOG(2))","v":{"$error":"#DIV/0!"}}]
[21,1421,12,1423,23,1454,null,null,null,null,0,212]
[21,1553,21,1565,21,1581,null,null,null,null,0,222]
[21,1692,21,1695,21,1698,null,null,null,null,0,222,null,"Total Target Seq"]
[21,1815,21,1818,21,1826,null,null,null,null,0,222,null,{"$f":"COUNTIF(L7:L51,G3)","v":40},null,8,7,8,7,8,7]
[21,2037,21,2043,21,2046,null,null,null,null,0,222,null,null,null,"% of reinforcement given in 6 equal intervals based on number of trials "]
[12,2146,23,2161,23,2165,null,null,null,null,0,122,null,null,null,"%_1","%_2","%_3","%_4","%_5","%_6"]
[21,2311,21,2317,21,2322,null,null,null,null,0,222,null,null,"target sequence",{"$f":"$G$3","v":222},{"$f":"$G$3","v":222},{"$f":"$G$3","v":222},{"$f":"$G$3","v":222},{"$f":"$G$3","v":222},{"$f":"$G$3","v":222}]
[21,2454,21,2459,21,2462,null,null,null,null,0,222,null,null,"total reinforcement",{"$f":"U14","v":7},{"$f":"Z14","v":6},{"$f":"AE14","v":5},{"$f":"AJ14","v":7},{"$f":"AO14","v":8},{"$f":"AT14","v":7}]
[21,2568,21,2582,21,2584,null,null,null,null,0,222,null,null,"% target"]
[21,2671,21,2675,21,2679,null,null,null,null,0,222,null,null,"CCRF"]
[21,2849,21,2851,21,2856,null,null,null,null,0,222,null,null,"% CCRf"]
[21,2998,21,3002,12,3041,null,null,null,null,0,221,null,null,"average response rate",{"$f":"F14/P20","v":134.625},{"$f":"(F21-F14)/Q20","v":138.42857142857142},{"$f":"(F29-F21)/R20","v":139.875},{"$f":"(F36-F29)/S20","v":117.42857142857143},{"$f":"(F44-F36)/T20","v":142.5},{"$f":"(F51-F44)/U20","v":122.57142857142857}]
[21,3136,21,3160,12,3165,null,null,null,null,0,221]
[21,3275,21,3277,21,3280,null,null,null,null,0,222]
[21,3424,21,3428,21,3430,null,null,null,null,0,222]
[21,3534,21,3537,21,3540,null,null,null,null,0,222]
[21,3669,21,3673,21,3676,null,null,null,null,0,222]
[21,3777,21,3781,21,3783,null,null,null,null,0,222]
[21,3884,21,3886,21,3890,null,null,null,null,0,222]
[21,3980,21,3982,21,3987,null,null,null,null,0,222]
[21,4076,21,4078,21,4083,null,null,null,null,0,222]
[21,4172,21,4177,21,4182,null,null,null,null,0,222]
[21,4282,21,4286,21,4290,null,null,null,null,0,222]
[21,4425,21,4428,21,4435,null,null,null,null,0,222]
[21,4586,21,4589,21,4611,null,null,null,null,0,222]
[21,4800,21,4802,21,4805,null,null,null,null,0,222]
[21,4915,21,4922,21,4926,null,null,null,null,0,222]
[21,5119,21,5123,21,5127,null,null,null,null,0,222]
[21,5246,21,5250,21,5252,null,null,null,null,0,222]
[21,5373,21,5377,21,5415,null,null,null,null,0,222]
[21,5513,21,5515,21,5518,null,null,null,null,0,222]
[21,5613,21,5621,21,5624,null,null,null,null,0,222]
[21,5764,21,5772,21,5775,null,null,null,null,0,222]
[21,5862,21,5864,21,5866,null,null,null,null,0,222]
[21,5979,21,5983,21,5985,null,null,null,null,1,222]

{"sheet":"!N12193B.AXT","index":31,"n_rows":47,"n_cols":48,"rows_kept":47,"cut":false,"hidden":false,"merged":[[4,39,4,42],[5,39,5,40],[4,44,4,47],[5,44,5,45],[4,24,4,27],[5,24,5,25],[4,29,4,32],[5,29,5,30],[4,34,4,37],[5,34,5,35],[1,1,1,2],[5,13,5,14],[18,13,18,14],[19,13,19,14],[4,19,4,22],[5,19,5,20]]}
["Report for:!N12193B.AXT"]
["Date:","<date>"]
["Hen:","<hen>",null,null,null,"Correct Sequence",{"$f":"Start!J2","v":222},null,null,null,null,null,null,null,null,"Total Sequences in Data",{"$f":"4994-COUNTBLANK(L7:L5000)","v":41},null,null,null,null,"Total Sequences in Block Data",{"$f":"COUNTA(L7:L13)","v":7},null,null,null,"Total Sequences in Block Data",{"$f":"COUNTA(L14:L20)","v":7},null,null,null,"Total Sequences in Block Data",{"$f":"COUNTA(L21:L26)","v":6},null,null,null,"Total Sequences in Block Data",{"$f":"COUNTA(L27:L33)","v":7},null,null,null,"Total Sequences in Block Data",{"$f":"COUNTA(L34:L40)","v":7},null,null,null,"Total Sequences in Block Data",{"$f":"COUNTA(L41:L47)","v":7}]
[null,null,null,null,null,null,null,null,null,null,null,null,null,null,null,"Total Sequences in Summary",{"$f":"SUM(O7:O14)","v":41},null,null,null,null,"Total Sequences in Block Summary",{"$f":"SUM(U7:U14)","v":7},null,null,null,"Total Sequences in Block Summary",{"$f":"SUM(Z7:Z14)","v":7},null,null,null,"Total Sequences in Block Summary",{"$f":"SUM(AE7:AE14)","v":6},null,null,null,"Total Sequences in Block Summary",{"$f":"SUM(AJ7:AJ14)","v":7},null,null,null,"Total Sequences in Block Summary",{"$f":"SUM(AO7:AO14)","v":7},null,null,null,"Total Sequences in Block Summary",{"$f":"SUM(AT7:AT14)","v":7}]
[null,null,null,null,null,null,null,null,null,null,null,null,null,null,null,null,null,null,null,"Block 1",null,null,null,null,"Block 2",null,null,null,null,"Block 3",null,null,null,null,"Block 4",null,null,null,null,"Block 5",null,null,null,null,"Block 6"]
["Sequence\nComponent\n1","Time\n1","Sequence\nComponent\n2","Time\n2","Sequence\nComponent\n3","Time\n3","Sequence\nComponent\n4","Time\n4","Sequence\nComponent\n5","Time\n5","Correct?\n0=No 1=Yes","Sequence",null,"Frequency",null,"Relative Frequency","Variability",null,null,"Frequency",null,"Relative Frequency","Variability",null,"Frequency",null,"Relative Frequency","Variability",null,"Frequency",null,"Relative Frequency","Variability",null,"Frequency",null,"Relative Frequency","Variability",null,"Frequency",null,"Relative Frequency","Variability",null,"Frequency",null,"Relative Frequency","Variability"]
[12,11,23,29,14,42,null,null,null,null,0,121,null,111,{"$f":"COUNTIF($L$7:$L$500,N7)","v":0},{"$f":"O7/$Q$4","v":0},{"$f":"IF(P7=0,0,(P7*((LOG(P7))/LOG(2))))","v":0},null,null,{"$f":"N7","v":111},{"$f":"COUNTIF(L7:L13,T7)","v":0},{"$f":"U7/(W4-U14)","v":0},{"$f":"IF(V7=0,0,(V7*((LOG(V7))/LOG(2))))","v":0},null,{"$f":"N7","v":111},{"$f":"COUNTIF(L14:L20,Y7)","v":0},{"$f":"Z7/(AB4-Z14)","v":{"$error":"#DIV/0!"}},{"$f":"IF(AA7=0,0,(AA7*((LOG(AA7))/LOG(2))))","v":{"$error":"#DIV/0!"}},null,{"$f":"N7","v":111},{"$f":"COUNTIF(L21:L26,AD7)","v":0},{"$f":"AE7/(AG4-AE14)","v":{"$error":"#DIV/0!"}},{"$f":"IF(AF7=0,0,(AF7*((LOG(AF7))/LOG(2))))","v":{"$error":"#DIV/0!"}},null,{"$f":"N7","v":111},{"$f":"COUNTIF(L27:L33,AI7)","v":0},{"$f":"AJ7/(AL4-AJ14)","v":{"$error":"#DIV/0!"}},{"$f":"IF(AK7=0,0,(AK7*((LOG(AK7))/LOG(2))))","v":{"$error":"#DIV/0!"}},null,{"$f":"N7","v":111},{"$f":"COUNTIF(L34:L40,AN7)","v":0},{"$f":"AO7/(AQ4-AO14)","v":{"$error":"#DIV/0!"}},{"$f":"IF(AP7=0,0,(AP7*((LOG(AP7))/LOG(2))))","v":{"$error":"#DIV/0!"}},null,{"$f":"N7","v":111},{"$f":"COUNTIF(L41:L47,AS7)","v":0},{"$f":"AT7/(AV4-AT14)","v":{"$error":"#DIV/0!"}},{"$f":"IF(AU7=0,0,(AU7*((LOG(AU7))/LOG(2))))","v":{"$error":"#DIV/0!"}}]
[21,137,21,141,21,148,null,null,null,null,0,222,null,112,{"$f":"COUNTIF($L$7:$L$500,N8)","v":0},{"$f":"O8/$Q$4","v":0},{"$f":"IF(P8=0,0,(P8*((LOG(P8))/LOG(2))))","v":0},null,null,{"$f":"N8","v":112},{"$f":"COUNTIF(L7:L13,T8)","v":0},{"$f":"U8/(W4-U14)","v":0},{"$f":"IF(V8=0,0,(V8*((LOG(V8))/LOG(2))))","v":0},null,{"$f":"N8","v":112},{"$f":"COUNTIF(L14:L20,Y8)","v":0},{"$f":"Z8/(AB4-Z14)","v":{"$error":"#DIV/0!"}},{"$f":"IF(AA8=0,0,(AA8*((LOG(AA8))/LOG(2))))","v":{"$error":"#DIV/0!"}},null,{"$f":"N8","v":112},{"$f":"COUNTIF(L21:L26,AD8)","v":0},{"$f":"AE8/(AG4-AE14)","v":{"$error":"#DIV/0!"}},{"$f":"IF(AF8=0,0,(AF8*((LOG(AF8))/LOG(2))))","v":{"$error":"#DIV/0!"}},null,{"$f":"N8","v":112},{"$f":"COUNTIF(L27:L33,AI8)","v":0},{"$f":"AJ8/(AL4-AJ14)","v":{"$error":"#DIV/0!"}},{"$f":"IF(AK8=0,0,(AK8*((LOG(AK8))/LOG(2))))","v":{"$error":"#DIV/0!"}},null,{"$f":"N8","v":112},{"$f":"COUNTIF(L34:L40,AN8)","v":0},{"$f":"AO8/(AQ4-AO14)","v":{"$error":"#DIV/0!"}},{"$f":"IF(AP8=0,0,(AP8*((LOG(AP8))/LOG(2))))","v":{"$error":"#DIV/0!"}},null,{"$f":"N8","v":112},{"$f":"COUNTIF(L41:L47,AS8)","v":0},{"$f":"AT8/(AV4-AT14)","v":{"$error":"#DIV/0!"}},{"$f":"IF(AU8=0,0,(AU8*((LOG(AU8))/LOG(2))))","v":{"$error":"#DIV/0!"}}]
[21,284,21,290,21,296,null,null,null,null,0,222,null,121,{"$f":"COUNTIF($L$7:$L$500,N9)","v":1},{"$f":"O9/$Q$4","v":2.4390243902439025E-2},{"$f":"IF(P9=0,0,(P9*((LOG(P9))/LOG(2))))","v":-0.13067200011263619},null,null,{"$f":"N9","v":121},{"$f":"COUNTIF(L7:L13,T9)","v":1},{"$f":"U9/(W4-U14)","v":1},{"$f":"IF(V9=0,0,(V9*((LOG(V9))/LOG(2))))","v":0},null,{"$f":"N9","v":121},{"$f":"COUNTIF(L14:L20,Y9)","v":0},{"$f":"Z9/(AB4-Z14)","v":{"$error":"#DIV/0!"}},{"$f":"IF(AA9=0,0,(AA9*((LOG(AA9))/LOG(2))))","v":{"$error":"#DIV/0!"}},null,{"$f":"N9","v":121},{"$f":"COUNTIF(L21:L26,AD9)","v":0},{"$f":"AE9/(AG4-AE14)","v":{"$error":"#DIV/0!"}},{"$f":"IF(AF9=0,0,(AF9*((LOG(AF9))/LOG(2))))","v":{"$error":"#DIV/0!"}},null,{"$f":"N9","v":121},{"$f":"COUNTIF(L27:L33,AI9)","v":0},{"$f":"AJ9/(AL4-AJ14)","v":{"$error":"#DIV/0!"}},{"$f":"IF(AK9=0,0,(AK9*((LOG(AK9))/LOG(2))))","v":{"$error":"#DIV/0!"}},null,{"$f":"N9","v":121},{"$f":"COUNTIF(L34:L40,AN9)","v":0},{"$f":"AO9/(AQ4-AO14)","v":{"$error":"#DIV/0!"}},{"$f":"IF(AP9=0,0,(AP9*((LOG(AP9))/LOG(2))))","v":{"$error":"#DIV/0!"}},null,{"$f":"N9","v":121},{"$f":"COUNTIF(L41:L47,AS9)","v":0},{"$f":"AT9/(AV4-AT14)","v":{"$error":"#DIV/0!"}},{"$f":"IF(AU9=0,0,(AU9*((LOG(AU9))/LOG(2))))","v":{"$error":"#DIV/0!"}}]
[21,461,21,463,21,467,null,null,null,null,0,222,null,122,{"$f":"COUNTIF($L$7:$L$500,N10)","v":0},{"$f":"O10/$Q$4","v":0},{"$f":"IF(P10=0,0,(P10*((LOG(P10))/LOG(2))))","v":0},null,null,{"$f":"N10","v":122},{"$f":"COUNTIF(L7:L13,T10)","v":0},{"$f":"U10/(W4-U14)","v":0},{"$f":"IF(V10=0,0,(V10*((LOG(V10))/LOG(2))))","v":0},null,{"$f":"N10","v":122},{"$f":"COUNTIF(L14:L20,Y10)","v":0},{"$f":"Z10/(AB4-Z14)","v":{"$error":"#DIV/0!"}},{"$f":"IF(AA10=0,0,(AA10*((LOG(AA10))/LOG(2))))","v":{"$error":"#DIV/0!"}},null,{"$f":"N10","v":122},{"$f":"COUNTIF(L21:L26,AD10)","v":0},{"$f":"AE10/(AG4-AE14)","v":{"$error":"#DIV/0!"}},{"$f":"IF(AF10=0,0,(AF10*((LOG(AF10))/LOG(2))))","v":{"$error":"#DIV/0!"}},null,{"$f":"N10","v":122},{"$f":"COUNTIF(L27:L33,AI10)","v":0},{"$f":"AJ10/(AL4-AJ14)","v":{"$error":"#DIV/0!"}},{"$f":"IF(AK10=0,0,(AK10*((LOG(AK10))/LOG(2))))","v":{"$error":"#DIV/0!"}},null,{"$f":"N10","v":122},{"$f":"COUNTIF(L34:L40,AN10)","v":0},{"$f":"AO10/(AQ4-AO14)","v":{"$error":"#DIV/0!"}},{"$f":"IF(AP10=0,0,(AP10*((LOG(AP10))/LOG(2))))","v":{"$error":"#DIV/0!"}},null,{"$f":"N10","v":122},{"$f":"COUNTIF(L41:L47,AS10)","v":0},{"$f":"AT10/(AV4-AT14)","v":{"$error":"#DIV/0!"}},{"$f":"IF(AU10=0,0,(AU10*((LOG(AU10))/LOG(2))))","v":{"$error":"#DIV/0!"}}]
[21,573,21,578,21,583,null,null,null,null,0,222,null,211,{"$f":"COUNTIF($L$7:$L$500,N11)","v":0},{"$f":"O11/$Q$4","v":0},{"$f":"IF(P11=0,0,(P11*((LOG(P11))/LOG(2))))","v":0},null,null,{"$f":"N11","v":211},{"$f":"COUNTIF(L7:L13,T11)","v":0},{"$f":"U11/(W4-U14)","v":0},{"$f":"IF(V11=0,0,(V11*((LOG(V11))/LOG(2))))","v":0},null,{"$f":"N11","v":211},{"$f":"COUNTIF(L14:L20,Y11)","v":0},{"$f":"Z11/(AB4-Z14)","v":{"$error":"#DIV/0!"}},{"$f":"IF(AA11=0,0,(AA11*((LOG(AA11))/LOG(2))))","v":{"$error":"#DIV/0!"}},null,{"$f":"N11","v":211},{"$f":"COUNTIF(L21:L26,AD11)","v":0},{"$f":"AE11/(AG4-AE14)","v":{"$error":"#DIV/0!"}},{"$f":"IF(AF11=0,0,(AF11*((LOG(AF11))/LOG(2))))","v":{"$error":"#DIV/0!"}},null,{"$f":"N11","v":211},{"$f":"COUNTIF(L27:L33,AI11)","v":0},{"$f":"AJ11/(AL4-AJ14)","v":{"$error":"#DIV/0!"}},{"$f":"IF(AK11=0,0,(AK11*((LOG(AK11))/LOG(2))))","v":{"$error":"#DIV/0!"}},null,{"$f":"N11","v":211},{"$f":"COUNTIF(L34:L40,AN11)","v":0},{"$f":"AO11/(AQ4-AO14)","v":{"$error":"#DIV/0!"}},{"$f":"IF(AP11=0,0,(AP11*((LOG(AP11))/LOG(2))))","v":{"$error":"#DIV/0!"}},null,{"$f":"N11","v":211},{"$f":"COUNTIF(L41:L47,AS11)","v":0},{"$f":"AT11/(AV4-AT14)","v":{"$error":"#DIV/0!"}},{"$f":"IF(AU11=0,0,(AU11*((LOG(AU11))/LOG(2))))","v":{"$error":"#DIV/0!"}}]
[21,702,21,706,21,710,null,null,null,null,0,222,null,212,{"$f":"COUNTIF($L$7:$L$500,N12)","v":0},{"$f":"O12/$Q$4","v":0},{"$f":"IF(P12=0,0,(P12*((LOG(P12))/LOG(2))))","v":0},null,null,{"$f":"N12","v":212},{"$f":"COUNTIF(L7:L13,T12)","v":0},{"$f":"U12/(W4-U14)","v":0},{"$f":"IF(V12=0,0,(V12*((LOG(V12))/LOG(2))))","v":0},null,{"$f":"N12","v":212},{"$f":"COUNTIF(L14:L20,Y12)","v":0},{"$f":"Z12/(AB4-Z14)","v":{"$error":"#DIV/0!"}},{"$f":"IF(AA12=0,0,(AA12*((LOG(AA12))/LOG(2))))","v":{"$error":"#DIV/0!"}},null,{"$f":"N12","v":212},{"$f":"COUNTIF(L21:L26,AD12)","v":0},{"$f":"AE12/(AG4-AE14)","v":{"$error":"#DIV/0!"}},{"$f":"IF(AF12=0,0,(AF12*((LOG(AF12))/LOG(2))))","v":{"$error":"#DIV/0!"}},null,{"$f":"N12","v":212},{"$f":"COUNTIF(L27:L33,AI12)","v":0},{"$f":"AJ12/(AL4-AJ14)","v":{"$error":"#DIV/0!"}},{"$f":"IF(AK12=0,0,(AK12*((LOG(AK12))/LOG(2))))","v":{"$error":"#DIV/0!"}},null,{"$f":"N12","v":212},{"$f":"COUNTIF(L34:L40,AN12)","v":0},{"$f":"AO12/(AQ4-AO14)","v":{"$error":"#DIV/0!"}},{"$f":"IF(AP12=0,0,(AP12*((LOG(AP12))/LOG(2))))","v":{"$error":"#DIV/0!"}},null,{"$f":"N12","v":212},{"$f":"COUNTIF(L41:L47,AS12)","v":0},{"$f":"AT12/(AV4-AT14)","v":{"$error":"#DIV/0!"}},{"$f":"IF(AU12=0,0,(AU12*((LOG(AU12))/LOG(2))))","v":{"$error":"#DIV/0!"}}]
[21,904,21,912,21,915,null,null,null,null,0,222,null,221,{"$f":"COUNTIF($L$7:$L$500,N13)","v":0},{"$f":"O13/$Q$4","v":0},{"$f":"IF(P13=0,0,(P13*((LOG(P13))/LOG(2))))","v":0},null,null,{"$f":"N13","v":221},{"$f":"COUNTIF(L7:L13,T13)","v":0},{"$f":"U13/(W4-U14)","v":0},{"$f":"IF(V13=0,0,(V13*((LOG(V13))/LOG(2))))","v":0},null,{"$f":"N13","v":221},{"$f":"COUNTIF(L14:L20,Y13)","v":0},{"$f":"Z13/(AB4-Z14)","v":{"$error":"#DIV/0!"}},{"$f":"IF(AA13=0,0,(AA13*((LOG(AA13))/LOG(2))))","v":{"$error":"#DIV/0!"}},null,{"$f":"N13","v":221},{"$f":"COUNTIF(L21:L26,AD13)","v":0},{"$f":"AE13/(AG4-AE14)","v":{"$error":"#DIV/0!"}},{"$f":"IF(AF13=0,0,(AF13*((LOG(AF13))/LOG(2))))","v":{"$error":"#DIV/0!"}},null,{"$f":"N13","v":221},{"$f":"COUNTIF(L27:L33,AI13)","v":0},{"$f":"AJ13/(AL4-AJ14)","v":{"$error":"#DIV/0!"}},{"$f":"IF(AK13=0,0,(AK13*((LOG(AK13))/LOG(2))))","v":{"$error":"#DIV/0!"}},null,{"$f":"N13","v":221},{"$f":"COUNTIF(L34:L40,AN13)","v":0},{"$f":"AO13/(AQ4-AO14)","v":{"$error":"#DIV/0!"}},{"$f":"IF(AP13=0,0,(AP13*((LOG(AP13))/LOG(2))))","v":{"$error":"#DIV/0!"}},null,{"$f":"N13","v":221},{"$f":"COUNTIF(L41:L47,AS13)","v":0},{"$f":"AT13/(AV4-AT14)","v":{"$error":"#DIV/0!"}},{"$f":"IF(AU13=0,0,(AU13*((LOG(AU13))/LOG(2))))","v":{"$error":"#DIV/0!"}}]
[21,1080,21,1084,21,1086,null,null,null,null,0,222,null,222,{"$f":"COUNTIF($L$7:$L$500,N14)","v":40},{"$f":"O14/$Q$4","v":0.97560975609756095},{"$f":"IF(P14=0,0,(P14*((LOG(P14))/LOG(2))))","v":-3.4755033883630611E-2},null,null,{"$f":"N14","v":222},{"$f":"COUNTIF(L7:L13,T14)","v":6},null,null,null,{"$f":"N14","v":222},{"$f":"COUNTIF(L14:L20,Y14)","v":7},null,null,null,{"$f":"N14","v":222},{"$f":"COUNTIF(L21:L26,AD14)","v":6},null,null,null,{"$f":"N14","v":222},{"$f":"COUNTIF(L27:L33,AI14)","v":7},null,null,null,{"$f":"N14","v":222},{"$f":"COUNTIF(L34:L40,AN14)","v":7},null,null,null,{"$f":"N14","v":222},{"$f":"COUNTIF(L41:L47,AS14)","v":7}]
[21,1174,21,1193,21,1198,null,null,null,null,0,222,null,null,null,{"$f":"SUM(P7:P14)","v":1},{"$f":"-SUM(Q7:Q14)","v":0.16542703399626679},null,null,null,null,{"$f":"SUM(V7:V14)","v":1},{"$f":"-SUM(W7:W14)","v":0},null,null,null,{"$f":"SUM(AA7:AA14)","v":{"$error":"#DIV/0!"}},{"$f":"-SUM(AB7:AB14)","v":{"$error":"#DIV/0!"}},null,null,null,{"$f":"SUM(AF7:AF14)","v":{"$error":"#DIV/0!"}},{"$f":"-SUM(AG7:AG14)","v":{"$error":"#DIV/0!"}},null,null,null,{"$f":"SUM(AK7:AK14)","v":{"$error":"#DIV/0!"}},{"$f":"-SUM(AL7:AL14)","v":{"$error":"#DIV/0!"}},null,null,null,{"$f":"SUM(AP7:AP14)","v":{"$error":"#DIV/0!"}},{"$f":"-SUM(AQ7:AQ14)","v":{"$error":"#DIV/0!"}},null,null,null,{"$f":"SUM(AU7:AU14)","v":{"$error":"#DIV/0!"}},{"$f":"-SUM(AV7:AV14)","v":{"$error":"#DIV/0!"}}]
[21,1306,21,1314,21,1317,null,null,null,null,0,222,null,null,null,"U=",{"$f":"Q15/(LOG(Q4)/LOG(2))","v":3.0877354779509855E-2},null,null,null,null,"U1=",{"$f":"W15/(LOG(W4)/LOG(2))","v":0},null,null,null,"U2=",{"$f":"AB15/(LOG(AB4)/LOG(2))","v":{"$error":"#DIV/0!"}},null,null,null,"U3=",{"$f":"AG15/(LOG(AG4)/LOG(2))","v":{"$error":"#DIV/0!"}},null,null,null,"U4=",{"$f":"AL15/(LOG(AL4)/LOG(2))","v":{"$error":"#DIV/0!"}},null,null,null,"U5=",{"$f":"AQ15/(LOG(AQ4)/LOG(2))","v":{"$error":"#DIV/0!"}},null,null,null,"U6=",{"$f":"AV15/(LOG(AV4)/LOG(2))","v":{"$error":"#DIV/0!"}}]
[21,1450,21,1454,21,1458,null,null,null,null,0,222]
[21,1642,21,1646,21,1653,null,null,null,null,0,222]
[21,1748,21,1755,21,1760,null,null,null,null,0,222,null,"Total Target Seq"]
[21,1912,21,1915,21,1919,null,null,null,null,0,222,null,{"$f":"COUNTIF(L7:L47,G3)","v":40},null,7,7,6,7,7,7]
[21,2030,21,2034,21,2036,null,null,null,null,0,222,null,null,null,"% of reinforcement given in 6 equal intervals based on number of trials "]
[21,2284,21,2287,21,2290,null,null,null,null,0,222,null,null,null,"%_1","%_2","%_3","%_4","%_5","%_6"]
[21,2459,21,2461,21,2465,null,null,null,null,0,222,null,null,"target sequence",{"$f":"$G$3","v":222},{"$f":"$G$3","v":222},{"$f":"$G$3","v":222},{"$f":"$G$3","v":222},{"$f":"$G$3","v":222},{"$f":"$G$3","v":222}]
[21,2611,21,2615,21,2623,null,null,null,null,0,222,null,null,"total reinforcement",{"$f":"U14","v":6},{"$f":"Z14","v":7},{"$f":"AE14","v":6},{"$f":"AJ14","v":7},{"$f":"AO14","v":7},{"$f":"AT14","v":7}]
[21,2877,21,2887,21,2914,null,null,null,null,0,222,null,null,"% target"]
[21,3012,21,3017,21,3019,null,null,null,null,0,222,null,null,"CCRF"]
[21,3167,21,3170,21,3181,null,null,null,null,0,222,null,null,"% CCRf"]
[21,3405,21,3411,21,3419,null,null,null,null,0,222,null,null,"average response rate",{"$f":"F13/P20","v":130.71428571428572},{"$f":"(F20-F13)/Q20","v":143.42857142857142},{"$f":"(F26-F20)/R20","v":183.33333333333334},{"$f":"(F33-F26)/S20","v":214.14285714285714},{"$f":"(F40-F33)/T20","v":168.57142857142858},{"$f":"(F47-F40)/U20","v":205.71428571428572}]
[21,3680,21,3684,21,3691,null,null,null,null,0,222]
[21,3952,21,3956,21,3964,null,null,null,null,0,222]
[21,4171,21,4176,21,4182,null,null,null,null,0,222]
[21,4343,21,4347,21,4353,null,null,null,null,0,222]
[21,4509,21,4511,21,4518,null,null,null,null,0,222]
[21,4672,21,4675,21,4681,null,null,null,null,0,222]
[21,4860,21,4866,21,4908,null,null,null,null,0,222]
[21,5079,21,5082,21,5087,null,null,null,null,0,222]
[21,5258,21,5261,21,5267,null,null,null,null,0,222]
[21,5486,21,5490,21,5496,null,null,null,null,0,222]
[21,5585,21,5587,21,5592,null,null,null,null,0,222]
[21,5691,21,5694,21,5698,null,null,null,null,0,222]
[21,6040,21,6043,21,6086,null,null,null,null,0,222]
[21,6194,21,6198,21,6201,null,null,null,null,0,222]
[21,6338,21,6342,21,6345,null,null,null,null,0,222]
[21,6668,21,6673,21,6676,null,null,null,null,0,222]
[21,6823,21,6828,21,6861,null,null,null,null,0,222]
[21,6957,21,6961,21,6964,null,null,null,null,0,222]
[21,7099,21,7102,21,7138,null,null,null,null,1,222]

{"sheet":"!N122A1B.AXT","index":32,"n_rows":49,"n_cols":48,"rows_kept":49,"cut":false,"hidden":false,"merged":[[4,39,4,42],[5,39,5,40],[4,44,4,47],[5,44,5,45],[4,24,4,27],[5,24,5,25],[4,29,4,32],[5,29,5,30],[4,34,4,37],[5,34,5,35],[1,1,1,2],[5,13,5,14],[18,13,18,14],[19,13,19,14],[4,19,4,22],[5,19,5,20]]}
["Report for:!N122A1B.AXT"]
["Date:","<date>"]
["Hen:","<hen>",null,null,null,"Correct Sequence",{"$f":"Start!J2","v":222},null,null,null,null,null,null,null,null,"Total Sequences in Data",{"$f":"4994-COUNTBLANK(L7:L5000)","v":43},null,null,null,null,"Total Sequences in Block Data",{"$f":"COUNTA(L7:L13)","v":7},null,null,null,"Total Sequences in Block Data",{"$f":"COUNTA(L14:L20)","v":7},null,null,null,"Total Sequences in Block Data",{"$f":"COUNTA(L21:L28)","v":8},null,null,null,"Total Sequences in Block Data",{"$f":"COUNTA(L29:L35)","v":7},null,null,null,"Total Sequences in Block Data",{"$f":"COUNTA(L36:L42)","v":7},null,null,null,"Total Sequences in Block Data",{"$f":"COUNTA(L43:L49)","v":7}]
[null,null,null,null,null,null,null,null,null,null,null,null,null,null,null,"Total Sequences in Summary",{"$f":"SUM(O7:O14)","v":43},null,null,null,null,"Total Sequences in Block Summary",{"$f":"SUM(U7:U14)","v":7},null,null,null,"Total Sequences in Block Summary",{"$f":"SUM(Z7:Z14)","v":7},null,null,null,"Total Sequences in Block Summary",{"$f":"SUM(AE7:AE14)","v":8},null,null,null,"Total Sequences in Block Summary",{"$f":"SUM(AJ7:AJ14)","v":7},null,null,null,"Total Sequences in Block Summary",{"$f":"SUM(AO7:AO14)","v":7},null,null,null,"Total Sequences in Block Summary",{"$f":"SUM(AT7:AT14)","v":7}]
[null,null,null,null,null,null,null,null,null,null,null,null,null,null,null,null,null,null,null,"Block 1",null,null,null,null,"Block 2",null,null,null,null,"Block 3",null,null,null,null,"Block 4",null,null,null,null,"Block 5",null,null,null,null,"Block 6"]
["Sequence\nComponent\n1","Time\n1","Sequence\nComponent\n2","Time\n2","Sequence\nComponent\n3","Time\n3","Sequence\nComponent\n4","Time\n4","Sequence\nComponent\n5","Time\n5","Correct?\n0=No 1=Yes","Sequence",null,"Frequency",null,"Relative Frequency","Variability",null,null,"Frequency",null,"Relative Frequency","Variability",null,"Frequency",null,"Relative Frequency","Variability",null,"Frequency",null,"Relative Frequency","Variability",null,"Frequency",null,"Relative Frequency","Variability",null,"Frequency",null,"Relative Frequency","Variability",null,"Frequency",null,"Relative Frequency","Variability"]
[21,5,12,25,23,37,null,null,null,null,0,212,null,111,{"$f":"COUNTIF($L$7:$L$500,N7)","v":0},{"$f":"O7/$Q$4","v":0},{"$f":"IF(P7=0,0,(P7*((LOG(P7))/LOG(2))))","v":0},null,null,{"$f":"N7","v":111},{"$f":"COUNTIF(L7:L13,T7)","v":0},{"$f":"U7/(W4-U14)","v":0},{"$f":"IF(V7=0,0,(V7*((LOG(V7))/LOG(2))))","v":0},null,{"$f":"N7","v":111},{"$f":"COUNTIF(L14:L20,Y7)","v":0},{"$f":"Z7/(AB4-Z14)","v":{"$error":"#DIV/0!"}},{"$f":"IF(AA7=0,0,(AA7*((LOG(AA7))/LOG(2))))","v":{"$error":"#DIV/0!"}},null,{"$f":"N7","v":111},{"$f":"COUNTIF(L21:L28,AD7)","v":0},{"$f":"AE7/(AG4-AE14)","v":{"$error":"#DIV/0!"}},{"$f":"IF(AF7=0,0,(AF7*((LOG(AF7))/LOG(2))))","v":{"$error":"#DIV/0!"}},null,{"$f":"N7","v":111},{"$f":"COUNTIF(L29:L35,AI7)","v":0},{"$f":"AJ7/(AL4-AJ14)","v":0},{"$f":"IF(AK7=0,0,(AK7*((LOG(AK7))/LOG(2))))","v":0},null,{"$f":"N7","v":111},{"$f":"COUNTIF(L36:L42,AN7)","v":0},{"$f":"AO7/(AQ4-AO14)","v":{"$error":"#DIV/0!"}},{"$f":"IF(AP7=0,0,(AP7*((LOG(AP7))/LOG(2))))","v":{"$error":"#DIV/0!"}},null,{"$f":"N7","v":111},{"$f":"COUNTIF(L43:L49,AS7)","v":0},{"$f":"AT7/(AV4-AT14)","v":0},{"$f":"IF(AU7=0,0,(AU7*((LOG(AU7))/LOG(2))))","v":0}]
[12,139,14,163,23,181,null,null,null,null,0,112,null,112,{"$f":"COUNTIF($L$7:$L$500,N8)","v":1},{"$f":"O8/$Q$4","v":2.3255813953488372E-2},{"$f":"IF(P8=0,0,(P8*((LOG(P8))/LOG(2))))","v":-0.12619220359772321},null,null,{"$f":"N8","v":112},{"$f":"COUNTIF(L7:L13,T8)","v":1},{"$f":"U8/(W4-U14)","v":0.5},{"$f":"IF(V8=0,0,(V8*((LOG(V8))/LOG(2))))","v":-0.5},null,{"$f":"N8","v":112},{"$f":"COUNTIF(L14:L20,Y8)","v":0},{"$f":"Z8/(AB4-Z14)","v":{"$error":"#DIV/0!"}},{"$f":"IF(AA8=0,0,(AA8*((LOG(AA8))/LOG(2))))","v":{"$error":"#DIV/0!"}},null,{"$f":"N8","v":112},{"$f":"COUNTIF(L21:L28,AD8)","v":0},{"$f":"AE8/(AG4-AE14)","v":{"$error":"#DIV/0!"}},{"$f":"IF(AF8=0,0,(AF8*((LOG(AF8))/LOG(2))))","v":{"$error":"#DIV/0!"}},null,{"$f":"N8","v":112},{"$f":"COUNTIF(L29:L35,AI8)","v":0},{"$f":"AJ8/(AL4-AJ14)","v":0},{"$f":"IF(AK8=0,0,(AK8*((LOG(AK8))/LOG(2))))","v":0},null,{"$f":"N8","v":112},{"$f":"COUNTIF(L36:L42,AN8)","v":0},{"$f":"AO8/(AQ4-AO14)","v":{"$error":"#DIV/0!"}},{"$f":"IF(AP8=0,0,(AP8*((LOG(AP8))/LOG(2))))","v":{"$error":"#DIV/0!"}},null,{"$f":"N8","v":112},{"$f":"COUNTIF(L43:L49,AS8)","v":0},{"$f":"AT8/(AV4-AT14)","v":0},{"$f":"IF(AU8=0,0,(AU8*((LOG(AU8))/LOG(2))))","v":0}]
[21,280,21,285,21,290,null,null,null,null,0,222,null,121,{"$f":"COUNTIF($L$7:$L$500,N9)","v":0},{"$f":"O9/$Q$4","v":0},{"$f":"IF(P9=0,0,(P9*((LOG(P9))/LOG(2))))","v":0},null,null,{"$f":"N9","v":121},{"$f":"COUNTIF(L7:L13,T9)","v":0},{"$f":"U9/(W4-U14)","v":0},{"$f":"IF(V9=0,0,(V9*((LOG(V9))/LOG(2))))","v":0},null,{"$f":"N9","v":121},{"$f":"COUNTIF(L14:L20,Y9)","v":0},{"$f":"Z9/(AB4-Z14)","v":{"$error":"#DIV/0!"}},{"$f":"IF(AA9=0,0,(AA9*((LOG(AA9))/LOG(2))))","v":{"$error":"#DIV/0!"}},null,{"$f":"N9","v":121},{"$f":"COUNTIF(L21:L28,AD9)","v":0},{"$f":"AE9/(AG4-AE14)","v":{"$error":"#DIV/0!"}},{"$f":"IF(AF9=0,0,(AF9*((LOG(AF9))/LOG(2))))","v":{"$error":"#DIV/0!"}},null,{"$f":"N9","v":121},{"$f":"COUNTIF(L29:L35,AI9)","v":0},{"$f":"AJ9/(AL4-AJ14)","v":0},{"$f":"IF(AK9=0,0,(AK9*((LOG(AK9))/LOG(2))))","v":0},null,{"$f":"N9","v":121},{"$f":"COUNTIF(L36:L42,AN9)","v":0},{"$f":"AO9/(AQ4-AO14)","v":{"$error":"#DIV/0!"}},{"$f":"IF(AP9=0,0,(AP9*((LOG(AP9))/LOG(2))))","v":{"$error":"#DIV/0!"}},null,{"$f":"N9","v":121},{"$f":"COUNTIF(L43:L49,AS9)","v":0},{"$f":"AT9/(AV4-AT14)","v":0},{"$f":"IF(AU9=0,0,(AU9*((LOG(AU9))/LOG(2))))","v":0}]
[21,525,21,533,21,536,null,null,null,null,0,222,null,122,{"$f":"COUNTIF($L$7:$L$500,N10)","v":0},{"$f":"O10/$Q$4","v":0},{"$f":"IF(P10=0,0,(P10*((LOG(P10))/LOG(2))))","v":0},null,null,{"$f":"N10","v":122},{"$f":"COUNTIF(L7:L13,T10)","v":0},{"$f":"U10/(W4-U14)","v":0},{"$f":"IF(V10=0,0,(V10*((LOG(V10))/LOG(2))))","v":0},null,{"$f":"N10","v":122},{"$f":"COUNTIF(L14:L20,Y10)","v":0},{"$f":"Z10/(AB4-Z14)","v":{"$error":"#DIV/0!"}},{"$f":"IF(AA10=0,0,(AA10*((LOG(AA10))/LOG(2))))","v":{"$error":"#DIV/0!"}},null,{"$f":"N10","v":122},{"$f":"COUNTIF(L21:L28,AD10)","v":0},{"$f":"AE10/(AG4-AE14)","v":{"$error":"#DIV/0!"}},{"$f":"IF(AF10=0,0,(AF10*((LOG(AF10))/LOG(2))))","v":{"$error":"#DIV/0!"}},null,{"$f":"N10","v":122},{"$f":"COUNTIF(L29:L35,AI10)","v":0},{"$f":"AJ10/(AL4-AJ14)","v":0},{"$f":"IF(AK10=0,0,(AK10*((LOG(AK10))/LOG(2))))","v":0},null,{"$f":"N10","v":122},{"$f":"COUNTIF(L36:L42,AN10)","v":0},{"$f":"AO10/(AQ4-AO14)","v":{"$error":"#DIV/0!"}},{"$f":"IF(AP10=0,0,(AP10*((LOG(AP10))/LOG(2))))","v":{"$error":"#DIV/0!"}},null,{"$f":"N10","v":122},{"$f":"COUNTIF(L43:L49,AS10)","v":0},{"$f":"AT10/(AV4-AT14)","v":0},{"$f":"IF(AU10=0,0,(AU10*((LOG(AU10))/LOG(2))))","v":0}]
[21,812,21,816,21,818,null,null,null,null,0,222,null,211,{"$f":"COUNTIF($L$7:$L$500,N11)","v":0},{"$f":"O11/$Q$4","v":0},{"$f":"IF(P11=0,0,(P11*((LOG(P11))/LOG(2))))","v":0},null,null,{"$f":"N11","v":211},{"$f":"COUNTIF(L7:L13,T11)","v":0},{"$f":"U11/(W4-U14)","v":0},{"$f":"IF(V11=0,0,(V11*((LOG(V11))/LOG(2))))","v":0},null,{"$f":"N11","v":211},{"$f":"COUNTIF(L14:L20,Y11)","v":0},{"$f":"Z11/(AB4-Z14)","v":{"$error":"#DIV/0!"}},{"$f":"IF(AA11=0,0,(AA11*((LOG(AA11))/LOG(2))))","v":{"$error":"#DIV/0!"}},null,{"$f":"N11","v":211},{"$f":"COUNTIF(L21:L28,AD11)","v":0},{"$f":"AE11/(AG4-AE14)","v":{"$error":"#DIV/0!"}},{"$f":"IF(AF11=0,0,(AF11*((LOG(AF11))/LOG(2))))","v":{"$error":"#DIV/0!"}},null,{"$f":"N11","v":211},{"$f":"COUNTIF(L29:L35,AI11)","v":0},{"$f":"AJ11/(AL4-AJ14)","v":0},{"$f":"IF(AK11=0,0,(AK11*((LOG(AK11))/LOG(2))))","v":0},null,{"$f":"N11","v":211},{"$f":"COUNTIF(L36:L42,AN11)","v":0},{"$f":"AO11/(AQ4-AO14)","v":{"$error":"#DIV/0!"}},{"$f":"IF(AP11=0,0,(AP11*((LOG(AP11))/LOG(2))))","v":{"$error":"#DIV/0!"}},null,{"$f":"N11","v":211},{"$f":"COUNTIF(L43:L49,AS11)","v":0},{"$f":"AT11/(AV4-AT14)","v":0},{"$f":"IF(AU11=0,0,(AU11*((LOG(AU11))/LOG(2))))","v":0}]
[21,911,21,918,21,922,null,null,null,null,0,222,null,212,{"$f":"COUNTIF($L$7:$L$500,N12)","v":2},{"$f":"O12/$Q$4","v":4.6511627906976744E-2},{"$f":"IF(P12=0,0,(P12*((LOG(P12))/LOG(2))))","v":-0.20587277928846967},null,null,{"$f":"N12","v":212},{"$f":"COUNTIF(L7:L13,T12)","v":1},{"$f":"U12/(W4-U14)","v":0.5},{"$f":"IF(V12=0,0,(V12*((LOG(V12))/LOG(2))))","v":-0.5},null,{"$f":"N12","v":212},{"$f":"COUNTIF(L14:L20,Y12)","v":0},{"$f":"Z12/(AB4-Z14)","v":{"$error":"#DIV/0!"}},{"$f":"IF(AA12=0,0,(AA12*((LOG(AA12))/LOG(2))))","v":{"$error":"#DIV/0!"}},null,{"$f":"N12","v":212},{"$f":"COUNTIF(L21:L28,AD12)","v":0},{"$f":"AE12/(AG4-AE14)","v":{"$error":"#DIV/0!"}},{"$f":"IF(AF12=0,0,(AF12*((LOG(AF12))/LOG(2))))","v":{"$error":"#DIV/0!"}},null,{"$f":"N12","v":212},{"$f":"COUNTIF(L29:L35,AI12)","v":0},{"$f":"AJ12/(AL4-AJ14)","v":0},{"$f":"IF(AK12=0,0,(AK12*((LOG(AK12))/LOG(2))))","v":0},null,{"$f":"N12","v":212},{"$f":"COUNTIF(L36:L42,AN12)","v":0},{"$f":"AO12/(AQ4-AO14)","v":{"$error":"#DIV/0!"}},{"$f":"IF(AP12=0,0,(AP12*((LOG(AP12))/LOG(2))))","v":{"$error":"#DIV/0!"}},null,{"$f":"N12","v":212},{"$f":"COUNTIF(L43:L49,AS12)","v":1},{"$f":"AT12/(AV4-AT14)","v":1},{"$f":"IF(AU12=0,0,(AU12*((LOG(AU12))/LOG(2))))","v":0}]
[21,1053,21,1087,21,1099,null,null,null,null,0,222,null,221,{"$f":"COUNTIF($L$7:$L$500,N13)","v":1},{"$f":"O13/$Q$4","v":2.3255813953488372E-2},{"$f":"IF(P13=0,0,(P13*((LOG(P13))/LOG(2))))","v":-0.12619220359772321},null,null,{"$f":"N13","v":221},{"$f":"COUNTIF(L7:L13,T13)","v":0},{"$f":"U13/(W4-U14)","v":0},{"$f":"IF(V13=0,0,(V13*((LOG(V13))/LOG(2))))","v":0},null,{"$f":"N13","v":221},{"$f":"COUNTIF(L14:L20,Y13)","v":0},{"$f":"Z13/(AB4-Z14)","v":{"$error":"#DIV/0!"}},{"$f":"IF(AA13=0,0,(AA13*((LOG(AA13))/LOG(2))))","v":{"$error":"#DIV/0!"}},null,{"$f":"N13","v":221},{"$f":"COUNTIF(L21:L28,AD13)","v":0},{"$f":"AE13/(AG4-AE14)","v":{"$error":"#DIV/0!"}},{"$f":"IF(AF13=0,0,(AF13*((LOG(AF13))/LOG(2))))","v":{"$error":"#DIV/0!"}},null,{"$f":"N13","v":221},{"$f":"COUNTIF(L29:L35,AI13)","v":1},{"$f":"AJ13/(AL4-AJ14)","v":1},{"$f":"IF(AK13=0,0,(AK13*((LOG(AK13))/LOG(2))))","v":0},null,{"$f":"N13","v":221},{"$f":"COUNTIF(L36:L42,AN13)","v":0},{"$f":"AO13/(AQ4-AO14)","v":{"$error":"#DIV/0!"}},{"$f":"IF(AP13=0,0,(AP13*((LOG(AP13))/LOG(2))))","v":{"$error":"#DIV/0!"}},null,{"$f":"N13","v":221},{"$f":"COUNTIF(L43:L49,AS13)","v":0},{"$f":"AT13/(AV4-AT14)","v":0},{"$f":"IF(AU13=0,0,(AU13*((LOG(AU13))/LOG(2))))","v":0}]
[21,1258,21,1263,21,1267,null,null,null,null,0,222,null,222,{"$f":"COUNTIF($L$7:$L$500,N14)","v":39},{"$f":"O14/$Q$4","v":0.90697674418604646},{"$f":"IF(P14=0,0,(P14*((LOG(P14))/LOG(2))))","v":-0.12775904413381717},null,null,{"$f":"N14","v":222},{"$f":"COUNTIF(L7:L13,T14)","v":5},null,null,null,{"$f":"N14","v":222},{"$f":"COUNTIF(L14:L20,Y14)","v":7},null,null,null,{"$f":"N14","v":222},{"$f":"COUNTIF(L21:L28,AD14)","v":8},null,null,null,{"$f":"N14","v":222},{"$f":"COUNTIF(L29:L35,AI14)","v":6},null,null,null,{"$f":"N14","v":222},{"$f":"COUNTIF(L36:L42,AN14)","v":7},null,null,null,{"$f":"N14","v":222},{"$f":"COUNTIF(L43:L49,AS14)","v":6}]
[21,1388,21,1394,21,1397,null,null,null,null,0,222,null,null,null,{"$f":"SUM(P7:P14)","v":1},{"$f":"-SUM(Q7:Q14)","v":0.58601623061773322},null,null,null,null,{"$f":"SUM(V7:V14)","v":1},{"$f":"-SUM(W7:W14)","v":1},null,null,null,{"$f":"SUM(AA7:AA14)","v":{"$error":"#DIV/0!"}},{"$f":"-SUM(AB7:AB14)","v":{"$error":"#DIV/0!"}},null,null,null,{"$f":"SUM(AF7:AF14)","v":{"$error":"#DIV/0!"}},{"$f":"-SUM(AG7:AG14)","v":{"$error":"#DIV/0!"}},null,null,null,{"$f":"SUM(AK7:AK14)","v":1},{"$f":"-SUM(AL7:AL14)","v":0},null,null,null,{"$f":"SUM(AP7:AP14)","v":{"$error":"#DIV/0!"}},{"$f":"-SUM(AQ7:AQ14)","v":{"$error":"#DIV/0!"}},null,null,null,{"$f":"SUM(AU7:AU14)","v":1},{"$f":"-SUM(AV7:AV14)","v":0}]
[21,1526,21,1531,21,1534,null,null,null,null,0,222,null,null,null,"U=",{"$f":"Q15/(LOG(Q4)/LOG(2))","v":0.10799624734674516},null,null,null,null,"U1=",{"$f":"W15/(LOG(W4)/LOG(2))","v":0.35620718710802218},null,null,null,"U2=",{"$f":"AB15/(LOG(AB4)/LOG(2))","v":{"$error":"#DIV/0!"}},null,null,null,"U3=",{"$f":"AG15/(LOG(AG4)/LOG(2))","v":{"$error":"#DIV/0!"}},null,null,null,"U4=",{"$f":"AL15/(LOG(AL4)/LOG(2))","v":0},null,null,null,"U5=",{"$f":"AQ15/(LOG(AQ4)/LOG(2))","v":{"$error":"#DIV/0!"}},null,null,null,"U6=",{"$f":"AV15/(LOG(AV4)/LOG(2))","v":0}]
[21,1653,21,1657,21,1659,null,null,null,null,0,222]
[21,1809,21,1818,21,1825,null,null,null,null,0,222]
[21,2004,21,2007,21,2011,null,null,null,null,0,222,null,"Total Target Seq"]
[21,2111,21,2114,21,2119,null,null,null,null,0,222,null,{"$f":"COUNTIF(L7:L49,G3)","v":39},null,7,7,8,7,7,7]
[21,2367,21,2388,21,2390,null,null,null,null,0,222,null,null,null,"% of reinforcement given in 6 equal intervals based on number of trials "]
[21,2477,21,2480,21,2489,null,null,null,null,0,222,null,null,null,"%_1","%_2","%_3","%_4","%_5","%_6"]
[21,2581,21,2589,21,2611,null,null,null,null,0,222,null,null,"target sequence",{"$f":"$G$3","v":222},{"$f":"$G$3","v":222},{"$f":"$G$3","v":222},{"$f":"$G$3","v":222},{"$f":"$G$3","v":222},{"$f":"$G$3","v":222}]
[21,2757,21,2759,21,2763,null,null,null,null,0,222,null,null,"total reinforcement",{"$f":"U14","v":5},{"$f":"Z14","v":7},{"$f":"AE14","v":8},{"$f":"AJ14","v":6},{"$f":"AO14","v":7},{"$f":"AT14","v":6}]
[21,2852,21,2861,21,2863,null,null,null,null,0,222,null,null,"% target"]
[21,2983,21,2987,21,2993,null,null,null,null,0,222,null,null,"CCRF"]
[21,3178,21,3181,21,3185,null,null,null,null,0,222,null,null,"% CCRf"]
[21,3322,21,3328,21,3334,null,null,null,null,0,222,null,null,"average response rate",{"$f":"F13/P20","v":157},{"$f":"(F20-F13)/Q20","v":145.71428571428572},{"$f":"(F28-F20)/R20","v":151.875},{"$f":"(F35-F28)/S20","v":172.71428571428572},{"$f":"(F42-F35)/T20","v":170.71428571428572},{"$f":"(F49-F42)/U20","v":162}]
[21,3550,21,3560,21,3586,null,null,null,null,0,222]
[21,3703,21,3709,21,3718,null,null,null,null,0,222]
[21,3816,21,3820,21,3826,null,null,null,null,0,222]
[21,4068,21,4073,21,4111,null,null,null,null,0,222]
[21,4229,21,4232,12,4265,null,null,null,null,0,221]
[21,4369,21,4373,21,4378,null,null,null,null,0,222]
[21,4534,21,4540,21,4543,null,null,null,null,0,222]
[21,4665,21,4673,21,4701,null,null,null,null,0,222]
[21,4806,21,4809,21,4816,null,null,null,null,0,222]
[21,5077,21,5081,21,5084,null,null,null,null,0,222]
[21,5236,21,5239,21,5245,null,null,null,null,0,222]
[21,5432,21,5437,21,5440,null,null,null,null,0,222]
[21,5599,21,5603,21,5609,null,null,null,null,0,222]
[21,5721,21,5726,21,5738,null,null,null,null,0,222]
[21,5889,21,5893,21,5897,null,null,null,null,0,222]
[21,5997,21,6000,21,6006,null,null,null,null,0,222]
[21,6146,21,6151,21,6158,null,null,null,null,0,222]
[21,6380,21,6386,21,6391,null,null,null,null,0,222]
[21,6575,21,6577,21,6625,null,null,null,null,0,222]
[21,6723,12,6725,23,6734,null,null,null,null,0,212]
[21,6850,21,6853,21,6872,null,null,null,null,1,222]