{"text_format":"1","workbook":"xlsx","n_sheets":34,"sheets":["Sample Report","Summary","Start","!M830B1B.AXT","!M831B1B.AXT","!M901A0B.AXT","!M902A1B.AXT","!M903C3B.AXT","!M904A4B.AXT","!M905A4B.AXT","!M906B1B.AXT","!M907A5B.AXT","!M908A5B.AXT","!M909A5B.AXT","!M910B5B.AXT","!M911A3B.AXT","!M912A4B.AXT","!M913A0B.AXT","!M914B3B.AXT","!M915B2B.AXT","!M916A4B.AXT","!M917A4B.AXT","!M918B2B.AXT","!M919A3B.AXT","!M92095B.AXT","!M92190B.AXT","!M922B2B.AXT","!M922C1B.AXT","!M923A0B.AXT","!M924B0B.AXT","!M92592B.AXT","!M92693B.AXT","!M927A2B.AXT","!M92891B.AXT"],"not_rendered":{"charts":0,"images":0,"macros":1,"external_links":0,"defined_names":0,"comments":0,"pivot_tables":0},"unopened":[],"bounds":{"document_bytes":16777216,"sheet_cells":100000,"rows_first":2000,"rows_last":500,"rows_between":2000,"halvings":0,"cell_chars":16384,"cell_head_chars":4096},"cells_cut":0,"cells_raw":0,"read":"whole","date_system":"1900"}

{"sheet":"Sample Report","index":0,"n_rows":12,"n_cols":11,"rows_kept":12,"cut":false,"hidden":true,"merged":[[7,0,7,6]]}
[]
["Date"]
["Hen"]
["Program"]
["Start at 999999"]
["Sequence component 1","Time 1","Seqeunce Component 2","Time 2","Seqeunce Component 3","Time 3","Correct   0 = No 1=Yes",null,null,"Seqeunce","Time"]
[12,7,12,42,13,18,"if 77 new line,                                  if 31 or 41 = yes new line on 77, ",null,null,"=string of Seqeunce compponent 1, 2 & 3","=time 3"]
["This continues until ther is a 1 on its own to indicate start of summary data"]
[null,null,null,null,null,null,null,null,null,"10-19 =1"]
["Summary Data ",null,null,null,null,null,null,null,null,"20-29 =2"]
["Correct","Incorrect","Rft","total","Av Correct","Av Incorrect","Percent correct","Time",null,"in this example the seqeunce would be 111"]
[40,33,40,73,23.95,15,54,806]

{"sheet":"Summary","index":1,"n_rows":33,"n_cols":24,"rows_kept":33,"cut":false,"hidden":false,"merged":[]}
[]
["Day","Date","Average Response Rate","Target %","RF for non correct sequence","U Value",null,null,null,null,"Block 1","Block 2","Block 3","Block 4","Block 5","Block 6"]
[1,{"$f":"'!M830B1B.AXT'!B2:C2","v":"<date>"},{"$f":"('!M830B1B.AXT'!F7/60)/'!M830B1B.AXT'!Q3","v":0},{"$f":"'!M830B1B.AXT'!N20/'!M830B1B.AXT'!Q3","v":0},{"$f":"SUM('!M830B1B.AXT'!L20:Q20)/'!M830B1B.AXT'!Q3","v":0},0,null,null,null,"Average Response Rate",{"$f":"AVERAGE(C3:C7)","v":34.923809523809524},{"$f":"AVERAGE(C8:C12)","v":38.293037518037522},{"$f":"AVERAGE(C13:C17)","v":14.741969696969695},{"$f":"AVERAGE(C18:C22)","v":64.641468253968256},{"$f":"AVERAGE(C23:C27)","v":25.383777777777777},{"$f":"AVERAGE(C28:C31)","v":14.038888888888888}]
[2,{"$f":"'!M831B1B.AXT'!B2:C2","v":"<date>"},{"$f":"('!M831B1B.AXT'!F13/60)/'!M831B1B.AXT'!Q3","v":56.519047619047619},{"$f":"'!M831B1B.AXT'!N20/'!M831B1B.AXT'!Q3","v":0},{"$f":"SUM('!M831B1B.AXT'!L20:Q20)/'!M831B1B.AXT'!Q3","v":0.2857142857142857},{"$f":"'!M831B1B.AXT'!Q16","v":0.65626578908903099},null,null,null,"Target %",{"$f":"AVERAGE(D3:D7)","v":0.05},{"$f":"AVERAGE(D8:D12)","v":5.7142857142857141E-2},{"$f":"AVERAGE(D13:D17)","v":0},{"$f":"AVERAGE(D18:D22)","v":0},{"$f":"AVERAGE(D23:D27)","v":0.04},{"$f":"AVERAGE(D28:D31)","v":0.03}]
[3,{"$f":"'!M901A0B.AXT'!B2:C2","v":"<date>"},{"$f":"('!M901A0B.AXT'!F8/60)/'!M901A0B.AXT'!Q3","v":9.8416666666666668},{"$f":"'!M901A0B.AXT'!N20/'!M901A0B.AXT'!Q3","v":0},{"$f":"SUM('!M901A0B.AXT'!L20:Q20)/'!M901A0B.AXT'!Q3","v":0.5},{"$f":"'!M901A0B.AXT'!Q16","v":0},null,null,null,"CCRF",{"$f":"AVERAGE(E3:E7)","v":0.30714285714285711},{"$f":"AVERAGE(E8:E12)","v":0.36082251082251082},{"$f":"AVERAGE(E13:E17)","v":0.36439393939393938},{"$f":"AVERAGE(E18:E22)","v":0.34047619047619043},{"$f":"AVERAGE(E23:E27)","v":0.28666666666666663},{"$f":"AVERAGE(E28:E31)","v":1.5283333333333333}]
[4,{"$f":"'!M902A1B.AXT'!B2:C2","v":"<date>"},{"$f":"('!M902A1B.AXT'!F9/60)/'!M902A1B.AXT'!Q3","v":11.95},{"$f":"'!M902A1B.AXT'!N20/'!M902A1B.AXT'!Q3","v":0},{"$f":"SUM('!M902A1B.AXT'!L20:Q20)/'!M902A1B.AXT'!Q3","v":0.25},{"$f":"'!M902A1B.AXT'!Q16","v":0},null,null,null,"U Value",{"$f":"AVERAGE(F3:F7)","v":0.33125315781780618},{"$f":"AVERAGE(F8:F12)","v":0.83241118918363988},{"$f":"AVERAGE(F13:F17)","v":0.51298026529901763},{"$f":"AVERAGE(F18:F22)","v":0.91314572363251245},{"$f":"AVERAGE(F23:F27)","v":0.23396328951882078},{"$f":"AVERAGE(F28:F31)","v":0.52475199898391622}]
[5,{"$f":"'!M903C3B.AXT'!B2:C2","v":"<date>"},{"$f":"('!M903C3B.AXT'!F10/60)/'!M903C3B.AXT'!Q3","v":96.308333333333337},{"$f":"'!M903C3B.AXT'!N20/'!M903C3B.AXT'!Q3","v":0.25},{"$f":"SUM('!M903C3B.AXT'!L20:Q20)/'!M903C3B.AXT'!Q3","v":0.5},{"$f":"'!M903C3B.AXT'!Q16","v":1}]
[6,{"$f":"'!M904A4B.AXT'!B2:C2","v":"<date>"},{"$f":"('!M904A4B.AXT'!F12/60)/'!M904A4B.AXT'!Q3","v":13.623809523809523},{"$f":"'!M904A4B.AXT'!N20/'!M904A4B.AXT'!Q3","v":0.14285714285714285},{"$f":"SUM('!M904A4B.AXT'!L20:Q20)/'!M904A4B.AXT'!Q3","v":0.42857142857142855},{"$f":"'!M904A4B.AXT'!Q16","v":1}]
[7,{"$f":"'!M905A4B.AXT'!B2:C2","v":"<date>"},{"$f":"('!M905A4B.AXT'!F8/60)/'!M905A4B.AXT'!Q3","v":1.7055555555555555},{"$f":"'!M905A4B.AXT'!N20/'!M905A4B.AXT'!Q3","v":0},{"$f":"SUM('!M905A4B.AXT'!L20:Q20)/'!M905A4B.AXT'!Q3","v":0.33333333333333331},{"$f":"'!M905A4B.AXT'!Q16","v":1},{"$f":"K3","v":34.923809523809524},{"$f":"L3","v":38.293037518037522},14.741969696969695,64.641468253968256,25.383777777777777,14.038888888888888,{"$f":"K4","v":0.05},{"$f":"L4","v":5.7142857142857141E-2},0,0,0.04,0.03,{"$f":"K6","v":0.33125315781780618},{"$f":"L6","v":0.83241118918363988},0.51298026529901763,0.91314572363251245,0.23396328951882078,0.52475199898391622]
[8,{"$f":"'!M906B1B.AXT'!B2:C2","v":"<date>"},{"$f":"('!M906B1B.AXT'!F17/60)/'!M906B1B.AXT'!Q3","v":29.622727272727275},{"$f":"'!M906B1B.AXT'!N20/'!M906B1B.AXT'!Q3","v":0},{"$f":"SUM('!M906B1B.AXT'!L20:Q20)/'!M906B1B.AXT'!Q3","v":0.36363636363636365},{"$f":"'!M906B1B.AXT'!Q16","v":0.71737639201079029}]
[9,{"$f":"'!M907A5B.AXT'!B2:C2","v":"<date>"},{"$f":"('!M907A5B.AXT'!F10/60)/'!M907A5B.AXT'!Q3","v":93.408333333333331},{"$f":"'!M907A5B.AXT'!N20/'!M907A5B.AXT'!Q3","v":0},{"$f":"SUM('!M907A5B.AXT'!L20:Q20)/'!M907A5B.AXT'!Q3","v":0.25},{"$f":"'!M907A5B.AXT'!Q16","v":0.75}]
[10,{"$f":"'!M908A5B.AXT'!B2:C2","v":"<date>"},{"$f":"('!M908A5B.AXT'!F13/60)/'!M908A5B.AXT'!Q3","v":53.104761904761908},{"$f":"'!M908A5B.AXT'!N20/'!M908A5B.AXT'!Q3","v":0.14285714285714285},{"$f":"SUM('!M908A5B.AXT'!L20:Q20)/'!M908A5B.AXT'!Q3","v":0.42857142857142855},{"$f":"'!M908A5B.AXT'!Q16","v":0.69467955390740943}]
[11,{"$f":"'!M909A5B.AXT'!B2:C2","v":"<date>"},{"$f":"('!M909A5B.AXT'!F9/60)/'!M909A5B.AXT'!Q3","v":3.5},{"$f":"'!M909A5B.AXT'!N20/'!M909A5B.AXT'!Q3","v":0},{"$f":"SUM('!M909A5B.AXT'!L20:Q20)/'!M909A5B.AXT'!Q3","v":0.33333333333333331},{"$f":"'!M909A5B.AXT'!Q16","v":0.57938016428569505}]
[12,{"$f":"'!M910B5B.AXT'!B2:C2","v":"<date>"},{"$f":"('!M910B5B.AXT'!F17/60)/'!M910B5B.AXT'!Q3","v":34.984848484848484},{"$f":"'!M910B5B.AXT'!N20/'!M910B5B.AXT'!Q3","v":0},{"$f":"SUM('!M910B5B.AXT'!L20:Q20)/'!M910B5B.AXT'!Q3","v":0.36363636363636365},{"$f":"'!M910B5B.AXT'!Q16","v":0.43102885515122552}]
[13,{"$f":"'!M911A3B.AXT'!B2:C2","v":"<date>"},{"$f":"('!M911A3B.AXT'!F9/60)/'!M911A3B.AXT'!Q3","v":1.3374999999999999},{"$f":"'!M911A3B.AXT'!N20/'!M911A3B.AXT'!Q3","v":0},{"$f":"SUM('!M911A3B.AXT'!L20:Q20)/'!M911A3B.AXT'!Q3","v":0.25},{"$f":"'!M911A3B.AXT'!Q16","v":0.99999999999999989}]
[14,{"$f":"'!M912A4B.AXT'!B2:C2","v":"<date>"},{"$f":"('!M912A4B.AXT'!F8/60)/'!M912A4B.AXT'!Q3","v":28.85},{"$f":"'!M912A4B.AXT'!N20/'!M912A4B.AXT'!Q3","v":0},{"$f":"SUM('!M912A4B.AXT'!L20:Q20)/'!M912A4B.AXT'!Q3","v":0.5},{"$f":"'!M912A4B.AXT'!Q16","v":0}]
[15,{"$f":"'!M913A0B.AXT'!B2:C2","v":"<date>"},{"$f":"('!M913A0B.AXT'!F13/60)/'!M913A0B.AXT'!Q3","v":5.0374999999999996},{"$f":"'!M913A0B.AXT'!N20/'!M913A0B.AXT'!Q3","v":0},{"$f":"SUM('!M913A0B.AXT'!L20:Q20)/'!M913A0B.AXT'!Q3","v":0.375},{"$f":"'!M913A0B.AXT'!Q16","v":0.55449230705816743}]
[16,{"$f":"'!M914B3B.AXT'!B2:C2","v":"<date>"},{"$f":"('!M914B3B.AXT'!F12/60)/'!M914B3B.AXT'!Q3","v":66.022222222222226},{"$f":"'!M914B3B.AXT'!N20/'!M914B3B.AXT'!Q3","v":0},{"$f":"SUM('!M914B3B.AXT'!L20:Q20)/'!M914B3B.AXT'!Q3","v":0.33333333333333331},{"$f":"'!M914B3B.AXT'!Q16","v":0.87104906425515272}]
[17,{"$f":"'!M915B2B.AXT'!B2:C2","v":"<date>"},{"$f":"('!M915B2B.AXT'!F9/60)/'!M915B2B.AXT'!Q3","v":3.2791666666666668},{"$f":"'!M915B2B.AXT'!N20/'!M915B2B.AXT'!Q3","v":0},{"$f":"SUM('!M915B2B.AXT'!L20:Q20)/'!M915B2B.AXT'!Q3","v":0.25},{"$f":"'!M915B2B.AXT'!Q16","v":0.99999999999999989}]
[18,{"$f":"'!M916A4B.AXT'!B2:C2","v":"<date>"},{"$f":"('!M916A4B.AXT'!F8/60)/'!M916A4B.AXT'!Q3","v":16.516666666666666},{"$f":"'!M916A4B.AXT'!N20/'!M916A4B.AXT'!Q3","v":0},{"$f":"SUM('!M916A4B.AXT'!L20:Q20)/'!M916A4B.AXT'!Q3","v":0.33333333333333331},{"$f":"'!M916A4B.AXT'!Q16","v":1}]
[19,{"$f":"'!M917A4B.AXT'!B2:C2","v":"<date>"},{"$f":"('!M917A4B.AXT'!F8/60)/'!M917A4B.AXT'!Q3","v":194.30833333333334},{"$f":"'!M917A4B.AXT'!N20/'!M917A4B.AXT'!Q3","v":0},{"$f":"SUM('!M917A4B.AXT'!L20:Q20)/'!M917A4B.AXT'!Q3","v":0.5},{"$f":"'!M917A4B.AXT'!Q16","v":1}]
[20,{"$f":"'!M918B2B.AXT'!B2:C2","v":"<date>"},{"$f":"('!M918B2B.AXT'!F13/60)/'!M918B2B.AXT'!Q3","v":43.080952380952382},{"$f":"'!M918B2B.AXT'!N20/'!M918B2B.AXT'!Q3","v":0},{"$f":"SUM('!M918B2B.AXT'!L20:Q20)/'!M918B2B.AXT'!Q3","v":0.2857142857142857},{"$f":"'!M918B2B.AXT'!Q16","v":0.69467955390740943}]
[21,{"$f":"'!M919A3B.AXT'!B2:C2","v":"<date>"},{"$f":"('!M919A3B.AXT'!F7/60)/'!M919A3B.AXT'!Q3","v":0},{"$f":"'!M919A3B.AXT'!N20/'!M919A3B.AXT'!Q3","v":0},{"$f":"SUM('!M919A3B.AXT'!L20:Q20)/'!M919A3B.AXT'!Q3","v":0},0]
[22,{"$f":"'!M92095B.AXT'!B2:C2","v":"<date>"},{"$f":"('!M92095B.AXT'!F9/60)/'!M92095B.AXT'!Q3","v":30.822222222222223},{"$f":"'!M92095B.AXT'!N20/'!M92095B.AXT'!Q3","v":0},{"$f":"SUM('!M92095B.AXT'!L20:Q20)/'!M92095B.AXT'!Q3","v":0.33333333333333331},{"$f":"'!M92095B.AXT'!Q16","v":0.57938016428569505}]
[23,{"$f":"'!M92190B.AXT'!B2:C2","v":"<date>"},{"$f":"('!M92190B.AXT'!F7/60)/'!M92190B.AXT'!Q3","v":24.1},{"$f":"'!M92190B.AXT'!N20/'!M92190B.AXT'!Q3","v":0},{"$f":"SUM('!M92190B.AXT'!L20:Q20)/'!M92190B.AXT'!Q3","v":0.5},0]
[24,{"$f":"'!M922B2B.AXT'!B2:C2","v":"<date>"},{"$f":"('!M922B2B.AXT'!F11/60)/'!M922B2B.AXT'!Q3","v":71.99666666666667},{"$f":"'!M922B2B.AXT'!N20/'!M922B2B.AXT'!Q3","v":0.2},{"$f":"SUM('!M922B2B.AXT'!L20:Q20)/'!M922B2B.AXT'!Q3","v":0.6},{"$f":"'!M922B2B.AXT'!Q16","v":0.5904362833084088}]
[25,{"$f":"'!M922C1B.AXT'!B2:C2","v":"<date>"},0,0,0,0]
[26,{"$f":"'!M923A0B.AXT'!B2:C2","v":"<date>"},{"$f":"('!M923A0B.AXT'!F8/60)/'!M923A0B.AXT'!Q3","v":2.0333333333333332},{"$f":"'!M923A0B.AXT'!N20/'!M923A0B.AXT'!Q3","v":0},{"$f":"SUM('!M923A0B.AXT'!L20:Q20)/'!M923A0B.AXT'!Q3","v":0.5},{"$f":"'!M923A0B.AXT'!Q16","v":1}]
[27,{"$f":"'!M924B0B.AXT'!B2:C2","v":"<date>"},{"$f":"('!M924B0B.AXT'!F12/60)/'!M924B0B.AXT'!Q3","v":38.93888888888889},{"$f":"'!M924B0B.AXT'!N20/'!M924B0B.AXT'!Q3","v":0},{"$f":"SUM('!M924B0B.AXT'!L20:Q20)/'!M924B0B.AXT'!Q3","v":0.33333333333333331},{"$f":"'!M924B0B.AXT'!Q16","v":0.56447546787242353}]
[28,{"$f":"'!M92592B.AXT'!B2:C2","v":"<date>"},0,0,0,0]
[29,{"$f":"'!M92693B.AXT'!B2:C2","v":"<date>"},{"$f":"('!M927A2B.AXT'!F31/60)/'!M927A2B.AXT'!Q3","v":15.183333333333332},{"$f":"'!M927A2B.AXT'!N20/'!M927A2B.AXT'!Q3","v":0.12},{"$f":"SUM('!M927A2B.AXT'!L20:Q20)/'!M927A2B.AXT'!Q3","v":5.28},{"$f":"'!M927A2B.AXT'!Q16","v":0.53453252806324114}]
[30,{"$f":"'!M927A2B.AXT'!B2:C2","v":"<date>"},{"$f":"('!M92891B.AXT'!F13/60)/'!M92891B.AXT'!Q3","v":3.9666666666666668},{"$f":"'!M92891B.AXT'!N20/'!M92891B.AXT'!Q3","v":0},{"$f":"SUM('!M92891B.AXT'!L20:Q20)/'!M92891B.AXT'!Q3","v":0.375},{"$f":"'!M92891B.AXT'!Q16","v":0.65626578908903088}]
[null,{"$f":"'!M92891B.AXT'!B2:C2","v":"<date>"}]

{"sheet":"Start","index":2,"n_rows":37,"n_cols":10,"rows_kept":37,"cut":false,"hidden":false,"merged":[]}
[null,null,null,null,null,"Use Folder 51",null,"Auto Clean Up",null,"Correct sequence"]
[null,null,null,null,null,false,null,true,null,221]
[]
["Working with Folder",null,null,null,null,null,"Process All/Or Pick A number: ALL or an integer"]
["F:\\Possum Chapter\\Raw Data\\baxter\\RRL\\",null,null,null,null,null,"ALL"]
["Filenames:"]
["!M92592B.AXT",null,null,null,null,null,"Paint Cells"]
["!M92693B.AXT",null,null,null,null,null,false]
["!M927A2B.AXT"]
["!M92891B.AXT"]
["!M830B1B.AXT"]
["!M831B1B.AXT"]
["!M901A0B.AXT"]
["!M902A1B.AXT"]
["!M903C3B.AXT"]
["!M904A4B.AXT"]
["!M905A4B.AXT"]
["!M906B1B.AXT"]
["!M907A5B.AXT"]
["!M908A5B.AXT"]
["!M909A5B.AXT"]
["!M910B5B.AXT"]
["!M911A3B.AXT"]
["!M912A4B.AXT"]
["!M913A0B.AXT"]
["!M914B3B.AXT"]
["!M915B2B.AXT"]
["!M916A4B.AXT"]
["!M917A4B.AXT"]
["!M918B2B.AXT"]
["!M919A3B.AXT"]
["!M92095B.AXT"]
["!M92190B.AXT"]
["!M922B2B.AXT"]
["!M922C1B.AXT"]
["!M923A0B.AXT"]
["!M924B0B.AXT"]

{"sheet":"!M830B1B.AXT","index":3,"n_rows":28,"n_cols":48,"rows_kept":28,"cut":false,"hidden":false,"merged":[[4,39,4,42],[5,39,5,40],[4,44,4,47],[5,44,5,45],[4,24,4,27],[5,24,5,25],[4,29,4,32],[5,29,5,30],[4,34,4,37],[5,34,5,35],[1,1,1,2],[5,13,5,14],[18,13,18,14],[19,13,19,14],[4,19,4,22],[5,19,5,20]]}
["Report for:!M830B1B.AXT"]
["Date:","<date>"]
["Hen:","<hen>",null,null,null,"Correct Sequence",{"$f":"Start!J2","v":221},null,null,null,null,null,null,null,null,"Total Sequences in Data",{"$f":"4994-COUNTBLANK(L7:L5000)","v":1},null,null,null,null,"Total Sequences in Block Data",{"$f":"COUNTA(L6:L7)","v":2},null,null,null,"Total Sequences in Block Data",{"$f":"COUNTA(L6:L7)","v":2},null,null,null,"Total Sequences in Block Data",{"$f":"COUNTA(L7:L7)","v":1},null,null,null,"Total Sequences in Block Data",{"$f":"COUNTA(L7:L8)","v":1},null,null,null,"Total Sequences in Block Data",{"$f":"COUNTA(L7:L8)","v":1},null,null,null,"Total Sequences in Block Data",{"$f":"COUNTA(L7:L8)","v":1}]
[null,null,null,null,null,null,null,null,null,null,null,null,null,null,null,"Total Sequences in Summary",{"$f":"SUM(O7:O14)","v":0},null,null,null,null,"Total Sequences in Block Summary",{"$f":"SUM(U7:U14)","v":0},null,null,null,"Total Sequences in Block Summary",{"$f":"SUM(Z7:Z14)","v":0},null,null,null,"Total Sequences in Block Summary",{"$f":"SUM(AE7:AE14)","v":0},null,null,null,"Total Sequences in Block Summary",{"$f":"SUM(AJ7:AJ14)","v":0},null,null,null,"Total Sequences in Block Summary",{"$f":"SUM(AO7:AO14)","v":0},null,null,null,"Total Sequences in Block Summary",{"$f":"SUM(AT7:AT14)","v":0}]
[null,null,null,null,null,null,null,null,null,null,null,null,null,null,null,null,null,null,null,"Block 1",null,null,null,null,"Block 2",null,null,null,null,"Block 3",null,null,null,null,"Block 4",null,null,null,null,"Block 5",null,null,null,null,"Block 6"]
["Sequence\nComponent\n1","Time\n1","Sequence\nComponent\n2","Time\n2","Sequence\nComponent\n3","Time\n3","Sequence\nComponent\n4","Time\n4","Sequence\nComponent\n5","Time\n5","Correct?\n0=No 1=Yes","Sequence",null,"Frequency",null,"Relative Frequency","Variability",null,null,"Frequency",null,"Relative Frequency","Variability",null,"Frequency",null,"Relative Frequency","Variability",null,"Frequency",null,"Relative Frequency","Variability",null,"Frequency",null,"Relative Frequency","Variability",null,"Frequency",null,"Relative Frequency","Variability",null,"Frequency",null,"Relative Frequency","Variability"]
[22,9716,null,null,null,null,null,null,null,null,null,2,null,111,{"$f":"COUNTIF($L$7:$L$500,N7)","v":0},{"$f":"O7/$Q$4","v":{"$error":"#DIV/0!"}},{"$f":"IF(P7=0,0,(P7*((LOG(P7))/LOG(2))))","v":{"$error":"#DIV/0!"}},null,null,{"$f":"N7","v":111},{"$f":"COUNTIF(L6:L7,T7)","v":0},{"$f":"U7/(W4-U13)","v":{"$error":"#DIV/0!"}},{"$f":"IF(V7=0,0,(V7*((LOG(V7))/LOG(2))))","v":{"$error":"#DIV/0!"}},null,{"$f":"N7","v":111},{"$f":"COUNTIF(L6:L7,Y7)","v":0},{"$f":"Z7/(AB4-Z13)","v":{"$error":"#DIV/0!"}},{"$f":"IF(AA7=0,0,(AA7*((LOG(AA7))/LOG(2))))","v":{"$error":"#DIV/0!"}},null,{"$f":"N7","v":111},{"$f":"COUNTIF(L7:L7,AD7)","v":0},{"$f":"AE7/(AG4-AE13)","v":{"$error":"#DIV/0!"}},{"$f":"IF(AF7=0,0,(AF7*((LOG(AF7))/LOG(2))))","v":{"$error":"#DIV/0!"}},null,{"$f":"N7","v":111},{"$f":"COUNTIF(L7:L8,AI7)","v":0},{"$f":"AJ7/(AL4-AJ13)","v":{"$error":"#DIV/0!"}},{"$f":"IF(AK7=0,0,(AK7*((LOG(AK7))/LOG(2))))","v":{"$error":"#DIV/0!"}},null,{"$f":"N7","v":111},{"$f":"COUNTIF(L7:L8,AN7)","v":0},{"$f":"AO7/(AQ4-AO13)","v":{"$error":"#DIV/0!"}},{"$f":"IF(AP7=0,0,(AP7*((LOG(AP7))/LOG(2))))","v":{"$error":"#DIV/0!"}},null,{"$f":"N7","v":111},{"$f":"COUNTIF(L7:L8,AS7)","v":0},{"$f":"AT7/(AV4-AT13)","v":{"$error":"#DIV/0!"}},{"$f":"IF(AU7=0,0,(AU7*((LOG(AU7))/LOG(2))))","v":{"$error":"#DIV/0!"}}]
[null,null,null,null,null,null,null,null,null,null,null,null,null,112,0,{"$error":"#DIV/0!"},{"$error":"#DIV/0!"},null,null,112,{"$f":"COUNTIF(L6:L7,T8)","v":0},{"$f":"U8/(W4-U13)","v":{"$error":"#DIV/0!"}},{"$error":"#DIV/0!"},null,112,{"$f":"COUNTIF(L6:L7,Y8)","v":0},{"$f":"Z8/(AB4-Z13)","v":{"$error":"#DIV/0!"}},{"$error":"#DIV/0!"},null,112,{"$f":"COUNTIF(L7:L7,AD8)","v":0},{"$f":"AE8/(AG4-AE13)","v":{"$error":"#DIV/0!"}},{"$error":"#DIV/0!"},null,112,{"$f":"COUNTIF(L7:L8,AI8)","v":0},{"$f":"AJ8/(AL4-AJ13)","v":{"$error":"#DIV/0!"}},{"$error":"#DIV/0!"},null,112,{"$f":"COUNTIF(L7:L8,AN8)","v":0},{"$f":"AO8/(AQ4-AO13)","v":{"$error":"#DIV/0!"}},{"$error":"#DIV/0!"},null,112,{"$f":"COUNTIF(L7:L8,AS8)","v":0},{"$f":"AT8/(AV4-AT13)","v":{"$error":"#DIV/0!"}},{"$error":"#DIV/0!"}]
[null,null,null,null,null,null,null,null,null,null,null,null,null,121,0,{"$error":"#DIV/0!"},{"$error":"#DIV/0!"},null,null,121,{"$f":"COUNTIF(L6:L7,T9)","v":0},{"$f":"U9/(W4-U13)","v":{"$error":"#DIV/0!"}},{"$error":"#DIV/0!"},null,121,{"$f":"COUNTIF(L6:L7,Y9)","v":0},{"$f":"Z9/(AB4-Z13)","v":{"$error":"#DIV/0!"}},{"$error":"#DIV/0!"},null,121,{"$f":"COUNTIF(L7:L7,AD9)","v":0},{"$f":"AE9/(AG4-AE13)","v":{"$error":"#DIV/0!"}},{"$error":"#DIV/0!"},null,121,{"$f":"COUNTIF(L7:L8,AI9)","v":0},{"$f":"AJ9/(AL4-AJ13)","v":{"$error":"#DIV/0!"}},{"$error":"#DIV/0!"},null,121,{"$f":"COUNTIF(L7:L8,AN9)","v":0},{"$f":"AO9/(AQ4-AO13)","v":{"$error":"#DIV/0!"}},{"$error":"#DIV/0!"},null,121,{"$f":"COUNTIF(L7:L8,AS9)","v":0},{"$f":"AT9/(AV4-AT13)","v":{"$error":"#DIV/0!"}},{"$error":"#DIV/0!"}]
[null,null,null,null,null,null,null,null,null,null,null,null,null,122,0,{"$error":"#DIV/0!"},{"$error":"#DIV/0!"},null,null,122,{"$f":"COUNTIF(L6:L7,T10)","v":0},{"$f":"U10/(W4-U13)","v":{"$error":"#DIV/0!"}},{"$error":"#DIV/0!"},null,122,{"$f":"COUNTIF(L6:L7,Y10)","v":0},{"$f":"Z10/(AB4-Z13)","v":{"$error":"#DIV/0!"}},{"$error":"#DIV/0!"},null,122,{"$f":"COUNTIF(L7:L7,AD10)","v":0},{"$f":"AE10/(AG4-AE13)","v":{"$error":"#DIV/0!"}},{"$error":"#DIV/0!"},null,122,{"$f":"COUNTIF(L7:L8,AI10)","v":0},{"$f":"AJ10/(AL4-AJ13)","v":{"$error":"#DIV/0!"}},{"$error":"#DIV/0!"},null,122,{"$f":"COUNTIF(L7:L8,AN10)","v":0},{"$f":"AO10/(AQ4-AO13)","v":{"$error":"#DIV/0!"}},{"$error":"#DIV/0!"},null,122,{"$f":"COUNTIF(L7:L8,AS10)","v":0},{"$f":"AT10/(AV4-AT13)","v":{"$error":"#DIV/0!"}},{"$error":"#DIV/0!"}]
[null,null,null,null,null,null,null,null,null,null,null,null,null,211,0,{"$error":"#DIV/0!"},{"$error":"#DIV/0!"},null,null,211,{"$f":"COUNTIF(L6:L7,T11)","v":0},{"$f":"U11/(W4-U13)","v":{"$error":"#DIV/0!"}},{"$error":"#DIV/0!"},null,211,{"$f":"COUNTIF(L6:L7,Y11)","v":0},{"$f":"Z11/(AB4-Z13)","v":{"$error":"#DIV/0!"}},{"$error":"#DIV/0!"},null,211,{"$f":"COUNTIF(L7:L7,AD11)","v":0},{"$f":"AE11/(AG4-AE13)","v":{"$error":"#DIV/0!"}},{"$error":"#DIV/0!"},null,211,{"$f":"COUNTIF(L7:L8,AI11)","v":0},{"$f":"AJ11/(AL4-AJ13)","v":{"$error":"#DIV/0!"}},{"$error":"#DIV/0!"},null,211,{"$f":"COUNTIF(L7:L8,AN11)","v":0},{"$f":"AO11/(AQ4-AO13)","v":{"$error":"#DIV/0!"}},{"$error":"#DIV/0!"},null,211,{"$f":"COUNTIF(L7:L8,AS11)","v":0},{"$f":"AT11/(AV4-AT13)","v":{"$error":"#DIV/0!"}},{"$error":"#DIV/0!"}]
[null,null,null,null,null,null,null,null,null,null,null,null,null,212,0,{"$error":"#DIV/0!"},{"$error":"#DIV/0!"},null,null,212,{"$f":"COUNTIF(L6:L7,T12)","v":0},{"$f":"U12/(W4-U13)","v":{"$error":"#DIV/0!"}},{"$error":"#DIV/0!"},null,212,{"$f":"COUNTIF(L6:L7,Y12)","v":0},{"$f":"Z12/(AB4-Z13)","v":{"$error":"#DIV/0!"}},{"$error":"#DIV/0!"},null,212,{"$f":"COUNTIF(L7:L7,AD12)","v":0},{"$f":"AE12/(AG4-AE13)","v":{"$error":"#DIV/0!"}},{"$error":"#DIV/0!"},null,212,{"$f":"COUNTIF(L7:L8,AI12)","v":0},{"$f":"AJ12/(AL4-AJ13)","v":{"$error":"#DIV/0!"}},{"$error":"#DIV/0!"},null,212,{"$f":"COUNTIF(L7:L8,AN12)","v":0},{"$f":"AO12/(AQ4-AO13)","v":{"$error":"#DIV/0!"}},{"$error":"#DIV/0!"},null,212,{"$f":"COUNTIF(L7:L8,AS12)","v":0},{"$f":"AT12/(AV4-AT13)","v":{"$error":"#DIV/0!"}},{"$error":"#DIV/0!"}]
[null,null,null,null,null,null,null,null,null,null,null,null,null,221,0,{"$error":"#DIV/0!"},{"$error":"#DIV/0!"},null,null,221,{"$f":"COUNTIF(L6:L7,T13)","v":0},null,null,null,221,{"$f":"COUNTIF(L6:L7,Y13)","v":0},null,null,null,221,{"$f":"COUNTIF(L7:L7,AD13)","v":0},null,null,null,221,{"$f":"COUNTIF(L7:L8,AI13)","v":0},null,null,null,221,{"$f":"COUNTIF(L7:L8,AN13)","v":0},null,null,null,221,{"$f":"COUNTIF(L7:L8,AS13)","v":0}]
[null,null,null,null,null,null,null,null,null,null,null,null,null,222,0,{"$error":"#DIV/0!"},{"$error":"#DIV/0!"},null,null,222,{"$f":"COUNTIF(L6:L7,T14)","v":0},{"$f":"U14/(W4-U13)","v":{"$error":"#DIV/0!"}},{"$f":"IF(V14=0,0,(V14*((LOG(V14))/LOG(2))))","v":{"$error":"#DIV/0!"}},null,222,{"$f":"COUNTIF(L6:L7,Y14)","v":0},{"$f":"Z14/(AB4-Z13)","v":{"$error":"#DIV/0!"}},{"$f":"IF(AA14=0,0,(AA14*((LOG(AA14))/LOG(2))))","v":{"$error":"#DIV/0!"}},null,222,{"$f":"COUNTIF(L7:L7,AD14)","v":0},{"$f":"AE14/(AG4-AE13)","v":{"$error":"#DIV/0!"}},{"$f":"IF(AF14=0,0,(AF14*((LOG(AF14))/LOG(2))))","v":{"$error":"#DIV/0!"}},null,222,{"$f":"COUNTIF(L7:L8,AI14)","v":0},{"$f":"AJ14/(AL4-AJ13)","v":{"$error":"#DIV/0!"}},{"$f":"IF(AK14=0,0,(AK14*((LOG(AK14))/LOG(2))))","v":{"$error":"#DIV/0!"}},null,222,{"$f":"COUNTIF(L7:L8,AN14)","v":0},{"$f":"AO14/(AQ4-AO13)","v":{"$error":"#DIV/0!"}},{"$f":"IF(AP14=0,0,(AP14*((LOG(AP14))/LOG(2))))","v":{"$error":"#DIV/0!"}},null,222,{"$f":"COUNTIF(L7:L8,AS14)","v":0},{"$f":"AT14/(AV4-AT13)","v":{"$error":"#DIV/0!"}},{"$f":"IF(AU14=0,0,(AU14*((LOG(AU14))/LOG(2))))","v":{"$error":"#DIV/0!"}}]
[null,null,null,null,null,null,null,null,null,null,null,null,null,null,null,{"$f":"SUM(P7:P14)","v":{"$error":"#DIV/0!"}},{"$f":"-SUM(Q7:Q14)","v":{"$error":"#DIV/0!"}},null,null,null,null,{"$f":"SUM(V7:V14)","v":{"$error":"#DIV/0!"}},{"$f":"-SUM(W7:W14)","v":{"$error":"#DIV/0!"}},null,null,null,{"$f":"SUM(AA7:AA14)","v":{"$error":"#DIV/0!"}},{"$f":"-SUM(AB7:AB14)","v":{"$error":"#DIV/0!"}},null,null,null,{"$f":"SUM(AF7:AF14)","v":{"$error":"#DIV/0!"}},{"$f":"-SUM(AG7:AG14)","v":{"$error":"#DIV/0!"}},null,null,null,{"$f":"SUM(AK7:AK14)","v":{"$error":"#DIV/0!"}},{"$f":"-SUM(AL7:AL14)","v":{"$error":"#DIV/0!"}},null,null,null,{"$f":"SUM(AP7:AP14)","v":{"$error":"#DIV/0!"}},{"$f":"-SUM(AQ7:AQ14)","v":{"$error":"#DIV/0!"}},null,null,null,{"$f":"SUM(AU7:AU14)","v":{"$error":"#DIV/0!"}},{"$f":"-SUM(AV7:AV14)","v":{"$error":"#DIV/0!"}}]
[null,null,null,null,null,null,null,null,null,null,null,null,null,null,null,"U=",{"$f":"Q15/(LOG(Q4)/LOG(2))","v":{"$error":"#DIV/0!"}},null,null,null,null,"U1=",{"$f":"W15/(LOG(W4)/LOG(2))","v":{"$error":"#DIV/0!"}},null,null,null,"U2=",{"$f":"AB15/(LOG(AB4)/LOG(2))","v":{"$error":"#DIV/0!"}},null,null,null,"U3=",{"$f":"AG15/(LOG(AG4)/LOG(2))","v":{"$error":"#DIV/0!"}},null,null,null,"U4=",{"$f":"AL15/(LOG(AL4)/LOG(2))","v":{"$error":"#DIV/0!"}},null,null,null,"U5=",{"$f":"AQ15/(LOG(AQ4)/LOG(2))","v":{"$error":"#DIV/0!"}},null,null,null,"U6=",{"$f":"AV15/(LOG(AV4)/LOG(2))","v":{"$error":"#DIV/0!"}}]
[]
[]
[null,null,null,null,null,null,null,null,null,null,null,null,null,"Total Target Seq"]
[null,null,null,null,null,null,null,null,null,null,null,null,null,{"$f":"COUNTIF(L7:L7,G3)","v":0},null,0,0,1,0,0,0]
[null,null,null,null,null,null,null,null,null,null,null,null,null,null,null,"% of reinforcement given in 6 equal intervals based on number of trials "]
[null,null,null,null,null,null,null,null,null,null,null,null,null,null,null,"%_1","%_2","%_3","%_4","%_5","%_6"]
[null,null,null,null,null,null,null,null,null,null,null,null,null,null,"target sequence",{"$f":"$G$3","v":221},221,221,221,221,221]
[null,null,null,null,null,null,null,null,null,null,null,null,null,null,"total reinforcement",{"$f":"U13","v":0},{"$f":"Z13","v":0},{"$f":"AE13","v":0},{"$f":"AJ13","v":0},{"$f":"AO13","v":0},{"$f":"AT13","v":0}]
[null,null,null,null,null,null,null,null,null,null,null,null,null,null,"% target"]
[null,null,null,null,null,null,null,null,null,null,null,null,null,null,"CCRF"]
[null,null,null,null,null,null,null,null,null,null,null,null,null,null,"% CCRf"]
[null,null,null,null,null,null,null,null,null,null,null,null,null,null,"average response rate",{"$f":"F6/P20","v":{"$error":"#VALUE!"}},{"$f":"(F6-F6)/Q20","v":{"$error":"#VALUE!"}},{"$f":"(F7-F6)/R20","v":{"$error":"#VALUE!"}},{"$f":"(F7-F7)/S20","v":{"$error":"#DIV/0!"}},{"$f":"(F7-F7)/T20","v":{"$error":"#DIV/0!"}},{"$f":"(F7-F7)/U20","v":{"$error":"#DIV/0!"}}]

{"sheet":"!M831B1B.AXT","index":4,"n_rows":28,"n_cols":48,"rows_kept":28,"cut":false,"hidden":false,"merged":[[4,39,4,42],[5,39,5,40],[4,44,4,47],[5,44,5,45],[4,24,4,27],[5,24,5,25],[4,29,4,32],[5,29,5,30],[4,34,4,37],[5,34,5,35],[1,1,1,2],[5,13,5,14],[18,13,18,14],[19,13,19,14],[4,19,4,22],[5,19,5,20]]}
["Report for:!M831B1B.AXT"]
["Date:","<date>"]
["Hen:","<hen>",null,null,null,"Correct Sequence",{"$f":"Start!J2","v":221},null,null,null,null,null,null,null,null,"Total Sequences in Data",{"$f":"4994-COUNTBLANK(L7:L5000)","v":7},null,null,null,null,"Total Sequences in Block Data",{"$f":"COUNTA(L7:L7)","v":1},null,null,null,"Total Sequences in Block Data",{"$f":"COUNTA(L8:L8)","v":1},null,null,null,"Total Sequences in Block Data",{"$f":"COUNTA(L9:L10)","v":2},null,null,null,"Total Sequences in Block Data",{"$f":"COUNTA(L11:L11)","v":1},null,null,null,"Total Sequences in Block Data",{"$f":"COUNTA(L12:L12)","v":1},null,null,null,"Total Sequences in Block Data",{"$f":"COUNTA(L13:L13)","v":1}]
[null,null,null,null,null,null,null,null,null,null,null,null,null,null,null,"Total Sequences in Summary",{"$f":"SUM(O7:O14)","v":7},null,null,null,null,"Total Sequences in Block Summary",{"$f":"SUM(U7:U14)","v":1},null,null,null,"Total Sequences in Block Summary",{"$f":"SUM(Z7:Z14)","v":1},null,null,null,"Total Sequences in Block Summary",{"$f":"SUM(AE7:AE14)","v":2},null,null,null,"Total Sequences in Block Summary",{"$f":"SUM(AJ7:AJ14)","v":1},null,null,null,"Total Sequences in Block Summary",{"$f":"SUM(AO7:AO14)","v":1},null,null,null,"Total Sequences in Block Summary",{"$f":"SUM(AT7:AT14)","v":1}]
[null,null,null,null,null,null,null,null,null,null,null,null,null,null,null,null,null,null,null,"Block 1",null,null,null,null,"Block 2",null,null,null,null,"Block 3",null,null,null,null,"Block 4",null,null,null,null,"Block 5",null,null,null,null,"Block 6"]
["Sequence\nComponent\n1","Time\n1","Sequence\nComponent\n2","Time\n2","Sequence\nComponent\n3","Time\n3","Sequence\nComponent\n4","Time\n4","Sequence\nComponent\n5","Time\n5","Correct?\n0=No 1=Yes","Sequence",null,"Frequency",null,"Relative Frequency","Variability",null,null,"Frequency",null,"Relative Frequency","Variability",null,"Frequency",null,"Relative Frequency","Variability",null,"Frequency",null,"Relative Frequency","Variability",null,"Frequency",null,"Relative Frequency","Variability",null,"Frequency",null,"Relative Frequency","Variability",null,"Frequency",null,"Relative Frequency","Variability"]
[11,101,21,115,22,128,null,null,null,null,0,122,null,111,{"$f":"COUNTIF($L$7:$L$500,N7)","v":2},{"$f":"O7/$Q$4","v":0.2857142857142857},{"$f":"IF(P7=0,0,(P7*((LOG(P7))/LOG(2))))","v":-0.51638712058788683},null,null,{"$f":"N7","v":111},{"$f":"COUNTIF(L7:L7,T7)","v":0},{"$f":"U7/(W4-U13)","v":0},{"$f":"IF(V7=0,0,(V7*((LOG(V7))/LOG(2))))","v":0},null,{"$f":"N7","v":111},{"$f":"COUNTIF(L8:L8,Y7)","v":0},{"$f":"Z7/(AB4-Z13)","v":0},{"$f":"IF(AA7=0,0,(AA7*((LOG(AA7))/LOG(2))))","v":0},null,{"$f":"N7","v":111},{"$f":"COUNTIF(L9:L10,AD7)","v":1},{"$f":"AE7/(AG4-AE13)","v":0.5},{"$f":"IF(AF7=0,0,(AF7*((LOG(AF7))/LOG(2))))","v":-0.5},null,{"$f":"N7","v":111},{"$f":"COUNTIF(L11:L11,AI7)","v":0},{"$f":"AJ7/(AL4-AJ13)","v":0},{"$f":"IF(AK7=0,0,(AK7*((LOG(AK7))/LOG(2))))","v":0},null,{"$f":"N7","v":111},{"$f":"COUNTIF(L12:L12,AN7)","v":1},{"$f":"AO7/(AQ4-AO13)","v":1},{"$f":"IF(AP7=0,0,(AP7*((LOG(AP7))/LOG(2))))","v":0},null,{"$f":"N7","v":111},{"$f":"COUNTIF(L13:L13,AS7)","v":0},{"$f":"AT7/(AV4-AT13)","v":0},{"$f":"IF(AU7=0,0,(AU7*((LOG(AU7))/LOG(2))))","v":0}]
[11,266,21,280,22,308,null,null,null,null,0,122,null,112,0,0,0,null,null,112,{"$f":"COUNTIF(L7:L7,T8)","v":0},{"$f":"U8/(W4-U13)","v":0},0,null,112,{"$f":"COUNTIF(L8:L8,Y8)","v":0},{"$f":"Z8/(AB4-Z13)","v":0},0,null,112,{"$f":"COUNTIF(L9:L10,AD8)","v":0},{"$f":"AE8/(AG4-AE13)","v":0},0,null,112,{"$f":"COUNTIF(L11:L11,AI8)","v":0},{"$f":"AJ8/(AL4-AJ13)","v":0},0,null,112,{"$f":"COUNTIF(L12:L12,AN8)","v":0},{"$f":"AO8/(AQ4-AO13)","v":0},0,null,112,{"$f":"COUNTIF(L13:L13,AS8)","v":0},{"$f":"AT8/(AV4-AT13)","v":0},0]
[22,509,23,522,24,550,null,null,null,null,0,222,null,121,0,0,0,null,null,121,{"$f":"COUNTIF(L7:L7,T9)","v":0},{"$f":"U9/(W4-U13)","v":0},0,null,121,{"$f":"COUNTIF(L8:L8,Y9)","v":0},{"$f":"Z9/(AB4-Z13)","v":0},0,null,121,{"$f":"COUNTIF(L9:L10,AD9)","v":0},{"$f":"AE9/(AG4-AE13)","v":0},0,null,121,{"$f":"COUNTIF(L11:L11,AI9)","v":0},{"$f":"AJ9/(AL4-AJ13)","v":0},0,null,121,{"$f":"COUNTIF(L12:L12,AN9)","v":0},{"$f":"AO9/(AQ4-AO13)","v":0},0,null,121,{"$f":"COUNTIF(L13:L13,AS9)","v":0},{"$f":"AT9/(AV4-AT13)","v":0},0]
[11,810,12,815,13,827,null,null,null,null,0,111,null,122,3,0.42857142857142855,-0.52388246628704915,null,null,122,{"$f":"COUNTIF(L7:L7,T10)","v":1},{"$f":"U10/(W4-U13)","v":1},0,null,122,{"$f":"COUNTIF(L8:L8,Y10)","v":1},{"$f":"Z10/(AB4-Z13)","v":1},0,null,122,{"$f":"COUNTIF(L9:L10,AD10)","v":0},{"$f":"AE10/(AG4-AE13)","v":0},0,null,122,{"$f":"COUNTIF(L11:L11,AI10)","v":1},{"$f":"AJ10/(AL4-AJ13)","v":1},0,null,122,{"$f":"COUNTIF(L12:L12,AN10)","v":0},{"$f":"AO10/(AQ4-AO13)","v":0},0,null,122,{"$f":"COUNTIF(L13:L13,AS10)","v":0},{"$f":"AT10/(AV4-AT13)","v":0},0]
[11,1271,21,1279,22,1319,null,null,null,null,0,122,null,211,1,0.14285714285714285,-0.40105070315108626,null,null,211,{"$f":"COUNTIF(L7:L7,T11)","v":0},{"$f":"U11/(W4-U13)","v":0},0,null,211,{"$f":"COUNTIF(L8:L8,Y11)","v":0},{"$f":"Z11/(AB4-Z13)","v":0},0,null,211,{"$f":"COUNTIF(L9:L10,AD11)","v":0},{"$f":"AE11/(AG4-AE13)","v":0},0,null,211,{"$f":"COUNTIF(L11:L11,AI11)","v":0},{"$f":"AJ11/(AL4-AJ13)","v":0},0,null,211,{"$f":"COUNTIF(L12:L12,AN11)","v":0},{"$f":"AO11/(AQ4-AO13)","v":0},0,null,211,{"$f":"COUNTIF(L13:L13,AS11)","v":1},{"$f":"AT11/(AV4-AT13)","v":1},0]
[11,1458,12,1465,13,1472,null,null,null,null,0,111,null,212,0,0,0,null,null,212,{"$f":"COUNTIF(L7:L7,T12)","v":0},{"$f":"U12/(W4-U13)","v":0},0,null,212,{"$f":"COUNTIF(L8:L8,Y12)","v":0},{"$f":"Z12/(AB4-Z13)","v":0},0,null,212,{"$f":"COUNTIF(L9:L10,AD12)","v":0},{"$f":"AE12/(AG4-AE13)","v":0},0,null,212,{"$f":"COUNTIF(L11:L11,AI12)","v":0},{"$f":"AJ12/(AL4-AJ13)","v":0},0,null,212,{"$f":"COUNTIF(L12:L12,AN12)","v":0},{"$f":"AO12/(AQ4-AO13)","v":0},0,null,212,{"$f":"COUNTIF(L13:L13,AS12)","v":0},{"$f":"AT12/(AV4-AT13)","v":0},0]
[22,21005,14,23735,13,23738,null,null,null,null,0,211,null,221,0,0,0,null,null,221,{"$f":"COUNTIF(L7:L7,T13)","v":0},null,null,null,221,{"$f":"COUNTIF(L8:L8,Y13)","v":0},null,null,null,221,{"$f":"COUNTIF(L9:L10,AD13)","v":0},null,null,null,221,{"$f":"COUNTIF(L11:L11,AI13)","v":0},null,null,null,221,{"$f":"COUNTIF(L12:L12,AN13)","v":0},null,null,null,221,{"$f":"COUNTIF(L13:L13,AS13)","v":0}]
[null,null,null,null,null,null,null,null,null,null,null,null,null,222,1,0.14285714285714285,-0.40105070315108626,null,null,222,{"$f":"COUNTIF(L7:L7,T14)","v":0},{"$f":"U14/(W4-U13)","v":0},{"$f":"IF(V14=0,0,(V14*((LOG(V14))/LOG(2))))","v":0},null,222,{"$f":"COUNTIF(L8:L8,Y14)","v":0},{"$f":"Z14/(AB4-Z13)","v":0},{"$f":"IF(AA14=0,0,(AA14*((LOG(AA14))/LOG(2))))","v":0},null,222,{"$f":"COUNTIF(L9:L10,AD14)","v":1},{"$f":"AE14/(AG4-AE13)","v":0.5},{"$f":"IF(AF14=0,0,(AF14*((LOG(AF14))/LOG(2))))","v":-0.5},null,222,{"$f":"COUNTIF(L11:L11,AI14)","v":0},{"$f":"AJ14/(AL4-AJ13)","v":0},{"$f":"IF(AK14=0,0,(AK14*((LOG(AK14))/LOG(2))))","v":0},null,222,{"$f":"COUNTIF(L12:L12,AN14)","v":0},{"$f":"AO14/(AQ4-AO13)","v":0},{"$f":"IF(AP14=0,0,(AP14*((LOG(AP14))/LOG(2))))","v":0},null,222,{"$f":"COUNTIF(L13:L13,AS14)","v":0},{"$f":"AT14/(AV4-AT13)","v":0},{"$f":"IF(AU14=0,0,(AU14*((LOG(AU14))/LOG(2))))","v":0}]
[null,null,null,null,null,null,null,null,null,null,null,null,null,null,null,{"$f":"SUM(P7:P14)","v":0.99999999999999978},{"$f":"-SUM(Q7:Q14)","v":1.8423709931771088},null,null,null,null,{"$f":"SUM(V7:V14)","v":1},{"$f":"-SUM(W7:W14)","v":0},null,null,null,{"$f":"SUM(AA7:AA14)","v":1},{"$f":"-SUM(AB7:AB14)","v":0},null,null,null,{"$f":"SUM(AF7:AF14)","v":1},{"$f":"-SUM(AG7:AG14)","v":1},null,null,null,{"$f":"SUM(AK7:AK14)","v":1},{"$f":"-SUM(AL7:AL14)","v":0},null,null,null,{"$f":"SUM(AP7:AP14)","v":1},{"$f":"-SUM(AQ7:AQ14)","v":0},null,null,null,{"$f":"SUM(AU7:AU14)","v":1},{"$f":"-SUM(AV7:AV14)","v":0}]
[null,null,null,null,null,null,null,null,null,null,null,null,null,null,null,"U=",{"$f":"Q15/(LOG(Q4)/LOG(2))","v":0.65626578908903099},null,null,null,null,"U1=",{"$f":"W15/(LOG(W4)/LOG(2))","v":{"$error":"#DIV/0!"}},null,null,null,"U2=",{"$f":"AB15/(LOG(AB4)/LOG(2))","v":{"$error":"#DIV/0!"}},null,null,null,"U3=",{"$f":"AG15/(LOG(AG4)/LOG(2))","v":1},null,null,null,"U4=",{"$f":"AL15/(LOG(AL4)/LOG(2))","v":{"$error":"#DIV/0!"}},null,null,null,"U5=",{"$f":"AQ15/(LOG(AQ4)/LOG(2))","v":{"$error":"#DIV/0!"}},null,null,null,"U6=",{"$f":"AV15/(LOG(AV4)/LOG(2))","v":{"$error":"#DIV/0!"}}]
[]
[]
[null,null,null,null,null,null,null,null,null,null,null,null,null,"Total Target Seq"]
[null,null,null,null,null,null,null,null,null,null,null,null,null,{"$f":"COUNTIF(L7:L13,G3)","v":0},null,1,1,2,1,1,1]
[null,null,null,null,null,null,null,null,null,null,null,null,null,null,null,"% of reinforcement given in 6 equal intervals based on number of trials "]
[null,null,null,null,null,null,null,null,null,null,null,null,null,null,null,"%_1","%_2","%_3","%_4","%_5","%_6"]
[null,null,null,null,null,null,null,null,null,null,null,null,null,null,"target sequence",{"$f":"$G$3","v":221},221,221,221,221,221]
[null,null,null,null,null,null,null,null,null,null,null,null,null,null,"total reinforcement",{"$f":"U13","v":0},{"$f":"Z13","v":0},{"$f":"AE13","v":0},{"$f":"AJ13","v":0},{"$f":"AO13","v":0},{"$f":"AT13","v":0}]
[null,null,null,null,null,null,null,null,null,null,null,null,null,null,"% target"]
[null,null,null,null,null,null,null,null,null,null,null,null,null,null,"CCRF"]
[null,null,null,null,null,null,null,null,null,null,null,null,null,null,"% CCRf"]
[null,null,null,null,null,null,null,null,null,null,null,null,null,null,"average response rate",{"$f":"F7/P20","v":128},{"$f":"(F8-F7)/Q20","v":180},{"$f":"(F10-F8)/R20","v":259.5},{"$f":"(F11-F10)/S20","v":492},{"$f":"(F12-F11)/T20","v":153},{"$f":"(F13-F12)/U20","v":22266}]

{"sheet":"!M901A0B.AXT","index":5,"n_rows":28,"n_cols":48,"rows_kept":28,"cut":false,"hidden":false,"merged":[[4,39,4,42],[5,39,5,40],[4,44,4,47],[5,44,5,45],[4,24,4,27],[5,24,5,25],[4,29,4,32],[5,29,5,30],[4,34,4,37],[5,34,5,35],[1,1,1,2],[5,13,5,14],[18,13,18,14],[19,13,19,14],[4,19,4,22],[5,19,5,20]]}
["Report for:!M901A0B.AXT"]
["Date:","<date>"]
["Hen:","<hen>",null,null,null,"Correct Sequence",{"$f":"Start!J2","v":221},null,null,null,null,null,null,null,null,"Total Sequences in Data",{"$f":"4994-COUNTBLANK(L7:L5000)","v":2},null,null,null,null,"Total Sequences in Block Data",{"$f":"COUNTA(L6:L7)","v":2},null,null,null,"Total Sequences in Block Data",{"$f":"COUNTA(L7:L7)","v":1},null,null,null,"Total Sequences in Block Data",{"$f":"COUNTA(L7:L8)","v":2},null,null,null,"Total Sequences in Block Data",{"$f":"COUNTA(L7:L8)","v":2},null,null,null,"Total Sequences in Block Data",{"$f":"COUNTA(L8:L8)","v":1},null,null,null,"Total Sequences in Block Data",{"$f":"COUNTA(L8:L9)","v":1}]
[null,null,null,null,null,null,null,null,null,null,null,null,null,null,null,"Total Sequences in Summary",{"$f":"SUM(O7:O14)","v":2},null,null,null,null,"Total Sequences in Block Summary",{"$f":"SUM(U7:U14)","v":1},null,null,null,"Total Sequences in Block Summary",{"$f":"SUM(Z7:Z14)","v":1},null,null,null,"Total Sequences in Block Summary",{"$f":"SUM(AE7:AE14)","v":2},null,null,null,"Total Sequences in Block Summary",{"$f":"SUM(AJ7:AJ14)","v":2},null,null,null,"Total Sequences in Block Summary",{"$f":"SUM(AO7:AO14)","v":1},null,null,null,"Total Sequences in Block Summary",{"$f":"SUM(AT7:AT14)","v":1}]
[null,null,null,null,null,null,null,null,null,null,null,null,null,null,null,null,null,null,null,"Block 1",null,null,null,null,"Block 2",null,null,null,null,"Block 3",null,null,null,null,"Block 4",null,null,null,null,"Block 5",null,null,null,null,"Block 6"]
["Sequence\nComponent\n1","Time\n1","Sequence\nComponent\n2","Time\n2","Sequence\nComponent\n3","Time\n3","Sequence\nComponent\n4","Time\n4","Sequence\nComponent\n5","Time\n5","Correct?\n0=No 1=Yes","Sequence",null,"Frequency",null,"Relative Frequency","Variability",null,null,"Frequency",null,"Relative Frequency","Variability",null,"Frequency",null,"Relative Frequency","Variability",null,"Frequency",null,"Relative Frequency","Variability",null,"Frequency",null,"Relative Frequency","Variability",null,"Frequency",null,"Relative Frequency","Variability",null,"Frequency",null,"Relative Frequency","Variability"]
[11,471,12,495,13,500,null,null,null,null,0,111,null,111,{"$f":"COUNTIF($L$7:$L$500,N7)","v":2},{"$f":"O7/$Q$4","v":1},{"$f":"IF(P7=0,0,(P7*((LOG(P7))/LOG(2))))","v":0},null,null,{"$f":"N7","v":111},{"$f":"COUNTIF(L6:L7,T7)","v":1},{"$f":"U7/(W4-U13)","v":1},{"$f":"IF(V7=0,0,(V7*((LOG(V7))/LOG(2))))","v":0},null,{"$f":"N7","v":111},{"$f":"COUNTIF(L7:L7,Y7)","v":1},{"$f":"Z7/(AB4-Z13)","v":1},{"$f":"IF(AA7=0,0,(AA7*((LOG(AA7))/LOG(2))))","v":0},null,{"$f":"N7","v":111},{"$f":"COUNTIF(L7:L8,AD7)","v":2},{"$f":"AE7/(AG4-AE13)","v":1},{"$f":"IF(AF7=0,0,(AF7*((LOG(AF7))/LOG(2))))","v":0},null,{"$f":"N7","v":111},{"$f":"COUNTIF(L7:L8,AI7)","v":2},{"$f":"AJ7/(AL4-AJ13)","v":1},{"$f":"IF(AK7=0,0,(AK7*((LOG(AK7))/LOG(2))))","v":0},null,{"$f":"N7","v":111},{"$f":"COUNTIF(L8:L8,AN7)","v":1},{"$f":"AO7/(AQ4-AO13)","v":1},{"$f":"IF(AP7=0,0,(AP7*((LOG(AP7))/LOG(2))))","v":0},null,{"$f":"N7","v":111},{"$f":"COUNTIF(L8:L9,AS7)","v":1},{"$f":"AT7/(AV4-AT13)","v":1},{"$f":"IF(AU7=0,0,(AU7*((LOG(AU7))/LOG(2))))","v":0}]
[11,1162,12,1175,13,1181,null,null,null,null,0,111,null,112,0,0,0,null,null,112,{"$f":"COUNTIF(L6:L7,T8)","v":0},{"$f":"U8/(W4-U13)","v":0},0,null,112,{"$f":"COUNTIF(L7:L7,Y8)","v":0},{"$f":"Z8/(AB4-Z13)","v":0},0,null,112,{"$f":"COUNTIF(L7:L8,AD8)","v":0},{"$f":"AE8/(AG4-AE13)","v":0},0,null,112,{"$f":"COUNTIF(L7:L8,AI8)","v":0},{"$f":"AJ8/(AL4-AJ13)","v":0},0,null,112,{"$f":"COUNTIF(L8:L8,AN8)","v":0},{"$f":"AO8/(AQ4-AO13)","v":0},0,null,112,{"$f":"COUNTIF(L8:L9,AS8)","v":0},{"$f":"AT8/(AV4-AT13)","v":0},0]
[null,null,null,null,null,null,null,null,null,null,null,null,null,121,0,0,0,null,null,121,{"$f":"COUNTIF(L6:L7,T9)","v":0},{"$f":"U9/(W4-U13)","v":0},0,null,121,{"$f":"COUNTIF(L7:L7,Y9)","v":0},{"$f":"Z9/(AB4-Z13)","v":0},0,null,121,{"$f":"COUNTIF(L7:L8,AD9)","v":0},{"$f":"AE9/(AG4-AE13)","v":0},0,null,121,{"$f":"COUNTIF(L7:L8,AI9)","v":0},{"$f":"AJ9/(AL4-AJ13)","v":0},0,null,121,{"$f":"COUNTIF(L8:L8,AN9)","v":0},{"$f":"AO9/(AQ4-AO13)","v":0},0,null,121,{"$f":"COUNTIF(L8:L9,AS9)","v":0},{"$f":"AT9/(AV4-AT13)","v":0},0]
[null,null,null,null,null,null,null,null,null,null,null,null,null,122,0,0,0,null,null,122,{"$f":"COUNTIF(L6:L7,T10)","v":0},{"$f":"U10/(W4-U13)","v":0},0,null,122,{"$f":"COUNTIF(L7:L7,Y10)","v":0},{"$f":"Z10/(AB4-Z13)","v":0},0,null,122,{"$f":"COUNTIF(L7:L8,AD10)","v":0},{"$f":"AE10/(AG4-AE13)","v":0},0,null,122,{"$f":"COUNTIF(L7:L8,AI10)","v":0},{"$f":"AJ10/(AL4-AJ13)","v":0},0,null,122,{"$f":"COUNTIF(L8:L8,AN10)","v":0},{"$f":"AO10/(AQ4-AO13)","v":0},0,null,122,{"$f":"COUNTIF(L8:L9,AS10)","v":0},{"$f":"AT10/(AV4-AT13)","v":0},0]
[null,null,null,null,null,null,null,null,null,null,null,null,null,211,0,0,0,null,null,211,{"$f":"COUNTIF(L6:L7,T11)","v":0},{"$f":"U11/(W4-U13)","v":0},0,null,211,{"$f":"COUNTIF(L7:L7,Y11)","v":0},{"$f":"Z11/(AB4-Z13)","v":0},0,null,211,{"$f":"COUNTIF(L7:L8,AD11)","v":0},{"$f":"AE11/(AG4-AE13)","v":0},0,null,211,{"$f":"COUNTIF(L7:L8,AI11)","v":0},{"$f":"AJ11/(AL4-AJ13)","v":0},0,null,211,{"$f":"COUNTIF(L8:L8,AN11)","v":0},{"$f":"AO11/(AQ4-AO13)","v":0},0,null,211,{"$f":"COUNTIF(L8:L9,AS11)","v":0},{"$f":"AT11/(AV4-AT13)","v":0},0]
[null,null,null,null,null,null,null,null,null,null,null,null,null,212,0,0,0,null,null,212,{"$f":"COUNTIF(L6:L7,T12)","v":0},{"$f":"U12/(W4-U13)","v":0},0,null,212,{"$f":"COUNTIF(L7:L7,Y12)","v":0},{"$f":"Z12/(AB4-Z13)","v":0},0,null,212,{"$f":"COUNTIF(L7:L8,AD12)","v":0},{"$f":"AE12/(AG4-AE13)","v":0},0,null,212,{"$f":"COUNTIF(L7:L8,AI12)","v":0},{"$f":"AJ12/(AL4-AJ13)","v":0},0,null,212,{"$f":"COUNTIF(L8:L8,AN12)","v":0},{"$f":"AO12/(AQ4-AO13)","v":0},0,null,212,{"$f":"COUNTIF(L8:L9,AS12)","v":0},{"$f":"AT12/(AV4-AT13)","v":0},0]
[null,null,null,null,null,null,null,null,null,null,null,null,null,221,0,0,0,null,null,221,{"$f":"COUNTIF(L6:L7,T13)","v":0},null,null,null,221,{"$f":"COUNTIF(L7:L7,Y13)","v":0},null,null,null,221,{"$f":"COUNTIF(L7:L8,AD13)","v":0},null,null,null,221,{"$f":"COUNTIF(L7:L8,AI13)","v":0},null,null,null,221,{"$f":"COUNTIF(L8:L8,AN13)","v":0},null,null,null,221,{"$f":"COUNTIF(L8:L9,AS13)","v":0}]
[null,null,null,null,null,null,null,null,null,null,null,null,null,222,0,0,0,null,null,222,{"$f":"COUNTIF(L6:L7,T14)","v":0},{"$f":"U14/(W4-U13)","v":0},{"$f":"IF(V14=0,0,(V14*((LOG(V14))/LOG(2))))","v":0},null,222,{"$f":"COUNTIF(L7:L7,Y14)","v":0},{"$f":"Z14/(AB4-Z13)","v":0},{"$f":"IF(AA14=0,0,(AA14*((LOG(AA14))/LOG(2))))","v":0},null,222,{"$f":"COUNTIF(L7:L8,AD14)","v":0},{"$f":"AE14/(AG4-AE13)","v":0},{"$f":"IF(AF14=0,0,(AF14*((LOG(AF14))/LOG(2))))","v":0},null,222,{"$f":"COUNTIF(L7:L8,AI14)","v":0},{"$f":"AJ14/(AL4-AJ13)","v":0},{"$f":"IF(AK14=0,0,(AK14*((LOG(AK14))/LOG(2))))","v":0},null,222,{"$f":"COUNTIF(L8:L8,AN14)","v":0},{"$f":"AO14/(AQ4-AO13)","v":0},{"$f":"IF(AP14=0,0,(AP14*((LOG(AP14))/LOG(2))))","v":0},null,222,{"$f":"COUNTIF(L8:L9,AS14)","v":0},{"$f":"AT14/(AV4-AT13)","v":0},{"$f":"IF(AU14=0,0,(AU14*((LOG(AU14))/LOG(2))))","v":0}]
[null,null,null,null,null,null,null,null,null,null,null,null,null,null,null,{"$f":"SUM(P7:P14)","v":1},{"$f":"-SUM(Q7:Q14)","v":0},null,null,null,null,{"$f":"SUM(V7:V14)","v":1},{"$f":"-SUM(W7:W14)","v":0},null,null,null,{"$f":"SUM(AA7:AA14)","v":1},{"$f":"-SUM(AB7:AB14)","v":0},null,null,null,{"$f":"SUM(AF7:AF14)","v":1},{"$f":"-SUM(AG7:AG14)","v":0},null,null,null,{"$f":"SUM(AK7:AK14)","v":1},{"$f":"-SUM(AL7:AL14)","v":0},null,null,null,{"$f":"SUM(AP7:AP14)","v":1},{"$f":"-SUM(AQ7:AQ14)","v":0},null,null,null,{"$f":"SUM(AU7:AU14)","v":1},{"$f":"-SUM(AV7:AV14)","v":0}]
[null,null,null,null,null,null,null,null,null,null,null,null,null,null,null,"U=",{"$f":"Q15/(LOG(Q4)/LOG(2))","v":0},null,null,null,null,"U1=",{"$f":"W15/(LOG(W4)/LOG(2))","v":{"$error":"#DIV/0!"}},null,null,null,"U2=",{"$f":"AB15/(LOG(AB4)/LOG(2))","v":{"$error":"#DIV/0!"}},null,null,null,"U3=",{"$f":"AG15/(LOG(AG4)/LOG(2))","v":0},null,null,null,"U4=",{"$f":"AL15/(LOG(AL4)/LOG(2))","v":0},null,null,null,"U5=",{"$f":"AQ15/(LOG(AQ4)/LOG(2))","v":{"$error":"#DIV/0!"}},null,null,null,"U6=",{"$f":"AV15/(LOG(AV4)/LOG(2))","v":{"$error":"#DIV/0!"}}]
[]
[]
[null,null,null,null,null,null,null,null,null,null,null,null,null,"Total Target Seq"]
[null,null,null,null,null,null,null,null,null,null,null,null,null,{"$f":"COUNTIF(L7:L8,G3)","v":0},null,0,1,0,0,1,0]
[null,null,null,null,null,null,null,null,null,null,null,null,null,null,null,"% of reinforcement given in 6 equal intervals based on number of trials "]
[null,null,null,null,null,null,null,null,null,null,null,null,null,null,null,"%_1","%_2","%_3","%_4","%_5","%_6"]
[null,null,null,null,null,null,null,null,null,null,null,null,null,null,"target sequence",{"$f":"$G$3","v":221},221,221,221,221,221]
[null,null,null,null,null,null,null,null,null,null,null,null,null,null,"total reinforcement",{"$f":"U13","v":0},{"$f":"Z13","v":0},{"$f":"AE13","v":0},{"$f":"AJ13","v":0},{"$f":"AO13","v":0},{"$f":"AT13","v":0}]
[null,null,null,null,null,null,null,null,null,null,null,null,null,null,"% target"]
[null,null,null,null,null,null,null,null,null,null,null,null,null,null,"CCRF"]
[null,null,null,null,null,null,null,null,null,null,null,null,null,null,"% CCRf"]
[null,null,null,null,null,null,null,null,null,null,null,null,null,null,"average response rate",{"$f":"F6/P20","v":{"$error":"#VALUE!"}},{"$f":"(F7-F6)/Q20","v":{"$error":"#VALUE!"}},{"$f":"(F7-F7)/R20","v":{"$error":"#DIV/0!"}},{"$f":"(F7-F7)/S20","v":{"$error":"#DIV/0!"}},{"$f":"(F8-F7)/T20","v":681},{"$f":"(F8-F8)/U20","v":{"$error":"#DIV/0!"}}]

{"sheet":"!M902A1B.AXT","index":6,"n_rows":28,"n_cols":48,"rows_kept":28,"cut":false,"hidden":false,"merged":[[4,39,4,42],[5,39,5,40],[4,44,4,47],[5,44,5,45],[4,24,4,27],[5,24,5,25],[4,29,4,32],[5,29,5,30],[4,34,4,37],[5,34,5,35],[1,1,1,2],[5,13,5,14],[18,13,18,14],[19,13,19,14],[4,19,4,22],[5,19,5,20]]}
["Report for:!M902A1B.AXT"]
["Date:","<date>"]
["Hen:","<hen>",null,null,null,"Correct Sequence",{"$f":"Start!J2","v":221},null,null,null,null,null,null,null,null,"Total Sequences in Data",{"$f":"4994-COUNTBLANK(L7:L5000)","v":4},null,null,null,null,"Total Sequences in Block Data",{"$f":"COUNTA(L7:L7)","v":1},null,null,null,"Total Sequences in Block Data",{"$f":"COUNTA(L7:L8)","v":2},null,null,null,"Total Sequences in Block Data",{"$f":"COUNTA(L8:L8)","v":1},null,null,null,"Total Sequences in Block Data",{"$f":"COUNTA(L9:L9)","v":1},null,null,null,"Total Sequences in Block Data",{"$f":"COUNTA(L9:L10)","v":2},null,null,null,"Total Sequences in Block Data",{"$f":"COUNTA(L10:L10)","v":1}]
[null,null,null,null,null,null,null,null,null,null,null,null,null,null,null,"Total Sequences in Summary",{"$f":"SUM(O7:O14)","v":3},null,null,null,null,"Total Sequences in Block Summary",{"$f":"SUM(U7:U14)","v":1},null,null,null,"Total Sequences in Block Summary",{"$f":"SUM(Z7:Z14)","v":2},null,null,null,"Total Sequences in Block Summary",{"$f":"SUM(AE7:AE14)","v":1},null,null,null,"Total Sequences in Block Summary",{"$f":"SUM(AJ7:AJ14)","v":1},null,null,null,"Total Sequences in Block Summary",{"$f":"SUM(AO7:AO14)","v":1},null,null,null,"Total Sequences in Block Summary",{"$f":"SUM(AT7:AT14)","v":0}]
[null,null,null,null,null,null,null,null,null,null,null,null,null,null,null,null,null,null,null,"Block 1",null,null,null,null,"Block 2",null,null,null,null,"Block 3",null,null,null,null,"Block 4",null,null,null,null,"Block 5",null,null,null,null,"Block 6"]
["Sequence\nComponent\n1","Time\n1","Sequence\nComponent\n2","Time\n2","Sequence\nComponent\n3","Time\n3","Sequence\nComponent\n4","Time\n4","Sequence\nComponent\n5","Time\n5","Correct?\n0=No 1=Yes","Sequence",null,"Frequency",null,"Relative Frequency","Variability",null,null,"Frequency",null,"Relative Frequency","Variability",null,"Frequency",null,"Relative Frequency","Variability",null,"Frequency",null,"Relative Frequency","Variability",null,"Frequency",null,"Relative Frequency","Variability",null,"Frequency",null,"Relative Frequency","Variability",null,"Frequency",null,"Relative Frequency","Variability"]
[22,754,23,780,24,789,null,null,null,null,0,222,null,111,{"$f":"COUNTIF($L$7:$L$500,N7)","v":0},{"$f":"O7/$Q$4","v":0},{"$f":"IF(P7=0,0,(P7*((LOG(P7))/LOG(2))))","v":0},null,null,{"$f":"N7","v":111},{"$f":"COUNTIF(L7:L7,T7)","v":0},{"$f":"U7/(W4-U13)","v":0},{"$f":"IF(V7=0,0,(V7*((LOG(V7))/LOG(2))))","v":0},null,{"$f":"N7","v":111},{"$f":"COUNTIF(L7:L8,Y7)","v":0},{"$f":"Z7/(AB4-Z13)","v":0},{"$f":"IF(AA7=0,0,(AA7*((LOG(AA7))/LOG(2))))","v":0},null,{"$f":"N7","v":111},{"$f":"COUNTIF(L8:L8,AD7)","v":0},{"$f":"AE7/(AG4-AE13)","v":0},{"$f":"IF(AF7=0,0,(AF7*((LOG(AF7))/LOG(2))))","v":0},null,{"$f":"N7","v":111},{"$f":"COUNTIF(L9:L9,AI7)","v":0},{"$f":"AJ7/(AL4-AJ13)","v":0},{"$f":"IF(AK7=0,0,(AK7*((LOG(AK7))/LOG(2))))","v":0},null,{"$f":"N7","v":111},{"$f":"COUNTIF(L9:L10,AN7)","v":0},{"$f":"AO7/(AQ4-AO13)","v":0},{"$f":"IF(AP7=0,0,(AP7*((LOG(AP7))/LOG(2))))","v":0},null,{"$f":"N7","v":111},{"$f":"COUNTIF(L10:L10,AS7)","v":0},{"$f":"AT7/(AV4-AT13)","v":{"$error":"#DIV/0!"}},{"$f":"IF(AU7=0,0,(AU7*((LOG(AU7))/LOG(2))))","v":{"$error":"#DIV/0!"}}]
[22,2708,23,2722,24,2733,null,null,null,null,0,222,null,112,0,0,0,null,null,112,{"$f":"COUNTIF(L7:L7,T8)","v":0},{"$f":"U8/(W4-U13)","v":0},0,null,112,{"$f":"COUNTIF(L7:L8,Y8)","v":0},{"$f":"Z8/(AB4-Z13)","v":0},0,null,112,{"$f":"COUNTIF(L8:L8,AD8)","v":0},{"$f":"AE8/(AG4-AE13)","v":0},0,null,112,{"$f":"COUNTIF(L9:L9,AI8)","v":0},{"$f":"AJ8/(AL4-AJ13)","v":0},0,null,112,{"$f":"COUNTIF(L9:L10,AN8)","v":0},{"$f":"AO8/(AQ4-AO13)","v":0},0,null,112,{"$f":"COUNTIF(L10:L10,AS8)","v":0},{"$f":"AT8/(AV4-AT13)","v":{"$error":"#DIV/0!"}},{"$error":"#DIV/0!"}]
[22,2845,23,2856,24,2868,null,null,null,null,0,222,null,121,0,0,0,null,null,121,{"$f":"COUNTIF(L7:L7,T9)","v":0},{"$f":"U9/(W4-U13)","v":0},0,null,121,{"$f":"COUNTIF(L7:L8,Y9)","v":0},{"$f":"Z9/(AB4-Z13)","v":0},0,null,121,{"$f":"COUNTIF(L8:L8,AD9)","v":0},{"$f":"AE9/(AG4-AE13)","v":0},0,null,121,{"$f":"COUNTIF(L9:L9,AI9)","v":0},{"$f":"AJ9/(AL4-AJ13)","v":0},0,null,121,{"$f":"COUNTIF(L9:L10,AN9)","v":0},{"$f":"AO9/(AQ4-AO13)","v":0},0,null,121,{"$f":"COUNTIF(L10:L10,AS9)","v":0},{"$f":"AT9/(AV4-AT13)","v":{"$error":"#DIV/0!"}},{"$error":"#DIV/0!"}]
[22,3268,null,null,null,null,null,null,null,null,null,2,null,122,0,0,0,null,null,122,{"$f":"COUNTIF(L7:L7,T10)","v":0},{"$f":"U10/(W4-U13)","v":0},0,null,122,{"$f":"COUNTIF(L7:L8,Y10)","v":0},{"$f":"Z10/(AB4-Z13)","v":0},0,null,122,{"$f":"COUNTIF(L8:L8,AD10)","v":0},{"$f":"AE10/(AG4-AE13)","v":0},0,null,122,{"$f":"COUNTIF(L9:L9,AI10)","v":0},{"$f":"AJ10/(AL4-AJ13)","v":0},0,null,122,{"$f":"COUNTIF(L9:L10,AN10)","v":0},{"$f":"AO10/(AQ4-AO13)","v":0},0,null,122,{"$f":"COUNTIF(L10:L10,AS10)","v":0},{"$f":"AT10/(AV4-AT13)","v":{"$error":"#DIV/0!"}},{"$error":"#DIV/0!"}]
[null,null,null,null,null,null,null,null,null,null,null,null,null,211,0,0,0,null,null,211,{"$f":"COUNTIF(L7:L7,T11)","v":0},{"$f":"U11/(W4-U13)","v":0},0,null,211,{"$f":"COUNTIF(L7:L8,Y11)","v":0},{"$f":"Z11/(AB4-Z13)","v":0},0,null,211,{"$f":"COUNTIF(L8:L8,AD11)","v":0},{"$f":"AE11/(AG4-AE13)","v":0},0,null,211,{"$f":"COUNTIF(L9:L9,AI11)","v":0},{"$f":"AJ11/(AL4-AJ13)","v":0},0,null,211,{"$f":"COUNTIF(L9:L10,AN11)","v":0},{"$f":"AO11/(AQ4-AO13)","v":0},0,null,211,{"$f":"COUNTIF(L10:L10,AS11)","v":0},{"$f":"AT11/(AV4-AT13)","v":{"$error":"#DIV/0!"}},{"$error":"#DIV/0!"}]
[null,null,null,null,null,null,null,null,null,null,null,null,null,212,0,0,0,null,null,212,{"$f":"COUNTIF(L7:L7,T12)","v":0},{"$f":"U12/(W4-U13)","v":0},0,null,212,{"$f":"COUNTIF(L7:L8,Y12)","v":0},{"$f":"Z12/(AB4-Z13)","v":0},0,null,212,{"$f":"COUNTIF(L8:L8,AD12)","v":0},{"$f":"AE12/(AG4-AE13)","v":0},0,null,212,{"$f":"COUNTIF(L9:L9,AI12)","v":0},{"$f":"AJ12/(AL4-AJ13)","v":0},0,null,212,{"$f":"COUNTIF(L9:L10,AN12)","v":0},{"$f":"AO12/(AQ4-AO13)","v":0},0,null,212,{"$f":"COUNTIF(L10:L10,AS12)","v":0},{"$f":"AT12/(AV4-AT13)","v":{"$error":"#DIV/0!"}},{"$error":"#DIV/0!"}]
[null,null,null,null,null,null,null,null,null,null,null,null,null,221,0,0,0,null,null,221,{"$f":"COUNTIF(L7:L7,T13)","v":0},null,null,null,221,{"$f":"COUNTIF(L7:L8,Y13)","v":0},null,null,null,221,{"$f":"COUNTIF(L8:L8,AD13)","v":0},null,null,null,221,{"$f":"COUNTIF(L9:L9,AI13)","v":0},null,null,null,221,{"$f":"COUNTIF(L9:L10,AN13)","v":0},null,null,null,221,{"$f":"COUNTIF(L10:L10,AS13)","v":0}]
[null,null,null,null,null,null,null,null,null,null,null,null,null,222,3,1,0,null,null,222,{"$f":"COUNTIF(L7:L7,T14)","v":1},{"$f":"U14/(W4-U13)","v":1},{"$f":"IF(V14=0,0,(V14*((LOG(V14))/LOG(2))))","v":0},null,222,{"$f":"COUNTIF(L7:L8,Y14)","v":2},{"$f":"Z14/(AB4-Z13)","v":1},{"$f":"IF(AA14=0,0,(AA14*((LOG(AA14))/LOG(2))))","v":0},null,222,{"$f":"COUNTIF(L8:L8,AD14)","v":1},{"$f":"AE14/(AG4-AE13)","v":1},{"$f":"IF(AF14=0,0,(AF14*((LOG(AF14))/LOG(2))))","v":0},null,222,{"$f":"COUNTIF(L9:L9,AI14)","v":1},{"$f":"AJ14/(AL4-AJ13)","v":1},{"$f":"IF(AK14=0,0,(AK14*((LOG(AK14))/LOG(2))))","v":0},null,222,{"$f":"COUNTIF(L9:L10,AN14)","v":1},{"$f":"AO14/(AQ4-AO13)","v":1},{"$f":"IF(AP14=0,0,(AP14*((LOG(AP14))/LOG(2))))","v":0},null,222,{"$f":"COUNTIF(L10:L10,AS14)","v":0},{"$f":"AT14/(AV4-AT13)","v":{"$error":"#DIV/0!"}},{"$f":"IF(AU14=0,0,(AU14*((LOG(AU14))/LOG(2))))","v":{"$error":"#DIV/0!"}}]
[null,null,null,null,null,null,null,null,null,null,null,null,null,null,null,{"$f":"SUM(P7:P14)","v":1},{"$f":"-SUM(Q7:Q14)","v":0},null,null,null,null,{"$f":"SUM(V7:V14)","v":1},{"$f":"-SUM(W7:W14)","v":0},null,null,null,{"$f":"SUM(AA7:AA14)","v":1},{"$f":"-SUM(AB7:AB14)","v":0},null,null,null,{"$f":"SUM(AF7:AF14)","v":1},{"$f":"-SUM(AG7:AG14)","v":0},null,null,null,{"$f":"SUM(AK7:AK14)","v":1},{"$f":"-SUM(AL7:AL14)","v":0},null,null,null,{"$f":"SUM(AP7:AP14)","v":1},{"$f":"-SUM(AQ7:AQ14)","v":0},null,null,null,{"$f":"SUM(AU7:AU14)","v":{"$error":"#DIV/0!"}},{"$f":"-SUM(AV7:AV14)","v":{"$error":"#DIV/0!"}}]
[null,null,null,null,null,null,null,null,null,null,null,null,null,null,null,"U=",{"$f":"Q15/(LOG(Q4)/LOG(2))","v":0},null,null,null,null,"U1=",{"$f":"W15/(LOG(W4)/LOG(2))","v":{"$error":"#DIV/0!"}},null,null,null,"U2=",{"$f":"AB15/(LOG(AB4)/LOG(2))","v":0},null,null,null,"U3=",{"$f":"AG15/(LOG(AG4)/LOG(2))","v":{"$error":"#DIV/0!"}},null,null,null,"U4=",{"$f":"AL15/(LOG(AL4)/LOG(2))","v":{"$error":"#DIV/0!"}},null,null,null,"U5=",{"$f":"AQ15/(LOG(AQ4)/LOG(2))","v":{"$error":"#DIV/0!"}},null,null,null,"U6=",{"$f":"AV15/(LOG(AV4)/LOG(2))","v":{"$error":"#DIV/0!"}}]
[]
[]
[null,null,null,null,null,null,null,null,null,null,null,null,null,"Total Target Seq"]
[null,null,null,null,null,null,null,null,null,null,null,null,null,{"$f":"COUNTIF(L7:L10,G3)","v":0},null,1,0,1,1,0,1]
[null,null,null,null,null,null,null,null,null,null,null,null,null,null,null,"% of reinforcement given in 6 equal intervals based on number of trials "]
[null,null,null,null,null,null,null,null,null,null,null,null,null,null,null,"%_1","%_2","%_3","%_4","%_5","%_6"]
[null,null,null,null,null,null,null,null,null,null,null,null,null,null,"target sequence",{"$f":"$G$3","v":221},221,221,221,221,221]
[null,null,null,null,null,null,null,null,null,null,null,null,null,null,"total reinforcement",{"$f":"U13","v":0},{"$f":"Z13","v":0},{"$f":"AE13","v":0},{"$f":"AJ13","v":0},{"$f":"AO13","v":0},{"$f":"AT13","v":0}]
[null,null,null,null,null,null,null,null,null,null,null,null,null,null,"% target"]
[null,null,null,null,null,null,null,null,null,null,null,null,null,null,"CCRF"]
[null,null,null,null,null,null,null,null,null,null,null,null,null,null,"% CCRf"]
[null,null,null,null,null,null,null,null,null,null,null,null,null,null,"average response rate",{"$f":"F7/P20","v":789},{"$f":"(F7-F7)/Q20","v":{"$error":"#DIV/0!"}},{"$f":"(F8-F7)/R20","v":1944},{"$f":"(F9-F8)/S20","v":135},{"$f":"(F9-F9)/T20","v":{"$error":"#DIV/0!"}},{"$f":"(F10-F9)/U20","v":-2868}]

{"sheet":"!M903C3B.AXT","index":7,"n_rows":28,"n_cols":48,"rows_kept":28,"cut":false,"hidden":false,"merged":[[4,39,4,42],[5,39,5,40],[4,44,4,47],[5,44,5,45],[4,24,4,27],[5,24,5,25],[4,29,4,32],[5,29,5,30],[4,34,4,37],[5,34,5,35],[1,1,1,2],[5,13,5,14],[18,13,18,14],[19,13,19,14],[4,19,4,22],[5,19,5,20]]}
["Report for:!M903C3B.AXT"]
["Date:","<date>"]
["Hen:","<hen>",null,null,null,"Correct Sequence",{"$f":"Start!J2","v":221},null,null,null,null,null,null,null,null,"Total Sequences in Data",{"$f":"4994-COUNTBLANK(L7:L5000)","v":4},null,null,null,null,"Total Sequences in Block Data",{"$f":"COUNTA(L7:L7)","v":1},null,null,null,"Total Sequences in Block Data",{"$f":"COUNTA(L7:L8)","v":2},null,null,null,"Total Sequences in Block Data",{"$f":"COUNTA(L8:L8)","v":1},null,null,null,"Total Sequences in Block Data",{"$f":"COUNTA(L9:L9)","v":1},null,null,null,"Total Sequences in Block Data",{"$f":"COUNTA(L9:L10)","v":2},null,null,null,"Total Sequences in Block Data",{"$f":"COUNTA(L10:L10)","v":1}]
[null,null,null,null,null,null,null,null,null,null,null,null,null,null,null,"Total Sequences in Summary",{"$f":"SUM(O7:O14)","v":4},null,null,null,null,"Total Sequences in Block Summary",{"$f":"SUM(U7:U14)","v":1},null,null,null,"Total Sequences in Block Summary",{"$f":"SUM(Z7:Z14)","v":2},null,null,null,"Total Sequences in Block Summary",{"$f":"SUM(AE7:AE14)","v":1},null,null,null,"Total Sequences in Block Summary",{"$f":"SUM(AJ7:AJ14)","v":1},null,null,null,"Total Sequences in Block Summary",{"$f":"SUM(AO7:AO14)","v":2},null,null,null,"Total Sequences in Block Summary",{"$f":"SUM(AT7:AT14)","v":1}]
[null,null,null,null,null,null,null,null,null,null,null,null,null,null,null,null,null,null,null,"Block 1",null,null,null,null,"Block 2",null,null,null,null,"Block 3",null,null,null,null,"Block 4",null,null,null,null,"Block 5",null,null,null,null,"Block 6"]
["Sequence\nComponent\n1","Time\n1","Sequence\nComponent\n2","Time\n2","Sequence\nComponent\n3","Time\n3","Sequence\nComponent\n4","Time\n4","Sequence\nComponent\n5","Time\n5","Correct?\n0=No 1=Yes","Sequence",null,"Frequency",null,"Relative Frequency","Variability",null,null,"Frequency",null,"Relative Frequency","Variability",null,"Frequency",null,"Relative Frequency","Variability",null,"Frequency",null,"Relative Frequency","Variability",null,"Frequency",null,"Relative Frequency","Variability",null,"Frequency",null,"Relative Frequency","Variability",null,"Frequency",null,"Relative Frequency","Variability"]
[22,243,23,268,13,278,null,null,null,null,0,221,null,111,{"$f":"COUNTIF($L$7:$L$500,N7)","v":1},{"$f":"O7/$Q$4","v":0.25},{"$f":"IF(P7=0,0,(P7*((LOG(P7))/LOG(2))))","v":-0.5},null,null,{"$f":"N7","v":111},{"$f":"COUNTIF(L7:L7,T7)","v":0},{"$f":"U7/(W4-U13)","v":{"$error":"#DIV/0!"}},{"$f":"IF(V7=0,0,(V7*((LOG(V7))/LOG(2))))","v":{"$error":"#DIV/0!"}},null,{"$f":"N7","v":111},{"$f":"COUNTIF(L7:L8,Y7)","v":0},{"$f":"Z7/(AB4-Z13)","v":0},{"$f":"IF(AA7=0,0,(AA7*((LOG(AA7))/LOG(2))))","v":0},null,{"$f":"N7","v":111},{"$f":"COUNTIF(L8:L8,AD7)","v":0},{"$f":"AE7/(AG4-AE13)","v":0},{"$f":"IF(AF7=0,0,(AF7*((LOG(AF7))/LOG(2))))","v":0},null,{"$f":"N7","v":111},{"$f":"COUNTIF(L9:L9,AI7)","v":1},{"$f":"AJ7/(AL4-AJ13)","v":1},{"$f":"IF(AK7=0,0,(AK7*((LOG(AK7))/LOG(2))))","v":0},null,{"$f":"N7","v":111},{"$f":"COUNTIF(L9:L10,AN7)","v":1},{"$f":"AO7/(AQ4-AO13)","v":0.5},{"$f":"IF(AP7=0,0,(AP7*((LOG(AP7))/LOG(2))))","v":-0.5},null,{"$f":"N7","v":111},{"$f":"COUNTIF(L10:L10,AS7)","v":0},{"$f":"AT7/(AV4-AT13)","v":0},{"$f":"IF(AU7=0,0,(AU7*((LOG(AU7))/LOG(2))))","v":0}]
[11,665,21,695,22,701,null,null,null,null,0,122,null,112,0,0,0,null,null,112,{"$f":"COUNTIF(L7:L7,T8)","v":0},{"$f":"U8/(W4-U13)","v":{"$error":"#DIV/0!"}},{"$error":"#DIV/0!"},null,112,{"$f":"COUNTIF(L7:L8,Y8)","v":0},{"$f":"Z8/(AB4-Z13)","v":0},0,null,112,{"$f":"COUNTIF(L8:L8,AD8)","v":0},{"$f":"AE8/(AG4-AE13)","v":0},0,null,112,{"$f":"COUNTIF(L9:L9,AI8)","v":0},{"$f":"AJ8/(AL4-AJ13)","v":0},0,null,112,{"$f":"COUNTIF(L9:L10,AN8)","v":0},{"$f":"AO8/(AQ4-AO13)","v":0},0,null,112,{"$f":"COUNTIF(L10:L10,AS8)","v":0},{"$f":"AT8/(AV4-AT13)","v":0},0]
[11,1144,12,1148,13,8609,null,null,null,null,0,111,null,121,0,0,0,null,null,121,{"$f":"COUNTIF(L7:L7,T9)","v":0},{"$f":"U9/(W4-U13)","v":{"$error":"#DIV/0!"}},{"$error":"#DIV/0!"},null,121,{"$f":"COUNTIF(L7:L8,Y9)","v":0},{"$f":"Z9/(AB4-Z13)","v":0},0,null,121,{"$f":"COUNTIF(L8:L8,AD9)","v":0},{"$f":"AE9/(AG4-AE13)","v":0},0,null,121,{"$f":"COUNTIF(L9:L9,AI9)","v":0},{"$f":"AJ9/(AL4-AJ13)","v":0},0,null,121,{"$f":"COUNTIF(L9:L10,AN9)","v":0},{"$f":"AO9/(AQ4-AO13)","v":0},0,null,121,{"$f":"COUNTIF(L10:L10,AS9)","v":0},{"$f":"AT9/(AV4-AT13)","v":0},0]
[22,15251,14,23111,13,23114,null,null,null,null,0,211,null,122,1,0.25,-0.5,null,null,122,{"$f":"COUNTIF(L7:L7,T10)","v":0},{"$f":"U10/(W4-U13)","v":{"$error":"#DIV/0!"}},{"$error":"#DIV/0!"},null,122,{"$f":"COUNTIF(L7:L8,Y10)","v":1},{"$f":"Z10/(AB4-Z13)","v":1},0,null,122,{"$f":"COUNTIF(L8:L8,AD10)","v":1},{"$f":"AE10/(AG4-AE13)","v":1},0,null,122,{"$f":"COUNTIF(L9:L9,AI10)","v":0},{"$f":"AJ10/(AL4-AJ13)","v":0},0,null,122,{"$f":"COUNTIF(L9:L10,AN10)","v":0},{"$f":"AO10/(AQ4-AO13)","v":0},0,null,122,{"$f":"COUNTIF(L10:L10,AS10)","v":0},{"$f":"AT10/(AV4-AT13)","v":0},0]
[null,null,null,null,null,null,null,null,null,null,null,null,null,211,1,0.25,-0.5,null,null,211,{"$f":"COUNTIF(L7:L7,T11)","v":0},{"$f":"U11/(W4-U13)","v":{"$error":"#DIV/0!"}},{"$error":"#DIV/0!"},null,211,{"$f":"COUNTIF(L7:L8,Y11)","v":0},{"$f":"Z11/(AB4-Z13)","v":0},0,null,211,{"$f":"COUNTIF(L8:L8,AD11)","v":0},{"$f":"AE11/(AG4-AE13)","v":0},0,null,211,{"$f":"COUNTIF(L9:L9,AI11)","v":0},{"$f":"AJ11/(AL4-AJ13)","v":0},0,null,211,{"$f":"COUNTIF(L9:L10,AN11)","v":1},{"$f":"AO11/(AQ4-AO13)","v":0.5},-0.5,null,211,{"$f":"COUNTIF(L10:L10,AS11)","v":1},{"$f":"AT11/(AV4-AT13)","v":1},0]
[null,null,null,null,null,null,null,null,null,null,null,null,null,212,0,0,0,null,null,212,{"$f":"COUNTIF(L7:L7,T12)","v":0},{"$f":"U12/(W4-U13)","v":{"$error":"#DIV/0!"}},{"$error":"#DIV/0!"},null,212,{"$f":"COUNTIF(L7:L8,Y12)","v":0},{"$f":"Z12/(AB4-Z13)","v":0},0,null,212,{"$f":"COUNTIF(L8:L8,AD12)","v":0},{"$f":"AE12/(AG4-AE13)","v":0},0,null,212,{"$f":"COUNTIF(L9:L9,AI12)","v":0},{"$f":"AJ12/(AL4-AJ13)","v":0},0,null,212,{"$f":"COUNTIF(L9:L10,AN12)","v":0},{"$f":"AO12/(AQ4-AO13)","v":0},0,null,212,{"$f":"COUNTIF(L10:L10,AS12)","v":0},{"$f":"AT12/(AV4-AT13)","v":0},0]
[null,null,null,null,null,null,null,null,null,null,null,null,null,221,1,0.25,-0.5,null,null,221,{"$f":"COUNTIF(L7:L7,T13)","v":1},null,null,null,221,{"$f":"COUNTIF(L7:L8,Y13)","v":1},null,null,null,221,{"$f":"COUNTIF(L8:L8,AD13)","v":0},null,null,null,221,{"$f":"COUNTIF(L9:L9,AI13)","v":0},null,null,null,221,{"$f":"COUNTIF(L9:L10,AN13)","v":0},null,null,null,221,{"$f":"COUNTIF(L10:L10,AS13)","v":0}]
[null,null,null,null,null,null,null,null,null,null,null,null,null,222,0,0,0,null,null,222,{"$f":"COUNTIF(L7:L7,T14)","v":0},{"$f":"U14/(W4-U13)","v":{"$error":"#DIV/0!"}},{"$f":"IF(V14=0,0,(V14*((LOG(V14))/LOG(2))))","v":{"$error":"#DIV/0!"}},null,222,{"$f":"COUNTIF(L7:L8,Y14)","v":0},{"$f":"Z14/(AB4-Z13)","v":0},{"$f":"IF(AA14=0,0,(AA14*((LOG(AA14))/LOG(2))))","v":0},null,222,{"$f":"COUNTIF(L8:L8,AD14)","v":0},{"$f":"AE14/(AG4-AE13)","v":0},{"$f":"IF(AF14=0,0,(AF14*((LOG(AF14))/LOG(2))))","v":0},null,222,{"$f":"COUNTIF(L9:L9,AI14)","v":0},{"$f":"AJ14/(AL4-AJ13)","v":0},{"$f":"IF(AK14=0,0,(AK14*((LOG(AK14))/LOG(2))))","v":0},null,222,{"$f":"COUNTIF(L9:L10,AN14)","v":0},{"$f":"AO14/(AQ4-AO13)","v":0},{"$f":"IF(AP14=0,0,(AP14*((LOG(AP14))/LOG(2))))","v":0},null,222,{"$f":"COUNTIF(L10:L10,AS14)","v":0},{"$f":"AT14/(AV4-AT13)","v":0},{"$f":"IF(AU14=0,0,(AU14*((LOG(AU14))/LOG(2))))","v":0}]
[null,null,null,null,null,null,null,null,null,null,null,null,null,null,null,{"$f":"SUM(P7:P14)","v":1},{"$f":"-SUM(Q7:Q14)","v":2},null,null,null,null,{"$f":"SUM(V7:V14)","v":{"$error":"#DIV/0!"}},{"$f":"-SUM(W7:W14)","v":{"$error":"#DIV/0!"}},null,null,null,{"$f":"SUM(AA7:AA14)","v":1},{"$f":"-SUM(AB7:AB14)","v":0},null,null,null,{"$f":"SUM(AF7:AF14)","v":1},{"$f":"-SUM(AG7:AG14)","v":0},null,null,null,{"$f":"SUM(AK7:AK14)","v":1},{"$f":"-SUM(AL7:AL14)","v":0},null,null,null,{"$f":"SUM(AP7:AP14)","v":1},{"$f":"-SUM(AQ7:AQ14)","v":1},null,null,null,{"$f":"SUM(AU7:AU14)","v":1},{"$f":"-SUM(AV7:AV14)","v":0}]
[null,null,null,null,null,null,null,null,null,null,null,null,null,null,null,"U=",{"$f":"Q15/(LOG(Q4)/LOG(2))","v":1},null,null,null,null,"U1=",{"$f":"W15/(LOG(W4)/LOG(2))","v":{"$error":"#DIV/0!"}},null,null,null,"U2=",{"$f":"AB15/(LOG(AB4)/LOG(2))","v":0},null,null,null,"U3=",{"$f":"AG15/(LOG(AG4)/LOG(2))","v":{"$error":"#DIV/0!"}},null,null,null,"U4=",{"$f":"AL15/(LOG(AL4)/LOG(2))","v":{"$error":"#DIV/0!"}},null,null,null,"U5=",{"$f":"AQ15/(LOG(AQ4)/LOG(2))","v":1},null,null,null,"U6=",{"$f":"AV15/(LOG(AV4)/LOG(2))","v":{"$error":"#DIV/0!"}}]
[]
[]
[null,null,null,null,null,null,null,null,null,null,null,null,null,"Total Target Seq"]
[null,null,null,null,null,null,null,null,null,null,null,null,null,{"$f":"COUNTIF(L7:L10,G3)","v":1},null,1,0,1,1,0,1]
[null,null,null,null,null,null,null,null,null,null,null,null,null,null,null,"% of reinforcement given in 6 equal intervals based on number of trials "]
[null,null,null,null,null,null,null,null,null,null,null,null,null,null,null,"%_1","%_2","%_3","%_4","%_5","%_6"]
[null,null,null,null,null,null,null,null,null,null,null,null,null,null,"target sequence",{"$f":"$G$3","v":221},221,221,221,221,221]
[null,null,null,null,null,null,null,null,null,null,null,null,null,null,"total reinforcement",{"$f":"U13","v":1},{"$f":"Z13","v":1},{"$f":"AE13","v":0},{"$f":"AJ13","v":0},{"$f":"AO13","v":0},{"$f":"AT13","v":0}]
[null,null,null,null,null,null,null,null,null,null,null,null,null,null,"% target"]
[null,null,null,null,null,null,null,null,null,null,null,null,null,null,"CCRF"]
[null,null,null,null,null,null,null,null,null,null,null,null,null,null,"% CCRf"]
[null,null,null,null,null,null,null,null,null,null,null,null,null,null,"average response rate",{"$f":"F7/P20","v":278},{"$f":"(F7-F7)/Q20","v":{"$error":"#DIV/0!"}},{"$f":"(F8-F7)/R20","v":423},{"$f":"(F9-F8)/S20","v":7908},{"$f":"(F9-F9)/T20","v":{"$error":"#DIV/0!"}},{"$f":"(F10-F9)/U20","v":14505}]

{"sheet":"!M904A4B.AXT","index":8,"n_rows":28,"n_cols":48,"rows_kept":28,"cut":false,"hidden":false,"merged":[[4,39,4,42],[5,39,5,40],[4,44,4,47],[5,44,5,45],[4,24,4,27],[5,24,5,25],[4,29,4,32],[5,29,5,30],[4,34,4,37],[5,34,5,35],[1,1,1,2],[5,13,5,14],[18,13,18,14],[19,13,19,14],[4,19,4,22],[5,19,5,20]]}
["Report for:!M904A4B.AXT"]
["Date:","<date>"]
["Hen:","<hen>",null,null,null,"Correct Sequence",{"$f":"Start!J2","v":221},null,null,null,null,null,null,null,null,"Total Sequences in Data",{"$f":"4994-COUNTBLANK(L7:L5000)","v":7},null,null,null,null,"Total Sequences in Block Data",{"$f":"COUNTA(L7:L7)","v":1},null,null,null,"Total Sequences in Block Data",{"$f":"COUNTA(L8:L8)","v":1},null,null,null,"Total Sequences in Block Data",{"$f":"COUNTA(L9:L10)","v":2},null,null,null,"Total Sequences in Block Data",{"$f":"COUNTA(L11:L11)","v":1},null,null,null,"Total Sequences in Block Data",{"$f":"COUNTA(L12:L12)","v":1},null,null,null,"Total Sequences in Block Data",{"$f":"COUNTA(L13:L13)","v":1}]
[null,null,null,null,null,null,null,null,null,null,null,null,null,null,null,"Total Sequences in Summary",{"$f":"SUM(O7:O14)","v":6},null,null,null,null,"Total Sequences in Block Summary",{"$f":"SUM(U7:U14)","v":1},null,null,null,"Total Sequences in Block Summary",{"$f":"SUM(Z7:Z14)","v":1},null,null,null,"Total Sequences in Block Summary",{"$f":"SUM(AE7:AE14)","v":2},null,null,null,"Total Sequences in Block Summary",{"$f":"SUM(AJ7:AJ14)","v":1},null,null,null,"Total Sequences in Block Summary",{"$f":"SUM(AO7:AO14)","v":1},null,null,null,"Total Sequences in Block Summary",{"$f":"SUM(AT7:AT14)","v":0}]
[null,null,null,null,null,null,null,null,null,null,null,null,null,null,null,null,null,null,null,"Block 1",null,null,null,null,"Block 2",null,null,null,null,"Block 3",null,null,null,null,"Block 4",null,null,null,null,"Block 5",null,null,null,null,"Block 6"]
["Sequence\nComponent\n1","Time\n1","Sequence\nComponent\n2","Time\n2","Sequence\nComponent\n3","Time\n3","Sequence\nComponent\n4","Time\n4","Sequence\nComponent\n5","Time\n5","Correct?\n0=No 1=Yes","Sequence",null,"Frequency",null,"Relative Frequency","Variability",null,null,"Frequency",null,"Relative Frequency","Variability",null,"Frequency",null,"Relative Frequency","Variability",null,"Frequency",null,"Relative Frequency","Variability",null,"Frequency",null,"Relative Frequency","Variability",null,"Frequency",null,"Relative Frequency","Variability",null,"Frequency",null,"Relative Frequency","Variability"]
[11,844,21,849,22,861,null,null,null,null,0,122,null,111,{"$f":"COUNTIF($L$7:$L$500,N7)","v":1},{"$f":"O7/$Q$4","v":0.16666666666666666},{"$f":"IF(P7=0,0,(P7*((LOG(P7))/LOG(2))))","v":-0.43082708345352599},null,null,{"$f":"N7","v":111},{"$f":"COUNTIF(L7:L7,T7)","v":0},{"$f":"U7/(W4-U13)","v":0},{"$f":"IF(V7=0,0,(V7*((LOG(V7))/LOG(2))))","v":0},null,{"$f":"N7","v":111},{"$f":"COUNTIF(L8:L8,Y7)","v":0},{"$f":"Z7/(AB4-Z13)","v":0},{"$f":"IF(AA7=0,0,(AA7*((LOG(AA7))/LOG(2))))","v":0},null,{"$f":"N7","v":111},{"$f":"COUNTIF(L9:L10,AD7)","v":0},{"$f":"AE7/(AG4-AE13)","v":0},{"$f":"IF(AF7=0,0,(AF7*((LOG(AF7))/LOG(2))))","v":0},null,{"$f":"N7","v":111},{"$f":"COUNTIF(L11:L11,AI7)","v":1},{"$f":"AJ7/(AL4-AJ13)","v":1},{"$f":"IF(AK7=0,0,(AK7*((LOG(AK7))/LOG(2))))","v":0},null,{"$f":"N7","v":111},{"$f":"COUNTIF(L12:L12,AN7)","v":0},{"$f":"AO7/(AQ4-AO13)","v":0},{"$f":"IF(AP7=0,0,(AP7*((LOG(AP7))/LOG(2))))","v":0},null,{"$f":"N7","v":111},{"$f":"COUNTIF(L13:L13,AS7)","v":0},{"$f":"AT7/(AV4-AT13)","v":{"$error":"#DIV/0!"}},{"$f":"IF(AU7=0,0,(AU7*((LOG(AU7))/LOG(2))))","v":{"$error":"#DIV/0!"}}]
[22,983,14,1015,24,1028,null,null,null,null,0,212,null,112,1,0.16666666666666666,-0.43082708345352599,null,null,112,{"$f":"COUNTIF(L7:L7,T8)","v":0},{"$f":"U8/(W4-U13)","v":0},0,null,112,{"$f":"COUNTIF(L8:L8,Y8)","v":0},{"$f":"Z8/(AB4-Z13)","v":0},0,null,112,{"$f":"COUNTIF(L9:L10,AD8)","v":1},{"$f":"AE8/(AG4-AE13)","v":1},0,null,112,{"$f":"COUNTIF(L11:L11,AI8)","v":0},{"$f":"AJ8/(AL4-AJ13)","v":0},0,null,112,{"$f":"COUNTIF(L12:L12,AN8)","v":0},{"$f":"AO8/(AQ4-AO13)","v":0},0,null,112,{"$f":"COUNTIF(L13:L13,AS8)","v":0},{"$f":"AT8/(AV4-AT13)","v":{"$error":"#DIV/0!"}},{"$error":"#DIV/0!"}]
[22,1133,23,1134,13,1525,null,null,null,null,0,221,null,121,0,0,0,null,null,121,{"$f":"COUNTIF(L7:L7,T9)","v":0},{"$f":"U9/(W4-U13)","v":0},0,null,121,{"$f":"COUNTIF(L8:L8,Y9)","v":0},{"$f":"Z9/(AB4-Z13)","v":0},0,null,121,{"$f":"COUNTIF(L9:L10,AD9)","v":0},{"$f":"AE9/(AG4-AE13)","v":0},0,null,121,{"$f":"COUNTIF(L11:L11,AI9)","v":0},{"$f":"AJ9/(AL4-AJ13)","v":0},0,null,121,{"$f":"COUNTIF(L12:L12,AN9)","v":0},{"$f":"AO9/(AQ4-AO13)","v":0},0,null,121,{"$f":"COUNTIF(L13:L13,AS9)","v":0},{"$f":"AT9/(AV4-AT13)","v":{"$error":"#DIV/0!"}},{"$error":"#DIV/0!"}]
[11,4399,12,4404,24,4406,null,null,null,null,0,112,null,122,1,0.16666666666666666,-0.43082708345352599,null,null,122,{"$f":"COUNTIF(L7:L7,T10)","v":1},{"$f":"U10/(W4-U13)","v":1},0,null,122,{"$f":"COUNTIF(L8:L8,Y10)","v":0},{"$f":"Z10/(AB4-Z13)","v":0},0,null,122,{"$f":"COUNTIF(L9:L10,AD10)","v":0},{"$f":"AE10/(AG4-AE13)","v":0},0,null,122,{"$f":"COUNTIF(L11:L11,AI10)","v":0},{"$f":"AJ10/(AL4-AJ13)","v":0},0,null,122,{"$f":"COUNTIF(L12:L12,AN10)","v":0},{"$f":"AO10/(AQ4-AO13)","v":0},0,null,122,{"$f":"COUNTIF(L13:L13,AS10)","v":0},{"$f":"AT10/(AV4-AT13)","v":{"$error":"#DIV/0!"}},{"$error":"#DIV/0!"}]
[11,4552,12,4553,13,4585,null,null,null,null,0,111,null,211,1,0.16666666666666666,-0.43082708345352599,null,null,211,{"$f":"COUNTIF(L7:L7,T11)","v":0},{"$f":"U11/(W4-U13)","v":0},0,null,211,{"$f":"COUNTIF(L8:L8,Y11)","v":0},{"$f":"Z11/(AB4-Z13)","v":0},0,null,211,{"$f":"COUNTIF(L9:L10,AD11)","v":0},{"$f":"AE11/(AG4-AE13)","v":0},0,null,211,{"$f":"COUNTIF(L11:L11,AI11)","v":0},{"$f":"AJ11/(AL4-AJ13)","v":0},0,null,211,{"$f":"COUNTIF(L12:L12,AN11)","v":1},{"$f":"AO11/(AQ4-AO13)","v":1},0,null,211,{"$f":"COUNTIF(L13:L13,AS11)","v":0},{"$f":"AT11/(AV4-AT13)","v":{"$error":"#DIV/0!"}},{"$error":"#DIV/0!"}]
[22,5680,14,5685,13,5722,null,null,null,null,0,211,null,212,1,0.16666666666666666,-0.43082708345352599,null,null,212,{"$f":"COUNTIF(L7:L7,T12)","v":0},{"$f":"U12/(W4-U13)","v":0},0,null,212,{"$f":"COUNTIF(L8:L8,Y12)","v":1},{"$f":"Z12/(AB4-Z13)","v":1},0,null,212,{"$f":"COUNTIF(L9:L10,AD12)","v":0},{"$f":"AE12/(AG4-AE13)","v":0},0,null,212,{"$f":"COUNTIF(L11:L11,AI12)","v":0},{"$f":"AJ12/(AL4-AJ13)","v":0},0,null,212,{"$f":"COUNTIF(L12:L12,AN12)","v":0},{"$f":"AO12/(AQ4-AO13)","v":0},0,null,212,{"$f":"COUNTIF(L13:L13,AS12)","v":0},{"$f":"AT12/(AV4-AT13)","v":{"$error":"#DIV/0!"}},{"$error":"#DIV/0!"}]
[22,8293,23,19911,null,null,null,null,null,null,null,22,null,221,1,0.16666666666666666,-0.43082708345352599,null,null,221,{"$f":"COUNTIF(L7:L7,T13)","v":0},null,null,null,221,{"$f":"COUNTIF(L8:L8,Y13)","v":0},null,null,null,221,{"$f":"COUNTIF(L9:L10,AD13)","v":1},null,null,null,221,{"$f":"COUNTIF(L11:L11,AI13)","v":0},null,null,null,221,{"$f":"COUNTIF(L12:L12,AN13)","v":0},null,null,null,221,{"$f":"COUNTIF(L13:L13,AS13)","v":0}]
[null,null,null,null,null,null,null,null,null,null,null,null,null,222,0,0,0,null,null,222,{"$f":"COUNTIF(L7:L7,T14)","v":0},{"$f":"U14/(W4-U13)","v":0},{"$f":"IF(V14=0,0,(V14*((LOG(V14))/LOG(2))))","v":0},null,222,{"$f":"COUNTIF(L8:L8,Y14)","v":0},{"$f":"Z14/(AB4-Z13)","v":0},{"$f":"IF(AA14=0,0,(AA14*((LOG(AA14))/LOG(2))))","v":0},null,222,{"$f":"COUNTIF(L9:L10,AD14)","v":0},{"$f":"AE14/(AG4-AE13)","v":0},{"$f":"IF(AF14=0,0,(AF14*((LOG(AF14))/LOG(2))))","v":0},null,222,{"$f":"COUNTIF(L11:L11,AI14)","v":0},{"$f":"AJ14/(AL4-AJ13)","v":0},{"$f":"IF(AK14=0,0,(AK14*((LOG(AK14))/LOG(2))))","v":0},null,222,{"$f":"COUNTIF(L12:L12,AN14)","v":0},{"$f":"AO14/(AQ4-AO13)","v":0},{"$f":"IF(AP14=0,0,(AP14*((LOG(AP14))/LOG(2))))","v":0},null,222,{"$f":"COUNTIF(L13:L13,AS14)","v":0},{"$f":"AT14/(AV4-AT13)","v":{"$error":"#DIV/0!"}},{"$f":"IF(AU14=0,0,(AU14*((LOG(AU14))/LOG(2))))","v":{"$error":"#DIV/0!"}}]
[null,null,null,null,null,null,null,null,null,null,null,null,null,null,null,{"$f":"SUM(P7:P14)","v":0.99999999999999989},{"$f":"-SUM(Q7:Q14)","v":2.5849625007211561},null,null,null,null,{"$f":"SUM(V7:V14)","v":1},{"$f":"-SUM(W7:W14)","v":0},null,null,null,{"$f":"SUM(AA7:AA14)","v":1},{"$f":"-SUM(AB7:AB14)","v":0},null,null,null,{"$f":"SUM(AF7:AF14)","v":1},{"$f":"-SUM(AG7:AG14)","v":0},null,null,null,{"$f":"SUM(AK7:AK14)","v":1},{"$f":"-SUM(AL7:AL14)","v":0},null,null,null,{"$f":"SUM(AP7:AP14)","v":1},{"$f":"-SUM(AQ7:AQ14)","v":0},null,null,null,{"$f":"SUM(AU7:AU14)","v":{"$error":"#DIV/0!"}},{"$f":"-SUM(AV7:AV14)","v":{"$error":"#DIV/0!"}}]
[null,null,null,null,null,null,null,null,null,null,null,null,null,null,null,"U=",{"$f":"Q15/(LOG(Q4)/LOG(2))","v":1},null,null,null,null,"U1=",{"$f":"W15/(LOG(W4)/LOG(2))","v":{"$error":"#DIV/0!"}},null,null,null,"U2=",{"$f":"AB15/(LOG(AB4)/LOG(2))","v":{"$error":"#DIV/0!"}},null,null,null,"U3=",{"$f":"AG15/(LOG(AG4)/LOG(2))","v":0},null,null,null,"U4=",{"$f":"AL15/(LOG(AL4)/LOG(2))","v":{"$error":"#DIV/0!"}},null,null,null,"U5=",{"$f":"AQ15/(LOG(AQ4)/LOG(2))","v":{"$error":"#DIV/0!"}},null,null,null,"U6=",{"$f":"AV15/(LOG(AV4)/LOG(2))","v":{"$error":"#DIV/0!"}}]
[]
[]
[null,null,null,null,null,null,null,null,null,null,null,null,null,"Total Target Seq"]
[null,null,null,null,null,null,null,null,null,null,null,null,null,{"$f":"COUNTIF(L7:L13,G3)","v":1},null,1,1,2,1,1,1]
[null,null,null,null,null,null,null,null,null,null,null,null,null,null,null,"% of reinforcement given in 6 equal intervals based on number of trials "]
[null,null,null,null,null,null,null,null,null,null,null,null,null,null,null,"%_1","%_2","%_3","%_4","%_5","%_6"]
[null,null,null,null,null,null,null,null,null,null,null,null,null,null,"target sequence",{"$f":"$G$3","v":221},221,221,221,221,221]
[null,null,null,null,null,null,null,null,null,null,null,null,null,null,"total reinforcement",{"$f":"U13","v":0},{"$f":"Z13","v":0},{"$f":"AE13","v":1},{"$f":"AJ13","v":0},{"$f":"AO13","v":0},{"$f":"AT13","v":0}]
[null,null,null,null,null,null,null,null,null,null,null,null,null,null,"% target"]
[null,null,null,null,null,null,null,null,null,null,null,null,null,null,"CCRF"]
[null,null,null,null,null,null,null,null,null,null,null,null,null,null,"% CCRf"]
[null,null,null,null,null,null,null,null,null,null,null,null,null,null,"average response rate",{"$f":"F7/P20","v":861},{"$f":"(F8-F7)/Q20","v":167},{"$f":"(F10-F8)/R20","v":1689},{"$f":"(F11-F10)/S20","v":179},{"$f":"(F12-F11)/T20","v":1137},{"$f":"(F13-F12)/U20","v":-5722}]

{"sheet":"!M905A4B.AXT","index":9,"n_rows":28,"n_cols":48,"rows_kept":28,"cut":false,"hidden":false,"merged":[[4,39,4,42],[5,39,5,40],[4,44,4,47],[5,44,5,45],[4,24,4,27],[5,24,5,25],[4,29,4,32],[5,29,5,30],[4,34,4,37],[5,34,5,35],[1,1,1,2],[5,13,5,14],[18,13,18,14],[19,13,19,14],[4,19,4,22],[5,19,5,20]]}
["Report for:!M905A4B.AXT"]
["Date:","<date>"]
["Hen:","<hen>",null,null,null,"Correct Sequence",{"$f":"Start!J2","v":221},null,null,null,null,null,null,null,null,"Total Sequences in Data",{"$f":"4994-COUNTBLANK(L7:L5000)","v":3},null,null,null,null,"Total Sequences in Block Data",{"$f":"COUNTA(L7:L7)","v":1},null,null,null,"Total Sequences in Block Data",{"$f":"COUNTA(L7:L8)","v":2},null,null,null,"Total Sequences in Block Data",{"$f":"COUNTA(L8:L8)","v":1},null,null,null,"Total Sequences in Block Data",{"$f":"COUNTA(L8:L9)","v":2},null,null,null,"Total Sequences in Block Data",{"$f":"COUNTA(L9:L9)","v":1},null,null,null,"Total Sequences in Block Data",{"$f":"COUNTA(L9:L10)","v":1}]
[null,null,null,null,null,null,null,null,null,null,null,null,null,null,null,"Total Sequences in Summary",{"$f":"SUM(O7:O14)","v":2},null,null,null,null,"Total Sequences in Block Summary",{"$f":"SUM(U7:U14)","v":1},null,null,null,"Total Sequences in Block Summary",{"$f":"SUM(Z7:Z14)","v":2},null,null,null,"Total Sequences in Block Summary",{"$f":"SUM(AE7:AE14)","v":1},null,null,null,"Total Sequences in Block Summary",{"$f":"SUM(AJ7:AJ14)","v":1},null,null,null,"Total Sequences in Block Summary",{"$f":"SUM(AO7:AO14)","v":0},null,null,null,"Total Sequences in Block Summary",{"$f":"SUM(AT7:AT14)","v":0}]
[null,null,null,null,null,null,null,null,null,null,null,null,null,null,null,null,null,null,null,"Block 1",null,null,null,null,"Block 2",null,null,null,null,"Block 3",null,null,null,null,"Block 4",null,null,null,null,"Block 5",null,null,null,null,"Block 6"]
["Sequence\nComponent\n1","Time\n1","Sequence\nComponent\n2","Time\n2","Sequence\nComponent\n3","Time\n3","Sequence\nComponent\n4","Time\n4","Sequence\nComponent\n5","Time\n5","Correct?\n0=No 1=Yes","Sequence",null,"Frequency",null,"Relative Frequency","Variability",null,null,"Frequency",null,"Relative Frequency","Variability",null,"Frequency",null,"Relative Frequency","Variability",null,"Frequency",null,"Relative Frequency","Variability",null,"Frequency",null,"Relative Frequency","Variability",null,"Frequency",null,"Relative Frequency","Variability",null,"Frequency",null,"Relative Frequency","Variability"]
[22,3,14,113,24,123,null,null,null,null,0,212,null,111,{"$f":"COUNTIF($L$7:$L$500,N7)","v":1},{"$f":"O7/$Q$4","v":0.5},{"$f":"IF(P7=0,0,(P7*((LOG(P7))/LOG(2))))","v":-0.5},null,null,{"$f":"N7","v":111},{"$f":"COUNTIF(L7:L7,T7)","v":0},{"$f":"U7/(W4-U13)","v":0},{"$f":"IF(V7=0,0,(V7*((LOG(V7))/LOG(2))))","v":0},null,{"$f":"N7","v":111},{"$f":"COUNTIF(L7:L8,Y7)","v":1},{"$f":"Z7/(AB4-Z13)","v":0.5},{"$f":"IF(AA7=0,0,(AA7*((LOG(AA7))/LOG(2))))","v":-0.5},null,{"$f":"N7","v":111},{"$f":"COUNTIF(L8:L8,AD7)","v":1},{"$f":"AE7/(AG4-AE13)","v":1},{"$f":"IF(AF7=0,0,(AF7*((LOG(AF7))/LOG(2))))","v":0},null,{"$f":"N7","v":111},{"$f":"COUNTIF(L8:L9,AI7)","v":1},{"$f":"AJ7/(AL4-AJ13)","v":1},{"$f":"IF(AK7=0,0,(AK7*((LOG(AK7))/LOG(2))))","v":0},null,{"$f":"N7","v":111},{"$f":"COUNTIF(L9:L9,AN7)","v":0},{"$f":"AO7/(AQ4-AO13)","v":{"$error":"#DIV/0!"}},{"$f":"IF(AP7=0,0,(AP7*((LOG(AP7))/LOG(2))))","v":{"$error":"#DIV/0!"}},null,{"$f":"N7","v":111},{"$f":"COUNTIF(L9:L10,AS7)","v":0},{"$f":"AT7/(AV4-AT13)","v":{"$error":"#DIV/0!"}},{"$f":"IF(AU7=0,0,(AU7*((LOG(AU7))/LOG(2))))","v":{"$error":"#DIV/0!"}}]
[11,285,12,303,13,307,null,null,null,null,0,111,null,112,0,0,0,null,null,112,{"$f":"COUNTIF(L7:L7,T8)","v":0},{"$f":"U8/(W4-U13)","v":0},0,null,112,{"$f":"COUNTIF(L7:L8,Y8)","v":0},{"$f":"Z8/(AB4-Z13)","v":0},0,null,112,{"$f":"COUNTIF(L8:L8,AD8)","v":0},{"$f":"AE8/(AG4-AE13)","v":0},0,null,112,{"$f":"COUNTIF(L8:L9,AI8)","v":0},{"$f":"AJ8/(AL4-AJ13)","v":0},0,null,112,{"$f":"COUNTIF(L9:L9,AN8)","v":0},{"$f":"AO8/(AQ4-AO13)","v":{"$error":"#DIV/0!"}},{"$error":"#DIV/0!"},null,112,{"$f":"COUNTIF(L9:L10,AS8)","v":0},{"$f":"AT8/(AV4-AT13)","v":{"$error":"#DIV/0!"}},{"$error":"#DIV/0!"}]
[11,15671,12,18013,null,null,null,null,null,null,null,11,null,121,0,0,0,null,null,121,{"$f":"COUNTIF(L7:L7,T9)","v":0},{"$f":"U9/(W4-U13)","v":0},0,null,121,{"$f":"COUNTIF(L7:L8,Y9)","v":0},{"$f":"Z9/(AB4-Z13)","v":0},0,null,121,{"$f":"COUNTIF(L8:L8,AD9)","v":0},{"$f":"AE9/(AG4-AE13)","v":0},0,null,121,{"$f":"COUNTIF(L8:L9,AI9)","v":0},{"$f":"AJ9/(AL4-AJ13)","v":0},0,null,121,{"$f":"COUNTIF(L9:L9,AN9)","v":0},{"$f":"AO9/(AQ4-AO13)","v":{"$error":"#DIV/0!"}},{"$error":"#DIV/0!"},null,121,{"$f":"COUNTIF(L9:L10,AS9)","v":0},{"$f":"AT9/(AV4-AT13)","v":{"$error":"#DIV/0!"}},{"$error":"#DIV/0!"}]
[null,null,null,null,null,null,null,null,null,null,null,null,null,122,0,0,0,null,null,122,{"$f":"COUNTIF(L7:L7,T10)","v":0},{"$f":"U10/(W4-U13)","v":0},0,null,122,{"$f":"COUNTIF(L7:L8,Y10)","v":0},{"$f":"Z10/(AB4-Z13)","v":0},0,null,122,{"$f":"COUNTIF(L8:L8,AD10)","v":0},{"$f":"AE10/(AG4-AE13)","v":0},0,null,122,{"$f":"COUNTIF(L8:L9,AI10)","v":0},{"$f":"AJ10/(AL4-AJ13)","v":0},0,null,122,{"$f":"COUNTIF(L9:L9,AN10)","v":0},{"$f":"AO10/(AQ4-AO13)","v":{"$error":"#DIV/0!"}},{"$error":"#DIV/0!"},null,122,{"$f":"COUNTIF(L9:L10,AS10)","v":0},{"$f":"AT10/(AV4-AT13)","v":{"$error":"#DIV/0!"}},{"$error":"#DIV/0!"}]
[null,null,null,null,null,null,null,null,null,null,null,null,null,211,0,0,0,null,null,211,{"$f":"COUNTIF(L7:L7,T11)","v":0},{"$f":"U11/(W4-U13)","v":0},0,null,211,{"$f":"COUNTIF(L7:L8,Y11)","v":0},{"$f":"Z11/(AB4-Z13)","v":0},0,null,211,{"$f":"COUNTIF(L8:L8,AD11)","v":0},{"$f":"AE11/(AG4-AE13)","v":0},0,null,211,{"$f":"COUNTIF(L8:L9,AI11)","v":0},{"$f":"AJ11/(AL4-AJ13)","v":0},0,null,211,{"$f":"COUNTIF(L9:L9,AN11)","v":0},{"$f":"AO11/(AQ4-AO13)","v":{"$error":"#DIV/0!"}},{"$error":"#DIV/0!"},null,211,{"$f":"COUNTIF(L9:L10,AS11)","v":0},{"$f":"AT11/(AV4-AT13)","v":{"$error":"#DIV/0!"}},{"$error":"#DIV/0!"}]
[null,null,null,null,null,null,null,null,null,null,null,null,null,212,1,0.5,-0.5,null,null,212,{"$f":"COUNTIF(L7:L7,T12)","v":1},{"$f":"U12/(W4-U13)","v":1},0,null,212,{"$f":"COUNTIF(L7:L8,Y12)","v":1},{"$f":"Z12/(AB4-Z13)","v":0.5},-0.5,null,212,{"$f":"COUNTIF(L8:L8,AD12)","v":0},{"$f":"AE12/(AG4-AE13)","v":0},0,null,212,{"$f":"COUNTIF(L8:L9,AI12)","v":0},{"$f":"AJ12/(AL4-AJ13)","v":0},0,null,212,{"$f":"COUNTIF(L9:L9,AN12)","v":0},{"$f":"AO12/(AQ4-AO13)","v":{"$error":"#DIV/0!"}},{"$error":"#DIV/0!"},null,212,{"$f":"COUNTIF(L9:L10,AS12)","v":0},{"$f":"AT12/(AV4-AT13)","v":{"$error":"#DIV/0!"}},{"$error":"#DIV/0!"}]
[null,null,null,null,null,null,null,null,null,null,null,null,null,221,0,0,0,null,null,221,{"$f":"COUNTIF(L7:L7,T13)","v":0},null,null,null,221,{"$f":"COUNTIF(L7:L8,Y13)","v":0},null,null,null,221,{"$f":"COUNTIF(L8:L8,AD13)","v":0},null,null,null,221,{"$f":"COUNTIF(L8:L9,AI13)","v":0},null,null,null,221,{"$f":"COUNTIF(L9:L9,AN13)","v":0},null,null,null,221,{"$f":"COUNTIF(L9:L10,AS13)","v":0}]
[null,null,null,null,null,null,null,null,null,null,null,null,null,222,0,0,0,null,null,222,{"$f":"COUNTIF(L7:L7,T14)","v":0},{"$f":"U14/(W4-U13)","v":0},{"$f":"IF(V14=0,0,(V14*((LOG(V14))/LOG(2))))","v":0},null,222,{"$f":"COUNTIF(L7:L8,Y14)","v":0},{"$f":"Z14/(AB4-Z13)","v":0},{"$f":"IF(AA14=0,0,(AA14*((LOG(AA14))/LOG(2))))","v":0},null,222,{"$f":"COUNTIF(L8:L8,AD14)","v":0},{"$f":"AE14/(AG4-AE13)","v":0},{"$f":"IF(AF14=0,0,(AF14*((LOG(AF14))/LOG(2))))","v":0},null,222,{"$f":"COUNTIF(L8:L9,AI14)","v":0},{"$f":"AJ14/(AL4-AJ13)","v":0},{"$f":"IF(AK14=0,0,(AK14*((LOG(AK14))/LOG(2))))","v":0},null,222,{"$f":"COUNTIF(L9:L9,AN14)","v":0},{"$f":"AO14/(AQ4-AO13)","v":{"$error":"#DIV/0!"}},{"$f":"IF(AP14=0,0,(AP14*((LOG(AP14))/LOG(2))))","v":{"$error":"#DIV/0!"}},null,222,{"$f":"COUNTIF(L9:L10,AS14)","v":0},{"$f":"AT14/(AV4-AT13)","v":{"$error":"#DIV/0!"}},{"$f":"IF(AU14=0,0,(AU14*((LOG(AU14))/LOG(2))))","v":{"$error":"#DIV/0!"}}]
[null,null,null,null,null,null,null,null,null,null,null,null,null,null,null,{"$f":"SUM(P7:P14)","v":1},{"$f":"-SUM(Q7:Q14)","v":1},null,null,null,null,{"$f":"SUM(V7:V14)","v":1},{"$f":"-SUM(W7:W14)","v":0},null,null,null,{"$f":"SUM(AA7:AA14)","v":1},{"$f":"-SUM(AB7:AB14)","v":1},null,null,null,{"$f":"SUM(AF7:AF14)","v":1},{"$f":"-SUM(AG7:AG14)","v":0},null,null,null,{"$f":"SUM(AK7:AK14)","v":1},{"$f":"-SUM(AL7:AL14)","v":0},null,null,null,{"$f":"SUM(AP7:AP14)","v":{"$error":"#DIV/0!"}},{"$f":"-SUM(AQ7:AQ14)","v":{"$error":"#DIV/0!"}},null,null,null,{"$f":"SUM(AU7:AU14)","v":{"$error":"#DIV/0!"}},{"$f":"-SUM(AV7:AV14)","v":{"$error":"#DIV/0!"}}]
[null,null,null,null,null,null,null,null,null,null,null,null,null,null,null,"U=",{"$f":"Q15/(LOG(Q4)/LOG(2))","v":1},null,null,null,null,"U1=",{"$f":"W15/(LOG(W4)/LOG(2))","v":{"$error":"#DIV/0!"}},null,null,null,"U2=",{"$f":"AB15/(LOG(AB4)/LOG(2))","v":1},null,null,null,"U3=",{"$f":"AG15/(LOG(AG4)/LOG(2))","v":{"$error":"#DIV/0!"}},null,null,null,"U4=",{"$f":"AL15/(LOG(AL4)/LOG(2))","v":{"$error":"#DIV/0!"}},null,null,null,"U5=",{"$f":"AQ15/(LOG(AQ4)/LOG(2))","v":{"$error":"#DIV/0!"}},null,null,null,"U6=",{"$f":"AV15/(LOG(AV4)/LOG(2))","v":{"$error":"#DIV/0!"}}]
[]
[]
[null,null,null,null,null,null,null,null,null,null,null,null,null,"Total Target Seq"]
[null,null,null,null,null,null,null,null,null,null,null,null,null,{"$f":"COUNTIF(L7:L9,G3)","v":0},null,1,0,1,0,1,0]
[null,null,null,null,null,null,null,null,null,null,null,null,null,null,null,"% of reinforcement given in 6 equal intervals based on number of trials "]
[null,null,null,null,null,null,null,null,null,null,null,null,null,null,null,"%_1","%_2","%_3","%_4","%_5","%_6"]
[null,null,null,null,null,null,null,null,null,null,null,null,null,null,"target sequence",{"$f":"$G$3","v":221},221,221,221,221,221]
[null,null,null,null,null,null,null,null,null,null,null,null,null,null,"total reinforcement",{"$f":"U13","v":0},{"$f":"Z13","v":0},{"$f":"AE13","v":0},{"$f":"AJ13","v":0},{"$f":"AO13","v":0},{"$f":"AT13","v":0}]
[null,null,null,null,null,null,null,null,null,null,null,null,null,null,"% target"]
[null,null,null,null,null,null,null,null,null,null,null,null,null,null,"CCRF"]
[null,null,null,null,null,null,null,null,null,null,null,null,null,null,"% CCRf"]
[null,null,null,null,null,null,null,null,null,null,null,null,null,null,"average response rate",{"$f":"F7/P20","v":123},{"$f":"(F7-F7)/Q20","v":{"$error":"#DIV/0!"}},{"$f":"(F8-F7)/R20","v":184},{"$f":"(F8-F8)/S20","v":{"$error":"#DIV/0!"}},{"$f":"(F9-F8)/T20","v":-307},{"$f":"(F9-F9)/U20","v":{"$error":"#DIV/0!"}}]

{"sheet":"!M906B1B.AXT","index":10,"n_rows":28,"n_cols":48,"rows_kept":28,"cut":false,"hidden":false,"merged":[[4,39,4,42],[5,39,5,40],[4,44,4,47],[5,44,5,45],[4,24,4,27],[5,24,5,25],[4,29,4,32],[5,29,5,30],[4,34,4,37],[5,34,5,35],[1,1,1,2],[5,13,5,14],[18,13,18,14],[19,13,19,14],[4,19,4,22],[5,19,5,20]]}
["Report for:!M906B1B.AXT"]
["Date:","<date>"]
["Hen:","<hen>",null,null,null,"Correct Sequence",{"$f":"Start!J2","v":221},null,null,null,null,null,null,null,null,"Total Sequences in Data",{"$f":"4994-COUNTBLANK(L7:L5000)","v":11},null,null,null,null,"Total Sequences in Block Data",{"$f":"COUNTA(L7:L8)","v":2},null,null,null,"Total Sequences in Block Data",{"$f":"COUNTA(L9:L10)","v":2},null,null,null,"Total Sequences in Block Data",{"$f":"COUNTA(L11:L11)","v":1},null,null,null,"Total Sequences in Block Data",{"$f":"COUNTA(L12:L13)","v":2},null,null,null,"Total Sequences in Block Data",{"$f":"COUNTA(L14:L15)","v":2},null,null,null,"Total Sequences in Block Data",{"$f":"COUNTA(L16:L17)","v":2}]
[null,null,null,null,null,null,null,null,null,null,null,null,null,null,null,"Total Sequences in Summary",{"$f":"SUM(O7:O14)","v":11},null,null,null,null,"Total Sequences in Block Summary",{"$f":"SUM(U7:U14)","v":2},null,null,null,"Total Sequences in Block Summary",{"$f":"SUM(Z7:Z14)","v":2},null,null,null,"Total Sequences in Block Summary",{"$f":"SUM(AE7:AE14)","v":1},null,null,null,"Total Sequences in Block Summary",{"$f":"SUM(AJ7:AJ14)","v":2},null,null,null,"Total Sequences in Block Summary",{"$f":"SUM(AO7:AO14)","v":2},null,null,null,"Total Sequences in Block Summary",{"$f":"SUM(AT7:AT14)","v":2}]
[null,null,null,null,null,null,null,null,null,null,null,null,null,null,null,null,null,null,null,"Block 1",null,null,null,null,"Block 2",null,null,null,null,"Block 3",null,null,null,null,"Block 4",null,null,null,null,"Block 5",null,null,null,null,"Block 6"]
["Sequence\nComponent\n1","Time\n1","Sequence\nComponent\n2","Time\n2","Sequence\nComponent\n3","Time\n3","Sequence\nComponent\n4","Time\n4","Sequence\nComponent\n5","Time\n5","Correct?\n0=No 1=Yes","Sequence",null,"Frequency",null,"Relative Frequency","Variability",null,null,"Frequency",null,"Relative Frequency","Variability",null,"Frequency",null,"Relative Frequency","Variability",null,"Frequency",null,"Relative Frequency","Variability",null,"Frequency",null,"Relative Frequency","Variability",null,"Frequency",null,"Relative Frequency","Variability",null,"Frequency",null,"Relative Frequency","Variability"]
[11,173,21,194,11,196,null,null,null,null,0,121,null,111,{"$f":"COUNTIF($L$7:$L$500,N7)","v":0},{"$f":"O7/$Q$4","v":0},{"$f":"IF(P7=0,0,(P7*((LOG(P7))/LOG(2))))","v":0},null,null,{"$f":"N7","v":111},{"$f":"COUNTIF(L7:L8,T7)","v":0},{"$f":"U7/(W4-U13)","v":0},{"$f":"IF(V7=0,0,(V7*((LOG(V7))/LOG(2))))","v":0},null,{"$f":"N7","v":111},{"$f":"COUNTIF(L9:L10,Y7)","v":0},{"$f":"Z7/(AB4-Z13)","v":0},{"$f":"IF(AA7=0,0,(AA7*((LOG(AA7))/LOG(2))))","v":0},null,{"$f":"N7","v":111},{"$f":"COUNTIF(L11:L11,AD7)","v":0},{"$f":"AE7/(AG4-AE13)","v":0},{"$f":"IF(AF7=0,0,(AF7*((LOG(AF7))/LOG(2))))","v":0},null,{"$f":"N7","v":111},{"$f":"COUNTIF(L12:L13,AI7)","v":0},{"$f":"AJ7/(AL4-AJ13)","v":0},{"$f":"IF(AK7=0,0,(AK7*((LOG(AK7))/LOG(2))))","v":0},null,{"$f":"N7","v":111},{"$f":"COUNTIF(L14:L15,AN7)","v":0},{"$f":"AO7/(AQ4-AO13)","v":0},{"$f":"IF(AP7=0,0,(AP7*((LOG(AP7))/LOG(2))))","v":0},null,{"$f":"N7","v":111},{"$f":"COUNTIF(L16:L17,AS7)","v":0},{"$f":"AT7/(AV4-AT13)","v":0},{"$f":"IF(AU7=0,0,(AU7*((LOG(AU7))/LOG(2))))","v":0}]
[22,400,23,409,24,415,null,null,null,null,0,222,null,112,1,9.0909090909090912E-2,-0.31449378351248153,null,null,112,{"$f":"COUNTIF(L7:L8,T8)","v":0},{"$f":"U8/(W4-U13)","v":0},0,null,112,{"$f":"COUNTIF(L9:L10,Y8)","v":0},{"$f":"Z8/(AB4-Z13)","v":0},0,null,112,{"$f":"COUNTIF(L11:L11,AD8)","v":0},{"$f":"AE8/(AG4-AE13)","v":0},0,null,112,{"$f":"COUNTIF(L12:L13,AI8)","v":0},{"$f":"AJ8/(AL4-AJ13)","v":0},0,null,112,{"$f":"COUNTIF(L14:L15,AN8)","v":0},{"$f":"AO8/(AQ4-AO13)","v":0},0,null,112,{"$f":"COUNTIF(L16:L17,AS8)","v":1},{"$f":"AT8/(AV4-AT13)","v":0.5},-0.5]
[11,510,21,515,11,529,null,null,null,null,0,121,null,121,2,0.18181818181818182,-0.44716938520678134,null,null,121,{"$f":"COUNTIF(L7:L8,T9)","v":1},{"$f":"U9/(W4-U13)","v":0.5},-0.5,null,121,{"$f":"COUNTIF(L9:L10,Y9)","v":1},{"$f":"Z9/(AB4-Z13)","v":0.5},-0.5,null,121,{"$f":"COUNTIF(L11:L11,AD9)","v":0},{"$f":"AE9/(AG4-AE13)","v":0},0,null,121,{"$f":"COUNTIF(L12:L13,AI9)","v":0},{"$f":"AJ9/(AL4-AJ13)","v":0},0,null,121,{"$f":"COUNTIF(L14:L15,AN9)","v":0},{"$f":"AO9/(AQ4-AO13)","v":0},0,null,121,{"$f":"COUNTIF(L16:L17,AS9)","v":0},{"$f":"AT9/(AV4-AT13)","v":0},0]
[22,923,14,942,24,946,null,null,null,null,0,212,null,122,2,0.18181818181818182,-0.44716938520678134,null,null,122,{"$f":"COUNTIF(L7:L8,T10)","v":0},{"$f":"U10/(W4-U13)","v":0},0,null,122,{"$f":"COUNTIF(L9:L10,Y10)","v":0},{"$f":"Z10/(AB4-Z13)","v":0},0,null,122,{"$f":"COUNTIF(L11:L11,AD10)","v":0},{"$f":"AE10/(AG4-AE13)","v":0},0,null,122,{"$f":"COUNTIF(L12:L13,AI10)","v":1},{"$f":"AJ10/(AL4-AJ13)","v":0.5},-0.5,null,122,{"$f":"COUNTIF(L14:L15,AN10)","v":1},{"$f":"AO10/(AQ4-AO13)","v":0.5},-0.5,null,122,{"$f":"COUNTIF(L16:L17,AS10)","v":0},{"$f":"AT10/(AV4-AT13)","v":0},0]
[22,1063,23,1066,24,1074,null,null,null,null,0,222,null,211,1,9.0909090909090912E-2,-0.31449378351248153,null,null,211,{"$f":"COUNTIF(L7:L8,T11)","v":0},{"$f":"U11/(W4-U13)","v":0},0,null,211,{"$f":"COUNTIF(L9:L10,Y11)","v":0},{"$f":"Z11/(AB4-Z13)","v":0},0,null,211,{"$f":"COUNTIF(L11:L11,AD11)","v":0},{"$f":"AE11/(AG4-AE13)","v":0},0,null,211,{"$f":"COUNTIF(L12:L13,AI11)","v":0},{"$f":"AJ11/(AL4-AJ13)","v":0},0,null,211,{"$f":"COUNTIF(L14:L15,AN11)","v":1},{"$f":"AO11/(AQ4-AO13)","v":0.5},-0.5,null,211,{"$f":"COUNTIF(L16:L17,AS11)","v":0},{"$f":"AT11/(AV4-AT13)","v":0},0]
[22,1176,23,1185,24,1188,null,null,null,null,0,222,null,212,2,0.18181818181818182,-0.44716938520678134,null,null,212,{"$f":"COUNTIF(L7:L8,T12)","v":0},{"$f":"U12/(W4-U13)","v":0},0,null,212,{"$f":"COUNTIF(L9:L10,Y12)","v":1},{"$f":"Z12/(AB4-Z13)","v":0.5},-0.5,null,212,{"$f":"COUNTIF(L11:L11,AD12)","v":0},{"$f":"AE12/(AG4-AE13)","v":0},0,null,212,{"$f":"COUNTIF(L12:L13,AI12)","v":0},{"$f":"AJ12/(AL4-AJ13)","v":0},0,null,212,{"$f":"COUNTIF(L14:L15,AN12)","v":0},{"$f":"AO12/(AQ4-AO13)","v":0},0,null,212,{"$f":"COUNTIF(L16:L17,AS12)","v":1},{"$f":"AT12/(AV4-AT13)","v":0.5},-0.5]
[11,1899,21,1919,22,1932,null,null,null,null,0,122,null,221,0,0,0,null,null,221,{"$f":"COUNTIF(L7:L8,T13)","v":0},null,null,null,221,{"$f":"COUNTIF(L9:L10,Y13)","v":0},null,null,null,221,{"$f":"COUNTIF(L11:L11,AD13)","v":0},null,null,null,221,{"$f":"COUNTIF(L12:L13,AI13)","v":0},null,null,null,221,{"$f":"COUNTIF(L14:L15,AN13)","v":0},null,null,null,221,{"$f":"COUNTIF(L16:L17,AS13)","v":0}]
[11,2030,21,2036,22,2044,null,null,null,null,0,122,null,222,3,0.27272727272727271,-0.51121885034076575,null,null,222,{"$f":"COUNTIF(L7:L8,T14)","v":1},{"$f":"U14/(W4-U13)","v":0.5},{"$f":"IF(V14=0,0,(V14*((LOG(V14))/LOG(2))))","v":-0.5},null,222,{"$f":"COUNTIF(L9:L10,Y14)","v":0},{"$f":"Z14/(AB4-Z13)","v":0},{"$f":"IF(AA14=0,0,(AA14*((LOG(AA14))/LOG(2))))","v":0},null,222,{"$f":"COUNTIF(L11:L11,AD14)","v":1},{"$f":"AE14/(AG4-AE13)","v":1},{"$f":"IF(AF14=0,0,(AF14*((LOG(AF14))/LOG(2))))","v":0},null,222,{"$f":"COUNTIF(L12:L13,AI14)","v":1},{"$f":"AJ14/(AL4-AJ13)","v":0.5},{"$f":"IF(AK14=0,0,(AK14*((LOG(AK14))/LOG(2))))","v":-0.5},null,222,{"$f":"COUNTIF(L14:L15,AN14)","v":0},{"$f":"AO14/(AQ4-AO13)","v":0},{"$f":"IF(AP14=0,0,(AP14*((LOG(AP14))/LOG(2))))","v":0},null,222,{"$f":"COUNTIF(L16:L17,AS14)","v":0},{"$f":"AT14/(AV4-AT13)","v":0},{"$f":"IF(AU14=0,0,(AU14*((LOG(AU14))/LOG(2))))","v":0}]
[22,15452,14,18806,13,18807,null,null,null,null,0,211,null,null,null,{"$f":"SUM(P7:P14)","v":1},{"$f":"-SUM(Q7:Q14)","v":2.481714572986073},null,null,null,null,{"$f":"SUM(V7:V14)","v":1},{"$f":"-SUM(W7:W14)","v":1},null,null,null,{"$f":"SUM(AA7:AA14)","v":1},{"$f":"-SUM(AB7:AB14)","v":1},null,null,null,{"$f":"SUM(AF7:AF14)","v":1},{"$f":"-SUM(AG7:AG14)","v":0},null,null,null,{"$f":"SUM(AK7:AK14)","v":1},{"$f":"-SUM(AL7:AL14)","v":1},null,null,null,{"$f":"SUM(AP7:AP14)","v":1},{"$f":"-SUM(AQ7:AQ14)","v":1},null,null,null,{"$f":"SUM(AU7:AU14)","v":1},{"$f":"-SUM(AV7:AV14)","v":1}]
[22,19383,14,19402,24,19403,null,null,null,null,0,212,null,null,null,"U=",{"$f":"Q15/(LOG(Q4)/LOG(2))","v":0.71737639201079029},null,null,null,null,"U1=",{"$f":"W15/(LOG(W4)/LOG(2))","v":1},null,null,null,"U2=",{"$f":"AB15/(LOG(AB4)/LOG(2))","v":1},null,null,null,"U3=",{"$f":"AG15/(LOG(AG4)/LOG(2))","v":{"$error":"#DIV/0!"}},null,null,null,"U4=",{"$f":"AL15/(LOG(AL4)/LOG(2))","v":1},null,null,null,"U5=",{"$f":"AQ15/(LOG(AQ4)/LOG(2))","v":1},null,null,null,"U6=",{"$f":"AV15/(LOG(AV4)/LOG(2))","v":1}]
[11,19535,12,19543,24,19551,null,null,null,null,0,112]
[]
[null,null,null,null,null,null,null,null,null,null,null,null,null,"Total Target Seq"]
[null,null,null,null,null,null,null,null,null,null,null,null,null,{"$f":"COUNTIF(L7:L17,G3)","v":0},null,2,2,1,2,2,2]
[null,null,null,null,null,null,null,null,null,null,null,null,null,null,null,"% of reinforcement given in 6 equal intervals based on number of trials "]
[null,null,null,null,null,null,null,null,null,null,null,null,null,null,null,"%_1","%_2","%_3","%_4","%_5","%_6"]
[null,null,null,null,null,null,null,null,null,null,null,null,null,null,"target sequence",{"$f":"$G$3","v":221},221,221,221,221,221]
[null,null,null,null,null,null,null,null,null,null,null,null,null,null,"total reinforcement",{"$f":"U13","v":0},{"$f":"Z13","v":0},{"$f":"AE13","v":0},{"$f":"AJ13","v":0},{"$f":"AO13","v":0},{"$f":"AT13","v":0}]
[null,null,null,null,null,null,null,null,null,null,null,null,null,null,"% target"]
[null,null,null,null,null,null,null,null,null,null,null,null,null,null,"CCRF"]
[null,null,null,null,null,null,null,null,null,null,null,null,null,null,"% CCRf"]
[null,null,null,null,null,null,null,null,null,null,null,null,null,null,"average response rate",{"$f":"F8/P20","v":207.5},{"$f":"(F10-F8)/Q20","v":265.5},{"$f":"(F11-F10)/R20","v":128},{"$f":"(F13-F11)/S20","v":429},{"$f":"(F15-F13)/T20","v":8437.5},{"$f":"(F17-F15)/U20","v":372}]

{"sheet":"!M907A5B.AXT","index":11,"n_rows":28,"n_cols":48,"rows_kept":28,"cut":false,"hidden":false,"merged":[[4,39,4,42],[5,39,5,40],[4,44,4,47],[5,44,5,45],[4,24,4,27],[5,24,5,25],[4,29,4,32],[5,29,5,30],[4,34,4,37],[5,34,5,35],[1,1,1,2],[5,13,5,14],[18,13,18,14],[19,13,19,14],[4,19,4,22],[5,19,5,20]]}
["Report for:!M907A5B.AXT"]
["Date:","<date>"]
["Hen:","<hen>",null,null,null,"Correct Sequence",{"$f":"Start!J2","v":221},null,null,null,null,null,null,null,null,"Total Sequences in Data",{"$f":"4994-COUNTBLANK(L7:L5000)","v":4},null,null,null,null,"Total Sequences in Block Data",{"$f":"COUNTA(L7:L7)","v":1},null,null,null,"Total Sequences in Block Data",{"$f":"COUNTA(L7:L8)","v":2},null,null,null,"Total Sequences in Block Data",{"$f":"COUNTA(L8:L8)","v":1},null,null,null,"Total Sequences in Block Data",{"$f":"COUNTA(L9:L9)","v":1},null,null,null,"Total Sequences in Block Data",{"$f":"COUNTA(L9:L10)","v":2},null,null,null,"Total Sequences in Block Data",{"$f":"COUNTA(L10:L10)","v":1}]
[null,null,null,null,null,null,null,null,null,null,null,null,null,null,null,"Total Sequences in Summary",{"$f":"SUM(O7:O14)","v":4},null,null,null,null,"Total Sequences in Block Summary",{"$f":"SUM(U7:U14)","v":1},null,null,null,"Total Sequences in Block Summary",{"$f":"SUM(Z7:Z14)","v":2},null,null,null,"Total Sequences in Block Summary",{"$f":"SUM(AE7:AE14)","v":1},null,null,null,"Total Sequences in Block Summary",{"$f":"SUM(AJ7:AJ14)","v":1},null,null,null,"Total Sequences in Block Summary",{"$f":"SUM(AO7:AO14)","v":2},null,null,null,"Total Sequences in Block Summary",{"$f":"SUM(AT7:AT14)","v":1}]
[null,null,null,null,null,null,null,null,null,null,null,null,null,null,null,null,null,null,null,"Block 1",null,null,null,null,"Block 2",null,null,null,null,"Block 3",null,null,null,null,"Block 4",null,null,null,null,"Block 5",null,null,null,null,"Block 6"]
["Sequence\nComponent\n1","Time\n1","Sequence\nComponent\n2","Time\n2","Sequence\nComponent\n3","Time\n3","Sequence\nComponent\n4","Time\n4","Sequence\nComponent\n5","Time\n5","Correct?\n0=No 1=Yes","Sequence",null,"Frequency",null,"Relative Frequency","Variability",null,null,"Frequency",null,"Relative Frequency","Variability",null,"Frequency",null,"Relative Frequency","Variability",null,"Frequency",null,"Relative Frequency","Variability",null,"Frequency",null,"Relative Frequency","Variability",null,"Frequency",null,"Relative Frequency","Variability",null,"Frequency",null,"Relative Frequency","Variability"]
[22,49,23,78,24,87,null,null,null,null,0,222,null,111,{"$f":"COUNTIF($L$7:$L$500,N7)","v":0},{"$f":"O7/$Q$4","v":0},{"$f":"IF(P7=0,0,(P7*((LOG(P7))/LOG(2))))","v":0},null,null,{"$f":"N7","v":111},{"$f":"COUNTIF(L7:L7,T7)","v":0},{"$f":"U7/(W4-U13)","v":0},{"$f":"IF(V7=0,0,(V7*((LOG(V7))/LOG(2))))","v":0},null,{"$f":"N7","v":111},{"$f":"COUNTIF(L7:L8,Y7)","v":0},{"$f":"Z7/(AB4-Z13)","v":0},{"$f":"IF(AA7=0,0,(AA7*((LOG(AA7))/LOG(2))))","v":0},null,{"$f":"N7","v":111},{"$f":"COUNTIF(L8:L8,AD7)","v":0},{"$f":"AE7/(AG4-AE13)","v":0},{"$f":"IF(AF7=0,0,(AF7*((LOG(AF7))/LOG(2))))","v":0},null,{"$f":"N7","v":111},{"$f":"COUNTIF(L9:L9,AI7)","v":0},{"$f":"AJ7/(AL4-AJ13)","v":0},{"$f":"IF(AK7=0,0,(AK7*((LOG(AK7))/LOG(2))))","v":0},null,{"$f":"N7","v":111},{"$f":"COUNTIF(L9:L10,AN7)","v":0},{"$f":"AO7/(AQ4-AO13)","v":0},{"$f":"IF(AP7=0,0,(AP7*((LOG(AP7))/LOG(2))))","v":0},null,{"$f":"N7","v":111},{"$f":"COUNTIF(L10:L10,AS7)","v":0},{"$f":"AT7/(AV4-AT13)","v":0},{"$f":"IF(AU7=0,0,(AU7*((LOG(AU7))/LOG(2))))","v":0}]
[11,342,21,352,22,360,null,null,null,null,0,122,null,112,1,0.25,-0.5,null,null,112,{"$f":"COUNTIF(L7:L7,T8)","v":0},{"$f":"U8/(W4-U13)","v":0},0,null,112,{"$f":"COUNTIF(L7:L8,Y8)","v":0},{"$f":"Z8/(AB4-Z13)","v":0},0,null,112,{"$f":"COUNTIF(L8:L8,AD8)","v":0},{"$f":"AE8/(AG4-AE13)","v":0},0,null,112,{"$f":"COUNTIF(L9:L9,AI8)","v":1},{"$f":"AJ8/(AL4-AJ13)","v":1},0,null,112,{"$f":"COUNTIF(L9:L10,AN8)","v":1},{"$f":"AO8/(AQ4-AO13)","v":0.5},-0.5,null,112,{"$f":"COUNTIF(L10:L10,AS8)","v":0},{"$f":"AT8/(AV4-AT13)","v":0},0]
[11,640,12,645,24,656,null,null,null,null,0,112,null,121,0,0,0,null,null,121,{"$f":"COUNTIF(L7:L7,T9)","v":0},{"$f":"U9/(W4-U13)","v":0},0,null,121,{"$f":"COUNTIF(L7:L8,Y9)","v":0},{"$f":"Z9/(AB4-Z13)","v":0},0,null,121,{"$f":"COUNTIF(L8:L8,AD9)","v":0},{"$f":"AE9/(AG4-AE13)","v":0},0,null,121,{"$f":"COUNTIF(L9:L9,AI9)","v":0},{"$f":"AJ9/(AL4-AJ13)","v":0},0,null,121,{"$f":"COUNTIF(L9:L10,AN9)","v":0},{"$f":"AO9/(AQ4-AO13)","v":0},0,null,121,{"$f":"COUNTIF(L10:L10,AS9)","v":0},{"$f":"AT9/(AV4-AT13)","v":0},0]
[22,11468,23,11469,24,22418,null,null,null,null,0,222,null,122,1,0.25,-0.5,null,null,122,{"$f":"COUNTIF(L7:L7,T10)","v":0},{"$f":"U10/(W4-U13)","v":0},0,null,122,{"$f":"COUNTIF(L7:L8,Y10)","v":1},{"$f":"Z10/(AB4-Z13)","v":0.5},-0.5,null,122,{"$f":"COUNTIF(L8:L8,AD10)","v":1},{"$f":"AE10/(AG4-AE13)","v":1},0,null,122,{"$f":"COUNTIF(L9:L9,AI10)","v":0},{"$f":"AJ10/(AL4-AJ13)","v":0},0,null,122,{"$f":"COUNTIF(L9:L10,AN10)","v":0},{"$f":"AO10/(AQ4-AO13)","v":0},0,null,122,{"$f":"COUNTIF(L10:L10,AS10)","v":0},{"$f":"AT10/(AV4-AT13)","v":0},0]
[null,null,null,null,null,null,null,null,null,null,null,null,null,211,0,0,0,null,null,211,{"$f":"COUNTIF(L7:L7,T11)","v":0},{"$f":"U11/(W4-U13)","v":0},0,null,211,{"$f":"COUNTIF(L7:L8,Y11)","v":0},{"$f":"Z11/(AB4-Z13)","v":0},0,null,211,{"$f":"COUNTIF(L8:L8,AD11)","v":0},{"$f":"AE11/(AG4-AE13)","v":0},0,null,211,{"$f":"COUNTIF(L9:L9,AI11)","v":0},{"$f":"AJ11/(AL4-AJ13)","v":0},0,null,211,{"$f":"COUNTIF(L9:L10,AN11)","v":0},{"$f":"AO11/(AQ4-AO13)","v":0},0,null,211,{"$f":"COUNTIF(L10:L10,AS11)","v":0},{"$f":"AT11/(AV4-AT13)","v":0},0]
[null,null,null,null,null,null,null,null,null,null,null,null,null,212,0,0,0,null,null,212,{"$f":"COUNTIF(L7:L7,T12)","v":0},{"$f":"U12/(W4-U13)","v":0},0,null,212,{"$f":"COUNTIF(L7:L8,Y12)","v":0},{"$f":"Z12/(AB4-Z13)","v":0},0,null,212,{"$f":"COUNTIF(L8:L8,AD12)","v":0},{"$f":"AE12/(AG4-AE13)","v":0},0,null,212,{"$f":"COUNTIF(L9:L9,AI12)","v":0},{"$f":"AJ12/(AL4-AJ13)","v":0},0,null,212,{"$f":"COUNTIF(L9:L10,AN12)","v":0},{"$f":"AO12/(AQ4-AO13)","v":0},0,null,212,{"$f":"COUNTIF(L10:L10,AS12)","v":0},{"$f":"AT12/(AV4-AT13)","v":0},0]
[null,null,null,null,null,null,null,null,null,null,null,null,null,221,0,0,0,null,null,221,{"$f":"COUNTIF(L7:L7,T13)","v":0},null,null,null,221,{"$f":"COUNTIF(L7:L8,Y13)","v":0},null,null,null,221,{"$f":"COUNTIF(L8:L8,AD13)","v":0},null,null,null,221,{"$f":"COUNTIF(L9:L9,AI13)","v":0},null,null,null,221,{"$f":"COUNTIF(L9:L10,AN13)","v":0},null,null,null,221,{"$f":"COUNTIF(L10:L10,AS13)","v":0}]
[null,null,null,null,null,null,null,null,null,null,null,null,null,222,2,0.5,-0.5,null,null,222,{"$f":"COUNTIF(L7:L7,T14)","v":1},{"$f":"U14/(W4-U13)","v":1},{"$f":"IF(V14=0,0,(V14*((LOG(V14))/LOG(2))))","v":0},null,222,{"$f":"COUNTIF(L7:L8,Y14)","v":1},{"$f":"Z14/(AB4-Z13)","v":0.5},{"$f":"IF(AA14=0,0,(AA14*((LOG(AA14))/LOG(2))))","v":-0.5},null,222,{"$f":"COUNTIF(L8:L8,AD14)","v":0},{"$f":"AE14/(AG4-AE13)","v":0},{"$f":"IF(AF14=0,0,(AF14*((LOG(AF14))/LOG(2))))","v":0},null,222,{"$f":"COUNTIF(L9:L9,AI14)","v":0},{"$f":"AJ14/(AL4-AJ13)","v":0},{"$f":"IF(AK14=0,0,(AK14*((LOG(AK14))/LOG(2))))","v":0},null,222,{"$f":"COUNTIF(L9:L10,AN14)","v":1},{"$f":"AO14/(AQ4-AO13)","v":0.5},{"$f":"IF(AP14=0,0,(AP14*((LOG(AP14))/LOG(2))))","v":-0.5},null,222,{"$f":"COUNTIF(L10:L10,AS14)","v":1},{"$f":"AT14/(AV4-AT13)","v":1},{"$f":"IF(AU14=0,0,(AU14*((LOG(AU14))/LOG(2))))","v":0}]
[null,null,null,null,null,null,null,null,null,null,null,null,null,null,null,{"$f":"SUM(P7:P14)","v":1},{"$f":"-SUM(Q7:Q14)","v":1.5},null,null,null,null,{"$f":"SUM(V7:V14)","v":1},{"$f":"-SUM(W7:W14)","v":0},null,null,null,{"$f":"SUM(AA7:AA14)","v":1},{"$f":"-SUM(AB7:AB14)","v":1},null,null,null,{"$f":"SUM(AF7:AF14)","v":1},{"$f":"-SUM(AG7:AG14)","v":0},null,null,null,{"$f":"SUM(AK7:AK14)","v":1},{"$f":"-SUM(AL7:AL14)","v":0},null,null,null,{"$f":"SUM(AP7:AP14)","v":1},{"$f":"-SUM(AQ7:AQ14)","v":1},null,null,null,{"$f":"SUM(AU7:AU14)","v":1},{"$f":"-SUM(AV7:AV14)","v":0}]
[null,null,null,null,null,null,null,null,null,null,null,null,null,null,null,"U=",{"$f":"Q15/(LOG(Q4)/LOG(2))","v":0.75},null,null,null,null,"U1=",{"$f":"W15/(LOG(W4)/LOG(2))","v":{"$error":"#DIV/0!"}},null,null,null,"U2=",{"$f":"AB15/(LOG(AB4)/LOG(2))","v":1},null,null,null,"U3=",{"$f":"AG15/(LOG(AG4)/LOG(2))","v":{"$error":"#DIV/0!"}},null,null,null,"U4=",{"$f":"AL15/(LOG(AL4)/LOG(2))","v":{"$error":"#DIV/0!"}},null,null,null,"U5=",{"$f":"AQ15/(LOG(AQ4)/LOG(2))","v":1},null,null,null,"U6=",{"$f":"AV15/(LOG(AV4)/LOG(2))","v":{"$error":"#DIV/0!"}}]
[]
[]
[null,null,null,null,null,null,null,null,null,null,null,null,null,"Total Target Seq"]
[null,null,null,null,null,null,null,null,null,null,null,null,null,{"$f":"COUNTIF(L7:L10,G3)","v":0},null,1,0,1,1,0,1]
[null,null,null,null,null,null,null,null,null,null,null,null,null,null,null,"% of reinforcement given in 6 equal intervals based on number of trials "]
[null,null,null,null,null,null,null,null,null,null,null,null,null,null,null,"%_1","%_2","%_3","%_4","%_5","%_6"]
[null,null,null,null,null,null,null,null,null,null,null,null,null,null,"target sequence",{"$f":"$G$3","v":221},221,221,221,221,221]
[null,null,null,null,null,null,null,null,null,null,null,null,null,null,"total reinforcement",{"$f":"U13","v":0},{"$f":"Z13","v":0},{"$f":"AE13","v":0},{"$f":"AJ13","v":0},{"$f":"AO13","v":0},{"$f":"AT13","v":0}]
[null,null,null,null,null,null,null,null,null,null,null,null,null,null,"% target"]
[null,null,null,null,null,null,null,null,null,null,null,null,null,null,"CCRF"]
[null,null,null,null,null,null,null,null,null,null,null,null,null,null,"% CCRf"]
[null,null,null,null,null,null,null,null,null,null,null,null,null,null,"average response rate",{"$f":"F7/P20","v":87},{"$f":"(F7-F7)/Q20","v":{"$error":"#DIV/0!"}},{"$f":"(F8-F7)/R20","v":273},{"$f":"(F9-F8)/S20","v":296},{"$f":"(F9-F9)/T20","v":{"$error":"#DIV/0!"}},{"$f":"(F10-F9)/U20","v":21762}]

{"sheet":"!M908A5B.AXT","index":12,"n_rows":28,"n_cols":48,"rows_kept":28,"cut":false,"hidden":false,"merged":[[4,39,4,42],[5,39,5,40],[4,44,4,47],[5,44,5,45],[4,24,4,27],[5,24,5,25],[4,29,4,32],[5,29,5,30],[4,34,4,37],[5,34,5,35],[1,1,1,2],[5,13,5,14],[18,13,18,14],[19,13,19,14],[4,19,4,22],[5,19,5,20]]}
["Report for:!M908A5B.AXT"]
["Date:","<date>"]
["Hen:","<hen>",null,null,null,"Correct Sequence",{"$f":"Start!J2","v":221},null,null,null,null,null,null,null,null,"Total Sequences in Data",{"$f":"4994-COUNTBLANK(L7:L5000)","v":7},null,null,null,null,"Total Sequences in Block Data",{"$f":"COUNTA(L7:L7)","v":1},null,null,null,"Total Sequences in Block Data",{"$f":"COUNTA(L8:L8)","v":1},null,null,null,"Total Sequences in Block Data",{"$f":"COUNTA(L9:L10)","v":2},null,null,null,"Total Sequences in Block Data",{"$f":"COUNTA(L11:L11)","v":1},null,null,null,"Total Sequences in Block Data",{"$f":"COUNTA(L12:L12)","v":1},null,null,null,"Total Sequences in Block Data",{"$f":"COUNTA(L13:L13)","v":1}]
[null,null,null,null,null,null,null,null,null,null,null,null,null,null,null,"Total Sequences in Summary",{"$f":"SUM(O7:O14)","v":7},null,null,null,null,"Total Sequences in Block Summary",{"$f":"SUM(U7:U14)","v":1},null,null,null,"Total Sequences in Block Summary",{"$f":"SUM(Z7:Z14)","v":1},null,null,null,"Total Sequences in Block Summary",{"$f":"SUM(AE7:AE14)","v":2},null,null,null,"Total Sequences in Block Summary",{"$f":"SUM(AJ7:AJ14)","v":1},null,null,null,"Total Sequences in Block Summary",{"$f":"SUM(AO7:AO14)","v":1},null,null,null,"Total Sequences in Block Summary",{"$f":"SUM(AT7:AT14)","v":1}]
[null,null,null,null,null,null,null,null,null,null,null,null,null,null,null,null,null,null,null,"Block 1",null,null,null,null,"Block 2",null,null,null,null,"Block 3",null,null,null,null,"Block 4",null,null,null,null,"Block 5",null,null,null,null,"Block 6"]
["Sequence\nComponent\n1","Time\n1","Sequence\nComponent\n2","Time\n2","Sequence\nComponent\n3","Time\n3","Sequence\nComponent\n4","Time\n4","Sequence\nComponent\n5","Time\n5","Correct?\n0=No 1=Yes","Sequence",null,"Frequency",null,"Relative Frequency","Variability",null,null,"Frequency",null,"Relative Frequency","Variability",null,"Frequency",null,"Relative Frequency","Variability",null,"Frequency",null,"Relative Frequency","Variability",null,"Frequency",null,"Relative Frequency","Variability",null,"Frequency",null,"Relative Frequency","Variability",null,"Frequency",null,"Relative Frequency","Variability"]
[22,71,23,81,24,90,null,null,null,null,0,222,null,111,{"$f":"COUNTIF($L$7:$L$500,N7)","v":0},{"$f":"O7/$Q$4","v":0},{"$f":"IF(P7=0,0,(P7*((LOG(P7))/LOG(2))))","v":0},null,null,{"$f":"N7","v":111},{"$f":"COUNTIF(L7:L7,T7)","v":0},{"$f":"U7/(W4-U13)","v":0},{"$f":"IF(V7=0,0,(V7*((LOG(V7))/LOG(2))))","v":0},null,{"$f":"N7","v":111},{"$f":"COUNTIF(L8:L8,Y7)","v":0},{"$f":"Z7/(AB4-Z13)","v":0},{"$f":"IF(AA7=0,0,(AA7*((LOG(AA7))/LOG(2))))","v":0},null,{"$f":"N7","v":111},{"$f":"COUNTIF(L9:L10,AD7)","v":0},{"$f":"AE7/(AG4-AE13)","v":0},{"$f":"IF(AF7=0,0,(AF7*((LOG(AF7))/LOG(2))))","v":0},null,{"$f":"N7","v":111},{"$f":"COUNTIF(L11:L11,AI7)","v":0},{"$f":"AJ7/(AL4-AJ13)","v":0},{"$f":"IF(AK7=0,0,(AK7*((LOG(AK7))/LOG(2))))","v":0},null,{"$f":"N7","v":111},{"$f":"COUNTIF(L12:L12,AN7)","v":0},{"$f":"AO7/(AQ4-AO13)","v":0},{"$f":"IF(AP7=0,0,(AP7*((LOG(AP7))/LOG(2))))","v":0},null,{"$f":"N7","v":111},{"$f":"COUNTIF(L13:L13,AS7)","v":0},{"$f":"AT7/(AV4-AT13)","v":0},{"$f":"IF(AU7=0,0,(AU7*((LOG(AU7))/LOG(2))))","v":0}]
[22,264,23,296,24,300,null,null,null,null,0,222,null,112,2,0.2857142857142857,-0.51638712058788683,null,null,112,{"$f":"COUNTIF(L7:L7,T8)","v":0},{"$f":"U8/(W4-U13)","v":0},0,null,112,{"$f":"COUNTIF(L8:L8,Y8)","v":0},{"$f":"Z8/(AB4-Z13)","v":0},0,null,112,{"$f":"COUNTIF(L9:L10,AD8)","v":0},{"$f":"AE8/(AG4-AE13)","v":0},0,null,112,{"$f":"COUNTIF(L11:L11,AI8)","v":0},{"$f":"AJ8/(AL4-AJ13)","v":0},0,null,112,{"$f":"COUNTIF(L12:L12,AN8)","v":1},{"$f":"AO8/(AQ4-AO13)","v":1},0,null,112,{"$f":"COUNTIF(L13:L13,AS8)","v":1},{"$f":"AT8/(AV4-AT13)","v":1},0]
[22,423,23,433,13,449,null,null,null,null,0,221,null,121,0,0,0,null,null,121,{"$f":"COUNTIF(L7:L7,T9)","v":0},{"$f":"U9/(W4-U13)","v":0},0,null,121,{"$f":"COUNTIF(L8:L8,Y9)","v":0},{"$f":"Z9/(AB4-Z13)","v":0},0,null,121,{"$f":"COUNTIF(L9:L10,AD9)","v":0},{"$f":"AE9/(AG4-AE13)","v":0},0,null,121,{"$f":"COUNTIF(L11:L11,AI9)","v":0},{"$f":"AJ9/(AL4-AJ13)","v":0},0,null,121,{"$f":"COUNTIF(L12:L12,AN9)","v":0},{"$f":"AO9/(AQ4-AO13)","v":0},0,null,121,{"$f":"COUNTIF(L13:L13,AS9)","v":0},{"$f":"AT9/(AV4-AT13)","v":0},0]
[22,732,14,973,24,980,null,null,null,null,0,212,null,122,0,0,0,null,null,122,{"$f":"COUNTIF(L7:L7,T10)","v":0},{"$f":"U10/(W4-U13)","v":0},0,null,122,{"$f":"COUNTIF(L8:L8,Y10)","v":0},{"$f":"Z10/(AB4-Z13)","v":0},0,null,122,{"$f":"COUNTIF(L9:L10,AD10)","v":0},{"$f":"AE10/(AG4-AE13)","v":0},0,null,122,{"$f":"COUNTIF(L11:L11,AI10)","v":0},{"$f":"AJ10/(AL4-AJ13)","v":0},0,null,122,{"$f":"COUNTIF(L12:L12,AN10)","v":0},{"$f":"AO10/(AQ4-AO13)","v":0},0,null,122,{"$f":"COUNTIF(L13:L13,AS10)","v":0},{"$f":"AT10/(AV4-AT13)","v":0},0]
[22,5868,14,5963,24,5974,null,null,null,null,0,212,null,211,0,0,0,null,null,211,{"$f":"COUNTIF(L7:L7,T11)","v":0},{"$f":"U11/(W4-U13)","v":0},0,null,211,{"$f":"COUNTIF(L8:L8,Y11)","v":0},{"$f":"Z11/(AB4-Z13)","v":0},0,null,211,{"$f":"COUNTIF(L9:L10,AD11)","v":0},{"$f":"AE11/(AG4-AE13)","v":0},0,null,211,{"$f":"COUNTIF(L11:L11,AI11)","v":0},{"$f":"AJ11/(AL4-AJ13)","v":0},0,null,211,{"$f":"COUNTIF(L12:L12,AN11)","v":0},{"$f":"AO11/(AQ4-AO13)","v":0},0,null,211,{"$f":"COUNTIF(L13:L13,AS11)","v":0},{"$f":"AT11/(AV4-AT13)","v":0},0]
[11,21648,12,21652,24,22115,null,null,null,null,0,112,null,212,2,0.2857142857142857,-0.51638712058788683,null,null,212,{"$f":"COUNTIF(L7:L7,T12)","v":0},{"$f":"U12/(W4-U13)","v":0},0,null,212,{"$f":"COUNTIF(L8:L8,Y12)","v":0},{"$f":"Z12/(AB4-Z13)","v":0},0,null,212,{"$f":"COUNTIF(L9:L10,AD12)","v":1},{"$f":"AE12/(AG4-AE13)","v":1},0,null,212,{"$f":"COUNTIF(L11:L11,AI12)","v":1},{"$f":"AJ12/(AL4-AJ13)","v":1},0,null,212,{"$f":"COUNTIF(L12:L12,AN12)","v":0},{"$f":"AO12/(AQ4-AO13)","v":0},0,null,212,{"$f":"COUNTIF(L13:L13,AS12)","v":0},{"$f":"AT12/(AV4-AT13)","v":0},0]
[11,22288,12,22293,24,22304,null,null,null,null,0,112,null,221,1,0.14285714285714285,-0.40105070315108626,null,null,221,{"$f":"COUNTIF(L7:L7,T13)","v":0},null,null,null,221,{"$f":"COUNTIF(L8:L8,Y13)","v":0},null,null,null,221,{"$f":"COUNTIF(L9:L10,AD13)","v":1},null,null,null,221,{"$f":"COUNTIF(L11:L11,AI13)","v":0},null,null,null,221,{"$f":"COUNTIF(L12:L12,AN13)","v":0},null,null,null,221,{"$f":"COUNTIF(L13:L13,AS13)","v":0}]
[null,null,null,null,null,null,null,null,null,null,null,null,null,222,2,0.2857142857142857,-0.51638712058788683,null,null,222,{"$f":"COUNTIF(L7:L7,T14)","v":1},{"$f":"U14/(W4-U13)","v":1},{"$f":"IF(V14=0,0,(V14*((LOG(V14))/LOG(2))))","v":0},null,222,{"$f":"COUNTIF(L8:L8,Y14)","v":1},{"$f":"Z14/(AB4-Z13)","v":1},{"$f":"IF(AA14=0,0,(AA14*((LOG(AA14))/LOG(2))))","v":0},null,222,{"$f":"COUNTIF(L9:L10,AD14)","v":0},{"$f":"AE14/(AG4-AE13)","v":0},{"$f":"IF(AF14=0,0,(AF14*((LOG(AF14))/LOG(2))))","v":0},null,222,{"$f":"COUNTIF(L11:L11,AI14)","v":0},{"$f":"AJ14/(AL4-AJ13)","v":0},{"$f":"IF(AK14=0,0,(AK14*((LOG(AK14))/LOG(2))))","v":0},null,222,{"$f":"COUNTIF(L12:L12,AN14)","v":0},{"$f":"AO14/(AQ4-AO13)","v":0},{"$f":"IF(AP14=0,0,(AP14*((LOG(AP14))/LOG(2))))","v":0},null,222,{"$f":"COUNTIF(L13:L13,AS14)","v":0},{"$f":"AT14/(AV4-AT13)","v":0},{"$f":"IF(AU14=0,0,(AU14*((LOG(AU14))/LOG(2))))","v":0}]
[null,null,null,null,null,null,null,null,null,null,null,null,null,null,null,{"$f":"SUM(P7:P14)","v":0.99999999999999989},{"$f":"-SUM(Q7:Q14)","v":1.9502120649147465},null,null,null,null,{"$f":"SUM(V7:V14)","v":1},{"$f":"-SUM(W7:W14)","v":0},null,null,null,{"$f":"SUM(AA7:AA14)","v":1},{"$f":"-SUM(AB7:AB14)","v":0},null,null,null,{"$f":"SUM(AF7:AF14)","v":1},{"$f":"-SUM(AG7:AG14)","v":0},null,null,null,{"$f":"SUM(AK7:AK14)","v":1},{"$f":"-SUM(AL7:AL14)","v":0},null,null,null,{"$f":"SUM(AP7:AP14)","v":1},{"$f":"-SUM(AQ7:AQ14)","v":0},null,null,null,{"$f":"SUM(AU7:AU14)","v":1},{"$f":"-SUM(AV7:AV14)","v":0}]
[null,null,null,null,null,null,null,null,null,null,null,null,null,null,null,"U=",{"$f":"Q15/(LOG(Q4)/LOG(2))","v":0.69467955390740943},null,null,null,null,"U1=",{"$f":"W15/(LOG(W4)/LOG(2))","v":{"$error":"#DIV/0!"}},null,null,null,"U2=",{"$f":"AB15/(LOG(AB4)/LOG(2))","v":{"$error":"#DIV/0!"}},null,null,null,"U3=",{"$f":"AG15/(LOG(AG4)/LOG(2))","v":0},null,null,null,"U4=",{"$f":"AL15/(LOG(AL4)/LOG(2))","v":{"$error":"#DIV/0!"}},null,null,null,"U5=",{"$f":"AQ15/(LOG(AQ4)/LOG(2))","v":{"$error":"#DIV/0!"}},null,null,null,"U6=",{"$f":"AV15/(LOG(AV4)/LOG(2))","v":{"$error":"#DIV/0!"}}]
[]
[]
[null,null,null,null,null,null,null,null,null,null,null,null,null,"Total Target Seq"]
[null,null,null,null,null,null,null,null,null,null,null,null,null,{"$f":"COUNTIF(L7:L13,G3)","v":1},null,1,1,2,1,1,1]
[null,null,null,null,null,null,null,null,null,null,null,null,null,null,null,"% of reinforcement given in 6 equal intervals based on number of trials "]
[null,null,null,null,null,null,null,null,null,null,null,null,null,null,null,"%_1","%_2","%_3","%_4","%_5","%_6"]
[null,null,null,null,null,null,null,null,null,null,null,null,null,null,"target sequence",{"$f":"$G$3","v":221},221,221,221,221,221]
[null,null,null,null,null,null,null,null,null,null,null,null,null,null,"total reinforcement",{"$f":"U13","v":0},{"$f":"Z13","v":0},{"$f":"AE13","v":1},{"$f":"AJ13","v":0},{"$f":"AO13","v":0},{"$f":"AT13","v":0}]
[null,null,null,null,null,null,null,null,null,null,null,null,null,null,"% target"]
[null,null,null,null,null,null,null,null,null,null,null,null,null,null,"CCRF"]
[null,null,null,null,null,null,null,null,null,null,null,null,null,null,"% CCRf"]
[null,null,null,null,null,null,null,null,null,null,null,null,null,null,"average response rate",{"$f":"F7/P20","v":90},{"$f":"(F8-F7)/Q20","v":210},{"$f":"(F10-F8)/R20","v":340},{"$f":"(F11-F10)/S20","v":4994},{"$f":"(F12-F11)/T20","v":16141},{"$f":"(F13-F12)/U20","v":189}]

{"sheet":"!M909A5B.AXT","index":13,"n_rows":28,"n_cols":48,"rows_kept":28,"cut":false,"hidden":false,"merged":[[4,39,4,42],[5,39,5,40],[4,44,4,47],[5,44,5,45],[4,24,4,27],[5,24,5,25],[4,29,4,32],[5,29,5,30],[4,34,4,37],[5,34,5,35],[1,1,1,2],[5,13,5,14],[18,13,18,14],[19,13,19,14],[4,19,4,22],[5,19,5,20]]}
["Report for:!M909A5B.AXT"]
["Date:","<date>"]
["Hen:","<hen>",null,null,null,"Correct Sequence",{"$f":"Start!J2","v":221},null,null,null,null,null,null,null,null,"Total Sequences in Data",{"$f":"4994-COUNTBLANK(L7:L5000)","v":3},null,null,null,null,"Total Sequences in Block Data",{"$f":"COUNTA(L7:L7)","v":1},null,null,null,"Total Sequences in Block Data",{"$f":"COUNTA(L7:L8)","v":2},null,null,null,"Total Sequences in Block Data",{"$f":"COUNTA(L8:L8)","v":1},null,null,null,"Total Sequences in Block Data",{"$f":"COUNTA(L8:L9)","v":2},null,null,null,"Total Sequences in Block Data",{"$f":"COUNTA(L9:L9)","v":1},null,null,null,"Total Sequences in Block Data",{"$f":"COUNTA(L9:L10)","v":1}]
[null,null,null,null,null,null,null,null,null,null,null,null,null,null,null,"Total Sequences in Summary",{"$f":"SUM(O7:O14)","v":3},null,null,null,null,"Total Sequences in Block Summary",{"$f":"SUM(U7:U14)","v":1},null,null,null,"Total Sequences in Block Summary",{"$f":"SUM(Z7:Z14)","v":2},null,null,null,"Total Sequences in Block Summary",{"$f":"SUM(AE7:AE14)","v":1},null,null,null,"Total Sequences in Block Summary",{"$f":"SUM(AJ7:AJ14)","v":2},null,null,null,"Total Sequences in Block Summary",{"$f":"SUM(AO7:AO14)","v":1},null,null,null,"Total Sequences in Block Summary",{"$f":"SUM(AT7:AT14)","v":1}]
[null,null,null,null,null,null,null,null,null,null,null,null,null,null,null,null,null,null,null,"Block 1",null,null,null,null,"Block 2",null,null,null,null,"Block 3",null,null,null,null,"Block 4",null,null,null,null,"Block 5",null,null,null,null,"Block 6"]
["Sequence\nComponent\n1","Time\n1","Sequence\nComponent\n2","Time\n2","Sequence\nComponent\n3","Time\n3","Sequence\nComponent\n4","Time\n4","Sequence\nComponent\n5","Time\n5","Correct?\n0=No 1=Yes","Sequence",null,"Frequency",null,"Relative Frequency","Variability",null,null,"Frequency",null,"Relative Frequency","Variability",null,"Frequency",null,"Relative Frequency","Variability",null,"Frequency",null,"Relative Frequency","Variability",null,"Frequency",null,"Relative Frequency","Variability",null,"Frequency",null,"Relative Frequency","Variability",null,"Frequency",null,"Relative Frequency","Variability"]
[22,200,23,219,24,225,null,null,null,null,0,222,null,111,{"$f":"COUNTIF($L$7:$L$500,N7)","v":0},{"$f":"O7/$Q$4","v":0},{"$f":"IF(P7=0,0,(P7*((LOG(P7))/LOG(2))))","v":0},null,null,{"$f":"N7","v":111},{"$f":"COUNTIF(L7:L7,T7)","v":0},{"$f":"U7/(W4-U13)","v":0},{"$f":"IF(V7=0,0,(V7*((LOG(V7))/LOG(2))))","v":0},null,{"$f":"N7","v":111},{"$f":"COUNTIF(L7:L8,Y7)","v":0},{"$f":"Z7/(AB4-Z13)","v":0},{"$f":"IF(AA7=0,0,(AA7*((LOG(AA7))/LOG(2))))","v":0},null,{"$f":"N7","v":111},{"$f":"COUNTIF(L8:L8,AD7)","v":0},{"$f":"AE7/(AG4-AE13)","v":0},{"$f":"IF(AF7=0,0,(AF7*((LOG(AF7))/LOG(2))))","v":0},null,{"$f":"N7","v":111},{"$f":"COUNTIF(L8:L9,AI7)","v":0},{"$f":"AJ7/(AL4-AJ13)","v":0},{"$f":"IF(AK7=0,0,(AK7*((LOG(AK7))/LOG(2))))","v":0},null,{"$f":"N7","v":111},{"$f":"COUNTIF(L9:L9,AN7)","v":0},{"$f":"AO7/(AQ4-AO13)","v":0},{"$f":"IF(AP7=0,0,(AP7*((LOG(AP7))/LOG(2))))","v":0},null,{"$f":"N7","v":111},{"$f":"COUNTIF(L9:L10,AS7)","v":0},{"$f":"AT7/(AV4-AT13)","v":0},{"$f":"IF(AU7=0,0,(AU7*((LOG(AU7))/LOG(2))))","v":0}]
[22,339,23,345,24,353,null,null,null,null,0,222,null,112,1,0.33333333333333331,-0.52832083357371862,null,null,112,{"$f":"COUNTIF(L7:L7,T8)","v":0},{"$f":"U8/(W4-U13)","v":0},0,null,112,{"$f":"COUNTIF(L7:L8,Y8)","v":0},{"$f":"Z8/(AB4-Z13)","v":0},0,null,112,{"$f":"COUNTIF(L8:L8,AD8)","v":0},{"$f":"AE8/(AG4-AE13)","v":0},0,null,112,{"$f":"COUNTIF(L8:L9,AI8)","v":1},{"$f":"AJ8/(AL4-AJ13)","v":0.5},-0.5,null,112,{"$f":"COUNTIF(L9:L9,AN8)","v":1},{"$f":"AO8/(AQ4-AO13)","v":1},0,null,112,{"$f":"COUNTIF(L9:L10,AS8)","v":1},{"$f":"AT8/(AV4-AT13)","v":1},0]
[11,611,12,616,24,630,null,null,null,null,0,112,null,121,0,0,0,null,null,121,{"$f":"COUNTIF(L7:L7,T9)","v":0},{"$f":"U9/(W4-U13)","v":0},0,null,121,{"$f":"COUNTIF(L7:L8,Y9)","v":0},{"$f":"Z9/(AB4-Z13)","v":0},0,null,121,{"$f":"COUNTIF(L8:L8,AD9)","v":0},{"$f":"AE9/(AG4-AE13)","v":0},0,null,121,{"$f":"COUNTIF(L8:L9,AI9)","v":0},{"$f":"AJ9/(AL4-AJ13)","v":0},0,null,121,{"$f":"COUNTIF(L9:L9,AN9)","v":0},{"$f":"AO9/(AQ4-AO13)","v":0},0,null,121,{"$f":"COUNTIF(L9:L10,AS9)","v":0},{"$f":"AT9/(AV4-AT13)","v":0},0]
[null,null,null,null,null,null,null,null,null,null,null,null,null,122,0,0,0,null,null,122,{"$f":"COUNTIF(L7:L7,T10)","v":0},{"$f":"U10/(W4-U13)","v":0},0,null,122,{"$f":"COUNTIF(L7:L8,Y10)","v":0},{"$f":"Z10/(AB4-Z13)","v":0},0,null,122,{"$f":"COUNTIF(L8:L8,AD10)","v":0},{"$f":"AE10/(AG4-AE13)","v":0},0,null,122,{"$f":"COUNTIF(L8:L9,AI10)","v":0},{"$f":"AJ10/(AL4-AJ13)","v":0},0,null,122,{"$f":"COUNTIF(L9:L9,AN10)","v":0},{"$f":"AO10/(AQ4-AO13)","v":0},0,null,122,{"$f":"COUNTIF(L9:L10,AS10)","v":0},{"$f":"AT10/(AV4-AT13)","v":0},0]
[null,null,null,null,null,null,null,null,null,null,null,null,null,211,0,0,0,null,null,211,{"$f":"COUNTIF(L7:L7,T11)","v":0},{"$f":"U11/(W4-U13)","v":0},0,null,211,{"$f":"COUNTIF(L7:L8,Y11)","v":0},{"$f":"Z11/(AB4-Z13)","v":0},0,null,211,{"$f":"COUNTIF(L8:L8,AD11)","v":0},{"$f":"AE11/(AG4-AE13)","v":0},0,null,211,{"$f":"COUNTIF(L8:L9,AI11)","v":0},{"$f":"AJ11/(AL4-AJ13)","v":0},0,null,211,{"$f":"COUNTIF(L9:L9,AN11)","v":0},{"$f":"AO11/(AQ4-AO13)","v":0},0,null,211,{"$f":"COUNTIF(L9:L10,AS11)","v":0},{"$f":"AT11/(AV4-AT13)","v":0},0]
[null,null,null,null,null,null,null,null,null,null,null,null,null,212,0,0,0,null,null,212,{"$f":"COUNTIF(L7:L7,T12)","v":0},{"$f":"U12/(W4-U13)","v":0},0,null,212,{"$f":"COUNTIF(L7:L8,Y12)","v":0},{"$f":"Z12/(AB4-Z13)","v":0},0,null,212,{"$f":"COUNTIF(L8:L8,AD12)","v":0},{"$f":"AE12/(AG4-AE13)","v":0},0,null,212,{"$f":"COUNTIF(L8:L9,AI12)","v":0},{"$f":"AJ12/(AL4-AJ13)","v":0},0,null,212,{"$f":"COUNTIF(L9:L9,AN12)","v":0},{"$f":"AO12/(AQ4-AO13)","v":0},0,null,212,{"$f":"COUNTIF(L9:L10,AS12)","v":0},{"$f":"AT12/(AV4-AT13)","v":0},0]
[null,null,null,null,null,null,null,null,null,null,null,null,null,221,0,0,0,null,null,221,{"$f":"COUNTIF(L7:L7,T13)","v":0},null,null,null,221,{"$f":"COUNTIF(L7:L8,Y13)","v":0},null,null,null,221,{"$f":"COUNTIF(L8:L8,AD13)","v":0},null,null,null,221,{"$f":"COUNTIF(L8:L9,AI13)","v":0},null,null,null,221,{"$f":"COUNTIF(L9:L9,AN13)","v":0},null,null,null,221,{"$f":"COUNTIF(L9:L10,AS13)","v":0}]
[null,null,null,null,null,null,null,null,null,null,null,null,null,222,2,0.66666666666666663,-0.38997500048077083,null,null,222,{"$f":"COUNTIF(L7:L7,T14)","v":1},{"$f":"U14/(W4-U13)","v":1},{"$f":"IF(V14=0,0,(V14*((LOG(V14))/LOG(2))))","v":0},null,222,{"$f":"COUNTIF(L7:L8,Y14)","v":2},{"$f":"Z14/(AB4-Z13)","v":1},{"$f":"IF(AA14=0,0,(AA14*((LOG(AA14))/LOG(2))))","v":0},null,222,{"$f":"COUNTIF(L8:L8,AD14)","v":1},{"$f":"AE14/(AG4-AE13)","v":1},{"$f":"IF(AF14=0,0,(AF14*((LOG(AF14))/LOG(2))))","v":0},null,222,{"$f":"COUNTIF(L8:L9,AI14)","v":1},{"$f":"AJ14/(AL4-AJ13)","v":0.5},{"$f":"IF(AK14=0,0,(AK14*((LOG(AK14))/LOG(2))))","v":-0.5},null,222,{"$f":"COUNTIF(L9:L9,AN14)","v":0},{"$f":"AO14/(AQ4-AO13)","v":0},{"$f":"IF(AP14=0,0,(AP14*((LOG(AP14))/LOG(2))))","v":0},null,222,{"$f":"COUNTIF(L9:L10,AS14)","v":0},{"$f":"AT14/(AV4-AT13)","v":0},{"$f":"IF(AU14=0,0,(AU14*((LOG(AU14))/LOG(2))))","v":0}]
[null,null,null,null,null,null,null,null,null,null,null,null,null,null,null,{"$f":"SUM(P7:P14)","v":1},{"$f":"-SUM(Q7:Q14)","v":0.91829583405448945},null,null,null,null,{"$f":"SUM(V7:V14)","v":1},{"$f":"-SUM(W7:W14)","v":0},null,null,null,{"$f":"SUM(AA7:AA14)","v":1},{"$f":"-SUM(AB7:AB14)","v":0},null,null,null,{"$f":"SUM(AF7:AF14)","v":1},{"$f":"-SUM(AG7:AG14)","v":0},null,null,null,{"$f":"SUM(AK7:AK14)","v":1},{"$f":"-SUM(AL7:AL14)","v":1},null,null,null,{"$f":"SUM(AP7:AP14)","v":1},{"$f":"-SUM(AQ7:AQ14)","v":0},null,null,null,{"$f":"SUM(AU7:AU14)","v":1},{"$f":"-SUM(AV7:AV14)","v":0}]
[null,null,null,null,null,null,null,null,null,null,null,null,null,null,null,"U=",{"$f":"Q15/(LOG(Q4)/LOG(2))","v":0.57938016428569505},null,null,null,null,"U1=",{"$f":"W15/(LOG(W4)/LOG(2))","v":{"$error":"#DIV/0!"}},null,null,null,"U2=",{"$f":"AB15/(LOG(AB4)/LOG(2))","v":0},null,null,null,"U3=",{"$f":"AG15/(LOG(AG4)/LOG(2))","v":{"$error":"#DIV/0!"}},null,null,null,"U4=",{"$f":"AL15/(LOG(AL4)/LOG(2))","v":1},null,null,null,"U5=",{"$f":"AQ15/(LOG(AQ4)/LOG(2))","v":{"$error":"#DIV/0!"}},null,null,null,"U6=",{"$f":"AV15/(LOG(AV4)/LOG(2))","v":{"$error":"#DIV/0!"}}]
[]
[]
[null,null,null,null,null,null,null,null,null,null,null,null,null,"Total Target Seq"]
[null,null,null,null,null,null,null,null,null,null,null,null,null,{"$f":"COUNTIF(L7:L9,G3)","v":0},null,1,0,1,0,1,0]
[null,null,null,null,null,null,null,null,null,null,null,null,null,null,null,"% of reinforcement given in 6 equal intervals based on number of trials "]
[null,null,null,null,null,null,null,null,null,null,null,null,null,null,null,"%_1","%_2","%_3","%_4","%_5","%_6"]
[null,null,null,null,null,null,null,null,null,null,null,null,null,null,"target sequence",{"$f":"$G$3","v":221},221,221,221,221,221]
[null,null,null,null,null,null,null,null,null,null,null,null,null,null,"total reinforcement",{"$f":"U13","v":0},{"$f":"Z13","v":0},{"$f":"AE13","v":0},{"$f":"AJ13","v":0},{"$f":"AO13","v":0},{"$f":"AT13","v":0}]
[null,null,null,null,null,null,null,null,null,null,null,null,null,null,"% target"]
[null,null,null,null,null,null,null,null,null,null,null,null,null,null,"CCRF"]
[null,null,null,null,null,null,null,null,null,null,null,null,null,null,"% CCRf"]
[null,null,null,null,null,null,null,null,null,null,null,null,null,null,"average response rate",{"$f":"F7/P20","v":225},{"$f":"(F7-F7)/Q20","v":{"$error":"#DIV/0!"}},{"$f":"(F8-F7)/R20","v":128},{"$f":"(F8-F8)/S20","v":{"$error":"#DIV/0!"}},{"$f":"(F9-F8)/T20","v":277},{"$f":"(F9-F9)/U20","v":{"$error":"#DIV/0!"}}]

{"sheet":"!M910B5B.AXT","index":14,"n_rows":28,"n_cols":48,"rows_kept":28,"cut":false,"hidden":false,"merged":[[4,39,4,42],[5,39,5,40],[4,44,4,47],[5,44,5,45],[4,24,4,27],[5,24,5,25],[4,29,4,32],[5,29,5,30],[4,34,4,37],[5,34,5,35],[1,1,1,2],[5,13,5,14],[18,13,18,14],[19,13,19,14],[4,19,4,22],[5,19,5,20]]}
["Report for:!M910B5B.AXT"]
["Date:","<date>"]
["Hen:","<hen>",null,null,null,"Correct Sequence",{"$f":"Start!J2","v":221},null,null,null,null,null,null,null,null,"Total Sequences in Data",{"$f":"4994-COUNTBLANK(L7:L5000)","v":11},null,null,null,null,"Total Sequences in Block Data",{"$f":"COUNTA(L7:L8)","v":2},null,null,null,"Total Sequences in Block Data",{"$f":"COUNTA(L9:L10)","v":2},null,null,null,"Total Sequences in Block Data",{"$f":"COUNTA(L11:L11)","v":1},null,null,null,"Total Sequences in Block Data",{"$f":"COUNTA(L12:L13)","v":2},null,null,null,"Total Sequences in Block Data",{"$f":"COUNTA(L14:L15)","v":2},null,null,null,"Total Sequences in Block Data",{"$f":"COUNTA(L16:L17)","v":2}]
[null,null,null,null,null,null,null,null,null,null,null,null,null,null,null,"Total Sequences in Summary",{"$f":"SUM(O7:O14)","v":11},null,null,null,null,"Total Sequences in Block Summary",{"$f":"SUM(U7:U14)","v":2},null,null,null,"Total Sequences in Block Summary",{"$f":"SUM(Z7:Z14)","v":2},null,null,null,"Total Sequences in Block Summary",{"$f":"SUM(AE7:AE14)","v":1},null,null,null,"Total Sequences in Block Summary",{"$f":"SUM(AJ7:AJ14)","v":2},null,null,null,"Total Sequences in Block Summary",{"$f":"SUM(AO7:AO14)","v":2},null,null,null,"Total Sequences in Block Summary",{"$f":"SUM(AT7:AT14)","v":2}]
[null,null,null,null,null,null,null,null,null,null,null,null,null,null,null,null,null,null,null,"Block 1",null,null,null,null,"Block 2",null,null,null,null,"Block 3",null,null,null,null,"Block 4",null,null,null,null,"Block 5",null,null,null,null,"Block 6"]
["Sequence\nComponent\n1","Time\n1","Sequence\nComponent\n2","Time\n2","Sequence\nComponent\n3","Time\n3","Sequence\nComponent\n4","Time\n4","Sequence\nComponent\n5","Time\n5","Correct?\n0=No 1=Yes","Sequence",null,"Frequency",null,"Relative Frequency","Variability",null,null,"Frequency",null,"Relative Frequency","Variability",null,"Frequency",null,"Relative Frequency","Variability",null,"Frequency",null,"Relative Frequency","Variability",null,"Frequency",null,"Relative Frequency","Variability",null,"Frequency",null,"Relative Frequency","Variability",null,"Frequency",null,"Relative Frequency","Variability"]
[22,63,23,76,24,107,null,null,null,null,0,222,null,111,{"$f":"COUNTIF($L$7:$L$500,N7)","v":0},{"$f":"O7/$Q$4","v":0},{"$f":"IF(P7=0,0,(P7*((LOG(P7))/LOG(2))))","v":0},null,null,{"$f":"N7","v":111},{"$f":"COUNTIF(L7:L8,T7)","v":0},{"$f":"U7/(W4-U13)","v":0},{"$f":"IF(V7=0,0,(V7*((LOG(V7))/LOG(2))))","v":0},null,{"$f":"N7","v":111},{"$f":"COUNTIF(L9:L10,Y7)","v":0},{"$f":"Z7/(AB4-Z13)","v":0},{"$f":"IF(AA7=0,0,(AA7*((LOG(AA7))/LOG(2))))","v":0},null,{"$f":"N7","v":111},{"$f":"COUNTIF(L11:L11,AD7)","v":0},{"$f":"AE7/(AG4-AE13)","v":0},{"$f":"IF(AF7=0,0,(AF7*((LOG(AF7))/LOG(2))))","v":0},null,{"$f":"N7","v":111},{"$f":"COUNTIF(L12:L13,AI7)","v":0},{"$f":"AJ7/(AL4-AJ13)","v":0},{"$f":"IF(AK7=0,0,(AK7*((LOG(AK7))/LOG(2))))","v":0},null,{"$f":"N7","v":111},{"$f":"COUNTIF(L14:L15,AN7)","v":0},{"$f":"AO7/(AQ4-AO13)","v":0},{"$f":"IF(AP7=0,0,(AP7*((LOG(AP7))/LOG(2))))","v":0},null,{"$f":"N7","v":111},{"$f":"COUNTIF(L16:L17,AS7)","v":0},{"$f":"AT7/(AV4-AT13)","v":0},{"$f":"IF(AU7=0,0,(AU7*((LOG(AU7))/LOG(2))))","v":0}]
[22,4847,23,4850,24,4867,null,null,null,null,0,222,null,112,1,9.0909090909090912E-2,-0.31449378351248153,null,null,112,{"$f":"COUNTIF(L7:L8,T8)","v":0},{"$f":"U8/(W4-U13)","v":0},0,null,112,{"$f":"COUNTIF(L9:L10,Y8)","v":0},{"$f":"Z8/(AB4-Z13)","v":0},0,null,112,{"$f":"COUNTIF(L11:L11,AD8)","v":0},{"$f":"AE8/(AG4-AE13)","v":0},0,null,112,{"$f":"COUNTIF(L12:L13,AI8)","v":1},{"$f":"AJ8/(AL4-AJ13)","v":0.5},-0.5,null,112,{"$f":"COUNTIF(L14:L15,AN8)","v":0},{"$f":"AO8/(AQ4-AO13)","v":0},0,null,112,{"$f":"COUNTIF(L16:L17,AS8)","v":0},{"$f":"AT8/(AV4-AT13)","v":0},0]
[11,8395,21,8402,22,8408,null,null,null,null,0,122,null,121,1,9.0909090909090912E-2,-0.31449378351248153,null,null,121,{"$f":"COUNTIF(L7:L8,T9)","v":0},{"$f":"U9/(W4-U13)","v":0},0,null,121,{"$f":"COUNTIF(L9:L10,Y9)","v":1},{"$f":"Z9/(AB4-Z13)","v":0.5},-0.5,null,121,{"$f":"COUNTIF(L11:L11,AD9)","v":0},{"$f":"AE9/(AG4-AE13)","v":0},0,null,121,{"$f":"COUNTIF(L12:L13,AI9)","v":0},{"$f":"AJ9/(AL4-AJ13)","v":0},0,null,121,{"$f":"COUNTIF(L14:L15,AN9)","v":0},{"$f":"AO9/(AQ4-AO13)","v":0},0,null,121,{"$f":"COUNTIF(L16:L17,AS9)","v":0},{"$f":"AT9/(AV4-AT13)","v":0},0]
[11,8521,21,8526,11,8528,null,null,null,null,0,121,null,122,2,0.18181818181818182,-0.44716938520678134,null,null,122,{"$f":"COUNTIF(L7:L8,T10)","v":0},{"$f":"U10/(W4-U13)","v":0},0,null,122,{"$f":"COUNTIF(L9:L10,Y10)","v":1},{"$f":"Z10/(AB4-Z13)","v":0.5},-0.5,null,122,{"$f":"COUNTIF(L11:L11,AD10)","v":0},{"$f":"AE10/(AG4-AE13)","v":0},0,null,122,{"$f":"COUNTIF(L12:L13,AI10)","v":1},{"$f":"AJ10/(AL4-AJ13)","v":0.5},-0.5,null,122,{"$f":"COUNTIF(L14:L15,AN10)","v":0},{"$f":"AO10/(AQ4-AO13)","v":0},0,null,122,{"$f":"COUNTIF(L16:L17,AS10)","v":0},{"$f":"AT10/(AV4-AT13)","v":0},0]
[22,8703,23,8708,24,8713,null,null,null,null,0,222,null,211,0,0,0,null,null,211,{"$f":"COUNTIF(L7:L8,T11)","v":0},{"$f":"U11/(W4-U13)","v":0},0,null,211,{"$f":"COUNTIF(L9:L10,Y11)","v":0},{"$f":"Z11/(AB4-Z13)","v":0},0,null,211,{"$f":"COUNTIF(L11:L11,AD11)","v":0},{"$f":"AE11/(AG4-AE13)","v":0},0,null,211,{"$f":"COUNTIF(L12:L13,AI11)","v":0},{"$f":"AJ11/(AL4-AJ13)","v":0},0,null,211,{"$f":"COUNTIF(L14:L15,AN11)","v":0},{"$f":"AO11/(AQ4-AO13)","v":0},0,null,211,{"$f":"COUNTIF(L16:L17,AS11)","v":0},{"$f":"AT11/(AV4-AT13)","v":0},0]
[11,8806,12,8812,24,8818,null,null,null,null,0,112,null,212,0,0,0,null,null,212,{"$f":"COUNTIF(L7:L8,T12)","v":0},{"$f":"U12/(W4-U13)","v":0},0,null,212,{"$f":"COUNTIF(L9:L10,Y12)","v":0},{"$f":"Z12/(AB4-Z13)","v":0},0,null,212,{"$f":"COUNTIF(L11:L11,AD12)","v":0},{"$f":"AE12/(AG4-AE13)","v":0},0,null,212,{"$f":"COUNTIF(L12:L13,AI12)","v":0},{"$f":"AJ12/(AL4-AJ13)","v":0},0,null,212,{"$f":"COUNTIF(L14:L15,AN12)","v":0},{"$f":"AO12/(AQ4-AO13)","v":0},0,null,212,{"$f":"COUNTIF(L16:L17,AS12)","v":0},{"$f":"AT12/(AV4-AT13)","v":0},0]
[11,8923,21,8927,22,8935,null,null,null,null,0,122,null,221,0,0,0,null,null,221,{"$f":"COUNTIF(L7:L8,T13)","v":0},null,null,null,221,{"$f":"COUNTIF(L9:L10,Y13)","v":0},null,null,null,221,{"$f":"COUNTIF(L11:L11,AD13)","v":0},null,null,null,221,{"$f":"COUNTIF(L12:L13,AI13)","v":0},null,null,null,221,{"$f":"COUNTIF(L14:L15,AN13)","v":0},null,null,null,221,{"$f":"COUNTIF(L16:L17,AS13)","v":0}]
[22,9047,23,9051,24,9078,null,null,null,null,0,222,null,222,7,0.63636363636363635,-0.41495789782344106,null,null,222,{"$f":"COUNTIF(L7:L8,T14)","v":2},{"$f":"U14/(W4-U13)","v":1},{"$f":"IF(V14=0,0,(V14*((LOG(V14))/LOG(2))))","v":0},null,222,{"$f":"COUNTIF(L9:L10,Y14)","v":0},{"$f":"Z14/(AB4-Z13)","v":0},{"$f":"IF(AA14=0,0,(AA14*((LOG(AA14))/LOG(2))))","v":0},null,222,{"$f":"COUNTIF(L11:L11,AD14)","v":1},{"$f":"AE14/(AG4-AE13)","v":1},{"$f":"IF(AF14=0,0,(AF14*((LOG(AF14))/LOG(2))))","v":0},null,222,{"$f":"COUNTIF(L12:L13,AI14)","v":0},{"$f":"AJ14/(AL4-AJ13)","v":0},{"$f":"IF(AK14=0,0,(AK14*((LOG(AK14))/LOG(2))))","v":0},null,222,{"$f":"COUNTIF(L14:L15,AN14)","v":2},{"$f":"AO14/(AQ4-AO13)","v":1},{"$f":"IF(AP14=0,0,(AP14*((LOG(AP14))/LOG(2))))","v":0},null,222,{"$f":"COUNTIF(L16:L17,AS14)","v":2},{"$f":"AT14/(AV4-AT13)","v":1},{"$f":"IF(AU14=0,0,(AU14*((LOG(AU14))/LOG(2))))","v":0}]
[22,9308,23,9326,24,9337,null,null,null,null,0,222,null,null,null,{"$f":"SUM(P7:P14)","v":1},{"$f":"-SUM(Q7:Q14)","v":1.4911148500551854},null,null,null,null,{"$f":"SUM(V7:V14)","v":1},{"$f":"-SUM(W7:W14)","v":0},null,null,null,{"$f":"SUM(AA7:AA14)","v":1},{"$f":"-SUM(AB7:AB14)","v":1},null,null,null,{"$f":"SUM(AF7:AF14)","v":1},{"$f":"-SUM(AG7:AG14)","v":0},null,null,null,{"$f":"SUM(AK7:AK14)","v":1},{"$f":"-SUM(AL7:AL14)","v":1},null,null,null,{"$f":"SUM(AP7:AP14)","v":1},{"$f":"-SUM(AQ7:AQ14)","v":0},null,null,null,{"$f":"SUM(AU7:AU14)","v":1},{"$f":"-SUM(AV7:AV14)","v":0}]
[22,9439,23,9441,24,9446,null,null,null,null,0,222,null,null,null,"U=",{"$f":"Q15/(LOG(Q4)/LOG(2))","v":0.43102885515122552},null,null,null,null,"U1=",{"$f":"W15/(LOG(W4)/LOG(2))","v":0},null,null,null,"U2=",{"$f":"AB15/(LOG(AB4)/LOG(2))","v":1},null,null,null,"U3=",{"$f":"AG15/(LOG(AG4)/LOG(2))","v":{"$error":"#DIV/0!"}},null,null,null,"U4=",{"$f":"AL15/(LOG(AL4)/LOG(2))","v":1},null,null,null,"U5=",{"$f":"AQ15/(LOG(AQ4)/LOG(2))","v":0},null,null,null,"U6=",{"$f":"AV15/(LOG(AV4)/LOG(2))","v":0}]
[22,15574,23,15577,24,23090,null,null,null,null,0,222]
[]
[null,null,null,null,null,null,null,null,null,null,null,null,null,"Total Target Seq"]
[null,null,null,null,null,null,null,null,null,null,null,null,null,{"$f":"COUNTIF(L7:L17,G3)","v":0},null,2,2,1,2,2,2]
[null,null,null,null,null,null,null,null,null,null,null,null,null,null,null,"% of reinforcement given in 6 equal intervals based on number of trials "]
[null,null,null,null,null,null,null,null,null,null,null,null,null,null,null,"%_1","%_2","%_3","%_4","%_5","%_6"]
[null,null,null,null,null,null,null,null,null,null,null,null,null,null,"target sequence",{"$f":"$G$3","v":221},221,221,221,221,221]
[null,null,null,null,null,null,null,null,null,null,null,null,null,null,"total reinforcement",{"$f":"U13","v":0},{"$f":"Z13","v":0},{"$f":"AE13","v":0},{"$f":"AJ13","v":0},{"$f":"AO13","v":0},{"$f":"AT13","v":0}]
[null,null,null,null,null,null,null,null,null,null,null,null,null,null,"% target"]
[null,null,null,null,null,null,null,null,null,null,null,null,null,null,"CCRF"]
[null,null,null,null,null,null,null,null,null,null,null,null,null,null,"% CCRf"]
[null,null,null,null,null,null,null,null,null,null,null,null,null,null,"average response rate",{"$f":"F8/P20","v":2433.5},{"$f":"(F10-F8)/Q20","v":1830.5},{"$f":"(F11-F10)/R20","v":185},{"$f":"(F13-F11)/S20","v":111},{"$f":"(F15-F13)/T20","v":201},{"$f":"(F17-F15)/U20","v":6876.5}]

{"sheet":"!M911A3B.AXT","index":15,"n_rows":28,"n_cols":48,"rows_kept":28,"cut":false,"hidden":false,"merged":[[4,39,4,42],[5,39,5,40],[4,44,4,47],[5,44,5,45],[4,24,4,27],[5,24,5,25],[4,29,4,32],[5,29,5,30],[4,34,4,37],[5,34,5,35],[1,1,1,2],[5,13,5,14],[18,13,18,14],[19,13,19,14],[4,19,4,22],[5,19,5,20]]}
["Report for:!M911A3B.AXT"]
["Date:","<date>"]
["Hen:","<hen>",null,null,null,"Correct Sequence",{"$f":"Start!J2","v":221},null,null,null,null,null,null,null,null,"Total Sequences in Data",{"$f":"4994-COUNTBLANK(L7:L5000)","v":4},null,null,null,null,"Total Sequences in Block Data",{"$f":"COUNTA(L7:L7)","v":1},null,null,null,"Total Sequences in Block Data",{"$f":"COUNTA(L7:L8)","v":2},null,null,null,"Total Sequences in Block Data",{"$f":"COUNTA(L8:L8)","v":1},null,null,null,"Total Sequences in Block Data",{"$f":"COUNTA(L9:L9)","v":1},null,null,null,"Total Sequences in Block Data",{"$f":"COUNTA(L9:L10)","v":2},null,null,null,"Total Sequences in Block Data",{"$f":"COUNTA(L10:L10)","v":1}]
[null,null,null,null,null,null,null,null,null,null,null,null,null,null,null,"Total Sequences in Summary",{"$f":"SUM(O7:O14)","v":3},null,null,null,null,"Total Sequences in Block Summary",{"$f":"SUM(U7:U14)","v":1},null,null,null,"Total Sequences in Block Summary",{"$f":"SUM(Z7:Z14)","v":2},null,null,null,"Total Sequences in Block Summary",{"$f":"SUM(AE7:AE14)","v":1},null,null,null,"Total Sequences in Block Summary",{"$f":"SUM(AJ7:AJ14)","v":1},null,null,null,"Total Sequences in Block Summary",{"$f":"SUM(AO7:AO14)","v":1},null,null,null,"Total Sequences in Block Summary",{"$f":"SUM(AT7:AT14)","v":0}]
[null,null,null,null,null,null,null,null,null,null,null,null,null,null,null,null,null,null,null,"Block 1",null,null,null,null,"Block 2",null,null,null,null,"Block 3",null,null,null,null,"Block 4",null,null,null,null,"Block 5",null,null,null,null,"Block 6"]
["Sequence\nComponent\n1","Time\n1","Sequence\nComponent\n2","Time\n2","Sequence\nComponent\n3","Time\n3","Sequence\nComponent\n4","Time\n4","Sequence\nComponent\n5","Time\n5","Correct?\n0=No 1=Yes","Sequence",null,"Frequency",null,"Relative Frequency","Variability",null,null,"Frequency",null,"Relative Frequency","Variability",null,"Frequency",null,"Relative Frequency","Variability",null,"Frequency",null,"Relative Frequency","Variability",null,"Frequency",null,"Relative Frequency","Variability",null,"Frequency",null,"Relative Frequency","Variability",null,"Frequency",null,"Relative Frequency","Variability"]
[22,54,14,67,24,71,null,null,null,null,0,212,null,111,{"$f":"COUNTIF($L$7:$L$500,N7)","v":0},{"$f":"O7/$Q$4","v":0},{"$f":"IF(P7=0,0,(P7*((LOG(P7))/LOG(2))))","v":0},null,null,{"$f":"N7","v":111},{"$f":"COUNTIF(L7:L7,T7)","v":0},{"$f":"U7/(W4-U13)","v":0},{"$f":"IF(V7=0,0,(V7*((LOG(V7))/LOG(2))))","v":0},null,{"$f":"N7","v":111},{"$f":"COUNTIF(L7:L8,Y7)","v":0},{"$f":"Z7/(AB4-Z13)","v":0},{"$f":"IF(AA7=0,0,(AA7*((LOG(AA7))/LOG(2))))","v":0},null,{"$f":"N7","v":111},{"$f":"COUNTIF(L8:L8,AD7)","v":0},{"$f":"AE7/(AG4-AE13)","v":0},{"$f":"IF(AF7=0,0,(AF7*((LOG(AF7))/LOG(2))))","v":0},null,{"$f":"N7","v":111},{"$f":"COUNTIF(L9:L9,AI7)","v":0},{"$f":"AJ7/(AL4-AJ13)","v":0},{"$f":"IF(AK7=0,0,(AK7*((LOG(AK7))/LOG(2))))","v":0},null,{"$f":"N7","v":111},{"$f":"COUNTIF(L9:L10,AN7)","v":0},{"$f":"AO7/(AQ4-AO13)","v":0},{"$f":"IF(AP7=0,0,(AP7*((LOG(AP7))/LOG(2))))","v":0},null,{"$f":"N7","v":111},{"$f":"COUNTIF(L10:L10,AS7)","v":0},{"$f":"AT7/(AV4-AT13)","v":{"$error":"#DIV/0!"}},{"$f":"IF(AU7=0,0,(AU7*((LOG(AU7))/LOG(2))))","v":{"$error":"#DIV/0!"}}]
[22,181,23,185,24,189,null,null,null,null,0,222,null,112,0,0,0,null,null,112,{"$f":"COUNTIF(L7:L7,T8)","v":0},{"$f":"U8/(W4-U13)","v":0},0,null,112,{"$f":"COUNTIF(L7:L8,Y8)","v":0},{"$f":"Z8/(AB4-Z13)","v":0},0,null,112,{"$f":"COUNTIF(L8:L8,AD8)","v":0},{"$f":"AE8/(AG4-AE13)","v":0},0,null,112,{"$f":"COUNTIF(L9:L9,AI8)","v":0},{"$f":"AJ8/(AL4-AJ13)","v":0},0,null,112,{"$f":"COUNTIF(L9:L10,AN8)","v":0},{"$f":"AO8/(AQ4-AO13)","v":0},0,null,112,{"$f":"COUNTIF(L10:L10,AS8)","v":0},{"$f":"AT8/(AV4-AT13)","v":{"$error":"#DIV/0!"}},{"$error":"#DIV/0!"}]
[11,300,21,312,22,321,null,null,null,null,0,122,null,121,0,0,0,null,null,121,{"$f":"COUNTIF(L7:L7,T9)","v":0},{"$f":"U9/(W4-U13)","v":0},0,null,121,{"$f":"COUNTIF(L7:L8,Y9)","v":0},{"$f":"Z9/(AB4-Z13)","v":0},0,null,121,{"$f":"COUNTIF(L8:L8,AD9)","v":0},{"$f":"AE9/(AG4-AE13)","v":0},0,null,121,{"$f":"COUNTIF(L9:L9,AI9)","v":0},{"$f":"AJ9/(AL4-AJ13)","v":0},0,null,121,{"$f":"COUNTIF(L9:L10,AN9)","v":0},{"$f":"AO9/(AQ4-AO13)","v":0},0,null,121,{"$f":"COUNTIF(L10:L10,AS9)","v":0},{"$f":"AT9/(AV4-AT13)","v":{"$error":"#DIV/0!"}},{"$error":"#DIV/0!"}]
[11,544,21,6797,null,null,null,null,null,null,null,12,null,122,1,0.33333333333333331,-0.52832083357371862,null,null,122,{"$f":"COUNTIF(L7:L7,T10)","v":0},{"$f":"U10/(W4-U13)","v":0},0,null,122,{"$f":"COUNTIF(L7:L8,Y10)","v":0},{"$f":"Z10/(AB4-Z13)","v":0},0,null,122,{"$f":"COUNTIF(L8:L8,AD10)","v":0},{"$f":"AE10/(AG4-AE13)","v":0},0,null,122,{"$f":"COUNTIF(L9:L9,AI10)","v":1},{"$f":"AJ10/(AL4-AJ13)","v":1},0,null,122,{"$f":"COUNTIF(L9:L10,AN10)","v":1},{"$f":"AO10/(AQ4-AO13)","v":1},0,null,122,{"$f":"COUNTIF(L10:L10,AS10)","v":0},{"$f":"AT10/(AV4-AT13)","v":{"$error":"#DIV/0!"}},{"$error":"#DIV/0!"}]
[null,null,null,null,null,null,null,null,null,null,null,null,null,211,0,0,0,null,null,211,{"$f":"COUNTIF(L7:L7,T11)","v":0},{"$f":"U11/(W4-U13)","v":0},0,null,211,{"$f":"COUNTIF(L7:L8,Y11)","v":0},{"$f":"Z11/(AB4-Z13)","v":0},0,null,211,{"$f":"COUNTIF(L8:L8,AD11)","v":0},{"$f":"AE11/(AG4-AE13)","v":0},0,null,211,{"$f":"COUNTIF(L9:L9,AI11)","v":0},{"$f":"AJ11/(AL4-AJ13)","v":0},0,null,211,{"$f":"COUNTIF(L9:L10,AN11)","v":0},{"$f":"AO11/(AQ4-AO13)","v":0},0,null,211,{"$f":"COUNTIF(L10:L10,AS11)","v":0},{"$f":"AT11/(AV4-AT13)","v":{"$error":"#DIV/0!"}},{"$error":"#DIV/0!"}]
[null,null,null,null,null,null,null,null,null,null,null,null,null,212,1,0.33333333333333331,-0.52832083357371862,null,null,212,{"$f":"COUNTIF(L7:L7,T12)","v":1},{"$f":"U12/(W4-U13)","v":1},0,null,212,{"$f":"COUNTIF(L7:L8,Y12)","v":1},{"$f":"Z12/(AB4-Z13)","v":0.5},-0.5,null,212,{"$f":"COUNTIF(L8:L8,AD12)","v":0},{"$f":"AE12/(AG4-AE13)","v":0},0,null,212,{"$f":"COUNTIF(L9:L9,AI12)","v":0},{"$f":"AJ12/(AL4-AJ13)","v":0},0,null,212,{"$f":"COUNTIF(L9:L10,AN12)","v":0},{"$f":"AO12/(AQ4-AO13)","v":0},0,null,212,{"$f":"COUNTIF(L10:L10,AS12)","v":0},{"$f":"AT12/(AV4-AT13)","v":{"$error":"#DIV/0!"}},{"$error":"#DIV/0!"}]
[null,null,null,null,null,null,null,null,null,null,null,null,null,221,0,0,0,null,null,221,{"$f":"COUNTIF(L7:L7,T13)","v":0},null,null,null,221,{"$f":"COUNTIF(L7:L8,Y13)","v":0},null,null,null,221,{"$f":"COUNTIF(L8:L8,AD13)","v":0},null,null,null,221,{"$f":"COUNTIF(L9:L9,AI13)","v":0},null,null,null,221,{"$f":"COUNTIF(L9:L10,AN13)","v":0},null,null,null,221,{"$f":"COUNTIF(L10:L10,AS13)","v":0}]
[null,null,null,null,null,null,null,null,null,null,null,null,null,222,1,0.33333333333333331,-0.52832083357371862,null,null,222,{"$f":"COUNTIF(L7:L7,T14)","v":0},{"$f":"U14/(W4-U13)","v":0},{"$f":"IF(V14=0,0,(V14*((LOG(V14))/LOG(2))))","v":0},null,222,{"$f":"COUNTIF(L7:L8,Y14)","v":1},{"$f":"Z14/(AB4-Z13)","v":0.5},{"$f":"IF(AA14=0,0,(AA14*((LOG(AA14))/LOG(2))))","v":-0.5},null,222,{"$f":"COUNTIF(L8:L8,AD14)","v":1},{"$f":"AE14/(AG4-AE13)","v":1},{"$f":"IF(AF14=0,0,(AF14*((LOG(AF14))/LOG(2))))","v":0},null,222,{"$f":"COUNTIF(L9:L9,AI14)","v":0},{"$f":"AJ14/(AL4-AJ13)","v":0},{"$f":"IF(AK14=0,0,(AK14*((LOG(AK14))/LOG(2))))","v":0},null,222,{"$f":"COUNTIF(L9:L10,AN14)","v":0},{"$f":"AO14/(AQ4-AO13)","v":0},{"$f":"IF(AP14=0,0,(AP14*((LOG(AP14))/LOG(2))))","v":0},null,222,{"$f":"COUNTIF(L10:L10,AS14)","v":0},{"$f":"AT14/(AV4-AT13)","v":{"$error":"#DIV/0!"}},{"$f":"IF(AU14=0,0,(AU14*((LOG(AU14))/LOG(2))))","v":{"$error":"#DIV/0!"}}]
[null,null,null,null,null,null,null,null,null,null,null,null,null,null,null,{"$f":"SUM(P7:P14)","v":1},{"$f":"-SUM(Q7:Q14)","v":1.5849625007211559},null,null,null,null,{"$f":"SUM(V7:V14)","v":1},{"$f":"-SUM(W7:W14)","v":0},null,null,null,{"$f":"SUM(AA7:AA14)","v":1},{"$f":"-SUM(AB7:AB14)","v":1},null,null,null,{"$f":"SUM(AF7:AF14)","v":1},{"$f":"-SUM(AG7:AG14)","v":0},null,null,null,{"$f":"SUM(AK7:AK14)","v":1},{"$f":"-SUM(AL7:AL14)","v":0},null,null,null,{"$f":"SUM(AP7:AP14)","v":1},{"$f":"-SUM(AQ7:AQ14)","v":0},null,null,null,{"$f":"SUM(AU7:AU14)","v":{"$error":"#DIV/0!"}},{"$f":"-SUM(AV7:AV14)","v":{"$error":"#DIV/0!"}}]
[null,null,null,null,null,null,null,null,null,null,null,null,null,null,null,"U=",{"$f":"Q15/(LOG(Q4)/LOG(2))","v":0.99999999999999989},null,null,null,null,"U1=",{"$f":"W15/(LOG(W4)/LOG(2))","v":{"$error":"#DIV/0!"}},null,null,null,"U2=",{"$f":"AB15/(LOG(AB4)/LOG(2))","v":1},null,null,null,"U3=",{"$f":"AG15/(LOG(AG4)/LOG(2))","v":{"$error":"#DIV/0!"}},null,null,null,"U4=",{"$f":"AL15/(LOG(AL4)/LOG(2))","v":{"$error":"#DIV/0!"}},null,null,null,"U5=",{"$f":"AQ15/(LOG(AQ4)/LOG(2))","v":{"$error":"#DIV/0!"}},null,null,null,"U6=",{"$f":"AV15/(LOG(AV4)/LOG(2))","v":{"$error":"#DIV/0!"}}]
[]
[]
[null,null,null,null,null,null,null,null,null,null,null,null,null,"Total Target Seq"]
[null,null,null,null,null,null,null,null,null,null,null,null,null,{"$f":"COUNTIF(L7:L10,G3)","v":0},null,1,0,1,1,0,1]
[null,null,null,null,null,null,null,null,null,null,null,null,null,null,null,"% of reinforcement given in 6 equal intervals based on number of trials "]
[null,null,null,null,null,null,null,null,null,null,null,null,null,null,null,"%_1","%_2","%_3","%_4","%_5","%_6"]
[null,null,null,null,null,null,null,null,null,null,null,null,null,null,"target sequence",{"$f":"$G$3","v":221},221,221,221,221,221]
[null,null,null,null,null,null,null,null,null,null,null,null,null,null,"total reinforcement",{"$f":"U13","v":0},{"$f":"Z13","v":0},{"$f":"AE13","v":0},{"$f":"AJ13","v":0},{"$f":"AO13","v":0},{"$f":"AT13","v":0}]
[null,null,null,null,null,null,null,null,null,null,null,null,null,null,"% target"]
[null,null,null,null,null,null,null,null,null,null,null,null,null,null,"CCRF"]
[null,null,null,null,null,null,null,null,null,null,null,null,null,null,"% CCRf"]
[null,null,null,null,null,null,null,null,null,null,null,null,null,null,"average response rate",{"$f":"F7/P20","v":71},{"$f":"(F7-F7)/Q20","v":{"$error":"#DIV/0!"}},{"$f":"(F8-F7)/R20","v":118},{"$f":"(F9-F8)/S20","v":132},{"$f":"(F9-F9)/T20","v":{"$error":"#DIV/0!"}},{"$f":"(F10-F9)/U20","v":-321}]

{"sheet":"!M912A4B.AXT","index":16,"n_rows":28,"n_cols":48,"rows_kept":28,"cut":false,"hidden":false,"merged":[[4,39,4,42],[5,39,5,40],[4,44,4,47],[5,44,5,45],[4,24,4,27],[5,24,5,25],[4,29,4,32],[5,29,5,30],[4,34,4,37],[5,34,5,35],[1,1,1,2],[5,13,5,14],[18,13,18,14],[19,13,19,14],[4,19,4,22],[5,19,5,20]]}
["Report for:!M912A4B.AXT"]
["Date:","<date>"]
["Hen:","<hen>",null,null,null,"Correct Sequence",{"$f":"Start!J2","v":221},null,null,null,null,null,null,null,null,"Total Sequences in Data",{"$f":"4994-COUNTBLANK(L7:L5000)","v":2},null,null,null,null,"Total Sequences in Block Data",{"$f":"COUNTA(L6:L7)","v":2},null,null,null,"Total Sequences in Block Data",{"$f":"COUNTA(L7:L7)","v":1},null,null,null,"Total Sequences in Block Data",{"$f":"COUNTA(L7:L8)","v":2},null,null,null,"Total Sequences in Block Data",{"$f":"COUNTA(L7:L8)","v":2},null,null,null,"Total Sequences in Block Data",{"$f":"COUNTA(L8:L8)","v":1},null,null,null,"Total Sequences in Block Data",{"$f":"COUNTA(L8:L9)","v":1}]
[null,null,null,null,null,null,null,null,null,null,null,null,null,null,null,"Total Sequences in Summary",{"$f":"SUM(O7:O14)","v":2},null,null,null,null,"Total Sequences in Block Summary",{"$f":"SUM(U7:U14)","v":1},null,null,null,"Total Sequences in Block Summary",{"$f":"SUM(Z7:Z14)","v":1},null,null,null,"Total Sequences in Block Summary",{"$f":"SUM(AE7:AE14)","v":2},null,null,null,"Total Sequences in Block Summary",{"$f":"SUM(AJ7:AJ14)","v":2},null,null,null,"Total Sequences in Block Summary",{"$f":"SUM(AO7:AO14)","v":1},null,null,null,"Total Sequences in Block Summary",{"$f":"SUM(AT7:AT14)","v":1}]
[null,null,null,null,null,null,null,null,null,null,null,null,null,null,null,null,null,null,null,"Block 1",null,null,null,null,"Block 2",null,null,null,null,"Block 3",null,null,null,null,"Block 4",null,null,null,null,"Block 5",null,null,null,null,"Block 6"]
["Sequence\nComponent\n1","Time\n1","Sequence\nComponent\n2","Time\n2","Sequence\nComponent\n3","Time\n3","Sequence\nComponent\n4","Time\n4","Sequence\nComponent\n5","Time\n5","Correct?\n0=No 1=Yes","Sequence",null,"Frequency",null,"Relative Frequency","Variability",null,null,"Frequency",null,"Relative Frequency","Variability",null,"Frequency",null,"Relative Frequency","Variability",null,"Frequency",null,"Relative Frequency","Variability",null,"Frequency",null,"Relative Frequency","Variability",null,"Frequency",null,"Relative Frequency","Variability",null,"Frequency",null,"Relative Frequency","Variability"]
[22,1014,23,1045,24,1058,null,null,null,null,0,222,null,111,{"$f":"COUNTIF($L$7:$L$500,N7)","v":0},{"$f":"O7/$Q$4","v":0},{"$f":"IF(P7=0,0,(P7*((LOG(P7))/LOG(2))))","v":0},null,null,{"$f":"N7","v":111},{"$f":"COUNTIF(L6:L7,T7)","v":0},{"$f":"U7/(W4-U13)","v":0},{"$f":"IF(V7=0,0,(V7*((LOG(V7))/LOG(2))))","v":0},null,{"$f":"N7","v":111},{"$f":"COUNTIF(L7:L7,Y7)","v":0},{"$f":"Z7/(AB4-Z13)","v":0},{"$f":"IF(AA7=0,0,(AA7*((LOG(AA7))/LOG(2))))","v":0},null,{"$f":"N7","v":111},{"$f":"COUNTIF(L7:L8,AD7)","v":0},{"$f":"AE7/(AG4-AE13)","v":0},{"$f":"IF(AF7=0,0,(AF7*((LOG(AF7))/LOG(2))))","v":0},null,{"$f":"N7","v":111},{"$f":"COUNTIF(L7:L8,AI7)","v":0},{"$f":"AJ7/(AL4-AJ13)","v":0},{"$f":"IF(AK7=0,0,(AK7*((LOG(AK7))/LOG(2))))","v":0},null,{"$f":"N7","v":111},{"$f":"COUNTIF(L8:L8,AN7)","v":0},{"$f":"AO7/(AQ4-AO13)","v":0},{"$f":"IF(AP7=0,0,(AP7*((LOG(AP7))/LOG(2))))","v":0},null,{"$f":"N7","v":111},{"$f":"COUNTIF(L8:L9,AS7)","v":0},{"$f":"AT7/(AV4-AT13)","v":0},{"$f":"IF(AU7=0,0,(AU7*((LOG(AU7))/LOG(2))))","v":0}]
[22,3447,23,3452,24,3462,null,null,null,null,0,222,null,112,0,0,0,null,null,112,{"$f":"COUNTIF(L6:L7,T8)","v":0},{"$f":"U8/(W4-U13)","v":0},0,null,112,{"$f":"COUNTIF(L7:L7,Y8)","v":0},{"$f":"Z8/(AB4-Z13)","v":0},0,null,112,{"$f":"COUNTIF(L7:L8,AD8)","v":0},{"$f":"AE8/(AG4-AE13)","v":0},0,null,112,{"$f":"COUNTIF(L7:L8,AI8)","v":0},{"$f":"AJ8/(AL4-AJ13)","v":0},0,null,112,{"$f":"COUNTIF(L8:L8,AN8)","v":0},{"$f":"AO8/(AQ4-AO13)","v":0},0,null,112,{"$f":"COUNTIF(L8:L9,AS8)","v":0},{"$f":"AT8/(AV4-AT13)","v":0},0]
[null,null,null,null,null,null,null,null,null,null,null,null,null,121,0,0,0,null,null,121,{"$f":"COUNTIF(L6:L7,T9)","v":0},{"$f":"U9/(W4-U13)","v":0},0,null,121,{"$f":"COUNTIF(L7:L7,Y9)","v":0},{"$f":"Z9/(AB4-Z13)","v":0},0,null,121,{"$f":"COUNTIF(L7:L8,AD9)","v":0},{"$f":"AE9/(AG4-AE13)","v":0},0,null,121,{"$f":"COUNTIF(L7:L8,AI9)","v":0},{"$f":"AJ9/(AL4-AJ13)","v":0},0,null,121,{"$f":"COUNTIF(L8:L8,AN9)","v":0},{"$f":"AO9/(AQ4-AO13)","v":0},0,null,121,{"$f":"COUNTIF(L8:L9,AS9)","v":0},{"$f":"AT9/(AV4-AT13)","v":0},0]
[null,null,null,null,null,null,null,null,null,null,null,null,null,122,0,0,0,null,null,122,{"$f":"COUNTIF(L6:L7,T10)","v":0},{"$f":"U10/(W4-U13)","v":0},0,null,122,{"$f":"COUNTIF(L7:L7,Y10)","v":0},{"$f":"Z10/(AB4-Z13)","v":0},0,null,122,{"$f":"COUNTIF(L7:L8,AD10)","v":0},{"$f":"AE10/(AG4-AE13)","v":0},0,null,122,{"$f":"COUNTIF(L7:L8,AI10)","v":0},{"$f":"AJ10/(AL4-AJ13)","v":0},0,null,122,{"$f":"COUNTIF(L8:L8,AN10)","v":0},{"$f":"AO10/(AQ4-AO13)","v":0},0,null,122,{"$f":"COUNTIF(L8:L9,AS10)","v":0},{"$f":"AT10/(AV4-AT13)","v":0},0]
[null,null,null,null,null,null,null,null,null,null,null,null,null,211,0,0,0,null,null,211,{"$f":"COUNTIF(L6:L7,T11)","v":0},{"$f":"U11/(W4-U13)","v":0},0,null,211,{"$f":"COUNTIF(L7:L7,Y11)","v":0},{"$f":"Z11/(AB4-Z13)","v":0},0,null,211,{"$f":"COUNTIF(L7:L8,AD11)","v":0},{"$f":"AE11/(AG4-AE13)","v":0},0,null,211,{"$f":"COUNTIF(L7:L8,AI11)","v":0},{"$f":"AJ11/(AL4-AJ13)","v":0},0,null,211,{"$f":"COUNTIF(L8:L8,AN11)","v":0},{"$f":"AO11/(AQ4-AO13)","v":0},0,null,211,{"$f":"COUNTIF(L8:L9,AS11)","v":0},{"$f":"AT11/(AV4-AT13)","v":0},0]
[null,null,null,null,null,null,null,null,null,null,null,null,null,212,0,0,0,null,null,212,{"$f":"COUNTIF(L6:L7,T12)","v":0},{"$f":"U12/(W4-U13)","v":0},0,null,212,{"$f":"COUNTIF(L7:L7,Y12)","v":0},{"$f":"Z12/(AB4-Z13)","v":0},0,null,212,{"$f":"COUNTIF(L7:L8,AD12)","v":0},{"$f":"AE12/(AG4-AE13)","v":0},0,null,212,{"$f":"COUNTIF(L7:L8,AI12)","v":0},{"$f":"AJ12/(AL4-AJ13)","v":0},0,null,212,{"$f":"COUNTIF(L8:L8,AN12)","v":0},{"$f":"AO12/(AQ4-AO13)","v":0},0,null,212,{"$f":"COUNTIF(L8:L9,AS12)","v":0},{"$f":"AT12/(AV4-AT13)","v":0},0]
[null,null,null,null,null,null,null,null,null,null,null,null,null,221,0,0,0,null,null,221,{"$f":"COUNTIF(L6:L7,T13)","v":0},null,null,null,221,{"$f":"COUNTIF(L7:L7,Y13)","v":0},null,null,null,221,{"$f":"COUNTIF(L7:L8,AD13)","v":0},null,null,null,221,{"$f":"COUNTIF(L7:L8,AI13)","v":0},null,null,null,221,{"$f":"COUNTIF(L8:L8,AN13)","v":0},null,null,null,221,{"$f":"COUNTIF(L8:L9,AS13)","v":0}]
[null,null,null,null,null,null,null,null,null,null,null,null,null,222,2,1,0,null,null,222,{"$f":"COUNTIF(L6:L7,T14)","v":1},{"$f":"U14/(W4-U13)","v":1},{"$f":"IF(V14=0,0,(V14*((LOG(V14))/LOG(2))))","v":0},null,222,{"$f":"COUNTIF(L7:L7,Y14)","v":1},{"$f":"Z14/(AB4-Z13)","v":1},{"$f":"IF(AA14=0,0,(AA14*((LOG(AA14))/LOG(2))))","v":0},null,222,{"$f":"COUNTIF(L7:L8,AD14)","v":2},{"$f":"AE14/(AG4-AE13)","v":1},{"$f":"IF(AF14=0,0,(AF14*((LOG(AF14))/LOG(2))))","v":0},null,222,{"$f":"COUNTIF(L7:L8,AI14)","v":2},{"$f":"AJ14/(AL4-AJ13)","v":1},{"$f":"IF(AK14=0,0,(AK14*((LOG(AK14))/LOG(2))))","v":0},null,222,{"$f":"COUNTIF(L8:L8,AN14)","v":1},{"$f":"AO14/(AQ4-AO13)","v":1},{"$f":"IF(AP14=0,0,(AP14*((LOG(AP14))/LOG(2))))","v":0},null,222,{"$f":"COUNTIF(L8:L9,AS14)","v":1},{"$f":"AT14/(AV4-AT13)","v":1},{"$f":"IF(AU14=0,0,(AU14*((LOG(AU14))/LOG(2))))","v":0}]
[null,null,null,null,null,null,null,null,null,null,null,null,null,null,null,{"$f":"SUM(P7:P14)","v":1},{"$f":"-SUM(Q7:Q14)","v":0},null,null,null,null,{"$f":"SUM(V7:V14)","v":1},{"$f":"-SUM(W7:W14)","v":0},null,null,null,{"$f":"SUM(AA7:AA14)","v":1},{"$f":"-SUM(AB7:AB14)","v":0},null,null,null,{"$f":"SUM(AF7:AF14)","v":1},{"$f":"-SUM(AG7:AG14)","v":0},null,null,null,{"$f":"SUM(AK7:AK14)","v":1},{"$f":"-SUM(AL7:AL14)","v":0},null,null,null,{"$f":"SUM(AP7:AP14)","v":1},{"$f":"-SUM(AQ7:AQ14)","v":0},null,null,null,{"$f":"SUM(AU7:AU14)","v":1},{"$f":"-SUM(AV7:AV14)","v":0}]
[null,null,null,null,null,null,null,null,null,null,null,null,null,null,null,"U=",{"$f":"Q15/(LOG(Q4)/LOG(2))","v":0},null,null,null,null,"U1=",{"$f":"W15/(LOG(W4)/LOG(2))","v":{"$error":"#DIV/0!"}},null,null,null,"U2=",{"$f":"AB15/(LOG(AB4)/LOG(2))","v":{"$error":"#DIV/0!"}},null,null,null,"U3=",{"$f":"AG15/(LOG(AG4)/LOG(2))","v":0},null,null,null,"U4=",{"$f":"AL15/(LOG(AL4)/LOG(2))","v":0},null,null,null,"U5=",{"$f":"AQ15/(LOG(AQ4)/LOG(2))","v":{"$error":"#DIV/0!"}},null,null,null,"U6=",{"$f":"AV15/(LOG(AV4)/LOG(2))","v":{"$error":"#DIV/0!"}}]
[]
[]
[null,null,null,null,null,null,null,null,null,null,null,null,null,"Total Target Seq"]
[null,null,null,null,null,null,null,null,null,null,null,null,null,{"$f":"COUNTIF(L7:L8,G3)","v":0},null,0,1,0,0,1,0]
[null,null,null,null,null,null,null,null,null,null,null,null,null,null,null,"% of reinforcement given in 6 equal intervals based on number of trials "]
[null,null,null,null,null,null,null,null,null,null,null,null,null,null,null,"%_1","%_2","%_3","%_4","%_5","%_6"]
[null,null,null,null,null,null,null,null,null,null,null,null,null,null,"target sequence",{"$f":"$G$3","v":221},221,221,221,221,221]
[null,null,null,null,null,null,null,null,null,null,null,null,null,null,"total reinforcement",{"$f":"U13","v":0},{"$f":"Z13","v":0},{"$f":"AE13","v":0},{"$f":"AJ13","v":0},{"$f":"AO13","v":0},{"$f":"AT13","v":0}]
[null,null,null,null,null,null,null,null,null,null,null,null,null,null,"% target"]
[null,null,null,null,null,null,null,null,null,null,null,null,null,null,"CCRF"]
[null,null,null,null,null,null,null,null,null,null,null,null,null,null,"% CCRf"]
[null,null,null,null,null,null,null,null,null,null,null,null,null,null,"average response rate",{"$f":"F6/P20","v":{"$error":"#VALUE!"}},{"$f":"(F7-F6)/Q20","v":{"$error":"#VALUE!"}},{"$f":"(F7-F7)/R20","v":{"$error":"#DIV/0!"}},{"$f":"(F7-F7)/S20","v":{"$error":"#DIV/0!"}},{"$f":"(F8-F7)/T20","v":2404},{"$f":"(F8-F8)/U20","v":{"$error":"#DIV/0!"}}]

{"sheet":"!M913A0B.AXT","index":17,"n_rows":28,"n_cols":48,"rows_kept":28,"cut":false,"hidden":false,"merged":[[4,39,4,42],[5,39,5,40],[4,44,4,47],[5,44,5,45],[4,24,4,27],[5,24,5,25],[4,29,4,32],[5,29,5,30],[4,34,4,37],[5,34,5,35],[1,1,1,2],[5,13,5,14],[18,13,18,14],[19,13,19,14],[4,19,4,22],[5,19,5,20]]}
["Report for:!M913A0B.AXT"]
["Date:","<date>"]
["Hen:","<hen>",null,null,null,"Correct Sequence",{"$f":"Start!J2","v":221},null,null,null,null,null,null,null,null,"Total Sequences in Data",{"$f":"4994-COUNTBLANK(L7:L5000)","v":8},null,null,null,null,"Total Sequences in Block Data",{"$f":"COUNTA(L7:L7)","v":1},null,null,null,"Total Sequences in Block Data",{"$f":"COUNTA(L8:L9)","v":2},null,null,null,"Total Sequences in Block Data",{"$f":"COUNTA(L10:L10)","v":1},null,null,null,"Total Sequences in Block Data",{"$f":"COUNTA(L11:L11)","v":1},null,null,null,"Total Sequences in Block Data",{"$f":"COUNTA(L12:L13)","v":2},null,null,null,"Total Sequences in Block Data",{"$f":"COUNTA(L14:L14)","v":1}]
[null,null,null,null,null,null,null,null,null,null,null,null,null,null,null,"Total Sequences in Summary",{"$f":"SUM(O7:O14)","v":7},null,null,null,null,"Total Sequences in Block Summary",{"$f":"SUM(U7:U14)","v":1},null,null,null,"Total Sequences in Block Summary",{"$f":"SUM(Z7:Z14)","v":2},null,null,null,"Total Sequences in Block Summary",{"$f":"SUM(AE7:AE14)","v":1},null,null,null,"Total Sequences in Block Summary",{"$f":"SUM(AJ7:AJ14)","v":1},null,null,null,"Total Sequences in Block Summary",{"$f":"SUM(AO7:AO14)","v":2},null,null,null,"Total Sequences in Block Summary",{"$f":"SUM(AT7:AT14)","v":0}]
[null,null,null,null,null,null,null,null,null,null,null,null,null,null,null,null,null,null,null,"Block 1",null,null,null,null,"Block 2",null,null,null,null,"Block 3",null,null,null,null,"Block 4",null,null,null,null,"Block 5",null,null,null,null,"Block 6"]
["Sequence\nComponent\n1","Time\n1","Sequence\nComponent\n2","Time\n2","Sequence\nComponent\n3","Time\n3","Sequence\nComponent\n4","Time\n4","Sequence\nComponent\n5","Time\n5","Correct?\n0=No 1=Yes","Sequence",null,"Frequency",null,"Relative Frequency","Variability",null,null,"Frequency",null,"Relative Frequency","Variability",null,"Frequency",null,"Relative Frequency","Variability",null,"Frequency",null,"Relative Frequency","Variability",null,"Frequency",null,"Relative Frequency","Variability",null,"Frequency",null,"Relative Frequency","Variability",null,"Frequency",null,"Relative Frequency","Variability"]
[11,52,21,77,11,125,null,null,null,null,0,121,null,111,{"$f":"COUNTIF($L$7:$L$500,N7)","v":0},{"$f":"O7/$Q$4","v":0},{"$f":"IF(P7=0,0,(P7*((LOG(P7))/LOG(2))))","v":0},null,null,{"$f":"N7","v":111},{"$f":"COUNTIF(L7:L7,T7)","v":0},{"$f":"U7/(W4-U13)","v":0},{"$f":"IF(V7=0,0,(V7*((LOG(V7))/LOG(2))))","v":0},null,{"$f":"N7","v":111},{"$f":"COUNTIF(L8:L9,Y7)","v":0},{"$f":"Z7/(AB4-Z13)","v":0},{"$f":"IF(AA7=0,0,(AA7*((LOG(AA7))/LOG(2))))","v":0},null,{"$f":"N7","v":111},{"$f":"COUNTIF(L10:L10,AD7)","v":0},{"$f":"AE7/(AG4-AE13)","v":0},{"$f":"IF(AF7=0,0,(AF7*((LOG(AF7))/LOG(2))))","v":0},null,{"$f":"N7","v":111},{"$f":"COUNTIF(L11:L11,AI7)","v":0},{"$f":"AJ7/(AL4-AJ13)","v":0},{"$f":"IF(AK7=0,0,(AK7*((LOG(AK7))/LOG(2))))","v":0},null,{"$f":"N7","v":111},{"$f":"COUNTIF(L12:L13,AN7)","v":0},{"$f":"AO7/(AQ4-AO13)","v":0},{"$f":"IF(AP7=0,0,(AP7*((LOG(AP7))/LOG(2))))","v":0},null,{"$f":"N7","v":111},{"$f":"COUNTIF(L14:L14,AS7)","v":0},{"$f":"AT7/(AV4-AT13)","v":{"$error":"#DIV/0!"}},{"$f":"IF(AU7=0,0,(AU7*((LOG(AU7))/LOG(2))))","v":{"$error":"#DIV/0!"}}]
[11,222,21,228,22,248,null,null,null,null,0,122,null,112,0,0,0,null,null,112,{"$f":"COUNTIF(L7:L7,T8)","v":0},{"$f":"U8/(W4-U13)","v":0},0,null,112,{"$f":"COUNTIF(L8:L9,Y8)","v":0},{"$f":"Z8/(AB4-Z13)","v":0},0,null,112,{"$f":"COUNTIF(L10:L10,AD8)","v":0},{"$f":"AE8/(AG4-AE13)","v":0},0,null,112,{"$f":"COUNTIF(L11:L11,AI8)","v":0},{"$f":"AJ8/(AL4-AJ13)","v":0},0,null,112,{"$f":"COUNTIF(L12:L13,AN8)","v":0},{"$f":"AO8/(AQ4-AO13)","v":0},0,null,112,{"$f":"COUNTIF(L14:L14,AS8)","v":0},{"$f":"AT8/(AV4-AT13)","v":{"$error":"#DIV/0!"}},{"$error":"#DIV/0!"}]
[11,398,21,409,11,414,null,null,null,null,0,121,null,121,2,0.2857142857142857,-0.51638712058788683,null,null,121,{"$f":"COUNTIF(L7:L7,T9)","v":1},{"$f":"U9/(W4-U13)","v":1},0,null,121,{"$f":"COUNTIF(L8:L9,Y9)","v":1},{"$f":"Z9/(AB4-Z13)","v":0.5},-0.5,null,121,{"$f":"COUNTIF(L10:L10,AD9)","v":0},{"$f":"AE9/(AG4-AE13)","v":0},0,null,121,{"$f":"COUNTIF(L11:L11,AI9)","v":0},{"$f":"AJ9/(AL4-AJ13)","v":0},0,null,121,{"$f":"COUNTIF(L12:L13,AN9)","v":0},{"$f":"AO9/(AQ4-AO13)","v":0},0,null,121,{"$f":"COUNTIF(L14:L14,AS9)","v":0},{"$f":"AT9/(AV4-AT13)","v":{"$error":"#DIV/0!"}},{"$error":"#DIV/0!"}]
[22,677,23,694,24,697,null,null,null,null,0,222,null,122,3,0.42857142857142855,-0.52388246628704915,null,null,122,{"$f":"COUNTIF(L7:L7,T10)","v":0},{"$f":"U10/(W4-U13)","v":0},0,null,122,{"$f":"COUNTIF(L8:L9,Y10)","v":1},{"$f":"Z10/(AB4-Z13)","v":0.5},-0.5,null,122,{"$f":"COUNTIF(L10:L10,AD10)","v":0},{"$f":"AE10/(AG4-AE13)","v":0},0,null,122,{"$f":"COUNTIF(L11:L11,AI10)","v":1},{"$f":"AJ10/(AL4-AJ13)","v":1},0,null,122,{"$f":"COUNTIF(L12:L13,AN10)","v":1},{"$f":"AO10/(AQ4-AO13)","v":0.5},-0.5,null,122,{"$f":"COUNTIF(L14:L14,AS10)","v":0},{"$f":"AT10/(AV4-AT13)","v":{"$error":"#DIV/0!"}},{"$error":"#DIV/0!"}]
[11,798,21,823,22,832,null,null,null,null,0,122,null,211,0,0,0,null,null,211,{"$f":"COUNTIF(L7:L7,T11)","v":0},{"$f":"U11/(W4-U13)","v":0},0,null,211,{"$f":"COUNTIF(L8:L9,Y11)","v":0},{"$f":"Z11/(AB4-Z13)","v":0},0,null,211,{"$f":"COUNTIF(L10:L10,AD11)","v":0},{"$f":"AE11/(AG4-AE13)","v":0},0,null,211,{"$f":"COUNTIF(L11:L11,AI11)","v":0},{"$f":"AJ11/(AL4-AJ13)","v":0},0,null,211,{"$f":"COUNTIF(L12:L13,AN11)","v":0},{"$f":"AO11/(AQ4-AO13)","v":0},0,null,211,{"$f":"COUNTIF(L14:L14,AS11)","v":0},{"$f":"AT11/(AV4-AT13)","v":{"$error":"#DIV/0!"}},{"$error":"#DIV/0!"}]
[22,1199,23,1224,24,1235,null,null,null,null,0,222,null,212,0,0,0,null,null,212,{"$f":"COUNTIF(L7:L7,T12)","v":0},{"$f":"U12/(W4-U13)","v":0},0,null,212,{"$f":"COUNTIF(L8:L9,Y12)","v":0},{"$f":"Z12/(AB4-Z13)","v":0},0,null,212,{"$f":"COUNTIF(L10:L10,AD12)","v":0},{"$f":"AE12/(AG4-AE13)","v":0},0,null,212,{"$f":"COUNTIF(L11:L11,AI12)","v":0},{"$f":"AJ12/(AL4-AJ13)","v":0},0,null,212,{"$f":"COUNTIF(L12:L13,AN12)","v":0},{"$f":"AO12/(AQ4-AO13)","v":0},0,null,212,{"$f":"COUNTIF(L14:L14,AS12)","v":0},{"$f":"AT12/(AV4-AT13)","v":{"$error":"#DIV/0!"}},{"$error":"#DIV/0!"}]
[11,2403,21,2415,22,2418,null,null,null,null,0,122,null,221,0,0,0,null,null,221,{"$f":"COUNTIF(L7:L7,T13)","v":0},null,null,null,221,{"$f":"COUNTIF(L8:L9,Y13)","v":0},null,null,null,221,{"$f":"COUNTIF(L10:L10,AD13)","v":0},null,null,null,221,{"$f":"COUNTIF(L11:L11,AI13)","v":0},null,null,null,221,{"$f":"COUNTIF(L12:L13,AN13)","v":0},null,null,null,221,{"$f":"COUNTIF(L14:L14,AS13)","v":0}]
[11,22010,null,null,null,null,null,null,null,null,null,1,null,222,2,0.2857142857142857,-0.51638712058788683,null,null,222,{"$f":"COUNTIF(L7:L7,T14)","v":0},{"$f":"U14/(W4-U13)","v":0},{"$f":"IF(V14=0,0,(V14*((LOG(V14))/LOG(2))))","v":0},null,222,{"$f":"COUNTIF(L8:L9,Y14)","v":0},{"$f":"Z14/(AB4-Z13)","v":0},{"$f":"IF(AA14=0,0,(AA14*((LOG(AA14))/LOG(2))))","v":0},null,222,{"$f":"COUNTIF(L10:L10,AD14)","v":1},{"$f":"AE14/(AG4-AE13)","v":1},{"$f":"IF(AF14=0,0,(AF14*((LOG(AF14))/LOG(2))))","v":0},null,222,{"$f":"COUNTIF(L11:L11,AI14)","v":0},{"$f":"AJ14/(AL4-AJ13)","v":0},{"$f":"IF(AK14=0,0,(AK14*((LOG(AK14))/LOG(2))))","v":0},null,222,{"$f":"COUNTIF(L12:L13,AN14)","v":1},{"$f":"AO14/(AQ4-AO13)","v":0.5},{"$f":"IF(AP14=0,0,(AP14*((LOG(AP14))/LOG(2))))","v":-0.5},null,222,{"$f":"COUNTIF(L14:L14,AS14)","v":0},{"$f":"AT14/(AV4-AT13)","v":{"$error":"#DIV/0!"}},{"$f":"IF(AU14=0,0,(AU14*((LOG(AU14))/LOG(2))))","v":{"$error":"#DIV/0!"}}]
[null,null,null,null,null,null,null,null,null,null,null,null,null,null,null,{"$f":"SUM(P7:P14)","v":0.99999999999999989},{"$f":"-SUM(Q7:Q14)","v":1.5566567074628228},null,null,null,null,{"$f":"SUM(V7:V14)","v":1},{"$f":"-SUM(W7:W14)","v":0},null,null,null,{"$f":"SUM(AA7:AA14)","v":1},{"$f":"-SUM(AB7:AB14)","v":1},null,null,null,{"$f":"SUM(AF7:AF14)","v":1},{"$f":"-SUM(AG7:AG14)","v":0},null,null,null,{"$f":"SUM(AK7:AK14)","v":1},{"$f":"-SUM(AL7:AL14)","v":0},null,null,null,{"$f":"SUM(AP7:AP14)","v":1},{"$f":"-SUM(AQ7:AQ14)","v":1},null,null,null,{"$f":"SUM(AU7:AU14)","v":{"$error":"#DIV/0!"}},{"$f":"-SUM(AV7:AV14)","v":{"$error":"#DIV/0!"}}]
[null,null,null,null,null,null,null,null,null,null,null,null,null,null,null,"U=",{"$f":"Q15/(LOG(Q4)/LOG(2))","v":0.55449230705816743},null,null,null,null,"U1=",{"$f":"W15/(LOG(W4)/LOG(2))","v":{"$error":"#DIV/0!"}},null,null,null,"U2=",{"$f":"AB15/(LOG(AB4)/LOG(2))","v":1},null,null,null,"U3=",{"$f":"AG15/(LOG(AG4)/LOG(2))","v":{"$error":"#DIV/0!"}},null,null,null,"U4=",{"$f":"AL15/(LOG(AL4)/LOG(2))","v":{"$error":"#DIV/0!"}},null,null,null,"U5=",{"$f":"AQ15/(LOG(AQ4)/LOG(2))","v":1},null,null,null,"U6=",{"$f":"AV15/(LOG(AV4)/LOG(2))","v":{"$error":"#DIV/0!"}}]
[]
[]
[null,null,null,null,null,null,null,null,null,null,null,null,null,"Total Target Seq"]
[null,null,null,null,null,null,null,null,null,null,null,null,null,{"$f":"COUNTIF(L7:L14,G3)","v":0},null,1,2,1,1,2,1]
[null,null,null,null,null,null,null,null,null,null,null,null,null,null,null,"% of reinforcement given in 6 equal intervals based on number of trials "]
[null,null,null,null,null,null,null,null,null,null,null,null,null,null,null,"%_1","%_2","%_3","%_4","%_5","%_6"]
[null,null,null,null,null,null,null,null,null,null,null,null,null,null,"target sequence",{"$f":"$G$3","v":221},221,221,221,221,221]
[null,null,null,null,null,null,null,null,null,null,null,null,null,null,"total reinforcement",{"$f":"U13","v":0},{"$f":"Z13","v":0},{"$f":"AE13","v":0},{"$f":"AJ13","v":0},{"$f":"AO13","v":0},{"$f":"AT13","v":0}]
[null,null,null,null,null,null,null,null,null,null,null,null,null,null,"% target"]
[null,null,null,null,null,null,null,null,null,null,null,null,null,null,"CCRF"]
[null,null,null,null,null,null,null,null,null,null,null,null,null,null,"% CCRf"]
[null,null,null,null,null,null,null,null,null,null,null,null,null,null,"average response rate",{"$f":"F7/P20","v":125},{"$f":"(F9-F7)/Q20","v":144.5},{"$f":"(F10-F9)/R20","v":283},{"$f":"(F11-F10)/S20","v":135},{"$f":"(F13-F11)/T20","v":793},{"$f":"(F14-F13)/U20","v":-2418}]

{"sheet":"!M914B3B.AXT","index":18,"n_rows":28,"n_cols":48,"rows_kept":28,"cut":false,"hidden":false,"merged":[[4,39,4,42],[5,39,5,40],[4,44,4,47],[5,44,5,45],[4,24,4,27],[5,24,5,25],[4,29,4,32],[5,29,5,30],[4,34,4,37],[5,34,5,35],[1,1,1,2],[5,13,5,14],[18,13,18,14],[19,13,19,14],[4,19,4,22],[5,19,5,20]]}
["Report for:!M914B3B.AXT"]
["Date:","<date>"]
["Hen:","<hen>",null,null,null,"Correct Sequence",{"$f":"Start!J2","v":221},null,null,null,null,null,null,null,null,"Total Sequences in Data",{"$f":"4994-COUNTBLANK(L7:L5000)","v":6},null,null,null,null,"Total Sequences in Block Data",{"$f":"COUNTA(L7:L7)","v":1},null,null,null,"Total Sequences in Block Data",{"$f":"COUNTA(L8:L8)","v":1},null,null,null,"Total Sequences in Block Data",{"$f":"COUNTA(L9:L9)","v":1},null,null,null,"Total Sequences in Block Data",{"$f":"COUNTA(L10:L10)","v":1},null,null,null,"Total Sequences in Block Data",{"$f":"COUNTA(L11:L11)","v":1},null,null,null,"Total Sequences in Block Data",{"$f":"COUNTA(L12:L12)","v":1}]
[null,null,null,null,null,null,null,null,null,null,null,null,null,null,null,"Total Sequences in Summary",{"$f":"SUM(O7:O14)","v":6},null,null,null,null,"Total Sequences in Block Summary",{"$f":"SUM(U7:U14)","v":1},null,null,null,"Total Sequences in Block Summary",{"$f":"SUM(Z7:Z14)","v":1},null,null,null,"Total Sequences in Block Summary",{"$f":"SUM(AE7:AE14)","v":1},null,null,null,"Total Sequences in Block Summary",{"$f":"SUM(AJ7:AJ14)","v":1},null,null,null,"Total Sequences in Block Summary",{"$f":"SUM(AO7:AO14)","v":1},null,null,null,"Total Sequences in Block Summary",{"$f":"SUM(AT7:AT14)","v":1}]
[null,null,null,null,null,null,null,null,null,null,null,null,null,null,null,null,null,null,null,"Block 1",null,null,null,null,"Block 2",null,null,null,null,"Block 3",null,null,null,null,"Block 4",null,null,null,null,"Block 5",null,null,null,null,"Block 6"]
["Sequence\nComponent\n1","Time\n1","Sequence\nComponent\n2","Time\n2","Sequence\nComponent\n3","Time\n3","Sequence\nComponent\n4","Time\n4","Sequence\nComponent\n5","Time\n5","Correct?\n0=No 1=Yes","Sequence",null,"Frequency",null,"Relative Frequency","Variability",null,null,"Frequency",null,"Relative Frequency","Variability",null,"Frequency",null,"Relative Frequency","Variability",null,"Frequency",null,"Relative Frequency","Variability",null,"Frequency",null,"Relative Frequency","Variability",null,"Frequency",null,"Relative Frequency","Variability",null,"Frequency",null,"Relative Frequency","Variability"]
[22,6996,14,11358,13,11362,null,null,null,null,0,211,null,111,{"$f":"COUNTIF($L$7:$L$500,N7)","v":2},{"$f":"O7/$Q$4","v":0.33333333333333331},{"$f":"IF(P7=0,0,(P7*((LOG(P7))/LOG(2))))","v":-0.52832083357371862},null,null,{"$f":"N7","v":111},{"$f":"COUNTIF(L7:L7,T7)","v":0},{"$f":"U7/(W4-U13)","v":0},{"$f":"IF(V7=0,0,(V7*((LOG(V7))/LOG(2))))","v":0},null,{"$f":"N7","v":111},{"$f":"COUNTIF(L8:L8,Y7)","v":1},{"$f":"Z7/(AB4-Z13)","v":1},{"$f":"IF(AA7=0,0,(AA7*((LOG(AA7))/LOG(2))))","v":0},null,{"$f":"N7","v":111},{"$f":"COUNTIF(L9:L9,AD7)","v":0},{"$f":"AE7/(AG4-AE13)","v":0},{"$f":"IF(AF7=0,0,(AF7*((LOG(AF7))/LOG(2))))","v":0},null,{"$f":"N7","v":111},{"$f":"COUNTIF(L10:L10,AI7)","v":1},{"$f":"AJ7/(AL4-AJ13)","v":1},{"$f":"IF(AK7=0,0,(AK7*((LOG(AK7))/LOG(2))))","v":0},null,{"$f":"N7","v":111},{"$f":"COUNTIF(L11:L11,AN7)","v":0},{"$f":"AO7/(AQ4-AO13)","v":0},{"$f":"IF(AP7=0,0,(AP7*((LOG(AP7))/LOG(2))))","v":0},null,{"$f":"N7","v":111},{"$f":"COUNTIF(L12:L12,AS7)","v":0},{"$f":"AT7/(AV4-AT13)","v":0},{"$f":"IF(AU7=0,0,(AU7*((LOG(AU7))/LOG(2))))","v":0}]
[11,11457,12,11460,13,11462,null,null,null,null,0,111,null,112,0,0,0,null,null,112,{"$f":"COUNTIF(L7:L7,T8)","v":0},{"$f":"U8/(W4-U13)","v":0},0,null,112,{"$f":"COUNTIF(L8:L8,Y8)","v":0},{"$f":"Z8/(AB4-Z13)","v":0},0,null,112,{"$f":"COUNTIF(L9:L9,AD8)","v":0},{"$f":"AE8/(AG4-AE13)","v":0},0,null,112,{"$f":"COUNTIF(L10:L10,AI8)","v":0},{"$f":"AJ8/(AL4-AJ13)","v":0},0,null,112,{"$f":"COUNTIF(L11:L11,AN8)","v":0},{"$f":"AO8/(AQ4-AO13)","v":0},0,null,112,{"$f":"COUNTIF(L12:L12,AS8)","v":0},{"$f":"AT8/(AV4-AT13)","v":0},0]
[22,11559,23,11561,24,11563,null,null,null,null,0,222,null,121,1,0.16666666666666666,-0.43082708345352599,null,null,121,{"$f":"COUNTIF(L7:L7,T9)","v":0},{"$f":"U9/(W4-U13)","v":0},0,null,121,{"$f":"COUNTIF(L8:L8,Y9)","v":0},{"$f":"Z9/(AB4-Z13)","v":0},0,null,121,{"$f":"COUNTIF(L9:L9,AD9)","v":0},{"$f":"AE9/(AG4-AE13)","v":0},0,null,121,{"$f":"COUNTIF(L10:L10,AI9)","v":0},{"$f":"AJ9/(AL4-AJ13)","v":0},0,null,121,{"$f":"COUNTIF(L11:L11,AN9)","v":1},{"$f":"AO9/(AQ4-AO13)","v":1},0,null,121,{"$f":"COUNTIF(L12:L12,AS9)","v":0},{"$f":"AT9/(AV4-AT13)","v":0},0]
[11,11857,12,11863,13,11876,null,null,null,null,0,111,null,122,1,0.16666666666666666,-0.43082708345352599,null,null,122,{"$f":"COUNTIF(L7:L7,T10)","v":0},{"$f":"U10/(W4-U13)","v":0},0,null,122,{"$f":"COUNTIF(L8:L8,Y10)","v":0},{"$f":"Z10/(AB4-Z13)","v":0},0,null,122,{"$f":"COUNTIF(L9:L9,AD10)","v":0},{"$f":"AE10/(AG4-AE13)","v":0},0,null,122,{"$f":"COUNTIF(L10:L10,AI10)","v":0},{"$f":"AJ10/(AL4-AJ13)","v":0},0,null,122,{"$f":"COUNTIF(L11:L11,AN10)","v":0},{"$f":"AO10/(AQ4-AO13)","v":0},0,null,122,{"$f":"COUNTIF(L12:L12,AS10)","v":1},{"$f":"AT10/(AV4-AT13)","v":1},0]
[11,11973,21,11978,11,11997,null,null,null,null,0,121,null,211,1,0.16666666666666666,-0.43082708345352599,null,null,211,{"$f":"COUNTIF(L7:L7,T11)","v":1},{"$f":"U11/(W4-U13)","v":1},0,null,211,{"$f":"COUNTIF(L8:L8,Y11)","v":0},{"$f":"Z11/(AB4-Z13)","v":0},0,null,211,{"$f":"COUNTIF(L9:L9,AD11)","v":0},{"$f":"AE11/(AG4-AE13)","v":0},0,null,211,{"$f":"COUNTIF(L10:L10,AI11)","v":0},{"$f":"AJ11/(AL4-AJ13)","v":0},0,null,211,{"$f":"COUNTIF(L11:L11,AN11)","v":0},{"$f":"AO11/(AQ4-AO13)","v":0},0,null,211,{"$f":"COUNTIF(L12:L12,AS11)","v":0},{"$f":"AT11/(AV4-AT13)","v":0},0]
[11,23732,21,23749,22,23768,null,null,null,null,0,122,null,212,0,0,0,null,null,212,{"$f":"COUNTIF(L7:L7,T12)","v":0},{"$f":"U12/(W4-U13)","v":0},0,null,212,{"$f":"COUNTIF(L8:L8,Y12)","v":0},{"$f":"Z12/(AB4-Z13)","v":0},0,null,212,{"$f":"COUNTIF(L9:L9,AD12)","v":0},{"$f":"AE12/(AG4-AE13)","v":0},0,null,212,{"$f":"COUNTIF(L10:L10,AI12)","v":0},{"$f":"AJ12/(AL4-AJ13)","v":0},0,null,212,{"$f":"COUNTIF(L11:L11,AN12)","v":0},{"$f":"AO12/(AQ4-AO13)","v":0},0,null,212,{"$f":"COUNTIF(L12:L12,AS12)","v":0},{"$f":"AT12/(AV4-AT13)","v":0},0]
[null,null,null,null,null,null,null,null,null,null,null,null,null,221,0,0,0,null,null,221,{"$f":"COUNTIF(L7:L7,T13)","v":0},null,null,null,221,{"$f":"COUNTIF(L8:L8,Y13)","v":0},null,null,null,221,{"$f":"COUNTIF(L9:L9,AD13)","v":0},null,null,null,221,{"$f":"COUNTIF(L10:L10,AI13)","v":0},null,null,null,221,{"$f":"COUNTIF(L11:L11,AN13)","v":0},null,null,null,221,{"$f":"COUNTIF(L12:L12,AS13)","v":0}]
[null,null,null,null,null,null,null,null,null,null,null,null,null,222,1,0.16666666666666666,-0.43082708345352599,null,null,222,{"$f":"COUNTIF(L7:L7,T14)","v":0},{"$f":"U14/(W4-U13)","v":0},{"$f":"IF(V14=0,0,(V14*((LOG(V14))/LOG(2))))","v":0},null,222,{"$f":"COUNTIF(L8:L8,Y14)","v":0},{"$f":"Z14/(AB4-Z13)","v":0},{"$f":"IF(AA14=0,0,(AA14*((LOG(AA14))/LOG(2))))","v":0},null,222,{"$f":"COUNTIF(L9:L9,AD14)","v":1},{"$f":"AE14/(AG4-AE13)","v":1},{"$f":"IF(AF14=0,0,(AF14*((LOG(AF14))/LOG(2))))","v":0},null,222,{"$f":"COUNTIF(L10:L10,AI14)","v":0},{"$f":"AJ14/(AL4-AJ13)","v":0},{"$f":"IF(AK14=0,0,(AK14*((LOG(AK14))/LOG(2))))","v":0},null,222,{"$f":"COUNTIF(L11:L11,AN14)","v":0},{"$f":"AO14/(AQ4-AO13)","v":0},{"$f":"IF(AP14=0,0,(AP14*((LOG(AP14))/LOG(2))))","v":0},null,222,{"$f":"COUNTIF(L12:L12,AS14)","v":0},{"$f":"AT14/(AV4-AT13)","v":0},{"$f":"IF(AU14=0,0,(AU14*((LOG(AU14))/LOG(2))))","v":0}]
[null,null,null,null,null,null,null,null,null,null,null,null,null,null,null,{"$f":"SUM(P7:P14)","v":0.99999999999999989},{"$f":"-SUM(Q7:Q14)","v":2.2516291673878226},null,null,null,null,{"$f":"SUM(V7:V14)","v":1},{"$f":"-SUM(W7:W14)","v":0},null,null,null,{"$f":"SUM(AA7:AA14)","v":1},{"$f":"-SUM(AB7:AB14)","v":0},null,null,null,{"$f":"SUM(AF7:AF14)","v":1},{"$f":"-SUM(AG7:AG14)","v":0},null,null,null,{"$f":"SUM(AK7:AK14)","v":1},{"$f":"-SUM(AL7:AL14)","v":0},null,null,null,{"$f":"SUM(AP7:AP14)","v":1},{"$f":"-SUM(AQ7:AQ14)","v":0},null,null,null,{"$f":"SUM(AU7:AU14)","v":1},{"$f":"-SUM(AV7:AV14)","v":0}]
[null,null,null,null,null,null,null,null,null,null,null,null,null,null,null,"U=",{"$f":"Q15/(LOG(Q4)/LOG(2))","v":0.87104906425515272},null,null,null,null,"U1=",{"$f":"W15/(LOG(W4)/LOG(2))","v":{"$error":"#DIV/0!"}},null,null,null,"U2=",{"$f":"AB15/(LOG(AB4)/LOG(2))","v":{"$error":"#DIV/0!"}},null,null,null,"U3=",{"$f":"AG15/(LOG(AG4)/LOG(2))","v":{"$error":"#DIV/0!"}},null,null,null,"U4=",{"$f":"AL15/(LOG(AL4)/LOG(2))","v":{"$error":"#DIV/0!"}},null,null,null,"U5=",{"$f":"AQ15/(LOG(AQ4)/LOG(2))","v":{"$error":"#DIV/0!"}},null,null,null,"U6=",{"$f":"AV15/(LOG(AV4)/LOG(2))","v":{"$error":"#DIV/0!"}}]
[]
[]
[null,null,null,null,null,null,null,null,null,null,null,null,null,"Total Target Seq"]
[null,null,null,null,null,null,null,null,null,null,null,null,null,{"$f":"COUNTIF(L7:L12,G3)","v":0},null,1,1,1,1,1,1]
[null,null,null,null,null,null,null,null,null,null,null,null,null,null,null,"% of reinforcement given in 6 equal intervals based on number of trials "]
[null,null,null,null,null,null,null,null,null,null,null,null,null,null,null,"%_1","%_2","%_3","%_4","%_5","%_6"]
[null,null,null,null,null,null,null,null,null,null,null,null,null,null,"target sequence",{"$f":"$G$3","v":221},221,221,221,221,221]
[null,null,null,null,null,null,null,null,null,null,null,null,null,null,"total reinforcement",{"$f":"U13","v":0},{"$f":"Z13","v":0},{"$f":"AE13","v":0},{"$f":"AJ13","v":0},{"$f":"AO13","v":0},{"$f":"AT13","v":0}]
[null,null,null,null,null,null,null,null,null,null,null,null,null,null,"% target"]
[null,null,null,null,null,null,null,null,null,null,null,null,null,null,"CCRF"]
[null,null,null,null,null,null,null,null,null,null,null,null,null,null,"% CCRf"]
[null,null,null,null,null,null,null,null,null,null,null,null,null,null,"average response rate",{"$f":"F7/P20","v":11362},{"$f":"(F8-F7)/Q20","v":100},{"$f":"(F9-F8)/R20","v":101},{"$f":"(F10-F9)/S20","v":313},{"$f":"(F11-F10)/T20","v":121},{"$f":"(F12-F11)/U20","v":11771}]

{"sheet":"!M915B2B.AXT","index":19,"n_rows":28,"n_cols":48,"rows_kept":28,"cut":false,"hidden":false,"merged":[[4,39,4,42],[5,39,5,40],[4,44,4,47],[5,44,5,45],[4,24,4,27],[5,24,5,25],[4,29,4,32],[5,29,5,30],[4,34,4,37],[5,34,5,35],[1,1,1,2],[5,13,5,14],[18,13,18,14],[19,13,19,14],[4,19,4,22],[5,19,5,20]]}
["Report for:!M915B2B.AXT"]
["Date:","<date>"]
["Hen:","<hen>",null,null,null,"Correct Sequence",{"$f":"Start!J2","v":221},null,null,null,null,null,null,null,null,"Total Sequences in Data",{"$f":"4994-COUNTBLANK(L7:L5000)","v":4},null,null,null,null,"Total Sequences in Block Data",{"$f":"COUNTA(L7:L7)","v":1},null,null,null,"Total Sequences in Block Data",{"$f":"COUNTA(L7:L8)","v":2},null,null,null,"Total Sequences in Block Data",{"$f":"COUNTA(L8:L8)","v":1},null,null,null,"Total Sequences in Block Data",{"$f":"COUNTA(L9:L9)","v":1},null,null,null,"Total Sequences in Block Data",{"$f":"COUNTA(L9:L10)","v":2},null,null,null,"Total Sequences in Block Data",{"$f":"COUNTA(L10:L10)","v":1}]
[null,null,null,null,null,null,null,null,null,null,null,null,null,null,null,"Total Sequences in Summary",{"$f":"SUM(O7:O14)","v":3},null,null,null,null,"Total Sequences in Block Summary",{"$f":"SUM(U7:U14)","v":1},null,null,null,"Total Sequences in Block Summary",{"$f":"SUM(Z7:Z14)","v":2},null,null,null,"Total Sequences in Block Summary",{"$f":"SUM(AE7:AE14)","v":1},null,null,null,"Total Sequences in Block Summary",{"$f":"SUM(AJ7:AJ14)","v":1},null,null,null,"Total Sequences in Block Summary",{"$f":"SUM(AO7:AO14)","v":1},null,null,null,"Total Sequences in Block Summary",{"$f":"SUM(AT7:AT14)","v":0}]
[null,null,null,null,null,null,null,null,null,null,null,null,null,null,null,null,null,null,null,"Block 1",null,null,null,null,"Block 2",null,null,null,null,"Block 3",null,null,null,null,"Block 4",null,null,null,null,"Block 5",null,null,null,null,"Block 6"]
["Sequence\nComponent\n1","Time\n1","Sequence\nComponent\n2","Time\n2","Sequence\nComponent\n3","Time\n3","Sequence\nComponent\n4","Time\n4","Sequence\nComponent\n5","Time\n5","Correct?\n0=No 1=Yes","Sequence",null,"Frequency",null,"Relative Frequency","Variability",null,null,"Frequency",null,"Relative Frequency","Variability",null,"Frequency",null,"Relative Frequency","Variability",null,"Frequency",null,"Relative Frequency","Variability",null,"Frequency",null,"Relative Frequency","Variability",null,"Frequency",null,"Relative Frequency","Variability",null,"Frequency",null,"Relative Frequency","Variability"]
[22,440,23,450,24,463,null,null,null,null,0,222,null,111,{"$f":"COUNTIF($L$7:$L$500,N7)","v":0},{"$f":"O7/$Q$4","v":0},{"$f":"IF(P7=0,0,(P7*((LOG(P7))/LOG(2))))","v":0},null,null,{"$f":"N7","v":111},{"$f":"COUNTIF(L7:L7,T7)","v":0},{"$f":"U7/(W4-U13)","v":0},{"$f":"IF(V7=0,0,(V7*((LOG(V7))/LOG(2))))","v":0},null,{"$f":"N7","v":111},{"$f":"COUNTIF(L7:L8,Y7)","v":0},{"$f":"Z7/(AB4-Z13)","v":0},{"$f":"IF(AA7=0,0,(AA7*((LOG(AA7))/LOG(2))))","v":0},null,{"$f":"N7","v":111},{"$f":"COUNTIF(L8:L8,AD7)","v":0},{"$f":"AE7/(AG4-AE13)","v":0},{"$f":"IF(AF7=0,0,(AF7*((LOG(AF7))/LOG(2))))","v":0},null,{"$f":"N7","v":111},{"$f":"COUNTIF(L9:L9,AI7)","v":0},{"$f":"AJ7/(AL4-AJ13)","v":0},{"$f":"IF(AK7=0,0,(AK7*((LOG(AK7))/LOG(2))))","v":0},null,{"$f":"N7","v":111},{"$f":"COUNTIF(L9:L10,AN7)","v":0},{"$f":"AO7/(AQ4-AO13)","v":0},{"$f":"IF(AP7=0,0,(AP7*((LOG(AP7))/LOG(2))))","v":0},null,{"$f":"N7","v":111},{"$f":"COUNTIF(L10:L10,AS7)","v":0},{"$f":"AT7/(AV4-AT13)","v":{"$error":"#DIV/0!"}},{"$f":"IF(AU7=0,0,(AU7*((LOG(AU7))/LOG(2))))","v":{"$error":"#DIV/0!"}}]
[11,606,21,616,22,623,null,null,null,null,0,122,null,112,1,0.33333333333333331,-0.52832083357371862,null,null,112,{"$f":"COUNTIF(L7:L7,T8)","v":0},{"$f":"U8/(W4-U13)","v":0},0,null,112,{"$f":"COUNTIF(L7:L8,Y8)","v":0},{"$f":"Z8/(AB4-Z13)","v":0},0,null,112,{"$f":"COUNTIF(L8:L8,AD8)","v":0},{"$f":"AE8/(AG4-AE13)","v":0},0,null,112,{"$f":"COUNTIF(L9:L9,AI8)","v":1},{"$f":"AJ8/(AL4-AJ13)","v":1},0,null,112,{"$f":"COUNTIF(L9:L10,AN8)","v":1},{"$f":"AO8/(AQ4-AO13)","v":1},0,null,112,{"$f":"COUNTIF(L10:L10,AS8)","v":0},{"$f":"AT8/(AV4-AT13)","v":{"$error":"#DIV/0!"}},{"$error":"#DIV/0!"}]
[11,780,12,783,24,787,null,null,null,null,0,112,null,121,0,0,0,null,null,121,{"$f":"COUNTIF(L7:L7,T9)","v":0},{"$f":"U9/(W4-U13)","v":0},0,null,121,{"$f":"COUNTIF(L7:L8,Y9)","v":0},{"$f":"Z9/(AB4-Z13)","v":0},0,null,121,{"$f":"COUNTIF(L8:L8,AD9)","v":0},{"$f":"AE9/(AG4-AE13)","v":0},0,null,121,{"$f":"COUNTIF(L9:L9,AI9)","v":0},{"$f":"AJ9/(AL4-AJ13)","v":0},0,null,121,{"$f":"COUNTIF(L9:L10,AN9)","v":0},{"$f":"AO9/(AQ4-AO13)","v":0},0,null,121,{"$f":"COUNTIF(L10:L10,AS9)","v":0},{"$f":"AT9/(AV4-AT13)","v":{"$error":"#DIV/0!"}},{"$error":"#DIV/0!"}]
[11,9963,null,null,null,null,null,null,null,null,null,1,null,122,1,0.33333333333333331,-0.52832083357371862,null,null,122,{"$f":"COUNTIF(L7:L7,T10)","v":0},{"$f":"U10/(W4-U13)","v":0},0,null,122,{"$f":"COUNTIF(L7:L8,Y10)","v":1},{"$f":"Z10/(AB4-Z13)","v":0.5},-0.5,null,122,{"$f":"COUNTIF(L8:L8,AD10)","v":1},{"$f":"AE10/(AG4-AE13)","v":1},0,null,122,{"$f":"COUNTIF(L9:L9,AI10)","v":0},{"$f":"AJ10/(AL4-AJ13)","v":0},0,null,122,{"$f":"COUNTIF(L9:L10,AN10)","v":0},{"$f":"AO10/(AQ4-AO13)","v":0},0,null,122,{"$f":"COUNTIF(L10:L10,AS10)","v":0},{"$f":"AT10/(AV4-AT13)","v":{"$error":"#DIV/0!"}},{"$error":"#DIV/0!"}]
[null,null,null,null,null,null,null,null,null,null,null,null,null,211,0,0,0,null,null,211,{"$f":"COUNTIF(L7:L7,T11)","v":0},{"$f":"U11/(W4-U13)","v":0},0,null,211,{"$f":"COUNTIF(L7:L8,Y11)","v":0},{"$f":"Z11/(AB4-Z13)","v":0},0,null,211,{"$f":"COUNTIF(L8:L8,AD11)","v":0},{"$f":"AE11/(AG4-AE13)","v":0},0,null,211,{"$f":"COUNTIF(L9:L9,AI11)","v":0},{"$f":"AJ11/(AL4-AJ13)","v":0},0,null,211,{"$f":"COUNTIF(L9:L10,AN11)","v":0},{"$f":"AO11/(AQ4-AO13)","v":0},0,null,211,{"$f":"COUNTIF(L10:L10,AS11)","v":0},{"$f":"AT11/(AV4-AT13)","v":{"$error":"#DIV/0!"}},{"$error":"#DIV/0!"}]
[null,null,null,null,null,null,null,null,null,null,null,null,null,212,0,0,0,null,null,212,{"$f":"COUNTIF(L7:L7,T12)","v":0},{"$f":"U12/(W4-U13)","v":0},0,null,212,{"$f":"COUNTIF(L7:L8,Y12)","v":0},{"$f":"Z12/(AB4-Z13)","v":0},0,null,212,{"$f":"COUNTIF(L8:L8,AD12)","v":0},{"$f":"AE12/(AG4-AE13)","v":0},0,null,212,{"$f":"COUNTIF(L9:L9,AI12)","v":0},{"$f":"AJ12/(AL4-AJ13)","v":0},0,null,212,{"$f":"COUNTIF(L9:L10,AN12)","v":0},{"$f":"AO12/(AQ4-AO13)","v":0},0,null,212,{"$f":"COUNTIF(L10:L10,AS12)","v":0},{"$f":"AT12/(AV4-AT13)","v":{"$error":"#DIV/0!"}},{"$error":"#DIV/0!"}]
[null,null,null,null,null,null,null,null,null,null,null,null,null,221,0,0,0,null,null,221,{"$f":"COUNTIF(L7:L7,T13)","v":0},null,null,null,221,{"$f":"COUNTIF(L7:L8,Y13)","v":0},null,null,null,221,{"$f":"COUNTIF(L8:L8,AD13)","v":0},null,null,null,221,{"$f":"COUNTIF(L9:L9,AI13)","v":0},null,null,null,221,{"$f":"COUNTIF(L9:L10,AN13)","v":0},null,null,null,221,{"$f":"COUNTIF(L10:L10,AS13)","v":0}]
[null,null,null,null,null,null,null,null,null,null,null,null,null,222,1,0.33333333333333331,-0.52832083357371862,null,null,222,{"$f":"COUNTIF(L7:L7,T14)","v":1},{"$f":"U14/(W4-U13)","v":1},{"$f":"IF(V14=0,0,(V14*((LOG(V14))/LOG(2))))","v":0},null,222,{"$f":"COUNTIF(L7:L8,Y14)","v":1},{"$f":"Z14/(AB4-Z13)","v":0.5},{"$f":"IF(AA14=0,0,(AA14*((LOG(AA14))/LOG(2))))","v":-0.5},null,222,{"$f":"COUNTIF(L8:L8,AD14)","v":0},{"$f":"AE14/(AG4-AE13)","v":0},{"$f":"IF(AF14=0,0,(AF14*((LOG(AF14))/LOG(2))))","v":0},null,222,{"$f":"COUNTIF(L9:L9,AI14)","v":0},{"$f":"AJ14/(AL4-AJ13)","v":0},{"$f":"IF(AK14=0,0,(AK14*((LOG(AK14))/LOG(2))))","v":0},null,222,{"$f":"COUNTIF(L9:L10,AN14)","v":0},{"$f":"AO14/(AQ4-AO13)","v":0},{"$f":"IF(AP14=0,0,(AP14*((LOG(AP14))/LOG(2))))","v":0},null,222,{"$f":"COUNTIF(L10:L10,AS14)","v":0},{"$f":"AT14/(AV4-AT13)","v":{"$error":"#DIV/0!"}},{"$f":"IF(AU14=0,0,(AU14*((LOG(AU14))/LOG(2))))","v":{"$error":"#DIV/0!"}}]
[null,null,null,null,null,null,null,null,null,null,null,null,null,null,null,{"$f":"SUM(P7:P14)","v":1},{"$f":"-SUM(Q7:Q14)","v":1.5849625007211559},null,null,null,null,{"$f":"SUM(V7:V14)","v":1},{"$f":"-SUM(W7:W14)","v":0},null,null,null,{"$f":"SUM(AA7:AA14)","v":1},{"$f":"-SUM(AB7:AB14)","v":1},null,null,null,{"$f":"SUM(AF7:AF14)","v":1},{"$f":"-SUM(AG7:AG14)","v":0},null,null,null,{"$f":"SUM(AK7:AK14)","v":1},{"$f":"-SUM(AL7:AL14)","v":0},null,null,null,{"$f":"SUM(AP7:AP14)","v":1},{"$f":"-SUM(AQ7:AQ14)","v":0},null,null,null,{"$f":"SUM(AU7:AU14)","v":{"$error":"#DIV/0!"}},{"$f":"-SUM(AV7:AV14)","v":{"$error":"#DIV/0!"}}]
[null,null,null,null,null,null,null,null,null,null,null,null,null,null,null,"U=",{"$f":"Q15/(LOG(Q4)/LOG(2))","v":0.99999999999999989},null,null,null,null,"U1=",{"$f":"W15/(LOG(W4)/LOG(2))","v":{"$error":"#DIV/0!"}},null,null,null,"U2=",{"$f":"AB15/(LOG(AB4)/LOG(2))","v":1},null,null,null,"U3=",{"$f":"AG15/(LOG(AG4)/LOG(2))","v":{"$error":"#DIV/0!"}},null,null,null,"U4=",{"$f":"AL15/(LOG(AL4)/LOG(2))","v":{"$error":"#DIV/0!"}},null,null,null,"U5=",{"$f":"AQ15/(LOG(AQ4)/LOG(2))","v":{"$error":"#DIV/0!"}},null,null,null,"U6=",{"$f":"AV15/(LOG(AV4)/LOG(2))","v":{"$error":"#DIV/0!"}}]
[]
[]
[null,null,null,null,null,null,null,null,null,null,null,null,null,"Total Target Seq"]
[null,null,null,null,null,null,null,null,null,null,null,null,null,{"$f":"COUNTIF(L7:L10,G3)","v":0},null,1,0,1,1,0,1]
[null,null,null,null,null,null,null,null,null,null,null,null,null,null,null,"% of reinforcement given in 6 equal intervals based on number of trials "]
[null,null,null,null,null,null,null,null,null,null,null,null,null,null,null,"%_1","%_2","%_3","%_4","%_5","%_6"]
[null,null,null,null,null,null,null,null,null,null,null,null,null,null,"target sequence",{"$f":"$G$3","v":221},221,221,221,221,221]
[null,null,null,null,null,null,null,null,null,null,null,null,null,null,"total reinforcement",{"$f":"U13","v":0},{"$f":"Z13","v":0},{"$f":"AE13","v":0},{"$f":"AJ13","v":0},{"$f":"AO13","v":0},{"$f":"AT13","v":0}]
[null,null,null,null,null,null,null,null,null,null,null,null,null,null,"% target"]
[null,null,null,null,null,null,null,null,null,null,null,null,null,null,"CCRF"]
[null,null,null,null,null,null,null,null,null,null,null,null,null,null,"% CCRf"]
[null,null,null,null,null,null,null,null,null,null,null,null,null,null,"average response rate",{"$f":"F7/P20","v":463},{"$f":"(F7-F7)/Q20","v":{"$error":"#DIV/0!"}},{"$f":"(F8-F7)/R20","v":160},{"$f":"(F9-F8)/S20","v":164},{"$f":"(F9-F9)/T20","v":{"$error":"#DIV/0!"}},{"$f":"(F10-F9)/U20","v":-787}]

{"sheet":"!M916A4B.AXT","index":20,"n_rows":28,"n_cols":48,"rows_kept":28,"cut":false,"hidden":false,"merged":[[4,39,4,42],[5,39,5,40],[4,44,4,47],[5,44,5,45],[4,24,4,27],[5,24,5,25],[4,29,4,32],[5,29,5,30],[4,34,4,37],[5,34,5,35],[1,1,1,2],[5,13,5,14],[18,13,18,14],[19,13,19,14],[4,19,4,22],[5,19,5,20]]}
["Report for:!M916A4B.AXT"]
["Date:","<date>"]
["Hen:","<hen>",null,null,null,"Correct Sequence",{"$f":"Start!J2","v":221},null,null,null,null,null,null,null,null,"Total Sequences in Data",{"$f":"4994-COUNTBLANK(L7:L5000)","v":3},null,null,null,null,"Total Sequences in Block Data",{"$f":"COUNTA(L7:L7)","v":1},null,null,null,"Total Sequences in Block Data",{"$f":"COUNTA(L7:L8)","v":2},null,null,null,"Total Sequences in Block Data",{"$f":"COUNTA(L8:L8)","v":1},null,null,null,"Total Sequences in Block Data",{"$f":"COUNTA(L8:L9)","v":2},null,null,null,"Total Sequences in Block Data",{"$f":"COUNTA(L9:L9)","v":1},null,null,null,"Total Sequences in Block Data",{"$f":"COUNTA(L9:L10)","v":1}]
[null,null,null,null,null,null,null,null,null,null,null,null,null,null,null,"Total Sequences in Summary",{"$f":"SUM(O7:O14)","v":2},null,null,null,null,"Total Sequences in Block Summary",{"$f":"SUM(U7:U14)","v":1},null,null,null,"Total Sequences in Block Summary",{"$f":"SUM(Z7:Z14)","v":2},null,null,null,"Total Sequences in Block Summary",{"$f":"SUM(AE7:AE14)","v":1},null,null,null,"Total Sequences in Block Summary",{"$f":"SUM(AJ7:AJ14)","v":1},null,null,null,"Total Sequences in Block Summary",{"$f":"SUM(AO7:AO14)","v":0},null,null,null,"Total Sequences in Block Summary",{"$f":"SUM(AT7:AT14)","v":0}]
[null,null,null,null,null,null,null,null,null,null,null,null,null,null,null,null,null,null,null,"Block 1",null,null,null,null,"Block 2",null,null,null,null,"Block 3",null,null,null,null,"Block 4",null,null,null,null,"Block 5",null,null,null,null,"Block 6"]
["Sequence\nComponent\n1","Time\n1","Sequence\nComponent\n2","Time\n2","Sequence\nComponent\n3","Time\n3","Sequence\nComponent\n4","Time\n4","Sequence\nComponent\n5","Time\n5","Correct?\n0=No 1=Yes","Sequence",null,"Frequency",null,"Relative Frequency","Variability",null,null,"Frequency",null,"Relative Frequency","Variability",null,"Frequency",null,"Relative Frequency","Variability",null,"Frequency",null,"Relative Frequency","Variability",null,"Frequency",null,"Relative Frequency","Variability",null,"Frequency",null,"Relative Frequency","Variability",null,"Frequency",null,"Relative Frequency","Variability"]
[22,323,14,332,24,344,null,null,null,null,0,212,null,111,{"$f":"COUNTIF($L$7:$L$500,N7)","v":0},{"$f":"O7/$Q$4","v":0},{"$f":"IF(P7=0,0,(P7*((LOG(P7))/LOG(2))))","v":0},null,null,{"$f":"N7","v":111},{"$f":"COUNTIF(L7:L7,T7)","v":0},{"$f":"U7/(W4-U13)","v":0},{"$f":"IF(V7=0,0,(V7*((LOG(V7))/LOG(2))))","v":0},null,{"$f":"N7","v":111},{"$f":"COUNTIF(L7:L8,Y7)","v":0},{"$f":"Z7/(AB4-Z13)","v":0},{"$f":"IF(AA7=0,0,(AA7*((LOG(AA7))/LOG(2))))","v":0},null,{"$f":"N7","v":111},{"$f":"COUNTIF(L8:L8,AD7)","v":0},{"$f":"AE7/(AG4-AE13)","v":0},{"$f":"IF(AF7=0,0,(AF7*((LOG(AF7))/LOG(2))))","v":0},null,{"$f":"N7","v":111},{"$f":"COUNTIF(L8:L9,AI7)","v":0},{"$f":"AJ7/(AL4-AJ13)","v":0},{"$f":"IF(AK7=0,0,(AK7*((LOG(AK7))/LOG(2))))","v":0},null,{"$f":"N7","v":111},{"$f":"COUNTIF(L9:L9,AN7)","v":0},{"$f":"AO7/(AQ4-AO13)","v":{"$error":"#DIV/0!"}},{"$f":"IF(AP7=0,0,(AP7*((LOG(AP7))/LOG(2))))","v":{"$error":"#DIV/0!"}},null,{"$f":"N7","v":111},{"$f":"COUNTIF(L9:L10,AS7)","v":0},{"$f":"AT7/(AV4-AT13)","v":{"$error":"#DIV/0!"}},{"$f":"IF(AU7=0,0,(AU7*((LOG(AU7))/LOG(2))))","v":{"$error":"#DIV/0!"}}]
[11,2958,21,2960,22,2973,null,null,null,null,0,122,null,112,0,0,0,null,null,112,{"$f":"COUNTIF(L7:L7,T8)","v":0},{"$f":"U8/(W4-U13)","v":0},0,null,112,{"$f":"COUNTIF(L7:L8,Y8)","v":0},{"$f":"Z8/(AB4-Z13)","v":0},0,null,112,{"$f":"COUNTIF(L8:L8,AD8)","v":0},{"$f":"AE8/(AG4-AE13)","v":0},0,null,112,{"$f":"COUNTIF(L8:L9,AI8)","v":0},{"$f":"AJ8/(AL4-AJ13)","v":0},0,null,112,{"$f":"COUNTIF(L9:L9,AN8)","v":0},{"$f":"AO8/(AQ4-AO13)","v":{"$error":"#DIV/0!"}},{"$error":"#DIV/0!"},null,112,{"$f":"COUNTIF(L9:L10,AS8)","v":0},{"$f":"AT8/(AV4-AT13)","v":{"$error":"#DIV/0!"}},{"$error":"#DIV/0!"}]
[22,19184,14,19310,null,null,null,null,null,null,null,21,null,121,0,0,0,null,null,121,{"$f":"COUNTIF(L7:L7,T9)","v":0},{"$f":"U9/(W4-U13)","v":0},0,null,121,{"$f":"COUNTIF(L7:L8,Y9)","v":0},{"$f":"Z9/(AB4-Z13)","v":0},0,null,121,{"$f":"COUNTIF(L8:L8,AD9)","v":0},{"$f":"AE9/(AG4-AE13)","v":0},0,null,121,{"$f":"COUNTIF(L8:L9,AI9)","v":0},{"$f":"AJ9/(AL4-AJ13)","v":0},0,null,121,{"$f":"COUNTIF(L9:L9,AN9)","v":0},{"$f":"AO9/(AQ4-AO13)","v":{"$error":"#DIV/0!"}},{"$error":"#DIV/0!"},null,121,{"$f":"COUNTIF(L9:L10,AS9)","v":0},{"$f":"AT9/(AV4-AT13)","v":{"$error":"#DIV/0!"}},{"$error":"#DIV/0!"}]
[null,null,null,null,null,null,null,null,null,null,null,null,null,122,1,0.5,-0.5,null,null,122,{"$f":"COUNTIF(L7:L7,T10)","v":0},{"$f":"U10/(W4-U13)","v":0},0,null,122,{"$f":"COUNTIF(L7:L8,Y10)","v":1},{"$f":"Z10/(AB4-Z13)","v":0.5},-0.5,null,122,{"$f":"COUNTIF(L8:L8,AD10)","v":1},{"$f":"AE10/(AG4-AE13)","v":1},0,null,122,{"$f":"COUNTIF(L8:L9,AI10)","v":1},{"$f":"AJ10/(AL4-AJ13)","v":1},0,null,122,{"$f":"COUNTIF(L9:L9,AN10)","v":0},{"$f":"AO10/(AQ4-AO13)","v":{"$error":"#DIV/0!"}},{"$error":"#DIV/0!"},null,122,{"$f":"COUNTIF(L9:L10,AS10)","v":0},{"$f":"AT10/(AV4-AT13)","v":{"$error":"#DIV/0!"}},{"$error":"#DIV/0!"}]
[null,null,null,null,null,null,null,null,null,null,null,null,null,211,0,0,0,null,null,211,{"$f":"COUNTIF(L7:L7,T11)","v":0},{"$f":"U11/(W4-U13)","v":0},0,null,211,{"$f":"COUNTIF(L7:L8,Y11)","v":0},{"$f":"Z11/(AB4-Z13)","v":0},0,null,211,{"$f":"COUNTIF(L8:L8,AD11)","v":0},{"$f":"AE11/(AG4-AE13)","v":0},0,null,211,{"$f":"COUNTIF(L8:L9,AI11)","v":0},{"$f":"AJ11/(AL4-AJ13)","v":0},0,null,211,{"$f":"COUNTIF(L9:L9,AN11)","v":0},{"$f":"AO11/(AQ4-AO13)","v":{"$error":"#DIV/0!"}},{"$error":"#DIV/0!"},null,211,{"$f":"COUNTIF(L9:L10,AS11)","v":0},{"$f":"AT11/(AV4-AT13)","v":{"$error":"#DIV/0!"}},{"$error":"#DIV/0!"}]
[null,null,null,null,null,null,null,null,null,null,null,null,null,212,1,0.5,-0.5,null,null,212,{"$f":"COUNTIF(L7:L7,T12)","v":1},{"$f":"U12/(W4-U13)","v":1},0,null,212,{"$f":"COUNTIF(L7:L8,Y12)","v":1},{"$f":"Z12/(AB4-Z13)","v":0.5},-0.5,null,212,{"$f":"COUNTIF(L8:L8,AD12)","v":0},{"$f":"AE12/(AG4-AE13)","v":0},0,null,212,{"$f":"COUNTIF(L8:L9,AI12)","v":0},{"$f":"AJ12/(AL4-AJ13)","v":0},0,null,212,{"$f":"COUNTIF(L9:L9,AN12)","v":0},{"$f":"AO12/(AQ4-AO13)","v":{"$error":"#DIV/0!"}},{"$error":"#DIV/0!"},null,212,{"$f":"COUNTIF(L9:L10,AS12)","v":0},{"$f":"AT12/(AV4-AT13)","v":{"$error":"#DIV/0!"}},{"$error":"#DIV/0!"}]
[null,null,null,null,null,null,null,null,null,null,null,null,null,221,0,0,0,null,null,221,{"$f":"COUNTIF(L7:L7,T13)","v":0},null,null,null,221,{"$f":"COUNTIF(L7:L8,Y13)","v":0},null,null,null,221,{"$f":"COUNTIF(L8:L8,AD13)","v":0},null,null,null,221,{"$f":"COUNTIF(L8:L9,AI13)","v":0},null,null,null,221,{"$f":"COUNTIF(L9:L9,AN13)","v":0},null,null,null,221,{"$f":"COUNTIF(L9:L10,AS13)","v":0}]
[null,null,null,null,null,null,null,null,null,null,null,null,null,222,0,0,0,null,null,222,{"$f":"COUNTIF(L7:L7,T14)","v":0},{"$f":"U14/(W4-U13)","v":0},{"$f":"IF(V14=0,0,(V14*((LOG(V14))/LOG(2))))","v":0},null,222,{"$f":"COUNTIF(L7:L8,Y14)","v":0},{"$f":"Z14/(AB4-Z13)","v":0},{"$f":"IF(AA14=0,0,(AA14*((LOG(AA14))/LOG(2))))","v":0},null,222,{"$f":"COUNTIF(L8:L8,AD14)","v":0},{"$f":"AE14/(AG4-AE13)","v":0},{"$f":"IF(AF14=0,0,(AF14*((LOG(AF14))/LOG(2))))","v":0},null,222,{"$f":"COUNTIF(L8:L9,AI14)","v":0},{"$f":"AJ14/(AL4-AJ13)","v":0},{"$f":"IF(AK14=0,0,(AK14*((LOG(AK14))/LOG(2))))","v":0},null,222,{"$f":"COUNTIF(L9:L9,AN14)","v":0},{"$f":"AO14/(AQ4-AO13)","v":{"$error":"#DIV/0!"}},{"$f":"IF(AP14=0,0,(AP14*((LOG(AP14))/LOG(2))))","v":{"$error":"#DIV/0!"}},null,222,{"$f":"COUNTIF(L9:L10,AS14)","v":0},{"$f":"AT14/(AV4-AT13)","v":{"$error":"#DIV/0!"}},{"$f":"IF(AU14=0,0,(AU14*((LOG(AU14))/LOG(2))))","v":{"$error":"#DIV/0!"}}]
[null,null,null,null,null,null,null,null,null,null,null,null,null,null,null,{"$f":"SUM(P7:P14)","v":1},{"$f":"-SUM(Q7:Q14)","v":1},null,null,null,null,{"$f":"SUM(V7:V14)","v":1},{"$f":"-SUM(W7:W14)","v":0},null,null,null,{"$f":"SUM(AA7:AA14)","v":1},{"$f":"-SUM(AB7:AB14)","v":1},null,null,null,{"$f":"SUM(AF7:AF14)","v":1},{"$f":"-SUM(AG7:AG14)","v":0},null,null,null,{"$f":"SUM(AK7:AK14)","v":1},{"$f":"-SUM(AL7:AL14)","v":0},null,null,null,{"$f":"SUM(AP7:AP14)","v":{"$error":"#DIV/0!"}},{"$f":"-SUM(AQ7:AQ14)","v":{"$error":"#DIV/0!"}},null,null,null,{"$f":"SUM(AU7:AU14)","v":{"$error":"#DIV/0!"}},{"$f":"-SUM(AV7:AV14)","v":{"$error":"#DIV/0!"}}]
[null,null,null,null,null,null,null,null,null,null,null,null,null,null,null,"U=",{"$f":"Q15/(LOG(Q4)/LOG(2))","v":1},null,null,null,null,"U1=",{"$f":"W15/(LOG(W4)/LOG(2))","v":{"$error":"#DIV/0!"}},null,null,null,"U2=",{"$f":"AB15/(LOG(AB4)/LOG(2))","v":1},null,null,null,"U3=",{"$f":"AG15/(LOG(AG4)/LOG(2))","v":{"$error":"#DIV/0!"}},null,null,null,"U4=",{"$f":"AL15/(LOG(AL4)/LOG(2))","v":{"$error":"#DIV/0!"}},null,null,null,"U5=",{"$f":"AQ15/(LOG(AQ4)/LOG(2))","v":{"$error":"#DIV/0!"}},null,null,null,"U6=",{"$f":"AV15/(LOG(AV4)/LOG(2))","v":{"$error":"#DIV/0!"}}]
[]
[]
[null,null,null,null,null,null,null,null,null,null,null,null,null,"Total Target Seq"]
[null,null,null,null,null,null,null,null,null,null,null,null,null,{"$f":"COUNTIF(L7:L9,G3)","v":0},null,1,0,1,0,1,0]
[null,null,null,null,null,null,null,null,null,null,null,null,null,null,null,"% of reinforcement given in 6 equal intervals based on number of trials "]
[null,null,null,null,null,null,null,null,null,null,null,null,null,null,null,"%_1","%_2","%_3","%_4","%_5","%_6"]
[null,null,null,null,null,null,null,null,null,null,null,null,null,null,"target sequence",{"$f":"$G$3","v":221},221,221,221,221,221]
[null,null,null,null,null,null,null,null,null,null,null,null,null,null,"total reinforcement",{"$f":"U13","v":0},{"$f":"Z13","v":0},{"$f":"AE13","v":0},{"$f":"AJ13","v":0},{"$f":"AO13","v":0},{"$f":"AT13","v":0}]
[null,null,null,null,null,null,null,null,null,null,null,null,null,null,"% target"]
[null,null,null,null,null,null,null,null,null,null,null,null,null,null,"CCRF"]
[null,null,null,null,null,null,null,null,null,null,null,null,null,null,"% CCRf"]
[null,null,null,null,null,null,null,null,null,null,null,null,null,null,"average response rate",{"$f":"F7/P20","v":344},{"$f":"(F7-F7)/Q20","v":{"$error":"#DIV/0!"}},{"$f":"(F8-F7)/R20","v":2629},{"$f":"(F8-F8)/S20","v":{"$error":"#DIV/0!"}},{"$f":"(F9-F8)/T20","v":-2973},{"$f":"(F9-F9)/U20","v":{"$error":"#DIV/0!"}}]

{"sheet":"!M917A4B.AXT","index":21,"n_rows":28,"n_cols":48,"rows_kept":28,"cut":false,"hidden":false,"merged":[[4,39,4,42],[5,39,5,40],[4,44,4,47],[5,44,5,45],[4,24,4,27],[5,24,5,25],[4,29,4,32],[5,29,5,30],[4,34,4,37],[5,34,5,35],[1,1,1,2],[5,13,5,14],[18,13,18,14],[19,13,19,14],[4,19,4,22],[5,19,5,20]]}
["Report for:!M917A4B.AXT"]
["Date:","<date>"]
["Hen:","<hen>",null,null,null,"Correct Sequence",{"$f":"Start!J2","v":221},null,null,null,null,null,null,null,null,"Total Sequences in Data",{"$f":"4994-COUNTBLANK(L7:L5000)","v":2},null,null,null,null,"Total Sequences in Block Data",{"$f":"COUNTA(L6:L7)","v":2},null,null,null,"Total Sequences in Block Data",{"$f":"COUNTA(L7:L7)","v":1},null,null,null,"Total Sequences in Block Data",{"$f":"COUNTA(L7:L8)","v":2},null,null,null,"Total Sequences in Block Data",{"$f":"COUNTA(L7:L8)","v":2},null,null,null,"Total Sequences in Block Data",{"$f":"COUNTA(L8:L8)","v":1},null,null,null,"Total Sequences in Block Data",{"$f":"COUNTA(L8:L9)","v":1}]
[null,null,null,null,null,null,null,null,null,null,null,null,null,null,null,"Total Sequences in Summary",{"$f":"SUM(O7:O14)","v":2},null,null,null,null,"Total Sequences in Block Summary",{"$f":"SUM(U7:U14)","v":1},null,null,null,"Total Sequences in Block Summary",{"$f":"SUM(Z7:Z14)","v":1},null,null,null,"Total Sequences in Block Summary",{"$f":"SUM(AE7:AE14)","v":2},null,null,null,"Total Sequences in Block Summary",{"$f":"SUM(AJ7:AJ14)","v":2},null,null,null,"Total Sequences in Block Summary",{"$f":"SUM(AO7:AO14)","v":1},null,null,null,"Total Sequences in Block Summary",{"$f":"SUM(AT7:AT14)","v":1}]
[null,null,null,null,null,null,null,null,null,null,null,null,null,null,null,null,null,null,null,"Block 1",null,null,null,null,"Block 2",null,null,null,null,"Block 3",null,null,null,null,"Block 4",null,null,null,null,"Block 5",null,null,null,null,"Block 6"]
["Sequence\nComponent\n1","Time\n1","Sequence\nComponent\n2","Time\n2","Sequence\nComponent\n3","Time\n3","Sequence\nComponent\n4","Time\n4","Sequence\nComponent\n5","Time\n5","Correct?\n0=No 1=Yes","Sequence",null,"Frequency",null,"Relative Frequency","Variability",null,null,"Frequency",null,"Relative Frequency","Variability",null,"Frequency",null,"Relative Frequency","Variability",null,"Frequency",null,"Relative Frequency","Variability",null,"Frequency",null,"Relative Frequency","Variability",null,"Frequency",null,"Relative Frequency","Variability",null,"Frequency",null,"Relative Frequency","Variability"]
[11,14271,12,17492,24,17504,null,null,null,null,0,112,null,111,{"$f":"COUNTIF($L$7:$L$500,N7)","v":0},{"$f":"O7/$Q$4","v":0},{"$f":"IF(P7=0,0,(P7*((LOG(P7))/LOG(2))))","v":0},null,null,{"$f":"N7","v":111},{"$f":"COUNTIF(L6:L7,T7)","v":0},{"$f":"U7/(W4-U13)","v":0},{"$f":"IF(V7=0,0,(V7*((LOG(V7))/LOG(2))))","v":0},null,{"$f":"N7","v":111},{"$f":"COUNTIF(L7:L7,Y7)","v":0},{"$f":"Z7/(AB4-Z13)","v":0},{"$f":"IF(AA7=0,0,(AA7*((LOG(AA7))/LOG(2))))","v":0},null,{"$f":"N7","v":111},{"$f":"COUNTIF(L7:L8,AD7)","v":0},{"$f":"AE7/(AG4-AE13)","v":0},{"$f":"IF(AF7=0,0,(AF7*((LOG(AF7))/LOG(2))))","v":0},null,{"$f":"N7","v":111},{"$f":"COUNTIF(L7:L8,AI7)","v":0},{"$f":"AJ7/(AL4-AJ13)","v":0},{"$f":"IF(AK7=0,0,(AK7*((LOG(AK7))/LOG(2))))","v":0},null,{"$f":"N7","v":111},{"$f":"COUNTIF(L8:L8,AN7)","v":0},{"$f":"AO7/(AQ4-AO13)","v":0},{"$f":"IF(AP7=0,0,(AP7*((LOG(AP7))/LOG(2))))","v":0},null,{"$f":"N7","v":111},{"$f":"COUNTIF(L8:L9,AS7)","v":0},{"$f":"AT7/(AV4-AT13)","v":0},{"$f":"IF(AU7=0,0,(AU7*((LOG(AU7))/LOG(2))))","v":0}]
[11,22140,21,22147,22,23317,null,null,null,null,0,122,null,112,1,0.5,-0.5,null,null,112,{"$f":"COUNTIF(L6:L7,T8)","v":1},{"$f":"U8/(W4-U13)","v":1},0,null,112,{"$f":"COUNTIF(L7:L7,Y8)","v":1},{"$f":"Z8/(AB4-Z13)","v":1},0,null,112,{"$f":"COUNTIF(L7:L8,AD8)","v":1},{"$f":"AE8/(AG4-AE13)","v":0.5},-0.5,null,112,{"$f":"COUNTIF(L7:L8,AI8)","v":1},{"$f":"AJ8/(AL4-AJ13)","v":0.5},-0.5,null,112,{"$f":"COUNTIF(L8:L8,AN8)","v":0},{"$f":"AO8/(AQ4-AO13)","v":0},0,null,112,{"$f":"COUNTIF(L8:L9,AS8)","v":0},{"$f":"AT8/(AV4-AT13)","v":0},0]
[null,null,null,null,null,null,null,null,null,null,null,null,null,121,0,0,0,null,null,121,{"$f":"COUNTIF(L6:L7,T9)","v":0},{"$f":"U9/(W4-U13)","v":0},0,null,121,{"$f":"COUNTIF(L7:L7,Y9)","v":0},{"$f":"Z9/(AB4-Z13)","v":0},0,null,121,{"$f":"COUNTIF(L7:L8,AD9)","v":0},{"$f":"AE9/(AG4-AE13)","v":0},0,null,121,{"$f":"COUNTIF(L7:L8,AI9)","v":0},{"$f":"AJ9/(AL4-AJ13)","v":0},0,null,121,{"$f":"COUNTIF(L8:L8,AN9)","v":0},{"$f":"AO9/(AQ4-AO13)","v":0},0,null,121,{"$f":"COUNTIF(L8:L9,AS9)","v":0},{"$f":"AT9/(AV4-AT13)","v":0},0]
[null,null,null,null,null,null,null,null,null,null,null,null,null,122,1,0.5,-0.5,null,null,122,{"$f":"COUNTIF(L6:L7,T10)","v":0},{"$f":"U10/(W4-U13)","v":0},0,null,122,{"$f":"COUNTIF(L7:L7,Y10)","v":0},{"$f":"Z10/(AB4-Z13)","v":0},0,null,122,{"$f":"COUNTIF(L7:L8,AD10)","v":1},{"$f":"AE10/(AG4-AE13)","v":0.5},-0.5,null,122,{"$f":"COUNTIF(L7:L8,AI10)","v":1},{"$f":"AJ10/(AL4-AJ13)","v":0.5},-0.5,null,122,{"$f":"COUNTIF(L8:L8,AN10)","v":1},{"$f":"AO10/(AQ4-AO13)","v":1},0,null,122,{"$f":"COUNTIF(L8:L9,AS10)","v":1},{"$f":"AT10/(AV4-AT13)","v":1},0]
[null,null,null,null,null,null,null,null,null,null,null,null,null,211,0,0,0,null,null,211,{"$f":"COUNTIF(L6:L7,T11)","v":0},{"$f":"U11/(W4-U13)","v":0},0,null,211,{"$f":"COUNTIF(L7:L7,Y11)","v":0},{"$f":"Z11/(AB4-Z13)","v":0},0,null,211,{"$f":"COUNTIF(L7:L8,AD11)","v":0},{"$f":"AE11/(AG4-AE13)","v":0},0,null,211,{"$f":"COUNTIF(L7:L8,AI11)","v":0},{"$f":"AJ11/(AL4-AJ13)","v":0},0,null,211,{"$f":"COUNTIF(L8:L8,AN11)","v":0},{"$f":"AO11/(AQ4-AO13)","v":0},0,null,211,{"$f":"COUNTIF(L8:L9,AS11)","v":0},{"$f":"AT11/(AV4-AT13)","v":0},0]
[null,null,null,null,null,null,null,null,null,null,null,null,null,212,0,0,0,null,null,212,{"$f":"COUNTIF(L6:L7,T12)","v":0},{"$f":"U12/(W4-U13)","v":0},0,null,212,{"$f":"COUNTIF(L7:L7,Y12)","v":0},{"$f":"Z12/(AB4-Z13)","v":0},0,null,212,{"$f":"COUNTIF(L7:L8,AD12)","v":0},{"$f":"AE12/(AG4-AE13)","v":0},0,null,212,{"$f":"COUNTIF(L7:L8,AI12)","v":0},{"$f":"AJ12/(AL4-AJ13)","v":0},0,null,212,{"$f":"COUNTIF(L8:L8,AN12)","v":0},{"$f":"AO12/(AQ4-AO13)","v":0},0,null,212,{"$f":"COUNTIF(L8:L9,AS12)","v":0},{"$f":"AT12/(AV4-AT13)","v":0},0]
[null,null,null,null,null,null,null,null,null,null,null,null,null,221,0,0,0,null,null,221,{"$f":"COUNTIF(L6:L7,T13)","v":0},null,null,null,221,{"$f":"COUNTIF(L7:L7,Y13)","v":0},null,null,null,221,{"$f":"COUNTIF(L7:L8,AD13)","v":0},null,null,null,221,{"$f":"COUNTIF(L7:L8,AI13)","v":0},null,null,null,221,{"$f":"COUNTIF(L8:L8,AN13)","v":0},null,null,null,221,{"$f":"COUNTIF(L8:L9,AS13)","v":0}]
[null,null,null,null,null,null,null,null,null,null,null,null,null,222,0,0,0,null,null,222,{"$f":"COUNTIF(L6:L7,T14)","v":0},{"$f":"U14/(W4-U13)","v":0},{"$f":"IF(V14=0,0,(V14*((LOG(V14))/LOG(2))))","v":0},null,222,{"$f":"COUNTIF(L7:L7,Y14)","v":0},{"$f":"Z14/(AB4-Z13)","v":0},{"$f":"IF(AA14=0,0,(AA14*((LOG(AA14))/LOG(2))))","v":0},null,222,{"$f":"COUNTIF(L7:L8,AD14)","v":0},{"$f":"AE14/(AG4-AE13)","v":0},{"$f":"IF(AF14=0,0,(AF14*((LOG(AF14))/LOG(2))))","v":0},null,222,{"$f":"COUNTIF(L7:L8,AI14)","v":0},{"$f":"AJ14/(AL4-AJ13)","v":0},{"$f":"IF(AK14=0,0,(AK14*((LOG(AK14))/LOG(2))))","v":0},null,222,{"$f":"COUNTIF(L8:L8,AN14)","v":0},{"$f":"AO14/(AQ4-AO13)","v":0},{"$f":"IF(AP14=0,0,(AP14*((LOG(AP14))/LOG(2))))","v":0},null,222,{"$f":"COUNTIF(L8:L9,AS14)","v":0},{"$f":"AT14/(AV4-AT13)","v":0},{"$f":"IF(AU14=0,0,(AU14*((LOG(AU14))/LOG(2))))","v":0}]
[null,null,null,null,null,null,null,null,null,null,null,null,null,null,null,{"$f":"SUM(P7:P14)","v":1},{"$f":"-SUM(Q7:Q14)","v":1},null,null,null,null,{"$f":"SUM(V7:V14)","v":1},{"$f":"-SUM(W7:W14)","v":0},null,null,null,{"$f":"SUM(AA7:AA14)","v":1},{"$f":"-SUM(AB7:AB14)","v":0},null,null,null,{"$f":"SUM(AF7:AF14)","v":1},{"$f":"-SUM(AG7:AG14)","v":1},null,null,null,{"$f":"SUM(AK7:AK14)","v":1},{"$f":"-SUM(AL7:AL14)","v":1},null,null,null,{"$f":"SUM(AP7:AP14)","v":1},{"$f":"-SUM(AQ7:AQ14)","v":0},null,null,null,{"$f":"SUM(AU7:AU14)","v":1},{"$f":"-SUM(AV7:AV14)","v":0}]
[null,null,null,null,null,null,null,null,null,null,null,null,null,null,null,"U=",{"$f":"Q15/(LOG(Q4)/LOG(2))","v":1},null,null,null,null,"U1=",{"$f":"W15/(LOG(W4)/LOG(2))","v":{"$error":"#DIV/0!"}},null,null,null,"U2=",{"$f":"AB15/(LOG(AB4)/LOG(2))","v":{"$error":"#DIV/0!"}},null,null,null,"U3=",{"$f":"AG15/(LOG(AG4)/LOG(2))","v":1},null,null,null,"U4=",{"$f":"AL15/(LOG(AL4)/LOG(2))","v":1},null,null,null,"U5=",{"$f":"AQ15/(LOG(AQ4)/LOG(2))","v":{"$error":"#DIV/0!"}},null,null,null,"U6=",{"$f":"AV15/(LOG(AV4)/LOG(2))","v":{"$error":"#DIV/0!"}}]
[]
[]
[null,null,null,null,null,null,null,null,null,null,null,null,null,"Total Target Seq"]
[null,null,null,null,null,null,null,null,null,null,null,null,null,{"$f":"COUNTIF(L7:L8,G3)","v":0},null,0,1,0,0,1,0]
[null,null,null,null,null,null,null,null,null,null,null,null,null,null,null,"% of reinforcement given in 6 equal intervals based on number of trials "]
[null,null,null,null,null,null,null,null,null,null,null,null,null,null,null,"%_1","%_2","%_3","%_4","%_5","%_6"]
[null,null,null,null,null,null,null,null,null,null,null,null,null,null,"target sequence",{"$f":"$G$3","v":221},221,221,221,221,221]
[null,null,null,null,null,null,null,null,null,null,null,null,null,null,"total reinforcement",{"$f":"U13","v":0},{"$f":"Z13","v":0},{"$f":"AE13","v":0},{"$f":"AJ13","v":0},{"$f":"AO13","v":0},{"$f":"AT13","v":0}]
[null,null,null,null,null,null,null,null,null,null,null,null,null,null,"% target"]
[null,null,null,null,null,null,null,null,null,null,null,null,null,null,"CCRF"]
[null,null,null,null,null,null,null,null,null,null,null,null,null,null,"% CCRf"]
[null,null,null,null,null,null,null,null,null,null,null,null,null,null,"average response rate",{"$f":"F6/P20","v":{"$error":"#VALUE!"}},{"$f":"(F7-F6)/Q20","v":{"$error":"#VALUE!"}},{"$f":"(F7-F7)/R20","v":{"$error":"#DIV/0!"}},{"$f":"(F7-F7)/S20","v":{"$error":"#DIV/0!"}},{"$f":"(F8-F7)/T20","v":5813},{"$f":"(F8-F8)/U20","v":{"$error":"#DIV/0!"}}]

{"sheet":"!M918B2B.AXT","index":22,"n_rows":28,"n_cols":48,"rows_kept":28,"cut":false,"hidden":false,"merged":[[4,39,4,42],[5,39,5,40],[4,44,4,47],[5,44,5,45],[4,24,4,27],[5,24,5,25],[4,29,4,32],[5,29,5,30],[4,34,4,37],[5,34,5,35],[1,1,1,2],[5,13,5,14],[18,13,18,14],[19,13,19,14],[4,19,4,22],[5,19,5,20]]}
["Report for:!M918B2B.AXT"]
["Date:","<date>"]
["Hen:","<hen>",null,null,null,"Correct Sequence",{"$f":"Start!J2","v":221},null,null,null,null,null,null,null,null,"Total Sequences in Data",{"$f":"4994-COUNTBLANK(L7:L5000)","v":7},null,null,null,null,"Total Sequences in Block Data",{"$f":"COUNTA(L7:L7)","v":1},null,null,null,"Total Sequences in Block Data",{"$f":"COUNTA(L8:L8)","v":1},null,null,null,"Total Sequences in Block Data",{"$f":"COUNTA(L9:L10)","v":2},null,null,null,"Total Sequences in Block Data",{"$f":"COUNTA(L11:L11)","v":1},null,null,null,"Total Sequences in Block Data",{"$f":"COUNTA(L12:L12)","v":1},null,null,null,"Total Sequences in Block Data",{"$f":"COUNTA(L13:L13)","v":1}]
[null,null,null,null,null,null,null,null,null,null,null,null,null,null,null,"Total Sequences in Summary",{"$f":"SUM(O7:O14)","v":7},null,null,null,null,"Total Sequences in Block Summary",{"$f":"SUM(U7:U14)","v":1},null,null,null,"Total Sequences in Block Summary",{"$f":"SUM(Z7:Z14)","v":1},null,null,null,"Total Sequences in Block Summary",{"$f":"SUM(AE7:AE14)","v":2},null,null,null,"Total Sequences in Block Summary",{"$f":"SUM(AJ7:AJ14)","v":1},null,null,null,"Total Sequences in Block Summary",{"$f":"SUM(AO7:AO14)","v":1},null,null,null,"Total Sequences in Block Summary",{"$f":"SUM(AT7:AT14)","v":1}]
[null,null,null,null,null,null,null,null,null,null,null,null,null,null,null,null,null,null,null,"Block 1",null,null,null,null,"Block 2",null,null,null,null,"Block 3",null,null,null,null,"Block 4",null,null,null,null,"Block 5",null,null,null,null,"Block 6"]
["Sequence\nComponent\n1","Time\n1","Sequence\nComponent\n2","Time\n2","Sequence\nComponent\n3","Time\n3","Sequence\nComponent\n4","Time\n4","Sequence\nComponent\n5","Time\n5","Correct?\n0=No 1=Yes","Sequence",null,"Frequency",null,"Relative Frequency","Variability",null,null,"Frequency",null,"Relative Frequency","Variability",null,"Frequency",null,"Relative Frequency","Variability",null,"Frequency",null,"Relative Frequency","Variability",null,"Frequency",null,"Relative Frequency","Variability",null,"Frequency",null,"Relative Frequency","Variability",null,"Frequency",null,"Relative Frequency","Variability"]
[22,3438,23,3453,24,3474,null,null,null,null,0,222,null,111,{"$f":"COUNTIF($L$7:$L$500,N7)","v":0},{"$f":"O7/$Q$4","v":0},{"$f":"IF(P7=0,0,(P7*((LOG(P7))/LOG(2))))","v":0},null,null,{"$f":"N7","v":111},{"$f":"COUNTIF(L7:L7,T7)","v":0},{"$f":"U7/(W4-U13)","v":0},{"$f":"IF(V7=0,0,(V7*((LOG(V7))/LOG(2))))","v":0},null,{"$f":"N7","v":111},{"$f":"COUNTIF(L8:L8,Y7)","v":0},{"$f":"Z7/(AB4-Z13)","v":0},{"$f":"IF(AA7=0,0,(AA7*((LOG(AA7))/LOG(2))))","v":0},null,{"$f":"N7","v":111},{"$f":"COUNTIF(L9:L10,AD7)","v":0},{"$f":"AE7/(AG4-AE13)","v":0},{"$f":"IF(AF7=0,0,(AF7*((LOG(AF7))/LOG(2))))","v":0},null,{"$f":"N7","v":111},{"$f":"COUNTIF(L11:L11,AI7)","v":0},{"$f":"AJ7/(AL4-AJ13)","v":0},{"$f":"IF(AK7=0,0,(AK7*((LOG(AK7))/LOG(2))))","v":0},null,{"$f":"N7","v":111},{"$f":"COUNTIF(L12:L12,AN7)","v":0},{"$f":"AO7/(AQ4-AO13)","v":0},{"$f":"IF(AP7=0,0,(AP7*((LOG(AP7))/LOG(2))))","v":0},null,{"$f":"N7","v":111},{"$f":"COUNTIF(L13:L13,AS7)","v":0},{"$f":"AT7/(AV4-AT13)","v":0},{"$f":"IF(AU7=0,0,(AU7*((LOG(AU7))/LOG(2))))","v":0}]
[11,4964,21,4975,22,4978,null,null,null,null,0,122,null,112,0,0,0,null,null,112,{"$f":"COUNTIF(L7:L7,T8)","v":0},{"$f":"U8/(W4-U13)","v":0},0,null,112,{"$f":"COUNTIF(L8:L8,Y8)","v":0},{"$f":"Z8/(AB4-Z13)","v":0},0,null,112,{"$f":"COUNTIF(L9:L10,AD8)","v":0},{"$f":"AE8/(AG4-AE13)","v":0},0,null,112,{"$f":"COUNTIF(L11:L11,AI8)","v":0},{"$f":"AJ8/(AL4-AJ13)","v":0},0,null,112,{"$f":"COUNTIF(L12:L12,AN8)","v":0},{"$f":"AO8/(AQ4-AO13)","v":0},0,null,112,{"$f":"COUNTIF(L13:L13,AS8)","v":0},{"$f":"AT8/(AV4-AT13)","v":0},0]
[22,5148,23,5151,24,5160,null,null,null,null,0,222,null,121,2,0.2857142857142857,-0.51638712058788683,null,null,121,{"$f":"COUNTIF(L7:L7,T9)","v":0},{"$f":"U9/(W4-U13)","v":0},0,null,121,{"$f":"COUNTIF(L8:L8,Y9)","v":0},{"$f":"Z9/(AB4-Z13)","v":0},0,null,121,{"$f":"COUNTIF(L9:L10,AD9)","v":0},{"$f":"AE9/(AG4-AE13)","v":0},0,null,121,{"$f":"COUNTIF(L11:L11,AI9)","v":0},{"$f":"AJ9/(AL4-AJ13)","v":0},0,null,121,{"$f":"COUNTIF(L12:L12,AN9)","v":1},{"$f":"AO9/(AQ4-AO13)","v":1},0,null,121,{"$f":"COUNTIF(L13:L13,AS9)","v":1},{"$f":"AT9/(AV4-AT13)","v":1},0]
[22,8051,14,9517,24,9524,null,null,null,null,0,212,null,122,1,0.14285714285714285,-0.40105070315108626,null,null,122,{"$f":"COUNTIF(L7:L7,T10)","v":0},{"$f":"U10/(W4-U13)","v":0},0,null,122,{"$f":"COUNTIF(L8:L8,Y10)","v":1},{"$f":"Z10/(AB4-Z13)","v":1},0,null,122,{"$f":"COUNTIF(L9:L10,AD10)","v":0},{"$f":"AE10/(AG4-AE13)","v":0},0,null,122,{"$f":"COUNTIF(L11:L11,AI10)","v":0},{"$f":"AJ10/(AL4-AJ13)","v":0},0,null,122,{"$f":"COUNTIF(L12:L12,AN10)","v":0},{"$f":"AO10/(AQ4-AO13)","v":0},0,null,122,{"$f":"COUNTIF(L13:L13,AS10)","v":0},{"$f":"AT10/(AV4-AT13)","v":0},0]
[22,11387,14,11944,24,11949,null,null,null,null,0,212,null,211,0,0,0,null,null,211,{"$f":"COUNTIF(L7:L7,T11)","v":0},{"$f":"U11/(W4-U13)","v":0},0,null,211,{"$f":"COUNTIF(L8:L8,Y11)","v":0},{"$f":"Z11/(AB4-Z13)","v":0},0,null,211,{"$f":"COUNTIF(L9:L10,AD11)","v":0},{"$f":"AE11/(AG4-AE13)","v":0},0,null,211,{"$f":"COUNTIF(L11:L11,AI11)","v":0},{"$f":"AJ11/(AL4-AJ13)","v":0},0,null,211,{"$f":"COUNTIF(L12:L12,AN11)","v":0},{"$f":"AO11/(AQ4-AO13)","v":0},0,null,211,{"$f":"COUNTIF(L13:L13,AS11)","v":0},{"$f":"AT11/(AV4-AT13)","v":0},0]
[11,12731,21,12737,11,16613,null,null,null,null,0,121,null,212,2,0.2857142857142857,-0.51638712058788683,null,null,212,{"$f":"COUNTIF(L7:L7,T12)","v":0},{"$f":"U12/(W4-U13)","v":0},0,null,212,{"$f":"COUNTIF(L8:L8,Y12)","v":0},{"$f":"Z12/(AB4-Z13)","v":0},0,null,212,{"$f":"COUNTIF(L9:L10,AD12)","v":1},{"$f":"AE12/(AG4-AE13)","v":0.5},-0.5,null,212,{"$f":"COUNTIF(L11:L11,AI12)","v":1},{"$f":"AJ12/(AL4-AJ13)","v":1},0,null,212,{"$f":"COUNTIF(L12:L12,AN12)","v":0},{"$f":"AO12/(AQ4-AO13)","v":0},0,null,212,{"$f":"COUNTIF(L13:L13,AS12)","v":0},{"$f":"AT12/(AV4-AT13)","v":0},0]
[11,17977,21,17986,11,18094,null,null,null,null,0,121,null,221,0,0,0,null,null,221,{"$f":"COUNTIF(L7:L7,T13)","v":0},null,null,null,221,{"$f":"COUNTIF(L8:L8,Y13)","v":0},null,null,null,221,{"$f":"COUNTIF(L9:L10,AD13)","v":0},null,null,null,221,{"$f":"COUNTIF(L11:L11,AI13)","v":0},null,null,null,221,{"$f":"COUNTIF(L12:L12,AN13)","v":0},null,null,null,221,{"$f":"COUNTIF(L13:L13,AS13)","v":0}]
[null,null,null,null,null,null,null,null,null,null,null,null,null,222,2,0.2857142857142857,-0.51638712058788683,null,null,222,{"$f":"COUNTIF(L7:L7,T14)","v":1},{"$f":"U14/(W4-U13)","v":1},{"$f":"IF(V14=0,0,(V14*((LOG(V14))/LOG(2))))","v":0},null,222,{"$f":"COUNTIF(L8:L8,Y14)","v":0},{"$f":"Z14/(AB4-Z13)","v":0},{"$f":"IF(AA14=0,0,(AA14*((LOG(AA14))/LOG(2))))","v":0},null,222,{"$f":"COUNTIF(L9:L10,AD14)","v":1},{"$f":"AE14/(AG4-AE13)","v":0.5},{"$f":"IF(AF14=0,0,(AF14*((LOG(AF14))/LOG(2))))","v":-0.5},null,222,{"$f":"COUNTIF(L11:L11,AI14)","v":0},{"$f":"AJ14/(AL4-AJ13)","v":0},{"$f":"IF(AK14=0,0,(AK14*((LOG(AK14))/LOG(2))))","v":0},null,222,{"$f":"COUNTIF(L12:L12,AN14)","v":0},{"$f":"AO14/(AQ4-AO13)","v":0},{"$f":"IF(AP14=0,0,(AP14*((LOG(AP14))/LOG(2))))","v":0},null,222,{"$f":"COUNTIF(L13:L13,AS14)","v":0},{"$f":"AT14/(AV4-AT13)","v":0},{"$f":"IF(AU14=0,0,(AU14*((LOG(AU14))/LOG(2))))","v":0}]
[null,null,null,null,null,null,null,null,null,null,null,null,null,null,null,{"$f":"SUM(P7:P14)","v":0.99999999999999989},{"$f":"-SUM(Q7:Q14)","v":1.9502120649147465},null,null,null,null,{"$f":"SUM(V7:V14)","v":1},{"$f":"-SUM(W7:W14)","v":0},null,null,null,{"$f":"SUM(AA7:AA14)","v":1},{"$f":"-SUM(AB7:AB14)","v":0},null,null,null,{"$f":"SUM(AF7:AF14)","v":1},{"$f":"-SUM(AG7:AG14)","v":1},null,null,null,{"$f":"SUM(AK7:AK14)","v":1},{"$f":"-SUM(AL7:AL14)","v":0},null,null,null,{"$f":"SUM(AP7:AP14)","v":1},{"$f":"-SUM(AQ7:AQ14)","v":0},null,null,null,{"$f":"SUM(AU7:AU14)","v":1},{"$f":"-SUM(AV7:AV14)","v":0}]
[null,null,null,null,null,null,null,null,null,null,null,null,null,null,null,"U=",{"$f":"Q15/(LOG(Q4)/LOG(2))","v":0.69467955390740943},null,null,null,null,"U1=",{"$f":"W15/(LOG(W4)/LOG(2))","v":{"$error":"#DIV/0!"}},null,null,null,"U2=",{"$f":"AB15/(LOG(AB4)/LOG(2))","v":{"$error":"#DIV/0!"}},null,null,null,"U3=",{"$f":"AG15/(LOG(AG4)/LOG(2))","v":1},null,null,null,"U4=",{"$f":"AL15/(LOG(AL4)/LOG(2))","v":{"$error":"#DIV/0!"}},null,null,null,"U5=",{"$f":"AQ15/(LOG(AQ4)/LOG(2))","v":{"$error":"#DIV/0!"}},null,null,null,"U6=",{"$f":"AV15/(LOG(AV4)/LOG(2))","v":{"$error":"#DIV/0!"}}]
[]
[]
[null,null,null,null,null,null,null,null,null,null,null,null,null,"Total Target Seq"]
[null,null,null,null,null,null,null,null,null,null,null,null,null,{"$f":"COUNTIF(L7:L13,G3)","v":0},null,1,1,2,1,1,1]
[null,null,null,null,null,null,null,null,null,null,null,null,null,null,null,"% of reinforcement given in 6 equal intervals based on number of trials "]
[null,null,null,null,null,null,null,null,null,null,null,null,null,null,null,"%_1","%_2","%_3","%_4","%_5","%_6"]
[null,null,null,null,null,null,null,null,null,null,null,null,null,null,"target sequence",{"$f":"$G$3","v":221},221,221,221,221,221]
[null,null,null,null,null,null,null,null,null,null,null,null,null,null,"total reinforcement",{"$f":"U13","v":0},{"$f":"Z13","v":0},{"$f":"AE13","v":0},{"$f":"AJ13","v":0},{"$f":"AO13","v":0},{"$f":"AT13","v":0}]
[null,null,null,null,null,null,null,null,null,null,null,null,null,null,"% target"]
[null,null,null,null,null,null,null,null,null,null,null,null,null,null,"CCRF"]
[null,null,null,null,null,null,null,null,null,null,null,null,null,null,"% CCRf"]
[null,null,null,null,null,null,null,null,null,null,null,null,null,null,"average response rate",{"$f":"F7/P20","v":3474},{"$f":"(F8-F7)/Q20","v":1504},{"$f":"(F10-F8)/R20","v":2273},{"$f":"(F11-F10)/S20","v":2425},{"$f":"(F12-F11)/T20","v":4664},{"$f":"(F13-F12)/U20","v":1481}]

{"sheet":"!M919A3B.AXT","index":23,"n_rows":28,"n_cols":48,"rows_kept":28,"cut":false,"hidden":false,"merged":[[4,39,4,42],[5,39,5,40],[4,44,4,47],[5,44,5,45],[4,24,4,27],[5,24,5,25],[4,29,4,32],[5,29,5,30],[4,34,4,37],[5,34,5,35],[1,1,1,2],[5,13,5,14],[18,13,18,14],[19,13,19,14],[4,19,4,22],[5,19,5,20]]}
["Report for:!M919A3B.AXT"]
["Date:","<date>"]
["Hen:","<hen>",null,null,null,"Correct Sequence",{"$f":"Start!J2","v":221},null,null,null,null,null,null,null,null,"Total Sequences in Data",{"$f":"4994-COUNTBLANK(L7:L5000)","v":1},null,null,null,null,"Total Sequences in Block Data",{"$f":"COUNTA(L6:L7)","v":2},null,null,null,"Total Sequences in Block Data",{"$f":"COUNTA(L6:L7)","v":2},null,null,null,"Total Sequences in Block Data",{"$f":"COUNTA(L7:L7)","v":1},null,null,null,"Total Sequences in Block Data",{"$f":"COUNTA(L7:L8)","v":1},null,null,null,"Total Sequences in Block Data",{"$f":"COUNTA(L7:L8)","v":1},null,null,null,"Total Sequences in Block Data",{"$f":"COUNTA(L7:L8)","v":1}]
[null,null,null,null,null,null,null,null,null,null,null,null,null,null,null,"Total Sequences in Summary",{"$f":"SUM(O7:O14)","v":0},null,null,null,null,"Total Sequences in Block Summary",{"$f":"SUM(U7:U14)","v":0},null,null,null,"Total Sequences in Block Summary",{"$f":"SUM(Z7:Z14)","v":0},null,null,null,"Total Sequences in Block Summary",{"$f":"SUM(AE7:AE14)","v":0},null,null,null,"Total Sequences in Block Summary",{"$f":"SUM(AJ7:AJ14)","v":0},null,null,null,"Total Sequences in Block Summary",{"$f":"SUM(AO7:AO14)","v":0},null,null,null,"Total Sequences in Block Summary",{"$f":"SUM(AT7:AT14)","v":0}]
[null,null,null,null,null,null,null,null,null,null,null,null,null,null,null,null,null,null,null,"Block 1",null,null,null,null,"Block 2",null,null,null,null,"Block 3",null,null,null,null,"Block 4",null,null,null,null,"Block 5",null,null,null,null,"Block 6"]
["Sequence\nComponent\n1","Time\n1","Sequence\nComponent\n2","Time\n2","Sequence\nComponent\n3","Time\n3","Sequence\nComponent\n4","Time\n4","Sequence\nComponent\n5","Time\n5","Correct?\n0=No 1=Yes","Sequence",null,"Frequency",null,"Relative Frequency","Variability",null,null,"Frequency",null,"Relative Frequency","Variability",null,"Frequency",null,"Relative Frequency","Variability",null,"Frequency",null,"Relative Frequency","Variability",null,"Frequency",null,"Relative Frequency","Variability",null,"Frequency",null,"Relative Frequency","Variability",null,"Frequency",null,"Relative Frequency","Variability"]
[22,22387,null,null,null,null,null,null,null,null,null,2,null,111,{"$f":"COUNTIF($L$7:$L$500,N7)","v":0},{"$f":"O7/$Q$4","v":{"$error":"#DIV/0!"}},{"$f":"IF(P7=0,0,(P7*((LOG(P7))/LOG(2))))","v":{"$error":"#DIV/0!"}},null,null,{"$f":"N7","v":111},{"$f":"COUNTIF(L6:L7,T7)","v":0},{"$f":"U7/(W4-U13)","v":{"$error":"#DIV/0!"}},{"$f":"IF(V7=0,0,(V7*((LOG(V7))/LOG(2))))","v":{"$error":"#DIV/0!"}},null,{"$f":"N7","v":111},{"$f":"COUNTIF(L6:L7,Y7)","v":0},{"$f":"Z7/(AB4-Z13)","v":{"$error":"#DIV/0!"}},{"$f":"IF(AA7=0,0,(AA7*((LOG(AA7))/LOG(2))))","v":{"$error":"#DIV/0!"}},null,{"$f":"N7","v":111},{"$f":"COUNTIF(L7:L7,AD7)","v":0},{"$f":"AE7/(AG4-AE13)","v":{"$error":"#DIV/0!"}},{"$f":"IF(AF7=0,0,(AF7*((LOG(AF7))/LOG(2))))","v":{"$error":"#DIV/0!"}},null,{"$f":"N7","v":111},{"$f":"COUNTIF(L7:L8,AI7)","v":0},{"$f":"AJ7/(AL4-AJ13)","v":{"$error":"#DIV/0!"}},{"$f":"IF(AK7=0,0,(AK7*((LOG(AK7))/LOG(2))))","v":{"$error":"#DIV/0!"}},null,{"$f":"N7","v":111},{"$f":"COUNTIF(L7:L8,AN7)","v":0},{"$f":"AO7/(AQ4-AO13)","v":{"$error":"#DIV/0!"}},{"$f":"IF(AP7=0,0,(AP7*((LOG(AP7))/LOG(2))))","v":{"$error":"#DIV/0!"}},null,{"$f":"N7","v":111},{"$f":"COUNTIF(L7:L8,AS7)","v":0},{"$f":"AT7/(AV4-AT13)","v":{"$error":"#DIV/0!"}},{"$f":"IF(AU7=0,0,(AU7*((LOG(AU7))/LOG(2))))","v":{"$error":"#DIV/0!"}}]
[null,null,null,null,null,null,null,null,null,null,null,null,null,112,0,{"$error":"#DIV/0!"},{"$error":"#DIV/0!"},null,null,112,{"$f":"COUNTIF(L6:L7,T8)","v":0},{"$f":"U8/(W4-U13)","v":{"$error":"#DIV/0!"}},{"$error":"#DIV/0!"},null,112,{"$f":"COUNTIF(L6:L7,Y8)","v":0},{"$f":"Z8/(AB4-Z13)","v":{"$error":"#DIV/0!"}},{"$error":"#DIV/0!"},null,112,{"$f":"COUNTIF(L7:L7,AD8)","v":0},{"$f":"AE8/(AG4-AE13)","v":{"$error":"#DIV/0!"}},{"$error":"#DIV/0!"},null,112,{"$f":"COUNTIF(L7:L8,AI8)","v":0},{"$f":"AJ8/(AL4-AJ13)","v":{"$error":"#DIV/0!"}},{"$error":"#DIV/0!"},null,112,{"$f":"COUNTIF(L7:L8,AN8)","v":0},{"$f":"AO8/(AQ4-AO13)","v":{"$error":"#DIV/0!"}},{"$error":"#DIV/0!"},null,112,{"$f":"COUNTIF(L7:L8,AS8)","v":0},{"$f":"AT8/(AV4-AT13)","v":{"$error":"#DIV/0!"}},{"$error":"#DIV/0!"}]
[null,null,null,null,null,null,null,null,null,null,null,null,null,121,0,{"$error":"#DIV/0!"},{"$error":"#DIV/0!"},null,null,121,{"$f":"COUNTIF(L6:L7,T9)","v":0},{"$f":"U9/(W4-U13)","v":{"$error":"#DIV/0!"}},{"$error":"#DIV/0!"},null,121,{"$f":"COUNTIF(L6:L7,Y9)","v":0},{"$f":"Z9/(AB4-Z13)","v":{"$error":"#DIV/0!"}},{"$error":"#DIV/0!"},null,121,{"$f":"COUNTIF(L7:L7,AD9)","v":0},{"$f":"AE9/(AG4-AE13)","v":{"$error":"#DIV/0!"}},{"$error":"#DIV/0!"},null,121,{"$f":"COUNTIF(L7:L8,AI9)","v":0},{"$f":"AJ9/(AL4-AJ13)","v":{"$error":"#DIV/0!"}},{"$error":"#DIV/0!"},null,121,{"$f":"COUNTIF(L7:L8,AN9)","v":0},{"$f":"AO9/(AQ4-AO13)","v":{"$error":"#DIV/0!"}},{"$error":"#DIV/0!"},null,121,{"$f":"COUNTIF(L7:L8,AS9)","v":0},{"$f":"AT9/(AV4-AT13)","v":{"$error":"#DIV/0!"}},{"$error":"#DIV/0!"}]
[null,null,null,null,null,null,null,null,null,null,null,null,null,122,0,{"$error":"#DIV/0!"},{"$error":"#DIV/0!"},null,null,122,{"$f":"COUNTIF(L6:L7,T10)","v":0},{"$f":"U10/(W4-U13)","v":{"$error":"#DIV/0!"}},{"$error":"#DIV/0!"},null,122,{"$f":"COUNTIF(L6:L7,Y10)","v":0},{"$f":"Z10/(AB4-Z13)","v":{"$error":"#DIV/0!"}},{"$error":"#DIV/0!"},null,122,{"$f":"COUNTIF(L7:L7,AD10)","v":0},{"$f":"AE10/(AG4-AE13)","v":{"$error":"#DIV/0!"}},{"$error":"#DIV/0!"},null,122,{"$f":"COUNTIF(L7:L8,AI10)","v":0},{"$f":"AJ10/(AL4-AJ13)","v":{"$error":"#DIV/0!"}},{"$error":"#DIV/0!"},null,122,{"$f":"COUNTIF(L7:L8,AN10)","v":0},{"$f":"AO10/(AQ4-AO13)","v":{"$error":"#DIV/0!"}},{"$error":"#DIV/0!"},null,122,{"$f":"COUNTIF(L7:L8,AS10)","v":0},{"$f":"AT10/(AV4-AT13)","v":{"$error":"#DIV/0!"}},{"$error":"#DIV/0!"}]
[null,null,null,null,null,null,null,null,null,null,null,null,null,211,0,{"$error":"#DIV/0!"},{"$error":"#DIV/0!"},null,null,211,{"$f":"COUNTIF(L6:L7,T11)","v":0},{"$f":"U11/(W4-U13)","v":{"$error":"#DIV/0!"}},{"$error":"#DIV/0!"},null,211,{"$f":"COUNTIF(L6:L7,Y11)","v":0},{"$f":"Z11/(AB4-Z13)","v":{"$error":"#DIV/0!"}},{"$error":"#DIV/0!"},null,211,{"$f":"COUNTIF(L7:L7,AD11)","v":0},{"$f":"AE11/(AG4-AE13)","v":{"$error":"#DIV/0!"}},{"$error":"#DIV/0!"},null,211,{"$f":"COUNTIF(L7:L8,AI11)","v":0},{"$f":"AJ11/(AL4-AJ13)","v":{"$error":"#DIV/0!"}},{"$error":"#DIV/0!"},null,211,{"$f":"COUNTIF(L7:L8,AN11)","v":0},{"$f":"AO11/(AQ4-AO13)","v":{"$error":"#DIV/0!"}},{"$error":"#DIV/0!"},null,211,{"$f":"COUNTIF(L7:L8,AS11)","v":0},{"$f":"AT11/(AV4-AT13)","v":{"$error":"#DIV/0!"}},{"$error":"#DIV/0!"}]
[null,null,null,null,null,null,null,null,null,null,null,null,null,212,0,{"$error":"#DIV/0!"},{"$error":"#DIV/0!"},null,null,212,{"$f":"COUNTIF(L6:L7,T12)","v":0},{"$f":"U12/(W4-U13)","v":{"$error":"#DIV/0!"}},{"$error":"#DIV/0!"},null,212,{"$f":"COUNTIF(L6:L7,Y12)","v":0},{"$f":"Z12/(AB4-Z13)","v":{"$error":"#DIV/0!"}},{"$error":"#DIV/0!"},null,212,{"$f":"COUNTIF(L7:L7,AD12)","v":0},{"$f":"AE12/(AG4-AE13)","v":{"$error":"#DIV/0!"}},{"$error":"#DIV/0!"},null,212,{"$f":"COUNTIF(L7:L8,AI12)","v":0},{"$f":"AJ12/(AL4-AJ13)","v":{"$error":"#DIV/0!"}},{"$error":"#DIV/0!"},null,212,{"$f":"COUNTIF(L7:L8,AN12)","v":0},{"$f":"AO12/(AQ4-AO13)","v":{"$error":"#DIV/0!"}},{"$error":"#DIV/0!"},null,212,{"$f":"COUNTIF(L7:L8,AS12)","v":0},{"$f":"AT12/(AV4-AT13)","v":{"$error":"#DIV/0!"}},{"$error":"#DIV/0!"}]
[null,null,null,null,null,null,null,null,null,null,null,null,null,221,0,{"$error":"#DIV/0!"},{"$error":"#DIV/0!"},null,null,221,{"$f":"COUNTIF(L6:L7,T13)","v":0},null,null,null,221,{"$f":"COUNTIF(L6:L7,Y13)","v":0},null,null,null,221,{"$f":"COUNTIF(L7:L7,AD13)","v":0},null,null,null,221,{"$f":"COUNTIF(L7:L8,AI13)","v":0},null,null,null,221,{"$f":"COUNTIF(L7:L8,AN13)","v":0},null,null,null,221,{"$f":"COUNTIF(L7:L8,AS13)","v":0}]
[null,null,null,null,null,null,null,null,null,null,null,null,null,222,0,{"$error":"#DIV/0!"},{"$error":"#DIV/0!"},null,null,222,{"$f":"COUNTIF(L6:L7,T14)","v":0},{"$f":"U14/(W4-U13)","v":{"$error":"#DIV/0!"}},{"$f":"IF(V14=0,0,(V14*((LOG(V14))/LOG(2))))","v":{"$error":"#DIV/0!"}},null,222,{"$f":"COUNTIF(L6:L7,Y14)","v":0},{"$f":"Z14/(AB4-Z13)","v":{"$error":"#DIV/0!"}},{"$f":"IF(AA14=0,0,(AA14*((LOG(AA14))/LOG(2))))","v":{"$error":"#DIV/0!"}},null,222,{"$f":"COUNTIF(L7:L7,AD14)","v":0},{"$f":"AE14/(AG4-AE13)","v":{"$error":"#DIV/0!"}},{"$f":"IF(AF14=0,0,(AF14*((LOG(AF14))/LOG(2))))","v":{"$error":"#DIV/0!"}},null,222,{"$f":"COUNTIF(L7:L8,AI14)","v":0},{"$f":"AJ14/(AL4-AJ13)","v":{"$error":"#DIV/0!"}},{"$f":"IF(AK14=0,0,(AK14*((LOG(AK14))/LOG(2))))","v":{"$error":"#DIV/0!"}},null,222,{"$f":"COUNTIF(L7:L8,AN14)","v":0},{"$f":"AO14/(AQ4-AO13)","v":{"$error":"#DIV/0!"}},{"$f":"IF(AP14=0,0,(AP14*((LOG(AP14))/LOG(2))))","v":{"$error":"#DIV/0!"}},null,222,{"$f":"COUNTIF(L7:L8,AS14)","v":0},{"$f":"AT14/(AV4-AT13)","v":{"$error":"#DIV/0!"}},{"$f":"IF(AU14=0,0,(AU14*((LOG(AU14))/LOG(2))))","v":{"$error":"#DIV/0!"}}]
[null,null,null,null,null,null,null,null,null,null,null,null,null,null,null,{"$f":"SUM(P7:P14)","v":{"$error":"#DIV/0!"}},{"$f":"-SUM(Q7:Q14)","v":{"$error":"#DIV/0!"}},null,null,null,null,{"$f":"SUM(V7:V14)","v":{"$error":"#DIV/0!"}},{"$f":"-SUM(W7:W14)","v":{"$error":"#DIV/0!"}},null,null,null,{"$f":"SUM(AA7:AA14)","v":{"$error":"#DIV/0!"}},{"$f":"-SUM(AB7:AB14)","v":{"$error":"#DIV/0!"}},null,null,null,{"$f":"SUM(AF7:AF14)","v":{"$error":"#DIV/0!"}},{"$f":"-SUM(AG7:AG14)","v":{"$error":"#DIV/0!"}},null,null,null,{"$f":"SUM(AK7:AK14)","v":{"$error":"#DIV/0!"}},{"$f":"-SUM(AL7:AL14)","v":{"$error":"#DIV/0!"}},null,null,null,{"$f":"SUM(AP7:AP14)","v":{"$error":"#DIV/0!"}},{"$f":"-SUM(AQ7:AQ14)","v":{"$error":"#DIV/0!"}},null,null,null,{"$f":"SUM(AU7:AU14)","v":{"$error":"#DIV/0!"}},{"$f":"-SUM(AV7:AV14)","v":{"$error":"#DIV/0!"}}]
[null,null,null,null,null,null,null,null,null,null,null,null,null,null,null,"U=",{"$f":"Q15/(LOG(Q4)/LOG(2))","v":{"$error":"#DIV/0!"}},null,null,null,null,"U1=",{"$f":"W15/(LOG(W4)/LOG(2))","v":{"$error":"#DIV/0!"}},null,null,null,"U2=",{"$f":"AB15/(LOG(AB4)/LOG(2))","v":{"$error":"#DIV/0!"}},null,null,null,"U3=",{"$f":"AG15/(LOG(AG4)/LOG(2))","v":{"$error":"#DIV/0!"}},null,null,null,"U4=",{"$f":"AL15/(LOG(AL4)/LOG(2))","v":{"$error":"#DIV/0!"}},null,null,null,"U5=",{"$f":"AQ15/(LOG(AQ4)/LOG(2))","v":{"$error":"#DIV/0!"}},null,null,null,"U6=",{"$f":"AV15/(LOG(AV4)/LOG(2))","v":{"$error":"#DIV/0!"}}]
[]
[]
[null,null,null,null,null,null,null,null,null,null,null,null,null,"Total Target Seq"]
[null,null,null,null,null,null,null,null,null,null,null,null,null,{"$f":"COUNTIF(L7:L7,G3)","v":0},null,0,0,1,0,0,0]
[null,null,null,null,null,null,null,null,null,null,null,null,null,null,null,"% of reinforcement given in 6 equal intervals based on number of trials "]
[null,null,null,null,null,null,null,null,null,null,null,null,null,null,null,"%_1","%_2","%_3","%_4","%_5","%_6"]
[null,null,null,null,null,null,null,null,null,null,null,null,null,null,"target sequence",{"$f":"$G$3","v":221},221,221,221,221,221]
[null,null,null,null,null,null,null,null,null,null,null,null,null,null,"total reinforcement",{"$f":"U13","v":0},{"$f":"Z13","v":0},{"$f":"AE13","v":0},{"$f":"AJ13","v":0},{"$f":"AO13","v":0},{"$f":"AT13","v":0}]
[null,null,null,null,null,null,null,null,null,null,null,null,null,null,"% target"]
[null,null,null,null,null,null,null,null,null,null,null,null,null,null,"CCRF"]
[null,null,null,null,null,null,null,null,null,null,null,null,null,null,"% CCRf"]
[null,null,null,null,null,null,null,null,null,null,null,null,null,null,"average response rate",{"$f":"F6/P20","v":{"$error":"#VALUE!"}},{"$f":"(F6-F6)/Q20","v":{"$error":"#VALUE!"}},{"$f":"(F7-F6)/R20","v":{"$error":"#VALUE!"}},{"$f":"(F7-F7)/S20","v":{"$error":"#DIV/0!"}},{"$f":"(F7-F7)/T20","v":{"$error":"#DIV/0!"}},{"$f":"(F7-F7)/U20","v":{"$error":"#DIV/0!"}}]

{"sheet":"!M92095B.AXT","index":24,"n_rows":28,"n_cols":48,"rows_kept":28,"cut":false,"hidden":false,"merged":[[4,39,4,42],[5,39,5,40],[4,44,4,47],[5,44,5,45],[4,24,4,27],[5,24,5,25],[4,29,4,32],[5,29,5,30],[4,34,4,37],[5,34,5,35],[1,1,1,2],[5,13,5,14],[18,13,18,14],[19,13,19,14],[4,19,4,22],[5,19,5,20]]}
["Report for:!M92095B.AXT"]
["Date:","<date>"]
["Hen:","<hen>",null,null,null,"Correct Sequence",{"$f":"Start!J2","v":221},null,null,null,null,null,null,null,null,"Total Sequences in Data",{"$f":"4994-COUNTBLANK(L7:L5000)","v":3},null,null,null,null,"Total Sequences in Block Data",{"$f":"COUNTA(L7:L7)","v":1},null,null,null,"Total Sequences in Block Data",{"$f":"COUNTA(L7:L8)","v":2},null,null,null,"Total Sequences in Block Data",{"$f":"COUNTA(L8:L8)","v":1},null,null,null,"Total Sequences in Block Data",{"$f":"COUNTA(L8:L9)","v":2},null,null,null,"Total Sequences in Block Data",{"$f":"COUNTA(L9:L9)","v":1},null,null,null,"Total Sequences in Block Data",{"$f":"COUNTA(L9:L10)","v":1}]
[null,null,null,null,null,null,null,null,null,null,null,null,null,null,null,"Total Sequences in Summary",{"$f":"SUM(O7:O14)","v":3},null,null,null,null,"Total Sequences in Block Summary",{"$f":"SUM(U7:U14)","v":1},null,null,null,"Total Sequences in Block Summary",{"$f":"SUM(Z7:Z14)","v":2},null,null,null,"Total Sequences in Block Summary",{"$f":"SUM(AE7:AE14)","v":1},null,null,null,"Total Sequences in Block Summary",{"$f":"SUM(AJ7:AJ14)","v":2},null,null,null,"Total Sequences in Block Summary",{"$f":"SUM(AO7:AO14)","v":1},null,null,null,"Total Sequences in Block Summary",{"$f":"SUM(AT7:AT14)","v":1}]
[null,null,null,null,null,null,null,null,null,null,null,null,null,null,null,null,null,null,null,"Block 1",null,null,null,null,"Block 2",null,null,null,null,"Block 3",null,null,null,null,"Block 4",null,null,null,null,"Block 5",null,null,null,null,"Block 6"]
["Sequence\nComponent\n1","Time\n1","Sequence\nComponent\n2","Time\n2","Sequence\nComponent\n3","Time\n3","Sequence\nComponent\n4","Time\n4","Sequence\nComponent\n5","Time\n5","Correct?\n0=No 1=Yes","Sequence",null,"Frequency",null,"Relative Frequency","Variability",null,null,"Frequency",null,"Relative Frequency","Variability",null,"Frequency",null,"Relative Frequency","Variability",null,"Frequency",null,"Relative Frequency","Variability",null,"Frequency",null,"Relative Frequency","Variability",null,"Frequency",null,"Relative Frequency","Variability",null,"Frequency",null,"Relative Frequency","Variability"]
[22,6,23,15,24,25,null,null,null,null,0,222,null,111,{"$f":"COUNTIF($L$7:$L$500,N7)","v":0},{"$f":"O7/$Q$4","v":0},{"$f":"IF(P7=0,0,(P7*((LOG(P7))/LOG(2))))","v":0},null,null,{"$f":"N7","v":111},{"$f":"COUNTIF(L7:L7,T7)","v":0},{"$f":"U7/(W4-U13)","v":0},{"$f":"IF(V7=0,0,(V7*((LOG(V7))/LOG(2))))","v":0},null,{"$f":"N7","v":111},{"$f":"COUNTIF(L7:L8,Y7)","v":0},{"$f":"Z7/(AB4-Z13)","v":0},{"$f":"IF(AA7=0,0,(AA7*((LOG(AA7))/LOG(2))))","v":0},null,{"$f":"N7","v":111},{"$f":"COUNTIF(L8:L8,AD7)","v":0},{"$f":"AE7/(AG4-AE13)","v":0},{"$f":"IF(AF7=0,0,(AF7*((LOG(AF7))/LOG(2))))","v":0},null,{"$f":"N7","v":111},{"$f":"COUNTIF(L8:L9,AI7)","v":0},{"$f":"AJ7/(AL4-AJ13)","v":0},{"$f":"IF(AK7=0,0,(AK7*((LOG(AK7))/LOG(2))))","v":0},null,{"$f":"N7","v":111},{"$f":"COUNTIF(L9:L9,AN7)","v":0},{"$f":"AO7/(AQ4-AO13)","v":0},{"$f":"IF(AP7=0,0,(AP7*((LOG(AP7))/LOG(2))))","v":0},null,{"$f":"N7","v":111},{"$f":"COUNTIF(L9:L10,AS7)","v":0},{"$f":"AT7/(AV4-AT13)","v":0},{"$f":"IF(AU7=0,0,(AU7*((LOG(AU7))/LOG(2))))","v":0}]
[22,125,23,134,24,149,null,null,null,null,0,222,null,112,0,0,0,null,null,112,{"$f":"COUNTIF(L7:L7,T8)","v":0},{"$f":"U8/(W4-U13)","v":0},0,null,112,{"$f":"COUNTIF(L7:L8,Y8)","v":0},{"$f":"Z8/(AB4-Z13)","v":0},0,null,112,{"$f":"COUNTIF(L8:L8,AD8)","v":0},{"$f":"AE8/(AG4-AE13)","v":0},0,null,112,{"$f":"COUNTIF(L8:L9,AI8)","v":0},{"$f":"AJ8/(AL4-AJ13)","v":0},0,null,112,{"$f":"COUNTIF(L9:L9,AN8)","v":0},{"$f":"AO8/(AQ4-AO13)","v":0},0,null,112,{"$f":"COUNTIF(L9:L10,AS8)","v":0},{"$f":"AT8/(AV4-AT13)","v":0},0]
[11,5515,21,5537,22,5548,null,null,null,null,0,122,null,121,0,0,0,null,null,121,{"$f":"COUNTIF(L7:L7,T9)","v":0},{"$f":"U9/(W4-U13)","v":0},0,null,121,{"$f":"COUNTIF(L7:L8,Y9)","v":0},{"$f":"Z9/(AB4-Z13)","v":0},0,null,121,{"$f":"COUNTIF(L8:L8,AD9)","v":0},{"$f":"AE9/(AG4-AE13)","v":0},0,null,121,{"$f":"COUNTIF(L8:L9,AI9)","v":0},{"$f":"AJ9/(AL4-AJ13)","v":0},0,null,121,{"$f":"COUNTIF(L9:L9,AN9)","v":0},{"$f":"AO9/(AQ4-AO13)","v":0},0,null,121,{"$f":"COUNTIF(L9:L10,AS9)","v":0},{"$f":"AT9/(AV4-AT13)","v":0},0]
[null,null,null,null,null,null,null,null,null,null,null,null,null,122,1,0.33333333333333331,-0.52832083357371862,null,null,122,{"$f":"COUNTIF(L7:L7,T10)","v":0},{"$f":"U10/(W4-U13)","v":0},0,null,122,{"$f":"COUNTIF(L7:L8,Y10)","v":0},{"$f":"Z10/(AB4-Z13)","v":0},0,null,122,{"$f":"COUNTIF(L8:L8,AD10)","v":0},{"$f":"AE10/(AG4-AE13)","v":0},0,null,122,{"$f":"COUNTIF(L8:L9,AI10)","v":1},{"$f":"AJ10/(AL4-AJ13)","v":0.5},-0.5,null,122,{"$f":"COUNTIF(L9:L9,AN10)","v":1},{"$f":"AO10/(AQ4-AO13)","v":1},0,null,122,{"$f":"COUNTIF(L9:L10,AS10)","v":1},{"$f":"AT10/(AV4-AT13)","v":1},0]
[null,null,null,null,null,null,null,null,null,null,null,null,null,211,0,0,0,null,null,211,{"$f":"COUNTIF(L7:L7,T11)","v":0},{"$f":"U11/(W4-U13)","v":0},0,null,211,{"$f":"COUNTIF(L7:L8,Y11)","v":0},{"$f":"Z11/(AB4-Z13)","v":0},0,null,211,{"$f":"COUNTIF(L8:L8,AD11)","v":0},{"$f":"AE11/(AG4-AE13)","v":0},0,null,211,{"$f":"COUNTIF(L8:L9,AI11)","v":0},{"$f":"AJ11/(AL4-AJ13)","v":0},0,null,211,{"$f":"COUNTIF(L9:L9,AN11)","v":0},{"$f":"AO11/(AQ4-AO13)","v":0},0,null,211,{"$f":"COUNTIF(L9:L10,AS11)","v":0},{"$f":"AT11/(AV4-AT13)","v":0},0]
[null,null,null,null,null,null,null,null,null,null,null,null,null,212,0,0,0,null,null,212,{"$f":"COUNTIF(L7:L7,T12)","v":0},{"$f":"U12/(W4-U13)","v":0},0,null,212,{"$f":"COUNTIF(L7:L8,Y12)","v":0},{"$f":"Z12/(AB4-Z13)","v":0},0,null,212,{"$f":"COUNTIF(L8:L8,AD12)","v":0},{"$f":"AE12/(AG4-AE13)","v":0},0,null,212,{"$f":"COUNTIF(L8:L9,AI12)","v":0},{"$f":"AJ12/(AL4-AJ13)","v":0},0,null,212,{"$f":"COUNTIF(L9:L9,AN12)","v":0},{"$f":"AO12/(AQ4-AO13)","v":0},0,null,212,{"$f":"COUNTIF(L9:L10,AS12)","v":0},{"$f":"AT12/(AV4-AT13)","v":0},0]
[null,null,null,null,null,null,null,null,null,null,null,null,null,221,0,0,0,null,null,221,{"$f":"COUNTIF(L7:L7,T13)","v":0},null,null,null,221,{"$f":"COUNTIF(L7:L8,Y13)","v":0},null,null,null,221,{"$f":"COUNTIF(L8:L8,AD13)","v":0},null,null,null,221,{"$f":"COUNTIF(L8:L9,AI13)","v":0},null,null,null,221,{"$f":"COUNTIF(L9:L9,AN13)","v":0},null,null,null,221,{"$f":"COUNTIF(L9:L10,AS13)","v":0}]
[null,null,null,null,null,null,null,null,null,null,null,null,null,222,2,0.66666666666666663,-0.38997500048077083,null,null,222,{"$f":"COUNTIF(L7:L7,T14)","v":1},{"$f":"U14/(W4-U13)","v":1},{"$f":"IF(V14=0,0,(V14*((LOG(V14))/LOG(2))))","v":0},null,222,{"$f":"COUNTIF(L7:L8,Y14)","v":2},{"$f":"Z14/(AB4-Z13)","v":1},{"$f":"IF(AA14=0,0,(AA14*((LOG(AA14))/LOG(2))))","v":0},null,222,{"$f":"COUNTIF(L8:L8,AD14)","v":1},{"$f":"AE14/(AG4-AE13)","v":1},{"$f":"IF(AF14=0,0,(AF14*((LOG(AF14))/LOG(2))))","v":0},null,222,{"$f":"COUNTIF(L8:L9,AI14)","v":1},{"$f":"AJ14/(AL4-AJ13)","v":0.5},{"$f":"IF(AK14=0,0,(AK14*((LOG(AK14))/LOG(2))))","v":-0.5},null,222,{"$f":"COUNTIF(L9:L9,AN14)","v":0},{"$f":"AO14/(AQ4-AO13)","v":0},{"$f":"IF(AP14=0,0,(AP14*((LOG(AP14))/LOG(2))))","v":0},null,222,{"$f":"COUNTIF(L9:L10,AS14)","v":0},{"$f":"AT14/(AV4-AT13)","v":0},{"$f":"IF(AU14=0,0,(AU14*((LOG(AU14))/LOG(2))))","v":0}]
[null,null,null,null,null,null,null,null,null,null,null,null,null,null,null,{"$f":"SUM(P7:P14)","v":1},{"$f":"-SUM(Q7:Q14)","v":0.91829583405448945},null,null,null,null,{"$f":"SUM(V7:V14)","v":1},{"$f":"-SUM(W7:W14)","v":0},null,null,null,{"$f":"SUM(AA7:AA14)","v":1},{"$f":"-SUM(AB7:AB14)","v":0},null,null,null,{"$f":"SUM(AF7:AF14)","v":1},{"$f":"-SUM(AG7:AG14)","v":0},null,null,null,{"$f":"SUM(AK7:AK14)","v":1},{"$f":"-SUM(AL7:AL14)","v":1},null,null,null,{"$f":"SUM(AP7:AP14)","v":1},{"$f":"-SUM(AQ7:AQ14)","v":0},null,null,null,{"$f":"SUM(AU7:AU14)","v":1},{"$f":"-SUM(AV7:AV14)","v":0}]
[null,null,null,null,null,null,null,null,null,null,null,null,null,null,null,"U=",{"$f":"Q15/(LOG(Q4)/LOG(2))","v":0.57938016428569505},null,null,null,null,"U1=",{"$f":"W15/(LOG(W4)/LOG(2))","v":{"$error":"#DIV/0!"}},null,null,null,"U2=",{"$f":"AB15/(LOG(AB4)/LOG(2))","v":0},null,null,null,"U3=",{"$f":"AG15/(LOG(AG4)/LOG(2))","v":{"$error":"#DIV/0!"}},null,null,null,"U4=",{"$f":"AL15/(LOG(AL4)/LOG(2))","v":1},null,null,null,"U5=",{"$f":"AQ15/(LOG(AQ4)/LOG(2))","v":{"$error":"#DIV/0!"}},null,null,null,"U6=",{"$f":"AV15/(LOG(AV4)/LOG(2))","v":{"$error":"#DIV/0!"}}]
[]
[]
[null,null,null,null,null,null,null,null,null,null,null,null,null,"Total Target Seq"]
[null,null,null,null,null,null,null,null,null,null,null,null,null,{"$f":"COUNTIF(L7:L9,G3)","v":0},null,1,0,1,0,1,0]
[null,null,null,null,null,null,null,null,null,null,null,null,null,null,null,"% of reinforcement given in 6 equal intervals based on number of trials "]
[null,null,null,null,null,null,null,null,null,null,null,null,null,null,null,"%_1","%_2","%_3","%_4","%_5","%_6"]
[null,null,null,null,null,null,null,null,null,null,null,null,null,null,"target sequence",{"$f":"$G$3","v":221},221,221,221,221,221]
[null,null,null,null,null,null,null,null,null,null,null,null,null,null,"total reinforcement",{"$f":"U13","v":0},{"$f":"Z13","v":0},{"$f":"AE13","v":0},{"$f":"AJ13","v":0},{"$f":"AO13","v":0},{"$f":"AT13","v":0}]
[null,null,null,null,null,null,null,null,null,null,null,null,null,null,"% target"]
[null,null,null,null,null,null,null,null,null,null,null,null,null,null,"CCRF"]
[null,null,null,null,null,null,null,null,null,null,null,null,null,null,"% CCRf"]
[null,null,null,null,null,null,null,null,null,null,null,null,null,null,"average response rate",{"$f":"F7/P20","v":25},{"$f":"(F7-F7)/Q20","v":{"$error":"#DIV/0!"}},{"$f":"(F8-F7)/R20","v":124},{"$f":"(F8-F8)/S20","v":{"$error":"#DIV/0!"}},{"$f":"(F9-F8)/T20","v":5399},{"$f":"(F9-F9)/U20","v":{"$error":"#DIV/0!"}}]

{"sheet":"!M92190B.AXT","index":25,"n_rows":28,"n_cols":48,"rows_kept":28,"cut":false,"hidden":false,"merged":[[4,39,4,42],[5,39,5,40],[4,44,4,47],[5,44,5,45],[4,24,4,27],[5,24,5,25],[4,29,4,32],[5,29,5,30],[4,34,4,37],[5,34,5,35],[1,1,1,2],[5,13,5,14],[18,13,18,14],[19,13,19,14],[4,19,4,22],[5,19,5,20]]}
["Report for:!M92190B.AXT"]
["Date:","<date>"]
["Hen:","<hen>",null,null,null,"Correct Sequence",{"$f":"Start!J2","v":221},null,null,null,null,null,null,null,null,"Total Sequences in Data",{"$f":"4994-COUNTBLANK(L7:L5000)","v":2},null,null,null,null,"Total Sequences in Block Data",{"$f":"COUNTA(L6:L7)","v":2},null,null,null,"Total Sequences in Block Data",{"$f":"COUNTA(L7:L7)","v":1},null,null,null,"Total Sequences in Block Data",{"$f":"COUNTA(L7:L8)","v":2},null,null,null,"Total Sequences in Block Data",{"$f":"COUNTA(L7:L8)","v":2},null,null,null,"Total Sequences in Block Data",{"$f":"COUNTA(L8:L8)","v":1},null,null,null,"Total Sequences in Block Data",{"$f":"COUNTA(L8:L9)","v":1}]
[null,null,null,null,null,null,null,null,null,null,null,null,null,null,null,"Total Sequences in Summary",{"$f":"SUM(O7:O14)","v":1},null,null,null,null,"Total Sequences in Block Summary",{"$f":"SUM(U7:U14)","v":1},null,null,null,"Total Sequences in Block Summary",{"$f":"SUM(Z7:Z14)","v":1},null,null,null,"Total Sequences in Block Summary",{"$f":"SUM(AE7:AE14)","v":1},null,null,null,"Total Sequences in Block Summary",{"$f":"SUM(AJ7:AJ14)","v":1},null,null,null,"Total Sequences in Block Summary",{"$f":"SUM(AO7:AO14)","v":0},null,null,null,"Total Sequences in Block Summary",{"$f":"SUM(AT7:AT14)","v":0}]
[null,null,null,null,null,null,null,null,null,null,null,null,null,null,null,null,null,null,null,"Block 1",null,null,null,null,"Block 2",null,null,null,null,"Block 3",null,null,null,null,"Block 4",null,null,null,null,"Block 5",null,null,null,null,"Block 6"]
["Sequence\nComponent\n1","Time\n1","Sequence\nComponent\n2","Time\n2","Sequence\nComponent\n3","Time\n3","Sequence\nComponent\n4","Time\n4","Sequence\nComponent\n5","Time\n5","Correct?\n0=No 1=Yes","Sequence",null,"Frequency",null,"Relative Frequency","Variability",null,null,"Frequency",null,"Relative Frequency","Variability",null,"Frequency",null,"Relative Frequency","Variability",null,"Frequency",null,"Relative Frequency","Variability",null,"Frequency",null,"Relative Frequency","Variability",null,"Frequency",null,"Relative Frequency","Variability",null,"Frequency",null,"Relative Frequency","Variability"]
[22,477,23,480,24,2892,null,null,null,null,0,222,null,111,{"$f":"COUNTIF($L$7:$L$500,N7)","v":0},{"$f":"O7/$Q$4","v":0},{"$f":"IF(P7=0,0,(P7*((LOG(P7))/LOG(2))))","v":0},null,null,{"$f":"N7","v":111},{"$f":"COUNTIF(L6:L7,T7)","v":0},{"$f":"U7/(W4-U13)","v":0},{"$f":"IF(V7=0,0,(V7*((LOG(V7))/LOG(2))))","v":0},null,{"$f":"N7","v":111},{"$f":"COUNTIF(L7:L7,Y7)","v":0},{"$f":"Z7/(AB4-Z13)","v":0},{"$f":"IF(AA7=0,0,(AA7*((LOG(AA7))/LOG(2))))","v":0},null,{"$f":"N7","v":111},{"$f":"COUNTIF(L7:L8,AD7)","v":0},{"$f":"AE7/(AG4-AE13)","v":0},{"$f":"IF(AF7=0,0,(AF7*((LOG(AF7))/LOG(2))))","v":0},null,{"$f":"N7","v":111},{"$f":"COUNTIF(L7:L8,AI7)","v":0},{"$f":"AJ7/(AL4-AJ13)","v":0},{"$f":"IF(AK7=0,0,(AK7*((LOG(AK7))/LOG(2))))","v":0},null,{"$f":"N7","v":111},{"$f":"COUNTIF(L8:L8,AN7)","v":0},{"$f":"AO7/(AQ4-AO13)","v":{"$error":"#DIV/0!"}},{"$f":"IF(AP7=0,0,(AP7*((LOG(AP7))/LOG(2))))","v":{"$error":"#DIV/0!"}},null,{"$f":"N7","v":111},{"$f":"COUNTIF(L8:L9,AS7)","v":0},{"$f":"AT7/(AV4-AT13)","v":{"$error":"#DIV/0!"}},{"$f":"IF(AU7=0,0,(AU7*((LOG(AU7))/LOG(2))))","v":{"$error":"#DIV/0!"}}]
[22,17835,null,null,null,null,null,null,null,null,null,2,null,112,0,0,0,null,null,112,{"$f":"COUNTIF(L6:L7,T8)","v":0},{"$f":"U8/(W4-U13)","v":0},0,null,112,{"$f":"COUNTIF(L7:L7,Y8)","v":0},{"$f":"Z8/(AB4-Z13)","v":0},0,null,112,{"$f":"COUNTIF(L7:L8,AD8)","v":0},{"$f":"AE8/(AG4-AE13)","v":0},0,null,112,{"$f":"COUNTIF(L7:L8,AI8)","v":0},{"$f":"AJ8/(AL4-AJ13)","v":0},0,null,112,{"$f":"COUNTIF(L8:L8,AN8)","v":0},{"$f":"AO8/(AQ4-AO13)","v":{"$error":"#DIV/0!"}},{"$error":"#DIV/0!"},null,112,{"$f":"COUNTIF(L8:L9,AS8)","v":0},{"$f":"AT8/(AV4-AT13)","v":{"$error":"#DIV/0!"}},{"$error":"#DIV/0!"}]
[null,null,null,null,null,null,null,null,null,null,null,null,null,121,0,0,0,null,null,121,{"$f":"COUNTIF(L6:L7,T9)","v":0},{"$f":"U9/(W4-U13)","v":0},0,null,121,{"$f":"COUNTIF(L7:L7,Y9)","v":0},{"$f":"Z9/(AB4-Z13)","v":0},0,null,121,{"$f":"COUNTIF(L7:L8,AD9)","v":0},{"$f":"AE9/(AG4-AE13)","v":0},0,null,121,{"$f":"COUNTIF(L7:L8,AI9)","v":0},{"$f":"AJ9/(AL4-AJ13)","v":0},0,null,121,{"$f":"COUNTIF(L8:L8,AN9)","v":0},{"$f":"AO9/(AQ4-AO13)","v":{"$error":"#DIV/0!"}},{"$error":"#DIV/0!"},null,121,{"$f":"COUNTIF(L8:L9,AS9)","v":0},{"$f":"AT9/(AV4-AT13)","v":{"$error":"#DIV/0!"}},{"$error":"#DIV/0!"}]
[null,null,null,null,null,null,null,null,null,null,null,null,null,122,0,0,0,null,null,122,{"$f":"COUNTIF(L6:L7,T10)","v":0},{"$f":"U10/(W4-U13)","v":0},0,null,122,{"$f":"COUNTIF(L7:L7,Y10)","v":0},{"$f":"Z10/(AB4-Z13)","v":0},0,null,122,{"$f":"COUNTIF(L7:L8,AD10)","v":0},{"$f":"AE10/(AG4-AE13)","v":0},0,null,122,{"$f":"COUNTIF(L7:L8,AI10)","v":0},{"$f":"AJ10/(AL4-AJ13)","v":0},0,null,122,{"$f":"COUNTIF(L8:L8,AN10)","v":0},{"$f":"AO10/(AQ4-AO13)","v":{"$error":"#DIV/0!"}},{"$error":"#DIV/0!"},null,122,{"$f":"COUNTIF(L8:L9,AS10)","v":0},{"$f":"AT10/(AV4-AT13)","v":{"$error":"#DIV/0!"}},{"$error":"#DIV/0!"}]
[null,null,null,null,null,null,null,null,null,null,null,null,null,211,0,0,0,null,null,211,{"$f":"COUNTIF(L6:L7,T11)","v":0},{"$f":"U11/(W4-U13)","v":0},0,null,211,{"$f":"COUNTIF(L7:L7,Y11)","v":0},{"$f":"Z11/(AB4-Z13)","v":0},0,null,211,{"$f":"COUNTIF(L7:L8,AD11)","v":0},{"$f":"AE11/(AG4-AE13)","v":0},0,null,211,{"$f":"COUNTIF(L7:L8,AI11)","v":0},{"$f":"AJ11/(AL4-AJ13)","v":0},0,null,211,{"$f":"COUNTIF(L8:L8,AN11)","v":0},{"$f":"AO11/(AQ4-AO13)","v":{"$error":"#DIV/0!"}},{"$error":"#DIV/0!"},null,211,{"$f":"COUNTIF(L8:L9,AS11)","v":0},{"$f":"AT11/(AV4-AT13)","v":{"$error":"#DIV/0!"}},{"$error":"#DIV/0!"}]
[null,null,null,null,null,null,null,null,null,null,null,null,null,212,0,0,0,null,null,212,{"$f":"COUNTIF(L6:L7,T12)","v":0},{"$f":"U12/(W4-U13)","v":0},0,null,212,{"$f":"COUNTIF(L7:L7,Y12)","v":0},{"$f":"Z12/(AB4-Z13)","v":0},0,null,212,{"$f":"COUNTIF(L7:L8,AD12)","v":0},{"$f":"AE12/(AG4-AE13)","v":0},0,null,212,{"$f":"COUNTIF(L7:L8,AI12)","v":0},{"$f":"AJ12/(AL4-AJ13)","v":0},0,null,212,{"$f":"COUNTIF(L8:L8,AN12)","v":0},{"$f":"AO12/(AQ4-AO13)","v":{"$error":"#DIV/0!"}},{"$error":"#DIV/0!"},null,212,{"$f":"COUNTIF(L8:L9,AS12)","v":0},{"$f":"AT12/(AV4-AT13)","v":{"$error":"#DIV/0!"}},{"$error":"#DIV/0!"}]
[null,null,null,null,null,null,null,null,null,null,null,null,null,221,0,0,0,null,null,221,{"$f":"COUNTIF(L6:L7,T13)","v":0},null,null,null,221,{"$f":"COUNTIF(L7:L7,Y13)","v":0},null,null,null,221,{"$f":"COUNTIF(L7:L8,AD13)","v":0},null,null,null,221,{"$f":"COUNTIF(L7:L8,AI13)","v":0},null,null,null,221,{"$f":"COUNTIF(L8:L8,AN13)","v":0},null,null,null,221,{"$f":"COUNTIF(L8:L9,AS13)","v":0}]
[null,null,null,null,null,null,null,null,null,null,null,null,null,222,1,1,0,null,null,222,{"$f":"COUNTIF(L6:L7,T14)","v":1},{"$f":"U14/(W4-U13)","v":1},{"$f":"IF(V14=0,0,(V14*((LOG(V14))/LOG(2))))","v":0},null,222,{"$f":"COUNTIF(L7:L7,Y14)","v":1},{"$f":"Z14/(AB4-Z13)","v":1},{"$f":"IF(AA14=0,0,(AA14*((LOG(AA14))/LOG(2))))","v":0},null,222,{"$f":"COUNTIF(L7:L8,AD14)","v":1},{"$f":"AE14/(AG4-AE13)","v":1},{"$f":"IF(AF14=0,0,(AF14*((LOG(AF14))/LOG(2))))","v":0},null,222,{"$f":"COUNTIF(L7:L8,AI14)","v":1},{"$f":"AJ14/(AL4-AJ13)","v":1},{"$f":"IF(AK14=0,0,(AK14*((LOG(AK14))/LOG(2))))","v":0},null,222,{"$f":"COUNTIF(L8:L8,AN14)","v":0},{"$f":"AO14/(AQ4-AO13)","v":{"$error":"#DIV/0!"}},{"$f":"IF(AP14=0,0,(AP14*((LOG(AP14))/LOG(2))))","v":{"$error":"#DIV/0!"}},null,222,{"$f":"COUNTIF(L8:L9,AS14)","v":0},{"$f":"AT14/(AV4-AT13)","v":{"$error":"#DIV/0!"}},{"$f":"IF(AU14=0,0,(AU14*((LOG(AU14))/LOG(2))))","v":{"$error":"#DIV/0!"}}]
[null,null,null,null,null,null,null,null,null,null,null,null,null,null,null,{"$f":"SUM(P7:P14)","v":1},{"$f":"-SUM(Q7:Q14)","v":0},null,null,null,null,{"$f":"SUM(V7:V14)","v":1},{"$f":"-SUM(W7:W14)","v":0},null,null,null,{"$f":"SUM(AA7:AA14)","v":1},{"$f":"-SUM(AB7:AB14)","v":0},null,null,null,{"$f":"SUM(AF7:AF14)","v":1},{"$f":"-SUM(AG7:AG14)","v":0},null,null,null,{"$f":"SUM(AK7:AK14)","v":1},{"$f":"-SUM(AL7:AL14)","v":0},null,null,null,{"$f":"SUM(AP7:AP14)","v":{"$error":"#DIV/0!"}},{"$f":"-SUM(AQ7:AQ14)","v":{"$error":"#DIV/0!"}},null,null,null,{"$f":"SUM(AU7:AU14)","v":{"$error":"#DIV/0!"}},{"$f":"-SUM(AV7:AV14)","v":{"$error":"#DIV/0!"}}]
[null,null,null,null,null,null,null,null,null,null,null,null,null,null,null,"U=",{"$f":"Q15/(LOG(Q4)/LOG(2))","v":{"$error":"#DIV/0!"}},null,null,null,null,"U1=",{"$f":"W15/(LOG(W4)/LOG(2))","v":{"$error":"#DIV/0!"}},null,null,null,"U2=",{"$f":"AB15/(LOG(AB4)/LOG(2))","v":{"$error":"#DIV/0!"}},null,null,null,"U3=",{"$f":"AG15/(LOG(AG4)/LOG(2))","v":{"$error":"#DIV/0!"}},null,null,null,"U4=",{"$f":"AL15/(LOG(AL4)/LOG(2))","v":{"$error":"#DIV/0!"}},null,null,null,"U5=",{"$f":"AQ15/(LOG(AQ4)/LOG(2))","v":{"$error":"#DIV/0!"}},null,null,null,"U6=",{"$f":"AV15/(LOG(AV4)/LOG(2))","v":{"$error":"#DIV/0!"}}]
[]
[]
[null,null,null,null,null,null,null,null,null,null,null,null,null,"Total Target Seq"]
[null,null,null,null,null,null,null,null,null,null,null,null,null,{"$f":"COUNTIF(L7:L8,G3)","v":0},null,0,1,0,0,1,0]
[null,null,null,null,null,null,null,null,null,null,null,null,null,null,null,"% of reinforcement given in 6 equal intervals based on number of trials "]
[null,null,null,null,null,null,null,null,null,null,null,null,null,null,null,"%_1","%_2","%_3","%_4","%_5","%_6"]
[null,null,null,null,null,null,null,null,null,null,null,null,null,null,"target sequence",{"$f":"$G$3","v":221},221,221,221,221,221]
[null,null,null,null,null,null,null,null,null,null,null,null,null,null,"total reinforcement",{"$f":"U13","v":0},{"$f":"Z13","v":0},{"$f":"AE13","v":0},{"$f":"AJ13","v":0},{"$f":"AO13","v":0},{"$f":"AT13","v":0}]
[null,null,null,null,null,null,null,null,null,null,null,null,null,null,"% target"]
[null,null,null,null,null,null,null,null,null,null,null,null,null,null,"CCRF"]
[null,null,null,null,null,null,null,null,null,null,null,null,null,null,"% CCRf"]
[null,null,null,null,null,null,null,null,null,null,null,null,null,null,"average response rate",{"$f":"F6/P20","v":{"$error":"#VALUE!"}},{"$f":"(F7-F6)/Q20","v":{"$error":"#VALUE!"}},{"$f":"(F7-F7)/R20","v":{"$error":"#DIV/0!"}},{"$f":"(F7-F7)/S20","v":{"$error":"#DIV/0!"}},{"$f":"(F8-F7)/T20","v":-2892},{"$f":"(F8-F8)/U20","v":{"$error":"#DIV/0!"}}]

{"sheet":"!M922B2B.AXT","index":26,"n_rows":28,"n_cols":48,"rows_kept":28,"cut":false,"hidden":false,"merged":[[4,39,4,42],[5,39,5,40],[4,44,4,47],[5,44,5,45],[4,24,4,27],[5,24,5,25],[4,29,4,32],[5,29,5,30],[4,34,4,37],[5,34,5,35],[1,1,1,2],[5,13,5,14],[18,13,18,14],[19,13,19,14],[4,19,4,22],[5,19,5,20]]}
["Report for:!M922B2B.AXT"]
["Date:","<date>"]
["Hen:","<hen>",null,null,null,"Correct Sequence",{"$f":"Start!J2","v":221},null,null,null,null,null,null,null,null,"Total Sequences in Data",{"$f":"4994-COUNTBLANK(L7:L5000)","v":5},null,null,null,null,"Total Sequences in Block Data",{"$f":"COUNTA(L7:L7)","v":1},null,null,null,"Total Sequences in Block Data",{"$f":"COUNTA(L8:L8)","v":1},null,null,null,"Total Sequences in Block Data",{"$f":"COUNTA(L8:L9)","v":2},null,null,null,"Total Sequences in Block Data",{"$f":"COUNTA(L9:L9)","v":1},null,null,null,"Total Sequences in Block Data",{"$f":"COUNTA(L10:L10)","v":1},null,null,null,"Total Sequences in Block Data",{"$f":"COUNTA(L11:L11)","v":1}]
[null,null,null,null,null,null,null,null,null,null,null,null,null,null,null,"Total Sequences in Summary",{"$f":"SUM(O7:O14)","v":5},null,null,null,null,"Total Sequences in Block Summary",{"$f":"SUM(U7:U14)","v":1},null,null,null,"Total Sequences in Block Summary",{"$f":"SUM(Z7:Z14)","v":1},null,null,null,"Total Sequences in Block Summary",{"$f":"SUM(AE7:AE14)","v":2},null,null,null,"Total Sequences in Block Summary",{"$f":"SUM(AJ7:AJ14)","v":1},null,null,null,"Total Sequences in Block Summary",{"$f":"SUM(AO7:AO14)","v":1},null,null,null,"Total Sequences in Block Summary",{"$f":"SUM(AT7:AT14)","v":1}]
[null,null,null,null,null,null,null,null,null,null,null,null,null,null,null,null,null,null,null,"Block 1",null,null,null,null,"Block 2",null,null,null,null,"Block 3",null,null,null,null,"Block 4",null,null,null,null,"Block 5",null,null,null,null,"Block 6"]
["Sequence\nComponent\n1","Time\n1","Sequence\nComponent\n2","Time\n2","Sequence\nComponent\n3","Time\n3","Sequence\nComponent\n4","Time\n4","Sequence\nComponent\n5","Time\n5","Correct?\n0=No 1=Yes","Sequence",null,"Frequency",null,"Relative Frequency","Variability",null,null,"Frequency",null,"Relative Frequency","Variability",null,"Frequency",null,"Relative Frequency","Variability",null,"Frequency",null,"Relative Frequency","Variability",null,"Frequency",null,"Relative Frequency","Variability",null,"Frequency",null,"Relative Frequency","Variability",null,"Frequency",null,"Relative Frequency","Variability"]
[21,44,21,53,22,65,null,null,null,null,0,222,null,111,{"$f":"COUNTIF($L$7:$L$500,N7)","v":0},{"$f":"O7/$Q$4","v":0},{"$f":"IF(P7=0,0,(P7*((LOG(P7))/LOG(2))))","v":0},null,null,{"$f":"N7","v":111},{"$f":"COUNTIF(L7:L7,T7)","v":0},{"$f":"U7/(W4-U13)","v":0},{"$f":"IF(V7=0,0,(V7*((LOG(V7))/LOG(2))))","v":0},null,{"$f":"N7","v":111},{"$f":"COUNTIF(L8:L8,Y7)","v":0},{"$f":"Z7/(AB4-Z13)","v":{"$error":"#DIV/0!"}},{"$f":"IF(AA7=0,0,(AA7*((LOG(AA7))/LOG(2))))","v":{"$error":"#DIV/0!"}},null,{"$f":"N7","v":111},{"$f":"COUNTIF(L8:L9,AD7)","v":0},{"$f":"AE7/(AG4-AE13)","v":0},{"$f":"IF(AF7=0,0,(AF7*((LOG(AF7))/LOG(2))))","v":0},null,{"$f":"N7","v":111},{"$f":"COUNTIF(L9:L9,AI7)","v":0},{"$f":"AJ7/(AL4-AJ13)","v":0},{"$f":"IF(AK7=0,0,(AK7*((LOG(AK7))/LOG(2))))","v":0},null,{"$f":"N7","v":111},{"$f":"COUNTIF(L10:L10,AN7)","v":0},{"$f":"AO7/(AQ4-AO13)","v":0},{"$f":"IF(AP7=0,0,(AP7*((LOG(AP7))/LOG(2))))","v":0},null,{"$f":"N7","v":111},{"$f":"COUNTIF(L11:L11,AS7)","v":0},{"$f":"AT7/(AV4-AT13)","v":0},{"$f":"IF(AU7=0,0,(AU7*((LOG(AU7))/LOG(2))))","v":0}]
[21,776,21,16488,11,21119,null,null,null,null,0,221,null,112,0,0,0,null,null,112,{"$f":"COUNTIF(L7:L7,T8)","v":0},{"$f":"U8/(W4-U13)","v":0},0,null,112,{"$f":"COUNTIF(L8:L8,Y8)","v":0},{"$f":"Z8/(AB4-Z13)","v":{"$error":"#DIV/0!"}},{"$error":"#DIV/0!"},null,112,{"$f":"COUNTIF(L8:L9,AD8)","v":0},{"$f":"AE8/(AG4-AE13)","v":0},0,null,112,{"$f":"COUNTIF(L9:L9,AI8)","v":0},{"$f":"AJ8/(AL4-AJ13)","v":0},0,null,112,{"$f":"COUNTIF(L10:L10,AN8)","v":0},{"$f":"AO8/(AQ4-AO13)","v":0},0,null,112,{"$f":"COUNTIF(L11:L11,AS8)","v":0},{"$f":"AT8/(AV4-AT13)","v":0},0]
[21,21226,21,21243,22,21251,null,null,null,null,0,222,null,121,0,0,0,null,null,121,{"$f":"COUNTIF(L7:L7,T9)","v":0},{"$f":"U9/(W4-U13)","v":0},0,null,121,{"$f":"COUNTIF(L8:L8,Y9)","v":0},{"$f":"Z9/(AB4-Z13)","v":{"$error":"#DIV/0!"}},{"$error":"#DIV/0!"},null,121,{"$f":"COUNTIF(L8:L9,AD9)","v":0},{"$f":"AE9/(AG4-AE13)","v":0},0,null,121,{"$f":"COUNTIF(L9:L9,AI9)","v":0},{"$f":"AJ9/(AL4-AJ13)","v":0},0,null,121,{"$f":"COUNTIF(L10:L10,AN9)","v":0},{"$f":"AO9/(AQ4-AO13)","v":0},0,null,121,{"$f":"COUNTIF(L11:L11,AS9)","v":0},{"$f":"AT9/(AV4-AT13)","v":0},0]
[21,21375,21,21383,22,21391,null,null,null,null,0,222,null,122,0,0,0,null,null,122,{"$f":"COUNTIF(L7:L7,T10)","v":0},{"$f":"U10/(W4-U13)","v":0},0,null,122,{"$f":"COUNTIF(L8:L8,Y10)","v":0},{"$f":"Z10/(AB4-Z13)","v":{"$error":"#DIV/0!"}},{"$error":"#DIV/0!"},null,122,{"$f":"COUNTIF(L8:L9,AD10)","v":0},{"$f":"AE10/(AG4-AE13)","v":0},0,null,122,{"$f":"COUNTIF(L9:L9,AI10)","v":0},{"$f":"AJ10/(AL4-AJ13)","v":0},0,null,122,{"$f":"COUNTIF(L10:L10,AN10)","v":0},{"$f":"AO10/(AQ4-AO13)","v":0},0,null,122,{"$f":"COUNTIF(L11:L11,AS10)","v":0},{"$f":"AT10/(AV4-AT13)","v":0},0]
[21,21568,12,21595,13,21599,null,null,null,null,0,211,null,211,1,0.2,-0.46438561897747244,null,null,211,{"$f":"COUNTIF(L7:L7,T11)","v":0},{"$f":"U11/(W4-U13)","v":0},0,null,211,{"$f":"COUNTIF(L8:L8,Y11)","v":0},{"$f":"Z11/(AB4-Z13)","v":{"$error":"#DIV/0!"}},{"$error":"#DIV/0!"},null,211,{"$f":"COUNTIF(L8:L9,AD11)","v":0},{"$f":"AE11/(AG4-AE13)","v":0},0,null,211,{"$f":"COUNTIF(L9:L9,AI11)","v":0},{"$f":"AJ11/(AL4-AJ13)","v":0},0,null,211,{"$f":"COUNTIF(L10:L10,AN11)","v":0},{"$f":"AO11/(AQ4-AO13)","v":0},0,null,211,{"$f":"COUNTIF(L11:L11,AS11)","v":1},{"$f":"AT11/(AV4-AT13)","v":1},0]
[null,null,null,null,null,null,null,null,null,null,null,null,null,212,0,0,0,null,null,212,{"$f":"COUNTIF(L7:L7,T12)","v":0},{"$f":"U12/(W4-U13)","v":0},0,null,212,{"$f":"COUNTIF(L8:L8,Y12)","v":0},{"$f":"Z12/(AB4-Z13)","v":{"$error":"#DIV/0!"}},{"$error":"#DIV/0!"},null,212,{"$f":"COUNTIF(L8:L9,AD12)","v":0},{"$f":"AE12/(AG4-AE13)","v":0},0,null,212,{"$f":"COUNTIF(L9:L9,AI12)","v":0},{"$f":"AJ12/(AL4-AJ13)","v":0},0,null,212,{"$f":"COUNTIF(L10:L10,AN12)","v":0},{"$f":"AO12/(AQ4-AO13)","v":0},0,null,212,{"$f":"COUNTIF(L11:L11,AS12)","v":0},{"$f":"AT12/(AV4-AT13)","v":0},0]
[null,null,null,null,null,null,null,null,null,null,null,null,null,221,1,0.2,-0.46438561897747244,null,null,221,{"$f":"COUNTIF(L7:L7,T13)","v":0},null,null,null,221,{"$f":"COUNTIF(L8:L8,Y13)","v":1},null,null,null,221,{"$f":"COUNTIF(L8:L9,AD13)","v":1},null,null,null,221,{"$f":"COUNTIF(L9:L9,AI13)","v":0},null,null,null,221,{"$f":"COUNTIF(L10:L10,AN13)","v":0},null,null,null,221,{"$f":"COUNTIF(L11:L11,AS13)","v":0}]
[null,null,null,null,null,null,null,null,null,null,null,null,null,222,3,0.6,-0.44217935649972373,null,null,222,{"$f":"COUNTIF(L7:L7,T14)","v":1},{"$f":"U14/(W4-U13)","v":1},{"$f":"IF(V14=0,0,(V14*((LOG(V14))/LOG(2))))","v":0},null,222,{"$f":"COUNTIF(L8:L8,Y14)","v":0},{"$f":"Z14/(AB4-Z13)","v":{"$error":"#DIV/0!"}},{"$f":"IF(AA14=0,0,(AA14*((LOG(AA14))/LOG(2))))","v":{"$error":"#DIV/0!"}},null,222,{"$f":"COUNTIF(L8:L9,AD14)","v":1},{"$f":"AE14/(AG4-AE13)","v":1},{"$f":"IF(AF14=0,0,(AF14*((LOG(AF14))/LOG(2))))","v":0},null,222,{"$f":"COUNTIF(L9:L9,AI14)","v":1},{"$f":"AJ14/(AL4-AJ13)","v":1},{"$f":"IF(AK14=0,0,(AK14*((LOG(AK14))/LOG(2))))","v":0},null,222,{"$f":"COUNTIF(L10:L10,AN14)","v":1},{"$f":"AO14/(AQ4-AO13)","v":1},{"$f":"IF(AP14=0,0,(AP14*((LOG(AP14))/LOG(2))))","v":0},null,222,{"$f":"COUNTIF(L11:L11,AS14)","v":0},{"$f":"AT14/(AV4-AT13)","v":0},{"$f":"IF(AU14=0,0,(AU14*((LOG(AU14))/LOG(2))))","v":0}]
[null,null,null,null,null,null,null,null,null,null,null,null,null,null,null,{"$f":"SUM(P7:P14)","v":1},{"$f":"-SUM(Q7:Q14)","v":1.3709505944546687},null,null,null,null,{"$f":"SUM(V7:V14)","v":1},{"$f":"-SUM(W7:W14)","v":0},null,null,null,{"$f":"SUM(AA7:AA14)","v":{"$error":"#DIV/0!"}},{"$f":"-SUM(AB7:AB14)","v":{"$error":"#DIV/0!"}},null,null,null,{"$f":"SUM(AF7:AF14)","v":1},{"$f":"-SUM(AG7:AG14)","v":0},null,null,null,{"$f":"SUM(AK7:AK14)","v":1},{"$f":"-SUM(AL7:AL14)","v":0},null,null,null,{"$f":"SUM(AP7:AP14)","v":1},{"$f":"-SUM(AQ7:AQ14)","v":0},null,null,null,{"$f":"SUM(AU7:AU14)","v":1},{"$f":"-SUM(AV7:AV14)","v":0}]
[null,null,null,null,null,null,null,null,null,null,null,null,null,null,null,"U=",{"$f":"Q15/(LOG(Q4)/LOG(2))","v":0.5904362833084088},null,null,null,null,"U1=",{"$f":"W15/(LOG(W4)/LOG(2))","v":{"$error":"#DIV/0!"}},null,null,null,"U2=",{"$f":"AB15/(LOG(AB4)/LOG(2))","v":{"$error":"#DIV/0!"}},null,null,null,"U3=",{"$f":"AG15/(LOG(AG4)/LOG(2))","v":0},null,null,null,"U4=",{"$f":"AL15/(LOG(AL4)/LOG(2))","v":{"$error":"#DIV/0!"}},null,null,null,"U5=",{"$f":"AQ15/(LOG(AQ4)/LOG(2))","v":{"$error":"#DIV/0!"}},null,null,null,"U6=",{"$f":"AV15/(LOG(AV4)/LOG(2))","v":{"$error":"#DIV/0!"}}]
[]
[]
[null,null,null,null,null,null,null,null,null,null,null,null,null,"Total Target Seq"]
[null,null,null,null,null,null,null,null,null,null,null,null,null,{"$f":"COUNTIF(L7:L11,G3)","v":1},null,1,1,0,1,1,1]
[null,null,null,null,null,null,null,null,null,null,null,null,null,null,null,"% of reinforcement given in 6 equal intervals based on number of trials "]
[null,null,null,null,null,null,null,null,null,null,null,null,null,null,null,"%_1","%_2","%_3","%_4","%_5","%_6"]
[null,null,null,null,null,null,null,null,null,null,null,null,null,null,"target sequence",{"$f":"$G$3","v":221},221,221,221,221,221]
[null,null,null,null,null,null,null,null,null,null,null,null,null,null,"total reinforcement",{"$f":"U13","v":0},{"$f":"Z13","v":1},{"$f":"AE13","v":1},{"$f":"AJ13","v":0},{"$f":"AO13","v":0},{"$f":"AT13","v":0}]
[null,null,null,null,null,null,null,null,null,null,null,null,null,null,"% target"]
[null,null,null,null,null,null,null,null,null,null,null,null,null,null,"CCRF"]
[null,null,null,null,null,null,null,null,null,null,null,null,null,null,"% CCRf"]
[null,null,null,null,null,null,null,null,null,null,null,null,null,null,"average response rate",{"$f":"F7/P20","v":65},{"$f":"(F8-F7)/Q20","v":21054},{"$f":"(F8-F8)/R20","v":{"$error":"#DIV/0!"}},{"$f":"(F9-F8)/S20","v":132},{"$f":"(F10-F9)/T20","v":140},{"$f":"(F11-F10)/U20","v":208}]

{"sheet":"!M922C1B.AXT","index":27,"n_rows":28,"n_cols":48,"rows_kept":28,"cut":false,"hidden":false,"merged":[[4,39,4,42],[5,39,5,40],[4,44,4,47],[5,44,5,45],[4,24,4,27],[5,24,5,25],[4,29,4,32],[5,29,5,30],[4,34,4,37],[5,34,5,35],[1,1,1,2],[5,13,5,14],[18,13,18,14],[19,13,19,14],[4,19,4,22],[5,19,5,20]]}
["Report for:!M922C1B.AXT"]
["Date:","<date>"]
["Hen:","<hen>",null,null,null,"Correct Sequence",{"$f":"Start!J2","v":221},null,null,null,null,null,null,null,null,"Total Sequences in Data",{"$f":"4994-COUNTBLANK(L7:L5000)","v":0},null,null,null,null,"Total Sequences in Block Data",{"$f":"COUNTA(L6:L7)","v":1},null,null,null,"Total Sequences in Block Data",{"$f":"COUNTA(L6:L7)","v":1},null,null,null,"Total Sequences in Block Data",{"$f":"COUNTA(L6:L7)","v":1},null,null,null,"Total Sequences in Block Data",{"$f":"COUNTA(L6:L7)","v":1},null,null,null,"Total Sequences in Block Data",{"$f":"COUNTA(L6:L7)","v":1},null,null,null,"Total Sequences in Block Data",{"$f":"COUNTA(L6:L7)","v":1}]
[null,null,null,null,null,null,null,null,null,null,null,null,null,null,null,"Total Sequences in Summary",{"$f":"SUM(O7:O14)","v":0},null,null,null,null,"Total Sequences in Block Summary",{"$f":"SUM(U7:U14)","v":0},null,null,null,"Total Sequences in Block Summary",{"$f":"SUM(Z7:Z14)","v":0},null,null,null,"Total Sequences in Block Summary",{"$f":"SUM(AE7:AE14)","v":0},null,null,null,"Total Sequences in Block Summary",{"$f":"SUM(AJ7:AJ14)","v":0},null,null,null,"Total Sequences in Block Summary",{"$f":"SUM(AO7:AO14)","v":0},null,null,null,"Total Sequences in Block Summary",{"$f":"SUM(AT7:AT14)","v":0}]
[null,null,null,null,null,null,null,null,null,null,null,null,null,null,null,null,null,null,null,"Block 1",null,null,null,null,"Block 2",null,null,null,null,"Block 3",null,null,null,null,"Block 4",null,null,null,null,"Block 5",null,null,null,null,"Block 6"]
["Sequence\nComponent\n1","Time\n1","Sequence\nComponent\n2","Time\n2","Sequence\nComponent\n3","Time\n3","Sequence\nComponent\n4","Time\n4","Sequence\nComponent\n5","Time\n5","Correct?\n0=No 1=Yes","Sequence",null,"Frequency",null,"Relative Frequency","Variability",null,null,"Frequency",null,"Relative Frequency","Variability",null,"Frequency",null,"Relative Frequency","Variability",null,"Frequency",null,"Relative Frequency","Variability",null,"Frequency",null,"Relative Frequency","Variability",null,"Frequency",null,"Relative Frequency","Variability",null,"Frequency",null,"Relative Frequency","Variability"]
[null,null,null,null,null,null,null,null,null,null,null,null,null,111,{"$f":"COUNTIF($L$7:$L$500,N7)","v":0},{"$f":"O7/$Q$4","v":{"$error":"#DIV/0!"}},{"$f":"IF(P7=0,0,(P7*((LOG(P7))/LOG(2))))","v":{"$error":"#DIV/0!"}},null,null,{"$f":"N7","v":111},{"$f":"COUNTIF(L6:L7,T7)","v":0},{"$f":"U7/(W4-U13)","v":{"$error":"#DIV/0!"}},{"$f":"IF(V7=0,0,(V7*((LOG(V7))/LOG(2))))","v":{"$error":"#DIV/0!"}},null,{"$f":"N7","v":111},{"$f":"COUNTIF(L6:L7,Y7)","v":0},{"$f":"Z7/(AB4-Z13)","v":{"$error":"#DIV/0!"}},{"$f":"IF(AA7=0,0,(AA7*((LOG(AA7))/LOG(2))))","v":{"$error":"#DIV/0!"}},null,{"$f":"N7","v":111},{"$f":"COUNTIF(L6:L7,AD7)","v":0},{"$f":"AE7/(AG4-AE13)","v":{"$error":"#DIV/0!"}},{"$f":"IF(AF7=0,0,(AF7*((LOG(AF7))/LOG(2))))","v":{"$error":"#DIV/0!"}},null,{"$f":"N7","v":111},{"$f":"COUNTIF(L6:L7,AI7)","v":0},{"$f":"AJ7/(AL4-AJ13)","v":{"$error":"#DIV/0!"}},{"$f":"IF(AK7=0,0,(AK7*((LOG(AK7))/LOG(2))))","v":{"$error":"#DIV/0!"}},null,{"$f":"N7","v":111},{"$f":"COUNTIF(L6:L7,AN7)","v":0},{"$f":"AO7/(AQ4-AO13)","v":{"$error":"#DIV/0!"}},{"$f":"IF(AP7=0,0,(AP7*((LOG(AP7))/LOG(2))))","v":{"$error":"#DIV/0!"}},null,{"$f":"N7","v":111},{"$f":"COUNTIF(L6:L7,AS7)","v":0},{"$f":"AT7/(AV4-AT13)","v":{"$error":"#DIV/0!"}},{"$f":"IF(AU7=0,0,(AU7*((LOG(AU7))/LOG(2))))","v":{"$error":"#DIV/0!"}}]
[null,null,null,null,null,null,null,null,null,null,null,null,null,112,0,{"$error":"#DIV/0!"},{"$error":"#DIV/0!"},null,null,112,{"$f":"COUNTIF(L6:L7,T8)","v":0},{"$f":"U8/(W4-U13)","v":{"$error":"#DIV/0!"}},{"$error":"#DIV/0!"},null,112,{"$f":"COUNTIF(L6:L7,Y8)","v":0},{"$f":"Z8/(AB4-Z13)","v":{"$error":"#DIV/0!"}},{"$error":"#DIV/0!"},null,112,{"$f":"COUNTIF(L6:L7,AD8)","v":0},{"$f":"AE8/(AG4-AE13)","v":{"$error":"#DIV/0!"}},{"$error":"#DIV/0!"},null,112,{"$f":"COUNTIF(L6:L7,AI8)","v":0},{"$f":"AJ8/(AL4-AJ13)","v":{"$error":"#DIV/0!"}},{"$error":"#DIV/0!"},null,112,{"$f":"COUNTIF(L6:L7,AN8)","v":0},{"$f":"AO8/(AQ4-AO13)","v":{"$error":"#DIV/0!"}},{"$error":"#DIV/0!"},null,112,{"$f":"COUNTIF(L6:L7,AS8)","v":0},{"$f":"AT8/(AV4-AT13)","v":{"$error":"#DIV/0!"}},{"$error":"#DIV/0!"}]
[null,null,null,null,null,null,null,null,null,null,null,null,null,121,0,{"$error":"#DIV/0!"},{"$error":"#DIV/0!"},null,null,121,{"$f":"COUNTIF(L6:L7,T9)","v":0},{"$f":"U9/(W4-U13)","v":{"$error":"#DIV/0!"}},{"$error":"#DIV/0!"},null,121,{"$f":"COUNTIF(L6:L7,Y9)","v":0},{"$f":"Z9/(AB4-Z13)","v":{"$error":"#DIV/0!"}},{"$error":"#DIV/0!"},null,121,{"$f":"COUNTIF(L6:L7,AD9)","v":0},{"$f":"AE9/(AG4-AE13)","v":{"$error":"#DIV/0!"}},{"$error":"#DIV/0!"},null,121,{"$f":"COUNTIF(L6:L7,AI9)","v":0},{"$f":"AJ9/(AL4-AJ13)","v":{"$error":"#DIV/0!"}},{"$error":"#DIV/0!"},null,121,{"$f":"COUNTIF(L6:L7,AN9)","v":0},{"$f":"AO9/(AQ4-AO13)","v":{"$error":"#DIV/0!"}},{"$error":"#DIV/0!"},null,121,{"$f":"COUNTIF(L6:L7,AS9)","v":0},{"$f":"AT9/(AV4-AT13)","v":{"$error":"#DIV/0!"}},{"$error":"#DIV/0!"}]
[null,null,null,null,null,null,null,null,null,null,null,null,null,122,0,{"$error":"#DIV/0!"},{"$error":"#DIV/0!"},null,null,122,{"$f":"COUNTIF(L6:L7,T10)","v":0},{"$f":"U10/(W4-U13)","v":{"$error":"#DIV/0!"}},{"$error":"#DIV/0!"},null,122,{"$f":"COUNTIF(L6:L7,Y10)","v":0},{"$f":"Z10/(AB4-Z13)","v":{"$error":"#DIV/0!"}},{"$error":"#DIV/0!"},null,122,{"$f":"COUNTIF(L6:L7,AD10)","v":0},{"$f":"AE10/(AG4-AE13)","v":{"$error":"#DIV/0!"}},{"$error":"#DIV/0!"},null,122,{"$f":"COUNTIF(L6:L7,AI10)","v":0},{"$f":"AJ10/(AL4-AJ13)","v":{"$error":"#DIV/0!"}},{"$error":"#DIV/0!"},null,122,{"$f":"COUNTIF(L6:L7,AN10)","v":0},{"$f":"AO10/(AQ4-AO13)","v":{"$error":"#DIV/0!"}},{"$error":"#DIV/0!"},null,122,{"$f":"COUNTIF(L6:L7,AS10)","v":0},{"$f":"AT10/(AV4-AT13)","v":{"$error":"#DIV/0!"}},{"$error":"#DIV/0!"}]
[null,null,null,null,null,null,null,null,null,null,null,null,null,211,0,{"$error":"#DIV/0!"},{"$error":"#DIV/0!"},null,null,211,{"$f":"COUNTIF(L6:L7,T11)","v":0},{"$f":"U11/(W4-U13)","v":{"$error":"#DIV/0!"}},{"$error":"#DIV/0!"},null,211,{"$f":"COUNTIF(L6:L7,Y11)","v":0},{"$f":"Z11/(AB4-Z13)","v":{"$error":"#DIV/0!"}},{"$error":"#DIV/0!"},null,211,{"$f":"COUNTIF(L6:L7,AD11)","v":0},{"$f":"AE11/(AG4-AE13)","v":{"$error":"#DIV/0!"}},{"$error":"#DIV/0!"},null,211,{"$f":"COUNTIF(L6:L7,AI11)","v":0},{"$f":"AJ11/(AL4-AJ13)","v":{"$error":"#DIV/0!"}},{"$error":"#DIV/0!"},null,211,{"$f":"COUNTIF(L6:L7,AN11)","v":0},{"$f":"AO11/(AQ4-AO13)","v":{"$error":"#DIV/0!"}},{"$error":"#DIV/0!"},null,211,{"$f":"COUNTIF(L6:L7,AS11)","v":0},{"$f":"AT11/(AV4-AT13)","v":{"$error":"#DIV/0!"}},{"$error":"#DIV/0!"}]
[null,null,null,null,null,null,null,null,null,null,null,null,null,212,0,{"$error":"#DIV/0!"},{"$error":"#DIV/0!"},null,null,212,{"$f":"COUNTIF(L6:L7,T12)","v":0},{"$f":"U12/(W4-U13)","v":{"$error":"#DIV/0!"}},{"$error":"#DIV/0!"},null,212,{"$f":"COUNTIF(L6:L7,Y12)","v":0},{"$f":"Z12/(AB4-Z13)","v":{"$error":"#DIV/0!"}},{"$error":"#DIV/0!"},null,212,{"$f":"COUNTIF(L6:L7,AD12)","v":0},{"$f":"AE12/(AG4-AE13)","v":{"$error":"#DIV/0!"}},{"$error":"#DIV/0!"},null,212,{"$f":"COUNTIF(L6:L7,AI12)","v":0},{"$f":"AJ12/(AL4-AJ13)","v":{"$error":"#DIV/0!"}},{"$error":"#DIV/0!"},null,212,{"$f":"COUNTIF(L6:L7,AN12)","v":0},{"$f":"AO12/(AQ4-AO13)","v":{"$error":"#DIV/0!"}},{"$error":"#DIV/0!"},null,212,{"$f":"COUNTIF(L6:L7,AS12)","v":0},{"$f":"AT12/(AV4-AT13)","v":{"$error":"#DIV/0!"}},{"$error":"#DIV/0!"}]
[null,null,null,null,null,null,null,null,null,null,null,null,null,221,0,{"$error":"#DIV/0!"},{"$error":"#DIV/0!"},null,null,221,{"$f":"COUNTIF(L6:L7,T13)","v":0},null,null,null,221,{"$f":"COUNTIF(L6:L7,Y13)","v":0},null,null,null,221,{"$f":"COUNTIF(L6:L7,AD13)","v":0},null,null,null,221,{"$f":"COUNTIF(L6:L7,AI13)","v":0},null,null,null,221,{"$f":"COUNTIF(L6:L7,AN13)","v":0},null,null,null,221,{"$f":"COUNTIF(L6:L7,AS13)","v":0}]
[null,null,null,null,null,null,null,null,null,null,null,null,null,222,0,{"$error":"#DIV/0!"},{"$error":"#DIV/0!"},null,null,222,{"$f":"COUNTIF(L6:L7,T14)","v":0},{"$f":"U14/(W4-U13)","v":{"$error":"#DIV/0!"}},{"$f":"IF(V14=0,0,(V14*((LOG(V14))/LOG(2))))","v":{"$error":"#DIV/0!"}},null,222,{"$f":"COUNTIF(L6:L7,Y14)","v":0},{"$f":"Z14/(AB4-Z13)","v":{"$error":"#DIV/0!"}},{"$f":"IF(AA14=0,0,(AA14*((LOG(AA14))/LOG(2))))","v":{"$error":"#DIV/0!"}},null,222,{"$f":"COUNTIF(L6:L7,AD14)","v":0},{"$f":"AE14/(AG4-AE13)","v":{"$error":"#DIV/0!"}},{"$f":"IF(AF14=0,0,(AF14*((LOG(AF14))/LOG(2))))","v":{"$error":"#DIV/0!"}},null,222,{"$f":"COUNTIF(L6:L7,AI14)","v":0},{"$f":"AJ14/(AL4-AJ13)","v":{"$error":"#DIV/0!"}},{"$f":"IF(AK14=0,0,(AK14*((LOG(AK14))/LOG(2))))","v":{"$error":"#DIV/0!"}},null,222,{"$f":"COUNTIF(L6:L7,AN14)","v":0},{"$f":"AO14/(AQ4-AO13)","v":{"$error":"#DIV/0!"}},{"$f":"IF(AP14=0,0,(AP14*((LOG(AP14))/LOG(2))))","v":{"$error":"#DIV/0!"}},null,222,{"$f":"COUNTIF(L6:L7,AS14)","v":0},{"$f":"AT14/(AV4-AT13)","v":{"$error":"#DIV/0!"}},{"$f":"IF(AU14=0,0,(AU14*((LOG(AU14))/LOG(2))))","v":{"$error":"#DIV/0!"}}]
[null,null,null,null,null,null,null,null,null,null,null,null,null,null,null,{"$f":"SUM(P7:P14)","v":{"$error":"#DIV/0!"}},{"$f":"-SUM(Q7:Q14)","v":{"$error":"#DIV/0!"}},null,null,null,null,{"$f":"SUM(V7:V14)","v":{"$error":"#DIV/0!"}},{"$f":"-SUM(W7:W14)","v":{"$error":"#DIV/0!"}},null,null,null,{"$f":"SUM(AA7:AA14)","v":{"$error":"#DIV/0!"}},{"$f":"-SUM(AB7:AB14)","v":{"$error":"#DIV/0!"}},null,null,null,{"$f":"SUM(AF7:AF14)","v":{"$error":"#DIV/0!"}},{"$f":"-SUM(AG7:AG14)","v":{"$error":"#DIV/0!"}},null,null,null,{"$f":"SUM(AK7:AK14)","v":{"$error":"#DIV/0!"}},{"$f":"-SUM(AL7:AL14)","v":{"$error":"#DIV/0!"}},null,null,null,{"$f":"SUM(AP7:AP14)","v":{"$error":"#DIV/0!"}},{"$f":"-SUM(AQ7:AQ14)","v":{"$error":"#DIV/0!"}},null,null,null,{"$f":"SUM(AU7:AU14)","v":{"$error":"#DIV/0!"}},{"$f":"-SUM(AV7:AV14)","v":{"$error":"#DIV/0!"}}]
[null,null,null,null,null,null,null,null,null,null,null,null,null,null,null,"U=",{"$f":"Q15/(LOG(Q4)/LOG(2))","v":{"$error":"#DIV/0!"}},null,null,null,null,"U1=",{"$f":"W15/(LOG(W4)/LOG(2))","v":{"$error":"#DIV/0!"}},null,null,null,"U2=",{"$f":"AB15/(LOG(AB4)/LOG(2))","v":{"$error":"#DIV/0!"}},null,null,null,"U3=",{"$f":"AG15/(LOG(AG4)/LOG(2))","v":{"$error":"#DIV/0!"}},null,null,null,"U4=",{"$f":"AL15/(LOG(AL4)/LOG(2))","v":{"$error":"#DIV/0!"}},null,null,null,"U5=",{"$f":"AQ15/(LOG(AQ4)/LOG(2))","v":{"$error":"#DIV/0!"}},null,null,null,"U6=",{"$f":"AV15/(LOG(AV4)/LOG(2))","v":{"$error":"#DIV/0!"}}]
[]
[]
[null,null,null,null,null,null,null,null,null,null,null,null,null,"Total Target Seq"]
[null,null,null,null,null,null,null,null,null,null,null,null,null,{"$f":"COUNTIF(L6:L7,G3)","v":0},null,0,0,0,0,0,0]
[null,null,null,null,null,null,null,null,null,null,null,null,null,null,null,"% of reinforcement given in 6 equal intervals based on number of trials "]
[null,null,null,null,null,null,null,null,null,null,null,null,null,null,null,"%_1","%_2","%_3","%_4","%_5","%_6"]
[null,null,null,null,null,null,null,null,null,null,null,null,null,null,"target sequence",{"$f":"$G$3","v":221},221,221,221,221,221]
[null,null,null,null,null,null,null,null,null,null,null,null,null,null,"total reinforcement",{"$f":"U13","v":0},{"$f":"Z13","v":0},{"$f":"AE13","v":0},{"$f":"AJ13","v":0},{"$f":"AO13","v":0},{"$f":"AT13","v":0}]
[null,null,null,null,null,null,null,null,null,null,null,null,null,null,"% target"]
[null,null,null,null,null,null,null,null,null,null,null,null,null,null,"CCRF"]
[null,null,null,null,null,null,null,null,null,null,null,null,null,null,"% CCRf"]
[null,null,null,null,null,null,null,null,null,null,null,null,null,null,"average response rate",{"$f":"F6/P20","v":{"$error":"#VALUE!"}},{"$f":"(F6-F6)/Q20","v":{"$error":"#VALUE!"}},{"$f":"(F6-F6)/R20","v":{"$error":"#VALUE!"}},{"$f":"(F6-F6)/S20","v":{"$error":"#VALUE!"}},{"$f":"(F6-F6)/T20","v":{"$error":"#VALUE!"}},{"$f":"(F6-F6)/U20","v":{"$error":"#VALUE!"}}]

{"sheet":"!M923A0B.AXT","index":28,"n_rows":28,"n_cols":48,"rows_kept":28,"cut":false,"hidden":false,"merged":[[4,39,4,42],[5,39,5,40],[4,44,4,47],[5,44,5,45],[4,24,4,27],[5,24,5,25],[4,29,4,32],[5,29,5,30],[4,34,4,37],[5,34,5,35],[1,1,1,2],[5,13,5,14],[18,13,18,14],[19,13,19,14],[4,19,4,22],[5,19,5,20]]}
["Report for:!M923A0B.AXT"]
["Date:","<date>"]
["Hen:","<hen>",null,null,null,"Correct Sequence",{"$f":"Start!J2","v":221},null,null,null,null,null,null,null,null,"Total Sequences in Data",{"$f":"4994-COUNTBLANK(L7:L5000)","v":2},null,null,null,null,"Total Sequences in Block Data",{"$f":"COUNTA(L6:L7)","v":2},null,null,null,"Total Sequences in Block Data",{"$f":"COUNTA(L7:L7)","v":1},null,null,null,"Total Sequences in Block Data",{"$f":"COUNTA(L7:L8)","v":2},null,null,null,"Total Sequences in Block Data",{"$f":"COUNTA(L7:L8)","v":2},null,null,null,"Total Sequences in Block Data",{"$f":"COUNTA(L8:L8)","v":1},null,null,null,"Total Sequences in Block Data",{"$f":"COUNTA(L8:L9)","v":1}]
[null,null,null,null,null,null,null,null,null,null,null,null,null,null,null,"Total Sequences in Summary",{"$f":"SUM(O7:O14)","v":2},null,null,null,null,"Total Sequences in Block Summary",{"$f":"SUM(U7:U14)","v":1},null,null,null,"Total Sequences in Block Summary",{"$f":"SUM(Z7:Z14)","v":1},null,null,null,"Total Sequences in Block Summary",{"$f":"SUM(AE7:AE14)","v":2},null,null,null,"Total Sequences in Block Summary",{"$f":"SUM(AJ7:AJ14)","v":2},null,null,null,"Total Sequences in Block Summary",{"$f":"SUM(AO7:AO14)","v":1},null,null,null,"Total Sequences in Block Summary",{"$f":"SUM(AT7:AT14)","v":1}]
[null,null,null,null,null,null,null,null,null,null,null,null,null,null,null,null,null,null,null,"Block 1",null,null,null,null,"Block 2",null,null,null,null,"Block 3",null,null,null,null,"Block 4",null,null,null,null,"Block 5",null,null,null,null,"Block 6"]
["Sequence\nComponent\n1","Time\n1","Sequence\nComponent\n2","Time\n2","Sequence\nComponent\n3","Time\n3","Sequence\nComponent\n4","Time\n4","Sequence\nComponent\n5","Time\n5","Correct?\n0=No 1=Yes","Sequence",null,"Frequency",null,"Relative Frequency","Variability",null,null,"Frequency",null,"Relative Frequency","Variability",null,"Frequency",null,"Relative Frequency","Variability",null,"Frequency",null,"Relative Frequency","Variability",null,"Frequency",null,"Relative Frequency","Variability",null,"Frequency",null,"Relative Frequency","Variability",null,"Frequency",null,"Relative Frequency","Variability"]
[21,43,21,53,22,57,null,null,null,null,0,222,null,111,{"$f":"COUNTIF($L$7:$L$500,N7)","v":0},{"$f":"O7/$Q$4","v":0},{"$f":"IF(P7=0,0,(P7*((LOG(P7))/LOG(2))))","v":0},null,null,{"$f":"N7","v":111},{"$f":"COUNTIF(L6:L7,T7)","v":0},{"$f":"U7/(W4-U13)","v":0},{"$f":"IF(V7=0,0,(V7*((LOG(V7))/LOG(2))))","v":0},null,{"$f":"N7","v":111},{"$f":"COUNTIF(L7:L7,Y7)","v":0},{"$f":"Z7/(AB4-Z13)","v":0},{"$f":"IF(AA7=0,0,(AA7*((LOG(AA7))/LOG(2))))","v":0},null,{"$f":"N7","v":111},{"$f":"COUNTIF(L7:L8,AD7)","v":0},{"$f":"AE7/(AG4-AE13)","v":0},{"$f":"IF(AF7=0,0,(AF7*((LOG(AF7))/LOG(2))))","v":0},null,{"$f":"N7","v":111},{"$f":"COUNTIF(L7:L8,AI7)","v":0},{"$f":"AJ7/(AL4-AJ13)","v":0},{"$f":"IF(AK7=0,0,(AK7*((LOG(AK7))/LOG(2))))","v":0},null,{"$f":"N7","v":111},{"$f":"COUNTIF(L8:L8,AN7)","v":0},{"$f":"AO7/(AQ4-AO13)","v":0},{"$f":"IF(AP7=0,0,(AP7*((LOG(AP7))/LOG(2))))","v":0},null,{"$f":"N7","v":111},{"$f":"COUNTIF(L8:L9,AS7)","v":0},{"$f":"AT7/(AV4-AT13)","v":0},{"$f":"IF(AU7=0,0,(AU7*((LOG(AU7))/LOG(2))))","v":0}]
[12,222,23,231,24,244,null,null,null,null,0,122,null,112,0,0,0,null,null,112,{"$f":"COUNTIF(L6:L7,T8)","v":0},{"$f":"U8/(W4-U13)","v":0},0,null,112,{"$f":"COUNTIF(L7:L7,Y8)","v":0},{"$f":"Z8/(AB4-Z13)","v":0},0,null,112,{"$f":"COUNTIF(L7:L8,AD8)","v":0},{"$f":"AE8/(AG4-AE13)","v":0},0,null,112,{"$f":"COUNTIF(L7:L8,AI8)","v":0},{"$f":"AJ8/(AL4-AJ13)","v":0},0,null,112,{"$f":"COUNTIF(L8:L8,AN8)","v":0},{"$f":"AO8/(AQ4-AO13)","v":0},0,null,112,{"$f":"COUNTIF(L8:L9,AS8)","v":0},{"$f":"AT8/(AV4-AT13)","v":0},0]
[null,null,null,null,null,null,null,null,null,null,null,null,null,121,0,0,0,null,null,121,{"$f":"COUNTIF(L6:L7,T9)","v":0},{"$f":"U9/(W4-U13)","v":0},0,null,121,{"$f":"COUNTIF(L7:L7,Y9)","v":0},{"$f":"Z9/(AB4-Z13)","v":0},0,null,121,{"$f":"COUNTIF(L7:L8,AD9)","v":0},{"$f":"AE9/(AG4-AE13)","v":0},0,null,121,{"$f":"COUNTIF(L7:L8,AI9)","v":0},{"$f":"AJ9/(AL4-AJ13)","v":0},0,null,121,{"$f":"COUNTIF(L8:L8,AN9)","v":0},{"$f":"AO9/(AQ4-AO13)","v":0},0,null,121,{"$f":"COUNTIF(L8:L9,AS9)","v":0},{"$f":"AT9/(AV4-AT13)","v":0},0]
[null,null,null,null,null,null,null,null,null,null,null,null,null,122,1,0.5,-0.5,null,null,122,{"$f":"COUNTIF(L6:L7,T10)","v":0},{"$f":"U10/(W4-U13)","v":0},0,null,122,{"$f":"COUNTIF(L7:L7,Y10)","v":0},{"$f":"Z10/(AB4-Z13)","v":0},0,null,122,{"$f":"COUNTIF(L7:L8,AD10)","v":1},{"$f":"AE10/(AG4-AE13)","v":0.5},-0.5,null,122,{"$f":"COUNTIF(L7:L8,AI10)","v":1},{"$f":"AJ10/(AL4-AJ13)","v":0.5},-0.5,null,122,{"$f":"COUNTIF(L8:L8,AN10)","v":1},{"$f":"AO10/(AQ4-AO13)","v":1},0,null,122,{"$f":"COUNTIF(L8:L9,AS10)","v":1},{"$f":"AT10/(AV4-AT13)","v":1},0]
[null,null,null,null,null,null,null,null,null,null,null,null,null,211,0,0,0,null,null,211,{"$f":"COUNTIF(L6:L7,T11)","v":0},{"$f":"U11/(W4-U13)","v":0},0,null,211,{"$f":"COUNTIF(L7:L7,Y11)","v":0},{"$f":"Z11/(AB4-Z13)","v":0},0,null,211,{"$f":"COUNTIF(L7:L8,AD11)","v":0},{"$f":"AE11/(AG4-AE13)","v":0},0,null,211,{"$f":"COUNTIF(L7:L8,AI11)","v":0},{"$f":"AJ11/(AL4-AJ13)","v":0},0,null,211,{"$f":"COUNTIF(L8:L8,AN11)","v":0},{"$f":"AO11/(AQ4-AO13)","v":0},0,null,211,{"$f":"COUNTIF(L8:L9,AS11)","v":0},{"$f":"AT11/(AV4-AT13)","v":0},0]
[null,null,null,null,null,null,null,null,null,null,null,null,null,212,0,0,0,null,null,212,{"$f":"COUNTIF(L6:L7,T12)","v":0},{"$f":"U12/(W4-U13)","v":0},0,null,212,{"$f":"COUNTIF(L7:L7,Y12)","v":0},{"$f":"Z12/(AB4-Z13)","v":0},0,null,212,{"$f":"COUNTIF(L7:L8,AD12)","v":0},{"$f":"AE12/(AG4-AE13)","v":0},0,null,212,{"$f":"COUNTIF(L7:L8,AI12)","v":0},{"$f":"AJ12/(AL4-AJ13)","v":0},0,null,212,{"$f":"COUNTIF(L8:L8,AN12)","v":0},{"$f":"AO12/(AQ4-AO13)","v":0},0,null,212,{"$f":"COUNTIF(L8:L9,AS12)","v":0},{"$f":"AT12/(AV4-AT13)","v":0},0]
[null,null,null,null,null,null,null,null,null,null,null,null,null,221,0,0,0,null,null,221,{"$f":"COUNTIF(L6:L7,T13)","v":0},null,null,null,221,{"$f":"COUNTIF(L7:L7,Y13)","v":0},null,null,null,221,{"$f":"COUNTIF(L7:L8,AD13)","v":0},null,null,null,221,{"$f":"COUNTIF(L7:L8,AI13)","v":0},null,null,null,221,{"$f":"COUNTIF(L8:L8,AN13)","v":0},null,null,null,221,{"$f":"COUNTIF(L8:L9,AS13)","v":0}]
[null,null,null,null,null,null,null,null,null,null,null,null,null,222,1,0.5,-0.5,null,null,222,{"$f":"COUNTIF(L6:L7,T14)","v":1},{"$f":"U14/(W4-U13)","v":1},{"$f":"IF(V14=0,0,(V14*((LOG(V14))/LOG(2))))","v":0},null,222,{"$f":"COUNTIF(L7:L7,Y14)","v":1},{"$f":"Z14/(AB4-Z13)","v":1},{"$f":"IF(AA14=0,0,(AA14*((LOG(AA14))/LOG(2))))","v":0},null,222,{"$f":"COUNTIF(L7:L8,AD14)","v":1},{"$f":"AE14/(AG4-AE13)","v":0.5},{"$f":"IF(AF14=0,0,(AF14*((LOG(AF14))/LOG(2))))","v":-0.5},null,222,{"$f":"COUNTIF(L7:L8,AI14)","v":1},{"$f":"AJ14/(AL4-AJ13)","v":0.5},{"$f":"IF(AK14=0,0,(AK14*((LOG(AK14))/LOG(2))))","v":-0.5},null,222,{"$f":"COUNTIF(L8:L8,AN14)","v":0},{"$f":"AO14/(AQ4-AO13)","v":0},{"$f":"IF(AP14=0,0,(AP14*((LOG(AP14))/LOG(2))))","v":0},null,222,{"$f":"COUNTIF(L8:L9,AS14)","v":0},{"$f":"AT14/(AV4-AT13)","v":0},{"$f":"IF(AU14=0,0,(AU14*((LOG(AU14))/LOG(2))))","v":0}]
[null,null,null,null,null,null,null,null,null,null,null,null,null,null,null,{"$f":"SUM(P7:P14)","v":1},{"$f":"-SUM(Q7:Q14)","v":1},null,null,null,null,{"$f":"SUM(V7:V14)","v":1},{"$f":"-SUM(W7:W14)","v":0},null,null,null,{"$f":"SUM(AA7:AA14)","v":1},{"$f":"-SUM(AB7:AB14)","v":0},null,null,null,{"$f":"SUM(AF7:AF14)","v":1},{"$f":"-SUM(AG7:AG14)","v":1},null,null,null,{"$f":"SUM(AK7:AK14)","v":1},{"$f":"-SUM(AL7:AL14)","v":1},null,null,null,{"$f":"SUM(AP7:AP14)","v":1},{"$f":"-SUM(AQ7:AQ14)","v":0},null,null,null,{"$f":"SUM(AU7:AU14)","v":1},{"$f":"-SUM(AV7:AV14)","v":0}]
[null,null,null,null,null,null,null,null,null,null,null,null,null,null,null,"U=",{"$f":"Q15/(LOG(Q4)/LOG(2))","v":1},null,null,null,null,"U1=",{"$f":"W15/(LOG(W4)/LOG(2))","v":{"$error":"#DIV/0!"}},null,null,null,"U2=",{"$f":"AB15/(LOG(AB4)/LOG(2))","v":{"$error":"#DIV/0!"}},null,null,null,"U3=",{"$f":"AG15/(LOG(AG4)/LOG(2))","v":1},null,null,null,"U4=",{"$f":"AL15/(LOG(AL4)/LOG(2))","v":1},null,null,null,"U5=",{"$f":"AQ15/(LOG(AQ4)/LOG(2))","v":{"$error":"#DIV/0!"}},null,null,null,"U6=",{"$f":"AV15/(LOG(AV4)/LOG(2))","v":{"$error":"#DIV/0!"}}]
[]
[]
[null,null,null,null,null,null,null,null,null,null,null,null,null,"Total Target Seq"]
[null,null,null,null,null,null,null,null,null,null,null,null,null,{"$f":"COUNTIF(L7:L8,G3)","v":0},null,0,1,0,0,1,0]
[null,null,null,null,null,null,null,null,null,null,null,null,null,null,null,"% of reinforcement given in 6 equal intervals based on number of trials "]
[null,null,null,null,null,null,null,null,null,null,null,null,null,null,null,"%_1","%_2","%_3","%_4","%_5","%_6"]
[null,null,null,null,null,null,null,null,null,null,null,null,null,null,"target sequence",{"$f":"$G$3","v":221},221,221,221,221,221]
[null,null,null,null,null,null,null,null,null,null,null,null,null,null,"total reinforcement",{"$f":"U13","v":0},{"$f":"Z13","v":0},{"$f":"AE13","v":0},{"$f":"AJ13","v":0},{"$f":"AO13","v":0},{"$f":"AT13","v":0}]
[null,null,null,null,null,null,null,null,null,null,null,null,null,null,"% target"]
[null,null,null,null,null,null,null,null,null,null,null,null,null,null,"CCRF"]
[null,null,null,null,null,null,null,null,null,null,null,null,null,null,"% CCRf"]
[null,null,null,null,null,null,null,null,null,null,null,null,null,null,"average response rate",{"$f":"F6/P20","v":{"$error":"#VALUE!"}},{"$f":"(F7-F6)/Q20","v":{"$error":"#VALUE!"}},{"$f":"(F7-F7)/R20","v":{"$error":"#DIV/0!"}},{"$f":"(F7-F7)/S20","v":{"$error":"#DIV/0!"}},{"$f":"(F8-F7)/T20","v":187},{"$f":"(F8-F8)/U20","v":{"$error":"#DIV/0!"}}]

{"sheet":"!M924B0B.AXT","index":29,"n_rows":28,"n_cols":48,"rows_kept":28,"cut":false,"hidden":false,"merged":[[4,39,4,42],[5,39,5,40],[4,44,4,47],[5,44,5,45],[4,24,4,27],[5,24,5,25],[4,29,4,32],[5,29,5,30],[4,34,4,37],[5,34,5,35],[1,1,1,2],[5,13,5,14],[18,13,18,14],[19,13,19,14],[4,19,4,22],[5,19,5,20]]}
["Report for:!M924B0B.AXT"]
["Date:","<date>"]
["Hen:","<hen>",null,null,null,"Correct Sequence",{"$f":"Start!J2","v":221},null,null,null,null,null,null,null,null,"Total Sequences in Data",{"$f":"4994-COUNTBLANK(L7:L5000)","v":6},null,null,null,null,"Total Sequences in Block Data",{"$f":"COUNTA(L7:L7)","v":1},null,null,null,"Total Sequences in Block Data",{"$f":"COUNTA(L8:L8)","v":1},null,null,null,"Total Sequences in Block Data",{"$f":"COUNTA(L9:L9)","v":1},null,null,null,"Total Sequences in Block Data",{"$f":"COUNTA(L10:L10)","v":1},null,null,null,"Total Sequences in Block Data",{"$f":"COUNTA(L11:L11)","v":1},null,null,null,"Total Sequences in Block Data",{"$f":"COUNTA(L12:L12)","v":1}]
[null,null,null,null,null,null,null,null,null,null,null,null,null,null,null,"Total Sequences in Summary",{"$f":"SUM(O7:O14)","v":6},null,null,null,null,"Total Sequences in Block Summary",{"$f":"SUM(U7:U14)","v":1},null,null,null,"Total Sequences in Block Summary",{"$f":"SUM(Z7:Z14)","v":1},null,null,null,"Total Sequences in Block Summary",{"$f":"SUM(AE7:AE14)","v":1},null,null,null,"Total Sequences in Block Summary",{"$f":"SUM(AJ7:AJ14)","v":1},null,null,null,"Total Sequences in Block Summary",{"$f":"SUM(AO7:AO14)","v":1},null,null,null,"Total Sequences in Block Summary",{"$f":"SUM(AT7:AT14)","v":1}]
[null,null,null,null,null,null,null,null,null,null,null,null,null,null,null,null,null,null,null,"Block 1",null,null,null,null,"Block 2",null,null,null,null,"Block 3",null,null,null,null,"Block 4",null,null,null,null,"Block 5",null,null,null,null,"Block 6"]
["Sequence\nComponent\n1","Time\n1","Sequence\nComponent\n2","Time\n2","Sequence\nComponent\n3","Time\n3","Sequence\nComponent\n4","Time\n4","Sequence\nComponent\n5","Time\n5","Correct?\n0=No 1=Yes","Sequence",null,"Frequency",null,"Relative Frequency","Variability",null,null,"Frequency",null,"Relative Frequency","Variability",null,"Frequency",null,"Relative Frequency","Variability",null,"Frequency",null,"Relative Frequency","Variability",null,"Frequency",null,"Relative Frequency","Variability",null,"Frequency",null,"Relative Frequency","Variability",null,"Frequency",null,"Relative Frequency","Variability"]
[12,67,23,84,24,91,null,null,null,null,0,122,null,111,{"$f":"COUNTIF($L$7:$L$500,N7)","v":1},{"$f":"O7/$Q$4","v":0.16666666666666666},{"$f":"IF(P7=0,0,(P7*((LOG(P7))/LOG(2))))","v":-0.43082708345352599},null,null,{"$f":"N7","v":111},{"$f":"COUNTIF(L7:L7,T7)","v":0},{"$f":"U7/(W4-U13)","v":0},{"$f":"IF(V7=0,0,(V7*((LOG(V7))/LOG(2))))","v":0},null,{"$f":"N7","v":111},{"$f":"COUNTIF(L8:L8,Y7)","v":0},{"$f":"Z7/(AB4-Z13)","v":0},{"$f":"IF(AA7=0,0,(AA7*((LOG(AA7))/LOG(2))))","v":0},null,{"$f":"N7","v":111},{"$f":"COUNTIF(L9:L9,AD7)","v":0},{"$f":"AE7/(AG4-AE13)","v":0},{"$f":"IF(AF7=0,0,(AF7*((LOG(AF7))/LOG(2))))","v":0},null,{"$f":"N7","v":111},{"$f":"COUNTIF(L10:L10,AI7)","v":1},{"$f":"AJ7/(AL4-AJ13)","v":1},{"$f":"IF(AK7=0,0,(AK7*((LOG(AK7))/LOG(2))))","v":0},null,{"$f":"N7","v":111},{"$f":"COUNTIF(L11:L11,AN7)","v":0},{"$f":"AO7/(AQ4-AO13)","v":0},{"$f":"IF(AP7=0,0,(AP7*((LOG(AP7))/LOG(2))))","v":0},null,{"$f":"N7","v":111},{"$f":"COUNTIF(L12:L12,AS7)","v":0},{"$f":"AT7/(AV4-AT13)","v":0},{"$f":"IF(AU7=0,0,(AU7*((LOG(AU7))/LOG(2))))","v":0}]
[12,290,23,320,24,325,null,null,null,null,0,122,null,112,0,0,0,null,null,112,{"$f":"COUNTIF(L7:L7,T8)","v":0},{"$f":"U8/(W4-U13)","v":0},0,null,112,{"$f":"COUNTIF(L8:L8,Y8)","v":0},{"$f":"Z8/(AB4-Z13)","v":0},0,null,112,{"$f":"COUNTIF(L9:L9,AD8)","v":0},{"$f":"AE8/(AG4-AE13)","v":0},0,null,112,{"$f":"COUNTIF(L10:L10,AI8)","v":0},{"$f":"AJ8/(AL4-AJ13)","v":0},0,null,112,{"$f":"COUNTIF(L11:L11,AN8)","v":0},{"$f":"AO8/(AQ4-AO13)","v":0},0,null,112,{"$f":"COUNTIF(L12:L12,AS8)","v":0},{"$f":"AT8/(AV4-AT13)","v":0},0]
[21,423,21,443,22,447,null,null,null,null,0,222,null,121,0,0,0,null,null,121,{"$f":"COUNTIF(L7:L7,T9)","v":0},{"$f":"U9/(W4-U13)","v":0},0,null,121,{"$f":"COUNTIF(L8:L8,Y9)","v":0},{"$f":"Z9/(AB4-Z13)","v":0},0,null,121,{"$f":"COUNTIF(L9:L9,AD9)","v":0},{"$f":"AE9/(AG4-AE13)","v":0},0,null,121,{"$f":"COUNTIF(L10:L10,AI9)","v":0},{"$f":"AJ9/(AL4-AJ13)","v":0},0,null,121,{"$f":"COUNTIF(L11:L11,AN9)","v":0},{"$f":"AO9/(AQ4-AO13)","v":0},0,null,121,{"$f":"COUNTIF(L12:L12,AS9)","v":0},{"$f":"AT9/(AV4-AT13)","v":0},0]
[12,566,14,577,13,597,null,null,null,null,0,111,null,122,3,0.5,-0.5,null,null,122,{"$f":"COUNTIF(L7:L7,T10)","v":1},{"$f":"U10/(W4-U13)","v":1},0,null,122,{"$f":"COUNTIF(L8:L8,Y10)","v":1},{"$f":"Z10/(AB4-Z13)","v":1},0,null,122,{"$f":"COUNTIF(L9:L9,AD10)","v":0},{"$f":"AE10/(AG4-AE13)","v":0},0,null,122,{"$f":"COUNTIF(L10:L10,AI10)","v":0},{"$f":"AJ10/(AL4-AJ13)","v":0},0,null,122,{"$f":"COUNTIF(L11:L11,AN10)","v":1},{"$f":"AO10/(AQ4-AO13)","v":1},0,null,122,{"$f":"COUNTIF(L12:L12,AS10)","v":0},{"$f":"AT10/(AV4-AT13)","v":0},0]
[12,13879,23,13894,24,13901,null,null,null,null,0,122,null,211,0,0,0,null,null,211,{"$f":"COUNTIF(L7:L7,T11)","v":0},{"$f":"U11/(W4-U13)","v":0},0,null,211,{"$f":"COUNTIF(L8:L8,Y11)","v":0},{"$f":"Z11/(AB4-Z13)","v":0},0,null,211,{"$f":"COUNTIF(L9:L9,AD11)","v":0},{"$f":"AE11/(AG4-AE13)","v":0},0,null,211,{"$f":"COUNTIF(L10:L10,AI11)","v":0},{"$f":"AJ11/(AL4-AJ13)","v":0},0,null,211,{"$f":"COUNTIF(L11:L11,AN11)","v":0},{"$f":"AO11/(AQ4-AO13)","v":0},0,null,211,{"$f":"COUNTIF(L12:L12,AS11)","v":0},{"$f":"AT11/(AV4-AT13)","v":0},0]
[21,14005,21,14008,22,14018,null,null,null,null,0,222,null,212,0,0,0,null,null,212,{"$f":"COUNTIF(L7:L7,T12)","v":0},{"$f":"U12/(W4-U13)","v":0},0,null,212,{"$f":"COUNTIF(L8:L8,Y12)","v":0},{"$f":"Z12/(AB4-Z13)","v":0},0,null,212,{"$f":"COUNTIF(L9:L9,AD12)","v":0},{"$f":"AE12/(AG4-AE13)","v":0},0,null,212,{"$f":"COUNTIF(L10:L10,AI12)","v":0},{"$f":"AJ12/(AL4-AJ13)","v":0},0,null,212,{"$f":"COUNTIF(L11:L11,AN12)","v":0},{"$f":"AO12/(AQ4-AO13)","v":0},0,null,212,{"$f":"COUNTIF(L12:L12,AS12)","v":0},{"$f":"AT12/(AV4-AT13)","v":0},0]
[null,null,null,null,null,null,null,null,null,null,null,null,null,221,0,0,0,null,null,221,{"$f":"COUNTIF(L7:L7,T13)","v":0},null,null,null,221,{"$f":"COUNTIF(L8:L8,Y13)","v":0},null,null,null,221,{"$f":"COUNTIF(L9:L9,AD13)","v":0},null,null,null,221,{"$f":"COUNTIF(L10:L10,AI13)","v":0},null,null,null,221,{"$f":"COUNTIF(L11:L11,AN13)","v":0},null,null,null,221,{"$f":"COUNTIF(L12:L12,AS13)","v":0}]
[null,null,null,null,null,null,null,null,null,null,null,null,null,222,2,0.33333333333333331,-0.52832083357371862,null,null,222,{"$f":"COUNTIF(L7:L7,T14)","v":0},{"$f":"U14/(W4-U13)","v":0},{"$f":"IF(V14=0,0,(V14*((LOG(V14))/LOG(2))))","v":0},null,222,{"$f":"COUNTIF(L8:L8,Y14)","v":0},{"$f":"Z14/(AB4-Z13)","v":0},{"$f":"IF(AA14=0,0,(AA14*((LOG(AA14))/LOG(2))))","v":0},null,222,{"$f":"COUNTIF(L9:L9,AD14)","v":1},{"$f":"AE14/(AG4-AE13)","v":1},{"$f":"IF(AF14=0,0,(AF14*((LOG(AF14))/LOG(2))))","v":0},null,222,{"$f":"COUNTIF(L10:L10,AI14)","v":0},{"$f":"AJ14/(AL4-AJ13)","v":0},{"$f":"IF(AK14=0,0,(AK14*((LOG(AK14))/LOG(2))))","v":0},null,222,{"$f":"COUNTIF(L11:L11,AN14)","v":0},{"$f":"AO14/(AQ4-AO13)","v":0},{"$f":"IF(AP14=0,0,(AP14*((LOG(AP14))/LOG(2))))","v":0},null,222,{"$f":"COUNTIF(L12:L12,AS14)","v":1},{"$f":"AT14/(AV4-AT13)","v":1},{"$f":"IF(AU14=0,0,(AU14*((LOG(AU14))/LOG(2))))","v":0}]
[null,null,null,null,null,null,null,null,null,null,null,null,null,null,null,{"$f":"SUM(P7:P14)","v":1},{"$f":"-SUM(Q7:Q14)","v":1.4591479170272446},null,null,null,null,{"$f":"SUM(V7:V14)","v":1},{"$f":"-SUM(W7:W14)","v":0},null,null,null,{"$f":"SUM(AA7:AA14)","v":1},{"$f":"-SUM(AB7:AB14)","v":0},null,null,null,{"$f":"SUM(AF7:AF14)","v":1},{"$f":"-SUM(AG7:AG14)","v":0},null,null,null,{"$f":"SUM(AK7:AK14)","v":1},{"$f":"-SUM(AL7:AL14)","v":0},null,null,null,{"$f":"SUM(AP7:AP14)","v":1},{"$f":"-SUM(AQ7:AQ14)","v":0},null,null,null,{"$f":"SUM(AU7:AU14)","v":1},{"$f":"-SUM(AV7:AV14)","v":0}]
[null,null,null,null,null,null,null,null,null,null,null,null,null,null,null,"U=",{"$f":"Q15/(LOG(Q4)/LOG(2))","v":0.56447546787242353},null,null,null,null,"U1=",{"$f":"W15/(LOG(W4)/LOG(2))","v":{"$error":"#DIV/0!"}},null,null,null,"U2=",{"$f":"AB15/(LOG(AB4)/LOG(2))","v":{"$error":"#DIV/0!"}},null,null,null,"U3=",{"$f":"AG15/(LOG(AG4)/LOG(2))","v":{"$error":"#DIV/0!"}},null,null,null,"U4=",{"$f":"AL15/(LOG(AL4)/LOG(2))","v":{"$error":"#DIV/0!"}},null,null,null,"U5=",{"$f":"AQ15/(LOG(AQ4)/LOG(2))","v":{"$error":"#DIV/0!"}},null,null,null,"U6=",{"$f":"AV15/(LOG(AV4)/LOG(2))","v":{"$error":"#DIV/0!"}}]
[]
[]
[null,null,null,null,null,null,null,null,null,null,null,null,null,"Total Target Seq"]
[null,null,null,null,null,null,null,null,null,null,null,null,null,{"$f":"COUNTIF(L7:L12,G3)","v":0},null,1,1,1,1,1,1]
[null,null,null,null,null,null,null,null,null,null,null,null,null,null,null,"% of reinforcement given in 6 equal intervals based on number of trials "]
[null,null,null,null,null,null,null,null,null,null,null,null,null,null,null,"%_1","%_2","%_3","%_4","%_5","%_6"]
[null,null,null,null,null,null,null,null,null,null,null,null,null,null,"target sequence",{"$f":"$G$3","v":221},221,221,221,221,221]
[null,null,null,null,null,null,null,null,null,null,null,null,null,null,"total reinforcement",{"$f":"U13","v":0},{"$f":"Z13","v":0},{"$f":"AE13","v":0},{"$f":"AJ13","v":0},{"$f":"AO13","v":0},{"$f":"AT13","v":0}]
[null,null,null,null,null,null,null,null,null,null,null,null,null,null,"% target"]
[null,null,null,null,null,null,null,null,null,null,null,null,null,null,"CCRF"]
[null,null,null,null,null,null,null,null,null,null,null,null,null,null,"% CCRf"]
[null,null,null,null,null,null,null,null,null,null,null,null,null,null,"average response rate",{"$f":"F7/P20","v":91},{"$f":"(F8-F7)/Q20","v":234},{"$f":"(F9-F8)/R20","v":122},{"$f":"(F10-F9)/S20","v":150},{"$f":"(F11-F10)/T20","v":13304},{"$f":"(F12-F11)/U20","v":117}]

{"sheet":"!M92592B.AXT","index":30,"n_rows":28,"n_cols":48,"rows_kept":28,"cut":false,"hidden":false,"merged":[[4,39,4,42],[5,39,5,40],[4,44,4,47],[5,44,5,45],[4,24,4,27],[5,24,5,25],[4,29,4,32],[5,29,5,30],[4,34,4,37],[5,34,5,35],[1,1,1,2],[5,13,5,14],[18,13,18,14],[19,13,19,14],[4,19,4,22],[5,19,5,20]]}
["Report for:!M92592B.AXT"]
["Date:","<date>"]
["Hen:","<hen>",null,null,null,"Correct Sequence",{"$f":"Start!J2","v":221},null,null,null,null,null,null,null,null,"Total Sequences in Data",{"$f":"4994-COUNTBLANK(L7:L5000)","v":0},null,null,null,null,"Total Sequences in Block Data",{"$f":"COUNTA(L6:L7)","v":1},null,null,null,"Total Sequences in Block Data",{"$f":"COUNTA(L6:L7)","v":1},null,null,null,"Total Sequences in Block Data",{"$f":"COUNTA(L6:L7)","v":1},null,null,null,"Total Sequences in Block Data",{"$f":"COUNTA(L6:L7)","v":1},null,null,null,"Total Sequences in Block Data",{"$f":"COUNTA(L6:L7)","v":1},null,null,null,"Total Sequences in Block Data",{"$f":"COUNTA(L6:L7)","v":1}]
[null,null,null,null,null,null,null,null,null,null,null,null,null,null,null,"Total Sequences in Summary",{"$f":"SUM(O7:O14)","v":0},null,null,null,null,"Total Sequences in Block Summary",{"$f":"SUM(U7:U14)","v":0},null,null,null,"Total Sequences in Block Summary",{"$f":"SUM(Z7:Z14)","v":0},null,null,null,"Total Sequences in Block Summary",{"$f":"SUM(AE7:AE14)","v":0},null,null,null,"Total Sequences in Block Summary",{"$f":"SUM(AJ7:AJ14)","v":0},null,null,null,"Total Sequences in Block Summary",{"$f":"SUM(AO7:AO14)","v":0},null,null,null,"Total Sequences in Block Summary",{"$f":"SUM(AT7:AT14)","v":0}]
[null,null,null,null,null,null,null,null,null,null,null,null,null,null,null,null,null,null,null,"Block 1",null,null,null,null,"Block 2",null,null,null,null,"Block 3",null,null,null,null,"Block 4",null,null,null,null,"Block 5",null,null,null,null,"Block 6"]
["Sequence\nComponent\n1","Time\n1","Sequence\nComponent\n2","Time\n2","Sequence\nComponent\n3","Time\n3","Sequence\nComponent\n4","Time\n4","Sequence\nComponent\n5","Time\n5","Correct?\n0=No 1=Yes","Sequence",null,"Frequency",null,"Relative Frequency","Variability",null,null,"Frequency",null,"Relative Frequency","Variability",null,"Frequency",null,"Relative Frequency","Variability",null,"Frequency",null,"Relative Frequency","Variability",null,"Frequency",null,"Relative Frequency","Variability",null,"Frequency",null,"Relative Frequency","Variability",null,"Frequency",null,"Relative Frequency","Variability"]
[null,null,null,null,null,null,null,null,null,null,null,null,null,111,{"$f":"COUNTIF($L$7:$L$500,N7)","v":0},{"$f":"O7/$Q$4","v":{"$error":"#DIV/0!"}},{"$f":"IF(P7=0,0,(P7*((LOG(P7))/LOG(2))))","v":{"$error":"#DIV/0!"}},null,null,{"$f":"N7","v":111},{"$f":"COUNTIF(L6:L7,T7)","v":0},{"$f":"U7/(W4-U13)","v":{"$error":"#DIV/0!"}},{"$f":"IF(V7=0,0,(V7*((LOG(V7))/LOG(2))))","v":{"$error":"#DIV/0!"}},null,{"$f":"N7","v":111},{"$f":"COUNTIF(L6:L7,Y7)","v":0},{"$f":"Z7/(AB4-Z13)","v":{"$error":"#DIV/0!"}},{"$f":"IF(AA7=0,0,(AA7*((LOG(AA7))/LOG(2))))","v":{"$error":"#DIV/0!"}},null,{"$f":"N7","v":111},{"$f":"COUNTIF(L6:L7,AD7)","v":0},{"$f":"AE7/(AG4-AE13)","v":{"$error":"#DIV/0!"}},{"$f":"IF(AF7=0,0,(AF7*((LOG(AF7))/LOG(2))))","v":{"$error":"#DIV/0!"}},null,{"$f":"N7","v":111},{"$f":"COUNTIF(L6:L7,AI7)","v":0},{"$f":"AJ7/(AL4-AJ13)","v":{"$error":"#DIV/0!"}},{"$f":"IF(AK7=0,0,(AK7*((LOG(AK7))/LOG(2))))","v":{"$error":"#DIV/0!"}},null,{"$f":"N7","v":111},{"$f":"COUNTIF(L6:L7,AN7)","v":0},{"$f":"AO7/(AQ4-AO13)","v":{"$error":"#DIV/0!"}},{"$f":"IF(AP7=0,0,(AP7*((LOG(AP7))/LOG(2))))","v":{"$error":"#DIV/0!"}},null,{"$f":"N7","v":111},{"$f":"COUNTIF(L6:L7,AS7)","v":0},{"$f":"AT7/(AV4-AT13)","v":{"$error":"#DIV/0!"}},{"$f":"IF(AU7=0,0,(AU7*((LOG(AU7))/LOG(2))))","v":{"$error":"#DIV/0!"}}]
[null,null,null,null,null,null,null,null,null,null,null,null,null,112,0,{"$error":"#DIV/0!"},{"$error":"#DIV/0!"},null,null,112,{"$f":"COUNTIF(L6:L7,T8)","v":0},{"$f":"U8/(W4-U13)","v":{"$error":"#DIV/0!"}},{"$error":"#DIV/0!"},null,112,{"$f":"COUNTIF(L6:L7,Y8)","v":0},{"$f":"Z8/(AB4-Z13)","v":{"$error":"#DIV/0!"}},{"$error":"#DIV/0!"},null,112,{"$f":"COUNTIF(L6:L7,AD8)","v":0},{"$f":"AE8/(AG4-AE13)","v":{"$error":"#DIV/0!"}},{"$error":"#DIV/0!"},null,112,{"$f":"COUNTIF(L6:L7,AI8)","v":0},{"$f":"AJ8/(AL4-AJ13)","v":{"$error":"#DIV/0!"}},{"$error":"#DIV/0!"},null,112,{"$f":"COUNTIF(L6:L7,AN8)","v":0},{"$f":"AO8/(AQ4-AO13)","v":{"$error":"#DIV/0!"}},{"$error":"#DIV/0!"},null,112,{"$f":"COUNTIF(L6:L7,AS8)","v":0},{"$f":"AT8/(AV4-AT13)","v":{"$error":"#DIV/0!"}},{"$error":"#DIV/0!"}]
[null,null,null,null,null,null,null,null,null,null,null,null,null,121,0,{"$error":"#DIV/0!"},{"$error":"#DIV/0!"},null,null,121,{"$f":"COUNTIF(L6:L7,T9)","v":0},{"$f":"U9/(W4-U13)","v":{"$error":"#DIV/0!"}},{"$error":"#DIV/0!"},null,121,{"$f":"COUNTIF(L6:L7,Y9)","v":0},{"$f":"Z9/(AB4-Z13)","v":{"$error":"#DIV/0!"}},{"$error":"#DIV/0!"},null,121,{"$f":"COUNTIF(L6:L7,AD9)","v":0},{"$f":"AE9/(AG4-AE13)","v":{"$error":"#DIV/0!"}},{"$error":"#DIV/0!"},null,121,{"$f":"COUNTIF(L6:L7,AI9)","v":0},{"$f":"AJ9/(AL4-AJ13)","v":{"$error":"#DIV/0!"}},{"$error":"#DIV/0!"},null,121,{"$f":"COUNTIF(L6:L7,AN9)","v":0},{"$f":"AO9/(AQ4-AO13)","v":{"$error":"#DIV/0!"}},{"$error":"#DIV/0!"},null,121,{"$f":"COUNTIF(L6:L7,AS9)","v":0},{"$f":"AT9/(AV4-AT13)","v":{"$error":"#DIV/0!"}},{"$error":"#DIV/0!"}]
[null,null,null,null,null,null,null,null,null,null,null,null,null,122,0,{"$error":"#DIV/0!"},{"$error":"#DIV/0!"},null,null,122,{"$f":"COUNTIF(L6:L7,T10)","v":0},{"$f":"U10/(W4-U13)","v":{"$error":"#DIV/0!"}},{"$error":"#DIV/0!"},null,122,{"$f":"COUNTIF(L6:L7,Y10)","v":0},{"$f":"Z10/(AB4-Z13)","v":{"$error":"#DIV/0!"}},{"$error":"#DIV/0!"},null,122,{"$f":"COUNTIF(L6:L7,AD10)","v":0},{"$f":"AE10/(AG4-AE13)","v":{"$error":"#DIV/0!"}},{"$error":"#DIV/0!"},null,122,{"$f":"COUNTIF(L6:L7,AI10)","v":0},{"$f":"AJ10/(AL4-AJ13)","v":{"$error":"#DIV/0!"}},{"$error":"#DIV/0!"},null,122,{"$f":"COUNTIF(L6:L7,AN10)","v":0},{"$f":"AO10/(AQ4-AO13)","v":{"$error":"#DIV/0!"}},{"$error":"#DIV/0!"},null,122,{"$f":"COUNTIF(L6:L7,AS10)","v":0},{"$f":"AT10/(AV4-AT13)","v":{"$error":"#DIV/0!"}},{"$error":"#DIV/0!"}]
[null,null,null,null,null,null,null,null,null,null,null,null,null,211,0,{"$error":"#DIV/0!"},{"$error":"#DIV/0!"},null,null,211,{"$f":"COUNTIF(L6:L7,T11)","v":0},{"$f":"U11/(W4-U13)","v":{"$error":"#DIV/0!"}},{"$error":"#DIV/0!"},null,211,{"$f":"COUNTIF(L6:L7,Y11)","v":0},{"$f":"Z11/(AB4-Z13)","v":{"$error":"#DIV/0!"}},{"$error":"#DIV/0!"},null,211,{"$f":"COUNTIF(L6:L7,AD11)","v":0},{"$f":"AE11/(AG4-AE13)","v":{"$error":"#DIV/0!"}},{"$error":"#DIV/0!"},null,211,{"$f":"COUNTIF(L6:L7,AI11)","v":0},{"$f":"AJ11/(AL4-AJ13)","v":{"$error":"#DIV/0!"}},{"$error":"#DIV/0!"},null,211,{"$f":"COUNTIF(L6:L7,AN11)","v":0},{"$f":"AO11/(AQ4-AO13)","v":{"$error":"#DIV/0!"}},{"$error":"#DIV/0!"},null,211,{"$f":"COUNTIF(L6:L7,AS11)","v":0},{"$f":"AT11/(AV4-AT13)","v":{"$error":"#DIV/0!"}},{"$error":"#DIV/0!"}]
[null,null,null,null,null,null,null,null,null,null,null,null,null,212,0,{"$error":"#DIV/0!"},{"$error":"#DIV/0!"},null,null,212,{"$f":"COUNTIF(L6:L7,T12)","v":0},{"$f":"U12/(W4-U13)","v":{"$error":"#DIV/0!"}},{"$error":"#DIV/0!"},null,212,{"$f":"COUNTIF(L6:L7,Y12)","v":0},{"$f":"Z12/(AB4-Z13)","v":{"$error":"#DIV/0!"}},{"$error":"#DIV/0!"},null,212,{"$f":"COUNTIF(L6:L7,AD12)","v":0},{"$f":"AE12/(AG4-AE13)","v":{"$error":"#DIV/0!"}},{"$error":"#DIV/0!"},null,212,{"$f":"COUNTIF(L6:L7,AI12)","v":0},{"$f":"AJ12/(AL4-AJ13)","v":{"$error":"#DIV/0!"}},{"$error":"#DIV/0!"},null,212,{"$f":"COUNTIF(L6:L7,AN12)","v":0},{"$f":"AO12/(AQ4-AO13)","v":{"$error":"#DIV/0!"}},{"$error":"#DIV/0!"},null,212,{"$f":"COUNTIF(L6:L7,AS12)","v":0},{"$f":"AT12/(AV4-AT13)","v":{"$error":"#DIV/0!"}},{"$error":"#DIV/0!"}]
[null,null,null,null,null,null,null,null,null,null,null,null,null,221,0,{"$error":"#DIV/0!"},{"$error":"#DIV/0!"},null,null,221,{"$f":"COUNTIF(L6:L7,T13)","v":0},null,null,null,221,{"$f":"COUNTIF(L6:L7,Y13)","v":0},null,null,null,221,{"$f":"COUNTIF(L6:L7,AD13)","v":0},null,null,null,221,{"$f":"COUNTIF(L6:L7,AI13)","v":0},null,null,null,221,{"$f":"COUNTIF(L6:L7,AN13)","v":0},null,null,null,221,{"$f":"COUNTIF(L6:L7,AS13)","v":0}]
[null,null,null,null,null,null,null,null,null,null,null,null,null,222,0,{"$error":"#DIV/0!"},{"$error":"#DIV/0!"},null,null,222,{"$f":"COUNTIF(L6:L7,T14)","v":0},{"$f":"U14/(W4-U13)","v":{"$error":"#DIV/0!"}},{"$f":"IF(V14=0,0,(V14*((LOG(V14))/LOG(2))))","v":{"$error":"#DIV/0!"}},null,222,{"$f":"COUNTIF(L6:L7,Y14)","v":0},{"$f":"Z14/(AB4-Z13)","v":{"$error":"#DIV/0!"}},{"$f":"IF(AA14=0,0,(AA14*((LOG(AA14))/LOG(2))))","v":{"$error":"#DIV/0!"}},null,222,{"$f":"COUNTIF(L6:L7,AD14)","v":0},{"$f":"AE14/(AG4-AE13)","v":{"$error":"#DIV/0!"}},{"$f":"IF(AF14=0,0,(AF14*((LOG(AF14))/LOG(2))))","v":{"$error":"#DIV/0!"}},null,222,{"$f":"COUNTIF(L6:L7,AI14)","v":0},{"$f":"AJ14/(AL4-AJ13)","v":{"$error":"#DIV/0!"}},{"$f":"IF(AK14=0,0,(AK14*((LOG(AK14))/LOG(2))))","v":{"$error":"#DIV/0!"}},null,222,{"$f":"COUNTIF(L6:L7,AN14)","v":0},{"$f":"AO14/(AQ4-AO13)","v":{"$error":"#DIV/0!"}},{"$f":"IF(AP14=0,0,(AP14*((LOG(AP14))/LOG(2))))","v":{"$error":"#DIV/0!"}},null,222,{"$f":"COUNTIF(L6:L7,AS14)","v":0},{"$f":"AT14/(AV4-AT13)","v":{"$error":"#DIV/0!"}},{"$f":"IF(AU14=0,0,(AU14*((LOG(AU14))/LOG(2))))","v":{"$error":"#DIV/0!"}}]
[null,null,null,null,null,null,null,null,null,null,null,null,null,null,null,{"$f":"SUM(P7:P14)","v":{"$error":"#DIV/0!"}},{"$f":"-SUM(Q7:Q14)","v":{"$error":"#DIV/0!"}},null,null,null,null,{"$f":"SUM(V7:V14)","v":{"$error":"#DIV/0!"}},{"$f":"-SUM(W7:W14)","v":{"$error":"#DIV/0!"}},null,null,null,{"$f":"SUM(AA7:AA14)","v":{"$error":"#DIV/0!"}},{"$f":"-SUM(AB7:AB14)","v":{"$error":"#DIV/0!"}},null,null,null,{"$f":"SUM(AF7:AF14)","v":{"$error":"#DIV/0!"}},{"$f":"-SUM(AG7:AG14)","v":{"$error":"#DIV/0!"}},null,null,null,{"$f":"SUM(AK7:AK14)","v":{"$error":"#DIV/0!"}},{"$f":"-SUM(AL7:AL14)","v":{"$error":"#DIV/0!"}},null,null,null,{"$f":"SUM(AP7:AP14)","v":{"$error":"#DIV/0!"}},{"$f":"-SUM(AQ7:AQ14)","v":{"$error":"#DIV/0!"}},null,null,null,{"$f":"SUM(AU7:AU14)","v":{"$error":"#DIV/0!"}},{"$f":"-SUM(AV7:AV14)","v":{"$error":"#DIV/0!"}}]
[null,null,null,null,null,null,null,null,null,null,null,null,null,null,null,"U=",{"$f":"Q15/(LOG(Q4)/LOG(2))","v":{"$error":"#DIV/0!"}},null,null,null,null,"U1=",{"$f":"W15/(LOG(W4)/LOG(2))","v":{"$error":"#DIV/0!"}},null,null,null,"U2=",{"$f":"AB15/(LOG(AB4)/LOG(2))","v":{"$error":"#DIV/0!"}},null,null,null,"U3=",{"$f":"AG15/(LOG(AG4)/LOG(2))","v":{"$error":"#DIV/0!"}},null,null,null,"U4=",{"$f":"AL15/(LOG(AL4)/LOG(2))","v":{"$error":"#DIV/0!"}},null,null,null,"U5=",{"$f":"AQ15/(LOG(AQ4)/LOG(2))","v":{"$error":"#DIV/0!"}},null,null,null,"U6=",{"$f":"AV15/(LOG(AV4)/LOG(2))","v":{"$error":"#DIV/0!"}}]
[]
[]
[null,null,null,null,null,null,null,null,null,null,null,null,null,"Total Target Seq"]
[null,null,null,null,null,null,null,null,null,null,null,null,null,{"$f":"COUNTIF(L6:L7,G3)","v":0},null,0,0,0,0,0,0]
[null,null,null,null,null,null,null,null,null,null,null,null,null,null,null,"% of reinforcement given in 6 equal intervals based on number of trials "]
[null,null,null,null,null,null,null,null,null,null,null,null,null,null,null,"%_1","%_2","%_3","%_4","%_5","%_6"]
[null,null,null,null,null,null,null,null,null,null,null,null,null,null,"target sequence",{"$f":"$G$3","v":221},221,221,221,221,221]
[null,null,null,null,null,null,null,null,null,null,null,null,null,null,"total reinforcement",{"$f":"U13","v":0},{"$f":"Z13","v":0},{"$f":"AE13","v":0},{"$f":"AJ13","v":0},{"$f":"AO13","v":0},{"$f":"AT13","v":0}]
[null,null,null,null,null,null,null,null,null,null,null,null,null,null,"% target"]
[null,null,null,null,null,null,null,null,null,null,null,null,null,null,"CCRF"]
[null,null,null,null,null,null,null,null,null,null,null,null,null,null,"% CCRf"]
[null,null,null,null,null,null,null,null,null,null,null,null,null,null,"average response rate",{"$f":"F6/P20","v":{"$error":"#VALUE!"}},{"$f":"(F6-F6)/Q20","v":{"$error":"#VALUE!"}},{"$f":"(F6-F6)/R20","v":{"$error":"#VALUE!"}},{"$f":"(F6-F6)/S20","v":{"$error":"#VALUE!"}},{"$f":"(F6-F6)/T20","v":{"$error":"#VALUE!"}},{"$f":"(F6-F6)/U20","v":{"$error":"#VALUE!"}}]

{"sheet":"!M92693B.AXT","index":31,"n_rows":28,"n_cols":48,"rows_kept":28,"cut":false,"hidden":false,"merged":[[4,39,4,42],[5,39,5,40],[4,44,4,47],[5,44,5,45],[4,24,4,27],[5,24,5,25],[4,29,4,32],[5,29,5,30],[4,34,4,37],[5,34,5,35],[1,1,1,2],[5,13,5,14],[18,13,18,14],[19,13,19,14],[4,19,4,22],[5,19,5,20]]}
["Report for:!M92693B.AXT"]
["Date:","<date>"]
["Hen:","<hen>",null,null,null,"Correct Sequence",{"$f":"Start!J2","v":221},null,null,null,null,null,null,null,null,"Total Sequences in Data",{"$f":"4994-COUNTBLANK(L7:L5000)","v":0},null,null,null,null,"Total Sequences in Block Data",{"$f":"COUNTA(L6:L7)","v":1},null,null,null,"Total Sequences in Block Data",{"$f":"COUNTA(L6:L7)","v":1},null,null,null,"Total Sequences in Block Data",{"$f":"COUNTA(L6:L7)","v":1},null,null,null,"Total Sequences in Block Data",{"$f":"COUNTA(L6:L7)","v":1},null,null,null,"Total Sequences in Block Data",{"$f":"COUNTA(L6:L7)","v":1},null,null,null,"Total Sequences in Block Data",{"$f":"COUNTA(L6:L7)","v":1}]
[null,null,null,null,null,null,null,null,null,null,null,null,null,null,null,"Total Sequences in Summary",{"$f":"SUM(O7:O14)","v":0},null,null,null,null,"Total Sequences in Block Summary",{"$f":"SUM(U7:U14)","v":0},null,null,null,"Total Sequences in Block Summary",{"$f":"SUM(Z7:Z14)","v":0},null,null,null,"Total Sequences in Block Summary",{"$f":"SUM(AE7:AE14)","v":0},null,null,null,"Total Sequences in Block Summary",{"$f":"SUM(AJ7:AJ14)","v":0},null,null,null,"Total Sequences in Block Summary",{"$f":"SUM(AO7:AO14)","v":0},null,null,null,"Total Sequences in Block Summary",{"$f":"SUM(AT7:AT14)","v":0}]
[null,null,null,null,null,null,null,null,null,null,null,null,null,null,null,null,null,null,null,"Block 1",null,null,null,null,"Block 2",null,null,null,null,"Block 3",null,null,null,null,"Block 4",null,null,null,null,"Block 5",null,null,null,null,"Block 6"]
["Sequence\nComponent\n1","Time\n1","Sequence\nComponent\n2","Time\n2","Sequence\nComponent\n3","Time\n3","Sequence\nComponent\n4","Time\n4","Sequence\nComponent\n5","Time\n5","Correct?\n0=No 1=Yes","Sequence",null,"Frequency",null,"Relative Frequency","Variability",null,null,"Frequency",null,"Relative Frequency","Variability",null,"Frequency",null,"Relative Frequency","Variability",null,"Frequency",null,"Relative Frequency","Variability",null,"Frequency",null,"Relative Frequency","Variability",null,"Frequency",null,"Relative Frequency","Variability",null,"Frequency",null,"Relative Frequency","Variability"]
[null,null,null,null,null,null,null,null,null,null,null,null,null,111,{"$f":"COUNTIF($L$7:$L$500,N7)","v":0},{"$f":"O7/$Q$4","v":{"$error":"#DIV/0!"}},{"$f":"IF(P7=0,0,(P7*((LOG(P7))/LOG(2))))","v":{"$error":"#DIV/0!"}},null,null,{"$f":"N7","v":111},{"$f":"COUNTIF(L6:L7,T7)","v":0},{"$f":"U7/(W4-U13)","v":{"$error":"#DIV/0!"}},{"$f":"IF(V7=0,0,(V7*((LOG(V7))/LOG(2))))","v":{"$error":"#DIV/0!"}},null,{"$f":"N7","v":111},{"$f":"COUNTIF(L6:L7,Y7)","v":0},{"$f":"Z7/(AB4-Z13)","v":{"$error":"#DIV/0!"}},{"$f":"IF(AA7=0,0,(AA7*((LOG(AA7))/LOG(2))))","v":{"$error":"#DIV/0!"}},null,{"$f":"N7","v":111},{"$f":"COUNTIF(L6:L7,AD7)","v":0},{"$f":"AE7/(AG4-AE13)","v":{"$error":"#DIV/0!"}},{"$f":"IF(AF7=0,0,(AF7*((LOG(AF7))/LOG(2))))","v":{"$error":"#DIV/0!"}},null,{"$f":"N7","v":111},{"$f":"COUNTIF(L6:L7,AI7)","v":0},{"$f":"AJ7/(AL4-AJ13)","v":{"$error":"#DIV/0!"}},{"$f":"IF(AK7=0,0,(AK7*((LOG(AK7))/LOG(2))))","v":{"$error":"#DIV/0!"}},null,{"$f":"N7","v":111},{"$f":"COUNTIF(L6:L7,AN7)","v":0},{"$f":"AO7/(AQ4-AO13)","v":{"$error":"#DIV/0!"}},{"$f":"IF(AP7=0,0,(AP7*((LOG(AP7))/LOG(2))))","v":{"$error":"#DIV/0!"}},null,{"$f":"N7","v":111},{"$f":"COUNTIF(L6:L7,AS7)","v":0},{"$f":"AT7/(AV4-AT13)","v":{"$error":"#DIV/0!"}},{"$f":"IF(AU7=0,0,(AU7*((LOG(AU7))/LOG(2))))","v":{"$error":"#DIV/0!"}}]
[null,null,null,null,null,null,null,null,null,null,null,null,null,112,0,{"$error":"#DIV/0!"},{"$error":"#DIV/0!"},null,null,112,{"$f":"COUNTIF(L6:L7,T8)","v":0},{"$f":"U8/(W4-U13)","v":{"$error":"#DIV/0!"}},{"$error":"#DIV/0!"},null,112,{"$f":"COUNTIF(L6:L7,Y8)","v":0},{"$f":"Z8/(AB4-Z13)","v":{"$error":"#DIV/0!"}},{"$error":"#DIV/0!"},null,112,{"$f":"COUNTIF(L6:L7,AD8)","v":0},{"$f":"AE8/(AG4-AE13)","v":{"$error":"#DIV/0!"}},{"$error":"#DIV/0!"},null,112,{"$f":"COUNTIF(L6:L7,AI8)","v":0},{"$f":"AJ8/(AL4-AJ13)","v":{"$error":"#DIV/0!"}},{"$error":"#DIV/0!"},null,112,{"$f":"COUNTIF(L6:L7,AN8)","v":0},{"$f":"AO8/(AQ4-AO13)","v":{"$error":"#DIV/0!"}},{"$error":"#DIV/0!"},null,112,{"$f":"COUNTIF(L6:L7,AS8)","v":0},{"$f":"AT8/(AV4-AT13)","v":{"$error":"#DIV/0!"}},{"$error":"#DIV/0!"}]
[null,null,null,null,null,null,null,null,null,null,null,null,null,121,0,{"$error":"#DIV/0!"},{"$error":"#DIV/0!"},null,null,121,{"$f":"COUNTIF(L6:L7,T9)","v":0},{"$f":"U9/(W4-U13)","v":{"$error":"#DIV/0!"}},{"$error":"#DIV/0!"},null,121,{"$f":"COUNTIF(L6:L7,Y9)","v":0},{"$f":"Z9/(AB4-Z13)","v":{"$error":"#DIV/0!"}},{"$error":"#DIV/0!"},null,121,{"$f":"COUNTIF(L6:L7,AD9)","v":0},{"$f":"AE9/(AG4-AE13)","v":{"$error":"#DIV/0!"}},{"$error":"#DIV/0!"},null,121,{"$f":"COUNTIF(L6:L7,AI9)","v":0},{"$f":"AJ9/(AL4-AJ13)","v":{"$error":"#DIV/0!"}},{"$error":"#DIV/0!"},null,121,{"$f":"COUNTIF(L6:L7,AN9)","v":0},{"$f":"AO9/(AQ4-AO13)","v":{"$error":"#DIV/0!"}},{"$error":"#DIV/0!"},null,121,{"$f":"COUNTIF(L6:L7,AS9)","v":0},{"$f":"AT9/(AV4-AT13)","v":{"$error":"#DIV/0!"}},{"$error":"#DIV/0!"}]
[null,null,null,null,null,null,null,null,null,null,null,null,null,122,0,{"$error":"#DIV/0!"},{"$error":"#DIV/0!"},null,null,122,{"$f":"COUNTIF(L6:L7,T10)","v":0},{"$f":"U10/(W4-U13)","v":{"$error":"#DIV/0!"}},{"$error":"#DIV/0!"},null,122,{"$f":"COUNTIF(L6:L7,Y10)","v":0},{"$f":"Z10/(AB4-Z13)","v":{"$error":"#DIV/0!"}},{"$error":"#DIV/0!"},null,122,{"$f":"COUNTIF(L6:L7,AD10)","v":0},{"$f":"AE10/(AG4-AE13)","v":{"$error":"#DIV/0!"}},{"$error":"#DIV/0!"},null,122,{"$f":"COUNTIF(L6:L7,AI10)","v":0},{"$f":"AJ10/(AL4-AJ13)","v":{"$error":"#DIV/0!"}},{"$error":"#DIV/0!"},null,122,{"$f":"COUNTIF(L6:L7,AN10)","v":0},{"$f":"AO10/(AQ4-AO13)","v":{"$error":"#DIV/0!"}},{"$error":"#DIV/0!"},null,122,{"$f":"COUNTIF(L6:L7,AS10)","v":0},{"$f":"AT10/(AV4-AT13)","v":{"$error":"#DIV/0!"}},{"$error":"#DIV/0!"}]
[null,null,null,null,null,null,null,null,null,null,null,null,null,211,0,{"$error":"#DIV/0!"},{"$error":"#DIV/0!"},null,null,211,{"$f":"COUNTIF(L6:L7,T11)","v":0},{"$f":"U11/(W4-U13)","v":{"$error":"#DIV/0!"}},{"$error":"#DIV/0!"},null,211,{"$f":"COUNTIF(L6:L7,Y11)","v":0},{"$f":"Z11/(AB4-Z13)","v":{"$error":"#DIV/0!"}},{"$error":"#DIV/0!"},null,211,{"$f":"COUNTIF(L6:L7,AD11)","v":0},{"$f":"AE11/(AG4-AE13)","v":{"$error":"#DIV/0!"}},{"$error":"#DIV/0!"},null,211,{"$f":"COUNTIF(L6:L7,AI11)","v":0},{"$f":"AJ11/(AL4-AJ13)","v":{"$error":"#DIV/0!"}},{"$error":"#DIV/0!"},null,211,{"$f":"COUNTIF(L6:L7,AN11)","v":0},{"$f":"AO11/(AQ4-AO13)","v":{"$error":"#DIV/0!"}},{"$error":"#DIV/0!"},null,211,{"$f":"COUNTIF(L6:L7,AS11)","v":0},{"$f":"AT11/(AV4-AT13)","v":{"$error":"#DIV/0!"}},{"$error":"#DIV/0!"}]
[null,null,null,null,null,null,null,null,null,null,null,null,null,212,0,{"$error":"#DIV/0!"},{"$error":"#DIV/0!"},null,null,212,{"$f":"COUNTIF(L6:L7,T12)","v":0},{"$f":"U12/(W4-U13)","v":{"$error":"#DIV/0!"}},{"$error":"#DIV/0!"},null,212,{"$f":"COUNTIF(L6:L7,Y12)","v":0},{"$f":"Z12/(AB4-Z13)","v":{"$error":"#DIV/0!"}},{"$error":"#DIV/0!"},null,212,{"$f":"COUNTIF(L6:L7,AD12)","v":0},{"$f":"AE12/(AG4-AE13)","v":{"$error":"#DIV/0!"}},{"$error":"#DIV/0!"},null,212,{"$f":"COUNTIF(L6:L7,AI12)","v":0},{"$f":"AJ12/(AL4-AJ13)","v":{"$error":"#DIV/0!"}},{"$error":"#DIV/0!"},null,212,{"$f":"COUNTIF(L6:L7,AN12)","v":0},{"$f":"AO12/(AQ4-AO13)","v":{"$error":"#DIV/0!"}},{"$error":"#DIV/0!"},null,212,{"$f":"COUNTIF(L6:L7,AS12)","v":0},{"$f":"AT12/(AV4-AT13)","v":{"$error":"#DIV/0!"}},{"$error":"#DIV/0!"}]
[null,null,null,null,null,null,null,null,null,null,null,null,null,221,0,{"$error":"#DIV/0!"},{"$error":"#DIV/0!"},null,null,221,{"$f":"COUNTIF(L6:L7,T13)","v":0},null,null,null,221,{"$f":"COUNTIF(L6:L7,Y13)","v":0},null,null,null,221,{"$f":"COUNTIF(L6:L7,AD13)","v":0},null,null,null,221,{"$f":"COUNTIF(L6:L7,AI13)","v":0},null,null,null,221,{"$f":"COUNTIF(L6:L7,AN13)","v":0},null,null,null,221,{"$f":"COUNTIF(L6:L7,AS13)","v":0}]
[null,null,null,null,null,null,null,null,null,null,null,null,null,222,0,{"$error":"#DIV/0!"},{"$error":"#DIV/0!"},null,null,222,{"$f":"COUNTIF(L6:L7,T14)","v":0},{"$f":"U14/(W4-U13)","v":{"$error":"#DIV/0!"}},{"$f":"IF(V14=0,0,(V14*((LOG(V14))/LOG(2))))","v":{"$error":"#DIV/0!"}},null,222,{"$f":"COUNTIF(L6:L7,Y14)","v":0},{"$f":"Z14/(AB4-Z13)","v":{"$error":"#DIV/0!"}},{"$f":"IF(AA14=0,0,(AA14*((LOG(AA14))/LOG(2))))","v":{"$error":"#DIV/0!"}},null,222,{"$f":"COUNTIF(L6:L7,AD14)","v":0},{"$f":"AE14/(AG4-AE13)","v":{"$error":"#DIV/0!"}},{"$f":"IF(AF14=0,0,(AF14*((LOG(AF14))/LOG(2))))","v":{"$error":"#DIV/0!"}},null,222,{"$f":"COUNTIF(L6:L7,AI14)","v":0},{"$f":"AJ14/(AL4-AJ13)","v":{"$error":"#DIV/0!"}},{"$f":"IF(AK14=0,0,(AK14*((LOG(AK14))/LOG(2))))","v":{"$error":"#DIV/0!"}},null,222,{"$f":"COUNTIF(L6:L7,AN14)","v":0},{"$f":"AO14/(AQ4-AO13)","v":{"$error":"#DIV/0!"}},{"$f":"IF(AP14=0,0,(AP14*((LOG(AP14))/LOG(2))))","v":{"$error":"#DIV/0!"}},null,222,{"$f":"COUNTIF(L6:L7,AS14)","v":0},{"$f":"AT14/(AV4-AT13)","v":{"$error":"#DIV/0!"}},{"$f":"IF(AU14=0,0,(AU14*((LOG(AU14))/LOG(2))))","v":{"$error":"#DIV/0!"}}]
[null,null,null,null,null,null,null,null,null,null,null,null,null,null,null,{"$f":"SUM(P7:P14)","v":{"$error":"#DIV/0!"}},{"$f":"-SUM(Q7:Q14)","v":{"$error":"#DIV/0!"}},null,null,null,null,{"$f":"SUM(V7:V14)","v":{"$error":"#DIV/0!"}},{"$f":"-SUM(W7:W14)","v":{"$error":"#DIV/0!"}},null,null,null,{"$f":"SUM(AA7:AA14)","v":{"$error":"#DIV/0!"}},{"$f":"-SUM(AB7:AB14)","v":{"$error":"#DIV/0!"}},null,null,null,{"$f":"SUM(AF7:AF14)","v":{"$error":"#DIV/0!"}},{"$f":"-SUM(AG7:AG14)","v":{"$error":"#DIV/0!"}},null,null,null,{"$f":"SUM(AK7:AK14)","v":{"$error":"#DIV/0!"}},{"$f":"-SUM(AL7:AL14)","v":{"$error":"#DIV/0!"}},null,null,null,{"$f":"SUM(AP7:AP14)","v":{"$error":"#DIV/0!"}},{"$f":"-SUM(AQ7:AQ14)","v":{"$error":"#DIV/0!"}},null,null,null,{"$f":"SUM(AU7:AU14)","v":{"$error":"#DIV/0!"}},{"$f":"-SUM(AV7:AV14)","v":{"$error":"#DIV/0!"}}]
[null,null,null,null,null,null,null,null,null,null,null,null,null,null,null,"U=",{"$f":"Q15/(LOG(Q4)/LOG(2))","v":{"$error":"#DIV/0!"}},null,null,null,null,"U1=",{"$f":"W15/(LOG(W4)/LOG(2))","v":{"$error":"#DIV/0!"}},null,null,null,"U2=",{"$f":"AB15/(LOG(AB4)/LOG(2))","v":{"$error":"#DIV/0!"}},null,null,null,"U3=",{"$f":"AG15/(LOG(AG4)/LOG(2))","v":{"$error":"#DIV/0!"}},null,null,null,"U4=",{"$f":"AL15/(LOG(AL4)/LOG(2))","v":{"$error":"#DIV/0!"}},null,null,null,"U5=",{"$f":"AQ15/(LOG(AQ4)/LOG(2))","v":{"$error":"#DIV/0!"}},null,null,null,"U6=",{"$f":"AV15/(LOG(AV4)/LOG(2))","v":{"$error":"#DIV/0!"}}]
[]
[]
[null,null,null,null,null,null,null,null,null,null,null,null,null,"Total Target Seq"]
[null,null,null,null,null,null,null,null,null,null,null,null,null,{"$f":"COUNTIF(L6:L7,G3)","v":0},null,0,0,0,0,0,0]
[null,null,null,null,null,null,null,null,null,null,null,null,null,null,null,"% of reinforcement given in 6 equal intervals based on number of trials "]
[null,null,null,null,null,null,null,null,null,null,null,null,null,null,null,"%_1","%_2","%_3","%_4","%_5","%_6"]
[null,null,null,null,null,null,null,null,null,null,null,null,null,null,"target sequence",{"$f":"$G$3","v":221},221,221,221,221,221]
[null,null,null,null,null,null,null,null,null,null,null,null,null,null,"total reinforcement",{"$f":"U13","v":0},{"$f":"Z13","v":0},{"$f":"AE13","v":0},{"$f":"AJ13","v":0},{"$f":"AO13","v":0},{"$f":"AT13","v":0}]
[null,null,null,null,null,null,null,null,null,null,null,null,null,null,"% target"]
[null,null,null,null,null,null,null,null,null,null,null,null,null,null,"CCRF"]
[null,null,null,null,null,null,null,null,null,null,null,null,null,null,"% CCRf"]
[null,null,null,null,null,null,null,null,null,null,null,null,null,null,"average response rate",{"$f":"F6/P20","v":{"$error":"#VALUE!"}},{"$f":"(F6-F6)/Q20","v":{"$error":"#VALUE!"}},{"$f":"(F6-F6)/R20","v":{"$error":"#VALUE!"}},{"$f":"(F6-F6)/S20","v":{"$error":"#VALUE!"}},{"$f":"(F6-F6)/T20","v":{"$error":"#VALUE!"}},{"$f":"(F6-F6)/U20","v":{"$error":"#VALUE!"}}]

{"sheet":"!M927A2B.AXT","index":32,"n_rows":31,"n_cols":48,"rows_kept":31,"cut":false,"hidden":false,"merged":[[4,39,4,42],[5,39,5,40],[4,44,4,47],[5,44,5,45],[4,24,4,27],[5,24,5,25],[4,29,4,32],[5,29,5,30],[4,34,4,37],[5,34,5,35],[1,1,1,2],[5,13,5,14],[18,13,18,14],[19,13,19,14],[4,19,4,22],[5,19,5,20]]}
["Report for:!M927A2B.AXT"]
["Date:","<date>"]
["Hen:","<hen>",null,null,null,"Correct Sequence",{"$f":"Start!J2","v":221},null,null,null,null,null,null,null,null,"Total Sequences in Data",{"$f":"4994-COUNTBLANK(L7:L5000)","v":25},null,null,null,null,"Total Sequences in Block Data",{"$f":"COUNTA(L7:L10)","v":4},null,null,null,"Total Sequences in Block Data",{"$f":"COUNTA(L11:L14)","v":4},null,null,null,"Total Sequences in Block Data",{"$f":"COUNTA(L15:L19)","v":5},null,null,null,"Total Sequences in Block Data",{"$f":"COUNTA(L20:L23)","v":4},null,null,null,"Total Sequences in Block Data",{"$f":"COUNTA(L24:L27)","v":4},null,null,null,"Total Sequences in Block Data",{"$f":"COUNTA(L28:L31)","v":4}]
[null,null,null,null,null,null,null,null,null,null,null,null,null,null,null,"Total Sequences in Summary",{"$f":"SUM(O7:O14)","v":25},null,null,null,null,"Total Sequences in Block Summary",{"$f":"SUM(U7:U14)","v":4},null,null,null,"Total Sequences in Block Summary",{"$f":"SUM(Z7:Z14)","v":4},null,null,null,"Total Sequences in Block Summary",{"$f":"SUM(AE7:AE14)","v":5},null,null,null,"Total Sequences in Block Summary",{"$f":"SUM(AJ7:AJ14)","v":4},null,null,null,"Total Sequences in Block Summary",{"$f":"SUM(AO7:AO14)","v":4},null,null,null,"Total Sequences in Block Summary",{"$f":"SUM(AT7:AT14)","v":4}]
[null,null,null,null,null,null,null,null,null,null,null,null,null,null,null,null,null,null,null,"Block 1",null,null,null,null,"Block 2",null,null,null,null,"Block 3",null,null,null,null,"Block 4",null,null,null,null,"Block 5",null,null,null,null,"Block 6"]
["Sequence\nComponent\n1","Time\n1","Sequence\nComponent\n2","Time\n2","Sequence\nComponent\n3","Time\n3","Sequence\nComponent\n4","Time\n4","Sequence\nComponent\n5","Time\n5","Correct?\n0=No 1=Yes","Sequence",null,"Frequency",null,"Relative Frequency","Variability",null,null,"Frequency",null,"Relative Frequency","Variability",null,"Frequency",null,"Relative Frequency","Variability",null,"Frequency",null,"Relative Frequency","Variability",null,"Frequency",null,"Relative Frequency","Variability",null,"Frequency",null,"Relative Frequency","Variability",null,"Frequency",null,"Relative Frequency","Variability"]
[12,4246,23,4251,24,4263,null,null,null,null,0,122,null,111,{"$f":"COUNTIF($L$7:$L$500,N7)","v":3},{"$f":"O7/$Q$4","v":0.12},{"$f":"IF(P7=0,0,(P7*((LOG(P7))/LOG(2))))","v":-0.36706724268642821},null,null,{"$f":"N7","v":111},{"$f":"COUNTIF(L7:L10,T7)","v":0},{"$f":"U7/(W4-U13)","v":0},{"$f":"IF(V7=0,0,(V7*((LOG(V7))/LOG(2))))","v":0},null,{"$f":"N7","v":111},{"$f":"COUNTIF(L11:L14,Y7)","v":1},{"$f":"Z7/(AB4-Z13)","v":0.25},{"$f":"IF(AA7=0,0,(AA7*((LOG(AA7))/LOG(2))))","v":-0.5},null,{"$f":"N7","v":111},{"$f":"COUNTIF(L15:L19,AD7)","v":0},{"$f":"AE7/(AG4-AE13)","v":0},{"$f":"IF(AF7=0,0,(AF7*((LOG(AF7))/LOG(2))))","v":0},null,{"$f":"N7","v":111},{"$f":"COUNTIF(L20:L23,AI7)","v":0},{"$f":"AJ7/(AL4-AJ13)","v":0},{"$f":"IF(AK7=0,0,(AK7*((LOG(AK7))/LOG(2))))","v":0},null,{"$f":"N7","v":111},{"$f":"COUNTIF(L24:L27,AN7)","v":0},{"$f":"AO7/(AQ4-AO13)","v":0},{"$f":"IF(AP7=0,0,(AP7*((LOG(AP7))/LOG(2))))","v":0},null,{"$f":"N7","v":111},{"$f":"COUNTIF(L28:L31,AS7)","v":2},{"$f":"AT7/(AV4-AT13)","v":0.5},{"$f":"IF(AU7=0,0,(AU7*((LOG(AU7))/LOG(2))))","v":-0.5}]
[21,4566,21,4577,11,4598,null,null,null,null,0,221,null,112,4,0.16,-0.42301699036395596,null,null,112,{"$f":"COUNTIF(L7:L10,T8)","v":0},{"$f":"U8/(W4-U13)","v":0},0,null,112,{"$f":"COUNTIF(L11:L14,Y8)","v":0},{"$f":"Z8/(AB4-Z13)","v":0},0,null,112,{"$f":"COUNTIF(L15:L19,AD8)","v":1},{"$f":"AE8/(AG4-AE13)","v":0.25},-0.5,null,112,{"$f":"COUNTIF(L20:L23,AI8)","v":1},{"$f":"AJ8/(AL4-AJ13)","v":0.25},-0.5,null,112,{"$f":"COUNTIF(L24:L27,AN8)","v":1},{"$f":"AO8/(AQ4-AO13)","v":0.25},-0.5,null,112,{"$f":"COUNTIF(L28:L31,AS8)","v":1},{"$f":"AT8/(AV4-AT13)","v":0.25},-0.5]
[21,4690,21,4706,11,4722,null,null,null,null,0,221,null,121,1,0.04,-0.18575424759098899,null,null,121,{"$f":"COUNTIF(L7:L10,T9)","v":0},{"$f":"U9/(W4-U13)","v":0},0,null,121,{"$f":"COUNTIF(L11:L14,Y9)","v":0},{"$f":"Z9/(AB4-Z13)","v":0},0,null,121,{"$f":"COUNTIF(L15:L19,AD9)","v":0},{"$f":"AE9/(AG4-AE13)","v":0},0,null,121,{"$f":"COUNTIF(L20:L23,AI9)","v":1},{"$f":"AJ9/(AL4-AJ13)","v":0.25},-0.5,null,121,{"$f":"COUNTIF(L24:L27,AN9)","v":0},{"$f":"AO9/(AQ4-AO13)","v":0},0,null,121,{"$f":"COUNTIF(L28:L31,AS9)","v":0},{"$f":"AT9/(AV4-AT13)","v":0},0]
[21,4850,21,4857,22,4863,null,null,null,null,0,222,null,122,9,0.36,-0.53061522779966841,null,null,122,{"$f":"COUNTIF(L7:L10,T10)","v":1},{"$f":"U10/(W4-U13)","v":0.5},-0.5,null,122,{"$f":"COUNTIF(L11:L14,Y10)","v":2},{"$f":"Z10/(AB4-Z13)","v":0.5},-0.5,null,122,{"$f":"COUNTIF(L15:L19,AD10)","v":2},{"$f":"AE10/(AG4-AE13)","v":0.5},-0.5,null,122,{"$f":"COUNTIF(L20:L23,AI10)","v":1},{"$f":"AJ10/(AL4-AJ13)","v":0.25},-0.5,null,122,{"$f":"COUNTIF(L24:L27,AN10)","v":3},{"$f":"AO10/(AQ4-AO13)","v":0.75},-0.31127812445913283,null,122,{"$f":"COUNTIF(L28:L31,AS10)","v":0},{"$f":"AT10/(AV4-AT13)","v":0},0]
[21,4987,21,5016,22,5095,null,null,null,null,0,222,null,211,0,0,0,null,null,211,{"$f":"COUNTIF(L7:L10,T11)","v":0},{"$f":"U11/(W4-U13)","v":0},0,null,211,{"$f":"COUNTIF(L11:L14,Y11)","v":0},{"$f":"Z11/(AB4-Z13)","v":0},0,null,211,{"$f":"COUNTIF(L15:L19,AD11)","v":0},{"$f":"AE11/(AG4-AE13)","v":0},0,null,211,{"$f":"COUNTIF(L20:L23,AI11)","v":0},{"$f":"AJ11/(AL4-AJ13)","v":0},0,null,211,{"$f":"COUNTIF(L24:L27,AN11)","v":0},{"$f":"AO11/(AQ4-AO13)","v":0},0,null,211,{"$f":"COUNTIF(L28:L31,AS11)","v":0},{"$f":"AT11/(AV4-AT13)","v":0},0]
[12,5202,23,5210,24,5222,null,null,null,null,0,122,null,212,1,0.04,-0.18575424759098899,null,null,212,{"$f":"COUNTIF(L7:L10,T12)","v":0},{"$f":"U12/(W4-U13)","v":0},0,null,212,{"$f":"COUNTIF(L11:L14,Y12)","v":0},{"$f":"Z12/(AB4-Z13)","v":0},0,null,212,{"$f":"COUNTIF(L15:L19,AD12)","v":0},{"$f":"AE12/(AG4-AE13)","v":0},0,null,212,{"$f":"COUNTIF(L20:L23,AI12)","v":1},{"$f":"AJ12/(AL4-AJ13)","v":0.25},-0.5,null,212,{"$f":"COUNTIF(L24:L27,AN12)","v":0},{"$f":"AO12/(AQ4-AO13)","v":0},0,null,212,{"$f":"COUNTIF(L28:L31,AS12)","v":0},{"$f":"AT12/(AV4-AT13)","v":0},0]
[12,5324,23,5335,24,5359,null,null,null,null,0,122,null,221,3,0.12,-0.36706724268642821,null,null,221,{"$f":"COUNTIF(L7:L10,T13)","v":2},null,null,null,221,{"$f":"COUNTIF(L11:L14,Y13)","v":0},null,null,null,221,{"$f":"COUNTIF(L15:L19,AD13)","v":1},null,null,null,221,{"$f":"COUNTIF(L20:L23,AI13)","v":0},null,null,null,221,{"$f":"COUNTIF(L24:L27,AN13)","v":0},null,null,null,221,{"$f":"COUNTIF(L28:L31,AS13)","v":0}]
[12,5544,14,5558,13,5568,null,null,null,null,0,111,null,222,4,0.16,-0.42301699036395596,null,null,222,{"$f":"COUNTIF(L7:L10,T14)","v":1},{"$f":"U14/(W4-U13)","v":0.5},{"$f":"IF(V14=0,0,(V14*((LOG(V14))/LOG(2))))","v":-0.5},null,222,{"$f":"COUNTIF(L11:L14,Y14)","v":1},{"$f":"Z14/(AB4-Z13)","v":0.25},{"$f":"IF(AA14=0,0,(AA14*((LOG(AA14))/LOG(2))))","v":-0.5},null,222,{"$f":"COUNTIF(L15:L19,AD14)","v":1},{"$f":"AE14/(AG4-AE13)","v":0.25},{"$f":"IF(AF14=0,0,(AF14*((LOG(AF14))/LOG(2))))","v":-0.5},null,222,{"$f":"COUNTIF(L20:L23,AI14)","v":0},{"$f":"AJ14/(AL4-AJ13)","v":0},{"$f":"IF(AK14=0,0,(AK14*((LOG(AK14))/LOG(2))))","v":0},null,222,{"$f":"COUNTIF(L24:L27,AN14)","v":0},{"$f":"AO14/(AQ4-AO13)","v":0},{"$f":"IF(AP14=0,0,(AP14*((LOG(AP14))/LOG(2))))","v":0},null,222,{"$f":"COUNTIF(L28:L31,AS14)","v":1},{"$f":"AT14/(AV4-AT13)","v":0.25},{"$f":"IF(AU14=0,0,(AU14*((LOG(AU14))/LOG(2))))","v":-0.5}]
[21,5837,21,5845,11,5857,null,null,null,null,0,221,null,null,null,{"$f":"SUM(P7:P14)","v":1},{"$f":"-SUM(Q7:Q14)","v":2.4822921890824143},null,null,null,null,{"$f":"SUM(V7:V14)","v":1},{"$f":"-SUM(W7:W14)","v":1},null,null,null,{"$f":"SUM(AA7:AA14)","v":1},{"$f":"-SUM(AB7:AB14)","v":1.5},null,null,null,{"$f":"SUM(AF7:AF14)","v":1},{"$f":"-SUM(AG7:AG14)","v":1.5},null,null,null,{"$f":"SUM(AK7:AK14)","v":1},{"$f":"-SUM(AL7:AL14)","v":2},null,null,null,{"$f":"SUM(AP7:AP14)","v":1},{"$f":"-SUM(AQ7:AQ14)","v":0.81127812445913283},null,null,null,{"$f":"SUM(AU7:AU14)","v":1},{"$f":"-SUM(AV7:AV14)","v":1.5}]
[12,5950,23,5967,24,5979,null,null,null,null,0,122,null,null,null,"U=",{"$f":"Q15/(LOG(Q4)/LOG(2))","v":0.53453252806324114},null,null,null,null,"U1=",{"$f":"W15/(LOG(W4)/LOG(2))","v":0.5},null,null,null,"U2=",{"$f":"AB15/(LOG(AB4)/LOG(2))","v":0.75},null,null,null,"U3=",{"$f":"AG15/(LOG(AG4)/LOG(2))","v":0.64601483711008945},null,null,null,"U4=",{"$f":"AL15/(LOG(AL4)/LOG(2))","v":1},null,null,null,"U5=",{"$f":"AQ15/(LOG(AQ4)/LOG(2))","v":0.40563906222956642},null,null,null,"U6=",{"$f":"AV15/(LOG(AV4)/LOG(2))","v":0.75}]
[12,6134,14,6138,24,6151,null,null,null,null,0,112]
[21,6243,21,6247,22,6254,null,null,null,null,0,222]
[12,6358,23,6362,24,6376,null,null,null,null,0,122,null,"Total Target Seq"]
[12,6708,23,6714,13,6728,null,null,null,null,0,121,null,{"$f":"COUNTIF(L7:L31,G3)","v":3},null,4,4,5,4,4,4]
[12,6957,14,6965,24,6968,null,null,null,null,0,112,null,null,null,"% of reinforcement given in 6 equal intervals based on number of trials "]
[21,7137,12,7140,24,7151,null,null,null,null,0,212,null,null,null,"%_1","%_2","%_3","%_4","%_5","%_6"]
[12,7249,23,7256,24,7273,null,null,null,null,0,122,null,null,"target sequence",{"$f":"$G$3","v":221},221,221,221,221,221]
[12,7370,23,7382,24,7385,null,null,null,null,0,122,null,null,"total reinforcement",{"$f":"U13","v":2},{"$f":"Z13","v":0},{"$f":"AE13","v":1},{"$f":"AJ13","v":0},{"$f":"AO13","v":0},{"$f":"AT13","v":0}]
[12,7493,23,7500,24,7513,null,null,null,null,0,122,null,null,"% target"]
[12,7998,23,8014,24,8027,null,null,null,null,0,122,null,null,"CCRF"]
[12,21540,14,21559,24,21581,null,null,null,null,0,112,null,null,"% CCRf"]
[12,21902,14,21911,13,21925,null,null,null,null,0,111,null,null,"average response rate",{"$f":"F10/P20","v":1215.75},{"$f":"(F14-F10)/Q20","v":176.25},{"$f":"(F19-F14)/R20","v":161.6},{"$f":"(F23-F19)/S20","v":224.25},{"$f":"(F27-F23)/T20","v":3577},{"$f":"(F31-F27)/U20","v":298.5}]
[12,22144,14,22154,24,22177,null,null,null,null,0,112]
[21,22275,21,22278,22,22283,null,null,null,null,0,222]
[12,22747,14,22769,13,22775,null,null,null,null,0,111]

{"sheet":"!M92891B.AXT","index":33,"n_rows":28,"n_cols":48,"rows_kept":28,"cut":false,"hidden":false,"merged":[[4,39,4,42],[5,39,5,40],[4,44,4,47],[5,44,5,45],[4,24,4,27],[5,24,5,25],[4,29,4,32],[5,29,5,30],[4,34,4,37],[5,34,5,35],[1,1,1,2],[5,13,5,14],[18,13,18,14],[19,13,19,14],[4,19,4,22],[5,19,5,20]]}
["Report for:!M92891B.AXT"]
["Date:","<date>"]
["Hen:","<hen>",null,null,null,"Correct Sequence",{"$f":"Start!J2","v":221},null,null,null,null,null,null,null,null,"Total Sequences in Data",{"$f":"4994-COUNTBLANK(L7:L5000)","v":8},null,null,null,null,"Total Sequences in Block Data",{"$f":"COUNTA(L7:L7)","v":1},null,null,null,"Total Sequences in Block Data",{"$f":"COUNTA(L8:L9)","v":2},null,null,null,"Total Sequences in Block Data",{"$f":"COUNTA(L10:L10)","v":1},null,null,null,"Total Sequences in Block Data",{"$f":"COUNTA(L11:L11)","v":1},null,null,null,"Total Sequences in Block Data",{"$f":"COUNTA(L12:L13)","v":2},null,null,null,"Total Sequences in Block Data",{"$f":"COUNTA(L14:L14)","v":1}]
[null,null,null,null,null,null,null,null,null,null,null,null,null,null,null,"Total Sequences in Summary",{"$f":"SUM(O7:O14)","v":7},null,null,null,null,"Total Sequences in Block Summary",{"$f":"SUM(U7:U14)","v":1},null,null,null,"Total Sequences in Block Summary",{"$f":"SUM(Z7:Z14)","v":2},null,null,null,"Total Sequences in Block Summary",{"$f":"SUM(AE7:AE14)","v":1},null,null,null,"Total Sequences in Block Summary",{"$f":"SUM(AJ7:AJ14)","v":1},null,null,null,"Total Sequences in Block Summary",{"$f":"SUM(AO7:AO14)","v":2},null,null,null,"Total Sequences in Block Summary",{"$f":"SUM(AT7:AT14)","v":0}]
[null,null,null,null,null,null,null,null,null,null,null,null,null,null,null,null,null,null,null,"Block 1",null,null,null,null,"Block 2",null,null,null,null,"Block 3",null,null,null,null,"Block 4",null,null,null,null,"Block 5",null,null,null,null,"Block 6"]
["Sequence\nComponent\n1","Time\n1","Sequence\nComponent\n2","Time\n2","Sequence\nComponent\n3","Time\n3","Sequence\nComponent\n4","Time\n4","Sequence\nComponent\n5","Time\n5","Correct?\n0=No 1=Yes","Sequence",null,"Frequency",null,"Relative Frequency","Variability",null,null,"Frequency",null,"Relative Frequency","Variability",null,"Frequency",null,"Relative Frequency","Variability",null,"Frequency",null,"Relative Frequency","Variability",null,"Frequency",null,"Relative Frequency","Variability",null,"Frequency",null,"Relative Frequency","Variability",null,"Frequency",null,"Relative Frequency","Variability"]
[12,16,23,19,24,22,null,null,null,null,0,122,null,111,{"$f":"COUNTIF($L$7:$L$500,N7)","v":0},{"$f":"O7/$Q$4","v":0},{"$f":"IF(P7=0,0,(P7*((LOG(P7))/LOG(2))))","v":0},null,null,{"$f":"N7","v":111},{"$f":"COUNTIF(L7:L7,T7)","v":0},{"$f":"U7/(W4-U13)","v":0},{"$f":"IF(V7=0,0,(V7*((LOG(V7))/LOG(2))))","v":0},null,{"$f":"N7","v":111},{"$f":"COUNTIF(L8:L9,Y7)","v":0},{"$f":"Z7/(AB4-Z13)","v":0},{"$f":"IF(AA7=0,0,(AA7*((LOG(AA7))/LOG(2))))","v":0},null,{"$f":"N7","v":111},{"$f":"COUNTIF(L10:L10,AD7)","v":0},{"$f":"AE7/(AG4-AE13)","v":0},{"$f":"IF(AF7=0,0,(AF7*((LOG(AF7))/LOG(2))))","v":0},null,{"$f":"N7","v":111},{"$f":"COUNTIF(L11:L11,AI7)","v":0},{"$f":"AJ7/(AL4-AJ13)","v":0},{"$f":"IF(AK7=0,0,(AK7*((LOG(AK7))/LOG(2))))","v":0},null,{"$f":"N7","v":111},{"$f":"COUNTIF(L12:L13,AN7)","v":0},{"$f":"AO7/(AQ4-AO13)","v":0},{"$f":"IF(AP7=0,0,(AP7*((LOG(AP7))/LOG(2))))","v":0},null,{"$f":"N7","v":111},{"$f":"COUNTIF(L14:L14,AS7)","v":0},{"$f":"AT7/(AV4-AT13)","v":{"$error":"#DIV/0!"}},{"$f":"IF(AU7=0,0,(AU7*((LOG(AU7))/LOG(2))))","v":{"$error":"#DIV/0!"}}]
[21,120,12,134,13,137,null,null,null,null,0,211,null,112,1,0.14285714285714285,-0.40105070315108626,null,null,112,{"$f":"COUNTIF(L7:L7,T8)","v":0},{"$f":"U8/(W4-U13)","v":0},0,null,112,{"$f":"COUNTIF(L8:L9,Y8)","v":0},{"$f":"Z8/(AB4-Z13)","v":0},0,null,112,{"$f":"COUNTIF(L10:L10,AD8)","v":0},{"$f":"AE8/(AG4-AE13)","v":0},0,null,112,{"$f":"COUNTIF(L11:L11,AI8)","v":1},{"$f":"AJ8/(AL4-AJ13)","v":1},0,null,112,{"$f":"COUNTIF(L12:L13,AN8)","v":0},{"$f":"AO8/(AQ4-AO13)","v":0},0,null,112,{"$f":"COUNTIF(L14:L14,AS8)","v":0},{"$f":"AT8/(AV4-AT13)","v":{"$error":"#DIV/0!"}},{"$error":"#DIV/0!"}]
[12,266,23,272,24,281,null,null,null,null,0,122,null,121,0,0,0,null,null,121,{"$f":"COUNTIF(L7:L7,T9)","v":0},{"$f":"U9/(W4-U13)","v":0},0,null,121,{"$f":"COUNTIF(L8:L9,Y9)","v":0},{"$f":"Z9/(AB4-Z13)","v":0},0,null,121,{"$f":"COUNTIF(L10:L10,AD9)","v":0},{"$f":"AE9/(AG4-AE13)","v":0},0,null,121,{"$f":"COUNTIF(L11:L11,AI9)","v":0},{"$f":"AJ9/(AL4-AJ13)","v":0},0,null,121,{"$f":"COUNTIF(L12:L13,AN9)","v":0},{"$f":"AO9/(AQ4-AO13)","v":0},0,null,121,{"$f":"COUNTIF(L14:L14,AS9)","v":0},{"$f":"AT9/(AV4-AT13)","v":{"$error":"#DIV/0!"}},{"$error":"#DIV/0!"}]
[12,942,23,954,24,958,null,null,null,null,0,122,null,122,3,0.42857142857142855,-0.52388246628704915,null,null,122,{"$f":"COUNTIF(L7:L7,T10)","v":1},{"$f":"U10/(W4-U13)","v":1},0,null,122,{"$f":"COUNTIF(L8:L9,Y10)","v":1},{"$f":"Z10/(AB4-Z13)","v":0.5},-0.5,null,122,{"$f":"COUNTIF(L10:L10,AD10)","v":1},{"$f":"AE10/(AG4-AE13)","v":1},0,null,122,{"$f":"COUNTIF(L11:L11,AI10)","v":0},{"$f":"AJ10/(AL4-AJ13)","v":0},0,null,122,{"$f":"COUNTIF(L12:L13,AN10)","v":0},{"$f":"AO10/(AQ4-AO13)","v":0},0,null,122,{"$f":"COUNTIF(L14:L14,AS10)","v":0},{"$f":"AT10/(AV4-AT13)","v":{"$error":"#DIV/0!"}},{"$error":"#DIV/0!"}]
[12,1570,14,1594,24,1602,null,null,null,null,0,112,null,211,1,0.14285714285714285,-0.40105070315108626,null,null,211,{"$f":"COUNTIF(L7:L7,T11)","v":0},{"$f":"U11/(W4-U13)","v":0},0,null,211,{"$f":"COUNTIF(L8:L9,Y11)","v":1},{"$f":"Z11/(AB4-Z13)","v":0.5},-0.5,null,211,{"$f":"COUNTIF(L10:L10,AD11)","v":0},{"$f":"AE11/(AG4-AE13)","v":0},0,null,211,{"$f":"COUNTIF(L11:L11,AI11)","v":0},{"$f":"AJ11/(AL4-AJ13)","v":0},0,null,211,{"$f":"COUNTIF(L12:L13,AN11)","v":0},{"$f":"AO11/(AQ4-AO13)","v":0},0,null,211,{"$f":"COUNTIF(L14:L14,AS11)","v":0},{"$f":"AT11/(AV4-AT13)","v":{"$error":"#DIV/0!"}},{"$error":"#DIV/0!"}]
[21,1841,21,1845,22,1867,null,null,null,null,0,222,null,212,0,0,0,null,null,212,{"$f":"COUNTIF(L7:L7,T12)","v":0},{"$f":"U12/(W4-U13)","v":0},0,null,212,{"$f":"COUNTIF(L8:L9,Y12)","v":0},{"$f":"Z12/(AB4-Z13)","v":0},0,null,212,{"$f":"COUNTIF(L10:L10,AD12)","v":0},{"$f":"AE12/(AG4-AE13)","v":0},0,null,212,{"$f":"COUNTIF(L11:L11,AI12)","v":0},{"$f":"AJ12/(AL4-AJ13)","v":0},0,null,212,{"$f":"COUNTIF(L12:L13,AN12)","v":0},{"$f":"AO12/(AQ4-AO13)","v":0},0,null,212,{"$f":"COUNTIF(L14:L14,AS12)","v":0},{"$f":"AT12/(AV4-AT13)","v":{"$error":"#DIV/0!"}},{"$error":"#DIV/0!"}]
[21,1889,21,1898,22,1904,null,null,null,null,0,222,null,221,0,0,0,null,null,221,{"$f":"COUNTIF(L7:L7,T13)","v":0},null,null,null,221,{"$f":"COUNTIF(L8:L9,Y13)","v":0},null,null,null,221,{"$f":"COUNTIF(L10:L10,AD13)","v":0},null,null,null,221,{"$f":"COUNTIF(L11:L11,AI13)","v":0},null,null,null,221,{"$f":"COUNTIF(L12:L13,AN13)","v":0},null,null,null,221,{"$f":"COUNTIF(L14:L14,AS13)","v":0}]
[21,23912,null,null,null,null,null,null,null,null,null,2,null,222,2,0.2857142857142857,-0.51638712058788683,null,null,222,{"$f":"COUNTIF(L7:L7,T14)","v":0},{"$f":"U14/(W4-U13)","v":0},{"$f":"IF(V14=0,0,(V14*((LOG(V14))/LOG(2))))","v":0},null,222,{"$f":"COUNTIF(L8:L9,Y14)","v":0},{"$f":"Z14/(AB4-Z13)","v":0},{"$f":"IF(AA14=0,0,(AA14*((LOG(AA14))/LOG(2))))","v":0},null,222,{"$f":"COUNTIF(L10:L10,AD14)","v":0},{"$f":"AE14/(AG4-AE13)","v":0},{"$f":"IF(AF14=0,0,(AF14*((LOG(AF14))/LOG(2))))","v":0},null,222,{"$f":"COUNTIF(L11:L11,AI14)","v":0},{"$f":"AJ14/(AL4-AJ13)","v":0},{"$f":"IF(AK14=0,0,(AK14*((LOG(AK14))/LOG(2))))","v":0},null,222,{"$f":"COUNTIF(L12:L13,AN14)","v":2},{"$f":"AO14/(AQ4-AO13)","v":1},{"$f":"IF(AP14=0,0,(AP14*((LOG(AP14))/LOG(2))))","v":0},null,222,{"$f":"COUNTIF(L14:L14,AS14)","v":0},{"$f":"AT14/(AV4-AT13)","v":{"$error":"#DIV/0!"}},{"$f":"IF(AU14=0,0,(AU14*((LOG(AU14))/LOG(2))))","v":{"$error":"#DIV/0!"}}]
[null,null,null,null,null,null,null,null,null,null,null,null,null,null,null,{"$f":"SUM(P7:P14)","v":0.99999999999999989},{"$f":"-SUM(Q7:Q14)","v":1.8423709931771084},null,null,null,null,{"$f":"SUM(V7:V14)","v":1},{"$f":"-SUM(W7:W14)","v":0},null,null,null,{"$f":"SUM(AA7:AA14)","v":1},{"$f":"-SUM(AB7:AB14)","v":1},null,null,null,{"$f":"SUM(AF7:AF14)","v":1},{"$f":"-SUM(AG7:AG14)","v":0},null,null,null,{"$f":"SUM(AK7:AK14)","v":1},{"$f":"-SUM(AL7:AL14)","v":0},null,null,null,{"$f":"SUM(AP7:AP14)","v":1},{"$f":"-SUM(AQ7:AQ14)","v":0},null,null,null,{"$f":"SUM(AU7:AU14)","v":{"$error":"#DIV/0!"}},{"$f":"-SUM(AV7:AV14)","v":{"$error":"#DIV/0!"}}]
[null,null,null,null,null,null,null,null,null,null,null,null,null,null,null,"U=",{"$f":"Q15/(LOG(Q4)/LOG(2))","v":0.65626578908903088},null,null,null,null,"U1=",{"$f":"W15/(LOG(W4)/LOG(2))","v":{"$error":"#DIV/0!"}},null,null,null,"U2=",{"$f":"AB15/(LOG(AB4)/LOG(2))","v":1},null,null,null,"U3=",{"$f":"AG15/(LOG(AG4)/LOG(2))","v":{"$error":"#DIV/0!"}},null,null,null,"U4=",{"$f":"AL15/(LOG(AL4)/LOG(2))","v":{"$error":"#DIV/0!"}},null,null,null,"U5=",{"$f":"AQ15/(LOG(AQ4)/LOG(2))","v":0},null,null,null,"U6=",{"$f":"AV15/(LOG(AV4)/LOG(2))","v":{"$error":"#DIV/0!"}}]
[]
[]
[null,null,null,null,null,null,null,null,null,null,null,null,null,"Total Target Seq"]
[null,null,null,null,null,null,null,null,null,null,null,null,null,{"$f":"COUNTIF(L7:L14,G3)","v":0},null,1,2,1,1,2,1]
[null,null,null,null,null,null,null,null,null,null,null,null,null,null,null,"% of reinforcement given in 6 equal intervals based on number of trials "]
[null,null,null,null,null,null,null,null,null,null,null,null,null,null,null,"%_1","%_2","%_3","%_4","%_5","%_6"]
[null,null,null,null,null,null,null,null,null,null,null,null,null,null,"target sequence",{"$f":"$G$3","v":221},221,221,221,221,221]
[null,null,null,null,null,null,null,null,null,null,null,null,null,null,"total reinforcement",{"$f":"U13","v":0},{"$f":"Z13","v":0},{"$f":"AE13","v":0},{"$f":"AJ13","v":0},{"$f":"AO13","v":0},{"$f":"AT13","v":0}]
[null,null,null,null,null,null,null,null,null,null,null,null,null,null,"% target"]
[null,null,null,null,null,null,null,null,null,null,null,null,null,null,"CCRF"]
[null,null,null,null,null,null,null,null,null,null,null,null,null,null,"% CCRf"]
[null,null,null,null,null,null,null,null,null,null,null,null,null,null,"average response rate",{"$f":"F7/P20","v":22},{"$f":"(F9-F7)/Q20","v":129.5},{"$f":"(F10-F9)/R20","v":677},{"$f":"(F11-F10)/S20","v":644},{"$f":"(F13-F11)/T20","v":151},{"$f":"(F14-F13)/U20","v":-1904}]