{"text_format":"1","workbook":"xlsx","n_sheets":33,"sheets":["Sample Report","Summary","Start","!L818B0B.axt","!L81994B.axt","!L820A2B.axt","!L822A5B.axt","!L82393B.axt","!L824A1B.axt","!L825A3B.axt","!L826A1B.axt","!L82784B.axt","!L82890B.axt","!L829A4B.axt","!L830A5B.axt","!L831A2B.axt","!L901A4B.axt","!L90294B.axt","!L903A4B.axt","!L905A4B.axt","!L906A4B.axt","!L907A4B.axt","!L908A3B.axt","!L90995B.axt","!L91092B.axt","!L91191B.axt","!L912A5B.axt","!L91392B.axt","!L914A1B.axt","!L915A3B.axt","!L916A1B.axt","!L917A4B.axt","!L918A5B.axt"],"not_rendered":{"charts":0,"images":0,"macros":1,"external_links":0,"defined_names":0,"comments":0,"pivot_tables":0},"unopened":[],"bounds":{"document_bytes":16777216,"sheet_cells":100000,"rows_first":2000,"rows_last":500,"rows_between":2000,"halvings":0,"cell_chars":16384,"cell_head_chars":4096},"cells_cut":0,"cells_raw":0,"read":"whole","date_system":"1900"}

{"sheet":"Sample Report","index":0,"n_rows":12,"n_cols":11,"rows_kept":12,"cut":false,"hidden":true,"merged":[[7,0,7,6]]}
[]
["Date"]
["Hen"]
["Program"]
["Start at 999999"]
["Sequence component 1","Time 1","Seqeunce Component 2","Time 2","Seqeunce Component 3","Time 3","Correct   0 = No 1=Yes",null,null,"Seqeunce","Time"]
[12,7,12,42,13,18,"if 77 new line,                                  if 31 or 41 = yes new line on 77, ",null,null,"=string of Seqeunce compponent 1, 2 & 3","=time 3"]
["This continues until ther is a 1 on its own to indicate start of summary data"]
[null,null,null,null,null,null,null,null,null,"10-19 =1"]
["Summary Data ",null,null,null,null,null,null,null,null,"20-29 =2"]
["Correct","Incorrect","Rft","total","Av Correct","Av Incorrect","Percent correct","Time",null,"in this example the seqeunce would be 111"]
[40,33,40,73,23.95,15,54,806]

{"sheet":"Summary","index":1,"n_rows":32,"n_cols":24,"rows_kept":32,"cut":false,"hidden":false,"merged":[]}
[]
["Day","Date","Average Response Rate","Target %","RF for non correct sequence","U Value",null,null,null,null,"Block 1","Block 2","Block 3","Block 4","Block 5","Block 6"]
[1,{"$f":"'!L818B0B.axt'!B2:C2","v":"<date>"},{"$f":"('!L818B0B.axt'!F32/60)/'!L818B0B.axt'!Q3","v":2.48641975308642},{"$f":"'!L818B0B.axt'!N20/'!L818B0B.axt'!Q3","v":0},{"$f":"SUM('!L818B0B.axt'!L20:Q20)/'!L818B0B.axt'!Q3","v":4.4814814814814818},{"$f":"'!L818B0B.axt'!Q16","v":0.43627325624542512},null,null,null,"Average Response Rate",{"$f":"AVERAGE(C3:C7)","v":3.4146046057261743},{"$f":"AVERAGE(C8:C12)","v":4.3905114312079956},{"$f":"AVERAGE(C13:C17)","v":6.3999331653317153},{"$f":"AVERAGE(C18:C22)","v":6.6415355477855487},{"$f":"AVERAGE(C23:C27)","v":6.3124943134822171},{"$f":"AVERAGE(C28:C32)","v":3.6899574692121839}]
[2,{"$f":"'!L81994B.axt'!B2:C2","v":"<date>"},{"$f":"('!L81994B.axt'!F43/60)/'!L81994B.axt'!Q3","v":3.8459459459459464},{"$f":"'!L81994B.axt'!N20/'!L81994B.axt'!Q3","v":0},{"$f":"SUM('!L81994B.axt'!L20:Q20)/'!L81994B.axt'!Q3","v":3.5945945945945947},{"$f":"'!L81994B.axt'!Q16","v":0.43133712740940161},null,null,null,"Target %",{"$f":"AVERAGE(D3:D7)","v":1.9607843137254902E-3},{"$f":"AVERAGE(D8:D12)","v":1.0259218692953632E-2},{"$f":"AVERAGE(D13:D17)","v":2.7147248886379323E-2},{"$f":"AVERAGE(D18:D22)","v":1.6783216783216783E-2},{"$f":"AVERAGE(D23:D27)","v":2.9143920595533501E-2},{"$f":"AVERAGE(D28:D32)","v":8.6956521739130436E-3}]
[3,{"$f":"'!L820A2B.axt'!B2:C2","v":"<date>"},{"$f":"('!L820A2B.axt'!F48/60)/'!L820A2B.axt'!Q3","v":4.6103174603174599},{"$f":"'!L820A2B.axt'!N20/'!L820A2B.axt'!Q3","v":0},{"$f":"SUM('!L820A2B.axt'!L20:Q20)/'!L820A2B.axt'!Q3","v":3.2380952380952381},{"$f":"'!L820A2B.axt'!Q16","v":0.33194017849029356},null,null,null,"CCRF",{"$f":"AVERAGE(E3:E7)","v":4.6067558314617134},{"$f":"AVERAGE(E8:E12)","v":2.1170481669112227},{"$f":"AVERAGE(E13:E17)","v":3.7919955246042205},{"$f":"AVERAGE(E18:E22)","v":3.2248834498834498},{"$f":"AVERAGE(E23:E27)","v":5.9250620347394536},{"$f":"AVERAGE(E28:E32)","v":5.102642345686613}]
[4,{"$f":"'!L822A5B.axt'!B2:C2","v":"<date>"},{"$f":"('!L822A5B.axt'!F31/60)/'!L822A5B.axt'!Q3","v":2.7473333333333336},{"$f":"'!L822A5B.axt'!N20/'!L822A5B.axt'!Q3","v":0},{"$f":"SUM('!L822A5B.axt'!L20:Q20)/'!L822A5B.axt'!Q3","v":9.1999999999999993},{"$f":"'!L822A5B.axt'!Q16","v":0.38849339377897568},null,null,null,"U Value",{"$f":"AVERAGE(F3:F7)","v":0.38276898823199035},{"$f":"AVERAGE(F8:F12)","v":0.33411150429877445},{"$f":"AVERAGE(F13:F17)","v":0.38697807880834834},{"$f":"AVERAGE(F18:F22)","v":0.47671156927833602},{"$f":"AVERAGE(F23:F27)","v":0.43665907070590554},{"$f":"AVERAGE(F28:F32)","v":0.33860399007295544}]
[5,{"$f":"'!L82393B.axt'!B2:C2","v":"<date>"},{"$f":"('!L82393B.axt'!F108/60)/'!L82393B.axt'!Q3","v":3.3830065359477124},{"$f":"'!L82393B.axt'!N20/'!L82393B.axt'!Q3","v":9.8039215686274508E-3},{"$f":"SUM('!L82393B.axt'!L20:Q20)/'!L82393B.axt'!Q3","v":2.5196078431372548},{"$f":"'!L82393B.axt'!Q16","v":0.32580098523585599}]
[6,{"$f":"'!L824A1B.axt'!B2:C2","v":"<date>"},{"$f":"('!L824A1B.axt'!F107/60)/'!L824A1B.axt'!Q3","v":3.3206270627062704},{"$f":"'!L824A1B.axt'!N20/'!L824A1B.axt'!Q3","v":0},{"$f":"SUM('!L824A1B.axt'!L20:Q20)/'!L824A1B.axt'!Q3","v":1.4356435643564356},{"$f":"'!L824A1B.axt'!Q16","v":0.33264694510436627}]
[7,{"$f":"'!L825A3B.axt'!B2:C2","v":"<date>"},{"$f":"('!L825A3B.axt'!F56/60)/'!L825A3B.axt'!Q3","v":7.0603333333333333},{"$f":"'!L825A3B.axt'!N20/'!L825A3B.axt'!Q3","v":0},{"$f":"SUM('!L825A3B.axt'!L20:Q20)/'!L825A3B.axt'!Q3","v":2.78},{"$f":"'!L825A3B.axt'!Q16","v":0.37163826908169062},{"$f":"K3","v":3.4146046057261743},{"$f":"L3","v":4.3905114312079956},6.3999331653317153,6.6415355477855487,6.3124943134822171,3.6899574692121839,{"$f":"K4","v":1.9607843137254902E-3},{"$f":"L4","v":1.0259218692953632E-2},2.7147248886379323E-2,1.6783216783216783E-2,2.9143920595533501E-2,8.6956521739130436E-3,{"$f":"K6","v":0.38276898823199035},{"$f":"L6","v":0.33411150429877445},0.38697807880834834,0.47671156927833602,0.43665907070590554,0.33860399007295544]
[8,{"$f":"'!L826A1B.axt'!B2:C2","v":"<date>"},{"$f":"('!L826A1B.axt'!F72/60)/'!L826A1B.axt'!Q3","v":2.845959595959596},{"$f":"'!L826A1B.axt'!N20/'!L826A1B.axt'!Q3","v":1.5151515151515152E-2},{"$f":"SUM('!L826A1B.axt'!L20:Q20)/'!L826A1B.axt'!Q3","v":2.0454545454545454},{"$f":"'!L826A1B.axt'!Q16","v":0.32862150799582324}]
[9,{"$f":"'!L82784B.axt'!B2:C2","v":"<date>"},{"$f":"('!L82784B.axt'!F58/60)/'!L82784B.axt'!Q3","v":4.8939102564102566},{"$f":"'!L82784B.axt'!N20/'!L82784B.axt'!Q3","v":0},{"$f":"SUM('!L82784B.axt'!L20:Q20)/'!L82784B.axt'!Q3","v":2.4807692307692308},{"$f":"'!L82784B.axt'!Q16","v":0.34815173561103135}]
[10,{"$f":"'!L82890B.axt'!B2:C2","v":"<date>"},{"$f":"('!L82890B.axt'!F89/60)/'!L82890B.axt'!Q3","v":3.8317269076305225},{"$f":"'!L82890B.axt'!N20/'!L82890B.axt'!Q3","v":3.614457831325301E-2},{"$f":"SUM('!L82890B.axt'!L20:Q20)/'!L82890B.axt'!Q3","v":1.8433734939759037},{"$f":"'!L82890B.axt'!Q16","v":0.28949906370096057}]
[11,{"$f":"'!L829A4B.axt'!B2:C2","v":"<date>"},{"$f":"('!L829A4B.axt'!F60/60)/'!L829A4B.axt'!Q3","v":7.1966049382716051},{"$f":"'!L829A4B.axt'!N20/'!L829A4B.axt'!Q3","v":5.5555555555555552E-2},{"$f":"SUM('!L829A4B.axt'!L20:Q20)/'!L829A4B.axt'!Q3","v":2.6481481481481484},{"$f":"'!L829A4B.axt'!Q16","v":0.3202176616169104}]
[12,{"$f":"'!L830A5B.axt'!B2:C2","v":"<date>"},{"$f":"('!L830A5B.axt'!F62/60)/'!L830A5B.axt'!Q3","v":6.8964285714285714},{"$f":"'!L830A5B.axt'!N20/'!L830A5B.axt'!Q3","v":3.5714285714285712E-2},{"$f":"SUM('!L830A5B.axt'!L20:Q20)/'!L830A5B.axt'!Q3","v":2.3571428571428572},{"$f":"'!L830A5B.axt'!Q16","v":0.34144860410309308}]
[13,{"$f":"'!L831A2B.axt'!B2:C2","v":"<date>"},{"$f":"('!L831A2B.axt'!F52/60)/'!L831A2B.axt'!Q3","v":5.9362318840579711},{"$f":"'!L831A2B.axt'!N20/'!L831A2B.axt'!Q3","v":2.1739130434782608E-2},{"$f":"SUM('!L831A2B.axt'!L20:Q20)/'!L831A2B.axt'!Q3","v":2.7826086956521738},{"$f":"'!L831A2B.axt'!Q16","v":0.39082951157869972}]
[14,{"$f":"'!L901A4B.axt'!B2:C2","v":"<date>"},{"$f":"('!L901A4B.axt'!F50/60)/'!L901A4B.axt'!Q3","v":9.0299242424242419},{"$f":"'!L901A4B.axt'!N20/'!L901A4B.axt'!Q3","v":2.2727272727272728E-2},{"$f":"SUM('!L901A4B.axt'!L20:Q20)/'!L901A4B.axt'!Q3","v":2.8863636363636362},{"$f":"'!L901A4B.axt'!Q16","v":0.40769368681742574}]
[15,{"$f":"'!L90294B.axt'!B2:C2","v":"<date>"},{"$f":"('!L90294B.axt'!F20/60)/'!L90294B.axt'!Q3","v":2.9404761904761902},{"$f":"'!L90294B.axt'!N20/'!L90294B.axt'!Q3","v":0},{"$f":"SUM('!L90294B.axt'!L20:Q20)/'!L90294B.axt'!Q3","v":8.2857142857142865},{"$f":"'!L90294B.axt'!Q16","v":0.47470092992561291}]
[16,{"$f":"'!L903A4B.axt'!B2:C2","v":"<date>"},{"$f":"('!L903A4B.axt'!F32/60)/'!L903A4B.axt'!Q3","v":13.060256410256411},{"$f":"'!L903A4B.axt'!N20/'!L903A4B.axt'!Q3","v":3.8461538461538464E-2},{"$f":"SUM('!L903A4B.axt'!L20:Q20)/'!L903A4B.axt'!Q3","v":4.6538461538461542},{"$f":"'!L903A4B.axt'!Q16","v":0.38446731070818241}]
[17,{"$f":"'!L905A4B.axt'!B2:C2","v":"<date>"},{"$f":"('!L905A4B.axt'!F11/60)/'!L905A4B.axt'!Q3","v":7.3250000000000002},{"$f":"'!L905A4B.axt'!N20/'!L905A4B.axt'!Q3","v":0},{"$f":"SUM('!L905A4B.axt'!L20:Q20)/'!L905A4B.axt'!Q3","v":0.33333333333333331},{"$f":"'!L905A4B.axt'!Q16","v":0.5904362833084088}]
[18,{"$f":"'!L906A4B.axt'!B2:C2","v":"<date>"},{"$f":"('!L906A4B.axt'!F14/60)/'!L906A4B.axt'!Q3","v":5.4020833333333336},{"$f":"'!L906A4B.axt'!N20/'!L906A4B.axt'!Q3","v":0},{"$f":"SUM('!L906A4B.axt'!L20:Q20)/'!L906A4B.axt'!Q3","v":0.375},{"$f":"'!L906A4B.axt'!Q16","v":0.43293164689846614}]
[19,{"$f":"'!L907A4B.axt'!B2:C2","v":"<date>"},{"$f":"('!L907A4B.axt'!F19/60)/'!L907A4B.axt'!Q3","v":3.3756410256410256},{"$f":"'!L907A4B.axt'!N20/'!L907A4B.axt'!Q3","v":0},{"$f":"SUM('!L907A4B.axt'!L20:Q20)/'!L907A4B.axt'!Q3","v":0.30769230769230771},{"$f":"'!L907A4B.axt'!Q16","v":0.55078851079617586}]
[20,{"$f":"'!L908A3B.axt'!B2:C2","v":"<date>"},{"$f":"('!L908A3B.axt'!F28/60)/'!L908A3B.axt'!Q3","v":4.0446969696969699},{"$f":"'!L908A3B.axt'!N20/'!L908A3B.axt'!Q3","v":4.5454545454545456E-2},{"$f":"SUM('!L908A3B.axt'!L20:Q20)/'!L908A3B.axt'!Q3","v":10.454545454545455},{"$f":"'!L908A3B.axt'!Q16","v":0.42493409468044679}]
[21,{"$f":"'!L90995B.axt'!B2:C2","v":"<date>"},{"$f":"('!L90995B.axt'!F22/60)/'!L90995B.axt'!Q3","v":3.9552083333333332},{"$f":"'!L90995B.axt'!N20/'!L90995B.axt'!Q3","v":6.25E-2},{"$f":"SUM('!L90995B.axt'!L20:Q20)/'!L90995B.axt'!Q3","v":14.25},{"$f":"'!L90995B.axt'!Q16","v":0.53734936758692475}]
[22,{"$f":"'!L91092B.axt'!B2:C2","v":"<date>"},{"$f":"('!L91092B.axt'!F85/60)/'!L91092B.axt'!Q3","v":4.9395833333333332},{"$f":"'!L91092B.axt'!N20/'!L91092B.axt'!Q3","v":1.2500000000000001E-2},{"$f":"SUM('!L91092B.axt'!L20:Q20)/'!L91092B.axt'!Q3","v":1.75},{"$f":"'!L91092B.axt'!Q16","v":0.36317260715355354}]
[23,{"$f":"'!L91191B.axt'!B2:C2","v":"<date>"},{"$f":"('!L91191B.axt'!F37/60)/'!L91191B.axt'!Q3","v":11.70483870967742},{"$f":"'!L91191B.axt'!N20/'!L91191B.axt'!Q3","v":0},{"$f":"SUM('!L91191B.axt'!L20:Q20)/'!L91191B.axt'!Q3","v":4.258064516129032},{"$f":"'!L91191B.axt'!Q16","v":0.42902372975918285}]
[24,{"$f":"'!L912A5B.axt'!B2:C2","v":"<date>"},{"$f":"('!L912A5B.axt'!F37/60)/'!L912A5B.axt'!Q3","v":3.5698924731182795},{"$f":"'!L912A5B.axt'!N20/'!L912A5B.axt'!Q3","v":3.2258064516129031E-2},{"$f":"SUM('!L912A5B.axt'!L20:Q20)/'!L912A5B.axt'!Q3","v":4.290322580645161},{"$f":"'!L912A5B.axt'!Q16","v":0.43703560646279765}]
[25,{"$f":"'!L91392B.axt'!B2:C2","v":"<date>"},{"$f":"('!L91392B.axt'!F32/60)/'!L91392B.axt'!Q3","v":7.3929487179487179},{"$f":"'!L91392B.axt'!N20/'!L91392B.axt'!Q3","v":3.8461538461538464E-2},{"$f":"SUM('!L91392B.axt'!L20:Q20)/'!L91392B.axt'!Q3","v":5.0769230769230766},{"$f":"'!L91392B.axt'!Q16","v":0.41671404256706907}]
[26,{"$f":"'!L914A1B.axt'!B2:C2","v":"<date>"},{"$f":"('!L914A1B.axt'!F44/60)/'!L914A1B.axt'!Q3","v":3.0894736842105264},{"$f":"'!L914A1B.axt'!N20/'!L914A1B.axt'!Q3","v":0},{"$f":"SUM('!L914A1B.axt'!L20:Q20)/'!L914A1B.axt'!Q3","v":3.5526315789473686},{"$f":"'!L914A1B.axt'!Q16","v":0.42523991828698332}]
[27,{"$f":"'!L915A3B.axt'!B2:C2","v":"<date>"},{"$f":"('!L915A3B.axt'!F35/60)/'!L915A3B.axt'!Q3","v":4.7189655172413794},{"$f":"'!L915A3B.axt'!N20/'!L915A3B.axt'!Q3","v":0},{"$f":"SUM('!L915A3B.axt'!L20:Q20)/'!L915A3B.axt'!Q3","v":7.9655172413793105},{"$f":"'!L915A3B.axt'!Q16","v":0.42115249607188465}]
[28,{"$f":"'!L916A1B.axt'!B2:C2","v":"<date>"},{"$f":"('!L916A1B.axt'!F51/60)/'!L916A1B.axt'!Q3","v":2.8706521739130437},{"$f":"'!L916A1B.axt'!N20/'!L916A1B.axt'!Q3","v":4.3478260869565216E-2},{"$f":"SUM('!L916A1B.axt'!L20:Q20)/'!L916A1B.axt'!Q3","v":2.7826086956521738},{"$f":"'!L916A1B.axt'!Q16","v":0.430582156219807}]
[29,{"$f":"'!L917A4B.axt'!B2:C2","v":"<date>"},{"$f":"('!L917A4B.axt'!F27/60)/'!L917A4B.axt'!Q3","v":4.730952380952381},{"$f":"'!L917A4B.axt'!N20/'!L917A4B.axt'!Q3","v":0},{"$f":"SUM('!L917A4B.axt'!L20:Q20)/'!L917A4B.axt'!Q3","v":10.904761904761905},{"$f":"'!L917A4B.axt'!Q16","v":0.31031644121936441}]
[30,{"$f":"'!L918A5B.axt'!B2:C2","v":"<date>"},{"$f":"('!L918A5B.axt'!F19/60)/'!L918A5B.axt'!Q3","v":3.0397435897435896},{"$f":"'!L918A5B.axt'!N20/'!L918A5B.axt'!Q3","v":0},{"$f":"SUM('!L918A5B.axt'!L20:Q20)/'!L918A5B.axt'!Q3","v":0.30769230769230771},{"$f":"'!L918A5B.axt'!Q16","v":0.10572893856673769}]

{"sheet":"Start","index":2,"n_rows":36,"n_cols":10,"rows_kept":36,"cut":false,"hidden":false,"merged":[]}
[null,null,null,null,null,"Use Folder 51",null,"Auto Clean Up",null,"Correct sequence"]
[null,null,null,null,null,false,null,true,null,211]
[]
["Working with Folder",null,null,null,null,null,"Process All/Or Pick A number: ALL or an integer"]
["F:\\Possum Chapter\\Raw Data\\baxter\\Phase 1 VAR RLL\\",null,null,null,null,null,"ALL"]
["Filenames:"]
["!L818B0B.axt",null,null,null,null,null,"Paint Cells"]
["!L81994B.axt",null,null,null,null,null,false]
["!L820A2B.axt"]
["!L822A5B.axt"]
["!L82393B.axt"]
["!L824A1B.axt"]
["!L825A3B.axt"]
["!L826A1B.axt"]
["!L82784B.axt"]
["!L82890B.axt"]
["!L829A4B.axt"]
["!L830A5B.axt"]
["!L831A2B.axt"]
["!L901A4B.axt"]
["!L90294B.axt"]
["!L903A4B.axt"]
["!L905A4B.axt"]
["!L906A4B.axt"]
["!L907A4B.axt"]
["!L908A3B.axt"]
["!L90995B.axt"]
["!L91092B.axt"]
["!L91191B.axt"]
["!L912A5B.axt"]
["!L91392B.axt"]
["!L914A1B.axt"]
["!L915A3B.axt"]
["!L916A1B.axt"]
["!L917A4B.axt"]
["!L918A5B.axt"]

{"sheet":"!L818B0B.axt","index":3,"n_rows":33,"n_cols":48,"rows_kept":33,"cut":false,"hidden":false,"merged":[[4,39,4,42],[5,39,5,40],[4,44,4,47],[5,44,5,45],[4,24,4,27],[5,24,5,25],[4,29,4,32],[5,29,5,30],[4,34,4,37],[5,34,5,35],[1,1,1,2],[5,13,5,14],[18,13,18,14],[19,13,19,14],[4,19,4,22],[5,19,5,20]]}
["Report for:!L818B0B.axt"]
["Date:","<date>"]
["Hen:","<hen>",null,null,null,"Correct Sequence",{"$f":"Start!J2","v":211},null,null,null,null,null,null,null,null,"Total Sequences in Data",{"$f":"4994-COUNTBLANK(L7:L5000)","v":27},null,null,null,null,"Total Sequences in Block Data",{"$f":"COUNTA(L7:L11)","v":5},null,null,null,"Total Sequences in Block Data",{"$f":"COUNTA(L12:L15)","v":4},null,null,null,"Total Sequences in Block Data",{"$f":"COUNTA(L16:L20)","v":5},null,null,null,"Total Sequences in Block Data",{"$f":"COUNTA(L21:L24)","v":4},null,null,null,"Total Sequences in Block Data",{"$f":"COUNTA(L25:L29)","v":5},null,null,null,"Total Sequences in Block Data",{"$f":"COUNTA(L30:L33)","v":4}]
[null,null,null,null,null,null,null,null,null,null,null,null,null,null,null,"Total Sequences in Summary",{"$f":"SUM(O7:O14)","v":26},null,null,null,null,"Total Sequences in Block Summary",{"$f":"SUM(U7:U14)","v":5},null,null,null,"Total Sequences in Block Summary",{"$f":"SUM(Z7:Z14)","v":4},null,null,null,"Total Sequences in Block Summary",{"$f":"SUM(AE7:AE14)","v":5},null,null,null,"Total Sequences in Block Summary",{"$f":"SUM(AJ7:AJ14)","v":4},null,null,null,"Total Sequences in Block Summary",{"$f":"SUM(AO7:AO14)","v":5},null,null,null,"Total Sequences in Block Summary",{"$f":"SUM(AT7:AT14)","v":3}]
[null,null,null,null,null,null,null,null,null,null,null,null,null,null,null,null,null,null,null,"Block 1",null,null,null,null,"Block 2",null,null,null,null,"Block 3",null,null,null,null,"Block 4",null,null,null,null,"Block 5",null,null,null,null,"Block 6"]
["Sequence\nComponent\n1","Time\n1","Sequence\nComponent\n2","Time\n2","Sequence\nComponent\n3","Time\n3","Sequence\nComponent\n4","Time\n4","Sequence\nComponent\n5","Time\n5","Correct?\n0=No 1=Yes","Sequence",null,"Frequency",null,"Relative Frequency","Variability",null,null,"Frequency",null,"Relative Frequency","Variability",null,"Frequency",null,"Relative Frequency","Variability",null,"Frequency",null,"Relative Frequency","Variability",null,"Frequency",null,"Relative Frequency","Variability",null,"Frequency",null,"Relative Frequency","Variability",null,"Frequency",null,"Relative Frequency","Variability"]
[21,59,22,68,13,99,null,null,null,null,0,221,null,111,{"$f":"COUNTIF($L$7:$L$500,N7)","v":1},{"$f":"O7/$Q$4","v":3.8461538461538464E-2},{"$f":"IF(P7=0,0,(P7*((LOG(P7))/LOG(2))))","v":-0.18078614300542661},null,null,{"$f":"N7","v":111},{"$f":"COUNTIF(L7:L11,T7)","v":0},{"$f":"U7/(W4-U11)","v":0},{"$f":"IF(V7=0,0,(V7*((LOG(V7))/LOG(2))))","v":0},null,{"$f":"N7","v":111},{"$f":"COUNTIF(L12:L15,Y7)","v":0},{"$f":"Z7/(AB4-Z11)","v":0},{"$f":"IF(AA7=0,0,(AA7*((LOG(AA7))/LOG(2))))","v":0},null,{"$f":"N7","v":111},{"$f":"COUNTIF(L16:L20,AD7)","v":0},{"$f":"AE7/(AG4-AE11)","v":0},{"$f":"IF(AF7=0,0,(AF7*((LOG(AF7))/LOG(2))))","v":0},null,{"$f":"N7","v":111},{"$f":"COUNTIF(L21:L24,AI7)","v":1},{"$f":"AJ7/(AL4-AJ11)","v":0.25},{"$f":"IF(AK7=0,0,(AK7*((LOG(AK7))/LOG(2))))","v":-0.5},null,{"$f":"N7","v":111},{"$f":"COUNTIF(L25:L29,AN7)","v":0},{"$f":"AO7/(AQ4-AO11)","v":0},{"$f":"IF(AP7=0,0,(AP7*((LOG(AP7))/LOG(2))))","v":0},null,{"$f":"N7","v":111},{"$f":"COUNTIF(L30:L33,AS7)","v":0},{"$f":"AT7/(AV4-AT11)","v":0},{"$f":"IF(AU7=0,0,(AU7*((LOG(AU7))/LOG(2))))","v":0}]
[12,286,13,339,24,356,null,null,null,null,0,112,null,112,{"$f":"COUNTIF($L$7:$L$500,N8)","v":5},{"$f":"O8/$Q$4","v":0.19230769230769232},{"$f":"IF(P8=0,0,(P8*((LOG(P8))/LOG(2))))","v":-0.45740608139494804},null,null,{"$f":"N8","v":112},{"$f":"COUNTIF(L7:L11,T8)","v":1},{"$f":"U8/(W4-U11)","v":0.2},{"$f":"IF(V8=0,0,(V8*((LOG(V8))/LOG(2))))","v":-0.46438561897747244},null,{"$f":"N8","v":112},{"$f":"COUNTIF(L12:L15,Y8)","v":1},{"$f":"Z8/(AB4-Z11)","v":0.25},{"$f":"IF(AA8=0,0,(AA8*((LOG(AA8))/LOG(2))))","v":-0.5},null,{"$f":"N8","v":112},{"$f":"COUNTIF(L16:L20,AD8)","v":3},{"$f":"AE8/(AG4-AE11)","v":0.6},{"$f":"IF(AF8=0,0,(AF8*((LOG(AF8))/LOG(2))))","v":-0.44217935649972373},null,{"$f":"N8","v":112},{"$f":"COUNTIF(L21:L24,AI8)","v":0},{"$f":"AJ8/(AL4-AJ11)","v":0},{"$f":"IF(AK8=0,0,(AK8*((LOG(AK8))/LOG(2))))","v":0},null,{"$f":"N8","v":112},{"$f":"COUNTIF(L25:L29,AN8)","v":0},{"$f":"AO8/(AQ4-AO11)","v":0},{"$f":"IF(AP8=0,0,(AP8*((LOG(AP8))/LOG(2))))","v":0},null,{"$f":"N8","v":112},{"$f":"COUNTIF(L30:L33,AS8)","v":0},{"$f":"AT8/(AV4-AT11)","v":0},{"$f":"IF(AU8=0,0,(AU8*((LOG(AU8))/LOG(2))))","v":0}]
[21,476,22,486,13,506,null,null,null,null,0,221,null,121,{"$f":"COUNTIF($L$7:$L$500,N9)","v":0},{"$f":"O9/$Q$4","v":0},{"$f":"IF(P9=0,0,(P9*((LOG(P9))/LOG(2))))","v":0},null,null,{"$f":"N9","v":121},{"$f":"COUNTIF(L7:L11,T9)","v":0},{"$f":"U9/(W4-U11)","v":0},{"$f":"IF(V9=0,0,(V9*((LOG(V9))/LOG(2))))","v":0},null,{"$f":"N9","v":121},{"$f":"COUNTIF(L12:L15,Y9)","v":0},{"$f":"Z9/(AB4-Z11)","v":0},{"$f":"IF(AA9=0,0,(AA9*((LOG(AA9))/LOG(2))))","v":0},null,{"$f":"N9","v":121},{"$f":"COUNTIF(L16:L20,AD9)","v":0},{"$f":"AE9/(AG4-AE11)","v":0},{"$f":"IF(AF9=0,0,(AF9*((LOG(AF9))/LOG(2))))","v":0},null,{"$f":"N9","v":121},{"$f":"COUNTIF(L21:L24,AI9)","v":0},{"$f":"AJ9/(AL4-AJ11)","v":0},{"$f":"IF(AK9=0,0,(AK9*((LOG(AK9))/LOG(2))))","v":0},null,{"$f":"N9","v":121},{"$f":"COUNTIF(L25:L29,AN9)","v":0},{"$f":"AO9/(AQ4-AO11)","v":0},{"$f":"IF(AP9=0,0,(AP9*((LOG(AP9))/LOG(2))))","v":0},null,{"$f":"N9","v":121},{"$f":"COUNTIF(L30:L33,AS9)","v":0},{"$f":"AT9/(AV4-AT11)","v":0},{"$f":"IF(AU9=0,0,(AU9*((LOG(AU9))/LOG(2))))","v":0}]
[21,622,22,630,24,643,null,null,null,null,0,222,null,122,{"$f":"COUNTIF($L$7:$L$500,N10)","v":8},{"$f":"O10/$Q$4","v":0.30769230769230771},{"$f":"IF(P10=0,0,(P10*((LOG(P10))/LOG(2))))","v":-0.52321222096648989},null,null,{"$f":"N10","v":122},{"$f":"COUNTIF(L7:L11,T10)","v":0},{"$f":"U10/(W4-U11)","v":0},{"$f":"IF(V10=0,0,(V10*((LOG(V10))/LOG(2))))","v":0},null,{"$f":"N10","v":122},{"$f":"COUNTIF(L12:L15,Y10)","v":2},{"$f":"Z10/(AB4-Z11)","v":0.5},{"$f":"IF(AA10=0,0,(AA10*((LOG(AA10))/LOG(2))))","v":-0.5},null,{"$f":"N10","v":122},{"$f":"COUNTIF(L16:L20,AD10)","v":0},{"$f":"AE10/(AG4-AE11)","v":0},{"$f":"IF(AF10=0,0,(AF10*((LOG(AF10))/LOG(2))))","v":0},null,{"$f":"N10","v":122},{"$f":"COUNTIF(L21:L24,AI10)","v":1},{"$f":"AJ10/(AL4-AJ11)","v":0.25},{"$f":"IF(AK10=0,0,(AK10*((LOG(AK10))/LOG(2))))","v":-0.5},null,{"$f":"N10","v":122},{"$f":"COUNTIF(L25:L29,AN10)","v":5},{"$f":"AO10/(AQ4-AO11)","v":1},{"$f":"IF(AP10=0,0,(AP10*((LOG(AP10))/LOG(2))))","v":0},null,{"$f":"N10","v":122},{"$f":"COUNTIF(L30:L33,AS10)","v":0},{"$f":"AT10/(AV4-AT11)","v":0},{"$f":"IF(AU10=0,0,(AU10*((LOG(AU10))/LOG(2))))","v":0}]
[21,776,22,783,24,815,null,null,null,null,0,222,null,211,{"$f":"COUNTIF($L$7:$L$500,N11)","v":0},{"$f":"O11/$Q$4","v":0},{"$f":"IF(P11=0,0,(P11*((LOG(P11))/LOG(2))))","v":0},null,null,{"$f":"N11","v":211},{"$f":"COUNTIF(L7:L11,T11)","v":0},null,null,null,{"$f":"N11","v":211},{"$f":"COUNTIF(L12:L15,Y11)","v":0},null,null,null,{"$f":"N11","v":211},{"$f":"COUNTIF(L16:L20,AD11)","v":0},null,null,null,{"$f":"N11","v":211},{"$f":"COUNTIF(L21:L24,AI11)","v":0},null,null,null,{"$f":"N11","v":211},{"$f":"COUNTIF(L25:L29,AN11)","v":0},null,null,null,{"$f":"N11","v":211},{"$f":"COUNTIF(L30:L33,AS11)","v":0}]
[21,941,22,963,13,1050,null,null,null,null,0,221,null,212,{"$f":"COUNTIF($L$7:$L$500,N12)","v":0},{"$f":"O12/$Q$4","v":0},{"$f":"IF(P12=0,0,(P12*((LOG(P12))/LOG(2))))","v":0},null,null,{"$f":"N12","v":212},{"$f":"COUNTIF(L7:L11,T12)","v":0},{"$f":"U12/(W4-U11)","v":0},{"$f":"IF(V12=0,0,(V12*((LOG(V12))/LOG(2))))","v":0},null,{"$f":"N12","v":212},{"$f":"COUNTIF(L12:L15,Y12)","v":0},{"$f":"Z12/(AB4-Z11)","v":0},{"$f":"IF(AA12=0,0,(AA12*((LOG(AA12))/LOG(2))))","v":0},null,{"$f":"N12","v":212},{"$f":"COUNTIF(L16:L20,AD12)","v":0},{"$f":"AE12/(AG4-AE11)","v":0},{"$f":"IF(AF12=0,0,(AF12*((LOG(AF12))/LOG(2))))","v":0},null,{"$f":"N12","v":212},{"$f":"COUNTIF(L21:L24,AI12)","v":0},{"$f":"AJ12/(AL4-AJ11)","v":0},{"$f":"IF(AK12=0,0,(AK12*((LOG(AK12))/LOG(2))))","v":0},null,{"$f":"N12","v":212},{"$f":"COUNTIF(L25:L29,AN12)","v":0},{"$f":"AO12/(AQ4-AO11)","v":0},{"$f":"IF(AP12=0,0,(AP12*((LOG(AP12))/LOG(2))))","v":0},null,{"$f":"N12","v":212},{"$f":"COUNTIF(L30:L33,AS12)","v":0},{"$f":"AT12/(AV4-AT11)","v":0},{"$f":"IF(AU12=0,0,(AU12*((LOG(AU12))/LOG(2))))","v":0}]
[12,1143,13,1145,24,1158,null,null,null,null,0,112,null,221,{"$f":"COUNTIF($L$7:$L$500,N13)","v":3},{"$f":"O13/$Q$4","v":0.11538461538461539},{"$f":"IF(P13=0,0,(P13*((LOG(P13))/LOG(2))))","v":-0.35947814047153104},null,null,{"$f":"N13","v":221},{"$f":"COUNTIF(L7:L11,T13)","v":2},{"$f":"U13/(W4-U11)","v":0.4},{"$f":"IF(V13=0,0,(V13*((LOG(V13))/LOG(2))))","v":-0.52877123795494496},null,{"$f":"N13","v":221},{"$f":"COUNTIF(L12:L15,Y13)","v":1},{"$f":"Z13/(AB4-Z11)","v":0.25},{"$f":"IF(AA13=0,0,(AA13*((LOG(AA13))/LOG(2))))","v":-0.5},null,{"$f":"N13","v":221},{"$f":"COUNTIF(L16:L20,AD13)","v":0},{"$f":"AE13/(AG4-AE11)","v":0},{"$f":"IF(AF13=0,0,(AF13*((LOG(AF13))/LOG(2))))","v":0},null,{"$f":"N13","v":221},{"$f":"COUNTIF(L21:L24,AI13)","v":0},{"$f":"AJ13/(AL4-AJ11)","v":0},{"$f":"IF(AK13=0,0,(AK13*((LOG(AK13))/LOG(2))))","v":0},null,{"$f":"N13","v":221},{"$f":"COUNTIF(L25:L29,AN13)","v":0},{"$f":"AO13/(AQ4-AO11)","v":0},{"$f":"IF(AP13=0,0,(AP13*((LOG(AP13))/LOG(2))))","v":0},null,{"$f":"N13","v":221},{"$f":"COUNTIF(L30:L33,AS13)","v":0},{"$f":"AT13/(AV4-AT11)","v":0},{"$f":"IF(AU13=0,0,(AU13*((LOG(AU13))/LOG(2))))","v":0}]
[12,1292,24,1304,24,1311,null,null,null,null,0,122,null,222,{"$f":"COUNTIF($L$7:$L$500,N14)","v":9},{"$f":"O14/$Q$4","v":0.34615384615384615},{"$f":"IF(P14=0,0,(P14*((LOG(P14))/LOG(2))))","v":-0.52979355578034681},null,null,{"$f":"N14","v":222},{"$f":"COUNTIF(L7:L11,T14)","v":2},{"$f":"U14/(W4-U11)","v":0.4},{"$f":"IF(V14=0,0,(V14*((LOG(V14))/LOG(2))))","v":-0.52877123795494496},null,{"$f":"N14","v":222},{"$f":"COUNTIF(L12:L15,Y14)","v":0},{"$f":"Z14/(AB4-Z11)","v":0},{"$f":"IF(AA14=0,0,(AA14*((LOG(AA14))/LOG(2))))","v":0},null,{"$f":"N14","v":222},{"$f":"COUNTIF(L16:L20,AD14)","v":2},{"$f":"AE14/(AG4-AE11)","v":0.4},{"$f":"IF(AF14=0,0,(AF14*((LOG(AF14))/LOG(2))))","v":-0.52877123795494496},null,{"$f":"N14","v":222},{"$f":"COUNTIF(L21:L24,AI14)","v":2},{"$f":"AJ14/(AL4-AJ11)","v":0.5},{"$f":"IF(AK14=0,0,(AK14*((LOG(AK14))/LOG(2))))","v":-0.5},null,{"$f":"N14","v":222},{"$f":"COUNTIF(L25:L29,AN14)","v":0},{"$f":"AO14/(AQ4-AO11)","v":0},{"$f":"IF(AP14=0,0,(AP14*((LOG(AP14))/LOG(2))))","v":0},null,{"$f":"N14","v":222},{"$f":"COUNTIF(L30:L33,AS14)","v":3},{"$f":"AT14/(AV4-AT11)","v":1},{"$f":"IF(AU14=0,0,(AU14*((LOG(AU14))/LOG(2))))","v":0}]
[12,1403,24,1425,24,1432,null,null,null,null,0,122,null,null,null,{"$f":"SUM(P7:P14)","v":1},{"$f":"-SUM(Q7:Q14)","v":2.0506761416187422},null,null,null,null,{"$f":"SUM(V7:V14)","v":1},{"$f":"-SUM(W7:W14)","v":1.5219280948873624},null,null,null,{"$f":"SUM(AA7:AA14)","v":1},{"$f":"-SUM(AB7:AB14)","v":1.5},null,null,null,{"$f":"SUM(AF7:AF14)","v":1},{"$f":"-SUM(AG7:AG14)","v":0.97095059445466869},null,null,null,{"$f":"SUM(AK7:AK14)","v":1},{"$f":"-SUM(AL7:AL14)","v":1.5},null,null,null,{"$f":"SUM(AP7:AP14)","v":1},{"$f":"-SUM(AQ7:AQ14)","v":0},null,null,null,{"$f":"SUM(AU7:AU14)","v":1},{"$f":"-SUM(AV7:AV14)","v":0}]
[21,1541,22,1546,24,1554,null,null,null,null,0,222,null,null,null,"U=",{"$f":"Q15/(LOG(Q4)/LOG(2))","v":0.43627325624542512},null,null,null,null,"U1=",{"$f":"W15/(LOG(W4)/LOG(2))","v":0.65545875354128547},null,null,null,"U2=",{"$f":"AB15/(LOG(AB4)/LOG(2))","v":0.75},null,null,null,"U3=",{"$f":"AG15/(LOG(AG4)/LOG(2))","v":0.41816566007905159},null,null,null,"U4=",{"$f":"AL15/(LOG(AL4)/LOG(2))","v":0.75},null,null,null,"U5=",{"$f":"AQ15/(LOG(AQ4)/LOG(2))","v":0},null,null,null,"U6=",{"$f":"AV15/(LOG(AV4)/LOG(2))","v":0}]
[21,1662,22,1669,24,1676,null,null,null,null,0,222]
[12,1770,13,1786,24,1789,null,null,null,null,0,112]
[12,1882,13,1884,24,1900,null,null,null,null,0,112,null,"Total Target Seq"]
[12,1994,13,2000,24,2018,null,null,null,null,0,112,null,{"$f":"COUNTIF(L7:L33,G3)","v":0},null,5,4,5,4,5,4]
[21,2131,22,2144,24,2154,null,null,null,null,0,222,null,null,null,"% of reinforcement given in 6 equal intervals based on number of trials "]
[12,2249,13,2251,13,2257,null,null,null,null,0,111,null,null,null,"%_1","%_2","%_3","%_4","%_5","%_6"]
[21,2374,22,2382,24,2466,null,null,null,null,0,222,null,null,"target sequence",{"$f":"$G$3","v":211},{"$f":"$G$3","v":211},{"$f":"$G$3","v":211},{"$f":"$G$3","v":211},{"$f":"$G$3","v":211},{"$f":"$G$3","v":211}]
[12,2563,24,2580,24,2585,null,null,null,null,0,122,null,null,"total reinforcement",{"$f":"U11","v":0},{"$f":"Z11","v":0},{"$f":"AE11","v":0},{"$f":"AJ11","v":0},{"$f":"AO11","v":0},{"$f":"AT11","v":0}]
[12,2681,24,2697,24,2704,null,null,null,null,0,122,null,null,"% target"]
[12,2802,24,2821,24,2828,null,null,null,null,0,122,null,null,"CCRF"]
[12,2925,24,2937,24,2944,null,null,null,null,0,122,null,null,"% CCRf"]
[12,3060,24,3082,24,3090,null,null,null,null,0,122,null,null,"average response rate",{"$f":"F11/P20","v":163},{"$f":"(F15-F11)/Q20","v":154.25},{"$f":"(F20-F15)/R20","v":117.2},{"$f":"(F24-F20)/S20","v":141.75},{"$f":"(F29-F24)/T20","v":124.8},{"$f":"(F33-F29)/U20","v":-802.25}]
[12,3184,24,3202,24,3209,null,null,null,null,0,122]
[21,3340,22,3356,24,3366,null,null,null,null,0,222]
[21,3476,22,3484,24,3492,null,null,null,null,0,222]
[21,4011,22,4020,24,4028,null,null,null,null,0,222]
[21,4323,22,4335,null,null,null,null,null,null,null,22]

{"sheet":"!L81994B.axt","index":4,"n_rows":43,"n_cols":48,"rows_kept":43,"cut":false,"hidden":false,"merged":[[4,39,4,42],[5,39,5,40],[4,44,4,47],[5,44,5,45],[4,24,4,27],[5,24,5,25],[4,29,4,32],[5,29,5,30],[4,34,4,37],[5,34,5,35],[1,1,1,2],[5,13,5,14],[18,13,18,14],[19,13,19,14],[4,19,4,22],[5,19,5,20]]}
["Report for:!L81994B.axt"]
["Date:","<date>"]
["Hen:","<hen>",null,null,null,"Correct Sequence",{"$f":"Start!J2","v":211},null,null,null,null,null,null,null,null,"Total Sequences in Data",{"$f":"4994-COUNTBLANK(L7:L5000)","v":37},null,null,null,null,"Total Sequences in Block Data",{"$f":"COUNTA(L7:L12)","v":6},null,null,null,"Total Sequences in Block Data",{"$f":"COUNTA(L13:L18)","v":6},null,null,null,"Total Sequences in Block Data",{"$f":"COUNTA(L19:L25)","v":7},null,null,null,"Total Sequences in Block Data",{"$f":"COUNTA(L26:L31)","v":6},null,null,null,"Total Sequences in Block Data",{"$f":"COUNTA(L32:L37)","v":6},null,null,null,"Total Sequences in Block Data",{"$f":"COUNTA(L38:L43)","v":6}]
[null,null,null,null,null,null,null,null,null,null,null,null,null,null,null,"Total Sequences in Summary",{"$f":"SUM(O7:O14)","v":37},null,null,null,null,"Total Sequences in Block Summary",{"$f":"SUM(U7:U14)","v":6},null,null,null,"Total Sequences in Block Summary",{"$f":"SUM(Z7:Z14)","v":6},null,null,null,"Total Sequences in Block Summary",{"$f":"SUM(AE7:AE14)","v":7},null,null,null,"Total Sequences in Block Summary",{"$f":"SUM(AJ7:AJ14)","v":6},null,null,null,"Total Sequences in Block Summary",{"$f":"SUM(AO7:AO14)","v":6},null,null,null,"Total Sequences in Block Summary",{"$f":"SUM(AT7:AT14)","v":6}]
[null,null,null,null,null,null,null,null,null,null,null,null,null,null,null,null,null,null,null,"Block 1",null,null,null,null,"Block 2",null,null,null,null,"Block 3",null,null,null,null,"Block 4",null,null,null,null,"Block 5",null,null,null,null,"Block 6"]
["Sequence\nComponent\n1","Time\n1","Sequence\nComponent\n2","Time\n2","Sequence\nComponent\n3","Time\n3","Sequence\nComponent\n4","Time\n4","Sequence\nComponent\n5","Time\n5","Correct?\n0=No 1=Yes","Sequence",null,"Frequency",null,"Relative Frequency","Variability",null,null,"Frequency",null,"Relative Frequency","Variability",null,"Frequency",null,"Relative Frequency","Variability",null,"Frequency",null,"Relative Frequency","Variability",null,"Frequency",null,"Relative Frequency","Variability",null,"Frequency",null,"Relative Frequency","Variability",null,"Frequency",null,"Relative Frequency","Variability"]
[21,111,22,152,24,160,null,null,null,null,0,222,null,111,{"$f":"COUNTIF($L$7:$L$500,N7)","v":1},{"$f":"O7/$Q$4","v":2.7027027027027029E-2},{"$f":"IF(P7=0,0,(P7*((LOG(P7))/LOG(2))))","v":-0.14079603690889056},null,null,{"$f":"N7","v":111},{"$f":"COUNTIF(L7:L12,T7)","v":0},{"$f":"U7/(W4-U11)","v":0},{"$f":"IF(V7=0,0,(V7*((LOG(V7))/LOG(2))))","v":0},null,{"$f":"N7","v":111},{"$f":"COUNTIF(L13:L18,Y7)","v":0},{"$f":"Z7/(AB4-Z11)","v":0},{"$f":"IF(AA7=0,0,(AA7*((LOG(AA7))/LOG(2))))","v":0},null,{"$f":"N7","v":111},{"$f":"COUNTIF(L19:L25,AD7)","v":0},{"$f":"AE7/(AG4-AE11)","v":0},{"$f":"IF(AF7=0,0,(AF7*((LOG(AF7))/LOG(2))))","v":0},null,{"$f":"N7","v":111},{"$f":"COUNTIF(L26:L31,AI7)","v":0},{"$f":"AJ7/(AL4-AJ11)","v":0},{"$f":"IF(AK7=0,0,(AK7*((LOG(AK7))/LOG(2))))","v":0},null,{"$f":"N7","v":111},{"$f":"COUNTIF(L32:L37,AN7)","v":1},{"$f":"AO7/(AQ4-AO11)","v":0.16666666666666666},{"$f":"IF(AP7=0,0,(AP7*((LOG(AP7))/LOG(2))))","v":-0.43082708345352599},null,{"$f":"N7","v":111},{"$f":"COUNTIF(L38:L43,AS7)","v":0},{"$f":"AT7/(AV4-AT11)","v":0},{"$f":"IF(AU7=0,0,(AU7*((LOG(AU7))/LOG(2))))","v":0}]
[21,288,22,358,13,372,null,null,null,null,0,221,null,112,{"$f":"COUNTIF($L$7:$L$500,N8)","v":5},{"$f":"O8/$Q$4","v":0.13513513513513514},{"$f":"IF(P8=0,0,(P8*((LOG(P8))/LOG(2))))","v":-0.39020611766778207},null,null,{"$f":"N8","v":112},{"$f":"COUNTIF(L7:L12,T8)","v":0},{"$f":"U8/(W4-U11)","v":0},{"$f":"IF(V8=0,0,(V8*((LOG(V8))/LOG(2))))","v":0},null,{"$f":"N8","v":112},{"$f":"COUNTIF(L13:L18,Y8)","v":1},{"$f":"Z8/(AB4-Z11)","v":0.16666666666666666},{"$f":"IF(AA8=0,0,(AA8*((LOG(AA8))/LOG(2))))","v":-0.43082708345352599},null,{"$f":"N8","v":112},{"$f":"COUNTIF(L19:L25,AD8)","v":1},{"$f":"AE8/(AG4-AE11)","v":0.14285714285714285},{"$f":"IF(AF8=0,0,(AF8*((LOG(AF8))/LOG(2))))","v":-0.40105070315108626},null,{"$f":"N8","v":112},{"$f":"COUNTIF(L26:L31,AI8)","v":1},{"$f":"AJ8/(AL4-AJ11)","v":0.16666666666666666},{"$f":"IF(AK8=0,0,(AK8*((LOG(AK8))/LOG(2))))","v":-0.43082708345352599},null,{"$f":"N8","v":112},{"$f":"COUNTIF(L32:L37,AN8)","v":1},{"$f":"AO8/(AQ4-AO11)","v":0.16666666666666666},{"$f":"IF(AP8=0,0,(AP8*((LOG(AP8))/LOG(2))))","v":-0.43082708345352599},null,{"$f":"N8","v":112},{"$f":"COUNTIF(L38:L43,AS8)","v":1},{"$f":"AT8/(AV4-AT11)","v":0.16666666666666666},{"$f":"IF(AU8=0,0,(AU8*((LOG(AU8))/LOG(2))))","v":-0.43082708345352599}]
[21,483,22,490,24,498,null,null,null,null,0,222,null,121,{"$f":"COUNTIF($L$7:$L$500,N9)","v":1},{"$f":"O9/$Q$4","v":2.7027027027027029E-2},{"$f":"IF(P9=0,0,(P9*((LOG(P9))/LOG(2))))","v":-0.14079603690889056},null,null,{"$f":"N9","v":121},{"$f":"COUNTIF(L7:L12,T9)","v":0},{"$f":"U9/(W4-U11)","v":0},{"$f":"IF(V9=0,0,(V9*((LOG(V9))/LOG(2))))","v":0},null,{"$f":"N9","v":121},{"$f":"COUNTIF(L13:L18,Y9)","v":0},{"$f":"Z9/(AB4-Z11)","v":0},{"$f":"IF(AA9=0,0,(AA9*((LOG(AA9))/LOG(2))))","v":0},null,{"$f":"N9","v":121},{"$f":"COUNTIF(L19:L25,AD9)","v":1},{"$f":"AE9/(AG4-AE11)","v":0.14285714285714285},{"$f":"IF(AF9=0,0,(AF9*((LOG(AF9))/LOG(2))))","v":-0.40105070315108626},null,{"$f":"N9","v":121},{"$f":"COUNTIF(L26:L31,AI9)","v":0},{"$f":"AJ9/(AL4-AJ11)","v":0},{"$f":"IF(AK9=0,0,(AK9*((LOG(AK9))/LOG(2))))","v":0},null,{"$f":"N9","v":121},{"$f":"COUNTIF(L32:L37,AN9)","v":0},{"$f":"AO9/(AQ4-AO11)","v":0},{"$f":"IF(AP9=0,0,(AP9*((LOG(AP9))/LOG(2))))","v":0},null,{"$f":"N9","v":121},{"$f":"COUNTIF(L38:L43,AS9)","v":0},{"$f":"AT9/(AV4-AT11)","v":0},{"$f":"IF(AU9=0,0,(AU9*((LOG(AU9))/LOG(2))))","v":0}]
[21,614,22,633,24,714,null,null,null,null,0,222,null,122,{"$f":"COUNTIF($L$7:$L$500,N10)","v":16},{"$f":"O10/$Q$4","v":0.43243243243243246},{"$f":"IF(P10=0,0,(P10*((LOG(P10))/LOG(2))))","v":-0.52300686081251879},null,null,{"$f":"N10","v":122},{"$f":"COUNTIF(L7:L12,T10)","v":0},{"$f":"U10/(W4-U11)","v":0},{"$f":"IF(V10=0,0,(V10*((LOG(V10))/LOG(2))))","v":0},null,{"$f":"N10","v":122},{"$f":"COUNTIF(L13:L18,Y10)","v":1},{"$f":"Z10/(AB4-Z11)","v":0.16666666666666666},{"$f":"IF(AA10=0,0,(AA10*((LOG(AA10))/LOG(2))))","v":-0.43082708345352599},null,{"$f":"N10","v":122},{"$f":"COUNTIF(L19:L25,AD10)","v":4},{"$f":"AE10/(AG4-AE11)","v":0.5714285714285714},{"$f":"IF(AF10=0,0,(AF10*((LOG(AF10))/LOG(2))))","v":-0.46134566974720237},null,{"$f":"N10","v":122},{"$f":"COUNTIF(L26:L31,AI10)","v":5},{"$f":"AJ10/(AL4-AJ11)","v":0.83333333333333337},{"$f":"IF(AK10=0,0,(AK10*((LOG(AK10))/LOG(2))))","v":-0.21919533819482812},null,{"$f":"N10","v":122},{"$f":"COUNTIF(L32:L37,AN10)","v":3},{"$f":"AO10/(AQ4-AO11)","v":0.5},{"$f":"IF(AP10=0,0,(AP10*((LOG(AP10))/LOG(2))))","v":-0.5},null,{"$f":"N10","v":122},{"$f":"COUNTIF(L38:L43,AS10)","v":3},{"$f":"AT10/(AV4-AT11)","v":0.5},{"$f":"IF(AU10=0,0,(AU10*((LOG(AU10))/LOG(2))))","v":-0.5}]
[21,837,22,845,24,853,null,null,null,null,0,222,null,211,{"$f":"COUNTIF($L$7:$L$500,N11)","v":0},{"$f":"O11/$Q$4","v":0},{"$f":"IF(P11=0,0,(P11*((LOG(P11))/LOG(2))))","v":0},null,null,{"$f":"N11","v":211},{"$f":"COUNTIF(L7:L12,T11)","v":0},null,null,null,{"$f":"N11","v":211},{"$f":"COUNTIF(L13:L18,Y11)","v":0},null,null,null,{"$f":"N11","v":211},{"$f":"COUNTIF(L19:L25,AD11)","v":0},null,null,null,{"$f":"N11","v":211},{"$f":"COUNTIF(L26:L31,AI11)","v":0},null,null,null,{"$f":"N11","v":211},{"$f":"COUNTIF(L32:L37,AN11)","v":0},null,null,null,{"$f":"N11","v":211},{"$f":"COUNTIF(L38:L43,AS11)","v":0}]
[21,1227,22,1238,24,1278,null,null,null,null,0,222,null,212,{"$f":"COUNTIF($L$7:$L$500,N12)","v":2},{"$f":"O12/$Q$4","v":5.4054054054054057E-2},{"$f":"IF(P12=0,0,(P12*((LOG(P12))/LOG(2))))","v":-0.22753801976372701},null,null,{"$f":"N12","v":212},{"$f":"COUNTIF(L7:L12,T12)","v":0},{"$f":"U12/(W4-U11)","v":0},{"$f":"IF(V12=0,0,(V12*((LOG(V12))/LOG(2))))","v":0},null,{"$f":"N12","v":212},{"$f":"COUNTIF(L13:L18,Y12)","v":1},{"$f":"Z12/(AB4-Z11)","v":0.16666666666666666},{"$f":"IF(AA12=0,0,(AA12*((LOG(AA12))/LOG(2))))","v":-0.43082708345352599},null,{"$f":"N12","v":212},{"$f":"COUNTIF(L19:L25,AD12)","v":0},{"$f":"AE12/(AG4-AE11)","v":0},{"$f":"IF(AF12=0,0,(AF12*((LOG(AF12))/LOG(2))))","v":0},null,{"$f":"N12","v":212},{"$f":"COUNTIF(L26:L31,AI12)","v":0},{"$f":"AJ12/(AL4-AJ11)","v":0},{"$f":"IF(AK12=0,0,(AK12*((LOG(AK12))/LOG(2))))","v":0},null,{"$f":"N12","v":212},{"$f":"COUNTIF(L32:L37,AN12)","v":1},{"$f":"AO12/(AQ4-AO11)","v":0.16666666666666666},{"$f":"IF(AP12=0,0,(AP12*((LOG(AP12))/LOG(2))))","v":-0.43082708345352599},null,{"$f":"N12","v":212},{"$f":"COUNTIF(L38:L43,AS12)","v":0},{"$f":"AT12/(AV4-AT11)","v":0},{"$f":"IF(AU12=0,0,(AU12*((LOG(AU12))/LOG(2))))","v":0}]
[21,2266,11,2289,22,2303,null,null,null,null,0,212,null,221,{"$f":"COUNTIF($L$7:$L$500,N13)","v":4},{"$f":"O13/$Q$4","v":0.10810810810810811},{"$f":"IF(P13=0,0,(P13*((LOG(P13))/LOG(2))))","v":-0.34696793141934595},null,null,{"$f":"N13","v":221},{"$f":"COUNTIF(L7:L12,T13)","v":1},{"$f":"U13/(W4-U11)","v":0.16666666666666666},{"$f":"IF(V13=0,0,(V13*((LOG(V13))/LOG(2))))","v":-0.43082708345352599},null,{"$f":"N13","v":221},{"$f":"COUNTIF(L13:L18,Y13)","v":1},{"$f":"Z13/(AB4-Z11)","v":0.16666666666666666},{"$f":"IF(AA13=0,0,(AA13*((LOG(AA13))/LOG(2))))","v":-0.43082708345352599},null,{"$f":"N13","v":221},{"$f":"COUNTIF(L19:L25,AD13)","v":0},{"$f":"AE13/(AG4-AE11)","v":0},{"$f":"IF(AF13=0,0,(AF13*((LOG(AF13))/LOG(2))))","v":0},null,{"$f":"N13","v":221},{"$f":"COUNTIF(L26:L31,AI13)","v":0},{"$f":"AJ13/(AL4-AJ11)","v":0},{"$f":"IF(AK13=0,0,(AK13*((LOG(AK13))/LOG(2))))","v":0},null,{"$f":"N13","v":221},{"$f":"COUNTIF(L32:L37,AN13)","v":0},{"$f":"AO13/(AQ4-AO11)","v":0},{"$f":"IF(AP13=0,0,(AP13*((LOG(AP13))/LOG(2))))","v":0},null,{"$f":"N13","v":221},{"$f":"COUNTIF(L38:L43,AS13)","v":2},{"$f":"AT13/(AV4-AT11)","v":0.33333333333333331},{"$f":"IF(AU13=0,0,(AU13*((LOG(AU13))/LOG(2))))","v":-0.52832083357371862}]
[21,2754,22,2856,13,2884,null,null,null,null,0,221,null,222,{"$f":"COUNTIF($L$7:$L$500,N14)","v":8},{"$f":"O14/$Q$4","v":0.21621621621621623},{"$f":"IF(P14=0,0,(P14*((LOG(P14))/LOG(2))))","v":-0.47771964662247562},null,null,{"$f":"N14","v":222},{"$f":"COUNTIF(L7:L12,T14)","v":5},{"$f":"U14/(W4-U11)","v":0.83333333333333337},{"$f":"IF(V14=0,0,(V14*((LOG(V14))/LOG(2))))","v":-0.21919533819482812},null,{"$f":"N14","v":222},{"$f":"COUNTIF(L13:L18,Y14)","v":2},{"$f":"Z14/(AB4-Z11)","v":0.33333333333333331},{"$f":"IF(AA14=0,0,(AA14*((LOG(AA14))/LOG(2))))","v":-0.52832083357371862},null,{"$f":"N14","v":222},{"$f":"COUNTIF(L19:L25,AD14)","v":1},{"$f":"AE14/(AG4-AE11)","v":0.14285714285714285},{"$f":"IF(AF14=0,0,(AF14*((LOG(AF14))/LOG(2))))","v":-0.40105070315108626},null,{"$f":"N14","v":222},{"$f":"COUNTIF(L26:L31,AI14)","v":0},{"$f":"AJ14/(AL4-AJ11)","v":0},{"$f":"IF(AK14=0,0,(AK14*((LOG(AK14))/LOG(2))))","v":0},null,{"$f":"N14","v":222},{"$f":"COUNTIF(L32:L37,AN14)","v":0},{"$f":"AO14/(AQ4-AO11)","v":0},{"$f":"IF(AP14=0,0,(AP14*((LOG(AP14))/LOG(2))))","v":0},null,{"$f":"N14","v":222},{"$f":"COUNTIF(L38:L43,AS14)","v":0},{"$f":"AT14/(AV4-AT11)","v":0},{"$f":"IF(AU14=0,0,(AU14*((LOG(AU14))/LOG(2))))","v":0}]
[12,3774,24,3792,24,3799,null,null,null,null,0,122,null,null,null,{"$f":"SUM(P7:P14)","v":1},{"$f":"-SUM(Q7:Q14)","v":2.2470306501036306},null,null,null,null,{"$f":"SUM(V7:V14)","v":1},{"$f":"-SUM(W7:W14)","v":0.65002242164835411},null,null,null,{"$f":"SUM(AA7:AA14)","v":1},{"$f":"-SUM(AB7:AB14)","v":2.2516291673878226},null,null,null,{"$f":"SUM(AF7:AF14)","v":1},{"$f":"-SUM(AG7:AG14)","v":1.6644977792004614},null,null,null,{"$f":"SUM(AK7:AK14)","v":1},{"$f":"-SUM(AL7:AL14)","v":0.65002242164835411},null,null,null,{"$f":"SUM(AP7:AP14)","v":0.99999999999999989},{"$f":"-SUM(AQ7:AQ14)","v":1.7924812503605778},null,null,null,{"$f":"SUM(AU7:AU14)","v":1},{"$f":"-SUM(AV7:AV14)","v":1.4591479170272446}]
[21,4402,22,4411,24,4450,null,null,null,null,0,222,null,null,null,"U=",{"$f":"Q15/(LOG(Q4)/LOG(2))","v":0.43133712740940161},null,null,null,null,"U1=",{"$f":"W15/(LOG(W4)/LOG(2))","v":0.25146299858006066},null,null,null,"U2=",{"$f":"AB15/(LOG(AB4)/LOG(2))","v":0.87104906425515272},null,null,null,"U3=",{"$f":"AG15/(LOG(AG4)/LOG(2))","v":0.59290607187654609},null,null,null,"U4=",{"$f":"AL15/(LOG(AL4)/LOG(2))","v":0.25146299858006066},null,null,null,"U5=",{"$f":"AQ15/(LOG(AQ4)/LOG(2))","v":0.6934264036172707},null,null,null,"U6=",{"$f":"AV15/(LOG(AV4)/LOG(2))","v":0.56447546787242353}]
[12,4585,13,4588,24,4598,null,null,null,null,0,112]
[21,4961,22,5084,24,5094,null,null,null,null,0,222]
[12,5199,24,5213,24,5221,null,null,null,null,0,122,null,"Total Target Seq"]
[12,5337,24,5357,13,5413,null,null,null,null,0,121,null,{"$f":"COUNTIF(L7:L43,G3)","v":0},null,6,6,7,6,6,6]
[12,5510,24,5523,24,5530,null,null,null,null,0,122,null,null,null,"% of reinforcement given in 6 equal intervals based on number of trials "]
[12,5626,24,5643,24,5650,null,null,null,null,0,122,null,null,null,"%_1","%_2","%_3","%_4","%_5","%_6"]
[21,5802,22,5812,24,5834,null,null,null,null,0,222,null,null,"target sequence",{"$f":"$G$3","v":211},{"$f":"$G$3","v":211},{"$f":"$G$3","v":211},{"$f":"$G$3","v":211},{"$f":"$G$3","v":211},{"$f":"$G$3","v":211}]
[12,5928,13,5931,24,5950,null,null,null,null,0,112,null,null,"total reinforcement",{"$f":"U11","v":0},{"$f":"Z11","v":0},{"$f":"AE11","v":0},{"$f":"AJ11","v":0},{"$f":"AO11","v":0},{"$f":"AT11","v":0}]
[12,6043,24,6064,24,6072,null,null,null,null,0,122,null,null,"% target"]
[12,6163,24,6188,24,6196,null,null,null,null,0,122,null,null,"CCRF"]
[12,6289,13,6292,24,6310,null,null,null,null,0,112,null,null,"% CCRf"]
[12,6418,24,6433,24,6441,null,null,null,null,0,122,null,null,"average response rate",{"$f":"F12/P20","v":213},{"$f":"(F18-F12)/Q20","v":636},{"$f":"(F25-F18)/R20","v":139.71428571428572},{"$f":"(F31-F25)/S20","v":135},{"$f":"(F37-F31)/T20","v":132.66666666666666},{"$f":"(F43-F37)/U20","v":143.33333333333334}]
[12,6535,24,6549,24,6556,null,null,null,null,0,122]
[12,6658,24,6668,24,6675,null,null,null,null,0,122]
[12,6862,24,6875,24,6882,null,null,null,null,0,122]
[12,6979,13,6982,24,6998,null,null,null,null,0,112]
[12,7090,24,7108,24,7115,null,null,null,null,0,122]
[12,7218,24,7227,24,7235,null,null,null,null,0,122]
[12,7329,24,7351,24,7358,null,null,null,null,0,122]
[12,7453,13,7460,13,7463,null,null,null,null,0,111]
[21,7628,11,7665,22,7678,null,null,null,null,0,212]
[21,7791,22,7800,13,7840,null,null,null,null,0,221]
[12,7936,24,7954,24,7961,null,null,null,null,0,122]
[12,8061,13,8070,24,8084,null,null,null,null,0,112]
[12,8185,24,8198,24,8206,null,null,null,null,0,122]
[21,8328,22,8337,13,8397,null,null,null,null,0,221]
[12,8518,24,8531,24,8538,null,null,null,null,0,122]

{"sheet":"!L820A2B.axt","index":5,"n_rows":48,"n_cols":48,"rows_kept":48,"cut":false,"hidden":false,"merged":[[4,39,4,42],[5,39,5,40],[4,44,4,47],[5,44,5,45],[4,24,4,27],[5,24,5,25],[4,29,4,32],[5,29,5,30],[4,34,4,37],[5,34,5,35],[1,1,1,2],[5,13,5,14],[18,13,18,14],[19,13,19,14],[4,19,4,22],[5,19,5,20]]}
["Report for:!L820A2B.axt"]
["Date:","<date>"]
["Hen:","<hen>",null,null,null,"Correct Sequence",{"$f":"Start!J2","v":211},null,null,null,null,null,null,null,null,"Total Sequences in Data",{"$f":"4994-COUNTBLANK(L7:L5000)","v":42},null,null,null,null,"Total Sequences in Block Data",{"$f":"COUNTA(L7:L13)","v":7},null,null,null,"Total Sequences in Block Data",{"$f":"COUNTA(L14:L20)","v":7},null,null,null,"Total Sequences in Block Data",{"$f":"COUNTA(L21:L27)","v":7},null,null,null,"Total Sequences in Block Data",{"$f":"COUNTA(L28:L34)","v":7},null,null,null,"Total Sequences in Block Data",{"$f":"COUNTA(L35:L41)","v":7},null,null,null,"Total Sequences in Block Data",{"$f":"COUNTA(L42:L48)","v":7}]
[null,null,null,null,null,null,null,null,null,null,null,null,null,null,null,"Total Sequences in Summary",{"$f":"SUM(O7:O14)","v":42},null,null,null,null,"Total Sequences in Block Summary",{"$f":"SUM(U7:U14)","v":7},null,null,null,"Total Sequences in Block Summary",{"$f":"SUM(Z7:Z14)","v":7},null,null,null,"Total Sequences in Block Summary",{"$f":"SUM(AE7:AE14)","v":7},null,null,null,"Total Sequences in Block Summary",{"$f":"SUM(AJ7:AJ14)","v":7},null,null,null,"Total Sequences in Block Summary",{"$f":"SUM(AO7:AO14)","v":7},null,null,null,"Total Sequences in Block Summary",{"$f":"SUM(AT7:AT14)","v":7}]
[null,null,null,null,null,null,null,null,null,null,null,null,null,null,null,null,null,null,null,"Block 1",null,null,null,null,"Block 2",null,null,null,null,"Block 3",null,null,null,null,"Block 4",null,null,null,null,"Block 5",null,null,null,null,"Block 6"]
["Sequence\nComponent\n1","Time\n1","Sequence\nComponent\n2","Time\n2","Sequence\nComponent\n3","Time\n3","Sequence\nComponent\n4","Time\n4","Sequence\nComponent\n5","Time\n5","Correct?\n0=No 1=Yes","Sequence",null,"Frequency",null,"Relative Frequency","Variability",null,null,"Frequency",null,"Relative Frequency","Variability",null,"Frequency",null,"Relative Frequency","Variability",null,"Frequency",null,"Relative Frequency","Variability",null,"Frequency",null,"Relative Frequency","Variability",null,"Frequency",null,"Relative Frequency","Variability",null,"Frequency",null,"Relative Frequency","Variability"]
[12,15,24,30,13,66,null,null,null,null,0,121,null,111,{"$f":"COUNTIF($L$7:$L$500,N7)","v":0},{"$f":"O7/$Q$4","v":0},{"$f":"IF(P7=0,0,(P7*((LOG(P7))/LOG(2))))","v":0},null,null,{"$f":"N7","v":111},{"$f":"COUNTIF(L7:L13,T7)","v":0},{"$f":"U7/(W4-U11)","v":0},{"$f":"IF(V7=0,0,(V7*((LOG(V7))/LOG(2))))","v":0},null,{"$f":"N7","v":111},{"$f":"COUNTIF(L14:L20,Y7)","v":0},{"$f":"Z7/(AB4-Z11)","v":0},{"$f":"IF(AA7=0,0,(AA7*((LOG(AA7))/LOG(2))))","v":0},null,{"$f":"N7","v":111},{"$f":"COUNTIF(L21:L27,AD7)","v":0},{"$f":"AE7/(AG4-AE11)","v":0},{"$f":"IF(AF7=0,0,(AF7*((LOG(AF7))/LOG(2))))","v":0},null,{"$f":"N7","v":111},{"$f":"COUNTIF(L28:L34,AI7)","v":0},{"$f":"AJ7/(AL4-AJ11)","v":0},{"$f":"IF(AK7=0,0,(AK7*((LOG(AK7))/LOG(2))))","v":0},null,{"$f":"N7","v":111},{"$f":"COUNTIF(L35:L41,AN7)","v":0},{"$f":"AO7/(AQ4-AO11)","v":0},{"$f":"IF(AP7=0,0,(AP7*((LOG(AP7))/LOG(2))))","v":0},null,{"$f":"N7","v":111},{"$f":"COUNTIF(L42:L48,AS7)","v":0},{"$f":"AT7/(AV4-AT11)","v":0},{"$f":"IF(AU7=0,0,(AU7*((LOG(AU7))/LOG(2))))","v":0}]
[21,192,11,235,22,250,null,null,null,null,0,212,null,112,{"$f":"COUNTIF($L$7:$L$500,N8)","v":2},{"$f":"O8/$Q$4","v":4.7619047619047616E-2},{"$f":"IF(P8=0,0,(P8*((LOG(P8))/LOG(2))))","v":-0.20915797251327431},null,null,{"$f":"N8","v":112},{"$f":"COUNTIF(L7:L13,T8)","v":0},{"$f":"U8/(W4-U11)","v":0},{"$f":"IF(V8=0,0,(V8*((LOG(V8))/LOG(2))))","v":0},null,{"$f":"N8","v":112},{"$f":"COUNTIF(L14:L20,Y8)","v":1},{"$f":"Z8/(AB4-Z11)","v":0.14285714285714285},{"$f":"IF(AA8=0,0,(AA8*((LOG(AA8))/LOG(2))))","v":-0.40105070315108626},null,{"$f":"N8","v":112},{"$f":"COUNTIF(L21:L27,AD8)","v":1},{"$f":"AE8/(AG4-AE11)","v":0.14285714285714285},{"$f":"IF(AF8=0,0,(AF8*((LOG(AF8))/LOG(2))))","v":-0.40105070315108626},null,{"$f":"N8","v":112},{"$f":"COUNTIF(L28:L34,AI8)","v":0},{"$f":"AJ8/(AL4-AJ11)","v":0},{"$f":"IF(AK8=0,0,(AK8*((LOG(AK8))/LOG(2))))","v":0},null,{"$f":"N8","v":112},{"$f":"COUNTIF(L35:L41,AN8)","v":0},{"$f":"AO8/(AQ4-AO11)","v":0},{"$f":"IF(AP8=0,0,(AP8*((LOG(AP8))/LOG(2))))","v":0},null,{"$f":"N8","v":112},{"$f":"COUNTIF(L42:L48,AS8)","v":0},{"$f":"AT8/(AV4-AT11)","v":0},{"$f":"IF(AU8=0,0,(AU8*((LOG(AU8))/LOG(2))))","v":0}]
[12,345,24,376,24,387,null,null,null,null,0,122,null,121,{"$f":"COUNTIF($L$7:$L$500,N9)","v":1},{"$f":"O9/$Q$4","v":2.3809523809523808E-2},{"$f":"IF(P9=0,0,(P9*((LOG(P9))/LOG(2))))","v":-0.12838851006616095},null,null,{"$f":"N9","v":121},{"$f":"COUNTIF(L7:L13,T9)","v":1},{"$f":"U9/(W4-U11)","v":0.14285714285714285},{"$f":"IF(V9=0,0,(V9*((LOG(V9))/LOG(2))))","v":-0.40105070315108626},null,{"$f":"N9","v":121},{"$f":"COUNTIF(L14:L20,Y9)","v":0},{"$f":"Z9/(AB4-Z11)","v":0},{"$f":"IF(AA9=0,0,(AA9*((LOG(AA9))/LOG(2))))","v":0},null,{"$f":"N9","v":121},{"$f":"COUNTIF(L21:L27,AD9)","v":0},{"$f":"AE9/(AG4-AE11)","v":0},{"$f":"IF(AF9=0,0,(AF9*((LOG(AF9))/LOG(2))))","v":0},null,{"$f":"N9","v":121},{"$f":"COUNTIF(L28:L34,AI9)","v":0},{"$f":"AJ9/(AL4-AJ11)","v":0},{"$f":"IF(AK9=0,0,(AK9*((LOG(AK9))/LOG(2))))","v":0},null,{"$f":"N9","v":121},{"$f":"COUNTIF(L35:L41,AN9)","v":0},{"$f":"AO9/(AQ4-AO11)","v":0},{"$f":"IF(AP9=0,0,(AP9*((LOG(AP9))/LOG(2))))","v":0},null,{"$f":"N9","v":121},{"$f":"COUNTIF(L42:L48,AS9)","v":0},{"$f":"AT9/(AV4-AT11)","v":0},{"$f":"IF(AU9=0,0,(AU9*((LOG(AU9))/LOG(2))))","v":0}]
[12,483,24,502,24,510,null,null,null,null,0,122,null,122,{"$f":"COUNTIF($L$7:$L$500,N10)","v":17},{"$f":"O10/$Q$4","v":0.40476190476190477},{"$f":"IF(P10=0,0,(P10*((LOG(P10))/LOG(2))))","v":-0.52815542585674169},null,null,{"$f":"N10","v":122},{"$f":"COUNTIF(L7:L13,T10)","v":3},{"$f":"U10/(W4-U11)","v":0.42857142857142855},{"$f":"IF(V10=0,0,(V10*((LOG(V10))/LOG(2))))","v":-0.52388246628704915},null,{"$f":"N10","v":122},{"$f":"COUNTIF(L14:L20,Y10)","v":3},{"$f":"Z10/(AB4-Z11)","v":0.42857142857142855},{"$f":"IF(AA10=0,0,(AA10*((LOG(AA10))/LOG(2))))","v":-0.52388246628704915},null,{"$f":"N10","v":122},{"$f":"COUNTIF(L21:L27,AD10)","v":2},{"$f":"AE10/(AG4-AE11)","v":0.2857142857142857},{"$f":"IF(AF10=0,0,(AF10*((LOG(AF10))/LOG(2))))","v":-0.51638712058788683},null,{"$f":"N10","v":122},{"$f":"COUNTIF(L28:L34,AI10)","v":3},{"$f":"AJ10/(AL4-AJ11)","v":0.42857142857142855},{"$f":"IF(AK10=0,0,(AK10*((LOG(AK10))/LOG(2))))","v":-0.52388246628704915},null,{"$f":"N10","v":122},{"$f":"COUNTIF(L35:L41,AN10)","v":3},{"$f":"AO10/(AQ4-AO11)","v":0.42857142857142855},{"$f":"IF(AP10=0,0,(AP10*((LOG(AP10))/LOG(2))))","v":-0.52388246628704915},null,{"$f":"N10","v":122},{"$f":"COUNTIF(L42:L48,AS10)","v":3},{"$f":"AT10/(AV4-AT11)","v":0.42857142857142855},{"$f":"IF(AU10=0,0,(AU10*((LOG(AU10))/LOG(2))))","v":-0.52388246628704915}]
[21,636,22,643,24,652,null,null,null,null,0,222,null,211,{"$f":"COUNTIF($L$7:$L$500,N11)","v":0},{"$f":"O11/$Q$4","v":0},{"$f":"IF(P11=0,0,(P11*((LOG(P11))/LOG(2))))","v":0},null,null,{"$f":"N11","v":211},{"$f":"COUNTIF(L7:L13,T11)","v":0},null,null,null,{"$f":"N11","v":211},{"$f":"COUNTIF(L14:L20,Y11)","v":0},null,null,null,{"$f":"N11","v":211},{"$f":"COUNTIF(L21:L27,AD11)","v":0},null,null,null,{"$f":"N11","v":211},{"$f":"COUNTIF(L28:L34,AI11)","v":0},null,null,null,{"$f":"N11","v":211},{"$f":"COUNTIF(L35:L41,AN11)","v":0},null,null,null,{"$f":"N11","v":211},{"$f":"COUNTIF(L42:L48,AS11)","v":0}]
[21,1269,22,1285,24,1296,null,null,null,null,0,222,null,212,{"$f":"COUNTIF($L$7:$L$500,N12)","v":1},{"$f":"O12/$Q$4","v":2.3809523809523808E-2},{"$f":"IF(P12=0,0,(P12*((LOG(P12))/LOG(2))))","v":-0.12838851006616095},null,null,{"$f":"N12","v":212},{"$f":"COUNTIF(L7:L13,T12)","v":1},{"$f":"U12/(W4-U11)","v":0.14285714285714285},{"$f":"IF(V12=0,0,(V12*((LOG(V12))/LOG(2))))","v":-0.40105070315108626},null,{"$f":"N12","v":212},{"$f":"COUNTIF(L14:L20,Y12)","v":0},{"$f":"Z12/(AB4-Z11)","v":0},{"$f":"IF(AA12=0,0,(AA12*((LOG(AA12))/LOG(2))))","v":0},null,{"$f":"N12","v":212},{"$f":"COUNTIF(L21:L27,AD12)","v":0},{"$f":"AE12/(AG4-AE11)","v":0},{"$f":"IF(AF12=0,0,(AF12*((LOG(AF12))/LOG(2))))","v":0},null,{"$f":"N12","v":212},{"$f":"COUNTIF(L28:L34,AI12)","v":0},{"$f":"AJ12/(AL4-AJ11)","v":0},{"$f":"IF(AK12=0,0,(AK12*((LOG(AK12))/LOG(2))))","v":0},null,{"$f":"N12","v":212},{"$f":"COUNTIF(L35:L41,AN12)","v":0},{"$f":"AO12/(AQ4-AO11)","v":0},{"$f":"IF(AP12=0,0,(AP12*((LOG(AP12))/LOG(2))))","v":0},null,{"$f":"N12","v":212},{"$f":"COUNTIF(L42:L48,AS12)","v":0},{"$f":"AT12/(AV4-AT11)","v":0},{"$f":"IF(AU12=0,0,(AU12*((LOG(AU12))/LOG(2))))","v":0}]
[12,1394,24,1410,24,1418,null,null,null,null,0,122,null,221,{"$f":"COUNTIF($L$7:$L$500,N13)","v":3},{"$f":"O13/$Q$4","v":7.1428571428571425E-2},{"$f":"IF(P13=0,0,(P13*((LOG(P13))/LOG(2))))","v":-0.27195392300411453},null,null,{"$f":"N13","v":221},{"$f":"COUNTIF(L7:L13,T13)","v":0},{"$f":"U13/(W4-U11)","v":0},{"$f":"IF(V13=0,0,(V13*((LOG(V13))/LOG(2))))","v":0},null,{"$f":"N13","v":221},{"$f":"COUNTIF(L14:L20,Y13)","v":1},{"$f":"Z13/(AB4-Z11)","v":0.14285714285714285},{"$f":"IF(AA13=0,0,(AA13*((LOG(AA13))/LOG(2))))","v":-0.40105070315108626},null,{"$f":"N13","v":221},{"$f":"COUNTIF(L21:L27,AD13)","v":0},{"$f":"AE13/(AG4-AE11)","v":0},{"$f":"IF(AF13=0,0,(AF13*((LOG(AF13))/LOG(2))))","v":0},null,{"$f":"N13","v":221},{"$f":"COUNTIF(L28:L34,AI13)","v":0},{"$f":"AJ13/(AL4-AJ11)","v":0},{"$f":"IF(AK13=0,0,(AK13*((LOG(AK13))/LOG(2))))","v":0},null,{"$f":"N13","v":221},{"$f":"COUNTIF(L35:L41,AN13)","v":1},{"$f":"AO13/(AQ4-AO11)","v":0.14285714285714285},{"$f":"IF(AP13=0,0,(AP13*((LOG(AP13))/LOG(2))))","v":-0.40105070315108626},null,{"$f":"N13","v":221},{"$f":"COUNTIF(L42:L48,AS13)","v":1},{"$f":"AT13/(AV4-AT11)","v":0.14285714285714285},{"$f":"IF(AU13=0,0,(AU13*((LOG(AU13))/LOG(2))))","v":-0.40105070315108626}]
[12,1515,24,1528,24,1534,null,null,null,null,0,122,null,222,{"$f":"COUNTIF($L$7:$L$500,N14)","v":18},{"$f":"O14/$Q$4","v":0.42857142857142855},{"$f":"IF(P14=0,0,(P14*((LOG(P14))/LOG(2))))","v":-0.52388246628704915},null,null,{"$f":"N14","v":222},{"$f":"COUNTIF(L7:L13,T14)","v":2},{"$f":"U14/(W4-U11)","v":0.2857142857142857},{"$f":"IF(V14=0,0,(V14*((LOG(V14))/LOG(2))))","v":-0.51638712058788683},null,{"$f":"N14","v":222},{"$f":"COUNTIF(L14:L20,Y14)","v":2},{"$f":"Z14/(AB4-Z11)","v":0.2857142857142857},{"$f":"IF(AA14=0,0,(AA14*((LOG(AA14))/LOG(2))))","v":-0.51638712058788683},null,{"$f":"N14","v":222},{"$f":"COUNTIF(L21:L27,AD14)","v":4},{"$f":"AE14/(AG4-AE11)","v":0.5714285714285714},{"$f":"IF(AF14=0,0,(AF14*((LOG(AF14))/LOG(2))))","v":-0.46134566974720237},null,{"$f":"N14","v":222},{"$f":"COUNTIF(L28:L34,AI14)","v":4},{"$f":"AJ14/(AL4-AJ11)","v":0.5714285714285714},{"$f":"IF(AK14=0,0,(AK14*((LOG(AK14))/LOG(2))))","v":-0.46134566974720237},null,{"$f":"N14","v":222},{"$f":"COUNTIF(L35:L41,AN14)","v":3},{"$f":"AO14/(AQ4-AO11)","v":0.42857142857142855},{"$f":"IF(AP14=0,0,(AP14*((LOG(AP14))/LOG(2))))","v":-0.52388246628704915},null,{"$f":"N14","v":222},{"$f":"COUNTIF(L42:L48,AS14)","v":3},{"$f":"AT14/(AV4-AT11)","v":0.42857142857142855},{"$f":"IF(AU14=0,0,(AU14*((LOG(AU14))/LOG(2))))","v":-0.52388246628704915}]
[12,1628,13,1636,24,1653,null,null,null,null,0,112,null,null,null,{"$f":"SUM(P7:P14)","v":1},{"$f":"-SUM(Q7:Q14)","v":1.7899268077935016},null,null,null,null,{"$f":"SUM(V7:V14)","v":0.99999999999999989},{"$f":"-SUM(W7:W14)","v":1.8423709931771084},null,null,null,{"$f":"SUM(AA7:AA14)","v":0.99999999999999989},{"$f":"-SUM(AB7:AB14)","v":1.8423709931771084},null,null,null,{"$f":"SUM(AF7:AF14)","v":1},{"$f":"-SUM(AG7:AG14)","v":1.3787834934861753},null,null,null,{"$f":"SUM(AK7:AK14)","v":1},{"$f":"-SUM(AL7:AL14)","v":0.98522813603425152},null,null,null,{"$f":"SUM(AP7:AP14)","v":1},{"$f":"-SUM(AQ7:AQ14)","v":1.4488156357251847},null,null,null,{"$f":"SUM(AU7:AU14)","v":1},{"$f":"-SUM(AV7:AV14)","v":1.4488156357251847}]
[21,2104,22,2112,24,2238,null,null,null,null,0,222,null,null,null,"U=",{"$f":"Q15/(LOG(Q4)/LOG(2))","v":0.33194017849029356},null,null,null,null,"U1=",{"$f":"W15/(LOG(W4)/LOG(2))","v":0.65626578908903088},null,null,null,"U2=",{"$f":"AB15/(LOG(AB4)/LOG(2))","v":0.65626578908903088},null,null,null,"U3=",{"$f":"AG15/(LOG(AG4)/LOG(2))","v":0.49113258984568253},null,null,null,"U4=",{"$f":"AL15/(LOG(AL4)/LOG(2))","v":0.35094534299644053},null,null,null,"U5=",{"$f":"AQ15/(LOG(AQ4)/LOG(2))","v":0.516078542239789},null,null,null,"U6=",{"$f":"AV15/(LOG(AV4)/LOG(2))","v":0.516078542239789}]
[21,2392,22,2401,13,2447,null,null,null,null,0,221]
[21,2875,22,2883,24,2898,null,null,null,null,0,222]
[12,2994,24,3007,24,3015,null,null,null,null,0,122,null,"Total Target Seq"]
[12,3110,24,3129,24,3139,null,null,null,null,0,122,null,{"$f":"COUNTIF(L7:L48,G3)","v":0},null,7,7,7,7,7,7]
[21,3241,22,3246,24,3257,null,null,null,null,0,222,null,null,null,"% of reinforcement given in 6 equal intervals based on number of trials "]
[12,3351,13,3357,24,3376,null,null,null,null,0,112,null,null,null,"%_1","%_2","%_3","%_4","%_5","%_6"]
[12,3476,24,3483,24,3490,null,null,null,null,0,122,null,null,"target sequence",{"$f":"$G$3","v":211},{"$f":"$G$3","v":211},{"$f":"$G$3","v":211},{"$f":"$G$3","v":211},{"$f":"$G$3","v":211},{"$f":"$G$3","v":211}]
[21,3598,22,3605,24,3616,null,null,null,null,0,222,null,null,"total reinforcement",{"$f":"U11","v":0},{"$f":"Z11","v":0},{"$f":"AE11","v":0},{"$f":"AJ11","v":0},{"$f":"AO11","v":0},{"$f":"AT11","v":0}]
[21,3721,22,3726,24,3762,null,null,null,null,0,222,null,null,"% target"]
[12,3860,24,3870,24,3924,null,null,null,null,0,122,null,null,"CCRF"]
[21,4038,22,4046,24,4056,null,null,null,null,0,222,null,null,"% CCRf"]
[12,4154,24,4179,24,4188,null,null,null,null,0,122,null,null,"average response rate",{"$f":"F13/P20","v":202.57142857142858},{"$f":"(F20-F13)/Q20","v":245.85714285714286},{"$f":"(F27-F20)/R20","v":131},{"$f":"(F34-F27)/S20","v":150},{"$f":"(F41-F34)/T20","v":150.14285714285714},{"$f":"(F48-F41)/U20","v":780.14285714285711}]
[21,4293,22,4301,24,4310,null,null,null,null,0,222]
[12,4419,24,4430,24,4475,null,null,null,null,0,122]
[21,4678,22,4686,24,4698,null,null,null,null,0,222]
[21,4834,22,4842,24,4852,null,null,null,null,0,222]
[21,4963,22,4970,24,4981,null,null,null,null,0,222]
[12,5079,24,5088,24,5106,null,null,null,null,0,122]
[12,5200,24,5218,24,5226,null,null,null,null,0,122]
[21,5356,22,5366,24,5419,null,null,null,null,0,222]
[12,5512,24,5538,24,5545,null,null,null,null,0,122]
[21,5652,22,5668,24,5681,null,null,null,null,0,222]
[21,5849,22,5859,13,5892,null,null,null,null,0,221]
[21,6019,22,6026,24,6034,null,null,null,null,0,222]
[12,6130,24,6150,24,6157,null,null,null,null,0,122]
[21,6465,22,6474,13,6613,null,null,null,null,0,221]
[21,7275,22,7283,24,7293,null,null,null,null,0,222]
[21,7411,22,7416,24,7425,null,null,null,null,0,222]
[12,7879,24,7893,24,7902,null,null,null,null,0,122]
[12,8000,24,8020,24,8028,null,null,null,null,0,122]
[12,8176,24,8184,24,8191,null,null,null,null,0,122]
[21,8297,22,8307,24,11618,null,null,null,null,0,222]

{"sheet":"!L822A5B.axt","index":6,"n_rows":31,"n_cols":48,"rows_kept":31,"cut":false,"hidden":false,"merged":[[4,39,4,42],[5,39,5,40],[4,44,4,47],[5,44,5,45],[4,24,4,27],[5,24,5,25],[4,29,4,32],[5,29,5,30],[4,34,4,37],[5,34,5,35],[1,1,1,2],[5,13,5,14],[18,13,18,14],[19,13,19,14],[4,19,4,22],[5,19,5,20]]}
["Report for:!L822A5B.axt"]
["Date:","<date>"]
["Hen:","<hen>",null,null,null,"Correct Sequence",{"$f":"Start!J2","v":211},null,null,null,null,null,null,null,null,"Total Sequences in Data",{"$f":"4994-COUNTBLANK(L7:L5000)","v":25},null,null,null,null,"Total Sequences in Block Data",{"$f":"COUNTA(L7:L10)","v":4},null,null,null,"Total Sequences in Block Data",{"$f":"COUNTA(L11:L14)","v":4},null,null,null,"Total Sequences in Block Data",{"$f":"COUNTA(L15:L19)","v":5},null,null,null,"Total Sequences in Block Data",{"$f":"COUNTA(L20:L23)","v":4},null,null,null,"Total Sequences in Block Data",{"$f":"COUNTA(L24:L27)","v":4},null,null,null,"Total Sequences in Block Data",{"$f":"COUNTA(L28:L31)","v":4}]
[null,null,null,null,null,null,null,null,null,null,null,null,null,null,null,"Total Sequences in Summary",{"$f":"SUM(O7:O14)","v":25},null,null,null,null,"Total Sequences in Block Summary",{"$f":"SUM(U7:U14)","v":4},null,null,null,"Total Sequences in Block Summary",{"$f":"SUM(Z7:Z14)","v":4},null,null,null,"Total Sequences in Block Summary",{"$f":"SUM(AE7:AE14)","v":5},null,null,null,"Total Sequences in Block Summary",{"$f":"SUM(AJ7:AJ14)","v":4},null,null,null,"Total Sequences in Block Summary",{"$f":"SUM(AO7:AO14)","v":4},null,null,null,"Total Sequences in Block Summary",{"$f":"SUM(AT7:AT14)","v":4}]
[null,null,null,null,null,null,null,null,null,null,null,null,null,null,null,null,null,null,null,"Block 1",null,null,null,null,"Block 2",null,null,null,null,"Block 3",null,null,null,null,"Block 4",null,null,null,null,"Block 5",null,null,null,null,"Block 6"]
["Sequence\nComponent\n1","Time\n1","Sequence\nComponent\n2","Time\n2","Sequence\nComponent\n3","Time\n3","Sequence\nComponent\n4","Time\n4","Sequence\nComponent\n5","Time\n5","Correct?\n0=No 1=Yes","Sequence",null,"Frequency",null,"Relative Frequency","Variability",null,null,"Frequency",null,"Relative Frequency","Variability",null,"Frequency",null,"Relative Frequency","Variability",null,"Frequency",null,"Relative Frequency","Variability",null,"Frequency",null,"Relative Frequency","Variability",null,"Frequency",null,"Relative Frequency","Variability",null,"Frequency",null,"Relative Frequency","Variability"]
[21,26,22,34,24,45,null,null,null,null,0,222,null,111,{"$f":"COUNTIF($L$7:$L$500,N7)","v":0},{"$f":"O7/$Q$4","v":0},{"$f":"IF(P7=0,0,(P7*((LOG(P7))/LOG(2))))","v":0},null,null,{"$f":"N7","v":111},{"$f":"COUNTIF(L7:L10,T7)","v":0},{"$f":"U7/(W4-U11)","v":0},{"$f":"IF(V7=0,0,(V7*((LOG(V7))/LOG(2))))","v":0},null,{"$f":"N7","v":111},{"$f":"COUNTIF(L11:L14,Y7)","v":0},{"$f":"Z7/(AB4-Z11)","v":0},{"$f":"IF(AA7=0,0,(AA7*((LOG(AA7))/LOG(2))))","v":0},null,{"$f":"N7","v":111},{"$f":"COUNTIF(L15:L19,AD7)","v":0},{"$f":"AE7/(AG4-AE11)","v":0},{"$f":"IF(AF7=0,0,(AF7*((LOG(AF7))/LOG(2))))","v":0},null,{"$f":"N7","v":111},{"$f":"COUNTIF(L20:L23,AI7)","v":0},{"$f":"AJ7/(AL4-AJ11)","v":0},{"$f":"IF(AK7=0,0,(AK7*((LOG(AK7))/LOG(2))))","v":0},null,{"$f":"N7","v":111},{"$f":"COUNTIF(L24:L27,AN7)","v":0},{"$f":"AO7/(AQ4-AO11)","v":0},{"$f":"IF(AP7=0,0,(AP7*((LOG(AP7))/LOG(2))))","v":0},null,{"$f":"N7","v":111},{"$f":"COUNTIF(L28:L31,AS7)","v":0},{"$f":"AT7/(AV4-AT11)","v":0},{"$f":"IF(AU7=0,0,(AU7*((LOG(AU7))/LOG(2))))","v":0}]
[21,190,22,197,24,206,null,null,null,null,0,222,null,112,{"$f":"COUNTIF($L$7:$L$500,N8)","v":0},{"$f":"O8/$Q$4","v":0},{"$f":"IF(P8=0,0,(P8*((LOG(P8))/LOG(2))))","v":0},null,null,{"$f":"N8","v":112},{"$f":"COUNTIF(L7:L10,T8)","v":0},{"$f":"U8/(W4-U11)","v":0},{"$f":"IF(V8=0,0,(V8*((LOG(V8))/LOG(2))))","v":0},null,{"$f":"N8","v":112},{"$f":"COUNTIF(L11:L14,Y8)","v":0},{"$f":"Z8/(AB4-Z11)","v":0},{"$f":"IF(AA8=0,0,(AA8*((LOG(AA8))/LOG(2))))","v":0},null,{"$f":"N8","v":112},{"$f":"COUNTIF(L15:L19,AD8)","v":0},{"$f":"AE8/(AG4-AE11)","v":0},{"$f":"IF(AF8=0,0,(AF8*((LOG(AF8))/LOG(2))))","v":0},null,{"$f":"N8","v":112},{"$f":"COUNTIF(L20:L23,AI8)","v":0},{"$f":"AJ8/(AL4-AJ11)","v":0},{"$f":"IF(AK8=0,0,(AK8*((LOG(AK8))/LOG(2))))","v":0},null,{"$f":"N8","v":112},{"$f":"COUNTIF(L24:L27,AN8)","v":0},{"$f":"AO8/(AQ4-AO11)","v":0},{"$f":"IF(AP8=0,0,(AP8*((LOG(AP8))/LOG(2))))","v":0},null,{"$f":"N8","v":112},{"$f":"COUNTIF(L28:L31,AS8)","v":0},{"$f":"AT8/(AV4-AT11)","v":0},{"$f":"IF(AU8=0,0,(AU8*((LOG(AU8))/LOG(2))))","v":0}]
[21,319,22,325,13,357,null,null,null,null,0,221,null,121,{"$f":"COUNTIF($L$7:$L$500,N9)","v":0},{"$f":"O9/$Q$4","v":0},{"$f":"IF(P9=0,0,(P9*((LOG(P9))/LOG(2))))","v":0},null,null,{"$f":"N9","v":121},{"$f":"COUNTIF(L7:L10,T9)","v":0},{"$f":"U9/(W4-U11)","v":0},{"$f":"IF(V9=0,0,(V9*((LOG(V9))/LOG(2))))","v":0},null,{"$f":"N9","v":121},{"$f":"COUNTIF(L11:L14,Y9)","v":0},{"$f":"Z9/(AB4-Z11)","v":0},{"$f":"IF(AA9=0,0,(AA9*((LOG(AA9))/LOG(2))))","v":0},null,{"$f":"N9","v":121},{"$f":"COUNTIF(L15:L19,AD9)","v":0},{"$f":"AE9/(AG4-AE11)","v":0},{"$f":"IF(AF9=0,0,(AF9*((LOG(AF9))/LOG(2))))","v":0},null,{"$f":"N9","v":121},{"$f":"COUNTIF(L20:L23,AI9)","v":0},{"$f":"AJ9/(AL4-AJ11)","v":0},{"$f":"IF(AK9=0,0,(AK9*((LOG(AK9))/LOG(2))))","v":0},null,{"$f":"N9","v":121},{"$f":"COUNTIF(L24:L27,AN9)","v":0},{"$f":"AO9/(AQ4-AO11)","v":0},{"$f":"IF(AP9=0,0,(AP9*((LOG(AP9))/LOG(2))))","v":0},null,{"$f":"N9","v":121},{"$f":"COUNTIF(L28:L31,AS9)","v":0},{"$f":"AT9/(AV4-AT11)","v":0},{"$f":"IF(AU9=0,0,(AU9*((LOG(AU9))/LOG(2))))","v":0}]
[12,521,24,533,24,542,null,null,null,null,0,122,null,122,{"$f":"COUNTIF($L$7:$L$500,N10)","v":12},{"$f":"O10/$Q$4","v":0.48},{"$f":"IF(P10=0,0,(P10*((LOG(P10))/LOG(2))))","v":-0.50826897074571287},null,null,{"$f":"N10","v":122},{"$f":"COUNTIF(L7:L10,T10)","v":1},{"$f":"U10/(W4-U11)","v":0.25},{"$f":"IF(V10=0,0,(V10*((LOG(V10))/LOG(2))))","v":-0.5},null,{"$f":"N10","v":122},{"$f":"COUNTIF(L11:L14,Y10)","v":2},{"$f":"Z10/(AB4-Z11)","v":0.5},{"$f":"IF(AA10=0,0,(AA10*((LOG(AA10))/LOG(2))))","v":-0.5},null,{"$f":"N10","v":122},{"$f":"COUNTIF(L15:L19,AD10)","v":3},{"$f":"AE10/(AG4-AE11)","v":0.6},{"$f":"IF(AF10=0,0,(AF10*((LOG(AF10))/LOG(2))))","v":-0.44217935649972373},null,{"$f":"N10","v":122},{"$f":"COUNTIF(L20:L23,AI10)","v":2},{"$f":"AJ10/(AL4-AJ11)","v":0.5},{"$f":"IF(AK10=0,0,(AK10*((LOG(AK10))/LOG(2))))","v":-0.5},null,{"$f":"N10","v":122},{"$f":"COUNTIF(L24:L27,AN10)","v":2},{"$f":"AO10/(AQ4-AO11)","v":0.5},{"$f":"IF(AP10=0,0,(AP10*((LOG(AP10))/LOG(2))))","v":-0.5},null,{"$f":"N10","v":122},{"$f":"COUNTIF(L28:L31,AS10)","v":2},{"$f":"AT10/(AV4-AT11)","v":0.5},{"$f":"IF(AU10=0,0,(AU10*((LOG(AU10))/LOG(2))))","v":-0.5}]
[21,653,11,683,22,703,null,null,null,null,0,212,null,211,{"$f":"COUNTIF($L$7:$L$500,N11)","v":0},{"$f":"O11/$Q$4","v":0},{"$f":"IF(P11=0,0,(P11*((LOG(P11))/LOG(2))))","v":0},null,null,{"$f":"N11","v":211},{"$f":"COUNTIF(L7:L10,T11)","v":0},null,null,null,{"$f":"N11","v":211},{"$f":"COUNTIF(L11:L14,Y11)","v":0},null,null,null,{"$f":"N11","v":211},{"$f":"COUNTIF(L15:L19,AD11)","v":0},null,null,null,{"$f":"N11","v":211},{"$f":"COUNTIF(L20:L23,AI11)","v":0},null,null,null,{"$f":"N11","v":211},{"$f":"COUNTIF(L24:L27,AN11)","v":0},null,null,null,{"$f":"N11","v":211},{"$f":"COUNTIF(L28:L31,AS11)","v":0}]
[12,800,24,812,24,820,null,null,null,null,0,122,null,212,{"$f":"COUNTIF($L$7:$L$500,N12)","v":3},{"$f":"O12/$Q$4","v":0.12},{"$f":"IF(P12=0,0,(P12*((LOG(P12))/LOG(2))))","v":-0.36706724268642821},null,null,{"$f":"N12","v":212},{"$f":"COUNTIF(L7:L10,T12)","v":0},{"$f":"U12/(W4-U11)","v":0},{"$f":"IF(V12=0,0,(V12*((LOG(V12))/LOG(2))))","v":0},null,{"$f":"N12","v":212},{"$f":"COUNTIF(L11:L14,Y12)","v":1},{"$f":"Z12/(AB4-Z11)","v":0.25},{"$f":"IF(AA12=0,0,(AA12*((LOG(AA12))/LOG(2))))","v":-0.5},null,{"$f":"N12","v":212},{"$f":"COUNTIF(L15:L19,AD12)","v":1},{"$f":"AE12/(AG4-AE11)","v":0.2},{"$f":"IF(AF12=0,0,(AF12*((LOG(AF12))/LOG(2))))","v":-0.46438561897747244},null,{"$f":"N12","v":212},{"$f":"COUNTIF(L20:L23,AI12)","v":0},{"$f":"AJ12/(AL4-AJ11)","v":0},{"$f":"IF(AK12=0,0,(AK12*((LOG(AK12))/LOG(2))))","v":0},null,{"$f":"N12","v":212},{"$f":"COUNTIF(L24:L27,AN12)","v":0},{"$f":"AO12/(AQ4-AO11)","v":0},{"$f":"IF(AP12=0,0,(AP12*((LOG(AP12))/LOG(2))))","v":0},null,{"$f":"N12","v":212},{"$f":"COUNTIF(L28:L31,AS12)","v":1},{"$f":"AT12/(AV4-AT11)","v":0.25},{"$f":"IF(AU12=0,0,(AU12*((LOG(AU12))/LOG(2))))","v":-0.5}]
[12,919,24,934,24,942,null,null,null,null,0,122,null,221,{"$f":"COUNTIF($L$7:$L$500,N13)","v":5},{"$f":"O13/$Q$4","v":0.2},{"$f":"IF(P13=0,0,(P13*((LOG(P13))/LOG(2))))","v":-0.46438561897747244},null,null,{"$f":"N13","v":221},{"$f":"COUNTIF(L7:L10,T13)","v":1},{"$f":"U13/(W4-U11)","v":0.25},{"$f":"IF(V13=0,0,(V13*((LOG(V13))/LOG(2))))","v":-0.5},null,{"$f":"N13","v":221},{"$f":"COUNTIF(L11:L14,Y13)","v":1},{"$f":"Z13/(AB4-Z11)","v":0.25},{"$f":"IF(AA13=0,0,(AA13*((LOG(AA13))/LOG(2))))","v":-0.5},null,{"$f":"N13","v":221},{"$f":"COUNTIF(L15:L19,AD13)","v":1},{"$f":"AE13/(AG4-AE11)","v":0.2},{"$f":"IF(AF13=0,0,(AF13*((LOG(AF13))/LOG(2))))","v":-0.46438561897747244},null,{"$f":"N13","v":221},{"$f":"COUNTIF(L20:L23,AI13)","v":1},{"$f":"AJ13/(AL4-AJ11)","v":0.25},{"$f":"IF(AK13=0,0,(AK13*((LOG(AK13))/LOG(2))))","v":-0.5},null,{"$f":"N13","v":221},{"$f":"COUNTIF(L24:L27,AN13)","v":0},{"$f":"AO13/(AQ4-AO11)","v":0},{"$f":"IF(AP13=0,0,(AP13*((LOG(AP13))/LOG(2))))","v":0},null,{"$f":"N13","v":221},{"$f":"COUNTIF(L28:L31,AS13)","v":1},{"$f":"AT13/(AV4-AT11)","v":0.25},{"$f":"IF(AU13=0,0,(AU13*((LOG(AU13))/LOG(2))))","v":-0.5}]
[21,1055,22,1063,13,1105,null,null,null,null,0,221,null,222,{"$f":"COUNTIF($L$7:$L$500,N14)","v":5},{"$f":"O14/$Q$4","v":0.2},{"$f":"IF(P14=0,0,(P14*((LOG(P14))/LOG(2))))","v":-0.46438561897747244},null,null,{"$f":"N14","v":222},{"$f":"COUNTIF(L7:L10,T14)","v":2},{"$f":"U14/(W4-U11)","v":0.5},{"$f":"IF(V14=0,0,(V14*((LOG(V14))/LOG(2))))","v":-0.5},null,{"$f":"N14","v":222},{"$f":"COUNTIF(L11:L14,Y14)","v":0},{"$f":"Z14/(AB4-Z11)","v":0},{"$f":"IF(AA14=0,0,(AA14*((LOG(AA14))/LOG(2))))","v":0},null,{"$f":"N14","v":222},{"$f":"COUNTIF(L15:L19,AD14)","v":0},{"$f":"AE14/(AG4-AE11)","v":0},{"$f":"IF(AF14=0,0,(AF14*((LOG(AF14))/LOG(2))))","v":0},null,{"$f":"N14","v":222},{"$f":"COUNTIF(L20:L23,AI14)","v":1},{"$f":"AJ14/(AL4-AJ11)","v":0.25},{"$f":"IF(AK14=0,0,(AK14*((LOG(AK14))/LOG(2))))","v":-0.5},null,{"$f":"N14","v":222},{"$f":"COUNTIF(L24:L27,AN14)","v":2},{"$f":"AO14/(AQ4-AO11)","v":0.5},{"$f":"IF(AP14=0,0,(AP14*((LOG(AP14))/LOG(2))))","v":-0.5},null,{"$f":"N14","v":222},{"$f":"COUNTIF(L28:L31,AS14)","v":0},{"$f":"AT14/(AV4-AT11)","v":0},{"$f":"IF(AU14=0,0,(AU14*((LOG(AU14))/LOG(2))))","v":0}]
[12,1207,24,1220,24,1227,null,null,null,null,0,122,null,null,null,{"$f":"SUM(P7:P14)","v":1},{"$f":"-SUM(Q7:Q14)","v":1.8041074513870861},null,null,null,null,{"$f":"SUM(V7:V14)","v":1},{"$f":"-SUM(W7:W14)","v":1.5},null,null,null,{"$f":"SUM(AA7:AA14)","v":1},{"$f":"-SUM(AB7:AB14)","v":1.5},null,null,null,{"$f":"SUM(AF7:AF14)","v":1},{"$f":"-SUM(AG7:AG14)","v":1.3709505944546687},null,null,null,{"$f":"SUM(AK7:AK14)","v":1},{"$f":"-SUM(AL7:AL14)","v":1.5},null,null,null,{"$f":"SUM(AP7:AP14)","v":1},{"$f":"-SUM(AQ7:AQ14)","v":1},null,null,null,{"$f":"SUM(AU7:AU14)","v":1},{"$f":"-SUM(AV7:AV14)","v":1.5}]
[12,1326,24,1347,24,1354,null,null,null,null,0,122,null,null,null,"U=",{"$f":"Q15/(LOG(Q4)/LOG(2))","v":0.38849339377897568},null,null,null,null,"U1=",{"$f":"W15/(LOG(W4)/LOG(2))","v":0.75},null,null,null,"U2=",{"$f":"AB15/(LOG(AB4)/LOG(2))","v":0.75},null,null,null,"U3=",{"$f":"AG15/(LOG(AG4)/LOG(2))","v":0.5904362833084088},null,null,null,"U4=",{"$f":"AL15/(LOG(AL4)/LOG(2))","v":0.75},null,null,null,"U5=",{"$f":"AQ15/(LOG(AQ4)/LOG(2))","v":0.5},null,null,null,"U6=",{"$f":"AV15/(LOG(AV4)/LOG(2))","v":0.75}]
[21,1489,22,1495,13,1546,null,null,null,null,0,221]
[21,1680,11,1727,22,1748,null,null,null,null,0,212]
[12,1887,24,1905,24,1912,null,null,null,null,0,122,null,"Total Target Seq"]
[21,2028,22,2035,24,2050,null,null,null,null,0,222,null,{"$f":"COUNTIF(L7:L31,G3)","v":0},null,4,4,5,4,4,4]
[21,2166,22,2186,13,2248,null,null,null,null,0,221,null,null,null,"% of reinforcement given in 6 equal intervals based on number of trials "]
[12,2347,24,2367,24,2375,null,null,null,null,0,122,null,null,null,"%_1","%_2","%_3","%_4","%_5","%_6"]
[12,2490,24,2504,24,2511,null,null,null,null,0,122,null,null,"target sequence",{"$f":"$G$3","v":211},{"$f":"$G$3","v":211},{"$f":"$G$3","v":211},{"$f":"$G$3","v":211},{"$f":"$G$3","v":211},{"$f":"$G$3","v":211}]
[12,2669,24,2680,24,2688,null,null,null,null,0,122,null,null,"total reinforcement",{"$f":"U11","v":0},{"$f":"Z11","v":0},{"$f":"AE11","v":0},{"$f":"AJ11","v":0},{"$f":"AO11","v":0},{"$f":"AT11","v":0}]
[21,3087,22,3142,24,3149,null,null,null,null,0,222,null,null,"% target"]
[21,3266,22,3273,24,3285,null,null,null,null,0,222,null,null,"CCRF"]
[12,3385,24,3401,24,3408,null,null,null,null,0,122,null,null,"% CCRf"]
[21,3534,22,3541,13,3601,null,null,null,null,0,221,null,null,"average response rate",{"$f":"F10/P20","v":135.5},{"$f":"(F14-F10)/Q20","v":140.75},{"$f":"(F19-F14)/R20","v":161.4},{"$f":"(F23-F19)/S20","v":149.75},{"$f":"(F27-F23)/T20","v":224.25},{"$f":"(F31-F27)/U20","v":178.25}]
[12,3765,24,3783,24,3792,null,null,null,null,0,122]
[12,3887,24,3907,24,3924,null,null,null,null,0,122]
[21,4074,11,4107,22,4121,null,null,null,null,0,212]

{"sheet":"!L82393B.axt","index":7,"n_rows":108,"n_cols":48,"rows_kept":108,"cut":false,"hidden":false,"merged":[[4,39,4,42],[5,39,5,40],[4,44,4,47],[5,44,5,45],[4,24,4,27],[5,24,5,25],[4,29,4,32],[5,29,5,30],[4,34,4,37],[5,34,5,35],[1,1,1,2],[5,13,5,14],[18,13,18,14],[19,13,19,14],[4,19,4,22],[5,19,5,20]]}
["Report for:!L82393B.axt"]
["Date:","<date>"]
["Hen:","<hen>",null,null,null,"Correct Sequence",{"$f":"Start!J2","v":211},null,null,null,null,null,null,null,null,"Total Sequences in Data",{"$f":"4994-COUNTBLANK(L7:L5000)","v":102},null,null,null,null,"Total Sequences in Block Data",{"$f":"COUNTA(L7:L23)","v":17},null,null,null,"Total Sequences in Block Data",{"$f":"COUNTA(L24:L40)","v":17},null,null,null,"Total Sequences in Block Data",{"$f":"COUNTA(L41:L57)","v":17},null,null,null,"Total Sequences in Block Data",{"$f":"COUNTA(L58:L74)","v":17},null,null,null,"Total Sequences in Block Data",{"$f":"COUNTA(L75:L91)","v":17},null,null,null,"Total Sequences in Block Data",{"$f":"COUNTA(L92:L108)","v":17}]
[null,null,null,null,null,null,null,null,null,null,null,null,null,null,null,"Total Sequences in Summary",{"$f":"SUM(O7:O14)","v":102},null,null,null,null,"Total Sequences in Block Summary",{"$f":"SUM(U7:U14)","v":17},null,null,null,"Total Sequences in Block Summary",{"$f":"SUM(Z7:Z14)","v":17},null,null,null,"Total Sequences in Block Summary",{"$f":"SUM(AE7:AE14)","v":17},null,null,null,"Total Sequences in Block Summary",{"$f":"SUM(AJ7:AJ14)","v":17},null,null,null,"Total Sequences in Block Summary",{"$f":"SUM(AO7:AO14)","v":17},null,null,null,"Total Sequences in Block Summary",{"$f":"SUM(AT7:AT14)","v":17}]
[null,null,null,null,null,null,null,null,null,null,null,null,null,null,null,null,null,null,null,"Block 1",null,null,null,null,"Block 2",null,null,null,null,"Block 3",null,null,null,null,"Block 4",null,null,null,null,"Block 5",null,null,null,null,"Block 6"]
["Sequence\nComponent\n1","Time\n1","Sequence\nComponent\n2","Time\n2","Sequence\nComponent\n3","Time\n3","Sequence\nComponent\n4","Time\n4","Sequence\nComponent\n5","Time\n5","Correct?\n0=No 1=Yes","Sequence",null,"Frequency",null,"Relative Frequency","Variability",null,null,"Frequency",null,"Relative Frequency","Variability",null,"Frequency",null,"Relative Frequency","Variability",null,"Frequency",null,"Relative Frequency","Variability",null,"Frequency",null,"Relative Frequency","Variability",null,"Frequency",null,"Relative Frequency","Variability",null,"Frequency",null,"Relative Frequency","Variability"]
[12,2,13,9,13,56,null,null,null,null,0,111,null,111,{"$f":"COUNTIF($L$7:$L$500,N7)","v":26},{"$f":"O7/$Q$4","v":0.25490196078431371},{"$f":"IF(P7=0,0,(P7*((LOG(P7))/LOG(2))))","v":-0.50266300215284798},null,null,{"$f":"N7","v":111},{"$f":"COUNTIF(L7:L23,T7)","v":1},{"$f":"U7/(W4-U11)","v":5.8823529411764705E-2},{"$f":"IF(V7=0,0,(V7*((LOG(V7))/LOG(2))))","v":-0.24043899066178465},null,{"$f":"N7","v":111},{"$f":"COUNTIF(L24:L40,Y7)","v":1},{"$f":"Z7/(AB4-Z11)","v":5.8823529411764705E-2},{"$f":"IF(AA7=0,0,(AA7*((LOG(AA7))/LOG(2))))","v":-0.24043899066178465},null,{"$f":"N7","v":111},{"$f":"COUNTIF(L41:L57,AD7)","v":6},{"$f":"AE7/(AG4-AE11)","v":0.35294117647058826},{"$f":"IF(AF7=0,0,(AF7*((LOG(AF7))/LOG(2))))","v":-0.53029423783382934},null,{"$f":"N7","v":111},{"$f":"COUNTIF(L58:L74,AI7)","v":3},{"$f":"AJ7/(AL4-AJ11)","v":0.1875},{"$f":"IF(AK7=0,0,(AK7*((LOG(AK7))/LOG(2))))","v":-0.45281953111478312},null,{"$f":"N7","v":111},{"$f":"COUNTIF(L75:L91,AN7)","v":6},{"$f":"AO7/(AQ4-AO11)","v":0.35294117647058826},{"$f":"IF(AP7=0,0,(AP7*((LOG(AP7))/LOG(2))))","v":-0.53029423783382934},null,{"$f":"N7","v":111},{"$f":"COUNTIF(L92:L108,AS7)","v":9},{"$f":"AT7/(AV4-AT11)","v":0.52941176470588236},{"$f":"IF(AU7=0,0,(AU7*((LOG(AU7))/LOG(2))))","v":-0.48575532695719081}]
[12,185,24,205,24,212,null,null,null,null,0,122,null,112,{"$f":"COUNTIF($L$7:$L$500,N8)","v":27},{"$f":"O8/$Q$4","v":0.26470588235294118},{"$f":"IF(P8=0,0,(P8*((LOG(P8))/LOG(2))))","v":-0.50758354583153664},null,null,{"$f":"N8","v":112},{"$f":"COUNTIF(L7:L23,T8)","v":3},{"$f":"U8/(W4-U11)","v":0.17647058823529413},{"$f":"IF(V8=0,0,(V8*((LOG(V8))/LOG(2))))","v":-0.44161770715220888},null,{"$f":"N8","v":112},{"$f":"COUNTIF(L24:L40,Y8)","v":3},{"$f":"Z8/(AB4-Z11)","v":0.17647058823529413},{"$f":"IF(AA8=0,0,(AA8*((LOG(AA8))/LOG(2))))","v":-0.44161770715220888},null,{"$f":"N8","v":112},{"$f":"COUNTIF(L41:L57,AD8)","v":5},{"$f":"AE8/(AG4-AE11)","v":0.29411764705882354},{"$f":"IF(AF8=0,0,(AF8*((LOG(AF8))/LOG(2))))","v":-0.51927492540087561},null,{"$f":"N8","v":112},{"$f":"COUNTIF(L58:L74,AI8)","v":5},{"$f":"AJ8/(AL4-AJ11)","v":0.3125},{"$f":"IF(AK8=0,0,(AK8*((LOG(AK8))/LOG(2))))","v":-0.52439747034769923},null,{"$f":"N8","v":112},{"$f":"COUNTIF(L75:L91,AN8)","v":5},{"$f":"AO8/(AQ4-AO11)","v":0.29411764705882354},{"$f":"IF(AP8=0,0,(AP8*((LOG(AP8))/LOG(2))))","v":-0.51927492540087561},null,{"$f":"N8","v":112},{"$f":"COUNTIF(L92:L108,AS8)","v":6},{"$f":"AT8/(AV4-AT11)","v":0.35294117647058826},{"$f":"IF(AU8=0,0,(AU8*((LOG(AU8))/LOG(2))))","v":-0.53029423783382934}]
[12,485,13,490,24,514,null,null,null,null,0,112,null,121,{"$f":"COUNTIF($L$7:$L$500,N9)","v":2},{"$f":"O9/$Q$4","v":1.9607843137254902E-2},{"$f":"IF(P9=0,0,(P9*((LOG(P9))/LOG(2))))","v":-0.11122402631316657},null,null,{"$f":"N9","v":121},{"$f":"COUNTIF(L7:L23,T9)","v":0},{"$f":"U9/(W4-U11)","v":0},{"$f":"IF(V9=0,0,(V9*((LOG(V9))/LOG(2))))","v":0},null,{"$f":"N9","v":121},{"$f":"COUNTIF(L24:L40,Y9)","v":1},{"$f":"Z9/(AB4-Z11)","v":5.8823529411764705E-2},{"$f":"IF(AA9=0,0,(AA9*((LOG(AA9))/LOG(2))))","v":-0.24043899066178465},null,{"$f":"N9","v":121},{"$f":"COUNTIF(L41:L57,AD9)","v":0},{"$f":"AE9/(AG4-AE11)","v":0},{"$f":"IF(AF9=0,0,(AF9*((LOG(AF9))/LOG(2))))","v":0},null,{"$f":"N9","v":121},{"$f":"COUNTIF(L58:L74,AI9)","v":1},{"$f":"AJ9/(AL4-AJ11)","v":6.25E-2},{"$f":"IF(AK9=0,0,(AK9*((LOG(AK9))/LOG(2))))","v":-0.25},null,{"$f":"N9","v":121},{"$f":"COUNTIF(L75:L91,AN9)","v":0},{"$f":"AO9/(AQ4-AO11)","v":0},{"$f":"IF(AP9=0,0,(AP9*((LOG(AP9))/LOG(2))))","v":0},null,{"$f":"N9","v":121},{"$f":"COUNTIF(L92:L108,AS9)","v":0},{"$f":"AT9/(AV4-AT11)","v":0},{"$f":"IF(AU9=0,0,(AU9*((LOG(AU9))/LOG(2))))","v":0}]
[12,609,24,627,24,638,null,null,null,null,0,122,null,122,{"$f":"COUNTIF($L$7:$L$500,N10)","v":34},{"$f":"O10/$Q$4","v":0.33333333333333331},{"$f":"IF(P10=0,0,(P10*((LOG(P10))/LOG(2))))","v":-0.52832083357371862},null,null,{"$f":"N10","v":122},{"$f":"COUNTIF(L7:L23,T10)","v":7},{"$f":"U10/(W4-U11)","v":0.41176470588235292},{"$f":"IF(V10=0,0,(V10*((LOG(V10))/LOG(2))))","v":-0.52710326084406744},null,{"$f":"N10","v":122},{"$f":"COUNTIF(L24:L40,Y10)","v":10},{"$f":"Z10/(AB4-Z11)","v":0.58823529411764708},{"$f":"IF(AA10=0,0,(AA10*((LOG(AA10))/LOG(2))))","v":-0.45031455668410414},null,{"$f":"N10","v":122},{"$f":"COUNTIF(L41:L57,AD10)","v":5},{"$f":"AE10/(AG4-AE11)","v":0.29411764705882354},{"$f":"IF(AF10=0,0,(AF10*((LOG(AF10))/LOG(2))))","v":-0.51927492540087561},null,{"$f":"N10","v":122},{"$f":"COUNTIF(L58:L74,AI10)","v":7},{"$f":"AJ10/(AL4-AJ11)","v":0.4375},{"$f":"IF(AK10=0,0,(AK10*((LOG(AK10))/LOG(2))))","v":-0.52178222159979815},null,{"$f":"N10","v":122},{"$f":"COUNTIF(L75:L91,AN10)","v":3},{"$f":"AO10/(AQ4-AO11)","v":0.17647058823529413},{"$f":"IF(AP10=0,0,(AP10*((LOG(AP10))/LOG(2))))","v":-0.44161770715220888},null,{"$f":"N10","v":122},{"$f":"COUNTIF(L92:L108,AS10)","v":2},{"$f":"AT10/(AV4-AT11)","v":0.11764705882352941},{"$f":"IF(AU10=0,0,(AU10*((LOG(AU10))/LOG(2))))","v":-0.36323092250003997}]
[12,738,24,759,24,768,null,null,null,null,0,122,null,211,{"$f":"COUNTIF($L$7:$L$500,N11)","v":1},{"$f":"O11/$Q$4","v":9.8039215686274508E-3},{"$f":"IF(P11=0,0,(P11*((LOG(P11))/LOG(2))))","v":-6.5415934725210734E-2},null,null,{"$f":"N11","v":211},{"$f":"COUNTIF(L7:L23,T11)","v":0},null,null,null,{"$f":"N11","v":211},{"$f":"COUNTIF(L24:L40,Y11)","v":0},null,null,null,{"$f":"N11","v":211},{"$f":"COUNTIF(L41:L57,AD11)","v":0},null,null,null,{"$f":"N11","v":211},{"$f":"COUNTIF(L58:L74,AI11)","v":1},null,null,null,{"$f":"N11","v":211},{"$f":"COUNTIF(L75:L91,AN11)","v":0},null,null,null,{"$f":"N11","v":211},{"$f":"COUNTIF(L92:L108,AS11)","v":0}]
[12,892,24,912,24,920,null,null,null,null,0,122,null,212,{"$f":"COUNTIF($L$7:$L$500,N12)","v":0},{"$f":"O12/$Q$4","v":0},{"$f":"IF(P12=0,0,(P12*((LOG(P12))/LOG(2))))","v":0},null,null,{"$f":"N12","v":212},{"$f":"COUNTIF(L7:L23,T12)","v":0},{"$f":"U12/(W4-U11)","v":0},{"$f":"IF(V12=0,0,(V12*((LOG(V12))/LOG(2))))","v":0},null,{"$f":"N12","v":212},{"$f":"COUNTIF(L24:L40,Y12)","v":0},{"$f":"Z12/(AB4-Z11)","v":0},{"$f":"IF(AA12=0,0,(AA12*((LOG(AA12))/LOG(2))))","v":0},null,{"$f":"N12","v":212},{"$f":"COUNTIF(L41:L57,AD12)","v":0},{"$f":"AE12/(AG4-AE11)","v":0},{"$f":"IF(AF12=0,0,(AF12*((LOG(AF12))/LOG(2))))","v":0},null,{"$f":"N12","v":212},{"$f":"COUNTIF(L58:L74,AI12)","v":0},{"$f":"AJ12/(AL4-AJ11)","v":0},{"$f":"IF(AK12=0,0,(AK12*((LOG(AK12))/LOG(2))))","v":0},null,{"$f":"N12","v":212},{"$f":"COUNTIF(L75:L91,AN12)","v":0},{"$f":"AO12/(AQ4-AO11)","v":0},{"$f":"IF(AP12=0,0,(AP12*((LOG(AP12))/LOG(2))))","v":0},null,{"$f":"N12","v":212},{"$f":"COUNTIF(L92:L108,AS12)","v":0},{"$f":"AT12/(AV4-AT11)","v":0},{"$f":"IF(AU12=0,0,(AU12*((LOG(AU12))/LOG(2))))","v":0}]
[21,1035,22,1050,13,1081,null,null,null,null,0,221,null,221,{"$f":"COUNTIF($L$7:$L$500,N13)","v":3},{"$f":"O13/$Q$4","v":2.9411764705882353E-2},{"$f":"IF(P13=0,0,(P13*((LOG(P13))/LOG(2))))","v":-0.14963126003677468},null,null,{"$f":"N13","v":221},{"$f":"COUNTIF(L7:L23,T13)","v":3},{"$f":"U13/(W4-U11)","v":0.17647058823529413},{"$f":"IF(V13=0,0,(V13*((LOG(V13))/LOG(2))))","v":-0.44161770715220888},null,{"$f":"N13","v":221},{"$f":"COUNTIF(L24:L40,Y13)","v":0},{"$f":"Z13/(AB4-Z11)","v":0},{"$f":"IF(AA13=0,0,(AA13*((LOG(AA13))/LOG(2))))","v":0},null,{"$f":"N13","v":221},{"$f":"COUNTIF(L41:L57,AD13)","v":0},{"$f":"AE13/(AG4-AE11)","v":0},{"$f":"IF(AF13=0,0,(AF13*((LOG(AF13))/LOG(2))))","v":0},null,{"$f":"N13","v":221},{"$f":"COUNTIF(L58:L74,AI13)","v":0},{"$f":"AJ13/(AL4-AJ11)","v":0},{"$f":"IF(AK13=0,0,(AK13*((LOG(AK13))/LOG(2))))","v":0},null,{"$f":"N13","v":221},{"$f":"COUNTIF(L75:L91,AN13)","v":0},{"$f":"AO13/(AQ4-AO11)","v":0},{"$f":"IF(AP13=0,0,(AP13*((LOG(AP13))/LOG(2))))","v":0},null,{"$f":"N13","v":221},{"$f":"COUNTIF(L92:L108,AS13)","v":0},{"$f":"AT13/(AV4-AT11)","v":0},{"$f":"IF(AU13=0,0,(AU13*((LOG(AU13))/LOG(2))))","v":0}]
[21,1582,22,1590,13,1673,null,null,null,null,0,221,null,222,{"$f":"COUNTIF($L$7:$L$500,N14)","v":9},{"$f":"O14/$Q$4","v":8.8235294117647065E-2},{"$f":"IF(P14=0,0,(P14*((LOG(P14))/LOG(2))))","v":-0.30904414769375149},null,null,{"$f":"N14","v":222},{"$f":"COUNTIF(L7:L23,T14)","v":3},{"$f":"U14/(W4-U11)","v":0.17647058823529413},{"$f":"IF(V14=0,0,(V14*((LOG(V14))/LOG(2))))","v":-0.44161770715220888},null,{"$f":"N14","v":222},{"$f":"COUNTIF(L24:L40,Y14)","v":2},{"$f":"Z14/(AB4-Z11)","v":0.11764705882352941},{"$f":"IF(AA14=0,0,(AA14*((LOG(AA14))/LOG(2))))","v":-0.36323092250003997},null,{"$f":"N14","v":222},{"$f":"COUNTIF(L41:L57,AD14)","v":1},{"$f":"AE14/(AG4-AE11)","v":5.8823529411764705E-2},{"$f":"IF(AF14=0,0,(AF14*((LOG(AF14))/LOG(2))))","v":-0.24043899066178465},null,{"$f":"N14","v":222},{"$f":"COUNTIF(L58:L74,AI14)","v":0},{"$f":"AJ14/(AL4-AJ11)","v":0},{"$f":"IF(AK14=0,0,(AK14*((LOG(AK14))/LOG(2))))","v":0},null,{"$f":"N14","v":222},{"$f":"COUNTIF(L75:L91,AN14)","v":3},{"$f":"AO14/(AQ4-AO11)","v":0.17647058823529413},{"$f":"IF(AP14=0,0,(AP14*((LOG(AP14))/LOG(2))))","v":-0.44161770715220888},null,{"$f":"N14","v":222},{"$f":"COUNTIF(L92:L108,AS14)","v":0},{"$f":"AT14/(AV4-AT11)","v":0},{"$f":"IF(AU14=0,0,(AU14*((LOG(AU14))/LOG(2))))","v":0}]
[21,1780,22,1794,24,1864,null,null,null,null,0,222,null,null,null,{"$f":"SUM(P7:P14)","v":1},{"$f":"-SUM(Q7:Q14)","v":2.1738827503270066},null,null,null,null,{"$f":"SUM(V7:V14)","v":1},{"$f":"-SUM(W7:W14)","v":2.0923953729624789},null,null,null,{"$f":"SUM(AA7:AA14)","v":1},{"$f":"-SUM(AB7:AB14)","v":1.7360411676599221},null,null,null,{"$f":"SUM(AF7:AF14)","v":1},{"$f":"-SUM(AG7:AG14)","v":1.8092830792973653},null,null,null,{"$f":"SUM(AK7:AK14)","v":1},{"$f":"-SUM(AL7:AL14)","v":1.7489992230622806},null,null,null,{"$f":"SUM(AP7:AP14)","v":1},{"$f":"-SUM(AQ7:AQ14)","v":1.9328045775391227},null,null,null,{"$f":"SUM(AU7:AU14)","v":1},{"$f":"-SUM(AV7:AV14)","v":1.37928048729106}]
[12,1964,13,2021,24,2033,null,null,null,null,0,112,null,null,null,"U=",{"$f":"Q15/(LOG(Q4)/LOG(2))","v":0.32580098523585599},null,null,null,null,"U1=",{"$f":"W15/(LOG(W4)/LOG(2))","v":0.51190566232093826},null,null,null,"U2=",{"$f":"AB15/(LOG(AB4)/LOG(2))","v":0.4247234128075581},null,null,null,"U3=",{"$f":"AG15/(LOG(AG4)/LOG(2))","v":0.44264208619543377},null,null,null,"U4=",{"$f":"AL15/(LOG(AL4)/LOG(2))","v":0.42789360808654314},null,null,null,"U5=",{"$f":"AQ15/(LOG(AQ4)/LOG(2))","v":0.47286168770353526},null,null,null,"U6=",{"$f":"AV15/(LOG(AV4)/LOG(2))","v":0.33744171894884883}]
[21,2154,22,2168,13,2200,null,null,null,null,0,221]
[12,2291,24,2311,24,2320,null,null,null,null,0,122]
[12,2417,13,2422,24,2436,null,null,null,null,0,112,null,"Total Target Seq"]
[21,2553,22,2561,24,2569,null,null,null,null,0,222,null,{"$f":"COUNTIF(L7:L108,G3)","v":1},null,17,17,17,17,17,17]
[21,2684,22,2699,24,2710,null,null,null,null,0,222,null,null,null,"% of reinforcement given in 6 equal intervals based on number of trials "]
[12,2810,24,2830,24,2839,null,null,null,null,0,122,null,null,null,"%_1","%_2","%_3","%_4","%_5","%_6"]
[12,2931,24,2953,24,2960,null,null,null,null,0,122,null,null,"target sequence",{"$f":"$G$3","v":211},{"$f":"$G$3","v":211},{"$f":"$G$3","v":211},{"$f":"$G$3","v":211},{"$f":"$G$3","v":211},{"$f":"$G$3","v":211}]
[12,3059,24,3081,24,3089,null,null,null,null,0,122,null,null,"total reinforcement",{"$f":"U11","v":0},{"$f":"Z11","v":0},{"$f":"AE11","v":0},{"$f":"AJ11","v":1},{"$f":"AO11","v":0},{"$f":"AT11","v":0}]
[12,3188,24,3209,24,3215,null,null,null,null,0,122,null,null,"% target"]
[12,3368,13,3381,24,3396,null,null,null,null,0,112,null,null,"CCRF"]
[12,3496,24,3512,24,3519,null,null,null,null,0,122,null,null,"% CCRf"]
[21,3640,22,3646,24,3655,null,null,null,null,0,222,null,null,"average response rate",{"$f":"F23/P20","v":174.11764705882354},{"$f":"(F40-F23)/Q20","v":188.58823529411765},{"$f":"(F57-F40)/R20","v":133.23529411764707},{"$f":"(F74-F57)/S20","v":226.58823529411765},{"$f":"(F91-F74)/T20","v":149.64705882352942},{"$f":"(F108-F91)/U20","v":345.70588235294116}]
[12,3750,24,3776,24,3794,null,null,null,null,0,122]
[12,3889,13,3951,24,3974,null,null,null,null,0,112]
[12,4093,24,4115,24,4124,null,null,null,null,0,122]
[12,4219,24,4237,24,4245,null,null,null,null,0,122]
[12,4349,24,4372,13,4422,null,null,null,null,0,121]
[12,4523,24,4542,24,4551,null,null,null,null,0,122]
[21,4670,22,4678,24,4688,null,null,null,null,0,222]
[12,4805,24,4824,24,4832,null,null,null,null,0,122]
[12,4925,24,4951,24,4959,null,null,null,null,0,122]
[12,5362,13,5394,13,5407,null,null,null,null,0,111]
[12,5931,13,5976,24,6016,null,null,null,null,0,112]
[12,6112,24,6158,24,6166,null,null,null,null,0,122]
[12,6312,24,6325,24,6334,null,null,null,null,0,122]
[12,6439,13,6484,13,6488,null,null,null,null,0,111]
[12,6585,24,6602,24,6610,null,null,null,null,0,122]
[12,6719,13,6737,24,6752,null,null,null,null,0,112]
[12,6849,13,6858,24,6870,null,null,null,null,0,112]
[12,6963,24,6983,24,6991,null,null,null,null,0,122]
[21,7108,22,7116,24,7127,null,null,null,null,0,222]
[12,7232,13,7235,13,7260,null,null,null,null,0,111]
[12,7362,13,7375,13,7378,null,null,null,null,0,111]
[12,7504,13,7514,24,7534,null,null,null,null,0,112]
[12,7626,13,7631,13,7663,null,null,null,null,0,111]
[12,7765,13,7788,24,7801,null,null,null,null,0,112]
[12,7899,24,7925,24,7934,null,null,null,null,0,122]
[12,8039,13,8044,13,8047,null,null,null,null,0,111]
[12,8144,13,8170,24,8184,null,null,null,null,0,112]
[12,8282,13,8286,13,8300,null,null,null,null,0,111]
[12,8399,24,8422,24,8431,null,null,null,null,0,122]
[12,8576,13,8598,24,8622,null,null,null,null,0,112]
[12,8774,24,8814,24,8821,null,null,null,null,0,122]
[12,8922,13,8928,13,8932,null,null,null,null,0,111]
[12,9031,24,9063,24,9071,null,null,null,null,0,122]
[12,9175,13,9188,24,9218,null,null,null,null,0,112]
[12,9491,24,9505,24,9513,null,null,null,null,0,122]
[12,9705,13,9717,13,9719,null,null,null,null,0,111]
[12,10209,13,10213,13,10275,null,null,null,null,0,111]
[12,10393,24,10413,13,10432,null,null,null,null,0,121]
[12,10793,13,10816,24,10837,null,null,null,null,0,112]
[12,10948,24,10973,24,10981,null,null,null,null,0,122]
[12,11076,13,11082,24,11102,null,null,null,null,0,112]
[12,11198,13,11216,24,11236,null,null,null,null,0,112]
[12,11346,24,11361,24,11369,null,null,null,null,0,122]
[12,11512,24,11533,24,11542,null,null,null,null,0,122]
[21,11742,11,11786,11,11808,null,null,null,null,0,211]
[12,12262,24,12274,24,12283,null,null,null,null,0,122]
[12,12380,13,12411,24,12428,null,null,null,null,0,112]
[12,12526,13,12531,13,12553,null,null,null,null,0,111]
[21,12664,22,12672,24,12683,null,null,null,null,0,222]
[12,12786,24,12802,24,12810,null,null,null,null,0,122]
[12,12909,13,12912,13,12921,null,null,null,null,0,111]
[12,13025,13,13040,24,13056,null,null,null,null,0,112]
[12,13175,24,13191,24,13199,null,null,null,null,0,122]
[12,13314,13,13334,13,13374,null,null,null,null,0,111]
[21,13492,22,13499,24,13509,null,null,null,null,0,222]
[12,13615,24,13691,24,13700,null,null,null,null,0,122]
[12,13834,13,13892,24,13907,null,null,null,null,0,112]
[12,14002,13,14006,13,14012,null,null,null,null,0,111]
[12,14115,13,14126,13,14131,null,null,null,null,0,111]
[12,14232,13,14246,13,14249,null,null,null,null,0,111]
[12,14504,13,14537,24,14546,null,null,null,null,0,112]
[21,14657,22,14666,24,14676,null,null,null,null,0,222]
[12,14805,13,14809,24,14827,null,null,null,null,0,112]
[12,14938,13,14952,24,14968,null,null,null,null,0,112]
[12,15284,13,15306,24,15394,null,null,null,null,0,112]
[12,15489,13,15500,24,15522,null,null,null,null,0,112]
[12,15621,13,15631,13,15639,null,null,null,null,0,111]
[12,15750,13,15758,13,15837,null,null,null,null,0,111]
[12,15953,13,15981,13,16009,null,null,null,null,0,111]
[12,16124,13,16183,24,16213,null,null,null,null,0,112]
[12,16306,13,16316,13,16324,null,null,null,null,0,111]
[12,16438,13,16447,24,16461,null,null,null,null,0,112]
[12,19416,13,19445,13,19474,null,null,null,null,0,111]
[12,19577,24,19595,24,19604,null,null,null,null,0,122]
[12,19722,13,19757,24,19779,null,null,null,null,0,112]
[12,19992,24,20017,24,20028,null,null,null,null,0,122]
[12,20120,13,20130,13,20160,null,null,null,null,0,111]
[12,20270,13,20273,13,20287,null,null,null,null,0,111]
[12,20534,13,20545,13,20574,null,null,null,null,0,111]
[12,20673,13,20698,13,20704,null,null,null,null,0,111]

{"sheet":"!L824A1B.axt","index":8,"n_rows":107,"n_cols":48,"rows_kept":107,"cut":false,"hidden":false,"merged":[[4,39,4,42],[5,39,5,40],[4,44,4,47],[5,44,5,45],[4,24,4,27],[5,24,5,25],[4,29,4,32],[5,29,5,30],[4,34,4,37],[5,34,5,35],[1,1,1,2],[5,13,5,14],[18,13,18,14],[19,13,19,14],[4,19,4,22],[5,19,5,20]]}
["Report for:!L824A1B.axt"]
["Date:","<date>"]
["Hen:","<hen>",null,null,null,"Correct Sequence",{"$f":"Start!J2","v":211},null,null,null,null,null,null,null,null,"Total Sequences in Data",{"$f":"4994-COUNTBLANK(L7:L5000)","v":101},null,null,null,null,"Total Sequences in Block Data",{"$f":"COUNTA(L7:L23)","v":17},null,null,null,"Total Sequences in Block Data",{"$f":"COUNTA(L24:L40)","v":17},null,null,null,"Total Sequences in Block Data",{"$f":"COUNTA(L41:L56)","v":16},null,null,null,"Total Sequences in Block Data",{"$f":"COUNTA(L57:L73)","v":17},null,null,null,"Total Sequences in Block Data",{"$f":"COUNTA(L74:L90)","v":17},null,null,null,"Total Sequences in Block Data",{"$f":"COUNTA(L91:L107)","v":17}]
[null,null,null,null,null,null,null,null,null,null,null,null,null,null,null,"Total Sequences in Summary",{"$f":"SUM(O7:O14)","v":101},null,null,null,null,"Total Sequences in Block Summary",{"$f":"SUM(U7:U14)","v":17},null,null,null,"Total Sequences in Block Summary",{"$f":"SUM(Z7:Z14)","v":17},null,null,null,"Total Sequences in Block Summary",{"$f":"SUM(AE7:AE14)","v":16},null,null,null,"Total Sequences in Block Summary",{"$f":"SUM(AJ7:AJ14)","v":17},null,null,null,"Total Sequences in Block Summary",{"$f":"SUM(AO7:AO14)","v":17},null,null,null,"Total Sequences in Block Summary",{"$f":"SUM(AT7:AT14)","v":17}]
[null,null,null,null,null,null,null,null,null,null,null,null,null,null,null,null,null,null,null,"Block 1",null,null,null,null,"Block 2",null,null,null,null,"Block 3",null,null,null,null,"Block 4",null,null,null,null,"Block 5",null,null,null,null,"Block 6"]
["Sequence\nComponent\n1","Time\n1","Sequence\nComponent\n2","Time\n2","Sequence\nComponent\n3","Time\n3","Sequence\nComponent\n4","Time\n4","Sequence\nComponent\n5","Time\n5","Correct?\n0=No 1=Yes","Sequence",null,"Frequency",null,"Relative Frequency","Variability",null,null,"Frequency",null,"Relative Frequency","Variability",null,"Frequency",null,"Relative Frequency","Variability",null,"Frequency",null,"Relative Frequency","Variability",null,"Frequency",null,"Relative Frequency","Variability",null,"Frequency",null,"Relative Frequency","Variability",null,"Frequency",null,"Relative Frequency","Variability"]
[12,17,24,26,24,35,null,null,null,null,0,122,null,111,{"$f":"COUNTIF($L$7:$L$500,N7)","v":33},{"$f":"O7/$Q$4","v":0.32673267326732675},{"$f":"IF(P7=0,0,(P7*((LOG(P7))/LOG(2))))","v":-0.5272868613067353},null,null,{"$f":"N7","v":111},{"$f":"COUNTIF(L7:L23,T7)","v":5},{"$f":"U7/(W4-U11)","v":0.29411764705882354},{"$f":"IF(V7=0,0,(V7*((LOG(V7))/LOG(2))))","v":-0.51927492540087561},null,{"$f":"N7","v":111},{"$f":"COUNTIF(L24:L40,Y7)","v":2},{"$f":"Z7/(AB4-Z11)","v":0.11764705882352941},{"$f":"IF(AA7=0,0,(AA7*((LOG(AA7))/LOG(2))))","v":-0.36323092250003997},null,{"$f":"N7","v":111},{"$f":"COUNTIF(L41:L56,AD7)","v":7},{"$f":"AE7/(AG4-AE11)","v":0.4375},{"$f":"IF(AF7=0,0,(AF7*((LOG(AF7))/LOG(2))))","v":-0.52178222159979815},null,{"$f":"N7","v":111},{"$f":"COUNTIF(L57:L73,AI7)","v":5},{"$f":"AJ7/(AL4-AJ11)","v":0.29411764705882354},{"$f":"IF(AK7=0,0,(AK7*((LOG(AK7))/LOG(2))))","v":-0.51927492540087561},null,{"$f":"N7","v":111},{"$f":"COUNTIF(L74:L90,AN7)","v":8},{"$f":"AO7/(AQ4-AO11)","v":0.47058823529411764},{"$f":"IF(AP7=0,0,(AP7*((LOG(AP7))/LOG(2))))","v":-0.51174721941192436},null,{"$f":"N7","v":111},{"$f":"COUNTIF(L91:L107,AS7)","v":6},{"$f":"AT7/(AV4-AT11)","v":0.35294117647058826},{"$f":"IF(AU7=0,0,(AU7*((LOG(AU7))/LOG(2))))","v":-0.53029423783382934}]
[12,129,24,155,13,198,null,null,null,null,0,121,null,112,{"$f":"COUNTIF($L$7:$L$500,N8)","v":21},{"$f":"O8/$Q$4","v":0.20792079207920791},{"$f":"IF(P8=0,0,(P8*((LOG(P8))/LOG(2))))","v":-0.47112648771716553},null,null,{"$f":"N8","v":112},{"$f":"COUNTIF(L7:L23,T8)","v":0},{"$f":"U8/(W4-U11)","v":0},{"$f":"IF(V8=0,0,(V8*((LOG(V8))/LOG(2))))","v":0},null,{"$f":"N8","v":112},{"$f":"COUNTIF(L24:L40,Y8)","v":3},{"$f":"Z8/(AB4-Z11)","v":0.17647058823529413},{"$f":"IF(AA8=0,0,(AA8*((LOG(AA8))/LOG(2))))","v":-0.44161770715220888},null,{"$f":"N8","v":112},{"$f":"COUNTIF(L41:L56,AD8)","v":7},{"$f":"AE8/(AG4-AE11)","v":0.4375},{"$f":"IF(AF8=0,0,(AF8*((LOG(AF8))/LOG(2))))","v":-0.52178222159979815},null,{"$f":"N8","v":112},{"$f":"COUNTIF(L57:L73,AI8)","v":6},{"$f":"AJ8/(AL4-AJ11)","v":0.35294117647058826},{"$f":"IF(AK8=0,0,(AK8*((LOG(AK8))/LOG(2))))","v":-0.53029423783382934},null,{"$f":"N8","v":112},{"$f":"COUNTIF(L74:L90,AN8)","v":3},{"$f":"AO8/(AQ4-AO11)","v":0.17647058823529413},{"$f":"IF(AP8=0,0,(AP8*((LOG(AP8))/LOG(2))))","v":-0.44161770715220888},null,{"$f":"N8","v":112},{"$f":"COUNTIF(L91:L107,AS8)","v":2},{"$f":"AT8/(AV4-AT11)","v":0.11764705882352941},{"$f":"IF(AU8=0,0,(AU8*((LOG(AU8))/LOG(2))))","v":-0.36323092250003997}]
[12,327,24,343,24,352,null,null,null,null,0,122,null,121,{"$f":"COUNTIF($L$7:$L$500,N9)","v":5},{"$f":"O9/$Q$4","v":4.9504950495049507E-2},{"$f":"IF(P9=0,0,(P9*((LOG(P9))/LOG(2))))","v":-0.21466749444873426},null,null,{"$f":"N9","v":121},{"$f":"COUNTIF(L7:L23,T9)","v":1},{"$f":"U9/(W4-U11)","v":5.8823529411764705E-2},{"$f":"IF(V9=0,0,(V9*((LOG(V9))/LOG(2))))","v":-0.24043899066178465},null,{"$f":"N9","v":121},{"$f":"COUNTIF(L24:L40,Y9)","v":2},{"$f":"Z9/(AB4-Z11)","v":0.11764705882352941},{"$f":"IF(AA9=0,0,(AA9*((LOG(AA9))/LOG(2))))","v":-0.36323092250003997},null,{"$f":"N9","v":121},{"$f":"COUNTIF(L41:L56,AD9)","v":0},{"$f":"AE9/(AG4-AE11)","v":0},{"$f":"IF(AF9=0,0,(AF9*((LOG(AF9))/LOG(2))))","v":0},null,{"$f":"N9","v":121},{"$f":"COUNTIF(L57:L73,AI9)","v":2},{"$f":"AJ9/(AL4-AJ11)","v":0.11764705882352941},{"$f":"IF(AK9=0,0,(AK9*((LOG(AK9))/LOG(2))))","v":-0.36323092250003997},null,{"$f":"N9","v":121},{"$f":"COUNTIF(L74:L90,AN9)","v":0},{"$f":"AO9/(AQ4-AO11)","v":0},{"$f":"IF(AP9=0,0,(AP9*((LOG(AP9))/LOG(2))))","v":0},null,{"$f":"N9","v":121},{"$f":"COUNTIF(L91:L107,AS9)","v":0},{"$f":"AT9/(AV4-AT11)","v":0},{"$f":"IF(AU9=0,0,(AU9*((LOG(AU9))/LOG(2))))","v":0}]
[12,446,13,461,13,497,null,null,null,null,0,111,null,122,{"$f":"COUNTIF($L$7:$L$500,N10)","v":30},{"$f":"O10/$Q$4","v":0.29702970297029702},{"$f":"IF(P10=0,0,(P10*((LOG(P10))/LOG(2))))","v":-0.52019432291384438},null,null,{"$f":"N10","v":122},{"$f":"COUNTIF(L7:L23,T10)","v":9},{"$f":"U10/(W4-U11)","v":0.52941176470588236},{"$f":"IF(V10=0,0,(V10*((LOG(V10))/LOG(2))))","v":-0.48575532695719081},null,{"$f":"N10","v":122},{"$f":"COUNTIF(L24:L40,Y10)","v":8},{"$f":"Z10/(AB4-Z11)","v":0.47058823529411764},{"$f":"IF(AA10=0,0,(AA10*((LOG(AA10))/LOG(2))))","v":-0.51174721941192436},null,{"$f":"N10","v":122},{"$f":"COUNTIF(L41:L56,AD10)","v":1},{"$f":"AE10/(AG4-AE11)","v":6.25E-2},{"$f":"IF(AF10=0,0,(AF10*((LOG(AF10))/LOG(2))))","v":-0.25},null,{"$f":"N10","v":122},{"$f":"COUNTIF(L57:L73,AI10)","v":2},{"$f":"AJ10/(AL4-AJ11)","v":0.11764705882352941},{"$f":"IF(AK10=0,0,(AK10*((LOG(AK10))/LOG(2))))","v":-0.36323092250003997},null,{"$f":"N10","v":122},{"$f":"COUNTIF(L74:L90,AN10)","v":5},{"$f":"AO10/(AQ4-AO11)","v":0.29411764705882354},{"$f":"IF(AP10=0,0,(AP10*((LOG(AP10))/LOG(2))))","v":-0.51927492540087561},null,{"$f":"N10","v":122},{"$f":"COUNTIF(L91:L107,AS10)","v":5},{"$f":"AT10/(AV4-AT11)","v":0.29411764705882354},{"$f":"IF(AU10=0,0,(AU10*((LOG(AU10))/LOG(2))))","v":-0.51927492540087561}]
[12,606,24,627,24,636,null,null,null,null,0,122,null,211,{"$f":"COUNTIF($L$7:$L$500,N11)","v":0},{"$f":"O11/$Q$4","v":0},{"$f":"IF(P11=0,0,(P11*((LOG(P11))/LOG(2))))","v":0},null,null,{"$f":"N11","v":211},{"$f":"COUNTIF(L7:L23,T11)","v":0},null,null,null,{"$f":"N11","v":211},{"$f":"COUNTIF(L24:L40,Y11)","v":0},null,null,null,{"$f":"N11","v":211},{"$f":"COUNTIF(L41:L56,AD11)","v":0},null,null,null,{"$f":"N11","v":211},{"$f":"COUNTIF(L57:L73,AI11)","v":0},null,null,null,{"$f":"N11","v":211},{"$f":"COUNTIF(L74:L90,AN11)","v":0},null,null,null,{"$f":"N11","v":211},{"$f":"COUNTIF(L91:L107,AS11)","v":0}]
[12,734,24,752,24,759,null,null,null,null,0,122,null,212,{"$f":"COUNTIF($L$7:$L$500,N12)","v":0},{"$f":"O12/$Q$4","v":0},{"$f":"IF(P12=0,0,(P12*((LOG(P12))/LOG(2))))","v":0},null,null,{"$f":"N12","v":212},{"$f":"COUNTIF(L7:L23,T12)","v":0},{"$f":"U12/(W4-U11)","v":0},{"$f":"IF(V12=0,0,(V12*((LOG(V12))/LOG(2))))","v":0},null,{"$f":"N12","v":212},{"$f":"COUNTIF(L24:L40,Y12)","v":0},{"$f":"Z12/(AB4-Z11)","v":0},{"$f":"IF(AA12=0,0,(AA12*((LOG(AA12))/LOG(2))))","v":0},null,{"$f":"N12","v":212},{"$f":"COUNTIF(L41:L56,AD12)","v":0},{"$f":"AE12/(AG4-AE11)","v":0},{"$f":"IF(AF12=0,0,(AF12*((LOG(AF12))/LOG(2))))","v":0},null,{"$f":"N12","v":212},{"$f":"COUNTIF(L57:L73,AI12)","v":0},{"$f":"AJ12/(AL4-AJ11)","v":0},{"$f":"IF(AK12=0,0,(AK12*((LOG(AK12))/LOG(2))))","v":0},null,{"$f":"N12","v":212},{"$f":"COUNTIF(L74:L90,AN12)","v":0},{"$f":"AO12/(AQ4-AO11)","v":0},{"$f":"IF(AP12=0,0,(AP12*((LOG(AP12))/LOG(2))))","v":0},null,{"$f":"N12","v":212},{"$f":"COUNTIF(L91:L107,AS12)","v":0},{"$f":"AT12/(AV4-AT11)","v":0},{"$f":"IF(AU12=0,0,(AU12*((LOG(AU12))/LOG(2))))","v":0}]
[12,862,13,882,13,901,null,null,null,null,0,111,null,221,{"$f":"COUNTIF($L$7:$L$500,N13)","v":5},{"$f":"O13/$Q$4","v":4.9504950495049507E-2},{"$f":"IF(P13=0,0,(P13*((LOG(P13))/LOG(2))))","v":-0.21466749444873426},null,null,{"$f":"N13","v":221},{"$f":"COUNTIF(L7:L23,T13)","v":1},{"$f":"U13/(W4-U11)","v":5.8823529411764705E-2},{"$f":"IF(V13=0,0,(V13*((LOG(V13))/LOG(2))))","v":-0.24043899066178465},null,{"$f":"N13","v":221},{"$f":"COUNTIF(L24:L40,Y13)","v":2},{"$f":"Z13/(AB4-Z11)","v":0.11764705882352941},{"$f":"IF(AA13=0,0,(AA13*((LOG(AA13))/LOG(2))))","v":-0.36323092250003997},null,{"$f":"N13","v":221},{"$f":"COUNTIF(L41:L56,AD13)","v":1},{"$f":"AE13/(AG4-AE11)","v":6.25E-2},{"$f":"IF(AF13=0,0,(AF13*((LOG(AF13))/LOG(2))))","v":-0.25},null,{"$f":"N13","v":221},{"$f":"COUNTIF(L57:L73,AI13)","v":1},{"$f":"AJ13/(AL4-AJ11)","v":5.8823529411764705E-2},{"$f":"IF(AK13=0,0,(AK13*((LOG(AK13))/LOG(2))))","v":-0.24043899066178465},null,{"$f":"N13","v":221},{"$f":"COUNTIF(L74:L90,AN13)","v":0},{"$f":"AO13/(AQ4-AO11)","v":0},{"$f":"IF(AP13=0,0,(AP13*((LOG(AP13))/LOG(2))))","v":0},null,{"$f":"N13","v":221},{"$f":"COUNTIF(L91:L107,AS13)","v":0},{"$f":"AT13/(AV4-AT11)","v":0},{"$f":"IF(AU13=0,0,(AU13*((LOG(AU13))/LOG(2))))","v":0}]
[12,1007,24,1025,24,1033,null,null,null,null,0,122,null,222,{"$f":"COUNTIF($L$7:$L$500,N14)","v":7},{"$f":"O14/$Q$4","v":6.9306930693069313E-2},{"$f":"IF(P14=0,0,(P14*((LOG(P14))/LOG(2))))","v":-0.26689104876098352},null,null,{"$f":"N14","v":222},{"$f":"COUNTIF(L7:L23,T14)","v":1},{"$f":"U14/(W4-U11)","v":5.8823529411764705E-2},{"$f":"IF(V14=0,0,(V14*((LOG(V14))/LOG(2))))","v":-0.24043899066178465},null,{"$f":"N14","v":222},{"$f":"COUNTIF(L24:L40,Y14)","v":0},{"$f":"Z14/(AB4-Z11)","v":0},{"$f":"IF(AA14=0,0,(AA14*((LOG(AA14))/LOG(2))))","v":0},null,{"$f":"N14","v":222},{"$f":"COUNTIF(L41:L56,AD14)","v":0},{"$f":"AE14/(AG4-AE11)","v":0},{"$f":"IF(AF14=0,0,(AF14*((LOG(AF14))/LOG(2))))","v":0},null,{"$f":"N14","v":222},{"$f":"COUNTIF(L57:L73,AI14)","v":1},{"$f":"AJ14/(AL4-AJ11)","v":5.8823529411764705E-2},{"$f":"IF(AK14=0,0,(AK14*((LOG(AK14))/LOG(2))))","v":-0.24043899066178465},null,{"$f":"N14","v":222},{"$f":"COUNTIF(L74:L90,AN14)","v":1},{"$f":"AO14/(AQ4-AO11)","v":5.8823529411764705E-2},{"$f":"IF(AP14=0,0,(AP14*((LOG(AP14))/LOG(2))))","v":-0.24043899066178465},null,{"$f":"N14","v":222},{"$f":"COUNTIF(L91:L107,AS14)","v":4},{"$f":"AT14/(AV4-AT11)","v":0.23529411764705882},{"$f":"IF(AU14=0,0,(AU14*((LOG(AU14))/LOG(2))))","v":-0.49116772735302094}]
[12,1244,13,1250,13,1273,null,null,null,null,0,111,null,null,null,{"$f":"SUM(P7:P14)","v":1.0000000000000002},{"$f":"-SUM(Q7:Q14)","v":2.2148337095961974},null,null,null,null,{"$f":"SUM(V7:V14)","v":1},{"$f":"-SUM(W7:W14)","v":1.7263472243434204},null,null,null,{"$f":"SUM(AA7:AA14)","v":1},{"$f":"-SUM(AB7:AB14)","v":2.0430576940642533},null,null,null,{"$f":"SUM(AF7:AF14)","v":1},{"$f":"-SUM(AG7:AG14)","v":1.5435644431995963},null,null,null,{"$f":"SUM(AK7:AK14)","v":1},{"$f":"-SUM(AL7:AL14)","v":2.2569089895583545},null,null,null,{"$f":"SUM(AP7:AP14)","v":1},{"$f":"-SUM(AQ7:AQ14)","v":1.7130788426267936},null,null,null,{"$f":"SUM(AU7:AU14)","v":1},{"$f":"-SUM(AV7:AV14)","v":1.9039678130877657}]
[12,1373,24,1407,24,1415,null,null,null,null,0,122,null,null,null,"U=",{"$f":"Q15/(LOG(Q4)/LOG(2))","v":0.33264694510436627},null,null,null,null,"U1=",{"$f":"W15/(LOG(W4)/LOG(2))","v":0.4223517843199126},null,null,null,"U2=",{"$f":"AB15/(LOG(AB4)/LOG(2))","v":0.49983517243163239},null,null,null,"U3=",{"$f":"AG15/(LOG(AG4)/LOG(2))","v":0.38589111079989907},null,null,null,"U4=",{"$f":"AL15/(LOG(AL4)/LOG(2))","v":0.55215400780694923},null,null,null,"U5=",{"$f":"AQ15/(LOG(AQ4)/LOG(2))","v":0.4191056675399083},null,null,null,"U6=",{"$f":"AV15/(LOG(AV4)/LOG(2))","v":0.46580675764757518}]
[21,1560,22,1793,24,1802,null,null,null,null,0,222]
[21,2367,22,2375,13,2420,null,null,null,null,0,221]
[12,2858,24,2880,24,2889,null,null,null,null,0,122,null,"Total Target Seq"]
[12,3323,13,3352,13,3355,null,null,null,null,0,111,null,{"$f":"COUNTIF(L7:L107,G3)","v":0},null,17,17,16,17,17,17]
[12,3456,24,3477,24,3484,null,null,null,null,0,122,null,null,null,"% of reinforcement given in 6 equal intervals based on number of trials "]
[12,3584,24,3601,24,3609,null,null,null,null,0,122,null,null,null,"%_1","%_2","%_3","%_4","%_5","%_6"]
[12,3714,13,3719,13,3730,null,null,null,null,0,111,null,null,"target sequence",{"$f":"$G$3","v":211},{"$f":"$G$3","v":211},{"$f":"$G$3","v":211},{"$f":"$G$3","v":211},{"$f":"$G$3","v":211},{"$f":"$G$3","v":211}]
[12,3837,24,3854,24,3861,null,null,null,null,0,122,null,null,"total reinforcement",{"$f":"U11","v":0},{"$f":"Z11","v":0},{"$f":"AE11","v":0},{"$f":"AJ11","v":0},{"$f":"AO11","v":0},{"$f":"AT11","v":0}]
[12,3960,24,3975,24,3982,null,null,null,null,0,122,null,null,"% target"]
[12,4079,13,4088,13,4096,null,null,null,null,0,111,null,null,"CCRF"]
[12,4197,24,4215,24,4223,null,null,null,null,0,122,null,null,"% CCRf"]
[12,4314,13,4344,24,4361,null,null,null,null,0,112,null,null,"average response rate",{"$f":"F23/P20","v":219.41176470588235},{"$f":"(F40-F23)/Q20","v":215.70588235294119},{"$f":"(F56-F40)/R20","v":169.4375},{"$f":"(F73-F56)/S20","v":213.05882352941177},{"$f":"(F90-F73)/T20","v":172.11764705882354},{"$f":"(F107-F90)/U20","v":203.94117647058823}]
[21,4474,22,4481,13,4520,null,null,null,null,0,221]
[12,4873,24,4887,13,5017,null,null,null,null,0,121]
[12,5330,13,5368,13,5378,null,null,null,null,0,111]
[21,5494,22,5502,13,5596,null,null,null,null,0,221]
[12,5694,24,5709,24,5716,null,null,null,null,0,122]
[12,6219,24,6232,24,6244,null,null,null,null,0,122]
[12,6346,24,6366,13,6403,null,null,null,null,0,121]
[12,6861,24,6880,24,6888,null,null,null,null,0,122]
[12,6986,13,6994,24,7012,null,null,null,null,0,112]
[12,7106,24,7127,24,7134,null,null,null,null,0,122]
[12,7246,13,7251,24,7265,null,null,null,null,0,112]
[12,7373,24,7390,24,7397,null,null,null,null,0,122]
[12,7490,13,7512,24,7523,null,null,null,null,0,112]
[12,7621,13,7631,13,7635,null,null,null,null,0,111]
[12,8180,24,8197,24,8207,null,null,null,null,0,122]
[21,8322,22,8330,13,8350,null,null,null,null,0,221]
[12,8810,13,8830,24,8848,null,null,null,null,0,112]
[12,8940,13,8943,13,8954,null,null,null,null,0,111]
[12,9047,13,9049,24,9067,null,null,null,null,0,112]
[12,9165,13,9172,24,9185,null,null,null,null,0,112]
[12,9283,13,9296,13,9306,null,null,null,null,0,111]
[12,9414,13,9426,24,9434,null,null,null,null,0,112]
[12,9532,13,9537,24,9551,null,null,null,null,0,112]
[12,9643,13,9646,13,9657,null,null,null,null,0,111]
[12,9751,13,9758,24,9770,null,null,null,null,0,112]
[12,9878,13,9889,13,9892,null,null,null,null,0,111]
[12,9984,13,9989,13,9995,null,null,null,null,0,111]
[12,10098,13,10103,13,10108,null,null,null,null,0,111]
[12,10218,13,10227,13,10252,null,null,null,null,0,111]
[12,10347,13,10373,24,10382,null,null,null,null,0,112]
[21,10540,22,10547,13,10581,null,null,null,null,0,221]
[12,10682,13,10685,13,10701,null,null,null,null,0,111]
[12,11135,13,11144,24,11166,null,null,null,null,0,112]
[12,11290,13,11300,24,11310,null,null,null,null,0,112]
[12,11413,24,11437,24,11453,null,null,null,null,0,122]
[12,11841,24,11859,13,11913,null,null,null,null,0,121]
[12,12287,24,12303,13,12338,null,null,null,null,0,121]
[12,12431,13,12453,24,12467,null,null,null,null,0,112]
[12,12567,13,12579,13,12585,null,null,null,null,0,111]
[21,12712,22,12719,24,12729,null,null,null,null,0,222]
[12,13236,13,13240,24,13258,null,null,null,null,0,112]
[12,13363,13,13368,24,13386,null,null,null,null,0,112]
[12,13482,13,13494,13,13498,null,null,null,null,0,111]
[12,13597,24,13618,24,13625,null,null,null,null,0,122]
[12,13720,13,13726,13,13730,null,null,null,null,0,111]
[12,13829,24,13869,24,13877,null,null,null,null,0,122]
[12,13969,13,13980,24,13989,null,null,null,null,0,112]
[12,14089,24,14107,24,14115,null,null,null,null,0,122]
[12,14248,13,14261,13,14266,null,null,null,null,0,111]
[12,14408,13,14412,13,14425,null,null,null,null,0,111]
[12,14546,24,14558,24,14568,null,null,null,null,0,122]
[12,14674,13,14684,13,14694,null,null,null,null,0,111]
[12,14801,13,14803,13,14806,null,null,null,null,0,111]
[12,14968,13,14971,13,14974,null,null,null,null,0,111]
[12,15078,13,15083,13,15087,null,null,null,null,0,111]
[12,15247,24,15265,24,15273,null,null,null,null,0,122]
[12,15377,13,15388,13,15398,null,null,null,null,0,111]
[12,15500,13,15505,24,15529,null,null,null,null,0,112]
[12,15630,13,15632,24,15651,null,null,null,null,0,112]
[12,15788,24,15812,24,15822,null,null,null,null,0,122]
[12,16005,13,16010,13,16046,null,null,null,null,0,111]
[21,16634,22,16641,24,16656,null,null,null,null,0,222]
[12,16756,13,16766,13,16785,null,null,null,null,0,111]
[12,16879,13,16887,13,16903,null,null,null,null,0,111]
[12,17096,13,17099,24,17121,null,null,null,null,0,112]
[12,17218,13,17229,24,17247,null,null,null,null,0,112]
[21,17369,22,17377,24,17386,null,null,null,null,0,222]
[12,17514,24,17537,24,17545,null,null,null,null,0,122]
[21,17669,22,17676,24,17685,null,null,null,null,0,222]
[12,17823,24,17855,24,17863,null,null,null,null,0,122]
[12,17965,13,17975,13,17982,null,null,null,null,0,111]
[12,18091,24,18108,24,18116,null,null,null,null,0,122]
[12,18236,13,18239,13,18250,null,null,null,null,0,111]
[12,18351,13,18359,13,18364,null,null,null,null,0,111]
[12,18540,13,18560,13,18573,null,null,null,null,0,111]
[21,18847,22,18864,24,18876,null,null,null,null,0,222]
[21,19074,22,19081,24,19090,null,null,null,null,0,222]
[12,19194,24,19214,24,19223,null,null,null,null,0,122]
[12,20086,24,20106,24,20123,null,null,null,null,0,122]

{"sheet":"!L825A3B.axt","index":9,"n_rows":56,"n_cols":48,"rows_kept":56,"cut":false,"hidden":false,"merged":[[4,39,4,42],[5,39,5,40],[4,44,4,47],[5,44,5,45],[4,24,4,27],[5,24,5,25],[4,29,4,32],[5,29,5,30],[4,34,4,37],[5,34,5,35],[1,1,1,2],[5,13,5,14],[18,13,18,14],[19,13,19,14],[4,19,4,22],[5,19,5,20]]}
["Report for:!L825A3B.axt"]
["Date:","<date>"]
["Hen:","<hen>",null,null,null,"Correct Sequence",{"$f":"Start!J2","v":211},null,null,null,null,null,null,null,null,"Total Sequences in Data",{"$f":"4994-COUNTBLANK(L7:L5000)","v":50},null,null,null,null,"Total Sequences in Block Data",{"$f":"COUNTA(L7:L14)","v":8},null,null,null,"Total Sequences in Block Data",{"$f":"COUNTA(L15:L23)","v":9},null,null,null,"Total Sequences in Block Data",{"$f":"COUNTA(L24:L31)","v":8},null,null,null,"Total Sequences in Block Data",{"$f":"COUNTA(L32:L39)","v":8},null,null,null,"Total Sequences in Block Data",{"$f":"COUNTA(L40:L48)","v":9},null,null,null,"Total Sequences in Block Data",{"$f":"COUNTA(L49:L56)","v":8}]
[null,null,null,null,null,null,null,null,null,null,null,null,null,null,null,"Total Sequences in Summary",{"$f":"SUM(O7:O14)","v":50},null,null,null,null,"Total Sequences in Block Summary",{"$f":"SUM(U7:U14)","v":8},null,null,null,"Total Sequences in Block Summary",{"$f":"SUM(Z7:Z14)","v":9},null,null,null,"Total Sequences in Block Summary",{"$f":"SUM(AE7:AE14)","v":8},null,null,null,"Total Sequences in Block Summary",{"$f":"SUM(AJ7:AJ14)","v":8},null,null,null,"Total Sequences in Block Summary",{"$f":"SUM(AO7:AO14)","v":9},null,null,null,"Total Sequences in Block Summary",{"$f":"SUM(AT7:AT14)","v":8}]
[null,null,null,null,null,null,null,null,null,null,null,null,null,null,null,null,null,null,null,"Block 1",null,null,null,null,"Block 2",null,null,null,null,"Block 3",null,null,null,null,"Block 4",null,null,null,null,"Block 5",null,null,null,null,"Block 6"]
["Sequence\nComponent\n1","Time\n1","Sequence\nComponent\n2","Time\n2","Sequence\nComponent\n3","Time\n3","Sequence\nComponent\n4","Time\n4","Sequence\nComponent\n5","Time\n5","Correct?\n0=No 1=Yes","Sequence",null,"Frequency",null,"Relative Frequency","Variability",null,null,"Frequency",null,"Relative Frequency","Variability",null,"Frequency",null,"Relative Frequency","Variability",null,"Frequency",null,"Relative Frequency","Variability",null,"Frequency",null,"Relative Frequency","Variability",null,"Frequency",null,"Relative Frequency","Variability",null,"Frequency",null,"Relative Frequency","Variability"]
[12,10,13,13,13,53,null,null,null,null,0,111,null,111,{"$f":"COUNTIF($L$7:$L$500,N7)","v":8},{"$f":"O7/$Q$4","v":0.16},{"$f":"IF(P7=0,0,(P7*((LOG(P7))/LOG(2))))","v":-0.42301699036395596},null,null,{"$f":"N7","v":111},{"$f":"COUNTIF(L7:L14,T7)","v":1},{"$f":"U7/(W4-U11)","v":0.125},{"$f":"IF(V7=0,0,(V7*((LOG(V7))/LOG(2))))","v":-0.375},null,{"$f":"N7","v":111},{"$f":"COUNTIF(L15:L23,Y7)","v":1},{"$f":"Z7/(AB4-Z11)","v":0.1111111111111111},{"$f":"IF(AA7=0,0,(AA7*((LOG(AA7))/LOG(2))))","v":-0.3522138890491458},null,{"$f":"N7","v":111},{"$f":"COUNTIF(L24:L31,AD7)","v":3},{"$f":"AE7/(AG4-AE11)","v":0.375},{"$f":"IF(AF7=0,0,(AF7*((LOG(AF7))/LOG(2))))","v":-0.53063906222956647},null,{"$f":"N7","v":111},{"$f":"COUNTIF(L32:L39,AI7)","v":2},{"$f":"AJ7/(AL4-AJ11)","v":0.25},{"$f":"IF(AK7=0,0,(AK7*((LOG(AK7))/LOG(2))))","v":-0.5},null,{"$f":"N7","v":111},{"$f":"COUNTIF(L40:L48,AN7)","v":1},{"$f":"AO7/(AQ4-AO11)","v":0.1111111111111111},{"$f":"IF(AP7=0,0,(AP7*((LOG(AP7))/LOG(2))))","v":-0.3522138890491458},null,{"$f":"N7","v":111},{"$f":"COUNTIF(L49:L56,AS7)","v":0},{"$f":"AT7/(AV4-AT11)","v":0},{"$f":"IF(AU7=0,0,(AU7*((LOG(AU7))/LOG(2))))","v":0}]
[12,165,24,174,24,182,null,null,null,null,0,122,null,112,{"$f":"COUNTIF($L$7:$L$500,N8)","v":14},{"$f":"O8/$Q$4","v":0.28000000000000003},{"$f":"IF(P8=0,0,(P8*((LOG(P8))/LOG(2))))","v":-0.51422035496079388},null,null,{"$f":"N8","v":112},{"$f":"COUNTIF(L7:L14,T8)","v":1},{"$f":"U8/(W4-U11)","v":0.125},{"$f":"IF(V8=0,0,(V8*((LOG(V8))/LOG(2))))","v":-0.375},null,{"$f":"N8","v":112},{"$f":"COUNTIF(L15:L23,Y8)","v":2},{"$f":"Z8/(AB4-Z11)","v":0.22222222222222221},{"$f":"IF(AA8=0,0,(AA8*((LOG(AA8))/LOG(2))))","v":-0.48220555587606945},null,{"$f":"N8","v":112},{"$f":"COUNTIF(L24:L31,AD8)","v":1},{"$f":"AE8/(AG4-AE11)","v":0.125},{"$f":"IF(AF8=0,0,(AF8*((LOG(AF8))/LOG(2))))","v":-0.375},null,{"$f":"N8","v":112},{"$f":"COUNTIF(L32:L39,AI8)","v":3},{"$f":"AJ8/(AL4-AJ11)","v":0.375},{"$f":"IF(AK8=0,0,(AK8*((LOG(AK8))/LOG(2))))","v":-0.53063906222956647},null,{"$f":"N8","v":112},{"$f":"COUNTIF(L40:L48,AN8)","v":6},{"$f":"AO8/(AQ4-AO11)","v":0.66666666666666663},{"$f":"IF(AP8=0,0,(AP8*((LOG(AP8))/LOG(2))))","v":-0.38997500048077083},null,{"$f":"N8","v":112},{"$f":"COUNTIF(L49:L56,AS8)","v":1},{"$f":"AT8/(AV4-AT11)","v":0.125},{"$f":"IF(AU8=0,0,(AU8*((LOG(AU8))/LOG(2))))","v":-0.375}]
[21,296,22,302,24,310,null,null,null,null,0,222,null,121,{"$f":"COUNTIF($L$7:$L$500,N9)","v":0},{"$f":"O9/$Q$4","v":0},{"$f":"IF(P9=0,0,(P9*((LOG(P9))/LOG(2))))","v":0},null,null,{"$f":"N9","v":121},{"$f":"COUNTIF(L7:L14,T9)","v":0},{"$f":"U9/(W4-U11)","v":0},{"$f":"IF(V9=0,0,(V9*((LOG(V9))/LOG(2))))","v":0},null,{"$f":"N9","v":121},{"$f":"COUNTIF(L15:L23,Y9)","v":0},{"$f":"Z9/(AB4-Z11)","v":0},{"$f":"IF(AA9=0,0,(AA9*((LOG(AA9))/LOG(2))))","v":0},null,{"$f":"N9","v":121},{"$f":"COUNTIF(L24:L31,AD9)","v":0},{"$f":"AE9/(AG4-AE11)","v":0},{"$f":"IF(AF9=0,0,(AF9*((LOG(AF9))/LOG(2))))","v":0},null,{"$f":"N9","v":121},{"$f":"COUNTIF(L32:L39,AI9)","v":0},{"$f":"AJ9/(AL4-AJ11)","v":0},{"$f":"IF(AK9=0,0,(AK9*((LOG(AK9))/LOG(2))))","v":0},null,{"$f":"N9","v":121},{"$f":"COUNTIF(L40:L48,AN9)","v":0},{"$f":"AO9/(AQ4-AO11)","v":0},{"$f":"IF(AP9=0,0,(AP9*((LOG(AP9))/LOG(2))))","v":0},null,{"$f":"N9","v":121},{"$f":"COUNTIF(L49:L56,AS9)","v":0},{"$f":"AT9/(AV4-AT11)","v":0},{"$f":"IF(AU9=0,0,(AU9*((LOG(AU9))/LOG(2))))","v":0}]
[21,418,22,426,24,433,null,null,null,null,0,222,null,122,{"$f":"COUNTIF($L$7:$L$500,N10)","v":17},{"$f":"O10/$Q$4","v":0.34},{"$f":"IF(P10=0,0,(P10*((LOG(P10))/LOG(2))))","v":-0.52917373849829108},null,null,{"$f":"N10","v":122},{"$f":"COUNTIF(L7:L14,T10)","v":3},{"$f":"U10/(W4-U11)","v":0.375},{"$f":"IF(V10=0,0,(V10*((LOG(V10))/LOG(2))))","v":-0.53063906222956647},null,{"$f":"N10","v":122},{"$f":"COUNTIF(L15:L23,Y10)","v":2},{"$f":"Z10/(AB4-Z11)","v":0.22222222222222221},{"$f":"IF(AA10=0,0,(AA10*((LOG(AA10))/LOG(2))))","v":-0.48220555587606945},null,{"$f":"N10","v":122},{"$f":"COUNTIF(L24:L31,AD10)","v":3},{"$f":"AE10/(AG4-AE11)","v":0.375},{"$f":"IF(AF10=0,0,(AF10*((LOG(AF10))/LOG(2))))","v":-0.53063906222956647},null,{"$f":"N10","v":122},{"$f":"COUNTIF(L32:L39,AI10)","v":3},{"$f":"AJ10/(AL4-AJ11)","v":0.375},{"$f":"IF(AK10=0,0,(AK10*((LOG(AK10))/LOG(2))))","v":-0.53063906222956647},null,{"$f":"N10","v":122},{"$f":"COUNTIF(L40:L48,AN10)","v":1},{"$f":"AO10/(AQ4-AO11)","v":0.1111111111111111},{"$f":"IF(AP10=0,0,(AP10*((LOG(AP10))/LOG(2))))","v":-0.3522138890491458},null,{"$f":"N10","v":122},{"$f":"COUNTIF(L49:L56,AS10)","v":5},{"$f":"AT10/(AV4-AT11)","v":0.625},{"$f":"IF(AU10=0,0,(AU10*((LOG(AU10))/LOG(2))))","v":-0.42379494069539858}]
[12,528,24,552,24,560,null,null,null,null,0,122,null,211,{"$f":"COUNTIF($L$7:$L$500,N11)","v":0},{"$f":"O11/$Q$4","v":0},{"$f":"IF(P11=0,0,(P11*((LOG(P11))/LOG(2))))","v":0},null,null,{"$f":"N11","v":211},{"$f":"COUNTIF(L7:L14,T11)","v":0},null,null,null,{"$f":"N11","v":211},{"$f":"COUNTIF(L15:L23,Y11)","v":0},null,null,null,{"$f":"N11","v":211},{"$f":"COUNTIF(L24:L31,AD11)","v":0},null,null,null,{"$f":"N11","v":211},{"$f":"COUNTIF(L32:L39,AI11)","v":0},null,null,null,{"$f":"N11","v":211},{"$f":"COUNTIF(L40:L48,AN11)","v":0},null,null,null,{"$f":"N11","v":211},{"$f":"COUNTIF(L49:L56,AS11)","v":0}]
[21,693,22,702,24,712,null,null,null,null,0,222,null,212,{"$f":"COUNTIF($L$7:$L$500,N12)","v":0},{"$f":"O12/$Q$4","v":0},{"$f":"IF(P12=0,0,(P12*((LOG(P12))/LOG(2))))","v":0},null,null,{"$f":"N12","v":212},{"$f":"COUNTIF(L7:L14,T12)","v":0},{"$f":"U12/(W4-U11)","v":0},{"$f":"IF(V12=0,0,(V12*((LOG(V12))/LOG(2))))","v":0},null,{"$f":"N12","v":212},{"$f":"COUNTIF(L15:L23,Y12)","v":0},{"$f":"Z12/(AB4-Z11)","v":0},{"$f":"IF(AA12=0,0,(AA12*((LOG(AA12))/LOG(2))))","v":0},null,{"$f":"N12","v":212},{"$f":"COUNTIF(L24:L31,AD12)","v":0},{"$f":"AE12/(AG4-AE11)","v":0},{"$f":"IF(AF12=0,0,(AF12*((LOG(AF12))/LOG(2))))","v":0},null,{"$f":"N12","v":212},{"$f":"COUNTIF(L32:L39,AI12)","v":0},{"$f":"AJ12/(AL4-AJ11)","v":0},{"$f":"IF(AK12=0,0,(AK12*((LOG(AK12))/LOG(2))))","v":0},null,{"$f":"N12","v":212},{"$f":"COUNTIF(L40:L48,AN12)","v":0},{"$f":"AO12/(AQ4-AO11)","v":0},{"$f":"IF(AP12=0,0,(AP12*((LOG(AP12))/LOG(2))))","v":0},null,{"$f":"N12","v":212},{"$f":"COUNTIF(L49:L56,AS12)","v":0},{"$f":"AT12/(AV4-AT11)","v":0},{"$f":"IF(AU12=0,0,(AU12*((LOG(AU12))/LOG(2))))","v":0}]
[12,814,24,836,24,874,null,null,null,null,0,122,null,221,{"$f":"COUNTIF($L$7:$L$500,N13)","v":2},{"$f":"O13/$Q$4","v":0.04},{"$f":"IF(P13=0,0,(P13*((LOG(P13))/LOG(2))))","v":-0.18575424759098899},null,null,{"$f":"N13","v":221},{"$f":"COUNTIF(L7:L14,T13)","v":0},{"$f":"U13/(W4-U11)","v":0},{"$f":"IF(V13=0,0,(V13*((LOG(V13))/LOG(2))))","v":0},null,{"$f":"N13","v":221},{"$f":"COUNTIF(L15:L23,Y13)","v":1},{"$f":"Z13/(AB4-Z11)","v":0.1111111111111111},{"$f":"IF(AA13=0,0,(AA13*((LOG(AA13))/LOG(2))))","v":-0.3522138890491458},null,{"$f":"N13","v":221},{"$f":"COUNTIF(L24:L31,AD13)","v":0},{"$f":"AE13/(AG4-AE11)","v":0},{"$f":"IF(AF13=0,0,(AF13*((LOG(AF13))/LOG(2))))","v":0},null,{"$f":"N13","v":221},{"$f":"COUNTIF(L32:L39,AI13)","v":0},{"$f":"AJ13/(AL4-AJ11)","v":0},{"$f":"IF(AK13=0,0,(AK13*((LOG(AK13))/LOG(2))))","v":0},null,{"$f":"N13","v":221},{"$f":"COUNTIF(L40:L48,AN13)","v":0},{"$f":"AO13/(AQ4-AO11)","v":0},{"$f":"IF(AP13=0,0,(AP13*((LOG(AP13))/LOG(2))))","v":0},null,{"$f":"N13","v":221},{"$f":"COUNTIF(L49:L56,AS13)","v":1},{"$f":"AT13/(AV4-AT11)","v":0.125},{"$f":"IF(AU13=0,0,(AU13*((LOG(AU13))/LOG(2))))","v":-0.375}]
[12,1332,13,1338,24,1364,null,null,null,null,0,112,null,222,{"$f":"COUNTIF($L$7:$L$500,N14)","v":9},{"$f":"O14/$Q$4","v":0.18},{"$f":"IF(P14=0,0,(P14*((LOG(P14))/LOG(2))))","v":-0.44530761389983425},null,null,{"$f":"N14","v":222},{"$f":"COUNTIF(L7:L14,T14)","v":3},{"$f":"U14/(W4-U11)","v":0.375},{"$f":"IF(V14=0,0,(V14*((LOG(V14))/LOG(2))))","v":-0.53063906222956647},null,{"$f":"N14","v":222},{"$f":"COUNTIF(L15:L23,Y14)","v":3},{"$f":"Z14/(AB4-Z11)","v":0.33333333333333331},{"$f":"IF(AA14=0,0,(AA14*((LOG(AA14))/LOG(2))))","v":-0.52832083357371862},null,{"$f":"N14","v":222},{"$f":"COUNTIF(L24:L31,AD14)","v":1},{"$f":"AE14/(AG4-AE11)","v":0.125},{"$f":"IF(AF14=0,0,(AF14*((LOG(AF14))/LOG(2))))","v":-0.375},null,{"$f":"N14","v":222},{"$f":"COUNTIF(L32:L39,AI14)","v":0},{"$f":"AJ14/(AL4-AJ11)","v":0},{"$f":"IF(AK14=0,0,(AK14*((LOG(AK14))/LOG(2))))","v":0},null,{"$f":"N14","v":222},{"$f":"COUNTIF(L40:L48,AN14)","v":1},{"$f":"AO14/(AQ4-AO11)","v":0.1111111111111111},{"$f":"IF(AP14=0,0,(AP14*((LOG(AP14))/LOG(2))))","v":-0.3522138890491458},null,{"$f":"N14","v":222},{"$f":"COUNTIF(L49:L56,AS14)","v":1},{"$f":"AT14/(AV4-AT11)","v":0.125},{"$f":"IF(AU14=0,0,(AU14*((LOG(AU14))/LOG(2))))","v":-0.375}]
[12,1642,13,1645,13,1651,null,null,null,null,0,111,null,null,null,{"$f":"SUM(P7:P14)","v":1},{"$f":"-SUM(Q7:Q14)","v":2.0974729453138643},null,null,null,null,{"$f":"SUM(V7:V14)","v":1},{"$f":"-SUM(W7:W14)","v":1.8112781244591329},null,null,null,{"$f":"SUM(AA7:AA14)","v":1},{"$f":"-SUM(AB7:AB14)","v":2.1971597234241491},null,null,null,{"$f":"SUM(AF7:AF14)","v":1},{"$f":"-SUM(AG7:AG14)","v":1.8112781244591329},null,null,null,{"$f":"SUM(AK7:AK14)","v":1},{"$f":"-SUM(AL7:AL14)","v":1.5612781244591329},null,null,null,{"$f":"SUM(AP7:AP14)","v":1},{"$f":"-SUM(AQ7:AQ14)","v":1.4466166676282082},null,null,null,{"$f":"SUM(AU7:AU14)","v":1},{"$f":"-SUM(AV7:AV14)","v":1.5487949406953985}]
[21,1760,22,1769,24,1783,null,null,null,null,0,222,null,null,null,"U=",{"$f":"Q15/(LOG(Q4)/LOG(2))","v":0.37163826908169062},null,null,null,null,"U1=",{"$f":"W15/(LOG(W4)/LOG(2))","v":0.60375937481971098},null,null,null,"U2=",{"$f":"AB15/(LOG(AB4)/LOG(2))","v":0.69312672142856502},null,null,null,"U3=",{"$f":"AG15/(LOG(AG4)/LOG(2))","v":0.60375937481971098},null,null,null,"U4=",{"$f":"AL15/(LOG(AL4)/LOG(2))","v":0.52042604148637761},null,null,null,"U5=",{"$f":"AQ15/(LOG(AQ4)/LOG(2))","v":0.45635674880951421},null,null,null,"U6=",{"$f":"AV15/(LOG(AV4)/LOG(2))","v":0.51626498023179945}]
[21,1894,22,1901,24,1909,null,null,null,null,0,222]
[21,2031,22,2040,13,2065,null,null,null,null,0,221]
[12,2673,13,2677,24,2706,null,null,null,null,0,112,null,"Total Target Seq"]
[12,2808,24,2827,24,2835,null,null,null,null,0,122,null,{"$f":"COUNTIF(L7:L56,G3)","v":0},null,8,9,8,8,9,8]
[12,2939,13,2951,24,2974,null,null,null,null,0,112,null,null,null,"% of reinforcement given in 6 equal intervals based on number of trials "]
[21,3084,22,3091,24,3099,null,null,null,null,0,222,null,null,null,"%_1","%_2","%_3","%_4","%_5","%_6"]
[12,3252,24,3282,24,3291,null,null,null,null,0,122,null,null,"target sequence",{"$f":"$G$3","v":211},{"$f":"$G$3","v":211},{"$f":"$G$3","v":211},{"$f":"$G$3","v":211},{"$f":"$G$3","v":211},{"$f":"$G$3","v":211}]
[12,3408,24,3422,24,3429,null,null,null,null,0,122,null,null,"total reinforcement",{"$f":"U11","v":0},{"$f":"Z11","v":0},{"$f":"AE11","v":0},{"$f":"AJ11","v":0},{"$f":"AO11","v":0},{"$f":"AT11","v":0}]
[12,3546,13,3577,13,3588,null,null,null,null,0,111,null,null,"% target"]
[21,3705,22,3713,24,3724,null,null,null,null,0,222,null,null,"CCRF"]
[12,3837,24,3850,24,3858,null,null,null,null,0,122,null,null,"% CCRf"]
[12,3952,13,3964,24,3992,null,null,null,null,0,112,null,null,"average response rate",{"$f":"F14/P20","v":170.5},{"$f":"(F23-F14)/Q20","v":214.11111111111111},{"$f":"(F31-F23)/R20","v":152.125},{"$f":"(F39-F31)/S20","v":134.625},{"$f":"(F48-F39)/T20","v":202.11111111111111},{"$f":"(F56-F48)/U20","v":1722.125}]
[12,4091,13,4099,13,4108,null,null,null,null,0,111]
[12,4326,13,4333,13,4364,null,null,null,null,0,111]
[12,4477,24,4502,24,4508,null,null,null,null,0,122]
[12,4604,24,4622,24,4630,null,null,null,null,0,122]
[12,4733,24,4752,24,4759,null,null,null,null,0,122]
[12,4856,13,4863,13,4889,null,null,null,null,0,111]
[12,5007,13,5015,24,5031,null,null,null,null,0,112]
[12,5127,13,5132,13,5135,null,null,null,null,0,111]
[12,5266,13,5271,24,5288,null,null,null,null,0,112]
[12,5419,24,5431,24,5440,null,null,null,null,0,122]
[12,5558,13,5565,24,5585,null,null,null,null,0,112]
[12,5703,13,5710,24,5737,null,null,null,null,0,112]
[12,5915,13,5929,24,5952,null,null,null,null,0,112]
[12,6058,13,6066,24,6089,null,null,null,null,0,112]
[12,6198,13,6215,24,6256,null,null,null,null,0,112]
[21,6565,22,6574,24,6586,null,null,null,null,0,222]
[12,6682,24,6719,24,6728,null,null,null,null,0,122]
[12,6824,13,6835,24,6863,null,null,null,null,0,112]
[12,7261,13,7270,24,7291,null,null,null,null,0,112]
[12,7390,13,7398,13,7404,null,null,null,null,0,111]
[12,7537,24,7554,24,7564,null,null,null,null,0,122]
[12,17775,24,17792,24,17800,null,null,null,null,0,122]
[12,17936,24,17953,24,17961,null,null,null,null,0,122]
[12,18402,24,18421,24,18431,null,null,null,null,0,122]
[21,19824,22,19850,24,19862,null,null,null,null,0,222]
[12,20137,13,20142,24,20159,null,null,null,null,0,112]
[21,20959,22,20968,13,20992,null,null,null,null,0,221]
[12,21146,24,21171,24,21181,null,null,null,null,0,122]

{"sheet":"!L826A1B.axt","index":10,"n_rows":72,"n_cols":48,"rows_kept":72,"cut":false,"hidden":false,"merged":[[4,39,4,42],[5,39,5,40],[4,44,4,47],[5,44,5,45],[4,24,4,27],[5,24,5,25],[4,29,4,32],[5,29,5,30],[4,34,4,37],[5,34,5,35],[1,1,1,2],[5,13,5,14],[18,13,18,14],[19,13,19,14],[4,19,4,22],[5,19,5,20]]}
["Report for:!L826A1B.axt"]
["Date:","<date>"]
["Hen:","<hen>",null,null,null,"Correct Sequence",{"$f":"Start!J2","v":211},null,null,null,null,null,null,null,null,"Total Sequences in Data",{"$f":"4994-COUNTBLANK(L7:L5000)","v":66},null,null,null,null,"Total Sequences in Block Data",{"$f":"COUNTA(L7:L17)","v":11},null,null,null,"Total Sequences in Block Data",{"$f":"COUNTA(L18:L28)","v":11},null,null,null,"Total Sequences in Block Data",{"$f":"COUNTA(L29:L39)","v":11},null,null,null,"Total Sequences in Block Data",{"$f":"COUNTA(L40:L50)","v":11},null,null,null,"Total Sequences in Block Data",{"$f":"COUNTA(L51:L61)","v":11},null,null,null,"Total Sequences in Block Data",{"$f":"COUNTA(L62:L72)","v":11}]
[null,null,null,null,null,null,null,null,null,null,null,null,null,null,null,"Total Sequences in Summary",{"$f":"SUM(O7:O14)","v":66},null,null,null,null,"Total Sequences in Block Summary",{"$f":"SUM(U7:U14)","v":11},null,null,null,"Total Sequences in Block Summary",{"$f":"SUM(Z7:Z14)","v":11},null,null,null,"Total Sequences in Block Summary",{"$f":"SUM(AE7:AE14)","v":11},null,null,null,"Total Sequences in Block Summary",{"$f":"SUM(AJ7:AJ14)","v":11},null,null,null,"Total Sequences in Block Summary",{"$f":"SUM(AO7:AO14)","v":11},null,null,null,"Total Sequences in Block Summary",{"$f":"SUM(AT7:AT14)","v":11}]
[null,null,null,null,null,null,null,null,null,null,null,null,null,null,null,null,null,null,null,"Block 1",null,null,null,null,"Block 2",null,null,null,null,"Block 3",null,null,null,null,"Block 4",null,null,null,null,"Block 5",null,null,null,null,"Block 6"]
["Sequence\nComponent\n1","Time\n1","Sequence\nComponent\n2","Time\n2","Sequence\nComponent\n3","Time\n3","Sequence\nComponent\n4","Time\n4","Sequence\nComponent\n5","Time\n5","Correct?\n0=No 1=Yes","Sequence",null,"Frequency",null,"Relative Frequency","Variability",null,null,"Frequency",null,"Relative Frequency","Variability",null,"Frequency",null,"Relative Frequency","Variability",null,"Frequency",null,"Relative Frequency","Variability",null,"Frequency",null,"Relative Frequency","Variability",null,"Frequency",null,"Relative Frequency","Variability",null,"Frequency",null,"Relative Frequency","Variability"]
[12,13,24,31,24,39,null,null,null,null,0,122,null,111,{"$f":"COUNTIF($L$7:$L$500,N7)","v":17},{"$f":"O7/$Q$4","v":0.25757575757575757},{"$f":"IF(P7=0,0,(P7*((LOG(P7))/LOG(2))))","v":-0.50405805648239299},null,null,{"$f":"N7","v":111},{"$f":"COUNTIF(L7:L17,T7)","v":2},{"$f":"U7/(W4-U11)","v":0.18181818181818182},{"$f":"IF(V7=0,0,(V7*((LOG(V7))/LOG(2))))","v":-0.44716938520678134},null,{"$f":"N7","v":111},{"$f":"COUNTIF(L18:L28,Y7)","v":2},{"$f":"Z7/(AB4-Z11)","v":0.18181818181818182},{"$f":"IF(AA7=0,0,(AA7*((LOG(AA7))/LOG(2))))","v":-0.44716938520678134},null,{"$f":"N7","v":111},{"$f":"COUNTIF(L29:L39,AD7)","v":0},{"$f":"AE7/(AG4-AE11)","v":0},{"$f":"IF(AF7=0,0,(AF7*((LOG(AF7))/LOG(2))))","v":0},null,{"$f":"N7","v":111},{"$f":"COUNTIF(L40:L50,AI7)","v":4},{"$f":"AJ7/(AL4-AJ11)","v":0.36363636363636365},{"$f":"IF(AK7=0,0,(AK7*((LOG(AK7))/LOG(2))))","v":-0.53070240677719893},null,{"$f":"N7","v":111},{"$f":"COUNTIF(L51:L61,AN7)","v":5},{"$f":"AO7/(AQ4-AO11)","v":0.45454545454545453},{"$f":"IF(AP7=0,0,(AP7*((LOG(AP7))/LOG(2))))","v":-0.51704705624997038},null,{"$f":"N7","v":111},{"$f":"COUNTIF(L62:L72,AS7)","v":4},{"$f":"AT7/(AV4-AT11)","v":0.36363636363636365},{"$f":"IF(AU7=0,0,(AU7*((LOG(AU7))/LOG(2))))","v":-0.53070240677719893}]
[12,132,24,160,24,168,null,null,null,null,0,122,null,112,{"$f":"COUNTIF($L$7:$L$500,N8)","v":22},{"$f":"O8/$Q$4","v":0.33333333333333331},{"$f":"IF(P8=0,0,(P8*((LOG(P8))/LOG(2))))","v":-0.52832083357371862},null,null,{"$f":"N8","v":112},{"$f":"COUNTIF(L7:L17,T8)","v":3},{"$f":"U8/(W4-U11)","v":0.27272727272727271},{"$f":"IF(V8=0,0,(V8*((LOG(V8))/LOG(2))))","v":-0.51121885034076575},null,{"$f":"N8","v":112},{"$f":"COUNTIF(L18:L28,Y8)","v":5},{"$f":"Z8/(AB4-Z11)","v":0.45454545454545453},{"$f":"IF(AA8=0,0,(AA8*((LOG(AA8))/LOG(2))))","v":-0.51704705624997038},null,{"$f":"N8","v":112},{"$f":"COUNTIF(L29:L39,AD8)","v":4},{"$f":"AE8/(AG4-AE11)","v":0.4},{"$f":"IF(AF8=0,0,(AF8*((LOG(AF8))/LOG(2))))","v":-0.52877123795494496},null,{"$f":"N8","v":112},{"$f":"COUNTIF(L40:L50,AI8)","v":3},{"$f":"AJ8/(AL4-AJ11)","v":0.27272727272727271},{"$f":"IF(AK8=0,0,(AK8*((LOG(AK8))/LOG(2))))","v":-0.51121885034076575},null,{"$f":"N8","v":112},{"$f":"COUNTIF(L51:L61,AN8)","v":3},{"$f":"AO8/(AQ4-AO11)","v":0.27272727272727271},{"$f":"IF(AP8=0,0,(AP8*((LOG(AP8))/LOG(2))))","v":-0.51121885034076575},null,{"$f":"N8","v":112},{"$f":"COUNTIF(L62:L72,AS8)","v":4},{"$f":"AT8/(AV4-AT11)","v":0.36363636363636365},{"$f":"IF(AU8=0,0,(AU8*((LOG(AU8))/LOG(2))))","v":-0.53070240677719893}]
[12,276,13,284,13,300,null,null,null,null,0,111,null,121,{"$f":"COUNTIF($L$7:$L$500,N9)","v":0},{"$f":"O9/$Q$4","v":0},{"$f":"IF(P9=0,0,(P9*((LOG(P9))/LOG(2))))","v":0},null,null,{"$f":"N9","v":121},{"$f":"COUNTIF(L7:L17,T9)","v":0},{"$f":"U9/(W4-U11)","v":0},{"$f":"IF(V9=0,0,(V9*((LOG(V9))/LOG(2))))","v":0},null,{"$f":"N9","v":121},{"$f":"COUNTIF(L18:L28,Y9)","v":0},{"$f":"Z9/(AB4-Z11)","v":0},{"$f":"IF(AA9=0,0,(AA9*((LOG(AA9))/LOG(2))))","v":0},null,{"$f":"N9","v":121},{"$f":"COUNTIF(L29:L39,AD9)","v":0},{"$f":"AE9/(AG4-AE11)","v":0},{"$f":"IF(AF9=0,0,(AF9*((LOG(AF9))/LOG(2))))","v":0},null,{"$f":"N9","v":121},{"$f":"COUNTIF(L40:L50,AI9)","v":0},{"$f":"AJ9/(AL4-AJ11)","v":0},{"$f":"IF(AK9=0,0,(AK9*((LOG(AK9))/LOG(2))))","v":0},null,{"$f":"N9","v":121},{"$f":"COUNTIF(L51:L61,AN9)","v":0},{"$f":"AO9/(AQ4-AO11)","v":0},{"$f":"IF(AP9=0,0,(AP9*((LOG(AP9))/LOG(2))))","v":0},null,{"$f":"N9","v":121},{"$f":"COUNTIF(L62:L72,AS9)","v":0},{"$f":"AT9/(AV4-AT11)","v":0},{"$f":"IF(AU9=0,0,(AU9*((LOG(AU9))/LOG(2))))","v":0}]
[12,780,24,795,24,802,null,null,null,null,0,122,null,122,{"$f":"COUNTIF($L$7:$L$500,N10)","v":21},{"$f":"O10/$Q$4","v":0.31818181818181818},{"$f":"IF(P10=0,0,(P10*((LOG(P10))/LOG(2))))","v":-0.52566076709353871},null,null,{"$f":"N10","v":122},{"$f":"COUNTIF(L7:L17,T10)","v":5},{"$f":"U10/(W4-U11)","v":0.45454545454545453},{"$f":"IF(V10=0,0,(V10*((LOG(V10))/LOG(2))))","v":-0.51704705624997038},null,{"$f":"N10","v":122},{"$f":"COUNTIF(L18:L28,Y10)","v":3},{"$f":"Z10/(AB4-Z11)","v":0.27272727272727271},{"$f":"IF(AA10=0,0,(AA10*((LOG(AA10))/LOG(2))))","v":-0.51121885034076575},null,{"$f":"N10","v":122},{"$f":"COUNTIF(L29:L39,AD10)","v":6},{"$f":"AE10/(AG4-AE11)","v":0.6},{"$f":"IF(AF10=0,0,(AF10*((LOG(AF10))/LOG(2))))","v":-0.44217935649972373},null,{"$f":"N10","v":122},{"$f":"COUNTIF(L40:L50,AI10)","v":3},{"$f":"AJ10/(AL4-AJ11)","v":0.27272727272727271},{"$f":"IF(AK10=0,0,(AK10*((LOG(AK10))/LOG(2))))","v":-0.51121885034076575},null,{"$f":"N10","v":122},{"$f":"COUNTIF(L51:L61,AN10)","v":2},{"$f":"AO10/(AQ4-AO11)","v":0.18181818181818182},{"$f":"IF(AP10=0,0,(AP10*((LOG(AP10))/LOG(2))))","v":-0.44716938520678134},null,{"$f":"N10","v":122},{"$f":"COUNTIF(L62:L72,AS10)","v":2},{"$f":"AT10/(AV4-AT11)","v":0.18181818181818182},{"$f":"IF(AU10=0,0,(AU10*((LOG(AU10))/LOG(2))))","v":-0.44716938520678134}]
[12,908,13,916,24,930,null,null,null,null,0,112,null,211,{"$f":"COUNTIF($L$7:$L$500,N11)","v":1},{"$f":"O11/$Q$4","v":1.5151515151515152E-2},{"$f":"IF(P11=0,0,(P11*((LOG(P11))/LOG(2))))","v":-9.1581729081188695E-2},null,null,{"$f":"N11","v":211},{"$f":"COUNTIF(L7:L17,T11)","v":0},null,null,null,{"$f":"N11","v":211},{"$f":"COUNTIF(L18:L28,Y11)","v":0},null,null,null,{"$f":"N11","v":211},{"$f":"COUNTIF(L29:L39,AD11)","v":1},null,null,null,{"$f":"N11","v":211},{"$f":"COUNTIF(L40:L50,AI11)","v":0},null,null,null,{"$f":"N11","v":211},{"$f":"COUNTIF(L51:L61,AN11)","v":0},null,null,null,{"$f":"N11","v":211},{"$f":"COUNTIF(L62:L72,AS11)","v":0}]
[12,1319,24,1342,24,1352,null,null,null,null,0,122,null,212,{"$f":"COUNTIF($L$7:$L$500,N12)","v":0},{"$f":"O12/$Q$4","v":0},{"$f":"IF(P12=0,0,(P12*((LOG(P12))/LOG(2))))","v":0},null,null,{"$f":"N12","v":212},{"$f":"COUNTIF(L7:L17,T12)","v":0},{"$f":"U12/(W4-U11)","v":0},{"$f":"IF(V12=0,0,(V12*((LOG(V12))/LOG(2))))","v":0},null,{"$f":"N12","v":212},{"$f":"COUNTIF(L18:L28,Y12)","v":0},{"$f":"Z12/(AB4-Z11)","v":0},{"$f":"IF(AA12=0,0,(AA12*((LOG(AA12))/LOG(2))))","v":0},null,{"$f":"N12","v":212},{"$f":"COUNTIF(L29:L39,AD12)","v":0},{"$f":"AE12/(AG4-AE11)","v":0},{"$f":"IF(AF12=0,0,(AF12*((LOG(AF12))/LOG(2))))","v":0},null,{"$f":"N12","v":212},{"$f":"COUNTIF(L40:L50,AI12)","v":0},{"$f":"AJ12/(AL4-AJ11)","v":0},{"$f":"IF(AK12=0,0,(AK12*((LOG(AK12))/LOG(2))))","v":0},null,{"$f":"N12","v":212},{"$f":"COUNTIF(L51:L61,AN12)","v":0},{"$f":"AO12/(AQ4-AO11)","v":0},{"$f":"IF(AP12=0,0,(AP12*((LOG(AP12))/LOG(2))))","v":0},null,{"$f":"N12","v":212},{"$f":"COUNTIF(L62:L72,AS12)","v":0},{"$f":"AT12/(AV4-AT11)","v":0},{"$f":"IF(AU12=0,0,(AU12*((LOG(AU12))/LOG(2))))","v":0}]
[12,1446,24,1473,24,1482,null,null,null,null,0,122,null,221,{"$f":"COUNTIF($L$7:$L$500,N13)","v":1},{"$f":"O13/$Q$4","v":1.5151515151515152E-2},{"$f":"IF(P13=0,0,(P13*((LOG(P13))/LOG(2))))","v":-9.1581729081188695E-2},null,null,{"$f":"N13","v":221},{"$f":"COUNTIF(L7:L17,T13)","v":0},{"$f":"U13/(W4-U11)","v":0},{"$f":"IF(V13=0,0,(V13*((LOG(V13))/LOG(2))))","v":0},null,{"$f":"N13","v":221},{"$f":"COUNTIF(L18:L28,Y13)","v":0},{"$f":"Z13/(AB4-Z11)","v":0},{"$f":"IF(AA13=0,0,(AA13*((LOG(AA13))/LOG(2))))","v":0},null,{"$f":"N13","v":221},{"$f":"COUNTIF(L29:L39,AD13)","v":0},{"$f":"AE13/(AG4-AE11)","v":0},{"$f":"IF(AF13=0,0,(AF13*((LOG(AF13))/LOG(2))))","v":0},null,{"$f":"N13","v":221},{"$f":"COUNTIF(L40:L50,AI13)","v":1},{"$f":"AJ13/(AL4-AJ11)","v":9.0909090909090912E-2},{"$f":"IF(AK13=0,0,(AK13*((LOG(AK13))/LOG(2))))","v":-0.31449378351248153},null,{"$f":"N13","v":221},{"$f":"COUNTIF(L51:L61,AN13)","v":0},{"$f":"AO13/(AQ4-AO11)","v":0},{"$f":"IF(AP13=0,0,(AP13*((LOG(AP13))/LOG(2))))","v":0},null,{"$f":"N13","v":221},{"$f":"COUNTIF(L62:L72,AS13)","v":0},{"$f":"AT13/(AV4-AT11)","v":0},{"$f":"IF(AU13=0,0,(AU13*((LOG(AU13))/LOG(2))))","v":0}]
[21,1607,22,1615,24,1622,null,null,null,null,0,222,null,222,{"$f":"COUNTIF($L$7:$L$500,N14)","v":4},{"$f":"O14/$Q$4","v":6.0606060606060608E-2},{"$f":"IF(P14=0,0,(P14*((LOG(P14))/LOG(2))))","v":-0.24511479511263354},null,null,{"$f":"N14","v":222},{"$f":"COUNTIF(L7:L17,T14)","v":1},{"$f":"U14/(W4-U11)","v":9.0909090909090912E-2},{"$f":"IF(V14=0,0,(V14*((LOG(V14))/LOG(2))))","v":-0.31449378351248153},null,{"$f":"N14","v":222},{"$f":"COUNTIF(L18:L28,Y14)","v":1},{"$f":"Z14/(AB4-Z11)","v":9.0909090909090912E-2},{"$f":"IF(AA14=0,0,(AA14*((LOG(AA14))/LOG(2))))","v":-0.31449378351248153},null,{"$f":"N14","v":222},{"$f":"COUNTIF(L29:L39,AD14)","v":0},{"$f":"AE14/(AG4-AE11)","v":0},{"$f":"IF(AF14=0,0,(AF14*((LOG(AF14))/LOG(2))))","v":0},null,{"$f":"N14","v":222},{"$f":"COUNTIF(L40:L50,AI14)","v":0},{"$f":"AJ14/(AL4-AJ11)","v":0},{"$f":"IF(AK14=0,0,(AK14*((LOG(AK14))/LOG(2))))","v":0},null,{"$f":"N14","v":222},{"$f":"COUNTIF(L51:L61,AN14)","v":1},{"$f":"AO14/(AQ4-AO11)","v":9.0909090909090912E-2},{"$f":"IF(AP14=0,0,(AP14*((LOG(AP14))/LOG(2))))","v":-0.31449378351248153},null,{"$f":"N14","v":222},{"$f":"COUNTIF(L62:L72,AS14)","v":1},{"$f":"AT14/(AV4-AT11)","v":9.0909090909090912E-2},{"$f":"IF(AU14=0,0,(AU14*((LOG(AU14))/LOG(2))))","v":-0.31449378351248153}]
[12,1940,13,1951,24,1957,null,null,null,null,0,112,null,null,null,{"$f":"SUM(P7:P14)","v":0.99999999999999978},{"$f":"-SUM(Q7:Q14)","v":1.9863179104246611},null,null,null,null,{"$f":"SUM(V7:V14)","v":1},{"$f":"-SUM(W7:W14)","v":1.7899290753099988},null,null,null,{"$f":"SUM(AA7:AA14)","v":1},{"$f":"-SUM(AB7:AB14)","v":1.789929075309999},null,null,null,{"$f":"SUM(AF7:AF14)","v":1},{"$f":"-SUM(AG7:AG14)","v":0.97095059445466869},null,null,null,{"$f":"SUM(AK7:AK14)","v":1},{"$f":"-SUM(AL7:AL14)","v":1.8676338909712118},null,null,null,{"$f":"SUM(AP7:AP14)","v":1},{"$f":"-SUM(AQ7:AQ14)","v":1.7899290753099988},null,null,null,{"$f":"SUM(AU7:AU14)","v":1},{"$f":"-SUM(AV7:AV14)","v":1.8230679822736606}]
[12,2061,13,2069,24,2091,null,null,null,null,0,112,null,null,null,"U=",{"$f":"Q15/(LOG(Q4)/LOG(2))","v":0.32862150799582324},null,null,null,null,"U1=",{"$f":"W15/(LOG(W4)/LOG(2))","v":0.51740553727582239},null,null,null,"U2=",{"$f":"AB15/(LOG(AB4)/LOG(2))","v":0.51740553727582239},null,null,null,"U3=",{"$f":"AG15/(LOG(AG4)/LOG(2))","v":0.28066766494928874},null,null,null,"U4=",{"$f":"AL15/(LOG(AL4)/LOG(2))","v":0.5398672663189944},null,null,null,"U5=",{"$f":"AQ15/(LOG(AQ4)/LOG(2))","v":0.51740553727582239},null,null,null,"U6=",{"$f":"AV15/(LOG(AV4)/LOG(2))","v":0.52698482966163784}]
[12,2186,13,2193,13,2196,null,null,null,null,0,111]
[12,2304,13,2312,24,2329,null,null,null,null,0,112]
[12,2434,13,2443,24,2460,null,null,null,null,0,112,null,"Total Target Seq"]
[12,2552,13,2567,24,2585,null,null,null,null,0,112,null,{"$f":"COUNTIF(L7:L72,G3)","v":1},null,11,11,11,11,11,11]
[12,2679,13,2688,13,2733,null,null,null,null,0,111,null,null,null,"% of reinforcement given in 6 equal intervals based on number of trials "]
[12,2843,24,2858,24,2866,null,null,null,null,0,122,null,null,null,"%_1","%_2","%_3","%_4","%_5","%_6"]
[12,2958,24,2983,24,2991,null,null,null,null,0,122,null,null,"target sequence",{"$f":"$G$3","v":211},{"$f":"$G$3","v":211},{"$f":"$G$3","v":211},{"$f":"$G$3","v":211},{"$f":"$G$3","v":211},{"$f":"$G$3","v":211}]
[12,3114,24,3136,24,3144,null,null,null,null,0,122,null,null,"total reinforcement",{"$f":"U11","v":0},{"$f":"Z11","v":0},{"$f":"AE11","v":1},{"$f":"AJ11","v":0},{"$f":"AO11","v":0},{"$f":"AT11","v":0}]
[12,3248,13,3251,13,3258,null,null,null,null,0,111,null,null,"% target"]
[12,3388,13,3399,24,3410,null,null,null,null,0,112,null,null,"CCRF"]
[21,3530,22,3537,24,3555,null,null,null,null,0,222,null,null,"% CCRf"]
[12,3708,13,3713,24,3727,null,null,null,null,0,112,null,null,"average response rate",{"$f":"F17/P20","v":199.63636363636363},{"$f":"(F28-F17)/Q20","v":139.18181818181819},{"$f":"(F39-F28)/R20","v":150.81818181818181},{"$f":"(F50-F39)/S20","v":196.09090909090909},{"$f":"(F61-F50)/T20","v":147.81818181818181},{"$f":"(F72-F61)/U20","v":191}]
[12,3831,24,3859,24,3866,null,null,null,null,0,122]
[12,3982,13,3987,24,4015,null,null,null,null,0,112]
[12,4142,13,4152,24,4172,null,null,null,null,0,112]
[12,4277,24,4317,24,4327,null,null,null,null,0,122]
[12,4449,24,4465,24,4473,null,null,null,null,0,122]
[12,4585,24,4608,24,4616,null,null,null,null,0,122]
[12,4722,13,4732,24,4750,null,null,null,null,0,112]
[12,4880,24,4894,24,4901,null,null,null,null,0,122]
[12,5023,13,5034,24,5054,null,null,null,null,0,112]
[12,5203,24,5227,24,5235,null,null,null,null,0,122]
[21,5354,11,5376,11,5386,null,null,null,null,0,211]
[12,5871,13,5876,24,5900,null,null,null,null,0,112]
[12,6005,24,6020,24,6030,null,null,null,null,0,122]
[12,6122,13,6124,13,6149,null,null,null,null,0,111]
[12,6244,24,6263,24,6282,null,null,null,null,0,122]
[12,6434,13,6443,24,6463,null,null,null,null,0,112]
[12,6566,13,6574,13,6577,null,null,null,null,0,111]
[12,6682,13,6693,13,6704,null,null,null,null,0,111]
[12,6815,13,6845,13,6855,null,null,null,null,0,111]
[21,6979,22,7023,13,7044,null,null,null,null,0,221]
[12,7385,13,7390,24,7411,null,null,null,null,0,112]
[12,7515,24,7534,24,7543,null,null,null,null,0,122]
[12,7666,24,7696,24,7704,null,null,null,null,0,122]
[12,7814,13,7821,13,7831,null,null,null,null,0,111]
[12,7936,13,7947,13,7973,null,null,null,null,0,111]
[12,8065,13,8086,13,8089,null,null,null,null,0,111]
[12,8197,13,8210,24,8231,null,null,null,null,0,112]
[12,8352,13,8374,13,8384,null,null,null,null,0,111]
[12,8485,13,8496,24,8528,null,null,null,null,0,112]
[12,8643,13,8655,13,8692,null,null,null,null,0,111]
[21,8808,22,8816,24,8825,null,null,null,null,0,222]
[12,8984,13,8991,24,9008,null,null,null,null,0,112]
[12,9121,24,9159,24,9169,null,null,null,null,0,122]
[12,9272,13,9306,13,9320,null,null,null,null,0,111]
[12,9417,13,9454,24,9464,null,null,null,null,0,112]
[21,9657,22,9667,24,9677,null,null,null,null,0,222]
[12,9776,13,9783,13,9792,null,null,null,null,0,111]
[12,9896,13,9931,13,9944,null,null,null,null,0,111]
[12,10066,13,10077,13,10079,null,null,null,null,0,111]
[12,10179,13,10191,24,10234,null,null,null,null,0,112]
[12,10399,13,10405,24,10421,null,null,null,null,0,112]
[12,10946,24,10964,24,10973,null,null,null,null,0,122]
[12,11074,13,11083,24,11102,null,null,null,null,0,112]
[12,11239,24,11262,24,11270,null,null,null,null,0,122]

{"sheet":"!L82784B.axt","index":11,"n_rows":58,"n_cols":48,"rows_kept":58,"cut":false,"hidden":false,"merged":[[4,39,4,42],[5,39,5,40],[4,44,4,47],[5,44,5,45],[4,24,4,27],[5,24,5,25],[4,29,4,32],[5,29,5,30],[4,34,4,37],[5,34,5,35],[1,1,1,2],[5,13,5,14],[18,13,18,14],[19,13,19,14],[4,19,4,22],[5,19,5,20]]}
["Report for:!L82784B.axt"]
["Date:","<date>"]
["Hen:","<hen>",null,null,null,"Correct Sequence",{"$f":"Start!J2","v":211},null,null,null,null,null,null,null,null,"Total Sequences in Data",{"$f":"4994-COUNTBLANK(L7:L5000)","v":52},null,null,null,null,"Total Sequences in Block Data",{"$f":"COUNTA(L7:L15)","v":9},null,null,null,"Total Sequences in Block Data",{"$f":"COUNTA(L16:L23)","v":8},null,null,null,"Total Sequences in Block Data",{"$f":"COUNTA(L24:L32)","v":9},null,null,null,"Total Sequences in Block Data",{"$f":"COUNTA(L33:L41)","v":9},null,null,null,"Total Sequences in Block Data",{"$f":"COUNTA(L42:L49)","v":8},null,null,null,"Total Sequences in Block Data",{"$f":"COUNTA(L50:L58)","v":9}]
[null,null,null,null,null,null,null,null,null,null,null,null,null,null,null,"Total Sequences in Summary",{"$f":"SUM(O7:O14)","v":52},null,null,null,null,"Total Sequences in Block Summary",{"$f":"SUM(U7:U14)","v":9},null,null,null,"Total Sequences in Block Summary",{"$f":"SUM(Z7:Z14)","v":8},null,null,null,"Total Sequences in Block Summary",{"$f":"SUM(AE7:AE14)","v":9},null,null,null,"Total Sequences in Block Summary",{"$f":"SUM(AJ7:AJ14)","v":9},null,null,null,"Total Sequences in Block Summary",{"$f":"SUM(AO7:AO14)","v":8},null,null,null,"Total Sequences in Block Summary",{"$f":"SUM(AT7:AT14)","v":9}]
[null,null,null,null,null,null,null,null,null,null,null,null,null,null,null,null,null,null,null,"Block 1",null,null,null,null,"Block 2",null,null,null,null,"Block 3",null,null,null,null,"Block 4",null,null,null,null,"Block 5",null,null,null,null,"Block 6"]
["Sequence\nComponent\n1","Time\n1","Sequence\nComponent\n2","Time\n2","Sequence\nComponent\n3","Time\n3","Sequence\nComponent\n4","Time\n4","Sequence\nComponent\n5","Time\n5","Correct?\n0=No 1=Yes","Sequence",null,"Frequency",null,"Relative Frequency","Variability",null,null,"Frequency",null,"Relative Frequency","Variability",null,"Frequency",null,"Relative Frequency","Variability",null,"Frequency",null,"Relative Frequency","Variability",null,"Frequency",null,"Relative Frequency","Variability",null,"Frequency",null,"Relative Frequency","Variability",null,"Frequency",null,"Relative Frequency","Variability"]
[12,20,13,52,13,55,null,null,null,null,0,111,null,111,{"$f":"COUNTIF($L$7:$L$500,N7)","v":20},{"$f":"O7/$Q$4","v":0.38461538461538464},{"$f":"IF(P7=0,0,(P7*((LOG(P7))/LOG(2))))","v":-0.53019677817451139},null,null,{"$f":"N7","v":111},{"$f":"COUNTIF(L7:L15,T7)","v":2},{"$f":"U7/(W4-U11)","v":0.22222222222222221},{"$f":"IF(V7=0,0,(V7*((LOG(V7))/LOG(2))))","v":-0.48220555587606945},null,{"$f":"N7","v":111},{"$f":"COUNTIF(L16:L23,Y7)","v":1},{"$f":"Z7/(AB4-Z11)","v":0.125},{"$f":"IF(AA7=0,0,(AA7*((LOG(AA7))/LOG(2))))","v":-0.375},null,{"$f":"N7","v":111},{"$f":"COUNTIF(L24:L32,AD7)","v":2},{"$f":"AE7/(AG4-AE11)","v":0.22222222222222221},{"$f":"IF(AF7=0,0,(AF7*((LOG(AF7))/LOG(2))))","v":-0.48220555587606945},null,{"$f":"N7","v":111},{"$f":"COUNTIF(L33:L41,AI7)","v":3},{"$f":"AJ7/(AL4-AJ11)","v":0.33333333333333331},{"$f":"IF(AK7=0,0,(AK7*((LOG(AK7))/LOG(2))))","v":-0.52832083357371862},null,{"$f":"N7","v":111},{"$f":"COUNTIF(L42:L49,AN7)","v":6},{"$f":"AO7/(AQ4-AO11)","v":0.75},{"$f":"IF(AP7=0,0,(AP7*((LOG(AP7))/LOG(2))))","v":-0.31127812445913283},null,{"$f":"N7","v":111},{"$f":"COUNTIF(L50:L58,AS7)","v":6},{"$f":"AT7/(AV4-AT11)","v":0.66666666666666663},{"$f":"IF(AU7=0,0,(AU7*((LOG(AU7))/LOG(2))))","v":-0.38997500048077083}]
[12,185,13,187,13,190,null,null,null,null,0,111,null,112,{"$f":"COUNTIF($L$7:$L$500,N8)","v":15},{"$f":"O8/$Q$4","v":0.28846153846153844},{"$f":"IF(P8=0,0,(P8*((LOG(P8))/LOG(2))))","v":-0.51736993919208862},null,null,{"$f":"N8","v":112},{"$f":"COUNTIF(L7:L15,T8)","v":2},{"$f":"U8/(W4-U11)","v":0.22222222222222221},{"$f":"IF(V8=0,0,(V8*((LOG(V8))/LOG(2))))","v":-0.48220555587606945},null,{"$f":"N8","v":112},{"$f":"COUNTIF(L16:L23,Y8)","v":2},{"$f":"Z8/(AB4-Z11)","v":0.25},{"$f":"IF(AA8=0,0,(AA8*((LOG(AA8))/LOG(2))))","v":-0.5},null,{"$f":"N8","v":112},{"$f":"COUNTIF(L24:L32,AD8)","v":3},{"$f":"AE8/(AG4-AE11)","v":0.33333333333333331},{"$f":"IF(AF8=0,0,(AF8*((LOG(AF8))/LOG(2))))","v":-0.52832083357371862},null,{"$f":"N8","v":112},{"$f":"COUNTIF(L33:L41,AI8)","v":3},{"$f":"AJ8/(AL4-AJ11)","v":0.33333333333333331},{"$f":"IF(AK8=0,0,(AK8*((LOG(AK8))/LOG(2))))","v":-0.52832083357371862},null,{"$f":"N8","v":112},{"$f":"COUNTIF(L42:L49,AN8)","v":2},{"$f":"AO8/(AQ4-AO11)","v":0.25},{"$f":"IF(AP8=0,0,(AP8*((LOG(AP8))/LOG(2))))","v":-0.5},null,{"$f":"N8","v":112},{"$f":"COUNTIF(L50:L58,AS8)","v":3},{"$f":"AT8/(AV4-AT11)","v":0.33333333333333331},{"$f":"IF(AU8=0,0,(AU8*((LOG(AU8))/LOG(2))))","v":-0.52832083357371862}]
[12,299,24,323,24,332,null,null,null,null,0,122,null,121,{"$f":"COUNTIF($L$7:$L$500,N9)","v":1},{"$f":"O9/$Q$4","v":1.9230769230769232E-2},{"$f":"IF(P9=0,0,(P9*((LOG(P9))/LOG(2))))","v":-0.10962384073348255},null,null,{"$f":"N9","v":121},{"$f":"COUNTIF(L7:L15,T9)","v":0},{"$f":"U9/(W4-U11)","v":0},{"$f":"IF(V9=0,0,(V9*((LOG(V9))/LOG(2))))","v":0},null,{"$f":"N9","v":121},{"$f":"COUNTIF(L16:L23,Y9)","v":1},{"$f":"Z9/(AB4-Z11)","v":0.125},{"$f":"IF(AA9=0,0,(AA9*((LOG(AA9))/LOG(2))))","v":-0.375},null,{"$f":"N9","v":121},{"$f":"COUNTIF(L24:L32,AD9)","v":0},{"$f":"AE9/(AG4-AE11)","v":0},{"$f":"IF(AF9=0,0,(AF9*((LOG(AF9))/LOG(2))))","v":0},null,{"$f":"N9","v":121},{"$f":"COUNTIF(L33:L41,AI9)","v":0},{"$f":"AJ9/(AL4-AJ11)","v":0},{"$f":"IF(AK9=0,0,(AK9*((LOG(AK9))/LOG(2))))","v":0},null,{"$f":"N9","v":121},{"$f":"COUNTIF(L42:L49,AN9)","v":0},{"$f":"AO9/(AQ4-AO11)","v":0},{"$f":"IF(AP9=0,0,(AP9*((LOG(AP9))/LOG(2))))","v":0},null,{"$f":"N9","v":121},{"$f":"COUNTIF(L50:L58,AS9)","v":0},{"$f":"AT9/(AV4-AT11)","v":0},{"$f":"IF(AU9=0,0,(AU9*((LOG(AU9))/LOG(2))))","v":0}]
[12,759,24,783,24,799,null,null,null,null,0,122,null,122,{"$f":"COUNTIF($L$7:$L$500,N10)","v":9},{"$f":"O10/$Q$4","v":0.17307692307692307},{"$f":"IF(P10=0,0,(P10*((LOG(P10))/LOG(2))))","v":-0.43797370096709648},null,null,{"$f":"N10","v":122},{"$f":"COUNTIF(L7:L15,T10)","v":3},{"$f":"U10/(W4-U11)","v":0.33333333333333331},{"$f":"IF(V10=0,0,(V10*((LOG(V10))/LOG(2))))","v":-0.52832083357371862},null,{"$f":"N10","v":122},{"$f":"COUNTIF(L16:L23,Y10)","v":3},{"$f":"Z10/(AB4-Z11)","v":0.375},{"$f":"IF(AA10=0,0,(AA10*((LOG(AA10))/LOG(2))))","v":-0.53063906222956647},null,{"$f":"N10","v":122},{"$f":"COUNTIF(L24:L32,AD10)","v":2},{"$f":"AE10/(AG4-AE11)","v":0.22222222222222221},{"$f":"IF(AF10=0,0,(AF10*((LOG(AF10))/LOG(2))))","v":-0.48220555587606945},null,{"$f":"N10","v":122},{"$f":"COUNTIF(L33:L41,AI10)","v":1},{"$f":"AJ10/(AL4-AJ11)","v":0.1111111111111111},{"$f":"IF(AK10=0,0,(AK10*((LOG(AK10))/LOG(2))))","v":-0.3522138890491458},null,{"$f":"N10","v":122},{"$f":"COUNTIF(L42:L49,AN10)","v":0},{"$f":"AO10/(AQ4-AO11)","v":0},{"$f":"IF(AP10=0,0,(AP10*((LOG(AP10))/LOG(2))))","v":0},null,{"$f":"N10","v":122},{"$f":"COUNTIF(L50:L58,AS10)","v":0},{"$f":"AT10/(AV4-AT11)","v":0},{"$f":"IF(AU10=0,0,(AU10*((LOG(AU10))/LOG(2))))","v":0}]
[21,912,22,927,24,936,null,null,null,null,0,222,null,211,{"$f":"COUNTIF($L$7:$L$500,N11)","v":0},{"$f":"O11/$Q$4","v":0},{"$f":"IF(P11=0,0,(P11*((LOG(P11))/LOG(2))))","v":0},null,null,{"$f":"N11","v":211},{"$f":"COUNTIF(L7:L15,T11)","v":0},null,null,null,{"$f":"N11","v":211},{"$f":"COUNTIF(L16:L23,Y11)","v":0},null,null,null,{"$f":"N11","v":211},{"$f":"COUNTIF(L24:L32,AD11)","v":0},null,null,null,{"$f":"N11","v":211},{"$f":"COUNTIF(L33:L41,AI11)","v":0},null,null,null,{"$f":"N11","v":211},{"$f":"COUNTIF(L42:L49,AN11)","v":0},null,null,null,{"$f":"N11","v":211},{"$f":"COUNTIF(L50:L58,AS11)","v":0}]
[12,1307,13,1310,24,1335,null,null,null,null,0,112,null,212,{"$f":"COUNTIF($L$7:$L$500,N12)","v":0},{"$f":"O12/$Q$4","v":0},{"$f":"IF(P12=0,0,(P12*((LOG(P12))/LOG(2))))","v":0},null,null,{"$f":"N12","v":212},{"$f":"COUNTIF(L7:L15,T12)","v":0},{"$f":"U12/(W4-U11)","v":0},{"$f":"IF(V12=0,0,(V12*((LOG(V12))/LOG(2))))","v":0},null,{"$f":"N12","v":212},{"$f":"COUNTIF(L16:L23,Y12)","v":0},{"$f":"Z12/(AB4-Z11)","v":0},{"$f":"IF(AA12=0,0,(AA12*((LOG(AA12))/LOG(2))))","v":0},null,{"$f":"N12","v":212},{"$f":"COUNTIF(L24:L32,AD12)","v":0},{"$f":"AE12/(AG4-AE11)","v":0},{"$f":"IF(AF12=0,0,(AF12*((LOG(AF12))/LOG(2))))","v":0},null,{"$f":"N12","v":212},{"$f":"COUNTIF(L33:L41,AI12)","v":0},{"$f":"AJ12/(AL4-AJ11)","v":0},{"$f":"IF(AK12=0,0,(AK12*((LOG(AK12))/LOG(2))))","v":0},null,{"$f":"N12","v":212},{"$f":"COUNTIF(L42:L49,AN12)","v":0},{"$f":"AO12/(AQ4-AO11)","v":0},{"$f":"IF(AP12=0,0,(AP12*((LOG(AP12))/LOG(2))))","v":0},null,{"$f":"N12","v":212},{"$f":"COUNTIF(L50:L58,AS12)","v":0},{"$f":"AT12/(AV4-AT11)","v":0},{"$f":"IF(AU12=0,0,(AU12*((LOG(AU12))/LOG(2))))","v":0}]
[21,1454,22,1462,24,1470,null,null,null,null,0,222,null,221,{"$f":"COUNTIF($L$7:$L$500,N13)","v":0},{"$f":"O13/$Q$4","v":0},{"$f":"IF(P13=0,0,(P13*((LOG(P13))/LOG(2))))","v":0},null,null,{"$f":"N13","v":221},{"$f":"COUNTIF(L7:L15,T13)","v":0},{"$f":"U13/(W4-U11)","v":0},{"$f":"IF(V13=0,0,(V13*((LOG(V13))/LOG(2))))","v":0},null,{"$f":"N13","v":221},{"$f":"COUNTIF(L16:L23,Y13)","v":0},{"$f":"Z13/(AB4-Z11)","v":0},{"$f":"IF(AA13=0,0,(AA13*((LOG(AA13))/LOG(2))))","v":0},null,{"$f":"N13","v":221},{"$f":"COUNTIF(L24:L32,AD13)","v":0},{"$f":"AE13/(AG4-AE11)","v":0},{"$f":"IF(AF13=0,0,(AF13*((LOG(AF13))/LOG(2))))","v":0},null,{"$f":"N13","v":221},{"$f":"COUNTIF(L33:L41,AI13)","v":0},{"$f":"AJ13/(AL4-AJ11)","v":0},{"$f":"IF(AK13=0,0,(AK13*((LOG(AK13))/LOG(2))))","v":0},null,{"$f":"N13","v":221},{"$f":"COUNTIF(L42:L49,AN13)","v":0},{"$f":"AO13/(AQ4-AO11)","v":0},{"$f":"IF(AP13=0,0,(AP13*((LOG(AP13))/LOG(2))))","v":0},null,{"$f":"N13","v":221},{"$f":"COUNTIF(L50:L58,AS13)","v":0},{"$f":"AT13/(AV4-AT11)","v":0},{"$f":"IF(AU13=0,0,(AU13*((LOG(AU13))/LOG(2))))","v":0}]
[12,1565,13,1572,24,1588,null,null,null,null,0,112,null,222,{"$f":"COUNTIF($L$7:$L$500,N14)","v":7},{"$f":"O14/$Q$4","v":0.13461538461538461},{"$f":"IF(P14=0,0,(P14*((LOG(P14))/LOG(2))))","v":-0.38945372254970029},null,null,{"$f":"N14","v":222},{"$f":"COUNTIF(L7:L15,T14)","v":2},{"$f":"U14/(W4-U11)","v":0.22222222222222221},{"$f":"IF(V14=0,0,(V14*((LOG(V14))/LOG(2))))","v":-0.48220555587606945},null,{"$f":"N14","v":222},{"$f":"COUNTIF(L16:L23,Y14)","v":1},{"$f":"Z14/(AB4-Z11)","v":0.125},{"$f":"IF(AA14=0,0,(AA14*((LOG(AA14))/LOG(2))))","v":-0.375},null,{"$f":"N14","v":222},{"$f":"COUNTIF(L24:L32,AD14)","v":2},{"$f":"AE14/(AG4-AE11)","v":0.22222222222222221},{"$f":"IF(AF14=0,0,(AF14*((LOG(AF14))/LOG(2))))","v":-0.48220555587606945},null,{"$f":"N14","v":222},{"$f":"COUNTIF(L33:L41,AI14)","v":2},{"$f":"AJ14/(AL4-AJ11)","v":0.22222222222222221},{"$f":"IF(AK14=0,0,(AK14*((LOG(AK14))/LOG(2))))","v":-0.48220555587606945},null,{"$f":"N14","v":222},{"$f":"COUNTIF(L42:L49,AN14)","v":0},{"$f":"AO14/(AQ4-AO11)","v":0},{"$f":"IF(AP14=0,0,(AP14*((LOG(AP14))/LOG(2))))","v":0},null,{"$f":"N14","v":222},{"$f":"COUNTIF(L50:L58,AS14)","v":0},{"$f":"AT14/(AV4-AT11)","v":0},{"$f":"IF(AU14=0,0,(AU14*((LOG(AU14))/LOG(2))))","v":0}]
[12,1680,24,1711,24,1719,null,null,null,null,0,122,null,null,null,{"$f":"SUM(P7:P14)","v":1},{"$f":"-SUM(Q7:Q14)","v":1.9846179816168796},null,null,null,null,{"$f":"SUM(V7:V14)","v":0.99999999999999989},{"$f":"-SUM(W7:W14)","v":1.974937501201927},null,null,null,{"$f":"SUM(AA7:AA14)","v":1},{"$f":"-SUM(AB7:AB14)","v":2.1556390622295662},null,null,null,{"$f":"SUM(AF7:AF14)","v":1},{"$f":"-SUM(AG7:AG14)","v":1.9749375012019268},null,null,null,{"$f":"SUM(AK7:AK14)","v":0.99999999999999989},{"$f":"-SUM(AL7:AL14)","v":1.8910611120726524},null,null,null,{"$f":"SUM(AP7:AP14)","v":1},{"$f":"-SUM(AQ7:AQ14)","v":0.81127812445913283},null,null,null,{"$f":"SUM(AU7:AU14)","v":1},{"$f":"-SUM(AV7:AV14)","v":0.91829583405448945}]
[12,1813,13,1850,24,1868,null,null,null,null,0,112,null,null,null,"U=",{"$f":"Q15/(LOG(Q4)/LOG(2))","v":0.34815173561103135},null,null,null,null,"U1=",{"$f":"W15/(LOG(W4)/LOG(2))","v":0.6230234154761809},null,null,null,"U2=",{"$f":"AB15/(LOG(AB4)/LOG(2))","v":0.71854635407652212},null,null,null,"U3=",{"$f":"AG15/(LOG(AG4)/LOG(2))","v":0.62302341547618079},null,null,null,"U4=",{"$f":"AL15/(LOG(AL4)/LOG(2))","v":0.5965633607142824},null,null,null,"U5=",{"$f":"AQ15/(LOG(AQ4)/LOG(2))","v":0.27042604148637761},null,null,null,"U6=",{"$f":"AV15/(LOG(AV4)/LOG(2))","v":0.28969008214284753}]
[21,2039,22,2048,24,2057,null,null,null,null,0,222]
[12,2154,24,2182,24,2191,null,null,null,null,0,122]
[12,2314,24,2335,13,2382,null,null,null,null,0,121,null,"Total Target Seq"]
[12,2471,13,2483,24,2500,null,null,null,null,0,112,null,{"$f":"COUNTIF(L7:L58,G3)","v":0},null,9,8,9,9,8,9]
[12,2595,24,2610,24,2618,null,null,null,null,0,122,null,null,null,"% of reinforcement given in 6 equal intervals based on number of trials "]
[12,2720,24,2736,24,2751,null,null,null,null,0,122,null,null,null,"%_1","%_2","%_3","%_4","%_5","%_6"]
[12,2853,13,2874,13,2931,null,null,null,null,0,111,null,null,"target sequence",{"$f":"$G$3","v":211},{"$f":"$G$3","v":211},{"$f":"$G$3","v":211},{"$f":"$G$3","v":211},{"$f":"$G$3","v":211},{"$f":"$G$3","v":211}]
[21,3080,22,3088,24,3097,null,null,null,null,0,222,null,null,"total reinforcement",{"$f":"U11","v":0},{"$f":"Z11","v":0},{"$f":"AE11","v":0},{"$f":"AJ11","v":0},{"$f":"AO11","v":0},{"$f":"AT11","v":0}]
[21,3207,22,3215,24,3222,null,null,null,null,0,222,null,null,"% target"]
[12,3316,13,3331,13,3350,null,null,null,null,0,111,null,null,"CCRF"]
[12,3442,13,3453,24,3494,null,null,null,null,0,112,null,null,"% CCRf"]
[12,3611,13,3619,24,3643,null,null,null,null,0,112,null,null,"average response rate",{"$f":"F15/P20","v":191},{"$f":"(F23-F15)/Q20","v":151.5},{"$f":"(F32-F23)/R20","v":152.44444444444446},{"$f":"(F41-F32)/S20","v":233.66666666666666},{"$f":"(F49-F41)/T20","v":274.125},{"$f":"(F58-F49)/U20","v":741.11111111111109}]
[12,3747,24,3758,24,3765,null,null,null,null,0,122]
[12,3883,24,3899,24,3904,null,null,null,null,0,122]
[12,4131,13,4141,13,4148,null,null,null,null,0,111]
[12,4248,13,4286,24,4303,null,null,null,null,0,112]
[21,4423,22,4430,24,4439,null,null,null,null,0,222]
[12,4590,13,4598,24,4622,null,null,null,null,0,112]
[12,4719,13,4727,13,4740,null,null,null,null,0,111]
[12,4882,13,4889,24,4908,null,null,null,null,0,112]
[12,5105,24,5119,24,5127,null,null,null,null,0,122]
[12,5608,13,5651,13,5658,null,null,null,null,0,111]
[21,5955,22,5964,24,5972,null,null,null,null,0,222]
[12,6109,13,6123,13,6161,null,null,null,null,0,111]
[12,6376,13,6386,24,6406,null,null,null,null,0,112]
[12,6528,13,6538,13,6551,null,null,null,null,0,111]
[12,6653,13,6666,13,6678,null,null,null,null,0,111]
[12,6773,13,6780,13,6782,null,null,null,null,0,111]
[12,6897,13,6934,24,6956,null,null,null,null,0,112]
[12,8012,13,8075,13,8087,null,null,null,null,0,111]
[12,8219,13,8227,24,8268,null,null,null,null,0,112]
[12,8370,13,8373,13,8377,null,null,null,null,0,111]
[12,8513,13,8559,13,8599,null,null,null,null,0,111]
[12,8736,13,8747,13,8848,null,null,null,null,0,111]
[12,9002,13,9023,13,9063,null,null,null,null,0,111]
[12,9180,13,9224,13,9293,null,null,null,null,0,111]
[12,13130,13,13155,13,13165,null,null,null,null,0,111]
[12,13447,13,13454,24,13468,null,null,null,null,0,112]
[12,13573,13,13993,13,14015,null,null,null,null,0,111]
[12,14357,13,14368,24,14438,null,null,null,null,0,112]
[12,14614,13,14617,13,14658,null,null,null,null,0,111]
[12,15242,13,15250,24,15269,null,null,null,null,0,112]

{"sheet":"!L82890B.axt","index":12,"n_rows":89,"n_cols":48,"rows_kept":89,"cut":false,"hidden":false,"merged":[[4,39,4,42],[5,39,5,40],[4,44,4,47],[5,44,5,45],[4,24,4,27],[5,24,5,25],[4,29,4,32],[5,29,5,30],[4,34,4,37],[5,34,5,35],[1,1,1,2],[5,13,5,14],[18,13,18,14],[19,13,19,14],[4,19,4,22],[5,19,5,20]]}
["Report for:!L82890B.axt"]
["Date:","<date>"]
["Hen:","<hen>",null,null,null,"Correct Sequence",{"$f":"Start!J2","v":211},null,null,null,null,null,null,null,null,"Total Sequences in Data",{"$f":"4994-COUNTBLANK(L7:L5000)","v":83},null,null,null,null,"Total Sequences in Block Data",{"$f":"COUNTA(L7:L20)","v":14},null,null,null,"Total Sequences in Block Data",{"$f":"COUNTA(L21:L34)","v":14},null,null,null,"Total Sequences in Block Data",{"$f":"COUNTA(L35:L47)","v":13},null,null,null,"Total Sequences in Block Data",{"$f":"COUNTA(L48:L61)","v":14},null,null,null,"Total Sequences in Block Data",{"$f":"COUNTA(L62:L75)","v":14},null,null,null,"Total Sequences in Block Data",{"$f":"COUNTA(L76:L89)","v":14}]
[null,null,null,null,null,null,null,null,null,null,null,null,null,null,null,"Total Sequences in Summary",{"$f":"SUM(O7:O14)","v":83},null,null,null,null,"Total Sequences in Block Summary",{"$f":"SUM(U7:U14)","v":14},null,null,null,"Total Sequences in Block Summary",{"$f":"SUM(Z7:Z14)","v":14},null,null,null,"Total Sequences in Block Summary",{"$f":"SUM(AE7:AE14)","v":13},null,null,null,"Total Sequences in Block Summary",{"$f":"SUM(AJ7:AJ14)","v":14},null,null,null,"Total Sequences in Block Summary",{"$f":"SUM(AO7:AO14)","v":14},null,null,null,"Total Sequences in Block Summary",{"$f":"SUM(AT7:AT14)","v":14}]
[null,null,null,null,null,null,null,null,null,null,null,null,null,null,null,null,null,null,null,"Block 1",null,null,null,null,"Block 2",null,null,null,null,"Block 3",null,null,null,null,"Block 4",null,null,null,null,"Block 5",null,null,null,null,"Block 6"]
["Sequence\nComponent\n1","Time\n1","Sequence\nComponent\n2","Time\n2","Sequence\nComponent\n3","Time\n3","Sequence\nComponent\n4","Time\n4","Sequence\nComponent\n5","Time\n5","Correct?\n0=No 1=Yes","Sequence",null,"Frequency",null,"Relative Frequency","Variability",null,null,"Frequency",null,"Relative Frequency","Variability",null,"Frequency",null,"Relative Frequency","Variability",null,"Frequency",null,"Relative Frequency","Variability",null,"Frequency",null,"Relative Frequency","Variability",null,"Frequency",null,"Relative Frequency","Variability",null,"Frequency",null,"Relative Frequency","Variability"]
[12,137,24,198,24,206,null,null,null,null,0,122,null,111,{"$f":"COUNTIF($L$7:$L$500,N7)","v":45},{"$f":"O7/$Q$4","v":0.54216867469879515},{"$f":"IF(P7=0,0,(P7*((LOG(P7))/LOG(2))))","v":-0.47883596476838858},null,null,{"$f":"N7","v":111},{"$f":"COUNTIF(L7:L20,T7)","v":4},{"$f":"U7/(W4-U11)","v":0.30769230769230771},{"$f":"IF(V7=0,0,(V7*((LOG(V7))/LOG(2))))","v":-0.52321222096648989},null,{"$f":"N7","v":111},{"$f":"COUNTIF(L21:L34,Y7)","v":5},{"$f":"Z7/(AB4-Z11)","v":0.35714285714285715},{"$f":"IF(AA7=0,0,(AA7*((LOG(AA7))/LOG(2))))","v":-0.53050958113222924},null,{"$f":"N7","v":111},{"$f":"COUNTIF(L35:L47,AD7)","v":8},{"$f":"AE7/(AG4-AE11)","v":0.61538461538461542},{"$f":"IF(AF7=0,0,(AF7*((LOG(AF7))/LOG(2))))","v":-0.43103982654836437},null,{"$f":"N7","v":111},{"$f":"COUNTIF(L48:L61,AI7)","v":7},{"$f":"AJ7/(AL4-AJ11)","v":0.58333333333333337},{"$f":"IF(AK7=0,0,(AK7*((LOG(AK7))/LOG(2))))","v":-0.45360442088707198},null,{"$f":"N7","v":111},{"$f":"COUNTIF(L62:L75,AN7)","v":9},{"$f":"AO7/(AQ4-AO11)","v":0.6428571428571429},{"$f":"IF(AP7=0,0,(AP7*((LOG(AP7))/LOG(2))))","v":-0.40977637753840174},null,{"$f":"N7","v":111},{"$f":"COUNTIF(L76:L89,AS7)","v":12},{"$f":"AT7/(AV4-AT11)","v":0.8571428571428571},{"$f":"IF(AU7=0,0,(AU7*((LOG(AU7))/LOG(2))))","v":-0.19062207543124113}]
[12,571,13,575,24,605,null,null,null,null,0,112,null,112,{"$f":"COUNTIF($L$7:$L$500,N8)","v":16},{"$f":"O8/$Q$4","v":0.19277108433734941},{"$f":"IF(P8=0,0,(P8*((LOG(P8))/LOG(2))))","v":-0.45783892652470837},null,null,{"$f":"N8","v":112},{"$f":"COUNTIF(L7:L20,T8)","v":2},{"$f":"U8/(W4-U11)","v":0.15384615384615385},{"$f":"IF(V8=0,0,(V8*((LOG(V8))/LOG(2))))","v":-0.4154522643293988},null,{"$f":"N8","v":112},{"$f":"COUNTIF(L21:L34,Y8)","v":4},{"$f":"Z8/(AB4-Z11)","v":0.2857142857142857},{"$f":"IF(AA8=0,0,(AA8*((LOG(AA8))/LOG(2))))","v":-0.51638712058788683},null,{"$f":"N8","v":112},{"$f":"COUNTIF(L35:L47,AD8)","v":3},{"$f":"AE8/(AG4-AE11)","v":0.23076923076923078},{"$f":"IF(AF8=0,0,(AF8*((LOG(AF8))/LOG(2))))","v":-0.48818705017383146},null,{"$f":"N8","v":112},{"$f":"COUNTIF(L48:L61,AI8)","v":2},{"$f":"AJ8/(AL4-AJ11)","v":0.16666666666666666},{"$f":"IF(AK8=0,0,(AK8*((LOG(AK8))/LOG(2))))","v":-0.43082708345352599},null,{"$f":"N8","v":112},{"$f":"COUNTIF(L62:L75,AN8)","v":4},{"$f":"AO8/(AQ4-AO11)","v":0.2857142857142857},{"$f":"IF(AP8=0,0,(AP8*((LOG(AP8))/LOG(2))))","v":-0.51638712058788683},null,{"$f":"N8","v":112},{"$f":"COUNTIF(L76:L89,AS8)","v":1},{"$f":"AT8/(AV4-AT11)","v":7.1428571428571425E-2},{"$f":"IF(AU8=0,0,(AU8*((LOG(AU8))/LOG(2))))","v":-0.27195392300411453}]
[21,728,22,738,24,747,null,null,null,null,0,222,null,121,{"$f":"COUNTIF($L$7:$L$500,N9)","v":2},{"$f":"O9/$Q$4","v":2.4096385542168676E-2},{"$f":"IF(P9=0,0,(P9*((LOG(P9))/LOG(2))))","v":-0.12951902244209457},null,null,{"$f":"N9","v":121},{"$f":"COUNTIF(L7:L20,T9)","v":0},{"$f":"U9/(W4-U11)","v":0},{"$f":"IF(V9=0,0,(V9*((LOG(V9))/LOG(2))))","v":0},null,{"$f":"N9","v":121},{"$f":"COUNTIF(L21:L34,Y9)","v":1},{"$f":"Z9/(AB4-Z11)","v":7.1428571428571425E-2},{"$f":"IF(AA9=0,0,(AA9*((LOG(AA9))/LOG(2))))","v":-0.27195392300411453},null,{"$f":"N9","v":121},{"$f":"COUNTIF(L35:L47,AD9)","v":0},{"$f":"AE9/(AG4-AE11)","v":0},{"$f":"IF(AF9=0,0,(AF9*((LOG(AF9))/LOG(2))))","v":0},null,{"$f":"N9","v":121},{"$f":"COUNTIF(L48:L61,AI9)","v":0},{"$f":"AJ9/(AL4-AJ11)","v":0},{"$f":"IF(AK9=0,0,(AK9*((LOG(AK9))/LOG(2))))","v":0},null,{"$f":"N9","v":121},{"$f":"COUNTIF(L62:L75,AN9)","v":0},{"$f":"AO9/(AQ4-AO11)","v":0},{"$f":"IF(AP9=0,0,(AP9*((LOG(AP9))/LOG(2))))","v":0},null,{"$f":"N9","v":121},{"$f":"COUNTIF(L76:L89,AS9)","v":1},{"$f":"AT9/(AV4-AT11)","v":7.1428571428571425E-2},{"$f":"IF(AU9=0,0,(AU9*((LOG(AU9))/LOG(2))))","v":-0.27195392300411453}]
[12,1072,24,1088,24,1095,null,null,null,null,0,122,null,122,{"$f":"COUNTIF($L$7:$L$500,N10)","v":14},{"$f":"O10/$Q$4","v":0.16867469879518071},{"$f":"IF(P10=0,0,(P10*((LOG(P10))/LOG(2))))","v":-0.43310341120542756},null,null,{"$f":"N10","v":122},{"$f":"COUNTIF(L7:L20,T10)","v":6},{"$f":"U10/(W4-U11)","v":0.46153846153846156},{"$f":"IF(V10=0,0,(V10*((LOG(V10))/LOG(2))))","v":-0.51483563880920125},null,{"$f":"N10","v":122},{"$f":"COUNTIF(L21:L34,Y10)","v":3},{"$f":"Z10/(AB4-Z11)","v":0.21428571428571427},{"$f":"IF(AA10=0,0,(AA10*((LOG(AA10))/LOG(2))))","v":-0.47622694742923877},null,{"$f":"N10","v":122},{"$f":"COUNTIF(L35:L47,AD10)","v":2},{"$f":"AE10/(AG4-AE11)","v":0.15384615384615385},{"$f":"IF(AF10=0,0,(AF10*((LOG(AF10))/LOG(2))))","v":-0.4154522643293988},null,{"$f":"N10","v":122},{"$f":"COUNTIF(L48:L61,AI10)","v":3},{"$f":"AJ10/(AL4-AJ11)","v":0.25},{"$f":"IF(AK10=0,0,(AK10*((LOG(AK10))/LOG(2))))","v":-0.5},null,{"$f":"N10","v":122},{"$f":"COUNTIF(L62:L75,AN10)","v":0},{"$f":"AO10/(AQ4-AO11)","v":0},{"$f":"IF(AP10=0,0,(AP10*((LOG(AP10))/LOG(2))))","v":0},null,{"$f":"N10","v":122},{"$f":"COUNTIF(L76:L89,AS10)","v":0},{"$f":"AT10/(AV4-AT11)","v":0},{"$f":"IF(AU10=0,0,(AU10*((LOG(AU10))/LOG(2))))","v":0}]
[12,1192,24,1208,24,1215,null,null,null,null,0,122,null,211,{"$f":"COUNTIF($L$7:$L$500,N11)","v":3},{"$f":"O11/$Q$4","v":3.614457831325301E-2},{"$f":"IF(P11=0,0,(P11*((LOG(P11))/LOG(2))))","v":-0.17313531074550972},null,null,{"$f":"N11","v":211},{"$f":"COUNTIF(L7:L20,T11)","v":1},null,null,null,{"$f":"N11","v":211},{"$f":"COUNTIF(L21:L34,Y11)","v":0},null,null,null,{"$f":"N11","v":211},{"$f":"COUNTIF(L35:L47,AD11)","v":0},null,null,null,{"$f":"N11","v":211},{"$f":"COUNTIF(L48:L61,AI11)","v":2},null,null,null,{"$f":"N11","v":211},{"$f":"COUNTIF(L62:L75,AN11)","v":0},null,null,null,{"$f":"N11","v":211},{"$f":"COUNTIF(L76:L89,AS11)","v":0}]
[12,1311,13,1317,13,1322,null,null,null,null,0,111,null,212,{"$f":"COUNTIF($L$7:$L$500,N12)","v":0},{"$f":"O12/$Q$4","v":0},{"$f":"IF(P12=0,0,(P12*((LOG(P12))/LOG(2))))","v":0},null,null,{"$f":"N12","v":212},{"$f":"COUNTIF(L7:L20,T12)","v":0},{"$f":"U12/(W4-U11)","v":0},{"$f":"IF(V12=0,0,(V12*((LOG(V12))/LOG(2))))","v":0},null,{"$f":"N12","v":212},{"$f":"COUNTIF(L21:L34,Y12)","v":0},{"$f":"Z12/(AB4-Z11)","v":0},{"$f":"IF(AA12=0,0,(AA12*((LOG(AA12))/LOG(2))))","v":0},null,{"$f":"N12","v":212},{"$f":"COUNTIF(L35:L47,AD12)","v":0},{"$f":"AE12/(AG4-AE11)","v":0},{"$f":"IF(AF12=0,0,(AF12*((LOG(AF12))/LOG(2))))","v":0},null,{"$f":"N12","v":212},{"$f":"COUNTIF(L48:L61,AI12)","v":0},{"$f":"AJ12/(AL4-AJ11)","v":0},{"$f":"IF(AK12=0,0,(AK12*((LOG(AK12))/LOG(2))))","v":0},null,{"$f":"N12","v":212},{"$f":"COUNTIF(L62:L75,AN12)","v":0},{"$f":"AO12/(AQ4-AO11)","v":0},{"$f":"IF(AP12=0,0,(AP12*((LOG(AP12))/LOG(2))))","v":0},null,{"$f":"N12","v":212},{"$f":"COUNTIF(L76:L89,AS12)","v":0},{"$f":"AT12/(AV4-AT11)","v":0},{"$f":"IF(AU12=0,0,(AU12*((LOG(AU12))/LOG(2))))","v":0}]
[12,1710,13,1716,24,1738,null,null,null,null,0,112,null,221,{"$f":"COUNTIF($L$7:$L$500,N13)","v":0},{"$f":"O13/$Q$4","v":0},{"$f":"IF(P13=0,0,(P13*((LOG(P13))/LOG(2))))","v":0},null,null,{"$f":"N13","v":221},{"$f":"COUNTIF(L7:L20,T13)","v":0},{"$f":"U13/(W4-U11)","v":0},{"$f":"IF(V13=0,0,(V13*((LOG(V13))/LOG(2))))","v":0},null,{"$f":"N13","v":221},{"$f":"COUNTIF(L21:L34,Y13)","v":0},{"$f":"Z13/(AB4-Z11)","v":0},{"$f":"IF(AA13=0,0,(AA13*((LOG(AA13))/LOG(2))))","v":0},null,{"$f":"N13","v":221},{"$f":"COUNTIF(L35:L47,AD13)","v":0},{"$f":"AE13/(AG4-AE11)","v":0},{"$f":"IF(AF13=0,0,(AF13*((LOG(AF13))/LOG(2))))","v":0},null,{"$f":"N13","v":221},{"$f":"COUNTIF(L48:L61,AI13)","v":0},{"$f":"AJ13/(AL4-AJ11)","v":0},{"$f":"IF(AK13=0,0,(AK13*((LOG(AK13))/LOG(2))))","v":0},null,{"$f":"N13","v":221},{"$f":"COUNTIF(L62:L75,AN13)","v":0},{"$f":"AO13/(AQ4-AO11)","v":0},{"$f":"IF(AP13=0,0,(AP13*((LOG(AP13))/LOG(2))))","v":0},null,{"$f":"N13","v":221},{"$f":"COUNTIF(L76:L89,AS13)","v":0},{"$f":"AT13/(AV4-AT11)","v":0},{"$f":"IF(AU13=0,0,(AU13*((LOG(AU13))/LOG(2))))","v":0}]
[21,1859,11,1911,11,1916,null,null,null,null,0,211,null,222,{"$f":"COUNTIF($L$7:$L$500,N14)","v":3},{"$f":"O14/$Q$4","v":3.614457831325301E-2},{"$f":"IF(P14=0,0,(P14*((LOG(P14))/LOG(2))))","v":-0.17313531074550972},null,null,{"$f":"N14","v":222},{"$f":"COUNTIF(L7:L20,T14)","v":1},{"$f":"U14/(W4-U11)","v":7.6923076923076927E-2},{"$f":"IF(V14=0,0,(V14*((LOG(V14))/LOG(2))))","v":-0.28464920908777636},null,{"$f":"N14","v":222},{"$f":"COUNTIF(L21:L34,Y14)","v":1},{"$f":"Z14/(AB4-Z11)","v":7.1428571428571425E-2},{"$f":"IF(AA14=0,0,(AA14*((LOG(AA14))/LOG(2))))","v":-0.27195392300411453},null,{"$f":"N14","v":222},{"$f":"COUNTIF(L35:L47,AD14)","v":0},{"$f":"AE14/(AG4-AE11)","v":0},{"$f":"IF(AF14=0,0,(AF14*((LOG(AF14))/LOG(2))))","v":0},null,{"$f":"N14","v":222},{"$f":"COUNTIF(L48:L61,AI14)","v":0},{"$f":"AJ14/(AL4-AJ11)","v":0},{"$f":"IF(AK14=0,0,(AK14*((LOG(AK14))/LOG(2))))","v":0},null,{"$f":"N14","v":222},{"$f":"COUNTIF(L62:L75,AN14)","v":1},{"$f":"AO14/(AQ4-AO11)","v":7.1428571428571425E-2},{"$f":"IF(AP14=0,0,(AP14*((LOG(AP14))/LOG(2))))","v":-0.27195392300411453},null,{"$f":"N14","v":222},{"$f":"COUNTIF(L76:L89,AS14)","v":0},{"$f":"AT14/(AV4-AT11)","v":0},{"$f":"IF(AU14=0,0,(AU14*((LOG(AU14))/LOG(2))))","v":0}]
[12,2261,24,2286,24,2292,null,null,null,null,0,122,null,null,null,{"$f":"SUM(P7:P14)","v":1},{"$f":"-SUM(Q7:Q14)","v":1.8455679464316386},null,null,null,null,{"$f":"SUM(V7:V14)","v":1},{"$f":"-SUM(W7:W14)","v":1.7381493331928664},null,null,null,{"$f":"SUM(AA7:AA14)","v":0.99999999999999989},{"$f":"-SUM(AB7:AB14)","v":2.0670314951575839},null,null,null,{"$f":"SUM(AF7:AF14)","v":1},{"$f":"-SUM(AG7:AG14)","v":1.3346791410515946},null,null,null,{"$f":"SUM(AK7:AK14)","v":1},{"$f":"-SUM(AL7:AL14)","v":1.3844315043405979},null,null,null,{"$f":"SUM(AP7:AP14)","v":1},{"$f":"-SUM(AQ7:AQ14)","v":1.1981174211304031},null,null,null,{"$f":"SUM(AU7:AU14)","v":0.99999999999999989},{"$f":"-SUM(AV7:AV14)","v":0.73452992143947027}]
[12,2436,13,2449,13,2457,null,null,null,null,0,111,null,null,null,"U=",{"$f":"Q15/(LOG(Q4)/LOG(2))","v":0.28949906370096057},null,null,null,null,"U1=",{"$f":"W15/(LOG(W4)/LOG(2))","v":0.4565241141883144},null,null,null,"U2=",{"$f":"AB15/(LOG(AB4)/LOG(2))","v":0.5429048611103745},null,null,null,"U3=",{"$f":"AG15/(LOG(AG4)/LOG(2))","v":0.36068122783042328},null,null,null,"U4=",{"$f":"AL15/(LOG(AL4)/LOG(2))","v":0.36362029090590048},null,null,null,"U5=",{"$f":"AQ15/(LOG(AQ4)/LOG(2))","v":0.3146849835798618},null,null,null,"U6=",{"$f":"AV15/(LOG(AV4)/LOG(2))","v":0.19292394233698318}]
[12,2550,24,2593,24,2602,null,null,null,null,0,122]
[12,2698,13,2706,13,2720,null,null,null,null,0,111]
[12,2827,13,2833,13,2843,null,null,null,null,0,111,null,"Total Target Seq"]
[12,2936,24,2949,24,2957,null,null,null,null,0,122,null,{"$f":"COUNTIF(L7:L89,G3)","v":3},null,14,14,13,14,14,14]
[12,3089,13,3097,13,3103,null,null,null,null,0,111,null,null,null,"% of reinforcement given in 6 equal intervals based on number of trials "]
[12,3199,24,3212,24,3226,null,null,null,null,0,122,null,null,null,"%_1","%_2","%_3","%_4","%_5","%_6"]
[12,3325,13,3335,13,3346,null,null,null,null,0,111,null,null,"target sequence",{"$f":"$G$3","v":211},{"$f":"$G$3","v":211},{"$f":"$G$3","v":211},{"$f":"$G$3","v":211},{"$f":"$G$3","v":211},{"$f":"$G$3","v":211}]
[12,3439,13,3451,13,3470,null,null,null,null,0,111,null,null,"total reinforcement",{"$f":"U11","v":1},{"$f":"Z11","v":0},{"$f":"AE11","v":0},{"$f":"AJ11","v":2},{"$f":"AO11","v":0},{"$f":"AT11","v":0}]
[12,3608,13,3624,13,3629,null,null,null,null,0,111,null,null,"% target"]
[21,3781,22,3790,24,3809,null,null,null,null,0,222,null,null,"CCRF"]
[12,3924,13,3941,13,3950,null,null,null,null,0,111,null,null,"% CCRf"]
[12,4047,13,4052,24,4067,null,null,null,null,0,112,null,null,"average response rate",{"$f":"F20/P20","v":211.21428571428572},{"$f":"(F34-F20)/Q20","v":173.21428571428572},{"$f":"(F47-F34)/R20","v":145.07692307692307},{"$f":"(F61-F47)/S20","v":189.21428571428572},{"$f":"(F75-F61)/T20","v":363.14285714285717},{"$f":"(F89-F75)/U20","v":291.5}]
[12,4167,13,4181,24,4199,null,null,null,null,0,112]
[12,4292,13,4305,24,4325,null,null,null,null,0,112]
[12,4428,24,4448,13,4487,null,null,null,null,0,121]
[12,5037,24,5059,24,5069,null,null,null,null,0,122]
[12,5160,24,5182,24,5190,null,null,null,null,0,122]
[12,5336,13,5360,24,5382,null,null,null,null,0,112]
[12,5508,24,5524,24,5531,null,null,null,null,0,122]
[12,5626,13,5646,13,5650,null,null,null,null,0,111]
[12,5775,13,5778,24,5789,null,null,null,null,0,112]
[12,5927,13,5940,13,5986,null,null,null,null,0,111]
[12,6101,13,6114,13,6147,null,null,null,null,0,111]
[12,6247,13,6260,13,6299,null,null,null,null,0,111]
[12,6419,13,6423,24,6453,null,null,null,null,0,112]
[12,6551,13,6556,13,6566,null,null,null,null,0,111]
[12,6690,24,6706,24,6714,null,null,null,null,0,122]
[12,6817,13,6821,13,6831,null,null,null,null,0,111]
[12,6930,13,6945,24,6965,null,null,null,null,0,112]
[12,7074,13,7081,13,7130,null,null,null,null,0,111]
[12,7234,13,7243,13,7268,null,null,null,null,0,111]
[12,7368,13,7395,13,7405,null,null,null,null,0,111]
[12,7507,24,7527,24,7537,null,null,null,null,0,122]
[21,7629,11,7636,11,7670,null,null,null,null,0,211]
[12,8113,24,8148,24,8157,null,null,null,null,0,122]
[12,8317,13,8326,24,8355,null,null,null,null,0,112]
[21,8464,11,8482,11,8512,null,null,null,null,0,211]
[12,8858,13,8861,13,8871,null,null,null,null,0,111]
[12,8991,13,9017,13,9033,null,null,null,null,0,111]
[12,9129,13,9136,13,9144,null,null,null,null,0,111]
[12,9254,24,9280,24,9288,null,null,null,null,0,122]
[12,9418,13,9427,24,9451,null,null,null,null,0,112]
[12,9543,13,9554,13,9611,null,null,null,null,0,111]
[12,9722,13,9725,13,9748,null,null,null,null,0,111]
[12,9858,13,9867,13,9917,null,null,null,null,0,111]
[12,10011,13,10023,13,10039,null,null,null,null,0,111]
[12,10144,13,10166,24,10186,null,null,null,null,0,112]
[12,10298,13,10327,13,10335,null,null,null,null,0,111]
[12,10439,13,10458,13,10497,null,null,null,null,0,111]
[12,10677,13,10684,24,10705,null,null,null,null,0,112]
[21,10972,22,10980,24,10990,null,null,null,null,0,222]
[12,11087,13,11099,13,11148,null,null,null,null,0,111]
[12,11249,13,11299,13,11340,null,null,null,null,0,111]
[12,11447,13,11454,13,11492,null,null,null,null,0,111]
[12,11633,13,11659,13,11674,null,null,null,null,0,111]
[12,11795,13,11798,13,11806,null,null,null,null,0,111]
[12,11930,13,11944,24,11962,null,null,null,null,0,112]
[12,12154,13,12279,13,12318,null,null,null,null,0,111]
[12,14954,13,14977,24,15001,null,null,null,null,0,112]
[12,15102,24,15119,13,15139,null,null,null,null,0,121]
[12,15257,13,15266,13,15310,null,null,null,null,0,111]
[12,15806,13,15809,13,15838,null,null,null,null,0,111]
[12,15955,13,15968,24,15992,null,null,null,null,0,112]
[12,16137,13,16174,13,16198,null,null,null,null,0,111]
[12,16423,13,16431,13,16454,null,null,null,null,0,111]
[12,16550,13,16561,13,16596,null,null,null,null,0,111]
[12,16715,13,16747,13,16763,null,null,null,null,0,111]
[12,16873,13,16879,13,16905,null,null,null,null,0,111]
[12,17022,13,17030,13,17128,null,null,null,null,0,111]
[12,17391,13,17402,13,17415,null,null,null,null,0,111]
[12,17520,13,17632,13,17689,null,null,null,null,0,111]
[12,17836,13,17842,13,17883,null,null,null,null,0,111]
[12,18981,13,19004,13,19082,null,null,null,null,0,111]

{"sheet":"!L829A4B.axt","index":13,"n_rows":60,"n_cols":48,"rows_kept":60,"cut":false,"hidden":false,"merged":[[4,39,4,42],[5,39,5,40],[4,44,4,47],[5,44,5,45],[4,24,4,27],[5,24,5,25],[4,29,4,32],[5,29,5,30],[4,34,4,37],[5,34,5,35],[1,1,1,2],[5,13,5,14],[18,13,18,14],[19,13,19,14],[4,19,4,22],[5,19,5,20]]}
["Report for:!L829A4B.axt"]
["Date:","<date>"]
["Hen:","<hen>",null,null,null,"Correct Sequence",{"$f":"Start!J2","v":211},null,null,null,null,null,null,null,null,"Total Sequences in Data",{"$f":"4994-COUNTBLANK(L7:L5000)","v":54},null,null,null,null,"Total Sequences in Block Data",{"$f":"COUNTA(L7:L15)","v":9},null,null,null,"Total Sequences in Block Data",{"$f":"COUNTA(L16:L24)","v":9},null,null,null,"Total Sequences in Block Data",{"$f":"COUNTA(L25:L33)","v":9},null,null,null,"Total Sequences in Block Data",{"$f":"COUNTA(L34:L42)","v":9},null,null,null,"Total Sequences in Block Data",{"$f":"COUNTA(L43:L51)","v":9},null,null,null,"Total Sequences in Block Data",{"$f":"COUNTA(L52:L60)","v":9}]
[null,null,null,null,null,null,null,null,null,null,null,null,null,null,null,"Total Sequences in Summary",{"$f":"SUM(O7:O14)","v":54},null,null,null,null,"Total Sequences in Block Summary",{"$f":"SUM(U7:U14)","v":9},null,null,null,"Total Sequences in Block Summary",{"$f":"SUM(Z7:Z14)","v":9},null,null,null,"Total Sequences in Block Summary",{"$f":"SUM(AE7:AE14)","v":9},null,null,null,"Total Sequences in Block Summary",{"$f":"SUM(AJ7:AJ14)","v":9},null,null,null,"Total Sequences in Block Summary",{"$f":"SUM(AO7:AO14)","v":9},null,null,null,"Total Sequences in Block Summary",{"$f":"SUM(AT7:AT14)","v":9}]
[null,null,null,null,null,null,null,null,null,null,null,null,null,null,null,null,null,null,null,"Block 1",null,null,null,null,"Block 2",null,null,null,null,"Block 3",null,null,null,null,"Block 4",null,null,null,null,"Block 5",null,null,null,null,"Block 6"]
["Sequence\nComponent\n1","Time\n1","Sequence\nComponent\n2","Time\n2","Sequence\nComponent\n3","Time\n3","Sequence\nComponent\n4","Time\n4","Sequence\nComponent\n5","Time\n5","Correct?\n0=No 1=Yes","Sequence",null,"Frequency",null,"Relative Frequency","Variability",null,null,"Frequency",null,"Relative Frequency","Variability",null,"Frequency",null,"Relative Frequency","Variability",null,"Frequency",null,"Relative Frequency","Variability",null,"Frequency",null,"Relative Frequency","Variability",null,"Frequency",null,"Relative Frequency","Variability",null,"Frequency",null,"Relative Frequency","Variability"]
[12,11,13,18,13,44,null,null,null,null,0,111,null,111,{"$f":"COUNTIF($L$7:$L$500,N7)","v":29},{"$f":"O7/$Q$4","v":0.53703703703703709},{"$f":"IF(P7=0,0,(P7*((LOG(P7))/LOG(2))))","v":-0.48167201303779617},null,null,{"$f":"N7","v":111},{"$f":"COUNTIF(L7:L15,T7)","v":5},{"$f":"U7/(W4-U11)","v":0.55555555555555558},{"$f":"IF(V7=0,0,(V7*((LOG(V7))/LOG(2))))","v":-0.4711093925305278},null,{"$f":"N7","v":111},{"$f":"COUNTIF(L16:L24,Y7)","v":2},{"$f":"Z7/(AB4-Z11)","v":0.2857142857142857},{"$f":"IF(AA7=0,0,(AA7*((LOG(AA7))/LOG(2))))","v":-0.51638712058788683},null,{"$f":"N7","v":111},{"$f":"COUNTIF(L25:L33,AD7)","v":5},{"$f":"AE7/(AG4-AE11)","v":0.55555555555555558},{"$f":"IF(AF7=0,0,(AF7*((LOG(AF7))/LOG(2))))","v":-0.4711093925305278},null,{"$f":"N7","v":111},{"$f":"COUNTIF(L34:L42,AI7)","v":5},{"$f":"AJ7/(AL4-AJ11)","v":0.625},{"$f":"IF(AK7=0,0,(AK7*((LOG(AK7))/LOG(2))))","v":-0.42379494069539858},null,{"$f":"N7","v":111},{"$f":"COUNTIF(L43:L51,AN7)","v":6},{"$f":"AO7/(AQ4-AO11)","v":0.66666666666666663},{"$f":"IF(AP7=0,0,(AP7*((LOG(AP7))/LOG(2))))","v":-0.38997500048077083},null,{"$f":"N7","v":111},{"$f":"COUNTIF(L52:L60,AS7)","v":6},{"$f":"AT7/(AV4-AT11)","v":0.66666666666666663},{"$f":"IF(AU7=0,0,(AU7*((LOG(AU7))/LOG(2))))","v":-0.38997500048077083}]
[12,137,13,157,13,199,null,null,null,null,0,111,null,112,{"$f":"COUNTIF($L$7:$L$500,N8)","v":13},{"$f":"O8/$Q$4","v":0.24074074074074073},{"$f":"IF(P8=0,0,(P8*((LOG(P8))/LOG(2))))","v":-0.49458928133872027},null,null,{"$f":"N8","v":112},{"$f":"COUNTIF(L7:L15,T8)","v":1},{"$f":"U8/(W4-U11)","v":0.1111111111111111},{"$f":"IF(V8=0,0,(V8*((LOG(V8))/LOG(2))))","v":-0.3522138890491458},null,{"$f":"N8","v":112},{"$f":"COUNTIF(L16:L24,Y8)","v":3},{"$f":"Z8/(AB4-Z11)","v":0.42857142857142855},{"$f":"IF(AA8=0,0,(AA8*((LOG(AA8))/LOG(2))))","v":-0.52388246628704915},null,{"$f":"N8","v":112},{"$f":"COUNTIF(L25:L33,AD8)","v":3},{"$f":"AE8/(AG4-AE11)","v":0.33333333333333331},{"$f":"IF(AF8=0,0,(AF8*((LOG(AF8))/LOG(2))))","v":-0.52832083357371862},null,{"$f":"N8","v":112},{"$f":"COUNTIF(L34:L42,AI8)","v":2},{"$f":"AJ8/(AL4-AJ11)","v":0.25},{"$f":"IF(AK8=0,0,(AK8*((LOG(AK8))/LOG(2))))","v":-0.5},null,{"$f":"N8","v":112},{"$f":"COUNTIF(L43:L51,AN8)","v":2},{"$f":"AO8/(AQ4-AO11)","v":0.22222222222222221},{"$f":"IF(AP8=0,0,(AP8*((LOG(AP8))/LOG(2))))","v":-0.48220555587606945},null,{"$f":"N8","v":112},{"$f":"COUNTIF(L52:L60,AS8)","v":2},{"$f":"AT8/(AV4-AT11)","v":0.22222222222222221},{"$f":"IF(AU8=0,0,(AU8*((LOG(AU8))/LOG(2))))","v":-0.48220555587606945}]
[12,290,13,299,13,311,null,null,null,null,0,111,null,121,{"$f":"COUNTIF($L$7:$L$500,N9)","v":1},{"$f":"O9/$Q$4","v":1.8518518518518517E-2},{"$f":"IF(P9=0,0,(P9*((LOG(P9))/LOG(2))))","v":-0.10657199078080498},null,null,{"$f":"N9","v":121},{"$f":"COUNTIF(L7:L15,T9)","v":0},{"$f":"U9/(W4-U11)","v":0},{"$f":"IF(V9=0,0,(V9*((LOG(V9))/LOG(2))))","v":0},null,{"$f":"N9","v":121},{"$f":"COUNTIF(L16:L24,Y9)","v":0},{"$f":"Z9/(AB4-Z11)","v":0},{"$f":"IF(AA9=0,0,(AA9*((LOG(AA9))/LOG(2))))","v":0},null,{"$f":"N9","v":121},{"$f":"COUNTIF(L25:L33,AD9)","v":0},{"$f":"AE9/(AG4-AE11)","v":0},{"$f":"IF(AF9=0,0,(AF9*((LOG(AF9))/LOG(2))))","v":0},null,{"$f":"N9","v":121},{"$f":"COUNTIF(L34:L42,AI9)","v":0},{"$f":"AJ9/(AL4-AJ11)","v":0},{"$f":"IF(AK9=0,0,(AK9*((LOG(AK9))/LOG(2))))","v":0},null,{"$f":"N9","v":121},{"$f":"COUNTIF(L43:L51,AN9)","v":0},{"$f":"AO9/(AQ4-AO11)","v":0},{"$f":"IF(AP9=0,0,(AP9*((LOG(AP9))/LOG(2))))","v":0},null,{"$f":"N9","v":121},{"$f":"COUNTIF(L52:L60,AS9)","v":1},{"$f":"AT9/(AV4-AT11)","v":0.1111111111111111},{"$f":"IF(AU9=0,0,(AU9*((LOG(AU9))/LOG(2))))","v":-0.3522138890491458}]
[12,405,13,426,13,432,null,null,null,null,0,111,null,122,{"$f":"COUNTIF($L$7:$L$500,N10)","v":6},{"$f":"O10/$Q$4","v":0.1111111111111111},{"$f":"IF(P10=0,0,(P10*((LOG(P10))/LOG(2))))","v":-0.3522138890491458},null,null,{"$f":"N10","v":122},{"$f":"COUNTIF(L7:L15,T10)","v":2},{"$f":"U10/(W4-U11)","v":0.22222222222222221},{"$f":"IF(V10=0,0,(V10*((LOG(V10))/LOG(2))))","v":-0.48220555587606945},null,{"$f":"N10","v":122},{"$f":"COUNTIF(L16:L24,Y10)","v":2},{"$f":"Z10/(AB4-Z11)","v":0.2857142857142857},{"$f":"IF(AA10=0,0,(AA10*((LOG(AA10))/LOG(2))))","v":-0.51638712058788683},null,{"$f":"N10","v":122},{"$f":"COUNTIF(L25:L33,AD10)","v":1},{"$f":"AE10/(AG4-AE11)","v":0.1111111111111111},{"$f":"IF(AF10=0,0,(AF10*((LOG(AF10))/LOG(2))))","v":-0.3522138890491458},null,{"$f":"N10","v":122},{"$f":"COUNTIF(L34:L42,AI10)","v":1},{"$f":"AJ10/(AL4-AJ11)","v":0.125},{"$f":"IF(AK10=0,0,(AK10*((LOG(AK10))/LOG(2))))","v":-0.375},null,{"$f":"N10","v":122},{"$f":"COUNTIF(L43:L51,AN10)","v":0},{"$f":"AO10/(AQ4-AO11)","v":0},{"$f":"IF(AP10=0,0,(AP10*((LOG(AP10))/LOG(2))))","v":0},null,{"$f":"N10","v":122},{"$f":"COUNTIF(L52:L60,AS10)","v":0},{"$f":"AT10/(AV4-AT11)","v":0},{"$f":"IF(AU10=0,0,(AU10*((LOG(AU10))/LOG(2))))","v":0}]
[12,538,24,557,24,565,null,null,null,null,0,122,null,211,{"$f":"COUNTIF($L$7:$L$500,N11)","v":3},{"$f":"O11/$Q$4","v":5.5555555555555552E-2},{"$f":"IF(P11=0,0,(P11*((LOG(P11))/LOG(2))))","v":-0.23166250008012845},null,null,{"$f":"N11","v":211},{"$f":"COUNTIF(L7:L15,T11)","v":0},null,null,null,{"$f":"N11","v":211},{"$f":"COUNTIF(L16:L24,Y11)","v":2},null,null,null,{"$f":"N11","v":211},{"$f":"COUNTIF(L25:L33,AD11)","v":0},null,null,null,{"$f":"N11","v":211},{"$f":"COUNTIF(L34:L42,AI11)","v":1},null,null,null,{"$f":"N11","v":211},{"$f":"COUNTIF(L43:L51,AN11)","v":0},null,null,null,{"$f":"N11","v":211},{"$f":"COUNTIF(L52:L60,AS11)","v":0}]
[21,697,22,703,24,711,null,null,null,null,0,222,null,212,{"$f":"COUNTIF($L$7:$L$500,N12)","v":0},{"$f":"O12/$Q$4","v":0},{"$f":"IF(P12=0,0,(P12*((LOG(P12))/LOG(2))))","v":0},null,null,{"$f":"N12","v":212},{"$f":"COUNTIF(L7:L15,T12)","v":0},{"$f":"U12/(W4-U11)","v":0},{"$f":"IF(V12=0,0,(V12*((LOG(V12))/LOG(2))))","v":0},null,{"$f":"N12","v":212},{"$f":"COUNTIF(L16:L24,Y12)","v":0},{"$f":"Z12/(AB4-Z11)","v":0},{"$f":"IF(AA12=0,0,(AA12*((LOG(AA12))/LOG(2))))","v":0},null,{"$f":"N12","v":212},{"$f":"COUNTIF(L25:L33,AD12)","v":0},{"$f":"AE12/(AG4-AE11)","v":0},{"$f":"IF(AF12=0,0,(AF12*((LOG(AF12))/LOG(2))))","v":0},null,{"$f":"N12","v":212},{"$f":"COUNTIF(L34:L42,AI12)","v":0},{"$f":"AJ12/(AL4-AJ11)","v":0},{"$f":"IF(AK12=0,0,(AK12*((LOG(AK12))/LOG(2))))","v":0},null,{"$f":"N12","v":212},{"$f":"COUNTIF(L43:L51,AN12)","v":0},{"$f":"AO12/(AQ4-AO11)","v":0},{"$f":"IF(AP12=0,0,(AP12*((LOG(AP12))/LOG(2))))","v":0},null,{"$f":"N12","v":212},{"$f":"COUNTIF(L52:L60,AS12)","v":0},{"$f":"AT12/(AV4-AT11)","v":0},{"$f":"IF(AU12=0,0,(AU12*((LOG(AU12))/LOG(2))))","v":0}]
[12,1143,24,1161,24,1170,null,null,null,null,0,122,null,221,{"$f":"COUNTIF($L$7:$L$500,N13)","v":0},{"$f":"O13/$Q$4","v":0},{"$f":"IF(P13=0,0,(P13*((LOG(P13))/LOG(2))))","v":0},null,null,{"$f":"N13","v":221},{"$f":"COUNTIF(L7:L15,T13)","v":0},{"$f":"U13/(W4-U11)","v":0},{"$f":"IF(V13=0,0,(V13*((LOG(V13))/LOG(2))))","v":0},null,{"$f":"N13","v":221},{"$f":"COUNTIF(L16:L24,Y13)","v":0},{"$f":"Z13/(AB4-Z11)","v":0},{"$f":"IF(AA13=0,0,(AA13*((LOG(AA13))/LOG(2))))","v":0},null,{"$f":"N13","v":221},{"$f":"COUNTIF(L25:L33,AD13)","v":0},{"$f":"AE13/(AG4-AE11)","v":0},{"$f":"IF(AF13=0,0,(AF13*((LOG(AF13))/LOG(2))))","v":0},null,{"$f":"N13","v":221},{"$f":"COUNTIF(L34:L42,AI13)","v":0},{"$f":"AJ13/(AL4-AJ11)","v":0},{"$f":"IF(AK13=0,0,(AK13*((LOG(AK13))/LOG(2))))","v":0},null,{"$f":"N13","v":221},{"$f":"COUNTIF(L43:L51,AN13)","v":0},{"$f":"AO13/(AQ4-AO11)","v":0},{"$f":"IF(AP13=0,0,(AP13*((LOG(AP13))/LOG(2))))","v":0},null,{"$f":"N13","v":221},{"$f":"COUNTIF(L52:L60,AS13)","v":0},{"$f":"AT13/(AV4-AT11)","v":0},{"$f":"IF(AU13=0,0,(AU13*((LOG(AU13))/LOG(2))))","v":0}]
[12,1272,13,1284,13,1299,null,null,null,null,0,111,null,222,{"$f":"COUNTIF($L$7:$L$500,N14)","v":2},{"$f":"O14/$Q$4","v":3.7037037037037035E-2},{"$f":"IF(P14=0,0,(P14*((LOG(P14))/LOG(2))))","v":-0.1761069445245729},null,null,{"$f":"N14","v":222},{"$f":"COUNTIF(L7:L15,T14)","v":1},{"$f":"U14/(W4-U11)","v":0.1111111111111111},{"$f":"IF(V14=0,0,(V14*((LOG(V14))/LOG(2))))","v":-0.3522138890491458},null,{"$f":"N14","v":222},{"$f":"COUNTIF(L16:L24,Y14)","v":0},{"$f":"Z14/(AB4-Z11)","v":0},{"$f":"IF(AA14=0,0,(AA14*((LOG(AA14))/LOG(2))))","v":0},null,{"$f":"N14","v":222},{"$f":"COUNTIF(L25:L33,AD14)","v":0},{"$f":"AE14/(AG4-AE11)","v":0},{"$f":"IF(AF14=0,0,(AF14*((LOG(AF14))/LOG(2))))","v":0},null,{"$f":"N14","v":222},{"$f":"COUNTIF(L34:L42,AI14)","v":0},{"$f":"AJ14/(AL4-AJ11)","v":0},{"$f":"IF(AK14=0,0,(AK14*((LOG(AK14))/LOG(2))))","v":0},null,{"$f":"N14","v":222},{"$f":"COUNTIF(L43:L51,AN14)","v":1},{"$f":"AO14/(AQ4-AO11)","v":0.1111111111111111},{"$f":"IF(AP14=0,0,(AP14*((LOG(AP14))/LOG(2))))","v":-0.3522138890491458},null,{"$f":"N14","v":222},{"$f":"COUNTIF(L52:L60,AS14)","v":0},{"$f":"AT14/(AV4-AT11)","v":0},{"$f":"IF(AU14=0,0,(AU14*((LOG(AU14))/LOG(2))))","v":0}]
[12,1392,13,1404,24,1417,null,null,null,null,0,112,null,null,null,{"$f":"SUM(P7:P14)","v":1},{"$f":"-SUM(Q7:Q14)","v":1.8428166188111685},null,null,null,null,{"$f":"SUM(V7:V14)","v":1},{"$f":"-SUM(W7:W14)","v":1.6577427265048887},null,null,null,{"$f":"SUM(AA7:AA14)","v":0.99999999999999989},{"$f":"-SUM(AB7:AB14)","v":1.5566567074628228},null,null,null,{"$f":"SUM(AF7:AF14)","v":1},{"$f":"-SUM(AG7:AG14)","v":1.3516441151533922},null,null,null,{"$f":"SUM(AK7:AK14)","v":1},{"$f":"-SUM(AL7:AL14)","v":1.2987949406953985},null,null,null,{"$f":"SUM(AP7:AP14)","v":1},{"$f":"-SUM(AQ7:AQ14)","v":1.2243944454059861},null,null,null,{"$f":"SUM(AU7:AU14)","v":1},{"$f":"-SUM(AV7:AV14)","v":1.2243944454059861}]
[12,1526,13,1528,24,1545,null,null,null,null,0,112,null,null,null,"U=",{"$f":"Q15/(LOG(Q4)/LOG(2))","v":0.3202176616169104},null,null,null,null,"U1=",{"$f":"W15/(LOG(W4)/LOG(2))","v":0.52295960495930272},null,null,null,"U2=",{"$f":"AB15/(LOG(AB4)/LOG(2))","v":0.4910705164174376},null,null,null,"U3=",{"$f":"AG15/(LOG(AG4)/LOG(2))","v":0.42639624424502021},null,null,null,"U4=",{"$f":"AL15/(LOG(AL4)/LOG(2))","v":0.40972418593640175},null,null,null,"U5=",{"$f":"AQ15/(LOG(AQ4)/LOG(2))","v":0.38625344285713009},null,null,null,"U6=",{"$f":"AV15/(LOG(AV4)/LOG(2))","v":0.38625344285713009}]
[12,1644,13,1653,24,1681,null,null,null,null,0,112]
[12,1781,13,1852,13,1864,null,null,null,null,0,111]
[12,1965,13,1976,13,1998,null,null,null,null,0,111,null,"Total Target Seq"]
[12,2124,24,2142,24,2149,null,null,null,null,0,122,null,{"$f":"COUNTIF(L7:L60,G3)","v":3},null,9,9,9,9,9,9]
[21,2255,11,2272,11,2282,null,null,null,null,0,211,null,null,null,"% of reinforcement given in 6 equal intervals based on number of trials "]
[12,2596,24,2619,24,2626,null,null,null,null,0,122,null,null,null,"%_1","%_2","%_3","%_4","%_5","%_6"]
[21,2738,11,2760,11,2777,null,null,null,null,0,211,null,null,"target sequence",{"$f":"$G$3","v":211},{"$f":"$G$3","v":211},{"$f":"$G$3","v":211},{"$f":"$G$3","v":211},{"$f":"$G$3","v":211},{"$f":"$G$3","v":211}]
[12,3152,13,3161,24,3176,null,null,null,null,0,112,null,null,"total reinforcement",{"$f":"U11","v":0},{"$f":"Z11","v":2},{"$f":"AE11","v":0},{"$f":"AJ11","v":1},{"$f":"AO11","v":0},{"$f":"AT11","v":0}]
[12,3279,24,3290,24,3295,null,null,null,null,0,122,null,null,"% target"]
[12,3389,13,3413,24,3429,null,null,null,null,0,112,null,null,"CCRF"]
[12,3531,13,3568,13,3588,null,null,null,null,0,111,null,null,"% CCRf"]
[12,3680,13,3703,13,3723,null,null,null,null,0,111,null,null,"average response rate",{"$f":"F15/P20","v":157.44444444444446},{"$f":"(F24-F15)/Q20","v":195.44444444444446},{"$f":"(F33-F24)/R20","v":132.22222222222223},{"$f":"(F42-F33)/S20","v":1789.3333333333333},{"$f":"(F51-F42)/T20","v":158.66666666666666},{"$f":"(F60-F51)/U20","v":157.66666666666666}]
[12,3837,13,3839,24,3851,null,null,null,null,0,112]
[12,3946,13,3951,13,3955,null,null,null,null,0,111]
[12,4051,13,4069,24,4080,null,null,null,null,0,112]
[12,4218,13,4231,13,4260,null,null,null,null,0,111]
[12,4358,13,4361,13,4366,null,null,null,null,0,111]
[12,4476,13,4487,13,4521,null,null,null,null,0,111]
[12,4626,24,4644,24,4651,null,null,null,null,0,122]
[12,4754,13,4757,24,4781,null,null,null,null,0,112]
[12,4928,13,4976,13,4985,null,null,null,null,0,111]
[12,5125,13,5128,13,5135,null,null,null,null,0,111]
[12,5254,13,5257,24,5280,null,null,null,null,0,112]
[12,5379,13,5388,13,5397,null,null,null,null,0,111]
[21,17356,11,20080,11,20085,null,null,null,null,0,211]
[12,20433,13,20442,13,20470,null,null,null,null,0,111]
[12,20577,13,20616,13,20631,null,null,null,null,0,111]
[12,20731,13,20742,24,20763,null,null,null,null,0,112]
[12,20858,13,20873,24,20896,null,null,null,null,0,112]
[12,20990,13,21009,13,21014,null,null,null,null,0,111]
[12,21130,13,21144,13,21193,null,null,null,null,0,111]
[12,21288,13,21313,13,21322,null,null,null,null,0,111]
[12,21422,13,21436,13,21547,null,null,null,null,0,111]
[21,21673,22,21681,24,21690,null,null,null,null,0,222]
[12,21859,13,21873,13,21898,null,null,null,null,0,111]
[12,21999,13,22011,24,22026,null,null,null,null,0,112]
[12,22121,13,22181,13,22208,null,null,null,null,0,111]
[12,22311,13,22319,13,22328,null,null,null,null,0,111]
[12,22424,13,22467,13,22480,null,null,null,null,0,111]
[12,22640,24,22668,13,22698,null,null,null,null,0,121]
[12,22790,13,22807,13,22851,null,null,null,null,0,111]
[12,22972,13,23006,13,23021,null,null,null,null,0,111]
[12,23117,13,23136,13,23145,null,null,null,null,0,111]
[12,23279,13,23293,24,23317,null,null,null,null,0,112]

{"sheet":"!L830A5B.axt","index":14,"n_rows":62,"n_cols":48,"rows_kept":62,"cut":false,"hidden":false,"merged":[[4,39,4,42],[5,39,5,40],[4,44,4,47],[5,44,5,45],[4,24,4,27],[5,24,5,25],[4,29,4,32],[5,29,5,30],[4,34,4,37],[5,34,5,35],[1,1,1,2],[5,13,5,14],[18,13,18,14],[19,13,19,14],[4,19,4,22],[5,19,5,20]]}
["Report for:!L830A5B.axt"]
["Date:","<date>"]
["Hen:","<hen>",null,null,null,"Correct Sequence",{"$f":"Start!J2","v":211},null,null,null,null,null,null,null,null,"Total Sequences in Data",{"$f":"4994-COUNTBLANK(L7:L5000)","v":56},null,null,null,null,"Total Sequences in Block Data",{"$f":"COUNTA(L7:L15)","v":9},null,null,null,"Total Sequences in Block Data",{"$f":"COUNTA(L16:L25)","v":10},null,null,null,"Total Sequences in Block Data",{"$f":"COUNTA(L26:L34)","v":9},null,null,null,"Total Sequences in Block Data",{"$f":"COUNTA(L35:L43)","v":9},null,null,null,"Total Sequences in Block Data",{"$f":"COUNTA(L44:L53)","v":10},null,null,null,"Total Sequences in Block Data",{"$f":"COUNTA(L54:L62)","v":9}]
[null,null,null,null,null,null,null,null,null,null,null,null,null,null,null,"Total Sequences in Summary",{"$f":"SUM(O7:O14)","v":56},null,null,null,null,"Total Sequences in Block Summary",{"$f":"SUM(U7:U14)","v":9},null,null,null,"Total Sequences in Block Summary",{"$f":"SUM(Z7:Z14)","v":10},null,null,null,"Total Sequences in Block Summary",{"$f":"SUM(AE7:AE14)","v":9},null,null,null,"Total Sequences in Block Summary",{"$f":"SUM(AJ7:AJ14)","v":9},null,null,null,"Total Sequences in Block Summary",{"$f":"SUM(AO7:AO14)","v":10},null,null,null,"Total Sequences in Block Summary",{"$f":"SUM(AT7:AT14)","v":9}]
[null,null,null,null,null,null,null,null,null,null,null,null,null,null,null,null,null,null,null,"Block 1",null,null,null,null,"Block 2",null,null,null,null,"Block 3",null,null,null,null,"Block 4",null,null,null,null,"Block 5",null,null,null,null,"Block 6"]
["Sequence\nComponent\n1","Time\n1","Sequence\nComponent\n2","Time\n2","Sequence\nComponent\n3","Time\n3","Sequence\nComponent\n4","Time\n4","Sequence\nComponent\n5","Time\n5","Correct?\n0=No 1=Yes","Sequence",null,"Frequency",null,"Relative Frequency","Variability",null,null,"Frequency",null,"Relative Frequency","Variability",null,"Frequency",null,"Relative Frequency","Variability",null,"Frequency",null,"Relative Frequency","Variability",null,"Frequency",null,"Relative Frequency","Variability",null,"Frequency",null,"Relative Frequency","Variability",null,"Frequency",null,"Relative Frequency","Variability"]
[12,171,13,179,24,202,null,null,null,null,0,112,null,111,{"$f":"COUNTIF($L$7:$L$500,N7)","v":20},{"$f":"O7/$Q$4","v":0.35714285714285715},{"$f":"IF(P7=0,0,(P7*((LOG(P7))/LOG(2))))","v":-0.53050958113222924},null,null,{"$f":"N7","v":111},{"$f":"COUNTIF(L7:L15,T7)","v":3},{"$f":"U7/(W4-U11)","v":0.375},{"$f":"IF(V7=0,0,(V7*((LOG(V7))/LOG(2))))","v":-0.53063906222956647},null,{"$f":"N7","v":111},{"$f":"COUNTIF(L16:L25,Y7)","v":4},{"$f":"Z7/(AB4-Z11)","v":0.4},{"$f":"IF(AA7=0,0,(AA7*((LOG(AA7))/LOG(2))))","v":-0.52877123795494496},null,{"$f":"N7","v":111},{"$f":"COUNTIF(L26:L34,AD7)","v":3},{"$f":"AE7/(AG4-AE11)","v":0.375},{"$f":"IF(AF7=0,0,(AF7*((LOG(AF7))/LOG(2))))","v":-0.53063906222956647},null,{"$f":"N7","v":111},{"$f":"COUNTIF(L35:L43,AI7)","v":4},{"$f":"AJ7/(AL4-AJ11)","v":0.44444444444444442},{"$f":"IF(AK7=0,0,(AK7*((LOG(AK7))/LOG(2))))","v":-0.51996666730769447},null,{"$f":"N7","v":111},{"$f":"COUNTIF(L44:L53,AN7)","v":3},{"$f":"AO7/(AQ4-AO11)","v":0.3},{"$f":"IF(AP7=0,0,(AP7*((LOG(AP7))/LOG(2))))","v":-0.52108967824986185},null,{"$f":"N7","v":111},{"$f":"COUNTIF(L54:L62,AS7)","v":3},{"$f":"AT7/(AV4-AT11)","v":0.33333333333333331},{"$f":"IF(AU7=0,0,(AU7*((LOG(AU7))/LOG(2))))","v":-0.52832083357371862}]
[12,422,24,449,24,458,null,null,null,null,0,122,null,112,{"$f":"COUNTIF($L$7:$L$500,N8)","v":12},{"$f":"O8/$Q$4","v":0.21428571428571427},{"$f":"IF(P8=0,0,(P8*((LOG(P8))/LOG(2))))","v":-0.47622694742923877},null,null,{"$f":"N8","v":112},{"$f":"COUNTIF(L7:L15,T8)","v":3},{"$f":"U8/(W4-U11)","v":0.375},{"$f":"IF(V8=0,0,(V8*((LOG(V8))/LOG(2))))","v":-0.53063906222956647},null,{"$f":"N8","v":112},{"$f":"COUNTIF(L16:L25,Y8)","v":1},{"$f":"Z8/(AB4-Z11)","v":0.1},{"$f":"IF(AA8=0,0,(AA8*((LOG(AA8))/LOG(2))))","v":-0.33219280948873625},null,{"$f":"N8","v":112},{"$f":"COUNTIF(L26:L34,AD8)","v":0},{"$f":"AE8/(AG4-AE11)","v":0},{"$f":"IF(AF8=0,0,(AF8*((LOG(AF8))/LOG(2))))","v":0},null,{"$f":"N8","v":112},{"$f":"COUNTIF(L35:L43,AI8)","v":3},{"$f":"AJ8/(AL4-AJ11)","v":0.33333333333333331},{"$f":"IF(AK8=0,0,(AK8*((LOG(AK8))/LOG(2))))","v":-0.52832083357371862},null,{"$f":"N8","v":112},{"$f":"COUNTIF(L44:L53,AN8)","v":4},{"$f":"AO8/(AQ4-AO11)","v":0.4},{"$f":"IF(AP8=0,0,(AP8*((LOG(AP8))/LOG(2))))","v":-0.52877123795494496},null,{"$f":"N8","v":112},{"$f":"COUNTIF(L54:L62,AS8)","v":1},{"$f":"AT8/(AV4-AT11)","v":0.1111111111111111},{"$f":"IF(AU8=0,0,(AU8*((LOG(AU8))/LOG(2))))","v":-0.3522138890491458}]
[21,563,11,575,11,583,null,null,null,null,0,211,null,121,{"$f":"COUNTIF($L$7:$L$500,N9)","v":2},{"$f":"O9/$Q$4","v":3.5714285714285712E-2},{"$f":"IF(P9=0,0,(P9*((LOG(P9))/LOG(2))))","v":-0.17169124721634299},null,null,{"$f":"N9","v":121},{"$f":"COUNTIF(L7:L15,T9)","v":0},{"$f":"U9/(W4-U11)","v":0},{"$f":"IF(V9=0,0,(V9*((LOG(V9))/LOG(2))))","v":0},null,{"$f":"N9","v":121},{"$f":"COUNTIF(L16:L25,Y9)","v":0},{"$f":"Z9/(AB4-Z11)","v":0},{"$f":"IF(AA9=0,0,(AA9*((LOG(AA9))/LOG(2))))","v":0},null,{"$f":"N9","v":121},{"$f":"COUNTIF(L26:L34,AD9)","v":2},{"$f":"AE9/(AG4-AE11)","v":0.25},{"$f":"IF(AF9=0,0,(AF9*((LOG(AF9))/LOG(2))))","v":-0.5},null,{"$f":"N9","v":121},{"$f":"COUNTIF(L35:L43,AI9)","v":0},{"$f":"AJ9/(AL4-AJ11)","v":0},{"$f":"IF(AK9=0,0,(AK9*((LOG(AK9))/LOG(2))))","v":0},null,{"$f":"N9","v":121},{"$f":"COUNTIF(L44:L53,AN9)","v":0},{"$f":"AO9/(AQ4-AO11)","v":0},{"$f":"IF(AP9=0,0,(AP9*((LOG(AP9))/LOG(2))))","v":0},null,{"$f":"N9","v":121},{"$f":"COUNTIF(L54:L62,AS9)","v":0},{"$f":"AT9/(AV4-AT11)","v":0},{"$f":"IF(AU9=0,0,(AU9*((LOG(AU9))/LOG(2))))","v":0}]
[12,812,13,817,24,841,null,null,null,null,0,112,null,122,{"$f":"COUNTIF($L$7:$L$500,N10)","v":19},{"$f":"O10/$Q$4","v":0.3392857142857143},{"$f":"IF(P10=0,0,(P10*((LOG(P10))/LOG(2))))","v":-0.52909144220832771},null,null,{"$f":"N10","v":122},{"$f":"COUNTIF(L7:L15,T10)","v":2},{"$f":"U10/(W4-U11)","v":0.25},{"$f":"IF(V10=0,0,(V10*((LOG(V10))/LOG(2))))","v":-0.5},null,{"$f":"N10","v":122},{"$f":"COUNTIF(L16:L25,Y10)","v":4},{"$f":"Z10/(AB4-Z11)","v":0.4},{"$f":"IF(AA10=0,0,(AA10*((LOG(AA10))/LOG(2))))","v":-0.52877123795494496},null,{"$f":"N10","v":122},{"$f":"COUNTIF(L26:L34,AD10)","v":3},{"$f":"AE10/(AG4-AE11)","v":0.375},{"$f":"IF(AF10=0,0,(AF10*((LOG(AF10))/LOG(2))))","v":-0.53063906222956647},null,{"$f":"N10","v":122},{"$f":"COUNTIF(L35:L43,AI10)","v":2},{"$f":"AJ10/(AL4-AJ11)","v":0.22222222222222221},{"$f":"IF(AK10=0,0,(AK10*((LOG(AK10))/LOG(2))))","v":-0.48220555587606945},null,{"$f":"N10","v":122},{"$f":"COUNTIF(L44:L53,AN10)","v":3},{"$f":"AO10/(AQ4-AO11)","v":0.3},{"$f":"IF(AP10=0,0,(AP10*((LOG(AP10))/LOG(2))))","v":-0.52108967824986185},null,{"$f":"N10","v":122},{"$f":"COUNTIF(L54:L62,AS10)","v":5},{"$f":"AT10/(AV4-AT11)","v":0.55555555555555558},{"$f":"IF(AU10=0,0,(AU10*((LOG(AU10))/LOG(2))))","v":-0.4711093925305278}]
[12,964,13,973,13,982,null,null,null,null,0,111,null,211,{"$f":"COUNTIF($L$7:$L$500,N11)","v":2},{"$f":"O11/$Q$4","v":3.5714285714285712E-2},{"$f":"IF(P11=0,0,(P11*((LOG(P11))/LOG(2))))","v":-0.17169124721634299},null,null,{"$f":"N11","v":211},{"$f":"COUNTIF(L7:L15,T11)","v":1},null,null,null,{"$f":"N11","v":211},{"$f":"COUNTIF(L16:L25,Y11)","v":0},null,null,null,{"$f":"N11","v":211},{"$f":"COUNTIF(L26:L34,AD11)","v":1},null,null,null,{"$f":"N11","v":211},{"$f":"COUNTIF(L35:L43,AI11)","v":0},null,null,null,{"$f":"N11","v":211},{"$f":"COUNTIF(L44:L53,AN11)","v":0},null,null,null,{"$f":"N11","v":211},{"$f":"COUNTIF(L54:L62,AS11)","v":0}]
[12,1079,13,1089,24,1093,null,null,null,null,0,112,null,212,{"$f":"COUNTIF($L$7:$L$500,N12)","v":0},{"$f":"O12/$Q$4","v":0},{"$f":"IF(P12=0,0,(P12*((LOG(P12))/LOG(2))))","v":0},null,null,{"$f":"N12","v":212},{"$f":"COUNTIF(L7:L15,T12)","v":0},{"$f":"U12/(W4-U11)","v":0},{"$f":"IF(V12=0,0,(V12*((LOG(V12))/LOG(2))))","v":0},null,{"$f":"N12","v":212},{"$f":"COUNTIF(L16:L25,Y12)","v":0},{"$f":"Z12/(AB4-Z11)","v":0},{"$f":"IF(AA12=0,0,(AA12*((LOG(AA12))/LOG(2))))","v":0},null,{"$f":"N12","v":212},{"$f":"COUNTIF(L26:L34,AD12)","v":0},{"$f":"AE12/(AG4-AE11)","v":0},{"$f":"IF(AF12=0,0,(AF12*((LOG(AF12))/LOG(2))))","v":0},null,{"$f":"N12","v":212},{"$f":"COUNTIF(L35:L43,AI12)","v":0},{"$f":"AJ12/(AL4-AJ11)","v":0},{"$f":"IF(AK12=0,0,(AK12*((LOG(AK12))/LOG(2))))","v":0},null,{"$f":"N12","v":212},{"$f":"COUNTIF(L44:L53,AN12)","v":0},{"$f":"AO12/(AQ4-AO11)","v":0},{"$f":"IF(AP12=0,0,(AP12*((LOG(AP12))/LOG(2))))","v":0},null,{"$f":"N12","v":212},{"$f":"COUNTIF(L54:L62,AS12)","v":0},{"$f":"AT12/(AV4-AT11)","v":0},{"$f":"IF(AU12=0,0,(AU12*((LOG(AU12))/LOG(2))))","v":0}]
[12,1193,24,1223,24,1231,null,null,null,null,0,122,null,221,{"$f":"COUNTIF($L$7:$L$500,N13)","v":0},{"$f":"O13/$Q$4","v":0},{"$f":"IF(P13=0,0,(P13*((LOG(P13))/LOG(2))))","v":0},null,null,{"$f":"N13","v":221},{"$f":"COUNTIF(L7:L15,T13)","v":0},{"$f":"U13/(W4-U11)","v":0},{"$f":"IF(V13=0,0,(V13*((LOG(V13))/LOG(2))))","v":0},null,{"$f":"N13","v":221},{"$f":"COUNTIF(L16:L25,Y13)","v":0},{"$f":"Z13/(AB4-Z11)","v":0},{"$f":"IF(AA13=0,0,(AA13*((LOG(AA13))/LOG(2))))","v":0},null,{"$f":"N13","v":221},{"$f":"COUNTIF(L26:L34,AD13)","v":0},{"$f":"AE13/(AG4-AE11)","v":0},{"$f":"IF(AF13=0,0,(AF13*((LOG(AF13))/LOG(2))))","v":0},null,{"$f":"N13","v":221},{"$f":"COUNTIF(L35:L43,AI13)","v":0},{"$f":"AJ13/(AL4-AJ11)","v":0},{"$f":"IF(AK13=0,0,(AK13*((LOG(AK13))/LOG(2))))","v":0},null,{"$f":"N13","v":221},{"$f":"COUNTIF(L44:L53,AN13)","v":0},{"$f":"AO13/(AQ4-AO11)","v":0},{"$f":"IF(AP13=0,0,(AP13*((LOG(AP13))/LOG(2))))","v":0},null,{"$f":"N13","v":221},{"$f":"COUNTIF(L54:L62,AS13)","v":0},{"$f":"AT13/(AV4-AT11)","v":0},{"$f":"IF(AU13=0,0,(AU13*((LOG(AU13))/LOG(2))))","v":0}]
[12,1334,13,1341,13,1344,null,null,null,null,0,111,null,222,{"$f":"COUNTIF($L$7:$L$500,N14)","v":1},{"$f":"O14/$Q$4","v":1.7857142857142856E-2},{"$f":"IF(P14=0,0,(P14*((LOG(P14))/LOG(2))))","v":-0.10370276646531436},null,null,{"$f":"N14","v":222},{"$f":"COUNTIF(L7:L15,T14)","v":0},{"$f":"U14/(W4-U11)","v":0},{"$f":"IF(V14=0,0,(V14*((LOG(V14))/LOG(2))))","v":0},null,{"$f":"N14","v":222},{"$f":"COUNTIF(L16:L25,Y14)","v":1},{"$f":"Z14/(AB4-Z11)","v":0.1},{"$f":"IF(AA14=0,0,(AA14*((LOG(AA14))/LOG(2))))","v":-0.33219280948873625},null,{"$f":"N14","v":222},{"$f":"COUNTIF(L26:L34,AD14)","v":0},{"$f":"AE14/(AG4-AE11)","v":0},{"$f":"IF(AF14=0,0,(AF14*((LOG(AF14))/LOG(2))))","v":0},null,{"$f":"N14","v":222},{"$f":"COUNTIF(L35:L43,AI14)","v":0},{"$f":"AJ14/(AL4-AJ11)","v":0},{"$f":"IF(AK14=0,0,(AK14*((LOG(AK14))/LOG(2))))","v":0},null,{"$f":"N14","v":222},{"$f":"COUNTIF(L44:L53,AN14)","v":0},{"$f":"AO14/(AQ4-AO11)","v":0},{"$f":"IF(AP14=0,0,(AP14*((LOG(AP14))/LOG(2))))","v":0},null,{"$f":"N14","v":222},{"$f":"COUNTIF(L54:L62,AS14)","v":0},{"$f":"AT14/(AV4-AT11)","v":0},{"$f":"IF(AU14=0,0,(AU14*((LOG(AU14))/LOG(2))))","v":0}]
[12,1448,13,1462,13,1487,null,null,null,null,0,111,null,null,null,{"$f":"SUM(P7:P14)","v":1},{"$f":"-SUM(Q7:Q14)","v":1.982913231667796},null,null,null,null,{"$f":"SUM(V7:V14)","v":1},{"$f":"-SUM(W7:W14)","v":1.5612781244591329},null,null,null,{"$f":"SUM(AA7:AA14)","v":1},{"$f":"-SUM(AB7:AB14)","v":1.7219280948873625},null,null,null,{"$f":"SUM(AF7:AF14)","v":1},{"$f":"-SUM(AG7:AG14)","v":1.5612781244591329},null,null,null,{"$f":"SUM(AK7:AK14)","v":0.99999999999999989},{"$f":"-SUM(AL7:AL14)","v":1.5304930567574824},null,null,null,{"$f":"SUM(AP7:AP14)","v":1},{"$f":"-SUM(AQ7:AQ14)","v":1.5709505944546689},null,null,null,{"$f":"SUM(AU7:AU14)","v":1},{"$f":"-SUM(AV7:AV14)","v":1.3516441151533922}]
[12,1652,24,1685,24,1693,null,null,null,null,0,122,null,null,null,"U=",{"$f":"Q15/(LOG(Q4)/LOG(2))","v":0.34144860410309308},null,null,null,null,"U1=",{"$f":"W15/(LOG(W4)/LOG(2))","v":0.49252841116075402},null,null,null,"U2=",{"$f":"AB15/(LOG(AB4)/LOG(2))","v":0.51835200693763017},null,null,null,"U3=",{"$f":"AG15/(LOG(AG4)/LOG(2))","v":0.49252841116075402},null,null,null,"U4=",{"$f":"AL15/(LOG(AL4)/LOG(2))","v":0.48281680357141255},null,null,null,"U5=",{"$f":"AQ15/(LOG(AQ4)/LOG(2))","v":0.47290325063701766},null,null,null,"U6=",{"$f":"AV15/(LOG(AV4)/LOG(2))","v":0.42639624424502021}]
[12,1790,13,1792,13,1810,null,null,null,null,0,111]
[12,1911,24,1925,24,1932,null,null,null,null,0,122]
[12,2085,13,2098,13,2118,null,null,null,null,0,111,null,"Total Target Seq"]
[12,2217,13,2237,13,2250,null,null,null,null,0,111,null,{"$f":"COUNTIF(L7:L62,G3)","v":2},null,9,10,9,9,10,9]
[12,2407,13,2409,13,2420,null,null,null,null,0,111,null,null,null,"% of reinforcement given in 6 equal intervals based on number of trials "]
[12,2520,24,2551,24,2557,null,null,null,null,0,122,null,null,null,"%_1","%_2","%_3","%_4","%_5","%_6"]
[12,2680,13,2689,24,2709,null,null,null,null,0,112,null,null,"target sequence",{"$f":"$G$3","v":211},{"$f":"$G$3","v":211},{"$f":"$G$3","v":211},{"$f":"$G$3","v":211},{"$f":"$G$3","v":211},{"$f":"$G$3","v":211}]
[12,2819,24,2835,24,2843,null,null,null,null,0,122,null,null,"total reinforcement",{"$f":"U11","v":1},{"$f":"Z11","v":0},{"$f":"AE11","v":1},{"$f":"AJ11","v":0},{"$f":"AO11","v":0},{"$f":"AT11","v":0}]
[21,3108,22,3116,24,3124,null,null,null,null,0,222,null,null,"% target"]
[12,3532,24,3555,13,3639,null,null,null,null,0,121,null,null,"CCRF"]
[12,3903,13,3981,13,3991,null,null,null,null,0,111,null,null,"% CCRf"]
[12,4094,24,4122,13,4127,null,null,null,null,0,121,null,null,"average response rate",{"$f":"F15/P20","v":165.22222222222223},{"$f":"(F25-F15)/Q20","v":163.69999999999999},{"$f":"(F34-F25)/R20","v":215.66666666666666},{"$f":"(F43-F34)/S20","v":187},{"$f":"(F53-F43)/T20","v":220.8},{"$f":"(F62-F53)/U20","v":1579.5555555555557}]
[12,4224,24,4245,24,4253,null,null,null,null,0,122]
[12,4351,13,4385,13,4478,null,null,null,null,0,111]
[12,4582,24,4604,24,4613,null,null,null,null,0,122]
[12,4759,24,4793,24,4802,null,null,null,null,0,122]
[12,4897,13,4922,13,4937,null,null,null,null,0,111]
[21,5041,11,5056,11,5065,null,null,null,null,0,211]
[12,5583,13,5591,24,5611,null,null,null,null,0,112]
[12,5726,13,5753,13,5769,null,null,null,null,0,111]
[12,5929,13,5938,24,5964,null,null,null,null,0,112]
[12,6076,13,6083,24,6111,null,null,null,null,0,112]
[12,6227,24,6255,24,6264,null,null,null,null,0,122]
[12,6361,13,6366,13,6376,null,null,null,null,0,111]
[12,6503,24,6525,24,6534,null,null,null,null,0,122]
[12,6625,13,6629,13,6639,null,null,null,null,0,111]
[12,6735,13,6743,13,6748,null,null,null,null,0,111]
[12,7177,13,7187,24,7208,null,null,null,null,0,112]
[12,7355,13,7369,24,7400,null,null,null,null,0,112]
[12,7519,13,7527,13,7536,null,null,null,null,0,111]
[12,7793,13,7802,24,7820,null,null,null,null,0,112]
[12,7916,13,7965,13,7976,null,null,null,null,0,111]
[12,8075,24,8093,24,8102,null,null,null,null,0,122]
[12,8208,24,8231,24,8238,null,null,null,null,0,122]
[12,8409,13,8418,24,8435,null,null,null,null,0,112]
[12,8787,13,8794,13,8803,null,null,null,null,0,111]
[12,8927,24,8947,24,8956,null,null,null,null,0,122]
[12,9054,13,9060,13,9070,null,null,null,null,0,111]
[12,9996,24,10021,24,10031,null,null,null,null,0,122]
[12,10130,13,10158,13,10176,null,null,null,null,0,111]
[12,10487,24,10507,24,10516,null,null,null,null,0,122]
[12,10777,13,10784,24,10803,null,null,null,null,0,112]
[12,21916,24,21942,24,21950,null,null,null,null,0,122]
[12,22175,13,22187,13,22192,null,null,null,null,0,111]
[12,22974,24,22997,24,23010,null,null,null,null,0,122]
[12,23123,24,23163,24,23172,null,null,null,null,0,122]

{"sheet":"!L831A2B.axt","index":15,"n_rows":52,"n_cols":48,"rows_kept":52,"cut":false,"hidden":false,"merged":[[4,39,4,42],[5,39,5,40],[4,44,4,47],[5,44,5,45],[4,24,4,27],[5,24,5,25],[4,29,4,32],[5,29,5,30],[4,34,4,37],[5,34,5,35],[1,1,1,2],[5,13,5,14],[18,13,18,14],[19,13,19,14],[4,19,4,22],[5,19,5,20]]}
["Report for:!L831A2B.axt"]
["Date:","<date>"]
["Hen:","<hen>",null,null,null,"Correct Sequence",{"$f":"Start!J2","v":211},null,null,null,null,null,null,null,null,"Total Sequences in Data",{"$f":"4994-COUNTBLANK(L7:L5000)","v":46},null,null,null,null,"Total Sequences in Block Data",{"$f":"COUNTA(L7:L14)","v":8},null,null,null,"Total Sequences in Block Data",{"$f":"COUNTA(L15:L21)","v":7},null,null,null,"Total Sequences in Block Data",{"$f":"COUNTA(L22:L29)","v":8},null,null,null,"Total Sequences in Block Data",{"$f":"COUNTA(L30:L37)","v":8},null,null,null,"Total Sequences in Block Data",{"$f":"COUNTA(L38:L44)","v":7},null,null,null,"Total Sequences in Block Data",{"$f":"COUNTA(L45:L52)","v":8}]
[null,null,null,null,null,null,null,null,null,null,null,null,null,null,null,"Total Sequences in Summary",{"$f":"SUM(O7:O14)","v":46},null,null,null,null,"Total Sequences in Block Summary",{"$f":"SUM(U7:U14)","v":8},null,null,null,"Total Sequences in Block Summary",{"$f":"SUM(Z7:Z14)","v":7},null,null,null,"Total Sequences in Block Summary",{"$f":"SUM(AE7:AE14)","v":8},null,null,null,"Total Sequences in Block Summary",{"$f":"SUM(AJ7:AJ14)","v":8},null,null,null,"Total Sequences in Block Summary",{"$f":"SUM(AO7:AO14)","v":7},null,null,null,"Total Sequences in Block Summary",{"$f":"SUM(AT7:AT14)","v":8}]
[null,null,null,null,null,null,null,null,null,null,null,null,null,null,null,null,null,null,null,"Block 1",null,null,null,null,"Block 2",null,null,null,null,"Block 3",null,null,null,null,"Block 4",null,null,null,null,"Block 5",null,null,null,null,"Block 6"]
["Sequence\nComponent\n1","Time\n1","Sequence\nComponent\n2","Time\n2","Sequence\nComponent\n3","Time\n3","Sequence\nComponent\n4","Time\n4","Sequence\nComponent\n5","Time\n5","Correct?\n0=No 1=Yes","Sequence",null,"Frequency",null,"Relative Frequency","Variability",null,null,"Frequency",null,"Relative Frequency","Variability",null,"Frequency",null,"Relative Frequency","Variability",null,"Frequency",null,"Relative Frequency","Variability",null,"Frequency",null,"Relative Frequency","Variability",null,"Frequency",null,"Relative Frequency","Variability",null,"Frequency",null,"Relative Frequency","Variability"]
[12,10,13,19,24,45,null,null,null,null,0,112,null,111,{"$f":"COUNTIF($L$7:$L$500,N7)","v":19},{"$f":"O7/$Q$4","v":0.41304347826086957},{"$f":"IF(P7=0,0,(P7*((LOG(P7))/LOG(2))))","v":-0.52689248716641568},null,null,{"$f":"N7","v":111},{"$f":"COUNTIF(L7:L14,T7)","v":3},{"$f":"U7/(W4-U11)","v":0.375},{"$f":"IF(V7=0,0,(V7*((LOG(V7))/LOG(2))))","v":-0.53063906222956647},null,{"$f":"N7","v":111},{"$f":"COUNTIF(L15:L21,Y7)","v":2},{"$f":"Z7/(AB4-Z11)","v":0.2857142857142857},{"$f":"IF(AA7=0,0,(AA7*((LOG(AA7))/LOG(2))))","v":-0.51638712058788683},null,{"$f":"N7","v":111},{"$f":"COUNTIF(L22:L29,AD7)","v":3},{"$f":"AE7/(AG4-AE11)","v":0.375},{"$f":"IF(AF7=0,0,(AF7*((LOG(AF7))/LOG(2))))","v":-0.53063906222956647},null,{"$f":"N7","v":111},{"$f":"COUNTIF(L30:L37,AI7)","v":4},{"$f":"AJ7/(AL4-AJ11)","v":0.5},{"$f":"IF(AK7=0,0,(AK7*((LOG(AK7))/LOG(2))))","v":-0.5},null,{"$f":"N7","v":111},{"$f":"COUNTIF(L38:L44,AN7)","v":2},{"$f":"AO7/(AQ4-AO11)","v":0.2857142857142857},{"$f":"IF(AP7=0,0,(AP7*((LOG(AP7))/LOG(2))))","v":-0.51638712058788683},null,{"$f":"N7","v":111},{"$f":"COUNTIF(L45:L52,AS7)","v":5},{"$f":"AT7/(AV4-AT11)","v":0.7142857142857143},{"$f":"IF(AU7=0,0,(AU7*((LOG(AU7))/LOG(2))))","v":-0.34673344797874411}]
[12,141,13,148,24,165,null,null,null,null,0,112,null,112,{"$f":"COUNTIF($L$7:$L$500,N8)","v":11},{"$f":"O8/$Q$4","v":0.2391304347826087},{"$f":"IF(P8=0,0,(P8*((LOG(P8))/LOG(2))))","v":-0.49359638503514941},null,null,{"$f":"N8","v":112},{"$f":"COUNTIF(L7:L14,T8)","v":2},{"$f":"U8/(W4-U11)","v":0.25},{"$f":"IF(V8=0,0,(V8*((LOG(V8))/LOG(2))))","v":-0.5},null,{"$f":"N8","v":112},{"$f":"COUNTIF(L15:L21,Y8)","v":1},{"$f":"Z8/(AB4-Z11)","v":0.14285714285714285},{"$f":"IF(AA8=0,0,(AA8*((LOG(AA8))/LOG(2))))","v":-0.40105070315108626},null,{"$f":"N8","v":112},{"$f":"COUNTIF(L22:L29,AD8)","v":4},{"$f":"AE8/(AG4-AE11)","v":0.5},{"$f":"IF(AF8=0,0,(AF8*((LOG(AF8))/LOG(2))))","v":-0.5},null,{"$f":"N8","v":112},{"$f":"COUNTIF(L30:L37,AI8)","v":1},{"$f":"AJ8/(AL4-AJ11)","v":0.125},{"$f":"IF(AK8=0,0,(AK8*((LOG(AK8))/LOG(2))))","v":-0.375},null,{"$f":"N8","v":112},{"$f":"COUNTIF(L38:L44,AN8)","v":3},{"$f":"AO8/(AQ4-AO11)","v":0.42857142857142855},{"$f":"IF(AP8=0,0,(AP8*((LOG(AP8))/LOG(2))))","v":-0.52388246628704915},null,{"$f":"N8","v":112},{"$f":"COUNTIF(L45:L52,AS8)","v":0},{"$f":"AT8/(AV4-AT11)","v":0},{"$f":"IF(AU8=0,0,(AU8*((LOG(AU8))/LOG(2))))","v":0}]
[12,266,13,276,13,291,null,null,null,null,0,111,null,121,{"$f":"COUNTIF($L$7:$L$500,N9)","v":3},{"$f":"O9/$Q$4","v":6.5217391304347824E-2},{"$f":"IF(P9=0,0,(P9*((LOG(P9))/LOG(2))))","v":-0.25686518186972979},null,null,{"$f":"N9","v":121},{"$f":"COUNTIF(L7:L14,T9)","v":0},{"$f":"U9/(W4-U11)","v":0},{"$f":"IF(V9=0,0,(V9*((LOG(V9))/LOG(2))))","v":0},null,{"$f":"N9","v":121},{"$f":"COUNTIF(L15:L21,Y9)","v":0},{"$f":"Z9/(AB4-Z11)","v":0},{"$f":"IF(AA9=0,0,(AA9*((LOG(AA9))/LOG(2))))","v":0},null,{"$f":"N9","v":121},{"$f":"COUNTIF(L22:L29,AD9)","v":0},{"$f":"AE9/(AG4-AE11)","v":0},{"$f":"IF(AF9=0,0,(AF9*((LOG(AF9))/LOG(2))))","v":0},null,{"$f":"N9","v":121},{"$f":"COUNTIF(L30:L37,AI9)","v":0},{"$f":"AJ9/(AL4-AJ11)","v":0},{"$f":"IF(AK9=0,0,(AK9*((LOG(AK9))/LOG(2))))","v":0},null,{"$f":"N9","v":121},{"$f":"COUNTIF(L38:L44,AN9)","v":2},{"$f":"AO9/(AQ4-AO11)","v":0.2857142857142857},{"$f":"IF(AP9=0,0,(AP9*((LOG(AP9))/LOG(2))))","v":-0.51638712058788683},null,{"$f":"N9","v":121},{"$f":"COUNTIF(L45:L52,AS9)","v":1},{"$f":"AT9/(AV4-AT11)","v":0.14285714285714285},{"$f":"IF(AU9=0,0,(AU9*((LOG(AU9))/LOG(2))))","v":-0.40105070315108626}]
[12,402,24,428,24,435,null,null,null,null,0,122,null,122,{"$f":"COUNTIF($L$7:$L$500,N10)","v":7},{"$f":"O10/$Q$4","v":0.15217391304347827},{"$f":"IF(P10=0,0,(P10*((LOG(P10))/LOG(2))))","v":-0.41333585299990999},null,null,{"$f":"N10","v":122},{"$f":"COUNTIF(L7:L14,T10)","v":2},{"$f":"U10/(W4-U11)","v":0.25},{"$f":"IF(V10=0,0,(V10*((LOG(V10))/LOG(2))))","v":-0.5},null,{"$f":"N10","v":122},{"$f":"COUNTIF(L15:L21,Y10)","v":3},{"$f":"Z10/(AB4-Z11)","v":0.42857142857142855},{"$f":"IF(AA10=0,0,(AA10*((LOG(AA10))/LOG(2))))","v":-0.52388246628704915},null,{"$f":"N10","v":122},{"$f":"COUNTIF(L22:L29,AD10)","v":1},{"$f":"AE10/(AG4-AE11)","v":0.125},{"$f":"IF(AF10=0,0,(AF10*((LOG(AF10))/LOG(2))))","v":-0.375},null,{"$f":"N10","v":122},{"$f":"COUNTIF(L30:L37,AI10)","v":1},{"$f":"AJ10/(AL4-AJ11)","v":0.125},{"$f":"IF(AK10=0,0,(AK10*((LOG(AK10))/LOG(2))))","v":-0.375},null,{"$f":"N10","v":122},{"$f":"COUNTIF(L38:L44,AN10)","v":0},{"$f":"AO10/(AQ4-AO11)","v":0},{"$f":"IF(AP10=0,0,(AP10*((LOG(AP10))/LOG(2))))","v":0},null,{"$f":"N10","v":122},{"$f":"COUNTIF(L45:L52,AS10)","v":0},{"$f":"AT10/(AV4-AT11)","v":0},{"$f":"IF(AU10=0,0,(AU10*((LOG(AU10))/LOG(2))))","v":0}]
[12,559,24,581,24,594,null,null,null,null,0,122,null,211,{"$f":"COUNTIF($L$7:$L$500,N11)","v":1},{"$f":"O11/$Q$4","v":2.1739130434782608E-2},{"$f":"IF(P11=0,0,(P11*((LOG(P11))/LOG(2))))","v":-0.12007743382732637},null,null,{"$f":"N11","v":211},{"$f":"COUNTIF(L7:L14,T11)","v":0},null,null,null,{"$f":"N11","v":211},{"$f":"COUNTIF(L15:L21,Y11)","v":0},null,null,null,{"$f":"N11","v":211},{"$f":"COUNTIF(L22:L29,AD11)","v":0},null,null,null,{"$f":"N11","v":211},{"$f":"COUNTIF(L30:L37,AI11)","v":0},null,null,null,{"$f":"N11","v":211},{"$f":"COUNTIF(L38:L44,AN11)","v":0},null,null,null,{"$f":"N11","v":211},{"$f":"COUNTIF(L45:L52,AS11)","v":1}]
[12,697,13,726,13,728,null,null,null,null,0,111,null,212,{"$f":"COUNTIF($L$7:$L$500,N12)","v":0},{"$f":"O12/$Q$4","v":0},{"$f":"IF(P12=0,0,(P12*((LOG(P12))/LOG(2))))","v":0},null,null,{"$f":"N12","v":212},{"$f":"COUNTIF(L7:L14,T12)","v":0},{"$f":"U12/(W4-U11)","v":0},{"$f":"IF(V12=0,0,(V12*((LOG(V12))/LOG(2))))","v":0},null,{"$f":"N12","v":212},{"$f":"COUNTIF(L15:L21,Y12)","v":0},{"$f":"Z12/(AB4-Z11)","v":0},{"$f":"IF(AA12=0,0,(AA12*((LOG(AA12))/LOG(2))))","v":0},null,{"$f":"N12","v":212},{"$f":"COUNTIF(L22:L29,AD12)","v":0},{"$f":"AE12/(AG4-AE11)","v":0},{"$f":"IF(AF12=0,0,(AF12*((LOG(AF12))/LOG(2))))","v":0},null,{"$f":"N12","v":212},{"$f":"COUNTIF(L30:L37,AI12)","v":0},{"$f":"AJ12/(AL4-AJ11)","v":0},{"$f":"IF(AK12=0,0,(AK12*((LOG(AK12))/LOG(2))))","v":0},null,{"$f":"N12","v":212},{"$f":"COUNTIF(L38:L44,AN12)","v":0},{"$f":"AO12/(AQ4-AO11)","v":0},{"$f":"IF(AP12=0,0,(AP12*((LOG(AP12))/LOG(2))))","v":0},null,{"$f":"N12","v":212},{"$f":"COUNTIF(L45:L52,AS12)","v":0},{"$f":"AT12/(AV4-AT11)","v":0},{"$f":"IF(AU12=0,0,(AU12*((LOG(AU12))/LOG(2))))","v":0}]
[12,824,13,829,13,853,null,null,null,null,0,111,null,221,{"$f":"COUNTIF($L$7:$L$500,N13)","v":0},{"$f":"O13/$Q$4","v":0},{"$f":"IF(P13=0,0,(P13*((LOG(P13))/LOG(2))))","v":0},null,null,{"$f":"N13","v":221},{"$f":"COUNTIF(L7:L14,T13)","v":0},{"$f":"U13/(W4-U11)","v":0},{"$f":"IF(V13=0,0,(V13*((LOG(V13))/LOG(2))))","v":0},null,{"$f":"N13","v":221},{"$f":"COUNTIF(L15:L21,Y13)","v":0},{"$f":"Z13/(AB4-Z11)","v":0},{"$f":"IF(AA13=0,0,(AA13*((LOG(AA13))/LOG(2))))","v":0},null,{"$f":"N13","v":221},{"$f":"COUNTIF(L22:L29,AD13)","v":0},{"$f":"AE13/(AG4-AE11)","v":0},{"$f":"IF(AF13=0,0,(AF13*((LOG(AF13))/LOG(2))))","v":0},null,{"$f":"N13","v":221},{"$f":"COUNTIF(L30:L37,AI13)","v":0},{"$f":"AJ13/(AL4-AJ11)","v":0},{"$f":"IF(AK13=0,0,(AK13*((LOG(AK13))/LOG(2))))","v":0},null,{"$f":"N13","v":221},{"$f":"COUNTIF(L38:L44,AN13)","v":0},{"$f":"AO13/(AQ4-AO11)","v":0},{"$f":"IF(AP13=0,0,(AP13*((LOG(AP13))/LOG(2))))","v":0},null,{"$f":"N13","v":221},{"$f":"COUNTIF(L45:L52,AS13)","v":0},{"$f":"AT13/(AV4-AT11)","v":0},{"$f":"IF(AU13=0,0,(AU13*((LOG(AU13))/LOG(2))))","v":0}]
[21,1136,22,1143,24,1151,null,null,null,null,0,222,null,222,{"$f":"COUNTIF($L$7:$L$500,N14)","v":5},{"$f":"O14/$Q$4","v":0.10869565217391304},{"$f":"IF(P14=0,0,(P14*((LOG(P14))/LOG(2))))","v":-0.34800368056191849},null,null,{"$f":"N14","v":222},{"$f":"COUNTIF(L7:L14,T14)","v":1},{"$f":"U14/(W4-U11)","v":0.125},{"$f":"IF(V14=0,0,(V14*((LOG(V14))/LOG(2))))","v":-0.375},null,{"$f":"N14","v":222},{"$f":"COUNTIF(L15:L21,Y14)","v":1},{"$f":"Z14/(AB4-Z11)","v":0.14285714285714285},{"$f":"IF(AA14=0,0,(AA14*((LOG(AA14))/LOG(2))))","v":-0.40105070315108626},null,{"$f":"N14","v":222},{"$f":"COUNTIF(L22:L29,AD14)","v":0},{"$f":"AE14/(AG4-AE11)","v":0},{"$f":"IF(AF14=0,0,(AF14*((LOG(AF14))/LOG(2))))","v":0},null,{"$f":"N14","v":222},{"$f":"COUNTIF(L30:L37,AI14)","v":2},{"$f":"AJ14/(AL4-AJ11)","v":0.25},{"$f":"IF(AK14=0,0,(AK14*((LOG(AK14))/LOG(2))))","v":-0.5},null,{"$f":"N14","v":222},{"$f":"COUNTIF(L38:L44,AN14)","v":0},{"$f":"AO14/(AQ4-AO11)","v":0},{"$f":"IF(AP14=0,0,(AP14*((LOG(AP14))/LOG(2))))","v":0},null,{"$f":"N14","v":222},{"$f":"COUNTIF(L45:L52,AS14)","v":1},{"$f":"AT14/(AV4-AT11)","v":0.14285714285714285},{"$f":"IF(AU14=0,0,(AU14*((LOG(AU14))/LOG(2))))","v":-0.40105070315108626}]
[12,1392,24,1411,24,1419,null,null,null,null,0,122,null,null,null,{"$f":"SUM(P7:P14)","v":1},{"$f":"-SUM(Q7:Q14)","v":2.1587710214604496},null,null,null,null,{"$f":"SUM(V7:V14)","v":1},{"$f":"-SUM(W7:W14)","v":1.9056390622295665},null,null,null,{"$f":"SUM(AA7:AA14)","v":1},{"$f":"-SUM(AB7:AB14)","v":1.8423709931771084},null,null,null,{"$f":"SUM(AF7:AF14)","v":1},{"$f":"-SUM(AG7:AG14)","v":1.4056390622295665},null,null,null,{"$f":"SUM(AK7:AK14)","v":1},{"$f":"-SUM(AL7:AL14)","v":1.75},null,null,null,{"$f":"SUM(AP7:AP14)","v":0.99999999999999989},{"$f":"-SUM(AQ7:AQ14)","v":1.5566567074628228},null,null,null,{"$f":"SUM(AU7:AU14)","v":1},{"$f":"-SUM(AV7:AV14)","v":1.1488348542809166}]
[21,1548,22,1557,24,1565,null,null,null,null,0,222,null,null,null,"U=",{"$f":"Q15/(LOG(Q4)/LOG(2))","v":0.39082951157869972},null,null,null,null,"U1=",{"$f":"W15/(LOG(W4)/LOG(2))","v":0.63521302074318886},null,null,null,"U2=",{"$f":"AB15/(LOG(AB4)/LOG(2))","v":0.65626578908903088},null,null,null,"U3=",{"$f":"AG15/(LOG(AG4)/LOG(2))","v":0.46854635407652218},null,null,null,"U4=",{"$f":"AL15/(LOG(AL4)/LOG(2))","v":0.58333333333333337},null,null,null,"U5=",{"$f":"AQ15/(LOG(AQ4)/LOG(2))","v":0.55449230705816743},null,null,null,"U6=",{"$f":"AV15/(LOG(AV4)/LOG(2))","v":0.38294495142697221}]
[12,1661,13,1675,13,1689,null,null,null,null,0,111]
[12,1792,24,1819,24,1828,null,null,null,null,0,122]
[12,1921,13,1965,13,1974,null,null,null,null,0,111,null,"Total Target Seq"]
[12,2071,13,2078,24,2114,null,null,null,null,0,112,null,{"$f":"COUNTIF(L7:L52,G3)","v":1},null,8,7,8,8,7,8]
[12,2264,24,2288,24,2296,null,null,null,null,0,122,null,null,null,"% of reinforcement given in 6 equal intervals based on number of trials "]
[12,2420,13,2428,24,2441,null,null,null,null,0,112,null,null,null,"%_1","%_2","%_3","%_4","%_5","%_6"]
[12,2576,13,2584,24,2613,null,null,null,null,0,112,null,null,"target sequence",{"$f":"$G$3","v":211},{"$f":"$G$3","v":211},{"$f":"$G$3","v":211},{"$f":"$G$3","v":211},{"$f":"$G$3","v":211},{"$f":"$G$3","v":211}]
[12,3115,13,3125,13,3151,null,null,null,null,0,111,null,null,"total reinforcement",{"$f":"U11","v":0},{"$f":"Z11","v":0},{"$f":"AE11","v":0},{"$f":"AJ11","v":0},{"$f":"AO11","v":0},{"$f":"AT11","v":1}]
[12,3287,13,3298,24,3317,null,null,null,null,0,112,null,null,"% target"]
[12,3419,13,3441,13,3459,null,null,null,null,0,111,null,null,"CCRF"]
[12,3853,24,3873,24,3881,null,null,null,null,0,122,null,null,"% CCRf"]
[12,4269,13,4271,13,4281,null,null,null,null,0,111,null,null,"average response rate",{"$f":"F14/P20","v":143.875},{"$f":"(F21-F14)/Q20","v":163.57142857142858},{"$f":"(F29-F21)/R20","v":289.5},{"$f":"(F37-F29)/S20","v":404.625},{"$f":"(F44-F37)/T20","v":560},{"$f":"(F52-F44)/U20","v":576.875}]
[12,4573,13,4583,24,4612,null,null,null,null,0,112]
[12,4835,24,4849,24,4889,null,null,null,null,0,122]
[12,5326,13,5332,13,5371,null,null,null,null,0,111]
[12,5837,13,5845,13,5870,null,null,null,null,0,111]
[21,5979,22,5991,24,6003,null,null,null,null,0,222]
[12,6109,13,6121,13,6130,null,null,null,null,0,111]
[21,6515,22,6524,24,6534,null,null,null,null,0,222]
[12,6813,13,6829,24,6845,null,null,null,null,0,112]
[12,7832,13,7841,13,7849,null,null,null,null,0,111]
[12,8024,13,8034,24,8224,null,null,null,null,0,112]
[12,9287,24,9301,13,9325,null,null,null,null,0,121]
[12,9639,13,9651,24,9669,null,null,null,null,0,112]
[12,9766,24,9778,13,9786,null,null,null,null,0,121]
[12,9888,13,9942,13,9977,null,null,null,null,0,111]
[12,11615,13,11622,24,11636,null,null,null,null,0,112]
[12,11750,13,11761,13,11769,null,null,null,null,0,111]
[21,15300,11,15334,11,15341,null,null,null,null,0,211]
[12,15444,24,15465,13,15471,null,null,null,null,0,121]
[12,15563,13,15570,13,15580,null,null,null,null,0,111]
[12,15679,13,15681,13,15714,null,null,null,null,0,111]
[21,15827,22,15836,24,15844,null,null,null,null,0,222]
[12,16021,13,16027,13,16034,null,null,null,null,0,111]
[12,16145,13,16192,13,16206,null,null,null,null,0,111]
[12,16354,13,16378,13,16384,null,null,null,null,0,111]

{"sheet":"!L901A4B.axt","index":16,"n_rows":50,"n_cols":48,"rows_kept":50,"cut":false,"hidden":false,"merged":[[4,39,4,42],[5,39,5,40],[4,44,4,47],[5,44,5,45],[4,24,4,27],[5,24,5,25],[4,29,4,32],[5,29,5,30],[4,34,4,37],[5,34,5,35],[1,1,1,2],[5,13,5,14],[18,13,18,14],[19,13,19,14],[4,19,4,22],[5,19,5,20]]}
["Report for:!L901A4B.axt"]
["Date:","<date>"]
["Hen:","<hen>",null,null,null,"Correct Sequence",{"$f":"Start!J2","v":211},null,null,null,null,null,null,null,null,"Total Sequences in Data",{"$f":"4994-COUNTBLANK(L7:L5000)","v":44},null,null,null,null,"Total Sequences in Block Data",{"$f":"COUNTA(L7:L13)","v":7},null,null,null,"Total Sequences in Block Data",{"$f":"COUNTA(L14:L21)","v":8},null,null,null,"Total Sequences in Block Data",{"$f":"COUNTA(L22:L28)","v":7},null,null,null,"Total Sequences in Block Data",{"$f":"COUNTA(L29:L35)","v":7},null,null,null,"Total Sequences in Block Data",{"$f":"COUNTA(L36:L43)","v":8},null,null,null,"Total Sequences in Block Data",{"$f":"COUNTA(L44:L50)","v":7}]
[null,null,null,null,null,null,null,null,null,null,null,null,null,null,null,"Total Sequences in Summary",{"$f":"SUM(O7:O14)","v":44},null,null,null,null,"Total Sequences in Block Summary",{"$f":"SUM(U7:U14)","v":7},null,null,null,"Total Sequences in Block Summary",{"$f":"SUM(Z7:Z14)","v":8},null,null,null,"Total Sequences in Block Summary",{"$f":"SUM(AE7:AE14)","v":7},null,null,null,"Total Sequences in Block Summary",{"$f":"SUM(AJ7:AJ14)","v":7},null,null,null,"Total Sequences in Block Summary",{"$f":"SUM(AO7:AO14)","v":8},null,null,null,"Total Sequences in Block Summary",{"$f":"SUM(AT7:AT14)","v":7}]
[null,null,null,null,null,null,null,null,null,null,null,null,null,null,null,null,null,null,null,"Block 1",null,null,null,null,"Block 2",null,null,null,null,"Block 3",null,null,null,null,"Block 4",null,null,null,null,"Block 5",null,null,null,null,"Block 6"]
["Sequence\nComponent\n1","Time\n1","Sequence\nComponent\n2","Time\n2","Sequence\nComponent\n3","Time\n3","Sequence\nComponent\n4","Time\n4","Sequence\nComponent\n5","Time\n5","Correct?\n0=No 1=Yes","Sequence",null,"Frequency",null,"Relative Frequency","Variability",null,null,"Frequency",null,"Relative Frequency","Variability",null,"Frequency",null,"Relative Frequency","Variability",null,"Frequency",null,"Relative Frequency","Variability",null,"Frequency",null,"Relative Frequency","Variability",null,"Frequency",null,"Relative Frequency","Variability",null,"Frequency",null,"Relative Frequency","Variability"]
[12,4,13,10,24,26,null,null,null,null,0,112,null,111,{"$f":"COUNTIF($L$7:$L$500,N7)","v":17},{"$f":"O7/$Q$4","v":0.38636363636363635},{"$f":"IF(P7=0,0,(P7*((LOG(P7))/LOG(2))))","v":-0.53007884580859743},null,null,{"$f":"N7","v":111},{"$f":"COUNTIF(L7:L13,T7)","v":4},{"$f":"U7/(W4-U11)","v":0.5714285714285714},{"$f":"IF(V7=0,0,(V7*((LOG(V7))/LOG(2))))","v":-0.46134566974720237},null,{"$f":"N7","v":111},{"$f":"COUNTIF(L14:L21,Y7)","v":3},{"$f":"Z7/(AB4-Z11)","v":0.375},{"$f":"IF(AA7=0,0,(AA7*((LOG(AA7))/LOG(2))))","v":-0.53063906222956647},null,{"$f":"N7","v":111},{"$f":"COUNTIF(L22:L28,AD7)","v":4},{"$f":"AE7/(AG4-AE11)","v":0.5714285714285714},{"$f":"IF(AF7=0,0,(AF7*((LOG(AF7))/LOG(2))))","v":-0.46134566974720237},null,{"$f":"N7","v":111},{"$f":"COUNTIF(L29:L35,AI7)","v":1},{"$f":"AJ7/(AL4-AJ11)","v":0.14285714285714285},{"$f":"IF(AK7=0,0,(AK7*((LOG(AK7))/LOG(2))))","v":-0.40105070315108626},null,{"$f":"N7","v":111},{"$f":"COUNTIF(L36:L43,AN7)","v":3},{"$f":"AO7/(AQ4-AO11)","v":0.375},{"$f":"IF(AP7=0,0,(AP7*((LOG(AP7))/LOG(2))))","v":-0.53063906222956647},null,{"$f":"N7","v":111},{"$f":"COUNTIF(L44:L50,AS7)","v":2},{"$f":"AT7/(AV4-AT11)","v":0.33333333333333331},{"$f":"IF(AU7=0,0,(AU7*((LOG(AU7))/LOG(2))))","v":-0.52832083357371862}]
[12,164,13,169,13,179,null,null,null,null,0,111,null,112,{"$f":"COUNTIF($L$7:$L$500,N8)","v":9},{"$f":"O8/$Q$4","v":0.20454545454545456},{"$f":"IF(P8=0,0,(P8*((LOG(P8))/LOG(2))))","v":-0.46830817169897415},null,null,{"$f":"N8","v":112},{"$f":"COUNTIF(L7:L13,T8)","v":2},{"$f":"U8/(W4-U11)","v":0.2857142857142857},{"$f":"IF(V8=0,0,(V8*((LOG(V8))/LOG(2))))","v":-0.51638712058788683},null,{"$f":"N8","v":112},{"$f":"COUNTIF(L14:L21,Y8)","v":2},{"$f":"Z8/(AB4-Z11)","v":0.25},{"$f":"IF(AA8=0,0,(AA8*((LOG(AA8))/LOG(2))))","v":-0.5},null,{"$f":"N8","v":112},{"$f":"COUNTIF(L22:L28,AD8)","v":0},{"$f":"AE8/(AG4-AE11)","v":0},{"$f":"IF(AF8=0,0,(AF8*((LOG(AF8))/LOG(2))))","v":0},null,{"$f":"N8","v":112},{"$f":"COUNTIF(L29:L35,AI8)","v":1},{"$f":"AJ8/(AL4-AJ11)","v":0.14285714285714285},{"$f":"IF(AK8=0,0,(AK8*((LOG(AK8))/LOG(2))))","v":-0.40105070315108626},null,{"$f":"N8","v":112},{"$f":"COUNTIF(L36:L43,AN8)","v":1},{"$f":"AO8/(AQ4-AO11)","v":0.125},{"$f":"IF(AP8=0,0,(AP8*((LOG(AP8))/LOG(2))))","v":-0.375},null,{"$f":"N8","v":112},{"$f":"COUNTIF(L44:L50,AS8)","v":3},{"$f":"AT8/(AV4-AT11)","v":0.5},{"$f":"IF(AU8=0,0,(AU8*((LOG(AU8))/LOG(2))))","v":-0.5}]
[12,276,13,281,24,309,null,null,null,null,0,112,null,121,{"$f":"COUNTIF($L$7:$L$500,N9)","v":0},{"$f":"O9/$Q$4","v":0},{"$f":"IF(P9=0,0,(P9*((LOG(P9))/LOG(2))))","v":0},null,null,{"$f":"N9","v":121},{"$f":"COUNTIF(L7:L13,T9)","v":0},{"$f":"U9/(W4-U11)","v":0},{"$f":"IF(V9=0,0,(V9*((LOG(V9))/LOG(2))))","v":0},null,{"$f":"N9","v":121},{"$f":"COUNTIF(L14:L21,Y9)","v":0},{"$f":"Z9/(AB4-Z11)","v":0},{"$f":"IF(AA9=0,0,(AA9*((LOG(AA9))/LOG(2))))","v":0},null,{"$f":"N9","v":121},{"$f":"COUNTIF(L22:L28,AD9)","v":0},{"$f":"AE9/(AG4-AE11)","v":0},{"$f":"IF(AF9=0,0,(AF9*((LOG(AF9))/LOG(2))))","v":0},null,{"$f":"N9","v":121},{"$f":"COUNTIF(L29:L35,AI9)","v":0},{"$f":"AJ9/(AL4-AJ11)","v":0},{"$f":"IF(AK9=0,0,(AK9*((LOG(AK9))/LOG(2))))","v":0},null,{"$f":"N9","v":121},{"$f":"COUNTIF(L36:L43,AN9)","v":0},{"$f":"AO9/(AQ4-AO11)","v":0},{"$f":"IF(AP9=0,0,(AP9*((LOG(AP9))/LOG(2))))","v":0},null,{"$f":"N9","v":121},{"$f":"COUNTIF(L44:L50,AS9)","v":0},{"$f":"AT9/(AV4-AT11)","v":0},{"$f":"IF(AU9=0,0,(AU9*((LOG(AU9))/LOG(2))))","v":0}]
[21,419,22,426,24,434,null,null,null,null,0,222,null,122,{"$f":"COUNTIF($L$7:$L$500,N10)","v":6},{"$f":"O10/$Q$4","v":0.13636363636363635},{"$f":"IF(P10=0,0,(P10*((LOG(P10))/LOG(2))))","v":-0.39197306153401923},null,null,{"$f":"N10","v":122},{"$f":"COUNTIF(L7:L13,T10)","v":0},{"$f":"U10/(W4-U11)","v":0},{"$f":"IF(V10=0,0,(V10*((LOG(V10))/LOG(2))))","v":0},null,{"$f":"N10","v":122},{"$f":"COUNTIF(L14:L21,Y10)","v":1},{"$f":"Z10/(AB4-Z11)","v":0.125},{"$f":"IF(AA10=0,0,(AA10*((LOG(AA10))/LOG(2))))","v":-0.375},null,{"$f":"N10","v":122},{"$f":"COUNTIF(L22:L28,AD10)","v":2},{"$f":"AE10/(AG4-AE11)","v":0.2857142857142857},{"$f":"IF(AF10=0,0,(AF10*((LOG(AF10))/LOG(2))))","v":-0.51638712058788683},null,{"$f":"N10","v":122},{"$f":"COUNTIF(L29:L35,AI10)","v":1},{"$f":"AJ10/(AL4-AJ11)","v":0.14285714285714285},{"$f":"IF(AK10=0,0,(AK10*((LOG(AK10))/LOG(2))))","v":-0.40105070315108626},null,{"$f":"N10","v":122},{"$f":"COUNTIF(L36:L43,AN10)","v":1},{"$f":"AO10/(AQ4-AO11)","v":0.125},{"$f":"IF(AP10=0,0,(AP10*((LOG(AP10))/LOG(2))))","v":-0.375},null,{"$f":"N10","v":122},{"$f":"COUNTIF(L44:L50,AS10)","v":1},{"$f":"AT10/(AV4-AT11)","v":0.16666666666666666},{"$f":"IF(AU10=0,0,(AU10*((LOG(AU10))/LOG(2))))","v":-0.43082708345352599}]
[12,540,13,563,13,571,null,null,null,null,0,111,null,211,{"$f":"COUNTIF($L$7:$L$500,N11)","v":1},{"$f":"O11/$Q$4","v":2.2727272727272728E-2},{"$f":"IF(P11=0,0,(P11*((LOG(P11))/LOG(2))))","v":-0.12407799133266585},null,null,{"$f":"N11","v":211},{"$f":"COUNTIF(L7:L13,T11)","v":0},null,null,null,{"$f":"N11","v":211},{"$f":"COUNTIF(L14:L21,Y11)","v":0},null,null,null,{"$f":"N11","v":211},{"$f":"COUNTIF(L22:L28,AD11)","v":0},null,null,null,{"$f":"N11","v":211},{"$f":"COUNTIF(L29:L35,AI11)","v":0},null,null,null,{"$f":"N11","v":211},{"$f":"COUNTIF(L36:L43,AN11)","v":0},null,null,null,{"$f":"N11","v":211},{"$f":"COUNTIF(L44:L50,AS11)","v":1}]
[12,670,13,688,13,696,null,null,null,null,0,111,null,212,{"$f":"COUNTIF($L$7:$L$500,N12)","v":0},{"$f":"O12/$Q$4","v":0},{"$f":"IF(P12=0,0,(P12*((LOG(P12))/LOG(2))))","v":0},null,null,{"$f":"N12","v":212},{"$f":"COUNTIF(L7:L13,T12)","v":0},{"$f":"U12/(W4-U11)","v":0},{"$f":"IF(V12=0,0,(V12*((LOG(V12))/LOG(2))))","v":0},null,{"$f":"N12","v":212},{"$f":"COUNTIF(L14:L21,Y12)","v":0},{"$f":"Z12/(AB4-Z11)","v":0},{"$f":"IF(AA12=0,0,(AA12*((LOG(AA12))/LOG(2))))","v":0},null,{"$f":"N12","v":212},{"$f":"COUNTIF(L22:L28,AD12)","v":0},{"$f":"AE12/(AG4-AE11)","v":0},{"$f":"IF(AF12=0,0,(AF12*((LOG(AF12))/LOG(2))))","v":0},null,{"$f":"N12","v":212},{"$f":"COUNTIF(L29:L35,AI12)","v":0},{"$f":"AJ12/(AL4-AJ11)","v":0},{"$f":"IF(AK12=0,0,(AK12*((LOG(AK12))/LOG(2))))","v":0},null,{"$f":"N12","v":212},{"$f":"COUNTIF(L36:L43,AN12)","v":0},{"$f":"AO12/(AQ4-AO11)","v":0},{"$f":"IF(AP12=0,0,(AP12*((LOG(AP12))/LOG(2))))","v":0},null,{"$f":"N12","v":212},{"$f":"COUNTIF(L44:L50,AS12)","v":0},{"$f":"AT12/(AV4-AT11)","v":0},{"$f":"IF(AU12=0,0,(AU12*((LOG(AU12))/LOG(2))))","v":0}]
[12,802,13,813,13,817,null,null,null,null,0,111,null,221,{"$f":"COUNTIF($L$7:$L$500,N13)","v":3},{"$f":"O13/$Q$4","v":6.8181818181818177E-2},{"$f":"IF(P13=0,0,(P13*((LOG(P13))/LOG(2))))","v":-0.26416834894882779},null,null,{"$f":"N13","v":221},{"$f":"COUNTIF(L7:L13,T13)","v":0},{"$f":"U13/(W4-U11)","v":0},{"$f":"IF(V13=0,0,(V13*((LOG(V13))/LOG(2))))","v":0},null,{"$f":"N13","v":221},{"$f":"COUNTIF(L14:L21,Y13)","v":0},{"$f":"Z13/(AB4-Z11)","v":0},{"$f":"IF(AA13=0,0,(AA13*((LOG(AA13))/LOG(2))))","v":0},null,{"$f":"N13","v":221},{"$f":"COUNTIF(L22:L28,AD13)","v":0},{"$f":"AE13/(AG4-AE11)","v":0},{"$f":"IF(AF13=0,0,(AF13*((LOG(AF13))/LOG(2))))","v":0},null,{"$f":"N13","v":221},{"$f":"COUNTIF(L29:L35,AI13)","v":2},{"$f":"AJ13/(AL4-AJ11)","v":0.2857142857142857},{"$f":"IF(AK13=0,0,(AK13*((LOG(AK13))/LOG(2))))","v":-0.51638712058788683},null,{"$f":"N13","v":221},{"$f":"COUNTIF(L36:L43,AN13)","v":1},{"$f":"AO13/(AQ4-AO11)","v":0.125},{"$f":"IF(AP13=0,0,(AP13*((LOG(AP13))/LOG(2))))","v":-0.375},null,{"$f":"N13","v":221},{"$f":"COUNTIF(L44:L50,AS13)","v":0},{"$f":"AT13/(AV4-AT11)","v":0},{"$f":"IF(AU13=0,0,(AU13*((LOG(AU13))/LOG(2))))","v":0}]
[12,940,13,988,24,1000,null,null,null,null,0,112,null,222,{"$f":"COUNTIF($L$7:$L$500,N14)","v":8},{"$f":"O14/$Q$4","v":0.18181818181818182},{"$f":"IF(P14=0,0,(P14*((LOG(P14))/LOG(2))))","v":-0.44716938520678134},null,null,{"$f":"N14","v":222},{"$f":"COUNTIF(L7:L13,T14)","v":1},{"$f":"U14/(W4-U11)","v":0.14285714285714285},{"$f":"IF(V14=0,0,(V14*((LOG(V14))/LOG(2))))","v":-0.40105070315108626},null,{"$f":"N14","v":222},{"$f":"COUNTIF(L14:L21,Y14)","v":2},{"$f":"Z14/(AB4-Z11)","v":0.25},{"$f":"IF(AA14=0,0,(AA14*((LOG(AA14))/LOG(2))))","v":-0.5},null,{"$f":"N14","v":222},{"$f":"COUNTIF(L22:L28,AD14)","v":1},{"$f":"AE14/(AG4-AE11)","v":0.14285714285714285},{"$f":"IF(AF14=0,0,(AF14*((LOG(AF14))/LOG(2))))","v":-0.40105070315108626},null,{"$f":"N14","v":222},{"$f":"COUNTIF(L29:L35,AI14)","v":2},{"$f":"AJ14/(AL4-AJ11)","v":0.2857142857142857},{"$f":"IF(AK14=0,0,(AK14*((LOG(AK14))/LOG(2))))","v":-0.51638712058788683},null,{"$f":"N14","v":222},{"$f":"COUNTIF(L36:L43,AN14)","v":2},{"$f":"AO14/(AQ4-AO11)","v":0.25},{"$f":"IF(AP14=0,0,(AP14*((LOG(AP14))/LOG(2))))","v":-0.5},null,{"$f":"N14","v":222},{"$f":"COUNTIF(L44:L50,AS14)","v":0},{"$f":"AT14/(AV4-AT11)","v":0},{"$f":"IF(AU14=0,0,(AU14*((LOG(AU14))/LOG(2))))","v":0}]
[12,1162,24,1189,24,1205,null,null,null,null,0,122,null,null,null,{"$f":"SUM(P7:P14)","v":1},{"$f":"-SUM(Q7:Q14)","v":2.2257758045298659},null,null,null,null,{"$f":"SUM(V7:V14)","v":1},{"$f":"-SUM(W7:W14)","v":1.3787834934861753},null,null,null,{"$f":"SUM(AA7:AA14)","v":1},{"$f":"-SUM(AB7:AB14)","v":1.9056390622295665},null,null,null,{"$f":"SUM(AF7:AF14)","v":1},{"$f":"-SUM(AG7:AG14)","v":1.3787834934861753},null,null,null,{"$f":"SUM(AK7:AK14)","v":0.99999999999999989},{"$f":"-SUM(AL7:AL14)","v":2.2359263506290321},null,null,null,{"$f":"SUM(AP7:AP14)","v":1},{"$f":"-SUM(AQ7:AQ14)","v":2.1556390622295662},null,null,null,{"$f":"SUM(AU7:AU14)","v":0.99999999999999989},{"$f":"-SUM(AV7:AV14)","v":1.4591479170272446}]
[12,1573,13,1583,24,1607,null,null,null,null,0,112,null,null,null,"U=",{"$f":"Q15/(LOG(Q4)/LOG(2))","v":0.40769368681742574},null,null,null,null,"U1=",{"$f":"W15/(LOG(W4)/LOG(2))","v":0.49113258984568253},null,null,null,"U2=",{"$f":"AB15/(LOG(AB4)/LOG(2))","v":0.63521302074318886},null,null,null,"U3=",{"$f":"AG15/(LOG(AG4)/LOG(2))","v":0.49113258984568253},null,null,null,"U4=",{"$f":"AL15/(LOG(AL4)/LOG(2))","v":0.79645303593827277},null,null,null,"U5=",{"$f":"AQ15/(LOG(AQ4)/LOG(2))","v":0.71854635407652212},null,null,null,"U6=",{"$f":"AV15/(LOG(AV4)/LOG(2))","v":0.51975897509880453}]
[12,1700,13,1707,13,1711,null,null,null,null,0,111]
[21,1835,22,1845,24,1853,null,null,null,null,0,222]
[21,2006,22,2013,24,2021,null,null,null,null,0,222,null,"Total Target Seq"]
[12,2135,13,2145,13,2154,null,null,null,null,0,111,null,{"$f":"COUNTIF(L7:L50,G3)","v":1},null,7,8,7,7,8,7]
[12,2248,13,2252,13,2268,null,null,null,null,0,111,null,null,null,"% of reinforcement given in 6 equal intervals based on number of trials "]
[12,2406,24,2423,24,2431,null,null,null,null,0,122,null,null,null,"%_1","%_2","%_3","%_4","%_5","%_6"]
[12,2535,13,2569,13,2579,null,null,null,null,0,111,null,null,"target sequence",{"$f":"$G$3","v":211},{"$f":"$G$3","v":211},{"$f":"$G$3","v":211},{"$f":"$G$3","v":211},{"$f":"$G$3","v":211},{"$f":"$G$3","v":211}]
[12,2686,13,2690,13,2696,null,null,null,null,0,111,null,null,"total reinforcement",{"$f":"U11","v":0},{"$f":"Z11","v":0},{"$f":"AE11","v":0},{"$f":"AJ11","v":0},{"$f":"AO11","v":0},{"$f":"AT11","v":1}]
[12,2792,24,2812,24,2820,null,null,null,null,0,122,null,null,"% target"]
[21,2955,22,2962,24,2970,null,null,null,null,0,222,null,null,"CCRF"]
[12,3074,13,3080,13,3089,null,null,null,null,0,111,null,null,"% CCRf"]
[12,3299,13,3304,13,3329,null,null,null,null,0,111,null,null,"average response rate",{"$f":"F13/P20","v":116.71428571428571},{"$f":"(F21-F13)/Q20","v":181.375},{"$f":"(F28-F21)/R20","v":151.57142857142858},{"$f":"(F35-F28)/S20","v":283},{"$f":"(F43-F35)/T20","v":1577.625},{"$f":"(F50-F43)/U20","v":844}]
[21,3453,22,3461,24,3482,null,null,null,null,0,222]
[21,4042,22,4049,13,4084,null,null,null,null,0,221]
[21,4514,22,4522,13,4563,null,null,null,null,0,221]
[12,4668,24,4682,24,4689,null,null,null,null,0,122]
[12,4924,13,4932,13,4940,null,null,null,null,0,111]
[12,5054,13,5077,24,5102,null,null,null,null,0,112]
[21,5293,22,5301,24,5310,null,null,null,null,0,222]
[12,5412,13,5418,13,5424,null,null,null,null,0,111]
[21,5977,22,5986,24,5995,null,null,null,null,0,222]
[12,6223,13,6234,13,6242,null,null,null,null,0,111]
[12,6366,13,6368,13,6377,null,null,null,null,0,111]
[21,6525,22,6534,13,6561,null,null,null,null,0,221]
[21,6808,22,6816,24,6825,null,null,null,null,0,222]
[12,17370,24,17387,24,17395,null,null,null,null,0,122]
[12,17876,13,17893,24,17931,null,null,null,null,0,112]
[12,19406,24,19433,24,19444,null,null,null,null,0,122]
[12,19821,13,19826,24,19833,null,null,null,null,0,112]
[12,22734,13,22741,24,22759,null,null,null,null,0,112]
[21,23131,11,23191,11,23198,null,null,null,null,0,211]
[12,23438,13,23441,13,23447,null,null,null,null,0,111]
[12,23639,13,23647,13,23659,null,null,null,null,0,111]
[12,23758,13,23796,24,23839,null,null,null,null,0,112]

{"sheet":"!L90294B.axt","index":17,"n_rows":28,"n_cols":48,"rows_kept":28,"cut":false,"hidden":false,"merged":[[4,39,4,42],[5,39,5,40],[4,44,4,47],[5,44,5,45],[4,24,4,27],[5,24,5,25],[4,29,4,32],[5,29,5,30],[4,34,4,37],[5,34,5,35],[1,1,1,2],[5,13,5,14],[18,13,18,14],[19,13,19,14],[4,19,4,22],[5,19,5,20]]}
["Report for:!L90294B.axt"]
["Date:","<date>"]
["Hen:","<hen>",null,null,null,"Correct Sequence",{"$f":"Start!J2","v":211},null,null,null,null,null,null,null,null,"Total Sequences in Data",{"$f":"4994-COUNTBLANK(L7:L5000)","v":14},null,null,null,null,"Total Sequences in Block Data",{"$f":"COUNTA(L7:L8)","v":2},null,null,null,"Total Sequences in Block Data",{"$f":"COUNTA(L9:L11)","v":3},null,null,null,"Total Sequences in Block Data",{"$f":"COUNTA(L12:L13)","v":2},null,null,null,"Total Sequences in Block Data",{"$f":"COUNTA(L14:L15)","v":2},null,null,null,"Total Sequences in Block Data",{"$f":"COUNTA(L16:L18)","v":3},null,null,null,"Total Sequences in Block Data",{"$f":"COUNTA(L19:L20)","v":2}]
[null,null,null,null,null,null,null,null,null,null,null,null,null,null,null,"Total Sequences in Summary",{"$f":"SUM(O7:O14)","v":14},null,null,null,null,"Total Sequences in Block Summary",{"$f":"SUM(U7:U14)","v":2},null,null,null,"Total Sequences in Block Summary",{"$f":"SUM(Z7:Z14)","v":3},null,null,null,"Total Sequences in Block Summary",{"$f":"SUM(AE7:AE14)","v":2},null,null,null,"Total Sequences in Block Summary",{"$f":"SUM(AJ7:AJ14)","v":2},null,null,null,"Total Sequences in Block Summary",{"$f":"SUM(AO7:AO14)","v":3},null,null,null,"Total Sequences in Block Summary",{"$f":"SUM(AT7:AT14)","v":2}]
[null,null,null,null,null,null,null,null,null,null,null,null,null,null,null,null,null,null,null,"Block 1",null,null,null,null,"Block 2",null,null,null,null,"Block 3",null,null,null,null,"Block 4",null,null,null,null,"Block 5",null,null,null,null,"Block 6"]
["Sequence\nComponent\n1","Time\n1","Sequence\nComponent\n2","Time\n2","Sequence\nComponent\n3","Time\n3","Sequence\nComponent\n4","Time\n4","Sequence\nComponent\n5","Time\n5","Correct?\n0=No 1=Yes","Sequence",null,"Frequency",null,"Relative Frequency","Variability",null,null,"Frequency",null,"Relative Frequency","Variability",null,"Frequency",null,"Relative Frequency","Variability",null,"Frequency",null,"Relative Frequency","Variability",null,"Frequency",null,"Relative Frequency","Variability",null,"Frequency",null,"Relative Frequency","Variability",null,"Frequency",null,"Relative Frequency","Variability"]
[12,2,13,21,13,30,null,null,null,null,0,111,null,111,{"$f":"COUNTIF($L$7:$L$500,N7)","v":8},{"$f":"O7/$Q$4","v":0.5714285714285714},{"$f":"IF(P7=0,0,(P7*((LOG(P7))/LOG(2))))","v":-0.46134566974720237},null,null,{"$f":"N7","v":111},{"$f":"COUNTIF(L7:L8,T7)","v":1},{"$f":"U7/(W4-U11)","v":0.5},{"$f":"IF(V7=0,0,(V7*((LOG(V7))/LOG(2))))","v":-0.5},null,{"$f":"N7","v":111},{"$f":"COUNTIF(L9:L11,Y7)","v":1},{"$f":"Z7/(AB4-Z11)","v":0.33333333333333331},{"$f":"IF(AA7=0,0,(AA7*((LOG(AA7))/LOG(2))))","v":-0.52832083357371862},null,{"$f":"N7","v":111},{"$f":"COUNTIF(L12:L13,AD7)","v":2},{"$f":"AE7/(AG4-AE11)","v":1},{"$f":"IF(AF7=0,0,(AF7*((LOG(AF7))/LOG(2))))","v":0},null,{"$f":"N7","v":111},{"$f":"COUNTIF(L14:L15,AI7)","v":0},{"$f":"AJ7/(AL4-AJ11)","v":0},{"$f":"IF(AK7=0,0,(AK7*((LOG(AK7))/LOG(2))))","v":0},null,{"$f":"N7","v":111},{"$f":"COUNTIF(L16:L18,AN7)","v":2},{"$f":"AO7/(AQ4-AO11)","v":0.66666666666666663},{"$f":"IF(AP7=0,0,(AP7*((LOG(AP7))/LOG(2))))","v":-0.38997500048077083},null,{"$f":"N7","v":111},{"$f":"COUNTIF(L19:L20,AS7)","v":2},{"$f":"AT7/(AV4-AT11)","v":1},{"$f":"IF(AU7=0,0,(AU7*((LOG(AU7))/LOG(2))))","v":0}]
[12,123,24,140,24,146,null,null,null,null,0,122,null,112,{"$f":"COUNTIF($L$7:$L$500,N8)","v":2},{"$f":"O8/$Q$4","v":0.14285714285714285},{"$f":"IF(P8=0,0,(P8*((LOG(P8))/LOG(2))))","v":-0.40105070315108626},null,null,{"$f":"N8","v":112},{"$f":"COUNTIF(L7:L8,T8)","v":0},{"$f":"U8/(W4-U11)","v":0},{"$f":"IF(V8=0,0,(V8*((LOG(V8))/LOG(2))))","v":0},null,{"$f":"N8","v":112},{"$f":"COUNTIF(L9:L11,Y8)","v":1},{"$f":"Z8/(AB4-Z11)","v":0.33333333333333331},{"$f":"IF(AA8=0,0,(AA8*((LOG(AA8))/LOG(2))))","v":-0.52832083357371862},null,{"$f":"N8","v":112},{"$f":"COUNTIF(L12:L13,AD8)","v":0},{"$f":"AE8/(AG4-AE11)","v":0},{"$f":"IF(AF8=0,0,(AF8*((LOG(AF8))/LOG(2))))","v":0},null,{"$f":"N8","v":112},{"$f":"COUNTIF(L14:L15,AI8)","v":1},{"$f":"AJ8/(AL4-AJ11)","v":0.5},{"$f":"IF(AK8=0,0,(AK8*((LOG(AK8))/LOG(2))))","v":-0.5},null,{"$f":"N8","v":112},{"$f":"COUNTIF(L16:L18,AN8)","v":0},{"$f":"AO8/(AQ4-AO11)","v":0},{"$f":"IF(AP8=0,0,(AP8*((LOG(AP8))/LOG(2))))","v":0},null,{"$f":"N8","v":112},{"$f":"COUNTIF(L19:L20,AS8)","v":0},{"$f":"AT8/(AV4-AT11)","v":0},{"$f":"IF(AU8=0,0,(AU8*((LOG(AU8))/LOG(2))))","v":0}]
[12,247,13,255,13,259,null,null,null,null,0,111,null,121,{"$f":"COUNTIF($L$7:$L$500,N9)","v":1},{"$f":"O9/$Q$4","v":7.1428571428571425E-2},{"$f":"IF(P9=0,0,(P9*((LOG(P9))/LOG(2))))","v":-0.27195392300411453},null,null,{"$f":"N9","v":121},{"$f":"COUNTIF(L7:L8,T9)","v":0},{"$f":"U9/(W4-U11)","v":0},{"$f":"IF(V9=0,0,(V9*((LOG(V9))/LOG(2))))","v":0},null,{"$f":"N9","v":121},{"$f":"COUNTIF(L9:L11,Y9)","v":0},{"$f":"Z9/(AB4-Z11)","v":0},{"$f":"IF(AA9=0,0,(AA9*((LOG(AA9))/LOG(2))))","v":0},null,{"$f":"N9","v":121},{"$f":"COUNTIF(L12:L13,AD9)","v":0},{"$f":"AE9/(AG4-AE11)","v":0},{"$f":"IF(AF9=0,0,(AF9*((LOG(AF9))/LOG(2))))","v":0},null,{"$f":"N9","v":121},{"$f":"COUNTIF(L14:L15,AI9)","v":1},{"$f":"AJ9/(AL4-AJ11)","v":0.5},{"$f":"IF(AK9=0,0,(AK9*((LOG(AK9))/LOG(2))))","v":-0.5},null,{"$f":"N9","v":121},{"$f":"COUNTIF(L16:L18,AN9)","v":0},{"$f":"AO9/(AQ4-AO11)","v":0},{"$f":"IF(AP9=0,0,(AP9*((LOG(AP9))/LOG(2))))","v":0},null,{"$f":"N9","v":121},{"$f":"COUNTIF(L19:L20,AS9)","v":0},{"$f":"AT9/(AV4-AT11)","v":0},{"$f":"IF(AU9=0,0,(AU9*((LOG(AU9))/LOG(2))))","v":0}]
[21,382,22,390,24,397,null,null,null,null,0,222,null,122,{"$f":"COUNTIF($L$7:$L$500,N10)","v":2},{"$f":"O10/$Q$4","v":0.14285714285714285},{"$f":"IF(P10=0,0,(P10*((LOG(P10))/LOG(2))))","v":-0.40105070315108626},null,null,{"$f":"N10","v":122},{"$f":"COUNTIF(L7:L8,T10)","v":1},{"$f":"U10/(W4-U11)","v":0.5},{"$f":"IF(V10=0,0,(V10*((LOG(V10))/LOG(2))))","v":-0.5},null,{"$f":"N10","v":122},{"$f":"COUNTIF(L9:L11,Y10)","v":0},{"$f":"Z10/(AB4-Z11)","v":0},{"$f":"IF(AA10=0,0,(AA10*((LOG(AA10))/LOG(2))))","v":0},null,{"$f":"N10","v":122},{"$f":"COUNTIF(L12:L13,AD10)","v":0},{"$f":"AE10/(AG4-AE11)","v":0},{"$f":"IF(AF10=0,0,(AF10*((LOG(AF10))/LOG(2))))","v":0},null,{"$f":"N10","v":122},{"$f":"COUNTIF(L14:L15,AI10)","v":0},{"$f":"AJ10/(AL4-AJ11)","v":0},{"$f":"IF(AK10=0,0,(AK10*((LOG(AK10))/LOG(2))))","v":0},null,{"$f":"N10","v":122},{"$f":"COUNTIF(L16:L18,AN10)","v":1},{"$f":"AO10/(AQ4-AO11)","v":0.33333333333333331},{"$f":"IF(AP10=0,0,(AP10*((LOG(AP10))/LOG(2))))","v":-0.52832083357371862},null,{"$f":"N10","v":122},{"$f":"COUNTIF(L19:L20,AS10)","v":0},{"$f":"AT10/(AV4-AT11)","v":0},{"$f":"IF(AU10=0,0,(AU10*((LOG(AU10))/LOG(2))))","v":0}]
[12,521,13,528,24,556,null,null,null,null,0,112,null,211,{"$f":"COUNTIF($L$7:$L$500,N11)","v":0},{"$f":"O11/$Q$4","v":0},{"$f":"IF(P11=0,0,(P11*((LOG(P11))/LOG(2))))","v":0},null,null,{"$f":"N11","v":211},{"$f":"COUNTIF(L7:L8,T11)","v":0},null,null,null,{"$f":"N11","v":211},{"$f":"COUNTIF(L9:L11,Y11)","v":0},null,null,null,{"$f":"N11","v":211},{"$f":"COUNTIF(L12:L13,AD11)","v":0},null,null,null,{"$f":"N11","v":211},{"$f":"COUNTIF(L14:L15,AI11)","v":0},null,null,null,{"$f":"N11","v":211},{"$f":"COUNTIF(L16:L18,AN11)","v":0},null,null,null,{"$f":"N11","v":211},{"$f":"COUNTIF(L19:L20,AS11)","v":0}]
[12,685,13,692,13,720,null,null,null,null,0,111,null,212,{"$f":"COUNTIF($L$7:$L$500,N12)","v":0},{"$f":"O12/$Q$4","v":0},{"$f":"IF(P12=0,0,(P12*((LOG(P12))/LOG(2))))","v":0},null,null,{"$f":"N12","v":212},{"$f":"COUNTIF(L7:L8,T12)","v":0},{"$f":"U12/(W4-U11)","v":0},{"$f":"IF(V12=0,0,(V12*((LOG(V12))/LOG(2))))","v":0},null,{"$f":"N12","v":212},{"$f":"COUNTIF(L9:L11,Y12)","v":0},{"$f":"Z12/(AB4-Z11)","v":0},{"$f":"IF(AA12=0,0,(AA12*((LOG(AA12))/LOG(2))))","v":0},null,{"$f":"N12","v":212},{"$f":"COUNTIF(L12:L13,AD12)","v":0},{"$f":"AE12/(AG4-AE11)","v":0},{"$f":"IF(AF12=0,0,(AF12*((LOG(AF12))/LOG(2))))","v":0},null,{"$f":"N12","v":212},{"$f":"COUNTIF(L14:L15,AI12)","v":0},{"$f":"AJ12/(AL4-AJ11)","v":0},{"$f":"IF(AK12=0,0,(AK12*((LOG(AK12))/LOG(2))))","v":0},null,{"$f":"N12","v":212},{"$f":"COUNTIF(L16:L18,AN12)","v":0},{"$f":"AO12/(AQ4-AO11)","v":0},{"$f":"IF(AP12=0,0,(AP12*((LOG(AP12))/LOG(2))))","v":0},null,{"$f":"N12","v":212},{"$f":"COUNTIF(L19:L20,AS12)","v":0},{"$f":"AT12/(AV4-AT11)","v":0},{"$f":"IF(AU12=0,0,(AU12*((LOG(AU12))/LOG(2))))","v":0}]
[12,1018,13,1046,13,1063,null,null,null,null,0,111,null,221,{"$f":"COUNTIF($L$7:$L$500,N13)","v":0},{"$f":"O13/$Q$4","v":0},{"$f":"IF(P13=0,0,(P13*((LOG(P13))/LOG(2))))","v":0},null,null,{"$f":"N13","v":221},{"$f":"COUNTIF(L7:L8,T13)","v":0},{"$f":"U13/(W4-U11)","v":0},{"$f":"IF(V13=0,0,(V13*((LOG(V13))/LOG(2))))","v":0},null,{"$f":"N13","v":221},{"$f":"COUNTIF(L9:L11,Y13)","v":0},{"$f":"Z13/(AB4-Z11)","v":0},{"$f":"IF(AA13=0,0,(AA13*((LOG(AA13))/LOG(2))))","v":0},null,{"$f":"N13","v":221},{"$f":"COUNTIF(L12:L13,AD13)","v":0},{"$f":"AE13/(AG4-AE11)","v":0},{"$f":"IF(AF13=0,0,(AF13*((LOG(AF13))/LOG(2))))","v":0},null,{"$f":"N13","v":221},{"$f":"COUNTIF(L14:L15,AI13)","v":0},{"$f":"AJ13/(AL4-AJ11)","v":0},{"$f":"IF(AK13=0,0,(AK13*((LOG(AK13))/LOG(2))))","v":0},null,{"$f":"N13","v":221},{"$f":"COUNTIF(L16:L18,AN13)","v":0},{"$f":"AO13/(AQ4-AO11)","v":0},{"$f":"IF(AP13=0,0,(AP13*((LOG(AP13))/LOG(2))))","v":0},null,{"$f":"N13","v":221},{"$f":"COUNTIF(L19:L20,AS13)","v":0},{"$f":"AT13/(AV4-AT11)","v":0},{"$f":"IF(AU13=0,0,(AU13*((LOG(AU13))/LOG(2))))","v":0}]
[12,1184,13,1196,24,1227,null,null,null,null,0,112,null,222,{"$f":"COUNTIF($L$7:$L$500,N14)","v":1},{"$f":"O14/$Q$4","v":7.1428571428571425E-2},{"$f":"IF(P14=0,0,(P14*((LOG(P14))/LOG(2))))","v":-0.27195392300411453},null,null,{"$f":"N14","v":222},{"$f":"COUNTIF(L7:L8,T14)","v":0},{"$f":"U14/(W4-U11)","v":0},{"$f":"IF(V14=0,0,(V14*((LOG(V14))/LOG(2))))","v":0},null,{"$f":"N14","v":222},{"$f":"COUNTIF(L9:L11,Y14)","v":1},{"$f":"Z14/(AB4-Z11)","v":0.33333333333333331},{"$f":"IF(AA14=0,0,(AA14*((LOG(AA14))/LOG(2))))","v":-0.52832083357371862},null,{"$f":"N14","v":222},{"$f":"COUNTIF(L12:L13,AD14)","v":0},{"$f":"AE14/(AG4-AE11)","v":0},{"$f":"IF(AF14=0,0,(AF14*((LOG(AF14))/LOG(2))))","v":0},null,{"$f":"N14","v":222},{"$f":"COUNTIF(L14:L15,AI14)","v":0},{"$f":"AJ14/(AL4-AJ11)","v":0},{"$f":"IF(AK14=0,0,(AK14*((LOG(AK14))/LOG(2))))","v":0},null,{"$f":"N14","v":222},{"$f":"COUNTIF(L16:L18,AN14)","v":0},{"$f":"AO14/(AQ4-AO11)","v":0},{"$f":"IF(AP14=0,0,(AP14*((LOG(AP14))/LOG(2))))","v":0},null,{"$f":"N14","v":222},{"$f":"COUNTIF(L19:L20,AS14)","v":0},{"$f":"AT14/(AV4-AT11)","v":0},{"$f":"IF(AU14=0,0,(AU14*((LOG(AU14))/LOG(2))))","v":0}]
[12,1451,24,1469,13,1504,null,null,null,null,0,121,null,null,null,{"$f":"SUM(P7:P14)","v":0.99999999999999978},{"$f":"-SUM(Q7:Q14)","v":1.807354922057604},null,null,null,null,{"$f":"SUM(V7:V14)","v":1},{"$f":"-SUM(W7:W14)","v":1},null,null,null,{"$f":"SUM(AA7:AA14)","v":1},{"$f":"-SUM(AB7:AB14)","v":1.5849625007211559},null,null,null,{"$f":"SUM(AF7:AF14)","v":1},{"$f":"-SUM(AG7:AG14)","v":0},null,null,null,{"$f":"SUM(AK7:AK14)","v":1},{"$f":"-SUM(AL7:AL14)","v":1},null,null,null,{"$f":"SUM(AP7:AP14)","v":1},{"$f":"-SUM(AQ7:AQ14)","v":0.91829583405448945},null,null,null,{"$f":"SUM(AU7:AU14)","v":1},{"$f":"-SUM(AV7:AV14)","v":0}]
[12,1836,13,1859,13,1878,null,null,null,null,0,111,null,null,null,"U=",{"$f":"Q15/(LOG(Q4)/LOG(2))","v":0.47470092992561291},null,null,null,null,"U1=",{"$f":"W15/(LOG(W4)/LOG(2))","v":1},null,null,null,"U2=",{"$f":"AB15/(LOG(AB4)/LOG(2))","v":0.99999999999999989},null,null,null,"U3=",{"$f":"AG15/(LOG(AG4)/LOG(2))","v":0},null,null,null,"U4=",{"$f":"AL15/(LOG(AL4)/LOG(2))","v":1},null,null,null,"U5=",{"$f":"AQ15/(LOG(AQ4)/LOG(2))","v":0.57938016428569505},null,null,null,"U6=",{"$f":"AV15/(LOG(AV4)/LOG(2))","v":0}]
[12,1981,24,1995,24,2003,null,null,null,null,0,122]
[12,2103,13,2110,13,2128,null,null,null,null,0,111]
[12,2256,13,2265,13,2317,null,null,null,null,0,111,null,"Total Target Seq"]
[12,2410,13,2462,13,2470,null,null,null,null,0,111,null,{"$f":"COUNTIF(L7:L20,G3)","v":0},null,2,3,2,2,3,2]
[null,null,null,null,null,null,null,null,null,null,null,null,null,null,null,"% of reinforcement given in 6 equal intervals based on number of trials "]
[null,null,null,null,null,null,null,null,null,null,null,null,null,null,null,"%_1","%_2","%_3","%_4","%_5","%_6"]
[null,null,null,null,null,null,null,null,null,null,null,null,null,null,"target sequence",{"$f":"$G$3","v":211},{"$f":"$G$3","v":211},{"$f":"$G$3","v":211},{"$f":"$G$3","v":211},{"$f":"$G$3","v":211},{"$f":"$G$3","v":211}]
[null,null,null,null,null,null,null,null,null,null,null,null,null,null,"total reinforcement",{"$f":"U11","v":0},{"$f":"Z11","v":0},{"$f":"AE11","v":0},{"$f":"AJ11","v":0},{"$f":"AO11","v":0},{"$f":"AT11","v":0}]
[null,null,null,null,null,null,null,null,null,null,null,null,null,null,"% target"]
[null,null,null,null,null,null,null,null,null,null,null,null,null,null,"CCRF"]
[null,null,null,null,null,null,null,null,null,null,null,null,null,null,"% CCRf"]
[null,null,null,null,null,null,null,null,null,null,null,null,null,null,"average response rate",{"$f":"F8/P20","v":73},{"$f":"(F11-F8)/Q20","v":136.66666666666666},{"$f":"(F13-F11)/R20","v":253.5},{"$f":"(F15-F13)/S20","v":220.5},{"$f":"(F18-F15)/T20","v":208},{"$f":"(F20-F18)/U20","v":171}]

{"sheet":"!L903A4B.axt","index":18,"n_rows":32,"n_cols":48,"rows_kept":32,"cut":false,"hidden":false,"merged":[[4,39,4,42],[5,39,5,40],[4,44,4,47],[5,44,5,45],[4,24,4,27],[5,24,5,25],[4,29,4,32],[5,29,5,30],[4,34,4,37],[5,34,5,35],[1,1,1,2],[5,13,5,14],[18,13,18,14],[19,13,19,14],[4,19,4,22],[5,19,5,20]]}
["Report for:!L903A4B.axt"]
["Date:","<date>"]
["Hen:","<hen>",null,null,null,"Correct Sequence",{"$f":"Start!J2","v":211},null,null,null,null,null,null,null,null,"Total Sequences in Data",{"$f":"4994-COUNTBLANK(L7:L5000)","v":26},null,null,null,null,"Total Sequences in Block Data",{"$f":"COUNTA(L7:L10)","v":4},null,null,null,"Total Sequences in Block Data",{"$f":"COUNTA(L11:L15)","v":5},null,null,null,"Total Sequences in Block Data",{"$f":"COUNTA(L16:L19)","v":4},null,null,null,"Total Sequences in Block Data",{"$f":"COUNTA(L20:L23)","v":4},null,null,null,"Total Sequences in Block Data",{"$f":"COUNTA(L24:L28)","v":5},null,null,null,"Total Sequences in Block Data",{"$f":"COUNTA(L29:L32)","v":4}]
[null,null,null,null,null,null,null,null,null,null,null,null,null,null,null,"Total Sequences in Summary",{"$f":"SUM(O7:O14)","v":26},null,null,null,null,"Total Sequences in Block Summary",{"$f":"SUM(U7:U14)","v":4},null,null,null,"Total Sequences in Block Summary",{"$f":"SUM(Z7:Z14)","v":5},null,null,null,"Total Sequences in Block Summary",{"$f":"SUM(AE7:AE14)","v":4},null,null,null,"Total Sequences in Block Summary",{"$f":"SUM(AJ7:AJ14)","v":4},null,null,null,"Total Sequences in Block Summary",{"$f":"SUM(AO7:AO14)","v":5},null,null,null,"Total Sequences in Block Summary",{"$f":"SUM(AT7:AT14)","v":4}]
[null,null,null,null,null,null,null,null,null,null,null,null,null,null,null,null,null,null,null,"Block 1",null,null,null,null,"Block 2",null,null,null,null,"Block 3",null,null,null,null,"Block 4",null,null,null,null,"Block 5",null,null,null,null,"Block 6"]
["Sequence\nComponent\n1","Time\n1","Sequence\nComponent\n2","Time\n2","Sequence\nComponent\n3","Time\n3","Sequence\nComponent\n4","Time\n4","Sequence\nComponent\n5","Time\n5","Correct?\n0=No 1=Yes","Sequence",null,"Frequency",null,"Relative Frequency","Variability",null,null,"Frequency",null,"Relative Frequency","Variability",null,"Frequency",null,"Relative Frequency","Variability",null,"Frequency",null,"Relative Frequency","Variability",null,"Frequency",null,"Relative Frequency","Variability",null,"Frequency",null,"Relative Frequency","Variability",null,"Frequency",null,"Relative Frequency","Variability"]
[21,61,22,68,24,76,null,null,null,null,0,222,null,111,{"$f":"COUNTIF($L$7:$L$500,N7)","v":13},{"$f":"O7/$Q$4","v":0.5},{"$f":"IF(P7=0,0,(P7*((LOG(P7))/LOG(2))))","v":-0.5},null,null,{"$f":"N7","v":111},{"$f":"COUNTIF(L7:L10,T7)","v":2},{"$f":"U7/(W4-U11)","v":0.5},{"$f":"IF(V7=0,0,(V7*((LOG(V7))/LOG(2))))","v":-0.5},null,{"$f":"N7","v":111},{"$f":"COUNTIF(L11:L15,Y7)","v":2},{"$f":"Z7/(AB4-Z11)","v":0.4},{"$f":"IF(AA7=0,0,(AA7*((LOG(AA7))/LOG(2))))","v":-0.52877123795494496},null,{"$f":"N7","v":111},{"$f":"COUNTIF(L16:L19,AD7)","v":0},{"$f":"AE7/(AG4-AE11)","v":0},{"$f":"IF(AF7=0,0,(AF7*((LOG(AF7))/LOG(2))))","v":0},null,{"$f":"N7","v":111},{"$f":"COUNTIF(L20:L23,AI7)","v":3},{"$f":"AJ7/(AL4-AJ11)","v":0.75},{"$f":"IF(AK7=0,0,(AK7*((LOG(AK7))/LOG(2))))","v":-0.31127812445913283},null,{"$f":"N7","v":111},{"$f":"COUNTIF(L24:L28,AN7)","v":3},{"$f":"AO7/(AQ4-AO11)","v":0.6},{"$f":"IF(AP7=0,0,(AP7*((LOG(AP7))/LOG(2))))","v":-0.44217935649972373},null,{"$f":"N7","v":111},{"$f":"COUNTIF(L29:L32,AS7)","v":3},{"$f":"AT7/(AV4-AT11)","v":0.75},{"$f":"IF(AU7=0,0,(AU7*((LOG(AU7))/LOG(2))))","v":-0.31127812445913283}]
[12,174,13,191,13,205,null,null,null,null,0,111,null,112,{"$f":"COUNTIF($L$7:$L$500,N8)","v":5},{"$f":"O8/$Q$4","v":0.19230769230769232},{"$f":"IF(P8=0,0,(P8*((LOG(P8))/LOG(2))))","v":-0.45740608139494804},null,null,{"$f":"N8","v":112},{"$f":"COUNTIF(L7:L10,T8)","v":0},{"$f":"U8/(W4-U11)","v":0},{"$f":"IF(V8=0,0,(V8*((LOG(V8))/LOG(2))))","v":0},null,{"$f":"N8","v":112},{"$f":"COUNTIF(L11:L15,Y8)","v":2},{"$f":"Z8/(AB4-Z11)","v":0.4},{"$f":"IF(AA8=0,0,(AA8*((LOG(AA8))/LOG(2))))","v":-0.52877123795494496},null,{"$f":"N8","v":112},{"$f":"COUNTIF(L16:L19,AD8)","v":1},{"$f":"AE8/(AG4-AE11)","v":0.33333333333333331},{"$f":"IF(AF8=0,0,(AF8*((LOG(AF8))/LOG(2))))","v":-0.52832083357371862},null,{"$f":"N8","v":112},{"$f":"COUNTIF(L20:L23,AI8)","v":1},{"$f":"AJ8/(AL4-AJ11)","v":0.25},{"$f":"IF(AK8=0,0,(AK8*((LOG(AK8))/LOG(2))))","v":-0.5},null,{"$f":"N8","v":112},{"$f":"COUNTIF(L24:L28,AN8)","v":1},{"$f":"AO8/(AQ4-AO11)","v":0.2},{"$f":"IF(AP8=0,0,(AP8*((LOG(AP8))/LOG(2))))","v":-0.46438561897747244},null,{"$f":"N8","v":112},{"$f":"COUNTIF(L29:L32,AS8)","v":0},{"$f":"AT8/(AV4-AT11)","v":0},{"$f":"IF(AU8=0,0,(AU8*((LOG(AU8))/LOG(2))))","v":0}]
[12,308,13,326,13,332,null,null,null,null,0,111,null,121,{"$f":"COUNTIF($L$7:$L$500,N9)","v":0},{"$f":"O9/$Q$4","v":0},{"$f":"IF(P9=0,0,(P9*((LOG(P9))/LOG(2))))","v":0},null,null,{"$f":"N9","v":121},{"$f":"COUNTIF(L7:L10,T9)","v":0},{"$f":"U9/(W4-U11)","v":0},{"$f":"IF(V9=0,0,(V9*((LOG(V9))/LOG(2))))","v":0},null,{"$f":"N9","v":121},{"$f":"COUNTIF(L11:L15,Y9)","v":0},{"$f":"Z9/(AB4-Z11)","v":0},{"$f":"IF(AA9=0,0,(AA9*((LOG(AA9))/LOG(2))))","v":0},null,{"$f":"N9","v":121},{"$f":"COUNTIF(L16:L19,AD9)","v":0},{"$f":"AE9/(AG4-AE11)","v":0},{"$f":"IF(AF9=0,0,(AF9*((LOG(AF9))/LOG(2))))","v":0},null,{"$f":"N9","v":121},{"$f":"COUNTIF(L20:L23,AI9)","v":0},{"$f":"AJ9/(AL4-AJ11)","v":0},{"$f":"IF(AK9=0,0,(AK9*((LOG(AK9))/LOG(2))))","v":0},null,{"$f":"N9","v":121},{"$f":"COUNTIF(L24:L28,AN9)","v":0},{"$f":"AO9/(AQ4-AO11)","v":0},{"$f":"IF(AP9=0,0,(AP9*((LOG(AP9))/LOG(2))))","v":0},null,{"$f":"N9","v":121},{"$f":"COUNTIF(L29:L32,AS9)","v":0},{"$f":"AT9/(AV4-AT11)","v":0},{"$f":"IF(AU9=0,0,(AU9*((LOG(AU9))/LOG(2))))","v":0}]
[12,435,24,453,24,467,null,null,null,null,0,122,null,122,{"$f":"COUNTIF($L$7:$L$500,N10)","v":6},{"$f":"O10/$Q$4","v":0.23076923076923078},{"$f":"IF(P10=0,0,(P10*((LOG(P10))/LOG(2))))","v":-0.48818705017383146},null,null,{"$f":"N10","v":122},{"$f":"COUNTIF(L7:L10,T10)","v":1},{"$f":"U10/(W4-U11)","v":0.25},{"$f":"IF(V10=0,0,(V10*((LOG(V10))/LOG(2))))","v":-0.5},null,{"$f":"N10","v":122},{"$f":"COUNTIF(L11:L15,Y10)","v":1},{"$f":"Z10/(AB4-Z11)","v":0.2},{"$f":"IF(AA10=0,0,(AA10*((LOG(AA10))/LOG(2))))","v":-0.46438561897747244},null,{"$f":"N10","v":122},{"$f":"COUNTIF(L16:L19,AD10)","v":2},{"$f":"AE10/(AG4-AE11)","v":0.66666666666666663},{"$f":"IF(AF10=0,0,(AF10*((LOG(AF10))/LOG(2))))","v":-0.38997500048077083},null,{"$f":"N10","v":122},{"$f":"COUNTIF(L20:L23,AI10)","v":0},{"$f":"AJ10/(AL4-AJ11)","v":0},{"$f":"IF(AK10=0,0,(AK10*((LOG(AK10))/LOG(2))))","v":0},null,{"$f":"N10","v":122},{"$f":"COUNTIF(L24:L28,AN10)","v":1},{"$f":"AO10/(AQ4-AO11)","v":0.2},{"$f":"IF(AP10=0,0,(AP10*((LOG(AP10))/LOG(2))))","v":-0.46438561897747244},null,{"$f":"N10","v":122},{"$f":"COUNTIF(L29:L32,AS10)","v":1},{"$f":"AT10/(AV4-AT11)","v":0.25},{"$f":"IF(AU10=0,0,(AU10*((LOG(AU10))/LOG(2))))","v":-0.5}]
[12,563,13,571,24,628,null,null,null,null,0,112,null,211,{"$f":"COUNTIF($L$7:$L$500,N11)","v":1},{"$f":"O11/$Q$4","v":3.8461538461538464E-2},{"$f":"IF(P11=0,0,(P11*((LOG(P11))/LOG(2))))","v":-0.18078614300542661},null,null,{"$f":"N11","v":211},{"$f":"COUNTIF(L7:L10,T11)","v":0},null,null,null,{"$f":"N11","v":211},{"$f":"COUNTIF(L11:L15,Y11)","v":0},null,null,null,{"$f":"N11","v":211},{"$f":"COUNTIF(L16:L19,AD11)","v":1},null,null,null,{"$f":"N11","v":211},{"$f":"COUNTIF(L20:L23,AI11)","v":0},null,null,null,{"$f":"N11","v":211},{"$f":"COUNTIF(L24:L28,AN11)","v":0},null,null,null,{"$f":"N11","v":211},{"$f":"COUNTIF(L29:L32,AS11)","v":0}]
[12,828,13,864,13,875,null,null,null,null,0,111,null,212,{"$f":"COUNTIF($L$7:$L$500,N12)","v":0},{"$f":"O12/$Q$4","v":0},{"$f":"IF(P12=0,0,(P12*((LOG(P12))/LOG(2))))","v":0},null,null,{"$f":"N12","v":212},{"$f":"COUNTIF(L7:L10,T12)","v":0},{"$f":"U12/(W4-U11)","v":0},{"$f":"IF(V12=0,0,(V12*((LOG(V12))/LOG(2))))","v":0},null,{"$f":"N12","v":212},{"$f":"COUNTIF(L11:L15,Y12)","v":0},{"$f":"Z12/(AB4-Z11)","v":0},{"$f":"IF(AA12=0,0,(AA12*((LOG(AA12))/LOG(2))))","v":0},null,{"$f":"N12","v":212},{"$f":"COUNTIF(L16:L19,AD12)","v":0},{"$f":"AE12/(AG4-AE11)","v":0},{"$f":"IF(AF12=0,0,(AF12*((LOG(AF12))/LOG(2))))","v":0},null,{"$f":"N12","v":212},{"$f":"COUNTIF(L20:L23,AI12)","v":0},{"$f":"AJ12/(AL4-AJ11)","v":0},{"$f":"IF(AK12=0,0,(AK12*((LOG(AK12))/LOG(2))))","v":0},null,{"$f":"N12","v":212},{"$f":"COUNTIF(L24:L28,AN12)","v":0},{"$f":"AO12/(AQ4-AO11)","v":0},{"$f":"IF(AP12=0,0,(AP12*((LOG(AP12))/LOG(2))))","v":0},null,{"$f":"N12","v":212},{"$f":"COUNTIF(L29:L32,AS12)","v":0},{"$f":"AT12/(AV4-AT11)","v":0},{"$f":"IF(AU12=0,0,(AU12*((LOG(AU12))/LOG(2))))","v":0}]
[12,1022,24,1037,24,1044,null,null,null,null,0,122,null,221,{"$f":"COUNTIF($L$7:$L$500,N13)","v":0},{"$f":"O13/$Q$4","v":0},{"$f":"IF(P13=0,0,(P13*((LOG(P13))/LOG(2))))","v":0},null,null,{"$f":"N13","v":221},{"$f":"COUNTIF(L7:L10,T13)","v":0},{"$f":"U13/(W4-U11)","v":0},{"$f":"IF(V13=0,0,(V13*((LOG(V13))/LOG(2))))","v":0},null,{"$f":"N13","v":221},{"$f":"COUNTIF(L11:L15,Y13)","v":0},{"$f":"Z13/(AB4-Z11)","v":0},{"$f":"IF(AA13=0,0,(AA13*((LOG(AA13))/LOG(2))))","v":0},null,{"$f":"N13","v":221},{"$f":"COUNTIF(L16:L19,AD13)","v":0},{"$f":"AE13/(AG4-AE11)","v":0},{"$f":"IF(AF13=0,0,(AF13*((LOG(AF13))/LOG(2))))","v":0},null,{"$f":"N13","v":221},{"$f":"COUNTIF(L20:L23,AI13)","v":0},{"$f":"AJ13/(AL4-AJ11)","v":0},{"$f":"IF(AK13=0,0,(AK13*((LOG(AK13))/LOG(2))))","v":0},null,{"$f":"N13","v":221},{"$f":"COUNTIF(L24:L28,AN13)","v":0},{"$f":"AO13/(AQ4-AO11)","v":0},{"$f":"IF(AP13=0,0,(AP13*((LOG(AP13))/LOG(2))))","v":0},null,{"$f":"N13","v":221},{"$f":"COUNTIF(L29:L32,AS13)","v":0},{"$f":"AT13/(AV4-AT11)","v":0},{"$f":"IF(AU13=0,0,(AU13*((LOG(AU13))/LOG(2))))","v":0}]
[12,1402,13,1407,24,1426,null,null,null,null,0,112,null,222,{"$f":"COUNTIF($L$7:$L$500,N14)","v":1},{"$f":"O14/$Q$4","v":3.8461538461538464E-2},{"$f":"IF(P14=0,0,(P14*((LOG(P14))/LOG(2))))","v":-0.18078614300542661},null,null,{"$f":"N14","v":222},{"$f":"COUNTIF(L7:L10,T14)","v":1},{"$f":"U14/(W4-U11)","v":0.25},{"$f":"IF(V14=0,0,(V14*((LOG(V14))/LOG(2))))","v":-0.5},null,{"$f":"N14","v":222},{"$f":"COUNTIF(L11:L15,Y14)","v":0},{"$f":"Z14/(AB4-Z11)","v":0},{"$f":"IF(AA14=0,0,(AA14*((LOG(AA14))/LOG(2))))","v":0},null,{"$f":"N14","v":222},{"$f":"COUNTIF(L16:L19,AD14)","v":0},{"$f":"AE14/(AG4-AE11)","v":0},{"$f":"IF(AF14=0,0,(AF14*((LOG(AF14))/LOG(2))))","v":0},null,{"$f":"N14","v":222},{"$f":"COUNTIF(L20:L23,AI14)","v":0},{"$f":"AJ14/(AL4-AJ11)","v":0},{"$f":"IF(AK14=0,0,(AK14*((LOG(AK14))/LOG(2))))","v":0},null,{"$f":"N14","v":222},{"$f":"COUNTIF(L24:L28,AN14)","v":0},{"$f":"AO14/(AQ4-AO11)","v":0},{"$f":"IF(AP14=0,0,(AP14*((LOG(AP14))/LOG(2))))","v":0},null,{"$f":"N14","v":222},{"$f":"COUNTIF(L29:L32,AS14)","v":0},{"$f":"AT14/(AV4-AT11)","v":0},{"$f":"IF(AU14=0,0,(AU14*((LOG(AU14))/LOG(2))))","v":0}]
[12,1590,13,1641,13,1651,null,null,null,null,0,111,null,null,null,{"$f":"SUM(P7:P14)","v":1},{"$f":"-SUM(Q7:Q14)","v":1.8071654175796326},null,null,null,null,{"$f":"SUM(V7:V14)","v":1},{"$f":"-SUM(W7:W14)","v":1.5},null,null,null,{"$f":"SUM(AA7:AA14)","v":1},{"$f":"-SUM(AB7:AB14)","v":1.5219280948873624},null,null,null,{"$f":"SUM(AF7:AF14)","v":1},{"$f":"-SUM(AG7:AG14)","v":0.91829583405448945},null,null,null,{"$f":"SUM(AK7:AK14)","v":1},{"$f":"-SUM(AL7:AL14)","v":0.81127812445913283},null,null,null,{"$f":"SUM(AP7:AP14)","v":1},{"$f":"-SUM(AQ7:AQ14)","v":1.3709505944546687},null,null,null,{"$f":"SUM(AU7:AU14)","v":1},{"$f":"-SUM(AV7:AV14)","v":0.81127812445913283}]
[21,1807,11,1825,11,1831,null,null,null,null,0,211,null,null,null,"U=",{"$f":"Q15/(LOG(Q4)/LOG(2))","v":0.38446731070818241},null,null,null,null,"U1=",{"$f":"W15/(LOG(W4)/LOG(2))","v":0.75},null,null,null,"U2=",{"$f":"AB15/(LOG(AB4)/LOG(2))","v":0.65545875354128547},null,null,null,"U3=",{"$f":"AG15/(LOG(AG4)/LOG(2))","v":0.45914791702724472},null,null,null,"U4=",{"$f":"AL15/(LOG(AL4)/LOG(2))","v":0.40563906222956642},null,null,null,"U5=",{"$f":"AQ15/(LOG(AQ4)/LOG(2))","v":0.5904362833084088},null,null,null,"U6=",{"$f":"AV15/(LOG(AV4)/LOG(2))","v":0.40563906222956642}]
[12,2092,24,2116,24,2130,null,null,null,null,0,122]
[12,2254,24,2289,24,2297,null,null,null,null,0,122]
[12,2453,13,2460,24,2487,null,null,null,null,0,112,null,"Total Target Seq"]
[12,2707,13,2713,13,2721,null,null,null,null,0,111,null,{"$f":"COUNTIF(L7:L32,G3)","v":1},null,4,5,4,4,5,4]
[12,2830,13,2838,24,2865,null,null,null,null,0,112,null,null,null,"% of reinforcement given in 6 equal intervals based on number of trials "]
[12,3179,13,3186,13,3193,null,null,null,null,0,111,null,null,null,"%_1","%_2","%_3","%_4","%_5","%_6"]
[12,3399,13,3406,13,3423,null,null,null,null,0,111,null,null,"target sequence",{"$f":"$G$3","v":211},{"$f":"$G$3","v":211},{"$f":"$G$3","v":211},{"$f":"$G$3","v":211},{"$f":"$G$3","v":211},{"$f":"$G$3","v":211}]
[12,3776,13,3792,13,3801,null,null,null,null,0,111,null,null,"total reinforcement",{"$f":"U11","v":0},{"$f":"Z11","v":0},{"$f":"AE11","v":1},{"$f":"AJ11","v":0},{"$f":"AO11","v":0},{"$f":"AT11","v":0}]
[12,3916,13,3924,24,3951,null,null,null,null,0,112,null,null,"% target"]
[12,4295,24,4334,24,4340,null,null,null,null,0,122,null,null,"CCRF"]
[12,4537,13,4564,13,4574,null,null,null,null,0,111,null,null,"% CCRf"]
[12,9223,13,9231,13,9260,null,null,null,null,0,111,null,null,"average response rate",{"$f":"F10/P20","v":116.75},{"$f":"(F15-F10)/Q20","v":236.8},{"$f":"(F19-F15)/R20","v":209},{"$f":"(F23-F19)/S20","v":234},{"$f":"(F28-F23)/T20","v":1167.4000000000001},{"$f":"(F32-F28)/U20","v":2778.5}]
[12,9833,13,9842,13,9871,null,null,null,null,0,111]
[12,10954,13,10960,13,10969,null,null,null,null,0,111]
[12,18983,24,19001,24,19008,null,null,null,null,0,122]
[12,20359,13,20366,13,20374,null,null,null,null,0,111]

{"sheet":"!L905A4B.axt","index":19,"n_rows":28,"n_cols":48,"rows_kept":28,"cut":false,"hidden":false,"merged":[[4,39,4,42],[5,39,5,40],[4,44,4,47],[5,44,5,45],[4,24,4,27],[5,24,5,25],[4,29,4,32],[5,29,5,30],[4,34,4,37],[5,34,5,35],[1,1,1,2],[5,13,5,14],[18,13,18,14],[19,13,19,14],[4,19,4,22],[5,19,5,20]]}
["Report for:!L905A4B.axt"]
["Date:","<date>"]
["Hen:","<hen>",null,null,null,"Correct Sequence",{"$f":"Start!J2","v":211},null,null,null,null,null,null,null,null,"Total Sequences in Data",{"$f":"4994-COUNTBLANK(L7:L5000)","v":6},null,null,null,null,"Total Sequences in Block Data",{"$f":"COUNTA(L7:L7)","v":1},null,null,null,"Total Sequences in Block Data",{"$f":"COUNTA(L8:L8)","v":1},null,null,null,"Total Sequences in Block Data",{"$f":"COUNTA(L9:L9)","v":1},null,null,null,"Total Sequences in Block Data",{"$f":"COUNTA(L10:L10)","v":1},null,null,null,"Total Sequences in Block Data",{"$f":"COUNTA(L11:L11)","v":1},null,null,null,"Total Sequences in Block Data",{"$f":"COUNTA(L12:L12)","v":1}]
[null,null,null,null,null,null,null,null,null,null,null,null,null,null,null,"Total Sequences in Summary",{"$f":"SUM(O7:O14)","v":5},null,null,null,null,"Total Sequences in Block Summary",{"$f":"SUM(U7:U14)","v":1},null,null,null,"Total Sequences in Block Summary",{"$f":"SUM(Z7:Z14)","v":1},null,null,null,"Total Sequences in Block Summary",{"$f":"SUM(AE7:AE14)","v":1},null,null,null,"Total Sequences in Block Summary",{"$f":"SUM(AJ7:AJ14)","v":1},null,null,null,"Total Sequences in Block Summary",{"$f":"SUM(AO7:AO14)","v":1},null,null,null,"Total Sequences in Block Summary",{"$f":"SUM(AT7:AT14)","v":0}]
[null,null,null,null,null,null,null,null,null,null,null,null,null,null,null,null,null,null,null,"Block 1",null,null,null,null,"Block 2",null,null,null,null,"Block 3",null,null,null,null,"Block 4",null,null,null,null,"Block 5",null,null,null,null,"Block 6"]
["Sequence\nComponent\n1","Time\n1","Sequence\nComponent\n2","Time\n2","Sequence\nComponent\n3","Time\n3","Sequence\nComponent\n4","Time\n4","Sequence\nComponent\n5","Time\n5","Correct?\n0=No 1=Yes","Sequence",null,"Frequency",null,"Relative Frequency","Variability",null,null,"Frequency",null,"Relative Frequency","Variability",null,"Frequency",null,"Relative Frequency","Variability",null,"Frequency",null,"Relative Frequency","Variability",null,"Frequency",null,"Relative Frequency","Variability",null,"Frequency",null,"Relative Frequency","Variability",null,"Frequency",null,"Relative Frequency","Variability"]
[12,20,13,49,13,54,null,null,null,null,0,111,null,111,{"$f":"COUNTIF($L$7:$L$500,N7)","v":3},{"$f":"O7/$Q$4","v":0.6},{"$f":"IF(P7=0,0,(P7*((LOG(P7))/LOG(2))))","v":-0.44217935649972373},null,null,{"$f":"N7","v":111},{"$f":"COUNTIF(L7:L7,T7)","v":1},{"$f":"U7/(W4-U11)","v":1},{"$f":"IF(V7=0,0,(V7*((LOG(V7))/LOG(2))))","v":0},null,{"$f":"N7","v":111},{"$f":"COUNTIF(L8:L8,Y7)","v":0},{"$f":"Z7/(AB4-Z11)","v":0},{"$f":"IF(AA7=0,0,(AA7*((LOG(AA7))/LOG(2))))","v":0},null,{"$f":"N7","v":111},{"$f":"COUNTIF(L9:L9,AD7)","v":1},{"$f":"AE7/(AG4-AE11)","v":1},{"$f":"IF(AF7=0,0,(AF7*((LOG(AF7))/LOG(2))))","v":0},null,{"$f":"N7","v":111},{"$f":"COUNTIF(L10:L10,AI7)","v":1},{"$f":"AJ7/(AL4-AJ11)","v":1},{"$f":"IF(AK7=0,0,(AK7*((LOG(AK7))/LOG(2))))","v":0},null,{"$f":"N7","v":111},{"$f":"COUNTIF(L11:L11,AN7)","v":0},{"$f":"AO7/(AQ4-AO11)","v":0},{"$f":"IF(AP7=0,0,(AP7*((LOG(AP7))/LOG(2))))","v":0},null,{"$f":"N7","v":111},{"$f":"COUNTIF(L12:L12,AS7)","v":0},{"$f":"AT7/(AV4-AT11)","v":{"$error":"#DIV/0!"}},{"$f":"IF(AU7=0,0,(AU7*((LOG(AU7))/LOG(2))))","v":{"$error":"#DIV/0!"}}]
[21,301,11,513,22,560,null,null,null,null,0,212,null,112,{"$f":"COUNTIF($L$7:$L$500,N8)","v":1},{"$f":"O8/$Q$4","v":0.2},{"$f":"IF(P8=0,0,(P8*((LOG(P8))/LOG(2))))","v":-0.46438561897747244},null,null,{"$f":"N8","v":112},{"$f":"COUNTIF(L7:L7,T8)","v":0},{"$f":"U8/(W4-U11)","v":0},{"$f":"IF(V8=0,0,(V8*((LOG(V8))/LOG(2))))","v":0},null,{"$f":"N8","v":112},{"$f":"COUNTIF(L8:L8,Y8)","v":0},{"$f":"Z8/(AB4-Z11)","v":0},{"$f":"IF(AA8=0,0,(AA8*((LOG(AA8))/LOG(2))))","v":0},null,{"$f":"N8","v":112},{"$f":"COUNTIF(L9:L9,AD8)","v":0},{"$f":"AE8/(AG4-AE11)","v":0},{"$f":"IF(AF8=0,0,(AF8*((LOG(AF8))/LOG(2))))","v":0},null,{"$f":"N8","v":112},{"$f":"COUNTIF(L10:L10,AI8)","v":0},{"$f":"AJ8/(AL4-AJ11)","v":0},{"$f":"IF(AK8=0,0,(AK8*((LOG(AK8))/LOG(2))))","v":0},null,{"$f":"N8","v":112},{"$f":"COUNTIF(L11:L11,AN8)","v":1},{"$f":"AO8/(AQ4-AO11)","v":1},{"$f":"IF(AP8=0,0,(AP8*((LOG(AP8))/LOG(2))))","v":0},null,{"$f":"N8","v":112},{"$f":"COUNTIF(L12:L12,AS8)","v":0},{"$f":"AT8/(AV4-AT11)","v":{"$error":"#DIV/0!"}},{"$f":"IF(AU8=0,0,(AU8*((LOG(AU8))/LOG(2))))","v":{"$error":"#DIV/0!"}}]
[12,717,13,778,13,793,null,null,null,null,0,111,null,121,{"$f":"COUNTIF($L$7:$L$500,N9)","v":0},{"$f":"O9/$Q$4","v":0},{"$f":"IF(P9=0,0,(P9*((LOG(P9))/LOG(2))))","v":0},null,null,{"$f":"N9","v":121},{"$f":"COUNTIF(L7:L7,T9)","v":0},{"$f":"U9/(W4-U11)","v":0},{"$f":"IF(V9=0,0,(V9*((LOG(V9))/LOG(2))))","v":0},null,{"$f":"N9","v":121},{"$f":"COUNTIF(L8:L8,Y9)","v":0},{"$f":"Z9/(AB4-Z11)","v":0},{"$f":"IF(AA9=0,0,(AA9*((LOG(AA9))/LOG(2))))","v":0},null,{"$f":"N9","v":121},{"$f":"COUNTIF(L9:L9,AD9)","v":0},{"$f":"AE9/(AG4-AE11)","v":0},{"$f":"IF(AF9=0,0,(AF9*((LOG(AF9))/LOG(2))))","v":0},null,{"$f":"N9","v":121},{"$f":"COUNTIF(L10:L10,AI9)","v":0},{"$f":"AJ9/(AL4-AJ11)","v":0},{"$f":"IF(AK9=0,0,(AK9*((LOG(AK9))/LOG(2))))","v":0},null,{"$f":"N9","v":121},{"$f":"COUNTIF(L11:L11,AN9)","v":0},{"$f":"AO9/(AQ4-AO11)","v":0},{"$f":"IF(AP9=0,0,(AP9*((LOG(AP9))/LOG(2))))","v":0},null,{"$f":"N9","v":121},{"$f":"COUNTIF(L12:L12,AS9)","v":0},{"$f":"AT9/(AV4-AT11)","v":{"$error":"#DIV/0!"}},{"$f":"IF(AU9=0,0,(AU9*((LOG(AU9))/LOG(2))))","v":{"$error":"#DIV/0!"}}]
[12,1063,13,1069,13,1198,null,null,null,null,0,111,null,122,{"$f":"COUNTIF($L$7:$L$500,N10)","v":0},{"$f":"O10/$Q$4","v":0},{"$f":"IF(P10=0,0,(P10*((LOG(P10))/LOG(2))))","v":0},null,null,{"$f":"N10","v":122},{"$f":"COUNTIF(L7:L7,T10)","v":0},{"$f":"U10/(W4-U11)","v":0},{"$f":"IF(V10=0,0,(V10*((LOG(V10))/LOG(2))))","v":0},null,{"$f":"N10","v":122},{"$f":"COUNTIF(L8:L8,Y10)","v":0},{"$f":"Z10/(AB4-Z11)","v":0},{"$f":"IF(AA10=0,0,(AA10*((LOG(AA10))/LOG(2))))","v":0},null,{"$f":"N10","v":122},{"$f":"COUNTIF(L9:L9,AD10)","v":0},{"$f":"AE10/(AG4-AE11)","v":0},{"$f":"IF(AF10=0,0,(AF10*((LOG(AF10))/LOG(2))))","v":0},null,{"$f":"N10","v":122},{"$f":"COUNTIF(L10:L10,AI10)","v":0},{"$f":"AJ10/(AL4-AJ11)","v":0},{"$f":"IF(AK10=0,0,(AK10*((LOG(AK10))/LOG(2))))","v":0},null,{"$f":"N10","v":122},{"$f":"COUNTIF(L11:L11,AN10)","v":0},{"$f":"AO10/(AQ4-AO11)","v":0},{"$f":"IF(AP10=0,0,(AP10*((LOG(AP10))/LOG(2))))","v":0},null,{"$f":"N10","v":122},{"$f":"COUNTIF(L12:L12,AS10)","v":0},{"$f":"AT10/(AV4-AT11)","v":{"$error":"#DIV/0!"}},{"$f":"IF(AU10=0,0,(AU10*((LOG(AU10))/LOG(2))))","v":{"$error":"#DIV/0!"}}]
[12,1398,13,2629,24,2637,null,null,null,null,0,112,null,211,{"$f":"COUNTIF($L$7:$L$500,N11)","v":0},{"$f":"O11/$Q$4","v":0},{"$f":"IF(P11=0,0,(P11*((LOG(P11))/LOG(2))))","v":0},null,null,{"$f":"N11","v":211},{"$f":"COUNTIF(L7:L7,T11)","v":0},null,null,null,{"$f":"N11","v":211},{"$f":"COUNTIF(L8:L8,Y11)","v":0},null,null,null,{"$f":"N11","v":211},{"$f":"COUNTIF(L9:L9,AD11)","v":0},null,null,null,{"$f":"N11","v":211},{"$f":"COUNTIF(L10:L10,AI11)","v":0},null,null,null,{"$f":"N11","v":211},{"$f":"COUNTIF(L11:L11,AN11)","v":0},null,null,null,{"$f":"N11","v":211},{"$f":"COUNTIF(L12:L12,AS11)","v":0}]
[21,11259,22,13678,null,null,null,null,null,null,null,22,null,212,{"$f":"COUNTIF($L$7:$L$500,N12)","v":1},{"$f":"O12/$Q$4","v":0.2},{"$f":"IF(P12=0,0,(P12*((LOG(P12))/LOG(2))))","v":-0.46438561897747244},null,null,{"$f":"N12","v":212},{"$f":"COUNTIF(L7:L7,T12)","v":0},{"$f":"U12/(W4-U11)","v":0},{"$f":"IF(V12=0,0,(V12*((LOG(V12))/LOG(2))))","v":0},null,{"$f":"N12","v":212},{"$f":"COUNTIF(L8:L8,Y12)","v":1},{"$f":"Z12/(AB4-Z11)","v":1},{"$f":"IF(AA12=0,0,(AA12*((LOG(AA12))/LOG(2))))","v":0},null,{"$f":"N12","v":212},{"$f":"COUNTIF(L9:L9,AD12)","v":0},{"$f":"AE12/(AG4-AE11)","v":0},{"$f":"IF(AF12=0,0,(AF12*((LOG(AF12))/LOG(2))))","v":0},null,{"$f":"N12","v":212},{"$f":"COUNTIF(L10:L10,AI12)","v":0},{"$f":"AJ12/(AL4-AJ11)","v":0},{"$f":"IF(AK12=0,0,(AK12*((LOG(AK12))/LOG(2))))","v":0},null,{"$f":"N12","v":212},{"$f":"COUNTIF(L11:L11,AN12)","v":0},{"$f":"AO12/(AQ4-AO11)","v":0},{"$f":"IF(AP12=0,0,(AP12*((LOG(AP12))/LOG(2))))","v":0},null,{"$f":"N12","v":212},{"$f":"COUNTIF(L12:L12,AS12)","v":0},{"$f":"AT12/(AV4-AT11)","v":{"$error":"#DIV/0!"}},{"$f":"IF(AU12=0,0,(AU12*((LOG(AU12))/LOG(2))))","v":{"$error":"#DIV/0!"}}]
[null,null,null,null,null,null,null,null,null,null,null,null,null,221,{"$f":"COUNTIF($L$7:$L$500,N13)","v":0},{"$f":"O13/$Q$4","v":0},{"$f":"IF(P13=0,0,(P13*((LOG(P13))/LOG(2))))","v":0},null,null,{"$f":"N13","v":221},{"$f":"COUNTIF(L7:L7,T13)","v":0},{"$f":"U13/(W4-U11)","v":0},{"$f":"IF(V13=0,0,(V13*((LOG(V13))/LOG(2))))","v":0},null,{"$f":"N13","v":221},{"$f":"COUNTIF(L8:L8,Y13)","v":0},{"$f":"Z13/(AB4-Z11)","v":0},{"$f":"IF(AA13=0,0,(AA13*((LOG(AA13))/LOG(2))))","v":0},null,{"$f":"N13","v":221},{"$f":"COUNTIF(L9:L9,AD13)","v":0},{"$f":"AE13/(AG4-AE11)","v":0},{"$f":"IF(AF13=0,0,(AF13*((LOG(AF13))/LOG(2))))","v":0},null,{"$f":"N13","v":221},{"$f":"COUNTIF(L10:L10,AI13)","v":0},{"$f":"AJ13/(AL4-AJ11)","v":0},{"$f":"IF(AK13=0,0,(AK13*((LOG(AK13))/LOG(2))))","v":0},null,{"$f":"N13","v":221},{"$f":"COUNTIF(L11:L11,AN13)","v":0},{"$f":"AO13/(AQ4-AO11)","v":0},{"$f":"IF(AP13=0,0,(AP13*((LOG(AP13))/LOG(2))))","v":0},null,{"$f":"N13","v":221},{"$f":"COUNTIF(L12:L12,AS13)","v":0},{"$f":"AT13/(AV4-AT11)","v":{"$error":"#DIV/0!"}},{"$f":"IF(AU13=0,0,(AU13*((LOG(AU13))/LOG(2))))","v":{"$error":"#DIV/0!"}}]
[null,null,null,null,null,null,null,null,null,null,null,null,null,222,{"$f":"COUNTIF($L$7:$L$500,N14)","v":0},{"$f":"O14/$Q$4","v":0},{"$f":"IF(P14=0,0,(P14*((LOG(P14))/LOG(2))))","v":0},null,null,{"$f":"N14","v":222},{"$f":"COUNTIF(L7:L7,T14)","v":0},{"$f":"U14/(W4-U11)","v":0},{"$f":"IF(V14=0,0,(V14*((LOG(V14))/LOG(2))))","v":0},null,{"$f":"N14","v":222},{"$f":"COUNTIF(L8:L8,Y14)","v":0},{"$f":"Z14/(AB4-Z11)","v":0},{"$f":"IF(AA14=0,0,(AA14*((LOG(AA14))/LOG(2))))","v":0},null,{"$f":"N14","v":222},{"$f":"COUNTIF(L9:L9,AD14)","v":0},{"$f":"AE14/(AG4-AE11)","v":0},{"$f":"IF(AF14=0,0,(AF14*((LOG(AF14))/LOG(2))))","v":0},null,{"$f":"N14","v":222},{"$f":"COUNTIF(L10:L10,AI14)","v":0},{"$f":"AJ14/(AL4-AJ11)","v":0},{"$f":"IF(AK14=0,0,(AK14*((LOG(AK14))/LOG(2))))","v":0},null,{"$f":"N14","v":222},{"$f":"COUNTIF(L11:L11,AN14)","v":0},{"$f":"AO14/(AQ4-AO11)","v":0},{"$f":"IF(AP14=0,0,(AP14*((LOG(AP14))/LOG(2))))","v":0},null,{"$f":"N14","v":222},{"$f":"COUNTIF(L12:L12,AS14)","v":0},{"$f":"AT14/(AV4-AT11)","v":{"$error":"#DIV/0!"}},{"$f":"IF(AU14=0,0,(AU14*((LOG(AU14))/LOG(2))))","v":{"$error":"#DIV/0!"}}]
[null,null,null,null,null,null,null,null,null,null,null,null,null,null,null,{"$f":"SUM(P7:P14)","v":1},{"$f":"-SUM(Q7:Q14)","v":1.3709505944546687},null,null,null,null,{"$f":"SUM(V7:V14)","v":1},{"$f":"-SUM(W7:W14)","v":0},null,null,null,{"$f":"SUM(AA7:AA14)","v":1},{"$f":"-SUM(AB7:AB14)","v":0},null,null,null,{"$f":"SUM(AF7:AF14)","v":1},{"$f":"-SUM(AG7:AG14)","v":0},null,null,null,{"$f":"SUM(AK7:AK14)","v":1},{"$f":"-SUM(AL7:AL14)","v":0},null,null,null,{"$f":"SUM(AP7:AP14)","v":1},{"$f":"-SUM(AQ7:AQ14)","v":0},null,null,null,{"$f":"SUM(AU7:AU14)","v":{"$error":"#DIV/0!"}},{"$f":"-SUM(AV7:AV14)","v":{"$error":"#DIV/0!"}}]
[null,null,null,null,null,null,null,null,null,null,null,null,null,null,null,"U=",{"$f":"Q15/(LOG(Q4)/LOG(2))","v":0.5904362833084088},null,null,null,null,"U1=",{"$f":"W15/(LOG(W4)/LOG(2))","v":{"$error":"#DIV/0!"}},null,null,null,"U2=",{"$f":"AB15/(LOG(AB4)/LOG(2))","v":{"$error":"#DIV/0!"}},null,null,null,"U3=",{"$f":"AG15/(LOG(AG4)/LOG(2))","v":{"$error":"#DIV/0!"}},null,null,null,"U4=",{"$f":"AL15/(LOG(AL4)/LOG(2))","v":{"$error":"#DIV/0!"}},null,null,null,"U5=",{"$f":"AQ15/(LOG(AQ4)/LOG(2))","v":{"$error":"#DIV/0!"}},null,null,null,"U6=",{"$f":"AV15/(LOG(AV4)/LOG(2))","v":{"$error":"#DIV/0!"}}]
[]
[]
[null,null,null,null,null,null,null,null,null,null,null,null,null,"Total Target Seq"]
[null,null,null,null,null,null,null,null,null,null,null,null,null,{"$f":"COUNTIF(L7:L12,G3)","v":0},null,1,1,1,1,1,1]
[null,null,null,null,null,null,null,null,null,null,null,null,null,null,null,"% of reinforcement given in 6 equal intervals based on number of trials "]
[null,null,null,null,null,null,null,null,null,null,null,null,null,null,null,"%_1","%_2","%_3","%_4","%_5","%_6"]
[null,null,null,null,null,null,null,null,null,null,null,null,null,null,"target sequence",{"$f":"$G$3","v":211},{"$f":"$G$3","v":211},{"$f":"$G$3","v":211},{"$f":"$G$3","v":211},{"$f":"$G$3","v":211},{"$f":"$G$3","v":211}]
[null,null,null,null,null,null,null,null,null,null,null,null,null,null,"total reinforcement",{"$f":"U11","v":0},{"$f":"Z11","v":0},{"$f":"AE11","v":0},{"$f":"AJ11","v":0},{"$f":"AO11","v":0},{"$f":"AT11","v":0}]
[null,null,null,null,null,null,null,null,null,null,null,null,null,null,"% target"]
[null,null,null,null,null,null,null,null,null,null,null,null,null,null,"CCRF"]
[null,null,null,null,null,null,null,null,null,null,null,null,null,null,"% CCRf"]
[null,null,null,null,null,null,null,null,null,null,null,null,null,null,"average response rate",{"$f":"F7/P20","v":54},{"$f":"(F8-F7)/Q20","v":506},{"$f":"(F9-F8)/R20","v":233},{"$f":"(F10-F9)/S20","v":405},{"$f":"(F11-F10)/T20","v":1439},{"$f":"(F12-F11)/U20","v":-2637}]

{"sheet":"!L906A4B.axt","index":20,"n_rows":28,"n_cols":48,"rows_kept":28,"cut":false,"hidden":false,"merged":[[4,39,4,42],[5,39,5,40],[4,44,4,47],[5,44,5,45],[4,24,4,27],[5,24,5,25],[4,29,4,32],[5,29,5,30],[4,34,4,37],[5,34,5,35],[1,1,1,2],[5,13,5,14],[18,13,18,14],[19,13,19,14],[4,19,4,22],[5,19,5,20]]}
["Report for:!L906A4B.axt"]
["Date:","<date>"]
["Hen:","<hen>",null,null,null,"Correct Sequence",{"$f":"Start!J2","v":211},null,null,null,null,null,null,null,null,"Total Sequences in Data",{"$f":"4994-COUNTBLANK(L7:L5000)","v":8},null,null,null,null,"Total Sequences in Block Data",{"$f":"COUNTA(L7:L7)","v":1},null,null,null,"Total Sequences in Block Data",{"$f":"COUNTA(L8:L9)","v":2},null,null,null,"Total Sequences in Block Data",{"$f":"COUNTA(L10:L10)","v":1},null,null,null,"Total Sequences in Block Data",{"$f":"COUNTA(L11:L11)","v":1},null,null,null,"Total Sequences in Block Data",{"$f":"COUNTA(L12:L13)","v":2},null,null,null,"Total Sequences in Block Data",{"$f":"COUNTA(L14:L14)","v":1}]
[null,null,null,null,null,null,null,null,null,null,null,null,null,null,null,"Total Sequences in Summary",{"$f":"SUM(O7:O14)","v":8},null,null,null,null,"Total Sequences in Block Summary",{"$f":"SUM(U7:U14)","v":1},null,null,null,"Total Sequences in Block Summary",{"$f":"SUM(Z7:Z14)","v":2},null,null,null,"Total Sequences in Block Summary",{"$f":"SUM(AE7:AE14)","v":1},null,null,null,"Total Sequences in Block Summary",{"$f":"SUM(AJ7:AJ14)","v":1},null,null,null,"Total Sequences in Block Summary",{"$f":"SUM(AO7:AO14)","v":2},null,null,null,"Total Sequences in Block Summary",{"$f":"SUM(AT7:AT14)","v":1}]
[null,null,null,null,null,null,null,null,null,null,null,null,null,null,null,null,null,null,null,"Block 1",null,null,null,null,"Block 2",null,null,null,null,"Block 3",null,null,null,null,"Block 4",null,null,null,null,"Block 5",null,null,null,null,"Block 6"]
["Sequence\nComponent\n1","Time\n1","Sequence\nComponent\n2","Time\n2","Sequence\nComponent\n3","Time\n3","Sequence\nComponent\n4","Time\n4","Sequence\nComponent\n5","Time\n5","Correct?\n0=No 1=Yes","Sequence",null,"Frequency",null,"Relative Frequency","Variability",null,null,"Frequency",null,"Relative Frequency","Variability",null,"Frequency",null,"Relative Frequency","Variability",null,"Frequency",null,"Relative Frequency","Variability",null,"Frequency",null,"Relative Frequency","Variability",null,"Frequency",null,"Relative Frequency","Variability",null,"Frequency",null,"Relative Frequency","Variability"]
[12,18,24,36,13,48,null,null,null,null,0,121,null,111,{"$f":"COUNTIF($L$7:$L$500,N7)","v":5},{"$f":"O7/$Q$4","v":0.625},{"$f":"IF(P7=0,0,(P7*((LOG(P7))/LOG(2))))","v":-0.42379494069539858},null,null,{"$f":"N7","v":111},{"$f":"COUNTIF(L7:L7,T7)","v":0},{"$f":"U7/(W4-U11)","v":0},{"$f":"IF(V7=0,0,(V7*((LOG(V7))/LOG(2))))","v":0},null,{"$f":"N7","v":111},{"$f":"COUNTIF(L8:L9,Y7)","v":1},{"$f":"Z7/(AB4-Z11)","v":0.5},{"$f":"IF(AA7=0,0,(AA7*((LOG(AA7))/LOG(2))))","v":-0.5},null,{"$f":"N7","v":111},{"$f":"COUNTIF(L10:L10,AD7)","v":1},{"$f":"AE7/(AG4-AE11)","v":1},{"$f":"IF(AF7=0,0,(AF7*((LOG(AF7))/LOG(2))))","v":0},null,{"$f":"N7","v":111},{"$f":"COUNTIF(L11:L11,AI7)","v":1},{"$f":"AJ7/(AL4-AJ11)","v":1},{"$f":"IF(AK7=0,0,(AK7*((LOG(AK7))/LOG(2))))","v":0},null,{"$f":"N7","v":111},{"$f":"COUNTIF(L12:L13,AN7)","v":1},{"$f":"AO7/(AQ4-AO11)","v":0.5},{"$f":"IF(AP7=0,0,(AP7*((LOG(AP7))/LOG(2))))","v":-0.5},null,{"$f":"N7","v":111},{"$f":"COUNTIF(L14:L14,AS7)","v":1},{"$f":"AT7/(AV4-AT11)","v":1},{"$f":"IF(AU7=0,0,(AU7*((LOG(AU7))/LOG(2))))","v":0}]
[12,156,13,162,24,193,null,null,null,null,0,112,null,112,{"$f":"COUNTIF($L$7:$L$500,N8)","v":2},{"$f":"O8/$Q$4","v":0.25},{"$f":"IF(P8=0,0,(P8*((LOG(P8))/LOG(2))))","v":-0.5},null,null,{"$f":"N8","v":112},{"$f":"COUNTIF(L7:L7,T8)","v":0},{"$f":"U8/(W4-U11)","v":0},{"$f":"IF(V8=0,0,(V8*((LOG(V8))/LOG(2))))","v":0},null,{"$f":"N8","v":112},{"$f":"COUNTIF(L8:L9,Y8)","v":1},{"$f":"Z8/(AB4-Z11)","v":0.5},{"$f":"IF(AA8=0,0,(AA8*((LOG(AA8))/LOG(2))))","v":-0.5},null,{"$f":"N8","v":112},{"$f":"COUNTIF(L10:L10,AD8)","v":0},{"$f":"AE8/(AG4-AE11)","v":0},{"$f":"IF(AF8=0,0,(AF8*((LOG(AF8))/LOG(2))))","v":0},null,{"$f":"N8","v":112},{"$f":"COUNTIF(L11:L11,AI8)","v":0},{"$f":"AJ8/(AL4-AJ11)","v":0},{"$f":"IF(AK8=0,0,(AK8*((LOG(AK8))/LOG(2))))","v":0},null,{"$f":"N8","v":112},{"$f":"COUNTIF(L12:L13,AN8)","v":1},{"$f":"AO8/(AQ4-AO11)","v":0.5},{"$f":"IF(AP8=0,0,(AP8*((LOG(AP8))/LOG(2))))","v":-0.5},null,{"$f":"N8","v":112},{"$f":"COUNTIF(L14:L14,AS8)","v":0},{"$f":"AT8/(AV4-AT11)","v":0},{"$f":"IF(AU8=0,0,(AU8*((LOG(AU8))/LOG(2))))","v":0}]
[12,325,13,344,13,384,null,null,null,null,0,111,null,121,{"$f":"COUNTIF($L$7:$L$500,N9)","v":1},{"$f":"O9/$Q$4","v":0.125},{"$f":"IF(P9=0,0,(P9*((LOG(P9))/LOG(2))))","v":-0.375},null,null,{"$f":"N9","v":121},{"$f":"COUNTIF(L7:L7,T9)","v":1},{"$f":"U9/(W4-U11)","v":1},{"$f":"IF(V9=0,0,(V9*((LOG(V9))/LOG(2))))","v":0},null,{"$f":"N9","v":121},{"$f":"COUNTIF(L8:L9,Y9)","v":0},{"$f":"Z9/(AB4-Z11)","v":0},{"$f":"IF(AA9=0,0,(AA9*((LOG(AA9))/LOG(2))))","v":0},null,{"$f":"N9","v":121},{"$f":"COUNTIF(L10:L10,AD9)","v":0},{"$f":"AE9/(AG4-AE11)","v":0},{"$f":"IF(AF9=0,0,(AF9*((LOG(AF9))/LOG(2))))","v":0},null,{"$f":"N9","v":121},{"$f":"COUNTIF(L11:L11,AI9)","v":0},{"$f":"AJ9/(AL4-AJ11)","v":0},{"$f":"IF(AK9=0,0,(AK9*((LOG(AK9))/LOG(2))))","v":0},null,{"$f":"N9","v":121},{"$f":"COUNTIF(L12:L13,AN9)","v":0},{"$f":"AO9/(AQ4-AO11)","v":0},{"$f":"IF(AP9=0,0,(AP9*((LOG(AP9))/LOG(2))))","v":0},null,{"$f":"N9","v":121},{"$f":"COUNTIF(L14:L14,AS9)","v":0},{"$f":"AT9/(AV4-AT11)","v":0},{"$f":"IF(AU9=0,0,(AU9*((LOG(AU9))/LOG(2))))","v":0}]
[12,548,13,563,13,572,null,null,null,null,0,111,null,122,{"$f":"COUNTIF($L$7:$L$500,N10)","v":0},{"$f":"O10/$Q$4","v":0},{"$f":"IF(P10=0,0,(P10*((LOG(P10))/LOG(2))))","v":0},null,null,{"$f":"N10","v":122},{"$f":"COUNTIF(L7:L7,T10)","v":0},{"$f":"U10/(W4-U11)","v":0},{"$f":"IF(V10=0,0,(V10*((LOG(V10))/LOG(2))))","v":0},null,{"$f":"N10","v":122},{"$f":"COUNTIF(L8:L9,Y10)","v":0},{"$f":"Z10/(AB4-Z11)","v":0},{"$f":"IF(AA10=0,0,(AA10*((LOG(AA10))/LOG(2))))","v":0},null,{"$f":"N10","v":122},{"$f":"COUNTIF(L10:L10,AD10)","v":0},{"$f":"AE10/(AG4-AE11)","v":0},{"$f":"IF(AF10=0,0,(AF10*((LOG(AF10))/LOG(2))))","v":0},null,{"$f":"N10","v":122},{"$f":"COUNTIF(L11:L11,AI10)","v":0},{"$f":"AJ10/(AL4-AJ11)","v":0},{"$f":"IF(AK10=0,0,(AK10*((LOG(AK10))/LOG(2))))","v":0},null,{"$f":"N10","v":122},{"$f":"COUNTIF(L12:L13,AN10)","v":0},{"$f":"AO10/(AQ4-AO11)","v":0},{"$f":"IF(AP10=0,0,(AP10*((LOG(AP10))/LOG(2))))","v":0},null,{"$f":"N10","v":122},{"$f":"COUNTIF(L14:L14,AS10)","v":0},{"$f":"AT10/(AV4-AT11)","v":0},{"$f":"IF(AU10=0,0,(AU10*((LOG(AU10))/LOG(2))))","v":0}]
[12,725,13,733,13,778,null,null,null,null,0,111,null,211,{"$f":"COUNTIF($L$7:$L$500,N11)","v":0},{"$f":"O11/$Q$4","v":0},{"$f":"IF(P11=0,0,(P11*((LOG(P11))/LOG(2))))","v":0},null,null,{"$f":"N11","v":211},{"$f":"COUNTIF(L7:L7,T11)","v":0},null,null,null,{"$f":"N11","v":211},{"$f":"COUNTIF(L8:L9,Y11)","v":0},null,null,null,{"$f":"N11","v":211},{"$f":"COUNTIF(L10:L10,AD11)","v":0},null,null,null,{"$f":"N11","v":211},{"$f":"COUNTIF(L11:L11,AI11)","v":0},null,null,null,{"$f":"N11","v":211},{"$f":"COUNTIF(L12:L13,AN11)","v":0},null,null,null,{"$f":"N11","v":211},{"$f":"COUNTIF(L14:L14,AS11)","v":0}]
[12,1010,13,1061,13,1068,null,null,null,null,0,111,null,212,{"$f":"COUNTIF($L$7:$L$500,N12)","v":0},{"$f":"O12/$Q$4","v":0},{"$f":"IF(P12=0,0,(P12*((LOG(P12))/LOG(2))))","v":0},null,null,{"$f":"N12","v":212},{"$f":"COUNTIF(L7:L7,T12)","v":0},{"$f":"U12/(W4-U11)","v":0},{"$f":"IF(V12=0,0,(V12*((LOG(V12))/LOG(2))))","v":0},null,{"$f":"N12","v":212},{"$f":"COUNTIF(L8:L9,Y12)","v":0},{"$f":"Z12/(AB4-Z11)","v":0},{"$f":"IF(AA12=0,0,(AA12*((LOG(AA12))/LOG(2))))","v":0},null,{"$f":"N12","v":212},{"$f":"COUNTIF(L10:L10,AD12)","v":0},{"$f":"AE12/(AG4-AE11)","v":0},{"$f":"IF(AF12=0,0,(AF12*((LOG(AF12))/LOG(2))))","v":0},null,{"$f":"N12","v":212},{"$f":"COUNTIF(L11:L11,AI12)","v":0},{"$f":"AJ12/(AL4-AJ11)","v":0},{"$f":"IF(AK12=0,0,(AK12*((LOG(AK12))/LOG(2))))","v":0},null,{"$f":"N12","v":212},{"$f":"COUNTIF(L12:L13,AN12)","v":0},{"$f":"AO12/(AQ4-AO11)","v":0},{"$f":"IF(AP12=0,0,(AP12*((LOG(AP12))/LOG(2))))","v":0},null,{"$f":"N12","v":212},{"$f":"COUNTIF(L14:L14,AS12)","v":0},{"$f":"AT12/(AV4-AT11)","v":0},{"$f":"IF(AU12=0,0,(AU12*((LOG(AU12))/LOG(2))))","v":0}]
[12,2196,13,2209,24,2249,null,null,null,null,0,112,null,221,{"$f":"COUNTIF($L$7:$L$500,N13)","v":0},{"$f":"O13/$Q$4","v":0},{"$f":"IF(P13=0,0,(P13*((LOG(P13))/LOG(2))))","v":0},null,null,{"$f":"N13","v":221},{"$f":"COUNTIF(L7:L7,T13)","v":0},{"$f":"U13/(W4-U11)","v":0},{"$f":"IF(V13=0,0,(V13*((LOG(V13))/LOG(2))))","v":0},null,{"$f":"N13","v":221},{"$f":"COUNTIF(L8:L9,Y13)","v":0},{"$f":"Z13/(AB4-Z11)","v":0},{"$f":"IF(AA13=0,0,(AA13*((LOG(AA13))/LOG(2))))","v":0},null,{"$f":"N13","v":221},{"$f":"COUNTIF(L10:L10,AD13)","v":0},{"$f":"AE13/(AG4-AE11)","v":0},{"$f":"IF(AF13=0,0,(AF13*((LOG(AF13))/LOG(2))))","v":0},null,{"$f":"N13","v":221},{"$f":"COUNTIF(L11:L11,AI13)","v":0},{"$f":"AJ13/(AL4-AJ11)","v":0},{"$f":"IF(AK13=0,0,(AK13*((LOG(AK13))/LOG(2))))","v":0},null,{"$f":"N13","v":221},{"$f":"COUNTIF(L12:L13,AN13)","v":0},{"$f":"AO13/(AQ4-AO11)","v":0},{"$f":"IF(AP13=0,0,(AP13*((LOG(AP13))/LOG(2))))","v":0},null,{"$f":"N13","v":221},{"$f":"COUNTIF(L14:L14,AS13)","v":0},{"$f":"AT13/(AV4-AT11)","v":0},{"$f":"IF(AU13=0,0,(AU13*((LOG(AU13))/LOG(2))))","v":0}]
[12,2565,13,2584,13,2593,null,null,null,null,0,111,null,222,{"$f":"COUNTIF($L$7:$L$500,N14)","v":0},{"$f":"O14/$Q$4","v":0},{"$f":"IF(P14=0,0,(P14*((LOG(P14))/LOG(2))))","v":0},null,null,{"$f":"N14","v":222},{"$f":"COUNTIF(L7:L7,T14)","v":0},{"$f":"U14/(W4-U11)","v":0},{"$f":"IF(V14=0,0,(V14*((LOG(V14))/LOG(2))))","v":0},null,{"$f":"N14","v":222},{"$f":"COUNTIF(L8:L9,Y14)","v":0},{"$f":"Z14/(AB4-Z11)","v":0},{"$f":"IF(AA14=0,0,(AA14*((LOG(AA14))/LOG(2))))","v":0},null,{"$f":"N14","v":222},{"$f":"COUNTIF(L10:L10,AD14)","v":0},{"$f":"AE14/(AG4-AE11)","v":0},{"$f":"IF(AF14=0,0,(AF14*((LOG(AF14))/LOG(2))))","v":0},null,{"$f":"N14","v":222},{"$f":"COUNTIF(L11:L11,AI14)","v":0},{"$f":"AJ14/(AL4-AJ11)","v":0},{"$f":"IF(AK14=0,0,(AK14*((LOG(AK14))/LOG(2))))","v":0},null,{"$f":"N14","v":222},{"$f":"COUNTIF(L12:L13,AN14)","v":0},{"$f":"AO14/(AQ4-AO11)","v":0},{"$f":"IF(AP14=0,0,(AP14*((LOG(AP14))/LOG(2))))","v":0},null,{"$f":"N14","v":222},{"$f":"COUNTIF(L14:L14,AS14)","v":0},{"$f":"AT14/(AV4-AT11)","v":0},{"$f":"IF(AU14=0,0,(AU14*((LOG(AU14))/LOG(2))))","v":0}]
[null,null,null,null,null,null,null,null,null,null,null,null,null,null,null,{"$f":"SUM(P7:P14)","v":1},{"$f":"-SUM(Q7:Q14)","v":1.2987949406953985},null,null,null,null,{"$f":"SUM(V7:V14)","v":1},{"$f":"-SUM(W7:W14)","v":0},null,null,null,{"$f":"SUM(AA7:AA14)","v":1},{"$f":"-SUM(AB7:AB14)","v":1},null,null,null,{"$f":"SUM(AF7:AF14)","v":1},{"$f":"-SUM(AG7:AG14)","v":0},null,null,null,{"$f":"SUM(AK7:AK14)","v":1},{"$f":"-SUM(AL7:AL14)","v":0},null,null,null,{"$f":"SUM(AP7:AP14)","v":1},{"$f":"-SUM(AQ7:AQ14)","v":1},null,null,null,{"$f":"SUM(AU7:AU14)","v":1},{"$f":"-SUM(AV7:AV14)","v":0}]
[null,null,null,null,null,null,null,null,null,null,null,null,null,null,null,"U=",{"$f":"Q15/(LOG(Q4)/LOG(2))","v":0.43293164689846614},null,null,null,null,"U1=",{"$f":"W15/(LOG(W4)/LOG(2))","v":{"$error":"#DIV/0!"}},null,null,null,"U2=",{"$f":"AB15/(LOG(AB4)/LOG(2))","v":1},null,null,null,"U3=",{"$f":"AG15/(LOG(AG4)/LOG(2))","v":{"$error":"#DIV/0!"}},null,null,null,"U4=",{"$f":"AL15/(LOG(AL4)/LOG(2))","v":{"$error":"#DIV/0!"}},null,null,null,"U5=",{"$f":"AQ15/(LOG(AQ4)/LOG(2))","v":1},null,null,null,"U6=",{"$f":"AV15/(LOG(AV4)/LOG(2))","v":{"$error":"#DIV/0!"}}]
[]
[]
[null,null,null,null,null,null,null,null,null,null,null,null,null,"Total Target Seq"]
[null,null,null,null,null,null,null,null,null,null,null,null,null,{"$f":"COUNTIF(L7:L14,G3)","v":0},null,1,2,1,1,2,1]
[null,null,null,null,null,null,null,null,null,null,null,null,null,null,null,"% of reinforcement given in 6 equal intervals based on number of trials "]
[null,null,null,null,null,null,null,null,null,null,null,null,null,null,null,"%_1","%_2","%_3","%_4","%_5","%_6"]
[null,null,null,null,null,null,null,null,null,null,null,null,null,null,"target sequence",{"$f":"$G$3","v":211},{"$f":"$G$3","v":211},{"$f":"$G$3","v":211},{"$f":"$G$3","v":211},{"$f":"$G$3","v":211},{"$f":"$G$3","v":211}]
[null,null,null,null,null,null,null,null,null,null,null,null,null,null,"total reinforcement",{"$f":"U11","v":0},{"$f":"Z11","v":0},{"$f":"AE11","v":0},{"$f":"AJ11","v":0},{"$f":"AO11","v":0},{"$f":"AT11","v":0}]
[null,null,null,null,null,null,null,null,null,null,null,null,null,null,"% target"]
[null,null,null,null,null,null,null,null,null,null,null,null,null,null,"CCRF"]
[null,null,null,null,null,null,null,null,null,null,null,null,null,null,"% CCRf"]
[null,null,null,null,null,null,null,null,null,null,null,null,null,null,"average response rate",{"$f":"F7/P20","v":48},{"$f":"(F9-F7)/Q20","v":168},{"$f":"(F10-F9)/R20","v":188},{"$f":"(F11-F10)/S20","v":206},{"$f":"(F13-F11)/T20","v":735.5},{"$f":"(F14-F13)/U20","v":344}]

{"sheet":"!L907A4B.axt","index":21,"n_rows":28,"n_cols":48,"rows_kept":28,"cut":false,"hidden":false,"merged":[[4,39,4,42],[5,39,5,40],[4,44,4,47],[5,44,5,45],[4,24,4,27],[5,24,5,25],[4,29,4,32],[5,29,5,30],[4,34,4,37],[5,34,5,35],[1,1,1,2],[5,13,5,14],[18,13,18,14],[19,13,19,14],[4,19,4,22],[5,19,5,20]]}
["Report for:!L907A4B.axt"]
["Date:","<date>"]
["Hen:","<hen>",null,null,null,"Correct Sequence",{"$f":"Start!J2","v":211},null,null,null,null,null,null,null,null,"Total Sequences in Data",{"$f":"4994-COUNTBLANK(L7:L5000)","v":13},null,null,null,null,"Total Sequences in Block Data",{"$f":"COUNTA(L7:L8)","v":2},null,null,null,"Total Sequences in Block Data",{"$f":"COUNTA(L9:L10)","v":2},null,null,null,"Total Sequences in Block Data",{"$f":"COUNTA(L11:L13)","v":3},null,null,null,"Total Sequences in Block Data",{"$f":"COUNTA(L14:L15)","v":2},null,null,null,"Total Sequences in Block Data",{"$f":"COUNTA(L16:L17)","v":2},null,null,null,"Total Sequences in Block Data",{"$f":"COUNTA(L18:L19)","v":2}]
[null,null,null,null,null,null,null,null,null,null,null,null,null,null,null,"Total Sequences in Summary",{"$f":"SUM(O7:O14)","v":13},null,null,null,null,"Total Sequences in Block Summary",{"$f":"SUM(U7:U14)","v":2},null,null,null,"Total Sequences in Block Summary",{"$f":"SUM(Z7:Z14)","v":2},null,null,null,"Total Sequences in Block Summary",{"$f":"SUM(AE7:AE14)","v":3},null,null,null,"Total Sequences in Block Summary",{"$f":"SUM(AJ7:AJ14)","v":2},null,null,null,"Total Sequences in Block Summary",{"$f":"SUM(AO7:AO14)","v":2},null,null,null,"Total Sequences in Block Summary",{"$f":"SUM(AT7:AT14)","v":2}]
[null,null,null,null,null,null,null,null,null,null,null,null,null,null,null,null,null,null,null,"Block 1",null,null,null,null,"Block 2",null,null,null,null,"Block 3",null,null,null,null,"Block 4",null,null,null,null,"Block 5",null,null,null,null,"Block 6"]
["Sequence\nComponent\n1","Time\n1","Sequence\nComponent\n2","Time\n2","Sequence\nComponent\n3","Time\n3","Sequence\nComponent\n4","Time\n4","Sequence\nComponent\n5","Time\n5","Correct?\n0=No 1=Yes","Sequence",null,"Frequency",null,"Relative Frequency","Variability",null,null,"Frequency",null,"Relative Frequency","Variability",null,"Frequency",null,"Relative Frequency","Variability",null,"Frequency",null,"Relative Frequency","Variability",null,"Frequency",null,"Relative Frequency","Variability",null,"Frequency",null,"Relative Frequency","Variability",null,"Frequency",null,"Relative Frequency","Variability"]
[12,10,13,17,24,31,null,null,null,null,0,112,null,111,{"$f":"COUNTIF($L$7:$L$500,N7)","v":5},{"$f":"O7/$Q$4","v":0.38461538461538464},{"$f":"IF(P7=0,0,(P7*((LOG(P7))/LOG(2))))","v":-0.53019677817451139},null,null,{"$f":"N7","v":111},{"$f":"COUNTIF(L7:L8,T7)","v":0},{"$f":"U7/(W4-U11)","v":0},{"$f":"IF(V7=0,0,(V7*((LOG(V7))/LOG(2))))","v":0},null,{"$f":"N7","v":111},{"$f":"COUNTIF(L9:L10,Y7)","v":1},{"$f":"Z7/(AB4-Z11)","v":0.5},{"$f":"IF(AA7=0,0,(AA7*((LOG(AA7))/LOG(2))))","v":-0.5},null,{"$f":"N7","v":111},{"$f":"COUNTIF(L11:L13,AD7)","v":0},{"$f":"AE7/(AG4-AE11)","v":0},{"$f":"IF(AF7=0,0,(AF7*((LOG(AF7))/LOG(2))))","v":0},null,{"$f":"N7","v":111},{"$f":"COUNTIF(L14:L15,AI7)","v":1},{"$f":"AJ7/(AL4-AJ11)","v":0.5},{"$f":"IF(AK7=0,0,(AK7*((LOG(AK7))/LOG(2))))","v":-0.5},null,{"$f":"N7","v":111},{"$f":"COUNTIF(L16:L17,AN7)","v":2},{"$f":"AO7/(AQ4-AO11)","v":1},{"$f":"IF(AP7=0,0,(AP7*((LOG(AP7))/LOG(2))))","v":0},null,{"$f":"N7","v":111},{"$f":"COUNTIF(L18:L19,AS7)","v":1},{"$f":"AT7/(AV4-AT11)","v":0.5},{"$f":"IF(AU7=0,0,(AU7*((LOG(AU7))/LOG(2))))","v":-0.5}]
[12,188,13,194,24,213,null,null,null,null,0,112,null,112,{"$f":"COUNTIF($L$7:$L$500,N8)","v":2},{"$f":"O8/$Q$4","v":0.15384615384615385},{"$f":"IF(P8=0,0,(P8*((LOG(P8))/LOG(2))))","v":-0.4154522643293988},null,null,{"$f":"N8","v":112},{"$f":"COUNTIF(L7:L8,T8)","v":2},{"$f":"U8/(W4-U11)","v":1},{"$f":"IF(V8=0,0,(V8*((LOG(V8))/LOG(2))))","v":0},null,{"$f":"N8","v":112},{"$f":"COUNTIF(L9:L10,Y8)","v":0},{"$f":"Z8/(AB4-Z11)","v":0},{"$f":"IF(AA8=0,0,(AA8*((LOG(AA8))/LOG(2))))","v":0},null,{"$f":"N8","v":112},{"$f":"COUNTIF(L11:L13,AD8)","v":0},{"$f":"AE8/(AG4-AE11)","v":0},{"$f":"IF(AF8=0,0,(AF8*((LOG(AF8))/LOG(2))))","v":0},null,{"$f":"N8","v":112},{"$f":"COUNTIF(L14:L15,AI8)","v":0},{"$f":"AJ8/(AL4-AJ11)","v":0},{"$f":"IF(AK8=0,0,(AK8*((LOG(AK8))/LOG(2))))","v":0},null,{"$f":"N8","v":112},{"$f":"COUNTIF(L16:L17,AN8)","v":0},{"$f":"AO8/(AQ4-AO11)","v":0},{"$f":"IF(AP8=0,0,(AP8*((LOG(AP8))/LOG(2))))","v":0},null,{"$f":"N8","v":112},{"$f":"COUNTIF(L18:L19,AS8)","v":0},{"$f":"AT8/(AV4-AT11)","v":0},{"$f":"IF(AU8=0,0,(AU8*((LOG(AU8))/LOG(2))))","v":0}]
[12,316,13,328,13,338,null,null,null,null,0,111,null,121,{"$f":"COUNTIF($L$7:$L$500,N9)","v":1},{"$f":"O9/$Q$4","v":7.6923076923076927E-2},{"$f":"IF(P9=0,0,(P9*((LOG(P9))/LOG(2))))","v":-0.28464920908777636},null,null,{"$f":"N9","v":121},{"$f":"COUNTIF(L7:L8,T9)","v":0},{"$f":"U9/(W4-U11)","v":0},{"$f":"IF(V9=0,0,(V9*((LOG(V9))/LOG(2))))","v":0},null,{"$f":"N9","v":121},{"$f":"COUNTIF(L9:L10,Y9)","v":0},{"$f":"Z9/(AB4-Z11)","v":0},{"$f":"IF(AA9=0,0,(AA9*((LOG(AA9))/LOG(2))))","v":0},null,{"$f":"N9","v":121},{"$f":"COUNTIF(L11:L13,AD9)","v":1},{"$f":"AE9/(AG4-AE11)","v":0.33333333333333331},{"$f":"IF(AF9=0,0,(AF9*((LOG(AF9))/LOG(2))))","v":-0.52832083357371862},null,{"$f":"N9","v":121},{"$f":"COUNTIF(L14:L15,AI9)","v":0},{"$f":"AJ9/(AL4-AJ11)","v":0},{"$f":"IF(AK9=0,0,(AK9*((LOG(AK9))/LOG(2))))","v":0},null,{"$f":"N9","v":121},{"$f":"COUNTIF(L16:L17,AN9)","v":0},{"$f":"AO9/(AQ4-AO11)","v":0},{"$f":"IF(AP9=0,0,(AP9*((LOG(AP9))/LOG(2))))","v":0},null,{"$f":"N9","v":121},{"$f":"COUNTIF(L18:L19,AS9)","v":0},{"$f":"AT9/(AV4-AT11)","v":0},{"$f":"IF(AU9=0,0,(AU9*((LOG(AU9))/LOG(2))))","v":0}]
[12,433,24,451,24,458,null,null,null,null,0,122,null,122,{"$f":"COUNTIF($L$7:$L$500,N10)","v":4},{"$f":"O10/$Q$4","v":0.30769230769230771},{"$f":"IF(P10=0,0,(P10*((LOG(P10))/LOG(2))))","v":-0.52321222096648989},null,null,{"$f":"N10","v":122},{"$f":"COUNTIF(L7:L8,T10)","v":0},{"$f":"U10/(W4-U11)","v":0},{"$f":"IF(V10=0,0,(V10*((LOG(V10))/LOG(2))))","v":0},null,{"$f":"N10","v":122},{"$f":"COUNTIF(L9:L10,Y10)","v":1},{"$f":"Z10/(AB4-Z11)","v":0.5},{"$f":"IF(AA10=0,0,(AA10*((LOG(AA10))/LOG(2))))","v":-0.5},null,{"$f":"N10","v":122},{"$f":"COUNTIF(L11:L13,AD10)","v":1},{"$f":"AE10/(AG4-AE11)","v":0.33333333333333331},{"$f":"IF(AF10=0,0,(AF10*((LOG(AF10))/LOG(2))))","v":-0.52832083357371862},null,{"$f":"N10","v":122},{"$f":"COUNTIF(L14:L15,AI10)","v":1},{"$f":"AJ10/(AL4-AJ11)","v":0.5},{"$f":"IF(AK10=0,0,(AK10*((LOG(AK10))/LOG(2))))","v":-0.5},null,{"$f":"N10","v":122},{"$f":"COUNTIF(L16:L17,AN10)","v":0},{"$f":"AO10/(AQ4-AO11)","v":0},{"$f":"IF(AP10=0,0,(AP10*((LOG(AP10))/LOG(2))))","v":0},null,{"$f":"N10","v":122},{"$f":"COUNTIF(L18:L19,AS10)","v":1},{"$f":"AT10/(AV4-AT11)","v":0.5},{"$f":"IF(AU10=0,0,(AU10*((LOG(AU10))/LOG(2))))","v":-0.5}]
[12,561,24,572,24,579,null,null,null,null,0,122,null,211,{"$f":"COUNTIF($L$7:$L$500,N11)","v":0},{"$f":"O11/$Q$4","v":0},{"$f":"IF(P11=0,0,(P11*((LOG(P11))/LOG(2))))","v":0},null,null,{"$f":"N11","v":211},{"$f":"COUNTIF(L7:L8,T11)","v":0},null,null,null,{"$f":"N11","v":211},{"$f":"COUNTIF(L9:L10,Y11)","v":0},null,null,null,{"$f":"N11","v":211},{"$f":"COUNTIF(L11:L13,AD11)","v":0},null,null,null,{"$f":"N11","v":211},{"$f":"COUNTIF(L14:L15,AI11)","v":0},null,null,null,{"$f":"N11","v":211},{"$f":"COUNTIF(L16:L17,AN11)","v":0},null,null,null,{"$f":"N11","v":211},{"$f":"COUNTIF(L18:L19,AS11)","v":0}]
[21,850,22,857,13,928,null,null,null,null,0,221,null,212,{"$f":"COUNTIF($L$7:$L$500,N12)","v":0},{"$f":"O12/$Q$4","v":0},{"$f":"IF(P12=0,0,(P12*((LOG(P12))/LOG(2))))","v":0},null,null,{"$f":"N12","v":212},{"$f":"COUNTIF(L7:L8,T12)","v":0},{"$f":"U12/(W4-U11)","v":0},{"$f":"IF(V12=0,0,(V12*((LOG(V12))/LOG(2))))","v":0},null,{"$f":"N12","v":212},{"$f":"COUNTIF(L9:L10,Y12)","v":0},{"$f":"Z12/(AB4-Z11)","v":0},{"$f":"IF(AA12=0,0,(AA12*((LOG(AA12))/LOG(2))))","v":0},null,{"$f":"N12","v":212},{"$f":"COUNTIF(L11:L13,AD12)","v":0},{"$f":"AE12/(AG4-AE11)","v":0},{"$f":"IF(AF12=0,0,(AF12*((LOG(AF12))/LOG(2))))","v":0},null,{"$f":"N12","v":212},{"$f":"COUNTIF(L14:L15,AI12)","v":0},{"$f":"AJ12/(AL4-AJ11)","v":0},{"$f":"IF(AK12=0,0,(AK12*((LOG(AK12))/LOG(2))))","v":0},null,{"$f":"N12","v":212},{"$f":"COUNTIF(L16:L17,AN12)","v":0},{"$f":"AO12/(AQ4-AO11)","v":0},{"$f":"IF(AP12=0,0,(AP12*((LOG(AP12))/LOG(2))))","v":0},null,{"$f":"N12","v":212},{"$f":"COUNTIF(L18:L19,AS12)","v":0},{"$f":"AT12/(AV4-AT11)","v":0},{"$f":"IF(AU12=0,0,(AU12*((LOG(AU12))/LOG(2))))","v":0}]
[12,1315,24,1342,13,1363,null,null,null,null,0,121,null,221,{"$f":"COUNTIF($L$7:$L$500,N13)","v":1},{"$f":"O13/$Q$4","v":7.6923076923076927E-2},{"$f":"IF(P13=0,0,(P13*((LOG(P13))/LOG(2))))","v":-0.28464920908777636},null,null,{"$f":"N13","v":221},{"$f":"COUNTIF(L7:L8,T13)","v":0},{"$f":"U13/(W4-U11)","v":0},{"$f":"IF(V13=0,0,(V13*((LOG(V13))/LOG(2))))","v":0},null,{"$f":"N13","v":221},{"$f":"COUNTIF(L9:L10,Y13)","v":0},{"$f":"Z13/(AB4-Z11)","v":0},{"$f":"IF(AA13=0,0,(AA13*((LOG(AA13))/LOG(2))))","v":0},null,{"$f":"N13","v":221},{"$f":"COUNTIF(L11:L13,AD13)","v":1},{"$f":"AE13/(AG4-AE11)","v":0.33333333333333331},{"$f":"IF(AF13=0,0,(AF13*((LOG(AF13))/LOG(2))))","v":-0.52832083357371862},null,{"$f":"N13","v":221},{"$f":"COUNTIF(L14:L15,AI13)","v":0},{"$f":"AJ13/(AL4-AJ11)","v":0},{"$f":"IF(AK13=0,0,(AK13*((LOG(AK13))/LOG(2))))","v":0},null,{"$f":"N13","v":221},{"$f":"COUNTIF(L16:L17,AN13)","v":0},{"$f":"AO13/(AQ4-AO11)","v":0},{"$f":"IF(AP13=0,0,(AP13*((LOG(AP13))/LOG(2))))","v":0},null,{"$f":"N13","v":221},{"$f":"COUNTIF(L18:L19,AS13)","v":0},{"$f":"AT13/(AV4-AT11)","v":0},{"$f":"IF(AU13=0,0,(AU13*((LOG(AU13))/LOG(2))))","v":0}]
[12,1909,24,1940,24,1949,null,null,null,null,0,122,null,222,{"$f":"COUNTIF($L$7:$L$500,N14)","v":0},{"$f":"O14/$Q$4","v":0},{"$f":"IF(P14=0,0,(P14*((LOG(P14))/LOG(2))))","v":0},null,null,{"$f":"N14","v":222},{"$f":"COUNTIF(L7:L8,T14)","v":0},{"$f":"U14/(W4-U11)","v":0},{"$f":"IF(V14=0,0,(V14*((LOG(V14))/LOG(2))))","v":0},null,{"$f":"N14","v":222},{"$f":"COUNTIF(L9:L10,Y14)","v":0},{"$f":"Z14/(AB4-Z11)","v":0},{"$f":"IF(AA14=0,0,(AA14*((LOG(AA14))/LOG(2))))","v":0},null,{"$f":"N14","v":222},{"$f":"COUNTIF(L11:L13,AD14)","v":0},{"$f":"AE14/(AG4-AE11)","v":0},{"$f":"IF(AF14=0,0,(AF14*((LOG(AF14))/LOG(2))))","v":0},null,{"$f":"N14","v":222},{"$f":"COUNTIF(L14:L15,AI14)","v":0},{"$f":"AJ14/(AL4-AJ11)","v":0},{"$f":"IF(AK14=0,0,(AK14*((LOG(AK14))/LOG(2))))","v":0},null,{"$f":"N14","v":222},{"$f":"COUNTIF(L16:L17,AN14)","v":0},{"$f":"AO14/(AQ4-AO11)","v":0},{"$f":"IF(AP14=0,0,(AP14*((LOG(AP14))/LOG(2))))","v":0},null,{"$f":"N14","v":222},{"$f":"COUNTIF(L18:L19,AS14)","v":0},{"$f":"AT14/(AV4-AT11)","v":0},{"$f":"IF(AU14=0,0,(AU14*((LOG(AU14))/LOG(2))))","v":0}]
[12,2047,13,2055,13,2063,null,null,null,null,0,111,null,null,null,{"$f":"SUM(P7:P14)","v":1},{"$f":"-SUM(Q7:Q14)","v":2.0381596816459528},null,null,null,null,{"$f":"SUM(V7:V14)","v":1},{"$f":"-SUM(W7:W14)","v":0},null,null,null,{"$f":"SUM(AA7:AA14)","v":1},{"$f":"-SUM(AB7:AB14)","v":1},null,null,null,{"$f":"SUM(AF7:AF14)","v":1},{"$f":"-SUM(AG7:AG14)","v":1.5849625007211559},null,null,null,{"$f":"SUM(AK7:AK14)","v":1},{"$f":"-SUM(AL7:AL14)","v":1},null,null,null,{"$f":"SUM(AP7:AP14)","v":1},{"$f":"-SUM(AQ7:AQ14)","v":0},null,null,null,{"$f":"SUM(AU7:AU14)","v":1},{"$f":"-SUM(AV7:AV14)","v":1}]
[12,2181,13,2187,13,2195,null,null,null,null,0,111,null,null,null,"U=",{"$f":"Q15/(LOG(Q4)/LOG(2))","v":0.55078851079617586},null,null,null,null,"U1=",{"$f":"W15/(LOG(W4)/LOG(2))","v":0},null,null,null,"U2=",{"$f":"AB15/(LOG(AB4)/LOG(2))","v":1},null,null,null,"U3=",{"$f":"AG15/(LOG(AG4)/LOG(2))","v":0.99999999999999989},null,null,null,"U4=",{"$f":"AL15/(LOG(AL4)/LOG(2))","v":1},null,null,null,"U5=",{"$f":"AQ15/(LOG(AQ4)/LOG(2))","v":0},null,null,null,"U6=",{"$f":"AV15/(LOG(AV4)/LOG(2))","v":1}]
[12,2346,13,2355,13,2363,null,null,null,null,0,111]
[12,2465,24,2479,24,2487,null,null,null,null,0,122]
[12,2617,13,2624,13,2633,null,null,null,null,0,111,null,"Total Target Seq"]
[null,null,null,null,null,null,null,null,null,null,null,null,null,{"$f":"COUNTIF(L7:L19,G3)","v":0},null,2,2,3,2,2,2]
[null,null,null,null,null,null,null,null,null,null,null,null,null,null,null,"% of reinforcement given in 6 equal intervals based on number of trials "]
[null,null,null,null,null,null,null,null,null,null,null,null,null,null,null,"%_1","%_2","%_3","%_4","%_5","%_6"]
[null,null,null,null,null,null,null,null,null,null,null,null,null,null,"target sequence",{"$f":"$G$3","v":211},{"$f":"$G$3","v":211},{"$f":"$G$3","v":211},{"$f":"$G$3","v":211},{"$f":"$G$3","v":211},{"$f":"$G$3","v":211}]
[null,null,null,null,null,null,null,null,null,null,null,null,null,null,"total reinforcement",{"$f":"U11","v":0},{"$f":"Z11","v":0},{"$f":"AE11","v":0},{"$f":"AJ11","v":0},{"$f":"AO11","v":0},{"$f":"AT11","v":0}]
[null,null,null,null,null,null,null,null,null,null,null,null,null,null,"% target"]
[null,null,null,null,null,null,null,null,null,null,null,null,null,null,"CCRF"]
[null,null,null,null,null,null,null,null,null,null,null,null,null,null,"% CCRf"]
[null,null,null,null,null,null,null,null,null,null,null,null,null,null,"average response rate",{"$f":"F8/P20","v":106.5},{"$f":"(F10-F8)/Q20","v":122.5},{"$f":"(F13-F10)/R20","v":301.66666666666669},{"$f":"(F15-F13)/S20","v":350},{"$f":"(F17-F15)/T20","v":150},{"$f":"(F19-F17)/U20","v":135}]

{"sheet":"!L908A3B.axt","index":22,"n_rows":28,"n_cols":48,"rows_kept":28,"cut":false,"hidden":false,"merged":[[4,39,4,42],[5,39,5,40],[4,44,4,47],[5,44,5,45],[4,24,4,27],[5,24,5,25],[4,29,4,32],[5,29,5,30],[4,34,4,37],[5,34,5,35],[1,1,1,2],[5,13,5,14],[18,13,18,14],[19,13,19,14],[4,19,4,22],[5,19,5,20]]}
["Report for:!L908A3B.axt"]
["Date:","<date>"]
["Hen:","<hen>",null,null,null,"Correct Sequence",{"$f":"Start!J2","v":211},null,null,null,null,null,null,null,null,"Total Sequences in Data",{"$f":"4994-COUNTBLANK(L7:L5000)","v":22},null,null,null,null,"Total Sequences in Block Data",{"$f":"COUNTA(L7:L10)","v":4},null,null,null,"Total Sequences in Block Data",{"$f":"COUNTA(L11:L13)","v":3},null,null,null,"Total Sequences in Block Data",{"$f":"COUNTA(L14:L17)","v":4},null,null,null,"Total Sequences in Block Data",{"$f":"COUNTA(L18:L21)","v":4},null,null,null,"Total Sequences in Block Data",{"$f":"COUNTA(L22:L24)","v":3},null,null,null,"Total Sequences in Block Data",{"$f":"COUNTA(L25:L28)","v":4}]
[null,null,null,null,null,null,null,null,null,null,null,null,null,null,null,"Total Sequences in Summary",{"$f":"SUM(O7:O14)","v":22},null,null,null,null,"Total Sequences in Block Summary",{"$f":"SUM(U7:U14)","v":4},null,null,null,"Total Sequences in Block Summary",{"$f":"SUM(Z7:Z14)","v":3},null,null,null,"Total Sequences in Block Summary",{"$f":"SUM(AE7:AE14)","v":4},null,null,null,"Total Sequences in Block Summary",{"$f":"SUM(AJ7:AJ14)","v":4},null,null,null,"Total Sequences in Block Summary",{"$f":"SUM(AO7:AO14)","v":3},null,null,null,"Total Sequences in Block Summary",{"$f":"SUM(AT7:AT14)","v":4}]
[null,null,null,null,null,null,null,null,null,null,null,null,null,null,null,null,null,null,null,"Block 1",null,null,null,null,"Block 2",null,null,null,null,"Block 3",null,null,null,null,"Block 4",null,null,null,null,"Block 5",null,null,null,null,"Block 6"]
["Sequence\nComponent\n1","Time\n1","Sequence\nComponent\n2","Time\n2","Sequence\nComponent\n3","Time\n3","Sequence\nComponent\n4","Time\n4","Sequence\nComponent\n5","Time\n5","Correct?\n0=No 1=Yes","Sequence",null,"Frequency",null,"Relative Frequency","Variability",null,null,"Frequency",null,"Relative Frequency","Variability",null,"Frequency",null,"Relative Frequency","Variability",null,"Frequency",null,"Relative Frequency","Variability",null,"Frequency",null,"Relative Frequency","Variability",null,"Frequency",null,"Relative Frequency","Variability",null,"Frequency",null,"Relative Frequency","Variability"]
[21,36,22,43,24,152,null,null,null,null,0,222,null,111,{"$f":"COUNTIF($L$7:$L$500,N7)","v":3},{"$f":"O7/$Q$4","v":0.13636363636363635},{"$f":"IF(P7=0,0,(P7*((LOG(P7))/LOG(2))))","v":-0.39197306153401923},null,null,{"$f":"N7","v":111},{"$f":"COUNTIF(L7:L10,T7)","v":0},{"$f":"U7/(W4-U11)","v":0},{"$f":"IF(V7=0,0,(V7*((LOG(V7))/LOG(2))))","v":0},null,{"$f":"N7","v":111},{"$f":"COUNTIF(L11:L13,Y7)","v":0},{"$f":"Z7/(AB4-Z11)","v":0},{"$f":"IF(AA7=0,0,(AA7*((LOG(AA7))/LOG(2))))","v":0},null,{"$f":"N7","v":111},{"$f":"COUNTIF(L14:L17,AD7)","v":2},{"$f":"AE7/(AG4-AE11)","v":0.5},{"$f":"IF(AF7=0,0,(AF7*((LOG(AF7))/LOG(2))))","v":-0.5},null,{"$f":"N7","v":111},{"$f":"COUNTIF(L18:L21,AI7)","v":0},{"$f":"AJ7/(AL4-AJ11)","v":0},{"$f":"IF(AK7=0,0,(AK7*((LOG(AK7))/LOG(2))))","v":0},null,{"$f":"N7","v":111},{"$f":"COUNTIF(L22:L24,AN7)","v":1},{"$f":"AO7/(AQ4-AO11)","v":0.33333333333333331},{"$f":"IF(AP7=0,0,(AP7*((LOG(AP7))/LOG(2))))","v":-0.52832083357371862},null,{"$f":"N7","v":111},{"$f":"COUNTIF(L25:L28,AS7)","v":0},{"$f":"AT7/(AV4-AT11)","v":0},{"$f":"IF(AU7=0,0,(AU7*((LOG(AU7))/LOG(2))))","v":0}]
[21,272,22,317,24,324,null,null,null,null,0,222,null,112,{"$f":"COUNTIF($L$7:$L$500,N8)","v":5},{"$f":"O8/$Q$4","v":0.22727272727272727},{"$f":"IF(P8=0,0,(P8*((LOG(P8))/LOG(2))))","v":-0.48579625539771243},null,null,{"$f":"N8","v":112},{"$f":"COUNTIF(L7:L10,T8)","v":0},{"$f":"U8/(W4-U11)","v":0},{"$f":"IF(V8=0,0,(V8*((LOG(V8))/LOG(2))))","v":0},null,{"$f":"N8","v":112},{"$f":"COUNTIF(L11:L13,Y8)","v":2},{"$f":"Z8/(AB4-Z11)","v":0.66666666666666663},{"$f":"IF(AA8=0,0,(AA8*((LOG(AA8))/LOG(2))))","v":-0.38997500048077083},null,{"$f":"N8","v":112},{"$f":"COUNTIF(L14:L17,AD8)","v":0},{"$f":"AE8/(AG4-AE11)","v":0},{"$f":"IF(AF8=0,0,(AF8*((LOG(AF8))/LOG(2))))","v":0},null,{"$f":"N8","v":112},{"$f":"COUNTIF(L18:L21,AI8)","v":2},{"$f":"AJ8/(AL4-AJ11)","v":0.5},{"$f":"IF(AK8=0,0,(AK8*((LOG(AK8))/LOG(2))))","v":-0.5},null,{"$f":"N8","v":112},{"$f":"COUNTIF(L22:L24,AN8)","v":0},{"$f":"AO8/(AQ4-AO11)","v":0},{"$f":"IF(AP8=0,0,(AP8*((LOG(AP8))/LOG(2))))","v":0},null,{"$f":"N8","v":112},{"$f":"COUNTIF(L25:L28,AS8)","v":1},{"$f":"AT8/(AV4-AT11)","v":0.25},{"$f":"IF(AU8=0,0,(AU8*((LOG(AU8))/LOG(2))))","v":-0.5}]
[21,536,22,553,24,563,null,null,null,null,0,222,null,121,{"$f":"COUNTIF($L$7:$L$500,N9)","v":0},{"$f":"O9/$Q$4","v":0},{"$f":"IF(P9=0,0,(P9*((LOG(P9))/LOG(2))))","v":0},null,null,{"$f":"N9","v":121},{"$f":"COUNTIF(L7:L10,T9)","v":0},{"$f":"U9/(W4-U11)","v":0},{"$f":"IF(V9=0,0,(V9*((LOG(V9))/LOG(2))))","v":0},null,{"$f":"N9","v":121},{"$f":"COUNTIF(L11:L13,Y9)","v":0},{"$f":"Z9/(AB4-Z11)","v":0},{"$f":"IF(AA9=0,0,(AA9*((LOG(AA9))/LOG(2))))","v":0},null,{"$f":"N9","v":121},{"$f":"COUNTIF(L14:L17,AD9)","v":0},{"$f":"AE9/(AG4-AE11)","v":0},{"$f":"IF(AF9=0,0,(AF9*((LOG(AF9))/LOG(2))))","v":0},null,{"$f":"N9","v":121},{"$f":"COUNTIF(L18:L21,AI9)","v":0},{"$f":"AJ9/(AL4-AJ11)","v":0},{"$f":"IF(AK9=0,0,(AK9*((LOG(AK9))/LOG(2))))","v":0},null,{"$f":"N9","v":121},{"$f":"COUNTIF(L22:L24,AN9)","v":0},{"$f":"AO9/(AQ4-AO11)","v":0},{"$f":"IF(AP9=0,0,(AP9*((LOG(AP9))/LOG(2))))","v":0},null,{"$f":"N9","v":121},{"$f":"COUNTIF(L25:L28,AS9)","v":0},{"$f":"AT9/(AV4-AT11)","v":0},{"$f":"IF(AU9=0,0,(AU9*((LOG(AU9))/LOG(2))))","v":0}]
[21,943,11,955,11,982,null,null,null,null,0,211,null,122,{"$f":"COUNTIF($L$7:$L$500,N10)","v":2},{"$f":"O10/$Q$4","v":9.0909090909090912E-2},{"$f":"IF(P10=0,0,(P10*((LOG(P10))/LOG(2))))","v":-0.31449378351248153},null,null,{"$f":"N10","v":122},{"$f":"COUNTIF(L7:L10,T10)","v":0},{"$f":"U10/(W4-U11)","v":0},{"$f":"IF(V10=0,0,(V10*((LOG(V10))/LOG(2))))","v":0},null,{"$f":"N10","v":122},{"$f":"COUNTIF(L11:L13,Y10)","v":1},{"$f":"Z10/(AB4-Z11)","v":0.33333333333333331},{"$f":"IF(AA10=0,0,(AA10*((LOG(AA10))/LOG(2))))","v":-0.52832083357371862},null,{"$f":"N10","v":122},{"$f":"COUNTIF(L14:L17,AD10)","v":0},{"$f":"AE10/(AG4-AE11)","v":0},{"$f":"IF(AF10=0,0,(AF10*((LOG(AF10))/LOG(2))))","v":0},null,{"$f":"N10","v":122},{"$f":"COUNTIF(L18:L21,AI10)","v":1},{"$f":"AJ10/(AL4-AJ11)","v":0.25},{"$f":"IF(AK10=0,0,(AK10*((LOG(AK10))/LOG(2))))","v":-0.5},null,{"$f":"N10","v":122},{"$f":"COUNTIF(L22:L24,AN10)","v":0},{"$f":"AO10/(AQ4-AO11)","v":0},{"$f":"IF(AP10=0,0,(AP10*((LOG(AP10))/LOG(2))))","v":0},null,{"$f":"N10","v":122},{"$f":"COUNTIF(L25:L28,AS10)","v":0},{"$f":"AT10/(AV4-AT11)","v":0},{"$f":"IF(AU10=0,0,(AU10*((LOG(AU10))/LOG(2))))","v":0}]
[12,1420,24,1459,24,1467,null,null,null,null,0,122,null,211,{"$f":"COUNTIF($L$7:$L$500,N11)","v":1},{"$f":"O11/$Q$4","v":4.5454545454545456E-2},{"$f":"IF(P11=0,0,(P11*((LOG(P11))/LOG(2))))","v":-0.20270143721078623},null,null,{"$f":"N11","v":211},{"$f":"COUNTIF(L7:L10,T11)","v":1},null,null,null,{"$f":"N11","v":211},{"$f":"COUNTIF(L11:L13,Y11)","v":0},null,null,null,{"$f":"N11","v":211},{"$f":"COUNTIF(L14:L17,AD11)","v":0},null,null,null,{"$f":"N11","v":211},{"$f":"COUNTIF(L18:L21,AI11)","v":0},null,null,null,{"$f":"N11","v":211},{"$f":"COUNTIF(L22:L24,AN11)","v":0},null,null,null,{"$f":"N11","v":211},{"$f":"COUNTIF(L25:L28,AS11)","v":0}]
[12,1745,13,1755,24,1774,null,null,null,null,0,112,null,212,{"$f":"COUNTIF($L$7:$L$500,N12)","v":0},{"$f":"O12/$Q$4","v":0},{"$f":"IF(P12=0,0,(P12*((LOG(P12))/LOG(2))))","v":0},null,null,{"$f":"N12","v":212},{"$f":"COUNTIF(L7:L10,T12)","v":0},{"$f":"U12/(W4-U11)","v":0},{"$f":"IF(V12=0,0,(V12*((LOG(V12))/LOG(2))))","v":0},null,{"$f":"N12","v":212},{"$f":"COUNTIF(L11:L13,Y12)","v":0},{"$f":"Z12/(AB4-Z11)","v":0},{"$f":"IF(AA12=0,0,(AA12*((LOG(AA12))/LOG(2))))","v":0},null,{"$f":"N12","v":212},{"$f":"COUNTIF(L14:L17,AD12)","v":0},{"$f":"AE12/(AG4-AE11)","v":0},{"$f":"IF(AF12=0,0,(AF12*((LOG(AF12))/LOG(2))))","v":0},null,{"$f":"N12","v":212},{"$f":"COUNTIF(L18:L21,AI12)","v":0},{"$f":"AJ12/(AL4-AJ11)","v":0},{"$f":"IF(AK12=0,0,(AK12*((LOG(AK12))/LOG(2))))","v":0},null,{"$f":"N12","v":212},{"$f":"COUNTIF(L22:L24,AN12)","v":0},{"$f":"AO12/(AQ4-AO11)","v":0},{"$f":"IF(AP12=0,0,(AP12*((LOG(AP12))/LOG(2))))","v":0},null,{"$f":"N12","v":212},{"$f":"COUNTIF(L25:L28,AS12)","v":0},{"$f":"AT12/(AV4-AT11)","v":0},{"$f":"IF(AU12=0,0,(AU12*((LOG(AU12))/LOG(2))))","v":0}]
[12,1868,13,1872,24,1940,null,null,null,null,0,112,null,221,{"$f":"COUNTIF($L$7:$L$500,N13)","v":0},{"$f":"O13/$Q$4","v":0},{"$f":"IF(P13=0,0,(P13*((LOG(P13))/LOG(2))))","v":0},null,null,{"$f":"N13","v":221},{"$f":"COUNTIF(L7:L10,T13)","v":0},{"$f":"U13/(W4-U11)","v":0},{"$f":"IF(V13=0,0,(V13*((LOG(V13))/LOG(2))))","v":0},null,{"$f":"N13","v":221},{"$f":"COUNTIF(L11:L13,Y13)","v":0},{"$f":"Z13/(AB4-Z11)","v":0},{"$f":"IF(AA13=0,0,(AA13*((LOG(AA13))/LOG(2))))","v":0},null,{"$f":"N13","v":221},{"$f":"COUNTIF(L14:L17,AD13)","v":0},{"$f":"AE13/(AG4-AE11)","v":0},{"$f":"IF(AF13=0,0,(AF13*((LOG(AF13))/LOG(2))))","v":0},null,{"$f":"N13","v":221},{"$f":"COUNTIF(L18:L21,AI13)","v":0},{"$f":"AJ13/(AL4-AJ11)","v":0},{"$f":"IF(AK13=0,0,(AK13*((LOG(AK13))/LOG(2))))","v":0},null,{"$f":"N13","v":221},{"$f":"COUNTIF(L22:L24,AN13)","v":0},{"$f":"AO13/(AQ4-AO11)","v":0},{"$f":"IF(AP13=0,0,(AP13*((LOG(AP13))/LOG(2))))","v":0},null,{"$f":"N13","v":221},{"$f":"COUNTIF(L25:L28,AS13)","v":0},{"$f":"AT13/(AV4-AT11)","v":0},{"$f":"IF(AU13=0,0,(AU13*((LOG(AU13))/LOG(2))))","v":0}]
[21,2057,22,2073,24,2162,null,null,null,null,0,222,null,222,{"$f":"COUNTIF($L$7:$L$500,N14)","v":11},{"$f":"O14/$Q$4","v":0.5},{"$f":"IF(P14=0,0,(P14*((LOG(P14))/LOG(2))))","v":-0.5},null,null,{"$f":"N14","v":222},{"$f":"COUNTIF(L7:L10,T14)","v":3},{"$f":"U14/(W4-U11)","v":1},{"$f":"IF(V14=0,0,(V14*((LOG(V14))/LOG(2))))","v":0},null,{"$f":"N14","v":222},{"$f":"COUNTIF(L11:L13,Y14)","v":0},{"$f":"Z14/(AB4-Z11)","v":0},{"$f":"IF(AA14=0,0,(AA14*((LOG(AA14))/LOG(2))))","v":0},null,{"$f":"N14","v":222},{"$f":"COUNTIF(L14:L17,AD14)","v":2},{"$f":"AE14/(AG4-AE11)","v":0.5},{"$f":"IF(AF14=0,0,(AF14*((LOG(AF14))/LOG(2))))","v":-0.5},null,{"$f":"N14","v":222},{"$f":"COUNTIF(L18:L21,AI14)","v":1},{"$f":"AJ14/(AL4-AJ11)","v":0.25},{"$f":"IF(AK14=0,0,(AK14*((LOG(AK14))/LOG(2))))","v":-0.5},null,{"$f":"N14","v":222},{"$f":"COUNTIF(L22:L24,AN14)","v":2},{"$f":"AO14/(AQ4-AO11)","v":0.66666666666666663},{"$f":"IF(AP14=0,0,(AP14*((LOG(AP14))/LOG(2))))","v":-0.38997500048077083},null,{"$f":"N14","v":222},{"$f":"COUNTIF(L25:L28,AS14)","v":3},{"$f":"AT14/(AV4-AT11)","v":0.75},{"$f":"IF(AU14=0,0,(AU14*((LOG(AU14))/LOG(2))))","v":-0.31127812445913283}]
[12,2274,13,2279,13,2302,null,null,null,null,0,111,null,null,null,{"$f":"SUM(P7:P14)","v":1},{"$f":"-SUM(Q7:Q14)","v":1.8949645376549995},null,null,null,null,{"$f":"SUM(V7:V14)","v":1},{"$f":"-SUM(W7:W14)","v":0},null,null,null,{"$f":"SUM(AA7:AA14)","v":1},{"$f":"-SUM(AB7:AB14)","v":0.91829583405448945},null,null,null,{"$f":"SUM(AF7:AF14)","v":1},{"$f":"-SUM(AG7:AG14)","v":1},null,null,null,{"$f":"SUM(AK7:AK14)","v":1},{"$f":"-SUM(AL7:AL14)","v":1.5},null,null,null,{"$f":"SUM(AP7:AP14)","v":1},{"$f":"-SUM(AQ7:AQ14)","v":0.91829583405448945},null,null,null,{"$f":"SUM(AU7:AU14)","v":1},{"$f":"-SUM(AV7:AV14)","v":0.81127812445913283}]
[21,2608,22,2745,24,2752,null,null,null,null,0,222,null,null,null,"U=",{"$f":"Q15/(LOG(Q4)/LOG(2))","v":0.42493409468044679},null,null,null,null,"U1=",{"$f":"W15/(LOG(W4)/LOG(2))","v":0},null,null,null,"U2=",{"$f":"AB15/(LOG(AB4)/LOG(2))","v":0.57938016428569505},null,null,null,"U3=",{"$f":"AG15/(LOG(AG4)/LOG(2))","v":0.5},null,null,null,"U4=",{"$f":"AL15/(LOG(AL4)/LOG(2))","v":0.75},null,null,null,"U5=",{"$f":"AQ15/(LOG(AQ4)/LOG(2))","v":0.57938016428569505},null,null,null,"U6=",{"$f":"AV15/(LOG(AV4)/LOG(2))","v":0.40563906222956642}]
[12,2849,13,2859,13,2904,null,null,null,null,0,111]
[12,3026,24,3050,24,3059,null,null,null,null,0,122]
[12,3153,13,3160,24,3172,null,null,null,null,0,112,null,"Total Target Seq"]
[21,3298,22,3305,24,3313,null,null,null,null,0,222,null,{"$f":"COUNTIF(L7:L28,G3)","v":1},null,4,3,4,4,3,4]
[12,3427,13,3432,24,3458,null,null,null,null,0,112,null,null,null,"% of reinforcement given in 6 equal intervals based on number of trials "]
[12,3552,13,3590,13,3648,null,null,null,null,0,111,null,null,null,"%_1","%_2","%_3","%_4","%_5","%_6"]
[21,3958,22,3967,24,3976,null,null,null,null,0,222,null,null,"target sequence",{"$f":"$G$3","v":211},{"$f":"$G$3","v":211},{"$f":"$G$3","v":211},{"$f":"$G$3","v":211},{"$f":"$G$3","v":211},{"$f":"$G$3","v":211}]
[21,4141,22,4148,24,4157,null,null,null,null,0,222,null,null,"total reinforcement",{"$f":"U11","v":1},{"$f":"Z11","v":0},{"$f":"AE11","v":0},{"$f":"AJ11","v":0},{"$f":"AO11","v":0},{"$f":"AT11","v":0}]
[21,4409,22,4416,24,4428,null,null,null,null,0,222,null,null,"% target"]
[21,4557,22,4566,24,4763,null,null,null,null,0,222,null,null,"CCRF"]
[21,5016,22,5023,24,5031,null,null,null,null,0,222,null,null,"% CCRf"]
[12,5295,13,5317,24,5339,null,null,null,null,0,112,null,null,"average response rate",{"$f":"F10/P20","v":245.5},{"$f":"(F13-F10)/Q20","v":319.33333333333331},{"$f":"(F17-F13)/R20","v":241},{"$f":"(F21-F17)/S20","v":138.5},{"$f":"(F24-F21)/T20","v":233},{"$f":"(F28-F24)/U20","v":295.5}]

{"sheet":"!L90995B.axt","index":23,"n_rows":28,"n_cols":48,"rows_kept":28,"cut":false,"hidden":false,"merged":[[4,39,4,42],[5,39,5,40],[4,44,4,47],[5,44,5,45],[4,24,4,27],[5,24,5,25],[4,29,4,32],[5,29,5,30],[4,34,4,37],[5,34,5,35],[1,1,1,2],[5,13,5,14],[18,13,18,14],[19,13,19,14],[4,19,4,22],[5,19,5,20]]}
["Report for:!L90995B.axt"]
["Date:","<date>"]
["Hen:","<hen>",null,null,null,"Correct Sequence",{"$f":"Start!J2","v":211},null,null,null,null,null,null,null,null,"Total Sequences in Data",{"$f":"4994-COUNTBLANK(L7:L5000)","v":16},null,null,null,null,"Total Sequences in Block Data",{"$f":"COUNTA(L7:L9)","v":3},null,null,null,"Total Sequences in Block Data",{"$f":"COUNTA(L10:L11)","v":2},null,null,null,"Total Sequences in Block Data",{"$f":"COUNTA(L12:L14)","v":3},null,null,null,"Total Sequences in Block Data",{"$f":"COUNTA(L15:L17)","v":3},null,null,null,"Total Sequences in Block Data",{"$f":"COUNTA(L18:L19)","v":2},null,null,null,"Total Sequences in Block Data",{"$f":"COUNTA(L20:L22)","v":3}]
[null,null,null,null,null,null,null,null,null,null,null,null,null,null,null,"Total Sequences in Summary",{"$f":"SUM(O7:O14)","v":16},null,null,null,null,"Total Sequences in Block Summary",{"$f":"SUM(U7:U14)","v":3},null,null,null,"Total Sequences in Block Summary",{"$f":"SUM(Z7:Z14)","v":2},null,null,null,"Total Sequences in Block Summary",{"$f":"SUM(AE7:AE14)","v":3},null,null,null,"Total Sequences in Block Summary",{"$f":"SUM(AJ7:AJ14)","v":3},null,null,null,"Total Sequences in Block Summary",{"$f":"SUM(AO7:AO14)","v":2},null,null,null,"Total Sequences in Block Summary",{"$f":"SUM(AT7:AT14)","v":3}]
[null,null,null,null,null,null,null,null,null,null,null,null,null,null,null,null,null,null,null,"Block 1",null,null,null,null,"Block 2",null,null,null,null,"Block 3",null,null,null,null,"Block 4",null,null,null,null,"Block 5",null,null,null,null,"Block 6"]
["Sequence\nComponent\n1","Time\n1","Sequence\nComponent\n2","Time\n2","Sequence\nComponent\n3","Time\n3","Sequence\nComponent\n4","Time\n4","Sequence\nComponent\n5","Time\n5","Correct?\n0=No 1=Yes","Sequence",null,"Frequency",null,"Relative Frequency","Variability",null,null,"Frequency",null,"Relative Frequency","Variability",null,"Frequency",null,"Relative Frequency","Variability",null,"Frequency",null,"Relative Frequency","Variability",null,"Frequency",null,"Relative Frequency","Variability",null,"Frequency",null,"Relative Frequency","Variability",null,"Frequency",null,"Relative Frequency","Variability"]
[21,195,22,203,24,212,null,null,null,null,0,222,null,111,{"$f":"COUNTIF($L$7:$L$500,N7)","v":5},{"$f":"O7/$Q$4","v":0.3125},{"$f":"IF(P7=0,0,(P7*((LOG(P7))/LOG(2))))","v":-0.52439747034769923},null,null,{"$f":"N7","v":111},{"$f":"COUNTIF(L7:L9,T7)","v":1},{"$f":"U7/(W4-U11)","v":0.33333333333333331},{"$f":"IF(V7=0,0,(V7*((LOG(V7))/LOG(2))))","v":-0.52832083357371862},null,{"$f":"N7","v":111},{"$f":"COUNTIF(L10:L11,Y7)","v":0},{"$f":"Z7/(AB4-Z11)","v":0},{"$f":"IF(AA7=0,0,(AA7*((LOG(AA7))/LOG(2))))","v":0},null,{"$f":"N7","v":111},{"$f":"COUNTIF(L12:L14,AD7)","v":1},{"$f":"AE7/(AG4-AE11)","v":0.33333333333333331},{"$f":"IF(AF7=0,0,(AF7*((LOG(AF7))/LOG(2))))","v":-0.52832083357371862},null,{"$f":"N7","v":111},{"$f":"COUNTIF(L15:L17,AI7)","v":1},{"$f":"AJ7/(AL4-AJ11)","v":0.33333333333333331},{"$f":"IF(AK7=0,0,(AK7*((LOG(AK7))/LOG(2))))","v":-0.52832083357371862},null,{"$f":"N7","v":111},{"$f":"COUNTIF(L18:L19,AN7)","v":0},{"$f":"AO7/(AQ4-AO11)","v":0},{"$f":"IF(AP7=0,0,(AP7*((LOG(AP7))/LOG(2))))","v":0},null,{"$f":"N7","v":111},{"$f":"COUNTIF(L20:L22,AS7)","v":2},{"$f":"AT7/(AV4-AT11)","v":0.66666666666666663},{"$f":"IF(AU7=0,0,(AU7*((LOG(AU7))/LOG(2))))","v":-0.38997500048077083}]
[12,331,13,343,24,347,null,null,null,null,0,112,null,112,{"$f":"COUNTIF($L$7:$L$500,N8)","v":2},{"$f":"O8/$Q$4","v":0.125},{"$f":"IF(P8=0,0,(P8*((LOG(P8))/LOG(2))))","v":-0.375},null,null,{"$f":"N8","v":112},{"$f":"COUNTIF(L7:L9,T8)","v":1},{"$f":"U8/(W4-U11)","v":0.33333333333333331},{"$f":"IF(V8=0,0,(V8*((LOG(V8))/LOG(2))))","v":-0.52832083357371862},null,{"$f":"N8","v":112},{"$f":"COUNTIF(L10:L11,Y8)","v":0},{"$f":"Z8/(AB4-Z11)","v":0},{"$f":"IF(AA8=0,0,(AA8*((LOG(AA8))/LOG(2))))","v":0},null,{"$f":"N8","v":112},{"$f":"COUNTIF(L12:L14,AD8)","v":1},{"$f":"AE8/(AG4-AE11)","v":0.33333333333333331},{"$f":"IF(AF8=0,0,(AF8*((LOG(AF8))/LOG(2))))","v":-0.52832083357371862},null,{"$f":"N8","v":112},{"$f":"COUNTIF(L15:L17,AI8)","v":0},{"$f":"AJ8/(AL4-AJ11)","v":0},{"$f":"IF(AK8=0,0,(AK8*((LOG(AK8))/LOG(2))))","v":0},null,{"$f":"N8","v":112},{"$f":"COUNTIF(L18:L19,AN8)","v":0},{"$f":"AO8/(AQ4-AO11)","v":0},{"$f":"IF(AP8=0,0,(AP8*((LOG(AP8))/LOG(2))))","v":0},null,{"$f":"N8","v":112},{"$f":"COUNTIF(L20:L22,AS8)","v":0},{"$f":"AT8/(AV4-AT11)","v":0},{"$f":"IF(AU8=0,0,(AU8*((LOG(AU8))/LOG(2))))","v":0}]
[12,568,13,576,13,609,null,null,null,null,0,111,null,121,{"$f":"COUNTIF($L$7:$L$500,N9)","v":0},{"$f":"O9/$Q$4","v":0},{"$f":"IF(P9=0,0,(P9*((LOG(P9))/LOG(2))))","v":0},null,null,{"$f":"N9","v":121},{"$f":"COUNTIF(L7:L9,T9)","v":0},{"$f":"U9/(W4-U11)","v":0},{"$f":"IF(V9=0,0,(V9*((LOG(V9))/LOG(2))))","v":0},null,{"$f":"N9","v":121},{"$f":"COUNTIF(L10:L11,Y9)","v":0},{"$f":"Z9/(AB4-Z11)","v":0},{"$f":"IF(AA9=0,0,(AA9*((LOG(AA9))/LOG(2))))","v":0},null,{"$f":"N9","v":121},{"$f":"COUNTIF(L12:L14,AD9)","v":0},{"$f":"AE9/(AG4-AE11)","v":0},{"$f":"IF(AF9=0,0,(AF9*((LOG(AF9))/LOG(2))))","v":0},null,{"$f":"N9","v":121},{"$f":"COUNTIF(L15:L17,AI9)","v":0},{"$f":"AJ9/(AL4-AJ11)","v":0},{"$f":"IF(AK9=0,0,(AK9*((LOG(AK9))/LOG(2))))","v":0},null,{"$f":"N9","v":121},{"$f":"COUNTIF(L18:L19,AN9)","v":0},{"$f":"AO9/(AQ4-AO11)","v":0},{"$f":"IF(AP9=0,0,(AP9*((LOG(AP9))/LOG(2))))","v":0},null,{"$f":"N9","v":121},{"$f":"COUNTIF(L20:L22,AS9)","v":0},{"$f":"AT9/(AV4-AT11)","v":0},{"$f":"IF(AU9=0,0,(AU9*((LOG(AU9))/LOG(2))))","v":0}]
[21,737,11,777,11,810,null,null,null,null,0,211,null,122,{"$f":"COUNTIF($L$7:$L$500,N10)","v":4},{"$f":"O10/$Q$4","v":0.25},{"$f":"IF(P10=0,0,(P10*((LOG(P10))/LOG(2))))","v":-0.5},null,null,{"$f":"N10","v":122},{"$f":"COUNTIF(L7:L9,T10)","v":0},{"$f":"U10/(W4-U11)","v":0},{"$f":"IF(V10=0,0,(V10*((LOG(V10))/LOG(2))))","v":0},null,{"$f":"N10","v":122},{"$f":"COUNTIF(L10:L11,Y10)","v":1},{"$f":"Z10/(AB4-Z11)","v":1},{"$f":"IF(AA10=0,0,(AA10*((LOG(AA10))/LOG(2))))","v":0},null,{"$f":"N10","v":122},{"$f":"COUNTIF(L12:L14,AD10)","v":0},{"$f":"AE10/(AG4-AE11)","v":0},{"$f":"IF(AF10=0,0,(AF10*((LOG(AF10))/LOG(2))))","v":0},null,{"$f":"N10","v":122},{"$f":"COUNTIF(L15:L17,AI10)","v":2},{"$f":"AJ10/(AL4-AJ11)","v":0.66666666666666663},{"$f":"IF(AK10=0,0,(AK10*((LOG(AK10))/LOG(2))))","v":-0.38997500048077083},null,{"$f":"N10","v":122},{"$f":"COUNTIF(L18:L19,AN10)","v":1},{"$f":"AO10/(AQ4-AO11)","v":0.5},{"$f":"IF(AP10=0,0,(AP10*((LOG(AP10))/LOG(2))))","v":-0.5},null,{"$f":"N10","v":122},{"$f":"COUNTIF(L20:L22,AS10)","v":0},{"$f":"AT10/(AV4-AT11)","v":0},{"$f":"IF(AU10=0,0,(AU10*((LOG(AU10))/LOG(2))))","v":0}]
[12,1176,24,1210,24,1217,null,null,null,null,0,122,null,211,{"$f":"COUNTIF($L$7:$L$500,N11)","v":1},{"$f":"O11/$Q$4","v":6.25E-2},{"$f":"IF(P11=0,0,(P11*((LOG(P11))/LOG(2))))","v":-0.25},null,null,{"$f":"N11","v":211},{"$f":"COUNTIF(L7:L9,T11)","v":0},null,null,null,{"$f":"N11","v":211},{"$f":"COUNTIF(L10:L11,Y11)","v":1},null,null,null,{"$f":"N11","v":211},{"$f":"COUNTIF(L12:L14,AD11)","v":0},null,null,null,{"$f":"N11","v":211},{"$f":"COUNTIF(L15:L17,AI11)","v":0},null,null,null,{"$f":"N11","v":211},{"$f":"COUNTIF(L18:L19,AN11)","v":0},null,null,null,{"$f":"N11","v":211},{"$f":"COUNTIF(L20:L22,AS11)","v":0}]
[12,1492,13,1584,24,1618,null,null,null,null,0,112,null,212,{"$f":"COUNTIF($L$7:$L$500,N12)","v":0},{"$f":"O12/$Q$4","v":0},{"$f":"IF(P12=0,0,(P12*((LOG(P12))/LOG(2))))","v":0},null,null,{"$f":"N12","v":212},{"$f":"COUNTIF(L7:L9,T12)","v":0},{"$f":"U12/(W4-U11)","v":0},{"$f":"IF(V12=0,0,(V12*((LOG(V12))/LOG(2))))","v":0},null,{"$f":"N12","v":212},{"$f":"COUNTIF(L10:L11,Y12)","v":0},{"$f":"Z12/(AB4-Z11)","v":0},{"$f":"IF(AA12=0,0,(AA12*((LOG(AA12))/LOG(2))))","v":0},null,{"$f":"N12","v":212},{"$f":"COUNTIF(L12:L14,AD12)","v":0},{"$f":"AE12/(AG4-AE11)","v":0},{"$f":"IF(AF12=0,0,(AF12*((LOG(AF12))/LOG(2))))","v":0},null,{"$f":"N12","v":212},{"$f":"COUNTIF(L15:L17,AI12)","v":0},{"$f":"AJ12/(AL4-AJ11)","v":0},{"$f":"IF(AK12=0,0,(AK12*((LOG(AK12))/LOG(2))))","v":0},null,{"$f":"N12","v":212},{"$f":"COUNTIF(L18:L19,AN12)","v":0},{"$f":"AO12/(AQ4-AO11)","v":0},{"$f":"IF(AP12=0,0,(AP12*((LOG(AP12))/LOG(2))))","v":0},null,{"$f":"N12","v":212},{"$f":"COUNTIF(L20:L22,AS12)","v":0},{"$f":"AT12/(AV4-AT11)","v":0},{"$f":"IF(AU12=0,0,(AU12*((LOG(AU12))/LOG(2))))","v":0}]
[21,1741,22,1751,24,1850,null,null,null,null,0,222,null,221,{"$f":"COUNTIF($L$7:$L$500,N13)","v":0},{"$f":"O13/$Q$4","v":0},{"$f":"IF(P13=0,0,(P13*((LOG(P13))/LOG(2))))","v":0},null,null,{"$f":"N13","v":221},{"$f":"COUNTIF(L7:L9,T13)","v":0},{"$f":"U13/(W4-U11)","v":0},{"$f":"IF(V13=0,0,(V13*((LOG(V13))/LOG(2))))","v":0},null,{"$f":"N13","v":221},{"$f":"COUNTIF(L10:L11,Y13)","v":0},{"$f":"Z13/(AB4-Z11)","v":0},{"$f":"IF(AA13=0,0,(AA13*((LOG(AA13))/LOG(2))))","v":0},null,{"$f":"N13","v":221},{"$f":"COUNTIF(L12:L14,AD13)","v":0},{"$f":"AE13/(AG4-AE11)","v":0},{"$f":"IF(AF13=0,0,(AF13*((LOG(AF13))/LOG(2))))","v":0},null,{"$f":"N13","v":221},{"$f":"COUNTIF(L15:L17,AI13)","v":0},{"$f":"AJ13/(AL4-AJ11)","v":0},{"$f":"IF(AK13=0,0,(AK13*((LOG(AK13))/LOG(2))))","v":0},null,{"$f":"N13","v":221},{"$f":"COUNTIF(L18:L19,AN13)","v":0},{"$f":"AO13/(AQ4-AO11)","v":0},{"$f":"IF(AP13=0,0,(AP13*((LOG(AP13))/LOG(2))))","v":0},null,{"$f":"N13","v":221},{"$f":"COUNTIF(L20:L22,AS13)","v":0},{"$f":"AT13/(AV4-AT11)","v":0},{"$f":"IF(AU13=0,0,(AU13*((LOG(AU13))/LOG(2))))","v":0}]
[12,1948,13,2019,13,2028,null,null,null,null,0,111,null,222,{"$f":"COUNTIF($L$7:$L$500,N14)","v":4},{"$f":"O14/$Q$4","v":0.25},{"$f":"IF(P14=0,0,(P14*((LOG(P14))/LOG(2))))","v":-0.5},null,null,{"$f":"N14","v":222},{"$f":"COUNTIF(L7:L9,T14)","v":1},{"$f":"U14/(W4-U11)","v":0.33333333333333331},{"$f":"IF(V14=0,0,(V14*((LOG(V14))/LOG(2))))","v":-0.52832083357371862},null,{"$f":"N14","v":222},{"$f":"COUNTIF(L10:L11,Y14)","v":0},{"$f":"Z14/(AB4-Z11)","v":0},{"$f":"IF(AA14=0,0,(AA14*((LOG(AA14))/LOG(2))))","v":0},null,{"$f":"N14","v":222},{"$f":"COUNTIF(L12:L14,AD14)","v":1},{"$f":"AE14/(AG4-AE11)","v":0.33333333333333331},{"$f":"IF(AF14=0,0,(AF14*((LOG(AF14))/LOG(2))))","v":-0.52832083357371862},null,{"$f":"N14","v":222},{"$f":"COUNTIF(L15:L17,AI14)","v":0},{"$f":"AJ14/(AL4-AJ11)","v":0},{"$f":"IF(AK14=0,0,(AK14*((LOG(AK14))/LOG(2))))","v":0},null,{"$f":"N14","v":222},{"$f":"COUNTIF(L18:L19,AN14)","v":1},{"$f":"AO14/(AQ4-AO11)","v":0.5},{"$f":"IF(AP14=0,0,(AP14*((LOG(AP14))/LOG(2))))","v":-0.5},null,{"$f":"N14","v":222},{"$f":"COUNTIF(L20:L22,AS14)","v":1},{"$f":"AT14/(AV4-AT11)","v":0.33333333333333331},{"$f":"IF(AU14=0,0,(AU14*((LOG(AU14))/LOG(2))))","v":-0.52832083357371862}]
[12,2134,24,2175,24,2183,null,null,null,null,0,122,null,null,null,{"$f":"SUM(P7:P14)","v":1},{"$f":"-SUM(Q7:Q14)","v":2.149397470347699},null,null,null,null,{"$f":"SUM(V7:V14)","v":1},{"$f":"-SUM(W7:W14)","v":1.5849625007211559},null,null,null,{"$f":"SUM(AA7:AA14)","v":1},{"$f":"-SUM(AB7:AB14)","v":0},null,null,null,{"$f":"SUM(AF7:AF14)","v":1},{"$f":"-SUM(AG7:AG14)","v":1.5849625007211559},null,null,null,{"$f":"SUM(AK7:AK14)","v":1},{"$f":"-SUM(AL7:AL14)","v":0.91829583405448945},null,null,null,{"$f":"SUM(AP7:AP14)","v":1},{"$f":"-SUM(AQ7:AQ14)","v":1},null,null,null,{"$f":"SUM(AU7:AU14)","v":1},{"$f":"-SUM(AV7:AV14)","v":0.91829583405448945}]
[12,2290,13,2315,13,2452,null,null,null,null,0,111,null,null,null,"U=",{"$f":"Q15/(LOG(Q4)/LOG(2))","v":0.53734936758692475},null,null,null,null,"U1=",{"$f":"W15/(LOG(W4)/LOG(2))","v":0.99999999999999989},null,null,null,"U2=",{"$f":"AB15/(LOG(AB4)/LOG(2))","v":0},null,null,null,"U3=",{"$f":"AG15/(LOG(AG4)/LOG(2))","v":0.99999999999999989},null,null,null,"U4=",{"$f":"AL15/(LOG(AL4)/LOG(2))","v":0.57938016428569505},null,null,null,"U5=",{"$f":"AQ15/(LOG(AQ4)/LOG(2))","v":1},null,null,null,"U6=",{"$f":"AV15/(LOG(AV4)/LOG(2))","v":0.57938016428569505}]
[12,2665,24,2686,24,2693,null,null,null,null,0,122]
[21,2863,22,2872,24,2881,null,null,null,null,0,222]
[12,2978,24,3009,24,3017,null,null,null,null,0,122,null,"Total Target Seq"]
[21,3202,22,3209,24,3227,null,null,null,null,0,222,null,{"$f":"COUNTIF(L7:L22,G3)","v":1},null,3,2,3,3,2,3]
[12,3458,13,3488,13,3526,null,null,null,null,0,111,null,null,null,"% of reinforcement given in 6 equal intervals based on number of trials "]
[12,3781,13,3788,13,3797,null,null,null,null,0,111,null,null,null,"%_1","%_2","%_3","%_4","%_5","%_6"]
[null,null,null,null,null,null,null,null,null,null,null,null,null,null,"target sequence",{"$f":"$G$3","v":211},{"$f":"$G$3","v":211},{"$f":"$G$3","v":211},{"$f":"$G$3","v":211},{"$f":"$G$3","v":211},{"$f":"$G$3","v":211}]
[null,null,null,null,null,null,null,null,null,null,null,null,null,null,"total reinforcement",{"$f":"U11","v":0},{"$f":"Z11","v":1},{"$f":"AE11","v":0},{"$f":"AJ11","v":0},{"$f":"AO11","v":0},{"$f":"AT11","v":0}]
[null,null,null,null,null,null,null,null,null,null,null,null,null,null,"% target"]
[null,null,null,null,null,null,null,null,null,null,null,null,null,null,"CCRF"]
[null,null,null,null,null,null,null,null,null,null,null,null,null,null,"% CCRf"]
[null,null,null,null,null,null,null,null,null,null,null,null,null,null,"average response rate",{"$f":"F9/P20","v":203},{"$f":"(F11-F9)/Q20","v":304},{"$f":"(F14-F11)/R20","v":270.33333333333331},{"$f":"(F17-F14)/S20","v":221.66666666666666},{"$f":"(F19-F17)/T20","v":162},{"$f":"(F22-F19)/U20","v":260}]

{"sheet":"!L91092B.axt","index":24,"n_rows":86,"n_cols":48,"rows_kept":86,"cut":false,"hidden":false,"merged":[[4,39,4,42],[5,39,5,40],[4,44,4,47],[5,44,5,45],[4,24,4,27],[5,24,5,25],[4,29,4,32],[5,29,5,30],[4,34,4,37],[5,34,5,35],[1,1,1,2],[5,13,5,14],[18,13,18,14],[19,13,19,14],[4,19,4,22],[5,19,5,20]]}
["Report for:!L91092B.axt"]
["Date:","<date>"]
["Hen:","<hen>",null,null,null,"Correct Sequence",{"$f":"Start!J2","v":211},null,null,null,null,null,null,null,null,"Total Sequences in Data",{"$f":"4994-COUNTBLANK(L7:L5000)","v":80},null,null,null,null,"Total Sequences in Block Data",{"$f":"COUNTA(L7:L19)","v":13},null,null,null,"Total Sequences in Block Data",{"$f":"COUNTA(L20:L33)","v":14},null,null,null,"Total Sequences in Block Data",{"$f":"COUNTA(L34:L46)","v":13},null,null,null,"Total Sequences in Block Data",{"$f":"COUNTA(L47:L59)","v":13},null,null,null,"Total Sequences in Block Data",{"$f":"COUNTA(L60:L73)","v":14},null,null,null,"Total Sequences in Block Data",{"$f":"COUNTA(L74:L86)","v":13}]
[null,null,null,null,null,null,null,null,null,null,null,null,null,null,null,"Total Sequences in Summary",{"$f":"SUM(O7:O14)","v":79},null,null,null,null,"Total Sequences in Block Summary",{"$f":"SUM(U7:U14)","v":13},null,null,null,"Total Sequences in Block Summary",{"$f":"SUM(Z7:Z14)","v":14},null,null,null,"Total Sequences in Block Summary",{"$f":"SUM(AE7:AE14)","v":13},null,null,null,"Total Sequences in Block Summary",{"$f":"SUM(AJ7:AJ14)","v":13},null,null,null,"Total Sequences in Block Summary",{"$f":"SUM(AO7:AO14)","v":14},null,null,null,"Total Sequences in Block Summary",{"$f":"SUM(AT7:AT14)","v":12}]
[null,null,null,null,null,null,null,null,null,null,null,null,null,null,null,null,null,null,null,"Block 1",null,null,null,null,"Block 2",null,null,null,null,"Block 3",null,null,null,null,"Block 4",null,null,null,null,"Block 5",null,null,null,null,"Block 6"]
["Sequence\nComponent\n1","Time\n1","Sequence\nComponent\n2","Time\n2","Sequence\nComponent\n3","Time\n3","Sequence\nComponent\n4","Time\n4","Sequence\nComponent\n5","Time\n5","Correct?\n0=No 1=Yes","Sequence",null,"Frequency",null,"Relative Frequency","Variability",null,null,"Frequency",null,"Relative Frequency","Variability",null,"Frequency",null,"Relative Frequency","Variability",null,"Frequency",null,"Relative Frequency","Variability",null,"Frequency",null,"Relative Frequency","Variability",null,"Frequency",null,"Relative Frequency","Variability",null,"Frequency",null,"Relative Frequency","Variability"]
[12,2,13,9,24,49,null,null,null,null,0,112,null,111,{"$f":"COUNTIF($L$7:$L$500,N7)","v":19},{"$f":"O7/$Q$4","v":0.24050632911392406},{"$f":"IF(P7=0,0,(P7*((LOG(P7))/LOG(2))))","v":-0.49444571468274462},null,null,{"$f":"N7","v":111},{"$f":"COUNTIF(L7:L19,T7)","v":7},{"$f":"U7/(W4-U11)","v":0.53846153846153844},{"$f":"IF(V7=0,0,(V7*((LOG(V7))/LOG(2))))","v":-0.48089181327572433},null,{"$f":"N7","v":111},{"$f":"COUNTIF(L20:L33,Y7)","v":5},{"$f":"Z7/(AB4-Z11)","v":0.38461538461538464},{"$f":"IF(AA7=0,0,(AA7*((LOG(AA7))/LOG(2))))","v":-0.53019677817451139},null,{"$f":"N7","v":111},{"$f":"COUNTIF(L34:L46,AD7)","v":4},{"$f":"AE7/(AG4-AE11)","v":0.30769230769230771},{"$f":"IF(AF7=0,0,(AF7*((LOG(AF7))/LOG(2))))","v":-0.52321222096648989},null,{"$f":"N7","v":111},{"$f":"COUNTIF(L47:L59,AI7)","v":0},{"$f":"AJ7/(AL4-AJ11)","v":0},{"$f":"IF(AK7=0,0,(AK7*((LOG(AK7))/LOG(2))))","v":0},null,{"$f":"N7","v":111},{"$f":"COUNTIF(L60:L73,AN7)","v":2},{"$f":"AO7/(AQ4-AO11)","v":0.14285714285714285},{"$f":"IF(AP7=0,0,(AP7*((LOG(AP7))/LOG(2))))","v":-0.40105070315108626},null,{"$f":"N7","v":111},{"$f":"COUNTIF(L74:L86,AS7)","v":1},{"$f":"AT7/(AV4-AT11)","v":8.3333333333333329E-2},{"$f":"IF(AU7=0,0,(AU7*((LOG(AU7))/LOG(2))))","v":-0.29874687506009634}]
[12,186,13,209,13,239,null,null,null,null,0,111,null,112,{"$f":"COUNTIF($L$7:$L$500,N8)","v":28},{"$f":"O8/$Q$4","v":0.35443037974683544},{"$f":"IF(P8=0,0,(P8*((LOG(P8))/LOG(2))))","v":-0.53037877381450593},null,null,{"$f":"N8","v":112},{"$f":"COUNTIF(L7:L19,T8)","v":2},{"$f":"U8/(W4-U11)","v":0.15384615384615385},{"$f":"IF(V8=0,0,(V8*((LOG(V8))/LOG(2))))","v":-0.4154522643293988},null,{"$f":"N8","v":112},{"$f":"COUNTIF(L20:L33,Y8)","v":3},{"$f":"Z8/(AB4-Z11)","v":0.23076923076923078},{"$f":"IF(AA8=0,0,(AA8*((LOG(AA8))/LOG(2))))","v":-0.48818705017383146},null,{"$f":"N8","v":112},{"$f":"COUNTIF(L34:L46,AD8)","v":6},{"$f":"AE8/(AG4-AE11)","v":0.46153846153846156},{"$f":"IF(AF8=0,0,(AF8*((LOG(AF8))/LOG(2))))","v":-0.51483563880920125},null,{"$f":"N8","v":112},{"$f":"COUNTIF(L47:L59,AI8)","v":7},{"$f":"AJ8/(AL4-AJ11)","v":0.53846153846153844},{"$f":"IF(AK8=0,0,(AK8*((LOG(AK8))/LOG(2))))","v":-0.48089181327572433},null,{"$f":"N8","v":112},{"$f":"COUNTIF(L60:L73,AN8)","v":6},{"$f":"AO8/(AQ4-AO11)","v":0.42857142857142855},{"$f":"IF(AP8=0,0,(AP8*((LOG(AP8))/LOG(2))))","v":-0.52388246628704915},null,{"$f":"N8","v":112},{"$f":"COUNTIF(L74:L86,AS8)","v":4},{"$f":"AT8/(AV4-AT11)","v":0.33333333333333331},{"$f":"IF(AU8=0,0,(AU8*((LOG(AU8))/LOG(2))))","v":-0.52832083357371862}]
[12,356,13,358,13,386,null,null,null,null,0,111,null,121,{"$f":"COUNTIF($L$7:$L$500,N9)","v":2},{"$f":"O9/$Q$4","v":2.5316455696202531E-2},{"$f":"IF(P9=0,0,(P9*((LOG(P9))/LOG(2))))","v":-0.13427293033359755},null,null,{"$f":"N9","v":121},{"$f":"COUNTIF(L7:L19,T9)","v":1},{"$f":"U9/(W4-U11)","v":7.6923076923076927E-2},{"$f":"IF(V9=0,0,(V9*((LOG(V9))/LOG(2))))","v":-0.28464920908777636},null,{"$f":"N9","v":121},{"$f":"COUNTIF(L20:L33,Y9)","v":1},{"$f":"Z9/(AB4-Z11)","v":7.6923076923076927E-2},{"$f":"IF(AA9=0,0,(AA9*((LOG(AA9))/LOG(2))))","v":-0.28464920908777636},null,{"$f":"N9","v":121},{"$f":"COUNTIF(L34:L46,AD9)","v":0},{"$f":"AE9/(AG4-AE11)","v":0},{"$f":"IF(AF9=0,0,(AF9*((LOG(AF9))/LOG(2))))","v":0},null,{"$f":"N9","v":121},{"$f":"COUNTIF(L47:L59,AI9)","v":0},{"$f":"AJ9/(AL4-AJ11)","v":0},{"$f":"IF(AK9=0,0,(AK9*((LOG(AK9))/LOG(2))))","v":0},null,{"$f":"N9","v":121},{"$f":"COUNTIF(L60:L73,AN9)","v":0},{"$f":"AO9/(AQ4-AO11)","v":0},{"$f":"IF(AP9=0,0,(AP9*((LOG(AP9))/LOG(2))))","v":0},null,{"$f":"N9","v":121},{"$f":"COUNTIF(L74:L86,AS9)","v":0},{"$f":"AT9/(AV4-AT11)","v":0},{"$f":"IF(AU9=0,0,(AU9*((LOG(AU9))/LOG(2))))","v":0}]
[12,485,13,538,13,548,null,null,null,null,0,111,null,122,{"$f":"COUNTIF($L$7:$L$500,N10)","v":10},{"$f":"O10/$Q$4","v":0.12658227848101267},{"$f":"IF(P10=0,0,(P10*((LOG(P10))/LOG(2))))","v":-0.37744970294806846},null,null,{"$f":"N10","v":122},{"$f":"COUNTIF(L7:L19,T10)","v":1},{"$f":"U10/(W4-U11)","v":7.6923076923076927E-2},{"$f":"IF(V10=0,0,(V10*((LOG(V10))/LOG(2))))","v":-0.28464920908777636},null,{"$f":"N10","v":122},{"$f":"COUNTIF(L20:L33,Y10)","v":0},{"$f":"Z10/(AB4-Z11)","v":0},{"$f":"IF(AA10=0,0,(AA10*((LOG(AA10))/LOG(2))))","v":0},null,{"$f":"N10","v":122},{"$f":"COUNTIF(L34:L46,AD10)","v":3},{"$f":"AE10/(AG4-AE11)","v":0.23076923076923078},{"$f":"IF(AF10=0,0,(AF10*((LOG(AF10))/LOG(2))))","v":-0.48818705017383146},null,{"$f":"N10","v":122},{"$f":"COUNTIF(L47:L59,AI10)","v":2},{"$f":"AJ10/(AL4-AJ11)","v":0.15384615384615385},{"$f":"IF(AK10=0,0,(AK10*((LOG(AK10))/LOG(2))))","v":-0.4154522643293988},null,{"$f":"N10","v":122},{"$f":"COUNTIF(L60:L73,AN10)","v":3},{"$f":"AO10/(AQ4-AO11)","v":0.21428571428571427},{"$f":"IF(AP10=0,0,(AP10*((LOG(AP10))/LOG(2))))","v":-0.47622694742923877},null,{"$f":"N10","v":122},{"$f":"COUNTIF(L74:L86,AS10)","v":1},{"$f":"AT10/(AV4-AT11)","v":8.3333333333333329E-2},{"$f":"IF(AU10=0,0,(AU10*((LOG(AU10))/LOG(2))))","v":-0.29874687506009634}]
[12,691,13,699,13,709,null,null,null,null,0,111,null,211,{"$f":"COUNTIF($L$7:$L$500,N11)","v":1},{"$f":"O11/$Q$4","v":1.2658227848101266E-2},{"$f":"IF(P11=0,0,(P11*((LOG(P11))/LOG(2))))","v":-7.9794693014900039E-2},null,null,{"$f":"N11","v":211},{"$f":"COUNTIF(L7:L19,T11)","v":0},null,null,null,{"$f":"N11","v":211},{"$f":"COUNTIF(L20:L33,Y11)","v":1},null,null,null,{"$f":"N11","v":211},{"$f":"COUNTIF(L34:L46,AD11)","v":0},null,null,null,{"$f":"N11","v":211},{"$f":"COUNTIF(L47:L59,AI11)","v":0},null,null,null,{"$f":"N11","v":211},{"$f":"COUNTIF(L60:L73,AN11)","v":0},null,null,null,{"$f":"N11","v":211},{"$f":"COUNTIF(L74:L86,AS11)","v":0}]
[21,1037,22,1046,13,1082,null,null,null,null,0,221,null,212,{"$f":"COUNTIF($L$7:$L$500,N12)","v":0},{"$f":"O12/$Q$4","v":0},{"$f":"IF(P12=0,0,(P12*((LOG(P12))/LOG(2))))","v":0},null,null,{"$f":"N12","v":212},{"$f":"COUNTIF(L7:L19,T12)","v":0},{"$f":"U12/(W4-U11)","v":0},{"$f":"IF(V12=0,0,(V12*((LOG(V12))/LOG(2))))","v":0},null,{"$f":"N12","v":212},{"$f":"COUNTIF(L20:L33,Y12)","v":0},{"$f":"Z12/(AB4-Z11)","v":0},{"$f":"IF(AA12=0,0,(AA12*((LOG(AA12))/LOG(2))))","v":0},null,{"$f":"N12","v":212},{"$f":"COUNTIF(L34:L46,AD12)","v":0},{"$f":"AE12/(AG4-AE11)","v":0},{"$f":"IF(AF12=0,0,(AF12*((LOG(AF12))/LOG(2))))","v":0},null,{"$f":"N12","v":212},{"$f":"COUNTIF(L47:L59,AI12)","v":0},{"$f":"AJ12/(AL4-AJ11)","v":0},{"$f":"IF(AK12=0,0,(AK12*((LOG(AK12))/LOG(2))))","v":0},null,{"$f":"N12","v":212},{"$f":"COUNTIF(L60:L73,AN12)","v":0},{"$f":"AO12/(AQ4-AO11)","v":0},{"$f":"IF(AP12=0,0,(AP12*((LOG(AP12))/LOG(2))))","v":0},null,{"$f":"N12","v":212},{"$f":"COUNTIF(L74:L86,AS12)","v":0},{"$f":"AT12/(AV4-AT11)","v":0},{"$f":"IF(AU12=0,0,(AU12*((LOG(AU12))/LOG(2))))","v":0}]
[12,1300,24,1348,13,1380,null,null,null,null,0,121,null,221,{"$f":"COUNTIF($L$7:$L$500,N13)","v":4},{"$f":"O13/$Q$4","v":5.0632911392405063E-2},{"$f":"IF(P13=0,0,(P13*((LOG(P13))/LOG(2))))","v":-0.21791294927479002},null,null,{"$f":"N13","v":221},{"$f":"COUNTIF(L7:L19,T13)","v":1},{"$f":"U13/(W4-U11)","v":7.6923076923076927E-2},{"$f":"IF(V13=0,0,(V13*((LOG(V13))/LOG(2))))","v":-0.28464920908777636},null,{"$f":"N13","v":221},{"$f":"COUNTIF(L20:L33,Y13)","v":1},{"$f":"Z13/(AB4-Z11)","v":7.6923076923076927E-2},{"$f":"IF(AA13=0,0,(AA13*((LOG(AA13))/LOG(2))))","v":-0.28464920908777636},null,{"$f":"N13","v":221},{"$f":"COUNTIF(L34:L46,AD13)","v":0},{"$f":"AE13/(AG4-AE11)","v":0},{"$f":"IF(AF13=0,0,(AF13*((LOG(AF13))/LOG(2))))","v":0},null,{"$f":"N13","v":221},{"$f":"COUNTIF(L47:L59,AI13)","v":0},{"$f":"AJ13/(AL4-AJ11)","v":0},{"$f":"IF(AK13=0,0,(AK13*((LOG(AK13))/LOG(2))))","v":0},null,{"$f":"N13","v":221},{"$f":"COUNTIF(L60:L73,AN13)","v":1},{"$f":"AO13/(AQ4-AO11)","v":7.1428571428571425E-2},{"$f":"IF(AP13=0,0,(AP13*((LOG(AP13))/LOG(2))))","v":-0.27195392300411453},null,{"$f":"N13","v":221},{"$f":"COUNTIF(L74:L86,AS13)","v":1},{"$f":"AT13/(AV4-AT11)","v":8.3333333333333329E-2},{"$f":"IF(AU13=0,0,(AU13*((LOG(AU13))/LOG(2))))","v":-0.29874687506009634}]
[12,1484,24,1510,24,1519,null,null,null,null,0,122,null,222,{"$f":"COUNTIF($L$7:$L$500,N14)","v":15},{"$f":"O14/$Q$4","v":0.189873417721519},{"$f":"IF(P14=0,0,(P14*((LOG(P14))/LOG(2))))","v":-0.45510572517125025},null,null,{"$f":"N14","v":222},{"$f":"COUNTIF(L7:L19,T14)","v":1},{"$f":"U14/(W4-U11)","v":7.6923076923076927E-2},{"$f":"IF(V14=0,0,(V14*((LOG(V14))/LOG(2))))","v":-0.28464920908777636},null,{"$f":"N14","v":222},{"$f":"COUNTIF(L20:L33,Y14)","v":3},{"$f":"Z14/(AB4-Z11)","v":0.23076923076923078},{"$f":"IF(AA14=0,0,(AA14*((LOG(AA14))/LOG(2))))","v":-0.48818705017383146},null,{"$f":"N14","v":222},{"$f":"COUNTIF(L34:L46,AD14)","v":0},{"$f":"AE14/(AG4-AE11)","v":0},{"$f":"IF(AF14=0,0,(AF14*((LOG(AF14))/LOG(2))))","v":0},null,{"$f":"N14","v":222},{"$f":"COUNTIF(L47:L59,AI14)","v":4},{"$f":"AJ14/(AL4-AJ11)","v":0.30769230769230771},{"$f":"IF(AK14=0,0,(AK14*((LOG(AK14))/LOG(2))))","v":-0.52321222096648989},null,{"$f":"N14","v":222},{"$f":"COUNTIF(L60:L73,AN14)","v":2},{"$f":"AO14/(AQ4-AO11)","v":0.14285714285714285},{"$f":"IF(AP14=0,0,(AP14*((LOG(AP14))/LOG(2))))","v":-0.40105070315108626},null,{"$f":"N14","v":222},{"$f":"COUNTIF(L74:L86,AS14)","v":5},{"$f":"AT14/(AV4-AT11)","v":0.41666666666666669},{"$f":"IF(AU14=0,0,(AU14*((LOG(AU14))/LOG(2))))","v":-0.52626433576408083}]
[12,1633,13,1671,13,1707,null,null,null,null,0,111,null,null,null,{"$f":"SUM(P7:P14)","v":1},{"$f":"-SUM(Q7:Q14)","v":2.2893604892398569},null,null,null,null,{"$f":"SUM(V7:V14)","v":0.99999999999999978},{"$f":"-SUM(W7:W14)","v":2.0349409139562287},null,null,null,{"$f":"SUM(AA7:AA14)","v":1},{"$f":"-SUM(AB7:AB14)","v":2.0758692966977268},null,null,null,{"$f":"SUM(AF7:AF14)","v":1},{"$f":"-SUM(AG7:AG14)","v":1.5262349099495227},null,null,null,{"$f":"SUM(AK7:AK14)","v":1},{"$f":"-SUM(AL7:AL14)","v":1.419556298571613},null,null,null,{"$f":"SUM(AP7:AP14)","v":1},{"$f":"-SUM(AQ7:AQ14)","v":2.0741647430225751},null,null,null,{"$f":"SUM(AU7:AU14)","v":1},{"$f":"-SUM(AV7:AV14)","v":1.9508257945180885}]
[12,2062,13,2069,13,2096,null,null,null,null,0,111,null,null,null,"U=",{"$f":"Q15/(LOG(Q4)/LOG(2))","v":0.36317260715355354},null,null,null,null,"U1=",{"$f":"W15/(LOG(W4)/LOG(2))","v":0.54991867695617447},null,null,null,"U2=",{"$f":"AB15/(LOG(AB4)/LOG(2))","v":0.54522610557564399},null,null,null,"U3=",{"$f":"AG15/(LOG(AG4)/LOG(2))","v":0.41244690528730554},null,null,null,"U4=",{"$f":"AL15/(LOG(AL4)/LOG(2))","v":0.38361827423166994},null,null,null,"U5=",{"$f":"AQ15/(LOG(AQ4)/LOG(2))","v":0.54477840534541944},null,null,null,"U6=",{"$f":"AV15/(LOG(AV4)/LOG(2))","v":0.54416909357508125}]
[12,2194,13,2201,13,2211,null,null,null,null,0,111]
[12,2325,13,2341,24,2358,null,null,null,null,0,112]
[21,3004,22,3013,24,3023,null,null,null,null,0,222,null,"Total Target Seq"]
[12,3219,13,3225,24,3253,null,null,null,null,0,112,null,{"$f":"COUNTIF(L7:L86,G3)","v":1},null,13,14,13,13,14,13]
[21,3368,11,3397,11,3408,null,null,null,null,0,211,null,null,null,"% of reinforcement given in 6 equal intervals based on number of trials "]
[12,3660,13,3665,13,3672,null,null,null,null,0,111,null,null,null,"%_1","%_2","%_3","%_4","%_5","%_6"]
[12,4166,13,4175,13,4184,null,null,null,null,0,111,null,null,"target sequence",{"$f":"$G$3","v":211},{"$f":"$G$3","v":211},{"$f":"$G$3","v":211},{"$f":"$G$3","v":211},{"$f":"$G$3","v":211},{"$f":"$G$3","v":211}]
[12,4285,24,4319,13,4347,null,null,null,null,0,121,null,null,"total reinforcement",{"$f":"U11","v":0},{"$f":"Z11","v":1},{"$f":"AE11","v":0},{"$f":"AJ11","v":0},{"$f":"AO11","v":0},{"$f":"AT11","v":0}]
[12,4689,13,4695,24,4717,null,null,null,null,0,112,null,null,"% target"]
[12,4831,13,4839,13,4871,null,null,null,null,0,111,null,null,"CCRF"]
[21,4991,22,5000,24,5011,null,null,null,null,0,222,null,null,"% CCRf"]
[21,5334,22,5341,13,5379,null,null,null,null,0,221,null,null,"average response rate",{"$f":"F19/P20","v":232.53846153846155},{"$f":"(F33-F19)/Q20","v":243.92857142857142},{"$f":"(F46-F33)/R20","v":181.23076923076923},{"$f":"(F59-F46)/S20","v":196},{"$f":"(F73-F59)/T20","v":715.71428571428567},{"$f":"(F86-F73)/U20","v":-1643.2307692307693}]
[12,5868,13,5876,24,5895,null,null,null,null,0,112]
[21,6010,22,6019,24,6043,null,null,null,null,0,222]
[21,6154,22,6162,24,6171,null,null,null,null,0,222]
[12,6272,13,6279,13,6310,null,null,null,null,0,111]
[12,6411,13,6434,13,6438,null,null,null,null,0,111]
[12,6533,13,6539,13,6546,null,null,null,null,0,111]
[12,6649,24,6672,24,6680,null,null,null,null,0,122]
[12,7030,13,7036,24,7061,null,null,null,null,0,112]
[12,7171,13,7180,13,7182,null,null,null,null,0,111]
[12,7301,13,7307,13,7323,null,null,null,null,0,111]
[12,7428,13,7434,24,7453,null,null,null,null,0,112]
[12,7559,13,7567,24,7580,null,null,null,null,0,112]
[12,8030,24,8046,24,8053,null,null,null,null,0,122]
[12,8247,13,8255,24,8278,null,null,null,null,0,112]
[12,8406,13,8413,24,8433,null,null,null,null,0,112]
[12,8532,13,8538,13,8546,null,null,null,null,0,111]
[12,8646,24,8660,24,8668,null,null,null,null,0,122]
[12,8762,13,8769,24,8794,null,null,null,null,0,112]
[12,8909,24,8925,24,8935,null,null,null,null,0,122]
[21,9094,22,9117,24,9128,null,null,null,null,0,222]
[12,9544,13,9555,24,9573,null,null,null,null,0,112]
[12,9680,13,9697,24,9715,null,null,null,null,0,112]
[21,9886,22,9922,24,9934,null,null,null,null,0,222]
[12,10059,13,10065,24,10075,null,null,null,null,0,112]
[12,10167,13,10193,24,10209,null,null,null,null,0,112]
[12,10308,13,10316,24,10325,null,null,null,null,0,112]
[12,10489,24,10501,24,10510,null,null,null,null,0,122]
[21,10671,22,10689,24,10700,null,null,null,null,0,222]
[12,10823,13,10830,24,10845,null,null,null,null,0,112]
[21,11204,22,11213,24,11222,null,null,null,null,0,222]
[12,11320,13,11325,24,11342,null,null,null,null,0,112]
[12,12306,13,12312,13,12327,null,null,null,null,0,111]
[12,12421,13,12426,24,12438,null,null,null,null,0,112]
[12,13278,13,13285,24,13308,null,null,null,null,0,112]
[21,13422,22,13429,24,13437,null,null,null,null,0,222]
[12,13630,24,13649,24,13657,null,null,null,null,0,122]
[12,13787,13,13802,24,13817,null,null,null,null,0,112]
[12,14641,24,14662,24,14672,null,null,null,null,0,122]
[21,17681,22,17690,24,17699,null,null,null,null,0,222]
[12,20361,13,20371,13,20379,null,null,null,null,0,111]
[21,20532,22,20543,13,20573,null,null,null,null,0,221]
[12,20887,13,20894,24,20912,null,null,null,null,0,112]
[12,21022,13,21051,24,21062,null,null,null,null,0,112]
[12,21175,13,21184,24,21238,null,null,null,null,0,112]
[12,21345,24,21354,24,21362,null,null,null,null,0,122]
[12,21459,13,21472,24,21493,null,null,null,null,0,112]
[21,21606,22,21613,13,21693,null,null,null,null,0,221]
[12,21806,13,21844,13,21857,null,null,null,null,0,111]
[12,21954,24,21974,24,21982,null,null,null,null,0,122]
[12,22106,13,22113,24,22141,null,null,null,null,0,112]
[21,22264,22,22273,24,22287,null,null,null,null,0,222]
[21,22575,22,22584,24,22597,null,null,null,null,0,222]
[12,22711,13,22737,24,22770,null,null,null,null,0,112]
[12,22945,13,22957,24,22963,null,null,null,null,0,112]
[21,23153,22,23165,24,23230,null,null,null,null,0,222]
[21,23510,22,23519,24,23528,null,null,null,null,0,222]
[21,23691,22,23700,24,23710,null,null,null,null,0,222]
[21,23959,22,23966,null,null,null,null,null,null,null,22]

{"sheet":"!L91191B.axt","index":25,"n_rows":37,"n_cols":48,"rows_kept":37,"cut":false,"hidden":false,"merged":[[4,39,4,42],[5,39,5,40],[4,44,4,47],[5,44,5,45],[4,24,4,27],[5,24,5,25],[4,29,4,32],[5,29,5,30],[4,34,4,37],[5,34,5,35],[1,1,1,2],[5,13,5,14],[18,13,18,14],[19,13,19,14],[4,19,4,22],[5,19,5,20]]}
["Report for:!L91191B.axt"]
["Date:","<date>"]
["Hen:","<hen>",null,null,null,"Correct Sequence",{"$f":"Start!J2","v":211},null,null,null,null,null,null,null,null,"Total Sequences in Data",{"$f":"4994-COUNTBLANK(L7:L5000)","v":31},null,null,null,null,"Total Sequences in Block Data",{"$f":"COUNTA(L7:L11)","v":5},null,null,null,"Total Sequences in Block Data",{"$f":"COUNTA(L12:L16)","v":5},null,null,null,"Total Sequences in Block Data",{"$f":"COUNTA(L17:L22)","v":6},null,null,null,"Total Sequences in Block Data",{"$f":"COUNTA(L23:L27)","v":5},null,null,null,"Total Sequences in Block Data",{"$f":"COUNTA(L28:L32)","v":5},null,null,null,"Total Sequences in Block Data",{"$f":"COUNTA(L33:L37)","v":5}]
[null,null,null,null,null,null,null,null,null,null,null,null,null,null,null,"Total Sequences in Summary",{"$f":"SUM(O7:O14)","v":31},null,null,null,null,"Total Sequences in Block Summary",{"$f":"SUM(U7:U14)","v":5},null,null,null,"Total Sequences in Block Summary",{"$f":"SUM(Z7:Z14)","v":5},null,null,null,"Total Sequences in Block Summary",{"$f":"SUM(AE7:AE14)","v":6},null,null,null,"Total Sequences in Block Summary",{"$f":"SUM(AJ7:AJ14)","v":5},null,null,null,"Total Sequences in Block Summary",{"$f":"SUM(AO7:AO14)","v":5},null,null,null,"Total Sequences in Block Summary",{"$f":"SUM(AT7:AT14)","v":5}]
[null,null,null,null,null,null,null,null,null,null,null,null,null,null,null,null,null,null,null,"Block 1",null,null,null,null,"Block 2",null,null,null,null,"Block 3",null,null,null,null,"Block 4",null,null,null,null,"Block 5",null,null,null,null,"Block 6"]
["Sequence\nComponent\n1","Time\n1","Sequence\nComponent\n2","Time\n2","Sequence\nComponent\n3","Time\n3","Sequence\nComponent\n4","Time\n4","Sequence\nComponent\n5","Time\n5","Correct?\n0=No 1=Yes","Sequence",null,"Frequency",null,"Relative Frequency","Variability",null,null,"Frequency",null,"Relative Frequency","Variability",null,"Frequency",null,"Relative Frequency","Variability",null,"Frequency",null,"Relative Frequency","Variability",null,"Frequency",null,"Relative Frequency","Variability",null,"Frequency",null,"Relative Frequency","Variability",null,"Frequency",null,"Relative Frequency","Variability"]
[12,69,13,74,24,88,null,null,null,null,0,112,null,111,{"$f":"COUNTIF($L$7:$L$500,N7)","v":6},{"$f":"O7/$Q$4","v":0.19354838709677419},{"$f":"IF(P7=0,0,(P7*((LOG(P7))/LOG(2))))","v":-0.45856138251594558},null,null,{"$f":"N7","v":111},{"$f":"COUNTIF(L7:L11,T7)","v":0},{"$f":"U7/(W4-U11)","v":0},{"$f":"IF(V7=0,0,(V7*((LOG(V7))/LOG(2))))","v":0},null,{"$f":"N7","v":111},{"$f":"COUNTIF(L12:L16,Y7)","v":1},{"$f":"Z7/(AB4-Z11)","v":0.2},{"$f":"IF(AA7=0,0,(AA7*((LOG(AA7))/LOG(2))))","v":-0.46438561897747244},null,{"$f":"N7","v":111},{"$f":"COUNTIF(L17:L22,AD7)","v":1},{"$f":"AE7/(AG4-AE11)","v":0.16666666666666666},{"$f":"IF(AF7=0,0,(AF7*((LOG(AF7))/LOG(2))))","v":-0.43082708345352599},null,{"$f":"N7","v":111},{"$f":"COUNTIF(L23:L27,AI7)","v":2},{"$f":"AJ7/(AL4-AJ11)","v":0.4},{"$f":"IF(AK7=0,0,(AK7*((LOG(AK7))/LOG(2))))","v":-0.52877123795494496},null,{"$f":"N7","v":111},{"$f":"COUNTIF(L28:L32,AN7)","v":2},{"$f":"AO7/(AQ4-AO11)","v":0.4},{"$f":"IF(AP7=0,0,(AP7*((LOG(AP7))/LOG(2))))","v":-0.52877123795494496},null,{"$f":"N7","v":111},{"$f":"COUNTIF(L33:L37,AS7)","v":0},{"$f":"AT7/(AV4-AT11)","v":0},{"$f":"IF(AU7=0,0,(AU7*((LOG(AU7))/LOG(2))))","v":0}]
[12,187,24,211,24,218,null,null,null,null,0,122,null,112,{"$f":"COUNTIF($L$7:$L$500,N8)","v":7},{"$f":"O8/$Q$4","v":0.22580645161290322},{"$f":"IF(P8=0,0,(P8*((LOG(P8))/LOG(2))))","v":-0.48477063607435156},null,null,{"$f":"N8","v":112},{"$f":"COUNTIF(L7:L11,T8)","v":3},{"$f":"U8/(W4-U11)","v":0.6},{"$f":"IF(V8=0,0,(V8*((LOG(V8))/LOG(2))))","v":-0.44217935649972373},null,{"$f":"N8","v":112},{"$f":"COUNTIF(L12:L16,Y8)","v":1},{"$f":"Z8/(AB4-Z11)","v":0.2},{"$f":"IF(AA8=0,0,(AA8*((LOG(AA8))/LOG(2))))","v":-0.46438561897747244},null,{"$f":"N8","v":112},{"$f":"COUNTIF(L17:L22,AD8)","v":2},{"$f":"AE8/(AG4-AE11)","v":0.33333333333333331},{"$f":"IF(AF8=0,0,(AF8*((LOG(AF8))/LOG(2))))","v":-0.52832083357371862},null,{"$f":"N8","v":112},{"$f":"COUNTIF(L23:L27,AI8)","v":1},{"$f":"AJ8/(AL4-AJ11)","v":0.2},{"$f":"IF(AK8=0,0,(AK8*((LOG(AK8))/LOG(2))))","v":-0.46438561897747244},null,{"$f":"N8","v":112},{"$f":"COUNTIF(L28:L32,AN8)","v":0},{"$f":"AO8/(AQ4-AO11)","v":0},{"$f":"IF(AP8=0,0,(AP8*((LOG(AP8))/LOG(2))))","v":0},null,{"$f":"N8","v":112},{"$f":"COUNTIF(L33:L37,AS8)","v":0},{"$f":"AT8/(AV4-AT11)","v":0},{"$f":"IF(AU8=0,0,(AU8*((LOG(AU8))/LOG(2))))","v":0}]
[12,317,24,332,24,350,null,null,null,null,0,122,null,121,{"$f":"COUNTIF($L$7:$L$500,N9)","v":1},{"$f":"O9/$Q$4","v":3.2258064516129031E-2},{"$f":"IF(P9=0,0,(P9*((LOG(P9))/LOG(2))))","v":-0.15981278420602821},null,null,{"$f":"N9","v":121},{"$f":"COUNTIF(L7:L11,T9)","v":0},{"$f":"U9/(W4-U11)","v":0},{"$f":"IF(V9=0,0,(V9*((LOG(V9))/LOG(2))))","v":0},null,{"$f":"N9","v":121},{"$f":"COUNTIF(L12:L16,Y9)","v":1},{"$f":"Z9/(AB4-Z11)","v":0.2},{"$f":"IF(AA9=0,0,(AA9*((LOG(AA9))/LOG(2))))","v":-0.46438561897747244},null,{"$f":"N9","v":121},{"$f":"COUNTIF(L17:L22,AD9)","v":0},{"$f":"AE9/(AG4-AE11)","v":0},{"$f":"IF(AF9=0,0,(AF9*((LOG(AF9))/LOG(2))))","v":0},null,{"$f":"N9","v":121},{"$f":"COUNTIF(L23:L27,AI9)","v":0},{"$f":"AJ9/(AL4-AJ11)","v":0},{"$f":"IF(AK9=0,0,(AK9*((LOG(AK9))/LOG(2))))","v":0},null,{"$f":"N9","v":121},{"$f":"COUNTIF(L28:L32,AN9)","v":0},{"$f":"AO9/(AQ4-AO11)","v":0},{"$f":"IF(AP9=0,0,(AP9*((LOG(AP9))/LOG(2))))","v":0},null,{"$f":"N9","v":121},{"$f":"COUNTIF(L33:L37,AS9)","v":0},{"$f":"AT9/(AV4-AT11)","v":0},{"$f":"IF(AU9=0,0,(AU9*((LOG(AU9))/LOG(2))))","v":0}]
[12,490,13,505,24,509,null,null,null,null,0,112,null,122,{"$f":"COUNTIF($L$7:$L$500,N10)","v":8},{"$f":"O10/$Q$4","v":0.25806451612903225},{"$f":"IF(P10=0,0,(P10*((LOG(P10))/LOG(2))))","v":-0.50430872526112902},null,null,{"$f":"N10","v":122},{"$f":"COUNTIF(L7:L11,T10)","v":2},{"$f":"U10/(W4-U11)","v":0.4},{"$f":"IF(V10=0,0,(V10*((LOG(V10))/LOG(2))))","v":-0.52877123795494496},null,{"$f":"N10","v":122},{"$f":"COUNTIF(L12:L16,Y10)","v":0},{"$f":"Z10/(AB4-Z11)","v":0},{"$f":"IF(AA10=0,0,(AA10*((LOG(AA10))/LOG(2))))","v":0},null,{"$f":"N10","v":122},{"$f":"COUNTIF(L17:L22,AD10)","v":3},{"$f":"AE10/(AG4-AE11)","v":0.5},{"$f":"IF(AF10=0,0,(AF10*((LOG(AF10))/LOG(2))))","v":-0.5},null,{"$f":"N10","v":122},{"$f":"COUNTIF(L23:L27,AI10)","v":1},{"$f":"AJ10/(AL4-AJ11)","v":0.2},{"$f":"IF(AK10=0,0,(AK10*((LOG(AK10))/LOG(2))))","v":-0.46438561897747244},null,{"$f":"N10","v":122},{"$f":"COUNTIF(L28:L32,AN10)","v":2},{"$f":"AO10/(AQ4-AO11)","v":0.4},{"$f":"IF(AP10=0,0,(AP10*((LOG(AP10))/LOG(2))))","v":-0.52877123795494496},null,{"$f":"N10","v":122},{"$f":"COUNTIF(L33:L37,AS10)","v":0},{"$f":"AT10/(AV4-AT11)","v":0},{"$f":"IF(AU10=0,0,(AU10*((LOG(AU10))/LOG(2))))","v":0}]
[12,632,13,710,24,737,null,null,null,null,0,112,null,211,{"$f":"COUNTIF($L$7:$L$500,N11)","v":0},{"$f":"O11/$Q$4","v":0},{"$f":"IF(P11=0,0,(P11*((LOG(P11))/LOG(2))))","v":0},null,null,{"$f":"N11","v":211},{"$f":"COUNTIF(L7:L11,T11)","v":0},null,null,null,{"$f":"N11","v":211},{"$f":"COUNTIF(L12:L16,Y11)","v":0},null,null,null,{"$f":"N11","v":211},{"$f":"COUNTIF(L17:L22,AD11)","v":0},null,null,null,{"$f":"N11","v":211},{"$f":"COUNTIF(L23:L27,AI11)","v":0},null,null,null,{"$f":"N11","v":211},{"$f":"COUNTIF(L28:L32,AN11)","v":0},null,null,null,{"$f":"N11","v":211},{"$f":"COUNTIF(L33:L37,AS11)","v":0}]
[12,924,24,947,13,971,null,null,null,null,0,121,null,212,{"$f":"COUNTIF($L$7:$L$500,N12)","v":0},{"$f":"O12/$Q$4","v":0},{"$f":"IF(P12=0,0,(P12*((LOG(P12))/LOG(2))))","v":0},null,null,{"$f":"N12","v":212},{"$f":"COUNTIF(L7:L11,T12)","v":0},{"$f":"U12/(W4-U11)","v":0},{"$f":"IF(V12=0,0,(V12*((LOG(V12))/LOG(2))))","v":0},null,{"$f":"N12","v":212},{"$f":"COUNTIF(L12:L16,Y12)","v":0},{"$f":"Z12/(AB4-Z11)","v":0},{"$f":"IF(AA12=0,0,(AA12*((LOG(AA12))/LOG(2))))","v":0},null,{"$f":"N12","v":212},{"$f":"COUNTIF(L17:L22,AD12)","v":0},{"$f":"AE12/(AG4-AE11)","v":0},{"$f":"IF(AF12=0,0,(AF12*((LOG(AF12))/LOG(2))))","v":0},null,{"$f":"N12","v":212},{"$f":"COUNTIF(L23:L27,AI12)","v":0},{"$f":"AJ12/(AL4-AJ11)","v":0},{"$f":"IF(AK12=0,0,(AK12*((LOG(AK12))/LOG(2))))","v":0},null,{"$f":"N12","v":212},{"$f":"COUNTIF(L28:L32,AN12)","v":0},{"$f":"AO12/(AQ4-AO11)","v":0},{"$f":"IF(AP12=0,0,(AP12*((LOG(AP12))/LOG(2))))","v":0},null,{"$f":"N12","v":212},{"$f":"COUNTIF(L33:L37,AS12)","v":0},{"$f":"AT12/(AV4-AT11)","v":0},{"$f":"IF(AU12=0,0,(AU12*((LOG(AU12))/LOG(2))))","v":0}]
[21,1216,22,1223,24,1254,null,null,null,null,0,222,null,221,{"$f":"COUNTIF($L$7:$L$500,N13)","v":0},{"$f":"O13/$Q$4","v":0},{"$f":"IF(P13=0,0,(P13*((LOG(P13))/LOG(2))))","v":0},null,null,{"$f":"N13","v":221},{"$f":"COUNTIF(L7:L11,T13)","v":0},{"$f":"U13/(W4-U11)","v":0},{"$f":"IF(V13=0,0,(V13*((LOG(V13))/LOG(2))))","v":0},null,{"$f":"N13","v":221},{"$f":"COUNTIF(L12:L16,Y13)","v":0},{"$f":"Z13/(AB4-Z11)","v":0},{"$f":"IF(AA13=0,0,(AA13*((LOG(AA13))/LOG(2))))","v":0},null,{"$f":"N13","v":221},{"$f":"COUNTIF(L17:L22,AD13)","v":0},{"$f":"AE13/(AG4-AE11)","v":0},{"$f":"IF(AF13=0,0,(AF13*((LOG(AF13))/LOG(2))))","v":0},null,{"$f":"N13","v":221},{"$f":"COUNTIF(L23:L27,AI13)","v":0},{"$f":"AJ13/(AL4-AJ11)","v":0},{"$f":"IF(AK13=0,0,(AK13*((LOG(AK13))/LOG(2))))","v":0},null,{"$f":"N13","v":221},{"$f":"COUNTIF(L28:L32,AN13)","v":0},{"$f":"AO13/(AQ4-AO11)","v":0},{"$f":"IF(AP13=0,0,(AP13*((LOG(AP13))/LOG(2))))","v":0},null,{"$f":"N13","v":221},{"$f":"COUNTIF(L33:L37,AS13)","v":0},{"$f":"AT13/(AV4-AT11)","v":0},{"$f":"IF(AU13=0,0,(AU13*((LOG(AU13))/LOG(2))))","v":0}]
[12,1349,13,1375,13,1395,null,null,null,null,0,111,null,222,{"$f":"COUNTIF($L$7:$L$500,N14)","v":9},{"$f":"O14/$Q$4","v":0.29032258064516131},{"$f":"IF(P14=0,0,(P14*((LOG(P14))/LOG(2))))","v":-0.5180142509839053},null,null,{"$f":"N14","v":222},{"$f":"COUNTIF(L7:L11,T14)","v":0},{"$f":"U14/(W4-U11)","v":0},{"$f":"IF(V14=0,0,(V14*((LOG(V14))/LOG(2))))","v":0},null,{"$f":"N14","v":222},{"$f":"COUNTIF(L12:L16,Y14)","v":2},{"$f":"Z14/(AB4-Z11)","v":0.4},{"$f":"IF(AA14=0,0,(AA14*((LOG(AA14))/LOG(2))))","v":-0.52877123795494496},null,{"$f":"N14","v":222},{"$f":"COUNTIF(L17:L22,AD14)","v":0},{"$f":"AE14/(AG4-AE11)","v":0},{"$f":"IF(AF14=0,0,(AF14*((LOG(AF14))/LOG(2))))","v":0},null,{"$f":"N14","v":222},{"$f":"COUNTIF(L23:L27,AI14)","v":1},{"$f":"AJ14/(AL4-AJ11)","v":0.2},{"$f":"IF(AK14=0,0,(AK14*((LOG(AK14))/LOG(2))))","v":-0.46438561897747244},null,{"$f":"N14","v":222},{"$f":"COUNTIF(L28:L32,AN14)","v":1},{"$f":"AO14/(AQ4-AO11)","v":0.2},{"$f":"IF(AP14=0,0,(AP14*((LOG(AP14))/LOG(2))))","v":-0.46438561897747244},null,{"$f":"N14","v":222},{"$f":"COUNTIF(L33:L37,AS14)","v":5},{"$f":"AT14/(AV4-AT11)","v":1},{"$f":"IF(AU14=0,0,(AU14*((LOG(AU14))/LOG(2))))","v":0}]
[21,1505,22,1513,24,1520,null,null,null,null,0,222,null,null,null,{"$f":"SUM(P7:P14)","v":1},{"$f":"-SUM(Q7:Q14)","v":2.1254677790413594},null,null,null,null,{"$f":"SUM(V7:V14)","v":1},{"$f":"-SUM(W7:W14)","v":0.97095059445466869},null,null,null,{"$f":"SUM(AA7:AA14)","v":1},{"$f":"-SUM(AB7:AB14)","v":1.9219280948873623},null,null,null,{"$f":"SUM(AF7:AF14)","v":1},{"$f":"-SUM(AG7:AG14)","v":1.4591479170272446},null,null,null,{"$f":"SUM(AK7:AK14)","v":1},{"$f":"-SUM(AL7:AL14)","v":1.9219280948873623},null,null,null,{"$f":"SUM(AP7:AP14)","v":1},{"$f":"-SUM(AQ7:AQ14)","v":1.5219280948873624},null,null,null,{"$f":"SUM(AU7:AU14)","v":1},{"$f":"-SUM(AV7:AV14)","v":0}]
[12,1621,13,1633,24,1653,null,null,null,null,0,112,null,null,null,"U=",{"$f":"Q15/(LOG(Q4)/LOG(2))","v":0.42902372975918285},null,null,null,null,"U1=",{"$f":"W15/(LOG(W4)/LOG(2))","v":0.41816566007905159},null,null,null,"U2=",{"$f":"AB15/(LOG(AB4)/LOG(2))","v":0.82772937677064262},null,null,null,"U3=",{"$f":"AG15/(LOG(AG4)/LOG(2))","v":0.56447546787242353},null,null,null,"U4=",{"$f":"AL15/(LOG(AL4)/LOG(2))","v":0.82772937677064262},null,null,null,"U5=",{"$f":"AQ15/(LOG(AQ4)/LOG(2))","v":0.65545875354128547},null,null,null,"U6=",{"$f":"AV15/(LOG(AV4)/LOG(2))","v":0}]
[12,1751,24,1764,24,1771,null,null,null,null,0,122]
[12,1868,13,1885,24,1900,null,null,null,null,0,112]
[12,2013,13,2023,13,2042,null,null,null,null,0,111,null,"Total Target Seq"]
[12,2139,24,2164,24,2171,null,null,null,null,0,122,null,{"$f":"COUNTIF(L7:L37,G3)","v":0},null,5,5,6,5,5,5]
[12,2264,24,2280,24,2288,null,null,null,null,0,122,null,null,null,"% of reinforcement given in 6 equal intervals based on number of trials "]
[12,2390,13,2392,24,2408,null,null,null,null,0,112,null,null,null,"%_1","%_2","%_3","%_4","%_5","%_6"]
[12,2508,13,2523,24,2529,null,null,null,null,0,112,null,null,"target sequence",{"$f":"$G$3","v":211},{"$f":"$G$3","v":211},{"$f":"$G$3","v":211},{"$f":"$G$3","v":211},{"$f":"$G$3","v":211},{"$f":"$G$3","v":211}]
[12,2642,13,2650,13,2660,null,null,null,null,0,111,null,null,"total reinforcement",{"$f":"U11","v":0},{"$f":"Z11","v":0},{"$f":"AE11","v":0},{"$f":"AJ11","v":0},{"$f":"AO11","v":0},{"$f":"AT11","v":0}]
[21,2901,22,2908,24,2917,null,null,null,null,0,222,null,null,"% target"]
[12,3009,13,3033,13,3038,null,null,null,null,0,111,null,null,"CCRF"]
[12,3284,24,3324,24,3332,null,null,null,null,0,122,null,null,"% CCRf"]
[12,3476,13,3495,13,3543,null,null,null,null,0,111,null,null,"average response rate",{"$f":"F11/P20","v":147.4},{"$f":"(F16-F11)/Q20","v":183.2},{"$f":"(F22-F16)/R20","v":125.83333333333333},{"$f":"(F27-F22)/S20","v":184.8},{"$f":"(F32-F27)/T20","v":228.4},{"$f":"(F37-F32)/U20","v":3459.4}]
[12,3655,24,3667,24,3675,null,null,null,null,0,122]
[12,3777,13,3782,13,3790,null,null,null,null,0,111]
[12,4108,24,4116,24,4125,null,null,null,null,0,122]
[21,4456,22,4465,24,4474,null,null,null,null,0,222]
[21,4832,22,4840,24,4849,null,null,null,null,0,222]
[21,5286,22,5330,24,6046,null,null,null,null,0,222]
[21,8768,22,8777,24,8789,null,null,null,null,0,222]
[21,14299,22,14310,24,14352,null,null,null,null,0,222]
[21,21753,22,21762,24,21771,null,null,null,null,0,222]

{"sheet":"!L912A5B.axt","index":26,"n_rows":37,"n_cols":48,"rows_kept":37,"cut":false,"hidden":false,"merged":[[4,39,4,42],[5,39,5,40],[4,44,4,47],[5,44,5,45],[4,24,4,27],[5,24,5,25],[4,29,4,32],[5,29,5,30],[4,34,4,37],[5,34,5,35],[1,1,1,2],[5,13,5,14],[18,13,18,14],[19,13,19,14],[4,19,4,22],[5,19,5,20]]}
["Report for:!L912A5B.axt"]
["Date:","<date>"]
["Hen:","<hen>",null,null,null,"Correct Sequence",{"$f":"Start!J2","v":211},null,null,null,null,null,null,null,null,"Total Sequences in Data",{"$f":"4994-COUNTBLANK(L7:L5000)","v":31},null,null,null,null,"Total Sequences in Block Data",{"$f":"COUNTA(L7:L11)","v":5},null,null,null,"Total Sequences in Block Data",{"$f":"COUNTA(L12:L16)","v":5},null,null,null,"Total Sequences in Block Data",{"$f":"COUNTA(L17:L22)","v":6},null,null,null,"Total Sequences in Block Data",{"$f":"COUNTA(L23:L27)","v":5},null,null,null,"Total Sequences in Block Data",{"$f":"COUNTA(L28:L32)","v":5},null,null,null,"Total Sequences in Block Data",{"$f":"COUNTA(L33:L37)","v":5}]
[null,null,null,null,null,null,null,null,null,null,null,null,null,null,null,"Total Sequences in Summary",{"$f":"SUM(O7:O14)","v":31},null,null,null,null,"Total Sequences in Block Summary",{"$f":"SUM(U7:U14)","v":5},null,null,null,"Total Sequences in Block Summary",{"$f":"SUM(Z7:Z14)","v":5},null,null,null,"Total Sequences in Block Summary",{"$f":"SUM(AE7:AE14)","v":6},null,null,null,"Total Sequences in Block Summary",{"$f":"SUM(AJ7:AJ14)","v":5},null,null,null,"Total Sequences in Block Summary",{"$f":"SUM(AO7:AO14)","v":5},null,null,null,"Total Sequences in Block Summary",{"$f":"SUM(AT7:AT14)","v":5}]
[null,null,null,null,null,null,null,null,null,null,null,null,null,null,null,null,null,null,null,"Block 1",null,null,null,null,"Block 2",null,null,null,null,"Block 3",null,null,null,null,"Block 4",null,null,null,null,"Block 5",null,null,null,null,"Block 6"]
["Sequence\nComponent\n1","Time\n1","Sequence\nComponent\n2","Time\n2","Sequence\nComponent\n3","Time\n3","Sequence\nComponent\n4","Time\n4","Sequence\nComponent\n5","Time\n5","Correct?\n0=No 1=Yes","Sequence",null,"Frequency",null,"Relative Frequency","Variability",null,null,"Frequency",null,"Relative Frequency","Variability",null,"Frequency",null,"Relative Frequency","Variability",null,"Frequency",null,"Relative Frequency","Variability",null,"Frequency",null,"Relative Frequency","Variability",null,"Frequency",null,"Relative Frequency","Variability",null,"Frequency",null,"Relative Frequency","Variability"]
[12,12,24,27,24,33,null,null,null,null,0,122,null,111,{"$f":"COUNTIF($L$7:$L$500,N7)","v":11},{"$f":"O7/$Q$4","v":0.35483870967741937},{"$f":"IF(P7=0,0,(P7*((LOG(P7))/LOG(2))))","v":-0.53040037449178568},null,null,{"$f":"N7","v":111},{"$f":"COUNTIF(L7:L11,T7)","v":0},{"$f":"U7/(W4-U11)","v":0},{"$f":"IF(V7=0,0,(V7*((LOG(V7))/LOG(2))))","v":0},null,{"$f":"N7","v":111},{"$f":"COUNTIF(L12:L16,Y7)","v":2},{"$f":"Z7/(AB4-Z11)","v":0.4},{"$f":"IF(AA7=0,0,(AA7*((LOG(AA7))/LOG(2))))","v":-0.52877123795494496},null,{"$f":"N7","v":111},{"$f":"COUNTIF(L17:L22,AD7)","v":1},{"$f":"AE7/(AG4-AE11)","v":0.2},{"$f":"IF(AF7=0,0,(AF7*((LOG(AF7))/LOG(2))))","v":-0.46438561897747244},null,{"$f":"N7","v":111},{"$f":"COUNTIF(L23:L27,AI7)","v":3},{"$f":"AJ7/(AL4-AJ11)","v":0.6},{"$f":"IF(AK7=0,0,(AK7*((LOG(AK7))/LOG(2))))","v":-0.44217935649972373},null,{"$f":"N7","v":111},{"$f":"COUNTIF(L28:L32,AN7)","v":2},{"$f":"AO7/(AQ4-AO11)","v":0.4},{"$f":"IF(AP7=0,0,(AP7*((LOG(AP7))/LOG(2))))","v":-0.52877123795494496},null,{"$f":"N7","v":111},{"$f":"COUNTIF(L33:L37,AS7)","v":3},{"$f":"AT7/(AV4-AT11)","v":0.6},{"$f":"IF(AU7=0,0,(AU7*((LOG(AU7))/LOG(2))))","v":-0.44217935649972373}]
[21,153,11,220,22,241,null,null,null,null,0,212,null,112,{"$f":"COUNTIF($L$7:$L$500,N8)","v":3},{"$f":"O8/$Q$4","v":9.6774193548387094E-2},{"$f":"IF(P8=0,0,(P8*((LOG(P8))/LOG(2))))","v":-0.32605488480635986},null,null,{"$f":"N8","v":112},{"$f":"COUNTIF(L7:L11,T8)","v":1},{"$f":"U8/(W4-U11)","v":0.2},{"$f":"IF(V8=0,0,(V8*((LOG(V8))/LOG(2))))","v":-0.46438561897747244},null,{"$f":"N8","v":112},{"$f":"COUNTIF(L12:L16,Y8)","v":0},{"$f":"Z8/(AB4-Z11)","v":0},{"$f":"IF(AA8=0,0,(AA8*((LOG(AA8))/LOG(2))))","v":0},null,{"$f":"N8","v":112},{"$f":"COUNTIF(L17:L22,AD8)","v":1},{"$f":"AE8/(AG4-AE11)","v":0.2},{"$f":"IF(AF8=0,0,(AF8*((LOG(AF8))/LOG(2))))","v":-0.46438561897747244},null,{"$f":"N8","v":112},{"$f":"COUNTIF(L23:L27,AI8)","v":0},{"$f":"AJ8/(AL4-AJ11)","v":0},{"$f":"IF(AK8=0,0,(AK8*((LOG(AK8))/LOG(2))))","v":0},null,{"$f":"N8","v":112},{"$f":"COUNTIF(L28:L32,AN8)","v":0},{"$f":"AO8/(AQ4-AO11)","v":0},{"$f":"IF(AP8=0,0,(AP8*((LOG(AP8))/LOG(2))))","v":0},null,{"$f":"N8","v":112},{"$f":"COUNTIF(L33:L37,AS8)","v":1},{"$f":"AT8/(AV4-AT11)","v":0.2},{"$f":"IF(AU8=0,0,(AU8*((LOG(AU8))/LOG(2))))","v":-0.46438561897747244}]
[12,354,24,380,24,388,null,null,null,null,0,122,null,121,{"$f":"COUNTIF($L$7:$L$500,N9)","v":0},{"$f":"O9/$Q$4","v":0},{"$f":"IF(P9=0,0,(P9*((LOG(P9))/LOG(2))))","v":0},null,null,{"$f":"N9","v":121},{"$f":"COUNTIF(L7:L11,T9)","v":0},{"$f":"U9/(W4-U11)","v":0},{"$f":"IF(V9=0,0,(V9*((LOG(V9))/LOG(2))))","v":0},null,{"$f":"N9","v":121},{"$f":"COUNTIF(L12:L16,Y9)","v":0},{"$f":"Z9/(AB4-Z11)","v":0},{"$f":"IF(AA9=0,0,(AA9*((LOG(AA9))/LOG(2))))","v":0},null,{"$f":"N9","v":121},{"$f":"COUNTIF(L17:L22,AD9)","v":0},{"$f":"AE9/(AG4-AE11)","v":0},{"$f":"IF(AF9=0,0,(AF9*((LOG(AF9))/LOG(2))))","v":0},null,{"$f":"N9","v":121},{"$f":"COUNTIF(L23:L27,AI9)","v":0},{"$f":"AJ9/(AL4-AJ11)","v":0},{"$f":"IF(AK9=0,0,(AK9*((LOG(AK9))/LOG(2))))","v":0},null,{"$f":"N9","v":121},{"$f":"COUNTIF(L28:L32,AN9)","v":0},{"$f":"AO9/(AQ4-AO11)","v":0},{"$f":"IF(AP9=0,0,(AP9*((LOG(AP9))/LOG(2))))","v":0},null,{"$f":"N9","v":121},{"$f":"COUNTIF(L33:L37,AS9)","v":0},{"$f":"AT9/(AV4-AT11)","v":0},{"$f":"IF(AU9=0,0,(AU9*((LOG(AU9))/LOG(2))))","v":0}]
[12,491,13,496,24,515,null,null,null,null,0,112,null,122,{"$f":"COUNTIF($L$7:$L$500,N10)","v":8},{"$f":"O10/$Q$4","v":0.25806451612903225},{"$f":"IF(P10=0,0,(P10*((LOG(P10))/LOG(2))))","v":-0.50430872526112902},null,null,{"$f":"N10","v":122},{"$f":"COUNTIF(L7:L11,T10)","v":2},{"$f":"U10/(W4-U11)","v":0.4},{"$f":"IF(V10=0,0,(V10*((LOG(V10))/LOG(2))))","v":-0.52877123795494496},null,{"$f":"N10","v":122},{"$f":"COUNTIF(L12:L16,Y10)","v":1},{"$f":"Z10/(AB4-Z11)","v":0.2},{"$f":"IF(AA10=0,0,(AA10*((LOG(AA10))/LOG(2))))","v":-0.46438561897747244},null,{"$f":"N10","v":122},{"$f":"COUNTIF(L17:L22,AD10)","v":2},{"$f":"AE10/(AG4-AE11)","v":0.4},{"$f":"IF(AF10=0,0,(AF10*((LOG(AF10))/LOG(2))))","v":-0.52877123795494496},null,{"$f":"N10","v":122},{"$f":"COUNTIF(L23:L27,AI10)","v":1},{"$f":"AJ10/(AL4-AJ11)","v":0.2},{"$f":"IF(AK10=0,0,(AK10*((LOG(AK10))/LOG(2))))","v":-0.46438561897747244},null,{"$f":"N10","v":122},{"$f":"COUNTIF(L28:L32,AN10)","v":2},{"$f":"AO10/(AQ4-AO11)","v":0.4},{"$f":"IF(AP10=0,0,(AP10*((LOG(AP10))/LOG(2))))","v":-0.52877123795494496},null,{"$f":"N10","v":122},{"$f":"COUNTIF(L33:L37,AS10)","v":0},{"$f":"AT10/(AV4-AT11)","v":0},{"$f":"IF(AU10=0,0,(AU10*((LOG(AU10))/LOG(2))))","v":0}]
[21,639,22,646,24,654,null,null,null,null,0,222,null,211,{"$f":"COUNTIF($L$7:$L$500,N11)","v":1},{"$f":"O11/$Q$4","v":3.2258064516129031E-2},{"$f":"IF(P11=0,0,(P11*((LOG(P11))/LOG(2))))","v":-0.15981278420602821},null,null,{"$f":"N11","v":211},{"$f":"COUNTIF(L7:L11,T11)","v":0},null,null,null,{"$f":"N11","v":211},{"$f":"COUNTIF(L12:L16,Y11)","v":0},null,null,null,{"$f":"N11","v":211},{"$f":"COUNTIF(L17:L22,AD11)","v":1},null,null,null,{"$f":"N11","v":211},{"$f":"COUNTIF(L23:L27,AI11)","v":0},null,null,null,{"$f":"N11","v":211},{"$f":"COUNTIF(L28:L32,AN11)","v":0},null,null,null,{"$f":"N11","v":211},{"$f":"COUNTIF(L33:L37,AS11)","v":0}]
[12,759,24,771,24,778,null,null,null,null,0,122,null,212,{"$f":"COUNTIF($L$7:$L$500,N12)","v":1},{"$f":"O12/$Q$4","v":3.2258064516129031E-2},{"$f":"IF(P12=0,0,(P12*((LOG(P12))/LOG(2))))","v":-0.15981278420602821},null,null,{"$f":"N12","v":212},{"$f":"COUNTIF(L7:L11,T12)","v":1},{"$f":"U12/(W4-U11)","v":0.2},{"$f":"IF(V12=0,0,(V12*((LOG(V12))/LOG(2))))","v":-0.46438561897747244},null,{"$f":"N12","v":212},{"$f":"COUNTIF(L12:L16,Y12)","v":0},{"$f":"Z12/(AB4-Z11)","v":0},{"$f":"IF(AA12=0,0,(AA12*((LOG(AA12))/LOG(2))))","v":0},null,{"$f":"N12","v":212},{"$f":"COUNTIF(L17:L22,AD12)","v":0},{"$f":"AE12/(AG4-AE11)","v":0},{"$f":"IF(AF12=0,0,(AF12*((LOG(AF12))/LOG(2))))","v":0},null,{"$f":"N12","v":212},{"$f":"COUNTIF(L23:L27,AI12)","v":0},{"$f":"AJ12/(AL4-AJ11)","v":0},{"$f":"IF(AK12=0,0,(AK12*((LOG(AK12))/LOG(2))))","v":0},null,{"$f":"N12","v":212},{"$f":"COUNTIF(L28:L32,AN12)","v":0},{"$f":"AO12/(AQ4-AO11)","v":0},{"$f":"IF(AP12=0,0,(AP12*((LOG(AP12))/LOG(2))))","v":0},null,{"$f":"N12","v":212},{"$f":"COUNTIF(L33:L37,AS12)","v":0},{"$f":"AT12/(AV4-AT11)","v":0},{"$f":"IF(AU12=0,0,(AU12*((LOG(AU12))/LOG(2))))","v":0}]
[12,878,13,907,13,914,null,null,null,null,0,111,null,221,{"$f":"COUNTIF($L$7:$L$500,N13)","v":0},{"$f":"O13/$Q$4","v":0},{"$f":"IF(P13=0,0,(P13*((LOG(P13))/LOG(2))))","v":0},null,null,{"$f":"N13","v":221},{"$f":"COUNTIF(L7:L11,T13)","v":0},{"$f":"U13/(W4-U11)","v":0},{"$f":"IF(V13=0,0,(V13*((LOG(V13))/LOG(2))))","v":0},null,{"$f":"N13","v":221},{"$f":"COUNTIF(L12:L16,Y13)","v":0},{"$f":"Z13/(AB4-Z11)","v":0},{"$f":"IF(AA13=0,0,(AA13*((LOG(AA13))/LOG(2))))","v":0},null,{"$f":"N13","v":221},{"$f":"COUNTIF(L17:L22,AD13)","v":0},{"$f":"AE13/(AG4-AE11)","v":0},{"$f":"IF(AF13=0,0,(AF13*((LOG(AF13))/LOG(2))))","v":0},null,{"$f":"N13","v":221},{"$f":"COUNTIF(L23:L27,AI13)","v":0},{"$f":"AJ13/(AL4-AJ11)","v":0},{"$f":"IF(AK13=0,0,(AK13*((LOG(AK13))/LOG(2))))","v":0},null,{"$f":"N13","v":221},{"$f":"COUNTIF(L28:L32,AN13)","v":0},{"$f":"AO13/(AQ4-AO11)","v":0},{"$f":"IF(AP13=0,0,(AP13*((LOG(AP13))/LOG(2))))","v":0},null,{"$f":"N13","v":221},{"$f":"COUNTIF(L33:L37,AS13)","v":0},{"$f":"AT13/(AV4-AT11)","v":0},{"$f":"IF(AU13=0,0,(AU13*((LOG(AU13))/LOG(2))))","v":0}]
[12,1008,13,1011,13,1021,null,null,null,null,0,111,null,222,{"$f":"COUNTIF($L$7:$L$500,N14)","v":7},{"$f":"O14/$Q$4","v":0.22580645161290322},{"$f":"IF(P14=0,0,(P14*((LOG(P14))/LOG(2))))","v":-0.48477063607435156},null,null,{"$f":"N14","v":222},{"$f":"COUNTIF(L7:L11,T14)","v":1},{"$f":"U14/(W4-U11)","v":0.2},{"$f":"IF(V14=0,0,(V14*((LOG(V14))/LOG(2))))","v":-0.46438561897747244},null,{"$f":"N14","v":222},{"$f":"COUNTIF(L12:L16,Y14)","v":2},{"$f":"Z14/(AB4-Z11)","v":0.4},{"$f":"IF(AA14=0,0,(AA14*((LOG(AA14))/LOG(2))))","v":-0.52877123795494496},null,{"$f":"N14","v":222},{"$f":"COUNTIF(L17:L22,AD14)","v":1},{"$f":"AE14/(AG4-AE11)","v":0.2},{"$f":"IF(AF14=0,0,(AF14*((LOG(AF14))/LOG(2))))","v":-0.46438561897747244},null,{"$f":"N14","v":222},{"$f":"COUNTIF(L23:L27,AI14)","v":1},{"$f":"AJ14/(AL4-AJ11)","v":0.2},{"$f":"IF(AK14=0,0,(AK14*((LOG(AK14))/LOG(2))))","v":-0.46438561897747244},null,{"$f":"N14","v":222},{"$f":"COUNTIF(L28:L32,AN14)","v":1},{"$f":"AO14/(AQ4-AO11)","v":0.2},{"$f":"IF(AP14=0,0,(AP14*((LOG(AP14))/LOG(2))))","v":-0.46438561897747244},null,{"$f":"N14","v":222},{"$f":"COUNTIF(L33:L37,AS14)","v":1},{"$f":"AT14/(AV4-AT11)","v":0.2},{"$f":"IF(AU14=0,0,(AU14*((LOG(AU14))/LOG(2))))","v":-0.46438561897747244}]
[21,1138,22,1145,24,1153,null,null,null,null,0,222,null,null,null,{"$f":"SUM(P7:P14)","v":1},{"$f":"-SUM(Q7:Q14)","v":2.1651601890456824},null,null,null,null,{"$f":"SUM(V7:V14)","v":1},{"$f":"-SUM(W7:W14)","v":1.9219280948873623},null,null,null,{"$f":"SUM(AA7:AA14)","v":1},{"$f":"-SUM(AB7:AB14)","v":1.5219280948873624},null,null,null,{"$f":"SUM(AF7:AF14)","v":1},{"$f":"-SUM(AG7:AG14)","v":1.9219280948873623},null,null,null,{"$f":"SUM(AK7:AK14)","v":1},{"$f":"-SUM(AL7:AL14)","v":1.3709505944546687},null,null,null,{"$f":"SUM(AP7:AP14)","v":1},{"$f":"-SUM(AQ7:AQ14)","v":1.5219280948873624},null,null,null,{"$f":"SUM(AU7:AU14)","v":1},{"$f":"-SUM(AV7:AV14)","v":1.3709505944546687}]
[21,1289,22,1297,24,1305,null,null,null,null,0,222,null,null,null,"U=",{"$f":"Q15/(LOG(Q4)/LOG(2))","v":0.43703560646279765},null,null,null,null,"U1=",{"$f":"W15/(LOG(W4)/LOG(2))","v":0.82772937677064262},null,null,null,"U2=",{"$f":"AB15/(LOG(AB4)/LOG(2))","v":0.65545875354128547},null,null,null,"U3=",{"$f":"AG15/(LOG(AG4)/LOG(2))","v":0.74350327881011058},null,null,null,"U4=",{"$f":"AL15/(LOG(AL4)/LOG(2))","v":0.5904362833084088},null,null,null,"U5=",{"$f":"AQ15/(LOG(AQ4)/LOG(2))","v":0.65545875354128547},null,null,null,"U6=",{"$f":"AV15/(LOG(AV4)/LOG(2))","v":0.5904362833084088}]
[21,1482,22,1555,24,1563,null,null,null,null,0,222]
[12,1660,13,1681,24,1740,null,null,null,null,0,112]
[21,1989,11,2028,11,2030,null,null,null,null,0,211,null,"Total Target Seq"]
[12,2270,24,2278,24,2284,null,null,null,null,0,122,null,{"$f":"COUNTIF(L7:L37,G3)","v":1},null,5,5,6,5,5,5]
[12,2379,24,2395,24,2412,null,null,null,null,0,122,null,null,null,"% of reinforcement given in 6 equal intervals based on number of trials "]
[12,2514,13,2516,13,2523,null,null,null,null,0,111,null,null,null,"%_1","%_2","%_3","%_4","%_5","%_6"]
[21,2634,22,2642,24,2650,null,null,null,null,0,222,null,null,"target sequence",{"$f":"$G$3","v":211},{"$f":"$G$3","v":211},{"$f":"$G$3","v":211},{"$f":"$G$3","v":211},{"$f":"$G$3","v":211},{"$f":"$G$3","v":211}]
[12,2771,24,2775,24,2781,null,null,null,null,0,122,null,null,"total reinforcement",{"$f":"U11","v":0},{"$f":"Z11","v":0},{"$f":"AE11","v":1},{"$f":"AJ11","v":0},{"$f":"AO11","v":0},{"$f":"AT11","v":0}]
[12,2927,13,2996,13,3004,null,null,null,null,0,111,null,null,"% target"]
[12,3102,13,3106,13,3108,null,null,null,null,0,111,null,null,"CCRF"]
[12,3253,13,3258,13,3265,null,null,null,null,0,111,null,null,"% CCRf"]
[12,3375,13,3411,13,3420,null,null,null,null,0,111,null,null,"average response rate",{"$f":"F11/P20","v":130.80000000000001},{"$f":"(F16-F11)/Q20","v":130.19999999999999},{"$f":"(F22-F16)/R20","v":203},{"$f":"(F27-F22)/S20","v":148.4},{"$f":"(F32-F27)/T20","v":267.60000000000002},{"$f":"(F37-F32)/U20","v":407.4}]
[21,3528,22,3534,24,3543,null,null,null,null,0,222]
[12,3653,13,3661,13,3680,null,null,null,null,0,111]
[12,3880,24,3900,24,3908,null,null,null,null,0,122]
[12,4579,24,4588,24,4603,null,null,null,null,0,122]
[12,4731,13,4735,13,4740,null,null,null,null,0,111]
[12,4962,13,5003,24,5025,null,null,null,null,0,112]
[12,5173,13,5182,13,5194,null,null,null,null,0,111]
[21,6151,22,6159,24,6169,null,null,null,null,0,222]
[12,6617,13,6623,13,6640,null,null,null,null,0,111]

{"sheet":"!L91392B.axt","index":27,"n_rows":32,"n_cols":48,"rows_kept":32,"cut":false,"hidden":false,"merged":[[4,39,4,42],[5,39,5,40],[4,44,4,47],[5,44,5,45],[4,24,4,27],[5,24,5,25],[4,29,4,32],[5,29,5,30],[4,34,4,37],[5,34,5,35],[1,1,1,2],[5,13,5,14],[18,13,18,14],[19,13,19,14],[4,19,4,22],[5,19,5,20]]}
["Report for:!L91392B.axt"]
["Date:","<date>"]
["Hen:","<hen>",null,null,null,"Correct Sequence",{"$f":"Start!J2","v":211},null,null,null,null,null,null,null,null,"Total Sequences in Data",{"$f":"4994-COUNTBLANK(L7:L5000)","v":26},null,null,null,null,"Total Sequences in Block Data",{"$f":"COUNTA(L7:L10)","v":4},null,null,null,"Total Sequences in Block Data",{"$f":"COUNTA(L11:L15)","v":5},null,null,null,"Total Sequences in Block Data",{"$f":"COUNTA(L16:L19)","v":4},null,null,null,"Total Sequences in Block Data",{"$f":"COUNTA(L20:L23)","v":4},null,null,null,"Total Sequences in Block Data",{"$f":"COUNTA(L24:L28)","v":5},null,null,null,"Total Sequences in Block Data",{"$f":"COUNTA(L29:L32)","v":4}]
[null,null,null,null,null,null,null,null,null,null,null,null,null,null,null,"Total Sequences in Summary",{"$f":"SUM(O7:O14)","v":26},null,null,null,null,"Total Sequences in Block Summary",{"$f":"SUM(U7:U14)","v":4},null,null,null,"Total Sequences in Block Summary",{"$f":"SUM(Z7:Z14)","v":5},null,null,null,"Total Sequences in Block Summary",{"$f":"SUM(AE7:AE14)","v":4},null,null,null,"Total Sequences in Block Summary",{"$f":"SUM(AJ7:AJ14)","v":4},null,null,null,"Total Sequences in Block Summary",{"$f":"SUM(AO7:AO14)","v":5},null,null,null,"Total Sequences in Block Summary",{"$f":"SUM(AT7:AT14)","v":4}]
[null,null,null,null,null,null,null,null,null,null,null,null,null,null,null,null,null,null,null,"Block 1",null,null,null,null,"Block 2",null,null,null,null,"Block 3",null,null,null,null,"Block 4",null,null,null,null,"Block 5",null,null,null,null,"Block 6"]
["Sequence\nComponent\n1","Time\n1","Sequence\nComponent\n2","Time\n2","Sequence\nComponent\n3","Time\n3","Sequence\nComponent\n4","Time\n4","Sequence\nComponent\n5","Time\n5","Correct?\n0=No 1=Yes","Sequence",null,"Frequency",null,"Relative Frequency","Variability",null,null,"Frequency",null,"Relative Frequency","Variability",null,"Frequency",null,"Relative Frequency","Variability",null,"Frequency",null,"Relative Frequency","Variability",null,"Frequency",null,"Relative Frequency","Variability",null,"Frequency",null,"Relative Frequency","Variability",null,"Frequency",null,"Relative Frequency","Variability"]
[21,33,22,40,24,48,null,null,null,null,0,222,null,111,{"$f":"COUNTIF($L$7:$L$500,N7)","v":4},{"$f":"O7/$Q$4","v":0.15384615384615385},{"$f":"IF(P7=0,0,(P7*((LOG(P7))/LOG(2))))","v":-0.4154522643293988},null,null,{"$f":"N7","v":111},{"$f":"COUNTIF(L7:L10,T7)","v":1},{"$f":"U7/(W4-U11)","v":0.25},{"$f":"IF(V7=0,0,(V7*((LOG(V7))/LOG(2))))","v":-0.5},null,{"$f":"N7","v":111},{"$f":"COUNTIF(L11:L15,Y7)","v":1},{"$f":"Z7/(AB4-Z11)","v":0.25},{"$f":"IF(AA7=0,0,(AA7*((LOG(AA7))/LOG(2))))","v":-0.5},null,{"$f":"N7","v":111},{"$f":"COUNTIF(L16:L19,AD7)","v":1},{"$f":"AE7/(AG4-AE11)","v":0.25},{"$f":"IF(AF7=0,0,(AF7*((LOG(AF7))/LOG(2))))","v":-0.5},null,{"$f":"N7","v":111},{"$f":"COUNTIF(L20:L23,AI7)","v":0},{"$f":"AJ7/(AL4-AJ11)","v":0},{"$f":"IF(AK7=0,0,(AK7*((LOG(AK7))/LOG(2))))","v":0},null,{"$f":"N7","v":111},{"$f":"COUNTIF(L24:L28,AN7)","v":1},{"$f":"AO7/(AQ4-AO11)","v":0.2},{"$f":"IF(AP7=0,0,(AP7*((LOG(AP7))/LOG(2))))","v":-0.46438561897747244},null,{"$f":"N7","v":111},{"$f":"COUNTIF(L29:L32,AS7)","v":0},{"$f":"AT7/(AV4-AT11)","v":0},{"$f":"IF(AU7=0,0,(AU7*((LOG(AU7))/LOG(2))))","v":0}]
[12,141,13,161,13,163,null,null,null,null,0,111,null,112,{"$f":"COUNTIF($L$7:$L$500,N8)","v":3},{"$f":"O8/$Q$4","v":0.11538461538461539},{"$f":"IF(P8=0,0,(P8*((LOG(P8))/LOG(2))))","v":-0.35947814047153104},null,null,{"$f":"N8","v":112},{"$f":"COUNTIF(L7:L10,T8)","v":1},{"$f":"U8/(W4-U11)","v":0.25},{"$f":"IF(V8=0,0,(V8*((LOG(V8))/LOG(2))))","v":-0.5},null,{"$f":"N8","v":112},{"$f":"COUNTIF(L11:L15,Y8)","v":0},{"$f":"Z8/(AB4-Z11)","v":0},{"$f":"IF(AA8=0,0,(AA8*((LOG(AA8))/LOG(2))))","v":0},null,{"$f":"N8","v":112},{"$f":"COUNTIF(L16:L19,AD8)","v":1},{"$f":"AE8/(AG4-AE11)","v":0.25},{"$f":"IF(AF8=0,0,(AF8*((LOG(AF8))/LOG(2))))","v":-0.5},null,{"$f":"N8","v":112},{"$f":"COUNTIF(L20:L23,AI8)","v":0},{"$f":"AJ8/(AL4-AJ11)","v":0},{"$f":"IF(AK8=0,0,(AK8*((LOG(AK8))/LOG(2))))","v":0},null,{"$f":"N8","v":112},{"$f":"COUNTIF(L24:L28,AN8)","v":1},{"$f":"AO8/(AQ4-AO11)","v":0.2},{"$f":"IF(AP8=0,0,(AP8*((LOG(AP8))/LOG(2))))","v":-0.46438561897747244},null,{"$f":"N8","v":112},{"$f":"COUNTIF(L29:L32,AS8)","v":0},{"$f":"AT8/(AV4-AT11)","v":0},{"$f":"IF(AU8=0,0,(AU8*((LOG(AU8))/LOG(2))))","v":0}]
[21,331,22,343,24,352,null,null,null,null,0,222,null,121,{"$f":"COUNTIF($L$7:$L$500,N9)","v":0},{"$f":"O9/$Q$4","v":0},{"$f":"IF(P9=0,0,(P9*((LOG(P9))/LOG(2))))","v":0},null,null,{"$f":"N9","v":121},{"$f":"COUNTIF(L7:L10,T9)","v":0},{"$f":"U9/(W4-U11)","v":0},{"$f":"IF(V9=0,0,(V9*((LOG(V9))/LOG(2))))","v":0},null,{"$f":"N9","v":121},{"$f":"COUNTIF(L11:L15,Y9)","v":0},{"$f":"Z9/(AB4-Z11)","v":0},{"$f":"IF(AA9=0,0,(AA9*((LOG(AA9))/LOG(2))))","v":0},null,{"$f":"N9","v":121},{"$f":"COUNTIF(L16:L19,AD9)","v":0},{"$f":"AE9/(AG4-AE11)","v":0},{"$f":"IF(AF9=0,0,(AF9*((LOG(AF9))/LOG(2))))","v":0},null,{"$f":"N9","v":121},{"$f":"COUNTIF(L20:L23,AI9)","v":0},{"$f":"AJ9/(AL4-AJ11)","v":0},{"$f":"IF(AK9=0,0,(AK9*((LOG(AK9))/LOG(2))))","v":0},null,{"$f":"N9","v":121},{"$f":"COUNTIF(L24:L28,AN9)","v":0},{"$f":"AO9/(AQ4-AO11)","v":0},{"$f":"IF(AP9=0,0,(AP9*((LOG(AP9))/LOG(2))))","v":0},null,{"$f":"N9","v":121},{"$f":"COUNTIF(L29:L32,AS9)","v":0},{"$f":"AT9/(AV4-AT11)","v":0},{"$f":"IF(AU9=0,0,(AU9*((LOG(AU9))/LOG(2))))","v":0}]
[12,489,13,496,24,521,null,null,null,null,0,112,null,122,{"$f":"COUNTIF($L$7:$L$500,N10)","v":6},{"$f":"O10/$Q$4","v":0.23076923076923078},{"$f":"IF(P10=0,0,(P10*((LOG(P10))/LOG(2))))","v":-0.48818705017383146},null,null,{"$f":"N10","v":122},{"$f":"COUNTIF(L7:L10,T10)","v":0},{"$f":"U10/(W4-U11)","v":0},{"$f":"IF(V10=0,0,(V10*((LOG(V10))/LOG(2))))","v":0},null,{"$f":"N10","v":122},{"$f":"COUNTIF(L11:L15,Y10)","v":1},{"$f":"Z10/(AB4-Z11)","v":0.25},{"$f":"IF(AA10=0,0,(AA10*((LOG(AA10))/LOG(2))))","v":-0.5},null,{"$f":"N10","v":122},{"$f":"COUNTIF(L16:L19,AD10)","v":0},{"$f":"AE10/(AG4-AE11)","v":0},{"$f":"IF(AF10=0,0,(AF10*((LOG(AF10))/LOG(2))))","v":0},null,{"$f":"N10","v":122},{"$f":"COUNTIF(L20:L23,AI10)","v":2},{"$f":"AJ10/(AL4-AJ11)","v":0.5},{"$f":"IF(AK10=0,0,(AK10*((LOG(AK10))/LOG(2))))","v":-0.5},null,{"$f":"N10","v":122},{"$f":"COUNTIF(L24:L28,AN10)","v":1},{"$f":"AO10/(AQ4-AO11)","v":0.2},{"$f":"IF(AP10=0,0,(AP10*((LOG(AP10))/LOG(2))))","v":-0.46438561897747244},null,{"$f":"N10","v":122},{"$f":"COUNTIF(L29:L32,AS10)","v":2},{"$f":"AT10/(AV4-AT11)","v":0.5},{"$f":"IF(AU10=0,0,(AU10*((LOG(AU10))/LOG(2))))","v":-0.5}]
[21,709,22,717,24,725,null,null,null,null,0,222,null,211,{"$f":"COUNTIF($L$7:$L$500,N11)","v":1},{"$f":"O11/$Q$4","v":3.8461538461538464E-2},{"$f":"IF(P11=0,0,(P11*((LOG(P11))/LOG(2))))","v":-0.18078614300542661},null,null,{"$f":"N11","v":211},{"$f":"COUNTIF(L7:L10,T11)","v":0},null,null,null,{"$f":"N11","v":211},{"$f":"COUNTIF(L11:L15,Y11)","v":1},null,null,null,{"$f":"N11","v":211},{"$f":"COUNTIF(L16:L19,AD11)","v":0},null,null,null,{"$f":"N11","v":211},{"$f":"COUNTIF(L20:L23,AI11)","v":0},null,null,null,{"$f":"N11","v":211},{"$f":"COUNTIF(L24:L28,AN11)","v":0},null,null,null,{"$f":"N11","v":211},{"$f":"COUNTIF(L29:L32,AS11)","v":0}]
[12,1003,24,1012,24,1019,null,null,null,null,0,122,null,212,{"$f":"COUNTIF($L$7:$L$500,N12)","v":0},{"$f":"O12/$Q$4","v":0},{"$f":"IF(P12=0,0,(P12*((LOG(P12))/LOG(2))))","v":0},null,null,{"$f":"N12","v":212},{"$f":"COUNTIF(L7:L10,T12)","v":0},{"$f":"U12/(W4-U11)","v":0},{"$f":"IF(V12=0,0,(V12*((LOG(V12))/LOG(2))))","v":0},null,{"$f":"N12","v":212},{"$f":"COUNTIF(L11:L15,Y12)","v":0},{"$f":"Z12/(AB4-Z11)","v":0},{"$f":"IF(AA12=0,0,(AA12*((LOG(AA12))/LOG(2))))","v":0},null,{"$f":"N12","v":212},{"$f":"COUNTIF(L16:L19,AD12)","v":0},{"$f":"AE12/(AG4-AE11)","v":0},{"$f":"IF(AF12=0,0,(AF12*((LOG(AF12))/LOG(2))))","v":0},null,{"$f":"N12","v":212},{"$f":"COUNTIF(L20:L23,AI12)","v":0},{"$f":"AJ12/(AL4-AJ11)","v":0},{"$f":"IF(AK12=0,0,(AK12*((LOG(AK12))/LOG(2))))","v":0},null,{"$f":"N12","v":212},{"$f":"COUNTIF(L24:L28,AN12)","v":0},{"$f":"AO12/(AQ4-AO11)","v":0},{"$f":"IF(AP12=0,0,(AP12*((LOG(AP12))/LOG(2))))","v":0},null,{"$f":"N12","v":212},{"$f":"COUNTIF(L29:L32,AS12)","v":0},{"$f":"AT12/(AV4-AT11)","v":0},{"$f":"IF(AU12=0,0,(AU12*((LOG(AU12))/LOG(2))))","v":0}]
[21,1391,11,1451,11,1461,null,null,null,null,0,211,null,221,{"$f":"COUNTIF($L$7:$L$500,N13)","v":0},{"$f":"O13/$Q$4","v":0},{"$f":"IF(P13=0,0,(P13*((LOG(P13))/LOG(2))))","v":0},null,null,{"$f":"N13","v":221},{"$f":"COUNTIF(L7:L10,T13)","v":0},{"$f":"U13/(W4-U11)","v":0},{"$f":"IF(V13=0,0,(V13*((LOG(V13))/LOG(2))))","v":0},null,{"$f":"N13","v":221},{"$f":"COUNTIF(L11:L15,Y13)","v":0},{"$f":"Z13/(AB4-Z11)","v":0},{"$f":"IF(AA13=0,0,(AA13*((LOG(AA13))/LOG(2))))","v":0},null,{"$f":"N13","v":221},{"$f":"COUNTIF(L16:L19,AD13)","v":0},{"$f":"AE13/(AG4-AE11)","v":0},{"$f":"IF(AF13=0,0,(AF13*((LOG(AF13))/LOG(2))))","v":0},null,{"$f":"N13","v":221},{"$f":"COUNTIF(L20:L23,AI13)","v":0},{"$f":"AJ13/(AL4-AJ11)","v":0},{"$f":"IF(AK13=0,0,(AK13*((LOG(AK13))/LOG(2))))","v":0},null,{"$f":"N13","v":221},{"$f":"COUNTIF(L24:L28,AN13)","v":0},{"$f":"AO13/(AQ4-AO11)","v":0},{"$f":"IF(AP13=0,0,(AP13*((LOG(AP13))/LOG(2))))","v":0},null,{"$f":"N13","v":221},{"$f":"COUNTIF(L29:L32,AS13)","v":0},{"$f":"AT13/(AV4-AT11)","v":0},{"$f":"IF(AU13=0,0,(AU13*((LOG(AU13))/LOG(2))))","v":0}]
[21,1601,22,1608,24,1628,null,null,null,null,0,222,null,222,{"$f":"COUNTIF($L$7:$L$500,N14)","v":12},{"$f":"O14/$Q$4","v":0.46153846153846156},{"$f":"IF(P14=0,0,(P14*((LOG(P14))/LOG(2))))","v":-0.51483563880920125},null,null,{"$f":"N14","v":222},{"$f":"COUNTIF(L7:L10,T14)","v":2},{"$f":"U14/(W4-U11)","v":0.5},{"$f":"IF(V14=0,0,(V14*((LOG(V14))/LOG(2))))","v":-0.5},null,{"$f":"N14","v":222},{"$f":"COUNTIF(L11:L15,Y14)","v":2},{"$f":"Z14/(AB4-Z11)","v":0.5},{"$f":"IF(AA14=0,0,(AA14*((LOG(AA14))/LOG(2))))","v":-0.5},null,{"$f":"N14","v":222},{"$f":"COUNTIF(L16:L19,AD14)","v":2},{"$f":"AE14/(AG4-AE11)","v":0.5},{"$f":"IF(AF14=0,0,(AF14*((LOG(AF14))/LOG(2))))","v":-0.5},null,{"$f":"N14","v":222},{"$f":"COUNTIF(L20:L23,AI14)","v":2},{"$f":"AJ14/(AL4-AJ11)","v":0.5},{"$f":"IF(AK14=0,0,(AK14*((LOG(AK14))/LOG(2))))","v":-0.5},null,{"$f":"N14","v":222},{"$f":"COUNTIF(L24:L28,AN14)","v":2},{"$f":"AO14/(AQ4-AO11)","v":0.4},{"$f":"IF(AP14=0,0,(AP14*((LOG(AP14))/LOG(2))))","v":-0.52877123795494496},null,{"$f":"N14","v":222},{"$f":"COUNTIF(L29:L32,AS14)","v":2},{"$f":"AT14/(AV4-AT11)","v":0.5},{"$f":"IF(AU14=0,0,(AU14*((LOG(AU14))/LOG(2))))","v":-0.5}]
[12,1738,13,1757,13,1770,null,null,null,null,0,111,null,null,null,{"$f":"SUM(P7:P14)","v":1},{"$f":"-SUM(Q7:Q14)","v":1.958739236789389},null,null,null,null,{"$f":"SUM(V7:V14)","v":1},{"$f":"-SUM(W7:W14)","v":1.5},null,null,null,{"$f":"SUM(AA7:AA14)","v":1},{"$f":"-SUM(AB7:AB14)","v":1.5},null,null,null,{"$f":"SUM(AF7:AF14)","v":1},{"$f":"-SUM(AG7:AG14)","v":1.5},null,null,null,{"$f":"SUM(AK7:AK14)","v":1},{"$f":"-SUM(AL7:AL14)","v":1},null,null,null,{"$f":"SUM(AP7:AP14)","v":1},{"$f":"-SUM(AQ7:AQ14)","v":1.9219280948873623},null,null,null,{"$f":"SUM(AU7:AU14)","v":1},{"$f":"-SUM(AV7:AV14)","v":1}]
[12,1871,13,1892,24,1901,null,null,null,null,0,112,null,null,null,"U=",{"$f":"Q15/(LOG(Q4)/LOG(2))","v":0.41671404256706907},null,null,null,null,"U1=",{"$f":"W15/(LOG(W4)/LOG(2))","v":0.75},null,null,null,"U2=",{"$f":"AB15/(LOG(AB4)/LOG(2))","v":0.64601483711008945},null,null,null,"U3=",{"$f":"AG15/(LOG(AG4)/LOG(2))","v":0.75},null,null,null,"U4=",{"$f":"AL15/(LOG(AL4)/LOG(2))","v":0.5},null,null,null,"U5=",{"$f":"AQ15/(LOG(AQ4)/LOG(2))","v":0.82772937677064262},null,null,null,"U6=",{"$f":"AV15/(LOG(AV4)/LOG(2))","v":0.5}]
[21,2007,22,2015,24,2023,null,null,null,null,0,222]
[21,2183,22,2191,24,2201,null,null,null,null,0,222]
[12,2299,13,2319,13,2334,null,null,null,null,0,111,null,"Total Target Seq"]
[12,2429,24,2449,24,2458,null,null,null,null,0,122,null,{"$f":"COUNTIF(L7:L32,G3)","v":1},null,4,5,4,4,5,4]
[21,2674,22,2682,24,2690,null,null,null,null,0,222,null,null,null,"% of reinforcement given in 6 equal intervals based on number of trials "]
[21,2816,22,2832,24,2845,null,null,null,null,0,222,null,null,null,"%_1","%_2","%_3","%_4","%_5","%_6"]
[12,3143,24,3158,24,3165,null,null,null,null,0,122,null,null,"target sequence",{"$f":"$G$3","v":211},{"$f":"$G$3","v":211},{"$f":"$G$3","v":211},{"$f":"$G$3","v":211},{"$f":"$G$3","v":211},{"$f":"$G$3","v":211}]
[12,3326,13,3331,24,3351,null,null,null,null,0,112,null,null,"total reinforcement",{"$f":"U11","v":0},{"$f":"Z11","v":1},{"$f":"AE11","v":0},{"$f":"AJ11","v":0},{"$f":"AO11","v":0},{"$f":"AT11","v":0}]
[21,3516,22,3524,24,3532,null,null,null,null,0,222,null,null,"% target"]
[12,3658,24,3673,24,3682,null,null,null,null,0,122,null,null,"CCRF"]
[12,3931,13,3933,13,3935,null,null,null,null,0,111,null,null,"% CCRf"]
[21,4093,22,4102,24,4112,null,null,null,null,0,222,null,null,"average response rate",{"$f":"F10/P20","v":130.25},{"$f":"(F15-F10)/Q20","v":249.8},{"$f":"(F19-F15)/R20","v":141},{"$f":"(F23-F19)/S20","v":207.75},{"$f":"(F28-F23)/T20","v":189.4},{"$f":"(F32-F28)/U20","v":1855.25}]
[12,4273,24,4277,24,4285,null,null,null,null,0,122]
[21,6017,22,6054,24,6063,null,null,null,null,0,222]
[21,6895,22,6902,24,6924,null,null,null,null,0,222]
[12,11514,24,11525,24,11533,null,null,null,null,0,122]

{"sheet":"!L914A1B.axt","index":28,"n_rows":44,"n_cols":48,"rows_kept":44,"cut":false,"hidden":false,"merged":[[4,39,4,42],[5,39,5,40],[4,44,4,47],[5,44,5,45],[4,24,4,27],[5,24,5,25],[4,29,4,32],[5,29,5,30],[4,34,4,37],[5,34,5,35],[1,1,1,2],[5,13,5,14],[18,13,18,14],[19,13,19,14],[4,19,4,22],[5,19,5,20]]}
["Report for:!L914A1B.axt"]
["Date:","<date>"]
["Hen:","<hen>",null,null,null,"Correct Sequence",{"$f":"Start!J2","v":211},null,null,null,null,null,null,null,null,"Total Sequences in Data",{"$f":"4994-COUNTBLANK(L7:L5000)","v":38},null,null,null,null,"Total Sequences in Block Data",{"$f":"COUNTA(L7:L12)","v":6},null,null,null,"Total Sequences in Block Data",{"$f":"COUNTA(L13:L19)","v":7},null,null,null,"Total Sequences in Block Data",{"$f":"COUNTA(L20:L25)","v":6},null,null,null,"Total Sequences in Block Data",{"$f":"COUNTA(L26:L31)","v":6},null,null,null,"Total Sequences in Block Data",{"$f":"COUNTA(L32:L38)","v":7},null,null,null,"Total Sequences in Block Data",{"$f":"COUNTA(L39:L44)","v":6}]
[null,null,null,null,null,null,null,null,null,null,null,null,null,null,null,"Total Sequences in Summary",{"$f":"SUM(O7:O14)","v":38},null,null,null,null,"Total Sequences in Block Summary",{"$f":"SUM(U7:U14)","v":6},null,null,null,"Total Sequences in Block Summary",{"$f":"SUM(Z7:Z14)","v":7},null,null,null,"Total Sequences in Block Summary",{"$f":"SUM(AE7:AE14)","v":6},null,null,null,"Total Sequences in Block Summary",{"$f":"SUM(AJ7:AJ14)","v":6},null,null,null,"Total Sequences in Block Summary",{"$f":"SUM(AO7:AO14)","v":7},null,null,null,"Total Sequences in Block Summary",{"$f":"SUM(AT7:AT14)","v":6}]
[null,null,null,null,null,null,null,null,null,null,null,null,null,null,null,null,null,null,null,"Block 1",null,null,null,null,"Block 2",null,null,null,null,"Block 3",null,null,null,null,"Block 4",null,null,null,null,"Block 5",null,null,null,null,"Block 6"]
["Sequence\nComponent\n1","Time\n1","Sequence\nComponent\n2","Time\n2","Sequence\nComponent\n3","Time\n3","Sequence\nComponent\n4","Time\n4","Sequence\nComponent\n5","Time\n5","Correct?\n0=No 1=Yes","Sequence",null,"Frequency",null,"Relative Frequency","Variability",null,null,"Frequency",null,"Relative Frequency","Variability",null,"Frequency",null,"Relative Frequency","Variability",null,"Frequency",null,"Relative Frequency","Variability",null,"Frequency",null,"Relative Frequency","Variability",null,"Frequency",null,"Relative Frequency","Variability",null,"Frequency",null,"Relative Frequency","Variability"]
[12,8,24,22,24,30,null,null,null,null,0,122,null,111,{"$f":"COUNTIF($L$7:$L$500,N7)","v":7},{"$f":"O7/$Q$4","v":0.18421052631578946},{"$f":"IF(P7=0,0,(P7*((LOG(P7))/LOG(2))))","v":-0.44957916157110184},null,null,{"$f":"N7","v":111},{"$f":"COUNTIF(L7:L12,T7)","v":0},{"$f":"U7/(W4-U11)","v":0},{"$f":"IF(V7=0,0,(V7*((LOG(V7))/LOG(2))))","v":0},null,{"$f":"N7","v":111},{"$f":"COUNTIF(L13:L19,Y7)","v":2},{"$f":"Z7/(AB4-Z11)","v":0.2857142857142857},{"$f":"IF(AA7=0,0,(AA7*((LOG(AA7))/LOG(2))))","v":-0.51638712058788683},null,{"$f":"N7","v":111},{"$f":"COUNTIF(L20:L25,AD7)","v":2},{"$f":"AE7/(AG4-AE11)","v":0.33333333333333331},{"$f":"IF(AF7=0,0,(AF7*((LOG(AF7))/LOG(2))))","v":-0.52832083357371862},null,{"$f":"N7","v":111},{"$f":"COUNTIF(L26:L31,AI7)","v":0},{"$f":"AJ7/(AL4-AJ11)","v":0},{"$f":"IF(AK7=0,0,(AK7*((LOG(AK7))/LOG(2))))","v":0},null,{"$f":"N7","v":111},{"$f":"COUNTIF(L32:L38,AN7)","v":2},{"$f":"AO7/(AQ4-AO11)","v":0.2857142857142857},{"$f":"IF(AP7=0,0,(AP7*((LOG(AP7))/LOG(2))))","v":-0.51638712058788683},null,{"$f":"N7","v":111},{"$f":"COUNTIF(L39:L44,AS7)","v":1},{"$f":"AT7/(AV4-AT11)","v":0.16666666666666666},{"$f":"IF(AU7=0,0,(AU7*((LOG(AU7))/LOG(2))))","v":-0.43082708345352599}]
[12,131,24,141,24,149,null,null,null,null,0,122,null,112,{"$f":"COUNTIF($L$7:$L$500,N8)","v":10},{"$f":"O8/$Q$4","v":0.26315789473684209},{"$f":"IF(P8=0,0,(P8*((LOG(P8))/LOG(2))))","v":-0.50684195225163764},null,null,{"$f":"N8","v":112},{"$f":"COUNTIF(L7:L12,T8)","v":1},{"$f":"U8/(W4-U11)","v":0.16666666666666666},{"$f":"IF(V8=0,0,(V8*((LOG(V8))/LOG(2))))","v":-0.43082708345352599},null,{"$f":"N8","v":112},{"$f":"COUNTIF(L13:L19,Y8)","v":1},{"$f":"Z8/(AB4-Z11)","v":0.14285714285714285},{"$f":"IF(AA8=0,0,(AA8*((LOG(AA8))/LOG(2))))","v":-0.40105070315108626},null,{"$f":"N8","v":112},{"$f":"COUNTIF(L20:L25,AD8)","v":1},{"$f":"AE8/(AG4-AE11)","v":0.16666666666666666},{"$f":"IF(AF8=0,0,(AF8*((LOG(AF8))/LOG(2))))","v":-0.43082708345352599},null,{"$f":"N8","v":112},{"$f":"COUNTIF(L26:L31,AI8)","v":4},{"$f":"AJ8/(AL4-AJ11)","v":0.66666666666666663},{"$f":"IF(AK8=0,0,(AK8*((LOG(AK8))/LOG(2))))","v":-0.38997500048077083},null,{"$f":"N8","v":112},{"$f":"COUNTIF(L32:L38,AN8)","v":1},{"$f":"AO8/(AQ4-AO11)","v":0.14285714285714285},{"$f":"IF(AP8=0,0,(AP8*((LOG(AP8))/LOG(2))))","v":-0.40105070315108626},null,{"$f":"N8","v":112},{"$f":"COUNTIF(L39:L44,AS8)","v":2},{"$f":"AT8/(AV4-AT11)","v":0.33333333333333331},{"$f":"IF(AU8=0,0,(AU8*((LOG(AU8))/LOG(2))))","v":-0.52832083357371862}]
[12,272,24,298,24,306,null,null,null,null,0,122,null,121,{"$f":"COUNTIF($L$7:$L$500,N9)","v":1},{"$f":"O9/$Q$4","v":2.6315789473684209E-2},{"$f":"IF(P9=0,0,(P9*((LOG(P9))/LOG(2))))","v":-0.13810335561693646},null,null,{"$f":"N9","v":121},{"$f":"COUNTIF(L7:L12,T9)","v":0},{"$f":"U9/(W4-U11)","v":0},{"$f":"IF(V9=0,0,(V9*((LOG(V9))/LOG(2))))","v":0},null,{"$f":"N9","v":121},{"$f":"COUNTIF(L13:L19,Y9)","v":1},{"$f":"Z9/(AB4-Z11)","v":0.14285714285714285},{"$f":"IF(AA9=0,0,(AA9*((LOG(AA9))/LOG(2))))","v":-0.40105070315108626},null,{"$f":"N9","v":121},{"$f":"COUNTIF(L20:L25,AD9)","v":0},{"$f":"AE9/(AG4-AE11)","v":0},{"$f":"IF(AF9=0,0,(AF9*((LOG(AF9))/LOG(2))))","v":0},null,{"$f":"N9","v":121},{"$f":"COUNTIF(L26:L31,AI9)","v":0},{"$f":"AJ9/(AL4-AJ11)","v":0},{"$f":"IF(AK9=0,0,(AK9*((LOG(AK9))/LOG(2))))","v":0},null,{"$f":"N9","v":121},{"$f":"COUNTIF(L32:L38,AN9)","v":0},{"$f":"AO9/(AQ4-AO11)","v":0},{"$f":"IF(AP9=0,0,(AP9*((LOG(AP9))/LOG(2))))","v":0},null,{"$f":"N9","v":121},{"$f":"COUNTIF(L39:L44,AS9)","v":0},{"$f":"AT9/(AV4-AT11)","v":0},{"$f":"IF(AU9=0,0,(AU9*((LOG(AU9))/LOG(2))))","v":0}]
[12,409,13,429,24,444,null,null,null,null,0,112,null,122,{"$f":"COUNTIF($L$7:$L$500,N10)","v":10},{"$f":"O10/$Q$4","v":0.26315789473684209},{"$f":"IF(P10=0,0,(P10*((LOG(P10))/LOG(2))))","v":-0.50684195225163764},null,null,{"$f":"N10","v":122},{"$f":"COUNTIF(L7:L12,T10)","v":3},{"$f":"U10/(W4-U11)","v":0.5},{"$f":"IF(V10=0,0,(V10*((LOG(V10))/LOG(2))))","v":-0.5},null,{"$f":"N10","v":122},{"$f":"COUNTIF(L13:L19,Y10)","v":1},{"$f":"Z10/(AB4-Z11)","v":0.14285714285714285},{"$f":"IF(AA10=0,0,(AA10*((LOG(AA10))/LOG(2))))","v":-0.40105070315108626},null,{"$f":"N10","v":122},{"$f":"COUNTIF(L20:L25,AD10)","v":2},{"$f":"AE10/(AG4-AE11)","v":0.33333333333333331},{"$f":"IF(AF10=0,0,(AF10*((LOG(AF10))/LOG(2))))","v":-0.52832083357371862},null,{"$f":"N10","v":122},{"$f":"COUNTIF(L26:L31,AI10)","v":1},{"$f":"AJ10/(AL4-AJ11)","v":0.16666666666666666},{"$f":"IF(AK10=0,0,(AK10*((LOG(AK10))/LOG(2))))","v":-0.43082708345352599},null,{"$f":"N10","v":122},{"$f":"COUNTIF(L32:L38,AN10)","v":2},{"$f":"AO10/(AQ4-AO11)","v":0.2857142857142857},{"$f":"IF(AP10=0,0,(AP10*((LOG(AP10))/LOG(2))))","v":-0.51638712058788683},null,{"$f":"N10","v":122},{"$f":"COUNTIF(L39:L44,AS10)","v":1},{"$f":"AT10/(AV4-AT11)","v":0.16666666666666666},{"$f":"IF(AU10=0,0,(AU10*((LOG(AU10))/LOG(2))))","v":-0.43082708345352599}]
[21,583,22,592,13,651,null,null,null,null,0,221,null,211,{"$f":"COUNTIF($L$7:$L$500,N11)","v":0},{"$f":"O11/$Q$4","v":0},{"$f":"IF(P11=0,0,(P11*((LOG(P11))/LOG(2))))","v":0},null,null,{"$f":"N11","v":211},{"$f":"COUNTIF(L7:L12,T11)","v":0},null,null,null,{"$f":"N11","v":211},{"$f":"COUNTIF(L13:L19,Y11)","v":0},null,null,null,{"$f":"N11","v":211},{"$f":"COUNTIF(L20:L25,AD11)","v":0},null,null,null,{"$f":"N11","v":211},{"$f":"COUNTIF(L26:L31,AI11)","v":0},null,null,null,{"$f":"N11","v":211},{"$f":"COUNTIF(L32:L38,AN11)","v":0},null,null,null,{"$f":"N11","v":211},{"$f":"COUNTIF(L39:L44,AS11)","v":0}]
[21,947,22,1062,24,1070,null,null,null,null,0,222,null,212,{"$f":"COUNTIF($L$7:$L$500,N12)","v":0},{"$f":"O12/$Q$4","v":0},{"$f":"IF(P12=0,0,(P12*((LOG(P12))/LOG(2))))","v":0},null,null,{"$f":"N12","v":212},{"$f":"COUNTIF(L7:L12,T12)","v":0},{"$f":"U12/(W4-U11)","v":0},{"$f":"IF(V12=0,0,(V12*((LOG(V12))/LOG(2))))","v":0},null,{"$f":"N12","v":212},{"$f":"COUNTIF(L13:L19,Y12)","v":0},{"$f":"Z12/(AB4-Z11)","v":0},{"$f":"IF(AA12=0,0,(AA12*((LOG(AA12))/LOG(2))))","v":0},null,{"$f":"N12","v":212},{"$f":"COUNTIF(L20:L25,AD12)","v":0},{"$f":"AE12/(AG4-AE11)","v":0},{"$f":"IF(AF12=0,0,(AF12*((LOG(AF12))/LOG(2))))","v":0},null,{"$f":"N12","v":212},{"$f":"COUNTIF(L26:L31,AI12)","v":0},{"$f":"AJ12/(AL4-AJ11)","v":0},{"$f":"IF(AK12=0,0,(AK12*((LOG(AK12))/LOG(2))))","v":0},null,{"$f":"N12","v":212},{"$f":"COUNTIF(L32:L38,AN12)","v":0},{"$f":"AO12/(AQ4-AO11)","v":0},{"$f":"IF(AP12=0,0,(AP12*((LOG(AP12))/LOG(2))))","v":0},null,{"$f":"N12","v":212},{"$f":"COUNTIF(L39:L44,AS12)","v":0},{"$f":"AT12/(AV4-AT11)","v":0},{"$f":"IF(AU12=0,0,(AU12*((LOG(AU12))/LOG(2))))","v":0}]
[12,1165,13,1175,13,1187,null,null,null,null,0,111,null,221,{"$f":"COUNTIF($L$7:$L$500,N13)","v":1},{"$f":"O13/$Q$4","v":2.6315789473684209E-2},{"$f":"IF(P13=0,0,(P13*((LOG(P13))/LOG(2))))","v":-0.13810335561693646},null,null,{"$f":"N13","v":221},{"$f":"COUNTIF(L7:L12,T13)","v":1},{"$f":"U13/(W4-U11)","v":0.16666666666666666},{"$f":"IF(V13=0,0,(V13*((LOG(V13))/LOG(2))))","v":-0.43082708345352599},null,{"$f":"N13","v":221},{"$f":"COUNTIF(L13:L19,Y13)","v":0},{"$f":"Z13/(AB4-Z11)","v":0},{"$f":"IF(AA13=0,0,(AA13*((LOG(AA13))/LOG(2))))","v":0},null,{"$f":"N13","v":221},{"$f":"COUNTIF(L20:L25,AD13)","v":0},{"$f":"AE13/(AG4-AE11)","v":0},{"$f":"IF(AF13=0,0,(AF13*((LOG(AF13))/LOG(2))))","v":0},null,{"$f":"N13","v":221},{"$f":"COUNTIF(L26:L31,AI13)","v":0},{"$f":"AJ13/(AL4-AJ11)","v":0},{"$f":"IF(AK13=0,0,(AK13*((LOG(AK13))/LOG(2))))","v":0},null,{"$f":"N13","v":221},{"$f":"COUNTIF(L32:L38,AN13)","v":0},{"$f":"AO13/(AQ4-AO11)","v":0},{"$f":"IF(AP13=0,0,(AP13*((LOG(AP13))/LOG(2))))","v":0},null,{"$f":"N13","v":221},{"$f":"COUNTIF(L39:L44,AS13)","v":0},{"$f":"AT13/(AV4-AT11)","v":0},{"$f":"IF(AU13=0,0,(AU13*((LOG(AU13))/LOG(2))))","v":0}]
[12,1464,24,1535,24,1543,null,null,null,null,0,122,null,222,{"$f":"COUNTIF($L$7:$L$500,N14)","v":9},{"$f":"O14/$Q$4","v":0.23684210526315788},{"$f":"IF(P14=0,0,(P14*((LOG(P14))/LOG(2))))","v":-0.49215848968451215},null,null,{"$f":"N14","v":222},{"$f":"COUNTIF(L7:L12,T14)","v":1},{"$f":"U14/(W4-U11)","v":0.16666666666666666},{"$f":"IF(V14=0,0,(V14*((LOG(V14))/LOG(2))))","v":-0.43082708345352599},null,{"$f":"N14","v":222},{"$f":"COUNTIF(L13:L19,Y14)","v":2},{"$f":"Z14/(AB4-Z11)","v":0.2857142857142857},{"$f":"IF(AA14=0,0,(AA14*((LOG(AA14))/LOG(2))))","v":-0.51638712058788683},null,{"$f":"N14","v":222},{"$f":"COUNTIF(L20:L25,AD14)","v":1},{"$f":"AE14/(AG4-AE11)","v":0.16666666666666666},{"$f":"IF(AF14=0,0,(AF14*((LOG(AF14))/LOG(2))))","v":-0.43082708345352599},null,{"$f":"N14","v":222},{"$f":"COUNTIF(L26:L31,AI14)","v":1},{"$f":"AJ14/(AL4-AJ11)","v":0.16666666666666666},{"$f":"IF(AK14=0,0,(AK14*((LOG(AK14))/LOG(2))))","v":-0.43082708345352599},null,{"$f":"N14","v":222},{"$f":"COUNTIF(L32:L38,AN14)","v":2},{"$f":"AO14/(AQ4-AO11)","v":0.2857142857142857},{"$f":"IF(AP14=0,0,(AP14*((LOG(AP14))/LOG(2))))","v":-0.51638712058788683},null,{"$f":"N14","v":222},{"$f":"COUNTIF(L39:L44,AS14)","v":2},{"$f":"AT14/(AV4-AT11)","v":0.33333333333333331},{"$f":"IF(AU14=0,0,(AU14*((LOG(AU14))/LOG(2))))","v":-0.52832083357371862}]
[12,1647,13,1661,24,1694,null,null,null,null,0,112,null,null,null,{"$f":"SUM(P7:P14)","v":0.99999999999999978},{"$f":"-SUM(Q7:Q14)","v":2.2316282669927618},null,null,null,null,{"$f":"SUM(V7:V14)","v":0.99999999999999989},{"$f":"-SUM(W7:W14)","v":1.7924812503605778},null,null,null,{"$f":"SUM(AA7:AA14)","v":0.99999999999999989},{"$f":"-SUM(AB7:AB14)","v":2.2359263506290326},null,null,null,{"$f":"SUM(AF7:AF14)","v":0.99999999999999989},{"$f":"-SUM(AG7:AG14)","v":1.9182958340544891},null,null,null,{"$f":"SUM(AK7:AK14)","v":0.99999999999999989},{"$f":"-SUM(AL7:AL14)","v":1.2516291673878228},null,null,null,{"$f":"SUM(AP7:AP14)","v":0.99999999999999989},{"$f":"-SUM(AQ7:AQ14)","v":1.9502120649147465},null,null,null,{"$f":"SUM(AU7:AU14)","v":1},{"$f":"-SUM(AV7:AV14)","v":1.9182958340544891}]
[12,1885,24,1899,13,1959,null,null,null,null,0,121,null,null,null,"U=",{"$f":"Q15/(LOG(Q4)/LOG(2))","v":0.42523991828698332},null,null,null,null,"U1=",{"$f":"W15/(LOG(W4)/LOG(2))","v":0.6934264036172707},null,null,null,"U2=",{"$f":"AB15/(LOG(AB4)/LOG(2))","v":0.79645303593827299},null,null,null,"U3=",{"$f":"AG15/(LOG(AG4)/LOG(2))","v":0.74209812851030543},null,null,null,"U4=",{"$f":"AL15/(LOG(AL4)/LOG(2))","v":0.4841962570206112},null,null,null,"U5=",{"$f":"AQ15/(LOG(AQ4)/LOG(2))","v":0.69467955390740943},null,null,null,"U6=",{"$f":"AV15/(LOG(AV4)/LOG(2))","v":0.74209812851030543}]
[21,2299,22,2415,24,2424,null,null,null,null,0,222]
[21,2537,22,2545,24,2555,null,null,null,null,0,222]
[12,2669,13,2702,13,2714,null,null,null,null,0,111,null,"Total Target Seq"]
[12,2851,24,2872,24,2880,null,null,null,null,0,122,null,{"$f":"COUNTIF(L7:L44,G3)","v":0},null,6,7,6,6,7,6]
[21,3304,22,3389,24,3399,null,null,null,null,0,222,null,null,null,"% of reinforcement given in 6 equal intervals based on number of trials "]
[12,3502,13,3516,13,3529,null,null,null,null,0,111,null,null,null,"%_1","%_2","%_3","%_4","%_5","%_6"]
[12,3638,24,3658,24,3666,null,null,null,null,0,122,null,null,"target sequence",{"$f":"$G$3","v":211},{"$f":"$G$3","v":211},{"$f":"$G$3","v":211},{"$f":"$G$3","v":211},{"$f":"$G$3","v":211},{"$f":"$G$3","v":211}]
[12,3783,13,3787,24,3798,null,null,null,null,0,112,null,null,"total reinforcement",{"$f":"U11","v":0},{"$f":"Z11","v":0},{"$f":"AE11","v":0},{"$f":"AJ11","v":0},{"$f":"AO11","v":0},{"$f":"AT11","v":0}]
[12,4126,13,4184,13,4191,null,null,null,null,0,111,null,null,"% target"]
[12,4284,13,4289,24,4306,null,null,null,null,0,112,null,null,"CCRF"]
[12,4401,13,4409,24,4430,null,null,null,null,0,112,null,null,"% CCRf"]
[12,4528,13,4535,24,4547,null,null,null,null,0,112,null,null,"average response rate",{"$f":"F12/P20","v":178.33333333333334},{"$f":"(F19-F12)/Q20","v":234.85714285714286},{"$f":"(F25-F19)/R20","v":246.16666666666666},{"$f":"(F31-F25)/S20","v":118.16666666666667},{"$f":"(F38-F31)/T20","v":139.42857142857142},{"$f":"(F44-F38)/U20","v":194.66666666666666}]
[12,4641,13,4648,24,4661,null,null,null,null,0,112]
[21,4761,22,4769,24,4781,null,null,null,null,0,222]
[12,4876,24,4892,24,4900,null,null,null,null,0,122]
[21,5026,22,5034,24,5086,null,null,null,null,0,222]
[12,5183,13,5215,13,5221,null,null,null,null,0,111]
[12,5313,24,5332,24,5340,null,null,null,null,0,122]
[21,5484,22,5492,24,5502,null,null,null,null,0,222]
[12,5607,24,5619,24,5628,null,null,null,null,0,122]
[12,5732,13,5736,13,5749,null,null,null,null,0,111]
[12,5853,13,5858,24,5876,null,null,null,null,0,112]
[21,5993,22,6002,24,6013,null,null,null,null,0,222]
[12,6116,24,6133,24,6143,null,null,null,null,0,122]
[12,6351,13,6382,24,6409,null,null,null,null,0,112]
[12,6580,13,6591,24,6633,null,null,null,null,0,112]
[21,6862,22,6871,24,6880,null,null,null,null,0,222]
[12,7033,13,7042,13,7044,null,null,null,null,0,111]

{"sheet":"!L915A3B.axt","index":29,"n_rows":35,"n_cols":48,"rows_kept":35,"cut":false,"hidden":false,"merged":[[4,39,4,42],[5,39,5,40],[4,44,4,47],[5,44,5,45],[4,24,4,27],[5,24,5,25],[4,29,4,32],[5,29,5,30],[4,34,4,37],[5,34,5,35],[1,1,1,2],[5,13,5,14],[18,13,18,14],[19,13,19,14],[4,19,4,22],[5,19,5,20]]}
["Report for:!L915A3B.axt"]
["Date:","<date>"]
["Hen:","<hen>",null,null,null,"Correct Sequence",{"$f":"Start!J2","v":211},null,null,null,null,null,null,null,null,"Total Sequences in Data",{"$f":"4994-COUNTBLANK(L7:L5000)","v":29},null,null,null,null,"Total Sequences in Block Data",{"$f":"COUNTA(L7:L11)","v":5},null,null,null,"Total Sequences in Block Data",{"$f":"COUNTA(L12:L16)","v":5},null,null,null,"Total Sequences in Block Data",{"$f":"COUNTA(L17:L20)","v":4},null,null,null,"Total Sequences in Block Data",{"$f":"COUNTA(L21:L25)","v":5},null,null,null,"Total Sequences in Block Data",{"$f":"COUNTA(L26:L30)","v":5},null,null,null,"Total Sequences in Block Data",{"$f":"COUNTA(L31:L35)","v":5}]
[null,null,null,null,null,null,null,null,null,null,null,null,null,null,null,"Total Sequences in Summary",{"$f":"SUM(O7:O14)","v":29},null,null,null,null,"Total Sequences in Block Summary",{"$f":"SUM(U7:U14)","v":5},null,null,null,"Total Sequences in Block Summary",{"$f":"SUM(Z7:Z14)","v":5},null,null,null,"Total Sequences in Block Summary",{"$f":"SUM(AE7:AE14)","v":4},null,null,null,"Total Sequences in Block Summary",{"$f":"SUM(AJ7:AJ14)","v":5},null,null,null,"Total Sequences in Block Summary",{"$f":"SUM(AO7:AO14)","v":5},null,null,null,"Total Sequences in Block Summary",{"$f":"SUM(AT7:AT14)","v":5}]
[null,null,null,null,null,null,null,null,null,null,null,null,null,null,null,null,null,null,null,"Block 1",null,null,null,null,"Block 2",null,null,null,null,"Block 3",null,null,null,null,"Block 4",null,null,null,null,"Block 5",null,null,null,null,"Block 6"]
["Sequence\nComponent\n1","Time\n1","Sequence\nComponent\n2","Time\n2","Sequence\nComponent\n3","Time\n3","Sequence\nComponent\n4","Time\n4","Sequence\nComponent\n5","Time\n5","Correct?\n0=No 1=Yes","Sequence",null,"Frequency",null,"Relative Frequency","Variability",null,null,"Frequency",null,"Relative Frequency","Variability",null,"Frequency",null,"Relative Frequency","Variability",null,"Frequency",null,"Relative Frequency","Variability",null,"Frequency",null,"Relative Frequency","Variability",null,"Frequency",null,"Relative Frequency","Variability",null,"Frequency",null,"Relative Frequency","Variability"]
[21,152,22,168,24,224,null,null,null,null,0,222,null,111,{"$f":"COUNTIF($L$7:$L$500,N7)","v":4},{"$f":"O7/$Q$4","v":0.13793103448275862},{"$f":"IF(P7=0,0,(P7*((LOG(P7))/LOG(2))))","v":-0.39420427519000989},null,null,{"$f":"N7","v":111},{"$f":"COUNTIF(L7:L11,T7)","v":0},{"$f":"U7/(W4-U11)","v":0},{"$f":"IF(V7=0,0,(V7*((LOG(V7))/LOG(2))))","v":0},null,{"$f":"N7","v":111},{"$f":"COUNTIF(L12:L16,Y7)","v":1},{"$f":"Z7/(AB4-Z11)","v":0.2},{"$f":"IF(AA7=0,0,(AA7*((LOG(AA7))/LOG(2))))","v":-0.46438561897747244},null,{"$f":"N7","v":111},{"$f":"COUNTIF(L17:L20,AD7)","v":1},{"$f":"AE7/(AG4-AE11)","v":0.25},{"$f":"IF(AF7=0,0,(AF7*((LOG(AF7))/LOG(2))))","v":-0.5},null,{"$f":"N7","v":111},{"$f":"COUNTIF(L21:L25,AI7)","v":1},{"$f":"AJ7/(AL4-AJ11)","v":0.2},{"$f":"IF(AK7=0,0,(AK7*((LOG(AK7))/LOG(2))))","v":-0.46438561897747244},null,{"$f":"N7","v":111},{"$f":"COUNTIF(L26:L30,AN7)","v":1},{"$f":"AO7/(AQ4-AO11)","v":0.2},{"$f":"IF(AP7=0,0,(AP7*((LOG(AP7))/LOG(2))))","v":-0.46438561897747244},null,{"$f":"N7","v":111},{"$f":"COUNTIF(L31:L35,AS7)","v":0},{"$f":"AT7/(AV4-AT11)","v":0},{"$f":"IF(AU7=0,0,(AU7*((LOG(AU7))/LOG(2))))","v":0}]
[21,350,22,357,24,415,null,null,null,null,0,222,null,112,{"$f":"COUNTIF($L$7:$L$500,N8)","v":1},{"$f":"O8/$Q$4","v":3.4482758620689655E-2},{"$f":"IF(P8=0,0,(P8*((LOG(P8))/LOG(2))))","v":-0.16751658603888178},null,null,{"$f":"N8","v":112},{"$f":"COUNTIF(L7:L11,T8)","v":1},{"$f":"U8/(W4-U11)","v":0.2},{"$f":"IF(V8=0,0,(V8*((LOG(V8))/LOG(2))))","v":-0.46438561897747244},null,{"$f":"N8","v":112},{"$f":"COUNTIF(L12:L16,Y8)","v":0},{"$f":"Z8/(AB4-Z11)","v":0},{"$f":"IF(AA8=0,0,(AA8*((LOG(AA8))/LOG(2))))","v":0},null,{"$f":"N8","v":112},{"$f":"COUNTIF(L17:L20,AD8)","v":0},{"$f":"AE8/(AG4-AE11)","v":0},{"$f":"IF(AF8=0,0,(AF8*((LOG(AF8))/LOG(2))))","v":0},null,{"$f":"N8","v":112},{"$f":"COUNTIF(L21:L25,AI8)","v":0},{"$f":"AJ8/(AL4-AJ11)","v":0},{"$f":"IF(AK8=0,0,(AK8*((LOG(AK8))/LOG(2))))","v":0},null,{"$f":"N8","v":112},{"$f":"COUNTIF(L26:L30,AN8)","v":0},{"$f":"AO8/(AQ4-AO11)","v":0},{"$f":"IF(AP8=0,0,(AP8*((LOG(AP8))/LOG(2))))","v":0},null,{"$f":"N8","v":112},{"$f":"COUNTIF(L31:L35,AS8)","v":0},{"$f":"AT8/(AV4-AT11)","v":0},{"$f":"IF(AU8=0,0,(AU8*((LOG(AU8))/LOG(2))))","v":0}]
[12,513,13,516,24,596,null,null,null,null,0,112,null,121,{"$f":"COUNTIF($L$7:$L$500,N9)","v":1},{"$f":"O9/$Q$4","v":3.4482758620689655E-2},{"$f":"IF(P9=0,0,(P9*((LOG(P9))/LOG(2))))","v":-0.16751658603888178},null,null,{"$f":"N9","v":121},{"$f":"COUNTIF(L7:L11,T9)","v":0},{"$f":"U9/(W4-U11)","v":0},{"$f":"IF(V9=0,0,(V9*((LOG(V9))/LOG(2))))","v":0},null,{"$f":"N9","v":121},{"$f":"COUNTIF(L12:L16,Y9)","v":0},{"$f":"Z9/(AB4-Z11)","v":0},{"$f":"IF(AA9=0,0,(AA9*((LOG(AA9))/LOG(2))))","v":0},null,{"$f":"N9","v":121},{"$f":"COUNTIF(L17:L20,AD9)","v":0},{"$f":"AE9/(AG4-AE11)","v":0},{"$f":"IF(AF9=0,0,(AF9*((LOG(AF9))/LOG(2))))","v":0},null,{"$f":"N9","v":121},{"$f":"COUNTIF(L21:L25,AI9)","v":0},{"$f":"AJ9/(AL4-AJ11)","v":0},{"$f":"IF(AK9=0,0,(AK9*((LOG(AK9))/LOG(2))))","v":0},null,{"$f":"N9","v":121},{"$f":"COUNTIF(L26:L30,AN9)","v":1},{"$f":"AO9/(AQ4-AO11)","v":0.2},{"$f":"IF(AP9=0,0,(AP9*((LOG(AP9))/LOG(2))))","v":-0.46438561897747244},null,{"$f":"N9","v":121},{"$f":"COUNTIF(L31:L35,AS9)","v":0},{"$f":"AT9/(AV4-AT11)","v":0},{"$f":"IF(AU9=0,0,(AU9*((LOG(AU9))/LOG(2))))","v":0}]
[12,1140,24,1157,24,1165,null,null,null,null,0,122,null,122,{"$f":"COUNTIF($L$7:$L$500,N10)","v":9},{"$f":"O10/$Q$4","v":0.31034482758620691},{"$f":"IF(P10=0,0,(P10*((LOG(P10))/LOG(2))))","v":-0.52387944631611505},null,null,{"$f":"N10","v":122},{"$f":"COUNTIF(L7:L11,T10)","v":1},{"$f":"U10/(W4-U11)","v":0.2},{"$f":"IF(V10=0,0,(V10*((LOG(V10))/LOG(2))))","v":-0.46438561897747244},null,{"$f":"N10","v":122},{"$f":"COUNTIF(L12:L16,Y10)","v":3},{"$f":"Z10/(AB4-Z11)","v":0.6},{"$f":"IF(AA10=0,0,(AA10*((LOG(AA10))/LOG(2))))","v":-0.44217935649972373},null,{"$f":"N10","v":122},{"$f":"COUNTIF(L17:L20,AD10)","v":1},{"$f":"AE10/(AG4-AE11)","v":0.25},{"$f":"IF(AF10=0,0,(AF10*((LOG(AF10))/LOG(2))))","v":-0.5},null,{"$f":"N10","v":122},{"$f":"COUNTIF(L21:L25,AI10)","v":1},{"$f":"AJ10/(AL4-AJ11)","v":0.2},{"$f":"IF(AK10=0,0,(AK10*((LOG(AK10))/LOG(2))))","v":-0.46438561897747244},null,{"$f":"N10","v":122},{"$f":"COUNTIF(L26:L30,AN10)","v":2},{"$f":"AO10/(AQ4-AO11)","v":0.4},{"$f":"IF(AP10=0,0,(AP10*((LOG(AP10))/LOG(2))))","v":-0.52877123795494496},null,{"$f":"N10","v":122},{"$f":"COUNTIF(L31:L35,AS10)","v":1},{"$f":"AT10/(AV4-AT11)","v":0.2},{"$f":"IF(AU10=0,0,(AU10*((LOG(AU10))/LOG(2))))","v":-0.46438561897747244}]
[21,1448,22,1456,24,1468,null,null,null,null,0,222,null,211,{"$f":"COUNTIF($L$7:$L$500,N11)","v":0},{"$f":"O11/$Q$4","v":0},{"$f":"IF(P11=0,0,(P11*((LOG(P11))/LOG(2))))","v":0},null,null,{"$f":"N11","v":211},{"$f":"COUNTIF(L7:L11,T11)","v":0},null,null,null,{"$f":"N11","v":211},{"$f":"COUNTIF(L12:L16,Y11)","v":0},null,null,null,{"$f":"N11","v":211},{"$f":"COUNTIF(L17:L20,AD11)","v":0},null,null,null,{"$f":"N11","v":211},{"$f":"COUNTIF(L21:L25,AI11)","v":0},null,null,null,{"$f":"N11","v":211},{"$f":"COUNTIF(L26:L30,AN11)","v":0},null,null,null,{"$f":"N11","v":211},{"$f":"COUNTIF(L31:L35,AS11)","v":0}]
[21,1577,22,1585,24,1594,null,null,null,null,0,222,null,212,{"$f":"COUNTIF($L$7:$L$500,N12)","v":0},{"$f":"O12/$Q$4","v":0},{"$f":"IF(P12=0,0,(P12*((LOG(P12))/LOG(2))))","v":0},null,null,{"$f":"N12","v":212},{"$f":"COUNTIF(L7:L11,T12)","v":0},{"$f":"U12/(W4-U11)","v":0},{"$f":"IF(V12=0,0,(V12*((LOG(V12))/LOG(2))))","v":0},null,{"$f":"N12","v":212},{"$f":"COUNTIF(L12:L16,Y12)","v":0},{"$f":"Z12/(AB4-Z11)","v":0},{"$f":"IF(AA12=0,0,(AA12*((LOG(AA12))/LOG(2))))","v":0},null,{"$f":"N12","v":212},{"$f":"COUNTIF(L17:L20,AD12)","v":0},{"$f":"AE12/(AG4-AE11)","v":0},{"$f":"IF(AF12=0,0,(AF12*((LOG(AF12))/LOG(2))))","v":0},null,{"$f":"N12","v":212},{"$f":"COUNTIF(L21:L25,AI12)","v":0},{"$f":"AJ12/(AL4-AJ11)","v":0},{"$f":"IF(AK12=0,0,(AK12*((LOG(AK12))/LOG(2))))","v":0},null,{"$f":"N12","v":212},{"$f":"COUNTIF(L26:L30,AN12)","v":0},{"$f":"AO12/(AQ4-AO11)","v":0},{"$f":"IF(AP12=0,0,(AP12*((LOG(AP12))/LOG(2))))","v":0},null,{"$f":"N12","v":212},{"$f":"COUNTIF(L31:L35,AS12)","v":0},{"$f":"AT12/(AV4-AT11)","v":0},{"$f":"IF(AU12=0,0,(AU12*((LOG(AU12))/LOG(2))))","v":0}]
[12,1720,24,1733,24,1741,null,null,null,null,0,122,null,221,{"$f":"COUNTIF($L$7:$L$500,N13)","v":2},{"$f":"O13/$Q$4","v":6.8965517241379309E-2},{"$f":"IF(P13=0,0,(P13*((LOG(P13))/LOG(2))))","v":-0.26606765483638428},null,null,{"$f":"N13","v":221},{"$f":"COUNTIF(L7:L11,T13)","v":0},{"$f":"U13/(W4-U11)","v":0},{"$f":"IF(V13=0,0,(V13*((LOG(V13))/LOG(2))))","v":0},null,{"$f":"N13","v":221},{"$f":"COUNTIF(L12:L16,Y13)","v":0},{"$f":"Z13/(AB4-Z11)","v":0},{"$f":"IF(AA13=0,0,(AA13*((LOG(AA13))/LOG(2))))","v":0},null,{"$f":"N13","v":221},{"$f":"COUNTIF(L17:L20,AD13)","v":1},{"$f":"AE13/(AG4-AE11)","v":0.25},{"$f":"IF(AF13=0,0,(AF13*((LOG(AF13))/LOG(2))))","v":-0.5},null,{"$f":"N13","v":221},{"$f":"COUNTIF(L21:L25,AI13)","v":1},{"$f":"AJ13/(AL4-AJ11)","v":0.2},{"$f":"IF(AK13=0,0,(AK13*((LOG(AK13))/LOG(2))))","v":-0.46438561897747244},null,{"$f":"N13","v":221},{"$f":"COUNTIF(L26:L30,AN13)","v":0},{"$f":"AO13/(AQ4-AO11)","v":0},{"$f":"IF(AP13=0,0,(AP13*((LOG(AP13))/LOG(2))))","v":0},null,{"$f":"N13","v":221},{"$f":"COUNTIF(L31:L35,AS13)","v":0},{"$f":"AT13/(AV4-AT11)","v":0},{"$f":"IF(AU13=0,0,(AU13*((LOG(AU13))/LOG(2))))","v":0}]
[12,1842,24,1898,24,1906,null,null,null,null,0,122,null,222,{"$f":"COUNTIF($L$7:$L$500,N14)","v":12},{"$f":"O14/$Q$4","v":0.41379310344827586},{"$f":"IF(P14=0,0,(P14*((LOG(P14))/LOG(2))))","v":-0.5267662735474824},null,null,{"$f":"N14","v":222},{"$f":"COUNTIF(L7:L11,T14)","v":3},{"$f":"U14/(W4-U11)","v":0.6},{"$f":"IF(V14=0,0,(V14*((LOG(V14))/LOG(2))))","v":-0.44217935649972373},null,{"$f":"N14","v":222},{"$f":"COUNTIF(L12:L16,Y14)","v":1},{"$f":"Z14/(AB4-Z11)","v":0.2},{"$f":"IF(AA14=0,0,(AA14*((LOG(AA14))/LOG(2))))","v":-0.46438561897747244},null,{"$f":"N14","v":222},{"$f":"COUNTIF(L17:L20,AD14)","v":1},{"$f":"AE14/(AG4-AE11)","v":0.25},{"$f":"IF(AF14=0,0,(AF14*((LOG(AF14))/LOG(2))))","v":-0.5},null,{"$f":"N14","v":222},{"$f":"COUNTIF(L21:L25,AI14)","v":2},{"$f":"AJ14/(AL4-AJ11)","v":0.4},{"$f":"IF(AK14=0,0,(AK14*((LOG(AK14))/LOG(2))))","v":-0.52877123795494496},null,{"$f":"N14","v":222},{"$f":"COUNTIF(L26:L30,AN14)","v":1},{"$f":"AO14/(AQ4-AO11)","v":0.2},{"$f":"IF(AP14=0,0,(AP14*((LOG(AP14))/LOG(2))))","v":-0.46438561897747244},null,{"$f":"N14","v":222},{"$f":"COUNTIF(L31:L35,AS14)","v":4},{"$f":"AT14/(AV4-AT11)","v":0.8},{"$f":"IF(AU14=0,0,(AU14*((LOG(AU14))/LOG(2))))","v":-0.25754247590988982}]
[12,2011,24,2073,24,2081,null,null,null,null,0,122,null,null,null,{"$f":"SUM(P7:P14)","v":1},{"$f":"-SUM(Q7:Q14)","v":2.0459508219677551},null,null,null,null,{"$f":"SUM(V7:V14)","v":1},{"$f":"-SUM(W7:W14)","v":1.3709505944546687},null,null,null,{"$f":"SUM(AA7:AA14)","v":1},{"$f":"-SUM(AB7:AB14)","v":1.3709505944546687},null,null,null,{"$f":"SUM(AF7:AF14)","v":1},{"$f":"-SUM(AG7:AG14)","v":2},null,null,null,{"$f":"SUM(AK7:AK14)","v":1},{"$f":"-SUM(AL7:AL14)","v":1.9219280948873623},null,null,null,{"$f":"SUM(AP7:AP14)","v":1},{"$f":"-SUM(AQ7:AQ14)","v":1.9219280948873623},null,null,null,{"$f":"SUM(AU7:AU14)","v":1},{"$f":"-SUM(AV7:AV14)","v":0.72192809488736231}]
[12,2186,13,2197,13,2205,null,null,null,null,0,111,null,null,null,"U=",{"$f":"Q15/(LOG(Q4)/LOG(2))","v":0.42115249607188465},null,null,null,null,"U1=",{"$f":"W15/(LOG(W4)/LOG(2))","v":0.5904362833084088},null,null,null,"U2=",{"$f":"AB15/(LOG(AB4)/LOG(2))","v":0.5904362833084088},null,null,null,"U3=",{"$f":"AG15/(LOG(AG4)/LOG(2))","v":1},null,null,null,"U4=",{"$f":"AL15/(LOG(AL4)/LOG(2))","v":0.82772937677064262},null,null,null,"U5=",{"$f":"AQ15/(LOG(AQ4)/LOG(2))","v":0.82772937677064262},null,null,null,"U6=",{"$f":"AV15/(LOG(AV4)/LOG(2))","v":0.31091750708257104}]
[12,2601,13,2608,13,2616,null,null,null,null,0,111]
[12,2721,24,2741,24,2750,null,null,null,null,0,122]
[21,2881,22,2891,24,2903,null,null,null,null,0,222,null,"Total Target Seq"]
[21,3020,22,3038,13,3091,null,null,null,null,0,221,null,{"$f":"COUNTIF(L7:L35,G3)","v":0},null,5,5,4,5,5,5]
[21,3371,22,3380,13,3495,null,null,null,null,0,221,null,null,null,"% of reinforcement given in 6 equal intervals based on number of trials "]
[12,3605,13,3619,13,3627,null,null,null,null,0,111,null,null,null,"%_1","%_2","%_3","%_4","%_5","%_6"]
[21,3740,22,3746,24,3754,null,null,null,null,0,222,null,null,"target sequence",{"$f":"$G$3","v":211},{"$f":"$G$3","v":211},{"$f":"$G$3","v":211},{"$f":"$G$3","v":211},{"$f":"$G$3","v":211},{"$f":"$G$3","v":211}]
[21,3880,22,3888,24,3896,null,null,null,null,0,222,null,null,"total reinforcement",{"$f":"U11","v":0},{"$f":"Z11","v":0},{"$f":"AE11","v":0},{"$f":"AJ11","v":0},{"$f":"AO11","v":0},{"$f":"AT11","v":0}]
[12,3990,24,4010,24,4019,null,null,null,null,0,122,null,null,"% target"]
[12,4220,13,4224,13,4236,null,null,null,null,0,111,null,null,"CCRF"]
[12,4356,24,4367,24,4375,null,null,null,null,0,122,null,null,"% CCRf"]
[21,4524,22,4532,24,4557,null,null,null,null,0,222,null,null,"average response rate",{"$f":"F11/P20","v":293.60000000000002},{"$f":"(F16-F11)/Q20","v":147.4},{"$f":"(F20-F16)/R20","v":221.5},{"$f":"(F25-F20)/S20","v":185.6},{"$f":"(F30-F25)/T20","v":291.60000000000002},{"$f":"(F35-F30)/U20","v":546.79999999999995}]
[12,4732,24,4868,13,4927,null,null,null,null,0,121]
[12,5295,24,5326,24,5477,null,null,null,null,0,122]
[21,5770,22,5778,24,5789,null,null,null,null,0,222]
[12,5964,24,5992,24,6002,null,null,null,null,0,122]
[21,6150,22,6159,24,6259,null,null,null,null,0,222]
[21,6378,22,6388,24,6400,null,null,null,null,0,222]
[21,7702,22,7712,24,8211,null,null,null,null,0,222]

{"sheet":"!L916A1B.axt","index":30,"n_rows":52,"n_cols":48,"rows_kept":52,"cut":false,"hidden":false,"merged":[[4,39,4,42],[5,39,5,40],[4,44,4,47],[5,44,5,45],[4,24,4,27],[5,24,5,25],[4,29,4,32],[5,29,5,30],[4,34,4,37],[5,34,5,35],[1,1,1,2],[5,13,5,14],[18,13,18,14],[19,13,19,14],[4,19,4,22],[5,19,5,20]]}
["Report for:!L916A1B.axt"]
["Date:","<date>"]
["Hen:","<hen>",null,null,null,"Correct Sequence",{"$f":"Start!J2","v":211},null,null,null,null,null,null,null,null,"Total Sequences in Data",{"$f":"4994-COUNTBLANK(L7:L5000)","v":46},null,null,null,null,"Total Sequences in Block Data",{"$f":"COUNTA(L7:L14)","v":8},null,null,null,"Total Sequences in Block Data",{"$f":"COUNTA(L15:L21)","v":7},null,null,null,"Total Sequences in Block Data",{"$f":"COUNTA(L22:L29)","v":8},null,null,null,"Total Sequences in Block Data",{"$f":"COUNTA(L30:L37)","v":8},null,null,null,"Total Sequences in Block Data",{"$f":"COUNTA(L38:L44)","v":7},null,null,null,"Total Sequences in Block Data",{"$f":"COUNTA(L45:L52)","v":8}]
[null,null,null,null,null,null,null,null,null,null,null,null,null,null,null,"Total Sequences in Summary",{"$f":"SUM(O7:O14)","v":45},null,null,null,null,"Total Sequences in Block Summary",{"$f":"SUM(U7:U14)","v":8},null,null,null,"Total Sequences in Block Summary",{"$f":"SUM(Z7:Z14)","v":7},null,null,null,"Total Sequences in Block Summary",{"$f":"SUM(AE7:AE14)","v":8},null,null,null,"Total Sequences in Block Summary",{"$f":"SUM(AJ7:AJ14)","v":8},null,null,null,"Total Sequences in Block Summary",{"$f":"SUM(AO7:AO14)","v":7},null,null,null,"Total Sequences in Block Summary",{"$f":"SUM(AT7:AT14)","v":7}]
[null,null,null,null,null,null,null,null,null,null,null,null,null,null,null,null,null,null,null,"Block 1",null,null,null,null,"Block 2",null,null,null,null,"Block 3",null,null,null,null,"Block 4",null,null,null,null,"Block 5",null,null,null,null,"Block 6"]
["Sequence\nComponent\n1","Time\n1","Sequence\nComponent\n2","Time\n2","Sequence\nComponent\n3","Time\n3","Sequence\nComponent\n4","Time\n4","Sequence\nComponent\n5","Time\n5","Correct?\n0=No 1=Yes","Sequence",null,"Frequency",null,"Relative Frequency","Variability",null,null,"Frequency",null,"Relative Frequency","Variability",null,"Frequency",null,"Relative Frequency","Variability",null,"Frequency",null,"Relative Frequency","Variability",null,"Frequency",null,"Relative Frequency","Variability",null,"Frequency",null,"Relative Frequency","Variability",null,"Frequency",null,"Relative Frequency","Variability"]
[21,27,22,35,13,51,null,null,null,null,0,221,null,111,{"$f":"COUNTIF($L$7:$L$500,N7)","v":17},{"$f":"O7/$Q$4","v":0.37777777777777777},{"$f":"IF(P7=0,0,(P7*((LOG(P7))/LOG(2))))","v":-0.53054742969663782},null,null,{"$f":"N7","v":111},{"$f":"COUNTIF(L7:L14,T7)","v":5},{"$f":"U7/(W4-U11)","v":0.625},{"$f":"IF(V7=0,0,(V7*((LOG(V7))/LOG(2))))","v":-0.42379494069539858},null,{"$f":"N7","v":111},{"$f":"COUNTIF(L15:L21,Y7)","v":4},{"$f":"Z7/(AB4-Z11)","v":0.5714285714285714},{"$f":"IF(AA7=0,0,(AA7*((LOG(AA7))/LOG(2))))","v":-0.46134566974720237},null,{"$f":"N7","v":111},{"$f":"COUNTIF(L22:L29,AD7)","v":2},{"$f":"AE7/(AG4-AE11)","v":0.2857142857142857},{"$f":"IF(AF7=0,0,(AF7*((LOG(AF7))/LOG(2))))","v":-0.51638712058788683},null,{"$f":"N7","v":111},{"$f":"COUNTIF(L30:L37,AI7)","v":2},{"$f":"AJ7/(AL4-AJ11)","v":0.25},{"$f":"IF(AK7=0,0,(AK7*((LOG(AK7))/LOG(2))))","v":-0.5},null,{"$f":"N7","v":111},{"$f":"COUNTIF(L38:L44,AN7)","v":2},{"$f":"AO7/(AQ4-AO11)","v":0.33333333333333331},{"$f":"IF(AP7=0,0,(AP7*((LOG(AP7))/LOG(2))))","v":-0.52832083357371862},null,{"$f":"N7","v":111},{"$f":"COUNTIF(L45:L52,AS7)","v":2},{"$f":"AT7/(AV4-AT11)","v":0.2857142857142857},{"$f":"IF(AU7=0,0,(AU7*((LOG(AU7))/LOG(2))))","v":-0.51638712058788683}]
[12,142,13,154,24,169,null,null,null,null,0,112,null,112,{"$f":"COUNTIF($L$7:$L$500,N8)","v":7},{"$f":"O8/$Q$4","v":0.15555555555555556},{"$f":"IF(P8=0,0,(P8*((LOG(P8))/LOG(2))))","v":-0.41758860488676652},null,null,{"$f":"N8","v":112},{"$f":"COUNTIF(L7:L14,T8)","v":2},{"$f":"U8/(W4-U11)","v":0.25},{"$f":"IF(V8=0,0,(V8*((LOG(V8))/LOG(2))))","v":-0.5},null,{"$f":"N8","v":112},{"$f":"COUNTIF(L15:L21,Y8)","v":0},{"$f":"Z8/(AB4-Z11)","v":0},{"$f":"IF(AA8=0,0,(AA8*((LOG(AA8))/LOG(2))))","v":0},null,{"$f":"N8","v":112},{"$f":"COUNTIF(L22:L29,AD8)","v":3},{"$f":"AE8/(AG4-AE11)","v":0.42857142857142855},{"$f":"IF(AF8=0,0,(AF8*((LOG(AF8))/LOG(2))))","v":-0.52388246628704915},null,{"$f":"N8","v":112},{"$f":"COUNTIF(L30:L37,AI8)","v":0},{"$f":"AJ8/(AL4-AJ11)","v":0},{"$f":"IF(AK8=0,0,(AK8*((LOG(AK8))/LOG(2))))","v":0},null,{"$f":"N8","v":112},{"$f":"COUNTIF(L38:L44,AN8)","v":1},{"$f":"AO8/(AQ4-AO11)","v":0.16666666666666666},{"$f":"IF(AP8=0,0,(AP8*((LOG(AP8))/LOG(2))))","v":-0.43082708345352599},null,{"$f":"N8","v":112},{"$f":"COUNTIF(L45:L52,AS8)","v":1},{"$f":"AT8/(AV4-AT11)","v":0.14285714285714285},{"$f":"IF(AU8=0,0,(AU8*((LOG(AU8))/LOG(2))))","v":-0.40105070315108626}]
[12,274,13,282,13,289,null,null,null,null,0,111,null,121,{"$f":"COUNTIF($L$7:$L$500,N9)","v":0},{"$f":"O9/$Q$4","v":0},{"$f":"IF(P9=0,0,(P9*((LOG(P9))/LOG(2))))","v":0},null,null,{"$f":"N9","v":121},{"$f":"COUNTIF(L7:L14,T9)","v":0},{"$f":"U9/(W4-U11)","v":0},{"$f":"IF(V9=0,0,(V9*((LOG(V9))/LOG(2))))","v":0},null,{"$f":"N9","v":121},{"$f":"COUNTIF(L15:L21,Y9)","v":0},{"$f":"Z9/(AB4-Z11)","v":0},{"$f":"IF(AA9=0,0,(AA9*((LOG(AA9))/LOG(2))))","v":0},null,{"$f":"N9","v":121},{"$f":"COUNTIF(L22:L29,AD9)","v":0},{"$f":"AE9/(AG4-AE11)","v":0},{"$f":"IF(AF9=0,0,(AF9*((LOG(AF9))/LOG(2))))","v":0},null,{"$f":"N9","v":121},{"$f":"COUNTIF(L30:L37,AI9)","v":0},{"$f":"AJ9/(AL4-AJ11)","v":0},{"$f":"IF(AK9=0,0,(AK9*((LOG(AK9))/LOG(2))))","v":0},null,{"$f":"N9","v":121},{"$f":"COUNTIF(L38:L44,AN9)","v":0},{"$f":"AO9/(AQ4-AO11)","v":0},{"$f":"IF(AP9=0,0,(AP9*((LOG(AP9))/LOG(2))))","v":0},null,{"$f":"N9","v":121},{"$f":"COUNTIF(L45:L52,AS9)","v":0},{"$f":"AT9/(AV4-AT11)","v":0},{"$f":"IF(AU9=0,0,(AU9*((LOG(AU9))/LOG(2))))","v":0}]
[12,509,13,515,13,524,null,null,null,null,0,111,null,122,{"$f":"COUNTIF($L$7:$L$500,N10)","v":10},{"$f":"O10/$Q$4","v":0.22222222222222221},{"$f":"IF(P10=0,0,(P10*((LOG(P10))/LOG(2))))","v":-0.48220555587606945},null,null,{"$f":"N10","v":122},{"$f":"COUNTIF(L7:L14,T10)","v":0},{"$f":"U10/(W4-U11)","v":0},{"$f":"IF(V10=0,0,(V10*((LOG(V10))/LOG(2))))","v":0},null,{"$f":"N10","v":122},{"$f":"COUNTIF(L15:L21,Y10)","v":2},{"$f":"Z10/(AB4-Z11)","v":0.2857142857142857},{"$f":"IF(AA10=0,0,(AA10*((LOG(AA10))/LOG(2))))","v":-0.51638712058788683},null,{"$f":"N10","v":122},{"$f":"COUNTIF(L22:L29,AD10)","v":0},{"$f":"AE10/(AG4-AE11)","v":0},{"$f":"IF(AF10=0,0,(AF10*((LOG(AF10))/LOG(2))))","v":0},null,{"$f":"N10","v":122},{"$f":"COUNTIF(L30:L37,AI10)","v":5},{"$f":"AJ10/(AL4-AJ11)","v":0.625},{"$f":"IF(AK10=0,0,(AK10*((LOG(AK10))/LOG(2))))","v":-0.42379494069539858},null,{"$f":"N10","v":122},{"$f":"COUNTIF(L38:L44,AN10)","v":1},{"$f":"AO10/(AQ4-AO11)","v":0.16666666666666666},{"$f":"IF(AP10=0,0,(AP10*((LOG(AP10))/LOG(2))))","v":-0.43082708345352599},null,{"$f":"N10","v":122},{"$f":"COUNTIF(L45:L52,AS10)","v":2},{"$f":"AT10/(AV4-AT11)","v":0.2857142857142857},{"$f":"IF(AU10=0,0,(AU10*((LOG(AU10))/LOG(2))))","v":-0.51638712058788683}]
[12,623,13,628,24,649,null,null,null,null,0,112,null,211,{"$f":"COUNTIF($L$7:$L$500,N11)","v":2},{"$f":"O11/$Q$4","v":4.4444444444444446E-2},{"$f":"IF(P11=0,0,(P11*((LOG(P11))/LOG(2))))","v":-0.19963791539243},null,null,{"$f":"N11","v":211},{"$f":"COUNTIF(L7:L14,T11)","v":0},null,null,null,{"$f":"N11","v":211},{"$f":"COUNTIF(L15:L21,Y11)","v":0},null,null,null,{"$f":"N11","v":211},{"$f":"COUNTIF(L22:L29,AD11)","v":1},null,null,null,{"$f":"N11","v":211},{"$f":"COUNTIF(L30:L37,AI11)","v":0},null,null,null,{"$f":"N11","v":211},{"$f":"COUNTIF(L38:L44,AN11)","v":1},null,null,null,{"$f":"N11","v":211},{"$f":"COUNTIF(L45:L52,AS11)","v":0}]
[12,792,13,798,13,805,null,null,null,null,0,111,null,212,{"$f":"COUNTIF($L$7:$L$500,N12)","v":1},{"$f":"O12/$Q$4","v":2.2222222222222223E-2},{"$f":"IF(P12=0,0,(P12*((LOG(P12))/LOG(2))))","v":-0.12204117991843723},null,null,{"$f":"N12","v":212},{"$f":"COUNTIF(L7:L14,T12)","v":0},{"$f":"U12/(W4-U11)","v":0},{"$f":"IF(V12=0,0,(V12*((LOG(V12))/LOG(2))))","v":0},null,{"$f":"N12","v":212},{"$f":"COUNTIF(L15:L21,Y12)","v":0},{"$f":"Z12/(AB4-Z11)","v":0},{"$f":"IF(AA12=0,0,(AA12*((LOG(AA12))/LOG(2))))","v":0},null,{"$f":"N12","v":212},{"$f":"COUNTIF(L22:L29,AD12)","v":1},{"$f":"AE12/(AG4-AE11)","v":0.14285714285714285},{"$f":"IF(AF12=0,0,(AF12*((LOG(AF12))/LOG(2))))","v":-0.40105070315108626},null,{"$f":"N12","v":212},{"$f":"COUNTIF(L30:L37,AI12)","v":0},{"$f":"AJ12/(AL4-AJ11)","v":0},{"$f":"IF(AK12=0,0,(AK12*((LOG(AK12))/LOG(2))))","v":0},null,{"$f":"N12","v":212},{"$f":"COUNTIF(L38:L44,AN12)","v":0},{"$f":"AO12/(AQ4-AO11)","v":0},{"$f":"IF(AP12=0,0,(AP12*((LOG(AP12))/LOG(2))))","v":0},null,{"$f":"N12","v":212},{"$f":"COUNTIF(L45:L52,AS12)","v":0},{"$f":"AT12/(AV4-AT11)","v":0},{"$f":"IF(AU12=0,0,(AU12*((LOG(AU12))/LOG(2))))","v":0}]
[12,997,13,1001,13,1010,null,null,null,null,0,111,null,221,{"$f":"COUNTIF($L$7:$L$500,N13)","v":3},{"$f":"O13/$Q$4","v":6.6666666666666666E-2},{"$f":"IF(P13=0,0,(P13*((LOG(P13))/LOG(2))))","v":-0.26045937304056793},null,null,{"$f":"N13","v":221},{"$f":"COUNTIF(L7:L14,T13)","v":1},{"$f":"U13/(W4-U11)","v":0.125},{"$f":"IF(V13=0,0,(V13*((LOG(V13))/LOG(2))))","v":-0.375},null,{"$f":"N13","v":221},{"$f":"COUNTIF(L15:L21,Y13)","v":1},{"$f":"Z13/(AB4-Z11)","v":0.14285714285714285},{"$f":"IF(AA13=0,0,(AA13*((LOG(AA13))/LOG(2))))","v":-0.40105070315108626},null,{"$f":"N13","v":221},{"$f":"COUNTIF(L22:L29,AD13)","v":0},{"$f":"AE13/(AG4-AE11)","v":0},{"$f":"IF(AF13=0,0,(AF13*((LOG(AF13))/LOG(2))))","v":0},null,{"$f":"N13","v":221},{"$f":"COUNTIF(L30:L37,AI13)","v":0},{"$f":"AJ13/(AL4-AJ11)","v":0},{"$f":"IF(AK13=0,0,(AK13*((LOG(AK13))/LOG(2))))","v":0},null,{"$f":"N13","v":221},{"$f":"COUNTIF(L38:L44,AN13)","v":0},{"$f":"AO13/(AQ4-AO11)","v":0},{"$f":"IF(AP13=0,0,(AP13*((LOG(AP13))/LOG(2))))","v":0},null,{"$f":"N13","v":221},{"$f":"COUNTIF(L45:L52,AS13)","v":1},{"$f":"AT13/(AV4-AT11)","v":0.14285714285714285},{"$f":"IF(AU13=0,0,(AU13*((LOG(AU13))/LOG(2))))","v":-0.40105070315108626}]
[12,1115,13,1138,13,1214,null,null,null,null,0,111,null,222,{"$f":"COUNTIF($L$7:$L$500,N14)","v":5},{"$f":"O14/$Q$4","v":0.1111111111111111},{"$f":"IF(P14=0,0,(P14*((LOG(P14))/LOG(2))))","v":-0.3522138890491458},null,null,{"$f":"N14","v":222},{"$f":"COUNTIF(L7:L14,T14)","v":0},{"$f":"U14/(W4-U11)","v":0},{"$f":"IF(V14=0,0,(V14*((LOG(V14))/LOG(2))))","v":0},null,{"$f":"N14","v":222},{"$f":"COUNTIF(L15:L21,Y14)","v":0},{"$f":"Z14/(AB4-Z11)","v":0},{"$f":"IF(AA14=0,0,(AA14*((LOG(AA14))/LOG(2))))","v":0},null,{"$f":"N14","v":222},{"$f":"COUNTIF(L22:L29,AD14)","v":1},{"$f":"AE14/(AG4-AE11)","v":0.14285714285714285},{"$f":"IF(AF14=0,0,(AF14*((LOG(AF14))/LOG(2))))","v":-0.40105070315108626},null,{"$f":"N14","v":222},{"$f":"COUNTIF(L30:L37,AI14)","v":1},{"$f":"AJ14/(AL4-AJ11)","v":0.125},{"$f":"IF(AK14=0,0,(AK14*((LOG(AK14))/LOG(2))))","v":-0.375},null,{"$f":"N14","v":222},{"$f":"COUNTIF(L38:L44,AN14)","v":2},{"$f":"AO14/(AQ4-AO11)","v":0.33333333333333331},{"$f":"IF(AP14=0,0,(AP14*((LOG(AP14))/LOG(2))))","v":-0.52832083357371862},null,{"$f":"N14","v":222},{"$f":"COUNTIF(L45:L52,AS14)","v":1},{"$f":"AT14/(AV4-AT11)","v":0.14285714285714285},{"$f":"IF(AU14=0,0,(AU14*((LOG(AU14))/LOG(2))))","v":-0.40105070315108626}]
[12,1314,13,1344,13,1345,null,null,null,null,0,111,null,null,null,{"$f":"SUM(P7:P14)","v":1},{"$f":"-SUM(Q7:Q14)","v":2.3646939478600548},null,null,null,null,{"$f":"SUM(V7:V14)","v":1},{"$f":"-SUM(W7:W14)","v":1.2987949406953985},null,null,null,{"$f":"SUM(AA7:AA14)","v":1},{"$f":"-SUM(AB7:AB14)","v":1.3787834934861753},null,null,null,{"$f":"SUM(AF7:AF14)","v":0.99999999999999978},{"$f":"-SUM(AG7:AG14)","v":1.8423709931771088},null,null,null,{"$f":"SUM(AK7:AK14)","v":1},{"$f":"-SUM(AL7:AL14)","v":1.2987949406953985},null,null,null,{"$f":"SUM(AP7:AP14)","v":1},{"$f":"-SUM(AQ7:AQ14)","v":1.9182958340544891},null,null,null,{"$f":"SUM(AU7:AU14)","v":0.99999999999999978},{"$f":"-SUM(AV7:AV14)","v":2.2359263506290326}]
[21,1487,22,1498,13,1522,null,null,null,null,0,221,null,null,null,"U=",{"$f":"Q15/(LOG(Q4)/LOG(2))","v":0.430582156219807},null,null,null,null,"U1=",{"$f":"W15/(LOG(W4)/LOG(2))","v":0.43293164689846614},null,null,null,"U2=",{"$f":"AB15/(LOG(AB4)/LOG(2))","v":0.49113258984568253},null,null,null,"U3=",{"$f":"AG15/(LOG(AG4)/LOG(2))","v":0.61412366439236965},null,null,null,"U4=",{"$f":"AL15/(LOG(AL4)/LOG(2))","v":0.43293164689846614},null,null,null,"U5=",{"$f":"AQ15/(LOG(AQ4)/LOG(2))","v":0.68331076308958683},null,null,null,"U6=",{"$f":"AV15/(LOG(AV4)/LOG(2))","v":0.79645303593827299}]
[12,1634,24,1648,24,1658,null,null,null,null,0,122]
[12,1755,24,1830,24,1838,null,null,null,null,0,122]
[12,2107,13,2114,13,2118,null,null,null,null,0,111,null,"Total Target Seq"]
[12,2302,13,2304,13,2317,null,null,null,null,0,111,null,{"$f":"COUNTIF(L7:L52,G3)","v":2},null,8,7,8,8,7,8]
[12,2545,13,2558,13,2578,null,null,null,null,0,111,null,null,null,"% of reinforcement given in 6 equal intervals based on number of trials "]
[12,2675,13,2677,24,2699,null,null,null,null,0,112,null,null,null,"%_1","%_2","%_3","%_4","%_5","%_6"]
[12,2793,13,2814,13,2817,null,null,null,null,0,111,null,null,"target sequence",{"$f":"$G$3","v":211},{"$f":"$G$3","v":211},{"$f":"$G$3","v":211},{"$f":"$G$3","v":211},{"$f":"$G$3","v":211},{"$f":"$G$3","v":211}]
[12,2913,13,2929,24,2953,null,null,null,null,0,112,null,null,"total reinforcement",{"$f":"U11","v":0},{"$f":"Z11","v":0},{"$f":"AE11","v":1},{"$f":"AJ11","v":0},{"$f":"AO11","v":1},{"$f":"AT11","v":0}]
[12,3111,13,3116,13,3129,null,null,null,null,0,111,null,null,"% target"]
[21,3236,11,3265,11,3275,null,null,null,null,0,211,null,null,"CCRF"]
[12,3423,13,3443,24,3445,null,null,null,null,0,112,null,null,"% CCRf"]
[21,3565,11,3624,22,3627,null,null,null,null,0,212,null,null,"average response rate",{"$f":"F14/P20","v":151.75},{"$f":"(F21-F14)/Q20","v":194.85714285714286},{"$f":"(F29-F21)/R20","v":156.125},{"$f":"(F37-F29)/S20","v":138.625},{"$f":"(F44-F37)/T20","v":218.14285714285714},{"$f":"(F52-F44)/U20","v":-807.875}]
[21,3810,22,3818,24,3827,null,null,null,null,0,222]
[21,3946,22,3955,24,3967,null,null,null,null,0,222]
[12,4074,13,4089,13,4093,null,null,null,null,0,111]
[12,4226,24,4241,24,4249,null,null,null,null,0,122]
[12,4344,24,4363,24,4370,null,null,null,null,0,122]
[12,4470,24,4487,24,4564,null,null,null,null,0,122]
[12,4669,24,4686,24,4694,null,null,null,null,0,122]
[12,4815,24,4829,24,4838,null,null,null,null,0,122]
[12,4930,13,4932,13,4936,null,null,null,null,0,111]
[12,5041,24,5056,24,5065,null,null,null,null,0,122]
[21,5262,22,5275,24,5286,null,null,null,null,0,222]
[21,5387,11,5415,11,5424,null,null,null,null,0,211]
[12,5912,13,5939,13,6037,null,null,null,null,0,111]
[12,6139,13,6142,13,6149,null,null,null,null,0,111]
[12,6298,13,6315,24,6325,null,null,null,null,0,112]
[21,6443,22,6453,24,6463,null,null,null,null,0,222]
[21,6643,22,6653,24,6663,null,null,null,null,0,222]
[12,6787,24,6798,24,6807,null,null,null,null,0,122]
[12,6904,24,6928,24,6938,null,null,null,null,0,122]
[21,7079,22,7088,13,7132,null,null,null,null,0,221]
[12,7295,13,7302,13,7308,null,null,null,null,0,111]
[12,7496,13,7542,13,7558,null,null,null,null,0,111]
[12,7903,13,7920,24,7923,null,null,null,null,0,112]
[21,8158,11,8244,null,null,null,null,null,null,null,21]

{"sheet":"!L917A4B.axt","index":31,"n_rows":28,"n_cols":48,"rows_kept":28,"cut":false,"hidden":false,"merged":[[4,39,4,42],[5,39,5,40],[4,44,4,47],[5,44,5,45],[4,24,4,27],[5,24,5,25],[4,29,4,32],[5,29,5,30],[4,34,4,37],[5,34,5,35],[1,1,1,2],[5,13,5,14],[18,13,18,14],[19,13,19,14],[4,19,4,22],[5,19,5,20]]}
["Report for:!L917A4B.axt"]
["Date:","<date>"]
["Hen:","<hen>",null,null,null,"Correct Sequence",{"$f":"Start!J2","v":211},null,null,null,null,null,null,null,null,"Total Sequences in Data",{"$f":"4994-COUNTBLANK(L7:L5000)","v":21},null,null,null,null,"Total Sequences in Block Data",{"$f":"COUNTA(L7:L10)","v":4},null,null,null,"Total Sequences in Block Data",{"$f":"COUNTA(L11:L13)","v":3},null,null,null,"Total Sequences in Block Data",{"$f":"COUNTA(L14:L17)","v":4},null,null,null,"Total Sequences in Block Data",{"$f":"COUNTA(L18:L20)","v":3},null,null,null,"Total Sequences in Block Data",{"$f":"COUNTA(L21:L24)","v":4},null,null,null,"Total Sequences in Block Data",{"$f":"COUNTA(L25:L27)","v":3}]
[null,null,null,null,null,null,null,null,null,null,null,null,null,null,null,"Total Sequences in Summary",{"$f":"SUM(O7:O14)","v":21},null,null,null,null,"Total Sequences in Block Summary",{"$f":"SUM(U7:U14)","v":4},null,null,null,"Total Sequences in Block Summary",{"$f":"SUM(Z7:Z14)","v":3},null,null,null,"Total Sequences in Block Summary",{"$f":"SUM(AE7:AE14)","v":4},null,null,null,"Total Sequences in Block Summary",{"$f":"SUM(AJ7:AJ14)","v":3},null,null,null,"Total Sequences in Block Summary",{"$f":"SUM(AO7:AO14)","v":4},null,null,null,"Total Sequences in Block Summary",{"$f":"SUM(AT7:AT14)","v":3}]
[null,null,null,null,null,null,null,null,null,null,null,null,null,null,null,null,null,null,null,"Block 1",null,null,null,null,"Block 2",null,null,null,null,"Block 3",null,null,null,null,"Block 4",null,null,null,null,"Block 5",null,null,null,null,"Block 6"]
["Sequence\nComponent\n1","Time\n1","Sequence\nComponent\n2","Time\n2","Sequence\nComponent\n3","Time\n3","Sequence\nComponent\n4","Time\n4","Sequence\nComponent\n5","Time\n5","Correct?\n0=No 1=Yes","Sequence",null,"Frequency",null,"Relative Frequency","Variability",null,null,"Frequency",null,"Relative Frequency","Variability",null,"Frequency",null,"Relative Frequency","Variability",null,"Frequency",null,"Relative Frequency","Variability",null,"Frequency",null,"Relative Frequency","Variability",null,"Frequency",null,"Relative Frequency","Variability",null,"Frequency",null,"Relative Frequency","Variability"]
[12,81,24,103,24,174,null,null,null,null,0,122,null,111,{"$f":"COUNTIF($L$7:$L$500,N7)","v":0},{"$f":"O7/$Q$4","v":0},{"$f":"IF(P7=0,0,(P7*((LOG(P7))/LOG(2))))","v":0},null,null,{"$f":"N7","v":111},{"$f":"COUNTIF(L7:L10,T7)","v":0},{"$f":"U7/(W4-U11)","v":0},{"$f":"IF(V7=0,0,(V7*((LOG(V7))/LOG(2))))","v":0},null,{"$f":"N7","v":111},{"$f":"COUNTIF(L11:L13,Y7)","v":0},{"$f":"Z7/(AB4-Z11)","v":0},{"$f":"IF(AA7=0,0,(AA7*((LOG(AA7))/LOG(2))))","v":0},null,{"$f":"N7","v":111},{"$f":"COUNTIF(L14:L17,AD7)","v":0},{"$f":"AE7/(AG4-AE11)","v":0},{"$f":"IF(AF7=0,0,(AF7*((LOG(AF7))/LOG(2))))","v":0},null,{"$f":"N7","v":111},{"$f":"COUNTIF(L18:L20,AI7)","v":0},{"$f":"AJ7/(AL4-AJ11)","v":0},{"$f":"IF(AK7=0,0,(AK7*((LOG(AK7))/LOG(2))))","v":0},null,{"$f":"N7","v":111},{"$f":"COUNTIF(L21:L24,AN7)","v":0},{"$f":"AO7/(AQ4-AO11)","v":0},{"$f":"IF(AP7=0,0,(AP7*((LOG(AP7))/LOG(2))))","v":0},null,{"$f":"N7","v":111},{"$f":"COUNTIF(L25:L27,AS7)","v":0},{"$f":"AT7/(AV4-AT11)","v":0},{"$f":"IF(AU7=0,0,(AU7*((LOG(AU7))/LOG(2))))","v":0}]
[21,310,22,327,24,339,null,null,null,null,0,222,null,112,{"$f":"COUNTIF($L$7:$L$500,N8)","v":0},{"$f":"O8/$Q$4","v":0},{"$f":"IF(P8=0,0,(P8*((LOG(P8))/LOG(2))))","v":0},null,null,{"$f":"N8","v":112},{"$f":"COUNTIF(L7:L10,T8)","v":0},{"$f":"U8/(W4-U11)","v":0},{"$f":"IF(V8=0,0,(V8*((LOG(V8))/LOG(2))))","v":0},null,{"$f":"N8","v":112},{"$f":"COUNTIF(L11:L13,Y8)","v":0},{"$f":"Z8/(AB4-Z11)","v":0},{"$f":"IF(AA8=0,0,(AA8*((LOG(AA8))/LOG(2))))","v":0},null,{"$f":"N8","v":112},{"$f":"COUNTIF(L14:L17,AD8)","v":0},{"$f":"AE8/(AG4-AE11)","v":0},{"$f":"IF(AF8=0,0,(AF8*((LOG(AF8))/LOG(2))))","v":0},null,{"$f":"N8","v":112},{"$f":"COUNTIF(L18:L20,AI8)","v":0},{"$f":"AJ8/(AL4-AJ11)","v":0},{"$f":"IF(AK8=0,0,(AK8*((LOG(AK8))/LOG(2))))","v":0},null,{"$f":"N8","v":112},{"$f":"COUNTIF(L21:L24,AN8)","v":0},{"$f":"AO8/(AQ4-AO11)","v":0},{"$f":"IF(AP8=0,0,(AP8*((LOG(AP8))/LOG(2))))","v":0},null,{"$f":"N8","v":112},{"$f":"COUNTIF(L25:L27,AS8)","v":0},{"$f":"AT8/(AV4-AT11)","v":0},{"$f":"IF(AU8=0,0,(AU8*((LOG(AU8))/LOG(2))))","v":0}]
[21,708,22,721,24,808,null,null,null,null,0,222,null,121,{"$f":"COUNTIF($L$7:$L$500,N9)","v":0},{"$f":"O9/$Q$4","v":0},{"$f":"IF(P9=0,0,(P9*((LOG(P9))/LOG(2))))","v":0},null,null,{"$f":"N9","v":121},{"$f":"COUNTIF(L7:L10,T9)","v":0},{"$f":"U9/(W4-U11)","v":0},{"$f":"IF(V9=0,0,(V9*((LOG(V9))/LOG(2))))","v":0},null,{"$f":"N9","v":121},{"$f":"COUNTIF(L11:L13,Y9)","v":0},{"$f":"Z9/(AB4-Z11)","v":0},{"$f":"IF(AA9=0,0,(AA9*((LOG(AA9))/LOG(2))))","v":0},null,{"$f":"N9","v":121},{"$f":"COUNTIF(L14:L17,AD9)","v":0},{"$f":"AE9/(AG4-AE11)","v":0},{"$f":"IF(AF9=0,0,(AF9*((LOG(AF9))/LOG(2))))","v":0},null,{"$f":"N9","v":121},{"$f":"COUNTIF(L18:L20,AI9)","v":0},{"$f":"AJ9/(AL4-AJ11)","v":0},{"$f":"IF(AK9=0,0,(AK9*((LOG(AK9))/LOG(2))))","v":0},null,{"$f":"N9","v":121},{"$f":"COUNTIF(L21:L24,AN9)","v":0},{"$f":"AO9/(AQ4-AO11)","v":0},{"$f":"IF(AP9=0,0,(AP9*((LOG(AP9))/LOG(2))))","v":0},null,{"$f":"N9","v":121},{"$f":"COUNTIF(L25:L27,AS9)","v":0},{"$f":"AT9/(AV4-AT11)","v":0},{"$f":"IF(AU9=0,0,(AU9*((LOG(AU9))/LOG(2))))","v":0}]
[21,934,22,943,24,955,null,null,null,null,0,222,null,122,{"$f":"COUNTIF($L$7:$L$500,N10)","v":6},{"$f":"O10/$Q$4","v":0.2857142857142857},{"$f":"IF(P10=0,0,(P10*((LOG(P10))/LOG(2))))","v":-0.51638712058788683},null,null,{"$f":"N10","v":122},{"$f":"COUNTIF(L7:L10,T10)","v":1},{"$f":"U10/(W4-U11)","v":0.25},{"$f":"IF(V10=0,0,(V10*((LOG(V10))/LOG(2))))","v":-0.5},null,{"$f":"N10","v":122},{"$f":"COUNTIF(L11:L13,Y10)","v":1},{"$f":"Z10/(AB4-Z11)","v":0.33333333333333331},{"$f":"IF(AA10=0,0,(AA10*((LOG(AA10))/LOG(2))))","v":-0.52832083357371862},null,{"$f":"N10","v":122},{"$f":"COUNTIF(L14:L17,AD10)","v":2},{"$f":"AE10/(AG4-AE11)","v":0.5},{"$f":"IF(AF10=0,0,(AF10*((LOG(AF10))/LOG(2))))","v":-0.5},null,{"$f":"N10","v":122},{"$f":"COUNTIF(L18:L20,AI10)","v":1},{"$f":"AJ10/(AL4-AJ11)","v":0.33333333333333331},{"$f":"IF(AK10=0,0,(AK10*((LOG(AK10))/LOG(2))))","v":-0.52832083357371862},null,{"$f":"N10","v":122},{"$f":"COUNTIF(L21:L24,AN10)","v":1},{"$f":"AO10/(AQ4-AO11)","v":0.25},{"$f":"IF(AP10=0,0,(AP10*((LOG(AP10))/LOG(2))))","v":-0.5},null,{"$f":"N10","v":122},{"$f":"COUNTIF(L25:L27,AS10)","v":0},{"$f":"AT10/(AV4-AT11)","v":0},{"$f":"IF(AU10=0,0,(AU10*((LOG(AU10))/LOG(2))))","v":0}]
[21,1062,22,1069,24,1077,null,null,null,null,0,222,null,211,{"$f":"COUNTIF($L$7:$L$500,N11)","v":0},{"$f":"O11/$Q$4","v":0},{"$f":"IF(P11=0,0,(P11*((LOG(P11))/LOG(2))))","v":0},null,null,{"$f":"N11","v":211},{"$f":"COUNTIF(L7:L10,T11)","v":0},null,null,null,{"$f":"N11","v":211},{"$f":"COUNTIF(L11:L13,Y11)","v":0},null,null,null,{"$f":"N11","v":211},{"$f":"COUNTIF(L14:L17,AD11)","v":0},null,null,null,{"$f":"N11","v":211},{"$f":"COUNTIF(L18:L20,AI11)","v":0},null,null,null,{"$f":"N11","v":211},{"$f":"COUNTIF(L21:L24,AN11)","v":0},null,null,null,{"$f":"N11","v":211},{"$f":"COUNTIF(L25:L27,AS11)","v":0}]
[21,1190,22,1198,24,1208,null,null,null,null,0,222,null,212,{"$f":"COUNTIF($L$7:$L$500,N12)","v":1},{"$f":"O12/$Q$4","v":4.7619047619047616E-2},{"$f":"IF(P12=0,0,(P12*((LOG(P12))/LOG(2))))","v":-0.20915797251327431},null,null,{"$f":"N12","v":212},{"$f":"COUNTIF(L7:L10,T12)","v":0},{"$f":"U12/(W4-U11)","v":0},{"$f":"IF(V12=0,0,(V12*((LOG(V12))/LOG(2))))","v":0},null,{"$f":"N12","v":212},{"$f":"COUNTIF(L11:L13,Y12)","v":0},{"$f":"Z12/(AB4-Z11)","v":0},{"$f":"IF(AA12=0,0,(AA12*((LOG(AA12))/LOG(2))))","v":0},null,{"$f":"N12","v":212},{"$f":"COUNTIF(L14:L17,AD12)","v":0},{"$f":"AE12/(AG4-AE11)","v":0},{"$f":"IF(AF12=0,0,(AF12*((LOG(AF12))/LOG(2))))","v":0},null,{"$f":"N12","v":212},{"$f":"COUNTIF(L18:L20,AI12)","v":1},{"$f":"AJ12/(AL4-AJ11)","v":0.33333333333333331},{"$f":"IF(AK12=0,0,(AK12*((LOG(AK12))/LOG(2))))","v":-0.52832083357371862},null,{"$f":"N12","v":212},{"$f":"COUNTIF(L21:L24,AN12)","v":0},{"$f":"AO12/(AQ4-AO11)","v":0},{"$f":"IF(AP12=0,0,(AP12*((LOG(AP12))/LOG(2))))","v":0},null,{"$f":"N12","v":212},{"$f":"COUNTIF(L25:L27,AS12)","v":0},{"$f":"AT12/(AV4-AT11)","v":0},{"$f":"IF(AU12=0,0,(AU12*((LOG(AU12))/LOG(2))))","v":0}]
[12,1301,24,1317,24,1325,null,null,null,null,0,122,null,221,{"$f":"COUNTIF($L$7:$L$500,N13)","v":1},{"$f":"O13/$Q$4","v":4.7619047619047616E-2},{"$f":"IF(P13=0,0,(P13*((LOG(P13))/LOG(2))))","v":-0.20915797251327431},null,null,{"$f":"N13","v":221},{"$f":"COUNTIF(L7:L10,T13)","v":0},{"$f":"U13/(W4-U11)","v":0},{"$f":"IF(V13=0,0,(V13*((LOG(V13))/LOG(2))))","v":0},null,{"$f":"N13","v":221},{"$f":"COUNTIF(L11:L13,Y13)","v":0},{"$f":"Z13/(AB4-Z11)","v":0},{"$f":"IF(AA13=0,0,(AA13*((LOG(AA13))/LOG(2))))","v":0},null,{"$f":"N13","v":221},{"$f":"COUNTIF(L14:L17,AD13)","v":1},{"$f":"AE13/(AG4-AE11)","v":0.25},{"$f":"IF(AF13=0,0,(AF13*((LOG(AF13))/LOG(2))))","v":-0.5},null,{"$f":"N13","v":221},{"$f":"COUNTIF(L18:L20,AI13)","v":0},{"$f":"AJ13/(AL4-AJ11)","v":0},{"$f":"IF(AK13=0,0,(AK13*((LOG(AK13))/LOG(2))))","v":0},null,{"$f":"N13","v":221},{"$f":"COUNTIF(L21:L24,AN13)","v":0},{"$f":"AO13/(AQ4-AO11)","v":0},{"$f":"IF(AP13=0,0,(AP13*((LOG(AP13))/LOG(2))))","v":0},null,{"$f":"N13","v":221},{"$f":"COUNTIF(L25:L27,AS13)","v":0},{"$f":"AT13/(AV4-AT11)","v":0},{"$f":"IF(AU13=0,0,(AU13*((LOG(AU13))/LOG(2))))","v":0}]
[12,1461,24,1527,24,1656,null,null,null,null,0,122,null,222,{"$f":"COUNTIF($L$7:$L$500,N14)","v":13},{"$f":"O14/$Q$4","v":0.61904761904761907},{"$f":"IF(P14=0,0,(P14*((LOG(P14))/LOG(2))))","v":-0.42830524572808026},null,null,{"$f":"N14","v":222},{"$f":"COUNTIF(L7:L10,T14)","v":3},{"$f":"U14/(W4-U11)","v":0.75},{"$f":"IF(V14=0,0,(V14*((LOG(V14))/LOG(2))))","v":-0.31127812445913283},null,{"$f":"N14","v":222},{"$f":"COUNTIF(L11:L13,Y14)","v":2},{"$f":"Z14/(AB4-Z11)","v":0.66666666666666663},{"$f":"IF(AA14=0,0,(AA14*((LOG(AA14))/LOG(2))))","v":-0.38997500048077083},null,{"$f":"N14","v":222},{"$f":"COUNTIF(L14:L17,AD14)","v":1},{"$f":"AE14/(AG4-AE11)","v":0.25},{"$f":"IF(AF14=0,0,(AF14*((LOG(AF14))/LOG(2))))","v":-0.5},null,{"$f":"N14","v":222},{"$f":"COUNTIF(L18:L20,AI14)","v":1},{"$f":"AJ14/(AL4-AJ11)","v":0.33333333333333331},{"$f":"IF(AK14=0,0,(AK14*((LOG(AK14))/LOG(2))))","v":-0.52832083357371862},null,{"$f":"N14","v":222},{"$f":"COUNTIF(L21:L24,AN14)","v":3},{"$f":"AO14/(AQ4-AO11)","v":0.75},{"$f":"IF(AP14=0,0,(AP14*((LOG(AP14))/LOG(2))))","v":-0.31127812445913283},null,{"$f":"N14","v":222},{"$f":"COUNTIF(L25:L27,AS14)","v":3},{"$f":"AT14/(AV4-AT11)","v":1},{"$f":"IF(AU14=0,0,(AU14*((LOG(AU14))/LOG(2))))","v":0}]
[21,1805,22,1816,24,1888,null,null,null,null,0,222,null,null,null,{"$f":"SUM(P7:P14)","v":1},{"$f":"-SUM(Q7:Q14)","v":1.3630083113425155},null,null,null,null,{"$f":"SUM(V7:V14)","v":1},{"$f":"-SUM(W7:W14)","v":0.81127812445913283},null,null,null,{"$f":"SUM(AA7:AA14)","v":1},{"$f":"-SUM(AB7:AB14)","v":0.91829583405448945},null,null,null,{"$f":"SUM(AF7:AF14)","v":1},{"$f":"-SUM(AG7:AG14)","v":1.5},null,null,null,{"$f":"SUM(AK7:AK14)","v":1},{"$f":"-SUM(AL7:AL14)","v":1.5849625007211559},null,null,null,{"$f":"SUM(AP7:AP14)","v":1},{"$f":"-SUM(AQ7:AQ14)","v":0.81127812445913283},null,null,null,{"$f":"SUM(AU7:AU14)","v":1},{"$f":"-SUM(AV7:AV14)","v":0}]
[12,1994,24,2013,24,2022,null,null,null,null,0,122,null,null,null,"U=",{"$f":"Q15/(LOG(Q4)/LOG(2))","v":0.31031644121936441},null,null,null,null,"U1=",{"$f":"W15/(LOG(W4)/LOG(2))","v":0.40563906222956642},null,null,null,"U2=",{"$f":"AB15/(LOG(AB4)/LOG(2))","v":0.57938016428569505},null,null,null,"U3=",{"$f":"AG15/(LOG(AG4)/LOG(2))","v":0.75},null,null,null,"U4=",{"$f":"AL15/(LOG(AL4)/LOG(2))","v":0.99999999999999989},null,null,null,"U5=",{"$f":"AQ15/(LOG(AQ4)/LOG(2))","v":0.40563906222956642},null,null,null,"U6=",{"$f":"AV15/(LOG(AV4)/LOG(2))","v":0}]
[21,2155,22,2177,13,2294,null,null,null,null,0,221]
[12,2655,24,2664,24,2673,null,null,null,null,0,122]
[21,2786,11,2789,22,2938,null,null,null,null,0,212,null,"Total Target Seq"]
[21,3042,22,3051,24,3125,null,null,null,null,0,222,null,{"$f":"COUNTIF(L7:L27,G3)","v":0},null,4,3,4,3,4,3]
[21,3247,22,3257,24,3266,null,null,null,null,0,222,null,null,null,"% of reinforcement given in 6 equal intervals based on number of trials "]
[21,3516,22,3525,24,3533,null,null,null,null,0,222,null,null,null,"%_1","%_2","%_3","%_4","%_5","%_6"]
[12,3663,24,3667,24,3675,null,null,null,null,0,122,null,null,"target sequence",{"$f":"$G$3","v":211},{"$f":"$G$3","v":211},{"$f":"$G$3","v":211},{"$f":"$G$3","v":211},{"$f":"$G$3","v":211},{"$f":"$G$3","v":211}]
[21,3853,22,3987,24,3996,null,null,null,null,0,222,null,null,"total reinforcement",{"$f":"U11","v":0},{"$f":"Z11","v":0},{"$f":"AE11","v":0},{"$f":"AJ11","v":0},{"$f":"AO11","v":0},{"$f":"AT11","v":0}]
[21,4107,22,4115,24,4124,null,null,null,null,0,222,null,null,"% target"]
[21,5124,22,5132,24,5187,null,null,null,null,0,222,null,null,"CCRF"]
[21,5945,22,5953,24,5961,null,null,null,null,0,222,null,null,"% CCRf"]
[null,null,null,null,null,null,null,null,null,null,null,null,null,null,"average response rate",{"$f":"F10/P20","v":238.75},{"$f":"(F13-F10)/Q20","v":123.33333333333333},{"$f":"(F17-F13)/R20","v":242.25},{"$f":"(F20-F17)/S20","v":277},{"$f":"(F24-F20)/T20","v":217.75},{"$f":"(F27-F24)/U20","v":655}]

{"sheet":"!L918A5B.axt","index":32,"n_rows":28,"n_cols":48,"rows_kept":28,"cut":false,"hidden":false,"merged":[[4,39,4,42],[5,39,5,40],[4,44,4,47],[5,44,5,45],[4,24,4,27],[5,24,5,25],[4,29,4,32],[5,29,5,30],[4,34,4,37],[5,34,5,35],[1,1,1,2],[5,13,5,14],[18,13,18,14],[19,13,19,14],[4,19,4,22],[5,19,5,20]]}
["Report for:!L918A5B.axt"]
["Date:","<date>"]
["Hen:","<hen>",null,null,null,"Correct Sequence",{"$f":"Start!J2","v":211},null,null,null,null,null,null,null,null,"Total Sequences in Data",{"$f":"4994-COUNTBLANK(L7:L5000)","v":13},null,null,null,null,"Total Sequences in Block Data",{"$f":"COUNTA(L7:L8)","v":2},null,null,null,"Total Sequences in Block Data",{"$f":"COUNTA(L9:L10)","v":2},null,null,null,"Total Sequences in Block Data",{"$f":"COUNTA(L11:L13)","v":3},null,null,null,"Total Sequences in Block Data",{"$f":"COUNTA(L14:L15)","v":2},null,null,null,"Total Sequences in Block Data",{"$f":"COUNTA(L16:L17)","v":2},null,null,null,"Total Sequences in Block Data",{"$f":"COUNTA(L18:L19)","v":2}]
[null,null,null,null,null,null,null,null,null,null,null,null,null,null,null,"Total Sequences in Summary",{"$f":"SUM(O7:O14)","v":13},null,null,null,null,"Total Sequences in Block Summary",{"$f":"SUM(U7:U14)","v":2},null,null,null,"Total Sequences in Block Summary",{"$f":"SUM(Z7:Z14)","v":2},null,null,null,"Total Sequences in Block Summary",{"$f":"SUM(AE7:AE14)","v":3},null,null,null,"Total Sequences in Block Summary",{"$f":"SUM(AJ7:AJ14)","v":2},null,null,null,"Total Sequences in Block Summary",{"$f":"SUM(AO7:AO14)","v":2},null,null,null,"Total Sequences in Block Summary",{"$f":"SUM(AT7:AT14)","v":2}]
[null,null,null,null,null,null,null,null,null,null,null,null,null,null,null,null,null,null,null,"Block 1",null,null,null,null,"Block 2",null,null,null,null,"Block 3",null,null,null,null,"Block 4",null,null,null,null,"Block 5",null,null,null,null,"Block 6"]
["Sequence\nComponent\n1","Time\n1","Sequence\nComponent\n2","Time\n2","Sequence\nComponent\n3","Time\n3","Sequence\nComponent\n4","Time\n4","Sequence\nComponent\n5","Time\n5","Correct?\n0=No 1=Yes","Sequence",null,"Frequency",null,"Relative Frequency","Variability",null,null,"Frequency",null,"Relative Frequency","Variability",null,"Frequency",null,"Relative Frequency","Variability",null,"Frequency",null,"Relative Frequency","Variability",null,"Frequency",null,"Relative Frequency","Variability",null,"Frequency",null,"Relative Frequency","Variability",null,"Frequency",null,"Relative Frequency","Variability"]
[21,80,22,88,24,97,null,null,null,null,0,222,null,111,{"$f":"COUNTIF($L$7:$L$500,N7)","v":0},{"$f":"O7/$Q$4","v":0},{"$f":"IF(P7=0,0,(P7*((LOG(P7))/LOG(2))))","v":0},null,null,{"$f":"N7","v":111},{"$f":"COUNTIF(L7:L8,T7)","v":0},{"$f":"U7/(W4-U11)","v":0},{"$f":"IF(V7=0,0,(V7*((LOG(V7))/LOG(2))))","v":0},null,{"$f":"N7","v":111},{"$f":"COUNTIF(L9:L10,Y7)","v":0},{"$f":"Z7/(AB4-Z11)","v":0},{"$f":"IF(AA7=0,0,(AA7*((LOG(AA7))/LOG(2))))","v":0},null,{"$f":"N7","v":111},{"$f":"COUNTIF(L11:L13,AD7)","v":0},{"$f":"AE7/(AG4-AE11)","v":0},{"$f":"IF(AF7=0,0,(AF7*((LOG(AF7))/LOG(2))))","v":0},null,{"$f":"N7","v":111},{"$f":"COUNTIF(L14:L15,AI7)","v":0},{"$f":"AJ7/(AL4-AJ11)","v":0},{"$f":"IF(AK7=0,0,(AK7*((LOG(AK7))/LOG(2))))","v":0},null,{"$f":"N7","v":111},{"$f":"COUNTIF(L16:L17,AN7)","v":0},{"$f":"AO7/(AQ4-AO11)","v":0},{"$f":"IF(AP7=0,0,(AP7*((LOG(AP7))/LOG(2))))","v":0},null,{"$f":"N7","v":111},{"$f":"COUNTIF(L18:L19,AS7)","v":0},{"$f":"AT7/(AV4-AT11)","v":0},{"$f":"IF(AU7=0,0,(AU7*((LOG(AU7))/LOG(2))))","v":0}]
[21,210,22,218,24,226,null,null,null,null,0,222,null,112,{"$f":"COUNTIF($L$7:$L$500,N8)","v":0},{"$f":"O8/$Q$4","v":0},{"$f":"IF(P8=0,0,(P8*((LOG(P8))/LOG(2))))","v":0},null,null,{"$f":"N8","v":112},{"$f":"COUNTIF(L7:L8,T8)","v":0},{"$f":"U8/(W4-U11)","v":0},{"$f":"IF(V8=0,0,(V8*((LOG(V8))/LOG(2))))","v":0},null,{"$f":"N8","v":112},{"$f":"COUNTIF(L9:L10,Y8)","v":0},{"$f":"Z8/(AB4-Z11)","v":0},{"$f":"IF(AA8=0,0,(AA8*((LOG(AA8))/LOG(2))))","v":0},null,{"$f":"N8","v":112},{"$f":"COUNTIF(L11:L13,AD8)","v":0},{"$f":"AE8/(AG4-AE11)","v":0},{"$f":"IF(AF8=0,0,(AF8*((LOG(AF8))/LOG(2))))","v":0},null,{"$f":"N8","v":112},{"$f":"COUNTIF(L14:L15,AI8)","v":0},{"$f":"AJ8/(AL4-AJ11)","v":0},{"$f":"IF(AK8=0,0,(AK8*((LOG(AK8))/LOG(2))))","v":0},null,{"$f":"N8","v":112},{"$f":"COUNTIF(L16:L17,AN8)","v":0},{"$f":"AO8/(AQ4-AO11)","v":0},{"$f":"IF(AP8=0,0,(AP8*((LOG(AP8))/LOG(2))))","v":0},null,{"$f":"N8","v":112},{"$f":"COUNTIF(L18:L19,AS8)","v":0},{"$f":"AT8/(AV4-AT11)","v":0},{"$f":"IF(AU8=0,0,(AU8*((LOG(AU8))/LOG(2))))","v":0}]
[21,351,22,360,24,370,null,null,null,null,0,222,null,121,{"$f":"COUNTIF($L$7:$L$500,N9)","v":0},{"$f":"O9/$Q$4","v":0},{"$f":"IF(P9=0,0,(P9*((LOG(P9))/LOG(2))))","v":0},null,null,{"$f":"N9","v":121},{"$f":"COUNTIF(L7:L8,T9)","v":0},{"$f":"U9/(W4-U11)","v":0},{"$f":"IF(V9=0,0,(V9*((LOG(V9))/LOG(2))))","v":0},null,{"$f":"N9","v":121},{"$f":"COUNTIF(L9:L10,Y9)","v":0},{"$f":"Z9/(AB4-Z11)","v":0},{"$f":"IF(AA9=0,0,(AA9*((LOG(AA9))/LOG(2))))","v":0},null,{"$f":"N9","v":121},{"$f":"COUNTIF(L11:L13,AD9)","v":0},{"$f":"AE9/(AG4-AE11)","v":0},{"$f":"IF(AF9=0,0,(AF9*((LOG(AF9))/LOG(2))))","v":0},null,{"$f":"N9","v":121},{"$f":"COUNTIF(L14:L15,AI9)","v":0},{"$f":"AJ9/(AL4-AJ11)","v":0},{"$f":"IF(AK9=0,0,(AK9*((LOG(AK9))/LOG(2))))","v":0},null,{"$f":"N9","v":121},{"$f":"COUNTIF(L16:L17,AN9)","v":0},{"$f":"AO9/(AQ4-AO11)","v":0},{"$f":"IF(AP9=0,0,(AP9*((LOG(AP9))/LOG(2))))","v":0},null,{"$f":"N9","v":121},{"$f":"COUNTIF(L18:L19,AS9)","v":0},{"$f":"AT9/(AV4-AT11)","v":0},{"$f":"IF(AU9=0,0,(AU9*((LOG(AU9))/LOG(2))))","v":0}]
[21,471,22,572,24,581,null,null,null,null,0,222,null,122,{"$f":"COUNTIF($L$7:$L$500,N10)","v":1},{"$f":"O10/$Q$4","v":7.6923076923076927E-2},{"$f":"IF(P10=0,0,(P10*((LOG(P10))/LOG(2))))","v":-0.28464920908777636},null,null,{"$f":"N10","v":122},{"$f":"COUNTIF(L7:L8,T10)","v":0},{"$f":"U10/(W4-U11)","v":0},{"$f":"IF(V10=0,0,(V10*((LOG(V10))/LOG(2))))","v":0},null,{"$f":"N10","v":122},{"$f":"COUNTIF(L9:L10,Y10)","v":0},{"$f":"Z10/(AB4-Z11)","v":0},{"$f":"IF(AA10=0,0,(AA10*((LOG(AA10))/LOG(2))))","v":0},null,{"$f":"N10","v":122},{"$f":"COUNTIF(L11:L13,AD10)","v":0},{"$f":"AE10/(AG4-AE11)","v":0},{"$f":"IF(AF10=0,0,(AF10*((LOG(AF10))/LOG(2))))","v":0},null,{"$f":"N10","v":122},{"$f":"COUNTIF(L14:L15,AI10)","v":1},{"$f":"AJ10/(AL4-AJ11)","v":0.5},{"$f":"IF(AK10=0,0,(AK10*((LOG(AK10))/LOG(2))))","v":-0.5},null,{"$f":"N10","v":122},{"$f":"COUNTIF(L16:L17,AN10)","v":0},{"$f":"AO10/(AQ4-AO11)","v":0},{"$f":"IF(AP10=0,0,(AP10*((LOG(AP10))/LOG(2))))","v":0},null,{"$f":"N10","v":122},{"$f":"COUNTIF(L18:L19,AS10)","v":0},{"$f":"AT10/(AV4-AT11)","v":0},{"$f":"IF(AU10=0,0,(AU10*((LOG(AU10))/LOG(2))))","v":0}]
[21,729,22,738,24,746,null,null,null,null,0,222,null,211,{"$f":"COUNTIF($L$7:$L$500,N11)","v":0},{"$f":"O11/$Q$4","v":0},{"$f":"IF(P11=0,0,(P11*((LOG(P11))/LOG(2))))","v":0},null,null,{"$f":"N11","v":211},{"$f":"COUNTIF(L7:L8,T11)","v":0},null,null,null,{"$f":"N11","v":211},{"$f":"COUNTIF(L9:L10,Y11)","v":0},null,null,null,{"$f":"N11","v":211},{"$f":"COUNTIF(L11:L13,AD11)","v":0},null,null,null,{"$f":"N11","v":211},{"$f":"COUNTIF(L14:L15,AI11)","v":0},null,null,null,{"$f":"N11","v":211},{"$f":"COUNTIF(L16:L17,AN11)","v":0},null,null,null,{"$f":"N11","v":211},{"$f":"COUNTIF(L18:L19,AS11)","v":0}]
[21,896,22,903,24,912,null,null,null,null,0,222,null,212,{"$f":"COUNTIF($L$7:$L$500,N12)","v":0},{"$f":"O12/$Q$4","v":0},{"$f":"IF(P12=0,0,(P12*((LOG(P12))/LOG(2))))","v":0},null,null,{"$f":"N12","v":212},{"$f":"COUNTIF(L7:L8,T12)","v":0},{"$f":"U12/(W4-U11)","v":0},{"$f":"IF(V12=0,0,(V12*((LOG(V12))/LOG(2))))","v":0},null,{"$f":"N12","v":212},{"$f":"COUNTIF(L9:L10,Y12)","v":0},{"$f":"Z12/(AB4-Z11)","v":0},{"$f":"IF(AA12=0,0,(AA12*((LOG(AA12))/LOG(2))))","v":0},null,{"$f":"N12","v":212},{"$f":"COUNTIF(L11:L13,AD12)","v":0},{"$f":"AE12/(AG4-AE11)","v":0},{"$f":"IF(AF12=0,0,(AF12*((LOG(AF12))/LOG(2))))","v":0},null,{"$f":"N12","v":212},{"$f":"COUNTIF(L14:L15,AI12)","v":0},{"$f":"AJ12/(AL4-AJ11)","v":0},{"$f":"IF(AK12=0,0,(AK12*((LOG(AK12))/LOG(2))))","v":0},null,{"$f":"N12","v":212},{"$f":"COUNTIF(L16:L17,AN12)","v":0},{"$f":"AO12/(AQ4-AO11)","v":0},{"$f":"IF(AP12=0,0,(AP12*((LOG(AP12))/LOG(2))))","v":0},null,{"$f":"N12","v":212},{"$f":"COUNTIF(L18:L19,AS12)","v":0},{"$f":"AT12/(AV4-AT11)","v":0},{"$f":"IF(AU12=0,0,(AU12*((LOG(AU12))/LOG(2))))","v":0}]
[21,1035,22,1044,24,1052,null,null,null,null,0,222,null,221,{"$f":"COUNTIF($L$7:$L$500,N13)","v":0},{"$f":"O13/$Q$4","v":0},{"$f":"IF(P13=0,0,(P13*((LOG(P13))/LOG(2))))","v":0},null,null,{"$f":"N13","v":221},{"$f":"COUNTIF(L7:L8,T13)","v":0},{"$f":"U13/(W4-U11)","v":0},{"$f":"IF(V13=0,0,(V13*((LOG(V13))/LOG(2))))","v":0},null,{"$f":"N13","v":221},{"$f":"COUNTIF(L9:L10,Y13)","v":0},{"$f":"Z13/(AB4-Z11)","v":0},{"$f":"IF(AA13=0,0,(AA13*((LOG(AA13))/LOG(2))))","v":0},null,{"$f":"N13","v":221},{"$f":"COUNTIF(L11:L13,AD13)","v":0},{"$f":"AE13/(AG4-AE11)","v":0},{"$f":"IF(AF13=0,0,(AF13*((LOG(AF13))/LOG(2))))","v":0},null,{"$f":"N13","v":221},{"$f":"COUNTIF(L14:L15,AI13)","v":0},{"$f":"AJ13/(AL4-AJ11)","v":0},{"$f":"IF(AK13=0,0,(AK13*((LOG(AK13))/LOG(2))))","v":0},null,{"$f":"N13","v":221},{"$f":"COUNTIF(L16:L17,AN13)","v":0},{"$f":"AO13/(AQ4-AO11)","v":0},{"$f":"IF(AP13=0,0,(AP13*((LOG(AP13))/LOG(2))))","v":0},null,{"$f":"N13","v":221},{"$f":"COUNTIF(L18:L19,AS13)","v":0},{"$f":"AT13/(AV4-AT11)","v":0},{"$f":"IF(AU13=0,0,(AU13*((LOG(AU13))/LOG(2))))","v":0}]
[12,1340,24,1374,24,1384,null,null,null,null,0,122,null,222,{"$f":"COUNTIF($L$7:$L$500,N14)","v":12},{"$f":"O14/$Q$4","v":0.92307692307692313},{"$f":"IF(P14=0,0,(P14*((LOG(P14))/LOG(2))))","v":-0.10659435454147929},null,null,{"$f":"N14","v":222},{"$f":"COUNTIF(L7:L8,T14)","v":2},{"$f":"U14/(W4-U11)","v":1},{"$f":"IF(V14=0,0,(V14*((LOG(V14))/LOG(2))))","v":0},null,{"$f":"N14","v":222},{"$f":"COUNTIF(L9:L10,Y14)","v":2},{"$f":"Z14/(AB4-Z11)","v":1},{"$f":"IF(AA14=0,0,(AA14*((LOG(AA14))/LOG(2))))","v":0},null,{"$f":"N14","v":222},{"$f":"COUNTIF(L11:L13,AD14)","v":3},{"$f":"AE14/(AG4-AE11)","v":1},{"$f":"IF(AF14=0,0,(AF14*((LOG(AF14))/LOG(2))))","v":0},null,{"$f":"N14","v":222},{"$f":"COUNTIF(L14:L15,AI14)","v":1},{"$f":"AJ14/(AL4-AJ11)","v":0.5},{"$f":"IF(AK14=0,0,(AK14*((LOG(AK14))/LOG(2))))","v":-0.5},null,{"$f":"N14","v":222},{"$f":"COUNTIF(L16:L17,AN14)","v":2},{"$f":"AO14/(AQ4-AO11)","v":1},{"$f":"IF(AP14=0,0,(AP14*((LOG(AP14))/LOG(2))))","v":0},null,{"$f":"N14","v":222},{"$f":"COUNTIF(L18:L19,AS14)","v":2},{"$f":"AT14/(AV4-AT11)","v":1},{"$f":"IF(AU14=0,0,(AU14*((LOG(AU14))/LOG(2))))","v":0}]
[21,1617,22,1626,24,1638,null,null,null,null,0,222,null,null,null,{"$f":"SUM(P7:P14)","v":1},{"$f":"-SUM(Q7:Q14)","v":0.39124356362925566},null,null,null,null,{"$f":"SUM(V7:V14)","v":1},{"$f":"-SUM(W7:W14)","v":0},null,null,null,{"$f":"SUM(AA7:AA14)","v":1},{"$f":"-SUM(AB7:AB14)","v":0},null,null,null,{"$f":"SUM(AF7:AF14)","v":1},{"$f":"-SUM(AG7:AG14)","v":0},null,null,null,{"$f":"SUM(AK7:AK14)","v":1},{"$f":"-SUM(AL7:AL14)","v":1},null,null,null,{"$f":"SUM(AP7:AP14)","v":1},{"$f":"-SUM(AQ7:AQ14)","v":0},null,null,null,{"$f":"SUM(AU7:AU14)","v":1},{"$f":"-SUM(AV7:AV14)","v":0}]
[21,1733,22,1831,24,1841,null,null,null,null,0,222,null,null,null,"U=",{"$f":"Q15/(LOG(Q4)/LOG(2))","v":0.10572893856673769},null,null,null,null,"U1=",{"$f":"W15/(LOG(W4)/LOG(2))","v":0},null,null,null,"U2=",{"$f":"AB15/(LOG(AB4)/LOG(2))","v":0},null,null,null,"U3=",{"$f":"AG15/(LOG(AG4)/LOG(2))","v":0},null,null,null,"U4=",{"$f":"AL15/(LOG(AL4)/LOG(2))","v":1},null,null,null,"U5=",{"$f":"AQ15/(LOG(AQ4)/LOG(2))","v":0},null,null,null,"U6=",{"$f":"AV15/(LOG(AV4)/LOG(2))","v":0}]
[21,2022,22,2029,24,2038,null,null,null,null,0,222]
[21,2149,22,2158,24,2167,null,null,null,null,0,222]
[21,2355,22,2363,24,2371,null,null,null,null,0,222,null,"Total Target Seq"]
[null,null,null,null,null,null,null,null,null,null,null,null,null,{"$f":"COUNTIF(L7:L19,G3)","v":0},null,2,2,3,2,2,2]
[null,null,null,null,null,null,null,null,null,null,null,null,null,null,null,"% of reinforcement given in 6 equal intervals based on number of trials "]
[null,null,null,null,null,null,null,null,null,null,null,null,null,null,null,"%_1","%_2","%_3","%_4","%_5","%_6"]
[null,null,null,null,null,null,null,null,null,null,null,null,null,null,"target sequence",{"$f":"$G$3","v":211},{"$f":"$G$3","v":211},{"$f":"$G$3","v":211},{"$f":"$G$3","v":211},{"$f":"$G$3","v":211},{"$f":"$G$3","v":211}]
[null,null,null,null,null,null,null,null,null,null,null,null,null,null,"total reinforcement",{"$f":"U11","v":0},{"$f":"Z11","v":0},{"$f":"AE11","v":0},{"$f":"AJ11","v":0},{"$f":"AO11","v":0},{"$f":"AT11","v":0}]
[null,null,null,null,null,null,null,null,null,null,null,null,null,null,"% target"]
[null,null,null,null,null,null,null,null,null,null,null,null,null,null,"CCRF"]
[null,null,null,null,null,null,null,null,null,null,null,null,null,null,"% CCRf"]
[null,null,null,null,null,null,null,null,null,null,null,null,null,null,"average response rate",{"$f":"F8/P20","v":113},{"$f":"(F10-F8)/Q20","v":177.5},{"$f":"(F13-F10)/R20","v":157},{"$f":"(F15-F13)/S20","v":293},{"$f":"(F17-F15)/T20","v":200},{"$f":"(F19-F17)/U20","v":166.5}]